{"text_format":"1","workbook":"xlsx","n_sheets":4,"sheets":["Imputatielijst","Personeel","Overzicht (2013)","MC"],"not_rendered":{"charts":0,"images":1,"macros":1,"external_links":0,"defined_names":2,"comments":0,"pivot_tables":56},"unopened":[],"bounds":{"document_bytes":16777216,"sheet_cells":100000,"rows_first":2000,"rows_last":500,"rows_between":2000,"halvings":0,"cell_chars":16384,"cell_head_chars":4096},"cells_cut":0,"cells_raw":0,"read":"whole","date_system":"1900"}

{"sheet":"Imputatielijst","index":0,"n_rows":6,"n_cols":2,"rows_kept":6,"cut":false,"hidden":false,"merged":[]}
["Imputatie met uitleg","Imputatie"]
["…","…"]
["3PT001 - Test 1","3PT001"]
["3PT002 - Test 2","3PT002"]
["3PT003 - Test 3","3PT003"]
["3PT004 - Test 4","3PT004"]

{"sheet":"Personeel","index":1,"n_rows":4,"n_cols":2,"rows_kept":4,"cut":false,"hidden":false,"merged":[[0,0,0,9],[1,0,1,1]]}
[]
["MC"]
["Invullen uren","Overzicht"]
[{"$f":"'Overzicht (2013)'!A3","v":"MC"},{"$f":"'Overzicht (2013)'!A3","v":"MC"}]

{"sheet":"Overzicht (2013)","index":2,"n_rows":281,"n_cols":12,"rows_kept":281,"cut":false,"hidden":false,"merged":[[3,8,4,8],[3,10,4,10],[3,11,4,11],[233,3,234,3],[233,4,233,5],[233,6,234,6],[233,7,233,8],[233,9,234,9],[233,10,234,10],[213,3,214,3],[213,4,214,4],[58,3,59,3],[58,4,59,4],[3,2,4,2],[3,3,3,5],[3,6,4,6],[198,3,199,3],[198,4,199,4],[158,3,159,3],[158,4,159,4],[203,3,204,3],[203,4,204,4],[208,3,209,3],[208,4,209,4],[163,3,164,3],[163,4,164,4],[43,3,44,3],[43,4,44,4],[48,3,49,3],[48,4,49,4],[38,3,39,3],[38,4,39,4],[193,3,194,3],[193,4,194,4],[153,3,154,3],[153,4,154,4],[8,3,9,3],[8,4,9,4],[18,3,19,3],[18,4,19,4],[23,3,24,3],[23,4,24,4],[13,3,14,3],[13,4,14,4],[33,3,34,3],[33,4,34,4],[148,3,149,3],[148,4,149,4],[53,3,54,3],[53,4,54,4],[63,3,64,3],[63,4,64,4],[28,3,29,3],[28,4,29,4],[103,3,104,3],[103,4,104,4],[68,3,69,3],[68,4,69,4],[73,3,74,3],[73,4,74,4],[78,3,79,3],[78,4,79,4],[83,3,84,3],[83,4,84,4],[88,3,89,3],[88,4,89,4],[93,3,94,3],[93,4,94,4],[98,3,99,3],[98,4,99,4],[123,3,124,3],[123,4,124,4],[128,3,129,3],[128,4,129,4],[133,3,134,3],[133,4,134,4],[138,3,139,3],[138,4,139,4],[143,3,144,3],[143,4,144,4],[238,3,239,3],[238,4,239,4],[243,3,244,3],[243,4,244,4],[168,3,169,3],[168,4,169,4],[173,3,174,3],[173,4,174,4],[218,3,219,3],[218,4,219,4],[223,3,224,3],[223,4,224,4],[178,3,179,3],[178,4,179,4],[228,3,229,3],[228,4,229,4],[183,3,184,3],[183,4,184,4],[188,3,189,3],[188,4,189,4],[273,3,274,3],[273,4,274,4],[278,3,279,3],[278,4,279,4],[248,3,249,3],[248,4,249,4],[253,3,254,3],[253,4,254,4],[258,3,259,3],[258,4,259,4],[263,3,264,3],[263,4,264,4],[268,3,269,3],[268,4,269,4],[108,3,109,3],[108,4,109,4],[113,3,114,3],[113,4,114,4],[118,3,119,3],[118,4,119,4]]}
["Naam","Draaitabel"]
[]
[{"$f":"MC!B9","v":"MC"},"Som vd uren","Kolomlabels"]
[null,null,"Imputatie","3PT002",null,null,"Totaal 3PT002","3PT003","Totaal 3PT003","3PT004","Totaal 3PT004","Algemeen totaal"]
[null,null,null,1,4,9,null,4,null,5]
[null,"Totaal",0,1,4,9,14,4,4,5,5,23]
[]
[{"$f":"#REF!","v":{"$error":"#REF!"}},"Som vd uren","Kolomlabels"]
[null,null,"Imputatie","Totaal Imputatie","Algemeen totaal"]
[null,null,"uren"]
[null,"Totaal",0,0,0]
[]
[{"$f":"#REF!","v":{"$error":"#REF!"}},"Som vd uren","Kolomlabels"]
[null,null,"Imputatie","Totaal Imputatie","Algemeen totaal"]
[null,null,"uren"]
[null,"Totaal",0,0,0]
[]
[{"$f":"#REF!","v":{"$error":"#REF!"}},"Som vd uren","Kolomlabels"]
[null,null,"Imputatie","Totaal Imputatie","Algemeen totaal"]
[null,null,"uren"]
[null,"Totaal",0,0,0]
[]
[{"$f":"#REF!","v":{"$error":"#REF!"}},"Som vd uren","Kolomlabels"]
[null,null,"Imputatie","Totaal Imputatie","Algemeen totaal"]
[null,null,"uren"]
[null,"Totaal",0,0,0]
[]
[{"$f":"#REF!","v":{"$error":"#REF!"}},"Som vd uren","Kolomlabels"]
[null,null,"Imputatie","Totaal Imputatie","Algemeen totaal"]
[null,null,"uren"]
[null,"Totaal",0,0,0]
[]
[{"$f":"#REF!","v":{"$error":"#REF!"}},"Som vd uren","Kolomlabels"]
[null,null,"Imputatie","Totaal Imputatie","Algemeen totaal"]
[null,null,"uren"]
[null,"Totaal",0,0,0]
[]
[{"$f":"#REF!","v":{"$error":"#REF!"}},"Som vd uren","Kolomlabels"]
[null,null,"Imputatie","Totaal Imputatie","Algemeen totaal"]
[null,null,"uren"]
[null,"Totaal",0,0,0]
[]
[{"$f":"#REF!","v":{"$error":"#REF!"}},"Som vd uren","Kolomlabels"]
[null,null,"Imputatie","Totaal Imputatie","Algemeen totaal"]
[null,null,"uren"]
[null,"Totaal",0,0,0]
[]
[{"$f":"#REF!","v":{"$error":"#REF!"}},"Som vd uren","Kolomlabels"]
[null,null,"Imputatie","Totaal Imputatie","Algemeen totaal"]
[null,null,"uren"]
[null,"Totaal",0,0,0]
[]
[{"$f":"#REF!","v":{"$error":"#REF!"}},"Som vd uren","Kolomlabels"]
[null,null,"Imputatie","Totaal Imputatie","Algemeen totaal"]
[null,null,"uren"]
[null,"Totaal",0,0,0]
[]
[{"$f":"#REF!","v":{"$error":"#REF!"}},"Som vd uren","Kolomlabels"]
[null,null,"Imputatie","Totaal Imputatie","Algemeen totaal"]
[null,null,"uren"]
[null,"Totaal",0,0,0]
[]
[{"$f":"#REF!","v":{"$error":"#REF!"}},"Som vd uren","Kolomlabels"]
[null,null,"Imputatie","Totaal Imputatie","Algemeen totaal"]
[null,null,"uren"]
[null,"Totaal",0,0,0]
[]
[{"$f":"#REF!","v":{"$error":"#REF!"}},"Som vd uren","Kolomlabels"]
[null,null,"Imputatie","Totaal Imputatie","Algemeen totaal"]
[null,null,"uren"]
[null,"Totaal",0,0,0]
[]
[{"$f":"#REF!","v":{"$error":"#REF!"}},"Som vd uren","Kolomlabels"]
[null,null,"Imputatie","Totaal Imputatie","Algemeen totaal"]
[null,null,"uren"]
[null,"Totaal",0,0,0]
[]
[{"$f":"#REF!","v":{"$error":"#REF!"}},"Som vd uren","Kolomlabels"]
[null,null,"Imputatie","Totaal Imputatie","Algemeen totaal"]
[null,null,"uren"]
[null,"Totaal",0,0,0]
[]
[{"$f":"#REF!","v":{"$error":"#REF!"}},"Som vd uren","Kolomlabels"]
[null,null,"Imputatie","Totaal Imputatie","Algemeen totaal"]
[null,null,"uren"]
[null,"Totaal",0,0,0]
[]
[{"$f":"#REF!","v":{"$error":"#REF!"}},"Som vd uren","Kolomlabels"]
[null,null,"Imputatie","Totaal Imputatie","Algemeen totaal"]
[null,null,"uren"]
[null,"Totaal",0,0,0]
[]
[{"$f":"#REF!","v":{"$error":"#REF!"}},"Som vd uren","Kolomlabels"]
[null,null,"Imputatie","Totaal Imputatie","Algemeen totaal"]
[null,null,"uren"]
[null,"Totaal",0,0,0]
[]
[{"$f":"#REF!","v":{"$error":"#REF!"}},"Som vd uren","Kolomlabels"]
[null,null,"Imputatie","Totaal Imputatie","Algemeen totaal"]
[null,null,"uren"]
[null,"Totaal",0,0,0]
[]
[{"$f":"#REF!","v":{"$error":"#REF!"}},"Som vd uren","Kolomlabels"]
[null,null,"Imputatie","Totaal Imputatie","Algemeen totaal"]
[null,null,"uren"]
[null,"Totaal",0,0,0]
[]
[{"$f":"#REF!","v":{"$error":"#REF!"}},"Som vd uren","Kolomlabels"]
[null,null,"Imputatie","Totaal Imputatie","Algemeen totaal"]
[null,null,"uren"]
[null,"Totaal",0,0,0]
[]
[{"$f":"#REF!","v":{"$error":"#REF!"}},"Som vd uren","Kolomlabels"]
[null,null,"Imputatie","Totaal Imputatie","Algemeen totaal"]
[null,null,"uren"]
[null,"Totaal",0,0,0]
[]
[{"$f":"#REF!","v":{"$error":"#REF!"}},"Som vd uren","Kolomlabels"]
[null,null,"Imputatie","Totaal Imputatie","Algemeen totaal"]
[null,null,"uren"]
[null,"Totaal",0,0,0]
[]
[{"$f":"#REF!","v":{"$error":"#REF!"}},"Som vd uren","Kolomlabels"]
[null,null,"Imputatie","Totaal Imputatie","Algemeen totaal"]
[null,null,"uren"]
[null,"Totaal",0,0,0]
[]
[{"$f":"#REF!","v":{"$error":"#REF!"}},"Som vd uren","Kolomlabels"]
[null,null,"Imputatie","Totaal Imputatie","Algemeen totaal"]
[null,null,"uren"]
[null,"Totaal",0,0,0]
[]
[{"$f":"#REF!","v":{"$error":"#REF!"}},"Som vd uren","Kolomlabels"]
[null,null,"Imputatie","Totaal Imputatie","Algemeen totaal"]
[null,null,"uren"]
[null,"Totaal",0,0,0]
[]
[{"$f":"#REF!","v":{"$error":"#REF!"}},"Som vd uren","Kolomlabels"]
[null,null,"Imputatie","Totaal Imputatie","Algemeen totaal"]
[null,null,"uren"]
[null,"Totaal",0,0,0]
[]
[{"$f":"#REF!","v":{"$error":"#REF!"}},"Som vd uren","Kolomlabels"]
[null,null,"Imputatie","Totaal Imputatie","Algemeen totaal"]
[null,null,"uren"]
[null,"Totaal",0,0,0]
[]
[{"$f":"#REF!","v":{"$error":"#REF!"}},"Som vd uren","Kolomlabels"]
[null,null,"Imputatie","Totaal Imputatie","Algemeen totaal"]
[null,null,"uren"]
[null,"Totaal",0,0,0]
[]
[{"$f":"#REF!","v":{"$error":"#REF!"}},"Som vd uren","Kolomlabels"]
[null,null,"Imputatie","Totaal Imputatie","Algemeen totaal"]
[null,null,"uren"]
[null,"Totaal",0,0,0]
[]
[{"$f":"#REF!","v":{"$error":"#REF!"}},"Som vd uren","Kolomlabels"]
[null,null,"Imputatie","Totaal Imputatie","Algemeen totaal"]
[null,null,"uren"]
[null,"Totaal",0,0,0]
[]
[{"$f":"#REF!","v":{"$error":"#REF!"}},"Som vd uren","Kolomlabels"]
[null,null,"Imputatie","Totaal Imputatie","Algemeen totaal"]
[null,null,"uren"]
[null,"Totaal",0,0,0]
[]
[{"$f":"#REF!","v":{"$error":"#REF!"}},"Som vd uren","Kolomlabels"]
[null,null,"Imputatie","Totaal Imputatie","Algemeen totaal"]
[null,null,"uren"]
[null,"Totaal",0,0,0]
[]
[{"$f":"#REF!","v":{"$error":"#REF!"}},"Som vd uren","Kolomlabels"]
[null,null,"Imputatie","Totaal Imputatie","Algemeen totaal"]
[null,null,"uren"]
[null,"Totaal",0,0,0]
[]
[{"$f":"#REF!","v":{"$error":"#REF!"}},"Som vd uren","Kolomlabels"]
[null,null,"Imputatie","Totaal Imputatie","Algemeen totaal"]
[null,null,"uren"]
[null,"Totaal",0,0,0]
[]
[{"$f":"#REF!","v":{"$error":"#REF!"}},"Som vd uren","Kolomlabels"]
[null,null,"Imputatie","Totaal Imputatie","Algemeen totaal"]
[null,null,"uren"]
[null,"Totaal",0,0,0]
[]
[{"$f":"#REF!","v":{"$error":"#REF!"}},"Som vd uren","Kolomlabels"]
[null,null,"Imputatie","Totaal Imputatie","Algemeen totaal"]
[null,null,"uren"]
[null,"Totaal",0,0,0]
[]
[{"$f":"#REF!","v":{"$error":"#REF!"}},"Som vd uren","Kolomlabels"]
[null,null,"Imputatie","Totaal Imputatie","Algemeen totaal"]
[null,null,"uren"]
[null,"Totaal",0,0,0]
[]
[{"$f":"#REF!","v":{"$error":"#REF!"}},"Som vd uren","Kolomlabels"]
[null,null,"Imputatie","Totaal Imputatie","Algemeen totaal"]
[null,null,"uren"]
[null,"Totaal",0,0,0]
[]
[{"$f":"#REF!","v":{"$error":"#REF!"}},"Som vd uren","Kolomlabels"]
[null,null,"Imputatie","Totaal Imputatie","Algemeen totaal"]
[null,null,"uren"]
[null,"Totaal",0,0,0]
[]
[{"$f":"#REF!","v":{"$error":"#REF!"}},"Som vd uren","Kolomlabels"]
[null,null,"Imputatie","Totaal Imputatie","Algemeen totaal"]
[null,null,"uren"]
[null,"Totaal",0,0,0]
[]
[{"$f":"#REF!","v":{"$error":"#REF!"}},"Som vd uren","Kolomlabels"]
[null,null,"Imputatie","Totaal Imputatie","Algemeen totaal"]
[null,null,"uren"]
[null,"Totaal",0,0,0]
[]
[{"$f":"#REF!","v":{"$error":"#REF!"}},"Som vd uren","Kolomlabels"]
[null,null,"Imputatie","Totaal Imputatie","Algemeen totaal"]
[null,null,"uren"]
[null,"Totaal",0,0,0]
[]
[{"$f":"#REF!","v":{"$error":"#REF!"}},"Som vd uren","Kolomlabels"]
[null,null,"Imputatie","Totaal Imputatie","Algemeen totaal"]
[null,null,"uren"]
[null,"Totaal",0,0,0]
[]
[{"$f":"#REF!","v":{"$error":"#REF!"}},"Som vd uren","Kolomlabels"]
[null,null,"Imputatie","Totaal Imputatie","Algemeen totaal"]
[null,null,"uren"]
[null,"Totaal",0,0,0]
[]
[{"$f":"#REF!","v":{"$error":"#REF!"}},"Som vd uren","Kolomlabels"]
[null,null,"Imputatie","Totaal Imputatie","o",null,"Totaal o","u",null,"Totaal u","Algemeen totaal"]
[null,null,"uren",null,21,9,null,1,7]
[null,"Totaal",0,0,21,9,30,1,7,8,38]
[]
[{"$f":"#REF!","v":{"$error":"#REF!"}},"Som vd uren","Kolomlabels"]
[null,null,"Imputatie","Totaal Imputatie","Algemeen totaal"]
[null,null,"uren"]
[null,"Totaal",0,0,0]
[]
[{"$f":"#REF!","v":{"$error":"#REF!"}},"Som vd uren","Kolomlabels"]
[null,null,"Imputatie","Totaal Imputatie","Algemeen totaal"]
[null,null,"uren"]
[null,"Totaal",0,0,0]
[]
[{"$f":"#REF!","v":{"$error":"#REF!"}},"Som vd uren","Kolomlabels"]
[null,null,"Imputatie","Totaal Imputatie","Algemeen totaal"]
[null,null,"uren"]
[null,"Totaal",0,0,0]
[]
[{"$f":"#REF!","v":{"$error":"#REF!"}},"Som vd uren","Kolomlabels"]
[null,null,"Imputatie","Totaal Imputatie","Algemeen totaal"]
[null,null,"uren"]
[null,"Totaal",0,0,0]
[]
[{"$f":"#REF!","v":{"$error":"#REF!"}},"Som vd uren","Kolomlabels"]
[null,null,"Imputatie","Totaal Imputatie","Algemeen totaal"]
[null,null,"uren"]
[null,"Totaal",0,0,0]
[]
[{"$f":"#REF!","v":{"$error":"#REF!"}},"Som vd uren","Kolomlabels"]
[null,null,"Imputatie","Totaal Imputatie","Algemeen totaal"]
[null,null,"uren"]
[null,"Totaal",0,0,0]
[]
[{"$f":"#REF!","v":{"$error":"#REF!"}},"Som vd uren","Kolomlabels"]
[null,null,"Imputatie","Totaal Imputatie","Algemeen totaal"]
[null,null,"uren"]
[null,"Totaal",0,0,0]
[]
[{"$f":"#REF!","v":{"$error":"#REF!"}},"Som vd uren","Kolomlabels"]
[null,null,"Imputatie","Totaal Imputatie","Algemeen totaal"]
[null,null,"uren"]
[null,"Totaal",0,0,0]
[]
[{"$f":"#REF!","v":{"$error":"#REF!"}},"Som vd uren","Kolomlabels"]
[null,null,"Imputatie","Totaal Imputatie","Algemeen totaal"]
[null,null,"uren"]
[null,"Totaal",0,0,0]

{"sheet":"MC","index":3,"n_rows":820,"n_cols":6,"rows_kept":820,"cut":false,"hidden":false,"merged":[]}
[]
[]
[]
[]
[]
[]
[]
[null,"Werkstaat ","januari"]
[null,"MC",2012]
[]
[]
["Datum","Plaats","Uitgevoerde werken","uren","Imputatie","Keuze Imputatie"]
["2012-01-01",null,null,null,{"$f":"VLOOKUP(F13,Imputatielijst!A2:B6,2,0)","v":"…"},"…"]
[]
[{"$f":"A13+1","v":"2012-01-02"},null,null,null,{"$f":"VLOOKUP(F15,Imputatielijst!A2:B6,2,0)","v":"…"},"…"]
[]
[{"$f":"A15+1","v":"2012-01-03"},null,null,4,{"$f":"VLOOKUP(F17,Imputatielijst!A2:B6,2,0)","v":"3PT002"},"3PT002 - Test 2"]
[]
[{"$f":"A17+1","v":"2012-01-04"},null,null,null,{"$f":"VLOOKUP(F19,Imputatielijst!A2:B6,2,0)","v":"…"},"…"]
[]
[{"$f":"A19+1","v":"2012-01-05"},null,null,null,{"$f":"VLOOKUP(F21,Imputatielijst!A2:B6,2,0)","v":"…"},"…"]
[]
[{"$f":"A21+1","v":"2012-01-06"},null,null,4,{"$f":"VLOOKUP(F23,Imputatielijst!A2:B6,2,0)","v":"3PT003"},"3PT003 - Test 3"]
[]
[{"$f":"A23+1","v":"2012-01-07"},null,null,null,{"$f":"VLOOKUP(F25,Imputatielijst!A2:B6,2,0)","v":"…"},"…"]
[]
[{"$f":"A25+1","v":"2012-01-08"},null,null,null,{"$f":"VLOOKUP(F27,Imputatielijst!A2:B6,2,0)","v":"…"},"…"]
[]
[{"$f":"A27+1","v":"2012-01-09"},null,null,1,{"$f":"VLOOKUP(F29,Imputatielijst!A2:B6,2,0)","v":"3PT002"},"3PT002 - Test 2"]
[]
[{"$f":"A29+1","v":"2012-01-10"},null,null,null,{"$f":"VLOOKUP(F31,Imputatielijst!A2:B6,2,0)","v":"…"},"…"]
[]
[{"$f":"A31+1","v":"2012-01-11"},null,null,null,{"$f":"VLOOKUP(F33,Imputatielijst!A2:B6,2,0)","v":"…"},"…"]
[]
[{"$f":"A33+1","v":"2012-01-12"},null,null,5,{"$f":"VLOOKUP(F35,Imputatielijst!A2:B6,2,0)","v":"3PT004"},"3PT004 - Test 4"]
[]
[{"$f":"A35+1","v":"2012-01-13"},null,null,9,{"$f":"VLOOKUP(F37,Imputatielijst!A2:B6,2,0)","v":"3PT002"},"3PT002 - Test 2"]
[]
[{"$f":"A37+1","v":"2012-01-14"},null,null,null,{"$f":"VLOOKUP(F39,Imputatielijst!A2:B6,2,0)","v":"…"},"…"]
[]
[{"$f":"A39+1","v":"2012-01-15"},null,null,null,{"$f":"VLOOKUP(F41,Imputatielijst!A2:B6,2,0)","v":"…"},"…"]
[]
[{"$f":"A41+1","v":"2012-01-16"},null,null,null,{"$f":"VLOOKUP(F43,Imputatielijst!A2:B6,2,0)","v":"…"},"…"]
[]
[{"$f":"A43+1","v":"2012-01-17"},null,null,null,{"$f":"VLOOKUP(F45,Imputatielijst!A2:B6,2,0)","v":"…"},"…"]
[]
[{"$f":"A45+1","v":"2012-01-18"},null,null,null,{"$f":"VLOOKUP(F47,Imputatielijst!A2:B6,2,0)","v":"…"},"…"]
[]
[{"$f":"A47+1","v":"2012-01-19"},null,null,null,{"$f":"VLOOKUP(F49,Imputatielijst!A2:B6,2,0)","v":"…"},"…"]
[]
[{"$f":"A49+1","v":"2012-01-20"},null,null,null,{"$f":"VLOOKUP(F51,Imputatielijst!A2:B6,2,0)","v":"…"},"…"]
[]
[{"$f":"A51+1","v":"2012-01-21"},null,null,null,{"$f":"VLOOKUP(F53,Imputatielijst!A2:B6,2,0)","v":"…"},"…"]
[]
[{"$f":"A53+1","v":"2012-01-22"},null,null,null,{"$f":"VLOOKUP(F55,Imputatielijst!A2:B6,2,0)","v":"…"},"…"]
[]
[{"$f":"A55+1","v":"2012-01-23"},null,null,null,{"$f":"VLOOKUP(F57,Imputatielijst!A2:B6,2,0)","v":"…"},"…"]
[]
[{"$f":"A57+1","v":"2012-01-24"},null,null,null,{"$f":"VLOOKUP(F59,Imputatielijst!A2:B6,2,0)","v":"…"},"…"]
[]
[{"$f":"A59+1","v":"2012-01-25"},null,null,null,{"$f":"VLOOKUP(F61,Imputatielijst!A2:B6,2,0)","v":"…"},"…"]
[]
[{"$f":"A61+1","v":"2012-01-26"},null,null,null,{"$f":"VLOOKUP(F63,Imputatielijst!A2:B6,2,0)","v":"…"},"…"]
[]
[{"$f":"A63+1","v":"2012-01-27"},null,null,null,{"$f":"VLOOKUP(F65,Imputatielijst!A2:B6,2,0)","v":"…"},"…"]
[]
[{"$f":"A65+1","v":"2012-01-28"},null,null,null,{"$f":"VLOOKUP(F67,Imputatielijst!A2:B6,2,0)","v":"…"},"…"]
[]
[{"$f":"A67+1","v":"2012-01-29"},null,null,null,{"$f":"VLOOKUP(F69,Imputatielijst!A2:B6,2,0)","v":"…"},"…"]
[]
[{"$f":"A69+1","v":"2012-01-30"},null,null,null,{"$f":"VLOOKUP(F71,Imputatielijst!A2:B6,2,0)","v":"…"},"…"]
[]
[{"$f":"A71+1","v":"2012-01-31"},null,null,null,{"$f":"VLOOKUP(F73,Imputatielijst!A2:B6,2,0)","v":"…"},"…"]
[]
[]
[]
[null,"Werkstaat ","februari"]
[null,{"$f":"B9","v":"MC"},{"$f":"C9","v":2012}]
[null,{"$f":"B10","v":0},"Opgemaakt door Coosemans Marc"]
[]
["Datum","Plaats","Uitgevoerde werken","uren","Imputatie"]
[{"$f":"A73+1","v":"2012-02-01"}]
[]
[{"$f":"A82+1","v":"2012-02-02"}]
[]
[{"$f":"A84+1","v":"2012-02-03"}]
[]
[{"$f":"A86+1","v":"2012-02-04"}]
[]
[{"$f":"A88+1","v":"2012-02-05"}]
[]
[{"$f":"A90+1","v":"2012-02-06"}]
[]
[{"$f":"A92+1","v":"2012-02-07"}]
[]
[{"$f":"A94+1","v":"2012-02-08"}]
[]
[{"$f":"A96+1","v":"2012-02-09"}]
[]
[{"$f":"A98+1","v":"2012-02-10"}]
[]
[{"$f":"A100+1","v":"2012-02-11"}]
[]
[{"$f":"A102+1","v":"2012-02-12"}]
[]
[{"$f":"A104+1","v":"2012-02-13"}]
[]
[{"$f":"A106+1","v":"2012-02-14"}]
[]
[{"$f":"A108+1","v":"2012-02-15"}]
[]
[{"$f":"A110+1","v":"2012-02-16"}]
[]
[{"$f":"A112+1","v":"2012-02-17"}]
[]
[{"$f":"A114+1","v":"2012-02-18"}]
[]
[{"$f":"A116+1","v":"2012-02-19"}]
[]
[{"$f":"A118+1","v":"2012-02-20"}]
[]
[{"$f":"A120+1","v":"2012-02-21"}]
[]
[{"$f":"A122+1","v":"2012-02-22"}]
[]
[{"$f":"A124+1","v":"2012-02-23"}]
[]
[{"$f":"A126+1","v":"2012-02-24"}]
[]
[{"$f":"A128+1","v":"2012-02-25"}]
[]
[{"$f":"A130+1","v":"2012-02-26"}]
[]
[{"$f":"A132+1","v":"2012-02-27"}]
[]
[{"$f":"A134+1","v":"2012-02-28"}]
[]
[{"$f":"A136+1","v":"2012-02-29"}]
[]
[]
[]
[null,"Werkstaat ","maart"]
[null,{"$f":"B9","v":"MC"},{"$f":"C9","v":2012}]
[null,{"$f":"B10","v":0},"Opgemaakt door Coosemans Marc"]
[]
["Datum","Plaats","Uitgevoerde werken","uren","Imputatie"]
[{"$f":"A138+1","v":"2012-03-01"}]
[]
[{"$f":"A147+1","v":"2012-03-02"}]
[]
[{"$f":"A149+1","v":"2012-03-03"}]
[]
[{"$f":"A151+1","v":"2012-03-04"}]
[]
[{"$f":"A153+1","v":"2012-03-05"}]
[]
[{"$f":"A155+1","v":"2012-03-06"}]
[]
[{"$f":"A157+1","v":"2012-03-07"}]
[]
[{"$f":"A159+1","v":"2012-03-08"}]
[]
[{"$f":"A161+1","v":"2012-03-09"}]
[]
[{"$f":"A163+1","v":"2012-03-10"}]
[]
[{"$f":"A165+1","v":"2012-03-11"}]
[]
[{"$f":"A167+1","v":"2012-03-12"}]
[]
[{"$f":"A169+1","v":"2012-03-13"}]
[]
[{"$f":"A171+1","v":"2012-03-14"}]
[]
[{"$f":"A173+1","v":"2012-03-15"}]
[]
[{"$f":"A175+1","v":"2012-03-16"}]
[]
[{"$f":"A177+1","v":"2012-03-17"}]
[]
[{"$f":"A179+1","v":"2012-03-18"}]
[]
[{"$f":"A181+1","v":"2012-03-19"}]
[]
[{"$f":"A183+1","v":"2012-03-20"}]
[]
[{"$f":"A185+1","v":"2012-03-21"}]
[]
[{"$f":"A187+1","v":"2012-03-22"}]
[]
[{"$f":"A189+1","v":"2012-03-23"}]
[]
[{"$f":"A191+1","v":"2012-03-24"}]
[]
[{"$f":"A193+1","v":"2012-03-25"}]
[]
[{"$f":"A195+1","v":"2012-03-26"}]
[]
[{"$f":"A197+1","v":"2012-03-27"}]
[]
[{"$f":"A199+1","v":"2012-03-28"}]
[]
[{"$f":"A201+1","v":"2012-03-29"}]
[]
[{"$f":"A203+1","v":"2012-03-30"}]
[]
[{"$f":"A205+1","v":"2012-03-31"}]
[]
[]
[]
[null,"Werkstaat ","april"]
[null,{"$f":"B9","v":"MC"},{"$f":"C9","v":2012}]
[null,{"$f":"B10","v":0},"Opgemaakt door Coosemans Marc"]
[]
["Datum","Plaats","Uitgevoerde werken","uren","Imputatie"]
[{"$f":"A207+1","v":"2012-04-01"}]
[]
[{"$f":"A216+1","v":"2012-04-02"}]
[]
[{"$f":"A218+1","v":"2012-04-03"}]
[]
[{"$f":"A220+1","v":"2012-04-04"}]
[]
[{"$f":"A222+1","v":"2012-04-05"}]
[]
[{"$f":"A224+1","v":"2012-04-06"}]
[]
[{"$f":"A226+1","v":"2012-04-07"}]
[]
[{"$f":"A228+1","v":"2012-04-08"}]
[]
[{"$f":"A230+1","v":"2012-04-09"}]
[]
[{"$f":"A232+1","v":"2012-04-10"}]
[]
[{"$f":"A234+1","v":"2012-04-11"}]
[]
[{"$f":"A236+1","v":"2012-04-12"}]
[]
[{"$f":"A238+1","v":"2012-04-13"}]
[]
[{"$f":"A240+1","v":"2012-04-14"}]
[]
[{"$f":"A242+1","v":"2012-04-15"}]
[]
[{"$f":"A244+1","v":"2012-04-16"}]
[]
[{"$f":"A246+1","v":"2012-04-17"}]
[]
[{"$f":"A248+1","v":"2012-04-18"}]
[]
[{"$f":"A250+1","v":"2012-04-19"}]
[]
[{"$f":"A252+1","v":"2012-04-20"}]
[]
[{"$f":"A254+1","v":"2012-04-21"}]
[]
[{"$f":"A256+1","v":"2012-04-22"}]
[]
[{"$f":"A258+1","v":"2012-04-23"}]
[]
[{"$f":"A260+1","v":"2012-04-24"}]
[]
[{"$f":"A262+1","v":"2012-04-25"}]
[]
[{"$f":"A264+1","v":"2012-04-26"}]
[]
[{"$f":"A266+1","v":"2012-04-27"}]
[]
[{"$f":"A268+1","v":"2012-04-28"}]
[]
[{"$f":"A270+1","v":"2012-04-29"}]
[]
[{"$f":"A272+1","v":"2012-04-30"}]
[]
[]
[]
[null,"Werkstaat ","mei"]
[null,{"$f":"B9","v":"MC"},{"$f":"C9","v":2012}]
[null,{"$f":"B10","v":0},"Opgemaakt door Coosemans Marc"]
[]
["Datum","Plaats","Uitgevoerde werken","uren","Imputatie"]
[{"$f":"A274+1","v":"2012-05-01"}]
[]
[{"$f":"A283+1","v":"2012-05-02"}]
[]
[{"$f":"A285+1","v":"2012-05-03"}]
[]
[{"$f":"A287+1","v":"2012-05-04"}]
[]
[{"$f":"A289+1","v":"2012-05-05"}]
[]
[{"$f":"A291+1","v":"2012-05-06"}]
[]
[{"$f":"A293+1","v":"2012-05-07"}]
[]
[{"$f":"A295+1","v":"2012-05-08"}]
[]
[{"$f":"A297+1","v":"2012-05-09"}]
[]
[{"$f":"A299+1","v":"2012-05-10"}]
[]
[{"$f":"A301+1","v":"2012-05-11"}]
[]
[{"$f":"A303+1","v":"2012-05-12"}]
[]
[{"$f":"A305+1","v":"2012-05-13"}]
[]
[{"$f":"A307+1","v":"2012-05-14"}]
[]
[{"$f":"A309+1","v":"2012-05-15"}]
[]
[{"$f":"A311+1","v":"2012-05-16"}]
[]
[{"$f":"A313+1","v":"2012-05-17"}]
[]
[{"$f":"A315+1","v":"2012-05-18"}]
[]
[{"$f":"A317+1","v":"2012-05-19"}]
[]
[{"$f":"A319+1","v":"2012-05-20"}]
[]
[{"$f":"A321+1","v":"2012-05-21"}]
[]
[{"$f":"A323+1","v":"2012-05-22"}]
[]
[{"$f":"A325+1","v":"2012-05-23"}]
[]
[{"$f":"A327+1","v":"2012-05-24"}]
[]
[{"$f":"A329+1","v":"2012-05-25"}]
[]
[{"$f":"A331+1","v":"2012-05-26"}]
[]
[{"$f":"A333+1","v":"2012-05-27"}]
[]
[{"$f":"A335+1","v":"2012-05-28"}]
[]
[{"$f":"A337+1","v":"2012-05-29"}]
[]
[{"$f":"A339+1","v":"2012-05-30"}]
[]
[{"$f":"A341+1","v":"2012-05-31"}]
[]
[]
[]
[null,"Werkstaat ","juni"]
[null,{"$f":"B9","v":"MC"},{"$f":"C9","v":2012}]
[null,{"$f":"B10","v":0},"Opgemaakt door Coosemans Marc"]
[]
["Datum","Plaats","Uitgevoerde werken","uren","Imputatie"]
[{"$f":"A343+1","v":"2012-06-01"}]
[]
[{"$f":"A352+1","v":"2012-06-02"}]
[]
[{"$f":"A354+1","v":"2012-06-03"}]
[]
[{"$f":"A356+1","v":"2012-06-04"}]
[]
[{"$f":"A358+1","v":"2012-06-05"}]
[]
[{"$f":"A360+1","v":"2012-06-06"}]
[]
[{"$f":"A362+1","v":"2012-06-07"}]
[]
[{"$f":"A364+1","v":"2012-06-08"}]
[]
[{"$f":"A366+1","v":"2012-06-09"}]
[]
[{"$f":"A368+1","v":"2012-06-10"}]
[]
[{"$f":"A370+1","v":"2012-06-11"}]
[]
[{"$f":"A372+1","v":"2012-06-12"}]
[]
[{"$f":"A374+1","v":"2012-06-13"}]
[]
[{"$f":"A376+1","v":"2012-06-14"}]
[]
[{"$f":"A378+1","v":"2012-06-15"}]
[]
[{"$f":"A380+1","v":"2012-06-16"}]
[]
[{"$f":"A382+1","v":"2012-06-17"}]
[]
[{"$f":"A384+1","v":"2012-06-18"}]
[]
[{"$f":"A386+1","v":"2012-06-19"}]
[]
[{"$f":"A388+1","v":"2012-06-20"}]
[]
[{"$f":"A390+1","v":"2012-06-21"}]
[]
[{"$f":"A392+1","v":"2012-06-22"}]
[]
[{"$f":"A394+1","v":"2012-06-23"}]
[]
[{"$f":"A396+1","v":"2012-06-24"}]
[]
[{"$f":"A398+1","v":"2012-06-25"}]
[]
[{"$f":"A400+1","v":"2012-06-26"}]
[]
[{"$f":"A402+1","v":"2012-06-27"}]
[]
[{"$f":"A404+1","v":"2012-06-28"}]
[]
[{"$f":"A406+1","v":"2012-06-29"}]
[]
[{"$f":"A408+1","v":"2012-06-30"}]
[]
[]
[]
[null,"Werkstaat ","juli"]
[null,{"$f":"B9","v":"MC"},{"$f":"C9","v":2012}]
[null,{"$f":"B10","v":0},"Opgemaakt door Coosemans Marc"]
[]
["Datum","Plaats","Uitgevoerde werken","uren","Imputatie"]
[{"$f":"A410+1","v":"2012-07-01"}]
[]
[{"$f":"A419+1","v":"2012-07-02"}]
[]
[{"$f":"A421+1","v":"2012-07-03"}]
[]
[{"$f":"A423+1","v":"2012-07-04"}]
[]
[{"$f":"A425+1","v":"2012-07-05"}]
[]
[{"$f":"A427+1","v":"2012-07-06"}]
[]
[{"$f":"A429+1","v":"2012-07-07"}]
[]
[{"$f":"A431+1","v":"2012-07-08"}]
[]
[{"$f":"A433+1","v":"2012-07-09"}]
[]
[{"$f":"A435+1","v":"2012-07-10"}]
[]
[{"$f":"A437+1","v":"2012-07-11"}]
[]
[{"$f":"A439+1","v":"2012-07-12"}]
[]
[{"$f":"A441+1","v":"2012-07-13"}]
[]
[{"$f":"A443+1","v":"2012-07-14"}]
[]
[{"$f":"A445+1","v":"2012-07-15"}]
[]
[{"$f":"A447+1","v":"2012-07-16"}]
[]
[{"$f":"A449+1","v":"2012-07-17"}]
[]
[{"$f":"A451+1","v":"2012-07-18"}]
[]
[{"$f":"A453+1","v":"2012-07-19"}]
[]
[{"$f":"A455+1","v":"2012-07-20"}]
[]
[{"$f":"A457+1","v":"2012-07-21"}]
[]
[{"$f":"A459+1","v":"2012-07-22"}]
[]
[{"$f":"A461+1","v":"2012-07-23"}]
[]
[{"$f":"A463+1","v":"2012-07-24"}]
[]
[{"$f":"A465+1","v":"2012-07-25"}]
[]
[{"$f":"A467+1","v":"2012-07-26"}]
[]
[{"$f":"A469+1","v":"2012-07-27"}]
[]
[{"$f":"A471+1","v":"2012-07-28"}]
[]
[{"$f":"A473+1","v":"2012-07-29"}]
[]
[{"$f":"A475+1","v":"2012-07-30"}]
[]
[{"$f":"A477+1","v":"2012-07-31"}]
[]
[]
[]
[null,"Werkstaat ","augustus"]
[null,{"$f":"B9","v":"MC"},{"$f":"C9","v":2012}]
[null,{"$f":"B10","v":0},"Opgemaakt door Coosemans Marc"]
[]
["Datum","Plaats","Uitgevoerde werken","uren","Imputatie"]
[{"$f":"A479+1","v":"2012-08-01"}]
[]
[{"$f":"A488+1","v":"2012-08-02"}]
[]
[{"$f":"A490+1","v":"2012-08-03"}]
[]
[{"$f":"A492+1","v":"2012-08-04"}]
[]
[{"$f":"A494+1","v":"2012-08-05"}]
[]
[{"$f":"A496+1","v":"2012-08-06"}]
[]
[{"$f":"A498+1","v":"2012-08-07"}]
[]
[{"$f":"A500+1","v":"2012-08-08"}]
[]
[{"$f":"A502+1","v":"2012-08-09"}]
[]
[{"$f":"A504+1","v":"2012-08-10"}]
[]
[{"$f":"A506+1","v":"2012-08-11"}]
[]
[{"$f":"A508+1","v":"2012-08-12"}]
[]
[{"$f":"A510+1","v":"2012-08-13"}]
[]
[{"$f":"A512+1","v":"2012-08-14"}]
[]
[{"$f":"A514+1","v":"2012-08-15"}]
[]
[{"$f":"A516+1","v":"2012-08-16"}]
[]
[{"$f":"A518+1","v":"2012-08-17"}]
[]
[{"$f":"A520+1","v":"2012-08-18"}]
[]
[{"$f":"A522+1","v":"2012-08-19"}]
[]
[{"$f":"A524+1","v":"2012-08-20"}]
[]
[{"$f":"A526+1","v":"2012-08-21"}]
[]
[{"$f":"A528+1","v":"2012-08-22"}]
[]
[{"$f":"A530+1","v":"2012-08-23"}]
[]
[{"$f":"A532+1","v":"2012-08-24"}]
[]
[{"$f":"A534+1","v":"2012-08-25"}]
[]
[{"$f":"A536+1","v":"2012-08-26"}]
[]
[{"$f":"A538+1","v":"2012-08-27"}]
[]
[{"$f":"A540+1","v":"2012-08-28"}]
[]
[{"$f":"A542+1","v":"2012-08-29"}]
[]
[{"$f":"A544+1","v":"2012-08-30"}]
[]
[{"$f":"A546+1","v":"2012-08-31"}]
[]
[]
[]
[null,"Werkstaat ","september"]
[null,{"$f":"B9","v":"MC"},{"$f":"C9","v":2012}]
[null,{"$f":"B10","v":0},"Opgemaakt door Coosemans Marc"]
[]
["Datum","Plaats","Uitgevoerde werken","uren","Imputatie"]
[{"$f":"A548+1","v":"2012-09-01"}]
[]
[{"$f":"A557+1","v":"2012-09-02"}]
[]
[{"$f":"A559+1","v":"2012-09-03"}]
[]
[{"$f":"A561+1","v":"2012-09-04"}]
[]
[{"$f":"A563+1","v":"2012-09-05"}]
[]
[{"$f":"A565+1","v":"2012-09-06"}]
[]
[{"$f":"A567+1","v":"2012-09-07"}]
[]
[{"$f":"A569+1","v":"2012-09-08"}]
[]
[{"$f":"A571+1","v":"2012-09-09"}]
[]
[{"$f":"A573+1","v":"2012-09-10"}]
[]
[{"$f":"A575+1","v":"2012-09-11"}]
[]
[{"$f":"A577+1","v":"2012-09-12"}]
[]
[{"$f":"A579+1","v":"2012-09-13"}]
[]
[{"$f":"A581+1","v":"2012-09-14"}]
[]
[{"$f":"A583+1","v":"2012-09-15"}]
[]
[{"$f":"A585+1","v":"2012-09-16"}]
[]
[{"$f":"A587+1","v":"2012-09-17"}]
[]
[{"$f":"A589+1","v":"2012-09-18"}]
[]
[{"$f":"A591+1","v":"2012-09-19"}]
[]
[{"$f":"A593+1","v":"2012-09-20"}]
[]
[{"$f":"A595+1","v":"2012-09-21"}]
[]
[{"$f":"A597+1","v":"2012-09-22"}]
[]
[{"$f":"A599+1","v":"2012-09-23"}]
[]
[{"$f":"A601+1","v":"2012-09-24"}]
[]
[{"$f":"A603+1","v":"2012-09-25"}]
[]
[{"$f":"A605+1","v":"2012-09-26"}]
[]
[{"$f":"A607+1","v":"2012-09-27"}]
[]
[{"$f":"A609+1","v":"2012-09-28"}]
[]
[{"$f":"A611+1","v":"2012-09-29"}]
[]
[{"$f":"A613+1","v":"2012-09-30"}]
[]
[]
[]
[null,"Werkstaat ","oktober"]
[null,{"$f":"B9","v":"MC"},{"$f":"C9","v":2012}]
[null,{"$f":"B10","v":0},"Opgemaakt door Coosemans Marc"]
[]
["Datum","Plaats","Uitgevoerde werken","uren","Imputatie"]
[{"$f":"A615+1","v":"2012-10-01"}]
[]
[{"$f":"A624+1","v":"2012-10-02"}]
[]
[{"$f":"A626+1","v":"2012-10-03"}]
[]
[{"$f":"A628+1","v":"2012-10-04"}]
[]
[{"$f":"A630+1","v":"2012-10-05"}]
[]
[{"$f":"A632+1","v":"2012-10-06"}]
[]
[{"$f":"A634+1","v":"2012-10-07"}]
[]
[{"$f":"A636+1","v":"2012-10-08"}]
[]
[{"$f":"A638+1","v":"2012-10-09"}]
[]
[{"$f":"A640+1","v":"2012-10-10"}]
[]
[{"$f":"A642+1","v":"2012-10-11"}]
[]
[{"$f":"A644+1","v":"2012-10-12"}]
[]
[{"$f":"A646+1","v":"2012-10-13"}]
[]
[{"$f":"A648+1","v":"2012-10-14"}]
[]
[{"$f":"A650+1","v":"2012-10-15"}]
[]
[{"$f":"A652+1","v":"2012-10-16"}]
[]
[{"$f":"A654+1","v":"2012-10-17"}]
[]
[{"$f":"A656+1","v":"2012-10-18"}]
[]
[{"$f":"A658+1","v":"2012-10-19"}]
[]
[{"$f":"A660+1","v":"2012-10-20"}]
[]
[{"$f":"A662+1","v":"2012-10-21"}]
[]
[{"$f":"A664+1","v":"2012-10-22"}]
[]
[{"$f":"A666+1","v":"2012-10-23"}]
[]
[{"$f":"A668+1","v":"2012-10-24"}]
[]
[{"$f":"A670+1","v":"2012-10-25"}]
[]
[{"$f":"A672+1","v":"2012-10-26"}]
[]
[{"$f":"A674+1","v":"2012-10-27"}]
[]
[{"$f":"A676+1","v":"2012-10-28"}]
[]
[{"$f":"A678+1","v":"2012-10-29"}]
[]
[{"$f":"A680+1","v":"2012-10-30"}]
[]
[{"$f":"A682+1","v":"2012-10-31"}]
[]
[]
[]
[null,"Werkstaat ","november"]
[null,{"$f":"B9","v":"MC"},{"$f":"C9","v":2012}]
[null,{"$f":"B10","v":0},"Opgemaakt door Coosemans Marc"]
[]
["Datum","Plaats","Uitgevoerde werken","uren","Imputatie"]
[{"$f":"A684+1","v":"2012-11-01"}]
[]
[{"$f":"A693+1","v":"2012-11-02"}]
[]
[{"$f":"A695+1","v":"2012-11-03"}]
[]
[{"$f":"A697+1","v":"2012-11-04"}]
[]
[{"$f":"A699+1","v":"2012-11-05"}]
[]
[{"$f":"A701+1","v":"2012-11-06"}]
[]
[{"$f":"A703+1","v":"2012-11-07"}]
[]
[{"$f":"A705+1","v":"2012-11-08"}]
[]
[{"$f":"A707+1","v":"2012-11-09"}]
[]
[{"$f":"A709+1","v":"2012-11-10"}]
[]
[{"$f":"A711+1","v":"2012-11-11"}]
[]
[{"$f":"A713+1","v":"2012-11-12"}]
[]
[{"$f":"A715+1","v":"2012-11-13"}]
[]
[{"$f":"A717+1","v":"2012-11-14"}]
[]
[{"$f":"A719+1","v":"2012-11-15"}]
[]
[{"$f":"A721+1","v":"2012-11-16"}]
[]
[{"$f":"A723+1","v":"2012-11-17"}]
[]
[{"$f":"A725+1","v":"2012-11-18"}]
[]
[{"$f":"A727+1","v":"2012-11-19"}]
[]
[{"$f":"A729+1","v":"2012-11-20"}]
[]
[{"$f":"A731+1","v":"2012-11-21"}]
[]
[{"$f":"A733+1","v":"2012-11-22"}]
[]
[{"$f":"A735+1","v":"2012-11-23"}]
[]
[{"$f":"A737+1","v":"2012-11-24"}]
[]
[{"$f":"A739+1","v":"2012-11-25"}]
[]
[{"$f":"A741+1","v":"2012-11-26"}]
[]
[{"$f":"A743+1","v":"2012-11-27"}]
[]
[{"$f":"A745+1","v":"2012-11-28"}]
[]
[{"$f":"A747+1","v":"2012-11-29"}]
[]
[{"$f":"A749+1","v":"2012-11-30"}]
[]
[]
[]
[null,"Werkstaat ","december"]
[null,{"$f":"B9","v":"MC"},{"$f":"C9","v":2012}]
[null,{"$f":"B10","v":0},"Opgemaakt door Coosemans Marc"]
[]
["Datum","Plaats","Uitgevoerde werken","uren","Imputatie"]
[{"$f":"A751+1","v":"2012-12-01"}]
[]
[{"$f":"A760+1","v":"2012-12-02"}]
[]
[{"$f":"A762+1","v":"2012-12-03"}]
[]
[{"$f":"A764+1","v":"2012-12-04"}]
[]
[{"$f":"A766+1","v":"2012-12-05"}]
[]
[{"$f":"A768+1","v":"2012-12-06"}]
[]
[{"$f":"A770+1","v":"2012-12-07"}]
[]
[{"$f":"A772+1","v":"2012-12-08"}]
[]
[{"$f":"A774+1","v":"2012-12-09"}]
[]
[{"$f":"A776+1","v":"2012-12-10"}]
[]
[{"$f":"A778+1","v":"2012-12-11"}]
[]
[{"$f":"A780+1","v":"2012-12-12"}]
[]
[{"$f":"A782+1","v":"2012-12-13"}]
[]
[{"$f":"A784+1","v":"2012-12-14"}]
[]
[{"$f":"A786+1","v":"2012-12-15"}]
[]
[{"$f":"A788+1","v":"2012-12-16"}]
[]
[{"$f":"A790+1","v":"2012-12-17"}]
[]
[{"$f":"A792+1","v":"2012-12-18"}]
[]
[{"$f":"A794+1","v":"2012-12-19"}]
[]
[{"$f":"A796+1","v":"2012-12-20"}]
[]
[{"$f":"A798+1","v":"2012-12-21"}]
[]
[{"$f":"A800+1","v":"2012-12-22"}]
[]
[{"$f":"A802+1","v":"2012-12-23"}]
[]
[{"$f":"A804+1","v":"2012-12-24"}]
[]
[{"$f":"A806+1","v":"2012-12-25"}]
[]
[{"$f":"A808+1","v":"2012-12-26"}]
[]
[{"$f":"A810+1","v":"2012-12-27"}]
[]
[{"$f":"A812+1","v":"2012-12-28"}]
[]
[{"$f":"A814+1","v":"2012-12-29"}]
[]
[{"$f":"A816+1","v":"2012-12-30"}]
[]
[{"$f":"A818+1","v":"2012-12-31"}]