{"text_format":"1","workbook":"xlsx","n_sheets":3,"sheets":["MC - Brams D.","Brams - per maand","Overzicht per maand"],"not_rendered":{"charts":0,"images":1,"macros":1,"external_links":0,"defined_names":3,"comments":0,"pivot_tables":15},"unopened":[],"bounds":{"document_bytes":16777216,"sheet_cells":100000,"rows_first":2000,"rows_last":500,"rows_between":2000,"halvings":0,"cell_chars":16384,"cell_head_chars":4096},"cells_cut":0,"cells_raw":0,"read":"whole","date_system":"1900"}

{"sheet":"MC - Brams D.","index":0,"n_rows":823,"n_cols":5,"rows_kept":823,"cut":false,"hidden":false,"merged":[]}
[]
[]
[]
[]
[]
[]
[]
[null,"Werkstaat ","januari"]
[null,"Brams Danny",2013]
[null,11397,"Opgemaakt door Coosemans Marc"]
[]
["Datum","Plaats","Uitgevoerde werken","uren","Imputatie"]
["2013-01-01",null,"Ziek",8,"3NP00"]
[]
[{"$f":"A13+1","v":"2013-01-02"},null,"Ziek",8,"3NP00"]
[]
[{"$f":"A15+1","v":"2013-01-03"},null,"Ziek",8,"3NP00"]
[]
[{"$f":"A17+1","v":"2013-01-04"},null,"Ziek",8,"3NP00"]
[]
[{"$f":"A19+1","v":"2013-01-05"}]
[]
[{"$f":"A21+1","v":"2013-01-06"}]
[]
[{"$f":"A23+1","v":"2013-01-07"},null,"Ziek",8,"3NP00"]
[]
[{"$f":"A25+1","v":"2013-01-08"},null,"Ziek",8,"3NP00"]
[]
[{"$f":"A27+1","v":"2013-01-09"},null,"Ziek",8,"3NP00"]
[]
[{"$f":"A29+1","v":"2013-01-10"},null,"Ziek",8,"3NP00"]
[]
[{"$f":"A31+1","v":"2013-01-11"},null,"Ziek",8,"3NP00"]
[]
[{"$f":"A33+1","v":"2013-01-12"}]
[]
[{"$f":"A35+1","v":"2013-01-13"}]
[]
[{"$f":"A37+1","v":"2013-01-14"},null,"Ziek",8,"3NP00"]
[]
[{"$f":"A39+1","v":"2013-01-15"},null,"Ziek",8,"3NP00"]
[]
[{"$f":"A41+1","v":"2013-01-16"},null,"Ziek",8,"3NP00"]
[]
[{"$f":"A43+1","v":"2013-01-17"},null,"Ziek",8,"3NP00"]
[]
[{"$f":"A45+1","v":"2013-01-18"},null,"Ziek",8,"3NP00"]
[]
[{"$f":"A47+1","v":"2013-01-19"}]
[]
[{"$f":"A49+1","v":"2013-01-20"}]
[]
[{"$f":"A51+1","v":"2013-01-21"},null,"Ziek",8,"3NP00"]
[]
[{"$f":"A53+1","v":"2013-01-22"},null,"Ziek",8,"3NP00"]
[]
[{"$f":"A55+1","v":"2013-01-23"},null,"Ziek",8,"3NP00"]
[]
[{"$f":"A57+1","v":"2013-01-24"},null,"Ziek",8,"3NP00"]
[]
[{"$f":"A59+1","v":"2013-01-25"},null,"Ziek",8,"3NP00"]
[]
[{"$f":"A61+1","v":"2013-01-26"}]
[]
[{"$f":"A63+1","v":"2013-01-27"}]
[]
[{"$f":"A65+1","v":"2013-01-28"},null,"Ziek",8,"3NP00"]
[]
[{"$f":"A67+1","v":"2013-01-29"},null,"Ziek",8,"3NP00"]
[]
[{"$f":"A69+1","v":"2013-01-30"},null,"Ziek",8,"3NP00"]
[]
[{"$f":"A71+1","v":"2013-01-31"},null,"Ziek",8,"3NP00"]
[]
[]
[]
[null,"Werkstaat ","februari"]
[null,"Brams Danny",{"$f":"C9","v":2013}]
[null,{"$f":"B10","v":11397},"Opgemaakt door Coosemans Marc"]
[]
["Datum","Plaats","Uitgevoerde werken","uren","Imputatie"]
["2013-02-01",null,"Ziek",8,"3NP00"]
[]
[{"$f":"A82+1","v":"2013-02-02"}]
[]
[{"$f":"A84+1","v":"2013-02-03"}]
[]
[{"$f":"A86+1","v":"2013-02-04"},null,"Ziek",8,"3NP00"]
[]
[{"$f":"A88+1","v":"2013-02-05"},null,"Ziek",8,"3NP00"]
[]
[{"$f":"A90+1","v":"2013-02-06"},null,"Ziek",8,"3NP00"]
[]
[{"$f":"A92+1","v":"2013-02-07"},null,"Ziek",8,"3NP00"]
[]
[{"$f":"A94+1","v":"2013-02-08"},null,"Ziek",8,"3NP00"]
[]
[{"$f":"A96+1","v":"2013-02-09"}]
[]
[{"$f":"A98+1","v":"2013-02-10"}]
[]
[{"$f":"A100+1","v":"2013-02-11"},"Cadol","Administratie",4,"3TD00"]
[null,null,"Deeltijds",4,"3NP00"]
[{"$f":"A102+1","v":"2013-02-12"},"Cadol","Administratie",4,"3TD00"]
[null,null,"Deeltijds",4,"3NP00"]
[{"$f":"A104+1","v":"2013-02-13"},"Cadol","Administratie",4,"3TD00"]
[null,null,"Deeltijds",4,"3NP00"]
[{"$f":"A106+1","v":"2013-02-14"},"Cadol","Administratie",4,"3TD00"]
[null,null,"Deeltijds",4,"3NP00"]
[{"$f":"A108+1","v":"2013-02-15"},"Cadol","Administratie",4,"3TD00"]
[null,null,"Deeltijds",4,"3NP00"]
[{"$f":"A110+1","v":"2013-02-16"}]
[]
[{"$f":"A112+1","v":"2013-02-17"}]
[]
[{"$f":"A114+1","v":"2013-02-18"},"Cadol","Administratie",4,"3TD00"]
[null,null,"Deeltijds",4,"3NP00"]
[{"$f":"A116+1","v":"2013-02-19"},"Cadol","Administratie",4,"3TD00"]
[null,null,"Deeltijds",4,"3NP00"]
[{"$f":"A118+1","v":"2013-02-20"},"Tienen","Lekdetectie",4,"3TD50"]
[null,null,"Deeltijds",4,"3NP00"]
[{"$f":"A120+1","v":"2013-02-21"},"Roxem","Lekdetectie",4,"3TD50"]
[null,null,"Deeltijds",4,"3NP00"]
[{"$f":"A122+1","v":"2013-02-22"},"Tienen,Cadol","Lekdetectie",4,"3TD50"]
[null,null,"Deeltijds",4,"3NP00"]
[{"$f":"A124+1","v":"2013-02-23"}]
[]
[{"$f":"A126+1","v":"2013-02-24"}]
[]
[{"$f":"A128+1","v":"2013-02-25"},"Boutersem,Roosbeek","Lekdetectie",4,"3TD50"]
[null,null,"Deeltijds",4,"3NP00"]
[{"$f":"A130+1","v":"2013-02-26"},"Geetbets","Lekdetectie",4,"3TD50"]
[null,null,"Deeltijds",4,"3NP00"]
[{"$f":"A132+1","v":"2013-02-27"},"Leuven,Averbode","Lekdetectie",4,"3TD50"]
[null,null,"Deeltijds",4,"3NP00"]
[{"$f":"A134+1","v":"2013-02-28"},"Rotselaar ","Lekdetectie",4,"3TD50"]
[null,null,"Deeltijds",4,"3NP00"]
[]
[]
[null,"Werkstaat ","maart"]
[null,"Brams Danny",{"$f":"C9","v":2013}]
[null,{"$f":"B10","v":11397},"Opgemaakt door Coosemans Marc"]
[]
["Datum","Plaats","Uitgevoerde werken","uren","Imputatie"]
["2013-03-01",null,"Verlof",4,"3NP00"]
[null,null,"Deeltijds",4,"3NP00"]
[{"$f":"A145+1","v":"2013-03-02"}]
[]
[{"$f":"A147+1","v":"2013-03-03"}]
[]
[{"$f":"A149+1","v":"2013-03-04"},null,"Verlof",4,"3NP00"]
[null,null,"Deeltijds",4,"3NP00"]
[{"$f":"A151+1","v":"2013-03-05"},"Lovenjoel,Tienen,Lovenjoel","Lekdetectie",4,"3TD50"]
[null,null,"Deeltijds",4,"3NP00"]
[{"$f":"A153+1","v":"2013-03-06"},"Cadol","Administratie",4,"3TD00"]
[null,null,"Deeltijds",4,"3NP00"]
[{"$f":"A155+1","v":"2013-03-07"},"Ezemaal,Waasmont","Lekdetectie",4,"3TD50"]
[null,null,"Deeltijds",4,"3NP00"]
[{"$f":"A157+1","v":"2013-03-08"},null,"Verlof",4,"3NP00"]
[null,null,"Deeltijds",4,"3NP00"]
[{"$f":"A159+1","v":"2013-03-09"}]
[]
[{"$f":"A161+1","v":"2013-03-10"}]
[]
[{"$f":"A163+1","v":"2013-03-11"},null,"Verlof",4,"3NP00"]
[null,null,"Deeltijds",4,"3NP00"]
[{"$f":"A165+1","v":"2013-03-12"},null,"Verlof",4,"3NP00"]
[null,null,"Deeltijds",4,"3NP00"]
[{"$f":"A167+1","v":"2013-03-13"},"Tienen","Lekdetectie",4,"3TD50"]
[null,null,"Deeltijds",4,"3NP00"]
[{"$f":"A169+1","v":"2013-03-14"},"Gelrode","Lekdetectie",4,"3TD50"]
[null,null,"Deeltijds",4,"3NP00"]
[{"$f":"A171+1","v":"2013-03-15"},null,"Verlof cv",4,"3NP00"]
[null,null,"Deeltijds",4,"3NP00"]
[{"$f":"A173+1","v":"2013-03-16"}]
[]
[{"$f":"A175+1","v":"2013-03-17"}]
[]
[{"$f":"A177+1","v":"2013-03-18"},null,"Verlof",4,"3NP00"]
[null,null,"Deeltijds",4,"3NP00"]
[{"$f":"A179+1","v":"2013-03-19"},"Hoksem","Systematische Kontrole",4,"3TD50"]
[null,null,"Deeltijds",4,"3NP00"]
[{"$f":"A181+1","v":"2013-03-20"},"Hoksem","Systematische Kontrole",4,"3TD00"]
[null,null,"Deeltijds",4,"3NP00"]
[{"$f":"A183+1","v":"2013-03-21"},"Cadol","Administratie",4,"3TD00"]
[null,null,"Deeltijds",4,"3NP00"]
[{"$f":"A185+1","v":"2013-03-22"},null,"Verlof CV",4,"3NP00"]
[null,null,"Deeltijds",4,"3NP00"]
[{"$f":"A187+1","v":"2013-03-23"}]
[]
[{"$f":"A189+1","v":"2013-03-24"}]
[]
[{"$f":"A191+1","v":"2013-03-25"},"Hoksem,Tienen","Systematische Kontrole",4,"3TD00"]
[null,null,"Deeltijds",4,"3NP00"]
[{"$f":"A193+1","v":"2013-03-26"},"Blanden,Tienen,Hakendover","Lekdetectie",4,"3TD50"]
[null,null,"Deeltijds",4,"3NP00"]
[{"$f":"A195+1","v":"2013-03-27"},null,"Verlof cv",4,"3NP00"]
[null,null,"Deeltijds",4,"3NP00"]
[{"$f":"A197+1","v":"2013-03-28"}]
[null,null,"Deeltijds",4,"3NP00"]
[{"$f":"A199+1","v":"2013-03-29"}]
[null,null,"Deeltijds",4,"3NP00"]
[{"$f":"A201+1","v":"2013-03-30"}]
[]
[{"$f":"A203+1","v":"2013-03-31"}]
[]
[]
[]
[null,"Werkstaat ","april"]
[null,"Brams Danny",{"$f":"C9","v":2013}]
[null,{"$f":"B10","v":11397},"Opgemaakt door Coosemans Marc"]
[]
["Datum","Plaats","Uitgevoerde werken","uren","Imputatie"]
["2013-04-01",null,"Feestdag",4,"3NP00"]
[null,null,"Deeltijds",4,"3NP00"]
[{"$f":"A214+1","v":"2013-04-02"},null,"Verlof",4,"3NP00"]
[null,null,"Deeltijds",4,"3NP00"]
[{"$f":"A216+1","v":"2013-04-03"},null,"Verlof",4,"3NP00"]
[null,null,"Deeltijds",4,"3NP00"]
[{"$f":"A218+1","v":"2013-04-04"},null,"Verlof",4,"3NP00"]
[null,null,"Deeltijds",4,"3NP00"]
[{"$f":"A220+1","v":"2013-04-05"},null,"Verlof",4,"3NP00"]
[null,null,"Deeltijds",4,"3NP00"]
[{"$f":"A222+1","v":"2013-04-06"}]
[]
[{"$f":"A224+1","v":"2013-04-07"}]
[]
[{"$f":"A226+1","v":"2013-04-08"},"Vissenaken,Hoegaarden,Hakendover","Lekdetectie",4,"3TD50"]
[null,null,"Deeltijds",4,"3NP00"]
[{"$f":"A228+1","v":"2013-04-09"},"Bierbeek,Tienen","Lekdetectie",4,"3TD50"]
[null,null,"Deeltijds",4,"3NP00"]
[{"$f":"A230+1","v":"2013-04-10"},"Leuven,Tienen","Lekdetectie",4,"3TD50"]
[null,null,"Deeltijds",4,"3NP00"]
[{"$f":"A232+1","v":"2013-04-11"},"Overlaar,Hoegaarden","Lekdetectie",4,"3TD50"]
[null,null,"Deeltijds",4,"3NP00"]
[{"$f":"A234+1","v":"2013-04-12"},"Cadol","Administratie",4,"3TD00"]
[null,null,"Deeltijds",4,"3NP00"]
[{"$f":"A236+1","v":"2013-04-13"}]
[]
[{"$f":"A238+1","v":"2013-04-14"}]
[]
[{"$f":"A240+1","v":"2013-04-15"},null,"Verlof",4,"3NP00"]
[null,null,"Deeltijds",4,"3NP00"]
[{"$f":"A242+1","v":"2013-04-16"},null,"Verlof",4,"3NP00"]
[null,null,"Deeltijds",4,"3NP00"]
[{"$f":"A244+1","v":"2013-04-17"},"Korbeek lo, Tienen","Lekdetectie",4,"3TD50"]
[null,null,"Deeltijds",4,"3NP00"]
[{"$f":"A246+1","v":"2013-04-18"},null,"Verlof",4,"3NP00"]
[null,null,"Deeltijds",4,"3NP00"]
[{"$f":"A248+1","v":"2013-04-19"},"Overlaar,Hoegaarden","Lekdetectie",4,"3TD40"]
[null,null,"Deeltijds",4,"3NP00"]
[{"$f":"A250+1","v":"2013-04-20"}]
[]
[{"$f":"A252+1","v":"2013-04-21"}]
[]
[{"$f":"A254+1","v":"2013-04-22"},"Schaffen","Lekdetectie",4,"3TD50"]
[null,null,"Deeltijds",4,"3NP00"]
[{"$f":"A256+1","v":"2013-04-23"},"Hoegaarden,Tienen","Lekdetectie",4,"3TD50"]
[null,null,"Deeltijds",4,"3NP00"]
[{"$f":"A258+1","v":"2013-04-24"},"Tienen","Lekdetectie",4,"3TD50"]
[null,null,"Deeltijds",4,"3NP00"]
[{"$f":"A260+1","v":"2013-04-25"},null,"Verlof",4,"3NP00"]
[null,null,"Deeltijds",4,"3NP00"]
[{"$f":"A262+1","v":"2013-04-26"},"Cadol ","Administratie",4,"3TD00"]
[null,null,"Deeltijds",4,"3NP00"]
[{"$f":"A264+1","v":"2013-04-27"}]
[]
[{"$f":"A266+1","v":"2013-04-28"}]
[]
[{"$f":"A268+1","v":"2013-04-29"},"Leuven,Zichem","Lekdetectie",4,"3TD50"]
[null,null,"Deeltijds",4,"3NP00"]
[{"$f":"A270+1","v":"2013-04-30"},"Zichem,Scherpenheuvel","Lekdetectie",4,"3TD50"]
[null,null,"Deeltijds",4,"3NP00"]
[{"$f":"A272+1","v":"2013-05-01"},null,"Feestdag"]
[]
[]
[]
[null,"Werkstaat ","mei"]
[null,"Brams Danny",{"$f":"C9","v":2013}]
[null,{"$f":"B10","v":11397},"Opgemaakt door Coosemans Marc"]
[]
["Datum","Plaats","Uitgevoerde werken","uren","Imputatie"]
["2013-05-01",null,"Feestdag"]
[]
[{"$f":"A283+1","v":"2013-05-02"},"Leerbeek,Gooik","Lekdetectie",4,"3TD50"]
[null,null,"Deeltijds",4,"3NP00"]
[{"$f":"A285+1","v":"2013-05-03"},"Zichem,Tienen","Lekdetectie",4,"3TD50"]
[null,null,"Deeltijds",4,"3NP00"]
[{"$f":"A287+1","v":"2013-05-04"}]
[]
[{"$f":"A289+1","v":"2013-05-05"}]
[]
[{"$f":"A291+1","v":"2013-05-06"},"Winksele","Lekdetectie",4,"3TD50"]
[null,null,"Deeltijds",4,"3NP00"]
[{"$f":"A293+1","v":"2013-05-07"},"Rillaar,Diest","Lekdetectie",4,"3TD50"]
[null,null,"Deeltijds",4,"3NP00"]
[{"$f":"A295+1","v":"2013-05-08"},"Tienen","Lekdetectie",4,"3TD50"]
[null,null,"Deeltijds",4,"3NP00"]
[{"$f":"A297+1","v":"2013-05-09"},null,"Feestdag"]
[]
[{"$f":"A299+1","v":"2013-05-10"},null,"Brugdag",4,"3NP00"]
[null,null,"Deeltijds",4,"3NP00"]
[{"$f":"A301+1","v":"2013-05-11"}]
[]
[{"$f":"A303+1","v":"2013-05-12"}]
[]
[{"$f":"A305+1","v":"2013-05-13"},"Tienen","Lekdetectie",4,"3TD50"]
[null,"Tienen,Goetsenhoven","Lekdetectie",4,"3TD40"]
[{"$f":"A307+1","v":"2013-05-14"},"Bierbeek,Opvelp,Hautem","Lekdetectie",4,"3TD50"]
[null,"Hoegaarden,Vissenaken,Schaffen,Tienen","Lekdetectie",4,"3TD40"]
[{"$f":"A309+1","v":"2013-05-15"},"Ternat","Lekdetectie",4,"3TD50"]
[null,"Ternat","Lekdetectie",4,"33TD40"]
[{"$f":"A311+1","v":"2013-05-16"},"Boutersem","Lekdetectie",4,"3TD50"]
[null,"Vissenaken","Lekdetectie",4,"3TD40"]
[{"$f":"A313+1","v":"2013-05-17"},null,"Verlof OV",8,"3NP00"]
[]
[{"$f":"A315+1","v":"2013-05-18"}]
[]
[{"$f":"A317+1","v":"2013-05-19"}]
[]
[{"$f":"A319+1","v":"2013-05-20"},"Geetbets,St-Margr.-Houtem,Tienen","Lekdetectie",4,"3TD50"]
[null,"Rotselaar,Wijgmaal,Hever,","Lekdetectie",4,"3TD40"]
[{"$f":"A321+1","v":"2013-05-21"},"Leuven,Geetbets,St-Margriet -Hauthem","Lekdetectie",4,"3TD50"]
[null,"Tienen,Rotselaar,Wijgmaal,Hever","Lekdetectie",4,"3TD40"]
[{"$f":"A323+1","v":"2013-05-22"},"Bost,Glabbeek","Lekdetectie",4,"3TD50"]
[null,"Tienen,St-Joris-Winge","Lekdetectie",4,"3TD40"]
[{"$f":"A325+1","v":"2013-05-23"},null,"Verlof",8,"3NP00"]
[]
[{"$f":"A327+1","v":"2013-05-24"},null,"Verlof",8,"3NP00"]
[]
[{"$f":"A329+1","v":"2013-05-25"}]
[]
[{"$f":"A331+1","v":"2013-05-26"}]
[]
[{"$f":"A333+1","v":"2013-05-27"},"Rotselaar,Geetbets,Tienen","Lekdetectie",4,"3TD50"]
[null,"Leuven,Leefdaal,Oud-Heverlee","Lekdetectie",4,"3TD40"]
[{"$f":"A335+1","v":"2013-05-28"},"Oplinter,Tienen","Lekdetectie",4,"3TD50"]
[null,"Tienen,Bierbeek,Vossem","Lekdetectie",4,"3TD40"]
[{"$f":"A337+1","v":"2013-05-29"},"Oplinter,Tienen","Lekdetectie",4,"3TD50"]
[null,"Erps-Kwerps,Leuven","Lekdetectie",4,"3TD40"]
[{"$f":"A339+1","v":"2013-05-30"},"Zellik","Lekdetectie",4,"3TD50"]
[null,"Cadol","Administratie",4,"3TD00"]
[{"$f":"A341+1","v":"2013-05-31"},"Lubbeek,Bost","Lekdetectie",4,"3TD50"]
[null,"Tienen,Tremelo","Lekdetectie",4,"3TD40"]
[]
[]
[null,"Werkstaat ","juni"]
[null,"Brams Danny",{"$f":"C9","v":2013}]
[null,{"$f":"B10","v":11397},"Opgemaakt door Coosemans Marc"]
[]
["Datum","Plaats","Uitgevoerde werken","uren","Imputatie"]
["2013-06-01"]
[]
[{"$f":"A352+1","v":"2013-06-02"}]
[]
[{"$f":"A354+1","v":"2013-06-03"},"Kessel-LO,Lubbeek,Tienen","Lekdetectie",4,"3TD50"]
[null,"Tienen,Hever,Werchter","Lekdetectie",4,"3TD40"]
[{"$f":"A356+1","v":"2013-06-04"},"Kessel-Lo,Langdorp,Loonbeek","Lekdetectie",4,"3TD50"]
[null,"Lubbeek,Lubbeek,Bierbeek","Lekdetectie",4,"3TD40"]
[{"$f":"A358+1","v":"2013-06-05"},"Leuven,Oetingen","Lekdetectie",4,"3TD50"]
[null,"Galmaarden,Vilvoorde","Lekdetectie",4,"3TD40"]
[{"$f":"A360+1","v":"2013-06-06"},"Winksele,Werchter,Betekom","Lekdetectie",4,"3TD50"]
[null,"Aarschot,Loonbeek,Hoksem,Bierbeek","Lekdetectie",4,"3TD40"]
[{"$f":"A362+1","v":"2013-06-07"},"Heverlee,Vilvoorde,Tienen","Lekdetectie",4,"3TD50"]
[null,"Hoksem,Tienen,Boutersem","Lekdetectie",4,"3TD40"]
[{"$f":"A364+1","v":"2013-06-08"}]
[]
[{"$f":"A366+1","v":"2013-06-09"}]
[]
[{"$f":"A368+1","v":"2013-06-10"},"Leuven,Heverlee,Korbeek-Lo","Lekdetectie",4,"3TD50"]
[null,"Diest,Tielt,Tildonk","Lekdetectie",4,"3TD40"]
[{"$f":"A370+1","v":"2013-06-11"},"Korbeek-Lo","Opzoeken leiding",4,"3TD00"]
[null,"Korbeek-Lo","Opzoeken leiding",4,"3TD00"]
[{"$f":"A372+1","v":"2013-06-12"},"Kessel-Lo,Werchter,Tremelo","Lekdetectie",4,"3TD50"]
[null,"Scherpenheuvel,Hoegaarden,Tienen","Lekdetectie",4,"3TD40"]
[{"$f":"A374+1","v":"2013-06-13"},"Leuven,Heverlee,Korbeek-Lo","Lekdetectie",4,"3TD50"]
[null,"Cadol","Administratief",4,"3TD00"]
[{"$f":"A376+1","v":"2013-06-14"},null,"Verlof",8,"3NP00"]
[]
[{"$f":"A378+1","v":"2013-06-15"}]
[]
[{"$f":"A380+1","v":"2013-06-16"}]
[]
[{"$f":"A382+1","v":"2013-06-17"},null,"Verlof",8,"3NP00"]
[]
[{"$f":"A384+1","v":"2013-06-18"},"Vilvoorde,Ternat,Lembeek,Korbeek-Dijle","Lekdetectie",4,"3TD50"]
[null,"Leuven,Boutersem,Tienen","Lekdetectie",4,"3TD40"]
[{"$f":"A386+1","v":"2013-06-19"},"Scherpenheuvel,Heverlee","Lekdetectie",4,"3TD50"]
[null,"Blanden","Lekdetectie",4,"3TD40"]
[{"$f":"A388+1","v":"2013-06-20"},"Scherpenheuvel,Heverlee","Lekdetectie",4,"3TD50"]
[null,null,"Verlof",4,"3NP00"]
[{"$f":"A390+1","v":"2013-06-21"},"Meise,Meise","Lekdetectie",4,"3TD50"]
[null,"Grimbergen,Deurne","Lekdetectie",4,"3TD40"]
[{"$f":"A392+1","v":"2013-06-22"}]
[]
[{"$f":"A394+1","v":"2013-06-23"}]
[]
[{"$f":"A396+1","v":"2013-06-24"},"Korbeek-Lo,Bost,Hoxem","Lekdetectie",4,"3TD50"]
[null,"Nossegem","Lekdetectie",4,"3TD40"]
[{"$f":"A398+1","v":"2013-06-25"},"Tienen,Bost","Lekdetectie",4,"3TD50"]
[null,"Langdorp","Lekdetectie",4,"3TD40"]
[{"$f":"A400+1","v":"2013-06-26"},"Kessel-Lo,Bost","Lekdetectie",4,"3TD50"]
[null,"Bost, Oud-Heverlee","Lekdetectie",4,"3TD40"]
[{"$f":"A402+1","v":"2013-06-27"},"Tienen,Bost","Lekdetectie",4,"3TD50"]
[null,"Bost ","Lekdetectie",4,"3TD40"]
[{"$f":"A404+1","v":"2013-06-28"},null,"Verlof",8,"3NP00"]
[]
[{"$f":"A406+1","v":"2013-06-29"}]
[]
[{"$f":"A408+1","v":"2013-06-30"}]
[]
[]
[]
[null,"Werkstaat ","juli"]
[null,"Brams Danny",{"$f":"C9","v":2013}]
[null,{"$f":"B10","v":11397},"Opgemaakt door Coosemans Marc"]
[]
["Datum","Plaats","Uitgevoerde werken","uren","Imputatie"]
["2013-07-01",null,"Verlof",8,"3NP00"]
[]
[{"$f":"A419+1","v":"2013-07-02"},"Bost","Systematische Kontrole",4,"3TD40"]
[null,"Tienen,Overlaar","Lekdetectie",4,"3TD40"]
[{"$f":"A421+1","v":"2013-07-03"},"Binkom,Korbrrk-lo","Lekdetectie",4,"3TD50"]
[null,"Tiekt,Rillaar,Messelbroek,Nerm","Lekdetectie",4,"3TD40"]
[{"$f":"A423+1","v":"2013-07-04"},null,"Verlof",8,"3NP00"]
[]
[{"$f":"A425+1","v":"2013-07-05"},null,"Verlof",8,"3NP00"]
[]
[{"$f":"A427+1","v":"2013-07-06"}]
[]
[{"$f":"A429+1","v":"2013-07-07"}]
[]
[{"$f":"A431+1","v":"2013-07-08"},null,"Verlof",8,"3NP00"]
[]
[{"$f":"A433+1","v":"2013-07-09"},"Wijgmaal,Diest,Haasrode","Lekdetectie",4,"3TD50"]
[null,"Meldert,Geetbets,Leuven","Lekdetectie",4,"3TD40"]
[{"$f":"A435+1","v":"2013-07-10"},"Overijse,Geetbets,Tienen","Lekdetectie",4,"3TD50"]
[null,"Boutersem","Lekdetectie",4,"3TD40"]
[{"$f":"A437+1","v":"2013-07-11"},null,"Feestdag",8,"3NP00"]
[]
[{"$f":"A439+1","v":"2013-07-12"},null,"Verlof",8,"3NP00"]
[]
[{"$f":"A441+1","v":"2013-07-13"}]
[]
[{"$f":"A443+1","v":"2013-07-14"}]
[]
[{"$f":"A445+1","v":"2013-07-15"},"Wilsele,Kessel-Lo,Tienen,Deurne","Lekdetectie",4,"3TD50"]
[null,"Melsbroek,Oud-Heverlee,Heverlee","Lekdetectie",4,"3TD40"]
[{"$f":"A447+1","v":"2013-07-16"},"Heverlee,Overijse","Lekdetectie",4,"3TD50"]
[null,"Overijse,Tienen,Lubbeek","Lekdetectie",4,"3TD40"]
[{"$f":"A449+1","v":"2013-07-17"},"Merchtem,Lennik,Leerbeek","Lekdetectie",4,"3TD50"]
[null,"Roosdaal,Oud-Heverlee","Lekdetectie",4,"3TD40"]
[{"$f":"A451+1","v":"2013-07-18"},"Wilsele,Geetbets","Lekdetectie",4,"3TD50"]
[null,"Tienen,Hoegaarden,Molenbeek-Wersbeek","Lekdetectie",4,"3TD40"]
[{"$f":"A453+1","v":"2013-07-19"},"Bertem,Overijse,Herent","Lekdetectie",4,"3TD50"]
[null,"Schoonderbuken,Kessel-Lo,Leuven","Lekdetectie",4,"3TD40"]
[{"$f":"A455+1","v":"2013-07-20"}]
[]
[{"$f":"A457+1","v":"2013-07-21"}]
[]
[{"$f":"A459+1","v":"2013-07-22"},"Vossem,Overijse,Leuven","Lekdetectie",4,"3TD50"]
[null,"Leuven,Aarschot,Herent","Lekdetectie",4,"3TD40"]
[{"$f":"A461+1","v":"2013-07-23"},"Roosdaal,Strijtem,Lennik","Lekdetectie",4,"3TD50"]
[null,"Gooik,Bever,Lembeek","Lekdetectie",4,"3TD40"]
[{"$f":"A463+1","v":"2013-07-24"},"Leuven,Kessel-Lo,Herent","Lekdetectie",4,"3TD50"]
[null,"Geetbets,Deurne,Kaggevinne","Lekdetectie",4,"3TD40"]
[{"$f":"A465+1","v":"2013-07-25"},"Leuven,Erps-Kwerps,Keerbergen","Lekdetectie",4,"3TD50"]
[null,"Scherpenheuvel,Walshoutem,Tienen","Lekdetectie",4,"3TD40"]
[{"$f":"A467+1","v":"2013-07-26"},"Leuven,Pellenberg","Lekdetectie",4,"3TD50"]
[null,"Ternat,Vilvoorde","Lekdetectie",4,"3TD40"]
[{"$f":"A469+1","v":"2013-07-27"}]
[]
[{"$f":"A471+1","v":"2013-07-28"}]
[]
[{"$f":"A473+1","v":"2013-07-29"},"Huldenberg,Overijse,Vilvoorde","Lekdetectie",8,"3TD50"]
[null,"Hoegaarden,Tienen,Rillaar,Tienen","Lekdetectie",8,"3TD40"]
[{"$f":"A475+1","v":"2013-07-30"},"Leuven,Kessel-Lo","Lekdetectie",4,"3TD50"]
[null,"Tielt-Winge,Linden,Kessel-LO","Lekdetectie",4,"3TD50"]
[{"$f":"A477+1","v":"2013-07-31"},null,"Verlof",8,"3NP00"]
[]
[]
[]
[null,"Werkstaat ","augustus"]
[null,"Brams Danny",{"$f":"C9","v":2013}]
[null,{"$f":"B10","v":11397},"Opgemaakt door Coosemans Marc"]
[]
["Datum","Plaats","Uitgevoerde werken","uren","Imputatie"]
["2013-08-01","Boutersem,Tienen","Lekdetectie",4,"3TD50"]
[null,"Hoegaarden,Tienen","Lekdetectie",4,"3TD40"]
[{"$f":"A488+1","v":"2013-08-02"},"Vivoorde,Overijse,Meerbeek,Erps-Kwerps","Lekdetectie",4,"3TD50"]
[null,"Leuven,Wilsele,Lubbeek,Rillaar,Tielt,Wilse","Lekdetectie",4,"3TD40"]
[{"$f":"A490+1","v":"2013-08-03"}]
[]
[{"$f":"A492+1","v":"2013-08-04"}]
[]
[{"$f":"A494+1","v":"2013-08-05"},"Haasrode,Lubbeek,Hoegaarden","Lekdetectie",4,"3TD50"]
[null,"Tielt,Tienen,Goetsenhoven,Winksele","Lekdetectie",4,"3TD40"]
[{"$f":"A496+1","v":"2013-08-06"}]
[]
[{"$f":"A498+1","v":"2013-08-07"},null,"Verlof",8,"3NP00"]
[]
[{"$f":"A500+1","v":"2013-08-08"},null,"Verlof",8,"3NP00"]
[]
[{"$f":"A502+1","v":"2013-08-09"},null,"Verlof",8,"3NP00"]
[]
[{"$f":"A504+1","v":"2013-08-10"}]
[]
[{"$f":"A506+1","v":"2013-08-11"}]
[]
[{"$f":"A508+1","v":"2013-08-12"},"Boutersem,Hoegaarden,Bost","Lekdetectie",4,"3TD50"]
[null,"Lubbeek,Rotselaar,Haasrode","Lekdetectie",4,"3TD40"]
[{"$f":"A510+1","v":"2013-08-13"},"Kessel-Lo,Wilsele,Lubbeek","Lekdetectie",4,"3TD50"]
[null,"hoegaarden,Leuven","Lekdetectie",4,"3TD40"]
[{"$f":"A512+1","v":"2013-08-14"},"Kessel-Lo, Nerm","Lekdetectie",4,"3TD50"]
[null,"Hakendover,Hoegaarden","Lekdetectie",4,"3TD40"]
[{"$f":"A514+1","v":"2013-08-15"},null,"Feestdag",8,"3NP00"]
[]
[{"$f":"A516+1","v":"2013-08-16"},null,"Vastgelegde verlofdag",8,"3NP00"]
[]
[{"$f":"A518+1","v":"2013-08-17"}]
[]
[{"$f":"A520+1","v":"2013-08-18"}]
[]
[{"$f":"A522+1","v":"2013-08-19"},null,"Verlof",8,"3NP00"]
[]
[{"$f":"A524+1","v":"2013-08-20"},"Tienen,Hakendover,Wijgmaal","Lekdetectie",4,"3TD50"]
[null,"Rillaar,Molenstede,Hakendover,Korbeek-Lo","Lekdetectie",4,"3TD40"]
[{"$f":"A526+1","v":"2013-08-21"},"Herent,Peutie","Lekdetectie",4,"3TD50"]
[null,"Herent,Geetbets,Tienen","Lekdetectie",4,"3TD40"]
[{"$f":"A528+1","v":"2013-08-22"},"Tienen,Humbeek","Lekdetectie",4,"3TD50"]
[null,"Kessel-Lo","Lekdetectie",4,"3TD40"]
[{"$f":"A530+1","v":"2013-08-23"},"Kessel-Lo,Overijse","Lekdetectie",4,"3TD50"]
[null,"Boutersem,Oorbeek,Tienen,Geetbets","Lekdetectie",4,"3TD40"]
[{"$f":"A532+1","v":"2013-08-24"}]
[]
[{"$f":"A534+1","v":"2013-08-25"}]
[]
[{"$f":"A536+1","v":"2013-08-26"},"Rillaar,Geetbets","Lekdetectie",4,"3TD50"]
[null,"Leefdaal,Overijse,Geetbets","Lekdetectie",4,"3TD40"]
[{"$f":"A538+1","v":"2013-08-27"},"Kessel-Lo,Meise,Kessel-Lo","Lekdetectie",4,"3TD50"]
[null,"Kessel-Lo,Pellenberg,Leuven","Lekdetectie",4,"3TD40"]
[{"$f":"A540+1","v":"2013-08-28"},"Haacht,Messelbroek,Scherpenheuvel","Lekdetectie",4,"3TD50"]
[null,"Hakendover,Heverlee","Lekdetectie",4,"3TD40"]
[{"$f":"A542+1","v":"2013-08-29"},"Kessel-Lo,Heverlee","Lekdetectie",4,"3TD50"]
[null,"Geetbets","Lekdetectie",4,"3TD40"]
[{"$f":"A544+1","v":"2013-08-30"},"Sint-Maartens-Lennik,Herne","Lekdetectie",4,"3TD50"]
[null,"Hakendover","Lekdetectie",4,"3TD40"]
[{"$f":"A546+1","v":"2013-08-31"}]
[]
[]
[]
[null,"Werkstaat ","september"]
[null,"Brams Danny",{"$f":"C9","v":2013}]
[null,{"$f":"B10","v":11397},"Opgemaakt door Coosemans Marc"]
[]
["Datum","Plaats","Uitgevoerde werken","uren","Imputatie"]
["2013-09-01"]
[]
[{"$f":"A557+1","v":"2013-09-02"}]
[null,null,"Leuven Kermis"]
[{"$f":"A559+1","v":"2013-09-03"},"Tervuren","Lekdetectie",4,"3TD50"]
[null,"Overwinden,Aarschot","Lekdetectie",4,"3TD40"]
[{"$f":"A561+1","v":"2013-09-04"},"Kessel-Lo","Lekdetectie",4,"3TD50"]
[null,"Vossem,Tervuren","Lekdetectie",4,"3TD40"]
[{"$f":"A563+1","v":"2013-09-05"},"Haacht,Boortmeerbeek,Grimbergen","Lekdetectie",4,"3TD50"]
[null,"Wespelaar,Geetbets,Oud-Heverlee","Lekdetectie",4,"3TD40"]
[{"$f":"A565+1","v":"2013-09-06"},null,"Verlof",8,"3NP00"]
[]
[{"$f":"A567+1","v":"2013-09-07"}]
[]
[{"$f":"A569+1","v":"2013-09-08"}]
[]
[{"$f":"A571+1","v":"2013-09-09"},"Kessel-Lo,Erp-Kwerps,Houtem","Lekdetectie",4,"3TD50"]
[null,"Tienen,Boutersem","Lekdetectie",4,"3TD40"]
[{"$f":"A573+1","v":"2013-09-10"},"Linden,Aarschot,Breisem","Lekdetectie",4,"3TD50"]
[null,"Tienen,Heverlee","Lekdetectie",4,"3TD40"]
[{"$f":"A575+1","v":"2013-09-11"},"Heverlee,Aarschot","Lekdetectie",4,"3TD50"]
[null,"Outgaarden,Oorbeek,Meldert","Lekdetectie",4,"3TD40"]
[{"$f":"A577+1","v":"2013-09-12"},null,"Verlof",8,"3NP00"]
[]
[{"$f":"A579+1","v":"2013-09-13"},null,"Verlof",8,"3NP00"]
[]
[{"$f":"A581+1","v":"2013-09-14"}]
[]
[{"$f":"A583+1","v":"2013-09-15"}]
[]
[{"$f":"A585+1","v":"2013-09-16"},"Herent,Geetbets,Outgaarden","Lekdetectie",4,"3TD50"]
[null,"Meldert,Leueven,Leuven","Lekdetectie",4,"3TD40"]
[{"$f":"A587+1","v":"2013-09-17"},"Zemst,Zichem,Scherpenheuvel","Lekdetectie",4,"3TD50"]
[null,"Tienen,Goetsenhoven,Tienen","Lekdetectie",4,"3TD40"]
[{"$f":"A589+1","v":"2013-09-18"},"Tienen,Oud-Heverlee","Lekdetectie",4,"3TD50"]
[null,"Kessel-Lo","Lekdetectie",4,"3TD40"]
[{"$f":"A591+1","v":"2013-09-19"},"Antwerpen","Opleiding",8,"3TD00"]
[]
[{"$f":"A593+1","v":"2013-09-20"},null,"Verlof",8,"3NP00"]
[]
[{"$f":"A595+1","v":"2013-09-21"}]
[]
[{"$f":"A597+1","v":"2013-09-22"}]
[]
[{"$f":"A599+1","v":"2013-09-23"},"Heverlee,Bierbeek","Lekdetectie",4,"3TD50"]
[null,"Tienen,Aarschot,Blanden","Lekdetectie",4,"3TD40"]
[{"$f":"A601+1","v":"2013-09-24"},"Tienen,Willebringen","Lekdetectie",4,"3TD50"]
[null,"Messelbroek,St-Margriet-Houtem","Lekdetectie",4,"3TD40"]
[{"$f":"A603+1","v":"2013-09-25"},"Leuven,Korbeek-Lo,Holsbeek ","Lekdetectie",4,"3TD50"]
[null,"Betekom,Boortmeerbeek,Overijse,Tienen","Lekdetectie",4,"3TD40"]
[{"$f":"A605+1","v":"2013-09-26"},null,"Verlof",8,"3NP00"]
[]
[{"$f":"A607+1","v":"2013-09-27"},null,"Verlof",8,"3NP00"]
[]
[{"$f":"A609+1","v":"2013-09-28"}]
[]
[{"$f":"A611+1","v":"2013-09-29"}]
[]
[{"$f":"A613+1","v":"2013-09-30"},"Tienen,Meensel,Kapellen","Lekdetectie",4,"3TD50"]
[null,"Zichem,Tielt,Wambeek,Boutersem","Lekdetectie",4,"3TD40"]
[{"$f":"A615+1","v":"2013-10-01"},"Zellik,Boutersem","Lekdetectie",4,"3TD50"]
[null,"Overijse","Lekdetectie",4,"3TD40"]
[]
[]
[null,"Werkstaat ","oktober"]
[null,"Brams Danny",{"$f":"C9","v":2013}]
[null,{"$f":"B10","v":11397},"Opgemaakt door Coosemans Marc"]
[]
["Datum","Plaats","Uitgevoerde werken","uren","Imputatie"]
["2013-10-01","Zellik,Boutersem","Lekdetectie",4,"3TD50"]
[null,"Overijse","Lekdetectie",4,"3TD40"]
[{"$f":"A626+1","v":"2013-10-02"},"Neerijse,Bost,Boutersem","Lekdetectie",4,"3TD50"]
[null,"Leuven","Lekdetectie",4,"3TD40"]
[{"$f":"A628+1","v":"2013-10-03"},"Rotselaar","Opleiding EHBO",8,"3TD00"]
[]
[{"$f":"A630+1","v":"2013-10-04"},"Kessel-Lo,Vilvoorde,Boutersem","Lekdetectie",4,"3TD50"]
[null,"Tienen,Bost,Bierbeek","Lekdetectie",4,"3TD40"]
[{"$f":"A632+1","v":"2013-10-05"}]
[]
[{"$f":"A634+1","v":"2013-10-06"}]
[]
[{"$f":"A636+1","v":"2013-10-07"},"Rotselaar,Lennik","Lekdetectie",4,"3TD50"]
[null,"Melsbroek,Londerzeel","Lekdetectie",4,"3TD40"]
[{"$f":"A638+1","v":"2013-10-08"},"Rillaar,Heverlee","Lekdetectie",4,"3TD50"]
[null,"Haasrode","Rondleiding HAC",4,"3TD00"]
[{"$f":"A640+1","v":"2013-10-09"},"Rillaar","Lekdetectie",4,"3TD50"]
[null,"Linden,Korbeek-Lo","Lekdetectie",4,"3TD40"]
[{"$f":"A642+1","v":"2013-10-10"},null,"Verlof",8,"3NP00"]
[]
[{"$f":"A644+1","v":"2013-10-11"},null,"Verlof",8,"3NP00"]
[]
[{"$f":"A646+1","v":"2013-10-12"}]
[]
[{"$f":"A648+1","v":"2013-10-13"}]
[]
[{"$f":"A650+1","v":"2013-10-14"},"Hoegaarden,Tienen","Lekdetectie",4,"3TD50"]
[null,"Geetbets,Tienen","Lekdetectie",4,"3TD40"]
[{"$f":"A652+1","v":"2013-10-15"},"Kerkom,Aarschot","Lekdetectie",4,"3TD50"]
[null,"Tienen","Lekdetectie",4,"3TD40"]
[{"$f":"A654+1","v":"2013-10-16"},"Tienen,Deurne","Lekdetectie",4,"3TD50"]
[null,"Geetbets,Meldert","Lekdetectie",4,"3TD40"]
[{"$f":"A656+1","v":"2013-10-17"},"Overijse,Keerbergen","Lekdetectie",4,"3TD50"]
[null,"Leuven","Lekdetectie",4,"3TD40"]
[{"$f":"A658+1","v":"2013-10-18"},"Schaffen,Bekkevoort","Lekdetectie",4,"3TD50"]
[null,"Tienen,Meldert","Lekdetectie",4,"3TD40"]
[{"$f":"A660+1","v":"2013-10-19"}]
[]
[{"$f":"A662+1","v":"2013-10-20"}]
[]
[{"$f":"A664+1","v":"2013-10-21"},"Zemst,Grimbergen","Lekdetectie",4,"3TD50"]
[null,"Overijse,Tremelo,Leuven","Lekdetectie",4,"3TD40"]
[{"$f":"A666+1","v":"2013-10-22"},"Leuven,Tienen","Lekdetectie",4,"3TD50"]
[null,"Tienen,Diest,Tienen","Lekdetectie",4,"3TD40"]
[{"$f":"A668+1","v":"2013-10-23"},"Betekom,Keerbergen","Lekdetectie",4,"3TD50"]
[]
[{"$f":"A670+1","v":"2013-10-24"},"Gent","Werkgroep Lekdetectie",8,"3TD00"]
[]
[{"$f":"A672+1","v":"2013-10-25"},null,"Verlof",8,"3NP00"]
[]
[{"$f":"A674+1","v":"2013-10-26"}]
[]
[{"$f":"A676+1","v":"2013-10-27"}]
[null,"Neerwinden","Lekdetectie",3,"3TD40"]
[{"$f":"A678+1","v":"2013-10-28"},"Ezemaal,Neerwinden","Lekdetectie",4,"3TD50"]
[null,"Zichem,Diest,Wilsele","Lekdetectie",4,"3TD40"]
[{"$f":"A680+1","v":"2013-10-29"},"Schaffen,Diest","Lekdetectie",4,"3TD50"]
[null,"Lovenjoel,Tienen","Lekdetectie",4,"3TD40"]
[{"$f":"A682+1","v":"2013-10-30"},"Diest","Lekdetectie",4,"3TD50"]
[null,"Diest,Rummen","Lekdetectie",4,"3TD40"]
[{"$f":"A684+1","v":"2013-10-31"},"Rotselaar,Tienen,Rummen","Lekdetectie",4,"3TD50"]
[null,"Scherpenheuvel,Boutersem","Lekdetectie",4,"3TD40"]
[]
[]
[null,"Werkstaat ","november"]
[null,"Brams Danny",{"$f":"C9","v":2013}]
[null,{"$f":"B10","v":11397},"Opgemaakt door Coosemans Marc"]
[]
["Datum","Plaats","Uitgevoerde werken","uren","Imputatie"]
["2013-11-01",null,"Feestdag"]
[]
[{"$f":"A695+1","v":"2013-11-02"}]
[]
[{"$f":"A697+1","v":"2013-11-03"}]
[]
[{"$f":"A699+1","v":"2013-11-04"},null,"Verlof",8,"3NP00"]
[]
[{"$f":"A701+1","v":"2013-11-05"},"Testelt,Ternat","Lekdetectie",4,"3TD50"]
[null,"Roosdaal,Galmaarden","Lekdetectie",4,"3TD40"]
[{"$f":"A703+1","v":"2013-11-06"},"Cadol,Tienen","Lekdetectie",4,"3TD50"]
[null,"Tienen","Lekdetectie",4,"3TD40"]
[{"$f":"A705+1","v":"2013-11-07"},"Rotselaar","Cursus",8,"3TD00"]
[]
[{"$f":"A707+1","v":"2013-11-08"},"Cadol,Scherpenheuvel","Lekdetectie",4,"3TD50"]
[null,"Scherpenheuvel,Diest","Lekdetectie",4,"3TD40"]
[{"$f":"A709+1","v":"2013-11-09"}]
[]
[{"$f":"A711+1","v":"2013-11-10"}]
[]
[{"$f":"A713+1","v":"2013-11-11"},null,"Feestdag"]
[]
[{"$f":"A715+1","v":"2013-11-12"},"St-Agatha-Rode,Oud-Heverlee,Wilsele","Lekdetectie",4,"3TD50"]
[null,"Lubbeek,Messelbroek,Glabbeek","Lekdetectie",4,"3TD40"]
[{"$f":"A717+1","v":"2013-11-13"},"Tienen,Hakendover","Lekdetectie",4,"3TD50"]
[null,"Tienen,Goetsenhoven","Lekdetectie",4,"3TD40"]
[{"$f":"A719+1","v":"2013-11-14"},"St-Agatha-Rode,Geetbets,Zichem","Lekdetectie",4,"3TD50"]
[null,"Diest,Aarschot,Lubbeek","Lekdetectie",4,"3TD40"]
[{"$f":"A721+1","v":"2013-11-15"},null,"Feestdag"]
[]
[{"$f":"A723+1","v":"2013-11-16"}]
[]
[{"$f":"A725+1","v":"2013-11-17"}]
[]
[{"$f":"A727+1","v":"2013-11-18"},null,"Verlof",8,"3NP00"]
[]
[{"$f":"A729+1","v":"2013-11-19"},null,"Verlof",8,"3NP00"]
[]
[{"$f":"A731+1","v":"2013-11-20"},null,"Verlof",8,"3NP00"]
[]
[{"$f":"A733+1","v":"2013-11-21"},null,"Verlof",8,"3NP00"]
[]
[{"$f":"A735+1","v":"2013-11-22"},null,"Verlof",8,"3NP00"]
[]
[{"$f":"A737+1","v":"2013-11-23"}]
[]
[{"$f":"A739+1","v":"2013-11-24"}]
[]
[{"$f":"A741+1","v":"2013-11-25"},null,"Verlof",8,"3NP00"]
[]
[{"$f":"A743+1","v":"2013-11-26"},null,"Verlof",8,"3NP00"]
[]
[{"$f":"A745+1","v":"2013-11-27"},null,"Verlof",8,"3NP00"]
[]
[{"$f":"A747+1","v":"2013-11-28"},null,"Verlof",8,"3NP00"]
[]
[{"$f":"A749+1","v":"2013-11-29"},null,"Verlof",8,"3NP00"]
[]
[{"$f":"A751+1","v":"2013-11-30"}]
[]
[]
[]
[null,"Werkstaat ","december"]
[null,"Brams Danny",{"$f":"C9","v":2013}]
[null,{"$f":"B10","v":11397},"Opgemaakt door Coosemans Marc"]
[]
["Datum","Plaats","Uitgevoerde werken","uren","Imputatie"]
["2013-12-01"]
[]
[{"$f":"A762+1","v":"2013-12-02"},"Zichem,Diest,Geetbets","Lekdetectie",4,"3TD50"]
[null,"Tienen,Goetsenhoven","Lekdetectie",4,"3TD40"]
[{"$f":"A764+1","v":"2013-12-03"},"Boortmeerbeek,Oud-Heverlee","Lekdetectie",4,"3TD50"]
[null,"Rillaar,Tielt-Winge,Geetbets","Lekdetectie",4,"3TD40"]
[{"$f":"A766+1","v":"2013-12-04"},"Oud-Heverlee","Drukmetingen",4,"3TD50"]
[null,"Vissenaken,Tienen,Attenrode","Lekdetectie",4,"3TD40"]
[{"$f":"A768+1","v":"2013-12-05"},"Vissenaken,Attenrode-Wever","Lekdetectie",4,"3TD50"]
[null,"Oud-Heverlee","Drukmetingen",4,"3TD00"]
[{"$f":"A770+1","v":"2013-12-06"},"Blanden,Diest","Lekdetectie",4,"3TD50"]
[null,"Diest,Geetbets","Lekdetectie",4,"3TD40"]
[{"$f":"A772+1","v":"2013-12-07"}]
[]
[{"$f":"A774+1","v":"2013-12-08"}]
[]
[{"$f":"A776+1","v":"2013-12-09"},"Wilsele,Leuven,Korbeek-Lo","Lekdetectie",4,"3TD50"]
[null,"Tienen,Holsbeek,Heverlee","Lekdetectie",4,"3TD40"]
[{"$f":"A778+1","v":"2013-12-10"},"Tienen,Geetbets,Scherpenheuvel","Lekdetectie",4,"3TD50"]
[null,"Bekkevoort,Lubbeek,Boutersem,Hoeg.","Lekdetectie",4,"3TD40"]
[{"$f":"A780+1","v":"2013-12-11"},"Landen,Walshoutem","Lekdetectie",4,"3TD50"]
[null,"Scherpenheuvel,Kessel-Lo,Leuven","Lekdetectie",4,"3TD40"]
[{"$f":"A782+1","v":"2013-12-12"},"Haacht,Scherpenheuvel,Goetsenhoven","Lekdetectie",4,"3TD50"]
[null,"Korbeek-Lo,Leuven,Kumtich","Lekdetectie",4,"3TD40"]
[{"$f":"A784+1","v":"2013-12-13"},null,"Verlof St-Barbara",8,"3NP00"]
[]
[{"$f":"A786+1","v":"2013-12-14"}]
[]
[{"$f":"A788+1","v":"2013-12-15"}]
[]
[{"$f":"A790+1","v":"2013-12-16"},"Molenbeek-Wersbeek,Korbeek-Lo","Lekdetectie",4,"3TD50"]
[null,"Leuven,Galmaarden","Lekdetectie",4,"3TD40"]
[{"$f":"A792+1","v":"2013-12-17"},"Holsbeek,Tienen","Lekdetectie",4,"3TD50"]
[null,"Korbeek-Lo,Leuven","Lekdetectie",4,"3TD40"]
[{"$f":"A794+1","v":"2013-12-18"},"Meise,Zichem,Aarschot","Lekdetectie",4,"3TD50"]
[null,"Zichem,Bekkevoort","Lekdetectie",4,"3TD40"]
[{"$f":"A796+1","v":"2013-12-19"},"Keerbergen,Geetbets","Lekdetectie",4,"3TD50"]
[null,"Bekkevoort,Korbeek-Lo","Lekdetectie",4,"3TD40"]
[{"$f":"A798+1","v":"2013-12-20"},null,"Verlof",8,"3NP00"]
[]
[{"$f":"A800+1","v":"2013-12-21"}]
[]
[{"$f":"A802+1","v":"2013-12-22"}]
[]
[{"$f":"A804+1","v":"2013-12-23"},"Meise,Molenbeek-Wersbeek","Lekdetectie",4,"3TD50"]
[null,"Tienen,Langdorp","Lekdetectie",4,"3TD40"]
[{"$f":"A806+1","v":"2013-12-24"},"Korbeek-Lo,Leuven,Kessel-Lo","Lekdetectie",4,"3TD50"]
[null,"Diest,Tienen,Leuven","Lekdetectie",4,"3TD40"]
[{"$f":"A808+1","v":"2013-12-25"},null,"Feestdag"]
[]
[{"$f":"A810+1","v":"2013-12-26"},null,"Feestdag"]
[]
[{"$f":"A812+1","v":"2013-12-27"},"Halle,Vilvoorde","Lekdetectie",4,"3TD50"]
[null,"Molenstede,Schaffen,Lubbeek,Wijgmaal","Lekdetectie",4,"3TD40"]
[{"$f":"A814+1","v":"2013-12-28"}]
[]
[{"$f":"A816+1","v":"2013-12-29"}]
[]
[{"$f":"A818+1","v":"2013-12-30"},null,"Verlof",8,"3NP00"]
[]
[{"$f":"A820+1","v":"2013-12-31"},"Kortrijk-Dutsel,Tienen","Lekdetectie",4,"3TD50"]
[null,"Cadol","Onderhoud",4,"3TD00"]

{"sheet":"Brams - per maand","index":1,"n_rows":82,"n_cols":18,"rows_kept":82,"cut":false,"hidden":false,"merged":[[67,12,67,13],[67,16,68,16],[8,2,8,3],[8,4,9,4],[58,3,59,3],[3,3,4,3],[3,4,4,4],[58,5,59,5],[43,3,44,3],[33,3,34,3],[33,5,34,5],[13,3,14,3],[13,5,14,5],[43,5,44,5],[53,3,54,3],[53,5,54,5],[13,7,14,7],[13,8,14,8],[8,6,9,6],[8,8,9,8],[8,9,9,9],[18,7,19,7],[18,9,19,9],[18,10,19,10],[23,2,23,3],[23,4,24,4],[23,6,24,6],[23,8,24,8],[23,10,24,10],[18,3,19,3],[18,5,19,5],[23,12,24,12],[23,13,24,13],[28,2,28,3],[28,4,29,4],[28,6,29,6],[28,8,29,8],[28,10,29,10],[28,11,29,11],[33,7,34,7],[33,8,34,8],[38,3,39,3],[38,5,39,5],[38,7,39,7],[38,8,39,8],[48,3,49,3],[48,5,49,5],[48,6,48,7],[48,8,49,8],[48,9,48,10],[58,7,59,7],[58,9,59,9],[58,10,59,10],[43,7,44,7],[43,9,44,9],[43,10,44,10],[48,11,49,11],[48,12,49,12],[53,7,54,7],[53,9,54,9],[53,10,54,10]]}
["Naam"]
[{"$f":"'MC - Brams D.'!B9","v":"Brams Danny"}]
[null,"Som vd uren","Kolomlabels",null,null,null,"Product","Kolomlabels",null,null,null,null,null,null,"3NP00","3TD00","3TD40","3TD50"]
[{"$f":"#REF!","v":{"$error":"#REF!"}},null,8,"Totaal 8","Algemeen totaal",null,null,"3NP00","Algemeen totaal",null,null,null,null,null,{"$f":"IFERROR(GETPIVOTDATA(\"Som vd uren\",B3,\"Imputatie\",O3),0)","v":184},{"$f":"IFERROR(GETPIVOTDATA(\"Som vd uren\",B3,\"Imputatie\",P3),0)","v":0},{"$f":"IFERROR(GETPIVOTDATA(\"Som vd uren\",B3,\"Imputatie\",Q3),0)","v":0},{"$f":"IFERROR(GETPIVOTDATA(\"Som vd uren\",B3,\"Imputatie\",R3),0)","v":0}]
[null,null,"3NP00",null,null,null,"Totaal",1,1]
[null,"Totaal",184,184,184]
[]
[null,"Som vd uren","Kolomlabels",null,null,null,null,null,null,null,null,null,null,null,"3NP00","3TD00","3TD40","3TD50"]
[{"$f":"#REF!","v":{"$error":"#REF!"}},null,"3NP00",null,"Totaal 3NP00","3TD00","Totaal 3TD00","3TD50","Totaal 3TD50","Algemeen totaal",null,null,null,null,{"$f":"IFERROR(GETPIVOTDATA(\"Som vd uren\",B8,\"Imputatie\",\"3NP00\"),0)","v":104},{"$f":"IFERROR(GETPIVOTDATA(\"Som vd uren\",B8,\"Imputatie\",\"3td00\"),0)","v":28},{"$f":"IFERROR(GETPIVOTDATA(\"Som vd uren\",B8,\"Imputatie\",\"3td40\"),0)","v":0},{"$f":"IFERROR(GETPIVOTDATA(\"Som vd uren\",B8,\"Imputatie\",\"3td50\"),0)","v":28}]
[null,null,8,4,null,4,null,4]
[null,"Totaal",48,56,104,28,28,28,28,160]
[]
[null,"Som vd uren","Kolomlabels",null,null,null,null,null,null,null,null,null,null,null,"3NP00","3TD00","3TD40","3TD50"]
[{"$f":"#REF!","v":{"$error":"#REF!"}},null,"3NP00","Totaal 3NP00","3TD50","Totaal 3TD50","3TD00","Totaal 3TD00","Algemeen totaal",null,null,null,null,null,{"$f":"IFERROR(GETPIVOTDATA(\"Som vd uren\",B13,\"Imputatie\",\"3NP00\"),0)","v":120},{"$f":"IFERROR(GETPIVOTDATA(\"Som vd uren\",B13,\"Imputatie\",\"3td00\"),0)","v":16},{"$f":"IFERROR(GETPIVOTDATA(\"Som vd uren\",B13,\"Imputatie\",\"3td40\"),0)","v":0},{"$f":"IFERROR(GETPIVOTDATA(\"Som vd uren\",B13,\"Imputatie\",\"3td50\"),0)","v":24}]
[null,null,4,null,4,null,4]
[null,"Totaal",120,120,24,24,16,16,160]
[]
[null,"Som vd uren","Kolomlabels",null,null,null,null,null,null,null,null,null,null,null,"3NP00","3TD00","3TD40","3TD50"]
[{"$f":"#REF!","v":{"$error":"#REF!"}},null,"3NP00","Totaal 3NP00","3TD50","Totaal 3TD50","3TD00","Totaal 3TD00","3TD40","Totaal 3TD40","Algemeen totaal",null,null,null,{"$f":"IFERROR(GETPIVOTDATA(\"Som vd uren\",B18,\"Imputatie\",\"3NP00\"),0)","v":124},{"$f":"IFERROR(GETPIVOTDATA(\"Som vd uren\",B18,\"Imputatie\",\"3td00\"),0)","v":8},{"$f":"IFERROR(GETPIVOTDATA(\"Som vd uren\",B18,\"Imputatie\",\"3td40\"),0)","v":4},{"$f":"IFERROR(GETPIVOTDATA(\"Som vd uren\",B18,\"Imputatie\",\"3td50\"),0)","v":40}]
[null,null,4,null,4,null,4,null,4]
[null,"Totaal",124,124,40,40,8,8,4,4,176]
[]
[null,"Som vd uren","Kolomlabels",null,null,null,null,null,null,null,null,null,null,null,"3NP00","3TD00","3TD40","3TD50"]
[{"$f":"#REF!","v":{"$error":"#REF!"}},null,"3NP00",null,"Totaal 3NP00","3TD50","Totaal 3TD50","3TD40","Totaal 3TD40","33TD40","Totaal 33TD40","3TD00","Totaal 3TD00","Algemeen totaal",{"$f":"IFERROR(GETPIVOTDATA(\"Som vd uren\",B23,\"Imputatie\",\"3NP00\"),0)","v":52},{"$f":"IFERROR(GETPIVOTDATA(\"Som vd uren\",B23,\"Imputatie\",\"3td00\"),0)","v":4},{"$f":"IFERROR(GETPIVOTDATA(\"Som vd uren\",B23,\"Imputatie\",\"3td40\"),0)","v":40},{"$f":"IFERROR(GETPIVOTDATA(\"Som vd uren\",B23,\"Imputatie\",\"3td50\"),0)","v":68}]
[null,null,8,4,null,4,null,4,null,4,null,4]
[null,"Totaal",24,28,52,68,68,40,40,4,4,4,4,168]
[]
[null,"Som vd uren","Kolomlabels",null,null,null,null,null,null,null,null,null,null,null,"3NP00","3TD00","3TD40","3TD50"]
[{"$f":"#REF!","v":{"$error":"#REF!"}},null,"3NP00",null,"Totaal 3NP00","3TD50","Totaal 3TD50","3TD40","Totaal 3TD40","3TD00","Totaal 3TD00","Algemeen totaal",null,null,{"$f":"IFERROR(GETPIVOTDATA(\"Som vd uren\",B28,\"Imputatie\",\"3NP00\"),0)","v":28},{"$f":"IFERROR(GETPIVOTDATA(\"Som vd uren\",B28,\"Imputatie\",\"3td00\"),0)","v":12},{"$f":"IFERROR(GETPIVOTDATA(\"Som vd uren\",B28,\"Imputatie\",\"3td40\"),0)","v":56},{"$f":"IFERROR(GETPIVOTDATA(\"Som vd uren\",B28,\"Imputatie\",\"3td50\"),0)","v":64}]
[null,null,8,4,null,4,null,4,null,4]
[null,"Totaal",24,4,28,64,64,56,56,12,12,160]
[]
[null,"Som vd uren","Kolomlabels",null,null,null,null,null,null,null,null,null,null,null,"3NP00","3TD00","3TD40","3TD50"]
[{"$f":"#REF!","v":{"$error":"#REF!"}},null,"3NP00","Totaal 3NP00","3TD50","Totaal 3TD50","3TD00","Totaal 3TD00","Algemeen totaal",null,null,null,null,null,{"$f":"IFERROR(GETPIVOTDATA(\"Som vd uren\",B33,\"Imputatie\",\"3NP00\"),0)","v":120},{"$f":"IFERROR(GETPIVOTDATA(\"Som vd uren\",B33,\"Imputatie\",\"3td00\"),0)","v":16},{"$f":"IFERROR(GETPIVOTDATA(\"Som vd uren\",B33,\"Imputatie\",\"3td40\"),0)","v":0},{"$f":"IFERROR(GETPIVOTDATA(\"Som vd uren\",B33,\"Imputatie\",\"3td50\"),0)","v":24}]
[null,null,4,null,4,null,4]
[null,"Totaal",120,120,24,24,16,16,160]
[]
[null,"Som vd uren","Kolomlabels",null,null,null,null,null,null,null,null,null,null,null,"3NP00","3TD00","3TD40","3TD50"]
[{"$f":"#REF!","v":{"$error":"#REF!"}},null,"3NP00","Totaal 3NP00","3TD50","Totaal 3TD50","3TD40","Totaal 3TD40","Algemeen totaal",null,null,null,null,null,{"$f":"IFERROR(GETPIVOTDATA(\"Som vd uren\",B38,\"Imputatie\",\"3NP00\"),0)","v":48},{"$f":"IFERROR(GETPIVOTDATA(\"Som vd uren\",B38,\"Imputatie\",\"3td00\"),0)","v":0},{"$f":"IFERROR(GETPIVOTDATA(\"Som vd uren\",B38,\"Imputatie\",\"3td40\"),0)","v":60},{"$f":"IFERROR(GETPIVOTDATA(\"Som vd uren\",B38,\"Imputatie\",\"3td50\"),0)","v":60}]
[null,null,8,null,4,null,4]
[null,"Totaal",48,48,60,60,60,60,168]
[]
[null,"Som vd uren","Kolomlabels",null,null,null,null,null,null,null,null,null,null,null,"3NP00","3TD00","3TD40","3TD50"]
[{"$f":"#REF!","v":{"$error":"#REF!"}},null,"3NP00","Totaal 3NP00","3TD50","Totaal 3TD50","3TD40","Totaal 3TD40","3TD00","Totaal 3TD00","Algemeen totaal",null,null,null,{"$f":"IFERROR(GETPIVOTDATA(\"Som vd uren\",B43,\"Imputatie\",\"3NP00\"),0)","v":48},{"$f":"IFERROR(GETPIVOTDATA(\"Som vd uren\",B43,\"Imputatie\",\"3td00\"),0)","v":8},{"$f":"IFERROR(GETPIVOTDATA(\"Som vd uren\",B43,\"Imputatie\",\"3td40\"),0)","v":56},{"$f":"IFERROR(GETPIVOTDATA(\"Som vd uren\",B43,\"Imputatie\",\"3td50\"),0)","v":56}]
[null,null,8,null,4,null,4,null,8]
[null,"Totaal",48,48,56,56,56,56,8,8,168]
[]
[null,"Som vd uren","Kolomlabels",null,null,null,null,null,null,null,null,null,null,null,"3NP00","3TD00","3TD40","3TD50"]
[{"$f":"#REF!","v":{"$error":"#REF!"}},null,"3NP00","Totaal 3NP00","3TD50","Totaal 3TD50","3TD40",null,"Totaal 3TD40","3TD00",null,"Totaal 3TD00","Algemeen totaal",null,{"$f":"IFERROR(GETPIVOTDATA(\"Som vd uren\",B48,\"Imputatie\",\"3NP00\"),0)","v":24},{"$f":"IFERROR(GETPIVOTDATA(\"Som vd uren\",B48,\"Imputatie\",\"3td00\"),0)","v":20},{"$f":"IFERROR(GETPIVOTDATA(\"Som vd uren\",B48,\"Imputatie\",\"3td40\"),0)","v":63},{"$f":"IFERROR(GETPIVOTDATA(\"Som vd uren\",B48,\"Imputatie\",\"3td50\"),0)","v":72}]
[null,null,8,null,4,null,4,3,null,8,4]
[null,"Totaal",24,24,72,72,60,3,63,16,4,20,179]
[]
[null,"Som vd uren","Kolomlabels",null,null,null,null,null,null,null,null,null,null,null,"3NP00","3TD00","3TD40","3TD50"]
[{"$f":"#REF!","v":{"$error":"#REF!"}},null,"3NP00","Totaal 3NP00","3TD50","Totaal 3TD50","3TD40","Totaal 3TD40","3TD00","Totaal 3TD00","Algemeen totaal",null,null,null,{"$f":"IFERROR(GETPIVOTDATA(\"Som vd uren\",B53,\"Imputatie\",\"3NP00\"),0)","v":88},{"$f":"IFERROR(GETPIVOTDATA(\"Som vd uren\",B53,\"Imputatie\",\"3td00\"),0)","v":8},{"$f":"IFERROR(GETPIVOTDATA(\"Som vd uren\",B53,\"Imputatie\",\"3td40\"),0)","v":24},{"$f":"IFERROR(GETPIVOTDATA(\"Som vd uren\",B53,\"Imputatie\",\"3td50\"),0)","v":24}]
[null,null,8,null,4,null,4,null,8]
[null,"Totaal",88,88,24,24,24,24,8,8,144]
[]
[null,"Som vd uren","Kolomlabels",null,null,null,null,null,null,null,null,null,null,null,"3NP00","3TD00","3TD40","3TD50"]
[{"$f":"#REF!","v":{"$error":"#REF!"}},null,"3NP00","Totaal 3NP00","3TD50","Totaal 3TD50","3TD40","Totaal 3TD40","3TD00","Totaal 3TD00","Algemeen totaal",null,null,null,{"$f":"IFERROR(GETPIVOTDATA(\"Som vd uren\",B58,\"Imputatie\",\"3NP00\"),0)","v":24},{"$f":"IFERROR(GETPIVOTDATA(\"Som vd uren\",B58,\"Imputatie\",\"3td00\"),0)","v":8},{"$f":"IFERROR(GETPIVOTDATA(\"Som vd uren\",B58,\"Imputatie\",\"3td40\"),0)","v":60},{"$f":"IFERROR(GETPIVOTDATA(\"Som vd uren\",B58,\"Imputatie\",\"3td50\"),0)","v":68}]
[null,null,8,null,4,null,4,null,4]
[null,"Totaal",24,24,68,68,60,60,8,8,160]
[]
[]
[]
[]
[null,"Rijlabels",null,null,{"$f":"GETPIVOTDATA(\"Imputatie\",B3)","v":{"$error":"#REF!"}}]
[null,"33TD40",null,null,null,null,null,null,null,null,null,"Som van uren","Kolomlabels"]
[null,4,null,{"$f":"in","v":{"$error":"#NAME?"}},null,null,null,null,null,null,null,null,"3NP00",null,"3TD00","3TD50","Algemeen totaal"]
[null,"3NP00",null,null,null,null,null,null,null,null,null,null,4,8,4,4]
[null,4,null,null,null,null,null,null,null,null,null,"Totaal",2,1,1,1]
[null,8]
[null,"3TD00"]
[null,4]
[null,8]
[null,"3TD40"]
[null,3]
[null,4]
[null,8]
[null,"3TD50"]
[null,4]
[null,8]
[null,"Eindtotaal"]

{"sheet":"Overzicht per maand","index":2,"n_rows":38,"n_cols":6,"rows_kept":38,"cut":false,"hidden":false,"merged":[]}
[]
["Overzicht per maand van de uren per project."]
[]
[null,"januari","3NP00","3TD00","3TD40","3TD50"]
[null,"Uren",{"$f":"SUM('Brams - per maand'!O4)","v":184},{"$f":"SUM('Brams - per maand'!P4)","v":0},{"$f":"SUM('Brams - per maand'!Q4)","v":0},{"$f":"SUM('Brams - per maand'!R4)","v":0}]
[]
[null,"februari","3NP00","3TD00","3TD40","3TD50"]
[null,"Uren",{"$f":"SUM('Brams - per maand'!O9)","v":104},{"$f":"SUM('Brams - per maand'!P9)","v":28},{"$f":"SUM('Brams - per maand'!Q9)","v":0},{"$f":"SUM('Brams - per maand'!R9)","v":28}]
[]
[null,"maart","3NP00","3NP01","3NP02","3NP03"]
[null,"Uren",{"$f":"SUM('Brams - per maand'!O14)","v":120},{"$f":"SUM('Brams - per maand'!P14)","v":16},{"$f":"SUM('Brams - per maand'!Q14)","v":0},{"$f":"SUM('Brams - per maand'!R14)","v":24}]
[]
[null,"april","3NP00","3NP01","3NP02","3NP03"]
[null,"Uren",{"$f":"SUM('Brams - per maand'!O15)","v":0},{"$f":"SUM('Brams - per maand'!P15)","v":0},{"$f":"SUM('Brams - per maand'!Q15)","v":0},{"$f":"SUM('Brams - per maand'!R15)","v":0}]
[]
[null,"mei","3NP00","3NP01","3NP02","3NP03"]
[null,"Uren",{"$f":"SUM('Brams - per maand'!O24)","v":52},{"$f":"SUM('Brams - per maand'!P24)","v":4},{"$f":"SUM('Brams - per maand'!Q24)","v":40},{"$f":"SUM('Brams - per maand'!R24)","v":68}]
[]
[null,"juni","3NP00","3NP01","3NP02","3NP03"]
[null,"Uren",{"$f":"SUM('Brams - per maand'!O29)","v":28},{"$f":"SUM('Brams - per maand'!P29)","v":12},{"$f":"SUM('Brams - per maand'!Q29)","v":56},{"$f":"SUM('Brams - per maand'!R29)","v":64}]
[]
[null,"juli","3NP00","3NP01","3NP02","3NP03"]
[null,"Uren",{"$f":"SUM('Brams - per maand'!O34)","v":120},{"$f":"SUM('Brams - per maand'!P34)","v":16},{"$f":"SUM('Brams - per maand'!Q34)","v":0},{"$f":"SUM('Brams - per maand'!R34)","v":24}]
[]
[null,"augustus","3NP00","3NP01","3NP02","3NP03"]
[null,"Uren",{"$f":"SUM('Brams - per maand'!O29)","v":28},{"$f":"SUM('Brams - per maand'!P29)","v":12},{"$f":"SUM('Brams - per maand'!Q29)","v":56},{"$f":"SUM('Brams - per maand'!R29)","v":64}]
[]
[null,"september","3NP00","3NP01","3NP02","3NP03"]
[null,"Uren",{"$f":"SUM('Brams - per maand'!O44)","v":48},{"$f":"SUM('Brams - per maand'!P44)","v":8},{"$f":"SUM('Brams - per maand'!Q44)","v":56},{"$f":"SUM('Brams - per maand'!R44)","v":56}]
[]
[null,"oktober","3NP00","3NP01","3NP02","3NP03"]
[null,"Uren",{"$f":"SUM('Brams - per maand'!O49)","v":24},{"$f":"SUM('Brams - per maand'!P49)","v":20},{"$f":"SUM('Brams - per maand'!Q49)","v":63},{"$f":"SUM('Brams - per maand'!R49)","v":72}]
[]
[null,"november","3NP00","3NP01","3NP02","3NP03"]
[null,"Uren",{"$f":"SUM('Brams - per maand'!O54)","v":88},{"$f":"SUM('Brams - per maand'!P54)","v":8},{"$f":"SUM('Brams - per maand'!Q54)","v":24},{"$f":"SUM('Brams - per maand'!R54)","v":24}]
[]
[null,"december","3NP00","3NP01","3NP02","3NP03"]
[null,"Uren",{"$f":"SUM('Brams - per maand'!O59)","v":24},{"$f":"SUM('Brams - per maand'!P59)","v":8},{"$f":"SUM('Brams - per maand'!Q59)","v":60},{"$f":"SUM('Brams - per maand'!R59)","v":68}]