{"text_format":"1","workbook":"xlsx","n_sheets":2,"sheets":["Initial Process Study","Data"],"not_rendered":{"charts":2,"images":0,"macros":1,"external_links":0,"defined_names":1,"comments":1,"pivot_tables":0},"unopened":[],"bounds":{"document_bytes":16777216,"sheet_cells":100000,"rows_first":2000,"rows_last":500,"rows_between":2000,"halvings":0,"cell_chars":16384,"cell_head_chars":4096},"cells_cut":0,"cells_raw":0,"read":"whole","date_system":"1900"}

{"sheet":"Initial Process Study","index":0,"n_rows":56,"n_cols":38,"rows_kept":56,"cut":false,"hidden":false,"merged":[[22,4,22,5],[12,20,12,22],[13,20,13,22],[14,20,14,22],[8,8,8,10],[9,8,9,10],[10,20,10,22],[9,20,9,22],[43,0,43,22],[42,0,42,22],[41,0,41,22],[25,4,25,5],[23,4,23,5],[40,0,40,22],[26,4,26,5],[24,4,24,5],[35,9,35,10],[5,25,5,26],[5,0,5,22],[6,34,6,35],[7,20,7,22],[8,20,8,22],[7,8,7,10],[17,4,17,5],[21,4,21,5],[16,3,16,5],[14,8,14,10],[11,8,11,10],[12,8,12,10],[13,8,13,10],[20,4,20,5],[19,4,19,5],[18,4,18,5]]}
[]
[]
[]
["Initial Process Study -",null,null,null,null,{"$f":"IF((COUNTIFS(Data!$A:$A,$A$6))>1,\"Opgelet! Nummer bestaat 2 keer!\",(VLOOKUP($A$6,Data!$A$8:$BZ$1550,55,FALSE)))","v":"Residual thickness"},null,null,null,null,null,null,null,null,null,null,null,null,null,null,null,null,null,null,null,null,null,null,null,null,null,null,null,null,null,null,{"$f":"I8-0.5","v":2.1}]
[null,null,null,null,null,null,null,null,null,null,null,null,null,null,null,null,null,null,null,null,null,null,null,null,null,null,null,null,null,null,null,null,null,null,null,null,{"$f":"I9+0.5","v":3.9}]
["B0004RA",null,null,null,null,null,null,null,null,null,null,null,null,null,null,null,null,null,null,null,null,null,null,null,"Sample","Thickness",null,"LSL","USL","Mean","LCL","UCL",null,"midden"]
[null,null,null,null,null,null,null,null,null,null,null,null,null,null,null,null,null,null,null,null,null,null,null,null,1,{"$f":"IF((COUNTIFS(Data!$A:$A,$A$6))>1,\"Opgelet! Nummer bestaat 2 keer!\",(VLOOKUP($A$6,Data!$A$8:$BZ$1550,2,FALSE)))","v":2.8},{"$f":"IF(Z7=0,\"\",IF(Z7>0,Z7))","v":2.8},{"$f":"$I$8","v":2.6},{"$f":"$I$9","v":3.4},{"$f":"$I$10","v":3},{"$f":"$U$10","v":2.6086719935093678},{"$f":"$U$11","v":3.0425280064906333},null,"klassen","norm.verd"]
["Lower Specification Limit (LSL)",null,null,null,null,null,null,null,{"$f":"IF((COUNTIFS(Data!$A:$A,$A$6))>1,\"Opgelet! Nummer bestaat 2 keer!\",(VLOOKUP($A$6,Data!$A$8:$BZ$1550,52,FALSE)))","v":2.6},null,null,null,"Sample Mean (Centreline)",null,null,null,null,null,null,null,{"$f":"AVERAGE(AA7:AA56)","v":2.8256000000000006},null,null,null,2,{"$f":"IF((COUNTIFS(Data!$A:$A,$A$6))>1,\"Opgelet! Nummer bestaat 2 keer!\",(VLOOKUP($A$6,Data!$A$8:$BZ$1550,3,FALSE)))","v":2.8},{"$f":"IF(Z8=0,\"\",IF(Z8>0,Z8))","v":2.8},2.6,3.4,3,{"$f":"$U$10","v":2.6086719935093678},{"$f":"$U$11","v":3.0425280064906333},null,null,{"$f":"NORMDIST(AH8,$U$8,$U$9,0)*$AI$20","v":0}]
["Upper Specification Limit (USL)",null,null,null,null,null,null,null,{"$f":"IF((COUNTIFS(Data!$A:$A,$A$6))>1,\"Opgelet! Nummer bestaat 2 keer!\",(VLOOKUP($A$6,Data!$A$8:$BZ$1550,53,FALSE)))","v":3.4},null,null,null,"Standard Deviation",null,null,null,null,null,null,null,{"$f":"STDEVP(AA7:AA56)","v":7.2309335496877597E-2},null,null,null,3,{"$f":"IF((COUNTIFS(Data!$A:$A,$A$6))>1,\"Opgelet! Nummer bestaat 2 keer!\",(VLOOKUP($A$6,Data!$A$8:$BZ$1550,4,FALSE)))","v":2.8},2.8,2.6,3.4,3,2.6086719935093678,3.0425280064906333,null,{"$f":"C18+0.5*$AI$20","v":2.5428571428571427},{"$f":"NORMDIST(AH9,$U$8,$U$9,0)*$AI$20","v":3.0173470673110165E-4}]
["Specification Mean",null,null,null,null,null,null,null,{"$f":"AVERAGE(I8:K9)","v":3},null,null,null,"Lower Control Limit (LCL)",null,null,null,null,null,null,null,{"$f":"U8-(3*U9)","v":2.6086719935093678},null,null,null,4,{"$f":"IF((COUNTIFS(Data!$A:$A,$A$6))>1,\"Opgelet! Nummer bestaat 2 keer!\",(VLOOKUP($A$6,Data!$A$8:$BZ$1550,5,FALSE)))","v":2.9},2.9,2.6,3.4,3,2.6086719935093678,3.0425280064906333,null,2.657142857142857,{"$f":"NORMDIST(AH10,$U$8,$U$9,0)*$AI$20","v":4.179914015384633E-2}]
[null,null,null,null,null,null,null,null,null,null,null,null,"Upper Control Limit (UCL)",null,null,null,null,null,null,null,{"$f":"U8+(3*U9)","v":3.0425280064906333},null,null,null,5,{"$f":"IF((COUNTIFS(Data!$A:$A,$A$6))>1,\"Opgelet! Nummer bestaat 2 keer!\",(VLOOKUP($A$6,Data!$A$8:$BZ$1550,6,FALSE)))","v":2.8},2.8,2.6,3.4,3,2.6086719935093678,3.0425280064906333,null,2.7714285714285714,0.47625003553468126]
["Number of Samples",null,null,null,null,null,null,null,{"$f":"COUNT(AA7:AA56)","v":50},null,null,null,null,null,null,null,null,null,null,null,null,null,null,null,6,{"$f":"IF((COUNTIFS(Data!$A:$A,$A$6))>1,\"Opgelet! Nummer bestaat 2 keer!\",(VLOOKUP($A$6,Data!$A$8:$BZ$1550,7,FALSE)))","v":2.9},2.9,2.6,3.4,3,2.6086719935093678,3.0425280064906333,null,2.8857142857142857,0.44630143834228753]
["Minimum",null,null,null,null,null,null,null,{"$f":"MIN(AA7:AA56)","v":2.6},null,null,null,"Cpl",null,null,null,null,null,null,null,{"$f":"(U8-I8)/(3*U9)","v":1.0399763665819801},null,null,null,7,{"$f":"IF((COUNTIFS(Data!$A:$A,$A$6))>1,\"Opgelet! Nummer bestaat 2 keer!\",(VLOOKUP($A$6,Data!$A$8:$BZ$1550,8,FALSE)))","v":2.9},2.9,2.6,3.4,3,2.6086719935093678,3.0425280064906333,null,3.0571428571428569,3.7426453032072798E-3]
["Maximum",null,null,null,null,null,null,null,{"$f":"MAX(AA7:AA56)","v":2.9},null,null,null,"Cpu",null,null,null,null,null,null,null,{"$f":"(I9-U8)/(3*U9)","v":2.6478830893824798},null,null,null,8,{"$f":"IF((COUNTIFS(Data!$A:$A,$A$6))>1,\"Opgelet! Nummer bestaat 2 keer!\",(VLOOKUP($A$6,Data!$A$8:$BZ$1550,9,FALSE)))","v":2.8},2.8,2.6,3.4,3,2.6086719935093678,3.0425280064906333,null,3.1714285714285713,6.8043385924883192E-6]
["Range",null,null,null,null,null,null,null,{"$f":"MAX(AA7:AA56) - MIN(AA7:AA56)","v":0.29999999999999982},null,null,null,"Cpk",null,null,null,null,null,null,null,{"$f":"MIN(U13:W14)","v":1.0399763665819801},null,null,null,9,{"$f":"IF((COUNTIFS(Data!$A:$A,$A$6))>1,\"Opgelet! Nummer bestaat 2 keer!\",(VLOOKUP($A$6,Data!$A$8:$AY$1550,10,FALSE)))","v":2.6},2.6,2.6,3.4,3,2.6086719935093678,3.0425280064906333,null,3.2857142857142856,1.017463304706859E-9]
[null,null,null,null,null,null,null,null,null,null,null,null,null,null,null,null,null,null,null,null,null,null,null,null,10,{"$f":"IF((COUNTIFS(Data!$A:$A,$A$6))>1,\"Opgelet! Nummer bestaat 2 keer!\",(VLOOKUP($A$6,Data!$A$8:$AY$1550,11,FALSE)))","v":2.8},2.8,2.6,3.4,3,2.6086719935093678,3.0425280064906333,null,3.4571428571428569,1.7198021943216038E-17]
[null,null,null,"Frequency",null,null,null,null,null,null,null,null,null,null,null,null,null,null,null,null,null,null,null,null,11,{"$f":"IF((COUNTIFS(Data!$A:$A,$A$6))>1,\"Opgelet! Nummer bestaat 2 keer!\",(VLOOKUP($A$6,Data!$A$8:$AY$1550,12,FALSE)))","v":2.6},2.6,2.6,3.4,3,2.6086719935093678,3.0425280064906333,null,3.5714285714285712,4.9891357197037673E-24]
[0,"-",{"$f":"A19","v":2.4857142857142858},{"$f":"FREQUENCY(AA7:AA56,C18:C27)","v":0},{"$f":"D18/$I$12","v":0},null,null,null,null,null,null,null,null,null,null,null,null,null,null,null,null,null,null,null,12,{"$f":"IF((COUNTIFS(Data!$A:$A,$A$6))>1,\"Opgelet! Nummer bestaat 2 keer!\",(VLOOKUP($A$6,Data!$A$8:$AY$1550,13,FALSE)))","v":2.8},2.8,2.6,3.4,3,2.6086719935093678,3.0425280064906333]
[{"$f":"C19-AJ20","v":2.4857142857142858},"-",{"$f":"A20","v":2.6},2,0.04,null,null,null,null,null,null,null,null,null,null,null,null,null,null,null,null,null,null,null,13,{"$f":"IF((COUNTIFS(Data!$A:$A,$A$6))>1,\"Opgelet! Nummer bestaat 2 keer!\",(VLOOKUP($A$6,Data!$A$8:$AY$1550,14,FALSE)))","v":2.8},2.8,2.6,3.4,3,2.6086719935093678,3.0425280064906333]
[{"$f":"I8","v":2.6},"-",{"$f":"A20+AJ20","v":2.7142857142857144},2,0.04,null,null,null,null,null,null,null,null,null,null,null,null,null,null,null,null,null,null,null,14,{"$f":"IF((COUNTIFS(Data!$A:$A,$A$6))>1,\"Opgelet! Nummer bestaat 2 keer!\",(VLOOKUP($A$6,Data!$A$8:$AY$1550,15,FALSE)))","v":2.8},2.8,2.6,3.4,3,2.6086719935093678,3.0425280064906333,null,"klassenbreedte:",{"$f":"AJ20","v":0.11428571428571425},{"$f":"(I9-I8)/7","v":0.11428571428571425}]
[{"$f":"C20","v":2.7142857142857144},"-",{"$f":"A21+AJ20","v":2.8285714285714287},27,0.54,null,null,null,null,null,null,null,null,null,null,null,null,null,null,null,null,null,null,null,15,{"$f":"IF((COUNTIFS(Data!$A:$A,$A$6))>1,\"Opgelet! Nummer bestaat 2 keer!\",(VLOOKUP($A$6,Data!$A$8:$AY$1550,16,FALSE)))","v":2.8},2.8,2.6,3.4,3,2.6086719935093678,3.0425280064906333,null,"beginwaarde:",{"$f":"I8-(2*AI20)","v":2.3714285714285714}]
[{"$f":"C21+AJ20","v":2.9428571428571431},"-",{"$f":"A23","v":3},19,0.38,null,null,null,null,null,null,null,null,null,null,null,null,null,null,null,null,null,null,null,16,{"$f":"IF((COUNTIFS(Data!$A:$A,$A$6))>1,\"Opgelet! Nummer bestaat 2 keer!\",(VLOOKUP($A$6,Data!$A$8:$AY$1550,17,FALSE)))","v":2.8},2.8,2.6,3.4,3,2.6086719935093678,3.0425280064906333]
[{"$f":"I10","v":3},"-",{"$f":"A23+AJ20","v":3.1142857142857143},0,0,null,null,null,null,null,null,null,null,null,null,null,null,null,null,null,null,null,null,null,17,{"$f":"IF((COUNTIFS(Data!$A:$A,$A$6))>1,\"Opgelet! Nummer bestaat 2 keer!\",(VLOOKUP($A$6,Data!$A$8:$AY$1550,18,FALSE)))","v":2.8},2.8,2.6,3.4,3,2.6086719935093678,3.0425280064906333]
[{"$f":"C23","v":3.1142857142857143},"-",{"$f":"A24+AJ20","v":3.2285714285714286},0,0,null,null,null,null,null,null,null,null,null,null,null,null,null,null,null,null,null,null,null,18,{"$f":"IF((COUNTIFS(Data!$A:$A,$A$6))>1,\"Opgelet! Nummer bestaat 2 keer!\",(VLOOKUP($A$6,Data!$A$8:$AY$1550,19,FALSE)))","v":2.8},2.8,2.6,3.4,3,2.6086719935093678,3.0425280064906333]
[{"$f":"C24","v":3.2285714285714286},"-",{"$f":"I9","v":3.4},0,0,null,null,null,null,null,null,null,null,null,null,null,null,null,null,null,null,null,null,null,19,{"$f":"IF((COUNTIFS(Data!$A:$A,$A$6))>1,\"Opgelet! Nummer bestaat 2 keer!\",(VLOOKUP($A$6,Data!$A$8:$AY$1550,20,FALSE)))","v":2.8},2.8,2.6,3.4,3,2.6086719935093678,3.0425280064906333]
[{"$f":"C25","v":3.4},"-",{"$f":"A26+AJ20","v":3.5142857142857142},0,0,null,null,null,null,null,null,null,null,null,null,null,null,null,null,null,null,null,null,null,20,{"$f":"IF((COUNTIFS(Data!$A:$A,$A$6))>1,\"Opgelet! Nummer bestaat 2 keer!\",(VLOOKUP($A$6,Data!$A$8:$AY$1550,21,FALSE)))","v":2.8},2.8,2.6,3.4,3,2.6086719935093678,3.0425280064906333]
[{"$f":"C26","v":3.5142857142857142},"-","∞",0,0,null,null,null,null,null,null,null,null,null,null,null,null,null,null,null,null,null,null,null,21,{"$f":"IF((COUNTIFS(Data!$A:$A,$A$6))>1,\"Opgelet! Nummer bestaat 2 keer!\",(VLOOKUP($A$6,Data!$A$8:$AY$1550,22,FALSE)))","v":2.9},2.9,2.6,3.4,3,2.6086719935093678,3.0425280064906333]
[null,null,null,null,null,null,null,null,null,null,null,null,null,null,null,null,null,null,null,null,null,null,null,null,22,{"$f":"IF((COUNTIFS(Data!$A:$A,$A$6))>1,\"Opgelet! Nummer bestaat 2 keer!\",(VLOOKUP($A$6,Data!$A$8:$AY$1550,23,FALSE)))","v":2.9},2.9,2.6,3.4,3,2.6086719935093678,3.0425280064906333,null,null,{"$f":"$U$8-(3*$U$9)","v":2.6086719935093678},{"$f":"$U$8-(2*$U$9)","v":2.6809813290062454},{"$f":"FREQUENCY($AA$7:$AA$56,$AJ$28:$AJ$30)","v":2},{"$f":"AK28/$AK$32","v":0.04}]
[null,null,null,null,null,null,null,null,null,null,null,null,null,null,null,null,null,null,null,null,null,null,null,null,23,{"$f":"IF((COUNTIFS(Data!$A:$A,$A$6))>1,\"Opgelet! Nummer bestaat 2 keer!\",(VLOOKUP($A$6,Data!$A$8:$AY$1550,24,FALSE)))","v":2.9},2.9,2.6,3.4,3,2.6086719935093678,3.0425280064906333,null,null,{"$f":"$U$8-$U$9","v":2.753290664503123},{"$f":"$U$8+$U$9","v":2.8979093354968781},29,{"$f":"AK29/$AK$32","v":0.57999999999999996}]
[null,null,null,null,null,null,null,null,null,null,null,null,null,null,null,null,null,null,null,null,null,null,null,null,24,{"$f":"IF((COUNTIFS(Data!$A:$A,$A$6))>1,\"Opgelet! Nummer bestaat 2 keer!\",(VLOOKUP($A$6,Data!$A$8:$AY$1550,25,FALSE)))","v":2.8},2.8,2.6,3.4,3,2.6086719935093678,3.0425280064906333,null,null,{"$f":"$U$8+(2*$U$9)","v":2.9702186709937557},{"$f":"$U$8+(3*$U$9)","v":3.0425280064906333},19,{"$f":"AK30/$AK$32","v":0.38}]
[null,null,null,null,null,null,null,null,null,null,null,null,null,null,null,null,null,null,null,null,null,null,null,null,25,{"$f":"IF((COUNTIFS(Data!$A:$A,$A$6))>1,\"Opgelet! Nummer bestaat 2 keer!\",(VLOOKUP($A$6,Data!$A$8:$AY$1550,26,FALSE)))","v":2.8},2.8,2.6,3.4,3,2.6086719935093678,3.0425280064906333]
[null,null,null,null,null,null,null,null,null,null,null,null,null,null,null,null,null,null,null,null,null,null,null,null,26,{"$f":"IF((COUNTIFS(Data!$A:$A,$A$6))>1,\"Opgelet! Nummer bestaat 2 keer!\",(VLOOKUP($A$6,Data!$A$8:$AY$1550,27,FALSE)))","v":2.9},2.9,2.6,3.4,3,2.6086719935093678,3.0425280064906333,null,null,null,null,{"$f":"SUM(AK28:AK31)","v":50}]
[null,null,null,null,null,null,null,null,null,null,null,null,null,null,null,null,null,null,null,null,null,null,null,null,27,{"$f":"IF((COUNTIFS(Data!$A:$A,$A$6))>1,\"Opgelet! Nummer bestaat 2 keer!\",(VLOOKUP($A$6,Data!$A$8:$AY$1550,28,FALSE)))","v":2.8},2.8,2.6,3.4,3,2.6086719935093678,3.0425280064906333]
[null,null,null,null,null,null,null,null,null,null,null,null,null,null,null,null,null,null,null,null,null,null,null,null,28,{"$f":"IF((COUNTIFS(Data!$A:$A,$A$6))>1,\"Opgelet! Nummer bestaat 2 keer!\",(VLOOKUP($A$6,Data!$A$8:$AY$1550,29,FALSE)))","v":2.69},2.69,2.6,3.4,3,2.6086719935093678,3.0425280064906333]
[null,null,null,null,null,null,null,null,null,null,null,null,null,null,null,null,null,null,null,null,null,null,null,null,29,{"$f":"IF((COUNTIFS(Data!$A:$A,$A$6))>1,\"Opgelet! Nummer bestaat 2 keer!\",(VLOOKUP($A$6,Data!$A$8:$AY$1550,30,FALSE)))","v":2.8},2.8,2.6,3.4,3,2.6086719935093678,3.0425280064906333]
[null,null,null,null,null,null,null,null,null,null,null,null,null,null,null,null,null,null,null,null,null,null,null,null,30,{"$f":"IF((COUNTIFS(Data!$A:$A,$A$6))>1,\"Opgelet! Nummer bestaat 2 keer!\",(VLOOKUP($A$6,Data!$A$8:$AY$1550,31,FALSE)))","v":2.8},2.8,2.6,3.4,3,2.6086719935093678,3.0425280064906333,null,null,{"$f":"$U$8-(3*$U$9)","v":2.6086719935093678},{"$f":"$U$8+(3*$U$9)","v":3.0425280064906333},{"$f":"FREQUENCY($AA$7:$AA$56,AJ36)","v":50},{"$f":"AK36/$AK$32","v":1}]
[null,null,null,null,null,null,null,null,null,null,null,null,null,null,null,null,null,null,null,null,null,null,null,null,31,{"$f":"IF((COUNTIFS(Data!$A:$A,$A$6))>1,\"Opgelet! Nummer bestaat 2 keer!\",(VLOOKUP($A$6,Data!$A$8:$AY$1550,32,FALSE)))","v":2.8},2.8,2.6,3.4,3,2.6086719935093678,3.0425280064906333,null,null,{"$f":"$U$8-(2*$U$9)","v":2.6809813290062454},{"$f":"$U$8+(2*$U$9)","v":2.9702186709937557},{"$f":"FREQUENCY($AA$7:$AA$56,AJ37)","v":50},{"$f":"AK37/$AK$32","v":1}]
[null,null,null,null,null,null,null,null,null,null,null,null,null,null,null,null,null,null,null,null,null,null,null,null,32,{"$f":"IF((COUNTIFS(Data!$A:$A,$A$6))>1,\"Opgelet! Nummer bestaat 2 keer!\",(VLOOKUP($A$6,Data!$A$8:$AY$1550,33,FALSE)))","v":2.69},2.69,2.6,3.4,3,2.6086719935093678,3.0425280064906333,null,null,{"$f":"$U$8-$U$9","v":2.753290664503123},{"$f":"$U$8+$U$9","v":2.8979093354968781},{"$f":"FREQUENCY($AA$7:$AA$56,AJ38)","v":31},{"$f":"AK38/$AK$32","v":0.62}]
[null,null,null,null,null,null,null,null,null,null,null,null,null,null,null,null,null,null,null,null,null,null,null,null,33,{"$f":"IF((COUNTIFS(Data!$A:$A,$A$6))>1,\"Opgelet! Nummer bestaat 2 keer!\",(VLOOKUP($A$6,Data!$A$8:$AY$1550,34,FALSE)))","v":2.9},2.9,{"$f":"$I$8","v":2.6},{"$f":"$I$9","v":3.4},{"$f":"$I$10","v":3},2.6086719935093678,3.0425280064906333]
[null,null,null,null,null,null,null,null,null,null,null,null,null,null,null,null,null,null,null,null,null,null,null,null,34,{"$f":"IF((COUNTIFS(Data!$A:$A,$A$6))>1,\"Opgelet! Nummer bestaat 2 keer!\",(VLOOKUP($A$6,Data!$A$8:$AY$1550,35,FALSE)))","v":2.9},2.9,2.6,3.4,3,2.6086719935093678,3.0425280064906333]
["Remarks",null,null,null,null,null,null,null,null,null,null,null,null,null,null,null,null,null,null,null,null,null,null,null,35,{"$f":"IF((COUNTIFS(Data!$A:$A,$A$6))>1,\"Opgelet! Nummer bestaat 2 keer!\",(VLOOKUP($A$6,Data!$A$8:$AY$1550,36,FALSE)))","v":2.8},2.8,2.6,3.4,3,2.6086719935093678,3.0425280064906333]
[{"$f":"IF((COUNTIFS(Data!$A:$A,$A$6))>1,\"Opgelet! Nummer bestaat 2 keer!\",(VLOOKUP($A$6,Data!$A$8:$BZ$1550,56,FALSE)))","v":"The measurements in this study are taken from one single production run and therefore do not represent the normal process variation.  Cpk will be reassessed after 30 significant production runs"},null,null,null,null,null,null,null,null,null,null,null,null,null,null,null,null,null,null,null,null,null,null,null,36,{"$f":"IF((COUNTIFS(Data!$A:$A,$A$6))>1,\"Opgelet! Nummer bestaat 2 keer!\",(VLOOKUP($A$6,Data!$A$8:$AY$1550,37,FALSE)))","v":2.9},2.9,2.6,3.4,3,2.6086719935093678,3.0425280064906333]
[{"$f":"IF((COUNTIFS(Data!$A:$A,$A$6))>1,\"Opgelet! Nummer bestaat 2 keer!\",(VLOOKUP($A$6,Data!$A$8:$BZ$1550,57,FALSE)))","v":0},null,null,null,null,null,null,null,null,null,null,null,null,null,null,null,null,null,null,null,null,null,null,null,37,{"$f":"IF((COUNTIFS(Data!$A:$A,$A$6))>1,\"Opgelet! Nummer bestaat 2 keer!\",(VLOOKUP($A$6,Data!$A$8:$AY$1550,38,FALSE)))","v":2.9},2.9,2.6,3.4,3,2.6086719935093678,3.0425280064906333]
[{"$f":"IF((COUNTIFS(Data!$A:$A,$A$6))>1,\"Opgelet! Nummer bestaat 2 keer!\",(VLOOKUP($A$6,Data!$A$8:$BZ$1550,58,FALSE)))","v":0},null,null,null,null,null,null,null,null,null,null,null,null,null,null,null,null,null,null,null,null,null,null,null,38,{"$f":"IF((COUNTIFS(Data!$A:$A,$A$6))>1,\"Opgelet! Nummer bestaat 2 keer!\",(VLOOKUP($A$6,Data!$A$8:$AY$1550,39,FALSE)))","v":2.8},2.8,2.6,3.4,3,2.6086719935093678,3.0425280064906333]
[null,null,null,null,null,null,null,null,null,null,null,null,null,null,null,null,null,null,null,null,null,null,null,null,39,{"$f":"IF((COUNTIFS(Data!$A:$A,$A$6))>1,\"Opgelet! Nummer bestaat 2 keer!\",(VLOOKUP($A$6,Data!$A$8:$AY$1550,40,FALSE)))","v":2.8},2.8,2.6,3.4,3,2.6086719935093678,3.0425280064906333]
[null,null,null,null,null,null,null,null,null,null,null,null,null,null,null,null,null,null,null,null,null,null,null,null,40,{"$f":"IF((COUNTIFS(Data!$A:$A,$A$6))>1,\"Opgelet! Nummer bestaat 2 keer!\",(VLOOKUP($A$6,Data!$A$8:$AY$1550,41,FALSE)))","v":2.9},2.9,2.6,3.4,3,2.6086719935093678,3.0425280064906333]
[null,null,null,null,null,null,null,null,null,null,null,null,null,null,null,null,null,null,null,null,null,null,null,null,41,{"$f":"IF((COUNTIFS(Data!$A:$A,$A$6))>1,\"Opgelet! Nummer bestaat 2 keer!\",(VLOOKUP($A$6,Data!$A$8:$AY$1550,42,FALSE)))","v":2.9},2.9,2.6,3.4,3,2.6086719935093678,3.0425280064906333]
[null,null,null,null,null,null,null,null,null,null,null,null,null,null,null,null,null,null,null,null,null,null,null,null,42,{"$f":"IF((COUNTIFS(Data!$A:$A,$A$6))>1,\"Opgelet! Nummer bestaat 2 keer!\",(VLOOKUP($A$6,Data!$A$8:$BZ$1550,43,FALSE)))","v":2.9},2.9,2.6,3.4,3,2.6086719935093678,3.0425280064906333]
[null,null,null,null,null,null,null,null,null,null,null,null,null,null,null,null,null,null,null,null,null,null,null,null,43,{"$f":"IF((COUNTIFS(Data!$A:$A,$A$6))>1,\"Opgelet! Nummer bestaat 2 keer!\",(VLOOKUP($A$6,Data!$A$8:$BZ$1550,44,FALSE)))","v":2.8},2.8,2.6,3.4,3,2.6086719935093678,3.0425280064906333]
[null,null,null,null,null,null,null,null,null,null,null,null,null,null,null,null,null,null,null,null,null,null,null,null,44,{"$f":"IF((COUNTIFS(Data!$A:$A,$A$6))>1,\"Opgelet! Nummer bestaat 2 keer!\",(VLOOKUP($A$6,Data!$A$8:$BZ$1550,45,FALSE)))","v":2.9},2.9,2.6,3.4,3,2.6086719935093678,3.0425280064906333]
[null,null,null,null,null,null,null,null,null,null,null,null,null,null,null,null,null,null,null,null,null,null,null,null,45,{"$f":"IF((COUNTIFS(Data!$A:$A,$A$6))>1,\"Opgelet! Nummer bestaat 2 keer!\",(VLOOKUP($A$6,Data!$A$8:$BZ$1550,46,FALSE)))","v":2.9},2.9,2.6,3.4,3,2.6086719935093678,3.0425280064906333]
[null,null,null,null,null,null,null,null,null,null,null,null,null,null,null,null,null,null,null,null,null,null,null,null,46,{"$f":"IF((COUNTIFS(Data!$A:$A,$A$6))>1,\"Opgelet! Nummer bestaat 2 keer!\",(VLOOKUP($A$6,Data!$A$8:$BZ$1550,47,FALSE)))","v":2.9},2.9,2.6,3.4,3,2.6086719935093678,3.0425280064906333]
[null,null,null,null,null,null,null,null,null,null,null,null,null,null,null,null,null,null,null,null,null,null,null,null,47,{"$f":"IF((COUNTIFS(Data!$A:$A,$A$6))>1,\"Opgelet! Nummer bestaat 2 keer!\",(VLOOKUP($A$6,Data!$A$8:$BZ$1550,48,FALSE)))","v":2.9},2.9,2.6,3.4,3,2.6086719935093678,3.0425280064906333]
[null,null,null,null,null,null,null,null,null,null,null,null,null,null,null,null,null,null,null,null,null,null,null,null,48,{"$f":"IF((COUNTIFS(Data!$A:$A,$A$6))>1,\"Opgelet! Nummer bestaat 2 keer!\",(VLOOKUP($A$6,Data!$A$8:$BZ$1550,49,FALSE)))","v":2.9},2.9,2.6,3.4,3,2.6086719935093678,3.0425280064906333]
[null,null,null,null,null,null,null,null,null,null,null,null,null,null,null,null,null,null,null,null,null,null,null,null,49,{"$f":"IF((COUNTIFS(Data!$A:$A,$A$6))>1,\"Opgelet! Nummer bestaat 2 keer!\",(VLOOKUP($A$6,Data!$A$8:$BZ$1550,50,FALSE)))","v":2.8},2.8,2.6,3.4,3,2.6086719935093678,3.0425280064906333]
[null,null,null,null,null,null,null,null,null,null,null,null,null,null,null,null,null,null,null,null,null,null,null,null,50,{"$f":"IF((COUNTIFS(Data!$A:$A,$A$6))>1,\"Opgelet! Nummer bestaat 2 keer!\",(VLOOKUP($A$6,Data!$A$8:$BZ$1550,51,FALSE)))","v":2.8},2.8,2.6,3.4,3,2.6086719935093678,3.0425280064906333]

{"sheet":"Data","index":1,"n_rows":9,"n_cols":58,"rows_kept":9,"cut":false,"hidden":false,"merged":[[5,0,6,0],[5,53,6,53],[5,55,6,55],[5,56,6,56],[5,57,6,57],[5,54,6,54],[5,1,5,50],[5,52,6,52],[5,51,6,51]]}
[]
[]
[]
["Initial Process Study"]
[]
["B-nummer","Measurements",null,null,null,null,null,null,null,null,null,null,null,null,null,null,null,null,null,null,null,null,null,null,null,null,null,null,null,null,null,null,null,null,null,null,null,null,null,null,null,null,null,null,null,null,null,null,null,null,null,"LSL","USL","Interval","Parameter","Remark 1","Remark 2","Remark 3"]
[null,1,2,3,4,5,6,7,8,9,10,11,12,13,14,15,16,17,18,19,20,21,22,23,24,25,26,27,28,29,30,31,32,33,34,35,36,37,38,39,40,41,42,43,44,45,46,47,48,49,50]
["B0004RA",2.8,2.8,2.8,2.9,2.8,2.9,2.9,2.8,2.6,2.8,2.6,2.8,2.8,2.8,2.8,2.8,2.8,2.8,2.8,2.8,2.9,2.9,2.9,2.8,2.8,2.9,2.8,2.69,2.8,2.8,2.8,2.69,2.9,2.9,2.8,2.9,2.9,2.8,2.8,2.9,2.9,2.9,2.8,2.9,2.9,2.9,2.9,2.9,2.8,2.8,2.6,3.4,0.1,"Residual thickness","The measurements in this study are taken from one single production run and therefore do not represent the normal process variation.  Cpk will be reassessed after 30 significant production runs"]
["B0003RA",24.8,24.5,24.9,24.75,24.71,24.85,24.8,24.5,24.9,24.75,24.71,24.85,24.8,24.5,24.9,24.75,24.71,24.85,24.8,24.5,24.9,24.75,24.71,24.85,24.8,24.5,24.9,24.75,24.71,24.85,24.8,24.5,24.9,24.75,24.71,24.85,24.8,24.5,24.9,24.75,24.71,24.85,24.8,24.5,24.8,24.5,24.9,24.75,24.71,24.85,23.3,26,0.1,"Residual thickness","The measurements in this study are taken from one single production run and therefore do not represent the normal process variation.  Cpk will be reassessed after 30 significant production runs"]