{"text_format":"1","workbook":"xlsx","n_sheets":4,"sheets":["Gegevens van scanner","DATABASE","BARCODE GENERATOR","SETUP"],"not_rendered":{"charts":0,"images":0,"macros":1,"external_links":0,"defined_names":1,"comments":1,"pivot_tables":1},"unopened":[],"bounds":{"document_bytes":16777216,"sheet_cells":100000,"rows_first":2000,"rows_last":500,"rows_between":2000,"halvings":0,"cell_chars":16384,"cell_head_chars":4096},"cells_cut":0,"cells_raw":0,"read":"whole","date_system":"1900"}

{"sheet":"Gegevens van scanner","index":0,"n_rows":1005,"n_cols":11,"rows_kept":1005,"cut":false,"hidden":false,"merged":[[4,0,4,3],[4,5,4,6]]}
[]
[]
[]
[]
[{"$f":"SUM(B:B)&\" Gegevens van scanner\"","v":"87 Gegevens van scanner"},null,null,null,null,{"$f":"IF(SUM(B:B)=GETPIVOTDATA(\"Quantity\",$F$6),\"FILTER COMPLEET\",\"VERNIEUWEN!!\")","v":"VERNIEUWEN!!"}]
["BAR code","Quantity","Unit price","Serial number",null,"Rijlabels","Som van Quantity",null,"SYSTEEM NUMMER","Aantal","ONDERDEEL NAAM UIT DATABASE"]
[10000008,7,null,null,null,"(leeg)",null,null,{"$f":"IF(F7>0,IF(F7=\"(leeg)\",\"\",IF(F7=\"Eindtotaal\",\"\",F7)),\"\")","v":""},{"$f":"IF(ISNA(VLOOKUP(I7,$F:$G,2,FALSE)),\"\",VLOOKUP(I7,$F:$G,2,FALSE))","v":""}]
[10000009,3,null,null,null,10000020,4,null,{"$f":"IF(F8>0,IF(F8=\"(leeg)\",\"\",IF(F8=\"Eindtotaal\",\"\",F8)),\"\")","v":10000020},4]
[10000010,1,null,null,null,10000008,7,null,10000008,7]
[10000010,3,null,null,null,10000009,3,null,10000009,3]
[10000012,1,null,null,null,10000010,9,null,10000010,9]
[10000013,2,null,null,null,10000012,1,null,10000012,1]
[10000013,4,null,null,null,10000013,7,null,10000013,7]
[10000015,2,null,null,null,10000015,2,null,10000015,2]
[10000016,1,null,null,null,10000016,14,null,10000016,14]
[10000016,3,null,null,null,10000018,2,null,10000018,2]
[10000018,2,null,null,null,10000019,3,null,10000019,3]
[10000019,3,null,null,null,10000021,11,null,10000021,11]
[10000020,4,null,null,null,10000023,7,null,10000023,7]
[10000021,2,null,null,null,10000024,8,null,10000024,8]
[10000021,4,null,null,null,10000025,9,null,10000025,9]
[10000023,7,null,null,null,10000026,10,null,10000026,10]
[10000024,8,null,null,null,10000027,11,null,10000027,11]
[10000025,9,null,null,null,"Eindtotaal",108,null,"",""]
[10000026,10,null,null,null,null,null,null,"",""]
[10000027,11,null,null,null,null,null,null,"",""]
[null,null,null,null,null,null,null,null,"",""]
[null,null,null,null,null,null,null,null,"",""]
[null,null,null,null,null,null,null,null,"",""]
[null,null,null,null,null,null,null,null,"",""]
[null,null,null,null,null,null,null,null,"",""]
[null,null,null,null,null,null,null,null,"",""]
[null,null,null,null,null,null,null,null,"",""]
[null,null,null,null,null,null,null,null,"",""]
[null,null,null,null,null,null,null,null,"",""]
[null,null,null,null,null,null,null,null,"",""]
[null,null,null,null,null,null,null,null,"",""]
[null,null,null,null,null,null,null,null,"",""]
[null,null,null,null,null,null,null,null,"",""]
[null,null,null,null,null,null,null,null,"",""]
[null,null,null,null,null,null,null,null,"",""]
[null,null,null,null,null,null,null,null,"",""]
[null,null,null,null,null,null,null,null,"",""]
[null,null,null,null,null,null,null,null,"",""]
[null,null,null,null,null,null,null,null,"",""]
[null,null,null,null,null,null,null,null,"",""]
[null,null,null,null,null,null,null,null,"",""]
[null,null,null,null,null,null,null,null,"",""]
[null,null,null,null,null,null,null,null,"",""]
[null,null,null,null,null,null,null,null,"",""]
[null,null,null,null,null,null,null,null,"",""]
[null,null,null,null,null,null,null,null,"",""]
[null,null,null,null,null,null,null,null,"",""]
[null,null,null,null,null,null,null,null,"",""]
[null,null,null,null,null,null,null,null,"",""]
[null,null,null,null,null,null,null,null,"",""]
[null,null,null,null,null,null,null,null,"",""]
[null,null,null,null,null,null,null,null,"",""]
[null,null,null,null,null,null,null,null,"",""]
[null,null,null,null,null,null,null,null,"",""]
[null,null,null,null,null,null,null,null,"",""]
[null,null,null,null,null,null,null,null,"",""]
[null,null,null,null,null,null,null,null,"",""]
[null,null,null,null,null,null,null,null,"",""]
[null,null,null,null,null,null,null,null,"",""]
[null,null,null,null,null,null,null,null,"",""]
[null,null,null,null,null,null,null,null,"",""]
[null,null,null,null,null,null,null,null,"",""]
[null,null,null,null,null,null,null,null,"",""]
[null,null,null,null,null,null,null,null,"",""]
[null,null,null,null,null,null,null,null,"",{"$f":"IF(ISNA(VLOOKUP(I71,$F:$G,2,FALSE)),\"\",VLOOKUP(I71,$F:$G,2,FALSE))","v":""}]
[null,null,null,null,null,null,null,null,{"$f":"IF(F72>0,IF(F72=\"(leeg)\",\"\",IF(F72=\"Eindtotaal\",\"\",F72)),\"\")","v":""},""]
[null,null,null,null,null,null,null,null,"",""]
[null,null,null,null,null,null,null,null,"",""]
[null,null,null,null,null,null,null,null,"",""]
[null,null,null,null,null,null,null,null,"",""]
[null,null,null,null,null,null,null,null,"",""]
[null,null,null,null,null,null,null,null,"",""]
[null,null,null,null,null,null,null,null,"",""]
[null,null,null,null,null,null,null,null,"",""]
[null,null,null,null,null,null,null,null,"",""]
[null,null,null,null,null,null,null,null,"",""]
[null,null,null,null,null,null,null,null,"",""]
[null,null,null,null,null,null,null,null,"",""]
[null,null,null,null,null,null,null,null,"",""]
[null,null,null,null,null,null,null,null,"",""]
[null,null,null,null,null,null,null,null,"",""]
[null,null,null,null,null,null,null,null,"",""]
[null,null,null,null,null,null,null,null,"",""]
[null,null,null,null,null,null,null,null,"",""]
[null,null,null,null,null,null,null,null,"",""]
[null,null,null,null,null,null,null,null,"",""]
[null,null,null,null,null,null,null,null,"",""]
[null,null,null,null,null,null,null,null,"",""]
[null,null,null,null,null,null,null,null,"",""]
[null,null,null,null,null,null,null,null,"",""]
[null,null,null,null,null,null,null,null,"",""]
[null,null,null,null,null,null,null,null,"",""]
[null,null,null,null,null,null,null,null,"",""]
[null,null,null,null,null,null,null,null,"",""]
[null,null,null,null,null,null,null,null,"",""]
[null,null,null,null,null,null,null,null,"",""]
[null,null,null,null,null,null,null,null,"",""]
[null,null,null,null,null,null,null,null,"",""]
[null,null,null,null,null,null,null,null,"",""]
[null,null,null,null,null,null,null,null,"",""]
[null,null,null,null,null,null,null,null,"",""]
[null,null,null,null,null,null,null,null,"",""]
[null,null,null,null,null,null,null,null,"",""]
[null,null,null,null,null,null,null,null,"",""]
[null,null,null,null,null,null,null,null,"",""]
[null,null,null,null,null,null,null,null,"",""]
[null,null,null,null,null,null,null,null,"",""]
[null,null,null,null,null,null,null,null,"",""]
[null,null,null,null,null,null,null,null,"",""]
[null,null,null,null,null,null,null,null,"",""]
[null,null,null,null,null,null,null,null,"",""]
[null,null,null,null,null,null,null,null,"",""]
[null,null,null,null,null,null,null,null,"",""]
[null,null,null,null,null,null,null,null,"",""]
[null,null,null,null,null,null,null,null,"",""]
[null,null,null,null,null,null,null,null,"",""]
[null,null,null,null,null,null,null,null,"",""]
[null,null,null,null,null,null,null,null,"",""]
[null,null,null,null,null,null,null,null,"",""]
[null,null,null,null,null,null,null,null,"",""]
[null,null,null,null,null,null,null,null,"",""]
[null,null,null,null,null,null,null,null,"",""]
[null,null,null,null,null,null,null,null,"",""]
[null,null,null,null,null,null,null,null,"",""]
[null,null,null,null,null,null,null,null,"",""]
[null,null,null,null,null,null,null,null,"",""]
[null,null,null,null,null,null,null,null,"",""]
[null,null,null,null,null,null,null,null,"",""]
[null,null,null,null,null,null,null,null,"",{"$f":"IF(ISNA(VLOOKUP(I135,$F:$G,2,FALSE)),\"\",VLOOKUP(I135,$F:$G,2,FALSE))","v":""}]
[null,null,null,null,null,null,null,null,{"$f":"IF(F136>0,IF(F136=\"(leeg)\",\"\",IF(F136=\"Eindtotaal\",\"\",F136)),\"\")","v":""},""]
[null,null,null,null,null,null,null,null,"",""]
[null,null,null,null,null,null,null,null,"",""]
[null,null,null,null,null,null,null,null,"",""]
[null,null,null,null,null,null,null,null,"",""]
[null,null,null,null,null,null,null,null,"",""]
[null,null,null,null,null,null,null,null,"",""]
[null,null,null,null,null,null,null,null,"",""]
[null,null,null,null,null,null,null,null,"",""]
[null,null,null,null,null,null,null,null,"",""]
[null,null,null,null,null,null,null,null,"",""]
[null,null,null,null,null,null,null,null,"",""]
[null,null,null,null,null,null,null,null,"",""]
[null,null,null,null,null,null,null,null,"",""]
[null,null,null,null,null,null,null,null,"",""]
[null,null,null,null,null,null,null,null,"",""]
[null,null,null,null,null,null,null,null,"",""]
[null,null,null,null,null,null,null,null,"",""]
[null,null,null,null,null,null,null,null,"",""]
[null,null,null,null,null,null,null,null,"",""]
[null,null,null,null,null,null,null,null,"",""]
[null,null,null,null,null,null,null,null,"",""]
[null,null,null,null,null,null,null,null,"",""]
[null,null,null,null,null,null,null,null,"",""]
[null,null,null,null,null,null,null,null,"",""]
[null,null,null,null,null,null,null,null,"",""]
[null,null,null,null,null,null,null,null,"",""]
[null,null,null,null,null,null,null,null,"",""]
[null,null,null,null,null,null,null,null,"",""]
[null,null,null,null,null,null,null,null,"",""]
[null,null,null,null,null,null,null,null,"",""]
[null,null,null,null,null,null,null,null,"",""]
[null,null,null,null,null,null,null,null,"",""]
[null,null,null,null,null,null,null,null,"",""]
[null,null,null,null,null,null,null,null,"",""]
[null,null,null,null,null,null,null,null,"",""]
[null,null,null,null,null,null,null,null,"",""]
[null,null,null,null,null,null,null,null,"",""]
[null,null,null,null,null,null,null,null,"",""]
[null,null,null,null,null,null,null,null,"",""]
[null,null,null,null,null,null,null,null,"",""]
[null,null,null,null,null,null,null,null,"",""]
[null,null,null,null,null,null,null,null,"",""]
[null,null,null,null,null,null,null,null,"",""]
[null,null,null,null,null,null,null,null,"",""]
[null,null,null,null,null,null,null,null,"",""]
[null,null,null,null,null,null,null,null,"",""]
[null,null,null,null,null,null,null,null,"",""]
[null,null,null,null,null,null,null,null,"",""]
[null,null,null,null,null,null,null,null,"",""]
[null,null,null,null,null,null,null,null,"",""]
[null,null,null,null,null,null,null,null,"",""]
[null,null,null,null,null,null,null,null,"",""]
[null,null,null,null,null,null,null,null,"",""]
[null,null,null,null,null,null,null,null,"",""]
[null,null,null,null,null,null,null,null,"",""]
[null,null,null,null,null,null,null,null,"",""]
[null,null,null,null,null,null,null,null,"",""]
[null,null,null,null,null,null,null,null,"",""]
[null,null,null,null,null,null,null,null,"",""]
[null,null,null,null,null,null,null,null,"",""]
[null,null,null,null,null,null,null,null,"",""]
[null,null,null,null,null,null,null,null,"",""]
[null,null,null,null,null,null,null,null,"",{"$f":"IF(ISNA(VLOOKUP(I199,$F:$G,2,FALSE)),\"\",VLOOKUP(I199,$F:$G,2,FALSE))","v":""}]
[null,null,null,null,null,null,null,null,{"$f":"IF(F200>0,IF(F200=\"(leeg)\",\"\",IF(F200=\"Eindtotaal\",\"\",F200)),\"\")","v":""},""]
[null,null,null,null,null,null,null,null,"",""]
[null,null,null,null,null,null,null,null,"",""]
[null,null,null,null,null,null,null,null,"",""]
[null,null,null,null,null,null,null,null,"",""]
[null,null,null,null,null,null,null,null,"",""]
[null,null,null,null,null,null,null,null,"",""]
[null,null,null,null,null,null,null,null,"",""]
[null,null,null,null,null,null,null,null,"",""]
[null,null,null,null,null,null,null,null,"",""]
[null,null,null,null,null,null,null,null,"",""]
[null,null,null,null,null,null,null,null,"",""]
[null,null,null,null,null,null,null,null,"",""]
[null,null,null,null,null,null,null,null,"",""]
[null,null,null,null,null,null,null,null,"",""]
[null,null,null,null,null,null,null,null,"",""]
[null,null,null,null,null,null,null,null,"",""]
[null,null,null,null,null,null,null,null,"",""]
[null,null,null,null,null,null,null,null,"",""]
[null,null,null,null,null,null,null,null,"",""]
[null,null,null,null,null,null,null,null,"",""]
[null,null,null,null,null,null,null,null,"",""]
[null,null,null,null,null,null,null,null,"",""]
[null,null,null,null,null,null,null,null,"",""]
[null,null,null,null,null,null,null,null,"",""]
[null,null,null,null,null,null,null,null,"",""]
[null,null,null,null,null,null,null,null,"",""]
[null,null,null,null,null,null,null,null,"",""]
[null,null,null,null,null,null,null,null,"",""]
[null,null,null,null,null,null,null,null,"",""]
[null,null,null,null,null,null,null,null,"",""]
[null,null,null,null,null,null,null,null,"",""]
[null,null,null,null,null,null,null,null,"",""]
[null,null,null,null,null,null,null,null,"",""]
[null,null,null,null,null,null,null,null,"",""]
[null,null,null,null,null,null,null,null,"",""]
[null,null,null,null,null,null,null,null,"",""]
[null,null,null,null,null,null,null,null,"",""]
[null,null,null,null,null,null,null,null,"",""]
[null,null,null,null,null,null,null,null,"",""]
[null,null,null,null,null,null,null,null,"",""]
[null,null,null,null,null,null,null,null,"",""]
[null,null,null,null,null,null,null,null,"",""]
[null,null,null,null,null,null,null,null,"",""]
[null,null,null,null,null,null,null,null,"",""]
[null,null,null,null,null,null,null,null,"",""]
[null,null,null,null,null,null,null,null,"",""]
[null,null,null,null,null,null,null,null,"",""]
[null,null,null,null,null,null,null,null,"",""]
[null,null,null,null,null,null,null,null,"",""]
[null,null,null,null,null,null,null,null,"",""]
[null,null,null,null,null,null,null,null,"",""]
[null,null,null,null,null,null,null,null,"",""]
[null,null,null,null,null,null,null,null,"",""]
[null,null,null,null,null,null,null,null,"",""]
[null,null,null,null,null,null,null,null,"",""]
[null,null,null,null,null,null,null,null,"",""]
[null,null,null,null,null,null,null,null,"",""]
[null,null,null,null,null,null,null,null,"",""]
[null,null,null,null,null,null,null,null,"",""]
[null,null,null,null,null,null,null,null,"",""]
[null,null,null,null,null,null,null,null,"",""]
[null,null,null,null,null,null,null,null,"",""]
[null,null,null,null,null,null,null,null,"",{"$f":"IF(ISNA(VLOOKUP(I263,$F:$G,2,FALSE)),\"\",VLOOKUP(I263,$F:$G,2,FALSE))","v":""}]
[null,null,null,null,null,null,null,null,{"$f":"IF(F264>0,IF(F264=\"(leeg)\",\"\",IF(F264=\"Eindtotaal\",\"\",F264)),\"\")","v":""},""]
[null,null,null,null,null,null,null,null,"",""]
[null,null,null,null,null,null,null,null,"",""]
[null,null,null,null,null,null,null,null,"",""]
[null,null,null,null,null,null,null,null,"",""]
[null,null,null,null,null,null,null,null,"",""]
[null,null,null,null,null,null,null,null,"",""]
[null,null,null,null,null,null,null,null,"",""]
[null,null,null,null,null,null,null,null,"",""]
[null,null,null,null,null,null,null,null,"",""]
[null,null,null,null,null,null,null,null,"",""]
[null,null,null,null,null,null,null,null,"",""]
[null,null,null,null,null,null,null,null,"",""]
[null,null,null,null,null,null,null,null,"",""]
[null,null,null,null,null,null,null,null,"",""]
[null,null,null,null,null,null,null,null,"",""]
[null,null,null,null,null,null,null,null,"",""]
[null,null,null,null,null,null,null,null,"",""]
[null,null,null,null,null,null,null,null,"",""]
[null,null,null,null,null,null,null,null,"",""]
[null,null,null,null,null,null,null,null,"",""]
[null,null,null,null,null,null,null,null,"",""]
[null,null,null,null,null,null,null,null,"",""]
[null,null,null,null,null,null,null,null,"",""]
[null,null,null,null,null,null,null,null,"",""]
[null,null,null,null,null,null,null,null,"",""]
[null,null,null,null,null,null,null,null,"",""]
[null,null,null,null,null,null,null,null,"",""]
[null,null,null,null,null,null,null,null,"",""]
[null,null,null,null,null,null,null,null,"",""]
[null,null,null,null,null,null,null,null,"",""]
[null,null,null,null,null,null,null,null,"",""]
[null,null,null,null,null,null,null,null,"",""]
[null,null,null,null,null,null,null,null,"",""]
[null,null,null,null,null,null,null,null,"",""]
[null,null,null,null,null,null,null,null,"",""]
[null,null,null,null,null,null,null,null,"",""]
[null,null,null,null,null,null,null,null,"",""]
[null,null,null,null,null,null,null,null,"",""]
[null,null,null,null,null,null,null,null,"",""]
[null,null,null,null,null,null,null,null,"",""]
[null,null,null,null,null,null,null,null,"",""]
[null,null,null,null,null,null,null,null,"",""]
[null,null,null,null,null,null,null,null,"",""]
[null,null,null,null,null,null,null,null,"",""]
[null,null,null,null,null,null,null,null,"",""]
[null,null,null,null,null,null,null,null,"",""]
[null,null,null,null,null,null,null,null,"",""]
[null,null,null,null,null,null,null,null,"",""]
[null,null,null,null,null,null,null,null,"",""]
[null,null,null,null,null,null,null,null,"",""]
[null,null,null,null,null,null,null,null,"",""]
[null,null,null,null,null,null,null,null,"",""]
[null,null,null,null,null,null,null,null,"",""]
[null,null,null,null,null,null,null,null,"",""]
[null,null,null,null,null,null,null,null,"",""]
[null,null,null,null,null,null,null,null,"",""]
[null,null,null,null,null,null,null,null,"",""]
[null,null,null,null,null,null,null,null,"",""]
[null,null,null,null,null,null,null,null,"",""]
[null,null,null,null,null,null,null,null,"",""]
[null,null,null,null,null,null,null,null,"",""]
[null,null,null,null,null,null,null,null,"",""]
[null,null,null,null,null,null,null,null,"",{"$f":"IF(ISNA(VLOOKUP(I327,$F:$G,2,FALSE)),\"\",VLOOKUP(I327,$F:$G,2,FALSE))","v":""}]
[null,null,null,null,null,null,null,null,{"$f":"IF(F328>0,IF(F328=\"(leeg)\",\"\",IF(F328=\"Eindtotaal\",\"\",F328)),\"\")","v":""},""]
[null,null,null,null,null,null,null,null,"",""]
[null,null,null,null,null,null,null,null,"",""]
[null,null,null,null,null,null,null,null,"",""]
[null,null,null,null,null,null,null,null,"",""]
[null,null,null,null,null,null,null,null,"",""]
[null,null,null,null,null,null,null,null,"",""]
[null,null,null,null,null,null,null,null,"",""]
[null,null,null,null,null,null,null,null,"",""]
[null,null,null,null,null,null,null,null,"",""]
[null,null,null,null,null,null,null,null,"",""]
[null,null,null,null,null,null,null,null,"",""]
[null,null,null,null,null,null,null,null,"",""]
[null,null,null,null,null,null,null,null,"",""]
[null,null,null,null,null,null,null,null,"",""]
[null,null,null,null,null,null,null,null,"",""]
[null,null,null,null,null,null,null,null,"",""]
[null,null,null,null,null,null,null,null,"",""]
[null,null,null,null,null,null,null,null,"",""]
[null,null,null,null,null,null,null,null,"",""]
[null,null,null,null,null,null,null,null,"",""]
[null,null,null,null,null,null,null,null,"",""]
[null,null,null,null,null,null,null,null,"",""]
[null,null,null,null,null,null,null,null,"",""]
[null,null,null,null,null,null,null,null,"",""]
[null,null,null,null,null,null,null,null,"",""]
[null,null,null,null,null,null,null,null,"",""]
[null,null,null,null,null,null,null,null,"",""]
[null,null,null,null,null,null,null,null,"",""]
[null,null,null,null,null,null,null,null,"",""]
[null,null,null,null,null,null,null,null,"",""]
[null,null,null,null,null,null,null,null,"",""]
[null,null,null,null,null,null,null,null,"",""]
[null,null,null,null,null,null,null,null,"",""]
[null,null,null,null,null,null,null,null,"",""]
[null,null,null,null,null,null,null,null,"",""]
[null,null,null,null,null,null,null,null,"",""]
[null,null,null,null,null,null,null,null,"",""]
[null,null,null,null,null,null,null,null,"",""]
[null,null,null,null,null,null,null,null,"",""]
[null,null,null,null,null,null,null,null,"",""]
[null,null,null,null,null,null,null,null,"",""]
[null,null,null,null,null,null,null,null,"",""]
[null,null,null,null,null,null,null,null,"",""]
[null,null,null,null,null,null,null,null,"",""]
[null,null,null,null,null,null,null,null,"",""]
[null,null,null,null,null,null,null,null,"",""]
[null,null,null,null,null,null,null,null,"",""]
[null,null,null,null,null,null,null,null,"",""]
[null,null,null,null,null,null,null,null,"",""]
[null,null,null,null,null,null,null,null,"",""]
[null,null,null,null,null,null,null,null,"",""]
[null,null,null,null,null,null,null,null,"",""]
[null,null,null,null,null,null,null,null,"",""]
[null,null,null,null,null,null,null,null,"",""]
[null,null,null,null,null,null,null,null,"",""]
[null,null,null,null,null,null,null,null,"",""]
[null,null,null,null,null,null,null,null,"",""]
[null,null,null,null,null,null,null,null,"",""]
[null,null,null,null,null,null,null,null,"",""]
[null,null,null,null,null,null,null,null,"",""]
[null,null,null,null,null,null,null,null,"",""]
[null,null,null,null,null,null,null,null,"",""]
[null,null,null,null,null,null,null,null,"",{"$f":"IF(ISNA(VLOOKUP(I391,$F:$G,2,FALSE)),\"\",VLOOKUP(I391,$F:$G,2,FALSE))","v":""}]
[null,null,null,null,null,null,null,null,{"$f":"IF(F392>0,IF(F392=\"(leeg)\",\"\",IF(F392=\"Eindtotaal\",\"\",F392)),\"\")","v":""},""]
[null,null,null,null,null,null,null,null,"",""]
[null,null,null,null,null,null,null,null,"",""]
[null,null,null,null,null,null,null,null,"",""]
[null,null,null,null,null,null,null,null,"",""]
[null,null,null,null,null,null,null,null,"",""]
[null,null,null,null,null,null,null,null,"",""]
[null,null,null,null,null,null,null,null,"",""]
[null,null,null,null,null,null,null,null,"",""]
[null,null,null,null,null,null,null,null,"",""]
[null,null,null,null,null,null,null,null,"",""]
[null,null,null,null,null,null,null,null,"",""]
[null,null,null,null,null,null,null,null,"",""]
[null,null,null,null,null,null,null,null,"",""]
[null,null,null,null,null,null,null,null,"",""]
[null,null,null,null,null,null,null,null,"",""]
[null,null,null,null,null,null,null,null,"",""]
[null,null,null,null,null,null,null,null,"",""]
[null,null,null,null,null,null,null,null,"",""]
[null,null,null,null,null,null,null,null,"",""]
[null,null,null,null,null,null,null,null,"",""]
[null,null,null,null,null,null,null,null,"",""]
[null,null,null,null,null,null,null,null,"",""]
[null,null,null,null,null,null,null,null,"",""]
[null,null,null,null,null,null,null,null,"",""]
[null,null,null,null,null,null,null,null,"",""]
[null,null,null,null,null,null,null,null,"",""]
[null,null,null,null,null,null,null,null,"",""]
[null,null,null,null,null,null,null,null,"",""]
[null,null,null,null,null,null,null,null,"",""]
[null,null,null,null,null,null,null,null,"",""]
[null,null,null,null,null,null,null,null,"",""]
[null,null,null,null,null,null,null,null,"",""]
[null,null,null,null,null,null,null,null,"",""]
[null,null,null,null,null,null,null,null,"",""]
[null,null,null,null,null,null,null,null,"",""]
[null,null,null,null,null,null,null,null,"",""]
[null,null,null,null,null,null,null,null,"",""]
[null,null,null,null,null,null,null,null,"",""]
[null,null,null,null,null,null,null,null,"",""]
[null,null,null,null,null,null,null,null,"",""]
[null,null,null,null,null,null,null,null,"",""]
[null,null,null,null,null,null,null,null,"",""]
[null,null,null,null,null,null,null,null,"",""]
[null,null,null,null,null,null,null,null,"",""]
[null,null,null,null,null,null,null,null,"",""]
[null,null,null,null,null,null,null,null,"",""]
[null,null,null,null,null,null,null,null,"",""]
[null,null,null,null,null,null,null,null,"",""]
[null,null,null,null,null,null,null,null,"",""]
[null,null,null,null,null,null,null,null,"",""]
[null,null,null,null,null,null,null,null,"",""]
[null,null,null,null,null,null,null,null,"",""]
[null,null,null,null,null,null,null,null,"",""]
[null,null,null,null,null,null,null,null,"",""]
[null,null,null,null,null,null,null,null,"",""]
[null,null,null,null,null,null,null,null,"",""]
[null,null,null,null,null,null,null,null,"",""]
[null,null,null,null,null,null,null,null,"",""]
[null,null,null,null,null,null,null,null,"",""]
[null,null,null,null,null,null,null,null,"",""]
[null,null,null,null,null,null,null,null,"",""]
[null,null,null,null,null,null,null,null,"",""]
[null,null,null,null,null,null,null,null,"",{"$f":"IF(ISNA(VLOOKUP(I455,$F:$G,2,FALSE)),\"\",VLOOKUP(I455,$F:$G,2,FALSE))","v":""}]
[null,null,null,null,null,null,null,null,{"$f":"IF(F456>0,IF(F456=\"(leeg)\",\"\",IF(F456=\"Eindtotaal\",\"\",F456)),\"\")","v":""},""]
[null,null,null,null,null,null,null,null,"",""]
[null,null,null,null,null,null,null,null,"",""]
[null,null,null,null,null,null,null,null,"",""]
[null,null,null,null,null,null,null,null,"",""]
[null,null,null,null,null,null,null,null,"",""]
[null,null,null,null,null,null,null,null,"",""]
[null,null,null,null,null,null,null,null,"",""]
[null,null,null,null,null,null,null,null,"",""]
[null,null,null,null,null,null,null,null,"",""]
[null,null,null,null,null,null,null,null,"",""]
[null,null,null,null,null,null,null,null,"",""]
[null,null,null,null,null,null,null,null,"",""]
[null,null,null,null,null,null,null,null,"",""]
[null,null,null,null,null,null,null,null,"",""]
[null,null,null,null,null,null,null,null,"",""]
[null,null,null,null,null,null,null,null,"",""]
[null,null,null,null,null,null,null,null,"",""]
[null,null,null,null,null,null,null,null,"",""]
[null,null,null,null,null,null,null,null,"",""]
[null,null,null,null,null,null,null,null,"",""]
[null,null,null,null,null,null,null,null,"",""]
[null,null,null,null,null,null,null,null,"",""]
[null,null,null,null,null,null,null,null,"",""]
[null,null,null,null,null,null,null,null,"",""]
[null,null,null,null,null,null,null,null,"",""]
[null,null,null,null,null,null,null,null,"",""]
[null,null,null,null,null,null,null,null,"",""]
[null,null,null,null,null,null,null,null,"",""]
[null,null,null,null,null,null,null,null,"",""]
[null,null,null,null,null,null,null,null,"",""]
[null,null,null,null,null,null,null,null,"",""]
[null,null,null,null,null,null,null,null,"",""]
[null,null,null,null,null,null,null,null,"",""]
[null,null,null,null,null,null,null,null,"",""]
[null,null,null,null,null,null,null,null,"",""]
[null,null,null,null,null,null,null,null,"",""]
[null,null,null,null,null,null,null,null,"",""]
[null,null,null,null,null,null,null,null,"",""]
[null,null,null,null,null,null,null,null,"",""]
[null,null,null,null,null,null,null,null,"",""]
[null,null,null,null,null,null,null,null,"",""]
[null,null,null,null,null,null,null,null,"",""]
[null,null,null,null,null,null,null,null,"",""]
[null,null,null,null,null,null,null,null,"",""]
[null,null,null,null,null,null,null,null,"",""]
[null,null,null,null,null,null,null,null,"",""]
[null,null,null,null,null,null,null,null,"",""]
[null,null,null,null,null,null,null,null,"",""]
[null,null,null,null,null,null,null,null,"",""]
[null,null,null,null,null,null,null,null,"",""]
[null,null,null,null,null,null,null,null,"",""]
[null,null,null,null,null,null,null,null,"",""]
[null,null,null,null,null,null,null,null,"",""]
[null,null,null,null,null,null,null,null,"",""]
[null,null,null,null,null,null,null,null,"",""]
[null,null,null,null,null,null,null,null,"",""]
[null,null,null,null,null,null,null,null,"",""]
[null,null,null,null,null,null,null,null,"",""]
[null,null,null,null,null,null,null,null,"",""]
[null,null,null,null,null,null,null,null,"",""]
[null,null,null,null,null,null,null,null,"",""]
[null,null,null,null,null,null,null,null,"",""]
[null,null,null,null,null,null,null,null,"",{"$f":"IF(ISNA(VLOOKUP(I519,$F:$G,2,FALSE)),\"\",VLOOKUP(I519,$F:$G,2,FALSE))","v":""}]
[null,null,null,null,null,null,null,null,{"$f":"IF(F520>0,IF(F520=\"(leeg)\",\"\",IF(F520=\"Eindtotaal\",\"\",F520)),\"\")","v":""},""]
[null,null,null,null,null,null,null,null,"",""]
[null,null,null,null,null,null,null,null,"",""]
[null,null,null,null,null,null,null,null,"",""]
[null,null,null,null,null,null,null,null,"",""]
[null,null,null,null,null,null,null,null,"",""]
[null,null,null,null,null,null,null,null,"",""]
[null,null,null,null,null,null,null,null,"",""]
[null,null,null,null,null,null,null,null,"",""]
[null,null,null,null,null,null,null,null,"",""]
[null,null,null,null,null,null,null,null,"",""]
[null,null,null,null,null,null,null,null,"",""]
[null,null,null,null,null,null,null,null,"",""]
[null,null,null,null,null,null,null,null,"",""]
[null,null,null,null,null,null,null,null,"",""]
[null,null,null,null,null,null,null,null,"",""]
[null,null,null,null,null,null,null,null,"",""]
[null,null,null,null,null,null,null,null,"",""]
[null,null,null,null,null,null,null,null,"",""]
[null,null,null,null,null,null,null,null,"",""]
[null,null,null,null,null,null,null,null,"",""]
[null,null,null,null,null,null,null,null,"",""]
[null,null,null,null,null,null,null,null,"",""]
[null,null,null,null,null,null,null,null,"",""]
[null,null,null,null,null,null,null,null,"",""]
[null,null,null,null,null,null,null,null,"",""]
[null,null,null,null,null,null,null,null,"",""]
[null,null,null,null,null,null,null,null,"",""]
[null,null,null,null,null,null,null,null,"",""]
[null,null,null,null,null,null,null,null,"",""]
[null,null,null,null,null,null,null,null,"",""]
[null,null,null,null,null,null,null,null,"",""]
[null,null,null,null,null,null,null,null,"",""]
[null,null,null,null,null,null,null,null,"",""]
[null,null,null,null,null,null,null,null,"",""]
[null,null,null,null,null,null,null,null,"",""]
[null,null,null,null,null,null,null,null,"",""]
[null,null,null,null,null,null,null,null,"",""]
[null,null,null,null,null,null,null,null,"",""]
[null,null,null,null,null,null,null,null,"",""]
[null,null,null,null,null,null,null,null,"",""]
[null,null,null,null,null,null,null,null,"",""]
[null,null,null,null,null,null,null,null,"",""]
[null,null,null,null,null,null,null,null,"",""]
[null,null,null,null,null,null,null,null,"",""]
[null,null,null,null,null,null,null,null,"",""]
[null,null,null,null,null,null,null,null,"",""]
[null,null,null,null,null,null,null,null,"",""]
[null,null,null,null,null,null,null,null,"",""]
[null,null,null,null,null,null,null,null,"",""]
[null,null,null,null,null,null,null,null,"",""]
[null,null,null,null,null,null,null,null,"",""]
[null,null,null,null,null,null,null,null,"",""]
[null,null,null,null,null,null,null,null,"",""]
[null,null,null,null,null,null,null,null,"",""]
[null,null,null,null,null,null,null,null,"",""]
[null,null,null,null,null,null,null,null,"",""]
[null,null,null,null,null,null,null,null,"",""]
[null,null,null,null,null,null,null,null,"",""]
[null,null,null,null,null,null,null,null,"",""]
[null,null,null,null,null,null,null,null,"",""]
[null,null,null,null,null,null,null,null,"",""]
[null,null,null,null,null,null,null,null,"",""]
[null,null,null,null,null,null,null,null,"",{"$f":"IF(ISNA(VLOOKUP(I583,$F:$G,2,FALSE)),\"\",VLOOKUP(I583,$F:$G,2,FALSE))","v":""}]
[null,null,null,null,null,null,null,null,{"$f":"IF(F584>0,IF(F584=\"(leeg)\",\"\",IF(F584=\"Eindtotaal\",\"\",F584)),\"\")","v":""},""]
[null,null,null,null,null,null,null,null,"",""]
[null,null,null,null,null,null,null,null,"",""]
[null,null,null,null,null,null,null,null,"",""]
[null,null,null,null,null,null,null,null,"",""]
[null,null,null,null,null,null,null,null,"",""]
[null,null,null,null,null,null,null,null,"",""]
[null,null,null,null,null,null,null,null,"",""]
[null,null,null,null,null,null,null,null,"",""]
[null,null,null,null,null,null,null,null,"",""]
[null,null,null,null,null,null,null,null,"",""]
[null,null,null,null,null,null,null,null,"",""]
[null,null,null,null,null,null,null,null,"",""]
[null,null,null,null,null,null,null,null,"",""]
[null,null,null,null,null,null,null,null,"",""]
[null,null,null,null,null,null,null,null,"",""]
[null,null,null,null,null,null,null,null,"",""]
[null,null,null,null,null,null,null,null,"",""]
[null,null,null,null,null,null,null,null,"",""]
[null,null,null,null,null,null,null,null,"",""]
[null,null,null,null,null,null,null,null,"",""]
[null,null,null,null,null,null,null,null,"",""]
[null,null,null,null,null,null,null,null,"",""]
[null,null,null,null,null,null,null,null,"",""]
[null,null,null,null,null,null,null,null,"",""]
[null,null,null,null,null,null,null,null,"",""]
[null,null,null,null,null,null,null,null,"",""]
[null,null,null,null,null,null,null,null,"",""]
[null,null,null,null,null,null,null,null,"",""]
[null,null,null,null,null,null,null,null,"",""]
[null,null,null,null,null,null,null,null,"",""]
[null,null,null,null,null,null,null,null,"",""]
[null,null,null,null,null,null,null,null,"",""]
[null,null,null,null,null,null,null,null,"",""]
[null,null,null,null,null,null,null,null,"",""]
[null,null,null,null,null,null,null,null,"",""]
[null,null,null,null,null,null,null,null,"",""]
[null,null,null,null,null,null,null,null,"",""]
[null,null,null,null,null,null,null,null,"",""]
[null,null,null,null,null,null,null,null,"",""]
[null,null,null,null,null,null,null,null,"",""]
[null,null,null,null,null,null,null,null,"",""]
[null,null,null,null,null,null,null,null,"",""]
[null,null,null,null,null,null,null,null,"",""]
[null,null,null,null,null,null,null,null,"",""]
[null,null,null,null,null,null,null,null,"",""]
[null,null,null,null,null,null,null,null,"",""]
[null,null,null,null,null,null,null,null,"",""]
[null,null,null,null,null,null,null,null,"",""]
[null,null,null,null,null,null,null,null,"",""]
[null,null,null,null,null,null,null,null,"",""]
[null,null,null,null,null,null,null,null,"",""]
[null,null,null,null,null,null,null,null,"",""]
[null,null,null,null,null,null,null,null,"",""]
[null,null,null,null,null,null,null,null,"",""]
[null,null,null,null,null,null,null,null,"",""]
[null,null,null,null,null,null,null,null,"",""]
[null,null,null,null,null,null,null,null,"",""]
[null,null,null,null,null,null,null,null,"",""]
[null,null,null,null,null,null,null,null,"",""]
[null,null,null,null,null,null,null,null,"",""]
[null,null,null,null,null,null,null,null,"",""]
[null,null,null,null,null,null,null,null,"",""]
[null,null,null,null,null,null,null,null,"",{"$f":"IF(ISNA(VLOOKUP(I647,$F:$G,2,FALSE)),\"\",VLOOKUP(I647,$F:$G,2,FALSE))","v":""}]
[null,null,null,null,null,null,null,null,{"$f":"IF(F648>0,IF(F648=\"(leeg)\",\"\",IF(F648=\"Eindtotaal\",\"\",F648)),\"\")","v":""},""]
[null,null,null,null,null,null,null,null,"",""]
[null,null,null,null,null,null,null,null,"",""]
[null,null,null,null,null,null,null,null,"",""]
[null,null,null,null,null,null,null,null,"",""]
[null,null,null,null,null,null,null,null,"",""]
[null,null,null,null,null,null,null,null,"",""]
[null,null,null,null,null,null,null,null,"",""]
[null,null,null,null,null,null,null,null,"",""]
[null,null,null,null,null,null,null,null,"",""]
[null,null,null,null,null,null,null,null,"",""]
[null,null,null,null,null,null,null,null,"",""]
[null,null,null,null,null,null,null,null,"",""]
[null,null,null,null,null,null,null,null,"",""]
[null,null,null,null,null,null,null,null,"",""]
[null,null,null,null,null,null,null,null,"",""]
[null,null,null,null,null,null,null,null,"",""]
[null,null,null,null,null,null,null,null,"",""]
[null,null,null,null,null,null,null,null,"",""]
[null,null,null,null,null,null,null,null,"",""]
[null,null,null,null,null,null,null,null,"",""]
[null,null,null,null,null,null,null,null,"",""]
[null,null,null,null,null,null,null,null,"",""]
[null,null,null,null,null,null,null,null,"",""]
[null,null,null,null,null,null,null,null,"",""]
[null,null,null,null,null,null,null,null,"",""]
[null,null,null,null,null,null,null,null,"",""]
[null,null,null,null,null,null,null,null,"",""]
[null,null,null,null,null,null,null,null,"",""]
[null,null,null,null,null,null,null,null,"",""]
[null,null,null,null,null,null,null,null,"",""]
[null,null,null,null,null,null,null,null,"",""]
[null,null,null,null,null,null,null,null,"",""]
[null,null,null,null,null,null,null,null,"",""]
[null,null,null,null,null,null,null,null,"",""]
[null,null,null,null,null,null,null,null,"",""]
[null,null,null,null,null,null,null,null,"",""]
[null,null,null,null,null,null,null,null,"",""]
[null,null,null,null,null,null,null,null,"",""]
[null,null,null,null,null,null,null,null,"",""]
[null,null,null,null,null,null,null,null,"",""]
[null,null,null,null,null,null,null,null,"",""]
[null,null,null,null,null,null,null,null,"",""]
[null,null,null,null,null,null,null,null,"",""]
[null,null,null,null,null,null,null,null,"",""]
[null,null,null,null,null,null,null,null,"",""]
[null,null,null,null,null,null,null,null,"",""]
[null,null,null,null,null,null,null,null,"",""]
[null,null,null,null,null,null,null,null,"",""]
[null,null,null,null,null,null,null,null,"",""]
[null,null,null,null,null,null,null,null,"",""]
[null,null,null,null,null,null,null,null,"",""]
[null,null,null,null,null,null,null,null,"",""]
[null,null,null,null,null,null,null,null,"",""]
[null,null,null,null,null,null,null,null,"",""]
[null,null,null,null,null,null,null,null,"",""]
[null,null,null,null,null,null,null,null,"",""]
[null,null,null,null,null,null,null,null,"",""]
[null,null,null,null,null,null,null,null,"",""]
[null,null,null,null,null,null,null,null,"",""]
[null,null,null,null,null,null,null,null,"",""]
[null,null,null,null,null,null,null,null,"",""]
[null,null,null,null,null,null,null,null,"",""]
[null,null,null,null,null,null,null,null,"",{"$f":"IF(ISNA(VLOOKUP(I711,$F:$G,2,FALSE)),\"\",VLOOKUP(I711,$F:$G,2,FALSE))","v":""}]
[null,null,null,null,null,null,null,null,{"$f":"IF(F712>0,IF(F712=\"(leeg)\",\"\",IF(F712=\"Eindtotaal\",\"\",F712)),\"\")","v":""},""]
[null,null,null,null,null,null,null,null,"",""]
[null,null,null,null,null,null,null,null,"",""]
[null,null,null,null,null,null,null,null,"",""]
[null,null,null,null,null,null,null,null,"",""]
[null,null,null,null,null,null,null,null,"",""]
[null,null,null,null,null,null,null,null,"",""]
[null,null,null,null,null,null,null,null,"",""]
[null,null,null,null,null,null,null,null,"",""]
[null,null,null,null,null,null,null,null,"",""]
[null,null,null,null,null,null,null,null,"",""]
[null,null,null,null,null,null,null,null,"",""]
[null,null,null,null,null,null,null,null,"",""]
[null,null,null,null,null,null,null,null,"",""]
[null,null,null,null,null,null,null,null,"",""]
[null,null,null,null,null,null,null,null,"",""]
[null,null,null,null,null,null,null,null,"",""]
[null,null,null,null,null,null,null,null,"",""]
[null,null,null,null,null,null,null,null,"",""]
[null,null,null,null,null,null,null,null,"",""]
[null,null,null,null,null,null,null,null,"",""]
[null,null,null,null,null,null,null,null,"",""]
[null,null,null,null,null,null,null,null,"",""]
[null,null,null,null,null,null,null,null,"",""]
[null,null,null,null,null,null,null,null,"",""]
[null,null,null,null,null,null,null,null,"",""]
[null,null,null,null,null,null,null,null,"",""]
[null,null,null,null,null,null,null,null,"",""]
[null,null,null,null,null,null,null,null,"",""]
[null,null,null,null,null,null,null,null,"",""]
[null,null,null,null,null,null,null,null,"",""]
[null,null,null,null,null,null,null,null,"",""]
[null,null,null,null,null,null,null,null,"",""]
[null,null,null,null,null,null,null,null,"",""]
[null,null,null,null,null,null,null,null,"",""]
[null,null,null,null,null,null,null,null,"",""]
[null,null,null,null,null,null,null,null,"",""]
[null,null,null,null,null,null,null,null,"",""]
[null,null,null,null,null,null,null,null,"",""]
[null,null,null,null,null,null,null,null,"",""]
[null,null,null,null,null,null,null,null,"",""]
[null,null,null,null,null,null,null,null,"",""]
[null,null,null,null,null,null,null,null,"",""]
[null,null,null,null,null,null,null,null,"",""]
[null,null,null,null,null,null,null,null,"",""]
[null,null,null,null,null,null,null,null,"",""]
[null,null,null,null,null,null,null,null,"",""]
[null,null,null,null,null,null,null,null,"",""]
[null,null,null,null,null,null,null,null,"",""]
[null,null,null,null,null,null,null,null,"",""]
[null,null,null,null,null,null,null,null,"",""]
[null,null,null,null,null,null,null,null,"",""]
[null,null,null,null,null,null,null,null,"",""]
[null,null,null,null,null,null,null,null,"",""]
[null,null,null,null,null,null,null,null,"",""]
[null,null,null,null,null,null,null,null,"",""]
[null,null,null,null,null,null,null,null,"",""]
[null,null,null,null,null,null,null,null,"",""]
[null,null,null,null,null,null,null,null,"",""]
[null,null,null,null,null,null,null,null,"",""]
[null,null,null,null,null,null,null,null,"",""]
[null,null,null,null,null,null,null,null,"",""]
[null,null,null,null,null,null,null,null,"",""]
[null,null,null,null,null,null,null,null,"",{"$f":"IF(ISNA(VLOOKUP(I775,$F:$G,2,FALSE)),\"\",VLOOKUP(I775,$F:$G,2,FALSE))","v":""}]
[null,null,null,null,null,null,null,null,{"$f":"IF(F776>0,IF(F776=\"(leeg)\",\"\",IF(F776=\"Eindtotaal\",\"\",F776)),\"\")","v":""},""]
[null,null,null,null,null,null,null,null,"",""]
[null,null,null,null,null,null,null,null,"",""]
[null,null,null,null,null,null,null,null,"",""]
[null,null,null,null,null,null,null,null,"",""]
[null,null,null,null,null,null,null,null,"",""]
[null,null,null,null,null,null,null,null,"",""]
[null,null,null,null,null,null,null,null,"",""]
[null,null,null,null,null,null,null,null,"",""]
[null,null,null,null,null,null,null,null,"",""]
[null,null,null,null,null,null,null,null,"",""]
[null,null,null,null,null,null,null,null,"",""]
[null,null,null,null,null,null,null,null,"",""]
[null,null,null,null,null,null,null,null,"",""]
[null,null,null,null,null,null,null,null,"",""]
[null,null,null,null,null,null,null,null,"",""]
[null,null,null,null,null,null,null,null,"",""]
[null,null,null,null,null,null,null,null,"",""]
[null,null,null,null,null,null,null,null,"",""]
[null,null,null,null,null,null,null,null,"",""]
[null,null,null,null,null,null,null,null,"",""]
[null,null,null,null,null,null,null,null,"",""]
[null,null,null,null,null,null,null,null,"",""]
[null,null,null,null,null,null,null,null,"",""]
[null,null,null,null,null,null,null,null,"",""]
[null,null,null,null,null,null,null,null,"",""]
[null,null,null,null,null,null,null,null,"",""]
[null,null,null,null,null,null,null,null,"",""]
[null,null,null,null,null,null,null,null,"",""]
[null,null,null,null,null,null,null,null,"",""]
[null,null,null,null,null,null,null,null,"",""]
[null,null,null,null,null,null,null,null,"",""]
[null,null,null,null,null,null,null,null,"",""]
[null,null,null,null,null,null,null,null,"",""]
[null,null,null,null,null,null,null,null,"",""]
[null,null,null,null,null,null,null,null,"",""]
[null,null,null,null,null,null,null,null,"",""]
[null,null,null,null,null,null,null,null,"",""]
[null,null,null,null,null,null,null,null,"",""]
[null,null,null,null,null,null,null,null,"",""]
[null,null,null,null,null,null,null,null,"",""]
[null,null,null,null,null,null,null,null,"",""]
[null,null,null,null,null,null,null,null,"",""]
[null,null,null,null,null,null,null,null,"",""]
[null,null,null,null,null,null,null,null,"",""]
[null,null,null,null,null,null,null,null,"",""]
[null,null,null,null,null,null,null,null,"",""]
[null,null,null,null,null,null,null,null,"",""]
[null,null,null,null,null,null,null,null,"",""]
[null,null,null,null,null,null,null,null,"",""]
[null,null,null,null,null,null,null,null,"",""]
[null,null,null,null,null,null,null,null,"",""]
[null,null,null,null,null,null,null,null,"",""]
[null,null,null,null,null,null,null,null,"",""]
[null,null,null,null,null,null,null,null,"",""]
[null,null,null,null,null,null,null,null,"",""]
[null,null,null,null,null,null,null,null,"",""]
[null,null,null,null,null,null,null,null,"",""]
[null,null,null,null,null,null,null,null,"",""]
[null,null,null,null,null,null,null,null,"",""]
[null,null,null,null,null,null,null,null,"",""]
[null,null,null,null,null,null,null,null,"",""]
[null,null,null,null,null,null,null,null,"",""]
[null,null,null,null,null,null,null,null,"",{"$f":"IF(ISNA(VLOOKUP(I839,$F:$G,2,FALSE)),\"\",VLOOKUP(I839,$F:$G,2,FALSE))","v":""}]
[null,null,null,null,null,null,null,null,{"$f":"IF(F840>0,IF(F840=\"(leeg)\",\"\",IF(F840=\"Eindtotaal\",\"\",F840)),\"\")","v":""},""]
[null,null,null,null,null,null,null,null,"",""]
[null,null,null,null,null,null,null,null,"",""]
[null,null,null,null,null,null,null,null,"",""]
[null,null,null,null,null,null,null,null,"",""]
[null,null,null,null,null,null,null,null,"",""]
[null,null,null,null,null,null,null,null,"",""]
[null,null,null,null,null,null,null,null,"",""]
[null,null,null,null,null,null,null,null,"",""]
[null,null,null,null,null,null,null,null,"",""]
[null,null,null,null,null,null,null,null,"",""]
[null,null,null,null,null,null,null,null,"",""]
[null,null,null,null,null,null,null,null,"",""]
[null,null,null,null,null,null,null,null,"",""]
[null,null,null,null,null,null,null,null,"",""]
[null,null,null,null,null,null,null,null,"",""]
[null,null,null,null,null,null,null,null,"",""]
[null,null,null,null,null,null,null,null,"",""]
[null,null,null,null,null,null,null,null,"",""]
[null,null,null,null,null,null,null,null,"",""]
[null,null,null,null,null,null,null,null,"",""]
[null,null,null,null,null,null,null,null,"",""]
[null,null,null,null,null,null,null,null,"",""]
[null,null,null,null,null,null,null,null,"",""]
[null,null,null,null,null,null,null,null,"",""]
[null,null,null,null,null,null,null,null,"",""]
[null,null,null,null,null,null,null,null,"",""]
[null,null,null,null,null,null,null,null,"",""]
[null,null,null,null,null,null,null,null,"",""]
[null,null,null,null,null,null,null,null,"",""]
[null,null,null,null,null,null,null,null,"",""]
[null,null,null,null,null,null,null,null,"",""]
[null,null,null,null,null,null,null,null,"",""]
[null,null,null,null,null,null,null,null,"",""]
[null,null,null,null,null,null,null,null,"",""]
[null,null,null,null,null,null,null,null,"",""]
[null,null,null,null,null,null,null,null,"",""]
[null,null,null,null,null,null,null,null,"",""]
[null,null,null,null,null,null,null,null,"",""]
[null,null,null,null,null,null,null,null,"",""]
[null,null,null,null,null,null,null,null,"",""]
[null,null,null,null,null,null,null,null,"",""]
[null,null,null,null,null,null,null,null,"",""]
[null,null,null,null,null,null,null,null,"",""]
[null,null,null,null,null,null,null,null,"",""]
[null,null,null,null,null,null,null,null,"",""]
[null,null,null,null,null,null,null,null,"",""]
[null,null,null,null,null,null,null,null,"",""]
[null,null,null,null,null,null,null,null,"",""]
[null,null,null,null,null,null,null,null,"",""]
[null,null,null,null,null,null,null,null,"",""]
[null,null,null,null,null,null,null,null,"",""]
[null,null,null,null,null,null,null,null,"",""]
[null,null,null,null,null,null,null,null,"",""]
[null,null,null,null,null,null,null,null,"",""]
[null,null,null,null,null,null,null,null,"",""]
[null,null,null,null,null,null,null,null,"",""]
[null,null,null,null,null,null,null,null,"",""]
[null,null,null,null,null,null,null,null,"",""]
[null,null,null,null,null,null,null,null,"",""]
[null,null,null,null,null,null,null,null,"",""]
[null,null,null,null,null,null,null,null,"",""]
[null,null,null,null,null,null,null,null,"",""]
[null,null,null,null,null,null,null,null,"",{"$f":"IF(ISNA(VLOOKUP(I903,$F:$G,2,FALSE)),\"\",VLOOKUP(I903,$F:$G,2,FALSE))","v":""}]
[null,null,null,null,null,null,null,null,{"$f":"IF(F904>0,IF(F904=\"(leeg)\",\"\",IF(F904=\"Eindtotaal\",\"\",F904)),\"\")","v":""},""]
[null,null,null,null,null,null,null,null,"",""]
[null,null,null,null,null,null,null,null,"",""]
[null,null,null,null,null,null,null,null,"",""]
[null,null,null,null,null,null,null,null,"",""]
[null,null,null,null,null,null,null,null,"",""]
[null,null,null,null,null,null,null,null,"",""]
[null,null,null,null,null,null,null,null,"",""]
[null,null,null,null,null,null,null,null,"",""]
[null,null,null,null,null,null,null,null,"",""]
[null,null,null,null,null,null,null,null,"",""]
[null,null,null,null,null,null,null,null,"",""]
[null,null,null,null,null,null,null,null,"",""]
[null,null,null,null,null,null,null,null,"",""]
[null,null,null,null,null,null,null,null,"",""]
[null,null,null,null,null,null,null,null,"",""]
[null,null,null,null,null,null,null,null,"",""]
[null,null,null,null,null,null,null,null,"",""]
[null,null,null,null,null,null,null,null,"",""]
[null,null,null,null,null,null,null,null,"",""]
[null,null,null,null,null,null,null,null,"",""]
[null,null,null,null,null,null,null,null,"",""]
[null,null,null,null,null,null,null,null,"",""]
[null,null,null,null,null,null,null,null,"",""]
[null,null,null,null,null,null,null,null,"",""]
[null,null,null,null,null,null,null,null,"",""]
[null,null,null,null,null,null,null,null,"",""]
[null,null,null,null,null,null,null,null,"",""]
[null,null,null,null,null,null,null,null,"",""]
[null,null,null,null,null,null,null,null,"",""]
[null,null,null,null,null,null,null,null,"",""]
[null,null,null,null,null,null,null,null,"",""]
[null,null,null,null,null,null,null,null,"",""]
[null,null,null,null,null,null,null,null,"",""]
[null,null,null,null,null,null,null,null,"",""]
[null,null,null,null,null,null,null,null,"",""]
[null,null,null,null,null,null,null,null,"",""]
[null,null,null,null,null,null,null,null,"",""]
[null,null,null,null,null,null,null,null,"",""]
[null,null,null,null,null,null,null,null,"",""]
[null,null,null,null,null,null,null,null,"",""]
[null,null,null,null,null,null,null,null,"",""]
[null,null,null,null,null,null,null,null,"",""]
[null,null,null,null,null,null,null,null,"",""]
[null,null,null,null,null,null,null,null,"",""]
[null,null,null,null,null,null,null,null,"",""]
[null,null,null,null,null,null,null,null,"",""]
[null,null,null,null,null,null,null,null,"",""]
[null,null,null,null,null,null,null,null,"",""]
[null,null,null,null,null,null,null,null,"",""]
[null,null,null,null,null,null,null,null,"",""]
[null,null,null,null,null,null,null,null,"",""]
[null,null,null,null,null,null,null,null,"",""]
[null,null,null,null,null,null,null,null,"",""]
[null,null,null,null,null,null,null,null,"",""]
[null,null,null,null,null,null,null,null,"",""]
[null,null,null,null,null,null,null,null,"",""]
[null,null,null,null,null,null,null,null,"",""]
[null,null,null,null,null,null,null,null,"",""]
[null,null,null,null,null,null,null,null,"",""]
[null,null,null,null,null,null,null,null,"",""]
[null,null,null,null,null,null,null,null,"",""]
[null,null,null,null,null,null,null,null,"",""]
[null,null,null,null,null,null,null,null,"",{"$f":"IF(ISNA(VLOOKUP(I967,$F:$G,2,FALSE)),\"\",VLOOKUP(I967,$F:$G,2,FALSE))","v":""}]
[null,null,null,null,null,null,null,null,{"$f":"IF(F968>0,IF(F968=\"(leeg)\",\"\",IF(F968=\"Eindtotaal\",\"\",F968)),\"\")","v":""},""]
[null,null,null,null,null,null,null,null,"",""]
[null,null,null,null,null,null,null,null,"",""]
[null,null,null,null,null,null,null,null,"",""]
[null,null,null,null,null,null,null,null,"",""]
[null,null,null,null,null,null,null,null,"",""]
[null,null,null,null,null,null,null,null,"",""]
[null,null,null,null,null,null,null,null,"",""]
[null,null,null,null,null,null,null,null,"",""]
[null,null,null,null,null,null,null,null,"",""]
[null,null,null,null,null,null,null,null,"",""]
[null,null,null,null,null,null,null,null,"",""]
[null,null,null,null,null,null,null,null,"",""]
[null,null,null,null,null,null,null,null,"",""]
[null,null,null,null,null,null,null,null,"",""]
[null,null,null,null,null,null,null,null,"",""]
[null,null,null,null,null,null,null,null,"",""]
[null,null,null,null,null,null,null,null,"",""]
[null,null,null,null,null,null,null,null,"",""]
[null,null,null,null,null,null,null,null,"",""]
[null,null,null,null,null,null,null,null,"",""]
[null,null,null,null,null,null,null,null,"",""]
[null,null,null,null,null,null,null,null,"",""]
[null,null,null,null,null,null,null,null,"",""]
[null,null,null,null,null,null,null,null,"",""]
[null,null,null,null,null,null,null,null,"",""]
[null,null,null,null,null,null,null,null,"",""]
[null,null,null,null,null,null,null,null,"",""]
[null,null,null,null,null,null,null,null,"",""]
[null,null,null,null,null,null,null,null,"",""]
[null,null,null,null,null,null,null,null,"",""]
[null,null,null,null,null,null,null,null,"",""]
[null,null,null,null,null,null,null,null,"",""]
[null,null,null,null,null,null,null,null,"",""]
[null,null,null,null,null,null,null,null,"",""]
[null,null,null,null,null,null,null,null,"",""]
[null,null,null,null,null,null,null,null,"",""]
[null,null,null,null,null,null,null,null,"",""]

{"sheet":"DATABASE","index":1,"n_rows":25508,"n_cols":7,"rows_kept":4500,"cut":true,"hidden":false,"merged":[],"bounds":{"rows_first":2000,"rows_last":500,"rows_between":2000,"halvings":0}}
[]
[]
[]
[]
[]
[]
[]
[]
["ECOTAP NUMMER","ONDERDEEL","AANTAL OP VOORRAAD","AFNAMEN AANTAL","MINIM. AANTAL","ARTIKELNUMMER LEVERANCIER","LEVERANCIER"]
[10000001,"Apple iPhone 4S 8GB",20,{"$f":"IFERROR(VLOOKUP(A10,'Gegevens van scanner'!$F$7:$G$250,2,0),0)","v":0},40]
[{"$f":"A10+1","v":10000002},"Apple iPhone 4S 8GB",20,{"$f":"IFERROR(VLOOKUP(A11,'Gegevens van scanner'!$F$7:$G$250,2,0),0)","v":0},40]
[10000003,"Apple iPhone 5C 8GB",20,{"$f":"IFERROR(VLOOKUP(A12,'Gegevens van scanner'!$F$7:$G$250,2,0),0)","v":0},40]
[10000004,"Apple iPhone 5C 8GB",20,{"$f":"IFERROR(VLOOKUP(A13,'Gegevens van scanner'!$F$7:$G$250,2,0),0)","v":0},40]
[10000005,"Apple iPhone 5S 16GB",20,{"$f":"IFERROR(VLOOKUP(A14,'Gegevens van scanner'!$F$7:$G$250,2,0),0)","v":0},40]
[10000006,"Apple iPhone 5S 16GB",20,{"$f":"IFERROR(VLOOKUP(A15,'Gegevens van scanner'!$F$7:$G$250,2,0),0)","v":0},40]
[10000007,"Apple iPhone 5S 32GB",20,{"$f":"IFERROR(VLOOKUP(A16,'Gegevens van scanner'!$F$7:$G$250,2,0),0)","v":0},40]
[10000008,"Apple iPhone 5S 32GB",20,{"$f":"IFERROR(VLOOKUP(A17,'Gegevens van scanner'!$F$7:$G$250,2,0),0)","v":7},40]
[10000009,"Apple iPhone 6 16GB",20,{"$f":"IFERROR(VLOOKUP(A18,'Gegevens van scanner'!$F$7:$G$250,2,0),0)","v":3},40]
[10000010,"Apple iPhone 6 16GB",20,{"$f":"IFERROR(VLOOKUP(A19,'Gegevens van scanner'!$F$7:$G$250,2,0),0)","v":9},40]
[10000011,"Apple iPhone 6 64GB",20,{"$f":"IFERROR(VLOOKUP(A20,'Gegevens van scanner'!$F$7:$G$250,2,0),0)","v":0},40]
[10000012,"Apple iPhone 6 64GB",20,{"$f":"IFERROR(VLOOKUP(A21,'Gegevens van scanner'!$F$7:$G$250,2,0),0)","v":1},40]
[10000013,"Apple iPhone 6 128GB",20,{"$f":"IFERROR(VLOOKUP(A22,'Gegevens van scanner'!$F$7:$G$250,2,0),0)","v":7},40]
[10000014,"Apple iPhone 6 128GB",20,{"$f":"IFERROR(VLOOKUP(A23,'Gegevens van scanner'!$F$7:$G$250,2,0),0)","v":0},40]
[10000015,"Apple iPhone 6 Plus 16GB",20,{"$f":"IFERROR(VLOOKUP(A24,'Gegevens van scanner'!$F$7:$G$250,2,0),0)","v":2},40]
[10000016,"Apple iPhone 6 Plus 16GB",20,{"$f":"IFERROR(VLOOKUP(A25,'Gegevens van scanner'!$F$7:$G$250,2,0),0)","v":14},40]
[10000017,"Apple iPhone 6 Plus 64GB",20,{"$f":"IFERROR(VLOOKUP(A26,'Gegevens van scanner'!$F$7:$G$250,2,0),0)","v":0},40]
[10000018,"Apple iPhone 6 Plus 64GB",20,{"$f":"IFERROR(VLOOKUP(A27,'Gegevens van scanner'!$F$7:$G$250,2,0),0)","v":2},40]
[10000019,"Apple iPhone 6 Plus 128GB",20,{"$f":"IFERROR(VLOOKUP(A28,'Gegevens van scanner'!$F$7:$G$250,2,0),0)","v":3},40]
[10000020,"Apple iPhone 6 Plus 128GB",20,{"$f":"IFERROR(VLOOKUP(A29,'Gegevens van scanner'!$F$7:$G$250,2,0),0)","v":4},40]
[10000021,"BlackBerry Classic",20,{"$f":"IFERROR(VLOOKUP(A30,'Gegevens van scanner'!$F$7:$G$250,2,0),0)","v":11},40]
[10000022,"BlackBerry Classic",20,{"$f":"IFERROR(VLOOKUP(A31,'Gegevens van scanner'!$F$7:$G$250,2,0),0)","v":0},40]
[10000023,"BlackBerry Leap",20,{"$f":"IFERROR(VLOOKUP(A32,'Gegevens van scanner'!$F$7:$G$250,2,0),0)","v":7},40]
[10000024,"BlackBerry Leap",20,{"$f":"IFERROR(VLOOKUP(A33,'Gegevens van scanner'!$F$7:$G$250,2,0),0)","v":8},40]
[10000025,"BlackBerry Passport",20,{"$f":"IFERROR(VLOOKUP(A34,'Gegevens van scanner'!$F$7:$G$250,2,0),0)","v":9},40]
[10000026,"BlackBerry Passport",20,{"$f":"IFERROR(VLOOKUP(A35,'Gegevens van scanner'!$F$7:$G$250,2,0),0)","v":10},40]
[10000027,"CAT B15Q",20,{"$f":"IFERROR(VLOOKUP(A36,'Gegevens van scanner'!$F$7:$G$250,2,0),0)","v":11},40]
[10000028,"CAT B15Q",20,{"$f":"IFERROR(VLOOKUP(A37,'Gegevens van scanner'!$F$7:$G$250,2,0),0)","v":0},40]
[10000029,"CAT S50 4G 8GB",20,{"$f":"IFERROR(VLOOKUP(A38,'Gegevens van scanner'!$F$7:$G$250,2,0),0)","v":0},40]
[10000030,"CAT S50 4G 8GB",20,{"$f":"IFERROR(VLOOKUP(A39,'Gegevens van scanner'!$F$7:$G$250,2,0),0)","v":0},40]
[10000031,"HTC One M8",20,{"$f":"IFERROR(VLOOKUP(A40,'Gegevens van scanner'!$F$7:$G$250,2,0),0)","v":0},40]
[10000032,"HTC One M8",20,{"$f":"IFERROR(VLOOKUP(A41,'Gegevens van scanner'!$F$7:$G$250,2,0),0)","v":0},40]
[10000033,"HTC One M9",20,{"$f":"IFERROR(VLOOKUP(A42,'Gegevens van scanner'!$F$7:$G$250,2,0),0)","v":0},40]
[10000034,"HTC One M9",20,{"$f":"IFERROR(VLOOKUP(A43,'Gegevens van scanner'!$F$7:$G$250,2,0),0)","v":0},40]
[10000035,"HTC One Mini 2 + €50 cashback",20,{"$f":"IFERROR(VLOOKUP(A44,'Gegevens van scanner'!$F$7:$G$250,2,0),0)","v":0},40]
[10000036,"HTC One Mini 2 + €50 cashback",20,{"$f":"IFERROR(VLOOKUP(A45,'Gegevens van scanner'!$F$7:$G$250,2,0),0)","v":0},40]
[10000037,"Huawei Ascend G7",20,{"$f":"IFERROR(VLOOKUP(A46,'Gegevens van scanner'!$F$7:$G$250,2,0),0)","v":0},40]
[10000038,"Huawei Ascend G7",20,{"$f":"IFERROR(VLOOKUP(A47,'Gegevens van scanner'!$F$7:$G$250,2,0),0)","v":0},40]
[10000039,"Huawei Ascend Mate 7",20,{"$f":"IFERROR(VLOOKUP(A48,'Gegevens van scanner'!$F$7:$G$250,2,0),0)","v":0},40]
[10000040,"Huawei Ascend Mate 7",20,{"$f":"IFERROR(VLOOKUP(A49,'Gegevens van scanner'!$F$7:$G$250,2,0),0)","v":0},40]
[10000041,"Huawei Ascend P7 + €50 cashback",20,{"$f":"IFERROR(VLOOKUP(A50,'Gegevens van scanner'!$F$7:$G$250,2,0),0)","v":0},40]
[10000042,"Huawei Ascend P7 + €50 cashback",20,{"$f":"IFERROR(VLOOKUP(A51,'Gegevens van scanner'!$F$7:$G$250,2,0),0)","v":0},40]
[10000043,"Huawei Ascend P8",20,{"$f":"IFERROR(VLOOKUP(A52,'Gegevens van scanner'!$F$7:$G$250,2,0),0)","v":0},40]
[10000044,"Huawei Ascend P8",20,{"$f":"IFERROR(VLOOKUP(A53,'Gegevens van scanner'!$F$7:$G$250,2,0),0)","v":0},40]
[10000045,"Huawei Ascend P8 Lite",20,{"$f":"IFERROR(VLOOKUP(A54,'Gegevens van scanner'!$F$7:$G$250,2,0),0)","v":0},40]
[10000046,"Huawei Ascend P8 Lite",20,{"$f":"IFERROR(VLOOKUP(A55,'Gegevens van scanner'!$F$7:$G$250,2,0),0)","v":0},40]
[10000047,"Huawei Ascend Y330",20,{"$f":"IFERROR(VLOOKUP(A56,'Gegevens van scanner'!$F$7:$G$250,2,0),0)","v":0},40]
[10000048,"LG G3",20,{"$f":"IFERROR(VLOOKUP(A57,'Gegevens van scanner'!$F$7:$G$250,2,0),0)","v":0},40]
[10000049,"LG G3",20,{"$f":"IFERROR(VLOOKUP(A58,'Gegevens van scanner'!$F$7:$G$250,2,0),0)","v":0},40]
[10000050,"LG G3 S",20,{"$f":"IFERROR(VLOOKUP(A59,'Gegevens van scanner'!$F$7:$G$250,2,0),0)","v":0},40]
[10000051,"LG G4 leather met 64GB geheugenkaart",20,{"$f":"IFERROR(VLOOKUP(A60,'Gegevens van scanner'!$F$7:$G$250,2,0),0)","v":0},40]
[10000052,"LG G4 leather met 64GB geheugenkaart",20,{"$f":"IFERROR(VLOOKUP(A61,'Gegevens van scanner'!$F$7:$G$250,2,0),0)","v":0},40]
[10000053,"LG Leon 4G",20,{"$f":"IFERROR(VLOOKUP(A62,'Gegevens van scanner'!$F$7:$G$250,2,0),0)","v":0},40]
[10000054,"LG Magna",20,{"$f":"IFERROR(VLOOKUP(A63,'Gegevens van scanner'!$F$7:$G$250,2,0),0)","v":0},40]
[10000055,"LG Spirit 4G",20,{"$f":"IFERROR(VLOOKUP(A64,'Gegevens van scanner'!$F$7:$G$250,2,0),0)","v":0},40]
[10000056,"Microsoft 435 Lumia",20,{"$f":"IFERROR(VLOOKUP(A65,'Gegevens van scanner'!$F$7:$G$250,2,0),0)","v":0},40]
[10000057,"Microsoft 532 Lumia",20,{"$f":"IFERROR(VLOOKUP(A66,'Gegevens van scanner'!$F$7:$G$250,2,0),0)","v":0},40]
[10000058,"Microsoft 535 Lumia",20,{"$f":"IFERROR(VLOOKUP(A67,'Gegevens van scanner'!$F$7:$G$250,2,0),0)","v":0},40]
[10000059,"Microsoft 640 Lumia",20,{"$f":"IFERROR(VLOOKUP(A68,'Gegevens van scanner'!$F$7:$G$250,2,0),0)","v":0},40]
[10000060,"Microsoft 640 Lumia XL",20,{"$f":"IFERROR(VLOOKUP(A69,'Gegevens van scanner'!$F$7:$G$250,2,0),0)","v":0},40]
[10000061,"Microsoft 640 Lumia XL",20,{"$f":"IFERROR(VLOOKUP(A70,'Gegevens van scanner'!$F$7:$G$250,2,0),0)","v":0},40]
[10000062,"Nokia 735 Lumia",20,{"$f":"IFERROR(VLOOKUP(A71,'Gegevens van scanner'!$F$7:$G$250,2,0),0)","v":0},40]
[10000063,"Nokia 830 Lumia",20,{"$f":"IFERROR(VLOOKUP(A72,'Gegevens van scanner'!$F$7:$G$250,2,0),0)","v":0},40]
[10000064,"Nokia 930 Lumia",20,{"$f":"IFERROR(VLOOKUP(A73,'Gegevens van scanner'!$F$7:$G$250,2,0),0)","v":0},40]
[10000065,"Nokia 930 Lumia",20,{"$f":"IFERROR(VLOOKUP(A74,'Gegevens van scanner'!$F$7:$G$250,2,0),0)","v":0},40]
[{"$f":"A74+1","v":10000066},"Motorola New Moto E",20,{"$f":"IFERROR(VLOOKUP(A75,'Gegevens van scanner'!$F$7:$G$250,2,0),0)","v":0},40]
[10000067,"Motorola New Moto G",20,{"$f":"IFERROR(VLOOKUP(A76,'Gegevens van scanner'!$F$7:$G$250,2,0),0)","v":0},40]
[10000068,"Motorola New Moto G 4G",20,{"$f":"IFERROR(VLOOKUP(A77,'Gegevens van scanner'!$F$7:$G$250,2,0),0)","v":0},40]
[10000069,"Motorola New Moto G 4G",20,{"$f":"IFERROR(VLOOKUP(A78,'Gegevens van scanner'!$F$7:$G$250,2,0),0)","v":0},40]
[10000070,"Samsung Galaxy A3",20,{"$f":"IFERROR(VLOOKUP(A79,'Gegevens van scanner'!$F$7:$G$250,2,0),0)","v":0},40]
[10000071,"Samsung Galaxy A3",20,{"$f":"IFERROR(VLOOKUP(A80,'Gegevens van scanner'!$F$7:$G$250,2,0),0)","v":0},40]
[10000072,"Samsung Galaxy A5",20,{"$f":"IFERROR(VLOOKUP(A81,'Gegevens van scanner'!$F$7:$G$250,2,0),0)","v":0},40]
[10000073,"Samsung Galaxy A5",20,{"$f":"IFERROR(VLOOKUP(A82,'Gegevens van scanner'!$F$7:$G$250,2,0),0)","v":0},40]
[10000074,"Samsung Galaxy A7",20,{"$f":"IFERROR(VLOOKUP(A83,'Gegevens van scanner'!$F$7:$G$250,2,0),0)","v":0},40]
[10000075,"Samsung Galaxy A7",20,{"$f":"IFERROR(VLOOKUP(A84,'Gegevens van scanner'!$F$7:$G$250,2,0),0)","v":0},40]
[10000076,"Samsung Galaxy Core Prime",20,{"$f":"IFERROR(VLOOKUP(A85,'Gegevens van scanner'!$F$7:$G$250,2,0),0)","v":0},40]
[10000077,null,null,{"$f":"IFERROR(VLOOKUP(A86,'Gegevens van scanner'!$F$7:$G$250,2,0),0)","v":0}]
[10000078,null,null,{"$f":"IFERROR(VLOOKUP(A87,'Gegevens van scanner'!$F$7:$G$250,2,0),0)","v":0}]
[10000079,null,null,{"$f":"IFERROR(VLOOKUP(A88,'Gegevens van scanner'!$F$7:$G$250,2,0),0)","v":0}]
[10000080,null,null,{"$f":"IFERROR(VLOOKUP(A89,'Gegevens van scanner'!$F$7:$G$250,2,0),0)","v":0}]
[10000081,null,null,{"$f":"IFERROR(VLOOKUP(A90,'Gegevens van scanner'!$F$7:$G$250,2,0),0)","v":0}]
[10000082,null,null,{"$f":"IFERROR(VLOOKUP(A91,'Gegevens van scanner'!$F$7:$G$250,2,0),0)","v":0}]
[10000083,null,null,{"$f":"IFERROR(VLOOKUP(A92,'Gegevens van scanner'!$F$7:$G$250,2,0),0)","v":0}]
[10000084,null,null,{"$f":"IFERROR(VLOOKUP(A93,'Gegevens van scanner'!$F$7:$G$250,2,0),0)","v":0}]
[10000085,null,null,{"$f":"IFERROR(VLOOKUP(A94,'Gegevens van scanner'!$F$7:$G$250,2,0),0)","v":0}]
[10000086,null,null,{"$f":"IFERROR(VLOOKUP(A95,'Gegevens van scanner'!$F$7:$G$250,2,0),0)","v":0}]
[10000087,null,null,{"$f":"IFERROR(VLOOKUP(A96,'Gegevens van scanner'!$F$7:$G$250,2,0),0)","v":0}]
[10000088,null,null,{"$f":"IFERROR(VLOOKUP(A97,'Gegevens van scanner'!$F$7:$G$250,2,0),0)","v":0}]
[10000089,null,null,{"$f":"IFERROR(VLOOKUP(A98,'Gegevens van scanner'!$F$7:$G$250,2,0),0)","v":0}]
[10000090,null,null,{"$f":"IFERROR(VLOOKUP(A99,'Gegevens van scanner'!$F$7:$G$250,2,0),0)","v":0}]
[10000091,null,null,{"$f":"IFERROR(VLOOKUP(A100,'Gegevens van scanner'!$F$7:$G$250,2,0),0)","v":0}]
[10000092,null,null,{"$f":"IFERROR(VLOOKUP(A101,'Gegevens van scanner'!$F$7:$G$250,2,0),0)","v":0}]
[10000093,null,null,{"$f":"IFERROR(VLOOKUP(A102,'Gegevens van scanner'!$F$7:$G$250,2,0),0)","v":0}]
[10000094,null,null,{"$f":"IFERROR(VLOOKUP(A103,'Gegevens van scanner'!$F$7:$G$250,2,0),0)","v":0}]
[10000095,null,null,{"$f":"IFERROR(VLOOKUP(A104,'Gegevens van scanner'!$F$7:$G$250,2,0),0)","v":0}]
[10000096,null,null,{"$f":"IFERROR(VLOOKUP(A105,'Gegevens van scanner'!$F$7:$G$250,2,0),0)","v":0}]
[10000097,null,null,{"$f":"IFERROR(VLOOKUP(A106,'Gegevens van scanner'!$F$7:$G$250,2,0),0)","v":0}]
[10000098,null,null,{"$f":"IFERROR(VLOOKUP(A107,'Gegevens van scanner'!$F$7:$G$250,2,0),0)","v":0}]
[10000099,null,null,{"$f":"IFERROR(VLOOKUP(A108,'Gegevens van scanner'!$F$7:$G$250,2,0),0)","v":0}]
[10000100,null,null,{"$f":"IFERROR(VLOOKUP(A109,'Gegevens van scanner'!$F$7:$G$250,2,0),0)","v":0}]
[10000101,null,null,{"$f":"IFERROR(VLOOKUP(A110,'Gegevens van scanner'!$F$7:$G$250,2,0),0)","v":0}]
[10000102,null,null,{"$f":"IFERROR(VLOOKUP(A111,'Gegevens van scanner'!$F$7:$G$250,2,0),0)","v":0}]
[10000103,null,null,{"$f":"IFERROR(VLOOKUP(A112,'Gegevens van scanner'!$F$7:$G$250,2,0),0)","v":0}]
[10000104,null,null,{"$f":"IFERROR(VLOOKUP(A113,'Gegevens van scanner'!$F$7:$G$250,2,0),0)","v":0}]
[10000105,null,null,{"$f":"IFERROR(VLOOKUP(A114,'Gegevens van scanner'!$F$7:$G$250,2,0),0)","v":0}]
[10000106,null,null,{"$f":"IFERROR(VLOOKUP(A115,'Gegevens van scanner'!$F$7:$G$250,2,0),0)","v":0}]
[10000107,null,null,{"$f":"IFERROR(VLOOKUP(A116,'Gegevens van scanner'!$F$7:$G$250,2,0),0)","v":0}]
[10000108,null,null,{"$f":"IFERROR(VLOOKUP(A117,'Gegevens van scanner'!$F$7:$G$250,2,0),0)","v":0}]
[10000109,null,null,{"$f":"IFERROR(VLOOKUP(A118,'Gegevens van scanner'!$F$7:$G$250,2,0),0)","v":0}]
[10000110,null,null,{"$f":"IFERROR(VLOOKUP(A119,'Gegevens van scanner'!$F$7:$G$250,2,0),0)","v":0}]
[10000111,null,null,{"$f":"IFERROR(VLOOKUP(A120,'Gegevens van scanner'!$F$7:$G$250,2,0),0)","v":0}]
[10000112,null,null,{"$f":"IFERROR(VLOOKUP(A121,'Gegevens van scanner'!$F$7:$G$250,2,0),0)","v":0}]
[10000113,null,null,{"$f":"IFERROR(VLOOKUP(A122,'Gegevens van scanner'!$F$7:$G$250,2,0),0)","v":0}]
[10000114,null,null,{"$f":"IFERROR(VLOOKUP(A123,'Gegevens van scanner'!$F$7:$G$250,2,0),0)","v":0}]
[10000115,null,null,{"$f":"IFERROR(VLOOKUP(A124,'Gegevens van scanner'!$F$7:$G$250,2,0),0)","v":0}]
[10000116,null,null,{"$f":"IFERROR(VLOOKUP(A125,'Gegevens van scanner'!$F$7:$G$250,2,0),0)","v":0}]
[10000117,null,null,{"$f":"IFERROR(VLOOKUP(A126,'Gegevens van scanner'!$F$7:$G$250,2,0),0)","v":0}]
[10000118,null,null,{"$f":"IFERROR(VLOOKUP(A127,'Gegevens van scanner'!$F$7:$G$250,2,0),0)","v":0}]
[10000119,null,null,{"$f":"IFERROR(VLOOKUP(A128,'Gegevens van scanner'!$F$7:$G$250,2,0),0)","v":0}]
[10000120,null,null,{"$f":"IFERROR(VLOOKUP(A129,'Gegevens van scanner'!$F$7:$G$250,2,0),0)","v":0}]
[10000121,null,null,{"$f":"IFERROR(VLOOKUP(A130,'Gegevens van scanner'!$F$7:$G$250,2,0),0)","v":0}]
[10000122,null,null,{"$f":"IFERROR(VLOOKUP(A131,'Gegevens van scanner'!$F$7:$G$250,2,0),0)","v":0}]
[10000123,null,null,{"$f":"IFERROR(VLOOKUP(A132,'Gegevens van scanner'!$F$7:$G$250,2,0),0)","v":0}]
[10000124,null,null,{"$f":"IFERROR(VLOOKUP(A133,'Gegevens van scanner'!$F$7:$G$250,2,0),0)","v":0}]
[10000125,null,null,{"$f":"IFERROR(VLOOKUP(A134,'Gegevens van scanner'!$F$7:$G$250,2,0),0)","v":0}]
[10000126,null,null,{"$f":"IFERROR(VLOOKUP(A135,'Gegevens van scanner'!$F$7:$G$250,2,0),0)","v":0}]
[10000127,null,null,{"$f":"IFERROR(VLOOKUP(A136,'Gegevens van scanner'!$F$7:$G$250,2,0),0)","v":0}]
[10000128,null,null,{"$f":"IFERROR(VLOOKUP(A137,'Gegevens van scanner'!$F$7:$G$250,2,0),0)","v":0}]
[10000129,null,null,{"$f":"IFERROR(VLOOKUP(A138,'Gegevens van scanner'!$F$7:$G$250,2,0),0)","v":0}]
[{"$f":"A138+1","v":10000130},null,null,{"$f":"IFERROR(VLOOKUP(A139,'Gegevens van scanner'!$F$7:$G$250,2,0),0)","v":0}]
[10000131,null,null,{"$f":"IFERROR(VLOOKUP(A140,'Gegevens van scanner'!$F$7:$G$250,2,0),0)","v":0}]
[10000132,null,null,{"$f":"IFERROR(VLOOKUP(A141,'Gegevens van scanner'!$F$7:$G$250,2,0),0)","v":0}]
[10000133,null,null,{"$f":"IFERROR(VLOOKUP(A142,'Gegevens van scanner'!$F$7:$G$250,2,0),0)","v":0}]
[10000134,null,null,{"$f":"IFERROR(VLOOKUP(A143,'Gegevens van scanner'!$F$7:$G$250,2,0),0)","v":0}]
[10000135,null,null,{"$f":"IFERROR(VLOOKUP(A144,'Gegevens van scanner'!$F$7:$G$250,2,0),0)","v":0}]
[10000136,null,null,{"$f":"IFERROR(VLOOKUP(A145,'Gegevens van scanner'!$F$7:$G$250,2,0),0)","v":0}]
[10000137,null,null,{"$f":"IFERROR(VLOOKUP(A146,'Gegevens van scanner'!$F$7:$G$250,2,0),0)","v":0}]
[10000138,null,null,{"$f":"IFERROR(VLOOKUP(A147,'Gegevens van scanner'!$F$7:$G$250,2,0),0)","v":0}]
[10000139,null,null,{"$f":"IFERROR(VLOOKUP(A148,'Gegevens van scanner'!$F$7:$G$250,2,0),0)","v":0}]
[10000140,null,null,{"$f":"IFERROR(VLOOKUP(A149,'Gegevens van scanner'!$F$7:$G$250,2,0),0)","v":0}]
[10000141,null,null,{"$f":"IFERROR(VLOOKUP(A150,'Gegevens van scanner'!$F$7:$G$250,2,0),0)","v":0}]
[10000142,null,null,{"$f":"IFERROR(VLOOKUP(A151,'Gegevens van scanner'!$F$7:$G$250,2,0),0)","v":0}]
[10000143,null,null,{"$f":"IFERROR(VLOOKUP(A152,'Gegevens van scanner'!$F$7:$G$250,2,0),0)","v":0}]
[10000144,null,null,{"$f":"IFERROR(VLOOKUP(A153,'Gegevens van scanner'!$F$7:$G$250,2,0),0)","v":0}]
[10000145,null,null,{"$f":"IFERROR(VLOOKUP(A154,'Gegevens van scanner'!$F$7:$G$250,2,0),0)","v":0}]
[10000146,null,null,{"$f":"IFERROR(VLOOKUP(A155,'Gegevens van scanner'!$F$7:$G$250,2,0),0)","v":0}]
[10000147,null,null,{"$f":"IFERROR(VLOOKUP(A156,'Gegevens van scanner'!$F$7:$G$250,2,0),0)","v":0}]
[10000148,null,null,{"$f":"IFERROR(VLOOKUP(A157,'Gegevens van scanner'!$F$7:$G$250,2,0),0)","v":0}]
[10000149,null,null,{"$f":"IFERROR(VLOOKUP(A158,'Gegevens van scanner'!$F$7:$G$250,2,0),0)","v":0}]
[10000150,null,null,{"$f":"IFERROR(VLOOKUP(A159,'Gegevens van scanner'!$F$7:$G$250,2,0),0)","v":0}]
[10000151,null,null,{"$f":"IFERROR(VLOOKUP(A160,'Gegevens van scanner'!$F$7:$G$250,2,0),0)","v":0}]
[10000152,null,null,{"$f":"IFERROR(VLOOKUP(A161,'Gegevens van scanner'!$F$7:$G$250,2,0),0)","v":0}]
[10000153,null,null,{"$f":"IFERROR(VLOOKUP(A162,'Gegevens van scanner'!$F$7:$G$250,2,0),0)","v":0}]
[10000154,null,null,{"$f":"IFERROR(VLOOKUP(A163,'Gegevens van scanner'!$F$7:$G$250,2,0),0)","v":0}]
[10000155,null,null,{"$f":"IFERROR(VLOOKUP(A164,'Gegevens van scanner'!$F$7:$G$250,2,0),0)","v":0}]
[10000156,null,null,{"$f":"IFERROR(VLOOKUP(A165,'Gegevens van scanner'!$F$7:$G$250,2,0),0)","v":0}]
[10000157,null,null,{"$f":"IFERROR(VLOOKUP(A166,'Gegevens van scanner'!$F$7:$G$250,2,0),0)","v":0}]
[10000158,null,null,{"$f":"IFERROR(VLOOKUP(A167,'Gegevens van scanner'!$F$7:$G$250,2,0),0)","v":0}]
[10000159,null,null,{"$f":"IFERROR(VLOOKUP(A168,'Gegevens van scanner'!$F$7:$G$250,2,0),0)","v":0}]
[10000160,null,null,{"$f":"IFERROR(VLOOKUP(A169,'Gegevens van scanner'!$F$7:$G$250,2,0),0)","v":0}]
[10000161,null,null,{"$f":"IFERROR(VLOOKUP(A170,'Gegevens van scanner'!$F$7:$G$250,2,0),0)","v":0}]
[10000162,null,null,{"$f":"IFERROR(VLOOKUP(A171,'Gegevens van scanner'!$F$7:$G$250,2,0),0)","v":0}]
[10000163,null,null,{"$f":"IFERROR(VLOOKUP(A172,'Gegevens van scanner'!$F$7:$G$250,2,0),0)","v":0}]
[10000164,null,null,{"$f":"IFERROR(VLOOKUP(A173,'Gegevens van scanner'!$F$7:$G$250,2,0),0)","v":0}]
[10000165,null,null,{"$f":"IFERROR(VLOOKUP(A174,'Gegevens van scanner'!$F$7:$G$250,2,0),0)","v":0}]
[10000166,null,null,{"$f":"IFERROR(VLOOKUP(A175,'Gegevens van scanner'!$F$7:$G$250,2,0),0)","v":0}]
[10000167,null,null,{"$f":"IFERROR(VLOOKUP(A176,'Gegevens van scanner'!$F$7:$G$250,2,0),0)","v":0}]
[10000168,null,null,{"$f":"IFERROR(VLOOKUP(A177,'Gegevens van scanner'!$F$7:$G$250,2,0),0)","v":0}]
[10000169,null,null,{"$f":"IFERROR(VLOOKUP(A178,'Gegevens van scanner'!$F$7:$G$250,2,0),0)","v":0}]
[10000170,null,null,{"$f":"IFERROR(VLOOKUP(A179,'Gegevens van scanner'!$F$7:$G$250,2,0),0)","v":0}]
[10000171,null,null,{"$f":"IFERROR(VLOOKUP(A180,'Gegevens van scanner'!$F$7:$G$250,2,0),0)","v":0}]
[10000172,null,null,{"$f":"IFERROR(VLOOKUP(A181,'Gegevens van scanner'!$F$7:$G$250,2,0),0)","v":0}]
[10000173,null,null,{"$f":"IFERROR(VLOOKUP(A182,'Gegevens van scanner'!$F$7:$G$250,2,0),0)","v":0}]
[10000174,null,null,{"$f":"IFERROR(VLOOKUP(A183,'Gegevens van scanner'!$F$7:$G$250,2,0),0)","v":0}]
[10000175,null,null,{"$f":"IFERROR(VLOOKUP(A184,'Gegevens van scanner'!$F$7:$G$250,2,0),0)","v":0}]
[10000176,null,null,{"$f":"IFERROR(VLOOKUP(A185,'Gegevens van scanner'!$F$7:$G$250,2,0),0)","v":0}]
[10000177,null,null,{"$f":"IFERROR(VLOOKUP(A186,'Gegevens van scanner'!$F$7:$G$250,2,0),0)","v":0}]
[10000178,null,null,{"$f":"IFERROR(VLOOKUP(A187,'Gegevens van scanner'!$F$7:$G$250,2,0),0)","v":0}]
[10000179,null,null,{"$f":"IFERROR(VLOOKUP(A188,'Gegevens van scanner'!$F$7:$G$250,2,0),0)","v":0}]
[10000180,null,null,{"$f":"IFERROR(VLOOKUP(A189,'Gegevens van scanner'!$F$7:$G$250,2,0),0)","v":0}]
[10000181,null,null,{"$f":"IFERROR(VLOOKUP(A190,'Gegevens van scanner'!$F$7:$G$250,2,0),0)","v":0}]
[10000182,null,null,{"$f":"IFERROR(VLOOKUP(A191,'Gegevens van scanner'!$F$7:$G$250,2,0),0)","v":0}]
[10000183,null,null,{"$f":"IFERROR(VLOOKUP(A192,'Gegevens van scanner'!$F$7:$G$250,2,0),0)","v":0}]
[10000184,null,null,{"$f":"IFERROR(VLOOKUP(A193,'Gegevens van scanner'!$F$7:$G$250,2,0),0)","v":0}]
[10000185,null,null,{"$f":"IFERROR(VLOOKUP(A194,'Gegevens van scanner'!$F$7:$G$250,2,0),0)","v":0}]
[10000186,null,null,{"$f":"IFERROR(VLOOKUP(A195,'Gegevens van scanner'!$F$7:$G$250,2,0),0)","v":0}]
[10000187,null,null,{"$f":"IFERROR(VLOOKUP(A196,'Gegevens van scanner'!$F$7:$G$250,2,0),0)","v":0}]
[10000188,null,null,{"$f":"IFERROR(VLOOKUP(A197,'Gegevens van scanner'!$F$7:$G$250,2,0),0)","v":0}]
[10000189,null,null,{"$f":"IFERROR(VLOOKUP(A198,'Gegevens van scanner'!$F$7:$G$250,2,0),0)","v":0}]
[10000190,null,null,{"$f":"IFERROR(VLOOKUP(A199,'Gegevens van scanner'!$F$7:$G$250,2,0),0)","v":0}]
[10000191,null,null,{"$f":"IFERROR(VLOOKUP(A200,'Gegevens van scanner'!$F$7:$G$250,2,0),0)","v":0}]
[10000192,null,null,{"$f":"IFERROR(VLOOKUP(A201,'Gegevens van scanner'!$F$7:$G$250,2,0),0)","v":0}]
[10000193,null,null,{"$f":"IFERROR(VLOOKUP(A202,'Gegevens van scanner'!$F$7:$G$250,2,0),0)","v":0}]
[{"$f":"A202+1","v":10000194},null,null,{"$f":"IFERROR(VLOOKUP(A203,'Gegevens van scanner'!$F$7:$G$250,2,0),0)","v":0}]
[10000195,null,null,{"$f":"IFERROR(VLOOKUP(A204,'Gegevens van scanner'!$F$7:$G$250,2,0),0)","v":0}]
[10000196,null,null,{"$f":"IFERROR(VLOOKUP(A205,'Gegevens van scanner'!$F$7:$G$250,2,0),0)","v":0}]
[10000197,null,null,{"$f":"IFERROR(VLOOKUP(A206,'Gegevens van scanner'!$F$7:$G$250,2,0),0)","v":0}]
[10000198,null,null,{"$f":"IFERROR(VLOOKUP(A207,'Gegevens van scanner'!$F$7:$G$250,2,0),0)","v":0}]
[10000199,null,null,{"$f":"IFERROR(VLOOKUP(A208,'Gegevens van scanner'!$F$7:$G$250,2,0),0)","v":0}]
[10000200,null,null,{"$f":"IFERROR(VLOOKUP(A209,'Gegevens van scanner'!$F$7:$G$250,2,0),0)","v":0}]
[10000201,null,null,{"$f":"IFERROR(VLOOKUP(A210,'Gegevens van scanner'!$F$7:$G$250,2,0),0)","v":0}]
[10000202,null,null,{"$f":"IFERROR(VLOOKUP(A211,'Gegevens van scanner'!$F$7:$G$250,2,0),0)","v":0}]
[10000203,null,null,{"$f":"IFERROR(VLOOKUP(A212,'Gegevens van scanner'!$F$7:$G$250,2,0),0)","v":0}]
[10000204,null,null,{"$f":"IFERROR(VLOOKUP(A213,'Gegevens van scanner'!$F$7:$G$250,2,0),0)","v":0}]
[10000205,null,null,{"$f":"IFERROR(VLOOKUP(A214,'Gegevens van scanner'!$F$7:$G$250,2,0),0)","v":0}]
[10000206,null,null,{"$f":"IFERROR(VLOOKUP(A215,'Gegevens van scanner'!$F$7:$G$250,2,0),0)","v":0}]
[10000207,null,null,{"$f":"IFERROR(VLOOKUP(A216,'Gegevens van scanner'!$F$7:$G$250,2,0),0)","v":0}]
[10000208,null,null,{"$f":"IFERROR(VLOOKUP(A217,'Gegevens van scanner'!$F$7:$G$250,2,0),0)","v":0}]
[10000209,null,null,{"$f":"IFERROR(VLOOKUP(A218,'Gegevens van scanner'!$F$7:$G$250,2,0),0)","v":0}]
[10000210,null,null,{"$f":"IFERROR(VLOOKUP(A219,'Gegevens van scanner'!$F$7:$G$250,2,0),0)","v":0}]
[10000211,null,null,{"$f":"IFERROR(VLOOKUP(A220,'Gegevens van scanner'!$F$7:$G$250,2,0),0)","v":0}]
[10000212,null,null,{"$f":"IFERROR(VLOOKUP(A221,'Gegevens van scanner'!$F$7:$G$250,2,0),0)","v":0}]
[10000213,null,null,{"$f":"IFERROR(VLOOKUP(A222,'Gegevens van scanner'!$F$7:$G$250,2,0),0)","v":0}]
[10000214,null,null,{"$f":"IFERROR(VLOOKUP(A223,'Gegevens van scanner'!$F$7:$G$250,2,0),0)","v":0}]
[10000215,null,null,{"$f":"IFERROR(VLOOKUP(A224,'Gegevens van scanner'!$F$7:$G$250,2,0),0)","v":0}]
[10000216,null,null,{"$f":"IFERROR(VLOOKUP(A225,'Gegevens van scanner'!$F$7:$G$250,2,0),0)","v":0}]
[10000217,null,null,{"$f":"IFERROR(VLOOKUP(A226,'Gegevens van scanner'!$F$7:$G$250,2,0),0)","v":0}]
[10000218,null,null,{"$f":"IFERROR(VLOOKUP(A227,'Gegevens van scanner'!$F$7:$G$250,2,0),0)","v":0}]
[10000219,null,null,{"$f":"IFERROR(VLOOKUP(A228,'Gegevens van scanner'!$F$7:$G$250,2,0),0)","v":0}]
[10000220,null,null,{"$f":"IFERROR(VLOOKUP(A229,'Gegevens van scanner'!$F$7:$G$250,2,0),0)","v":0}]
[10000221,null,null,{"$f":"IFERROR(VLOOKUP(A230,'Gegevens van scanner'!$F$7:$G$250,2,0),0)","v":0}]
[10000222,null,null,{"$f":"IFERROR(VLOOKUP(A231,'Gegevens van scanner'!$F$7:$G$250,2,0),0)","v":0}]
[10000223,null,null,{"$f":"IFERROR(VLOOKUP(A232,'Gegevens van scanner'!$F$7:$G$250,2,0),0)","v":0}]
[10000224,null,null,{"$f":"IFERROR(VLOOKUP(A233,'Gegevens van scanner'!$F$7:$G$250,2,0),0)","v":0}]
[10000225,null,null,{"$f":"IFERROR(VLOOKUP(A234,'Gegevens van scanner'!$F$7:$G$250,2,0),0)","v":0}]
[10000226,null,null,{"$f":"IFERROR(VLOOKUP(A235,'Gegevens van scanner'!$F$7:$G$250,2,0),0)","v":0}]
[10000227,null,null,{"$f":"IFERROR(VLOOKUP(A236,'Gegevens van scanner'!$F$7:$G$250,2,0),0)","v":0}]
[10000228,null,null,{"$f":"IFERROR(VLOOKUP(A237,'Gegevens van scanner'!$F$7:$G$250,2,0),0)","v":0}]
[10000229,null,null,{"$f":"IFERROR(VLOOKUP(A238,'Gegevens van scanner'!$F$7:$G$250,2,0),0)","v":0}]
[10000230,null,null,{"$f":"IFERROR(VLOOKUP(A239,'Gegevens van scanner'!$F$7:$G$250,2,0),0)","v":0}]
[10000231,null,null,{"$f":"IFERROR(VLOOKUP(A240,'Gegevens van scanner'!$F$7:$G$250,2,0),0)","v":0}]
[10000232,null,null,{"$f":"IFERROR(VLOOKUP(A241,'Gegevens van scanner'!$F$7:$G$250,2,0),0)","v":0}]
[10000233,null,null,{"$f":"IFERROR(VLOOKUP(A242,'Gegevens van scanner'!$F$7:$G$250,2,0),0)","v":0}]
[10000234,null,null,{"$f":"IFERROR(VLOOKUP(A243,'Gegevens van scanner'!$F$7:$G$250,2,0),0)","v":0}]
[10000235,null,null,{"$f":"IFERROR(VLOOKUP(A244,'Gegevens van scanner'!$F$7:$G$250,2,0),0)","v":0}]
[10000236,null,null,{"$f":"IFERROR(VLOOKUP(A245,'Gegevens van scanner'!$F$7:$G$250,2,0),0)","v":0}]
[10000237,null,null,{"$f":"IFERROR(VLOOKUP(A246,'Gegevens van scanner'!$F$7:$G$250,2,0),0)","v":0}]
[10000238,null,null,{"$f":"IFERROR(VLOOKUP(A247,'Gegevens van scanner'!$F$7:$G$250,2,0),0)","v":0}]
[10000239,null,null,{"$f":"IFERROR(VLOOKUP(A248,'Gegevens van scanner'!$F$7:$G$250,2,0),0)","v":0}]
[10000240,null,null,{"$f":"IFERROR(VLOOKUP(A249,'Gegevens van scanner'!$F$7:$G$250,2,0),0)","v":0}]
[10000241,null,null,{"$f":"IFERROR(VLOOKUP(A250,'Gegevens van scanner'!$F$7:$G$250,2,0),0)","v":0}]
[10000242,null,null,{"$f":"IFERROR(VLOOKUP(A251,'Gegevens van scanner'!$F$7:$G$250,2,0),0)","v":0}]
[10000243,null,null,{"$f":"IFERROR(VLOOKUP(A252,'Gegevens van scanner'!$F$7:$G$250,2,0),0)","v":0}]
[10000244,null,null,{"$f":"IFERROR(VLOOKUP(A253,'Gegevens van scanner'!$F$7:$G$250,2,0),0)","v":0}]
[10000245,null,null,{"$f":"IFERROR(VLOOKUP(A254,'Gegevens van scanner'!$F$7:$G$250,2,0),0)","v":0}]
[10000246,null,null,{"$f":"IFERROR(VLOOKUP(A255,'Gegevens van scanner'!$F$7:$G$250,2,0),0)","v":0}]
[10000247,null,null,{"$f":"IFERROR(VLOOKUP(A256,'Gegevens van scanner'!$F$7:$G$250,2,0),0)","v":0}]
[10000248,null,null,{"$f":"IFERROR(VLOOKUP(A257,'Gegevens van scanner'!$F$7:$G$250,2,0),0)","v":0}]
[10000249,null,null,{"$f":"IFERROR(VLOOKUP(A258,'Gegevens van scanner'!$F$7:$G$250,2,0),0)","v":0}]
[10000250,null,null,{"$f":"IFERROR(VLOOKUP(A259,'Gegevens van scanner'!$F$7:$G$250,2,0),0)","v":0}]
[10000251,null,null,{"$f":"IFERROR(VLOOKUP(A260,'Gegevens van scanner'!$F$7:$G$250,2,0),0)","v":0}]
[10000252,null,null,{"$f":"IFERROR(VLOOKUP(A261,'Gegevens van scanner'!$F$7:$G$250,2,0),0)","v":0}]
[10000253,null,null,{"$f":"IFERROR(VLOOKUP(A262,'Gegevens van scanner'!$F$7:$G$250,2,0),0)","v":0}]
[10000254,null,null,{"$f":"IFERROR(VLOOKUP(A263,'Gegevens van scanner'!$F$7:$G$250,2,0),0)","v":0}]
[10000255,null,null,{"$f":"IFERROR(VLOOKUP(A264,'Gegevens van scanner'!$F$7:$G$250,2,0),0)","v":0}]
[10000256,null,null,{"$f":"IFERROR(VLOOKUP(A265,'Gegevens van scanner'!$F$7:$G$250,2,0),0)","v":0}]
[10000257,null,null,{"$f":"IFERROR(VLOOKUP(A266,'Gegevens van scanner'!$F$7:$G$250,2,0),0)","v":0}]
[{"$f":"A266+1","v":10000258},null,null,{"$f":"IFERROR(VLOOKUP(A267,'Gegevens van scanner'!$F$7:$G$250,2,0),0)","v":0}]
[10000259,null,null,{"$f":"IFERROR(VLOOKUP(A268,'Gegevens van scanner'!$F$7:$G$250,2,0),0)","v":0}]
[10000260,null,null,{"$f":"IFERROR(VLOOKUP(A269,'Gegevens van scanner'!$F$7:$G$250,2,0),0)","v":0}]
[10000261,null,null,{"$f":"IFERROR(VLOOKUP(A270,'Gegevens van scanner'!$F$7:$G$250,2,0),0)","v":0}]
[10000262,null,null,{"$f":"IFERROR(VLOOKUP(A271,'Gegevens van scanner'!$F$7:$G$250,2,0),0)","v":0}]
[10000263,null,null,{"$f":"IFERROR(VLOOKUP(A272,'Gegevens van scanner'!$F$7:$G$250,2,0),0)","v":0}]
[10000264,null,null,{"$f":"IFERROR(VLOOKUP(A273,'Gegevens van scanner'!$F$7:$G$250,2,0),0)","v":0}]
[10000265,null,null,{"$f":"IFERROR(VLOOKUP(A274,'Gegevens van scanner'!$F$7:$G$250,2,0),0)","v":0}]
[10000266,null,null,{"$f":"IFERROR(VLOOKUP(A275,'Gegevens van scanner'!$F$7:$G$250,2,0),0)","v":0}]
[10000267,null,null,{"$f":"IFERROR(VLOOKUP(A276,'Gegevens van scanner'!$F$7:$G$250,2,0),0)","v":0}]
[10000268,null,null,{"$f":"IFERROR(VLOOKUP(A277,'Gegevens van scanner'!$F$7:$G$250,2,0),0)","v":0}]
[10000269,null,null,{"$f":"IFERROR(VLOOKUP(A278,'Gegevens van scanner'!$F$7:$G$250,2,0),0)","v":0}]
[10000270,null,null,{"$f":"IFERROR(VLOOKUP(A279,'Gegevens van scanner'!$F$7:$G$250,2,0),0)","v":0}]
[10000271,null,null,{"$f":"IFERROR(VLOOKUP(A280,'Gegevens van scanner'!$F$7:$G$250,2,0),0)","v":0}]
[10000272,null,null,{"$f":"IFERROR(VLOOKUP(A281,'Gegevens van scanner'!$F$7:$G$250,2,0),0)","v":0}]
[10000273,null,null,{"$f":"IFERROR(VLOOKUP(A282,'Gegevens van scanner'!$F$7:$G$250,2,0),0)","v":0}]
[10000274,null,null,{"$f":"IFERROR(VLOOKUP(A283,'Gegevens van scanner'!$F$7:$G$250,2,0),0)","v":0}]
[10000275,null,null,{"$f":"IFERROR(VLOOKUP(A284,'Gegevens van scanner'!$F$7:$G$250,2,0),0)","v":0}]
[10000276,null,null,{"$f":"IFERROR(VLOOKUP(A285,'Gegevens van scanner'!$F$7:$G$250,2,0),0)","v":0}]
[10000277,null,null,{"$f":"IFERROR(VLOOKUP(A286,'Gegevens van scanner'!$F$7:$G$250,2,0),0)","v":0}]
[10000278,null,null,{"$f":"IFERROR(VLOOKUP(A287,'Gegevens van scanner'!$F$7:$G$250,2,0),0)","v":0}]
[10000279,null,null,{"$f":"IFERROR(VLOOKUP(A288,'Gegevens van scanner'!$F$7:$G$250,2,0),0)","v":0}]
[10000280,null,null,{"$f":"IFERROR(VLOOKUP(A289,'Gegevens van scanner'!$F$7:$G$250,2,0),0)","v":0}]
[10000281,null,null,{"$f":"IFERROR(VLOOKUP(A290,'Gegevens van scanner'!$F$7:$G$250,2,0),0)","v":0}]
[10000282,null,null,{"$f":"IFERROR(VLOOKUP(A291,'Gegevens van scanner'!$F$7:$G$250,2,0),0)","v":0}]
[10000283,null,null,{"$f":"IFERROR(VLOOKUP(A292,'Gegevens van scanner'!$F$7:$G$250,2,0),0)","v":0}]
[10000284,null,null,{"$f":"IFERROR(VLOOKUP(A293,'Gegevens van scanner'!$F$7:$G$250,2,0),0)","v":0}]
[10000285,null,null,{"$f":"IFERROR(VLOOKUP(A294,'Gegevens van scanner'!$F$7:$G$250,2,0),0)","v":0}]
[10000286,null,null,{"$f":"IFERROR(VLOOKUP(A295,'Gegevens van scanner'!$F$7:$G$250,2,0),0)","v":0}]
[10000287,null,null,{"$f":"IFERROR(VLOOKUP(A296,'Gegevens van scanner'!$F$7:$G$250,2,0),0)","v":0}]
[10000288,null,null,{"$f":"IFERROR(VLOOKUP(A297,'Gegevens van scanner'!$F$7:$G$250,2,0),0)","v":0}]
[10000289,null,null,{"$f":"IFERROR(VLOOKUP(A298,'Gegevens van scanner'!$F$7:$G$250,2,0),0)","v":0}]
[10000290,null,null,{"$f":"IFERROR(VLOOKUP(A299,'Gegevens van scanner'!$F$7:$G$250,2,0),0)","v":0}]
[10000291,null,null,{"$f":"IFERROR(VLOOKUP(A300,'Gegevens van scanner'!$F$7:$G$250,2,0),0)","v":0}]
[10000292,null,null,{"$f":"IFERROR(VLOOKUP(A301,'Gegevens van scanner'!$F$7:$G$250,2,0),0)","v":0}]
[10000293,null,null,{"$f":"IFERROR(VLOOKUP(A302,'Gegevens van scanner'!$F$7:$G$250,2,0),0)","v":0}]
[10000294,null,null,{"$f":"IFERROR(VLOOKUP(A303,'Gegevens van scanner'!$F$7:$G$250,2,0),0)","v":0}]
[10000295,null,null,{"$f":"IFERROR(VLOOKUP(A304,'Gegevens van scanner'!$F$7:$G$250,2,0),0)","v":0}]
[10000296,null,null,{"$f":"IFERROR(VLOOKUP(A305,'Gegevens van scanner'!$F$7:$G$250,2,0),0)","v":0}]
[10000297,null,null,{"$f":"IFERROR(VLOOKUP(A306,'Gegevens van scanner'!$F$7:$G$250,2,0),0)","v":0}]
[10000298,null,null,{"$f":"IFERROR(VLOOKUP(A307,'Gegevens van scanner'!$F$7:$G$250,2,0),0)","v":0}]
[10000299,null,null,{"$f":"IFERROR(VLOOKUP(A308,'Gegevens van scanner'!$F$7:$G$250,2,0),0)","v":0}]
[10000300,null,null,{"$f":"IFERROR(VLOOKUP(A309,'Gegevens van scanner'!$F$7:$G$250,2,0),0)","v":0}]
[10000301,null,null,{"$f":"IFERROR(VLOOKUP(A310,'Gegevens van scanner'!$F$7:$G$250,2,0),0)","v":0}]
[10000302,null,null,{"$f":"IFERROR(VLOOKUP(A311,'Gegevens van scanner'!$F$7:$G$250,2,0),0)","v":0}]
[10000303,null,null,{"$f":"IFERROR(VLOOKUP(A312,'Gegevens van scanner'!$F$7:$G$250,2,0),0)","v":0}]
[10000304,null,null,{"$f":"IFERROR(VLOOKUP(A313,'Gegevens van scanner'!$F$7:$G$250,2,0),0)","v":0}]
[10000305,null,null,{"$f":"IFERROR(VLOOKUP(A314,'Gegevens van scanner'!$F$7:$G$250,2,0),0)","v":0}]
[10000306,null,null,{"$f":"IFERROR(VLOOKUP(A315,'Gegevens van scanner'!$F$7:$G$250,2,0),0)","v":0}]
[10000307,null,null,{"$f":"IFERROR(VLOOKUP(A316,'Gegevens van scanner'!$F$7:$G$250,2,0),0)","v":0}]
[10000308,null,null,{"$f":"IFERROR(VLOOKUP(A317,'Gegevens van scanner'!$F$7:$G$250,2,0),0)","v":0}]
[10000309,null,null,{"$f":"IFERROR(VLOOKUP(A318,'Gegevens van scanner'!$F$7:$G$250,2,0),0)","v":0}]
[10000310,null,null,{"$f":"IFERROR(VLOOKUP(A319,'Gegevens van scanner'!$F$7:$G$250,2,0),0)","v":0}]
[10000311,null,null,{"$f":"IFERROR(VLOOKUP(A320,'Gegevens van scanner'!$F$7:$G$250,2,0),0)","v":0}]
[10000312,null,null,{"$f":"IFERROR(VLOOKUP(A321,'Gegevens van scanner'!$F$7:$G$250,2,0),0)","v":0}]
[10000313,null,null,{"$f":"IFERROR(VLOOKUP(A322,'Gegevens van scanner'!$F$7:$G$250,2,0),0)","v":0}]
[10000314,null,null,{"$f":"IFERROR(VLOOKUP(A323,'Gegevens van scanner'!$F$7:$G$250,2,0),0)","v":0}]
[10000315,null,null,{"$f":"IFERROR(VLOOKUP(A324,'Gegevens van scanner'!$F$7:$G$250,2,0),0)","v":0}]
[10000316,null,null,{"$f":"IFERROR(VLOOKUP(A325,'Gegevens van scanner'!$F$7:$G$250,2,0),0)","v":0}]
[10000317,null,null,{"$f":"IFERROR(VLOOKUP(A326,'Gegevens van scanner'!$F$7:$G$250,2,0),0)","v":0}]
[10000318,null,null,{"$f":"IFERROR(VLOOKUP(A327,'Gegevens van scanner'!$F$7:$G$250,2,0),0)","v":0}]
[10000319,null,null,{"$f":"IFERROR(VLOOKUP(A328,'Gegevens van scanner'!$F$7:$G$250,2,0),0)","v":0}]
[10000320,null,null,{"$f":"IFERROR(VLOOKUP(A329,'Gegevens van scanner'!$F$7:$G$250,2,0),0)","v":0}]
[10000321,null,null,{"$f":"IFERROR(VLOOKUP(A330,'Gegevens van scanner'!$F$7:$G$250,2,0),0)","v":0}]
[{"$f":"A330+1","v":10000322},null,null,{"$f":"IFERROR(VLOOKUP(A331,'Gegevens van scanner'!$F$7:$G$250,2,0),0)","v":0}]
[10000323,null,null,{"$f":"IFERROR(VLOOKUP(A332,'Gegevens van scanner'!$F$7:$G$250,2,0),0)","v":0}]
[10000324,null,null,{"$f":"IFERROR(VLOOKUP(A333,'Gegevens van scanner'!$F$7:$G$250,2,0),0)","v":0}]
[10000325,null,null,{"$f":"IFERROR(VLOOKUP(A334,'Gegevens van scanner'!$F$7:$G$250,2,0),0)","v":0}]
[10000326,null,null,{"$f":"IFERROR(VLOOKUP(A335,'Gegevens van scanner'!$F$7:$G$250,2,0),0)","v":0}]
[10000327,null,null,{"$f":"IFERROR(VLOOKUP(A336,'Gegevens van scanner'!$F$7:$G$250,2,0),0)","v":0}]
[10000328,null,null,{"$f":"IFERROR(VLOOKUP(A337,'Gegevens van scanner'!$F$7:$G$250,2,0),0)","v":0}]
[10000329,null,null,{"$f":"IFERROR(VLOOKUP(A338,'Gegevens van scanner'!$F$7:$G$250,2,0),0)","v":0}]
[10000330,null,null,{"$f":"IFERROR(VLOOKUP(A339,'Gegevens van scanner'!$F$7:$G$250,2,0),0)","v":0}]
[10000331,null,null,{"$f":"IFERROR(VLOOKUP(A340,'Gegevens van scanner'!$F$7:$G$250,2,0),0)","v":0}]
[10000332,null,null,{"$f":"IFERROR(VLOOKUP(A341,'Gegevens van scanner'!$F$7:$G$250,2,0),0)","v":0}]
[10000333,null,null,{"$f":"IFERROR(VLOOKUP(A342,'Gegevens van scanner'!$F$7:$G$250,2,0),0)","v":0}]
[10000334,null,null,{"$f":"IFERROR(VLOOKUP(A343,'Gegevens van scanner'!$F$7:$G$250,2,0),0)","v":0}]
[10000335,null,null,{"$f":"IFERROR(VLOOKUP(A344,'Gegevens van scanner'!$F$7:$G$250,2,0),0)","v":0}]
[10000336,null,null,{"$f":"IFERROR(VLOOKUP(A345,'Gegevens van scanner'!$F$7:$G$250,2,0),0)","v":0}]
[10000337,null,null,{"$f":"IFERROR(VLOOKUP(A346,'Gegevens van scanner'!$F$7:$G$250,2,0),0)","v":0}]
[10000338,null,null,{"$f":"IFERROR(VLOOKUP(A347,'Gegevens van scanner'!$F$7:$G$250,2,0),0)","v":0}]
[10000339,null,null,{"$f":"IFERROR(VLOOKUP(A348,'Gegevens van scanner'!$F$7:$G$250,2,0),0)","v":0}]
[10000340,null,null,{"$f":"IFERROR(VLOOKUP(A349,'Gegevens van scanner'!$F$7:$G$250,2,0),0)","v":0}]
[10000341,null,null,{"$f":"IFERROR(VLOOKUP(A350,'Gegevens van scanner'!$F$7:$G$250,2,0),0)","v":0}]
[10000342,null,null,{"$f":"IFERROR(VLOOKUP(A351,'Gegevens van scanner'!$F$7:$G$250,2,0),0)","v":0}]
[10000343,null,null,{"$f":"IFERROR(VLOOKUP(A352,'Gegevens van scanner'!$F$7:$G$250,2,0),0)","v":0}]
[10000344,null,null,{"$f":"IFERROR(VLOOKUP(A353,'Gegevens van scanner'!$F$7:$G$250,2,0),0)","v":0}]
[10000345,null,null,{"$f":"IFERROR(VLOOKUP(A354,'Gegevens van scanner'!$F$7:$G$250,2,0),0)","v":0}]
[10000346,null,null,{"$f":"IFERROR(VLOOKUP(A355,'Gegevens van scanner'!$F$7:$G$250,2,0),0)","v":0}]
[10000347,null,null,{"$f":"IFERROR(VLOOKUP(A356,'Gegevens van scanner'!$F$7:$G$250,2,0),0)","v":0}]
[10000348,null,null,{"$f":"IFERROR(VLOOKUP(A357,'Gegevens van scanner'!$F$7:$G$250,2,0),0)","v":0}]
[10000349,null,null,{"$f":"IFERROR(VLOOKUP(A358,'Gegevens van scanner'!$F$7:$G$250,2,0),0)","v":0}]
[10000350,null,null,{"$f":"IFERROR(VLOOKUP(A359,'Gegevens van scanner'!$F$7:$G$250,2,0),0)","v":0}]
[10000351,null,null,{"$f":"IFERROR(VLOOKUP(A360,'Gegevens van scanner'!$F$7:$G$250,2,0),0)","v":0}]
[10000352,null,null,{"$f":"IFERROR(VLOOKUP(A361,'Gegevens van scanner'!$F$7:$G$250,2,0),0)","v":0}]
[10000353,null,null,{"$f":"IFERROR(VLOOKUP(A362,'Gegevens van scanner'!$F$7:$G$250,2,0),0)","v":0}]
[10000354,null,null,{"$f":"IFERROR(VLOOKUP(A363,'Gegevens van scanner'!$F$7:$G$250,2,0),0)","v":0}]
[10000355,null,null,{"$f":"IFERROR(VLOOKUP(A364,'Gegevens van scanner'!$F$7:$G$250,2,0),0)","v":0}]
[10000356,null,null,{"$f":"IFERROR(VLOOKUP(A365,'Gegevens van scanner'!$F$7:$G$250,2,0),0)","v":0}]
[10000357,null,null,{"$f":"IFERROR(VLOOKUP(A366,'Gegevens van scanner'!$F$7:$G$250,2,0),0)","v":0}]
[10000358,null,null,{"$f":"IFERROR(VLOOKUP(A367,'Gegevens van scanner'!$F$7:$G$250,2,0),0)","v":0}]
[10000359,null,null,{"$f":"IFERROR(VLOOKUP(A368,'Gegevens van scanner'!$F$7:$G$250,2,0),0)","v":0}]
[10000360,null,null,{"$f":"IFERROR(VLOOKUP(A369,'Gegevens van scanner'!$F$7:$G$250,2,0),0)","v":0}]
[10000361,null,null,{"$f":"IFERROR(VLOOKUP(A370,'Gegevens van scanner'!$F$7:$G$250,2,0),0)","v":0}]
[10000362,null,null,{"$f":"IFERROR(VLOOKUP(A371,'Gegevens van scanner'!$F$7:$G$250,2,0),0)","v":0}]
[10000363,null,null,{"$f":"IFERROR(VLOOKUP(A372,'Gegevens van scanner'!$F$7:$G$250,2,0),0)","v":0}]
[10000364,null,null,{"$f":"IFERROR(VLOOKUP(A373,'Gegevens van scanner'!$F$7:$G$250,2,0),0)","v":0}]
[10000365,null,null,{"$f":"IFERROR(VLOOKUP(A374,'Gegevens van scanner'!$F$7:$G$250,2,0),0)","v":0}]
[10000366,null,null,{"$f":"IFERROR(VLOOKUP(A375,'Gegevens van scanner'!$F$7:$G$250,2,0),0)","v":0}]
[10000367,null,null,{"$f":"IFERROR(VLOOKUP(A376,'Gegevens van scanner'!$F$7:$G$250,2,0),0)","v":0}]
[10000368,null,null,{"$f":"IFERROR(VLOOKUP(A377,'Gegevens van scanner'!$F$7:$G$250,2,0),0)","v":0}]
[10000369,null,null,{"$f":"IFERROR(VLOOKUP(A378,'Gegevens van scanner'!$F$7:$G$250,2,0),0)","v":0}]
[10000370,null,null,{"$f":"IFERROR(VLOOKUP(A379,'Gegevens van scanner'!$F$7:$G$250,2,0),0)","v":0}]
[10000371,null,null,{"$f":"IFERROR(VLOOKUP(A380,'Gegevens van scanner'!$F$7:$G$250,2,0),0)","v":0}]
[10000372,null,null,{"$f":"IFERROR(VLOOKUP(A381,'Gegevens van scanner'!$F$7:$G$250,2,0),0)","v":0}]
[10000373,null,null,{"$f":"IFERROR(VLOOKUP(A382,'Gegevens van scanner'!$F$7:$G$250,2,0),0)","v":0}]
[10000374,null,null,{"$f":"IFERROR(VLOOKUP(A383,'Gegevens van scanner'!$F$7:$G$250,2,0),0)","v":0}]
[10000375,null,null,{"$f":"IFERROR(VLOOKUP(A384,'Gegevens van scanner'!$F$7:$G$250,2,0),0)","v":0}]
[10000376,null,null,{"$f":"IFERROR(VLOOKUP(A385,'Gegevens van scanner'!$F$7:$G$250,2,0),0)","v":0}]
[10000377,null,null,{"$f":"IFERROR(VLOOKUP(A386,'Gegevens van scanner'!$F$7:$G$250,2,0),0)","v":0}]
[10000378,null,null,{"$f":"IFERROR(VLOOKUP(A387,'Gegevens van scanner'!$F$7:$G$250,2,0),0)","v":0}]
[10000379,null,null,{"$f":"IFERROR(VLOOKUP(A388,'Gegevens van scanner'!$F$7:$G$250,2,0),0)","v":0}]
[10000380,null,null,{"$f":"IFERROR(VLOOKUP(A389,'Gegevens van scanner'!$F$7:$G$250,2,0),0)","v":0}]
[10000381,null,null,{"$f":"IFERROR(VLOOKUP(A390,'Gegevens van scanner'!$F$7:$G$250,2,0),0)","v":0}]
[10000382,null,null,{"$f":"IFERROR(VLOOKUP(A391,'Gegevens van scanner'!$F$7:$G$250,2,0),0)","v":0}]
[10000383,null,null,{"$f":"IFERROR(VLOOKUP(A392,'Gegevens van scanner'!$F$7:$G$250,2,0),0)","v":0}]
[10000384,null,null,{"$f":"IFERROR(VLOOKUP(A393,'Gegevens van scanner'!$F$7:$G$250,2,0),0)","v":0}]
[10000385,null,null,{"$f":"IFERROR(VLOOKUP(A394,'Gegevens van scanner'!$F$7:$G$250,2,0),0)","v":0}]
[{"$f":"A394+1","v":10000386},null,null,{"$f":"IFERROR(VLOOKUP(A395,'Gegevens van scanner'!$F$7:$G$250,2,0),0)","v":0}]
[10000387,null,null,{"$f":"IFERROR(VLOOKUP(A396,'Gegevens van scanner'!$F$7:$G$250,2,0),0)","v":0}]
[10000388,null,null,{"$f":"IFERROR(VLOOKUP(A397,'Gegevens van scanner'!$F$7:$G$250,2,0),0)","v":0}]
[10000389,null,null,{"$f":"IFERROR(VLOOKUP(A398,'Gegevens van scanner'!$F$7:$G$250,2,0),0)","v":0}]
[10000390,null,null,{"$f":"IFERROR(VLOOKUP(A399,'Gegevens van scanner'!$F$7:$G$250,2,0),0)","v":0}]
[10000391,null,null,{"$f":"IFERROR(VLOOKUP(A400,'Gegevens van scanner'!$F$7:$G$250,2,0),0)","v":0}]
[10000392,null,null,{"$f":"IFERROR(VLOOKUP(A401,'Gegevens van scanner'!$F$7:$G$250,2,0),0)","v":0}]
[10000393,null,null,{"$f":"IFERROR(VLOOKUP(A402,'Gegevens van scanner'!$F$7:$G$250,2,0),0)","v":0}]
[10000394,null,null,{"$f":"IFERROR(VLOOKUP(A403,'Gegevens van scanner'!$F$7:$G$250,2,0),0)","v":0}]
[10000395,null,null,{"$f":"IFERROR(VLOOKUP(A404,'Gegevens van scanner'!$F$7:$G$250,2,0),0)","v":0}]
[10000396,null,null,{"$f":"IFERROR(VLOOKUP(A405,'Gegevens van scanner'!$F$7:$G$250,2,0),0)","v":0}]
[10000397,null,null,{"$f":"IFERROR(VLOOKUP(A406,'Gegevens van scanner'!$F$7:$G$250,2,0),0)","v":0}]
[10000398,null,null,{"$f":"IFERROR(VLOOKUP(A407,'Gegevens van scanner'!$F$7:$G$250,2,0),0)","v":0}]
[10000399,null,null,{"$f":"IFERROR(VLOOKUP(A408,'Gegevens van scanner'!$F$7:$G$250,2,0),0)","v":0}]
[10000400,null,null,{"$f":"IFERROR(VLOOKUP(A409,'Gegevens van scanner'!$F$7:$G$250,2,0),0)","v":0}]
[10000401,null,null,{"$f":"IFERROR(VLOOKUP(A410,'Gegevens van scanner'!$F$7:$G$250,2,0),0)","v":0}]
[10000402,null,null,{"$f":"IFERROR(VLOOKUP(A411,'Gegevens van scanner'!$F$7:$G$250,2,0),0)","v":0}]
[10000403,null,null,{"$f":"IFERROR(VLOOKUP(A412,'Gegevens van scanner'!$F$7:$G$250,2,0),0)","v":0}]
[10000404,null,null,{"$f":"IFERROR(VLOOKUP(A413,'Gegevens van scanner'!$F$7:$G$250,2,0),0)","v":0}]
[10000405,null,null,{"$f":"IFERROR(VLOOKUP(A414,'Gegevens van scanner'!$F$7:$G$250,2,0),0)","v":0}]
[10000406,null,null,{"$f":"IFERROR(VLOOKUP(A415,'Gegevens van scanner'!$F$7:$G$250,2,0),0)","v":0}]
[10000407,null,null,{"$f":"IFERROR(VLOOKUP(A416,'Gegevens van scanner'!$F$7:$G$250,2,0),0)","v":0}]
[10000408,null,null,{"$f":"IFERROR(VLOOKUP(A417,'Gegevens van scanner'!$F$7:$G$250,2,0),0)","v":0}]
[10000409,null,null,{"$f":"IFERROR(VLOOKUP(A418,'Gegevens van scanner'!$F$7:$G$250,2,0),0)","v":0}]
[10000410,null,null,{"$f":"IFERROR(VLOOKUP(A419,'Gegevens van scanner'!$F$7:$G$250,2,0),0)","v":0}]
[10000411,null,null,{"$f":"IFERROR(VLOOKUP(A420,'Gegevens van scanner'!$F$7:$G$250,2,0),0)","v":0}]
[10000412,null,null,{"$f":"IFERROR(VLOOKUP(A421,'Gegevens van scanner'!$F$7:$G$250,2,0),0)","v":0}]
[10000413,null,null,{"$f":"IFERROR(VLOOKUP(A422,'Gegevens van scanner'!$F$7:$G$250,2,0),0)","v":0}]
[10000414,null,null,{"$f":"IFERROR(VLOOKUP(A423,'Gegevens van scanner'!$F$7:$G$250,2,0),0)","v":0}]
[10000415,null,null,{"$f":"IFERROR(VLOOKUP(A424,'Gegevens van scanner'!$F$7:$G$250,2,0),0)","v":0}]
[10000416,null,null,{"$f":"IFERROR(VLOOKUP(A425,'Gegevens van scanner'!$F$7:$G$250,2,0),0)","v":0}]
[10000417,null,null,{"$f":"IFERROR(VLOOKUP(A426,'Gegevens van scanner'!$F$7:$G$250,2,0),0)","v":0}]
[10000418,null,null,{"$f":"IFERROR(VLOOKUP(A427,'Gegevens van scanner'!$F$7:$G$250,2,0),0)","v":0}]
[10000419,null,null,{"$f":"IFERROR(VLOOKUP(A428,'Gegevens van scanner'!$F$7:$G$250,2,0),0)","v":0}]
[10000420,null,null,{"$f":"IFERROR(VLOOKUP(A429,'Gegevens van scanner'!$F$7:$G$250,2,0),0)","v":0}]
[10000421,null,null,{"$f":"IFERROR(VLOOKUP(A430,'Gegevens van scanner'!$F$7:$G$250,2,0),0)","v":0}]
[10000422,null,null,{"$f":"IFERROR(VLOOKUP(A431,'Gegevens van scanner'!$F$7:$G$250,2,0),0)","v":0}]
[10000423,null,null,{"$f":"IFERROR(VLOOKUP(A432,'Gegevens van scanner'!$F$7:$G$250,2,0),0)","v":0}]
[10000424,null,null,{"$f":"IFERROR(VLOOKUP(A433,'Gegevens van scanner'!$F$7:$G$250,2,0),0)","v":0}]
[10000425,null,null,{"$f":"IFERROR(VLOOKUP(A434,'Gegevens van scanner'!$F$7:$G$250,2,0),0)","v":0}]
[10000426,null,null,{"$f":"IFERROR(VLOOKUP(A435,'Gegevens van scanner'!$F$7:$G$250,2,0),0)","v":0}]
[10000427,null,null,{"$f":"IFERROR(VLOOKUP(A436,'Gegevens van scanner'!$F$7:$G$250,2,0),0)","v":0}]
[10000428,null,null,{"$f":"IFERROR(VLOOKUP(A437,'Gegevens van scanner'!$F$7:$G$250,2,0),0)","v":0}]
[10000429,null,null,{"$f":"IFERROR(VLOOKUP(A438,'Gegevens van scanner'!$F$7:$G$250,2,0),0)","v":0}]
[10000430,null,null,{"$f":"IFERROR(VLOOKUP(A439,'Gegevens van scanner'!$F$7:$G$250,2,0),0)","v":0}]
[10000431,null,null,{"$f":"IFERROR(VLOOKUP(A440,'Gegevens van scanner'!$F$7:$G$250,2,0),0)","v":0}]
[10000432,null,null,{"$f":"IFERROR(VLOOKUP(A441,'Gegevens van scanner'!$F$7:$G$250,2,0),0)","v":0}]
[10000433,null,null,{"$f":"IFERROR(VLOOKUP(A442,'Gegevens van scanner'!$F$7:$G$250,2,0),0)","v":0}]
[10000434,null,null,{"$f":"IFERROR(VLOOKUP(A443,'Gegevens van scanner'!$F$7:$G$250,2,0),0)","v":0}]
[10000435,null,null,{"$f":"IFERROR(VLOOKUP(A444,'Gegevens van scanner'!$F$7:$G$250,2,0),0)","v":0}]
[10000436,null,null,{"$f":"IFERROR(VLOOKUP(A445,'Gegevens van scanner'!$F$7:$G$250,2,0),0)","v":0}]
[10000437,null,null,{"$f":"IFERROR(VLOOKUP(A446,'Gegevens van scanner'!$F$7:$G$250,2,0),0)","v":0}]
[10000438,null,null,{"$f":"IFERROR(VLOOKUP(A447,'Gegevens van scanner'!$F$7:$G$250,2,0),0)","v":0}]
[10000439,null,null,{"$f":"IFERROR(VLOOKUP(A448,'Gegevens van scanner'!$F$7:$G$250,2,0),0)","v":0}]
[10000440,null,null,{"$f":"IFERROR(VLOOKUP(A449,'Gegevens van scanner'!$F$7:$G$250,2,0),0)","v":0}]
[10000441,null,null,{"$f":"IFERROR(VLOOKUP(A450,'Gegevens van scanner'!$F$7:$G$250,2,0),0)","v":0}]
[10000442,null,null,{"$f":"IFERROR(VLOOKUP(A451,'Gegevens van scanner'!$F$7:$G$250,2,0),0)","v":0}]
[10000443,null,null,{"$f":"IFERROR(VLOOKUP(A452,'Gegevens van scanner'!$F$7:$G$250,2,0),0)","v":0}]
[10000444,null,null,{"$f":"IFERROR(VLOOKUP(A453,'Gegevens van scanner'!$F$7:$G$250,2,0),0)","v":0}]
[10000445,null,null,{"$f":"IFERROR(VLOOKUP(A454,'Gegevens van scanner'!$F$7:$G$250,2,0),0)","v":0}]
[10000446,null,null,{"$f":"IFERROR(VLOOKUP(A455,'Gegevens van scanner'!$F$7:$G$250,2,0),0)","v":0}]
[10000447,null,null,{"$f":"IFERROR(VLOOKUP(A456,'Gegevens van scanner'!$F$7:$G$250,2,0),0)","v":0}]
[10000448,null,null,{"$f":"IFERROR(VLOOKUP(A457,'Gegevens van scanner'!$F$7:$G$250,2,0),0)","v":0}]
[10000449,null,null,{"$f":"IFERROR(VLOOKUP(A458,'Gegevens van scanner'!$F$7:$G$250,2,0),0)","v":0}]
[{"$f":"A458+1","v":10000450},null,null,{"$f":"IFERROR(VLOOKUP(A459,'Gegevens van scanner'!$F$7:$G$250,2,0),0)","v":0}]
[10000451,null,null,{"$f":"IFERROR(VLOOKUP(A460,'Gegevens van scanner'!$F$7:$G$250,2,0),0)","v":0}]
[10000452,null,null,{"$f":"IFERROR(VLOOKUP(A461,'Gegevens van scanner'!$F$7:$G$250,2,0),0)","v":0}]
[10000453,null,null,{"$f":"IFERROR(VLOOKUP(A462,'Gegevens van scanner'!$F$7:$G$250,2,0),0)","v":0}]
[10000454,null,null,{"$f":"IFERROR(VLOOKUP(A463,'Gegevens van scanner'!$F$7:$G$250,2,0),0)","v":0}]
[10000455,null,null,{"$f":"IFERROR(VLOOKUP(A464,'Gegevens van scanner'!$F$7:$G$250,2,0),0)","v":0}]
[10000456,null,null,{"$f":"IFERROR(VLOOKUP(A465,'Gegevens van scanner'!$F$7:$G$250,2,0),0)","v":0}]
[10000457,null,null,{"$f":"IFERROR(VLOOKUP(A466,'Gegevens van scanner'!$F$7:$G$250,2,0),0)","v":0}]
[10000458,null,null,{"$f":"IFERROR(VLOOKUP(A467,'Gegevens van scanner'!$F$7:$G$250,2,0),0)","v":0}]
[10000459,null,null,{"$f":"IFERROR(VLOOKUP(A468,'Gegevens van scanner'!$F$7:$G$250,2,0),0)","v":0}]
[10000460,null,null,{"$f":"IFERROR(VLOOKUP(A469,'Gegevens van scanner'!$F$7:$G$250,2,0),0)","v":0}]
[10000461,null,null,{"$f":"IFERROR(VLOOKUP(A470,'Gegevens van scanner'!$F$7:$G$250,2,0),0)","v":0}]
[10000462,null,null,{"$f":"IFERROR(VLOOKUP(A471,'Gegevens van scanner'!$F$7:$G$250,2,0),0)","v":0}]
[10000463,null,null,{"$f":"IFERROR(VLOOKUP(A472,'Gegevens van scanner'!$F$7:$G$250,2,0),0)","v":0}]
[10000464,null,null,{"$f":"IFERROR(VLOOKUP(A473,'Gegevens van scanner'!$F$7:$G$250,2,0),0)","v":0}]
[10000465,null,null,{"$f":"IFERROR(VLOOKUP(A474,'Gegevens van scanner'!$F$7:$G$250,2,0),0)","v":0}]
[10000466,null,null,{"$f":"IFERROR(VLOOKUP(A475,'Gegevens van scanner'!$F$7:$G$250,2,0),0)","v":0}]
[10000467,null,null,{"$f":"IFERROR(VLOOKUP(A476,'Gegevens van scanner'!$F$7:$G$250,2,0),0)","v":0}]
[10000468,null,null,{"$f":"IFERROR(VLOOKUP(A477,'Gegevens van scanner'!$F$7:$G$250,2,0),0)","v":0}]
[10000469,null,null,{"$f":"IFERROR(VLOOKUP(A478,'Gegevens van scanner'!$F$7:$G$250,2,0),0)","v":0}]
[10000470,null,null,{"$f":"IFERROR(VLOOKUP(A479,'Gegevens van scanner'!$F$7:$G$250,2,0),0)","v":0}]
[10000471,null,null,{"$f":"IFERROR(VLOOKUP(A480,'Gegevens van scanner'!$F$7:$G$250,2,0),0)","v":0}]
[10000472,null,null,{"$f":"IFERROR(VLOOKUP(A481,'Gegevens van scanner'!$F$7:$G$250,2,0),0)","v":0}]
[10000473,null,null,{"$f":"IFERROR(VLOOKUP(A482,'Gegevens van scanner'!$F$7:$G$250,2,0),0)","v":0}]
[10000474,null,null,{"$f":"IFERROR(VLOOKUP(A483,'Gegevens van scanner'!$F$7:$G$250,2,0),0)","v":0}]
[10000475,null,null,{"$f":"IFERROR(VLOOKUP(A484,'Gegevens van scanner'!$F$7:$G$250,2,0),0)","v":0}]
[10000476,null,null,{"$f":"IFERROR(VLOOKUP(A485,'Gegevens van scanner'!$F$7:$G$250,2,0),0)","v":0}]
[10000477,null,null,{"$f":"IFERROR(VLOOKUP(A486,'Gegevens van scanner'!$F$7:$G$250,2,0),0)","v":0}]
[10000478,null,null,{"$f":"IFERROR(VLOOKUP(A487,'Gegevens van scanner'!$F$7:$G$250,2,0),0)","v":0}]
[10000479,null,null,{"$f":"IFERROR(VLOOKUP(A488,'Gegevens van scanner'!$F$7:$G$250,2,0),0)","v":0}]
[10000480,null,null,{"$f":"IFERROR(VLOOKUP(A489,'Gegevens van scanner'!$F$7:$G$250,2,0),0)","v":0}]
[10000481,null,null,{"$f":"IFERROR(VLOOKUP(A490,'Gegevens van scanner'!$F$7:$G$250,2,0),0)","v":0}]
[10000482,null,null,{"$f":"IFERROR(VLOOKUP(A491,'Gegevens van scanner'!$F$7:$G$250,2,0),0)","v":0}]
[10000483,null,null,{"$f":"IFERROR(VLOOKUP(A492,'Gegevens van scanner'!$F$7:$G$250,2,0),0)","v":0}]
[10000484,null,null,{"$f":"IFERROR(VLOOKUP(A493,'Gegevens van scanner'!$F$7:$G$250,2,0),0)","v":0}]
[10000485,null,null,{"$f":"IFERROR(VLOOKUP(A494,'Gegevens van scanner'!$F$7:$G$250,2,0),0)","v":0}]
[10000486,null,null,{"$f":"IFERROR(VLOOKUP(A495,'Gegevens van scanner'!$F$7:$G$250,2,0),0)","v":0}]
[10000487,null,null,{"$f":"IFERROR(VLOOKUP(A496,'Gegevens van scanner'!$F$7:$G$250,2,0),0)","v":0}]
[10000488,null,null,{"$f":"IFERROR(VLOOKUP(A497,'Gegevens van scanner'!$F$7:$G$250,2,0),0)","v":0}]
[10000489,null,null,{"$f":"IFERROR(VLOOKUP(A498,'Gegevens van scanner'!$F$7:$G$250,2,0),0)","v":0}]
[10000490,null,null,{"$f":"IFERROR(VLOOKUP(A499,'Gegevens van scanner'!$F$7:$G$250,2,0),0)","v":0}]
[10000491,null,null,{"$f":"IFERROR(VLOOKUP(A500,'Gegevens van scanner'!$F$7:$G$250,2,0),0)","v":0}]
[10000492,null,null,{"$f":"IFERROR(VLOOKUP(A501,'Gegevens van scanner'!$F$7:$G$250,2,0),0)","v":0}]
[10000493,null,null,{"$f":"IFERROR(VLOOKUP(A502,'Gegevens van scanner'!$F$7:$G$250,2,0),0)","v":0}]
[10000494,null,null,{"$f":"IFERROR(VLOOKUP(A503,'Gegevens van scanner'!$F$7:$G$250,2,0),0)","v":0}]
[10000495,null,null,{"$f":"IFERROR(VLOOKUP(A504,'Gegevens van scanner'!$F$7:$G$250,2,0),0)","v":0}]
[10000496,null,null,{"$f":"IFERROR(VLOOKUP(A505,'Gegevens van scanner'!$F$7:$G$250,2,0),0)","v":0}]
[10000497,null,null,{"$f":"IFERROR(VLOOKUP(A506,'Gegevens van scanner'!$F$7:$G$250,2,0),0)","v":0}]
[10000498,null,null,{"$f":"IFERROR(VLOOKUP(A507,'Gegevens van scanner'!$F$7:$G$250,2,0),0)","v":0}]
[10000499,null,null,{"$f":"IFERROR(VLOOKUP(A508,'Gegevens van scanner'!$F$7:$G$250,2,0),0)","v":0}]
[10000500,null,null,{"$f":"IFERROR(VLOOKUP(A509,'Gegevens van scanner'!$F$7:$G$250,2,0),0)","v":0}]
[10000501,null,null,{"$f":"IFERROR(VLOOKUP(A510,'Gegevens van scanner'!$F$7:$G$250,2,0),0)","v":0}]
[10000502,null,null,{"$f":"IFERROR(VLOOKUP(A511,'Gegevens van scanner'!$F$7:$G$250,2,0),0)","v":0}]
[10000503,null,null,{"$f":"IFERROR(VLOOKUP(A512,'Gegevens van scanner'!$F$7:$G$250,2,0),0)","v":0}]
[10000504,null,null,{"$f":"IFERROR(VLOOKUP(A513,'Gegevens van scanner'!$F$7:$G$250,2,0),0)","v":0}]
[10000505,null,null,{"$f":"IFERROR(VLOOKUP(A514,'Gegevens van scanner'!$F$7:$G$250,2,0),0)","v":0}]
[10000506,null,null,{"$f":"IFERROR(VLOOKUP(A515,'Gegevens van scanner'!$F$7:$G$250,2,0),0)","v":0}]
[10000507,null,null,{"$f":"IFERROR(VLOOKUP(A516,'Gegevens van scanner'!$F$7:$G$250,2,0),0)","v":0}]
[10000508,null,null,{"$f":"IFERROR(VLOOKUP(A517,'Gegevens van scanner'!$F$7:$G$250,2,0),0)","v":0}]
[10000509,null,null,{"$f":"IFERROR(VLOOKUP(A518,'Gegevens van scanner'!$F$7:$G$250,2,0),0)","v":0}]
[10000510,null,null,{"$f":"IFERROR(VLOOKUP(A519,'Gegevens van scanner'!$F$7:$G$250,2,0),0)","v":0}]
[10000511,null,null,{"$f":"IFERROR(VLOOKUP(A520,'Gegevens van scanner'!$F$7:$G$250,2,0),0)","v":0}]
[10000512,null,null,{"$f":"IFERROR(VLOOKUP(A521,'Gegevens van scanner'!$F$7:$G$250,2,0),0)","v":0}]
[10000513,null,null,{"$f":"IFERROR(VLOOKUP(A522,'Gegevens van scanner'!$F$7:$G$250,2,0),0)","v":0}]
[{"$f":"A522+1","v":10000514},null,null,{"$f":"IFERROR(VLOOKUP(A523,'Gegevens van scanner'!$F$7:$G$250,2,0),0)","v":0}]
[10000515,null,null,{"$f":"IFERROR(VLOOKUP(A524,'Gegevens van scanner'!$F$7:$G$250,2,0),0)","v":0}]
[10000516,null,null,{"$f":"IFERROR(VLOOKUP(A525,'Gegevens van scanner'!$F$7:$G$250,2,0),0)","v":0}]
[10000517,null,null,{"$f":"IFERROR(VLOOKUP(A526,'Gegevens van scanner'!$F$7:$G$250,2,0),0)","v":0}]
[10000518,null,null,{"$f":"IFERROR(VLOOKUP(A527,'Gegevens van scanner'!$F$7:$G$250,2,0),0)","v":0}]
[10000519,null,null,{"$f":"IFERROR(VLOOKUP(A528,'Gegevens van scanner'!$F$7:$G$250,2,0),0)","v":0}]
[10000520,null,null,{"$f":"IFERROR(VLOOKUP(A529,'Gegevens van scanner'!$F$7:$G$250,2,0),0)","v":0}]
[10000521,null,null,{"$f":"IFERROR(VLOOKUP(A530,'Gegevens van scanner'!$F$7:$G$250,2,0),0)","v":0}]
[10000522,null,null,{"$f":"IFERROR(VLOOKUP(A531,'Gegevens van scanner'!$F$7:$G$250,2,0),0)","v":0}]
[10000523,null,null,{"$f":"IFERROR(VLOOKUP(A532,'Gegevens van scanner'!$F$7:$G$250,2,0),0)","v":0}]
[10000524,null,null,{"$f":"IFERROR(VLOOKUP(A533,'Gegevens van scanner'!$F$7:$G$250,2,0),0)","v":0}]
[10000525,null,null,{"$f":"IFERROR(VLOOKUP(A534,'Gegevens van scanner'!$F$7:$G$250,2,0),0)","v":0}]
[10000526,null,null,{"$f":"IFERROR(VLOOKUP(A535,'Gegevens van scanner'!$F$7:$G$250,2,0),0)","v":0}]
[10000527,null,null,{"$f":"IFERROR(VLOOKUP(A536,'Gegevens van scanner'!$F$7:$G$250,2,0),0)","v":0}]
[10000528,null,null,{"$f":"IFERROR(VLOOKUP(A537,'Gegevens van scanner'!$F$7:$G$250,2,0),0)","v":0}]
[10000529,null,null,{"$f":"IFERROR(VLOOKUP(A538,'Gegevens van scanner'!$F$7:$G$250,2,0),0)","v":0}]
[10000530,null,null,{"$f":"IFERROR(VLOOKUP(A539,'Gegevens van scanner'!$F$7:$G$250,2,0),0)","v":0}]
[10000531,null,null,{"$f":"IFERROR(VLOOKUP(A540,'Gegevens van scanner'!$F$7:$G$250,2,0),0)","v":0}]
[10000532,null,null,{"$f":"IFERROR(VLOOKUP(A541,'Gegevens van scanner'!$F$7:$G$250,2,0),0)","v":0}]
[10000533,null,null,{"$f":"IFERROR(VLOOKUP(A542,'Gegevens van scanner'!$F$7:$G$250,2,0),0)","v":0}]
[10000534,null,null,{"$f":"IFERROR(VLOOKUP(A543,'Gegevens van scanner'!$F$7:$G$250,2,0),0)","v":0}]
[10000535,null,null,{"$f":"IFERROR(VLOOKUP(A544,'Gegevens van scanner'!$F$7:$G$250,2,0),0)","v":0}]
[10000536,null,null,{"$f":"IFERROR(VLOOKUP(A545,'Gegevens van scanner'!$F$7:$G$250,2,0),0)","v":0}]
[10000537,null,null,{"$f":"IFERROR(VLOOKUP(A546,'Gegevens van scanner'!$F$7:$G$250,2,0),0)","v":0}]
[10000538,null,null,{"$f":"IFERROR(VLOOKUP(A547,'Gegevens van scanner'!$F$7:$G$250,2,0),0)","v":0}]
[10000539,null,null,{"$f":"IFERROR(VLOOKUP(A548,'Gegevens van scanner'!$F$7:$G$250,2,0),0)","v":0}]
[10000540,null,null,{"$f":"IFERROR(VLOOKUP(A549,'Gegevens van scanner'!$F$7:$G$250,2,0),0)","v":0}]
[10000541,null,null,{"$f":"IFERROR(VLOOKUP(A550,'Gegevens van scanner'!$F$7:$G$250,2,0),0)","v":0}]
[10000542,null,null,{"$f":"IFERROR(VLOOKUP(A551,'Gegevens van scanner'!$F$7:$G$250,2,0),0)","v":0}]
[10000543,null,null,{"$f":"IFERROR(VLOOKUP(A552,'Gegevens van scanner'!$F$7:$G$250,2,0),0)","v":0}]
[10000544,null,null,{"$f":"IFERROR(VLOOKUP(A553,'Gegevens van scanner'!$F$7:$G$250,2,0),0)","v":0}]
[10000545,null,null,{"$f":"IFERROR(VLOOKUP(A554,'Gegevens van scanner'!$F$7:$G$250,2,0),0)","v":0}]
[10000546,null,null,{"$f":"IFERROR(VLOOKUP(A555,'Gegevens van scanner'!$F$7:$G$250,2,0),0)","v":0}]
[10000547,null,null,{"$f":"IFERROR(VLOOKUP(A556,'Gegevens van scanner'!$F$7:$G$250,2,0),0)","v":0}]
[10000548,null,null,{"$f":"IFERROR(VLOOKUP(A557,'Gegevens van scanner'!$F$7:$G$250,2,0),0)","v":0}]
[10000549,null,null,{"$f":"IFERROR(VLOOKUP(A558,'Gegevens van scanner'!$F$7:$G$250,2,0),0)","v":0}]
[10000550,null,null,{"$f":"IFERROR(VLOOKUP(A559,'Gegevens van scanner'!$F$7:$G$250,2,0),0)","v":0}]
[10000551,null,null,{"$f":"IFERROR(VLOOKUP(A560,'Gegevens van scanner'!$F$7:$G$250,2,0),0)","v":0}]
[10000552,null,null,{"$f":"IFERROR(VLOOKUP(A561,'Gegevens van scanner'!$F$7:$G$250,2,0),0)","v":0}]
[10000553,null,null,{"$f":"IFERROR(VLOOKUP(A562,'Gegevens van scanner'!$F$7:$G$250,2,0),0)","v":0}]
[10000554,null,null,{"$f":"IFERROR(VLOOKUP(A563,'Gegevens van scanner'!$F$7:$G$250,2,0),0)","v":0}]
[10000555,null,null,{"$f":"IFERROR(VLOOKUP(A564,'Gegevens van scanner'!$F$7:$G$250,2,0),0)","v":0}]
[10000556,null,null,{"$f":"IFERROR(VLOOKUP(A565,'Gegevens van scanner'!$F$7:$G$250,2,0),0)","v":0}]
[10000557,null,null,{"$f":"IFERROR(VLOOKUP(A566,'Gegevens van scanner'!$F$7:$G$250,2,0),0)","v":0}]
[10000558,null,null,{"$f":"IFERROR(VLOOKUP(A567,'Gegevens van scanner'!$F$7:$G$250,2,0),0)","v":0}]
[10000559,null,null,{"$f":"IFERROR(VLOOKUP(A568,'Gegevens van scanner'!$F$7:$G$250,2,0),0)","v":0}]
[10000560,null,null,{"$f":"IFERROR(VLOOKUP(A569,'Gegevens van scanner'!$F$7:$G$250,2,0),0)","v":0}]
[10000561,null,null,{"$f":"IFERROR(VLOOKUP(A570,'Gegevens van scanner'!$F$7:$G$250,2,0),0)","v":0}]
[10000562,null,null,{"$f":"IFERROR(VLOOKUP(A571,'Gegevens van scanner'!$F$7:$G$250,2,0),0)","v":0}]
[10000563,null,null,{"$f":"IFERROR(VLOOKUP(A572,'Gegevens van scanner'!$F$7:$G$250,2,0),0)","v":0}]
[10000564,null,null,{"$f":"IFERROR(VLOOKUP(A573,'Gegevens van scanner'!$F$7:$G$250,2,0),0)","v":0}]
[10000565,null,null,{"$f":"IFERROR(VLOOKUP(A574,'Gegevens van scanner'!$F$7:$G$250,2,0),0)","v":0}]
[10000566,null,null,{"$f":"IFERROR(VLOOKUP(A575,'Gegevens van scanner'!$F$7:$G$250,2,0),0)","v":0}]
[10000567,null,null,{"$f":"IFERROR(VLOOKUP(A576,'Gegevens van scanner'!$F$7:$G$250,2,0),0)","v":0}]
[10000568,null,null,{"$f":"IFERROR(VLOOKUP(A577,'Gegevens van scanner'!$F$7:$G$250,2,0),0)","v":0}]
[10000569,null,null,{"$f":"IFERROR(VLOOKUP(A578,'Gegevens van scanner'!$F$7:$G$250,2,0),0)","v":0}]
[10000570,null,null,{"$f":"IFERROR(VLOOKUP(A579,'Gegevens van scanner'!$F$7:$G$250,2,0),0)","v":0}]
[10000571,null,null,{"$f":"IFERROR(VLOOKUP(A580,'Gegevens van scanner'!$F$7:$G$250,2,0),0)","v":0}]
[10000572,null,null,{"$f":"IFERROR(VLOOKUP(A581,'Gegevens van scanner'!$F$7:$G$250,2,0),0)","v":0}]
[10000573,null,null,{"$f":"IFERROR(VLOOKUP(A582,'Gegevens van scanner'!$F$7:$G$250,2,0),0)","v":0}]
[10000574,null,null,{"$f":"IFERROR(VLOOKUP(A583,'Gegevens van scanner'!$F$7:$G$250,2,0),0)","v":0}]
[10000575,null,null,{"$f":"IFERROR(VLOOKUP(A584,'Gegevens van scanner'!$F$7:$G$250,2,0),0)","v":0}]
[10000576,null,null,{"$f":"IFERROR(VLOOKUP(A585,'Gegevens van scanner'!$F$7:$G$250,2,0),0)","v":0}]
[10000577,null,null,{"$f":"IFERROR(VLOOKUP(A586,'Gegevens van scanner'!$F$7:$G$250,2,0),0)","v":0}]
[{"$f":"A586+1","v":10000578},null,null,{"$f":"IFERROR(VLOOKUP(A587,'Gegevens van scanner'!$F$7:$G$250,2,0),0)","v":0}]
[10000579,null,null,{"$f":"IFERROR(VLOOKUP(A588,'Gegevens van scanner'!$F$7:$G$250,2,0),0)","v":0}]
[10000580,null,null,{"$f":"IFERROR(VLOOKUP(A589,'Gegevens van scanner'!$F$7:$G$250,2,0),0)","v":0}]
[10000581,null,null,{"$f":"IFERROR(VLOOKUP(A590,'Gegevens van scanner'!$F$7:$G$250,2,0),0)","v":0}]
[10000582,null,null,{"$f":"IFERROR(VLOOKUP(A591,'Gegevens van scanner'!$F$7:$G$250,2,0),0)","v":0}]
[10000583,null,null,{"$f":"IFERROR(VLOOKUP(A592,'Gegevens van scanner'!$F$7:$G$250,2,0),0)","v":0}]
[10000584,null,null,{"$f":"IFERROR(VLOOKUP(A593,'Gegevens van scanner'!$F$7:$G$250,2,0),0)","v":0}]
[10000585,null,null,{"$f":"IFERROR(VLOOKUP(A594,'Gegevens van scanner'!$F$7:$G$250,2,0),0)","v":0}]
[10000586,null,null,{"$f":"IFERROR(VLOOKUP(A595,'Gegevens van scanner'!$F$7:$G$250,2,0),0)","v":0}]
[10000587,null,null,{"$f":"IFERROR(VLOOKUP(A596,'Gegevens van scanner'!$F$7:$G$250,2,0),0)","v":0}]
[10000588,null,null,{"$f":"IFERROR(VLOOKUP(A597,'Gegevens van scanner'!$F$7:$G$250,2,0),0)","v":0}]
[10000589,null,null,{"$f":"IFERROR(VLOOKUP(A598,'Gegevens van scanner'!$F$7:$G$250,2,0),0)","v":0}]
[10000590,null,null,{"$f":"IFERROR(VLOOKUP(A599,'Gegevens van scanner'!$F$7:$G$250,2,0),0)","v":0}]
[10000591,null,null,{"$f":"IFERROR(VLOOKUP(A600,'Gegevens van scanner'!$F$7:$G$250,2,0),0)","v":0}]
[10000592,null,null,{"$f":"IFERROR(VLOOKUP(A601,'Gegevens van scanner'!$F$7:$G$250,2,0),0)","v":0}]
[10000593,null,null,{"$f":"IFERROR(VLOOKUP(A602,'Gegevens van scanner'!$F$7:$G$250,2,0),0)","v":0}]
[10000594,null,null,{"$f":"IFERROR(VLOOKUP(A603,'Gegevens van scanner'!$F$7:$G$250,2,0),0)","v":0}]
[10000595,null,null,{"$f":"IFERROR(VLOOKUP(A604,'Gegevens van scanner'!$F$7:$G$250,2,0),0)","v":0}]
[10000596,null,null,{"$f":"IFERROR(VLOOKUP(A605,'Gegevens van scanner'!$F$7:$G$250,2,0),0)","v":0}]
[10000597,null,null,{"$f":"IFERROR(VLOOKUP(A606,'Gegevens van scanner'!$F$7:$G$250,2,0),0)","v":0}]
[10000598,null,null,{"$f":"IFERROR(VLOOKUP(A607,'Gegevens van scanner'!$F$7:$G$250,2,0),0)","v":0}]
[10000599,null,null,{"$f":"IFERROR(VLOOKUP(A608,'Gegevens van scanner'!$F$7:$G$250,2,0),0)","v":0}]
[10000600,null,null,{"$f":"IFERROR(VLOOKUP(A609,'Gegevens van scanner'!$F$7:$G$250,2,0),0)","v":0}]
[10000601,null,null,{"$f":"IFERROR(VLOOKUP(A610,'Gegevens van scanner'!$F$7:$G$250,2,0),0)","v":0}]
[10000602,null,null,{"$f":"IFERROR(VLOOKUP(A611,'Gegevens van scanner'!$F$7:$G$250,2,0),0)","v":0}]
[10000603,null,null,{"$f":"IFERROR(VLOOKUP(A612,'Gegevens van scanner'!$F$7:$G$250,2,0),0)","v":0}]
[10000604,null,null,{"$f":"IFERROR(VLOOKUP(A613,'Gegevens van scanner'!$F$7:$G$250,2,0),0)","v":0}]
[10000605,null,null,{"$f":"IFERROR(VLOOKUP(A614,'Gegevens van scanner'!$F$7:$G$250,2,0),0)","v":0}]
[10000606,null,null,{"$f":"IFERROR(VLOOKUP(A615,'Gegevens van scanner'!$F$7:$G$250,2,0),0)","v":0}]
[10000607,null,null,{"$f":"IFERROR(VLOOKUP(A616,'Gegevens van scanner'!$F$7:$G$250,2,0),0)","v":0}]
[10000608,null,null,{"$f":"IFERROR(VLOOKUP(A617,'Gegevens van scanner'!$F$7:$G$250,2,0),0)","v":0}]
[10000609,null,null,{"$f":"IFERROR(VLOOKUP(A618,'Gegevens van scanner'!$F$7:$G$250,2,0),0)","v":0}]
[10000610,null,null,{"$f":"IFERROR(VLOOKUP(A619,'Gegevens van scanner'!$F$7:$G$250,2,0),0)","v":0}]
[10000611,null,null,{"$f":"IFERROR(VLOOKUP(A620,'Gegevens van scanner'!$F$7:$G$250,2,0),0)","v":0}]
[10000612,null,null,{"$f":"IFERROR(VLOOKUP(A621,'Gegevens van scanner'!$F$7:$G$250,2,0),0)","v":0}]
[10000613,null,null,{"$f":"IFERROR(VLOOKUP(A622,'Gegevens van scanner'!$F$7:$G$250,2,0),0)","v":0}]
[10000614,null,null,{"$f":"IFERROR(VLOOKUP(A623,'Gegevens van scanner'!$F$7:$G$250,2,0),0)","v":0}]
[10000615,null,null,{"$f":"IFERROR(VLOOKUP(A624,'Gegevens van scanner'!$F$7:$G$250,2,0),0)","v":0}]
[10000616,null,null,{"$f":"IFERROR(VLOOKUP(A625,'Gegevens van scanner'!$F$7:$G$250,2,0),0)","v":0}]
[10000617,null,null,{"$f":"IFERROR(VLOOKUP(A626,'Gegevens van scanner'!$F$7:$G$250,2,0),0)","v":0}]
[10000618,null,null,{"$f":"IFERROR(VLOOKUP(A627,'Gegevens van scanner'!$F$7:$G$250,2,0),0)","v":0}]
[10000619,null,null,{"$f":"IFERROR(VLOOKUP(A628,'Gegevens van scanner'!$F$7:$G$250,2,0),0)","v":0}]
[10000620,null,null,{"$f":"IFERROR(VLOOKUP(A629,'Gegevens van scanner'!$F$7:$G$250,2,0),0)","v":0}]
[10000621,null,null,{"$f":"IFERROR(VLOOKUP(A630,'Gegevens van scanner'!$F$7:$G$250,2,0),0)","v":0}]
[10000622,null,null,{"$f":"IFERROR(VLOOKUP(A631,'Gegevens van scanner'!$F$7:$G$250,2,0),0)","v":0}]
[10000623,null,null,{"$f":"IFERROR(VLOOKUP(A632,'Gegevens van scanner'!$F$7:$G$250,2,0),0)","v":0}]
[10000624,null,null,{"$f":"IFERROR(VLOOKUP(A633,'Gegevens van scanner'!$F$7:$G$250,2,0),0)","v":0}]
[10000625,null,null,{"$f":"IFERROR(VLOOKUP(A634,'Gegevens van scanner'!$F$7:$G$250,2,0),0)","v":0}]
[10000626,null,null,{"$f":"IFERROR(VLOOKUP(A635,'Gegevens van scanner'!$F$7:$G$250,2,0),0)","v":0}]
[10000627,null,null,{"$f":"IFERROR(VLOOKUP(A636,'Gegevens van scanner'!$F$7:$G$250,2,0),0)","v":0}]
[10000628,null,null,{"$f":"IFERROR(VLOOKUP(A637,'Gegevens van scanner'!$F$7:$G$250,2,0),0)","v":0}]
[10000629,null,null,{"$f":"IFERROR(VLOOKUP(A638,'Gegevens van scanner'!$F$7:$G$250,2,0),0)","v":0}]
[10000630,null,null,{"$f":"IFERROR(VLOOKUP(A639,'Gegevens van scanner'!$F$7:$G$250,2,0),0)","v":0}]
[10000631,null,null,{"$f":"IFERROR(VLOOKUP(A640,'Gegevens van scanner'!$F$7:$G$250,2,0),0)","v":0}]
[10000632,null,null,{"$f":"IFERROR(VLOOKUP(A641,'Gegevens van scanner'!$F$7:$G$250,2,0),0)","v":0}]
[10000633,null,null,{"$f":"IFERROR(VLOOKUP(A642,'Gegevens van scanner'!$F$7:$G$250,2,0),0)","v":0}]
[10000634,null,null,{"$f":"IFERROR(VLOOKUP(A643,'Gegevens van scanner'!$F$7:$G$250,2,0),0)","v":0}]
[10000635,null,null,{"$f":"IFERROR(VLOOKUP(A644,'Gegevens van scanner'!$F$7:$G$250,2,0),0)","v":0}]
[10000636,null,null,{"$f":"IFERROR(VLOOKUP(A645,'Gegevens van scanner'!$F$7:$G$250,2,0),0)","v":0}]
[10000637,null,null,{"$f":"IFERROR(VLOOKUP(A646,'Gegevens van scanner'!$F$7:$G$250,2,0),0)","v":0}]
[10000638,null,null,{"$f":"IFERROR(VLOOKUP(A647,'Gegevens van scanner'!$F$7:$G$250,2,0),0)","v":0}]
[10000639,null,null,{"$f":"IFERROR(VLOOKUP(A648,'Gegevens van scanner'!$F$7:$G$250,2,0),0)","v":0}]
[10000640,null,null,{"$f":"IFERROR(VLOOKUP(A649,'Gegevens van scanner'!$F$7:$G$250,2,0),0)","v":0}]
[10000641,null,null,{"$f":"IFERROR(VLOOKUP(A650,'Gegevens van scanner'!$F$7:$G$250,2,0),0)","v":0}]
[{"$f":"A650+1","v":10000642},null,null,{"$f":"IFERROR(VLOOKUP(A651,'Gegevens van scanner'!$F$7:$G$250,2,0),0)","v":0}]
[10000643,null,null,{"$f":"IFERROR(VLOOKUP(A652,'Gegevens van scanner'!$F$7:$G$250,2,0),0)","v":0}]
[10000644,null,null,{"$f":"IFERROR(VLOOKUP(A653,'Gegevens van scanner'!$F$7:$G$250,2,0),0)","v":0}]
[10000645,null,null,{"$f":"IFERROR(VLOOKUP(A654,'Gegevens van scanner'!$F$7:$G$250,2,0),0)","v":0}]
[10000646,null,null,{"$f":"IFERROR(VLOOKUP(A655,'Gegevens van scanner'!$F$7:$G$250,2,0),0)","v":0}]
[10000647,null,null,{"$f":"IFERROR(VLOOKUP(A656,'Gegevens van scanner'!$F$7:$G$250,2,0),0)","v":0}]
[10000648,null,null,{"$f":"IFERROR(VLOOKUP(A657,'Gegevens van scanner'!$F$7:$G$250,2,0),0)","v":0}]
[10000649,null,null,{"$f":"IFERROR(VLOOKUP(A658,'Gegevens van scanner'!$F$7:$G$250,2,0),0)","v":0}]
[10000650,null,null,{"$f":"IFERROR(VLOOKUP(A659,'Gegevens van scanner'!$F$7:$G$250,2,0),0)","v":0}]
[10000651,null,null,{"$f":"IFERROR(VLOOKUP(A660,'Gegevens van scanner'!$F$7:$G$250,2,0),0)","v":0}]
[10000652,null,null,{"$f":"IFERROR(VLOOKUP(A661,'Gegevens van scanner'!$F$7:$G$250,2,0),0)","v":0}]
[10000653,null,null,{"$f":"IFERROR(VLOOKUP(A662,'Gegevens van scanner'!$F$7:$G$250,2,0),0)","v":0}]
[10000654,null,null,{"$f":"IFERROR(VLOOKUP(A663,'Gegevens van scanner'!$F$7:$G$250,2,0),0)","v":0}]
[10000655,null,null,{"$f":"IFERROR(VLOOKUP(A664,'Gegevens van scanner'!$F$7:$G$250,2,0),0)","v":0}]
[10000656,null,null,{"$f":"IFERROR(VLOOKUP(A665,'Gegevens van scanner'!$F$7:$G$250,2,0),0)","v":0}]
[10000657,null,null,{"$f":"IFERROR(VLOOKUP(A666,'Gegevens van scanner'!$F$7:$G$250,2,0),0)","v":0}]
[10000658,null,null,{"$f":"IFERROR(VLOOKUP(A667,'Gegevens van scanner'!$F$7:$G$250,2,0),0)","v":0}]
[10000659,null,null,{"$f":"IFERROR(VLOOKUP(A668,'Gegevens van scanner'!$F$7:$G$250,2,0),0)","v":0}]
[10000660,null,null,{"$f":"IFERROR(VLOOKUP(A669,'Gegevens van scanner'!$F$7:$G$250,2,0),0)","v":0}]
[10000661,null,null,{"$f":"IFERROR(VLOOKUP(A670,'Gegevens van scanner'!$F$7:$G$250,2,0),0)","v":0}]
[10000662,null,null,{"$f":"IFERROR(VLOOKUP(A671,'Gegevens van scanner'!$F$7:$G$250,2,0),0)","v":0}]
[10000663,null,null,{"$f":"IFERROR(VLOOKUP(A672,'Gegevens van scanner'!$F$7:$G$250,2,0),0)","v":0}]
[10000664,null,null,{"$f":"IFERROR(VLOOKUP(A673,'Gegevens van scanner'!$F$7:$G$250,2,0),0)","v":0}]
[10000665,null,null,{"$f":"IFERROR(VLOOKUP(A674,'Gegevens van scanner'!$F$7:$G$250,2,0),0)","v":0}]
[10000666,null,null,{"$f":"IFERROR(VLOOKUP(A675,'Gegevens van scanner'!$F$7:$G$250,2,0),0)","v":0}]
[10000667,null,null,{"$f":"IFERROR(VLOOKUP(A676,'Gegevens van scanner'!$F$7:$G$250,2,0),0)","v":0}]
[10000668,null,null,{"$f":"IFERROR(VLOOKUP(A677,'Gegevens van scanner'!$F$7:$G$250,2,0),0)","v":0}]
[10000669,null,null,{"$f":"IFERROR(VLOOKUP(A678,'Gegevens van scanner'!$F$7:$G$250,2,0),0)","v":0}]
[10000670,null,null,{"$f":"IFERROR(VLOOKUP(A679,'Gegevens van scanner'!$F$7:$G$250,2,0),0)","v":0}]
[10000671,null,null,{"$f":"IFERROR(VLOOKUP(A680,'Gegevens van scanner'!$F$7:$G$250,2,0),0)","v":0}]
[10000672,null,null,{"$f":"IFERROR(VLOOKUP(A681,'Gegevens van scanner'!$F$7:$G$250,2,0),0)","v":0}]
[10000673,null,null,{"$f":"IFERROR(VLOOKUP(A682,'Gegevens van scanner'!$F$7:$G$250,2,0),0)","v":0}]
[10000674,null,null,{"$f":"IFERROR(VLOOKUP(A683,'Gegevens van scanner'!$F$7:$G$250,2,0),0)","v":0}]
[10000675,null,null,{"$f":"IFERROR(VLOOKUP(A684,'Gegevens van scanner'!$F$7:$G$250,2,0),0)","v":0}]
[10000676,null,null,{"$f":"IFERROR(VLOOKUP(A685,'Gegevens van scanner'!$F$7:$G$250,2,0),0)","v":0}]
[10000677,null,null,{"$f":"IFERROR(VLOOKUP(A686,'Gegevens van scanner'!$F$7:$G$250,2,0),0)","v":0}]
[10000678,null,null,{"$f":"IFERROR(VLOOKUP(A687,'Gegevens van scanner'!$F$7:$G$250,2,0),0)","v":0}]
[10000679,null,null,{"$f":"IFERROR(VLOOKUP(A688,'Gegevens van scanner'!$F$7:$G$250,2,0),0)","v":0}]
[10000680,null,null,{"$f":"IFERROR(VLOOKUP(A689,'Gegevens van scanner'!$F$7:$G$250,2,0),0)","v":0}]
[10000681,null,null,{"$f":"IFERROR(VLOOKUP(A690,'Gegevens van scanner'!$F$7:$G$250,2,0),0)","v":0}]
[10000682,null,null,{"$f":"IFERROR(VLOOKUP(A691,'Gegevens van scanner'!$F$7:$G$250,2,0),0)","v":0}]
[10000683,null,null,{"$f":"IFERROR(VLOOKUP(A692,'Gegevens van scanner'!$F$7:$G$250,2,0),0)","v":0}]
[10000684,null,null,{"$f":"IFERROR(VLOOKUP(A693,'Gegevens van scanner'!$F$7:$G$250,2,0),0)","v":0}]
[10000685,null,null,{"$f":"IFERROR(VLOOKUP(A694,'Gegevens van scanner'!$F$7:$G$250,2,0),0)","v":0}]
[10000686,null,null,{"$f":"IFERROR(VLOOKUP(A695,'Gegevens van scanner'!$F$7:$G$250,2,0),0)","v":0}]
[10000687,null,null,{"$f":"IFERROR(VLOOKUP(A696,'Gegevens van scanner'!$F$7:$G$250,2,0),0)","v":0}]
[10000688,null,null,{"$f":"IFERROR(VLOOKUP(A697,'Gegevens van scanner'!$F$7:$G$250,2,0),0)","v":0}]
[10000689,null,null,{"$f":"IFERROR(VLOOKUP(A698,'Gegevens van scanner'!$F$7:$G$250,2,0),0)","v":0}]
[10000690,null,null,{"$f":"IFERROR(VLOOKUP(A699,'Gegevens van scanner'!$F$7:$G$250,2,0),0)","v":0}]
[10000691,null,null,{"$f":"IFERROR(VLOOKUP(A700,'Gegevens van scanner'!$F$7:$G$250,2,0),0)","v":0}]
[10000692,null,null,{"$f":"IFERROR(VLOOKUP(A701,'Gegevens van scanner'!$F$7:$G$250,2,0),0)","v":0}]
[10000693,null,null,{"$f":"IFERROR(VLOOKUP(A702,'Gegevens van scanner'!$F$7:$G$250,2,0),0)","v":0}]
[10000694,null,null,{"$f":"IFERROR(VLOOKUP(A703,'Gegevens van scanner'!$F$7:$G$250,2,0),0)","v":0}]
[10000695,null,null,{"$f":"IFERROR(VLOOKUP(A704,'Gegevens van scanner'!$F$7:$G$250,2,0),0)","v":0}]
[10000696,null,null,{"$f":"IFERROR(VLOOKUP(A705,'Gegevens van scanner'!$F$7:$G$250,2,0),0)","v":0}]
[10000697,null,null,{"$f":"IFERROR(VLOOKUP(A706,'Gegevens van scanner'!$F$7:$G$250,2,0),0)","v":0}]
[10000698,null,null,{"$f":"IFERROR(VLOOKUP(A707,'Gegevens van scanner'!$F$7:$G$250,2,0),0)","v":0}]
[10000699,null,null,{"$f":"IFERROR(VLOOKUP(A708,'Gegevens van scanner'!$F$7:$G$250,2,0),0)","v":0}]
[10000700,null,null,{"$f":"IFERROR(VLOOKUP(A709,'Gegevens van scanner'!$F$7:$G$250,2,0),0)","v":0}]
[10000701,null,null,{"$f":"IFERROR(VLOOKUP(A710,'Gegevens van scanner'!$F$7:$G$250,2,0),0)","v":0}]
[10000702,null,null,{"$f":"IFERROR(VLOOKUP(A711,'Gegevens van scanner'!$F$7:$G$250,2,0),0)","v":0}]
[10000703,null,null,{"$f":"IFERROR(VLOOKUP(A712,'Gegevens van scanner'!$F$7:$G$250,2,0),0)","v":0}]
[10000704,null,null,{"$f":"IFERROR(VLOOKUP(A713,'Gegevens van scanner'!$F$7:$G$250,2,0),0)","v":0}]
[10000705,null,null,{"$f":"IFERROR(VLOOKUP(A714,'Gegevens van scanner'!$F$7:$G$250,2,0),0)","v":0}]
[{"$f":"A714+1","v":10000706},null,null,{"$f":"IFERROR(VLOOKUP(A715,'Gegevens van scanner'!$F$7:$G$250,2,0),0)","v":0}]
[10000707,null,null,{"$f":"IFERROR(VLOOKUP(A716,'Gegevens van scanner'!$F$7:$G$250,2,0),0)","v":0}]
[10000708,null,null,{"$f":"IFERROR(VLOOKUP(A717,'Gegevens van scanner'!$F$7:$G$250,2,0),0)","v":0}]
[10000709,null,null,{"$f":"IFERROR(VLOOKUP(A718,'Gegevens van scanner'!$F$7:$G$250,2,0),0)","v":0}]
[10000710,null,null,{"$f":"IFERROR(VLOOKUP(A719,'Gegevens van scanner'!$F$7:$G$250,2,0),0)","v":0}]
[10000711,null,null,{"$f":"IFERROR(VLOOKUP(A720,'Gegevens van scanner'!$F$7:$G$250,2,0),0)","v":0}]
[10000712,null,null,{"$f":"IFERROR(VLOOKUP(A721,'Gegevens van scanner'!$F$7:$G$250,2,0),0)","v":0}]
[10000713,null,null,{"$f":"IFERROR(VLOOKUP(A722,'Gegevens van scanner'!$F$7:$G$250,2,0),0)","v":0}]
[10000714,null,null,{"$f":"IFERROR(VLOOKUP(A723,'Gegevens van scanner'!$F$7:$G$250,2,0),0)","v":0}]
[10000715,null,null,{"$f":"IFERROR(VLOOKUP(A724,'Gegevens van scanner'!$F$7:$G$250,2,0),0)","v":0}]
[10000716,null,null,{"$f":"IFERROR(VLOOKUP(A725,'Gegevens van scanner'!$F$7:$G$250,2,0),0)","v":0}]
[10000717,null,null,{"$f":"IFERROR(VLOOKUP(A726,'Gegevens van scanner'!$F$7:$G$250,2,0),0)","v":0}]
[10000718,null,null,{"$f":"IFERROR(VLOOKUP(A727,'Gegevens van scanner'!$F$7:$G$250,2,0),0)","v":0}]
[10000719,null,null,{"$f":"IFERROR(VLOOKUP(A728,'Gegevens van scanner'!$F$7:$G$250,2,0),0)","v":0}]
[10000720,null,null,{"$f":"IFERROR(VLOOKUP(A729,'Gegevens van scanner'!$F$7:$G$250,2,0),0)","v":0}]
[10000721,null,null,{"$f":"IFERROR(VLOOKUP(A730,'Gegevens van scanner'!$F$7:$G$250,2,0),0)","v":0}]
[10000722,null,null,{"$f":"IFERROR(VLOOKUP(A731,'Gegevens van scanner'!$F$7:$G$250,2,0),0)","v":0}]
[10000723,null,null,{"$f":"IFERROR(VLOOKUP(A732,'Gegevens van scanner'!$F$7:$G$250,2,0),0)","v":0}]
[10000724,null,null,{"$f":"IFERROR(VLOOKUP(A733,'Gegevens van scanner'!$F$7:$G$250,2,0),0)","v":0}]
[10000725,null,null,{"$f":"IFERROR(VLOOKUP(A734,'Gegevens van scanner'!$F$7:$G$250,2,0),0)","v":0}]
[10000726,null,null,{"$f":"IFERROR(VLOOKUP(A735,'Gegevens van scanner'!$F$7:$G$250,2,0),0)","v":0}]
[10000727,null,null,{"$f":"IFERROR(VLOOKUP(A736,'Gegevens van scanner'!$F$7:$G$250,2,0),0)","v":0}]
[10000728,null,null,{"$f":"IFERROR(VLOOKUP(A737,'Gegevens van scanner'!$F$7:$G$250,2,0),0)","v":0}]
[10000729,null,null,{"$f":"IFERROR(VLOOKUP(A738,'Gegevens van scanner'!$F$7:$G$250,2,0),0)","v":0}]
[10000730,null,null,{"$f":"IFERROR(VLOOKUP(A739,'Gegevens van scanner'!$F$7:$G$250,2,0),0)","v":0}]
[10000731,null,null,{"$f":"IFERROR(VLOOKUP(A740,'Gegevens van scanner'!$F$7:$G$250,2,0),0)","v":0}]
[10000732,null,null,{"$f":"IFERROR(VLOOKUP(A741,'Gegevens van scanner'!$F$7:$G$250,2,0),0)","v":0}]
[10000733,null,null,{"$f":"IFERROR(VLOOKUP(A742,'Gegevens van scanner'!$F$7:$G$250,2,0),0)","v":0}]
[10000734,null,null,{"$f":"IFERROR(VLOOKUP(A743,'Gegevens van scanner'!$F$7:$G$250,2,0),0)","v":0}]
[10000735,null,null,{"$f":"IFERROR(VLOOKUP(A744,'Gegevens van scanner'!$F$7:$G$250,2,0),0)","v":0}]
[10000736,null,null,{"$f":"IFERROR(VLOOKUP(A745,'Gegevens van scanner'!$F$7:$G$250,2,0),0)","v":0}]
[10000737,null,null,{"$f":"IFERROR(VLOOKUP(A746,'Gegevens van scanner'!$F$7:$G$250,2,0),0)","v":0}]
[10000738,null,null,{"$f":"IFERROR(VLOOKUP(A747,'Gegevens van scanner'!$F$7:$G$250,2,0),0)","v":0}]
[10000739,null,null,{"$f":"IFERROR(VLOOKUP(A748,'Gegevens van scanner'!$F$7:$G$250,2,0),0)","v":0}]
[10000740,null,null,{"$f":"IFERROR(VLOOKUP(A749,'Gegevens van scanner'!$F$7:$G$250,2,0),0)","v":0}]
[10000741,null,null,{"$f":"IFERROR(VLOOKUP(A750,'Gegevens van scanner'!$F$7:$G$250,2,0),0)","v":0}]
[10000742,null,null,{"$f":"IFERROR(VLOOKUP(A751,'Gegevens van scanner'!$F$7:$G$250,2,0),0)","v":0}]
[10000743,null,null,{"$f":"IFERROR(VLOOKUP(A752,'Gegevens van scanner'!$F$7:$G$250,2,0),0)","v":0}]
[10000744,null,null,{"$f":"IFERROR(VLOOKUP(A753,'Gegevens van scanner'!$F$7:$G$250,2,0),0)","v":0}]
[10000745,null,null,{"$f":"IFERROR(VLOOKUP(A754,'Gegevens van scanner'!$F$7:$G$250,2,0),0)","v":0}]
[10000746,null,null,{"$f":"IFERROR(VLOOKUP(A755,'Gegevens van scanner'!$F$7:$G$250,2,0),0)","v":0}]
[10000747,null,null,{"$f":"IFERROR(VLOOKUP(A756,'Gegevens van scanner'!$F$7:$G$250,2,0),0)","v":0}]
[10000748,null,null,{"$f":"IFERROR(VLOOKUP(A757,'Gegevens van scanner'!$F$7:$G$250,2,0),0)","v":0}]
[10000749,null,null,{"$f":"IFERROR(VLOOKUP(A758,'Gegevens van scanner'!$F$7:$G$250,2,0),0)","v":0}]
[10000750,null,null,{"$f":"IFERROR(VLOOKUP(A759,'Gegevens van scanner'!$F$7:$G$250,2,0),0)","v":0}]
[10000751,null,null,{"$f":"IFERROR(VLOOKUP(A760,'Gegevens van scanner'!$F$7:$G$250,2,0),0)","v":0}]
[10000752,null,null,{"$f":"IFERROR(VLOOKUP(A761,'Gegevens van scanner'!$F$7:$G$250,2,0),0)","v":0}]
[10000753,null,null,{"$f":"IFERROR(VLOOKUP(A762,'Gegevens van scanner'!$F$7:$G$250,2,0),0)","v":0}]
[10000754,null,null,{"$f":"IFERROR(VLOOKUP(A763,'Gegevens van scanner'!$F$7:$G$250,2,0),0)","v":0}]
[10000755,null,null,{"$f":"IFERROR(VLOOKUP(A764,'Gegevens van scanner'!$F$7:$G$250,2,0),0)","v":0}]
[10000756,null,null,{"$f":"IFERROR(VLOOKUP(A765,'Gegevens van scanner'!$F$7:$G$250,2,0),0)","v":0}]
[10000757,null,null,{"$f":"IFERROR(VLOOKUP(A766,'Gegevens van scanner'!$F$7:$G$250,2,0),0)","v":0}]
[10000758,null,null,{"$f":"IFERROR(VLOOKUP(A767,'Gegevens van scanner'!$F$7:$G$250,2,0),0)","v":0}]
[10000759,null,null,{"$f":"IFERROR(VLOOKUP(A768,'Gegevens van scanner'!$F$7:$G$250,2,0),0)","v":0}]
[10000760,null,null,{"$f":"IFERROR(VLOOKUP(A769,'Gegevens van scanner'!$F$7:$G$250,2,0),0)","v":0}]
[10000761,null,null,{"$f":"IFERROR(VLOOKUP(A770,'Gegevens van scanner'!$F$7:$G$250,2,0),0)","v":0}]
[10000762,null,null,{"$f":"IFERROR(VLOOKUP(A771,'Gegevens van scanner'!$F$7:$G$250,2,0),0)","v":0}]
[10000763,null,null,{"$f":"IFERROR(VLOOKUP(A772,'Gegevens van scanner'!$F$7:$G$250,2,0),0)","v":0}]
[10000764,null,null,{"$f":"IFERROR(VLOOKUP(A773,'Gegevens van scanner'!$F$7:$G$250,2,0),0)","v":0}]
[10000765,null,null,{"$f":"IFERROR(VLOOKUP(A774,'Gegevens van scanner'!$F$7:$G$250,2,0),0)","v":0}]
[10000766,null,null,{"$f":"IFERROR(VLOOKUP(A775,'Gegevens van scanner'!$F$7:$G$250,2,0),0)","v":0}]
[10000767,null,null,{"$f":"IFERROR(VLOOKUP(A776,'Gegevens van scanner'!$F$7:$G$250,2,0),0)","v":0}]
[10000768,null,null,{"$f":"IFERROR(VLOOKUP(A777,'Gegevens van scanner'!$F$7:$G$250,2,0),0)","v":0}]
[10000769,null,null,{"$f":"IFERROR(VLOOKUP(A778,'Gegevens van scanner'!$F$7:$G$250,2,0),0)","v":0}]
[{"$f":"A778+1","v":10000770},null,null,{"$f":"IFERROR(VLOOKUP(A779,'Gegevens van scanner'!$F$7:$G$250,2,0),0)","v":0}]
[10000771,null,null,{"$f":"IFERROR(VLOOKUP(A780,'Gegevens van scanner'!$F$7:$G$250,2,0),0)","v":0}]
[10000772,null,null,{"$f":"IFERROR(VLOOKUP(A781,'Gegevens van scanner'!$F$7:$G$250,2,0),0)","v":0}]
[10000773,null,null,{"$f":"IFERROR(VLOOKUP(A782,'Gegevens van scanner'!$F$7:$G$250,2,0),0)","v":0}]
[10000774,null,null,{"$f":"IFERROR(VLOOKUP(A783,'Gegevens van scanner'!$F$7:$G$250,2,0),0)","v":0}]
[10000775,null,null,{"$f":"IFERROR(VLOOKUP(A784,'Gegevens van scanner'!$F$7:$G$250,2,0),0)","v":0}]
[10000776,null,null,{"$f":"IFERROR(VLOOKUP(A785,'Gegevens van scanner'!$F$7:$G$250,2,0),0)","v":0}]
[10000777,null,null,{"$f":"IFERROR(VLOOKUP(A786,'Gegevens van scanner'!$F$7:$G$250,2,0),0)","v":0}]
[10000778,null,null,{"$f":"IFERROR(VLOOKUP(A787,'Gegevens van scanner'!$F$7:$G$250,2,0),0)","v":0}]
[10000779,null,null,{"$f":"IFERROR(VLOOKUP(A788,'Gegevens van scanner'!$F$7:$G$250,2,0),0)","v":0}]
[10000780,null,null,{"$f":"IFERROR(VLOOKUP(A789,'Gegevens van scanner'!$F$7:$G$250,2,0),0)","v":0}]
[10000781,null,null,{"$f":"IFERROR(VLOOKUP(A790,'Gegevens van scanner'!$F$7:$G$250,2,0),0)","v":0}]
[10000782,null,null,{"$f":"IFERROR(VLOOKUP(A791,'Gegevens van scanner'!$F$7:$G$250,2,0),0)","v":0}]
[10000783,null,null,{"$f":"IFERROR(VLOOKUP(A792,'Gegevens van scanner'!$F$7:$G$250,2,0),0)","v":0}]
[10000784,null,null,{"$f":"IFERROR(VLOOKUP(A793,'Gegevens van scanner'!$F$7:$G$250,2,0),0)","v":0}]
[10000785,null,null,{"$f":"IFERROR(VLOOKUP(A794,'Gegevens van scanner'!$F$7:$G$250,2,0),0)","v":0}]
[10000786,null,null,{"$f":"IFERROR(VLOOKUP(A795,'Gegevens van scanner'!$F$7:$G$250,2,0),0)","v":0}]
[10000787,null,null,{"$f":"IFERROR(VLOOKUP(A796,'Gegevens van scanner'!$F$7:$G$250,2,0),0)","v":0}]
[10000788,null,null,{"$f":"IFERROR(VLOOKUP(A797,'Gegevens van scanner'!$F$7:$G$250,2,0),0)","v":0}]
[10000789,null,null,{"$f":"IFERROR(VLOOKUP(A798,'Gegevens van scanner'!$F$7:$G$250,2,0),0)","v":0}]
[10000790,null,null,{"$f":"IFERROR(VLOOKUP(A799,'Gegevens van scanner'!$F$7:$G$250,2,0),0)","v":0}]
[10000791,null,null,{"$f":"IFERROR(VLOOKUP(A800,'Gegevens van scanner'!$F$7:$G$250,2,0),0)","v":0}]
[10000792,null,null,{"$f":"IFERROR(VLOOKUP(A801,'Gegevens van scanner'!$F$7:$G$250,2,0),0)","v":0}]
[10000793,null,null,{"$f":"IFERROR(VLOOKUP(A802,'Gegevens van scanner'!$F$7:$G$250,2,0),0)","v":0}]
[10000794,null,null,{"$f":"IFERROR(VLOOKUP(A803,'Gegevens van scanner'!$F$7:$G$250,2,0),0)","v":0}]
[10000795,null,null,{"$f":"IFERROR(VLOOKUP(A804,'Gegevens van scanner'!$F$7:$G$250,2,0),0)","v":0}]
[10000796,null,null,{"$f":"IFERROR(VLOOKUP(A805,'Gegevens van scanner'!$F$7:$G$250,2,0),0)","v":0}]
[10000797,null,null,{"$f":"IFERROR(VLOOKUP(A806,'Gegevens van scanner'!$F$7:$G$250,2,0),0)","v":0}]
[10000798,null,null,{"$f":"IFERROR(VLOOKUP(A807,'Gegevens van scanner'!$F$7:$G$250,2,0),0)","v":0}]
[10000799,null,null,{"$f":"IFERROR(VLOOKUP(A808,'Gegevens van scanner'!$F$7:$G$250,2,0),0)","v":0}]
[10000800,null,null,{"$f":"IFERROR(VLOOKUP(A809,'Gegevens van scanner'!$F$7:$G$250,2,0),0)","v":0}]
[10000801,null,null,{"$f":"IFERROR(VLOOKUP(A810,'Gegevens van scanner'!$F$7:$G$250,2,0),0)","v":0}]
[10000802,null,null,{"$f":"IFERROR(VLOOKUP(A811,'Gegevens van scanner'!$F$7:$G$250,2,0),0)","v":0}]
[10000803,null,null,{"$f":"IFERROR(VLOOKUP(A812,'Gegevens van scanner'!$F$7:$G$250,2,0),0)","v":0}]
[10000804,null,null,{"$f":"IFERROR(VLOOKUP(A813,'Gegevens van scanner'!$F$7:$G$250,2,0),0)","v":0}]
[10000805,null,null,{"$f":"IFERROR(VLOOKUP(A814,'Gegevens van scanner'!$F$7:$G$250,2,0),0)","v":0}]
[10000806,null,null,{"$f":"IFERROR(VLOOKUP(A815,'Gegevens van scanner'!$F$7:$G$250,2,0),0)","v":0}]
[10000807,null,null,{"$f":"IFERROR(VLOOKUP(A816,'Gegevens van scanner'!$F$7:$G$250,2,0),0)","v":0}]
[10000808,null,null,{"$f":"IFERROR(VLOOKUP(A817,'Gegevens van scanner'!$F$7:$G$250,2,0),0)","v":0}]
[10000809,null,null,{"$f":"IFERROR(VLOOKUP(A818,'Gegevens van scanner'!$F$7:$G$250,2,0),0)","v":0}]
[10000810,null,null,{"$f":"IFERROR(VLOOKUP(A819,'Gegevens van scanner'!$F$7:$G$250,2,0),0)","v":0}]
[10000811,null,null,{"$f":"IFERROR(VLOOKUP(A820,'Gegevens van scanner'!$F$7:$G$250,2,0),0)","v":0}]
[10000812,null,null,{"$f":"IFERROR(VLOOKUP(A821,'Gegevens van scanner'!$F$7:$G$250,2,0),0)","v":0}]
[10000813,null,null,{"$f":"IFERROR(VLOOKUP(A822,'Gegevens van scanner'!$F$7:$G$250,2,0),0)","v":0}]
[10000814,null,null,{"$f":"IFERROR(VLOOKUP(A823,'Gegevens van scanner'!$F$7:$G$250,2,0),0)","v":0}]
[10000815,null,null,{"$f":"IFERROR(VLOOKUP(A824,'Gegevens van scanner'!$F$7:$G$250,2,0),0)","v":0}]
[10000816,null,null,{"$f":"IFERROR(VLOOKUP(A825,'Gegevens van scanner'!$F$7:$G$250,2,0),0)","v":0}]
[10000817,null,null,{"$f":"IFERROR(VLOOKUP(A826,'Gegevens van scanner'!$F$7:$G$250,2,0),0)","v":0}]
[10000818,null,null,{"$f":"IFERROR(VLOOKUP(A827,'Gegevens van scanner'!$F$7:$G$250,2,0),0)","v":0}]
[10000819,null,null,{"$f":"IFERROR(VLOOKUP(A828,'Gegevens van scanner'!$F$7:$G$250,2,0),0)","v":0}]
[10000820,null,null,{"$f":"IFERROR(VLOOKUP(A829,'Gegevens van scanner'!$F$7:$G$250,2,0),0)","v":0}]
[10000821,null,null,{"$f":"IFERROR(VLOOKUP(A830,'Gegevens van scanner'!$F$7:$G$250,2,0),0)","v":0}]
[10000822,null,null,{"$f":"IFERROR(VLOOKUP(A831,'Gegevens van scanner'!$F$7:$G$250,2,0),0)","v":0}]
[10000823,null,null,{"$f":"IFERROR(VLOOKUP(A832,'Gegevens van scanner'!$F$7:$G$250,2,0),0)","v":0}]
[10000824,null,null,{"$f":"IFERROR(VLOOKUP(A833,'Gegevens van scanner'!$F$7:$G$250,2,0),0)","v":0}]
[10000825,null,null,{"$f":"IFERROR(VLOOKUP(A834,'Gegevens van scanner'!$F$7:$G$250,2,0),0)","v":0}]
[10000826,null,null,{"$f":"IFERROR(VLOOKUP(A835,'Gegevens van scanner'!$F$7:$G$250,2,0),0)","v":0}]
[10000827,null,null,{"$f":"IFERROR(VLOOKUP(A836,'Gegevens van scanner'!$F$7:$G$250,2,0),0)","v":0}]
[10000828,null,null,{"$f":"IFERROR(VLOOKUP(A837,'Gegevens van scanner'!$F$7:$G$250,2,0),0)","v":0}]
[10000829,null,null,{"$f":"IFERROR(VLOOKUP(A838,'Gegevens van scanner'!$F$7:$G$250,2,0),0)","v":0}]
[10000830,null,null,{"$f":"IFERROR(VLOOKUP(A839,'Gegevens van scanner'!$F$7:$G$250,2,0),0)","v":0}]
[10000831,null,null,{"$f":"IFERROR(VLOOKUP(A840,'Gegevens van scanner'!$F$7:$G$250,2,0),0)","v":0}]
[10000832,null,null,{"$f":"IFERROR(VLOOKUP(A841,'Gegevens van scanner'!$F$7:$G$250,2,0),0)","v":0}]
[10000833,null,null,{"$f":"IFERROR(VLOOKUP(A842,'Gegevens van scanner'!$F$7:$G$250,2,0),0)","v":0}]
[{"$f":"A842+1","v":10000834},null,null,{"$f":"IFERROR(VLOOKUP(A843,'Gegevens van scanner'!$F$7:$G$250,2,0),0)","v":0}]
[10000835,null,null,{"$f":"IFERROR(VLOOKUP(A844,'Gegevens van scanner'!$F$7:$G$250,2,0),0)","v":0}]
[10000836,null,null,{"$f":"IFERROR(VLOOKUP(A845,'Gegevens van scanner'!$F$7:$G$250,2,0),0)","v":0}]
[10000837,null,null,{"$f":"IFERROR(VLOOKUP(A846,'Gegevens van scanner'!$F$7:$G$250,2,0),0)","v":0}]
[10000838,null,null,{"$f":"IFERROR(VLOOKUP(A847,'Gegevens van scanner'!$F$7:$G$250,2,0),0)","v":0}]
[10000839,null,null,{"$f":"IFERROR(VLOOKUP(A848,'Gegevens van scanner'!$F$7:$G$250,2,0),0)","v":0}]
[10000840,null,null,{"$f":"IFERROR(VLOOKUP(A849,'Gegevens van scanner'!$F$7:$G$250,2,0),0)","v":0}]
[10000841,null,null,{"$f":"IFERROR(VLOOKUP(A850,'Gegevens van scanner'!$F$7:$G$250,2,0),0)","v":0}]
[10000842,null,null,{"$f":"IFERROR(VLOOKUP(A851,'Gegevens van scanner'!$F$7:$G$250,2,0),0)","v":0}]
[10000843,null,null,{"$f":"IFERROR(VLOOKUP(A852,'Gegevens van scanner'!$F$7:$G$250,2,0),0)","v":0}]
[10000844,null,null,{"$f":"IFERROR(VLOOKUP(A853,'Gegevens van scanner'!$F$7:$G$250,2,0),0)","v":0}]
[10000845,null,null,{"$f":"IFERROR(VLOOKUP(A854,'Gegevens van scanner'!$F$7:$G$250,2,0),0)","v":0}]
[10000846,null,null,{"$f":"IFERROR(VLOOKUP(A855,'Gegevens van scanner'!$F$7:$G$250,2,0),0)","v":0}]
[10000847,null,null,{"$f":"IFERROR(VLOOKUP(A856,'Gegevens van scanner'!$F$7:$G$250,2,0),0)","v":0}]
[10000848,null,null,{"$f":"IFERROR(VLOOKUP(A857,'Gegevens van scanner'!$F$7:$G$250,2,0),0)","v":0}]
[10000849,null,null,{"$f":"IFERROR(VLOOKUP(A858,'Gegevens van scanner'!$F$7:$G$250,2,0),0)","v":0}]
[10000850,null,null,{"$f":"IFERROR(VLOOKUP(A859,'Gegevens van scanner'!$F$7:$G$250,2,0),0)","v":0}]
[10000851,null,null,{"$f":"IFERROR(VLOOKUP(A860,'Gegevens van scanner'!$F$7:$G$250,2,0),0)","v":0}]
[10000852,null,null,{"$f":"IFERROR(VLOOKUP(A861,'Gegevens van scanner'!$F$7:$G$250,2,0),0)","v":0}]
[10000853,null,null,{"$f":"IFERROR(VLOOKUP(A862,'Gegevens van scanner'!$F$7:$G$250,2,0),0)","v":0}]
[10000854,null,null,{"$f":"IFERROR(VLOOKUP(A863,'Gegevens van scanner'!$F$7:$G$250,2,0),0)","v":0}]
[10000855,null,null,{"$f":"IFERROR(VLOOKUP(A864,'Gegevens van scanner'!$F$7:$G$250,2,0),0)","v":0}]
[10000856,null,null,{"$f":"IFERROR(VLOOKUP(A865,'Gegevens van scanner'!$F$7:$G$250,2,0),0)","v":0}]
[10000857,null,null,{"$f":"IFERROR(VLOOKUP(A866,'Gegevens van scanner'!$F$7:$G$250,2,0),0)","v":0}]
[10000858,null,null,{"$f":"IFERROR(VLOOKUP(A867,'Gegevens van scanner'!$F$7:$G$250,2,0),0)","v":0}]
[10000859,null,null,{"$f":"IFERROR(VLOOKUP(A868,'Gegevens van scanner'!$F$7:$G$250,2,0),0)","v":0}]
[10000860,null,null,{"$f":"IFERROR(VLOOKUP(A869,'Gegevens van scanner'!$F$7:$G$250,2,0),0)","v":0}]
[10000861,null,null,{"$f":"IFERROR(VLOOKUP(A870,'Gegevens van scanner'!$F$7:$G$250,2,0),0)","v":0}]
[10000862,null,null,{"$f":"IFERROR(VLOOKUP(A871,'Gegevens van scanner'!$F$7:$G$250,2,0),0)","v":0}]
[10000863,null,null,{"$f":"IFERROR(VLOOKUP(A872,'Gegevens van scanner'!$F$7:$G$250,2,0),0)","v":0}]
[10000864,null,null,{"$f":"IFERROR(VLOOKUP(A873,'Gegevens van scanner'!$F$7:$G$250,2,0),0)","v":0}]
[10000865,null,null,{"$f":"IFERROR(VLOOKUP(A874,'Gegevens van scanner'!$F$7:$G$250,2,0),0)","v":0}]
[10000866,null,null,{"$f":"IFERROR(VLOOKUP(A875,'Gegevens van scanner'!$F$7:$G$250,2,0),0)","v":0}]
[10000867,null,null,{"$f":"IFERROR(VLOOKUP(A876,'Gegevens van scanner'!$F$7:$G$250,2,0),0)","v":0}]
[10000868,null,null,{"$f":"IFERROR(VLOOKUP(A877,'Gegevens van scanner'!$F$7:$G$250,2,0),0)","v":0}]
[10000869,null,null,{"$f":"IFERROR(VLOOKUP(A878,'Gegevens van scanner'!$F$7:$G$250,2,0),0)","v":0}]
[10000870,null,null,{"$f":"IFERROR(VLOOKUP(A879,'Gegevens van scanner'!$F$7:$G$250,2,0),0)","v":0}]
[10000871,null,null,{"$f":"IFERROR(VLOOKUP(A880,'Gegevens van scanner'!$F$7:$G$250,2,0),0)","v":0}]
[10000872,null,null,{"$f":"IFERROR(VLOOKUP(A881,'Gegevens van scanner'!$F$7:$G$250,2,0),0)","v":0}]
[10000873,null,null,{"$f":"IFERROR(VLOOKUP(A882,'Gegevens van scanner'!$F$7:$G$250,2,0),0)","v":0}]
[10000874,null,null,{"$f":"IFERROR(VLOOKUP(A883,'Gegevens van scanner'!$F$7:$G$250,2,0),0)","v":0}]
[10000875,null,null,{"$f":"IFERROR(VLOOKUP(A884,'Gegevens van scanner'!$F$7:$G$250,2,0),0)","v":0}]
[10000876,null,null,{"$f":"IFERROR(VLOOKUP(A885,'Gegevens van scanner'!$F$7:$G$250,2,0),0)","v":0}]
[10000877,null,null,{"$f":"IFERROR(VLOOKUP(A886,'Gegevens van scanner'!$F$7:$G$250,2,0),0)","v":0}]
[10000878,null,null,{"$f":"IFERROR(VLOOKUP(A887,'Gegevens van scanner'!$F$7:$G$250,2,0),0)","v":0}]
[10000879,null,null,{"$f":"IFERROR(VLOOKUP(A888,'Gegevens van scanner'!$F$7:$G$250,2,0),0)","v":0}]
[10000880,null,null,{"$f":"IFERROR(VLOOKUP(A889,'Gegevens van scanner'!$F$7:$G$250,2,0),0)","v":0}]
[10000881,null,null,{"$f":"IFERROR(VLOOKUP(A890,'Gegevens van scanner'!$F$7:$G$250,2,0),0)","v":0}]
[10000882,null,null,{"$f":"IFERROR(VLOOKUP(A891,'Gegevens van scanner'!$F$7:$G$250,2,0),0)","v":0}]
[10000883,null,null,{"$f":"IFERROR(VLOOKUP(A892,'Gegevens van scanner'!$F$7:$G$250,2,0),0)","v":0}]
[10000884,null,null,{"$f":"IFERROR(VLOOKUP(A893,'Gegevens van scanner'!$F$7:$G$250,2,0),0)","v":0}]
[10000885,null,null,{"$f":"IFERROR(VLOOKUP(A894,'Gegevens van scanner'!$F$7:$G$250,2,0),0)","v":0}]
[10000886,null,null,{"$f":"IFERROR(VLOOKUP(A895,'Gegevens van scanner'!$F$7:$G$250,2,0),0)","v":0}]
[10000887,null,null,{"$f":"IFERROR(VLOOKUP(A896,'Gegevens van scanner'!$F$7:$G$250,2,0),0)","v":0}]
[10000888,null,null,{"$f":"IFERROR(VLOOKUP(A897,'Gegevens van scanner'!$F$7:$G$250,2,0),0)","v":0}]
[10000889,null,null,{"$f":"IFERROR(VLOOKUP(A898,'Gegevens van scanner'!$F$7:$G$250,2,0),0)","v":0}]
[10000890,null,null,{"$f":"IFERROR(VLOOKUP(A899,'Gegevens van scanner'!$F$7:$G$250,2,0),0)","v":0}]
[10000891,null,null,{"$f":"IFERROR(VLOOKUP(A900,'Gegevens van scanner'!$F$7:$G$250,2,0),0)","v":0}]
[10000892,null,null,{"$f":"IFERROR(VLOOKUP(A901,'Gegevens van scanner'!$F$7:$G$250,2,0),0)","v":0}]
[10000893,null,null,{"$f":"IFERROR(VLOOKUP(A902,'Gegevens van scanner'!$F$7:$G$250,2,0),0)","v":0}]
[10000894,null,null,{"$f":"IFERROR(VLOOKUP(A903,'Gegevens van scanner'!$F$7:$G$250,2,0),0)","v":0}]
[10000895,null,null,{"$f":"IFERROR(VLOOKUP(A904,'Gegevens van scanner'!$F$7:$G$250,2,0),0)","v":0}]
[10000896,null,null,{"$f":"IFERROR(VLOOKUP(A905,'Gegevens van scanner'!$F$7:$G$250,2,0),0)","v":0}]
[10000897,null,null,{"$f":"IFERROR(VLOOKUP(A906,'Gegevens van scanner'!$F$7:$G$250,2,0),0)","v":0}]
[{"$f":"A906+1","v":10000898},null,null,{"$f":"IFERROR(VLOOKUP(A907,'Gegevens van scanner'!$F$7:$G$250,2,0),0)","v":0}]
[10000899,null,null,{"$f":"IFERROR(VLOOKUP(A908,'Gegevens van scanner'!$F$7:$G$250,2,0),0)","v":0}]
[10000900,null,null,{"$f":"IFERROR(VLOOKUP(A909,'Gegevens van scanner'!$F$7:$G$250,2,0),0)","v":0}]
[10000901,null,null,{"$f":"IFERROR(VLOOKUP(A910,'Gegevens van scanner'!$F$7:$G$250,2,0),0)","v":0}]
[10000902,null,null,{"$f":"IFERROR(VLOOKUP(A911,'Gegevens van scanner'!$F$7:$G$250,2,0),0)","v":0}]
[10000903,null,null,{"$f":"IFERROR(VLOOKUP(A912,'Gegevens van scanner'!$F$7:$G$250,2,0),0)","v":0}]
[10000904,null,null,{"$f":"IFERROR(VLOOKUP(A913,'Gegevens van scanner'!$F$7:$G$250,2,0),0)","v":0}]
[10000905,null,null,{"$f":"IFERROR(VLOOKUP(A914,'Gegevens van scanner'!$F$7:$G$250,2,0),0)","v":0}]
[10000906,null,null,{"$f":"IFERROR(VLOOKUP(A915,'Gegevens van scanner'!$F$7:$G$250,2,0),0)","v":0}]
[10000907,null,null,{"$f":"IFERROR(VLOOKUP(A916,'Gegevens van scanner'!$F$7:$G$250,2,0),0)","v":0}]
[10000908,null,null,{"$f":"IFERROR(VLOOKUP(A917,'Gegevens van scanner'!$F$7:$G$250,2,0),0)","v":0}]
[10000909,null,null,{"$f":"IFERROR(VLOOKUP(A918,'Gegevens van scanner'!$F$7:$G$250,2,0),0)","v":0}]
[10000910,null,null,{"$f":"IFERROR(VLOOKUP(A919,'Gegevens van scanner'!$F$7:$G$250,2,0),0)","v":0}]
[10000911,null,null,{"$f":"IFERROR(VLOOKUP(A920,'Gegevens van scanner'!$F$7:$G$250,2,0),0)","v":0}]
[10000912,null,null,{"$f":"IFERROR(VLOOKUP(A921,'Gegevens van scanner'!$F$7:$G$250,2,0),0)","v":0}]
[10000913,null,null,{"$f":"IFERROR(VLOOKUP(A922,'Gegevens van scanner'!$F$7:$G$250,2,0),0)","v":0}]
[10000914,null,null,{"$f":"IFERROR(VLOOKUP(A923,'Gegevens van scanner'!$F$7:$G$250,2,0),0)","v":0}]
[10000915,null,null,{"$f":"IFERROR(VLOOKUP(A924,'Gegevens van scanner'!$F$7:$G$250,2,0),0)","v":0}]
[10000916,null,null,{"$f":"IFERROR(VLOOKUP(A925,'Gegevens van scanner'!$F$7:$G$250,2,0),0)","v":0}]
[10000917,null,null,{"$f":"IFERROR(VLOOKUP(A926,'Gegevens van scanner'!$F$7:$G$250,2,0),0)","v":0}]
[10000918,null,null,{"$f":"IFERROR(VLOOKUP(A927,'Gegevens van scanner'!$F$7:$G$250,2,0),0)","v":0}]
[10000919,null,null,{"$f":"IFERROR(VLOOKUP(A928,'Gegevens van scanner'!$F$7:$G$250,2,0),0)","v":0}]
[10000920,null,null,{"$f":"IFERROR(VLOOKUP(A929,'Gegevens van scanner'!$F$7:$G$250,2,0),0)","v":0}]
[10000921,null,null,{"$f":"IFERROR(VLOOKUP(A930,'Gegevens van scanner'!$F$7:$G$250,2,0),0)","v":0}]
[10000922,null,null,{"$f":"IFERROR(VLOOKUP(A931,'Gegevens van scanner'!$F$7:$G$250,2,0),0)","v":0}]
[10000923,null,null,{"$f":"IFERROR(VLOOKUP(A932,'Gegevens van scanner'!$F$7:$G$250,2,0),0)","v":0}]
[10000924,null,null,{"$f":"IFERROR(VLOOKUP(A933,'Gegevens van scanner'!$F$7:$G$250,2,0),0)","v":0}]
[10000925,null,null,{"$f":"IFERROR(VLOOKUP(A934,'Gegevens van scanner'!$F$7:$G$250,2,0),0)","v":0}]
[10000926,null,null,{"$f":"IFERROR(VLOOKUP(A935,'Gegevens van scanner'!$F$7:$G$250,2,0),0)","v":0}]
[10000927,null,null,{"$f":"IFERROR(VLOOKUP(A936,'Gegevens van scanner'!$F$7:$G$250,2,0),0)","v":0}]
[10000928,null,null,{"$f":"IFERROR(VLOOKUP(A937,'Gegevens van scanner'!$F$7:$G$250,2,0),0)","v":0}]
[10000929,null,null,{"$f":"IFERROR(VLOOKUP(A938,'Gegevens van scanner'!$F$7:$G$250,2,0),0)","v":0}]
[10000930,null,null,{"$f":"IFERROR(VLOOKUP(A939,'Gegevens van scanner'!$F$7:$G$250,2,0),0)","v":0}]
[10000931,null,null,{"$f":"IFERROR(VLOOKUP(A940,'Gegevens van scanner'!$F$7:$G$250,2,0),0)","v":0}]
[10000932,null,null,{"$f":"IFERROR(VLOOKUP(A941,'Gegevens van scanner'!$F$7:$G$250,2,0),0)","v":0}]
[10000933,null,null,{"$f":"IFERROR(VLOOKUP(A942,'Gegevens van scanner'!$F$7:$G$250,2,0),0)","v":0}]
[10000934,null,null,{"$f":"IFERROR(VLOOKUP(A943,'Gegevens van scanner'!$F$7:$G$250,2,0),0)","v":0}]
[10000935,null,null,{"$f":"IFERROR(VLOOKUP(A944,'Gegevens van scanner'!$F$7:$G$250,2,0),0)","v":0}]
[10000936,null,null,{"$f":"IFERROR(VLOOKUP(A945,'Gegevens van scanner'!$F$7:$G$250,2,0),0)","v":0}]
[10000937,null,null,{"$f":"IFERROR(VLOOKUP(A946,'Gegevens van scanner'!$F$7:$G$250,2,0),0)","v":0}]
[10000938,null,null,{"$f":"IFERROR(VLOOKUP(A947,'Gegevens van scanner'!$F$7:$G$250,2,0),0)","v":0}]
[10000939,null,null,{"$f":"IFERROR(VLOOKUP(A948,'Gegevens van scanner'!$F$7:$G$250,2,0),0)","v":0}]
[10000940,null,null,{"$f":"IFERROR(VLOOKUP(A949,'Gegevens van scanner'!$F$7:$G$250,2,0),0)","v":0}]
[10000941,null,null,{"$f":"IFERROR(VLOOKUP(A950,'Gegevens van scanner'!$F$7:$G$250,2,0),0)","v":0}]
[10000942,null,null,{"$f":"IFERROR(VLOOKUP(A951,'Gegevens van scanner'!$F$7:$G$250,2,0),0)","v":0}]
[10000943,null,null,{"$f":"IFERROR(VLOOKUP(A952,'Gegevens van scanner'!$F$7:$G$250,2,0),0)","v":0}]
[10000944,null,null,{"$f":"IFERROR(VLOOKUP(A953,'Gegevens van scanner'!$F$7:$G$250,2,0),0)","v":0}]
[10000945,null,null,{"$f":"IFERROR(VLOOKUP(A954,'Gegevens van scanner'!$F$7:$G$250,2,0),0)","v":0}]
[10000946,null,null,{"$f":"IFERROR(VLOOKUP(A955,'Gegevens van scanner'!$F$7:$G$250,2,0),0)","v":0}]
[10000947,null,null,{"$f":"IFERROR(VLOOKUP(A956,'Gegevens van scanner'!$F$7:$G$250,2,0),0)","v":0}]
[10000948,null,null,{"$f":"IFERROR(VLOOKUP(A957,'Gegevens van scanner'!$F$7:$G$250,2,0),0)","v":0}]
[10000949,null,null,{"$f":"IFERROR(VLOOKUP(A958,'Gegevens van scanner'!$F$7:$G$250,2,0),0)","v":0}]
[10000950,null,null,{"$f":"IFERROR(VLOOKUP(A959,'Gegevens van scanner'!$F$7:$G$250,2,0),0)","v":0}]
[10000951,null,null,{"$f":"IFERROR(VLOOKUP(A960,'Gegevens van scanner'!$F$7:$G$250,2,0),0)","v":0}]
[10000952,null,null,{"$f":"IFERROR(VLOOKUP(A961,'Gegevens van scanner'!$F$7:$G$250,2,0),0)","v":0}]
[10000953,null,null,{"$f":"IFERROR(VLOOKUP(A962,'Gegevens van scanner'!$F$7:$G$250,2,0),0)","v":0}]
[10000954,null,null,{"$f":"IFERROR(VLOOKUP(A963,'Gegevens van scanner'!$F$7:$G$250,2,0),0)","v":0}]
[10000955,null,null,{"$f":"IFERROR(VLOOKUP(A964,'Gegevens van scanner'!$F$7:$G$250,2,0),0)","v":0}]
[10000956,null,null,{"$f":"IFERROR(VLOOKUP(A965,'Gegevens van scanner'!$F$7:$G$250,2,0),0)","v":0}]
[10000957,null,null,{"$f":"IFERROR(VLOOKUP(A966,'Gegevens van scanner'!$F$7:$G$250,2,0),0)","v":0}]
[10000958,null,null,{"$f":"IFERROR(VLOOKUP(A967,'Gegevens van scanner'!$F$7:$G$250,2,0),0)","v":0}]
[10000959,null,null,{"$f":"IFERROR(VLOOKUP(A968,'Gegevens van scanner'!$F$7:$G$250,2,0),0)","v":0}]
[10000960,null,null,{"$f":"IFERROR(VLOOKUP(A969,'Gegevens van scanner'!$F$7:$G$250,2,0),0)","v":0}]
[10000961,null,null,{"$f":"IFERROR(VLOOKUP(A970,'Gegevens van scanner'!$F$7:$G$250,2,0),0)","v":0}]
[{"$f":"A970+1","v":10000962},null,null,{"$f":"IFERROR(VLOOKUP(A971,'Gegevens van scanner'!$F$7:$G$250,2,0),0)","v":0}]
[10000963,null,null,{"$f":"IFERROR(VLOOKUP(A972,'Gegevens van scanner'!$F$7:$G$250,2,0),0)","v":0}]
[10000964,null,null,{"$f":"IFERROR(VLOOKUP(A973,'Gegevens van scanner'!$F$7:$G$250,2,0),0)","v":0}]
[10000965,null,null,{"$f":"IFERROR(VLOOKUP(A974,'Gegevens van scanner'!$F$7:$G$250,2,0),0)","v":0}]
[10000966,null,null,{"$f":"IFERROR(VLOOKUP(A975,'Gegevens van scanner'!$F$7:$G$250,2,0),0)","v":0}]
[10000967,null,null,{"$f":"IFERROR(VLOOKUP(A976,'Gegevens van scanner'!$F$7:$G$250,2,0),0)","v":0}]
[10000968,null,null,{"$f":"IFERROR(VLOOKUP(A977,'Gegevens van scanner'!$F$7:$G$250,2,0),0)","v":0}]
[10000969,null,null,{"$f":"IFERROR(VLOOKUP(A978,'Gegevens van scanner'!$F$7:$G$250,2,0),0)","v":0}]
[10000970,null,null,{"$f":"IFERROR(VLOOKUP(A979,'Gegevens van scanner'!$F$7:$G$250,2,0),0)","v":0}]
[10000971,null,null,{"$f":"IFERROR(VLOOKUP(A980,'Gegevens van scanner'!$F$7:$G$250,2,0),0)","v":0}]
[10000972,null,null,{"$f":"IFERROR(VLOOKUP(A981,'Gegevens van scanner'!$F$7:$G$250,2,0),0)","v":0}]
[10000973,null,null,{"$f":"IFERROR(VLOOKUP(A982,'Gegevens van scanner'!$F$7:$G$250,2,0),0)","v":0}]
[10000974,null,null,{"$f":"IFERROR(VLOOKUP(A983,'Gegevens van scanner'!$F$7:$G$250,2,0),0)","v":0}]
[10000975,null,null,{"$f":"IFERROR(VLOOKUP(A984,'Gegevens van scanner'!$F$7:$G$250,2,0),0)","v":0}]
[10000976,null,null,{"$f":"IFERROR(VLOOKUP(A985,'Gegevens van scanner'!$F$7:$G$250,2,0),0)","v":0}]
[10000977,null,null,{"$f":"IFERROR(VLOOKUP(A986,'Gegevens van scanner'!$F$7:$G$250,2,0),0)","v":0}]
[10000978,null,null,{"$f":"IFERROR(VLOOKUP(A987,'Gegevens van scanner'!$F$7:$G$250,2,0),0)","v":0}]
[10000979,null,null,{"$f":"IFERROR(VLOOKUP(A988,'Gegevens van scanner'!$F$7:$G$250,2,0),0)","v":0}]
[10000980,null,null,{"$f":"IFERROR(VLOOKUP(A989,'Gegevens van scanner'!$F$7:$G$250,2,0),0)","v":0}]
[10000981,null,null,{"$f":"IFERROR(VLOOKUP(A990,'Gegevens van scanner'!$F$7:$G$250,2,0),0)","v":0}]
[10000982,null,null,{"$f":"IFERROR(VLOOKUP(A991,'Gegevens van scanner'!$F$7:$G$250,2,0),0)","v":0}]
[10000983,null,null,{"$f":"IFERROR(VLOOKUP(A992,'Gegevens van scanner'!$F$7:$G$250,2,0),0)","v":0}]
[10000984,null,null,{"$f":"IFERROR(VLOOKUP(A993,'Gegevens van scanner'!$F$7:$G$250,2,0),0)","v":0}]
[10000985,null,null,{"$f":"IFERROR(VLOOKUP(A994,'Gegevens van scanner'!$F$7:$G$250,2,0),0)","v":0}]
[10000986,null,null,{"$f":"IFERROR(VLOOKUP(A995,'Gegevens van scanner'!$F$7:$G$250,2,0),0)","v":0}]
[10000987,null,null,{"$f":"IFERROR(VLOOKUP(A996,'Gegevens van scanner'!$F$7:$G$250,2,0),0)","v":0}]
[10000988,null,null,{"$f":"IFERROR(VLOOKUP(A997,'Gegevens van scanner'!$F$7:$G$250,2,0),0)","v":0}]
[10000989,null,null,{"$f":"IFERROR(VLOOKUP(A998,'Gegevens van scanner'!$F$7:$G$250,2,0),0)","v":0}]
[10000990,null,null,{"$f":"IFERROR(VLOOKUP(A999,'Gegevens van scanner'!$F$7:$G$250,2,0),0)","v":0}]
[10000991,null,null,{"$f":"IFERROR(VLOOKUP(A1000,'Gegevens van scanner'!$F$7:$G$250,2,0),0)","v":0}]
[10000992,null,null,{"$f":"IFERROR(VLOOKUP(A1001,'Gegevens van scanner'!$F$7:$G$250,2,0),0)","v":0}]
[10000993,null,null,{"$f":"IFERROR(VLOOKUP(A1002,'Gegevens van scanner'!$F$7:$G$250,2,0),0)","v":0}]
[10000994,null,null,{"$f":"IFERROR(VLOOKUP(A1003,'Gegevens van scanner'!$F$7:$G$250,2,0),0)","v":0}]
[10000995,null,null,{"$f":"IFERROR(VLOOKUP(A1004,'Gegevens van scanner'!$F$7:$G$250,2,0),0)","v":0}]
[10000996,null,null,{"$f":"IFERROR(VLOOKUP(A1005,'Gegevens van scanner'!$F$7:$G$250,2,0),0)","v":0}]
[10000997,null,null,{"$f":"IFERROR(VLOOKUP(A1006,'Gegevens van scanner'!$F$7:$G$250,2,0),0)","v":0}]
[10000998,null,null,{"$f":"IFERROR(VLOOKUP(A1007,'Gegevens van scanner'!$F$7:$G$250,2,0),0)","v":0}]
[10000999,null,null,{"$f":"IFERROR(VLOOKUP(A1008,'Gegevens van scanner'!$F$7:$G$250,2,0),0)","v":0}]
[10001000,null,null,{"$f":"IFERROR(VLOOKUP(A1009,'Gegevens van scanner'!$F$7:$G$250,2,0),0)","v":0}]
[10001001,null,null,{"$f":"IFERROR(VLOOKUP(A1010,'Gegevens van scanner'!$F$7:$G$250,2,0),0)","v":0}]
[10001002,null,null,{"$f":"IFERROR(VLOOKUP(A1011,'Gegevens van scanner'!$F$7:$G$250,2,0),0)","v":0}]
[10001003,null,null,{"$f":"IFERROR(VLOOKUP(A1012,'Gegevens van scanner'!$F$7:$G$250,2,0),0)","v":0}]
[10001004,null,null,{"$f":"IFERROR(VLOOKUP(A1013,'Gegevens van scanner'!$F$7:$G$250,2,0),0)","v":0}]
[10001005,null,null,{"$f":"IFERROR(VLOOKUP(A1014,'Gegevens van scanner'!$F$7:$G$250,2,0),0)","v":0}]
[10001006,null,null,{"$f":"IFERROR(VLOOKUP(A1015,'Gegevens van scanner'!$F$7:$G$250,2,0),0)","v":0}]
[10001007,null,null,{"$f":"IFERROR(VLOOKUP(A1016,'Gegevens van scanner'!$F$7:$G$250,2,0),0)","v":0}]
[10001008,null,null,{"$f":"IFERROR(VLOOKUP(A1017,'Gegevens van scanner'!$F$7:$G$250,2,0),0)","v":0}]
[10001009,null,null,{"$f":"IFERROR(VLOOKUP(A1018,'Gegevens van scanner'!$F$7:$G$250,2,0),0)","v":0}]
[10001010,null,null,{"$f":"IFERROR(VLOOKUP(A1019,'Gegevens van scanner'!$F$7:$G$250,2,0),0)","v":0}]
[10001011,null,null,{"$f":"IFERROR(VLOOKUP(A1020,'Gegevens van scanner'!$F$7:$G$250,2,0),0)","v":0}]
[10001012,null,null,{"$f":"IFERROR(VLOOKUP(A1021,'Gegevens van scanner'!$F$7:$G$250,2,0),0)","v":0}]
[10001013,null,null,{"$f":"IFERROR(VLOOKUP(A1022,'Gegevens van scanner'!$F$7:$G$250,2,0),0)","v":0}]
[10001014,null,null,{"$f":"IFERROR(VLOOKUP(A1023,'Gegevens van scanner'!$F$7:$G$250,2,0),0)","v":0}]
[10001015,null,null,{"$f":"IFERROR(VLOOKUP(A1024,'Gegevens van scanner'!$F$7:$G$250,2,0),0)","v":0}]
[10001016,null,null,{"$f":"IFERROR(VLOOKUP(A1025,'Gegevens van scanner'!$F$7:$G$250,2,0),0)","v":0}]
[10001017,null,null,{"$f":"IFERROR(VLOOKUP(A1026,'Gegevens van scanner'!$F$7:$G$250,2,0),0)","v":0}]
[10001018,null,null,{"$f":"IFERROR(VLOOKUP(A1027,'Gegevens van scanner'!$F$7:$G$250,2,0),0)","v":0}]
[10001019,null,null,{"$f":"IFERROR(VLOOKUP(A1028,'Gegevens van scanner'!$F$7:$G$250,2,0),0)","v":0}]
[10001020,null,null,{"$f":"IFERROR(VLOOKUP(A1029,'Gegevens van scanner'!$F$7:$G$250,2,0),0)","v":0}]
[10001021,null,null,{"$f":"IFERROR(VLOOKUP(A1030,'Gegevens van scanner'!$F$7:$G$250,2,0),0)","v":0}]
[10001022,null,null,{"$f":"IFERROR(VLOOKUP(A1031,'Gegevens van scanner'!$F$7:$G$250,2,0),0)","v":0}]
[10001023,null,null,{"$f":"IFERROR(VLOOKUP(A1032,'Gegevens van scanner'!$F$7:$G$250,2,0),0)","v":0}]
[10001024,null,null,{"$f":"IFERROR(VLOOKUP(A1033,'Gegevens van scanner'!$F$7:$G$250,2,0),0)","v":0}]
[10001025,null,null,{"$f":"IFERROR(VLOOKUP(A1034,'Gegevens van scanner'!$F$7:$G$250,2,0),0)","v":0}]
[{"$f":"A1034+1","v":10001026},null,null,{"$f":"IFERROR(VLOOKUP(A1035,'Gegevens van scanner'!$F$7:$G$250,2,0),0)","v":0}]
[10001027,null,null,{"$f":"IFERROR(VLOOKUP(A1036,'Gegevens van scanner'!$F$7:$G$250,2,0),0)","v":0}]
[10001028,null,null,{"$f":"IFERROR(VLOOKUP(A1037,'Gegevens van scanner'!$F$7:$G$250,2,0),0)","v":0}]
[10001029,null,null,{"$f":"IFERROR(VLOOKUP(A1038,'Gegevens van scanner'!$F$7:$G$250,2,0),0)","v":0}]
[10001030,null,null,{"$f":"IFERROR(VLOOKUP(A1039,'Gegevens van scanner'!$F$7:$G$250,2,0),0)","v":0}]
[10001031,null,null,{"$f":"IFERROR(VLOOKUP(A1040,'Gegevens van scanner'!$F$7:$G$250,2,0),0)","v":0}]
[10001032,null,null,{"$f":"IFERROR(VLOOKUP(A1041,'Gegevens van scanner'!$F$7:$G$250,2,0),0)","v":0}]
[10001033,null,null,{"$f":"IFERROR(VLOOKUP(A1042,'Gegevens van scanner'!$F$7:$G$250,2,0),0)","v":0}]
[10001034,null,null,{"$f":"IFERROR(VLOOKUP(A1043,'Gegevens van scanner'!$F$7:$G$250,2,0),0)","v":0}]
[10001035,null,null,{"$f":"IFERROR(VLOOKUP(A1044,'Gegevens van scanner'!$F$7:$G$250,2,0),0)","v":0}]
[10001036,null,null,{"$f":"IFERROR(VLOOKUP(A1045,'Gegevens van scanner'!$F$7:$G$250,2,0),0)","v":0}]
[10001037,null,null,{"$f":"IFERROR(VLOOKUP(A1046,'Gegevens van scanner'!$F$7:$G$250,2,0),0)","v":0}]
[10001038,null,null,{"$f":"IFERROR(VLOOKUP(A1047,'Gegevens van scanner'!$F$7:$G$250,2,0),0)","v":0}]
[10001039,null,null,{"$f":"IFERROR(VLOOKUP(A1048,'Gegevens van scanner'!$F$7:$G$250,2,0),0)","v":0}]
[10001040,null,null,{"$f":"IFERROR(VLOOKUP(A1049,'Gegevens van scanner'!$F$7:$G$250,2,0),0)","v":0}]
[10001041,null,null,{"$f":"IFERROR(VLOOKUP(A1050,'Gegevens van scanner'!$F$7:$G$250,2,0),0)","v":0}]
[10001042,null,null,{"$f":"IFERROR(VLOOKUP(A1051,'Gegevens van scanner'!$F$7:$G$250,2,0),0)","v":0}]
[10001043,null,null,{"$f":"IFERROR(VLOOKUP(A1052,'Gegevens van scanner'!$F$7:$G$250,2,0),0)","v":0}]
[10001044,null,null,{"$f":"IFERROR(VLOOKUP(A1053,'Gegevens van scanner'!$F$7:$G$250,2,0),0)","v":0}]
[10001045,null,null,{"$f":"IFERROR(VLOOKUP(A1054,'Gegevens van scanner'!$F$7:$G$250,2,0),0)","v":0}]
[10001046,null,null,{"$f":"IFERROR(VLOOKUP(A1055,'Gegevens van scanner'!$F$7:$G$250,2,0),0)","v":0}]
[10001047,null,null,{"$f":"IFERROR(VLOOKUP(A1056,'Gegevens van scanner'!$F$7:$G$250,2,0),0)","v":0}]
[10001048,null,null,{"$f":"IFERROR(VLOOKUP(A1057,'Gegevens van scanner'!$F$7:$G$250,2,0),0)","v":0}]
[10001049,null,null,{"$f":"IFERROR(VLOOKUP(A1058,'Gegevens van scanner'!$F$7:$G$250,2,0),0)","v":0}]
[10001050,null,null,{"$f":"IFERROR(VLOOKUP(A1059,'Gegevens van scanner'!$F$7:$G$250,2,0),0)","v":0}]
[10001051,null,null,{"$f":"IFERROR(VLOOKUP(A1060,'Gegevens van scanner'!$F$7:$G$250,2,0),0)","v":0}]
[10001052,null,null,{"$f":"IFERROR(VLOOKUP(A1061,'Gegevens van scanner'!$F$7:$G$250,2,0),0)","v":0}]
[10001053,null,null,{"$f":"IFERROR(VLOOKUP(A1062,'Gegevens van scanner'!$F$7:$G$250,2,0),0)","v":0}]
[10001054,null,null,{"$f":"IFERROR(VLOOKUP(A1063,'Gegevens van scanner'!$F$7:$G$250,2,0),0)","v":0}]
[10001055,null,null,{"$f":"IFERROR(VLOOKUP(A1064,'Gegevens van scanner'!$F$7:$G$250,2,0),0)","v":0}]
[10001056,null,null,{"$f":"IFERROR(VLOOKUP(A1065,'Gegevens van scanner'!$F$7:$G$250,2,0),0)","v":0}]
[10001057,null,null,{"$f":"IFERROR(VLOOKUP(A1066,'Gegevens van scanner'!$F$7:$G$250,2,0),0)","v":0}]
[10001058,null,null,{"$f":"IFERROR(VLOOKUP(A1067,'Gegevens van scanner'!$F$7:$G$250,2,0),0)","v":0}]
[10001059,null,null,{"$f":"IFERROR(VLOOKUP(A1068,'Gegevens van scanner'!$F$7:$G$250,2,0),0)","v":0}]
[10001060,null,null,{"$f":"IFERROR(VLOOKUP(A1069,'Gegevens van scanner'!$F$7:$G$250,2,0),0)","v":0}]
[10001061,null,null,{"$f":"IFERROR(VLOOKUP(A1070,'Gegevens van scanner'!$F$7:$G$250,2,0),0)","v":0}]
[10001062,null,null,{"$f":"IFERROR(VLOOKUP(A1071,'Gegevens van scanner'!$F$7:$G$250,2,0),0)","v":0}]
[10001063,null,null,{"$f":"IFERROR(VLOOKUP(A1072,'Gegevens van scanner'!$F$7:$G$250,2,0),0)","v":0}]
[10001064,null,null,{"$f":"IFERROR(VLOOKUP(A1073,'Gegevens van scanner'!$F$7:$G$250,2,0),0)","v":0}]
[10001065,null,null,{"$f":"IFERROR(VLOOKUP(A1074,'Gegevens van scanner'!$F$7:$G$250,2,0),0)","v":0}]
[10001066,null,null,{"$f":"IFERROR(VLOOKUP(A1075,'Gegevens van scanner'!$F$7:$G$250,2,0),0)","v":0}]
[10001067,null,null,{"$f":"IFERROR(VLOOKUP(A1076,'Gegevens van scanner'!$F$7:$G$250,2,0),0)","v":0}]
[10001068,null,null,{"$f":"IFERROR(VLOOKUP(A1077,'Gegevens van scanner'!$F$7:$G$250,2,0),0)","v":0}]
[10001069,null,null,{"$f":"IFERROR(VLOOKUP(A1078,'Gegevens van scanner'!$F$7:$G$250,2,0),0)","v":0}]
[10001070,null,null,{"$f":"IFERROR(VLOOKUP(A1079,'Gegevens van scanner'!$F$7:$G$250,2,0),0)","v":0}]
[10001071,null,null,{"$f":"IFERROR(VLOOKUP(A1080,'Gegevens van scanner'!$F$7:$G$250,2,0),0)","v":0}]
[10001072,null,null,{"$f":"IFERROR(VLOOKUP(A1081,'Gegevens van scanner'!$F$7:$G$250,2,0),0)","v":0}]
[10001073,null,null,{"$f":"IFERROR(VLOOKUP(A1082,'Gegevens van scanner'!$F$7:$G$250,2,0),0)","v":0}]
[10001074,null,null,{"$f":"IFERROR(VLOOKUP(A1083,'Gegevens van scanner'!$F$7:$G$250,2,0),0)","v":0}]
[10001075,null,null,{"$f":"IFERROR(VLOOKUP(A1084,'Gegevens van scanner'!$F$7:$G$250,2,0),0)","v":0}]
[10001076,null,null,{"$f":"IFERROR(VLOOKUP(A1085,'Gegevens van scanner'!$F$7:$G$250,2,0),0)","v":0}]
[10001077,null,null,{"$f":"IFERROR(VLOOKUP(A1086,'Gegevens van scanner'!$F$7:$G$250,2,0),0)","v":0}]
[10001078,null,null,{"$f":"IFERROR(VLOOKUP(A1087,'Gegevens van scanner'!$F$7:$G$250,2,0),0)","v":0}]
[10001079,null,null,{"$f":"IFERROR(VLOOKUP(A1088,'Gegevens van scanner'!$F$7:$G$250,2,0),0)","v":0}]
[10001080,null,null,{"$f":"IFERROR(VLOOKUP(A1089,'Gegevens van scanner'!$F$7:$G$250,2,0),0)","v":0}]
[10001081,null,null,{"$f":"IFERROR(VLOOKUP(A1090,'Gegevens van scanner'!$F$7:$G$250,2,0),0)","v":0}]
[10001082,null,null,{"$f":"IFERROR(VLOOKUP(A1091,'Gegevens van scanner'!$F$7:$G$250,2,0),0)","v":0}]
[10001083,null,null,{"$f":"IFERROR(VLOOKUP(A1092,'Gegevens van scanner'!$F$7:$G$250,2,0),0)","v":0}]
[10001084,null,null,{"$f":"IFERROR(VLOOKUP(A1093,'Gegevens van scanner'!$F$7:$G$250,2,0),0)","v":0}]
[10001085,null,null,{"$f":"IFERROR(VLOOKUP(A1094,'Gegevens van scanner'!$F$7:$G$250,2,0),0)","v":0}]
[10001086,null,null,{"$f":"IFERROR(VLOOKUP(A1095,'Gegevens van scanner'!$F$7:$G$250,2,0),0)","v":0}]
[10001087,null,null,{"$f":"IFERROR(VLOOKUP(A1096,'Gegevens van scanner'!$F$7:$G$250,2,0),0)","v":0}]
[10001088,null,null,{"$f":"IFERROR(VLOOKUP(A1097,'Gegevens van scanner'!$F$7:$G$250,2,0),0)","v":0}]
[10001089,null,null,{"$f":"IFERROR(VLOOKUP(A1098,'Gegevens van scanner'!$F$7:$G$250,2,0),0)","v":0}]
[{"$f":"A1098+1","v":10001090},null,null,{"$f":"IFERROR(VLOOKUP(A1099,'Gegevens van scanner'!$F$7:$G$250,2,0),0)","v":0}]
[10001091,null,null,{"$f":"IFERROR(VLOOKUP(A1100,'Gegevens van scanner'!$F$7:$G$250,2,0),0)","v":0}]
[10001092,null,null,{"$f":"IFERROR(VLOOKUP(A1101,'Gegevens van scanner'!$F$7:$G$250,2,0),0)","v":0}]
[10001093,null,null,{"$f":"IFERROR(VLOOKUP(A1102,'Gegevens van scanner'!$F$7:$G$250,2,0),0)","v":0}]
[10001094,null,null,{"$f":"IFERROR(VLOOKUP(A1103,'Gegevens van scanner'!$F$7:$G$250,2,0),0)","v":0}]
[10001095,null,null,{"$f":"IFERROR(VLOOKUP(A1104,'Gegevens van scanner'!$F$7:$G$250,2,0),0)","v":0}]
[10001096,null,null,{"$f":"IFERROR(VLOOKUP(A1105,'Gegevens van scanner'!$F$7:$G$250,2,0),0)","v":0}]
[10001097,null,null,{"$f":"IFERROR(VLOOKUP(A1106,'Gegevens van scanner'!$F$7:$G$250,2,0),0)","v":0}]
[10001098,null,null,{"$f":"IFERROR(VLOOKUP(A1107,'Gegevens van scanner'!$F$7:$G$250,2,0),0)","v":0}]
[10001099,null,null,{"$f":"IFERROR(VLOOKUP(A1108,'Gegevens van scanner'!$F$7:$G$250,2,0),0)","v":0}]
[10001100,null,null,{"$f":"IFERROR(VLOOKUP(A1109,'Gegevens van scanner'!$F$7:$G$250,2,0),0)","v":0}]
[10001101,null,null,{"$f":"IFERROR(VLOOKUP(A1110,'Gegevens van scanner'!$F$7:$G$250,2,0),0)","v":0}]
[10001102,null,null,{"$f":"IFERROR(VLOOKUP(A1111,'Gegevens van scanner'!$F$7:$G$250,2,0),0)","v":0}]
[10001103,null,null,{"$f":"IFERROR(VLOOKUP(A1112,'Gegevens van scanner'!$F$7:$G$250,2,0),0)","v":0}]
[10001104,null,null,{"$f":"IFERROR(VLOOKUP(A1113,'Gegevens van scanner'!$F$7:$G$250,2,0),0)","v":0}]
[10001105,null,null,{"$f":"IFERROR(VLOOKUP(A1114,'Gegevens van scanner'!$F$7:$G$250,2,0),0)","v":0}]
[10001106,null,null,{"$f":"IFERROR(VLOOKUP(A1115,'Gegevens van scanner'!$F$7:$G$250,2,0),0)","v":0}]
[10001107,null,null,{"$f":"IFERROR(VLOOKUP(A1116,'Gegevens van scanner'!$F$7:$G$250,2,0),0)","v":0}]
[10001108,null,null,{"$f":"IFERROR(VLOOKUP(A1117,'Gegevens van scanner'!$F$7:$G$250,2,0),0)","v":0}]
[10001109,null,null,{"$f":"IFERROR(VLOOKUP(A1118,'Gegevens van scanner'!$F$7:$G$250,2,0),0)","v":0}]
[10001110,null,null,{"$f":"IFERROR(VLOOKUP(A1119,'Gegevens van scanner'!$F$7:$G$250,2,0),0)","v":0}]
[10001111,null,null,{"$f":"IFERROR(VLOOKUP(A1120,'Gegevens van scanner'!$F$7:$G$250,2,0),0)","v":0}]
[10001112,null,null,{"$f":"IFERROR(VLOOKUP(A1121,'Gegevens van scanner'!$F$7:$G$250,2,0),0)","v":0}]
[10001113,null,null,{"$f":"IFERROR(VLOOKUP(A1122,'Gegevens van scanner'!$F$7:$G$250,2,0),0)","v":0}]
[10001114,null,null,{"$f":"IFERROR(VLOOKUP(A1123,'Gegevens van scanner'!$F$7:$G$250,2,0),0)","v":0}]
[10001115,null,null,{"$f":"IFERROR(VLOOKUP(A1124,'Gegevens van scanner'!$F$7:$G$250,2,0),0)","v":0}]
[10001116,null,null,{"$f":"IFERROR(VLOOKUP(A1125,'Gegevens van scanner'!$F$7:$G$250,2,0),0)","v":0}]
[10001117,null,null,{"$f":"IFERROR(VLOOKUP(A1126,'Gegevens van scanner'!$F$7:$G$250,2,0),0)","v":0}]
[10001118,null,null,{"$f":"IFERROR(VLOOKUP(A1127,'Gegevens van scanner'!$F$7:$G$250,2,0),0)","v":0}]
[10001119,null,null,{"$f":"IFERROR(VLOOKUP(A1128,'Gegevens van scanner'!$F$7:$G$250,2,0),0)","v":0}]
[10001120,null,null,{"$f":"IFERROR(VLOOKUP(A1129,'Gegevens van scanner'!$F$7:$G$250,2,0),0)","v":0}]
[10001121,null,null,{"$f":"IFERROR(VLOOKUP(A1130,'Gegevens van scanner'!$F$7:$G$250,2,0),0)","v":0}]
[10001122,null,null,{"$f":"IFERROR(VLOOKUP(A1131,'Gegevens van scanner'!$F$7:$G$250,2,0),0)","v":0}]
[10001123,null,null,{"$f":"IFERROR(VLOOKUP(A1132,'Gegevens van scanner'!$F$7:$G$250,2,0),0)","v":0}]
[10001124,null,null,{"$f":"IFERROR(VLOOKUP(A1133,'Gegevens van scanner'!$F$7:$G$250,2,0),0)","v":0}]
[10001125,null,null,{"$f":"IFERROR(VLOOKUP(A1134,'Gegevens van scanner'!$F$7:$G$250,2,0),0)","v":0}]
[10001126,null,null,{"$f":"IFERROR(VLOOKUP(A1135,'Gegevens van scanner'!$F$7:$G$250,2,0),0)","v":0}]
[10001127,null,null,{"$f":"IFERROR(VLOOKUP(A1136,'Gegevens van scanner'!$F$7:$G$250,2,0),0)","v":0}]
[10001128,null,null,{"$f":"IFERROR(VLOOKUP(A1137,'Gegevens van scanner'!$F$7:$G$250,2,0),0)","v":0}]
[10001129,null,null,{"$f":"IFERROR(VLOOKUP(A1138,'Gegevens van scanner'!$F$7:$G$250,2,0),0)","v":0}]
[10001130,null,null,{"$f":"IFERROR(VLOOKUP(A1139,'Gegevens van scanner'!$F$7:$G$250,2,0),0)","v":0}]
[10001131,null,null,{"$f":"IFERROR(VLOOKUP(A1140,'Gegevens van scanner'!$F$7:$G$250,2,0),0)","v":0}]
[10001132,null,null,{"$f":"IFERROR(VLOOKUP(A1141,'Gegevens van scanner'!$F$7:$G$250,2,0),0)","v":0}]
[10001133,null,null,{"$f":"IFERROR(VLOOKUP(A1142,'Gegevens van scanner'!$F$7:$G$250,2,0),0)","v":0}]
[10001134,null,null,{"$f":"IFERROR(VLOOKUP(A1143,'Gegevens van scanner'!$F$7:$G$250,2,0),0)","v":0}]
[10001135,null,null,{"$f":"IFERROR(VLOOKUP(A1144,'Gegevens van scanner'!$F$7:$G$250,2,0),0)","v":0}]
[10001136,null,null,{"$f":"IFERROR(VLOOKUP(A1145,'Gegevens van scanner'!$F$7:$G$250,2,0),0)","v":0}]
[10001137,null,null,{"$f":"IFERROR(VLOOKUP(A1146,'Gegevens van scanner'!$F$7:$G$250,2,0),0)","v":0}]
[10001138,null,null,{"$f":"IFERROR(VLOOKUP(A1147,'Gegevens van scanner'!$F$7:$G$250,2,0),0)","v":0}]
[10001139,null,null,{"$f":"IFERROR(VLOOKUP(A1148,'Gegevens van scanner'!$F$7:$G$250,2,0),0)","v":0}]
[10001140,null,null,{"$f":"IFERROR(VLOOKUP(A1149,'Gegevens van scanner'!$F$7:$G$250,2,0),0)","v":0}]
[10001141,null,null,{"$f":"IFERROR(VLOOKUP(A1150,'Gegevens van scanner'!$F$7:$G$250,2,0),0)","v":0}]
[10001142,null,null,{"$f":"IFERROR(VLOOKUP(A1151,'Gegevens van scanner'!$F$7:$G$250,2,0),0)","v":0}]
[10001143,null,null,{"$f":"IFERROR(VLOOKUP(A1152,'Gegevens van scanner'!$F$7:$G$250,2,0),0)","v":0}]
[10001144,null,null,{"$f":"IFERROR(VLOOKUP(A1153,'Gegevens van scanner'!$F$7:$G$250,2,0),0)","v":0}]
[10001145,null,null,{"$f":"IFERROR(VLOOKUP(A1154,'Gegevens van scanner'!$F$7:$G$250,2,0),0)","v":0}]
[10001146,null,null,{"$f":"IFERROR(VLOOKUP(A1155,'Gegevens van scanner'!$F$7:$G$250,2,0),0)","v":0}]
[10001147,null,null,{"$f":"IFERROR(VLOOKUP(A1156,'Gegevens van scanner'!$F$7:$G$250,2,0),0)","v":0}]
[10001148,null,null,{"$f":"IFERROR(VLOOKUP(A1157,'Gegevens van scanner'!$F$7:$G$250,2,0),0)","v":0}]
[10001149,null,null,{"$f":"IFERROR(VLOOKUP(A1158,'Gegevens van scanner'!$F$7:$G$250,2,0),0)","v":0}]
[10001150,null,null,{"$f":"IFERROR(VLOOKUP(A1159,'Gegevens van scanner'!$F$7:$G$250,2,0),0)","v":0}]
[10001151,null,null,{"$f":"IFERROR(VLOOKUP(A1160,'Gegevens van scanner'!$F$7:$G$250,2,0),0)","v":0}]
[10001152,null,null,{"$f":"IFERROR(VLOOKUP(A1161,'Gegevens van scanner'!$F$7:$G$250,2,0),0)","v":0}]
[10001153,null,null,{"$f":"IFERROR(VLOOKUP(A1162,'Gegevens van scanner'!$F$7:$G$250,2,0),0)","v":0}]
[{"$f":"A1162+1","v":10001154},null,null,{"$f":"IFERROR(VLOOKUP(A1163,'Gegevens van scanner'!$F$7:$G$250,2,0),0)","v":0}]
[10001155,null,null,{"$f":"IFERROR(VLOOKUP(A1164,'Gegevens van scanner'!$F$7:$G$250,2,0),0)","v":0}]
[10001156,null,null,{"$f":"IFERROR(VLOOKUP(A1165,'Gegevens van scanner'!$F$7:$G$250,2,0),0)","v":0}]
[10001157,null,null,{"$f":"IFERROR(VLOOKUP(A1166,'Gegevens van scanner'!$F$7:$G$250,2,0),0)","v":0}]
[10001158,null,null,{"$f":"IFERROR(VLOOKUP(A1167,'Gegevens van scanner'!$F$7:$G$250,2,0),0)","v":0}]
[10001159,null,null,{"$f":"IFERROR(VLOOKUP(A1168,'Gegevens van scanner'!$F$7:$G$250,2,0),0)","v":0}]
[10001160,null,null,{"$f":"IFERROR(VLOOKUP(A1169,'Gegevens van scanner'!$F$7:$G$250,2,0),0)","v":0}]
[10001161,null,null,{"$f":"IFERROR(VLOOKUP(A1170,'Gegevens van scanner'!$F$7:$G$250,2,0),0)","v":0}]
[10001162,null,null,{"$f":"IFERROR(VLOOKUP(A1171,'Gegevens van scanner'!$F$7:$G$250,2,0),0)","v":0}]
[10001163,null,null,{"$f":"IFERROR(VLOOKUP(A1172,'Gegevens van scanner'!$F$7:$G$250,2,0),0)","v":0}]
[10001164,null,null,{"$f":"IFERROR(VLOOKUP(A1173,'Gegevens van scanner'!$F$7:$G$250,2,0),0)","v":0}]
[10001165,null,null,{"$f":"IFERROR(VLOOKUP(A1174,'Gegevens van scanner'!$F$7:$G$250,2,0),0)","v":0}]
[10001166,null,null,{"$f":"IFERROR(VLOOKUP(A1175,'Gegevens van scanner'!$F$7:$G$250,2,0),0)","v":0}]
[10001167,null,null,{"$f":"IFERROR(VLOOKUP(A1176,'Gegevens van scanner'!$F$7:$G$250,2,0),0)","v":0}]
[10001168,null,null,{"$f":"IFERROR(VLOOKUP(A1177,'Gegevens van scanner'!$F$7:$G$250,2,0),0)","v":0}]
[10001169,null,null,{"$f":"IFERROR(VLOOKUP(A1178,'Gegevens van scanner'!$F$7:$G$250,2,0),0)","v":0}]
[10001170,null,null,{"$f":"IFERROR(VLOOKUP(A1179,'Gegevens van scanner'!$F$7:$G$250,2,0),0)","v":0}]
[10001171,null,null,{"$f":"IFERROR(VLOOKUP(A1180,'Gegevens van scanner'!$F$7:$G$250,2,0),0)","v":0}]
[10001172,null,null,{"$f":"IFERROR(VLOOKUP(A1181,'Gegevens van scanner'!$F$7:$G$250,2,0),0)","v":0}]
[10001173,null,null,{"$f":"IFERROR(VLOOKUP(A1182,'Gegevens van scanner'!$F$7:$G$250,2,0),0)","v":0}]
[10001174,null,null,{"$f":"IFERROR(VLOOKUP(A1183,'Gegevens van scanner'!$F$7:$G$250,2,0),0)","v":0}]
[10001175,null,null,{"$f":"IFERROR(VLOOKUP(A1184,'Gegevens van scanner'!$F$7:$G$250,2,0),0)","v":0}]
[10001176,null,null,{"$f":"IFERROR(VLOOKUP(A1185,'Gegevens van scanner'!$F$7:$G$250,2,0),0)","v":0}]
[10001177,null,null,{"$f":"IFERROR(VLOOKUP(A1186,'Gegevens van scanner'!$F$7:$G$250,2,0),0)","v":0}]
[10001178,null,null,{"$f":"IFERROR(VLOOKUP(A1187,'Gegevens van scanner'!$F$7:$G$250,2,0),0)","v":0}]
[10001179,null,null,{"$f":"IFERROR(VLOOKUP(A1188,'Gegevens van scanner'!$F$7:$G$250,2,0),0)","v":0}]
[10001180,null,null,{"$f":"IFERROR(VLOOKUP(A1189,'Gegevens van scanner'!$F$7:$G$250,2,0),0)","v":0}]
[10001181,null,null,{"$f":"IFERROR(VLOOKUP(A1190,'Gegevens van scanner'!$F$7:$G$250,2,0),0)","v":0}]
[10001182,null,null,{"$f":"IFERROR(VLOOKUP(A1191,'Gegevens van scanner'!$F$7:$G$250,2,0),0)","v":0}]
[10001183,null,null,{"$f":"IFERROR(VLOOKUP(A1192,'Gegevens van scanner'!$F$7:$G$250,2,0),0)","v":0}]
[10001184,null,null,{"$f":"IFERROR(VLOOKUP(A1193,'Gegevens van scanner'!$F$7:$G$250,2,0),0)","v":0}]
[10001185,null,null,{"$f":"IFERROR(VLOOKUP(A1194,'Gegevens van scanner'!$F$7:$G$250,2,0),0)","v":0}]
[10001186,null,null,{"$f":"IFERROR(VLOOKUP(A1195,'Gegevens van scanner'!$F$7:$G$250,2,0),0)","v":0}]
[10001187,null,null,{"$f":"IFERROR(VLOOKUP(A1196,'Gegevens van scanner'!$F$7:$G$250,2,0),0)","v":0}]
[10001188,null,null,{"$f":"IFERROR(VLOOKUP(A1197,'Gegevens van scanner'!$F$7:$G$250,2,0),0)","v":0}]
[10001189,null,null,{"$f":"IFERROR(VLOOKUP(A1198,'Gegevens van scanner'!$F$7:$G$250,2,0),0)","v":0}]
[10001190,null,null,{"$f":"IFERROR(VLOOKUP(A1199,'Gegevens van scanner'!$F$7:$G$250,2,0),0)","v":0}]
[10001191,null,null,{"$f":"IFERROR(VLOOKUP(A1200,'Gegevens van scanner'!$F$7:$G$250,2,0),0)","v":0}]
[10001192,null,null,{"$f":"IFERROR(VLOOKUP(A1201,'Gegevens van scanner'!$F$7:$G$250,2,0),0)","v":0}]
[10001193,null,null,{"$f":"IFERROR(VLOOKUP(A1202,'Gegevens van scanner'!$F$7:$G$250,2,0),0)","v":0}]
[10001194,null,null,{"$f":"IFERROR(VLOOKUP(A1203,'Gegevens van scanner'!$F$7:$G$250,2,0),0)","v":0}]
[10001195,null,null,{"$f":"IFERROR(VLOOKUP(A1204,'Gegevens van scanner'!$F$7:$G$250,2,0),0)","v":0}]
[10001196,null,null,{"$f":"IFERROR(VLOOKUP(A1205,'Gegevens van scanner'!$F$7:$G$250,2,0),0)","v":0}]
[10001197,null,null,{"$f":"IFERROR(VLOOKUP(A1206,'Gegevens van scanner'!$F$7:$G$250,2,0),0)","v":0}]
[10001198,null,null,{"$f":"IFERROR(VLOOKUP(A1207,'Gegevens van scanner'!$F$7:$G$250,2,0),0)","v":0}]
[10001199,null,null,{"$f":"IFERROR(VLOOKUP(A1208,'Gegevens van scanner'!$F$7:$G$250,2,0),0)","v":0}]
[10001200,null,null,{"$f":"IFERROR(VLOOKUP(A1209,'Gegevens van scanner'!$F$7:$G$250,2,0),0)","v":0}]
[10001201,null,null,{"$f":"IFERROR(VLOOKUP(A1210,'Gegevens van scanner'!$F$7:$G$250,2,0),0)","v":0}]
[10001202,null,null,{"$f":"IFERROR(VLOOKUP(A1211,'Gegevens van scanner'!$F$7:$G$250,2,0),0)","v":0}]
[10001203,null,null,{"$f":"IFERROR(VLOOKUP(A1212,'Gegevens van scanner'!$F$7:$G$250,2,0),0)","v":0}]
[10001204,null,null,{"$f":"IFERROR(VLOOKUP(A1213,'Gegevens van scanner'!$F$7:$G$250,2,0),0)","v":0}]
[10001205,null,null,{"$f":"IFERROR(VLOOKUP(A1214,'Gegevens van scanner'!$F$7:$G$250,2,0),0)","v":0}]
[10001206,null,null,{"$f":"IFERROR(VLOOKUP(A1215,'Gegevens van scanner'!$F$7:$G$250,2,0),0)","v":0}]
[10001207,null,null,{"$f":"IFERROR(VLOOKUP(A1216,'Gegevens van scanner'!$F$7:$G$250,2,0),0)","v":0}]
[10001208,null,null,{"$f":"IFERROR(VLOOKUP(A1217,'Gegevens van scanner'!$F$7:$G$250,2,0),0)","v":0}]
[10001209,null,null,{"$f":"IFERROR(VLOOKUP(A1218,'Gegevens van scanner'!$F$7:$G$250,2,0),0)","v":0}]
[10001210,null,null,{"$f":"IFERROR(VLOOKUP(A1219,'Gegevens van scanner'!$F$7:$G$250,2,0),0)","v":0}]
[10001211,null,null,{"$f":"IFERROR(VLOOKUP(A1220,'Gegevens van scanner'!$F$7:$G$250,2,0),0)","v":0}]
[10001212,null,null,{"$f":"IFERROR(VLOOKUP(A1221,'Gegevens van scanner'!$F$7:$G$250,2,0),0)","v":0}]
[10001213,null,null,{"$f":"IFERROR(VLOOKUP(A1222,'Gegevens van scanner'!$F$7:$G$250,2,0),0)","v":0}]
[10001214,null,null,{"$f":"IFERROR(VLOOKUP(A1223,'Gegevens van scanner'!$F$7:$G$250,2,0),0)","v":0}]
[10001215,null,null,{"$f":"IFERROR(VLOOKUP(A1224,'Gegevens van scanner'!$F$7:$G$250,2,0),0)","v":0}]
[10001216,null,null,{"$f":"IFERROR(VLOOKUP(A1225,'Gegevens van scanner'!$F$7:$G$250,2,0),0)","v":0}]
[10001217,null,null,{"$f":"IFERROR(VLOOKUP(A1226,'Gegevens van scanner'!$F$7:$G$250,2,0),0)","v":0}]
[{"$f":"A1226+1","v":10001218},null,null,{"$f":"IFERROR(VLOOKUP(A1227,'Gegevens van scanner'!$F$7:$G$250,2,0),0)","v":0}]
[10001219,null,null,{"$f":"IFERROR(VLOOKUP(A1228,'Gegevens van scanner'!$F$7:$G$250,2,0),0)","v":0}]
[10001220,null,null,{"$f":"IFERROR(VLOOKUP(A1229,'Gegevens van scanner'!$F$7:$G$250,2,0),0)","v":0}]
[10001221,null,null,{"$f":"IFERROR(VLOOKUP(A1230,'Gegevens van scanner'!$F$7:$G$250,2,0),0)","v":0}]
[10001222,null,null,{"$f":"IFERROR(VLOOKUP(A1231,'Gegevens van scanner'!$F$7:$G$250,2,0),0)","v":0}]
[10001223,null,null,{"$f":"IFERROR(VLOOKUP(A1232,'Gegevens van scanner'!$F$7:$G$250,2,0),0)","v":0}]
[10001224,null,null,{"$f":"IFERROR(VLOOKUP(A1233,'Gegevens van scanner'!$F$7:$G$250,2,0),0)","v":0}]
[10001225,null,null,{"$f":"IFERROR(VLOOKUP(A1234,'Gegevens van scanner'!$F$7:$G$250,2,0),0)","v":0}]
[10001226,null,null,{"$f":"IFERROR(VLOOKUP(A1235,'Gegevens van scanner'!$F$7:$G$250,2,0),0)","v":0}]
[10001227,null,null,{"$f":"IFERROR(VLOOKUP(A1236,'Gegevens van scanner'!$F$7:$G$250,2,0),0)","v":0}]
[10001228,null,null,{"$f":"IFERROR(VLOOKUP(A1237,'Gegevens van scanner'!$F$7:$G$250,2,0),0)","v":0}]
[10001229,null,null,{"$f":"IFERROR(VLOOKUP(A1238,'Gegevens van scanner'!$F$7:$G$250,2,0),0)","v":0}]
[10001230,null,null,{"$f":"IFERROR(VLOOKUP(A1239,'Gegevens van scanner'!$F$7:$G$250,2,0),0)","v":0}]
[10001231,null,null,{"$f":"IFERROR(VLOOKUP(A1240,'Gegevens van scanner'!$F$7:$G$250,2,0),0)","v":0}]
[10001232,null,null,{"$f":"IFERROR(VLOOKUP(A1241,'Gegevens van scanner'!$F$7:$G$250,2,0),0)","v":0}]
[10001233,null,null,{"$f":"IFERROR(VLOOKUP(A1242,'Gegevens van scanner'!$F$7:$G$250,2,0),0)","v":0}]
[10001234,null,null,{"$f":"IFERROR(VLOOKUP(A1243,'Gegevens van scanner'!$F$7:$G$250,2,0),0)","v":0}]
[10001235,null,null,{"$f":"IFERROR(VLOOKUP(A1244,'Gegevens van scanner'!$F$7:$G$250,2,0),0)","v":0}]
[10001236,null,null,{"$f":"IFERROR(VLOOKUP(A1245,'Gegevens van scanner'!$F$7:$G$250,2,0),0)","v":0}]
[10001237,null,null,{"$f":"IFERROR(VLOOKUP(A1246,'Gegevens van scanner'!$F$7:$G$250,2,0),0)","v":0}]
[10001238,null,null,{"$f":"IFERROR(VLOOKUP(A1247,'Gegevens van scanner'!$F$7:$G$250,2,0),0)","v":0}]
[10001239,null,null,{"$f":"IFERROR(VLOOKUP(A1248,'Gegevens van scanner'!$F$7:$G$250,2,0),0)","v":0}]
[10001240,null,null,{"$f":"IFERROR(VLOOKUP(A1249,'Gegevens van scanner'!$F$7:$G$250,2,0),0)","v":0}]
[10001241,null,null,{"$f":"IFERROR(VLOOKUP(A1250,'Gegevens van scanner'!$F$7:$G$250,2,0),0)","v":0}]
[10001242,null,null,{"$f":"IFERROR(VLOOKUP(A1251,'Gegevens van scanner'!$F$7:$G$250,2,0),0)","v":0}]
[10001243,null,null,{"$f":"IFERROR(VLOOKUP(A1252,'Gegevens van scanner'!$F$7:$G$250,2,0),0)","v":0}]
[10001244,null,null,{"$f":"IFERROR(VLOOKUP(A1253,'Gegevens van scanner'!$F$7:$G$250,2,0),0)","v":0}]
[10001245,null,null,{"$f":"IFERROR(VLOOKUP(A1254,'Gegevens van scanner'!$F$7:$G$250,2,0),0)","v":0}]
[10001246,null,null,{"$f":"IFERROR(VLOOKUP(A1255,'Gegevens van scanner'!$F$7:$G$250,2,0),0)","v":0}]
[10001247,null,null,{"$f":"IFERROR(VLOOKUP(A1256,'Gegevens van scanner'!$F$7:$G$250,2,0),0)","v":0}]
[10001248,null,null,{"$f":"IFERROR(VLOOKUP(A1257,'Gegevens van scanner'!$F$7:$G$250,2,0),0)","v":0}]
[10001249,null,null,{"$f":"IFERROR(VLOOKUP(A1258,'Gegevens van scanner'!$F$7:$G$250,2,0),0)","v":0}]
[10001250,null,null,{"$f":"IFERROR(VLOOKUP(A1259,'Gegevens van scanner'!$F$7:$G$250,2,0),0)","v":0}]
[10001251,null,null,{"$f":"IFERROR(VLOOKUP(A1260,'Gegevens van scanner'!$F$7:$G$250,2,0),0)","v":0}]
[10001252,null,null,{"$f":"IFERROR(VLOOKUP(A1261,'Gegevens van scanner'!$F$7:$G$250,2,0),0)","v":0}]
[10001253,null,null,{"$f":"IFERROR(VLOOKUP(A1262,'Gegevens van scanner'!$F$7:$G$250,2,0),0)","v":0}]
[10001254,null,null,{"$f":"IFERROR(VLOOKUP(A1263,'Gegevens van scanner'!$F$7:$G$250,2,0),0)","v":0}]
[10001255,null,null,{"$f":"IFERROR(VLOOKUP(A1264,'Gegevens van scanner'!$F$7:$G$250,2,0),0)","v":0}]
[10001256,null,null,{"$f":"IFERROR(VLOOKUP(A1265,'Gegevens van scanner'!$F$7:$G$250,2,0),0)","v":0}]
[10001257,null,null,{"$f":"IFERROR(VLOOKUP(A1266,'Gegevens van scanner'!$F$7:$G$250,2,0),0)","v":0}]
[10001258,null,null,{"$f":"IFERROR(VLOOKUP(A1267,'Gegevens van scanner'!$F$7:$G$250,2,0),0)","v":0}]
[10001259,null,null,{"$f":"IFERROR(VLOOKUP(A1268,'Gegevens van scanner'!$F$7:$G$250,2,0),0)","v":0}]
[10001260,null,null,{"$f":"IFERROR(VLOOKUP(A1269,'Gegevens van scanner'!$F$7:$G$250,2,0),0)","v":0}]
[10001261,null,null,{"$f":"IFERROR(VLOOKUP(A1270,'Gegevens van scanner'!$F$7:$G$250,2,0),0)","v":0}]
[10001262,null,null,{"$f":"IFERROR(VLOOKUP(A1271,'Gegevens van scanner'!$F$7:$G$250,2,0),0)","v":0}]
[10001263,null,null,{"$f":"IFERROR(VLOOKUP(A1272,'Gegevens van scanner'!$F$7:$G$250,2,0),0)","v":0}]
[10001264,null,null,{"$f":"IFERROR(VLOOKUP(A1273,'Gegevens van scanner'!$F$7:$G$250,2,0),0)","v":0}]
[10001265,null,null,{"$f":"IFERROR(VLOOKUP(A1274,'Gegevens van scanner'!$F$7:$G$250,2,0),0)","v":0}]
[10001266,null,null,{"$f":"IFERROR(VLOOKUP(A1275,'Gegevens van scanner'!$F$7:$G$250,2,0),0)","v":0}]
[10001267,null,null,{"$f":"IFERROR(VLOOKUP(A1276,'Gegevens van scanner'!$F$7:$G$250,2,0),0)","v":0}]
[10001268,null,null,{"$f":"IFERROR(VLOOKUP(A1277,'Gegevens van scanner'!$F$7:$G$250,2,0),0)","v":0}]
[10001269,null,null,{"$f":"IFERROR(VLOOKUP(A1278,'Gegevens van scanner'!$F$7:$G$250,2,0),0)","v":0}]
[10001270,null,null,{"$f":"IFERROR(VLOOKUP(A1279,'Gegevens van scanner'!$F$7:$G$250,2,0),0)","v":0}]
[10001271,null,null,{"$f":"IFERROR(VLOOKUP(A1280,'Gegevens van scanner'!$F$7:$G$250,2,0),0)","v":0}]
[10001272,null,null,{"$f":"IFERROR(VLOOKUP(A1281,'Gegevens van scanner'!$F$7:$G$250,2,0),0)","v":0}]
[10001273,null,null,{"$f":"IFERROR(VLOOKUP(A1282,'Gegevens van scanner'!$F$7:$G$250,2,0),0)","v":0}]
[10001274,null,null,{"$f":"IFERROR(VLOOKUP(A1283,'Gegevens van scanner'!$F$7:$G$250,2,0),0)","v":0}]
[10001275,null,null,{"$f":"IFERROR(VLOOKUP(A1284,'Gegevens van scanner'!$F$7:$G$250,2,0),0)","v":0}]
[10001276,null,null,{"$f":"IFERROR(VLOOKUP(A1285,'Gegevens van scanner'!$F$7:$G$250,2,0),0)","v":0}]
[10001277,null,null,{"$f":"IFERROR(VLOOKUP(A1286,'Gegevens van scanner'!$F$7:$G$250,2,0),0)","v":0}]
[10001278,null,null,{"$f":"IFERROR(VLOOKUP(A1287,'Gegevens van scanner'!$F$7:$G$250,2,0),0)","v":0}]
[10001279,null,null,{"$f":"IFERROR(VLOOKUP(A1288,'Gegevens van scanner'!$F$7:$G$250,2,0),0)","v":0}]
[10001280,null,null,{"$f":"IFERROR(VLOOKUP(A1289,'Gegevens van scanner'!$F$7:$G$250,2,0),0)","v":0}]
[10001281,null,null,{"$f":"IFERROR(VLOOKUP(A1290,'Gegevens van scanner'!$F$7:$G$250,2,0),0)","v":0}]
[{"$f":"A1290+1","v":10001282},null,null,{"$f":"IFERROR(VLOOKUP(A1291,'Gegevens van scanner'!$F$7:$G$250,2,0),0)","v":0}]
[10001283,null,null,{"$f":"IFERROR(VLOOKUP(A1292,'Gegevens van scanner'!$F$7:$G$250,2,0),0)","v":0}]
[10001284,null,null,{"$f":"IFERROR(VLOOKUP(A1293,'Gegevens van scanner'!$F$7:$G$250,2,0),0)","v":0}]
[10001285,null,null,{"$f":"IFERROR(VLOOKUP(A1294,'Gegevens van scanner'!$F$7:$G$250,2,0),0)","v":0}]
[10001286,null,null,{"$f":"IFERROR(VLOOKUP(A1295,'Gegevens van scanner'!$F$7:$G$250,2,0),0)","v":0}]
[10001287,null,null,{"$f":"IFERROR(VLOOKUP(A1296,'Gegevens van scanner'!$F$7:$G$250,2,0),0)","v":0}]
[10001288,null,null,{"$f":"IFERROR(VLOOKUP(A1297,'Gegevens van scanner'!$F$7:$G$250,2,0),0)","v":0}]
[10001289,null,null,{"$f":"IFERROR(VLOOKUP(A1298,'Gegevens van scanner'!$F$7:$G$250,2,0),0)","v":0}]
[10001290,null,null,{"$f":"IFERROR(VLOOKUP(A1299,'Gegevens van scanner'!$F$7:$G$250,2,0),0)","v":0}]
[10001291,null,null,{"$f":"IFERROR(VLOOKUP(A1300,'Gegevens van scanner'!$F$7:$G$250,2,0),0)","v":0}]
[10001292,null,null,{"$f":"IFERROR(VLOOKUP(A1301,'Gegevens van scanner'!$F$7:$G$250,2,0),0)","v":0}]
[10001293,null,null,{"$f":"IFERROR(VLOOKUP(A1302,'Gegevens van scanner'!$F$7:$G$250,2,0),0)","v":0}]
[10001294,null,null,{"$f":"IFERROR(VLOOKUP(A1303,'Gegevens van scanner'!$F$7:$G$250,2,0),0)","v":0}]
[10001295,null,null,{"$f":"IFERROR(VLOOKUP(A1304,'Gegevens van scanner'!$F$7:$G$250,2,0),0)","v":0}]
[10001296,null,null,{"$f":"IFERROR(VLOOKUP(A1305,'Gegevens van scanner'!$F$7:$G$250,2,0),0)","v":0}]
[10001297,null,null,{"$f":"IFERROR(VLOOKUP(A1306,'Gegevens van scanner'!$F$7:$G$250,2,0),0)","v":0}]
[10001298,null,null,{"$f":"IFERROR(VLOOKUP(A1307,'Gegevens van scanner'!$F$7:$G$250,2,0),0)","v":0}]
[10001299,null,null,{"$f":"IFERROR(VLOOKUP(A1308,'Gegevens van scanner'!$F$7:$G$250,2,0),0)","v":0}]
[10001300,null,null,{"$f":"IFERROR(VLOOKUP(A1309,'Gegevens van scanner'!$F$7:$G$250,2,0),0)","v":0}]
[10001301,null,null,{"$f":"IFERROR(VLOOKUP(A1310,'Gegevens van scanner'!$F$7:$G$250,2,0),0)","v":0}]
[10001302,null,null,{"$f":"IFERROR(VLOOKUP(A1311,'Gegevens van scanner'!$F$7:$G$250,2,0),0)","v":0}]
[10001303,null,null,{"$f":"IFERROR(VLOOKUP(A1312,'Gegevens van scanner'!$F$7:$G$250,2,0),0)","v":0}]
[10001304,null,null,{"$f":"IFERROR(VLOOKUP(A1313,'Gegevens van scanner'!$F$7:$G$250,2,0),0)","v":0}]
[10001305,null,null,{"$f":"IFERROR(VLOOKUP(A1314,'Gegevens van scanner'!$F$7:$G$250,2,0),0)","v":0}]
[10001306,null,null,{"$f":"IFERROR(VLOOKUP(A1315,'Gegevens van scanner'!$F$7:$G$250,2,0),0)","v":0}]
[10001307,null,null,{"$f":"IFERROR(VLOOKUP(A1316,'Gegevens van scanner'!$F$7:$G$250,2,0),0)","v":0}]
[10001308,null,null,{"$f":"IFERROR(VLOOKUP(A1317,'Gegevens van scanner'!$F$7:$G$250,2,0),0)","v":0}]
[10001309,null,null,{"$f":"IFERROR(VLOOKUP(A1318,'Gegevens van scanner'!$F$7:$G$250,2,0),0)","v":0}]
[10001310,null,null,{"$f":"IFERROR(VLOOKUP(A1319,'Gegevens van scanner'!$F$7:$G$250,2,0),0)","v":0}]
[10001311,null,null,{"$f":"IFERROR(VLOOKUP(A1320,'Gegevens van scanner'!$F$7:$G$250,2,0),0)","v":0}]
[10001312,null,null,{"$f":"IFERROR(VLOOKUP(A1321,'Gegevens van scanner'!$F$7:$G$250,2,0),0)","v":0}]
[10001313,null,null,{"$f":"IFERROR(VLOOKUP(A1322,'Gegevens van scanner'!$F$7:$G$250,2,0),0)","v":0}]
[10001314,null,null,{"$f":"IFERROR(VLOOKUP(A1323,'Gegevens van scanner'!$F$7:$G$250,2,0),0)","v":0}]
[10001315,null,null,{"$f":"IFERROR(VLOOKUP(A1324,'Gegevens van scanner'!$F$7:$G$250,2,0),0)","v":0}]
[10001316,null,null,{"$f":"IFERROR(VLOOKUP(A1325,'Gegevens van scanner'!$F$7:$G$250,2,0),0)","v":0}]
[10001317,null,null,{"$f":"IFERROR(VLOOKUP(A1326,'Gegevens van scanner'!$F$7:$G$250,2,0),0)","v":0}]
[10001318,null,null,{"$f":"IFERROR(VLOOKUP(A1327,'Gegevens van scanner'!$F$7:$G$250,2,0),0)","v":0}]
[10001319,null,null,{"$f":"IFERROR(VLOOKUP(A1328,'Gegevens van scanner'!$F$7:$G$250,2,0),0)","v":0}]
[10001320,null,null,{"$f":"IFERROR(VLOOKUP(A1329,'Gegevens van scanner'!$F$7:$G$250,2,0),0)","v":0}]
[10001321,null,null,{"$f":"IFERROR(VLOOKUP(A1330,'Gegevens van scanner'!$F$7:$G$250,2,0),0)","v":0}]
[10001322,null,null,{"$f":"IFERROR(VLOOKUP(A1331,'Gegevens van scanner'!$F$7:$G$250,2,0),0)","v":0}]
[10001323,null,null,{"$f":"IFERROR(VLOOKUP(A1332,'Gegevens van scanner'!$F$7:$G$250,2,0),0)","v":0}]
[10001324,null,null,{"$f":"IFERROR(VLOOKUP(A1333,'Gegevens van scanner'!$F$7:$G$250,2,0),0)","v":0}]
[10001325,null,null,{"$f":"IFERROR(VLOOKUP(A1334,'Gegevens van scanner'!$F$7:$G$250,2,0),0)","v":0}]
[10001326,null,null,{"$f":"IFERROR(VLOOKUP(A1335,'Gegevens van scanner'!$F$7:$G$250,2,0),0)","v":0}]
[10001327,null,null,{"$f":"IFERROR(VLOOKUP(A1336,'Gegevens van scanner'!$F$7:$G$250,2,0),0)","v":0}]
[10001328,null,null,{"$f":"IFERROR(VLOOKUP(A1337,'Gegevens van scanner'!$F$7:$G$250,2,0),0)","v":0}]
[10001329,null,null,{"$f":"IFERROR(VLOOKUP(A1338,'Gegevens van scanner'!$F$7:$G$250,2,0),0)","v":0}]
[10001330,null,null,{"$f":"IFERROR(VLOOKUP(A1339,'Gegevens van scanner'!$F$7:$G$250,2,0),0)","v":0}]
[10001331,null,null,{"$f":"IFERROR(VLOOKUP(A1340,'Gegevens van scanner'!$F$7:$G$250,2,0),0)","v":0}]
[10001332,null,null,{"$f":"IFERROR(VLOOKUP(A1341,'Gegevens van scanner'!$F$7:$G$250,2,0),0)","v":0}]
[10001333,null,null,{"$f":"IFERROR(VLOOKUP(A1342,'Gegevens van scanner'!$F$7:$G$250,2,0),0)","v":0}]
[10001334,null,null,{"$f":"IFERROR(VLOOKUP(A1343,'Gegevens van scanner'!$F$7:$G$250,2,0),0)","v":0}]
[10001335,null,null,{"$f":"IFERROR(VLOOKUP(A1344,'Gegevens van scanner'!$F$7:$G$250,2,0),0)","v":0}]
[10001336,null,null,{"$f":"IFERROR(VLOOKUP(A1345,'Gegevens van scanner'!$F$7:$G$250,2,0),0)","v":0}]
[10001337,null,null,{"$f":"IFERROR(VLOOKUP(A1346,'Gegevens van scanner'!$F$7:$G$250,2,0),0)","v":0}]
[10001338,null,null,{"$f":"IFERROR(VLOOKUP(A1347,'Gegevens van scanner'!$F$7:$G$250,2,0),0)","v":0}]
[10001339,null,null,{"$f":"IFERROR(VLOOKUP(A1348,'Gegevens van scanner'!$F$7:$G$250,2,0),0)","v":0}]
[10001340,null,null,{"$f":"IFERROR(VLOOKUP(A1349,'Gegevens van scanner'!$F$7:$G$250,2,0),0)","v":0}]
[10001341,null,null,{"$f":"IFERROR(VLOOKUP(A1350,'Gegevens van scanner'!$F$7:$G$250,2,0),0)","v":0}]
[10001342,null,null,{"$f":"IFERROR(VLOOKUP(A1351,'Gegevens van scanner'!$F$7:$G$250,2,0),0)","v":0}]
[10001343,null,null,{"$f":"IFERROR(VLOOKUP(A1352,'Gegevens van scanner'!$F$7:$G$250,2,0),0)","v":0}]
[10001344,null,null,{"$f":"IFERROR(VLOOKUP(A1353,'Gegevens van scanner'!$F$7:$G$250,2,0),0)","v":0}]
[10001345,null,null,{"$f":"IFERROR(VLOOKUP(A1354,'Gegevens van scanner'!$F$7:$G$250,2,0),0)","v":0}]
[{"$f":"A1354+1","v":10001346},null,null,{"$f":"IFERROR(VLOOKUP(A1355,'Gegevens van scanner'!$F$7:$G$250,2,0),0)","v":0}]
[10001347,null,null,{"$f":"IFERROR(VLOOKUP(A1356,'Gegevens van scanner'!$F$7:$G$250,2,0),0)","v":0}]
[10001348,null,null,{"$f":"IFERROR(VLOOKUP(A1357,'Gegevens van scanner'!$F$7:$G$250,2,0),0)","v":0}]
[10001349,null,null,{"$f":"IFERROR(VLOOKUP(A1358,'Gegevens van scanner'!$F$7:$G$250,2,0),0)","v":0}]
[10001350,null,null,{"$f":"IFERROR(VLOOKUP(A1359,'Gegevens van scanner'!$F$7:$G$250,2,0),0)","v":0}]
[10001351,null,null,{"$f":"IFERROR(VLOOKUP(A1360,'Gegevens van scanner'!$F$7:$G$250,2,0),0)","v":0}]
[10001352,null,null,{"$f":"IFERROR(VLOOKUP(A1361,'Gegevens van scanner'!$F$7:$G$250,2,0),0)","v":0}]
[10001353,null,null,{"$f":"IFERROR(VLOOKUP(A1362,'Gegevens van scanner'!$F$7:$G$250,2,0),0)","v":0}]
[10001354,null,null,{"$f":"IFERROR(VLOOKUP(A1363,'Gegevens van scanner'!$F$7:$G$250,2,0),0)","v":0}]
[10001355,null,null,{"$f":"IFERROR(VLOOKUP(A1364,'Gegevens van scanner'!$F$7:$G$250,2,0),0)","v":0}]
[10001356,null,null,{"$f":"IFERROR(VLOOKUP(A1365,'Gegevens van scanner'!$F$7:$G$250,2,0),0)","v":0}]
[10001357,null,null,{"$f":"IFERROR(VLOOKUP(A1366,'Gegevens van scanner'!$F$7:$G$250,2,0),0)","v":0}]
[10001358,null,null,{"$f":"IFERROR(VLOOKUP(A1367,'Gegevens van scanner'!$F$7:$G$250,2,0),0)","v":0}]
[10001359,null,null,{"$f":"IFERROR(VLOOKUP(A1368,'Gegevens van scanner'!$F$7:$G$250,2,0),0)","v":0}]
[10001360,null,null,{"$f":"IFERROR(VLOOKUP(A1369,'Gegevens van scanner'!$F$7:$G$250,2,0),0)","v":0}]
[10001361,null,null,{"$f":"IFERROR(VLOOKUP(A1370,'Gegevens van scanner'!$F$7:$G$250,2,0),0)","v":0}]
[10001362,null,null,{"$f":"IFERROR(VLOOKUP(A1371,'Gegevens van scanner'!$F$7:$G$250,2,0),0)","v":0}]
[10001363,null,null,{"$f":"IFERROR(VLOOKUP(A1372,'Gegevens van scanner'!$F$7:$G$250,2,0),0)","v":0}]
[10001364,null,null,{"$f":"IFERROR(VLOOKUP(A1373,'Gegevens van scanner'!$F$7:$G$250,2,0),0)","v":0}]
[10001365,null,null,{"$f":"IFERROR(VLOOKUP(A1374,'Gegevens van scanner'!$F$7:$G$250,2,0),0)","v":0}]
[10001366,null,null,{"$f":"IFERROR(VLOOKUP(A1375,'Gegevens van scanner'!$F$7:$G$250,2,0),0)","v":0}]
[10001367,null,null,{"$f":"IFERROR(VLOOKUP(A1376,'Gegevens van scanner'!$F$7:$G$250,2,0),0)","v":0}]
[10001368,null,null,{"$f":"IFERROR(VLOOKUP(A1377,'Gegevens van scanner'!$F$7:$G$250,2,0),0)","v":0}]
[10001369,null,null,{"$f":"IFERROR(VLOOKUP(A1378,'Gegevens van scanner'!$F$7:$G$250,2,0),0)","v":0}]
[10001370,null,null,{"$f":"IFERROR(VLOOKUP(A1379,'Gegevens van scanner'!$F$7:$G$250,2,0),0)","v":0}]
[10001371,null,null,{"$f":"IFERROR(VLOOKUP(A1380,'Gegevens van scanner'!$F$7:$G$250,2,0),0)","v":0}]
[10001372,null,null,{"$f":"IFERROR(VLOOKUP(A1381,'Gegevens van scanner'!$F$7:$G$250,2,0),0)","v":0}]
[10001373,null,null,{"$f":"IFERROR(VLOOKUP(A1382,'Gegevens van scanner'!$F$7:$G$250,2,0),0)","v":0}]
[10001374,null,null,{"$f":"IFERROR(VLOOKUP(A1383,'Gegevens van scanner'!$F$7:$G$250,2,0),0)","v":0}]
[10001375,null,null,{"$f":"IFERROR(VLOOKUP(A1384,'Gegevens van scanner'!$F$7:$G$250,2,0),0)","v":0}]
[10001376,null,null,{"$f":"IFERROR(VLOOKUP(A1385,'Gegevens van scanner'!$F$7:$G$250,2,0),0)","v":0}]
[10001377,null,null,{"$f":"IFERROR(VLOOKUP(A1386,'Gegevens van scanner'!$F$7:$G$250,2,0),0)","v":0}]
[10001378,null,null,{"$f":"IFERROR(VLOOKUP(A1387,'Gegevens van scanner'!$F$7:$G$250,2,0),0)","v":0}]
[10001379,null,null,{"$f":"IFERROR(VLOOKUP(A1388,'Gegevens van scanner'!$F$7:$G$250,2,0),0)","v":0}]
[10001380,null,null,{"$f":"IFERROR(VLOOKUP(A1389,'Gegevens van scanner'!$F$7:$G$250,2,0),0)","v":0}]
[10001381,null,null,{"$f":"IFERROR(VLOOKUP(A1390,'Gegevens van scanner'!$F$7:$G$250,2,0),0)","v":0}]
[10001382,null,null,{"$f":"IFERROR(VLOOKUP(A1391,'Gegevens van scanner'!$F$7:$G$250,2,0),0)","v":0}]
[10001383,null,null,{"$f":"IFERROR(VLOOKUP(A1392,'Gegevens van scanner'!$F$7:$G$250,2,0),0)","v":0}]
[10001384,null,null,{"$f":"IFERROR(VLOOKUP(A1393,'Gegevens van scanner'!$F$7:$G$250,2,0),0)","v":0}]
[10001385,null,null,{"$f":"IFERROR(VLOOKUP(A1394,'Gegevens van scanner'!$F$7:$G$250,2,0),0)","v":0}]
[10001386,null,null,{"$f":"IFERROR(VLOOKUP(A1395,'Gegevens van scanner'!$F$7:$G$250,2,0),0)","v":0}]
[10001387,null,null,{"$f":"IFERROR(VLOOKUP(A1396,'Gegevens van scanner'!$F$7:$G$250,2,0),0)","v":0}]
[10001388,null,null,{"$f":"IFERROR(VLOOKUP(A1397,'Gegevens van scanner'!$F$7:$G$250,2,0),0)","v":0}]
[10001389,null,null,{"$f":"IFERROR(VLOOKUP(A1398,'Gegevens van scanner'!$F$7:$G$250,2,0),0)","v":0}]
[10001390,null,null,{"$f":"IFERROR(VLOOKUP(A1399,'Gegevens van scanner'!$F$7:$G$250,2,0),0)","v":0}]
[10001391,null,null,{"$f":"IFERROR(VLOOKUP(A1400,'Gegevens van scanner'!$F$7:$G$250,2,0),0)","v":0}]
[10001392,null,null,{"$f":"IFERROR(VLOOKUP(A1401,'Gegevens van scanner'!$F$7:$G$250,2,0),0)","v":0}]
[10001393,null,null,{"$f":"IFERROR(VLOOKUP(A1402,'Gegevens van scanner'!$F$7:$G$250,2,0),0)","v":0}]
[10001394,null,null,{"$f":"IFERROR(VLOOKUP(A1403,'Gegevens van scanner'!$F$7:$G$250,2,0),0)","v":0}]
[10001395,null,null,{"$f":"IFERROR(VLOOKUP(A1404,'Gegevens van scanner'!$F$7:$G$250,2,0),0)","v":0}]
[10001396,null,null,{"$f":"IFERROR(VLOOKUP(A1405,'Gegevens van scanner'!$F$7:$G$250,2,0),0)","v":0}]
[10001397,null,null,{"$f":"IFERROR(VLOOKUP(A1406,'Gegevens van scanner'!$F$7:$G$250,2,0),0)","v":0}]
[10001398,null,null,{"$f":"IFERROR(VLOOKUP(A1407,'Gegevens van scanner'!$F$7:$G$250,2,0),0)","v":0}]
[10001399,null,null,{"$f":"IFERROR(VLOOKUP(A1408,'Gegevens van scanner'!$F$7:$G$250,2,0),0)","v":0}]
[10001400,null,null,{"$f":"IFERROR(VLOOKUP(A1409,'Gegevens van scanner'!$F$7:$G$250,2,0),0)","v":0}]
[10001401,null,null,{"$f":"IFERROR(VLOOKUP(A1410,'Gegevens van scanner'!$F$7:$G$250,2,0),0)","v":0}]
[10001402,null,null,{"$f":"IFERROR(VLOOKUP(A1411,'Gegevens van scanner'!$F$7:$G$250,2,0),0)","v":0}]
[10001403,null,null,{"$f":"IFERROR(VLOOKUP(A1412,'Gegevens van scanner'!$F$7:$G$250,2,0),0)","v":0}]
[10001404,null,null,{"$f":"IFERROR(VLOOKUP(A1413,'Gegevens van scanner'!$F$7:$G$250,2,0),0)","v":0}]
[10001405,null,null,{"$f":"IFERROR(VLOOKUP(A1414,'Gegevens van scanner'!$F$7:$G$250,2,0),0)","v":0}]
[10001406,null,null,{"$f":"IFERROR(VLOOKUP(A1415,'Gegevens van scanner'!$F$7:$G$250,2,0),0)","v":0}]
[10001407,null,null,{"$f":"IFERROR(VLOOKUP(A1416,'Gegevens van scanner'!$F$7:$G$250,2,0),0)","v":0}]
[10001408,null,null,{"$f":"IFERROR(VLOOKUP(A1417,'Gegevens van scanner'!$F$7:$G$250,2,0),0)","v":0}]
[10001409,null,null,{"$f":"IFERROR(VLOOKUP(A1418,'Gegevens van scanner'!$F$7:$G$250,2,0),0)","v":0}]
[{"$f":"A1418+1","v":10001410},null,null,{"$f":"IFERROR(VLOOKUP(A1419,'Gegevens van scanner'!$F$7:$G$250,2,0),0)","v":0}]
[10001411,null,null,{"$f":"IFERROR(VLOOKUP(A1420,'Gegevens van scanner'!$F$7:$G$250,2,0),0)","v":0}]
[10001412,null,null,{"$f":"IFERROR(VLOOKUP(A1421,'Gegevens van scanner'!$F$7:$G$250,2,0),0)","v":0}]
[10001413,null,null,{"$f":"IFERROR(VLOOKUP(A1422,'Gegevens van scanner'!$F$7:$G$250,2,0),0)","v":0}]
[10001414,null,null,{"$f":"IFERROR(VLOOKUP(A1423,'Gegevens van scanner'!$F$7:$G$250,2,0),0)","v":0}]
[10001415,null,null,{"$f":"IFERROR(VLOOKUP(A1424,'Gegevens van scanner'!$F$7:$G$250,2,0),0)","v":0}]
[10001416,null,null,{"$f":"IFERROR(VLOOKUP(A1425,'Gegevens van scanner'!$F$7:$G$250,2,0),0)","v":0}]
[10001417,null,null,{"$f":"IFERROR(VLOOKUP(A1426,'Gegevens van scanner'!$F$7:$G$250,2,0),0)","v":0}]
[10001418,null,null,{"$f":"IFERROR(VLOOKUP(A1427,'Gegevens van scanner'!$F$7:$G$250,2,0),0)","v":0}]
[10001419,null,null,{"$f":"IFERROR(VLOOKUP(A1428,'Gegevens van scanner'!$F$7:$G$250,2,0),0)","v":0}]
[10001420,null,null,{"$f":"IFERROR(VLOOKUP(A1429,'Gegevens van scanner'!$F$7:$G$250,2,0),0)","v":0}]
[10001421,null,null,{"$f":"IFERROR(VLOOKUP(A1430,'Gegevens van scanner'!$F$7:$G$250,2,0),0)","v":0}]
[10001422,null,null,{"$f":"IFERROR(VLOOKUP(A1431,'Gegevens van scanner'!$F$7:$G$250,2,0),0)","v":0}]
[10001423,null,null,{"$f":"IFERROR(VLOOKUP(A1432,'Gegevens van scanner'!$F$7:$G$250,2,0),0)","v":0}]
[10001424,null,null,{"$f":"IFERROR(VLOOKUP(A1433,'Gegevens van scanner'!$F$7:$G$250,2,0),0)","v":0}]
[10001425,null,null,{"$f":"IFERROR(VLOOKUP(A1434,'Gegevens van scanner'!$F$7:$G$250,2,0),0)","v":0}]
[10001426,null,null,{"$f":"IFERROR(VLOOKUP(A1435,'Gegevens van scanner'!$F$7:$G$250,2,0),0)","v":0}]
[10001427,null,null,{"$f":"IFERROR(VLOOKUP(A1436,'Gegevens van scanner'!$F$7:$G$250,2,0),0)","v":0}]
[10001428,null,null,{"$f":"IFERROR(VLOOKUP(A1437,'Gegevens van scanner'!$F$7:$G$250,2,0),0)","v":0}]
[10001429,null,null,{"$f":"IFERROR(VLOOKUP(A1438,'Gegevens van scanner'!$F$7:$G$250,2,0),0)","v":0}]
[10001430,null,null,{"$f":"IFERROR(VLOOKUP(A1439,'Gegevens van scanner'!$F$7:$G$250,2,0),0)","v":0}]
[10001431,null,null,{"$f":"IFERROR(VLOOKUP(A1440,'Gegevens van scanner'!$F$7:$G$250,2,0),0)","v":0}]
[10001432,null,null,{"$f":"IFERROR(VLOOKUP(A1441,'Gegevens van scanner'!$F$7:$G$250,2,0),0)","v":0}]
[10001433,null,null,{"$f":"IFERROR(VLOOKUP(A1442,'Gegevens van scanner'!$F$7:$G$250,2,0),0)","v":0}]
[10001434,null,null,{"$f":"IFERROR(VLOOKUP(A1443,'Gegevens van scanner'!$F$7:$G$250,2,0),0)","v":0}]
[10001435,null,null,{"$f":"IFERROR(VLOOKUP(A1444,'Gegevens van scanner'!$F$7:$G$250,2,0),0)","v":0}]
[10001436,null,null,{"$f":"IFERROR(VLOOKUP(A1445,'Gegevens van scanner'!$F$7:$G$250,2,0),0)","v":0}]
[10001437,null,null,{"$f":"IFERROR(VLOOKUP(A1446,'Gegevens van scanner'!$F$7:$G$250,2,0),0)","v":0}]
[10001438,null,null,{"$f":"IFERROR(VLOOKUP(A1447,'Gegevens van scanner'!$F$7:$G$250,2,0),0)","v":0}]
[10001439,null,null,{"$f":"IFERROR(VLOOKUP(A1448,'Gegevens van scanner'!$F$7:$G$250,2,0),0)","v":0}]
[10001440,null,null,{"$f":"IFERROR(VLOOKUP(A1449,'Gegevens van scanner'!$F$7:$G$250,2,0),0)","v":0}]
[10001441,null,null,{"$f":"IFERROR(VLOOKUP(A1450,'Gegevens van scanner'!$F$7:$G$250,2,0),0)","v":0}]
[10001442,null,null,{"$f":"IFERROR(VLOOKUP(A1451,'Gegevens van scanner'!$F$7:$G$250,2,0),0)","v":0}]
[10001443,null,null,{"$f":"IFERROR(VLOOKUP(A1452,'Gegevens van scanner'!$F$7:$G$250,2,0),0)","v":0}]
[10001444,null,null,{"$f":"IFERROR(VLOOKUP(A1453,'Gegevens van scanner'!$F$7:$G$250,2,0),0)","v":0}]
[10001445,null,null,{"$f":"IFERROR(VLOOKUP(A1454,'Gegevens van scanner'!$F$7:$G$250,2,0),0)","v":0}]
[10001446,null,null,{"$f":"IFERROR(VLOOKUP(A1455,'Gegevens van scanner'!$F$7:$G$250,2,0),0)","v":0}]
[10001447,null,null,{"$f":"IFERROR(VLOOKUP(A1456,'Gegevens van scanner'!$F$7:$G$250,2,0),0)","v":0}]
[10001448,null,null,{"$f":"IFERROR(VLOOKUP(A1457,'Gegevens van scanner'!$F$7:$G$250,2,0),0)","v":0}]
[10001449,null,null,{"$f":"IFERROR(VLOOKUP(A1458,'Gegevens van scanner'!$F$7:$G$250,2,0),0)","v":0}]
[10001450,null,null,{"$f":"IFERROR(VLOOKUP(A1459,'Gegevens van scanner'!$F$7:$G$250,2,0),0)","v":0}]
[10001451,null,null,{"$f":"IFERROR(VLOOKUP(A1460,'Gegevens van scanner'!$F$7:$G$250,2,0),0)","v":0}]
[10001452,null,null,{"$f":"IFERROR(VLOOKUP(A1461,'Gegevens van scanner'!$F$7:$G$250,2,0),0)","v":0}]
[10001453,null,null,{"$f":"IFERROR(VLOOKUP(A1462,'Gegevens van scanner'!$F$7:$G$250,2,0),0)","v":0}]
[10001454,null,null,{"$f":"IFERROR(VLOOKUP(A1463,'Gegevens van scanner'!$F$7:$G$250,2,0),0)","v":0}]
[10001455,null,null,{"$f":"IFERROR(VLOOKUP(A1464,'Gegevens van scanner'!$F$7:$G$250,2,0),0)","v":0}]
[10001456,null,null,{"$f":"IFERROR(VLOOKUP(A1465,'Gegevens van scanner'!$F$7:$G$250,2,0),0)","v":0}]
[10001457,null,null,{"$f":"IFERROR(VLOOKUP(A1466,'Gegevens van scanner'!$F$7:$G$250,2,0),0)","v":0}]
[10001458,null,null,{"$f":"IFERROR(VLOOKUP(A1467,'Gegevens van scanner'!$F$7:$G$250,2,0),0)","v":0}]
[10001459,null,null,{"$f":"IFERROR(VLOOKUP(A1468,'Gegevens van scanner'!$F$7:$G$250,2,0),0)","v":0}]
[10001460,null,null,{"$f":"IFERROR(VLOOKUP(A1469,'Gegevens van scanner'!$F$7:$G$250,2,0),0)","v":0}]
[10001461,null,null,{"$f":"IFERROR(VLOOKUP(A1470,'Gegevens van scanner'!$F$7:$G$250,2,0),0)","v":0}]
[10001462,null,null,{"$f":"IFERROR(VLOOKUP(A1471,'Gegevens van scanner'!$F$7:$G$250,2,0),0)","v":0}]
[10001463,null,null,{"$f":"IFERROR(VLOOKUP(A1472,'Gegevens van scanner'!$F$7:$G$250,2,0),0)","v":0}]
[10001464,null,null,{"$f":"IFERROR(VLOOKUP(A1473,'Gegevens van scanner'!$F$7:$G$250,2,0),0)","v":0}]
[10001465,null,null,{"$f":"IFERROR(VLOOKUP(A1474,'Gegevens van scanner'!$F$7:$G$250,2,0),0)","v":0}]
[10001466,null,null,{"$f":"IFERROR(VLOOKUP(A1475,'Gegevens van scanner'!$F$7:$G$250,2,0),0)","v":0}]
[10001467,null,null,{"$f":"IFERROR(VLOOKUP(A1476,'Gegevens van scanner'!$F$7:$G$250,2,0),0)","v":0}]
[10001468,null,null,{"$f":"IFERROR(VLOOKUP(A1477,'Gegevens van scanner'!$F$7:$G$250,2,0),0)","v":0}]
[10001469,null,null,{"$f":"IFERROR(VLOOKUP(A1478,'Gegevens van scanner'!$F$7:$G$250,2,0),0)","v":0}]
[10001470,null,null,{"$f":"IFERROR(VLOOKUP(A1479,'Gegevens van scanner'!$F$7:$G$250,2,0),0)","v":0}]
[10001471,null,null,{"$f":"IFERROR(VLOOKUP(A1480,'Gegevens van scanner'!$F$7:$G$250,2,0),0)","v":0}]
[10001472,null,null,{"$f":"IFERROR(VLOOKUP(A1481,'Gegevens van scanner'!$F$7:$G$250,2,0),0)","v":0}]
[10001473,null,null,{"$f":"IFERROR(VLOOKUP(A1482,'Gegevens van scanner'!$F$7:$G$250,2,0),0)","v":0}]
[{"$f":"A1482+1","v":10001474},null,null,{"$f":"IFERROR(VLOOKUP(A1483,'Gegevens van scanner'!$F$7:$G$250,2,0),0)","v":0}]
[10001475,null,null,{"$f":"IFERROR(VLOOKUP(A1484,'Gegevens van scanner'!$F$7:$G$250,2,0),0)","v":0}]
[10001476,null,null,{"$f":"IFERROR(VLOOKUP(A1485,'Gegevens van scanner'!$F$7:$G$250,2,0),0)","v":0}]
[10001477,null,null,{"$f":"IFERROR(VLOOKUP(A1486,'Gegevens van scanner'!$F$7:$G$250,2,0),0)","v":0}]
[10001478,null,null,{"$f":"IFERROR(VLOOKUP(A1487,'Gegevens van scanner'!$F$7:$G$250,2,0),0)","v":0}]
[10001479,null,null,{"$f":"IFERROR(VLOOKUP(A1488,'Gegevens van scanner'!$F$7:$G$250,2,0),0)","v":0}]
[10001480,null,null,{"$f":"IFERROR(VLOOKUP(A1489,'Gegevens van scanner'!$F$7:$G$250,2,0),0)","v":0}]
[10001481,null,null,{"$f":"IFERROR(VLOOKUP(A1490,'Gegevens van scanner'!$F$7:$G$250,2,0),0)","v":0}]
[10001482,null,null,{"$f":"IFERROR(VLOOKUP(A1491,'Gegevens van scanner'!$F$7:$G$250,2,0),0)","v":0}]
[10001483,null,null,{"$f":"IFERROR(VLOOKUP(A1492,'Gegevens van scanner'!$F$7:$G$250,2,0),0)","v":0}]
[10001484,null,null,{"$f":"IFERROR(VLOOKUP(A1493,'Gegevens van scanner'!$F$7:$G$250,2,0),0)","v":0}]
[10001485,null,null,{"$f":"IFERROR(VLOOKUP(A1494,'Gegevens van scanner'!$F$7:$G$250,2,0),0)","v":0}]
[10001486,null,null,{"$f":"IFERROR(VLOOKUP(A1495,'Gegevens van scanner'!$F$7:$G$250,2,0),0)","v":0}]
[10001487,null,null,{"$f":"IFERROR(VLOOKUP(A1496,'Gegevens van scanner'!$F$7:$G$250,2,0),0)","v":0}]
[10001488,null,null,{"$f":"IFERROR(VLOOKUP(A1497,'Gegevens van scanner'!$F$7:$G$250,2,0),0)","v":0}]
[10001489,null,null,{"$f":"IFERROR(VLOOKUP(A1498,'Gegevens van scanner'!$F$7:$G$250,2,0),0)","v":0}]
[10001490,null,null,{"$f":"IFERROR(VLOOKUP(A1499,'Gegevens van scanner'!$F$7:$G$250,2,0),0)","v":0}]
[10001491,null,null,{"$f":"IFERROR(VLOOKUP(A1500,'Gegevens van scanner'!$F$7:$G$250,2,0),0)","v":0}]
[10001492,null,null,{"$f":"IFERROR(VLOOKUP(A1501,'Gegevens van scanner'!$F$7:$G$250,2,0),0)","v":0}]
[10001493,null,null,{"$f":"IFERROR(VLOOKUP(A1502,'Gegevens van scanner'!$F$7:$G$250,2,0),0)","v":0}]
[10001494,null,null,{"$f":"IFERROR(VLOOKUP(A1503,'Gegevens van scanner'!$F$7:$G$250,2,0),0)","v":0}]
[10001495,null,null,{"$f":"IFERROR(VLOOKUP(A1504,'Gegevens van scanner'!$F$7:$G$250,2,0),0)","v":0}]
[10001496,null,null,{"$f":"IFERROR(VLOOKUP(A1505,'Gegevens van scanner'!$F$7:$G$250,2,0),0)","v":0}]
[10001497,null,null,{"$f":"IFERROR(VLOOKUP(A1506,'Gegevens van scanner'!$F$7:$G$250,2,0),0)","v":0}]
[10001498,null,null,{"$f":"IFERROR(VLOOKUP(A1507,'Gegevens van scanner'!$F$7:$G$250,2,0),0)","v":0}]
[10001499,null,null,{"$f":"IFERROR(VLOOKUP(A1508,'Gegevens van scanner'!$F$7:$G$250,2,0),0)","v":0}]
[10001500,null,null,{"$f":"IFERROR(VLOOKUP(A1509,'Gegevens van scanner'!$F$7:$G$250,2,0),0)","v":0}]
[10001501,null,null,{"$f":"IFERROR(VLOOKUP(A1510,'Gegevens van scanner'!$F$7:$G$250,2,0),0)","v":0}]
[10001502,null,null,{"$f":"IFERROR(VLOOKUP(A1511,'Gegevens van scanner'!$F$7:$G$250,2,0),0)","v":0}]
[10001503,null,null,{"$f":"IFERROR(VLOOKUP(A1512,'Gegevens van scanner'!$F$7:$G$250,2,0),0)","v":0}]
[10001504,null,null,{"$f":"IFERROR(VLOOKUP(A1513,'Gegevens van scanner'!$F$7:$G$250,2,0),0)","v":0}]
[10001505,null,null,{"$f":"IFERROR(VLOOKUP(A1514,'Gegevens van scanner'!$F$7:$G$250,2,0),0)","v":0}]
[10001506,null,null,{"$f":"IFERROR(VLOOKUP(A1515,'Gegevens van scanner'!$F$7:$G$250,2,0),0)","v":0}]
[10001507,null,null,{"$f":"IFERROR(VLOOKUP(A1516,'Gegevens van scanner'!$F$7:$G$250,2,0),0)","v":0}]
[10001508,null,null,{"$f":"IFERROR(VLOOKUP(A1517,'Gegevens van scanner'!$F$7:$G$250,2,0),0)","v":0}]
[10001509,null,null,{"$f":"IFERROR(VLOOKUP(A1518,'Gegevens van scanner'!$F$7:$G$250,2,0),0)","v":0}]
[10001510,null,null,{"$f":"IFERROR(VLOOKUP(A1519,'Gegevens van scanner'!$F$7:$G$250,2,0),0)","v":0}]
[10001511,null,null,{"$f":"IFERROR(VLOOKUP(A1520,'Gegevens van scanner'!$F$7:$G$250,2,0),0)","v":0}]
[10001512,null,null,{"$f":"IFERROR(VLOOKUP(A1521,'Gegevens van scanner'!$F$7:$G$250,2,0),0)","v":0}]
[10001513,null,null,{"$f":"IFERROR(VLOOKUP(A1522,'Gegevens van scanner'!$F$7:$G$250,2,0),0)","v":0}]
[10001514,null,null,{"$f":"IFERROR(VLOOKUP(A1523,'Gegevens van scanner'!$F$7:$G$250,2,0),0)","v":0}]
[10001515,null,null,{"$f":"IFERROR(VLOOKUP(A1524,'Gegevens van scanner'!$F$7:$G$250,2,0),0)","v":0}]
[10001516,null,null,{"$f":"IFERROR(VLOOKUP(A1525,'Gegevens van scanner'!$F$7:$G$250,2,0),0)","v":0}]
[10001517,null,null,{"$f":"IFERROR(VLOOKUP(A1526,'Gegevens van scanner'!$F$7:$G$250,2,0),0)","v":0}]
[10001518,null,null,{"$f":"IFERROR(VLOOKUP(A1527,'Gegevens van scanner'!$F$7:$G$250,2,0),0)","v":0}]
[10001519,null,null,{"$f":"IFERROR(VLOOKUP(A1528,'Gegevens van scanner'!$F$7:$G$250,2,0),0)","v":0}]
[10001520,null,null,{"$f":"IFERROR(VLOOKUP(A1529,'Gegevens van scanner'!$F$7:$G$250,2,0),0)","v":0}]
[10001521,null,null,{"$f":"IFERROR(VLOOKUP(A1530,'Gegevens van scanner'!$F$7:$G$250,2,0),0)","v":0}]
[10001522,null,null,{"$f":"IFERROR(VLOOKUP(A1531,'Gegevens van scanner'!$F$7:$G$250,2,0),0)","v":0}]
[10001523,null,null,{"$f":"IFERROR(VLOOKUP(A1532,'Gegevens van scanner'!$F$7:$G$250,2,0),0)","v":0}]
[10001524,null,null,{"$f":"IFERROR(VLOOKUP(A1533,'Gegevens van scanner'!$F$7:$G$250,2,0),0)","v":0}]
[10001525,null,null,{"$f":"IFERROR(VLOOKUP(A1534,'Gegevens van scanner'!$F$7:$G$250,2,0),0)","v":0}]
[10001526,null,null,{"$f":"IFERROR(VLOOKUP(A1535,'Gegevens van scanner'!$F$7:$G$250,2,0),0)","v":0}]
[10001527,null,null,{"$f":"IFERROR(VLOOKUP(A1536,'Gegevens van scanner'!$F$7:$G$250,2,0),0)","v":0}]
[10001528,null,null,{"$f":"IFERROR(VLOOKUP(A1537,'Gegevens van scanner'!$F$7:$G$250,2,0),0)","v":0}]
[10001529,null,null,{"$f":"IFERROR(VLOOKUP(A1538,'Gegevens van scanner'!$F$7:$G$250,2,0),0)","v":0}]
[10001530,null,null,{"$f":"IFERROR(VLOOKUP(A1539,'Gegevens van scanner'!$F$7:$G$250,2,0),0)","v":0}]
[10001531,null,null,{"$f":"IFERROR(VLOOKUP(A1540,'Gegevens van scanner'!$F$7:$G$250,2,0),0)","v":0}]
[10001532,null,null,{"$f":"IFERROR(VLOOKUP(A1541,'Gegevens van scanner'!$F$7:$G$250,2,0),0)","v":0}]
[10001533,null,null,{"$f":"IFERROR(VLOOKUP(A1542,'Gegevens van scanner'!$F$7:$G$250,2,0),0)","v":0}]
[10001534,null,null,{"$f":"IFERROR(VLOOKUP(A1543,'Gegevens van scanner'!$F$7:$G$250,2,0),0)","v":0}]
[10001535,null,null,{"$f":"IFERROR(VLOOKUP(A1544,'Gegevens van scanner'!$F$7:$G$250,2,0),0)","v":0}]
[10001536,null,null,{"$f":"IFERROR(VLOOKUP(A1545,'Gegevens van scanner'!$F$7:$G$250,2,0),0)","v":0}]
[10001537,null,null,{"$f":"IFERROR(VLOOKUP(A1546,'Gegevens van scanner'!$F$7:$G$250,2,0),0)","v":0}]
[{"$f":"A1546+1","v":10001538},null,null,{"$f":"IFERROR(VLOOKUP(A1547,'Gegevens van scanner'!$F$7:$G$250,2,0),0)","v":0}]
[10001539,null,null,{"$f":"IFERROR(VLOOKUP(A1548,'Gegevens van scanner'!$F$7:$G$250,2,0),0)","v":0}]
[10001540,null,null,{"$f":"IFERROR(VLOOKUP(A1549,'Gegevens van scanner'!$F$7:$G$250,2,0),0)","v":0}]
[10001541,null,null,{"$f":"IFERROR(VLOOKUP(A1550,'Gegevens van scanner'!$F$7:$G$250,2,0),0)","v":0}]
[10001542,null,null,{"$f":"IFERROR(VLOOKUP(A1551,'Gegevens van scanner'!$F$7:$G$250,2,0),0)","v":0}]
[10001543,null,null,{"$f":"IFERROR(VLOOKUP(A1552,'Gegevens van scanner'!$F$7:$G$250,2,0),0)","v":0}]
[10001544,null,null,{"$f":"IFERROR(VLOOKUP(A1553,'Gegevens van scanner'!$F$7:$G$250,2,0),0)","v":0}]
[10001545,null,null,{"$f":"IFERROR(VLOOKUP(A1554,'Gegevens van scanner'!$F$7:$G$250,2,0),0)","v":0}]
[10001546,null,null,{"$f":"IFERROR(VLOOKUP(A1555,'Gegevens van scanner'!$F$7:$G$250,2,0),0)","v":0}]
[10001547,null,null,{"$f":"IFERROR(VLOOKUP(A1556,'Gegevens van scanner'!$F$7:$G$250,2,0),0)","v":0}]
[10001548,null,null,{"$f":"IFERROR(VLOOKUP(A1557,'Gegevens van scanner'!$F$7:$G$250,2,0),0)","v":0}]
[10001549,null,null,{"$f":"IFERROR(VLOOKUP(A1558,'Gegevens van scanner'!$F$7:$G$250,2,0),0)","v":0}]
[10001550,null,null,{"$f":"IFERROR(VLOOKUP(A1559,'Gegevens van scanner'!$F$7:$G$250,2,0),0)","v":0}]
[10001551,null,null,{"$f":"IFERROR(VLOOKUP(A1560,'Gegevens van scanner'!$F$7:$G$250,2,0),0)","v":0}]
[10001552,null,null,{"$f":"IFERROR(VLOOKUP(A1561,'Gegevens van scanner'!$F$7:$G$250,2,0),0)","v":0}]
[10001553,null,null,{"$f":"IFERROR(VLOOKUP(A1562,'Gegevens van scanner'!$F$7:$G$250,2,0),0)","v":0}]
[10001554,null,null,{"$f":"IFERROR(VLOOKUP(A1563,'Gegevens van scanner'!$F$7:$G$250,2,0),0)","v":0}]
[10001555,null,null,{"$f":"IFERROR(VLOOKUP(A1564,'Gegevens van scanner'!$F$7:$G$250,2,0),0)","v":0}]
[10001556,null,null,{"$f":"IFERROR(VLOOKUP(A1565,'Gegevens van scanner'!$F$7:$G$250,2,0),0)","v":0}]
[10001557,null,null,{"$f":"IFERROR(VLOOKUP(A1566,'Gegevens van scanner'!$F$7:$G$250,2,0),0)","v":0}]
[10001558,null,null,{"$f":"IFERROR(VLOOKUP(A1567,'Gegevens van scanner'!$F$7:$G$250,2,0),0)","v":0}]
[10001559,null,null,{"$f":"IFERROR(VLOOKUP(A1568,'Gegevens van scanner'!$F$7:$G$250,2,0),0)","v":0}]
[10001560,null,null,{"$f":"IFERROR(VLOOKUP(A1569,'Gegevens van scanner'!$F$7:$G$250,2,0),0)","v":0}]
[10001561,null,null,{"$f":"IFERROR(VLOOKUP(A1570,'Gegevens van scanner'!$F$7:$G$250,2,0),0)","v":0}]
[10001562,null,null,{"$f":"IFERROR(VLOOKUP(A1571,'Gegevens van scanner'!$F$7:$G$250,2,0),0)","v":0}]
[10001563,null,null,{"$f":"IFERROR(VLOOKUP(A1572,'Gegevens van scanner'!$F$7:$G$250,2,0),0)","v":0}]
[10001564,null,null,{"$f":"IFERROR(VLOOKUP(A1573,'Gegevens van scanner'!$F$7:$G$250,2,0),0)","v":0}]
[10001565,null,null,{"$f":"IFERROR(VLOOKUP(A1574,'Gegevens van scanner'!$F$7:$G$250,2,0),0)","v":0}]
[10001566,null,null,{"$f":"IFERROR(VLOOKUP(A1575,'Gegevens van scanner'!$F$7:$G$250,2,0),0)","v":0}]
[10001567,null,null,{"$f":"IFERROR(VLOOKUP(A1576,'Gegevens van scanner'!$F$7:$G$250,2,0),0)","v":0}]
[10001568,null,null,{"$f":"IFERROR(VLOOKUP(A1577,'Gegevens van scanner'!$F$7:$G$250,2,0),0)","v":0}]
[10001569,null,null,{"$f":"IFERROR(VLOOKUP(A1578,'Gegevens van scanner'!$F$7:$G$250,2,0),0)","v":0}]
[10001570,null,null,{"$f":"IFERROR(VLOOKUP(A1579,'Gegevens van scanner'!$F$7:$G$250,2,0),0)","v":0}]
[10001571,null,null,{"$f":"IFERROR(VLOOKUP(A1580,'Gegevens van scanner'!$F$7:$G$250,2,0),0)","v":0}]
[10001572,null,null,{"$f":"IFERROR(VLOOKUP(A1581,'Gegevens van scanner'!$F$7:$G$250,2,0),0)","v":0}]
[10001573,null,null,{"$f":"IFERROR(VLOOKUP(A1582,'Gegevens van scanner'!$F$7:$G$250,2,0),0)","v":0}]
[10001574,null,null,{"$f":"IFERROR(VLOOKUP(A1583,'Gegevens van scanner'!$F$7:$G$250,2,0),0)","v":0}]
[10001575,null,null,{"$f":"IFERROR(VLOOKUP(A1584,'Gegevens van scanner'!$F$7:$G$250,2,0),0)","v":0}]
[10001576,null,null,{"$f":"IFERROR(VLOOKUP(A1585,'Gegevens van scanner'!$F$7:$G$250,2,0),0)","v":0}]
[10001577,null,null,{"$f":"IFERROR(VLOOKUP(A1586,'Gegevens van scanner'!$F$7:$G$250,2,0),0)","v":0}]
[10001578,null,null,{"$f":"IFERROR(VLOOKUP(A1587,'Gegevens van scanner'!$F$7:$G$250,2,0),0)","v":0}]
[10001579,null,null,{"$f":"IFERROR(VLOOKUP(A1588,'Gegevens van scanner'!$F$7:$G$250,2,0),0)","v":0}]
[10001580,null,null,{"$f":"IFERROR(VLOOKUP(A1589,'Gegevens van scanner'!$F$7:$G$250,2,0),0)","v":0}]
[10001581,null,null,{"$f":"IFERROR(VLOOKUP(A1590,'Gegevens van scanner'!$F$7:$G$250,2,0),0)","v":0}]
[10001582,null,null,{"$f":"IFERROR(VLOOKUP(A1591,'Gegevens van scanner'!$F$7:$G$250,2,0),0)","v":0}]
[10001583,null,null,{"$f":"IFERROR(VLOOKUP(A1592,'Gegevens van scanner'!$F$7:$G$250,2,0),0)","v":0}]
[10001584,null,null,{"$f":"IFERROR(VLOOKUP(A1593,'Gegevens van scanner'!$F$7:$G$250,2,0),0)","v":0}]
[10001585,null,null,{"$f":"IFERROR(VLOOKUP(A1594,'Gegevens van scanner'!$F$7:$G$250,2,0),0)","v":0}]
[10001586,null,null,{"$f":"IFERROR(VLOOKUP(A1595,'Gegevens van scanner'!$F$7:$G$250,2,0),0)","v":0}]
[10001587,null,null,{"$f":"IFERROR(VLOOKUP(A1596,'Gegevens van scanner'!$F$7:$G$250,2,0),0)","v":0}]
[10001588,null,null,{"$f":"IFERROR(VLOOKUP(A1597,'Gegevens van scanner'!$F$7:$G$250,2,0),0)","v":0}]
[10001589,null,null,{"$f":"IFERROR(VLOOKUP(A1598,'Gegevens van scanner'!$F$7:$G$250,2,0),0)","v":0}]
[10001590,null,null,{"$f":"IFERROR(VLOOKUP(A1599,'Gegevens van scanner'!$F$7:$G$250,2,0),0)","v":0}]
[10001591,null,null,{"$f":"IFERROR(VLOOKUP(A1600,'Gegevens van scanner'!$F$7:$G$250,2,0),0)","v":0}]
[10001592,null,null,{"$f":"IFERROR(VLOOKUP(A1601,'Gegevens van scanner'!$F$7:$G$250,2,0),0)","v":0}]
[10001593,null,null,{"$f":"IFERROR(VLOOKUP(A1602,'Gegevens van scanner'!$F$7:$G$250,2,0),0)","v":0}]
[10001594,null,null,{"$f":"IFERROR(VLOOKUP(A1603,'Gegevens van scanner'!$F$7:$G$250,2,0),0)","v":0}]
[10001595,null,null,{"$f":"IFERROR(VLOOKUP(A1604,'Gegevens van scanner'!$F$7:$G$250,2,0),0)","v":0}]
[10001596,null,null,{"$f":"IFERROR(VLOOKUP(A1605,'Gegevens van scanner'!$F$7:$G$250,2,0),0)","v":0}]
[10001597,null,null,{"$f":"IFERROR(VLOOKUP(A1606,'Gegevens van scanner'!$F$7:$G$250,2,0),0)","v":0}]
[10001598,null,null,{"$f":"IFERROR(VLOOKUP(A1607,'Gegevens van scanner'!$F$7:$G$250,2,0),0)","v":0}]
[10001599,null,null,{"$f":"IFERROR(VLOOKUP(A1608,'Gegevens van scanner'!$F$7:$G$250,2,0),0)","v":0}]
[10001600,null,null,{"$f":"IFERROR(VLOOKUP(A1609,'Gegevens van scanner'!$F$7:$G$250,2,0),0)","v":0}]
[10001601,null,null,{"$f":"IFERROR(VLOOKUP(A1610,'Gegevens van scanner'!$F$7:$G$250,2,0),0)","v":0}]
[{"$f":"A1610+1","v":10001602},null,null,{"$f":"IFERROR(VLOOKUP(A1611,'Gegevens van scanner'!$F$7:$G$250,2,0),0)","v":0}]
[10001603,null,null,{"$f":"IFERROR(VLOOKUP(A1612,'Gegevens van scanner'!$F$7:$G$250,2,0),0)","v":0}]
[10001604,null,null,{"$f":"IFERROR(VLOOKUP(A1613,'Gegevens van scanner'!$F$7:$G$250,2,0),0)","v":0}]
[10001605,null,null,{"$f":"IFERROR(VLOOKUP(A1614,'Gegevens van scanner'!$F$7:$G$250,2,0),0)","v":0}]
[10001606,null,null,{"$f":"IFERROR(VLOOKUP(A1615,'Gegevens van scanner'!$F$7:$G$250,2,0),0)","v":0}]
[10001607,null,null,{"$f":"IFERROR(VLOOKUP(A1616,'Gegevens van scanner'!$F$7:$G$250,2,0),0)","v":0}]
[10001608,null,null,{"$f":"IFERROR(VLOOKUP(A1617,'Gegevens van scanner'!$F$7:$G$250,2,0),0)","v":0}]
[10001609,null,null,{"$f":"IFERROR(VLOOKUP(A1618,'Gegevens van scanner'!$F$7:$G$250,2,0),0)","v":0}]
[10001610,null,null,{"$f":"IFERROR(VLOOKUP(A1619,'Gegevens van scanner'!$F$7:$G$250,2,0),0)","v":0}]
[10001611,null,null,{"$f":"IFERROR(VLOOKUP(A1620,'Gegevens van scanner'!$F$7:$G$250,2,0),0)","v":0}]
[10001612,null,null,{"$f":"IFERROR(VLOOKUP(A1621,'Gegevens van scanner'!$F$7:$G$250,2,0),0)","v":0}]
[10001613,null,null,{"$f":"IFERROR(VLOOKUP(A1622,'Gegevens van scanner'!$F$7:$G$250,2,0),0)","v":0}]
[10001614,null,null,{"$f":"IFERROR(VLOOKUP(A1623,'Gegevens van scanner'!$F$7:$G$250,2,0),0)","v":0}]
[10001615,null,null,{"$f":"IFERROR(VLOOKUP(A1624,'Gegevens van scanner'!$F$7:$G$250,2,0),0)","v":0}]
[10001616,null,null,{"$f":"IFERROR(VLOOKUP(A1625,'Gegevens van scanner'!$F$7:$G$250,2,0),0)","v":0}]
[10001617,null,null,{"$f":"IFERROR(VLOOKUP(A1626,'Gegevens van scanner'!$F$7:$G$250,2,0),0)","v":0}]
[10001618,null,null,{"$f":"IFERROR(VLOOKUP(A1627,'Gegevens van scanner'!$F$7:$G$250,2,0),0)","v":0}]
[10001619,null,null,{"$f":"IFERROR(VLOOKUP(A1628,'Gegevens van scanner'!$F$7:$G$250,2,0),0)","v":0}]
[10001620,null,null,{"$f":"IFERROR(VLOOKUP(A1629,'Gegevens van scanner'!$F$7:$G$250,2,0),0)","v":0}]
[10001621,null,null,{"$f":"IFERROR(VLOOKUP(A1630,'Gegevens van scanner'!$F$7:$G$250,2,0),0)","v":0}]
[10001622,null,null,{"$f":"IFERROR(VLOOKUP(A1631,'Gegevens van scanner'!$F$7:$G$250,2,0),0)","v":0}]
[10001623,null,null,{"$f":"IFERROR(VLOOKUP(A1632,'Gegevens van scanner'!$F$7:$G$250,2,0),0)","v":0}]
[10001624,null,null,{"$f":"IFERROR(VLOOKUP(A1633,'Gegevens van scanner'!$F$7:$G$250,2,0),0)","v":0}]
[10001625,null,null,{"$f":"IFERROR(VLOOKUP(A1634,'Gegevens van scanner'!$F$7:$G$250,2,0),0)","v":0}]
[10001626,null,null,{"$f":"IFERROR(VLOOKUP(A1635,'Gegevens van scanner'!$F$7:$G$250,2,0),0)","v":0}]
[10001627,null,null,{"$f":"IFERROR(VLOOKUP(A1636,'Gegevens van scanner'!$F$7:$G$250,2,0),0)","v":0}]
[10001628,null,null,{"$f":"IFERROR(VLOOKUP(A1637,'Gegevens van scanner'!$F$7:$G$250,2,0),0)","v":0}]
[10001629,null,null,{"$f":"IFERROR(VLOOKUP(A1638,'Gegevens van scanner'!$F$7:$G$250,2,0),0)","v":0}]
[10001630,null,null,{"$f":"IFERROR(VLOOKUP(A1639,'Gegevens van scanner'!$F$7:$G$250,2,0),0)","v":0}]
[10001631,null,null,{"$f":"IFERROR(VLOOKUP(A1640,'Gegevens van scanner'!$F$7:$G$250,2,0),0)","v":0}]
[10001632,null,null,{"$f":"IFERROR(VLOOKUP(A1641,'Gegevens van scanner'!$F$7:$G$250,2,0),0)","v":0}]
[10001633,null,null,{"$f":"IFERROR(VLOOKUP(A1642,'Gegevens van scanner'!$F$7:$G$250,2,0),0)","v":0}]
[10001634,null,null,{"$f":"IFERROR(VLOOKUP(A1643,'Gegevens van scanner'!$F$7:$G$250,2,0),0)","v":0}]
[10001635,null,null,{"$f":"IFERROR(VLOOKUP(A1644,'Gegevens van scanner'!$F$7:$G$250,2,0),0)","v":0}]
[10001636,null,null,{"$f":"IFERROR(VLOOKUP(A1645,'Gegevens van scanner'!$F$7:$G$250,2,0),0)","v":0}]
[10001637,null,null,{"$f":"IFERROR(VLOOKUP(A1646,'Gegevens van scanner'!$F$7:$G$250,2,0),0)","v":0}]
[10001638,null,null,{"$f":"IFERROR(VLOOKUP(A1647,'Gegevens van scanner'!$F$7:$G$250,2,0),0)","v":0}]
[10001639,null,null,{"$f":"IFERROR(VLOOKUP(A1648,'Gegevens van scanner'!$F$7:$G$250,2,0),0)","v":0}]
[10001640,null,null,{"$f":"IFERROR(VLOOKUP(A1649,'Gegevens van scanner'!$F$7:$G$250,2,0),0)","v":0}]
[10001641,null,null,{"$f":"IFERROR(VLOOKUP(A1650,'Gegevens van scanner'!$F$7:$G$250,2,0),0)","v":0}]
[10001642,null,null,{"$f":"IFERROR(VLOOKUP(A1651,'Gegevens van scanner'!$F$7:$G$250,2,0),0)","v":0}]
[10001643,null,null,{"$f":"IFERROR(VLOOKUP(A1652,'Gegevens van scanner'!$F$7:$G$250,2,0),0)","v":0}]
[10001644,null,null,{"$f":"IFERROR(VLOOKUP(A1653,'Gegevens van scanner'!$F$7:$G$250,2,0),0)","v":0}]
[10001645,null,null,{"$f":"IFERROR(VLOOKUP(A1654,'Gegevens van scanner'!$F$7:$G$250,2,0),0)","v":0}]
[10001646,null,null,{"$f":"IFERROR(VLOOKUP(A1655,'Gegevens van scanner'!$F$7:$G$250,2,0),0)","v":0}]
[10001647,null,null,{"$f":"IFERROR(VLOOKUP(A1656,'Gegevens van scanner'!$F$7:$G$250,2,0),0)","v":0}]
[10001648,null,null,{"$f":"IFERROR(VLOOKUP(A1657,'Gegevens van scanner'!$F$7:$G$250,2,0),0)","v":0}]
[10001649,null,null,{"$f":"IFERROR(VLOOKUP(A1658,'Gegevens van scanner'!$F$7:$G$250,2,0),0)","v":0}]
[10001650,null,null,{"$f":"IFERROR(VLOOKUP(A1659,'Gegevens van scanner'!$F$7:$G$250,2,0),0)","v":0}]
[10001651,null,null,{"$f":"IFERROR(VLOOKUP(A1660,'Gegevens van scanner'!$F$7:$G$250,2,0),0)","v":0}]
[10001652,null,null,{"$f":"IFERROR(VLOOKUP(A1661,'Gegevens van scanner'!$F$7:$G$250,2,0),0)","v":0}]
[10001653,null,null,{"$f":"IFERROR(VLOOKUP(A1662,'Gegevens van scanner'!$F$7:$G$250,2,0),0)","v":0}]
[10001654,null,null,{"$f":"IFERROR(VLOOKUP(A1663,'Gegevens van scanner'!$F$7:$G$250,2,0),0)","v":0}]
[10001655,null,null,{"$f":"IFERROR(VLOOKUP(A1664,'Gegevens van scanner'!$F$7:$G$250,2,0),0)","v":0}]
[10001656,null,null,{"$f":"IFERROR(VLOOKUP(A1665,'Gegevens van scanner'!$F$7:$G$250,2,0),0)","v":0}]
[10001657,null,null,{"$f":"IFERROR(VLOOKUP(A1666,'Gegevens van scanner'!$F$7:$G$250,2,0),0)","v":0}]
[10001658,null,null,{"$f":"IFERROR(VLOOKUP(A1667,'Gegevens van scanner'!$F$7:$G$250,2,0),0)","v":0}]
[10001659,null,null,{"$f":"IFERROR(VLOOKUP(A1668,'Gegevens van scanner'!$F$7:$G$250,2,0),0)","v":0}]
[10001660,null,null,{"$f":"IFERROR(VLOOKUP(A1669,'Gegevens van scanner'!$F$7:$G$250,2,0),0)","v":0}]
[10001661,null,null,{"$f":"IFERROR(VLOOKUP(A1670,'Gegevens van scanner'!$F$7:$G$250,2,0),0)","v":0}]
[10001662,null,null,{"$f":"IFERROR(VLOOKUP(A1671,'Gegevens van scanner'!$F$7:$G$250,2,0),0)","v":0}]
[10001663,null,null,{"$f":"IFERROR(VLOOKUP(A1672,'Gegevens van scanner'!$F$7:$G$250,2,0),0)","v":0}]
[10001664,null,null,{"$f":"IFERROR(VLOOKUP(A1673,'Gegevens van scanner'!$F$7:$G$250,2,0),0)","v":0}]
[10001665,null,null,{"$f":"IFERROR(VLOOKUP(A1674,'Gegevens van scanner'!$F$7:$G$250,2,0),0)","v":0}]
[{"$f":"A1674+1","v":10001666},null,null,{"$f":"IFERROR(VLOOKUP(A1675,'Gegevens van scanner'!$F$7:$G$250,2,0),0)","v":0}]
[10001667,null,null,{"$f":"IFERROR(VLOOKUP(A1676,'Gegevens van scanner'!$F$7:$G$250,2,0),0)","v":0}]
[10001668,null,null,{"$f":"IFERROR(VLOOKUP(A1677,'Gegevens van scanner'!$F$7:$G$250,2,0),0)","v":0}]
[10001669,null,null,{"$f":"IFERROR(VLOOKUP(A1678,'Gegevens van scanner'!$F$7:$G$250,2,0),0)","v":0}]
[10001670,null,null,{"$f":"IFERROR(VLOOKUP(A1679,'Gegevens van scanner'!$F$7:$G$250,2,0),0)","v":0}]
[10001671,null,null,{"$f":"IFERROR(VLOOKUP(A1680,'Gegevens van scanner'!$F$7:$G$250,2,0),0)","v":0}]
[10001672,null,null,{"$f":"IFERROR(VLOOKUP(A1681,'Gegevens van scanner'!$F$7:$G$250,2,0),0)","v":0}]
[10001673,null,null,{"$f":"IFERROR(VLOOKUP(A1682,'Gegevens van scanner'!$F$7:$G$250,2,0),0)","v":0}]
[10001674,null,null,{"$f":"IFERROR(VLOOKUP(A1683,'Gegevens van scanner'!$F$7:$G$250,2,0),0)","v":0}]
[10001675,null,null,{"$f":"IFERROR(VLOOKUP(A1684,'Gegevens van scanner'!$F$7:$G$250,2,0),0)","v":0}]
[10001676,null,null,{"$f":"IFERROR(VLOOKUP(A1685,'Gegevens van scanner'!$F$7:$G$250,2,0),0)","v":0}]
[10001677,null,null,{"$f":"IFERROR(VLOOKUP(A1686,'Gegevens van scanner'!$F$7:$G$250,2,0),0)","v":0}]
[10001678,null,null,{"$f":"IFERROR(VLOOKUP(A1687,'Gegevens van scanner'!$F$7:$G$250,2,0),0)","v":0}]
[10001679,null,null,{"$f":"IFERROR(VLOOKUP(A1688,'Gegevens van scanner'!$F$7:$G$250,2,0),0)","v":0}]
[10001680,null,null,{"$f":"IFERROR(VLOOKUP(A1689,'Gegevens van scanner'!$F$7:$G$250,2,0),0)","v":0}]
[10001681,null,null,{"$f":"IFERROR(VLOOKUP(A1690,'Gegevens van scanner'!$F$7:$G$250,2,0),0)","v":0}]
[10001682,null,null,{"$f":"IFERROR(VLOOKUP(A1691,'Gegevens van scanner'!$F$7:$G$250,2,0),0)","v":0}]
[10001683,null,null,{"$f":"IFERROR(VLOOKUP(A1692,'Gegevens van scanner'!$F$7:$G$250,2,0),0)","v":0}]
[10001684,null,null,{"$f":"IFERROR(VLOOKUP(A1693,'Gegevens van scanner'!$F$7:$G$250,2,0),0)","v":0}]
[10001685,null,null,{"$f":"IFERROR(VLOOKUP(A1694,'Gegevens van scanner'!$F$7:$G$250,2,0),0)","v":0}]
[10001686,null,null,{"$f":"IFERROR(VLOOKUP(A1695,'Gegevens van scanner'!$F$7:$G$250,2,0),0)","v":0}]
[10001687,null,null,{"$f":"IFERROR(VLOOKUP(A1696,'Gegevens van scanner'!$F$7:$G$250,2,0),0)","v":0}]
[10001688,null,null,{"$f":"IFERROR(VLOOKUP(A1697,'Gegevens van scanner'!$F$7:$G$250,2,0),0)","v":0}]
[10001689,null,null,{"$f":"IFERROR(VLOOKUP(A1698,'Gegevens van scanner'!$F$7:$G$250,2,0),0)","v":0}]
[10001690,null,null,{"$f":"IFERROR(VLOOKUP(A1699,'Gegevens van scanner'!$F$7:$G$250,2,0),0)","v":0}]
[10001691,null,null,{"$f":"IFERROR(VLOOKUP(A1700,'Gegevens van scanner'!$F$7:$G$250,2,0),0)","v":0}]
[10001692,null,null,{"$f":"IFERROR(VLOOKUP(A1701,'Gegevens van scanner'!$F$7:$G$250,2,0),0)","v":0}]
[10001693,null,null,{"$f":"IFERROR(VLOOKUP(A1702,'Gegevens van scanner'!$F$7:$G$250,2,0),0)","v":0}]
[10001694,null,null,{"$f":"IFERROR(VLOOKUP(A1703,'Gegevens van scanner'!$F$7:$G$250,2,0),0)","v":0}]
[10001695,null,null,{"$f":"IFERROR(VLOOKUP(A1704,'Gegevens van scanner'!$F$7:$G$250,2,0),0)","v":0}]
[10001696,null,null,{"$f":"IFERROR(VLOOKUP(A1705,'Gegevens van scanner'!$F$7:$G$250,2,0),0)","v":0}]
[10001697,null,null,{"$f":"IFERROR(VLOOKUP(A1706,'Gegevens van scanner'!$F$7:$G$250,2,0),0)","v":0}]
[10001698,null,null,{"$f":"IFERROR(VLOOKUP(A1707,'Gegevens van scanner'!$F$7:$G$250,2,0),0)","v":0}]
[10001699,null,null,{"$f":"IFERROR(VLOOKUP(A1708,'Gegevens van scanner'!$F$7:$G$250,2,0),0)","v":0}]
[10001700,null,null,{"$f":"IFERROR(VLOOKUP(A1709,'Gegevens van scanner'!$F$7:$G$250,2,0),0)","v":0}]
[10001701,null,null,{"$f":"IFERROR(VLOOKUP(A1710,'Gegevens van scanner'!$F$7:$G$250,2,0),0)","v":0}]
[10001702,null,null,{"$f":"IFERROR(VLOOKUP(A1711,'Gegevens van scanner'!$F$7:$G$250,2,0),0)","v":0}]
[10001703,null,null,{"$f":"IFERROR(VLOOKUP(A1712,'Gegevens van scanner'!$F$7:$G$250,2,0),0)","v":0}]
[10001704,null,null,{"$f":"IFERROR(VLOOKUP(A1713,'Gegevens van scanner'!$F$7:$G$250,2,0),0)","v":0}]
[10001705,null,null,{"$f":"IFERROR(VLOOKUP(A1714,'Gegevens van scanner'!$F$7:$G$250,2,0),0)","v":0}]
[10001706,null,null,{"$f":"IFERROR(VLOOKUP(A1715,'Gegevens van scanner'!$F$7:$G$250,2,0),0)","v":0}]
[10001707,null,null,{"$f":"IFERROR(VLOOKUP(A1716,'Gegevens van scanner'!$F$7:$G$250,2,0),0)","v":0}]
[10001708,null,null,{"$f":"IFERROR(VLOOKUP(A1717,'Gegevens van scanner'!$F$7:$G$250,2,0),0)","v":0}]
[10001709,null,null,{"$f":"IFERROR(VLOOKUP(A1718,'Gegevens van scanner'!$F$7:$G$250,2,0),0)","v":0}]
[10001710,null,null,{"$f":"IFERROR(VLOOKUP(A1719,'Gegevens van scanner'!$F$7:$G$250,2,0),0)","v":0}]
[10001711,null,null,{"$f":"IFERROR(VLOOKUP(A1720,'Gegevens van scanner'!$F$7:$G$250,2,0),0)","v":0}]
[10001712,null,null,{"$f":"IFERROR(VLOOKUP(A1721,'Gegevens van scanner'!$F$7:$G$250,2,0),0)","v":0}]
[10001713,null,null,{"$f":"IFERROR(VLOOKUP(A1722,'Gegevens van scanner'!$F$7:$G$250,2,0),0)","v":0}]
[10001714,null,null,{"$f":"IFERROR(VLOOKUP(A1723,'Gegevens van scanner'!$F$7:$G$250,2,0),0)","v":0}]
[10001715,null,null,{"$f":"IFERROR(VLOOKUP(A1724,'Gegevens van scanner'!$F$7:$G$250,2,0),0)","v":0}]
[10001716,null,null,{"$f":"IFERROR(VLOOKUP(A1725,'Gegevens van scanner'!$F$7:$G$250,2,0),0)","v":0}]
[10001717,null,null,{"$f":"IFERROR(VLOOKUP(A1726,'Gegevens van scanner'!$F$7:$G$250,2,0),0)","v":0}]
[10001718,null,null,{"$f":"IFERROR(VLOOKUP(A1727,'Gegevens van scanner'!$F$7:$G$250,2,0),0)","v":0}]
[10001719,null,null,{"$f":"IFERROR(VLOOKUP(A1728,'Gegevens van scanner'!$F$7:$G$250,2,0),0)","v":0}]
[10001720,null,null,{"$f":"IFERROR(VLOOKUP(A1729,'Gegevens van scanner'!$F$7:$G$250,2,0),0)","v":0}]
[10001721,null,null,{"$f":"IFERROR(VLOOKUP(A1730,'Gegevens van scanner'!$F$7:$G$250,2,0),0)","v":0}]
[10001722,null,null,{"$f":"IFERROR(VLOOKUP(A1731,'Gegevens van scanner'!$F$7:$G$250,2,0),0)","v":0}]
[10001723,null,null,{"$f":"IFERROR(VLOOKUP(A1732,'Gegevens van scanner'!$F$7:$G$250,2,0),0)","v":0}]
[10001724,null,null,{"$f":"IFERROR(VLOOKUP(A1733,'Gegevens van scanner'!$F$7:$G$250,2,0),0)","v":0}]
[10001725,null,null,{"$f":"IFERROR(VLOOKUP(A1734,'Gegevens van scanner'!$F$7:$G$250,2,0),0)","v":0}]
[10001726,null,null,{"$f":"IFERROR(VLOOKUP(A1735,'Gegevens van scanner'!$F$7:$G$250,2,0),0)","v":0}]
[10001727,null,null,{"$f":"IFERROR(VLOOKUP(A1736,'Gegevens van scanner'!$F$7:$G$250,2,0),0)","v":0}]
[10001728,null,null,{"$f":"IFERROR(VLOOKUP(A1737,'Gegevens van scanner'!$F$7:$G$250,2,0),0)","v":0}]
[10001729,null,null,{"$f":"IFERROR(VLOOKUP(A1738,'Gegevens van scanner'!$F$7:$G$250,2,0),0)","v":0}]
[{"$f":"A1738+1","v":10001730},null,null,{"$f":"IFERROR(VLOOKUP(A1739,'Gegevens van scanner'!$F$7:$G$250,2,0),0)","v":0}]
[10001731,null,null,{"$f":"IFERROR(VLOOKUP(A1740,'Gegevens van scanner'!$F$7:$G$250,2,0),0)","v":0}]
[10001732,null,null,{"$f":"IFERROR(VLOOKUP(A1741,'Gegevens van scanner'!$F$7:$G$250,2,0),0)","v":0}]
[10001733,null,null,{"$f":"IFERROR(VLOOKUP(A1742,'Gegevens van scanner'!$F$7:$G$250,2,0),0)","v":0}]
[10001734,null,null,{"$f":"IFERROR(VLOOKUP(A1743,'Gegevens van scanner'!$F$7:$G$250,2,0),0)","v":0}]
[10001735,null,null,{"$f":"IFERROR(VLOOKUP(A1744,'Gegevens van scanner'!$F$7:$G$250,2,0),0)","v":0}]
[10001736,null,null,{"$f":"IFERROR(VLOOKUP(A1745,'Gegevens van scanner'!$F$7:$G$250,2,0),0)","v":0}]
[10001737,null,null,{"$f":"IFERROR(VLOOKUP(A1746,'Gegevens van scanner'!$F$7:$G$250,2,0),0)","v":0}]
[10001738,null,null,{"$f":"IFERROR(VLOOKUP(A1747,'Gegevens van scanner'!$F$7:$G$250,2,0),0)","v":0}]
[10001739,null,null,{"$f":"IFERROR(VLOOKUP(A1748,'Gegevens van scanner'!$F$7:$G$250,2,0),0)","v":0}]
[10001740,null,null,{"$f":"IFERROR(VLOOKUP(A1749,'Gegevens van scanner'!$F$7:$G$250,2,0),0)","v":0}]
[10001741,null,null,{"$f":"IFERROR(VLOOKUP(A1750,'Gegevens van scanner'!$F$7:$G$250,2,0),0)","v":0}]
[10001742,null,null,{"$f":"IFERROR(VLOOKUP(A1751,'Gegevens van scanner'!$F$7:$G$250,2,0),0)","v":0}]
[10001743,null,null,{"$f":"IFERROR(VLOOKUP(A1752,'Gegevens van scanner'!$F$7:$G$250,2,0),0)","v":0}]
[10001744,null,null,{"$f":"IFERROR(VLOOKUP(A1753,'Gegevens van scanner'!$F$7:$G$250,2,0),0)","v":0}]
[10001745,null,null,{"$f":"IFERROR(VLOOKUP(A1754,'Gegevens van scanner'!$F$7:$G$250,2,0),0)","v":0}]
[10001746,null,null,{"$f":"IFERROR(VLOOKUP(A1755,'Gegevens van scanner'!$F$7:$G$250,2,0),0)","v":0}]
[10001747,null,null,{"$f":"IFERROR(VLOOKUP(A1756,'Gegevens van scanner'!$F$7:$G$250,2,0),0)","v":0}]
[10001748,null,null,{"$f":"IFERROR(VLOOKUP(A1757,'Gegevens van scanner'!$F$7:$G$250,2,0),0)","v":0}]
[10001749,null,null,{"$f":"IFERROR(VLOOKUP(A1758,'Gegevens van scanner'!$F$7:$G$250,2,0),0)","v":0}]
[10001750,null,null,{"$f":"IFERROR(VLOOKUP(A1759,'Gegevens van scanner'!$F$7:$G$250,2,0),0)","v":0}]
[10001751,null,null,{"$f":"IFERROR(VLOOKUP(A1760,'Gegevens van scanner'!$F$7:$G$250,2,0),0)","v":0}]
[10001752,null,null,{"$f":"IFERROR(VLOOKUP(A1761,'Gegevens van scanner'!$F$7:$G$250,2,0),0)","v":0}]
[10001753,null,null,{"$f":"IFERROR(VLOOKUP(A1762,'Gegevens van scanner'!$F$7:$G$250,2,0),0)","v":0}]
[10001754,null,null,{"$f":"IFERROR(VLOOKUP(A1763,'Gegevens van scanner'!$F$7:$G$250,2,0),0)","v":0}]
[10001755,null,null,{"$f":"IFERROR(VLOOKUP(A1764,'Gegevens van scanner'!$F$7:$G$250,2,0),0)","v":0}]
[10001756,null,null,{"$f":"IFERROR(VLOOKUP(A1765,'Gegevens van scanner'!$F$7:$G$250,2,0),0)","v":0}]
[10001757,null,null,{"$f":"IFERROR(VLOOKUP(A1766,'Gegevens van scanner'!$F$7:$G$250,2,0),0)","v":0}]
[10001758,null,null,{"$f":"IFERROR(VLOOKUP(A1767,'Gegevens van scanner'!$F$7:$G$250,2,0),0)","v":0}]
[10001759,null,null,{"$f":"IFERROR(VLOOKUP(A1768,'Gegevens van scanner'!$F$7:$G$250,2,0),0)","v":0}]
[10001760,null,null,{"$f":"IFERROR(VLOOKUP(A1769,'Gegevens van scanner'!$F$7:$G$250,2,0),0)","v":0}]
[10001761,null,null,{"$f":"IFERROR(VLOOKUP(A1770,'Gegevens van scanner'!$F$7:$G$250,2,0),0)","v":0}]
[10001762,null,null,{"$f":"IFERROR(VLOOKUP(A1771,'Gegevens van scanner'!$F$7:$G$250,2,0),0)","v":0}]
[10001763,null,null,{"$f":"IFERROR(VLOOKUP(A1772,'Gegevens van scanner'!$F$7:$G$250,2,0),0)","v":0}]
[10001764,null,null,{"$f":"IFERROR(VLOOKUP(A1773,'Gegevens van scanner'!$F$7:$G$250,2,0),0)","v":0}]
[10001765,null,null,{"$f":"IFERROR(VLOOKUP(A1774,'Gegevens van scanner'!$F$7:$G$250,2,0),0)","v":0}]
[10001766,null,null,{"$f":"IFERROR(VLOOKUP(A1775,'Gegevens van scanner'!$F$7:$G$250,2,0),0)","v":0}]
[10001767,null,null,{"$f":"IFERROR(VLOOKUP(A1776,'Gegevens van scanner'!$F$7:$G$250,2,0),0)","v":0}]
[10001768,null,null,{"$f":"IFERROR(VLOOKUP(A1777,'Gegevens van scanner'!$F$7:$G$250,2,0),0)","v":0}]
[10001769,null,null,{"$f":"IFERROR(VLOOKUP(A1778,'Gegevens van scanner'!$F$7:$G$250,2,0),0)","v":0}]
[10001770,null,null,{"$f":"IFERROR(VLOOKUP(A1779,'Gegevens van scanner'!$F$7:$G$250,2,0),0)","v":0}]
[10001771,null,null,{"$f":"IFERROR(VLOOKUP(A1780,'Gegevens van scanner'!$F$7:$G$250,2,0),0)","v":0}]
[10001772,null,null,{"$f":"IFERROR(VLOOKUP(A1781,'Gegevens van scanner'!$F$7:$G$250,2,0),0)","v":0}]
[10001773,null,null,{"$f":"IFERROR(VLOOKUP(A1782,'Gegevens van scanner'!$F$7:$G$250,2,0),0)","v":0}]
[10001774,null,null,{"$f":"IFERROR(VLOOKUP(A1783,'Gegevens van scanner'!$F$7:$G$250,2,0),0)","v":0}]
[10001775,null,null,{"$f":"IFERROR(VLOOKUP(A1784,'Gegevens van scanner'!$F$7:$G$250,2,0),0)","v":0}]
[10001776,null,null,{"$f":"IFERROR(VLOOKUP(A1785,'Gegevens van scanner'!$F$7:$G$250,2,0),0)","v":0}]
[10001777,null,null,{"$f":"IFERROR(VLOOKUP(A1786,'Gegevens van scanner'!$F$7:$G$250,2,0),0)","v":0}]
[10001778,null,null,{"$f":"IFERROR(VLOOKUP(A1787,'Gegevens van scanner'!$F$7:$G$250,2,0),0)","v":0}]
[10001779,null,null,{"$f":"IFERROR(VLOOKUP(A1788,'Gegevens van scanner'!$F$7:$G$250,2,0),0)","v":0}]
[10001780,null,null,{"$f":"IFERROR(VLOOKUP(A1789,'Gegevens van scanner'!$F$7:$G$250,2,0),0)","v":0}]
[10001781,null,null,{"$f":"IFERROR(VLOOKUP(A1790,'Gegevens van scanner'!$F$7:$G$250,2,0),0)","v":0}]
[10001782,null,null,{"$f":"IFERROR(VLOOKUP(A1791,'Gegevens van scanner'!$F$7:$G$250,2,0),0)","v":0}]
[10001783,null,null,{"$f":"IFERROR(VLOOKUP(A1792,'Gegevens van scanner'!$F$7:$G$250,2,0),0)","v":0}]
[10001784,null,null,{"$f":"IFERROR(VLOOKUP(A1793,'Gegevens van scanner'!$F$7:$G$250,2,0),0)","v":0}]
[10001785,null,null,{"$f":"IFERROR(VLOOKUP(A1794,'Gegevens van scanner'!$F$7:$G$250,2,0),0)","v":0}]
[10001786,null,null,{"$f":"IFERROR(VLOOKUP(A1795,'Gegevens van scanner'!$F$7:$G$250,2,0),0)","v":0}]
[10001787,null,null,{"$f":"IFERROR(VLOOKUP(A1796,'Gegevens van scanner'!$F$7:$G$250,2,0),0)","v":0}]
[10001788,null,null,{"$f":"IFERROR(VLOOKUP(A1797,'Gegevens van scanner'!$F$7:$G$250,2,0),0)","v":0}]
[10001789,null,null,{"$f":"IFERROR(VLOOKUP(A1798,'Gegevens van scanner'!$F$7:$G$250,2,0),0)","v":0}]
[10001790,null,null,{"$f":"IFERROR(VLOOKUP(A1799,'Gegevens van scanner'!$F$7:$G$250,2,0),0)","v":0}]
[10001791,null,null,{"$f":"IFERROR(VLOOKUP(A1800,'Gegevens van scanner'!$F$7:$G$250,2,0),0)","v":0}]
[10001792,null,null,{"$f":"IFERROR(VLOOKUP(A1801,'Gegevens van scanner'!$F$7:$G$250,2,0),0)","v":0}]
[10001793,null,null,{"$f":"IFERROR(VLOOKUP(A1802,'Gegevens van scanner'!$F$7:$G$250,2,0),0)","v":0}]
[{"$f":"A1802+1","v":10001794},null,null,{"$f":"IFERROR(VLOOKUP(A1803,'Gegevens van scanner'!$F$7:$G$250,2,0),0)","v":0}]
[10001795,null,null,{"$f":"IFERROR(VLOOKUP(A1804,'Gegevens van scanner'!$F$7:$G$250,2,0),0)","v":0}]
[10001796,null,null,{"$f":"IFERROR(VLOOKUP(A1805,'Gegevens van scanner'!$F$7:$G$250,2,0),0)","v":0}]
[10001797,null,null,{"$f":"IFERROR(VLOOKUP(A1806,'Gegevens van scanner'!$F$7:$G$250,2,0),0)","v":0}]
[10001798,null,null,{"$f":"IFERROR(VLOOKUP(A1807,'Gegevens van scanner'!$F$7:$G$250,2,0),0)","v":0}]
[10001799,null,null,{"$f":"IFERROR(VLOOKUP(A1808,'Gegevens van scanner'!$F$7:$G$250,2,0),0)","v":0}]
[10001800,null,null,{"$f":"IFERROR(VLOOKUP(A1809,'Gegevens van scanner'!$F$7:$G$250,2,0),0)","v":0}]
[10001801,null,null,{"$f":"IFERROR(VLOOKUP(A1810,'Gegevens van scanner'!$F$7:$G$250,2,0),0)","v":0}]
[10001802,null,null,{"$f":"IFERROR(VLOOKUP(A1811,'Gegevens van scanner'!$F$7:$G$250,2,0),0)","v":0}]
[10001803,null,null,{"$f":"IFERROR(VLOOKUP(A1812,'Gegevens van scanner'!$F$7:$G$250,2,0),0)","v":0}]
[10001804,null,null,{"$f":"IFERROR(VLOOKUP(A1813,'Gegevens van scanner'!$F$7:$G$250,2,0),0)","v":0}]
[10001805,null,null,{"$f":"IFERROR(VLOOKUP(A1814,'Gegevens van scanner'!$F$7:$G$250,2,0),0)","v":0}]
[10001806,null,null,{"$f":"IFERROR(VLOOKUP(A1815,'Gegevens van scanner'!$F$7:$G$250,2,0),0)","v":0}]
[10001807,null,null,{"$f":"IFERROR(VLOOKUP(A1816,'Gegevens van scanner'!$F$7:$G$250,2,0),0)","v":0}]
[10001808,null,null,{"$f":"IFERROR(VLOOKUP(A1817,'Gegevens van scanner'!$F$7:$G$250,2,0),0)","v":0}]
[10001809,null,null,{"$f":"IFERROR(VLOOKUP(A1818,'Gegevens van scanner'!$F$7:$G$250,2,0),0)","v":0}]
[10001810,null,null,{"$f":"IFERROR(VLOOKUP(A1819,'Gegevens van scanner'!$F$7:$G$250,2,0),0)","v":0}]
[10001811,null,null,{"$f":"IFERROR(VLOOKUP(A1820,'Gegevens van scanner'!$F$7:$G$250,2,0),0)","v":0}]
[10001812,null,null,{"$f":"IFERROR(VLOOKUP(A1821,'Gegevens van scanner'!$F$7:$G$250,2,0),0)","v":0}]
[10001813,null,null,{"$f":"IFERROR(VLOOKUP(A1822,'Gegevens van scanner'!$F$7:$G$250,2,0),0)","v":0}]
[10001814,null,null,{"$f":"IFERROR(VLOOKUP(A1823,'Gegevens van scanner'!$F$7:$G$250,2,0),0)","v":0}]
[10001815,null,null,{"$f":"IFERROR(VLOOKUP(A1824,'Gegevens van scanner'!$F$7:$G$250,2,0),0)","v":0}]
[10001816,null,null,{"$f":"IFERROR(VLOOKUP(A1825,'Gegevens van scanner'!$F$7:$G$250,2,0),0)","v":0}]
[10001817,null,null,{"$f":"IFERROR(VLOOKUP(A1826,'Gegevens van scanner'!$F$7:$G$250,2,0),0)","v":0}]
[10001818,null,null,{"$f":"IFERROR(VLOOKUP(A1827,'Gegevens van scanner'!$F$7:$G$250,2,0),0)","v":0}]
[10001819,null,null,{"$f":"IFERROR(VLOOKUP(A1828,'Gegevens van scanner'!$F$7:$G$250,2,0),0)","v":0}]
[10001820,null,null,{"$f":"IFERROR(VLOOKUP(A1829,'Gegevens van scanner'!$F$7:$G$250,2,0),0)","v":0}]
[10001821,null,null,{"$f":"IFERROR(VLOOKUP(A1830,'Gegevens van scanner'!$F$7:$G$250,2,0),0)","v":0}]
[10001822,null,null,{"$f":"IFERROR(VLOOKUP(A1831,'Gegevens van scanner'!$F$7:$G$250,2,0),0)","v":0}]
[10001823,null,null,{"$f":"IFERROR(VLOOKUP(A1832,'Gegevens van scanner'!$F$7:$G$250,2,0),0)","v":0}]
[10001824,null,null,{"$f":"IFERROR(VLOOKUP(A1833,'Gegevens van scanner'!$F$7:$G$250,2,0),0)","v":0}]
[10001825,null,null,{"$f":"IFERROR(VLOOKUP(A1834,'Gegevens van scanner'!$F$7:$G$250,2,0),0)","v":0}]
[10001826,null,null,{"$f":"IFERROR(VLOOKUP(A1835,'Gegevens van scanner'!$F$7:$G$250,2,0),0)","v":0}]
[10001827,null,null,{"$f":"IFERROR(VLOOKUP(A1836,'Gegevens van scanner'!$F$7:$G$250,2,0),0)","v":0}]
[10001828,null,null,{"$f":"IFERROR(VLOOKUP(A1837,'Gegevens van scanner'!$F$7:$G$250,2,0),0)","v":0}]
[10001829,null,null,{"$f":"IFERROR(VLOOKUP(A1838,'Gegevens van scanner'!$F$7:$G$250,2,0),0)","v":0}]
[10001830,null,null,{"$f":"IFERROR(VLOOKUP(A1839,'Gegevens van scanner'!$F$7:$G$250,2,0),0)","v":0}]
[10001831,null,null,{"$f":"IFERROR(VLOOKUP(A1840,'Gegevens van scanner'!$F$7:$G$250,2,0),0)","v":0}]
[10001832,null,null,{"$f":"IFERROR(VLOOKUP(A1841,'Gegevens van scanner'!$F$7:$G$250,2,0),0)","v":0}]
[10001833,null,null,{"$f":"IFERROR(VLOOKUP(A1842,'Gegevens van scanner'!$F$7:$G$250,2,0),0)","v":0}]
[10001834,null,null,{"$f":"IFERROR(VLOOKUP(A1843,'Gegevens van scanner'!$F$7:$G$250,2,0),0)","v":0}]
[10001835,null,null,{"$f":"IFERROR(VLOOKUP(A1844,'Gegevens van scanner'!$F$7:$G$250,2,0),0)","v":0}]
[10001836,null,null,{"$f":"IFERROR(VLOOKUP(A1845,'Gegevens van scanner'!$F$7:$G$250,2,0),0)","v":0}]
[10001837,null,null,{"$f":"IFERROR(VLOOKUP(A1846,'Gegevens van scanner'!$F$7:$G$250,2,0),0)","v":0}]
[10001838,null,null,{"$f":"IFERROR(VLOOKUP(A1847,'Gegevens van scanner'!$F$7:$G$250,2,0),0)","v":0}]
[10001839,null,null,{"$f":"IFERROR(VLOOKUP(A1848,'Gegevens van scanner'!$F$7:$G$250,2,0),0)","v":0}]
[10001840,null,null,{"$f":"IFERROR(VLOOKUP(A1849,'Gegevens van scanner'!$F$7:$G$250,2,0),0)","v":0}]
[10001841,null,null,{"$f":"IFERROR(VLOOKUP(A1850,'Gegevens van scanner'!$F$7:$G$250,2,0),0)","v":0}]
[10001842,null,null,{"$f":"IFERROR(VLOOKUP(A1851,'Gegevens van scanner'!$F$7:$G$250,2,0),0)","v":0}]
[10001843,null,null,{"$f":"IFERROR(VLOOKUP(A1852,'Gegevens van scanner'!$F$7:$G$250,2,0),0)","v":0}]
[10001844,null,null,{"$f":"IFERROR(VLOOKUP(A1853,'Gegevens van scanner'!$F$7:$G$250,2,0),0)","v":0}]
[10001845,null,null,{"$f":"IFERROR(VLOOKUP(A1854,'Gegevens van scanner'!$F$7:$G$250,2,0),0)","v":0}]
[10001846,null,null,{"$f":"IFERROR(VLOOKUP(A1855,'Gegevens van scanner'!$F$7:$G$250,2,0),0)","v":0}]
[10001847,null,null,{"$f":"IFERROR(VLOOKUP(A1856,'Gegevens van scanner'!$F$7:$G$250,2,0),0)","v":0}]
[10001848,null,null,{"$f":"IFERROR(VLOOKUP(A1857,'Gegevens van scanner'!$F$7:$G$250,2,0),0)","v":0}]
[10001849,null,null,{"$f":"IFERROR(VLOOKUP(A1858,'Gegevens van scanner'!$F$7:$G$250,2,0),0)","v":0}]
[10001850,null,null,{"$f":"IFERROR(VLOOKUP(A1859,'Gegevens van scanner'!$F$7:$G$250,2,0),0)","v":0}]
[10001851,null,null,{"$f":"IFERROR(VLOOKUP(A1860,'Gegevens van scanner'!$F$7:$G$250,2,0),0)","v":0}]
[10001852,null,null,{"$f":"IFERROR(VLOOKUP(A1861,'Gegevens van scanner'!$F$7:$G$250,2,0),0)","v":0}]
[10001853,null,null,{"$f":"IFERROR(VLOOKUP(A1862,'Gegevens van scanner'!$F$7:$G$250,2,0),0)","v":0}]
[10001854,null,null,{"$f":"IFERROR(VLOOKUP(A1863,'Gegevens van scanner'!$F$7:$G$250,2,0),0)","v":0}]
[10001855,null,null,{"$f":"IFERROR(VLOOKUP(A1864,'Gegevens van scanner'!$F$7:$G$250,2,0),0)","v":0}]
[10001856,null,null,{"$f":"IFERROR(VLOOKUP(A1865,'Gegevens van scanner'!$F$7:$G$250,2,0),0)","v":0}]
[10001857,null,null,{"$f":"IFERROR(VLOOKUP(A1866,'Gegevens van scanner'!$F$7:$G$250,2,0),0)","v":0}]
[{"$f":"A1866+1","v":10001858},null,null,{"$f":"IFERROR(VLOOKUP(A1867,'Gegevens van scanner'!$F$7:$G$250,2,0),0)","v":0}]
[10001859,null,null,{"$f":"IFERROR(VLOOKUP(A1868,'Gegevens van scanner'!$F$7:$G$250,2,0),0)","v":0}]
[10001860,null,null,{"$f":"IFERROR(VLOOKUP(A1869,'Gegevens van scanner'!$F$7:$G$250,2,0),0)","v":0}]
[10001861,null,null,{"$f":"IFERROR(VLOOKUP(A1870,'Gegevens van scanner'!$F$7:$G$250,2,0),0)","v":0}]
[10001862,null,null,{"$f":"IFERROR(VLOOKUP(A1871,'Gegevens van scanner'!$F$7:$G$250,2,0),0)","v":0}]
[10001863,null,null,{"$f":"IFERROR(VLOOKUP(A1872,'Gegevens van scanner'!$F$7:$G$250,2,0),0)","v":0}]
[10001864,null,null,{"$f":"IFERROR(VLOOKUP(A1873,'Gegevens van scanner'!$F$7:$G$250,2,0),0)","v":0}]
[10001865,null,null,{"$f":"IFERROR(VLOOKUP(A1874,'Gegevens van scanner'!$F$7:$G$250,2,0),0)","v":0}]
[10001866,null,null,{"$f":"IFERROR(VLOOKUP(A1875,'Gegevens van scanner'!$F$7:$G$250,2,0),0)","v":0}]
[10001867,null,null,{"$f":"IFERROR(VLOOKUP(A1876,'Gegevens van scanner'!$F$7:$G$250,2,0),0)","v":0}]
[10001868,null,null,{"$f":"IFERROR(VLOOKUP(A1877,'Gegevens van scanner'!$F$7:$G$250,2,0),0)","v":0}]
[10001869,null,null,{"$f":"IFERROR(VLOOKUP(A1878,'Gegevens van scanner'!$F$7:$G$250,2,0),0)","v":0}]
[10001870,null,null,{"$f":"IFERROR(VLOOKUP(A1879,'Gegevens van scanner'!$F$7:$G$250,2,0),0)","v":0}]
[10001871,null,null,{"$f":"IFERROR(VLOOKUP(A1880,'Gegevens van scanner'!$F$7:$G$250,2,0),0)","v":0}]
[10001872,null,null,{"$f":"IFERROR(VLOOKUP(A1881,'Gegevens van scanner'!$F$7:$G$250,2,0),0)","v":0}]
[10001873,null,null,{"$f":"IFERROR(VLOOKUP(A1882,'Gegevens van scanner'!$F$7:$G$250,2,0),0)","v":0}]
[10001874,null,null,{"$f":"IFERROR(VLOOKUP(A1883,'Gegevens van scanner'!$F$7:$G$250,2,0),0)","v":0}]
[10001875,null,null,{"$f":"IFERROR(VLOOKUP(A1884,'Gegevens van scanner'!$F$7:$G$250,2,0),0)","v":0}]
[10001876,null,null,{"$f":"IFERROR(VLOOKUP(A1885,'Gegevens van scanner'!$F$7:$G$250,2,0),0)","v":0}]
[10001877,null,null,{"$f":"IFERROR(VLOOKUP(A1886,'Gegevens van scanner'!$F$7:$G$250,2,0),0)","v":0}]
[10001878,null,null,{"$f":"IFERROR(VLOOKUP(A1887,'Gegevens van scanner'!$F$7:$G$250,2,0),0)","v":0}]
[10001879,null,null,{"$f":"IFERROR(VLOOKUP(A1888,'Gegevens van scanner'!$F$7:$G$250,2,0),0)","v":0}]
[10001880,null,null,{"$f":"IFERROR(VLOOKUP(A1889,'Gegevens van scanner'!$F$7:$G$250,2,0),0)","v":0}]
[10001881,null,null,{"$f":"IFERROR(VLOOKUP(A1890,'Gegevens van scanner'!$F$7:$G$250,2,0),0)","v":0}]
[10001882,null,null,{"$f":"IFERROR(VLOOKUP(A1891,'Gegevens van scanner'!$F$7:$G$250,2,0),0)","v":0}]
[10001883,null,null,{"$f":"IFERROR(VLOOKUP(A1892,'Gegevens van scanner'!$F$7:$G$250,2,0),0)","v":0}]
[10001884,null,null,{"$f":"IFERROR(VLOOKUP(A1893,'Gegevens van scanner'!$F$7:$G$250,2,0),0)","v":0}]
[10001885,null,null,{"$f":"IFERROR(VLOOKUP(A1894,'Gegevens van scanner'!$F$7:$G$250,2,0),0)","v":0}]
[10001886,null,null,{"$f":"IFERROR(VLOOKUP(A1895,'Gegevens van scanner'!$F$7:$G$250,2,0),0)","v":0}]
[10001887,null,null,{"$f":"IFERROR(VLOOKUP(A1896,'Gegevens van scanner'!$F$7:$G$250,2,0),0)","v":0}]
[10001888,null,null,{"$f":"IFERROR(VLOOKUP(A1897,'Gegevens van scanner'!$F$7:$G$250,2,0),0)","v":0}]
[10001889,null,null,{"$f":"IFERROR(VLOOKUP(A1898,'Gegevens van scanner'!$F$7:$G$250,2,0),0)","v":0}]
[10001890,null,null,{"$f":"IFERROR(VLOOKUP(A1899,'Gegevens van scanner'!$F$7:$G$250,2,0),0)","v":0}]
[10001891,null,null,{"$f":"IFERROR(VLOOKUP(A1900,'Gegevens van scanner'!$F$7:$G$250,2,0),0)","v":0}]
[10001892,null,null,{"$f":"IFERROR(VLOOKUP(A1901,'Gegevens van scanner'!$F$7:$G$250,2,0),0)","v":0}]
[10001893,null,null,{"$f":"IFERROR(VLOOKUP(A1902,'Gegevens van scanner'!$F$7:$G$250,2,0),0)","v":0}]
[10001894,null,null,{"$f":"IFERROR(VLOOKUP(A1903,'Gegevens van scanner'!$F$7:$G$250,2,0),0)","v":0}]
[10001895,null,null,{"$f":"IFERROR(VLOOKUP(A1904,'Gegevens van scanner'!$F$7:$G$250,2,0),0)","v":0}]
[10001896,null,null,{"$f":"IFERROR(VLOOKUP(A1905,'Gegevens van scanner'!$F$7:$G$250,2,0),0)","v":0}]
[10001897,null,null,{"$f":"IFERROR(VLOOKUP(A1906,'Gegevens van scanner'!$F$7:$G$250,2,0),0)","v":0}]
[10001898,null,null,{"$f":"IFERROR(VLOOKUP(A1907,'Gegevens van scanner'!$F$7:$G$250,2,0),0)","v":0}]
[10001899,null,null,{"$f":"IFERROR(VLOOKUP(A1908,'Gegevens van scanner'!$F$7:$G$250,2,0),0)","v":0}]
[10001900,null,null,{"$f":"IFERROR(VLOOKUP(A1909,'Gegevens van scanner'!$F$7:$G$250,2,0),0)","v":0}]
[10001901,null,null,{"$f":"IFERROR(VLOOKUP(A1910,'Gegevens van scanner'!$F$7:$G$250,2,0),0)","v":0}]
[10001902,null,null,{"$f":"IFERROR(VLOOKUP(A1911,'Gegevens van scanner'!$F$7:$G$250,2,0),0)","v":0}]
[10001903,null,null,{"$f":"IFERROR(VLOOKUP(A1912,'Gegevens van scanner'!$F$7:$G$250,2,0),0)","v":0}]
[10001904,null,null,{"$f":"IFERROR(VLOOKUP(A1913,'Gegevens van scanner'!$F$7:$G$250,2,0),0)","v":0}]
[10001905,null,null,{"$f":"IFERROR(VLOOKUP(A1914,'Gegevens van scanner'!$F$7:$G$250,2,0),0)","v":0}]
[10001906,null,null,{"$f":"IFERROR(VLOOKUP(A1915,'Gegevens van scanner'!$F$7:$G$250,2,0),0)","v":0}]
[10001907,null,null,{"$f":"IFERROR(VLOOKUP(A1916,'Gegevens van scanner'!$F$7:$G$250,2,0),0)","v":0}]
[10001908,null,null,{"$f":"IFERROR(VLOOKUP(A1917,'Gegevens van scanner'!$F$7:$G$250,2,0),0)","v":0}]
[10001909,null,null,{"$f":"IFERROR(VLOOKUP(A1918,'Gegevens van scanner'!$F$7:$G$250,2,0),0)","v":0}]
[10001910,null,null,{"$f":"IFERROR(VLOOKUP(A1919,'Gegevens van scanner'!$F$7:$G$250,2,0),0)","v":0}]
[10001911,null,null,{"$f":"IFERROR(VLOOKUP(A1920,'Gegevens van scanner'!$F$7:$G$250,2,0),0)","v":0}]
[10001912,null,null,{"$f":"IFERROR(VLOOKUP(A1921,'Gegevens van scanner'!$F$7:$G$250,2,0),0)","v":0}]
[10001913,null,null,{"$f":"IFERROR(VLOOKUP(A1922,'Gegevens van scanner'!$F$7:$G$250,2,0),0)","v":0}]
[10001914,null,null,{"$f":"IFERROR(VLOOKUP(A1923,'Gegevens van scanner'!$F$7:$G$250,2,0),0)","v":0}]
[10001915,null,null,{"$f":"IFERROR(VLOOKUP(A1924,'Gegevens van scanner'!$F$7:$G$250,2,0),0)","v":0}]
[10001916,null,null,{"$f":"IFERROR(VLOOKUP(A1925,'Gegevens van scanner'!$F$7:$G$250,2,0),0)","v":0}]
[10001917,null,null,{"$f":"IFERROR(VLOOKUP(A1926,'Gegevens van scanner'!$F$7:$G$250,2,0),0)","v":0}]
[10001918,null,null,{"$f":"IFERROR(VLOOKUP(A1927,'Gegevens van scanner'!$F$7:$G$250,2,0),0)","v":0}]
[10001919,null,null,{"$f":"IFERROR(VLOOKUP(A1928,'Gegevens van scanner'!$F$7:$G$250,2,0),0)","v":0}]
[10001920,null,null,{"$f":"IFERROR(VLOOKUP(A1929,'Gegevens van scanner'!$F$7:$G$250,2,0),0)","v":0}]
[10001921,null,null,{"$f":"IFERROR(VLOOKUP(A1930,'Gegevens van scanner'!$F$7:$G$250,2,0),0)","v":0}]
[{"$f":"A1930+1","v":10001922},null,null,{"$f":"IFERROR(VLOOKUP(A1931,'Gegevens van scanner'!$F$7:$G$250,2,0),0)","v":0}]
[10001923,null,null,{"$f":"IFERROR(VLOOKUP(A1932,'Gegevens van scanner'!$F$7:$G$250,2,0),0)","v":0}]
[10001924,null,null,{"$f":"IFERROR(VLOOKUP(A1933,'Gegevens van scanner'!$F$7:$G$250,2,0),0)","v":0}]
[10001925,null,null,{"$f":"IFERROR(VLOOKUP(A1934,'Gegevens van scanner'!$F$7:$G$250,2,0),0)","v":0}]
[10001926,null,null,{"$f":"IFERROR(VLOOKUP(A1935,'Gegevens van scanner'!$F$7:$G$250,2,0),0)","v":0}]
[10001927,null,null,{"$f":"IFERROR(VLOOKUP(A1936,'Gegevens van scanner'!$F$7:$G$250,2,0),0)","v":0}]
[10001928,null,null,{"$f":"IFERROR(VLOOKUP(A1937,'Gegevens van scanner'!$F$7:$G$250,2,0),0)","v":0}]
[10001929,null,null,{"$f":"IFERROR(VLOOKUP(A1938,'Gegevens van scanner'!$F$7:$G$250,2,0),0)","v":0}]
[10001930,null,null,{"$f":"IFERROR(VLOOKUP(A1939,'Gegevens van scanner'!$F$7:$G$250,2,0),0)","v":0}]
[10001931,null,null,{"$f":"IFERROR(VLOOKUP(A1940,'Gegevens van scanner'!$F$7:$G$250,2,0),0)","v":0}]
[10001932,null,null,{"$f":"IFERROR(VLOOKUP(A1941,'Gegevens van scanner'!$F$7:$G$250,2,0),0)","v":0}]
[10001933,null,null,{"$f":"IFERROR(VLOOKUP(A1942,'Gegevens van scanner'!$F$7:$G$250,2,0),0)","v":0}]
[10001934,null,null,{"$f":"IFERROR(VLOOKUP(A1943,'Gegevens van scanner'!$F$7:$G$250,2,0),0)","v":0}]
[10001935,null,null,{"$f":"IFERROR(VLOOKUP(A1944,'Gegevens van scanner'!$F$7:$G$250,2,0),0)","v":0}]
[10001936,null,null,{"$f":"IFERROR(VLOOKUP(A1945,'Gegevens van scanner'!$F$7:$G$250,2,0),0)","v":0}]
[10001937,null,null,{"$f":"IFERROR(VLOOKUP(A1946,'Gegevens van scanner'!$F$7:$G$250,2,0),0)","v":0}]
[10001938,null,null,{"$f":"IFERROR(VLOOKUP(A1947,'Gegevens van scanner'!$F$7:$G$250,2,0),0)","v":0}]
[10001939,null,null,{"$f":"IFERROR(VLOOKUP(A1948,'Gegevens van scanner'!$F$7:$G$250,2,0),0)","v":0}]
[10001940,null,null,{"$f":"IFERROR(VLOOKUP(A1949,'Gegevens van scanner'!$F$7:$G$250,2,0),0)","v":0}]
[10001941,null,null,{"$f":"IFERROR(VLOOKUP(A1950,'Gegevens van scanner'!$F$7:$G$250,2,0),0)","v":0}]
[10001942,null,null,{"$f":"IFERROR(VLOOKUP(A1951,'Gegevens van scanner'!$F$7:$G$250,2,0),0)","v":0}]
[10001943,null,null,{"$f":"IFERROR(VLOOKUP(A1952,'Gegevens van scanner'!$F$7:$G$250,2,0),0)","v":0}]
[10001944,null,null,{"$f":"IFERROR(VLOOKUP(A1953,'Gegevens van scanner'!$F$7:$G$250,2,0),0)","v":0}]
[10001945,null,null,{"$f":"IFERROR(VLOOKUP(A1954,'Gegevens van scanner'!$F$7:$G$250,2,0),0)","v":0}]
[10001946,null,null,{"$f":"IFERROR(VLOOKUP(A1955,'Gegevens van scanner'!$F$7:$G$250,2,0),0)","v":0}]
[10001947,null,null,{"$f":"IFERROR(VLOOKUP(A1956,'Gegevens van scanner'!$F$7:$G$250,2,0),0)","v":0}]
[10001948,null,null,{"$f":"IFERROR(VLOOKUP(A1957,'Gegevens van scanner'!$F$7:$G$250,2,0),0)","v":0}]
[10001949,null,null,{"$f":"IFERROR(VLOOKUP(A1958,'Gegevens van scanner'!$F$7:$G$250,2,0),0)","v":0}]
[10001950,null,null,{"$f":"IFERROR(VLOOKUP(A1959,'Gegevens van scanner'!$F$7:$G$250,2,0),0)","v":0}]
[10001951,null,null,{"$f":"IFERROR(VLOOKUP(A1960,'Gegevens van scanner'!$F$7:$G$250,2,0),0)","v":0}]
[10001952,null,null,{"$f":"IFERROR(VLOOKUP(A1961,'Gegevens van scanner'!$F$7:$G$250,2,0),0)","v":0}]
[10001953,null,null,{"$f":"IFERROR(VLOOKUP(A1962,'Gegevens van scanner'!$F$7:$G$250,2,0),0)","v":0}]
[10001954,null,null,{"$f":"IFERROR(VLOOKUP(A1963,'Gegevens van scanner'!$F$7:$G$250,2,0),0)","v":0}]
[10001955,null,null,{"$f":"IFERROR(VLOOKUP(A1964,'Gegevens van scanner'!$F$7:$G$250,2,0),0)","v":0}]
[10001956,null,null,{"$f":"IFERROR(VLOOKUP(A1965,'Gegevens van scanner'!$F$7:$G$250,2,0),0)","v":0}]
[10001957,null,null,{"$f":"IFERROR(VLOOKUP(A1966,'Gegevens van scanner'!$F$7:$G$250,2,0),0)","v":0}]
[10001958,null,null,{"$f":"IFERROR(VLOOKUP(A1967,'Gegevens van scanner'!$F$7:$G$250,2,0),0)","v":0}]
[10001959,null,null,{"$f":"IFERROR(VLOOKUP(A1968,'Gegevens van scanner'!$F$7:$G$250,2,0),0)","v":0}]
[10001960,null,null,{"$f":"IFERROR(VLOOKUP(A1969,'Gegevens van scanner'!$F$7:$G$250,2,0),0)","v":0}]
[10001961,null,null,{"$f":"IFERROR(VLOOKUP(A1970,'Gegevens van scanner'!$F$7:$G$250,2,0),0)","v":0}]
[10001962,null,null,{"$f":"IFERROR(VLOOKUP(A1971,'Gegevens van scanner'!$F$7:$G$250,2,0),0)","v":0}]
[10001963,null,null,{"$f":"IFERROR(VLOOKUP(A1972,'Gegevens van scanner'!$F$7:$G$250,2,0),0)","v":0}]
[10001964,null,null,{"$f":"IFERROR(VLOOKUP(A1973,'Gegevens van scanner'!$F$7:$G$250,2,0),0)","v":0}]
[10001965,null,null,{"$f":"IFERROR(VLOOKUP(A1974,'Gegevens van scanner'!$F$7:$G$250,2,0),0)","v":0}]
[10001966,null,null,{"$f":"IFERROR(VLOOKUP(A1975,'Gegevens van scanner'!$F$7:$G$250,2,0),0)","v":0}]
[10001967,null,null,{"$f":"IFERROR(VLOOKUP(A1976,'Gegevens van scanner'!$F$7:$G$250,2,0),0)","v":0}]
[10001968,null,null,{"$f":"IFERROR(VLOOKUP(A1977,'Gegevens van scanner'!$F$7:$G$250,2,0),0)","v":0}]
[10001969,null,null,{"$f":"IFERROR(VLOOKUP(A1978,'Gegevens van scanner'!$F$7:$G$250,2,0),0)","v":0}]
[10001970,null,null,{"$f":"IFERROR(VLOOKUP(A1979,'Gegevens van scanner'!$F$7:$G$250,2,0),0)","v":0}]
[10001971,null,null,{"$f":"IFERROR(VLOOKUP(A1980,'Gegevens van scanner'!$F$7:$G$250,2,0),0)","v":0}]
[10001972,null,null,{"$f":"IFERROR(VLOOKUP(A1981,'Gegevens van scanner'!$F$7:$G$250,2,0),0)","v":0}]
[10001973,null,null,{"$f":"IFERROR(VLOOKUP(A1982,'Gegevens van scanner'!$F$7:$G$250,2,0),0)","v":0}]
[10001974,null,null,{"$f":"IFERROR(VLOOKUP(A1983,'Gegevens van scanner'!$F$7:$G$250,2,0),0)","v":0}]
[10001975,null,null,{"$f":"IFERROR(VLOOKUP(A1984,'Gegevens van scanner'!$F$7:$G$250,2,0),0)","v":0}]
[10001976,null,null,{"$f":"IFERROR(VLOOKUP(A1985,'Gegevens van scanner'!$F$7:$G$250,2,0),0)","v":0}]
[10001977,null,null,{"$f":"IFERROR(VLOOKUP(A1986,'Gegevens van scanner'!$F$7:$G$250,2,0),0)","v":0}]
[10001978,null,null,{"$f":"IFERROR(VLOOKUP(A1987,'Gegevens van scanner'!$F$7:$G$250,2,0),0)","v":0}]
[10001979,null,null,{"$f":"IFERROR(VLOOKUP(A1988,'Gegevens van scanner'!$F$7:$G$250,2,0),0)","v":0}]
[10001980,null,null,{"$f":"IFERROR(VLOOKUP(A1989,'Gegevens van scanner'!$F$7:$G$250,2,0),0)","v":0}]
[10001981,null,null,{"$f":"IFERROR(VLOOKUP(A1990,'Gegevens van scanner'!$F$7:$G$250,2,0),0)","v":0}]
[10001982,null,null,{"$f":"IFERROR(VLOOKUP(A1991,'Gegevens van scanner'!$F$7:$G$250,2,0),0)","v":0}]
[10001983,null,null,{"$f":"IFERROR(VLOOKUP(A1992,'Gegevens van scanner'!$F$7:$G$250,2,0),0)","v":0}]
[10001984,null,null,{"$f":"IFERROR(VLOOKUP(A1993,'Gegevens van scanner'!$F$7:$G$250,2,0),0)","v":0}]
[10001985,null,null,{"$f":"IFERROR(VLOOKUP(A1994,'Gegevens van scanner'!$F$7:$G$250,2,0),0)","v":0}]
[{"$f":"A1994+1","v":10001986},null,null,{"$f":"IFERROR(VLOOKUP(A1995,'Gegevens van scanner'!$F$7:$G$250,2,0),0)","v":0}]
[10001987,null,null,{"$f":"IFERROR(VLOOKUP(A1996,'Gegevens van scanner'!$F$7:$G$250,2,0),0)","v":0}]
[10001988,null,null,{"$f":"IFERROR(VLOOKUP(A1997,'Gegevens van scanner'!$F$7:$G$250,2,0),0)","v":0}]
[10001989,null,null,{"$f":"IFERROR(VLOOKUP(A1998,'Gegevens van scanner'!$F$7:$G$250,2,0),0)","v":0}]
[10001990,null,null,{"$f":"IFERROR(VLOOKUP(A1999,'Gegevens van scanner'!$F$7:$G$250,2,0),0)","v":0}]
[10001991,null,null,{"$f":"IFERROR(VLOOKUP(A2000,'Gegevens van scanner'!$F$7:$G$250,2,0),0)","v":0}]
[10001995,null,null,{"$f":"IFERROR(VLOOKUP(A2004,'Gegevens van scanner'!$F$7:$G$250,2,0),0)","v":0}]
[10002013,null,null,{"$f":"IFERROR(VLOOKUP(A2022,'Gegevens van scanner'!$F$7:$G$250,2,0),0)","v":0}]
[10002023,null,null,{"$f":"IFERROR(VLOOKUP(A2032,'Gegevens van scanner'!$F$7:$G$250,2,0),0)","v":0}]
[10002034,null,null,{"$f":"IFERROR(VLOOKUP(A2043,'Gegevens van scanner'!$F$7:$G$250,2,0),0)","v":0}]
[10002040,null,null,{"$f":"IFERROR(VLOOKUP(A2049,'Gegevens van scanner'!$F$7:$G$250,2,0),0)","v":0}]
[10002051,null,null,{"$f":"IFERROR(VLOOKUP(A2060,'Gegevens van scanner'!$F$7:$G$250,2,0),0)","v":0}]
[10002068,null,null,{"$f":"IFERROR(VLOOKUP(A2077,'Gegevens van scanner'!$F$7:$G$250,2,0),0)","v":0}]
[10002072,null,null,{"$f":"IFERROR(VLOOKUP(A2081,'Gegevens van scanner'!$F$7:$G$250,2,0),0)","v":0}]
[10002085,null,null,{"$f":"IFERROR(VLOOKUP(A2094,'Gegevens van scanner'!$F$7:$G$250,2,0),0)","v":0}]
[10002105,null,null,{"$f":"IFERROR(VLOOKUP(A2114,'Gegevens van scanner'!$F$7:$G$250,2,0),0)","v":0}]
[10002109,null,null,{"$f":"IFERROR(VLOOKUP(A2118,'Gegevens van scanner'!$F$7:$G$250,2,0),0)","v":0}]
[10002126,null,null,{"$f":"IFERROR(VLOOKUP(A2135,'Gegevens van scanner'!$F$7:$G$250,2,0),0)","v":0}]
[10002137,null,null,{"$f":"IFERROR(VLOOKUP(A2146,'Gegevens van scanner'!$F$7:$G$250,2,0),0)","v":0}]
[10002143,null,null,{"$f":"IFERROR(VLOOKUP(A2152,'Gegevens van scanner'!$F$7:$G$250,2,0),0)","v":0}]
[10002154,null,null,{"$f":"IFERROR(VLOOKUP(A2163,'Gegevens van scanner'!$F$7:$G$250,2,0),0)","v":0}]
[10002164,null,null,{"$f":"IFERROR(VLOOKUP(A2173,'Gegevens van scanner'!$F$7:$G$250,2,0),0)","v":0}]
[10002182,null,null,{"$f":"IFERROR(VLOOKUP(A2191,'Gegevens van scanner'!$F$7:$G$250,2,0),0)","v":0}]
[10002197,null,null,{"$f":"IFERROR(VLOOKUP(A2206,'Gegevens van scanner'!$F$7:$G$250,2,0),0)","v":0}]
[10002206,null,null,{"$f":"IFERROR(VLOOKUP(A2215,'Gegevens van scanner'!$F$7:$G$250,2,0),0)","v":0}]
[10002218,null,null,{"$f":"IFERROR(VLOOKUP(A2227,'Gegevens van scanner'!$F$7:$G$250,2,0),0)","v":0}]
[10002223,null,null,{"$f":"IFERROR(VLOOKUP(A2232,'Gegevens van scanner'!$F$7:$G$250,2,0),0)","v":0}]
[10002239,null,null,{"$f":"IFERROR(VLOOKUP(A2248,'Gegevens van scanner'!$F$7:$G$250,2,0),0)","v":0}]
[10002251,null,null,{"$f":"IFERROR(VLOOKUP(A2260,'Gegevens van scanner'!$F$7:$G$250,2,0),0)","v":0}]
[10002256,null,null,{"$f":"IFERROR(VLOOKUP(A2265,'Gegevens van scanner'!$F$7:$G$250,2,0),0)","v":0}]
[10002268,null,null,{"$f":"IFERROR(VLOOKUP(A2277,'Gegevens van scanner'!$F$7:$G$250,2,0),0)","v":0}]
[10002289,null,null,{"$f":"IFERROR(VLOOKUP(A2298,'Gegevens van scanner'!$F$7:$G$250,2,0),0)","v":0}]
[10002292,null,null,{"$f":"IFERROR(VLOOKUP(A2301,'Gegevens van scanner'!$F$7:$G$250,2,0),0)","v":0}]
[10002310,null,null,{"$f":"IFERROR(VLOOKUP(A2319,'Gegevens van scanner'!$F$7:$G$250,2,0),0)","v":0}]
[10002320,null,null,{"$f":"IFERROR(VLOOKUP(A2329,'Gegevens van scanner'!$F$7:$G$250,2,0),0)","v":0}]
[10002331,null,null,{"$f":"IFERROR(VLOOKUP(A2340,'Gegevens van scanner'!$F$7:$G$250,2,0),0)","v":0}]
[10002337,null,null,{"$f":"IFERROR(VLOOKUP(A2346,'Gegevens van scanner'!$F$7:$G$250,2,0),0)","v":0}]
[10002348,null,null,{"$f":"IFERROR(VLOOKUP(A2357,'Gegevens van scanner'!$F$7:$G$250,2,0),0)","v":0}]
[10002365,null,null,{"$f":"IFERROR(VLOOKUP(A2374,'Gegevens van scanner'!$F$7:$G$250,2,0),0)","v":0}]
[10002381,null,null,{"$f":"IFERROR(VLOOKUP(A2390,'Gegevens van scanner'!$F$7:$G$250,2,0),0)","v":0}]
[10002389,null,null,{"$f":"IFERROR(VLOOKUP(A2398,'Gegevens van scanner'!$F$7:$G$250,2,0),0)","v":0}]
[10002402,null,null,{"$f":"IFERROR(VLOOKUP(A2411,'Gegevens van scanner'!$F$7:$G$250,2,0),0)","v":0}]
[10002406,null,null,{"$f":"IFERROR(VLOOKUP(A2415,'Gegevens van scanner'!$F$7:$G$250,2,0),0)","v":0}]
[10002423,null,null,{"$f":"IFERROR(VLOOKUP(A2432,'Gegevens van scanner'!$F$7:$G$250,2,0),0)","v":0}]
[{"$f":"A2442+1","v":10002434},null,null,{"$f":"IFERROR(VLOOKUP(A2443,'Gegevens van scanner'!$F$7:$G$250,2,0),0)","v":0}]
[10002440,null,null,{"$f":"IFERROR(VLOOKUP(A2449,'Gegevens van scanner'!$F$7:$G$250,2,0),0)","v":0}]
[10002462,null,null,{"$f":"IFERROR(VLOOKUP(A2471,'Gegevens van scanner'!$F$7:$G$250,2,0),0)","v":0}]
[10002473,null,null,{"$f":"IFERROR(VLOOKUP(A2482,'Gegevens van scanner'!$F$7:$G$250,2,0),0)","v":0}]
[10002479,null,null,{"$f":"IFERROR(VLOOKUP(A2488,'Gegevens van scanner'!$F$7:$G$250,2,0),0)","v":0}]
[10002494,null,null,{"$f":"IFERROR(VLOOKUP(A2503,'Gegevens van scanner'!$F$7:$G$250,2,0),0)","v":0}]
[10002503,null,null,{"$f":"IFERROR(VLOOKUP(A2512,'Gegevens van scanner'!$F$7:$G$250,2,0),0)","v":0}]
[10002515,null,null,{"$f":"IFERROR(VLOOKUP(A2524,'Gegevens van scanner'!$F$7:$G$250,2,0),0)","v":0}]
[10002531,null,null,{"$f":"IFERROR(VLOOKUP(A2540,'Gegevens van scanner'!$F$7:$G$250,2,0),0)","v":0}]
[10002532,null,null,{"$f":"IFERROR(VLOOKUP(A2541,'Gegevens van scanner'!$F$7:$G$250,2,0),0)","v":0}]
[10002548,null,null,{"$f":"IFERROR(VLOOKUP(A2557,'Gegevens van scanner'!$F$7:$G$250,2,0),0)","v":0}]
[10002565,null,null,{"$f":"IFERROR(VLOOKUP(A2574,'Gegevens van scanner'!$F$7:$G$250,2,0),0)","v":0}]
[10002576,null,null,{"$f":"IFERROR(VLOOKUP(A2585,'Gegevens van scanner'!$F$7:$G$250,2,0),0)","v":0}]
[10002586,null,null,{"$f":"IFERROR(VLOOKUP(A2595,'Gegevens van scanner'!$F$7:$G$250,2,0),0)","v":0}]
[10002600,null,null,{"$f":"IFERROR(VLOOKUP(A2609,'Gegevens van scanner'!$F$7:$G$250,2,0),0)","v":0}]
[10002607,null,null,{"$f":"IFERROR(VLOOKUP(A2616,'Gegevens van scanner'!$F$7:$G$250,2,0),0)","v":0}]
[10002617,null,null,{"$f":"IFERROR(VLOOKUP(A2626,'Gegevens van scanner'!$F$7:$G$250,2,0),0)","v":0}]
[10002628,null,null,{"$f":"IFERROR(VLOOKUP(A2637,'Gegevens van scanner'!$F$7:$G$250,2,0),0)","v":0}]
[10002645,null,null,{"$f":"IFERROR(VLOOKUP(A2654,'Gegevens van scanner'!$F$7:$G$250,2,0),0)","v":0}]
[10002657,null,null,{"$f":"IFERROR(VLOOKUP(A2666,'Gegevens van scanner'!$F$7:$G$250,2,0),0)","v":0}]
[10002662,null,null,{"$f":"IFERROR(VLOOKUP(A2671,'Gegevens van scanner'!$F$7:$G$250,2,0),0)","v":0}]
[10002678,null,null,{"$f":"IFERROR(VLOOKUP(A2687,'Gegevens van scanner'!$F$7:$G$250,2,0),0)","v":0}]
[10002686,null,null,{"$f":"IFERROR(VLOOKUP(A2695,'Gegevens van scanner'!$F$7:$G$250,2,0),0)","v":0}]
[10002699,null,null,{"$f":"IFERROR(VLOOKUP(A2708,'Gegevens van scanner'!$F$7:$G$250,2,0),0)","v":0}]
[10002714,null,null,{"$f":"IFERROR(VLOOKUP(A2723,'Gegevens van scanner'!$F$7:$G$250,2,0),0)","v":0}]
[10002720,null,null,{"$f":"IFERROR(VLOOKUP(A2729,'Gegevens van scanner'!$F$7:$G$250,2,0),0)","v":0}]
[10002731,null,null,{"$f":"IFERROR(VLOOKUP(A2740,'Gegevens van scanner'!$F$7:$G$250,2,0),0)","v":0}]
[10002749,null,null,{"$f":"IFERROR(VLOOKUP(A2758,'Gegevens van scanner'!$F$7:$G$250,2,0),0)","v":0}]
[10002759,null,null,{"$f":"IFERROR(VLOOKUP(A2768,'Gegevens van scanner'!$F$7:$G$250,2,0),0)","v":0}]
[10002770,null,null,{"$f":"IFERROR(VLOOKUP(A2779,'Gegevens van scanner'!$F$7:$G$250,2,0),0)","v":0}]
[10002783,null,null,{"$f":"IFERROR(VLOOKUP(A2792,'Gegevens van scanner'!$F$7:$G$250,2,0),0)","v":0}]
[10002791,null,null,{"$f":"IFERROR(VLOOKUP(A2800,'Gegevens van scanner'!$F$7:$G$250,2,0),0)","v":0}]
[10002800,null,null,{"$f":"IFERROR(VLOOKUP(A2809,'Gegevens van scanner'!$F$7:$G$250,2,0),0)","v":0}]
[10002812,null,null,{"$f":"IFERROR(VLOOKUP(A2821,'Gegevens van scanner'!$F$7:$G$250,2,0),0)","v":0}]
[10002828,null,null,{"$f":"IFERROR(VLOOKUP(A2837,'Gegevens van scanner'!$F$7:$G$250,2,0),0)","v":0}]
[10002841,null,null,{"$f":"IFERROR(VLOOKUP(A2850,'Gegevens van scanner'!$F$7:$G$250,2,0),0)","v":0}]
[10002845,null,null,{"$f":"IFERROR(VLOOKUP(A2854,'Gegevens van scanner'!$F$7:$G$250,2,0),0)","v":0}]
[10002862,null,null,{"$f":"IFERROR(VLOOKUP(A2871,'Gegevens van scanner'!$F$7:$G$250,2,0),0)","v":0}]
[10002873,null,null,{"$f":"IFERROR(VLOOKUP(A2882,'Gegevens van scanner'!$F$7:$G$250,2,0),0)","v":0}]
[10002883,null,null,{"$f":"IFERROR(VLOOKUP(A2892,'Gegevens van scanner'!$F$7:$G$250,2,0),0)","v":0}]
[10002897,null,null,{"$f":"IFERROR(VLOOKUP(A2906,'Gegevens van scanner'!$F$7:$G$250,2,0),0)","v":0}]
[10002904,null,null,{"$f":"IFERROR(VLOOKUP(A2913,'Gegevens van scanner'!$F$7:$G$250,2,0),0)","v":0}]
[10002914,null,null,{"$f":"IFERROR(VLOOKUP(A2923,'Gegevens van scanner'!$F$7:$G$250,2,0),0)","v":0}]
[10002933,null,null,{"$f":"IFERROR(VLOOKUP(A2942,'Gegevens van scanner'!$F$7:$G$250,2,0),0)","v":0}]
[10002942,null,null,{"$f":"IFERROR(VLOOKUP(A2951,'Gegevens van scanner'!$F$7:$G$250,2,0),0)","v":0}]
[10002954,null,null,{"$f":"IFERROR(VLOOKUP(A2963,'Gegevens van scanner'!$F$7:$G$250,2,0),0)","v":0}]
[10002959,null,null,{"$f":"IFERROR(VLOOKUP(A2968,'Gegevens van scanner'!$F$7:$G$250,2,0),0)","v":0}]
[10002975,null,null,{"$f":"IFERROR(VLOOKUP(A2984,'Gegevens van scanner'!$F$7:$G$250,2,0),0)","v":0}]
[10002983,null,null,{"$f":"IFERROR(VLOOKUP(A2992,'Gegevens van scanner'!$F$7:$G$250,2,0),0)","v":0}]
[10002996,null,null,{"$f":"IFERROR(VLOOKUP(A3005,'Gegevens van scanner'!$F$7:$G$250,2,0),0)","v":0}]
[10003011,null,null,{"$f":"IFERROR(VLOOKUP(A3020,'Gegevens van scanner'!$F$7:$G$250,2,0),0)","v":0}]
[10003025,null,null,{"$f":"IFERROR(VLOOKUP(A3034,'Gegevens van scanner'!$F$7:$G$250,2,0),0)","v":0}]
[10003028,null,null,{"$f":"IFERROR(VLOOKUP(A3037,'Gegevens van scanner'!$F$7:$G$250,2,0),0)","v":0}]
[10003046,null,null,{"$f":"IFERROR(VLOOKUP(A3055,'Gegevens van scanner'!$F$7:$G$250,2,0),0)","v":0}]
[10003056,null,null,{"$f":"IFERROR(VLOOKUP(A3065,'Gegevens van scanner'!$F$7:$G$250,2,0),0)","v":0}]
[10003067,null,null,{"$f":"IFERROR(VLOOKUP(A3076,'Gegevens van scanner'!$F$7:$G$250,2,0),0)","v":0}]
[10003080,null,null,{"$f":"IFERROR(VLOOKUP(A3089,'Gegevens van scanner'!$F$7:$G$250,2,0),0)","v":0}]
[10003088,null,null,{"$f":"IFERROR(VLOOKUP(A3097,'Gegevens van scanner'!$F$7:$G$250,2,0),0)","v":0}]
[10003097,null,null,{"$f":"IFERROR(VLOOKUP(A3106,'Gegevens van scanner'!$F$7:$G$250,2,0),0)","v":0}]
[10003109,null,null,{"$f":"IFERROR(VLOOKUP(A3118,'Gegevens van scanner'!$F$7:$G$250,2,0),0)","v":0}]
[10003125,null,null,{"$f":"IFERROR(VLOOKUP(A3134,'Gegevens van scanner'!$F$7:$G$250,2,0),0)","v":0}]
[{"$f":"A3146+1","v":10003138},null,null,{"$f":"IFERROR(VLOOKUP(A3147,'Gegevens van scanner'!$F$7:$G$250,2,0),0)","v":0}]
[10003142,null,null,{"$f":"IFERROR(VLOOKUP(A3151,'Gegevens van scanner'!$F$7:$G$250,2,0),0)","v":0}]
[10003159,null,null,{"$f":"IFERROR(VLOOKUP(A3168,'Gegevens van scanner'!$F$7:$G$250,2,0),0)","v":0}]
[10003166,null,null,{"$f":"IFERROR(VLOOKUP(A3175,'Gegevens van scanner'!$F$7:$G$250,2,0),0)","v":0}]
[10003180,null,null,{"$f":"IFERROR(VLOOKUP(A3189,'Gegevens van scanner'!$F$7:$G$250,2,0),0)","v":0}]
[10003194,null,null,{"$f":"IFERROR(VLOOKUP(A3203,'Gegevens van scanner'!$F$7:$G$250,2,0),0)","v":0}]
[10003201,null,null,{"$f":"IFERROR(VLOOKUP(A3210,'Gegevens van scanner'!$F$7:$G$250,2,0),0)","v":0}]
[10003211,null,null,{"$f":"IFERROR(VLOOKUP(A3220,'Gegevens van scanner'!$F$7:$G$250,2,0),0)","v":0}]
[10003230,null,null,{"$f":"IFERROR(VLOOKUP(A3239,'Gegevens van scanner'!$F$7:$G$250,2,0),0)","v":0}]
[10003239,null,null,{"$f":"IFERROR(VLOOKUP(A3248,'Gegevens van scanner'!$F$7:$G$250,2,0),0)","v":0}]
[10003251,null,null,{"$f":"IFERROR(VLOOKUP(A3260,'Gegevens van scanner'!$F$7:$G$250,2,0),0)","v":0}]
[10003267,null,null,{"$f":"IFERROR(VLOOKUP(A3276,'Gegevens van scanner'!$F$7:$G$250,2,0),0)","v":0}]
[10003272,null,null,{"$f":"IFERROR(VLOOKUP(A3281,'Gegevens van scanner'!$F$7:$G$250,2,0),0)","v":0}]
[10003280,null,null,{"$f":"IFERROR(VLOOKUP(A3289,'Gegevens van scanner'!$F$7:$G$250,2,0),0)","v":0}]
[10003293,null,null,{"$f":"IFERROR(VLOOKUP(A3302,'Gegevens van scanner'!$F$7:$G$250,2,0),0)","v":0}]
[10003308,null,null,{"$f":"IFERROR(VLOOKUP(A3317,'Gegevens van scanner'!$F$7:$G$250,2,0),0)","v":0}]
[10003322,null,null,{"$f":"IFERROR(VLOOKUP(A3331,'Gegevens van scanner'!$F$7:$G$250,2,0),0)","v":0}]
[10003336,null,null,{"$f":"IFERROR(VLOOKUP(A3345,'Gegevens van scanner'!$F$7:$G$250,2,0),0)","v":0}]
[10003343,null,null,{"$f":"IFERROR(VLOOKUP(A3352,'Gegevens van scanner'!$F$7:$G$250,2,0),0)","v":0}]
[10003353,null,null,{"$f":"IFERROR(VLOOKUP(A3362,'Gegevens van scanner'!$F$7:$G$250,2,0),0)","v":0}]
[10003364,null,null,{"$f":"IFERROR(VLOOKUP(A3373,'Gegevens van scanner'!$F$7:$G$250,2,0),0)","v":0}]
[10003377,null,null,{"$f":"IFERROR(VLOOKUP(A3386,'Gegevens van scanner'!$F$7:$G$250,2,0),0)","v":0}]
[10003385,null,null,{"$f":"IFERROR(VLOOKUP(A3394,'Gegevens van scanner'!$F$7:$G$250,2,0),0)","v":0}]
[10003405,null,null,{"$f":"IFERROR(VLOOKUP(A3414,'Gegevens van scanner'!$F$7:$G$250,2,0),0)","v":0}]
[10003414,null,null,{"$f":"IFERROR(VLOOKUP(A3423,'Gegevens van scanner'!$F$7:$G$250,2,0),0)","v":0}]
[10003427,null,null,{"$f":"IFERROR(VLOOKUP(A3436,'Gegevens van scanner'!$F$7:$G$250,2,0),0)","v":0}]
[10003440,null,null,{"$f":"IFERROR(VLOOKUP(A3449,'Gegevens van scanner'!$F$7:$G$250,2,0),0)","v":0}]
[10003448,null,null,{"$f":"IFERROR(VLOOKUP(A3457,'Gegevens van scanner'!$F$7:$G$250,2,0),0)","v":0}]
[10003457,null,null,{"$f":"IFERROR(VLOOKUP(A3466,'Gegevens van scanner'!$F$7:$G$250,2,0),0)","v":0}]
[10003465,null,null,{"$f":"IFERROR(VLOOKUP(A3474,'Gegevens van scanner'!$F$7:$G$250,2,0),0)","v":0}]
[10003485,null,null,{"$f":"IFERROR(VLOOKUP(A3494,'Gegevens van scanner'!$F$7:$G$250,2,0),0)","v":0}]
[10003498,null,null,{"$f":"IFERROR(VLOOKUP(A3507,'Gegevens van scanner'!$F$7:$G$250,2,0),0)","v":0}]
[10003502,null,null,{"$f":"IFERROR(VLOOKUP(A3511,'Gegevens van scanner'!$F$7:$G$250,2,0),0)","v":0}]
[10003519,null,null,{"$f":"IFERROR(VLOOKUP(A3528,'Gegevens van scanner'!$F$7:$G$250,2,0),0)","v":0}]
[10003526,null,null,{"$f":"IFERROR(VLOOKUP(A3535,'Gegevens van scanner'!$F$7:$G$250,2,0),0)","v":0}]
[10003540,null,null,{"$f":"IFERROR(VLOOKUP(A3549,'Gegevens van scanner'!$F$7:$G$250,2,0),0)","v":0}]
[10003554,null,null,{"$f":"IFERROR(VLOOKUP(A3563,'Gegevens van scanner'!$F$7:$G$250,2,0),0)","v":0}]
[10003557,null,null,{"$f":"IFERROR(VLOOKUP(A3566,'Gegevens van scanner'!$F$7:$G$250,2,0),0)","v":0}]
[10003571,null,null,{"$f":"IFERROR(VLOOKUP(A3580,'Gegevens van scanner'!$F$7:$G$250,2,0),0)","v":0}]
[10003590,null,null,{"$f":"IFERROR(VLOOKUP(A3599,'Gegevens van scanner'!$F$7:$G$250,2,0),0)","v":0}]
[10003599,null,null,{"$f":"IFERROR(VLOOKUP(A3608,'Gegevens van scanner'!$F$7:$G$250,2,0),0)","v":0}]
[10003611,null,null,{"$f":"IFERROR(VLOOKUP(A3620,'Gegevens van scanner'!$F$7:$G$250,2,0),0)","v":0}]
[10003623,null,null,{"$f":"IFERROR(VLOOKUP(A3632,'Gegevens van scanner'!$F$7:$G$250,2,0),0)","v":0}]
[10003632,null,null,{"$f":"IFERROR(VLOOKUP(A3641,'Gegevens van scanner'!$F$7:$G$250,2,0),0)","v":0}]
[10003640,null,null,{"$f":"IFERROR(VLOOKUP(A3649,'Gegevens van scanner'!$F$7:$G$250,2,0),0)","v":0}]
[10003653,null,null,{"$f":"IFERROR(VLOOKUP(A3662,'Gegevens van scanner'!$F$7:$G$250,2,0),0)","v":0}]
[10003668,null,null,{"$f":"IFERROR(VLOOKUP(A3677,'Gegevens van scanner'!$F$7:$G$250,2,0),0)","v":0}]
[10003682,null,null,{"$f":"IFERROR(VLOOKUP(A3691,'Gegevens van scanner'!$F$7:$G$250,2,0),0)","v":0}]
[10003685,null,null,{"$f":"IFERROR(VLOOKUP(A3694,'Gegevens van scanner'!$F$7:$G$250,2,0),0)","v":0}]
[10003703,null,null,{"$f":"IFERROR(VLOOKUP(A3712,'Gegevens van scanner'!$F$7:$G$250,2,0),0)","v":0}]
[10003709,null,null,{"$f":"IFERROR(VLOOKUP(A3718,'Gegevens van scanner'!$F$7:$G$250,2,0),0)","v":0}]
[10003724,null,null,{"$f":"IFERROR(VLOOKUP(A3733,'Gegevens van scanner'!$F$7:$G$250,2,0),0)","v":0}]
[10003737,null,null,{"$f":"IFERROR(VLOOKUP(A3746,'Gegevens van scanner'!$F$7:$G$250,2,0),0)","v":0}]
[10003745,null,null,{"$f":"IFERROR(VLOOKUP(A3754,'Gegevens van scanner'!$F$7:$G$250,2,0),0)","v":0}]
[10003754,null,null,{"$f":"IFERROR(VLOOKUP(A3763,'Gegevens van scanner'!$F$7:$G$250,2,0),0)","v":0}]
[10003774,null,null,{"$f":"IFERROR(VLOOKUP(A3783,'Gegevens van scanner'!$F$7:$G$250,2,0),0)","v":0}]
[10003782,null,null,{"$f":"IFERROR(VLOOKUP(A3791,'Gegevens van scanner'!$F$7:$G$250,2,0),0)","v":0}]
[10003795,null,null,{"$f":"IFERROR(VLOOKUP(A3804,'Gegevens van scanner'!$F$7:$G$250,2,0),0)","v":0}]
[10003806,null,null,{"$f":"IFERROR(VLOOKUP(A3815,'Gegevens van scanner'!$F$7:$G$250,2,0),0)","v":0}]
[10003816,null,null,{"$f":"IFERROR(VLOOKUP(A3825,'Gegevens van scanner'!$F$7:$G$250,2,0),0)","v":0}]
[10003823,null,null,{"$f":"IFERROR(VLOOKUP(A3832,'Gegevens van scanner'!$F$7:$G$250,2,0),0)","v":0}]
[10003837,null,null,{"$f":"IFERROR(VLOOKUP(A3846,'Gegevens van scanner'!$F$7:$G$250,2,0),0)","v":0}]
[10003851,null,null,{"$f":"IFERROR(VLOOKUP(A3860,'Gegevens van scanner'!$F$7:$G$250,2,0),0)","v":0}]
[10003866,null,null,{"$f":"IFERROR(VLOOKUP(A3875,'Gegevens van scanner'!$F$7:$G$250,2,0),0)","v":0}]
[10003868,null,null,{"$f":"IFERROR(VLOOKUP(A3877,'Gegevens van scanner'!$F$7:$G$250,2,0),0)","v":0}]
[10003887,null,null,{"$f":"IFERROR(VLOOKUP(A3896,'Gegevens van scanner'!$F$7:$G$250,2,0),0)","v":0}]
[10003896,null,null,{"$f":"IFERROR(VLOOKUP(A3905,'Gegevens van scanner'!$F$7:$G$250,2,0),0)","v":0}]
[10003908,null,null,{"$f":"IFERROR(VLOOKUP(A3917,'Gegevens van scanner'!$F$7:$G$250,2,0),0)","v":0}]
[10003920,null,null,{"$f":"IFERROR(VLOOKUP(A3929,'Gegevens van scanner'!$F$7:$G$250,2,0),0)","v":0}]
[10003929,null,null,{"$f":"IFERROR(VLOOKUP(A3938,'Gegevens van scanner'!$F$7:$G$250,2,0),0)","v":0}]
[10003937,null,null,{"$f":"IFERROR(VLOOKUP(A3946,'Gegevens van scanner'!$F$7:$G$250,2,0),0)","v":0}]
[10003958,null,null,{"$f":"IFERROR(VLOOKUP(A3967,'Gegevens van scanner'!$F$7:$G$250,2,0),0)","v":0}]
[10003965,null,null,{"$f":"IFERROR(VLOOKUP(A3974,'Gegevens van scanner'!$F$7:$G$250,2,0),0)","v":0}]
[10003979,null,null,{"$f":"IFERROR(VLOOKUP(A3988,'Gegevens van scanner'!$F$7:$G$250,2,0),0)","v":0}]
[10003982,null,null,{"$f":"IFERROR(VLOOKUP(A3991,'Gegevens van scanner'!$F$7:$G$250,2,0),0)","v":0}]
[10004000,null,null,{"$f":"IFERROR(VLOOKUP(A4009,'Gegevens van scanner'!$F$7:$G$250,2,0),0)","v":0}]
[10004006,null,null,{"$f":"IFERROR(VLOOKUP(A4015,'Gegevens van scanner'!$F$7:$G$250,2,0),0)","v":0}]
[10004021,null,null,{"$f":"IFERROR(VLOOKUP(A4030,'Gegevens van scanner'!$F$7:$G$250,2,0),0)","v":0}]
[{"$f":"A4042+1","v":10004034},null,null,{"$f":"IFERROR(VLOOKUP(A4043,'Gegevens van scanner'!$F$7:$G$250,2,0),0)","v":0}]
[10004050,null,null,{"$f":"IFERROR(VLOOKUP(A4059,'Gegevens van scanner'!$F$7:$G$250,2,0),0)","v":0}]
[10004051,null,null,{"$f":"IFERROR(VLOOKUP(A4060,'Gegevens van scanner'!$F$7:$G$250,2,0),0)","v":0}]
[10004071,null,null,{"$f":"IFERROR(VLOOKUP(A4080,'Gegevens van scanner'!$F$7:$G$250,2,0),0)","v":0}]
[10004079,null,null,{"$f":"IFERROR(VLOOKUP(A4088,'Gegevens van scanner'!$F$7:$G$250,2,0),0)","v":0}]
[10004092,null,null,{"$f":"IFERROR(VLOOKUP(A4101,'Gegevens van scanner'!$F$7:$G$250,2,0),0)","v":0}]
[10004103,null,null,{"$f":"IFERROR(VLOOKUP(A4112,'Gegevens van scanner'!$F$7:$G$250,2,0),0)","v":0}]
[10004113,null,null,{"$f":"IFERROR(VLOOKUP(A4122,'Gegevens van scanner'!$F$7:$G$250,2,0),0)","v":0}]
[10004120,null,null,{"$f":"IFERROR(VLOOKUP(A4129,'Gegevens van scanner'!$F$7:$G$250,2,0),0)","v":0}]
[10004134,null,null,{"$f":"IFERROR(VLOOKUP(A4143,'Gegevens van scanner'!$F$7:$G$250,2,0),0)","v":0}]
[10004148,null,null,{"$f":"IFERROR(VLOOKUP(A4157,'Gegevens van scanner'!$F$7:$G$250,2,0),0)","v":0}]
[10004163,null,null,{"$f":"IFERROR(VLOOKUP(A4172,'Gegevens van scanner'!$F$7:$G$250,2,0),0)","v":0}]
[10004176,null,null,{"$f":"IFERROR(VLOOKUP(A4185,'Gegevens van scanner'!$F$7:$G$250,2,0),0)","v":0}]
[10004184,null,null,{"$f":"IFERROR(VLOOKUP(A4193,'Gegevens van scanner'!$F$7:$G$250,2,0),0)","v":0}]
[10004189,null,null,{"$f":"IFERROR(VLOOKUP(A4198,'Gegevens van scanner'!$F$7:$G$250,2,0),0)","v":0}]
[10004205,null,null,{"$f":"IFERROR(VLOOKUP(A4214,'Gegevens van scanner'!$F$7:$G$250,2,0),0)","v":0}]
[10004217,null,null,{"$f":"IFERROR(VLOOKUP(A4226,'Gegevens van scanner'!$F$7:$G$250,2,0),0)","v":0}]
[{"$f":"A4234+1","v":10004226},null,null,{"$f":"IFERROR(VLOOKUP(A4235,'Gegevens van scanner'!$F$7:$G$250,2,0),0)","v":0}]
[10004245,null,null,{"$f":"IFERROR(VLOOKUP(A4254,'Gegevens van scanner'!$F$7:$G$250,2,0),0)","v":0}]
[10004255,null,null,{"$f":"IFERROR(VLOOKUP(A4264,'Gegevens van scanner'!$F$7:$G$250,2,0),0)","v":0}]
[10004262,null,null,{"$f":"IFERROR(VLOOKUP(A4271,'Gegevens van scanner'!$F$7:$G$250,2,0),0)","v":0}]
[10004276,null,null,{"$f":"IFERROR(VLOOKUP(A4285,'Gegevens van scanner'!$F$7:$G$250,2,0),0)","v":0}]
[{"$f":"A4298+1","v":10004290},null,null,{"$f":"IFERROR(VLOOKUP(A4299,'Gegevens van scanner'!$F$7:$G$250,2,0),0)","v":0}]
[10004297,null,null,{"$f":"IFERROR(VLOOKUP(A4306,'Gegevens van scanner'!$F$7:$G$250,2,0),0)","v":0}]
[10004314,null,null,{"$f":"IFERROR(VLOOKUP(A4323,'Gegevens van scanner'!$F$7:$G$250,2,0),0)","v":0}]
[10004318,null,null,{"$f":"IFERROR(VLOOKUP(A4327,'Gegevens van scanner'!$F$7:$G$250,2,0),0)","v":0}]
[10004331,null,null,{"$f":"IFERROR(VLOOKUP(A4340,'Gegevens van scanner'!$F$7:$G$250,2,0),0)","v":0}]
[10004347,null,null,{"$f":"IFERROR(VLOOKUP(A4356,'Gegevens van scanner'!$F$7:$G$250,2,0),0)","v":0}]
[10004359,null,null,{"$f":"IFERROR(VLOOKUP(A4368,'Gegevens van scanner'!$F$7:$G$250,2,0),0)","v":0}]
[10004368,null,null,{"$f":"IFERROR(VLOOKUP(A4377,'Gegevens van scanner'!$F$7:$G$250,2,0),0)","v":0}]
[10004376,null,null,{"$f":"IFERROR(VLOOKUP(A4385,'Gegevens van scanner'!$F$7:$G$250,2,0),0)","v":0}]
[10004389,null,null,{"$f":"IFERROR(VLOOKUP(A4398,'Gegevens van scanner'!$F$7:$G$250,2,0),0)","v":0}]
[10004400,null,null,{"$f":"IFERROR(VLOOKUP(A4409,'Gegevens van scanner'!$F$7:$G$250,2,0),0)","v":0}]
[10004410,null,null,{"$f":"IFERROR(VLOOKUP(A4419,'Gegevens van scanner'!$F$7:$G$250,2,0),0)","v":0}]
[10004428,null,null,{"$f":"IFERROR(VLOOKUP(A4437,'Gegevens van scanner'!$F$7:$G$250,2,0),0)","v":0}]
[10004439,null,null,{"$f":"IFERROR(VLOOKUP(A4448,'Gegevens van scanner'!$F$7:$G$250,2,0),0)","v":0}]
[10004445,null,null,{"$f":"IFERROR(VLOOKUP(A4454,'Gegevens van scanner'!$F$7:$G$250,2,0),0)","v":0}]
[10004460,null,null,{"$f":"IFERROR(VLOOKUP(A4469,'Gegevens van scanner'!$F$7:$G$250,2,0),0)","v":0}]
[10004473,null,null,{"$f":"IFERROR(VLOOKUP(A4482,'Gegevens van scanner'!$F$7:$G$250,2,0),0)","v":0}]
[10004481,null,null,{"$f":"IFERROR(VLOOKUP(A4490,'Gegevens van scanner'!$F$7:$G$250,2,0),0)","v":0}]
[10004497,null,null,{"$f":"IFERROR(VLOOKUP(A4506,'Gegevens van scanner'!$F$7:$G$250,2,0),0)","v":0}]
[10004502,null,null,{"$f":"IFERROR(VLOOKUP(A4511,'Gegevens van scanner'!$F$7:$G$250,2,0),0)","v":0}]
[10004514,null,null,{"$f":"IFERROR(VLOOKUP(A4523,'Gegevens van scanner'!$F$7:$G$250,2,0),0)","v":0}]
[10004523,null,null,{"$f":"IFERROR(VLOOKUP(A4532,'Gegevens van scanner'!$F$7:$G$250,2,0),0)","v":0}]
[10004542,null,null,{"$f":"IFERROR(VLOOKUP(A4551,'Gegevens van scanner'!$F$7:$G$250,2,0),0)","v":0}]
[10004552,null,null,{"$f":"IFERROR(VLOOKUP(A4561,'Gegevens van scanner'!$F$7:$G$250,2,0),0)","v":0}]
[10004559,null,null,{"$f":"IFERROR(VLOOKUP(A4568,'Gegevens van scanner'!$F$7:$G$250,2,0),0)","v":0}]
[10004573,null,null,{"$f":"IFERROR(VLOOKUP(A4582,'Gegevens van scanner'!$F$7:$G$250,2,0),0)","v":0}]
[10004583,null,null,{"$f":"IFERROR(VLOOKUP(A4592,'Gegevens van scanner'!$F$7:$G$250,2,0),0)","v":0}]
[10004594,null,null,{"$f":"IFERROR(VLOOKUP(A4603,'Gegevens van scanner'!$F$7:$G$250,2,0),0)","v":0}]
[10004611,null,null,{"$f":"IFERROR(VLOOKUP(A4620,'Gegevens van scanner'!$F$7:$G$250,2,0),0)","v":0}]
[10004615,null,null,{"$f":"IFERROR(VLOOKUP(A4624,'Gegevens van scanner'!$F$7:$G$250,2,0),0)","v":0}]
[10004628,null,null,{"$f":"IFERROR(VLOOKUP(A4637,'Gegevens van scanner'!$F$7:$G$250,2,0),0)","v":0}]
[10004644,null,null,{"$f":"IFERROR(VLOOKUP(A4653,'Gegevens van scanner'!$F$7:$G$250,2,0),0)","v":0}]
[10004656,null,null,{"$f":"IFERROR(VLOOKUP(A4665,'Gegevens van scanner'!$F$7:$G$250,2,0),0)","v":0}]
[10004665,null,null,{"$f":"IFERROR(VLOOKUP(A4674,'Gegevens van scanner'!$F$7:$G$250,2,0),0)","v":0}]
[10004680,null,null,{"$f":"IFERROR(VLOOKUP(A4689,'Gegevens van scanner'!$F$7:$G$250,2,0),0)","v":0}]
[10004686,null,null,{"$f":"IFERROR(VLOOKUP(A4695,'Gegevens van scanner'!$F$7:$G$250,2,0),0)","v":0}]
[10004697,null,null,{"$f":"IFERROR(VLOOKUP(A4706,'Gegevens van scanner'!$F$7:$G$250,2,0),0)","v":0}]
[10004707,null,null,{"$f":"IFERROR(VLOOKUP(A4716,'Gegevens van scanner'!$F$7:$G$250,2,0),0)","v":0}]
[10004725,null,null,{"$f":"IFERROR(VLOOKUP(A4734,'Gegevens van scanner'!$F$7:$G$250,2,0),0)","v":0}]
[10004736,null,null,{"$f":"IFERROR(VLOOKUP(A4745,'Gegevens van scanner'!$F$7:$G$250,2,0),0)","v":0}]
[10004742,null,null,{"$f":"IFERROR(VLOOKUP(A4751,'Gegevens van scanner'!$F$7:$G$250,2,0),0)","v":0}]
[10004757,null,null,{"$f":"IFERROR(VLOOKUP(A4766,'Gegevens van scanner'!$F$7:$G$250,2,0),0)","v":0}]
[10004770,null,null,{"$f":"IFERROR(VLOOKUP(A4779,'Gegevens van scanner'!$F$7:$G$250,2,0),0)","v":0}]
[10004778,null,null,{"$f":"IFERROR(VLOOKUP(A4787,'Gegevens van scanner'!$F$7:$G$250,2,0),0)","v":0}]
[10004794,null,null,{"$f":"IFERROR(VLOOKUP(A4803,'Gegevens van scanner'!$F$7:$G$250,2,0),0)","v":0}]
[10004799,null,null,{"$f":"IFERROR(VLOOKUP(A4808,'Gegevens van scanner'!$F$7:$G$250,2,0),0)","v":0}]
[10004811,null,null,{"$f":"IFERROR(VLOOKUP(A4820,'Gegevens van scanner'!$F$7:$G$250,2,0),0)","v":0}]
[10004828,null,null,{"$f":"IFERROR(VLOOKUP(A4837,'Gegevens van scanner'!$F$7:$G$250,2,0),0)","v":0}]
[10004839,null,null,{"$f":"IFERROR(VLOOKUP(A4848,'Gegevens van scanner'!$F$7:$G$250,2,0),0)","v":0}]
[10004849,null,null,{"$f":"IFERROR(VLOOKUP(A4858,'Gegevens van scanner'!$F$7:$G$250,2,0),0)","v":0}]
[10004862,null,null,{"$f":"IFERROR(VLOOKUP(A4871,'Gegevens van scanner'!$F$7:$G$250,2,0),0)","v":0}]
[10004874,null,null,{"$f":"IFERROR(VLOOKUP(A4883,'Gegevens van scanner'!$F$7:$G$250,2,0),0)","v":0}]
[10004879,null,null,{"$f":"IFERROR(VLOOKUP(A4888,'Gegevens van scanner'!$F$7:$G$250,2,0),0)","v":0}]
[10004891,null,null,{"$f":"IFERROR(VLOOKUP(A4900,'Gegevens van scanner'!$F$7:$G$250,2,0),0)","v":0}]
[10004912,null,null,{"$f":"IFERROR(VLOOKUP(A4921,'Gegevens van scanner'!$F$7:$G$250,2,0),0)","v":0}]
[10004919,null,null,{"$f":"IFERROR(VLOOKUP(A4928,'Gegevens van scanner'!$F$7:$G$250,2,0),0)","v":0}]
[10004933,null,null,{"$f":"IFERROR(VLOOKUP(A4942,'Gegevens van scanner'!$F$7:$G$250,2,0),0)","v":0}]
[10004943,null,null,{"$f":"IFERROR(VLOOKUP(A4952,'Gegevens van scanner'!$F$7:$G$250,2,0),0)","v":0}]
[10004954,null,null,{"$f":"IFERROR(VLOOKUP(A4963,'Gegevens van scanner'!$F$7:$G$250,2,0),0)","v":0}]
[10004960,null,null,{"$f":"IFERROR(VLOOKUP(A4969,'Gegevens van scanner'!$F$7:$G$250,2,0),0)","v":0}]
[10004971,null,null,{"$f":"IFERROR(VLOOKUP(A4980,'Gegevens van scanner'!$F$7:$G$250,2,0),0)","v":0}]
[10004988,null,null,{"$f":"IFERROR(VLOOKUP(A4997,'Gegevens van scanner'!$F$7:$G$250,2,0),0)","v":0}]
[10005004,null,null,{"$f":"IFERROR(VLOOKUP(A5013,'Gegevens van scanner'!$F$7:$G$250,2,0),0)","v":0}]
[10005016,null,null,{"$f":"IFERROR(VLOOKUP(A5025,'Gegevens van scanner'!$F$7:$G$250,2,0),0)","v":0}]
[10005025,null,null,{"$f":"IFERROR(VLOOKUP(A5034,'Gegevens van scanner'!$F$7:$G$250,2,0),0)","v":0}]
[10005029,null,null,{"$f":"IFERROR(VLOOKUP(A5038,'Gegevens van scanner'!$F$7:$G$250,2,0),0)","v":0}]
[10005046,null,null,{"$f":"IFERROR(VLOOKUP(A5055,'Gegevens van scanner'!$F$7:$G$250,2,0),0)","v":0}]
[10005057,null,null,{"$f":"IFERROR(VLOOKUP(A5066,'Gegevens van scanner'!$F$7:$G$250,2,0),0)","v":0}]
[10005063,null,null,{"$f":"IFERROR(VLOOKUP(A5072,'Gegevens van scanner'!$F$7:$G$250,2,0),0)","v":0}]
[10005085,null,null,{"$f":"IFERROR(VLOOKUP(A5094,'Gegevens van scanner'!$F$7:$G$250,2,0),0)","v":0}]
[10005096,null,null,{"$f":"IFERROR(VLOOKUP(A5105,'Gegevens van scanner'!$F$7:$G$250,2,0),0)","v":0}]
[10005102,null,null,{"$f":"IFERROR(VLOOKUP(A5111,'Gegevens van scanner'!$F$7:$G$250,2,0),0)","v":0}]
[10005117,null,null,{"$f":"IFERROR(VLOOKUP(A5126,'Gegevens van scanner'!$F$7:$G$250,2,0),0)","v":0}]
[10005126,null,null,{"$f":"IFERROR(VLOOKUP(A5135,'Gegevens van scanner'!$F$7:$G$250,2,0),0)","v":0}]
[10005138,null,null,{"$f":"IFERROR(VLOOKUP(A5147,'Gegevens van scanner'!$F$7:$G$250,2,0),0)","v":0}]
[10005154,null,null,{"$f":"IFERROR(VLOOKUP(A5163,'Gegevens van scanner'!$F$7:$G$250,2,0),0)","v":0}]
[10005159,null,null,{"$f":"IFERROR(VLOOKUP(A5168,'Gegevens van scanner'!$F$7:$G$250,2,0),0)","v":0}]
[10005171,null,null,{"$f":"IFERROR(VLOOKUP(A5180,'Gegevens van scanner'!$F$7:$G$250,2,0),0)","v":0}]
[10005188,null,null,{"$f":"IFERROR(VLOOKUP(A5197,'Gegevens van scanner'!$F$7:$G$250,2,0),0)","v":0}]
[10005199,null,null,{"$f":"IFERROR(VLOOKUP(A5208,'Gegevens van scanner'!$F$7:$G$250,2,0),0)","v":0}]
[10005209,null,null,{"$f":"IFERROR(VLOOKUP(A5218,'Gegevens van scanner'!$F$7:$G$250,2,0),0)","v":0}]
[10005223,null,null,{"$f":"IFERROR(VLOOKUP(A5232,'Gegevens van scanner'!$F$7:$G$250,2,0),0)","v":0}]
[10005230,null,null,{"$f":"IFERROR(VLOOKUP(A5239,'Gegevens van scanner'!$F$7:$G$250,2,0),0)","v":0}]
[10005240,null,null,{"$f":"IFERROR(VLOOKUP(A5249,'Gegevens van scanner'!$F$7:$G$250,2,0),0)","v":0}]
[10005251,null,null,{"$f":"IFERROR(VLOOKUP(A5260,'Gegevens van scanner'!$F$7:$G$250,2,0),0)","v":0}]
[10005268,null,null,{"$f":"IFERROR(VLOOKUP(A5277,'Gegevens van scanner'!$F$7:$G$250,2,0),0)","v":0}]
[10005280,null,null,{"$f":"IFERROR(VLOOKUP(A5289,'Gegevens van scanner'!$F$7:$G$250,2,0),0)","v":0}]
[10005285,null,null,{"$f":"IFERROR(VLOOKUP(A5294,'Gegevens van scanner'!$F$7:$G$250,2,0),0)","v":0}]
[10005301,null,null,{"$f":"IFERROR(VLOOKUP(A5310,'Gegevens van scanner'!$F$7:$G$250,2,0),0)","v":0}]
[10005313,null,null,{"$f":"IFERROR(VLOOKUP(A5322,'Gegevens van scanner'!$F$7:$G$250,2,0),0)","v":0}]
[10005322,null,null,{"$f":"IFERROR(VLOOKUP(A5331,'Gegevens van scanner'!$F$7:$G$250,2,0),0)","v":0}]
[10005337,null,null,{"$f":"IFERROR(VLOOKUP(A5346,'Gegevens van scanner'!$F$7:$G$250,2,0),0)","v":0}]
[10005343,null,null,{"$f":"IFERROR(VLOOKUP(A5352,'Gegevens van scanner'!$F$7:$G$250,2,0),0)","v":0}]
[10005354,null,null,{"$f":"IFERROR(VLOOKUP(A5363,'Gegevens van scanner'!$F$7:$G$250,2,0),0)","v":0}]
[10005372,null,null,{"$f":"IFERROR(VLOOKUP(A5381,'Gegevens van scanner'!$F$7:$G$250,2,0),0)","v":0}]
[10005382,null,null,{"$f":"IFERROR(VLOOKUP(A5391,'Gegevens van scanner'!$F$7:$G$250,2,0),0)","v":0}]
[10005393,null,null,{"$f":"IFERROR(VLOOKUP(A5402,'Gegevens van scanner'!$F$7:$G$250,2,0),0)","v":0}]
[10005399,null,null,{"$f":"IFERROR(VLOOKUP(A5408,'Gegevens van scanner'!$F$7:$G$250,2,0),0)","v":0}]
[10005414,null,null,{"$f":"IFERROR(VLOOKUP(A5423,'Gegevens van scanner'!$F$7:$G$250,2,0),0)","v":0}]
[10005423,null,null,{"$f":"IFERROR(VLOOKUP(A5432,'Gegevens van scanner'!$F$7:$G$250,2,0),0)","v":0}]
[10005435,null,null,{"$f":"IFERROR(VLOOKUP(A5444,'Gegevens van scanner'!$F$7:$G$250,2,0),0)","v":0}]
[10005451,null,null,{"$f":"IFERROR(VLOOKUP(A5460,'Gegevens van scanner'!$F$7:$G$250,2,0),0)","v":0}]
[10005464,null,null,{"$f":"IFERROR(VLOOKUP(A5473,'Gegevens van scanner'!$F$7:$G$250,2,0),0)","v":0}]
[10005468,null,null,{"$f":"IFERROR(VLOOKUP(A5477,'Gegevens van scanner'!$F$7:$G$250,2,0),0)","v":0}]
[10005485,null,null,{"$f":"IFERROR(VLOOKUP(A5494,'Gegevens van scanner'!$F$7:$G$250,2,0),0)","v":0}]
[10005496,null,null,{"$f":"IFERROR(VLOOKUP(A5505,'Gegevens van scanner'!$F$7:$G$250,2,0),0)","v":0}]
[{"$f":"A5514+1","v":10005506},null,null,{"$f":"IFERROR(VLOOKUP(A5515,'Gegevens van scanner'!$F$7:$G$250,2,0),0)","v":0}]
[10005520,null,null,{"$f":"IFERROR(VLOOKUP(A5529,'Gegevens van scanner'!$F$7:$G$250,2,0),0)","v":0}]
[10005527,null,null,{"$f":"IFERROR(VLOOKUP(A5536,'Gegevens van scanner'!$F$7:$G$250,2,0),0)","v":0}]
[10005537,null,null,{"$f":"IFERROR(VLOOKUP(A5546,'Gegevens van scanner'!$F$7:$G$250,2,0),0)","v":0}]
[10005548,null,null,{"$f":"IFERROR(VLOOKUP(A5557,'Gegevens van scanner'!$F$7:$G$250,2,0),0)","v":0}]
[10005565,null,null,{"$f":"IFERROR(VLOOKUP(A5574,'Gegevens van scanner'!$F$7:$G$250,2,0),0)","v":0}]
[10005577,null,null,{"$f":"IFERROR(VLOOKUP(A5586,'Gegevens van scanner'!$F$7:$G$250,2,0),0)","v":0}]
[10005582,null,null,{"$f":"IFERROR(VLOOKUP(A5591,'Gegevens van scanner'!$F$7:$G$250,2,0),0)","v":0}]
[10005598,null,null,{"$f":"IFERROR(VLOOKUP(A5607,'Gegevens van scanner'!$F$7:$G$250,2,0),0)","v":0}]
[10005606,null,null,{"$f":"IFERROR(VLOOKUP(A5615,'Gegevens van scanner'!$F$7:$G$250,2,0),0)","v":0}]
[10005619,null,null,{"$f":"IFERROR(VLOOKUP(A5628,'Gegevens van scanner'!$F$7:$G$250,2,0),0)","v":0}]
[{"$f":"A5642+1","v":10005634},null,null,{"$f":"IFERROR(VLOOKUP(A5643,'Gegevens van scanner'!$F$7:$G$250,2,0),0)","v":0}]
[10005640,null,null,{"$f":"IFERROR(VLOOKUP(A5649,'Gegevens van scanner'!$F$7:$G$250,2,0),0)","v":0}]
[10005651,null,null,{"$f":"IFERROR(VLOOKUP(A5660,'Gegevens van scanner'!$F$7:$G$250,2,0),0)","v":0}]
[10005669,null,null,{"$f":"IFERROR(VLOOKUP(A5678,'Gegevens van scanner'!$F$7:$G$250,2,0),0)","v":0}]
[10005679,null,null,{"$f":"IFERROR(VLOOKUP(A5688,'Gegevens van scanner'!$F$7:$G$250,2,0),0)","v":0}]
[10005690,null,null,{"$f":"IFERROR(VLOOKUP(A5699,'Gegevens van scanner'!$F$7:$G$250,2,0),0)","v":0}]
[10005703,null,null,{"$f":"IFERROR(VLOOKUP(A5712,'Gegevens van scanner'!$F$7:$G$250,2,0),0)","v":0}]
[10005711,null,null,{"$f":"IFERROR(VLOOKUP(A5720,'Gegevens van scanner'!$F$7:$G$250,2,0),0)","v":0}]
[10005720,null,null,{"$f":"IFERROR(VLOOKUP(A5729,'Gegevens van scanner'!$F$7:$G$250,2,0),0)","v":0}]
[10005732,null,null,{"$f":"IFERROR(VLOOKUP(A5741,'Gegevens van scanner'!$F$7:$G$250,2,0),0)","v":0}]
[10005748,null,null,{"$f":"IFERROR(VLOOKUP(A5757,'Gegevens van scanner'!$F$7:$G$250,2,0),0)","v":0}]
[10005761,null,null,{"$f":"IFERROR(VLOOKUP(A5770,'Gegevens van scanner'!$F$7:$G$250,2,0),0)","v":0}]
[10005765,null,null,{"$f":"IFERROR(VLOOKUP(A5774,'Gegevens van scanner'!$F$7:$G$250,2,0),0)","v":0}]
[10005782,null,null,{"$f":"IFERROR(VLOOKUP(A5791,'Gegevens van scanner'!$F$7:$G$250,2,0),0)","v":0}]
[10005793,null,null,{"$f":"IFERROR(VLOOKUP(A5802,'Gegevens van scanner'!$F$7:$G$250,2,0),0)","v":0}]
[10005803,null,null,{"$f":"IFERROR(VLOOKUP(A5812,'Gegevens van scanner'!$F$7:$G$250,2,0),0)","v":0}]
[10005817,null,null,{"$f":"IFERROR(VLOOKUP(A5826,'Gegevens van scanner'!$F$7:$G$250,2,0),0)","v":0}]
[10005824,null,null,{"$f":"IFERROR(VLOOKUP(A5833,'Gegevens van scanner'!$F$7:$G$250,2,0),0)","v":0}]
[10005834,null,null,{"$f":"IFERROR(VLOOKUP(A5843,'Gegevens van scanner'!$F$7:$G$250,2,0),0)","v":0}]
[10005853,null,null,{"$f":"IFERROR(VLOOKUP(A5862,'Gegevens van scanner'!$F$7:$G$250,2,0),0)","v":0}]
[10005862,null,null,{"$f":"IFERROR(VLOOKUP(A5871,'Gegevens van scanner'!$F$7:$G$250,2,0),0)","v":0}]
[10005874,null,null,{"$f":"IFERROR(VLOOKUP(A5883,'Gegevens van scanner'!$F$7:$G$250,2,0),0)","v":0}]
[{"$f":"A5898+1","v":10005890},null,null,{"$f":"IFERROR(VLOOKUP(A5899,'Gegevens van scanner'!$F$7:$G$250,2,0),0)","v":0}]
[10005895,null,null,{"$f":"IFERROR(VLOOKUP(A5904,'Gegevens van scanner'!$F$7:$G$250,2,0),0)","v":0}]
[10005903,null,null,{"$f":"IFERROR(VLOOKUP(A5912,'Gegevens van scanner'!$F$7:$G$250,2,0),0)","v":0}]
[10005916,null,null,{"$f":"IFERROR(VLOOKUP(A5925,'Gegevens van scanner'!$F$7:$G$250,2,0),0)","v":0}]
[10005931,null,null,{"$f":"IFERROR(VLOOKUP(A5940,'Gegevens van scanner'!$F$7:$G$250,2,0),0)","v":0}]
[10005937,null,null,{"$f":"IFERROR(VLOOKUP(A5946,'Gegevens van scanner'!$F$7:$G$250,2,0),0)","v":0}]
[10005959,null,null,{"$f":"IFERROR(VLOOKUP(A5968,'Gegevens van scanner'!$F$7:$G$250,2,0),0)","v":0}]
[10005966,null,null,{"$f":"IFERROR(VLOOKUP(A5975,'Gegevens van scanner'!$F$7:$G$250,2,0),0)","v":0}]
[10005976,null,null,{"$f":"IFERROR(VLOOKUP(A5985,'Gegevens van scanner'!$F$7:$G$250,2,0),0)","v":0}]
[10005987,null,null,{"$f":"IFERROR(VLOOKUP(A5996,'Gegevens van scanner'!$F$7:$G$250,2,0),0)","v":0}]
[10006000,null,null,{"$f":"IFERROR(VLOOKUP(A6009,'Gegevens van scanner'!$F$7:$G$250,2,0),0)","v":0}]
[10006008,null,null,{"$f":"IFERROR(VLOOKUP(A6017,'Gegevens van scanner'!$F$7:$G$250,2,0),0)","v":0}]
[10006028,null,null,{"$f":"IFERROR(VLOOKUP(A6037,'Gegevens van scanner'!$F$7:$G$250,2,0),0)","v":0}]
[10006029,null,null,{"$f":"IFERROR(VLOOKUP(A6038,'Gegevens van scanner'!$F$7:$G$250,2,0),0)","v":0}]
[10006045,null,null,{"$f":"IFERROR(VLOOKUP(A6054,'Gegevens van scanner'!$F$7:$G$250,2,0),0)","v":0}]
[10006058,null,null,{"$f":"IFERROR(VLOOKUP(A6067,'Gegevens van scanner'!$F$7:$G$250,2,0),0)","v":0}]
[10006073,null,null,{"$f":"IFERROR(VLOOKUP(A6082,'Gegevens van scanner'!$F$7:$G$250,2,0),0)","v":0}]
[10006079,null,null,{"$f":"IFERROR(VLOOKUP(A6088,'Gegevens van scanner'!$F$7:$G$250,2,0),0)","v":0}]
[10006097,null,null,{"$f":"IFERROR(VLOOKUP(A6106,'Gegevens van scanner'!$F$7:$G$250,2,0),0)","v":0}]
[10006100,null,null,{"$f":"IFERROR(VLOOKUP(A6109,'Gegevens van scanner'!$F$7:$G$250,2,0),0)","v":0}]
[10006114,null,null,{"$f":"IFERROR(VLOOKUP(A6123,'Gegevens van scanner'!$F$7:$G$250,2,0),0)","v":0}]
[10006121,null,null,{"$f":"IFERROR(VLOOKUP(A6130,'Gegevens van scanner'!$F$7:$G$250,2,0),0)","v":0}]
[10006142,null,null,{"$f":"IFERROR(VLOOKUP(A6151,'Gegevens van scanner'!$F$7:$G$250,2,0),0)","v":0}]
[10006150,null,null,{"$f":"IFERROR(VLOOKUP(A6159,'Gegevens van scanner'!$F$7:$G$250,2,0),0)","v":0}]
[10006159,null,null,{"$f":"IFERROR(VLOOKUP(A6168,'Gegevens van scanner'!$F$7:$G$250,2,0),0)","v":0}]
[10006171,null,null,{"$f":"IFERROR(VLOOKUP(A6180,'Gegevens van scanner'!$F$7:$G$250,2,0),0)","v":0}]
[10006187,null,null,{"$f":"IFERROR(VLOOKUP(A6196,'Gegevens van scanner'!$F$7:$G$250,2,0),0)","v":0}]
[10006192,null,null,{"$f":"IFERROR(VLOOKUP(A6201,'Gegevens van scanner'!$F$7:$G$250,2,0),0)","v":0}]
[10006211,null,null,{"$f":"IFERROR(VLOOKUP(A6220,'Gegevens van scanner'!$F$7:$G$250,2,0),0)","v":0}]
[10006213,null,null,{"$f":"IFERROR(VLOOKUP(A6222,'Gegevens van scanner'!$F$7:$G$250,2,0),0)","v":0}]
[10006228,null,null,{"$f":"IFERROR(VLOOKUP(A6237,'Gegevens van scanner'!$F$7:$G$250,2,0),0)","v":0}]
[10006242,null,null,{"$f":"IFERROR(VLOOKUP(A6251,'Gegevens van scanner'!$F$7:$G$250,2,0),0)","v":0}]
[10006256,null,null,{"$f":"IFERROR(VLOOKUP(A6265,'Gegevens van scanner'!$F$7:$G$250,2,0),0)","v":0}]
[10006263,null,null,{"$f":"IFERROR(VLOOKUP(A6272,'Gegevens van scanner'!$F$7:$G$250,2,0),0)","v":0}]
[10006273,null,null,{"$f":"IFERROR(VLOOKUP(A6282,'Gegevens van scanner'!$F$7:$G$250,2,0),0)","v":0}]
[10006284,null,null,{"$f":"IFERROR(VLOOKUP(A6293,'Gegevens van scanner'!$F$7:$G$250,2,0),0)","v":0}]
[10006305,null,null,{"$f":"IFERROR(VLOOKUP(A6314,'Gegevens van scanner'!$F$7:$G$250,2,0),0)","v":0}]
[10006308,null,null,{"$f":"IFERROR(VLOOKUP(A6317,'Gegevens van scanner'!$F$7:$G$250,2,0),0)","v":0}]
[10006326,null,null,{"$f":"IFERROR(VLOOKUP(A6335,'Gegevens van scanner'!$F$7:$G$250,2,0),0)","v":0}]
[10006336,null,null,{"$f":"IFERROR(VLOOKUP(A6345,'Gegevens van scanner'!$F$7:$G$250,2,0),0)","v":0}]
[10006347,null,null,{"$f":"IFERROR(VLOOKUP(A6356,'Gegevens van scanner'!$F$7:$G$250,2,0),0)","v":0}]
[10006360,null,null,{"$f":"IFERROR(VLOOKUP(A6369,'Gegevens van scanner'!$F$7:$G$250,2,0),0)","v":0}]
[10006368,null,null,{"$f":"IFERROR(VLOOKUP(A6377,'Gegevens van scanner'!$F$7:$G$250,2,0),0)","v":0}]
[10006377,null,null,{"$f":"IFERROR(VLOOKUP(A6386,'Gegevens van scanner'!$F$7:$G$250,2,0),0)","v":0}]
[10006397,null,null,{"$f":"IFERROR(VLOOKUP(A6406,'Gegevens van scanner'!$F$7:$G$250,2,0),0)","v":0}]
[10006405,null,null,{"$f":"IFERROR(VLOOKUP(A6414,'Gegevens van scanner'!$F$7:$G$250,2,0),0)","v":0}]
[10006418,null,null,{"$f":"IFERROR(VLOOKUP(A6427,'Gegevens van scanner'!$F$7:$G$250,2,0),0)","v":0}]
[10006422,null,null,{"$f":"IFERROR(VLOOKUP(A6431,'Gegevens van scanner'!$F$7:$G$250,2,0),0)","v":0}]
[10006439,null,null,{"$f":"IFERROR(VLOOKUP(A6448,'Gegevens van scanner'!$F$7:$G$250,2,0),0)","v":0}]
[10006446,null,null,{"$f":"IFERROR(VLOOKUP(A6455,'Gegevens van scanner'!$F$7:$G$250,2,0),0)","v":0}]
[10006460,null,null,{"$f":"IFERROR(VLOOKUP(A6469,'Gegevens van scanner'!$F$7:$G$250,2,0),0)","v":0}]
[10006474,null,null,{"$f":"IFERROR(VLOOKUP(A6483,'Gegevens van scanner'!$F$7:$G$250,2,0),0)","v":0}]
[10006489,null,null,{"$f":"IFERROR(VLOOKUP(A6498,'Gegevens van scanner'!$F$7:$G$250,2,0),0)","v":0}]
[10006491,null,null,{"$f":"IFERROR(VLOOKUP(A6500,'Gegevens van scanner'!$F$7:$G$250,2,0),0)","v":0}]
[10006510,null,null,{"$f":"IFERROR(VLOOKUP(A6519,'Gegevens van scanner'!$F$7:$G$250,2,0),0)","v":0}]
[10006519,null,null,{"$f":"IFERROR(VLOOKUP(A6528,'Gegevens van scanner'!$F$7:$G$250,2,0),0)","v":0}]
[10006531,null,null,{"$f":"IFERROR(VLOOKUP(A6540,'Gegevens van scanner'!$F$7:$G$250,2,0),0)","v":0}]
[10006543,null,null,{"$f":"IFERROR(VLOOKUP(A6552,'Gegevens van scanner'!$F$7:$G$250,2,0),0)","v":0}]
[10006552,null,null,{"$f":"IFERROR(VLOOKUP(A6561,'Gegevens van scanner'!$F$7:$G$250,2,0),0)","v":0}]
[10006560,null,null,{"$f":"IFERROR(VLOOKUP(A6569,'Gegevens van scanner'!$F$7:$G$250,2,0),0)","v":0}]
[10006573,null,null,{"$f":"IFERROR(VLOOKUP(A6582,'Gegevens van scanner'!$F$7:$G$250,2,0),0)","v":0}]
[10006588,null,null,{"$f":"IFERROR(VLOOKUP(A6597,'Gegevens van scanner'!$F$7:$G$250,2,0),0)","v":0}]
[10006602,null,null,{"$f":"IFERROR(VLOOKUP(A6611,'Gegevens van scanner'!$F$7:$G$250,2,0),0)","v":0}]
[10006605,null,null,{"$f":"IFERROR(VLOOKUP(A6614,'Gegevens van scanner'!$F$7:$G$250,2,0),0)","v":0}]
[10006623,null,null,{"$f":"IFERROR(VLOOKUP(A6632,'Gegevens van scanner'!$F$7:$G$250,2,0),0)","v":0}]
[10006629,null,null,{"$f":"IFERROR(VLOOKUP(A6638,'Gegevens van scanner'!$F$7:$G$250,2,0),0)","v":0}]
[10006644,null,null,{"$f":"IFERROR(VLOOKUP(A6653,'Gegevens van scanner'!$F$7:$G$250,2,0),0)","v":0}]
[10006657,null,null,{"$f":"IFERROR(VLOOKUP(A6666,'Gegevens van scanner'!$F$7:$G$250,2,0),0)","v":0}]
[10006665,null,null,{"$f":"IFERROR(VLOOKUP(A6674,'Gegevens van scanner'!$F$7:$G$250,2,0),0)","v":0}]
[10006674,null,null,{"$f":"IFERROR(VLOOKUP(A6683,'Gegevens van scanner'!$F$7:$G$250,2,0),0)","v":0}]
[10006694,null,null,{"$f":"IFERROR(VLOOKUP(A6703,'Gegevens van scanner'!$F$7:$G$250,2,0),0)","v":0}]
[10006702,null,null,{"$f":"IFERROR(VLOOKUP(A6711,'Gegevens van scanner'!$F$7:$G$250,2,0),0)","v":0}]
[10006715,null,null,{"$f":"IFERROR(VLOOKUP(A6724,'Gegevens van scanner'!$F$7:$G$250,2,0),0)","v":0}]
[10006726,null,null,{"$f":"IFERROR(VLOOKUP(A6735,'Gegevens van scanner'!$F$7:$G$250,2,0),0)","v":0}]
[10006736,null,null,{"$f":"IFERROR(VLOOKUP(A6745,'Gegevens van scanner'!$F$7:$G$250,2,0),0)","v":0}]
[10006743,null,null,{"$f":"IFERROR(VLOOKUP(A6752,'Gegevens van scanner'!$F$7:$G$250,2,0),0)","v":0}]
[10006757,null,null,{"$f":"IFERROR(VLOOKUP(A6766,'Gegevens van scanner'!$F$7:$G$250,2,0),0)","v":0}]
[10006771,null,null,{"$f":"IFERROR(VLOOKUP(A6780,'Gegevens van scanner'!$F$7:$G$250,2,0),0)","v":0}]
[{"$f":"A6794+1","v":10006786},null,null,{"$f":"IFERROR(VLOOKUP(A6795,'Gegevens van scanner'!$F$7:$G$250,2,0),0)","v":0}]
[10006799,null,null,{"$f":"IFERROR(VLOOKUP(A6808,'Gegevens van scanner'!$F$7:$G$250,2,0),0)","v":0}]
[10006807,null,null,{"$f":"IFERROR(VLOOKUP(A6816,'Gegevens van scanner'!$F$7:$G$250,2,0),0)","v":0}]
[10006816,null,null,{"$f":"IFERROR(VLOOKUP(A6825,'Gegevens van scanner'!$F$7:$G$250,2,0),0)","v":0}]
[10006828,null,null,{"$f":"IFERROR(VLOOKUP(A6837,'Gegevens van scanner'!$F$7:$G$250,2,0),0)","v":0}]
[10006840,null,null,{"$f":"IFERROR(VLOOKUP(A6849,'Gegevens van scanner'!$F$7:$G$250,2,0),0)","v":0}]
[10006849,null,null,{"$f":"IFERROR(VLOOKUP(A6858,'Gegevens van scanner'!$F$7:$G$250,2,0),0)","v":0}]
[10006868,null,null,{"$f":"IFERROR(VLOOKUP(A6877,'Gegevens van scanner'!$F$7:$G$250,2,0),0)","v":0}]
[10006878,null,null,{"$f":"IFERROR(VLOOKUP(A6887,'Gegevens van scanner'!$F$7:$G$250,2,0),0)","v":0}]
[10006885,null,null,{"$f":"IFERROR(VLOOKUP(A6894,'Gegevens van scanner'!$F$7:$G$250,2,0),0)","v":0}]
[10006899,null,null,{"$f":"IFERROR(VLOOKUP(A6908,'Gegevens van scanner'!$F$7:$G$250,2,0),0)","v":0}]
[10006913,null,null,{"$f":"IFERROR(VLOOKUP(A6922,'Gegevens van scanner'!$F$7:$G$250,2,0),0)","v":0}]
[10006920,null,null,{"$f":"IFERROR(VLOOKUP(A6929,'Gegevens van scanner'!$F$7:$G$250,2,0),0)","v":0}]
[10006937,null,null,{"$f":"IFERROR(VLOOKUP(A6946,'Gegevens van scanner'!$F$7:$G$250,2,0),0)","v":0}]
[10006941,null,null,{"$f":"IFERROR(VLOOKUP(A6950,'Gegevens van scanner'!$F$7:$G$250,2,0),0)","v":0}]
[10006954,null,null,{"$f":"IFERROR(VLOOKUP(A6963,'Gegevens van scanner'!$F$7:$G$250,2,0),0)","v":0}]
[10006962,null,null,{"$f":"IFERROR(VLOOKUP(A6971,'Gegevens van scanner'!$F$7:$G$250,2,0),0)","v":0}]
[10006982,null,null,{"$f":"IFERROR(VLOOKUP(A6991,'Gegevens van scanner'!$F$7:$G$250,2,0),0)","v":0}]
[10006991,null,null,{"$f":"IFERROR(VLOOKUP(A7000,'Gegevens van scanner'!$F$7:$G$250,2,0),0)","v":0}]
[10006999,null,null,{"$f":"IFERROR(VLOOKUP(A7008,'Gegevens van scanner'!$F$7:$G$250,2,0),0)","v":0}]
[10007012,null,null,{"$f":"IFERROR(VLOOKUP(A7021,'Gegevens van scanner'!$F$7:$G$250,2,0),0)","v":0}]
[10007023,null,null,{"$f":"IFERROR(VLOOKUP(A7032,'Gegevens van scanner'!$F$7:$G$250,2,0),0)","v":0}]
[10007033,null,null,{"$f":"IFERROR(VLOOKUP(A7042,'Gegevens van scanner'!$F$7:$G$250,2,0),0)","v":0}]
[10007051,null,null,{"$f":"IFERROR(VLOOKUP(A7060,'Gegevens van scanner'!$F$7:$G$250,2,0),0)","v":0}]
[10007054,null,null,{"$f":"IFERROR(VLOOKUP(A7063,'Gegevens van scanner'!$F$7:$G$250,2,0),0)","v":0}]
[10007068,null,null,{"$f":"IFERROR(VLOOKUP(A7077,'Gegevens van scanner'!$F$7:$G$250,2,0),0)","v":0}]
[10007083,null,null,{"$f":"IFERROR(VLOOKUP(A7092,'Gegevens van scanner'!$F$7:$G$250,2,0),0)","v":0}]
[10007096,null,null,{"$f":"IFERROR(VLOOKUP(A7105,'Gegevens van scanner'!$F$7:$G$250,2,0),0)","v":0}]
[10007104,null,null,{"$f":"IFERROR(VLOOKUP(A7113,'Gegevens van scanner'!$F$7:$G$250,2,0),0)","v":0}]
[10007120,null,null,{"$f":"IFERROR(VLOOKUP(A7129,'Gegevens van scanner'!$F$7:$G$250,2,0),0)","v":0}]
[10007125,null,null,{"$f":"IFERROR(VLOOKUP(A7134,'Gegevens van scanner'!$F$7:$G$250,2,0),0)","v":0}]
[10007137,null,null,{"$f":"IFERROR(VLOOKUP(A7146,'Gegevens van scanner'!$F$7:$G$250,2,0),0)","v":0}]
[10007146,null,null,{"$f":"IFERROR(VLOOKUP(A7155,'Gegevens van scanner'!$F$7:$G$250,2,0),0)","v":0}]
[10007165,null,null,{"$f":"IFERROR(VLOOKUP(A7174,'Gegevens van scanner'!$F$7:$G$250,2,0),0)","v":0}]
[10007175,null,null,{"$f":"IFERROR(VLOOKUP(A7184,'Gegevens van scanner'!$F$7:$G$250,2,0),0)","v":0}]
[10007182,null,null,{"$f":"IFERROR(VLOOKUP(A7191,'Gegevens van scanner'!$F$7:$G$250,2,0),0)","v":0}]
[10007196,null,null,{"$f":"IFERROR(VLOOKUP(A7205,'Gegevens van scanner'!$F$7:$G$250,2,0),0)","v":0}]
[10007210,null,null,{"$f":"IFERROR(VLOOKUP(A7219,'Gegevens van scanner'!$F$7:$G$250,2,0),0)","v":0}]
[10007217,null,null,{"$f":"IFERROR(VLOOKUP(A7226,'Gegevens van scanner'!$F$7:$G$250,2,0),0)","v":0}]
[{"$f":"A7242+1","v":10007234},null,null,{"$f":"IFERROR(VLOOKUP(A7243,'Gegevens van scanner'!$F$7:$G$250,2,0),0)","v":0}]
[10007238,null,null,{"$f":"IFERROR(VLOOKUP(A7247,'Gegevens van scanner'!$F$7:$G$250,2,0),0)","v":0}]
[10007251,null,null,{"$f":"IFERROR(VLOOKUP(A7260,'Gegevens van scanner'!$F$7:$G$250,2,0),0)","v":0}]
[10007267,null,null,{"$f":"IFERROR(VLOOKUP(A7276,'Gegevens van scanner'!$F$7:$G$250,2,0),0)","v":0}]
[10007279,null,null,{"$f":"IFERROR(VLOOKUP(A7288,'Gegevens van scanner'!$F$7:$G$250,2,0),0)","v":0}]
[10007288,null,null,{"$f":"IFERROR(VLOOKUP(A7297,'Gegevens van scanner'!$F$7:$G$250,2,0),0)","v":0}]
[10007296,null,null,{"$f":"IFERROR(VLOOKUP(A7305,'Gegevens van scanner'!$F$7:$G$250,2,0),0)","v":0}]
[10007309,null,null,{"$f":"IFERROR(VLOOKUP(A7318,'Gegevens van scanner'!$F$7:$G$250,2,0),0)","v":0}]
[10007320,null,null,{"$f":"IFERROR(VLOOKUP(A7329,'Gegevens van scanner'!$F$7:$G$250,2,0),0)","v":0}]
[10007330,null,null,{"$f":"IFERROR(VLOOKUP(A7339,'Gegevens van scanner'!$F$7:$G$250,2,0),0)","v":0}]
[10007348,null,null,{"$f":"IFERROR(VLOOKUP(A7357,'Gegevens van scanner'!$F$7:$G$250,2,0),0)","v":0}]
[10007359,null,null,{"$f":"IFERROR(VLOOKUP(A7368,'Gegevens van scanner'!$F$7:$G$250,2,0),0)","v":0}]
[10007365,null,null,{"$f":"IFERROR(VLOOKUP(A7374,'Gegevens van scanner'!$F$7:$G$250,2,0),0)","v":0}]
[10007380,null,null,{"$f":"IFERROR(VLOOKUP(A7389,'Gegevens van scanner'!$F$7:$G$250,2,0),0)","v":0}]
[10007393,null,null,{"$f":"IFERROR(VLOOKUP(A7402,'Gegevens van scanner'!$F$7:$G$250,2,0),0)","v":0}]
[10007401,null,null,{"$f":"IFERROR(VLOOKUP(A7410,'Gegevens van scanner'!$F$7:$G$250,2,0),0)","v":0}]
[10007417,null,null,{"$f":"IFERROR(VLOOKUP(A7426,'Gegevens van scanner'!$F$7:$G$250,2,0),0)","v":0}]
[10007422,null,null,{"$f":"IFERROR(VLOOKUP(A7431,'Gegevens van scanner'!$F$7:$G$250,2,0),0)","v":0}]
[10007434,null,null,{"$f":"IFERROR(VLOOKUP(A7443,'Gegevens van scanner'!$F$7:$G$250,2,0),0)","v":0}]
[10007455,null,null,{"$f":"IFERROR(VLOOKUP(A7464,'Gegevens van scanner'!$F$7:$G$250,2,0),0)","v":0}]
[10007462,null,null,{"$f":"IFERROR(VLOOKUP(A7471,'Gegevens van scanner'!$F$7:$G$250,2,0),0)","v":0}]
[10007472,null,null,{"$f":"IFERROR(VLOOKUP(A7481,'Gegevens van scanner'!$F$7:$G$250,2,0),0)","v":0}]
[10007479,null,null,{"$f":"IFERROR(VLOOKUP(A7488,'Gegevens van scanner'!$F$7:$G$250,2,0),0)","v":0}]
[10007493,null,null,{"$f":"IFERROR(VLOOKUP(A7502,'Gegevens van scanner'!$F$7:$G$250,2,0),0)","v":0}]
[10007503,null,null,{"$f":"IFERROR(VLOOKUP(A7512,'Gegevens van scanner'!$F$7:$G$250,2,0),0)","v":0}]
[10007514,null,null,{"$f":"IFERROR(VLOOKUP(A7523,'Gegevens van scanner'!$F$7:$G$250,2,0),0)","v":0}]
[10007531,null,null,{"$f":"IFERROR(VLOOKUP(A7540,'Gegevens van scanner'!$F$7:$G$250,2,0),0)","v":0}]
[10007547,null,null,{"$f":"IFERROR(VLOOKUP(A7556,'Gegevens van scanner'!$F$7:$G$250,2,0),0)","v":0}]
[10007548,null,null,{"$f":"IFERROR(VLOOKUP(A7557,'Gegevens van scanner'!$F$7:$G$250,2,0),0)","v":0}]
[10007564,null,null,{"$f":"IFERROR(VLOOKUP(A7573,'Gegevens van scanner'!$F$7:$G$250,2,0),0)","v":0}]
[10007576,null,null,{"$f":"IFERROR(VLOOKUP(A7585,'Gegevens van scanner'!$F$7:$G$250,2,0),0)","v":0}]
[10007585,null,null,{"$f":"IFERROR(VLOOKUP(A7594,'Gegevens van scanner'!$F$7:$G$250,2,0),0)","v":0}]
[10007604,null,null,{"$f":"IFERROR(VLOOKUP(A7613,'Gegevens van scanner'!$F$7:$G$250,2,0),0)","v":0}]
[10007606,null,null,{"$f":"IFERROR(VLOOKUP(A7615,'Gegevens van scanner'!$F$7:$G$250,2,0),0)","v":0}]
[10007617,null,null,{"$f":"IFERROR(VLOOKUP(A7626,'Gegevens van scanner'!$F$7:$G$250,2,0),0)","v":0}]
[10007639,null,null,{"$f":"IFERROR(VLOOKUP(A7648,'Gegevens van scanner'!$F$7:$G$250,2,0),0)","v":0}]
[10007645,null,null,{"$f":"IFERROR(VLOOKUP(A7654,'Gegevens van scanner'!$F$7:$G$250,2,0),0)","v":0}]
[10007656,null,null,{"$f":"IFERROR(VLOOKUP(A7665,'Gegevens van scanner'!$F$7:$G$250,2,0),0)","v":0}]
[10007673,null,null,{"$f":"IFERROR(VLOOKUP(A7682,'Gegevens van scanner'!$F$7:$G$250,2,0),0)","v":0}]
[10007677,null,null,{"$f":"IFERROR(VLOOKUP(A7686,'Gegevens van scanner'!$F$7:$G$250,2,0),0)","v":0}]
[10007690,null,null,{"$f":"IFERROR(VLOOKUP(A7699,'Gegevens van scanner'!$F$7:$G$250,2,0),0)","v":0}]
[10007698,null,null,{"$f":"IFERROR(VLOOKUP(A7707,'Gegevens van scanner'!$F$7:$G$250,2,0),0)","v":0}]
[10007714,null,null,{"$f":"IFERROR(VLOOKUP(A7723,'Gegevens van scanner'!$F$7:$G$250,2,0),0)","v":0}]
[10007731,null,null,{"$f":"IFERROR(VLOOKUP(A7740,'Gegevens van scanner'!$F$7:$G$250,2,0),0)","v":0}]
[10007740,null,null,{"$f":"IFERROR(VLOOKUP(A7749,'Gegevens van scanner'!$F$7:$G$250,2,0),0)","v":0}]
[10007749,null,null,{"$f":"IFERROR(VLOOKUP(A7758,'Gegevens van scanner'!$F$7:$G$250,2,0),0)","v":0}]
[10007761,null,null,{"$f":"IFERROR(VLOOKUP(A7770,'Gegevens van scanner'!$F$7:$G$250,2,0),0)","v":0}]
[10007777,null,null,{"$f":"IFERROR(VLOOKUP(A7786,'Gegevens van scanner'!$F$7:$G$250,2,0),0)","v":0}]
[10007782,null,null,{"$f":"IFERROR(VLOOKUP(A7791,'Gegevens van scanner'!$F$7:$G$250,2,0),0)","v":0}]
[10007794,null,null,{"$f":"IFERROR(VLOOKUP(A7803,'Gegevens van scanner'!$F$7:$G$250,2,0),0)","v":0}]
[10007811,null,null,{"$f":"IFERROR(VLOOKUP(A7820,'Gegevens van scanner'!$F$7:$G$250,2,0),0)","v":0}]
[10007822,null,null,{"$f":"IFERROR(VLOOKUP(A7831,'Gegevens van scanner'!$F$7:$G$250,2,0),0)","v":0}]
[10007832,null,null,{"$f":"IFERROR(VLOOKUP(A7841,'Gegevens van scanner'!$F$7:$G$250,2,0),0)","v":0}]
[10007839,null,null,{"$f":"IFERROR(VLOOKUP(A7848,'Gegevens van scanner'!$F$7:$G$250,2,0),0)","v":0}]
[10007853,null,null,{"$f":"IFERROR(VLOOKUP(A7862,'Gegevens van scanner'!$F$7:$G$250,2,0),0)","v":0}]
[10007863,null,null,{"$f":"IFERROR(VLOOKUP(A7872,'Gegevens van scanner'!$F$7:$G$250,2,0),0)","v":0}]
[{"$f":"A7882+1","v":10007874},null,null,{"$f":"IFERROR(VLOOKUP(A7883,'Gegevens van scanner'!$F$7:$G$250,2,0),0)","v":0}]
[10007891,null,null,{"$f":"IFERROR(VLOOKUP(A7900,'Gegevens van scanner'!$F$7:$G$250,2,0),0)","v":0}]
[10007903,null,null,{"$f":"IFERROR(VLOOKUP(A7912,'Gegevens van scanner'!$F$7:$G$250,2,0),0)","v":0}]
[10007908,null,null,{"$f":"IFERROR(VLOOKUP(A7917,'Gegevens van scanner'!$F$7:$G$250,2,0),0)","v":0}]
[10007924,null,null,{"$f":"IFERROR(VLOOKUP(A7933,'Gegevens van scanner'!$F$7:$G$250,2,0),0)","v":0}]
[10007936,null,null,{"$f":"IFERROR(VLOOKUP(A7945,'Gegevens van scanner'!$F$7:$G$250,2,0),0)","v":0}]
[10007945,null,null,{"$f":"IFERROR(VLOOKUP(A7954,'Gegevens van scanner'!$F$7:$G$250,2,0),0)","v":0}]
[10007960,null,null,{"$f":"IFERROR(VLOOKUP(A7969,'Gegevens van scanner'!$F$7:$G$250,2,0),0)","v":0}]
[10007966,null,null,{"$f":"IFERROR(VLOOKUP(A7975,'Gegevens van scanner'!$F$7:$G$250,2,0),0)","v":0}]
[10007977,null,null,{"$f":"IFERROR(VLOOKUP(A7986,'Gegevens van scanner'!$F$7:$G$250,2,0),0)","v":0}]
[10007987,null,null,{"$f":"IFERROR(VLOOKUP(A7996,'Gegevens van scanner'!$F$7:$G$250,2,0),0)","v":0}]
[10008005,null,null,{"$f":"IFERROR(VLOOKUP(A8014,'Gegevens van scanner'!$F$7:$G$250,2,0),0)","v":0}]
[10008016,null,null,{"$f":"IFERROR(VLOOKUP(A8025,'Gegevens van scanner'!$F$7:$G$250,2,0),0)","v":0}]
[10008022,null,null,{"$f":"IFERROR(VLOOKUP(A8031,'Gegevens van scanner'!$F$7:$G$250,2,0),0)","v":0}]
[10008037,null,null,{"$f":"IFERROR(VLOOKUP(A8046,'Gegevens van scanner'!$F$7:$G$250,2,0),0)","v":0}]
[10008046,null,null,{"$f":"IFERROR(VLOOKUP(A8055,'Gegevens van scanner'!$F$7:$G$250,2,0),0)","v":0}]
[10008058,null,null,{"$f":"IFERROR(VLOOKUP(A8067,'Gegevens van scanner'!$F$7:$G$250,2,0),0)","v":0}]
[10008074,null,null,{"$f":"IFERROR(VLOOKUP(A8083,'Gegevens van scanner'!$F$7:$G$250,2,0),0)","v":0}]
[10008079,null,null,{"$f":"IFERROR(VLOOKUP(A8088,'Gegevens van scanner'!$F$7:$G$250,2,0),0)","v":0}]
[10008091,null,null,{"$f":"IFERROR(VLOOKUP(A8100,'Gegevens van scanner'!$F$7:$G$250,2,0),0)","v":0}]
[10008108,null,null,{"$f":"IFERROR(VLOOKUP(A8117,'Gegevens van scanner'!$F$7:$G$250,2,0),0)","v":0}]
[10008119,null,null,{"$f":"IFERROR(VLOOKUP(A8128,'Gegevens van scanner'!$F$7:$G$250,2,0),0)","v":0}]
[10008129,null,null,{"$f":"IFERROR(VLOOKUP(A8138,'Gegevens van scanner'!$F$7:$G$250,2,0),0)","v":0}]
[10008143,null,null,{"$f":"IFERROR(VLOOKUP(A8152,'Gegevens van scanner'!$F$7:$G$250,2,0),0)","v":0}]
[10008150,null,null,{"$f":"IFERROR(VLOOKUP(A8159,'Gegevens van scanner'!$F$7:$G$250,2,0),0)","v":0}]
[10008160,null,null,{"$f":"IFERROR(VLOOKUP(A8169,'Gegevens van scanner'!$F$7:$G$250,2,0),0)","v":0}]
[10008171,null,null,{"$f":"IFERROR(VLOOKUP(A8180,'Gegevens van scanner'!$F$7:$G$250,2,0),0)","v":0}]
[10008188,null,null,{"$f":"IFERROR(VLOOKUP(A8197,'Gegevens van scanner'!$F$7:$G$250,2,0),0)","v":0}]
[10008200,null,null,{"$f":"IFERROR(VLOOKUP(A8209,'Gegevens van scanner'!$F$7:$G$250,2,0),0)","v":0}]
[10008205,null,null,{"$f":"IFERROR(VLOOKUP(A8214,'Gegevens van scanner'!$F$7:$G$250,2,0),0)","v":0}]
[10008221,null,null,{"$f":"IFERROR(VLOOKUP(A8230,'Gegevens van scanner'!$F$7:$G$250,2,0),0)","v":0}]
[10008233,null,null,{"$f":"IFERROR(VLOOKUP(A8242,'Gegevens van scanner'!$F$7:$G$250,2,0),0)","v":0}]
[10008242,null,null,{"$f":"IFERROR(VLOOKUP(A8251,'Gegevens van scanner'!$F$7:$G$250,2,0),0)","v":0}]
[10008257,null,null,{"$f":"IFERROR(VLOOKUP(A8266,'Gegevens van scanner'!$F$7:$G$250,2,0),0)","v":0}]
[10008263,null,null,{"$f":"IFERROR(VLOOKUP(A8272,'Gegevens van scanner'!$F$7:$G$250,2,0),0)","v":0}]
[10008274,null,null,{"$f":"IFERROR(VLOOKUP(A8283,'Gegevens van scanner'!$F$7:$G$250,2,0),0)","v":0}]
[10008292,null,null,{"$f":"IFERROR(VLOOKUP(A8301,'Gegevens van scanner'!$F$7:$G$250,2,0),0)","v":0}]
[10008302,null,null,{"$f":"IFERROR(VLOOKUP(A8311,'Gegevens van scanner'!$F$7:$G$250,2,0),0)","v":0}]
[10008313,null,null,{"$f":"IFERROR(VLOOKUP(A8322,'Gegevens van scanner'!$F$7:$G$250,2,0),0)","v":0}]
[10008319,null,null,{"$f":"IFERROR(VLOOKUP(A8328,'Gegevens van scanner'!$F$7:$G$250,2,0),0)","v":0}]
[10008334,null,null,{"$f":"IFERROR(VLOOKUP(A8343,'Gegevens van scanner'!$F$7:$G$250,2,0),0)","v":0}]
[10008343,null,null,{"$f":"IFERROR(VLOOKUP(A8352,'Gegevens van scanner'!$F$7:$G$250,2,0),0)","v":0}]
[10008355,null,null,{"$f":"IFERROR(VLOOKUP(A8364,'Gegevens van scanner'!$F$7:$G$250,2,0),0)","v":0}]
[10008371,null,null,{"$f":"IFERROR(VLOOKUP(A8380,'Gegevens van scanner'!$F$7:$G$250,2,0),0)","v":0}]
[10008384,null,null,{"$f":"IFERROR(VLOOKUP(A8393,'Gegevens van scanner'!$F$7:$G$250,2,0),0)","v":0}]
[10008388,null,null,{"$f":"IFERROR(VLOOKUP(A8397,'Gegevens van scanner'!$F$7:$G$250,2,0),0)","v":0}]
[10008405,null,null,{"$f":"IFERROR(VLOOKUP(A8414,'Gegevens van scanner'!$F$7:$G$250,2,0),0)","v":0}]
[10008416,null,null,{"$f":"IFERROR(VLOOKUP(A8425,'Gegevens van scanner'!$F$7:$G$250,2,0),0)","v":0}]
[10008426,null,null,{"$f":"IFERROR(VLOOKUP(A8435,'Gegevens van scanner'!$F$7:$G$250,2,0),0)","v":0}]
[10008440,null,null,{"$f":"IFERROR(VLOOKUP(A8449,'Gegevens van scanner'!$F$7:$G$250,2,0),0)","v":0}]
[10008447,null,null,{"$f":"IFERROR(VLOOKUP(A8456,'Gegevens van scanner'!$F$7:$G$250,2,0),0)","v":0}]
[10008457,null,null,{"$f":"IFERROR(VLOOKUP(A8466,'Gegevens van scanner'!$F$7:$G$250,2,0),0)","v":0}]
[10008468,null,null,{"$f":"IFERROR(VLOOKUP(A8477,'Gegevens van scanner'!$F$7:$G$250,2,0),0)","v":0}]
[10008485,null,null,{"$f":"IFERROR(VLOOKUP(A8494,'Gegevens van scanner'!$F$7:$G$250,2,0),0)","v":0}]
[10008497,null,null,{"$f":"IFERROR(VLOOKUP(A8506,'Gegevens van scanner'!$F$7:$G$250,2,0),0)","v":0}]
[10008513,null,null,{"$f":"IFERROR(VLOOKUP(A8522,'Gegevens van scanner'!$F$7:$G$250,2,0),0)","v":0}]
[10008518,null,null,{"$f":"IFERROR(VLOOKUP(A8527,'Gegevens van scanner'!$F$7:$G$250,2,0),0)","v":0}]
[10008526,null,null,{"$f":"IFERROR(VLOOKUP(A8535,'Gegevens van scanner'!$F$7:$G$250,2,0),0)","v":0}]
[10008539,null,null,{"$f":"IFERROR(VLOOKUP(A8548,'Gegevens van scanner'!$F$7:$G$250,2,0),0)","v":0}]
[10008554,null,null,{"$f":"IFERROR(VLOOKUP(A8563,'Gegevens van scanner'!$F$7:$G$250,2,0),0)","v":0}]
[10008560,null,null,{"$f":"IFERROR(VLOOKUP(A8569,'Gegevens van scanner'!$F$7:$G$250,2,0),0)","v":0}]
[10008582,null,null,{"$f":"IFERROR(VLOOKUP(A8591,'Gegevens van scanner'!$F$7:$G$250,2,0),0)","v":0}]
[10008589,null,null,{"$f":"IFERROR(VLOOKUP(A8598,'Gegevens van scanner'!$F$7:$G$250,2,0),0)","v":0}]
[10008599,null,null,{"$f":"IFERROR(VLOOKUP(A8608,'Gegevens van scanner'!$F$7:$G$250,2,0),0)","v":0}]
[10008610,null,null,{"$f":"IFERROR(VLOOKUP(A8619,'Gegevens van scanner'!$F$7:$G$250,2,0),0)","v":0}]
[10008627,null,null,{"$f":"IFERROR(VLOOKUP(A8636,'Gegevens van scanner'!$F$7:$G$250,2,0),0)","v":0}]
[10008631,null,null,{"$f":"IFERROR(VLOOKUP(A8640,'Gegevens van scanner'!$F$7:$G$250,2,0),0)","v":0}]
[10008651,null,null,{"$f":"IFERROR(VLOOKUP(A8660,'Gegevens van scanner'!$F$7:$G$250,2,0),0)","v":0}]
[10008652,null,null,{"$f":"IFERROR(VLOOKUP(A8661,'Gegevens van scanner'!$F$7:$G$250,2,0),0)","v":0}]
[10008668,null,null,{"$f":"IFERROR(VLOOKUP(A8677,'Gegevens van scanner'!$F$7:$G$250,2,0),0)","v":0}]
[10008681,null,null,{"$f":"IFERROR(VLOOKUP(A8690,'Gegevens van scanner'!$F$7:$G$250,2,0),0)","v":0}]
[10008696,null,null,{"$f":"IFERROR(VLOOKUP(A8705,'Gegevens van scanner'!$F$7:$G$250,2,0),0)","v":0}]
[10008702,null,null,{"$f":"IFERROR(VLOOKUP(A8711,'Gegevens van scanner'!$F$7:$G$250,2,0),0)","v":0}]
[10008713,null,null,{"$f":"IFERROR(VLOOKUP(A8722,'Gegevens van scanner'!$F$7:$G$250,2,0),0)","v":0}]
[10008723,null,null,{"$f":"IFERROR(VLOOKUP(A8732,'Gegevens van scanner'!$F$7:$G$250,2,0),0)","v":0}]
[10008737,null,null,{"$f":"IFERROR(VLOOKUP(A8746,'Gegevens van scanner'!$F$7:$G$250,2,0),0)","v":0}]
[10008744,null,null,{"$f":"IFERROR(VLOOKUP(A8753,'Gegevens van scanner'!$F$7:$G$250,2,0),0)","v":0}]
[10008765,null,null,{"$f":"IFERROR(VLOOKUP(A8774,'Gegevens van scanner'!$F$7:$G$250,2,0),0)","v":0}]
[10008773,null,null,{"$f":"IFERROR(VLOOKUP(A8782,'Gegevens van scanner'!$F$7:$G$250,2,0),0)","v":0}]
[10008782,null,null,{"$f":"IFERROR(VLOOKUP(A8791,'Gegevens van scanner'!$F$7:$G$250,2,0),0)","v":0}]
[10008794,null,null,{"$f":"IFERROR(VLOOKUP(A8803,'Gegevens van scanner'!$F$7:$G$250,2,0),0)","v":0}]
[10008810,null,null,{"$f":"IFERROR(VLOOKUP(A8819,'Gegevens van scanner'!$F$7:$G$250,2,0),0)","v":0}]
[10008815,null,null,{"$f":"IFERROR(VLOOKUP(A8824,'Gegevens van scanner'!$F$7:$G$250,2,0),0)","v":0}]
[{"$f":"A8842+1","v":10008834},null,null,{"$f":"IFERROR(VLOOKUP(A8843,'Gegevens van scanner'!$F$7:$G$250,2,0),0)","v":0}]
[10008836,null,null,{"$f":"IFERROR(VLOOKUP(A8845,'Gegevens van scanner'!$F$7:$G$250,2,0),0)","v":0}]
[10008851,null,null,{"$f":"IFERROR(VLOOKUP(A8860,'Gegevens van scanner'!$F$7:$G$250,2,0),0)","v":0}]
[10008869,null,null,{"$f":"IFERROR(VLOOKUP(A8878,'Gegevens van scanner'!$F$7:$G$250,2,0),0)","v":0}]
[10008879,null,null,{"$f":"IFERROR(VLOOKUP(A8888,'Gegevens van scanner'!$F$7:$G$250,2,0),0)","v":0}]
[10008886,null,null,{"$f":"IFERROR(VLOOKUP(A8895,'Gegevens van scanner'!$F$7:$G$250,2,0),0)","v":0}]
[10008896,null,null,{"$f":"IFERROR(VLOOKUP(A8905,'Gegevens van scanner'!$F$7:$G$250,2,0),0)","v":0}]
[10008907,null,null,{"$f":"IFERROR(VLOOKUP(A8916,'Gegevens van scanner'!$F$7:$G$250,2,0),0)","v":0}]
[10008920,null,null,{"$f":"IFERROR(VLOOKUP(A8929,'Gegevens van scanner'!$F$7:$G$250,2,0),0)","v":0}]
[10008928,null,null,{"$f":"IFERROR(VLOOKUP(A8937,'Gegevens van scanner'!$F$7:$G$250,2,0),0)","v":0}]
[10008948,null,null,{"$f":"IFERROR(VLOOKUP(A8957,'Gegevens van scanner'!$F$7:$G$250,2,0),0)","v":0}]
[10008961,null,null,{"$f":"IFERROR(VLOOKUP(A8970,'Gegevens van scanner'!$F$7:$G$250,2,0),0)","v":0}]
[10008965,null,null,{"$f":"IFERROR(VLOOKUP(A8974,'Gegevens van scanner'!$F$7:$G$250,2,0),0)","v":0}]
[10008978,null,null,{"$f":"IFERROR(VLOOKUP(A8987,'Gegevens van scanner'!$F$7:$G$250,2,0),0)","v":0}]
[10008993,null,null,{"$f":"IFERROR(VLOOKUP(A9002,'Gegevens van scanner'!$F$7:$G$250,2,0),0)","v":0}]
[10008999,null,null,{"$f":"IFERROR(VLOOKUP(A9008,'Gegevens van scanner'!$F$7:$G$250,2,0),0)","v":0}]
[10009017,null,null,{"$f":"IFERROR(VLOOKUP(A9026,'Gegevens van scanner'!$F$7:$G$250,2,0),0)","v":0}]
[10009020,null,null,{"$f":"IFERROR(VLOOKUP(A9029,'Gegevens van scanner'!$F$7:$G$250,2,0),0)","v":0}]
[10009034,null,null,{"$f":"IFERROR(VLOOKUP(A9043,'Gegevens van scanner'!$F$7:$G$250,2,0),0)","v":0}]
[10009053,null,null,{"$f":"IFERROR(VLOOKUP(A9062,'Gegevens van scanner'!$F$7:$G$250,2,0),0)","v":0}]
[10009062,null,null,{"$f":"IFERROR(VLOOKUP(A9071,'Gegevens van scanner'!$F$7:$G$250,2,0),0)","v":0}]
[10009070,null,null,{"$f":"IFERROR(VLOOKUP(A9079,'Gegevens van scanner'!$F$7:$G$250,2,0),0)","v":0}]
[10009079,null,null,{"$f":"IFERROR(VLOOKUP(A9088,'Gegevens van scanner'!$F$7:$G$250,2,0),0)","v":0}]
[10009091,null,null,{"$f":"IFERROR(VLOOKUP(A9100,'Gegevens van scanner'!$F$7:$G$250,2,0),0)","v":0}]
[10009107,null,null,{"$f":"IFERROR(VLOOKUP(A9116,'Gegevens van scanner'!$F$7:$G$250,2,0),0)","v":0}]
[10009112,null,null,{"$f":"IFERROR(VLOOKUP(A9121,'Gegevens van scanner'!$F$7:$G$250,2,0),0)","v":0}]
[10009131,null,null,{"$f":"IFERROR(VLOOKUP(A9140,'Gegevens van scanner'!$F$7:$G$250,2,0),0)","v":0}]
[10009145,null,null,{"$f":"IFERROR(VLOOKUP(A9154,'Gegevens van scanner'!$F$7:$G$250,2,0),0)","v":0}]
[10009148,null,null,{"$f":"IFERROR(VLOOKUP(A9157,'Gegevens van scanner'!$F$7:$G$250,2,0),0)","v":0}]
[10009162,null,null,{"$f":"IFERROR(VLOOKUP(A9171,'Gegevens van scanner'!$F$7:$G$250,2,0),0)","v":0}]
[10009175,null,null,{"$f":"IFERROR(VLOOKUP(A9184,'Gegevens van scanner'!$F$7:$G$250,2,0),0)","v":0}]
[10009183,null,null,{"$f":"IFERROR(VLOOKUP(A9192,'Gegevens van scanner'!$F$7:$G$250,2,0),0)","v":0}]
[10009196,null,null,{"$f":"IFERROR(VLOOKUP(A9205,'Gegevens van scanner'!$F$7:$G$250,2,0),0)","v":0}]
[10009211,null,null,{"$f":"IFERROR(VLOOKUP(A9220,'Gegevens van scanner'!$F$7:$G$250,2,0),0)","v":0}]
[10009225,null,null,{"$f":"IFERROR(VLOOKUP(A9234,'Gegevens van scanner'!$F$7:$G$250,2,0),0)","v":0}]
[10009228,null,null,{"$f":"IFERROR(VLOOKUP(A9237,'Gegevens van scanner'!$F$7:$G$250,2,0),0)","v":0}]
[10009246,null,null,{"$f":"IFERROR(VLOOKUP(A9255,'Gegevens van scanner'!$F$7:$G$250,2,0),0)","v":0}]
[10009256,null,null,{"$f":"IFERROR(VLOOKUP(A9265,'Gegevens van scanner'!$F$7:$G$250,2,0),0)","v":0}]
[10009267,null,null,{"$f":"IFERROR(VLOOKUP(A9276,'Gegevens van scanner'!$F$7:$G$250,2,0),0)","v":0}]
[10009280,null,null,{"$f":"IFERROR(VLOOKUP(A9289,'Gegevens van scanner'!$F$7:$G$250,2,0),0)","v":0}]
[10009288,null,null,{"$f":"IFERROR(VLOOKUP(A9297,'Gegevens van scanner'!$F$7:$G$250,2,0),0)","v":0}]
[10009297,null,null,{"$f":"IFERROR(VLOOKUP(A9306,'Gegevens van scanner'!$F$7:$G$250,2,0),0)","v":0}]
[10009317,null,null,{"$f":"IFERROR(VLOOKUP(A9326,'Gegevens van scanner'!$F$7:$G$250,2,0),0)","v":0}]
[10009325,null,null,{"$f":"IFERROR(VLOOKUP(A9334,'Gegevens van scanner'!$F$7:$G$250,2,0),0)","v":0}]
[10009338,null,null,{"$f":"IFERROR(VLOOKUP(A9347,'Gegevens van scanner'!$F$7:$G$250,2,0),0)","v":0}]
[10009353,null,null,{"$f":"IFERROR(VLOOKUP(A9362,'Gegevens van scanner'!$F$7:$G$250,2,0),0)","v":0}]
[10009359,null,null,{"$f":"IFERROR(VLOOKUP(A9368,'Gegevens van scanner'!$F$7:$G$250,2,0),0)","v":0}]
[10009366,null,null,{"$f":"IFERROR(VLOOKUP(A9375,'Gegevens van scanner'!$F$7:$G$250,2,0),0)","v":0}]
[10009380,null,null,{"$f":"IFERROR(VLOOKUP(A9389,'Gegevens van scanner'!$F$7:$G$250,2,0),0)","v":0}]
[10009394,null,null,{"$f":"IFERROR(VLOOKUP(A9403,'Gegevens van scanner'!$F$7:$G$250,2,0),0)","v":0}]
[10009409,null,null,{"$f":"IFERROR(VLOOKUP(A9418,'Gegevens van scanner'!$F$7:$G$250,2,0),0)","v":0}]
[10009422,null,null,{"$f":"IFERROR(VLOOKUP(A9431,'Gegevens van scanner'!$F$7:$G$250,2,0),0)","v":0}]
[10009430,null,null,{"$f":"IFERROR(VLOOKUP(A9439,'Gegevens van scanner'!$F$7:$G$250,2,0),0)","v":0}]
[10009439,null,null,{"$f":"IFERROR(VLOOKUP(A9448,'Gegevens van scanner'!$F$7:$G$250,2,0),0)","v":0}]
[10009451,null,null,{"$f":"IFERROR(VLOOKUP(A9460,'Gegevens van scanner'!$F$7:$G$250,2,0),0)","v":0}]
[10009463,null,null,{"$f":"IFERROR(VLOOKUP(A9472,'Gegevens van scanner'!$F$7:$G$250,2,0),0)","v":0}]
[10009472,null,null,{"$f":"IFERROR(VLOOKUP(A9481,'Gegevens van scanner'!$F$7:$G$250,2,0),0)","v":0}]
[10009491,null,null,{"$f":"IFERROR(VLOOKUP(A9500,'Gegevens van scanner'!$F$7:$G$250,2,0),0)","v":0}]
[10009493,null,null,{"$f":"IFERROR(VLOOKUP(A9502,'Gegevens van scanner'!$F$7:$G$250,2,0),0)","v":0}]
[10009508,null,null,{"$f":"IFERROR(VLOOKUP(A9517,'Gegevens van scanner'!$F$7:$G$250,2,0),0)","v":0}]
[10009522,null,null,{"$f":"IFERROR(VLOOKUP(A9531,'Gegevens van scanner'!$F$7:$G$250,2,0),0)","v":0}]
[10009536,null,null,{"$f":"IFERROR(VLOOKUP(A9545,'Gegevens van scanner'!$F$7:$G$250,2,0),0)","v":0}]
[10009543,null,null,{"$f":"IFERROR(VLOOKUP(A9552,'Gegevens van scanner'!$F$7:$G$250,2,0),0)","v":0}]
[10009560,null,null,{"$f":"IFERROR(VLOOKUP(A9569,'Gegevens van scanner'!$F$7:$G$250,2,0),0)","v":0}]
[10009564,null,null,{"$f":"IFERROR(VLOOKUP(A9573,'Gegevens van scanner'!$F$7:$G$250,2,0),0)","v":0}]
[10009577,null,null,{"$f":"IFERROR(VLOOKUP(A9586,'Gegevens van scanner'!$F$7:$G$250,2,0),0)","v":0}]
[10009585,null,null,{"$f":"IFERROR(VLOOKUP(A9594,'Gegevens van scanner'!$F$7:$G$250,2,0),0)","v":0}]
[10009605,null,null,{"$f":"IFERROR(VLOOKUP(A9614,'Gegevens van scanner'!$F$7:$G$250,2,0),0)","v":0}]
[10009614,null,null,{"$f":"IFERROR(VLOOKUP(A9623,'Gegevens van scanner'!$F$7:$G$250,2,0),0)","v":0}]
[10009622,null,null,{"$f":"IFERROR(VLOOKUP(A9631,'Gegevens van scanner'!$F$7:$G$250,2,0),0)","v":0}]
[10009635,null,null,{"$f":"IFERROR(VLOOKUP(A9644,'Gegevens van scanner'!$F$7:$G$250,2,0),0)","v":0}]
[10009650,null,null,{"$f":"IFERROR(VLOOKUP(A9659,'Gegevens van scanner'!$F$7:$G$250,2,0),0)","v":0}]
[10009656,null,null,{"$f":"IFERROR(VLOOKUP(A9665,'Gegevens van scanner'!$F$7:$G$250,2,0),0)","v":0}]
[10009674,null,null,{"$f":"IFERROR(VLOOKUP(A9683,'Gegevens van scanner'!$F$7:$G$250,2,0),0)","v":0}]
[10009677,null,null,{"$f":"IFERROR(VLOOKUP(A9686,'Gegevens van scanner'!$F$7:$G$250,2,0),0)","v":0}]
[10009691,null,null,{"$f":"IFERROR(VLOOKUP(A9700,'Gegevens van scanner'!$F$7:$G$250,2,0),0)","v":0}]
[10009706,null,null,{"$f":"IFERROR(VLOOKUP(A9715,'Gegevens van scanner'!$F$7:$G$250,2,0),0)","v":0}]
[10009719,null,null,{"$f":"IFERROR(VLOOKUP(A9728,'Gegevens van scanner'!$F$7:$G$250,2,0),0)","v":0}]
[10009727,null,null,{"$f":"IFERROR(VLOOKUP(A9736,'Gegevens van scanner'!$F$7:$G$250,2,0),0)","v":0}]
[10009736,null,null,{"$f":"IFERROR(VLOOKUP(A9745,'Gegevens van scanner'!$F$7:$G$250,2,0),0)","v":0}]
[10009748,null,null,{"$f":"IFERROR(VLOOKUP(A9757,'Gegevens van scanner'!$F$7:$G$250,2,0),0)","v":0}]
[10009760,null,null,{"$f":"IFERROR(VLOOKUP(A9769,'Gegevens van scanner'!$F$7:$G$250,2,0),0)","v":0}]
[10009769,null,null,{"$f":"IFERROR(VLOOKUP(A9778,'Gegevens van scanner'!$F$7:$G$250,2,0),0)","v":0}]
[10009788,null,null,{"$f":"IFERROR(VLOOKUP(A9797,'Gegevens van scanner'!$F$7:$G$250,2,0),0)","v":0}]
[10009798,null,null,{"$f":"IFERROR(VLOOKUP(A9807,'Gegevens van scanner'!$F$7:$G$250,2,0),0)","v":0}]
[10009805,null,null,{"$f":"IFERROR(VLOOKUP(A9814,'Gegevens van scanner'!$F$7:$G$250,2,0),0)","v":0}]
[10009819,null,null,{"$f":"IFERROR(VLOOKUP(A9828,'Gegevens van scanner'!$F$7:$G$250,2,0),0)","v":0}]
[10009833,null,null,{"$f":"IFERROR(VLOOKUP(A9842,'Gegevens van scanner'!$F$7:$G$250,2,0),0)","v":0}]
[10009840,null,null,{"$f":"IFERROR(VLOOKUP(A9849,'Gegevens van scanner'!$F$7:$G$250,2,0),0)","v":0}]
[10009857,null,null,{"$f":"IFERROR(VLOOKUP(A9866,'Gegevens van scanner'!$F$7:$G$250,2,0),0)","v":0}]
[10009861,null,null,{"$f":"IFERROR(VLOOKUP(A9870,'Gegevens van scanner'!$F$7:$G$250,2,0),0)","v":0}]
[10009874,null,null,{"$f":"IFERROR(VLOOKUP(A9883,'Gegevens van scanner'!$F$7:$G$250,2,0),0)","v":0}]
[10009894,null,null,{"$f":"IFERROR(VLOOKUP(A9903,'Gegevens van scanner'!$F$7:$G$250,2,0),0)","v":0}]
[10009902,null,null,{"$f":"IFERROR(VLOOKUP(A9911,'Gegevens van scanner'!$F$7:$G$250,2,0),0)","v":0}]
[10009911,null,null,{"$f":"IFERROR(VLOOKUP(A9920,'Gegevens van scanner'!$F$7:$G$250,2,0),0)","v":0}]
[10009919,null,null,{"$f":"IFERROR(VLOOKUP(A9928,'Gegevens van scanner'!$F$7:$G$250,2,0),0)","v":0}]
[10009932,null,null,{"$f":"IFERROR(VLOOKUP(A9941,'Gegevens van scanner'!$F$7:$G$250,2,0),0)","v":0}]
[10009943,null,null,{"$f":"IFERROR(VLOOKUP(A9952,'Gegevens van scanner'!$F$7:$G$250,2,0),0)","v":0}]
[10009953,null,null,{"$f":"IFERROR(VLOOKUP(A9962,'Gegevens van scanner'!$F$7:$G$250,2,0),0)","v":0}]
[10009971,null,null,{"$f":"IFERROR(VLOOKUP(A9980,'Gegevens van scanner'!$F$7:$G$250,2,0),0)","v":0}]
[{"$f":"A9994+1","v":10009986},null,null,{"$f":"IFERROR(VLOOKUP(A9995,'Gegevens van scanner'!$F$7:$G$250,2,0),0)","v":0}]
[10009988,null,null,{"$f":"IFERROR(VLOOKUP(A9997,'Gegevens van scanner'!$F$7:$G$250,2,0),0)","v":0}]
[10010003,null,null,{"$f":"IFERROR(VLOOKUP(A10012,'Gegevens van scanner'!$F$7:$G$250,2,0),0)","v":0}]
[10010016,null,null,{"$f":"IFERROR(VLOOKUP(A10025,'Gegevens van scanner'!$F$7:$G$250,2,0),0)","v":0}]
[10010024,null,null,{"$f":"IFERROR(VLOOKUP(A10033,'Gegevens van scanner'!$F$7:$G$250,2,0),0)","v":0}]
[10010040,null,null,{"$f":"IFERROR(VLOOKUP(A10049,'Gegevens van scanner'!$F$7:$G$250,2,0),0)","v":0}]
[10010045,null,null,{"$f":"IFERROR(VLOOKUP(A10054,'Gegevens van scanner'!$F$7:$G$250,2,0),0)","v":0}]
[10010057,null,null,{"$f":"IFERROR(VLOOKUP(A10066,'Gegevens van scanner'!$F$7:$G$250,2,0),0)","v":0}]
[10010078,null,null,{"$f":"IFERROR(VLOOKUP(A10087,'Gegevens van scanner'!$F$7:$G$250,2,0),0)","v":0}]
[10010085,null,null,{"$f":"IFERROR(VLOOKUP(A10094,'Gegevens van scanner'!$F$7:$G$250,2,0),0)","v":0}]
[10010095,null,null,{"$f":"IFERROR(VLOOKUP(A10104,'Gegevens van scanner'!$F$7:$G$250,2,0),0)","v":0}]
[10010102,null,null,{"$f":"IFERROR(VLOOKUP(A10111,'Gegevens van scanner'!$F$7:$G$250,2,0),0)","v":0}]
[10010116,null,null,{"$f":"IFERROR(VLOOKUP(A10125,'Gegevens van scanner'!$F$7:$G$250,2,0),0)","v":0}]
[10010130,null,null,{"$f":"IFERROR(VLOOKUP(A10139,'Gegevens van scanner'!$F$7:$G$250,2,0),0)","v":0}]
[10010137,null,null,{"$f":"IFERROR(VLOOKUP(A10146,'Gegevens van scanner'!$F$7:$G$250,2,0),0)","v":0}]
[10010154,null,null,{"$f":"IFERROR(VLOOKUP(A10163,'Gegevens van scanner'!$F$7:$G$250,2,0),0)","v":0}]
[10010170,null,null,{"$f":"IFERROR(VLOOKUP(A10179,'Gegevens van scanner'!$F$7:$G$250,2,0),0)","v":0}]
[10010171,null,null,{"$f":"IFERROR(VLOOKUP(A10180,'Gegevens van scanner'!$F$7:$G$250,2,0),0)","v":0}]
[10010187,null,null,{"$f":"IFERROR(VLOOKUP(A10196,'Gegevens van scanner'!$F$7:$G$250,2,0),0)","v":0}]
[10010199,null,null,{"$f":"IFERROR(VLOOKUP(A10208,'Gegevens van scanner'!$F$7:$G$250,2,0),0)","v":0}]
[10010208,null,null,{"$f":"IFERROR(VLOOKUP(A10217,'Gegevens van scanner'!$F$7:$G$250,2,0),0)","v":0}]
[10010227,null,null,{"$f":"IFERROR(VLOOKUP(A10236,'Gegevens van scanner'!$F$7:$G$250,2,0),0)","v":0}]
[10010229,null,null,{"$f":"IFERROR(VLOOKUP(A10238,'Gegevens van scanner'!$F$7:$G$250,2,0),0)","v":0}]
[10010240,null,null,{"$f":"IFERROR(VLOOKUP(A10249,'Gegevens van scanner'!$F$7:$G$250,2,0),0)","v":0}]
[10010262,null,null,{"$f":"IFERROR(VLOOKUP(A10271,'Gegevens van scanner'!$F$7:$G$250,2,0),0)","v":0}]
[10010268,null,null,{"$f":"IFERROR(VLOOKUP(A10277,'Gegevens van scanner'!$F$7:$G$250,2,0),0)","v":0}]
[10010283,null,null,{"$f":"IFERROR(VLOOKUP(A10292,'Gegevens van scanner'!$F$7:$G$250,2,0),0)","v":0}]
[10010296,null,null,{"$f":"IFERROR(VLOOKUP(A10305,'Gegevens van scanner'!$F$7:$G$250,2,0),0)","v":0}]
[10010300,null,null,{"$f":"IFERROR(VLOOKUP(A10309,'Gegevens van scanner'!$F$7:$G$250,2,0),0)","v":0}]
[10010313,null,null,{"$f":"IFERROR(VLOOKUP(A10322,'Gegevens van scanner'!$F$7:$G$250,2,0),0)","v":0}]
[10010321,null,null,{"$f":"IFERROR(VLOOKUP(A10330,'Gegevens van scanner'!$F$7:$G$250,2,0),0)","v":0}]
[10010337,null,null,{"$f":"IFERROR(VLOOKUP(A10346,'Gegevens van scanner'!$F$7:$G$250,2,0),0)","v":0}]
[10010354,null,null,{"$f":"IFERROR(VLOOKUP(A10363,'Gegevens van scanner'!$F$7:$G$250,2,0),0)","v":0}]
[10010365,null,null,{"$f":"IFERROR(VLOOKUP(A10374,'Gegevens van scanner'!$F$7:$G$250,2,0),0)","v":0}]
[10010375,null,null,{"$f":"IFERROR(VLOOKUP(A10384,'Gegevens van scanner'!$F$7:$G$250,2,0),0)","v":0}]
[10010382,null,null,{"$f":"IFERROR(VLOOKUP(A10391,'Gegevens van scanner'!$F$7:$G$250,2,0),0)","v":0}]
[10010392,null,null,{"$f":"IFERROR(VLOOKUP(A10401,'Gegevens van scanner'!$F$7:$G$250,2,0),0)","v":0}]
[10010410,null,null,{"$f":"IFERROR(VLOOKUP(A10419,'Gegevens van scanner'!$F$7:$G$250,2,0),0)","v":0}]
[10010413,null,null,{"$f":"IFERROR(VLOOKUP(A10422,'Gegevens van scanner'!$F$7:$G$250,2,0),0)","v":0}]
[{"$f":"A10442+1","v":10010434},null,null,{"$f":"IFERROR(VLOOKUP(A10443,'Gegevens van scanner'!$F$7:$G$250,2,0),0)","v":0}]
[10010446,null,null,{"$f":"IFERROR(VLOOKUP(A10455,'Gegevens van scanner'!$F$7:$G$250,2,0),0)","v":0}]
[10010451,null,null,{"$f":"IFERROR(VLOOKUP(A10460,'Gegevens van scanner'!$F$7:$G$250,2,0),0)","v":0}]
[10010467,null,null,{"$f":"IFERROR(VLOOKUP(A10476,'Gegevens van scanner'!$F$7:$G$250,2,0),0)","v":0}]
[10010479,null,null,{"$f":"IFERROR(VLOOKUP(A10488,'Gegevens van scanner'!$F$7:$G$250,2,0),0)","v":0}]
[10010484,null,null,{"$f":"IFERROR(VLOOKUP(A10493,'Gegevens van scanner'!$F$7:$G$250,2,0),0)","v":0}]
[10010496,null,null,{"$f":"IFERROR(VLOOKUP(A10505,'Gegevens van scanner'!$F$7:$G$250,2,0),0)","v":0}]
[10010505,null,null,{"$f":"IFERROR(VLOOKUP(A10514,'Gegevens van scanner'!$F$7:$G$250,2,0),0)","v":0}]
[10010524,null,null,{"$f":"IFERROR(VLOOKUP(A10533,'Gegevens van scanner'!$F$7:$G$250,2,0),0)","v":0}]
[10010538,null,null,{"$f":"IFERROR(VLOOKUP(A10547,'Gegevens van scanner'!$F$7:$G$250,2,0),0)","v":0}]
[10010548,null,null,{"$f":"IFERROR(VLOOKUP(A10557,'Gegevens van scanner'!$F$7:$G$250,2,0),0)","v":0}]
[10010559,null,null,{"$f":"IFERROR(VLOOKUP(A10568,'Gegevens van scanner'!$F$7:$G$250,2,0),0)","v":0}]
[10010565,null,null,{"$f":"IFERROR(VLOOKUP(A10574,'Gegevens van scanner'!$F$7:$G$250,2,0),0)","v":0}]
[10010576,null,null,{"$f":"IFERROR(VLOOKUP(A10585,'Gegevens van scanner'!$F$7:$G$250,2,0),0)","v":0}]
[10010593,null,null,{"$f":"IFERROR(VLOOKUP(A10602,'Gegevens van scanner'!$F$7:$G$250,2,0),0)","v":0}]
[10010597,null,null,{"$f":"IFERROR(VLOOKUP(A10606,'Gegevens van scanner'!$F$7:$G$250,2,0),0)","v":0}]
[10010610,null,null,{"$f":"IFERROR(VLOOKUP(A10619,'Gegevens van scanner'!$F$7:$G$250,2,0),0)","v":0}]
[10010628,null,null,{"$f":"IFERROR(VLOOKUP(A10637,'Gegevens van scanner'!$F$7:$G$250,2,0),0)","v":0}]
[10010639,null,null,{"$f":"IFERROR(VLOOKUP(A10648,'Gegevens van scanner'!$F$7:$G$250,2,0),0)","v":0}]
[10010645,null,null,{"$f":"IFERROR(VLOOKUP(A10654,'Gegevens van scanner'!$F$7:$G$250,2,0),0)","v":0}]
[10010660,null,null,{"$f":"IFERROR(VLOOKUP(A10669,'Gegevens van scanner'!$F$7:$G$250,2,0),0)","v":0}]
[10010673,null,null,{"$f":"IFERROR(VLOOKUP(A10682,'Gegevens van scanner'!$F$7:$G$250,2,0),0)","v":0}]
[10010681,null,null,{"$f":"IFERROR(VLOOKUP(A10690,'Gegevens van scanner'!$F$7:$G$250,2,0),0)","v":0}]
[10010697,null,null,{"$f":"IFERROR(VLOOKUP(A10706,'Gegevens van scanner'!$F$7:$G$250,2,0),0)","v":0}]
[10010702,null,null,{"$f":"IFERROR(VLOOKUP(A10711,'Gegevens van scanner'!$F$7:$G$250,2,0),0)","v":0}]
[10010714,null,null,{"$f":"IFERROR(VLOOKUP(A10723,'Gegevens van scanner'!$F$7:$G$250,2,0),0)","v":0}]
[10010731,null,null,{"$f":"IFERROR(VLOOKUP(A10740,'Gegevens van scanner'!$F$7:$G$250,2,0),0)","v":0}]
[10010742,null,null,{"$f":"IFERROR(VLOOKUP(A10751,'Gegevens van scanner'!$F$7:$G$250,2,0),0)","v":0}]
[10010752,null,null,{"$f":"IFERROR(VLOOKUP(A10761,'Gegevens van scanner'!$F$7:$G$250,2,0),0)","v":0}]
[10010759,null,null,{"$f":"IFERROR(VLOOKUP(A10768,'Gegevens van scanner'!$F$7:$G$250,2,0),0)","v":0}]
[10010773,null,null,{"$f":"IFERROR(VLOOKUP(A10782,'Gegevens van scanner'!$F$7:$G$250,2,0),0)","v":0}]
[10010783,null,null,{"$f":"IFERROR(VLOOKUP(A10792,'Gegevens van scanner'!$F$7:$G$250,2,0),0)","v":0}]
[10010794,null,null,{"$f":"IFERROR(VLOOKUP(A10803,'Gegevens van scanner'!$F$7:$G$250,2,0),0)","v":0}]
[10010811,null,null,{"$f":"IFERROR(VLOOKUP(A10820,'Gegevens van scanner'!$F$7:$G$250,2,0),0)","v":0}]
[10010823,null,null,{"$f":"IFERROR(VLOOKUP(A10832,'Gegevens van scanner'!$F$7:$G$250,2,0),0)","v":0}]
[10010828,null,null,{"$f":"IFERROR(VLOOKUP(A10837,'Gegevens van scanner'!$F$7:$G$250,2,0),0)","v":0}]
[10010844,null,null,{"$f":"IFERROR(VLOOKUP(A10853,'Gegevens van scanner'!$F$7:$G$250,2,0),0)","v":0}]
[10010856,null,null,{"$f":"IFERROR(VLOOKUP(A10865,'Gegevens van scanner'!$F$7:$G$250,2,0),0)","v":0}]
[10010865,null,null,{"$f":"IFERROR(VLOOKUP(A10874,'Gegevens van scanner'!$F$7:$G$250,2,0),0)","v":0}]
[10010880,null,null,{"$f":"IFERROR(VLOOKUP(A10889,'Gegevens van scanner'!$F$7:$G$250,2,0),0)","v":0}]
[10010886,null,null,{"$f":"IFERROR(VLOOKUP(A10895,'Gegevens van scanner'!$F$7:$G$250,2,0),0)","v":0}]
[10010897,null,null,{"$f":"IFERROR(VLOOKUP(A10906,'Gegevens van scanner'!$F$7:$G$250,2,0),0)","v":0}]
[10010907,null,null,{"$f":"IFERROR(VLOOKUP(A10916,'Gegevens van scanner'!$F$7:$G$250,2,0),0)","v":0}]
[10010925,null,null,{"$f":"IFERROR(VLOOKUP(A10934,'Gegevens van scanner'!$F$7:$G$250,2,0),0)","v":0}]
[10010936,null,null,{"$f":"IFERROR(VLOOKUP(A10945,'Gegevens van scanner'!$F$7:$G$250,2,0),0)","v":0}]
[10010942,null,null,{"$f":"IFERROR(VLOOKUP(A10951,'Gegevens van scanner'!$F$7:$G$250,2,0),0)","v":0}]
[10010957,null,null,{"$f":"IFERROR(VLOOKUP(A10966,'Gegevens van scanner'!$F$7:$G$250,2,0),0)","v":0}]
[10010966,null,null,{"$f":"IFERROR(VLOOKUP(A10975,'Gegevens van scanner'!$F$7:$G$250,2,0),0)","v":0}]
[10010978,null,null,{"$f":"IFERROR(VLOOKUP(A10987,'Gegevens van scanner'!$F$7:$G$250,2,0),0)","v":0}]
[10010994,null,null,{"$f":"IFERROR(VLOOKUP(A11003,'Gegevens van scanner'!$F$7:$G$250,2,0),0)","v":0}]
[10010999,null,null,{"$f":"IFERROR(VLOOKUP(A11008,'Gegevens van scanner'!$F$7:$G$250,2,0),0)","v":0}]
[10011011,null,null,{"$f":"IFERROR(VLOOKUP(A11020,'Gegevens van scanner'!$F$7:$G$250,2,0),0)","v":0}]
[10011028,null,null,{"$f":"IFERROR(VLOOKUP(A11037,'Gegevens van scanner'!$F$7:$G$250,2,0),0)","v":0}]
[10011039,null,null,{"$f":"IFERROR(VLOOKUP(A11048,'Gegevens van scanner'!$F$7:$G$250,2,0),0)","v":0}]
[10011049,null,null,{"$f":"IFERROR(VLOOKUP(A11058,'Gegevens van scanner'!$F$7:$G$250,2,0),0)","v":0}]
[10011063,null,null,{"$f":"IFERROR(VLOOKUP(A11072,'Gegevens van scanner'!$F$7:$G$250,2,0),0)","v":0}]
[10011070,null,null,{"$f":"IFERROR(VLOOKUP(A11079,'Gegevens van scanner'!$F$7:$G$250,2,0),0)","v":0}]
[10011080,null,null,{"$f":"IFERROR(VLOOKUP(A11089,'Gegevens van scanner'!$F$7:$G$250,2,0),0)","v":0}]
[10011091,null,null,{"$f":"IFERROR(VLOOKUP(A11100,'Gegevens van scanner'!$F$7:$G$250,2,0),0)","v":0}]
[10011108,null,null,{"$f":"IFERROR(VLOOKUP(A11117,'Gegevens van scanner'!$F$7:$G$250,2,0),0)","v":0}]
[10011120,null,null,{"$f":"IFERROR(VLOOKUP(A11129,'Gegevens van scanner'!$F$7:$G$250,2,0),0)","v":0}]
[10011136,null,null,{"$f":"IFERROR(VLOOKUP(A11145,'Gegevens van scanner'!$F$7:$G$250,2,0),0)","v":0}]
[10011141,null,null,{"$f":"IFERROR(VLOOKUP(A11150,'Gegevens van scanner'!$F$7:$G$250,2,0),0)","v":0}]
[10011153,null,null,{"$f":"IFERROR(VLOOKUP(A11162,'Gegevens van scanner'!$F$7:$G$250,2,0),0)","v":0}]
[10011162,null,null,{"$f":"IFERROR(VLOOKUP(A11171,'Gegevens van scanner'!$F$7:$G$250,2,0),0)","v":0}]
[10011177,null,null,{"$f":"IFERROR(VLOOKUP(A11186,'Gegevens van scanner'!$F$7:$G$250,2,0),0)","v":0}]
[10011183,null,null,{"$f":"IFERROR(VLOOKUP(A11192,'Gegevens van scanner'!$F$7:$G$250,2,0),0)","v":0}]
[10011205,null,null,{"$f":"IFERROR(VLOOKUP(A11214,'Gegevens van scanner'!$F$7:$G$250,2,0),0)","v":0}]
[10011212,null,null,{"$f":"IFERROR(VLOOKUP(A11221,'Gegevens van scanner'!$F$7:$G$250,2,0),0)","v":0}]
[10011222,null,null,{"$f":"IFERROR(VLOOKUP(A11231,'Gegevens van scanner'!$F$7:$G$250,2,0),0)","v":0}]
[10011233,null,null,{"$f":"IFERROR(VLOOKUP(A11242,'Gegevens van scanner'!$F$7:$G$250,2,0),0)","v":0}]
[10011250,null,null,{"$f":"IFERROR(VLOOKUP(A11259,'Gegevens van scanner'!$F$7:$G$250,2,0),0)","v":0}]
[10011254,null,null,{"$f":"IFERROR(VLOOKUP(A11263,'Gegevens van scanner'!$F$7:$G$250,2,0),0)","v":0}]
[10011274,null,null,{"$f":"IFERROR(VLOOKUP(A11283,'Gegevens van scanner'!$F$7:$G$250,2,0),0)","v":0}]
[10011275,null,null,{"$f":"IFERROR(VLOOKUP(A11284,'Gegevens van scanner'!$F$7:$G$250,2,0),0)","v":0}]
[10011291,null,null,{"$f":"IFERROR(VLOOKUP(A11300,'Gegevens van scanner'!$F$7:$G$250,2,0),0)","v":0}]
[10011308,null,null,{"$f":"IFERROR(VLOOKUP(A11317,'Gegevens van scanner'!$F$7:$G$250,2,0),0)","v":0}]
[10011319,null,null,{"$f":"IFERROR(VLOOKUP(A11328,'Gegevens van scanner'!$F$7:$G$250,2,0),0)","v":0}]
[10011325,null,null,{"$f":"IFERROR(VLOOKUP(A11334,'Gegevens van scanner'!$F$7:$G$250,2,0),0)","v":0}]
[10011336,null,null,{"$f":"IFERROR(VLOOKUP(A11345,'Gegevens van scanner'!$F$7:$G$250,2,0),0)","v":0}]
[10011346,null,null,{"$f":"IFERROR(VLOOKUP(A11355,'Gegevens van scanner'!$F$7:$G$250,2,0),0)","v":0}]
[10011360,null,null,{"$f":"IFERROR(VLOOKUP(A11369,'Gegevens van scanner'!$F$7:$G$250,2,0),0)","v":0}]
[10011367,null,null,{"$f":"IFERROR(VLOOKUP(A11376,'Gegevens van scanner'!$F$7:$G$250,2,0),0)","v":0}]
[10011388,null,null,{"$f":"IFERROR(VLOOKUP(A11397,'Gegevens van scanner'!$F$7:$G$250,2,0),0)","v":0}]
[10011400,null,null,{"$f":"IFERROR(VLOOKUP(A11409,'Gegevens van scanner'!$F$7:$G$250,2,0),0)","v":0}]
[10011405,null,null,{"$f":"IFERROR(VLOOKUP(A11414,'Gegevens van scanner'!$F$7:$G$250,2,0),0)","v":0}]
[10011417,null,null,{"$f":"IFERROR(VLOOKUP(A11426,'Gegevens van scanner'!$F$7:$G$250,2,0),0)","v":0}]
[10011433,null,null,{"$f":"IFERROR(VLOOKUP(A11442,'Gegevens van scanner'!$F$7:$G$250,2,0),0)","v":0}]
[10011438,null,null,{"$f":"IFERROR(VLOOKUP(A11447,'Gegevens van scanner'!$F$7:$G$250,2,0),0)","v":0}]
[10011457,null,null,{"$f":"IFERROR(VLOOKUP(A11466,'Gegevens van scanner'!$F$7:$G$250,2,0),0)","v":0}]
[10011459,null,null,{"$f":"IFERROR(VLOOKUP(A11468,'Gegevens van scanner'!$F$7:$G$250,2,0),0)","v":0}]
[10011474,null,null,{"$f":"IFERROR(VLOOKUP(A11483,'Gegevens van scanner'!$F$7:$G$250,2,0),0)","v":0}]
[10011492,null,null,{"$f":"IFERROR(VLOOKUP(A11501,'Gegevens van scanner'!$F$7:$G$250,2,0),0)","v":0}]
[10011502,null,null,{"$f":"IFERROR(VLOOKUP(A11511,'Gegevens van scanner'!$F$7:$G$250,2,0),0)","v":0}]
[10011509,null,null,{"$f":"IFERROR(VLOOKUP(A11518,'Gegevens van scanner'!$F$7:$G$250,2,0),0)","v":0}]
[10011519,null,null,{"$f":"IFERROR(VLOOKUP(A11528,'Gegevens van scanner'!$F$7:$G$250,2,0),0)","v":0}]
[10011530,null,null,{"$f":"IFERROR(VLOOKUP(A11539,'Gegevens van scanner'!$F$7:$G$250,2,0),0)","v":0}]
[10011547,null,null,{"$f":"IFERROR(VLOOKUP(A11556,'Gegevens van scanner'!$F$7:$G$250,2,0),0)","v":0}]
[10011551,null,null,{"$f":"IFERROR(VLOOKUP(A11560,'Gegevens van scanner'!$F$7:$G$250,2,0),0)","v":0}]
[10011571,null,null,{"$f":"IFERROR(VLOOKUP(A11580,'Gegevens van scanner'!$F$7:$G$250,2,0),0)","v":0}]
[10011584,null,null,{"$f":"IFERROR(VLOOKUP(A11593,'Gegevens van scanner'!$F$7:$G$250,2,0),0)","v":0}]
[10011588,null,null,{"$f":"IFERROR(VLOOKUP(A11597,'Gegevens van scanner'!$F$7:$G$250,2,0),0)","v":0}]
[10011601,null,null,{"$f":"IFERROR(VLOOKUP(A11610,'Gegevens van scanner'!$F$7:$G$250,2,0),0)","v":0}]
[10011616,null,null,{"$f":"IFERROR(VLOOKUP(A11625,'Gegevens van scanner'!$F$7:$G$250,2,0),0)","v":0}]
[10011622,null,null,{"$f":"IFERROR(VLOOKUP(A11631,'Gegevens van scanner'!$F$7:$G$250,2,0),0)","v":0}]
[10011633,null,null,{"$f":"IFERROR(VLOOKUP(A11642,'Gegevens van scanner'!$F$7:$G$250,2,0),0)","v":0}]
[10011643,null,null,{"$f":"IFERROR(VLOOKUP(A11652,'Gegevens van scanner'!$F$7:$G$250,2,0),0)","v":0}]
[10011657,null,null,{"$f":"IFERROR(VLOOKUP(A11666,'Gegevens van scanner'!$F$7:$G$250,2,0),0)","v":0}]
[10011676,null,null,{"$f":"IFERROR(VLOOKUP(A11685,'Gegevens van scanner'!$F$7:$G$250,2,0),0)","v":0}]
[10011685,null,null,{"$f":"IFERROR(VLOOKUP(A11694,'Gegevens van scanner'!$F$7:$G$250,2,0),0)","v":0}]
[10011693,null,null,{"$f":"IFERROR(VLOOKUP(A11702,'Gegevens van scanner'!$F$7:$G$250,2,0),0)","v":0}]
[10011702,null,null,{"$f":"IFERROR(VLOOKUP(A11711,'Gegevens van scanner'!$F$7:$G$250,2,0),0)","v":0}]
[{"$f":"A11722+1","v":10011714},null,null,{"$f":"IFERROR(VLOOKUP(A11723,'Gegevens van scanner'!$F$7:$G$250,2,0),0)","v":0}]
[10011730,null,null,{"$f":"IFERROR(VLOOKUP(A11739,'Gegevens van scanner'!$F$7:$G$250,2,0),0)","v":0}]
[10011735,null,null,{"$f":"IFERROR(VLOOKUP(A11744,'Gegevens van scanner'!$F$7:$G$250,2,0),0)","v":0}]
[10011754,null,null,{"$f":"IFERROR(VLOOKUP(A11763,'Gegevens van scanner'!$F$7:$G$250,2,0),0)","v":0}]
[10011768,null,null,{"$f":"IFERROR(VLOOKUP(A11777,'Gegevens van scanner'!$F$7:$G$250,2,0),0)","v":0}]
[10011771,null,null,{"$f":"IFERROR(VLOOKUP(A11780,'Gegevens van scanner'!$F$7:$G$250,2,0),0)","v":0}]
[10011789,null,null,{"$f":"IFERROR(VLOOKUP(A11798,'Gegevens van scanner'!$F$7:$G$250,2,0),0)","v":0}]
[10011799,null,null,{"$f":"IFERROR(VLOOKUP(A11808,'Gegevens van scanner'!$F$7:$G$250,2,0),0)","v":0}]
[10011806,null,null,{"$f":"IFERROR(VLOOKUP(A11815,'Gegevens van scanner'!$F$7:$G$250,2,0),0)","v":0}]
[10011816,null,null,{"$f":"IFERROR(VLOOKUP(A11825,'Gegevens van scanner'!$F$7:$G$250,2,0),0)","v":0}]
[10011827,null,null,{"$f":"IFERROR(VLOOKUP(A11836,'Gegevens van scanner'!$F$7:$G$250,2,0),0)","v":0}]
[10011840,null,null,{"$f":"IFERROR(VLOOKUP(A11849,'Gegevens van scanner'!$F$7:$G$250,2,0),0)","v":0}]
[10011860,null,null,{"$f":"IFERROR(VLOOKUP(A11869,'Gegevens van scanner'!$F$7:$G$250,2,0),0)","v":0}]
[10011868,null,null,{"$f":"IFERROR(VLOOKUP(A11877,'Gegevens van scanner'!$F$7:$G$250,2,0),0)","v":0}]
[10011881,null,null,{"$f":"IFERROR(VLOOKUP(A11890,'Gegevens van scanner'!$F$7:$G$250,2,0),0)","v":0}]
[10011885,null,null,{"$f":"IFERROR(VLOOKUP(A11894,'Gegevens van scanner'!$F$7:$G$250,2,0),0)","v":0}]
[10011898,null,null,{"$f":"IFERROR(VLOOKUP(A11907,'Gegevens van scanner'!$F$7:$G$250,2,0),0)","v":0}]
[10011913,null,null,{"$f":"IFERROR(VLOOKUP(A11922,'Gegevens van scanner'!$F$7:$G$250,2,0),0)","v":0}]
[10011919,null,null,{"$f":"IFERROR(VLOOKUP(A11928,'Gegevens van scanner'!$F$7:$G$250,2,0),0)","v":0}]
[10011941,null,null,{"$f":"IFERROR(VLOOKUP(A11950,'Gegevens van scanner'!$F$7:$G$250,2,0),0)","v":0}]
[10011952,null,null,{"$f":"IFERROR(VLOOKUP(A11961,'Gegevens van scanner'!$F$7:$G$250,2,0),0)","v":0}]
[10011954,null,null,{"$f":"IFERROR(VLOOKUP(A11963,'Gegevens van scanner'!$F$7:$G$250,2,0),0)","v":0}]
[10011973,null,null,{"$f":"IFERROR(VLOOKUP(A11982,'Gegevens van scanner'!$F$7:$G$250,2,0),0)","v":0}]
[10011982,null,null,{"$f":"IFERROR(VLOOKUP(A11991,'Gegevens van scanner'!$F$7:$G$250,2,0),0)","v":0}]
[10011990,null,null,{"$f":"IFERROR(VLOOKUP(A11999,'Gegevens van scanner'!$F$7:$G$250,2,0),0)","v":0}]
[10012010,null,null,{"$f":"IFERROR(VLOOKUP(A12019,'Gegevens van scanner'!$F$7:$G$250,2,0),0)","v":0}]
[10012011,null,null,{"$f":"IFERROR(VLOOKUP(A12020,'Gegevens van scanner'!$F$7:$G$250,2,0),0)","v":0}]
[10012027,null,null,{"$f":"IFERROR(VLOOKUP(A12036,'Gegevens van scanner'!$F$7:$G$250,2,0),0)","v":0}]
[10012044,null,null,{"$f":"IFERROR(VLOOKUP(A12053,'Gegevens van scanner'!$F$7:$G$250,2,0),0)","v":0}]
[10012053,null,null,{"$f":"IFERROR(VLOOKUP(A12062,'Gegevens van scanner'!$F$7:$G$250,2,0),0)","v":0}]
[10012062,null,null,{"$f":"IFERROR(VLOOKUP(A12071,'Gegevens van scanner'!$F$7:$G$250,2,0),0)","v":0}]
[10012074,null,null,{"$f":"IFERROR(VLOOKUP(A12083,'Gegevens van scanner'!$F$7:$G$250,2,0),0)","v":0}]
[10012086,null,null,{"$f":"IFERROR(VLOOKUP(A12095,'Gegevens van scanner'!$F$7:$G$250,2,0),0)","v":0}]
[10012095,null,null,{"$f":"IFERROR(VLOOKUP(A12104,'Gegevens van scanner'!$F$7:$G$250,2,0),0)","v":0}]
[10012114,null,null,{"$f":"IFERROR(VLOOKUP(A12123,'Gegevens van scanner'!$F$7:$G$250,2,0),0)","v":0}]
[10012116,null,null,{"$f":"IFERROR(VLOOKUP(A12125,'Gegevens van scanner'!$F$7:$G$250,2,0),0)","v":0}]
[10012131,null,null,{"$f":"IFERROR(VLOOKUP(A12140,'Gegevens van scanner'!$F$7:$G$250,2,0),0)","v":0}]
[10012145,null,null,{"$f":"IFERROR(VLOOKUP(A12154,'Gegevens van scanner'!$F$7:$G$250,2,0),0)","v":0}]
[10012159,null,null,{"$f":"IFERROR(VLOOKUP(A12168,'Gegevens van scanner'!$F$7:$G$250,2,0),0)","v":0}]
[10012166,null,null,{"$f":"IFERROR(VLOOKUP(A12175,'Gegevens van scanner'!$F$7:$G$250,2,0),0)","v":0}]
[10012176,null,null,{"$f":"IFERROR(VLOOKUP(A12185,'Gegevens van scanner'!$F$7:$G$250,2,0),0)","v":0}]
[10012187,null,null,{"$f":"IFERROR(VLOOKUP(A12196,'Gegevens van scanner'!$F$7:$G$250,2,0),0)","v":0}]
[10012200,null,null,{"$f":"IFERROR(VLOOKUP(A12209,'Gegevens van scanner'!$F$7:$G$250,2,0),0)","v":0}]
[10012208,null,null,{"$f":"IFERROR(VLOOKUP(A12217,'Gegevens van scanner'!$F$7:$G$250,2,0),0)","v":0}]
[10012228,null,null,{"$f":"IFERROR(VLOOKUP(A12237,'Gegevens van scanner'!$F$7:$G$250,2,0),0)","v":0}]
[10012237,null,null,{"$f":"IFERROR(VLOOKUP(A12246,'Gegevens van scanner'!$F$7:$G$250,2,0),0)","v":0}]
[10012245,null,null,{"$f":"IFERROR(VLOOKUP(A12254,'Gegevens van scanner'!$F$7:$G$250,2,0),0)","v":0}]
[10012258,null,null,{"$f":"IFERROR(VLOOKUP(A12267,'Gegevens van scanner'!$F$7:$G$250,2,0),0)","v":0}]
[10012273,null,null,{"$f":"IFERROR(VLOOKUP(A12282,'Gegevens van scanner'!$F$7:$G$250,2,0),0)","v":0}]
[10012279,null,null,{"$f":"IFERROR(VLOOKUP(A12288,'Gegevens van scanner'!$F$7:$G$250,2,0),0)","v":0}]
[10012297,null,null,{"$f":"IFERROR(VLOOKUP(A12306,'Gegevens van scanner'!$F$7:$G$250,2,0),0)","v":0}]
[10012300,null,null,{"$f":"IFERROR(VLOOKUP(A12309,'Gegevens van scanner'!$F$7:$G$250,2,0),0)","v":0}]
[10012314,null,null,{"$f":"IFERROR(VLOOKUP(A12323,'Gegevens van scanner'!$F$7:$G$250,2,0),0)","v":0}]
[10012333,null,null,{"$f":"IFERROR(VLOOKUP(A12342,'Gegevens van scanner'!$F$7:$G$250,2,0),0)","v":0}]
[10012342,null,null,{"$f":"IFERROR(VLOOKUP(A12351,'Gegevens van scanner'!$F$7:$G$250,2,0),0)","v":0}]
[10012350,null,null,{"$f":"IFERROR(VLOOKUP(A12359,'Gegevens van scanner'!$F$7:$G$250,2,0),0)","v":0}]
[10012359,null,null,{"$f":"IFERROR(VLOOKUP(A12368,'Gegevens van scanner'!$F$7:$G$250,2,0),0)","v":0}]
[10012371,null,null,{"$f":"IFERROR(VLOOKUP(A12380,'Gegevens van scanner'!$F$7:$G$250,2,0),0)","v":0}]
[10012383,null,null,{"$f":"IFERROR(VLOOKUP(A12392,'Gegevens van scanner'!$F$7:$G$250,2,0),0)","v":0}]
[10012392,null,null,{"$f":"IFERROR(VLOOKUP(A12401,'Gegevens van scanner'!$F$7:$G$250,2,0),0)","v":0}]
[10012411,null,null,{"$f":"IFERROR(VLOOKUP(A12420,'Gegevens van scanner'!$F$7:$G$250,2,0),0)","v":0}]
[10012425,null,null,{"$f":"IFERROR(VLOOKUP(A12434,'Gegevens van scanner'!$F$7:$G$250,2,0),0)","v":0}]
[10012428,null,null,{"$f":"IFERROR(VLOOKUP(A12437,'Gegevens van scanner'!$F$7:$G$250,2,0),0)","v":0}]
[10012442,null,null,{"$f":"IFERROR(VLOOKUP(A12451,'Gegevens van scanner'!$F$7:$G$250,2,0),0)","v":0}]
[10012456,null,null,{"$f":"IFERROR(VLOOKUP(A12465,'Gegevens van scanner'!$F$7:$G$250,2,0),0)","v":0}]
[10012463,null,null,{"$f":"IFERROR(VLOOKUP(A12472,'Gegevens van scanner'!$F$7:$G$250,2,0),0)","v":0}]
[10012480,null,null,{"$f":"IFERROR(VLOOKUP(A12489,'Gegevens van scanner'!$F$7:$G$250,2,0),0)","v":0}]
[10012484,null,null,{"$f":"IFERROR(VLOOKUP(A12493,'Gegevens van scanner'!$F$7:$G$250,2,0),0)","v":0}]
[10012497,null,null,{"$f":"IFERROR(VLOOKUP(A12506,'Gegevens van scanner'!$F$7:$G$250,2,0),0)","v":0}]
[10012517,null,null,{"$f":"IFERROR(VLOOKUP(A12526,'Gegevens van scanner'!$F$7:$G$250,2,0),0)","v":0}]
[10012525,null,null,{"$f":"IFERROR(VLOOKUP(A12534,'Gegevens van scanner'!$F$7:$G$250,2,0),0)","v":0}]
[10012534,null,null,{"$f":"IFERROR(VLOOKUP(A12543,'Gegevens van scanner'!$F$7:$G$250,2,0),0)","v":0}]
[10012542,null,null,{"$f":"IFERROR(VLOOKUP(A12551,'Gegevens van scanner'!$F$7:$G$250,2,0),0)","v":0}]
[10012555,null,null,{"$f":"IFERROR(VLOOKUP(A12564,'Gegevens van scanner'!$F$7:$G$250,2,0),0)","v":0}]
[10012570,null,null,{"$f":"IFERROR(VLOOKUP(A12579,'Gegevens van scanner'!$F$7:$G$250,2,0),0)","v":0}]
[10012576,null,null,{"$f":"IFERROR(VLOOKUP(A12585,'Gegevens van scanner'!$F$7:$G$250,2,0),0)","v":0}]
[10012594,null,null,{"$f":"IFERROR(VLOOKUP(A12603,'Gegevens van scanner'!$F$7:$G$250,2,0),0)","v":0}]
[10012609,null,null,{"$f":"IFERROR(VLOOKUP(A12618,'Gegevens van scanner'!$F$7:$G$250,2,0),0)","v":0}]
[10012611,null,null,{"$f":"IFERROR(VLOOKUP(A12620,'Gegevens van scanner'!$F$7:$G$250,2,0),0)","v":0}]
[10012626,null,null,{"$f":"IFERROR(VLOOKUP(A12635,'Gegevens van scanner'!$F$7:$G$250,2,0),0)","v":0}]
[10012639,null,null,{"$f":"IFERROR(VLOOKUP(A12648,'Gegevens van scanner'!$F$7:$G$250,2,0),0)","v":0}]
[10012647,null,null,{"$f":"IFERROR(VLOOKUP(A12656,'Gegevens van scanner'!$F$7:$G$250,2,0),0)","v":0}]
[10012656,null,null,{"$f":"IFERROR(VLOOKUP(A12665,'Gegevens van scanner'!$F$7:$G$250,2,0),0)","v":0}]
[10012668,null,null,{"$f":"IFERROR(VLOOKUP(A12677,'Gegevens van scanner'!$F$7:$G$250,2,0),0)","v":0}]
[10012680,null,null,{"$f":"IFERROR(VLOOKUP(A12689,'Gegevens van scanner'!$F$7:$G$250,2,0),0)","v":0}]
[10012701,null,null,{"$f":"IFERROR(VLOOKUP(A12710,'Gegevens van scanner'!$F$7:$G$250,2,0),0)","v":0}]
[10012708,null,null,{"$f":"IFERROR(VLOOKUP(A12717,'Gegevens van scanner'!$F$7:$G$250,2,0),0)","v":0}]
[10012718,null,null,{"$f":"IFERROR(VLOOKUP(A12727,'Gegevens van scanner'!$F$7:$G$250,2,0),0)","v":0}]
[10012725,null,null,{"$f":"IFERROR(VLOOKUP(A12734,'Gegevens van scanner'!$F$7:$G$250,2,0),0)","v":0}]
[10012739,null,null,{"$f":"IFERROR(VLOOKUP(A12748,'Gegevens van scanner'!$F$7:$G$250,2,0),0)","v":0}]
[10012753,null,null,{"$f":"IFERROR(VLOOKUP(A12762,'Gegevens van scanner'!$F$7:$G$250,2,0),0)","v":0}]
[10012760,null,null,{"$f":"IFERROR(VLOOKUP(A12769,'Gegevens van scanner'!$F$7:$G$250,2,0),0)","v":0}]
[10012777,null,null,{"$f":"IFERROR(VLOOKUP(A12786,'Gegevens van scanner'!$F$7:$G$250,2,0),0)","v":0}]
[10012793,null,null,{"$f":"IFERROR(VLOOKUP(A12802,'Gegevens van scanner'!$F$7:$G$250,2,0),0)","v":0}]
[10012794,null,null,{"$f":"IFERROR(VLOOKUP(A12803,'Gegevens van scanner'!$F$7:$G$250,2,0),0)","v":0}]
[10012814,null,null,{"$f":"IFERROR(VLOOKUP(A12823,'Gegevens van scanner'!$F$7:$G$250,2,0),0)","v":0}]
[10012822,null,null,{"$f":"IFERROR(VLOOKUP(A12831,'Gegevens van scanner'!$F$7:$G$250,2,0),0)","v":0}]
[10012831,null,null,{"$f":"IFERROR(VLOOKUP(A12840,'Gegevens van scanner'!$F$7:$G$250,2,0),0)","v":0}]
[10012850,null,null,{"$f":"IFERROR(VLOOKUP(A12859,'Gegevens van scanner'!$F$7:$G$250,2,0),0)","v":0}]
[10012852,null,null,{"$f":"IFERROR(VLOOKUP(A12861,'Gegevens van scanner'!$F$7:$G$250,2,0),0)","v":0}]
[10012863,null,null,{"$f":"IFERROR(VLOOKUP(A12872,'Gegevens van scanner'!$F$7:$G$250,2,0),0)","v":0}]
[10012885,null,null,{"$f":"IFERROR(VLOOKUP(A12894,'Gegevens van scanner'!$F$7:$G$250,2,0),0)","v":0}]
[10012891,null,null,{"$f":"IFERROR(VLOOKUP(A12900,'Gegevens van scanner'!$F$7:$G$250,2,0),0)","v":0}]
[10012906,null,null,{"$f":"IFERROR(VLOOKUP(A12915,'Gegevens van scanner'!$F$7:$G$250,2,0),0)","v":0}]
[10012919,null,null,{"$f":"IFERROR(VLOOKUP(A12928,'Gegevens van scanner'!$F$7:$G$250,2,0),0)","v":0}]
[10012923,null,null,{"$f":"IFERROR(VLOOKUP(A12932,'Gegevens van scanner'!$F$7:$G$250,2,0),0)","v":0}]
[10012936,null,null,{"$f":"IFERROR(VLOOKUP(A12945,'Gegevens van scanner'!$F$7:$G$250,2,0),0)","v":0}]
[10012944,null,null,{"$f":"IFERROR(VLOOKUP(A12953,'Gegevens van scanner'!$F$7:$G$250,2,0),0)","v":0}]
[10012964,null,null,{"$f":"IFERROR(VLOOKUP(A12973,'Gegevens van scanner'!$F$7:$G$250,2,0),0)","v":0}]
[10012977,null,null,{"$f":"IFERROR(VLOOKUP(A12986,'Gegevens van scanner'!$F$7:$G$250,2,0),0)","v":0}]
[10012988,null,null,{"$f":"IFERROR(VLOOKUP(A12997,'Gegevens van scanner'!$F$7:$G$250,2,0),0)","v":0}]
[10012998,null,null,{"$f":"IFERROR(VLOOKUP(A13007,'Gegevens van scanner'!$F$7:$G$250,2,0),0)","v":0}]
[10013005,null,null,{"$f":"IFERROR(VLOOKUP(A13014,'Gegevens van scanner'!$F$7:$G$250,2,0),0)","v":0}]
[10013015,null,null,{"$f":"IFERROR(VLOOKUP(A13024,'Gegevens van scanner'!$F$7:$G$250,2,0),0)","v":0}]
[10013033,null,null,{"$f":"IFERROR(VLOOKUP(A13042,'Gegevens van scanner'!$F$7:$G$250,2,0),0)","v":0}]
[10013036,null,null,{"$f":"IFERROR(VLOOKUP(A13045,'Gegevens van scanner'!$F$7:$G$250,2,0),0)","v":0}]
[10013050,null,null,{"$f":"IFERROR(VLOOKUP(A13059,'Gegevens van scanner'!$F$7:$G$250,2,0),0)","v":0}]
[10013069,null,null,{"$f":"IFERROR(VLOOKUP(A13078,'Gegevens van scanner'!$F$7:$G$250,2,0),0)","v":0}]
[10013074,null,null,{"$f":"IFERROR(VLOOKUP(A13083,'Gegevens van scanner'!$F$7:$G$250,2,0),0)","v":0}]
[10013090,null,null,{"$f":"IFERROR(VLOOKUP(A13099,'Gegevens van scanner'!$F$7:$G$250,2,0),0)","v":0}]
[10013102,null,null,{"$f":"IFERROR(VLOOKUP(A13111,'Gegevens van scanner'!$F$7:$G$250,2,0),0)","v":0}]
[10013107,null,null,{"$f":"IFERROR(VLOOKUP(A13116,'Gegevens van scanner'!$F$7:$G$250,2,0),0)","v":0}]
[10013119,null,null,{"$f":"IFERROR(VLOOKUP(A13128,'Gegevens van scanner'!$F$7:$G$250,2,0),0)","v":0}]
[10013128,null,null,{"$f":"IFERROR(VLOOKUP(A13137,'Gegevens van scanner'!$F$7:$G$250,2,0),0)","v":0}]
[10013147,null,null,{"$f":"IFERROR(VLOOKUP(A13156,'Gegevens van scanner'!$F$7:$G$250,2,0),0)","v":0}]
[10013161,null,null,{"$f":"IFERROR(VLOOKUP(A13170,'Gegevens van scanner'!$F$7:$G$250,2,0),0)","v":0}]
[10013171,null,null,{"$f":"IFERROR(VLOOKUP(A13180,'Gegevens van scanner'!$F$7:$G$250,2,0),0)","v":0}]
[10013182,null,null,{"$f":"IFERROR(VLOOKUP(A13191,'Gegevens van scanner'!$F$7:$G$250,2,0),0)","v":0}]
[10013188,null,null,{"$f":"IFERROR(VLOOKUP(A13197,'Gegevens van scanner'!$F$7:$G$250,2,0),0)","v":0}]
[10013203,null,null,{"$f":"IFERROR(VLOOKUP(A13212,'Gegevens van scanner'!$F$7:$G$250,2,0),0)","v":0}]
[10013216,null,null,{"$f":"IFERROR(VLOOKUP(A13225,'Gegevens van scanner'!$F$7:$G$250,2,0),0)","v":0}]
[10013220,null,null,{"$f":"IFERROR(VLOOKUP(A13229,'Gegevens van scanner'!$F$7:$G$250,2,0),0)","v":0}]
[10013233,null,null,{"$f":"IFERROR(VLOOKUP(A13242,'Gegevens van scanner'!$F$7:$G$250,2,0),0)","v":0}]
[10013253,null,null,{"$f":"IFERROR(VLOOKUP(A13262,'Gegevens van scanner'!$F$7:$G$250,2,0),0)","v":0}]
[10013257,null,null,{"$f":"IFERROR(VLOOKUP(A13266,'Gegevens van scanner'!$F$7:$G$250,2,0),0)","v":0}]
[10013274,null,null,{"$f":"IFERROR(VLOOKUP(A13283,'Gegevens van scanner'!$F$7:$G$250,2,0),0)","v":0}]
[10013285,null,null,{"$f":"IFERROR(VLOOKUP(A13294,'Gegevens van scanner'!$F$7:$G$250,2,0),0)","v":0}]
[10013295,null,null,{"$f":"IFERROR(VLOOKUP(A13304,'Gegevens van scanner'!$F$7:$G$250,2,0),0)","v":0}]
[10013302,null,null,{"$f":"IFERROR(VLOOKUP(A13311,'Gegevens van scanner'!$F$7:$G$250,2,0),0)","v":0}]
[10013312,null,null,{"$f":"IFERROR(VLOOKUP(A13321,'Gegevens van scanner'!$F$7:$G$250,2,0),0)","v":0}]
[10013330,null,null,{"$f":"IFERROR(VLOOKUP(A13339,'Gegevens van scanner'!$F$7:$G$250,2,0),0)","v":0}]
[10013345,null,null,{"$f":"IFERROR(VLOOKUP(A13354,'Gegevens van scanner'!$F$7:$G$250,2,0),0)","v":0}]
[10013347,null,null,{"$f":"IFERROR(VLOOKUP(A13356,'Gegevens van scanner'!$F$7:$G$250,2,0),0)","v":0}]
[10013366,null,null,{"$f":"IFERROR(VLOOKUP(A13375,'Gegevens van scanner'!$F$7:$G$250,2,0),0)","v":0}]
[10013371,null,null,{"$f":"IFERROR(VLOOKUP(A13380,'Gegevens van scanner'!$F$7:$G$250,2,0),0)","v":0}]
[10013387,null,null,{"$f":"IFERROR(VLOOKUP(A13396,'Gegevens van scanner'!$F$7:$G$250,2,0),0)","v":0}]
[10013399,null,null,{"$f":"IFERROR(VLOOKUP(A13408,'Gegevens van scanner'!$F$7:$G$250,2,0),0)","v":0}]
[10013404,null,null,{"$f":"IFERROR(VLOOKUP(A13413,'Gegevens van scanner'!$F$7:$G$250,2,0),0)","v":0}]
[10013416,null,null,{"$f":"IFERROR(VLOOKUP(A13425,'Gegevens van scanner'!$F$7:$G$250,2,0),0)","v":0}]
[10013437,null,null,{"$f":"IFERROR(VLOOKUP(A13446,'Gegevens van scanner'!$F$7:$G$250,2,0),0)","v":0}]
[10013444,null,null,{"$f":"IFERROR(VLOOKUP(A13453,'Gegevens van scanner'!$F$7:$G$250,2,0),0)","v":0}]
[10013458,null,null,{"$f":"IFERROR(VLOOKUP(A13467,'Gegevens van scanner'!$F$7:$G$250,2,0),0)","v":0}]
[10013468,null,null,{"$f":"IFERROR(VLOOKUP(A13477,'Gegevens van scanner'!$F$7:$G$250,2,0),0)","v":0}]
[10013479,null,null,{"$f":"IFERROR(VLOOKUP(A13488,'Gegevens van scanner'!$F$7:$G$250,2,0),0)","v":0}]
[10013488,null,null,{"$f":"IFERROR(VLOOKUP(A13497,'Gegevens van scanner'!$F$7:$G$250,2,0),0)","v":0}]
[10013503,null,null,{"$f":"IFERROR(VLOOKUP(A13512,'Gegevens van scanner'!$F$7:$G$250,2,0),0)","v":0}]
[10013509,null,null,{"$f":"IFERROR(VLOOKUP(A13518,'Gegevens van scanner'!$F$7:$G$250,2,0),0)","v":0}]
[10013520,null,null,{"$f":"IFERROR(VLOOKUP(A13529,'Gegevens van scanner'!$F$7:$G$250,2,0),0)","v":0}]
[10013530,null,null,{"$f":"IFERROR(VLOOKUP(A13539,'Gegevens van scanner'!$F$7:$G$250,2,0),0)","v":0}]
[10013548,null,null,{"$f":"IFERROR(VLOOKUP(A13557,'Gegevens van scanner'!$F$7:$G$250,2,0),0)","v":0}]
[10013559,null,null,{"$f":"IFERROR(VLOOKUP(A13568,'Gegevens van scanner'!$F$7:$G$250,2,0),0)","v":0}]
[10013565,null,null,{"$f":"IFERROR(VLOOKUP(A13574,'Gegevens van scanner'!$F$7:$G$250,2,0),0)","v":0}]
[10013580,null,null,{"$f":"IFERROR(VLOOKUP(A13589,'Gegevens van scanner'!$F$7:$G$250,2,0),0)","v":0}]
[10013593,null,null,{"$f":"IFERROR(VLOOKUP(A13602,'Gegevens van scanner'!$F$7:$G$250,2,0),0)","v":0}]
[10013601,null,null,{"$f":"IFERROR(VLOOKUP(A13610,'Gegevens van scanner'!$F$7:$G$250,2,0),0)","v":0}]
[10013617,null,null,{"$f":"IFERROR(VLOOKUP(A13626,'Gegevens van scanner'!$F$7:$G$250,2,0),0)","v":0}]
[10013622,null,null,{"$f":"IFERROR(VLOOKUP(A13631,'Gegevens van scanner'!$F$7:$G$250,2,0),0)","v":0}]
[{"$f":"A13642+1","v":10013634},null,null,{"$f":"IFERROR(VLOOKUP(A13643,'Gegevens van scanner'!$F$7:$G$250,2,0),0)","v":0}]
[10013651,null,null,{"$f":"IFERROR(VLOOKUP(A13660,'Gegevens van scanner'!$F$7:$G$250,2,0),0)","v":0}]
[10013662,null,null,{"$f":"IFERROR(VLOOKUP(A13671,'Gegevens van scanner'!$F$7:$G$250,2,0),0)","v":0}]
[10013672,null,null,{"$f":"IFERROR(VLOOKUP(A13681,'Gegevens van scanner'!$F$7:$G$250,2,0),0)","v":0}]
[10013690,null,null,{"$f":"IFERROR(VLOOKUP(A13699,'Gegevens van scanner'!$F$7:$G$250,2,0),0)","v":0}]
[10013693,null,null,{"$f":"IFERROR(VLOOKUP(A13702,'Gegevens van scanner'!$F$7:$G$250,2,0),0)","v":0}]
[10013703,null,null,{"$f":"IFERROR(VLOOKUP(A13712,'Gegevens van scanner'!$F$7:$G$250,2,0),0)","v":0}]
[10013714,null,null,{"$f":"IFERROR(VLOOKUP(A13723,'Gegevens van scanner'!$F$7:$G$250,2,0),0)","v":0}]
[10013731,null,null,{"$f":"IFERROR(VLOOKUP(A13740,'Gegevens van scanner'!$F$7:$G$250,2,0),0)","v":0}]
[10013743,null,null,{"$f":"IFERROR(VLOOKUP(A13752,'Gegevens van scanner'!$F$7:$G$250,2,0),0)","v":0}]
[10013759,null,null,{"$f":"IFERROR(VLOOKUP(A13768,'Gegevens van scanner'!$F$7:$G$250,2,0),0)","v":0}]
[10013764,null,null,{"$f":"IFERROR(VLOOKUP(A13773,'Gegevens van scanner'!$F$7:$G$250,2,0),0)","v":0}]
[10013776,null,null,{"$f":"IFERROR(VLOOKUP(A13785,'Gegevens van scanner'!$F$7:$G$250,2,0),0)","v":0}]
[10013785,null,null,{"$f":"IFERROR(VLOOKUP(A13794,'Gegevens van scanner'!$F$7:$G$250,2,0),0)","v":0}]
[10013800,null,null,{"$f":"IFERROR(VLOOKUP(A13809,'Gegevens van scanner'!$F$7:$G$250,2,0),0)","v":0}]
[10013806,null,null,{"$f":"IFERROR(VLOOKUP(A13815,'Gegevens van scanner'!$F$7:$G$250,2,0),0)","v":0}]
[10013828,null,null,{"$f":"IFERROR(VLOOKUP(A13837,'Gegevens van scanner'!$F$7:$G$250,2,0),0)","v":0}]
[10013839,null,null,{"$f":"IFERROR(VLOOKUP(A13848,'Gegevens van scanner'!$F$7:$G$250,2,0),0)","v":0}]
[10013845,null,null,{"$f":"IFERROR(VLOOKUP(A13854,'Gegevens van scanner'!$F$7:$G$250,2,0),0)","v":0}]
[10013856,null,null,{"$f":"IFERROR(VLOOKUP(A13865,'Gegevens van scanner'!$F$7:$G$250,2,0),0)","v":0}]
[10013873,null,null,{"$f":"IFERROR(VLOOKUP(A13882,'Gegevens van scanner'!$F$7:$G$250,2,0),0)","v":0}]
[10013877,null,null,{"$f":"IFERROR(VLOOKUP(A13886,'Gegevens van scanner'!$F$7:$G$250,2,0),0)","v":0}]
[10013897,null,null,{"$f":"IFERROR(VLOOKUP(A13906,'Gegevens van scanner'!$F$7:$G$250,2,0),0)","v":0}]
[10013898,null,null,{"$f":"IFERROR(VLOOKUP(A13907,'Gegevens van scanner'!$F$7:$G$250,2,0),0)","v":0}]
[10013914,null,null,{"$f":"IFERROR(VLOOKUP(A13923,'Gegevens van scanner'!$F$7:$G$250,2,0),0)","v":0}]
[10013931,null,null,{"$f":"IFERROR(VLOOKUP(A13940,'Gegevens van scanner'!$F$7:$G$250,2,0),0)","v":0}]
[10013942,null,null,{"$f":"IFERROR(VLOOKUP(A13951,'Gegevens van scanner'!$F$7:$G$250,2,0),0)","v":0}]
[10013948,null,null,{"$f":"IFERROR(VLOOKUP(A13957,'Gegevens van scanner'!$F$7:$G$250,2,0),0)","v":0}]
[10013959,null,null,{"$f":"IFERROR(VLOOKUP(A13968,'Gegevens van scanner'!$F$7:$G$250,2,0),0)","v":0}]
[10013969,null,null,{"$f":"IFERROR(VLOOKUP(A13978,'Gegevens van scanner'!$F$7:$G$250,2,0),0)","v":0}]
[10013987,null,null,{"$f":"IFERROR(VLOOKUP(A13996,'Gegevens van scanner'!$F$7:$G$250,2,0),0)","v":0}]
[10013990,null,null,{"$f":"IFERROR(VLOOKUP(A13999,'Gegevens van scanner'!$F$7:$G$250,2,0),0)","v":0}]
[10014011,null,null,{"$f":"IFERROR(VLOOKUP(A14020,'Gegevens van scanner'!$F$7:$G$250,2,0),0)","v":0}]
[10014023,null,null,{"$f":"IFERROR(VLOOKUP(A14032,'Gegevens van scanner'!$F$7:$G$250,2,0),0)","v":0}]
[10014028,null,null,{"$f":"IFERROR(VLOOKUP(A14037,'Gegevens van scanner'!$F$7:$G$250,2,0),0)","v":0}]
[10014040,null,null,{"$f":"IFERROR(VLOOKUP(A14049,'Gegevens van scanner'!$F$7:$G$250,2,0),0)","v":0}]
[10014056,null,null,{"$f":"IFERROR(VLOOKUP(A14065,'Gegevens van scanner'!$F$7:$G$250,2,0),0)","v":0}]
[10014061,null,null,{"$f":"IFERROR(VLOOKUP(A14070,'Gegevens van scanner'!$F$7:$G$250,2,0),0)","v":0}]
[10014073,null,null,{"$f":"IFERROR(VLOOKUP(A14082,'Gegevens van scanner'!$F$7:$G$250,2,0),0)","v":0}]
[{"$f":"A14090+1","v":10014082},null,null,{"$f":"IFERROR(VLOOKUP(A14091,'Gegevens van scanner'!$F$7:$G$250,2,0),0)","v":0}]
[10014097,null,null,{"$f":"IFERROR(VLOOKUP(A14106,'Gegevens van scanner'!$F$7:$G$250,2,0),0)","v":0}]
[10014115,null,null,{"$f":"IFERROR(VLOOKUP(A14124,'Gegevens van scanner'!$F$7:$G$250,2,0),0)","v":0}]
[10014125,null,null,{"$f":"IFERROR(VLOOKUP(A14134,'Gegevens van scanner'!$F$7:$G$250,2,0),0)","v":0}]
[10014132,null,null,{"$f":"IFERROR(VLOOKUP(A14141,'Gegevens van scanner'!$F$7:$G$250,2,0),0)","v":0}]
[10014142,null,null,{"$f":"IFERROR(VLOOKUP(A14151,'Gegevens van scanner'!$F$7:$G$250,2,0),0)","v":0}]
[10014153,null,null,{"$f":"IFERROR(VLOOKUP(A14162,'Gegevens van scanner'!$F$7:$G$250,2,0),0)","v":0}]
[10014170,null,null,{"$f":"IFERROR(VLOOKUP(A14179,'Gegevens van scanner'!$F$7:$G$250,2,0),0)","v":0}]
[10014174,null,null,{"$f":"IFERROR(VLOOKUP(A14183,'Gegevens van scanner'!$F$7:$G$250,2,0),0)","v":0}]
[10014194,null,null,{"$f":"IFERROR(VLOOKUP(A14203,'Gegevens van scanner'!$F$7:$G$250,2,0),0)","v":0}]
[10014207,null,null,{"$f":"IFERROR(VLOOKUP(A14216,'Gegevens van scanner'!$F$7:$G$250,2,0),0)","v":0}]
[10014211,null,null,{"$f":"IFERROR(VLOOKUP(A14220,'Gegevens van scanner'!$F$7:$G$250,2,0),0)","v":0}]
[10014228,null,null,{"$f":"IFERROR(VLOOKUP(A14237,'Gegevens van scanner'!$F$7:$G$250,2,0),0)","v":0}]
[10014239,null,null,{"$f":"IFERROR(VLOOKUP(A14248,'Gegevens van scanner'!$F$7:$G$250,2,0),0)","v":0}]
[10014245,null,null,{"$f":"IFERROR(VLOOKUP(A14254,'Gegevens van scanner'!$F$7:$G$250,2,0),0)","v":0}]
[10014256,null,null,{"$f":"IFERROR(VLOOKUP(A14265,'Gegevens van scanner'!$F$7:$G$250,2,0),0)","v":0}]
[10014266,null,null,{"$f":"IFERROR(VLOOKUP(A14275,'Gegevens van scanner'!$F$7:$G$250,2,0),0)","v":0}]
[10014280,null,null,{"$f":"IFERROR(VLOOKUP(A14289,'Gegevens van scanner'!$F$7:$G$250,2,0),0)","v":0}]
[10014299,null,null,{"$f":"IFERROR(VLOOKUP(A14308,'Gegevens van scanner'!$F$7:$G$250,2,0),0)","v":0}]
[10014308,null,null,{"$f":"IFERROR(VLOOKUP(A14317,'Gegevens van scanner'!$F$7:$G$250,2,0),0)","v":0}]
[10014320,null,null,{"$f":"IFERROR(VLOOKUP(A14329,'Gegevens van scanner'!$F$7:$G$250,2,0),0)","v":0}]
[10014325,null,null,{"$f":"IFERROR(VLOOKUP(A14334,'Gegevens van scanner'!$F$7:$G$250,2,0),0)","v":0}]
[10014337,null,null,{"$f":"IFERROR(VLOOKUP(A14346,'Gegevens van scanner'!$F$7:$G$250,2,0),0)","v":0}]
[10014353,null,null,{"$f":"IFERROR(VLOOKUP(A14362,'Gegevens van scanner'!$F$7:$G$250,2,0),0)","v":0}]
[10014358,null,null,{"$f":"IFERROR(VLOOKUP(A14367,'Gegevens van scanner'!$F$7:$G$250,2,0),0)","v":0}]
[10014377,null,null,{"$f":"IFERROR(VLOOKUP(A14386,'Gegevens van scanner'!$F$7:$G$250,2,0),0)","v":0}]
[10014391,null,null,{"$f":"IFERROR(VLOOKUP(A14400,'Gegevens van scanner'!$F$7:$G$250,2,0),0)","v":0}]
[10014394,null,null,{"$f":"IFERROR(VLOOKUP(A14403,'Gegevens van scanner'!$F$7:$G$250,2,0),0)","v":0}]
[10014412,null,null,{"$f":"IFERROR(VLOOKUP(A14421,'Gegevens van scanner'!$F$7:$G$250,2,0),0)","v":0}]
[10014422,null,null,{"$f":"IFERROR(VLOOKUP(A14431,'Gegevens van scanner'!$F$7:$G$250,2,0),0)","v":0}]
[10014429,null,null,{"$f":"IFERROR(VLOOKUP(A14438,'Gegevens van scanner'!$F$7:$G$250,2,0),0)","v":0}]
[10014439,null,null,{"$f":"IFERROR(VLOOKUP(A14448,'Gegevens van scanner'!$F$7:$G$250,2,0),0)","v":0}]
[10014450,null,null,{"$f":"IFERROR(VLOOKUP(A14459,'Gegevens van scanner'!$F$7:$G$250,2,0),0)","v":0}]
[10014467,null,null,{"$f":"IFERROR(VLOOKUP(A14476,'Gegevens van scanner'!$F$7:$G$250,2,0),0)","v":0}]
[10014483,null,null,{"$f":"IFERROR(VLOOKUP(A14492,'Gegevens van scanner'!$F$7:$G$250,2,0),0)","v":0}]
[10014491,null,null,{"$f":"IFERROR(VLOOKUP(A14500,'Gegevens van scanner'!$F$7:$G$250,2,0),0)","v":0}]
[10014504,null,null,{"$f":"IFERROR(VLOOKUP(A14513,'Gegevens van scanner'!$F$7:$G$250,2,0),0)","v":0}]
[10014508,null,null,{"$f":"IFERROR(VLOOKUP(A14517,'Gegevens van scanner'!$F$7:$G$250,2,0),0)","v":0}]
[10014521,null,null,{"$f":"IFERROR(VLOOKUP(A14530,'Gegevens van scanner'!$F$7:$G$250,2,0),0)","v":0}]
[10014536,null,null,{"$f":"IFERROR(VLOOKUP(A14545,'Gegevens van scanner'!$F$7:$G$250,2,0),0)","v":0}]
[10014542,null,null,{"$f":"IFERROR(VLOOKUP(A14551,'Gegevens van scanner'!$F$7:$G$250,2,0),0)","v":0}]
[10014564,null,null,{"$f":"IFERROR(VLOOKUP(A14573,'Gegevens van scanner'!$F$7:$G$250,2,0),0)","v":0}]
[10014575,null,null,{"$f":"IFERROR(VLOOKUP(A14584,'Gegevens van scanner'!$F$7:$G$250,2,0),0)","v":0}]
[10014577,null,null,{"$f":"IFERROR(VLOOKUP(A14586,'Gegevens van scanner'!$F$7:$G$250,2,0),0)","v":0}]
[10014596,null,null,{"$f":"IFERROR(VLOOKUP(A14605,'Gegevens van scanner'!$F$7:$G$250,2,0),0)","v":0}]
[10014605,null,null,{"$f":"IFERROR(VLOOKUP(A14614,'Gegevens van scanner'!$F$7:$G$250,2,0),0)","v":0}]
[10014617,null,null,{"$f":"IFERROR(VLOOKUP(A14626,'Gegevens van scanner'!$F$7:$G$250,2,0),0)","v":0}]
[10014633,null,null,{"$f":"IFERROR(VLOOKUP(A14642,'Gegevens van scanner'!$F$7:$G$250,2,0),0)","v":0}]
[10014634,null,null,{"$f":"IFERROR(VLOOKUP(A14643,'Gegevens van scanner'!$F$7:$G$250,2,0),0)","v":0}]
[10014650,null,null,{"$f":"IFERROR(VLOOKUP(A14659,'Gegevens van scanner'!$F$7:$G$250,2,0),0)","v":0}]
[10014667,null,null,{"$f":"IFERROR(VLOOKUP(A14676,'Gegevens van scanner'!$F$7:$G$250,2,0),0)","v":0}]
[10014674,null,null,{"$f":"IFERROR(VLOOKUP(A14683,'Gegevens van scanner'!$F$7:$G$250,2,0),0)","v":0}]
[10014688,null,null,{"$f":"IFERROR(VLOOKUP(A14697,'Gegevens van scanner'!$F$7:$G$250,2,0),0)","v":0}]
[10014702,null,null,{"$f":"IFERROR(VLOOKUP(A14711,'Gegevens van scanner'!$F$7:$G$250,2,0),0)","v":0}]
[10014709,null,null,{"$f":"IFERROR(VLOOKUP(A14718,'Gegevens van scanner'!$F$7:$G$250,2,0),0)","v":0}]
[10014719,null,null,{"$f":"IFERROR(VLOOKUP(A14728,'Gegevens van scanner'!$F$7:$G$250,2,0),0)","v":0}]
[10014726,null,null,{"$f":"IFERROR(VLOOKUP(A14735,'Gegevens van scanner'!$F$7:$G$250,2,0),0)","v":0}]
[10014747,null,null,{"$f":"IFERROR(VLOOKUP(A14756,'Gegevens van scanner'!$F$7:$G$250,2,0),0)","v":0}]
[10014759,null,null,{"$f":"IFERROR(VLOOKUP(A14768,'Gegevens van scanner'!$F$7:$G$250,2,0),0)","v":0}]
[10014771,null,null,{"$f":"IFERROR(VLOOKUP(A14780,'Gegevens van scanner'!$F$7:$G$250,2,0),0)","v":0}]
[10014780,null,null,{"$f":"IFERROR(VLOOKUP(A14789,'Gegevens van scanner'!$F$7:$G$250,2,0),0)","v":0}]
[10014788,null,null,{"$f":"IFERROR(VLOOKUP(A14797,'Gegevens van scanner'!$F$7:$G$250,2,0),0)","v":0}]
[10014801,null,null,{"$f":"IFERROR(VLOOKUP(A14810,'Gegevens van scanner'!$F$7:$G$250,2,0),0)","v":0}]
[10014816,null,null,{"$f":"IFERROR(VLOOKUP(A14825,'Gegevens van scanner'!$F$7:$G$250,2,0),0)","v":0}]
[10014818,null,null,{"$f":"IFERROR(VLOOKUP(A14827,'Gegevens van scanner'!$F$7:$G$250,2,0),0)","v":0}]
[10014833,null,null,{"$f":"IFERROR(VLOOKUP(A14842,'Gegevens van scanner'!$F$7:$G$250,2,0),0)","v":0}]
[10014851,null,null,{"$f":"IFERROR(VLOOKUP(A14860,'Gegevens van scanner'!$F$7:$G$250,2,0),0)","v":0}]
[10014861,null,null,{"$f":"IFERROR(VLOOKUP(A14870,'Gegevens van scanner'!$F$7:$G$250,2,0),0)","v":0}]
[10014872,null,null,{"$f":"IFERROR(VLOOKUP(A14881,'Gegevens van scanner'!$F$7:$G$250,2,0),0)","v":0}]
[10014885,null,null,{"$f":"IFERROR(VLOOKUP(A14894,'Gegevens van scanner'!$F$7:$G$250,2,0),0)","v":0}]
[10014893,null,null,{"$f":"IFERROR(VLOOKUP(A14902,'Gegevens van scanner'!$F$7:$G$250,2,0),0)","v":0}]
[10014902,null,null,{"$f":"IFERROR(VLOOKUP(A14911,'Gegevens van scanner'!$F$7:$G$250,2,0),0)","v":0}]
[10014910,null,null,{"$f":"IFERROR(VLOOKUP(A14919,'Gegevens van scanner'!$F$7:$G$250,2,0),0)","v":0}]
[10014923,null,null,{"$f":"IFERROR(VLOOKUP(A14932,'Gegevens van scanner'!$F$7:$G$250,2,0),0)","v":0}]
[10014937,null,null,{"$f":"IFERROR(VLOOKUP(A14946,'Gegevens van scanner'!$F$7:$G$250,2,0),0)","v":0}]
[10014956,null,null,{"$f":"IFERROR(VLOOKUP(A14965,'Gegevens van scanner'!$F$7:$G$250,2,0),0)","v":0}]
[10014965,null,null,{"$f":"IFERROR(VLOOKUP(A14974,'Gegevens van scanner'!$F$7:$G$250,2,0),0)","v":0}]
[10014973,null,null,{"$f":"IFERROR(VLOOKUP(A14982,'Gegevens van scanner'!$F$7:$G$250,2,0),0)","v":0}]
[10014982,null,null,{"$f":"IFERROR(VLOOKUP(A14991,'Gegevens van scanner'!$F$7:$G$250,2,0),0)","v":0}]
[10014994,null,null,{"$f":"IFERROR(VLOOKUP(A15003,'Gegevens van scanner'!$F$7:$G$250,2,0),0)","v":0}]
[10015010,null,null,{"$f":"IFERROR(VLOOKUP(A15019,'Gegevens van scanner'!$F$7:$G$250,2,0),0)","v":0}]
[10015015,null,null,{"$f":"IFERROR(VLOOKUP(A15024,'Gegevens van scanner'!$F$7:$G$250,2,0),0)","v":0}]
[10015034,null,null,{"$f":"IFERROR(VLOOKUP(A15043,'Gegevens van scanner'!$F$7:$G$250,2,0),0)","v":0}]
[10015048,null,null,{"$f":"IFERROR(VLOOKUP(A15057,'Gegevens van scanner'!$F$7:$G$250,2,0),0)","v":0}]
[10015051,null,null,{"$f":"IFERROR(VLOOKUP(A15060,'Gegevens van scanner'!$F$7:$G$250,2,0),0)","v":0}]
[10015065,null,null,{"$f":"IFERROR(VLOOKUP(A15074,'Gegevens van scanner'!$F$7:$G$250,2,0),0)","v":0}]
[10015079,null,null,{"$f":"IFERROR(VLOOKUP(A15088,'Gegevens van scanner'!$F$7:$G$250,2,0),0)","v":0}]
[10015086,null,null,{"$f":"IFERROR(VLOOKUP(A15095,'Gegevens van scanner'!$F$7:$G$250,2,0),0)","v":0}]
[10015096,null,null,{"$f":"IFERROR(VLOOKUP(A15105,'Gegevens van scanner'!$F$7:$G$250,2,0),0)","v":0}]
[10015107,null,null,{"$f":"IFERROR(VLOOKUP(A15116,'Gegevens van scanner'!$F$7:$G$250,2,0),0)","v":0}]
[10015120,null,null,{"$f":"IFERROR(VLOOKUP(A15129,'Gegevens van scanner'!$F$7:$G$250,2,0),0)","v":0}]
[10015140,null,null,{"$f":"IFERROR(VLOOKUP(A15149,'Gegevens van scanner'!$F$7:$G$250,2,0),0)","v":0}]
[10015148,null,null,{"$f":"IFERROR(VLOOKUP(A15157,'Gegevens van scanner'!$F$7:$G$250,2,0),0)","v":0}]
[10015157,null,null,{"$f":"IFERROR(VLOOKUP(A15166,'Gegevens van scanner'!$F$7:$G$250,2,0),0)","v":0}]
[10015165,null,null,{"$f":"IFERROR(VLOOKUP(A15174,'Gegevens van scanner'!$F$7:$G$250,2,0),0)","v":0}]
[10015178,null,null,{"$f":"IFERROR(VLOOKUP(A15187,'Gegevens van scanner'!$F$7:$G$250,2,0),0)","v":0}]
[10015193,null,null,{"$f":"IFERROR(VLOOKUP(A15202,'Gegevens van scanner'!$F$7:$G$250,2,0),0)","v":0}]
[10015199,null,null,{"$f":"IFERROR(VLOOKUP(A15208,'Gegevens van scanner'!$F$7:$G$250,2,0),0)","v":0}]
[10015217,null,null,{"$f":"IFERROR(VLOOKUP(A15226,'Gegevens van scanner'!$F$7:$G$250,2,0),0)","v":0}]
[10015232,null,null,{"$f":"IFERROR(VLOOKUP(A15241,'Gegevens van scanner'!$F$7:$G$250,2,0),0)","v":0}]
[{"$f":"A15242+1","v":10015234},null,null,{"$f":"IFERROR(VLOOKUP(A15243,'Gegevens van scanner'!$F$7:$G$250,2,0),0)","v":0}]
[10015253,null,null,{"$f":"IFERROR(VLOOKUP(A15262,'Gegevens van scanner'!$F$7:$G$250,2,0),0)","v":0}]
[10015262,null,null,{"$f":"IFERROR(VLOOKUP(A15271,'Gegevens van scanner'!$F$7:$G$250,2,0),0)","v":0}]
[10015270,null,null,{"$f":"IFERROR(VLOOKUP(A15279,'Gegevens van scanner'!$F$7:$G$250,2,0),0)","v":0}]
[10015279,null,null,{"$f":"IFERROR(VLOOKUP(A15288,'Gegevens van scanner'!$F$7:$G$250,2,0),0)","v":0}]
[10015291,null,null,{"$f":"IFERROR(VLOOKUP(A15300,'Gegevens van scanner'!$F$7:$G$250,2,0),0)","v":0}]
[10015303,null,null,{"$f":"IFERROR(VLOOKUP(A15312,'Gegevens van scanner'!$F$7:$G$250,2,0),0)","v":0}]
[10015324,null,null,{"$f":"IFERROR(VLOOKUP(A15333,'Gegevens van scanner'!$F$7:$G$250,2,0),0)","v":0}]
[10015331,null,null,{"$f":"IFERROR(VLOOKUP(A15340,'Gegevens van scanner'!$F$7:$G$250,2,0),0)","v":0}]
[10015345,null,null,{"$f":"IFERROR(VLOOKUP(A15354,'Gegevens van scanner'!$F$7:$G$250,2,0),0)","v":0}]
[10015348,null,null,{"$f":"IFERROR(VLOOKUP(A15357,'Gegevens van scanner'!$F$7:$G$250,2,0),0)","v":0}]
[{"$f":"A15370+1","v":10015362},null,null,{"$f":"IFERROR(VLOOKUP(A15371,'Gegevens van scanner'!$F$7:$G$250,2,0),0)","v":0}]
[10015376,null,null,{"$f":"IFERROR(VLOOKUP(A15385,'Gegevens van scanner'!$F$7:$G$250,2,0),0)","v":0}]
[10015383,null,null,{"$f":"IFERROR(VLOOKUP(A15392,'Gegevens van scanner'!$F$7:$G$250,2,0),0)","v":0}]
[10015400,null,null,{"$f":"IFERROR(VLOOKUP(A15409,'Gegevens van scanner'!$F$7:$G$250,2,0),0)","v":0}]
[10015416,null,null,{"$f":"IFERROR(VLOOKUP(A15425,'Gegevens van scanner'!$F$7:$G$250,2,0),0)","v":0}]
[10015417,null,null,{"$f":"IFERROR(VLOOKUP(A15426,'Gegevens van scanner'!$F$7:$G$250,2,0),0)","v":0}]
[10015437,null,null,{"$f":"IFERROR(VLOOKUP(A15446,'Gegevens van scanner'!$F$7:$G$250,2,0),0)","v":0}]
[10015445,null,null,{"$f":"IFERROR(VLOOKUP(A15454,'Gegevens van scanner'!$F$7:$G$250,2,0),0)","v":0}]
[10015454,null,null,{"$f":"IFERROR(VLOOKUP(A15463,'Gegevens van scanner'!$F$7:$G$250,2,0),0)","v":0}]
[10015473,null,null,{"$f":"IFERROR(VLOOKUP(A15482,'Gegevens van scanner'!$F$7:$G$250,2,0),0)","v":0}]
[10015475,null,null,{"$f":"IFERROR(VLOOKUP(A15484,'Gegevens van scanner'!$F$7:$G$250,2,0),0)","v":0}]
[{"$f":"A15498+1","v":10015490},null,null,{"$f":"IFERROR(VLOOKUP(A15499,'Gegevens van scanner'!$F$7:$G$250,2,0),0)","v":0}]
[10015508,null,null,{"$f":"IFERROR(VLOOKUP(A15517,'Gegevens van scanner'!$F$7:$G$250,2,0),0)","v":0}]
[10015514,null,null,{"$f":"IFERROR(VLOOKUP(A15523,'Gegevens van scanner'!$F$7:$G$250,2,0),0)","v":0}]
[10015529,null,null,{"$f":"IFERROR(VLOOKUP(A15538,'Gegevens van scanner'!$F$7:$G$250,2,0),0)","v":0}]
[10015542,null,null,{"$f":"IFERROR(VLOOKUP(A15551,'Gegevens van scanner'!$F$7:$G$250,2,0),0)","v":0}]
[10015546,null,null,{"$f":"IFERROR(VLOOKUP(A15555,'Gegevens van scanner'!$F$7:$G$250,2,0),0)","v":0}]
[10015559,null,null,{"$f":"IFERROR(VLOOKUP(A15568,'Gegevens van scanner'!$F$7:$G$250,2,0),0)","v":0}]
[10015567,null,null,{"$f":"IFERROR(VLOOKUP(A15576,'Gegevens van scanner'!$F$7:$G$250,2,0),0)","v":0}]
[10015587,null,null,{"$f":"IFERROR(VLOOKUP(A15596,'Gegevens van scanner'!$F$7:$G$250,2,0),0)","v":0}]
[10015600,null,null,{"$f":"IFERROR(VLOOKUP(A15609,'Gegevens van scanner'!$F$7:$G$250,2,0),0)","v":0}]
[10015611,null,null,{"$f":"IFERROR(VLOOKUP(A15620,'Gegevens van scanner'!$F$7:$G$250,2,0),0)","v":0}]
[10015621,null,null,{"$f":"IFERROR(VLOOKUP(A15630,'Gegevens van scanner'!$F$7:$G$250,2,0),0)","v":0}]
[10015628,null,null,{"$f":"IFERROR(VLOOKUP(A15637,'Gegevens van scanner'!$F$7:$G$250,2,0),0)","v":0}]
[10015642,null,null,{"$f":"IFERROR(VLOOKUP(A15651,'Gegevens van scanner'!$F$7:$G$250,2,0),0)","v":0}]
[10015656,null,null,{"$f":"IFERROR(VLOOKUP(A15665,'Gegevens van scanner'!$F$7:$G$250,2,0),0)","v":0}]
[10015659,null,null,{"$f":"IFERROR(VLOOKUP(A15668,'Gegevens van scanner'!$F$7:$G$250,2,0),0)","v":0}]
[10015673,null,null,{"$f":"IFERROR(VLOOKUP(A15682,'Gegevens van scanner'!$F$7:$G$250,2,0),0)","v":0}]
[10015692,null,null,{"$f":"IFERROR(VLOOKUP(A15701,'Gegevens van scanner'!$F$7:$G$250,2,0),0)","v":0}]
[10015697,null,null,{"$f":"IFERROR(VLOOKUP(A15706,'Gegevens van scanner'!$F$7:$G$250,2,0),0)","v":0}]
[10015713,null,null,{"$f":"IFERROR(VLOOKUP(A15722,'Gegevens van scanner'!$F$7:$G$250,2,0),0)","v":0}]
[10015725,null,null,{"$f":"IFERROR(VLOOKUP(A15734,'Gegevens van scanner'!$F$7:$G$250,2,0),0)","v":0}]
[10015734,null,null,{"$f":"IFERROR(VLOOKUP(A15743,'Gegevens van scanner'!$F$7:$G$250,2,0),0)","v":0}]
[10015742,null,null,{"$f":"IFERROR(VLOOKUP(A15751,'Gegevens van scanner'!$F$7:$G$250,2,0),0)","v":0}]
[10015751,null,null,{"$f":"IFERROR(VLOOKUP(A15760,'Gegevens van scanner'!$F$7:$G$250,2,0),0)","v":0}]
[10015770,null,null,{"$f":"IFERROR(VLOOKUP(A15779,'Gegevens van scanner'!$F$7:$G$250,2,0),0)","v":0}]
[10015784,null,null,{"$f":"IFERROR(VLOOKUP(A15793,'Gegevens van scanner'!$F$7:$G$250,2,0),0)","v":0}]
[10015794,null,null,{"$f":"IFERROR(VLOOKUP(A15803,'Gegevens van scanner'!$F$7:$G$250,2,0),0)","v":0}]
[10015805,null,null,{"$f":"IFERROR(VLOOKUP(A15814,'Gegevens van scanner'!$F$7:$G$250,2,0),0)","v":0}]
[10015811,null,null,{"$f":"IFERROR(VLOOKUP(A15820,'Gegevens van scanner'!$F$7:$G$250,2,0),0)","v":0}]
[10015826,null,null,{"$f":"IFERROR(VLOOKUP(A15835,'Gegevens van scanner'!$F$7:$G$250,2,0),0)","v":0}]
[10015839,null,null,{"$f":"IFERROR(VLOOKUP(A15848,'Gegevens van scanner'!$F$7:$G$250,2,0),0)","v":0}]
[10015843,null,null,{"$f":"IFERROR(VLOOKUP(A15852,'Gegevens van scanner'!$F$7:$G$250,2,0),0)","v":0}]
[10015856,null,null,{"$f":"IFERROR(VLOOKUP(A15865,'Gegevens van scanner'!$F$7:$G$250,2,0),0)","v":0}]
[10015876,null,null,{"$f":"IFERROR(VLOOKUP(A15885,'Gegevens van scanner'!$F$7:$G$250,2,0),0)","v":0}]
[10015884,null,null,{"$f":"IFERROR(VLOOKUP(A15893,'Gegevens van scanner'!$F$7:$G$250,2,0),0)","v":0}]
[10015897,null,null,{"$f":"IFERROR(VLOOKUP(A15906,'Gegevens van scanner'!$F$7:$G$250,2,0),0)","v":0}]
[10015908,null,null,{"$f":"IFERROR(VLOOKUP(A15917,'Gegevens van scanner'!$F$7:$G$250,2,0),0)","v":0}]
[10015918,null,null,{"$f":"IFERROR(VLOOKUP(A15927,'Gegevens van scanner'!$F$7:$G$250,2,0),0)","v":0}]
[10015925,null,null,{"$f":"IFERROR(VLOOKUP(A15934,'Gegevens van scanner'!$F$7:$G$250,2,0),0)","v":0}]
[10015935,null,null,{"$f":"IFERROR(VLOOKUP(A15944,'Gegevens van scanner'!$F$7:$G$250,2,0),0)","v":0}]
[10015953,null,null,{"$f":"IFERROR(VLOOKUP(A15962,'Gegevens van scanner'!$F$7:$G$250,2,0),0)","v":0}]
[10015968,null,null,{"$f":"IFERROR(VLOOKUP(A15977,'Gegevens van scanner'!$F$7:$G$250,2,0),0)","v":0}]
[10015970,null,null,{"$f":"IFERROR(VLOOKUP(A15979,'Gegevens van scanner'!$F$7:$G$250,2,0),0)","v":0}]
[10015989,null,null,{"$f":"IFERROR(VLOOKUP(A15998,'Gegevens van scanner'!$F$7:$G$250,2,0),0)","v":0}]
[10015994,null,null,{"$f":"IFERROR(VLOOKUP(A16003,'Gegevens van scanner'!$F$7:$G$250,2,0),0)","v":0}]
[10016010,null,null,{"$f":"IFERROR(VLOOKUP(A16019,'Gegevens van scanner'!$F$7:$G$250,2,0),0)","v":0}]
[10016022,null,null,{"$f":"IFERROR(VLOOKUP(A16031,'Gegevens van scanner'!$F$7:$G$250,2,0),0)","v":0}]
[10016027,null,null,{"$f":"IFERROR(VLOOKUP(A16036,'Gegevens van scanner'!$F$7:$G$250,2,0),0)","v":0}]
[10016039,null,null,{"$f":"IFERROR(VLOOKUP(A16048,'Gegevens van scanner'!$F$7:$G$250,2,0),0)","v":0}]
[10016060,null,null,{"$f":"IFERROR(VLOOKUP(A16069,'Gegevens van scanner'!$F$7:$G$250,2,0),0)","v":0}]
[10016067,null,null,{"$f":"IFERROR(VLOOKUP(A16076,'Gegevens van scanner'!$F$7:$G$250,2,0),0)","v":0}]
[10016081,null,null,{"$f":"IFERROR(VLOOKUP(A16090,'Gegevens van scanner'!$F$7:$G$250,2,0),0)","v":0}]
[10016091,null,null,{"$f":"IFERROR(VLOOKUP(A16100,'Gegevens van scanner'!$F$7:$G$250,2,0),0)","v":0}]
[10016102,null,null,{"$f":"IFERROR(VLOOKUP(A16111,'Gegevens van scanner'!$F$7:$G$250,2,0),0)","v":0}]
[10016108,null,null,{"$f":"IFERROR(VLOOKUP(A16117,'Gegevens van scanner'!$F$7:$G$250,2,0),0)","v":0}]
[10016123,null,null,{"$f":"IFERROR(VLOOKUP(A16132,'Gegevens van scanner'!$F$7:$G$250,2,0),0)","v":0}]
[10016136,null,null,{"$f":"IFERROR(VLOOKUP(A16145,'Gegevens van scanner'!$F$7:$G$250,2,0),0)","v":0}]
[10016152,null,null,{"$f":"IFERROR(VLOOKUP(A16161,'Gegevens van scanner'!$F$7:$G$250,2,0),0)","v":0}]
[10016153,null,null,{"$f":"IFERROR(VLOOKUP(A16162,'Gegevens van scanner'!$F$7:$G$250,2,0),0)","v":0}]
[10016173,null,null,{"$f":"IFERROR(VLOOKUP(A16182,'Gegevens van scanner'!$F$7:$G$250,2,0),0)","v":0}]
[10016177,null,null,{"$f":"IFERROR(VLOOKUP(A16186,'Gegevens van scanner'!$F$7:$G$250,2,0),0)","v":0}]
[{"$f":"A16202+1","v":10016194},null,null,{"$f":"IFERROR(VLOOKUP(A16203,'Gegevens van scanner'!$F$7:$G$250,2,0),0)","v":0}]
[10016205,null,null,{"$f":"IFERROR(VLOOKUP(A16214,'Gegevens van scanner'!$F$7:$G$250,2,0),0)","v":0}]
[10016215,null,null,{"$f":"IFERROR(VLOOKUP(A16224,'Gegevens van scanner'!$F$7:$G$250,2,0),0)","v":0}]
[10016222,null,null,{"$f":"IFERROR(VLOOKUP(A16231,'Gegevens van scanner'!$F$7:$G$250,2,0),0)","v":0}]
[10016244,null,null,{"$f":"IFERROR(VLOOKUP(A16253,'Gegevens van scanner'!$F$7:$G$250,2,0),0)","v":0}]
[10016250,null,null,{"$f":"IFERROR(VLOOKUP(A16259,'Gegevens van scanner'!$F$7:$G$250,2,0),0)","v":0}]
[10016265,null,null,{"$f":"IFERROR(VLOOKUP(A16274,'Gegevens van scanner'!$F$7:$G$250,2,0),0)","v":0}]
[10016278,null,null,{"$f":"IFERROR(VLOOKUP(A16287,'Gegevens van scanner'!$F$7:$G$250,2,0),0)","v":0}]
[10016286,null,null,{"$f":"IFERROR(VLOOKUP(A16295,'Gegevens van scanner'!$F$7:$G$250,2,0),0)","v":0}]
[10016291,null,null,{"$f":"IFERROR(VLOOKUP(A16300,'Gegevens van scanner'!$F$7:$G$250,2,0),0)","v":0}]
[10016307,null,null,{"$f":"IFERROR(VLOOKUP(A16316,'Gegevens van scanner'!$F$7:$G$250,2,0),0)","v":0}]
[10016319,null,null,{"$f":"IFERROR(VLOOKUP(A16328,'Gegevens van scanner'!$F$7:$G$250,2,0),0)","v":0}]
[10016336,null,null,{"$f":"IFERROR(VLOOKUP(A16345,'Gegevens van scanner'!$F$7:$G$250,2,0),0)","v":0}]
[10016347,null,null,{"$f":"IFERROR(VLOOKUP(A16356,'Gegevens van scanner'!$F$7:$G$250,2,0),0)","v":0}]
[10016357,null,null,{"$f":"IFERROR(VLOOKUP(A16366,'Gegevens van scanner'!$F$7:$G$250,2,0),0)","v":0}]
[10016370,null,null,{"$f":"IFERROR(VLOOKUP(A16379,'Gegevens van scanner'!$F$7:$G$250,2,0),0)","v":0}]
[10016382,null,null,{"$f":"IFERROR(VLOOKUP(A16391,'Gegevens van scanner'!$F$7:$G$250,2,0),0)","v":0}]
[10016387,null,null,{"$f":"IFERROR(VLOOKUP(A16396,'Gegevens van scanner'!$F$7:$G$250,2,0),0)","v":0}]
[10016399,null,null,{"$f":"IFERROR(VLOOKUP(A16408,'Gegevens van scanner'!$F$7:$G$250,2,0),0)","v":0}]
[10016408,null,null,{"$f":"IFERROR(VLOOKUP(A16417,'Gegevens van scanner'!$F$7:$G$250,2,0),0)","v":0}]
[10016423,null,null,{"$f":"IFERROR(VLOOKUP(A16432,'Gegevens van scanner'!$F$7:$G$250,2,0),0)","v":0}]
[10016429,null,null,{"$f":"IFERROR(VLOOKUP(A16438,'Gegevens van scanner'!$F$7:$G$250,2,0),0)","v":0}]
[10016451,null,null,{"$f":"IFERROR(VLOOKUP(A16460,'Gegevens van scanner'!$F$7:$G$250,2,0),0)","v":0}]
[10016462,null,null,{"$f":"IFERROR(VLOOKUP(A16471,'Gegevens van scanner'!$F$7:$G$250,2,0),0)","v":0}]
[10016468,null,null,{"$f":"IFERROR(VLOOKUP(A16477,'Gegevens van scanner'!$F$7:$G$250,2,0),0)","v":0}]
[10016479,null,null,{"$f":"IFERROR(VLOOKUP(A16488,'Gegevens van scanner'!$F$7:$G$250,2,0),0)","v":0}]
[10016496,null,null,{"$f":"IFERROR(VLOOKUP(A16505,'Gegevens van scanner'!$F$7:$G$250,2,0),0)","v":0}]
[10016500,null,null,{"$f":"IFERROR(VLOOKUP(A16509,'Gegevens van scanner'!$F$7:$G$250,2,0),0)","v":0}]
[10016513,null,null,{"$f":"IFERROR(VLOOKUP(A16522,'Gegevens van scanner'!$F$7:$G$250,2,0),0)","v":0}]
[10016521,null,null,{"$f":"IFERROR(VLOOKUP(A16530,'Gegevens van scanner'!$F$7:$G$250,2,0),0)","v":0}]
[10016537,null,null,{"$f":"IFERROR(VLOOKUP(A16546,'Gegevens van scanner'!$F$7:$G$250,2,0),0)","v":0}]
[10016554,null,null,{"$f":"IFERROR(VLOOKUP(A16563,'Gegevens van scanner'!$F$7:$G$250,2,0),0)","v":0}]
[10016565,null,null,{"$f":"IFERROR(VLOOKUP(A16574,'Gegevens van scanner'!$F$7:$G$250,2,0),0)","v":0}]
[10016571,null,null,{"$f":"IFERROR(VLOOKUP(A16580,'Gegevens van scanner'!$F$7:$G$250,2,0),0)","v":0}]
[10016582,null,null,{"$f":"IFERROR(VLOOKUP(A16591,'Gegevens van scanner'!$F$7:$G$250,2,0),0)","v":0}]
[10016592,null,null,{"$f":"IFERROR(VLOOKUP(A16601,'Gegevens van scanner'!$F$7:$G$250,2,0),0)","v":0}]
[10016610,null,null,{"$f":"IFERROR(VLOOKUP(A16619,'Gegevens van scanner'!$F$7:$G$250,2,0),0)","v":0}]
[10016613,null,null,{"$f":"IFERROR(VLOOKUP(A16622,'Gegevens van scanner'!$F$7:$G$250,2,0),0)","v":0}]
[10016634,null,null,{"$f":"IFERROR(VLOOKUP(A16643,'Gegevens van scanner'!$F$7:$G$250,2,0),0)","v":0}]
[10016646,null,null,{"$f":"IFERROR(VLOOKUP(A16655,'Gegevens van scanner'!$F$7:$G$250,2,0),0)","v":0}]
[10016651,null,null,{"$f":"IFERROR(VLOOKUP(A16660,'Gegevens van scanner'!$F$7:$G$250,2,0),0)","v":0}]
[10016667,null,null,{"$f":"IFERROR(VLOOKUP(A16676,'Gegevens van scanner'!$F$7:$G$250,2,0),0)","v":0}]
[10016679,null,null,{"$f":"IFERROR(VLOOKUP(A16688,'Gegevens van scanner'!$F$7:$G$250,2,0),0)","v":0}]
[10016684,null,null,{"$f":"IFERROR(VLOOKUP(A16693,'Gegevens van scanner'!$F$7:$G$250,2,0),0)","v":0}]
[10016696,null,null,{"$f":"IFERROR(VLOOKUP(A16705,'Gegevens van scanner'!$F$7:$G$250,2,0),0)","v":0}]
[10016705,null,null,{"$f":"IFERROR(VLOOKUP(A16714,'Gegevens van scanner'!$F$7:$G$250,2,0),0)","v":0}]
[10016720,null,null,{"$f":"IFERROR(VLOOKUP(A16729,'Gegevens van scanner'!$F$7:$G$250,2,0),0)","v":0}]
[10016738,null,null,{"$f":"IFERROR(VLOOKUP(A16747,'Gegevens van scanner'!$F$7:$G$250,2,0),0)","v":0}]
[10016748,null,null,{"$f":"IFERROR(VLOOKUP(A16757,'Gegevens van scanner'!$F$7:$G$250,2,0),0)","v":0}]
[10016759,null,null,{"$f":"IFERROR(VLOOKUP(A16768,'Gegevens van scanner'!$F$7:$G$250,2,0),0)","v":0}]
[10016765,null,null,{"$f":"IFERROR(VLOOKUP(A16774,'Gegevens van scanner'!$F$7:$G$250,2,0),0)","v":0}]
[10016776,null,null,{"$f":"IFERROR(VLOOKUP(A16785,'Gegevens van scanner'!$F$7:$G$250,2,0),0)","v":0}]
[10016793,null,null,{"$f":"IFERROR(VLOOKUP(A16802,'Gegevens van scanner'!$F$7:$G$250,2,0),0)","v":0}]
[10016797,null,null,{"$f":"IFERROR(VLOOKUP(A16806,'Gegevens van scanner'!$F$7:$G$250,2,0),0)","v":0}]
[10016817,null,null,{"$f":"IFERROR(VLOOKUP(A16826,'Gegevens van scanner'!$F$7:$G$250,2,0),0)","v":0}]
[10016830,null,null,{"$f":"IFERROR(VLOOKUP(A16839,'Gegevens van scanner'!$F$7:$G$250,2,0),0)","v":0}]
[{"$f":"A16842+1","v":10016834},null,null,{"$f":"IFERROR(VLOOKUP(A16843,'Gegevens van scanner'!$F$7:$G$250,2,0),0)","v":0}]
[10016851,null,null,{"$f":"IFERROR(VLOOKUP(A16860,'Gegevens van scanner'!$F$7:$G$250,2,0),0)","v":0}]
[10016862,null,null,{"$f":"IFERROR(VLOOKUP(A16871,'Gegevens van scanner'!$F$7:$G$250,2,0),0)","v":0}]
[10016868,null,null,{"$f":"IFERROR(VLOOKUP(A16877,'Gegevens van scanner'!$F$7:$G$250,2,0),0)","v":0}]
[10016879,null,null,{"$f":"IFERROR(VLOOKUP(A16888,'Gegevens van scanner'!$F$7:$G$250,2,0),0)","v":0}]
[10016889,null,null,{"$f":"IFERROR(VLOOKUP(A16898,'Gegevens van scanner'!$F$7:$G$250,2,0),0)","v":0}]
[10016907,null,null,{"$f":"IFERROR(VLOOKUP(A16916,'Gegevens van scanner'!$F$7:$G$250,2,0),0)","v":0}]
[10016922,null,null,{"$f":"IFERROR(VLOOKUP(A16931,'Gegevens van scanner'!$F$7:$G$250,2,0),0)","v":0}]
[10016931,null,null,{"$f":"IFERROR(VLOOKUP(A16940,'Gegevens van scanner'!$F$7:$G$250,2,0),0)","v":0}]
[10016943,null,null,{"$f":"IFERROR(VLOOKUP(A16952,'Gegevens van scanner'!$F$7:$G$250,2,0),0)","v":0}]
[10016948,null,null,{"$f":"IFERROR(VLOOKUP(A16957,'Gegevens van scanner'!$F$7:$G$250,2,0),0)","v":0}]
[10016960,null,null,{"$f":"IFERROR(VLOOKUP(A16969,'Gegevens van scanner'!$F$7:$G$250,2,0),0)","v":0}]
[10016976,null,null,{"$f":"IFERROR(VLOOKUP(A16985,'Gegevens van scanner'!$F$7:$G$250,2,0),0)","v":0}]
[10016981,null,null,{"$f":"IFERROR(VLOOKUP(A16990,'Gegevens van scanner'!$F$7:$G$250,2,0),0)","v":0}]
[10016993,null,null,{"$f":"IFERROR(VLOOKUP(A17002,'Gegevens van scanner'!$F$7:$G$250,2,0),0)","v":0}]
[10017014,null,null,{"$f":"IFERROR(VLOOKUP(A17023,'Gegevens van scanner'!$F$7:$G$250,2,0),0)","v":0}]
[10017017,null,null,{"$f":"IFERROR(VLOOKUP(A17026,'Gegevens van scanner'!$F$7:$G$250,2,0),0)","v":0}]
[10017035,null,null,{"$f":"IFERROR(VLOOKUP(A17044,'Gegevens van scanner'!$F$7:$G$250,2,0),0)","v":0}]
[10017045,null,null,{"$f":"IFERROR(VLOOKUP(A17054,'Gegevens van scanner'!$F$7:$G$250,2,0),0)","v":0}]
[10017052,null,null,{"$f":"IFERROR(VLOOKUP(A17061,'Gegevens van scanner'!$F$7:$G$250,2,0),0)","v":0}]
[10017062,null,null,{"$f":"IFERROR(VLOOKUP(A17071,'Gegevens van scanner'!$F$7:$G$250,2,0),0)","v":0}]
[10017073,null,null,{"$f":"IFERROR(VLOOKUP(A17082,'Gegevens van scanner'!$F$7:$G$250,2,0),0)","v":0}]
[{"$f":"A17098+1","v":10017090},null,null,{"$f":"IFERROR(VLOOKUP(A17099,'Gegevens van scanner'!$F$7:$G$250,2,0),0)","v":0}]
[10017106,null,null,{"$f":"IFERROR(VLOOKUP(A17115,'Gegevens van scanner'!$F$7:$G$250,2,0),0)","v":0}]
[10017114,null,null,{"$f":"IFERROR(VLOOKUP(A17123,'Gegevens van scanner'!$F$7:$G$250,2,0),0)","v":0}]
[10017127,null,null,{"$f":"IFERROR(VLOOKUP(A17136,'Gegevens van scanner'!$F$7:$G$250,2,0),0)","v":0}]
[10017131,null,null,{"$f":"IFERROR(VLOOKUP(A17140,'Gegevens van scanner'!$F$7:$G$250,2,0),0)","v":0}]
[10017148,null,null,{"$f":"IFERROR(VLOOKUP(A17157,'Gegevens van scanner'!$F$7:$G$250,2,0),0)","v":0}]
[10017159,null,null,{"$f":"IFERROR(VLOOKUP(A17168,'Gegevens van scanner'!$F$7:$G$250,2,0),0)","v":0}]
[10017165,null,null,{"$f":"IFERROR(VLOOKUP(A17174,'Gegevens van scanner'!$F$7:$G$250,2,0),0)","v":0}]
[10017187,null,null,{"$f":"IFERROR(VLOOKUP(A17196,'Gegevens van scanner'!$F$7:$G$250,2,0),0)","v":0}]
[10017198,null,null,{"$f":"IFERROR(VLOOKUP(A17207,'Gegevens van scanner'!$F$7:$G$250,2,0),0)","v":0}]
[10017200,null,null,{"$f":"IFERROR(VLOOKUP(A17209,'Gegevens van scanner'!$F$7:$G$250,2,0),0)","v":0}]
[10017219,null,null,{"$f":"IFERROR(VLOOKUP(A17228,'Gegevens van scanner'!$F$7:$G$250,2,0),0)","v":0}]
[10017228,null,null,{"$f":"IFERROR(VLOOKUP(A17237,'Gegevens van scanner'!$F$7:$G$250,2,0),0)","v":0}]
[10017240,null,null,{"$f":"IFERROR(VLOOKUP(A17249,'Gegevens van scanner'!$F$7:$G$250,2,0),0)","v":0}]
[10017256,null,null,{"$f":"IFERROR(VLOOKUP(A17265,'Gegevens van scanner'!$F$7:$G$250,2,0),0)","v":0}]
[10017257,null,null,{"$f":"IFERROR(VLOOKUP(A17266,'Gegevens van scanner'!$F$7:$G$250,2,0),0)","v":0}]
[10017273,null,null,{"$f":"IFERROR(VLOOKUP(A17282,'Gegevens van scanner'!$F$7:$G$250,2,0),0)","v":0}]
[10017290,null,null,{"$f":"IFERROR(VLOOKUP(A17299,'Gegevens van scanner'!$F$7:$G$250,2,0),0)","v":0}]
[10017301,null,null,{"$f":"IFERROR(VLOOKUP(A17310,'Gegevens van scanner'!$F$7:$G$250,2,0),0)","v":0}]
[10017311,null,null,{"$f":"IFERROR(VLOOKUP(A17320,'Gegevens van scanner'!$F$7:$G$250,2,0),0)","v":0}]
[10017325,null,null,{"$f":"IFERROR(VLOOKUP(A17334,'Gegevens van scanner'!$F$7:$G$250,2,0),0)","v":0}]
[10017332,null,null,{"$f":"IFERROR(VLOOKUP(A17341,'Gegevens van scanner'!$F$7:$G$250,2,0),0)","v":0}]
[10017342,null,null,{"$f":"IFERROR(VLOOKUP(A17351,'Gegevens van scanner'!$F$7:$G$250,2,0),0)","v":0}]
[10017349,null,null,{"$f":"IFERROR(VLOOKUP(A17358,'Gegevens van scanner'!$F$7:$G$250,2,0),0)","v":0}]
[10017370,null,null,{"$f":"IFERROR(VLOOKUP(A17379,'Gegevens van scanner'!$F$7:$G$250,2,0),0)","v":0}]
[10017382,null,null,{"$f":"IFERROR(VLOOKUP(A17391,'Gegevens van scanner'!$F$7:$G$250,2,0),0)","v":0}]
[10017387,null,null,{"$f":"IFERROR(VLOOKUP(A17396,'Gegevens van scanner'!$F$7:$G$250,2,0),0)","v":0}]
[10017403,null,null,{"$f":"IFERROR(VLOOKUP(A17412,'Gegevens van scanner'!$F$7:$G$250,2,0),0)","v":0}]
[10017411,null,null,{"$f":"IFERROR(VLOOKUP(A17420,'Gegevens van scanner'!$F$7:$G$250,2,0),0)","v":0}]
[10017424,null,null,{"$f":"IFERROR(VLOOKUP(A17433,'Gegevens van scanner'!$F$7:$G$250,2,0),0)","v":0}]
[10017439,null,null,{"$f":"IFERROR(VLOOKUP(A17448,'Gegevens van scanner'!$F$7:$G$250,2,0),0)","v":0}]
[10017441,null,null,{"$f":"IFERROR(VLOOKUP(A17450,'Gegevens van scanner'!$F$7:$G$250,2,0),0)","v":0}]
[10017456,null,null,{"$f":"IFERROR(VLOOKUP(A17465,'Gegevens van scanner'!$F$7:$G$250,2,0),0)","v":0}]
[{"$f":"A17482+1","v":10017474},null,null,{"$f":"IFERROR(VLOOKUP(A17483,'Gegevens van scanner'!$F$7:$G$250,2,0),0)","v":0}]
[10017484,null,null,{"$f":"IFERROR(VLOOKUP(A17493,'Gegevens van scanner'!$F$7:$G$250,2,0),0)","v":0}]
[10017495,null,null,{"$f":"IFERROR(VLOOKUP(A17504,'Gegevens van scanner'!$F$7:$G$250,2,0),0)","v":0}]
[10017508,null,null,{"$f":"IFERROR(VLOOKUP(A17517,'Gegevens van scanner'!$F$7:$G$250,2,0),0)","v":0}]
[10017516,null,null,{"$f":"IFERROR(VLOOKUP(A17525,'Gegevens van scanner'!$F$7:$G$250,2,0),0)","v":0}]
[10017525,null,null,{"$f":"IFERROR(VLOOKUP(A17534,'Gegevens van scanner'!$F$7:$G$250,2,0),0)","v":0}]
[10017537,null,null,{"$f":"IFERROR(VLOOKUP(A17546,'Gegevens van scanner'!$F$7:$G$250,2,0),0)","v":0}]
[10017553,null,null,{"$f":"IFERROR(VLOOKUP(A17562,'Gegevens van scanner'!$F$7:$G$250,2,0),0)","v":0}]
[10017566,null,null,{"$f":"IFERROR(VLOOKUP(A17575,'Gegevens van scanner'!$F$7:$G$250,2,0),0)","v":0}]
[10017570,null,null,{"$f":"IFERROR(VLOOKUP(A17579,'Gegevens van scanner'!$F$7:$G$250,2,0),0)","v":0}]
[10017587,null,null,{"$f":"IFERROR(VLOOKUP(A17596,'Gegevens van scanner'!$F$7:$G$250,2,0),0)","v":0}]
[10017594,null,null,{"$f":"IFERROR(VLOOKUP(A17603,'Gegevens van scanner'!$F$7:$G$250,2,0),0)","v":0}]
[10017608,null,null,{"$f":"IFERROR(VLOOKUP(A17617,'Gegevens van scanner'!$F$7:$G$250,2,0),0)","v":0}]
[10017622,null,null,{"$f":"IFERROR(VLOOKUP(A17631,'Gegevens van scanner'!$F$7:$G$250,2,0),0)","v":0}]
[10017629,null,null,{"$f":"IFERROR(VLOOKUP(A17638,'Gegevens van scanner'!$F$7:$G$250,2,0),0)","v":0}]
[10017639,null,null,{"$f":"IFERROR(VLOOKUP(A17648,'Gegevens van scanner'!$F$7:$G$250,2,0),0)","v":0}]
[10017658,null,null,{"$f":"IFERROR(VLOOKUP(A17667,'Gegevens van scanner'!$F$7:$G$250,2,0),0)","v":0}]
[10017667,null,null,{"$f":"IFERROR(VLOOKUP(A17676,'Gegevens van scanner'!$F$7:$G$250,2,0),0)","v":0}]
[10017679,null,null,{"$f":"IFERROR(VLOOKUP(A17688,'Gegevens van scanner'!$F$7:$G$250,2,0),0)","v":0}]
[10017684,null,null,{"$f":"IFERROR(VLOOKUP(A17693,'Gegevens van scanner'!$F$7:$G$250,2,0),0)","v":0}]
[10017700,null,null,{"$f":"IFERROR(VLOOKUP(A17709,'Gegevens van scanner'!$F$7:$G$250,2,0),0)","v":0}]
[10017708,null,null,{"$f":"IFERROR(VLOOKUP(A17717,'Gegevens van scanner'!$F$7:$G$250,2,0),0)","v":0}]
[10017721,null,null,{"$f":"IFERROR(VLOOKUP(A17730,'Gegevens van scanner'!$F$7:$G$250,2,0),0)","v":0}]
[10017736,null,null,{"$f":"IFERROR(VLOOKUP(A17745,'Gegevens van scanner'!$F$7:$G$250,2,0),0)","v":0}]
[10017750,null,null,{"$f":"IFERROR(VLOOKUP(A17759,'Gegevens van scanner'!$F$7:$G$250,2,0),0)","v":0}]
[10017753,null,null,{"$f":"IFERROR(VLOOKUP(A17762,'Gegevens van scanner'!$F$7:$G$250,2,0),0)","v":0}]
[10017771,null,null,{"$f":"IFERROR(VLOOKUP(A17780,'Gegevens van scanner'!$F$7:$G$250,2,0),0)","v":0}]
[10017781,null,null,{"$f":"IFERROR(VLOOKUP(A17790,'Gegevens van scanner'!$F$7:$G$250,2,0),0)","v":0}]
[10017792,null,null,{"$f":"IFERROR(VLOOKUP(A17801,'Gegevens van scanner'!$F$7:$G$250,2,0),0)","v":0}]
[10017801,null,null,{"$f":"IFERROR(VLOOKUP(A17810,'Gegevens van scanner'!$F$7:$G$250,2,0),0)","v":0}]
[10017816,null,null,{"$f":"IFERROR(VLOOKUP(A17825,'Gegevens van scanner'!$F$7:$G$250,2,0),0)","v":0}]
[10017822,null,null,{"$f":"IFERROR(VLOOKUP(A17831,'Gegevens van scanner'!$F$7:$G$250,2,0),0)","v":0}]
[10017840,null,null,{"$f":"IFERROR(VLOOKUP(A17849,'Gegevens van scanner'!$F$7:$G$250,2,0),0)","v":0}]
[10017855,null,null,{"$f":"IFERROR(VLOOKUP(A17864,'Gegevens van scanner'!$F$7:$G$250,2,0),0)","v":0}]
[10017857,null,null,{"$f":"IFERROR(VLOOKUP(A17866,'Gegevens van scanner'!$F$7:$G$250,2,0),0)","v":0}]
[10017876,null,null,{"$f":"IFERROR(VLOOKUP(A17885,'Gegevens van scanner'!$F$7:$G$250,2,0),0)","v":0}]
[10017885,null,null,{"$f":"IFERROR(VLOOKUP(A17894,'Gegevens van scanner'!$F$7:$G$250,2,0),0)","v":0}]
[10017893,null,null,{"$f":"IFERROR(VLOOKUP(A17902,'Gegevens van scanner'!$F$7:$G$250,2,0),0)","v":0}]
[10017902,null,null,{"$f":"IFERROR(VLOOKUP(A17911,'Gegevens van scanner'!$F$7:$G$250,2,0),0)","v":0}]
[10017914,null,null,{"$f":"IFERROR(VLOOKUP(A17923,'Gegevens van scanner'!$F$7:$G$250,2,0),0)","v":0}]
[10017930,null,null,{"$f":"IFERROR(VLOOKUP(A17939,'Gegevens van scanner'!$F$7:$G$250,2,0),0)","v":0}]
[10017947,null,null,{"$f":"IFERROR(VLOOKUP(A17956,'Gegevens van scanner'!$F$7:$G$250,2,0),0)","v":0}]
[10017954,null,null,{"$f":"IFERROR(VLOOKUP(A17963,'Gegevens van scanner'!$F$7:$G$250,2,0),0)","v":0}]
[10017968,null,null,{"$f":"IFERROR(VLOOKUP(A17977,'Gegevens van scanner'!$F$7:$G$250,2,0),0)","v":0}]
[10017971,null,null,{"$f":"IFERROR(VLOOKUP(A17980,'Gegevens van scanner'!$F$7:$G$250,2,0),0)","v":0}]
[10017985,null,null,{"$f":"IFERROR(VLOOKUP(A17994,'Gegevens van scanner'!$F$7:$G$250,2,0),0)","v":0}]
[10017999,null,null,{"$f":"IFERROR(VLOOKUP(A18008,'Gegevens van scanner'!$F$7:$G$250,2,0),0)","v":0}]
[10018006,null,null,{"$f":"IFERROR(VLOOKUP(A18015,'Gegevens van scanner'!$F$7:$G$250,2,0),0)","v":0}]
[10018027,null,null,{"$f":"IFERROR(VLOOKUP(A18036,'Gegevens van scanner'!$F$7:$G$250,2,0),0)","v":0}]
[10018039,null,null,{"$f":"IFERROR(VLOOKUP(A18048,'Gegevens van scanner'!$F$7:$G$250,2,0),0)","v":0}]
[10018040,null,null,{"$f":"IFERROR(VLOOKUP(A18049,'Gegevens van scanner'!$F$7:$G$250,2,0),0)","v":0}]
[10018060,null,null,{"$f":"IFERROR(VLOOKUP(A18069,'Gegevens van scanner'!$F$7:$G$250,2,0),0)","v":0}]
[10018068,null,null,{"$f":"IFERROR(VLOOKUP(A18077,'Gegevens van scanner'!$F$7:$G$250,2,0),0)","v":0}]
[10018077,null,null,{"$f":"IFERROR(VLOOKUP(A18086,'Gegevens van scanner'!$F$7:$G$250,2,0),0)","v":0}]
[10018096,null,null,{"$f":"IFERROR(VLOOKUP(A18105,'Gegevens van scanner'!$F$7:$G$250,2,0),0)","v":0}]
[10018098,null,null,{"$f":"IFERROR(VLOOKUP(A18107,'Gegevens van scanner'!$F$7:$G$250,2,0),0)","v":0}]
[10018113,null,null,{"$f":"IFERROR(VLOOKUP(A18122,'Gegevens van scanner'!$F$7:$G$250,2,0),0)","v":0}]
[10018131,null,null,{"$f":"IFERROR(VLOOKUP(A18140,'Gegevens van scanner'!$F$7:$G$250,2,0),0)","v":0}]
[10018137,null,null,{"$f":"IFERROR(VLOOKUP(A18146,'Gegevens van scanner'!$F$7:$G$250,2,0),0)","v":0}]
[10018152,null,null,{"$f":"IFERROR(VLOOKUP(A18161,'Gegevens van scanner'!$F$7:$G$250,2,0),0)","v":0}]
[10018165,null,null,{"$f":"IFERROR(VLOOKUP(A18174,'Gegevens van scanner'!$F$7:$G$250,2,0),0)","v":0}]
[10018173,null,null,{"$f":"IFERROR(VLOOKUP(A18182,'Gegevens van scanner'!$F$7:$G$250,2,0),0)","v":0}]
[10018182,null,null,{"$f":"IFERROR(VLOOKUP(A18191,'Gegevens van scanner'!$F$7:$G$250,2,0),0)","v":0}]
[10018190,null,null,{"$f":"IFERROR(VLOOKUP(A18199,'Gegevens van scanner'!$F$7:$G$250,2,0),0)","v":0}]
[10018210,null,null,{"$f":"IFERROR(VLOOKUP(A18219,'Gegevens van scanner'!$F$7:$G$250,2,0),0)","v":0}]
[10018223,null,null,{"$f":"IFERROR(VLOOKUP(A18232,'Gegevens van scanner'!$F$7:$G$250,2,0),0)","v":0}]
[10018234,null,null,{"$f":"IFERROR(VLOOKUP(A18243,'Gegevens van scanner'!$F$7:$G$250,2,0),0)","v":0}]
[10018244,null,null,{"$f":"IFERROR(VLOOKUP(A18253,'Gegevens van scanner'!$F$7:$G$250,2,0),0)","v":0}]
[10018251,null,null,{"$f":"IFERROR(VLOOKUP(A18260,'Gegevens van scanner'!$F$7:$G$250,2,0),0)","v":0}]
[10018265,null,null,{"$f":"IFERROR(VLOOKUP(A18274,'Gegevens van scanner'!$F$7:$G$250,2,0),0)","v":0}]
[10018279,null,null,{"$f":"IFERROR(VLOOKUP(A18288,'Gegevens van scanner'!$F$7:$G$250,2,0),0)","v":0}]
[10018282,null,null,{"$f":"IFERROR(VLOOKUP(A18291,'Gegevens van scanner'!$F$7:$G$250,2,0),0)","v":0}]
[10018296,null,null,{"$f":"IFERROR(VLOOKUP(A18305,'Gegevens van scanner'!$F$7:$G$250,2,0),0)","v":0}]
[10018315,null,null,{"$f":"IFERROR(VLOOKUP(A18324,'Gegevens van scanner'!$F$7:$G$250,2,0),0)","v":0}]
[10018324,null,null,{"$f":"IFERROR(VLOOKUP(A18333,'Gegevens van scanner'!$F$7:$G$250,2,0),0)","v":0}]
[10018336,null,null,{"$f":"IFERROR(VLOOKUP(A18345,'Gegevens van scanner'!$F$7:$G$250,2,0),0)","v":0}]
[10018348,null,null,{"$f":"IFERROR(VLOOKUP(A18357,'Gegevens van scanner'!$F$7:$G$250,2,0),0)","v":0}]
[10018357,null,null,{"$f":"IFERROR(VLOOKUP(A18366,'Gegevens van scanner'!$F$7:$G$250,2,0),0)","v":0}]
[10018365,null,null,{"$f":"IFERROR(VLOOKUP(A18374,'Gegevens van scanner'!$F$7:$G$250,2,0),0)","v":0}]
[10018374,null,null,{"$f":"IFERROR(VLOOKUP(A18383,'Gegevens van scanner'!$F$7:$G$250,2,0),0)","v":0}]
[10018393,null,null,{"$f":"IFERROR(VLOOKUP(A18402,'Gegevens van scanner'!$F$7:$G$250,2,0),0)","v":0}]
[10018407,null,null,{"$f":"IFERROR(VLOOKUP(A18416,'Gegevens van scanner'!$F$7:$G$250,2,0),0)","v":0}]
[10018410,null,null,{"$f":"IFERROR(VLOOKUP(A18419,'Gegevens van scanner'!$F$7:$G$250,2,0),0)","v":0}]
[10018428,null,null,{"$f":"IFERROR(VLOOKUP(A18437,'Gegevens van scanner'!$F$7:$G$250,2,0),0)","v":0}]
[{"$f":"A18442+1","v":10018434},null,null,{"$f":"IFERROR(VLOOKUP(A18443,'Gegevens van scanner'!$F$7:$G$250,2,0),0)","v":0}]
[10018449,null,null,{"$f":"IFERROR(VLOOKUP(A18458,'Gegevens van scanner'!$F$7:$G$250,2,0),0)","v":0}]
[10018462,null,null,{"$f":"IFERROR(VLOOKUP(A18471,'Gegevens van scanner'!$F$7:$G$250,2,0),0)","v":0}]
[10018466,null,null,{"$f":"IFERROR(VLOOKUP(A18475,'Gegevens van scanner'!$F$7:$G$250,2,0),0)","v":0}]
[10018479,null,null,{"$f":"IFERROR(VLOOKUP(A18488,'Gegevens van scanner'!$F$7:$G$250,2,0),0)","v":0}]
[10018499,null,null,{"$f":"IFERROR(VLOOKUP(A18508,'Gegevens van scanner'!$F$7:$G$250,2,0),0)","v":0}]
[10018507,null,null,{"$f":"IFERROR(VLOOKUP(A18516,'Gegevens van scanner'!$F$7:$G$250,2,0),0)","v":0}]
[10018520,null,null,{"$f":"IFERROR(VLOOKUP(A18529,'Gegevens van scanner'!$F$7:$G$250,2,0),0)","v":0}]
[10018531,null,null,{"$f":"IFERROR(VLOOKUP(A18540,'Gegevens van scanner'!$F$7:$G$250,2,0),0)","v":0}]
[10018541,null,null,{"$f":"IFERROR(VLOOKUP(A18550,'Gegevens van scanner'!$F$7:$G$250,2,0),0)","v":0}]
[10018548,null,null,{"$f":"IFERROR(VLOOKUP(A18557,'Gegevens van scanner'!$F$7:$G$250,2,0),0)","v":0}]
[{"$f":"A18570+1","v":10018562},null,null,{"$f":"IFERROR(VLOOKUP(A18571,'Gegevens van scanner'!$F$7:$G$250,2,0),0)","v":0}]
[10018576,null,null,{"$f":"IFERROR(VLOOKUP(A18585,'Gegevens van scanner'!$F$7:$G$250,2,0),0)","v":0}]
[10018591,null,null,{"$f":"IFERROR(VLOOKUP(A18600,'Gegevens van scanner'!$F$7:$G$250,2,0),0)","v":0}]
[10018593,null,null,{"$f":"IFERROR(VLOOKUP(A18602,'Gegevens van scanner'!$F$7:$G$250,2,0),0)","v":0}]
[10018612,null,null,{"$f":"IFERROR(VLOOKUP(A18621,'Gegevens van scanner'!$F$7:$G$250,2,0),0)","v":0}]
[10018617,null,null,{"$f":"IFERROR(VLOOKUP(A18626,'Gegevens van scanner'!$F$7:$G$250,2,0),0)","v":0}]
[10018633,null,null,{"$f":"IFERROR(VLOOKUP(A18642,'Gegevens van scanner'!$F$7:$G$250,2,0),0)","v":0}]
[10018645,null,null,{"$f":"IFERROR(VLOOKUP(A18654,'Gegevens van scanner'!$F$7:$G$250,2,0),0)","v":0}]
[10018654,null,null,{"$f":"IFERROR(VLOOKUP(A18663,'Gegevens van scanner'!$F$7:$G$250,2,0),0)","v":0}]
[10018662,null,null,{"$f":"IFERROR(VLOOKUP(A18671,'Gegevens van scanner'!$F$7:$G$250,2,0),0)","v":0}]
[10018683,null,null,{"$f":"IFERROR(VLOOKUP(A18692,'Gegevens van scanner'!$F$7:$G$250,2,0),0)","v":0}]
[{"$f":"A18698+1","v":10018690},null,null,{"$f":"IFERROR(VLOOKUP(A18699,'Gegevens van scanner'!$F$7:$G$250,2,0),0)","v":0}]
[10018704,null,null,{"$f":"IFERROR(VLOOKUP(A18713,'Gegevens van scanner'!$F$7:$G$250,2,0),0)","v":0}]
[10018714,null,null,{"$f":"IFERROR(VLOOKUP(A18723,'Gegevens van scanner'!$F$7:$G$250,2,0),0)","v":0}]
[10018725,null,null,{"$f":"IFERROR(VLOOKUP(A18734,'Gegevens van scanner'!$F$7:$G$250,2,0),0)","v":0}]
[10018731,null,null,{"$f":"IFERROR(VLOOKUP(A18740,'Gegevens van scanner'!$F$7:$G$250,2,0),0)","v":0}]
[10018746,null,null,{"$f":"IFERROR(VLOOKUP(A18755,'Gegevens van scanner'!$F$7:$G$250,2,0),0)","v":0}]
[10018759,null,null,{"$f":"IFERROR(VLOOKUP(A18768,'Gegevens van scanner'!$F$7:$G$250,2,0),0)","v":0}]
[10018775,null,null,{"$f":"IFERROR(VLOOKUP(A18784,'Gegevens van scanner'!$F$7:$G$250,2,0),0)","v":0}]
[10018776,null,null,{"$f":"IFERROR(VLOOKUP(A18785,'Gegevens van scanner'!$F$7:$G$250,2,0),0)","v":0}]
[10018796,null,null,{"$f":"IFERROR(VLOOKUP(A18805,'Gegevens van scanner'!$F$7:$G$250,2,0),0)","v":0}]
[10018804,null,null,{"$f":"IFERROR(VLOOKUP(A18813,'Gegevens van scanner'!$F$7:$G$250,2,0),0)","v":0}]
[10018817,null,null,{"$f":"IFERROR(VLOOKUP(A18826,'Gegevens van scanner'!$F$7:$G$250,2,0),0)","v":0}]
[10018828,null,null,{"$f":"IFERROR(VLOOKUP(A18837,'Gegevens van scanner'!$F$7:$G$250,2,0),0)","v":0}]
[10018838,null,null,{"$f":"IFERROR(VLOOKUP(A18847,'Gegevens van scanner'!$F$7:$G$250,2,0),0)","v":0}]
[10018845,null,null,{"$f":"IFERROR(VLOOKUP(A18854,'Gegevens van scanner'!$F$7:$G$250,2,0),0)","v":0}]
[10018867,null,null,{"$f":"IFERROR(VLOOKUP(A18876,'Gegevens van scanner'!$F$7:$G$250,2,0),0)","v":0}]
[10018873,null,null,{"$f":"IFERROR(VLOOKUP(A18882,'Gegevens van scanner'!$F$7:$G$250,2,0),0)","v":0}]
[10018888,null,null,{"$f":"IFERROR(VLOOKUP(A18897,'Gegevens van scanner'!$F$7:$G$250,2,0),0)","v":0}]
[10018901,null,null,{"$f":"IFERROR(VLOOKUP(A18910,'Gegevens van scanner'!$F$7:$G$250,2,0),0)","v":0}]
[10018909,null,null,{"$f":"IFERROR(VLOOKUP(A18918,'Gegevens van scanner'!$F$7:$G$250,2,0),0)","v":0}]
[10018914,null,null,{"$f":"IFERROR(VLOOKUP(A18923,'Gegevens van scanner'!$F$7:$G$250,2,0),0)","v":0}]
[10018930,null,null,{"$f":"IFERROR(VLOOKUP(A18939,'Gegevens van scanner'!$F$7:$G$250,2,0),0)","v":0}]
[10018942,null,null,{"$f":"IFERROR(VLOOKUP(A18951,'Gegevens van scanner'!$F$7:$G$250,2,0),0)","v":0}]
[10018951,null,null,{"$f":"IFERROR(VLOOKUP(A18960,'Gegevens van scanner'!$F$7:$G$250,2,0),0)","v":0}]
[10018970,null,null,{"$f":"IFERROR(VLOOKUP(A18979,'Gegevens van scanner'!$F$7:$G$250,2,0),0)","v":0}]
[10018980,null,null,{"$f":"IFERROR(VLOOKUP(A18989,'Gegevens van scanner'!$F$7:$G$250,2,0),0)","v":0}]
[10018987,null,null,{"$f":"IFERROR(VLOOKUP(A18996,'Gegevens van scanner'!$F$7:$G$250,2,0),0)","v":0}]
[10019001,null,null,{"$f":"IFERROR(VLOOKUP(A19010,'Gegevens van scanner'!$F$7:$G$250,2,0),0)","v":0}]
[10019011,null,null,{"$f":"IFERROR(VLOOKUP(A19020,'Gegevens van scanner'!$F$7:$G$250,2,0),0)","v":0}]
[10019022,null,null,{"$f":"IFERROR(VLOOKUP(A19031,'Gegevens van scanner'!$F$7:$G$250,2,0),0)","v":0}]
[10019039,null,null,{"$f":"IFERROR(VLOOKUP(A19048,'Gegevens van scanner'!$F$7:$G$250,2,0),0)","v":0}]
[10019043,null,null,{"$f":"IFERROR(VLOOKUP(A19052,'Gegevens van scanner'!$F$7:$G$250,2,0),0)","v":0}]
[10019056,null,null,{"$f":"IFERROR(VLOOKUP(A19065,'Gegevens van scanner'!$F$7:$G$250,2,0),0)","v":0}]
[10019072,null,null,{"$f":"IFERROR(VLOOKUP(A19081,'Gegevens van scanner'!$F$7:$G$250,2,0),0)","v":0}]
[10019084,null,null,{"$f":"IFERROR(VLOOKUP(A19093,'Gegevens van scanner'!$F$7:$G$250,2,0),0)","v":0}]
[10019093,null,null,{"$f":"IFERROR(VLOOKUP(A19102,'Gegevens van scanner'!$F$7:$G$250,2,0),0)","v":0}]
[10019108,null,null,{"$f":"IFERROR(VLOOKUP(A19117,'Gegevens van scanner'!$F$7:$G$250,2,0),0)","v":0}]
[10019114,null,null,{"$f":"IFERROR(VLOOKUP(A19123,'Gegevens van scanner'!$F$7:$G$250,2,0),0)","v":0}]
[10019125,null,null,{"$f":"IFERROR(VLOOKUP(A19134,'Gegevens van scanner'!$F$7:$G$250,2,0),0)","v":0}]
[10019135,null,null,{"$f":"IFERROR(VLOOKUP(A19144,'Gegevens van scanner'!$F$7:$G$250,2,0),0)","v":0}]
[10019153,null,null,{"$f":"IFERROR(VLOOKUP(A19162,'Gegevens van scanner'!$F$7:$G$250,2,0),0)","v":0}]
[10019164,null,null,{"$f":"IFERROR(VLOOKUP(A19173,'Gegevens van scanner'!$F$7:$G$250,2,0),0)","v":0}]
[10019170,null,null,{"$f":"IFERROR(VLOOKUP(A19179,'Gegevens van scanner'!$F$7:$G$250,2,0),0)","v":0}]
[10019185,null,null,{"$f":"IFERROR(VLOOKUP(A19194,'Gegevens van scanner'!$F$7:$G$250,2,0),0)","v":0}]
[10019198,null,null,{"$f":"IFERROR(VLOOKUP(A19207,'Gegevens van scanner'!$F$7:$G$250,2,0),0)","v":0}]
[10019206,null,null,{"$f":"IFERROR(VLOOKUP(A19215,'Gegevens van scanner'!$F$7:$G$250,2,0),0)","v":0}]
[10019222,null,null,{"$f":"IFERROR(VLOOKUP(A19231,'Gegevens van scanner'!$F$7:$G$250,2,0),0)","v":0}]
[10019227,null,null,{"$f":"IFERROR(VLOOKUP(A19236,'Gegevens van scanner'!$F$7:$G$250,2,0),0)","v":0}]
[10019236,null,null,{"$f":"IFERROR(VLOOKUP(A19245,'Gegevens van scanner'!$F$7:$G$250,2,0),0)","v":0}]
[10019257,null,null,{"$f":"IFERROR(VLOOKUP(A19266,'Gegevens van scanner'!$F$7:$G$250,2,0),0)","v":0}]
[10019269,null,null,{"$f":"IFERROR(VLOOKUP(A19278,'Gegevens van scanner'!$F$7:$G$250,2,0),0)","v":0}]
[10019274,null,null,{"$f":"IFERROR(VLOOKUP(A19283,'Gegevens van scanner'!$F$7:$G$250,2,0),0)","v":0}]
[10019290,null,null,{"$f":"IFERROR(VLOOKUP(A19299,'Gegevens van scanner'!$F$7:$G$250,2,0),0)","v":0}]
[10019302,null,null,{"$f":"IFERROR(VLOOKUP(A19311,'Gegevens van scanner'!$F$7:$G$250,2,0),0)","v":0}]
[10019307,null,null,{"$f":"IFERROR(VLOOKUP(A19316,'Gegevens van scanner'!$F$7:$G$250,2,0),0)","v":0}]
[10019319,null,null,{"$f":"IFERROR(VLOOKUP(A19328,'Gegevens van scanner'!$F$7:$G$250,2,0),0)","v":0}]
[10019328,null,null,{"$f":"IFERROR(VLOOKUP(A19337,'Gegevens van scanner'!$F$7:$G$250,2,0),0)","v":0}]
[10019347,null,null,{"$f":"IFERROR(VLOOKUP(A19356,'Gegevens van scanner'!$F$7:$G$250,2,0),0)","v":0}]
[10019361,null,null,{"$f":"IFERROR(VLOOKUP(A19370,'Gegevens van scanner'!$F$7:$G$250,2,0),0)","v":0}]
[10019371,null,null,{"$f":"IFERROR(VLOOKUP(A19380,'Gegevens van scanner'!$F$7:$G$250,2,0),0)","v":0}]
[10019382,null,null,{"$f":"IFERROR(VLOOKUP(A19391,'Gegevens van scanner'!$F$7:$G$250,2,0),0)","v":0}]
[10019388,null,null,{"$f":"IFERROR(VLOOKUP(A19397,'Gegevens van scanner'!$F$7:$G$250,2,0),0)","v":0}]
[10019399,null,null,{"$f":"IFERROR(VLOOKUP(A19408,'Gegevens van scanner'!$F$7:$G$250,2,0),0)","v":0}]
[10019416,null,null,{"$f":"IFERROR(VLOOKUP(A19425,'Gegevens van scanner'!$F$7:$G$250,2,0),0)","v":0}]
[10019420,null,null,{"$f":"IFERROR(VLOOKUP(A19429,'Gegevens van scanner'!$F$7:$G$250,2,0),0)","v":0}]
[10019433,null,null,{"$f":"IFERROR(VLOOKUP(A19442,'Gegevens van scanner'!$F$7:$G$250,2,0),0)","v":0}]
[10019453,null,null,{"$f":"IFERROR(VLOOKUP(A19462,'Gegevens van scanner'!$F$7:$G$250,2,0),0)","v":0}]
[10019457,null,null,{"$f":"IFERROR(VLOOKUP(A19466,'Gegevens van scanner'!$F$7:$G$250,2,0),0)","v":0}]
[10019474,null,null,{"$f":"IFERROR(VLOOKUP(A19483,'Gegevens van scanner'!$F$7:$G$250,2,0),0)","v":0}]
[10019485,null,null,{"$f":"IFERROR(VLOOKUP(A19494,'Gegevens van scanner'!$F$7:$G$250,2,0),0)","v":0}]
[10019491,null,null,{"$f":"IFERROR(VLOOKUP(A19500,'Gegevens van scanner'!$F$7:$G$250,2,0),0)","v":0}]
[10019502,null,null,{"$f":"IFERROR(VLOOKUP(A19511,'Gegevens van scanner'!$F$7:$G$250,2,0),0)","v":0}]
[10019512,null,null,{"$f":"IFERROR(VLOOKUP(A19521,'Gegevens van scanner'!$F$7:$G$250,2,0),0)","v":0}]
[10019530,null,null,{"$f":"IFERROR(VLOOKUP(A19539,'Gegevens van scanner'!$F$7:$G$250,2,0),0)","v":0}]
[10019545,null,null,{"$f":"IFERROR(VLOOKUP(A19554,'Gegevens van scanner'!$F$7:$G$250,2,0),0)","v":0}]
[10019554,null,null,{"$f":"IFERROR(VLOOKUP(A19563,'Gegevens van scanner'!$F$7:$G$250,2,0),0)","v":0}]
[10019566,null,null,{"$f":"IFERROR(VLOOKUP(A19575,'Gegevens van scanner'!$F$7:$G$250,2,0),0)","v":0}]
[10019571,null,null,{"$f":"IFERROR(VLOOKUP(A19580,'Gegevens van scanner'!$F$7:$G$250,2,0),0)","v":0}]
[10019587,null,null,{"$f":"IFERROR(VLOOKUP(A19596,'Gegevens van scanner'!$F$7:$G$250,2,0),0)","v":0}]
[10019599,null,null,{"$f":"IFERROR(VLOOKUP(A19608,'Gegevens van scanner'!$F$7:$G$250,2,0),0)","v":0}]
[10019604,null,null,{"$f":"IFERROR(VLOOKUP(A19613,'Gegevens van scanner'!$F$7:$G$250,2,0),0)","v":0}]
[10019616,null,null,{"$f":"IFERROR(VLOOKUP(A19625,'Gegevens van scanner'!$F$7:$G$250,2,0),0)","v":0}]
[10019637,null,null,{"$f":"IFERROR(VLOOKUP(A19646,'Gegevens van scanner'!$F$7:$G$250,2,0),0)","v":0}]
[10019640,null,null,{"$f":"IFERROR(VLOOKUP(A19649,'Gegevens van scanner'!$F$7:$G$250,2,0),0)","v":0}]
[10019658,null,null,{"$f":"IFERROR(VLOOKUP(A19667,'Gegevens van scanner'!$F$7:$G$250,2,0),0)","v":0}]
[10019668,null,null,{"$f":"IFERROR(VLOOKUP(A19677,'Gegevens van scanner'!$F$7:$G$250,2,0),0)","v":0}]
[10019679,null,null,{"$f":"IFERROR(VLOOKUP(A19688,'Gegevens van scanner'!$F$7:$G$250,2,0),0)","v":0}]
[10019685,null,null,{"$f":"IFERROR(VLOOKUP(A19694,'Gegevens van scanner'!$F$7:$G$250,2,0),0)","v":0}]
[10019696,null,null,{"$f":"IFERROR(VLOOKUP(A19705,'Gegevens van scanner'!$F$7:$G$250,2,0),0)","v":0}]
[10019713,null,null,{"$f":"IFERROR(VLOOKUP(A19722,'Gegevens van scanner'!$F$7:$G$250,2,0),0)","v":0}]
[10019729,null,null,{"$f":"IFERROR(VLOOKUP(A19738,'Gegevens van scanner'!$F$7:$G$250,2,0),0)","v":0}]
[10019737,null,null,{"$f":"IFERROR(VLOOKUP(A19746,'Gegevens van scanner'!$F$7:$G$250,2,0),0)","v":0}]
[10019750,null,null,{"$f":"IFERROR(VLOOKUP(A19759,'Gegevens van scanner'!$F$7:$G$250,2,0),0)","v":0}]
[10019754,null,null,{"$f":"IFERROR(VLOOKUP(A19763,'Gegevens van scanner'!$F$7:$G$250,2,0),0)","v":0}]
[10019771,null,null,{"$f":"IFERROR(VLOOKUP(A19780,'Gegevens van scanner'!$F$7:$G$250,2,0),0)","v":0}]
[10019782,null,null,{"$f":"IFERROR(VLOOKUP(A19791,'Gegevens van scanner'!$F$7:$G$250,2,0),0)","v":0}]
[10019788,null,null,{"$f":"IFERROR(VLOOKUP(A19797,'Gegevens van scanner'!$F$7:$G$250,2,0),0)","v":0}]
[10019810,null,null,{"$f":"IFERROR(VLOOKUP(A19819,'Gegevens van scanner'!$F$7:$G$250,2,0),0)","v":0}]
[10019821,null,null,{"$f":"IFERROR(VLOOKUP(A19830,'Gegevens van scanner'!$F$7:$G$250,2,0),0)","v":0}]
[10019827,null,null,{"$f":"IFERROR(VLOOKUP(A19836,'Gegevens van scanner'!$F$7:$G$250,2,0),0)","v":0}]
[{"$f":"A19850+1","v":10019842},null,null,{"$f":"IFERROR(VLOOKUP(A19851,'Gegevens van scanner'!$F$7:$G$250,2,0),0)","v":0}]
[10019851,null,null,{"$f":"IFERROR(VLOOKUP(A19860,'Gegevens van scanner'!$F$7:$G$250,2,0),0)","v":0}]
[10019863,null,null,{"$f":"IFERROR(VLOOKUP(A19872,'Gegevens van scanner'!$F$7:$G$250,2,0),0)","v":0}]
[10019879,null,null,{"$f":"IFERROR(VLOOKUP(A19888,'Gegevens van scanner'!$F$7:$G$250,2,0),0)","v":0}]
[10019880,null,null,{"$f":"IFERROR(VLOOKUP(A19889,'Gegevens van scanner'!$F$7:$G$250,2,0),0)","v":0}]
[10019896,null,null,{"$f":"IFERROR(VLOOKUP(A19905,'Gegevens van scanner'!$F$7:$G$250,2,0),0)","v":0}]
[10019913,null,null,{"$f":"IFERROR(VLOOKUP(A19922,'Gegevens van scanner'!$F$7:$G$250,2,0),0)","v":0}]
[10019924,null,null,{"$f":"IFERROR(VLOOKUP(A19933,'Gegevens van scanner'!$F$7:$G$250,2,0),0)","v":0}]
[10019934,null,null,{"$f":"IFERROR(VLOOKUP(A19943,'Gegevens van scanner'!$F$7:$G$250,2,0),0)","v":0}]
[10019948,null,null,{"$f":"IFERROR(VLOOKUP(A19957,'Gegevens van scanner'!$F$7:$G$250,2,0),0)","v":0}]
[10019955,null,null,{"$f":"IFERROR(VLOOKUP(A19964,'Gegevens van scanner'!$F$7:$G$250,2,0),0)","v":0}]
[10019965,null,null,{"$f":"IFERROR(VLOOKUP(A19974,'Gegevens van scanner'!$F$7:$G$250,2,0),0)","v":0}]
[10019976,null,null,{"$f":"IFERROR(VLOOKUP(A19985,'Gegevens van scanner'!$F$7:$G$250,2,0),0)","v":0}]
[10019993,null,null,{"$f":"IFERROR(VLOOKUP(A20002,'Gegevens van scanner'!$F$7:$G$250,2,0),0)","v":0}]
[10020005,null,null,{"$f":"IFERROR(VLOOKUP(A20014,'Gegevens van scanner'!$F$7:$G$250,2,0),0)","v":0}]
[10020010,null,null,{"$f":"IFERROR(VLOOKUP(A20019,'Gegevens van scanner'!$F$7:$G$250,2,0),0)","v":0}]
[10020026,null,null,{"$f":"IFERROR(VLOOKUP(A20035,'Gegevens van scanner'!$F$7:$G$250,2,0),0)","v":0}]
[{"$f":"A20042+1","v":10020034},null,null,{"$f":"IFERROR(VLOOKUP(A20043,'Gegevens van scanner'!$F$7:$G$250,2,0),0)","v":0}]
[10020047,null,null,{"$f":"IFERROR(VLOOKUP(A20056,'Gegevens van scanner'!$F$7:$G$250,2,0),0)","v":0}]
[10020062,null,null,{"$f":"IFERROR(VLOOKUP(A20071,'Gegevens van scanner'!$F$7:$G$250,2,0),0)","v":0}]
[10020068,null,null,{"$f":"IFERROR(VLOOKUP(A20077,'Gegevens van scanner'!$F$7:$G$250,2,0),0)","v":0}]
[10020079,null,null,{"$f":"IFERROR(VLOOKUP(A20088,'Gegevens van scanner'!$F$7:$G$250,2,0),0)","v":0}]
[10020097,null,null,{"$f":"IFERROR(VLOOKUP(A20106,'Gegevens van scanner'!$F$7:$G$250,2,0),0)","v":0}]
[10020107,null,null,{"$f":"IFERROR(VLOOKUP(A20116,'Gegevens van scanner'!$F$7:$G$250,2,0),0)","v":0}]
[10020118,null,null,{"$f":"IFERROR(VLOOKUP(A20127,'Gegevens van scanner'!$F$7:$G$250,2,0),0)","v":0}]
[10020131,null,null,{"$f":"IFERROR(VLOOKUP(A20140,'Gegevens van scanner'!$F$7:$G$250,2,0),0)","v":0}]
[10020139,null,null,{"$f":"IFERROR(VLOOKUP(A20148,'Gegevens van scanner'!$F$7:$G$250,2,0),0)","v":0}]
[10020148,null,null,{"$f":"IFERROR(VLOOKUP(A20157,'Gegevens van scanner'!$F$7:$G$250,2,0),0)","v":0}]
[10020160,null,null,{"$f":"IFERROR(VLOOKUP(A20169,'Gegevens van scanner'!$F$7:$G$250,2,0),0)","v":0}]
[10020176,null,null,{"$f":"IFERROR(VLOOKUP(A20185,'Gegevens van scanner'!$F$7:$G$250,2,0),0)","v":0}]
[10020189,null,null,{"$f":"IFERROR(VLOOKUP(A20198,'Gegevens van scanner'!$F$7:$G$250,2,0),0)","v":0}]
[10020193,null,null,{"$f":"IFERROR(VLOOKUP(A20202,'Gegevens van scanner'!$F$7:$G$250,2,0),0)","v":0}]
[10020210,null,null,{"$f":"IFERROR(VLOOKUP(A20219,'Gegevens van scanner'!$F$7:$G$250,2,0),0)","v":0}]
[10020221,null,null,{"$f":"IFERROR(VLOOKUP(A20230,'Gegevens van scanner'!$F$7:$G$250,2,0),0)","v":0}]
[10020231,null,null,{"$f":"IFERROR(VLOOKUP(A20240,'Gegevens van scanner'!$F$7:$G$250,2,0),0)","v":0}]
[10020245,null,null,{"$f":"IFERROR(VLOOKUP(A20254,'Gegevens van scanner'!$F$7:$G$250,2,0),0)","v":0}]
[10020252,null,null,{"$f":"IFERROR(VLOOKUP(A20261,'Gegevens van scanner'!$F$7:$G$250,2,0),0)","v":0}]
[10020262,null,null,{"$f":"IFERROR(VLOOKUP(A20271,'Gegevens van scanner'!$F$7:$G$250,2,0),0)","v":0}]
[10020281,null,null,{"$f":"IFERROR(VLOOKUP(A20290,'Gegevens van scanner'!$F$7:$G$250,2,0),0)","v":0}]
[{"$f":"A20298+1","v":10020290},null,null,{"$f":"IFERROR(VLOOKUP(A20299,'Gegevens van scanner'!$F$7:$G$250,2,0),0)","v":0}]
[10020302,null,null,{"$f":"IFERROR(VLOOKUP(A20311,'Gegevens van scanner'!$F$7:$G$250,2,0),0)","v":0}]
[10020307,null,null,{"$f":"IFERROR(VLOOKUP(A20316,'Gegevens van scanner'!$F$7:$G$250,2,0),0)","v":0}]
[10020323,null,null,{"$f":"IFERROR(VLOOKUP(A20332,'Gegevens van scanner'!$F$7:$G$250,2,0),0)","v":0}]
[10020331,null,null,{"$f":"IFERROR(VLOOKUP(A20340,'Gegevens van scanner'!$F$7:$G$250,2,0),0)","v":0}]
[10020344,null,null,{"$f":"IFERROR(VLOOKUP(A20353,'Gegevens van scanner'!$F$7:$G$250,2,0),0)","v":0}]
[10020359,null,null,{"$f":"IFERROR(VLOOKUP(A20368,'Gegevens van scanner'!$F$7:$G$250,2,0),0)","v":0}]
[10020373,null,null,{"$f":"IFERROR(VLOOKUP(A20382,'Gegevens van scanner'!$F$7:$G$250,2,0),0)","v":0}]
[10020376,null,null,{"$f":"IFERROR(VLOOKUP(A20385,'Gegevens van scanner'!$F$7:$G$250,2,0),0)","v":0}]
[10020394,null,null,{"$f":"IFERROR(VLOOKUP(A20403,'Gegevens van scanner'!$F$7:$G$250,2,0),0)","v":0}]
[10020404,null,null,{"$f":"IFERROR(VLOOKUP(A20413,'Gegevens van scanner'!$F$7:$G$250,2,0),0)","v":0}]
[10020415,null,null,{"$f":"IFERROR(VLOOKUP(A20424,'Gegevens van scanner'!$F$7:$G$250,2,0),0)","v":0}]
[10020428,null,null,{"$f":"IFERROR(VLOOKUP(A20437,'Gegevens van scanner'!$F$7:$G$250,2,0),0)","v":0}]
[10020436,null,null,{"$f":"IFERROR(VLOOKUP(A20445,'Gegevens van scanner'!$F$7:$G$250,2,0),0)","v":0}]
[10020445,null,null,{"$f":"IFERROR(VLOOKUP(A20454,'Gegevens van scanner'!$F$7:$G$250,2,0),0)","v":0}]
[10020457,null,null,{"$f":"IFERROR(VLOOKUP(A20466,'Gegevens van scanner'!$F$7:$G$250,2,0),0)","v":0}]
[10020473,null,null,{"$f":"IFERROR(VLOOKUP(A20482,'Gegevens van scanner'!$F$7:$G$250,2,0),0)","v":0}]
[10020486,null,null,{"$f":"IFERROR(VLOOKUP(A20495,'Gegevens van scanner'!$F$7:$G$250,2,0),0)","v":0}]
[10020490,null,null,{"$f":"IFERROR(VLOOKUP(A20499,'Gegevens van scanner'!$F$7:$G$250,2,0),0)","v":0}]
[10020507,null,null,{"$f":"IFERROR(VLOOKUP(A20516,'Gegevens van scanner'!$F$7:$G$250,2,0),0)","v":0}]
[10020514,null,null,{"$f":"IFERROR(VLOOKUP(A20523,'Gegevens van scanner'!$F$7:$G$250,2,0),0)","v":0}]
[10020528,null,null,{"$f":"IFERROR(VLOOKUP(A20537,'Gegevens van scanner'!$F$7:$G$250,2,0),0)","v":0}]
[10020542,null,null,{"$f":"IFERROR(VLOOKUP(A20551,'Gegevens van scanner'!$F$7:$G$250,2,0),0)","v":0}]
[10020549,null,null,{"$f":"IFERROR(VLOOKUP(A20558,'Gegevens van scanner'!$F$7:$G$250,2,0),0)","v":0}]
[10020559,null,null,{"$f":"IFERROR(VLOOKUP(A20568,'Gegevens van scanner'!$F$7:$G$250,2,0),0)","v":0}]
[10020578,null,null,{"$f":"IFERROR(VLOOKUP(A20587,'Gegevens van scanner'!$F$7:$G$250,2,0),0)","v":0}]
[10020587,null,null,{"$f":"IFERROR(VLOOKUP(A20596,'Gegevens van scanner'!$F$7:$G$250,2,0),0)","v":0}]
[10020599,null,null,{"$f":"IFERROR(VLOOKUP(A20608,'Gegevens van scanner'!$F$7:$G$250,2,0),0)","v":0}]
[10020615,null,null,{"$f":"IFERROR(VLOOKUP(A20624,'Gegevens van scanner'!$F$7:$G$250,2,0),0)","v":0}]
[10020620,null,null,{"$f":"IFERROR(VLOOKUP(A20629,'Gegevens van scanner'!$F$7:$G$250,2,0),0)","v":0}]
[10020628,null,null,{"$f":"IFERROR(VLOOKUP(A20637,'Gegevens van scanner'!$F$7:$G$250,2,0),0)","v":0}]
[10020641,null,null,{"$f":"IFERROR(VLOOKUP(A20650,'Gegevens van scanner'!$F$7:$G$250,2,0),0)","v":0}]
[10020656,null,null,{"$f":"IFERROR(VLOOKUP(A20665,'Gegevens van scanner'!$F$7:$G$250,2,0),0)","v":0}]
[10020670,null,null,{"$f":"IFERROR(VLOOKUP(A20679,'Gegevens van scanner'!$F$7:$G$250,2,0),0)","v":0}]
[10020683,null,null,{"$f":"IFERROR(VLOOKUP(A20692,'Gegevens van scanner'!$F$7:$G$250,2,0),0)","v":0}]
[10020691,null,null,{"$f":"IFERROR(VLOOKUP(A20700,'Gegevens van scanner'!$F$7:$G$250,2,0),0)","v":0}]
[10020704,null,null,{"$f":"IFERROR(VLOOKUP(A20713,'Gegevens van scanner'!$F$7:$G$250,2,0),0)","v":0}]
[10020719,null,null,{"$f":"IFERROR(VLOOKUP(A20728,'Gegevens van scanner'!$F$7:$G$250,2,0),0)","v":0}]
[10020721,null,null,{"$f":"IFERROR(VLOOKUP(A20730,'Gegevens van scanner'!$F$7:$G$250,2,0),0)","v":0}]
[10020736,null,null,{"$f":"IFERROR(VLOOKUP(A20745,'Gegevens van scanner'!$F$7:$G$250,2,0),0)","v":0}]
[10020754,null,null,{"$f":"IFERROR(VLOOKUP(A20763,'Gegevens van scanner'!$F$7:$G$250,2,0),0)","v":0}]
[10020760,null,null,{"$f":"IFERROR(VLOOKUP(A20769,'Gegevens van scanner'!$F$7:$G$250,2,0),0)","v":0}]
[10020775,null,null,{"$f":"IFERROR(VLOOKUP(A20784,'Gegevens van scanner'!$F$7:$G$250,2,0),0)","v":0}]
[10020788,null,null,{"$f":"IFERROR(VLOOKUP(A20797,'Gegevens van scanner'!$F$7:$G$250,2,0),0)","v":0}]
[10020796,null,null,{"$f":"IFERROR(VLOOKUP(A20805,'Gegevens van scanner'!$F$7:$G$250,2,0),0)","v":0}]
[10020805,null,null,{"$f":"IFERROR(VLOOKUP(A20814,'Gegevens van scanner'!$F$7:$G$250,2,0),0)","v":0}]
[10020813,null,null,{"$f":"IFERROR(VLOOKUP(A20822,'Gegevens van scanner'!$F$7:$G$250,2,0),0)","v":0}]
[10020833,null,null,{"$f":"IFERROR(VLOOKUP(A20842,'Gegevens van scanner'!$F$7:$G$250,2,0),0)","v":0}]
[10020846,null,null,{"$f":"IFERROR(VLOOKUP(A20855,'Gegevens van scanner'!$F$7:$G$250,2,0),0)","v":0}]
[10020850,null,null,{"$f":"IFERROR(VLOOKUP(A20859,'Gegevens van scanner'!$F$7:$G$250,2,0),0)","v":0}]
[10020867,null,null,{"$f":"IFERROR(VLOOKUP(A20876,'Gegevens van scanner'!$F$7:$G$250,2,0),0)","v":0}]
[10020874,null,null,{"$f":"IFERROR(VLOOKUP(A20883,'Gegevens van scanner'!$F$7:$G$250,2,0),0)","v":0}]
[10020888,null,null,{"$f":"IFERROR(VLOOKUP(A20897,'Gegevens van scanner'!$F$7:$G$250,2,0),0)","v":0}]
[10020902,null,null,{"$f":"IFERROR(VLOOKUP(A20911,'Gegevens van scanner'!$F$7:$G$250,2,0),0)","v":0}]
[10020905,null,null,{"$f":"IFERROR(VLOOKUP(A20914,'Gegevens van scanner'!$F$7:$G$250,2,0),0)","v":0}]
[10020919,null,null,{"$f":"IFERROR(VLOOKUP(A20928,'Gegevens van scanner'!$F$7:$G$250,2,0),0)","v":0}]
[10020938,null,null,{"$f":"IFERROR(VLOOKUP(A20947,'Gegevens van scanner'!$F$7:$G$250,2,0),0)","v":0}]
[10020947,null,null,{"$f":"IFERROR(VLOOKUP(A20956,'Gegevens van scanner'!$F$7:$G$250,2,0),0)","v":0}]
[10020959,null,null,{"$f":"IFERROR(VLOOKUP(A20968,'Gegevens van scanner'!$F$7:$G$250,2,0),0)","v":0}]
[10020971,null,null,{"$f":"IFERROR(VLOOKUP(A20980,'Gegevens van scanner'!$F$7:$G$250,2,0),0)","v":0}]
[10020980,null,null,{"$f":"IFERROR(VLOOKUP(A20989,'Gegevens van scanner'!$F$7:$G$250,2,0),0)","v":0}]
[10020988,null,null,{"$f":"IFERROR(VLOOKUP(A20997,'Gegevens van scanner'!$F$7:$G$250,2,0),0)","v":0}]
[10021001,null,null,{"$f":"IFERROR(VLOOKUP(A21010,'Gegevens van scanner'!$F$7:$G$250,2,0),0)","v":0}]
[10021016,null,null,{"$f":"IFERROR(VLOOKUP(A21025,'Gegevens van scanner'!$F$7:$G$250,2,0),0)","v":0}]
[10021030,null,null,{"$f":"IFERROR(VLOOKUP(A21039,'Gegevens van scanner'!$F$7:$G$250,2,0),0)","v":0}]
[10021033,null,null,{"$f":"IFERROR(VLOOKUP(A21042,'Gegevens van scanner'!$F$7:$G$250,2,0),0)","v":0}]
[10021051,null,null,{"$f":"IFERROR(VLOOKUP(A21060,'Gegevens van scanner'!$F$7:$G$250,2,0),0)","v":0}]
[10021057,null,null,{"$f":"IFERROR(VLOOKUP(A21066,'Gegevens van scanner'!$F$7:$G$250,2,0),0)","v":0}]
[10021072,null,null,{"$f":"IFERROR(VLOOKUP(A21081,'Gegevens van scanner'!$F$7:$G$250,2,0),0)","v":0}]
[10021085,null,null,{"$f":"IFERROR(VLOOKUP(A21094,'Gegevens van scanner'!$F$7:$G$250,2,0),0)","v":0}]
[10021093,null,null,{"$f":"IFERROR(VLOOKUP(A21102,'Gegevens van scanner'!$F$7:$G$250,2,0),0)","v":0}]
[10021102,null,null,{"$f":"IFERROR(VLOOKUP(A21111,'Gegevens van scanner'!$F$7:$G$250,2,0),0)","v":0}]
[{"$f":"A21130+1","v":10021122},null,null,{"$f":"IFERROR(VLOOKUP(A21131,'Gegevens van scanner'!$F$7:$G$250,2,0),0)","v":0}]
[10021130,null,null,{"$f":"IFERROR(VLOOKUP(A21139,'Gegevens van scanner'!$F$7:$G$250,2,0),0)","v":0}]
[10021143,null,null,{"$f":"IFERROR(VLOOKUP(A21152,'Gegevens van scanner'!$F$7:$G$250,2,0),0)","v":0}]
[10021154,null,null,{"$f":"IFERROR(VLOOKUP(A21163,'Gegevens van scanner'!$F$7:$G$250,2,0),0)","v":0}]
[10021164,null,null,{"$f":"IFERROR(VLOOKUP(A21173,'Gegevens van scanner'!$F$7:$G$250,2,0),0)","v":0}]
[10021171,null,null,{"$f":"IFERROR(VLOOKUP(A21180,'Gegevens van scanner'!$F$7:$G$250,2,0),0)","v":0}]
[10021185,null,null,{"$f":"IFERROR(VLOOKUP(A21194,'Gegevens van scanner'!$F$7:$G$250,2,0),0)","v":0}]
[10021199,null,null,{"$f":"IFERROR(VLOOKUP(A21208,'Gegevens van scanner'!$F$7:$G$250,2,0),0)","v":0}]
[10021214,null,null,{"$f":"IFERROR(VLOOKUP(A21223,'Gegevens van scanner'!$F$7:$G$250,2,0),0)","v":0}]
[10021216,null,null,{"$f":"IFERROR(VLOOKUP(A21225,'Gegevens van scanner'!$F$7:$G$250,2,0),0)","v":0}]
[10021235,null,null,{"$f":"IFERROR(VLOOKUP(A21244,'Gegevens van scanner'!$F$7:$G$250,2,0),0)","v":0}]
[10021244,null,null,{"$f":"IFERROR(VLOOKUP(A21253,'Gegevens van scanner'!$F$7:$G$250,2,0),0)","v":0}]
[10021256,null,null,{"$f":"IFERROR(VLOOKUP(A21265,'Gegevens van scanner'!$F$7:$G$250,2,0),0)","v":0}]
[10021268,null,null,{"$f":"IFERROR(VLOOKUP(A21277,'Gegevens van scanner'!$F$7:$G$250,2,0),0)","v":0}]
[10021277,null,null,{"$f":"IFERROR(VLOOKUP(A21286,'Gegevens van scanner'!$F$7:$G$250,2,0),0)","v":0}]
[10021285,null,null,{"$f":"IFERROR(VLOOKUP(A21294,'Gegevens van scanner'!$F$7:$G$250,2,0),0)","v":0}]
[10021306,null,null,{"$f":"IFERROR(VLOOKUP(A21315,'Gegevens van scanner'!$F$7:$G$250,2,0),0)","v":0}]
[10021313,null,null,{"$f":"IFERROR(VLOOKUP(A21322,'Gegevens van scanner'!$F$7:$G$250,2,0),0)","v":0}]
[10021327,null,null,{"$f":"IFERROR(VLOOKUP(A21336,'Gegevens van scanner'!$F$7:$G$250,2,0),0)","v":0}]
[10021330,null,null,{"$f":"IFERROR(VLOOKUP(A21339,'Gegevens van scanner'!$F$7:$G$250,2,0),0)","v":0}]
[10021348,null,null,{"$f":"IFERROR(VLOOKUP(A21357,'Gegevens van scanner'!$F$7:$G$250,2,0),0)","v":0}]
[10021354,null,null,{"$f":"IFERROR(VLOOKUP(A21363,'Gegevens van scanner'!$F$7:$G$250,2,0),0)","v":0}]
[10021369,null,null,{"$f":"IFERROR(VLOOKUP(A21378,'Gegevens van scanner'!$F$7:$G$250,2,0),0)","v":0}]
[10021382,null,null,{"$f":"IFERROR(VLOOKUP(A21391,'Gegevens van scanner'!$F$7:$G$250,2,0),0)","v":0}]
[10021398,null,null,{"$f":"IFERROR(VLOOKUP(A21407,'Gegevens van scanner'!$F$7:$G$250,2,0),0)","v":0}]
[10021399,null,null,{"$f":"IFERROR(VLOOKUP(A21408,'Gegevens van scanner'!$F$7:$G$250,2,0),0)","v":0}]
[10021419,null,null,{"$f":"IFERROR(VLOOKUP(A21428,'Gegevens van scanner'!$F$7:$G$250,2,0),0)","v":0}]
[10021427,null,null,{"$f":"IFERROR(VLOOKUP(A21436,'Gegevens van scanner'!$F$7:$G$250,2,0),0)","v":0}]
[10021440,null,null,{"$f":"IFERROR(VLOOKUP(A21449,'Gegevens van scanner'!$F$7:$G$250,2,0),0)","v":0}]
[10021451,null,null,{"$f":"IFERROR(VLOOKUP(A21460,'Gegevens van scanner'!$F$7:$G$250,2,0),0)","v":0}]
[10021461,null,null,{"$f":"IFERROR(VLOOKUP(A21470,'Gegevens van scanner'!$F$7:$G$250,2,0),0)","v":0}]
[10021468,null,null,{"$f":"IFERROR(VLOOKUP(A21477,'Gegevens van scanner'!$F$7:$G$250,2,0),0)","v":0}]
[10021482,null,null,{"$f":"IFERROR(VLOOKUP(A21491,'Gegevens van scanner'!$F$7:$G$250,2,0),0)","v":0}]
[10021496,null,null,{"$f":"IFERROR(VLOOKUP(A21505,'Gegevens van scanner'!$F$7:$G$250,2,0),0)","v":0}]
[10021511,null,null,{"$f":"IFERROR(VLOOKUP(A21520,'Gegevens van scanner'!$F$7:$G$250,2,0),0)","v":0}]
[10021524,null,null,{"$f":"IFERROR(VLOOKUP(A21533,'Gegevens van scanner'!$F$7:$G$250,2,0),0)","v":0}]
[10021532,null,null,{"$f":"IFERROR(VLOOKUP(A21541,'Gegevens van scanner'!$F$7:$G$250,2,0),0)","v":0}]
[10021537,null,null,{"$f":"IFERROR(VLOOKUP(A21546,'Gegevens van scanner'!$F$7:$G$250,2,0),0)","v":0}]
[10021553,null,null,{"$f":"IFERROR(VLOOKUP(A21562,'Gegevens van scanner'!$F$7:$G$250,2,0),0)","v":0}]
[10021565,null,null,{"$f":"IFERROR(VLOOKUP(A21574,'Gegevens van scanner'!$F$7:$G$250,2,0),0)","v":0}]
[10021574,null,null,{"$f":"IFERROR(VLOOKUP(A21583,'Gegevens van scanner'!$F$7:$G$250,2,0),0)","v":0}]
[10021593,null,null,{"$f":"IFERROR(VLOOKUP(A21602,'Gegevens van scanner'!$F$7:$G$250,2,0),0)","v":0}]
[10021603,null,null,{"$f":"IFERROR(VLOOKUP(A21612,'Gegevens van scanner'!$F$7:$G$250,2,0),0)","v":0}]
[10021610,null,null,{"$f":"IFERROR(VLOOKUP(A21619,'Gegevens van scanner'!$F$7:$G$250,2,0),0)","v":0}]
[10021624,null,null,{"$f":"IFERROR(VLOOKUP(A21633,'Gegevens van scanner'!$F$7:$G$250,2,0),0)","v":0}]
[10021638,null,null,{"$f":"IFERROR(VLOOKUP(A21647,'Gegevens van scanner'!$F$7:$G$250,2,0),0)","v":0}]
[10021645,null,null,{"$f":"IFERROR(VLOOKUP(A21654,'Gegevens van scanner'!$F$7:$G$250,2,0),0)","v":0}]
[10021662,null,null,{"$f":"IFERROR(VLOOKUP(A21671,'Gegevens van scanner'!$F$7:$G$250,2,0),0)","v":0}]
[10021666,null,null,{"$f":"IFERROR(VLOOKUP(A21675,'Gegevens van scanner'!$F$7:$G$250,2,0),0)","v":0}]
[10021679,null,null,{"$f":"IFERROR(VLOOKUP(A21688,'Gegevens van scanner'!$F$7:$G$250,2,0),0)","v":0}]
[10021695,null,null,{"$f":"IFERROR(VLOOKUP(A21704,'Gegevens van scanner'!$F$7:$G$250,2,0),0)","v":0}]
[10021707,null,null,{"$f":"IFERROR(VLOOKUP(A21716,'Gegevens van scanner'!$F$7:$G$250,2,0),0)","v":0}]
[10021716,null,null,{"$f":"IFERROR(VLOOKUP(A21725,'Gegevens van scanner'!$F$7:$G$250,2,0),0)","v":0}]
[10021724,null,null,{"$f":"IFERROR(VLOOKUP(A21733,'Gegevens van scanner'!$F$7:$G$250,2,0),0)","v":0}]
[10021737,null,null,{"$f":"IFERROR(VLOOKUP(A21746,'Gegevens van scanner'!$F$7:$G$250,2,0),0)","v":0}]
[10021748,null,null,{"$f":"IFERROR(VLOOKUP(A21757,'Gegevens van scanner'!$F$7:$G$250,2,0),0)","v":0}]
[10021758,null,null,{"$f":"IFERROR(VLOOKUP(A21767,'Gegevens van scanner'!$F$7:$G$250,2,0),0)","v":0}]
[10021776,null,null,{"$f":"IFERROR(VLOOKUP(A21785,'Gegevens van scanner'!$F$7:$G$250,2,0),0)","v":0}]
[10021787,null,null,{"$f":"IFERROR(VLOOKUP(A21796,'Gegevens van scanner'!$F$7:$G$250,2,0),0)","v":0}]
[10021793,null,null,{"$f":"IFERROR(VLOOKUP(A21802,'Gegevens van scanner'!$F$7:$G$250,2,0),0)","v":0}]
[10021808,null,null,{"$f":"IFERROR(VLOOKUP(A21817,'Gegevens van scanner'!$F$7:$G$250,2,0),0)","v":0}]
[10021821,null,null,{"$f":"IFERROR(VLOOKUP(A21830,'Gegevens van scanner'!$F$7:$G$250,2,0),0)","v":0}]
[10021829,null,null,{"$f":"IFERROR(VLOOKUP(A21838,'Gegevens van scanner'!$F$7:$G$250,2,0),0)","v":0}]
[10021845,null,null,{"$f":"IFERROR(VLOOKUP(A21854,'Gegevens van scanner'!$F$7:$G$250,2,0),0)","v":0}]
[10021850,null,null,{"$f":"IFERROR(VLOOKUP(A21859,'Gegevens van scanner'!$F$7:$G$250,2,0),0)","v":0}]
[10021862,null,null,{"$f":"IFERROR(VLOOKUP(A21871,'Gegevens van scanner'!$F$7:$G$250,2,0),0)","v":0}]
[10021871,null,null,{"$f":"IFERROR(VLOOKUP(A21880,'Gegevens van scanner'!$F$7:$G$250,2,0),0)","v":0}]
[{"$f":"A21898+1","v":10021890},null,null,{"$f":"IFERROR(VLOOKUP(A21899,'Gegevens van scanner'!$F$7:$G$250,2,0),0)","v":0}]
[10021900,null,null,{"$f":"IFERROR(VLOOKUP(A21909,'Gegevens van scanner'!$F$7:$G$250,2,0),0)","v":0}]
[10021907,null,null,{"$f":"IFERROR(VLOOKUP(A21916,'Gegevens van scanner'!$F$7:$G$250,2,0),0)","v":0}]
[10021921,null,null,{"$f":"IFERROR(VLOOKUP(A21930,'Gegevens van scanner'!$F$7:$G$250,2,0),0)","v":0}]
[10021931,null,null,{"$f":"IFERROR(VLOOKUP(A21940,'Gegevens van scanner'!$F$7:$G$250,2,0),0)","v":0}]
[10021942,null,null,{"$f":"IFERROR(VLOOKUP(A21951,'Gegevens van scanner'!$F$7:$G$250,2,0),0)","v":0}]
[10021959,null,null,{"$f":"IFERROR(VLOOKUP(A21968,'Gegevens van scanner'!$F$7:$G$250,2,0),0)","v":0}]
[10021963,null,null,{"$f":"IFERROR(VLOOKUP(A21972,'Gegevens van scanner'!$F$7:$G$250,2,0),0)","v":0}]
[10021976,null,null,{"$f":"IFERROR(VLOOKUP(A21985,'Gegevens van scanner'!$F$7:$G$250,2,0),0)","v":0}]
[10021992,null,null,{"$f":"IFERROR(VLOOKUP(A22001,'Gegevens van scanner'!$F$7:$G$250,2,0),0)","v":0}]
[10022004,null,null,{"$f":"IFERROR(VLOOKUP(A22013,'Gegevens van scanner'!$F$7:$G$250,2,0),0)","v":0}]
[10022013,null,null,{"$f":"IFERROR(VLOOKUP(A22022,'Gegevens van scanner'!$F$7:$G$250,2,0),0)","v":0}]
[10022021,null,null,{"$f":"IFERROR(VLOOKUP(A22030,'Gegevens van scanner'!$F$7:$G$250,2,0),0)","v":0}]
[10022034,null,null,{"$f":"IFERROR(VLOOKUP(A22043,'Gegevens van scanner'!$F$7:$G$250,2,0),0)","v":0}]
[10022045,null,null,{"$f":"IFERROR(VLOOKUP(A22054,'Gegevens van scanner'!$F$7:$G$250,2,0),0)","v":0}]
[10022055,null,null,{"$f":"IFERROR(VLOOKUP(A22064,'Gegevens van scanner'!$F$7:$G$250,2,0),0)","v":0}]
[10022073,null,null,{"$f":"IFERROR(VLOOKUP(A22082,'Gegevens van scanner'!$F$7:$G$250,2,0),0)","v":0}]
[10022084,null,null,{"$f":"IFERROR(VLOOKUP(A22093,'Gegevens van scanner'!$F$7:$G$250,2,0),0)","v":0}]
[10022090,null,null,{"$f":"IFERROR(VLOOKUP(A22099,'Gegevens van scanner'!$F$7:$G$250,2,0),0)","v":0}]
[10022105,null,null,{"$f":"IFERROR(VLOOKUP(A22114,'Gegevens van scanner'!$F$7:$G$250,2,0),0)","v":0}]
[10022118,null,null,{"$f":"IFERROR(VLOOKUP(A22127,'Gegevens van scanner'!$F$7:$G$250,2,0),0)","v":0}]
[10022125,null,null,{"$f":"IFERROR(VLOOKUP(A22134,'Gegevens van scanner'!$F$7:$G$250,2,0),0)","v":0}]
[10022135,null,null,{"$f":"IFERROR(VLOOKUP(A22144,'Gegevens van scanner'!$F$7:$G$250,2,0),0)","v":0}]
[10022153,null,null,{"$f":"IFERROR(VLOOKUP(A22162,'Gegevens van scanner'!$F$7:$G$250,2,0),0)","v":0}]
[10022168,null,null,{"$f":"IFERROR(VLOOKUP(A22177,'Gegevens van scanner'!$F$7:$G$250,2,0),0)","v":0}]
[10022177,null,null,{"$f":"IFERROR(VLOOKUP(A22186,'Gegevens van scanner'!$F$7:$G$250,2,0),0)","v":0}]
[10022189,null,null,{"$f":"IFERROR(VLOOKUP(A22198,'Gegevens van scanner'!$F$7:$G$250,2,0),0)","v":0}]
[10022194,null,null,{"$f":"IFERROR(VLOOKUP(A22203,'Gegevens van scanner'!$F$7:$G$250,2,0),0)","v":0}]
[{"$f":"A22218+1","v":10022210},null,null,{"$f":"IFERROR(VLOOKUP(A22219,'Gegevens van scanner'!$F$7:$G$250,2,0),0)","v":0}]
[10022222,null,null,{"$f":"IFERROR(VLOOKUP(A22231,'Gegevens van scanner'!$F$7:$G$250,2,0),0)","v":0}]
[10022227,null,null,{"$f":"IFERROR(VLOOKUP(A22236,'Gegevens van scanner'!$F$7:$G$250,2,0),0)","v":0}]
[10022239,null,null,{"$f":"IFERROR(VLOOKUP(A22248,'Gegevens van scanner'!$F$7:$G$250,2,0),0)","v":0}]
[10022260,null,null,{"$f":"IFERROR(VLOOKUP(A22269,'Gegevens van scanner'!$F$7:$G$250,2,0),0)","v":0}]
[10022267,null,null,{"$f":"IFERROR(VLOOKUP(A22276,'Gegevens van scanner'!$F$7:$G$250,2,0),0)","v":0}]
[10022281,null,null,{"$f":"IFERROR(VLOOKUP(A22290,'Gegevens van scanner'!$F$7:$G$250,2,0),0)","v":0}]
[10022291,null,null,{"$f":"IFERROR(VLOOKUP(A22300,'Gegevens van scanner'!$F$7:$G$250,2,0),0)","v":0}]
[10022302,null,null,{"$f":"IFERROR(VLOOKUP(A22311,'Gegevens van scanner'!$F$7:$G$250,2,0),0)","v":0}]
[10022308,null,null,{"$f":"IFERROR(VLOOKUP(A22317,'Gegevens van scanner'!$F$7:$G$250,2,0),0)","v":0}]
[10022319,null,null,{"$f":"IFERROR(VLOOKUP(A22328,'Gegevens van scanner'!$F$7:$G$250,2,0),0)","v":0}]
[10022336,null,null,{"$f":"IFERROR(VLOOKUP(A22345,'Gegevens van scanner'!$F$7:$G$250,2,0),0)","v":0}]
[10022352,null,null,{"$f":"IFERROR(VLOOKUP(A22361,'Gegevens van scanner'!$F$7:$G$250,2,0),0)","v":0}]
[10022364,null,null,{"$f":"IFERROR(VLOOKUP(A22373,'Gegevens van scanner'!$F$7:$G$250,2,0),0)","v":0}]
[10022373,null,null,{"$f":"IFERROR(VLOOKUP(A22382,'Gegevens van scanner'!$F$7:$G$250,2,0),0)","v":0}]
[10022377,null,null,{"$f":"IFERROR(VLOOKUP(A22386,'Gegevens van scanner'!$F$7:$G$250,2,0),0)","v":0}]
[10022394,null,null,{"$f":"IFERROR(VLOOKUP(A22403,'Gegevens van scanner'!$F$7:$G$250,2,0),0)","v":0}]
[10022405,null,null,{"$f":"IFERROR(VLOOKUP(A22414,'Gegevens van scanner'!$F$7:$G$250,2,0),0)","v":0}]
[10022411,null,null,{"$f":"IFERROR(VLOOKUP(A22420,'Gegevens van scanner'!$F$7:$G$250,2,0),0)","v":0}]
[10022433,null,null,{"$f":"IFERROR(VLOOKUP(A22442,'Gegevens van scanner'!$F$7:$G$250,2,0),0)","v":0}]
[10022444,null,null,{"$f":"IFERROR(VLOOKUP(A22453,'Gegevens van scanner'!$F$7:$G$250,2,0),0)","v":0}]
[10022450,null,null,{"$f":"IFERROR(VLOOKUP(A22459,'Gegevens van scanner'!$F$7:$G$250,2,0),0)","v":0}]
[10022465,null,null,{"$f":"IFERROR(VLOOKUP(A22474,'Gegevens van scanner'!$F$7:$G$250,2,0),0)","v":0}]
[10022474,null,null,{"$f":"IFERROR(VLOOKUP(A22483,'Gegevens van scanner'!$F$7:$G$250,2,0),0)","v":0}]
[10022486,null,null,{"$f":"IFERROR(VLOOKUP(A22495,'Gegevens van scanner'!$F$7:$G$250,2,0),0)","v":0}]
[10022502,null,null,{"$f":"IFERROR(VLOOKUP(A22511,'Gegevens van scanner'!$F$7:$G$250,2,0),0)","v":0}]
[10022507,null,null,{"$f":"IFERROR(VLOOKUP(A22516,'Gegevens van scanner'!$F$7:$G$250,2,0),0)","v":0}]
[10022519,null,null,{"$f":"IFERROR(VLOOKUP(A22528,'Gegevens van scanner'!$F$7:$G$250,2,0),0)","v":0}]
[10022536,null,null,{"$f":"IFERROR(VLOOKUP(A22545,'Gegevens van scanner'!$F$7:$G$250,2,0),0)","v":0}]
[10022547,null,null,{"$f":"IFERROR(VLOOKUP(A22556,'Gegevens van scanner'!$F$7:$G$250,2,0),0)","v":0}]
[10022557,null,null,{"$f":"IFERROR(VLOOKUP(A22566,'Gegevens van scanner'!$F$7:$G$250,2,0),0)","v":0}]
[10022571,null,null,{"$f":"IFERROR(VLOOKUP(A22580,'Gegevens van scanner'!$F$7:$G$250,2,0),0)","v":0}]
[10022578,null,null,{"$f":"IFERROR(VLOOKUP(A22587,'Gegevens van scanner'!$F$7:$G$250,2,0),0)","v":0}]
[10022588,null,null,{"$f":"IFERROR(VLOOKUP(A22597,'Gegevens van scanner'!$F$7:$G$250,2,0),0)","v":0}]
[10022599,null,null,{"$f":"IFERROR(VLOOKUP(A22608,'Gegevens van scanner'!$F$7:$G$250,2,0),0)","v":0}]
[10022616,null,null,{"$f":"IFERROR(VLOOKUP(A22625,'Gegevens van scanner'!$F$7:$G$250,2,0),0)","v":0}]
[10022628,null,null,{"$f":"IFERROR(VLOOKUP(A22637,'Gegevens van scanner'!$F$7:$G$250,2,0),0)","v":0}]
[10022633,null,null,{"$f":"IFERROR(VLOOKUP(A22642,'Gegevens van scanner'!$F$7:$G$250,2,0),0)","v":0}]
[10022649,null,null,{"$f":"IFERROR(VLOOKUP(A22658,'Gegevens van scanner'!$F$7:$G$250,2,0),0)","v":0}]
[10022661,null,null,{"$f":"IFERROR(VLOOKUP(A22670,'Gegevens van scanner'!$F$7:$G$250,2,0),0)","v":0}]
[10022670,null,null,{"$f":"IFERROR(VLOOKUP(A22679,'Gegevens van scanner'!$F$7:$G$250,2,0),0)","v":0}]
[10022685,null,null,{"$f":"IFERROR(VLOOKUP(A22694,'Gegevens van scanner'!$F$7:$G$250,2,0),0)","v":0}]
[10022691,null,null,{"$f":"IFERROR(VLOOKUP(A22700,'Gegevens van scanner'!$F$7:$G$250,2,0),0)","v":0}]
[10022702,null,null,{"$f":"IFERROR(VLOOKUP(A22711,'Gegevens van scanner'!$F$7:$G$250,2,0),0)","v":0}]
[10022720,null,null,{"$f":"IFERROR(VLOOKUP(A22729,'Gegevens van scanner'!$F$7:$G$250,2,0),0)","v":0}]
[10022730,null,null,{"$f":"IFERROR(VLOOKUP(A22739,'Gegevens van scanner'!$F$7:$G$250,2,0),0)","v":0}]
[10022741,null,null,{"$f":"IFERROR(VLOOKUP(A22750,'Gegevens van scanner'!$F$7:$G$250,2,0),0)","v":0}]
[10022747,null,null,{"$f":"IFERROR(VLOOKUP(A22756,'Gegevens van scanner'!$F$7:$G$250,2,0),0)","v":0}]
[10022762,null,null,{"$f":"IFERROR(VLOOKUP(A22771,'Gegevens van scanner'!$F$7:$G$250,2,0),0)","v":0}]
[10022771,null,null,{"$f":"IFERROR(VLOOKUP(A22780,'Gegevens van scanner'!$F$7:$G$250,2,0),0)","v":0}]
[10022783,null,null,{"$f":"IFERROR(VLOOKUP(A22792,'Gegevens van scanner'!$F$7:$G$250,2,0),0)","v":0}]
[10022799,null,null,{"$f":"IFERROR(VLOOKUP(A22808,'Gegevens van scanner'!$F$7:$G$250,2,0),0)","v":0}]
[10022812,null,null,{"$f":"IFERROR(VLOOKUP(A22821,'Gegevens van scanner'!$F$7:$G$250,2,0),0)","v":0}]
[10022816,null,null,{"$f":"IFERROR(VLOOKUP(A22825,'Gegevens van scanner'!$F$7:$G$250,2,0),0)","v":0}]
[10022833,null,null,{"$f":"IFERROR(VLOOKUP(A22842,'Gegevens van scanner'!$F$7:$G$250,2,0),0)","v":0}]
[10022844,null,null,{"$f":"IFERROR(VLOOKUP(A22853,'Gegevens van scanner'!$F$7:$G$250,2,0),0)","v":0}]
[10022854,null,null,{"$f":"IFERROR(VLOOKUP(A22863,'Gegevens van scanner'!$F$7:$G$250,2,0),0)","v":0}]
[10022868,null,null,{"$f":"IFERROR(VLOOKUP(A22877,'Gegevens van scanner'!$F$7:$G$250,2,0),0)","v":0}]
[10022875,null,null,{"$f":"IFERROR(VLOOKUP(A22884,'Gegevens van scanner'!$F$7:$G$250,2,0),0)","v":0}]
[10022885,null,null,{"$f":"IFERROR(VLOOKUP(A22894,'Gegevens van scanner'!$F$7:$G$250,2,0),0)","v":0}]
[10022896,null,null,{"$f":"IFERROR(VLOOKUP(A22905,'Gegevens van scanner'!$F$7:$G$250,2,0),0)","v":0}]
[10022913,null,null,{"$f":"IFERROR(VLOOKUP(A22922,'Gegevens van scanner'!$F$7:$G$250,2,0),0)","v":0}]
[10022925,null,null,{"$f":"IFERROR(VLOOKUP(A22934,'Gegevens van scanner'!$F$7:$G$250,2,0),0)","v":0}]
[10022930,null,null,{"$f":"IFERROR(VLOOKUP(A22939,'Gegevens van scanner'!$F$7:$G$250,2,0),0)","v":0}]
[10022946,null,null,{"$f":"IFERROR(VLOOKUP(A22955,'Gegevens van scanner'!$F$7:$G$250,2,0),0)","v":0}]
[10022954,null,null,{"$f":"IFERROR(VLOOKUP(A22963,'Gegevens van scanner'!$F$7:$G$250,2,0),0)","v":0}]
[10022967,null,null,{"$f":"IFERROR(VLOOKUP(A22976,'Gegevens van scanner'!$F$7:$G$250,2,0),0)","v":0}]
[10022982,null,null,{"$f":"IFERROR(VLOOKUP(A22991,'Gegevens van scanner'!$F$7:$G$250,2,0),0)","v":0}]
[10022988,null,null,{"$f":"IFERROR(VLOOKUP(A22997,'Gegevens van scanner'!$F$7:$G$250,2,0),0)","v":0}]
[10022999,null,null,{"$f":"IFERROR(VLOOKUP(A23008,'Gegevens van scanner'!$F$7:$G$250,2,0),0)","v":0}]
[10023017,null,null,{"$f":"IFERROR(VLOOKUP(A23026,'Gegevens van scanner'!$F$7:$G$250,2,0),0)","v":0}]
[10023027,null,null,{"$f":"IFERROR(VLOOKUP(A23036,'Gegevens van scanner'!$F$7:$G$250,2,0),0)","v":0}]
[10023038,null,null,{"$f":"IFERROR(VLOOKUP(A23047,'Gegevens van scanner'!$F$7:$G$250,2,0),0)","v":0}]
[10023051,null,null,{"$f":"IFERROR(VLOOKUP(A23060,'Gegevens van scanner'!$F$7:$G$250,2,0),0)","v":0}]
[10023059,null,null,{"$f":"IFERROR(VLOOKUP(A23068,'Gegevens van scanner'!$F$7:$G$250,2,0),0)","v":0}]
[10023068,null,null,{"$f":"IFERROR(VLOOKUP(A23077,'Gegevens van scanner'!$F$7:$G$250,2,0),0)","v":0}]
[10023080,null,null,{"$f":"IFERROR(VLOOKUP(A23089,'Gegevens van scanner'!$F$7:$G$250,2,0),0)","v":0}]
[10023096,null,null,{"$f":"IFERROR(VLOOKUP(A23105,'Gegevens van scanner'!$F$7:$G$250,2,0),0)","v":0}]
[10023109,null,null,{"$f":"IFERROR(VLOOKUP(A23118,'Gegevens van scanner'!$F$7:$G$250,2,0),0)","v":0}]
[10023113,null,null,{"$f":"IFERROR(VLOOKUP(A23122,'Gegevens van scanner'!$F$7:$G$250,2,0),0)","v":0}]
[10023130,null,null,{"$f":"IFERROR(VLOOKUP(A23139,'Gegevens van scanner'!$F$7:$G$250,2,0),0)","v":0}]
[10023141,null,null,{"$f":"IFERROR(VLOOKUP(A23150,'Gegevens van scanner'!$F$7:$G$250,2,0),0)","v":0}]
[10023151,null,null,{"$f":"IFERROR(VLOOKUP(A23160,'Gegevens van scanner'!$F$7:$G$250,2,0),0)","v":0}]
[10023165,null,null,{"$f":"IFERROR(VLOOKUP(A23174,'Gegevens van scanner'!$F$7:$G$250,2,0),0)","v":0}]
[10023172,null,null,{"$f":"IFERROR(VLOOKUP(A23181,'Gegevens van scanner'!$F$7:$G$250,2,0),0)","v":0}]
[10023182,null,null,{"$f":"IFERROR(VLOOKUP(A23191,'Gegevens van scanner'!$F$7:$G$250,2,0),0)","v":0}]
[10023201,null,null,{"$f":"IFERROR(VLOOKUP(A23210,'Gegevens van scanner'!$F$7:$G$250,2,0),0)","v":0}]
[10023210,null,null,{"$f":"IFERROR(VLOOKUP(A23219,'Gegevens van scanner'!$F$7:$G$250,2,0),0)","v":0}]
[10023222,null,null,{"$f":"IFERROR(VLOOKUP(A23231,'Gegevens van scanner'!$F$7:$G$250,2,0),0)","v":0}]
[10023238,null,null,{"$f":"IFERROR(VLOOKUP(A23247,'Gegevens van scanner'!$F$7:$G$250,2,0),0)","v":0}]
[10023243,null,null,{"$f":"IFERROR(VLOOKUP(A23252,'Gegevens van scanner'!$F$7:$G$250,2,0),0)","v":0}]
[10023251,null,null,{"$f":"IFERROR(VLOOKUP(A23260,'Gegevens van scanner'!$F$7:$G$250,2,0),0)","v":0}]
[10023264,null,null,{"$f":"IFERROR(VLOOKUP(A23273,'Gegevens van scanner'!$F$7:$G$250,2,0),0)","v":0}]
[10023279,null,null,{"$f":"IFERROR(VLOOKUP(A23288,'Gegevens van scanner'!$F$7:$G$250,2,0),0)","v":0}]
[10023285,null,null,{"$f":"IFERROR(VLOOKUP(A23294,'Gegevens van scanner'!$F$7:$G$250,2,0),0)","v":0}]
[10023307,null,null,{"$f":"IFERROR(VLOOKUP(A23316,'Gegevens van scanner'!$F$7:$G$250,2,0),0)","v":0}]
[10023314,null,null,{"$f":"IFERROR(VLOOKUP(A23323,'Gegevens van scanner'!$F$7:$G$250,2,0),0)","v":0}]
[10023324,null,null,{"$f":"IFERROR(VLOOKUP(A23333,'Gegevens van scanner'!$F$7:$G$250,2,0),0)","v":0}]
[10023335,null,null,{"$f":"IFERROR(VLOOKUP(A23344,'Gegevens van scanner'!$F$7:$G$250,2,0),0)","v":0}]
[10023348,null,null,{"$f":"IFERROR(VLOOKUP(A23357,'Gegevens van scanner'!$F$7:$G$250,2,0),0)","v":0}]
[10023356,null,null,{"$f":"IFERROR(VLOOKUP(A23365,'Gegevens van scanner'!$F$7:$G$250,2,0),0)","v":0}]
[10023376,null,null,{"$f":"IFERROR(VLOOKUP(A23385,'Gegevens van scanner'!$F$7:$G$250,2,0),0)","v":0}]
[10023377,null,null,{"$f":"IFERROR(VLOOKUP(A23386,'Gegevens van scanner'!$F$7:$G$250,2,0),0)","v":0}]
[10023393,null,null,{"$f":"IFERROR(VLOOKUP(A23402,'Gegevens van scanner'!$F$7:$G$250,2,0),0)","v":0}]
[10023406,null,null,{"$f":"IFERROR(VLOOKUP(A23415,'Gegevens van scanner'!$F$7:$G$250,2,0),0)","v":0}]
[10023421,null,null,{"$f":"IFERROR(VLOOKUP(A23430,'Gegevens van scanner'!$F$7:$G$250,2,0),0)","v":0}]
[10023427,null,null,{"$f":"IFERROR(VLOOKUP(A23436,'Gegevens van scanner'!$F$7:$G$250,2,0),0)","v":0}]
[10023445,null,null,{"$f":"IFERROR(VLOOKUP(A23454,'Gegevens van scanner'!$F$7:$G$250,2,0),0)","v":0}]
[10023448,null,null,{"$f":"IFERROR(VLOOKUP(A23457,'Gegevens van scanner'!$F$7:$G$250,2,0),0)","v":0}]
[10023462,null,null,{"$f":"IFERROR(VLOOKUP(A23471,'Gegevens van scanner'!$F$7:$G$250,2,0),0)","v":0}]
[10023469,null,null,{"$f":"IFERROR(VLOOKUP(A23478,'Gegevens van scanner'!$F$7:$G$250,2,0),0)","v":0}]
[{"$f":"A23498+1","v":10023490},null,null,{"$f":"IFERROR(VLOOKUP(A23499,'Gegevens van scanner'!$F$7:$G$250,2,0),0)","v":0}]
[10023498,null,null,{"$f":"IFERROR(VLOOKUP(A23507,'Gegevens van scanner'!$F$7:$G$250,2,0),0)","v":0}]
[10023507,null,null,{"$f":"IFERROR(VLOOKUP(A23516,'Gegevens van scanner'!$F$7:$G$250,2,0),0)","v":0}]
[10023519,null,null,{"$f":"IFERROR(VLOOKUP(A23528,'Gegevens van scanner'!$F$7:$G$250,2,0),0)","v":0}]
[10023535,null,null,{"$f":"IFERROR(VLOOKUP(A23544,'Gegevens van scanner'!$F$7:$G$250,2,0),0)","v":0}]
[10023540,null,null,{"$f":"IFERROR(VLOOKUP(A23549,'Gegevens van scanner'!$F$7:$G$250,2,0),0)","v":0}]
[10023561,null,null,{"$f":"IFERROR(VLOOKUP(A23570,'Gegevens van scanner'!$F$7:$G$250,2,0),0)","v":0}]
[10023570,null,null,{"$f":"IFERROR(VLOOKUP(A23579,'Gegevens van scanner'!$F$7:$G$250,2,0),0)","v":0}]
[10023582,null,null,{"$f":"IFERROR(VLOOKUP(A23591,'Gegevens van scanner'!$F$7:$G$250,2,0),0)","v":0}]
[10023594,null,null,{"$f":"IFERROR(VLOOKUP(A23603,'Gegevens van scanner'!$F$7:$G$250,2,0),0)","v":0}]
[10023603,null,null,{"$f":"IFERROR(VLOOKUP(A23612,'Gegevens van scanner'!$F$7:$G$250,2,0),0)","v":0}]
[10023611,null,null,{"$f":"IFERROR(VLOOKUP(A23620,'Gegevens van scanner'!$F$7:$G$250,2,0),0)","v":0}]
[10023624,null,null,{"$f":"IFERROR(VLOOKUP(A23633,'Gegevens van scanner'!$F$7:$G$250,2,0),0)","v":0}]
[10023639,null,null,{"$f":"IFERROR(VLOOKUP(A23648,'Gegevens van scanner'!$F$7:$G$250,2,0),0)","v":0}]
[10023653,null,null,{"$f":"IFERROR(VLOOKUP(A23662,'Gegevens van scanner'!$F$7:$G$250,2,0),0)","v":0}]
[10023656,null,null,{"$f":"IFERROR(VLOOKUP(A23665,'Gegevens van scanner'!$F$7:$G$250,2,0),0)","v":0}]
[10023674,null,null,{"$f":"IFERROR(VLOOKUP(A23683,'Gegevens van scanner'!$F$7:$G$250,2,0),0)","v":0}]
[10023684,null,null,{"$f":"IFERROR(VLOOKUP(A23693,'Gegevens van scanner'!$F$7:$G$250,2,0),0)","v":0}]
[10023695,null,null,{"$f":"IFERROR(VLOOKUP(A23704,'Gegevens van scanner'!$F$7:$G$250,2,0),0)","v":0}]
[10023708,null,null,{"$f":"IFERROR(VLOOKUP(A23717,'Gegevens van scanner'!$F$7:$G$250,2,0),0)","v":0}]
[10023716,null,null,{"$f":"IFERROR(VLOOKUP(A23725,'Gegevens van scanner'!$F$7:$G$250,2,0),0)","v":0}]
[10023725,null,null,{"$f":"IFERROR(VLOOKUP(A23734,'Gegevens van scanner'!$F$7:$G$250,2,0),0)","v":0}]
[10023745,null,null,{"$f":"IFERROR(VLOOKUP(A23754,'Gegevens van scanner'!$F$7:$G$250,2,0),0)","v":0}]
[10023753,null,null,{"$f":"IFERROR(VLOOKUP(A23762,'Gegevens van scanner'!$F$7:$G$250,2,0),0)","v":0}]
[10023766,null,null,{"$f":"IFERROR(VLOOKUP(A23775,'Gegevens van scanner'!$F$7:$G$250,2,0),0)","v":0}]
[10023770,null,null,{"$f":"IFERROR(VLOOKUP(A23779,'Gegevens van scanner'!$F$7:$G$250,2,0),0)","v":0}]
[10023787,null,null,{"$f":"IFERROR(VLOOKUP(A23796,'Gegevens van scanner'!$F$7:$G$250,2,0),0)","v":0}]
[10023794,null,null,{"$f":"IFERROR(VLOOKUP(A23803,'Gegevens van scanner'!$F$7:$G$250,2,0),0)","v":0}]
[10023808,null,null,{"$f":"IFERROR(VLOOKUP(A23817,'Gegevens van scanner'!$F$7:$G$250,2,0),0)","v":0}]
[10023822,null,null,{"$f":"IFERROR(VLOOKUP(A23831,'Gegevens van scanner'!$F$7:$G$250,2,0),0)","v":0}]
[10023837,null,null,{"$f":"IFERROR(VLOOKUP(A23846,'Gegevens van scanner'!$F$7:$G$250,2,0),0)","v":0}]
[10023839,null,null,{"$f":"IFERROR(VLOOKUP(A23848,'Gegevens van scanner'!$F$7:$G$250,2,0),0)","v":0}]
[10023858,null,null,{"$f":"IFERROR(VLOOKUP(A23867,'Gegevens van scanner'!$F$7:$G$250,2,0),0)","v":0}]
[10023867,null,null,{"$f":"IFERROR(VLOOKUP(A23876,'Gegevens van scanner'!$F$7:$G$250,2,0),0)","v":0}]
[10023879,null,null,{"$f":"IFERROR(VLOOKUP(A23888,'Gegevens van scanner'!$F$7:$G$250,2,0),0)","v":0}]
[10023891,null,null,{"$f":"IFERROR(VLOOKUP(A23900,'Gegevens van scanner'!$F$7:$G$250,2,0),0)","v":0}]
[10023900,null,null,{"$f":"IFERROR(VLOOKUP(A23909,'Gegevens van scanner'!$F$7:$G$250,2,0),0)","v":0}]
[10023908,null,null,{"$f":"IFERROR(VLOOKUP(A23917,'Gegevens van scanner'!$F$7:$G$250,2,0),0)","v":0}]
[10023921,null,null,{"$f":"IFERROR(VLOOKUP(A23930,'Gegevens van scanner'!$F$7:$G$250,2,0),0)","v":0}]
[10023936,null,null,{"$f":"IFERROR(VLOOKUP(A23945,'Gegevens van scanner'!$F$7:$G$250,2,0),0)","v":0}]
[10023950,null,null,{"$f":"IFERROR(VLOOKUP(A23959,'Gegevens van scanner'!$F$7:$G$250,2,0),0)","v":0}]
[10023953,null,null,{"$f":"IFERROR(VLOOKUP(A23962,'Gegevens van scanner'!$F$7:$G$250,2,0),0)","v":0}]
[10023971,null,null,{"$f":"IFERROR(VLOOKUP(A23980,'Gegevens van scanner'!$F$7:$G$250,2,0),0)","v":0}]
[10023977,null,null,{"$f":"IFERROR(VLOOKUP(A23986,'Gegevens van scanner'!$F$7:$G$250,2,0),0)","v":0}]
[10023992,null,null,{"$f":"IFERROR(VLOOKUP(A24001,'Gegevens van scanner'!$F$7:$G$250,2,0),0)","v":0}]
[10024005,null,null,{"$f":"IFERROR(VLOOKUP(A24014,'Gegevens van scanner'!$F$7:$G$250,2,0),0)","v":0}]
[10024013,null,null,{"$f":"IFERROR(VLOOKUP(A24022,'Gegevens van scanner'!$F$7:$G$250,2,0),0)","v":0}]
[10024022,null,null,{"$f":"IFERROR(VLOOKUP(A24031,'Gegevens van scanner'!$F$7:$G$250,2,0),0)","v":0}]
[10024042,null,null,{"$f":"IFERROR(VLOOKUP(A24051,'Gegevens van scanner'!$F$7:$G$250,2,0),0)","v":0}]
[10024050,null,null,{"$f":"IFERROR(VLOOKUP(A24059,'Gegevens van scanner'!$F$7:$G$250,2,0),0)","v":0}]
[10024063,null,null,{"$f":"IFERROR(VLOOKUP(A24072,'Gegevens van scanner'!$F$7:$G$250,2,0),0)","v":0}]
[10024074,null,null,{"$f":"IFERROR(VLOOKUP(A24083,'Gegevens van scanner'!$F$7:$G$250,2,0),0)","v":0}]
[10024084,null,null,{"$f":"IFERROR(VLOOKUP(A24093,'Gegevens van scanner'!$F$7:$G$250,2,0),0)","v":0}]
[10024091,null,null,{"$f":"IFERROR(VLOOKUP(A24100,'Gegevens van scanner'!$F$7:$G$250,2,0),0)","v":0}]
[10024105,null,null,{"$f":"IFERROR(VLOOKUP(A24114,'Gegevens van scanner'!$F$7:$G$250,2,0),0)","v":0}]
[10024119,null,null,{"$f":"IFERROR(VLOOKUP(A24128,'Gegevens van scanner'!$F$7:$G$250,2,0),0)","v":0}]
[10024134,null,null,{"$f":"IFERROR(VLOOKUP(A24143,'Gegevens van scanner'!$F$7:$G$250,2,0),0)","v":0}]
[10024147,null,null,{"$f":"IFERROR(VLOOKUP(A24156,'Gegevens van scanner'!$F$7:$G$250,2,0),0)","v":0}]
[10024155,null,null,{"$f":"IFERROR(VLOOKUP(A24164,'Gegevens van scanner'!$F$7:$G$250,2,0),0)","v":0}]
[10024164,null,null,{"$f":"IFERROR(VLOOKUP(A24173,'Gegevens van scanner'!$F$7:$G$250,2,0),0)","v":0}]
[10024176,null,null,{"$f":"IFERROR(VLOOKUP(A24185,'Gegevens van scanner'!$F$7:$G$250,2,0),0)","v":0}]
[10024188,null,null,{"$f":"IFERROR(VLOOKUP(A24197,'Gegevens van scanner'!$F$7:$G$250,2,0),0)","v":0}]
[10024197,null,null,{"$f":"IFERROR(VLOOKUP(A24206,'Gegevens van scanner'!$F$7:$G$250,2,0),0)","v":0}]
[10024216,null,null,{"$f":"IFERROR(VLOOKUP(A24225,'Gegevens van scanner'!$F$7:$G$250,2,0),0)","v":0}]
[10024226,null,null,{"$f":"IFERROR(VLOOKUP(A24235,'Gegevens van scanner'!$F$7:$G$250,2,0),0)","v":0}]
[10024233,null,null,{"$f":"IFERROR(VLOOKUP(A24242,'Gegevens van scanner'!$F$7:$G$250,2,0),0)","v":0}]
[10024247,null,null,{"$f":"IFERROR(VLOOKUP(A24256,'Gegevens van scanner'!$F$7:$G$250,2,0),0)","v":0}]
[10024261,null,null,{"$f":"IFERROR(VLOOKUP(A24270,'Gegevens van scanner'!$F$7:$G$250,2,0),0)","v":0}]
[10024268,null,null,{"$f":"IFERROR(VLOOKUP(A24277,'Gegevens van scanner'!$F$7:$G$250,2,0),0)","v":0}]
[10024285,null,null,{"$f":"IFERROR(VLOOKUP(A24294,'Gegevens van scanner'!$F$7:$G$250,2,0),0)","v":0}]
[10024289,null,null,{"$f":"IFERROR(VLOOKUP(A24298,'Gegevens van scanner'!$F$7:$G$250,2,0),0)","v":0}]
[10024302,null,null,{"$f":"IFERROR(VLOOKUP(A24311,'Gegevens van scanner'!$F$7:$G$250,2,0),0)","v":0}]
[10024310,null,null,{"$f":"IFERROR(VLOOKUP(A24319,'Gegevens van scanner'!$F$7:$G$250,2,0),0)","v":0}]
[10024330,null,null,{"$f":"IFERROR(VLOOKUP(A24339,'Gegevens van scanner'!$F$7:$G$250,2,0),0)","v":0}]
[10024339,null,null,{"$f":"IFERROR(VLOOKUP(A24348,'Gegevens van scanner'!$F$7:$G$250,2,0),0)","v":0}]
[10024347,null,null,{"$f":"IFERROR(VLOOKUP(A24356,'Gegevens van scanner'!$F$7:$G$250,2,0),0)","v":0}]
[10024360,null,null,{"$f":"IFERROR(VLOOKUP(A24369,'Gegevens van scanner'!$F$7:$G$250,2,0),0)","v":0}]
[10024371,null,null,{"$f":"IFERROR(VLOOKUP(A24380,'Gegevens van scanner'!$F$7:$G$250,2,0),0)","v":0}]
[10024381,null,null,{"$f":"IFERROR(VLOOKUP(A24390,'Gegevens van scanner'!$F$7:$G$250,2,0),0)","v":0}]
[10024399,null,null,{"$f":"IFERROR(VLOOKUP(A24408,'Gegevens van scanner'!$F$7:$G$250,2,0),0)","v":0}]
[10024402,null,null,{"$f":"IFERROR(VLOOKUP(A24411,'Gegevens van scanner'!$F$7:$G$250,2,0),0)","v":0}]
[10024416,null,null,{"$f":"IFERROR(VLOOKUP(A24425,'Gegevens van scanner'!$F$7:$G$250,2,0),0)","v":0}]
[10024431,null,null,{"$f":"IFERROR(VLOOKUP(A24440,'Gegevens van scanner'!$F$7:$G$250,2,0),0)","v":0}]
[10024444,null,null,{"$f":"IFERROR(VLOOKUP(A24453,'Gegevens van scanner'!$F$7:$G$250,2,0),0)","v":0}]
[10024452,null,null,{"$f":"IFERROR(VLOOKUP(A24461,'Gegevens van scanner'!$F$7:$G$250,2,0),0)","v":0}]
[10024468,null,null,{"$f":"IFERROR(VLOOKUP(A24477,'Gegevens van scanner'!$F$7:$G$250,2,0),0)","v":0}]
[10024473,null,null,{"$f":"IFERROR(VLOOKUP(A24482,'Gegevens van scanner'!$F$7:$G$250,2,0),0)","v":0}]
[10024485,null,null,{"$f":"IFERROR(VLOOKUP(A24494,'Gegevens van scanner'!$F$7:$G$250,2,0),0)","v":0}]
[10024494,null,null,{"$f":"IFERROR(VLOOKUP(A24503,'Gegevens van scanner'!$F$7:$G$250,2,0),0)","v":0}]
[10024513,null,null,{"$f":"IFERROR(VLOOKUP(A24522,'Gegevens van scanner'!$F$7:$G$250,2,0),0)","v":0}]
[10024523,null,null,{"$f":"IFERROR(VLOOKUP(A24532,'Gegevens van scanner'!$F$7:$G$250,2,0),0)","v":0}]
[10024530,null,null,{"$f":"IFERROR(VLOOKUP(A24539,'Gegevens van scanner'!$F$7:$G$250,2,0),0)","v":0}]
[10024544,null,null,{"$f":"IFERROR(VLOOKUP(A24553,'Gegevens van scanner'!$F$7:$G$250,2,0),0)","v":0}]
[10024558,null,null,{"$f":"IFERROR(VLOOKUP(A24567,'Gegevens van scanner'!$F$7:$G$250,2,0),0)","v":0}]
[10024565,null,null,{"$f":"IFERROR(VLOOKUP(A24574,'Gegevens van scanner'!$F$7:$G$250,2,0),0)","v":0}]
[10024582,null,null,{"$f":"IFERROR(VLOOKUP(A24591,'Gegevens van scanner'!$F$7:$G$250,2,0),0)","v":0}]
[10024586,null,null,{"$f":"IFERROR(VLOOKUP(A24595,'Gegevens van scanner'!$F$7:$G$250,2,0),0)","v":0}]
[10024599,null,null,{"$f":"IFERROR(VLOOKUP(A24608,'Gegevens van scanner'!$F$7:$G$250,2,0),0)","v":0}]
[10024615,null,null,{"$f":"IFERROR(VLOOKUP(A24624,'Gegevens van scanner'!$F$7:$G$250,2,0),0)","v":0}]
[10024627,null,null,{"$f":"IFERROR(VLOOKUP(A24636,'Gegevens van scanner'!$F$7:$G$250,2,0),0)","v":0}]
[10024636,null,null,{"$f":"IFERROR(VLOOKUP(A24645,'Gegevens van scanner'!$F$7:$G$250,2,0),0)","v":0}]
[10024644,null,null,{"$f":"IFERROR(VLOOKUP(A24653,'Gegevens van scanner'!$F$7:$G$250,2,0),0)","v":0}]
[10024657,null,null,{"$f":"IFERROR(VLOOKUP(A24666,'Gegevens van scanner'!$F$7:$G$250,2,0),0)","v":0}]
[10024668,null,null,{"$f":"IFERROR(VLOOKUP(A24677,'Gegevens van scanner'!$F$7:$G$250,2,0),0)","v":0}]
[10024678,null,null,{"$f":"IFERROR(VLOOKUP(A24687,'Gegevens van scanner'!$F$7:$G$250,2,0),0)","v":0}]
[10024696,null,null,{"$f":"IFERROR(VLOOKUP(A24705,'Gegevens van scanner'!$F$7:$G$250,2,0),0)","v":0}]
[10024711,null,null,{"$f":"IFERROR(VLOOKUP(A24720,'Gegevens van scanner'!$F$7:$G$250,2,0),0)","v":0}]
[10024713,null,null,{"$f":"IFERROR(VLOOKUP(A24722,'Gegevens van scanner'!$F$7:$G$250,2,0),0)","v":0}]
[10024728,null,null,{"$f":"IFERROR(VLOOKUP(A24737,'Gegevens van scanner'!$F$7:$G$250,2,0),0)","v":0}]
[10024741,null,null,{"$f":"IFERROR(VLOOKUP(A24750,'Gegevens van scanner'!$F$7:$G$250,2,0),0)","v":0}]
[10024749,null,null,{"$f":"IFERROR(VLOOKUP(A24758,'Gegevens van scanner'!$F$7:$G$250,2,0),0)","v":0}]
[10024765,null,null,{"$f":"IFERROR(VLOOKUP(A24774,'Gegevens van scanner'!$F$7:$G$250,2,0),0)","v":0}]
[{"$f":"A24778+1","v":10024770},null,null,{"$f":"IFERROR(VLOOKUP(A24779,'Gegevens van scanner'!$F$7:$G$250,2,0),0)","v":0}]
[10024782,null,null,{"$f":"IFERROR(VLOOKUP(A24791,'Gegevens van scanner'!$F$7:$G$250,2,0),0)","v":0}]
[10024803,null,null,{"$f":"IFERROR(VLOOKUP(A24812,'Gegevens van scanner'!$F$7:$G$250,2,0),0)","v":0}]
[10024810,null,null,{"$f":"IFERROR(VLOOKUP(A24819,'Gegevens van scanner'!$F$7:$G$250,2,0),0)","v":0}]
[10024820,null,null,{"$f":"IFERROR(VLOOKUP(A24829,'Gegevens van scanner'!$F$7:$G$250,2,0),0)","v":0}]
[10024827,null,null,{"$f":"IFERROR(VLOOKUP(A24836,'Gegevens van scanner'!$F$7:$G$250,2,0),0)","v":0}]
[10024841,null,null,{"$f":"IFERROR(VLOOKUP(A24850,'Gegevens van scanner'!$F$7:$G$250,2,0),0)","v":0}]
[10024851,null,null,{"$f":"IFERROR(VLOOKUP(A24860,'Gegevens van scanner'!$F$7:$G$250,2,0),0)","v":0}]
[10024862,null,null,{"$f":"IFERROR(VLOOKUP(A24871,'Gegevens van scanner'!$F$7:$G$250,2,0),0)","v":0}]
[10024879,null,null,{"$f":"IFERROR(VLOOKUP(A24888,'Gegevens van scanner'!$F$7:$G$250,2,0),0)","v":0}]
[10024895,null,null,{"$f":"IFERROR(VLOOKUP(A24904,'Gegevens van scanner'!$F$7:$G$250,2,0),0)","v":0}]
[10024896,null,null,{"$f":"IFERROR(VLOOKUP(A24905,'Gegevens van scanner'!$F$7:$G$250,2,0),0)","v":0}]
[10024912,null,null,{"$f":"IFERROR(VLOOKUP(A24921,'Gegevens van scanner'!$F$7:$G$250,2,0),0)","v":0}]
[10024924,null,null,{"$f":"IFERROR(VLOOKUP(A24933,'Gegevens van scanner'!$F$7:$G$250,2,0),0)","v":0}]
[10024933,null,null,{"$f":"IFERROR(VLOOKUP(A24942,'Gegevens van scanner'!$F$7:$G$250,2,0),0)","v":0}]
[10024952,null,null,{"$f":"IFERROR(VLOOKUP(A24961,'Gegevens van scanner'!$F$7:$G$250,2,0),0)","v":0}]
[10024954,null,null,{"$f":"IFERROR(VLOOKUP(A24963,'Gegevens van scanner'!$F$7:$G$250,2,0),0)","v":0}]
[10024965,null,null,{"$f":"IFERROR(VLOOKUP(A24974,'Gegevens van scanner'!$F$7:$G$250,2,0),0)","v":0}]
[10024987,null,null,{"$f":"IFERROR(VLOOKUP(A24996,'Gegevens van scanner'!$F$7:$G$250,2,0),0)","v":0}]
[10024996,null,null,{"$f":"IFERROR(VLOOKUP(A25005,'Gegevens van scanner'!$F$7:$G$250,2,0),0)","v":0}]
[10025000,null,null,{"$f":"IFERROR(VLOOKUP(A25009,'Gegevens van scanner'!$F$7:$G$250,2,0),0)","v":0}]
[10025001,null,null,{"$f":"IFERROR(VLOOKUP(A25010,'Gegevens van scanner'!$F$7:$G$250,2,0),0)","v":0}]
[10025002,null,null,{"$f":"IFERROR(VLOOKUP(A25011,'Gegevens van scanner'!$F$7:$G$250,2,0),0)","v":0}]
[10025003,null,null,{"$f":"IFERROR(VLOOKUP(A25012,'Gegevens van scanner'!$F$7:$G$250,2,0),0)","v":0}]
[10025004,null,null,{"$f":"IFERROR(VLOOKUP(A25013,'Gegevens van scanner'!$F$7:$G$250,2,0),0)","v":0}]
[10025005,null,null,{"$f":"IFERROR(VLOOKUP(A25014,'Gegevens van scanner'!$F$7:$G$250,2,0),0)","v":0}]
[10025006,null,null,{"$f":"IFERROR(VLOOKUP(A25015,'Gegevens van scanner'!$F$7:$G$250,2,0),0)","v":0}]
[10025007,null,null,{"$f":"IFERROR(VLOOKUP(A25016,'Gegevens van scanner'!$F$7:$G$250,2,0),0)","v":0}]
[10025008,null,null,{"$f":"IFERROR(VLOOKUP(A25017,'Gegevens van scanner'!$F$7:$G$250,2,0),0)","v":0}]
[10025009,null,null,{"$f":"IFERROR(VLOOKUP(A25018,'Gegevens van scanner'!$F$7:$G$250,2,0),0)","v":0}]
[10025010,null,null,{"$f":"IFERROR(VLOOKUP(A25019,'Gegevens van scanner'!$F$7:$G$250,2,0),0)","v":0}]
[10025011,null,null,{"$f":"IFERROR(VLOOKUP(A25020,'Gegevens van scanner'!$F$7:$G$250,2,0),0)","v":0}]
[10025012,null,null,{"$f":"IFERROR(VLOOKUP(A25021,'Gegevens van scanner'!$F$7:$G$250,2,0),0)","v":0}]
[10025013,null,null,{"$f":"IFERROR(VLOOKUP(A25022,'Gegevens van scanner'!$F$7:$G$250,2,0),0)","v":0}]
[10025014,null,null,{"$f":"IFERROR(VLOOKUP(A25023,'Gegevens van scanner'!$F$7:$G$250,2,0),0)","v":0}]
[10025015,null,null,{"$f":"IFERROR(VLOOKUP(A25024,'Gegevens van scanner'!$F$7:$G$250,2,0),0)","v":0}]
[10025016,null,null,{"$f":"IFERROR(VLOOKUP(A25025,'Gegevens van scanner'!$F$7:$G$250,2,0),0)","v":0}]
[10025017,null,null,{"$f":"IFERROR(VLOOKUP(A25026,'Gegevens van scanner'!$F$7:$G$250,2,0),0)","v":0}]
[10025018,null,null,{"$f":"IFERROR(VLOOKUP(A25027,'Gegevens van scanner'!$F$7:$G$250,2,0),0)","v":0}]
[10025019,null,null,{"$f":"IFERROR(VLOOKUP(A25028,'Gegevens van scanner'!$F$7:$G$250,2,0),0)","v":0}]
[10025020,null,null,{"$f":"IFERROR(VLOOKUP(A25029,'Gegevens van scanner'!$F$7:$G$250,2,0),0)","v":0}]
[10025021,null,null,{"$f":"IFERROR(VLOOKUP(A25030,'Gegevens van scanner'!$F$7:$G$250,2,0),0)","v":0}]
[10025022,null,null,{"$f":"IFERROR(VLOOKUP(A25031,'Gegevens van scanner'!$F$7:$G$250,2,0),0)","v":0}]
[10025023,null,null,{"$f":"IFERROR(VLOOKUP(A25032,'Gegevens van scanner'!$F$7:$G$250,2,0),0)","v":0}]
[10025024,null,null,{"$f":"IFERROR(VLOOKUP(A25033,'Gegevens van scanner'!$F$7:$G$250,2,0),0)","v":0}]
[10025025,null,null,{"$f":"IFERROR(VLOOKUP(A25034,'Gegevens van scanner'!$F$7:$G$250,2,0),0)","v":0}]
[{"$f":"A25034+1","v":10025026},null,null,{"$f":"IFERROR(VLOOKUP(A25035,'Gegevens van scanner'!$F$7:$G$250,2,0),0)","v":0}]
[10025027,null,null,{"$f":"IFERROR(VLOOKUP(A25036,'Gegevens van scanner'!$F$7:$G$250,2,0),0)","v":0}]
[10025028,null,null,{"$f":"IFERROR(VLOOKUP(A25037,'Gegevens van scanner'!$F$7:$G$250,2,0),0)","v":0}]
[10025029,null,null,{"$f":"IFERROR(VLOOKUP(A25038,'Gegevens van scanner'!$F$7:$G$250,2,0),0)","v":0}]
[10025030,null,null,{"$f":"IFERROR(VLOOKUP(A25039,'Gegevens van scanner'!$F$7:$G$250,2,0),0)","v":0}]
[10025031,null,null,{"$f":"IFERROR(VLOOKUP(A25040,'Gegevens van scanner'!$F$7:$G$250,2,0),0)","v":0}]
[10025032,null,null,{"$f":"IFERROR(VLOOKUP(A25041,'Gegevens van scanner'!$F$7:$G$250,2,0),0)","v":0}]
[10025033,null,null,{"$f":"IFERROR(VLOOKUP(A25042,'Gegevens van scanner'!$F$7:$G$250,2,0),0)","v":0}]
[10025034,null,null,{"$f":"IFERROR(VLOOKUP(A25043,'Gegevens van scanner'!$F$7:$G$250,2,0),0)","v":0}]
[10025035,null,null,{"$f":"IFERROR(VLOOKUP(A25044,'Gegevens van scanner'!$F$7:$G$250,2,0),0)","v":0}]
[10025036,null,null,{"$f":"IFERROR(VLOOKUP(A25045,'Gegevens van scanner'!$F$7:$G$250,2,0),0)","v":0}]
[10025037,null,null,{"$f":"IFERROR(VLOOKUP(A25046,'Gegevens van scanner'!$F$7:$G$250,2,0),0)","v":0}]
[10025038,null,null,{"$f":"IFERROR(VLOOKUP(A25047,'Gegevens van scanner'!$F$7:$G$250,2,0),0)","v":0}]
[10025039,null,null,{"$f":"IFERROR(VLOOKUP(A25048,'Gegevens van scanner'!$F$7:$G$250,2,0),0)","v":0}]
[10025040,null,null,{"$f":"IFERROR(VLOOKUP(A25049,'Gegevens van scanner'!$F$7:$G$250,2,0),0)","v":0}]
[10025041,null,null,{"$f":"IFERROR(VLOOKUP(A25050,'Gegevens van scanner'!$F$7:$G$250,2,0),0)","v":0}]
[10025042,null,null,{"$f":"IFERROR(VLOOKUP(A25051,'Gegevens van scanner'!$F$7:$G$250,2,0),0)","v":0}]
[10025043,null,null,{"$f":"IFERROR(VLOOKUP(A25052,'Gegevens van scanner'!$F$7:$G$250,2,0),0)","v":0}]
[10025044,null,null,{"$f":"IFERROR(VLOOKUP(A25053,'Gegevens van scanner'!$F$7:$G$250,2,0),0)","v":0}]
[10025045,null,null,{"$f":"IFERROR(VLOOKUP(A25054,'Gegevens van scanner'!$F$7:$G$250,2,0),0)","v":0}]
[10025046,null,null,{"$f":"IFERROR(VLOOKUP(A25055,'Gegevens van scanner'!$F$7:$G$250,2,0),0)","v":0}]
[10025047,null,null,{"$f":"IFERROR(VLOOKUP(A25056,'Gegevens van scanner'!$F$7:$G$250,2,0),0)","v":0}]
[10025048,null,null,{"$f":"IFERROR(VLOOKUP(A25057,'Gegevens van scanner'!$F$7:$G$250,2,0),0)","v":0}]
[10025049,null,null,{"$f":"IFERROR(VLOOKUP(A25058,'Gegevens van scanner'!$F$7:$G$250,2,0),0)","v":0}]
[10025050,null,null,{"$f":"IFERROR(VLOOKUP(A25059,'Gegevens van scanner'!$F$7:$G$250,2,0),0)","v":0}]
[10025051,null,null,{"$f":"IFERROR(VLOOKUP(A25060,'Gegevens van scanner'!$F$7:$G$250,2,0),0)","v":0}]
[10025052,null,null,{"$f":"IFERROR(VLOOKUP(A25061,'Gegevens van scanner'!$F$7:$G$250,2,0),0)","v":0}]
[10025053,null,null,{"$f":"IFERROR(VLOOKUP(A25062,'Gegevens van scanner'!$F$7:$G$250,2,0),0)","v":0}]
[10025054,null,null,{"$f":"IFERROR(VLOOKUP(A25063,'Gegevens van scanner'!$F$7:$G$250,2,0),0)","v":0}]
[10025055,null,null,{"$f":"IFERROR(VLOOKUP(A25064,'Gegevens van scanner'!$F$7:$G$250,2,0),0)","v":0}]
[10025056,null,null,{"$f":"IFERROR(VLOOKUP(A25065,'Gegevens van scanner'!$F$7:$G$250,2,0),0)","v":0}]
[10025057,null,null,{"$f":"IFERROR(VLOOKUP(A25066,'Gegevens van scanner'!$F$7:$G$250,2,0),0)","v":0}]
[10025058,null,null,{"$f":"IFERROR(VLOOKUP(A25067,'Gegevens van scanner'!$F$7:$G$250,2,0),0)","v":0}]
[10025059,null,null,{"$f":"IFERROR(VLOOKUP(A25068,'Gegevens van scanner'!$F$7:$G$250,2,0),0)","v":0}]
[10025060,null,null,{"$f":"IFERROR(VLOOKUP(A25069,'Gegevens van scanner'!$F$7:$G$250,2,0),0)","v":0}]
[10025061,null,null,{"$f":"IFERROR(VLOOKUP(A25070,'Gegevens van scanner'!$F$7:$G$250,2,0),0)","v":0}]
[10025062,null,null,{"$f":"IFERROR(VLOOKUP(A25071,'Gegevens van scanner'!$F$7:$G$250,2,0),0)","v":0}]
[10025063,null,null,{"$f":"IFERROR(VLOOKUP(A25072,'Gegevens van scanner'!$F$7:$G$250,2,0),0)","v":0}]
[10025064,null,null,{"$f":"IFERROR(VLOOKUP(A25073,'Gegevens van scanner'!$F$7:$G$250,2,0),0)","v":0}]
[10025065,null,null,{"$f":"IFERROR(VLOOKUP(A25074,'Gegevens van scanner'!$F$7:$G$250,2,0),0)","v":0}]
[10025066,null,null,{"$f":"IFERROR(VLOOKUP(A25075,'Gegevens van scanner'!$F$7:$G$250,2,0),0)","v":0}]
[10025067,null,null,{"$f":"IFERROR(VLOOKUP(A25076,'Gegevens van scanner'!$F$7:$G$250,2,0),0)","v":0}]
[10025068,null,null,{"$f":"IFERROR(VLOOKUP(A25077,'Gegevens van scanner'!$F$7:$G$250,2,0),0)","v":0}]
[10025069,null,null,{"$f":"IFERROR(VLOOKUP(A25078,'Gegevens van scanner'!$F$7:$G$250,2,0),0)","v":0}]
[10025070,null,null,{"$f":"IFERROR(VLOOKUP(A25079,'Gegevens van scanner'!$F$7:$G$250,2,0),0)","v":0}]
[10025071,null,null,{"$f":"IFERROR(VLOOKUP(A25080,'Gegevens van scanner'!$F$7:$G$250,2,0),0)","v":0}]
[10025072,null,null,{"$f":"IFERROR(VLOOKUP(A25081,'Gegevens van scanner'!$F$7:$G$250,2,0),0)","v":0}]
[10025073,null,null,{"$f":"IFERROR(VLOOKUP(A25082,'Gegevens van scanner'!$F$7:$G$250,2,0),0)","v":0}]
[10025074,null,null,{"$f":"IFERROR(VLOOKUP(A25083,'Gegevens van scanner'!$F$7:$G$250,2,0),0)","v":0}]
[10025075,null,null,{"$f":"IFERROR(VLOOKUP(A25084,'Gegevens van scanner'!$F$7:$G$250,2,0),0)","v":0}]
[10025076,null,null,{"$f":"IFERROR(VLOOKUP(A25085,'Gegevens van scanner'!$F$7:$G$250,2,0),0)","v":0}]
[10025077,null,null,{"$f":"IFERROR(VLOOKUP(A25086,'Gegevens van scanner'!$F$7:$G$250,2,0),0)","v":0}]
[10025078,null,null,{"$f":"IFERROR(VLOOKUP(A25087,'Gegevens van scanner'!$F$7:$G$250,2,0),0)","v":0}]
[10025079,null,null,{"$f":"IFERROR(VLOOKUP(A25088,'Gegevens van scanner'!$F$7:$G$250,2,0),0)","v":0}]
[10025080,null,null,{"$f":"IFERROR(VLOOKUP(A25089,'Gegevens van scanner'!$F$7:$G$250,2,0),0)","v":0}]
[10025081,null,null,{"$f":"IFERROR(VLOOKUP(A25090,'Gegevens van scanner'!$F$7:$G$250,2,0),0)","v":0}]
[10025082,null,null,{"$f":"IFERROR(VLOOKUP(A25091,'Gegevens van scanner'!$F$7:$G$250,2,0),0)","v":0}]
[10025083,null,null,{"$f":"IFERROR(VLOOKUP(A25092,'Gegevens van scanner'!$F$7:$G$250,2,0),0)","v":0}]
[10025084,null,null,{"$f":"IFERROR(VLOOKUP(A25093,'Gegevens van scanner'!$F$7:$G$250,2,0),0)","v":0}]
[10025085,null,null,{"$f":"IFERROR(VLOOKUP(A25094,'Gegevens van scanner'!$F$7:$G$250,2,0),0)","v":0}]
[10025086,null,null,{"$f":"IFERROR(VLOOKUP(A25095,'Gegevens van scanner'!$F$7:$G$250,2,0),0)","v":0}]
[10025087,null,null,{"$f":"IFERROR(VLOOKUP(A25096,'Gegevens van scanner'!$F$7:$G$250,2,0),0)","v":0}]
[10025088,null,null,{"$f":"IFERROR(VLOOKUP(A25097,'Gegevens van scanner'!$F$7:$G$250,2,0),0)","v":0}]
[10025089,null,null,{"$f":"IFERROR(VLOOKUP(A25098,'Gegevens van scanner'!$F$7:$G$250,2,0),0)","v":0}]
[{"$f":"A25098+1","v":10025090},null,null,{"$f":"IFERROR(VLOOKUP(A25099,'Gegevens van scanner'!$F$7:$G$250,2,0),0)","v":0}]
[10025091,null,null,{"$f":"IFERROR(VLOOKUP(A25100,'Gegevens van scanner'!$F$7:$G$250,2,0),0)","v":0}]
[10025092,null,null,{"$f":"IFERROR(VLOOKUP(A25101,'Gegevens van scanner'!$F$7:$G$250,2,0),0)","v":0}]
[10025093,null,null,{"$f":"IFERROR(VLOOKUP(A25102,'Gegevens van scanner'!$F$7:$G$250,2,0),0)","v":0}]
[10025094,null,null,{"$f":"IFERROR(VLOOKUP(A25103,'Gegevens van scanner'!$F$7:$G$250,2,0),0)","v":0}]
[10025095,null,null,{"$f":"IFERROR(VLOOKUP(A25104,'Gegevens van scanner'!$F$7:$G$250,2,0),0)","v":0}]
[10025096,null,null,{"$f":"IFERROR(VLOOKUP(A25105,'Gegevens van scanner'!$F$7:$G$250,2,0),0)","v":0}]
[10025097,null,null,{"$f":"IFERROR(VLOOKUP(A25106,'Gegevens van scanner'!$F$7:$G$250,2,0),0)","v":0}]
[10025098,null,null,{"$f":"IFERROR(VLOOKUP(A25107,'Gegevens van scanner'!$F$7:$G$250,2,0),0)","v":0}]
[10025099,null,null,{"$f":"IFERROR(VLOOKUP(A25108,'Gegevens van scanner'!$F$7:$G$250,2,0),0)","v":0}]
[10025100,null,null,{"$f":"IFERROR(VLOOKUP(A25109,'Gegevens van scanner'!$F$7:$G$250,2,0),0)","v":0}]
[10025101,null,null,{"$f":"IFERROR(VLOOKUP(A25110,'Gegevens van scanner'!$F$7:$G$250,2,0),0)","v":0}]
[10025102,null,null,{"$f":"IFERROR(VLOOKUP(A25111,'Gegevens van scanner'!$F$7:$G$250,2,0),0)","v":0}]
[10025103,null,null,{"$f":"IFERROR(VLOOKUP(A25112,'Gegevens van scanner'!$F$7:$G$250,2,0),0)","v":0}]
[10025104,null,null,{"$f":"IFERROR(VLOOKUP(A25113,'Gegevens van scanner'!$F$7:$G$250,2,0),0)","v":0}]
[10025105,null,null,{"$f":"IFERROR(VLOOKUP(A25114,'Gegevens van scanner'!$F$7:$G$250,2,0),0)","v":0}]
[10025106,null,null,{"$f":"IFERROR(VLOOKUP(A25115,'Gegevens van scanner'!$F$7:$G$250,2,0),0)","v":0}]
[10025107,null,null,{"$f":"IFERROR(VLOOKUP(A25116,'Gegevens van scanner'!$F$7:$G$250,2,0),0)","v":0}]
[10025108,null,null,{"$f":"IFERROR(VLOOKUP(A25117,'Gegevens van scanner'!$F$7:$G$250,2,0),0)","v":0}]
[10025109,null,null,{"$f":"IFERROR(VLOOKUP(A25118,'Gegevens van scanner'!$F$7:$G$250,2,0),0)","v":0}]
[10025110,null,null,{"$f":"IFERROR(VLOOKUP(A25119,'Gegevens van scanner'!$F$7:$G$250,2,0),0)","v":0}]
[10025111,null,null,{"$f":"IFERROR(VLOOKUP(A25120,'Gegevens van scanner'!$F$7:$G$250,2,0),0)","v":0}]
[10025112,null,null,{"$f":"IFERROR(VLOOKUP(A25121,'Gegevens van scanner'!$F$7:$G$250,2,0),0)","v":0}]
[10025113,null,null,{"$f":"IFERROR(VLOOKUP(A25122,'Gegevens van scanner'!$F$7:$G$250,2,0),0)","v":0}]
[10025114,null,null,{"$f":"IFERROR(VLOOKUP(A25123,'Gegevens van scanner'!$F$7:$G$250,2,0),0)","v":0}]
[10025115,null,null,{"$f":"IFERROR(VLOOKUP(A25124,'Gegevens van scanner'!$F$7:$G$250,2,0),0)","v":0}]
[10025116,null,null,{"$f":"IFERROR(VLOOKUP(A25125,'Gegevens van scanner'!$F$7:$G$250,2,0),0)","v":0}]
[10025117,null,null,{"$f":"IFERROR(VLOOKUP(A25126,'Gegevens van scanner'!$F$7:$G$250,2,0),0)","v":0}]
[10025118,null,null,{"$f":"IFERROR(VLOOKUP(A25127,'Gegevens van scanner'!$F$7:$G$250,2,0),0)","v":0}]
[10025119,null,null,{"$f":"IFERROR(VLOOKUP(A25128,'Gegevens van scanner'!$F$7:$G$250,2,0),0)","v":0}]
[10025120,null,null,{"$f":"IFERROR(VLOOKUP(A25129,'Gegevens van scanner'!$F$7:$G$250,2,0),0)","v":0}]
[10025121,null,null,{"$f":"IFERROR(VLOOKUP(A25130,'Gegevens van scanner'!$F$7:$G$250,2,0),0)","v":0}]
[10025122,null,null,{"$f":"IFERROR(VLOOKUP(A25131,'Gegevens van scanner'!$F$7:$G$250,2,0),0)","v":0}]
[10025123,null,null,{"$f":"IFERROR(VLOOKUP(A25132,'Gegevens van scanner'!$F$7:$G$250,2,0),0)","v":0}]
[10025124,null,null,{"$f":"IFERROR(VLOOKUP(A25133,'Gegevens van scanner'!$F$7:$G$250,2,0),0)","v":0}]
[10025125,null,null,{"$f":"IFERROR(VLOOKUP(A25134,'Gegevens van scanner'!$F$7:$G$250,2,0),0)","v":0}]
[10025126,null,null,{"$f":"IFERROR(VLOOKUP(A25135,'Gegevens van scanner'!$F$7:$G$250,2,0),0)","v":0}]
[10025127,null,null,{"$f":"IFERROR(VLOOKUP(A25136,'Gegevens van scanner'!$F$7:$G$250,2,0),0)","v":0}]
[10025128,null,null,{"$f":"IFERROR(VLOOKUP(A25137,'Gegevens van scanner'!$F$7:$G$250,2,0),0)","v":0}]
[10025129,null,null,{"$f":"IFERROR(VLOOKUP(A25138,'Gegevens van scanner'!$F$7:$G$250,2,0),0)","v":0}]
[10025130,null,null,{"$f":"IFERROR(VLOOKUP(A25139,'Gegevens van scanner'!$F$7:$G$250,2,0),0)","v":0}]
[10025131,null,null,{"$f":"IFERROR(VLOOKUP(A25140,'Gegevens van scanner'!$F$7:$G$250,2,0),0)","v":0}]
[10025132,null,null,{"$f":"IFERROR(VLOOKUP(A25141,'Gegevens van scanner'!$F$7:$G$250,2,0),0)","v":0}]
[10025133,null,null,{"$f":"IFERROR(VLOOKUP(A25142,'Gegevens van scanner'!$F$7:$G$250,2,0),0)","v":0}]
[10025134,null,null,{"$f":"IFERROR(VLOOKUP(A25143,'Gegevens van scanner'!$F$7:$G$250,2,0),0)","v":0}]
[10025135,null,null,{"$f":"IFERROR(VLOOKUP(A25144,'Gegevens van scanner'!$F$7:$G$250,2,0),0)","v":0}]
[10025136,null,null,{"$f":"IFERROR(VLOOKUP(A25145,'Gegevens van scanner'!$F$7:$G$250,2,0),0)","v":0}]
[10025137,null,null,{"$f":"IFERROR(VLOOKUP(A25146,'Gegevens van scanner'!$F$7:$G$250,2,0),0)","v":0}]
[10025138,null,null,{"$f":"IFERROR(VLOOKUP(A25147,'Gegevens van scanner'!$F$7:$G$250,2,0),0)","v":0}]
[10025139,null,null,{"$f":"IFERROR(VLOOKUP(A25148,'Gegevens van scanner'!$F$7:$G$250,2,0),0)","v":0}]
[10025140,null,null,{"$f":"IFERROR(VLOOKUP(A25149,'Gegevens van scanner'!$F$7:$G$250,2,0),0)","v":0}]
[10025141,null,null,{"$f":"IFERROR(VLOOKUP(A25150,'Gegevens van scanner'!$F$7:$G$250,2,0),0)","v":0}]
[10025142,null,null,{"$f":"IFERROR(VLOOKUP(A25151,'Gegevens van scanner'!$F$7:$G$250,2,0),0)","v":0}]
[10025143,null,null,{"$f":"IFERROR(VLOOKUP(A25152,'Gegevens van scanner'!$F$7:$G$250,2,0),0)","v":0}]
[10025144,null,null,{"$f":"IFERROR(VLOOKUP(A25153,'Gegevens van scanner'!$F$7:$G$250,2,0),0)","v":0}]
[10025145,null,null,{"$f":"IFERROR(VLOOKUP(A25154,'Gegevens van scanner'!$F$7:$G$250,2,0),0)","v":0}]
[10025146,null,null,{"$f":"IFERROR(VLOOKUP(A25155,'Gegevens van scanner'!$F$7:$G$250,2,0),0)","v":0}]
[10025147,null,null,{"$f":"IFERROR(VLOOKUP(A25156,'Gegevens van scanner'!$F$7:$G$250,2,0),0)","v":0}]
[10025148,null,null,{"$f":"IFERROR(VLOOKUP(A25157,'Gegevens van scanner'!$F$7:$G$250,2,0),0)","v":0}]
[10025149,null,null,{"$f":"IFERROR(VLOOKUP(A25158,'Gegevens van scanner'!$F$7:$G$250,2,0),0)","v":0}]
[10025150,null,null,{"$f":"IFERROR(VLOOKUP(A25159,'Gegevens van scanner'!$F$7:$G$250,2,0),0)","v":0}]
[10025151,null,null,{"$f":"IFERROR(VLOOKUP(A25160,'Gegevens van scanner'!$F$7:$G$250,2,0),0)","v":0}]
[10025152,null,null,{"$f":"IFERROR(VLOOKUP(A25161,'Gegevens van scanner'!$F$7:$G$250,2,0),0)","v":0}]
[10025153,null,null,{"$f":"IFERROR(VLOOKUP(A25162,'Gegevens van scanner'!$F$7:$G$250,2,0),0)","v":0}]
[{"$f":"A25162+1","v":10025154},null,null,{"$f":"IFERROR(VLOOKUP(A25163,'Gegevens van scanner'!$F$7:$G$250,2,0),0)","v":0}]
[10025155,null,null,{"$f":"IFERROR(VLOOKUP(A25164,'Gegevens van scanner'!$F$7:$G$250,2,0),0)","v":0}]
[10025156,null,null,{"$f":"IFERROR(VLOOKUP(A25165,'Gegevens van scanner'!$F$7:$G$250,2,0),0)","v":0}]
[10025157,null,null,{"$f":"IFERROR(VLOOKUP(A25166,'Gegevens van scanner'!$F$7:$G$250,2,0),0)","v":0}]
[10025158,null,null,{"$f":"IFERROR(VLOOKUP(A25167,'Gegevens van scanner'!$F$7:$G$250,2,0),0)","v":0}]
[10025159,null,null,{"$f":"IFERROR(VLOOKUP(A25168,'Gegevens van scanner'!$F$7:$G$250,2,0),0)","v":0}]
[10025160,null,null,{"$f":"IFERROR(VLOOKUP(A25169,'Gegevens van scanner'!$F$7:$G$250,2,0),0)","v":0}]
[10025161,null,null,{"$f":"IFERROR(VLOOKUP(A25170,'Gegevens van scanner'!$F$7:$G$250,2,0),0)","v":0}]
[10025162,null,null,{"$f":"IFERROR(VLOOKUP(A25171,'Gegevens van scanner'!$F$7:$G$250,2,0),0)","v":0}]
[10025163,null,null,{"$f":"IFERROR(VLOOKUP(A25172,'Gegevens van scanner'!$F$7:$G$250,2,0),0)","v":0}]
[10025164,null,null,{"$f":"IFERROR(VLOOKUP(A25173,'Gegevens van scanner'!$F$7:$G$250,2,0),0)","v":0}]
[10025165,null,null,{"$f":"IFERROR(VLOOKUP(A25174,'Gegevens van scanner'!$F$7:$G$250,2,0),0)","v":0}]
[10025166,null,null,{"$f":"IFERROR(VLOOKUP(A25175,'Gegevens van scanner'!$F$7:$G$250,2,0),0)","v":0}]
[10025167,null,null,{"$f":"IFERROR(VLOOKUP(A25176,'Gegevens van scanner'!$F$7:$G$250,2,0),0)","v":0}]
[10025168,null,null,{"$f":"IFERROR(VLOOKUP(A25177,'Gegevens van scanner'!$F$7:$G$250,2,0),0)","v":0}]
[10025169,null,null,{"$f":"IFERROR(VLOOKUP(A25178,'Gegevens van scanner'!$F$7:$G$250,2,0),0)","v":0}]
[10025170,null,null,{"$f":"IFERROR(VLOOKUP(A25179,'Gegevens van scanner'!$F$7:$G$250,2,0),0)","v":0}]
[10025171,null,null,{"$f":"IFERROR(VLOOKUP(A25180,'Gegevens van scanner'!$F$7:$G$250,2,0),0)","v":0}]
[10025172,null,null,{"$f":"IFERROR(VLOOKUP(A25181,'Gegevens van scanner'!$F$7:$G$250,2,0),0)","v":0}]
[10025173,null,null,{"$f":"IFERROR(VLOOKUP(A25182,'Gegevens van scanner'!$F$7:$G$250,2,0),0)","v":0}]
[10025174,null,null,{"$f":"IFERROR(VLOOKUP(A25183,'Gegevens van scanner'!$F$7:$G$250,2,0),0)","v":0}]
[10025175,null,null,{"$f":"IFERROR(VLOOKUP(A25184,'Gegevens van scanner'!$F$7:$G$250,2,0),0)","v":0}]
[10025176,null,null,{"$f":"IFERROR(VLOOKUP(A25185,'Gegevens van scanner'!$F$7:$G$250,2,0),0)","v":0}]
[10025177,null,null,{"$f":"IFERROR(VLOOKUP(A25186,'Gegevens van scanner'!$F$7:$G$250,2,0),0)","v":0}]
[10025178,null,null,{"$f":"IFERROR(VLOOKUP(A25187,'Gegevens van scanner'!$F$7:$G$250,2,0),0)","v":0}]
[10025179,null,null,{"$f":"IFERROR(VLOOKUP(A25188,'Gegevens van scanner'!$F$7:$G$250,2,0),0)","v":0}]
[10025180,null,null,{"$f":"IFERROR(VLOOKUP(A25189,'Gegevens van scanner'!$F$7:$G$250,2,0),0)","v":0}]
[10025181,null,null,{"$f":"IFERROR(VLOOKUP(A25190,'Gegevens van scanner'!$F$7:$G$250,2,0),0)","v":0}]
[10025182,null,null,{"$f":"IFERROR(VLOOKUP(A25191,'Gegevens van scanner'!$F$7:$G$250,2,0),0)","v":0}]
[10025183,null,null,{"$f":"IFERROR(VLOOKUP(A25192,'Gegevens van scanner'!$F$7:$G$250,2,0),0)","v":0}]
[10025184,null,null,{"$f":"IFERROR(VLOOKUP(A25193,'Gegevens van scanner'!$F$7:$G$250,2,0),0)","v":0}]
[10025185,null,null,{"$f":"IFERROR(VLOOKUP(A25194,'Gegevens van scanner'!$F$7:$G$250,2,0),0)","v":0}]
[10025186,null,null,{"$f":"IFERROR(VLOOKUP(A25195,'Gegevens van scanner'!$F$7:$G$250,2,0),0)","v":0}]
[10025187,null,null,{"$f":"IFERROR(VLOOKUP(A25196,'Gegevens van scanner'!$F$7:$G$250,2,0),0)","v":0}]
[10025188,null,null,{"$f":"IFERROR(VLOOKUP(A25197,'Gegevens van scanner'!$F$7:$G$250,2,0),0)","v":0}]
[10025189,null,null,{"$f":"IFERROR(VLOOKUP(A25198,'Gegevens van scanner'!$F$7:$G$250,2,0),0)","v":0}]
[10025190,null,null,{"$f":"IFERROR(VLOOKUP(A25199,'Gegevens van scanner'!$F$7:$G$250,2,0),0)","v":0}]
[10025191,null,null,{"$f":"IFERROR(VLOOKUP(A25200,'Gegevens van scanner'!$F$7:$G$250,2,0),0)","v":0}]
[10025192,null,null,{"$f":"IFERROR(VLOOKUP(A25201,'Gegevens van scanner'!$F$7:$G$250,2,0),0)","v":0}]
[10025193,null,null,{"$f":"IFERROR(VLOOKUP(A25202,'Gegevens van scanner'!$F$7:$G$250,2,0),0)","v":0}]
[10025194,null,null,{"$f":"IFERROR(VLOOKUP(A25203,'Gegevens van scanner'!$F$7:$G$250,2,0),0)","v":0}]
[10025195,null,null,{"$f":"IFERROR(VLOOKUP(A25204,'Gegevens van scanner'!$F$7:$G$250,2,0),0)","v":0}]
[10025196,null,null,{"$f":"IFERROR(VLOOKUP(A25205,'Gegevens van scanner'!$F$7:$G$250,2,0),0)","v":0}]
[10025197,null,null,{"$f":"IFERROR(VLOOKUP(A25206,'Gegevens van scanner'!$F$7:$G$250,2,0),0)","v":0}]
[10025198,null,null,{"$f":"IFERROR(VLOOKUP(A25207,'Gegevens van scanner'!$F$7:$G$250,2,0),0)","v":0}]
[10025199,null,null,{"$f":"IFERROR(VLOOKUP(A25208,'Gegevens van scanner'!$F$7:$G$250,2,0),0)","v":0}]
[10025200,null,null,{"$f":"IFERROR(VLOOKUP(A25209,'Gegevens van scanner'!$F$7:$G$250,2,0),0)","v":0}]
[10025201,null,null,{"$f":"IFERROR(VLOOKUP(A25210,'Gegevens van scanner'!$F$7:$G$250,2,0),0)","v":0}]
[10025202,null,null,{"$f":"IFERROR(VLOOKUP(A25211,'Gegevens van scanner'!$F$7:$G$250,2,0),0)","v":0}]
[10025203,null,null,{"$f":"IFERROR(VLOOKUP(A25212,'Gegevens van scanner'!$F$7:$G$250,2,0),0)","v":0}]
[10025204,null,null,{"$f":"IFERROR(VLOOKUP(A25213,'Gegevens van scanner'!$F$7:$G$250,2,0),0)","v":0}]
[10025205,null,null,{"$f":"IFERROR(VLOOKUP(A25214,'Gegevens van scanner'!$F$7:$G$250,2,0),0)","v":0}]
[10025206,null,null,{"$f":"IFERROR(VLOOKUP(A25215,'Gegevens van scanner'!$F$7:$G$250,2,0),0)","v":0}]
[10025207,null,null,{"$f":"IFERROR(VLOOKUP(A25216,'Gegevens van scanner'!$F$7:$G$250,2,0),0)","v":0}]
[10025208,null,null,{"$f":"IFERROR(VLOOKUP(A25217,'Gegevens van scanner'!$F$7:$G$250,2,0),0)","v":0}]
[10025209,null,null,{"$f":"IFERROR(VLOOKUP(A25218,'Gegevens van scanner'!$F$7:$G$250,2,0),0)","v":0}]
[10025210,null,null,{"$f":"IFERROR(VLOOKUP(A25219,'Gegevens van scanner'!$F$7:$G$250,2,0),0)","v":0}]
[10025211,null,null,{"$f":"IFERROR(VLOOKUP(A25220,'Gegevens van scanner'!$F$7:$G$250,2,0),0)","v":0}]
[10025212,null,null,{"$f":"IFERROR(VLOOKUP(A25221,'Gegevens van scanner'!$F$7:$G$250,2,0),0)","v":0}]
[10025213,null,null,{"$f":"IFERROR(VLOOKUP(A25222,'Gegevens van scanner'!$F$7:$G$250,2,0),0)","v":0}]
[10025214,null,null,{"$f":"IFERROR(VLOOKUP(A25223,'Gegevens van scanner'!$F$7:$G$250,2,0),0)","v":0}]
[10025215,null,null,{"$f":"IFERROR(VLOOKUP(A25224,'Gegevens van scanner'!$F$7:$G$250,2,0),0)","v":0}]
[10025216,null,null,{"$f":"IFERROR(VLOOKUP(A25225,'Gegevens van scanner'!$F$7:$G$250,2,0),0)","v":0}]
[10025217,null,null,{"$f":"IFERROR(VLOOKUP(A25226,'Gegevens van scanner'!$F$7:$G$250,2,0),0)","v":0}]
[{"$f":"A25226+1","v":10025218},null,null,{"$f":"IFERROR(VLOOKUP(A25227,'Gegevens van scanner'!$F$7:$G$250,2,0),0)","v":0}]
[10025219,null,null,{"$f":"IFERROR(VLOOKUP(A25228,'Gegevens van scanner'!$F$7:$G$250,2,0),0)","v":0}]
[10025220,null,null,{"$f":"IFERROR(VLOOKUP(A25229,'Gegevens van scanner'!$F$7:$G$250,2,0),0)","v":0}]
[10025221,null,null,{"$f":"IFERROR(VLOOKUP(A25230,'Gegevens van scanner'!$F$7:$G$250,2,0),0)","v":0}]
[10025222,null,null,{"$f":"IFERROR(VLOOKUP(A25231,'Gegevens van scanner'!$F$7:$G$250,2,0),0)","v":0}]
[10025223,null,null,{"$f":"IFERROR(VLOOKUP(A25232,'Gegevens van scanner'!$F$7:$G$250,2,0),0)","v":0}]
[10025224,null,null,{"$f":"IFERROR(VLOOKUP(A25233,'Gegevens van scanner'!$F$7:$G$250,2,0),0)","v":0}]
[10025225,null,null,{"$f":"IFERROR(VLOOKUP(A25234,'Gegevens van scanner'!$F$7:$G$250,2,0),0)","v":0}]
[10025226,null,null,{"$f":"IFERROR(VLOOKUP(A25235,'Gegevens van scanner'!$F$7:$G$250,2,0),0)","v":0}]
[10025227,null,null,{"$f":"IFERROR(VLOOKUP(A25236,'Gegevens van scanner'!$F$7:$G$250,2,0),0)","v":0}]
[10025228,null,null,{"$f":"IFERROR(VLOOKUP(A25237,'Gegevens van scanner'!$F$7:$G$250,2,0),0)","v":0}]
[10025229,null,null,{"$f":"IFERROR(VLOOKUP(A25238,'Gegevens van scanner'!$F$7:$G$250,2,0),0)","v":0}]
[10025230,null,null,{"$f":"IFERROR(VLOOKUP(A25239,'Gegevens van scanner'!$F$7:$G$250,2,0),0)","v":0}]
[10025231,null,null,{"$f":"IFERROR(VLOOKUP(A25240,'Gegevens van scanner'!$F$7:$G$250,2,0),0)","v":0}]
[10025232,null,null,{"$f":"IFERROR(VLOOKUP(A25241,'Gegevens van scanner'!$F$7:$G$250,2,0),0)","v":0}]
[10025233,null,null,{"$f":"IFERROR(VLOOKUP(A25242,'Gegevens van scanner'!$F$7:$G$250,2,0),0)","v":0}]
[10025234,null,null,{"$f":"IFERROR(VLOOKUP(A25243,'Gegevens van scanner'!$F$7:$G$250,2,0),0)","v":0}]
[10025235,null,null,{"$f":"IFERROR(VLOOKUP(A25244,'Gegevens van scanner'!$F$7:$G$250,2,0),0)","v":0}]
[10025236,null,null,{"$f":"IFERROR(VLOOKUP(A25245,'Gegevens van scanner'!$F$7:$G$250,2,0),0)","v":0}]
[10025237,null,null,{"$f":"IFERROR(VLOOKUP(A25246,'Gegevens van scanner'!$F$7:$G$250,2,0),0)","v":0}]
[10025238,null,null,{"$f":"IFERROR(VLOOKUP(A25247,'Gegevens van scanner'!$F$7:$G$250,2,0),0)","v":0}]
[10025239,null,null,{"$f":"IFERROR(VLOOKUP(A25248,'Gegevens van scanner'!$F$7:$G$250,2,0),0)","v":0}]
[10025240,null,null,{"$f":"IFERROR(VLOOKUP(A25249,'Gegevens van scanner'!$F$7:$G$250,2,0),0)","v":0}]
[10025241,null,null,{"$f":"IFERROR(VLOOKUP(A25250,'Gegevens van scanner'!$F$7:$G$250,2,0),0)","v":0}]
[10025242,null,null,{"$f":"IFERROR(VLOOKUP(A25251,'Gegevens van scanner'!$F$7:$G$250,2,0),0)","v":0}]
[10025243,null,null,{"$f":"IFERROR(VLOOKUP(A25252,'Gegevens van scanner'!$F$7:$G$250,2,0),0)","v":0}]
[10025244,null,null,{"$f":"IFERROR(VLOOKUP(A25253,'Gegevens van scanner'!$F$7:$G$250,2,0),0)","v":0}]
[10025245,null,null,{"$f":"IFERROR(VLOOKUP(A25254,'Gegevens van scanner'!$F$7:$G$250,2,0),0)","v":0}]
[10025246,null,null,{"$f":"IFERROR(VLOOKUP(A25255,'Gegevens van scanner'!$F$7:$G$250,2,0),0)","v":0}]
[10025247,null,null,{"$f":"IFERROR(VLOOKUP(A25256,'Gegevens van scanner'!$F$7:$G$250,2,0),0)","v":0}]
[10025248,null,null,{"$f":"IFERROR(VLOOKUP(A25257,'Gegevens van scanner'!$F$7:$G$250,2,0),0)","v":0}]
[10025249,null,null,{"$f":"IFERROR(VLOOKUP(A25258,'Gegevens van scanner'!$F$7:$G$250,2,0),0)","v":0}]
[10025250,null,null,{"$f":"IFERROR(VLOOKUP(A25259,'Gegevens van scanner'!$F$7:$G$250,2,0),0)","v":0}]
[10025251,null,null,{"$f":"IFERROR(VLOOKUP(A25260,'Gegevens van scanner'!$F$7:$G$250,2,0),0)","v":0}]
[10025252,null,null,{"$f":"IFERROR(VLOOKUP(A25261,'Gegevens van scanner'!$F$7:$G$250,2,0),0)","v":0}]
[10025253,null,null,{"$f":"IFERROR(VLOOKUP(A25262,'Gegevens van scanner'!$F$7:$G$250,2,0),0)","v":0}]
[10025254,null,null,{"$f":"IFERROR(VLOOKUP(A25263,'Gegevens van scanner'!$F$7:$G$250,2,0),0)","v":0}]
[10025255,null,null,{"$f":"IFERROR(VLOOKUP(A25264,'Gegevens van scanner'!$F$7:$G$250,2,0),0)","v":0}]
[10025256,null,null,{"$f":"IFERROR(VLOOKUP(A25265,'Gegevens van scanner'!$F$7:$G$250,2,0),0)","v":0}]
[10025257,null,null,{"$f":"IFERROR(VLOOKUP(A25266,'Gegevens van scanner'!$F$7:$G$250,2,0),0)","v":0}]
[10025258,null,null,{"$f":"IFERROR(VLOOKUP(A25267,'Gegevens van scanner'!$F$7:$G$250,2,0),0)","v":0}]
[10025259,null,null,{"$f":"IFERROR(VLOOKUP(A25268,'Gegevens van scanner'!$F$7:$G$250,2,0),0)","v":0}]
[10025260,null,null,{"$f":"IFERROR(VLOOKUP(A25269,'Gegevens van scanner'!$F$7:$G$250,2,0),0)","v":0}]
[10025261,null,null,{"$f":"IFERROR(VLOOKUP(A25270,'Gegevens van scanner'!$F$7:$G$250,2,0),0)","v":0}]
[10025262,null,null,{"$f":"IFERROR(VLOOKUP(A25271,'Gegevens van scanner'!$F$7:$G$250,2,0),0)","v":0}]
[10025263,null,null,{"$f":"IFERROR(VLOOKUP(A25272,'Gegevens van scanner'!$F$7:$G$250,2,0),0)","v":0}]
[10025264,null,null,{"$f":"IFERROR(VLOOKUP(A25273,'Gegevens van scanner'!$F$7:$G$250,2,0),0)","v":0}]
[10025265,null,null,{"$f":"IFERROR(VLOOKUP(A25274,'Gegevens van scanner'!$F$7:$G$250,2,0),0)","v":0}]
[10025266,null,null,{"$f":"IFERROR(VLOOKUP(A25275,'Gegevens van scanner'!$F$7:$G$250,2,0),0)","v":0}]
[10025267,null,null,{"$f":"IFERROR(VLOOKUP(A25276,'Gegevens van scanner'!$F$7:$G$250,2,0),0)","v":0}]
[10025268,null,null,{"$f":"IFERROR(VLOOKUP(A25277,'Gegevens van scanner'!$F$7:$G$250,2,0),0)","v":0}]
[10025269,null,null,{"$f":"IFERROR(VLOOKUP(A25278,'Gegevens van scanner'!$F$7:$G$250,2,0),0)","v":0}]
[10025270,null,null,{"$f":"IFERROR(VLOOKUP(A25279,'Gegevens van scanner'!$F$7:$G$250,2,0),0)","v":0}]
[10025271,null,null,{"$f":"IFERROR(VLOOKUP(A25280,'Gegevens van scanner'!$F$7:$G$250,2,0),0)","v":0}]
[10025272,null,null,{"$f":"IFERROR(VLOOKUP(A25281,'Gegevens van scanner'!$F$7:$G$250,2,0),0)","v":0}]
[10025273,null,null,{"$f":"IFERROR(VLOOKUP(A25282,'Gegevens van scanner'!$F$7:$G$250,2,0),0)","v":0}]
[10025274,null,null,{"$f":"IFERROR(VLOOKUP(A25283,'Gegevens van scanner'!$F$7:$G$250,2,0),0)","v":0}]
[10025275,null,null,{"$f":"IFERROR(VLOOKUP(A25284,'Gegevens van scanner'!$F$7:$G$250,2,0),0)","v":0}]
[10025276,null,null,{"$f":"IFERROR(VLOOKUP(A25285,'Gegevens van scanner'!$F$7:$G$250,2,0),0)","v":0}]
[10025277,null,null,{"$f":"IFERROR(VLOOKUP(A25286,'Gegevens van scanner'!$F$7:$G$250,2,0),0)","v":0}]
[10025278,null,null,{"$f":"IFERROR(VLOOKUP(A25287,'Gegevens van scanner'!$F$7:$G$250,2,0),0)","v":0}]
[10025279,null,null,{"$f":"IFERROR(VLOOKUP(A25288,'Gegevens van scanner'!$F$7:$G$250,2,0),0)","v":0}]
[10025280,null,null,{"$f":"IFERROR(VLOOKUP(A25289,'Gegevens van scanner'!$F$7:$G$250,2,0),0)","v":0}]
[10025281,null,null,{"$f":"IFERROR(VLOOKUP(A25290,'Gegevens van scanner'!$F$7:$G$250,2,0),0)","v":0}]
[{"$f":"A25290+1","v":10025282},null,null,{"$f":"IFERROR(VLOOKUP(A25291,'Gegevens van scanner'!$F$7:$G$250,2,0),0)","v":0}]
[10025283,null,null,{"$f":"IFERROR(VLOOKUP(A25292,'Gegevens van scanner'!$F$7:$G$250,2,0),0)","v":0}]
[10025284,null,null,{"$f":"IFERROR(VLOOKUP(A25293,'Gegevens van scanner'!$F$7:$G$250,2,0),0)","v":0}]
[10025285,null,null,{"$f":"IFERROR(VLOOKUP(A25294,'Gegevens van scanner'!$F$7:$G$250,2,0),0)","v":0}]
[10025286,null,null,{"$f":"IFERROR(VLOOKUP(A25295,'Gegevens van scanner'!$F$7:$G$250,2,0),0)","v":0}]
[10025287,null,null,{"$f":"IFERROR(VLOOKUP(A25296,'Gegevens van scanner'!$F$7:$G$250,2,0),0)","v":0}]
[10025288,null,null,{"$f":"IFERROR(VLOOKUP(A25297,'Gegevens van scanner'!$F$7:$G$250,2,0),0)","v":0}]
[10025289,null,null,{"$f":"IFERROR(VLOOKUP(A25298,'Gegevens van scanner'!$F$7:$G$250,2,0),0)","v":0}]
[10025290,null,null,{"$f":"IFERROR(VLOOKUP(A25299,'Gegevens van scanner'!$F$7:$G$250,2,0),0)","v":0}]
[10025291,null,null,{"$f":"IFERROR(VLOOKUP(A25300,'Gegevens van scanner'!$F$7:$G$250,2,0),0)","v":0}]
[10025292,null,null,{"$f":"IFERROR(VLOOKUP(A25301,'Gegevens van scanner'!$F$7:$G$250,2,0),0)","v":0}]
[10025293,null,null,{"$f":"IFERROR(VLOOKUP(A25302,'Gegevens van scanner'!$F$7:$G$250,2,0),0)","v":0}]
[10025294,null,null,{"$f":"IFERROR(VLOOKUP(A25303,'Gegevens van scanner'!$F$7:$G$250,2,0),0)","v":0}]
[10025295,null,null,{"$f":"IFERROR(VLOOKUP(A25304,'Gegevens van scanner'!$F$7:$G$250,2,0),0)","v":0}]
[10025296,null,null,{"$f":"IFERROR(VLOOKUP(A25305,'Gegevens van scanner'!$F$7:$G$250,2,0),0)","v":0}]
[10025297,null,null,{"$f":"IFERROR(VLOOKUP(A25306,'Gegevens van scanner'!$F$7:$G$250,2,0),0)","v":0}]
[10025298,null,null,{"$f":"IFERROR(VLOOKUP(A25307,'Gegevens van scanner'!$F$7:$G$250,2,0),0)","v":0}]
[10025299,null,null,{"$f":"IFERROR(VLOOKUP(A25308,'Gegevens van scanner'!$F$7:$G$250,2,0),0)","v":0}]
[10025300,null,null,{"$f":"IFERROR(VLOOKUP(A25309,'Gegevens van scanner'!$F$7:$G$250,2,0),0)","v":0}]
[10025301,null,null,{"$f":"IFERROR(VLOOKUP(A25310,'Gegevens van scanner'!$F$7:$G$250,2,0),0)","v":0}]
[10025302,null,null,{"$f":"IFERROR(VLOOKUP(A25311,'Gegevens van scanner'!$F$7:$G$250,2,0),0)","v":0}]
[10025303,null,null,{"$f":"IFERROR(VLOOKUP(A25312,'Gegevens van scanner'!$F$7:$G$250,2,0),0)","v":0}]
[10025304,null,null,{"$f":"IFERROR(VLOOKUP(A25313,'Gegevens van scanner'!$F$7:$G$250,2,0),0)","v":0}]
[10025305,null,null,{"$f":"IFERROR(VLOOKUP(A25314,'Gegevens van scanner'!$F$7:$G$250,2,0),0)","v":0}]
[10025306,null,null,{"$f":"IFERROR(VLOOKUP(A25315,'Gegevens van scanner'!$F$7:$G$250,2,0),0)","v":0}]
[10025307,null,null,{"$f":"IFERROR(VLOOKUP(A25316,'Gegevens van scanner'!$F$7:$G$250,2,0),0)","v":0}]
[10025308,null,null,{"$f":"IFERROR(VLOOKUP(A25317,'Gegevens van scanner'!$F$7:$G$250,2,0),0)","v":0}]
[10025309,null,null,{"$f":"IFERROR(VLOOKUP(A25318,'Gegevens van scanner'!$F$7:$G$250,2,0),0)","v":0}]
[10025310,null,null,{"$f":"IFERROR(VLOOKUP(A25319,'Gegevens van scanner'!$F$7:$G$250,2,0),0)","v":0}]
[10025311,null,null,{"$f":"IFERROR(VLOOKUP(A25320,'Gegevens van scanner'!$F$7:$G$250,2,0),0)","v":0}]
[10025312,null,null,{"$f":"IFERROR(VLOOKUP(A25321,'Gegevens van scanner'!$F$7:$G$250,2,0),0)","v":0}]
[10025313,null,null,{"$f":"IFERROR(VLOOKUP(A25322,'Gegevens van scanner'!$F$7:$G$250,2,0),0)","v":0}]
[10025314,null,null,{"$f":"IFERROR(VLOOKUP(A25323,'Gegevens van scanner'!$F$7:$G$250,2,0),0)","v":0}]
[10025315,null,null,{"$f":"IFERROR(VLOOKUP(A25324,'Gegevens van scanner'!$F$7:$G$250,2,0),0)","v":0}]
[10025316,null,null,{"$f":"IFERROR(VLOOKUP(A25325,'Gegevens van scanner'!$F$7:$G$250,2,0),0)","v":0}]
[10025317,null,null,{"$f":"IFERROR(VLOOKUP(A25326,'Gegevens van scanner'!$F$7:$G$250,2,0),0)","v":0}]
[10025318,null,null,{"$f":"IFERROR(VLOOKUP(A25327,'Gegevens van scanner'!$F$7:$G$250,2,0),0)","v":0}]
[10025319,null,null,{"$f":"IFERROR(VLOOKUP(A25328,'Gegevens van scanner'!$F$7:$G$250,2,0),0)","v":0}]
[10025320,null,null,{"$f":"IFERROR(VLOOKUP(A25329,'Gegevens van scanner'!$F$7:$G$250,2,0),0)","v":0}]
[10025321,null,null,{"$f":"IFERROR(VLOOKUP(A25330,'Gegevens van scanner'!$F$7:$G$250,2,0),0)","v":0}]
[10025322,null,null,{"$f":"IFERROR(VLOOKUP(A25331,'Gegevens van scanner'!$F$7:$G$250,2,0),0)","v":0}]
[10025323,null,null,{"$f":"IFERROR(VLOOKUP(A25332,'Gegevens van scanner'!$F$7:$G$250,2,0),0)","v":0}]
[10025324,null,null,{"$f":"IFERROR(VLOOKUP(A25333,'Gegevens van scanner'!$F$7:$G$250,2,0),0)","v":0}]
[10025325,null,null,{"$f":"IFERROR(VLOOKUP(A25334,'Gegevens van scanner'!$F$7:$G$250,2,0),0)","v":0}]
[10025326,null,null,{"$f":"IFERROR(VLOOKUP(A25335,'Gegevens van scanner'!$F$7:$G$250,2,0),0)","v":0}]
[10025327,null,null,{"$f":"IFERROR(VLOOKUP(A25336,'Gegevens van scanner'!$F$7:$G$250,2,0),0)","v":0}]
[10025328,null,null,{"$f":"IFERROR(VLOOKUP(A25337,'Gegevens van scanner'!$F$7:$G$250,2,0),0)","v":0}]
[10025329,null,null,{"$f":"IFERROR(VLOOKUP(A25338,'Gegevens van scanner'!$F$7:$G$250,2,0),0)","v":0}]
[10025330,null,null,{"$f":"IFERROR(VLOOKUP(A25339,'Gegevens van scanner'!$F$7:$G$250,2,0),0)","v":0}]
[10025331,null,null,{"$f":"IFERROR(VLOOKUP(A25340,'Gegevens van scanner'!$F$7:$G$250,2,0),0)","v":0}]
[10025332,null,null,{"$f":"IFERROR(VLOOKUP(A25341,'Gegevens van scanner'!$F$7:$G$250,2,0),0)","v":0}]
[10025333,null,null,{"$f":"IFERROR(VLOOKUP(A25342,'Gegevens van scanner'!$F$7:$G$250,2,0),0)","v":0}]
[10025334,null,null,{"$f":"IFERROR(VLOOKUP(A25343,'Gegevens van scanner'!$F$7:$G$250,2,0),0)","v":0}]
[10025335,null,null,{"$f":"IFERROR(VLOOKUP(A25344,'Gegevens van scanner'!$F$7:$G$250,2,0),0)","v":0}]
[10025336,null,null,{"$f":"IFERROR(VLOOKUP(A25345,'Gegevens van scanner'!$F$7:$G$250,2,0),0)","v":0}]
[10025337,null,null,{"$f":"IFERROR(VLOOKUP(A25346,'Gegevens van scanner'!$F$7:$G$250,2,0),0)","v":0}]
[10025338,null,null,{"$f":"IFERROR(VLOOKUP(A25347,'Gegevens van scanner'!$F$7:$G$250,2,0),0)","v":0}]
[10025339,null,null,{"$f":"IFERROR(VLOOKUP(A25348,'Gegevens van scanner'!$F$7:$G$250,2,0),0)","v":0}]
[10025340,null,null,{"$f":"IFERROR(VLOOKUP(A25349,'Gegevens van scanner'!$F$7:$G$250,2,0),0)","v":0}]
[10025341,null,null,{"$f":"IFERROR(VLOOKUP(A25350,'Gegevens van scanner'!$F$7:$G$250,2,0),0)","v":0}]
[10025342,null,null,{"$f":"IFERROR(VLOOKUP(A25351,'Gegevens van scanner'!$F$7:$G$250,2,0),0)","v":0}]
[10025343,null,null,{"$f":"IFERROR(VLOOKUP(A25352,'Gegevens van scanner'!$F$7:$G$250,2,0),0)","v":0}]
[10025344,null,null,{"$f":"IFERROR(VLOOKUP(A25353,'Gegevens van scanner'!$F$7:$G$250,2,0),0)","v":0}]
[10025345,null,null,{"$f":"IFERROR(VLOOKUP(A25354,'Gegevens van scanner'!$F$7:$G$250,2,0),0)","v":0}]
[{"$f":"A25354+1","v":10025346},null,null,{"$f":"IFERROR(VLOOKUP(A25355,'Gegevens van scanner'!$F$7:$G$250,2,0),0)","v":0}]
[10025347,null,null,{"$f":"IFERROR(VLOOKUP(A25356,'Gegevens van scanner'!$F$7:$G$250,2,0),0)","v":0}]
[10025348,null,null,{"$f":"IFERROR(VLOOKUP(A25357,'Gegevens van scanner'!$F$7:$G$250,2,0),0)","v":0}]
[10025349,null,null,{"$f":"IFERROR(VLOOKUP(A25358,'Gegevens van scanner'!$F$7:$G$250,2,0),0)","v":0}]
[10025350,null,null,{"$f":"IFERROR(VLOOKUP(A25359,'Gegevens van scanner'!$F$7:$G$250,2,0),0)","v":0}]
[10025351,null,null,{"$f":"IFERROR(VLOOKUP(A25360,'Gegevens van scanner'!$F$7:$G$250,2,0),0)","v":0}]
[10025352,null,null,{"$f":"IFERROR(VLOOKUP(A25361,'Gegevens van scanner'!$F$7:$G$250,2,0),0)","v":0}]
[10025353,null,null,{"$f":"IFERROR(VLOOKUP(A25362,'Gegevens van scanner'!$F$7:$G$250,2,0),0)","v":0}]
[10025354,null,null,{"$f":"IFERROR(VLOOKUP(A25363,'Gegevens van scanner'!$F$7:$G$250,2,0),0)","v":0}]
[10025355,null,null,{"$f":"IFERROR(VLOOKUP(A25364,'Gegevens van scanner'!$F$7:$G$250,2,0),0)","v":0}]
[10025356,null,null,{"$f":"IFERROR(VLOOKUP(A25365,'Gegevens van scanner'!$F$7:$G$250,2,0),0)","v":0}]
[10025357,null,null,{"$f":"IFERROR(VLOOKUP(A25366,'Gegevens van scanner'!$F$7:$G$250,2,0),0)","v":0}]
[10025358,null,null,{"$f":"IFERROR(VLOOKUP(A25367,'Gegevens van scanner'!$F$7:$G$250,2,0),0)","v":0}]
[10025359,null,null,{"$f":"IFERROR(VLOOKUP(A25368,'Gegevens van scanner'!$F$7:$G$250,2,0),0)","v":0}]
[10025360,null,null,{"$f":"IFERROR(VLOOKUP(A25369,'Gegevens van scanner'!$F$7:$G$250,2,0),0)","v":0}]
[10025361,null,null,{"$f":"IFERROR(VLOOKUP(A25370,'Gegevens van scanner'!$F$7:$G$250,2,0),0)","v":0}]
[10025362,null,null,{"$f":"IFERROR(VLOOKUP(A25371,'Gegevens van scanner'!$F$7:$G$250,2,0),0)","v":0}]
[10025363,null,null,{"$f":"IFERROR(VLOOKUP(A25372,'Gegevens van scanner'!$F$7:$G$250,2,0),0)","v":0}]
[10025364,null,null,{"$f":"IFERROR(VLOOKUP(A25373,'Gegevens van scanner'!$F$7:$G$250,2,0),0)","v":0}]
[10025365,null,null,{"$f":"IFERROR(VLOOKUP(A25374,'Gegevens van scanner'!$F$7:$G$250,2,0),0)","v":0}]
[10025366,null,null,{"$f":"IFERROR(VLOOKUP(A25375,'Gegevens van scanner'!$F$7:$G$250,2,0),0)","v":0}]
[10025367,null,null,{"$f":"IFERROR(VLOOKUP(A25376,'Gegevens van scanner'!$F$7:$G$250,2,0),0)","v":0}]
[10025368,null,null,{"$f":"IFERROR(VLOOKUP(A25377,'Gegevens van scanner'!$F$7:$G$250,2,0),0)","v":0}]
[10025369,null,null,{"$f":"IFERROR(VLOOKUP(A25378,'Gegevens van scanner'!$F$7:$G$250,2,0),0)","v":0}]
[10025370,null,null,{"$f":"IFERROR(VLOOKUP(A25379,'Gegevens van scanner'!$F$7:$G$250,2,0),0)","v":0}]
[10025371,null,null,{"$f":"IFERROR(VLOOKUP(A25380,'Gegevens van scanner'!$F$7:$G$250,2,0),0)","v":0}]
[10025372,null,null,{"$f":"IFERROR(VLOOKUP(A25381,'Gegevens van scanner'!$F$7:$G$250,2,0),0)","v":0}]
[10025373,null,null,{"$f":"IFERROR(VLOOKUP(A25382,'Gegevens van scanner'!$F$7:$G$250,2,0),0)","v":0}]
[10025374,null,null,{"$f":"IFERROR(VLOOKUP(A25383,'Gegevens van scanner'!$F$7:$G$250,2,0),0)","v":0}]
[10025375,null,null,{"$f":"IFERROR(VLOOKUP(A25384,'Gegevens van scanner'!$F$7:$G$250,2,0),0)","v":0}]
[10025376,null,null,{"$f":"IFERROR(VLOOKUP(A25385,'Gegevens van scanner'!$F$7:$G$250,2,0),0)","v":0}]
[10025377,null,null,{"$f":"IFERROR(VLOOKUP(A25386,'Gegevens van scanner'!$F$7:$G$250,2,0),0)","v":0}]
[10025378,null,null,{"$f":"IFERROR(VLOOKUP(A25387,'Gegevens van scanner'!$F$7:$G$250,2,0),0)","v":0}]
[10025379,null,null,{"$f":"IFERROR(VLOOKUP(A25388,'Gegevens van scanner'!$F$7:$G$250,2,0),0)","v":0}]
[10025380,null,null,{"$f":"IFERROR(VLOOKUP(A25389,'Gegevens van scanner'!$F$7:$G$250,2,0),0)","v":0}]
[10025381,null,null,{"$f":"IFERROR(VLOOKUP(A25390,'Gegevens van scanner'!$F$7:$G$250,2,0),0)","v":0}]
[10025382,null,null,{"$f":"IFERROR(VLOOKUP(A25391,'Gegevens van scanner'!$F$7:$G$250,2,0),0)","v":0}]
[10025383,null,null,{"$f":"IFERROR(VLOOKUP(A25392,'Gegevens van scanner'!$F$7:$G$250,2,0),0)","v":0}]
[10025384,null,null,{"$f":"IFERROR(VLOOKUP(A25393,'Gegevens van scanner'!$F$7:$G$250,2,0),0)","v":0}]
[10025385,null,null,{"$f":"IFERROR(VLOOKUP(A25394,'Gegevens van scanner'!$F$7:$G$250,2,0),0)","v":0}]
[10025386,null,null,{"$f":"IFERROR(VLOOKUP(A25395,'Gegevens van scanner'!$F$7:$G$250,2,0),0)","v":0}]
[10025387,null,null,{"$f":"IFERROR(VLOOKUP(A25396,'Gegevens van scanner'!$F$7:$G$250,2,0),0)","v":0}]
[10025388,null,null,{"$f":"IFERROR(VLOOKUP(A25397,'Gegevens van scanner'!$F$7:$G$250,2,0),0)","v":0}]
[10025389,null,null,{"$f":"IFERROR(VLOOKUP(A25398,'Gegevens van scanner'!$F$7:$G$250,2,0),0)","v":0}]
[10025390,null,null,{"$f":"IFERROR(VLOOKUP(A25399,'Gegevens van scanner'!$F$7:$G$250,2,0),0)","v":0}]
[10025391,null,null,{"$f":"IFERROR(VLOOKUP(A25400,'Gegevens van scanner'!$F$7:$G$250,2,0),0)","v":0}]
[10025392,null,null,{"$f":"IFERROR(VLOOKUP(A25401,'Gegevens van scanner'!$F$7:$G$250,2,0),0)","v":0}]
[10025393,null,null,{"$f":"IFERROR(VLOOKUP(A25402,'Gegevens van scanner'!$F$7:$G$250,2,0),0)","v":0}]
[10025394,null,null,{"$f":"IFERROR(VLOOKUP(A25403,'Gegevens van scanner'!$F$7:$G$250,2,0),0)","v":0}]
[10025395,null,null,{"$f":"IFERROR(VLOOKUP(A25404,'Gegevens van scanner'!$F$7:$G$250,2,0),0)","v":0}]
[10025396,null,null,{"$f":"IFERROR(VLOOKUP(A25405,'Gegevens van scanner'!$F$7:$G$250,2,0),0)","v":0}]
[10025397,null,null,{"$f":"IFERROR(VLOOKUP(A25406,'Gegevens van scanner'!$F$7:$G$250,2,0),0)","v":0}]
[10025398,null,null,{"$f":"IFERROR(VLOOKUP(A25407,'Gegevens van scanner'!$F$7:$G$250,2,0),0)","v":0}]
[10025399,null,null,{"$f":"IFERROR(VLOOKUP(A25408,'Gegevens van scanner'!$F$7:$G$250,2,0),0)","v":0}]
[10025400,null,null,{"$f":"IFERROR(VLOOKUP(A25409,'Gegevens van scanner'!$F$7:$G$250,2,0),0)","v":0}]
[10025401,null,null,{"$f":"IFERROR(VLOOKUP(A25410,'Gegevens van scanner'!$F$7:$G$250,2,0),0)","v":0}]
[10025402,null,null,{"$f":"IFERROR(VLOOKUP(A25411,'Gegevens van scanner'!$F$7:$G$250,2,0),0)","v":0}]
[10025403,null,null,{"$f":"IFERROR(VLOOKUP(A25412,'Gegevens van scanner'!$F$7:$G$250,2,0),0)","v":0}]
[10025404,null,null,{"$f":"IFERROR(VLOOKUP(A25413,'Gegevens van scanner'!$F$7:$G$250,2,0),0)","v":0}]
[10025405,null,null,{"$f":"IFERROR(VLOOKUP(A25414,'Gegevens van scanner'!$F$7:$G$250,2,0),0)","v":0}]
[10025406,null,null,{"$f":"IFERROR(VLOOKUP(A25415,'Gegevens van scanner'!$F$7:$G$250,2,0),0)","v":0}]
[10025407,null,null,{"$f":"IFERROR(VLOOKUP(A25416,'Gegevens van scanner'!$F$7:$G$250,2,0),0)","v":0}]
[10025408,null,null,{"$f":"IFERROR(VLOOKUP(A25417,'Gegevens van scanner'!$F$7:$G$250,2,0),0)","v":0}]
[10025409,null,null,{"$f":"IFERROR(VLOOKUP(A25418,'Gegevens van scanner'!$F$7:$G$250,2,0),0)","v":0}]
[{"$f":"A25418+1","v":10025410},null,null,{"$f":"IFERROR(VLOOKUP(A25419,'Gegevens van scanner'!$F$7:$G$250,2,0),0)","v":0}]
[10025411,null,null,{"$f":"IFERROR(VLOOKUP(A25420,'Gegevens van scanner'!$F$7:$G$250,2,0),0)","v":0}]
[10025412,null,null,{"$f":"IFERROR(VLOOKUP(A25421,'Gegevens van scanner'!$F$7:$G$250,2,0),0)","v":0}]
[10025413,null,null,{"$f":"IFERROR(VLOOKUP(A25422,'Gegevens van scanner'!$F$7:$G$250,2,0),0)","v":0}]
[10025414,null,null,{"$f":"IFERROR(VLOOKUP(A25423,'Gegevens van scanner'!$F$7:$G$250,2,0),0)","v":0}]
[10025415,null,null,{"$f":"IFERROR(VLOOKUP(A25424,'Gegevens van scanner'!$F$7:$G$250,2,0),0)","v":0}]
[10025416,null,null,{"$f":"IFERROR(VLOOKUP(A25425,'Gegevens van scanner'!$F$7:$G$250,2,0),0)","v":0}]
[10025417,null,null,{"$f":"IFERROR(VLOOKUP(A25426,'Gegevens van scanner'!$F$7:$G$250,2,0),0)","v":0}]
[10025418,null,null,{"$f":"IFERROR(VLOOKUP(A25427,'Gegevens van scanner'!$F$7:$G$250,2,0),0)","v":0}]
[10025419,null,null,{"$f":"IFERROR(VLOOKUP(A25428,'Gegevens van scanner'!$F$7:$G$250,2,0),0)","v":0}]
[10025420,null,null,{"$f":"IFERROR(VLOOKUP(A25429,'Gegevens van scanner'!$F$7:$G$250,2,0),0)","v":0}]
[10025421,null,null,{"$f":"IFERROR(VLOOKUP(A25430,'Gegevens van scanner'!$F$7:$G$250,2,0),0)","v":0}]
[10025422,null,null,{"$f":"IFERROR(VLOOKUP(A25431,'Gegevens van scanner'!$F$7:$G$250,2,0),0)","v":0}]
[10025423,null,null,{"$f":"IFERROR(VLOOKUP(A25432,'Gegevens van scanner'!$F$7:$G$250,2,0),0)","v":0}]
[10025424,null,null,{"$f":"IFERROR(VLOOKUP(A25433,'Gegevens van scanner'!$F$7:$G$250,2,0),0)","v":0}]
[10025425,null,null,{"$f":"IFERROR(VLOOKUP(A25434,'Gegevens van scanner'!$F$7:$G$250,2,0),0)","v":0}]
[10025426,null,null,{"$f":"IFERROR(VLOOKUP(A25435,'Gegevens van scanner'!$F$7:$G$250,2,0),0)","v":0}]
[10025427,null,null,{"$f":"IFERROR(VLOOKUP(A25436,'Gegevens van scanner'!$F$7:$G$250,2,0),0)","v":0}]
[10025428,null,null,{"$f":"IFERROR(VLOOKUP(A25437,'Gegevens van scanner'!$F$7:$G$250,2,0),0)","v":0}]
[10025429,null,null,{"$f":"IFERROR(VLOOKUP(A25438,'Gegevens van scanner'!$F$7:$G$250,2,0),0)","v":0}]
[10025430,null,null,{"$f":"IFERROR(VLOOKUP(A25439,'Gegevens van scanner'!$F$7:$G$250,2,0),0)","v":0}]
[10025431,null,null,{"$f":"IFERROR(VLOOKUP(A25440,'Gegevens van scanner'!$F$7:$G$250,2,0),0)","v":0}]
[10025432,null,null,{"$f":"IFERROR(VLOOKUP(A25441,'Gegevens van scanner'!$F$7:$G$250,2,0),0)","v":0}]
[10025433,null,null,{"$f":"IFERROR(VLOOKUP(A25442,'Gegevens van scanner'!$F$7:$G$250,2,0),0)","v":0}]
[10025434,null,null,{"$f":"IFERROR(VLOOKUP(A25443,'Gegevens van scanner'!$F$7:$G$250,2,0),0)","v":0}]
[10025435,null,null,{"$f":"IFERROR(VLOOKUP(A25444,'Gegevens van scanner'!$F$7:$G$250,2,0),0)","v":0}]
[10025436,null,null,{"$f":"IFERROR(VLOOKUP(A25445,'Gegevens van scanner'!$F$7:$G$250,2,0),0)","v":0}]
[10025437,null,null,{"$f":"IFERROR(VLOOKUP(A25446,'Gegevens van scanner'!$F$7:$G$250,2,0),0)","v":0}]
[10025438,null,null,{"$f":"IFERROR(VLOOKUP(A25447,'Gegevens van scanner'!$F$7:$G$250,2,0),0)","v":0}]
[10025439,null,null,{"$f":"IFERROR(VLOOKUP(A25448,'Gegevens van scanner'!$F$7:$G$250,2,0),0)","v":0}]
[10025440,null,null,{"$f":"IFERROR(VLOOKUP(A25449,'Gegevens van scanner'!$F$7:$G$250,2,0),0)","v":0}]
[10025441,null,null,{"$f":"IFERROR(VLOOKUP(A25450,'Gegevens van scanner'!$F$7:$G$250,2,0),0)","v":0}]
[10025442,null,null,{"$f":"IFERROR(VLOOKUP(A25451,'Gegevens van scanner'!$F$7:$G$250,2,0),0)","v":0}]
[10025443,null,null,{"$f":"IFERROR(VLOOKUP(A25452,'Gegevens van scanner'!$F$7:$G$250,2,0),0)","v":0}]
[10025444,null,null,{"$f":"IFERROR(VLOOKUP(A25453,'Gegevens van scanner'!$F$7:$G$250,2,0),0)","v":0}]
[10025445,null,null,{"$f":"IFERROR(VLOOKUP(A25454,'Gegevens van scanner'!$F$7:$G$250,2,0),0)","v":0}]
[10025446,null,null,{"$f":"IFERROR(VLOOKUP(A25455,'Gegevens van scanner'!$F$7:$G$250,2,0),0)","v":0}]
[10025447,null,null,{"$f":"IFERROR(VLOOKUP(A25456,'Gegevens van scanner'!$F$7:$G$250,2,0),0)","v":0}]
[10025448,null,null,{"$f":"IFERROR(VLOOKUP(A25457,'Gegevens van scanner'!$F$7:$G$250,2,0),0)","v":0}]
[10025449,null,null,{"$f":"IFERROR(VLOOKUP(A25458,'Gegevens van scanner'!$F$7:$G$250,2,0),0)","v":0}]
[10025450,null,null,{"$f":"IFERROR(VLOOKUP(A25459,'Gegevens van scanner'!$F$7:$G$250,2,0),0)","v":0}]
[10025451,null,null,{"$f":"IFERROR(VLOOKUP(A25460,'Gegevens van scanner'!$F$7:$G$250,2,0),0)","v":0}]
[10025452,null,null,{"$f":"IFERROR(VLOOKUP(A25461,'Gegevens van scanner'!$F$7:$G$250,2,0),0)","v":0}]
[10025453,null,null,{"$f":"IFERROR(VLOOKUP(A25462,'Gegevens van scanner'!$F$7:$G$250,2,0),0)","v":0}]
[10025454,null,null,{"$f":"IFERROR(VLOOKUP(A25463,'Gegevens van scanner'!$F$7:$G$250,2,0),0)","v":0}]
[10025455,null,null,{"$f":"IFERROR(VLOOKUP(A25464,'Gegevens van scanner'!$F$7:$G$250,2,0),0)","v":0}]
[10025456,null,null,{"$f":"IFERROR(VLOOKUP(A25465,'Gegevens van scanner'!$F$7:$G$250,2,0),0)","v":0}]
[10025457,null,null,{"$f":"IFERROR(VLOOKUP(A25466,'Gegevens van scanner'!$F$7:$G$250,2,0),0)","v":0}]
[10025458,null,null,{"$f":"IFERROR(VLOOKUP(A25467,'Gegevens van scanner'!$F$7:$G$250,2,0),0)","v":0}]
[10025459,null,null,{"$f":"IFERROR(VLOOKUP(A25468,'Gegevens van scanner'!$F$7:$G$250,2,0),0)","v":0}]
[10025460,null,null,{"$f":"IFERROR(VLOOKUP(A25469,'Gegevens van scanner'!$F$7:$G$250,2,0),0)","v":0}]
[10025461,null,null,{"$f":"IFERROR(VLOOKUP(A25470,'Gegevens van scanner'!$F$7:$G$250,2,0),0)","v":0}]
[10025462,null,null,{"$f":"IFERROR(VLOOKUP(A25471,'Gegevens van scanner'!$F$7:$G$250,2,0),0)","v":0}]
[10025463,null,null,{"$f":"IFERROR(VLOOKUP(A25472,'Gegevens van scanner'!$F$7:$G$250,2,0),0)","v":0}]
[10025464,null,null,{"$f":"IFERROR(VLOOKUP(A25473,'Gegevens van scanner'!$F$7:$G$250,2,0),0)","v":0}]
[10025465,null,null,{"$f":"IFERROR(VLOOKUP(A25474,'Gegevens van scanner'!$F$7:$G$250,2,0),0)","v":0}]
[10025466,null,null,{"$f":"IFERROR(VLOOKUP(A25475,'Gegevens van scanner'!$F$7:$G$250,2,0),0)","v":0}]
[10025467,null,null,{"$f":"IFERROR(VLOOKUP(A25476,'Gegevens van scanner'!$F$7:$G$250,2,0),0)","v":0}]
[10025468,null,null,{"$f":"IFERROR(VLOOKUP(A25477,'Gegevens van scanner'!$F$7:$G$250,2,0),0)","v":0}]
[10025469,null,null,{"$f":"IFERROR(VLOOKUP(A25478,'Gegevens van scanner'!$F$7:$G$250,2,0),0)","v":0}]
[10025470,null,null,{"$f":"IFERROR(VLOOKUP(A25479,'Gegevens van scanner'!$F$7:$G$250,2,0),0)","v":0}]
[10025471,null,null,{"$f":"IFERROR(VLOOKUP(A25480,'Gegevens van scanner'!$F$7:$G$250,2,0),0)","v":0}]
[10025472,null,null,{"$f":"IFERROR(VLOOKUP(A25481,'Gegevens van scanner'!$F$7:$G$250,2,0),0)","v":0}]
[10025473,null,null,{"$f":"IFERROR(VLOOKUP(A25482,'Gegevens van scanner'!$F$7:$G$250,2,0),0)","v":0}]
[{"$f":"A25482+1","v":10025474},null,null,{"$f":"IFERROR(VLOOKUP(A25483,'Gegevens van scanner'!$F$7:$G$250,2,0),0)","v":0}]
[10025475,null,null,{"$f":"IFERROR(VLOOKUP(A25484,'Gegevens van scanner'!$F$7:$G$250,2,0),0)","v":0}]
[10025476,null,null,{"$f":"IFERROR(VLOOKUP(A25485,'Gegevens van scanner'!$F$7:$G$250,2,0),0)","v":0}]
[10025477,null,null,{"$f":"IFERROR(VLOOKUP(A25486,'Gegevens van scanner'!$F$7:$G$250,2,0),0)","v":0}]
[10025478,null,null,{"$f":"IFERROR(VLOOKUP(A25487,'Gegevens van scanner'!$F$7:$G$250,2,0),0)","v":0}]
[10025479,null,null,{"$f":"IFERROR(VLOOKUP(A25488,'Gegevens van scanner'!$F$7:$G$250,2,0),0)","v":0}]
[10025480,null,null,{"$f":"IFERROR(VLOOKUP(A25489,'Gegevens van scanner'!$F$7:$G$250,2,0),0)","v":0}]
[10025481,null,null,{"$f":"IFERROR(VLOOKUP(A25490,'Gegevens van scanner'!$F$7:$G$250,2,0),0)","v":0}]
[10025482,null,null,{"$f":"IFERROR(VLOOKUP(A25491,'Gegevens van scanner'!$F$7:$G$250,2,0),0)","v":0}]
[10025483,null,null,{"$f":"IFERROR(VLOOKUP(A25492,'Gegevens van scanner'!$F$7:$G$250,2,0),0)","v":0}]
[10025484,null,null,{"$f":"IFERROR(VLOOKUP(A25493,'Gegevens van scanner'!$F$7:$G$250,2,0),0)","v":0}]
[10025485,null,null,{"$f":"IFERROR(VLOOKUP(A25494,'Gegevens van scanner'!$F$7:$G$250,2,0),0)","v":0}]
[10025486,null,null,{"$f":"IFERROR(VLOOKUP(A25495,'Gegevens van scanner'!$F$7:$G$250,2,0),0)","v":0}]
[10025487,null,null,{"$f":"IFERROR(VLOOKUP(A25496,'Gegevens van scanner'!$F$7:$G$250,2,0),0)","v":0}]
[10025488,null,null,{"$f":"IFERROR(VLOOKUP(A25497,'Gegevens van scanner'!$F$7:$G$250,2,0),0)","v":0}]
[10025489,null,null,{"$f":"IFERROR(VLOOKUP(A25498,'Gegevens van scanner'!$F$7:$G$250,2,0),0)","v":0}]
[10025490,null,null,{"$f":"IFERROR(VLOOKUP(A25499,'Gegevens van scanner'!$F$7:$G$250,2,0),0)","v":0}]
[10025491,null,null,{"$f":"IFERROR(VLOOKUP(A25500,'Gegevens van scanner'!$F$7:$G$250,2,0),0)","v":0}]
[10025492,null,null,{"$f":"IFERROR(VLOOKUP(A25501,'Gegevens van scanner'!$F$7:$G$250,2,0),0)","v":0}]
[10025493,null,null,{"$f":"IFERROR(VLOOKUP(A25502,'Gegevens van scanner'!$F$7:$G$250,2,0),0)","v":0}]
[10025494,null,null,{"$f":"IFERROR(VLOOKUP(A25503,'Gegevens van scanner'!$F$7:$G$250,2,0),0)","v":0}]
[10025495,null,null,{"$f":"IFERROR(VLOOKUP(A25504,'Gegevens van scanner'!$F$7:$G$250,2,0),0)","v":0}]
[10025496,null,null,{"$f":"IFERROR(VLOOKUP(A25505,'Gegevens van scanner'!$F$7:$G$250,2,0),0)","v":0}]
[10025497,null,null,{"$f":"IFERROR(VLOOKUP(A25506,'Gegevens van scanner'!$F$7:$G$250,2,0),0)","v":0}]
[10025498,null,null,{"$f":"IFERROR(VLOOKUP(A25507,'Gegevens van scanner'!$F$7:$G$250,2,0),0)","v":0}]
[10025499,null,null,{"$f":"IFERROR(VLOOKUP(A25508,'Gegevens van scanner'!$F$7:$G$250,2,0),0)","v":0}]

{"sheet":"BARCODE GENERATOR","index":2,"n_rows":31,"n_cols":13,"rows_kept":31,"cut":false,"hidden":false,"merged":[]}
[{"$f":"VLOOKUP(M4,DATABASE!A:B,2,FALSE)","v":"Apple iPhone 4S 8GB"},null,{"$f":"VLOOKUP(C3,DATABASE!A:B,2,FALSE)","v":"Apple iPhone 6 16GB"},null,{"$f":"VLOOKUP(E3,DATABASE!A:B,2,FALSE)","v":"Apple iPhone 6 Plus 64GB"}]
[{"$f":"IF(A3>0,\"*\"&A3&\"*\",\"\")","v":"*10000001*"},null,{"$f":"IF(C3>0,\"*\"&C3&\"*\",\"\")","v":"*10000009*"},null,{"$f":"IF(E3>0,\"*\"&E3&\"*\",\"\")","v":"*10000017*"},null,null,null,"(deze pagina niet uitprinten)"]
[{"$f":"M4","v":10000001},null,{"$f":"A31+1","v":10000009},null,{"$f":"C31+1","v":10000017}]
[null,null,null,null,null,null,null,null,null,null,null,"GEGEVENS OPHALEN VANAF SYSTEEM NUMMER:",10000001]
[{"$f":"VLOOKUP(A7,DATABASE!A:B,2,FALSE)","v":"Apple iPhone 4S 8GB"},null,{"$f":"VLOOKUP(C7,DATABASE!A:B,2,FALSE)","v":"Apple iPhone 6 16GB"},null,{"$f":"VLOOKUP(E7,DATABASE!A:B,2,FALSE)","v":"Apple iPhone 6 Plus 64GB"},null,null,null,null,null,null,null,{"$f":"\"T/M \"&M4+20","v":"T/M 10000021"}]
[{"$f":"IF(A7>0,\"*\"&A7&\"*\",\"\")","v":"*10000002*"},null,{"$f":"IF(C7>0,\"*\"&C7&\"*\",\"\")","v":"*10000010*"},null,{"$f":"IF(E7>0,\"*\"&E7&\"*\",\"\")","v":"*10000018*"}]
[{"$f":"A3+1","v":10000002},null,{"$f":"C3+1","v":10000010},null,{"$f":"E3+1","v":10000018},null,null,null,null,null,"bladbeveiliging opheffen:","vb"]
[]
[{"$f":"VLOOKUP(A11,DATABASE!A:B,2,FALSE)","v":"Apple iPhone 5C 8GB"},null,{"$f":"VLOOKUP(C11,DATABASE!A:B,2,FALSE)","v":"Apple iPhone 6 64GB"},null,{"$f":"VLOOKUP(E11,DATABASE!A:B,2,FALSE)","v":"Apple iPhone 6 Plus 128GB"}]
[{"$f":"IF(A11>0,\"*\"&A11&\"*\",\"\")","v":"*10000003*"},null,{"$f":"IF(C11>0,\"*\"&C11&\"*\",\"\")","v":"*10000011*"},null,{"$f":"IF(E11>0,\"*\"&E11&\"*\",\"\")","v":"*10000019*"}]
[{"$f":"A7+1","v":10000003},null,{"$f":"C7+1","v":10000011},null,{"$f":"E7+1","v":10000019}]
[]
[{"$f":"VLOOKUP(A15,DATABASE!A:B,2,FALSE)","v":"Apple iPhone 5C 8GB"},null,{"$f":"VLOOKUP(C15,DATABASE!A:B,2,FALSE)","v":"Apple iPhone 6 64GB"},null,{"$f":"VLOOKUP(E15,DATABASE!A:B,2,FALSE)","v":"Apple iPhone 6 Plus 128GB"}]
[{"$f":"IF(A15>0,\"*\"&A15&\"*\",\"\")","v":"*10000004*"},null,{"$f":"IF(C15>0,\"*\"&C15&\"*\",\"\")","v":"*10000012*"},null,{"$f":"IF(E15>0,\"*\"&E15&\"*\",\"\")","v":"*10000020*"}]
[{"$f":"A11+1","v":10000004},null,{"$f":"C11+1","v":10000012},null,{"$f":"E11+1","v":10000020}]
[]
[{"$f":"VLOOKUP(A19,DATABASE!A:B,2,FALSE)","v":"Apple iPhone 5S 16GB"},null,{"$f":"VLOOKUP(C19,DATABASE!A:B,2,FALSE)","v":"Apple iPhone 6 128GB"},null,{"$f":"VLOOKUP(E19,DATABASE!A:B,2,FALSE)","v":"BlackBerry Classic"}]
[{"$f":"IF(A19>0,\"*\"&A19&\"*\",\"\")","v":"*10000005*"},null,{"$f":"IF(C19>0,\"*\"&C19&\"*\",\"\")","v":"*10000013*"},null,{"$f":"IF(E19>0,\"*\"&E19&\"*\",\"\")","v":"*10000021*"}]
[{"$f":"A15+1","v":10000005},null,{"$f":"C15+1","v":10000013},null,{"$f":"E15+1","v":10000021}]
[]
[{"$f":"VLOOKUP(A23,DATABASE!A:B,2,FALSE)","v":"Apple iPhone 5S 16GB"},null,{"$f":"VLOOKUP(C23,DATABASE!A:B,2,FALSE)","v":"Apple iPhone 6 128GB"},null,{"$f":"VLOOKUP(E23,DATABASE!A:B,2,FALSE)","v":"BlackBerry Classic"}]
[{"$f":"IF(A23>0,\"*\"&A23&\"*\",\"\")","v":"*10000006*"},null,{"$f":"IF(C23>0,\"*\"&C23&\"*\",\"\")","v":"*10000014*"},null,{"$f":"IF(E23>0,\"*\"&E23&\"*\",\"\")","v":"*10000022*"}]
[{"$f":"A19+1","v":10000006},null,{"$f":"C19+1","v":10000014},null,{"$f":"E19+1","v":10000022}]
[]
[{"$f":"VLOOKUP(A27,DATABASE!A:B,2,FALSE)","v":"Apple iPhone 5S 32GB"},null,{"$f":"VLOOKUP(C27,DATABASE!A:B,2,FALSE)","v":"Apple iPhone 6 Plus 16GB"},null,{"$f":"VLOOKUP(E27,DATABASE!A:B,2,FALSE)","v":"BlackBerry Leap"}]
[{"$f":"IF(A27>0,\"*\"&A27&\"*\",\"\")","v":"*10000007*"},null,{"$f":"IF(C27>0,\"*\"&C27&\"*\",\"\")","v":"*10000015*"},null,{"$f":"IF(E27>0,\"*\"&E27&\"*\",\"\")","v":"*10000023*"}]
[{"$f":"A23+1","v":10000007},null,{"$f":"C23+1","v":10000015},null,{"$f":"E23+1","v":10000023}]
[]
[{"$f":"VLOOKUP(A31,DATABASE!A:B,2,FALSE)","v":"Apple iPhone 5S 32GB"},null,{"$f":"VLOOKUP(C31,DATABASE!A:B,2,FALSE)","v":"Apple iPhone 6 Plus 16GB"},null,{"$f":"VLOOKUP(E31,DATABASE!A:B,2,FALSE)","v":"BlackBerry Leap"}]
[{"$f":"IF(A31>0,\"*\"&A31&\"*\",\"\")","v":"*10000008*"},null,{"$f":"IF(C31>0,\"*\"&C31&\"*\",\"\")","v":"*10000016*"},null,{"$f":"IF(E31>0,\"*\"&E31&\"*\",\"\")","v":"*10000024*"}]
[{"$f":"A27+1","v":10000008},null,{"$f":"C27+1","v":10000016},null,{"$f":"E27+1","v":10000024}]

{"sheet":"SETUP","index":3,"n_rows":24,"n_cols":20,"rows_kept":24,"cut":false,"hidden":false,"merged":[]}
[]
[]
[]
[]
["SCANNER (APP)"]
[]
["Stap .1",null,"Download de APP:",null,null,"https://play.google.com/store/apps/details?id=com.longint.lomag.scanner&hl=nl"]
["Stap .2",null,"Ga in de APP naar Settings (tandwiel) verander de instelling [Code only] naar [Code and amount]."]
["Stap .3",null,"Maak een nieuwe lijst aan in de APP. Druk op Add file (+). Je ziet een klein venster voor de naam van je lijst. Verander dit niet! Druk op Confirm."]
["Stap .4",null,"Draai je telefoon 90 en scan de barcode, je hoort een piepje als je telefoon de barcode scant. Geef nu het aantal onderdelen op dat je meeneemt."]
["Stap .5",null,"Druk op [Scan nect] als u nog een ander onderdeel nodig heeft. Druk op [Save and exit] als je geen onderdelen meer nodig hebt."]
["Stap .6",null,"In de loop van de dag heb je een lijst met onderdelen gescand. Bekijk je lijst met [Browse files]. Oude lijsten zijn hier te verwijderen met X"]
["Stap .7",null,"Aan het einde van de dag stuur je jou lijst door naar de computer, druk op [Send file]. Er komt een venster, druk op [Send to e-mail address]. Druk op [Send]. Zorg er nu voor dat jou telefoon het mailtje naar de computer stuurd."]
[]
[]
[]
["VOORRAAD BEHEER (PC)"]
[]
["Stap .8",null,"Op de PC heb je nodig: dit excel bestand, en een nieuwe lettertype. Download de lettertype Code 39 Font TrueType:",null,null,null,null,null,null,null,null,null,null,"http://www.barcodesinc.com/free-barcode-font/"]
["Stap .9",null,"Controleer of de lettertype door windows is opgenomen. Start dit excel bestand opnieuw op. De tekst \"barcode\" hiernaast is nu in een barcode verandert:",null,null,null,null,null,null,null,null,null,null,null,null,null,null,"barcode",null,"Is dit geen barcode? Start je PC opnieuw op."]
["Stap .10",null,"Download de bijlagen van het mailtje van stap 7. open de bijlagen. Kopieer alleen de cellen met tekst. Plak de gegevens in dit bestand op het tabblad [Gegevens van scanner] in cell A3"]
["Stap .11",null,"In de tweede kolom komt meteen de melding VERNIEUWEN (in het rood). Klik met rechtermuisknop onder de cell met de melding. Klik op vernieuwen. De waarschuwing verdwijnt nu."]
[]
[null,null,"De gegevens van je smartphone (scanner) zijn nu opgenomen en gefilterd in excel. Om de nieuwe aantallen door te voeren moet ik nog een oplossing vinden :P"]