{"text_format":"1","workbook":"xlsx","n_sheets":4,"sheets":["Main","Inputs","requests","To link to Planning Table"],"not_rendered":{"charts":0,"images":2,"macros":1,"external_links":0,"defined_names":1,"comments":0,"pivot_tables":0},"unopened":[],"bounds":{"document_bytes":16777216,"sheet_cells":100000,"rows_first":2000,"rows_last":500,"rows_between":2000,"halvings":0,"cell_chars":16384,"cell_head_chars":4096},"cells_cut":0,"cells_raw":0,"read":"whole","date_system":"1900"}

{"sheet":"Main","index":0,"n_rows":0,"n_cols":0,"rows_kept":0,"cut":false,"hidden":false,"merged":[]}

{"sheet":"Inputs","index":1,"n_rows":147,"n_cols":11,"rows_kept":147,"cut":false,"hidden":false,"merged":[]}
[]
[]
[null,null,"Names","Team","FT / PT","Level","Dates","Special Requests","Favorite shift","Type","Preferred Weekend"]
[null,null,"Acevedo, Rodrigo","IBERIAN","FT","Expert","2016-05-01",null,"Early Morning R/R4","F","6 + 7"]
[null,null,"Ahadi Sosa, Nadine","GERMAN 2","PT","Expert","2016-05-02",null,"Morning R2","OFF","13 + 14"]
[null,null,"Alavoine, Pauline","FR3","FT","Expert","2016-05-03",null,"Day D/D2","R","20 + 21"]
[null,null,"Ali, Said","FR3","PT","Expert","2016-05-04",null,"Afternoon O4","R4","27 + 28"]
[null,null,"Allakkis, Hassan","EN2","FT","Junior","2016-05-05",null,"Evening O2/N","R2"]
[null,null,"Alvarez, Carlos","IBERIAN","FT","Junior","2016-05-06",null,"No Preference","D"]
[null,null,"Argent, Andrew William Clifford","FR2","PT","Junior","2016-05-07",null,null,"D2"]
[null,null,"Argote, Jose","IBERIAN","FT","Junior","2016-05-08",null,null,"O4"]
[null,null,"Arnault, Estelle","FR1","FT","Senior","2016-05-09",null,null,"O2"]
[null,null,"Auditore, Concetto Livio","ITA","PT","Senior","2016-05-10",null,null,"N"]
[null,null,"Aufreiterová, Ingrid","GERMAN 2","FT","Senior","2016-05-11"]
[null,null,"Azema, Clément","FR3","PT","Expert","2016-05-12"]
[null,null,"Babjáková, Lucia","GERMAN 1","FT","Expert","2016-05-13"]
[null,null,"Ballariová, Kateřina","ITA","PT","Expert","2016-05-14"]
[null,null,"Barbaud, Melody","FR3","FT","Expert","2016-05-15"]
[null,null,"Barreto Barra, Boris Ivan","IBERIAN","FT","Expert","2016-05-16"]
[null,null,"Beneš, Lukáš","GERMAN 2","PT","Junior","2016-05-17"]
[null,null,"Berka, Tomáš","GERMAN 1","FT","Junior","2016-05-18"]
[null,null,"Bewer, Alexander","GERMAN 1","FT","Junior","2016-05-19"]
[null,null,"Bogaert, Joana","FR2","PT","Junior","2016-05-20"]
[null,null,"Boško, Adam","GERMAN 1","FT","Senior","2016-05-21"]
[null,null,"Bouchet, Laureanne","FR1","PT","Senior","2016-05-22"]
[null,null,"Brzák, Petr","FR3","FT","Senior","2016-05-23"]
[null,null,"Burssens, Joeri","EN1","PT","Expert","2016-05-24"]
[null,null,"Canizares González, Francisco","IBERIAN","FT","Expert","2016-05-25"]
[null,null,"Carabal, Tristan","FR1","FT","Expert","2016-05-26"]
[null,null,"Cherradi, Louis-Mehdi","FR2","PT","Expert","2016-05-27"]
[null,null,"Coelho, José","IBERIAN","FT","Expert","2016-05-28"]
[null,null,"Colonna Carli, François Jefferson","FR3","FT","Junior","2016-05-29"]
[null,null,"Cousin, Jean-Baptiste","FR3","FT","Junior","2016-05-30"]
[null,null,"Da Silva, Laure","FR3","PT","Junior","2016-05-31"]
[null,null,"de Visser, Mariska","EN1","FT","Junior"]
[null,null,"Demeusoy, Florent","FR3","PT","Senior"]
[null,null,"Denis, Guillaume","FR3","FT","Senior"]
[null,null,"Diaconu, Andreea","GERMAN 2","FT","Senior"]
[null,null,"Díaz Almeida, Verónica Vanessa","IBERIAN","PT","Expert"]
[null,null,"Dosoudilová, Vlasta","FR1","FT","Expert"]
[null,null,"Drees, Eliška","GERMAN 1","FT","Expert"]
[null,null,"Drozdek, Lukasz","EN1","FT","Expert"]
[null,null,"Dudilieux, Colin","FR3","PT","Expert"]
[null,null,"Dudzińska, Barbara","EN1","FT","Junior"]
[null,null,"Dumik, Dejan","EN2","PT","Junior"]
[null,null,"Dvořáková, Petra","FR1","FT","Junior"]
[null,null,"Elkiaer, Mathilde","EN1","FT","Junior"]
[null,null,"Ezrifi, Halima","FR2","PT","Senior"]
[null,null,"Filipíková, Petra","GERMAN 1","FT","Senior"]
[null,null,"Franet, Raphael","FR3","FT","Senior"]
[null,null,"Freitas Costa, Isadora","IBERIAN","FT","Expert"]
[null,null,"Frick, Sebastian","EN1","PT","Expert"]
[null,null,"Ganci, Pietro","FR1","FT","Expert"]
[null,null,"Garbelini, Roberto Carlos","IBERIAN","PT","Expert"]
[null,null,"Gentili, Diego","ITA","FT","Expert"]
[null,null,"Gonzálvez Gallego, Lorena","IBERIAN","FT","Junior"]
[null,null,"Gotzsche Kure Hansen, Kaspar","EN1","PT","Junior"]
[null,null,"Greňová, Martina","GERMAN 1","FT","Junior"]
[null,null,"Guadalupe Cabezas, Karina Lisette","IBERIAN","FT","Junior"]
[null,null,"Guennec, Mégane","FR2","FT","Senior"]
[null,null,"Gutierrez Atriano, Erika","IBERIAN","PT","Senior"]
[null,null,"Ibar, Daniel Alejandro","ITA","FT","Senior"]
[null,null,"Isamene Ngutu, Pamela","FR1","PT","Expert"]
[null,null,"Ivanova, Ivaneta","EN2","FT","Expert"]
[null,null,"Janošková, Monika","EN1","FT","Expert"]
[null,null,"Jedlička Cissé, Anna","FR3","PT","Expert"]
[null,null,"Jindra, Michaela","EN2","FT","Expert"]
[null,null,"Jonsson, Elin Isabelle","Operations Department","FT","Junior"]
[null,null,"Kapnistis, Ioannis","EN1","FT","Junior"]
[null,null,"Kartsios, Charalampos Panagiotis","EN2","PT","Junior"]
[null,null,"Kerany, Zakaria","FR2","FT","Junior"]
[null,null,"Knesplová, Irma","ITA","PT","Senior"]
[null,null,"Koblasa, David","GERMAN 1","FT","Senior"]
[null,null,"Kočka, Peter","GERMAN 1","FT","Senior"]
[null,null,"Krasimirova Krumova, Iliana","IBERIAN","PT","Expert"]
[null,null,"Kunnari, Arttu Tapio","EN1","FT","Expert"]
[null,null,"Laby, Jérôme","FR1","FT","Expert"]
[null,null,"Landa, David","GERMAN 2","FT","Expert"]
[null,null,"Levy, Sharon Esther","EN2","PT","Expert"]
[null,null,"Libora, Josef","EN2","FT","Junior"]
[null,null,"Lukeš, Jakub","GERMAN 1","PT","Junior"]
[null,null,"Lyubarska, Anna","FR1","FT","Junior"]
[null,null,"Madeira Mendoza, César Augusto","GERMAN 2","FT","Junior"]
[null,null,"Magi, Marco","ITA","PT","Senior"]
[null,null,"Magis, Sébastien","FR3","FT","Senior"]
[null,null,"Maliková, Jean","ITA","FT","Senior"]
[null,null,"Malíková, Martina","GERMAN 2","PT","Expert"]
[null,null,"Mallevaes, Julie","FR1","FT","Expert"]
[null,null,"Mandahl Forsberg, Balthazar","EN1","PT","Expert"]
[null,null,"Marécal, Fabien","FR3","FT","Expert"]
[null,null,"Mareš, Petr","FR2","FT","Expert"]
[null,null,"Marostica, Gabriel","IBERIAN","PT","Junior"]
[null,null,"Marounková, Jaroslava","EN2","FT","Junior"]
[null,null,"Mazza, Caroline","FR3","FT","Junior"]
[null,null,"Melendez, Jeremy","FR3","FT","Junior"]
[null,null,"Menale, Domenico","ITA","FT","Senior"]
[null,null,"Messaoudi, Oktay","FR1","FT","Senior"]
[null,null,"Miori, Romina","ITA","PT","Senior"]
[null,null,"Molnár, Gergely Gábor","GERMAN 2","FT","Expert"]
[null,null,"Moravec, Hynek","FR1","PT","Expert"]
[null,null,"Müllerová, Lucie","EN2","FT","Expert"]
[null,null,"Nagy, Kinga","ITA","FT","Expert"]
[null,null,"Němcová, Agnesa","ITA","PT","Expert"]
[null,null,"Netolická, Veronika","GERMAN 2","FT","Junior"]
[null,null,"O´Rourke, Viktorija","EN2","FT","Junior"]
[null,null,"Obritin, Marion","FR3","FT","Junior"]
[null,null,"Obstová, Ivana","IBERIAN","PT","Junior"]
[null,null,"Očenášová, Petra","FR3","FT","Senior"]
[null,null,"Pananakis, Konstantinos","EN2","PT","Senior"]
[null,null,"Pavez, Gabriela","IBERIAN","FT","Senior"]
[null,null,"Pereira, Daniel","IBERIAN","FT","Expert"]
[null,null,"Petit, Chloé","FR3","PT","Expert"]
[null,null,"Pinkava, Eleanor","GERMAN 2","FT","Expert"]
[null,null,"Pleshkov, Yevgeny","EN2","FT","Expert"]
[null,null,"Pouchová, Eliška","FR1","FT","Expert"]
[null,null,"Pracajic, Franjo","GERMAN 1","PT","Junior"]
[null,null,"Rabušic, Petr","GERMAN 1","FT","Junior"]
[null,null,"Ramos, Nelson","FR2","PT","Junior"]
[null,null,"Ribeiro Vicente, Victor Raphael","IBERIAN","FT","Junior"]
[null,null,"Roger, Thomas","FR3","FT","Senior"]
[null,null,"Ruiz Martinez, Carlos Ricardo","IBERIAN","PT","Senior"]
[null,null,"Russo, Lorenzo","ITA","FT","Senior"]
[null,null,"Sabev, Ivaylo","EN2","FT","Expert"]
[null,null,"Sanglier, Virginie","FR3","FT","Expert"]
[null,null,"Santarella, Jacopo","ITA","PT","Expert"]
[null,null,"Šátek, Lukáš","EN2","FT","Expert"]
[null,null,"Sevostianova, Mariia","GERMAN 2","PT","Expert"]
[null,null,"Sire, Pierre","FR3","FT","Junior"]
[null,null,"Stedrovsky, Patrick","GERMAN 2","FT","Junior"]
[null,null,"Stefanova, Borislava","EN1","PT","Junior"]
[null,null,"Švarcbachová, Barbora","GERMAN 1","FT","Junior"]
[null,null,"Sy, Phonsavane Alice","FR2","FT","Senior"]
[null,null,"Teca, Joaquim","FR2","FT","Senior"]
[null,null,"Tellier, Julie","FR3","PT","Senior"]
[null,null,"Timurtas, Ibrahim Halil","EN2","FT","Expert"]
[null,null,"Truksa, Jan","EN2","PT","Expert"]
[null,null,"Úlovec, Jan","ITA","FT","Expert"]
[null,null,"Vardanyan, Yelena","EN2","FT","Expert"]
[null,null,"Velíková, Zuzana","FR1","PT","Expert"]
[null,null,"Vigašová, Barbora","FR1","FT","Junior"]
[null,null,"Vigier, Romain","FR2","FT","Junior"]
[null,null,"Viklund, Nils Christian","EN1","FT","Junior"]
[null,null,"Votýpková, Ilona","EN1","PT","Junior"]
[null,null,"Wlodarczyk, Magda","EN1","FT","Senior"]
[null,null,"Zakrzewska, Karolina Martyna","EN1","PT","Senior"]
[null,null,"Zambo, Lynette","GERMAN 2","FT","Senior"]
[null,null,"Zangre, Issaka","FR2","FT","Expert"]

{"sheet":"requests","index":2,"n_rows":10,"n_cols":14,"rows_kept":10,"cut":false,"hidden":true,"merged":[]}
[1,2,3,4,5,6,7,8,9,10,11,12,13,14]
["Name","Team","Windows Login","Date","Request","Favorite time of the day to work","Weekend1","Weekend2","Requested holidays in Shift management","Comments","Date Stamp"]
["Alvarez, Carlos","IBERIAN","bp.tboersma",null,null,null,"13 + 14","20 + 21",null,"f","2016-02-20T18:37:48"]
["Alvarez, Carlos",null,null,null,null,null,null,null,null,null,"2016-02-20T18:37:50"]
["Alvarez, Carlos",null,null,null,null,null,null,null,null,null,"2016-02-20T18:37:50"]
["Alvarez, Carlos",null,null,null,null,null,null,null,null,null,"2016-02-20T18:37:50"]
["Alvarez, Carlos","IBERIAN","bp.tboersma","2016-05-03","R",null,null,null,null,null,"2016-02-20T18:39:14"]
["Alvarez, Carlos",null,null,null,null,null,null,null,null,null,"2016-02-20T18:39:15"]
["Alvarez, Carlos",null,null,null,null,null,null,null,null,null,"2016-02-20T18:39:15"]
["Alvarez, Carlos",null,null,null,null,null,null,null,null,null,"2016-02-20T18:39:15"]

{"sheet":"To link to Planning Table","index":3,"n_rows":437,"n_cols":35,"rows_kept":437,"cut":false,"hidden":false,"merged":[]}
[]
[]
["Names","Team","FT / PT","Level",{"$f":"Inputs!$G$4","v":"2016-05-01"},{"$f":"Inputs!$G$5","v":"2016-05-02"},{"$f":"Inputs!$G$6","v":"2016-05-03"},{"$f":"Inputs!$G$7","v":"2016-05-04"},{"$f":"Inputs!$G$8","v":"2016-05-05"},{"$f":"Inputs!$G$9","v":"2016-05-06"},{"$f":"Inputs!$G$10","v":"2016-05-07"},{"$f":"Inputs!$G$11","v":"2016-05-08"},{"$f":"Inputs!$G$12","v":"2016-05-09"},{"$f":"Inputs!$G$13","v":"2016-05-10"},{"$f":"Inputs!$G$14","v":"2016-05-11"},{"$f":"Inputs!$G$15","v":"2016-05-12"},{"$f":"Inputs!$G$16","v":"2016-05-13"},{"$f":"Inputs!$G$17","v":"2016-05-14"},{"$f":"Inputs!$G$18","v":"2016-05-15"},{"$f":"Inputs!$G$19","v":"2016-05-16"},{"$f":"Inputs!$G$20","v":"2016-05-17"},{"$f":"Inputs!$G$21","v":"2016-05-18"},{"$f":"Inputs!$G$22","v":"2016-05-19"},{"$f":"Inputs!$G$23","v":"2016-05-20"},{"$f":"Inputs!$G$24","v":"2016-05-21"},{"$f":"Inputs!$G$25","v":"2016-05-22"},{"$f":"Inputs!$G$26","v":"2016-05-23"},{"$f":"Inputs!$G$27","v":"2016-05-24"},{"$f":"Inputs!$G$28","v":"2016-05-25"},{"$f":"Inputs!$G$29","v":"2016-05-26"},{"$f":"Inputs!$G$30","v":"2016-05-27"},{"$f":"Inputs!$G$31","v":"2016-05-28"},{"$f":"Inputs!$G$32","v":"2016-05-29"},{"$f":"Inputs!$G$33","v":"2016-05-30"},{"$f":"Inputs!$G$34","v":"2016-05-31"}]
[{"$f":"Inputs!C4","v":"Acevedo, Rodrigo"},{"$f":"Inputs!D4","v":"IBERIAN"},{"$f":"Inputs!E4","v":"FT"},{"$f":"Inputs!F4","v":"Expert"}]
[{"$f":"Inputs!C5","v":"Ahadi Sosa, Nadine"},{"$f":"Inputs!D5","v":"GERMAN 2"},{"$f":"Inputs!E5","v":"PT"},{"$f":"Inputs!F5","v":"Expert"}]
[{"$f":"Inputs!C6","v":"Alavoine, Pauline"},{"$f":"Inputs!D6","v":"FR3"},{"$f":"Inputs!E6","v":"FT"},{"$f":"Inputs!F6","v":"Expert"}]
[{"$f":"Inputs!C7","v":"Ali, Said"},{"$f":"Inputs!D7","v":"FR3"},{"$f":"Inputs!E7","v":"PT"},{"$f":"Inputs!F7","v":"Expert"}]
[{"$f":"Inputs!C8","v":"Allakkis, Hassan"},{"$f":"Inputs!D8","v":"EN2"},{"$f":"Inputs!E8","v":"FT"},{"$f":"Inputs!F8","v":"Junior"}]
[{"$f":"Inputs!C9","v":"Alvarez, Carlos"},{"$f":"Inputs!D9","v":"IBERIAN"},{"$f":"Inputs!E9","v":"FT"},{"$f":"Inputs!F9","v":"Junior"}]
[{"$f":"Inputs!C10","v":"Argent, Andrew William Clifford"},{"$f":"Inputs!D10","v":"FR2"},{"$f":"Inputs!E10","v":"PT"},{"$f":"Inputs!F10","v":"Junior"}]
[{"$f":"Inputs!C11","v":"Argote, Jose"},{"$f":"Inputs!D11","v":"IBERIAN"},{"$f":"Inputs!E11","v":"FT"},{"$f":"Inputs!F11","v":"Junior"}]
[{"$f":"Inputs!C12","v":"Arnault, Estelle"},{"$f":"Inputs!D12","v":"FR1"},{"$f":"Inputs!E12","v":"FT"},{"$f":"Inputs!F12","v":"Senior"}]
[{"$f":"Inputs!C13","v":"Auditore, Concetto Livio"},{"$f":"Inputs!D13","v":"ITA"},{"$f":"Inputs!E13","v":"PT"},{"$f":"Inputs!F13","v":"Senior"}]
[{"$f":"Inputs!C14","v":"Aufreiterová, Ingrid"},{"$f":"Inputs!D14","v":"GERMAN 2"},{"$f":"Inputs!E14","v":"FT"},{"$f":"Inputs!F14","v":"Senior"}]
[{"$f":"Inputs!C15","v":"Azema, Clément"},{"$f":"Inputs!D15","v":"FR3"},{"$f":"Inputs!E15","v":"PT"},{"$f":"Inputs!F15","v":"Expert"}]
[{"$f":"Inputs!C16","v":"Babjáková, Lucia"},{"$f":"Inputs!D16","v":"GERMAN 1"},{"$f":"Inputs!E16","v":"FT"},{"$f":"Inputs!F16","v":"Expert"}]
[{"$f":"Inputs!C17","v":"Ballariová, Kateřina"},{"$f":"Inputs!D17","v":"ITA"},{"$f":"Inputs!E17","v":"PT"},{"$f":"Inputs!F17","v":"Expert"}]
[{"$f":"Inputs!C18","v":"Barbaud, Melody"},{"$f":"Inputs!D18","v":"FR3"},{"$f":"Inputs!E18","v":"FT"},{"$f":"Inputs!F18","v":"Expert"}]
[{"$f":"Inputs!C19","v":"Barreto Barra, Boris Ivan"},{"$f":"Inputs!D19","v":"IBERIAN"},{"$f":"Inputs!E19","v":"FT"},{"$f":"Inputs!F19","v":"Expert"}]
[{"$f":"Inputs!C20","v":"Beneš, Lukáš"},{"$f":"Inputs!D20","v":"GERMAN 2"},{"$f":"Inputs!E20","v":"PT"},{"$f":"Inputs!F20","v":"Junior"}]
[{"$f":"Inputs!C21","v":"Berka, Tomáš"},{"$f":"Inputs!D21","v":"GERMAN 1"},{"$f":"Inputs!E21","v":"FT"},{"$f":"Inputs!F21","v":"Junior"}]
[{"$f":"Inputs!C22","v":"Bewer, Alexander"},{"$f":"Inputs!D22","v":"GERMAN 1"},{"$f":"Inputs!E22","v":"FT"},{"$f":"Inputs!F22","v":"Junior"}]
[{"$f":"Inputs!C23","v":"Bogaert, Joana"},{"$f":"Inputs!D23","v":"FR2"},{"$f":"Inputs!E23","v":"PT"},{"$f":"Inputs!F23","v":"Junior"}]
[{"$f":"Inputs!C24","v":"Boško, Adam"},{"$f":"Inputs!D24","v":"GERMAN 1"},{"$f":"Inputs!E24","v":"FT"},{"$f":"Inputs!F24","v":"Senior"}]
[{"$f":"Inputs!C25","v":"Bouchet, Laureanne"},{"$f":"Inputs!D25","v":"FR1"},{"$f":"Inputs!E25","v":"PT"},{"$f":"Inputs!F25","v":"Senior"}]
[{"$f":"Inputs!C26","v":"Brzák, Petr"},{"$f":"Inputs!D26","v":"FR3"},{"$f":"Inputs!E26","v":"FT"},{"$f":"Inputs!F26","v":"Senior"}]
[{"$f":"Inputs!C27","v":"Burssens, Joeri"},{"$f":"Inputs!D27","v":"EN1"},{"$f":"Inputs!E27","v":"PT"},{"$f":"Inputs!F27","v":"Expert"}]
[{"$f":"Inputs!C28","v":"Canizares González, Francisco"},{"$f":"Inputs!D28","v":"IBERIAN"},{"$f":"Inputs!E28","v":"FT"},{"$f":"Inputs!F28","v":"Expert"}]
[{"$f":"Inputs!C29","v":"Carabal, Tristan"},{"$f":"Inputs!D29","v":"FR1"},{"$f":"Inputs!E29","v":"FT"},{"$f":"Inputs!F29","v":"Expert"}]
[{"$f":"Inputs!C30","v":"Cherradi, Louis-Mehdi"},{"$f":"Inputs!D30","v":"FR2"},{"$f":"Inputs!E30","v":"PT"},{"$f":"Inputs!F30","v":"Expert"}]
[{"$f":"Inputs!C31","v":"Coelho, José"},{"$f":"Inputs!D31","v":"IBERIAN"},{"$f":"Inputs!E31","v":"FT"},{"$f":"Inputs!F31","v":"Expert"}]
[{"$f":"Inputs!C32","v":"Colonna Carli, François Jefferson"},{"$f":"Inputs!D32","v":"FR3"},{"$f":"Inputs!E32","v":"FT"},{"$f":"Inputs!F32","v":"Junior"}]
[{"$f":"Inputs!C33","v":"Cousin, Jean-Baptiste"},{"$f":"Inputs!D33","v":"FR3"},{"$f":"Inputs!E33","v":"FT"},{"$f":"Inputs!F33","v":"Junior"}]
[{"$f":"Inputs!C34","v":"Da Silva, Laure"},{"$f":"Inputs!D34","v":"FR3"},{"$f":"Inputs!E34","v":"PT"},{"$f":"Inputs!F34","v":"Junior"}]
[{"$f":"Inputs!C35","v":"de Visser, Mariska"},{"$f":"Inputs!D35","v":"EN1"},{"$f":"Inputs!E35","v":"FT"},{"$f":"Inputs!F35","v":"Junior"}]
[{"$f":"Inputs!C36","v":"Demeusoy, Florent"},{"$f":"Inputs!D36","v":"FR3"},{"$f":"Inputs!E36","v":"PT"},{"$f":"Inputs!F36","v":"Senior"}]
[{"$f":"Inputs!C37","v":"Denis, Guillaume"},{"$f":"Inputs!D37","v":"FR3"},{"$f":"Inputs!E37","v":"FT"},{"$f":"Inputs!F37","v":"Senior"}]
[{"$f":"Inputs!C38","v":"Diaconu, Andreea"},{"$f":"Inputs!D38","v":"GERMAN 2"},{"$f":"Inputs!E38","v":"FT"},{"$f":"Inputs!F38","v":"Senior"}]
[{"$f":"Inputs!C39","v":"Díaz Almeida, Verónica Vanessa"},{"$f":"Inputs!D39","v":"IBERIAN"},{"$f":"Inputs!E39","v":"PT"},{"$f":"Inputs!F39","v":"Expert"}]
[{"$f":"Inputs!C40","v":"Dosoudilová, Vlasta"},{"$f":"Inputs!D40","v":"FR1"},{"$f":"Inputs!E40","v":"FT"},{"$f":"Inputs!F40","v":"Expert"}]
[{"$f":"Inputs!C41","v":"Drees, Eliška"},{"$f":"Inputs!D41","v":"GERMAN 1"},{"$f":"Inputs!E41","v":"FT"},{"$f":"Inputs!F41","v":"Expert"}]
[{"$f":"Inputs!C42","v":"Drozdek, Lukasz"},{"$f":"Inputs!D42","v":"EN1"},{"$f":"Inputs!E42","v":"FT"},{"$f":"Inputs!F42","v":"Expert"}]
[{"$f":"Inputs!C43","v":"Dudilieux, Colin"},{"$f":"Inputs!D43","v":"FR3"},{"$f":"Inputs!E43","v":"PT"},{"$f":"Inputs!F43","v":"Expert"}]
[{"$f":"Inputs!C44","v":"Dudzińska, Barbara"},{"$f":"Inputs!D44","v":"EN1"},{"$f":"Inputs!E44","v":"FT"},{"$f":"Inputs!F44","v":"Junior"}]
[{"$f":"Inputs!C45","v":"Dumik, Dejan"},{"$f":"Inputs!D45","v":"EN2"},{"$f":"Inputs!E45","v":"PT"},{"$f":"Inputs!F45","v":"Junior"}]
[{"$f":"Inputs!C46","v":"Dvořáková, Petra"},{"$f":"Inputs!D46","v":"FR1"},{"$f":"Inputs!E46","v":"FT"},{"$f":"Inputs!F46","v":"Junior"}]
[{"$f":"Inputs!C47","v":"Elkiaer, Mathilde"},{"$f":"Inputs!D47","v":"EN1"},{"$f":"Inputs!E47","v":"FT"},{"$f":"Inputs!F47","v":"Junior"}]
[{"$f":"Inputs!C48","v":"Ezrifi, Halima"},{"$f":"Inputs!D48","v":"FR2"},{"$f":"Inputs!E48","v":"PT"},{"$f":"Inputs!F48","v":"Senior"}]
[{"$f":"Inputs!C49","v":"Filipíková, Petra"},{"$f":"Inputs!D49","v":"GERMAN 1"},{"$f":"Inputs!E49","v":"FT"},{"$f":"Inputs!F49","v":"Senior"}]
[{"$f":"Inputs!C50","v":"Franet, Raphael"},{"$f":"Inputs!D50","v":"FR3"},{"$f":"Inputs!E50","v":"FT"},{"$f":"Inputs!F50","v":"Senior"}]
[{"$f":"Inputs!C51","v":"Freitas Costa, Isadora"},{"$f":"Inputs!D51","v":"IBERIAN"},{"$f":"Inputs!E51","v":"FT"},{"$f":"Inputs!F51","v":"Expert"}]
[{"$f":"Inputs!C52","v":"Frick, Sebastian"},{"$f":"Inputs!D52","v":"EN1"},{"$f":"Inputs!E52","v":"PT"},{"$f":"Inputs!F52","v":"Expert"}]
[{"$f":"Inputs!C53","v":"Ganci, Pietro"},{"$f":"Inputs!D53","v":"FR1"},{"$f":"Inputs!E53","v":"FT"},{"$f":"Inputs!F53","v":"Expert"}]
[{"$f":"Inputs!C54","v":"Garbelini, Roberto Carlos"},{"$f":"Inputs!D54","v":"IBERIAN"},{"$f":"Inputs!E54","v":"PT"},{"$f":"Inputs!F54","v":"Expert"}]
[{"$f":"Inputs!C55","v":"Gentili, Diego"},{"$f":"Inputs!D55","v":"ITA"},{"$f":"Inputs!E55","v":"FT"},{"$f":"Inputs!F55","v":"Expert"}]
[{"$f":"Inputs!C56","v":"Gonzálvez Gallego, Lorena"},{"$f":"Inputs!D56","v":"IBERIAN"},{"$f":"Inputs!E56","v":"FT"},{"$f":"Inputs!F56","v":"Junior"}]
[{"$f":"Inputs!C57","v":"Gotzsche Kure Hansen, Kaspar"},{"$f":"Inputs!D57","v":"EN1"},{"$f":"Inputs!E57","v":"PT"},{"$f":"Inputs!F57","v":"Junior"}]
[{"$f":"Inputs!C58","v":"Greňová, Martina"},{"$f":"Inputs!D58","v":"GERMAN 1"},{"$f":"Inputs!E58","v":"FT"},{"$f":"Inputs!F58","v":"Junior"}]
[{"$f":"Inputs!C59","v":"Guadalupe Cabezas, Karina Lisette"},{"$f":"Inputs!D59","v":"IBERIAN"},{"$f":"Inputs!E59","v":"FT"},{"$f":"Inputs!F59","v":"Junior"}]
[{"$f":"Inputs!C60","v":"Guennec, Mégane"},{"$f":"Inputs!D60","v":"FR2"},{"$f":"Inputs!E60","v":"FT"},{"$f":"Inputs!F60","v":"Senior"}]
[{"$f":"Inputs!C61","v":"Gutierrez Atriano, Erika"},{"$f":"Inputs!D61","v":"IBERIAN"},{"$f":"Inputs!E61","v":"PT"},{"$f":"Inputs!F61","v":"Senior"}]
[{"$f":"Inputs!C62","v":"Ibar, Daniel Alejandro"},{"$f":"Inputs!D62","v":"ITA"},{"$f":"Inputs!E62","v":"FT"},{"$f":"Inputs!F62","v":"Senior"}]
[{"$f":"Inputs!C63","v":"Isamene Ngutu, Pamela"},{"$f":"Inputs!D63","v":"FR1"},{"$f":"Inputs!E63","v":"PT"},{"$f":"Inputs!F63","v":"Expert"}]
[{"$f":"Inputs!C64","v":"Ivanova, Ivaneta"},{"$f":"Inputs!D64","v":"EN2"},{"$f":"Inputs!E64","v":"FT"},{"$f":"Inputs!F64","v":"Expert"}]
[{"$f":"Inputs!C65","v":"Janošková, Monika"},{"$f":"Inputs!D65","v":"EN1"},{"$f":"Inputs!E65","v":"FT"},{"$f":"Inputs!F65","v":"Expert"}]
[{"$f":"Inputs!C66","v":"Jedlička Cissé, Anna"},{"$f":"Inputs!D66","v":"FR3"},{"$f":"Inputs!E66","v":"PT"},{"$f":"Inputs!F66","v":"Expert"}]
[{"$f":"Inputs!C67","v":"Jindra, Michaela"},{"$f":"Inputs!D67","v":"EN2"},{"$f":"Inputs!E67","v":"FT"},{"$f":"Inputs!F67","v":"Expert"}]
[{"$f":"Inputs!C68","v":"Jonsson, Elin Isabelle"},{"$f":"Inputs!D68","v":"Operations Department"},{"$f":"Inputs!E68","v":"FT"},{"$f":"Inputs!F68","v":"Junior"}]
[{"$f":"Inputs!C69","v":"Kapnistis, Ioannis"},{"$f":"Inputs!D69","v":"EN1"},{"$f":"Inputs!E69","v":"FT"},{"$f":"Inputs!F69","v":"Junior"}]
[{"$f":"Inputs!C70","v":"Kartsios, Charalampos Panagiotis"},{"$f":"Inputs!D70","v":"EN2"},{"$f":"Inputs!E70","v":"PT"},{"$f":"Inputs!F70","v":"Junior"}]
[{"$f":"Inputs!C71","v":"Kerany, Zakaria"},{"$f":"Inputs!D71","v":"FR2"},{"$f":"Inputs!E71","v":"FT"},{"$f":"Inputs!F71","v":"Junior"}]
[{"$f":"Inputs!C72","v":"Knesplová, Irma"},{"$f":"Inputs!D72","v":"ITA"},{"$f":"Inputs!E72","v":"PT"},{"$f":"Inputs!F72","v":"Senior"}]
[{"$f":"Inputs!C73","v":"Koblasa, David"},{"$f":"Inputs!D73","v":"GERMAN 1"},{"$f":"Inputs!E73","v":"FT"},{"$f":"Inputs!F73","v":"Senior"}]
[{"$f":"Inputs!C74","v":"Kočka, Peter"},{"$f":"Inputs!D74","v":"GERMAN 1"},{"$f":"Inputs!E74","v":"FT"},{"$f":"Inputs!F74","v":"Senior"}]
[{"$f":"Inputs!C75","v":"Krasimirova Krumova, Iliana"},{"$f":"Inputs!D75","v":"IBERIAN"},{"$f":"Inputs!E75","v":"PT"},{"$f":"Inputs!F75","v":"Expert"}]
[{"$f":"Inputs!C76","v":"Kunnari, Arttu Tapio"},{"$f":"Inputs!D76","v":"EN1"},{"$f":"Inputs!E76","v":"FT"},{"$f":"Inputs!F76","v":"Expert"}]
[{"$f":"Inputs!C77","v":"Laby, Jérôme"},{"$f":"Inputs!D77","v":"FR1"},{"$f":"Inputs!E77","v":"FT"},{"$f":"Inputs!F77","v":"Expert"}]
[{"$f":"Inputs!C78","v":"Landa, David"},{"$f":"Inputs!D78","v":"GERMAN 2"},{"$f":"Inputs!E78","v":"FT"},{"$f":"Inputs!F78","v":"Expert"}]
[{"$f":"Inputs!C79","v":"Levy, Sharon Esther"},{"$f":"Inputs!D79","v":"EN2"},{"$f":"Inputs!E79","v":"PT"},{"$f":"Inputs!F79","v":"Expert"}]
[{"$f":"Inputs!C80","v":"Libora, Josef"},{"$f":"Inputs!D80","v":"EN2"},{"$f":"Inputs!E80","v":"FT"},{"$f":"Inputs!F80","v":"Junior"}]
[{"$f":"Inputs!C81","v":"Lukeš, Jakub"},{"$f":"Inputs!D81","v":"GERMAN 1"},{"$f":"Inputs!E81","v":"PT"},{"$f":"Inputs!F81","v":"Junior"}]
[{"$f":"Inputs!C82","v":"Lyubarska, Anna"},{"$f":"Inputs!D82","v":"FR1"},{"$f":"Inputs!E82","v":"FT"},{"$f":"Inputs!F82","v":"Junior"}]
[{"$f":"Inputs!C83","v":"Madeira Mendoza, César Augusto"},{"$f":"Inputs!D83","v":"GERMAN 2"},{"$f":"Inputs!E83","v":"FT"},{"$f":"Inputs!F83","v":"Junior"}]
[{"$f":"Inputs!C84","v":"Magi, Marco"},{"$f":"Inputs!D84","v":"ITA"},{"$f":"Inputs!E84","v":"PT"},{"$f":"Inputs!F84","v":"Senior"}]
[{"$f":"Inputs!C85","v":"Magis, Sébastien"},{"$f":"Inputs!D85","v":"FR3"},{"$f":"Inputs!E85","v":"FT"},{"$f":"Inputs!F85","v":"Senior"}]
[{"$f":"Inputs!C86","v":"Maliková, Jean"},{"$f":"Inputs!D86","v":"ITA"},{"$f":"Inputs!E86","v":"FT"},{"$f":"Inputs!F86","v":"Senior"}]
[{"$f":"Inputs!C87","v":"Malíková, Martina"},{"$f":"Inputs!D87","v":"GERMAN 2"},{"$f":"Inputs!E87","v":"PT"},{"$f":"Inputs!F87","v":"Expert"}]
[{"$f":"Inputs!C88","v":"Mallevaes, Julie"},{"$f":"Inputs!D88","v":"FR1"},{"$f":"Inputs!E88","v":"FT"},{"$f":"Inputs!F88","v":"Expert"}]
[{"$f":"Inputs!C89","v":"Mandahl Forsberg, Balthazar"},{"$f":"Inputs!D89","v":"EN1"},{"$f":"Inputs!E89","v":"PT"},{"$f":"Inputs!F89","v":"Expert"}]
[{"$f":"Inputs!C90","v":"Marécal, Fabien"},{"$f":"Inputs!D90","v":"FR3"},{"$f":"Inputs!E90","v":"FT"},{"$f":"Inputs!F90","v":"Expert"}]
[{"$f":"Inputs!C91","v":"Mareš, Petr"},{"$f":"Inputs!D91","v":"FR2"},{"$f":"Inputs!E91","v":"FT"},{"$f":"Inputs!F91","v":"Expert"}]
[{"$f":"Inputs!C92","v":"Marostica, Gabriel"},{"$f":"Inputs!D92","v":"IBERIAN"},{"$f":"Inputs!E92","v":"PT"},{"$f":"Inputs!F92","v":"Junior"}]
[{"$f":"Inputs!C93","v":"Marounková, Jaroslava"},{"$f":"Inputs!D93","v":"EN2"},{"$f":"Inputs!E93","v":"FT"},{"$f":"Inputs!F93","v":"Junior"}]
[{"$f":"Inputs!C94","v":"Mazza, Caroline"},{"$f":"Inputs!D94","v":"FR3"},{"$f":"Inputs!E94","v":"FT"},{"$f":"Inputs!F94","v":"Junior"}]
[{"$f":"Inputs!C95","v":"Melendez, Jeremy"},{"$f":"Inputs!D95","v":"FR3"},{"$f":"Inputs!E95","v":"FT"},{"$f":"Inputs!F95","v":"Junior"}]
[{"$f":"Inputs!C96","v":"Menale, Domenico"},{"$f":"Inputs!D96","v":"ITA"},{"$f":"Inputs!E96","v":"FT"},{"$f":"Inputs!F96","v":"Senior"}]
[{"$f":"Inputs!C97","v":"Messaoudi, Oktay"},{"$f":"Inputs!D97","v":"FR1"},{"$f":"Inputs!E97","v":"FT"},{"$f":"Inputs!F97","v":"Senior"}]
[{"$f":"Inputs!C98","v":"Miori, Romina"},{"$f":"Inputs!D98","v":"ITA"},{"$f":"Inputs!E98","v":"PT"},{"$f":"Inputs!F98","v":"Senior"}]
[{"$f":"Inputs!C99","v":"Molnár, Gergely Gábor"},{"$f":"Inputs!D99","v":"GERMAN 2"},{"$f":"Inputs!E99","v":"FT"},{"$f":"Inputs!F99","v":"Expert"}]
[{"$f":"Inputs!C100","v":"Moravec, Hynek"},{"$f":"Inputs!D100","v":"FR1"},{"$f":"Inputs!E100","v":"PT"},{"$f":"Inputs!F100","v":"Expert"}]
[{"$f":"Inputs!C101","v":"Müllerová, Lucie"},{"$f":"Inputs!D101","v":"EN2"},{"$f":"Inputs!E101","v":"FT"},{"$f":"Inputs!F101","v":"Expert"}]
[{"$f":"Inputs!C102","v":"Nagy, Kinga"},{"$f":"Inputs!D102","v":"ITA"},{"$f":"Inputs!E102","v":"FT"},{"$f":"Inputs!F102","v":"Expert"}]
[{"$f":"Inputs!C103","v":"Němcová, Agnesa"},{"$f":"Inputs!D103","v":"ITA"},{"$f":"Inputs!E103","v":"PT"},{"$f":"Inputs!F103","v":"Expert"}]
[{"$f":"Inputs!C104","v":"Netolická, Veronika"},{"$f":"Inputs!D104","v":"GERMAN 2"},{"$f":"Inputs!E104","v":"FT"},{"$f":"Inputs!F104","v":"Junior"}]
[{"$f":"Inputs!C105","v":"O´Rourke, Viktorija"},{"$f":"Inputs!D105","v":"EN2"},{"$f":"Inputs!E105","v":"FT"},{"$f":"Inputs!F105","v":"Junior"}]
[{"$f":"Inputs!C106","v":"Obritin, Marion"},{"$f":"Inputs!D106","v":"FR3"},{"$f":"Inputs!E106","v":"FT"},{"$f":"Inputs!F106","v":"Junior"}]
[{"$f":"Inputs!C107","v":"Obstová, Ivana"},{"$f":"Inputs!D107","v":"IBERIAN"},{"$f":"Inputs!E107","v":"PT"},{"$f":"Inputs!F107","v":"Junior"}]
[{"$f":"Inputs!C108","v":"Očenášová, Petra"},{"$f":"Inputs!D108","v":"FR3"},{"$f":"Inputs!E108","v":"FT"},{"$f":"Inputs!F108","v":"Senior"}]
[{"$f":"Inputs!C109","v":"Pananakis, Konstantinos"},{"$f":"Inputs!D109","v":"EN2"},{"$f":"Inputs!E109","v":"PT"},{"$f":"Inputs!F109","v":"Senior"}]
[{"$f":"Inputs!C110","v":"Pavez, Gabriela"},{"$f":"Inputs!D110","v":"IBERIAN"},{"$f":"Inputs!E110","v":"FT"},{"$f":"Inputs!F110","v":"Senior"}]
[{"$f":"Inputs!C111","v":"Pereira, Daniel"},{"$f":"Inputs!D111","v":"IBERIAN"},{"$f":"Inputs!E111","v":"FT"},{"$f":"Inputs!F111","v":"Expert"}]
[{"$f":"Inputs!C112","v":"Petit, Chloé"},{"$f":"Inputs!D112","v":"FR3"},{"$f":"Inputs!E112","v":"PT"},{"$f":"Inputs!F112","v":"Expert"}]
[{"$f":"Inputs!C113","v":"Pinkava, Eleanor"},{"$f":"Inputs!D113","v":"GERMAN 2"},{"$f":"Inputs!E113","v":"FT"},{"$f":"Inputs!F113","v":"Expert"}]
[{"$f":"Inputs!C114","v":"Pleshkov, Yevgeny"},{"$f":"Inputs!D114","v":"EN2"},{"$f":"Inputs!E114","v":"FT"},{"$f":"Inputs!F114","v":"Expert"}]
[{"$f":"Inputs!C115","v":"Pouchová, Eliška"},{"$f":"Inputs!D115","v":"FR1"},{"$f":"Inputs!E115","v":"FT"},{"$f":"Inputs!F115","v":"Expert"}]
[{"$f":"Inputs!C116","v":"Pracajic, Franjo"},{"$f":"Inputs!D116","v":"GERMAN 1"},{"$f":"Inputs!E116","v":"PT"},{"$f":"Inputs!F116","v":"Junior"}]
[{"$f":"Inputs!C117","v":"Rabušic, Petr"},{"$f":"Inputs!D117","v":"GERMAN 1"},{"$f":"Inputs!E117","v":"FT"},{"$f":"Inputs!F117","v":"Junior"}]
[{"$f":"Inputs!C118","v":"Ramos, Nelson"},{"$f":"Inputs!D118","v":"FR2"},{"$f":"Inputs!E118","v":"PT"},{"$f":"Inputs!F118","v":"Junior"}]
[{"$f":"Inputs!C119","v":"Ribeiro Vicente, Victor Raphael"},{"$f":"Inputs!D119","v":"IBERIAN"},{"$f":"Inputs!E119","v":"FT"},{"$f":"Inputs!F119","v":"Junior"}]
[{"$f":"Inputs!C120","v":"Roger, Thomas"},{"$f":"Inputs!D120","v":"FR3"},{"$f":"Inputs!E120","v":"FT"},{"$f":"Inputs!F120","v":"Senior"}]
[{"$f":"Inputs!C121","v":"Ruiz Martinez, Carlos Ricardo"},{"$f":"Inputs!D121","v":"IBERIAN"},{"$f":"Inputs!E121","v":"PT"},{"$f":"Inputs!F121","v":"Senior"}]
[{"$f":"Inputs!C122","v":"Russo, Lorenzo"},{"$f":"Inputs!D122","v":"ITA"},{"$f":"Inputs!E122","v":"FT"},{"$f":"Inputs!F122","v":"Senior"}]
[{"$f":"Inputs!C123","v":"Sabev, Ivaylo"},{"$f":"Inputs!D123","v":"EN2"},{"$f":"Inputs!E123","v":"FT"},{"$f":"Inputs!F123","v":"Expert"}]
[{"$f":"Inputs!C124","v":"Sanglier, Virginie"},{"$f":"Inputs!D124","v":"FR3"},{"$f":"Inputs!E124","v":"FT"},{"$f":"Inputs!F124","v":"Expert"}]
[{"$f":"Inputs!C125","v":"Santarella, Jacopo"},{"$f":"Inputs!D125","v":"ITA"},{"$f":"Inputs!E125","v":"PT"},{"$f":"Inputs!F125","v":"Expert"}]
[{"$f":"Inputs!C126","v":"Šátek, Lukáš"},{"$f":"Inputs!D126","v":"EN2"},{"$f":"Inputs!E126","v":"FT"},{"$f":"Inputs!F126","v":"Expert"}]
[{"$f":"Inputs!C127","v":"Sevostianova, Mariia"},{"$f":"Inputs!D127","v":"GERMAN 2"},{"$f":"Inputs!E127","v":"PT"},{"$f":"Inputs!F127","v":"Expert"}]
[{"$f":"Inputs!C128","v":"Sire, Pierre"},{"$f":"Inputs!D128","v":"FR3"},{"$f":"Inputs!E128","v":"FT"},{"$f":"Inputs!F128","v":"Junior"}]
[{"$f":"Inputs!C129","v":"Stedrovsky, Patrick"},{"$f":"Inputs!D129","v":"GERMAN 2"},{"$f":"Inputs!E129","v":"FT"},{"$f":"Inputs!F129","v":"Junior"}]
[{"$f":"Inputs!C130","v":"Stefanova, Borislava"},{"$f":"Inputs!D130","v":"EN1"},{"$f":"Inputs!E130","v":"PT"},{"$f":"Inputs!F130","v":"Junior"}]
[{"$f":"Inputs!C131","v":"Švarcbachová, Barbora"},{"$f":"Inputs!D131","v":"GERMAN 1"},{"$f":"Inputs!E131","v":"FT"},{"$f":"Inputs!F131","v":"Junior"}]
[{"$f":"Inputs!C132","v":"Sy, Phonsavane Alice"},{"$f":"Inputs!D132","v":"FR2"},{"$f":"Inputs!E132","v":"FT"},{"$f":"Inputs!F132","v":"Senior"}]
[{"$f":"Inputs!C133","v":"Teca, Joaquim"},{"$f":"Inputs!D133","v":"FR2"},{"$f":"Inputs!E133","v":"FT"},{"$f":"Inputs!F133","v":"Senior"}]
[{"$f":"Inputs!C134","v":"Tellier, Julie"},{"$f":"Inputs!D134","v":"FR3"},{"$f":"Inputs!E134","v":"PT"},{"$f":"Inputs!F134","v":"Senior"}]
[{"$f":"Inputs!C135","v":"Timurtas, Ibrahim Halil"},{"$f":"Inputs!D135","v":"EN2"},{"$f":"Inputs!E135","v":"FT"},{"$f":"Inputs!F135","v":"Expert"}]
[{"$f":"Inputs!C136","v":"Truksa, Jan"},{"$f":"Inputs!D136","v":"EN2"},{"$f":"Inputs!E136","v":"PT"},{"$f":"Inputs!F136","v":"Expert"}]
[{"$f":"Inputs!C137","v":"Úlovec, Jan"},{"$f":"Inputs!D137","v":"ITA"},{"$f":"Inputs!E137","v":"FT"},{"$f":"Inputs!F137","v":"Expert"}]
[{"$f":"Inputs!C138","v":"Vardanyan, Yelena"},{"$f":"Inputs!D138","v":"EN2"},{"$f":"Inputs!E138","v":"FT"},{"$f":"Inputs!F138","v":"Expert"}]
[{"$f":"Inputs!C139","v":"Velíková, Zuzana"},{"$f":"Inputs!D139","v":"FR1"},{"$f":"Inputs!E139","v":"PT"},{"$f":"Inputs!F139","v":"Expert"}]
[{"$f":"Inputs!C140","v":"Vigašová, Barbora"},{"$f":"Inputs!D140","v":"FR1"},{"$f":"Inputs!E140","v":"FT"},{"$f":"Inputs!F140","v":"Junior"}]
[{"$f":"Inputs!C141","v":"Vigier, Romain"},{"$f":"Inputs!D141","v":"FR2"},{"$f":"Inputs!E141","v":"FT"},{"$f":"Inputs!F141","v":"Junior"}]
[{"$f":"Inputs!C142","v":"Viklund, Nils Christian"},{"$f":"Inputs!D142","v":"EN1"},{"$f":"Inputs!E142","v":"FT"},{"$f":"Inputs!F142","v":"Junior"}]
[{"$f":"Inputs!C143","v":"Votýpková, Ilona"},{"$f":"Inputs!D143","v":"EN1"},{"$f":"Inputs!E143","v":"PT"},{"$f":"Inputs!F143","v":"Junior"}]
[{"$f":"Inputs!C144","v":"Wlodarczyk, Magda"},{"$f":"Inputs!D144","v":"EN1"},{"$f":"Inputs!E144","v":"FT"},{"$f":"Inputs!F144","v":"Senior"}]
[{"$f":"Inputs!C145","v":"Zakrzewska, Karolina Martyna"},{"$f":"Inputs!D145","v":"EN1"},{"$f":"Inputs!E145","v":"PT"},{"$f":"Inputs!F145","v":"Senior"}]
[{"$f":"Inputs!C146","v":"Zambo, Lynette"},{"$f":"Inputs!D146","v":"GERMAN 2"},{"$f":"Inputs!E146","v":"FT"},{"$f":"Inputs!F146","v":"Senior"}]
[{"$f":"Inputs!C147","v":"Zangre, Issaka"},{"$f":"Inputs!D147","v":"FR2"},{"$f":"Inputs!E147","v":"FT"},{"$f":"Inputs!F147","v":"Expert"}]
[{"$f":"Inputs!C148","v":0},{"$f":"Inputs!D148","v":0},{"$f":"Inputs!E148","v":0},{"$f":"Inputs!F148","v":0}]
[{"$f":"Inputs!C149","v":0},{"$f":"Inputs!D149","v":0},{"$f":"Inputs!E149","v":0},{"$f":"Inputs!F149","v":0}]
[{"$f":"Inputs!C150","v":0},{"$f":"Inputs!D150","v":0},{"$f":"Inputs!E150","v":0},{"$f":"Inputs!F150","v":0}]
[{"$f":"Inputs!C151","v":0},{"$f":"Inputs!D151","v":0},{"$f":"Inputs!E151","v":0},{"$f":"Inputs!F151","v":0}]
[{"$f":"Inputs!C152","v":0},{"$f":"Inputs!D152","v":0},{"$f":"Inputs!E152","v":0},{"$f":"Inputs!F152","v":0}]
[{"$f":"Inputs!C153","v":0},{"$f":"Inputs!D153","v":0},{"$f":"Inputs!E153","v":0},{"$f":"Inputs!F153","v":0}]
[{"$f":"Inputs!C154","v":0},{"$f":"Inputs!D154","v":0},{"$f":"Inputs!E154","v":0},{"$f":"Inputs!F154","v":0}]
[{"$f":"Inputs!C155","v":0},{"$f":"Inputs!D155","v":0},{"$f":"Inputs!E155","v":0},{"$f":"Inputs!F155","v":0}]
[{"$f":"Inputs!C156","v":0},{"$f":"Inputs!D156","v":0},{"$f":"Inputs!E156","v":0},{"$f":"Inputs!F156","v":0}]
[{"$f":"Inputs!C157","v":0},{"$f":"Inputs!D157","v":0},{"$f":"Inputs!E157","v":0},{"$f":"Inputs!F157","v":0}]
[{"$f":"Inputs!C158","v":0},{"$f":"Inputs!D158","v":0},{"$f":"Inputs!E158","v":0},{"$f":"Inputs!F158","v":0}]
[{"$f":"Inputs!C159","v":0},{"$f":"Inputs!D159","v":0},{"$f":"Inputs!E159","v":0},{"$f":"Inputs!F159","v":0}]
[{"$f":"Inputs!C160","v":0},{"$f":"Inputs!D160","v":0},{"$f":"Inputs!E160","v":0},{"$f":"Inputs!F160","v":0}]
[{"$f":"Inputs!C161","v":0},{"$f":"Inputs!D161","v":0},{"$f":"Inputs!E161","v":0},{"$f":"Inputs!F161","v":0}]
[{"$f":"Inputs!C162","v":0},{"$f":"Inputs!D162","v":0},{"$f":"Inputs!E162","v":0},{"$f":"Inputs!F162","v":0}]
[{"$f":"Inputs!C163","v":0},{"$f":"Inputs!D163","v":0},{"$f":"Inputs!E163","v":0},{"$f":"Inputs!F163","v":0}]
[{"$f":"Inputs!C164","v":0},{"$f":"Inputs!D164","v":0},{"$f":"Inputs!E164","v":0},{"$f":"Inputs!F164","v":0}]
[{"$f":"Inputs!C165","v":0},{"$f":"Inputs!D165","v":0},{"$f":"Inputs!E165","v":0},{"$f":"Inputs!F165","v":0}]
[{"$f":"Inputs!C166","v":0},{"$f":"Inputs!D166","v":0},{"$f":"Inputs!E166","v":0},{"$f":"Inputs!F166","v":0}]
[{"$f":"Inputs!C167","v":0},{"$f":"Inputs!D167","v":0},{"$f":"Inputs!E167","v":0},{"$f":"Inputs!F167","v":0}]
[{"$f":"Inputs!C168","v":0},{"$f":"Inputs!D168","v":0},{"$f":"Inputs!E168","v":0},{"$f":"Inputs!F168","v":0}]
[{"$f":"Inputs!C169","v":0},{"$f":"Inputs!D169","v":0},{"$f":"Inputs!E169","v":0},{"$f":"Inputs!F169","v":0}]
[{"$f":"Inputs!C170","v":0},{"$f":"Inputs!D170","v":0},{"$f":"Inputs!E170","v":0},{"$f":"Inputs!F170","v":0}]
[{"$f":"Inputs!C171","v":0},{"$f":"Inputs!D171","v":0},{"$f":"Inputs!E171","v":0},{"$f":"Inputs!F171","v":0}]
[{"$f":"Inputs!C172","v":0},{"$f":"Inputs!D172","v":0},{"$f":"Inputs!E172","v":0},{"$f":"Inputs!F172","v":0}]
[{"$f":"Inputs!C173","v":0},{"$f":"Inputs!D173","v":0},{"$f":"Inputs!E173","v":0},{"$f":"Inputs!F173","v":0}]
[{"$f":"Inputs!C174","v":0},{"$f":"Inputs!D174","v":0},{"$f":"Inputs!E174","v":0},{"$f":"Inputs!F174","v":0}]
[{"$f":"Inputs!C175","v":0},{"$f":"Inputs!D175","v":0},{"$f":"Inputs!E175","v":0},{"$f":"Inputs!F175","v":0}]
[{"$f":"Inputs!C176","v":0},{"$f":"Inputs!D176","v":0},{"$f":"Inputs!E176","v":0},{"$f":"Inputs!F176","v":0}]
[{"$f":"Inputs!C177","v":0},{"$f":"Inputs!D177","v":0},{"$f":"Inputs!E177","v":0},{"$f":"Inputs!F177","v":0}]
[{"$f":"Inputs!C178","v":0},{"$f":"Inputs!D178","v":0},{"$f":"Inputs!E178","v":0},{"$f":"Inputs!F178","v":0}]
[{"$f":"Inputs!C179","v":0},{"$f":"Inputs!D179","v":0},{"$f":"Inputs!E179","v":0},{"$f":"Inputs!F179","v":0}]
[{"$f":"Inputs!C180","v":0},{"$f":"Inputs!D180","v":0},{"$f":"Inputs!E180","v":0},{"$f":"Inputs!F180","v":0}]
[{"$f":"Inputs!C181","v":0},{"$f":"Inputs!D181","v":0},{"$f":"Inputs!E181","v":0},{"$f":"Inputs!F181","v":0}]
[{"$f":"Inputs!C182","v":0},{"$f":"Inputs!D182","v":0},{"$f":"Inputs!E182","v":0},{"$f":"Inputs!F182","v":0}]
[{"$f":"Inputs!C183","v":0},{"$f":"Inputs!D183","v":0},{"$f":"Inputs!E183","v":0},{"$f":"Inputs!F183","v":0}]
[{"$f":"Inputs!C184","v":0},{"$f":"Inputs!D184","v":0},{"$f":"Inputs!E184","v":0},{"$f":"Inputs!F184","v":0}]
[{"$f":"Inputs!C185","v":0},{"$f":"Inputs!D185","v":0},{"$f":"Inputs!E185","v":0},{"$f":"Inputs!F185","v":0}]
[{"$f":"Inputs!C186","v":0},{"$f":"Inputs!D186","v":0},{"$f":"Inputs!E186","v":0},{"$f":"Inputs!F186","v":0}]
[{"$f":"Inputs!C187","v":0},{"$f":"Inputs!D187","v":0},{"$f":"Inputs!E187","v":0},{"$f":"Inputs!F187","v":0}]
[{"$f":"Inputs!C188","v":0},{"$f":"Inputs!D188","v":0},{"$f":"Inputs!E188","v":0},{"$f":"Inputs!F188","v":0}]
[{"$f":"Inputs!C189","v":0},{"$f":"Inputs!D189","v":0},{"$f":"Inputs!E189","v":0},{"$f":"Inputs!F189","v":0}]
[{"$f":"Inputs!C190","v":0},{"$f":"Inputs!D190","v":0},{"$f":"Inputs!E190","v":0},{"$f":"Inputs!F190","v":0}]
[{"$f":"Inputs!C191","v":0},{"$f":"Inputs!D191","v":0},{"$f":"Inputs!E191","v":0},{"$f":"Inputs!F191","v":0}]
[{"$f":"Inputs!C192","v":0},{"$f":"Inputs!D192","v":0},{"$f":"Inputs!E192","v":0},{"$f":"Inputs!F192","v":0}]
[{"$f":"Inputs!C193","v":0},{"$f":"Inputs!D193","v":0},{"$f":"Inputs!E193","v":0},{"$f":"Inputs!F193","v":0}]
[{"$f":"Inputs!C194","v":0},{"$f":"Inputs!D194","v":0},{"$f":"Inputs!E194","v":0},{"$f":"Inputs!F194","v":0}]
[{"$f":"Inputs!C195","v":0},{"$f":"Inputs!D195","v":0},{"$f":"Inputs!E195","v":0},{"$f":"Inputs!F195","v":0}]
[{"$f":"Inputs!C196","v":0},{"$f":"Inputs!D196","v":0},{"$f":"Inputs!E196","v":0},{"$f":"Inputs!F196","v":0}]
[{"$f":"Inputs!C197","v":0},{"$f":"Inputs!D197","v":0},{"$f":"Inputs!E197","v":0},{"$f":"Inputs!F197","v":0}]
[{"$f":"Inputs!C198","v":0},{"$f":"Inputs!D198","v":0},{"$f":"Inputs!E198","v":0},{"$f":"Inputs!F198","v":0}]
[{"$f":"Inputs!C199","v":0},{"$f":"Inputs!D199","v":0},{"$f":"Inputs!E199","v":0},{"$f":"Inputs!F199","v":0}]
[{"$f":"Inputs!C200","v":0},{"$f":"Inputs!D200","v":0},{"$f":"Inputs!E200","v":0},{"$f":"Inputs!F200","v":0}]
[{"$f":"Inputs!C201","v":0},{"$f":"Inputs!D201","v":0},{"$f":"Inputs!E201","v":0},{"$f":"Inputs!F201","v":0}]
[{"$f":"Inputs!C202","v":0},{"$f":"Inputs!D202","v":0},{"$f":"Inputs!E202","v":0},{"$f":"Inputs!F202","v":0}]
[{"$f":"Inputs!C203","v":0},{"$f":"Inputs!D203","v":0},{"$f":"Inputs!E203","v":0},{"$f":"Inputs!F203","v":0}]
[{"$f":"Inputs!C204","v":0},{"$f":"Inputs!D204","v":0},{"$f":"Inputs!E204","v":0},{"$f":"Inputs!F204","v":0}]
[{"$f":"Inputs!C205","v":0},{"$f":"Inputs!D205","v":0},{"$f":"Inputs!E205","v":0},{"$f":"Inputs!F205","v":0}]
[{"$f":"Inputs!C206","v":0},{"$f":"Inputs!D206","v":0},{"$f":"Inputs!E206","v":0},{"$f":"Inputs!F206","v":0}]
[{"$f":"Inputs!C207","v":0},{"$f":"Inputs!D207","v":0},{"$f":"Inputs!E207","v":0},{"$f":"Inputs!F207","v":0}]
[{"$f":"Inputs!C208","v":0},{"$f":"Inputs!D208","v":0},{"$f":"Inputs!E208","v":0},{"$f":"Inputs!F208","v":0}]
[{"$f":"Inputs!C209","v":0},{"$f":"Inputs!D209","v":0},{"$f":"Inputs!E209","v":0},{"$f":"Inputs!F209","v":0}]
[{"$f":"Inputs!C210","v":0},{"$f":"Inputs!D210","v":0},{"$f":"Inputs!E210","v":0},{"$f":"Inputs!F210","v":0}]
[{"$f":"Inputs!C211","v":0},{"$f":"Inputs!D211","v":0},{"$f":"Inputs!E211","v":0},{"$f":"Inputs!F211","v":0}]
[{"$f":"Inputs!C212","v":0},{"$f":"Inputs!D212","v":0},{"$f":"Inputs!E212","v":0},{"$f":"Inputs!F212","v":0}]
[{"$f":"Inputs!C213","v":0},{"$f":"Inputs!D213","v":0},{"$f":"Inputs!E213","v":0},{"$f":"Inputs!F213","v":0}]
[{"$f":"Inputs!C214","v":0},{"$f":"Inputs!D214","v":0},{"$f":"Inputs!E214","v":0},{"$f":"Inputs!F214","v":0}]
[{"$f":"Inputs!C215","v":0},{"$f":"Inputs!D215","v":0},{"$f":"Inputs!E215","v":0},{"$f":"Inputs!F215","v":0}]
[{"$f":"Inputs!C216","v":0},{"$f":"Inputs!D216","v":0},{"$f":"Inputs!E216","v":0},{"$f":"Inputs!F216","v":0}]
[{"$f":"Inputs!C217","v":0},{"$f":"Inputs!D217","v":0},{"$f":"Inputs!E217","v":0},{"$f":"Inputs!F217","v":0}]
[{"$f":"Inputs!C218","v":0},{"$f":"Inputs!D218","v":0},{"$f":"Inputs!E218","v":0},{"$f":"Inputs!F218","v":0}]
[{"$f":"Inputs!C219","v":0},{"$f":"Inputs!D219","v":0},{"$f":"Inputs!E219","v":0},{"$f":"Inputs!F219","v":0}]
[{"$f":"Inputs!C220","v":0},{"$f":"Inputs!D220","v":0},{"$f":"Inputs!E220","v":0},{"$f":"Inputs!F220","v":0}]
[{"$f":"Inputs!C221","v":0},{"$f":"Inputs!D221","v":0},{"$f":"Inputs!E221","v":0},{"$f":"Inputs!F221","v":0}]
[{"$f":"Inputs!C222","v":0},{"$f":"Inputs!D222","v":0},{"$f":"Inputs!E222","v":0},{"$f":"Inputs!F222","v":0}]
[{"$f":"Inputs!C223","v":0},{"$f":"Inputs!D223","v":0},{"$f":"Inputs!E223","v":0},{"$f":"Inputs!F223","v":0}]
[{"$f":"Inputs!C224","v":0},{"$f":"Inputs!D224","v":0},{"$f":"Inputs!E224","v":0},{"$f":"Inputs!F224","v":0}]
[{"$f":"Inputs!C225","v":0},{"$f":"Inputs!D225","v":0},{"$f":"Inputs!E225","v":0},{"$f":"Inputs!F225","v":0}]
[{"$f":"Inputs!C226","v":0},{"$f":"Inputs!D226","v":0},{"$f":"Inputs!E226","v":0},{"$f":"Inputs!F226","v":0}]
[{"$f":"Inputs!C227","v":0},{"$f":"Inputs!D227","v":0},{"$f":"Inputs!E227","v":0},{"$f":"Inputs!F227","v":0}]
[{"$f":"Inputs!C228","v":0},{"$f":"Inputs!D228","v":0},{"$f":"Inputs!E228","v":0},{"$f":"Inputs!F228","v":0}]
[{"$f":"Inputs!C229","v":0},{"$f":"Inputs!D229","v":0},{"$f":"Inputs!E229","v":0},{"$f":"Inputs!F229","v":0}]
[{"$f":"Inputs!C230","v":0},{"$f":"Inputs!D230","v":0},{"$f":"Inputs!E230","v":0},{"$f":"Inputs!F230","v":0}]
[{"$f":"Inputs!C231","v":0},{"$f":"Inputs!D231","v":0},{"$f":"Inputs!E231","v":0},{"$f":"Inputs!F231","v":0}]
[{"$f":"Inputs!C232","v":0},{"$f":"Inputs!D232","v":0},{"$f":"Inputs!E232","v":0},{"$f":"Inputs!F232","v":0}]
[{"$f":"Inputs!C233","v":0},{"$f":"Inputs!D233","v":0},{"$f":"Inputs!E233","v":0},{"$f":"Inputs!F233","v":0}]
[{"$f":"Inputs!C234","v":0},{"$f":"Inputs!D234","v":0},{"$f":"Inputs!E234","v":0},{"$f":"Inputs!F234","v":0}]
[{"$f":"Inputs!C235","v":0},{"$f":"Inputs!D235","v":0},{"$f":"Inputs!E235","v":0},{"$f":"Inputs!F235","v":0}]
[{"$f":"Inputs!C236","v":0},{"$f":"Inputs!D236","v":0},{"$f":"Inputs!E236","v":0},{"$f":"Inputs!F236","v":0}]
[{"$f":"Inputs!C237","v":0},{"$f":"Inputs!D237","v":0},{"$f":"Inputs!E237","v":0},{"$f":"Inputs!F237","v":0}]
[{"$f":"Inputs!C238","v":0},{"$f":"Inputs!D238","v":0},{"$f":"Inputs!E238","v":0},{"$f":"Inputs!F238","v":0}]
[{"$f":"Inputs!C239","v":0},{"$f":"Inputs!D239","v":0},{"$f":"Inputs!E239","v":0},{"$f":"Inputs!F239","v":0}]
[{"$f":"Inputs!C240","v":0},{"$f":"Inputs!D240","v":0},{"$f":"Inputs!E240","v":0},{"$f":"Inputs!F240","v":0}]
[{"$f":"Inputs!C241","v":0},{"$f":"Inputs!D241","v":0},{"$f":"Inputs!E241","v":0},{"$f":"Inputs!F241","v":0}]
[{"$f":"Inputs!C242","v":0},{"$f":"Inputs!D242","v":0},{"$f":"Inputs!E242","v":0},{"$f":"Inputs!F242","v":0}]
[{"$f":"Inputs!C243","v":0},{"$f":"Inputs!D243","v":0},{"$f":"Inputs!E243","v":0},{"$f":"Inputs!F243","v":0}]
[{"$f":"Inputs!C244","v":0},{"$f":"Inputs!D244","v":0},{"$f":"Inputs!E244","v":0},{"$f":"Inputs!F244","v":0}]
[{"$f":"Inputs!C245","v":0},{"$f":"Inputs!D245","v":0},{"$f":"Inputs!E245","v":0},{"$f":"Inputs!F245","v":0}]
[{"$f":"Inputs!C246","v":0},{"$f":"Inputs!D246","v":0},{"$f":"Inputs!E246","v":0},{"$f":"Inputs!F246","v":0}]
[{"$f":"Inputs!C247","v":0},{"$f":"Inputs!D247","v":0},{"$f":"Inputs!E247","v":0},{"$f":"Inputs!F247","v":0}]
[{"$f":"Inputs!C248","v":0},{"$f":"Inputs!D248","v":0},{"$f":"Inputs!E248","v":0},{"$f":"Inputs!F248","v":0}]
[{"$f":"Inputs!C249","v":0},{"$f":"Inputs!D249","v":0},{"$f":"Inputs!E249","v":0},{"$f":"Inputs!F249","v":0}]
[{"$f":"Inputs!C250","v":0},{"$f":"Inputs!D250","v":0},{"$f":"Inputs!E250","v":0},{"$f":"Inputs!F250","v":0}]
[{"$f":"Inputs!C251","v":0},{"$f":"Inputs!D251","v":0},{"$f":"Inputs!E251","v":0},{"$f":"Inputs!F251","v":0}]
[{"$f":"Inputs!C252","v":0},{"$f":"Inputs!D252","v":0},{"$f":"Inputs!E252","v":0},{"$f":"Inputs!F252","v":0}]
[{"$f":"Inputs!C253","v":0},{"$f":"Inputs!D253","v":0},{"$f":"Inputs!E253","v":0},{"$f":"Inputs!F253","v":0}]
[{"$f":"Inputs!C254","v":0},{"$f":"Inputs!D254","v":0},{"$f":"Inputs!E254","v":0},{"$f":"Inputs!F254","v":0}]
[{"$f":"Inputs!C255","v":0},{"$f":"Inputs!D255","v":0},{"$f":"Inputs!E255","v":0},{"$f":"Inputs!F255","v":0}]
[{"$f":"Inputs!C256","v":0},{"$f":"Inputs!D256","v":0},{"$f":"Inputs!E256","v":0},{"$f":"Inputs!F256","v":0}]
[{"$f":"Inputs!C257","v":0},{"$f":"Inputs!D257","v":0},{"$f":"Inputs!E257","v":0},{"$f":"Inputs!F257","v":0}]
[{"$f":"Inputs!C258","v":0},{"$f":"Inputs!D258","v":0},{"$f":"Inputs!E258","v":0},{"$f":"Inputs!F258","v":0}]
[{"$f":"Inputs!C259","v":0},{"$f":"Inputs!D259","v":0},{"$f":"Inputs!E259","v":0},{"$f":"Inputs!F259","v":0}]
[{"$f":"Inputs!C260","v":0},{"$f":"Inputs!D260","v":0},{"$f":"Inputs!E260","v":0},{"$f":"Inputs!F260","v":0}]
[{"$f":"Inputs!C261","v":0},{"$f":"Inputs!D261","v":0},{"$f":"Inputs!E261","v":0},{"$f":"Inputs!F261","v":0}]
[{"$f":"Inputs!C262","v":0},{"$f":"Inputs!D262","v":0},{"$f":"Inputs!E262","v":0},{"$f":"Inputs!F262","v":0}]
[{"$f":"Inputs!C263","v":0},{"$f":"Inputs!D263","v":0},{"$f":"Inputs!E263","v":0},{"$f":"Inputs!F263","v":0}]
[{"$f":"Inputs!C264","v":0},{"$f":"Inputs!D264","v":0},{"$f":"Inputs!E264","v":0},{"$f":"Inputs!F264","v":0}]
[{"$f":"Inputs!C265","v":0},{"$f":"Inputs!D265","v":0},{"$f":"Inputs!E265","v":0},{"$f":"Inputs!F265","v":0}]
[{"$f":"Inputs!C266","v":0},{"$f":"Inputs!D266","v":0},{"$f":"Inputs!E266","v":0},{"$f":"Inputs!F266","v":0}]
[{"$f":"Inputs!C267","v":0},{"$f":"Inputs!D267","v":0},{"$f":"Inputs!E267","v":0},{"$f":"Inputs!F267","v":0}]
[{"$f":"Inputs!C268","v":0},{"$f":"Inputs!D268","v":0},{"$f":"Inputs!E268","v":0},{"$f":"Inputs!F268","v":0}]
[{"$f":"Inputs!C269","v":0},{"$f":"Inputs!D269","v":0},{"$f":"Inputs!E269","v":0},{"$f":"Inputs!F269","v":0}]
[{"$f":"Inputs!C270","v":0},{"$f":"Inputs!D270","v":0},{"$f":"Inputs!E270","v":0},{"$f":"Inputs!F270","v":0}]
[{"$f":"Inputs!C271","v":0},{"$f":"Inputs!D271","v":0},{"$f":"Inputs!E271","v":0},{"$f":"Inputs!F271","v":0}]
[{"$f":"Inputs!C272","v":0},{"$f":"Inputs!D272","v":0},{"$f":"Inputs!E272","v":0},{"$f":"Inputs!F272","v":0}]
[{"$f":"Inputs!C273","v":0},{"$f":"Inputs!D273","v":0},{"$f":"Inputs!E273","v":0},{"$f":"Inputs!F273","v":0}]
[{"$f":"Inputs!C274","v":0},{"$f":"Inputs!D274","v":0},{"$f":"Inputs!E274","v":0},{"$f":"Inputs!F274","v":0}]
[{"$f":"Inputs!C275","v":0},{"$f":"Inputs!D275","v":0},{"$f":"Inputs!E275","v":0},{"$f":"Inputs!F275","v":0}]
[{"$f":"Inputs!C276","v":0},{"$f":"Inputs!D276","v":0},{"$f":"Inputs!E276","v":0},{"$f":"Inputs!F276","v":0}]
[{"$f":"Inputs!C277","v":0},{"$f":"Inputs!D277","v":0},{"$f":"Inputs!E277","v":0},{"$f":"Inputs!F277","v":0}]
[{"$f":"Inputs!C278","v":0},{"$f":"Inputs!D278","v":0},{"$f":"Inputs!E278","v":0},{"$f":"Inputs!F278","v":0}]
[{"$f":"Inputs!C279","v":0},{"$f":"Inputs!D279","v":0},{"$f":"Inputs!E279","v":0},{"$f":"Inputs!F279","v":0}]
[{"$f":"Inputs!C280","v":0},{"$f":"Inputs!D280","v":0},{"$f":"Inputs!E280","v":0},{"$f":"Inputs!F280","v":0}]
[{"$f":"Inputs!C281","v":0},{"$f":"Inputs!D281","v":0},{"$f":"Inputs!E281","v":0},{"$f":"Inputs!F281","v":0}]
[{"$f":"Inputs!C282","v":0},{"$f":"Inputs!D282","v":0},{"$f":"Inputs!E282","v":0},{"$f":"Inputs!F282","v":0}]
[{"$f":"Inputs!C283","v":0},{"$f":"Inputs!D283","v":0},{"$f":"Inputs!E283","v":0},{"$f":"Inputs!F283","v":0}]
[{"$f":"Inputs!C284","v":0},{"$f":"Inputs!D284","v":0},{"$f":"Inputs!E284","v":0},{"$f":"Inputs!F284","v":0}]
[{"$f":"Inputs!C285","v":0},{"$f":"Inputs!D285","v":0},{"$f":"Inputs!E285","v":0},{"$f":"Inputs!F285","v":0}]
[{"$f":"Inputs!C286","v":0},{"$f":"Inputs!D286","v":0},{"$f":"Inputs!E286","v":0},{"$f":"Inputs!F286","v":0}]
[{"$f":"Inputs!C287","v":0},{"$f":"Inputs!D287","v":0},{"$f":"Inputs!E287","v":0},{"$f":"Inputs!F287","v":0}]
[{"$f":"Inputs!C288","v":0},{"$f":"Inputs!D288","v":0},{"$f":"Inputs!E288","v":0},{"$f":"Inputs!F288","v":0}]
[{"$f":"Inputs!C289","v":0},{"$f":"Inputs!D289","v":0},{"$f":"Inputs!E289","v":0},{"$f":"Inputs!F289","v":0}]
[{"$f":"Inputs!C290","v":0},{"$f":"Inputs!D290","v":0},{"$f":"Inputs!E290","v":0},{"$f":"Inputs!F290","v":0}]
[{"$f":"Inputs!C291","v":0},{"$f":"Inputs!D291","v":0},{"$f":"Inputs!E291","v":0},{"$f":"Inputs!F291","v":0}]
[{"$f":"Inputs!C292","v":0},{"$f":"Inputs!D292","v":0},{"$f":"Inputs!E292","v":0},{"$f":"Inputs!F292","v":0}]
[{"$f":"Inputs!C293","v":0},{"$f":"Inputs!D293","v":0},{"$f":"Inputs!E293","v":0},{"$f":"Inputs!F293","v":0}]
[{"$f":"Inputs!C294","v":0},{"$f":"Inputs!D294","v":0},{"$f":"Inputs!E294","v":0},{"$f":"Inputs!F294","v":0}]
[{"$f":"Inputs!C295","v":0},{"$f":"Inputs!D295","v":0},{"$f":"Inputs!E295","v":0},{"$f":"Inputs!F295","v":0}]
[{"$f":"Inputs!C296","v":0},{"$f":"Inputs!D296","v":0},{"$f":"Inputs!E296","v":0},{"$f":"Inputs!F296","v":0}]
[{"$f":"Inputs!C297","v":0},{"$f":"Inputs!D297","v":0},{"$f":"Inputs!E297","v":0},{"$f":"Inputs!F297","v":0}]
[{"$f":"Inputs!C298","v":0},{"$f":"Inputs!D298","v":0},{"$f":"Inputs!E298","v":0},{"$f":"Inputs!F298","v":0}]
[{"$f":"Inputs!C299","v":0},{"$f":"Inputs!D299","v":0},{"$f":"Inputs!E299","v":0},{"$f":"Inputs!F299","v":0}]
[{"$f":"Inputs!C300","v":0},{"$f":"Inputs!D300","v":0},{"$f":"Inputs!E300","v":0},{"$f":"Inputs!F300","v":0}]
[{"$f":"Inputs!C301","v":0},{"$f":"Inputs!D301","v":0},{"$f":"Inputs!E301","v":0},{"$f":"Inputs!F301","v":0}]
[{"$f":"Inputs!C302","v":0},{"$f":"Inputs!D302","v":0},{"$f":"Inputs!E302","v":0},{"$f":"Inputs!F302","v":0}]
[{"$f":"Inputs!C303","v":0},{"$f":"Inputs!D303","v":0},{"$f":"Inputs!E303","v":0},{"$f":"Inputs!F303","v":0}]
[{"$f":"Inputs!C304","v":0},{"$f":"Inputs!D304","v":0},{"$f":"Inputs!E304","v":0},{"$f":"Inputs!F304","v":0}]
[{"$f":"Inputs!C305","v":0},{"$f":"Inputs!D305","v":0},{"$f":"Inputs!E305","v":0},{"$f":"Inputs!F305","v":0}]
[{"$f":"Inputs!C306","v":0},{"$f":"Inputs!D306","v":0},{"$f":"Inputs!E306","v":0},{"$f":"Inputs!F306","v":0}]
[{"$f":"Inputs!C307","v":0},{"$f":"Inputs!D307","v":0},{"$f":"Inputs!E307","v":0},{"$f":"Inputs!F307","v":0}]
[{"$f":"Inputs!C308","v":0},{"$f":"Inputs!D308","v":0},{"$f":"Inputs!E308","v":0},{"$f":"Inputs!F308","v":0}]
[{"$f":"Inputs!C309","v":0},{"$f":"Inputs!D309","v":0},{"$f":"Inputs!E309","v":0},{"$f":"Inputs!F309","v":0}]
[{"$f":"Inputs!C310","v":0},{"$f":"Inputs!D310","v":0},{"$f":"Inputs!E310","v":0},{"$f":"Inputs!F310","v":0}]
[{"$f":"Inputs!C311","v":0},{"$f":"Inputs!D311","v":0},{"$f":"Inputs!E311","v":0},{"$f":"Inputs!F311","v":0}]
[{"$f":"Inputs!C312","v":0},{"$f":"Inputs!D312","v":0},{"$f":"Inputs!E312","v":0},{"$f":"Inputs!F312","v":0}]
[{"$f":"Inputs!C313","v":0},{"$f":"Inputs!D313","v":0},{"$f":"Inputs!E313","v":0},{"$f":"Inputs!F313","v":0}]
[{"$f":"Inputs!C314","v":0},{"$f":"Inputs!D314","v":0},{"$f":"Inputs!E314","v":0},{"$f":"Inputs!F314","v":0}]
[{"$f":"Inputs!C315","v":0},{"$f":"Inputs!D315","v":0},{"$f":"Inputs!E315","v":0},{"$f":"Inputs!F315","v":0}]
[{"$f":"Inputs!C316","v":0},{"$f":"Inputs!D316","v":0},{"$f":"Inputs!E316","v":0},{"$f":"Inputs!F316","v":0}]
[{"$f":"Inputs!C317","v":0},{"$f":"Inputs!D317","v":0},{"$f":"Inputs!E317","v":0},{"$f":"Inputs!F317","v":0}]
[{"$f":"Inputs!C318","v":0},{"$f":"Inputs!D318","v":0},{"$f":"Inputs!E318","v":0},{"$f":"Inputs!F318","v":0}]
[{"$f":"Inputs!C319","v":0},{"$f":"Inputs!D319","v":0},{"$f":"Inputs!E319","v":0},{"$f":"Inputs!F319","v":0}]
[{"$f":"Inputs!C320","v":0},{"$f":"Inputs!D320","v":0},{"$f":"Inputs!E320","v":0},{"$f":"Inputs!F320","v":0}]
[{"$f":"Inputs!C321","v":0},{"$f":"Inputs!D321","v":0},{"$f":"Inputs!E321","v":0},{"$f":"Inputs!F321","v":0}]
[{"$f":"Inputs!C322","v":0},{"$f":"Inputs!D322","v":0},{"$f":"Inputs!E322","v":0},{"$f":"Inputs!F322","v":0}]
[{"$f":"Inputs!C323","v":0},{"$f":"Inputs!D323","v":0},{"$f":"Inputs!E323","v":0},{"$f":"Inputs!F323","v":0}]
[{"$f":"Inputs!C324","v":0},{"$f":"Inputs!D324","v":0},{"$f":"Inputs!E324","v":0},{"$f":"Inputs!F324","v":0}]
[{"$f":"Inputs!C325","v":0},{"$f":"Inputs!D325","v":0},{"$f":"Inputs!E325","v":0},{"$f":"Inputs!F325","v":0}]
[{"$f":"Inputs!C326","v":0},{"$f":"Inputs!D326","v":0},{"$f":"Inputs!E326","v":0},{"$f":"Inputs!F326","v":0}]
[{"$f":"Inputs!C327","v":0},{"$f":"Inputs!D327","v":0},{"$f":"Inputs!E327","v":0},{"$f":"Inputs!F327","v":0}]
[{"$f":"Inputs!C328","v":0},{"$f":"Inputs!D328","v":0},{"$f":"Inputs!E328","v":0},{"$f":"Inputs!F328","v":0}]
[{"$f":"Inputs!C329","v":0},{"$f":"Inputs!D329","v":0},{"$f":"Inputs!E329","v":0},{"$f":"Inputs!F329","v":0}]
[{"$f":"Inputs!C330","v":0},{"$f":"Inputs!D330","v":0},{"$f":"Inputs!E330","v":0},{"$f":"Inputs!F330","v":0}]
[{"$f":"Inputs!C331","v":0},{"$f":"Inputs!D331","v":0},{"$f":"Inputs!E331","v":0},{"$f":"Inputs!F331","v":0}]
[{"$f":"Inputs!C332","v":0},{"$f":"Inputs!D332","v":0},{"$f":"Inputs!E332","v":0},{"$f":"Inputs!F332","v":0}]
[{"$f":"Inputs!C333","v":0},{"$f":"Inputs!D333","v":0},{"$f":"Inputs!E333","v":0},{"$f":"Inputs!F333","v":0}]
[{"$f":"Inputs!C334","v":0},{"$f":"Inputs!D334","v":0},{"$f":"Inputs!E334","v":0},{"$f":"Inputs!F334","v":0}]
[{"$f":"Inputs!C335","v":0},{"$f":"Inputs!D335","v":0},{"$f":"Inputs!E335","v":0},{"$f":"Inputs!F335","v":0}]
[{"$f":"Inputs!C336","v":0},{"$f":"Inputs!D336","v":0},{"$f":"Inputs!E336","v":0},{"$f":"Inputs!F336","v":0}]
[{"$f":"Inputs!C337","v":0},{"$f":"Inputs!D337","v":0},{"$f":"Inputs!E337","v":0},{"$f":"Inputs!F337","v":0}]
[{"$f":"Inputs!C338","v":0},{"$f":"Inputs!D338","v":0},{"$f":"Inputs!E338","v":0},{"$f":"Inputs!F338","v":0}]
[{"$f":"Inputs!C339","v":0},{"$f":"Inputs!D339","v":0},{"$f":"Inputs!E339","v":0},{"$f":"Inputs!F339","v":0}]
[{"$f":"Inputs!C340","v":0},{"$f":"Inputs!D340","v":0},{"$f":"Inputs!E340","v":0},{"$f":"Inputs!F340","v":0}]
[{"$f":"Inputs!C341","v":0},{"$f":"Inputs!D341","v":0},{"$f":"Inputs!E341","v":0},{"$f":"Inputs!F341","v":0}]
[{"$f":"Inputs!C342","v":0},{"$f":"Inputs!D342","v":0},{"$f":"Inputs!E342","v":0},{"$f":"Inputs!F342","v":0}]
[{"$f":"Inputs!C343","v":0},{"$f":"Inputs!D343","v":0},{"$f":"Inputs!E343","v":0},{"$f":"Inputs!F343","v":0}]
[{"$f":"Inputs!C344","v":0},{"$f":"Inputs!D344","v":0},{"$f":"Inputs!E344","v":0},{"$f":"Inputs!F344","v":0}]
[{"$f":"Inputs!C345","v":0},{"$f":"Inputs!D345","v":0},{"$f":"Inputs!E345","v":0},{"$f":"Inputs!F345","v":0}]
[{"$f":"Inputs!C346","v":0},{"$f":"Inputs!D346","v":0},{"$f":"Inputs!E346","v":0},{"$f":"Inputs!F346","v":0}]
[{"$f":"Inputs!C347","v":0},{"$f":"Inputs!D347","v":0},{"$f":"Inputs!E347","v":0},{"$f":"Inputs!F347","v":0}]
[{"$f":"Inputs!C348","v":0},{"$f":"Inputs!D348","v":0},{"$f":"Inputs!E348","v":0},{"$f":"Inputs!F348","v":0}]
[{"$f":"Inputs!C349","v":0},{"$f":"Inputs!D349","v":0},{"$f":"Inputs!E349","v":0},{"$f":"Inputs!F349","v":0}]
[{"$f":"Inputs!C350","v":0},{"$f":"Inputs!D350","v":0},{"$f":"Inputs!E350","v":0},{"$f":"Inputs!F350","v":0}]
[{"$f":"Inputs!C351","v":0},{"$f":"Inputs!D351","v":0},{"$f":"Inputs!E351","v":0},{"$f":"Inputs!F351","v":0}]
[{"$f":"Inputs!C352","v":0},{"$f":"Inputs!D352","v":0},{"$f":"Inputs!E352","v":0},{"$f":"Inputs!F352","v":0}]
[{"$f":"Inputs!C353","v":0},{"$f":"Inputs!D353","v":0},{"$f":"Inputs!E353","v":0},{"$f":"Inputs!F353","v":0}]
[{"$f":"Inputs!C354","v":0},{"$f":"Inputs!D354","v":0},{"$f":"Inputs!E354","v":0},{"$f":"Inputs!F354","v":0}]
[{"$f":"Inputs!C355","v":0},{"$f":"Inputs!D355","v":0},{"$f":"Inputs!E355","v":0},{"$f":"Inputs!F355","v":0}]
[{"$f":"Inputs!C356","v":0},{"$f":"Inputs!D356","v":0},{"$f":"Inputs!E356","v":0},{"$f":"Inputs!F356","v":0}]
[{"$f":"Inputs!C357","v":0},{"$f":"Inputs!D357","v":0},{"$f":"Inputs!E357","v":0},{"$f":"Inputs!F357","v":0}]
[{"$f":"Inputs!C358","v":0},{"$f":"Inputs!D358","v":0},{"$f":"Inputs!E358","v":0},{"$f":"Inputs!F358","v":0}]
[{"$f":"Inputs!C359","v":0},{"$f":"Inputs!D359","v":0},{"$f":"Inputs!E359","v":0},{"$f":"Inputs!F359","v":0}]
[{"$f":"Inputs!C360","v":0},{"$f":"Inputs!D360","v":0},{"$f":"Inputs!E360","v":0},{"$f":"Inputs!F360","v":0}]
[{"$f":"Inputs!C361","v":0},{"$f":"Inputs!D361","v":0},{"$f":"Inputs!E361","v":0},{"$f":"Inputs!F361","v":0}]
[{"$f":"Inputs!C362","v":0},{"$f":"Inputs!D362","v":0},{"$f":"Inputs!E362","v":0},{"$f":"Inputs!F362","v":0}]
[{"$f":"Inputs!C363","v":0},{"$f":"Inputs!D363","v":0},{"$f":"Inputs!E363","v":0},{"$f":"Inputs!F363","v":0}]
[{"$f":"Inputs!C364","v":0},{"$f":"Inputs!D364","v":0},{"$f":"Inputs!E364","v":0},{"$f":"Inputs!F364","v":0}]
[{"$f":"Inputs!C365","v":0},{"$f":"Inputs!D365","v":0},{"$f":"Inputs!E365","v":0},{"$f":"Inputs!F365","v":0}]
[{"$f":"Inputs!C366","v":0},{"$f":"Inputs!D366","v":0},{"$f":"Inputs!E366","v":0},{"$f":"Inputs!F366","v":0}]
[{"$f":"Inputs!C367","v":0},{"$f":"Inputs!D367","v":0},{"$f":"Inputs!E367","v":0},{"$f":"Inputs!F367","v":0}]
[{"$f":"Inputs!C368","v":0},{"$f":"Inputs!D368","v":0},{"$f":"Inputs!E368","v":0},{"$f":"Inputs!F368","v":0}]
[{"$f":"Inputs!C369","v":0},{"$f":"Inputs!D369","v":0},{"$f":"Inputs!E369","v":0},{"$f":"Inputs!F369","v":0}]
[{"$f":"Inputs!C370","v":0},{"$f":"Inputs!D370","v":0},{"$f":"Inputs!E370","v":0},{"$f":"Inputs!F370","v":0}]
[{"$f":"Inputs!C371","v":0},{"$f":"Inputs!D371","v":0},{"$f":"Inputs!E371","v":0},{"$f":"Inputs!F371","v":0}]
[{"$f":"Inputs!C372","v":0},{"$f":"Inputs!D372","v":0},{"$f":"Inputs!E372","v":0},{"$f":"Inputs!F372","v":0}]
[{"$f":"Inputs!C373","v":0},{"$f":"Inputs!D373","v":0},{"$f":"Inputs!E373","v":0},{"$f":"Inputs!F373","v":0}]
[{"$f":"Inputs!C374","v":0},{"$f":"Inputs!D374","v":0},{"$f":"Inputs!E374","v":0},{"$f":"Inputs!F374","v":0}]
[{"$f":"Inputs!C375","v":0},{"$f":"Inputs!D375","v":0},{"$f":"Inputs!E375","v":0},{"$f":"Inputs!F375","v":0}]
[{"$f":"Inputs!C376","v":0},{"$f":"Inputs!D376","v":0},{"$f":"Inputs!E376","v":0},{"$f":"Inputs!F376","v":0}]
[{"$f":"Inputs!C377","v":0},{"$f":"Inputs!D377","v":0},{"$f":"Inputs!E377","v":0},{"$f":"Inputs!F377","v":0}]
[{"$f":"Inputs!C378","v":0},{"$f":"Inputs!D378","v":0},{"$f":"Inputs!E378","v":0},{"$f":"Inputs!F378","v":0}]
[{"$f":"Inputs!C379","v":0},{"$f":"Inputs!D379","v":0},{"$f":"Inputs!E379","v":0},{"$f":"Inputs!F379","v":0}]
[{"$f":"Inputs!C380","v":0},{"$f":"Inputs!D380","v":0},{"$f":"Inputs!E380","v":0},{"$f":"Inputs!F380","v":0}]
[{"$f":"Inputs!C381","v":0},{"$f":"Inputs!D381","v":0},{"$f":"Inputs!E381","v":0},{"$f":"Inputs!F381","v":0}]
[{"$f":"Inputs!C382","v":0},{"$f":"Inputs!D382","v":0},{"$f":"Inputs!E382","v":0},{"$f":"Inputs!F382","v":0}]
[{"$f":"Inputs!C383","v":0},{"$f":"Inputs!D383","v":0},{"$f":"Inputs!E383","v":0},{"$f":"Inputs!F383","v":0}]
[{"$f":"Inputs!C384","v":0},{"$f":"Inputs!D384","v":0},{"$f":"Inputs!E384","v":0},{"$f":"Inputs!F384","v":0}]
[{"$f":"Inputs!C385","v":0},{"$f":"Inputs!D385","v":0},{"$f":"Inputs!E385","v":0},{"$f":"Inputs!F385","v":0}]
[{"$f":"Inputs!C386","v":0},{"$f":"Inputs!D386","v":0},{"$f":"Inputs!E386","v":0},{"$f":"Inputs!F386","v":0}]
[{"$f":"Inputs!C387","v":0},{"$f":"Inputs!D387","v":0},{"$f":"Inputs!E387","v":0},{"$f":"Inputs!F387","v":0}]
[{"$f":"Inputs!C388","v":0},{"$f":"Inputs!D388","v":0},{"$f":"Inputs!E388","v":0},{"$f":"Inputs!F388","v":0}]
[{"$f":"Inputs!C389","v":0},{"$f":"Inputs!D389","v":0},{"$f":"Inputs!E389","v":0},{"$f":"Inputs!F389","v":0}]
[{"$f":"Inputs!C390","v":0},{"$f":"Inputs!D390","v":0},{"$f":"Inputs!E390","v":0},{"$f":"Inputs!F390","v":0}]
[{"$f":"Inputs!C391","v":0},{"$f":"Inputs!D391","v":0},{"$f":"Inputs!E391","v":0},{"$f":"Inputs!F391","v":0}]
[{"$f":"Inputs!C392","v":0},{"$f":"Inputs!D392","v":0},{"$f":"Inputs!E392","v":0},{"$f":"Inputs!F392","v":0}]
[{"$f":"Inputs!C393","v":0},{"$f":"Inputs!D393","v":0},{"$f":"Inputs!E393","v":0},{"$f":"Inputs!F393","v":0}]
[{"$f":"Inputs!C394","v":0},{"$f":"Inputs!D394","v":0},{"$f":"Inputs!E394","v":0},{"$f":"Inputs!F394","v":0}]
[{"$f":"Inputs!C395","v":0},{"$f":"Inputs!D395","v":0},{"$f":"Inputs!E395","v":0},{"$f":"Inputs!F395","v":0}]
[{"$f":"Inputs!C396","v":0},{"$f":"Inputs!D396","v":0},{"$f":"Inputs!E396","v":0},{"$f":"Inputs!F396","v":0}]
[{"$f":"Inputs!C397","v":0},{"$f":"Inputs!D397","v":0},{"$f":"Inputs!E397","v":0},{"$f":"Inputs!F397","v":0}]
[{"$f":"Inputs!C398","v":0},{"$f":"Inputs!D398","v":0},{"$f":"Inputs!E398","v":0},{"$f":"Inputs!F398","v":0}]
[{"$f":"Inputs!C399","v":0},{"$f":"Inputs!D399","v":0},{"$f":"Inputs!E399","v":0},{"$f":"Inputs!F399","v":0}]
[{"$f":"Inputs!C400","v":0},{"$f":"Inputs!D400","v":0},{"$f":"Inputs!E400","v":0},{"$f":"Inputs!F400","v":0}]
[{"$f":"Inputs!C401","v":0},{"$f":"Inputs!D401","v":0},{"$f":"Inputs!E401","v":0},{"$f":"Inputs!F401","v":0}]
[{"$f":"Inputs!C402","v":0},{"$f":"Inputs!D402","v":0},{"$f":"Inputs!E402","v":0},{"$f":"Inputs!F402","v":0}]
[{"$f":"Inputs!C403","v":0},{"$f":"Inputs!D403","v":0},{"$f":"Inputs!E403","v":0},{"$f":"Inputs!F403","v":0}]
[{"$f":"Inputs!C404","v":0},{"$f":"Inputs!D404","v":0},{"$f":"Inputs!E404","v":0},{"$f":"Inputs!F404","v":0}]
[{"$f":"Inputs!C405","v":0},{"$f":"Inputs!D405","v":0},{"$f":"Inputs!E405","v":0},{"$f":"Inputs!F405","v":0}]
[{"$f":"Inputs!C406","v":0},{"$f":"Inputs!D406","v":0},{"$f":"Inputs!E406","v":0},{"$f":"Inputs!F406","v":0}]
[{"$f":"Inputs!C407","v":0},{"$f":"Inputs!D407","v":0},{"$f":"Inputs!E407","v":0},{"$f":"Inputs!F407","v":0}]
[{"$f":"Inputs!C408","v":0},{"$f":"Inputs!D408","v":0},{"$f":"Inputs!E408","v":0},{"$f":"Inputs!F408","v":0}]
[{"$f":"Inputs!C409","v":0},{"$f":"Inputs!D409","v":0},{"$f":"Inputs!E409","v":0},{"$f":"Inputs!F409","v":0}]
[{"$f":"Inputs!C410","v":0},{"$f":"Inputs!D410","v":0},{"$f":"Inputs!E410","v":0},{"$f":"Inputs!F410","v":0}]
[{"$f":"Inputs!C411","v":0},{"$f":"Inputs!D411","v":0},{"$f":"Inputs!E411","v":0},{"$f":"Inputs!F411","v":0}]
[{"$f":"Inputs!C412","v":0},{"$f":"Inputs!D412","v":0},{"$f":"Inputs!E412","v":0},{"$f":"Inputs!F412","v":0}]
[{"$f":"Inputs!C413","v":0},{"$f":"Inputs!D413","v":0},{"$f":"Inputs!E413","v":0},{"$f":"Inputs!F413","v":0}]
[{"$f":"Inputs!C414","v":0},{"$f":"Inputs!D414","v":0},{"$f":"Inputs!E414","v":0},{"$f":"Inputs!F414","v":0}]
[{"$f":"Inputs!C415","v":0},{"$f":"Inputs!D415","v":0},{"$f":"Inputs!E415","v":0},{"$f":"Inputs!F415","v":0}]
[{"$f":"Inputs!C416","v":0},{"$f":"Inputs!D416","v":0},{"$f":"Inputs!E416","v":0},{"$f":"Inputs!F416","v":0}]
[{"$f":"Inputs!C417","v":0},{"$f":"Inputs!D417","v":0},{"$f":"Inputs!E417","v":0},{"$f":"Inputs!F417","v":0}]
[{"$f":"Inputs!C418","v":0},{"$f":"Inputs!D418","v":0},{"$f":"Inputs!E418","v":0},{"$f":"Inputs!F418","v":0}]
[{"$f":"Inputs!C419","v":0},{"$f":"Inputs!D419","v":0},{"$f":"Inputs!E419","v":0},{"$f":"Inputs!F419","v":0}]
[{"$f":"Inputs!C420","v":0},{"$f":"Inputs!D420","v":0},{"$f":"Inputs!E420","v":0},{"$f":"Inputs!F420","v":0}]
[{"$f":"Inputs!C421","v":0},{"$f":"Inputs!D421","v":0},{"$f":"Inputs!E421","v":0},{"$f":"Inputs!F421","v":0}]
[{"$f":"Inputs!C422","v":0},{"$f":"Inputs!D422","v":0},{"$f":"Inputs!E422","v":0},{"$f":"Inputs!F422","v":0}]
[{"$f":"Inputs!C423","v":0},{"$f":"Inputs!D423","v":0},{"$f":"Inputs!E423","v":0},{"$f":"Inputs!F423","v":0}]
[{"$f":"Inputs!C424","v":0},{"$f":"Inputs!D424","v":0},{"$f":"Inputs!E424","v":0},{"$f":"Inputs!F424","v":0}]
[{"$f":"Inputs!C425","v":0},{"$f":"Inputs!D425","v":0},{"$f":"Inputs!E425","v":0},{"$f":"Inputs!F425","v":0}]
[{"$f":"Inputs!C426","v":0},{"$f":"Inputs!D426","v":0},{"$f":"Inputs!E426","v":0},{"$f":"Inputs!F426","v":0}]
[{"$f":"Inputs!C427","v":0},{"$f":"Inputs!D427","v":0},{"$f":"Inputs!E427","v":0},{"$f":"Inputs!F427","v":0}]
[{"$f":"Inputs!C428","v":0},{"$f":"Inputs!D428","v":0},{"$f":"Inputs!E428","v":0},{"$f":"Inputs!F428","v":0}]
[{"$f":"Inputs!C429","v":0},{"$f":"Inputs!D429","v":0},{"$f":"Inputs!E429","v":0},{"$f":"Inputs!F429","v":0}]
[{"$f":"Inputs!C430","v":0},{"$f":"Inputs!D430","v":0},{"$f":"Inputs!E430","v":0},{"$f":"Inputs!F430","v":0}]
[{"$f":"Inputs!C431","v":0},{"$f":"Inputs!D431","v":0},{"$f":"Inputs!E431","v":0},{"$f":"Inputs!F431","v":0}]
[{"$f":"Inputs!C432","v":0},{"$f":"Inputs!D432","v":0},{"$f":"Inputs!E432","v":0},{"$f":"Inputs!F432","v":0}]
[{"$f":"Inputs!C433","v":0},{"$f":"Inputs!D433","v":0},{"$f":"Inputs!E433","v":0},{"$f":"Inputs!F433","v":0}]
[{"$f":"Inputs!C434","v":0},{"$f":"Inputs!D434","v":0},{"$f":"Inputs!E434","v":0},{"$f":"Inputs!F434","v":0}]
[{"$f":"Inputs!C435","v":0},{"$f":"Inputs!D435","v":0},{"$f":"Inputs!E435","v":0},{"$f":"Inputs!F435","v":0}]
[{"$f":"Inputs!C436","v":0},{"$f":"Inputs!D436","v":0},{"$f":"Inputs!E436","v":0},{"$f":"Inputs!F436","v":0}]
[{"$f":"Inputs!C437","v":0},{"$f":"Inputs!D437","v":0},{"$f":"Inputs!E437","v":0},{"$f":"Inputs!F437","v":0}]