{"text_format":"1","workbook":"xlsx","n_sheets":2,"sheets":["Kantoren","1-1000"],"not_rendered":{"charts":0,"images":3,"macros":1,"external_links":0,"defined_names":3,"comments":0,"pivot_tables":0},"unopened":[],"bounds":{"document_bytes":16777216,"sheet_cells":100000,"rows_first":2000,"rows_last":500,"rows_between":2000,"halvings":0,"cell_chars":16384,"cell_head_chars":4096},"cells_cut":0,"cells_raw":0,"read":"whole","date_system":"1900"}

{"sheet":"Kantoren","index":0,"n_rows":1042,"n_cols":19,"rows_kept":1042,"cut":false,"hidden":false,"merged":[]}
["kleurcode:     =$B$1:$AJ$33311","nr.","Boek",{"$f":"COUNTIF(D2:D1200,\"1\")","v":0},null,null,{"$f":"COUNTIF(G2:G1200,\"1000\")","v":0},"1\n0\n0","1000-SERIES","manco",null,null,null,"aanw.","totaal\naanw.:",{"$f":"SUM(N2:N1042)","v":360781},"totaal\nmanco:",{"$f":"SUM(J1:J1042)","v":669858},{"$f":"(P1)/(P1+R1)","v":0.35005564509008491}]
[null,1,1,null,null,null,null,{"$f":"'1-1000'!AD1","v":0},{"$f":"'1-1000'!K1","v":"Aalsmeer"},{"$f":"'1-1000'!AH1","v":122},"A1",":","AK32",{"$f":"1000-J2","v":878},{"$f":"IF(J2=0,\"COMPL\",\"\")","v":""}]
[null,2,1,null,null,null,null,{"$f":"'1-1000'!AD33","v":3},{"$f":"'1-1000'!K33","v":"Aalten"},{"$f":"'1-1000'!AH33","v":344},"A33",":","AK64",{"$f":"1000-J3","v":656},""]
[null,3,1,null,null,null,null,{"$f":"'1-1000'!AD65","v":6},{"$f":"'1-1000'!K65","v":"Ter Aar"},{"$f":"'1-1000'!AH65","v":494},"A65",":","AK96",506,""]
[null,4,1,null,null,null,null,{"$f":"'1-1000'!AD97","v":7},{"$f":"'1-1000'!K97","v":"Aarle-Rixtel"},{"$f":"'1-1000'!AH97","v":640},"A97",":","AK128",360,""]
[null,5,1,null,null,null,null,{"$f":"'1-1000'!AD129","v":6},{"$f":"'1-1000'!K129","v":"Abcoude"},{"$f":"'1-1000'!AH129","v":574},"A129",":","AK160",426,""]
[null,6,1,null,null,null,null,{"$f":"'1-1000'!AD161","v":8},{"$f":"'1-1000'!K161","v":"Abcoude (1)"},{"$f":"'1-1000'!AH161","v":775},"A161",":","AK192",225,""]
[null,7,1,null,null,null,null,{"$f":"'1-1000'!AD193","v":6},{"$f":"'1-1000'!K193","v":"Aerdenhout"},{"$f":"'1-1000'!AH193","v":379},"A193",":","AK224",621,""]
[null,8,1,null,null,null,null,{"$f":"'1-1000'!AD225","v":0},{"$f":"'1-1000'!K225","v":"Alblasserdam"},{"$f":"'1-1000'!AH225","v":195},"A225",":","AK256",805,""]
[null,9,1,null,null,null,null,{"$f":"'1-1000'!AD257","v":4},{"$f":"'1-1000'!K257","v":"Alblasserdam (1)"},{"$f":"'1-1000'!AH257","v":475},"A257",":","AK288",525,""]
[null,10,1,null,null,null,null,{"$f":"'1-1000'!AD289","v":0},{"$f":"'1-1000'!K289","v":"Alkmaar"},{"$f":"'1-1000'!AH289","v":85},"A289",":","AK320",915,""]
[null,11,2,null,null,null,null,{"$f":"'1-1000'!AD321","v":8},{"$f":"'1-1000'!K321","v":"Amr - Bagijnenstraat (1)"},{"$f":"'1-1000'!AH321","v":823},"A321",":","AK352",177,""]
[null,12,2,null,null,null,null,{"$f":"'1-1000'!AD353","v":8},{"$f":"'1-1000'!K353","v":"Amr - Bagijnenstraat (3)"},{"$f":"'1-1000'!AH353","v":774},"A353",":","AK384",226,""]
[null,13,2,null,null,null,null,{"$f":"'1-1000'!AD385","v":8},{"$f":"'1-1000'!K385","v":"Amr - Europaboulevard "},{"$f":"'1-1000'!AH385","v":734},"A385",":","AK416",266,""]
[null,14,2,null,null,null,null,{"$f":"'1-1000'!AD417","v":7},{"$f":"'1-1000'!K417","v":"Amr - Europaboulevard (1)"},{"$f":"'1-1000'!AH417","v":710},"A417",":","AK448",290,""]
[null,15,2,null,null,null,null,{"$f":"'1-1000'!AD449","v":7},{"$f":"'1-1000'!K449","v":"Amr - Europaboulevard (3)"},{"$f":"'1-1000'!AH449","v":755},"A449",":","AK480",245,""]
[null,16,2,null,null,null,null,{"$f":"'1-1000'!AD481","v":6},{"$f":"'1-1000'!K481","v":"Amr - Fred Hendriklaan"},{"$f":"'1-1000'!AH481","v":415},"A481",":","AK512",585,""]
[null,17,2,null,null,null,null,{"$f":"'1-1000'!AD513","v":3},{"$f":"'1-1000'!K513","v":"Amr - Muiderwaard"},{"$f":"'1-1000'!AH513","v":586},"A513",":","AK544",414,""]
[null,18,2,null,null,null,null,{"$f":"'1-1000'!AD545","v":9},{"$f":"'1-1000'!K545","v":"Amr - J Naberstraat"},{"$f":"'1-1000'!AH545","v":761},"A545",":","AK576",239,""]
[null,19,2,null,null,null,null,{"$f":"'1-1000'!AD577","v":5},{"$f":"'1-1000'!K577","v":"Amr - van Ostadelaan"},{"$f":"'1-1000'!AH577","v":463},"A577",":","AK608",537,""]
[null,20,2,null,null,null,null,{"$f":"'1-1000'!AD609","v":9},{"$f":"'1-1000'!K609","v":"Amr - Wendelaarstraat"},{"$f":"'1-1000'!AH609","v":735},"A609",":","AK640",265,""]
[null,21,3,null,null,null,null,{"$f":"'1-1000'!AD641","v":0},{"$f":"'1-1000'!K641","v":"Almelo"},{"$f":"'1-1000'!AH641","v":8},"A641",":","AK672",992,""]
[null,22,3,null,null,null,null,{"$f":"'1-1000'!AD673","v":4},{"$f":"'1-1000'!K673","v":"Almere"},{"$f":"'1-1000'!AH673","v":426},"A673",":","AK704",574,""]
[null,23,3,null,null,null,null,{"$f":"'1-1000'!AD705","v":9},{"$f":"'1-1000'!K705","v":"Alr - van Eesterenplein"},{"$f":"'1-1000'!AH705","v":582},"A705",":","AK736",418,""]
[null,24,3,null,null,null,null,{"$f":"'1-1000'!AD737","v":9},{"$f":"'1-1000'!K737","v":"Alr - Jaagmeent"},{"$f":"'1-1000'!AH737","v":780},"A737",":","AK768",220,""]
[null,25,3,null,null,null,null,{"$f":"'1-1000'!AD769","v":9},{"$f":"'1-1000'!K769","v":"Alr - Lavendelplantsoen"},{"$f":"'1-1000'!AH769","v":861},"A769",":","AK800",139,""]
[null,26,3,null,null,null,null,{"$f":"'1-1000'!AD801","v":9},{"$f":"'1-1000'!K801","v":"Alr - Marktgracht"},{"$f":"'1-1000'!AH801","v":497},"A801",":","AK832",503,""]
[null,27,3,null,null,null,null,{"$f":"'1-1000'!AD833","v":4},{"$f":"'1-1000'!K833","v":"Alr - Marktgracht (1)"},{"$f":"'1-1000'!AH833","v":515},"A833",":","AK864",485,""]
[null,28,3,null,null,null,null,{"$f":"'1-1000'!AD865","v":9},{"$f":"'1-1000'!K865","v":"Alr - Noordeinde"},{"$f":"'1-1000'!AH865","v":619},"A865",":","AK896",381,""]
[null,29,3,null,null,null,null,{"$f":"'1-1000'!AD897","v":6},{"$f":"'1-1000'!K897","v":"Alr - de Paal"},{"$f":"'1-1000'!AH897","v":776},"A897",":","AK928",224,""]
[null,30,3,null,null,null,null,{"$f":"'1-1000'!AD929","v":7},{"$f":"'1-1000'!K929","v":"Alr - Spoordreef"},{"$f":"'1-1000'!AH929","v":495},"A929",":","AK960",505,""]
[null,31,4,null,null,null,null,{"$f":"'1-1000'!AD961","v":5},{"$f":"'1-1000'!K961","v":"Alr - Spoordreef (1)"},{"$f":"'1-1000'!AH961","v":509},"A961",":","AK992",491,""]
[null,32,4,null,null,null,null,{"$f":"'1-1000'!AD993","v":6},{"$f":"'1-1000'!K993","v":"Alr - Spoordreef (2)"},{"$f":"'1-1000'!AH993","v":523},"A993",":","AK1024",477,""]
[null,33,"4",null,null,null,null,{"$f":"'1-1000'!AD1025","v":0},{"$f":"'1-1000'!K1025","v":"Alphen a/d Rijn"},{"$f":"'1-1000'!AH1025","v":49},"A1025",":","AK1056",951,""]
[null,34,"4",null,null,null,null,{"$f":"'1-1000'!AD1057","v":8},{"$f":"'1-1000'!K1057","v":"Alphen a/d Rijn (3)"},{"$f":"'1-1000'!AH1057","v":777},"A1057",":","AK1088",223,""]
[null,35,"4",null,null,null,null,{"$f":"'1-1000'!AD1089","v":9},{"$f":"'1-1000'!K1089","v":"Al - Herenhof"},{"$f":"'1-1000'!AH1089","v":719},"A1089",":","AK1120",281,""]
[null,36,"4",null,null,null,null,{"$f":"'1-1000'!AD1121","v":6},{"$f":"'1-1000'!K1121","v":"Al - Herenhof (1)"},{"$f":"'1-1000'!AH1121","v":519},"A1121",":","AK1152",481,""]
[null,37,"4",null,null,null,null,{"$f":"'1-1000'!AD1153","v":9},{"$f":"'1-1000'!K1153","v":"Al - Julianastraat"},{"$f":"'1-1000'!AH1153","v":687},"A1153",":","AK1184",313,""]
[null,38,4.0022246941045596,null,null,null,null,{"$f":"'1-1000'!AD1185","v":6},{"$f":"'1-1000'!K1185","v":"Al - Julianastraat (2)"},{"$f":"'1-1000'!AH1185","v":667},"A1185",":","AK1216",333,""]
[null,39,"4",null,null,null,null,{"$f":"'1-1000'!AD1217","v":4},{"$f":"'1-1000'!K1217","v":"Al - Ridderhof"},{"$f":"'1-1000'!AH1217","v":498},"A1217",":","AK1248",502,""]
[null,40,"4",null,null,null,null,{"$f":"'1-1000'!AD1249","v":9},{"$f":"'1-1000'!K1249","v":"Al - Ridderhof (1)"},{"$f":"'1-1000'!AH1249","v":671},"A1249",":","AK1280",329,""]
[null,41,5,null,null,null,null,{"$f":"'1-1000'!AD1281","v":5},{"$f":"'1-1000'!K1281","v":"Ameide"},{"$f":"'1-1000'!AH1281","v":651},"A1281",":","AK1312",349,""]
[null,42,5,null,null,null,null,{"$f":"'1-1000'!AD1313","v":5},{"$f":"'1-1000'!K1313","v":"Amerongen"},{"$f":"'1-1000'!AH1313","v":532},"A1313",":","AK1344",468,""]
[null,43,5,null,null,null,null,{"$f":"'1-1000'!AD1345","v":0},{"$f":"'1-1000'!K1345","v":"Amersfoort"},{"$f":"'1-1000'!AH1345","v":15},"A1345",":","AK1376",985,""]
[null,44,5,null,null,null,null,{"$f":"'1-1000'!AD1377","v":1},{"$f":"'1-1000'!K1377","v":"Amersfoort (1)"},{"$f":"'1-1000'!AH1377","v":100},"A1377",":","AK1408",900,""]
[null,45,5,null,null,null,null,{"$f":"'1-1000'!AD1409","v":0},{"$f":"'1-1000'!K1409","v":"Amersfoort (2)"},{"$f":"'1-1000'!AH1409","v":45},"A1409",":","AK1440",955,{"$f":"IF(J46=0,\"COMPL\",\"\")","v":""}]
[null,46,5,null,null,null,null,{"$f":"'1-1000'!AD1441","v":8},{"$f":"'1-1000'!K1441","v":"Amf - De Bosch Kemperlaan"},{"$f":"'1-1000'!AH1441","v":778},"A1441",":","AK1472",222,""]
[null,47,5,null,null,null,null,{"$f":"'1-1000'!AD1473","v":6},{"$f":"'1-1000'!K1473","v":"Amf - Euterpeplein"},{"$f":"'1-1000'!AH1473","v":542},"A1473",":","AK1504",458,""]
[null,48,5,null,null,null,null,{"$f":"'1-1000'!AD1505","v":3},{"$f":"'1-1000'!K1505","v":"Amf - Spaarnestraat"},{"$f":"'1-1000'!AH1505","v":482},"A1505",":","AK1536",518,""]
[null,49,5,null,null,null,null,{"$f":"'1-1000'!AD1537","v":9},{"$f":"'1-1000'!K1537","v":"Amf - Pieter Stastokerf"},{"$f":"'1-1000'!AH1537","v":681},"A1537",":","AK1568",319,""]
[null,50,5,null,null,null,null,{"$f":"'1-1000'!AD1569","v":9},{"$f":"'1-1000'!K1569","v":"Ammerzoden"},{"$f":"'1-1000'!AH1569","v":647},"A1569",":","AK1600",353,""]
[null,51,6,null,null,null,null,{"$f":"'1-1000'!AD1601","v":1},{"$f":"'1-1000'!K1601","v":"Amstelveen"},{"$f":"'1-1000'!AH1601","v":19},"A1601",":","AK1632",981,""]
[null,52,6,null,null,null,null,{"$f":"'1-1000'!AD1633","v":1},{"$f":"'1-1000'!K1633","v":"Amstelveen (1)"},{"$f":"'1-1000'!AH1633","v":60},"A1633",":","AK1664",940,""]
[null,53,6,null,null,null,null,{"$f":"'1-1000'!AD1665","v":6},{"$f":"'1-1000'!K1665","v":"Amstelveen (2)"},{"$f":"'1-1000'!AH1665","v":352},"A1665",":","AK1696",648,""]
[null,54,6,null,null,null,null,{"$f":"'1-1000'!AD1697","v":4},{"$f":"'1-1000'!K1697","v":"Asv - Groenhof"},{"$f":"'1-1000'!AH1697","v":487},"A1697",":","AK1728",513,""]
[null,55,6,null,null,null,null,{"$f":"'1-1000'!AD1729","v":6},{"$f":"'1-1000'!K1729","v":"Asv - Kostverlorenhof"},{"$f":"'1-1000'!AH1729","v":492},"A1729",":","AK1760",508,""]
[null,56,6,null,null,null,null,{"$f":"'1-1000'!AD1761","v":2},{"$f":"'1-1000'!K1761","v":"Asv - Legmeer"},{"$f":"'1-1000'!AH1761","v":388},"A1761",":","AK1792",612,""]
[null,57," ",null,null,null,null,{"$f":"'1-1000'!AD1793","v":8},{"$f":"'1-1000'!K1793","v":"Asv - Middenhoven"},{"$f":"'1-1000'!AH1793","v":739},"A1793",":","AK1824",261,""]
[null,58,6,null,null,null,null,{"$f":"'1-1000'!AD1825","v":7},{"$f":"'1-1000'!K1825","v":"Asv - Middenhoven (1)"},{"$f":"'1-1000'!AH1825","v":702},"A1825",":","AK1856",298,""]
["x",59,6,null,null,null,null,{"$f":"'1-1000'!AD1857","v":0},{"$f":"'1-1000'!K1857","v":"Amsterdam"},{"$f":"'1-1000'!AH1857","v":1},"A1857",":","AK1888",999,""]
["x",60,"6",null,null,null,null,{"$f":"'1-1000'!AD1889","v":0},{"$f":"'1-1000'!K1889","v":"Amsterdam 2e"},{"$f":"'1-1000'!AH1889","v":150},"A1889",":","AK1920",850,""]
["x",61,7,null,null,null,null,{"$f":"'1-1000'!AD1921","v":1},{"$f":"'1-1000'!K1921","v":"Amsterdam (1)"},{"$f":"'1-1000'!AH1921","v":151},"A1921",":","AK1952",849,""]
[null,62,7,null,null,null,null,{"$f":"'1-1000'!AD1953","v":4},{"$f":"'1-1000'!K1953","v":"Asd - Sint Antoniesbreestraat"},{"$f":"'1-1000'!AH1953","v":255},"A1953",":","AK1984",745,""]
[null,63,7,null,null,null,null,{"$f":"'1-1000'!AD1985","v":4},{"$f":"'1-1000'!K1985","v":"Asd - Bloemgracht"},{"$f":"'1-1000'!AH1985","v":376},"A1985",":","AK2016",624,""]
[null,64,7,null,null,null,null,{"$f":"'1-1000'!AD2017","v":6},{"$f":"'1-1000'!K2017","v":"Asd - Bloemgracht (1)"},{"$f":"'1-1000'!AH2017","v":452},"A2017",":","AK2048",548,""]
[null,65,7,null,null,null,null,{"$f":"'1-1000'!AD2049","v":0},{"$f":"'1-1000'!K2049","v":"Asd - Borgerstraat"},{"$f":"'1-1000'!AH2049","v":116},"A2049",":","AK2080",884,{"$f":"IF(J66=0,\"COMPL\",\"\")","v":""}]
["x",66,7,null,null,null,null,{"$f":"'1-1000'!AD2081","v":0},{"$f":"'1-1000'!K2081","v":"Asd - Bos en Lommerplein"},{"$f":"'1-1000'!AH2081","v":53},"A2081",":","AK2112",{"$f":"1000-J67","v":947},""]
[null,67,7,null,null,null,null,{"$f":"'1-1000'!AD2113","v":1},{"$f":"'1-1000'!K2113","v":"Asd - Bos en Lommerplein (1)"},{"$f":"'1-1000'!AH2113","v":162},"A2113",":","AK2144",838,""]
[null,68,7,null,null,null,null,{"$f":"'1-1000'!AD2145","v":5},{"$f":"'1-1000'!K2145","v":"Asd - Bremstraat"},{"$f":"'1-1000'!AH2145","v":342},"A2145",":","AK2176",658,""]
[null,69,7,null,null,null,null,{"$f":"'1-1000'!AD2177","v":7},{"$f":"'1-1000'!K2177","v":"Asd - Buikslotermeerplein"},{"$f":"'1-1000'!AH2177","v":466},"A2177",":","AK2208",534,""]
[null,70,7,null,null,null,null,{"$f":"'1-1000'!AD2209","v":4},{"$f":"'1-1000'!K2209","v":"Asd - Buikslotermeerplein (1)"},{"$f":"'1-1000'!AH2209","v":579},"A2209",":","AK2240",421,""]
[null,71,8,null,null,null,null,{"$f":"'1-1000'!AD2241","v":0},{"$f":"'1-1000'!K2241","v":"Asd - Courbetstraat"},{"$f":"'1-1000'!AH2241","v":186},"A2241",":","AK2272",814,""]
["x",72,8,null,null,null,null,{"$f":"'1-1000'!AD2273","v":0},{"$f":"'1-1000'!K2273","v":"Asd - Albert Cuypstraat"},{"$f":"'1-1000'!AH2273","v":181},"A2273",":","AK2304",819,""]
[null,73,8,null,null,null,null,{"$f":"'1-1000'!AD2305","v":2},{"$f":"'1-1000'!K2305","v":"Asd - Derkinderenstraat"},{"$f":"'1-1000'!AH2305","v":433},"A2305",":","AK2336",567,""]
["x",74,8,null,null,null,null,{"$f":"'1-1000'!AD2337","v":0},{"$f":"'1-1000'!K2337","v":"Asd - A J Ernststraat"},{"$f":"'1-1000'!AH2337","v":181},"A2337",":","AK2368",819,""]
["x",75,8,null,null,null,null,{"$f":"'1-1000'!AD2369","v":6},{"$f":"'1-1000'!K2369","v":"Asd - A J Ernststraat (1)"},{"$f":"'1-1000'!AH2369","v":354},"A2369",":","AK2400",646,""]
[null,76,8,null,null,null,null,{"$f":"'1-1000'!AD2401","v":1},{"$f":"'1-1000'!K2401","v":"Asd - Haarlemmerdijk"},{"$f":"'1-1000'!AH2401","v":141},"A2401",":","AK2432",859,""]
[null,77,8,null,null,null,null,{"$f":"'1-1000'!AD2433","v":1},{"$f":"'1-1000'!K2433","v":"Asd - Hemonystraat"},{"$f":"'1-1000'!AH2433","v":208},"A2433",":","AK2464",792,""]
[null,78,8,null,null,null,null,{"$f":"'1-1000'!AD2465","v":0},{"$f":"'1-1000'!K2465","v":"Asd - Keizersgracht"},{"$f":"'1-1000'!AH2465","v":104},"A2465",":","AK2496",896,""]
[null,79,8,null,null,null,null,{"$f":"'1-1000'!AD2497","v":1},{"$f":"'1-1000'!K2497","v":"Asd - Keizersgracht (1)"},{"$f":"'1-1000'!AH2497","v":99},"A2497",":","AK2528",901,""]
[null,80,8,null,null,null,null,{"$f":"'1-1000'!AD2529","v":0},{"$f":"'1-1000'!K2529","v":"Asd - Kerkstraat"},{"$f":"'1-1000'!AH2529","v":64},"A2529",":","AK2560",936,""]
[null,81,9,null,null,null,null,{"$f":"'1-1000'!AD2561","v":3},{"$f":"'1-1000'!K2561","v":"Asd - Kerkstraat (1)"},{"$f":"'1-1000'!AH2561","v":96},"A2561",":","AK2592",904,""]
[null,82,9,null,null,null,null,{"$f":"'1-1000'!AD2593","v":2},{"$f":"'1-1000'!K2593","v":"Asd - Koninginneweg"},{"$f":"'1-1000'!AH2593","v":179},"A2593",":","AK2624",821,""]
[null,83,9,null,null,null,null,{"$f":"'1-1000'!AD2625","v":4},{"$f":"'1-1000'!K2625","v":"Asd - Koninginneweg (1)"},{"$f":"'1-1000'!AH2625","v":411},"A2625",":","AK2656",589,""]
[null,84,9,null,null,null,null,{"$f":"'1-1000'!AD2657","v":3},{"$f":"'1-1000'!K2657","v":"Asd - 2e Kostverlorenkade"},{"$f":"'1-1000'!AH2657","v":328},"A2657",":","AK2688",672,""]
[null,85,9,null,null,null,null,{"$f":"'1-1000'!AD2689","v":2},{"$f":"'1-1000'!K2689","v":"Asd - 2e Kostverlorenkade (1)"},{"$f":"'1-1000'!AH2689","v":385},"A2689",":","AK2720",615,""]
[null,86,9,null,null,null,null,{"$f":"'1-1000'!AD2721","v":0},{"$f":"'1-1000'!K2721","v":"Asd - Oosterdokskade"},{"$f":"'1-1000'!AH2721","v":12},"A2721",":","AK2752",988,""]
[null,87,9,null,null,null,null,{"$f":"'1-1000'!AD2753","v":0},{"$f":"'1-1000'!K2753","v":"Asd - Oosterdokskade (1)"},{"$f":"'1-1000'!AH2753","v":11},"A2753",":","AK2784",989,""]
[null,88,9,null,null,null,null,{"$f":"'1-1000'!AD2785","v":3},{"$f":"'1-1000'!K2785","v":"Asd - Oosterdokskade (2)"},{"$f":"'1-1000'!AH2785","v":220},"A2785",":","AK2816",780,""]
[null,89,9,null,null,null,null,{"$f":"'1-1000'!AD2817","v":6},{"$f":"'1-1000'!K2817","v":"Asd - Oosterdokskade (3)"},{"$f":"'1-1000'!AH2817","v":384},"A2817",":","AK2848",616,""]
["x",90,9,null,null,null,null,{"$f":"'1-1000'!AD2849","v":0},{"$f":"'1-1000'!K2849","v":"Asd - Oosterdokskade (4)"},{"$f":"'1-1000'!AH2849","v":416},"A2849",":","AK2880",584,""]
[null,91,10,null,null,null,null,{"$f":"'1-1000'!AD2881","v":1},{"$f":"'1-1000'!K2881","v":"Asd - Plantage Middenlaan"},{"$f":"'1-1000'!AH2881","v":372},"A2881",":","AK2912",628,""]
[null,92,10,null,null,null,null,{"$f":"'1-1000'!AD2913","v":1},{"$f":"'1-1000'!K2913","v":"Asd - Stadhouderskade"},{"$f":"'1-1000'!AH2913","v":79},"A2913",":","AK2944",921,""]
[null,93,10,null,null,null,null,{"$f":"'1-1000'!AD2945","v":3},{"$f":"'1-1000'!K2945","v":"Asd - Stadhouderskade (1)"},{"$f":"'1-1000'!AH2945","v":203},"A2945",":","AK2976",797,""]
[null,94,10,null,null,null,null,{"$f":"'1-1000'!AD2977","v":4},{"$f":"'1-1000'!K2977","v":"Asd - Gerard Terborgstraat"},{"$f":"'1-1000'!AH2977","v":221},"A2977",":","AK3008",779,""]
[null,95,10,null,null,null,null,{"$f":"'1-1000'!AD3009","v":5},{"$f":"'1-1000'!K3009","v":"Asd - Gerard Terborgstraat (1)"},{"$f":"'1-1000'!AH3009","v":240},"A3009",":","AK3040",760,""]
[null,96,10,null,null,null,null,{"$f":"'1-1000'!AD3041","v":3},{"$f":"'1-1000'!K3041","v":"Asd - Tussen Meer"},{"$f":"'1-1000'!AH3041","v":201},"A3041",":","AK3072",799,""]
[null,97,10,null,null,null,null,{"$f":"'1-1000'!AD3073","v":3},{"$f":"'1-1000'!K3073","v":"Asd - Johan Verhulststraat"},{"$f":"'1-1000'!AH3073","v":137},"A3073",":","AK3104",863,""]
[null,98,10,null,null,null,null,{"$f":"'1-1000'!AD3105","v":4},{"$f":"'1-1000'!K3105","v":"Asd - Johan Verhulststraat (1)"},{"$f":"'1-1000'!AH3105","v":209},"A3105",":","AK3136",791,""]
[null,99,10,null,null,null,null,{"$f":"'1-1000'!AD3137","v":6},{"$f":"'1-1000'!K3137","v":"Asd - Burg de Vlugtlaan"},{"$f":"'1-1000'!AH3137","v":501},"A3137",":","AK3168",499,""]
[null,100,"10",null,null,null,null,{"$f":"'1-1000'!AD3169","v":0},{"$f":"'1-1000'!K3169","v":"Asd - Waalstraat"},{"$f":"'1-1000'!AH3169","v":150},"A3169",":","AK3200",850,""]
[null,101,11,null,null,null,null,{"$f":"'1-1000'!AD3201","v":5},{"$f":"'1-1000'!K3201","v":"Asd - Waalstraat (1)"},{"$f":"'1-1000'!AH3201","v":248},"A3201",":","AK3232",752,""]
[null,102,11,null,null,null,null,{"$f":"'1-1000'!AD3233","v":4},{"$f":"'1-1000'!K3233","v":"Asd - Waterlandplein"},{"$f":"'1-1000'!AH3233","v":438},"A3233",":","AK3264",562,""]
[null,103,11,null,null,null,null,{"$f":"'1-1000'!AD3265","v":5},{"$f":"'1-1000'!K3265","v":"Asd - Wibautstraat"},{"$f":"'1-1000'!AH3265","v":546},"A3265",":","AK3296",454,""]
[null,104,11,null,null,null,null,{"$f":"'1-1000'!AD3297","v":0},{"$f":"'1-1000'!K3297","v":"Asd - Zaanstraat"},{"$f":"'1-1000'!AH3297","v":245},"A3297",":","AK3328",755,""]
[null,105,11,null,null,null,null,{"$f":"'1-1000'!AD3329","v":6},{"$f":"'1-1000'!K3329","v":"Asd - Zuidoost"},{"$f":"'1-1000'!AH3329","v":323},"A3329",":","AK3360",677,""]
[null,106,11,null,null,null,null,{"$f":"'1-1000'!AD3361","v":8},{"$f":"'1-1000'!K3361","v":"Asd - Zuidoost (1)"},{"$f":"'1-1000'!AH3361","v":483},"A3361",":","AK3392",517,""]
[null,107,11,null,null,null,null,{"$f":"'1-1000'!AD3393","v":5},{"$f":"'1-1000'!K3393","v":"Asd - Zuidoost (2)"},{"$f":"'1-1000'!AH3393","v":532},"A3393",":","AK3424",468,""]
[null,108,11,null,null,null,null,{"$f":"'1-1000'!AD3425","v":8},{"$f":"'1-1000'!K3425","v":"Asd - Zuidoost (3)"},{"$f":"'1-1000'!AH3425","v":575},"A3425",":","AK3456",425,""]
[null,109,11,null,null,null,null,{"$f":"'1-1000'!AD3457","v":7},{"$f":"'1-1000'!K3457","v":"Asd - Zuidoost Kraaiennest"},{"$f":"'1-1000'!AH3457","v":499},"A3457",":","AK3488",501,""]
[null,110,11,null,null,null,null,{"$f":"'1-1000'!AD3489","v":9},{"$f":"'1-1000'!K3489","v":"Asd - Zuidoost Reigersbos"},{"$f":"'1-1000'!AH3489","v":654},"A3489",":","AK3520",346,""]
[null,111,12,null,null,null,null,{"$f":"'1-1000'!AD3521","v":7},{"$f":"'1-1000'!K3521","v":"Asd - Zuidoost Reigersbos (1)"},{"$f":"'1-1000'!AH3521","v":640},"A3521",":","AK3552",360,""]
[null,112,12,null,null,null,null,{"$f":"'1-1000'!AD3553","v":4},{"$f":"'1-1000'!K3553","v":"Asd - Lambertus Zijlplein"},{"$f":"'1-1000'!AH3553","v":497},"A3553",":","AK3584",503,""]
[null,113,12,null,null,null,null,{"$f":"'1-1000'!AD3585","v":8},{"$f":"'1-1000'!K3585","v":"Anna Paulowna"},{"$f":"'1-1000'!AH3585","v":495},"A3585",":","AK3616",505,""]
[null,114,12,null,null,null,null,{"$f":"'1-1000'!AD3617","v":0},{"$f":"'1-1000'!K3617","v":"Apeldoorn"},{"$f":"'1-1000'!AH3617","v":0},"A3617",":","AK3648",1000,"COMPL"]
[null,115,12,null,null,null,null,{"$f":"'1-1000'!AD3649","v":0},{"$f":"'1-1000'!K3649","v":"Apeldoorn 2e"},{"$f":"'1-1000'!AH3649","v":0},"A3649",":","AK3680",1000,"COMPL"]
[null,116,12,null,null,null,null,{"$f":"'1-1000'!AD3681","v":1},{"$f":"'1-1000'!K3681","v":"Ap - de Eglantier"},{"$f":"'1-1000'!AH3681","v":299},"A3681",":","AK3712",701,""]
["x",117,12,null,null,null,null,{"$f":"'1-1000'!AD3713","v":5},{"$f":"'1-1000'!K3713","v":"Ap - Chr Geurtsweg"},{"$f":"'1-1000'!AH3713","v":470},"A3713",":","AK3744",530,""]
[null,118,12,null,null,null,null,{"$f":"'1-1000'!AD3745","v":6},{"$f":"'1-1000'!K3745","v":"Ap - Korianderplein"},{"$f":"'1-1000'!AH3745","v":452},"A3745",":","AK3776",548,""]
[null,119,12,null,null,null,null,{"$f":"'1-1000'!AD3777","v":6},{"$f":"'1-1000'!K3777","v":"Ap - Mercatorplein"},{"$f":"'1-1000'!AH3777","v":612},"A3777",":","AK3808",388,""]
[null,120,12,null,null,null,null,{"$f":"'1-1000'!AD3809","v":6},{"$f":"'1-1000'!K3809","v":"Ap - Mgr Nolensstraat"},{"$f":"'1-1000'!AH3809","v":522},"A3809",":","AK3840",478,""]
[null,121,13,null,null,null,null,{"$f":"'1-1000'!AD3841","v":2},{"$f":"'1-1000'!K3841","v":"Ap - Operaplein"},{"$f":"'1-1000'!AH3841","v":308},"A3841",":","AK3872",692,""]
[null,122,13,null,null,null,null,{"$f":"'1-1000'!AD3873","v":6},{"$f":"'1-1000'!K3873","v":"Ap - Schubertlaan"},{"$f":"'1-1000'!AH3873","v":468},"A3873",":","AK3904",532,""]
[null,123,13,null,null,null,null,{"$f":"'1-1000'!AD3905","v":2},{"$f":"'1-1000'!K3905","v":"Appingedam"},{"$f":"'1-1000'!AH3905","v":277},"A3905",":","AK3936",723,""]
[null,124,13,null,null,null,null,{"$f":"'1-1000'!AD3937","v":7},{"$f":"'1-1000'!K3937","v":"Arnemuiden"},{"$f":"'1-1000'!AH3937","v":764},"A3937",":","AK3968",236,""]
[null,125,13,null,null,null,null,{"$f":"'1-1000'!AD3969","v":0},{"$f":"'1-1000'!K3969","v":"Arnhem"},{"$f":"'1-1000'!AH3969","v":7},"A3969",":","AK4000",993,""]
[null,126,13,null,null,null,null,{"$f":"'1-1000'!AD4001","v":5},{"$f":"'1-1000'!K4001","v":"Arnhem (1)"},{"$f":"'1-1000'!AH4001","v":287},"A4001",":","AK4032",713,""]
[null,127,13,null,null,null,null,{"$f":"'1-1000'!AD4033","v":5},{"$f":"'1-1000'!K4033","v":"Arnhem (2)"},{"$f":"'1-1000'!AH4033","v":546},"A4033",":","AK4064",454,""]
[null,128,13,null,null,null,null,{"$f":"'1-1000'!AD4065","v":7},{"$f":"'1-1000'!K4065","v":"Arnhem (3)"},{"$f":"'1-1000'!AH4065","v":529},"A4065",":","AK4096",471,""]
[null,129,13,null,null,null,null,{"$f":"'1-1000'!AD4097","v":6},{"$f":"'1-1000'!K4097","v":"Arnhem (4)"},{"$f":"'1-1000'!AH4097","v":456},"A4097",":","AK4128",544,{"$f":"IF(J130=0,\"COMPL\",\"\")","v":""}]
[null,130," ",null,null,null,null,{"$f":"'1-1000'!AD4129","v":5},{"$f":"'1-1000'!K4129","v":"Ah - Driekoningenstraat"},{"$f":"'1-1000'!AH4129","v":569},"A4129",":","AK4160",{"$f":"1000-J131","v":431},""]
[null,131,14,null,null,null,null,{"$f":"'1-1000'!AD4161","v":8},{"$f":"'1-1000'!K4161","v":"Ah - Geitenkamp"},{"$f":"'1-1000'!AH4161","v":509},"A4161",":","AK4192",491,""]
[null,132,14,null,null,null,null,{"$f":"'1-1000'!AD4193","v":7},{"$f":"'1-1000'!K4193","v":"Ah - Kronenburg Promenade"},{"$f":"'1-1000'!AH4193","v":644},"A4193",":","AK4224",356,""]
[null,133,14,null,null,null,null,{"$f":"'1-1000'!AD4225","v":8},{"$f":"'1-1000'!K4225","v":"Ah - Kronenburg Promenade (1)"},{"$f":"'1-1000'!AH4225","v":689},"A4225",":","AK4256",311,""]
[null,134,14,null,null,null,null,{"$f":"'1-1000'!AD4257","v":4},{"$f":"'1-1000'!K4257","v":"Ah - Kronenburg Promenade (2)"},{"$f":"'1-1000'!AH4257","v":696},"A4257",":","AK4288",304,""]
[null,135,14,null,null,null,null,{"$f":"'1-1000'!AD4289","v":2},{"$f":"'1-1000'!K4289","v":"Ah - Lange Wal"},{"$f":"'1-1000'!AH4289","v":362},"A4289",":","AK4320",638,""]
[null,136,14,null,null,null,null,{"$f":"'1-1000'!AD4321","v":7},{"$f":"'1-1000'!K4321","v":"Ah - Lange Wal (1)"},{"$f":"'1-1000'!AH4321","v":551},"A4321",":","AK4352",449,""]
[null,137,14,null,null,null,null,{"$f":"'1-1000'!AD4353","v":3},{"$f":"'1-1000'!K4353","v":"Ah - Lange Wal (2)"},{"$f":"'1-1000'!AH4353","v":614},"A4353",":","AK4384",386,""]
[null,138,14,null,null,null,null,{"$f":"'1-1000'!AD4385","v":6},{"$f":"'1-1000'!K4385","v":"Ah - Middelgraaflaan"},{"$f":"'1-1000'!AH4385","v":494},"A4385",":","AK4416",506,""]
[null,139,14,null,null,null,null,{"$f":"'1-1000'!AD4417","v":9},{"$f":"'1-1000'!K4417","v":"Ah - Wichard van Pontlaan"},{"$f":"'1-1000'!AH4417","v":583},"A4417",":","AK4448",417,""]
[null,140,14,null,null,null,null,{"$f":"'1-1000'!AD4449","v":5},{"$f":"'1-1000'!K4449","v":"Ah - Roosendaalsestraat"},{"$f":"'1-1000'!AH4449","v":595},"A4449",":","AK4480",405,""]
[null,141,15,null,null,null,null,{"$f":"'1-1000'!AD4481","v":0},{"$f":"'1-1000'!K4481","v":"Ah - Stationsplein West"},{"$f":"'1-1000'!AH4481","v":161},"A4481",":","AK4512",839,""]
[null,142," ",null,null,null,null,{"$f":"'1-1000'!AD4513","v":2},{"$f":"'1-1000'!K4513","v":"Ah - Stationsplein West (1)"},{"$f":"'1-1000'!AH4513","v":288},"A4513",":","AK4544",712,""]
[null,143,15,null,null,null,null,{"$f":"'1-1000'!AD4545","v":1},{"$f":"'1-1000'!K4545","v":"Ah - Stationsplein West (2)"},{"$f":"'1-1000'!AH4545","v":94},"A4545",":","AK4576",906,""]
[null,144,15,null,null,null,null,{"$f":"'1-1000'!AD4577","v":1},{"$f":"'1-1000'!K4577","v":"Ah - Stationsplein West (3)"},{"$f":"'1-1000'!AH4577","v":39},"A4577",":","AK4608",961,""]
["x",145,15,null,null,null,null,{"$f":"'1-1000'!AD4609","v":1},{"$f":"'1-1000'!K4609","v":"Ah - Johan de Wittlaan"},{"$f":"'1-1000'!AH4609","v":192},"A4609",":","AK4640",808,""]
[null,146,15,null,null,null,null,{"$f":"'1-1000'!AD4641","v":7},{"$f":"'1-1000'!K4641","v":"Ah - Johan de Wittlaan (1)"},{"$f":"'1-1000'!AH4641","v":635},"A4641",":","AK4672",365,""]
[null,147,15,null,null,null,null,{"$f":"'1-1000'!AD4673","v":3},{"$f":"'1-1000'!K4673","v":"Ah - Johan de Wittlaan (2)"},{"$f":"'1-1000'!AH4673","v":188},"A4673",":","AK4704",812,""]
[null,148,15,null,null,null,null,{"$f":"'1-1000'!AD4705","v":0},{"$f":"'1-1000'!K4705","v":"Assen"},{"$f":"'1-1000'!AH4705","v":1},"A4705",":","AK4736",999,""]
[null,149,15,null,null,null,null,{"$f":"'1-1000'!AD4737","v":5},{"$f":"'1-1000'!K4737","v":"Assen (1)"},{"$f":"'1-1000'!AH4737","v":533},"A4737",":","AK4768",467,""]
[null,150,15,null,null,null,null,{"$f":"'1-1000'!AD4769","v":9},{"$f":"'1-1000'!K4769","v":"Asn - Nobellaan"},{"$f":"'1-1000'!AH4769","v":712},"A4769",":","AK4800",288,""]
[null,151,16,null,null,null,null,{"$f":"'1-1000'!AD4801","v":5},{"$f":"'1-1000'!K4801","v":"Asten"},{"$f":"'1-1000'!AH4801","v":453},"A4801",":","AK4832",547,""]
[null,152,16,null,null,null,null,{"$f":"'1-1000'!AD4833","v":5},{"$f":"'1-1000'!K4833","v":"Asten (1)"},{"$f":"'1-1000'!AH4833","v":490},"A4833",":","AK4864",510,""]
[null,153,16,null,null,null,null,{"$f":"'1-1000'!AD4865","v":1},{"$f":"'1-1000'!K4865","v":"Axel"},{"$f":"'1-1000'!AH4865","v":308},"A4865",":","AK4896",692,""]
[null,154,16,null,null,null,null,{"$f":"'1-1000'!AD4897","v":6},{"$f":"'1-1000'!K4897","v":"Axel (2)"},{"$f":"'1-1000'!AH4897","v":657},"A4897",":","AK4928",343,""]
[null,155,16,null,null,null,null,{"$f":"'1-1000'!AD4929","v":3},{"$f":"'1-1000'!K4929","v":"Baarle Nassau"},{"$f":"'1-1000'!AH4929","v":327},"A4929",":","AK4960",673,""]
[null,156,16,null,null,null,null,{"$f":"'1-1000'!AD4961","v":0},{"$f":"'1-1000'!K4961","v":"Baarn"},{"$f":"'1-1000'!AH4961","v":73},"A4961",":","AK4992",927,""]
[null,157,16,null,null,null,null,{"$f":"'1-1000'!AD4993","v":5},{"$f":"'1-1000'!K4993","v":"Baarn (1)"},{"$f":"'1-1000'!AH4993","v":345},"A4993",":","AK5024",655,""]
[null,158,16,null,null,null,null,{"$f":"'1-1000'!AD5025","v":1},{"$f":"'1-1000'!K5025","v":"Badhoevedorp"},{"$f":"'1-1000'!AH5025","v":153},"A5025",":","AK5056",847,""]
[null,159,16,null,null,null,null,{"$f":"'1-1000'!AD5057","v":7},{"$f":"'1-1000'!K5057","v":"Badhoevedorp (1)"},{"$f":"'1-1000'!AH5057","v":548},"A5057",":","AK5088",452,""]
["x",160,16,null,null,null,null,{"$f":"'1-1000'!AD5089","v":2},{"$f":"'1-1000'!K5089","v":"Barendrecht"},{"$f":"'1-1000'!AH5089","v":298},"A5089",":","AK5120",702,""]
[null,161,17,null,null,null,null,{"$f":"'1-1000'!AD5121","v":4},{"$f":"'1-1000'!K5121","v":"Barneveld"},{"$f":"'1-1000'!AH5121","v":396},"A5121",":","AK5152",604,""]
[null,162,17,null,null,null,null,{"$f":"'1-1000'!AD5153","v":8},{"$f":"'1-1000'!K5153","v":"Bnv - Raadhuisplein 55"},{"$f":"'1-1000'!AH5153","v":583},"A5153",":","AK5184",417,""]
[null,163,17,null,null,null,null,{"$f":"'1-1000'!AD5185","v":6},{"$f":"'1-1000'!K5185","v":"Bnv - Raadhuisplein 55 (1)"},{"$f":"'1-1000'!AH5185","v":621},"A5185",":","AK5216",379,""]
[null,164,17,null,null,null,null,{"$f":"'1-1000'!AD5217","v":6},{"$f":"'1-1000'!K5217","v":"Bnv - Raadhuisplein 55 (2)"},{"$f":"'1-1000'!AH5217","v":699},"A5217",":","AK5248",301,""]
[null,165,17,null,null,null,null,{"$f":"'1-1000'!AD5249","v":5},{"$f":"'1-1000'!K5249","v":"Bedum"},{"$f":"'1-1000'!AH5249","v":509},"A5249",":","AK5280",491,""]
[null,166,17,null,null,null,null,{"$f":"'1-1000'!AD5281","v":0},{"$f":"'1-1000'!K5281","v":"Beek Lb"},{"$f":"'1-1000'!AH5281","v":260},"A5281",":","AK5312",740,""]
[null,167,17,null,null,null,null,{"$f":"'1-1000'!AD5313","v":8},{"$f":"'1-1000'!K5313","v":"Beek Lb (1)"},{"$f":"'1-1000'!AH5313","v":651},"A5313",":","AK5344",349,""]
[null,168,17,null,null,null,null,{"$f":"'1-1000'!AD5345","v":3},{"$f":"'1-1000'!K5345","v":"Beekbergen"},{"$f":"'1-1000'!AH5345","v":460},"A5345",":","AK5376",540,""]
[null,169,17,null,null,null,null,{"$f":"'1-1000'!AD5377","v":6},{"$f":"'1-1000'!K5377","v":"Beek en Donk"},{"$f":"'1-1000'!AH5377","v":537},"A5377",":","AK5408",463,""]
[null,170,17,null,null,null,null,{"$f":"'1-1000'!AD5409","v":7},{"$f":"'1-1000'!K5409","v":"Beetsterzwaag"},{"$f":"'1-1000'!AH5409","v":510},"A5409",":","AK5440",490,""]
[null,171,18,null,null,null,null,{"$f":"'1-1000'!AD5441","v":2},{"$f":"'1-1000'!K5441","v":"Beilen"},{"$f":"'1-1000'!AH5441","v":367},"A5441",":","AK5472",633,""]
[null,172,18,null,null,null,null,{"$f":"'1-1000'!AD5473","v":2},{"$f":"'1-1000'!K5473","v":"Bemmel"},{"$f":"'1-1000'!AH5473","v":396},"A5473",":","AK5504",604,""]
[null,173,18,null,null,null,null,{"$f":"'1-1000'!AD5505","v":4},{"$f":"'1-1000'!K5505","v":"Bennekom"},{"$f":"'1-1000'!AH5505","v":312},"A5505",":","AK5536",688,""]
[null,174,18,null,null,null,null,{"$f":"'1-1000'!AD5537","v":6},{"$f":"'1-1000'!K5537","v":"Bennekom (1)"},{"$f":"'1-1000'!AH5537","v":457},"A5537",":","AK5568",543,""]
[null,175,18,null,null,null,null,{"$f":"'1-1000'!AD5569","v":6},{"$f":"'1-1000'!K5569","v":"Bergen Nh"},{"$f":"'1-1000'!AH5569","v":286},"A5569",":","AK5600",714,""]
[null,176,18,null,null,null,null,{"$f":"'1-1000'!AD5601","v":0},{"$f":"'1-1000'!K5601","v":"Bergen op Zoom"},{"$f":"'1-1000'!AH5601","v":74},"A5601",":","AK5632",926,""]
[null,177,18,null,null,null,null,{"$f":"'1-1000'!AD5633","v":2},{"$f":"'1-1000'!K5633","v":"Bergeijk"},{"$f":"'1-1000'!AH5633","v":401},"A5633",":","AK5664",599,""]
[null,178,18,null,null,null,null,{"$f":"'1-1000'!AD5665","v":6},{"$f":"'1-1000'!K5665","v":"Berghem"},{"$f":"'1-1000'!AH5665","v":556},"A5665",":","AK5696",444,""]
[null,179,18,null,null,null,null,{"$f":"'1-1000'!AD5697","v":3},{"$f":"'1-1000'!K5697","v":"Bergum"},{"$f":"'1-1000'!AH5697","v":375},"A5697",":","AK5728",625,""]
[null,180,18,null,null,null,null,{"$f":"'1-1000'!AD5729","v":2},{"$f":"'1-1000'!K5729","v":"Berkel en Rodenrijs"},{"$f":"'1-1000'!AH5729","v":411},"A5729",":","AK5760",589,""]
[null,181,19,null,null,null,null,{"$f":"'1-1000'!AD5761","v":3},{"$f":"'1-1000'!K5761","v":"Berkel Enschot"},{"$f":"'1-1000'!AH5761","v":458},"A5761",":","AK5792",542,""]
[null,182,19,null,null,null,null,{"$f":"'1-1000'!AD5793","v":4},{"$f":"'1-1000'!K5793","v":"Berlicum Nb"},{"$f":"'1-1000'!AH5793","v":386},"A5793",":","AK5824",614,""]
["x",183,19,null,null,null,null,{"$f":"'1-1000'!AD5825","v":2},{"$f":"'1-1000'!K5825","v":"Best"},{"$f":"'1-1000'!AH5825","v":131},"A5825",":","AK5856",869,""]
[null,184,19,null,null,null,null,{"$f":"'1-1000'!AD5857","v":6},{"$f":"'1-1000'!K5857","v":"Best (1)"},{"$f":"'1-1000'!AH5857","v":596},"A5857",":","AK5888",404,""]
[null,185,19,null,null,null,null,{"$f":"'1-1000'!AD5889","v":5},{"$f":"'1-1000'!K5889","v":"Best (2)"},{"$f":"'1-1000'!AH5889","v":517},"A5889",":","AK5920",483,""]
[null,186,19,null,null,null,null,{"$f":"'1-1000'!AD5921","v":7},{"$f":"'1-1000'!K5921","v":"Beuningen"},{"$f":"'1-1000'!AH5921","v":514},"A5921",":","AK5952",486,""]
[null,187,19,null,null,null,null,{"$f":"'1-1000'!AD5953","v":1},{"$f":"'1-1000'!K5953","v":"Beverwijk"},{"$f":"'1-1000'!AH5953","v":173},"A5953",":","AK5984",827,""]
[null,188,19,null,null,null,null,{"$f":"'1-1000'!AD5985","v":6},{"$f":"'1-1000'!K5985","v":"Bv - Wijkerbaan"},{"$f":"'1-1000'!AH5985","v":491},"A5985",":","AK6016",509,""]
[null,189,19,null,null,null,null,{"$f":"'1-1000'!AD6017","v":0},{"$f":"'1-1000'!K6017","v":"De Bilt"},{"$f":"'1-1000'!AH6017","v":190},"A6017",":","AK6048",810,""]
[null,190," ",null,null,null,null,{"$f":"'1-1000'!AD6049","v":2},{"$f":"'1-1000'!K6049","v":"Bilthoven"},{"$f":"'1-1000'!AH6049","v":260},"A6049",":","AK6080",740,""]
[null,191,20,null,null,null,null,{"$f":"'1-1000'!AD6081","v":3},{"$f":"'1-1000'!K6081","v":"Bladel"},{"$f":"'1-1000'!AH6081","v":318},"A6081",":","AK6112",682,""]
[null,192,20,null,null,null,null,{"$f":"'1-1000'!AD6113","v":5},{"$f":"'1-1000'!K6113","v":"Bladel (10)"},{"$f":"'1-1000'!AH6113","v":646},"A6113",":","AK6144",354,""]
[null,193,20,null,null,null,null,{"$f":"'1-1000'!AD6145","v":4},{"$f":"'1-1000'!K6145","v":"Blaricum"},{"$f":"'1-1000'!AH6145","v":430},"A6145",":","AK6176",570,{"$f":"IF(J194=0,\"COMPL\",\"\")","v":""}]
[null,194,20,null,null,null,null,{"$f":"'1-1000'!AD6177","v":3},{"$f":"'1-1000'!K6177","v":"Bleiswijk"},{"$f":"'1-1000'!AH6177","v":249},"A6177",":","AK6208",{"$f":"1000-J195","v":751},""]
[null,195,20,null,null,null,null,{"$f":"'1-1000'!AD6209","v":6},{"$f":"'1-1000'!K6209","v":"Bloemendaal"},{"$f":"'1-1000'!AH6209","v":584},"A6209",":","AK6240",416,""]
[null,196,20,null,null,null,null,{"$f":"'1-1000'!AD6241","v":0},{"$f":"'1-1000'!K6241","v":"Bodegraven"},{"$f":"'1-1000'!AH6241","v":108},"A6241",":","AK6272",892,""]
[null,197,20,null,null,null,null,{"$f":"'1-1000'!AD6273","v":5},{"$f":"'1-1000'!K6273","v":"Boekel"},{"$f":"'1-1000'!AH6273","v":469},"A6273",":","AK6304",531,""]
[null,198,20,null,null,null,null,{"$f":"'1-1000'!AD6305","v":3},{"$f":"'1-1000'!K6305","v":"Bolsward"},{"$f":"'1-1000'!AH6305","v":314},"A6305",":","AK6336",686,""]
[null,199,20,null,null,null,null,{"$f":"'1-1000'!AD6337","v":7},{"$f":"'1-1000'!K6337","v":"Bolsward (1)"},{"$f":"'1-1000'!AH6337","v":520},"A6337",":","AK6368",480,""]
[null,200,20,null,null,null,null,{"$f":"'1-1000'!AD6369","v":3},{"$f":"'1-1000'!K6369","v":"Borculo"},{"$f":"'1-1000'!AH6369","v":350},"A6369",":","AK6400",650,""]
[null,201,21,null,null,null,null,{"$f":"'1-1000'!AD6401","v":6},{"$f":"'1-1000'!K6401","v":"Borger"},{"$f":"'1-1000'!AH6401","v":586},"A6401",":","AK6432",414,""]
[null,202,21,null,null,null,null,{"$f":"'1-1000'!AD6433","v":5},{"$f":"'1-1000'!K6433","v":"Born Lb"},{"$f":"'1-1000'!AH6433","v":470},"A6433",":","AK6464",530,""]
[null,203,21,null,null,null,null,{"$f":"'1-1000'!AD6465","v":4},{"$f":"'1-1000'!K6465","v":"Borne"},{"$f":"'1-1000'!AH6465","v":342},"A6465",":","AK6496",658,""]
[null,204,21,null,null,null,null,{"$f":"'1-1000'!AD6497","v":2},{"$f":"'1-1000'!K6497","v":"Boskoop"},{"$f":"'1-1000'!AH6497","v":250},"A6497",":","AK6528",750,""]
[null,205,21,null,null,null,null,{"$f":"'1-1000'!AD6529","v":3},{"$f":"'1-1000'!K6529","v":"Bovenkarspel"},{"$f":"'1-1000'!AH6529","v":324},"A6529",":","AK6560",676,""]
[null,206,21,null,null,null,null,{"$f":"'1-1000'!AD6561","v":0},{"$f":"'1-1000'!K6561","v":"Boxmeer"},{"$f":"'1-1000'!AH6561","v":187},"A6561",":","AK6592",813,""]
[null,207,21,null,null,null,null,{"$f":"'1-1000'!AD6593","v":2},{"$f":"'1-1000'!K6593","v":"Boxtel"},{"$f":"'1-1000'!AH6593","v":95},"A6593",":","AK6624",905,""]
[null,208,21,null,null,null,null,{"$f":"'1-1000'!AD6625","v":0},{"$f":"'1-1000'!K6625","v":"Breda"},{"$f":"'1-1000'!AH6625","v":1},"A6625",":","AK6656",999,""]
[null,209,21,null,null,null,null,{"$f":"'1-1000'!AD6657","v":0},{"$f":"'1-1000'!K6657","v":"Breda 2e"},{"$f":"'1-1000'!AH6657","v":32},"A6657",":","AK6688",968,""]
[null,210,21,null,null,null,null,{"$f":"'1-1000'!AD6689","v":7},{"$f":"'1-1000'!K6689","v":"Bd - Haagweg"},{"$f":"'1-1000'!AH6689","v":550},"A6689",":","AK6720",450,""]
[null,211,22,null,null,null,null,{"$f":"'1-1000'!AD6721","v":3},{"$f":"'1-1000'!K6721","v":"Bd - Moerwijk"},{"$f":"'1-1000'!AH6721","v":260},"A6721",":","AK6752",740,""]
[null,212,22,null,null,null,null,{"$f":"'1-1000'!AD6753","v":0},{"$f":"'1-1000'!K6753","v":"Bd - Oude Vest"},{"$f":"'1-1000'!AH6753","v":12},"A6753",":","AK6784",988,""]
[null,213,22,null,null,null,null,{"$f":"'1-1000'!AD6785","v":2},{"$f":"'1-1000'!K6785","v":"Bd - Slingerweg"},{"$f":"'1-1000'!AH6785","v":215},"A6785",":","AK6816",785,""]
[null,214,22,null,null,null,null,{"$f":"'1-1000'!AD6817","v":5},{"$f":"'1-1000'!K6817","v":"Bd - Speelhuislaan"},{"$f":"'1-1000'!AH6817","v":491},"A6817",":","AK6848",509,""]
[null,215,22,null,null,null,null,{"$f":"'1-1000'!AD6849","v":6},{"$f":"'1-1000'!K6849","v":"Bd - Viandenlaan"},{"$f":"'1-1000'!AH6849","v":624},"A6849",":","AK6880",376,""]
[null,216,22,null,null,null,null,{"$f":"'1-1000'!AD6881","v":1},{"$f":"'1-1000'!K6881","v":"Breukelen"},{"$f":"'1-1000'!AH6881","v":291},"A6881",":","AK6912",709,""]
[null,217,22,null,null,null,null,{"$f":"'1-1000'!AD6913","v":8},{"$f":"'1-1000'!K6913","v":"Breukelen (1)"},{"$f":"'1-1000'!AH6913","v":546},"A6913",":","AK6944",454,""]
[null,218,22,null,null,null,null,{"$f":"'1-1000'!AD6945","v":0},{"$f":"'1-1000'!K6945","v":"Brielle"},{"$f":"'1-1000'!AH6945","v":117},"A6945",":","AK6976",883,""]
[null,219,22,null,null,null,null,{"$f":"'1-1000'!AD6977","v":8},{"$f":"'1-1000'!K6977","v":"Brielle (1)"},{"$f":"'1-1000'!AH6977","v":456},"A6977",":","AK7008",544,""]
[null,220,22,null,null,null,null,{"$f":"'1-1000'!AD7009","v":3},{"$f":"'1-1000'!K7009","v":"Brummen"},{"$f":"'1-1000'!AH7009","v":401},"A7009",":","AK7040",599,""]
[null,221,23,null,null,null,null,{"$f":"'1-1000'!AD7041","v":0},{"$f":"'1-1000'!K7041","v":"Brunssum"},{"$f":"'1-1000'!AH7041","v":238},"A7041",":","AK7072",762,""]
[null,222,23,null,null,null,null,{"$f":"'1-1000'!AD7073","v":1},{"$f":"'1-1000'!K7073","v":"Budel"},{"$f":"'1-1000'!AH7073","v":428},"A7073",":","AK7104",572,""]
[null,223,23,null,null,null,null,{"$f":"'1-1000'!AD7105","v":3},{"$f":"'1-1000'!K7105","v":"Bunde"},{"$f":"'1-1000'!AH7105","v":387},"A7105",":","AK7136",613,""]
["x",224,23,null,null,null,null,{"$f":"'1-1000'!AD7137","v":5},{"$f":"'1-1000'!K7137","v":"Bunnik"},{"$f":"'1-1000'!AH7137","v":523},"A7137",":","AK7168",477,""]
[null,225,23,null,null,null,null,{"$f":"'1-1000'!AD7169","v":6},{"$f":"'1-1000'!K7169","v":"Bunschoten Spakenburg"},{"$f":"'1-1000'!AH7169","v":457},"A7169",":","AK7200",543,""]
[null,226,23,null,null,null,null,{"$f":"'1-1000'!AD7201","v":0},{"$f":"'1-1000'!K7201","v":"Bunschoten Spakenburg (1)"},{"$f":"'1-1000'!AH7201","v":645},"A7201",":","AK7232",355,""]
[null,227,23,null,null,null,null,{"$f":"'1-1000'!AD7233","v":7},{"$f":"'1-1000'!K7233","v":"Den Burg"},{"$f":"'1-1000'!AH7233","v":313},"A7233",":","AK7264",687,""]
[null,228,23,null,null,null,null,{"$f":"'1-1000'!AD7265","v":2},{"$f":"'1-1000'!K7265","v":"Bussum"},{"$f":"'1-1000'!AH7265","v":69},"A7265",":","AK7296",931,""]
[null,229,23,null,null,null,null,{"$f":"'1-1000'!AD7297","v":1},{"$f":"'1-1000'!K7297","v":"Bussum (1)"},{"$f":"'1-1000'!AH7297","v":152},"A7297",":","AK7328",848,""]
[null,230,23,null,null,null,null,{"$f":"'1-1000'!AD7329","v":4},{"$f":"'1-1000'!K7329","v":"Bussum (2)"},{"$f":"'1-1000'!AH7329","v":415},"A7329",":","AK7360",585,""]
[null,231,24,null,null,null,null,{"$f":"'1-1000'!AD7361","v":5},{"$f":"'1-1000'!K7361","v":"Bussum (3)"},{"$f":"'1-1000'!AH7361","v":501},"A7361",":","AK7392",499,""]
[null,232,24,null,null,null,null,{"$f":"'1-1000'!AD7393","v":7},{"$f":"'1-1000'!K7393","v":"Bsm - Karel Doormanlaan"},{"$f":"'1-1000'!AH7393","v":562},"A7393",":","AK7424",438,""]
[null,233,24,null,null,null,null,{"$f":"'1-1000'!AD7425","v":4},{"$f":"'1-1000'!K7425","v":"Bsm - Stationsplein"},{"$f":"'1-1000'!AH7425","v":621},"A7425",":","AK7456",379,""]
[null,234,24,null,null,null,null,{"$f":"'1-1000'!AD7457","v":5},{"$f":"'1-1000'!K7457","v":"Capelle a/d IJssel"},{"$f":"'1-1000'!AH7457","v":280},"A7457",":","AK7488",720,""]
[null,235,24,null,null,null,null,{"$f":"'1-1000'!AD7489","v":4},{"$f":"'1-1000'!K7489","v":"Capelle a/d IJssel (1)"},{"$f":"'1-1000'!AH7489","v":393},"A7489",":","AK7520",607,""]
[null,236,24,null,null,null,null,{"$f":"'1-1000'!AD7521","v":5},{"$f":"'1-1000'!K7521","v":"Capelle a/d IJssel (2)"},{"$f":"'1-1000'!AH7521","v":511},"A7521",":","AK7552",489,""]
[null,237,24,null,null,null,null,{"$f":"'1-1000'!AD7553","v":8},{"$f":"'1-1000'!K7553","v":"Ca - Picassopassage"},{"$f":"'1-1000'!AH7553","v":719},"A7553",":","AK7584",281,""]
[null,238,24,null,null,null,null,{"$f":"'1-1000'!AD7585","v":1},{"$f":"'1-1000'!K7585","v":"Castricum"},{"$f":"'1-1000'!AH7585","v":255},"A7585",":","AK7616",745,""]
[null,239,24,null,null,null,null,{"$f":"'1-1000'!AD7617","v":3},{"$f":"'1-1000'!K7617","v":"Castricum (1)"},{"$f":"'1-1000'!AH7617","v":359},"A7617",":","AK7648",641,""]
[null,240,24,null,null,null,null,{"$f":"'1-1000'!AD7649","v":0},{"$f":"'1-1000'!K7649","v":"Coevorden"},{"$f":"'1-1000'!AH7649","v":25},"A7649",":","AK7680",975,""]
[null,241,25,null,null,null,null,{"$f":"'1-1000'!AD7681","v":0},{"$f":"'1-1000'!K7681","v":"Culemborg"},{"$f":"'1-1000'!AH7681","v":102},"A7681",":","AK7712",898,""]
[null,242,25,null,null,null,null,{"$f":"'1-1000'!AD7713","v":3},{"$f":"'1-1000'!K7713","v":"Cuijk"},{"$f":"'1-1000'!AH7713","v":258},"A7713",":","AK7744",742,""]
[null,243,25,null,null,null,null,{"$f":"'1-1000'!AD7745","v":6},{"$f":"'1-1000'!K7745","v":"Cuijk (1)"},{"$f":"'1-1000'!AH7745","v":371},"A7745",":","AK7776",629,""]
[null,244,25,null,null,null,null,{"$f":"'1-1000'!AD7777","v":2},{"$f":"'1-1000'!K7777","v":"Dalfsen"},{"$f":"'1-1000'!AH7777","v":394},"A7777",":","AK7808",606,""]
[null,245,25,null,null,null,null,{"$f":"'1-1000'!AD7809","v":2},{"$f":"'1-1000'!K7809","v":"Dedemsvaart"},{"$f":"'1-1000'!AH7809","v":263},"A7809",":","AK7840",737,"","start 23-02-16"]
[null,246,25,null,null,null,null,{"$f":"'1-1000'!AD7841","v":4},{"$f":"'1-1000'!K7841","v":"Delden"},{"$f":"'1-1000'!AH7841","v":385},"A7841",":","AK7872",615,""]
[null,247,25,null,null,null,null,{"$f":"'1-1000'!AD7873","v":1},{"$f":"'1-1000'!K7873","v":"Delft"},{"$f":"'1-1000'!AH7873","v":394},"A7873",":","AK7904",606,""]
[null,248,25,null,null,null,null,{"$f":"'1-1000'!AD7905","v":5},{"$f":"'1-1000'!K7905","v":"Delft (4)"},{"$f":"'1-1000'!AH7905","v":426},"A7905",":","AK7936",574,""]
[null,249,25,null,null,null,null,{"$f":"'1-1000'!AD7937","v":1},{"$f":"'1-1000'!K7937","v":"Delft (5)"},{"$f":"'1-1000'!AH7937","v":209},"A7937",":","AK7968",791,""]
[null,250,25,null,null,null,null,{"$f":"'1-1000'!AD7969","v":2},{"$f":"'1-1000'!K7969","v":"Delft (6)"},{"$f":"'1-1000'!AH7969","v":183},"A7969",":","AK8000",817,""]
[null,251,26,null,null,null,null,{"$f":"'1-1000'!AD8001","v":8},{"$f":"'1-1000'!K8001","v":"Dt - Hippolytusbuurt"},{"$f":"'1-1000'!AH8001","v":628},"A8001",":","AK8032",372,""]
[null,252,26,null,null,null,null,{"$f":"'1-1000'!AD8033","v":1},{"$f":"'1-1000'!K8033","v":"Delfzijl"},{"$f":"'1-1000'!AH8033","v":98},"A8033",":","AK8064",902,""]
[null,253,26,null,null,null,null,{"$f":"'1-1000'!AD8065","v":8},{"$f":"'1-1000'!K8065","v":"Delfzijl (1)"},{"$f":"'1-1000'!AH8065","v":688},"A8065",":","AK8096",312,""]
[null,254,26,null,null,null,null,{"$f":"'1-1000'!AD8097","v":7},{"$f":"'1-1000'!K8097","v":"Delfzijl (2)"},{"$f":"'1-1000'!AH8097","v":678},"A8097",":","AK8128",322,""]
[null,255,26,null,null,null,null,{"$f":"'1-1000'!AD8129","v":0},{"$f":"'1-1000'!K8129","v":"Denekamp"},{"$f":"'1-1000'!AH8129","v":443},"A8129",":","AK8160",557,""]
[null,256,26,null,null,null,null,{"$f":"'1-1000'!AD8161","v":1},{"$f":"'1-1000'!K8161","v":"Deurne"},{"$f":"'1-1000'!AH8161","v":217},"A8161",":","AK8192",783,""]
[null,257,26,null,null,null,null,{"$f":"'1-1000'!AD8193","v":5},{"$f":"'1-1000'!K8193","v":"Deurne (1)"},{"$f":"'1-1000'!AH8193","v":356},"A8193",":","AK8224",644,{"$f":"IF(J258=0,\"COMPL\",\"\")","v":""}]
[null,258,26,null,null,null,null,{"$f":"'1-1000'!AD8225","v":8},{"$f":"'1-1000'!K8225","v":"Deurne (2)"},{"$f":"'1-1000'!AH8225","v":712},"A8225",":","AK8256",{"$f":"1000-J259","v":288},""]
[null,259,26,null,null,null,null,{"$f":"'1-1000'!AD8257","v":0},{"$f":"'1-1000'!K8257","v":"Deventer"},{"$f":"'1-1000'!AH8257","v":5},"A8257",":","AK8288",995,""]
[null,260,26,null,null,null,null,{"$f":"'1-1000'!AD8289","v":4},{"$f":"'1-1000'!K8289","v":"Deventer (1)"},{"$f":"'1-1000'!AH8289","v":287},"A8289",":","AK8320",713,""]
[null,261,27,null,null,null,null,{"$f":"'1-1000'!AD8321","v":4},{"$f":"'1-1000'!K8321","v":"Deventer (2)"},{"$f":"'1-1000'!AH8321","v":361},"A8321",":","AK8352",639,""]
[null,262,27,null,null,null,null,{"$f":"'1-1000'!AD8353","v":6},{"$f":"'1-1000'!K8353","v":"Dv - Nieuwstraat "},{"$f":"'1-1000'!AH8353","v":514},"A8353",":","AK8384",486,""]
[null,263,27,null,null,null,null,{"$f":"'1-1000'!AD8385","v":7},{"$f":"'1-1000'!K8385","v":"Dv - Nieuwstraat (1)"},{"$f":"'1-1000'!AH8385","v":436},"A8385",":","AK8416",564,""]
[null,264,27,null,null,null,null,{"$f":"'1-1000'!AD8417","v":1},{"$f":"'1-1000'!K8417","v":"Didam"},{"$f":"'1-1000'!AH8417","v":307},"A8417",":","AK8448",693,""]
[null,265,27,null,null,null,null,{"$f":"'1-1000'!AD8449","v":3},{"$f":"'1-1000'!K8449","v":"Didam (1)"},{"$f":"'1-1000'!AH8449","v":599},"A8449",":","AK8480",401,""]
[null,266,27,null,null,null,null,{"$f":"'1-1000'!AD8481","v":0},{"$f":"'1-1000'!K8481","v":"Diemen"},{"$f":"'1-1000'!AH8481","v":82},"A8481",":","AK8512",918,""]
[null,267,27,null,null,null,null,{"$f":"'1-1000'!AD8513","v":8},{"$f":"'1-1000'!K8513","v":"Diemen (1)"},{"$f":"'1-1000'!AH8513","v":600},"A8513",":","AK8544",400,""]
[null,268,27,null,null,null,null,{"$f":"'1-1000'!AD8545","v":3},{"$f":"'1-1000'!K8545","v":"Dieren"},{"$f":"'1-1000'!AH8545","v":323},"A8545",":","AK8576",677,""]
[null,269,27,null,null,null,null,{"$f":"'1-1000'!AD8577","v":8},{"$f":"'1-1000'!K8577","v":"Dieren (1)"},{"$f":"'1-1000'!AH8577","v":710},"A8577",":","AK8608",290,""]
[null,270,27,null,null,null,null,{"$f":"'1-1000'!AD8609","v":7},{"$f":"'1-1000'!K8609","v":"Dieren (2)"},{"$f":"'1-1000'!AH8609","v":763},"A8609",":","AK8640",237,""]
[null,271,28,null,null,null,null,{"$f":"'1-1000'!AD8641","v":7},{"$f":"'1-1000'!K8641","v":"Dinteloord"},{"$f":"'1-1000'!AH8641","v":524},"A8641",":","AK8672",476,""]
[null,272,28,null,null,null,null,{"$f":"'1-1000'!AD8673","v":2},{"$f":"'1-1000'!K8673","v":"Doesburg"},{"$f":"'1-1000'!AH8673","v":319},"A8673",":","AK8704",681,""]
[null,273,28,null,null,null,null,{"$f":"'1-1000'!AD8705","v":2},{"$f":"'1-1000'!K8705","v":"Doetinchem"},{"$f":"'1-1000'!AH8705","v":201},"A8705",":","AK8736",799,""]
[null,274,28,null,null,null,null,{"$f":"'1-1000'!AD8737","v":3},{"$f":"'1-1000'!K8737","v":"Doetinchem (1)"},{"$f":"'1-1000'!AH8737","v":235},"A8737",":","AK8768",765,""]
[null,275,28,null,null,null,null,{"$f":"'1-1000'!AD8769","v":7},{"$f":"'1-1000'!K8769","v":"Doetinchem (2)"},{"$f":"'1-1000'!AH8769","v":328},"A8769",":","AK8800",672,""]
[null,276,28,null,null,null,null,{"$f":"'1-1000'!AD8801","v":5},{"$f":"'1-1000'!K8801","v":"Doetinchem (3)"},{"$f":"'1-1000'!AH8801","v":347},"A8801",":","AK8832",653,""]
[null,277,28,null,null,null,null,{"$f":"'1-1000'!AD8833","v":2},{"$f":"'1-1000'!K8833","v":"Dokkum"},{"$f":"'1-1000'!AH8833","v":293},"A8833",":","AK8864",707,""]
[null,278,28,null,null,null,null,{"$f":"'1-1000'!AD8865","v":0},{"$f":"'1-1000'!K8865","v":"Dongen"},{"$f":"'1-1000'!AH8865","v":108},"A8865",":","AK8896",892,""]
[null,279,28,null,null,null,null,{"$f":"'1-1000'!AD8897","v":3},{"$f":"'1-1000'!K8897","v":"Doorn"},{"$f":"'1-1000'!AH8897","v":257},"A8897",":","AK8928",743,""]
[null,280,28,null,null,null,null,{"$f":"'1-1000'!AD8929","v":6},{"$f":"'1-1000'!K8929","v":"Doorn (1)"},{"$f":"'1-1000'!AH8929","v":498},"A8929",":","AK8960",502,""]
["x",281,29,null,null,null,null,{"$f":"'1-1000'!AD8961","v":0},{"$f":"'1-1000'!K8961","v":"Dordrecht"},{"$f":"'1-1000'!AH8961","v":5},"A8961",":","AK8992",995,""]
[null,282,29,null,null,null,null,{"$f":"'1-1000'!AD8993","v":1},{"$f":"'1-1000'!K8993","v":"Dordrecht (1)"},{"$f":"'1-1000'!AH8993","v":53},"A8993",":","AK9024",947,""]
[null,283,29,null,null,null,null,{"$f":"'1-1000'!AD9025","v":1},{"$f":"'1-1000'!K9025","v":"Dordrecht (2)"},{"$f":"'1-1000'!AH9025","v":71},"A9025",":","AK9056",929,""]
[null,284,29,null,null,null,null,{"$f":"'1-1000'!AD9057","v":1},{"$f":"'1-1000'!K9057","v":"Drachten"},{"$f":"'1-1000'!AH9057","v":131},"A9057",":","AK9088",869,""]
[null,285,29,null,null,null,null,{"$f":"'1-1000'!AD9089","v":5},{"$f":"'1-1000'!K9089","v":"Drachten (1)"},{"$f":"'1-1000'!AH9089","v":455},"A9089",":","AK9120",545,""]
[null,286,29,null,null,null,null,{"$f":"'1-1000'!AD9121","v":4},{"$f":"'1-1000'!K9121","v":"Driebergen Rijsenburg"},{"$f":"'1-1000'!AH9121","v":268},"A9121",":","AK9152",732,""]
[null,287,29,null,null,null,null,{"$f":"'1-1000'!AD9153","v":2},{"$f":"'1-1000'!K9153","v":"Driebergen Rijsenburg (1)"},{"$f":"'1-1000'!AH9153","v":482},"A9153",":","AK9184",518,""]
[null,288,29,null,null,null,null,{"$f":"'1-1000'!AD9185","v":1},{"$f":"'1-1000'!K9185","v":"Dronten"},{"$f":"'1-1000'!AH9185","v":248},"A9185",":","AK9216",752,""]
[null,289,29,null,null,null,null,{"$f":"'1-1000'!AD9217","v":6},{"$f":"'1-1000'!K9217","v":"Dronten (1)"},{"$f":"'1-1000'!AH9217","v":475},"A9217",":","AK9248",525,""]
[null,290,29,null,null,null,null,{"$f":"'1-1000'!AD9249","v":1},{"$f":"'1-1000'!K9249","v":"Drunen"},{"$f":"'1-1000'!AH9249","v":135},"A9249",":","AK9280",865,""]
[null,291,30,null,null,null,null,{"$f":"'1-1000'!AD9281","v":5},{"$f":"'1-1000'!K9281","v":"Duiven"},{"$f":"'1-1000'!AH9281","v":356},"A9281",":","AK9312",644,""]
[null,292,30,null,null,null,null,{"$f":"'1-1000'!AD9313","v":0},{"$f":"'1-1000'!K9313","v":"Duivendrecht"},{"$f":"'1-1000'!AH9313","v":297},"A9313",":","AK9344",703,""]
[null,293,30,null,null,null,null,{"$f":"'1-1000'!AD9345","v":1},{"$f":"'1-1000'!K9345","v":"Echt"},{"$f":"'1-1000'!AH9345","v":275},"A9345",":","AK9376",725,"","start 31-05-16"]
[null,294,30,null,null,null,null,{"$f":"'1-1000'!AD9377","v":3},{"$f":"'1-1000'!K9377","v":"Edam"},{"$f":"'1-1000'!AH9377","v":384},"A9377",":","AK9408",616,""]
[null,295,30,null,null,null,null,{"$f":"'1-1000'!AD9409","v":2},{"$f":"'1-1000'!K9409","v":"Ede Gld"},{"$f":"'1-1000'!AH9409","v":123},"A9409",":","AK9440",877,""]
[null,296,30,null,null,null,null,{"$f":"'1-1000'!AD9441","v":3},{"$f":"'1-1000'!K9441","v":"Ede Gld (1)"},{"$f":"'1-1000'!AH9441","v":307},"A9441",":","AK9472",693,""]
[null,297,30,null,null,null,null,{"$f":"'1-1000'!AD9473","v":8},{"$f":"'1-1000'!K9473","v":"Ede Gld (2)"},{"$f":"'1-1000'!AH9473","v":401},"A9473",":","AK9504",599,""]
[null,298,30,null,null,null,null,{"$f":"'1-1000'!AD9505","v":6},{"$f":"'1-1000'!K9505","v":"Ede Gld (3)"},{"$f":"'1-1000'!AH9505","v":526},"A9505",":","AK9536",474,""]
[null,299,30,null,null,null,null,{"$f":"'1-1000'!AD9537","v":8},{"$f":"'1-1000'!K9537","v":"Eemnes"},{"$f":"'1-1000'!AH9537","v":672},"A9537",":","AK9568",328,""]
[null,300,30,null,null,null,null,{"$f":"'1-1000'!AD9569","v":4},{"$f":"'1-1000'!K9569","v":"Eerbeek"},{"$f":"'1-1000'!AH9569","v":296},"A9569",":","AK9600",704,""]
[null,301,31,null,null,null,null,{"$f":"'1-1000'!AD9601","v":6},{"$f":"'1-1000'!K9601","v":"Eersel"},{"$f":"'1-1000'!AH9601","v":377},"A9601",":","AK9632",623,""]
[null,302,31,null,null,null,null,{"$f":"'1-1000'!AD9633","v":6},{"$f":"'1-1000'!K9633","v":"Egmond aan Zee"},{"$f":"'1-1000'!AH9633","v":604},"A9633",":","AK9664",396,""]
[null,303,31,null,null,null,null,{"$f":"'1-1000'!AD9665","v":3},{"$f":"'1-1000'!K9665","v":"Eibergen"},{"$f":"'1-1000'!AH9665","v":372},"A9665",":","AK9696",628,""]
[null,304,31,null,null,null,null,{"$f":"'1-1000'!AD9697","v":2},{"$f":"'1-1000'!K9697","v":"Eindhoven"},{"$f":"'1-1000'!AH9697","v":196},"A9697",":","AK9728",804,""]
[null,305,31,null,null,null,null,{"$f":"'1-1000'!AD9729","v":3},{"$f":"'1-1000'!K9729","v":"Eindhoven (1)"},{"$f":"'1-1000'!AH9729","v":284},"A9729",":","AK9760",716,""]
[null,306,31,null,null,null,null,{"$f":"'1-1000'!AD9761","v":6},{"$f":"'1-1000'!K9761","v":"Eindhoven (2)"},{"$f":"'1-1000'!AH9761","v":496},"A9761",":","AK9792",504,""]
[null,307,31,null,null,null,null,{"$f":"'1-1000'!AD9793","v":5},{"$f":"'1-1000'!K9793","v":"Eindhoven (3)"},{"$f":"'1-1000'!AH9793","v":442},"A9793",":","AK9824",558,""]
[null,308,31,null,null,null,null,{"$f":"'1-1000'!AD9825","v":3},{"$f":"'1-1000'!K9825","v":"Eindhoven (4)"},{"$f":"'1-1000'!AH9825","v":380},"A9825",":","AK9856",620,""]
[null,309,31,null,null,null,null,{"$f":"'1-1000'!AD9857","v":3},{"$f":"'1-1000'!K9857","v":"Eindhoven (5)"},{"$f":"'1-1000'!AH9857","v":386},"A9857",":","AK9888",614,""]
[null,310,31,null,null,null,null,{"$f":"'1-1000'!AD9889","v":6},{"$f":"'1-1000'!K9889","v":"Eindhoven (6)"},{"$f":"'1-1000'!AH9889","v":524},"A9889",":","AK9920",476,""]
[null,311,32,null,null,null,null,{"$f":"'1-1000'!AD9921","v":3},{"$f":"'1-1000'!K9921","v":"Eindhoven (7)"},{"$f":"'1-1000'!AH9921","v":464},"A9921",":","AK9952",536,""]
[null,312,32,null,null,null,null,{"$f":"'1-1000'!AD9953","v":3},{"$f":"'1-1000'!K9953","v":"Ehv - Pastoor van Arsplein"},{"$f":"'1-1000'!AH9953","v":378},"A9953",":","AK9984",622,""]
[null,313,32,null,null,null,null,{"$f":"'1-1000'!AD9985","v":2},{"$f":"'1-1000'!K9985","v":"Ehv - Kronehoefstraat"},{"$f":"'1-1000'!AH9985","v":557},"A9985",":","AK10016",443,""]
[null,314,32,null,null,null,null,{"$f":"'1-1000'!AD10017","v":3},{"$f":"'1-1000'!K10017","v":"Ehv - Strijpsestraat"},{"$f":"'1-1000'!AH10017","v":433},"A10017",":","AK10048",567,""]
[null,315,32,null,null,null,null,{"$f":"'1-1000'!AD10049","v":6},{"$f":"'1-1000'!K10049","v":"Ehv - Sint Theresiaplein"},{"$f":"'1-1000'!AH10049","v":346},"A10049",":","AK10080",654,""]
[null,316,32,null,null,null,null,{"$f":"'1-1000'!AD10081","v":1},{"$f":"'1-1000'!K10081","v":"Ehv - Winkelcentrum Woensel"},{"$f":"'1-1000'!AH10081","v":192},"A10081",":","AK10112",808,""]
[null,317,32,null,null,null,null,{"$f":"'1-1000'!AD10113","v":{"$error":"#VALUE!"}},{"$f":"'1-1000'!K10113","v":"Elburg"},{"$f":"'1-1000'!AH10113","v":265},"A10113",":","AK10144",735,""]
[null,318,32,null,null,null,null,{"$f":"'1-1000'!AD10145","v":5},{"$f":"'1-1000'!K10145","v":"Elst Gld"},{"$f":"'1-1000'!AH10145","v":346},"A10145",":","AK10176",654,""]
[null,319,32,null,null,null,null,{"$f":"'1-1000'!AD10177","v":0},{"$f":"'1-1000'!K10177","v":"Emmeloord"},{"$f":"'1-1000'!AH10177","v":57},"A10177",":","AK10208",943,""]
[null,320,32,null,null,null,null,{"$f":"'1-1000'!AD10209","v":0},{"$f":"'1-1000'!K10209","v":"Emmeloord 2e"},{"$f":"'1-1000'!AH10209","v":201},"A10209",":","AK10240",799,""]
[null,321,33,null,null,null,null,{"$f":"'1-1000'!AD10241","v":0},{"$f":"'1-1000'!K10241","v":"Emmen"},{"$f":"'1-1000'!AH10241","v":199},"A10241",":","AK10272",801,{"$f":"IF(J322=0,\"COMPL\",\"\")","v":""}]
[null,322,33,null,null,null,null,{"$f":"'1-1000'!AD10273","v":5},{"$f":"'1-1000'!K10273","v":"Emmen (1)"},{"$f":"'1-1000'!AH10273","v":482},"A10273",":","AK10304",{"$f":"1000-J323","v":518},""]
[null,323,33,null,null,null,null,{"$f":"'1-1000'!AD10305","v":9},{"$f":"'1-1000'!K10305","v":"Emn - Statenweg"},{"$f":"'1-1000'!AH10305","v":606},"A10305",":","AK10336",394,""]
[null,324,33,null,null,null,null,{"$f":"'1-1000'!AD10337","v":1},{"$f":"'1-1000'!K10337","v":"Enkhuizen"},{"$f":"'1-1000'!AH10337","v":224},"A10337",":","AK10368",776,""]
[null,325,33,null,null,null,null,{"$f":"'1-1000'!AD10369","v":0},{"$f":"'1-1000'!K10369","v":"Enschede"},{"$f":"'1-1000'!AH10369","v":8},"A10369",":","AK10400",992,""]
[null,326,33,null,null,null,null,{"$f":"'1-1000'!AD10401","v":0},{"$f":"'1-1000'!K10401","v":"Enschede 2e"},{"$f":"'1-1000'!AH10401","v":90},"A10401",":","AK10432",910,""]
[null,327,33,null,null,null,null,{"$f":"'1-1000'!AD10433","v":3},{"$f":"'1-1000'!K10433","v":"Enschede (1)"},{"$f":"'1-1000'!AH10433","v":54},"A10433",":","AK10464",946,""]
[null,328,33,null,null,null,null,{"$f":"'1-1000'!AD10465","v":3},{"$f":"'1-1000'!K10465","v":"Enschede (2)"},{"$f":"'1-1000'!AH10465","v":348},"A10465",":","AK10496",652,""]
[null,329,33,null,null,null,null,{"$f":"'1-1000'!AD10497","v":4},{"$f":"'1-1000'!K10497","v":"Es - GJ van Heekstraat"},{"$f":"'1-1000'!AH10497","v":475},"A10497",":","AK10528",525,""]
[null,330,33,null,null,null,null,{"$f":"'1-1000'!AD10529","v":9},{"$f":"'1-1000'!K10529","v":"Es - Hengelosestraat"},{"$f":"'1-1000'!AH10529","v":483},"A10529",":","AK10560",517,""]
[null,331,34,null,null,null,null,{"$f":"'1-1000'!AD10561","v":3},{"$f":"'1-1000'!K10561","v":"Es - Laaressingel"},{"$f":"'1-1000'!AH10561","v":498},"A10561",":","AK10592",502,""]
[null,332,34,null,null,null,null,{"$f":"'1-1000'!AD10593","v":9},{"$f":"'1-1000'!K10593","v":"Es - Weth Nijhuisstraat"},{"$f":"'1-1000'!AH10593","v":563},"A10593",":","AK10624",437,""]
["x",333,34,null,null,null,null,{"$f":"'1-1000'!AD10625","v":2},{"$f":"'1-1000'!K10625","v":"Es - Wesselernering"},{"$f":"'1-1000'!AH10625","v":285},"A10625",":","AK10656",715,""]
[null,334,34,null,null,null,null,{"$f":"'1-1000'!AD10657","v":0},{"$f":"'1-1000'!K10657","v":"Epe GLD"},{"$f":"'1-1000'!AH10657","v":159},"A10657",":","AK10688",841,""]
[null,335,34,null,null,null,null,{"$f":"'1-1000'!AD10689","v":0},{"$f":"'1-1000'!K10689","v":"Ermelo"},{"$f":"'1-1000'!AH10689","v":183},"A10689",":","AK10720",817,""]
[null,336,34,null,null,null,null,{"$f":"'1-1000'!AD10721","v":5},{"$f":"'1-1000'!K10721","v":"Ermelo (1)"},{"$f":"'1-1000'!AH10721","v":348},"A10721",":","AK10752",652,""]
[null,337,34,null,null,null,null,{"$f":"'1-1000'!AD10753","v":0},{"$f":"'1-1000'!K10753","v":"Etten-Leur"},{"$f":"'1-1000'!AH10753","v":172},"A10753",":","AK10784",828,""]
[null,338,34,null,null,null,null,{"$f":"'1-1000'!AD10785","v":3},{"$f":"'1-1000'!K10785","v":"Etten-Leur (1)"},{"$f":"'1-1000'!AH10785","v":230},"A10785",":","AK10816",770,""]
[null,339,34,null,null,null,null,{"$f":"'1-1000'!AD10817","v":4},{"$f":"'1-1000'!K10817","v":"Etten-Leur (2)"},{"$f":"'1-1000'!AH10817","v":284},"A10817",":","AK10848",716,""]
[null,340,34,null,null,null,null,{"$f":"'1-1000'!AD10849","v":0},{"$f":"'1-1000'!K10849","v":"Eys"},{"$f":"'1-1000'!AH10849","v":449},"A10849",":","AK10880",551,""]
[null,341,35,null,null,null,null,{"$f":"'1-1000'!AD10881","v":2},{"$f":"'1-1000'!K10881","v":"Eijsden"},{"$f":"'1-1000'!AH10881","v":321},"A10881",":","AK10912",679,""]
[null,342,35,null,null,null,null,{"$f":"'1-1000'!AD10913","v":0},{"$f":"'1-1000'!K10913","v":"Franeker"},{"$f":"'1-1000'!AH10913","v":430},"A10913",":","AK10944",570,""]
[null,343,35,null,null,null,null,{"$f":"'1-1000'!AD10945","v":1},{"$f":"'1-1000'!K10945","v":"Geldermalsen"},{"$f":"'1-1000'!AH10945","v":142},"A10945",":","AK10976",858,"","start 13-11-16"]
[null,344,35,null,null,null,null,{"$f":"'1-1000'!AD10977","v":1},{"$f":"'1-1000'!K10977","v":"Geldrop"},{"$f":"'1-1000'!AH10977","v":79},"A10977",":","AK11008",921,""]
[null,345,35,null,null,null,null,{"$f":"'1-1000'!AD11009","v":1},{"$f":"'1-1000'!K11009","v":"Geleen"},{"$f":"'1-1000'!AH11009","v":154},"A11009",":","AK11040",846,""]
[null,346,35,null,null,null,null,{"$f":"'1-1000'!AD11041","v":1},{"$f":"'1-1000'!K11041","v":"Gemert"},{"$f":"'1-1000'!AH11041","v":238},"A11041",":","AK11072",762,""]
[null,347,35,null,null,null,null,{"$f":"'1-1000'!AD11073","v":1},{"$f":"'1-1000'!K11073","v":"Genemuiden"},{"$f":"'1-1000'!AH11073","v":297},"A11073",":","AK11104",703,""]
[null,348,35,null,null,null,null,{"$f":"'1-1000'!AD11105","v":0},{"$f":"'1-1000'!K11105","v":"Gennep"},{"$f":"'1-1000'!AH11105","v":137},"A11105",":","AK11136",863,""]
["x",349,35,null,null,null,null,{"$f":"'1-1000'!AD11137","v":3},{"$f":"'1-1000'!K11137","v":"Gilze"},{"$f":"'1-1000'!AH11137","v":325},"A11137",":","AK11168",675,""]
[null,350,35,null,null,null,null,{"$f":"'1-1000'!AD11169","v":0},{"$f":"'1-1000'!K11169","v":"Goes"},{"$f":"'1-1000'!AH11169","v":15},"A11169",":","AK11200",985,""]
[null,351,36,null,null,null,null,{"$f":"'1-1000'!AD11201","v":0},{"$f":"'1-1000'!K11201","v":"Goes (1)"},{"$f":"'1-1000'!AH11201","v":134},"A11201",":","AK11232",866,""]
[null,352,36,null,null,null,null,{"$f":"'1-1000'!AD11233","v":1},{"$f":"'1-1000'!K11233","v":"Gs - Stationsplein"},{"$f":"'1-1000'!AH11233","v":264},"A11233",":","AK11264",736,""]
[null,353,36,null,null,null,null,{"$f":"'1-1000'!AD11265","v":1},{"$f":"'1-1000'!K11265","v":"Goirle"},{"$f":"'1-1000'!AH11265","v":140},"A11265",":","AK11296",860,""]
[null,354,36,null,null,null,null,{"$f":"'1-1000'!AD11297","v":2},{"$f":"'1-1000'!K11297","v":"Goor"},{"$f":"'1-1000'!AH11297","v":259},"A11297",":","AK11328",741,""]
[null,355,36,null,null,null,null,{"$f":"'1-1000'!AD11329","v":0},{"$f":"'1-1000'!K11329","v":"Gorinchem"},{"$f":"'1-1000'!AH11329","v":25},"A11329",":","AK11360",975,""]
[null,356,36,null,null,null,null,{"$f":"'1-1000'!AD11361","v":2},{"$f":"'1-1000'!K11361","v":"Gorredijk"},{"$f":"'1-1000'!AH11361","v":299},"A11361",":","AK11392",701,""]
[null,357,36,null,null,null,null,{"$f":"'1-1000'!AD11393","v":1},{"$f":"'1-1000'!K11393","v":"Gouda"},{"$f":"'1-1000'!AH11393","v":81},"A11393",":","AK11424",919,""]
[null,358,36,null,null,null,null,{"$f":"'1-1000'!AD11425","v":3},{"$f":"'1-1000'!K11425","v":"Gouda (1)"},{"$f":"'1-1000'!AH11425","v":254},"A11425",":","AK11456",746,""]
[null,359,36,null,null,null,null,{"$f":"'1-1000'!AD11457","v":5},{"$f":"'1-1000'!K11457","v":"Gouda (2)"},{"$f":"'1-1000'!AH11457","v":370},"A11457",":","AK11488",630,""]
[null,360,36,null,null,null,null,{"$f":"'1-1000'!AD11489","v":1},{"$f":"'1-1000'!K11489","v":"Gd - Jan van Beaumontstraat"},{"$f":"'1-1000'!AH11489","v":160},"A11489",":","AK11520",840,""]
[null,361,37,null,null,null,null,{"$f":"'1-1000'!AD11521","v":1},{"$f":"'1-1000'!K11521","v":"Grave"},{"$f":"'1-1000'!AH11521","v":174},"A11521",":","AK11552",826,""]
[null,362,37,null,null,null,null,{"$f":"'1-1000'!AD11553","v":2},{"$f":"'1-1000'!K11553","v":" 's-Graveland"},{"$f":"'1-1000'!AH11553","v":341},"A11553",":","AK11584",659,""]
[null,363,37,null,null,null,null,{"$f":"'1-1000'!AD11585","v":1},{"$f":"'1-1000'!K11585","v":" 's-Gravenhage"},{"$f":"'1-1000'!AH11585","v":1},"A11585",":","AK11616",999,""]
[null,364,37,null,null,null,null,{"$f":"'1-1000'!AD11617","v":1},{"$f":"'1-1000'!K11617","v":" 's-Gravenhage (1)"},{"$f":"'1-1000'!AH11617","v":56},"A11617",":","AK11648",944,""]
[null,365,37,null,null,null,null,{"$f":"'1-1000'!AD11649","v":0},{"$f":"'1-1000'!K11649","v":" 's-Gravenhage (3)"},{"$f":"'1-1000'!AH11649","v":25},"A11649",":","AK11680",975,""]
[null,366,37,null,null,null,null,{"$f":"'1-1000'!AD11681","v":0},{"$f":"'1-1000'!K11681","v":" 's-Gravenhage (4)"},{"$f":"'1-1000'!AH11681","v":38},"A11681",":","AK11712",962,""]
[null,367,37,null,null,null,null,{"$f":"'1-1000'!AD11713","v":0},{"$f":"'1-1000'!K11713","v":"Gv - van Alkemadelaan"},{"$f":"'1-1000'!AH11713","v":4},"A11713",":","AK11744",996,""]
[null,368,37,null,null,null,null,{"$f":"'1-1000'!AD11745","v":1},{"$f":"'1-1000'!K11745","v":"Gv - Almeloplein"},{"$f":"'1-1000'!AH11745","v":253},"A11745",":","AK11776",747,""]
[null,369,37,null,null,null,null,{"$f":"'1-1000'!AD11777","v":0},{"$f":"'1-1000'!K11777","v":"Gv - Appelstraat"},{"$f":"'1-1000'!AH11777","v":114},"A11777",":","AK11808",886,""]
[null,370,37,null,null,null,null,{"$f":"'1-1000'!AD11809","v":0},{"$f":"'1-1000'!K11809","v":"Gv - Badhuisstraat"},{"$f":"'1-1000'!AH11809","v":159},"A11809",":","AK11840",841,""]
[null,371,38,null,null,null,null,{"$f":"'1-1000'!AD11841","v":2},{"$f":"'1-1000'!K11841","v":"Gv - Badhuisstraat (1)"},{"$f":"'1-1000'!AH11841","v":175},"A11841",":","AK11872",825,""]
[null,372,38,null,null,null,null,{"$f":"'1-1000'!AD11873","v":0},{"$f":"'1-1000'!K11873","v":"Gv - Prinses Beatrixlaan"},{"$f":"'1-1000'!AH11873","v":13},"A11873",":","AK11904",987,""]
[null,373,38,null,null,null,null,{"$f":"'1-1000'!AD11905","v":3},{"$f":"'1-1000'!K11905","v":"Gv - Joan Blasiusstraat"},{"$f":"'1-1000'!AH11905","v":416},"A11905",":","AK11936",584,""]
[null,374,38,null,null,null,null,{"$f":"'1-1000'!AD11937","v":0},{"$f":"'1-1000'!K11937","v":"Gv - Fahrenheitstraat"},{"$f":"'1-1000'!AH11937","v":100},"A11937",":","AK11968",900,""]
[null,375,38,null,null,null,null,{"$f":"'1-1000'!AD11969","v":1},{"$f":"'1-1000'!K11969","v":"Gv - Goudsbloemlaan"},{"$f":"'1-1000'!AH11969","v":170},"A11969",":","AK12000",830,""]
[null,376,38,null,null,null,null,{"$f":"'1-1000'!AD12001","v":1},{"$f":"'1-1000'!K12001","v":"Gv - Prins Hendrikplein"},{"$f":"'1-1000'!AH12001","v":171},"A12001",":","AK12032",829,""]
[null,377,38,null,null,null,null,{"$f":"'1-1000'!AD12033","v":0},{"$f":"'1-1000'!K12033","v":"Gv - van Hogenhoucklaan"},{"$f":"'1-1000'!AH12033","v":21},"A12033",":","AK12064",979,""]
[null,378,38,null,null,null,null,{"$f":"'1-1000'!AD12065","v":1},{"$f":"'1-1000'!K12065","v":"Gv - Kon Julianaplein"},{"$f":"'1-1000'!AH12065","v":313},"A12065",":","AK12096",687,""]
[null,379,38,null,null,null,null,{"$f":"'1-1000'!AD12097","v":2},{"$f":"'1-1000'!K12097","v":"Gv - Laan van Meerdervoort"},{"$f":"'1-1000'!AH12097","v":123},"A12097",":","AK12128",877,""]
[null,380,38,null,null,null,null,{"$f":"'1-1000'!AD12129","v":4},{"$f":"'1-1000'!K12129","v":"Gv - Laan van NO-Indië 180"},{"$f":"'1-1000'!AH12129","v":390},"A12129",":","AK12160",610,""]
[null,381,39,null,null,null,null,{"$f":"'1-1000'!AD12161","v":0},{"$f":"'1-1000'!K12161","v":"Gv - Nassauplein"},{"$f":"'1-1000'!AH12161","v":62},"A12161",":","AK12192",938,""]
[null,382,39,null,null,null,null,{"$f":"'1-1000'!AD12193","v":1},{"$f":"'1-1000'!K12193","v":"Gv - Nassauplein (1)"},{"$f":"'1-1000'!AH12193","v":65},"A12193",":","AK12224",935,""]
[null,383,39,null,null,null,null,{"$f":"'1-1000'!AD12225","v":0},{"$f":"'1-1000'!K12225","v":"Gv - Rijswijkseweg"},{"$f":"'1-1000'!AH12225","v":95},"A12225",":","AK12256",905,""]
[null,384,39,null,null,null,null,{"$f":"'1-1000'!AD12257","v":2},{"$f":"'1-1000'!K12257","v":"Gv - Stevinstraat"},{"$f":"'1-1000'!AH12257","v":309},"A12257",":","AK12288",691,""]
[null,385,39,null,null,null,null,{"$f":"'1-1000'!AD12289","v":0},{"$f":"'1-1000'!K12289","v":"Gv - Valeriusstraat"},{"$f":"'1-1000'!AH12289","v":51},"A12289",":","AK12320",949,{"$f":"IF(J386=0,\"COMPL\",\"\")","v":""}]
[null,386,39,null,null,null,null,{"$f":"'1-1000'!AD12321","v":0},{"$f":"'1-1000'!K12321","v":"Gv - Willem de Zwijgerlaan"},{"$f":"'1-1000'!AH12321","v":166},"A12321",":","AK12352",{"$f":"1000-J387","v":834},""]
[null,387,39,null,null,null,null,{"$f":"'1-1000'!AD12353","v":9},{"$f":"'1-1000'!K12353","v":"Groesbeek"},{"$f":"'1-1000'!AH12353","v":1000},"A12353",":","AK12384",0,""]
[null,388,39,null,null,null,null,{"$f":"'1-1000'!AD12385","v":0},{"$f":"'1-1000'!K12385","v":"Groningen"},{"$f":"'1-1000'!AH12385","v":12},"A12385",":","AK12416",988,""]
[null,389,39,null,null,null,null,{"$f":"'1-1000'!AD12417","v":9},{"$f":"'1-1000'!K12417","v":"Groningen (1)"},{"$f":"'1-1000'!AH12417","v":1000},"A12417",":","AK12448",0,""]
[null,390,39,null,null,null,null,{"$f":"'1-1000'!AD12449","v":9},{"$f":"'1-1000'!K12449","v":"Groningen (2)"},{"$f":"'1-1000'!AH12449","v":1000},"A12449",":","AK12480",0,""]
[null,391,40,null,null,null,null,{"$f":"'1-1000'!AD12481","v":9},{"$f":"'1-1000'!K12481","v":"Gulpen"},{"$f":"'1-1000'!AH12481","v":1000},"A12481",":","AK12512",0,""]
[null,392,40,null,null,null,null,{"$f":"'1-1000'!AD12513","v":9},{"$f":"'1-1000'!K12513","v":"Haaksbergen"},{"$f":"'1-1000'!AH12513","v":1000},"A12513",":","AK12544",0,""]
[null,393,40,null,null,null,null,{"$f":"'1-1000'!AD12545","v":0},{"$f":"'1-1000'!K12545","v":"Haarlem"},{"$f":"'1-1000'!AH12545","v":11},"A12545",":","AK12576",989,""]
[null,394,40,null,null,null,null,{"$f":"'1-1000'!AD12577","v":9},{"$f":"'1-1000'!K12577","v":"Haarlem (1)"},{"$f":"'1-1000'!AH12577","v":1000},"A12577",":","AK12608",0,""]
[null,395,40,null,null,null,null,{"$f":"'1-1000'!AD12609","v":3},{"$f":"'1-1000'!K12609","v":"Hlm - Baljuwslaan"},{"$f":"'1-1000'!AH12609","v":535},"A12609",":","AK12640",465,""]
[null,396,40,null,null,null,null,{"$f":"'1-1000'!AD12641","v":9},{"$f":"'1-1000'!K12641","v":" 't Harde"},{"$f":"'1-1000'!AH12641","v":1000},"A12641",":","AK12672",0,""]
[null,397,40,null,null,null,null,{"$f":"'1-1000'!AD12673","v":9},{"$f":"'1-1000'!K12673","v":"Hardenberg"},{"$f":"'1-1000'!AH12673","v":1000},"A12673",":","AK12704",0,""]
[null,398,40,null,null,null,null,{"$f":"'1-1000'!AD12705","v":9},{"$f":"'1-1000'!K12705","v":"Harderwijk"},{"$f":"'1-1000'!AH12705","v":1000},"A12705",":","AK12736",0,""]
[null,399,40,null,null,null,null,{"$f":"'1-1000'!AD12737","v":9},{"$f":"'1-1000'!K12737","v":"Harlingen"},{"$f":"'1-1000'!AH12737","v":1000},"A12737",":","AK12768",0,""]
[null,400,40,null,null,null,null,{"$f":"'1-1000'!AD12769","v":9},{"$f":"'1-1000'!K12769","v":"Hattem"},{"$f":"'1-1000'!AH12769","v":1000},"A12769",":","AK12800",0,""]
[null,401,41,null,null,null,null,{"$f":"'1-1000'!AD12801","v":9},{"$f":"'1-1000'!K12801","v":"Hedel"},{"$f":"'1-1000'!AH12801","v":1000},"A12801",":","AK12832",0,""]
[null,402,41,null,null,null,null,{"$f":"'1-1000'!AD12833","v":9},{"$f":"'1-1000'!K12833","v":"Heemskerk"},{"$f":"'1-1000'!AH12833","v":1000},"A12833",":","AK12864",0,""]
[null,403,41,null,null,null,null,{"$f":"'1-1000'!AD12865","v":9},{"$f":"'1-1000'!K12865","v":"Heemstede"},{"$f":"'1-1000'!AH12865","v":1000},"A12865",":","AK12896",0,""]
[null,404,41,null,null,null,null,{"$f":"'1-1000'!AD12897","v":9},{"$f":"'1-1000'!K12897","v":"Heerde"},{"$f":"'1-1000'!AH12897","v":1000},"A12897",":","AK12928",0,""]
[null,405,41,null,null,null,null,{"$f":"'1-1000'!AD12929","v":9},{"$f":"'1-1000'!K12929","v":"Heerenveen"},{"$f":"'1-1000'!AH12929","v":1000},"A12929",":","AK12960",0,""]
[null,406,41,null,null,null,null,{"$f":"'1-1000'!AD12961","v":9},{"$f":"'1-1000'!K12961","v":"Heerhugowaard"},{"$f":"'1-1000'!AH12961","v":1000},"A12961",":","AK12992",0,""]
[null,407,41,null,null,null,null,{"$f":"'1-1000'!AD12993","v":0},{"$f":"'1-1000'!K12993","v":"Heerlen"},{"$f":"'1-1000'!AH12993","v":98},"A12993",":","AK13024",902,""]
[null,408,41,null,null,null,null,{"$f":"'1-1000'!AD13025","v":9},{"$f":"'1-1000'!K13025","v":"Heerlen (1)"},{"$f":"'1-1000'!AH13025","v":1000},"A13025",":","AK13056",0,""]
[null,409,41,null,null,null,null,{"$f":"'1-1000'!AD13057","v":9},{"$f":"'1-1000'!K13057","v":"Heerlen (2)"},{"$f":"'1-1000'!AH13057","v":1000},"A13057",":","AK13088",0,""]
[null,410,41,null,null,null,null,{"$f":"'1-1000'!AD13089","v":9},{"$f":"'1-1000'!K13089","v":"Hrl - H Dunantstraat"},{"$f":"'1-1000'!AH13089","v":1000},"A13089",":","AK13120",0,""]
[null,411,42,null,null,null,null,{"$f":"'1-1000'!AD13121","v":9},{"$f":"'1-1000'!K13121","v":"Den Helder"},{"$f":"'1-1000'!AH13121","v":1000},"A13121",":","AK13152",0,""]
[null,412,42,null,null,null,null,{"$f":"'1-1000'!AD13153","v":9},{"$f":"'1-1000'!K13153","v":"Hedr - Baljuwstraat"},{"$f":"'1-1000'!AH13153","v":1000},"A13153",":","AK13184",0,""]
[null,413,42,null,null,null,null,{"$f":"'1-1000'!AD13185","v":9},{"$f":"'1-1000'!K13185","v":"Hedr - Lange Vliet"},{"$f":"'1-1000'!AH13185","v":1000},"A13185",":","AK13216",0,""]
[null,414,42,null,null,null,null,{"$f":"'1-1000'!AD13217","v":9},{"$f":"'1-1000'!K13217","v":"Hellevoetsluis"},{"$f":"'1-1000'!AH13217","v":1000},"A13217",":","AK13248",0,""]
[null,415,42,null,null,null,null,{"$f":"'1-1000'!AD13249","v":9},{"$f":"'1-1000'!K13249","v":"Hlv - Struytse Hoeck"},{"$f":"'1-1000'!AH13249","v":1000},"A13249",":","AK13280",0,""]
[null,416,42,null,null,null,null,{"$f":"'1-1000'!AD13281","v":9},{"$f":"'1-1000'!K13281","v":"Helmond"},{"$f":"'1-1000'!AH13281","v":932},"A13281",":","AK13312",68,""]
[null,417,42,null,null,null,null,{"$f":"'1-1000'!AD13313","v":9},{"$f":"'1-1000'!K13313","v":"Helmond (1)"},{"$f":"'1-1000'!AH13313","v":1000},"A13313",":","AK13344",0,""]
["x",418,42,null,null,null,null,{"$f":"'1-1000'!AD13345","v":9},{"$f":"'1-1000'!K13345","v":"Hendrik Ido Ambacht"},{"$f":"'1-1000'!AH13345","v":1000},"A13345",":","AK13376",0,""]
[null,419,42,null,null,null,null,{"$f":"'1-1000'!AD13377","v":9},{"$f":"'1-1000'!K13377","v":"Hengelo Ov"},{"$f":"'1-1000'!AH13377","v":1000},"A13377",":","AK13408",0,""]
[null,420,42,null,null,null,null,{"$f":"'1-1000'!AD13409","v":9},{"$f":"'1-1000'!K13409","v":"Hengelo Ov (1)"},{"$f":"'1-1000'!AH13409","v":1000},"A13409",":","AK13440",0,""]
[null,421,43,null,null,null,null,{"$f":"'1-1000'!AD13441","v":0},{"$f":"'1-1000'!K13441","v":" 's-Hertogenbosch"},{"$f":"'1-1000'!AH13441","v":1},"A13441",":","AK13472",999,""]
[null,422,43,null,null,null,null,{"$f":"'1-1000'!AD13473","v":1},{"$f":"'1-1000'!K13473","v":" 's-Hertogenbosch 2e"},{"$f":"'1-1000'!AH13473","v":109},"A13473",":","AK13504",891,""]
[null,423,43,null,null,null,null,{"$f":"'1-1000'!AD13505","v":0},{"$f":"'1-1000'!K13505","v":"Ht - Boschveldweg"},{"$f":"'1-1000'!AH13505","v":232},"A13505",":","AK13536",768,""]
[null,424,43,null,null,null,null,{"$f":"'1-1000'!AD13537","v":9},{"$f":"'1-1000'!K13537","v":"Ht - Helftheuvelpassage"},{"$f":"'1-1000'!AH13537","v":1000},"A13537",":","AK13568",0,""]
[null,425,43,null,null,null,null,{"$f":"'1-1000'!AD13569","v":9},{"$f":"'1-1000'!K13569","v":"Ht - Kerkstraat"},{"$f":"'1-1000'!AH13569","v":1000},"A13569",":","AK13600",0,""]
[null,426,43,null,null,null,null,{"$f":"'1-1000'!AD13601","v":9},{"$f":"'1-1000'!K13601","v":"Ht - Lokerenpassage"},{"$f":"'1-1000'!AH13601","v":1000},"A13601",":","AK13632",0,""]
["x",427,43,null,null,null,null,{"$f":"'1-1000'!AD13633","v":9},{"$f":"'1-1000'!K13633","v":"Ht - Parallelweg"},{"$f":"'1-1000'!AH13633","v":987},"A13633",":","AK13664",13,""]
[null,428,43,null,null,null,null,{"$f":"'1-1000'!AD13665","v":0},{"$f":"'1-1000'!K13665","v":"Ht - Parallelweg (20) 1e"},{"$f":"'1-1000'!AH13665","v":0},"A13665",":","AK13696",1000,"COMPL"]
[null,429,43,null,null,null,null,{"$f":"'1-1000'!AD13697","v":0},{"$f":"'1-1000'!K13697","v":"Ht - Parellelweg (20) 2e"},{"$f":"'1-1000'!AH13697","v":0},"A13697",":","AK13728",1000,"COMPL"]
[null,430,43,null,null,null,null,{"$f":"'1-1000'!AD13729","v":0},{"$f":"'1-1000'!K13729","v":"Ht - Parallelweg (20) 3e"},{"$f":"'1-1000'!AH13729","v":0},"A13729",":","AK13760",1000,"COMPL"]
[null,431,44,null,null,null,null,{"$f":"'1-1000'!AD13761","v":9},{"$f":"'1-1000'!K13761","v":"Ht - Rompertcentrum"},{"$f":"'1-1000'!AH13761","v":1000},"A13761",":","AK13792",0,""]
[null,432,44,null,null,null,null,{"$f":"'1-1000'!AD13793","v":9},{"$f":"'1-1000'!K13793","v":"Ht - Stationsweg"},{"$f":"'1-1000'!AH13793","v":1000},"A13793",":","AK13824",0,""]
[null,433,44,null,null,null,null,{"$f":"'1-1000'!AD13825","v":9},{"$f":"'1-1000'!K13825","v":"Hillegom"},{"$f":"'1-1000'!AH13825","v":1000},"A13825",":","AK13856",0,""]
[null,434,44,null,null,null,null,{"$f":"'1-1000'!AD13857","v":9},{"$f":"'1-1000'!K13857","v":"Hilvarenbeek"},{"$f":"'1-1000'!AH13857","v":1000},"A13857",":","AK13888",0,""]
[null,435,44,null,null,null,null,{"$f":"'1-1000'!AD13889","v":9},{"$f":"'1-1000'!K13889","v":"Hilversum (4)"},{"$f":"'1-1000'!AH13889","v":1000},"A13889",":","AK13920",0,""]
[null,436,44,null,null,null,null,{"$f":"'1-1000'!AD13921","v":9},{"$f":"'1-1000'!K13921","v":"Hilversum (5)"},{"$f":"'1-1000'!AH13921","v":1000},"A13921",":","AK13952",0,""]
[null,437,44,null,null,null,null,{"$f":"'1-1000'!AD13953","v":9},{"$f":"'1-1000'!K13953","v":"Hilversum (6)"},{"$f":"'1-1000'!AH13953","v":1000},"A13953",":","AK13984",0,""]
[null,438,44,null,null,null,null,{"$f":"'1-1000'!AD13985","v":9},{"$f":"'1-1000'!K13985","v":"Hoek van Holland"},{"$f":"'1-1000'!AH13985","v":1000},"A13985",":","AK14016",0,""]
[null,439,44,null,null,null,null,{"$f":"'1-1000'!AD14017","v":9},{"$f":"'1-1000'!K14017","v":"Hoensbroek"},{"$f":"'1-1000'!AH14017","v":1000},"A14017",":","AK14048",0,""]
[null,440,44,null,null,null,null,{"$f":"'1-1000'!AD14049","v":9},{"$f":"'1-1000'!K14049","v":"Hoevelaken"},{"$f":"'1-1000'!AH14049","v":1000},"A14049",":","AK14080",0,""]
[null,441,45,null,null,null,null,{"$f":"'1-1000'!AD14081","v":9},{"$f":"'1-1000'!K14081","v":"Hoevelaken (1)"},{"$f":"'1-1000'!AH14081","v":1000},"A14081",":","AK14112",0,""]
[null,442,45,null,null,null,null,{"$f":"'1-1000'!AD14113","v":9},{"$f":"'1-1000'!K14113","v":"Hoofddorp"},{"$f":"'1-1000'!AH14113","v":1000},"A14113",":","AK14144",0,""]
[null,443,45,null,null,null,null,{"$f":"'1-1000'!AD14145","v":2},{"$f":"'1-1000'!K14145","v":"Hoogeveen"},{"$f":"'1-1000'!AH14145","v":170},"A14145",":","AK14176",830,""]
[null,444,45,null,null,null,null,{"$f":"'1-1000'!AD14177","v":9},{"$f":"'1-1000'!K14177","v":"Hoogeveen (1)"},{"$f":"'1-1000'!AH14177","v":1000},"A14177",":","AK14208",0,""]
[null,445,45,null,null,null,null,{"$f":"'1-1000'!AD14209","v":9},{"$f":"'1-1000'!K14209","v":"Hoogeveen (2)"},{"$f":"'1-1000'!AH14209","v":1000},"A14209",":","AK14240",0,""]
["x",446,45,null,null,null,null,{"$f":"'1-1000'!AD14241","v":0},{"$f":"'1-1000'!K14241","v":"Hoogvliet"},{"$f":"'1-1000'!AH14241","v":90},"A14241",":","AK14272",910,""]
[null,447,45,null,null,null,null,{"$f":"'1-1000'!AD14273","v":8},{"$f":"'1-1000'!K14273","v":"Hoogvliet (6)"},{"$f":"'1-1000'!AH14273","v":929},"A14273",":","AK14304",71,""]
[null,448,45,null,null,null,null,{"$f":"'1-1000'!AD14305","v":9},{"$f":"'1-1000'!K14305","v":"Hoorn Nh"},{"$f":"'1-1000'!AH14305","v":1000},"A14305",":","AK14336",0,""]
[null,449,45,null,null,null,null,{"$f":"'1-1000'!AD14337","v":9},{"$f":"'1-1000'!K14337","v":"Houten"},{"$f":"'1-1000'!AH14337","v":1000},"A14337",":","AK14368",0,{"$f":"IF(J450=0,\"COMPL\",\"\")","v":""}]
[null,450,45,null,null,null,null,{"$f":"'1-1000'!AD14369","v":9},{"$f":"'1-1000'!K14369","v":"Houten (1)"},{"$f":"'1-1000'!AH14369","v":1000},"A14369",":","AK14400",{"$f":"1000-J451","v":0},""]
[null,451,46,null,null,null,null,{"$f":"'1-1000'!AD14401","v":9},{"$f":"'1-1000'!K14401","v":"Huissen"},{"$f":"'1-1000'!AH14401","v":1000},"A14401",":","AK14432",0,""]
[null,452,46,null,null,null,null,{"$f":"'1-1000'!AD14433","v":9},{"$f":"'1-1000'!K14433","v":"Huizen Nh"},{"$f":"'1-1000'!AH14433","v":1000},"A14433",":","AK14464",0,""]
[null,453,46,null,null,null,null,{"$f":"'1-1000'!AD14465","v":9},{"$f":"'1-1000'!K14465","v":"Hulst"},{"$f":"'1-1000'!AH14465","v":1000},"A14465",":","AK14496",0,""]
["Joure ??????",454,46,null,null,null,null,{"$f":"'1-1000'!AD14497","v":9},{"$f":"'1-1000'!K14497","v":"Kaatsheuvel"},{"$f":"'1-1000'!AH14497","v":1000},"A14497",":","AK14528",0,""]
[null,455,46,null,null,null,null,{"$f":"'1-1000'!AD14529","v":9},{"$f":"'1-1000'!K14529","v":"Kampen"},{"$f":"'1-1000'!AH14529","v":1000},"A14529",":","AK14560",0,""]
[null,456,46,null,null,null,null,{"$f":"'1-1000'!AD14561","v":9},{"$f":"'1-1000'!K14561","v":"Kapelle"},{"$f":"'1-1000'!AH14561","v":1000},"A14561",":","AK14592",0,""]
[null,457,46,null,null,null,null,{"$f":"'1-1000'!AD14593","v":9},{"$f":"'1-1000'!K14593","v":"Katwijk Zh"},{"$f":"'1-1000'!AH14593","v":1000},"A14593",":","AK14624",0,""]
[null,458,46,null,null,null,null,{"$f":"'1-1000'!AD14625","v":9},{"$f":"'1-1000'!K14625","v":"Kerkrade"},{"$f":"'1-1000'!AH14625","v":917},"A14625",":","AK14656",83,""]
[null,459,46,null,null,null,null,{"$f":"'1-1000'!AD14657","v":9},{"$f":"'1-1000'!K14657","v":"Krd - Sint Pieterstraat (1)"},{"$f":"'1-1000'!AH14657","v":1000},"A14657",":","AK14688",0,""]
[null,460,46,null,null,null,null,{"$f":"'1-1000'!AD14689","v":9},{"$f":"'1-1000'!K14689","v":"Koog a/d Zaan"},{"$f":"'1-1000'!AH14689","v":1000},"A14689",":","AK14720",0,""]
[null,461,47,null,null,null,null,{"$f":"'1-1000'!AD14721","v":9},{"$f":"'1-1000'!K14721","v":"Kortgene"},{"$f":"'1-1000'!AH14721","v":1000},"A14721",":","AK14752",0,""]
[null,462,47,null,null,null,null,{"$f":"'1-1000'!AD14753","v":9},{"$f":"'1-1000'!K14753","v":"Krimpen a/d IJssel"},{"$f":"'1-1000'!AH14753","v":1000},"A14753",":","AK14784",0,""]
[null,463,47,null,null,null,null,{"$f":"'1-1000'!AD14785","v":9},{"$f":"'1-1000'!K14785","v":"Krommenie"},{"$f":"'1-1000'!AH14785","v":1000},"A14785",":","AK14816",0,""]
[null,464,47,null,null,null,null,{"$f":"'1-1000'!AD14817","v":1},{"$f":"'1-1000'!K14817","v":"Leerdam"},{"$f":"'1-1000'!AH14817","v":185},"A14817",":","AK14848",815,""]
[null,465,47,null,null,null,null,{"$f":"'1-1000'!AD14849","v":9},{"$f":"'1-1000'!K14849","v":"Leerdam (10)"},{"$f":"'1-1000'!AH14849","v":1000},"A14849",":","AK14880",0,""]
["x",466,47,null,null,null,null,{"$f":"'1-1000'!AD14881","v":3},{"$f":"'1-1000'!K14881","v":"Leeuwarden"},{"$f":"'1-1000'!AH14881","v":155},"A14881",":","AK14912",845,""]
[null,467,47,null,null,null,null,{"$f":"'1-1000'!AD14913","v":9},{"$f":"'1-1000'!K14913","v":"Lw - Stationsweg"},{"$f":"'1-1000'!AH14913","v":1000},"A14913",":","AK14944",0,""]
[null,468,47,null,null,null,null,{"$f":"'1-1000'!AD14945","v":9},{"$f":"'1-1000'!K14945","v":"Lw - Stationsweg (2)"},{"$f":"'1-1000'!AH14945","v":1000},"A14945",":","AK14976",0,""]
[null,469,47,null,null,null,null,{"$f":"'1-1000'!AD14977","v":9},{"$f":"'1-1000'!K14977","v":"Lw - Zuidersingel"},{"$f":"'1-1000'!AH14977","v":1000},"A14977",":","AK15008",0,""]
[null,470,47,null,null,null,null,{"$f":"'1-1000'!AD15009","v":2},{"$f":"'1-1000'!K15009","v":"Leiden"},{"$f":"'1-1000'!AH15009","v":358},"A15009",":","AK15040",642,""]
[null,471,48,null,null,null,null,{"$f":"'1-1000'!AD15041","v":9},{"$f":"'1-1000'!K15041","v":"Leiden (1)"},{"$f":"'1-1000'!AH15041","v":1000},"A15041",":","AK15072",0,""]
[null,472,48,null,null,null,null,{"$f":"'1-1000'!AD15073","v":9},{"$f":"'1-1000'!K15073","v":"Leiden (2)"},{"$f":"'1-1000'!AH15073","v":1000},"A15073",":","AK15104",0,""]
[null,473,48,null,null,null,null,{"$f":"'1-1000'!AD15105","v":9},{"$f":"'1-1000'!K15105","v":"Leiden (3)"},{"$f":"'1-1000'!AH15105","v":1000},"A15105",":","AK15136",0,""]
[null,474,48,null,null,null,null,{"$f":"'1-1000'!AD15137","v":9},{"$f":"'1-1000'!K15137","v":"Leiden (4)"},{"$f":"'1-1000'!AH15137","v":1000},"A15137",":","AK15168",0,""]
[null,475,48,null,null,null,null,{"$f":"'1-1000'!AD15169","v":9},{"$f":"'1-1000'!K15169","v":"Leiden (5)"},{"$f":"'1-1000'!AH15169","v":1000},"A15169",":","AK15200",0,""]
[null,476,48,null,null,null,null,{"$f":"'1-1000'!AD15201","v":9},{"$f":"'1-1000'!K15201","v":"Leiden (6)"},{"$f":"'1-1000'!AH15201","v":1000},"A15201",":","AK15232",0,""]
[null,477,48,null,null,null,null,{"$f":"'1-1000'!AD15233","v":9},{"$f":"'1-1000'!K15233","v":"Leiderdorp"},{"$f":"'1-1000'!AH15233","v":1000},"A15233",":","AK15264",0,""]
[null,478,48,null,null,null,null,{"$f":"'1-1000'!AD15265","v":9},{"$f":"'1-1000'!K15265","v":"Leidschendam"},{"$f":"'1-1000'!AH15265","v":1000},"A15265",":","AK15296",0,""]
[null,479,48,null,null,null,null,{"$f":"'1-1000'!AD15297","v":3},{"$f":"'1-1000'!K15297","v":"Lelystad"},{"$f":"'1-1000'!AH15297","v":568},"A15297",":","AK15328",432,""]
[null,480,48,null,null,null,null,{"$f":"'1-1000'!AD15329","v":9},{"$f":"'1-1000'!K15329","v":"Leusden"},{"$f":"'1-1000'!AH15329","v":1000},"A15329",":","AK15360",0,""]
[null,481,49,null,null,null,null,{"$f":"'1-1000'!AD15361","v":9},{"$f":"'1-1000'!K15361","v":"Leu - Centrum"},{"$f":"'1-1000'!AH15361","v":1000},"A15361",":","AK15392",0,""]
[null,482,49,null,null,null,null,{"$f":"'1-1000'!AD15393","v":9},{"$f":"'1-1000'!K15393","v":"Leu - Centrum (1)"},{"$f":"'1-1000'!AH15393","v":1000},"A15393",":","AK15424",0,""]
[null,483,49,null,null,null,null,{"$f":"'1-1000'!AD15425","v":9},{"$f":"'1-1000'!K15425","v":"Leu - Centrum (2)"},{"$f":"'1-1000'!AH15425","v":1000},"A15425",":","AK15456",0,""]
[null,484,49,null,null,null,null,{"$f":"'1-1000'!AD15457","v":9},{"$f":"'1-1000'!K15457","v":"Leu - Centrum (3)"},{"$f":"'1-1000'!AH15457","v":1000},"A15457",":","AK15488",0,""]
[null,485,49,null,null,null,null,{"$f":"'1-1000'!AD15489","v":9},{"$f":"'1-1000'!K15489","v":"Lichtenvoorde"},{"$f":"'1-1000'!AH15489","v":1000},"A15489",":","AK15520",0,""]
[null,486,49,null,null,null,null,{"$f":"'1-1000'!AD15521","v":9},{"$f":"'1-1000'!K15521","v":"De Lier"},{"$f":"'1-1000'!AH15521","v":1000},"A15521",":","AK15552",0,""]
[null,487,49,null,null,null,null,{"$f":"'1-1000'!AD15553","v":9},{"$f":"'1-1000'!K15553","v":"Lisse"},{"$f":"'1-1000'!AH15553","v":1000},"A15553",":","AK15584",0,""]
[null,488,49,null,null,null,null,{"$f":"'1-1000'!AD15585","v":9},{"$f":"'1-1000'!K15585","v":"Lisse (1)"},{"$f":"'1-1000'!AH15585","v":1000},"A15585",":","AK15616",0,""]
[null,489,49,null,null,null,null,{"$f":"'1-1000'!AD15617","v":9},{"$f":"'1-1000'!K15617","v":"Lochem"},{"$f":"'1-1000'!AH15617","v":1000},"A15617",":","AK15648",0,""]
[null,490,49,null,null,null,null,{"$f":"'1-1000'!AD15649","v":9},{"$f":"'1-1000'!K15649","v":"Loosdrecht"},{"$f":"'1-1000'!AH15649","v":1000},"A15649",":","AK15680",0,""]
[null,491,50,null,null,null,null,{"$f":"'1-1000'!AD15681","v":9},{"$f":"'1-1000'!K15681","v":"Luchthaven Schiphol"},{"$f":"'1-1000'!AH15681","v":954},"A15681",":","AK15712",46,""]
[null,492,50,null,null,null,null,{"$f":"'1-1000'!AD15713","v":9},{"$f":"'1-1000'!K15713","v":"Luchthaven Schiphol (1)"},{"$f":"'1-1000'!AH15713","v":1000},"A15713",":","AK15744",0,""]
[null,493,50,null,null,null,null,{"$f":"'1-1000'!AD15745","v":9},{"$f":"'1-1000'!K15745","v":"Maarn"},{"$f":"'1-1000'!AH15745","v":1000},"A15745",":","AK15776",0,""]
[null,494,50,null,null,null,null,{"$f":"'1-1000'!AD15777","v":9},{"$f":"'1-1000'!K15777","v":"Maarssen"},{"$f":"'1-1000'!AH15777","v":1000},"A15777",":","AK15808",0,""]
[null,495,50,null,null,null,null,{"$f":"'1-1000'!AD15809","v":9},{"$f":"'1-1000'!K15809","v":"Maarssen (1)"},{"$f":"'1-1000'!AH15809","v":1000},"A15809",":","AK15840",0,""]
[null,496,50,null,null,null,null,{"$f":"'1-1000'!AD15841","v":9},{"$f":"'1-1000'!K15841","v":"Maarssen (2)"},{"$f":"'1-1000'!AH15841","v":1000},"A15841",":","AK15872",0,""]
[null,497,50,null,null,null,null,{"$f":"'1-1000'!AD15873","v":9},{"$f":"'1-1000'!K15873","v":"Maarssen (3)"},{"$f":"'1-1000'!AH15873","v":1000},"A15873",":","AK15904",0,""]
[null,498,50,null,null,null,null,{"$f":"'1-1000'!AD15905","v":9},{"$f":"'1-1000'!K15905","v":"Maarssen (4)"},{"$f":"'1-1000'!AH15905","v":1000},"A15905",":","AK15936",0,""]
[null,499,50,null,null,null,null,{"$f":"'1-1000'!AD15937","v":9},{"$f":"'1-1000'!K15937","v":"Maassluis"},{"$f":"'1-1000'!AH15937","v":1000},"A15937",":","AK15968",0,""]
[null,500,50,null,null,null,null,{"$f":"'1-1000'!AD15969","v":9},{"$f":"'1-1000'!K15969","v":"Maassluis (1)"},{"$f":"'1-1000'!AH15969","v":1000},"A15969",":","AK16000",0,""]
["x",501,51,null,null,null,null,{"$f":"'1-1000'!AD16001","v":9},{"$f":"'1-1000'!K16001","v":"Mss - Rembrandtlaan"},{"$f":"'1-1000'!AH16001","v":1000},"A16001",":","AK16032",0,""]
[null,502,51,null,null,null,null,{"$f":"'1-1000'!AD16033","v":1},{"$f":"'1-1000'!K16033","v":"Maastricht"},{"$f":"'1-1000'!AH16033","v":23},"A16033",":","AK16064",977,""]
[null,503,51,null,null,null,null,{"$f":"'1-1000'!AD16065","v":9},{"$f":"'1-1000'!K16065","v":"Maastricht (1)"},{"$f":"'1-1000'!AH16065","v":1000},"A16065",":","AK16096",0,""]
[null,504,51,null,null,null,null,{"$f":"'1-1000'!AD16097","v":9},{"$f":"'1-1000'!K16097","v":"Maastricht (3)"},{"$f":"'1-1000'!AH16097","v":1000},"A16097",":","AK16128",0,""]
[null,505,51,null,null,null,null,{"$f":"'1-1000'!AD16129","v":9},{"$f":"'1-1000'!K16129","v":"Maastricht (6)"},{"$f":"'1-1000'!AH16129","v":1000},"A16129",":","AK16160",0,""]
[null,506,51,null,null,null,null,{"$f":"'1-1000'!AD16161","v":9},{"$f":"'1-1000'!K16161","v":"Mt - Ambyerstraat N"},{"$f":"'1-1000'!AH16161","v":1000},"A16161",":","AK16192",0,""]
[null,507,51,null,null,null,null,{"$f":"'1-1000'!AD16193","v":9},{"$f":"'1-1000'!K16193","v":"Mt - St Annalaan"},{"$f":"'1-1000'!AH16193","v":1000},"A16193",":","AK16224",0,""]
[null,508,51,null,null,null,null,{"$f":"'1-1000'!AD16225","v":9},{"$f":"'1-1000'!K16225","v":"Mt - Niels Bohrstraat"},{"$f":"'1-1000'!AH16225","v":1000},"A16225",":","AK16256",0,""]
[null,509,51,null,null,null,null,{"$f":"'1-1000'!AD16257","v":9},{"$f":"'1-1000'!K16257","v":"Mt - Duboisdomein"},{"$f":"'1-1000'!AH16257","v":935},"A16257",":","AK16288",65,""]
[null,510,51,null,null,null,null,{"$f":"'1-1000'!AD16289","v":9},{"$f":"'1-1000'!K16289","v":"Mt - Herculeshof"},{"$f":"'1-1000'!AH16289","v":1000},"A16289",":","AK16320",0,""]
[null,511,52,null,null,null,null,{"$f":"'1-1000'!AD16321","v":9},{"$f":"'1-1000'!K16321","v":"Mt - Pastoor Kribsweg"},{"$f":"'1-1000'!AH16321","v":1000},"A16321",":","AK16352",0,""]
[null,512,52,null,null,null,null,{"$f":"'1-1000'!AD16353","v":9},{"$f":"'1-1000'!K16353","v":"Mt - Malbergplein"},{"$f":"'1-1000'!AH16353","v":1000},"A16353",":","AK16384",0,""]
[null,513,52,null,null,null,null,{"$f":"'1-1000'!AD16385","v":9},{"$f":"'1-1000'!K16385","v":"Mt - Scharnerweg"},{"$f":"'1-1000'!AH16385","v":1000},"A16385",":","AK16416",0,{"$f":"IF(J514=0,\"COMPL\",\"\")","v":""}]
[null,514,52,null,null,null,null,{"$f":"'1-1000'!AD16417","v":0},{"$f":"'1-1000'!K16417","v":"Mt - Stationsstraat"},{"$f":"'1-1000'!AH16417","v":491},"A16417",":","AK16448",{"$f":"1000-J515","v":509},""]
[null,515,52,null,null,null,null,{"$f":"'1-1000'!AD16449","v":9},{"$f":"'1-1000'!K16449","v":"Mt - Vroom & Dreesmann"},{"$f":"'1-1000'!AH16449","v":1000},"A16449",":","AK16480",0,""]
[null,516,52,null,null,null,null,{"$f":"'1-1000'!AD16481","v":9},{"$f":"'1-1000'!K16481","v":"Made"},{"$f":"'1-1000'!AH16481","v":1000},"A16481",":","AK16512",0,""]
[null,517,52,null,null,null,null,{"$f":"'1-1000'!AD16513","v":9},{"$f":"'1-1000'!K16513","v":"Made (5)"},{"$f":"'1-1000'!AH16513","v":1000},"A16513",":","AK16544",0,""]
[null,518,52,null,null,null,null,{"$f":"'1-1000'!AD16545","v":9},{"$f":"'1-1000'!K16545","v":"De Meern"},{"$f":"'1-1000'!AH16545","v":1000},"A16545",":","AK16576",0,""]
[null,519,52,null,null,null,null,{"$f":"'1-1000'!AD16577","v":9},{"$f":"'1-1000'!K16577","v":"Meerssen"},{"$f":"'1-1000'!AH16577","v":1000},"A16577",":","AK16608",0,""]
[null,520,52,null,null,null,null,{"$f":"'1-1000'!AD16609","v":9},{"$f":"'1-1000'!K16609","v":"Megen"},{"$f":"'1-1000'!AH16609","v":1000},"A16609",":","AK16640",0,""]
[null,521,53,null,null,null,null,{"$f":"'1-1000'!AD16641","v":0},{"$f":"'1-1000'!K16641","v":"Meppel"},{"$f":"'1-1000'!AH16641","v":131},"A16641",":","AK16672",869,""]
[null,522,53,null,null,null,null,{"$f":"'1-1000'!AD16673","v":9},{"$f":"'1-1000'!K16673","v":"St. Michielsgestel"},{"$f":"'1-1000'!AH16673","v":1000},"A16673",":","AK16704",0,""]
[null,523,53,null,null,null,null,{"$f":"'1-1000'!AD16705","v":0},{"$f":"'1-1000'!K16705","v":"Middelburg"},{"$f":"'1-1000'!AH16705","v":51},"A16705",":","AK16736",949,""]
[null,524,53,null,null,null,null,{"$f":"'1-1000'!AD16737","v":9},{"$f":"'1-1000'!K16737","v":"Middelburg 2e"},{"$f":"'1-1000'!AH16737","v":1000},"A16737",":","AK16768",0,""]
[null,525,53,null,null,null,null,{"$f":"'1-1000'!AD16769","v":9},{"$f":"'1-1000'!K16769","v":"Middelburg (2)"},{"$f":"'1-1000'!AH16769","v":1000},"A16769",":","AK16800",0,""]
[null,526,53,null,null,null,null,{"$f":"'1-1000'!AD16801","v":9},{"$f":"'1-1000'!K16801","v":"Middelburg (4)"},{"$f":"'1-1000'!AH16801","v":1000},"A16801",":","AK16832",0,""]
[null,527,53,null,null,null,null,{"$f":"'1-1000'!AD16833","v":9},{"$f":"'1-1000'!K16833","v":"Middelharnis"},{"$f":"'1-1000'!AH16833","v":1000},"A16833",":","AK16864",0,""]
[null,528,53,null,null,null,null,{"$f":"'1-1000'!AD16865","v":9},{"$f":"'1-1000'!K16865","v":"Mill"},{"$f":"'1-1000'!AH16865","v":1000},"A16865",":","AK16896",0,""]
[null,529,53,null,null,null,null,{"$f":"'1-1000'!AD16897","v":9},{"$f":"'1-1000'!K16897","v":"Monster"},{"$f":"'1-1000'!AH16897","v":1000},"A16897",":","AK16928",0,""]
[null,530,53,null,null,null,null,{"$f":"'1-1000'!AD16929","v":9},{"$f":"'1-1000'!K16929","v":"Muiden"},{"$f":"'1-1000'!AH16929","v":1000},"A16929",":","AK16960",0,""]
["x",531,54,null,null,null,null,{"$f":"'1-1000'!AD16961","v":9},{"$f":"'1-1000'!K16961","v":"Muntendam"},{"$f":"'1-1000'!AH16961","v":1000},"A16961",":","AK16992",0,""]
[null,532,54,null,null,null,null,{"$f":"'1-1000'!AD16993","v":9},{"$f":"'1-1000'!K16993","v":"Mijdrecht"},{"$f":"'1-1000'!AH16993","v":1000},"A16993",":","AK17024",0,""]
[null,533,54,null,null,null,null,{"$f":"'1-1000'!AD17025","v":9},{"$f":"'1-1000'!K17025","v":"Naaldwijk"},{"$f":"'1-1000'!AH17025","v":1000},"A17025",":","AK17056",0,""]
["x",534,54,null,null,null,null,{"$f":"'1-1000'!AD17057","v":9},{"$f":"'1-1000'!K17057","v":"Naarden"},{"$f":"'1-1000'!AH17057","v":1000},"A17057",":","AK17088",0,""]
[null,535,54,null,null,null,null,{"$f":"'1-1000'!AD17089","v":9},{"$f":"'1-1000'!K17089","v":"Nieuwegein"},{"$f":"'1-1000'!AH17089","v":1000},"A17089",":","AK17120",0,""]
[null,536,54,null,null,null,null,{"$f":"'1-1000'!AD17121","v":9},{"$f":"'1-1000'!K17121","v":"Nieuwegein (1)"},{"$f":"'1-1000'!AH17121","v":1000},"A17121",":","AK17152",0,""]
[null,537,54,null,null,null,null,{"$f":"'1-1000'!AD17153","v":9},{"$f":"'1-1000'!K17153","v":"Nieuwegein (2)"},{"$f":"'1-1000'!AH17153","v":1000},"A17153",":","AK17184",0,""]
[null,538,54,null,null,null,null,{"$f":"'1-1000'!AD17185","v":9},{"$f":"'1-1000'!K17185","v":"Nieuwegein (3)"},{"$f":"'1-1000'!AH17185","v":1000},"A17185",":","AK17216",0,""]
[null,539,54,null,null,null,null,{"$f":"'1-1000'!AD17217","v":9},{"$f":"'1-1000'!K17217","v":"Nieuwendijk Nb"},{"$f":"'1-1000'!AH17217","v":1000},"A17217",":","AK17248",0,""]
[null,540,54,null,null,null,null,{"$f":"'1-1000'!AD17249","v":9},{"$f":"'1-1000'!K17249","v":"Nieuwerkerk a/d IJssel"},{"$f":"'1-1000'!AH17249","v":1000},"A17249",":","AK17280",0,""]
[null,541,55,null,null,null,null,{"$f":"'1-1000'!AD17281","v":9},{"$f":"'1-1000'!K17281","v":"Nieuw Vennep"},{"$f":"'1-1000'!AH17281","v":1000},"A17281",":","AK17312",0,""]
[null,542,55,null,null,null,null,{"$f":"'1-1000'!AD17313","v":9},{"$f":"'1-1000'!K17313","v":"Nieuw Vennep (10)"},{"$f":"'1-1000'!AH17313","v":1000},"A17313",":","AK17344",0,""]
[null,543,55,null,null,null,null,{"$f":"'1-1000'!AD17345","v":9},{"$f":"'1-1000'!K17345","v":"Nieuw Vennep (20)"},{"$f":"'1-1000'!AH17345","v":1000},"A17345",":","AK17376",0,""]
[null,544,55,null,null,null,null,{"$f":"'1-1000'!AD17377","v":9},{"$f":"'1-1000'!K17377","v":"Noordwijk"},{"$f":"'1-1000'!AH17377","v":1000},"A17377",":","AK17408",0,""]
[null,545,55,null,null,null,null,{"$f":"'1-1000'!AD17409","v":9},{"$f":"'1-1000'!K17409","v":"Noordwijk (1)"},{"$f":"'1-1000'!AH17409","v":1000},"A17409",":","AK17440",0,""]
[null,546,55,null,null,null,null,{"$f":"'1-1000'!AD17441","v":9},{"$f":"'1-1000'!K17441","v":"Noordwijk (2)"},{"$f":"'1-1000'!AH17441","v":1000},"A17441",":","AK17472",0,""]
[null,547,55,null,null,null,null,{"$f":"'1-1000'!AD17473","v":9},{"$f":"'1-1000'!K17473","v":"Noordwijkerhout"},{"$f":"'1-1000'!AH17473","v":1000},"A17473",":","AK17504",0,""]
[null,548,55,null,null,null,null,{"$f":"'1-1000'!AD17505","v":9},{"$f":"'1-1000'!K17505","v":"Nunspeet"},{"$f":"'1-1000'!AH17505","v":1000},"A17505",":","AK17536",0,""]
[null,549,55,null,null,null,null,{"$f":"'1-1000'!AD17537","v":9},{"$f":"'1-1000'!K17537","v":"Nunspeet (1)"},{"$f":"'1-1000'!AH17537","v":1000},"A17537",":","AK17568",0,""]
[null,550,55,null,null,null,null,{"$f":"'1-1000'!AD17569","v":9},{"$f":"'1-1000'!K17569","v":"Nijkerk Gld"},{"$f":"'1-1000'!AH17569","v":1000},"A17569",":","AK17600",0,""]
[null,551,56,null,null,null,null,{"$f":"'1-1000'!AD17601","v":9},{"$f":"'1-1000'!K17601","v":"Nijkerk Gld (1)"},{"$f":"'1-1000'!AH17601","v":1000},"A17601",":","AK17632",0,""]
[null,552,56,null,null,null,null,{"$f":"'1-1000'!AD17633","v":0},{"$f":"'1-1000'!K17633","v":"Nijmegen"},{"$f":"'1-1000'!AH17633","v":0},"A17633",":","AK17664",1000,"COMPL"]
[null,553,56,null,null,null,null,{"$f":"'1-1000'!AD17665","v":0},{"$f":"'1-1000'!K17665","v":"Nijmegen 2e"},{"$f":"'1-1000'!AH17665","v":21},"A17665",":","AK17696",979,""]
[null,554,56,null,null,null,null,{"$f":"'1-1000'!AD17697","v":9},{"$f":"'1-1000'!K17697","v":"Nm - Groenestraat"},{"$f":"'1-1000'!AH17697","v":1000},"A17697",":","AK17728",0,""]
[null,555,56,null,null,null,null,{"$f":"'1-1000'!AD17729","v":9},{"$f":"'1-1000'!K17729","v":"Nm - Molenweg"},{"$f":"'1-1000'!AH17729","v":1000},"A17729",":","AK17760",0,""]
[null,556,56,null,null,null,null,{"$f":"'1-1000'!AD17761","v":9},{"$f":"'1-1000'!K17761","v":"Nm - Stationsplein"},{"$f":"'1-1000'!AH17761","v":1000},"A17761",":","AK17792",0,""]
[null,557,56,null,null,null,null,{"$f":"'1-1000'!AD17793","v":9},{"$f":"'1-1000'!K17793","v":"Nm - Zwanenveld"},{"$f":"'1-1000'!AH17793","v":1000},"A17793",":","AK17824",0,""]
[null,558,56,null,null,null,null,{"$f":"'1-1000'!AD17825","v":9},{"$f":"'1-1000'!K17825","v":"Nijverdal"},{"$f":"'1-1000'!AH17825","v":1000},"A17825",":","AK17856",0,""]
[null,559,56,null,null,null,null,{"$f":"'1-1000'!AD17857","v":9},{"$f":"'1-1000'!K17857","v":"Nijverdal (1)"},{"$f":"'1-1000'!AH17857","v":1000},"A17857",":","AK17888",0,""]
[null,560,56,null,null,null,null,{"$f":"'1-1000'!AD17889","v":9},{"$f":"'1-1000'!K17889","v":"Nijverdal (2)"},{"$f":"'1-1000'!AH17889","v":1000},"A17889",":","AK17920",0,""]
[null,561,57,null,null,null,null,{"$f":"'1-1000'!AD17921","v":9},{"$f":"'1-1000'!K17921","v":"Sint Oedenrode"},{"$f":"'1-1000'!AH17921","v":1000},"A17921",":","AK17952",0,""]
[null,562,57,null,null,null,null,{"$f":"'1-1000'!AD17953","v":9},{"$f":"'1-1000'!K17953","v":"Oirschot"},{"$f":"'1-1000'!AH17953","v":1000},"A17953",":","AK17984",0,""]
[null,563,57,null,null,null,null,{"$f":"'1-1000'!AD17985","v":9},{"$f":"'1-1000'!K17985","v":"Oirschot (1)"},{"$f":"'1-1000'!AH17985","v":1000},"A17985",":","AK18016",0,""]
[null,564,57,null,null,null,null,{"$f":"'1-1000'!AD18017","v":9},{"$f":"'1-1000'!K18017","v":"Oisterwijk"},{"$f":"'1-1000'!AH18017","v":1000},"A18017",":","AK18048",0,""]
[null,565,57,null,null,null,null,{"$f":"'1-1000'!AD18049","v":9},{"$f":"'1-1000'!K18049","v":"Oldenzaal"},{"$f":"'1-1000'!AH18049","v":1000},"A18049",":","AK18080",0,""]
[null,566,57,null,null,null,null,{"$f":"'1-1000'!AD18081","v":9},{"$f":"'1-1000'!K18081","v":"Oldenzaal (1)"},{"$f":"'1-1000'!AH18081","v":1000},"A18081",":","AK18112",0,""]
[null,567,57,null,null,null,null,{"$f":"'1-1000'!AD18113","v":9},{"$f":"'1-1000'!K18113","v":"Ommen"},{"$f":"'1-1000'!AH18113","v":1000},"A18113",":","AK18144",0,""]
[null,568,57,null,null,null,null,{"$f":"'1-1000'!AD18145","v":9},{"$f":"'1-1000'!K18145","v":"Oostburg"},{"$f":"'1-1000'!AH18145","v":1000},"A18145",":","AK18176",0,""]
[null,569,57,null,null,null,null,{"$f":"'1-1000'!AD18177","v":9},{"$f":"'1-1000'!K18177","v":"Oosterbeek"},{"$f":"'1-1000'!AH18177","v":1000},"A18177",":","AK18208",0,""]
[null,570,57,null,null,null,null,{"$f":"'1-1000'!AD18209","v":9},{"$f":"'1-1000'!K18209","v":"Oosterhout Nb"},{"$f":"'1-1000'!AH18209","v":1000},"A18209",":","AK18240",0,""]
[null,571,58,null,null,null,null,{"$f":"'1-1000'!AD18241","v":9},{"$f":"'1-1000'!K18241","v":"Oosterhout Nb (5)"},{"$f":"'1-1000'!AH18241","v":1000},"A18241",":","AK18272",0,""]
[null,572,58,null,null,null,null,{"$f":"'1-1000'!AD18273","v":9},{"$f":"'1-1000'!K18273","v":"Oosterhout Nb (10)"},{"$f":"'1-1000'!AH18273","v":1000},"A18273",":","AK18304",0,""]
[null,573,58,null,null,null,null,{"$f":"'1-1000'!AD18305","v":9},{"$f":"'1-1000'!K18305","v":"Oosterhout Nb (15)"},{"$f":"'1-1000'!AH18305","v":1000},"A18305",":","AK18336",0,""]
[null,574,58,null,null,null,null,{"$f":"'1-1000'!AD18337","v":9},{"$f":"'1-1000'!K18337","v":"Oost Souburg"},{"$f":"'1-1000'!AH18337","v":1000},"A18337",":","AK18368",0,""]
[null,575,58,null,null,null,null,{"$f":"'1-1000'!AD18369","v":9},{"$f":"'1-1000'!K18369","v":"Oostvoorne"},{"$f":"'1-1000'!AH18369","v":1000},"A18369",":","AK18400",0,""]
[null,576,58,null,null,null,null,{"$f":"'1-1000'!AD18401","v":9},{"$f":"'1-1000'!K18401","v":"Oostzaan"},{"$f":"'1-1000'!AH18401","v":1000},"A18401",":","AK18432",0,""]
[null,577,58,null,null,null,null,{"$f":"'1-1000'!AD18433","v":0},{"$f":"'1-1000'!K18433","v":"Oss"},{"$f":"'1-1000'!AH18433","v":66},"A18433",":","AK18464",934,{"$f":"IF(J578=0,\"COMPL\",\"\")","v":""}]
[null,578,58,null,null,null,null,{"$f":"'1-1000'!AD18465","v":9},{"$f":"'1-1000'!K18465","v":"Oud Beijerland"},{"$f":"'1-1000'!AH18465","v":1000},"A18465",":","AK18496",{"$f":"1000-J579","v":0},""]
[null,579,58,null,null,null,null,{"$f":"'1-1000'!AD18497","v":9},{"$f":"'1-1000'!K18497","v":"Ouddorp Zh"},{"$f":"'1-1000'!AH18497","v":1000},"A18497",":","AK18528",0,""]
[null,580,58,null,null,null,null,{"$f":"'1-1000'!AD18529","v":9},{"$f":"'1-1000'!K18529","v":"Oudenbosch"},{"$f":"'1-1000'!AH18529","v":1000},"A18529",":","AK18560",0,""]
[null,581,59,null,null,null,null,{"$f":"'1-1000'!AD18561","v":9},{"$f":"'1-1000'!K18561","v":"Papendrecht"},{"$f":"'1-1000'!AH18561","v":1000},"A18561",":","AK18592",0,""]
[null,582,59,null,null,null,null,{"$f":"'1-1000'!AD18593","v":9},{"$f":"'1-1000'!K18593","v":"Purmerend"},{"$f":"'1-1000'!AH18593","v":1000},"A18593",":","AK18624",0,""]
[null,583,59,null,null,null,null,{"$f":"'1-1000'!AD18625","v":9},{"$f":"'1-1000'!K18625","v":"Putten Gld"},{"$f":"'1-1000'!AH18625","v":1000},"A18625",":","AK18656",0,""]
[null,584,59,null,null,null,null,{"$f":"'1-1000'!AD18657","v":9},{"$f":"'1-1000'!K18657","v":"Pijnacker"},{"$f":"'1-1000'!AH18657","v":1000},"A18657",":","AK18688",0,""]
[null,585,59,null,null,null,null,{"$f":"'1-1000'!AD18689","v":9},{"$f":"'1-1000'!K18689","v":"Raalte"},{"$f":"'1-1000'!AH18689","v":1000},"A18689",":","AK18720",0,""]
[null,586,59,null,null,null,null,{"$f":"'1-1000'!AD18721","v":9},{"$f":"'1-1000'!K18721","v":"Raamsdonksveer"},{"$f":"'1-1000'!AH18721","v":1000},"A18721",":","AK18752",0,""]
["x",587,59,null,null,null,null,{"$f":"'1-1000'!AD18753","v":9},{"$f":"'1-1000'!K18753","v":"Reeuwijk"},{"$f":"'1-1000'!AH18753","v":1000},"A18753",":","AK18784",0,""]
[null,588,59,null,null,null,null,{"$f":"'1-1000'!AD18785","v":9},{"$f":"'1-1000'!K18785","v":"Renkum"},{"$f":"'1-1000'!AH18785","v":1000},"A18785",":","AK18816",0,""]
[null,589,59,null,null,null,null,{"$f":"'1-1000'!AD18817","v":8},{"$f":"'1-1000'!K18817","v":"Rheden"},{"$f":"'1-1000'!AH18817","v":903},"A18817",":","AK18848",97,""]
[null,590,59,null,null,null,null,{"$f":"'1-1000'!AD18849","v":9},{"$f":"'1-1000'!K18849","v":"Rhenen"},{"$f":"'1-1000'!AH18849","v":1000},"A18849",":","AK18880",0,""]
[null,591,60,null,null,null,null,{"$f":"'1-1000'!AD18881","v":9},{"$f":"'1-1000'!K18881","v":"Rhoon"},{"$f":"'1-1000'!AH18881","v":1000},"A18881",":","AK18912",0,""]
[null,592,60,null,null,null,null,{"$f":"'1-1000'!AD18913","v":2},{"$f":"'1-1000'!K18913","v":"Ridderkerk"},{"$f":"'1-1000'!AH18913","v":334},"A18913",":","AK18944",666,""]
[null,593,60,null,null,null,null,{"$f":"'1-1000'!AD18945","v":9},{"$f":"'1-1000'!K18945","v":"Ridderkerk (40)"},{"$f":"'1-1000'!AH18945","v":1000},"A18945",":","AK18976",0,""]
[null,594,60,null,null,null,null,{"$f":"'1-1000'!AD18977","v":9},{"$f":"'1-1000'!K18977","v":"Roden"},{"$f":"'1-1000'!AH18977","v":1000},"A18977",":","AK19008",0,""]
[null,595,60,null,null,null,null,{"$f":"'1-1000'!AD19009","v":9},{"$f":"'1-1000'!K19009","v":"Roden (1)"},{"$f":"'1-1000'!AH19009","v":1000},"A19009",":","AK19040",0,""]
[null,596,60,null,null,null,null,{"$f":"'1-1000'!AD19041","v":9},{"$f":"'1-1000'!K19041","v":"Roelofarendsveen"},{"$f":"'1-1000'!AH19041","v":1000},"A19041",":","AK19072",0,""]
[null,597,60,null,null,null,null,{"$f":"'1-1000'!AD19073","v":1},{"$f":"'1-1000'!K19073","v":"Roermond"},{"$f":"'1-1000'!AH19073","v":157},"A19073",":","AK19104",843,""]
[null,598,60,null,null,null,null,{"$f":"'1-1000'!AD19105","v":9},{"$f":"'1-1000'!K19105","v":"Roermond (1)"},{"$f":"'1-1000'!AH19105","v":1000},"A19105",":","AK19136",0,""]
[null,599,60,null,null,null,null,{"$f":"'1-1000'!AD19137","v":0},{"$f":"'1-1000'!K19137","v":"Roosendaal"},{"$f":"'1-1000'!AH19137","v":73},"A19137",":","AK19168",927,""]
[null,600,60,null,null,null,null,{"$f":"'1-1000'!AD19169","v":9},{"$f":"'1-1000'!K19169","v":"Roosendaal (1)"},{"$f":"'1-1000'!AH19169","v":1000},"A19169",":","AK19200",0,""]
[null,601,61,null,null,null,null,{"$f":"'1-1000'!AD19201","v":9},{"$f":"'1-1000'!K19201","v":"Rsd - Kadeplein"},{"$f":"'1-1000'!AH19201","v":1000},"A19201",":","AK19232",0,""]
[null,602,61,null,null,null,null,{"$f":"'1-1000'!AD19233","v":9},{"$f":"'1-1000'!K19233","v":"Rsd - Kadeplein (1)"},{"$f":"'1-1000'!AH19233","v":1000},"A19233",":","AK19264",0,""]
[null,603,61,null,null,null,null,{"$f":"'1-1000'!AD19265","v":9},{"$f":"'1-1000'!K19265","v":"Rosmalen"},{"$f":"'1-1000'!AH19265","v":1000},"A19265",":","AK19296",0,""]
["x",604,61,null,null,null,null,{"$f":"'1-1000'!AD19297","v":0},{"$f":"'1-1000'!K19297","v":"Rotterdam"},{"$f":"'1-1000'!AH19297","v":75},"A19297",":","AK19328",925,""]
["x",605,61,null,null,null,null,{"$f":"'1-1000'!AD19329","v":9},{"$f":"'1-1000'!K19329","v":"Rotterdam (2)"},{"$f":"'1-1000'!AH19329","v":1000},"A19329",":","AK19360",0,""]
[null,606,61,null,null,null,null,{"$f":"'1-1000'!AD19361","v":9},{"$f":"'1-1000'!K19361","v":"Rotterdam (12)"},{"$f":"'1-1000'!AH19361","v":1000},"A19361",":","AK19392",0,""]
[null,607,61,null,null,null,null,{"$f":"'1-1000'!AD19393","v":9},{"$f":"'1-1000'!K19393","v":"Rotterdam (13)"},{"$f":"'1-1000'!AH19393","v":1000},"A19393",":","AK19424",0,""]
[null,608,61,null,null,null,null,{"$f":"'1-1000'!AD19425","v":9},{"$f":"'1-1000'!K19425","v":"Rotterdam (15)"},{"$f":"'1-1000'!AH19425","v":1000},"A19425",":","AK19456",0,""]
[null,609,61,null,null,null,null,{"$f":"'1-1000'!AD19457","v":9},{"$f":"'1-1000'!K19457","v":"Rt - Aelbrechtskade"},{"$f":"'1-1000'!AH19457","v":1000},"A19457",":","AK19488",0,""]
[null,610,61,null,null,null,null,{"$f":"'1-1000'!AD19489","v":9},{"$f":"'1-1000'!K19489","v":"Rt - Ambachtsplein"},{"$f":"'1-1000'!AH19489","v":1000},"A19489",":","AK19520",0,""]
[null,611,62,null,null,null,null,{"$f":"'1-1000'!AD19521","v":9},{"$f":"'1-1000'!K19521","v":"Rt - Burg Baumannlaan"},{"$f":"'1-1000'!AH19521","v":1000},"A19521",":","AK19552",0,""]
[null,612,62,null,null,null,null,{"$f":"'1-1000'!AD19553","v":9},{"$f":"'1-1000'!K19553","v":"Rt - Bergse Dorpsstraat"},{"$f":"'1-1000'!AH19553","v":1000},"A19553",":","AK19584",0,""]
[null,613,62,null,null,null,null,{"$f":"'1-1000'!AD19585","v":9},{"$f":"'1-1000'!K19585","v":"Rt - Beijerlandselaan"},{"$f":"'1-1000'!AH19585","v":1000},"A19585",":","AK19616",0,""]
[null,614,62,null,null,null,null,{"$f":"'1-1000'!AD19617","v":9},{"$f":"'1-1000'!K19617","v":"Rt - Brede Hilledijk"},{"$f":"'1-1000'!AH19617","v":1000},"A19617",":","AK19648",0,""]
[null,615,62,null,null,null,null,{"$f":"'1-1000'!AD19649","v":9},{"$f":"'1-1000'!K19649","v":"Rt - Bijlstraat"},{"$f":"'1-1000'!AH19649","v":702},"A19649",":","AK19680",298,""]
[null,616,62,null,null,null,null,{"$f":"'1-1000'!AD19681","v":6},{"$f":"'1-1000'!K19681","v":"Rt - Bijlstraat (1)"},{"$f":"'1-1000'!AH19681","v":734},"A19681",":","AK19712",266,""]
[null,617,62,null,null,null,null,{"$f":"'1-1000'!AD19713","v":9},{"$f":"'1-1000'!K19713","v":"Rt - Centrum"},{"$f":"'1-1000'!AH19713","v":1000},"A19713",":","AK19744",0,""]
[null,618,62,null,null,null,null,{"$f":"'1-1000'!AD19745","v":9},{"$f":"'1-1000'!K19745","v":"Rt - Centrum (1)"},{"$f":"'1-1000'!AH19745","v":1000},"A19745",":","AK19776",0,""]
[null,619,62,null,null,null,null,{"$f":"'1-1000'!AD19777","v":9},{"$f":"'1-1000'!K19777","v":"Rt - Centrum (2)"},{"$f":"'1-1000'!AH19777","v":1000},"A19777",":","AK19808",0,""]
[null,620,62,null,null,null,null,{"$f":"'1-1000'!AD19809","v":9},{"$f":"'1-1000'!K19809","v":"Rt - Centrum (3)"},{"$f":"'1-1000'!AH19809","v":1000},"A19809",":","AK19840",0,""]
[null,621,63,null,null,null,null,{"$f":"'1-1000'!AD19841","v":0},{"$f":"'1-1000'!K19841","v":"Rt - Coolsingel"},{"$f":"'1-1000'!AH19841","v":71},"A19841",":","AK19872",929,""]
[null,622,63,null,null,null,null,{"$f":"'1-1000'!AD19873","v":9},{"$f":"'1-1000'!K19873","v":"Rt - Coolsingel (1)"},{"$f":"'1-1000'!AH19873","v":1000},"A19873",":","AK19904",0,""]
[null,623,63,null,null,null,null,{"$f":"'1-1000'!AD19905","v":9},{"$f":"'1-1000'!K19905","v":"Rt - Coolsingel (2)"},{"$f":"'1-1000'!AH19905","v":1000},"A19905",":","AK19936",0,""]
[null,624,63,null,null,null,null,{"$f":"'1-1000'!AD19937","v":9},{"$f":"'1-1000'!K19937","v":"Rt - Coolsingel (3)"},{"$f":"'1-1000'!AH19937","v":1000},"A19937",":","AK19968",0,""]
[null,625,63,null,null,null,null,{"$f":"'1-1000'!AD19969","v":0},{"$f":"'1-1000'!K19969","v":"Rt - Delftseplein"},{"$f":"'1-1000'!AH19969","v":0},"A19969",":","AK20000",1000,"COMPL"]
[null,626,63,null,null,null,null,{"$f":"'1-1000'!AD20001","v":0},{"$f":"'1-1000'!K20001","v":"Rt - Delftseplein 2e"},{"$f":"'1-1000'!AH20001","v":41},"A20001",":","AK20032",959,""]
[null,627,63,null,null,null,null,{"$f":"'1-1000'!AD20033","v":0},{"$f":"'1-1000'!K20033","v":"Rt - Delftseplein (1)"},{"$f":"'1-1000'!AH20033","v":4},"A20033",":","AK20064",996,""]
[null,628,63,null,null,null,null,{"$f":"'1-1000'!AD20065","v":9},{"$f":"'1-1000'!K20065","v":"Rt - Delftseplein (1) 2e"},{"$f":"'1-1000'!AH20065","v":1000},"A20065",":","AK20096",0,""]
[null,629,63,null,null,null,null,{"$f":"'1-1000'!AD20097","v":9},{"$f":"'1-1000'!K20097","v":"Rt - Delftseplein (3)"},{"$f":"'1-1000'!AH20097","v":1000},"A20097",":","AK20128",0,""]
[null,630,63,null,null,null,null,{"$f":"'1-1000'!AD20129","v":9},{"$f":"'1-1000'!K20129","v":"Rt - Dordtselaan"},{"$f":"'1-1000'!AH20129","v":1000},"A20129",":","AK20160",0,""]
[null,631,64,null,null,null,null,{"$f":"'1-1000'!AD20161","v":2},{"$f":"'1-1000'!K20161","v":"Rt - Dordtselaan (1)"},{"$f":"'1-1000'!AH20161","v":366},"A20161",":","AK20192",634,""]
[null,632,64,null,null,null,null,{"$f":"'1-1000'!AD20193","v":9},{"$f":"'1-1000'!K20193","v":"Rt - Ganzerikplein"},{"$f":"'1-1000'!AH20193","v":1000},"A20193",":","AK20224",0,""]
["x",633,64,null,null,null,null,{"$f":"'1-1000'!AD20225","v":9},{"$f":"'1-1000'!K20225","v":"Rt - Goudsesingel"},{"$f":"'1-1000'!AH20225","v":1000},"A20225",":","AK20256",0,""]
["x",634,64,null,null,null,null,{"$f":"'1-1000'!AD20257","v":9},{"$f":"'1-1000'!K20257","v":"Rt - Groothandelsgebouw"},{"$f":"'1-1000'!AH20257","v":1000},"A20257",":","AK20288",0,""]
[null,635,64,null,null,null,null,{"$f":"'1-1000'!AD20289","v":9},{"$f":"'1-1000'!K20289","v":"Rt - Witte van Haemstedestraat"},{"$f":"'1-1000'!AH20289","v":1000},"A20289",":","AK20320",0,""]
[null,636,64,null,null,null,null,{"$f":"'1-1000'!AD20321","v":9},{"$f":"'1-1000'!K20321","v":"Rt - Witte van Haemstedestraat (1)"},{"$f":"'1-1000'!AH20321","v":1000},"A20321",":","AK20352",0,""]
[null,637,64,null,null,null,null,{"$f":"'1-1000'!AD20353","v":8},{"$f":"'1-1000'!K20353","v":"Rt - Prins Hendrikkade"},{"$f":"'1-1000'!AH20353","v":714},"A20353",":","AK20384",286,""]
[null,638,64,null,null,null,null,{"$f":"'1-1000'!AD20385","v":9},{"$f":"'1-1000'!K20385","v":"Rt - Kleiweg"},{"$f":"'1-1000'!AH20385","v":1000},"A20385",":","AK20416",0,""]
[null,639,64,null,null,null,null,{"$f":"'1-1000'!AD20417","v":9},{"$f":"'1-1000'!K20417","v":"Rt - Lepelaarsingel"},{"$f":"'1-1000'!AH20417","v":1000},"A20417",":","AK20448",0,""]
[null,640,64,null,null,null,null,{"$f":"'1-1000'!AD20449","v":9},{"$f":"'1-1000'!K20449","v":"Rt - Lepelaarsingel (1)"},{"$f":"'1-1000'!AH20449","v":1000},"A20449",":","AK20480",0,""]
[null,641,65,null,null,null,null,{"$f":"'1-1000'!AD20481","v":9},{"$f":"'1-1000'!K20481","v":"Rt - Luchthaven Zestienhoven"},{"$f":"'1-1000'!AH20481","v":1000},"A20481",":","AK20512",0,{"$f":"IF(J642=0,\"COMPL\",\"\")","v":""}]
[null,642,65,null,null,null,null,{"$f":"'1-1000'!AD20513","v":9},{"$f":"'1-1000'!K20513","v":"Rt - Mathenesserlaan"},{"$f":"'1-1000'!AH20513","v":1000},"A20513",":","AK20544",{"$f":"1000-J643","v":0},""]
[null,643,65,null,null,null,null,{"$f":"'1-1000'!AD20545","v":9},{"$f":"'1-1000'!K20545","v":"Rt - Mathenesserlaan (1)"},{"$f":"'1-1000'!AH20545","v":1000},"A20545",":","AK20576",0,""]
[null,644,65,null,null,null,null,{"$f":"'1-1000'!AD20577","v":9},{"$f":"'1-1000'!K20577","v":"Rt - Mathenesserplein"},{"$f":"'1-1000'!AH20577","v":1000},"A20577",":","AK20608",0,""]
["x",645,65,null,null,null,null,{"$f":"'1-1000'!AD20609","v":9},{"$f":"'1-1000'!K20609","v":"Rt - Nieuwe Binnenweg"},{"$f":"'1-1000'!AH20609","v":1000},"A20609",":","AK20640",0,""]
["x",646,65,null,null,null,null,{"$f":"'1-1000'!AD20641","v":9},{"$f":"'1-1000'!K20641","v":"Rt - Oost"},{"$f":"'1-1000'!AH20641","v":1000},"A20641",":","AK20672",0,""]
["x",647,65,null,null,null,null,{"$f":"'1-1000'!AD20673","v":9},{"$f":"'1-1000'!K20673","v":"Rt - Pegasusweg"},{"$f":"'1-1000'!AH20673","v":1000},"A20673",":","AK20704",0,""]
["x",648,65,null,null,null,null,{"$f":"'1-1000'!AD20705","v":9},{"$f":"'1-1000'!K20705","v":"Rt - Burg Roosstraat"},{"$f":"'1-1000'!AH20705","v":1000},"A20705",":","AK20736",0,""]
["x",649,65,null,null,null,null,{"$f":"'1-1000'!AD20737","v":9},{"$f":"'1-1000'!K20737","v":"Rt - Schieweg"},{"$f":"'1-1000'!AH20737","v":1000},"A20737",":","AK20768",0,""]
[null,650,65,null,null,null,null,{"$f":"'1-1000'!AD20769","v":9},{"$f":"'1-1000'!K20769","v":"Rt - Schieweg (1)"},{"$f":"'1-1000'!AH20769","v":1000},"A20769",":","AK20800",0,""]
[null,651,66,null,null,null,null,{"$f":"'1-1000'!AD20801","v":7},{"$f":"'1-1000'!K20801","v":"Rt - Slaak"},{"$f":"'1-1000'!AH20801","v":720},"A20801",":","AK20832",280,""]
[null,652,66,null,null,null,null,{"$f":"'1-1000'!AD20833","v":9},{"$f":"'1-1000'!K20833","v":"Rt - Slinge 409 Zuidwijk"},{"$f":"'1-1000'!AH20833","v":1000},"A20833",":","AK20864",0,""]
[null,653,66,null,null,null,null,{"$f":"'1-1000'!AD20865","v":0},{"$f":"'1-1000'!K20865","v":"Rt - Slinge 564 (Pendrecht)"},{"$f":"'1-1000'!AH20865","v":179},"A20865",":","AK20896",821,""]
["x",654,66,null,null,null,null,{"$f":"'1-1000'!AD20897","v":3},{"$f":"'1-1000'!K20897","v":"Rt - Slinge 564 (Pendrecht) (1)"},{"$f":"'1-1000'!AH20897","v":589},"A20897",":","AK20928",411,""]
[null,655,66,null,null,null,null,{"$f":"'1-1000'!AD20929","v":9},{"$f":"'1-1000'!K20929","v":"Rt - Spinozaweg"},{"$f":"'1-1000'!AH20929","v":1000},"A20929",":","AK20960",0,""]
[null,656,66,null,null,null,null,{"$f":"'1-1000'!AD20961","v":0},{"$f":"'1-1000'!K20961","v":"Rt - v Vollenhovenstraat"},{"$f":"'1-1000'!AH20961","v":0},"A20961",":","AK20992",1000,"COMPL"]
[null,657,66,null,null,null,null,{"$f":"'1-1000'!AD20993","v":3},{"$f":"'1-1000'!K20993","v":"Rt - v Vollenhovenstraat (1)"},{"$f":"'1-1000'!AH20993","v":155},"A20993",":","AK21024",845,""]
[null,658,66,null,null,null,null,{"$f":"'1-1000'!AD21025","v":0},{"$f":"'1-1000'!K21025","v":"Rt - van Vollenhovenstraat"},{"$f":"'1-1000'!AH21025","v":46},"A21025",":","AK21056",954,""]
[null,659,66,null,null,null,null,{"$f":"'1-1000'!AD21057","v":1},{"$f":"'1-1000'!K21057","v":"Rt - van Vollenhovenstraat (1)"},{"$f":"'1-1000'!AH21057","v":86},"A21057",":","AK21088",914,""]
["x",660,66,null,null,null,null,{"$f":"'1-1000'!AD21089","v":9},{"$f":"'1-1000'!K21089","v":"Rt - Walenburgerweg"},{"$f":"'1-1000'!AH21089","v":1000},"A21089",":","AK21120",0,""]
[null,661,67,null,null,null,null,{"$f":"'1-1000'!AD21121","v":9},{"$f":"'1-1000'!K21121","v":"Rt - Westzeedijk"},{"$f":"'1-1000'!AH21121","v":1000},"A21121",":","AK21152",0,""]
[null,662,67,null,null,null,null,{"$f":"'1-1000'!AD21153","v":9},{"$f":"'1-1000'!K21153","v":"Rt - IJsselmonde"},{"$f":"'1-1000'!AH21153","v":1000},"A21153",":","AK21184",0,""]
[null,663,67,null,null,null,null,{"$f":"'1-1000'!AD21185","v":9},{"$f":"'1-1000'!K21185","v":"Rt - IJsselmonde (10)"},{"$f":"'1-1000'!AH21185","v":1000},"A21185",":","AK21216",0,""]
[null,664,67,null,null,null,null,{"$f":"'1-1000'!AD21217","v":9},{"$f":"'1-1000'!K21217","v":"Rt - IJsselmonde (20)"},{"$f":"'1-1000'!AH21217","v":1000},"A21217",":","AK21248",0,""]
[null,665,67,null,null,null,null,{"$f":"'1-1000'!AD21249","v":9},{"$f":"'1-1000'!K21249","v":"Rt - IJsselmonde (30)"},{"$f":"'1-1000'!AH21249","v":1000},"A21249",":","AK21280",0,""]
[null,666,67,null,null,null,null,{"$f":"'1-1000'!AD21281","v":4},{"$f":"'1-1000'!K21281","v":"Rozenburg"},{"$f":"'1-1000'!AH21281","v":435},"A21281",":","AK21312",565,""]
[null,667,67,null,null,null,null,{"$f":"'1-1000'!AD21313","v":9},{"$f":"'1-1000'!K21313","v":"Rozenburg (1)"},{"$f":"'1-1000'!AH21313","v":1000},"A21313",":","AK21344",0,""]
[null,668,67,null,null,null,null,{"$f":"'1-1000'!AD21345","v":9},{"$f":"'1-1000'!K21345","v":"Rozenburg (2)"},{"$f":"'1-1000'!AH21345","v":1000},"A21345",":","AK21376",0,""]
[null,669,"Inst.",null,null,null,null,{"$f":"'1-1000'!AD21377","v":0},{"$f":"'1-1000'!K21377","v":"Rijdende Postkantoren"},{"$f":"'1-1000'!AH21377","v":0},"A21377",":","AK21408",1000,"COMPL"]
[null,670,67,null,null,null,null,{"$f":"'1-1000'!AD21409","v":9},{"$f":"'1-1000'!K21409","v":"Rijen"},{"$f":"'1-1000'!AH21409","v":1000},"A21409",":","AK21440",0,""]
[null,671,68,null,null,null,null,{"$f":"'1-1000'!AD21441","v":9},{"$f":"'1-1000'!K21441","v":"Rijnsburg"},{"$f":"'1-1000'!AH21441","v":1000},"A21441",":","AK21472",0,""]
[null,672,68,null,null,null,null,{"$f":"'1-1000'!AD21473","v":9},{"$f":"'1-1000'!K21473","v":"Rijssen"},{"$f":"'1-1000'!AH21473","v":1000},"A21473",":","AK21504",0,""]
[null,673,68,null,null,null,null,{"$f":"'1-1000'!AD21505","v":9},{"$f":"'1-1000'!K21505","v":"Rijswijk Nb"},{"$f":"'1-1000'!AH21505","v":1000},"A21505",":","AK21536",0,""]
[null,674,68,null,null,null,null,{"$f":"'1-1000'!AD21537","v":9},{"$f":"'1-1000'!K21537","v":"Rijswijk Zh"},{"$f":"'1-1000'!AH21537","v":1000},"A21537",":","AK21568",0,""]
[null,675,68,null,null,null,null,{"$f":"'1-1000'!AD21569","v":9},{"$f":"'1-1000'!K21569","v":"Rijswijk Zh (2)"},{"$f":"'1-1000'!AH21569","v":1000},"A21569",":","AK21600",0,""]
[null,676,68,null,null,null,null,{"$f":"'1-1000'!AD21601","v":9},{"$f":"'1-1000'!K21601","v":"Rwk - Haagweg"},{"$f":"'1-1000'!AH21601","v":1000},"A21601",":","AK21632",0,""]
[null,677,68,null,null,null,null,{"$f":"'1-1000'!AD21633","v":9},{"$f":"'1-1000'!K21633","v":"Rwk - Huis te Landelaan"},{"$f":"'1-1000'!AH21633","v":1000},"A21633",":","AK21664",0,""]
[null,678,68,null,null,null,null,{"$f":"'1-1000'!AD21665","v":9},{"$f":"'1-1000'!K21665","v":"Santpoort Noord"},{"$f":"'1-1000'!AH21665","v":1000},"A21665",":","AK21696",0,""]
[null,679,68,null,null,null,null,{"$f":"'1-1000'!AD21697","v":9},{"$f":"'1-1000'!K21697","v":"Sappemeer"},{"$f":"'1-1000'!AH21697","v":1000},"A21697",":","AK21728",0,""]
[null,680,68,null,null,null,null,{"$f":"'1-1000'!AD21729","v":9},{"$f":"'1-1000'!K21729","v":"Sassenheim"},{"$f":"'1-1000'!AH21729","v":1000},"A21729",":","AK21760",0,""]
[null,681,69,null,null,null,null,{"$f":"'1-1000'!AD21761","v":9},{"$f":"'1-1000'!K21761","v":"Sassenheim (1)"},{"$f":"'1-1000'!AH21761","v":1000},"A21761",":","AK21792",0,""]
[null,682,69,null,null,null,null,{"$f":"'1-1000'!AD21793","v":9},{"$f":"'1-1000'!K21793","v":"Sassenheim (2)"},{"$f":"'1-1000'!AH21793","v":1000},"A21793",":","AK21824",0,""]
[null,683,69,null,null,null,null,{"$f":"'1-1000'!AD21825","v":9},{"$f":"'1-1000'!K21825","v":"Sas van Gent"},{"$f":"'1-1000'!AH21825","v":999},"A21825",":","AK21856",1,""]
[null,684,69,null,null,null,null,{"$f":"'1-1000'!AD21857","v":9},{"$f":"'1-1000'!K21857","v":"Schagen"},{"$f":"'1-1000'!AH21857","v":1000},"A21857",":","AK21888",0,""]
[null,685,69,null,null,null,null,{"$f":"'1-1000'!AD21889","v":9},{"$f":"'1-1000'!K21889","v":"Schagen (1)"},{"$f":"'1-1000'!AH21889","v":1000},"A21889",":","AK21920",0,""]
[null,686,69,null,null,null,null,{"$f":"'1-1000'!AD21921","v":9},{"$f":"'1-1000'!K21921","v":"Schagen (2)"},{"$f":"'1-1000'!AH21921","v":1000},"A21921",":","AK21952",0,""]
[null,687,69,null,null,null,null,{"$f":"'1-1000'!AD21953","v":2},{"$f":"'1-1000'!K21953","v":"Schiedam"},{"$f":"'1-1000'!AH21953","v":160},"A21953",":","AK21984",840,""]
[null,688,69,null,null,null,null,{"$f":"'1-1000'!AD21985","v":9},{"$f":"'1-1000'!K21985","v":"Schiedam (1)"},{"$f":"'1-1000'!AH21985","v":1000},"A21985",":","AK22016",0,""]
[null,689,69,null,null,null,null,{"$f":"'1-1000'!AD22017","v":9},{"$f":"'1-1000'!K22017","v":"Schiedam (2)"},{"$f":"'1-1000'!AH22017","v":1000},"A22017",":","AK22048",0,""]
[null,690,69,null,null,null,null,{"$f":"'1-1000'!AD22049","v":9},{"$f":"'1-1000'!K22049","v":"Schiedam (3)"},{"$f":"'1-1000'!AH22049","v":1000},"A22049",":","AK22080",0,""]
[null,691,70,null,null,null,null,{"$f":"'1-1000'!AD22081","v":9},{"$f":"'1-1000'!K22081","v":"Schiedam (4)"},{"$f":"'1-1000'!AH22081","v":1000},"A22081",":","AK22112",0,""]
[null,692,70,null,null,null,null,{"$f":"'1-1000'!AD22113","v":9},{"$f":"'1-1000'!K22113","v":"Sdm - Bachplein"},{"$f":"'1-1000'!AH22113","v":1000},"A22113",":","AK22144",0,""]
[null,693,70,null,null,null,null,{"$f":"'1-1000'!AD22145","v":9},{"$f":"'1-1000'!K22145","v":"Sdm - Bachplein (1)"},{"$f":"'1-1000'!AH22145","v":1000},"A22145",":","AK22176",0,""]
[null,694,70,null,null,null,null,{"$f":"'1-1000'!AD22177","v":9},{"$f":"'1-1000'!K22177","v":"Sdm - Dieselstraat"},{"$f":"'1-1000'!AH22177","v":1000},"A22177",":","AK22208",0,""]
[null,695,70,null,null,null,null,{"$f":"'1-1000'!AD22209","v":9},{"$f":"'1-1000'!K22209","v":"Sdm - Mgr. Nolenslaan"},{"$f":"'1-1000'!AH22209","v":1000},"A22209",":","AK22240",0,""]
[null,696,70,null,null,null,null,{"$f":"'1-1000'!AD22241","v":9},{"$f":"'1-1000'!K22241","v":"Schoonhoven"},{"$f":"'1-1000'!AH22241","v":1000},"A22241",":","AK22272",0,""]
[null,697,70,null,null,null,null,{"$f":"'1-1000'!AD22273","v":9},{"$f":"'1-1000'!K22273","v":"Schoonhoven (1)"},{"$f":"'1-1000'!AH22273","v":1000},"A22273",":","AK22304",0,""]
[null,698,70,null,null,null,null,{"$f":"'1-1000'!AD22305","v":9},{"$f":"'1-1000'!K22305","v":"Schijndel"},{"$f":"'1-1000'!AH22305","v":1000},"A22305",":","AK22336",0,""]
[null,699,70,null,null,null,null,{"$f":"'1-1000'!AD22337","v":9},{"$f":"'1-1000'!K22337","v":"Silvolde"},{"$f":"'1-1000'!AH22337","v":1000},"A22337",":","AK22368",0,""]
[null,700,70,null,null,null,null,{"$f":"'1-1000'!AD22369","v":2},{"$f":"'1-1000'!K22369","v":"Sittard"},{"$f":"'1-1000'!AH22369","v":194},"A22369",":","AK22400",806,""]
[null,701,71,null,null,null,null,{"$f":"'1-1000'!AD22401","v":9},{"$f":"'1-1000'!K22401","v":"Sittard (1)"},{"$f":"'1-1000'!AH22401","v":1000},"A22401",":","AK22432",0,""]
["x",702,71,null,null,null,null,{"$f":"'1-1000'!AD22433","v":9},{"$f":"'1-1000'!K22433","v":"Sittard (2)"},{"$f":"'1-1000'!AH22433","v":1000},"A22433",":","AK22464",0,""]
["x",703,71,null,null,null,null,{"$f":"'1-1000'!AD22465","v":9},{"$f":"'1-1000'!K22465","v":"Sittard (3)"},{"$f":"'1-1000'!AH22465","v":1000},"A22465",":","AK22496",0,""]
[null,704,71,null,null,null,null,{"$f":"'1-1000'!AD22497","v":9},{"$f":"'1-1000'!K22497","v":"Std - Geerweg"},{"$f":"'1-1000'!AH22497","v":1000},"A22497",":","AK22528",0,""]
[null,705,71,null,null,null,null,{"$f":"'1-1000'!AD22529","v":9},{"$f":"'1-1000'!K22529","v":"Sliedrecht"},{"$f":"'1-1000'!AH22529","v":1000},"A22529",":","AK22560",0,{"$f":"IF(J706=0,\"COMPL\",\"\")","v":""}]
[null,706,71,null,null,null,null,{"$f":"'1-1000'!AD22561","v":9},{"$f":"'1-1000'!K22561","v":"Sliedrecht (1)"},{"$f":"'1-1000'!AH22561","v":1000},"A22561",":","AK22592",{"$f":"1000-J707","v":0},""]
[null,707,71,null,null,null,null,{"$f":"'1-1000'!AD22593","v":9},{"$f":"'1-1000'!K22593","v":"Sluis"},{"$f":"'1-1000'!AH22593","v":1000},"A22593",":","AK22624",0,""]
[null,708,71,null,null,null,null,{"$f":"'1-1000'!AD22625","v":9},{"$f":"'1-1000'!K22625","v":"Sneek"},{"$f":"'1-1000'!AH22625","v":1000},"A22625",":","AK22656",0,""]
[null,709,71,null,null,null,null,{"$f":"'1-1000'!AD22657","v":9},{"$f":"'1-1000'!K22657","v":"Sneek (1)"},{"$f":"'1-1000'!AH22657","v":1000},"A22657",":","AK22688",0,""]
[null,710,71,null,null,null,null,{"$f":"'1-1000'!AD22689","v":9},{"$f":"'1-1000'!K22689","v":"Sneek (2)"},{"$f":"'1-1000'!AH22689","v":1000},"A22689",":","AK22720",0,""]
[null,711,72,null,null,null,null,{"$f":"'1-1000'!AD22721","v":9},{"$f":"'1-1000'!K22721","v":"Sneek (3)"},{"$f":"'1-1000'!AH22721","v":1000},"A22721",":","AK22752",0,""]
[null,712,72,null,null,null,null,{"$f":"'1-1000'!AD22753","v":9},{"$f":"'1-1000'!K22753","v":"Sneek (4)"},{"$f":"'1-1000'!AH22753","v":1000},"A22753",":","AK22784",0,""]
[null,713,72,null,null,null,null,{"$f":"'1-1000'!AD22785","v":9},{"$f":"'1-1000'!K22785","v":"Sneek (5)"},{"$f":"'1-1000'!AH22785","v":1000},"A22785",":","AK22816",0,""]
[null,714,72,null,null,null,null,{"$f":"'1-1000'!AD22817","v":9},{"$f":"'1-1000'!K22817","v":"Soest"},{"$f":"'1-1000'!AH22817","v":1000},"A22817",":","AK22848",0,""]
[null,715,72,null,null,null,null,{"$f":"'1-1000'!AD22849","v":9},{"$f":"'1-1000'!K22849","v":"Sos - Nijverheidsweg"},{"$f":"'1-1000'!AH22849","v":1000},"A22849",":","AK22880",0,""]
[null,716,72,null,null,null,null,{"$f":"'1-1000'!AD22881","v":9},{"$f":"'1-1000'!K22881","v":"Soesterberg"},{"$f":"'1-1000'!AH22881","v":1000},"A22881",":","AK22912",0,""]
[null,717,72,null,null,null,null,{"$f":"'1-1000'!AD22913","v":9},{"$f":"'1-1000'!K22913","v":"Someren"},{"$f":"'1-1000'!AH22913","v":1000},"A22913",":","AK22944",0,""]
[null,718,72,null,null,null,null,{"$f":"'1-1000'!AD22945","v":9},{"$f":"'1-1000'!K22945","v":"Someren (1)"},{"$f":"'1-1000'!AH22945","v":1000},"A22945",":","AK22976",0,""]
[null,719,72,null,null,null,null,{"$f":"'1-1000'!AD22977","v":9},{"$f":"'1-1000'!K22977","v":"Sommelsdijk"},{"$f":"'1-1000'!AH22977","v":1000},"A22977",":","AK23008",0,""]
[null,720,72,null,null,null,null,{"$f":"'1-1000'!AD23009","v":9},{"$f":"'1-1000'!K23009","v":"Son"},{"$f":"'1-1000'!AH23009","v":1000},"A23009",":","AK23040",0,""]
[null,721,73,null,null,null,null,{"$f":"'1-1000'!AD23041","v":9},{"$f":"'1-1000'!K23041","v":"Spanbroek"},{"$f":"'1-1000'!AH23041","v":1000},"A23041",":","AK23072",0,""]
[null,722,73,null,null,null,null,{"$f":"'1-1000'!AD23073","v":2},{"$f":"'1-1000'!K23073","v":"Spijkenisse"},{"$f":"'1-1000'!AH23073","v":516},"A23073",":","AK23104",484,""]
[null,723,73,null,null,null,null,{"$f":"'1-1000'!AD23105","v":9},{"$f":"'1-1000'!K23105","v":"Spijkenisse (3)"},{"$f":"'1-1000'!AH23105","v":1000},"A23105",":","AK23136",0,""]
[null,724,73,null,null,null,null,{"$f":"'1-1000'!AD23137","v":9},{"$f":"'1-1000'!K23137","v":"Spijkenisse (4)"},{"$f":"'1-1000'!AH23137","v":1000},"A23137",":","AK23168",0,""]
[null,725,73,null,null,null,null,{"$f":"'1-1000'!AD23169","v":9},{"$f":"'1-1000'!K23169","v":"Stadskanaal"},{"$f":"'1-1000'!AH23169","v":1000},"A23169",":","AK23200",0,""]
[null,726,73,null,null,null,null,{"$f":"'1-1000'!AD23201","v":9},{"$f":"'1-1000'!K23201","v":"Stadskanaal (1)"},{"$f":"'1-1000'!AH23201","v":1000},"A23201",":","AK23232",0,""]
[null,727,73,null,null,null,null,{"$f":"'1-1000'!AD23233","v":9},{"$f":"'1-1000'!K23233","v":"Stadskanaal (2)"},{"$f":"'1-1000'!AH23233","v":1000},"A23233",":","AK23264",0,""]
[null,728,73,null,null,null,null,{"$f":"'1-1000'!AD23265","v":9},{"$f":"'1-1000'!K23265","v":"Staphorst"},{"$f":"'1-1000'!AH23265","v":1000},"A23265",":","AK23296",0,""]
[null,729,73,null,null,null,null,{"$f":"'1-1000'!AD23297","v":9},{"$f":"'1-1000'!K23297","v":"Steenbergen Nb"},{"$f":"'1-1000'!AH23297","v":1000},"A23297",":","AK23328",0,""]
[null,730,73,null,null,null,null,{"$f":"'1-1000'!AD23329","v":9},{"$f":"'1-1000'!K23329","v":"Steenwijk"},{"$f":"'1-1000'!AH23329","v":1000},"A23329",":","AK23360",0,""]
[null,731,74,null,null,null,null,{"$f":"'1-1000'!AD23361","v":9},{"$f":"'1-1000'!K23361","v":"Steenwijk (1)"},{"$f":"'1-1000'!AH23361","v":1000},"A23361",":","AK23392",0,""]
[null,732,74,null,null,null,null,{"$f":"'1-1000'!AD23393","v":9},{"$f":"'1-1000'!K23393","v":"Stein"},{"$f":"'1-1000'!AH23393","v":1000},"A23393",":","AK23424",0,""]
[null,733,74,null,null,null,null,{"$f":"'1-1000'!AD23425","v":9},{"$f":"'1-1000'!K23425","v":"Sterksel"},{"$f":"'1-1000'!AH23425","v":1000},"A23425",":","AK23456",0,""]
[null,734,74,null,null,null,null,{"$f":"'1-1000'!AD23457","v":9},{"$f":"'1-1000'!K23457","v":"Tegelen"},{"$f":"'1-1000'!AH23457","v":1000},"A23457",":","AK23488",0,""]
[null,735,74,null,null,null,null,{"$f":"'1-1000'!AD23489","v":9},{"$f":"'1-1000'!K23489","v":"Tegelen (1)"},{"$f":"'1-1000'!AH23489","v":1000},"A23489",":","AK23520",0,""]
[null,736,74,null,null,null,null,{"$f":"'1-1000'!AD23521","v":9},{"$f":"'1-1000'!K23521","v":"Terborg"},{"$f":"'1-1000'!AH23521","v":1000},"A23521",":","AK23552",0,""]
[null,737,74,null,null,null,null,{"$f":"'1-1000'!AD23553","v":9},{"$f":"'1-1000'!K23553","v":"Terneuzen"},{"$f":"'1-1000'!AH23553","v":928},"A23553",":","AK23584",72,""]
[null,738,74,null,null,null,null,{"$f":"'1-1000'!AD23585","v":9},{"$f":"'1-1000'!K23585","v":"Terneuzen (10)"},{"$f":"'1-1000'!AH23585","v":1000},"A23585",":","AK23616",0,""]
[null,739,74,null,null,null,null,{"$f":"'1-1000'!AD23617","v":9},{"$f":"'1-1000'!K23617","v":"Tnz - Markt"},{"$f":"'1-1000'!AH23617","v":1000},"A23617",":","AK23648",0,""]
[null,740,74,null,null,null,null,{"$f":"'1-1000'!AD23649","v":9},{"$f":"'1-1000'!K23649","v":"Tiel"},{"$f":"'1-1000'!AH23649","v":917},"A23649",":","AK23680",83,""]
[null,741,75,null,null,null,null,{"$f":"'1-1000'!AD23681","v":9},{"$f":"'1-1000'!K23681","v":"Tiel (1)"},{"$f":"'1-1000'!AH23681","v":1000},"A23681",":","AK23712",0,""]
[null,742,75,null,null,null,null,{"$f":"'1-1000'!AD23713","v":9},{"$f":"'1-1000'!K23713","v":"Tiel (2)"},{"$f":"'1-1000'!AH23713","v":1000},"A23713",":","AK23744",0,""]
[null,743,75,null,null,null,null,{"$f":"'1-1000'!AD23745","v":0},{"$f":"'1-1000'!K23745","v":"Tilburg"},{"$f":"'1-1000'!AH23745","v":0},"A23745",":","AK23776",1000,"COMPL"]
[null,744,75,null,null,null,null,{"$f":"'1-1000'!AD23777","v":0},{"$f":"'1-1000'!K23777","v":"Tilburg 2e"},{"$f":"'1-1000'!AH23777","v":15},"A23777",":","AK23808",985,""]
[null,745,75,null,null,null,null,{"$f":"'1-1000'!AD23809","v":9},{"$f":"'1-1000'!K23809","v":"Tilburg (1)"},{"$f":"'1-1000'!AH23809","v":1000},"A23809",":","AK23840",0,""]
[null,746,75,null,null,null,null,{"$f":"'1-1000'!AD23841","v":9},{"$f":"'1-1000'!K23841","v":"Tb - Buurmalsenplein"},{"$f":"'1-1000'!AH23841","v":1000},"A23841",":","AK23872",0,""]
[null,747,75,null,null,null,null,{"$f":"'1-1000'!AD23873","v":9},{"$f":"'1-1000'!K23873","v":"Tb - Goirkestraat"},{"$f":"'1-1000'!AH23873","v":1000},"A23873",":","AK23904",0,""]
["x",748,75,null,null,null,null,{"$f":"'1-1000'!AD23905","v":9},{"$f":"'1-1000'!K23905","v":"Tb - Heuvelpoort"},{"$f":"'1-1000'!AH23905","v":1000},"A23905",":","AK23936",0,""]
[null,749,75,null,null,null,null,{"$f":"'1-1000'!AD23937","v":9},{"$f":"'1-1000'!K23937","v":"Tb - Paletplein"},{"$f":"'1-1000'!AH23937","v":1000},"A23937",":","AK23968",0,""]
[null,750,75,null,null,null,null,{"$f":"'1-1000'!AD23969","v":9},{"$f":"'1-1000'!K23969","v":"Tb - Schouwburgring"},{"$f":"'1-1000'!AH23969","v":1000},"A23969",":","AK24000",0,""]
[null,751,76,null,null,null,null,{"$f":"'1-1000'!AD24001","v":9},{"$f":"'1-1000'!K24001","v":"Tb - Vroom en Dreesmann"},{"$f":"'1-1000'!AH24001","v":1000},"A24001",":","AK24032",0,""]
[null,752,76,null,null,null,null,{"$f":"'1-1000'!AD24033","v":9},{"$f":"'1-1000'!K24033","v":"Tb - Wagnerplein"},{"$f":"'1-1000'!AH24033","v":1000},"A24033",":","AK24064",0,""]
[null,753,76,null,null,null,null,{"$f":"'1-1000'!AD24065","v":9},{"$f":"'1-1000'!K24065","v":"Tb - Westermarkt"},{"$f":"'1-1000'!AH24065","v":1000},"A24065",":","AK24096",0,""]
[null,754,76,null,null,null,null,{"$f":"'1-1000'!AD24097","v":9},{"$f":"'1-1000'!K24097","v":"Twello"},{"$f":"'1-1000'!AH24097","v":1000},"A24097",":","AK24128",0,""]
[null,755,76,null,null,null,null,{"$f":"'1-1000'!AD24129","v":9},{"$f":"'1-1000'!K24129","v":"Twello (1)"},{"$f":"'1-1000'!AH24129","v":1000},"A24129",":","AK24160",0,""]
[null,756,76,null,null,null,null,{"$f":"'1-1000'!AD24161","v":9},{"$f":"'1-1000'!K24161","v":"Uden"},{"$f":"'1-1000'!AH24161","v":1000},"A24161",":","AK24192",0,""]
[null,757,76,null,null,null,null,{"$f":"'1-1000'!AD24193","v":9},{"$f":"'1-1000'!K24193","v":"Uden (1)"},{"$f":"'1-1000'!AH24193","v":1000},"A24193",":","AK24224",0,""]
[null,758,76,null,null,null,null,{"$f":"'1-1000'!AD24225","v":9},{"$f":"'1-1000'!K24225","v":"Uden (2)"},{"$f":"'1-1000'!AH24225","v":1000},"A24225",":","AK24256",0,""]
[null,759,76,null,null,null,null,{"$f":"'1-1000'!AD24257","v":9},{"$f":"'1-1000'!K24257","v":"Uithoorn"},{"$f":"'1-1000'!AH24257","v":1000},"A24257",":","AK24288",0,""]
[null,760,76,null,null,null,null,{"$f":"'1-1000'!AD24289","v":9},{"$f":"'1-1000'!K24289","v":"Uh - Zijdelrij"},{"$f":"'1-1000'!AH24289","v":1000},"A24289",":","AK24320",0,""]
[null,761,77,null,null,null,null,{"$f":"'1-1000'!AD24321","v":9},{"$f":"'1-1000'!K24321","v":"Uithuizen"},{"$f":"'1-1000'!AH24321","v":1000},"A24321",":","AK24352",0,""]
[null,762,77,null,null,null,null,{"$f":"'1-1000'!AD24353","v":9},{"$f":"'1-1000'!K24353","v":"Ulft"},{"$f":"'1-1000'!AH24353","v":1000},"A24353",":","AK24384",0,""]
[null,763,77,null,null,null,null,{"$f":"'1-1000'!AD24385","v":9},{"$f":"'1-1000'!K24385","v":"Urk"},{"$f":"'1-1000'!AH24385","v":1000},"A24385",":","AK24416",0,""]
[null,764,77,null,null,null,null,{"$f":"'1-1000'!AD24417","v":0},{"$f":"'1-1000'!K24417","v":"Utrecht"},{"$f":"'1-1000'!AH24417","v":2},"A24417",":","AK24448",998,""]
[null,765,77,null,null,null,null,{"$f":"'1-1000'!AD24449","v":2},{"$f":"'1-1000'!K24449","v":"Utrecht 2e"},{"$f":"'1-1000'!AH24449","v":90},"A24449",":","AK24480",910,""]
[null,766,77,null,null,null,null,{"$f":"'1-1000'!AD24481","v":9},{"$f":"'1-1000'!K24481","v":"Utrecht (1)"},{"$f":"'1-1000'!AH24481","v":1000},"A24481",":","AK24512",0,""]
[null,767,77,null,null,null,null,{"$f":"'1-1000'!AD24513","v":9},{"$f":"'1-1000'!K24513","v":"Utrecht (2)"},{"$f":"'1-1000'!AH24513","v":1000},"A24513",":","AK24544",0,""]
[null,768,77,null,null,null,null,{"$f":"'1-1000'!AD24545","v":9},{"$f":"'1-1000'!K24545","v":"Ut - Amsterdamsestraatweg"},{"$f":"'1-1000'!AH24545","v":1000},"A24545",":","AK24576",0,""]
[null,769,77,null,null,null,null,{"$f":"'1-1000'!AD24577","v":9},{"$f":"'1-1000'!K24577","v":"Ut - Bernadottelaan"},{"$f":"'1-1000'!AH24577","v":873},"A24577",":","AK24608",127,{"$f":"IF(J770=0,\"COMPL\",\"\")","v":""}]
[null,770,77,null,null,null,null,{"$f":"'1-1000'!AD24609","v":9},{"$f":"'1-1000'!K24609","v":"Ut - Prins Bernhardplein"},{"$f":"'1-1000'!AH24609","v":1000},"A24609",":","AK24640",{"$f":"1000-J771","v":0},""]
[null,771,78,null,null,null,null,{"$f":"'1-1000'!AD24641","v":9},{"$f":"'1-1000'!K24641","v":"Ut - Biltstraat"},{"$f":"'1-1000'!AH24641","v":1000},"A24641",":","AK24672",0,""]
[null,772,78,null,null,null,null,{"$f":"'1-1000'!AD24673","v":9},{"$f":"'1-1000'!K24673","v":"Ut - J P Coenstraat"},{"$f":"'1-1000'!AH24673","v":1000},"A24673",":","AK24704",0,""]
[null,773,78,null,null,null,null,{"$f":"'1-1000'!AD24705","v":9},{"$f":"'1-1000'!K24705","v":"Ut - Croeselaan"},{"$f":"'1-1000'!AH24705","v":1000},"A24705",":","AK24736",0,""]
[null,774,78,null,null,null,null,{"$f":"'1-1000'!AD24737","v":9},{"$f":"'1-1000'!K24737","v":"Ut - Hobbemastraat"},{"$f":"'1-1000'!AH24737","v":1000},"A24737",":","AK24768",0,""]
[null,775,78,null,null,null,null,{"$f":"'1-1000'!AD24769","v":9},{"$f":"'1-1000'!K24769","v":"Ut - Thomas à Kempisplantsoen"},{"$f":"'1-1000'!AH24769","v":915},"A24769",":","AK24800",85,""]
[null,776,78,null,null,null,null,{"$f":"'1-1000'!AD24801","v":9},{"$f":"'1-1000'!K24801","v":"Ut - Mineurslaan"},{"$f":"'1-1000'!AH24801","v":1000},"A24801",":","AK24832",0,""]
[null,777,78,null,null,null,null,{"$f":"'1-1000'!AD24833","v":9},{"$f":"'1-1000'!K24833","v":"Ut - Mineurslaan (1)"},{"$f":"'1-1000'!AH24833","v":1000},"A24833",":","AK24864",0,""]
[null,778,78,null,null,null,null,{"$f":"'1-1000'!AD24865","v":9},{"$f":"'1-1000'!K24865","v":"Ut - Neude"},{"$f":"'1-1000'!AH24865","v":1000},"A24865",":","AK24896",0,""]
[null,779,78,null,null,null,null,{"$f":"'1-1000'!AD24897","v":9},{"$f":"'1-1000'!K24897","v":"Ut - W van Noortplein"},{"$f":"'1-1000'!AH24897","v":1000},"A24897",":","AK24928",0,""]
[null,780,78,null,null,null,null,{"$f":"'1-1000'!AD24929","v":9},{"$f":"'1-1000'!K24929","v":"Ut - Burg Reigerstraat"},{"$f":"'1-1000'!AH24929","v":1000},"A24929",":","AK24960",0,""]
[null,781,79,null,null,null,null,{"$f":"'1-1000'!AD24961","v":9},{"$f":"'1-1000'!K24961","v":"Ut - Roelantdreef"},{"$f":"'1-1000'!AH24961","v":1000},"A24961",":","AK24992",0,""]
[null,782,79,null,null,null,null,{"$f":"'1-1000'!AD24993","v":9},{"$f":"'1-1000'!K24993","v":"Ut - Roelantdreef (1)"},{"$f":"'1-1000'!AH24993","v":1000},"A24993",":","AK25024",0,""]
[null,783,79,null,null,null,null,{"$f":"'1-1000'!AD25025","v":9},{"$f":"'1-1000'!K25025","v":"Vaassen"},{"$f":"'1-1000'!AH25025","v":939},"A25025",":","AK25056",61,""]
[null,784,79,null,null,null,null,{"$f":"'1-1000'!AD25057","v":9},{"$f":"'1-1000'!K25057","v":"Valkenswaard"},{"$f":"'1-1000'!AH25057","v":1000},"A25057",":","AK25088",0,""]
[null,785,79,null,null,null,null,{"$f":"'1-1000'!AD25089","v":9},{"$f":"'1-1000'!K25089","v":"Veendam"},{"$f":"'1-1000'!AH25089","v":1000},"A25089",":","AK25120",0,""]
[null,786,79,null,null,null,null,{"$f":"'1-1000'!AD25121","v":9},{"$f":"'1-1000'!K25121","v":"Veendam (5)"},{"$f":"'1-1000'!AH25121","v":1000},"A25121",":","AK25152",0,""]
[null,787,79,null,null,null,null,{"$f":"'1-1000'!AD25153","v":9},{"$f":"'1-1000'!K25153","v":"Veenendaal"},{"$f":"'1-1000'!AH25153","v":1000},"A25153",":","AK25184",0,""]
[null,788,79,null,null,null,null,{"$f":"'1-1000'!AD25185","v":9},{"$f":"'1-1000'!K25185","v":"Veenendaal (1)"},{"$f":"'1-1000'!AH25185","v":1000},"A25185",":","AK25216",0,""]
[null,789,79,null,null,null,null,{"$f":"'1-1000'!AD25217","v":9},{"$f":"'1-1000'!K25217","v":"Veenendaal (2)"},{"$f":"'1-1000'!AH25217","v":1000},"A25217",":","AK25248",0,""]
[null,790,79,null,null,null,null,{"$f":"'1-1000'!AD25249","v":9},{"$f":"'1-1000'!K25249","v":"Veenendaal (3)"},{"$f":"'1-1000'!AH25249","v":1000},"A25249",":","AK25280",0,""]
[null,791,80,null,null,null,null,{"$f":"'1-1000'!AD25281","v":9},{"$f":"'1-1000'!K25281","v":"Vnd - Veenslag"},{"$f":"'1-1000'!AH25281","v":1000},"A25281",":","AK25312",0,""]
[null,792,80,null,null,null,null,{"$f":"'1-1000'!AD25313","v":9},{"$f":"'1-1000'!K25313","v":"Veenhuizen"},{"$f":"'1-1000'!AH25313","v":1000},"A25313",":","AK25344",0,""]
[null,793,80,null,null,null,null,{"$f":"'1-1000'!AD25345","v":8},{"$f":"'1-1000'!K25345","v":"Veghel"},{"$f":"'1-1000'!AH25345","v":817},"A25345",":","AK25376",183,""]
[null,794,80,null,null,null,null,{"$f":"'1-1000'!AD25377","v":9},{"$f":"'1-1000'!K25377","v":"Veldhoven"},{"$f":"'1-1000'!AH25377","v":1000},"A25377",":","AK25408",0,""]
[null,795,80,null,null,null,null,{"$f":"'1-1000'!AD25409","v":9},{"$f":"'1-1000'!K25409","v":"Veldhoven (1)"},{"$f":"'1-1000'!AH25409","v":1000},"A25409",":","AK25440",0,""]
[null,796,80,null,null,null,null,{"$f":"'1-1000'!AD25441","v":9},{"$f":"'1-1000'!K25441","v":"Veldhoven (2)"},{"$f":"'1-1000'!AH25441","v":1000},"A25441",":","AK25472",0,""]
[null,797,80,null,null,null,null,{"$f":"'1-1000'!AD25473","v":9},{"$f":"'1-1000'!K25473","v":"Veldhoven (4)"},{"$f":"'1-1000'!AH25473","v":1000},"A25473",":","AK25504",0,""]
[null,798,80,null,null,null,null,{"$f":"'1-1000'!AD25505","v":9},{"$f":"'1-1000'!K25505","v":"Velp Gld"},{"$f":"'1-1000'!AH25505","v":1000},"A25505",":","AK25536",0,""]
[null,799,80,null,null,null,null,{"$f":"'1-1000'!AD25537","v":9},{"$f":"'1-1000'!K25537","v":"Venlo"},{"$f":"'1-1000'!AH25537","v":1000},"A25537",":","AK25568",0,""]
[null,800,80,null,null,null,null,{"$f":"'1-1000'!AD25569","v":9},{"$f":"'1-1000'!K25569","v":"Venlo (1)"},{"$f":"'1-1000'!AH25569","v":1000},"A25569",":","AK25600",0,""]
[null,801,81,null,null,null,null,{"$f":"'1-1000'!AD25601","v":9},{"$f":"'1-1000'!K25601","v":"Venray"},{"$f":"'1-1000'!AH25601","v":1000},"A25601",":","AK25632",0,""]
[null,802,81,null,null,null,null,{"$f":"'1-1000'!AD25633","v":9},{"$f":"'1-1000'!K25633","v":"Venray (1)"},{"$f":"'1-1000'!AH25633","v":1000},"A25633",":","AK25664",0,""]
[null,803,81,null,null,null,null,{"$f":"'1-1000'!AD25665","v":9},{"$f":"'1-1000'!K25665","v":"Venray (2)"},{"$f":"'1-1000'!AH25665","v":1000},"A25665",":","AK25696",0,""]
[null,804,81,null,null,null,null,{"$f":"'1-1000'!AD25697","v":9},{"$f":"'1-1000'!K25697","v":"Vianen ZH"},{"$f":"'1-1000'!AH25697","v":1000},"A25697",":","AK25728",0,""]
[null,805,81,null,null,null,null,{"$f":"'1-1000'!AD25729","v":9},{"$f":"'1-1000'!K25729","v":"Vianen ZH (1)"},{"$f":"'1-1000'!AH25729","v":1000},"A25729",":","AK25760",0,""]
[null,806,81,null,null,null,null,{"$f":"'1-1000'!AD25761","v":9},{"$f":"'1-1000'!K25761","v":"Vinkeveen"},{"$f":"'1-1000'!AH25761","v":1000},"A25761",":","AK25792",0,""]
[null,807,81,null,null,null,null,{"$f":"'1-1000'!AD25793","v":9},{"$f":"'1-1000'!K25793","v":"Vlaardingen"},{"$f":"'1-1000'!AH25793","v":1000},"A25793",":","AK25824",0,""]
[null,808,81,null,null,null,null,{"$f":"'1-1000'!AD25825","v":9},{"$f":"'1-1000'!K25825","v":"Vlaardingen (1)"},{"$f":"'1-1000'!AH25825","v":1000},"A25825",":","AK25856",0,""]
["x",809,81,null,null,null,null,{"$f":"'1-1000'!AD25857","v":9},{"$f":"'1-1000'!K25857","v":"Vlaardingen (2)"},{"$f":"'1-1000'!AH25857","v":1000},"A25857",":","AK25888",0,""]
["x",810,81,null,null,null,null,{"$f":"'1-1000'!AD25889","v":9},{"$f":"'1-1000'!K25889","v":"Vdg - Winkelhoeve"},{"$f":"'1-1000'!AH25889","v":1000},"A25889",":","AK25920",0,""]
["x",811,82,null,null,null,null,{"$f":"'1-1000'!AD25921","v":9},{"$f":"'1-1000'!K25921","v":"Vdg - Winkelhoeve (1)"},{"$f":"'1-1000'!AH25921","v":1000},"A25921",":","AK25952",0,""]
[null,812,82,null,null,null,null,{"$f":"'1-1000'!AD25953","v":9},{"$f":"'1-1000'!K25953","v":"Vleuten"},{"$f":"'1-1000'!AH25953","v":1000},"A25953",":","AK25984",0,""]
[null,813,82,null,null,null,null,{"$f":"'1-1000'!AD25985","v":9},{"$f":"'1-1000'!K25985","v":"Vlissingen"},{"$f":"'1-1000'!AH25985","v":884},"A25985",":","AK26016",116,""]
[null,814,82,null,null,null,null,{"$f":"'1-1000'!AD26017","v":9},{"$f":"'1-1000'!K26017","v":"Vlijmen"},{"$f":"'1-1000'!AH26017","v":1000},"A26017",":","AK26048",0,""]
["x",815,82,null,null,null,null,{"$f":"'1-1000'!AD26049","v":9},{"$f":"'1-1000'!K26049","v":"Volendam"},{"$f":"'1-1000'!AH26049","v":1000},"A26049",":","AK26080",0,""]
["x",816,82,null,null,null,null,{"$f":"'1-1000'!AD26081","v":9},{"$f":"'1-1000'!K26081","v":"Voorburg"},{"$f":"'1-1000'!AH26081","v":1000},"A26081",":","AK26112",0,""]
[null,817,82,null,null,null,null,{"$f":"'1-1000'!AD26113","v":9},{"$f":"'1-1000'!K26113","v":"Voorhout"},{"$f":"'1-1000'!AH26113","v":1000},"A26113",":","AK26144",0,""]
[null,818,82,null,null,null,null,{"$f":"'1-1000'!AD26145","v":9},{"$f":"'1-1000'!K26145","v":"Voorschoten"},{"$f":"'1-1000'!AH26145","v":1000},"A26145",":","AK26176",0,""]
[null,819,82,null,null,null,null,{"$f":"'1-1000'!AD26177","v":9},{"$f":"'1-1000'!K26177","v":"Voorschoten (1)"},{"$f":"'1-1000'!AH26177","v":1000},"A26177",":","AK26208",0,""]
[null,820,82,null,null,null,null,{"$f":"'1-1000'!AD26209","v":9},{"$f":"'1-1000'!K26209","v":"Voorthuizen"},{"$f":"'1-1000'!AH26209","v":1000},"A26209",":","AK26240",0,""]
["x",821,83,null,null,null,null,{"$f":"'1-1000'!AD26241","v":9},{"$f":"'1-1000'!K26241","v":"Vorden"},{"$f":"'1-1000'!AH26241","v":1000},"A26241",":","AK26272",0,""]
[null,822,83,null,null,null,null,{"$f":"'1-1000'!AD26273","v":9},{"$f":"'1-1000'!K26273","v":"Vries"},{"$f":"'1-1000'!AH26273","v":1000},"A26273",":","AK26304",0,""]
[null,823,83,null,null,null,null,{"$f":"'1-1000'!AD26305","v":9},{"$f":"'1-1000'!K26305","v":"Vriezenveen"},{"$f":"'1-1000'!AH26305","v":1000},"A26305",":","AK26336",0,""]
[null,824,83,null,null,null,null,{"$f":"'1-1000'!AD26337","v":9},{"$f":"'1-1000'!K26337","v":"Vroomshoop"},{"$f":"'1-1000'!AH26337","v":1000},"A26337",":","AK26368",0,""]
[null,825,83,null,null,null,null,{"$f":"'1-1000'!AD26369","v":9},{"$f":"'1-1000'!K26369","v":"Vught"},{"$f":"'1-1000'!AH26369","v":892},"A26369",":","AK26400",108,""]
[null,826,83,null,null,null,null,{"$f":"'1-1000'!AD26401","v":7},{"$f":"'1-1000'!K26401","v":"Waalwijk"},{"$f":"'1-1000'!AH26401","v":862},"A26401",":","AK26432",138,""]
[null,827,83,null,null,null,null,{"$f":"'1-1000'!AD26433","v":9},{"$f":"'1-1000'!K26433","v":"Waddinxveen"},{"$f":"'1-1000'!AH26433","v":1000},"A26433",":","AK26464",0,""]
[null,828,83,null,null,null,null,{"$f":"'1-1000'!AD26465","v":9},{"$f":"'1-1000'!K26465","v":"Waddinxveen (1)"},{"$f":"'1-1000'!AH26465","v":1000},"A26465",":","AK26496",0,""]
[null,829,83,null,null,null,null,{"$f":"'1-1000'!AD26497","v":9},{"$f":"'1-1000'!K26497","v":"Waddinxveen (2)"},{"$f":"'1-1000'!AH26497","v":1000},"A26497",":","AK26528",0,""]
[null,830,83,null,null,null,null,{"$f":"'1-1000'!AD26529","v":9},{"$f":"'1-1000'!K26529","v":"Wageningen"},{"$f":"'1-1000'!AH26529","v":1000},"A26529",":","AK26560",0,""]
[null,831,84,null,null,null,null,{"$f":"'1-1000'!AD26561","v":9},{"$f":"'1-1000'!K26561","v":"Wageningen (1)"},{"$f":"'1-1000'!AH26561","v":1000},"A26561",":","AK26592",0,""]
[null,832,84,null,null,null,null,{"$f":"'1-1000'!AD26593","v":9},{"$f":"'1-1000'!K26593","v":"Wageningen (2)"},{"$f":"'1-1000'!AH26593","v":1000},"A26593",":","AK26624",0,""]
[null,833,84,null,null,null,null,{"$f":"'1-1000'!AD26625","v":9},{"$f":"'1-1000'!K26625","v":"Wageningen (3)"},{"$f":"'1-1000'!AH26625","v":1000},"A26625",":","AK26656",0,{"$f":"IF(J834=0,\"COMPL\",\"\")","v":""}]
[null,834,84,null,null,null,null,{"$f":"'1-1000'!AD26657","v":9},{"$f":"'1-1000'!K26657","v":"Wageningen (4)"},{"$f":"'1-1000'!AH26657","v":1000},"A26657",":","AK26688",{"$f":"1000-J835","v":0},""]
[null,835,84,null,null,null,null,{"$f":"'1-1000'!AD26689","v":9},{"$f":"'1-1000'!K26689","v":"Wassenaar"},{"$f":"'1-1000'!AH26689","v":1000},"A26689",":","AK26720",0,""]
[null,836,84,null,null,null,null,{"$f":"'1-1000'!AD26721","v":9},{"$f":"'1-1000'!K26721","v":"Wassenaar (1)"},{"$f":"'1-1000'!AH26721","v":1000},"A26721",":","AK26752",0,""]
[null,837,84,null,null,null,null,{"$f":"'1-1000'!AD26753","v":9},{"$f":"'1-1000'!K26753","v":"Wassenaar (2)"},{"$f":"'1-1000'!AH26753","v":1000},"A26753",":","AK26784",0,""]
[null,838,84,null,null,null,null,{"$f":"'1-1000'!AD26785","v":9},{"$f":"'1-1000'!K26785","v":"Weert"},{"$f":"'1-1000'!AH26785","v":900},"A26785",":","AK26816",100,""]
[null,839,84,null,null,null,null,{"$f":"'1-1000'!AD26817","v":9},{"$f":"'1-1000'!K26817","v":"Weert (2)"},{"$f":"'1-1000'!AH26817","v":1000},"A26817",":","AK26848",0,""]
[null,840,84,null,null,null,null,{"$f":"'1-1000'!AD26849","v":9},{"$f":"'1-1000'!K26849","v":"Weert (3)"},{"$f":"'1-1000'!AH26849","v":1000},"A26849",":","AK26880",0,""]
[null,841,85,null,null,null,null,{"$f":"'1-1000'!AD26881","v":9},{"$f":"'1-1000'!K26881","v":"Weert (4)"},{"$f":"'1-1000'!AH26881","v":1000},"A26881",":","AK26912",0,""]
[null,842,85,null,null,null,null,{"$f":"'1-1000'!AD26913","v":9},{"$f":"'1-1000'!K26913","v":"Wt - Friezenstraat"},{"$f":"'1-1000'!AH26913","v":1000},"A26913",":","AK26944",0,""]
[null,843,85,null,null,null,null,{"$f":"'1-1000'!AD26945","v":9},{"$f":"'1-1000'!K26945","v":"Wt - Kruisstraat"},{"$f":"'1-1000'!AH26945","v":1000},"A26945",":","AK26976",0,""]
["x",844,85,null,null,null,null,{"$f":"'1-1000'!AD26977","v":9},{"$f":"'1-1000'!K26977","v":"Wt - Limburglaan"},{"$f":"'1-1000'!AH26977","v":1000},"A26977",":","AK27008",0,""]
[null,845,85,null,null,null,null,{"$f":"'1-1000'!AD27009","v":9},{"$f":"'1-1000'!K27009","v":"Weesp"},{"$f":"'1-1000'!AH27009","v":1000},"A27009",":","AK27040",0,""]
[null,846,85,null,null,null,null,{"$f":"'1-1000'!AD27041","v":9},{"$f":"'1-1000'!K27041","v":"Weesp (1)"},{"$f":"'1-1000'!AH27041","v":1000},"A27041",":","AK27072",0,""]
[null,847,85,null,null,null,null,{"$f":"'1-1000'!AD27073","v":9},{"$f":"'1-1000'!K27073","v":"Weesp (2)"},{"$f":"'1-1000'!AH27073","v":1000},"A27073",":","AK27104",0,""]
[null,848,85,null,null,null,null,{"$f":"'1-1000'!AD27105","v":9},{"$f":"'1-1000'!K27105","v":"Weesp (3)"},{"$f":"'1-1000'!AH27105","v":1000},"A27105",":","AK27136",0,""]
[null,849,85,null,null,null,null,{"$f":"'1-1000'!AD27137","v":9},{"$f":"'1-1000'!K27137","v":"Werkendam"},{"$f":"'1-1000'!AH27137","v":1000},"A27137",":","AK27168",0,""]
[null,850,85,null,null,null,null,{"$f":"'1-1000'!AD27169","v":9},{"$f":"'1-1000'!K27169","v":"Wervershoof"},{"$f":"'1-1000'!AH27169","v":1000},"A27169",":","AK27200",0,""]
[null,851,86,null,null,null,null,{"$f":"'1-1000'!AD27201","v":9},{"$f":"'1-1000'!K27201","v":"Wessem"},{"$f":"'1-1000'!AH27201","v":1000},"A27201",":","AK27232",0,""]
[null,852,86,null,null,null,null,{"$f":"'1-1000'!AD27233","v":9},{"$f":"'1-1000'!K27233","v":"Wezep"},{"$f":"'1-1000'!AH27233","v":1000},"A27233",":","AK27264",0,""]
[null,853,86,null,null,null,null,{"$f":"'1-1000'!AD27265","v":9},{"$f":"'1-1000'!K27265","v":"Wierden"},{"$f":"'1-1000'!AH27265","v":1000},"A27265",":","AK27296",0,""]
[null,854,86,null,null,null,null,{"$f":"'1-1000'!AD27297","v":9},{"$f":"'1-1000'!K27297","v":"Winschoten"},{"$f":"'1-1000'!AH27297","v":1000},"A27297",":","AK27328",0,""]
[null,855,86,null,null,null,null,{"$f":"'1-1000'!AD27329","v":9},{"$f":"'1-1000'!K27329","v":"Winschoten (1)"},{"$f":"'1-1000'!AH27329","v":1000},"A27329",":","AK27360",0,""]
[null,856,86,null,null,null,null,{"$f":"'1-1000'!AD27361","v":9},{"$f":"'1-1000'!K27361","v":"Winschoten (2)"},{"$f":"'1-1000'!AH27361","v":1000},"A27361",":","AK27392",0,""]
[null,857,86,null,null,null,null,{"$f":"'1-1000'!AD27393","v":9},{"$f":"'1-1000'!K27393","v":"Winsum (Gn)"},{"$f":"'1-1000'!AH27393","v":1000},"A27393",":","AK27424",0,""]
[null,858,86,null,null,null,null,{"$f":"'1-1000'!AD27425","v":9},{"$f":"'1-1000'!K27425","v":"Winterswijk"},{"$f":"'1-1000'!AH27425","v":1000},"A27425",":","AK27456",0,""]
[null,859,86,null,null,null,null,{"$f":"'1-1000'!AD27457","v":9},{"$f":"'1-1000'!K27457","v":"Winterswijk (1)"},{"$f":"'1-1000'!AH27457","v":1000},"A27457",":","AK27488",0,""]
[null,860,86,null,null,null,null,{"$f":"'1-1000'!AD27489","v":9},{"$f":"'1-1000'!K27489","v":"Woerden"},{"$f":"'1-1000'!AH27489","v":921},"A27489",":","AK27520",79,""]
[null,861,87,null,null,null,null,{"$f":"'1-1000'!AD27521","v":9},{"$f":"'1-1000'!K27521","v":"Wd - Molenvlietbrink"},{"$f":"'1-1000'!AH27521","v":1000},"A27521",":","AK27552",0,""]
[null,862,87,null,null,null,null,{"$f":"'1-1000'!AD27553","v":9},{"$f":"'1-1000'!K27553","v":"Wd - Rijnstraat"},{"$f":"'1-1000'!AH27553","v":1000},"A27553",":","AK27584",0,""]
[null,863,87,null,null,null,null,{"$f":"'1-1000'!AD27585","v":9},{"$f":"'1-1000'!K27585","v":"Wd - Rijnstraat (1)"},{"$f":"'1-1000'!AH27585","v":1000},"A27585",":","AK27616",0,""]
[null,864,87,null,null,null,null,{"$f":"'1-1000'!AD27617","v":9},{"$f":"'1-1000'!K27617","v":"Wolvega"},{"$f":"'1-1000'!AH27617","v":1000},"A27617",":","AK27648",0,""]
[null,865,87,null,null,null,null,{"$f":"'1-1000'!AD27649","v":9},{"$f":"'1-1000'!K27649","v":"Wormer"},{"$f":"'1-1000'!AH27649","v":1000},"A27649",":","AK27680",0,""]
[null,866,87,null,null,null,null,{"$f":"'1-1000'!AD27681","v":9},{"$f":"'1-1000'!K27681","v":"Wormerveer"},{"$f":"'1-1000'!AH27681","v":908},"A27681",":","AK27712",92,""]
[null,867,87,null,null,null,null,{"$f":"'1-1000'!AD27713","v":9},{"$f":"'1-1000'!K27713","v":"Wormerveer (1)"},{"$f":"'1-1000'!AH27713","v":1000},"A27713",":","AK27744",0,""]
[null,868,87,null,null,null,null,{"$f":"'1-1000'!AD27745","v":9},{"$f":"'1-1000'!K27745","v":"Wormerveer (2)"},{"$f":"'1-1000'!AH27745","v":1000},"A27745",":","AK27776",0,""]
[null,869,87,null,null,null,null,{"$f":"'1-1000'!AD27777","v":9},{"$f":"'1-1000'!K27777","v":"Woudenberg"},{"$f":"'1-1000'!AH27777","v":1000},"A27777",":","AK27808",0,""]
[null,870,87,null,null,null,null,{"$f":"'1-1000'!AD27809","v":9},{"$f":"'1-1000'!K27809","v":"Woudrichem"},{"$f":"'1-1000'!AH27809","v":1000},"A27809",":","AK27840",0,""]
[null,871,88,null,null,null,null,{"$f":"'1-1000'!AD27841","v":9},{"$f":"'1-1000'!K27841","v":"Wijchen"},{"$f":"'1-1000'!AH27841","v":1000},"A27841",":","AK27872",0,""]
[null,872,88,null,null,null,null,{"$f":"'1-1000'!AD27873","v":9},{"$f":"'1-1000'!K27873","v":"Wijchen (1)"},{"$f":"'1-1000'!AH27873","v":1000},"A27873",":","AK27904",0,""]
[null,873,88,null,null,null,null,{"$f":"'1-1000'!AD27905","v":9},{"$f":"'1-1000'!K27905","v":"Wijchen (2)"},{"$f":"'1-1000'!AH27905","v":1000},"A27905",":","AK27936",0,""]
[null,874,88,null,null,null,null,{"$f":"'1-1000'!AD27937","v":9},{"$f":"'1-1000'!K27937","v":"Wijk bij Duurstede"},{"$f":"'1-1000'!AH27937","v":1000},"A27937",":","AK27968",0,""]
[null,875,88,null,null,null,null,{"$f":"'1-1000'!AD27969","v":9},{"$f":"'1-1000'!K27969","v":"Wijk bij Duurstede (1)"},{"$f":"'1-1000'!AH27969","v":1000},"A27969",":","AK28000",0,""]
[null,876,88,null,null,null,null,{"$f":"'1-1000'!AD28001","v":9},{"$f":"'1-1000'!K28001","v":"Wijk en Aalburg"},{"$f":"'1-1000'!AH28001","v":1000},"A28001",":","AK28032",0,""]
[null,877,88,null,null,null,null,{"$f":"'1-1000'!AD28033","v":9},{"$f":"'1-1000'!K28033","v":"IJmuiden"},{"$f":"'1-1000'!AH28033","v":916},"A28033",":","AK28064",84,""]
[null,878,88,null,null,null,null,{"$f":"'1-1000'!AD28065","v":9},{"$f":"'1-1000'!K28065","v":"IJmuiden (1)"},{"$f":"'1-1000'!AH28065","v":1000},"A28065",":","AK28096",0,""]
[null,879,88,null,null,null,null,{"$f":"'1-1000'!AD28097","v":9},{"$f":"'1-1000'!K28097","v":"IJmuiden (2)"},{"$f":"'1-1000'!AH28097","v":1000},"A28097",":","AK28128",0,""]
[null,880,88,null,null,null,null,{"$f":"'1-1000'!AD28129","v":9},{"$f":"'1-1000'!K28129","v":"IJmuiden (3)"},{"$f":"'1-1000'!AH28129","v":1000},"A28129",":","AK28160",0,""]
[null,881,89,null,null,null,null,{"$f":"'1-1000'!AD28161","v":9},{"$f":"'1-1000'!K28161","v":"Zaandam"},{"$f":"'1-1000'!AH28161","v":934},"A28161",":","AK28192",66,""]
[null,882,89,null,null,null,null,{"$f":"'1-1000'!AD28193","v":9},{"$f":"'1-1000'!K28193","v":"Zaandam (1)"},{"$f":"'1-1000'!AH28193","v":1000},"A28193",":","AK28224",0,""]
[null,883,89,null,null,null,null,{"$f":"'1-1000'!AD28225","v":9},{"$f":"'1-1000'!K28225","v":"Zaandam (2)"},{"$f":"'1-1000'!AH28225","v":1000},"A28225",":","AK28256",0,""]
[null,884,89,null,null,null,null,{"$f":"'1-1000'!AD28257","v":9},{"$f":"'1-1000'!K28257","v":"Zaltbommel"},{"$f":"'1-1000'!AH28257","v":916},"A28257",":","AK28288",84,""]
[null,885,89,null,null,null,null,{"$f":"'1-1000'!AD28289","v":9},{"$f":"'1-1000'!K28289","v":"Zandvoort"},{"$f":"'1-1000'!AH28289","v":1000},"A28289",":","AK28320",0,""]
[null,886,89,null,null,null,null,{"$f":"'1-1000'!AD28321","v":9},{"$f":"'1-1000'!K28321","v":"Zandvoort (1)"},{"$f":"'1-1000'!AH28321","v":1000},"A28321",":","AK28352",0,""]
[null,887,89,null,null,null,null,{"$f":"'1-1000'!AD28353","v":9},{"$f":"'1-1000'!K28353","v":"Zandvoort (2)"},{"$f":"'1-1000'!AH28353","v":1000},"A28353",":","AK28384",0,""]
[null,888,89,null,null,null,null,{"$f":"'1-1000'!AD28385","v":9},{"$f":"'1-1000'!K28385","v":"Zeist"},{"$f":"'1-1000'!AH28385","v":1000},"A28385",":","AK28416",0,""]
[null,889,89,null,null,null,null,{"$f":"'1-1000'!AD28417","v":9},{"$f":"'1-1000'!K28417","v":"Zeist (1)"},{"$f":"'1-1000'!AH28417","v":1000},"A28417",":","AK28448",0,""]
[null,890,89,null,null,null,null,{"$f":"'1-1000'!AD28449","v":9},{"$f":"'1-1000'!K28449","v":"Zeist (2)"},{"$f":"'1-1000'!AH28449","v":1000},"A28449",":","AK28480",0,""]
[null,891,90,null,null,null,null,{"$f":"'1-1000'!AD28481","v":9},{"$f":"'1-1000'!K28481","v":"Zeist (3)"},{"$f":"'1-1000'!AH28481","v":1000},"A28481",":","AK28512",0,""]
[null,892,90,null,null,null,null,{"$f":"'1-1000'!AD28513","v":9},{"$f":"'1-1000'!K28513","v":"Zt - Steinlaan"},{"$f":"'1-1000'!AH28513","v":1000},"A28513",":","AK28544",0,""]
[null,893,90,null,null,null,null,{"$f":"'1-1000'!AD28545","v":9},{"$f":"'1-1000'!K28545","v":"Zetten"},{"$f":"'1-1000'!AH28545","v":1000},"A28545",":","AK28576",0,""]
[null,894,90,null,null,null,null,{"$f":"'1-1000'!AD28577","v":9},{"$f":"'1-1000'!K28577","v":"Zevenaar"},{"$f":"'1-1000'!AH28577","v":1000},"A28577",":","AK28608",0,""]
[null,895,90,null,null,null,null,{"$f":"'1-1000'!AD28609","v":9},{"$f":"'1-1000'!K28609","v":"Zevenaar (1)"},{"$f":"'1-1000'!AH28609","v":1000},"A28609",":","AK28640",0,""]
[null,896,90,null,null,null,null,{"$f":"'1-1000'!AD28641","v":9},{"$f":"'1-1000'!K28641","v":"Zevenaar (2)"},{"$f":"'1-1000'!AH28641","v":1000},"A28641",":","AK28672",0,""]
[null,897,90,null,null,null,null,{"$f":"'1-1000'!AD28673","v":9},{"$f":"'1-1000'!K28673","v":"Zevenbergen"},{"$f":"'1-1000'!AH28673","v":1000},"A28673",":","AK28704",0,{"$f":"IF(J898=0,\"COMPL\",\"\")","v":""}]
[null,898,90,null,null,null,null,{"$f":"'1-1000'!AD28705","v":9},{"$f":"'1-1000'!K28705","v":"Zevenbergen (1)"},{"$f":"'1-1000'!AH28705","v":1000},"A28705",":","AK28736",{"$f":"1000-J899","v":0},""]
[null,899,90,null,null,null,null,{"$f":"'1-1000'!AD28737","v":9},{"$f":"'1-1000'!K28737","v":"Zierikzee"},{"$f":"'1-1000'!AH28737","v":935},"A28737",":","AK28768",65,""]
[null,900,90,null,null,null,null,{"$f":"'1-1000'!AD28769","v":9},{"$f":"'1-1000'!K28769","v":"Zierikzee (1)"},{"$f":"'1-1000'!AH28769","v":1000},"A28769",":","AK28800",0,""]
[null,901,91,null,null,null,null,{"$f":"'1-1000'!AD28801","v":9},{"$f":"'1-1000'!K28801","v":"Zierikzee (2)"},{"$f":"'1-1000'!AH28801","v":1000},"A28801",":","AK28832",0,""]
[null,902,91,null,null,null,null,{"$f":"'1-1000'!AD28833","v":9},{"$f":"'1-1000'!K28833","v":"Zierikzee (3)"},{"$f":"'1-1000'!AH28833","v":1000},"A28833",":","AK28864",0,""]
[null,903,91,null,null,null,null,{"$f":"'1-1000'!AD28865","v":9},{"$f":"'1-1000'!K28865","v":"Zoetermeer"},{"$f":"'1-1000'!AH28865","v":1000},"A28865",":","AK28896",0,""]
[null,904,91,null,null,null,null,{"$f":"'1-1000'!AD28897","v":9},{"$f":"'1-1000'!K28897","v":"Zoetermeer (1)"},{"$f":"'1-1000'!AH28897","v":1000},"A28897",":","AK28928",0,""]
[null,905,91,null,null,null,null,{"$f":"'1-1000'!AD28929","v":9},{"$f":"'1-1000'!K28929","v":"Zoetermeer (2)"},{"$f":"'1-1000'!AH28929","v":1000},"A28929",":","AK28960",0,""]
[null,906,91,null,null,null,null,{"$f":"'1-1000'!AD28961","v":9},{"$f":"'1-1000'!K28961","v":"Zuidlaren"},{"$f":"'1-1000'!AH28961","v":1000},"A28961",":","AK28992",0,""]
[null,907,91,null,null,null,null,{"$f":"'1-1000'!AD28993","v":9},{"$f":"'1-1000'!K28993","v":"Zuidlaren (1)"},{"$f":"'1-1000'!AH28993","v":1000},"A28993",":","AK29024",0,""]
[null,908,91,null,null,null,null,{"$f":"'1-1000'!AD29025","v":9},{"$f":"'1-1000'!K29025","v":"Zuid-Scharwoude"},{"$f":"'1-1000'!AH29025","v":1000},"A29025",":","AK29056",0,""]
[null,909,91,null,null,null,null,{"$f":"'1-1000'!AD29057","v":9},{"$f":"'1-1000'!K29057","v":"Zundert"},{"$f":"'1-1000'!AH29057","v":1000},"A29057",":","AK29088",0,""]
[null,910,91,null,null,null,null,{"$f":"'1-1000'!AD29089","v":1},{"$f":"'1-1000'!K29089","v":"Zutphen"},{"$f":"'1-1000'!AH29089","v":50},"A29089",":","AK29120",950,""]
[null,911,91,null,null,null,null,{"$f":"'1-1000'!AD29121","v":9},{"$f":"'1-1000'!K29121","v":"Zutphen (1)"},{"$f":"'1-1000'!AH29121","v":1000},"A29121",":","AK29152",0,""]
[null,912,92,null,null,null,null,{"$f":"'1-1000'!AD29153","v":9},{"$f":"'1-1000'!K29153","v":"Zutphen (2)"},{"$f":"'1-1000'!AH29153","v":1000},"A29153",":","AK29184",0,""]
[null,913,92,null,null,null,null,{"$f":"'1-1000'!AD29185","v":9},{"$f":"'1-1000'!K29185","v":"Zutphen (3)"},{"$f":"'1-1000'!AH29185","v":1000},"A29185",":","AK29216",0,""]
[null,914,92,null,null,null,null,{"$f":"'1-1000'!AD29217","v":9},{"$f":"'1-1000'!K29217","v":"Zwanenburg"},{"$f":"'1-1000'!AH29217","v":999},"A29217",":","AK29248",1,""]
[null,915,92,null,null,null,null,{"$f":"'1-1000'!AD29249","v":9},{"$f":"'1-1000'!K29249","v":"Zwanenburg (1)"},{"$f":"'1-1000'!AH29249","v":1000},"A29249",":","AK29280",0,""]
[null,916,92,null,null,null,null,{"$f":"'1-1000'!AD29281","v":1},{"$f":"'1-1000'!K29281","v":"Zwolle"},{"$f":"'1-1000'!AH29281","v":58},"A29281",":","AK29312",942,""]
[null,917,92,null,null,null,null,{"$f":"'1-1000'!AD29313","v":9},{"$f":"'1-1000'!K29313","v":"Zwolle (1)"},{"$f":"'1-1000'!AH29313","v":1000},"A29313",":","AK29344",0,""]
[null,918,92,null,null,null,null,{"$f":"'1-1000'!AD29345","v":9},{"$f":"'1-1000'!K29345","v":"Zwolle (2)"},{"$f":"'1-1000'!AH29345","v":1000},"A29345",":","AK29376",0,""]
[null,919,92,null,null,null,null,{"$f":"'1-1000'!AD29377","v":9},{"$f":"'1-1000'!K29377","v":"Zwolle (3)"},{"$f":"'1-1000'!AH29377","v":1000},"A29377",":","AK29408",0,""]
[null,920,92,null,null,null,null,{"$f":"'1-1000'!AD29409","v":9},{"$f":"'1-1000'!K29409","v":"Zl - Assendorperstraat"},{"$f":"'1-1000'!AH29409","v":1000},"A29409",":","AK29440",0,""]
["x",921,92,null,null,null,null,{"$f":"'1-1000'!AD29441","v":9},{"$f":"'1-1000'!K29441","v":"Zl - Hogenkampsweg"},{"$f":"'1-1000'!AH29441","v":1000},"A29441",":","AK29472",0,""]
[null,922,92,null,null,null,null,{"$f":"'1-1000'!AD29473","v":9},{"$f":"'1-1000'!K29473","v":"Zl - Nieuwe Markt"},{"$f":"'1-1000'!AH29473","v":1000},"A29473",":","AK29504",0,""]
[null,923,93,null,null,null,null,{"$f":"'1-1000'!AD29505","v":9},{"$f":"'1-1000'!K29505","v":"Zl - Nieuwe Markt (1)"},{"$f":"'1-1000'!AH29505","v":1000},"A29505",":","AK29536",0,""]
[null,924,93,null,null,null,null,{"$f":"'1-1000'!AD29537","v":9},{"$f":"'1-1000'!K29537","v":"Zl - Nieuwe Markt (2)"},{"$f":"'1-1000'!AH29537","v":1000},"A29537",":","AK29568",0,""]
[null,925,93,null,null,null,null,{"$f":"'1-1000'!AD29569","v":9},{"$f":"'1-1000'!K29569","v":"Zl - Sweelinckplein"},{"$f":"'1-1000'!AH29569","v":1000},"A29569",":","AK29600",0,""]
[null,926,93,null,null,null,null,{"$f":"'1-1000'!AD29601","v":9},{"$f":"'1-1000'!K29601","v":"Zl - Sweelinckplein (1)"},{"$f":"'1-1000'!AH29601","v":1000},"A29601",":","AK29632",0,""]
[null,927,93,null,null,null,null,{"$f":"'1-1000'!AD29633","v":9},{"$f":"'1-1000'!K29633","v":"Zl - Vroom en Dreesmann"},{"$f":"'1-1000'!AH29633","v":1000},"A29633",":","AK29664",0,""]
[null,928,93,null,null,null,null,{"$f":"'1-1000'!AD29665","v":9},{"$f":"'1-1000'!K29665","v":"Zwijndrecht"},{"$f":"'1-1000'!AH29665","v":847},"A29665",":","AK29696",153,""]
[null,929,93,null,null,null,null,{"$f":"'1-1000'!AD29697","v":9},{"$f":"'1-1000'!K29697","v":"Zwijndrecht (1)"},{"$f":"'1-1000'!AH29697","v":1000},"A29697",":","AK29728",0,""]
[null,930,93,null,null,null,null,{"$f":"'1-1000'!AD29729","v":9},{"$f":"'1-1000'!K29729","v":"Zwijndrecht (2)"},{"$f":"'1-1000'!AH29729","v":1000},"A29729",":","AK29760",0,""]
[null,931,93,null,null,null,null,{"$f":"'1-1000'!AD29761","v":9},{"$f":"'1-1000'!K29761","v":"Zwijndrecht (3)"},{"$f":"'1-1000'!AH29761","v":1000},"A29761",":","AK29792",0,""]
[null,932,93,null,null,null,null,{"$f":"'1-1000'!AD29793","v":9},{"$f":"'1-1000'!K29793","v":"Zwijndrecht (4)"},{"$f":"'1-1000'!AH29793","v":1000},"A29793",":","AK29824",0,""]
[null,933,93,null,null,null,null,{"$f":"'1-1000'!AD29825","v":9},{"$f":"'1-1000'!K29825","v":"Zwijndrecht (5)"},{"$f":"'1-1000'!AH29825","v":1000},"A29825",":","AK29856",0,""]
[null,934,94,null,null,null,null,{"$f":"'1-1000'!AD29857","v":2},{"$f":"'1-1000'!K29857","v":"Asd - ABN Bank (82)"},{"$f":"'1-1000'!AH29857","v":34},"A29857",":","AK29888",966,""]
[null,935,94,null,null,null,null,{"$f":"'1-1000'!AD29889","v":0},{"$f":"'1-1000'!K29889","v":"Asd - AMRO Bank (84)"},{"$f":"'1-1000'!AH29889","v":13},"A29889",":","AK29920",987,""]
[null,936,94,null,null,null,null,{"$f":"'1-1000'!AD29921","v":0},{"$f":"'1-1000'!K29921","v":"Asd - AMRO Bank (85)"},{"$f":"'1-1000'!AH29921","v":33},"A29921",":","AK29952",967,""]
[null,937,94,null,null,null,null,{"$f":"'1-1000'!AD29953","v":6},{"$f":"'1-1000'!K29953","v":"Asd - AMRO Bank (86)"},{"$f":"'1-1000'!AH29953","v":385},"A29953",":","AK29984",615,""]
[null,938,94,null,null,null,null,{"$f":"'1-1000'!AD29985","v":3},{"$f":"'1-1000'!K29985","v":"Asd - Bank der Bondsspaarbanken (89)"},{"$f":"'1-1000'!AH29985","v":183},"A29985",":","AK30016",817,""]
[null,939,94,null,null,null,null,{"$f":"'1-1000'!AD30017","v":0},{"$f":"'1-1000'!K30017","v":"Asd - Bank Paribas (73)"},{"$f":"'1-1000'!AH30017","v":0},"A30017",":","AK30048",1000,{"$f":"IF(J940=0,\"COMPL\",\"\")","v":"COMPL"}]
[null,940,94,null,null,null,null,{"$f":"'1-1000'!AD30049","v":0},{"$f":"'1-1000'!K30049","v":"Asd - Grenswisselkantoren (14)       1/2 serie"},{"$f":"'1-1000'!AH30049","v":405},"A30049",":","AK30080",595,{"$f":"IF(J941=0,\"COMPL\",\"\")","v":""}]
[null,941,94,null,null,null,null,{"$f":"'1-1000'!AD30081","v":6},{"$f":"'1-1000'!K30081","v":"Asd - Wm H Muller en Co (10)           1/2 serie"},{"$f":"'1-1000'!AH30081","v":517},"A30081",":","AK30112",483,""]
[null,942,94,null,null,null,null,{"$f":"'1-1000'!AD30113","v":4},{"$f":"'1-1000'!K30113","v":"Asd - Nederlandse Bank (5)              1/2 serie"},{"$f":"'1-1000'!AH30113","v":640},"A30113",":","AK30144",360,""]
["x",943,94,null,null,null,null,{"$f":"'1-1000'!AD30145","v":3},{"$f":"'1-1000'!K30145","v":"Asd - Nederlandse Credietbank (46)"},{"$f":"'1-1000'!AH30145","v":223},"A30145",":","AK30176",777,""]
[null,944,95,null,null,null,null,{"$f":"'1-1000'!AD30177","v":4},{"$f":"'1-1000'!K30177","v":"Asd - Nederlandse Middenstandsbank (17)"},{"$f":"'1-1000'!AH30177","v":294},"A30177",":","AK30208",706,""]
[null,945,95,null,null,null,null,{"$f":"'1-1000'!AD30209","v":0},{"$f":"'1-1000'!K30209","v":"Asd - Nederlandse Middenstandsbank (83)"},{"$f":"'1-1000'!AH30209","v":20},"A30209",":","AK30240",980,""]
[null,946,95,null,null,null,null,{"$f":"'1-1000'!AD30241","v":4},{"$f":"'1-1000'!K30241","v":"Asd - NMB Bank (17)"},{"$f":"'1-1000'!AH30241","v":222},"A30241",":","AK30272",778,""]
[null,947,95,null,null,null,null,{"$f":"'1-1000'!AD30273","v":3},{"$f":"'1-1000'!K30273","v":"Asd - NMB Bank (83)"},{"$f":"'1-1000'!AH30273","v":145},"A30273",":","AK30304",855,""]
[null,948,95,null,null,null,null,{"$f":"'1-1000'!AD30305","v":6},{"$f":"'1-1000'!K30305","v":"Asd - Heldring & Pierson (12)            1/2 serie"},{"$f":"'1-1000'!AH30305","v":665},"A30305",":","AK30336",335,""]
[null,949,95,null,null,null,null,{"$f":"'1-1000'!AD30337","v":0},{"$f":"'1-1000'!K30337","v":"Asd - Postbank (0-249) (zelfkl)"},{"$f":"'1-1000'!AH30337","v":3},"A30337",":","AK30368",{"$f":"250-J950","v":247},""]
[null,950,95,null,null,null,null,{"$f":"'1-1000'!AD30369","v":0},{"$f":"'1-1000'!K30369","v":"Asd - Postbank (6OO-669) (zelfkl)"},{"$f":"'1-1000'!AH30369","v":9},"A30369",":","AK30400",{"$f":"70-J951","v":61},""]
[null,951,95,null,null,null,null,{"$f":"'1-1000'!AD30401","v":4},{"$f":"'1-1000'!K30401","v":"Asd - Postbus 283 (84)"},{"$f":"'1-1000'!AH30401","v":157},"A30401",":","AK30432",843,""]
[null,952,95,null,null,null,null,{"$f":"'1-1000'!AD30433","v":4},{"$f":"'1-1000'!K30433","v":"Asd - Postbus 283 (85)"},{"$f":"'1-1000'!AH30433","v":168},"A30433",":","AK30464",832,""]
[null,953,95,null,null,null,null,{"$f":"'1-1000'!AD30465","v":5},{"$f":"'1-1000'!K30465","v":"Asd - Postbus 283 (86)"},{"$f":"'1-1000'!AH30465","v":343},"A30465",":","AK30496",657,""]
[null,954,96,null,null,null,null,{"$f":"'1-1000'!AD30497","v":2},{"$f":"'1-1000'!K30497","v":"Asd - Raad van Beroep (4)                1/2 serie"},{"$f":"'1-1000'!AH30497","v":99},"A30497",":","AK30528",{"$f":"500-J955","v":401},""]
[null,955,96,null,null,null,null,{"$f":"'1-1000'!AD30529","v":0},{"$f":"'1-1000'!K30529","v":"Ah - Paleis van Justitie (8)"},{"$f":"'1-1000'!AH30529","v":172},"A30529",":","AK30560",828,""]
[null,956,96,null,null,null,null,{"$f":"'1-1000'!AD30561","v":2},{"$f":"'1-1000'!K30561","v":"Ah - Postbank (0-999) (zelfkl)"},{"$f":"'1-1000'!AH30561","v":228},"A30561",":","AK30592",772,""]
[null,957,96,null,null,null,null,{"$f":"'1-1000'!AD30593","v":6},{"$f":"'1-1000'!K30593","v":"Bd - Alg Bank Nederland CKE (30)"},{"$f":"'1-1000'!AH30593","v":654},"A30593",":","AK30624",346,""]
["x",958,96,null,null,null,null,{"$f":"'1-1000'!AD30625","v":9},{"$f":"'1-1000'!K30625","v":"Bunnik - NMB Heller"},{"$f":"'1-1000'!AH30625","v":490},"A30625",":","AK30656",510,""]
[null,959,96,null,null,null,null,{"$f":"'1-1000'!AD30657","v":3},{"$f":"'1-1000'!K30657","v":"Ca - DATACARD (10)"},{"$f":"'1-1000'!AH30657","v":578},"A30657",":","AK30688",422,""]
[null,960,96,null,null,null,null,{"$f":"'1-1000'!AD30689","v":5},{"$f":"'1-1000'!K30689","v":"Dt - Kantongerecht (8)"},{"$f":"'1-1000'!AH30689","v":595},"A30689",":","AK30720",405,""]
[null,961,96,null,null,null,null,{"$f":"'1-1000'!AD30721","v":5},{"$f":"'1-1000'!K30721","v":"Ed - CTB"},{"$f":"'1-1000'!AH30721","v":237},"A30721",":","AK30752",763,""]
[null,962,96,null,null,null,null,{"$f":"'1-1000'!AD30753","v":2},{"$f":"'1-1000'!K30753","v":"Ehv - Expeditie (1)"},{"$f":"'1-1000'!AH30753","v":292},"A30753",":","AK30784",{"$f":"1000-J963","v":708},""]
["x",963,96,null,null,null,null,{"$f":"'1-1000'!AD30785","v":3},{"$f":"'1-1000'!K30785","v":"Ehv - Kassier"},{"$f":"'1-1000'!AH30785","v":111},"A30785",":","AK30816",889,""]
[null,964,97,null,null,null,null,{"$f":"'1-1000'!AD30817","v":5},{"$f":"'1-1000'!K30817","v":"Ehv - Philips Gloeilampenfabrieken"},{"$f":"'1-1000'!AH30817","v":387},"A30817",":","AK30848",613,""]
[null,965,97,null,null,null,null,{"$f":"'1-1000'!AD30849","v":0},{"$f":"'1-1000'!K30849","v":"Ehv - Philips Gloeilampenfabrieken (17)"},{"$f":"'1-1000'!AH30849","v":41},"A30849",":","AK30880",959,""]
[null,966,97,null,null,null,null,{"$f":"'1-1000'!AD30881","v":0},{"$f":"'1-1000'!K30881","v":"Gv - ABN Bank (21)"},{"$f":"'1-1000'!AH30881","v":297},"A30881",":","AK30912",703,""]
[null,967,97,null,null,null,null,{"$f":"'1-1000'!AD30913","v":2},{"$f":"'1-1000'!K30913","v":"Gv - AMRO Bank (9)"},{"$f":"'1-1000'!AH30913","v":270},"A30913",":","AK30944",730,""]
[null,968,97,null,null,null,null,{"$f":"'1-1000'!AD30945","v":5},{"$f":"'1-1000'!K30945","v":"Gv - Bevelh der Luchtstrijdkrachten (1)"},{"$f":"'1-1000'!AH30945","v":485},"A30945",":","AK30976",515,""]
[null,969,97,null,null,null,null,{"$f":"'1-1000'!AD30977","v":7},{"$f":"'1-1000'!K30977","v":"Gv - Centrale Directie PTT"},{"$f":"'1-1000'!AH30977","v":680},"A30977",":","AK31008",320,""]
[null,970,97,null,null,null,null,{"$f":"'1-1000'!AD31009","v":3},{"$f":"'1-1000'!K31009","v":"Gv - Centrale Directie PTT (1)"},{"$f":"'1-1000'!AH31009","v":408},"A31009",":","AK31040",592,""]
[null,971,97,null,null,null,null,{"$f":"'1-1000'!AD31041","v":9},{"$f":"'1-1000'!K31041","v":"Gv - Cour Int de Justice"},{"$f":"'1-1000'!AH31041","v":709},"A31041",":","AK31072",291,""]
[null,972,97,null,null,null,null,{"$f":"'1-1000'!AD31073","v":0},{"$f":"'1-1000'!K31073","v":"Gv - Filatelistische dienst"},{"$f":"'1-1000'!AH31073","v":102},"A31073",":","AK31104",898,""]
[null,973,97,null,null,null,null,{"$f":"'1-1000'!AD31105","v":3},{"$f":"'1-1000'!K31105","v":"Gv - Insp Dir Bel (26)"},{"$f":"'1-1000'!AH31105","v":201},"A31105",":","AK31136",799,""]
[null,974,98,null,null,null,null,{"$f":"'1-1000'!AD31137","v":3},{"$f":"'1-1000'!K31137","v":"Gv - Min v Marine (15)"},{"$f":"'1-1000'!AH31137","v":575},"A31137",":","AK31168",425,""]
[null,975,98,null,null,null,null,{"$f":"'1-1000'!AD31169","v":0},{"$f":"'1-1000'!K31169","v":"Gv - Postbank S'G (0-49) (zelfkl)"},{"$f":"'1-1000'!AH31169","v":13},"A31169",":","AK31200",{"$f":"50-J976","v":37},""]
[null,976,98,null,null,null,null,{"$f":"'1-1000'!AD31201","v":0},{"$f":"'1-1000'!K31201","v":"Gv - Postbank s'-G (7-49) (zelfkl)"},{"$f":"'1-1000'!AH31201","v":8},"A31201",":","AK31232",{"$f":"42-J977","v":34},""]
[null,977,98,null,null,null,null,{"$f":"'1-1000'!AD31233","v":0},{"$f":"'1-1000'!K31233","v":"Gv - Postbank 's-G (0-59) (zelfkl)"},{"$f":"'1-1000'!AH31233","v":44},"A31233",":","AK31264",{"$f":"59-J978","v":15},""]
[null,978,98,null,null,null,null,{"$f":"'1-1000'!AD31265","v":0},{"$f":"'1-1000'!K31265","v":"Gv - Postbank 's-G (920-962) (zelfkl)"},{"$f":"'1-1000'!AH31265","v":16},"A31265",":","AK31296",{"$f":"60-J979","v":44},""]
[null,979,98,null,null,null,null,{"$f":"'1-1000'!AD31297","v":9},{"$f":"'1-1000'!K31297","v":"Gn - Centrale Directie PTT"},{"$f":"'1-1000'!AH31297","v":517},"A31297",":","AK31328",483,""]
[null,980,98,null,null,null,null,{"$f":"'1-1000'!AD31329","v":7},{"$f":"'1-1000'!K31329","v":"Hlm - Dir Zegelwaarden"},{"$f":"'1-1000'!AH31329","v":409},"A31329",":","AK31360",591,""]
[null,981,98,null,null,null,null,{"$f":"'1-1000'!AD31361","v":5},{"$f":"'1-1000'!K31361","v":"Hrl - Alg Burg Pensioenfonds (33)"},{"$f":"'1-1000'!AH31361","v":603},"A31361",":","AK31392",397,""]
["x",982,98,null,null,null,null,{"$f":"'1-1000'!AD31393","v":6},{"$f":"'1-1000'!K31393","v":"Hrl - Centr Bur Statistiek (34)"},{"$f":"'1-1000'!AH31393","v":611},"A31393",":","AK31424",389,""]
[null,983,98,null,null,null,null,{"$f":"'1-1000'!AD31425","v":8},{"$f":"'1-1000'!K31425","v":"Ht - Agz"},{"$f":"'1-1000'!AH31425","v":640},"A31425",":","AK31456",360,""]
[null,984,99,null,null,null,null,{"$f":"'1-1000'!AD31457","v":7},{"$f":"'1-1000'!K31457","v":"Ht - Bijpo"},{"$f":"'1-1000'!AH31457","v":308},"A31457",":","AK31488",692,""]
[null,985,99,null,null,null,null,{"$f":"'1-1000'!AD31489","v":9},{"$f":"'1-1000'!K31489","v":"Hbk - Centr Bel Buitenland"},{"$f":"'1-1000'!AH31489","v":414},"A31489",":","AK31520",586,""]
[null,986,99,null,null,null,null,{"$f":"'1-1000'!AD31521","v":8},{"$f":"'1-1000'!K31521","v":"Hvt - Partijenpost (6)"},{"$f":"'1-1000'!AH31521","v":699},"A31521",":","AK31552",301,""]
[null,987,99,null,null,null,null,{"$f":"'1-1000'!AD31553","v":3},{"$f":"'1-1000'!K31553","v":"Lw - Administratie P"},{"$f":"'1-1000'!AH31553","v":248},"A31553",":","AK31584",752,""]
["x",988,99,null,null,null,null,{"$f":"'1-1000'!AD31585","v":0},{"$f":"'1-1000'!K31585","v":"Lw - Alg Bank Nederland ACL"},{"$f":"'1-1000'!AH31585","v":139},"A31585",":","AK31616",861,""]
[null,989,99,null,null,null,null,{"$f":"'1-1000'!AD31617","v":0},{"$f":"'1-1000'!K31617","v":"Lw - Gkt - (0-79) (ingedr/smalle \"0\")"},{"$f":"'1-1000'!AH31617","v":13},"A31617",":","AK31648",{"$f":"80-J990","v":67},""]
[null,990,99,null,null,null,null,{"$f":"'1-1000'!AD31649","v":0},{"$f":"'1-1000'!K31649","v":"Lw - Gkt - (0-99) (ingedr/vet nr.)"},{"$f":"'1-1000'!AH31649","v":0},"A31649",":","AK31680",{"$f":"100-J991","v":100},"COMPL"]
[null,991,99,null,null,null,null,{"$f":"'1-1000'!AD31681","v":0},{"$f":"'1-1000'!K31681","v":"Lw - Gkt - (0-1OO) (ingedr/brede \"O\")"},{"$f":"'1-1000'!AH31681","v":0},"A31681",":","AK31712",{"$f":"100-J992","v":100},"COMPL"]
[null,992,99,null,null,null,null,{"$f":"'1-1000'!AD31713","v":0},{"$f":"'1-1000'!K31713","v":"LW - GKT - No (0-99) (ingedr)"},{"$f":"'1-1000'!AH31713","v":1},"A31713",":","AK31744",{"$f":"100-J993","v":99},""]
[null,993,99,null,null,null,null,{"$f":"'1-1000'!AD31745","v":0},{"$f":"'1-1000'!K31745","v":"LW - Gkt - No (0-227) (ingedr)"},{"$f":"'1-1000'!AH31745","v":11},"A31745",":","AK31776",{"$f":"228-J994","v":217},""]
[null,994,100,null,null,null,null,{"$f":"'1-1000'!AD31777","v":0},{"$f":"'1-1000'!K31777","v":"Lw - Neptunusweg 8"},{"$f":"'1-1000'!AH31777","v":0},"A31777",":","AK31808",1000,"COMPL"]
[null,995,100,null,null,null,null,{"$f":"'1-1000'!AD31809","v":0},{"$f":"'1-1000'!K31809","v":"Lw - Postbank (30)"},{"$f":"'1-1000'!AH31809","v":0},"A31809",":","AK31840",1000,"COMPL"]
[null,996,100,null,null,null,null,{"$f":"'1-1000'!AD31841","v":9},{"$f":"'1-1000'!K31841","v":"Mt - Grootzegelverkoop (3)"},{"$f":"'1-1000'!AH31841","v":761},"A31841",":","AK31872",239,""]
[null,997,100,null,null,null,null,{"$f":"'1-1000'!AD31873","v":0},{"$f":"'1-1000'!K31873","v":"Mt - Insp Dir Bel"},{"$f":"'1-1000'!AH31873","v":119},"A31873",":","AK31904",881,""]
["x",998,100,null,null,null,null,{"$f":"'1-1000'!AD31905","v":0},{"$f":"'1-1000'!K31905","v":"Rt - ABN / AMRO (4)"},{"$f":"'1-1000'!AH31905","v":86},"A31905",":","AK31936",914,""]
["x",999,100,null,null,null,null,{"$f":"'1-1000'!AD31937","v":1},{"$f":"'1-1000'!K31937","v":"Rt - Alg Bank Nederland (7)"},{"$f":"'1-1000'!AH31937","v":40},"A31937",":","AK31968",960,""]
[null,1000,100,null,null,null,null,{"$f":"'1-1000'!AD31969","v":0},{"$f":"'1-1000'!K31969","v":"Rt - AMRO Bank (4)"},{"$f":"'1-1000'!AH31969","v":1},"A31969",":","AK32000",999,""]
[null,1001,100,null,null,null,null,{"$f":"'1-1000'!AD32001","v":3},{"$f":"'1-1000'!K32001","v":"Rt - AMRO Bank (94)"},{"$f":"'1-1000'!AH32001","v":200},"A32001",":","AK32032",800,""]
[null,1002,100,null,null,null,null,{"$f":"'1-1000'!AD32033","v":0},{"$f":"'1-1000'!K32033","v":"Rt - Credit Lyonnais Bank (27)"},{"$f":"'1-1000'!AH32033","v":43},"A32033",":","AK32064",957,""]
["x",1003,100,null,null,null,null,{"$f":"'1-1000'!AD32065","v":7},{"$f":"'1-1000'!K32065","v":"Rt - Furness Scheepv (25)"},{"$f":"'1-1000'!AH32065","v":457},"A32065",":","AK32096",543,""]
[null,1004,101,null,null,null,null,{"$f":"'1-1000'!AD32097","v":0},{"$f":"'1-1000'!K32097","v":"Rt - Goudsmit (29)"},{"$f":"'1-1000'!AH32097","v":0},"A32097",":","AK32128",1000,{"$f":"IF(J1005=0,\"COMPL\",\"\")","v":"COMPL"}]
[null,1005,101,null,null,null,null,{"$f":"'1-1000'!AD32129","v":6},{"$f":"'1-1000'!K32129","v":"Rt - Griff Arr Rechtbank (20)"},{"$f":"'1-1000'!AH32129","v":487},"A32129",":","AK32160",513,""]
["x",1006,101,null,null,null,null,{"$f":"'1-1000'!AD32161","v":3},{"$f":"'1-1000'!K32161","v":"Rt - Griff Kantongerecht (22)"},{"$f":"'1-1000'!AH32161","v":303},"A32161",":","AK32192",697,""]
[null,1007,101,null,null,null,null,{"$f":"'1-1000'!AD32193","v":1},{"$f":"'1-1000'!K32193","v":"Rt - Insp der Belastingen (30)"},{"$f":"'1-1000'!AH32193","v":70},"A32193",":","AK32224",930,""]
[null,1008,101,null,null,null,null,{"$f":"'1-1000'!AD32225","v":0},{"$f":"'1-1000'!K32225","v":"Rt - Mees…… (62)"},{"$f":"'1-1000'!AH32225","v":0},"A32225",":","AK32256",1000,"COMPL"]
[null,1009,101,null,null,null,null,{"$f":"'1-1000'!AD32257","v":0},{"$f":"'1-1000'!K32257","v":"Rt - Zegelverkoop (1)"},{"$f":"'1-1000'!AH32257","v":373},"A32257",":","AK32288",627,""]
[null,1010,101,null,null,null,null,{"$f":"'1-1000'!AD32289","v":7},{"$f":"'1-1000'!K32289","v":"Sdm - Kantongerecht (4)"},{"$f":"'1-1000'!AH32289","v":346},"A32289",":","AK32320",654,""]
[null,1011,101,null,null,null,null,{"$f":"'1-1000'!AD32321","v":6},{"$f":"'1-1000'!K32321","v":"Std - Expeditieknooppunt (10)"},{"$f":"'1-1000'!AH32321","v":466},"A32321",":","AK32352",534,""]
[null,1012,101,null,null,null,null,{"$f":"'1-1000'!AD32353","v":6},{"$f":"'1-1000'!K32353","v":"Tnz - Dow Chemical (10)"},{"$f":"'1-1000'!AH32353","v":479},"A32353",":","AK32384",521,""]
[null,1013,101,null,null,null,null,{"$f":"'1-1000'!AD32385","v":7},{"$f":"'1-1000'!K32385","v":"Tb - Bijpo VC"},{"$f":"'1-1000'!AH32385","v":556},"A32385",":","AK32416",444,""]
[null,1014,102,null,null,null,null,{"$f":"'1-1000'!AD32417","v":0},{"$f":"'1-1000'!K32417","v":"Ut - Centrale Bank"},{"$f":"'1-1000'!AH32417","v":130},"A32417",":","AK32448",870,""]
[null,1015,102,null,null,null,null,{"$f":"'1-1000'!AD32449","v":3},{"$f":"'1-1000'!K32449","v":"Ut - Centrale Bank P (1)"},{"$f":"'1-1000'!AH32449","v":270},"A32449",":","AK32480",730,""]
[null,1016,102,null,null,null,null,{"$f":"'1-1000'!AD32481","v":0},{"$f":"'1-1000'!K32481","v":"Ut - Centrale Rabobank"},{"$f":"'1-1000'!AH32481","v":0},"A32481",":","AK32512",1000,"COMPL"]
[null,1017,102,null,null,null,null,{"$f":"'1-1000'!AD32513","v":4},{"$f":"'1-1000'!K32513","v":"Ut - Centrale Rabobank VK"},{"$f":"'1-1000'!AH32513","v":221},"A32513",":","AK32544",779,""]
[null,1018,102,null,null,null,null,{"$f":"'1-1000'!AD32545","v":2},{"$f":"'1-1000'!K32545","v":"Ut - Expeditieknooppunt"},{"$f":"'1-1000'!AH32545","v":391},"A32545",":","AK32576",609,""]
[null,1019,102,null,null,null,null,{"$f":"'1-1000'!AD32577","v":8},{"$f":"'1-1000'!K32577","v":"Ut - Exp \\ Knooppunt (zelfkl. type Y)"},{"$f":"'1-1000'!AH32577","v":495},"A32577",":","AK32608",505,""]
[null,1020,102,null,null,null,null,{"$f":"'1-1000'!AD32609","v":8},{"$f":"'1-1000'!K32609","v":"Ut - Griff Kantongerecht"},{"$f":"'1-1000'!AH32609","v":458},"A32609",":","AK32640",542,""]
[null,1021,102,null,null,null,null,{"$f":"'1-1000'!AD32641","v":0},{"$f":"'1-1000'!K32641","v":"Ut - Insp Dir Bel 1e afd"},{"$f":"'1-1000'!AH32641","v":475},"A32641",":","AK32672",525,""]
[null,1022,102,null,null,null,null,{"$f":"'1-1000'!AD32673","v":7},{"$f":"'1-1000'!K32673","v":"Ut - Provinciaal Bestuur"},{"$f":"'1-1000'!AH32673","v":650},"A32673",":","AK32704",350,""]
[null,1023,102,null,null,null,null,{"$f":"'1-1000'!AD32705","v":8},{"$f":"'1-1000'!K32705","v":"Ut - RABO Bank"},{"$f":"'1-1000'!AH32705","v":304},"A32705",":","AK32736",696,""]
["x",1024,103,null,null,null,null,{"$f":"'1-1000'!AD32737","v":0},{"$f":"'1-1000'!K32737","v":"Ut - VSB Bank Admie"},{"$f":"'1-1000'!AH32737","v":550},"A32737",":","AK32768",450,""]
["x",1025,103,null,null,null,null,{"$f":"'1-1000'!AD32769","v":0},{"$f":"'1-1000'!K32769","v":"Ut - VSB Bank Ass"},{"$f":"'1-1000'!AH32769","v":552},"A32769",":","AK32800",448,""]
[null,1026,103,null,null,null,null,{"$f":"'1-1000'!AD32801","v":8},{"$f":"'1-1000'!K32801","v":"Vdm - RDW (33)"},{"$f":"'1-1000'!AH32801","v":726},"A32801",":","AK32832",{"$f":"1000-J1027","v":274},""]
[null,1027,103,null,null,null,null,{"$f":"'1-1000'!AD32833","v":9},{"$f":"'1-1000'!K32833","v":"Vl - Postbussen Kp"},{"$f":"'1-1000'!AH32833","v":584},"A32833",":","AK32864",416,""]
[null,1028,103,null,null,null,null,{"$f":"'1-1000'!AD32865","v":5},{"$f":"'1-1000'!K32865","v":"Vliegbasis Volkel"},{"$f":"'1-1000'!AH32865","v":552},"A32865",":","AK32896",448,""]
[null,1029,103,null,null,null,null,{"$f":"'1-1000'!AD32897","v":9},{"$f":"'1-1000'!K32897","v":"Ww - Vc"},{"$f":"'1-1000'!AH32897","v":492},"A32897",":","AK32928",508,""]
[null,1030,103,null,null,null,null,{"$f":"'1-1000'!AD32929","v":6},{"$f":"'1-1000'!K32929","v":"Wt - Voorsorteercentrum (10)"},{"$f":"'1-1000'!AH32929","v":255},"A32929",":","AK32960",745,""]
[null,1031,103,null,null,null,null,{"$f":"'1-1000'!AD32961","v":0},{"$f":"'1-1000'!K32961","v":"Buitenland 1e"},{"$f":"'1-1000'!AH32961","v":0},"A32961",":","AK32992",1000,"COMPL"]
[null,1032,103,null,null,null,null,{"$f":"'1-1000'!AD32993","v":0},{"$f":"'1-1000'!K32993","v":"Buitenland 2e"},{"$f":"'1-1000'!AH32993","v":0},"A32993",":","AK33024",1000,"COMPL"]
[null,1033,103,null,null,null,null,{"$f":"'1-1000'!AD33025","v":0},{"$f":"'1-1000'!K33025","v":"Buitenland 3e"},{"$f":"'1-1000'!AH33025","v":0},"A33025",":","AK33056",1000,"COMPL"]
[null,1034,"Inst.",null,null,null,null,{"$f":"'1-1000'!AD33057","v":1},{"$f":"'1-1000'!K33057","v":"Suriname + Ned. Antillen"},{"$f":"'1-1000'!AH33057","v":87},"A33057",":","AK33088",913,""]
[null,1035,"Inst.",null,null,null,null,{"$f":"'1-1000'!AD33089","v":5},{"$f":"'1-1000'!K33089","v":"Suriname + Ned. Antillen (1)"},{"$f":"'1-1000'!AH33089","v":472},"A33089",":","AK33120",528,""]
[null,1036,"Inst.",null,null,null,null,{"$f":"'1-1000'!AD33121","v":7},{"$f":"'1-1000'!K33121","v":"Suriname + Ned. Antillen (2)"},{"$f":"'1-1000'!AH33121","v":464},"A33121",":","AK33152",536,""]
[null,1037,"Inst.",null,null,null,null,{"$f":"'1-1000'!AD33153","v":3},{"$f":"'1-1000'!K33153","v":"Suriname + Ned. Antillen (3)"},{"$f":"'1-1000'!AH33153","v":452},"A33153",":","AK33184",548,""]
[null,1038,"Inst.",null,null,null,null,{"$f":"'1-1000'!AD33185","v":5},{"$f":"'1-1000'!K33185","v":"Suriname + Ned. Antillen (4)"},{"$f":"'1-1000'!AH33185","v":429},"A33185",":","AK33216",571,""]
[null,1039,"Inst.",null,null,null,null,{"$f":"'1-1000'!AD33217","v":0},{"$f":"'1-1000'!K33217","v":"Type A t/m K (0)"},{"$f":"'1-1000'!AH33217","v":3},"A33217",":","AK33248",{"$f":"1000-J1040","v":997},""]
[null,1040,"Inst.",null,null,null,null,{"$f":"'1-1000'!AD33249","v":0},{"$f":"'1-1000'!K33249","v":"Type A t/m K (0) 2e"},{"$f":"'1-1000'!AH33249","v":10},"A33249",":","AK33280",{"$f":"1000-J1041","v":990},""]
["x",1041,"Inst.",null,null,null,null,{"$f":"'1-1000'!AD33281","v":0},{"$f":"'1-1000'!K33281","v":"Rijdend Postkantoor 2e"},{"$f":"'1-1000'!AH33281","v":143},"A33281",":","AK33312",{"$f":"1000-J1042","v":857},""]

{"sheet":"1-1000","index":1,"n_rows":33311,"n_cols":37,"rows_kept":2250,"cut":true,"hidden":false,"merged":[[18240,33,18241,34],[18336,10,18337,26],[18336,31,18337,32],[21632,10,21633,26],[30176,1,30177,2],[30656,1,30657,2],[30368,33,30369,34],[30208,33,30209,34],[30208,31,30209,32],[30240,1,30241,2],[30240,31,30241,32],[30336,33,30337,34],[23072,31,23073,32],[29728,10,29729,26],[29696,10,29697,26],[23616,31,23617,32],[30208,1,30209,2],[21856,31,21857,32],[21856,33,21857,34],[21888,1,21889,2],[21888,31,21889,32],[21472,10,21473,26],[21504,10,21505,26],[21536,10,21537,26],[21568,10,21569,26],[21600,10,21601,26],[29952,33,29953,34],[21664,10,21665,26],[21696,10,21697,26],[18272,31,18273,32],[19870,20,19870,21],[22400,10,22401,26],[22432,10,22433,26],[22464,10,22465,26],[18336,33,18337,34],[22398,20,22398,21],[30016,33,30017,34],[22656,33,22657,34],[23264,10,23265,26],[23296,10,23297,26],[18048,1,18049,2],[18240,10,18241,26],[18240,31,18241,32],[21022,20,21022,21],[23616,33,23617,34],[21472,1,21473,2],[21472,31,21473,32],[21472,33,21473,34],[21504,1,21505,2],[21504,31,21505,32],[21504,33,21505,34],[21664,33,21665,34],[21728,33,21729,34],[21696,31,21697,32],[21696,33,21697,34],[21664,31,21665,32],[30016,1,30017,2],[21856,1,21857,2],[18176,33,18177,34],[21728,10,21729,26],[21760,10,21761,26],[18400,33,18401,34],[18464,1,18465,2],[18496,10,18497,26],[33184,1,33185,2],[33152,1,33153,2],[33120,1,33121,2],[33088,1,33089,2],[33056,1,33057,2],[33118,20,33118,21],[29440,33,29441,34],[27584,31,27585,32],[27584,33,27585,34],[31328,31,31329,32],[31296,1,31297,2],[29472,10,29473,26],[29440,10,29441,26],[29408,10,29409,26],[29376,10,29377,26],[29344,10,29345,26],[29312,10,29313,26],[29280,10,29281,26],[29248,10,29249,26],[30048,1,30049,2],[30366,20,30366,21],[30368,1,30369,2],[30368,31,30369,32],[30080,1,30081,2],[30336,1,30337,2],[30144,1,30145,2],[30144,31,30145,32],[31264,1,31265,2],[31104,33,31105,34],[30496,1,30497,2],[30528,33,30529,34],[30560,1,30561,2],[17216,10,17217,26],[30656,31,30657,32],[30656,33,30657,34],[13888,1,13889,2],[13888,10,13889,26],[13888,31,13889,32],[13984,1,13985,2],[13984,10,13985,26],[13984,31,13985,32],[14016,1,14017,2],[14272,1,14273,2],[14272,10,14273,26],[14432,10,14433,26],[14496,10,14497,26],[15136,1,15137,2],[18368,1,18369,2],[18368,10,18369,26],[18368,31,18369,32],[18368,33,18369,34],[18048,31,18049,32],[18048,33,18049,34],[18048,10,18049,26],[14752,31,14753,32],[14752,33,14753,34],[14784,1,14785,2],[18272,1,18273,2],[18208,10,18209,26],[23328,10,23329,26],[17632,10,17633,26],[21792,10,21793,26],[18336,1,18337,2],[17984,10,17985,26],[13408,33,13409,34],[13472,33,13473,34],[13470,20,13470,21],[13472,10,13473,26],[14976,10,14977,26],[14656,1,14657,2],[14240,1,14241,2],[14240,10,14241,26],[14240,31,14241,32],[14240,33,14241,34],[14208,1,14209,2],[14208,10,14209,26],[14208,31,14209,32],[14720,10,14721,26],[14528,1,14529,2],[14528,10,14529,26],[14528,31,14529,32],[14560,1,14561,2],[14560,10,14561,26],[14592,31,14593,32],[14592,33,14593,34],[14624,1,14625,2],[14624,10,14625,26],[14624,31,14625,32],[14624,33,14625,34],[14560,31,14561,32],[14688,1,14689,2],[14688,10,14689,26],[14688,31,14689,32],[14752,10,14753,26],[14720,33,14721,34],[14304,10,14305,26],[13920,31,13921,32],[13920,33,13921,34],[13952,1,13953,2],[13952,10,13953,26],[13952,31,13953,32],[13952,33,13953,34],[14400,33,14401,34],[14880,33,14881,34],[14267,8,14267,9],[13440,1,13441,2],[13472,1,13473,2],[13504,31,13505,32],[18272,10,18273,26],[14016,31,14017,32],[13632,33,13633,34],[13758,20,13758,21],[13664,33,13665,34],[13694,20,13694,21],[13696,10,13697,26],[13696,31,13697,32],[14272,31,14273,32],[14272,33,14273,34],[14304,1,14305,2],[13440,31,13441,32],[14528,33,14529,34],[14496,1,14497,2],[14752,1,14753,2],[14270,2,14270,3],[15008,1,15009,2],[14976,1,14977,2],[15008,10,15009,26],[15296,10,15297,26],[13472,31,13473,32],[13216,10,13217,26],[13216,31,13217,32],[13216,33,13217,34],[13184,10,13185,26],[13536,10,13537,26],[13536,31,13537,32],[13504,10,13505,26],[13440,33,13441,34],[13408,10,13409,26],[13408,31,13409,32],[13504,33,13505,34],[14304,31,14305,32],[13056,33,13057,34],[13696,33,13697,34],[13536,33,13537,34],[13152,33,13153,34],[13184,33,13185,34],[13120,33,13121,34],[13760,33,13761,34],[14080,33,14081,34],[14048,10,14049,26],[14048,31,14049,32],[13728,33,13729,34],[13728,10,13729,26],[13728,31,13729,32],[14176,31,14177,32],[14176,33,14177,34],[14208,33,14209,34],[13344,33,13345,34],[13376,33,13377,34],[13344,10,13345,26],[13632,1,13633,2],[13632,10,13633,26],[13664,10,13665,26],[13664,31,13665,32],[13824,1,13825,2],[13824,10,13825,26],[13824,31,13825,32],[12960,1,12961,2],[13792,1,13793,2],[13792,10,13793,26],[13792,31,13793,32],[13745,19,13745,20],[13632,31,13633,32],[13536,1,13537,2],[13696,1,13697,2],[13664,1,13665,2],[13376,1,13377,2],[13312,1,13313,2],[13312,10,13313,26],[13024,1,13025,2],[13024,10,13025,26],[12992,31,12993,32],[12992,1,12993,2],[13152,1,13153,2],[13152,10,13153,26],[13440,10,13441,26],[13120,1,13121,2],[13120,10,13121,26],[13120,31,13121,32],[13568,1,13569,2],[13600,1,13601,2],[13728,1,13729,2],[13344,31,13345,32],[13184,31,13185,32],[13248,33,13249,34],[13280,10,13281,26],[13280,31,13281,32],[13376,31,13377,32],[13312,33,13313,34],[13024,31,13025,32],[12928,1,12929,2],[12896,31,12897,32],[12800,33,12801,34],[12832,33,12833,34],[12832,31,12833,32],[12960,31,12961,32],[13022,20,13022,21],[13088,33,13089,34],[13312,31,13313,32],[12928,33,12929,34],[12960,33,12961,34],[12928,10,12929,26],[13152,31,13153,32],[12992,33,12993,34],[12960,10,12961,26],[13280,33,13281,34],[12448,10,12449,26],[12352,10,12353,26],[12256,1,12257,2],[12224,10,12225,26],[12576,1,12577,2],[12640,31,12641,32],[12576,31,12577,32],[12640,1,12641,2],[12704,33,12705,34],[12736,33,12737,34],[12864,31,12865,32],[12864,33,12865,34],[12896,33,12897,34],[12832,1,12833,2],[12800,31,12801,32],[12768,1,12769,2],[12320,31,12321,32],[12768,10,12769,26],[12672,31,12673,32],[12832,10,12833,26],[12768,31,12769,32],[12896,1,12897,2],[12896,10,12897,26],[12768,33,12769,34],[12736,31,12737,32],[12352,33,12353,34],[12288,1,12289,2],[12288,10,12289,26],[12704,31,12705,32],[12224,31,12225,32],[12224,33,12225,34],[12672,33,12673,34],[12192,10,12193,26],[12192,31,12193,32],[11840,10,11841,26],[11680,33,11681,34],[11584,1,11585,2],[11648,31,11649,32],[11616,1,11617,2],[11616,10,11617,26],[12128,1,12129,2],[12128,10,12129,26],[12128,31,12129,32],[12064,10,12065,26],[12064,31,12065,32],[12032,31,12033,32],[12032,1,12033,2],[12000,33,12001,34],[11744,33,11745,34],[12000,31,12001,32],[11840,33,11841,34],[11808,31,11809,32],[11840,31,11841,32],[11840,1,11841,2],[11872,31,11873,32],[11808,33,11809,34],[12064,1,12065,2],[12000,1,12001,2],[12000,10,12001,26],[11808,1,11809,2],[11744,1,11745,2],[12160,1,12161,2],[11776,1,11777,2],[11872,1,11873,2],[12384,10,12385,26],[11712,33,11713,34],[11104,10,11105,26],[9216,31,9217,32],[10592,33,10593,34],[11936,10,11937,26],[11936,31,11937,32],[9696,10,9697,26],[9632,10,9633,26],[10624,33,10625,34],[10624,31,10625,32],[10240,33,10241,34],[10176,33,10177,34],[11104,31,11105,32],[11872,33,11873,34],[11008,31,11009,32],[10880,33,10881,34],[10944,33,10945,34],[10944,10,10945,26],[10848,33,10849,34],[11328,31,11329,32],[11328,33,11329,34],[11264,33,11265,34],[10848,31,10849,32],[11808,10,11809,26],[11648,10,11649,26],[11744,10,11745,26],[10080,33,10081,34],[10272,10,10273,26],[10272,31,10273,32],[10112,10,10113,26],[10112,31,10113,32],[10880,10,10881,26],[10912,1,10913,2],[10624,1,10625,2],[10912,10,10913,26],[9216,1,9217,2],[9536,10,9537,26],[9568,10,9569,26],[9888,33,9889,34],[9920,31,9921,32],[9920,33,9921,34],[10016,31,10017,32],[10400,31,10401,32],[9504,33,9505,34],[9440,31,9441,32],[10464,33,10465,34],[9632,33,9633,34],[10080,31,10081,32],[9952,31,9953,32],[9984,31,9985,32],[10752,10,10753,26],[10752,31,10753,32],[10752,33,10753,34],[10784,31,10785,32],[9536,1,9537,2],[9536,31,9537,32],[9664,10,9665,26],[9696,33,9697,34],[9984,33,9985,34],[10464,1,10465,2],[10464,10,10465,26],[10144,10,10145,26],[10112,33,10113,34],[8672,33,8673,34],[8640,1,8641,2],[8640,10,8641,26],[8640,31,8641,32],[8544,1,8545,2],[8544,10,8545,26],[8544,31,8545,32],[9600,31,9601,32],[9696,31,9697,32],[9856,10,9857,26],[11360,31,11361,32],[9856,31,9857,32],[11328,1,11329,2],[9824,10,9825,26],[9376,1,9377,2],[9376,31,9377,32],[10496,10,10497,26],[10592,31,10593,32],[10528,31,10529,32],[10144,31,10145,32],[10816,10,10817,26],[10816,31,10817,32],[10848,1,10849,2],[10848,10,10849,26],[9408,1,9409,2],[9408,10,9409,26],[10432,1,10433,2],[10432,10,10433,26],[10176,31,10177,32],[9248,1,9249,2],[9248,10,9249,26],[10880,1,10881,2],[8448,33,8449,34],[11968,31,11969,32],[12992,10,12993,26],[11904,10,11905,26],[13248,31,13249,32],[9248,31,9249,32],[9280,31,9281,32],[9344,31,9345,32],[9504,31,9505,32],[9408,31,9409,32],[9728,31,9729,32],[9568,31,9569,32],[9632,1,9633,2],[9632,31,9633,32],[9696,1,9697,2],[9600,1,9601,2],[9280,1,9281,2],[9280,10,9281,26],[9344,1,9345,2],[9504,1,9505,2],[9728,1,9729,2],[9728,10,9729,26],[8608,33,8609,34],[9088,1,9089,2],[8800,10,8801,26],[11296,1,11297,2],[11648,1,11649,2],[9216,10,9217,26],[10656,1,10657,2],[8672,1,8673,2],[8672,10,8673,26],[8672,31,8673,32],[12736,1,12737,2],[12736,10,12737,26],[13504,1,13505,2],[13344,1,13345,2],[13408,1,13409,2],[10368,1,10369,2],[9664,1,9665,2],[9760,1,9761,2],[10080,10,10081,26],[9952,1,9953,2],[9952,10,9953,26],[9984,1,9985,2],[9984,10,9985,26],[9920,1,9921,2],[9920,10,9921,26],[10400,1,10401,2],[10400,10,10401,26],[10272,1,10273,2],[10336,10,10337,26],[10208,1,10209,2],[10208,10,10209,26],[10624,10,10625,26],[10592,1,10593,2],[10080,1,10081,2],[10144,1,10145,2],[10112,1,10113,2],[11360,10,11361,26],[10016,1,10017,2],[10048,1,10049,2],[10176,10,10177,26],[10560,1,10561,2],[10528,10,10529,26],[8512,1,8513,2],[8512,10,8513,26],[8512,31,8513,32],[8512,33,8513,34],[8320,33,8321,34],[8352,1,8353,2],[8352,10,8353,26],[8286,20,8286,21],[8480,1,8481,2],[8480,10,8481,26],[8480,31,8481,32],[8352,31,8353,32],[8416,1,8417,2],[8416,10,8417,26],[8416,31,8417,32],[8480,33,8481,34],[8288,1,8289,2],[8288,10,8289,26],[8288,31,8289,32],[8288,33,8289,34],[8320,1,8321,2],[8320,10,8321,26],[8320,31,8321,32],[8416,33,8417,34],[8352,33,8353,34],[8384,1,8385,2],[8384,10,8385,26],[8384,31,8385,32],[8384,33,8385,34],[8448,1,8449,2],[8448,10,8449,26],[8448,31,8449,32],[7488,33,7489,34],[7616,1,7617,2],[7616,10,7617,26],[7616,31,7617,32],[7616,33,7617,34],[7648,31,7649,32],[7456,33,7457,34],[7936,1,7937,2],[7936,10,7937,26],[7936,31,7937,32],[7872,31,7873,32],[7872,33,7873,34],[7904,1,7905,2],[7904,10,7905,26],[7904,31,7905,32],[7904,33,7905,34],[7872,10,7873,26],[7840,1,7841,2],[7840,10,7841,26],[7840,31,7841,32],[7776,1,7777,2],[7776,10,7777,26],[7776,31,7777,32],[7808,1,7809,2],[7808,10,7809,26],[7840,33,7841,34],[7872,1,7873,2],[7936,33,7937,34],[7808,31,7809,32],[7808,33,7809,34],[7552,33,7553,34],[7584,1,7585,2],[7072,31,7073,32],[7104,31,7105,32],[7104,33,7105,34],[6656,1,6657,2],[6656,10,6657,26],[6656,31,6657,32],[6816,33,6817,34],[7072,1,7073,2],[7072,10,7073,26],[7104,1,7105,2],[7104,10,7105,26],[7424,10,7425,26],[7424,31,7425,32],[7424,33,7425,34],[7360,33,7361,34],[7392,1,7393,2],[7392,10,7393,26],[7392,31,7393,32],[7392,33,7393,34],[7360,31,7361,32],[7360,1,7361,2],[7360,10,7361,26],[7264,33,7265,34],[7328,1,7329,2],[7328,10,7329,26],[7328,31,7329,32],[7296,10,7297,26],[7296,31,7297,32],[7296,33,7297,34],[7264,1,7265,2],[7136,1,7137,2],[6816,1,6817,2],[6464,1,6465,2],[6464,10,6465,26],[6368,31,6369,32],[6368,10,6369,26],[6336,33,6337,34],[6400,1,6401,2],[6400,10,6401,26],[6400,31,6401,32],[6400,33,6401,34],[6368,33,6369,34],[6368,1,6369,2],[6336,1,6337,2],[6336,10,6337,26],[6336,31,6337,32],[6432,1,6433,2],[6432,10,6433,26],[6432,31,6433,32],[6464,31,6465,32],[6496,10,6497,26],[6496,31,6497,32],[6528,33,6529,34],[6528,1,6529,2],[6528,10,6529,26],[6592,33,6593,34],[6784,1,6785,2],[6784,10,6785,26],[6784,31,6785,32],[5984,1,5985,2],[5984,10,5985,26],[5984,31,5985,32],[5984,33,5985,34],[6048,1,6049,2],[6048,10,6049,26],[6048,31,6049,32],[5888,1,5889,2],[5888,10,5889,26],[6080,33,6081,34],[6048,33,6049,34],[6176,33,6177,34],[6304,1,6305,2],[6304,10,6305,26],[6304,31,6305,32],[6304,33,6305,34],[6208,1,6209,2],[6208,10,6209,26],[6208,31,6209,32],[6208,33,6209,34],[6240,33,6241,34],[6272,1,6273,2],[6272,10,6273,26],[5728,1,5729,2],[5728,10,5729,26],[5728,31,5729,32],[5792,33,5793,34],[5856,1,5857,2],[5856,10,5857,26],[5856,31,5857,32],[5888,31,5889,32],[5888,33,5889,34],[5952,33,5953,34],[5920,31,5921,32],[5920,1,5921,2],[5920,10,5921,26],[5952,1,5953,2],[5952,10,5953,26],[5952,31,5953,32],[6016,33,6017,34],[5760,1,5761,2],[5792,1,5793,2],[5792,10,5793,26],[5792,31,5793,32],[6016,31,6017,32],[6016,1,6017,2],[6016,10,6017,26],[5568,1,5569,2],[5568,10,5569,26],[5568,31,5569,32],[5696,33,5697,34],[5696,10,5697,26],[5632,33,5633,34],[5696,1,5697,2],[5664,1,5665,2],[5696,31,5697,32],[5664,33,5665,34],[5824,31,5825,32],[5824,1,5825,2],[5824,10,5825,26],[5664,10,5665,26],[5216,1,5217,2],[5216,10,5217,26],[5504,1,5505,2],[5504,10,5505,26],[5504,31,5505,32],[5440,33,5441,34],[5472,1,5473,2],[5472,10,5473,26],[5472,31,5473,32],[5472,33,5473,34],[5504,33,5505,34],[5440,1,5441,2],[5440,10,5441,26],[5440,31,5441,32],[5568,33,5569,34],[5760,10,5761,26],[5760,31,5761,32],[5760,33,5761,34],[5280,1,5281,2],[5280,10,5281,26],[5280,31,5281,32],[5280,33,5281,34],[5248,10,5249,26],[5248,31,5249,32],[5248,33,5249,34],[5248,1,5249,2],[5536,1,5537,2],[5536,10,5537,26],[5536,31,5537,32],[5536,33,5537,34],[5632,1,5633,2],[5632,10,5633,26],[5632,31,5633,32],[5600,31,5601,32],[5600,1,5601,2],[5408,1,5409,2],[5408,10,5409,26],[5408,31,5409,32],[5376,1,5377,2],[5376,10,5377,26],[5376,31,5377,32],[5376,33,5377,34],[5344,1,5345,2],[5344,10,5345,26],[5344,31,5345,32],[5344,33,5345,34],[5312,1,5313,2],[5312,10,5313,26],[5312,31,5313,32],[5312,33,5313,34],[4928,1,4929,2],[4928,10,4929,26],[4928,31,4929,32],[5184,10,5185,26],[5184,31,5185,32],[4992,1,4993,2],[4992,10,4993,26],[5120,1,5121,2],[5184,1,5185,2],[5184,33,5185,34],[5152,33,5153,34],[5152,1,5153,2],[5152,10,5153,26],[5152,31,5153,32],[5024,1,5025,2],[5024,10,5025,26],[5056,33,5057,34],[4992,31,4993,32],[5056,1,5057,2],[5056,10,5057,26],[5056,31,5057,32],[5088,1,5089,2],[3968,33,3969,34],[4928,33,4929,34],[5088,31,5089,32],[30176,33,30177,34],[30048,33,30049,34],[5664,31,5665,32],[5216,33,5217,34],[5728,33,5729,34],[3456,33,3457,34],[3424,31,3425,32],[3552,31,3553,32],[3552,33,3553,34],[5120,10,5121,26],[3488,31,3489,32],[3488,33,3489,34],[5120,33,5121,34],[5120,31,5121,32],[5408,33,5409,34],[4768,10,4769,26],[4768,31,4769,32],[5920,33,5921,34],[5856,33,5857,34],[5600,10,5601,26],[5600,33,5601,34],[5216,31,5217,32],[5824,33,5825,34],[6112,10,6113,26],[6112,31,6113,32],[6240,10,6241,26],[6240,31,6241,32],[6176,10,6177,26],[7072,33,7073,34],[3392,31,3393,32],[3392,33,3393,34],[3360,10,3361,26],[3360,31,3361,32],[3520,31,3521,32],[3520,33,3521,34],[3424,33,3425,34],[3456,10,3457,26],[3456,31,3457,32],[3008,10,3009,26],[3296,33,3297,34],[3328,1,3329,2],[3328,10,3329,26],[3328,31,3329,32],[3328,33,3329,34],[3296,1,3297,2],[3296,10,3297,26],[3008,33,3009,34],[3040,1,3041,2],[3520,1,3521,2],[3520,10,3521,26],[3168,33,3169,34],[3104,33,3105,34],[3232,33,3233,34],[3264,33,3265,34],[3360,1,3361,2],[3200,1,3201,2],[3424,1,3425,2],[2208,31,2209,32],[2272,1,2273,2],[2272,10,2273,26],[2272,31,2273,32],[2272,33,2273,34],[3456,1,3457,2],[2592,10,2593,26],[2944,10,2945,26],[2976,10,2977,26],[3072,10,3073,26],[3040,10,3041,26],[4735,20,4735,21],[2784,1,2785,2],[2784,10,2785,26],[2784,31,2785,32],[2816,1,2817,2],[2816,10,2817,26],[2816,31,2817,32],[3104,31,3105,32],[3104,1,3105,2],[3104,10,3105,26],[3072,1,3073,2],[3296,31,3297,32],[3168,1,3169,2],[3168,10,3169,26],[3264,1,3265,2],[2944,31,2945,32],[2976,31,2977,32],[2976,1,2977,2],[3232,10,3233,26],[3008,1,3009,2],[3136,10,3137,26],[1632,1,1633,2],[1632,10,1633,26],[1632,31,1633,32],[1632,33,1633,34],[1664,1,1665,2],[1664,10,1665,26],[1696,1,1697,2],[1696,10,1697,26],[1696,31,1697,32],[1696,33,1697,34],[1792,1,1793,2],[1792,10,1793,26],[1792,31,1793,32],[1792,33,1793,34],[1824,1,1825,2],[1824,10,1825,26],[1824,31,1825,32],[1728,1,1729,2],[1760,1,1761,2],[3648,33,3649,34],[5088,33,5089,34],[5024,31,5025,32],[4672,33,4673,34],[5088,10,5089,26],[2176,10,2177,26],[2464,31,2465,32],[2464,33,2465,34],[2240,1,2241,2],[2240,10,2241,26],[2240,31,2241,32],[2240,33,2241,34],[3424,10,3425,26],[3488,1,3489,2],[3488,10,3489,26],[3552,1,3553,2],[3678,20,3678,21],[2912,33,2913,34],[2944,33,2945,34],[2976,33,2977,34],[3040,33,3041,34],[3072,31,3073,32],[3040,31,3041,32],[3008,31,3009,32],[3072,33,3073,34],[2368,1,2369,2],[2368,10,2369,26],[2368,31,2369,32],[2400,1,2401,2],[2400,10,2401,26],[2400,31,2401,32],[2304,31,2305,32],[1440,31,1441,32],[1440,33,1441,34],[1408,33,1409,34],[1504,1,1505,2],[1504,10,1505,26],[1120,1,1121,2],[1120,31,1121,32],[1120,33,1121,34],[1088,1,1089,2],[1088,10,1089,26],[1120,10,1121,26],[1088,31,1089,32],[1088,33,1089,34],[1568,1,1569,2],[1568,10,1569,26],[1568,31,1569,32],[1568,33,1569,34],[1248,10,1249,26],[1216,1,1217,2],[1152,31,1153,32],[1152,33,1153,34],[1184,1,1185,2],[1184,31,1185,32],[1184,33,1185,34],[1184,10,1185,26],[1152,1,1153,2],[1152,10,1153,26],[1504,31,1505,32],[1504,33,1505,34],[1408,1,1409,2],[1408,10,1409,26],[1408,31,1409,32],[1216,31,1217,32],[1216,33,1217,34],[1248,1,1249,2],[1248,31,1249,32],[1248,33,1249,34],[1216,10,1217,26],[1024,10,1025,26],[1024,31,1025,32],[928,31,929,32],[1856,33,1857,34],[960,1,961,2],[960,10,961,26],[960,31,961,32],[960,33,961,34],[1056,1,1057,2],[1056,10,1057,26],[1056,31,1057,32],[1056,33,1057,34],[928,1,929,2],[928,10,929,26],[1536,1,1537,2],[1600,1,1601,2],[992,1,993,2],[992,10,993,26],[992,31,993,32],[1024,1,1025,2],[1024,33,1025,34],[992,33,993,34],[1440,1,1441,2],[1440,10,1441,26],[1536,10,1537,26],[1536,31,1537,32],[672,31,673,32],[864,33,865,34],[896,1,897,2],[896,10,897,26],[896,31,897,32],[896,33,897,34],[864,1,865,2],[864,10,865,26],[864,31,865,32],[800,33,801,34],[832,1,833,2],[832,10,833,26],[832,31,833,32],[832,33,833,34],[800,1,801,2],[800,10,801,26],[800,31,801,32],[608,1,609,2],[608,10,609,26],[608,31,609,32],[608,33,609,34],[576,33,577,34],[544,1,545,2],[544,10,545,26],[544,31,545,32],[512,1,513,2],[512,10,513,26],[512,31,513,32],[480,1,481,2],[480,10,481,26],[480,31,481,32],[480,33,481,34],[768,1,769,2]],"bounds":{"rows_first":1000,"rows_last":250,"rows_between":1000,"halvings":1},"merged_total":4230,"flags":["merged_cut"]}
[null,"Terug",null,null,null,null,null,null,null,null,"Aalsmeer",null,null,null,null,null,null,null,null,null,null,null,null,null,null,null,null,null,null,{"$f":"SUMPRODUCT((MOD(B3:AJ31,100)=0)*(B3:AJ31<1000)*(B3:AJ31<>\"\"))","v":0},null,"MANCO:",null,{"$f":"COUNT(B3:AJ31)","v":122}]
[]
[null,1,null,null,null,5,null,null,null,null,null,null,null,null,null,null,null,17,null,null,null,null,null,null,null,25,null,null,null,null,null,31,32,null,34,35]
[null,null,37,null,39,null,null,null,null,null,null,46,null,null,null,null,null,52,null,null,null,null,57]
[null,null,null,null,null,null,null,null,null,null,null,null,null,null,null,null,86,null,88,89,null,null,null,null,null,null,null,null,null,null,null,101]
[null,null,null,null,null,null,null,null,null,null,null,null,null,null,null,null,null,null,null,null,null,null,null,null,129,null,null,null,null,134,null,null,137]
[null,null,null,null,null,145,null,null,null,null,null,null,null,null,null,null,null,null,null,null,160]
[null,null,null,178,null,null,null,null,null,null,null,null,null,null,null,null,null,null,null,null,null,null,null,null,null,null,null,null,null,null,null,null,null,null,null,210]
[null,null,null,null,null,null,null,null,null,null,220,null,null,223]
[null,null,247,null,null,null,null,null,null,254,null,null,null,258,null,null,null,null,null,null,null,null,267,268,null,270,null,null,null,null,null,null,null,278]
[null,null,282,null,null,null,null,null,null,null,null,291,null,null,null,295,null,297,null,null,null,301]
[null,null,null,null,319,null,null,null,null,null,null,null,327,null,null,null,null,null,null,null,null,null,null,null,null,null,null,null,null,null,null,null,347,null,null,350]
[null,null,null,null,null,355,null,null,null,359,null,null,null,null,null,365,null,null,null,null,null,null,372]
[null,386,null,null,null,null,null,null,null,null,null,null,null,null,null,null,null,null,null,null,null,406,null,null,null,null,null,null,413,null,null,null,null,null,null,420]
[null,null,null,null,null,null,null,null,null,null,null,null,null,433,null,null,null,null,null,null,null,null,442,null,null,null,null,null,null,null,null,451,null,null,null,455]
[null,null,null,458,null,460,null,null,null,null,null,null,null,null,null,null,null,null,null,474,null,476,null,null,null,null,null,null,null,null,485]
[]
[null,null,null,528,null,null,null,null,null,534,null,null,null,null,539]
[null,null,null,null,null,null,null,null,null,null,null,null,null,null,null,null,null,null,null,null,580,null,null,583,584,null,null,null,null,null,null,null,592]
[null,null,null,null,null,null,null,null,null,null,null,null,null,null,609,null,null,null,null,null,null,null,null,null,null,null,621,null,null,null,625,null,627]
[null,null,null,null,null,635,null,null,null,null,null,null,null,null,null,null,null,null,null,649,null,null,null,null,null,null,null,657]
[null,null,null,null,null,null,null,null,null,null,null,null,null,null,null,null,681,null,null,null,null,null,null,688,null,690,null,null,null,null,695,null,697]
[null,null,null,null,null,null,null,null,null,null,null,null,null,null,null,null,null,null,null,null,null,721,null,null,null,null,null,null,null,null,730,null,null,null,734]
[null,null,null,null,null,740,741,null,null,null,null,null,null,null,null,null,751,null,null,754,null,null,null,null,null,null,761]
[null,null,null,null,null,null,null,null,null,779,null,null,null,null,null,null,null,null,null,null,790,null,null,null,null,null,null,null,798,null,null,null,null,803]
[null,null,null,null,null,null,null,null,null,null,815,null,null,null,819,null,null,null,null,null,825,null,null,null,null,830,831,832,null,null,null,null,null,null,839]
[null,null,842,null,null,null,null,null,null,null,850,null,null,null,null,null,null,null,null,859,null,null,null,null,null,null,null,867,null,null,null,null,null,null,null,875]
[null,null,877,null,null,null,null,882,null,null,885,null,null,null,null,null,null,null,893,null,null,null,null,null,null,null,null,null,903]
[null,null,null,null,null,915,null,null,null,null,null,null,null,null,null,null,null,null,null,null,null,null,null,null,null,null,936]
[null,null,null,948,null,null,null,952,953,null,955,null,null,null,959,null,null,null,null,964,null,null,null,null,null,970]
[null,null,null,983,null,null,null,987,null,989,null,991,null,null,null,995,null,997]
[]
[null,"Terug",null,null,null,null,null,null,null,null,"Aalten",null,null,null,null,null,null,null,null,null,null,null,null,null,null,null,null,null,null,{"$f":"SUMPRODUCT((MOD(B35:AJ63,100)=0)*(B35:AJ63<1000)*(B35:AJ63<>\"\"))","v":3},null,"MANCO:",null,{"$f":"COUNT(B35:AJ63)","v":344}]
[]
[null,null,2,null,4,null,6,7,null,9,10,null,null,13,14,null,16,17,null,null,20,21,22,null,null,null,26,null,28,29,30,31,null,33,34]
[null,36,37,null,null,null,null,null,null,44,null,null,null,48,null,null,51,52,null,null,55,null,null,null,59,null,null,null,63,null,null,66]
[null,null,72,null,null,75,76,null,null,79,80,null,null,83,null,85,null,null,null,null,null,null,null,null,null,95,96,97,98,null,null,101]
[null,null,null,null,109,null,null,112,null,null,null,null,null,null,null,120,121,122,null,124,null,null,null,128,null,null,null,null,null,null,135]
[null,null,null,null,144,145,146,null,148,null,null,null,null,null,null,null,null,null,null,159,null,null,162,null,164,165,166,null,168,null,170,null,172,null,174,175]
[null,null,null,178,null,null,181,182,null,null,185,null,null,188,189,null,191,192,null,null,195,null,197,null,null,null,null,null,null,204,205,null,null,null,209]
[null,null,212,null,null,null,null,null,218,null,null,null,222,null,224,null,null,null,null,null,null,null,null,null,234,null,null,237,238,239,null,null,null,null,null,245]
[null,null,null,null,null,250,251,252,null,null,null,256,257,null,259,null,261,262,null,null,null,null,null,268,269,null,null,null,null,null,null,276,null,278]
[null,null,null,null,284,285,null,null,null,289,null,null,null,293,294,null,null,null,null,null,null,null,null,null,304,305,306,307,null,309,null,null,null,313,null,315]
[null,null,317,318,null,320,null,322,null,null,325,null,null,null,329,null,null,null,null,334,335,null,null,338,null,null,null,null,null,344,null,346,347,null,null,350]
[null,351,null,353,null,null,null,null,null,null,360,null,null,null,null,null,null,null,null,369,null,371,null,null,374,null,376,null,null,null,380]
[null,null,null,null,389,null,null,392,null,394,null,null,null,null,null,400,null,402,403,null,null,null,null,null,null,410,411,null,null,null,415,null,417,418,419,420]
[null,null,null,null,424,425,null,null,null,null,null,null,432,null,434,null,null,null,438,null,440,null,null,null,444,null,null,null,448,null,450,null,null,453]
[null,null,null,458,null,null,null,null,null,464,465,null,467,null,null,null,471,null,null,null,null,476,null,null,null,null,null,null,483,null,null,486]
[null,491,492,null,null,null,null,null,498,null,null,null,null,503,null,null,null,null,null,509,null,null,null,null,null,null,null,null,518,519,null,521]
[null,null,null,null,null,null,531,null,null,534,null,536,null,null,null,null,null,null,null,null,null,546,null,null,null,null,null,552,null,554,null,null,557,null,null,560]
[null,null,null,563,564,565,null,null,568,569,570,571,null,null,null,null,null,577,578,579,null,null,582,null,null,null,null,null,null,null,null,591]
[null,null,null,null,599,null,null,null,null,null,605,null,607,608,null,610,611,612,null,null,null,null,null,null,619,620,621,null,null,624,625,626]
[null,631,null,null,null,null,null,null,null,null,null,null,null,null,null,null,null,647,null,null,null,651,null,null,null,null,null,null,658,null,660,661,662]
[null,666,null,null,669,null,null,null,673,null,null,676,null,null,null,null,null,null,null,null,null,686,null,null,null,690,691,null,693,null,695,696,null,698,699,700]
[null,null,null,null,null,null,706,null,null,709,null,711,null,null,null,null,716,null,null,719,720,null,722,null,724,null,null,null,null,null,null,731,null,null,null,735]
[null,736,null,null,739,null,null,null,null,744,745,null,null,null,null,750,null,null,753,null,755,null,757,null,759,null,null,null,763,764,765,null,767,768,769]
[null,null,null,null,774,null,null,null,778,null,null,null,null,null,null,null,null,null,788,null,790,null,792,null,null,null,796]
[null,806,807,null,null,810,null,812,null,814,null,null,null,null,819,null,821,null,823,null,825,826,827,null,null,null,null,832,null,null,835,null,null,null,839]
[null,null,null,null,844,845,846,null,null,849,850,851,852,null,854,null,856,null,858,859,860,861,null,null,864,null,866,867,868,869,null,871,null,873,null,875]
[null,null,877,878,879,880,null,null,null,null,885,null,null,888,889,null,891,892,893,894,null,null,null,null,null,900,null,null,903,null,905,906,null,null,null,910]
[null,911,912,913,null,915,916,null,918,null,null,null,922,923,924,925,null,null,null,929,null,null,932,null,null,null,936,null,null,939,null,null,null,null,944,945]
[null,null,947,null,949,null,null,null,null,null,955,956,null,null,959,null,961,null,null,null,null,null,null,968,null,null,971,null,null,974,null,976,977,978,979]
[null,null,982,983,null,null,986,null,988,null,null,null,992,null,994,995,null,997,null,999,1000]
[]
[null,"Terug",null,null,null,null,null,null,null,null,"Ter Aar",null,null,null,null,null,null,null,null,null,null,null,null,null,null,null,null,null,null,{"$f":"SUMPRODUCT((MOD(B67:AJ95,100)=0)*(B67:AJ95<1000)*(B67:AJ95<>\"\"))","v":6},null,"MANCO:",null,{"$f":"COUNT(B67:AJ95)","v":494}]
[]
[null,1,2,3,null,null,6,7,8,9,null,11,12,13,14,15,16,null,18,19,null,21,null,23,null,null,null,27,null,null,30,null,null,33,34]
[null,36,37,38,null,40,41,null,null,null,45,46,47,48,49,null,null,null,53,null,null,null,null,null,null,60,null,62,null,64,65,null,null,68,69,70]
[null,71,72,null,74,null,null,77,null,null,null,null,82,83,null,85,null,null,88,89,null,91,null,93,94,null,96,97,null,99,100,null,102,103,104]
[null,106,107,108,109,110,111,112,113,114,115,null,null,118,119,120,null,null,123,124,125,126,null,null,129,null,131,null,133,null,null,null,null,null,139]
[null,141,142,143,null,145,146,147,null,149,null,151,152,null,null,155,null,null,158,null,null,null,162,null,164,null,null,167,null,169,170,null,172,173]
[null,null,null,null,179,180,null,null,183,null,185,186,187,188,null,190,null,192,null,null,null,null,197,null,199,200,201,null,null,204,null,null,null,208,209,210]
[null,211,null,null,214,215,216,217,218,219,220,221,null,223,null,225,null,null,null,229,null,231,null,null,null,null,null,null,238,null,240,null,242,243,244,245]
[null,null,null,null,null,250,null,252,null,null,255,null,null,258,null,260,null,null,263,264,265,null,267,268,269,270,271,272,273,null,275]
[null,281,null,null,null,null,286,287,288,289,null,291,292,null,null,null,296,null,null,299,300,null,null,null,null,305,null,null,null,null,null,311,312,null,314,315]
[null,null,null,318,319,320,null,322,323,null,325,null,null,null,329,null,null,null,null,null,null,null,337,null,339,340,341,null,null,null,345,null,347,null,null,350]
[null,null,352,353,null,355,null,357,null,null,null,361,null,363,null,365,366,367,368,null,null,null,372,null,374,null,null,null,378,null,380,null,null,383,384]
[null,386,null,388,389,390,391,null,393,null,395,396,null,398,null,400,401,402,null,404,null,406,null,null,null,410,411,null,null,null,415,416,417,null,419,420]
[null,421,422,423,424,null,426,427,null,null,null,null,null,433,434,435,436,437,null,439,440,null,null,443,null,null,null,null,null,null,450]
[null,456,null,458,null,460,461,462,463,464,465,466,467,468,469,null,471,null,null,474,null,476,477,null,479,null,481,482,483,484,485,486,487,null,null,490]
[null,null,492,493,null,495,496,497,null,null,null,501,502,null,null,505,null,null,null,null,null,null,512,513,514,515,null,null,518,519,null,521,522,523,null,525]
[null,null,527,null,null,null,null,null,533,534,535,536,null,null,null,540,541,null,543,544,null,null,null,null,549,550,551,null,553,554,null,null,557,null,559]
[null,561,null,null,564,565,null,567,568,569,570,null,null,null,null,575,null,577,578,579,null,581,582,null,null,585,586,null,588,null,null,591,592,null,null,595]
[null,596,null,598,599,600,null,null,603,604,605,606,null,null,null,610,null,612,613,614,615,null,617,618,null,620,621,622,null,null,625,626,null,null,629]
[null,631,null,null,null,635,636,637,638,null,640,null,642,643,644,null,646,647,648,null,650,null,null,653,654,655,656,null,658,659,null,null,662,663,null,665]
[null,null,null,null,null,null,671,672,null,null,null,null,677,null,679,null,681,682,null,684,null,686,687,688,689,null,null,null,null,null,695,696,null,null,699]
[null,701,null,703,null,null,706,null,null,709,null,null,712,null,null,715,null,717,718,719,null,null,722,723,null,725,null,null,null,729]
[null,null,null,null,739,null,741,null,743,null,745,null,null,null,749,null,null,752,null,754,755,756,null,758,759,null,761,null,null,764,765,null,767,768]
[null,null,772,773,774,null,null,null,null,null,780,781,782,null,null,null,null,null,788,null,null,null,null,null,null,null,null,797,null,null,null,null,null,null,804]
[null,806,null,null,null,810,null,812,null,null,null,null,817,null,null,null,821,null,null,null,null,826,null,null,829,null,null,null,833,834,null,836,null,838]
[null,841,842,843,844,845,846,847,848,849,null,null,852,null,854,null,null,null,858,null,860,null,862,863,864,null,null,null,null,null,870,871,872,873]
[null,null,877,878,null,null,881,null,null,884,null,886,887,null,889,null,null,892,null,894,895,null,null,null,null,900,901,null,null,null,null,906,null,908]
[null,911,null,913,null,915,null,null,null,919,null,null,922,null,null,925,926,927,928,null,null,null,932,933,934,null,936,937,938,939,null,null,942,943,944]
[null,null,null,948,949,null,null,null,null,null,null,956,957,null,null,960,961,null,null,964,null,966,null,null,null,null,null,null,973,974,975,976]
[null,981,null,983,984,985,986,987,988,989,null,991,null,993,null,995,996,null,998,999,1000]
[]
[null,"Terug",null,null,null,null,null,null,null,null,"Aarle-Rixtel",null,null,null,null,null,null,null,null,null,null,null,null,null,null,null,null,null,null,{"$f":"SUMPRODUCT((MOD(B99:AJ127,100)=0)*(B99:AJ127<1000)*(B99:AJ127<>\"\"))","v":7},null,"MANCO:",null,{"$f":"COUNT(B99:AJ127)","v":640}]
[]
[null,1,2,3,4,5,6,7,8,9,null,11,null,13,14,15,16,17,18,null,20,21,null,23,null,25,26,27,28,29,30,31,32,33,null,35]
[null,36,37,38,null,40,41,42,null,null,45,null,47,48,null,50,51,null,53,54,55,56,57,58,59,null,61,62,63,64,65,null,null,68,69]
[null,71,null,73,null,null,null,null,78,null,80,81,82,null,84,85,86,87,88,89,null,null,92,null,94,95,null,97,98,null,100,null,102,null,null,105]
[null,null,107,108,109,110,111,112,113,114,115,116,null,118,119,null,121,122,null,124,125,126,127,null,null,130,null,132,133,134,null,null,137,null,139,140]
[null,null,null,null,144,145,146,147,148,null,150,151,152,null,154,155,null,157,158,159,null,161,null,null,null,165,null,167,168,169,null,null,172,173,174,175]
[null,null,177,178,179,180,181,null,183,184,185,null,187,188,null,190,191,192,193,194,195,196,197,198,null,null,null,202,203,null,205,null,null,208,null,210]
[null,211,212,null,214,215,216,217,218,219,220,null,222,223,null,225,226,null,228,null,230,231,232,null,234,235,236,237,238,null,240,null,242,null,244]
[null,null,null,null,249,250,null,null,null,254,255,256,257,null,259,null,261,null,263,264,null,266,267,268,269,270,271,272,273,274,null,276,277,278,279]
[null,null,282,283,null,null,286,287,null,289,null,291,292,293,294,295,296,null,298,null,300,null,null,303,null,305,null,307,308,309,310,null,null,313,314,315]
[null,316,317,318,319,null,321,null,null,324,325,326,null,328,null,330,331,null,333,334,335,336,null,null,339,null,341,342,null,null,null,346,347,null,349]
[null,351,null,353,354,355,null,null,358,null,null,361,null,363,364,null,366,null,null,null,370,371,null,373,null,375,376,377,378,null,null,381,null,null,null,385]
[null,386,387,null,389,390,391,392,393,null,395,null,null,null,399,400,401,null,403,404,405,406,407,408,null,410,411,412,null,414,415,null,417,418,419]
[null,null,null,null,424,425,426,427,null,null,430,431,null,433,null,435,436,null,null,439,null,441,null,443,444,445,446,null,null,449,450,451,452,null,454,455]
[null,456,null,458,459,460,461,null,463,null,465,466,467,468,null,null,null,null,473,474,475,null,477,478,479,480,481,null,null,null,485,null,487,488,489,490]
[null,491,null,493,494,495,496,497,498,499,500,501,502,null,null,505,506,null,null,509,null,null,null,513,514,515,516,null,null,519,null,521,null,null,null,525]
[null,526,527,528,529,530,531,null,533,null,535,null,537,null,539,540,541,null,null,544,545,546,547,548,null,550,551,552,null,554,555,556,557,558,559]
[null,null,562,null,null,565,null,567,null,569,null,null,572,573,574,575,576,577,578,579,null,581,582,null,null,null,null,null,588,589,null,591,null,null,594,595]
[null,null,null,null,null,600,null,null,603,null,605,null,null,608,null,610,611,null,null,614,615,null,null,null,619,null,null,622,null,624,625,626,627]
[null,null,632,633,634,635,636,637,638,639,640,null,642,643,644,645,646,null,null,649,650,651,652,null,null,null,656,657,658,659,null,661,662,null,664]
[null,666,667,null,null,670,671,672,673,null,null,676,null,678,679,null,null,682,683,684,685,686,null,688,689,null,691,692,693,null,695,null,null,698,699]
[null,null,702,703,704,705,null,707,708,null,null,711,null,null,null,715,null,null,718,719,720,721,722,723,724,725,726,null,728,729,730,null,null,733,734,735]
[null,736,737,738,null,740,741,742,743,744,null,746,null,null,null,null,null,null,753,754,null,756,757,null,759,null,761,null,763,764,765,766,767,768,769,770]
[null,null,772,null,null,775,776,null,778,779,780,null,null,783,784,785,null,787,null,789,790,791,792,793,null,795,null,797,798,null,800,801,802,803,null,805]
[null,null,807,808,809,810,811,812,813,null,815,null,817,null,null,820,821,null,823,824,null,826,null,828,829,null,831,832,833,null,835,836,null,null,null,840]
[null,null,842,843,844,null,null,847,848,null,850,851,852,853,null,855,856,null,858,859,null,null,862,863,864,null,null,867,null,869,870,null,872,null,874]
[null,null,null,null,null,null,null,882,883,null,885,886,null,null,889,890,null,null,893,null,895,896,null,null,899,900,901,902,903,null,null,906,null,908,909,910]
[null,null,null,913,null,915,916,917,918,919,920,921,null,923,924,925,null,927,null,929,930,null,null,null,934,null,936,null,938,null,940,941,942,943,944]
[null,null,null,948,949,950,951,952,953,954,955,956,null,958,959,960,961,null,null,964,965,966,967,968,969,970,null,null,null,974,975,null,null,null,979,980]
[null,981,null,null,984,985,986,null,null,null,990,991,992,993,994,995,null,997,998,999,1000]
[]
[null,"Terug",null,null,null,null,null,null,null,null,"Abcoude",null,null,null,null,null,null,null,null,null,null,null,null,null,null,null,null,null,null,{"$f":"SUMPRODUCT((MOD(B131:AJ159,100)=0)*(B131:AJ159<1000)*(B131:AJ159<>\"\"))","v":6},null,"MANCO:",null,{"$f":"COUNT(B131:AJ159)","v":574}]
[]
[null,1,null,null,4,null,6,null,null,null,10,null,12,null,14,null,16,null,18,19,20,21,null,null,null,null,26,null,28,29,30,null,32,33]
[null,null,null,38,39,null,null,null,43,44,null,46,47,48,49,50,null,52,53,54,null,56,null,null,null,60,61,62,63,null,65,null,null,68,69]
[null,71,72,null,74,75,76,77,78,79,null,81,82,83,null,null,86,87,88,null,90,null,92,93,null,95,96,97,98,null,100,null,102,103,null,105]
[null,106,null,108,109,110,null,112,null,null,115,null,117,118,119,120,121,null,123,null,125,null,127,128,null,null,131,132,null,134,135,null,137,138,139,140]
[null,141,142,143,144,null,146,147,148,149,150,151,null,null,null,155,null,null,158,159,null,161,162,163,164,165,166,167,168,169,null,171,null,173,174,175]
[null,176,177,null,null,180,181,182,183,null,185,null,187,null,null,190,191,null,null,null,null,196,197,198,null,200,201,null,203,null,205]
[null,211,212,null,null,215,null,null,218,null,220,221,222,null,224,225,null,227,null,229,230,231,232,233,null,null,236,237,null,239,null,null,242,243,244,245]
[null,null,247,248,null,250,251,252,253,254,255,256,257,258,259,null,261,null,263,null,null,266,267,null,null,270,271,null,273,null,275,276,277,278,279,280]
[null,281,null,283,null,285,null,287,288,null,290,null,292,null,294,null,296,297,null,null,300,301,null,303,null,null,306,307,308,null,310,null,null,313,314,315]
[null,316,null,null,null,null,321,322,null,324,325,326,null,null,null,330,null,332,333,null,335,336,null,null,null,340,341,342,null,null,345,346,347,348,null,350]
[null,351,352,353,null,355,356,357,358,null,360,361,null,363,364,null,366,null,null,369,370,371,null,373,null,375,null,null,null,379,null,381,null,383]
[null,386,null,null,389,390,null,null,null,null,395,null,null,null,399,null,401,402,403,404,405,null,407,null,null,410,411,null,413,414,null,null,417,null,419,420]
[null,null,null,null,424,null,426,null,428,429,null,null,null,null,null,435,436,437,null,439,440,null,442,null,444,445,446,447,448,null,null,null,null,453,454]
[null,null,457,null,459,460,461,462,null,null,465,466,467,468,469,null,471,472,null,null,null,476,null,null,null,null,481,482,null,484,485,486,null,null,null,490]
[null,491,null,null,494,null,null,497,498,null,null,501,502,null,504,505,506,null,null,509,510,511,null,513,514,null,516,517,518,519,null,521,522,523]
[null,null,null,528,529,530,null,null,533,null,null,null,null,538,null,540,541,null,543,544,null,null,null,null,549,550,551,null,553,554,null,null,557,558,559,560]
[null,561,null,563,564,565,null,null,568,569,570,null,572,null,null,575,576,577,null,null,580,581,null,null,584,null,null,null,588,null,590,591,592,null,594]
[null,596,597,null,599,600,601,602,603,604,605,null,null,608,null,null,611,null,null,null,615,null,617,618,619,620,621,622,null,null,625,626,null,628,629]
[null,631,null,633,634,635,636,null,null,639,null,641,null,643,644,645,646,647,648,null,null,651,null,null,null,655,656,657,658,659,null,null,662,null,664,665]
[null,null,null,668,null,670,671,672,673,674,675,null,677,null,679,null,null,null,683,null,685,null,null,null,689,null,691,null,693,null,695,696,697,null,699,700]
[null,null,null,703,null,705,706,707,708,null,710,null,712,null,714,null,null,null,null,null,null,721,722,null,724,null,null,727,728,null,730,731,null,733,734,735]
[null,null,null,null,739,740,741,null,743,744,null,null,747,748,749,750,751,null,753,null,755,null,null,758,null,null,null,762,null,null,765,null,767,768,null,770]
[null,null,772,null,774,null,776,777,null,null,null,null,782,783,784,785,786,null,788,null,null,791,null,null,794,795,796,797,798,799,null,801,null,null,804,805]
[null,null,null,808,809,810,811,812,null,814,815,null,null,818,819,null,821,null,823,null,null,826,827,null,null,830,831,832,833,834,835,null,837]
[null,null,842,null,844,null,846,null,848,null,null,851,null,853,null,855,856,857,null,859,860,861,862,null,864,null,866,null,868,869,null,null,null,null,874,875]
[null,null,877,null,null,880,null,null,883,null,885,886,null,888,null,null,891,null,893,894,895,null,897,null,null,900,901,902,null,904,905,906,907,908,909,910]
[null,null,912,913,914,915,916,917,null,919,920,921,null,923,null,925,null,927,928,929,null,931,932,null,null,935,936,null,938,939,null,null,null,null,944,945]
[null,946,947,null,null,null,951,952,953,null,955,null,957,958,null,960,null,null,null,964,965,966,967,968,null,null,null,972,null,974,975,976,null,978,979]
[null,null,null,null,984,null,986,null,null,null,null,null,992,null,null,995,996,null,null,999,1000]
[]
[null,"Terug",null,null,null,null,null,null,null,null,"Abcoude (1)",null,null,null,null,null,null,null,null,null,null,null,null,null,null,null,null,null,null,{"$f":"SUMPRODUCT((MOD(B163:AJ191,100)=0)*(B163:AJ191<1000)*(B163:AJ191<>\"\"))","v":8},null,"MANCO:",null,{"$f":"COUNT(B163:AJ191)","v":775}]
[]
[null,1,2,3,4,5,6,7,8,9,10,11,12,13,14,null,null,17,18,null,null,21,22,23,24,25,26,null,28,29,30,31,32,33,null,35]
[null,36,37,null,null,40,41,42,null,null,45,null,47,48,49,50,null,null,null,54,null,null,57,58,null,null,null,62,63,64,65,66,null,null,69]
[null,71,null,null,null,75,null,77,78,79,80,81,82,null,null,85,86,null,88,89,90,91,92,93,94,null,96,97,null,null,100,101,102,103,104,105]
[null,106,107,108,109,110,null,112,null,114,null,116,117,118,null,null,121,122,null,124,125,126,127,128,129,130,null,132,133,134,135,136,137,138,139,140]
[null,141,142,143,144,145,null,null,148,null,150,151,152,153,154,155,156,157,null,159,null,161,null,163,null,165,166,167,null,169,170,171,172,173,174]
[null,176,177,null,179,180,181,182,null,184,185,186,187,null,189,190,191,192,193,194,195,196,null,198,199,200,201,202,null,204,205,206,207,208,209,210]
[null,211,212,213,null,215,216,217,218,219,220,221,222,223,224,null,226,227,228,null,230,231,232,233,null,235,236,null,238,null,240,241,null,243,244]
[null,null,247,248,249,250,251,252,253,254,255,256,257,null,null,260,null,262,263,264,265,null,267,268,269,270,null,272,null,null,null,276,null,278,null,280]
[null,281,282,null,284,285,286,null,288,289,290,null,292,293,294,295,296,297,298,null,300,301,null,303,304,null,306,307,null,null,null,311,312,313,314]
[null,316,317,null,319,320,null,322,323,null,325,326,null,328,329,null,331,332,333,null,null,336,null,338,339,null,341,342,343,null,345,346,347,348,349,350]
[null,351,352,353,354,355,356,null,358,359,360,361,null,363,null,365,null,367,368,369,370,null,null,null,374,375,376,377,378,379,380,381,382,383,384,385]
[null,386,387,388,389,null,391,392,393,394,null,null,397,398,399,400,401,null,403,404,405,406,407,408,409,410,411,412,413,null,415,416,417,418,null,420]
[null,421,422,423,424,425,426,427,428,429,430,431,null,433,null,435,null,437,438,439,440,441,442,443,444,445,446,447,448,449,450,451,null,453]
[null,456,457,458,459,460,461,462,null,464,null,466,467,null,469,470,null,472,473,474,null,476,477,478,null,480,null,null,483,484,485,null,487,488,489,490]
[null,491,null,493,494,null,496,497,498,499,500,501,502,503,504,505,506,null,null,509,null,511,512,513,514,515,516,517,null,519,520,521,522,523,524,525]
[null,526,527,528,529,null,531,532,533,null,535,null,537,538,539,540,541,542,null,544,545,null,547,548,549,550,551,null,null,554,null,556,557,558,559,560]
[null,561,562,null,564,565,566,null,null,null,570,571,572,573,574,575,576,577,578,579,580,581,582,583,584,585,586,587,588,589,590,591,592,593,594,595]
[null,596,597,598,null,600,601,602,603,604,605,606,null,608,609,null,null,612,613,614,615,616,null,618,619,620,621,null,623,624,null,626,null,628,629,630]
[null,631,632,633,634,635,null,637,638,639,640,null,null,null,null,645,646,null,648,null,650,651,652,653,654,655,656,657,null,null,null,661,null,663,null,665]
[null,null,null,null,669,670,671,null,null,674,675,676,677,678,679,680,681,682,683,684,null,686,687,null,null,null,691,692,693,694,695,null,697,698,699]
[null,701,702,null,704,705,706,707,708,709,710,711,712,713,714,715,716,null,718,719,720,721,722,723,724,725,726,727,728,729,null,731,732,null,734,735]
[null,null,737,738,null,740,741,742,743,744,null,746,null,748,749,750,751,752,753,754,755,756,757,758,759,760,761,762,763,764,765,766,null,768,769,770]
[null,771,772,773,774,775,776,777,778,779,780,781,782,783,784,785,786,787,788,789,790,791,792,793,794,795,null,797,798,null,800,null,802,803,null,805]
[null,806,807,808,809,810,null,null,813,814,null,816,null,818,819,null,821,822,823,null,825,null,827,null,829,830,831,832,833,null,null,836,837,null,839,840]
[null,null,842,843,844,845,null,847,848,849,null,851,852,853,854,855,856,null,null,null,null,null,null,863,864,null,866,867,868,null,870,871,872,873,874,875]
[null,876,877,878,879,880,881,882,null,884,885,886,887,888,null,890,891,892,893,null,895,null,null,898,899,900,901,902,903,904,905,null,907,908,909,910]
[null,911,912,913,914,915,916,917,918,919,920,921,922,923,924,925,926,null,928,929,930,931,932,933,934,935,936,937,938,939,940,null,null,null,null,945]
[null,946,947,948,949,null,null,952,953,null,955,956,957,958,959,960,961,962,null,964,965,966,null,968,969,970,971,972,null,974,975,976,977,null,null,980]
[null,981,null,983,984,null,986,987,988,989,990,991,992,993,994,995,996,997,998,999,1000]
[]
[null,"Terug",null,null,null,null,null,null,null,null,"Aerdenhout",null,null,null,null,null,null,null,null,null,null,null,null,null,null,null,null,null,null,{"$f":"SUMPRODUCT((MOD(B195:AJ223,100)=0)*(B195:AJ223<1000)*(B195:AJ223<>\"\"))","v":6},null,"MANCO:",null,{"$f":"COUNT(B195:AJ223)","v":379}]
[]
[null,1,null,null,4,null,null,null,null,null,null,null,null,null,null,15,null,null,null,null,null,null,null,23,24,null,null,null,null,29,30,31,32,33]
[null,36,37,38,null,null,41,42,43,null,null,null,47,null,null,50,51,null,null,null,null,null,null,null,null,null,null,null,null,null,65,null,null,68]
[null,null,null,73,null,75,null,null,null,null,null,81,null,null,null,85,null,null,null,null,90,91,92,93,null,95,null,null,null,null,null,null,102]
[null,106,null,null,109,null,null,112,null,null,115,null,null,null,119,120,121,122,null,null,125,null,null,null,null,null,null,132,null,134,null,136,null,null,139,140]
[null,null,142,null,null,null,null,null,null,149,null,151,152,153,null,155,156,null,null,null,null,null,null,null,164,null,166,167,168,null,170,null,172,null,null,175]
[null,176,null,null,null,null,181,182,null,null,null,null,null,null,189,190,null,192,null,194,195,196,197,null,null,200,null,null,null,null,205]
[null,null,null,null,214,215,null,null,218,null,null,null,null,223,224,null,226,227,null,null,null,null,232,233,null,null,null,null,null,239,null,241,null,null,null,245]
[null,null,247,null,null,250,null,null,253,null,255,null,null,258,null,null,null,262,263,264,null,null,267,null,null,null,271,272,null,null,null,276,null,278,279,280]
[null,null,null,null,284,null,286,287,null,289,290,null,null,null,null,null,null,297,null,299,300,301,null,303,null,null,null,null,308,null,310,311,null,null,314,315]
[null,null,null,318,null,null,null,322,null,null,325,null,null,null,null,null,null,null,null,null,335,null,null,338,null,340,null,342,343,null,null,346,347,null,null,350]
[null,null,352,353,354,null,null,null,null,null,null,null,null,363,null,365,366,null,368,369,null,371,null,373,null,null,376,null,null,null,null,null,382]
[null,null,null,null,389,null,391,null,393,394,null,396,null,398,399,400,null,null,null,404,405,406,407,null,409,null,null,null,null,414,415,null,417,418,null,420]
[null,null,null,null,null,null,426,null,null,null,430,null,null,null,434,435,436,null,null,439,null,null,null,null,null,null,null,447,null,null,null,null,null,453]
[null,456,null,null,null,null,461,null,null,null,null,null,null,null,469,470,null,null,null,474,null,null,null,null,479,480]
[null,491,null,493,494,495,496,null,498,null,null,501,null,null,null,505,null,null,null,509,510,511,null,513,514,515,516,null,null,null,null,null,null,null,524,525]
[null,526,null,null,529,null,null,null,null,534,535,536,537,null,null,540,541,null,null,544,545,null,547,548,null,550,null,null,553,null,null,556]
[null,561,null,563,null,null,null,null,null,null,null,null,null,null,null,null,576,577,578,null,580,581,null,583,584,585,null,null,null,589,null,null,592,null,594]
[null,596,null,598,599,null,null,602,603,null,605,null,607,null,null,null,null,612,null,null,615,null,null,null,619,null,null,null,null,null,null,626,627,null,null,630]
[null,null,null,null,null,null,null,null,null,null,null,null,642,null,644,null,646,647,648,649,null,null,652,null,654,null,null,657,null,659,null,null,null,663,null,665]
[null,null,667,null,669,null,671,672,673,674,675,null,null,678,null,680,null,682,683,null,null,686,null,null,null,null,691,null,null,694,695,null,697,null,null,700]
[null,701,null,null,704,705,null,707,708,null,null,null,null,null,714,715,716,null,718,719,null,721,null,null,null,725,726,727,728,729,null,731,null,733,734]
[null,736,737,null,739,740,null,742,null,null,745,746,null,null,749,750,null,752,null,null,null,null,null,null,null,760,null,null,null,null,null,766,null,null,769,770]
[null,771,null,null,null,775,776,777,778,779,780,null,782,783,784,null,null,787,null,789,null,null,null,null,null,null,796,797,798,799,800,801,null,null,null,805]
[null,806,null,null,null,null,null,null,null,null,815,816,817,818,819,null,null,822,null,null,null,826,827,null,null,null,null,null,null,834,835,836]
[null,841,null,null,null,null,null,null,848,null,null,null,null,853,null,null,null,null,null,null,null,null,null,863,864,null,866,null,868,null,870,null,null,null,874]
[null,876,null,null,null,880,881,882,null,884,885,null,887,null,889,890,891,null,null,894,null,null,null,null,null,900,null,null,903,904,null,null,null,908,909]
[null,911,null,null,null,915,null,null,null,919,null,null,null,923,924,925,null,927,null,null,null,931,null,null,934,935,null,937,null,939,940,941,null,943,null,945]
[null,946,null,null,null,950,null,952,null,null,955,956,957,null,null,null,null,null,null,964,null,null,967,968,969,null,null,null,null,null,975,976]
[null,981,982,null,null,null,986,null,null,null,null,null,null,null,null,null,996,null,998,null,1000]
[]
[null,"Terug",null,null,null,null,null,null,null,null,"Alblasserdam",null,null,null,null,null,null,null,null,null,null,null,null,null,null,null,null,null,null,{"$f":"SUMPRODUCT((MOD(B227:AJ255,100)=0)*(B227:AJ255<1000)*(B227:AJ255<>\"\"))","v":0},null,"MANCO:",null,{"$f":"COUNT(B227:AJ255)","v":195}]
[]
[null,1,2,null,null,null,null,null,8,null,null,null,null,null,14,null,null,null,null,null,null,null,null,null,null,null,null,null,null,null,null,null,32,33]
[null,36,37,null,null,null,41,null,null,null,null,null,null,48,null,null,null,52,null,null,null,56,null,null,null,null,null,null,null,null,65,null,null,68]
[null,null,null,null,null,null,null,null,null,null,80,null,null,null,null,null,86,87,88,null,null,null,null,null,94]
[null,null,null,108,null,null,null,null,null,null,null,null,null,null,null,null,null,null,null,null,null,126,127,null,null,130,null,null,null,null,135,null,137]
[null,null,null,null,null,null,null,null,148,null,null,null,null,153,null,155]
[null,null,null,null,null,null,null,null,null,null,null,null,null,188,null,190,null,null,null,null,195,null,197,null,199,null,201,null,null,204,null,null,null,208,209]
[null,211,null,213,214,null,null,null,null,null,null,null,null,null,null,225,null,null,null,null,null,null,232,null,null,null,null,null,null,null,240,null,null,243,244,245]
[null,246,247,null,null,250,251,null,null,null,null,null,null,null,null,null,261,null,263,null,265,null,null,268,269,null,null,272,null,274,null,null,null,null,279]
[null,281,null,283,null,null,null,null,null,null,null,null,null,null,null,null,null,297,null,299,null,null,302,null,null,null,null,null,null,null,null,null,null,313,314,315]
[null,null,null,null,null,null,null,null,null,null,null,null,null,null,null,null,null,null,null,334]
[null,null,null,null,354,355,null,357,null,null,null,null,null,null,null,null,366,null,null,null,null,null,null,null,null,null,null,null,null,null,null,381]
[null,null,null,null,389,null,391,null,null,null,null,396,397,null,399,null,401,402,null,null,405,null,null,null,null,null,null,412,null,null,415]
[null,null,422,null,null,null,null,null,428,null,null,null,null,null,null,null,null,null,null,null,null,null,null,null,null,null,null,447,null,null,null,451]
[null,456,null,458,null,null,null,null,null,null,null,null,null,null,null,null,471,null,null,null,475,null,null,null,479,null,null,null,null,484,null,486]
[null,null,null,null,null,null,null,null,null,null,null,null,null,null,null,505,null,507,508,null,null,511,null,null,null,null,null,null,null,null,null,null,null,null,null,525]
[null,null,null,null,null,null,null,532,null,null,null,null,null,null,null,540,null,null,null,544,null,null,null,548,null,null,null,null,null,null,null,null,557]
[null,561,null,null,null,565,566,null,null,null,570,null,null,573,574,null,null,577,null,null,null,null,null,583,584,585,null,null,null,null,null,null,592,null,594]
[null,null,597,null,null,null,null,null,null,null,null,606,null,null,null,null,null,null,null,null,null,null,null,618,null,null,null,null,623,null,625,null,627,null,629]
[null,null,null,633,null,null,null,null,null,null,null,null,null,null,null,null,646,null,648,null,null,651,null,653,654,null,null,null,null,null,null,null,662,663,null,665]
[null,null,null,null,null,670,null,672,null,null,null,676,null,678,null,null,null,682,null,684,null,null,null,688,null,null,null,null,null,694]
[null,null,null,null,null,null,null,707,null,null,710,null,null,null,null,715,null,null,null,null,720,null,null,null,724,725,null,727,null,729]
[null,null,null,738,null,null,null,null,null,null,null,null,null,null,null,null,null,752,null,null,755,null,null,null,null,null,null,null,763,null,null,766]
[null,null,null,773,null,null,null,null,null,779,null,null,782,null,null,null,null,null,null,null,null,null,null,null,null,null,null,null,null,null,null,null,null,null,804]
[null,null,null,808,null,810,null,null,null,814,null,null,null,null,null,null,null,822,823,824,825,null,null,null,null,null,null,null,null,null,null,836,837,null,839,840]
[null,null,null,843,null,null,null,null,null,null,null,851,null,853,854,null,856,857,null,null,null,null,862,null,null,865]
[null,null,null,null,null,null,null,null,null,null,885,null,null,null,null,890,891,null,null,null,null,null,null,null,null,null,null,null,null,904,null,null,null,908]
[null,null,null,913,null,null,null,null,null,null,null,null,null,null,null,null,null,null,null,null,null,null,null,null,934,null,null,null,938,null,940,null,null,null,null,945]
[null,null,null,null,null,null,null,null,null,null,null,956,null,null,null,960,null,null,null,null,965,null,null,null,null,null,null,null,null,974,null,null,null,null,979]
[null,null,null,null,null,985,null,null,null,null,990,null,992,null,994,null,null,null,null,null,1000]
[]
[null,"Terug",null,null,null,null,null,null,null,null,"Alblasserdam (1)",null,null,null,null,null,null,null,null,null,null,null,null,null,null,null,null,null,null,{"$f":"SUMPRODUCT((MOD(B259:AJ287,100)=0)*(B259:AJ287<1000)*(B259:AJ287<>\"\"))","v":4},null,"MANCO:",null,{"$f":"COUNT(B259:AJ287)","v":475}]
[]
[null,1,2,3,4,5,null,7,null,null,10,11,null,13,null,null,null,17,null,19,20,21,22,23,null,25,null,27,28,29,null,null,null,33,34]
[null,null,null,38,39,null,null,42,43,null,45,46,47,null,null,null,null,52,null,54,null,null,null,58,59,null,61,null,63,64,65,66,null,null,69]
[null,71,72,null,74,75,null,null,null,79,null,null,null,null,null,85,86,null,null,null,90,91,null,null,null,null,null,null,null,null,null,101,null,103,null,105]
[null,null,107,108,null,110,111,null,null,114,null,null,null,118,null,null,121,null,null,null,null,null,127,null,129,130,131,null,null,134,135,136,137,138]
[null,null,142,null,144,null,null,147,null,149,null,151,152,153,null,155,156,157,158,null,160,null,162,163,null,null,null,null,168,null,null,null,null,173,174]
[null,176,177,null,179,180,null,182,null,null,null,null,187,188,189,190,null,null,193,null,null,null,null,null,199,null,null,null,203,null,205,206,null,208,209]
[null,null,null,213,null,215,216,null,null,null,220,221,222,223,null,225,226,227,228,null,230,231,232,null,null,null,236,237,null,null,null,null,null,null,null,245]
[null,null,null,null,null,250,null,null,null,null,255,256,null,null,259,null,null,262,263,null,265,266,null,268,null,270,null,272,273,274,null,null,277,278,279,280]
[null,null,null,283,null,null,null,287,null,null,290,291,292,293,294,295,null,null,298,null,300,301,302,null,null,null,306,307,308,null,null,311,null,313,314,315]
[null,null,null,null,319,null,321,322,null,null,325,326,null,328,329,null,331,332,333,null,335,null,337,338,null,340,341,null,343,null,null,346,null,null,349]
[null,351,null,null,354,355,null,null,358,359,360,361,362,null,null,null,null,null,368,null,null,null,null,null,374,375,376,377,378,null,380,null,null,null,384]
[null,null,null,388,null,390,null,392,null,null,null,null,null,null,null,400,401,null,403,null,405,406,407,408,409,410,411,412,413,414,null,416,null,418,419]
[null,421,422,423,null,425,426,null,null,null,null,null,null,null,434,435,null,null,438,null,null,441,null,null,null,445,446,447,448,449,null,null,452,453,454,455]
[null,null,null,null,null,460,null,null,463,464,465,null,467,null,null,470,471,null,473,null,null,476,null,null,null,480,481,482,483,484,null,null,487,488]
[null,491,null,null,null,495,496,null,498,null,null,null,null,null,null,505,null,null,508,509,null,511,null,513,null,515,null,null,518,519,null,null,null,null,524,525]
[null,526,527,null,null,null,null,null,null,null,535,536,null,null,539,540,null,542,null,null,null,null,null,548,549,550,551,552,null,554,555,null,null,null,559]
[null,null,null,563,564,565,566,567,null,null,null,null,572,573,574,575,null,null,578,null,null,581,null,null,null,585,null,587,588,null,null,null,null,null,594,595]
[null,null,null,598,null,null,null,602,null,604,605,606,null,608,609,610,null,612,null,null,615,616,null,null,619,null,621,null,623,624,625,626,627]
[null,null,632,633,634,null,null,null,null,null,null,null,null,643,644,null,null,null,null,649,null,null,null,null,654,null,656,null,null,null,null,null,null,663,null,665]
[null,null,667,668,null,null,671,null,673,null,null,null,null,null,679,null,null,null,683,684,null,686,687,688,null,690,691,null,693,null,695,null,697]
[null,701,null,703,null,705,706,null,708,null,710,711,null,713,714,null,716,null,718,null,720,null,null,null,724,725,null,null,null,null,730]
[null,null,null,null,null,740,741,null,null,null,745,746,null,null,null,750,null,null,null,null,null,null,757,758,759,760,null,762,763,null,765,null,null,null,769,770]
[null,null,772,null,774,775,776,null,null,null,null,781,null,null,null,785,786,787,788,null,null,null,792,null,null,795,796,null,null,null,800,801,802]
[null,null,807,null,null,810,811,812,813,814,null,816,817,818,819,820,null,null,null,null,825,826,null,null,null,830,null,832,833,834,835,836,837,null,839,840]
[null,841,null,null,null,845,846,847,null,null,850,null,852,853,854,855,856,null,null,null,null,861,null,863,864,null,null,null,null,869,null,871,null,873]
[null,null,877,878,879,880,881,882,883,884,null,null,null,null,null,890,891,892,893,null,895,896,897,898,899,900,null,902,null,null,905,906,null,null,909]
[null,null,null,913,914,null,916,917,null,null,920,null,922,923,null,null,926,null,null,929,null,null,932,933,934,935,null,937,null,939,null,null,null,null,944,945]
[null,null,947,948,949,null,null,952,null,null,955,956,null,null,959,null,961,null,null,964,965,966,null,968,969,null,971,972,null,null,975,null,977,null,979]
[null,null,982,null,null,null,null,null,988,null,null,991,992,null,null,995,996,997,998,null,1000]
[]
[null,"Terug",null,null,null,null,null,null,null,null,"Alkmaar",null,null,null,null,null,null,null,null,null,null,null,null,null,null,null,null,null,null,{"$f":"SUMPRODUCT((MOD(B291:AJ319,100)=0)*(B291:AJ319<1000)*(B291:AJ319<>\"\"))","v":0},null,"MANCO:",null,{"$f":"COUNT(M295:Y304)","v":85}]
[]
[]
[]
[]
[]
[null,null,null,null,null,null,null,null,null,null,null,null,47]
[null,null,null,null,null,null,null,null,null,null,null,null,115,117,118,null,139,144,175,179,194,197,198]
[null,null,null,null,null,null,null,null,null,null,null,null,203,237,246,250,278,285,286,296]
[null,null,null,null,null,null,null,null,null,null,null,null,328,331,335,347,null,353,375,378,385,391,397]
[null,null,null,null,null,null,null,null,null,null,null,null,415,426,443,444,449,450,466,468]
[null,null,null,null,null,null,null,null,null,null,null,null,504,505,509,515,526,528,536,539,545,554,556,568,575]
[null,null,null,null,null,null,null,null,null,null,null,null,610,619,621,629,636,659,688,694]
[null,null,null,null,null,null,null,null,null,null,null,null,703,708,718,732,735,736,742,764,773,788,797,798]
[null,null,null,null,null,null,null,null,null,null,null,null,806,822,829,832,null,866,878,895]
[null,null,null,null,null,null,null,null,null,null,null,null,909,922,938,948,960,980,982,988]
[]
[]
[]
[]
[]
[]
[]
[]
[]
[]
[]
[]
[]
[]
[]
[]
[null,"Terug",null,null,null,null,null,null,null,null,"Amr - Bagijnenstraat (1)",null,null,null,null,null,null,null,null,null,null,null,null,null,null,null,null,null,null,{"$f":"SUMPRODUCT((MOD(B323:AJ351,100)=0)*(B323:AJ351<1000)*(B323:AJ351<>\"\"))","v":8},null,"MANCO:",null,{"$f":"COUNT(B323:AJ351)","v":823}]
[]
[null,1,2,3,4,5,6,7,8,9,10,11,12,null,14,null,16,null,null,null,null,21,22,23,24,25,26,27,28,29,30,31,32,33,34,35]
[null,null,37,null,39,40,null,42,43,44,45,null,47,48,49,50,null,52,53,54,55,null,57,58,59,60,61,null,63,64,65,null,67,null,69,70]
[null,71,72,73,74,75,76,null,78,79,80,81,82,83,84,85,86,87,null,89,90,91,92,93,94,95,96,97,98,99,100,101,102,103,null,105]
[null,106,107,null,109,110,111,112,113,114,115,116,117,118,119,120,null,122,123,124,null,126,127,128,129,130,131,null,133,134,135,136,null,138,null,140]
[null,141,142,143,144,145,null,147,148,149,150,null,152,153,null,155,156,157,158,159,null,161,162,163,164,null,166,167,null,169,170,171,172,173,174,175]
[null,176,177,178,179,180,181,182,183,184,185,186,187,188,189,null,191,null,193,194,null,196,null,198,199,200,201,null,203,204,205,206,207,208,209,210]
[null,211,212,213,214,215,216,217,null,219,220,null,222,223,224,225,226,null,228,229,null,231,232,233,234,235,236,237,238,239,240,241,242,243,244,245]
[null,246,247,248,249,250,251,252,253,null,255,256,257,258,259,260,261,262,263,264,265,266,267,268,269,null,271,272,273,274,275,276,null,278,279,280]
[null,281,282,283,null,285,286,287,288,289,290,291,null,293,null,295,296,297,298,299,300,null,302,303,304,305,306,307,308,null,310,311,312,313,314,315]
[null,316,null,318,319,320,321,322,null,null,325,null,327,328,329,null,331,null,null,334,null,336,337,338,339,340,341,342,343,344,345,346,347,348,349,350]
[null,351,352,353,354,355,356,357,358,359,360,361,362,363,364,365,366,null,null,null,null,371,372,373,374,375,null,377,null,379,380,381,382,383,384,385]
[null,386,null,388,389,390,null,392,393,394,395,396,397,398,399,400,401,null,403,null,405,null,407,null,409,410,411,412,413,414,null,416,null,418,419]
[null,421,422,423,424,425,426,427,428,429,430,431,432,433,null,435,436,437,438,439,null,441,442,443,444,445,446,447,448,449,450,451,452,453,454,455]
[null,null,457,458,459,460,461,462,null,null,465,466,467,null,469,470,471,472,473,474,475,476,477,null,479,480,481,482,null,484,485,486,487,null,489,490]
[null,491,492,493,494,495,null,497,498,499,500,501,502,503,504,505,506,507,508,509,null,511,null,513,514,515,516,517,518,519,null,null,522,null,524,525]
[null,526,527,528,529,530,531,532,533,null,535,null,537,null,539,null,541,542,543,544,545,null,547,548,549,550,551,552,553,554,555,556,557,558,559,560]
[null,561,null,563,564,null,null,567,568,569,570,571,null,null,574,575,576,577,null,579,580,581,582,583,584,null,586,587,588,589,590,null,null,null,594,595]
[null,596,597,598,null,null,601,602,603,604,605,606,607,608,609,610,611,612,613,614,615,616,617,618,619,620,621,622,623,null,625,626,627,null,629,630]
[null,631,632,null,null,635,636,637,638,null,640,641,642,643,null,null,646,647,648,649,null,651,652,653,654,655,656,657,658,null,660,661,662,663,null,665]
[null,666,null,668,null,670,null,672,null,674,null,676,677,null,679,null,681,682,683,684,685,686,null,688,null,690,null,692,693,694,695,null,697,698,699,700]
[null,701,702,703,null,705,706,707,708,709,710,711,712,null,714,715,716,717,null,719,720,721,722,null,724,null,726,727,728,729,730,731,732,null,734,735]
[null,736,737,738,739,740,null,742,743,744,745,746,747,748,749,750,751,752,null,754,755,756,757,758,759,760,761,762,null,null,null,null,767,768,769,770]
[null,771,772,null,774,null,null,777,778,779,780,781,782,null,784,785,null,787,788,null,790,791,792,793,794,795,796,797,798,799,800,null,null,803,804,805]
[null,806,807,808,null,810,null,null,813,814,null,816,817,818,819,820,821,822,null,824,825,null,827,828,829,830,831,null,833,834,null,836,837,838,839,840]
[null,841,842,843,844,845,846,847,848,null,850,851,852,853,854,855,856,null,858,859,860,861,862,863,864,865,866,867,868,869,870,null,872,873,874,875]
[null,876,877,null,879,880,881,882,883,884,885,886,887,null,889,890,891,892,893,894,895,896,897,898,null,900,null,902,903,904,905,906,907,null,909,910]
[null,911,null,913,914,915,916,917,918,919,920,921,922,923,924,925,926,927,928,929,930,931,932,933,934,935,936,937,938,939,940,null,null,943,944,945]
[null,946,947,948,null,null,951,952,953,954,null,956,957,958,959,960,961,null,963,null,null,966,967,968,969,970,971,972,null,null,975,976,977,978,null,980]
[null,981,982,983,984,985,null,987,null,989,990,991,992,null,994,995,null,997,998]
[]
[null,"Terug",null,null,null,null,null,null,null,null,"Amr - Bagijnenstraat (3)",null,null,null,null,null,null,null,null,null,null,null,null,null,null,null,null,null,null,{"$f":"SUMPRODUCT((MOD(B355:AJ383,100)=0)*(B355:AJ383<1000)*(B355:AJ383<>\"\"))","v":8},null,"MANCO:",null,{"$f":"COUNT(B355:AJ383)","v":774}]
[]
[null,1,2,3,4,5,6,null,8,9,10,null,12,13,14,15,16,17,18,19,20,21,22,null,24,25,null,27,null,null,null,31,32,33,34,35]
[null,null,37,38,39,40,null,42,43,44,45,46,47,48,49,null,51,52,53,54,55,56,57,null,59,60,61,62,63,null,65,66,67,68,null,70]
[null,null,72,null,null,75,76,77,null,79,80,81,null,83,84,85,86,87,null,89,90,91,92,93,94,95,96,97,98,99,100,101,null,null,104]
[null,null,null,108,null,110,111,null,113,null,null,116,null,118,119,120,null,122,null,null,125,126,127,128,129,130,131,132,133,134,135,136,null,138,139,140]
[null,141,142,null,144,145,146,147,148,null,150,null,null,153,154,155,156,157,null,159,160,161,162,163,164,165,null,167,168,169,170,171,172,173,null,175]
[null,null,177,178,179,180,null,182,183,184,185,186,187,188,189,190,191,192,193,null,null,196,null,null,199,200,201,202,203,204,null,206,207,208]
[null,211,212,213,214,215,null,null,218,219,null,221,222,223,224,225,226,null,228,null,230,231,232,233,234,null,236,237,238,239,240,241,242,243,244]
[null,246,247,248,249,250,null,252,null,null,255,256,257,258,259,260,261,null,null,264,null,266,267,null,269,270,271,272,null,274,275,null,277,278,279,280]
[null,281,282,283,284,null,286,287,null,289,290,291,null,293,294,295,296,297,298,299,300,301,302,303,304,305,306,307,308,309,310,311,312,null,314,315]
[null,null,null,null,319,320,null,322,323,null,null,null,null,328,null,330,331,332,333,null,335,336,null,338,339,340,341,342,343,344,345,346,347,348,349,350]
[null,null,352,353,354,355,356,null,358,359,360,361,362,363,364,365,null,367,null,369,370,371,372,373,374,375,376,377,378,379,380,381,382,383,384,385]
[null,386,387,388,389,390,391,null,null,394,395,396,null,null,399,400,null,402,403,404,405,406,null,408,409,410,null,412,413,414,null,416,417,418,null,420]
[null,421,422,null,424,null,426,427,428,429,430,431,432,null,434,435,436,437,438,439,null,441,null,443,null,445,446,447,448,449,null,451,null,453]
[null,null,457,458,459,460,null,462,463,null,465,null,467,468,469,470,null,472,473,null,475,476,477,478,null,480,481,482,483,484,485,null,null,488,null,490]
[null,491,null,null,494,495,496,null,null,499,500,501,502,null,504,505,506,null,508,null,510,511,512,513,514,515,null,null,518,null,520,521,null,523,524,525]
[null,null,null,null,529,530,531,532,533,534,535,536,537,538,null,540,null,542,null,544,545,546,547,548,null,null,null,null,553,554,555,556,557,558,559,560]
[null,561,562,563,564,565,null,567,null,null,570,null,null,573,574,575,576,null,578,null,null,null,582,583,584,585,586,null,588,null,null,591,null,593,594,595]
[null,596,597,598,null,600,601,602,null,604,605,null,null,608,609,null,null,612,null,null,615,616,617,618,null,620,621,622,623,null,null,null,627,628,629,630]
[null,631,632,633,634,null,636,637,null,639,640,null,642,643,null,645,null,null,648,649,650,651,652,653,null,655,656,null,null,null,null,661,662,663,664]
[null,666,667,null,669,670,671,672,673,674,675,676,677,678,679,680,681,682,683,684,685,null,687,688,null,690,691,692,null,694,695,696,697,null,699,700]
[null,701,702,703,704,null,706,707,708,null,null,711,712,713,714,715,716,717,718,719,720,721,722,723,724,725,726,727,728,729,null,731,732,733,734,735]
[null,736,737,null,null,740,741,742,743,744,null,746,null,748,749,750,751,752,753,754,755,756,757,758,759,760,761,null,763,764,765,null,767,768,769,770]
[null,771,null,null,774,775,776,777,778,779,780,null,782,783,784,785,786,787,788,789,790,791,792,793,794,795,796,797,798,null,null,801,802,803,null,805]
[null,806,807,null,809,810,811,812,null,814,815,816,817,null,819,null,821,822,823,824,825,null,827,null,829,830,831,null,833,834,835,836,837,838,839,840]
[null,841,842,null,null,845,846,847,848,849,850,851,null,853,854,855,856,857,null,859,860,null,null,null,864,865,866,867,868,869,870,871,872,873,874,875]
[null,876,null,878,879,null,881,882,883,884,885,null,null,888,889,890,891,892,893,894,895,896,897,898,899,900,901,null,903,904,905,906,907,908,909,910]
[null,null,912,913,914,null,null,917,918,919,920,null,922,923,924,null,null,927,928,929,930,931,932,933,934,null,936,937,938,939,940,941,942,943,944,945]
[null,null,947,948,949,950,951,952,null,954,955,956,957,958,959,null,961,962,963,964,965,null,967,968,969,970,971,972,973,974,975,976,null,978,979]
[null,981,982,983,984,985,986,987,988,989,990,null,992,993,994,995,996,997,998,null,1000]
[]
[null,"Terug",null,null,null,null,null,null,null,null,"Amr - Europaboulevard ",null,null,null,null,null,null,null,null,null,null,null,null,null,null,null,null,null,null,{"$f":"SUMPRODUCT((MOD(B387:AJ415,100)=0)*(B387:AJ415<1000)*(B387:AJ415<>\"\"))","v":8},null,"MANCO:",null,{"$f":"COUNT(B387:AJ415)","v":734}]
[]
[null,1,2,3,4,5,null,7,8,9,10,11,12,13,14,null,null,17,18,19,20,21,22,23,24,25,26,27,28,29,null,31,null,33,null,35]
[null,36,37,38,39,40,41,42,43,null,45,46,null,48,49,50,null,52,53,54,55,null,57,58,59,null,61,null,63,64,65,66,67,68,69]
[null,71,72,73,74,75,null,77,null,79,80,81,82,83,84,null,86,87,88,89,90,91,null,93,94,95,96,97,98,99,100,101,102,103,null,105]
[null,null,107,108,109,110,111,112,113,114,115,116,117,118,119,120,121,122,123,null,null,126,127,128,129,130,131,null,null,134,null,136,137,138,139]
[null,null,142,143,null,145,146,147,148,149,null,151,152,null,null,155,156,157,158,159,160,161,162,null,164,165,null,167,168,null,170,null,172,173,174,175]
[null,null,177,178,179,null,181,182,183,184,null,null,187,188,189,null,null,192,193,194,195,null,197,null,null,null,201,202,203,204,205,null,207,208,209,210]
[null,211,212,null,null,215,216,217,218,null,220,221,222,null,224,225,226,227,228,229,230,231,232,null,234,null,236,237,238,null,240,241,242,243,244]
[null,null,247,248,null,250,251,252,253,254,255,256,257,258,null,260,261,null,263,264,265,266,267,268,269,null,271,null,273,274,275,276,277,278,279,280]
[null,281,282,283,284,285,null,287,288,289,290,291,292,293,294,295,296,297,298,299,300,301,302,303,304,305,306,307,null,null,310,311,312,313,314,315]
[null,316,null,318,null,320,321,322,323,324,325,326,327,328,329,330,331,332,333,334,null,336,337,null,339,null,341,342,343,null,345,346,null,348,null,350]
[null,null,null,353,354,355,356,357,358,359,360,null,362,363,364,365,366,367,368,null,370,371,372,null,374,375,376,null,378,379,380,381,382,383,384]
[null,386,387,388,null,390,null,392,393,394,395,396,397,398,399,400,401,402,403,404,405,406,null,null,409,410,411,412,413,414,415,null,417,null,419,420]
[null,421,null,423,424,425,426,null,null,null,430,431,432,433,434,null,436,437,438,439,440,null,442,443,444,null,446,447,448,null,450,null,452,453,454,455]
[null,null,457,null,null,460,null,null,463,null,465,null,null,null,469,470,null,472,473,null,475,null,477,478,479,480,481,482,null,484,485,486,null,null,489,490]
[null,null,492,493,null,495,496,497,null,499,500,501,null,503,504,null,null,null,null,509,510,511,512,513,514,515,516,517,518,null,520,null,522,null,null,525]
[null,526,null,528,529,null,531,null,null,534,null,536,537,538,539,null,541,null,543,544,545,546,547,548,null,null,551,null,null,null,555,null,null,null,559]
[null,561,null,563,null,565,566,567,568,569,570,571,null,573,null,575,576,577,578,null,580,581,582,583,null,null,586,587,588,589,590,591,592,593,594,595]
[null,null,597,598,599,600,601,602,603,null,605,606,607,608,null,null,null,612,613,null,615,616,null,618,619,null,621,622,623,null,null,626,627,628,629,630]
[null,631,632,null,null,635,null,null,638,null,null,641,null,643,null,645,646,647,648,649,650,651,652,653,654,655,656,null,658,659,660,null,null,null,664]
[null,666,null,668,669,670,671,null,null,null,675,676,null,678,679,680,681,682,683,684,685,686,null,null,689,690,691,692,693,694,695,696,697,null,699,700]
[null,null,null,703,null,null,null,707,null,709,null,711,null,713,714,715,716,null,718,719,720,721,null,null,724,725,null,727,728,null,730,731,732,null,734,735]
[null,null,737,738,739,740,741,null,null,null,745,null,747,748,null,750,null,null,753,null,755,756,757,758,759,null,761,null,null,764,765,766,767,768,769,770]
[null,null,772,null,null,775,776,777,null,779,780,781,782,null,null,785,null,787,788,789,790,791,792,793,794,795,796,797,798,799,800,801,null,803,804,805]
[null,806,807,808,809,null,811,null,813,814,null,816,817,818,819,820,null,null,null,null,825,null,null,null,829,830,831,832,833,null,835,836,837,838]
[null,841,842,843,844,845,null,null,null,849,null,851,852,null,null,855,null,857,858,859,null,861,862,null,864,null,866,867,null,869,870,null,872,null,874,875]
[null,876,null,878,null,880,881,882,883,884,null,886,887,888,null,null,891,892,893,894,895,896,897,null,null,900,901,902,903,904,905,null,907,null,909,910]
[null,911,912,913,null,915,916,917,null,919,920,921,922,null,924,925,926,927,928,929,null,931,932,null,934,null,936,937,938,939,940,null,942,943,944]
[null,946,null,948,949,950,951,null,null,null,955,956,957,958,959,960,null,962,null,964,965,966,967,968,969,null,null,972,973,974,975,null,977,null,979]
[null,null,null,983,null,985,986,987,988,989,990,991,992,993,null,995,996,997,null,999,1000]
[]
[null,"Terug",null,null,null,null,null,null,null,null,"Amr - Europaboulevard (1)",null,null,null,null,null,null,null,null,null,null,null,null,null,null,null,null,null,null,{"$f":"SUMPRODUCT((MOD(B419:AJ447,100)=0)*(B419:AJ447<1000)*(B419:AJ447<>\"\"))","v":7},null,"MANCO:",null,{"$f":"COUNT(B419:AJ447)","v":710}]
[]
[null,1,null,3,null,5,6,7,8,9,10,11,12,13,14,15,16,null,18,19,20,21,22,23,24,25,26,null,null,29,30,31,32,33,null,35]
[null,36,null,null,null,40,null,42,43,44,45,46,47,48,49,50,51,52,53,54,55,56,57,58,59,60,61,62,63,64,65,null,null,68,69,70]
[null,null,null,73,null,75,null,77,78,79,80,null,null,83,84,85,86,null,88,89,90,91,null,93,94,95,96,97,null,null,100,101,null,null,null,105]
[null,null,107,108,null,110,111,112,113,114,115,null,null,null,119,null,121,122,123,124,125,126,127,128,null,130,131,132,133,134,null,136,137,138,139,140]
[null,null,142,143,144,145,146,null,148,149,150,null,152,153,null,155,null,157,158,159,null,null,162,163,164,165,166,167,168,169,null,171,172,null,174,175]
[null,176,177,null,179,180,181,182,183,184,null,186,187,188,null,190,null,192,null,194,null,null,null,198,199,200,null,202,203,null,205,206,null,208,null,210]
[null,211,212,null,214,215,null,null,218,null,220,221,null,null,224,225,null,227,228,null,230,null,232,233,234,null,236,237,238,239,null,241,242,243,244,245]
[null,246,247,248,249,null,251,null,253,254,255,256,null,null,259,null,261,262,263,264,265,266,null,268,269,null,null,272,null,274,null,null,277,278,279]
[null,281,282,283,null,285,286,287,288,289,290,291,292,293,294,295,296,297,null,null,300,301,302,303,null,null,306,307,null,309,null,311,null,313]
[null,316,317,318,319,320,321,322,323,324,null,326,327,null,null,330,331,null,333,null,null,336,337,338,339,340,341,342,null,null,345,346,347,null,349,350]
[null,351,352,353,354,355,356,null,358,null,null,361,null,363,364,365,366,367,368,369,370,371,372,373,374,375,376,377,378,379,380,null,382,383,384,385]
[null,null,387,null,389,390,391,392,null,394,395,null,397,398,399,400,401,402,403,404,405,406,407,408,409,410,null,412,413,414,415,null,null,418,419]
[null,421,null,null,null,425,426,427,null,null,430,null,432,null,434,null,436,437,null,439,440,null,null,443,null,445,446,null,448,null,450,451,452,453,454]
[null,456,457,458,459,460,461,null,463,464,465,466,null,468,null,470,471,null,473,null,null,476,477,null,479,480,481,482,483,484,485,null,null,488]
[null,null,null,493,494,495,496,null,null,null,500,501,502,503,504,505,506,507,508,509,510,511,512,513,514,515,516,517,518,519,null,521,522]
[null,526,null,528,529,530,531,null,533,null,535,536,537,538,539,null,null,542,543,544,null,546,null,null,549,null,551,552,553,null,555,556,557,558,559,560]
[null,561,562,563,564,565,566,567,568,569,570,571,null,573,null,575,576,577,578,579,null,581,582,null,null,585,586,587,null,null,null,591,592,593,594]
[null,null,null,598,null,600,601,602,603,604,605,606,607,608,609,null,611,612,null,614,null,616,617,null,619,null,621,622,623,624,625,626,627,628,629,630]
[null,631,632,633,634,635,null,637,638,639,null,641,642,null,null,645,646,647,648,649,null,651,null,653,654,null,656,null,658,659,660,661,null,null,664,665]
[null,666,667,668,669,670,671,672,null,null,null,676,null,null,679,680,681,null,683,684,685,null,null,null,689,690,691,null,693,null,695,696,697,698,null,700]
[null,701,702,null,704,705,null,707,null,709,null,711,712,713,714,715,716,717,718,719,720,null,null,null,null,725,726,null,728,729,null,null,732,null,734,735]
[null,736,737,null,739,740,null,742,743,null,745,746,747,null,749,750,751,752,753,754,755,756,757,758,759,760,null,762,null,764,765,766,767,null,769,770]
[null,771,772,null,null,null,776,null,778,null,null,781,null,783,784,null,null,787,788,null,790,null,792,793,794,795,796,797,798,null,null,801,802,803]
[null,806,807,808,null,810,null,null,813,814,815,816,817,null,null,820,821,822,823,null,825,826,827,828,829,830,831,832,833,null,835,836,837,838,839]
[null,null,null,null,null,845,846,847,848,849,850,null,852,853,null,855,null,null,858,859,860,null,862,null,864,865,866,867,868,869,null,871,872,873,null,875]
[null,876,null,878,879,880,null,null,883,884,885,null,null,null,889,null,891,892,893,894,895,896,897,null,null,null,901,null,null,null,905,906,907,908,909,910]
[null,911,912,913,null,915,null,917,null,919,920,921,922,null,null,null,926,927,928,null,930,null,null,null,934,935,null,null,null,939,null,null,942,943,null,945]
[null,946,947,null,949,950,951,952,953,954,955,null,957,958,959,null,961,null,963,964,965,966,967,968,null,970,null,null,null,null,975,null,977,978,null,980]
[null,981,982,983,984,985,986,987,null,989,990,991,992,993,994,null,996,997,null,999,1000]
[]
[null,"Terug",null,null,null,null,null,null,null,null,"Amr - Europaboulevard (3)",null,null,null,null,null,null,null,null,null,null,null,null,null,null,null,null,null,null,{"$f":"SUMPRODUCT((MOD(B451:AJ479,100)=0)*(B451:AJ479<1000)*(B451:AJ479<>\"\"))","v":7},null,"MANCO:",null,{"$f":"COUNT(B451:AJ479)","v":755}]
[]
[null,null,null,3,null,5,null,7,8,9,10,11,12,13,14,null,16,null,18,19,20,21,null,23,24,25,26,null,28,29,30,31,32,33,null,35]
[null,36,37,38,39,null,41,42,43,null,45,46,null,48,49,50,51,null,53,54,55,null,57,58,null,null,61,62,63,64,null,null,67,68,69,70]
[null,71,72,73,null,75,76,77,null,79,80,81,82,83,84,85,86,87,null,89,null,91,92,93,94,95,96,null,98,99,100,101,102]
[null,106,null,null,109,110,null,null,113,114,115,116,117,118,119,null,121,null,123,124,null,126,127,128,129,null,131,132,null,134,null,136,137,138]
[null,141,142,143,144,145,146,147,148,149,150,151,152,153,154,null,156,null,null,159,null,null,162,163,164,165,null,167,168,null,170,null,null,173,174,175]
[null,null,null,178,null,null,null,182,183,184,185,186,187,null,189,190,null,192,193,194,195,null,197,198,null,200,null,202,203,null,null,206,null,208,209,210]
[null,211,212,null,214,215,null,217,218,null,220,221,null,null,null,225,226,227,228,229,null,231,232,null,234,235,236,237,238,239,240,null,242,243,244,245]
[null,246,247,248,249,250,251,252,253,254,null,256,257,null,259,260,null,262,263,264,265,266,null,268,269,270,271,272,273,null,275,null,null,null,279,280]
[null,281,282,283,null,285,286,287,288,289,290,291,292,null,294,295,296,297,298,299,null,301,302,303,null,305,306,null,308,309,null,311,312,313,314,315]
[null,316,317,318,319,320,321,322,323,324,325,326,327,null,329,330,null,null,333,334,335,null,337,338,339,null,341,null,343,null,345,346,347,null,349,350]
[null,351,352,null,null,355,356,null,null,359,360,361,362,363,364,365,366,367,368,369,370,371,null,373,null,375,376,377,378,null,380,381,382,383,null,385]
[null,386,387,388,null,390,391,392,393,null,395,null,397,398,399,400,401,null,403,404,405,406,407,408,409,410,411,null,413,414,415,416,417,418]
[null,null,422,423,424,425,426,427,null,null,430,431,null,433,434,null,null,437,438,null,440,441,442,443,444,null,446,447,448,449,450,451,452,453,454,455]
[null,456,457,458,null,460,461,462,463,null,465,466,null,468,469,null,null,472,473,474,475,476,null,null,479,480,481,482,483,484,485,486,487,488,null,490]
[null,491,492,null,494,495,496,497,498,null,500,501,null,503,504,505,506,507,508,509,null,511,null,513,514,515,516,null,518,519,520,521,522,523,524,525]
[null,null,null,528,null,530,531,532,null,534,535,null,537,538,539,540,541,542,null,544,545,null,null,null,549,550,551,552,553,554,555,556,557,null,559]
[null,561,562,563,null,565,566,567,null,569,570,571,572,null,null,575,576,577,578,null,null,581,null,583,null,585,null,587,null,589,590,null,592,593,null,595]
[null,596,597,598,null,null,601,602,603,null,605,null,607,608,null,null,611,612,613,614,615,616,null,618,619,620,621,622,623,null,625,626,null,628,629,630]
[null,631,632,633,null,635,636,637,638,639,null,641,642,643,644,645,646,null,648,649,650,651,652,653,654,655,656,657,658,659,660,661,662,663,664,665]
[null,666,667,668,669,null,671,672,673,674,675,null,677,678,679,680,null,null,683,684,685,686,null,688,689,690,691,692,693,694,null,696,null,698,699,700]
[null,701,702,null,null,705,706,707,null,709,null,null,null,null,714,715,null,717,718,719,null,721,null,null,724,null,726,null,null,729,null,731,732,null,734]
[null,736,737,738,739,740,741,null,743,744,745,746,747,748,749,750,null,null,null,754,755,null,757,758,null,760,761,762,763,764,765,null,767,768,769,770]
[null,771,772,773,774,775,776,777,778,779,null,null,782,783,784,785,786,787,null,null,null,791,792,793,794,795,796,null,null,null,800,801,802,803,804,805]
[null,806,807,null,809,810,null,812,813,814,815,816,817,818,819,820,821,822,823,824,825,826,827,828,829,830,831,null,833,834,835,null,837,838,839,840]
[null,841,null,843,844,845,null,847,null,849,null,851,null,853,854,855,856,null,null,null,null,null,null,863,864,865,866,867,868,869,870,871,null,873,874]
[null,876,877,878,null,null,881,882,883,884,null,886,887,888,889,890,891,892,null,null,895,null,897,898,899,900,901,902,903,904,905,906,907,908,909]
[null,911,912,913,914,915,916,917,918,919,null,921,922,923,924,925,926,null,928,929,930,931,932,933,null,935,936,937,null,939,940,941,942,943,null,945]
[null,946,null,null,949,950,951,null,953,954,955,956,957,null,null,null,961,null,963,null,965,966,967,968,969,970,971,null,973,974,975,976,977,978,979,980]
[null,981,982,null,984,null,986,987,988,989,990,991,null,993,994,995,null,997,998,null,1000]
[]
[null,"Terug",null,null,null,null,null,null,null,null,"Amr - Fred Hendriklaan",null,null,null,null,null,null,null,null,null,null,null,null,null,null,null,null,null,null,{"$f":"SUMPRODUCT((MOD(B483:AJ511,100)=0)*(B483:AJ511<1000)*(B483:AJ511<>\"\"))","v":6},null,"MANCO:",null,{"$f":"COUNT(B483:AJ511)","v":415}]
[]
[null,1,2,3,4,5,6,7,8,9,10,11,null,null,null,null,null,null,18,19,20,null,22,null,24,25,null,null,null,29,30,null,32,33]
[null,36,37,null,null,40,null,null,43,44,45,null,47,48,null,null,null,null,53,54,55,null,57,58,null,60,61,null,null,null,null,66,67,null,null,70]
[null,null,null,null,null,null,null,77,78,79,null,null,82,null,null,85,86,null,88,null,90,null,92,93,null,null,96,null,null,null,null,null,null,null,null,105]
[null,null,null,null,null,null,111,null,113,114,null,null,null,null,null,null,null,null,null,124,125,126,null,128,null,null,131,null,133,null,135,null,137,138]
[null,null,null,null,144,null,null,147,148,149,150,null,null,null,154,155,null,157,158,159,160,161,162,null,null,165,null,167,null,169,170]
[null,null,null,null,179,180,null,182,183,184,185,null,null,188,189,null,null,null,null,null,195,196,null,198,null,200,201,null,203,204,205,206]
[null,null,212,null,214,215,216,null,null,219,220,221,222,223,null,null,null,227,null,229,null,null,232,null,null,null,null,null,null,239,240,null,null,243,null,245]
[null,null,null,null,null,null,null,null,253,null,null,256,null,258,null,260,null,262,null,null,265,null,267,268,269,270,271,null,null,null,275,276]
[null,281,282,null,null,285,null,null,null,289,290,null,null,null,null,null,null,null,298,null,null,301,302,null,304,305,306,307,null,null,310,null,312,313,314,315]
[null,null,null,318,null,320,321,322,null,null,325,null,null,328,329,null,331,null,333,334,null,null,null,338,null,null,341,null,343,344,345,346,null,348,349,350]
[null,null,null,353,null,null,null,null,358,null,360,null,null,null,null,null,366,367,null,null,370,371,372,373,null,375,376,null,378,379,null,null,382,null,null,385]
[null,null,387,388,null,390,null,392,null,null,null,null,null,398,399,400,401,null,null,null,405,null,null,null,409,null,null,412,null,null,null,null,null,418]
[null,null,422,423,null,null,null,427,null,null,null,431,null,433,null,435,null,437,438,439,440,null,442,443,null,null,446,447,448,null,null,451,null,null,454]
[null,null,null,null,null,460,null,462,null,464,465,null,467,468,null,470,null,472,null,null,475,null,477,null,null,480,481,null,null,484,485]
[null,null,null,null,null,null,496,null,null,null,500,501,null,503,504,null,null,null,null,null,510,null,512,null,null,515,null,null,518,null,null,null,522,523,524]
[null,526,null,528,null,530,531,null,null,null,535,null,null,538,539,null,541,542,543,null,545,546,547,548,null,null,null,null,553,554,555,null,null,558,559,560]
[null,null,null,563,null,null,null,null,null,569,570,571,null,573,null,575,null,577,578,null,null,581,null,null,null,585,586,null,588,589,null,null,null,593,594,595]
[null,null,null,598,599,600,601,null,null,null,605,null,null,608,null,null,null,612,null,614,null,616,null,null,null,620,null,622,null,null,null,null,null,null,null,630]
[null,null,632,null,null,null,null,637,638,639,640,641,642,null,null,null,646,null,null,null,null,651,null,null,654,null,656,null,null,null,null,null,null,663]
[null,null,667,null,null,null,671,null,null,null,675,null,null,null,679,680,null,682,null,null,685,null,null,null,689,null,691,692,693,null,null,null,697,null,699,700]
[null,null,702,703,null,null,null,null,null,null,710,null,712,null,714,null,null,717,718,null,null,null,null,null,null,725,null,727,null,null,null,731,null,null,734,735]
[null,null,null,null,null,null,null,null,null,null,null,null,null,null,749,null,751,null,753,754,null,756,757,null,null,760,null,762,763,null,765,null,null,null,null,770]
[null,771,null,null,774,null,null,777,778,779,780,781,782,null,784,null,786,null,788,789,null,null,792,null,794,795,796,null,798,null,null,null,802,803,null,805]
[null,806,807,null,null,null,null,null,null,null,null,null,817,818,null,820,null,null,null,null,825,null,null,null,null,null,null,null,833]
[null,841,842,null,844,845,846,null,848,null,null,851,852,null,null,null,null,null,null,null,null,null,null,863,null,null,null,867,null,null,null,null,872,873,874]
[null,876,877,null,879,null,881,null,null,null,null,886,null,888,889,890,891,892,null,null,null,null,null,898,null,900,null,null,903,904,null,null,null,908]
[null,null,null,null,null,915,916,null,918,null,920,921,null,null,null,null,926,null,928,null,null,null,null,null,null,935,null,null,null,null,940,null,null,null,null,945]
[null,null,null,null,null,950,null,null,953,null,null,956,null,958,959,null,null,null,null,null,null,null,null,null,null,970,null,null,973,null,975,null,977,978]
[null,981,982,null,984,985,986,null,988,null,990,991,null,null,null,995,null,null,null,999,1000]
[]
[null,"Terug",null,null,null,null,null,null,null,null,"Amr - Muiderwaard",null,null,null,null,null,null,null,null,null,null,null,null,null,null,null,null,null,null,{"$f":"SUMPRODUCT((MOD(B515:AJ543,100)=0)*(B515:AJ543<1000)*(B515:AJ543<>\"\"))","v":3},null,"MANCO:",null,{"$f":"COUNT(B515:AJ543)","v":586}]
[]
[null,1,2,3,null,5,6,7,8,9,10,null,12,13,14,15,16,17,18,null,null,21,22,null,null,null,null,null,null,29,30,31,null,33]
[null,36,null,null,null,null,41,42,null,null,45,null,47,null,null,null,51,52,53,54,55,56,57,58,59,60,null,62,63,64,65,66,67,null,null,70]
[null,71,72,73,74,75,76,77,78,79,80,81,82,83,84,null,86,null,88,89,null,91,92,93,94,95,96,null,98,99,100,101,null,103]
[null,106,107,108,null,null,111,112,null,null,null,null,null,null,119,120,121,null,null,null,null,126,null,null,null,130,null,null,133,null,135,136,null,138,139,140]
[null,null,142,143,144,145,null,147,148,149,null,null,null,null,154,155,null,157,null,null,null,null,null,null,null,165,166,null,null,null,null,null,172,173,174,175]
[null,null,null,178,null,null,null,182,null,null,185,186,null,null,null,null,null,null,null,194,195,null,197,198,null,200,null,202,null,204,205,null,null,null,209,210]
[null,211,212,213,214,215,null,217,218,null,220,null,222,null,224,null,null,null,null,null,null,null,null,233,null,null,236,237,238,239,240,null,242,243,244,245]
[null,246,null,248,null,250,null,null,null,254,255,256,null,null,259,null,261,262,null,264,265,266,267,268,269,270,271,null,273,null,null,276,277,null,279,280]
[null,null,282,null,284,null,null,287,288,289,null,null,292,null,null,null,296,null,null,null,null,null,null,null,304,null,306,null,308,309,310,311,null,313,null,315]
[null,316,317,318,null,null,null,322,null,324,null,326,327,328,null,330,null,332,333,334,null,null,337,338,339,340,341,342,343,344,345,346,null,348,349]
[null,351,352,null,null,null,356,null,null,null,360,361,362,363,364,365,null,367,null,369,null,371,372,373,374,375,376,377,378,null,380,381,382,383,null,385]
[null,null,null,388,null,null,391,null,null,null,395,null,null,null,null,null,null,402,null,404,405,406,407,408,null,410,411,412,413,414,415,416,417,418,null,420]
[null,421,null,null,424,null,426,427,428,null,430,null,null,433,434,435,436,null,null,null,null,441,442,null,444,445,null,447,448,449,450,null,452,453,454]
[null,456,457,458,459,460,null,462,null,464,465,null,467,468,null,null,null,null,473,null,475,null,null,478,479,480,null,null,483,484,485,null,487]
[null,null,null,null,null,495,null,497,null,null,null,null,502,null,null,505,506,null,508,null,510,null,512,513,514,515,null,517,518,519,520,521,522,null,524]
[null,null,527,null,529,530,531,null,533,null,535,536,537,538,539,null,541,null,null,544,545,null,547,548,549,550,551,552,null,null,555,null,557,558,559,560]
[null,561,562,null,564,null,566,567,568,569,null,571,null,573,574,575,null,577,null,579,null,null,null,null,null,null,null,587,null,null,null,null,null,593,594,595]
[null,596,597,598,599,null,601,null,603,604,605,606,607,608,609,null,611,612,613,614,615,null,null,null,619,null,null,622,623,624,null,626,null,628,629]
[null,631,632,633,null,null,636,637,638,639,null,null,642,null,null,null,null,null,648,null,650,651,652,653,null,null,656,null,null,null,null,661,null,663,664,665]
[null,666,667,668,669,null,null,672,673,674,675,null,677,null,679,680,null,682,683,684,685,686,687,688,689,690,691,692,null,694,695,null,697]
[null,null,702,null,704,705,null,null,null,709,null,711,712,null,714,null,null,null,718,719,null,null,722,null,null,null,null,727,728,null,730,731,732,null,734,735]
[null,736,737,738,null,740,741,null,743,null,null,null,null,null,749,750,null,null,753,null,null,null,757,758,759,null,null,null,null,764,null,null,null,null,769,770]
[null,771,772,773,774,null,776,null,null,null,null,null,null,783,null,785,786,null,788,null,null,null,null,793,794,795,796,null,798,null,null,null,null,803,null,805]
[null,806,null,null,null,810,811,812,813,814,815,816,817,818,819,null,null,null,823,824,825,null,827,828,null,830,null,832,833,834]
[null,841,null,null,null,null,846,847,848,null,850,851,null,853,854,855,856,857,null,859,null,861,null,863,864,null,null,null,868,869,null,871,872,null,874]
[null,876,null,878,879,null,null,882,883,884,885,null,null,888,889,null,null,892,893,null,null,896,null,898,null,900,901,null,null,null,905,906,907,null,909,910]
[null,911,null,null,914,915,916,917,918,919,920,921,922,923,924,925,926,927,928,929,null,931,932,933,null,null,936,937,null,null,940,941,942,943,944,945]
[null,946,947,948,949,950,951,952,953,954,955,null,957,958,959,null,null,962,963,964,965,966,967,null,null,970,971,972,973,974,975,976,977,978,979]
[null,981,null,null,null,null,986,null,988,null,990,null,992,993,994,995,996,997,998,999,1000]
[]
[null,"Terug",null,null,null,null,null,null,null,null,"Amr - J Naberstraat",null,null,null,null,null,null,null,null,null,null,null,null,null,null,null,null,null,null,{"$f":"SUMPRODUCT((MOD(B547:AJ575,100)=0)*(B547:AJ575<1000)*(B547:AJ575<>\"\"))","v":9},null,"MANCO:",null,{"$f":"COUNT(B547:AJ575)","v":761}]
[]
[null,1,2,3,4,5,6,7,8,9,10,11,12,13,14,15,16,null,18,19,null,21,22,23,24,null,26,27,28,29,null,31,null,33,34]
[null,36,37,38,null,40,41,42,43,44,45,46,null,null,null,null,null,52,53,54,55,56,57,58,59,60,61,62,63,64,65,66,67,68]
[null,71,72,null,null,null,null,77,null,null,80,81,82,83,null,null,86,null,88,null,90,91,92,93,94,null,null,97,98,99,100,101,102,103,null,105]
[null,106,null,null,null,null,111,112,null,114,115,null,null,null,null,null,null,null,123,124,125,126,null,128,129,null,131,132,133,null,null,null,137,138,139,140]
[null,141,142,143,144,145,146,147,148,149,150,151,152,153,154,155,156,157,158,159,160,161,162,null,null,null,null,null,null,null,170,null,172,173,174,175]
[null,176,177,178,179,180,181,null,183,null,185,186,187,188,189,190,191,null,193,194,195,null,197,null,199,200,null,null,203,204,205,206,207,208,209,210]
[null,211,null,213,214,215,216,217,218,219,220,221,222,223,null,225,null,null,228,229,null,231,null,null,null,null,236,null,238,239,240,null,null,243,244,245]
[null,246,247,null,null,null,null,252,null,254,null,256,null,258,259,260,261,262,263,264,null,266,267,268,null,270,271,272,273,274,275,276,277,null,null,280]
[null,281,282,283,284,285,286,287,null,289,290,291,292,293,294,295,null,297,298,299,300,301,null,303,304,305,306,307,308,309,null,311,312,313,null,315]
[null,316,null,318,319,320,321,322,323,null,325,null,327,328,329,330,331,null,333,334,335,null,337,338,null,340,341,342,343,344,345,346,347,348,null,350]
[null,351,352,353,354,355,356,null,358,359,360,361,362,363,364,365,366,367,368,369,null,371,372,373,374,375,null,null,378,379,380,381,null,null,null,385]
[null,386,null,388,389,390,391,392,393,394,395,396,397,398,399,400,401,null,null,null,405,406,407,408,409,410,411,412,413,414,415,416,null,418]
[null,null,null,null,null,425,426,null,428,429,430,null,432,433,434,435,null,437,438,439,440,441,442,443,444,445,446,447,448,449,450,451,452,453,454,455]
[null,456,457,458,459,null,461,462,463,464,465,466,467,468,null,470,471,472,473,474,475,null,null,null,null,480,481,482,483,484,485,486,null,488,489]
[null,491,null,493,494,495,496,null,498,499,500,501,502,503,504,505,null,507,508,509,510,511,512,null,514,515,null,517,518,519,520,521,null,523,524,525]
[null,526,527,528,529,530,531,null,null,534,535,null,537,538,539,540,541,542,null,null,545,546,null,null,549,550,551,552,553,554,555,556,557,558,559]
[null,561,null,null,564,null,566,567,568,569,570,null,572,null,null,575,null,577,578,null,580,581,582,null,null,585,586,null,588,null,590,591,592,593,594,595]
[null,596,597,null,599,600,601,602,603,604,605,null,607,null,609,610,611,612,613,614,615,616,617,618,619,620,null,622,623,null,625,626,null,628,629,630]
[null,631,null,null,634,635,null,637,638,639,640,641,null,643,null,645,646,647,648,649,null,651,652,653,null,655,656,657,null,659,660,661,662,null,664]
[null,666,667,668,669,670,671,null,null,null,675,676,677,678,679,null,null,null,null,684,685,686,687,null,null,null,691,692,693,694,695,696,null,698,699,700]
[null,701,702,703,704,705,706,null,708,709,710,711,712,null,null,715,null,717,718,719,720,721,722,723,724,725,726,727,728,729,null,731,732,733,734,735]
[null,736,737,738,739,740,741,null,743,744,745,746,747,748,749,750,751,null,null,null,null,756,null,758,null,null,null,762,763,764,765,766,767,null,769,770]
[null,771,null,null,null,null,776,777,778,null,null,781,782,783,null,null,null,null,788,789,null,791,792,793,794,795,796,797,798,799,800,801,802,803,804,805]
[null,806,807,808,null,810,811,812,813,814,815,816,817,818,819,820,821,822,823,824,825,null,827,828,829,830,831,832,833,834,835,836,837,838,839,840]
[null,841,842,843,844,845,null,847,848,849,null,851,852,853,854,855,null,857,null,859,860,861,862,863,864,865,null,null,null,869,null,871,872,873,874]
[null,null,null,null,null,880,881,882,883,884,885,null,null,888,889,890,891,892,null,894,895,896,897,898,899,900,901,902,903,904,905,906,907,null,null,910]
[null,911,912,913,914,null,916,917,918,919,920,921,null,null,924,925,null,null,null,929,930,931,932,933,934,935,null,937,938,939,940,941,942,943,944,945]
[null,946,947,948,949,950,951,null,null,null,955,956,957,958,959,960,961,962,963,null,965,966,967,968,969,970,null,972,973,null,975,976,null,978,979,980]
[null,981,982,983,984,985,986,987,null,989,990,991,null,993,994,995,996,997,null,999,1000]
[]
[null,"Terug",null,null,null,null,null,null,null,null,"Amr - van Ostadelaan",null,null,null,null,null,null,null,null,null,null,null,null,null,null,null,null,null,null,{"$f":"SUMPRODUCT((MOD(B579:AJ607,100)=0)*(B579:AJ607<1000)*(B579:AJ607<>\"\"))","v":5},null,"MANCO:",null,{"$f":"COUNT(B579:AJ607)","v":463}]
[]
[null,1,2,3,4,5,6,7,8,9,10,11,null,13,null,15,16,null,null,19,20,21,22,null,null,25,null,27,28,null,30,null,32,33]
[null,null,null,38,null,null,41,null,null,44,45,null,47,48,null,null,51,null,null,null,55,null,null,58,null,60,61,null,null,null,null,66,null,68,69,70]
[null,null,72,null,null,null,76,77,null,79,null,81,null,83,null,null,86,87,88,null,null,null,null,null,94,95,null,null,98,99,100,101,null,103]
[null,106,null,null,109,null,111,null,113,114,null,null,117,118,null,null,null,122,null,null,null,126,null,128,null,null,131,null,null,null,135,null,null,null,null,140]
[null,null,null,null,null,null,null,null,148,149,150,null,null,null,154,155,null,null,null,159,160,161,162,163,null,165,166,null,null,169,170,null,null,null,174,175]
[null,176,null,null,null,180,null,null,183,184,null,186,187,null,189,null,null,null,null,null,195,null,null,null,null,null,201,null,null,204,null,null,null,null,null,210]
[null,211,212,null,214,null,null,217,218,null,null,null,222,null,null,225,null,null,228,229,230,null,null,null,null,235,null,237,null,null,240,null,null,243,null,245]
[null,null,247,null,249,250,251,252,253,254,255,null,null,258,null,260,261,null,null,null,null,null,267,268,269,270,271,272,273,274,275,276,277]
[null,281,282,283,284,null,null,null,288,null,290,null,null,null,null,null,null,null,null,299,300,301,null,null,304,305,null,307,308,309,null,311,312,null,null,315]
[null,316,317,318,319,320,null,322,323,null,325,326,null,328,null,330,null,null,333,null,335,null,null,null,339,null,null,null,null,null,345,346]
[null,null,352,null,null,null,null,357,null,null,360,null,null,363,null,null,366,367,null,null,null,null,null,373,null,375,null,null,null,379,null,381,382,383,null,385]
[null,null,null,null,null,390,null,392,393,null,395,null,397,398,399,400,null,null,403,null,405,406,407,408,409,null,411,null,413]
[null,421,null,null,424,null,426,null,428,null,null,431,null,433,434,435,null,437,null,null,null,441,442,443,444,445,446,null,null,null,null,451,null,null,454]
[null,456,null,null,null,null,461,462,null,null,465,466,null,468,null,470,null,472,473,474,null,null,null,478,null,null,null,482,483,null,485]
[null,491,null,null,null,495,null,null,498,499,null,501,null,503,null,505,null,null,null,509,null,null,null,null,514,515,null,517,null,519,null,null,null,null,524]
[null,526,null,null,529,530,531,532,null,534,535,null,537,538,539,null,541,null,null,null,545,546,null,null,549,null,551,552,553,null,null,556,null,558]
[null,null,null,null,null,null,566,null,568,null,null,null,572,573,574,575,576,null,null,null,580,null,582,null,584,null,null,587,null,589,null,null,592]
[null,596,null,null,null,600,null,602,603,604,605,606,null,608,null,null,null,612,null,null,615,null,617,null,619,620,null,null,623,null,625,626,627,628,629,630]
[null,631,632,633,null,null,null,637,null,639,null,641,null,643,644,645,646,647,648,649,650,null,652,null,654,null,656,657,null,659,null,null,662]
[null,666,null,null,null,null,null,672,null,null,null,676,677,678,null,null,null,null,null,null,null,null,687,688,689,null,691,null,null,null,695,null,697,null,699]
[null,null,702,703,704,705,null,null,null,null,null,null,712,null,null,null,716,717,null,719,720,721,null,null,null,null,726,null,728,729,730,731,null,733,734,735]
[null,736,null,738,null,null,null,742,null,744,null,746,747,null,null,750,null,null,753,754,755,756,757,758,null,760,761,762,null,null,null,null,null,768]
[null,null,772,773,null,null,null,null,778,779,null,781,null,null,784,null,786,787,788,null,null,null,null,null,794,null,null,null,null,799,800,801,null,null,804,805]
[null,null,null,null,null,810,811,null,813,814,815,null,null,null,null,null,null,null,823,null,825,826,827,828,null,null,831,null,833,null,835,null,837,null,null,840]
[null,841,null,843,null,845,846,null,null,null,850,null,852,null,null,null,null,857,858,859,860,null,null,863,864,null,null,867,null,869,null,null,null,null,null,875]
[null,null,877,null,null,null,881,null,883,884,null,null,887,888,null,null,891,null,893,894,895,null,897,null,899,null,null,null,903,904,905]
[null,null,912,null,914,null,916,null,null,919,null,null,null,923,924,925,null,null,928,null,null,931,932,933,null,935,null,937,938,null,null,941,942,943,null,945]
[null,946,947,948,null,null,null,null,953,954,955,956,957,958,null,960,null,null,963,964,965,966,967,968,969,null,null,null,null,974,975,null,977,null,null,980]
[null,null,null,983,null,null,null,987,null,null,null,null,null,993,null,995,null,null,998,999,1000]
[]
[null,"Terug",null,null,null,null,null,null,null,null,"Amr - Wendelaarstraat",null,null,null,null,null,null,null,null,null,null,null,null,null,null,null,null,null,null,{"$f":"SUMPRODUCT((MOD(B611:AJ639,100)=0)*(B611:AJ639<1000)*(B611:AJ639<>\"\"))","v":9},null,"MANCO:",null,{"$f":"COUNT(B611:AJ639)","v":735}]
[]
[null,1,2,3,null,null,6,7,8,null,null,11,12,13,null,15,16,17,18,19,20,21,22,23,24,25,26,27,28,29,30,31,32,33,null,35]
[null,36,37,38,39,40,41,42,null,44,45,null,47,48,null,50,null,52,53,54,55,56,57,58,59,60,null,null,63,64,65,null,67,68,69,70]
[null,71,72,null,74,75,76,null,78,79,null,81,82,null,84,85,null,null,88,89,90,91,92,93,94,95,96,97,null,99,100,101,102,103,104,105]
[null,null,107,null,null,null,111,null,113,114,115,116,null,118,null,null,121,null,123,null,125,126,null,null,129,130,131,132,133,134,135,136,null,138,139]
[null,141,null,143,144,145,146,null,148,149,150,151,152,153,154,155,156,157,158,null,null,null,162,163,164,165,166,167,168,169,170,171,172,null,174,175]
[null,176,177,null,179,180,181,null,null,184,185,186,null,188,189,190,191,192,193,null,null,196,197,null,199,200,201,202,203,204,205,null,null,208,null,210]
[null,211,null,null,214,215,216,217,218,219,220,221,222,223,null,null,226,227,228,229,null,null,232,null,234,235,null,237,238,239,null,241,null,243,244,245]
[null,246,null,248,249,250,null,null,253,254,255,null,257,null,null,260,261,262,263,264,265,null,267,268,269,270,271,272,273,274,275,276,277,278,279,280]
[null,281,null,null,284,285,286,287,null,null,290,null,null,293,294,295,296,null,298,null,300,301,302,303,304,305,306,307,308,null,310,311,312,null,null,315]
[null,316,317,318,319,320,321,null,323,324,325,326,327,328,329,330,null,332,333,334,335,null,null,null,339,null,null,342,343,344,null,346,null,348,349,350]
[null,null,352,353,354,355,356,357,358,null,360,null,362,null,364,365,null,null,368,null,370,371,null,373,374,375,376,null,378,379,380,381,382,383,null,385]
[null,386,387,388,389,390,391,392,393,394,395,null,397,null,399,400,401,402,null,404,null,406,407,null,409,410,411,null,null,414,null,null,417,null,419]
[null,421,422,423,424,425,426,null,428,429,430,null,432,null,434,null,436,437,438,439,440,null,442,443,444,null,446,447,448,449,450,451,452,453,454]
[null,456,457,458,459,460,461,462,463,464,465,466,467,null,null,null,471,472,473,null,475,476,477,478,479,null,481,null,483,null,485,486,null,488,489,490]
[null,491,492,493,null,495,null,497,498,499,500,null,502,503,504,505,506,507,508,509,null,511,512,513,null,515,null,517,null,519,520,521,null,523,524,525]
[null,526,527,528,529,null,null,532,533,534,535,536,537,538,null,540,null,542,543,544,null,546,547,null,null,550,551,552,553,554,555,556,557,null,null,560]
[null,561,null,563,564,565,566,567,null,569,null,571,572,null,null,575,null,577,578,null,null,581,582,583,584,585,null,587,588,589,590,591,592,593,594,595]
[null,596,null,598,599,600,601,602,null,null,605,606,607,608,null,null,611,null,613,614,615,616,617,null,619,620,621,null,623,624,null,626,627,628,null,630]
[null,null,632,633,634,635,636,637,null,639,640,641,642,643,644,null,null,647,648,649,650,null,null,653,654,655,656,657,658,null,null,661,662,663,664,665]
[null,666,667,668,669,null,671,null,673,null,675,676,677,678,null,null,681,682,683,684,685,686,null,688,689,690,null,692,693,694,695,696,697,null,699,700]
[null,null,702,703,null,705,706,null,708,709,710,711,712,713,714,715,716,717,null,null,720,721,722,null,null,null,726,null,728,729,730]
[null,736,737,738,null,740,741,null,743,null,null,null,747,748,749,750,751,752,753,754,755,756,757,null,759,760,761,762,763,764,765,766,null,null,769,770]
[null,771,772,773,null,775,776,777,778,779,null,null,null,null,784,785,786,787,788,789,790,null,null,793,null,795,null,797,798,799,800,null,802,null,804,805]
[null,806,807,808,809,810,811,812,813,null,815,816,817,818,819,820,821,null,null,824,825,826,827,828,829,830,831,832,null,834,835,836,837,838,839,840]
[null,841,null,null,844,845,846,847,848,null,null,null,852,null,854,null,null,857,null,859,860,null,862,863,864,865,866,null,null,869,870,871,null,873,874,875]
[null,null,877,null,879,null,null,882,null,null,885,886,null,888,null,null,891,892,893,894,895,null,null,898,null,900,901,902,903,null,905,null,907]
[null,911,912,null,null,915,null,917,null,919,920,null,922,923,924,925,926,null,928,null,930,null,932,933,null,935,936,937,938,939,940,941,942,943,null,945]
[null,946,947,948,949,950,951,952,953,954,955,null,null,null,959,960,961,962,963,null,null,966,967,968,969,970,null,972,973,974,null,976,null,null,979,980]
[null,981,982,null,984,985,986,null,988,989,990,991,992,993,994,null,996,997,null,999,1000]
[]
[null,"Terug",null,null,null,null,null,null,null,null,"Almelo",null,null,null,null,null,null,null,null,null,null,null,null,null,null,null,null,null,null,{"$f":"SUMPRODUCT((MOD(B643:AJ671,100)=0)*(B643:AJ671<1000)*(B643:AJ671<>\"\"))","v":0},null,"MANCO:",null,{"$f":"COUNT(R646:S653)","v":8}]
[]
[]
[]
[]
[null,null,null,null,null,null,null,null,null,null,null,null,null,null,null,null,null,null,85]
[null,null,null,null,null,null,null,null,null,null,null,null,null,null,null,null,null,135]
[]
[null,null,null,null,null,null,null,null,null,null,null,null,null,null,null,null,null,326]
[null,null,null,null,null,null,null,null,null,null,null,null,null,null,null,null,null,419]
[null,null,null,null,null,null,null,null,null,null,null,null,null,null,null,null,null,565,566]
[null,null,null,null,null,null,null,null,null,null,null,null,null,null,null,null,null,null,738]
[null,null,null,null,null,null,null,null,null,null,null,null,null,null,null,null,null,948]
[]
[]
[]
[]
[]
[]
[]
[]
[]
[]
[]
[]
[]
[]
[]
[]
[]
[]
[]
[null,"Terug",null,null,null,null,null,null,null,null,"Almere",null,null,null,null,null,null,null,null,null,null,null,null,null,null,null,null,null,null,{"$f":"SUMPRODUCT((MOD(B675:AJ703,100)=0)*(B675:AJ703<1000)*(B675:AJ703<>\"\"))","v":4},null,"MANCO:",null,{"$f":"COUNT(B675:AJ703)","v":426}]
[]
[null,null,2,null,null,null,6,7,null,9,null,null,null,null,14,15,16,null,null,null,null,21,null,null,null,25,26,27,null,null,null,null,32,33,null,35]
[null,null,37,38,null,null,null,42,null,null,45,46,47,null,49,50,51,null,53,54,55,56,57,58,null,60,61,62,null,64,65,null,67,null,69]
[null,null,72,null,74,null,null,null,null,null,80,null,null,null,84,85,86,null,null,null,null,null,null,93,94,95,null,97,98,99,null,null,null,null,null,105]
[null,null,null,null,null,null,null,112,null,114,115,null,null,118,null,null,null,null,null,124,125,null,127,null,null,null,null,null,null,null,null,136,137,null,139]
[null,null,142,143,null,null,null,null,148,149,150,null,null,153,null,null,156,null,null,159,null,161,null,null,164,null,166,null,168,169,170,171,172,null,174]
[null,null,177,null,null,null,null,182,183,184,185,null,null,null,189,null,null,null,193,null,195,196,null,null,199,200,null,null,null,204,null,null,null,208]
[null,null,null,null,214,215,null,217,null,219,null,221,null,223,null,225,null,null,null,null,230,null,null,null,234,null,null,null,238,239,null,241,null,243,null,245]
[null,null,null,null,null,null,null,252,253,null,255,null,257,258,259,260,null,null,263,null,null,null,null,268,269,null,271,272,273,null,275]
[null,281,282,283,null,285,286,null,288,null,null,null,292,null,null,null,296,null,null,null,300,null,302,303,null,305,306,null,308,309,310,null,null,null,null,315]
[null,null,317,318,null,null,null,322,null,null,325,null,327,328,null,null,null,null,null,null,335,null,337,338,null,null,null,342,null,null,345,346]
[null,null,352,353,null,355,356,357,358,null,360,361,362,363,null,null,366,367,null,369,null,371,null,373,null,null,376,null,null,null,null,null,null,null,384]
[null,null,387,null,389,390,null,null,393,394,null,null,null,null,null,null,null,null,null,404,405,406,407,408,null,null,null,null,413,null,null,416,null,418,null,420]
[null,null,null,null,null,null,426,427,null,429,null,431,null,null,null,null,null,null,null,null,null,null,null,null,null,null,null,null,null,449,null,null,null,453]
[null,null,null,458,459,null,null,462,463,null,465,466,467,468,null,470,471,null,null,null,475,476,null,null,null,null,481,null,null,484,null,null,null,null,489]
[null,null,null,null,494,null,null,null,498,null,500,null,null,503,null,null,null,507,508,null,null,511,512,null,514,515,516,null,null,null,520,null,null,null,null,525]
[null,null,null,null,null,null,531,null,null,null,null,null,537,null,null,540,541,null,543,544,545,null,547,null,549,550,null,null,null,554,null,556,557,null,null,560]
[null,null,null,563,564,565,null,567,568,null,570,571,572,null,null,null,576,577,null,null,null,null,582,583,584,null,586,null,null,null,null,null,null,593,594]
[null,596,null,null,599,null,601,null,null,604,null,606,null,608,null,null,null,null,null,null,615,616,617,null,null,null,null,null,null,624,null,null,627,null,629]
[null,null,null,633,null,635,null,null,638,639,null,641,null,null,644,null,null,null,null,null,null,651,null,null,null,655,656,657,null,null,null,661,null,null,664,665]
[null,null,667,null,669,670,671,672,673,null,null,null,null,null,null,null,681,682,null,null,null,null,null,688,null,null,691,null,693,null,695,696,697,698,699]
[null,null,702,703,null,null,null,707,708,709,null,711,null,713,null,715,716,null,null,719,720,null,null,723,724,725,null,727,728,null,730,731,732,null,null,735]
[null,null,null,738,739,null,null,742,743,null,745,746,747,748,null,null,null,752,753,754,755,null,757,null,null,null,761,762,null,null,null,null,null,768,769,770]
[null,771,772,773,774,null,null,777,null,779,null,null,782,null,784,785,786,null,null,null,null,null,792,793,794,null,null,797,798,799,800,801,null,803,804,805]
[null,806,807,808,null,null,811,null,813,null,null,null,null,null,819,820,null,null,null,824,825,null,827,null,829,null,831,null,833,null,835,null,837]
[null,841,842,null,844,845,846,847,null,849,850,851,852,null,854,null,null,null,null,859,860,null,862,null,null,null,null,null,null,869,null,null,null,873,null,875]
[null,null,null,null,879,null,null,882,883,null,885,null,887,888,null,890,891,null,893,894,895,896,null,null,null,null,null,null,null,null,905,906,null,null,null,910]
[null,911,null,913,null,null,null,null,918,null,null,921,null,null,924,925,926,927,928,929,null,null,null,933,null,935,936,null,null,null,940,941]
[null,null,null,948,949,null,951,null,null,954,955,null,null,null,959,960,null,962,null,null,965,null,null,null,null,null,null,null,973,974,null,976,null,null,null,980]
[null,981,982,null,null,null,null,987,988,null,990,991,null,993,null,null,996,997,null,999]
[]
[null,"Terug",null,null,null,null,null,null,null,null,"Alr - van Eesterenplein",null,null,null,null,null,null,null,null,null,null,null,null,null,null,null,null,null,null,{"$f":"SUMPRODUCT((MOD(B707:AJ735,100)=0)*(B707:AJ735<1000)*(B707:AJ735<>\"\"))","v":9},null,"MANCO:",null,{"$f":"COUNT(B707:AJ735)","v":582}]
[]
[null,1,2,3,4,5,6,7,8,9,10,11,12,13,14,15,16,17,null,19,20,21,22,23,null,25,26,27,28,29,30,31,null,33,null,35]
[null,36,null,null,null,null,41,42,43,44,null,null,47,48,null,50,51,52,53,54,55,null,57,null,59,60,null,62,63,null,null,66,67]
[null,71,null,73,74,null,76,77,78,79,80,null,82,83,84,85,86,87,88,null,90,91,92,93,null,95,96,97,98,99,100,101,102,103,104,105]
[null,106,null,108,109,110,111,112,null,114,115,null,117,118,119,120,121,122,123,124,null,null,127,null,129,null,131,132,133,134,135,136,137,138,139,140]
[null,141,142,null,144,null,146,147,148,149,150,null,152,153,154,155,156,157,158,159,160,161,162,null,null,165,null,167,168,null,null,null,172,173,174,175]
[null,176,177,null,179,null,181,null,null,null,null,186,187,188,189,190,191,192,193,null,195,null,197,198,199,200,201,202,203,204,205,206,207,null,209,210]
[null,211,null,null,null,null,null,null,null,null,220,null,222,null,null,null,null,227,228,229,230,231,232,233,234,235,null,237,null,239,240,null,null,243,244]
[null,246,null,null,null,250,251,null,253,254,null,256,257,258,259,260,261,262,263,264,265,266,267,268,269,270,271,272,273,274,275,276,277,278,279,280]
[null,281,282,283,284,285,286,287,288,289,290,291,null,293,294,295,null,297,298,299,300,301,null,303,304,305,306,null,308,309,310,311,312,313,314,315]
[null,316,317,318,319,null,321,322,null,324,null,326,327,328,null,330,331,332,333,334,335,336,337,338,null,340,341,null,343,344,null,346,347,348,349]
[null,351,352,null,354,355,356,357,358,359,360,361,362,null,364,null,366,367,368,369,370,371,null,373,374,375,376,377,378,379,null,null,382,383,384,385]
[null,386,387,388,389,390,391,392,393,394,395,396,397,398,null,400,401,null,null,null,null,null,407,408,409,null,411,412,null,414,415,null,null,418,419,420]
[null,null,422,423,424,null,426,null,null,429,430,431,432,433,null,435,436,null,438,439,440,441,null,443,444,445,446,447,448,449]
[null,null,null,458,null,460,null,462,463,464,465,466,null,null,null,null,null,null,null,null,null,null,null,null,479]
[null,null,null,null,null,null,null,null,null,null,500,null,null,null,null,505,null,null,null,null,null,null,null,null,null,515]
[null,null,null,null,null,null,null,null,null,null,535,null,null,null,null,null,null,null,null,null,null,null,547,null,null,null,null,null,null,null,555]
[null,null,null,null,null,null,null,null,null,null,null,null,null,null,null,null,null,null,null,null,null,null,null,583,584,null,null,587,588,589]
[null,null,null,null,599,600,null,602,603,604,605,null,607,608,null,null,null,null,null,null,615,null,null,null,null,null,null,622,null,624,625,626,627,628,629]
[null,631,null,633,634,635,636,637,638,639,640,641,null,null,null,null,646,647,null,null,null,null,null,null,null,null,null,null,null,null,null,null,null,663,664]
[null,666,null,668,669,670,null,672,673,674,null,null,null,678,679,680,681,682,683,684,685,null,null,null,null,null,null,null,null,null,null,null,null,null,null,700]
[null,701,702,703,704,705,706,707,708,709,710,711,712,null,714,715,716,null,718,719,720,721,722,723,724,null,null,null,null,729,730,731,null,733,734,735]
[null,null,737,738,null,null,741,null,743,744,745,746,747,748,749,750,751,752,753,754,null,756,757,758,759,760,null,762,763,null,null,766,767,768,769,770]
[null,null,null,773,774,null,776,777,null,779,null,null,782,783,784,null,786,787,788,789,null,null,null,null,null,null,null,null,null,null,800,null,null,null,804,805]
[null,null,807,808,null,810,811,812,813,null,815,816,817,null,819,820,821,822,823,null,null,826,827,828,829,null,null,null,null,834,835,null,837,838,839,840]
[null,841,null,null,844,845,846,null,848,849,null,851,852,853,null,null,null,857,858,859,860,null,862,863,864,null,866,867,868,869,870,871,872,null,874]
[null,null,877,878,null,880,881,882,null,null,null,null,null,888,889,null,null,null,null,null,null,null,null,null,null,900,null,null,null,null,905]
[null,null,null,null,914,915,null,917,null,919,920,null,922,923,924,925,926,927,928,929,930,931,932,null,934,935,null,937,null,939,940,null,null,null,944]
[null,946,947,948,949,950,951,952,953,954,null,null,null,958,959,960,961,null,963,964,null,966,null,968,969,null,971,972]
[null,981,982,null,984,985,null,null,null,null,null,null,null,null,null,null,null,null,null,999,1000]
[]
[null,"Terug",null,null,null,null,null,null,null,null,"Alr - Jaagmeent",null,null,null,null,null,null,null,null,null,null,null,null,null,null,null,null,null,null,{"$f":"SUMPRODUCT((MOD(B739:AJ767,100)=0)*(B739:AJ767<1000)*(B739:AJ767<>\"\"))","v":9},null,"MANCO:",null,{"$f":"COUNT(B739:AJ767)","v":780}]
[]
[null,1,2,3,4,5,6,7,8,9,10,11,null,13,14,15,16,17,18,19,20,21,22,23,24,25,26,27,28,29,30,31,32,33,null,35]
[null,36,37,38,39,40,41,42,43,44,45,46,47,48,49,50,null,52,null,null,55,56,57,58,59,60,61,62,63,64,65,66,67,68,69,70]
[null,71,72,73,74,75,null,77,78,79,null,81,82,83,84,null,86,null,88,89,90,null,null,93,94,95,96,97,98,99,100,101,null,103,104,105]
[null,null,107,null,null,110,111,112,113,114,115,116,117,118,119,120,121,122,123,null,125,126,127,128,129,130,null,132,133,134,135,136,137,138,null,140]
[null,null,142,143,144,145,146,147,148,149,150,151,152,null,154,155,156,null,158,159,null,161,162,163,164,165,null,167,168,169,170,171,172,173,174,175]
[null,176,177,178,null,180,181,182,null,184,185,null,187,null,189,190,null,192,193,194,null,196,197,198,199,200,201,202,203,204,205,206,207,208,209]
[null,211,212,null,214,215,216,null,218,219,220,null,222,223,224,null,226,227,228,null,230,231,232,null,234,235,236,null,238,239,240,241,242,243,244,245]
[null,246,247,248,null,250,251,null,253,254,255,256,257,258,259,null,null,262,263,264,265,266,267,268,269,270,271,272,273,274,275,276,277,278,279,280]
[null,null,null,283,null,285,286,287,288,289,290,291,292,293,294,null,296,null,null,299,300,301,null,303,304,305,306,307,null,309,310,null,312,null,314]
[null,316,317,318,319,320,null,322,null,324,325,326,327,328,null,null,null,null,333,null,335,336,null,338,339,340,341,null,343,344,345,null,347,348,349,350]
[null,351,null,353,354,355,356,357,null,null,360,361,362,363,364,365,366,null,368,null,370,371,null,373,374,375,376,377,378,379,null,381,null,383,null,385]
[null,386,387,388,null,390,391,null,393,394,null,396,397,398,399,400,401,402,403,null,405,null,407,408,409,null,411,412,413,null,415,416,417,418,419,420]
[null,421,null,null,424,null,426,427,428,429,430,431,432,433,434,435,436,437,438,439,440,441,null,443,444,445,446,null,null,null,450,null,452,null,454,455]
[null,456,null,null,459,460,461,462,463,464,465,466,null,null,469,470,471,472,473,474,475,476,477,478,479,null,481,482,483,484,485,486,null,488,489,490]
[null,null,492,493,494,495,496,497,498,499,500,501,502,503,null,505,506,507,508,509,null,511,512,513,514,515,516,517,null,519,520,null,522,null,524]
[null,null,null,null,529,530,531,532,533,null,535,536,537,538,539,540,null,542,543,544,545,546,547,null,null,550,551,null,null,554,555,null,557,null,559,560]
[null,561,562,563,564,null,566,567,568,null,570,571,572,573,574,575,576,577,578,null,null,581,582,583,584,585,586,587,588,589,null,null,592,593]
[null,596,null,null,599,600,601,602,603,604,605,null,607,null,609,null,null,612,613,614,615,616,617,null,619,620,null,622,623,null,625,626,627,628,629,630]
[null,631,632,633,634,635,636,null,638,null,640,641,642,643,644,645,646,647,null,649,null,651,null,null,654,655,656,657,658,659,660,null,null,null,664,665]
[null,666,667,668,null,null,671,672,null,674,675,null,null,678,679,null,681,null,null,684,685,686,687,null,689,690,691,692,693,694,695,696,697,698,699,700]
[null,701,702,null,704,null,null,707,708,null,710,711,712,713,714,715,716,717,718,719,720,null,722,723,724,725,726,727,728,null,730,731,732,null,null,735]
[null,736,null,null,739,null,null,742,743,744,null,746,747,748,749,750,751,752,753,null,null,756,757,758,759,null,761,null,763,764,765,null,767,768,769,770]
[null,771,null,null,774,775,776,null,778,779,780,null,782,783,null,785,786,787,788,789,790,791,null,793,794,null,796,797,null,null,800,801,802,803,804,805]
[null,806,null,null,809,810,811,null,813,814,815,null,817,818,819,820,null,null,823,824,825,826,827,828,829,830,null,832,null,834,835,836,837,838,839,840]
[null,841,842,843,844,845,846,847,848,849,null,851,852,853,854,855,856,857,858,859,null,null,862,863,864,null,866,867,868,null,870,871,872,873,874,875]
[null,null,null,878,null,null,881,null,null,null,885,886,null,888,889,890,891,null,893,894,895,896,897,898,899,900,null,null,903,904,905,906,907,908,909,910]
[null,null,912,913,914,915,916,917,null,919,920,921,922,923,null,925,null,927,null,null,null,931,null,null,null,935,null,937,938,939,940,941,942,943,944,945]
[null,946,947,948,null,null,951,952,953,954,955,956,957,958,959,960,961,962,null,null,965,null,null,968,969,970,971,972,973,974,975,976,977,978,979,980]
[null,null,null,983,null,985,null,987,988,989,990,null,992,993,994,995,null,997,998,999,1000]
[]
[null,"Terug",null,null,null,null,null,null,null,null,"Alr - Lavendelplantsoen",null,null,null,null,null,null,null,null,null,null,null,null,null,null,null,null,null,null,{"$f":"SUMPRODUCT((MOD(B771:AJ799,100)=0)*(B771:AJ799<1000)*(B771:AJ799<>\"\"))","v":9},null,"MANCO:",null,{"$f":"COUNT(B771:AJ799)","v":861}]
[]
[null,1,2,3,4,5,6,7,8,9,10,11,12,13,14,15,16,17,18,19,20,21,22,23,null,25,26,27,null,29,null,31,32,33,34,35]
[null,36,null,38,39,null,41,null,43,44,45,46,47,48,null,50,51,52,null,null,55,null,57,58,59,60,61,62,63,64,65,66,67,68,69,70]
[null,71,72,73,74,75,76,77,78,79,80,81,82,null,84,85,null,87,88,null,90,91,92,93,94,95,96,97,98,99,100,101,102,103,104,105]
[null,106,107,108,109,null,111,null,113,null,115,116,117,118,119,120,121,122,123,124,125,126,127,128,129,130,131,132,133,134,135,136,137,138,139]
[null,141,142,143,null,145,146,147,148,149,150,151,null,153,null,155,156,157,158,159,160,161,162,163,164,165,null,167,null,null,170,171,172,173,174,175]
[null,176,177,null,179,180,181,182,183,null,185,186,null,188,189,190,191,192,193,194,195,null,null,198,199,200,201,null,203,204,205,206,207,208,209,210]
[null,211,212,213,214,215,216,217,218,219,220,221,222,223,224,225,226,null,228,229,230,231,232,233,null,235,236,null,238,239,240,241,null,243,null,245]
[null,246,247,248,null,250,251,252,null,254,255,null,257,258,259,260,261,262,263,264,null,266,null,268,269,270,null,272,273,274,275,276,277,278,279,280]
[null,281,null,null,284,285,286,287,288,289,null,291,292,293,294,295,296,297,298,299,300,301,302,303,304,305,306,307,308,309,310,311,312,313,314,315]
[null,316,317,318,319,320,321,null,323,324,null,326,327,328,329,null,331,null,333,334,335,336,337,338,339,340,341,342,343,344,345,346,347,348,349,350]
[null,null,352,353,null,null,356,357,358,359,360,361,362,363,null,365,366,367,368,null,null,371,372,null,374,375,376,377,378,379,380,381,382,null,null,385]
[null,null,387,388,null,390,391,392,null,394,395,396,397,398,399,400,401,402,null,404,405,406,407,408,409,410,411,412,413,null,415,416,417,418,419,420]
[null,421,422,423,424,425,426,427,428,429,430,431,432,433,434,null,436,437,438,439,440,441,442,null,444,445,446,null,448,449,450,451,452,453,454,455]
[null,null,457,458,459,460,461,462,463,null,null,466,467,468,469,470,471,null,473,474,475,null,477,null,479,480,481,482,483,484,485,486,487,488,489,490]
[null,491,492,null,494,495,496,497,498,499,500,501,502,503,504,null,506,507,null,509,510,511,512,513,514,515,null,517,518,519,520,521,522,523,null,525]
[null,526,527,528,null,530,531,532,533,null,535,null,537,538,539,540,null,542,null,544,545,546,547,548,null,550,551,552,553,554,null,null,null,558,null,560]
[null,561,null,563,564,565,566,567,568,569,570,571,572,573,574,575,576,577,578,579,null,581,582,583,584,null,586,587,588,589,590,591,592,593,594]
[null,596,597,598,599,600,601,602,603,null,605,606,607,608,609,610,611,612,613,614,615,616,617,618,619,620,621,622,623,624,625,626,627,628,629,630]
[null,631,632,633,634,635,636,null,638,639,640,641,642,643,644,645,646,647,648,649,650,651,652,653,null,655,656,null,658,659,null,661,662,663,664,665]
[null,666,667,668,669,670,671,672,673,674,675,676,677,678,null,680,681,682,683,684,685,686,687,688,689,690,691,692,693,694,695,696,697,698,699,700]
[null,701,702,703,704,null,706,707,708,709,null,711,712,713,714,715,716,717,718,719,null,null,null,723,724,null,726,727,728,729,730,731,null,733,734,735]
[null,736,737,738,739,null,741,742,743,744,745,746,747,null,null,750,751,752,753,754,755,756,757,758,759,760,761,762,763,764,765,766,767,768,769,770]
[null,771,772,773,null,775,776,777,778,779,780,null,782,null,null,785,786,787,788,789,790,791,792,793,794,795,796,797,798,799,800,801,802,803,804,805]
[null,806,null,808,809,810,811,812,null,814,815,null,817,818,819,820,821,822,823,824,825,826,827,828,829,830,831,null,null,834,835,836,837,838,839,840]
[null,841,842,843,844,845,846,847,848,849,null,851,852,853,null,855,856,857,null,859,860,861,862,863,864,865,866,867,868,869,870,null,872,873,874,875]
[null,876,877,878,879,880,881,882,883,884,null,886,887,888,null,890,891,892,893,894,895,896,897,898,899,900,901,902,null,904,null,906,907,null,909]
[null,911,null,null,null,915,916,917,918,919,920,921,922,null,924,925,926,927,928,929,930,931,932,933,934,null,936,937,938,null,null,941,942,943,944,945]
[null,null,947,948,null,950,951,952,953,954,955,null,957,958,959,960,961,null,963,964,965,966,967,968,969,970,971,972,null,974,null,976,977,978,979,980]
[null,981,982,983,984,985,986,null,988,989,990,991,992,null,994,995,996,997,998,999,1000]
[]
[null,"Terug",null,null,null,null,null,null,null,null,"Alr - Marktgracht",null,null,null,null,null,null,null,null,null,null,null,null,null,null,null,null,null,null,{"$f":"SUMPRODUCT((MOD(B803:AJ831,100)=0)*(B803:AJ831<1000)*(B803:AJ831<>\"\"))","v":9},null,"MANCO:",null,{"$f":"COUNT(B803:AJ831)","v":497}]
[]
[null,null,2,3,4,null,6,7,8,9,10,11,12,13,14,15,null,null,null,19,null,null,22,23,24,null,null,null,null,29,30,31,32,33,34]
[null,36,37,38,39,40,null,null,43,null,null,null,null,null,null,null,null,52,null,54,55,56,null,58,null,null,61,62,null,null,null,66,null,68]
[null,null,null,null,null,null,null,null,78,null,80,null,82,null,null,85,null,null,88,null,null,91,92,null,null,null,null,97,null,null,100,101,null,null,104,105]
[null,null,null,108,null,null,111,null,113,114,115,116,null,null,null,null,null,null,123,null,125,126,127,128,129,null,null,null,133,134,135,136]
[null,null,142,null,144,145,146,147,148,149,null,null,null,153,154,null,156,157,158,159,null,null,null,null,null,165,null,167,168,null,170,null,null,null,null,175]
[null,176,177,178,null,180,181,null,null,184,185,186,187,188,189,190,null,192,193,194,195,null,null,198,199,200,201,null,203,204,205,206,null,null,209,210]
[null,211,null,null,null,215,null,217,null,null,220,null,222,223,224,225,null,null,228,null,null,null,null,null,234,null,null,null,null,null,null,241,242,null,244,245]
[null,null,null,248,249,null,null,null,null,254,null,null,null,null,null,260,261,null,263,null,null,null,null,268,269,270,null,null,null,null,null,null,null,278,null,280]
[null,null,282,null,null,285,null,287,288,null,290,null,null,293,294,null,null,null,298,299,300,301,null,303,null,null,306,307,null,null,310,311,null,313]
[null,null,null,null,null,null,321,null,323,null,325,326,null,null,null,null,331,332,333,null,335,null,null,338,null,null,341,null,null,null,null,null,null,null,null,350]
[null,null,352,null,354,null,null,357,null,null,360,361,null,null,364,365,null,null,null,null,null,null,372,373,374,null,null,377,378,null,null,381,null,383,384,385]
[null,null,null,null,389,390,null,392,393,394,395,396,397,398,399,400,401,402,null,404,405,406,407,null,409,410,null,null,null,null,415,416,null,418,null,420]
[null,null,422,423,null,null,426,null,null,429,null,431,432,null,434,435,null,null,null,null,null,441,null,null,444,445,446,447,null,449,450,null,452,null,null,455]
[null,456,457,458,null,null,461,null,null,null,465,466,467,null,469,470,null,null,null,474,475,476,null,478,479,null,481,482,null,484,null,null,null,null,489,490]
[null,null,492,null,null,495,null,null,null,499,500,501,502,503,504,505,506,507,508,null,510,511,512,null,514,null,516,null,null,519,null,521,null,null,null,525]
[null,null,527,528,529,null,null,532,533,534,535,536,537,null,null,null,null,null,543,null,null,546,547,548,null,550,null,null,null,null,null,556,null,null,559]
[null,561,null,563,null,565,566,null,null,569,null,null,null,573,null,null,576,null,578,null,580,581,582,null,null,585,null,null,null,589,null,null,592,null,null,595]
[null,596,597,598,null,600,null,null,null,null,605,606,607,608,null,610,null,null,613,null,615,null,617,618,619,null,621,622,null,null,625,626]
[null,631,null,633,634,635,636,637,null,639,640,null,642,643,644,645,646,647,null,null,null,null,652,null,654,655,656,657,null,null,null,661,662,null,664]
[null,null,null,null,669,670,null,null,673,674,null,null,null,678,679,680,681,null,null,null,685,null,null,null,null,null,null,null,null,null,695,696,null,null,null,700]
[null,null,702,null,704,705,null,707,708,709,710,null,712,713,null,715,null,null,718,null,720,null,null,723,null,725,null,727,728,null,730,null,732,null,734,735]
[null,736,null,738,739,740,null,null,null,null,745,746,null,748,749,null,751,752,null,754,null,756,757,null,759,760,761,null,null,764,765,766,767,768]
[null,771,772,773,774,775,null,777,778,779,null,null,null,null,null,null,null,null,null,null,null,null,792,null,794,795,796,797,null,null,800,801,null,null,null,805]
[null,806,807,808,809,null,811,812,null,814,815,816,817,null,null,null,null,822,823,824,null,826,827,null,null,null,null,832,833,null,835,836,null,838,null,840]
[null,841,null,843,null,845,null,847,null,null,null,null,null,853,null,855,null,null,null,null,null,861,862,863,null,865,null,null,null,869,870,871,null,null,874]
[null,null,877,null,null,880,881,882,null,884,null,886,887,888,null,890,null,892,893,null,null,896,897,898,899,900,null,902,null,null,905,null,907,null,null,910]
[null,null,912,null,914,null,916,null,918,919,920,null,null,null,924,null,926,927,null,929,930,null,932,null,934,935,null,937,null,939,940,941,null,943,null,945]
[null,null,null,948,null,null,null,null,953,954,null,null,null,958,null,960,961,962,963,null,null,966,967,null,null,null,971,null,973,974,975,null,null,978,979]
[null,null,982,null,null,985,null,null,988,null,null,991,null,null,994,995,996,null,null,999]
[]
[null,"Terug",null,null,null,null,null,null,null,null,"Alr - Marktgracht (1)",null,null,null,null,null,null,null,null,null,null,null,null,null,null,null,null,null,null,{"$f":"SUMPRODUCT((MOD(B835:AJ863,100)=0)*(B835:AJ863<1000)*(B835:AJ863<>\"\"))","v":4},null,"MANCO:",null,{"$f":"COUNT(B835:AJ863)","v":515}]
[]
[null,1,2,3,4,5,null,null,8,null,10,null,null,13,null,15,null,null,null,19,null,null,22,null,null,null,null,null,null,null,null,null,null,null,null,35]
[null,null,37,null,39,40,41,42,43,44,null,46,null,null,null,null,null,null,53,null,55,56,null,null,59,60,61,null,null,64,null,null,null,null,69,70]
[null,71,null,null,74,75,null,null,null,79,80,null,null,83,84,85,null,null,88,89,null,null,null,null,null,95,null,null,98,99,null,null,null,null,104,105]
[null,106,107,null,null,110,111,null,113,null,null,null,117,118,null,null,121,null,123,124,125,null,127,null,null,130,131,null,133,null,135,136,137,null,null,140]
[null,141,142,null,144,145,146,null,null,149,150,151,152,null,null,155,null,null,null,null,160,161,162,null,164,165,166,167,null,null,170,171,172]
[null,null,null,178,null,180,181,182,null,184,185,186,null,null,189,190,191,192,193,194,null,196,null,null,199,200,null,202,null,204,205,206,207,208,209,210]
[null,211,212,null,null,null,216,217,218,219,220,null,null,223,224,225,226,227,228,null,230,231,null,null,234,null,null,237,null,239,null,null,242,243,null,245]
[null,246,247,248,null,250,null,null,null,null,255,null,null,258,null,null,null,null,263,264,265,266,null,null,269,null,271,272,273,null,275,276,277,null,null,280]
[null,281,282,null,284,null,286,287,288,289,290,null,292,293,294,null,null,null,null,null,null,301,null,303,null,305,306,null,null,309,null,311,null,313,314,315]
[null,null,317,null,null,null,null,322,null,null,null,null,327,328,329,330,331,null,333,null,335,null,337,null,null,340,341,null,343,344,null,null,347,null,349,350]
[null,351,352,353,null,null,356,357,null,null,360,361,null,363,364,365,null,null,null,null,null,371,null,373,null,null,376,null,378,null,380,381,382,383,384,385]
[null,386,387,388,null,null,391,null,393,394,null,396,397,null,null,400,null,null,403,null,null,null,407,408,409,410,null,412,413,null,null,416,417,null,419]
[null,421,null,423,424,null,426,null,428,null,430,431,null,null,434,null,null,null,438,439,null,441,null,null,null,445,null,447,448,449,null,null,452,null,null,455]
[null,null,457,null,459,null,null,462,null,null,null,466,467,null,469,null,null,null,473,474,475,476,477,null,479,null,481,null,483,484,null,null,487,488]
[null,491,492,493,null,495,496,497,null,null,null,null,502,503,504,505,506,507,null,509,null,511,512,513,null,null,516,null,null,null,null,521]
[null,null,527,null,529,null,531,532,null,null,535,null,537,null,null,null,null,542,543,544,545,546,null,null,549,550,null,null,null,554,555,556,557,null,559]
[null,561,null,null,564,565,null,null,568,569,570,571,null,null,null,null,576,577,578,579,null,581,582,null,null,null,586,587,588,null,590,null,null,593,594,595]
[null,596,597,null,null,600,null,null,603,604,null,null,607,null,609,null,611,612,613,614,615,616,null,null,null,null,null,null,null,624,null,null,627,628,629,630]
[null,null,null,633,634,635,null,637,null,639,640,641,null,null,null,null,null,647,648,null,null,null,652,null,654,null,null,null,null,659,660,661,null,663]
[null,null,null,668,null,670,671,null,673,null,675,676,null,null,null,null,null,null,683,684,685,null,687,688,null,690,null,692,null,694,null,null,697]
[null,null,702,703,null,705,null,null,null,709,null,null,null,713,null,null,716,717,null,719,null,null,null,723,724,725,726,null,null,null,null,null,null,733,734,735]
[null,736,737,null,null,null,null,742,null,null,745,null,null,null,null,750,751,752,753,754,755,756,757,null,null,null,761,762,null,764,765,766,767,768,null,770]
[null,771,772,null,null,775,null,777,null,779,null,null,null,783,784,null,786,787,788,null,null,791,null,null,794,null,null,null,798,799,800,801,802,803,804]
[null,null,807,808,809,810,null,812,null,null,815,816,817,null,819,820,null,null,null,null,null,null,null,828,829,null,831,832,null,null,835,836,null,null,null,840]
[null,null,842,843,844,null,null,null,848,849,850,null,null,null,null,null,856,null,858,859,860,null,null,863,864,null,866,867,null,null,870,871,null,null,874,875]
[null,876,null,878,null,880,null,882,null,884,885,null,null,888,null,890,891,null,null,null,null,896,897,null,899,null,901,null,null,null,null,null,907,908,909,910]
[null,911,912,913,null,915,916,917,null,919,920,921,922,923,924,null,926,null,928,null,930,null,932,null,null,935,null,null,938,null,940,null,942,943,944,945]
[null,null,947,948,949,950,951,null,953,null,null,956,957,958,959,null,null,null,963,964,null,966,null,968,null,970,971,null,null,974,null,null,null,null,979,980]
[null,981,982,null,null,null,null,null,null,null,990,null,992,993,null,null,null,null,null,999,1000]
[]
[null,"Terug",null,null,null,null,null,null,null,null,"Alr - Noordeinde",null,null,null,null,null,null,null,null,null,null,null,null,null,null,null,null,null,null,{"$f":"SUMPRODUCT((MOD(B867:AJ895,100)=0)*(B867:AJ895<1000)*(B867:AJ895<>\"\"))","v":9},null,"MANCO:",null,{"$f":"COUNT(B867:AJ895)","v":619}]
[]
[null,1,2,3,4,null,6,7,8,9,10,null,null,13,14,null,null,null,18,null,20,null,22,null,24,25,null,null,null,null,null,null,null,33,34,35]
[null,36,37,null,null,40,null,null,43,44,45,null,47,48,49,null,51,52,53,null,55,56,57,null,null,60,61,62,63,null,null,66,67,68,69,70]
[null,71,null,73,74,75,76,null,78,null,80,null,82,83,null,85,86,null,null,89,90,null,null,null,null,95,null,null,null,99,100,101,102,null,104,105]
[null,null,107,108,109,null,111,112,113,114,115,116,117,118,119,null,null,null,123,124,125,126,127,null,null,130,null,132,133,134,135,136,137,138,null,140]
[null,141,null,143,144,145,146,147,148,null,150,151,152,153,null,null,156,null,158,null,160,161,162,163,164,165,166,167,null,169,null,null,null,null,174,175]
[null,176,177,null,null,null,181,182,183,184,185,null,187,188,189,null,null,null,null,194,null,196,197,198,null,200,null,null,null,204,null,206,207,null,209,210]
[null,211,212,null,null,215,216,217,218,null,null,221,null,223,224,225,null,null,228,null,230,231,232,233,null,null,236,null,238,239,240,null,242,243,null,245]
[null,246,247,248,249,250,251,252,253,254,255,256,257,258,259,260,261,262,null,null,null,null,267,268,null,null,271,null,null,274,275,null,277,278]
[null,null,282,283,null,null,null,287,288,null,null,null,292,293,null,295,296,297,298,null,300,301,null,303,null,305,306,307,null,309,null,311,312,313]
[null,null,null,318,null,null,null,322,null,324,325,326,null,null,329,null,331,null,333,null,335,null,null,338,null,340,341,342,343,null,345,346,347,348,349]
[null,351,null,null,354,null,356,357,358,null,360,null,null,363,364,365,366,367,368,null,370,null,null,null,374,375,376,377,null,null,null,381,null,383,384,385]
[null,null,387,388,389,390,null,null,393,394,395,396,397,398,null,400,null,402,403,404,405,406,null,null,409,null,null,null,null,414,415]
[null,421,422,423,424,null,null,null,428,null,430,431,432,433,434,435,436,null,438,439,440,441,442,443,444,445,446,447,448,449,450,null,452,null,454,455]
[null,null,457,458,459,null,null,462,463,null,null,null,null,468,469,470,471,472,473,474,null,476,null,478,null,480,481,null,483,484,null,null,487,488,489]
[null,491,492,null,null,495,496,null,null,null,500,501,null,null,504,505,null,null,null,null,510,511,512,513,514,null,null,null,null,519,520,521,null,null,null,525]
[null,null,null,528,null,530,531,null,null,534,535,536,537,null,null,540,541,null,null,544,null,null,547,548,null,null,551,552,null,554,555,556,null,558,559,560]
[null,null,null,563,564,565,566,567,568,null,570,null,null,573,574,null,576,577,578,null,null,581,582,583,null,null,586,587,588,null,590,null,null,593,594,595]
[null,596,597,null,null,600,601,null,603,604,605,null,null,608,609,610,611,null,613,null,null,null,null,618,619,620,621,622,623,624,625,626,null,null,629]
[null,null,632,633,634,null,636,null,null,639,640,641,null,null,null,null,null,647,null,null,null,651,652,653,654,null,656,null,658,659,660,null,662,663,664,665]
[null,666,667,668,null,670,671,672,null,674,null,676,null,null,null,680,681,682,683,684,685,686,687,688,null,690,691,692,693,694,695,696,null,698,699,700]
[null,null,702,null,null,705,null,707,null,709,710,711,null,null,null,715,null,717,718,719,null,721,722,723,null,725,null,null,null,729,730,731,732,null,734,735]
[null,736,null,null,739,740,null,742,null,null,745,null,747,null,null,null,null,752,753,null,755,756,757,758,null,760,761,762,763,764,null,null,767,null,769,770]
[null,771,772,null,774,775,null,777,778,null,null,781,782,783,784,null,786,787,788,789,null,null,null,793,794,null,null,null,798,799,800,801,802,803,804]
[null,806,null,null,809,null,811,812,813,null,815,816,null,818,null,null,821,null,823,824,825,826,827,828,null,830,null,832,833,834,835,836,837,null,839,840]
[null,841,842,null,844,845,846,null,848,null,850,851,null,null,854,null,856,null,858,859,860,861,862,863,864,null,null,867,null,869,null,871,872,null,874,875]
[null,876,877,878,879,null,null,882,null,null,885,886,null,888,null,890,null,892,893,894,895,null,null,null,null,900,901,null,null,904,905,null,907,908,909,910]
[null,null,912,913,914,915,null,917,null,null,null,921,922,923,null,null,null,null,928,null,930,null,null,933,934,935,null,937,938,null,null,941,null,null,944]
[null,946,947,null,null,950,null,952,953,null,955,956,null,958,null,null,961,null,963,964,null,966,967,968,null,970,971,972,null,974,975,null,977,978]
[null,981,982,983,984,985,986,987,null,989,null,991,992,993,994,null,null,null,998,999,1000]
[]
[null,"Terug",null,null,null,null,null,null,null,null,"Alr - de Paal",null,null,null,null,null,null,null,null,null,null,null,null,null,null,null,null,null,null,{"$f":"SUMPRODUCT((MOD(B899:AJ927,100)=0)*(B899:AJ927<1000)*(B899:AJ927<>\"\"))","v":6},null,"MANCO:",null,{"$f":"COUNT(B899:AJ927)","v":776}]
[]
[null,1,2,null,4,5,6,7,8,9,10,11,12,13,14,15,16,17,null,null,20,21,22,23,24,25,26,27,28,29,null,null,32,33,34,35]
[null,36,null,38,39,40,41,null,43,44,45,null,47,48,null,50,null,52,null,54,55,56,57,58,59,null,61,62,63,null,65,66,67,null,69,70]
[null,71,72,73,74,75,76,77,null,79,80,81,82,null,84,85,86,87,88,null,null,null,92,null,94,null,null,97,98,99,null,101,102,103,104,105]
[null,null,107,108,109,110,111,112,113,114,115,116,117,118,119,120,121,122,123,124,125,126,null,128,129,130,null,null,133,134,135,null,137,138,139,140]
[null,null,142,143,144,145,146,147,148,149,150,151,152,null,null,155,156,157,158,159,160,161,162,163,null,null,null,167,null,169,170,171,172,null,174,175]
[null,176,177,178,null,null,null,182,null,null,185,186,187,188,189,null,191,null,null,194,195,196,197,198,199,200,201,202,203,204,205,206,207,null,209,210]
[null,211,212,213,214,215,null,217,218,219,220,221,222,null,224,null,226,227,228,229,230,231,232,null,234,235,236,237,null,239,240,null,242,null,null,245]
[null,246,247,248,249,250,null,252,253,null,255,256,257,258,259,260,261,null,null,264,265,266,267,268,269,270,271,272,273,274,275,null,277,null,279,280]
[null,null,282,283,284,285,286,287,288,289,290,291,292,293,294,295,296,null,298,null,300,301,null,303,304,305,306,null,null,309,310,null,312,313,314,315]
[null,316,317,318,319,null,321,322,323,324,325,null,327,null,329,330,331,332,333,334,335,336,337,null,339,340,341,342,343,344,345,null,347,348,349,350]
[null,351,352,353,354,355,356,null,358,359,360,361,362,null,364,365,366,367,368,null,370,371,372,373,374,375,376,377,378,null,null,null,null,null,384]
[null,386,387,388,389,null,null,392,null,394,395,396,397,null,399,400,null,402,null,404,405,null,407,408,409,410,411,412,413,414,415,416,417,418,null,420]
[null,421,422,423,424,425,426,427,428,null,430,431,432,433,434,435,null,437,438,439,440,441,442,443,444,445,null,447,448,449,null,451,452,453,454]
[null,456,null,null,null,460,461,462,463,464,465,466,467,null,469,470,471,472,473,474,475,476,null,478,479,480,481,482,483,484,485,486,487,488,null,490]
[null,491,492,493,494,495,496,497,498,null,500,501,502,null,null,null,null,507,508,509,null,null,null,null,514,null,516,null,518,519,520,null,522,523,524]
[null,526,null,528,529,530,531,532,533,534,535,null,537,538,null,null,null,542,543,544,545,546,547,548,549,550,null,552,553,554,555,556,557,558,559]
[null,561,562,563,564,565,566,567,null,null,570,571,572,573,574,575,576,null,578,579,null,581,582,583,584,585,586,null,null,null,590,591,null,593,null,595]
[null,596,null,null,599,null,601,602,603,604,null,606,null,608,609,610,611,612,613,614,615,null,null,618,619,620,621,null,623,624,625,null,627,null,629,630]
[null,631,632,633,634,635,636,null,638,639,640,null,642,643,644,645,646,647,648,null,650,651,652,653,654,655,656,657,null,659,660,661,662,663,664]
[null,666,null,668,669,null,671,null,null,674,675,676,null,678,679,680,681,682,683,684,685,686,null,null,689,690,null,692,693,null,null,696,null,698,null,700]
[null,701,702,703,704,705,null,null,null,709,710,711,712,713,null,715,null,717,718,719,720,721,722,null,null,725,726,727,728,729,730,731,732,null,734]
[null,736,737,738,739,null,741,742,743,744,745,746,747,748,749,null,751,752,753,754,755,756,757,758,759,760,761,762,763,764,765,766,null,768,769,770]
[null,771,772,773,774,775,776,777,null,null,780,null,782,783,784,785,null,787,null,789,790,791,792,793,794,null,796,null,null,799,800,null,802,null,804,805]
[null,806,807,null,null,810,null,812,813,814,null,null,817,818,819,820,null,null,null,824,825,826,null,828,null,830,831,832,833,834,835,836,837,838,null,840]
[null,841,null,843,null,null,846,847,null,849,850,851,852,null,854,855,null,857,858,null,860,null,862,null,864,865,866,null,868,869,870,871,null,873,874,875]
[null,876,877,878,null,880,881,882,883,884,885,886,null,888,889,890,891,null,893,894,null,896,null,null,899,null,null,null,903,904,905,906,907,908,909]
[null,911,912,913,914,915,null,917,918,919,920,921,null,null,924,null,926,927,928,929,930,931,932,933,934,935,936,null,938,939,940,null,942,943,944,945]
[null,null,947,948,949,950,null,952,953,954,null,956,null,958,959,960,961,962,963,964,965,null,967,968,969,null,null,972,973,974,975,976,977,978,979,980]
[null,981,982,983,984,985,986,987,988,null,990,991,992,993,994,995,996,null,998,999,1000]
[]
[null,"Terug",null,null,null,null,null,null,null,null,"Alr - Spoordreef",null,null,null,null,null,null,null,null,null,null,null,null,null,null,null,null,null,null,{"$f":"SUMPRODUCT((MOD(B931:AJ959,100)=0)*(B931:AJ959<1000)*(B931:AJ959<>\"\"))","v":7},null,"MANCO:",null,{"$f":"COUNT(B931:AJ959)","v":495}]
[]
[null,1,2,3,4,5,null,7,8,9,null,11,null,null,null,null,16,17,18,19,20,null,22,null,24,25,26,27,28,null,null,31,null,33,34,35]
[null,36,37,null,39,40,null,null,null,44,45,46,null,48,null,null,51,null,53,54,55,null,null,58,59,null,61,62,63,null,65,null,null,null,69]
[null,71,null,73,null,75,76,77,78,null,null,null,82,83,null,null,86,null,88,89,null,91,null,null,null,95,96,null,98,99,100,null,null,null,104,105]
[null,null,107,108,109,null,111,112,113,null,null,116,null,null,119,null,null,null,123,124,125,126,127,128,null,130,null,132,133,134,135,null,137,null,139,140]
[null,null,142,null,null,null,null,null,null,149,150,null,null,153,null,null,null,null,null,159,null,null,162,null,164,165,null,null,null,null,null,171,172,173]
[null,null,177,null,179,180,null,182,183,null,185,186,null,null,null,null,191,192,193,null,null,null,null,null,199,200,201,null,null,null,205,null,207,208]
[null,211,null,null,null,215,216,217,null,null,null,221,null,223,224,225,null,227,228,null,230,null,null,233,null,null,236,null,null,239,null,null,242,null,244,245]
[null,246,247,248,null,null,251,252,null,null,255,null,257,258,259,260,261,262,null,null,265,266,267,null,269,null,271,null,273,274,null,null,277,278,279,280]
[null,281,null,null,null,285,null,null,null,289,null,291,null,null,294,295,null,null,298,null,300,null,null,303,304,null,306,307,null,309,null,311,312]
[null,null,317,null,null,null,null,null,323,null,325,326,null,328,null,330,null,null,333,334,335,null,null,338,null,null,341,342,null,344,null,null,347,348]
[null,351,null,null,null,null,356,357,358,null,360,null,null,null,364,365,null,null,368,369,null,null,null,373,374,375,null,377,378,379,380,381,null,383,384,385]
[null,null,null,388,null,null,null,392,null,null,null,396,null,398,null,400,401,402,403,null,null,406,null,408,null,null,411,null,413,414,415,null,null,null,null,420]
[null,null,422,423,424,425,426,427,428,429,null,null,null,433,434,435,436,437,438,439,440,null,null,443,444,445,446,null,null,449,null,451]
[null,null,null,null,null,null,461,null,null,null,465,466,467,468,null,null,471,472,null,null,475,null,null,478,null,null,null,482,483,null,485,null,null,488,489,490]
[null,491,492,493,null,495,null,null,null,499,500,501,null,503,504,null,506,null,null,null,510,null,512,513,null,null,null,517,518,519,520,521,null,523,null,525]
[null,null,527,528,null,null,null,null,null,null,535,536,537,null,539,null,null,542,null,544,545,546,547,null,null,null,551,552,553,null,555,null,557,null,559]
[null,561,null,563,564,null,null,null,568,null,570,571,null,null,574,575,576,null,null,null,580,null,null,null,584,585,586,null,588,null,null,null,592,593,null,595]
[null,596,null,null,null,600,null,null,null,604,605,606,607,608,609,610,null,null,613,null,615,null,617,618,null,620,621,622,623,624,null,null,null,null,629]
[null,null,632,null,null,635,null,637,638,null,640,641,null,null,null,645,null,null,null,null,null,651,null,null,654,null,656,null,null,null,null,661,null,663,664]
[null,666,null,null,null,null,null,null,null,674,null,676,null,678,null,null,681,682,683,null,685,null,null,null,689,null,691,null,693,694,null,696,697,698,699]
[null,null,null,null,704,null,706,null,708,null,null,711,null,713,714,715,null,717,null,null,720,721,722,null,724,725,726,null,728,729,null,null,null,null,null,735]
[null,null,737,null,null,740,null,742,null,null,745,746,null,null,749,null,751,752,null,null,755,null,null,null,null,null,null,null,763,null,null,766,null,null,null,770]
[null,null,772,null,774,null,null,777,null,null,780,null,null,null,784,null,null,787,null,null,790,null,null,793,794,795,796,797,798,null,null,801,802,803,null,805]
[null,null,807,808,809,null,811,812,813,null,null,null,null,818,819,null,821,822,null,824,null,null,null,null,null,null,null,832,null,null,null,836,null,838,839]
[null,841,null,null,null,845,null,847,null,null,null,851,null,null,854,855,856,857,null,null,860,861,null,null,null,865,866,867,null,null,null,null,872,null,874,875]
[null,null,null,878,null,880,881,882,883,884,885,886,null,888,null,null,891,892,893,894,895,null,897,null,null,900,null,null,null,904,null,null,907]
[null,911,912,null,null,915,916,917,null,919,null,921,null,null,null,925,926,null,928,null,null,931,932,null,null,935,936,937,null,939,940,null,942]
[null,null,947,null,949,950,null,null,953,null,955,null,null,958,null,960,961,962,null,964,null,null,967,null,969,970,971,null,null,null,975,976,null,978]
[null,null,982,null,984,985,null,null,988,989,null,null,992,993,null,null,996,null,null,999,1000]
[]
[null,"Terug",null,null,null,null,null,null,null,null,"Alr - Spoordreef (1)",null,null,null,null,null,null,null,null,null,null,null,null,null,null,null,null,null,null,{"$f":"SUMPRODUCT((MOD(B963:AJ991,100)=0)*(B963:AJ991<1000)*(B963:AJ991<>\"\"))","v":5},null,"MANCO:",null,{"$f":"COUNT(B963:AJ991)","v":509}]
[]
[null,1,null,null,null,5,null,null,null,null,10,null,null,13,null,null,16,17,18,null,null,null,22,23,null,25,26,27,28,29,null,31]
[null,36,null,38,null,40,null,null,null,null,45,46,null,48,49,50,null,null,53,54,55,56,null,58,null,60,null,62,null,64,65,null,null,68,null,70]
[null,null,null,73,74,75,76,null,78,null,80,null,null,83,84,null,86,87,88,89,null,91,92,93,94,95,96,null,98,null,100,101,102,103]
[null,null,null,null,109,110,111,null,null,null,115,null,117,null,119,120,121,null,null,124,125,null,null,128,null,null,131,132,133,null,null,null,null,138,139,140]
[null,null,142,null,null,145,146,null,null,149,150,null,152,153,null,155,null,157,158,159,null,161,162,null,null,null,166,167,null,169,null,null,172,173,null,175]
[null,null,177,178,179,180,null,null,183,184,185,186,187,188,null,null,null,null,193,null,195,null,197,198,199,200,null,null,null,204,205,206,207]
[null,211,null,null,214,215,216,217,null,null,220,null,null,null,null,null,226,227,228,null,null,null,null,233,null,null,236,237,238,239,240,null,242,null,null,245]
[null,246,null,null,null,250,null,252,253,null,null,256,null,null,259,null,261,null,null,264,265,null,null,null,null,270,271,272,null,null,275]
[null,null,null,283,null,null,null,null,288,null,null,null,null,null,294,295,null,297,null,299,null,301,302,303,304,305,306,null,308,null,null,null,312]
[null,316,317,318,319,320,321,null,323,324,325,326,327,328,null,null,null,null,333,null,null,null,null,null,339,340,341,342,343,null,null,null,null,null,349,350]
[null,351,352,null,null,355,356,357,null,359,360,361,362,null,364,null,null,367,null,null,null,371,372,null,null,375,376,null,378,379,380,null,382]
[null,null,null,388,389,null,null,392,null,null,395,null,397,398,null,null,null,null,null,null,405,null,null,408,409,null,null,412,null,null,null,416,417,null,419,420]
[null,421,null,null,424,425,426,427,null,null,430,null,null,433,434,435,436,437,null,439,440,null,null,443,null,null,446,null,null,null,450,451,452,453]
[null,null,457,458,459,460,null,462,null,null,null,null,null,null,469,null,null,472,null,474,null,476,null,478,479,null,null,null,483,484,null,null,487,488,489,490]
[null,null,null,null,null,null,496,497,498,499,null,null,null,503,null,505,506,507,null,509,null,null,null,null,null,515,null,null,null,519,null,null,522,null,null,525]
[null,null,null,null,null,530,null,532,null,null,null,536,537,null,539,null,null,null,null,544,545,546,547,null,549,null,null,null,null,554,null,556,557,null,559]
[null,null,562,563,null,null,566,567,568,null,null,571,null,null,574,575,null,null,null,null,null,null,null,null,584,null,586,null,null,589,null,591,null,593,594,595]
[null,null,597,null,599,null,601,602,603,null,605,606,607,608,609,610,611,null,613,null,615,null,null,618,null,620,621,null,623,null,625,626,627,628,629,630]
[null,631,632,633,634,null,null,637,638,null,640,641,null,643,null,645,null,null,null,null,650,651,null,653,null,655,null,null,null,659,660,null,null,663,null,665]
[null,null,null,668,null,670,null,672,null,674,675,676,677,null,null,null,null,null,null,684,685,686,687,null,null,690,691,692,693,694,null,null,null,698,null,700]
[null,null,null,703,null,null,706,null,null,709,null,711,712,null,714,null,716,717,null,719,null,null,722,null,724,null,null,727,728,null,730,731,null,null,734,735]
[null,null,737,738,739,740,null,null,null,744,745,746,null,748,null,null,751,752,null,754,null,null,757,758,759,760,761,null,null,764,765,null,null,768,null,770]
[null,771,null,null,null,null,null,777,778,null,null,781,782,null,null,785,null,787,null,null,790,null,792,null,794,795,796,797,null,799,800,null,802,803,804,805]
[null,806,null,808,809,810,811,812,null,null,815,816,null,818,819,820,null,822,823,null,null,null,827,828,829,830,831,null,null,834,null,null,837,838,null,840]
[null,null,null,843,null,null,846,847,848,849,null,851,852,853,854,null,856,null,null,859,null,null,null,863,null,null,866,867,868,null,870,null,null,873,874]
[null,null,877,null,879,880,881,882,883,null,null,null,null,888,889,null,null,null,893,null,895,null,897,null,null,900,null,null,null,null,null,906,null,908,909,910]
[null,null,912,913,914,null,916,null,null,919,920,921,922,923,924,925,null,null,null,null,null,null,932,933,null,null,936,937,null,939,null,941,942,null,944]
[null,null,null,948,null,null,null,null,null,null,955,null,957,null,null,960,null,null,963,964,965,966,null,null,969,null,971,972,null,null,975,976,null,null,979,980]
[null,981,982,983,984,null,986,987,988,989,990,991,null,993,null,null,996,997,998,999]
[]
[null,"Terug",null,null,null,null,null,null,null,null,"Alr - Spoordreef (2)",null,null,null,null,null,null,null,null,null,null,null,null,null,null,null,null,null,null,{"$f":"SUMPRODUCT((MOD(B995:AJ1023,100)=0)*(B995:AJ1023<1000)*(B995:AJ1023<>\"\"))","v":6},null,"MANCO:",null,{"$f":"COUNT(B995:AJ1023)","v":523}]
[]
[null,1,null,3,4,5,6,null,null,9,null,null,null,13,14,15,null,17,18,19,20,null,null,23,24,null,26,27,28,29,null,null,null,null,null,35]
[null,36,37,null,39,40,41,null,null,44,null,null,47,null,49,null,null,null,null,null,55,56,57,58,59,null,61,null,63,null,65,null,null,null,null,70]
[null,71,72,null,null,null,null,77,78,null,80,81,null,83,null,85,null,null,null,89,90,91,92,null,94,null,96,97,null,null,100,101,102,null,104,105]
[null,null,null,null,109,110,null,null,113,114,null,116,null,118,119,120,121,122,null,124,125,126,127,null,129,null,null,132,133,null,null,null,137]
[null,null,142,null,144,null,146,null,null,null,null,151,null,153,null,155,156,157,158,null,160,null,162,163,null,165,null,167,168,null,null,171,null,173]
[null,null,null,null,null,180,181,182,null,184,null,186,187,188,null,190,191,null,null,194,null,null,null,198,null,200,null,null,203,null,205,null,207,208,209,210]
[]
[]
[null,36,37,null,39,40,41,42,43,44,45,46,47,48,49,50,51,null,null,54,55,56,null,58,59,60,61,62,null,null,65,66,67,68,69]
[null,null,null,633,634,635,636,null,638,639,null,641,642,643,644,645,null,647,648,649,null,651,652,653,654,655,656,657,658,659,660,661,662,663,664]
[null,106,107,null,109,110,111,null,113,114,115,116,117,118,119,null,null,null,null,null,null,126,127,128,129,null,null,132,133,134,135,136,137,138,139,140]
[null,701,702,703,null,705,706,null,708,709,710,null,712,null,714,715,716,717,null,719,720,721,722,723,724,725,726,727,null,null,null,731,732,null,734]
[null,null,177,178,null,null,181,182,183,null,null,null,null,null,189,190,null,null,193,194,195,196,null,null,199,200,201,null,203,204,null,206]
[null,null,772,null,774,775,776,null,778,779,null,781,782,783,null,785,null,null,788,null,null,791,792,793,794,795,796,797,798,799,800,801,802,null,804]
[null,null,247,null,null,250,null,252,253,null,255,256,257,null,259,260,null,null,263,264,null,266,267,268,269,270,271,null,null,null,275,null,null,278,null,280]
[null,null,842,null,844,845,846,847,848,null,850,851,null,853,854,855,null,null,858,null,860,861,862,863,864,865,866,867,868,869,870,null,null,873,null,875]
[null,316,null,null,null,null,321,null,null,null,325,326,327,328,329,330,null,null,null,null,335,336,337,null,339,null,341,342,343,344,345,null,347,348,349]
[]
[null,null,null,null,null,null,null,null,null,null,null,null,null,null,null,null,null,null,null,null,null,null,null,null,null,null,null,null,null,null,null,416]
[]
[null,null,457,null,459,460,461,462,463,464,465,466,null,468,469,470,471,472,null,474,475,476,477,478,479,480,481,482,483,484,485,486,null,488,489,490]
[null,"Terug",null,null,null,null,null,null,null,null,"Amf - Spaarnestraat",null,null,null,null,null,null,null,null,null,null,null,null,null,null,null,null,null,null,{"$f":"SUMPRODUCT((MOD(B1507:AJ1535,100)=0)*(B1507:AJ1535<1000)*(B1507:AJ1535<>\"\"))","v":3},null,"MANCO:",null,{"$f":"COUNT(B1507:AJ1535)","v":482}]
[null,null,null,null,74,null,76,77,78,79,80,null,82,83,84,85,86,87,88,89,null,91,92,93,94,95,null,97,null,99,100,101,102,null,104,105]
[null,36,37,38,null,40,41,null,43,null,45,46,47,null,null,50,51,52,53,null,null,56,57,58,59,60,null,62,63,64,65,null,null,68,69,70]
[null,631,null,null,634,null,636,637,638,639,640,641,null,null,644,null,646,647,null,null,650,651,652,null,null,655,null,657,658,null,660,661,662,null,664,665]
[]
[]
[null,176,null,null,179,null,null,182,183,null,null,186,187,188,null,null,null,192,193,194,null,null,null,198,199,null,201,202,null,204,null,206,207,208]
[null,771,null,null,null,775,776,777,null,null,null,null,782,null,null,null,786,null,null,789,790,null,792,null,794,795,796,797,null,799,null,null,802,803,null,805]
[null,null,247,248,249,250,null,null,253,254,null,256,257,258,null,260,null,262,null,null,265,266,267,null,null,null,271,272,null,274,275,null,null,278,279]
[null,841,842,null,null,845,846,847,null,849,850,null,null,null,854,855,856,857,858,null,null,null,null,null,null,null,866,867,null,null,null,null,872,null,874]
[null,316,null,null,null,320,null,null,null,null,325,326,327,328,null,null,331,null,333,null,null,336,337,338,339,340,341,342,343,344,345,346,null,null,null,350]
[null,911,912,913,914,915,null,917,918,919,920,921,922,923,924,925,926,927,928,null,930,931,null,933,934,935,936,937,null,939,null,941,null,943,944,945]
[]
[null,null,982,null,null,null,null,987,null,null,null,null,992]
[null,null,457,458,null,null,null,462,null,null,null,null,null,468,null,470,null,null,473,null,null,null,null,null,null,null,null,null,null,null,null,null,null,488,null,490]
[null,"Terug",null,null,null,null,null,null,null,null,"Asd - Bloemgracht",null,null,null,null,null,null,null,null,null,null,null,null,null,null,null,null,null,null,{"$f":"SUMPRODUCT((MOD(B1987:AJ2015,100)=0)*(B1987:AJ2015<1000)*(B1987:AJ2015<>\"\"))","v":4},null,"MANCO:",null,{"$f":"COUNT(B1987:AJ2015)","v":376}]
[null,null,null,528,null,null,531,null,null,null,null,null,537,null,539,null,541,null,null,null,545,546,547,548,null,550,null,null,553,554,555,556,557,null,null,560]
[null,null,807,null,809,null,null,null,null,null,815,null,null,818,null,null,821,null,823,null,825,null,null,null,null,830,null,null,null,834]
[null,null,null,null,null,null,null,null,null,null,null,null,null,null,null,645]
[null,null,null,108,null,null,null,null,113,null,null,null,null,null,null,null,null,null,null,null,null,null,null,null,null,130,null,null,133,null,135]
[null,null,null,null,704,null,706,null,null,null,710,null,null,713,null,null,null,717,null,null,null,null,722,null,null,null,null,727,null,null,null,null,null,null,734,735]
[null,null,177,178,null,null,null,null,183,null,185,null,null,188,189,190,null,null,null,null,null,196,197,198,null,200,null,202,203,204,205,206,207,208,null,210]
[null,null,772,773,null,null,776,777,778,null,null,781,null,783,null,null,null,787,null,null,790,null,null,null,794,795,null,null,798,799,800,801,null,null,804,805]
[null,null,null,null,null,null,null,252,null,null,null,null,null,null,259,null,261,null,263,null,null,null,null,null,null,null,null,null,273,null,275]
[null,null,null,843,844,null,null,null,848,null,null,null,null,853,null,null,856,null,858,null,null,861,862,null,null,865,866,null,null,null,null,871]
[null,316,null,null,null,null,null,null,323,null,null,null,null,null,null,null,331,null,null,null,null,null,null,338,339]
[null,911,912,913,null,null,916,917,918,919,null,null,null,923,null,925,926,927,null,null,930,null,932,933,null,null,null,null,938,null,940]
[null,null,null,null,null,null,null,null,393,null,null,null,null,398,null,null,null,null,403]
[null,981,null,null,984,985,null,987,null,989,null,null,null,993,994,995,null,null,null,null,1000]
[null,null,null,null,null,null,null,null,null,null,null,null,null,null,469,470,null,null,473,null,null,null,null,null,null,null,null,null,null,484,null,486]
[null,"Terug",null,null,null,null,null,null,null,null,"Asd - Keizersgracht",null,null,null,null,null,null,null,null,null,null,null,null,null,null,null,null,null,null,{"$f":"SUMPRODUCT((MOD(B2467:AJ2495,100)=0)*(B2467:AJ2495<1000)*(B2467:AJ2495<>\"\"))","v":0},null,"MANCO:",null,{"$f":"COUNT(B2467:AJ2495)","v":104}]
[null,526,null,528,null,null,null,null,533,null,null,536,null,null,null,null,null,null,543,null,null,null,null,null,null,null,null,null,553,null,null,556]
[]
[]
[null,null,null,null,null,null,null,null,null,null,null,null,null,643,null,645,null,null,null,649,null,null,null,null,null,655]
[null,null,702,null,null,705,null,707,null,null,null,null,null,null,null,null,null,null,null,null,null,null,null,null,724,725]
[null,null,null,null,179,null,null,null,183,null,null,186,187,null,189,null,null,null,null,null,null,null,null,198,199,200,201,202,203,null,205,null,null,208]
[null,null,772,null,774,775,null,null,null,null,null,null,null,null,784,null,null,787,null,null,null,null,null,null,794,795,796,797,798,null,null,801,null,803,804,805]
[null,null,null,null,null,null,null,null,null,null,null,null,null,null,null,666]
[]
[null,null,null,null,null,null,null,null,null,null,null,null,null,null,null,null,null,583]
[null,null,null,null,null,null,null,null,null,null,null,null,null,923,null,null,null,927,null,null,null,null,null,null,null,null,null,null,null,null,null,941,null,943,null,945]
[null,null,387,388,389,null,391,null,393,394,395,396,null,null,399,400,401,null,403,404,null,406,407,null,null,null,null,412,null,null,null,null,417,null,419]
[null,981,null,null,null,null,null,null,null,null,null,null,992,993,null,null,null,null,998]
[null,456,457,458,459,null,null,null,null,null,null,null,null,468,469,470,471,472,null,null,null,null,477,null,479,null,null,null,483,null,null,null,487,488,null,490]
[null,"Terug",null,null,null,null,null,null,null,null,"Asd - Stadhouderskade (1)",null,null,null,null,null,null,null,null,null,null,null,null,null,null,null,null,null,null,{"$f":"SUMPRODUCT((MOD(B2947:AJ2975,100)=0)*(B2947:AJ2975<1000)*(B2947:AJ2975<>\"\"))","v":3},null,"MANCO:",null,{"$f":"COUNT(B2947:AJ2975)","v":203}]
[null,null,null,null,null,null,null,null,null,534,535,null,null,538,null,null,null,null,null,null,null,null,547,null,null,550]
[null,1,null,null,null,null,null,null,8,null,10,null,null,null,null,15,null,null,null,null,null,null,null,null,null,null,null,null,null,null,null,null,32]
[null,null,null,null,null,600,null,null,null,604,null,null,null,null,609,null,null,null,null,null,null,null,null,618,null,null,null,null,null,null,null,626,null,628]
[null,71,null,null,74,75,76,77,null,null,null,null,null,null,null,null,null,null,null,null,null,null,null,null,null,null,null,97,null,null,100]
[null,null,null,null,null,null,null,null,288,null,null,null,null,null,294,null,null,null,null,null,null,null,null,303,null,305,null,null,308,null,null,null,312]
[null,null,null,null,null,null,null,null,null,184,185,186,187,188,null,null,null,null,null,194,195,196,197,198,199,200,null,null,203,204,null,null,207,null,null,210]
[null,771,null,null,null,null,null,777,null,null,null,null,782,null,784,null,null,null,788,null,790,null,null,793,794,795,null,null,null,null,800,null,802,null,804,805]
[null,null,null,null,null,null,251,null,253,254,null,null,null,258,null,null,261,null,null,null,null,null,267,null,null,270,null,null,273,274]
[null,null,null,null,null,845,846,null,null,null,null,null,null,null,854,855,null,null,null,null,860,null,862,null,null,null,null,867,868,null,null,871]
[null,null,317,318,319,null,321,322,323,324,325,326,327,null,null,330,null,332,333,334,335,336,null,338,null,340,341,342,343,344,null,346,null,null,349]
[null,911,null,null,914,915,916,917,918,null,920,921,922,923,924,null,926,null,null,929,null,931,null,933,934,935,null,null,938,null,940,941,null,null,944,945]
[null,null,null,null,null,390,null,null,null,null,395,null,null,null,null,null,null,null,null,null,405,null,null,null,null,410,null,null,null,414,null,416]
[null,981,982,null,984,985,986,null,null,989,990,991,992,993,null,null,996,null,998,999]
[null,null,457,458,null,460,null,null,463,464,465,466,467,468,469,470,471,472,473,474,null,476,null,null,null,480,481,482,483,484,485,486,null,488,null,490]
[null,"Terug",null,null,null,null,null,null,null,null,"Asd - Zuidoost (3)",null,null,null,null,null,null,null,null,null,null,null,null,null,null,null,null,null,null,{"$f":"SUMPRODUCT((MOD(B3427:AJ3455,100)=0)*(B3427:AJ3455<1000)*(B3427:AJ3455<>\"\"))","v":8},null,"MANCO:",null,{"$f":"COUNT(B3427:AJ3455)","v":575}]
[null,526,527,528,null,null,null,532,null,534,535,536,null,538,539,540,null,542,null,544,545,null,547,548,549,550,551,552,null,554,null,556,557,558]
[null,1,2,3,4,5,6,7,8,9,10,11,12,13,null,null,null,17,18,19,null,21,22,23,24,null,26,27,null,29,null,null,32,33,null,35]
[null,596,null,null,599,600,601,602,603,604,null,606,607,null,609,610,null,null,null,614,615,null,617,618,619,620,null,622,null,624,null,626,627]
[null,null,72,73,74,75,null,77,null,null,80,81,null,null,null,null,86,null,null,89,null,91,null,93,null,95,null,null,null,99,100,null,102,103,104]
[null,666,667,null,669,null,null,672,null,674,675,676,null,678,679,null,681,682,null,684,685,null,687,688,null,null,691,692,null,694,null,696,697,null,699,700]
[]
[]
[null,null,null,null,null,null,null,null,null,254,255,null,null,null,259,260,261,null,null,null,null,null,267,268,null,270,null,null,null,null,null,276,277]
[null,841,842,null,844,845,null,null,848,849,850,null,null,853,854,null,null,null,null,null,null,null,862,null,864,null,866,null,868,null,870,871]
[null,null,null,318,null,320,321,null,323,324,null,null,null,null,null,330,null,332,333,null,null,336,337,null,339,null,null,null,null,null,345,346,null,null,349,350]
[null,null,null,913,914,915,null,null,918,null,920,921,null,923,924,null,null,null,null,null,null,null,932,null,934,null,936,null,null,null,940]
[null,386,387,null,null,390,391,392,393,394,395,null,397,null,399,400,401,402,403,null,405,null,407,null,null,null,411,412,null,414,415,null,null,null,419]
[null,981,null,null,null,null,986,987,null,989,990,null,null,993,null,995,null,null,998,999,1000]
[null,null,457,458,459,null,null,null,null,null,null,466,null,null,null,470,471,null,473,474,475,476,null,null,null,480,481,482,483,null,null,486]
[null,"Terug",null,null,null,null,null,null,null,null,"Appingedam",null,null,null,null,null,null,null,null,null,null,null,null,null,null,null,null,null,null,{"$f":"SUMPRODUCT((MOD(B3907:AJ3935,100)=0)*(B3907:AJ3935<1000)*(B3907:AJ3935<>\"\"))","v":2},null,"MANCO:",null,{"$f":"COUNT(B3907:AJ3935)","v":277}]
[null,526,null,null,null,null,null,532,null,null,535,null,null,null,null,null,null,null,null,null,null,null,547,null,549,null,null,null,null,554,555,null,557]
[]
[]
[null,null,72,73,74,75,76,77,null,79,80,81,null,83,null,85,86,87,88,null,null,null,null,null,null,95,96,97,null,null,100,101,null,103,null,105]
[null,666,667,668,null,670,null,672,null,null,675,676,null,null,null,null,681,null,683,null,685,686,null,688,689,null,691,null,null,694,695,696,697,698,699]
[null,null,null,143,null,145,146,null,null,149,150,151,152,153,null,155,null,null,158,null,null,null,null,163,164,165,166,null,null,null,170,null,null,173]
[null,null,737,738,739,740,741,742,743,null,745,null,null,748,749,750,null,752,753,null,null,null,null,null,null,null,null,null,null,764,765,766,767]
[null,null,982,983,null,null,986,987,988,989,990,null,992,993,994,995,null,997,null,999]
[null,841,842,843,null,null,null,847,848,849,null,851,null,853,null,855,null,857,858,859,null,null,null,null,864,865,866,867,868,null,null,871,null,873,874]
[null,null,317,null,null,320,321,322,323,324,325,null,null,328,329,null,331,332,333,null,335,336,null,338,339,340,341,342,343,null,345,346,347,348,349,350]
[null,911,912,null,914,915,null,917,null,919,920,921,922,null,null,925,926,927,928,929,930,null,932,933,934,935,936,937,938,null,null,null,null,943,944,945]
[null,null,null,null,null,null,391,null,393,null,null,null,null,398,399,null,401,402,null,null,405,null,null,408,null,null,411,null,413,null,415,null,null,null,null,420]
[null,981,null,983,null,null,986,987,988,null,null,null,null,993,null,null,null,null,998,999,1000]
[null,456,457,458,459,460,null,462,null,null,null,null,467,468,null,null,null,472,473,474,475,476,477,478,479,480,481,482,483,null,485,486,null,488,null,490]
[null,"Terug",null,null,null,null,null,null,null,null,"Ah - Middelgraaflaan",null,null,null,null,null,null,null,null,null,null,null,null,null,null,null,null,null,null,{"$f":"SUMPRODUCT((MOD(B4387:AJ4415,100)=0)*(B4387:AJ4415<1000)*(B4387:AJ4415<>\"\"))","v":6},null,"MANCO:",null,{"$f":"COUNT(B4387:AJ4415)","v":494}]
[null,526,null,null,529,null,null,532,null,null,535,536,537,null,539,null,null,null,null,544,null,546,null,548,null,null,551,null,null,null,555,556,null,558,null,560]
[null,1,2,3,null,5,6,7,8,9,null,11,12,13,null,15,null,17,null,null,null,21,22,null,null,25,null,null,28,29,null,31,32,null,34]
[null,null,597,598,null,null,null,null,null,null,null,null,607,608,609,null,null,612,613,null,null,616,617,null,619,620,621,622,null,null,625,626,627,628,null,630]
[null,71,null,null,74,75,null,77,null,null,null,81,null,83,null,null,null,87,null,null,null,null,92,null,null,95,null,97,98,null,100,null,102]
[null,null,667,668,null,670,null,672,673,null,675,676,null,null,null,null,null,null,null,null,null,null,null,null,689,null,691,null,null,null,null,null,null,698]
[null,null,null,null,null,null,null,null,null,null,null,null,null,null,null,204,269,276,279]
[]
[null,211,212,213,214,215,216,null,218,null,220,221,222,null,224,null,null,227,228,229,230,null,232,null,234,235,null,null,238,239,240,null,null,null,244]
[null,null,597,598,null,600,null,null,603,604,605,606,607,null,null,610,611,612,null,null,615,616,617,null,619,null,621,622,623,624,625,626,627,628,629]
[]
[]
[null,386,387,null,389,390,null,392,393,394,395,396,397,398,399,400,null,null,403,404,405,406,407,408,409,410,411,412,null,null,null,null,417,418,419,420]
[null,981,null,983,984,985,null,987,null,989,990,null,992,993,994,995,996,null,null,999,1000]
[null,null,null,458,null,null,null,null,463,464,null,466,null,null,null,470,null,472,null,474,475,null,null,null,null,null,481,null,483,484,null,null,null,null,489]
[null,"Terug",null,null,null,null,null,null,null,null,"Axel",null,null,null,null,null,null,null,null,null,null,null,null,null,null,null,null,null,null,{"$f":"SUMPRODUCT((MOD(B4867:AJ4895,100)=0)*(B4867:AJ4895<1000)*(B4867:AJ4895<>\"\"))","v":1},null,"MANCO:",null,{"$f":"COUNT(B4867:AJ4895)","v":308}]
[null,null,527,null,null,530,531,532,null,null,null,null,null,538,null,null,null,542,543,null,null,null,null,548,549,null,null,null,553,null,null,556,557,null,null,560]
[null,null,null,null,null,null,null,7,null,9,null,null,12,13,14,null,null,null,null,null,20,null,null,null,null,25,null,null,null,null,null,31,null,null,34]
[null,null,null,598,null,null,null,602,603,null,null,null,null,null,null,null,null,612,null,null,615,null,null,null,null,620,null,null,null,624,625,null,627,628,629]
[null,null,null,null,74,75,null,77,78,79,null,null,null,null,null,85,null,null,88,null,90,null,92,null,null,95,null,null,null,null,100,101,102,null,null,105]
[null,null,null,668,null,null,null,null,null,null,null,null,null,null,null,null,null,682,683,null,null,null,null,688,null,690,691,null,693,null,695,696,null,null,null,700]
[null,141,null,143,144,null,146,null,148,null,null,151,null,153,154,null,null,null,null,159,null,null,162,null,null,165,166,null,168,169,null,171,null,173,174,175]
[null,736,null,null,739,null,null,null,743,null,745,746,null,null,null,null,null,752,null,754,755,756,null,758,759,null,761,null,null,764,null,766,767,768,769,770]
[null,null,212,213,214,215,null,null,null,null,null,null,null,223,null,225,null,null,null,229,230,null,232,233,null,null,null,null,null,null,null,null,null,null,null,245]
[null,806,807,808,809,810,null,null,null,814,null,816,817,818,null,null,null,null,823,null,null,null,null,null,null,null,831,null,null,834,null,null,null,838,839,840]
[null,null,null,null,284,285,null,287,288,289,290,291,null,293,294,295,null,null,298,299,null,null,null,303,null,null,306,null,null,309,null,311,312,313]
[null,null,562,563,564,null,566,567,568,null,null,null,null,null,574,575,null,null,null,null,null,581,null,null,null,585,586,587,588,589,null,null,592,null,594,595]
[null,null,387,null,null,390,391,392,393,null,395,396,397,null,399,400,401,null,403,404,null,null,null,408,409,410,411,null,null,414,null,null,null,418,419,420]
[null,981,null,null,null,985,986,null,988,989,null,991,992,null,994,null,null,997,998,999,1000]
[null,null,457,null,null,460,461,null,463,null,465,null,467,468,469,null,null,null,473,474,null,476,null,null,479,480,481,482,483,484,485,486,487,null,null,490]
[null,"Terug",null,null,null,null,null,null,null,null,"Beekbergen",null,null,null,null,null,null,null,null,null,null,null,null,null,null,null,null,null,null,{"$f":"SUMPRODUCT((MOD(B5347:AJ5375,100)=0)*(B5347:AJ5375<1000)*(B5347:AJ5375<>\"\"))","v":3},null,"MANCO:",null,{"$f":"COUNT(B5347:AJ5375)","v":460}]
[null,null,527,528,null,null,null,532,533,null,535,536,537,null,null,540,541,null,543,544,545,null,547,548,549,null,551,null,null,554,null,null,557]
[null,1,2,3,4,5,null,7,8,9,null,11,12,null,null,15,null,null,null,19,20,null,null,23,24,25,26,null,28,null,30,31,32,33,34]
[null,null,597,598,599,600,null,602,603,604,null,606,null,608,609,610,null,null,613,614,null,616,null,618,null,620,null,null,623,null,625,626,627,628,629]
[null,71,72,null,null,null,null,77,null,null,80,null,82,null,84,null,86,null,88,null,null,null,null,93,null,null,null,null,null,99,null,101,null,null,null,105]
[null,666,null,668,669,null,null,672,null,null,null,676,677,678,679,null,null,682,null,null,null,null,687,null,null,690,null,692,693,null,695,696,null,null,null,700]
[null,141,null,null,null,145,146,null,null,null,null,151,null,153,null,null,156,null,null,159,160,null,162,163,164,null,null,null,null,169,null,null,172,null,174]
[null,null,737,738,739,null,null,null,743,744,745,746,null,null,749,null,null,752,null,754,755,756,null,null,null,760,761,762,763,764,null,null,null,null,769]
[null,null,null,null,null,null,null,null,null,null,null,null,303,342,375,377]
[]
[null,281,282,null,284,null,286,287,null,289,null,null,292,null,294,295,null,null,null,299,300,null,302,303,304,305,306,307,null,309,310,311,312]
[null,876,null,878,879,null,881,882,883,null,null,null,887,888,889,890,891,null,893,null,895,null,897,null,899,null,901,null,null,null,905,null,907,908,null,910]
[null,null,212,213,214,null,216,217,218,null,null,221,null,null,null,225,null,null,null,null,null,231,232,null,234,null,null,null,null,239,240,null,null,243,null,245]
[null,null,null,983,null,985,null,null,null,null,990,991,null,993,null,null,996,null,998]
[null,456,457,null,459,null,null,null,null,null,465,null,467,468,null,470,null,null,473,null,null,476,null,null,null,null,null,null,null,null,null,486,487]
[null,"Terug",null,null,null,null,null,null,null,null,"Best",null,null,null,null,null,null,null,null,null,null,null,null,null,null,null,null,null,null,{"$f":"SUMPRODUCT((MOD(B5827:AJ5855,100)=0)*(B5827:AJ5855<1000)*(B5827:AJ5855<>\"\"))","v":2},null,"MANCO:",null,{"$f":"COUNT(B5827:AJ5855)","v":131}]
[null,null,null,null,529,null,null,null,null,null,null,null,null,null,null,null,null,null,null,null,null,null,null,null,null,null,null,null,null,null,null,null,null,558]
[null,1,null,3,null,5,null,null,8,null,10,11,12,null,null,null,null,17,null,19,20,null,22,null,24,25,26,null,null,29,30,null,null,33,null,35]
[null,596,null,598,null,600,null,602,null,604,null,606,null,608,609,null,611,612,null,null,615,616,null,618,null,null,621,null,623,624,null,626,null,628]
[null,null,null,null,null,null,null,null,null,null,null,null,82,null,null,85,null,null,null,null,null,null,92,93,null,null,null,97,null,null,null,null,null,null,104,105]
[null,null,null,null,null,null,null,null,null,null,null,null,null,null,null,null,681,null,null,null,null,null,null,null,null,null,null,null,null,null,null,696,697]
[null,null,null,null,null,null,146,null,null,null,null,null,null,null,null,null,null,null,null,null,null,null,null,null,null,null,null,null,null,null,null,171]
[null,null,null,738,null,740,741,742,null,744,null,null,null,null,749,null,null,null,null,null,null,null,null,null,759,null,null,null,763,null,null,null,null,null,null,770]
[null,211,null,213,214,null,null,null,null,null,null,null,null,223,null,225,226,227,null,null,null,null,null,null,null,null,null,237,null,239,null,241,null,243,244]
[null,null,null,null,null,null,null,812,null,null,null,null,null,null,819,820,821,822,823,null,null,826,null,828,null,null,null,832,null,null,null,null,null,838]
[null,281,null,283,null,null,286,287,null,null,null,null,292,293,294,null,null,297,298,299,null,null,null,null,null,null,null,307,null,309,null,311,null,null,null,315]
[null,null,null,null,null,null,null,null,883,884,885,null,null,null,null,null,891,892,null,894,895,896,897,898,899,null,null,null,903,null,905,null,907,908,null,910]
[null,351,352,null,null,355,null,null,358,null,360,null,null,null,null,null,366,null,368,369,null,371,null,373,null,375,376,377,378,379,380,null,382,null,384,385]
[null,946,null,null,949,null,951,952,null,954,955,956,957,958,null,null,961,null,963,null,null,966,967,null,null,970,null,null,null,974,975,976,977]
[null,null,null,458,null,460,461,null,null,464,null,466,null,null,null,470,471,null,null,null,475,null,null,null,null,null,null,null,483,null,485,486,null,488,489]
[null,"Terug",null,null,null,null,null,null,null,null,"Bolsward",null,null,null,null,null,null,null,null,null,null,null,null,null,null,null,null,null,null,{"$f":"SUMPRODUCT((MOD(B6307:AJ6335,100)=0)*(B6307:AJ6335<1000)*(B6307:AJ6335<>\"\"))","v":3},null,"MANCO:",null,{"$f":"COUNT(B6307:AJ6335)","v":314}]
[null,null,527,528,529,530,531,null,533,534,null,536,null,538,539,540,null,null,null,null,null,null,null,null,null,null,null,null,null,null,555,556]
[null,1,null,null,4,5,null,null,null,null,10,null,null,null,null,null,null,17,18,null,null,null,null,null,null,25,26,null,null,29,30,null,32]
[null,null,597,null,null,600,null,null,null,null,605,null,null,null,null,null,611,null,613,null,615,null,null,618,null,null,null,null,623,624,625,null,null,null,629]
[null,null,72,null,null,75,null,77,78,79,null,81,82,null,null,null,86,null,88,89,90,null,null,null,94,95,null,null,98,null,null,null,null,null,104,105]
[null,null,667,null,null,670,671,672,673,null,null,null,677,678,679,null,681,682,null,684,null,686,687,688,689,null,null,null,null,694,695,696,null,null,null,700]
[null,null,null,null,null,null,null,147,null,null,null,null,null,153,null,null,156,null,null,159,160,null,162,163,164,165,null,null,null,169,null,171,null,null,null,175]
[null,null,null,738,null,null,null,null,743,744,null,null,747,null,null,null,null,null,null,null,null,null,757]
[null,null,212,null,null,null,null,217,null,null,null,null,null,null,null,null,null,null,null,229,null,null,null,null,null,null,236,null,238]
[null,806,null,null,null,null,null,812,null,814,null,null,null,null,null,null,null,null,null,null,825,null,null,null,null,830,null,null,null,834,835,null,null,null,839]
[]
[]
[null,null,null,null,354,null,null,357,null,null,null,null,362,363,364,null,null,367,368,369,370,371,372,null,374,375,376,null,null,379,380,381,null,383]
[null,null,null,null,null,null,null,null,null,null,955,956,957,958,959,960,961,962,null,null,965,966,967,968,null,970,971,972,null,974,null,null,null,null,null,980]
[]
[]
[null,null,527,528,529,null,null,null,533,534,535,536,null,538,null,null,541,542,543,544,545,null,547,null,null,550,null,null,null,554,555,556,null,558,null,560]
[null,null,2,3,4,5,6,7,8,9,10,11,12,13,null,null,16,17,18,null,20,null,22,23,null,null,26,27,28,29,30,null,null,33,34,35]
[null,null,null,598,599,600,601,602,null,null,null,606,607,608,609,610,null,612,null,614,615,616,617,618,619,620,null,622,623,null,null,626,627,628,629,630]
[null,71,72,null,74,75,null,null,null,79,null,null,82,null,84,null,null,87,88,null,90,91,92,null,null,null,96,null,98,null,100,101,102,null,104,105]
[null,null,667,null,669,null,671,672,673,674,null,676,677,678,679,680,681,682,null,684,685,686,null,null,689,690,691,null,null,null,695,null,null,698,null,700]
[null,null,null,143,144,null,146,null,148,null,150,null,152,153,154,155,156,157,158,159,160,null,null,163,164,null,null,null,null,169,null,null,null,173,null,175]
[null,null,737,738,739,null,741,null,743,null,745,null,null,null,null,750,751,null,null,null,null,756,757,758,null,null,761,null,null,null,765,766,null,768,null,770]
[null,null,212,null,null,null,null,217,null,null,220,null,null,null,null,225,null,null,null,null,230,null,null,null,null,235,null,null,null,null,null,null,null,243]
[null,null,null,null,null,null,null,null,null,null,null,816,null,null,null,null,null,822,823,null,null,null,null,null,829,830,null,832,null,834,835,836]
[null,null,null,283,null,285,null,null,null,null,null,null,null,null,null,null,296,297,null,null,null,301,null,303,304,null,306,307,null,309,null,311,null,313,314]
[null,876,877,null,879,null,881,882,883,884,885,null,null,888,889,890,891,null,null,null,null,null,897,898,null,900,901,null,903,null,null,906,907,908,909]
[null,null,null,null,null,null,null,357,358,359,null,null,362,363,null,null,null,367,368,369,null,null,372,null,null,null,null,377,null,379,null,381,null,383,384,385]
[null,null,947,null,949,950,null,952,null,954,null,null,957,958,null,960,961,null,null,964,null,966,967,null,null,null,971,972,null,974,null,null,null,null,979]
[null,null,null,null,424,null,null,null,null,null,null,null,null,null,null,435,null,437,null,439,440,null,null,null,null,null,null,447,null,449,null,451,452,453,454]
[]
[null,421,null,423,424,425,null,null,null,null,null,null,null,null,null,null,null,null,null,null,440,null,null,null,444,null,null,null,null,449,null,null,452]
[null,1,2,null,4,5,6,7,8,null,null,null,null,null,14,15,16,null,18,null,null,null,22,23,24,25,26,27,28,29,null,31,32,33,34,35]
[null,null,null,null,null,null,null,602,603,null,605,606,null,null,609,null,null,612,613,null,null,null,null,null,null,620,null,622,null,null,null,626,627,628,null,630]
[null,null,72,null,74,null,76,77,null,79,null,81,82,null,null,null,86,null,88,89,null,null,92,null,null,null,null,null,98,99,null,101,102,103,104,105]
[null,666,null,null,null,670,null,672,673,null,675,676,null,null,null,null,null,null,683,684,null,null,687,null,null,null,691,null,693,null,695,null,697,698,699,700]
[null,null,142,null,144,145,null,null,null,null,null,null,null,null,null,null,null,null,null,null,null,null,null,null,null,null,null,null,168,null,170,null,null,null,null,175]
[null,null,737,null,739,null,741,742,null,null,null,null,null,null,749,null,null,752,null,null,null,null,null,null,null,null,761,null,null,null,765,null,null,768]
[null,211,null,213,null,null,null,217,null,null,null,null,222,223,334,null,null,227,null,null,230,null,232,null,234,null,null,null,null,null,240,null,242,null,244]
[null,null,null,null,809,810,811,null,null,814,815,null,null,818,819,820,821,null,null,824,825,null,null,828,null,830,831,832,null,834,null,836,837]
[null,null,282,283,284,285,null,null,null,null,null,null,null,null,null,null,296,null,298,null,null,null,null,null,null,null,null,null,308,null,null,311,null,null,null,315]
[null,null,null,null,null,null,null,882,883,null,null,null,887,888,null,null,null,null,null,null,null,null,897,898,899,null,null,null,903]
[]
[]
[null,421,null,null,424,null,null,null,null,429,430,431,null,null,null,null,null,null,null,439,null,null,null,null,444,445,446,null,null,null,null,451,null,453,null,455]
[]
[null,491,492,493,494,null,null,null,null,499,null,null,502,null,null,null,null,null,508,509,510,null,512,null,null,null,516,null,null,519,null,null,522,null,524,525]
[]
[null,null,387,388,null,null,391,392,393,394,395,null,null,null,null,400,null,null,null,null,null,406,null,null,409,410,411,null,null,414,415,null,417]
[null,71,72,null,null,null,null,77,null,79,null,81,82,83,84,85,null,87,null,89,90,null,null,null,null,null,null,null,null,null,null,null,102,103,104]
[null,666,null,null,null,670,671,null,null,null,null,null,null,null,679,680,null,682,null,684,null,null,null,688,null,690,691,null,null,null,695,696,null,null,699]
[null,null,142,null,144,145,146,147,null,null,null,151,null,null,154,155,null,157,null,null,160,null,null,null,null,null,null,null,null,169,null,171,172]
[null,null,null,null,null,null,741,null,null,null,null,null,null,null,null,null,null,null,null,null,null,null,null,758,null,null,null,762,null,null,null,766,767,null,769,770]
[null,211,212,null,null,215,null,217,null,219,220,null,222,223,224,null,null,227,null,null,null,null,null,233,null,null,236,null,null,null,null,null,null,243]
[null,806,807,808,null,null,811,null,null,814,815,816,null,818,819,null,821,null,823,null,825,826,null,null,null,830,null,832,833,834,835,null,837,838]
[null,null,282,283,284,285,null,null,288,null,290,291,292,293,294,295,null,297,298,null,300,301,null,303,null,305,306,null,308,309,310,311,312,313,null,315]
[null,876,null,878,879,null,881,null,null,884,885,886,887,null,889,890,null,null,893,894,895,896,897,898,899,null,null,902,null,904,905,906,907,null,909,910]
[null,null,352,353,354,null,null,null,null,359,null,361,362,363,null,365,366,null,368,null,null,371,372,373,374,375,376,null,null,null,null,381,382,null,384]
[null,null,null,948,null,950,951,null,953,null,null,956,957,null,959,null,null,962,963,964,965,966,null,null,969,970,971,null,null,null,975,976,null,null,null,980]
[null,null,null,null,null,null,426,null,null,null,null,null,null,433,null,null,null,437,null,null,null,null,null,null,null,445,null,null,448,null,null,451,452,453,null,455]
[]
[]
[null,null,null,null,null,null,null,null,null,null,"Rt - Griff Arr Rechtbank (20)","Rt - Griff Arr Rechtbank (20)","Rt - Griff Arr Rechtbank (20)","Rt - Griff Arr Rechtbank (20)","Rt - Griff Arr Rechtbank (20)","Rt - Griff Arr Rechtbank (20)","Rt - Griff Arr Rechtbank (20)","Rt - Griff Arr Rechtbank (20)","Rt - Griff Arr Rechtbank (20)","Rt - Griff Arr Rechtbank (20)","Rt - Griff Arr Rechtbank (20)","Rt - Griff Arr Rechtbank (20)","Rt - Griff Arr Rechtbank (20)","Rt - Griff Arr Rechtbank (20)","Rt - Griff Arr Rechtbank (20)","Rt - Griff Arr Rechtbank (20)","Rt - Griff Arr Rechtbank (20)"]
[null,561,562,null,null,565,566,null,568,569,null,null,null,null,null,null,null,null,null,null,null,null,null,null,null,585,null,null,null,589,null,591]
[null,null,2,3,4,5,6,7,8,9,10,11,12,null,null,15,null,null,18,null,20,null,null,null,24,25,null,27,28,29,30,null,null,33,34]
[null,666,667,668,669,null,671,null,673,null,675,676,null,678,null,null,681,null,683,null,685,null,null,null,null,690,null,null,null,null,null,null,null,698,699,700]
[null,141,null,null,null,null,146,null,null,null,null,null,null,153,154,null,null,null,null,null,null,null,162,163,164,165,null,167,168,null,null,null,null,null,null,175]
[null,736,null,738,null,null,null,742,null,744,745,746,747,null,null,null,null,null,null,null,null,756,null,null,null,null,null,762,763,null,null,null,767,null,769]
[null,null,null,null,null,215,null,null,null,null,null,null,222]
[null,null,null,null,null,null,null,null,null,null,null,null,null,null,null,null,null,null,null,null,null,null,null,null,null,null,null,null,833]
[null,null,282,null,284,285,null,287,288,null,null,null,null,null,null,null,null,297,298,299,null,null,302,null,304,null,306,null,308,309,null,311,312,313]
[null,null,877,null,null,null,881,null,null,null,null,null,null,888,889,890,null,892,null,null,895,null,null,null,null,900,901,null,903,null,905,null,null,null,null,910]
[null,351,352,353,null,355,356,357,358,359,360,null,362,363,364,365,366,367,368,null,370,371,372,null,374,375,376,null,378,null,null,381,382,383,null,385]
[null,946,947,948,949,950,null,null,953,954,955,956,957,958,null,960,null,962,null,964,null,966,967,null,null,null,971,972,null,974,975,null,977,978,979,980]
[null,421,422,null,424,425,null,null,null,429,null,null,432,null,null,null,null,437,null,null,null,null,442,443,444,445,null,null,448,449,450,451,452]
[]
[null,null,null,null,null,495,496,497,498,499,null,null,502,null,null,null,null,507,508,null,null,null,null,null,null,null,null,null,null,519,null,null,null,null,524]
[]
[null,null,null,null,564,565,566,null,null,null,570,null,null,null,574,575,null,577,578,null,580,581,null,null,584,585,null,null,null,null,null,null,null,593,594]
[null,null,37,null,null,40,41,null,null,null,null,null,47,48,49,null,51,null,null,null,null,null,57,null,null,60,61,null,null,null,65,null,67,null,null,70]
[null,null,737,738,null,null,null,null,743,null,null,746,null,null,null,null,null,752,null,754,null,null,null,null,759,null,761,null,null,null,null,766]
[null,null,null,143,null,null,146,null,null,149,null,null,152,null,null,null,156,null,158,159,null,null,null,null,164,165,166,null,168,null,null,171,null,null,174,175]
[null,736,null,738,null,null,null,null,null,744,null,null,null,748,null,null,null,752,null,754,null,null,null,null,759,null,null,null,null,null,null,null,null,768]
[null,null,null,null,null,null,null,null,null,null,null,null,null,null,null,null,633]
[]
[null,null,null,null,null,null,null,null,null,null,null,null,null,500,581]
[]
[null,351,null,null,354,null,356,357,null,359,null,361,362,null,364,null,null,367,368,369,null,null,372,null,374,null,null,377,null,379,380,null,null,383,null,385]
[null,null,947,948,949,null,null,952,null,null,955,956,957,958,null,960,961,962,null,null,965,null,null,968,null,null,null,null,null,null,975,null,null,null,979]
[null,null,null,423,null,null,null,427,null,null,430,431,432,null,null,null,null,null,438,null,null,441,null,null,444,445,446,447,448,null,null,451,452]
[]
[null,491,null,493,null,null,null,null,498,499,500,501,null,503,null,null,506,507,508,null,510,511,512,null,514,515,null,null,null,519,null,null,null,523]
[]
[null,561,null,null,564,null,null,null,568,null,null,571,572,573,574,null,576,null,578,null,null,null,582,null,584,585,586,null,null,589,590,591,592,593,null,595]
[null,null,null,null,null,null,41,null,null,null,45,46,null,null,null,null,51,52,null,null,null,56,57,null,null,null,null,62,null,64,65]
[null,null,632,null,null,635,null,null,638,639,640,null,null,null,null,645,null,null,null,null,650,null,null,null,654,null,null,null,null,null,null,null,662,663,null,665]
[null,null,null,108,109,null,null,null,null,null,115,null,117,118,null,null,null,122,123,null,null,126,127,null,null,130,null,132,null,null,null,null,null,null,139]
[null,null,null,null,null,null,null,742,null,null,null,746]
[null,null,212,null,null,215,216,null,null,219,220,null,null,null,null,225,null,null,null,null,230,231,232,null,null,null,236,null,238,null,240,null,null,null,244,245]
[null,null,807,null,null,null,811,null,null,null,815,null,817,null,null,null,null,null,null,null,null,null,null,null,829,null,null,832,null,null,835,null,null,null,839,840]
[null,null,null,283,284,null,null,287,null,289,290,null,null,293,null,295,null,null,null,299,300,301,302,303,304,305,306,null,null,null,310,311,312,313,314,315]
[null,null,null,878,null,null,881,null,null,null,null,null,887,888,889,890,891,892,null,null,null,896,null,null,899,900,null,902,903,null,905]
[null,null,null,null,null,null,356,null,358,null,null,null,362,363,null,null,null,null,null,null,370,null,null,null,null,null,376,null,null,null,380,381,382]
[null,null,947,948,949,null,null,null,null,null,955,null,957,958,null,null,null,null,null,null,null,966,967,968,969,null,null,972,null,974,975,null,null,null,null,980]
[null,421,422,null,424,425,426,427,428,null,null,431,432,433,434,435,null,437,null,439,440,null,null,443,444,null,446,447,null,449,null,null,null,453,null,455]
[]
[null,null,null,493,null,null,null,null,null,null,null,null,null,null,null,505,null,null,508,null,null,null,null,513,null,null,null,517,null,null,null,null,522,null,524]
[]
[null,null,562,563,564,565,null,567,null,null,570,571,null,573,574,575,null,577,null,null,null,581,null,583,null,585,586,null,588,null,590,591,null,593,null,595]
[null,36,null,null,null,40,41,null,43,null,45,null,47,48,49,null,51,null,53,null,55,null,57,58,null,null,null,null,null,64,65,null,67,null,null,70]
[null,null,632,633,634,null,636,637,638,639,null,null,null,null,null,645,646,null,648,null,650,null,null,null,654,655,656,657,658,null,null,null,662]
[null,null,107,null,null,null,null,null,null,null,115,116,null,null,119,null,null,122,null,null,null,null,null,null,null,null,131,132,133,null,135,136,137,null,139,140]
[null,null,702,703,704,null,706,null,708,null,710,711,712,null,null,715,716,717,718,719,720,721,null,723,724,null,null,null,null,729,null,731,732,null,734]
[null,351,null,353,null,355,356,357,null,null,360,null,null,null,null,365,366,367,368,null,370,null,null,373,374,null,null,null,null,null,380,381,null,383,384,385]
[null,806,null,808,809,810,811,null,null,null,null,null,null,null,null,null,821,822,null,null,825,null,null,null,null,830,null,null,833,null,835,null,837,null,839,840]
[null,null,null,null,284,285,null,null,288,289,null,291,null,293,null,295,null,297,null,null,null,null,null,303,304,305,null,307,308,309,310,null,312,313,null,315]
[null,null,null,878,null,null,null,null,null,884,885,886,887,888,889,null,891,892,null,894,null,null,897,898,null,null,901,null,null,null,905]
[null,351,null,null,null,null,null,null,null,null,360,null,null,null,null,365,null,367,null,null,370,371,372,null,374,null,null,377,null,null,null,null,null,383,384]
[null,null,null,null,null,950,null,null,953,null,null,956,957,null,null,null,961,null,null,null,965,null,null,null,null,null,null,972,null,974]
[null,null,null,null,424,null,426,null,428,null,430,431,null,null,null,435,null,null,null,439,null,441,null,null,null,445,null,447,448,null,null,null,null,null,454]
[]
[]
[]
[null,null,null,null,null,null,566,null,null,null,null,null,null,null,null,null,null,null,578,null,null,null,582,null,584,null,null,null,null,null,null,591,592,null,null,595]
[null,36,37,38,null,40,null,42,null,null,null,null,null,48,null,50,null,null,null,null,null,56,null,58,59,60,null,62,null,64,65,null,67,null,69,70]
[null,null,632,633,634,635,636,637,638,639,640,null,642,643,644,null,null,null,648,649,650,null,null,653,null,655,656,657,null,659,660,661,662,663,null,665]
[null,null,null,null,109,null,null,null,null,null,115,null,null,null,null,null,null,null,null,null,null,null,null,null,null,null,131,null,null,null,null,136,null,null,null,140]
[]
[null,null,null,null,null,null,null,null,null,null,303,314,319,333,334,338,339,346,349,352,364]
[]
[null,null,null,null,null,null,null,182,183,null,185,null,187,null,null,null,null,null,null,null,195,null,null,null,null,null,null,null,null,204,null,null,null,null,null,210]
[null,876,877,null,null,880,null,882,null,null,null,null,null,null,null,890,891,null,null,null,null,null,null,null,null,null,null,null,null,null,null,null,907]
[null,null,null,null,354,355,null,null,358,359,360,361,null,363,364,365,366,367,368,369,null,null,372,null,null,375,376,377,null,379,null,null,null,383,384]
[null,null,947,948,949,null,null,952,null,null,955,956,957,958,959,null,null,962,null,null,965,null,967,null,null,null,null,null,973,null,975,null,977,null,979]
[null,421,null,423,424,425,null,427,428,null,null,null,null,433,434,435,null,437,438,null,null,null,null,null,444,null,446,null,448,449,450,null,null,null,454,455]
[]
[]
[]
[null,null,null,null,null,565,null,null,null,null,570,null,572,null,null,null,null,null,578,null,580,null,null,null,584,null,null,587,null,589,null,null,592,593,null,595]
[]
[null,null,null,null,null,null,null,null,null,null,null,null,null,null,null,null,null,null,648,null,650,null,null,null,null,null,null,null,null,null,null,null,null,663,null,665]
[null,null,null,108,null,null,null,null,null,114,null,null,null,null,null,null,null,null,123,124,null,null,null,null,null,null,131,132,133,null,null,136,137]
[null,null,702,null,null,705,706,707,708,709,710,null,null,713,714,null,716,717,null,719,null,721,null,null,724,725,null,727,728,null,730,null,732,null,734,735]
[null,null,null,178,179,null,null,null,null,184,185,186,null,null,null,null,null,192,null,null,195,196,null,null,null,null,null,null,null,null,205,206]
[null,771,null,773,null,null,776,777,null,null,780,null,null,783,null,785,null,787,null,null,null,null,null,null,794,null,null,null,null,null,null,801,null,null,804]
[null,null,null,null,null,null,null,null,null,null,null,401,405,407,412,414,416,439,449,468,485,486]
[]
[null,null,null,null,null,null,null,null,null,709,710,712,715,717,732,740,756,760,761,764,770,776,782,784,787,790,792,793]
[]
[null,421,null,null,424,425,null,null,428,null,null,null,null,433,null,null,null,null,null,null,null,null,null,null,null,null,null,null,null,null,450]
[]
[null,null,null,null,494,null,null,null,null,null,null,null,null,503,504,505,null,507,null,null,510,511,512,513,514,null,null,517,null,519,520,521,522,523]
[]
[]
[null,null,null,null,null,null,null,42,null,44,null,null,null,null,49,null,null,52,null,null,55,56,null,58]
[]
[null,106,null,108,null,null,null,112,null,null,null,116,null,null,null,null,121,null,123,124,null,null,null,128,null,130,null,null,null,null,135,null,137]
[]
[null,null,null,null,null,180,null,null,183,184,185,null,null,null,null,null,null,192,null,null,null,196,null,198,null,200,null,202,null,null,205]
[]
[null,null,247,null,null,null,null,null,253,254,null,null,null,258,null,260,null,null,null,264,null,null,null,null,269,null,null,null,null,null,275,null,null,null,279,280]
[null,null,null,null,844,845,null,null,848,null,850,851,null,null,null,null,null,null,858,null,null,null,null,null,null,null,866,867]
[]
[]
[null,421,null,null,null,425,null,427,null,null,null,null,null,433,434,435,null,null,null,null,440,null,null,443,444,445,null,null,null,null,450,null,452,453,null,455]
[]
[]
[null,null,null,null,null,null,null,null,null,null,null,null,null,null,null,null,null,null,null,null,null,null,null,null,null,null,null,"controle"]
[]
[]
[null,null,null,null,null,null,null,637,null,null,null,null,null,643,null,null,null,647,null,null,null,null,null,653,null,655,null,null,null,659,null,661,null,663]
[null,null,null,null,null,null,null,null,null,null,102,105,111,119,121,122,136,137,139,147,148,170,171,175,187,195]
[null,701,702,703,null,null,null,null,null,null,710,null,null,null,null,null,null,null,null,719,null,null,null,null,null,725]
[null,null,null,null,null,null,313,318,325,326,339,349,353,357,359,366,367,371,374,381,385,387,389,395,399]
[]
[null,246,null,248,249,250,null,null,null,null,255,256,null,null,null,null,261,262,null,null,null,266,null,null,null,270,null,272,273,null,275,276,null,null,null,280]
[]
[null,null,null,null,319,null,null,null,323,null,null,null,null,328,null,null,null,null,333,null,null,null,null,null,null,null,null,342,null,null,null,null,null,null,349]
[null,911,null,null,null,null,null,null,null,null,null,null,null,null,null,null,null,null,null,null,null,null,null,null,null,null,null,937]
[]
[]
[]
[]
[]
[]
[]
[null,null,null,108,null,110,111,null,null,114,null,null,null,null,119,null,null,null,null,null,125,null,null,null,129,null,131,132,133,134,null,null,null,null,null,140]
[]
[null,null,null,null,null,null,null,null,301,308,311,318,321,325,327,333,null,356,null,381,385,null,398]
[null,771,772,773,774,775,776,777,778,779,780,781,782,783,784,785,786,787,788,789,790,791,792,793,794,795,796,797,798,799,800,801,802,803,804,805]
[null,null,null,null,null,null,null,null,null,null,null,null,null,null,null,null,4]
[null,841,842,843,844,845,846,847,848,849,850,851,852,853,854,855,856,857,858,859,860,861,862,863,864,865,866,867,868,869,870,871,872,873,874,875]
[null,316,317,318,319,320,321,322,323,324,325,326,327,328,329,330,331,332,333,334,335,336,337,338,339,340,341,342,343,344,345,346,347,348,349,350]
[null,911,912,913,914,915,916,917,918,919,920,921,922,923,924,925,926,927,928,929,930,931,932,933,934,935,936,937,938,939,940,941,942,943,944,945]
[null,386,387,388,389,390,391,392,393,394,395,396,397,398,399,400,401,402,403,404,405,406,407,408,409,410,411,412,413,414,415,416,417,418,419,420]
[]
[null,491,492,493,494,495,496,497,498,499,500,501,502,503,504,505,506,507,508,509,510,511,512,513,514,515,516,517,518,519,520,521,522,523,524,525]
[null,null,null,null,null,null,null,null,null,null,"Gv - Insp Dir Bel (26)","Gv - Insp Dir Bel (26)","Gv - Insp Dir Bel (26)","Gv - Insp Dir Bel (26)","Gv - Insp Dir Bel (26)","Gv - Insp Dir Bel (26)","Gv - Insp Dir Bel (26)","Gv - Insp Dir Bel (26)","Gv - Insp Dir Bel (26)","Gv - Insp Dir Bel (26)","Gv - Insp Dir Bel (26)","Gv - Insp Dir Bel (26)","Gv - Insp Dir Bel (26)","Gv - Insp Dir Bel (26)","Gv - Insp Dir Bel (26)","Gv - Insp Dir Bel (26)","Gv - Insp Dir Bel (26)"]
[null,561,562,563,564,565,566,567,568,569,570,571,572,573,574,575,576,577,578,579,580,581,582,583,584,585,586,587,588,589,590,591,592,593,594,595]
[null,36,37,38,39,40,41,42,43,44,45,46,47,48,49,50,51,52,53,54,55,56,57,58,59,60,61,62,63,64,65,66,67,68,69,70]
[null,631,632,633,634,635,636,637,638,639,640,641,642,643,644,645,646,647,648,649,650,651,652,653,654,655,656,657,658,659,660,661,662,663,664,665]
[null,106,107,108,109,110,111,112,113,114,115,116,117,118,119,120,121,122,123,124,125,126,127,128,129,130,131,132,133,134,135,136,137,138,139,140]
[null,701,702,703,704,705,706,707,708,709,710,711,712,713,714,715,716,717,718,719,720,721,722,723,724,725,726,727,728,729,730,731,732,733,734,735]
[null,176,177,178,179,180,181,182,183,184,185,186,187,188,189,190,191,192,193,194,195,196,197,198,199,200,201,202,203,204,205,206,207,208,209,210]
[null,771,772,773,774,775,776,777,778,779,780,781,782,783,784,785,786,787,788,789,790,791,792,793,794,795,796,797,798,799,800,801,802,803,804,805]
[null,246,247,248,249,250,251,252,253,254,255,256,257,258,259,260,261,262,263,264,265,266,267,268,269,270,271,272,273,274,275,276,277,278,279,280]
[null,841,842,843,844,845,846,847,848,849,850,851,852,853,854,855,856,857,858,859,860,861,862,863,864,865,866,867,868,869,870,871,872,873,874,875]
[null,316,317,318,319,320,321,322,323,324,325,326,327,328,329,330,331,332,333,334,335,336,337,338,339,340,341,342,343,344,345,346,347,348,349,350]
[null,911,912,913,914,915,916,917,918,919,920,921,922,923,924,925,926,927,928,929,930,931,932,933,934,935,936,937,938,939,940,941,942,943,944,945]
[null,null,null,null,null,null,null,null,null,null,null,304,307,318,320,323,340,349,350,357,363,376,379,387,391]
[]
[null,456,457,458,459,460,461,462,463,464,465,466,467,468,469,470,471,472,473,474,475,476,477,478,479,480,481,482,483,484,485,486,487,488,489,490]
[null,106,107,108,109,110,111,112,113,114,115,116,117,118,119,120,121,122,123,124,125,126,127,128,129,130,131,132,133,134,135,136,137,138,139,140]
[null,561,562,563,564,565,566,567,568,569,570,571,572,573,574,575,576,577,578,579,580,581,582,583,584,585,586,587,588,589,590,591,592,593,594,595]
[null,36,37,38,39,40,41,42,43,44,45,46,47,48,49,50,51,52,53,54,55,56,57,58,59,60,61,62,63,64,65,66,67,68,69,70]
[null,631,632,633,634,635,636,637,638,639,640,641,642,643,644,645,646,647,648,649,650,651,652,653,654,655,656,657,658,659,660,661,662,663,664,665]
[null,106,107,108,109,110,111,112,113,114,115,116,117,118,119,120,121,122,123,124,125,126,127,128,129,130,131,132,133,134,135,136,137,138,139,140]
[null,701,702,703,704,705,706,707,708,709,710,711,712,713,714,715,716,717,718,719,720,721,722,723,724,725,726,727,728,729,730,731,732,733,734,735]
[null,176,177,178,179,180,null,182,183,184,185,186,187,188,null,190,191,192,193,194,195,196,197,198,199,200,201,null,203,204,205,206,207,208,209,210]
[null,771,772,773,774,775,776,777,778,779,780,781,782,783,784,785,786,787,788,789,790,791,792,793,794,795,796,797,798,799,800,801,802,803,804,805]
[null,246,247,248,249,250,251,252,253,254,255,256,257,258,259,260,261,262,263,264,265,266,267,268,269,270,271,272,273,274,275,276,277,278,279,280]
[null,841,842,843,844,845,846,847,848,849,850,851,852,853,854,855,856,857,858,859,860,861,862,863,864,865,866,867,868,869,870,871,872,873,874,875]
[null,316,317,318,319,320,321,322,323,324,325,326,327,328,329,330,331,332,333,334,335,336,337,338,339,340,341,342,343,344,345,346,347,348,349,350]
[]
[null,null,null,null,null,null,null,null,null,null,null,null,null,436,448,452]
[null,null,982,null,null,null,986,null,null,null,null,null,null,null,null,null,996,null,998,999]
[null,456,457,458,459,460,461,462,463,464,465,466,467,468,469,470,471,472,473,474,475,476,477,478,479,480,481,482,483,484,485,486,487,488,489,490]
[null,"Terug",null,null,null,null,null,null,null,null,"Ht - Kerkstraat",null,null,null,null,null,null,null,null,null,null,null,null,null,null,null,null,null,null,{"$f":"SUMPRODUCT((MOD(B13571:AJ13599,100)=0)*(B13571:AJ13599<1000)*(B13571:AJ13599<>\"\"))","v":9},null,"MANCO:",null,{"$f":"COUNT(B13571:AJ13599)","v":1000}]
[null,876,877,878,879,880,881,882,883,884,885,886,887,888,889,890,891,892,893,894,895,896,897,898,899,900,901,902,903,904,905,906,907,908,909,910]
[null,36,37,38,39,40,41,42,43,44,45,46,47,48,49,50,51,52,53,54,55,56,57,58,59,60,61,62,63,64,65,66,67,68,69,70]
[]
[]
[]
[null,176,177,178,179,180,181,182,183,184,185,186,187,188,189,190,191,192,193,194,195,196,197,198,199,200,201,202,203,204,205,206,207,208,209,210]
[null,771,772,773,774,775,776,777,778,779,780,781,782,783,784,785,786,787,788,789,790,791,792,793,794,795,796,797,798,799,800,801,802,803,804,805]
[null,246,247,248,249,250,251,252,253,254,255,256,257,258,259,260,261,262,263,264,265,266,267,268,269,270,271,272,273,274,275,276,277,278,279,280]
[null,841,842,843,844,845,846,847,848,849,850,851,852,853,854,855,856,857,858,859,860,861,862,863,864,865,866,867,868,869,870,871,872,873,874,875]
[null,316,317,318,319,320,321,322,323,324,325,326,327,328,329,330,331,332,333,334,335,336,337,338,339,340,341,342,343,344,345,346,347,348,349,350]
[null,911,912,913,914,915,916,917,918,919,920,921,922,923,924,925,926,927,928,929,930,931,932,933,934,935,936,937,938,939,940,941,942,943,944,945]
[null,386,387,388,389,390,391,392,393,394,395,396,397,398,399,400,401,402,403,404,405,406,407,408,409,410,411,412,413,414,415,416,417,418,419,420]
[null,981,982,983,984,985,986,987,988,989,990,991,992,993,994,995,996,997,998,999,1000]
[null,456,457,458,459,460,461,462,463,464,465,466,467,468,469,470,471,472,473,474,475,476,477,478,479,480,481,482,483,484,485,486,487,488,489,490]
[null,"Terug",null,null,null,null,null,null,null,null,"Hoevelaken",null,null,null,null,null,null,null,null,null,null,null,null,null,null,null,null,null,null,{"$f":"SUMPRODUCT((MOD(B14051:AJ14079,100)=0)*(B14051:AJ14079<1000)*(B14051:AJ14079<>\"\"))","v":9},null,"MANCO:",null,{"$f":"COUNT(B14051:AJ14079)","v":1000}]
[null,526,527,528,529,530,531,532,533,534,535,536,537,538,539,540,541,542,543,544,545,546,547,548,549,550,551,552,553,554,555,556,557,558,559,560]
[null,491,492,493,494,495,496,497,498,499,500,501,502,503,504,505,506,507,508,509,510,511,512,513,514,515,516,517,518,519,520,521,522,523,524,525]
[null,631,null,null,634,null,636,null,null,null,640,null,null,null,null,645,null,null,null,null,null,null,null,null,null,null,null,null,null,null,null,661]
[null,106,107,108,109,110,111,112,113,114,115,116,117,118,119,120,121,122,123,124,125,126,127,128,129,130,131,132,133,134,135,136,137,138,139,140]
[null,701,702,703,704,705,706,707,708,709,710,711,712,713,714,715,716,717,718,719,720,721,722,723,724,725,726,727,728,729,730,731,732,733,734,735]
[]
[null,null,772,773,774,null,776,777,778,779,780,781,782,null,784,785,786,787,null,789,790,791,792,793,794,795,796,797,798,799,800,801,802,803,804,805]
[null,246,247,248,249,250,251,252,253,254,255,256,257,258,259,260,261,262,263,264,265,266,267,268,269,270,271,272,273,274,275,276,277,278,279,280]
[null,841,842,843,844,845,846,847,848,849,850,851,852,853,854,855,856,857,858,859,860,861,862,863,864,865,866,867,868,869,870,871,872,873,874,875]
[null,316,317,318,319,320,321,322,323,324,325,326,327,328,329,330,331,332,333,334,335,336,337,338,339,340,341,342,343,344,345,346,347,348,349,350]
[null,911,912,913,914,915,916,917,918,919,920,921,922,923,924,925,926,927,928,929,930,931,932,933,934,935,936,937,938,939,940,941,942,943,944,945]
[null,386,387,388,389,390,391,392,393,394,395,396,397,398,399,400,401,402,403,404,405,406,407,408,409,410,411,412,413,414,415,416,417,418,419,420]
[null,981,982,983,984,985,986,987,988,989,990,991,992,993,994,995,996,997,998,999,1000]
[null,456,457,458,459,460,461,462,463,464,465,466,467,468,469,470,471,472,473,474,475,476,477,478,479,480,481,482,483,484,485,486,487,488,489,490]
[null,"Terug",null,null,null,null,null,null,null,null,"Kapelle",null,null,null,null,null,null,null,null,null,null,null,null,null,null,null,null,null,null,{"$f":"SUMPRODUCT((MOD(B14563:AJ14591,100)=0)*(B14563:AJ14591<1000)*(B14563:AJ14591<>\"\"))","v":9},null,"MANCO:",null,{"$f":"COUNT(B14563:AJ14591)","v":1000}]
[null,526,527,528,529,530,531,532,533,534,535,536,537,538,539,540,541,542,543,544,545,546,547,548,549,550,551,552,553,554,555,556,557,558,559,560]
[null,1,2,3,4,5,6,7,8,9,10,11,12,13,14,15,16,17,18,19,20,21,22,23,24,25,26,27,28,29,30,31,32,33,34,35]
[null,596,597,null,599,600,601,602,603,604,605,606,607,608,609,610,611,612,613,null,615,616,617,618,619,620,621,622,623,624,625,626,627,628,629,630]
[null,316,317,318,319,320,321,322,323,324,325,326,327,328,329,330,331,332,333,334,335,336,337,338,339,340,341,342,343,344,345,346,347,348,349,350]
[null,701,702,703,704,705,706,707,708,709,710,711,712,713,714,715,716,717,718,719,720,721,722,723,724,725,726,727,728,729,730,731,732,733,734,735]
[null,176,177,178,179,180,181,182,183,184,185,186,187,188,189,190,191,192,193,194,195,196,197,198,199,200,201,202,203,204,205,206,207,208,209,210]
[null,771,772,773,774,775,776,777,778,779,780,781,782,783,784,785,786,787,788,789,790,791,792,793,794,795,796,797,798,799,800,801,802,803,804,805]
[null,246,247,248,249,250,251,252,253,254,255,256,257,258,259,260,261,262,263,264,265,266,267,268,269,270,271,272,273,274,275,276,277,278,279,280]
[null,null,null,null,844]
[null,316,317,318,319,320,321,322,323,324,325,326,327,328,329,330,331,332,333,334,335,336,337,338,339,340,341,342,343,344,345,346,347,348,349,350]
[]
[null,386,387,388,389,390,391,392,393,394,395,396,397,398,399,400,401,402,403,404,405,406,407,408,409,410,411,412,413,414,415,416,417,418,419,420]
[null,981,982,983,984,985,986,987,988,989,990,991,992,993,994,995,996,997,998,999,1000]
[null,456,457,458,459,460,461,462,463,464,465,466,467,468,469,470,471,472,473,474,475,476,477,478,479,480,481,482,483,484,485,486,487,488,489,490]
[null,"Terug",null,null,null,null,null,null,null,null,"Leiden (1)",null,null,null,null,null,null,null,null,null,null,null,null,null,null,null,null,null,null,{"$f":"SUMPRODUCT((MOD(B15043:AJ15071,100)=0)*(B15043:AJ15071<1000)*(B15043:AJ15071<>\"\"))","v":9},null,"MANCO:",null,{"$f":"COUNT(B15043:AJ15071)","v":1000}]
[null,526,527,528,529,530,531,532,533,534,535,536,537,538,539,540,541,542,543,544,545,546,547,548,549,550,551,552,553,554,555,556,557,558,559,560]
[null,1,2,3,4,5,6,7,8,9,10,11,12,13,14,15,16,17,18,19,20,21,22,23,24,25,26,27,28,29,30,31,32,33,34,35]
[null,596,597,598,599,600,601,602,603,604,605,606,607,608,609,610,611,612,613,614,615,616,617,618,619,620,621,622,623,624,625,626,627,628,629,630]
[null,71,72,73,74,75,76,77,78,79,80,81,82,83,84,85,86,87,88,89,90,91,92,93,94,95,96,97,98,99,100,101,102,103,104,105]
[]
[null,176,177,178,179,180,181,182,183,184,185,186,187,188,189,190,191,192,193,194,195,196,197,198,199,200,201,202,203,204,205,206,207,208,209,210]
[null,771,772,773,774,775,776,777,778,779,780,781,782,783,784,785,786,787,788,789,790,791,792,793,794,795,796,797,798,799,800,801,802,803,804,805]
[null,246,247,248,249,250,251,252,253,254,255,256,257,258,259,260,261,262,263,264,265,266,267,268,269,270,271,272,273,274,275,276,277,278,279,280]
[null,841,842,null,844,null,null,847,null,null,850,null,null,853,854,null,856,857,null,859,null,861,862,863,864,865,null,867,null,869,870,871,null,null,874]
[null,316,317,318,319,320,321,322,323,324,325,326,327,328,329,330,331,332,333,334,335,336,337,338,339,340,341,342,343,344,345,346,347,348,349,350]
[null,911,912,913,914,915,916,917,918,919,920,921,922,923,924,925,926,927,928,929,930,931,932,933,934,935,936,937,938,939,940,941,942,943,944,945]
[null,386,387,388,389,390,391,392,393,394,395,396,397,398,399,400,401,402,403,404,405,406,407,408,409,410,411,412,413,414,415,416,417,418,419,420]
[null,981,982,983,984,985,986,987,988,989,990,991,992,993,994,995,996,997,998,999,1000]
[null,456,457,458,459,460,461,462,463,464,465,466,467,468,469,470,471,472,473,474,475,476,477,478,479,480,481,482,483,484,485,486,487,488,489,490]
[null,"Terug",null,null,null,null,null,null,null,null,"De Lier",null,null,null,null,null,null,null,null,null,null,null,null,null,null,null,null,null,null,{"$f":"SUMPRODUCT((MOD(B15523:AJ15551,100)=0)*(B15523:AJ15551<1000)*(B15523:AJ15551<>\"\"))","v":9},null,"MANCO:",null,{"$f":"COUNT(B15523:AJ15551)","v":1000}]
[null,526,527,528,529,530,531,532,533,534,535,536,537,538,539,540,541,542,543,544,545,546,547,548,549,550,551,552,553,554,555,556,557,558,559,560]
[null,1,2,3,4,5,6,7,8,9,10,11,12,13,14,15,16,17,18,19,20,21,22,23,24,25,26,27,28,29,30,31,32,33,34,35]
[null,596,597,598,599,600,601,602,603,604,605,606,607,608,609,610,611,612,613,614,615,616,617,618,619,620,621,622,623,624,625,626,627,628,629,630]
[null,71,72,73,74,75,76,77,78,79,80,81,82,83,84,85,86,87,88,89,90,91,92,93,94,95,96,97,98,99,100,101,102,103,104,105]
[null,666,667,668,669,670,671,672,673,674,675,676,677,678,679,680,681,682,683,684,685,686,687,688,689,690,691,692,693,694,695,696,697,698,699,700]
[null,null,142,143,144,145,146,147,148,null,150,151,152,153,154,155,156,157,158,159,160,161,162,163,164,165,null,167,168,169,170,171,172,173,174,175]
[null,"Terug",null,null,null,null,null,null,null,null,"Maarn",null,null,null,null,null,null,null,null,null,null,null,null,null,null,null,null,null,null,{"$f":"SUMPRODUCT((MOD(B15747:AJ15775,100)=0)*(B15747:AJ15775<1000)*(B15747:AJ15775<>\"\"))","v":9},null,"MANCO:",null,{"$f":"COUNT(B15747:AJ15775)","v":1000}]
[null,246,247,248,249,250,251,252,253,254,255,256,257,258,259,260,261,262,263,264,265,266,267,268,269,270,271,272,273,274,275,276,277,278,279,280]
[null,841,842,843,844,845,846,847,848,849,850,851,852,853,854,855,856,857,858,859,860,861,862,863,864,865,866,867,868,869,870,871,872,873,874,875]
[null,316,317,318,319,320,321,322,323,324,325,326,327,328,329,330,331,332,333,334,335,336,337,338,339,340,341,342,343,344,345,346,347,348,349,350]
[null,911,912,913,914,915,916,917,918,919,920,921,922,923,924,925,926,927,928,929,930,931,932,933,934,935,936,937,938,939,940,941,942,943,944,945]
[null,386,387,388,389,390,391,392,393,394,395,396,397,398,399,400,401,402,403,404,405,406,407,408,409,410,411,412,413,414,415,416,417,418,419,420]
[null,981,982,983,984,985,986,987,988,989,990,991,992,993,994,995,996,997,998,999,1000]
[null,456,457,458,459,460,461,462,463,464,465,466,467,468,469,470,471,472,473,474,475,476,477,478,479,480,481,482,483,484,485,486,487,488,489,490]
[null,"Terug",null,null,null,null,null,null,null,null,"Mss - Rembrandtlaan",null,null,null,null,null,null,null,null,null,null,null,null,null,null,null,null,null,null,{"$f":"SUMPRODUCT((MOD(B16003:AJ16031,100)=0)*(B16003:AJ16031<1000)*(B16003:AJ16031<>\"\"))","v":9},null,"MANCO:",null,{"$f":"COUNT(B16003:AJ16031)","v":1000}]
[null,526,527,528,529,530,531,532,533,534,535,536,537,538,539,540,541,542,543,544,545,546,547,548,549,550,551,552,553,554,555,556,557,558,559,560]
[null,1,2,3,4,5,6,7,8,9,10,11,12,13,14,15,16,17,18,19,20,21,22,23,24,25,26,27,28,29,30,31,32,33,34,35]
[null,596,597,598,599,600,601,602,603,604,605,606,607,608,609,610,611,612,613,614,615,616,617,618,619,620,621,622,623,624,625,626,627,628,629,630]
[null,71,72,73,74,75,76,77,78,79,80,81,82,83,84,85,86,87,88,89,90,91,92,93,94,95,96,97,98,99,100,101,102,103,104,105]
[null,666,667,668,669,670,671,672,673,674,675,676,677,678,679,680,681,682,683,684,685,686,687,688,689,690,691,692,693,694,695,696,697,698,699,700]
[null,141,142,143,144,145,146,147,148,149,150,151,152,153,154,155,156,157,158,159,160,161,162,163,164,165,166,167,168,169,170,171,172,173,174,175]
[null,736,737,738,739,740,741,742,743,744,745,746,747,748,749,750,751,752,753,754,755,756,757,758,759,760,761,762,763,764,765,766,767,768,769,770]
[null,666,667,668,669,670,671,672,673,674,675,676,677,678,679,680,681,682,683,684,685,686,687,688,689,690,691,692,693,694,695,696,697,698,699,700]
[null,841,842,843,844,845,846,847,null,849,850,851,852,853,854,855,856,857,858,859,860,861,862,863,864,865,866,867,868,869,870,871,872,873,874,875]
[null,316,317,318,319,320,321,322,323,324,325,326,327,328,329,330,331,332,333,334,335,336,337,338,339,340,341,342,343,344,345,346,347,348,349,350]
[null,911,912,913,914,915,916,917,918,919,920,921,922,923,924,925,926,927,928,929,930,931,932,933,934,935,936,937,938,939,940,941,942,943,944,945]
[null,386,387,388,389,390,391,392,393,394,395,396,397,398,399,400,401,402,403,404,405,406,407,408,409,410,411,412,413,414,415,416,417,418,419,420]
[null,981,982,983,984,985,986,987,988,989,990,991,992,993,994,995,996,997,998,999,1000]
[null,null,457,458,null,460,461,null,null,464,null,null,null,null,null,null,null,472,473,null,null,476,477,478,479,480,null,482,null,null,485,486,null,488,489]
[null,"Terug",null,null,null,null,null,null,null,null,"Made",null,null,null,null,null,null,null,null,null,null,null,null,null,null,null,null,null,null,{"$f":"SUMPRODUCT((MOD(B16483:AJ16511,100)=0)*(B16483:AJ16511<1000)*(B16483:AJ16511<>\"\"))","v":9},null,"MANCO:",null,{"$f":"COUNT(B16483:AJ16511)","v":1000}]
[null,526,527,528,529,530,531,532,533,534,535,536,537,538,539,540,541,542,543,544,545,546,547,548,549,550,551,552,553,554,555,556,557,558,559,560]
[null,1,2,3,4,5,6,7,8,9,10,11,12,13,14,15,16,17,18,19,20,21,22,23,24,25,26,27,28,29,30,31,32,33,34,35]
[null,596,597,598,599,600,601,602,603,604,605,606,607,608,609,610,611,612,613,614,615,616,617,618,619,620,621,622,623,624,625,626,627,628,629,630]
[null,71,72,73,74,75,76,77,78,79,80,81,82,83,84,85,86,87,88,89,90,91,92,93,94,95,96,97,98,99,100,101,102,103,104,105]
[null,666,667,668,669,670,671,672,673,674,675,676,677,678,679,680,681,682,683,684,685,686,687,688,689,690,691,692,693,694,695,696,697,698,699,700]
[]
[null,736,737,738,739,740,741,742,743,744,745,746,747,748,749,750,751,752,753,754,755,756,757,758,759,760,761,762,763,764,765,766,767,768,769,770]
[]
[null,281,282,283,284,285,286,287,288,289,290,291,292,293,294,295,296,297,298,299,300,301,302,303,304,305,306,307,308,309,310,311,312,313,314,315]
[null,316,317,318,319,320,321,322,323,324,325,326,327,328,329,330,331,332,333,334,335,336,337,338,339,340,341,342,343,344,345,346,347,348,349,350]
[null,911,912,913,914,915,916,917,918,919,920,921,922,923,924,925,926,927,928,929,930,931,932,933,934,935,936,937,938,939,940,941,942,943,944,945]
[null,386,387,388,389,390,391,392,393,394,395,396,397,398,399,400,401,402,403,404,405,406,407,408,409,410,411,412,413,414,415,416,417,418,419,420]
[null,981,982,983,984,985,986,987,988,989,990,991,992,993,994,995,996,997,998,999,1000]
[null,456,457,458,459,460,461,462,463,464,465,466,467,468,469,470,471,472,473,474,475,476,477,478,479,480,481,482,483,484,485,486,487,488,489,490]
[null,"Terug",null,null,null,null,null,null,null,null,"Muntendam",null,null,null,null,null,null,null,null,null,null,null,null,null,null,null,null,null,null,{"$f":"SUMPRODUCT((MOD(B16963:AJ16991,100)=0)*(B16963:AJ16991<1000)*(B16963:AJ16991<>\"\"))","v":9},null,"MANCO:",null,{"$f":"COUNT(B16963:AJ16991)","v":1000}]
[null,526,527,528,529,530,531,532,533,534,535,536,537,538,539,540,541,542,543,544,545,546,547,548,549,550,551,552,553,554,555,556,557,558,559,560]
[null,1,2,3,4,5,6,7,8,9,10,11,12,13,14,15,16,17,18,19,20,21,22,23,24,25,26,27,28,29,30,31,32,33,34,35]
[null,596,597,598,599,600,601,602,603,604,605,606,607,608,609,610,611,612,613,614,615,616,617,618,619,620,621,622,623,624,625,626,627,628,629,630]
[null,71,72,73,74,75,76,77,78,79,80,81,82,83,84,85,86,87,88,89,90,91,92,93,94,95,96,97,98,99,100,101,102,103,104,105]
[null,666,667,668,669,670,671,672,673,674,675,676,677,678,679,680,681,682,683,684,685,686,687,688,689,690,691,692,693,694,695,696,697,698,699,700]
[null,141,142,143,144,145,146,147,148,149,150,151,152,153,154,155,156,157,158,159,160,161,162,163,164,165,166,167,168,169,170,171,172,173,174,175]
[null,736,737,738,739,740,741,742,743,744,745,746,747,748,749,750,751,752,753,754,755,756,757,758,759,760,761,762,763,764,765,766,767,768,769,770]
[null,211,212,213,214,215,216,217,218,219,220,221,222,223,224,225,226,227,228,229,230,231,232,233,234,235,236,237,238,239,240,241,242,243,244,245]
[null,806,807,808,809,810,811,812,813,814,815,816,817,818,819,820,821,822,823,824,825,826,827,828,829,830,831,832,833,834,835,836,837,838,839,840]
[null,281,282,283,284,285,286,287,288,289,290,291,292,293,294,295,296,297,298,299,300,301,302,303,304,305,306,307,308,309,310,311,312,313,314,315]
[null,246,247,248,249,250,251,252,253,254,255,256,257,258,259,260,261,262,263,264,265,266,267,268,269,270,271,272,273,274,275,276,277,278,279,280]
[null,386,387,388,389,390,391,392,393,394,395,396,397,398,399,400,401,402,403,404,405,406,407,408,409,410,411,412,413,414,415,416,417,418,419,420]
[null,981,982,983,984,985,986,987,988,989,990,991,992,993,994,995,996,997,998,999,1000]
[null,456,457,458,459,460,461,462,463,464,465,466,467,468,469,470,471,472,473,474,475,476,477,478,479,480,481,482,483,484,485,486,487,488,489,490]
[null,"Terug",null,null,null,null,null,null,null,null,"Noordwijk (2)",null,null,null,null,null,null,null,null,null,null,null,null,null,null,null,null,null,null,{"$f":"SUMPRODUCT((MOD(B17443:AJ17471,100)=0)*(B17443:AJ17471<1000)*(B17443:AJ17471<>\"\"))","v":9},null,"MANCO:",null,{"$f":"COUNT(B17443:AJ17471)","v":1000}]
[null,526,527,528,529,530,531,532,533,534,535,536,537,538,539,540,541,542,543,544,545,546,547,548,549,550,551,552,553,554,555,556,557,558,559,560]
[null,1,2,3,4,5,6,7,8,9,10,11,12,13,14,15,16,17,18,19,20,21,22,23,24,25,26,27,28,29,30,31,32,33,34,35]
[null,596,597,598,599,600,601,602,603,604,605,606,607,608,609,610,611,612,613,614,615,616,617,618,619,620,621,622,623,624,625,626,627,628,629,630]
[null,71,72,73,74,75,76,77,78,79,80,81,82,83,84,85,86,87,88,89,90,91,92,93,94,95,96,97,98,99,100,101,102,103,104,105]
[null,666,667,668,669,670,671,672,673,674,675,676,677,678,679,680,681,682,683,684,685,686,687,688,689,690,691,692,693,694,695,696,697,698,699,700]
[]
[]
[]
[null,806,807,808,809,810,811,812,813,814,815,816,817,818,819,820,821,822,823,824,825,826,827,828,829,830,831,832,833,834,835,836,837,838,839,840]
[null,281,282,283,284,285,286,287,288,289,290,291,292,293,294,295,296,297,298,299,300,301,302,303,304,305,306,307,308,309,310,311,312,313,314,315]
[null,876,877,878,879,880,881,882,883,884,885,886,887,888,889,890,891,892,893,894,895,896,897,898,899,900,901,902,903,904,905,906,907,908,909,910]
[]
[null,981,982,983,984,985,986,987,988,989,990,991,992,993,994,995,996,997,998,999,1000]
[null,456,457,458,459,460,461,462,463,464,465,466,467,468,469,470,471,472,473,474,475,476,477,478,479,480,481,482,483,484,485,486,487,488,489,490]
[null,"Terug",null,null,null,null,null,null,null,null,"Sint Oedenrode",null,null,null,null,null,null,null,null,null,null,null,null,null,null,null,null,null,null,{"$f":"SUMPRODUCT((MOD(B17923:AJ17951,100)=0)*(B17923:AJ17951<1000)*(B17923:AJ17951<>\"\"))","v":9},null,"MANCO:",null,{"$f":"COUNT(B17923:AJ17951)","v":1000}]
[null,526,527,528,529,530,531,532,533,534,535,536,537,538,539,540,541,542,543,544,545,546,547,548,549,550,551,552,553,554,555,556,557,558,559,560]
[null,1,2,3,4,5,6,7,8,9,10,11,12,13,14,15,16,17,18,19,20,21,22,23,24,25,26,27,28,29,30,31,32,33,34,35]
[null,596,597,598,599,600,601,602,603,604,605,606,607,608,609,610,611,612,613,614,615,616,617,618,619,620,621,622,623,624,625,626,627,628,629,630]
[null,71,72,73,74,75,76,77,78,79,80,81,82,83,84,85,86,87,88,89,90,91,92,93,94,95,96,97,98,99,100,101,102,103,104,105]
[null,666,667,668,669,670,671,672,673,674,675,676,677,678,679,680,681,682,683,684,685,686,687,688,689,690,691,692,693,694,695,696,697,698,699,700]
[null,141,142,143,144,145,146,147,148,149,150,151,152,153,154,155,156,157,158,159,160,161,162,163,164,165,166,167,168,169,170,171,172,173,174,175]
[null,736,737,738,739,740,741,742,743,744,745,746,747,748,749,750,751,752,753,754,755,756,757,758,759,760,761,762,763,764,765,766,767,768,769,770]
[null,211,212,213,214,215,216,217,218,219,220,221,222,223,224,225,226,227,228,229,230,231,232,233,234,235,236,237,238,239,240,241,242,243,244,245]
[null,806,807,808,809,810,811,812,813,814,815,816,817,818,819,820,821,822,823,824,825,826,827,828,829,830,831,832,833,834,835,836,837,838,839,840]
[null,281,282,283,284,285,286,287,288,289,290,291,292,293,294,295,296,297,298,299,300,301,302,303,304,305,306,307,308,309,310,311,312,313,314,315]
[null,876,877,878,879,880,881,882,883,884,885,886,887,888,889,890,891,892,893,894,895,896,897,898,899,900,901,902,903,904,905,906,907,908,909,910]
[null,351,352,353,354,355,356,357,358,359,360,361,362,363,364,365,366,367,368,369,370,371,372,373,374,375,376,377,378,379,380,381,382,383,384,385]
[null,631,632,633,634,635,636,637,638,639,640,641,642,643,644,645,646,647,648,649,650,651,652,653,654,655,656,657,658,659,660,661,662,663,664,665]
[null,456,457,458,459,460,461,462,463,464,465,466,467,468,469,470,471,472,473,474,475,476,477,478,479,480,481,482,483,484,485,486,487,488,489,490]
[null,"Terug",null,null,null,null,null,null,null,null,"Oostzaan",null,null,null,null,null,null,null,null,null,null,null,null,null,null,null,null,null,null,{"$f":"SUMPRODUCT((MOD(B18403:AJ18431,100)=0)*(B18403:AJ18431<1000)*(B18403:AJ18431<>\"\"))","v":9},null,"MANCO:",null,{"$f":"COUNT(B18403:AJ18431)","v":1000}]
[null,526,527,528,529,530,531,532,533,534,535,536,537,538,539,540,541,542,543,544,545,546,547,548,549,550,551,552,553,554,555,556,557,558,559,560]
[null,1,2,3,4,5,6,7,8,9,10,11,12,13,14,15,16,17,18,19,20,21,22,23,24,25,26,27,28,29,30,31,32,33,34,35]
[null,596,597,598,599,600,601,602,603,604,605,606,607,608,609,610,611,612,613,614,615,616,617,618,619,620,621,622,623,624,625,626,627,628,629,630]
[null,71,72,73,74,75,76,77,78,79,80,81,82,83,84,85,86,87,88,89,90,91,92,93,94,95,96,97,98,99,100,101,102,103,104,105]
[null,666,667,668,669,670,671,672,673,674,675,676,677,678,679,680,681,682,683,684,685,686,687,688,689,690,691,692,693,694,695,696,697,698,699,700]
[null,141,142,143,144,145,146,147,148,149,150,151,152,153,154,155,156,157,158,159,160,161,162,163,164,165,166,167,168,169,170,171,172,173,174,175]
[null,736,737,738,739,740,741,742,743,744,745,746,747,748,749,750,751,752,753,754,755,756,757,758,759,760,761,762,763,764,765,766,767,768,769,770]
[null,211,212,213,214,215,216,217,218,219,220,221,222,223,224,225,226,227,228,229,230,231,232,233,234,235,236,237,238,239,240,241,242,243,244,245]
[null,806,807,808,809,810,811,812,813,814,815,816,817,818,819,820,821,822,823,824,825,826,827,828,829,830,831,832,833,834,835,836,837,838,839,840]
[null,281,282,283,284,285,286,287,288,289,290,291,292,293,294,295,296,297,298,299,300,301,302,303,304,305,306,307,308,309,310,311,312,313,314,315]
[null,876,877,878,879,880,881,882,883,884,885,886,887,888,889,890,891,892,893,894,895,896,897,898,899,900,901,902,903,904,905,906,907,908,909,910]
[null,351,352,353,354,355,356,357,358,359,360,361,362,363,364,365,366,367,368,369,370,371,372,373,374,375,376,377,378,379,380,381,382,383,384,385]
[null,946,947,948,949,950,951,952,953,954,955,956,957,958,959,960,961,962,963,964,965,966,967,968,969,970,971,972,973,974,975,976,977,978,979,980]
[null,421,422,423,424,425,426,427,428,null,430,431,432,433,434,null,null,437,438,439,440,null,442,443,444,445,446,null,null,449,450,451,452,453,454,455]
[null,456,457,458,459,460,461,462,463,464,465,466,467,468,469,470,471,472,473,474,475,476,477,478,479,480,481,482,483,484,485,486,487,488,489,490]
[null,526,527,528,529,530,531,532,533,534,535,536,537,538,539,540,541,542,543,544,545,546,547,548,549,550,551,552,553,554,555,556,557,558,559,560]
[null,1,2,3,4,5,6,7,8,9,10,11,12,13,14,15,16,17,18,19,20,21,22,23,24,25,26,27,28,29,30,31,32,33,34,35]
[null,596,597,598,599,600,601,602,603,604,605,606,607,608,609,610,611,612,613,614,615,616,617,618,619,620,621,622,623,624,625,626,627,628,629,630]
[null,71,72,73,74,75,76,77,78,79,80,81,82,83,84,85,86,87,88,89,90,91,92,93,94,95,96,97,98,99,100,101,102,103,104,105]
[null,666,667,668,669,670,671,672,673,674,675,676,677,678,679,680,681,682,683,684,685,686,687,688,689,690,691,692,693,694,695,696,697,698,699,700]
[]
[]
[]
[]
[null,281,282,283,284,285,286,287,288,289,290,291,292,293,294,295,296,297,298,299,300,301,302,303,304,305,306,307,308,309,310,311,312,313,314,315]
[null,876,877,878,879,880,881,882,883,884,885,886,887,888,889,890,891,892,893,894,895,896,897,898,899,900,901,902,903,904,905,906,907,908,909,910]
[null,351,352,353,354,355,356,357,358,359,360,361,362,363,364,365,366,367,368,369,370,371,372,373,374,375,376,377,378,379,380,381,382,383,384,385]
[null,946,947,948,949,950,951,952,953,954,955,956,957,958,959,960,961,962,963,964,965,966,967,968,969,970,971,972,973,974,975,976,977,978,979,980]
[null,null,null,null,null,null,null,null,null,null,null,null,null,null,414,429,430,446,451,452]
[]
[null,106,107,108,109,110,111,112,113,114,115,116,117,118,119,120,121,122,123,124,125,126,127,128,129,130,131,132,133,134,135,136,137,138,139,140]
[null,1,2,3,4,5,6,7,8,9,10,11,12,13,14,15,16,17,18,19,20,21,22,23,24,25,26,27,28,29,30,31,32,33,34,35]
[null,596,597,598,599,600,601,602,603,604,605,606,607,608,609,610,611,612,613,614,615,616,617,618,619,620,621,622,623,624,625,626,627,628,629,630]
[null,71,72,73,74,75,76,77,78,79,80,81,82,83,84,85,86,87,88,89,90,91,92,93,94,95,96,97,98,99,100,101,102,103,104,105]
[null,666,667,668,669,670,671,672,673,674,675,676,677,678,679,680,681,682,683,684,685,686,687,688,689,690,691,692,693,694,695,696,697,698,699,700]
[null,141,142,143,144,145,146,147,148,149,150,151,152,153,154,155,156,157,158,159,160,161,162,163,164,165,166,167,168,169,170,171,172,173,174,175]
[null,736,737,738,739,740,741,742,743,744,745,746,747,748,749,750,751,752,753,754,755,756,757,758,759,760,761,762,763,764,765,766,767,768,769,770]
[null,211,212,213,214,215,216,217,218,219,220,221,222,223,224,225,226,227,228,229,230,231,232,233,234,235,236,237,238,239,240,241,242,243,244,245]
[null,806,807,808,809,810,811,812,813,814,815,816,817,818,819,820,821,822,823,824,825,826,827,828,829,830,831,832,833,834,835,836,837,838,839,840]
[null,281,282,283,null,285,null,287,null,289,null,291,292,null,294,295,296,297,298,299,300,null,302,null,304,null,null,307,null,null,310,311,null,313,314,315]
[null,876,877,878,null,880,null,882,null,884,885,886,887,888,null,890,891,892,893,null,895,null,null,898,899,900,901,null,null,904,null,null,907,null,909,910]
[null,351,352,353,354,355,356,357,358,359,360,361,362,363,364,365,366,367,368,369,370,371,372,373,374,375,376,377,378,379,380,381,382,383,384,385]
[null,946,947,948,949,950,951,952,953,954,955,956,957,958,959,960,961,962,963,964,965,966,967,968,969,970,971,972,973,974,975,976,977,978,979,980]
[null,421,422,423,424,425,426,427,428,429,430,431,432,433,434,435,436,437,438,439,440,441,442,443,444,445,446,447,448,449,450,451,452,453,454,455]
[]
[null,null,null,null,null,null,null,null,null,null,null,null,602,605,611,616,631,659,661,665,670,695]
[]
[null,71,72,73,74,75,76,77,78,79,80,81,82,83,84,85,86,87,88,89,90,91,92,93,94,95,96,97,98,99,100,101,102,103,104,105]
[]
[]
[]
[]
[null,211,212,213,214,215,216,217,218,219,220,221,222,223,224,225,226,227,228,229,230,231,232,233,234,235,236,237,238,239,240,241,242,243,244,245]
[null,806,807,808,809,810,811,812,813,814,815,816,817,818,819,820,821,822,823,824,825,826,827,828,829,830,831,832,833,834,835,836,837,838,839,840]
[null,null,282,283,null,null,286,287,null,null,290,null,292,293,294,295,null,null,null,null,300,301,null,303,null,null,306,307,308,null,null,311,null,null,314,315]
[null,876,877,878,null,null,null,null,null,null,null,null,null,888,889,890,null,null,893,null,null,null,null,898,899,900,null,null,903,904,null,null,907]
[null,351,352,353,354,355,356,357,358,359,360,361,362,363,364,365,366,367,368,369,370,371,372,373,374,375,376,377,378,379,380,381,382,383,384,385]
[null,946,947,948,949,950,951,952,953,954,955,956,957,958,959,960,961,962,963,964,965,966,967,968,969,970,971,972,973,974,975,976,977,978,979,980]
[null,421,422,423,424,425,426,427,428,429,430,431,432,433,434,435,436,437,438,439,440,441,442,443,444,445,446,447,448,449,450,451,452,453,454,455]
[]
[null,491,492,493,494,495,496,497,498,499,500,501,502,503,504,505,506,507,508,509,510,511,512,513,514,515,516,517,518,519,520,521,522,523,524,525]
[]
[null,561,562,563,564,565,566,567,568,569,570,571,572,573,574,575,576,577,578,579,580,581,582,583,584,585,586,587,588,589,590,591,592,593,594,595]
[null,806,807,808,809,810,811,812,813,814,815,816,817,818,819,820,821,822,823,824,825,826,827,828,829,830,831,832,833,834,835,836,837,838,839,840]
[null,666,667,668,669,670,671,672,673,674,675,676,677,678,679,680,681,682,683,684,685,686,687,688,689,690,691,692,693,694,695,696,697,698,699,700]
[null,141,142,143,144,145,146,147,148,149,150,151,152,153,154,155,156,157,158,159,160,161,162,163,164,165,166,167,168,169,170,171,172,173,174,175]
[null,736,737,738,739,740,741,742,743,744,745,746,747,748,749,750,751,752,753,754,755,756,757,758,759,760,761,762,763,764,765,766,767,768,769,770]
[null,211,212,213,214,215,216,217,218,219,220,221,222,223,224,225,226,227,228,229,230,231,232,233,234,235,236,237,238,239,240,241,242,243,244,245]
[null,806,807,808,809,810,811,812,813,814,815,816,817,818,819,820,821,822,823,824,825,826,827,828,829,830,831,832,833,834,835,836,837,838,839,840]
[null,281,282,283,284,285,286,287,288,289,290,291,292,293,294,295,296,297,298,299,300,301,302,303,304,305,306,307,308,309,310,311,312,313,314,315]
[null,876,877,878,879,880,881,882,883,884,885,886,887,888,889,890,891,892,893,894,895,896,897,898,899,900,901,902,903,904,905,906,907,908,909,910]
[null,351,352,353,354,355,356,357,358,359,360,361,362,363,364,365,366,367,368,369,370,371,372,373,374,375,376,377,378,379,380,381,382,383,384,385]
[null,946,947,948,949,950,951,952,953,954,955,956,957,958,959,960,961,962,963,964,965,966,967,968,969,970,971,972,973,974,975,976,977,978,979,980]
[null,421,422,423,424,425,426,427,428,429,430,431,432,433,434,435,436,437,438,439,440,441,442,443,444,445,446,447,448,449,450,451,452,453,454,455]
[]
[null,null,492,493,494,495,496,null,498,499,500,501,502,503,504,null,506,507,508,509,510,511,512,513,514,515,516,517,null,519,520,521,522,null,524,525]
[]
[]
[null,36,37,38,39,40,41,42,43,44,45,46,47,48,49,50,51,52,53,54,55,56,57,58,59,60,61,62,63,64,65,66,67,68,69,70]
[null,421,422,423,424,425,426,427,428,429,430,431,432,433,434,435,436,437,438,439,440,441,442,443,444,445,446,447,448,449,450,451,452,453,454,455]
[]
[]
[]
[]
[null,281,282,283,284,285,286,287,288,289,290,291,292,293,294,295,296,297,298,299,300,301,302,303,304,305,306,307,308,309,310,311,312,313,314,315]
[null,876,877,878,879,880,881,882,883,884,885,886,887,888,889,890,891,892,893,894,895,896,897,898,899,900,901,902,903,904,905,906,907,908,909,910]
[null,351,352,353,354,355,356,357,358,359,360,361,362,363,364,365,366,367,368,369,370,371,372,373,374,375,376,377,378,379,380,381,382,383,384,385]
[null,946,947,948,949,950,951,952,953,954,955,956,957,958,959,960,961,962,963,964,965,966,967,968,969,970,971,972,973,974,975,976,977,978,979,980]
[null,421,422,423,424,425,426,427,428,429,430,431,432,433,434,435,436,437,438,439,440,441,442,443,444,445,446,447,448,449,450,451,452,453,454,455]
[]
[null,null,492,null,null,495,496,497,null,null,null,501,null,null,null,505,null,507,508,509,null,null,null,513,null,null,null,null,518,519,null,null,522,523,524]
[]
[null,561,562,563,564,565,566,567,568,569,570,571,572,573,574,575,576,577,578,579,580,581,582,583,584,585,586,587,588,589,590,591,592,593,594,595]
[null,36,37,38,39,40,41,42,43,44,45,46,47,48,49,50,51,52,53,54,55,56,57,58,59,60,61,62,63,64,65,66,67,68,69,70]
[null,631,632,633,634,635,636,637,638,639,640,641,642,643,644,645,646,647,648,649,650,651,652,653,654,655,656,657,658,659,660,661,662,663,664,665]
[null,106,107,108,109,110,111,112,113,114,115,116,117,118,119,120,121,122,123,124,125,126,127,128,129,130,131,132,133,134,135,136,137,138,139,140]
[null,421,422,423,424,425,426,427,428,429,430,431,432,433,434,435,436,437,438,439,440,441,442,443,444,445,446,447,448,449,450,451,452,453,454,455]
[null,211,212,213,214,215,216,217,218,219,220,221,222,223,224,225,226,227,228,229,230,231,232,233,234,235,236,237,238,239,240,241,242,243,244,245]
[null,806,807,808,809,810,811,812,813,814,815,816,817,818,819,820,821,822,823,824,825,826,827,828,829,830,831,832,833,834,835,836,837,838,839,840]
[null,281,282,283,284,285,286,287,288,289,290,291,292,293,294,295,296,297,298,299,300,301,302,303,304,305,306,307,308,309,310,311,312,313,314,315]
[null,876,877,878,879,880,881,882,883,884,885,886,887,888,889,890,891,892,893,894,895,896,897,898,899,900,901,902,903,904,905,906,907,908,909,910]
[null,351,352,353,354,355,356,357,358,359,360,361,362,363,364,365,366,367,368,369,370,371,372,373,374,375,376,377,378,379,380,381,382,383,384,385]
[null,946,947,948,949,950,951,952,953,954,955,956,957,958,959,960,961,962,963,964,965,966,967,968,969,970,971,972,973,974,975,976,977,978,979,980]
[null,421,422,423,424,425,426,427,428,429,430,431,432,433,434,435,436,437,438,439,440,441,442,443,444,445,446,447,448,449,450,451,452,453,454,455]
[]
[null,491,492,493,494,495,496,497,498,499,500,501,502,503,504,505,506,507,508,509,510,511,512,513,514,515,516,517,518,519,520,521,522,523,524,525]
[]
[null,561,562,563,564,565,566,567,568,569,570,571,572,573,574,575,576,577,578,579,580,581,582,583,584,585,586,587,588,589,590,591,592,593,594,595]
[null,36,37,38,39,40,41,42,43,44,45,46,47,48,49,50,51,52,53,54,55,56,57,58,59,60,61,62,63,64,65,66,67,68,69,70]
[null,631,632,633,634,635,636,637,638,639,640,641,642,643,644,645,646,647,648,649,650,651,652,653,654,655,656,657,658,659,660,661,662,663,664,665]
[]
[]
[null,36,37,38,39,40,41,42,43,44,45,46,47,48,49,50,51,52,53,54,55,56,57,58,59,60,61,62,63,64,65,66,67,68,69,70]
[null,806,807,808,809,810,811,812,813,814,815,816,817,818,819,820,821,822,823,824,825,826,827,828,829,830,831,832,833,834,835,836,837,838,839,840]
[null,281,282,283,284,285,286,287,288,289,290,291,292,293,294,295,296,297,298,299,300,301,302,303,304,305,306,307,308,309,310,311,312,313,314,315]
[null,876,877,878,879,880,881,882,883,884,885,886,887,888,889,890,891,892,893,894,895,896,897,898,899,900,901,902,903,904,905,906,907,908,909,910]
[null,351,352,353,354,355,356,357,358,359,360,361,362,363,364,365,366,367,368,369,370,371,372,373,374,375,376,377,378,379,380,381,382,383,384,385]
[null,946,947,948,949,950,951,952,953,954,955,956,957,958,959,960,961,962,963,964,965,966,967,968,969,970,971,972,973,974,975,976,977,978,979,980]
[null,421,422,423,424,425,426,427,428,429,430,431,432,433,434,435,436,437,438,439,440,441,442,443,444,445,446,447,448,449,450,451,452,453,454,455]
[]
[null,491,492,493,494,495,496,497,498,499,500,501,502,503,504,505,506,507,508,509,510,511,512,513,514,515,516,517,518,519,520,521,522,523,524,525]
[]
[null,561,562,563,564,565,566,567,568,569,570,571,572,573,574,575,576,577,578,579,580,581,582,583,584,585,586,587,588,589,590,591,592,593,594,595]
[]
[]
[null,106,107,108,109,110,111,112,113,114,115,116,117,118,119,120,121,122,123,124,125,126,127,128,129,130,131,132,133,134,135,136,137,138,139,140]
[null,701,702,703,704,705,706,707,708,709,710,711,712,713,714,715,716,717,718,719,720,721,722,723,724,725,726,727,728,729,730,731,732,733,734,735]
[null,176,177,178,179,180,181,182,183,184,185,186,187,188,189,190,191,192,193,194,195,196,197,198,199,200,201,202,203,204,205,206,207,208,209,210]
[null,771,772,773,774,775,776,777,778,779,780,781,782,783,784,785,786,787,788,789,790,791,792,793,794,795,796,797,798,799,800,801,802,803,804,805]
[null,981,982,983,984,985,986,987,988,989,990,991,992,993,994,995,996,997,998,999,1000]
[null,876,877,878,879,880,881,882,883,884,885,886,887,888,889,890,891,892,893,894,895,896,897,898,899,900,901,902,903,904,905,906,907,908,909,910]
[null,351,352,353,354,355,356,357,358,359,360,361,362,363,364,365,366,367,368,369,370,371,372,373,374,375,376,377,378,379,380,381,382,383,384,385]
[null,946,947,948,949,950,951,952,953,954,955,956,957,958,959,960,961,962,963,964,965,966,967,968,969,970,971,972,973,974,975,976,977,978,979,980]
[null,421,422,423,424,425,426,427,428,429,430,431,432,433,434,435,436,437,438,439,440,441,442,443,444,445,446,447,448,449,450,451,452,453,454,455]
[]
[null,491,492,493,494,495,496,497,498,499,500,501,502,503,504,505,506,507,508,509,510,511,512,513,514,515,516,517,518,519,520,521,522,523,524,525]
[]
[null,561,562,563,564,565,566,567,568,569,570,571,572,573,574,575,576,577,578,579,580,581,582,583,584,585,586,587,588,589,590,591,592,593,594,595]
[null,36,37,38,39,40,41,42,43,44,45,46,47,48,49,50,51,52,53,54,55,56,57,58,59,60,61,62,63,64,65,66,67,68,69,70]
[null,631,632,633,634,635,636,637,638,639,640,641,642,643,644,645,646,647,648,649,650,651,652,653,654,655,656,657,658,659,660,661,662,663,664,665]
[null,106,107,108,109,110,111,112,113,114,115,116,117,118,119,120,121,122,123,124,125,126,127,128,129,130,131,132,133,134,135,136,137,138,139,140]
[null,701,702,703,704,705,706,707,708,709,710,711,712,713,714,715,716,717,718,719,720,721,722,723,724,725,726,727,728,729,730,731,732,733,734,735]
[null,176,177,178,179,180,181,182,183,184,185,186,187,188,189,190,191,192,193,194,195,196,197,198,199,200,201,202,203,204,205,206,207,208,209,210]
[null,771,772,773,774,775,776,777,778,779,780,781,782,783,784,785,786,787,788,789,790,791,792,793,794,795,796,797,798,799,800,801,802,803,804,805]
[null,246,247,248,249,250,251,252,253,254,255,256,257,258,259,260,261,262,263,264,265,266,267,268,269,270,271,272,273,274,275,276,277,278,279,280]
[null,596,597,598,599,600,601,602,603,604,605,606,607,608,609,610,611,612,613,614,615,616,617,618,619,620,621,622,623,624,625,626,627,628,629,630]
[null,351,352,353,354,355,356,357,358,359,360,361,362,363,364,365,366,367,368,369,370,371,372,373,374,375,376,377,378,379,380,381,382,383,384,385]
[null,946,947,948,949,950,951,952,953,954,955,956,957,958,959,960,961,962,963,964,965,966,967,968,969,970,971,972,973,974,975,976,977,978,979,980]
[null,421,422,423,424,425,426,427,428,429,430,431,432,433,434,435,436,437,438,439,440,441,442,443,444,445,446,447,448,449,450,451,452,453,454,455]
[]
[null,491,492,493,494,495,496,497,498,499,500,501,502,503,504,505,506,507,508,509,510,511,512,513,514,515,516,517,518,519,520,521,522,523,524,525]
[]
[null,561,562,563,564,565,566,567,568,569,570,571,572,573,574,575,576,577,578,579,580,581,582,583,584,585,586,587,588,589,590,591,592,593,594,595]
[null,36,37,38,39,40,41,42,43,44,45,46,47,48,49,50,51,52,53,54,55,56,57,58,59,60,61,62,63,64,65,66,67,68,69,70]
[null,631,632,633,634,635,636,637,638,639,640,641,642,643,644,645,646,647,648,649,650,651,652,653,654,655,656,657,658,659,660,661,662,663,664,665]
[null,106,107,108,109,110,111,112,113,114,115,116,117,118,119,120,121,122,123,124,125,126,127,128,129,130,131,132,133,134,135,136,137,138,139,140]
[null,701,702,703,704,705,706,707,708,709,710,711,712,713,714,715,716,717,718,719,720,721,722,723,724,725,726,727,728,729,730,731,732,733,734,735]
[null,176,177,178,179,180,181,182,183,184,185,186,187,188,189,190,191,192,193,194,195,196,197,198,199,200,201,202,203,204,205,206,207,208,209,210]
[null,771,772,773,774,775,776,777,778,779,780,781,782,783,784,785,786,787,788,789,790,791,792,793,794,795,796,797,798,799,800,801,802,803,804,805]
[null,246,247,248,249,250,251,252,253,254,255,256,257,258,259,260,261,262,263,264,265,266,267,268,269,270,271,272,273,274,275,276,277,278,279,280]
[null,841,842,843,844,845,846,847,848,849,850,851,852,853,854,855,856,857,858,859,860,861,862,863,864,865,866,867,868,869,870,871,872,873,874,875]
[null,246,247,248,249,250,251,252,253,254,255,256,257,258,259,260,261,262,263,264,265,266,267,268,269,270,271,272,273,274,275,276,277,278,279,280]
[null,946,947,948,949,950,951,952,953,954,955,956,957,958,959,960,961,962,963,964,965,966,967,968,969,970,971,972,973,974,975,976,977,978,979,980]
[null,421,422,423,424,425,426,427,428,429,430,null,432,433,434,435,436,437,438,439,440,441,442,443,444,445,446,447,448,null,450,null,452,453,454,455]
[]
[null,491,492,493,494,495,496,497,498,499,500,501,502,503,504,505,506,507,508,509,510,511,512,513,514,515,516,517,518,519,520,521,522,523,524,525]
[]
[]
[null,36,37,38,39,40,41,42,43,44,45,46,47,48,49,50,51,52,53,54,55,56,57,58,59,60,61,62,63,64,65,66,67,68,69,70]
[null,631,632,633,634,635,636,637,638,639,640,641,642,643,644,645,646,647,648,649,650,651,652,653,654,655,656,657,658,659,660,661,662,663,664,665]
[null,106,107,108,109,110,111,112,113,114,115,116,117,118,119,120,121,122,123,124,125,126,127,128,129,130,131,132,133,134,135,136,137,138,139,140]
[null,701,702,703,704,705,706,707,708,709,710,711,712,713,714,715,716,717,718,719,720,721,722,723,724,725,726,727,728,729,730,731,732,733,734,735]
[null,176,177,178,179,180,181,182,183,184,185,186,187,188,189,190,191,192,193,194,195,196,197,198,199,200,201,202,203,204,205,206,207,208,209,210]
[null,771,772,773,774,775,776,777,778,779,780,781,782,783,784,785,786,787,788,789,790,791,792,793,794,795,796,797,798,799,800,801,802,803,804,805]
[null,246,247,248,249,250,251,252,253,254,255,256,257,258,259,260,261,262,263,264,265,266,267,268,269,270,271,272,273,274,275,276,277,278,279,280]
[null,841,842,843,844,845,846,847,848,849,850,851,852,853,854,855,856,857,858,859,860,861,862,863,864,865,866,867,868,869,870,871,872,873,874,875]
[null,316,317,318,319,320,321,322,323,324,325,326,327,328,329,330,331,332,333,334,335,336,337,338,339,340,341,342,343,344,345,346,347,348,349,350]
[null,911,912,913,914,915,916,917,918,919,920,921,922,923,924,925,926,927,928,929,930,931,932,933,934,935,936,937,938,939,940,941,942,943,944,945]
[null,211,212,213,214,215,216,217,218,219,220,221,222,223,224,225,226,227,228,229,230,231,232,233,234,235,236,237,238,239,240,241,242,243,244,245]
[]
[null,491,492,493,494,495,496,497,498,499,500,501,502,503,504,505,506,507,508,509,510,511,512,513,514,515,516,517,518,519,520,521,522,523,524,525]
[]
[null,561,562,563,564,565,566,567,568,569,570,571,572,573,574,575,576,577,578,579,580,581,582,583,584,585,586,587,588,589,590,591,592,593,594,595]
[null,36,37,38,39,40,41,42,43,44,45,46,47,48,49,50,51,52,53,54,55,56,57,58,59,60,61,62,63,64,65,66,67,68,69,70]
[null,631,632,633,634,635,636,637,638,639,640,641,642,643,644,645,646,647,648,649,650,651,652,653,654,655,656,657,658,659,660,661,662,663,664,665]
[null,106,107,108,109,110,111,112,113,114,115,116,117,118,119,120,121,122,123,124,125,126,127,128,129,130,131,132,133,134,135,136,137,138,139,140]
[null,701,702,703,704,705,706,707,708,709,710,711,712,713,714,715,716,717,718,719,720,721,722,723,724,725,726,727,728,729,730,731,732,733,734,735]
[]
[]
[null,246,247,248,249,250,251,252,253,254,255,256,257,258,259,260,261,262,263,264,265,266,267,268,269,270,271,272,273,274,275,276,277,278,279,280]
[null,841,842,843,844,845,846,847,848,849,850,851,852,853,854,855,856,857,858,859,860,861,862,863,864,865,866,867,868,869,870,871,872,873,874,875]
[null,316,317,318,319,320,321,322,323,324,325,326,327,328,329,330,331,332,333,334,335,336,337,338,339,340,341,342,343,344,345,346,347,348,349,350]
[null,911,912,913,914,915,916,917,918,919,920,921,922,923,924,925,926,927,928,929,930,931,932,933,934,935,936,937,938,939,940,941,942,943,944,945]
[null,386,387,388,389,390,391,392,393,394,395,396,397,398,399,400,401,402,403,404,405,406,407,408,409,410,411,412,413,414,415,416,417,418,419,420]
[null,946,947,948,949,950,951,952,953,954,955,956,957,958,959,960,961,962,963,964,965,966,967,968,969,970,971,972,973,974,975,976,977,978,979,980]
[null,491,492,493,494,495,496,497,498,499,500,501,502,503,504,505,506,507,508,509,510,511,512,513,514,515,516,517,518,519,520,521,522,523,524,525]
[]
[null,561,562,563,564,565,566,567,568,569,570,571,572,573,574,575,576,577,578,579,580,581,582,583,584,585,586,587,588,589,590,591,592,593,594,595]
[null,36,37,38,39,40,41,42,43,44,45,46,47,48,49,50,51,52,53,54,55,56,57,58,59,60,61,62,63,64,null,66,67,68,69,70]
[null,631,632,633,634,635,636,637,638,639,640,641,642,643,644,645,646,647,648,649,650,651,652,653,654,655,656,657,658,659,660,661,662,663,664,665]
[null,106,107,108,109,110,111,112,113,114,115,116,117,118,119,120,121,122,123,124,125,126,127,128,129,130,131,132,133,134,135,136,137,138,139,140]
[null,701,702,703,704,705,706,707,708,709,710,711,712,713,714,715,716,717,718,719,720,721,722,723,724,725,726,727,728,729,730,731,732,733,734,735]
[null,176,177,178,179,180,181,182,183,184,185,186,187,188,189,190,191,192,193,194,195,196,197,198,199,200,201,202,203,204,205,206,207,208,209,210]
[null,771,772,773,774,775,776,777,778,779,780,781,782,783,784,785,786,787,788,789,790,791,792,793,794,795,796,797,798,799,800,801,802,803,804,805]
[null,246,247,248,249,250,251,252,253,254,255,256,257,258,259,260,261,262,263,264,265,266,267,268,269,270,271,272,273,274,275,276,277,278,279,280]
[null,841,842,843,844,845,846,847,848,849,850,851,852,853,854,855,856,857,858,859,860,861,862,863,864,865,866,867,868,869,870,871,872,873,874,875]
[null,316,317,318,319,320,321,322,323,324,325,326,327,328,329,330,331,332,333,334,335,336,337,null,339,null,341,342,343,344,345,346,347,348,349,350]
[null,911,null,913,914,915,916,917,918,919,920,921,922,null,924,925,926,927,928,929,930,931,932,933,934,935,936,937,938,939,940,941,942,943,944,945]
[null,386,387,388,389,390,391,392,393,394,395,396,397,398,399,400,401,402,403,404,405,406,407,408,409,410,411,412,413,414,415,416,417,418,419,420]
[null,981,982,983,984,985,986,987,988,989,990,991,992,993,994,995,996,997,998,999,1000]
[null,456,457,458,459,460,461,462,463,464,465,466,467,468,469,470,471,472,473,474,475,476,477,478,479,480,481,482,483,484,485,486,487,488,489,490]
[null,911,912,913,914,915,916,917,918,919,920,921,922,923,924,925,926,927,928,929,930,931,932,933,934,935,936,937,938,939,940,941,942,943,944,945]
[null,561,562,563,564,565,566,567,568,569,570,571,572,573,574,575,576,577,578,579,580,581,582,583,584,585,586,587,588,589,590,591,592,593,594,595]
[null,36,37,38,39,40,41,42,43,44,45,46,47,48,49,50,51,52,53,54,55,56,57,58,59,60,61,62,63,64,65,66,67,68,69,70]
[null,631,632,633,634,635,636,637,638,639,640,641,642,643,644,645,646,647,648,649,650,651,652,653,654,655,656,657,658,659,660,661,662,663,664,665]
[null,106,107,108,109,110,111,112,113,114,115,116,117,118,119,120,121,122,123,124,125,126,127,128,129,130,131,132,133,134,135,136,137,138,139,140]
[null,701,702,703,704,705,706,707,708,709,710,711,712,713,714,715,716,717,718,719,720,721,722,723,724,725,726,727,728,729,730,731,732,733,734,735]
[null,176,177,178,179,180,181,182,183,184,185,186,187,188,189,190,191,192,193,194,195,196,197,198,199,200,201,202,203,204,205,206,207,208,209,210]
[null,771,772,773,774,775,776,777,778,779,780,781,782,783,784,785,786,787,788,789,790,791,792,793,794,795,796,797,798,799,800,801,802,803,804,805]
[null,246,247,248,249,250,251,252,253,254,255,256,257,258,259,260,261,262,263,264,265,266,267,268,269,270,271,272,273,274,275,276,277,278,279,280]
[null,841,842,843,844,845,846,847,848,849,850,851,852,853,854,855,856,857,858,859,860,861,862,863,864,865,866,867,868,869,870,871,872,873,874,875]
[null,316,317,318,319,320,321,322,323,324,325,326,327,328,329,330,331,332,333,334,335,336,337,338,339,340,341,342,343,344,345,346,347,348,349,350]
[null,911,912,913,914,915,916,917,918,919,920,921,922,923,924,925,926,927,928,929,930,931,932,933,934,935,936,937,938,939,940,941,942,943,944,945]
[null,386,387,388,389,390,391,392,393,394,395,396,397,398,399,400,401,402,403,404,405,406,407,408,409,410,411,412,413,414,415,416,417,418,419,420]
[null,981,982,983,984,985,986,987,988,989,990,991,992,993,994,995,996,997,998,999,1000]
[null,456,457,458,459,460,461,462,463,464,465,466,467,468,469,470,471,472,473,474,475,476,477,478,479,480,481,482,483,484,485,486,487,488,489,490]
[null,"Terug",null,null,null,null,null,null,null,null,"Venray (2)",null,null,null,null,null,null,null,null,null,null,null,null,null,null,null,null,null,null,{"$f":"SUMPRODUCT((MOD(B25667:AJ25695,100)=0)*(B25667:AJ25695<1000)*(B25667:AJ25695<>\"\"))","v":9},null,"MANCO:",null,{"$f":"COUNT(B25667:AJ25695)","v":1000}]
[null,561,562,563,564,565,566,567,568,569,570,571,572,573,574,575,576,577,578,579,580,581,582,583,584,585,586,587,588,589,590,591,592,593,594,595]
[null,36,37,38,39,40,41,42,43,44,45,46,47,48,49,50,51,52,53,54,55,56,57,58,59,60,61,62,63,64,65,66,67,68,69,70]
[null,631,632,633,634,635,636,637,638,639,640,641,642,643,644,645,646,647,648,649,650,651,652,653,654,655,656,657,658,659,660,661,662,663,664,665]
[null,106,107,108,109,110,111,112,113,114,115,116,117,118,119,120,121,122,123,124,125,126,127,128,129,130,131,132,133,134,135,136,137,138,139,140]
[null,701,702,703,704,705,706,707,708,709,710,711,712,713,714,715,716,717,718,719,720,721,722,723,724,725,726,727,728,729,730,731,732,733,734,735]
[null,176,177,178,179,180,181,182,183,184,185,186,187,188,189,190,191,192,193,194,195,196,197,198,199,200,201,202,203,204,205,206,207,208,209,210]
[null,771,772,773,774,775,776,777,778,779,780,781,782,783,784,785,786,787,788,789,790,791,792,793,794,795,796,797,798,799,800,801,802,803,804,805]
[null,246,247,248,249,250,251,252,253,254,255,256,257,258,259,260,261,262,263,264,265,266,267,268,269,270,271,272,273,274,275,276,277,278,279,280]
[null,841,842,843,844,845,846,847,848,849,850,851,852,853,854,855,856,857,858,859,860,861,862,863,864,865,866,867,868,869,870,871,872,873,874,875]
[null,316,317,318,null,320,321,322,323,324,325,326,327,328,329,330,331,332,333,334,335,null,337,338,339,340,341,342,null,344,345,346,347,348,349]
[null,null,912,913,null,915,916,917,918,919,920,921,922,null,924,925,926,927,928,929,930,931,932,933,934,935,936,937,938,939,940,941,942,null,944,945]
[null,386,387,388,389,390,391,392,393,394,395,396,397,398,399,400,401,402,403,404,405,406,407,408,409,410,411,412,413,414,415,416,417,418,419,420]
[null,981,982,983,984,985,986,987,988,989,990,991,992,993,994,995,996,997,998,999,1000]
[null,456,457,458,459,460,461,462,463,464,465,466,467,468,469,470,471,472,473,474,475,476,477,478,479,480,481,482,483,484,485,486,487,488,489,490]
[null,"Terug",null,null,null,null,null,null,null,null,"Voorschoten",null,null,null,null,null,null,null,null,null,null,null,null,null,null,null,null,null,null,{"$f":"SUMPRODUCT((MOD(B26147:AJ26175,100)=0)*(B26147:AJ26175<1000)*(B26147:AJ26175<>\"\"))","v":9},null,"MANCO:",null,{"$f":"COUNT(B26147:AJ26175)","v":1000}]
[null,526,527,528,529,530,531,532,533,534,535,536,537,538,539,540,541,542,543,544,545,546,547,548,549,550,551,552,553,554,555,556,557,558,559,560]
[null,176,177,178,179,180,181,182,183,184,185,186,187,188,189,190,191,192,193,194,195,196,197,198,199,200,201,202,203,204,205,206,207,208,209,210]
[null,631,632,633,634,635,636,637,638,639,640,641,642,643,644,645,646,647,648,649,650,651,652,653,654,655,656,657,658,659,660,661,662,663,664,665]
[null,106,107,108,109,110,111,112,113,114,115,116,117,118,119,120,121,122,123,124,125,126,127,128,129,130,131,132,133,134,135,136,137,138,139,140]
[null,701,702,703,704,705,706,707,708,709,710,711,712,713,714,715,716,717,718,719,720,721,722,723,724,725,726,727,728,729,730,731,732,733,734,735]
[null,176,177,178,179,180,181,182,183,184,185,186,187,188,189,190,191,192,193,194,195,196,197,198,199,200,201,202,203,204,205,206,207,208,209,210]
[null,771,772,773,774,775,776,777,778,779,780,781,782,783,784,785,786,787,788,789,790,791,792,793,794,795,796,797,798,799,800,801,802,803,804,805]
[null,246,247,248,249,250,251,252,253,null,255,256,257,258,259,260,null,262,263,264,null,266,267,268,269,270,271,272,273,274,275,null,277,278,279]
[null,841,842,843,844,845,846,847,848,849,850,851,852,853,854,855,856,857,858,859,860,861,862,863,864,865,866,867,868,869,870,871,872,873,874,875]
[null,316,317,318,319,320,321,322,323,324,325,326,327,328,329,330,331,332,333,334,335,336,337,338,339,340,341,342,343,344,345,346,347,348,349,350]
[null,911,912,913,914,915,916,917,918,919,920,921,922,923,924,925,926,927,928,929,930,931,932,933,934,935,936,937,938,939,940,941,942,943,944,945]
[null,386,387,388,389,390,391,392,393,394,395,396,397,398,399,400,401,402,403,404,405,406,407,408,409,410,411,412,413,414,415,416,417,418,419,420]
[null,981,982,983,984,985,986,987,988,989,990,991,992,993,994,995,996,997,998,999,1000]
[null,456,457,458,459,460,461,462,463,464,465,466,467,468,469,470,471,472,473,474,475,476,477,478,479,480,481,482,483,484,485,486,487,488,489,490]
[null,"Terug",null,null,null,null,null,null,null,null,"Wageningen (3)",null,null,null,null,null,null,null,null,null,null,null,null,null,null,null,null,null,null,{"$f":"SUMPRODUCT((MOD(B26627:AJ26655,100)=0)*(B26627:AJ26655<1000)*(B26627:AJ26655<>\"\"))","v":9},null,"MANCO:",null,{"$f":"COUNT(B26627:AJ26655)","v":1000}]
[null,526,527,528,529,530,531,532,533,534,535,536,537,538,539,540,541,542,543,544,545,546,547,548,549,550,551,552,553,554,555,556,557,558,559,560]
[null,1,2,3,4,5,6,7,8,9,10,11,12,13,14,15,16,17,18,19,20,21,22,23,24,25,26,27,28,29,30,31,32,33,34,35]
[null,596,597,598,599,600,601,602,603,604,605,606,607,608,609,610,611,612,613,614,615,616,617,618,619,620,621,622,623,624,625,626,627,628,629,630]
[null,1,2,3,4,5,6,7,8,9,10,11,12,13,14,15,16,17,18,19,20,21,22,23,24,25,26,27,28,29,30,31,32,33,34,35]
[null,701,702,703,704,705,706,707,708,709,710,711,712,713,714,715,716,717,718,null,720,721,722,723,724,725,726,null,728,729,730,731,732,733,734,735]
[null,176,177,178,179,180,181,182,183,184,185,186,187,188,189,190,191,192,193,194,195,196,197,198,199,200,201,202,203,204,205,206,207,208,209,210]
[null,771,772,773,774,775,776,777,778,779,780,781,782,783,784,785,786,787,788,789,790,791,792,793,794,795,796,797,798,799,800,801,802,803,804,805]
[null,246,247,248,249,250,251,252,253,254,255,256,257,258,259,260,261,262,263,264,265,266,267,268,269,270,271,272,273,274,275,276,277,278,279,280]
[null,841,842,843,844,845,846,847,848,849,850,851,852,853,854,855,856,857,858,859,860,861,862,863,864,865,866,867,868,869,870,871,872,873,874,875]
[null,316,317,318,319,320,321,322,323,324,325,326,327,328,329,330,331,332,333,334,335,336,337,338,339,340,341,342,343,344,345,346,347,348,349,350]
[null,911,912,913,914,915,916,917,918,919,920,921,922,923,924,925,926,927,928,929,930,931,932,933,934,935,936,937,938,939,940,941,942,943,944,945]
[null,386,387,388,389,390,391,392,393,394,395,396,397,398,399,400,401,402,403,404,405,406,407,408,409,410,411,412,413,414,415,416,417,418,419,420]
[null,981,982,983,984,985,986,987,988,989,990,991,992,993,994,995,996,997,998,999,1000]
[null,456,457,458,459,460,461,462,463,464,465,466,467,468,469,470,471,472,473,474,475,476,477,478,479,480,481,482,483,484,485,486,487,488,489,490]
[null,"Terug",null,null,null,null,null,null,null,null,"Weesp (3)",null,null,null,null,null,null,null,null,null,null,null,null,null,null,null,null,null,null,{"$f":"SUMPRODUCT((MOD(B27107:AJ27135,100)=0)*(B27107:AJ27135<1000)*(B27107:AJ27135<>\"\"))","v":9},null,"MANCO:",null,{"$f":"COUNT(B27107:AJ27135)","v":1000}]
[null,526,527,528,529,530,531,532,533,534,535,536,537,538,539,540,541,542,543,544,545,546,547,548,549,550,551,552,553,554,555,556,557,558,559,560]
[null,1,2,3,4,5,6,7,8,9,10,11,12,13,14,15,16,17,18,19,20,21,22,23,24,25,26,27,28,29,30,31,32,33,34,35]
[null,596,597,598,599,600,601,602,603,604,605,606,607,608,609,610,611,612,613,614,615,616,617,618,619,620,621,622,623,624,625,626,627,628,629,630]
[null,71,72,73,74,75,76,77,78,79,80,81,82,83,84,85,86,87,88,89,90,91,92,93,94,95,96,97,98,99,100,101,102,103,104,105]
[null,771,772,773,774,775,776,777,778,779,780,781,782,783,784,785,786,787,788,789,790,791,792,793,794,795,796,797,798,799,800,801,802,803,804,805]
[null,176,177,178,179,180,181,182,183,184,185,186,187,188,189,190,191,192,193,194,195,196,197,198,199,200,201,202,203,204,205,206,207,208,209,210]
[null,771,772,773,774,775,776,777,778,779,780,781,782,783,784,785,786,787,788,789,790,791,792,793,794,795,796,797,798,799,800,801,802,803,804,805]
[null,246,247,248,249,250,251,252,253,254,255,256,257,258,259,260,261,262,263,264,265,266,267,268,269,270,271,272,273,274,275,276,277,278,279,280]
[null,841,842,843,844,845,846,847,848,849,850,851,852,853,854,855,856,857,858,859,860,861,862,863,864,865,866,867,868,869,870,871,872,873,874,875]
[null,316,317,318,319,320,321,322,323,324,325,326,327,328,329,330,331,332,333,334,335,336,337,338,339,340,341,342,343,344,345,346,347,348,349,350]
[null,911,912,913,914,915,916,917,918,919,920,921,922,923,924,925,926,927,928,929,930,931,932,933,934,935,936,937,938,939,940,941,942,943,944,945]
[null,386,387,388,389,390,null,392,393,394,395,396,397,398,399,400,401,402,403,404,null,406,407,408,409,410,411,412,413,414,415,416,417,418,419,420]
[null,981,982,983,984,985,986,987,988,989,990,991,992,993,994,null,996,997,998,999,1000]
[null,456,457,458,459,460,461,462,463,464,465,466,467,468,469,470,471,472,473,474,475,476,477,478,479,480,481,482,483,484,485,486,487,488,489,490]
[null,"Terug",null,null,null,null,null,null,null,null,"Wd - Rijnstraat (1)",null,null,null,null,null,null,null,null,null,null,null,null,null,null,null,null,null,null,{"$f":"SUMPRODUCT((MOD(B27587:AJ27615,100)=0)*(B27587:AJ27615<1000)*(B27587:AJ27615<>\"\"))","v":9},null,"MANCO:",null,{"$f":"COUNT(B27587:AJ27615)","v":1000}]
[null,526,527,528,529,530,531,532,533,534,535,536,537,538,539,540,541,542,543,544,545,546,547,548,549,550,551,552,553,554,555,556,557,558,559,560]
[null,1,2,3,4,5,6,7,8,9,10,11,12,13,14,15,16,17,18,19,20,21,22,23,24,25,26,27,28,29,30,31,32,33,34,35]
[null,596,597,598,null,600,601,602,603,604,605,606,607,608,null,610,611,612,613,614,615,616,617,618,619,620,621,622,623,624,625,626,627,628,629]
[null,71,72,73,74,75,76,77,78,79,80,81,82,83,84,85,86,87,88,89,90,91,92,93,94,95,96,97,98,99,100,101,102,103,104,105]
[null,666,667,668,669,670,671,672,673,674,675,676,677,678,679,680,681,682,683,684,685,686,687,688,689,690,691,692,693,694,695,696,697,698,699,700]
[null,141,142,143,144,145,146,147,148,149,150,151,152,153,154,155,156,157,158,159,160,161,162,163,164,165,166,167,168,169,170,171,172,173,174,175]
[null,736,737,738,739,740,741,742,743,744,745,746,747,748,749,750,751,752,753,754,755,756,757,758,759,760,761,762,763,764,765,766,767,768,769,770]
[null,246,247,248,249,250,251,252,253,254,255,256,257,258,259,260,261,262,263,264,265,266,267,268,269,270,271,272,273,274,275,276,277,278,279,280]
[null,841,842,843,844,845,846,847,848,849,850,851,852,853,854,855,856,857,858,859,860,861,862,863,864,865,866,867,868,869,870,871,872,873,874,875]
[null,316,317,318,319,320,321,322,323,324,325,326,327,328,329,330,331,332,333,334,335,336,337,338,339,340,341,342,343,344,345,346,347,348,349,350]
[null,911,912,913,914,915,916,917,918,919,920,921,922,923,924,925,926,927,928,929,930,931,932,933,934,935,936,937,938,939,940,941,942,943,944,945]
[null,386,387,388,389,390,391,392,393,394,395,396,397,398,399,400,401,402,403,404,405,406,407,408,409,410,411,412,413,414,415,416,417,418,419,420]
[null,981,982,983,984,985,986,987,988,989,990,991,992,993,994,995,996,997,998,999,1000]
[null,456,457,458,459,460,461,null,463,464,465,466,467,468,469,470,471,472,473,474,null,476,477,478,479,480,481,482,483,484,485,486,487,488,489,490]
[null,"Terug",null,null,null,null,null,null,null,null,"IJmuiden (1)",null,null,null,null,null,null,null,null,null,null,null,null,null,null,null,null,null,null,{"$f":"SUMPRODUCT((MOD(B28067:AJ28095,100)=0)*(B28067:AJ28095<1000)*(B28067:AJ28095<>\"\"))","v":9},null,"MANCO:",null,{"$f":"COUNT(B28067:AJ28095)","v":1000}]
[null,526,527,528,529,530,531,532,533,534,535,536,537,538,539,540,541,542,543,544,545,546,547,548,549,550,551,552,553,554,555,556,557,558,559,560]
[null,1,2,3,4,5,6,7,8,9,10,11,12,13,14,15,16,17,18,19,20,21,22,23,24,25,26,27,28,29,30,31,32,33,34,35]
[null,596,597,598,599,600,601,602,603,604,605,606,607,608,609,610,611,612,613,614,615,616,617,618,619,null,621,622,623,624,625,null,627,628,629,630]
[null,71,72,73,74,75,76,77,78,79,80,81,82,83,84,85,86,87,88,89,90,91,92,93,94,95,96,97,98,99,100,101,102,103,104,105]
[null,666,667,668,669,670,671,672,673,674,675,676,677,678,679,680,681,682,683,684,685,686,687,688,689,690,691,692,693,694,695,696,697,698,699,700]
[null,141,142,null,144,145,null,147,148,149,null,151,152,153,154,155,156,157,158,159,160,161,162,163,164,165,166,167,168,169,170,171,null,null,174,175]
[null,736,737,738,739,740,741,742,743,744,745,746,747,748,749,750,751,752,753,754,755,756,757,758,759,760,761,762,763,764,765,766,767,768,769,770]
[null,351,352,353,354,355,356,357,358,359,360,361,362,363,364,365,366,367,368,369,370,371,372,373,374,375,376,377,378,379,380,381,382,383,384,385]
[null,841,842,843,844,845,846,847,848,849,850,851,852,853,854,855,856,857,858,859,860,861,862,863,864,865,866,867,868,869,870,871,872,873,874,875]
[null,316,317,318,319,320,321,322,323,324,325,326,327,328,329,330,331,332,333,334,335,336,337,338,339,340,341,342,343,344,345,346,347,348,349,350]
[null,911,912,913,914,915,916,917,918,919,920,921,922,923,924,925,926,927,928,929,930,931,932,933,934,935,936,937,938,939,940,941,942,943,944,945]
[null,386,387,388,389,390,391,392,393,394,395,396,397,398,399,400,401,402,403,404,405,406,407,408,409,410,411,412,413,414,415,416,417,418,419,420]
[null,981,982,983,984,985,986,987,988,989,990,991,992,993,994,995,996,997,998,999,1000]
[null,456,457,458,459,460,461,462,463,464,465,466,467,468,469,470,471,472,473,474,475,476,477,478,479,480,481,482,483,484,485,486,487,488,489,490]
[null,"Terug",null,null,null,null,null,null,null,null,"Zetten",null,null,null,null,null,null,null,null,null,null,null,null,null,null,null,null,null,null,{"$f":"SUMPRODUCT((MOD(B28547:AJ28575,100)=0)*(B28547:AJ28575<1000)*(B28547:AJ28575<>\"\"))","v":9},null,"MANCO:",null,{"$f":"COUNT(B28547:AJ28575)","v":1000}]
[null,526,527,528,529,530,531,532,533,534,535,536,537,538,539,540,541,542,543,544,545,546,547,548,549,550,551,552,553,554,555,556,557,558,559,560]
[null,1,2,3,4,5,6,7,8,9,10,11,12,13,14,15,16,17,18,19,20,21,22,23,24,25,26,27,28,29,30,31,32,33,34,35]
[null,596,597,598,599,600,601,602,603,604,605,606,607,608,609,610,611,612,613,614,615,616,617,618,619,620,621,622,623,624,625,626,627,628,629,630]
[null,71,72,73,74,75,76,77,78,79,80,81,82,83,84,85,86,87,88,89,90,91,92,93,94,95,96,97,98,99,100,101,102,103,104,105]
[null,666,667,668,669,670,671,672,673,674,675,676,677,678,679,680,681,682,683,684,685,686,687,688,689,690,691,692,693,694,695,696,697,698,699,700]
[null,141,142,143,144,145,146,147,148,149,150,151,152,153,154,155,156,157,158,159,160,161,162,163,null,165,166,167,168,169,170,171,172,173,null,175]
[null,736,737,738,739,740,741,742,743,744,745,746,747,748,749,750,751,752,753,754,755,756,757,758,759,760,761,762,763,764,765,766,767,768,769,770]
[null,211,212,213,214,215,216,217,218,219,220,221,222,223,224,225,226,227,228,229,230,231,232,233,234,235,236,237,238,239,240,241,242,243,244,245]
[]
[null,316,317,318,319,320,321,322,323,324,325,326,327,328,329,330,331,332,333,334,335,336,337,338,339,340,341,342,343,344,345,346,347,348,349,350]
[null,911,912,913,914,915,916,917,918,919,920,921,922,923,924,925,926,927,928,929,930,931,932,933,934,935,936,937,938,939,940,941,942,943,944,945]
[null,386,387,388,389,390,391,392,393,394,395,396,397,398,399,400,401,402,403,404,405,406,407,408,409,410,411,412,413,414,415,416,417,418,419,420]
[null,981,982,983,984,985,986,987,988,989,990,991,992,993,994,995,996,997,998,999,1000]
[null,456,457,458,459,460,461,462,463,464,465,466,467,468,469,470,471,472,473,474,475,476,477,478,479,480,481,482,483,484,485,486,487,488,489,490]
[null,"Terug",null,null,null,null,null,null,null,null,"Zuid-Scharwoude",null,null,null,null,null,null,null,null,null,null,null,null,null,null,null,null,null,null,{"$f":"SUMPRODUCT((MOD(B29027:AJ29055,100)=0)*(B29027:AJ29055<1000)*(B29027:AJ29055<>\"\"))","v":9},null,"MANCO:",null,{"$f":"COUNT(B29027:AJ29055)","v":1000}]
[null,526,527,528,529,530,531,532,533,534,535,536,537,538,539,540,541,542,543,544,545,546,547,548,549,550,551,552,553,554,555,556,557,558,559,560]
[]
[null,596,597,598,599,600,601,602,603,604,605,606,607,608,609,610,611,612,613,614,615,616,617,618,619,620,621,622,623,624,625,626,627,628,629,630]
[null,71,72,73,74,75,76,77,78,79,80,81,82,83,84,85,86,87,88,89,90,91,92,93,94,95,96,97,98,99,100,101,102,103,104,105]
[null,666,667,668,669,670,671,672,673,674,675,676,677,678,679,680,681,682,683,684,685,686,687,688,689,690,691,692,693,694,695,696,697,698,699,700]
[null,141,142,143,144,145,146,147,148,149,150,151,152,153,154,155,156,157,158,159,160,161,162,163,164,165,166,167,168,169,170,171,172,173,174,175]
[null,736,737,738,739,740,741,742,743,744,745,746,747,748,749,750,751,752,753,754,755,756,757,758,759,760,761,762,763,764,765,766,767,768,769,770]
[]
[null,806,807,808,809,810,811,812,813,814,815,816,817,818,819,820,821,822,823,824,825,826,827,828,829,830,831,832,833,834,835,836,837,838,839,840]
[null,281,282,283,284,285,286,287,288,289,290,291,292,293,294,295,296,297,298,299,300,301,302,303,304,305,306,307,308,309,310,311,312,313,314,315]
[null,"Terug",null,null,null,null,null,null,null,null,"Zwolle (3)",null,null,null,null,null,null,null,null,null,null,null,null,null,null,null,null,null,null,{"$f":"SUMPRODUCT((MOD(B29379:AJ29407,100)=0)*(B29379:AJ29407<1000)*(B29379:AJ29407<>\"\"))","v":9},null,"MANCO:",null,{"$f":"COUNT(B29379:AJ29407)","v":1000}]
[null,386,387,388,389,390,391,392,393,394,395,396,397,398,399,400,401,402,403,404,405,406,407,408,409,410,411,412,413,414,415,416,417,418,419,420]
[null,981,982,983,984,985,986,987,988,989,990,991,992,993,994,995,996,997,998,999,1000]
[null,456,457,458,459,460,461,462,463,464,465,466,467,468,469,470,471,472,473,474,475,476,477,478,479,480,481,482,483,484,485,486,487,488,489,490]
[null,"Terug",null,null,null,null,null,null,null,null,"Zl - Nieuwe Markt (1)",null,null,null,null,null,null,null,null,null,null,null,null,null,null,null,null,null,null,{"$f":"SUMPRODUCT((MOD(B29507:AJ29535,100)=0)*(B29507:AJ29535<1000)*(B29507:AJ29535<>\"\"))","v":9},null,"MANCO:",null,{"$f":"COUNT(B29507:AJ29535)","v":1000}]
[null,526,527,528,529,530,531,532,533,534,535,536,537,538,539,540,541,542,543,544,545,546,547,548,549,550,551,552,553,554,555,556,557,558,559,560]
[null,1,2,3,4,5,6,7,8,9,10,11,12,13,14,15,16,17,18,19,20,21,22,23,24,25,26,27,28,29,30,31,32,33,34,35]
[null,596,597,598,599,600,601,602,603,604,605,606,607,608,609,610,611,612,613,614,615,616,617,618,619,620,621,622,623,624,625,626,627,628,629,630]
[null,71,72,73,74,75,76,77,78,79,80,81,82,83,84,85,86,87,88,89,90,91,92,93,94,95,96,97,98,99,100,101,102,103,104,105]
[null,666,667,668,669,670,671,null,null,674,null,676,677,678,679,680,681,682,683,684,685,686,687,null,null,690,691,null,null,694,695,696,697,698,699,700]
[null,141,142,143,144,145,146,147,148,149,150,151,152,153,154,155,156,157,158,159,160,161,162,163,164,165,166,167,168,169,170,171,172,173,174,175]
[null,736,737,738,739,740,741,742,743,744,745,746,747,748,749,750,751,752,753,754,755,756,757,758,759,760,761,762,763,764,765,766,767,768,769,770]
[null,211,212,213,214,215,216,217,218,219,220,221,222,223,224,225,226,227,228,229,230,231,232,233,234,235,236,237,238,239,240,241,242,243,244,245]
[null,806,807,808,809,810,811,812,813,814,815,816,817,818,819,820,821,822,823,824,825,826,827,828,829,830,831,832,833,834,835,836,837,838,839,840]
[null,281,282,283,284,285,286,287,288,289,290,291,292,293,294,295,296,297,298,299,300,301,302,303,304,305,306,307,308,309,310,311,312,313,314,315]
[]
[]
[]
[null,456,null,458,459,null,461,null,null,464,null,null,null,468,469,null,null,null,null,474,null,null,477,null,479,480,null,null,null,null,null,486]
[null,"Terug",null,null,null,null,null,null,null,null,"Asd - Bank der Bondsspaarbanken (89)",null,null,null,null,null,null,null,null,null,null,null,null,null,null,null,null,null,null,{"$f":"SUMPRODUCT((MOD(B29987:AJ30015,100)=0)*(B29987:AJ30015<1000)*(B29987:AJ30015<>\"\"))","v":3},null,"MANCO:",null,{"$f":"COUNT(B29987:AJ30015)","v":183}]
[]
[null,1,null,null,null,null,null,null,null,null,null,null,12,null,null,15,null,null,18,19,20]
[null,null,null,null,null,600,601,null,603,null,null,null,null,608,null,null,null,null,null,614,null,null,617,null,null,null,null,null,null,null,null,626,null,null,null,630]
[null,71,72,73,74,75,76,77,78,79,80,81,82,83,84,85,86,87,88,89,90,91,92,93,94,95,96,97,98,99,100,101,102,103,104,105]
[null,666,667,null,669,670,671,null,null,674,null,null,null,null,679,680,null,682,null,null,null,null,687,688,null,690,null,692,null,694]
[]
[]
[null,null,null,null,null,null,null,217,null,219,null,null,222,223,null,225,null,null,null,null,230,null,null,null,null,null,null,null,null,null,240,null,null,243]
[]
[null,281,282,283,284,null,null,287,288,289,290,291,292,293,294,null,null,297,298,299,300,301,null,303,304,305,306,307,308,309,310,311,312,313,314,315]
[]
[]
[null,946,null,null,null,null,null,null,null,null,null,null,null,null,null,null,961,null,null,null,null,null,null,null,null,null,971]
[null,null,null,null,null,530,null,null,null,null,535,null,null,null,null,540,null,null,543,null,null,null,null,null,null,null,null,null,null,554]
[null,"Terug",null,null,null,null,null,null,null,null,"Asd - Postbus 283 (86)",null,null,null,null,null,null,null,null,null,null,null,null,null,null,null,null,null,null,{"$f":"SUMPRODUCT((MOD(B30467:AJ30495,100)=0)*(B30467:AJ30495<1000)*(B30467:AJ30495<>\"\"))","v":5},null,"MANCO:",null,{"$f":"COUNT(B30467:AJ30495)","v":343}]
[null,null,null,null,null,null,null,null,null,null,null,null,null,785,null,null,null,789,null,null,null,793,null,null,null,797,798]
[null,null,null,null,null,5,null,null,null,null,null,null,null,13,14,15,null,17,null,19,null,21,null,null,null,null,null,27,null,29,null,null,null,null,null,35]
[null,null,null,null,null,null,null,null,null,848,null,null,null,null,null,null,null,null,null,null,null,860,861,862,863,864,865,866,867,868,869,870,871,872,873,874]
[null,null,72,73,74,75,76,77,78,79,null,null,82,83,84,85,86,87,88,null,null,null,92,93,94,95,96,97,null,99,100,101,102,103,104,105]
[null,666,667,null,null,null,null,null,673,null,675,null,677,678,679,680,681,null,null,684,685,null,null,null,null,690,691,null,null,null,695,null,null,null,699,700]
[null,141,142,143,144,145,146,null,148,149,150,null,152,null,null,155,156,157,158,159,160,161,162,null,164,165,null,167,168,169,170,null,172,null,174,175]
[null,736,737,null,null,740,741,742,null,744,745,null,null,748,749,750,null,752,null,754,755,null,757,758,759,null,null,762,763,null,765,766,null,null,769,770]
[null,null,null,null,null,215,null,217,null,null,null,null,null,223,null,225,null,null,null,229,null,null,null,null,null,235,null,null,null,null,null,null,null,243,null,245]
[null,806,807,null,null,810,811,null,null,814,null,816,null,818,null,820,null,null,823,null,825,null,null,828,829,null,null,null,833,834,835]
[null,null,null,null,null,null,null,null,null,null,null,null,null,null,null,null,null,null,null,null,300,null,null,null,null,305,null,null,308,null,310,null,null,null,314,315]
[null,876,877,878,null,880,881,null,null,null,885,886,null,null,null,null,891,892,893,null,null,null,897,null,null,900,901,null,903,null,null,906,907]
[null,null,null,null,null,null,null,null,null,null,null,null,null,null,935,943,944,976,985,1000]
[null,946,null,null,null,null,null,null,null,null,null,956,957,null,null,null,961,962,null,964,null,966,967,null,null,970,null,null,null,null,null,976,null,null,979,980]
[null,null,422,null,null,425,426,null,null,429,430,null,null,null,null,null,null,null,438,null,null,null,null,443,null,445,null,447]
[null,141,142,143,144,145,null,147,148,null,null,151,null,153,154,155,null,null,158,159,160,161,null,163,null,165,166,167,null,null,170,null,172,173,174,175]
[null,526,527,null,529,530,531,532,533,null,535,null,537,538,null,540,null,542,543,null,545,546,547,548,null,550,551,552,null,554,555,556,557,558,559,560]
[null,1,2,null,null,null,null,null,null,null,null,null,12,13,null,null,null,null,18,19,20,null,null,null,null,25,null,null,28,null,null,31,32,null,34]
[null,596,null,null,599,600,601,602,603,604,605,null,null,null,null,610,null,612,613,null,null,616,617,618,619,620,621,null,623,null,625,null,null,628,629,630]
[null,null,null,null,74,null,null,null,null,null,null,null,null,83]
[null,null,null,null,null,null,null,null,null,null,null,null,null,null,null,null,null,null,null,null,685,null,null,null,689,null,null,692,null,694,null,null,null,null,null,700]
[null,141,142,null,144,null,146,null,148,149,150,151,null,null,154,155,156,157,null,null,160,null,162,null,null,165,null,null,168,null,null,null,172,173,174]
[]
[]
[]
[null,null,null,null,null,null,null,null,null,null,null,null,null,null,null,930,931,933]
[null,null,877,null,879,880,881,null,null,null,null,null,887,888,null,890,891,892,893,894,895,896,897,null,899,900,null,902,903,904,null,906,907,908,909]
[null,null,352,353,354,355,356,357,358,359,null,null,362,null,null,365,null,null,null,null,null,null,null,null,374,null,null,null,378]
[null,946,947,null,949,950,null,null,null,954,null,956,957,958,959,960,null,null,963,964,null,966,967,968,969,970,971,972,973,974,975,null,null,null,null,980]
[null,null,null,423,424,425,426,null,428,429,430,null,432,433,434,435,null,437,438,null,440,441,442,443,null,null,null,null,448,449,null,451,452,null,454]
[]
[null,null,null,913,null,null,null,null,null,null,920,null,null,923,null,null,null,null,null,null,930,null,932,933,934,null,null,null,null,null,null,null,null,null,null,945]
[null,1,2,3,4,5,6,7,8,9,10,11,null,null,14,15,16,null,18,19,null,null,22,null,null,25,null,27,28,null,30,null,null,33,null,35]
[null,596,597,598,null,600,601,602,603,null,605,606,607,608,null,610,611,612,613,null,null,616,617,618,619,null,621,622,null,null,625,626,627,628,629,630]
[null,null,null,null,null,75,null,77,null,null,null,null,null,null,84,null,null,null,null,null,null,91,null,null,null,null,null,97,null,null,100]
[]
[]
[]
[]
[]
[null,null,null,null,null,null,null,null,null,null,null,null,null,null,null,9]
[]
[null,null,null,null,null,null,null,null,null,null,null,null,null,null,"C","o","m","p","l","e","e","t"]
[null,946,947,948,949,950,951,null,null,954,955,956,null,958,null,null,961,962,963,null,null,966,null,null,969,970,null,972,973,974,null,976,977,978,979,980]
[]
[]
[null,null,null,null,null,null,null,null,null,null,null,null,null,null,948]
[]
[null,null,null,null,null,880,null,882,883,884,null,null,null,null,null,null,null,null,null,null,null,null,897,null,null,null,null,null,903,null,null,null,null,null,null,910]
[]
[null,666,667,null,null,null,671,null,null,674,null,null,null,null,679,null,681,null,683,null,685,null,687,688,null,690,691,null,693,null,null,696,697,698,699,700]
[]
[null,null,737,738,null,740,741,742,null,744,null,null,747,null,null,null,751,null,753,null,null,756,null,758,null,null,761,762,763,764,null,null,null,768,769]
[null,null,null,null,214,215,null,null,null,null,null,null,222,null,null,null,226,null,null,null,230,231,null,null,null,null,null,null,238,null,null,241,null,null,244]
[]
[]
[null,null,877,null,null,880,881,882,null,null,885,null,null,null,889,null,891,892,null,null,null,896,null,898,899,null,null,902,null,null,905,null,907,908]
[null,351,352,353,null,null,null,357,null,359,null,null,362,363,364,null,null,367,368,369,null,null,372,null,374,375,null,null,null,null,null,null,null,null,null,385]
[null,null,947,null,949,null,951,null,null,null,955,956,957,958,null,null,961,null,null,null,965,null,null,null,null,970,null,null,null,null,null,null,977]
[null,null,422,423,null,null,426,427,null,429,430,431,432,433,434,435,436,null,null,null,null,441,null,443,444,445,446,null,null,null,450,451,null,453,454]
[]
[]
[]
[]
[null,null,null,null,null,null,null,null,null,null,500,null,null,null,null,null,506,null,null,null,510,511,null,null,514,null,516,null,null,null,null,null,null,523]
[null,null,null,668,null,null,null,null,null,null,null,null,677,null,null,680,null,null,683,684,null,686,687,null,null,null,null,692,693,694,695]
[null,null,142,143,null,null,146,147,148,null,null,151,null,153,154,155,156,157,158,null,null,161,null,null,164,null,null,null,null,null,170,171,172,173,174]
[null,null,737,738,739,null,741,742,null,744,745,746,null,748,null,750,751,null,null,754,755,null,null,758,null,760,null,null,null,null,null,null,767,768]
[null,null,null,213,214,215,216,217,218,null,null,221,null,223,224,225,226,null,null,null,230,null,232,233,234,235,236,null,238,239,240,null,null,243,244,245]
[null,null,null,808,809,810,811,null,813,814,null,null,null,818,null,820,821,null,null,null,null,null,null,null,829,null,831,832,833,834,null,836,null,838,839]
[null,null,null,283,null,285,null,287,288,null,290,null,292,null,294,295,null,null,298,null,300,301,null,null,304,null,306,null,null,null,null,null,null,313,314]
[null,null,877,878,879,880,881,882,883,884,885,886,887,null,null,null,891,892,893,894,null,896,897,898,899,null,null,902,903,904]
[null,351,352,353,354,355,356,357,358,359,360,361,362,null,364,365,366,367,368,null,370,null,null,373,374,375,376,377,378,null,380,381,382,383,384,385]
[null,946,947,948,949,null,951,null,null,null,null,956,null,null,null,null,961,962,null,964,null,966,967,968,969,970,null,972,973,974,null,976,977,978,null,980]
[null,null,null,423,424,425,426,427,428,null,null,431,432,433,null,null,436,437,null,439,440,441,null,443,444,445,null,null,null,null,null,451,452,453,454,455]
[]
[null,null,492,null,494,495,null,null,498,null,500,null,502,503,504,505,null,null,null,509,510,null,512,null,null,515,516,null,null,519,520,521,null,523,null,525]
[]
[]
[]
[]
[]
[]
[]
[]
[]
[]
[]
[]
[]
[null,null,null,null,null,null,null,null,null,null,null,null,null,433]
[]
[null,null,null,null,null,null,null,null,null,null,null,null,null,null,null,null,null,null,null,null,null,null,null,513,514,null,null,null,null,null,null,null,522]
[null,null,527,null,null,null,null,null,null,null,null,null,null,null,null,null,null,null,null,null,null,546,null,null,null,null,null,552]
[null,null,null,563,null,null,566,null,568,null,null,null,null,null,null,null,null,null,null,null,null,null,null,null,null,null,null,null,null,null,null,null,null,null,594]
[null,null,null,null,null,600,null,602,null,null,null,606,null,null,609,null,null,null,null,null,null,616,null,null,619,null,null,null,null,null,null,626]
[null,null,null,633,634,null,null,null,null,639,null,null,null,null,null,null,null,null,648,null,null,null,null,null,null,null,656,657,null,null,null,null,null,null,664]
[null,null,null,null,null,null,null,672,673,null,null,null,null,null,null,null,681,682,683,null,null,null,null,688,null,null,null,null,null,null,null,696,697]
[null,null,null,null,null,null,706,null,null,null,710,null,null,null,null,715,null,null,718,null,null,null,null,null,null,null,null,null,null,null,730,731]
[null,null,null,null,null,null,null,null,null,null,null,null,747,null,null,null,null,null,753,null,null,null,null,null,null,null,null,762,763]
[null,null,772,773,null,null,null,null,null,779,null,781,null,null,null,null,null,787,null,789,null,null,null,null,null,null,null,797]
[null,null,807,null,null,null,null,null,null,814,815,null,null,null,819,null,null,null,null,null,null,null,null,null,null,null,null,null,null,null,null,836,null,null,839]
[null,null,842,null,null,null,null,null,null,849,null,null,null,null,null,null,null,null,null,null,860,null,null,863,null,null,null,null,868,null,null,871]
[null,null,877,null,null,null,null,null,null,null,null,null,null,888,null,null,null,null,null,null,895,null,null,898,null,null,null,null,null,null,905]
[null,null,null,913,null,null,null,null,null,919,null,921,null,923,null,null,null,927]
[null,946,null,null,null,null,951,null,null,954,null,null,957,null,null,null,null,962,null,null,null,null,null,968,null,null,null,null,null,null,null,null,977]
[null,981,null,null,984,null,null,null,null,null,null,991,null,null,null,null,null,null,998,999,1000]
[]
[null,"Terug",null,null,null,null,null,null,null,null,"Suriname + Ned. Antillen (1)",null,null,null,null,null,null,null,null,null,null,null,null,null,null,null,null,null,null,{"$f":"SUMPRODUCT((MOD(B33091:AJ33119,100)=0)*(B33091:AJ33119<1000)*(B33091:AJ33119>99))","v":5},null,"MANCO:",null,{"$f":"COUNT(B33091:AJ33119)","v":472}]
[]
[null,1,null,3,4,5,null,7,8,9,null,null,null,null,null,null,null,null,null,null,null,21,22,23,null,25,null,null,null,null,null,null,null,33,34]
[null,null,37,null,null,40,null,42,43,null,null,46,47,null,null,50,null,null,53,null,null,null,57,58,59,null,null,null,63,null,null,66,null,68,69]
[null,71,72,73,74,null,null,null,null,79,null,null,82,null,null,85,86,87,88,89,null,91,92,null,94,null,null,null,null,99,null,null,102,103,null,105]
[null,null,null,null,109,null,111,112,null,null,115,116,117,null,null,null,null,null,null,124,null,null,127,null,129,130,131,null,null,null,135,136,137,138,139,140]
[null,141,142,null,144,145,null,null,148,null,150,151,null,null,154,null,156,null,null,null,160,161,null,163,164,165,null,167,null,null,170,171,null,null,null,175]
[null,null,177,null,179,null,null,null,183,null,185,186,null,188,null,190,null,192,null,null,195,null,null,198,null,null,null,202,null,204,205,null,null,null,209,210]
[null,211,212,213,214,null,null,null,218,null,null,221,222,223,224,null,226,227,228,null,230,231,null,233,null,null,null,null,238,null,240,null,null,243,244,245]
[null,null,247,null,249,null,null,252,253,254,255,null,null,null,259,260,261,262,null,264,null,266,null,null,null,null,null,null,273,274,275,null,null,null,279]
[null,281,null,null,null,null,286,287,null,null,290,291,292,293,294,295,296,null,298,null,300,301,302,null,null,null,null,307,308,null,310,null,312,313,314]
[null,null,null,null,null,null,null,322,323,324,325,null,327,328,329,330,331,null,333,null,335,null,337,338,null,null,341,342,343,null,null,346,347,null,349,350]
[null,351,null,353,null,355,null,357,null,null,null,null,null,null,null,365,null,null,null,369,370,371,null,null,null,null,null,377,378,379,380,null,382]
[null,null,387,388,389,390,null,null,null,394,null,null,397,null,null,400,401,402,null,404,405,406,407,408,null,410,411,null,413,414,415,null,417,418,419,420]
[null,null,422,null,424,null,426,427,null,null,430,null,null,null,null,435,436,437,438,null,440,null,442,443,null,null,446,null,null,449,450,null,452]
[null,456,null,458,459,null,461,462,463,null,null,null,467,468,null,470,471,472,null,null,475,null,null,null,479,null,null,482,null,484,485,null,null,488]
[null,null,null,493,null,null,496,497,null,499,null,501,null,null,504,505,506,507,508,509,510,null,512,null,514,515,516,517,null,null,520,null,null,null,null,525]
[null,null,null,528,null,null,null,null,null,null,null,null,537,538,null,540,null,542,543,null,545,null,null,null,null,null,null,552,null,null,555,556,557,558,null,560]
[null,null,562,563,564,null,null,567,null,569,null,null,null,573,574,575,576,null,null,579,null,null,582,583,584,null,586,587,null,null,null,591,null,593,594,595]
[null,596,null,598,null,600,601,602,603,604,null,null,607,null,null,null,611,null,null,614,615,null,null,null,619,620,null,622,null,null,625,626,627,628,629,630]
[null,null,null,null,634,null,636,null,null,639,null,null,642,null,null,null,null,647,null,null,650,null,null,null,654,null,null,null,null,659,null,661,662,null,null,665]
[null,null,null,null,null,null,671,null,673,null,675,676,null,null,null,680,681,null,null,null,null,null,null,688,null,null,null,null,693,694,null,696]
[null,null,null,703,null,null,706,null,null,709,null,711,712,null,null,715,716,717,null,null,720,721,722,null,724,725,null,null,null,null,730,null,null,null,734,735]
[null,736,737,738,null,null,null,null,743,744,745,null,null,null,749,null,null,752,null,754,null,756,757,null,null,760,761,null,null,null,null,null,null,null,769]
[null,null,null,null,774,775,null,777,null,null,null,781,null,null,784,785,786,null,null,null,null,null,792,null,null,null,null,797,798,null,800,801,null,null,804]
[null,null,807,808,809,null,811,null,813,814,null,816,null,null,819,null,null,null,null,824,null,826,null,828,829,null,null,832,null,834,835]
[null,null,null,null,844,null,846,null,null,849,850,null,852,853,null,855,856,null,858,859,null,861,862,null,864,865,null,null,868,869,870,871,872,null,null,875]
[null,876,null,878,null,880,null,882,null,884,885,null,null,null,null,890,null,892,893,894,895,896,null,898,899,900,null,902,null,null,905,null,null,null,null,910]
[null,null,912,913,null,915,916,null,null,919,null,null,null,null,null,null,926,927,928,929,930,null,null,null,null,935,null,null,null,null,null,null,942,null,944]
[null,null,null,948,949,950,951,null,null,954,null,null,null,958,959,960,null,962,null,964,965,966,null,null,null,null,null,null,973,null,975,976,977,978,979]
[null,981,982,null,984,985,986,null,null,null,990,991,992,null,994,995,996,997]
[]
[null,"Terug",null,null,null,null,null,null,null,null,"Suriname + Ned. Antillen (2)",null,null,null,null,null,null,null,null,null,null,null,null,null,null,null,null,null,null,{"$f":"SUMPRODUCT((MOD(B33123:AJ33151,100)=0)*(B33123:AJ33151<1000)*(B33123:AJ33151>99))","v":7},null,"MANCO:",null,{"$f":"COUNT(B33123:AJ33151)","v":464}]
[]
[null,1,null,null,4,5,null,7,8,9,null,11,null,null,14,15,null,17,null,null,null,null,22,null,null,25,26,null,28,29,30,31,32,33]
[null,null,null,38,null,null,null,42,null,44,null,null,47,null,null,50,51,52,null,null,null,56,57,58,null,60,null,62,63,64,65,66,null,null,69,70]
[null,71,72,null,null,75,76,null,null,null,80,81,null,null,null,null,86,87,88,89,null,null,null,93,94,null,null,null,null,99,100,101,102,103,104]
[null,null,null,null,null,null,111,112,113,114,null,116,null,118,119,null,121,null,123,null,null,126,127,128,null,null,131,132,null,null,null,null,null,null,null,140]
[null,141,142,143,144,null,null,null,null,149,150,null,null,153,null,155,null,157,null,null,null,null,null,null,null,null,null,null,null,169,170,null,null,173]
[null,null,null,178,null,180,null,182,null,null,185,null,null,188,null,null,null,192,193,null,null,196,197,198,null,200,201,202,203,204,205,206,207,null,null,210]
[null,211,null,null,214,null,null,null,null,219,null,221,222,223,null,null,null,227,null,null,230,231,null,null,234,null,null,237,238,239,240,null,242,null,244,245]
[null,246,null,null,null,null,null,252,253,null,null,null,null,258,259,null,261,262,263,264,null,null,267,268,269,270,271,null,273,null,275,276,277,278,279]
[null,281,null,null,null,285,286,null,288,289,null,null,292,null,null,null,null,297,298,299,null,null,null,null,304,null,null,307,308,null,null,null,null,313]
[null,316,null,null,319,320,321,322,323,null,325,null,null,null,null,330,null,null,null,null,null,336,null,338,339,null,null,null,343,null,345,346,347,null,349]
[null,null,352,null,354,null,356,357,null,359,360,null,null,363,null,null,366,367,368,null,370,null,372,null,null,375,null,377,378,null,380,null,382]
[null,null,null,388,null,390,391,null,393,null,395,396,397,null,null,null,401,null,null,404,405,406,null,null,null,null,null,null,413,null,null,null,null,418,419,420]
[null,null,null,423,null,425,426,null,null,429,null,431,null,433,434,435,null,null,null,null,440,null,442,443,444,null,446,447,null,null,450,null,null,453,454]
[null,456,null,458,459,null,null,null,463,464,null,null,467,null,null,null,471,null,473,null,475,null,477,null,null,480,481,482,483,null,null,486]
[null,null,492,null,null,null,496,497,498,499,500,null,502,null,null,505,506,null,508,null,510,511,512,513,null,null,516,null,null,null,520,null,522]
[null,526,527,null,null,null,531,null,null,null,535,536,537,null,null,null,541,null,543,544,null,null,547,null,549,null,551,null,null,554,555,556,557]
[null,561,null,null,564,565,null,null,null,null,570,571,572,573,574,575,576,null,null,579,580,581,null,583,null,585,586,null,588,null,590,null,592]
[null,596,null,null,null,600,601,null,null,604,605,null,null,null,null,610,611,null,null,null,null,616,null,618,null,620,621,622,623,null,null,null,null,628,null,630]
[null,null,632,null,634,null,null,null,638,639,null,641,null,null,644,645,null,647,null,649,650,null,652,653,null,null,656,657,null,null,null,null,null,663,664,665]
[null,null,667,668,null,670,null,672,null,674,675,676,677,678,null,680,681,682,683,684,685,null,687,688,689,690,null,null,null,694,null,696,null,null,699,700]
[null,null,null,null,null,null,null,null,null,709,710,null,null,713,null,715,null,null,718,719,720,721,null,null,724,null,null,null,728,729,null,null,null,733,734]
[null,736,737,738,null,null,null,null,null,744,null,746,747,null,null,750,751,null,null,754,755,756,757,758,759,null,761,762,null,null,null,null,null,768,769]
[null,null,null,null,null,null,null,null,null,null,null,781,null,null,784,785,null,null,788,null,790,791,792,793,794,795,null,797,798,null,800,801,null,null,null,805]
[null,null,null,808,null,810,811,null,813,814,null,null,null,null,null,null,null,null,823,824,825,826,827,null,829,null,null,832,null,null,835,null,null,null,839]
[null,841,null,null,null,845,846,null,null,null,850,851,852,853,null,null,null,null,null,null,null,null,null,863,null,865,null,null,null,869]
[null,null,null,null,879,null,881,882,883,null,885,null,null,null,null,890,null,892,null,894,null,null,null,null,null,900,901,null,null,904,905,null,907,null,909,910]
[null,null,912,null,914,915,null,917,null,919,null,null,null,null,null,925,926,927,null,null,930,null,932,933,null,935,null,937,938,939,940,941,942]
[null,946,947,null,949,null,null,null,953,954,null,null,957,null,null,960,961,null,963,null,null,966,null,968,969,970,null,972,973,974,975,null,null,null,null,980]
[null,981,null,null,984,null,null,987,null,null,null,null,992,null,null,null,null,null,null,null,1000]
[]
[null,"Terug",null,null,null,null,null,null,null,null,"Suriname + Ned. Antillen (3)",null,null,null,null,null,null,null,null,null,null,null,null,null,null,null,null,null,null,{"$f":"SUMPRODUCT((MOD(B33155:AJ33183,100)=0)*(B33155:AJ33183<1000)*(B33155:AJ33183>99))","v":3},null,"MANCO:",null,{"$f":"COUNT(B33155:AJ33183)","v":452}]
[]
[null,1,null,3,null,null,null,7,null,null,10,null,12,null,14,null,16,null,null,null,20,21,null,23,24,25,26,null,28,null,30,null,null,33,null,35]
[null,36,null,null,null,null,null,null,null,null,null,null,null,null,null,null,null,52,53,null,55,56,null,58,null,60,61,62,63,null,65,66,67,68,69]
[null,null,null,null,null,null,null,null,78,79,null,null,82,83,null,null,null,87,null,null,null,null,null,null,null,null,null,null,null,99,null,101,null,103]
[null,106,null,108,109,110,111,null,113,null,null,116,117,null,null,120,null,122,123,124,125,null,127,128,null,null,131,null,133,134,null,null,null,138,null,140]
[null,141,null,143,null,null,null,null,null,null,150,null,152,153,null,null,156,null,null,null,null,161,null,null,164,null,null,null,null,null,null,null,172]
[null,176,null,null,null,null,181,null,null,184,185,null,null,188,189,190,191,192,null,194,195,196,null,198,199,null,null,202,203,204,null,206]
[null,null,null,null,214,null,216,217,218,null,null,221,222,null,224,225,null,null,228,null,null,null,232,233,null,null,null,null,null,239,null,241]
[null,null,247,248,null,250,251,null,253,null,null,null,257,null,null,null,261,262,null,null,265,null,null,null,null,270,null,null,null,null,null,276,277,null,279,280]
[null,281,282,null,null,null,null,287,null,null,290,291,null,null,null,null,null,297,null,299,null,301,302,null,null,null,null,null,null,309,310,311,null,313,null,315]
[null,null,null,null,null,null,null,322,null,324,325,326,null,328,329,null,null,null,null,334,null,336,337,null,null,null,341,null,343,null,345,null,347]
[null,null,null,353,null,355,null,null,358,null,360,null,362,null,364,365,366,367,368,null,null,371,null,373,null,null,376,null,378,379,null,null,382,null,384,385]
[null,null,387,388,null,390,391,392,393,394,395,396,397,null,null,null,401,402,403,404,405,406,407,null,409,null,411,null,null,null,415,null,417,418,419]
[null,null,null,null,424,null,null,null,428,null,null,431,null,null,null,435,436,null,438,null,440,null,442,null,444,445,null,447,448,null,450,null,452,null,null,455]
[null,456,null,null,null,null,null,null,null,464,465,null,null,468,469,null,null,472,473,474,475,476,477,478,null,480,null,482,null,null,485,null,487,488]
[null,null,492,493,null,null,496,null,null,499,500,null,502,null,504,505,null,507,null,null,null,511,null,null,null,null,516,null,null,null,null,null,null,null,524]
[null,null,null,528,529,530,531,532,null,null,535,null,537,null,null,540,null,542,null,null,null,546,null,548,549,550,551,552,553,null,555]
[null,null,null,null,564,null,566,567,null,569,570,571,572,null,null,null,null,577,null,null,580,null,null,null,null,585,586,587,null,589,590,null,592,null,594,595]
[null,null,597,598,null,600,601,602,null,null,605,null,null,null,609,null,null,612,613,614,615,616,617,618,619,620,null,null,null,null,null,null,null,628]
[null,631,632,null,null,null,636,null,null,639,null,641,null,null,644,645,null,647,null,null,null,null,null,653,null,655,656,null,658,659,660,null,null,663,664,665]
[null,null,null,null,669,null,671,null,673,null,675,676,null,678,679,680,681,682,683,null,null,null,687,688,null,690,691,null,693,694,695,null,697]
[null,null,702,null,704,705,706,707,null,null,null,null,712,713,714,715,716,null,null,719,null,null,null,723,null,725,null,null,null,729,null,null,732,null,734]
[null,null,null,null,739,740,null,null,743,744,null,null,null,null,749,null,null,null,753,754,null,756,757,null,null,null,null,null,null,764,null,766]
[null,771,772,773,774,775,776,777,778,null,780,null,null,null,784,785,null,787,null,789,790,null,null,793,null,null,796,null,null,799,800]
[null,806,807,null,null,null,811,812,813,null,null,null,817,818,null,null,null,822,823,824,null,null,null,null,829,830,null,832,null,null,835,836,837,null,null,840]
[null,null,842,843,844,null,null,847,848,849,850,null,852,853,null,855,856,857,null,null,860,null,null,null,864,865,null,null,null,869,870,null,872,null,874]
[null,null,877,null,879,null,null,null,null,884,885,null,null,888,null,890,null,892,893,null,895,null,null,null,899,null,null,902,903,904,905,906,null,908,null,910]
[null,null,null,913,null,null,916,917,null,null,920,921,922,923,924,null,null,null,928,929,null,931,932,null,null,null,null,null,null,939,null,null,942,null,944]
[null,null,947,948,949,null,951,null,953,954,955,null,null,958,959,960,null,null,null,null,965,966,967,null,null,null,null,972,null,null,975,976,977]
[null,981,null,983,null,null,null,null,null,989,null,null,992,null,994,null,996,997,998,null,1000]
[]
[null,"Terug",null,null,null,null,null,null,null,null,"Suriname + Ned. Antillen (4)",null,null,null,null,null,null,null,null,null,null,null,null,null,null,null,null,null,null,{"$f":"SUMPRODUCT((MOD(B33187:AJ33215,100)=0)*(B33187:AJ33215<1000)*(B33187:AJ33215>99))","v":5},null,"MANCO:",null,{"$f":"COUNT(B33187:AJ33215)","v":429}]
[]
[null,1,2,3,null,5,6,7,8,null,null,null,null,null,null,15,16,null,18,null,null,21,22,null,null,null,26,null,null,null,null,31,32,33,34]
[null,null,null,38,null,null,null,null,43,null,45,null,47,48,null,null,51,null,null,null,55,null,null,null,59,60,null,62,null,64,65,66,null,null,null,70]
[null,71,null,null,74,null,76,77,78,79,null,81,null,83,84,null,null,null,88,null,90,null,null,null,null,95,null,97,null,99,null,101,null,103,104,105]
[null,106,null,null,109,110,null,112,113,null,115,116,117,null,null,120,121,null,null,null,null,null,null,null,null,130,null,null,null,null,null,null,137,138,139]
[null,null,null,null,null,145,null,null,null,149,null,151,152,153,154,null,156,157,158,null,null,null,162,null,null,null,null,167,168,null,170,171,null,173,174]
[null,null,null,178,null,180,181,null,183,null,null,186,187,188,null,null,null,null,null,null,195,196,197,null,199,200,201,null,203,204,205,null,207,null,209]
[null,211,212,null,null,215,null,null,null,219,null,null,null,null,null,null,null,null,null,229,null,null,232,null,null,null,236,null,null,239,240,241]
[null,null,null,null,249,null,null,null,null,254,255,256,257,null,259,null,261,null,null,null,null,266,null,null,null,270,271,null,null,274,275,null,null,278,279]
[null,null,null,null,284,null,286,null,288,289,null,291,292,293,294,295,null,null,null,null,null,null,302,null,null,305,null,307,null,null,310,311,312,313]
[null,null,317,null,319,null,null,null,323,324,null,326,null,328,329,null,null,332,null,334,335,null,337,338,339,340,null,342,null,344,null,null,347,null,349]
[null,null,352,null,354,null,null,null,null,null,null,null,null,363,null,null,null,367,null,369,null,null,null,null,null,375,null,null,378,null,380,null,382,383,384]
[null,386,null,388,null,390,null,null,null,null,395,null,397,null,399,400,null,null,null,null,null,null,null,null,null,null,null,null,null,414,null,416,null,418,null,420]
[null,null,null,null,null,425,426,427,428,null,430,431,432,null,null,null,null,null,null,null,null,441,442,null,null,null,null,447,448,null,450,null,452]
[null,456,null,null,null,null,461,462,null,464,null,466,467,null,469,null,null,null,null,474,475,476,null,478,479,null,481,null,null,484,null,486]
[null,null,null,493,null,null,496,null,498,499,null,null,null,null,null,null,null,null,null,null,null,511,512,null,null,null,null,517,518,null,null,521,null,523,524]
[null,null,null,null,null,530,null,532,533,534,null,null,537,538,null,540,541,542,543,544,545,null,null,548,null,550,null,null,553,554,555,null,null,null,559]
[null,null,null,null,null,null,null,null,568,null,null,null,null,573,574,575,576,577,null,579,null,581,null,583,null,585,null,null,588,null,null,null,null,null,594,595]
[null,596,597,598,599,null,null,602,603,604,null,606,607,null,609,610,null,612,613,614,615,616,null,618,619,620,621,null,623,null,null,null,627,null,629,630]
[null,null,632,null,null,635,null,null,null,639,640,null,null,643,null,null,null,null,null,null,null,null,652,653,654,655,656,657,null,null,660,661,662,663]
[null,666,null,668,669,670,null,672,null,null,675,null,null,null,679,680,null,682,null,684,null,686,687,null,689,690,691,692,null,694,695,null,null,null,null,700]
[null,null,null,null,null,705,null,null,708,null,null,711,712,null,714,null,null,null,null,null,null,null,722,null,724,null,null,727,728,729,null,null,732,null,734,735]
[null,736,737,null,739,null,null,742,743,null,745,746,null,null,null,null,751,752,753,null,null,null,null,758,759,null,null,null,763,null,765,766,767,768]
[null,null,null,null,null,775,776,null,null,779,null,null,null,783,784,785,786,null,788,null,null,791,null,null,794,null,null,null,null,799,800,null,null,803,804]
[null,806,807,null,null,null,811,null,null,814,null,null,null,818,819,null,821,822,null,null,825,null,null,null,null,null,null,null,null,null,null,null,837,null,839]
[null,841,null,843,null,null,null,null,null,849,850,null,852,853,854,855,null,null,null,null,null,null,862,863,null,865,866,867,null,869,null,871,872,null,874]
[null,null,null,878,null,880,null,882,883,null,null,886,887,888,null,null,null,892,null,894,null,null,897,null,null,900,null,902,null,null,905,906,907,null,909]
[null,911,null,null,null,null,null,null,null,null,null,null,922,null,null,null,null,927,928,null,930,931,null,933,null,null,null,937,938,null,940,941,942,943]
[null,946,null,948,null,950,null,null,null,954,null,null,null,958,null,960,null,962,null,null,965,null,967,968,969,null,971,972,null,null,null,null,977,null,979,980]
[null,null,982,983,null,null,986,null,988,null,null,991,992,null,994]
[]
[null,"Terug",null,null,null,null,null,null,null,null,"Type A t/m K (0)",null,null,null,null,null,null,null,null,null,null,null,null,null,null,null,null,null,null,{"$f":"SUMPRODUCT((MOD(B33219:AJ33247,100)=0)*(B33219:AJ33247<1000)*(B33219:AJ33247>99))","v":0},null,"MANCO:",null,{"$f":"COUNT(Q33226:R33227)","v":3}]
[]
[]
[]
[]
[]
[]
[]
[]
[null,null,null,null,null,null,null,null,null,null,null,null,null,null,null,null,4,77]
[null,null,null,null,null,null,null,null,null,null,null,null,null,null,null,null,1000]
[]
[]
[]
[]
[]
[]
[]
[]
[]
[]
[]
[]
[]
[]
[]
[]
[]
[]
[]
[]
[]
[null,"Terug",null,null,null,null,null,null,null,null,"Type A t/m K (0) 2e",null,null,null,null,null,null,null,null,null,null,null,null,null,null,null,null,null,null,{"$f":"SUMPRODUCT((MOD(B33251:AJ33279,100)=0)*(B33251:AJ33279<1000)*(B33251:AJ33279>99))","v":0},null,"MANCO:",null,{"$f":"COUNT(O33254:V33256)","v":10}]
[]
[]
[]
[]
[null,null,null,null,null,null,null,null,null,null,null,null,null,null,1,4,6,7,9,44,76,77]
[null,null,null,null,null,null,null,null,null,null,null,null,null,null,111]
[null,null,null,null,null,null,null,null,null,null,null,null,null,null,1000]
[]
[]
[]
[]
[]
[]
[]
[]
[]
[]
[]
[]
[]
[]
[]
[]
[]
[]
[]
[]
[]
[]
[]
[]
[null,"Terug",null,null,null,null,null,null,null,null,"Rijdend Postkantoor 2e",null,null,null,null,null,null,null,null,null,null,null,null,null,null,null,null,null,null,{"$f":"SUMPRODUCT((MOD(B33283:AJ33311,100)=0)*(B33283:AJ33311<1000)*(B33283:AJ33311>99))","v":0},null,"MANCO:",null,{"$f":"COUNT(B33283:AJ33311)","v":143}]
[]
[null,null,2,null,null,null,null,7,null,null,null,null,null,null,null,null,null,17]
[]
[null,null,null,null,null,75,null,null,null,null,null,null,null,null,null,null,null,87]
[null,null,null,null,null,null,null,null,null,null,null,null,null,null,null,null,null,null,null,null,null,null,null,null,null,null,null,null,null,134]
[null,null,null,143,null,null,null,null,null,149,null,null,null,null,null,null,null,null,158,null,null,null,null,null,null,165,null,null,null,null,null,null,null,null,null,175]
[]
[null,null,null,null,null,null,null,null,218,null,null,null,222,223,null,null,null,null,null,null,230]
[null,null,null,null,null,250,251,null,null,null,null,null,null,258,259,null,null,null,null,null,null,null,null,null,null,null,null,null,null,274]
[null,null,null,null,null,285,null,287,288,null,null,null,null,null,null,null,296,null,298,null,null,301,null,null,null,null,null,307,308,309]
[null,null,null,null,null,null,null,null,null,null,null,326,null,null,null,null,null,null,null,null,null,null,null,338,null,null,null,null,null,null,null,null,null,null,349]
[null,null,null,353,null,null,null,null,null,null,null,null,null,null,364,null,null,null,null,null,null,null,372,null,null,null,null,null,null,null,null,381,null,null,384]
[null,null,null,null,null,390,391,392,null,null,null,null,null,null,null,null,null,null,null,null,null,406,407,null,null,410,null,null,null,null,415,416]
[null,null,null,null,null,null,null,427,null,null,null,null,null,null,null,null,null,null,null,null,null,null,null,null,null,null,446]
[null,null,457,null,null,null,null,null,null,464,465,null,null,null,null,470,null,472,null,null,null,null,null,478,null,null,null,482,null,484,null,null,null,488,489]
[null,491,492,null,494,null,null,null,null,null,null,501]
[null,526,527,null,null,null,null,null,null,null,null,null,537,null,null,null,null,null,null,null,545,null,null,null,null,null,551,null,null,null,null,null,null,null,559]
[null,null,null,null,null,null,566,null,null,569,null,571,null,null,null,null,null,null,null,579,null,581,null,null,null,null,null,null,588,589,null,null,null,593]
[null,596,null,null,null,null,601,602,null,null,605,null,null,null,null,610,null,null,null,null,null,null,null,618,null,null,null,null,623,624]
[null,null,null,null,null,null,null,null,null,null,null,null,null,643,null,null,null,null,null,null,null,null,null,null,null,655,null,null,null,null,null,null,662,null,null,665]
[null,null,null,null,669,null,null,null,673,674,null,null,null,null,null,null,null,null,683,684,null,null,687]
[null,null,null,null,null,null,null,null,null,709,710,null,null,null,null,null,null,717,null,719,null,null,null,null,null,725,null,null,null,729,730,731,null,733,null,735]
[null,null,null,738,null,null,null,null,null,null,745,746,null,null,null,null,null,null,753,754,null,756,null,null,null,null,null,null,null,764]
[null,null,null,null,774,null,776,null,null,null,780,null,null,null,null,null,null,null,788,null,790,null,null,793]
[null,null,null,null,null,810,null,null,813,null,815,null,null,null,null,null,null,null,null,null,null,null,null,null,null,null,null,null,833,834,835,836]
[null,null,null,null,null,null,null,null,null,null,null,null,null,null,854,null,null,null,null,859,null,null,null,null,null,865,null,867,null,null,null,null,872,null,null,875]
[null,null,null,null,null,null,881,null,883,884,null,null,null,null,null,null,891,null,null,null,null,896]
[null,null,null,null,914,null,null,null,null,919,null,921,922,null,null,null,null,null,null,null,null,null,932,933,null,935]
[null,946]
[null,null,982]