{"text_format":"1","workbook":"xlsx","n_sheets":3,"sheets":["UITLEG","INNAME","AANVRAAG VERWIJDERING "],"not_rendered":{"charts":0,"images":0,"macros":1,"external_links":0,"defined_names":0,"comments":0,"pivot_tables":0},"unopened":[],"bounds":{"document_bytes":16777216,"sheet_cells":100000,"rows_first":2000,"rows_last":500,"rows_between":2000,"halvings":0,"cell_chars":16384,"cell_head_chars":4096},"cells_cut":0,"cells_raw":0,"read":"whole","date_system":"1900"}

{"sheet":"UITLEG","index":0,"n_rows":25,"n_cols":9,"rows_kept":25,"cut":false,"hidden":false,"merged":[]}
[]
[null,null,null,null,null,null,null,null,"https://www.pc-helpforum.be/topic/66917-hulp-met-formules/"]
[null,null,"Private Sub Worksheet_Change(ByVal Target As Range)"]
[null,null,"If Not Intersect(Target, Range(\"B3:B69\")) Is Nothing And Target.Count = 1 Then"]
[null,null,"Application.EnableEvents = False"]
[null,null,"If Target.Column = 2 And Target.Value > 0 Then"]
[null,null,"Target.Offset(0, -1) = Date"]
[null,null,"Target.Offset(0, 9) = Time"]
[null,null,"ElseIf Target.Offset(0, -1) <> \"\" Then Target.Offset(0, 1) = Time"]
[null,null,"End If"]
[null,null,"Application.EnableEvents = True"]
[null,null,"End If"]
[null,null,"End Sub"]
[]
[null,null,"Private Sub Worksheet_Change(ByVal Target As Range)"]
[null,null,"If Not Intersect(Target, Range(\"B5:B249,L5:L249\")) Is Nothing And Target.Count = 1 Then"]
[null,null,"Application.EnableEvents = False"]
[null,null,"If Target.Column = 2 And Target.Value > 0 Then"]
[null,null,"Target.Offset(0, -1) = Date"]
[null,null,"Target.Offset(0, 9) = Time"]
[null,null,"ElseIf Target.Offset(0, -1) <> \"\" Then Target.Offset(0, 1) = Time"]
[null,null,"End If"]
[null,null,"Application.EnableEvents = True"]
[null,null,"End If"]
[null,null,"End Sub"]

{"sheet":"INNAME","index":1,"n_rows":3,"n_cols":10,"rows_kept":3,"cut":false,"hidden":false,"merged":[]}
["WEEK : ","NAAM ","NUMMER ","LOCKER","1: UITZENDKRACHT","INITIAAL ","UITSTROOM ","VERWERKT IN","INITIAAL "]
["DATUM ","MEDEWERKER","PAS/ DRUPPEL ","NUMMER","2: VASTE KRACHT","BEAMBTE","REDEN","DIGILIJST","BEAMBTE"]
[null,null,null,null,null,null,null,null,null,{"$f":"ISBLANK(D3)","v":true}]

{"sheet":"AANVRAAG VERWIJDERING ","index":2,"n_rows":69,"n_cols":9,"rows_kept":69,"cut":false,"hidden":false,"merged":[]}
["NAAM ","NUMMER ","LOCKER","1: UITZENDKRACHT",null,"DATUM","DATUM ","CONTROLE","BIJZONDERHEDEN "]
["MEDEWERKER","PAS / DRUPPEL ","NUMMER","2: VASTEKRACHT",null,"AANVRAAG","AKKOORD","LOCKERS","LOCKERCONTROLE"]
[{"$f":"IF(ISBLANK(INNAME!B3),\"\",INNAME!B3)","v":""},{"$f":"IF(ISBLANK(INNAME!C3),\"\",INNAME!C3)","v":""},{"$f":"IF(ISBLANK(INNAME!D3),\"\",INNAME!D3)","v":""},{"$f":"IF(ISBLANK(INNAME!E3),\"\",INNAME!E3)","v":""}]
[{"$f":"IF(ISBLANK(INNAME!B4),\"\",INNAME!B4)","v":""},{"$f":"IF(ISBLANK(INNAME!C4),\"\",INNAME!C4)","v":""},{"$f":"IF(ISBLANK(INNAME!D4),\"\",INNAME!D4)","v":""},{"$f":"IF(ISBLANK(INNAME!E4),\"\",INNAME!E4)","v":""}]
[{"$f":"IF(ISBLANK(INNAME!B5),\"\",INNAME!B5)","v":""},{"$f":"IF(ISBLANK(INNAME!C5),\"\",INNAME!C5)","v":""},{"$f":"IF(ISBLANK(INNAME!D5),\"\",INNAME!D5)","v":""},{"$f":"IF(ISBLANK(INNAME!E5),\"\",INNAME!E5)","v":""}]
[{"$f":"IF(ISBLANK(INNAME!B6),\"\",INNAME!B6)","v":""},{"$f":"IF(ISBLANK(INNAME!C6),\"\",INNAME!C6)","v":""},{"$f":"IF(ISBLANK(INNAME!D6),\"\",INNAME!D6)","v":""},{"$f":"IF(ISBLANK(INNAME!E6),\"\",INNAME!E6)","v":""}]
[{"$f":"IF(ISBLANK(INNAME!B7),\"\",INNAME!B7)","v":""},{"$f":"IF(ISBLANK(INNAME!C7),\"\",INNAME!C7)","v":""},{"$f":"IF(ISBLANK(INNAME!D7),\"\",INNAME!D7)","v":""},{"$f":"IF(ISBLANK(INNAME!E7),\"\",INNAME!E7)","v":""}]
[{"$f":"IF(ISBLANK(INNAME!B8),\"\",INNAME!B8)","v":""},{"$f":"IF(ISBLANK(INNAME!C8),\"\",INNAME!C8)","v":""},{"$f":"IF(ISBLANK(INNAME!D8),\"\",INNAME!D8)","v":""},{"$f":"IF(ISBLANK(INNAME!E8),\"\",INNAME!E8)","v":""}]
[{"$f":"IF(ISBLANK(INNAME!B9),\"\",INNAME!B9)","v":""},{"$f":"IF(ISBLANK(INNAME!C9),\"\",INNAME!C9)","v":""},{"$f":"IF(ISBLANK(INNAME!D9),\"\",INNAME!D9)","v":""},{"$f":"IF(ISBLANK(INNAME!E9),\"\",INNAME!E9)","v":""}]
[{"$f":"IF(ISBLANK(INNAME!B10),\"\",INNAME!B10)","v":""},{"$f":"IF(ISBLANK(INNAME!C10),\"\",INNAME!C10)","v":""},{"$f":"IF(ISBLANK(INNAME!D10),\"\",INNAME!D10)","v":""},{"$f":"IF(ISBLANK(INNAME!E10),\"\",INNAME!E10)","v":""}]
[{"$f":"IF(ISBLANK(INNAME!B11),\"\",INNAME!B11)","v":""},{"$f":"IF(ISBLANK(INNAME!C11),\"\",INNAME!C11)","v":""},{"$f":"IF(ISBLANK(INNAME!D11),\"\",INNAME!D11)","v":""},{"$f":"IF(ISBLANK(INNAME!E11),\"\",INNAME!E11)","v":""}]
[{"$f":"IF(ISBLANK(INNAME!B12),\"\",INNAME!B12)","v":""},{"$f":"IF(ISBLANK(INNAME!C12),\"\",INNAME!C12)","v":""},{"$f":"IF(ISBLANK(INNAME!D12),\"\",INNAME!D12)","v":""},{"$f":"IF(ISBLANK(INNAME!E12),\"\",INNAME!E12)","v":""}]
[{"$f":"IF(ISBLANK(INNAME!B13),\"\",INNAME!B13)","v":""},{"$f":"IF(ISBLANK(INNAME!C13),\"\",INNAME!C13)","v":""},{"$f":"IF(ISBLANK(INNAME!D13),\"\",INNAME!D13)","v":""},{"$f":"IF(ISBLANK(INNAME!E13),\"\",INNAME!E13)","v":""}]
[{"$f":"IF(ISBLANK(INNAME!B14),\"\",INNAME!B14)","v":""},{"$f":"IF(ISBLANK(INNAME!C14),\"\",INNAME!C14)","v":""},{"$f":"IF(ISBLANK(INNAME!D14),\"\",INNAME!D14)","v":""},{"$f":"IF(ISBLANK(INNAME!E14),\"\",INNAME!E14)","v":""}]
[{"$f":"IF(ISBLANK(INNAME!B15),\"\",INNAME!B15)","v":""},{"$f":"IF(ISBLANK(INNAME!C15),\"\",INNAME!C15)","v":""},{"$f":"IF(ISBLANK(INNAME!D15),\"\",INNAME!D15)","v":""},{"$f":"IF(ISBLANK(INNAME!E15),\"\",INNAME!E15)","v":""}]
[{"$f":"IF(ISBLANK(INNAME!B16),\"\",INNAME!B16)","v":""},{"$f":"IF(ISBLANK(INNAME!C16),\"\",INNAME!C16)","v":""},{"$f":"IF(ISBLANK(INNAME!D16),\"\",INNAME!D16)","v":""},{"$f":"IF(ISBLANK(INNAME!E16),\"\",INNAME!E16)","v":""}]
[{"$f":"IF(ISBLANK(INNAME!B17),\"\",INNAME!B17)","v":""},{"$f":"IF(ISBLANK(INNAME!C17),\"\",INNAME!C17)","v":""},{"$f":"IF(ISBLANK(INNAME!D17),\"\",INNAME!D17)","v":""},{"$f":"IF(ISBLANK(INNAME!E17),\"\",INNAME!E17)","v":""}]
[{"$f":"IF(ISBLANK(INNAME!B18),\"\",INNAME!B18)","v":""},{"$f":"IF(ISBLANK(INNAME!C18),\"\",INNAME!C18)","v":""},{"$f":"IF(ISBLANK(INNAME!D18),\"\",INNAME!D18)","v":""},{"$f":"IF(ISBLANK(INNAME!E18),\"\",INNAME!E18)","v":""}]
[{"$f":"IF(ISBLANK(INNAME!B19),\"\",INNAME!B19)","v":""},{"$f":"IF(ISBLANK(INNAME!C19),\"\",INNAME!C19)","v":""},{"$f":"IF(ISBLANK(INNAME!D19),\"\",INNAME!D19)","v":""},{"$f":"IF(ISBLANK(INNAME!E19),\"\",INNAME!E19)","v":""}]
[{"$f":"IF(ISBLANK(INNAME!B20),\"\",INNAME!B20)","v":""},{"$f":"IF(ISBLANK(INNAME!C20),\"\",INNAME!C20)","v":""},{"$f":"IF(ISBLANK(INNAME!D20),\"\",INNAME!D20)","v":""},{"$f":"IF(ISBLANK(INNAME!E20),\"\",INNAME!E20)","v":""}]
[{"$f":"IF(ISBLANK(INNAME!B21),\"\",INNAME!B21)","v":""},{"$f":"IF(ISBLANK(INNAME!C21),\"\",INNAME!C21)","v":""},{"$f":"IF(ISBLANK(INNAME!D21),\"\",INNAME!D21)","v":""},{"$f":"IF(ISBLANK(INNAME!E21),\"\",INNAME!E21)","v":""}]
[{"$f":"IF(ISBLANK(INNAME!B22),\"\",INNAME!B22)","v":""},{"$f":"IF(ISBLANK(INNAME!C22),\"\",INNAME!C22)","v":""},{"$f":"IF(ISBLANK(INNAME!D22),\"\",INNAME!D22)","v":""},{"$f":"IF(ISBLANK(INNAME!E22),\"\",INNAME!E22)","v":""}]
[{"$f":"IF(ISBLANK(INNAME!B23),\"\",INNAME!B23)","v":""},{"$f":"IF(ISBLANK(INNAME!C23),\"\",INNAME!C23)","v":""},{"$f":"IF(ISBLANK(INNAME!D23),\"\",INNAME!D23)","v":""},{"$f":"IF(ISBLANK(INNAME!E23),\"\",INNAME!E23)","v":""}]
[{"$f":"IF(ISBLANK(INNAME!B24),\"\",INNAME!B24)","v":""},{"$f":"IF(ISBLANK(INNAME!C24),\"\",INNAME!C24)","v":""},{"$f":"IF(ISBLANK(INNAME!D24),\"\",INNAME!D24)","v":""},{"$f":"IF(ISBLANK(INNAME!E24),\"\",INNAME!E24)","v":""}]
[{"$f":"IF(ISBLANK(INNAME!B25),\"\",INNAME!B25)","v":""},{"$f":"IF(ISBLANK(INNAME!C25),\"\",INNAME!C25)","v":""},{"$f":"IF(ISBLANK(INNAME!D25),\"\",INNAME!D25)","v":""},{"$f":"IF(ISBLANK(INNAME!E25),\"\",INNAME!E25)","v":""}]
[{"$f":"IF(ISBLANK(INNAME!B26),\"\",INNAME!B26)","v":""},{"$f":"IF(ISBLANK(INNAME!C26),\"\",INNAME!C26)","v":""},{"$f":"IF(ISBLANK(INNAME!D26),\"\",INNAME!D26)","v":""},{"$f":"IF(ISBLANK(INNAME!E26),\"\",INNAME!E26)","v":""}]
[{"$f":"IF(ISBLANK(INNAME!B27),\"\",INNAME!B27)","v":""},{"$f":"IF(ISBLANK(INNAME!C27),\"\",INNAME!C27)","v":""},{"$f":"IF(ISBLANK(INNAME!D27),\"\",INNAME!D27)","v":""},{"$f":"IF(ISBLANK(INNAME!E27),\"\",INNAME!E27)","v":""}]
[{"$f":"IF(ISBLANK(INNAME!B28),\"\",INNAME!B28)","v":""},{"$f":"IF(ISBLANK(INNAME!C28),\"\",INNAME!C28)","v":""},{"$f":"IF(ISBLANK(INNAME!D28),\"\",INNAME!D28)","v":""},{"$f":"IF(ISBLANK(INNAME!E28),\"\",INNAME!E28)","v":""}]
[{"$f":"IF(ISBLANK(INNAME!B29),\"\",INNAME!B29)","v":""},{"$f":"IF(ISBLANK(INNAME!C29),\"\",INNAME!C29)","v":""},{"$f":"IF(ISBLANK(INNAME!D29),\"\",INNAME!D29)","v":""},{"$f":"IF(ISBLANK(INNAME!E29),\"\",INNAME!E29)","v":""}]
[{"$f":"IF(ISBLANK(INNAME!B30),\"\",INNAME!B30)","v":""},{"$f":"IF(ISBLANK(INNAME!C30),\"\",INNAME!C30)","v":""},{"$f":"IF(ISBLANK(INNAME!D30),\"\",INNAME!D30)","v":""},{"$f":"IF(ISBLANK(INNAME!E30),\"\",INNAME!E30)","v":""}]
[{"$f":"IF(ISBLANK(INNAME!B31),\"\",INNAME!B31)","v":""},{"$f":"IF(ISBLANK(INNAME!C31),\"\",INNAME!C31)","v":""},{"$f":"IF(ISBLANK(INNAME!D31),\"\",INNAME!D31)","v":""},{"$f":"IF(ISBLANK(INNAME!E31),\"\",INNAME!E31)","v":""}]
[{"$f":"IF(ISBLANK(INNAME!B32),\"\",INNAME!B32)","v":""},{"$f":"IF(ISBLANK(INNAME!C32),\"\",INNAME!C32)","v":""},{"$f":"IF(ISBLANK(INNAME!D32),\"\",INNAME!D32)","v":""},{"$f":"IF(ISBLANK(INNAME!E32),\"\",INNAME!E32)","v":""}]
[{"$f":"IF(ISBLANK(INNAME!B33),\"\",INNAME!B33)","v":""},{"$f":"IF(ISBLANK(INNAME!C33),\"\",INNAME!C33)","v":""},{"$f":"IF(ISBLANK(INNAME!D33),\"\",INNAME!D33)","v":""},{"$f":"IF(ISBLANK(INNAME!E33),\"\",INNAME!E33)","v":""}]
[{"$f":"IF(ISBLANK(INNAME!B34),\"\",INNAME!B34)","v":""},{"$f":"IF(ISBLANK(INNAME!C34),\"\",INNAME!C34)","v":""},{"$f":"IF(ISBLANK(INNAME!D34),\"\",INNAME!D34)","v":""},{"$f":"IF(ISBLANK(INNAME!E34),\"\",INNAME!E34)","v":""}]
[{"$f":"IF(ISBLANK(INNAME!B35),\"\",INNAME!B35)","v":""},{"$f":"IF(ISBLANK(INNAME!C35),\"\",INNAME!C35)","v":""},{"$f":"IF(ISBLANK(INNAME!D35),\"\",INNAME!D35)","v":""},{"$f":"IF(ISBLANK(INNAME!E35),\"\",INNAME!E35)","v":""}]
[{"$f":"IF(ISBLANK(INNAME!B36),\"\",INNAME!B36)","v":""},{"$f":"IF(ISBLANK(INNAME!C36),\"\",INNAME!C36)","v":""},{"$f":"IF(ISBLANK(INNAME!D36),\"\",INNAME!D36)","v":""},{"$f":"IF(ISBLANK(INNAME!E36),\"\",INNAME!E36)","v":""}]
[{"$f":"IF(ISBLANK(INNAME!B37),\"\",INNAME!B37)","v":""},{"$f":"IF(ISBLANK(INNAME!C37),\"\",INNAME!C37)","v":""},{"$f":"IF(ISBLANK(INNAME!D37),\"\",INNAME!D37)","v":""},{"$f":"IF(ISBLANK(INNAME!E37),\"\",INNAME!E37)","v":""}]
[{"$f":"IF(ISBLANK(INNAME!B38),\"\",INNAME!B38)","v":""},{"$f":"IF(ISBLANK(INNAME!C38),\"\",INNAME!C38)","v":""},{"$f":"IF(ISBLANK(INNAME!D38),\"\",INNAME!D38)","v":""},{"$f":"IF(ISBLANK(INNAME!E38),\"\",INNAME!E38)","v":""}]
[{"$f":"IF(ISBLANK(INNAME!B39),\"\",INNAME!B39)","v":""},{"$f":"IF(ISBLANK(INNAME!C39),\"\",INNAME!C39)","v":""},{"$f":"IF(ISBLANK(INNAME!D39),\"\",INNAME!D39)","v":""},{"$f":"IF(ISBLANK(INNAME!E39),\"\",INNAME!E39)","v":""}]
[{"$f":"IF(ISBLANK(INNAME!B40),\"\",INNAME!B40)","v":""},{"$f":"IF(ISBLANK(INNAME!C40),\"\",INNAME!C40)","v":""},{"$f":"IF(ISBLANK(INNAME!D40),\"\",INNAME!D40)","v":""},{"$f":"IF(ISBLANK(INNAME!E40),\"\",INNAME!E40)","v":""}]
[{"$f":"IF(ISBLANK(INNAME!B41),\"\",INNAME!B41)","v":""},{"$f":"IF(ISBLANK(INNAME!C41),\"\",INNAME!C41)","v":""},{"$f":"IF(ISBLANK(INNAME!D41),\"\",INNAME!D41)","v":""},{"$f":"IF(ISBLANK(INNAME!E41),\"\",INNAME!E41)","v":""}]
[{"$f":"IF(ISBLANK(INNAME!B42),\"\",INNAME!B42)","v":""},{"$f":"IF(ISBLANK(INNAME!C42),\"\",INNAME!C42)","v":""},{"$f":"IF(ISBLANK(INNAME!D42),\"\",INNAME!D42)","v":""},{"$f":"IF(ISBLANK(INNAME!E42),\"\",INNAME!E42)","v":""}]
[{"$f":"IF(ISBLANK(INNAME!B43),\"\",INNAME!B43)","v":""},{"$f":"IF(ISBLANK(INNAME!C43),\"\",INNAME!C43)","v":""},{"$f":"IF(ISBLANK(INNAME!D43),\"\",INNAME!D43)","v":""},{"$f":"IF(ISBLANK(INNAME!E43),\"\",INNAME!E43)","v":""}]
[{"$f":"IF(ISBLANK(INNAME!B44),\"\",INNAME!B44)","v":""},{"$f":"IF(ISBLANK(INNAME!C44),\"\",INNAME!C44)","v":""},{"$f":"IF(ISBLANK(INNAME!D44),\"\",INNAME!D44)","v":""},{"$f":"IF(ISBLANK(INNAME!E44),\"\",INNAME!E44)","v":""}]
[{"$f":"IF(ISBLANK(INNAME!B45),\"\",INNAME!B45)","v":""},{"$f":"IF(ISBLANK(INNAME!C45),\"\",INNAME!C45)","v":""},{"$f":"IF(ISBLANK(INNAME!D45),\"\",INNAME!D45)","v":""},{"$f":"IF(ISBLANK(INNAME!E45),\"\",INNAME!E45)","v":""}]
[{"$f":"IF(ISBLANK(INNAME!B46),\"\",INNAME!B46)","v":""},{"$f":"IF(ISBLANK(INNAME!C46),\"\",INNAME!C46)","v":""},{"$f":"IF(ISBLANK(INNAME!D46),\"\",INNAME!D46)","v":""},{"$f":"IF(ISBLANK(INNAME!E46),\"\",INNAME!E46)","v":""}]
[{"$f":"IF(ISBLANK(INNAME!B47),\"\",INNAME!B47)","v":""},{"$f":"IF(ISBLANK(INNAME!C47),\"\",INNAME!C47)","v":""},{"$f":"IF(ISBLANK(INNAME!D47),\"\",INNAME!D47)","v":""},{"$f":"IF(ISBLANK(INNAME!E47),\"\",INNAME!E47)","v":""}]
[{"$f":"IF(ISBLANK(INNAME!B48),\"\",INNAME!B48)","v":""},{"$f":"IF(ISBLANK(INNAME!C48),\"\",INNAME!C48)","v":""},{"$f":"IF(ISBLANK(INNAME!D48),\"\",INNAME!D48)","v":""},{"$f":"IF(ISBLANK(INNAME!E48),\"\",INNAME!E48)","v":""}]
[{"$f":"IF(ISBLANK(INNAME!B49),\"\",INNAME!B49)","v":""},{"$f":"IF(ISBLANK(INNAME!C49),\"\",INNAME!C49)","v":""},{"$f":"IF(ISBLANK(INNAME!D49),\"\",INNAME!D49)","v":""},{"$f":"IF(ISBLANK(INNAME!E49),\"\",INNAME!E49)","v":""}]
[{"$f":"IF(ISBLANK(INNAME!B50),\"\",INNAME!B50)","v":""},{"$f":"IF(ISBLANK(INNAME!C50),\"\",INNAME!C50)","v":""},{"$f":"IF(ISBLANK(INNAME!D50),\"\",INNAME!D50)","v":""},{"$f":"IF(ISBLANK(INNAME!E50),\"\",INNAME!E50)","v":""}]
[{"$f":"IF(ISBLANK(INNAME!B51),\"\",INNAME!B51)","v":""},{"$f":"IF(ISBLANK(INNAME!C51),\"\",INNAME!C51)","v":""},{"$f":"IF(ISBLANK(INNAME!D51),\"\",INNAME!D51)","v":""},{"$f":"IF(ISBLANK(INNAME!E51),\"\",INNAME!E51)","v":""}]
[{"$f":"IF(ISBLANK(INNAME!B52),\"\",INNAME!B52)","v":""},{"$f":"IF(ISBLANK(INNAME!C52),\"\",INNAME!C52)","v":""},{"$f":"IF(ISBLANK(INNAME!D52),\"\",INNAME!D52)","v":""},{"$f":"IF(ISBLANK(INNAME!E52),\"\",INNAME!E52)","v":""}]
[{"$f":"IF(ISBLANK(INNAME!B53),\"\",INNAME!B53)","v":""},{"$f":"IF(ISBLANK(INNAME!C53),\"\",INNAME!C53)","v":""},{"$f":"IF(ISBLANK(INNAME!D53),\"\",INNAME!D53)","v":""},{"$f":"IF(ISBLANK(INNAME!E53),\"\",INNAME!E53)","v":""}]
[{"$f":"IF(ISBLANK(INNAME!B54),\"\",INNAME!B54)","v":""},{"$f":"IF(ISBLANK(INNAME!C54),\"\",INNAME!C54)","v":""},{"$f":"IF(ISBLANK(INNAME!D54),\"\",INNAME!D54)","v":""},{"$f":"IF(ISBLANK(INNAME!E54),\"\",INNAME!E54)","v":""}]
[{"$f":"IF(ISBLANK(INNAME!B55),\"\",INNAME!B55)","v":""},{"$f":"IF(ISBLANK(INNAME!C55),\"\",INNAME!C55)","v":""},{"$f":"IF(ISBLANK(INNAME!D55),\"\",INNAME!D55)","v":""},{"$f":"IF(ISBLANK(INNAME!E55),\"\",INNAME!E55)","v":""}]
[{"$f":"IF(ISBLANK(INNAME!B56),\"\",INNAME!B56)","v":""},{"$f":"IF(ISBLANK(INNAME!C56),\"\",INNAME!C56)","v":""},{"$f":"IF(ISBLANK(INNAME!D56),\"\",INNAME!D56)","v":""},{"$f":"IF(ISBLANK(INNAME!E56),\"\",INNAME!E56)","v":""}]
[{"$f":"IF(ISBLANK(INNAME!B57),\"\",INNAME!B57)","v":""},{"$f":"IF(ISBLANK(INNAME!C57),\"\",INNAME!C57)","v":""},{"$f":"IF(ISBLANK(INNAME!D57),\"\",INNAME!D57)","v":""},{"$f":"IF(ISBLANK(INNAME!E57),\"\",INNAME!E57)","v":""}]
[{"$f":"IF(ISBLANK(INNAME!B58),\"\",INNAME!B58)","v":""},{"$f":"IF(ISBLANK(INNAME!C58),\"\",INNAME!C58)","v":""},{"$f":"IF(ISBLANK(INNAME!D58),\"\",INNAME!D58)","v":""},{"$f":"IF(ISBLANK(INNAME!E58),\"\",INNAME!E58)","v":""}]
[{"$f":"IF(ISBLANK(INNAME!B59),\"\",INNAME!B59)","v":""},{"$f":"IF(ISBLANK(INNAME!C59),\"\",INNAME!C59)","v":""},{"$f":"IF(ISBLANK(INNAME!D59),\"\",INNAME!D59)","v":""},{"$f":"IF(ISBLANK(INNAME!E59),\"\",INNAME!E59)","v":""}]
[{"$f":"IF(ISBLANK(INNAME!B60),\"\",INNAME!B60)","v":""},{"$f":"IF(ISBLANK(INNAME!C60),\"\",INNAME!C60)","v":""},{"$f":"IF(ISBLANK(INNAME!D60),\"\",INNAME!D60)","v":""},{"$f":"IF(ISBLANK(INNAME!E60),\"\",INNAME!E60)","v":""}]
[{"$f":"IF(ISBLANK(INNAME!B61),\"\",INNAME!B61)","v":""},{"$f":"IF(ISBLANK(INNAME!C61),\"\",INNAME!C61)","v":""},{"$f":"IF(ISBLANK(INNAME!D61),\"\",INNAME!D61)","v":""},{"$f":"IF(ISBLANK(INNAME!E61),\"\",INNAME!E61)","v":""}]
[{"$f":"IF(ISBLANK(INNAME!B62),\"\",INNAME!B62)","v":""},{"$f":"IF(ISBLANK(INNAME!C62),\"\",INNAME!C62)","v":""},{"$f":"IF(ISBLANK(INNAME!D62),\"\",INNAME!D62)","v":""},{"$f":"IF(ISBLANK(INNAME!E62),\"\",INNAME!E62)","v":""}]
[{"$f":"IF(ISBLANK(INNAME!B63),\"\",INNAME!B63)","v":""},{"$f":"IF(ISBLANK(INNAME!C63),\"\",INNAME!C63)","v":""},{"$f":"IF(ISBLANK(INNAME!D63),\"\",INNAME!D63)","v":""},{"$f":"IF(ISBLANK(INNAME!E63),\"\",INNAME!E63)","v":""}]
[{"$f":"IF(ISBLANK(INNAME!B64),\"\",INNAME!B64)","v":""},{"$f":"IF(ISBLANK(INNAME!C64),\"\",INNAME!C64)","v":""},{"$f":"IF(ISBLANK(INNAME!D64),\"\",INNAME!D64)","v":""},{"$f":"IF(ISBLANK(INNAME!E64),\"\",INNAME!E64)","v":""}]
[{"$f":"IF(ISBLANK(INNAME!B65),\"\",INNAME!B65)","v":""},{"$f":"IF(ISBLANK(INNAME!C65),\"\",INNAME!C65)","v":""},{"$f":"IF(ISBLANK(INNAME!D65),\"\",INNAME!D65)","v":""},{"$f":"IF(ISBLANK(INNAME!E65),\"\",INNAME!E65)","v":""}]
[{"$f":"IF(ISBLANK(INNAME!B66),\"\",INNAME!B66)","v":""},{"$f":"IF(ISBLANK(INNAME!C66),\"\",INNAME!C66)","v":""},{"$f":"IF(ISBLANK(INNAME!D66),\"\",INNAME!D66)","v":""},{"$f":"IF(ISBLANK(INNAME!E66),\"\",INNAME!E66)","v":""}]
[{"$f":"IF(ISBLANK(INNAME!B67),\"\",INNAME!B67)","v":""},{"$f":"IF(ISBLANK(INNAME!C67),\"\",INNAME!C67)","v":""},{"$f":"IF(ISBLANK(INNAME!D67),\"\",INNAME!D67)","v":""},{"$f":"IF(ISBLANK(INNAME!E67),\"\",INNAME!E67)","v":""}]
[{"$f":"IF(ISBLANK(INNAME!B68),\"\",INNAME!B68)","v":""},{"$f":"IF(ISBLANK(INNAME!C68),\"\",INNAME!C68)","v":""},{"$f":"IF(ISBLANK(INNAME!D68),\"\",INNAME!D68)","v":""},{"$f":"IF(ISBLANK(INNAME!E68),\"\",INNAME!E68)","v":""}]
[{"$f":"IF(ISBLANK(INNAME!B69),\"\",INNAME!B69)","v":""},{"$f":"IF(ISBLANK(INNAME!C69),\"\",INNAME!C69)","v":""},{"$f":"IF(ISBLANK(INNAME!D69),\"\",INNAME!D69)","v":""},{"$f":"IF(ISBLANK(INNAME!E69),\"\",INNAME!E69)","v":""}]