{"text_format":"1","workbook":"xlsx","n_sheets":3,"sheets":["UITLEG","INNAME","AANVRAAG VERWIJDERING "],"not_rendered":{"charts":0,"images":0,"macros":1,"external_links":0,"defined_names":0,"comments":0,"pivot_tables":0},"unopened":[],"bounds":{"document_bytes":16777216,"sheet_cells":100000,"rows_first":2000,"rows_last":500,"rows_between":2000,"halvings":0,"cell_chars":16384,"cell_head_chars":4096},"cells_cut":0,"cells_raw":0,"read":"whole","date_system":"1900"}

{"sheet":"UITLEG","index":0,"n_rows":0,"n_cols":0,"rows_kept":0,"cut":false,"hidden":false,"merged":[]}

{"sheet":"INNAME","index":1,"n_rows":3,"n_cols":9,"rows_kept":3,"cut":false,"hidden":false,"merged":[]}
["WEEK : ","NAAM ","NUMMER ","LOCKER","1: UITZENDKRACHT","INITIAAL ","UITSTROOM ","VERWERKT IN","INITIAAL "]
["DATUM ","MEDEWERKER","PAS/ DRUPPEL ","NUMMER","2: VASTE KRACHT","BEAMBTE","REDEN","DIGILIJST","BEAMBTE"]
["2017-06-01T20:18:23","Linde"]

{"sheet":"AANVRAAG VERWIJDERING ","index":2,"n_rows":69,"n_cols":9,"rows_kept":69,"cut":false,"hidden":false,"merged":[]}
["NAAM ","NUMMER ","LOCKER","1: UITZENDKRACHT",null,"DATUM","DATUM ","CONTROLE","BIJZONDERHEDEN "]
["MEDEWERKER","PAS / DRUPPEL ","NUMMER","2: VASTEKRACHT",null,"AANVRAAG","AKKOORD","LOCKERS","LOCKERCONTROLE"]
[{"$f":"INNAME!B3","v":"Linde"},{"$f":"INNAME!C3","v":0},{"$f":"INNAME!D3","v":0},{"$f":"INNAME!E3","v":0}]
[{"$f":"INNAME!B4","v":0},{"$f":"INNAME!C4","v":0},{"$f":"INNAME!D4","v":0},{"$f":"INNAME!E4","v":0}]
[{"$f":"INNAME!B5","v":0},{"$f":"INNAME!C5","v":0},{"$f":"INNAME!D5","v":0},{"$f":"INNAME!E5","v":0}]
[{"$f":"INNAME!B6","v":0},{"$f":"INNAME!C6","v":0},{"$f":"INNAME!D6","v":0},{"$f":"INNAME!E6","v":0}]
[{"$f":"INNAME!B7","v":0},{"$f":"INNAME!C7","v":0},{"$f":"INNAME!D7","v":0},{"$f":"INNAME!E7","v":0}]
[{"$f":"INNAME!B8","v":0},{"$f":"INNAME!C8","v":0},{"$f":"INNAME!D8","v":0},{"$f":"INNAME!E8","v":0}]
[{"$f":"INNAME!B9","v":0},{"$f":"INNAME!C9","v":0},{"$f":"INNAME!D9","v":0},{"$f":"INNAME!E9","v":0}]
[{"$f":"INNAME!B10","v":0},{"$f":"INNAME!C10","v":0},{"$f":"INNAME!D10","v":0},{"$f":"INNAME!E10","v":0}]
[{"$f":"INNAME!B11","v":0},{"$f":"INNAME!C11","v":0},{"$f":"INNAME!D11","v":0},{"$f":"INNAME!E11","v":0}]
[{"$f":"INNAME!B12","v":0},{"$f":"INNAME!C12","v":0},{"$f":"INNAME!D12","v":0},{"$f":"INNAME!E12","v":0}]
[{"$f":"INNAME!B13","v":0},{"$f":"INNAME!C13","v":0},{"$f":"INNAME!D13","v":0},{"$f":"INNAME!E13","v":0}]
[{"$f":"INNAME!B14","v":0},{"$f":"INNAME!C14","v":0},{"$f":"INNAME!D14","v":0},{"$f":"INNAME!E14","v":0}]
[{"$f":"INNAME!B15","v":0},{"$f":"INNAME!C15","v":0},{"$f":"INNAME!D15","v":0},{"$f":"INNAME!E15","v":0}]
[{"$f":"INNAME!B16","v":0},{"$f":"INNAME!C16","v":0},{"$f":"INNAME!D16","v":0},{"$f":"INNAME!E16","v":0}]
[{"$f":"INNAME!B17","v":0},{"$f":"INNAME!C17","v":0},{"$f":"INNAME!D17","v":0},{"$f":"INNAME!E17","v":0}]
[{"$f":"INNAME!B18","v":0},{"$f":"INNAME!C18","v":0},{"$f":"INNAME!D18","v":0},{"$f":"INNAME!E18","v":0}]
[{"$f":"INNAME!B19","v":0},{"$f":"INNAME!C19","v":0},{"$f":"INNAME!D19","v":0},{"$f":"INNAME!E19","v":0}]
[{"$f":"INNAME!B20","v":0},{"$f":"INNAME!C20","v":0},{"$f":"INNAME!D20","v":0},{"$f":"INNAME!E20","v":0}]
[{"$f":"INNAME!B21","v":0},{"$f":"INNAME!C21","v":0},{"$f":"INNAME!D21","v":0},{"$f":"INNAME!E21","v":0}]
[{"$f":"INNAME!B22","v":0},{"$f":"INNAME!C22","v":0},{"$f":"INNAME!D22","v":0},{"$f":"INNAME!E22","v":0}]
[{"$f":"INNAME!B23","v":0},{"$f":"INNAME!C23","v":0},{"$f":"INNAME!D23","v":0},{"$f":"INNAME!E23","v":0}]
[{"$f":"INNAME!B24","v":0},{"$f":"INNAME!C24","v":0},{"$f":"INNAME!D24","v":0},{"$f":"INNAME!E24","v":0}]
[{"$f":"INNAME!B25","v":0},{"$f":"INNAME!C25","v":0},{"$f":"INNAME!D25","v":0},{"$f":"INNAME!E25","v":0}]
[{"$f":"INNAME!B26","v":0},{"$f":"INNAME!C26","v":0},{"$f":"INNAME!D26","v":0},{"$f":"INNAME!E26","v":0}]
[{"$f":"INNAME!B27","v":0},{"$f":"INNAME!C27","v":0},{"$f":"INNAME!D27","v":0},{"$f":"INNAME!E27","v":0}]
[{"$f":"INNAME!B28","v":0},{"$f":"INNAME!C28","v":0},{"$f":"INNAME!D28","v":0},{"$f":"INNAME!E28","v":0}]
[{"$f":"INNAME!B29","v":0},{"$f":"INNAME!C29","v":0},{"$f":"INNAME!D29","v":0},{"$f":"INNAME!E29","v":0}]
[{"$f":"INNAME!B30","v":0},{"$f":"INNAME!C30","v":0},{"$f":"INNAME!D30","v":0},{"$f":"INNAME!E30","v":0}]
[{"$f":"INNAME!B31","v":0},{"$f":"INNAME!C31","v":0},{"$f":"INNAME!D31","v":0},{"$f":"INNAME!E31","v":0}]
[{"$f":"INNAME!B32","v":0},{"$f":"INNAME!C32","v":0},{"$f":"INNAME!D32","v":0},{"$f":"INNAME!E32","v":0}]
[{"$f":"INNAME!B33","v":0},{"$f":"INNAME!C33","v":0},{"$f":"INNAME!D33","v":0},{"$f":"INNAME!E33","v":0}]
[{"$f":"INNAME!B34","v":0},{"$f":"INNAME!C34","v":0},{"$f":"INNAME!D34","v":0},{"$f":"INNAME!E34","v":0}]
[{"$f":"INNAME!B35","v":0},{"$f":"INNAME!C35","v":0},{"$f":"INNAME!D35","v":0},{"$f":"INNAME!E35","v":0}]
[{"$f":"INNAME!B36","v":0},{"$f":"INNAME!C36","v":0},{"$f":"INNAME!D36","v":0},{"$f":"INNAME!E36","v":0}]
[{"$f":"INNAME!B37","v":0},{"$f":"INNAME!C37","v":0},{"$f":"INNAME!D37","v":0},{"$f":"INNAME!E37","v":0}]
[{"$f":"INNAME!B38","v":0},{"$f":"INNAME!C38","v":0},{"$f":"INNAME!D38","v":0},{"$f":"INNAME!E38","v":0}]
[{"$f":"INNAME!B39","v":0},{"$f":"INNAME!C39","v":0},{"$f":"INNAME!D39","v":0},{"$f":"INNAME!E39","v":0}]
[{"$f":"INNAME!B40","v":0},{"$f":"INNAME!C40","v":0},{"$f":"INNAME!D40","v":0},{"$f":"INNAME!E40","v":0}]
[{"$f":"INNAME!B41","v":0},{"$f":"INNAME!C41","v":0},{"$f":"INNAME!D41","v":0},{"$f":"INNAME!E41","v":0}]
[{"$f":"INNAME!B42","v":0},{"$f":"INNAME!C42","v":0},{"$f":"INNAME!D42","v":0},{"$f":"INNAME!E42","v":0}]
[{"$f":"INNAME!B43","v":0},{"$f":"INNAME!C43","v":0},{"$f":"INNAME!D43","v":0},{"$f":"INNAME!E43","v":0}]
[{"$f":"INNAME!B44","v":0},{"$f":"INNAME!C44","v":0},{"$f":"INNAME!D44","v":0},{"$f":"INNAME!E44","v":0}]
[{"$f":"INNAME!B45","v":0},{"$f":"INNAME!C45","v":0},{"$f":"INNAME!D45","v":0},{"$f":"INNAME!E45","v":0}]
[{"$f":"INNAME!B46","v":0},{"$f":"INNAME!C46","v":0},{"$f":"INNAME!D46","v":0},{"$f":"INNAME!E46","v":0}]
[{"$f":"INNAME!B47","v":0},{"$f":"INNAME!C47","v":0},{"$f":"INNAME!D47","v":0},{"$f":"INNAME!E47","v":0}]
[{"$f":"INNAME!B48","v":0},{"$f":"INNAME!C48","v":0},{"$f":"INNAME!D48","v":0},{"$f":"INNAME!E48","v":0}]
[{"$f":"INNAME!B49","v":0},{"$f":"INNAME!C49","v":0},{"$f":"INNAME!D49","v":0},{"$f":"INNAME!E49","v":0}]
[{"$f":"INNAME!B50","v":0},{"$f":"INNAME!C50","v":0},{"$f":"INNAME!D50","v":0},{"$f":"INNAME!E50","v":0}]
[{"$f":"INNAME!B51","v":0},{"$f":"INNAME!C51","v":0},{"$f":"INNAME!D51","v":0},{"$f":"INNAME!E51","v":0}]
[{"$f":"INNAME!B52","v":0},{"$f":"INNAME!C52","v":0},{"$f":"INNAME!D52","v":0},{"$f":"INNAME!E52","v":0}]
[{"$f":"INNAME!B53","v":0},{"$f":"INNAME!C53","v":0},{"$f":"INNAME!D53","v":0},{"$f":"INNAME!E53","v":0}]
[{"$f":"INNAME!B54","v":0},{"$f":"INNAME!C54","v":0},{"$f":"INNAME!D54","v":0},{"$f":"INNAME!E54","v":0}]
[{"$f":"INNAME!B55","v":0},{"$f":"INNAME!C55","v":0},{"$f":"INNAME!D55","v":0},{"$f":"INNAME!E55","v":0}]
[{"$f":"INNAME!B56","v":0},{"$f":"INNAME!C56","v":0},{"$f":"INNAME!D56","v":0},{"$f":"INNAME!E56","v":0}]
[{"$f":"INNAME!B57","v":0},{"$f":"INNAME!C57","v":0},{"$f":"INNAME!D57","v":0},{"$f":"INNAME!E57","v":0}]
[{"$f":"INNAME!B58","v":0},{"$f":"INNAME!C58","v":0},{"$f":"INNAME!D58","v":0},{"$f":"INNAME!E58","v":0}]
[{"$f":"INNAME!B59","v":0},{"$f":"INNAME!C59","v":0},{"$f":"INNAME!D59","v":0},{"$f":"INNAME!E59","v":0}]
[{"$f":"INNAME!B60","v":0},{"$f":"INNAME!C60","v":0},{"$f":"INNAME!D60","v":0},{"$f":"INNAME!E60","v":0}]
[{"$f":"INNAME!B61","v":0},{"$f":"INNAME!C61","v":0},{"$f":"INNAME!D61","v":0},{"$f":"INNAME!E61","v":0}]
[{"$f":"INNAME!B62","v":0},{"$f":"INNAME!C62","v":0},{"$f":"INNAME!D62","v":0},{"$f":"INNAME!E62","v":0}]
[{"$f":"INNAME!B63","v":0},{"$f":"INNAME!C63","v":0},{"$f":"INNAME!D63","v":0},{"$f":"INNAME!E63","v":0}]
[{"$f":"INNAME!B64","v":0},{"$f":"INNAME!C64","v":0},{"$f":"INNAME!D64","v":0},{"$f":"INNAME!E64","v":0}]
[{"$f":"INNAME!B65","v":0},{"$f":"INNAME!C65","v":0},{"$f":"INNAME!D65","v":0},{"$f":"INNAME!E65","v":0}]
[{"$f":"INNAME!B66","v":0},{"$f":"INNAME!C66","v":0},{"$f":"INNAME!D66","v":0},{"$f":"INNAME!E66","v":0}]
[{"$f":"INNAME!B67","v":0},{"$f":"INNAME!C67","v":0},{"$f":"INNAME!D67","v":0},{"$f":"INNAME!E67","v":0}]
[{"$f":"INNAME!B68","v":0},{"$f":"INNAME!C68","v":0},{"$f":"INNAME!D68","v":0},{"$f":"INNAME!E68","v":0}]
[{"$f":"INNAME!B69","v":0},{"$f":"INNAME!C69","v":0},{"$f":"INNAME!D69","v":0},{"$f":"INNAME!E69","v":0}]