{"text_format":"1","workbook":"xlsx","n_sheets":8,"sheets":["Invul zat","Statistiek zat","Data","Kaarten","Menu","Streepjeslijst","Leesmij","Macro's tekst"],"not_rendered":{"charts":0,"images":0,"macros":1,"external_links":0,"defined_names":0,"comments":0,"pivot_tables":0},"unopened":[],"bounds":{"document_bytes":16777216,"sheet_cells":100000,"rows_first":2000,"rows_last":500,"rows_between":2000,"halvings":0,"cell_chars":16384,"cell_head_chars":4096},"cells_cut":0,"cells_raw":0,"read":"whole","date_system":"1900"}

{"sheet":"Invul zat","index":0,"n_rows":6580,"n_cols":34,"rows_kept":6580,"cut":false,"hidden":false,"merged":[[6392,6,6392,7],[6416,6,6416,7],[6439,6,6439,7],[6463,6,6463,7],[6486,6,6486,7],[6510,6,6510,7],[6533,6,6533,7],[6557,6,6557,7],[6181,6,6181,7],[6204,6,6204,7],[6228,6,6228,7],[6251,6,6251,7],[6275,6,6275,7],[6298,6,6298,7],[6322,6,6322,7],[6345,6,6345,7],[6369,6,6369,7],[5969,6,5969,7],[5993,6,5993,7],[6016,6,6016,7],[6040,6,6040,7],[6063,6,6063,7],[6087,6,6087,7],[6110,6,6110,7],[6134,6,6134,7],[6157,6,6157,7],[5758,6,5758,7],[5781,6,5781,7],[5805,6,5805,7],[5828,6,5828,7],[5852,6,5852,7],[5875,6,5875,7],[5899,6,5899,7],[5922,6,5922,7],[5946,6,5946,7],[5546,6,5546,7],[5570,6,5570,7],[5593,6,5593,7],[5617,6,5617,7],[5640,6,5640,7],[5664,6,5664,7],[5687,6,5687,7],[5711,6,5711,7],[5734,6,5734,7],[5335,6,5335,7],[5358,6,5358,7],[5382,6,5382,7],[5405,6,5405,7],[5429,6,5429,7],[5452,6,5452,7],[5476,6,5476,7],[5499,6,5499,7],[5523,6,5523,7],[5123,6,5123,7],[5147,6,5147,7],[5170,6,5170,7],[5194,6,5194,7],[5217,6,5217,7],[5241,6,5241,7],[5264,6,5264,7],[5288,6,5288,7],[5311,6,5311,7],[4912,6,4912,7],[4935,6,4935,7],[4959,6,4959,7],[4982,6,4982,7],[5006,6,5006,7],[5029,6,5029,7],[5053,6,5053,7],[5076,6,5076,7],[5100,6,5100,7],[4700,6,4700,7],[4724,6,4724,7],[4747,6,4747,7],[4771,6,4771,7],[4794,6,4794,7],[4818,6,4818,7],[4841,6,4841,7],[4865,6,4865,7],[4888,6,4888,7],[4559,6,4559,7],[4583,6,4583,7],[4606,6,4606,7],[4630,6,4630,7],[4653,6,4653,7],[4677,6,4677,7],[4418,6,4418,7],[4442,6,4442,7],[4465,6,4465,7],[4489,6,4489,7],[4512,6,4512,7],[4536,6,4536,7],[4277,6,4277,7],[4301,6,4301,7],[4324,6,4324,7],[4348,6,4348,7],[4371,6,4371,7],[4395,6,4395,7],[4136,6,4136,7],[4160,6,4160,7],[4183,6,4183,7],[4207,6,4207,7],[4230,6,4230,7],[4254,6,4254,7],[3995,6,3995,7],[4019,6,4019,7],[4042,6,4042,7],[4066,6,4066,7],[4089,6,4089,7],[4113,6,4113,7],[3854,6,3854,7],[3878,6,3878,7],[3901,6,3901,7],[3925,6,3925,7],[3948,6,3948,7],[3972,6,3972,7],[3713,6,3713,7],[3737,6,3737,7],[3760,6,3760,7],[3784,6,3784,7],[3807,6,3807,7],[3831,6,3831,7],[3572,6,3572,7],[3596,6,3596,7],[3619,6,3619,7],[3643,6,3643,7],[3666,6,3666,7],[3690,6,3690,7],[3431,6,3431,7],[3455,6,3455,7],[3478,6,3478,7],[3502,6,3502,7],[3525,6,3525,7],[3549,6,3549,7],[3290,6,3290,7],[3314,6,3314,7],[3337,6,3337,7],[3361,6,3361,7],[3384,6,3384,7],[3408,6,3408,7],[3149,6,3149,7],[3173,6,3173,7],[3196,6,3196,7],[3220,6,3220,7],[3243,6,3243,7],[3267,6,3267,7],[3008,6,3008,7],[3032,6,3032,7],[3055,6,3055,7],[3079,6,3079,7],[3102,6,3102,7],[3126,6,3126,7],[2867,6,2867,7],[2891,6,2891,7],[2914,6,2914,7],[2938,6,2938,7],[2961,6,2961,7],[2985,6,2985,7],[2726,6,2726,7],[2750,6,2750,7],[2773,6,2773,7],[2797,6,2797,7],[2820,6,2820,7],[2844,6,2844,7],[2585,6,2585,7],[2609,6,2609,7],[2632,6,2632,7],[2656,6,2656,7],[2679,6,2679,7],[2703,6,2703,7],[2444,6,2444,7],[2468,6,2468,7],[2491,6,2491,7],[2515,6,2515,7],[2538,6,2538,7],[2562,6,2562,7],[2303,6,2303,7],[2327,6,2327,7],[2350,6,2350,7],[2374,6,2374,7],[2397,6,2397,7],[2421,6,2421,7],[2162,6,2162,7],[2186,6,2186,7],[2209,6,2209,7],[2233,6,2233,7],[2256,6,2256,7],[2280,6,2280,7],[2021,6,2021,7],[2045,6,2045,7],[2068,6,2068,7],[2092,6,2092,7],[2115,6,2115,7],[2139,6,2139,7],[1880,6,1880,7],[1904,6,1904,7],[1927,6,1927,7],[1951,6,1951,7],[1974,6,1974,7],[1998,6,1998,7],[1739,6,1739,7],[1763,6,1763,7],[1786,6,1786,7],[1810,6,1810,7],[1833,6,1833,7],[1857,6,1857,7],[1598,6,1598,7],[1622,6,1622,7],[1645,6,1645,7],[1669,6,1669,7],[1692,6,1692,7],[1716,6,1716,7],[1457,6,1457,7],[1481,6,1481,7],[1504,6,1504,7],[1528,6,1528,7],[1551,6,1551,7],[1575,6,1575,7],[1316,6,1316,7],[1340,6,1340,7],[1363,6,1363,7],[1387,6,1387,7],[1410,6,1410,7],[1434,6,1434,7],[1175,6,1175,7],[1199,6,1199,7],[1222,6,1222,7],[1246,6,1246,7],[1269,6,1269,7],[1293,6,1293,7],[1034,6,1034,7],[1058,6,1058,7],[1081,6,1081,7],[1105,6,1105,7],[1128,6,1128,7],[1152,6,1152,7],[893,6,893,7],[917,6,917,7],[940,6,940,7],[964,6,964,7],[987,6,987,7],[1011,6,1011,7],[752,6,752,7],[776,6,776,7],[799,6,799,7],[823,6,823,7],[846,6,846,7],[870,6,870,7],[658,6,658,7],[682,6,682,7],[705,6,705,7],[729,6,729,7],[517,6,517,7],[541,6,541,7],[564,6,564,7],[588,6,588,7],[611,6,611,7],[635,6,635,7],[376,6,376,7],[400,6,400,7],[423,6,423,7],[447,6,447,7],[470,6,470,7],[494,6,494,7],[235,6,235,7],[259,6,259,7],[282,6,282,7],[306,6,306,7],[329,6,329,7],[353,6,353,7],[141,6,141,7],[165,6,165,7],[188,6,188,7],[212,6,212,7],[0,6,0,7],[24,6,24,7],[47,6,47,7],[71,6,71,7],[94,6,94,7],[118,6,118,7]]}
["Fietsclub TGV Opstal",null,null,null,null,null,"Tafel nr:"]
[1,null,null,null,null,null,null,null,null,null,null,{"$f":"A2","v":1},null,null,null,null,null,null,null,null,null,null,null,null,null,null,"Data + gegevens voor statistiek (uitwijk):"]
[]
[{"$f":"Data!$B$4","v":"Kalkoenfilet"},null,null,null,null,null,null,null,null,null,null,"Kalkoenfilet",null,null,null,null,null,null,null,null,null,null,null,null,null,null,null,"Kalkoenfilet"]
[null,{"$f":"Data!$C$5","v":"Natuur"},null,"x",{"$f":"Data!$F$5","v":17},"=",{"$f":"C5*E5","v":0},null,null,null,null,null,"Natuur",null,{"$f":"C5","v":0},null,null,null,null,null,null,null,null,null,null,null,null,null,"Natuur",{"$f":"SUM(O1:O9000)","v":0},"x",17,"=",{"$f":"AD5*AF5","v":0}]
[null,{"$f":"Data!$C$6","v":"Champignons"},null,"x",{"$f":"Data!$F$6","v":17},"=",{"$f":"C6*E6","v":0},null,null,null,null,null,"Champignons",null,null,{"$f":"C6","v":0},null,null,null,null,null,null,null,null,null,null,null,null,"Champignons",{"$f":"SUM(P1:P9000)","v":0},"x",17,"=",{"$f":"AD6*AF6","v":0}]
[null,{"$f":"Data!$C$7","v":"Peper"},null,"x",{"$f":"Data!$F$7","v":17},"=",{"$f":"C7*E7","v":0},null,null,null,null,null,"Peper",null,null,null,{"$f":"C7","v":0},null,null,null,null,null,null,null,null,null,null,null,"Peper",{"$f":"SUM(Q1:Q9000)","v":0},"x",17,"=",{"$f":"AD7*AF7","v":0}]
[]
[{"$f":"Data!$B$9","v":"Kabeljauwhaasje"},null,null,"x",{"$f":"Data!$F$9","v":17},"=",{"$f":"C9*E9","v":0},null,null,null,null,"Kabeljauwhaasje",null,null,null,null,null,{"$f":"C9","v":0},null,null,null,null,null,null,null,null,null,"Kabeljauwhaasje",null,{"$f":"SUM(R1:R9000)","v":0},"x",17,"=",{"$f":"AD9*AF9","v":0}]
[]
[{"$f":"Data!$B$11","v":"Kindermenu"},null,null,null,null,null,null,null,null,null,null,"Kindermenu",null,null,null,null,null,null,null,null,null,null,null,null,null,null,null,"Kindermenu"]
[null,{"$f":"Data!$C$12","v":"Natuur"},null,"x",{"$f":"Data!$F$12","v":8},"=",{"$f":"C12*E12","v":0},null,null,null,null,null,"Natuur",null,null,null,null,null,{"$f":"C12","v":0},null,null,null,null,null,null,null,null,null,"Natuur",{"$f":"SUM(S1:S9000)","v":0},"x",8,"=",{"$f":"AD12*AF12","v":0}]
[null,{"$f":"Data!$C$13","v":"Champignons"},null,"x",{"$f":"Data!$F$13","v":8},"=",{"$f":"C13*E13","v":0},null,null,null,null,null,"Champignons",null,null,null,null,null,null,{"$f":"C13","v":0},null,null,null,null,null,null,null,null,"Champignons",{"$f":"SUM(T1:T9000)","v":0},"x",8,"=",{"$f":"AD13*AF13","v":0}]
[null,{"$f":"Data!$C$14","v":"Peper"},null,"x",{"$f":"Data!$F$14","v":8},"=",0,null,null,null,null,null,"Peper",null,null,null,null,null,null,null,{"$f":"C14","v":0},null,null,null,null,null,null,null,"Peper",{"$f":"SUM(U1:U9000)","v":0},"x",8,"=",0]
[null,{"$f":"Data!$C$15","v":"Kabeljauwhaasje"},null,"x",{"$f":"Data!$F$15","v":8},"=",0,null,null,null,null,null,"Kabeljauwhaasje",null,null,null,null,null,null,null,null,{"$f":"C15","v":0},null,null,null,null,null,null,"Kabeljauwhaasje",{"$f":"SUM(V1:V9000)","v":0},"x",8,"=",0]
[]
[null,{"$f":"Data!$C$17","v":"Totaal eten:"},null,null,null,null,{"$f":"SUM(G5:G16)","v":0},null,null,null,null,null,"Totaal eten:",null,null,null,null,null,null,null,null,null,{"$f":"G17","v":0},null,null,null,"Totaal ",null,"Totaal eten:",{"$f":"SUM(W1:W9000)","v":0},null,"=",null,{"$f":"SUM(AH5:AH16)","v":0}]
[null,{"$f":"Data!$C$18","v":"Totaal kaarten:"},null,"x",{"$f":"Data!$F$18","v":3},"=",{"$f":"-(C18*E18)","v":0},null,null,null,null,null,null,null,null,null,null,null,null,null,null,null,null,null,null,null,"eters:",null,"Totaal kaarten:",{"$f":"SUM(X1:X9000)","v":0},"x",3,"=",{"$f":"-(AD18*AF18)","v":0}]
[null,null,null,null,null,null,null,null,null,null,null,null,"Totaal kaarten (aantal):",null,null,null,null,null,null,null,null,null,null,{"$f":"C18","v":0},null,null,{"$f":"SUM(AD5:AD15)","v":0}]
[]
[null,{"$f":"Data!$C$21","v":"Totaal te betalen:"},null,null,null,null,{"$f":"G17+G18","v":0},null,null,null,null,null,"Totaal te betalen:",null,null,null,null,null,null,null,null,null,null,null,{"$f":"G21","v":0},null,null,null,"Totaal te betalen:",null,null,null,null,{"$f":"AH17+AH18","v":0}]
[]
[{"$f":"Data!$A$23","v":"TGV Opstal dankt u voor uw aanwezigheid!  Eet smakelijk!"},null,null,null,null,null,null,null,null,null,null,null,null,null,null,null,null,null,null,null,null,null,null,null,null,null,null,"TGV Opstal dankt u voor uw aanwezigheid!  Eet smakelijk!"]
[]
["Fietsclub TGV Opstal",null,null,null,null,null,"Tafel nr:"]
[{"$f":"A2","v":1}]
[]
[{"$f":"Data!$B$4","v":"Kalkoenfilet"}]
[null,{"$f":"Data!$C$5","v":"Natuur"},{"$f":"C5","v":0},"x",{"$f":"Data!$F$5","v":17},"=",{"$f":"C29*E29","v":0}]
[null,{"$f":"Data!$C$6","v":"Champignons"},{"$f":"C6","v":0},"x",{"$f":"Data!$F$6","v":17},"=",{"$f":"C30*E30","v":0}]
[null,{"$f":"Data!$C$7","v":"Peper"},0,"x",{"$f":"Data!$F$7","v":17},"=",{"$f":"C31*E31","v":0}]
[]
[{"$f":"Data!$B$9","v":"Kabeljauwhaasje"},null,0,"x",{"$f":"Data!$F$9","v":17},"=",{"$f":"C33*E33","v":0}]
[]
[{"$f":"Data!$B$11","v":"Kindermenu"}]
[null,{"$f":"Data!$C$12","v":"Natuur"},0,"x",{"$f":"Data!$F$12","v":8},"=",{"$f":"C36*E36","v":0}]
[null,{"$f":"Data!$C$13","v":"Champignons"},0,"x",{"$f":"Data!$F$13","v":8},"=",{"$f":"C37*E37","v":0}]
[null,{"$f":"Data!$C$14","v":"Peper"},0,"x",{"$f":"Data!$F$14","v":8},"=",0]
[null,{"$f":"Data!$C$15","v":"Kabeljauwhaasje"},0,"x",{"$f":"Data!$F$15","v":8},"=",0]
[]
[null,{"$f":"Data!$C$17","v":"Totaal eten:"},null,null,null,null,{"$f":"SUM(G29:G40)","v":0}]
[null,{"$f":"Data!$C$18","v":"Totaal kaarten:"},{"$f":"C18","v":0},"x",{"$f":"Data!$F$18","v":3},"=",{"$f":"-(C42*E42)","v":0}]
[]
[]
[null,{"$f":"Data!$C$21","v":"Totaal te betalen:"},null,null,null,null,{"$f":"G41+G42","v":0}]
[]
[{"$f":"Data!$A$23","v":"TGV Opstal dankt u voor uw aanwezigheid!  Eet smakelijk!"}]
["Fietsclub TGV Opstal",null,null,null,null,null,"Tafel nr:"]
[{"$f":"A2+1","v":2},null,null,null,null,null,null,null,null,null,null,{"$f":"A49","v":2}]
[]
[{"$f":"Data!$B$4","v":"Kalkoenfilet"},null,null,null,null,null,null,null,null,null,null,"Kalkoenfilet"]
[null,{"$f":"Data!$C$5","v":"Natuur"},null,"x",{"$f":"Data!$F$5","v":17},"=",{"$f":"C52*E52","v":0},null,null,null,null,null,"Natuur",null,{"$f":"C52","v":0}]
[null,{"$f":"Data!$C$6","v":"Champignons"},null,"x",{"$f":"Data!$F$6","v":17},"=",{"$f":"C53*E53","v":0},null,null,null,null,null,"Champignons",null,null,{"$f":"C53","v":0}]
[null,{"$f":"Data!$C$7","v":"Peper"},null,"x",{"$f":"Data!$F$7","v":17},"=",{"$f":"C54*E54","v":0},null,null,null,null,null,"Peper",null,null,null,{"$f":"C54","v":0}]
[]
[{"$f":"Data!$B$9","v":"Kabeljauwhaasje"},null,null,"x",{"$f":"Data!$F$9","v":17},"=",{"$f":"C56*E56","v":0},null,null,null,null,"Kabeljauwhaasje",null,null,null,null,null,{"$f":"C56","v":0}]
[]
[{"$f":"Data!$B$11","v":"Kindermenu"},null,null,null,null,null,null,null,null,null,null,"Kindermenu"]
[null,{"$f":"Data!$C$12","v":"Natuur"},null,"x",{"$f":"Data!$F$12","v":8},"=",{"$f":"C59*E59","v":0},null,null,null,null,null,"Natuur",null,null,null,null,null,{"$f":"C59","v":0}]
[null,{"$f":"Data!$C$13","v":"Champignons"},null,"x",{"$f":"Data!$F$13","v":8},"=",{"$f":"C60*E60","v":0},null,null,null,null,null,"Champignons",null,null,null,null,null,null,{"$f":"C60","v":0}]
[null,{"$f":"Data!$C$14","v":"Peper"},null,"x",{"$f":"Data!$F$14","v":8},"=",0,null,null,null,null,null,"Peper",null,null,null,null,null,null,null,{"$f":"C61","v":0}]
[null,{"$f":"Data!$C$15","v":"Kabeljauwhaasje"},null,"x",{"$f":"Data!$F$15","v":8},"=",0,null,null,null,null,null,"Kabeljauwhaasje",null,null,null,null,null,null,null,null,{"$f":"C62","v":0}]
[]
[null,{"$f":"Data!$C$17","v":"Totaal eten:"},null,null,null,null,{"$f":"SUM(G52:G63)","v":0},null,null,null,null,null,"Totaal eten:",null,null,null,null,null,null,null,null,null,{"$f":"G64","v":0}]
[null,{"$f":"Data!$C$18","v":"Totaal kaarten:"},null,"x",{"$f":"Data!$F$18","v":3},"=",{"$f":"-(C65*E65)","v":0}]
[null,null,null,null,null,null,null,null,null,null,null,null,"Totaal kaarten (bedrag):",null,null,null,null,null,null,null,null,null,null,{"$f":"C65","v":0}]
[]
[null,{"$f":"Data!$C$21","v":"Totaal te betalen:"},null,null,null,null,{"$f":"G64+G65","v":0},null,null,null,null,null,"Totaal te betalen:",null,null,null,null,null,null,null,null,null,null,null,{"$f":"G68","v":0}]
[]
[{"$f":"Data!$A$23","v":"TGV Opstal dankt u voor uw aanwezigheid!  Eet smakelijk!"}]
[]
["Fietsclub TGV Opstal",null,null,null,null,null,"Tafel nr:"]
[{"$f":"A49","v":2}]
[]
[{"$f":"Data!$B$4","v":"Kalkoenfilet"}]
[null,{"$f":"Data!$C$5","v":"Natuur"},{"$f":"C52","v":0},"x",{"$f":"Data!$F$5","v":17},"=",{"$f":"C76*E76","v":0}]
[null,{"$f":"Data!$C$6","v":"Champignons"},{"$f":"C53","v":0},"x",{"$f":"Data!$F$6","v":17},"=",{"$f":"C77*E77","v":0}]
[null,{"$f":"Data!$C$7","v":"Peper"},0,"x",{"$f":"Data!$F$7","v":17},"=",{"$f":"C78*E78","v":0}]
[]
[{"$f":"Data!$B$9","v":"Kabeljauwhaasje"},null,0,"x",{"$f":"Data!$F$9","v":17},"=",{"$f":"C80*E80","v":0}]
[]
[{"$f":"Data!$B$11","v":"Kindermenu"}]
[null,{"$f":"Data!$C$12","v":"Natuur"},0,"x",{"$f":"Data!$F$12","v":8},"=",{"$f":"C83*E83","v":0}]
[null,{"$f":"Data!$C$13","v":"Champignons"},0,"x",{"$f":"Data!$F$13","v":8},"=",{"$f":"C84*E84","v":0}]
[null,{"$f":"Data!$C$14","v":"Peper"},0,"x",{"$f":"Data!$F$14","v":8},"=",0]
[null,{"$f":"Data!$C$15","v":"Kabeljauwhaasje"},0,"x",{"$f":"Data!$F$15","v":8},"=",0]
[]
[null,{"$f":"Data!$C$17","v":"Totaal eten:"},null,null,null,null,{"$f":"SUM(G76:G87)","v":0}]
[null,{"$f":"Data!$C$18","v":"Totaal kaarten:"},{"$f":"C65","v":0},"x",{"$f":"Data!$F$18","v":3},"=",{"$f":"-(C89*E89)","v":0}]
[]
[]
[null,{"$f":"Data!$C$21","v":"Totaal te betalen:"},null,null,null,null,{"$f":"G88+G89","v":0}]
[]
[{"$f":"Data!$A$23","v":"TGV Opstal dankt u voor uw aanwezigheid!  Eet smakelijk!"}]
["Fietsclub TGV Opstal",null,null,null,null,null,"Tafel nr:"]
[{"$f":"A49+1","v":3},null,null,null,null,null,null,null,null,null,null,{"$f":"A96","v":3}]
[]
[{"$f":"Data!$B$4","v":"Kalkoenfilet"},null,null,null,null,null,null,null,null,null,null,"Kalkoenfilet"]
[null,{"$f":"Data!$C$5","v":"Natuur"},null,"x",{"$f":"Data!$F$5","v":17},"=",{"$f":"C99*E99","v":0},null,null,null,null,null,"Natuur",null,{"$f":"C99","v":0}]
[null,{"$f":"Data!$C$6","v":"Champignons"},null,"x",{"$f":"Data!$F$6","v":17},"=",{"$f":"C100*E100","v":0},null,null,null,null,null,"Champignons",null,null,{"$f":"C100","v":0}]
[null,{"$f":"Data!$C$7","v":"Peper"},null,"x",{"$f":"Data!$F$7","v":17},"=",{"$f":"C101*E101","v":0},null,null,null,null,null,"Peper",null,null,null,{"$f":"C101","v":0}]
[]
[{"$f":"Data!$B$9","v":"Kabeljauwhaasje"},null,null,"x",{"$f":"Data!$F$9","v":17},"=",{"$f":"C103*E103","v":0},null,null,null,null,"Kabeljauwhaasje",null,null,null,null,null,{"$f":"C103","v":0}]
[]
[{"$f":"Data!$B$11","v":"Kindermenu"},null,null,null,null,null,null,null,null,null,null,"Kindermenu"]
[null,{"$f":"Data!$C$12","v":"Natuur"},null,"x",{"$f":"Data!$F$12","v":8},"=",{"$f":"C106*E106","v":0},null,null,null,null,null,"Natuur",null,null,null,null,null,{"$f":"C106","v":0}]
[null,{"$f":"Data!$C$13","v":"Champignons"},null,"x",{"$f":"Data!$F$13","v":8},"=",{"$f":"C107*E107","v":0},null,null,null,null,null,"Champignons",null,null,null,null,null,null,{"$f":"C107","v":0}]
[null,{"$f":"Data!$C$14","v":"Peper"},null,"x",{"$f":"Data!$F$14","v":8},"=",0,null,null,null,null,null,"Peper",null,null,null,null,null,null,null,{"$f":"C108","v":0}]
[null,{"$f":"Data!$C$15","v":"Kabeljauwhaasje"},null,"x",{"$f":"Data!$F$15","v":8},"=",0,null,null,null,null,null,"Kabeljauwhaasje",null,null,null,null,null,null,null,null,{"$f":"C109","v":0}]
[]
[null,{"$f":"Data!$C$17","v":"Totaal eten:"},null,null,null,null,{"$f":"SUM(G99:G110)","v":0},null,null,null,null,null,"Totaal eten:",null,null,null,null,null,null,null,null,null,{"$f":"G111","v":0}]
[null,{"$f":"Data!$C$18","v":"Totaal kaarten:"},null,"x",{"$f":"Data!$F$18","v":3},"=",{"$f":"-(C112*E112)","v":0}]
[null,null,null,null,null,null,null,null,null,null,null,null,"Totaal kaarten (bedrag):",null,null,null,null,null,null,null,null,null,null,{"$f":"C112","v":0}]
[]
[null,{"$f":"Data!$C$21","v":"Totaal te betalen:"},null,null,null,null,{"$f":"G111+G112","v":0},null,null,null,null,null,"Totaal te betalen:",null,null,null,null,null,null,null,null,null,null,null,{"$f":"G115","v":0}]
[]
[{"$f":"Data!$A$23","v":"TGV Opstal dankt u voor uw aanwezigheid!  Eet smakelijk!"}]
[]
["Fietsclub TGV Opstal",null,null,null,null,null,"Tafel nr:"]
[{"$f":"A96","v":3}]
[]
[{"$f":"Data!$B$4","v":"Kalkoenfilet"}]
[null,{"$f":"Data!$C$5","v":"Natuur"},{"$f":"C99","v":0},"x",{"$f":"Data!$F$5","v":17},"=",{"$f":"C123*E123","v":0}]
[null,{"$f":"Data!$C$6","v":"Champignons"},{"$f":"C100","v":0},"x",{"$f":"Data!$F$6","v":17},"=",{"$f":"C124*E124","v":0}]
[null,{"$f":"Data!$C$7","v":"Peper"},0,"x",{"$f":"Data!$F$7","v":17},"=",{"$f":"C125*E125","v":0}]
[]
[{"$f":"Data!$B$9","v":"Kabeljauwhaasje"},null,0,"x",{"$f":"Data!$F$9","v":17},"=",{"$f":"C127*E127","v":0}]
[]
[{"$f":"Data!$B$11","v":"Kindermenu"}]
[null,{"$f":"Data!$C$12","v":"Natuur"},0,"x",{"$f":"Data!$F$12","v":8},"=",{"$f":"C130*E130","v":0}]
[null,{"$f":"Data!$C$13","v":"Champignons"},0,"x",{"$f":"Data!$F$13","v":8},"=",{"$f":"C131*E131","v":0}]
[null,{"$f":"Data!$C$14","v":"Peper"},0,"x",{"$f":"Data!$F$14","v":8},"=",0]
[null,{"$f":"Data!$C$15","v":"Kabeljauwhaasje"},0,"x",{"$f":"Data!$F$15","v":8},"=",0]
[]
[null,{"$f":"Data!$C$17","v":"Totaal eten:"},null,null,null,null,{"$f":"SUM(G123:G134)","v":0}]
[null,{"$f":"Data!$C$18","v":"Totaal kaarten:"},{"$f":"C112","v":0},"x",{"$f":"Data!$F$18","v":3},"=",{"$f":"-(C136*E136)","v":0}]
[]
[]
[null,{"$f":"Data!$C$21","v":"Totaal te betalen:"},null,null,null,null,{"$f":"G135+G136","v":0}]
[]
[{"$f":"Data!$A$23","v":"TGV Opstal dankt u voor uw aanwezigheid!  Eet smakelijk!"}]
["Fietsclub TGV Opstal",null,null,null,null,null,"Tafel nr:"]
[{"$f":"A96+1","v":4},null,null,null,null,null,null,null,null,null,null,{"$f":"A143","v":4}]
[]
[{"$f":"Data!$B$4","v":"Kalkoenfilet"},null,null,null,null,null,null,null,null,null,null,"Kalkoenfilet"]
[null,{"$f":"Data!$C$5","v":"Natuur"},null,"x",{"$f":"Data!$F$5","v":17},"=",{"$f":"C146*E146","v":0},null,null,null,null,null,"Natuur",null,{"$f":"C146","v":0}]
[null,{"$f":"Data!$C$6","v":"Champignons"},null,"x",{"$f":"Data!$F$6","v":17},"=",{"$f":"C147*E147","v":0},null,null,null,null,null,"Champignons",null,null,{"$f":"C147","v":0}]
[null,{"$f":"Data!$C$7","v":"Peper"},null,"x",{"$f":"Data!$F$7","v":17},"=",{"$f":"C148*E148","v":0},null,null,null,null,null,"Peper",null,null,null,{"$f":"C148","v":0}]
[]
[{"$f":"Data!$B$9","v":"Kabeljauwhaasje"},null,null,"x",{"$f":"Data!$F$9","v":17},"=",{"$f":"C150*E150","v":0},null,null,null,null,"Kabeljauwhaasje",null,null,null,null,null,{"$f":"C150","v":0}]
[]
[{"$f":"Data!$B$11","v":"Kindermenu"},null,null,null,null,null,null,null,null,null,null,"Kindermenu"]
[null,{"$f":"Data!$C$12","v":"Natuur"},null,"x",{"$f":"Data!$F$12","v":8},"=",{"$f":"C153*E153","v":0},null,null,null,null,null,"Natuur",null,null,null,null,null,{"$f":"C153","v":0}]
[null,{"$f":"Data!$C$13","v":"Champignons"},null,"x",{"$f":"Data!$F$13","v":8},"=",{"$f":"C154*E154","v":0},null,null,null,null,null,"Champignons",null,null,null,null,null,null,{"$f":"C154","v":0}]
[null,{"$f":"Data!$C$14","v":"Peper"},null,"x",{"$f":"Data!$F$14","v":8},"=",0,null,null,null,null,null,"Peper",null,null,null,null,null,null,null,{"$f":"C155","v":0}]
[null,{"$f":"Data!$C$15","v":"Kabeljauwhaasje"},null,"x",{"$f":"Data!$F$15","v":8},"=",0,null,null,null,null,null,"Kabeljauwhaasje",null,null,null,null,null,null,null,null,{"$f":"C156","v":0}]
[]
[null,{"$f":"Data!$C$17","v":"Totaal eten:"},null,null,null,null,{"$f":"SUM(G146:G157)","v":0},null,null,null,null,null,"Totaal eten:",null,null,null,null,null,null,null,null,null,{"$f":"G158","v":0}]
[null,{"$f":"Data!$C$18","v":"Totaal kaarten:"},null,"x",{"$f":"Data!$F$18","v":3},"=",{"$f":"-(C159*E159)","v":0}]
[null,null,null,null,null,null,null,null,null,null,null,null,"Totaal kaarten (bedrag):",null,null,null,null,null,null,null,null,null,null,{"$f":"C159","v":0}]
[]
[null,{"$f":"Data!$C$21","v":"Totaal te betalen:"},null,null,null,null,{"$f":"G158+G159","v":0},null,null,null,null,null,"Totaal te betalen:",null,null,null,null,null,null,null,null,null,null,null,{"$f":"G162","v":0}]
[]
[{"$f":"Data!$A$23","v":"TGV Opstal dankt u voor uw aanwezigheid!  Eet smakelijk!"}]
[]
["Fietsclub TGV Opstal",null,null,null,null,null,"Tafel nr:"]
[{"$f":"A143","v":4}]
[]
[{"$f":"Data!$B$4","v":"Kalkoenfilet"}]
[null,{"$f":"Data!$C$5","v":"Natuur"},{"$f":"C146","v":0},"x",{"$f":"Data!$F$5","v":17},"=",{"$f":"C170*E170","v":0}]
[null,{"$f":"Data!$C$6","v":"Champignons"},{"$f":"C147","v":0},"x",{"$f":"Data!$F$6","v":17},"=",{"$f":"C171*E171","v":0}]
[null,{"$f":"Data!$C$7","v":"Peper"},0,"x",{"$f":"Data!$F$7","v":17},"=",{"$f":"C172*E172","v":0}]
[]
[{"$f":"Data!$B$9","v":"Kabeljauwhaasje"},null,0,"x",{"$f":"Data!$F$9","v":17},"=",{"$f":"C174*E174","v":0}]
[]
[{"$f":"Data!$B$11","v":"Kindermenu"}]
[null,{"$f":"Data!$C$12","v":"Natuur"},0,"x",{"$f":"Data!$F$12","v":8},"=",{"$f":"C177*E177","v":0}]
[null,{"$f":"Data!$C$13","v":"Champignons"},0,"x",{"$f":"Data!$F$13","v":8},"=",{"$f":"C178*E178","v":0}]
[null,{"$f":"Data!$C$14","v":"Peper"},0,"x",{"$f":"Data!$F$14","v":8},"=",0]
[null,{"$f":"Data!$C$15","v":"Kabeljauwhaasje"},0,"x",{"$f":"Data!$F$15","v":8},"=",0]
[]
[null,{"$f":"Data!$C$17","v":"Totaal eten:"},null,null,null,null,{"$f":"SUM(G170:G181)","v":0}]
[null,{"$f":"Data!$C$18","v":"Totaal kaarten:"},{"$f":"C159","v":0},"x",{"$f":"Data!$F$18","v":3},"=",{"$f":"-(C183*E183)","v":0}]
[]
[]
[null,{"$f":"Data!$C$21","v":"Totaal te betalen:"},null,null,null,null,{"$f":"G182+G183","v":0}]
[]
[{"$f":"Data!$A$23","v":"TGV Opstal dankt u voor uw aanwezigheid!  Eet smakelijk!"}]
["Fietsclub TGV Opstal",null,null,null,null,null,"Tafel nr:"]
[{"$f":"A143+1","v":5},null,null,null,null,null,null,null,null,null,null,{"$f":"A190","v":5}]
[]
[{"$f":"Data!$B$4","v":"Kalkoenfilet"},null,null,null,null,null,null,null,null,null,null,"Kalkoenfilet"]
[null,{"$f":"Data!$C$5","v":"Natuur"},null,"x",{"$f":"Data!$F$5","v":17},"=",{"$f":"C193*E193","v":0},null,null,null,null,null,"Natuur",null,{"$f":"C193","v":0}]
[null,{"$f":"Data!$C$6","v":"Champignons"},null,"x",{"$f":"Data!$F$6","v":17},"=",{"$f":"C194*E194","v":0},null,null,null,null,null,"Champignons",null,null,{"$f":"C194","v":0}]
[null,{"$f":"Data!$C$7","v":"Peper"},null,"x",{"$f":"Data!$F$7","v":17},"=",{"$f":"C195*E195","v":0},null,null,null,null,null,"Peper",null,null,null,{"$f":"C195","v":0}]
[]
[{"$f":"Data!$B$9","v":"Kabeljauwhaasje"},null,null,"x",{"$f":"Data!$F$9","v":17},"=",{"$f":"C197*E197","v":0},null,null,null,null,"Kabeljauwhaasje",null,null,null,null,null,{"$f":"C197","v":0}]
[]
[{"$f":"Data!$B$11","v":"Kindermenu"},null,null,null,null,null,null,null,null,null,null,"Kindermenu"]
[null,{"$f":"Data!$C$12","v":"Natuur"},null,"x",{"$f":"Data!$F$12","v":8},"=",{"$f":"C200*E200","v":0},null,null,null,null,null,"Natuur",null,null,null,null,null,{"$f":"C200","v":0}]
[null,{"$f":"Data!$C$13","v":"Champignons"},null,"x",{"$f":"Data!$F$13","v":8},"=",{"$f":"C201*E201","v":0},null,null,null,null,null,"Champignons",null,null,null,null,null,null,{"$f":"C201","v":0}]
[null,{"$f":"Data!$C$14","v":"Peper"},null,"x",{"$f":"Data!$F$14","v":8},"=",0,null,null,null,null,null,"Peper",null,null,null,null,null,null,null,{"$f":"C202","v":0}]
[null,{"$f":"Data!$C$15","v":"Kabeljauwhaasje"},null,"x",{"$f":"Data!$F$15","v":8},"=",0,null,null,null,null,null,"Kabeljauwhaasje",null,null,null,null,null,null,null,null,{"$f":"C203","v":0}]
[]
[null,{"$f":"Data!$C$17","v":"Totaal eten:"},null,null,null,null,{"$f":"SUM(G193:G204)","v":0},null,null,null,null,null,"Totaal eten:",null,null,null,null,null,null,null,null,null,{"$f":"G205","v":0}]
[null,{"$f":"Data!$C$18","v":"Totaal kaarten:"},null,"x",{"$f":"Data!$F$18","v":3},"=",{"$f":"-(C206*E206)","v":0}]
[null,null,null,null,null,null,null,null,null,null,null,null,"Totaal kaarten (bedrag):",null,null,null,null,null,null,null,null,null,null,{"$f":"C206","v":0}]
[]
[null,{"$f":"Data!$C$21","v":"Totaal te betalen:"},null,null,null,null,{"$f":"G205+G206","v":0},null,null,null,null,null,"Totaal te betalen:",null,null,null,null,null,null,null,null,null,null,null,{"$f":"G209","v":0}]
[]
[{"$f":"Data!$A$23","v":"TGV Opstal dankt u voor uw aanwezigheid!  Eet smakelijk!"}]
[]
["Fietsclub TGV Opstal",null,null,null,null,null,"Tafel nr:"]
[{"$f":"A190","v":5}]
[]
[{"$f":"Data!$B$4","v":"Kalkoenfilet"}]
[null,{"$f":"Data!$C$5","v":"Natuur"},{"$f":"C193","v":0},"x",{"$f":"Data!$F$5","v":17},"=",{"$f":"C217*E217","v":0}]
[null,{"$f":"Data!$C$6","v":"Champignons"},{"$f":"C194","v":0},"x",{"$f":"Data!$F$6","v":17},"=",{"$f":"C218*E218","v":0}]
[null,{"$f":"Data!$C$7","v":"Peper"},0,"x",{"$f":"Data!$F$7","v":17},"=",{"$f":"C219*E219","v":0}]
[]
[{"$f":"Data!$B$9","v":"Kabeljauwhaasje"},null,0,"x",{"$f":"Data!$F$9","v":17},"=",{"$f":"C221*E221","v":0}]
[]
[{"$f":"Data!$B$11","v":"Kindermenu"}]
[null,{"$f":"Data!$C$12","v":"Natuur"},0,"x",{"$f":"Data!$F$12","v":8},"=",{"$f":"C224*E224","v":0}]
[null,{"$f":"Data!$C$13","v":"Champignons"},0,"x",{"$f":"Data!$F$13","v":8},"=",{"$f":"C225*E225","v":0}]
[null,{"$f":"Data!$C$14","v":"Peper"},0,"x",{"$f":"Data!$F$14","v":8},"=",0]
[null,{"$f":"Data!$C$15","v":"Kabeljauwhaasje"},0,"x",{"$f":"Data!$F$15","v":8},"=",0]
[]
[null,{"$f":"Data!$C$17","v":"Totaal eten:"},null,null,null,null,{"$f":"SUM(G217:G228)","v":0}]
[null,{"$f":"Data!$C$18","v":"Totaal kaarten:"},{"$f":"C206","v":0},"x",{"$f":"Data!$F$18","v":3},"=",{"$f":"-(C230*E230)","v":0}]
[]
[]
[null,{"$f":"Data!$C$21","v":"Totaal te betalen:"},null,null,null,null,{"$f":"G229+G230","v":0}]
[]
[{"$f":"Data!$A$23","v":"TGV Opstal dankt u voor uw aanwezigheid!  Eet smakelijk!"}]
["Fietsclub TGV Opstal",null,null,null,null,null,"Tafel nr:"]
[{"$f":"A190+1","v":6},null,null,null,null,null,null,null,null,null,null,{"$f":"A237","v":6}]
[]
[{"$f":"Data!$B$4","v":"Kalkoenfilet"},null,null,null,null,null,null,null,null,null,null,"Kalkoenfilet"]
[null,{"$f":"Data!$C$5","v":"Natuur"},null,"x",{"$f":"Data!$F$5","v":17},"=",{"$f":"C240*E240","v":0},null,null,null,null,null,"Natuur",null,{"$f":"C240","v":0}]
[null,{"$f":"Data!$C$6","v":"Champignons"},null,"x",{"$f":"Data!$F$6","v":17},"=",{"$f":"C241*E241","v":0},null,null,null,null,null,"Champignons",null,null,{"$f":"C241","v":0}]
[null,{"$f":"Data!$C$7","v":"Peper"},null,"x",{"$f":"Data!$F$7","v":17},"=",{"$f":"C242*E242","v":0},null,null,null,null,null,"Peper",null,null,null,{"$f":"C242","v":0}]
[]
[{"$f":"Data!$B$9","v":"Kabeljauwhaasje"},null,null,"x",{"$f":"Data!$F$9","v":17},"=",{"$f":"C244*E244","v":0},null,null,null,null,"Kabeljauwhaasje",null,null,null,null,null,{"$f":"C244","v":0}]
[]
[{"$f":"Data!$B$11","v":"Kindermenu"},null,null,null,null,null,null,null,null,null,null,"Kindermenu"]
[null,{"$f":"Data!$C$12","v":"Natuur"},null,"x",{"$f":"Data!$F$12","v":8},"=",{"$f":"C247*E247","v":0},null,null,null,null,null,"Natuur",null,null,null,null,null,{"$f":"C247","v":0}]
[null,{"$f":"Data!$C$13","v":"Champignons"},null,"x",{"$f":"Data!$F$13","v":8},"=",{"$f":"C248*E248","v":0},null,null,null,null,null,"Champignons",null,null,null,null,null,null,{"$f":"C248","v":0}]
[null,{"$f":"Data!$C$14","v":"Peper"},null,"x",{"$f":"Data!$F$14","v":8},"=",0,null,null,null,null,null,"Peper",null,null,null,null,null,null,null,{"$f":"C249","v":0}]
[null,{"$f":"Data!$C$15","v":"Kabeljauwhaasje"},null,"x",{"$f":"Data!$F$15","v":8},"=",0,null,null,null,null,null,"Kabeljauwhaasje",null,null,null,null,null,null,null,null,{"$f":"C250","v":0}]
[]
[null,{"$f":"Data!$C$17","v":"Totaal eten:"},null,null,null,null,{"$f":"SUM(G240:G251)","v":0},null,null,null,null,null,"Totaal eten:",null,null,null,null,null,null,null,null,null,{"$f":"G252","v":0}]
[null,{"$f":"Data!$C$18","v":"Totaal kaarten:"},null,"x",{"$f":"Data!$F$18","v":3},"=",{"$f":"-(C253*E253)","v":0}]
[null,null,null,null,null,null,null,null,null,null,null,null,"Totaal kaarten (bedrag):",null,null,null,null,null,null,null,null,null,null,{"$f":"C253","v":0}]
[]
[null,{"$f":"Data!$C$21","v":"Totaal te betalen:"},null,null,null,null,{"$f":"G252+G253","v":0},null,null,null,null,null,"Totaal te betalen:",null,null,null,null,null,null,null,null,null,null,null,{"$f":"G256","v":0}]
[]
[{"$f":"Data!$A$23","v":"TGV Opstal dankt u voor uw aanwezigheid!  Eet smakelijk!"}]
[]
["Fietsclub TGV Opstal",null,null,null,null,null,"Tafel nr:"]
[{"$f":"A237","v":6}]
[]
[{"$f":"Data!$B$4","v":"Kalkoenfilet"}]
[null,{"$f":"Data!$C$5","v":"Natuur"},{"$f":"C240","v":0},"x",{"$f":"Data!$F$5","v":17},"=",{"$f":"C264*E264","v":0}]
[null,{"$f":"Data!$C$6","v":"Champignons"},{"$f":"C241","v":0},"x",{"$f":"Data!$F$6","v":17},"=",{"$f":"C265*E265","v":0}]
[null,{"$f":"Data!$C$7","v":"Peper"},0,"x",{"$f":"Data!$F$7","v":17},"=",{"$f":"C266*E266","v":0}]
[]
[{"$f":"Data!$B$9","v":"Kabeljauwhaasje"},null,0,"x",{"$f":"Data!$F$9","v":17},"=",{"$f":"C268*E268","v":0}]
[]
[{"$f":"Data!$B$11","v":"Kindermenu"}]
[null,{"$f":"Data!$C$12","v":"Natuur"},0,"x",{"$f":"Data!$F$12","v":8},"=",{"$f":"C271*E271","v":0}]
[null,{"$f":"Data!$C$13","v":"Champignons"},0,"x",{"$f":"Data!$F$13","v":8},"=",{"$f":"C272*E272","v":0}]
[null,{"$f":"Data!$C$14","v":"Peper"},0,"x",{"$f":"Data!$F$14","v":8},"=",0]
[null,{"$f":"Data!$C$15","v":"Kabeljauwhaasje"},0,"x",{"$f":"Data!$F$15","v":8},"=",0]
[]
[null,{"$f":"Data!$C$17","v":"Totaal eten:"},null,null,null,null,{"$f":"SUM(G264:G275)","v":0}]
[null,{"$f":"Data!$C$18","v":"Totaal kaarten:"},{"$f":"C253","v":0},"x",{"$f":"Data!$F$18","v":3},"=",{"$f":"-(C277*E277)","v":0}]
[]
[]
[null,{"$f":"Data!$C$21","v":"Totaal te betalen:"},null,null,null,null,{"$f":"G276+G277","v":0}]
[]
[{"$f":"Data!$A$23","v":"TGV Opstal dankt u voor uw aanwezigheid!  Eet smakelijk!"}]
["Fietsclub TGV Opstal",null,null,null,null,null,"Tafel nr:"]
[{"$f":"A237+1","v":7},null,null,null,null,null,null,null,null,null,null,{"$f":"A284","v":7}]
[]
[{"$f":"Data!$B$4","v":"Kalkoenfilet"},null,null,null,null,null,null,null,null,null,null,"Kalkoenfilet"]
[null,{"$f":"Data!$C$5","v":"Natuur"},null,"x",{"$f":"Data!$F$5","v":17},"=",{"$f":"C287*E287","v":0},null,null,null,null,null,"Natuur",null,{"$f":"C287","v":0}]
[null,{"$f":"Data!$C$6","v":"Champignons"},null,"x",{"$f":"Data!$F$6","v":17},"=",{"$f":"C288*E288","v":0},null,null,null,null,null,"Champignons",null,null,{"$f":"C288","v":0}]
[null,{"$f":"Data!$C$7","v":"Peper"},null,"x",{"$f":"Data!$F$7","v":17},"=",{"$f":"C289*E289","v":0},null,null,null,null,null,"Peper",null,null,null,{"$f":"C289","v":0}]
[]
[{"$f":"Data!$B$9","v":"Kabeljauwhaasje"},null,null,"x",{"$f":"Data!$F$9","v":17},"=",{"$f":"C291*E291","v":0},null,null,null,null,"Kabeljauwhaasje",null,null,null,null,null,{"$f":"C291","v":0}]
[]
[{"$f":"Data!$B$11","v":"Kindermenu"},null,null,null,null,null,null,null,null,null,null,"Kindermenu"]
[null,{"$f":"Data!$C$12","v":"Natuur"},null,"x",{"$f":"Data!$F$12","v":8},"=",{"$f":"C294*E294","v":0},null,null,null,null,null,"Natuur",null,null,null,null,null,{"$f":"C294","v":0}]
[null,{"$f":"Data!$C$13","v":"Champignons"},null,"x",{"$f":"Data!$F$13","v":8},"=",{"$f":"C295*E295","v":0},null,null,null,null,null,"Champignons",null,null,null,null,null,null,{"$f":"C295","v":0}]
[null,{"$f":"Data!$C$14","v":"Peper"},null,"x",{"$f":"Data!$F$14","v":8},"=",0,null,null,null,null,null,"Peper",null,null,null,null,null,null,null,{"$f":"C296","v":0}]
[null,{"$f":"Data!$C$15","v":"Kabeljauwhaasje"},null,"x",{"$f":"Data!$F$15","v":8},"=",0,null,null,null,null,null,"Kabeljauwhaasje",null,null,null,null,null,null,null,null,{"$f":"C297","v":0}]
[]
[null,{"$f":"Data!$C$17","v":"Totaal eten:"},null,null,null,null,{"$f":"SUM(G287:G298)","v":0},null,null,null,null,null,"Totaal eten:",null,null,null,null,null,null,null,null,null,{"$f":"G299","v":0}]
[null,{"$f":"Data!$C$18","v":"Totaal kaarten:"},null,"x",{"$f":"Data!$F$18","v":3},"=",{"$f":"-(C300*E300)","v":0}]
[null,null,null,null,null,null,null,null,null,null,null,null,"Totaal kaarten (bedrag):",null,null,null,null,null,null,null,null,null,null,{"$f":"C300","v":0}]
[]
[null,{"$f":"Data!$C$21","v":"Totaal te betalen:"},null,null,null,null,{"$f":"G299+G300","v":0},null,null,null,null,null,"Totaal te betalen:",null,null,null,null,null,null,null,null,null,null,null,{"$f":"G303","v":0}]
[]
[{"$f":"Data!$A$23","v":"TGV Opstal dankt u voor uw aanwezigheid!  Eet smakelijk!"}]
[]
["Fietsclub TGV Opstal",null,null,null,null,null,"Tafel nr:"]
[{"$f":"A284","v":7}]
[]
[{"$f":"Data!$B$4","v":"Kalkoenfilet"}]
[null,{"$f":"Data!$C$5","v":"Natuur"},{"$f":"C287","v":0},"x",{"$f":"Data!$F$5","v":17},"=",{"$f":"C311*E311","v":0}]
[null,{"$f":"Data!$C$6","v":"Champignons"},{"$f":"C288","v":0},"x",{"$f":"Data!$F$6","v":17},"=",{"$f":"C312*E312","v":0}]
[null,{"$f":"Data!$C$7","v":"Peper"},0,"x",{"$f":"Data!$F$7","v":17},"=",{"$f":"C313*E313","v":0}]
[]
[{"$f":"Data!$B$9","v":"Kabeljauwhaasje"},null,0,"x",{"$f":"Data!$F$9","v":17},"=",{"$f":"C315*E315","v":0}]
[]
[{"$f":"Data!$B$11","v":"Kindermenu"}]
[null,{"$f":"Data!$C$12","v":"Natuur"},0,"x",{"$f":"Data!$F$12","v":8},"=",{"$f":"C318*E318","v":0}]
[null,{"$f":"Data!$C$13","v":"Champignons"},0,"x",{"$f":"Data!$F$13","v":8},"=",{"$f":"C319*E319","v":0}]
[null,{"$f":"Data!$C$14","v":"Peper"},0,"x",{"$f":"Data!$F$14","v":8},"=",0]
[null,{"$f":"Data!$C$15","v":"Kabeljauwhaasje"},0,"x",{"$f":"Data!$F$15","v":8},"=",0]
[]
[null,{"$f":"Data!$C$17","v":"Totaal eten:"},null,null,null,null,{"$f":"SUM(G311:G322)","v":0}]
[null,{"$f":"Data!$C$18","v":"Totaal kaarten:"},{"$f":"C300","v":0},"x",{"$f":"Data!$F$18","v":3},"=",{"$f":"-(C324*E324)","v":0}]
[]
[]
[null,{"$f":"Data!$C$21","v":"Totaal te betalen:"},null,null,null,null,{"$f":"G323+G324","v":0}]
[]
[{"$f":"Data!$A$23","v":"TGV Opstal dankt u voor uw aanwezigheid!  Eet smakelijk!"}]
["Fietsclub TGV Opstal",null,null,null,null,null,"Tafel nr:"]
[{"$f":"A284+1","v":8},null,null,null,null,null,null,null,null,null,null,{"$f":"A331","v":8}]
[]
[{"$f":"Data!$B$4","v":"Kalkoenfilet"},null,null,null,null,null,null,null,null,null,null,"Kalkoenfilet"]
[null,{"$f":"Data!$C$5","v":"Natuur"},null,"x",{"$f":"Data!$F$5","v":17},"=",{"$f":"C334*E334","v":0},null,null,null,null,null,"Natuur",null,{"$f":"C334","v":0}]
[null,{"$f":"Data!$C$6","v":"Champignons"},null,"x",{"$f":"Data!$F$6","v":17},"=",{"$f":"C335*E335","v":0},null,null,null,null,null,"Champignons",null,null,{"$f":"C335","v":0}]
[null,{"$f":"Data!$C$7","v":"Peper"},null,"x",{"$f":"Data!$F$7","v":17},"=",{"$f":"C336*E336","v":0},null,null,null,null,null,"Peper",null,null,null,{"$f":"C336","v":0}]
[]
[{"$f":"Data!$B$9","v":"Kabeljauwhaasje"},null,null,"x",{"$f":"Data!$F$9","v":17},"=",{"$f":"C338*E338","v":0},null,null,null,null,"Kabeljauwhaasje",null,null,null,null,null,{"$f":"C338","v":0}]
[]
[{"$f":"Data!$B$11","v":"Kindermenu"},null,null,null,null,null,null,null,null,null,null,"Kindermenu"]
[null,{"$f":"Data!$C$12","v":"Natuur"},null,"x",{"$f":"Data!$F$12","v":8},"=",{"$f":"C341*E341","v":0},null,null,null,null,null,"Natuur",null,null,null,null,null,{"$f":"C341","v":0}]
[null,{"$f":"Data!$C$13","v":"Champignons"},null,"x",{"$f":"Data!$F$13","v":8},"=",{"$f":"C342*E342","v":0},null,null,null,null,null,"Champignons",null,null,null,null,null,null,{"$f":"C342","v":0}]
[null,{"$f":"Data!$C$14","v":"Peper"},null,"x",{"$f":"Data!$F$14","v":8},"=",0,null,null,null,null,null,"Peper",null,null,null,null,null,null,null,{"$f":"C343","v":0}]
[null,{"$f":"Data!$C$15","v":"Kabeljauwhaasje"},null,"x",{"$f":"Data!$F$15","v":8},"=",0,null,null,null,null,null,"Kabeljauwhaasje",null,null,null,null,null,null,null,null,{"$f":"C344","v":0}]
[]
[null,{"$f":"Data!$C$17","v":"Totaal eten:"},null,null,null,null,{"$f":"SUM(G334:G345)","v":0},null,null,null,null,null,"Totaal eten:",null,null,null,null,null,null,null,null,null,{"$f":"G346","v":0}]
[null,{"$f":"Data!$C$18","v":"Totaal kaarten:"},null,"x",{"$f":"Data!$F$18","v":3},"=",{"$f":"-(C347*E347)","v":0}]
[null,null,null,null,null,null,null,null,null,null,null,null,"Totaal kaarten (bedrag):",null,null,null,null,null,null,null,null,null,null,{"$f":"C347","v":0}]
[]
[null,{"$f":"Data!$C$21","v":"Totaal te betalen:"},null,null,null,null,{"$f":"G346+G347","v":0},null,null,null,null,null,"Totaal te betalen:",null,null,null,null,null,null,null,null,null,null,null,{"$f":"G350","v":0}]
[]
[{"$f":"Data!$A$23","v":"TGV Opstal dankt u voor uw aanwezigheid!  Eet smakelijk!"}]
[]
["Fietsclub TGV Opstal",null,null,null,null,null,"Tafel nr:"]
[{"$f":"A331","v":8}]
[]
[{"$f":"Data!$B$4","v":"Kalkoenfilet"}]
[null,{"$f":"Data!$C$5","v":"Natuur"},{"$f":"C334","v":0},"x",{"$f":"Data!$F$5","v":17},"=",{"$f":"C358*E358","v":0}]
[null,{"$f":"Data!$C$6","v":"Champignons"},{"$f":"C335","v":0},"x",{"$f":"Data!$F$6","v":17},"=",{"$f":"C359*E359","v":0}]
[null,{"$f":"Data!$C$7","v":"Peper"},0,"x",{"$f":"Data!$F$7","v":17},"=",{"$f":"C360*E360","v":0}]
[]
[{"$f":"Data!$B$9","v":"Kabeljauwhaasje"},null,0,"x",{"$f":"Data!$F$9","v":17},"=",{"$f":"C362*E362","v":0}]
[]
[{"$f":"Data!$B$11","v":"Kindermenu"}]
[null,{"$f":"Data!$C$12","v":"Natuur"},0,"x",{"$f":"Data!$F$12","v":8},"=",{"$f":"C365*E365","v":0}]
[null,{"$f":"Data!$C$13","v":"Champignons"},0,"x",{"$f":"Data!$F$13","v":8},"=",{"$f":"C366*E366","v":0}]
[null,{"$f":"Data!$C$14","v":"Peper"},0,"x",{"$f":"Data!$F$14","v":8},"=",0]
[null,{"$f":"Data!$C$15","v":"Kabeljauwhaasje"},0,"x",{"$f":"Data!$F$15","v":8},"=",0]
[]
[null,{"$f":"Data!$C$17","v":"Totaal eten:"},null,null,null,null,{"$f":"SUM(G358:G369)","v":0}]
[null,{"$f":"Data!$C$18","v":"Totaal kaarten:"},{"$f":"C347","v":0},"x",{"$f":"Data!$F$18","v":3},"=",{"$f":"-(C371*E371)","v":0}]
[]
[]
[null,{"$f":"Data!$C$21","v":"Totaal te betalen:"},null,null,null,null,{"$f":"G370+G371","v":0}]
[]
[{"$f":"Data!$A$23","v":"TGV Opstal dankt u voor uw aanwezigheid!  Eet smakelijk!"}]
["Fietsclub TGV Opstal",null,null,null,null,null,"Tafel nr:"]
[{"$f":"A331+1","v":9},null,null,null,null,null,null,null,null,null,null,{"$f":"A378","v":9}]
[]
[{"$f":"Data!$B$4","v":"Kalkoenfilet"},null,null,null,null,null,null,null,null,null,null,"Kalkoenfilet"]
[null,{"$f":"Data!$C$5","v":"Natuur"},null,"x",{"$f":"Data!$F$5","v":17},"=",{"$f":"C381*E381","v":0},null,null,null,null,null,"Natuur",null,{"$f":"C381","v":0}]
[null,{"$f":"Data!$C$6","v":"Champignons"},null,"x",{"$f":"Data!$F$6","v":17},"=",{"$f":"C382*E382","v":0},null,null,null,null,null,"Champignons",null,null,{"$f":"C382","v":0}]
[null,{"$f":"Data!$C$7","v":"Peper"},null,"x",{"$f":"Data!$F$7","v":17},"=",{"$f":"C383*E383","v":0},null,null,null,null,null,"Peper",null,null,null,{"$f":"C383","v":0}]
[]
[{"$f":"Data!$B$9","v":"Kabeljauwhaasje"},null,null,"x",{"$f":"Data!$F$9","v":17},"=",{"$f":"C385*E385","v":0},null,null,null,null,"Kabeljauwhaasje",null,null,null,null,null,{"$f":"C385","v":0}]
[]
[{"$f":"Data!$B$11","v":"Kindermenu"},null,null,null,null,null,null,null,null,null,null,"Kindermenu"]
[null,{"$f":"Data!$C$12","v":"Natuur"},null,"x",{"$f":"Data!$F$12","v":8},"=",{"$f":"C388*E388","v":0},null,null,null,null,null,"Natuur",null,null,null,null,null,{"$f":"C388","v":0}]
[null,{"$f":"Data!$C$13","v":"Champignons"},null,"x",{"$f":"Data!$F$13","v":8},"=",{"$f":"C389*E389","v":0},null,null,null,null,null,"Champignons",null,null,null,null,null,null,{"$f":"C389","v":0}]
[null,{"$f":"Data!$C$14","v":"Peper"},null,"x",{"$f":"Data!$F$14","v":8},"=",0,null,null,null,null,null,"Peper",null,null,null,null,null,null,null,{"$f":"C390","v":0}]
[null,{"$f":"Data!$C$15","v":"Kabeljauwhaasje"},null,"x",{"$f":"Data!$F$15","v":8},"=",0,null,null,null,null,null,"Kabeljauwhaasje",null,null,null,null,null,null,null,null,{"$f":"C391","v":0}]
[]
[null,{"$f":"Data!$C$17","v":"Totaal eten:"},null,null,null,null,{"$f":"SUM(G381:G392)","v":0},null,null,null,null,null,"Totaal eten:",null,null,null,null,null,null,null,null,null,{"$f":"G393","v":0}]
[null,{"$f":"Data!$C$18","v":"Totaal kaarten:"},null,"x",{"$f":"Data!$F$18","v":3},"=",{"$f":"-(C394*E394)","v":0}]
[null,null,null,null,null,null,null,null,null,null,null,null,"Totaal kaarten (bedrag):",null,null,null,null,null,null,null,null,null,null,{"$f":"C394","v":0}]
[]
[null,{"$f":"Data!$C$21","v":"Totaal te betalen:"},null,null,null,null,{"$f":"G393+G394","v":0},null,null,null,null,null,"Totaal te betalen:",null,null,null,null,null,null,null,null,null,null,null,{"$f":"G397","v":0}]
[]
[{"$f":"Data!$A$23","v":"TGV Opstal dankt u voor uw aanwezigheid!  Eet smakelijk!"}]
[]
["Fietsclub TGV Opstal",null,null,null,null,null,"Tafel nr:"]
[{"$f":"A378","v":9}]
[]
[{"$f":"Data!$B$4","v":"Kalkoenfilet"}]
[null,{"$f":"Data!$C$5","v":"Natuur"},{"$f":"C381","v":0},"x",{"$f":"Data!$F$5","v":17},"=",{"$f":"C405*E405","v":0}]
[null,{"$f":"Data!$C$6","v":"Champignons"},{"$f":"C382","v":0},"x",{"$f":"Data!$F$6","v":17},"=",{"$f":"C406*E406","v":0}]
[null,{"$f":"Data!$C$7","v":"Peper"},0,"x",{"$f":"Data!$F$7","v":17},"=",{"$f":"C407*E407","v":0}]
[]
[{"$f":"Data!$B$9","v":"Kabeljauwhaasje"},null,0,"x",{"$f":"Data!$F$9","v":17},"=",{"$f":"C409*E409","v":0}]
[]
[{"$f":"Data!$B$11","v":"Kindermenu"}]
[null,{"$f":"Data!$C$12","v":"Natuur"},0,"x",{"$f":"Data!$F$12","v":8},"=",{"$f":"C412*E412","v":0}]
[null,{"$f":"Data!$C$13","v":"Champignons"},0,"x",{"$f":"Data!$F$13","v":8},"=",{"$f":"C413*E413","v":0}]
[null,{"$f":"Data!$C$14","v":"Peper"},0,"x",{"$f":"Data!$F$14","v":8},"=",0]
[null,{"$f":"Data!$C$15","v":"Kabeljauwhaasje"},0,"x",{"$f":"Data!$F$15","v":8},"=",0]
[]
[null,{"$f":"Data!$C$17","v":"Totaal eten:"},null,null,null,null,{"$f":"SUM(G405:G416)","v":0}]
[null,{"$f":"Data!$C$18","v":"Totaal kaarten:"},{"$f":"C394","v":0},"x",{"$f":"Data!$F$18","v":3},"=",{"$f":"-(C418*E418)","v":0}]
[]
[]
[null,{"$f":"Data!$C$21","v":"Totaal te betalen:"},null,null,null,null,{"$f":"G417+G418","v":0}]
[]
[{"$f":"Data!$A$23","v":"TGV Opstal dankt u voor uw aanwezigheid!  Eet smakelijk!"}]
["Fietsclub TGV Opstal",null,null,null,null,null,"Tafel nr:"]
[{"$f":"A378+1","v":10},null,null,null,null,null,null,null,null,null,null,{"$f":"A425","v":10}]
[]
[{"$f":"Data!$B$4","v":"Kalkoenfilet"},null,null,null,null,null,null,null,null,null,null,"Kalkoenfilet"]
[null,{"$f":"Data!$C$5","v":"Natuur"},null,"x",{"$f":"Data!$F$5","v":17},"=",{"$f":"C428*E428","v":0},null,null,null,null,null,"Natuur",null,{"$f":"C428","v":0}]
[null,{"$f":"Data!$C$6","v":"Champignons"},null,"x",{"$f":"Data!$F$6","v":17},"=",{"$f":"C429*E429","v":0},null,null,null,null,null,"Champignons",null,null,{"$f":"C429","v":0}]
[null,{"$f":"Data!$C$7","v":"Peper"},null,"x",{"$f":"Data!$F$7","v":17},"=",{"$f":"C430*E430","v":0},null,null,null,null,null,"Peper",null,null,null,{"$f":"C430","v":0}]
[]
[{"$f":"Data!$B$9","v":"Kabeljauwhaasje"},null,null,"x",{"$f":"Data!$F$9","v":17},"=",{"$f":"C432*E432","v":0},null,null,null,null,"Kabeljauwhaasje",null,null,null,null,null,{"$f":"C432","v":0}]
[]
[{"$f":"Data!$B$11","v":"Kindermenu"},null,null,null,null,null,null,null,null,null,null,"Kindermenu"]
[null,{"$f":"Data!$C$12","v":"Natuur"},null,"x",{"$f":"Data!$F$12","v":8},"=",{"$f":"C435*E435","v":0},null,null,null,null,null,"Natuur",null,null,null,null,null,{"$f":"C435","v":0}]
[null,{"$f":"Data!$C$13","v":"Champignons"},null,"x",{"$f":"Data!$F$13","v":8},"=",{"$f":"C436*E436","v":0},null,null,null,null,null,"Champignons",null,null,null,null,null,null,{"$f":"C436","v":0}]
[null,{"$f":"Data!$C$14","v":"Peper"},null,"x",{"$f":"Data!$F$14","v":8},"=",0,null,null,null,null,null,"Peper",null,null,null,null,null,null,null,{"$f":"C437","v":0}]
[null,{"$f":"Data!$C$15","v":"Kabeljauwhaasje"},null,"x",{"$f":"Data!$F$15","v":8},"=",0,null,null,null,null,null,"Kabeljauwhaasje",null,null,null,null,null,null,null,null,{"$f":"C438","v":0}]
[]
[null,{"$f":"Data!$C$17","v":"Totaal eten:"},null,null,null,null,{"$f":"SUM(G428:G439)","v":0},null,null,null,null,null,"Totaal eten:",null,null,null,null,null,null,null,null,null,{"$f":"G440","v":0}]
[null,{"$f":"Data!$C$18","v":"Totaal kaarten:"},null,"x",{"$f":"Data!$F$18","v":3},"=",{"$f":"-(C441*E441)","v":0}]
[null,null,null,null,null,null,null,null,null,null,null,null,"Totaal kaarten (bedrag):",null,null,null,null,null,null,null,null,null,null,{"$f":"C441","v":0}]
[]
[null,{"$f":"Data!$C$21","v":"Totaal te betalen:"},null,null,null,null,{"$f":"G440+G441","v":0},null,null,null,null,null,"Totaal te betalen:",null,null,null,null,null,null,null,null,null,null,null,{"$f":"G444","v":0}]
[]
[{"$f":"Data!$A$23","v":"TGV Opstal dankt u voor uw aanwezigheid!  Eet smakelijk!"}]
[]
["Fietsclub TGV Opstal",null,null,null,null,null,"Tafel nr:"]
[{"$f":"A425","v":10}]
[]
[{"$f":"Data!$B$4","v":"Kalkoenfilet"}]
[null,{"$f":"Data!$C$5","v":"Natuur"},{"$f":"C428","v":0},"x",{"$f":"Data!$F$5","v":17},"=",{"$f":"C452*E452","v":0}]
[null,{"$f":"Data!$C$6","v":"Champignons"},{"$f":"C429","v":0},"x",{"$f":"Data!$F$6","v":17},"=",{"$f":"C453*E453","v":0}]
[null,{"$f":"Data!$C$7","v":"Peper"},0,"x",{"$f":"Data!$F$7","v":17},"=",{"$f":"C454*E454","v":0}]
[]
[{"$f":"Data!$B$9","v":"Kabeljauwhaasje"},null,0,"x",{"$f":"Data!$F$9","v":17},"=",{"$f":"C456*E456","v":0}]
[]
[{"$f":"Data!$B$11","v":"Kindermenu"}]
[null,{"$f":"Data!$C$12","v":"Natuur"},0,"x",{"$f":"Data!$F$12","v":8},"=",{"$f":"C459*E459","v":0}]
[null,{"$f":"Data!$C$13","v":"Champignons"},0,"x",{"$f":"Data!$F$13","v":8},"=",{"$f":"C460*E460","v":0}]
[null,{"$f":"Data!$C$14","v":"Peper"},0,"x",{"$f":"Data!$F$14","v":8},"=",0]
[null,{"$f":"Data!$C$15","v":"Kabeljauwhaasje"},0,"x",{"$f":"Data!$F$15","v":8},"=",0]
[]
[null,{"$f":"Data!$C$17","v":"Totaal eten:"},null,null,null,null,{"$f":"SUM(G452:G463)","v":0}]
[null,{"$f":"Data!$C$18","v":"Totaal kaarten:"},{"$f":"C441","v":0},"x",{"$f":"Data!$F$18","v":3},"=",{"$f":"-(C465*E465)","v":0}]
[]
[]
[null,{"$f":"Data!$C$21","v":"Totaal te betalen:"},null,null,null,null,{"$f":"G464+G465","v":0}]
[]
[{"$f":"Data!$A$23","v":"TGV Opstal dankt u voor uw aanwezigheid!  Eet smakelijk!"}]
["Fietsclub TGV Opstal",null,null,null,null,null,"Tafel nr:"]
[{"$f":"A425+1","v":11},null,null,null,null,null,null,null,null,null,null,{"$f":"A472","v":11}]
[]
[{"$f":"Data!$B$4","v":"Kalkoenfilet"},null,null,null,null,null,null,null,null,null,null,"Kalkoenfilet"]
[null,{"$f":"Data!$C$5","v":"Natuur"},null,"x",{"$f":"Data!$F$5","v":17},"=",{"$f":"C475*E475","v":0},null,null,null,null,null,"Natuur",null,{"$f":"C475","v":0}]
[null,{"$f":"Data!$C$6","v":"Champignons"},null,"x",{"$f":"Data!$F$6","v":17},"=",{"$f":"C476*E476","v":0},null,null,null,null,null,"Champignons",null,null,{"$f":"C476","v":0}]
[null,{"$f":"Data!$C$7","v":"Peper"},null,"x",{"$f":"Data!$F$7","v":17},"=",{"$f":"C477*E477","v":0},null,null,null,null,null,"Peper",null,null,null,{"$f":"C477","v":0}]
[]
[{"$f":"Data!$B$9","v":"Kabeljauwhaasje"},null,null,"x",{"$f":"Data!$F$9","v":17},"=",{"$f":"C479*E479","v":0},null,null,null,null,"Kabeljauwhaasje",null,null,null,null,null,{"$f":"C479","v":0}]
[]
[{"$f":"Data!$B$11","v":"Kindermenu"},null,null,null,null,null,null,null,null,null,null,"Kindermenu"]
[null,{"$f":"Data!$C$12","v":"Natuur"},null,"x",{"$f":"Data!$F$12","v":8},"=",{"$f":"C482*E482","v":0},null,null,null,null,null,"Natuur",null,null,null,null,null,{"$f":"C482","v":0}]
[null,{"$f":"Data!$C$13","v":"Champignons"},null,"x",{"$f":"Data!$F$13","v":8},"=",{"$f":"C483*E483","v":0},null,null,null,null,null,"Champignons",null,null,null,null,null,null,{"$f":"C483","v":0}]
[null,{"$f":"Data!$C$14","v":"Peper"},null,"x",{"$f":"Data!$F$14","v":8},"=",0,null,null,null,null,null,"Peper",null,null,null,null,null,null,null,{"$f":"C484","v":0}]
[null,{"$f":"Data!$C$15","v":"Kabeljauwhaasje"},null,"x",{"$f":"Data!$F$15","v":8},"=",0,null,null,null,null,null,"Kabeljauwhaasje",null,null,null,null,null,null,null,null,{"$f":"C485","v":0}]
[]
[null,{"$f":"Data!$C$17","v":"Totaal eten:"},null,null,null,null,{"$f":"SUM(G475:G486)","v":0},null,null,null,null,null,"Totaal eten:",null,null,null,null,null,null,null,null,null,{"$f":"G487","v":0}]
[null,{"$f":"Data!$C$18","v":"Totaal kaarten:"},null,"x",{"$f":"Data!$F$18","v":3},"=",{"$f":"-(C488*E488)","v":0}]
[null,null,null,null,null,null,null,null,null,null,null,null,"Totaal kaarten (bedrag):",null,null,null,null,null,null,null,null,null,null,{"$f":"C488","v":0}]
[]
[null,{"$f":"Data!$C$21","v":"Totaal te betalen:"},null,null,null,null,{"$f":"G487+G488","v":0},null,null,null,null,null,"Totaal te betalen:",null,null,null,null,null,null,null,null,null,null,null,{"$f":"G491","v":0}]
[]
[{"$f":"Data!$A$23","v":"TGV Opstal dankt u voor uw aanwezigheid!  Eet smakelijk!"}]
[]
["Fietsclub TGV Opstal",null,null,null,null,null,"Tafel nr:"]
[{"$f":"A472","v":11}]
[]
[{"$f":"Data!$B$4","v":"Kalkoenfilet"}]
[null,{"$f":"Data!$C$5","v":"Natuur"},{"$f":"C475","v":0},"x",{"$f":"Data!$F$5","v":17},"=",{"$f":"C499*E499","v":0}]
[null,{"$f":"Data!$C$6","v":"Champignons"},{"$f":"C476","v":0},"x",{"$f":"Data!$F$6","v":17},"=",{"$f":"C500*E500","v":0}]
[null,{"$f":"Data!$C$7","v":"Peper"},0,"x",{"$f":"Data!$F$7","v":17},"=",{"$f":"C501*E501","v":0}]
[]
[{"$f":"Data!$B$9","v":"Kabeljauwhaasje"},null,0,"x",{"$f":"Data!$F$9","v":17},"=",{"$f":"C503*E503","v":0}]
[]
[{"$f":"Data!$B$11","v":"Kindermenu"}]
[null,{"$f":"Data!$C$12","v":"Natuur"},0,"x",{"$f":"Data!$F$12","v":8},"=",{"$f":"C506*E506","v":0}]
[null,{"$f":"Data!$C$13","v":"Champignons"},0,"x",{"$f":"Data!$F$13","v":8},"=",{"$f":"C507*E507","v":0}]
[null,{"$f":"Data!$C$14","v":"Peper"},0,"x",{"$f":"Data!$F$14","v":8},"=",0]
[null,{"$f":"Data!$C$15","v":"Kabeljauwhaasje"},0,"x",{"$f":"Data!$F$15","v":8},"=",0]
[]
[null,{"$f":"Data!$C$17","v":"Totaal eten:"},null,null,null,null,{"$f":"SUM(G499:G510)","v":0}]
[null,{"$f":"Data!$C$18","v":"Totaal kaarten:"},{"$f":"C488","v":0},"x",{"$f":"Data!$F$18","v":3},"=",{"$f":"-(C512*E512)","v":0}]
[]
[]
[null,{"$f":"Data!$C$21","v":"Totaal te betalen:"},null,null,null,null,{"$f":"G511+G512","v":0}]
[]
[{"$f":"Data!$A$23","v":"TGV Opstal dankt u voor uw aanwezigheid!  Eet smakelijk!"}]
["Fietsclub TGV Opstal",null,null,null,null,null,"Tafel nr:"]
[{"$f":"A472+1","v":12},null,null,null,null,null,null,null,null,null,null,{"$f":"A519","v":12}]
[]
[{"$f":"Data!$B$4","v":"Kalkoenfilet"},null,null,null,null,null,null,null,null,null,null,"Kalkoenfilet"]
[null,{"$f":"Data!$C$5","v":"Natuur"},null,"x",{"$f":"Data!$F$5","v":17},"=",{"$f":"C522*E522","v":0},null,null,null,null,null,"Natuur",null,{"$f":"C522","v":0}]
[null,{"$f":"Data!$C$6","v":"Champignons"},null,"x",{"$f":"Data!$F$6","v":17},"=",{"$f":"C523*E523","v":0},null,null,null,null,null,"Champignons",null,null,{"$f":"C523","v":0}]
[null,{"$f":"Data!$C$7","v":"Peper"},null,"x",{"$f":"Data!$F$7","v":17},"=",{"$f":"C524*E524","v":0},null,null,null,null,null,"Peper",null,null,null,{"$f":"C524","v":0}]
[]
[{"$f":"Data!$B$9","v":"Kabeljauwhaasje"},null,null,"x",{"$f":"Data!$F$9","v":17},"=",{"$f":"C526*E526","v":0},null,null,null,null,"Kabeljauwhaasje",null,null,null,null,null,{"$f":"C526","v":0}]
[]
[{"$f":"Data!$B$11","v":"Kindermenu"},null,null,null,null,null,null,null,null,null,null,"Kindermenu"]
[null,{"$f":"Data!$C$12","v":"Natuur"},null,"x",{"$f":"Data!$F$12","v":8},"=",{"$f":"C529*E529","v":0},null,null,null,null,null,"Natuur",null,null,null,null,null,{"$f":"C529","v":0}]
[null,{"$f":"Data!$C$13","v":"Champignons"},null,"x",{"$f":"Data!$F$13","v":8},"=",{"$f":"C530*E530","v":0},null,null,null,null,null,"Champignons",null,null,null,null,null,null,{"$f":"C530","v":0}]
[null,{"$f":"Data!$C$14","v":"Peper"},null,"x",{"$f":"Data!$F$14","v":8},"=",0,null,null,null,null,null,"Peper",null,null,null,null,null,null,null,{"$f":"C531","v":0}]
[null,{"$f":"Data!$C$15","v":"Kabeljauwhaasje"},null,"x",{"$f":"Data!$F$15","v":8},"=",0,null,null,null,null,null,"Kabeljauwhaasje",null,null,null,null,null,null,null,null,{"$f":"C532","v":0}]
[]
[null,{"$f":"Data!$C$17","v":"Totaal eten:"},null,null,null,null,{"$f":"SUM(G522:G533)","v":0},null,null,null,null,null,"Totaal eten:",null,null,null,null,null,null,null,null,null,{"$f":"G534","v":0}]
[null,{"$f":"Data!$C$18","v":"Totaal kaarten:"},null,"x",{"$f":"Data!$F$18","v":3},"=",{"$f":"-(C535*E535)","v":0}]
[null,null,null,null,null,null,null,null,null,null,null,null,"Totaal kaarten (bedrag):",null,null,null,null,null,null,null,null,null,null,{"$f":"C535","v":0}]
[]
[null,{"$f":"Data!$C$21","v":"Totaal te betalen:"},null,null,null,null,{"$f":"G534+G535","v":0},null,null,null,null,null,"Totaal te betalen:",null,null,null,null,null,null,null,null,null,null,null,{"$f":"G538","v":0}]
[]
[{"$f":"Data!$A$23","v":"TGV Opstal dankt u voor uw aanwezigheid!  Eet smakelijk!"}]
[]
["Fietsclub TGV Opstal",null,null,null,null,null,"Tafel nr:"]
[{"$f":"A519","v":12}]
[]
[{"$f":"Data!$B$4","v":"Kalkoenfilet"}]
[null,{"$f":"Data!$C$5","v":"Natuur"},{"$f":"C522","v":0},"x",{"$f":"Data!$F$5","v":17},"=",{"$f":"C546*E546","v":0}]
[null,{"$f":"Data!$C$6","v":"Champignons"},{"$f":"C523","v":0},"x",{"$f":"Data!$F$6","v":17},"=",{"$f":"C547*E547","v":0}]
[null,{"$f":"Data!$C$7","v":"Peper"},0,"x",{"$f":"Data!$F$7","v":17},"=",{"$f":"C548*E548","v":0}]
[]
[{"$f":"Data!$B$9","v":"Kabeljauwhaasje"},null,0,"x",{"$f":"Data!$F$9","v":17},"=",{"$f":"C550*E550","v":0}]
[]
[{"$f":"Data!$B$11","v":"Kindermenu"}]
[null,{"$f":"Data!$C$12","v":"Natuur"},0,"x",{"$f":"Data!$F$12","v":8},"=",{"$f":"C553*E553","v":0}]
[null,{"$f":"Data!$C$13","v":"Champignons"},0,"x",{"$f":"Data!$F$13","v":8},"=",{"$f":"C554*E554","v":0}]
[null,{"$f":"Data!$C$14","v":"Peper"},0,"x",{"$f":"Data!$F$14","v":8},"=",0]
[null,{"$f":"Data!$C$15","v":"Kabeljauwhaasje"},0,"x",{"$f":"Data!$F$15","v":8},"=",0]
[]
[null,{"$f":"Data!$C$17","v":"Totaal eten:"},null,null,null,null,{"$f":"SUM(G546:G557)","v":0}]
[null,{"$f":"Data!$C$18","v":"Totaal kaarten:"},{"$f":"C535","v":0},"x",{"$f":"Data!$F$18","v":3},"=",{"$f":"-(C559*E559)","v":0}]
[]
[]
[null,{"$f":"Data!$C$21","v":"Totaal te betalen:"},null,null,null,null,{"$f":"G558+G559","v":0}]
[]
[{"$f":"Data!$A$23","v":"TGV Opstal dankt u voor uw aanwezigheid!  Eet smakelijk!"}]
["Fietsclub TGV Opstal",null,null,null,null,null,"Tafel nr:"]
[{"$f":"A519+1","v":13},null,null,null,null,null,null,null,null,null,null,{"$f":"A566","v":13}]
[]
[{"$f":"Data!$B$4","v":"Kalkoenfilet"},null,null,null,null,null,null,null,null,null,null,"Kalkoenfilet"]
[null,{"$f":"Data!$C$5","v":"Natuur"},null,"x",{"$f":"Data!$F$5","v":17},"=",{"$f":"C569*E569","v":0},null,null,null,null,null,"Natuur",null,{"$f":"C569","v":0}]
[null,{"$f":"Data!$C$6","v":"Champignons"},null,"x",{"$f":"Data!$F$6","v":17},"=",{"$f":"C570*E570","v":0},null,null,null,null,null,"Champignons",null,null,{"$f":"C570","v":0}]
[null,{"$f":"Data!$C$7","v":"Peper"},null,"x",{"$f":"Data!$F$7","v":17},"=",{"$f":"C571*E571","v":0},null,null,null,null,null,"Peper",null,null,null,{"$f":"C571","v":0}]
[]
[{"$f":"Data!$B$9","v":"Kabeljauwhaasje"},null,null,"x",{"$f":"Data!$F$9","v":17},"=",{"$f":"C573*E573","v":0},null,null,null,null,"Kabeljauwhaasje",null,null,null,null,null,{"$f":"C573","v":0}]
[]
[{"$f":"Data!$B$11","v":"Kindermenu"},null,null,null,null,null,null,null,null,null,null,"Kindermenu"]
[null,{"$f":"Data!$C$12","v":"Natuur"},null,"x",{"$f":"Data!$F$12","v":8},"=",{"$f":"C576*E576","v":0},null,null,null,null,null,"Natuur",null,null,null,null,null,{"$f":"C576","v":0}]
[null,{"$f":"Data!$C$13","v":"Champignons"},null,"x",{"$f":"Data!$F$13","v":8},"=",{"$f":"C577*E577","v":0},null,null,null,null,null,"Champignons",null,null,null,null,null,null,{"$f":"C577","v":0}]
[null,{"$f":"Data!$C$14","v":"Peper"},null,"x",{"$f":"Data!$F$14","v":8},"=",0,null,null,null,null,null,"Peper",null,null,null,null,null,null,null,{"$f":"C578","v":0}]
[null,{"$f":"Data!$C$15","v":"Kabeljauwhaasje"},null,"x",{"$f":"Data!$F$15","v":8},"=",0,null,null,null,null,null,"Kabeljauwhaasje",null,null,null,null,null,null,null,null,{"$f":"C579","v":0}]
[]
[null,{"$f":"Data!$C$17","v":"Totaal eten:"},null,null,null,null,{"$f":"SUM(G569:G580)","v":0},null,null,null,null,null,"Totaal eten:",null,null,null,null,null,null,null,null,null,{"$f":"G581","v":0}]
[null,{"$f":"Data!$C$18","v":"Totaal kaarten:"},null,"x",{"$f":"Data!$F$18","v":3},"=",{"$f":"-(C582*E582)","v":0}]
[null,null,null,null,null,null,null,null,null,null,null,null,"Totaal kaarten (bedrag):",null,null,null,null,null,null,null,null,null,null,{"$f":"C582","v":0}]
[]
[null,{"$f":"Data!$C$21","v":"Totaal te betalen:"},null,null,null,null,{"$f":"G581+G582","v":0},null,null,null,null,null,"Totaal te betalen:",null,null,null,null,null,null,null,null,null,null,null,{"$f":"G585","v":0}]
[]
[{"$f":"Data!$A$23","v":"TGV Opstal dankt u voor uw aanwezigheid!  Eet smakelijk!"}]
[]
["Fietsclub TGV Opstal",null,null,null,null,null,"Tafel nr:"]
[{"$f":"A566","v":13}]
[]
[{"$f":"Data!$B$4","v":"Kalkoenfilet"}]
[null,{"$f":"Data!$C$5","v":"Natuur"},{"$f":"C569","v":0},"x",{"$f":"Data!$F$5","v":17},"=",{"$f":"C593*E593","v":0}]
[null,{"$f":"Data!$C$6","v":"Champignons"},{"$f":"C570","v":0},"x",{"$f":"Data!$F$6","v":17},"=",{"$f":"C594*E594","v":0}]
[null,{"$f":"Data!$C$7","v":"Peper"},0,"x",{"$f":"Data!$F$7","v":17},"=",{"$f":"C595*E595","v":0}]
[]
[{"$f":"Data!$B$9","v":"Kabeljauwhaasje"},null,0,"x",{"$f":"Data!$F$9","v":17},"=",{"$f":"C597*E597","v":0}]
[]
[{"$f":"Data!$B$11","v":"Kindermenu"}]
[null,{"$f":"Data!$C$12","v":"Natuur"},0,"x",{"$f":"Data!$F$12","v":8},"=",{"$f":"C600*E600","v":0}]
[null,{"$f":"Data!$C$13","v":"Champignons"},0,"x",{"$f":"Data!$F$13","v":8},"=",{"$f":"C601*E601","v":0}]
[null,{"$f":"Data!$C$14","v":"Peper"},0,"x",{"$f":"Data!$F$14","v":8},"=",0]
[null,{"$f":"Data!$C$15","v":"Kabeljauwhaasje"},0,"x",{"$f":"Data!$F$15","v":8},"=",0]
[]
[null,{"$f":"Data!$C$17","v":"Totaal eten:"},null,null,null,null,{"$f":"SUM(G593:G604)","v":0}]
[null,{"$f":"Data!$C$18","v":"Totaal kaarten:"},{"$f":"C582","v":0},"x",{"$f":"Data!$F$18","v":3},"=",{"$f":"-(C606*E606)","v":0}]
[]
[]
[null,{"$f":"Data!$C$21","v":"Totaal te betalen:"},null,null,null,null,{"$f":"G605+G606","v":0}]
[]
[{"$f":"Data!$A$23","v":"TGV Opstal dankt u voor uw aanwezigheid!  Eet smakelijk!"}]
["Fietsclub TGV Opstal",null,null,null,null,null,"Tafel nr:"]
[{"$f":"A566+1","v":14},null,null,null,null,null,null,null,null,null,null,{"$f":"A613","v":14}]
[]
[{"$f":"Data!$B$4","v":"Kalkoenfilet"},null,null,null,null,null,null,null,null,null,null,"Kalkoenfilet"]
[null,{"$f":"Data!$C$5","v":"Natuur"},null,"x",{"$f":"Data!$F$5","v":17},"=",{"$f":"C616*E616","v":0},null,null,null,null,null,"Natuur",null,{"$f":"C616","v":0}]
[null,{"$f":"Data!$C$6","v":"Champignons"},null,"x",{"$f":"Data!$F$6","v":17},"=",{"$f":"C617*E617","v":0},null,null,null,null,null,"Champignons",null,null,{"$f":"C617","v":0}]
[null,{"$f":"Data!$C$7","v":"Peper"},null,"x",{"$f":"Data!$F$7","v":17},"=",{"$f":"C618*E618","v":0},null,null,null,null,null,"Peper",null,null,null,{"$f":"C618","v":0}]
[]
[{"$f":"Data!$B$9","v":"Kabeljauwhaasje"},null,null,"x",{"$f":"Data!$F$9","v":17},"=",{"$f":"C620*E620","v":0},null,null,null,null,"Kabeljauwhaasje",null,null,null,null,null,{"$f":"C620","v":0}]
[]
[{"$f":"Data!$B$11","v":"Kindermenu"},null,null,null,null,null,null,null,null,null,null,"Kindermenu"]
[null,{"$f":"Data!$C$12","v":"Natuur"},null,"x",{"$f":"Data!$F$12","v":8},"=",{"$f":"C623*E623","v":0},null,null,null,null,null,"Natuur",null,null,null,null,null,{"$f":"C623","v":0}]
[null,{"$f":"Data!$C$13","v":"Champignons"},null,"x",{"$f":"Data!$F$13","v":8},"=",{"$f":"C624*E624","v":0},null,null,null,null,null,"Champignons",null,null,null,null,null,null,{"$f":"C624","v":0}]
[null,{"$f":"Data!$C$14","v":"Peper"},null,"x",{"$f":"Data!$F$14","v":8},"=",0,null,null,null,null,null,"Peper",null,null,null,null,null,null,null,{"$f":"C625","v":0}]
[null,{"$f":"Data!$C$15","v":"Kabeljauwhaasje"},null,"x",{"$f":"Data!$F$15","v":8},"=",0,null,null,null,null,null,"Kabeljauwhaasje",null,null,null,null,null,null,null,null,{"$f":"C626","v":0}]
[]
[null,{"$f":"Data!$C$17","v":"Totaal eten:"},null,null,null,null,{"$f":"SUM(G616:G627)","v":0},null,null,null,null,null,"Totaal eten:",null,null,null,null,null,null,null,null,null,{"$f":"G628","v":0}]
[null,{"$f":"Data!$C$18","v":"Totaal kaarten:"},null,"x",{"$f":"Data!$F$18","v":3},"=",{"$f":"-(C629*E629)","v":0}]
[null,null,null,null,null,null,null,null,null,null,null,null,"Totaal kaarten (bedrag):",null,null,null,null,null,null,null,null,null,null,{"$f":"C629","v":0}]
[]
[null,{"$f":"Data!$C$21","v":"Totaal te betalen:"},null,null,null,null,{"$f":"G628+G629","v":0},null,null,null,null,null,"Totaal te betalen:",null,null,null,null,null,null,null,null,null,null,null,{"$f":"G632","v":0}]
[]
[{"$f":"Data!$A$23","v":"TGV Opstal dankt u voor uw aanwezigheid!  Eet smakelijk!"}]
[]
["Fietsclub TGV Opstal",null,null,null,null,null,"Tafel nr:"]
[{"$f":"A613","v":14}]
[]
[{"$f":"Data!$B$4","v":"Kalkoenfilet"}]
[null,{"$f":"Data!$C$5","v":"Natuur"},{"$f":"C616","v":0},"x",{"$f":"Data!$F$5","v":17},"=",{"$f":"C640*E640","v":0}]
[null,{"$f":"Data!$C$6","v":"Champignons"},{"$f":"C617","v":0},"x",{"$f":"Data!$F$6","v":17},"=",{"$f":"C641*E641","v":0}]
[null,{"$f":"Data!$C$7","v":"Peper"},0,"x",{"$f":"Data!$F$7","v":17},"=",{"$f":"C642*E642","v":0}]
[]
[{"$f":"Data!$B$9","v":"Kabeljauwhaasje"},null,0,"x",{"$f":"Data!$F$9","v":17},"=",{"$f":"C644*E644","v":0}]
[]
[{"$f":"Data!$B$11","v":"Kindermenu"}]
[null,{"$f":"Data!$C$12","v":"Natuur"},0,"x",{"$f":"Data!$F$12","v":8},"=",{"$f":"C647*E647","v":0}]
[null,{"$f":"Data!$C$13","v":"Champignons"},0,"x",{"$f":"Data!$F$13","v":8},"=",{"$f":"C648*E648","v":0}]
[null,{"$f":"Data!$C$14","v":"Peper"},0,"x",{"$f":"Data!$F$14","v":8},"=",0]
[null,{"$f":"Data!$C$15","v":"Kabeljauwhaasje"},0,"x",{"$f":"Data!$F$15","v":8},"=",0]
[]
[null,{"$f":"Data!$C$17","v":"Totaal eten:"},null,null,null,null,{"$f":"SUM(G640:G651)","v":0}]
[null,{"$f":"Data!$C$18","v":"Totaal kaarten:"},{"$f":"C629","v":0},"x",{"$f":"Data!$F$18","v":3},"=",{"$f":"-(C653*E653)","v":0}]
[]
[]
[null,{"$f":"Data!$C$21","v":"Totaal te betalen:"},null,null,null,null,{"$f":"G652+G653","v":0}]
[]
[{"$f":"Data!$A$23","v":"TGV Opstal dankt u voor uw aanwezigheid!  Eet smakelijk!"}]
["Fietsclub TGV Opstal",null,null,null,null,null,"Tafel nr:"]
[{"$f":"A613+1","v":15},null,null,null,null,null,null,null,null,null,null,{"$f":"A660","v":15}]
[]
[{"$f":"Data!$B$4","v":"Kalkoenfilet"},null,null,null,null,null,null,null,null,null,null,"Kalkoenfilet"]
[null,{"$f":"Data!$C$5","v":"Natuur"},null,"x",{"$f":"Data!$F$5","v":17},"=",{"$f":"C663*E663","v":0},null,null,null,null,null,"Natuur",null,{"$f":"C663","v":0}]
[null,{"$f":"Data!$C$6","v":"Champignons"},null,"x",{"$f":"Data!$F$6","v":17},"=",{"$f":"C664*E664","v":0},null,null,null,null,null,"Champignons",null,null,{"$f":"C664","v":0}]
[null,{"$f":"Data!$C$7","v":"Peper"},null,"x",{"$f":"Data!$F$7","v":17},"=",{"$f":"C665*E665","v":0},null,null,null,null,null,"Peper",null,null,null,{"$f":"C665","v":0}]
[]
[{"$f":"Data!$B$9","v":"Kabeljauwhaasje"},null,null,"x",{"$f":"Data!$F$9","v":17},"=",{"$f":"C667*E667","v":0},null,null,null,null,"Kabeljauwhaasje",null,null,null,null,null,{"$f":"C667","v":0}]
[]
[{"$f":"Data!$B$11","v":"Kindermenu"},null,null,null,null,null,null,null,null,null,null,"Kindermenu"]
[null,{"$f":"Data!$C$12","v":"Natuur"},null,"x",{"$f":"Data!$F$12","v":8},"=",{"$f":"C670*E670","v":0},null,null,null,null,null,"Natuur",null,null,null,null,null,{"$f":"C670","v":0}]
[null,{"$f":"Data!$C$13","v":"Champignons"},null,"x",{"$f":"Data!$F$13","v":8},"=",{"$f":"C671*E671","v":0},null,null,null,null,null,"Champignons",null,null,null,null,null,null,{"$f":"C671","v":0}]
[null,{"$f":"Data!$C$14","v":"Peper"},null,"x",{"$f":"Data!$F$14","v":8},"=",0,null,null,null,null,null,"Peper",null,null,null,null,null,null,null,{"$f":"C672","v":0}]
[null,{"$f":"Data!$C$15","v":"Kabeljauwhaasje"},null,"x",{"$f":"Data!$F$15","v":8},"=",0,null,null,null,null,null,"Kabeljauwhaasje",null,null,null,null,null,null,null,null,{"$f":"C673","v":0}]
[]
[null,{"$f":"Data!$C$17","v":"Totaal eten:"},null,null,null,null,{"$f":"SUM(G663:G674)","v":0},null,null,null,null,null,"Totaal eten:",null,null,null,null,null,null,null,null,null,{"$f":"G675","v":0}]
[null,{"$f":"Data!$C$18","v":"Totaal kaarten:"},null,"x",{"$f":"Data!$F$18","v":3},"=",{"$f":"-(C676*E676)","v":0}]
[null,null,null,null,null,null,null,null,null,null,null,null,"Totaal kaarten (bedrag):",null,null,null,null,null,null,null,null,null,null,{"$f":"C676","v":0}]
[]
[null,{"$f":"Data!$C$21","v":"Totaal te betalen:"},null,null,null,null,{"$f":"G675+G676","v":0},null,null,null,null,null,"Totaal te betalen:",null,null,null,null,null,null,null,null,null,null,null,{"$f":"G679","v":0}]
[]
[{"$f":"Data!$A$23","v":"TGV Opstal dankt u voor uw aanwezigheid!  Eet smakelijk!"}]
[]
["Fietsclub TGV Opstal",null,null,null,null,null,"Tafel nr:"]
[{"$f":"A660","v":15}]
[]
[{"$f":"Data!$B$4","v":"Kalkoenfilet"}]
[null,{"$f":"Data!$C$5","v":"Natuur"},{"$f":"C663","v":0},"x",{"$f":"Data!$F$5","v":17},"=",{"$f":"C687*E687","v":0}]
[null,{"$f":"Data!$C$6","v":"Champignons"},{"$f":"C664","v":0},"x",{"$f":"Data!$F$6","v":17},"=",{"$f":"C688*E688","v":0}]
[null,{"$f":"Data!$C$7","v":"Peper"},0,"x",{"$f":"Data!$F$7","v":17},"=",{"$f":"C689*E689","v":0}]
[]
[{"$f":"Data!$B$9","v":"Kabeljauwhaasje"},null,0,"x",{"$f":"Data!$F$9","v":17},"=",{"$f":"C691*E691","v":0}]
[]
[{"$f":"Data!$B$11","v":"Kindermenu"}]
[null,{"$f":"Data!$C$12","v":"Natuur"},0,"x",{"$f":"Data!$F$12","v":8},"=",{"$f":"C694*E694","v":0}]
[null,{"$f":"Data!$C$13","v":"Champignons"},0,"x",{"$f":"Data!$F$13","v":8},"=",{"$f":"C695*E695","v":0}]
[null,{"$f":"Data!$C$14","v":"Peper"},0,"x",{"$f":"Data!$F$14","v":8},"=",0]
[null,{"$f":"Data!$C$15","v":"Kabeljauwhaasje"},0,"x",{"$f":"Data!$F$15","v":8},"=",0]
[]
[null,{"$f":"Data!$C$17","v":"Totaal eten:"},null,null,null,null,{"$f":"SUM(G687:G698)","v":0}]
[null,{"$f":"Data!$C$18","v":"Totaal kaarten:"},{"$f":"C676","v":0},"x",{"$f":"Data!$F$18","v":3},"=",{"$f":"-(C700*E700)","v":0}]
[]
[]
[null,{"$f":"Data!$C$21","v":"Totaal te betalen:"},null,null,null,null,{"$f":"G699+G700","v":0}]
[]
[{"$f":"Data!$A$23","v":"TGV Opstal dankt u voor uw aanwezigheid!  Eet smakelijk!"}]
["Fietsclub TGV Opstal",null,null,null,null,null,"Tafel nr:"]
[{"$f":"A660+1","v":16},null,null,null,null,null,null,null,null,null,null,{"$f":"A707","v":16}]
[]
[{"$f":"Data!$B$4","v":"Kalkoenfilet"},null,null,null,null,null,null,null,null,null,null,"Kalkoenfilet"]
[null,{"$f":"Data!$C$5","v":"Natuur"},null,"x",{"$f":"Data!$F$5","v":17},"=",{"$f":"C710*E710","v":0},null,null,null,null,null,"Natuur",null,{"$f":"C710","v":0}]
[null,{"$f":"Data!$C$6","v":"Champignons"},null,"x",{"$f":"Data!$F$6","v":17},"=",{"$f":"C711*E711","v":0},null,null,null,null,null,"Champignons",null,null,{"$f":"C711","v":0}]
[null,{"$f":"Data!$C$7","v":"Peper"},null,"x",{"$f":"Data!$F$7","v":17},"=",{"$f":"C712*E712","v":0},null,null,null,null,null,"Peper",null,null,null,{"$f":"C712","v":0}]
[]
[{"$f":"Data!$B$9","v":"Kabeljauwhaasje"},null,null,"x",{"$f":"Data!$F$9","v":17},"=",{"$f":"C714*E714","v":0},null,null,null,null,"Kabeljauwhaasje",null,null,null,null,null,{"$f":"C714","v":0}]
[]
[{"$f":"Data!$B$11","v":"Kindermenu"},null,null,null,null,null,null,null,null,null,null,"Kindermenu"]
[null,{"$f":"Data!$C$12","v":"Natuur"},null,"x",{"$f":"Data!$F$12","v":8},"=",{"$f":"C717*E717","v":0},null,null,null,null,null,"Natuur",null,null,null,null,null,{"$f":"C717","v":0}]
[null,{"$f":"Data!$C$13","v":"Champignons"},null,"x",{"$f":"Data!$F$13","v":8},"=",{"$f":"C718*E718","v":0},null,null,null,null,null,"Champignons",null,null,null,null,null,null,{"$f":"C718","v":0}]
[null,{"$f":"Data!$C$14","v":"Peper"},null,"x",{"$f":"Data!$F$14","v":8},"=",0,null,null,null,null,null,"Peper",null,null,null,null,null,null,null,{"$f":"C719","v":0}]
[null,{"$f":"Data!$C$15","v":"Kabeljauwhaasje"},null,"x",{"$f":"Data!$F$15","v":8},"=",0,null,null,null,null,null,"Kabeljauwhaasje",null,null,null,null,null,null,null,null,{"$f":"C720","v":0}]
[]
[null,{"$f":"Data!$C$17","v":"Totaal eten:"},null,null,null,null,{"$f":"SUM(G710:G721)","v":0},null,null,null,null,null,"Totaal eten:",null,null,null,null,null,null,null,null,null,{"$f":"G722","v":0}]
[null,{"$f":"Data!$C$18","v":"Totaal kaarten:"},null,"x",{"$f":"Data!$F$18","v":3},"=",{"$f":"-(C723*E723)","v":0}]
[null,null,null,null,null,null,null,null,null,null,null,null,"Totaal kaarten (bedrag):",null,null,null,null,null,null,null,null,null,null,{"$f":"C723","v":0}]
[]
[null,{"$f":"Data!$C$21","v":"Totaal te betalen:"},null,null,null,null,{"$f":"G722+G723","v":0},null,null,null,null,null,"Totaal te betalen:",null,null,null,null,null,null,null,null,null,null,null,{"$f":"G726","v":0}]
[]
[{"$f":"Data!$A$23","v":"TGV Opstal dankt u voor uw aanwezigheid!  Eet smakelijk!"}]
[]
["Fietsclub TGV Opstal",null,null,null,null,null,"Tafel nr:"]
[{"$f":"A707","v":16}]
[]
[{"$f":"Data!$B$4","v":"Kalkoenfilet"}]
[null,{"$f":"Data!$C$5","v":"Natuur"},{"$f":"C710","v":0},"x",{"$f":"Data!$F$5","v":17},"=",{"$f":"C734*E734","v":0}]
[null,{"$f":"Data!$C$6","v":"Champignons"},{"$f":"C711","v":0},"x",{"$f":"Data!$F$6","v":17},"=",{"$f":"C735*E735","v":0}]
[null,{"$f":"Data!$C$7","v":"Peper"},0,"x",{"$f":"Data!$F$7","v":17},"=",{"$f":"C736*E736","v":0}]
[]
[{"$f":"Data!$B$9","v":"Kabeljauwhaasje"},null,0,"x",{"$f":"Data!$F$9","v":17},"=",{"$f":"C738*E738","v":0}]
[]
[{"$f":"Data!$B$11","v":"Kindermenu"}]
[null,{"$f":"Data!$C$12","v":"Natuur"},0,"x",{"$f":"Data!$F$12","v":8},"=",{"$f":"C741*E741","v":0}]
[null,{"$f":"Data!$C$13","v":"Champignons"},0,"x",{"$f":"Data!$F$13","v":8},"=",{"$f":"C742*E742","v":0}]
[null,{"$f":"Data!$C$14","v":"Peper"},0,"x",{"$f":"Data!$F$14","v":8},"=",0]
[null,{"$f":"Data!$C$15","v":"Kabeljauwhaasje"},0,"x",{"$f":"Data!$F$15","v":8},"=",0]
[]
[null,{"$f":"Data!$C$17","v":"Totaal eten:"},null,null,null,null,{"$f":"SUM(G734:G745)","v":0}]
[null,{"$f":"Data!$C$18","v":"Totaal kaarten:"},{"$f":"C723","v":0},"x",{"$f":"Data!$F$18","v":3},"=",{"$f":"-(C747*E747)","v":0}]
[]
[]
[null,{"$f":"Data!$C$21","v":"Totaal te betalen:"},null,null,null,null,{"$f":"G746+G747","v":0}]
[]
[{"$f":"Data!$A$23","v":"TGV Opstal dankt u voor uw aanwezigheid!  Eet smakelijk!"}]
["Fietsclub TGV Opstal",null,null,null,null,null,"Tafel nr:"]
[{"$f":"A707+1","v":17},null,null,null,null,null,null,null,null,null,null,{"$f":"A754","v":17}]
[]
[{"$f":"Data!$B$4","v":"Kalkoenfilet"},null,null,null,null,null,null,null,null,null,null,"Kalkoenfilet"]
[null,{"$f":"Data!$C$5","v":"Natuur"},null,"x",{"$f":"Data!$F$5","v":17},"=",{"$f":"C757*E757","v":0},null,null,null,null,null,"Natuur",null,{"$f":"C757","v":0}]
[null,{"$f":"Data!$C$6","v":"Champignons"},null,"x",{"$f":"Data!$F$6","v":17},"=",{"$f":"C758*E758","v":0},null,null,null,null,null,"Champignons",null,null,{"$f":"C758","v":0}]
[null,{"$f":"Data!$C$7","v":"Peper"},null,"x",{"$f":"Data!$F$7","v":17},"=",{"$f":"C759*E759","v":0},null,null,null,null,null,"Peper",null,null,null,{"$f":"C759","v":0}]
[]
[{"$f":"Data!$B$9","v":"Kabeljauwhaasje"},null,null,"x",{"$f":"Data!$F$9","v":17},"=",{"$f":"C761*E761","v":0},null,null,null,null,"Kabeljauwhaasje",null,null,null,null,null,{"$f":"C761","v":0}]
[]
[{"$f":"Data!$B$11","v":"Kindermenu"},null,null,null,null,null,null,null,null,null,null,"Kindermenu"]
[null,{"$f":"Data!$C$12","v":"Natuur"},null,"x",{"$f":"Data!$F$12","v":8},"=",{"$f":"C764*E764","v":0},null,null,null,null,null,"Natuur",null,null,null,null,null,{"$f":"C764","v":0}]
[null,{"$f":"Data!$C$13","v":"Champignons"},null,"x",{"$f":"Data!$F$13","v":8},"=",{"$f":"C765*E765","v":0},null,null,null,null,null,"Champignons",null,null,null,null,null,null,{"$f":"C765","v":0}]
[null,{"$f":"Data!$C$14","v":"Peper"},null,"x",{"$f":"Data!$F$14","v":8},"=",0,null,null,null,null,null,"Peper",null,null,null,null,null,null,null,{"$f":"C766","v":0}]
[null,{"$f":"Data!$C$15","v":"Kabeljauwhaasje"},null,"x",{"$f":"Data!$F$15","v":8},"=",0,null,null,null,null,null,"Kabeljauwhaasje",null,null,null,null,null,null,null,null,{"$f":"C767","v":0}]
[]
[null,{"$f":"Data!$C$17","v":"Totaal eten:"},null,null,null,null,{"$f":"SUM(G757:G768)","v":0},null,null,null,null,null,"Totaal eten:",null,null,null,null,null,null,null,null,null,{"$f":"G769","v":0}]
[null,{"$f":"Data!$C$18","v":"Totaal kaarten:"},null,"x",{"$f":"Data!$F$18","v":3},"=",{"$f":"-(C770*E770)","v":0}]
[null,null,null,null,null,null,null,null,null,null,null,null,"Totaal kaarten (bedrag):",null,null,null,null,null,null,null,null,null,null,{"$f":"C770","v":0}]
[]
[null,{"$f":"Data!$C$21","v":"Totaal te betalen:"},null,null,null,null,{"$f":"G769+G770","v":0},null,null,null,null,null,"Totaal te betalen:",null,null,null,null,null,null,null,null,null,null,null,{"$f":"G773","v":0}]
[]
[{"$f":"Data!$A$23","v":"TGV Opstal dankt u voor uw aanwezigheid!  Eet smakelijk!"}]
[]
["Fietsclub TGV Opstal",null,null,null,null,null,"Tafel nr:"]
[{"$f":"A754","v":17}]
[]
[{"$f":"Data!$B$4","v":"Kalkoenfilet"}]
[null,{"$f":"Data!$C$5","v":"Natuur"},{"$f":"C757","v":0},"x",{"$f":"Data!$F$5","v":17},"=",{"$f":"C781*E781","v":0}]
[null,{"$f":"Data!$C$6","v":"Champignons"},{"$f":"C758","v":0},"x",{"$f":"Data!$F$6","v":17},"=",{"$f":"C782*E782","v":0}]
[null,{"$f":"Data!$C$7","v":"Peper"},0,"x",{"$f":"Data!$F$7","v":17},"=",{"$f":"C783*E783","v":0}]
[]
[{"$f":"Data!$B$9","v":"Kabeljauwhaasje"},null,0,"x",{"$f":"Data!$F$9","v":17},"=",{"$f":"C785*E785","v":0}]
[]
[{"$f":"Data!$B$11","v":"Kindermenu"}]
[null,{"$f":"Data!$C$12","v":"Natuur"},0,"x",{"$f":"Data!$F$12","v":8},"=",{"$f":"C788*E788","v":0}]
[null,{"$f":"Data!$C$13","v":"Champignons"},0,"x",{"$f":"Data!$F$13","v":8},"=",{"$f":"C789*E789","v":0}]
[null,{"$f":"Data!$C$14","v":"Peper"},0,"x",{"$f":"Data!$F$14","v":8},"=",0]
[null,{"$f":"Data!$C$15","v":"Kabeljauwhaasje"},0,"x",{"$f":"Data!$F$15","v":8},"=",0]
[]
[null,{"$f":"Data!$C$17","v":"Totaal eten:"},null,null,null,null,{"$f":"SUM(G781:G792)","v":0}]
[null,{"$f":"Data!$C$18","v":"Totaal kaarten:"},{"$f":"C770","v":0},"x",{"$f":"Data!$F$18","v":3},"=",{"$f":"-(C794*E794)","v":0}]
[]
[]
[null,{"$f":"Data!$C$21","v":"Totaal te betalen:"},null,null,null,null,{"$f":"G793+G794","v":0}]
[]
[{"$f":"Data!$A$23","v":"TGV Opstal dankt u voor uw aanwezigheid!  Eet smakelijk!"}]
["Fietsclub TGV Opstal",null,null,null,null,null,"Tafel nr:"]
[{"$f":"A754+1","v":18},null,null,null,null,null,null,null,null,null,null,{"$f":"A801","v":18}]
[]
[{"$f":"Data!$B$4","v":"Kalkoenfilet"},null,null,null,null,null,null,null,null,null,null,"Kalkoenfilet"]
[null,{"$f":"Data!$C$5","v":"Natuur"},null,"x",{"$f":"Data!$F$5","v":17},"=",{"$f":"C804*E804","v":0},null,null,null,null,null,"Natuur",null,{"$f":"C804","v":0}]
[null,{"$f":"Data!$C$6","v":"Champignons"},null,"x",{"$f":"Data!$F$6","v":17},"=",{"$f":"C805*E805","v":0},null,null,null,null,null,"Champignons",null,null,{"$f":"C805","v":0}]
[null,{"$f":"Data!$C$7","v":"Peper"},null,"x",{"$f":"Data!$F$7","v":17},"=",{"$f":"C806*E806","v":0},null,null,null,null,null,"Peper",null,null,null,{"$f":"C806","v":0}]
[]
[{"$f":"Data!$B$9","v":"Kabeljauwhaasje"},null,null,"x",{"$f":"Data!$F$9","v":17},"=",{"$f":"C808*E808","v":0},null,null,null,null,"Kabeljauwhaasje",null,null,null,null,null,{"$f":"C808","v":0}]
[]
[{"$f":"Data!$B$11","v":"Kindermenu"},null,null,null,null,null,null,null,null,null,null,"Kindermenu"]
[null,{"$f":"Data!$C$12","v":"Natuur"},null,"x",{"$f":"Data!$F$12","v":8},"=",{"$f":"C811*E811","v":0},null,null,null,null,null,"Natuur",null,null,null,null,null,{"$f":"C811","v":0}]
[null,{"$f":"Data!$C$13","v":"Champignons"},null,"x",{"$f":"Data!$F$13","v":8},"=",{"$f":"C812*E812","v":0},null,null,null,null,null,"Champignons",null,null,null,null,null,null,{"$f":"C812","v":0}]
[null,{"$f":"Data!$C$14","v":"Peper"},null,"x",{"$f":"Data!$F$14","v":8},"=",0,null,null,null,null,null,"Peper",null,null,null,null,null,null,null,{"$f":"C813","v":0}]
[null,{"$f":"Data!$C$15","v":"Kabeljauwhaasje"},null,"x",{"$f":"Data!$F$15","v":8},"=",0,null,null,null,null,null,"Kabeljauwhaasje",null,null,null,null,null,null,null,null,{"$f":"C814","v":0}]
[]
[null,{"$f":"Data!$C$17","v":"Totaal eten:"},null,null,null,null,{"$f":"SUM(G804:G815)","v":0},null,null,null,null,null,"Totaal eten:",null,null,null,null,null,null,null,null,null,{"$f":"G816","v":0}]
[null,{"$f":"Data!$C$18","v":"Totaal kaarten:"},null,"x",{"$f":"Data!$F$18","v":3},"=",{"$f":"-(C817*E817)","v":0}]
[null,null,null,null,null,null,null,null,null,null,null,null,"Totaal kaarten (bedrag):",null,null,null,null,null,null,null,null,null,null,{"$f":"C817","v":0}]
[]
[null,{"$f":"Data!$C$21","v":"Totaal te betalen:"},null,null,null,null,{"$f":"G816+G817","v":0},null,null,null,null,null,"Totaal te betalen:",null,null,null,null,null,null,null,null,null,null,null,{"$f":"G820","v":0}]
[]
[{"$f":"Data!$A$23","v":"TGV Opstal dankt u voor uw aanwezigheid!  Eet smakelijk!"}]
[]
["Fietsclub TGV Opstal",null,null,null,null,null,"Tafel nr:"]
[{"$f":"A801","v":18}]
[]
[{"$f":"Data!$B$4","v":"Kalkoenfilet"}]
[null,{"$f":"Data!$C$5","v":"Natuur"},{"$f":"C804","v":0},"x",{"$f":"Data!$F$5","v":17},"=",{"$f":"C828*E828","v":0}]
[null,{"$f":"Data!$C$6","v":"Champignons"},{"$f":"C805","v":0},"x",{"$f":"Data!$F$6","v":17},"=",{"$f":"C829*E829","v":0}]
[null,{"$f":"Data!$C$7","v":"Peper"},0,"x",{"$f":"Data!$F$7","v":17},"=",{"$f":"C830*E830","v":0}]
[]
[{"$f":"Data!$B$9","v":"Kabeljauwhaasje"},null,0,"x",{"$f":"Data!$F$9","v":17},"=",{"$f":"C832*E832","v":0}]
[]
[{"$f":"Data!$B$11","v":"Kindermenu"}]
[null,{"$f":"Data!$C$12","v":"Natuur"},0,"x",{"$f":"Data!$F$12","v":8},"=",{"$f":"C835*E835","v":0}]
[null,{"$f":"Data!$C$13","v":"Champignons"},0,"x",{"$f":"Data!$F$13","v":8},"=",{"$f":"C836*E836","v":0}]
[null,{"$f":"Data!$C$14","v":"Peper"},0,"x",{"$f":"Data!$F$14","v":8},"=",0]
[null,{"$f":"Data!$C$15","v":"Kabeljauwhaasje"},0,"x",{"$f":"Data!$F$15","v":8},"=",0]
[]
[null,{"$f":"Data!$C$17","v":"Totaal eten:"},null,null,null,null,{"$f":"SUM(G828:G839)","v":0}]
[null,{"$f":"Data!$C$18","v":"Totaal kaarten:"},{"$f":"C817","v":0},"x",{"$f":"Data!$F$18","v":3},"=",{"$f":"-(C841*E841)","v":0}]
[]
[]
[null,{"$f":"Data!$C$21","v":"Totaal te betalen:"},null,null,null,null,{"$f":"G840+G841","v":0}]
[]
[{"$f":"Data!$A$23","v":"TGV Opstal dankt u voor uw aanwezigheid!  Eet smakelijk!"}]
["Fietsclub TGV Opstal",null,null,null,null,null,"Tafel nr:"]
[{"$f":"A801+1","v":19},null,null,null,null,null,null,null,null,null,null,{"$f":"A848","v":19}]
[]
[{"$f":"Data!$B$4","v":"Kalkoenfilet"},null,null,null,null,null,null,null,null,null,null,"Kalkoenfilet"]
[null,{"$f":"Data!$C$5","v":"Natuur"},null,"x",{"$f":"Data!$F$5","v":17},"=",{"$f":"C851*E851","v":0},null,null,null,null,null,"Natuur",null,{"$f":"C851","v":0}]
[null,{"$f":"Data!$C$6","v":"Champignons"},null,"x",{"$f":"Data!$F$6","v":17},"=",{"$f":"C852*E852","v":0},null,null,null,null,null,"Champignons",null,null,{"$f":"C852","v":0}]
[null,{"$f":"Data!$C$7","v":"Peper"},null,"x",{"$f":"Data!$F$7","v":17},"=",{"$f":"C853*E853","v":0},null,null,null,null,null,"Peper",null,null,null,{"$f":"C853","v":0}]
[]
[{"$f":"Data!$B$9","v":"Kabeljauwhaasje"},null,null,"x",{"$f":"Data!$F$9","v":17},"=",{"$f":"C855*E855","v":0},null,null,null,null,"Kabeljauwhaasje",null,null,null,null,null,{"$f":"C855","v":0}]
[]
[{"$f":"Data!$B$11","v":"Kindermenu"},null,null,null,null,null,null,null,null,null,null,"Kindermenu"]
[null,{"$f":"Data!$C$12","v":"Natuur"},null,"x",{"$f":"Data!$F$12","v":8},"=",{"$f":"C858*E858","v":0},null,null,null,null,null,"Natuur",null,null,null,null,null,{"$f":"C858","v":0}]
[null,{"$f":"Data!$C$13","v":"Champignons"},null,"x",{"$f":"Data!$F$13","v":8},"=",{"$f":"C859*E859","v":0},null,null,null,null,null,"Champignons",null,null,null,null,null,null,{"$f":"C859","v":0}]
[null,{"$f":"Data!$C$14","v":"Peper"},null,"x",{"$f":"Data!$F$14","v":8},"=",0,null,null,null,null,null,"Peper",null,null,null,null,null,null,null,{"$f":"C860","v":0}]
[null,{"$f":"Data!$C$15","v":"Kabeljauwhaasje"},null,"x",{"$f":"Data!$F$15","v":8},"=",0,null,null,null,null,null,"Kabeljauwhaasje",null,null,null,null,null,null,null,null,{"$f":"C861","v":0}]
[]
[null,{"$f":"Data!$C$17","v":"Totaal eten:"},null,null,null,null,{"$f":"SUM(G851:G862)","v":0},null,null,null,null,null,"Totaal eten:",null,null,null,null,null,null,null,null,null,{"$f":"G863","v":0}]
[null,{"$f":"Data!$C$18","v":"Totaal kaarten:"},null,"x",{"$f":"Data!$F$18","v":3},"=",{"$f":"-(C864*E864)","v":0}]
[null,null,null,null,null,null,null,null,null,null,null,null,"Totaal kaarten (bedrag):",null,null,null,null,null,null,null,null,null,null,{"$f":"C864","v":0}]
[]
[null,{"$f":"Data!$C$21","v":"Totaal te betalen:"},null,null,null,null,{"$f":"G863+G864","v":0},null,null,null,null,null,"Totaal te betalen:",null,null,null,null,null,null,null,null,null,null,null,{"$f":"G867","v":0}]
[]
[{"$f":"Data!$A$23","v":"TGV Opstal dankt u voor uw aanwezigheid!  Eet smakelijk!"}]
[]
["Fietsclub TGV Opstal",null,null,null,null,null,"Tafel nr:"]
[{"$f":"A848","v":19}]
[]
[{"$f":"Data!$B$4","v":"Kalkoenfilet"}]
[null,{"$f":"Data!$C$5","v":"Natuur"},{"$f":"C851","v":0},"x",{"$f":"Data!$F$5","v":17},"=",{"$f":"C875*E875","v":0}]
[null,{"$f":"Data!$C$6","v":"Champignons"},{"$f":"C852","v":0},"x",{"$f":"Data!$F$6","v":17},"=",{"$f":"C876*E876","v":0}]
[null,{"$f":"Data!$C$7","v":"Peper"},0,"x",{"$f":"Data!$F$7","v":17},"=",{"$f":"C877*E877","v":0}]
[]
[{"$f":"Data!$B$9","v":"Kabeljauwhaasje"},null,0,"x",{"$f":"Data!$F$9","v":17},"=",{"$f":"C879*E879","v":0}]
[]
[{"$f":"Data!$B$11","v":"Kindermenu"}]
[null,{"$f":"Data!$C$12","v":"Natuur"},0,"x",{"$f":"Data!$F$12","v":8},"=",{"$f":"C882*E882","v":0}]
[null,{"$f":"Data!$C$13","v":"Champignons"},0,"x",{"$f":"Data!$F$13","v":8},"=",{"$f":"C883*E883","v":0}]
[null,{"$f":"Data!$C$14","v":"Peper"},0,"x",{"$f":"Data!$F$14","v":8},"=",0]
[null,{"$f":"Data!$C$15","v":"Kabeljauwhaasje"},0,"x",{"$f":"Data!$F$15","v":8},"=",0]
[]
[null,{"$f":"Data!$C$17","v":"Totaal eten:"},null,null,null,null,{"$f":"SUM(G875:G886)","v":0}]
[null,{"$f":"Data!$C$18","v":"Totaal kaarten:"},{"$f":"C864","v":0},"x",{"$f":"Data!$F$18","v":3},"=",{"$f":"-(C888*E888)","v":0}]
[]
[]
[null,{"$f":"Data!$C$21","v":"Totaal te betalen:"},null,null,null,null,{"$f":"G887+G888","v":0}]
[]
[{"$f":"Data!$A$23","v":"TGV Opstal dankt u voor uw aanwezigheid!  Eet smakelijk!"}]
["Fietsclub TGV Opstal",null,null,null,null,null,"Tafel nr:"]
[{"$f":"A848+1","v":20},null,null,null,null,null,null,null,null,null,null,{"$f":"A895","v":20}]
[]
[{"$f":"Data!$B$4","v":"Kalkoenfilet"},null,null,null,null,null,null,null,null,null,null,"Kalkoenfilet"]
[null,{"$f":"Data!$C$5","v":"Natuur"},null,"x",{"$f":"Data!$F$5","v":17},"=",{"$f":"C898*E898","v":0},null,null,null,null,null,"Natuur",null,{"$f":"C898","v":0}]
[null,{"$f":"Data!$C$6","v":"Champignons"},null,"x",{"$f":"Data!$F$6","v":17},"=",{"$f":"C899*E899","v":0},null,null,null,null,null,"Champignons",null,null,{"$f":"C899","v":0}]
[null,{"$f":"Data!$C$7","v":"Peper"},null,"x",{"$f":"Data!$F$7","v":17},"=",{"$f":"C900*E900","v":0},null,null,null,null,null,"Peper",null,null,null,{"$f":"C900","v":0}]
[]
[{"$f":"Data!$B$9","v":"Kabeljauwhaasje"},null,null,"x",{"$f":"Data!$F$9","v":17},"=",{"$f":"C902*E902","v":0},null,null,null,null,"Kabeljauwhaasje",null,null,null,null,null,{"$f":"C902","v":0}]
[]
[{"$f":"Data!$B$11","v":"Kindermenu"},null,null,null,null,null,null,null,null,null,null,"Kindermenu"]
[null,{"$f":"Data!$C$12","v":"Natuur"},null,"x",{"$f":"Data!$F$12","v":8},"=",{"$f":"C905*E905","v":0},null,null,null,null,null,"Natuur",null,null,null,null,null,{"$f":"C905","v":0}]
[null,{"$f":"Data!$C$13","v":"Champignons"},null,"x",{"$f":"Data!$F$13","v":8},"=",{"$f":"C906*E906","v":0},null,null,null,null,null,"Champignons",null,null,null,null,null,null,{"$f":"C906","v":0}]
[null,{"$f":"Data!$C$14","v":"Peper"},null,"x",{"$f":"Data!$F$14","v":8},"=",0,null,null,null,null,null,"Peper",null,null,null,null,null,null,null,{"$f":"C907","v":0}]
[null,{"$f":"Data!$C$15","v":"Kabeljauwhaasje"},null,"x",{"$f":"Data!$F$15","v":8},"=",0,null,null,null,null,null,"Kabeljauwhaasje",null,null,null,null,null,null,null,null,{"$f":"C908","v":0}]
[]
[null,{"$f":"Data!$C$17","v":"Totaal eten:"},null,null,null,null,{"$f":"SUM(G898:G909)","v":0},null,null,null,null,null,"Totaal eten:",null,null,null,null,null,null,null,null,null,{"$f":"G910","v":0}]
[null,{"$f":"Data!$C$18","v":"Totaal kaarten:"},null,"x",{"$f":"Data!$F$18","v":3},"=",{"$f":"-(C911*E911)","v":0}]
[null,null,null,null,null,null,null,null,null,null,null,null,"Totaal kaarten (bedrag):",null,null,null,null,null,null,null,null,null,null,{"$f":"C911","v":0}]
[]
[null,{"$f":"Data!$C$21","v":"Totaal te betalen:"},null,null,null,null,{"$f":"G910+G911","v":0},null,null,null,null,null,"Totaal te betalen:",null,null,null,null,null,null,null,null,null,null,null,{"$f":"G914","v":0}]
[]
[{"$f":"Data!$A$23","v":"TGV Opstal dankt u voor uw aanwezigheid!  Eet smakelijk!"}]
[]
["Fietsclub TGV Opstal",null,null,null,null,null,"Tafel nr:"]
[{"$f":"A895","v":20}]
[]
[{"$f":"Data!$B$4","v":"Kalkoenfilet"}]
[null,{"$f":"Data!$C$5","v":"Natuur"},{"$f":"C898","v":0},"x",{"$f":"Data!$F$5","v":17},"=",{"$f":"C922*E922","v":0}]
[null,{"$f":"Data!$C$6","v":"Champignons"},{"$f":"C899","v":0},"x",{"$f":"Data!$F$6","v":17},"=",{"$f":"C923*E923","v":0}]
[null,{"$f":"Data!$C$7","v":"Peper"},0,"x",{"$f":"Data!$F$7","v":17},"=",{"$f":"C924*E924","v":0}]
[]
[{"$f":"Data!$B$9","v":"Kabeljauwhaasje"},null,0,"x",{"$f":"Data!$F$9","v":17},"=",{"$f":"C926*E926","v":0}]
[]
[{"$f":"Data!$B$11","v":"Kindermenu"}]
[null,{"$f":"Data!$C$12","v":"Natuur"},0,"x",{"$f":"Data!$F$12","v":8},"=",{"$f":"C929*E929","v":0}]
[null,{"$f":"Data!$C$13","v":"Champignons"},0,"x",{"$f":"Data!$F$13","v":8},"=",{"$f":"C930*E930","v":0}]
[null,{"$f":"Data!$C$14","v":"Peper"},0,"x",{"$f":"Data!$F$14","v":8},"=",0]
[null,{"$f":"Data!$C$15","v":"Kabeljauwhaasje"},0,"x",{"$f":"Data!$F$15","v":8},"=",0]
[]
[null,{"$f":"Data!$C$17","v":"Totaal eten:"},null,null,null,null,{"$f":"SUM(G922:G933)","v":0}]
[null,{"$f":"Data!$C$18","v":"Totaal kaarten:"},{"$f":"C911","v":0},"x",{"$f":"Data!$F$18","v":3},"=",{"$f":"-(C935*E935)","v":0}]
[]
[]
[null,{"$f":"Data!$C$21","v":"Totaal te betalen:"},null,null,null,null,{"$f":"G934+G935","v":0}]
[]
[{"$f":"Data!$A$23","v":"TGV Opstal dankt u voor uw aanwezigheid!  Eet smakelijk!"}]
["Fietsclub TGV Opstal",null,null,null,null,null,"Tafel nr:"]
[{"$f":"A895+1","v":21},null,null,null,null,null,null,null,null,null,null,{"$f":"A942","v":21}]
[]
[{"$f":"Data!$B$4","v":"Kalkoenfilet"},null,null,null,null,null,null,null,null,null,null,"Kalkoenfilet"]
[null,{"$f":"Data!$C$5","v":"Natuur"},null,"x",{"$f":"Data!$F$5","v":17},"=",{"$f":"C945*E945","v":0},null,null,null,null,null,"Natuur",null,{"$f":"C945","v":0}]
[null,{"$f":"Data!$C$6","v":"Champignons"},null,"x",{"$f":"Data!$F$6","v":17},"=",{"$f":"C946*E946","v":0},null,null,null,null,null,"Champignons",null,null,{"$f":"C946","v":0}]
[null,{"$f":"Data!$C$7","v":"Peper"},null,"x",{"$f":"Data!$F$7","v":17},"=",{"$f":"C947*E947","v":0},null,null,null,null,null,"Peper",null,null,null,{"$f":"C947","v":0}]
[]
[{"$f":"Data!$B$9","v":"Kabeljauwhaasje"},null,null,"x",{"$f":"Data!$F$9","v":17},"=",{"$f":"C949*E949","v":0},null,null,null,null,"Kabeljauwhaasje",null,null,null,null,null,{"$f":"C949","v":0}]
[]
[{"$f":"Data!$B$11","v":"Kindermenu"},null,null,null,null,null,null,null,null,null,null,"Kindermenu"]
[null,{"$f":"Data!$C$12","v":"Natuur"},null,"x",{"$f":"Data!$F$12","v":8},"=",{"$f":"C952*E952","v":0},null,null,null,null,null,"Natuur",null,null,null,null,null,{"$f":"C952","v":0}]
[null,{"$f":"Data!$C$13","v":"Champignons"},null,"x",{"$f":"Data!$F$13","v":8},"=",{"$f":"C953*E953","v":0},null,null,null,null,null,"Champignons",null,null,null,null,null,null,{"$f":"C953","v":0}]
[null,{"$f":"Data!$C$14","v":"Peper"},null,"x",{"$f":"Data!$F$14","v":8},"=",0,null,null,null,null,null,"Peper",null,null,null,null,null,null,null,{"$f":"C954","v":0}]
[null,{"$f":"Data!$C$15","v":"Kabeljauwhaasje"},null,"x",{"$f":"Data!$F$15","v":8},"=",0,null,null,null,null,null,"Kabeljauwhaasje",null,null,null,null,null,null,null,null,{"$f":"C955","v":0}]
[]
[null,{"$f":"Data!$C$17","v":"Totaal eten:"},null,null,null,null,{"$f":"SUM(G945:G956)","v":0},null,null,null,null,null,"Totaal eten:",null,null,null,null,null,null,null,null,null,{"$f":"G957","v":0}]
[null,{"$f":"Data!$C$18","v":"Totaal kaarten:"},null,"x",{"$f":"Data!$F$18","v":3},"=",{"$f":"-(C958*E958)","v":0}]
[null,null,null,null,null,null,null,null,null,null,null,null,"Totaal kaarten (bedrag):",null,null,null,null,null,null,null,null,null,null,{"$f":"C958","v":0}]
[]
[null,{"$f":"Data!$C$21","v":"Totaal te betalen:"},null,null,null,null,{"$f":"G957+G958","v":0},null,null,null,null,null,"Totaal te betalen:",null,null,null,null,null,null,null,null,null,null,null,{"$f":"G961","v":0}]
[]
[{"$f":"Data!$A$23","v":"TGV Opstal dankt u voor uw aanwezigheid!  Eet smakelijk!"}]
[]
["Fietsclub TGV Opstal",null,null,null,null,null,"Tafel nr:"]
[{"$f":"A942","v":21}]
[]
[{"$f":"Data!$B$4","v":"Kalkoenfilet"}]
[null,{"$f":"Data!$C$5","v":"Natuur"},{"$f":"C945","v":0},"x",{"$f":"Data!$F$5","v":17},"=",{"$f":"C969*E969","v":0}]
[null,{"$f":"Data!$C$6","v":"Champignons"},{"$f":"C946","v":0},"x",{"$f":"Data!$F$6","v":17},"=",{"$f":"C970*E970","v":0}]
[null,{"$f":"Data!$C$7","v":"Peper"},0,"x",{"$f":"Data!$F$7","v":17},"=",{"$f":"C971*E971","v":0}]
[]
[{"$f":"Data!$B$9","v":"Kabeljauwhaasje"},null,0,"x",{"$f":"Data!$F$9","v":17},"=",{"$f":"C973*E973","v":0}]
[]
[{"$f":"Data!$B$11","v":"Kindermenu"}]
[null,{"$f":"Data!$C$12","v":"Natuur"},0,"x",{"$f":"Data!$F$12","v":8},"=",{"$f":"C976*E976","v":0}]
[null,{"$f":"Data!$C$13","v":"Champignons"},0,"x",{"$f":"Data!$F$13","v":8},"=",{"$f":"C977*E977","v":0}]
[null,{"$f":"Data!$C$14","v":"Peper"},0,"x",{"$f":"Data!$F$14","v":8},"=",0]
[null,{"$f":"Data!$C$15","v":"Kabeljauwhaasje"},0,"x",{"$f":"Data!$F$15","v":8},"=",0]
[]
[null,{"$f":"Data!$C$17","v":"Totaal eten:"},null,null,null,null,{"$f":"SUM(G969:G980)","v":0}]
[null,{"$f":"Data!$C$18","v":"Totaal kaarten:"},{"$f":"C958","v":0},"x",{"$f":"Data!$F$18","v":3},"=",{"$f":"-(C982*E982)","v":0}]
[]
[]
[null,{"$f":"Data!$C$21","v":"Totaal te betalen:"},null,null,null,null,{"$f":"G981+G982","v":0}]
[]
[{"$f":"Data!$A$23","v":"TGV Opstal dankt u voor uw aanwezigheid!  Eet smakelijk!"}]
["Fietsclub TGV Opstal",null,null,null,null,null,"Tafel nr:"]
[{"$f":"A942+1","v":22},null,null,null,null,null,null,null,null,null,null,{"$f":"A989","v":22}]
[]
[{"$f":"Data!$B$4","v":"Kalkoenfilet"},null,null,null,null,null,null,null,null,null,null,"Kalkoenfilet"]
[null,{"$f":"Data!$C$5","v":"Natuur"},null,"x",{"$f":"Data!$F$5","v":17},"=",{"$f":"C992*E992","v":0},null,null,null,null,null,"Natuur",null,{"$f":"C992","v":0}]
[null,{"$f":"Data!$C$6","v":"Champignons"},null,"x",{"$f":"Data!$F$6","v":17},"=",{"$f":"C993*E993","v":0},null,null,null,null,null,"Champignons",null,null,{"$f":"C993","v":0}]
[null,{"$f":"Data!$C$7","v":"Peper"},null,"x",{"$f":"Data!$F$7","v":17},"=",{"$f":"C994*E994","v":0},null,null,null,null,null,"Peper",null,null,null,{"$f":"C994","v":0}]
[]
[{"$f":"Data!$B$9","v":"Kabeljauwhaasje"},null,null,"x",{"$f":"Data!$F$9","v":17},"=",{"$f":"C996*E996","v":0},null,null,null,null,"Kabeljauwhaasje",null,null,null,null,null,{"$f":"C996","v":0}]
[]
[{"$f":"Data!$B$11","v":"Kindermenu"},null,null,null,null,null,null,null,null,null,null,"Kindermenu"]
[null,{"$f":"Data!$C$12","v":"Natuur"},null,"x",{"$f":"Data!$F$12","v":8},"=",{"$f":"C999*E999","v":0},null,null,null,null,null,"Natuur",null,null,null,null,null,{"$f":"C999","v":0}]
[null,{"$f":"Data!$C$13","v":"Champignons"},null,"x",{"$f":"Data!$F$13","v":8},"=",{"$f":"C1000*E1000","v":0},null,null,null,null,null,"Champignons",null,null,null,null,null,null,{"$f":"C1000","v":0}]
[null,{"$f":"Data!$C$14","v":"Peper"},null,"x",{"$f":"Data!$F$14","v":8},"=",0,null,null,null,null,null,"Peper",null,null,null,null,null,null,null,{"$f":"C1001","v":0}]
[null,{"$f":"Data!$C$15","v":"Kabeljauwhaasje"},null,"x",{"$f":"Data!$F$15","v":8},"=",0,null,null,null,null,null,"Kabeljauwhaasje",null,null,null,null,null,null,null,null,{"$f":"C1002","v":0}]
[]
[null,{"$f":"Data!$C$17","v":"Totaal eten:"},null,null,null,null,{"$f":"SUM(G992:G1003)","v":0},null,null,null,null,null,"Totaal eten:",null,null,null,null,null,null,null,null,null,{"$f":"G1004","v":0}]
[null,{"$f":"Data!$C$18","v":"Totaal kaarten:"},null,"x",{"$f":"Data!$F$18","v":3},"=",{"$f":"-(C1005*E1005)","v":0}]
[null,null,null,null,null,null,null,null,null,null,null,null,"Totaal kaarten (bedrag):",null,null,null,null,null,null,null,null,null,null,{"$f":"C1005","v":0}]
[]
[null,{"$f":"Data!$C$21","v":"Totaal te betalen:"},null,null,null,null,{"$f":"G1004+G1005","v":0},null,null,null,null,null,"Totaal te betalen:",null,null,null,null,null,null,null,null,null,null,null,{"$f":"G1008","v":0}]
[]
[{"$f":"Data!$A$23","v":"TGV Opstal dankt u voor uw aanwezigheid!  Eet smakelijk!"}]
[]
["Fietsclub TGV Opstal",null,null,null,null,null,"Tafel nr:"]
[{"$f":"A989","v":22}]
[]
[{"$f":"Data!$B$4","v":"Kalkoenfilet"}]
[null,{"$f":"Data!$C$5","v":"Natuur"},{"$f":"C992","v":0},"x",{"$f":"Data!$F$5","v":17},"=",{"$f":"C1016*E1016","v":0}]
[null,{"$f":"Data!$C$6","v":"Champignons"},{"$f":"C993","v":0},"x",{"$f":"Data!$F$6","v":17},"=",{"$f":"C1017*E1017","v":0}]
[null,{"$f":"Data!$C$7","v":"Peper"},0,"x",{"$f":"Data!$F$7","v":17},"=",{"$f":"C1018*E1018","v":0}]
[]
[{"$f":"Data!$B$9","v":"Kabeljauwhaasje"},null,0,"x",{"$f":"Data!$F$9","v":17},"=",{"$f":"C1020*E1020","v":0}]
[]
[{"$f":"Data!$B$11","v":"Kindermenu"}]
[null,{"$f":"Data!$C$12","v":"Natuur"},0,"x",{"$f":"Data!$F$12","v":8},"=",{"$f":"C1023*E1023","v":0}]
[null,{"$f":"Data!$C$13","v":"Champignons"},0,"x",{"$f":"Data!$F$13","v":8},"=",{"$f":"C1024*E1024","v":0}]
[null,{"$f":"Data!$C$14","v":"Peper"},0,"x",{"$f":"Data!$F$14","v":8},"=",0]
[null,{"$f":"Data!$C$15","v":"Kabeljauwhaasje"},0,"x",{"$f":"Data!$F$15","v":8},"=",0]
[]
[null,{"$f":"Data!$C$17","v":"Totaal eten:"},null,null,null,null,{"$f":"SUM(G1016:G1027)","v":0}]
[null,{"$f":"Data!$C$18","v":"Totaal kaarten:"},{"$f":"C1005","v":0},"x",{"$f":"Data!$F$18","v":3},"=",{"$f":"-(C1029*E1029)","v":0}]
[]
[]
[null,{"$f":"Data!$C$21","v":"Totaal te betalen:"},null,null,null,null,{"$f":"G1028+G1029","v":0}]
[]
[{"$f":"Data!$A$23","v":"TGV Opstal dankt u voor uw aanwezigheid!  Eet smakelijk!"}]
["Fietsclub TGV Opstal",null,null,null,null,null,"Tafel nr:"]
[{"$f":"A989+1","v":23},null,null,null,null,null,null,null,null,null,null,{"$f":"A1036","v":23}]
[]
[{"$f":"Data!$B$4","v":"Kalkoenfilet"},null,null,null,null,null,null,null,null,null,null,"Kalkoenfilet"]
[null,{"$f":"Data!$C$5","v":"Natuur"},null,"x",{"$f":"Data!$F$5","v":17},"=",{"$f":"C1039*E1039","v":0},null,null,null,null,null,"Natuur",null,{"$f":"C1039","v":0}]
[null,{"$f":"Data!$C$6","v":"Champignons"},null,"x",{"$f":"Data!$F$6","v":17},"=",{"$f":"C1040*E1040","v":0},null,null,null,null,null,"Champignons",null,null,{"$f":"C1040","v":0}]
[null,{"$f":"Data!$C$7","v":"Peper"},null,"x",{"$f":"Data!$F$7","v":17},"=",{"$f":"C1041*E1041","v":0},null,null,null,null,null,"Peper",null,null,null,{"$f":"C1041","v":0}]
[]
[{"$f":"Data!$B$9","v":"Kabeljauwhaasje"},null,null,"x",{"$f":"Data!$F$9","v":17},"=",{"$f":"C1043*E1043","v":0},null,null,null,null,"Kabeljauwhaasje",null,null,null,null,null,{"$f":"C1043","v":0}]
[]
[{"$f":"Data!$B$11","v":"Kindermenu"},null,null,null,null,null,null,null,null,null,null,"Kindermenu"]
[null,{"$f":"Data!$C$12","v":"Natuur"},null,"x",{"$f":"Data!$F$12","v":8},"=",{"$f":"C1046*E1046","v":0},null,null,null,null,null,"Natuur",null,null,null,null,null,{"$f":"C1046","v":0}]
[null,{"$f":"Data!$C$13","v":"Champignons"},null,"x",{"$f":"Data!$F$13","v":8},"=",{"$f":"C1047*E1047","v":0},null,null,null,null,null,"Champignons",null,null,null,null,null,null,{"$f":"C1047","v":0}]
[null,{"$f":"Data!$C$14","v":"Peper"},null,"x",{"$f":"Data!$F$14","v":8},"=",0,null,null,null,null,null,"Peper",null,null,null,null,null,null,null,{"$f":"C1048","v":0}]
[null,{"$f":"Data!$C$15","v":"Kabeljauwhaasje"},null,"x",{"$f":"Data!$F$15","v":8},"=",0,null,null,null,null,null,"Kabeljauwhaasje",null,null,null,null,null,null,null,null,{"$f":"C1049","v":0}]
[]
[null,{"$f":"Data!$C$17","v":"Totaal eten:"},null,null,null,null,{"$f":"SUM(G1039:G1050)","v":0},null,null,null,null,null,"Totaal eten:",null,null,null,null,null,null,null,null,null,{"$f":"G1051","v":0}]
[null,{"$f":"Data!$C$18","v":"Totaal kaarten:"},null,"x",{"$f":"Data!$F$18","v":3},"=",{"$f":"-(C1052*E1052)","v":0}]
[null,null,null,null,null,null,null,null,null,null,null,null,"Totaal kaarten (bedrag):",null,null,null,null,null,null,null,null,null,null,{"$f":"C1052","v":0}]
[]
[null,{"$f":"Data!$C$21","v":"Totaal te betalen:"},null,null,null,null,{"$f":"G1051+G1052","v":0},null,null,null,null,null,"Totaal te betalen:",null,null,null,null,null,null,null,null,null,null,null,{"$f":"G1055","v":0}]
[]
[{"$f":"Data!$A$23","v":"TGV Opstal dankt u voor uw aanwezigheid!  Eet smakelijk!"}]
[]
["Fietsclub TGV Opstal",null,null,null,null,null,"Tafel nr:"]
[{"$f":"A1036","v":23}]
[]
[{"$f":"Data!$B$4","v":"Kalkoenfilet"}]
[null,{"$f":"Data!$C$5","v":"Natuur"},{"$f":"C1039","v":0},"x",{"$f":"Data!$F$5","v":17},"=",{"$f":"C1063*E1063","v":0}]
[null,{"$f":"Data!$C$6","v":"Champignons"},{"$f":"C1040","v":0},"x",{"$f":"Data!$F$6","v":17},"=",{"$f":"C1064*E1064","v":0}]
[null,{"$f":"Data!$C$7","v":"Peper"},0,"x",{"$f":"Data!$F$7","v":17},"=",{"$f":"C1065*E1065","v":0}]
[]
[{"$f":"Data!$B$9","v":"Kabeljauwhaasje"},null,0,"x",{"$f":"Data!$F$9","v":17},"=",{"$f":"C1067*E1067","v":0}]
[]
[{"$f":"Data!$B$11","v":"Kindermenu"}]
[null,{"$f":"Data!$C$12","v":"Natuur"},0,"x",{"$f":"Data!$F$12","v":8},"=",{"$f":"C1070*E1070","v":0}]
[null,{"$f":"Data!$C$13","v":"Champignons"},0,"x",{"$f":"Data!$F$13","v":8},"=",{"$f":"C1071*E1071","v":0}]
[null,{"$f":"Data!$C$14","v":"Peper"},0,"x",{"$f":"Data!$F$14","v":8},"=",0]
[null,{"$f":"Data!$C$15","v":"Kabeljauwhaasje"},0,"x",{"$f":"Data!$F$15","v":8},"=",0]
[]
[null,{"$f":"Data!$C$17","v":"Totaal eten:"},null,null,null,null,{"$f":"SUM(G1063:G1074)","v":0}]
[null,{"$f":"Data!$C$18","v":"Totaal kaarten:"},{"$f":"C1052","v":0},"x",{"$f":"Data!$F$18","v":3},"=",{"$f":"-(C1076*E1076)","v":0}]
[]
[]
[null,{"$f":"Data!$C$21","v":"Totaal te betalen:"},null,null,null,null,{"$f":"G1075+G1076","v":0}]
[]
[{"$f":"Data!$A$23","v":"TGV Opstal dankt u voor uw aanwezigheid!  Eet smakelijk!"}]
["Fietsclub TGV Opstal",null,null,null,null,null,"Tafel nr:"]
[{"$f":"A1036+1","v":24},null,null,null,null,null,null,null,null,null,null,{"$f":"A1083","v":24}]
[]
[{"$f":"Data!$B$4","v":"Kalkoenfilet"},null,null,null,null,null,null,null,null,null,null,"Kalkoenfilet"]
[null,{"$f":"Data!$C$5","v":"Natuur"},null,"x",{"$f":"Data!$F$5","v":17},"=",{"$f":"C1086*E1086","v":0},null,null,null,null,null,"Natuur",null,{"$f":"C1086","v":0}]
[null,{"$f":"Data!$C$6","v":"Champignons"},null,"x",{"$f":"Data!$F$6","v":17},"=",{"$f":"C1087*E1087","v":0},null,null,null,null,null,"Champignons",null,null,{"$f":"C1087","v":0}]
[null,{"$f":"Data!$C$7","v":"Peper"},null,"x",{"$f":"Data!$F$7","v":17},"=",{"$f":"C1088*E1088","v":0},null,null,null,null,null,"Peper",null,null,null,{"$f":"C1088","v":0}]
[]
[{"$f":"Data!$B$9","v":"Kabeljauwhaasje"},null,null,"x",{"$f":"Data!$F$9","v":17},"=",{"$f":"C1090*E1090","v":0},null,null,null,null,"Kabeljauwhaasje",null,null,null,null,null,{"$f":"C1090","v":0}]
[]
[{"$f":"Data!$B$11","v":"Kindermenu"},null,null,null,null,null,null,null,null,null,null,"Kindermenu"]
[null,{"$f":"Data!$C$12","v":"Natuur"},null,"x",{"$f":"Data!$F$12","v":8},"=",{"$f":"C1093*E1093","v":0},null,null,null,null,null,"Natuur",null,null,null,null,null,{"$f":"C1093","v":0}]
[null,{"$f":"Data!$C$13","v":"Champignons"},null,"x",{"$f":"Data!$F$13","v":8},"=",{"$f":"C1094*E1094","v":0},null,null,null,null,null,"Champignons",null,null,null,null,null,null,{"$f":"C1094","v":0}]
[null,{"$f":"Data!$C$14","v":"Peper"},null,"x",{"$f":"Data!$F$14","v":8},"=",0,null,null,null,null,null,"Peper",null,null,null,null,null,null,null,{"$f":"C1095","v":0}]
[null,{"$f":"Data!$C$15","v":"Kabeljauwhaasje"},null,"x",{"$f":"Data!$F$15","v":8},"=",0,null,null,null,null,null,"Kabeljauwhaasje",null,null,null,null,null,null,null,null,{"$f":"C1096","v":0}]
[]
[null,{"$f":"Data!$C$17","v":"Totaal eten:"},null,null,null,null,{"$f":"SUM(G1086:G1097)","v":0},null,null,null,null,null,"Totaal eten:",null,null,null,null,null,null,null,null,null,{"$f":"G1098","v":0}]
[null,{"$f":"Data!$C$18","v":"Totaal kaarten:"},null,"x",{"$f":"Data!$F$18","v":3},"=",{"$f":"-(C1099*E1099)","v":0}]
[null,null,null,null,null,null,null,null,null,null,null,null,"Totaal kaarten (bedrag):",null,null,null,null,null,null,null,null,null,null,{"$f":"C1099","v":0}]
[]
[null,{"$f":"Data!$C$21","v":"Totaal te betalen:"},null,null,null,null,{"$f":"G1098+G1099","v":0},null,null,null,null,null,"Totaal te betalen:",null,null,null,null,null,null,null,null,null,null,null,{"$f":"G1102","v":0}]
[]
[{"$f":"Data!$A$23","v":"TGV Opstal dankt u voor uw aanwezigheid!  Eet smakelijk!"}]
[]
["Fietsclub TGV Opstal",null,null,null,null,null,"Tafel nr:"]
[{"$f":"A1083","v":24}]
[]
[{"$f":"Data!$B$4","v":"Kalkoenfilet"}]
[null,{"$f":"Data!$C$5","v":"Natuur"},{"$f":"C1086","v":0},"x",{"$f":"Data!$F$5","v":17},"=",{"$f":"C1110*E1110","v":0}]
[null,{"$f":"Data!$C$6","v":"Champignons"},{"$f":"C1087","v":0},"x",{"$f":"Data!$F$6","v":17},"=",{"$f":"C1111*E1111","v":0}]
[null,{"$f":"Data!$C$7","v":"Peper"},0,"x",{"$f":"Data!$F$7","v":17},"=",{"$f":"C1112*E1112","v":0}]
[]
[{"$f":"Data!$B$9","v":"Kabeljauwhaasje"},null,0,"x",{"$f":"Data!$F$9","v":17},"=",{"$f":"C1114*E1114","v":0}]
[]
[{"$f":"Data!$B$11","v":"Kindermenu"}]
[null,{"$f":"Data!$C$12","v":"Natuur"},0,"x",{"$f":"Data!$F$12","v":8},"=",{"$f":"C1117*E1117","v":0}]
[null,{"$f":"Data!$C$13","v":"Champignons"},0,"x",{"$f":"Data!$F$13","v":8},"=",{"$f":"C1118*E1118","v":0}]
[null,{"$f":"Data!$C$14","v":"Peper"},0,"x",{"$f":"Data!$F$14","v":8},"=",0]
[null,{"$f":"Data!$C$15","v":"Kabeljauwhaasje"},0,"x",{"$f":"Data!$F$15","v":8},"=",0]
[]
[null,{"$f":"Data!$C$17","v":"Totaal eten:"},null,null,null,null,{"$f":"SUM(G1110:G1121)","v":0}]
[null,{"$f":"Data!$C$18","v":"Totaal kaarten:"},{"$f":"C1099","v":0},"x",{"$f":"Data!$F$18","v":3},"=",{"$f":"-(C1123*E1123)","v":0}]
[]
[]
[null,{"$f":"Data!$C$21","v":"Totaal te betalen:"},null,null,null,null,{"$f":"G1122+G1123","v":0}]
[]
[{"$f":"Data!$A$23","v":"TGV Opstal dankt u voor uw aanwezigheid!  Eet smakelijk!"}]
["Fietsclub TGV Opstal",null,null,null,null,null,"Tafel nr:"]
[{"$f":"A1083+1","v":25},null,null,null,null,null,null,null,null,null,null,{"$f":"A1130","v":25}]
[]
[{"$f":"Data!$B$4","v":"Kalkoenfilet"},null,null,null,null,null,null,null,null,null,null,"Kalkoenfilet"]
[null,{"$f":"Data!$C$5","v":"Natuur"},null,"x",{"$f":"Data!$F$5","v":17},"=",{"$f":"C1133*E1133","v":0},null,null,null,null,null,"Natuur",null,{"$f":"C1133","v":0}]
[null,{"$f":"Data!$C$6","v":"Champignons"},null,"x",{"$f":"Data!$F$6","v":17},"=",{"$f":"C1134*E1134","v":0},null,null,null,null,null,"Champignons",null,null,{"$f":"C1134","v":0}]
[null,{"$f":"Data!$C$7","v":"Peper"},null,"x",{"$f":"Data!$F$7","v":17},"=",{"$f":"C1135*E1135","v":0},null,null,null,null,null,"Peper",null,null,null,{"$f":"C1135","v":0}]
[]
[{"$f":"Data!$B$9","v":"Kabeljauwhaasje"},null,null,"x",{"$f":"Data!$F$9","v":17},"=",{"$f":"C1137*E1137","v":0},null,null,null,null,"Kabeljauwhaasje",null,null,null,null,null,{"$f":"C1137","v":0}]
[]
[{"$f":"Data!$B$11","v":"Kindermenu"},null,null,null,null,null,null,null,null,null,null,"Kindermenu"]
[null,{"$f":"Data!$C$12","v":"Natuur"},null,"x",{"$f":"Data!$F$12","v":8},"=",{"$f":"C1140*E1140","v":0},null,null,null,null,null,"Natuur",null,null,null,null,null,{"$f":"C1140","v":0}]
[null,{"$f":"Data!$C$13","v":"Champignons"},null,"x",{"$f":"Data!$F$13","v":8},"=",{"$f":"C1141*E1141","v":0},null,null,null,null,null,"Champignons",null,null,null,null,null,null,{"$f":"C1141","v":0}]
[null,{"$f":"Data!$C$14","v":"Peper"},null,"x",{"$f":"Data!$F$14","v":8},"=",0,null,null,null,null,null,"Peper",null,null,null,null,null,null,null,{"$f":"C1142","v":0}]
[null,{"$f":"Data!$C$15","v":"Kabeljauwhaasje"},null,"x",{"$f":"Data!$F$15","v":8},"=",0,null,null,null,null,null,"Kabeljauwhaasje",null,null,null,null,null,null,null,null,{"$f":"C1143","v":0}]
[]
[null,{"$f":"Data!$C$17","v":"Totaal eten:"},null,null,null,null,{"$f":"SUM(G1133:G1144)","v":0},null,null,null,null,null,"Totaal eten:",null,null,null,null,null,null,null,null,null,{"$f":"G1145","v":0}]
[null,{"$f":"Data!$C$18","v":"Totaal kaarten:"},null,"x",{"$f":"Data!$F$18","v":3},"=",{"$f":"-(C1146*E1146)","v":0}]
[null,null,null,null,null,null,null,null,null,null,null,null,"Totaal kaarten (bedrag):",null,null,null,null,null,null,null,null,null,null,{"$f":"C1146","v":0}]
[]
[null,{"$f":"Data!$C$21","v":"Totaal te betalen:"},null,null,null,null,{"$f":"G1145+G1146","v":0},null,null,null,null,null,"Totaal te betalen:",null,null,null,null,null,null,null,null,null,null,null,{"$f":"G1149","v":0}]
[]
[{"$f":"Data!$A$23","v":"TGV Opstal dankt u voor uw aanwezigheid!  Eet smakelijk!"}]
[]
["Fietsclub TGV Opstal",null,null,null,null,null,"Tafel nr:"]
[{"$f":"A1130","v":25}]
[]
[{"$f":"Data!$B$4","v":"Kalkoenfilet"}]
[null,{"$f":"Data!$C$5","v":"Natuur"},{"$f":"C1133","v":0},"x",{"$f":"Data!$F$5","v":17},"=",{"$f":"C1157*E1157","v":0}]
[null,{"$f":"Data!$C$6","v":"Champignons"},{"$f":"C1134","v":0},"x",{"$f":"Data!$F$6","v":17},"=",{"$f":"C1158*E1158","v":0}]
[null,{"$f":"Data!$C$7","v":"Peper"},0,"x",{"$f":"Data!$F$7","v":17},"=",{"$f":"C1159*E1159","v":0}]
[]
[{"$f":"Data!$B$9","v":"Kabeljauwhaasje"},null,0,"x",{"$f":"Data!$F$9","v":17},"=",{"$f":"C1161*E1161","v":0}]
[]
[{"$f":"Data!$B$11","v":"Kindermenu"}]
[null,{"$f":"Data!$C$12","v":"Natuur"},0,"x",{"$f":"Data!$F$12","v":8},"=",{"$f":"C1164*E1164","v":0}]
[null,{"$f":"Data!$C$13","v":"Champignons"},0,"x",{"$f":"Data!$F$13","v":8},"=",{"$f":"C1165*E1165","v":0}]
[null,{"$f":"Data!$C$14","v":"Peper"},0,"x",{"$f":"Data!$F$14","v":8},"=",0]
[null,{"$f":"Data!$C$15","v":"Kabeljauwhaasje"},0,"x",{"$f":"Data!$F$15","v":8},"=",0]
[]
[null,{"$f":"Data!$C$17","v":"Totaal eten:"},null,null,null,null,{"$f":"SUM(G1157:G1168)","v":0}]
[null,{"$f":"Data!$C$18","v":"Totaal kaarten:"},{"$f":"C1146","v":0},"x",{"$f":"Data!$F$18","v":3},"=",{"$f":"-(C1170*E1170)","v":0}]
[]
[]
[null,{"$f":"Data!$C$21","v":"Totaal te betalen:"},null,null,null,null,{"$f":"G1169+G1170","v":0}]
[]
[{"$f":"Data!$A$23","v":"TGV Opstal dankt u voor uw aanwezigheid!  Eet smakelijk!"}]
["Fietsclub TGV Opstal",null,null,null,null,null,"Tafel nr:"]
[{"$f":"A1130+1","v":26},null,null,null,null,null,null,null,null,null,null,{"$f":"A1177","v":26}]
[]
[{"$f":"Data!$B$4","v":"Kalkoenfilet"},null,null,null,null,null,null,null,null,null,null,"Kalkoenfilet"]
[null,{"$f":"Data!$C$5","v":"Natuur"},null,"x",{"$f":"Data!$F$5","v":17},"=",{"$f":"C1180*E1180","v":0},null,null,null,null,null,"Natuur",null,{"$f":"C1180","v":0}]
[null,{"$f":"Data!$C$6","v":"Champignons"},null,"x",{"$f":"Data!$F$6","v":17},"=",{"$f":"C1181*E1181","v":0},null,null,null,null,null,"Champignons",null,null,{"$f":"C1181","v":0}]
[null,{"$f":"Data!$C$7","v":"Peper"},null,"x",{"$f":"Data!$F$7","v":17},"=",{"$f":"C1182*E1182","v":0},null,null,null,null,null,"Peper",null,null,null,{"$f":"C1182","v":0}]
[]
[{"$f":"Data!$B$9","v":"Kabeljauwhaasje"},null,null,"x",{"$f":"Data!$F$9","v":17},"=",{"$f":"C1184*E1184","v":0},null,null,null,null,"Kabeljauwhaasje",null,null,null,null,null,{"$f":"C1184","v":0}]
[]
[{"$f":"Data!$B$11","v":"Kindermenu"},null,null,null,null,null,null,null,null,null,null,"Kindermenu"]
[null,{"$f":"Data!$C$12","v":"Natuur"},null,"x",{"$f":"Data!$F$12","v":8},"=",{"$f":"C1187*E1187","v":0},null,null,null,null,null,"Natuur",null,null,null,null,null,{"$f":"C1187","v":0}]
[null,{"$f":"Data!$C$13","v":"Champignons"},null,"x",{"$f":"Data!$F$13","v":8},"=",{"$f":"C1188*E1188","v":0},null,null,null,null,null,"Champignons",null,null,null,null,null,null,{"$f":"C1188","v":0}]
[null,{"$f":"Data!$C$14","v":"Peper"},null,"x",{"$f":"Data!$F$14","v":8},"=",0,null,null,null,null,null,"Peper",null,null,null,null,null,null,null,{"$f":"C1189","v":0}]
[null,{"$f":"Data!$C$15","v":"Kabeljauwhaasje"},null,"x",{"$f":"Data!$F$15","v":8},"=",0,null,null,null,null,null,"Kabeljauwhaasje",null,null,null,null,null,null,null,null,{"$f":"C1190","v":0}]
[]
[null,{"$f":"Data!$C$17","v":"Totaal eten:"},null,null,null,null,{"$f":"SUM(G1180:G1191)","v":0},null,null,null,null,null,"Totaal eten:",null,null,null,null,null,null,null,null,null,{"$f":"G1192","v":0}]
[null,{"$f":"Data!$C$18","v":"Totaal kaarten:"},null,"x",{"$f":"Data!$F$18","v":3},"=",{"$f":"-(C1193*E1193)","v":0}]
[null,null,null,null,null,null,null,null,null,null,null,null,"Totaal kaarten (bedrag):",null,null,null,null,null,null,null,null,null,null,{"$f":"C1193","v":0}]
[]
[null,{"$f":"Data!$C$21","v":"Totaal te betalen:"},null,null,null,null,{"$f":"G1192+G1193","v":0},null,null,null,null,null,"Totaal te betalen:",null,null,null,null,null,null,null,null,null,null,null,{"$f":"G1196","v":0}]
[]
[{"$f":"Data!$A$23","v":"TGV Opstal dankt u voor uw aanwezigheid!  Eet smakelijk!"}]
[]
["Fietsclub TGV Opstal",null,null,null,null,null,"Tafel nr:"]
[{"$f":"A1177","v":26}]
[]
[{"$f":"Data!$B$4","v":"Kalkoenfilet"}]
[null,{"$f":"Data!$C$5","v":"Natuur"},{"$f":"C1180","v":0},"x",{"$f":"Data!$F$5","v":17},"=",{"$f":"C1204*E1204","v":0}]
[null,{"$f":"Data!$C$6","v":"Champignons"},{"$f":"C1181","v":0},"x",{"$f":"Data!$F$6","v":17},"=",{"$f":"C1205*E1205","v":0}]
[null,{"$f":"Data!$C$7","v":"Peper"},0,"x",{"$f":"Data!$F$7","v":17},"=",{"$f":"C1206*E1206","v":0}]
[]
[{"$f":"Data!$B$9","v":"Kabeljauwhaasje"},null,0,"x",{"$f":"Data!$F$9","v":17},"=",{"$f":"C1208*E1208","v":0}]
[]
[{"$f":"Data!$B$11","v":"Kindermenu"}]
[null,{"$f":"Data!$C$12","v":"Natuur"},0,"x",{"$f":"Data!$F$12","v":8},"=",{"$f":"C1211*E1211","v":0}]
[null,{"$f":"Data!$C$13","v":"Champignons"},0,"x",{"$f":"Data!$F$13","v":8},"=",{"$f":"C1212*E1212","v":0}]
[null,{"$f":"Data!$C$14","v":"Peper"},0,"x",{"$f":"Data!$F$14","v":8},"=",0]
[null,{"$f":"Data!$C$15","v":"Kabeljauwhaasje"},0,"x",{"$f":"Data!$F$15","v":8},"=",0]
[]
[null,{"$f":"Data!$C$17","v":"Totaal eten:"},null,null,null,null,{"$f":"SUM(G1204:G1215)","v":0}]
[null,{"$f":"Data!$C$18","v":"Totaal kaarten:"},{"$f":"C1193","v":0},"x",{"$f":"Data!$F$18","v":3},"=",{"$f":"-(C1217*E1217)","v":0}]
[]
[]
[null,{"$f":"Data!$C$21","v":"Totaal te betalen:"},null,null,null,null,{"$f":"G1216+G1217","v":0}]
[]
[{"$f":"Data!$A$23","v":"TGV Opstal dankt u voor uw aanwezigheid!  Eet smakelijk!"}]
["Fietsclub TGV Opstal",null,null,null,null,null,"Tafel nr:"]
[{"$f":"A1177+1","v":27},null,null,null,null,null,null,null,null,null,null,{"$f":"A1224","v":27}]
[]
[{"$f":"Data!$B$4","v":"Kalkoenfilet"},null,null,null,null,null,null,null,null,null,null,"Kalkoenfilet"]
[null,{"$f":"Data!$C$5","v":"Natuur"},null,"x",{"$f":"Data!$F$5","v":17},"=",{"$f":"C1227*E1227","v":0},null,null,null,null,null,"Natuur",null,{"$f":"C1227","v":0}]
[null,{"$f":"Data!$C$6","v":"Champignons"},null,"x",{"$f":"Data!$F$6","v":17},"=",{"$f":"C1228*E1228","v":0},null,null,null,null,null,"Champignons",null,null,{"$f":"C1228","v":0}]
[null,{"$f":"Data!$C$7","v":"Peper"},null,"x",{"$f":"Data!$F$7","v":17},"=",{"$f":"C1229*E1229","v":0},null,null,null,null,null,"Peper",null,null,null,{"$f":"C1229","v":0}]
[]
[{"$f":"Data!$B$9","v":"Kabeljauwhaasje"},null,null,"x",{"$f":"Data!$F$9","v":17},"=",{"$f":"C1231*E1231","v":0},null,null,null,null,"Kabeljauwhaasje",null,null,null,null,null,{"$f":"C1231","v":0}]
[]
[{"$f":"Data!$B$11","v":"Kindermenu"},null,null,null,null,null,null,null,null,null,null,"Kindermenu"]
[null,{"$f":"Data!$C$12","v":"Natuur"},null,"x",{"$f":"Data!$F$12","v":8},"=",{"$f":"C1234*E1234","v":0},null,null,null,null,null,"Natuur",null,null,null,null,null,{"$f":"C1234","v":0}]
[null,{"$f":"Data!$C$13","v":"Champignons"},null,"x",{"$f":"Data!$F$13","v":8},"=",{"$f":"C1235*E1235","v":0},null,null,null,null,null,"Champignons",null,null,null,null,null,null,{"$f":"C1235","v":0}]
[null,{"$f":"Data!$C$14","v":"Peper"},null,"x",{"$f":"Data!$F$14","v":8},"=",0,null,null,null,null,null,"Peper",null,null,null,null,null,null,null,{"$f":"C1236","v":0}]
[null,{"$f":"Data!$C$15","v":"Kabeljauwhaasje"},null,"x",{"$f":"Data!$F$15","v":8},"=",0,null,null,null,null,null,"Kabeljauwhaasje",null,null,null,null,null,null,null,null,{"$f":"C1237","v":0}]
[]
[null,{"$f":"Data!$C$17","v":"Totaal eten:"},null,null,null,null,{"$f":"SUM(G1227:G1238)","v":0},null,null,null,null,null,"Totaal eten:",null,null,null,null,null,null,null,null,null,{"$f":"G1239","v":0}]
[null,{"$f":"Data!$C$18","v":"Totaal kaarten:"},null,"x",{"$f":"Data!$F$18","v":3},"=",{"$f":"-(C1240*E1240)","v":0}]
[null,null,null,null,null,null,null,null,null,null,null,null,"Totaal kaarten (bedrag):",null,null,null,null,null,null,null,null,null,null,{"$f":"C1240","v":0}]
[]
[null,{"$f":"Data!$C$21","v":"Totaal te betalen:"},null,null,null,null,{"$f":"G1239+G1240","v":0},null,null,null,null,null,"Totaal te betalen:",null,null,null,null,null,null,null,null,null,null,null,{"$f":"G1243","v":0}]
[]
[{"$f":"Data!$A$23","v":"TGV Opstal dankt u voor uw aanwezigheid!  Eet smakelijk!"}]
[]
["Fietsclub TGV Opstal",null,null,null,null,null,"Tafel nr:"]
[{"$f":"A1224","v":27}]
[]
[{"$f":"Data!$B$4","v":"Kalkoenfilet"}]
[null,{"$f":"Data!$C$5","v":"Natuur"},{"$f":"C1227","v":0},"x",{"$f":"Data!$F$5","v":17},"=",{"$f":"C1251*E1251","v":0}]
[null,{"$f":"Data!$C$6","v":"Champignons"},{"$f":"C1228","v":0},"x",{"$f":"Data!$F$6","v":17},"=",{"$f":"C1252*E1252","v":0}]
[null,{"$f":"Data!$C$7","v":"Peper"},0,"x",{"$f":"Data!$F$7","v":17},"=",{"$f":"C1253*E1253","v":0}]
[]
[{"$f":"Data!$B$9","v":"Kabeljauwhaasje"},null,0,"x",{"$f":"Data!$F$9","v":17},"=",{"$f":"C1255*E1255","v":0}]
[]
[{"$f":"Data!$B$11","v":"Kindermenu"}]
[null,{"$f":"Data!$C$12","v":"Natuur"},0,"x",{"$f":"Data!$F$12","v":8},"=",{"$f":"C1258*E1258","v":0}]
[null,{"$f":"Data!$C$13","v":"Champignons"},0,"x",{"$f":"Data!$F$13","v":8},"=",{"$f":"C1259*E1259","v":0}]
[null,{"$f":"Data!$C$14","v":"Peper"},0,"x",{"$f":"Data!$F$14","v":8},"=",0]
[null,{"$f":"Data!$C$15","v":"Kabeljauwhaasje"},0,"x",{"$f":"Data!$F$15","v":8},"=",0]
[]
[null,{"$f":"Data!$C$17","v":"Totaal eten:"},null,null,null,null,{"$f":"SUM(G1251:G1262)","v":0}]
[null,{"$f":"Data!$C$18","v":"Totaal kaarten:"},{"$f":"C1240","v":0},"x",{"$f":"Data!$F$18","v":3},"=",{"$f":"-(C1264*E1264)","v":0}]
[]
[]
[null,{"$f":"Data!$C$21","v":"Totaal te betalen:"},null,null,null,null,{"$f":"G1263+G1264","v":0}]
[]
[{"$f":"Data!$A$23","v":"TGV Opstal dankt u voor uw aanwezigheid!  Eet smakelijk!"}]
["Fietsclub TGV Opstal",null,null,null,null,null,"Tafel nr:"]
[{"$f":"A1224+1","v":28},null,null,null,null,null,null,null,null,null,null,{"$f":"A1271","v":28}]
[]
[{"$f":"Data!$B$4","v":"Kalkoenfilet"},null,null,null,null,null,null,null,null,null,null,"Kalkoenfilet"]
[null,{"$f":"Data!$C$5","v":"Natuur"},null,"x",{"$f":"Data!$F$5","v":17},"=",{"$f":"C1274*E1274","v":0},null,null,null,null,null,"Natuur",null,{"$f":"C1274","v":0}]
[null,{"$f":"Data!$C$6","v":"Champignons"},null,"x",{"$f":"Data!$F$6","v":17},"=",{"$f":"C1275*E1275","v":0},null,null,null,null,null,"Champignons",null,null,{"$f":"C1275","v":0}]
[null,{"$f":"Data!$C$7","v":"Peper"},null,"x",{"$f":"Data!$F$7","v":17},"=",{"$f":"C1276*E1276","v":0},null,null,null,null,null,"Peper",null,null,null,{"$f":"C1276","v":0}]
[]
[{"$f":"Data!$B$9","v":"Kabeljauwhaasje"},null,null,"x",{"$f":"Data!$F$9","v":17},"=",{"$f":"C1278*E1278","v":0},null,null,null,null,"Kabeljauwhaasje",null,null,null,null,null,{"$f":"C1278","v":0}]
[]
[{"$f":"Data!$B$11","v":"Kindermenu"},null,null,null,null,null,null,null,null,null,null,"Kindermenu"]
[null,{"$f":"Data!$C$12","v":"Natuur"},null,"x",{"$f":"Data!$F$12","v":8},"=",{"$f":"C1281*E1281","v":0},null,null,null,null,null,"Natuur",null,null,null,null,null,{"$f":"C1281","v":0}]
[null,{"$f":"Data!$C$13","v":"Champignons"},null,"x",{"$f":"Data!$F$13","v":8},"=",{"$f":"C1282*E1282","v":0},null,null,null,null,null,"Champignons",null,null,null,null,null,null,{"$f":"C1282","v":0}]
[null,{"$f":"Data!$C$14","v":"Peper"},null,"x",{"$f":"Data!$F$14","v":8},"=",0,null,null,null,null,null,"Peper",null,null,null,null,null,null,null,{"$f":"C1283","v":0}]
[null,{"$f":"Data!$C$15","v":"Kabeljauwhaasje"},null,"x",{"$f":"Data!$F$15","v":8},"=",0,null,null,null,null,null,"Kabeljauwhaasje",null,null,null,null,null,null,null,null,{"$f":"C1284","v":0}]
[]
[null,{"$f":"Data!$C$17","v":"Totaal eten:"},null,null,null,null,{"$f":"SUM(G1274:G1285)","v":0},null,null,null,null,null,"Totaal eten:",null,null,null,null,null,null,null,null,null,{"$f":"G1286","v":0}]
[null,{"$f":"Data!$C$18","v":"Totaal kaarten:"},null,"x",{"$f":"Data!$F$18","v":3},"=",{"$f":"-(C1287*E1287)","v":0}]
[null,null,null,null,null,null,null,null,null,null,null,null,"Totaal kaarten (bedrag):",null,null,null,null,null,null,null,null,null,null,{"$f":"C1287","v":0}]
[]
[null,{"$f":"Data!$C$21","v":"Totaal te betalen:"},null,null,null,null,{"$f":"G1286+G1287","v":0},null,null,null,null,null,"Totaal te betalen:",null,null,null,null,null,null,null,null,null,null,null,{"$f":"G1290","v":0}]
[]
[{"$f":"Data!$A$23","v":"TGV Opstal dankt u voor uw aanwezigheid!  Eet smakelijk!"}]
[]
["Fietsclub TGV Opstal",null,null,null,null,null,"Tafel nr:"]
[{"$f":"A1271","v":28}]
[]
[{"$f":"Data!$B$4","v":"Kalkoenfilet"}]
[null,{"$f":"Data!$C$5","v":"Natuur"},{"$f":"C1274","v":0},"x",{"$f":"Data!$F$5","v":17},"=",{"$f":"C1298*E1298","v":0}]
[null,{"$f":"Data!$C$6","v":"Champignons"},{"$f":"C1275","v":0},"x",{"$f":"Data!$F$6","v":17},"=",{"$f":"C1299*E1299","v":0}]
[null,{"$f":"Data!$C$7","v":"Peper"},0,"x",{"$f":"Data!$F$7","v":17},"=",{"$f":"C1300*E1300","v":0}]
[]
[{"$f":"Data!$B$9","v":"Kabeljauwhaasje"},null,0,"x",{"$f":"Data!$F$9","v":17},"=",{"$f":"C1302*E1302","v":0}]
[]
[{"$f":"Data!$B$11","v":"Kindermenu"}]
[null,{"$f":"Data!$C$12","v":"Natuur"},0,"x",{"$f":"Data!$F$12","v":8},"=",{"$f":"C1305*E1305","v":0}]
[null,{"$f":"Data!$C$13","v":"Champignons"},0,"x",{"$f":"Data!$F$13","v":8},"=",{"$f":"C1306*E1306","v":0}]
[null,{"$f":"Data!$C$14","v":"Peper"},0,"x",{"$f":"Data!$F$14","v":8},"=",0]
[null,{"$f":"Data!$C$15","v":"Kabeljauwhaasje"},0,"x",{"$f":"Data!$F$15","v":8},"=",0]
[]
[null,{"$f":"Data!$C$17","v":"Totaal eten:"},null,null,null,null,{"$f":"SUM(G1298:G1309)","v":0}]
[null,{"$f":"Data!$C$18","v":"Totaal kaarten:"},{"$f":"C1287","v":0},"x",{"$f":"Data!$F$18","v":3},"=",{"$f":"-(C1311*E1311)","v":0}]
[]
[]
[null,{"$f":"Data!$C$21","v":"Totaal te betalen:"},null,null,null,null,{"$f":"G1310+G1311","v":0}]
[]
[{"$f":"Data!$A$23","v":"TGV Opstal dankt u voor uw aanwezigheid!  Eet smakelijk!"}]
["Fietsclub TGV Opstal",null,null,null,null,null,"Tafel nr:"]
[{"$f":"A1271+1","v":29},null,null,null,null,null,null,null,null,null,null,{"$f":"A1318","v":29}]
[]
[{"$f":"Data!$B$4","v":"Kalkoenfilet"},null,null,null,null,null,null,null,null,null,null,"Kalkoenfilet"]
[null,{"$f":"Data!$C$5","v":"Natuur"},null,"x",{"$f":"Data!$F$5","v":17},"=",{"$f":"C1321*E1321","v":0},null,null,null,null,null,"Natuur",null,{"$f":"C1321","v":0}]
[null,{"$f":"Data!$C$6","v":"Champignons"},null,"x",{"$f":"Data!$F$6","v":17},"=",{"$f":"C1322*E1322","v":0},null,null,null,null,null,"Champignons",null,null,{"$f":"C1322","v":0}]
[null,{"$f":"Data!$C$7","v":"Peper"},null,"x",{"$f":"Data!$F$7","v":17},"=",{"$f":"C1323*E1323","v":0},null,null,null,null,null,"Peper",null,null,null,{"$f":"C1323","v":0}]
[]
[{"$f":"Data!$B$9","v":"Kabeljauwhaasje"},null,null,"x",{"$f":"Data!$F$9","v":17},"=",{"$f":"C1325*E1325","v":0},null,null,null,null,"Kabeljauwhaasje",null,null,null,null,null,{"$f":"C1325","v":0}]
[]
[{"$f":"Data!$B$11","v":"Kindermenu"},null,null,null,null,null,null,null,null,null,null,"Kindermenu"]
[null,{"$f":"Data!$C$12","v":"Natuur"},null,"x",{"$f":"Data!$F$12","v":8},"=",{"$f":"C1328*E1328","v":0},null,null,null,null,null,"Natuur",null,null,null,null,null,{"$f":"C1328","v":0}]
[null,{"$f":"Data!$C$13","v":"Champignons"},null,"x",{"$f":"Data!$F$13","v":8},"=",{"$f":"C1329*E1329","v":0},null,null,null,null,null,"Champignons",null,null,null,null,null,null,{"$f":"C1329","v":0}]
[null,{"$f":"Data!$C$14","v":"Peper"},null,"x",{"$f":"Data!$F$14","v":8},"=",0,null,null,null,null,null,"Peper",null,null,null,null,null,null,null,{"$f":"C1330","v":0}]
[null,{"$f":"Data!$C$15","v":"Kabeljauwhaasje"},null,"x",{"$f":"Data!$F$15","v":8},"=",0,null,null,null,null,null,"Kabeljauwhaasje",null,null,null,null,null,null,null,null,{"$f":"C1331","v":0}]
[]
[null,{"$f":"Data!$C$17","v":"Totaal eten:"},null,null,null,null,{"$f":"SUM(G1321:G1332)","v":0},null,null,null,null,null,"Totaal eten:",null,null,null,null,null,null,null,null,null,{"$f":"G1333","v":0}]
[null,{"$f":"Data!$C$18","v":"Totaal kaarten:"},null,"x",{"$f":"Data!$F$18","v":3},"=",{"$f":"-(C1334*E1334)","v":0}]
[null,null,null,null,null,null,null,null,null,null,null,null,"Totaal kaarten (bedrag):",null,null,null,null,null,null,null,null,null,null,{"$f":"C1334","v":0}]
[]
[null,{"$f":"Data!$C$21","v":"Totaal te betalen:"},null,null,null,null,{"$f":"G1333+G1334","v":0},null,null,null,null,null,"Totaal te betalen:",null,null,null,null,null,null,null,null,null,null,null,{"$f":"G1337","v":0}]
[]
[{"$f":"Data!$A$23","v":"TGV Opstal dankt u voor uw aanwezigheid!  Eet smakelijk!"}]
[]
["Fietsclub TGV Opstal",null,null,null,null,null,"Tafel nr:"]
[{"$f":"A1318","v":29}]
[]
[{"$f":"Data!$B$4","v":"Kalkoenfilet"}]
[null,{"$f":"Data!$C$5","v":"Natuur"},{"$f":"C1321","v":0},"x",{"$f":"Data!$F$5","v":17},"=",{"$f":"C1345*E1345","v":0}]
[null,{"$f":"Data!$C$6","v":"Champignons"},{"$f":"C1322","v":0},"x",{"$f":"Data!$F$6","v":17},"=",{"$f":"C1346*E1346","v":0}]
[null,{"$f":"Data!$C$7","v":"Peper"},0,"x",{"$f":"Data!$F$7","v":17},"=",{"$f":"C1347*E1347","v":0}]
[]
[{"$f":"Data!$B$9","v":"Kabeljauwhaasje"},null,0,"x",{"$f":"Data!$F$9","v":17},"=",{"$f":"C1349*E1349","v":0}]
[]
[{"$f":"Data!$B$11","v":"Kindermenu"}]
[null,{"$f":"Data!$C$12","v":"Natuur"},0,"x",{"$f":"Data!$F$12","v":8},"=",{"$f":"C1352*E1352","v":0}]
[null,{"$f":"Data!$C$13","v":"Champignons"},0,"x",{"$f":"Data!$F$13","v":8},"=",{"$f":"C1353*E1353","v":0}]
[null,{"$f":"Data!$C$14","v":"Peper"},0,"x",{"$f":"Data!$F$14","v":8},"=",0]
[null,{"$f":"Data!$C$15","v":"Kabeljauwhaasje"},0,"x",{"$f":"Data!$F$15","v":8},"=",0]
[]
[null,{"$f":"Data!$C$17","v":"Totaal eten:"},null,null,null,null,{"$f":"SUM(G1345:G1356)","v":0}]
[null,{"$f":"Data!$C$18","v":"Totaal kaarten:"},{"$f":"C1334","v":0},"x",{"$f":"Data!$F$18","v":3},"=",{"$f":"-(C1358*E1358)","v":0}]
[]
[]
[null,{"$f":"Data!$C$21","v":"Totaal te betalen:"},null,null,null,null,{"$f":"G1357+G1358","v":0}]
[]
[{"$f":"Data!$A$23","v":"TGV Opstal dankt u voor uw aanwezigheid!  Eet smakelijk!"}]
["Fietsclub TGV Opstal",null,null,null,null,null,"Tafel nr:"]
[{"$f":"A1318+1","v":30},null,null,null,null,null,null,null,null,null,null,{"$f":"A1365","v":30}]
[]
[{"$f":"Data!$B$4","v":"Kalkoenfilet"},null,null,null,null,null,null,null,null,null,null,"Kalkoenfilet"]
[null,{"$f":"Data!$C$5","v":"Natuur"},null,"x",{"$f":"Data!$F$5","v":17},"=",{"$f":"C1368*E1368","v":0},null,null,null,null,null,"Natuur",null,{"$f":"C1368","v":0}]
[null,{"$f":"Data!$C$6","v":"Champignons"},null,"x",{"$f":"Data!$F$6","v":17},"=",{"$f":"C1369*E1369","v":0},null,null,null,null,null,"Champignons",null,null,{"$f":"C1369","v":0}]
[null,{"$f":"Data!$C$7","v":"Peper"},null,"x",{"$f":"Data!$F$7","v":17},"=",{"$f":"C1370*E1370","v":0},null,null,null,null,null,"Peper",null,null,null,{"$f":"C1370","v":0}]
[]
[{"$f":"Data!$B$9","v":"Kabeljauwhaasje"},null,null,"x",{"$f":"Data!$F$9","v":17},"=",{"$f":"C1372*E1372","v":0},null,null,null,null,"Kabeljauwhaasje",null,null,null,null,null,{"$f":"C1372","v":0}]
[]
[{"$f":"Data!$B$11","v":"Kindermenu"},null,null,null,null,null,null,null,null,null,null,"Kindermenu"]
[null,{"$f":"Data!$C$12","v":"Natuur"},null,"x",{"$f":"Data!$F$12","v":8},"=",{"$f":"C1375*E1375","v":0},null,null,null,null,null,"Natuur",null,null,null,null,null,{"$f":"C1375","v":0}]
[null,{"$f":"Data!$C$13","v":"Champignons"},null,"x",{"$f":"Data!$F$13","v":8},"=",{"$f":"C1376*E1376","v":0},null,null,null,null,null,"Champignons",null,null,null,null,null,null,{"$f":"C1376","v":0}]
[null,{"$f":"Data!$C$14","v":"Peper"},null,"x",{"$f":"Data!$F$14","v":8},"=",0,null,null,null,null,null,"Peper",null,null,null,null,null,null,null,{"$f":"C1377","v":0}]
[null,{"$f":"Data!$C$15","v":"Kabeljauwhaasje"},null,"x",{"$f":"Data!$F$15","v":8},"=",0,null,null,null,null,null,"Kabeljauwhaasje",null,null,null,null,null,null,null,null,{"$f":"C1378","v":0}]
[]
[null,{"$f":"Data!$C$17","v":"Totaal eten:"},null,null,null,null,{"$f":"SUM(G1368:G1379)","v":0},null,null,null,null,null,"Totaal eten:",null,null,null,null,null,null,null,null,null,{"$f":"G1380","v":0}]
[null,{"$f":"Data!$C$18","v":"Totaal kaarten:"},null,"x",{"$f":"Data!$F$18","v":3},"=",{"$f":"-(C1381*E1381)","v":0}]
[null,null,null,null,null,null,null,null,null,null,null,null,"Totaal kaarten (bedrag):",null,null,null,null,null,null,null,null,null,null,{"$f":"C1381","v":0}]
[]
[null,{"$f":"Data!$C$21","v":"Totaal te betalen:"},null,null,null,null,{"$f":"G1380+G1381","v":0},null,null,null,null,null,"Totaal te betalen:",null,null,null,null,null,null,null,null,null,null,null,{"$f":"G1384","v":0}]
[]
[{"$f":"Data!$A$23","v":"TGV Opstal dankt u voor uw aanwezigheid!  Eet smakelijk!"}]
[]
["Fietsclub TGV Opstal",null,null,null,null,null,"Tafel nr:"]
[{"$f":"A1365","v":30}]
[]
[{"$f":"Data!$B$4","v":"Kalkoenfilet"}]
[null,{"$f":"Data!$C$5","v":"Natuur"},{"$f":"C1368","v":0},"x",{"$f":"Data!$F$5","v":17},"=",{"$f":"C1392*E1392","v":0}]
[null,{"$f":"Data!$C$6","v":"Champignons"},{"$f":"C1369","v":0},"x",{"$f":"Data!$F$6","v":17},"=",{"$f":"C1393*E1393","v":0}]
[null,{"$f":"Data!$C$7","v":"Peper"},0,"x",{"$f":"Data!$F$7","v":17},"=",{"$f":"C1394*E1394","v":0}]
[]
[{"$f":"Data!$B$9","v":"Kabeljauwhaasje"},null,0,"x",{"$f":"Data!$F$9","v":17},"=",{"$f":"C1396*E1396","v":0}]
[]
[{"$f":"Data!$B$11","v":"Kindermenu"}]
[null,{"$f":"Data!$C$12","v":"Natuur"},0,"x",{"$f":"Data!$F$12","v":8},"=",{"$f":"C1399*E1399","v":0}]
[null,{"$f":"Data!$C$13","v":"Champignons"},0,"x",{"$f":"Data!$F$13","v":8},"=",{"$f":"C1400*E1400","v":0}]
[null,{"$f":"Data!$C$14","v":"Peper"},0,"x",{"$f":"Data!$F$14","v":8},"=",0]
[null,{"$f":"Data!$C$15","v":"Kabeljauwhaasje"},0,"x",{"$f":"Data!$F$15","v":8},"=",0]
[]
[null,{"$f":"Data!$C$17","v":"Totaal eten:"},null,null,null,null,{"$f":"SUM(G1392:G1403)","v":0}]
[null,{"$f":"Data!$C$18","v":"Totaal kaarten:"},{"$f":"C1381","v":0},"x",{"$f":"Data!$F$18","v":3},"=",{"$f":"-(C1405*E1405)","v":0}]
[]
[]
[null,{"$f":"Data!$C$21","v":"Totaal te betalen:"},null,null,null,null,{"$f":"G1404+G1405","v":0}]
[]
[{"$f":"Data!$A$23","v":"TGV Opstal dankt u voor uw aanwezigheid!  Eet smakelijk!"}]
["Fietsclub TGV Opstal",null,null,null,null,null,"Tafel nr:"]
[{"$f":"A1365+1","v":31},null,null,null,null,null,null,null,null,null,null,{"$f":"A1412","v":31}]
[]
[{"$f":"Data!$B$4","v":"Kalkoenfilet"},null,null,null,null,null,null,null,null,null,null,"Kalkoenfilet"]
[null,{"$f":"Data!$C$5","v":"Natuur"},null,"x",{"$f":"Data!$F$5","v":17},"=",{"$f":"C1415*E1415","v":0},null,null,null,null,null,"Natuur",null,{"$f":"C1415","v":0}]
[null,{"$f":"Data!$C$6","v":"Champignons"},null,"x",{"$f":"Data!$F$6","v":17},"=",{"$f":"C1416*E1416","v":0},null,null,null,null,null,"Champignons",null,null,{"$f":"C1416","v":0}]
[null,{"$f":"Data!$C$7","v":"Peper"},null,"x",{"$f":"Data!$F$7","v":17},"=",{"$f":"C1417*E1417","v":0},null,null,null,null,null,"Peper",null,null,null,{"$f":"C1417","v":0}]
[]
[{"$f":"Data!$B$9","v":"Kabeljauwhaasje"},null,null,"x",{"$f":"Data!$F$9","v":17},"=",{"$f":"C1419*E1419","v":0},null,null,null,null,"Kabeljauwhaasje",null,null,null,null,null,{"$f":"C1419","v":0}]
[]
[{"$f":"Data!$B$11","v":"Kindermenu"},null,null,null,null,null,null,null,null,null,null,"Kindermenu"]
[null,{"$f":"Data!$C$12","v":"Natuur"},null,"x",{"$f":"Data!$F$12","v":8},"=",{"$f":"C1422*E1422","v":0},null,null,null,null,null,"Natuur",null,null,null,null,null,{"$f":"C1422","v":0}]
[null,{"$f":"Data!$C$13","v":"Champignons"},null,"x",{"$f":"Data!$F$13","v":8},"=",{"$f":"C1423*E1423","v":0},null,null,null,null,null,"Champignons",null,null,null,null,null,null,{"$f":"C1423","v":0}]
[null,{"$f":"Data!$C$14","v":"Peper"},null,"x",{"$f":"Data!$F$14","v":8},"=",0,null,null,null,null,null,"Peper",null,null,null,null,null,null,null,{"$f":"C1424","v":0}]
[null,{"$f":"Data!$C$15","v":"Kabeljauwhaasje"},null,"x",{"$f":"Data!$F$15","v":8},"=",0,null,null,null,null,null,"Kabeljauwhaasje",null,null,null,null,null,null,null,null,{"$f":"C1425","v":0}]
[]
[null,{"$f":"Data!$C$17","v":"Totaal eten:"},null,null,null,null,{"$f":"SUM(G1415:G1426)","v":0},null,null,null,null,null,"Totaal eten:",null,null,null,null,null,null,null,null,null,{"$f":"G1427","v":0}]
[null,{"$f":"Data!$C$18","v":"Totaal kaarten:"},null,"x",{"$f":"Data!$F$18","v":3},"=",{"$f":"-(C1428*E1428)","v":0}]
[null,null,null,null,null,null,null,null,null,null,null,null,"Totaal kaarten (bedrag):",null,null,null,null,null,null,null,null,null,null,{"$f":"C1428","v":0}]
[]
[null,{"$f":"Data!$C$21","v":"Totaal te betalen:"},null,null,null,null,{"$f":"G1427+G1428","v":0},null,null,null,null,null,"Totaal te betalen:",null,null,null,null,null,null,null,null,null,null,null,{"$f":"G1431","v":0}]
[]
[{"$f":"Data!$A$23","v":"TGV Opstal dankt u voor uw aanwezigheid!  Eet smakelijk!"}]
[]
["Fietsclub TGV Opstal",null,null,null,null,null,"Tafel nr:"]
[{"$f":"A1412","v":31}]
[]
[{"$f":"Data!$B$4","v":"Kalkoenfilet"}]
[null,{"$f":"Data!$C$5","v":"Natuur"},{"$f":"C1415","v":0},"x",{"$f":"Data!$F$5","v":17},"=",{"$f":"C1439*E1439","v":0}]
[null,{"$f":"Data!$C$6","v":"Champignons"},{"$f":"C1416","v":0},"x",{"$f":"Data!$F$6","v":17},"=",{"$f":"C1440*E1440","v":0}]
[null,{"$f":"Data!$C$7","v":"Peper"},0,"x",{"$f":"Data!$F$7","v":17},"=",{"$f":"C1441*E1441","v":0}]
[]
[{"$f":"Data!$B$9","v":"Kabeljauwhaasje"},null,0,"x",{"$f":"Data!$F$9","v":17},"=",{"$f":"C1443*E1443","v":0}]
[]
[{"$f":"Data!$B$11","v":"Kindermenu"}]
[null,{"$f":"Data!$C$12","v":"Natuur"},0,"x",{"$f":"Data!$F$12","v":8},"=",{"$f":"C1446*E1446","v":0}]
[null,{"$f":"Data!$C$13","v":"Champignons"},0,"x",{"$f":"Data!$F$13","v":8},"=",{"$f":"C1447*E1447","v":0}]
[null,{"$f":"Data!$C$14","v":"Peper"},0,"x",{"$f":"Data!$F$14","v":8},"=",0]
[null,{"$f":"Data!$C$15","v":"Kabeljauwhaasje"},0,"x",{"$f":"Data!$F$15","v":8},"=",0]
[]
[null,{"$f":"Data!$C$17","v":"Totaal eten:"},null,null,null,null,{"$f":"SUM(G1439:G1450)","v":0}]
[null,{"$f":"Data!$C$18","v":"Totaal kaarten:"},{"$f":"C1428","v":0},"x",{"$f":"Data!$F$18","v":3},"=",{"$f":"-(C1452*E1452)","v":0}]
[]
[]
[null,{"$f":"Data!$C$21","v":"Totaal te betalen:"},null,null,null,null,{"$f":"G1451+G1452","v":0}]
[]
[{"$f":"Data!$A$23","v":"TGV Opstal dankt u voor uw aanwezigheid!  Eet smakelijk!"}]
["Fietsclub TGV Opstal",null,null,null,null,null,"Tafel nr:"]
[{"$f":"A1412+1","v":32},null,null,null,null,null,null,null,null,null,null,{"$f":"A1459","v":32}]
[]
[{"$f":"Data!$B$4","v":"Kalkoenfilet"},null,null,null,null,null,null,null,null,null,null,"Kalkoenfilet"]
[null,{"$f":"Data!$C$5","v":"Natuur"},null,"x",{"$f":"Data!$F$5","v":17},"=",{"$f":"C1462*E1462","v":0},null,null,null,null,null,"Natuur",null,{"$f":"C1462","v":0}]
[null,{"$f":"Data!$C$6","v":"Champignons"},null,"x",{"$f":"Data!$F$6","v":17},"=",{"$f":"C1463*E1463","v":0},null,null,null,null,null,"Champignons",null,null,{"$f":"C1463","v":0}]
[null,{"$f":"Data!$C$7","v":"Peper"},null,"x",{"$f":"Data!$F$7","v":17},"=",{"$f":"C1464*E1464","v":0},null,null,null,null,null,"Peper",null,null,null,{"$f":"C1464","v":0}]
[]
[{"$f":"Data!$B$9","v":"Kabeljauwhaasje"},null,null,"x",{"$f":"Data!$F$9","v":17},"=",{"$f":"C1466*E1466","v":0},null,null,null,null,"Kabeljauwhaasje",null,null,null,null,null,{"$f":"C1466","v":0}]
[]
[{"$f":"Data!$B$11","v":"Kindermenu"},null,null,null,null,null,null,null,null,null,null,"Kindermenu"]
[null,{"$f":"Data!$C$12","v":"Natuur"},null,"x",{"$f":"Data!$F$12","v":8},"=",{"$f":"C1469*E1469","v":0},null,null,null,null,null,"Natuur",null,null,null,null,null,{"$f":"C1469","v":0}]
[null,{"$f":"Data!$C$13","v":"Champignons"},null,"x",{"$f":"Data!$F$13","v":8},"=",{"$f":"C1470*E1470","v":0},null,null,null,null,null,"Champignons",null,null,null,null,null,null,{"$f":"C1470","v":0}]
[null,{"$f":"Data!$C$14","v":"Peper"},null,"x",{"$f":"Data!$F$14","v":8},"=",0,null,null,null,null,null,"Peper",null,null,null,null,null,null,null,{"$f":"C1471","v":0}]
[null,{"$f":"Data!$C$15","v":"Kabeljauwhaasje"},null,"x",{"$f":"Data!$F$15","v":8},"=",0,null,null,null,null,null,"Kabeljauwhaasje",null,null,null,null,null,null,null,null,{"$f":"C1472","v":0}]
[]
[null,{"$f":"Data!$C$17","v":"Totaal eten:"},null,null,null,null,{"$f":"SUM(G1462:G1473)","v":0},null,null,null,null,null,"Totaal eten:",null,null,null,null,null,null,null,null,null,{"$f":"G1474","v":0}]
[null,{"$f":"Data!$C$18","v":"Totaal kaarten:"},null,"x",{"$f":"Data!$F$18","v":3},"=",{"$f":"-(C1475*E1475)","v":0}]
[null,null,null,null,null,null,null,null,null,null,null,null,"Totaal kaarten (bedrag):",null,null,null,null,null,null,null,null,null,null,{"$f":"C1475","v":0}]
[]
[null,{"$f":"Data!$C$21","v":"Totaal te betalen:"},null,null,null,null,{"$f":"G1474+G1475","v":0},null,null,null,null,null,"Totaal te betalen:",null,null,null,null,null,null,null,null,null,null,null,{"$f":"G1478","v":0}]
[]
[{"$f":"Data!$A$23","v":"TGV Opstal dankt u voor uw aanwezigheid!  Eet smakelijk!"}]
[]
["Fietsclub TGV Opstal",null,null,null,null,null,"Tafel nr:"]
[{"$f":"A1459","v":32}]
[]
[{"$f":"Data!$B$4","v":"Kalkoenfilet"}]
[null,{"$f":"Data!$C$5","v":"Natuur"},{"$f":"C1462","v":0},"x",{"$f":"Data!$F$5","v":17},"=",{"$f":"C1486*E1486","v":0}]
[null,{"$f":"Data!$C$6","v":"Champignons"},{"$f":"C1463","v":0},"x",{"$f":"Data!$F$6","v":17},"=",{"$f":"C1487*E1487","v":0}]
[null,{"$f":"Data!$C$7","v":"Peper"},0,"x",{"$f":"Data!$F$7","v":17},"=",{"$f":"C1488*E1488","v":0}]
[]
[{"$f":"Data!$B$9","v":"Kabeljauwhaasje"},null,0,"x",{"$f":"Data!$F$9","v":17},"=",{"$f":"C1490*E1490","v":0}]
[]
[{"$f":"Data!$B$11","v":"Kindermenu"}]
[null,{"$f":"Data!$C$12","v":"Natuur"},0,"x",{"$f":"Data!$F$12","v":8},"=",{"$f":"C1493*E1493","v":0}]
[null,{"$f":"Data!$C$13","v":"Champignons"},0,"x",{"$f":"Data!$F$13","v":8},"=",{"$f":"C1494*E1494","v":0}]
[null,{"$f":"Data!$C$14","v":"Peper"},0,"x",{"$f":"Data!$F$14","v":8},"=",0]
[null,{"$f":"Data!$C$15","v":"Kabeljauwhaasje"},0,"x",{"$f":"Data!$F$15","v":8},"=",0]
[]
[null,{"$f":"Data!$C$17","v":"Totaal eten:"},null,null,null,null,{"$f":"SUM(G1486:G1497)","v":0}]
[null,{"$f":"Data!$C$18","v":"Totaal kaarten:"},{"$f":"C1475","v":0},"x",{"$f":"Data!$F$18","v":3},"=",{"$f":"-(C1499*E1499)","v":0}]
[]
[]
[null,{"$f":"Data!$C$21","v":"Totaal te betalen:"},null,null,null,null,{"$f":"G1498+G1499","v":0}]
[]
[{"$f":"Data!$A$23","v":"TGV Opstal dankt u voor uw aanwezigheid!  Eet smakelijk!"}]
["Fietsclub TGV Opstal",null,null,null,null,null,"Tafel nr:"]
[{"$f":"A1459+1","v":33},null,null,null,null,null,null,null,null,null,null,{"$f":"A1506","v":33}]
[]
[{"$f":"Data!$B$4","v":"Kalkoenfilet"},null,null,null,null,null,null,null,null,null,null,"Kalkoenfilet"]
[null,{"$f":"Data!$C$5","v":"Natuur"},null,"x",{"$f":"Data!$F$5","v":17},"=",{"$f":"C1509*E1509","v":0},null,null,null,null,null,"Natuur",null,{"$f":"C1509","v":0}]
[null,{"$f":"Data!$C$6","v":"Champignons"},null,"x",{"$f":"Data!$F$6","v":17},"=",{"$f":"C1510*E1510","v":0},null,null,null,null,null,"Champignons",null,null,{"$f":"C1510","v":0}]
[null,{"$f":"Data!$C$7","v":"Peper"},null,"x",{"$f":"Data!$F$7","v":17},"=",{"$f":"C1511*E1511","v":0},null,null,null,null,null,"Peper",null,null,null,{"$f":"C1511","v":0}]
[]
[{"$f":"Data!$B$9","v":"Kabeljauwhaasje"},null,null,"x",{"$f":"Data!$F$9","v":17},"=",{"$f":"C1513*E1513","v":0},null,null,null,null,"Kabeljauwhaasje",null,null,null,null,null,{"$f":"C1513","v":0}]
[]
[{"$f":"Data!$B$11","v":"Kindermenu"},null,null,null,null,null,null,null,null,null,null,"Kindermenu"]
[null,{"$f":"Data!$C$12","v":"Natuur"},null,"x",{"$f":"Data!$F$12","v":8},"=",{"$f":"C1516*E1516","v":0},null,null,null,null,null,"Natuur",null,null,null,null,null,{"$f":"C1516","v":0}]
[null,{"$f":"Data!$C$13","v":"Champignons"},null,"x",{"$f":"Data!$F$13","v":8},"=",{"$f":"C1517*E1517","v":0},null,null,null,null,null,"Champignons",null,null,null,null,null,null,{"$f":"C1517","v":0}]
[null,{"$f":"Data!$C$14","v":"Peper"},null,"x",{"$f":"Data!$F$14","v":8},"=",0,null,null,null,null,null,"Peper",null,null,null,null,null,null,null,{"$f":"C1518","v":0}]
[null,{"$f":"Data!$C$15","v":"Kabeljauwhaasje"},null,"x",{"$f":"Data!$F$15","v":8},"=",0,null,null,null,null,null,"Kabeljauwhaasje",null,null,null,null,null,null,null,null,{"$f":"C1519","v":0}]
[]
[null,{"$f":"Data!$C$17","v":"Totaal eten:"},null,null,null,null,{"$f":"SUM(G1509:G1520)","v":0},null,null,null,null,null,"Totaal eten:",null,null,null,null,null,null,null,null,null,{"$f":"G1521","v":0}]
[null,{"$f":"Data!$C$18","v":"Totaal kaarten:"},null,"x",{"$f":"Data!$F$18","v":3},"=",{"$f":"-(C1522*E1522)","v":0}]
[null,null,null,null,null,null,null,null,null,null,null,null,"Totaal kaarten (bedrag):",null,null,null,null,null,null,null,null,null,null,{"$f":"C1522","v":0}]
[]
[null,{"$f":"Data!$C$21","v":"Totaal te betalen:"},null,null,null,null,{"$f":"G1521+G1522","v":0},null,null,null,null,null,"Totaal te betalen:",null,null,null,null,null,null,null,null,null,null,null,{"$f":"G1525","v":0}]
[]
[{"$f":"Data!$A$23","v":"TGV Opstal dankt u voor uw aanwezigheid!  Eet smakelijk!"}]
[]
["Fietsclub TGV Opstal",null,null,null,null,null,"Tafel nr:"]
[{"$f":"A1506","v":33}]
[]
[{"$f":"Data!$B$4","v":"Kalkoenfilet"}]
[null,{"$f":"Data!$C$5","v":"Natuur"},{"$f":"C1509","v":0},"x",{"$f":"Data!$F$5","v":17},"=",{"$f":"C1533*E1533","v":0}]
[null,{"$f":"Data!$C$6","v":"Champignons"},{"$f":"C1510","v":0},"x",{"$f":"Data!$F$6","v":17},"=",{"$f":"C1534*E1534","v":0}]
[null,{"$f":"Data!$C$7","v":"Peper"},0,"x",{"$f":"Data!$F$7","v":17},"=",{"$f":"C1535*E1535","v":0}]
[]
[{"$f":"Data!$B$9","v":"Kabeljauwhaasje"},null,0,"x",{"$f":"Data!$F$9","v":17},"=",{"$f":"C1537*E1537","v":0}]
[]
[{"$f":"Data!$B$11","v":"Kindermenu"}]
[null,{"$f":"Data!$C$12","v":"Natuur"},0,"x",{"$f":"Data!$F$12","v":8},"=",{"$f":"C1540*E1540","v":0}]
[null,{"$f":"Data!$C$13","v":"Champignons"},0,"x",{"$f":"Data!$F$13","v":8},"=",{"$f":"C1541*E1541","v":0}]
[null,{"$f":"Data!$C$14","v":"Peper"},0,"x",{"$f":"Data!$F$14","v":8},"=",0]
[null,{"$f":"Data!$C$15","v":"Kabeljauwhaasje"},0,"x",{"$f":"Data!$F$15","v":8},"=",0]
[]
[null,{"$f":"Data!$C$17","v":"Totaal eten:"},null,null,null,null,{"$f":"SUM(G1533:G1544)","v":0}]
[null,{"$f":"Data!$C$18","v":"Totaal kaarten:"},{"$f":"C1522","v":0},"x",{"$f":"Data!$F$18","v":3},"=",{"$f":"-(C1546*E1546)","v":0}]
[]
[]
[null,{"$f":"Data!$C$21","v":"Totaal te betalen:"},null,null,null,null,{"$f":"G1545+G1546","v":0}]
[]
[{"$f":"Data!$A$23","v":"TGV Opstal dankt u voor uw aanwezigheid!  Eet smakelijk!"}]
["Fietsclub TGV Opstal",null,null,null,null,null,"Tafel nr:"]
[{"$f":"A1506+1","v":34},null,null,null,null,null,null,null,null,null,null,{"$f":"A1553","v":34}]
[]
[{"$f":"Data!$B$4","v":"Kalkoenfilet"},null,null,null,null,null,null,null,null,null,null,"Kalkoenfilet"]
[null,{"$f":"Data!$C$5","v":"Natuur"},null,"x",{"$f":"Data!$F$5","v":17},"=",{"$f":"C1556*E1556","v":0},null,null,null,null,null,"Natuur",null,{"$f":"C1556","v":0}]
[null,{"$f":"Data!$C$6","v":"Champignons"},null,"x",{"$f":"Data!$F$6","v":17},"=",{"$f":"C1557*E1557","v":0},null,null,null,null,null,"Champignons",null,null,{"$f":"C1557","v":0}]
[null,{"$f":"Data!$C$7","v":"Peper"},null,"x",{"$f":"Data!$F$7","v":17},"=",{"$f":"C1558*E1558","v":0},null,null,null,null,null,"Peper",null,null,null,{"$f":"C1558","v":0}]
[]
[{"$f":"Data!$B$9","v":"Kabeljauwhaasje"},null,null,"x",{"$f":"Data!$F$9","v":17},"=",{"$f":"C1560*E1560","v":0},null,null,null,null,"Kabeljauwhaasje",null,null,null,null,null,{"$f":"C1560","v":0}]
[]
[{"$f":"Data!$B$11","v":"Kindermenu"},null,null,null,null,null,null,null,null,null,null,"Kindermenu"]
[null,{"$f":"Data!$C$12","v":"Natuur"},null,"x",{"$f":"Data!$F$12","v":8},"=",{"$f":"C1563*E1563","v":0},null,null,null,null,null,"Natuur",null,null,null,null,null,{"$f":"C1563","v":0}]
[null,{"$f":"Data!$C$13","v":"Champignons"},null,"x",{"$f":"Data!$F$13","v":8},"=",{"$f":"C1564*E1564","v":0},null,null,null,null,null,"Champignons",null,null,null,null,null,null,{"$f":"C1564","v":0}]
[null,{"$f":"Data!$C$14","v":"Peper"},null,"x",{"$f":"Data!$F$14","v":8},"=",0,null,null,null,null,null,"Peper",null,null,null,null,null,null,null,{"$f":"C1565","v":0}]
[null,{"$f":"Data!$C$15","v":"Kabeljauwhaasje"},null,"x",{"$f":"Data!$F$15","v":8},"=",0,null,null,null,null,null,"Kabeljauwhaasje",null,null,null,null,null,null,null,null,{"$f":"C1566","v":0}]
[]
[null,{"$f":"Data!$C$17","v":"Totaal eten:"},null,null,null,null,{"$f":"SUM(G1556:G1567)","v":0},null,null,null,null,null,"Totaal eten:",null,null,null,null,null,null,null,null,null,{"$f":"G1568","v":0}]
[null,{"$f":"Data!$C$18","v":"Totaal kaarten:"},null,"x",{"$f":"Data!$F$18","v":3},"=",{"$f":"-(C1569*E1569)","v":0}]
[null,null,null,null,null,null,null,null,null,null,null,null,"Totaal kaarten (bedrag):",null,null,null,null,null,null,null,null,null,null,{"$f":"C1569","v":0}]
[]
[null,{"$f":"Data!$C$21","v":"Totaal te betalen:"},null,null,null,null,{"$f":"G1568+G1569","v":0},null,null,null,null,null,"Totaal te betalen:",null,null,null,null,null,null,null,null,null,null,null,{"$f":"G1572","v":0}]
[]
[{"$f":"Data!$A$23","v":"TGV Opstal dankt u voor uw aanwezigheid!  Eet smakelijk!"}]
[]
["Fietsclub TGV Opstal",null,null,null,null,null,"Tafel nr:"]
[{"$f":"A1553","v":34}]
[]
[{"$f":"Data!$B$4","v":"Kalkoenfilet"}]
[null,{"$f":"Data!$C$5","v":"Natuur"},{"$f":"C1556","v":0},"x",{"$f":"Data!$F$5","v":17},"=",{"$f":"C1580*E1580","v":0}]
[null,{"$f":"Data!$C$6","v":"Champignons"},{"$f":"C1557","v":0},"x",{"$f":"Data!$F$6","v":17},"=",{"$f":"C1581*E1581","v":0}]
[null,{"$f":"Data!$C$7","v":"Peper"},0,"x",{"$f":"Data!$F$7","v":17},"=",{"$f":"C1582*E1582","v":0}]
[]
[{"$f":"Data!$B$9","v":"Kabeljauwhaasje"},null,0,"x",{"$f":"Data!$F$9","v":17},"=",{"$f":"C1584*E1584","v":0}]
[]
[{"$f":"Data!$B$11","v":"Kindermenu"}]
[null,{"$f":"Data!$C$12","v":"Natuur"},0,"x",{"$f":"Data!$F$12","v":8},"=",{"$f":"C1587*E1587","v":0}]
[null,{"$f":"Data!$C$13","v":"Champignons"},0,"x",{"$f":"Data!$F$13","v":8},"=",{"$f":"C1588*E1588","v":0}]
[null,{"$f":"Data!$C$14","v":"Peper"},0,"x",{"$f":"Data!$F$14","v":8},"=",0]
[null,{"$f":"Data!$C$15","v":"Kabeljauwhaasje"},0,"x",{"$f":"Data!$F$15","v":8},"=",0]
[]
[null,{"$f":"Data!$C$17","v":"Totaal eten:"},null,null,null,null,{"$f":"SUM(G1580:G1591)","v":0}]
[null,{"$f":"Data!$C$18","v":"Totaal kaarten:"},{"$f":"C1569","v":0},"x",{"$f":"Data!$F$18","v":3},"=",{"$f":"-(C1593*E1593)","v":0}]
[]
[]
[null,{"$f":"Data!$C$21","v":"Totaal te betalen:"},null,null,null,null,{"$f":"G1592+G1593","v":0}]
[]
[{"$f":"Data!$A$23","v":"TGV Opstal dankt u voor uw aanwezigheid!  Eet smakelijk!"}]
["Fietsclub TGV Opstal",null,null,null,null,null,"Tafel nr:"]
[{"$f":"A1553+1","v":35},null,null,null,null,null,null,null,null,null,null,{"$f":"A1600","v":35}]
[]
[{"$f":"Data!$B$4","v":"Kalkoenfilet"},null,null,null,null,null,null,null,null,null,null,"Kalkoenfilet"]
[null,{"$f":"Data!$C$5","v":"Natuur"},null,"x",{"$f":"Data!$F$5","v":17},"=",{"$f":"C1603*E1603","v":0},null,null,null,null,null,"Natuur",null,{"$f":"C1603","v":0}]
[null,{"$f":"Data!$C$6","v":"Champignons"},null,"x",{"$f":"Data!$F$6","v":17},"=",{"$f":"C1604*E1604","v":0},null,null,null,null,null,"Champignons",null,null,{"$f":"C1604","v":0}]
[null,{"$f":"Data!$C$7","v":"Peper"},null,"x",{"$f":"Data!$F$7","v":17},"=",{"$f":"C1605*E1605","v":0},null,null,null,null,null,"Peper",null,null,null,{"$f":"C1605","v":0}]
[]
[{"$f":"Data!$B$9","v":"Kabeljauwhaasje"},null,null,"x",{"$f":"Data!$F$9","v":17},"=",{"$f":"C1607*E1607","v":0},null,null,null,null,"Kabeljauwhaasje",null,null,null,null,null,{"$f":"C1607","v":0}]
[]
[{"$f":"Data!$B$11","v":"Kindermenu"},null,null,null,null,null,null,null,null,null,null,"Kindermenu"]
[null,{"$f":"Data!$C$12","v":"Natuur"},null,"x",{"$f":"Data!$F$12","v":8},"=",{"$f":"C1610*E1610","v":0},null,null,null,null,null,"Natuur",null,null,null,null,null,{"$f":"C1610","v":0}]
[null,{"$f":"Data!$C$13","v":"Champignons"},null,"x",{"$f":"Data!$F$13","v":8},"=",{"$f":"C1611*E1611","v":0},null,null,null,null,null,"Champignons",null,null,null,null,null,null,{"$f":"C1611","v":0}]
[null,{"$f":"Data!$C$14","v":"Peper"},null,"x",{"$f":"Data!$F$14","v":8},"=",0,null,null,null,null,null,"Peper",null,null,null,null,null,null,null,{"$f":"C1612","v":0}]
[null,{"$f":"Data!$C$15","v":"Kabeljauwhaasje"},null,"x",{"$f":"Data!$F$15","v":8},"=",0,null,null,null,null,null,"Kabeljauwhaasje",null,null,null,null,null,null,null,null,{"$f":"C1613","v":0}]
[]
[null,{"$f":"Data!$C$17","v":"Totaal eten:"},null,null,null,null,{"$f":"SUM(G1603:G1614)","v":0},null,null,null,null,null,"Totaal eten:",null,null,null,null,null,null,null,null,null,{"$f":"G1615","v":0}]
[null,{"$f":"Data!$C$18","v":"Totaal kaarten:"},null,"x",{"$f":"Data!$F$18","v":3},"=",{"$f":"-(C1616*E1616)","v":0}]
[null,null,null,null,null,null,null,null,null,null,null,null,"Totaal kaarten (bedrag):",null,null,null,null,null,null,null,null,null,null,{"$f":"C1616","v":0}]
[]
[null,{"$f":"Data!$C$21","v":"Totaal te betalen:"},null,null,null,null,{"$f":"G1615+G1616","v":0},null,null,null,null,null,"Totaal te betalen:",null,null,null,null,null,null,null,null,null,null,null,{"$f":"G1619","v":0}]
[]
[{"$f":"Data!$A$23","v":"TGV Opstal dankt u voor uw aanwezigheid!  Eet smakelijk!"}]
[]
["Fietsclub TGV Opstal",null,null,null,null,null,"Tafel nr:"]
[{"$f":"A1600","v":35}]
[]
[{"$f":"Data!$B$4","v":"Kalkoenfilet"}]
[null,{"$f":"Data!$C$5","v":"Natuur"},{"$f":"C1603","v":0},"x",{"$f":"Data!$F$5","v":17},"=",{"$f":"C1627*E1627","v":0}]
[null,{"$f":"Data!$C$6","v":"Champignons"},{"$f":"C1604","v":0},"x",{"$f":"Data!$F$6","v":17},"=",{"$f":"C1628*E1628","v":0}]
[null,{"$f":"Data!$C$7","v":"Peper"},0,"x",{"$f":"Data!$F$7","v":17},"=",{"$f":"C1629*E1629","v":0}]
[]
[{"$f":"Data!$B$9","v":"Kabeljauwhaasje"},null,0,"x",{"$f":"Data!$F$9","v":17},"=",{"$f":"C1631*E1631","v":0}]
[]
[{"$f":"Data!$B$11","v":"Kindermenu"}]
[null,{"$f":"Data!$C$12","v":"Natuur"},0,"x",{"$f":"Data!$F$12","v":8},"=",{"$f":"C1634*E1634","v":0}]
[null,{"$f":"Data!$C$13","v":"Champignons"},0,"x",{"$f":"Data!$F$13","v":8},"=",{"$f":"C1635*E1635","v":0}]
[null,{"$f":"Data!$C$14","v":"Peper"},0,"x",{"$f":"Data!$F$14","v":8},"=",0]
[null,{"$f":"Data!$C$15","v":"Kabeljauwhaasje"},0,"x",{"$f":"Data!$F$15","v":8},"=",0]
[]
[null,{"$f":"Data!$C$17","v":"Totaal eten:"},null,null,null,null,{"$f":"SUM(G1627:G1638)","v":0}]
[null,{"$f":"Data!$C$18","v":"Totaal kaarten:"},{"$f":"C1616","v":0},"x",{"$f":"Data!$F$18","v":3},"=",{"$f":"-(C1640*E1640)","v":0}]
[]
[]
[null,{"$f":"Data!$C$21","v":"Totaal te betalen:"},null,null,null,null,{"$f":"G1639+G1640","v":0}]
[]
[{"$f":"Data!$A$23","v":"TGV Opstal dankt u voor uw aanwezigheid!  Eet smakelijk!"}]
["Fietsclub TGV Opstal",null,null,null,null,null,"Tafel nr:"]
[{"$f":"A1600+1","v":36},null,null,null,null,null,null,null,null,null,null,{"$f":"A1647","v":36}]
[]
[{"$f":"Data!$B$4","v":"Kalkoenfilet"},null,null,null,null,null,null,null,null,null,null,"Kalkoenfilet"]
[null,{"$f":"Data!$C$5","v":"Natuur"},null,"x",{"$f":"Data!$F$5","v":17},"=",{"$f":"C1650*E1650","v":0},null,null,null,null,null,"Natuur",null,{"$f":"C1650","v":0}]
[null,{"$f":"Data!$C$6","v":"Champignons"},null,"x",{"$f":"Data!$F$6","v":17},"=",{"$f":"C1651*E1651","v":0},null,null,null,null,null,"Champignons",null,null,{"$f":"C1651","v":0}]
[null,{"$f":"Data!$C$7","v":"Peper"},null,"x",{"$f":"Data!$F$7","v":17},"=",{"$f":"C1652*E1652","v":0},null,null,null,null,null,"Peper",null,null,null,{"$f":"C1652","v":0}]
[]
[{"$f":"Data!$B$9","v":"Kabeljauwhaasje"},null,null,"x",{"$f":"Data!$F$9","v":17},"=",{"$f":"C1654*E1654","v":0},null,null,null,null,"Kabeljauwhaasje",null,null,null,null,null,{"$f":"C1654","v":0}]
[]
[{"$f":"Data!$B$11","v":"Kindermenu"},null,null,null,null,null,null,null,null,null,null,"Kindermenu"]
[null,{"$f":"Data!$C$12","v":"Natuur"},null,"x",{"$f":"Data!$F$12","v":8},"=",{"$f":"C1657*E1657","v":0},null,null,null,null,null,"Natuur",null,null,null,null,null,{"$f":"C1657","v":0}]
[null,{"$f":"Data!$C$13","v":"Champignons"},null,"x",{"$f":"Data!$F$13","v":8},"=",{"$f":"C1658*E1658","v":0},null,null,null,null,null,"Champignons",null,null,null,null,null,null,{"$f":"C1658","v":0}]
[null,{"$f":"Data!$C$14","v":"Peper"},null,"x",{"$f":"Data!$F$14","v":8},"=",0,null,null,null,null,null,"Peper",null,null,null,null,null,null,null,{"$f":"C1659","v":0}]
[null,{"$f":"Data!$C$15","v":"Kabeljauwhaasje"},null,"x",{"$f":"Data!$F$15","v":8},"=",0,null,null,null,null,null,"Kabeljauwhaasje",null,null,null,null,null,null,null,null,{"$f":"C1660","v":0}]
[]
[null,{"$f":"Data!$C$17","v":"Totaal eten:"},null,null,null,null,{"$f":"SUM(G1650:G1661)","v":0},null,null,null,null,null,"Totaal eten:",null,null,null,null,null,null,null,null,null,{"$f":"G1662","v":0}]
[null,{"$f":"Data!$C$18","v":"Totaal kaarten:"},null,"x",{"$f":"Data!$F$18","v":3},"=",{"$f":"-(C1663*E1663)","v":0}]
[null,null,null,null,null,null,null,null,null,null,null,null,"Totaal kaarten (bedrag):",null,null,null,null,null,null,null,null,null,null,{"$f":"C1663","v":0}]
[]
[null,{"$f":"Data!$C$21","v":"Totaal te betalen:"},null,null,null,null,{"$f":"G1662+G1663","v":0},null,null,null,null,null,"Totaal te betalen:",null,null,null,null,null,null,null,null,null,null,null,{"$f":"G1666","v":0}]
[]
[{"$f":"Data!$A$23","v":"TGV Opstal dankt u voor uw aanwezigheid!  Eet smakelijk!"}]
[]
["Fietsclub TGV Opstal",null,null,null,null,null,"Tafel nr:"]
[{"$f":"A1647","v":36}]
[]
[{"$f":"Data!$B$4","v":"Kalkoenfilet"}]
[null,{"$f":"Data!$C$5","v":"Natuur"},{"$f":"C1650","v":0},"x",{"$f":"Data!$F$5","v":17},"=",{"$f":"C1674*E1674","v":0}]
[null,{"$f":"Data!$C$6","v":"Champignons"},{"$f":"C1651","v":0},"x",{"$f":"Data!$F$6","v":17},"=",{"$f":"C1675*E1675","v":0}]
[null,{"$f":"Data!$C$7","v":"Peper"},0,"x",{"$f":"Data!$F$7","v":17},"=",{"$f":"C1676*E1676","v":0}]
[]
[{"$f":"Data!$B$9","v":"Kabeljauwhaasje"},null,0,"x",{"$f":"Data!$F$9","v":17},"=",{"$f":"C1678*E1678","v":0}]
[]
[{"$f":"Data!$B$11","v":"Kindermenu"}]
[null,{"$f":"Data!$C$12","v":"Natuur"},0,"x",{"$f":"Data!$F$12","v":8},"=",{"$f":"C1681*E1681","v":0}]
[null,{"$f":"Data!$C$13","v":"Champignons"},0,"x",{"$f":"Data!$F$13","v":8},"=",{"$f":"C1682*E1682","v":0}]
[null,{"$f":"Data!$C$14","v":"Peper"},0,"x",{"$f":"Data!$F$14","v":8},"=",0]
[null,{"$f":"Data!$C$15","v":"Kabeljauwhaasje"},0,"x",{"$f":"Data!$F$15","v":8},"=",0]
[]
[null,{"$f":"Data!$C$17","v":"Totaal eten:"},null,null,null,null,{"$f":"SUM(G1674:G1685)","v":0}]
[null,{"$f":"Data!$C$18","v":"Totaal kaarten:"},{"$f":"C1663","v":0},"x",{"$f":"Data!$F$18","v":3},"=",{"$f":"-(C1687*E1687)","v":0}]
[]
[]
[null,{"$f":"Data!$C$21","v":"Totaal te betalen:"},null,null,null,null,{"$f":"G1686+G1687","v":0}]
[]
[{"$f":"Data!$A$23","v":"TGV Opstal dankt u voor uw aanwezigheid!  Eet smakelijk!"}]
["Fietsclub TGV Opstal",null,null,null,null,null,"Tafel nr:"]
[{"$f":"A1647+1","v":37},null,null,null,null,null,null,null,null,null,null,{"$f":"A1694","v":37}]
[]
[{"$f":"Data!$B$4","v":"Kalkoenfilet"},null,null,null,null,null,null,null,null,null,null,"Kalkoenfilet"]
[null,{"$f":"Data!$C$5","v":"Natuur"},null,"x",{"$f":"Data!$F$5","v":17},"=",{"$f":"C1697*E1697","v":0},null,null,null,null,null,"Natuur",null,{"$f":"C1697","v":0}]
[null,{"$f":"Data!$C$6","v":"Champignons"},null,"x",{"$f":"Data!$F$6","v":17},"=",{"$f":"C1698*E1698","v":0},null,null,null,null,null,"Champignons",null,null,{"$f":"C1698","v":0}]
[null,{"$f":"Data!$C$7","v":"Peper"},null,"x",{"$f":"Data!$F$7","v":17},"=",{"$f":"C1699*E1699","v":0},null,null,null,null,null,"Peper",null,null,null,{"$f":"C1699","v":0}]
[]
[{"$f":"Data!$B$9","v":"Kabeljauwhaasje"},null,null,"x",{"$f":"Data!$F$9","v":17},"=",{"$f":"C1701*E1701","v":0},null,null,null,null,"Kabeljauwhaasje",null,null,null,null,null,{"$f":"C1701","v":0}]
[]
[{"$f":"Data!$B$11","v":"Kindermenu"},null,null,null,null,null,null,null,null,null,null,"Kindermenu"]
[null,{"$f":"Data!$C$12","v":"Natuur"},null,"x",{"$f":"Data!$F$12","v":8},"=",{"$f":"C1704*E1704","v":0},null,null,null,null,null,"Natuur",null,null,null,null,null,{"$f":"C1704","v":0}]
[null,{"$f":"Data!$C$13","v":"Champignons"},null,"x",{"$f":"Data!$F$13","v":8},"=",{"$f":"C1705*E1705","v":0},null,null,null,null,null,"Champignons",null,null,null,null,null,null,{"$f":"C1705","v":0}]
[null,{"$f":"Data!$C$14","v":"Peper"},null,"x",{"$f":"Data!$F$14","v":8},"=",0,null,null,null,null,null,"Peper",null,null,null,null,null,null,null,{"$f":"C1706","v":0}]
[null,{"$f":"Data!$C$15","v":"Kabeljauwhaasje"},null,"x",{"$f":"Data!$F$15","v":8},"=",0,null,null,null,null,null,"Kabeljauwhaasje",null,null,null,null,null,null,null,null,{"$f":"C1707","v":0}]
[]
[null,{"$f":"Data!$C$17","v":"Totaal eten:"},null,null,null,null,{"$f":"SUM(G1697:G1708)","v":0},null,null,null,null,null,"Totaal eten:",null,null,null,null,null,null,null,null,null,{"$f":"G1709","v":0}]
[null,{"$f":"Data!$C$18","v":"Totaal kaarten:"},null,"x",{"$f":"Data!$F$18","v":3},"=",{"$f":"-(C1710*E1710)","v":0}]
[null,null,null,null,null,null,null,null,null,null,null,null,"Totaal kaarten (bedrag):",null,null,null,null,null,null,null,null,null,null,{"$f":"C1710","v":0}]
[]
[null,{"$f":"Data!$C$21","v":"Totaal te betalen:"},null,null,null,null,{"$f":"G1709+G1710","v":0},null,null,null,null,null,"Totaal te betalen:",null,null,null,null,null,null,null,null,null,null,null,{"$f":"G1713","v":0}]
[]
[{"$f":"Data!$A$23","v":"TGV Opstal dankt u voor uw aanwezigheid!  Eet smakelijk!"}]
[]
["Fietsclub TGV Opstal",null,null,null,null,null,"Tafel nr:"]
[{"$f":"A1694","v":37}]
[]
[{"$f":"Data!$B$4","v":"Kalkoenfilet"}]
[null,{"$f":"Data!$C$5","v":"Natuur"},{"$f":"C1697","v":0},"x",{"$f":"Data!$F$5","v":17},"=",{"$f":"C1721*E1721","v":0}]
[null,{"$f":"Data!$C$6","v":"Champignons"},{"$f":"C1698","v":0},"x",{"$f":"Data!$F$6","v":17},"=",{"$f":"C1722*E1722","v":0}]
[null,{"$f":"Data!$C$7","v":"Peper"},0,"x",{"$f":"Data!$F$7","v":17},"=",{"$f":"C1723*E1723","v":0}]
[]
[{"$f":"Data!$B$9","v":"Kabeljauwhaasje"},null,0,"x",{"$f":"Data!$F$9","v":17},"=",{"$f":"C1725*E1725","v":0}]
[]
[{"$f":"Data!$B$11","v":"Kindermenu"}]
[null,{"$f":"Data!$C$12","v":"Natuur"},0,"x",{"$f":"Data!$F$12","v":8},"=",{"$f":"C1728*E1728","v":0}]
[null,{"$f":"Data!$C$13","v":"Champignons"},0,"x",{"$f":"Data!$F$13","v":8},"=",{"$f":"C1729*E1729","v":0}]
[null,{"$f":"Data!$C$14","v":"Peper"},0,"x",{"$f":"Data!$F$14","v":8},"=",0]
[null,{"$f":"Data!$C$15","v":"Kabeljauwhaasje"},0,"x",{"$f":"Data!$F$15","v":8},"=",0]
[]
[null,{"$f":"Data!$C$17","v":"Totaal eten:"},null,null,null,null,{"$f":"SUM(G1721:G1732)","v":0}]
[null,{"$f":"Data!$C$18","v":"Totaal kaarten:"},{"$f":"C1710","v":0},"x",{"$f":"Data!$F$18","v":3},"=",{"$f":"-(C1734*E1734)","v":0}]
[]
[]
[null,{"$f":"Data!$C$21","v":"Totaal te betalen:"},null,null,null,null,{"$f":"G1733+G1734","v":0}]
[]
[{"$f":"Data!$A$23","v":"TGV Opstal dankt u voor uw aanwezigheid!  Eet smakelijk!"}]
["Fietsclub TGV Opstal",null,null,null,null,null,"Tafel nr:"]
[{"$f":"A1694+1","v":38},null,null,null,null,null,null,null,null,null,null,{"$f":"A1741","v":38}]
[]
[{"$f":"Data!$B$4","v":"Kalkoenfilet"},null,null,null,null,null,null,null,null,null,null,"Kalkoenfilet"]
[null,{"$f":"Data!$C$5","v":"Natuur"},null,"x",{"$f":"Data!$F$5","v":17},"=",{"$f":"C1744*E1744","v":0},null,null,null,null,null,"Natuur",null,{"$f":"C1744","v":0}]
[null,{"$f":"Data!$C$6","v":"Champignons"},null,"x",{"$f":"Data!$F$6","v":17},"=",{"$f":"C1745*E1745","v":0},null,null,null,null,null,"Champignons",null,null,{"$f":"C1745","v":0}]
[null,{"$f":"Data!$C$7","v":"Peper"},null,"x",{"$f":"Data!$F$7","v":17},"=",{"$f":"C1746*E1746","v":0},null,null,null,null,null,"Peper",null,null,null,{"$f":"C1746","v":0}]
[]
[{"$f":"Data!$B$9","v":"Kabeljauwhaasje"},null,null,"x",{"$f":"Data!$F$9","v":17},"=",{"$f":"C1748*E1748","v":0},null,null,null,null,"Kabeljauwhaasje",null,null,null,null,null,{"$f":"C1748","v":0}]
[]
[{"$f":"Data!$B$11","v":"Kindermenu"},null,null,null,null,null,null,null,null,null,null,"Kindermenu"]
[null,{"$f":"Data!$C$12","v":"Natuur"},null,"x",{"$f":"Data!$F$12","v":8},"=",{"$f":"C1751*E1751","v":0},null,null,null,null,null,"Natuur",null,null,null,null,null,{"$f":"C1751","v":0}]
[null,{"$f":"Data!$C$13","v":"Champignons"},null,"x",{"$f":"Data!$F$13","v":8},"=",{"$f":"C1752*E1752","v":0},null,null,null,null,null,"Champignons",null,null,null,null,null,null,{"$f":"C1752","v":0}]
[null,{"$f":"Data!$C$14","v":"Peper"},null,"x",{"$f":"Data!$F$14","v":8},"=",0,null,null,null,null,null,"Peper",null,null,null,null,null,null,null,{"$f":"C1753","v":0}]
[null,{"$f":"Data!$C$15","v":"Kabeljauwhaasje"},null,"x",{"$f":"Data!$F$15","v":8},"=",0,null,null,null,null,null,"Kabeljauwhaasje",null,null,null,null,null,null,null,null,{"$f":"C1754","v":0}]
[]
[null,{"$f":"Data!$C$17","v":"Totaal eten:"},null,null,null,null,{"$f":"SUM(G1744:G1755)","v":0},null,null,null,null,null,"Totaal eten:",null,null,null,null,null,null,null,null,null,{"$f":"G1756","v":0}]
[null,{"$f":"Data!$C$18","v":"Totaal kaarten:"},null,"x",{"$f":"Data!$F$18","v":3},"=",{"$f":"-(C1757*E1757)","v":0}]
[null,null,null,null,null,null,null,null,null,null,null,null,"Totaal kaarten (bedrag):",null,null,null,null,null,null,null,null,null,null,{"$f":"C1757","v":0}]
[]
[null,{"$f":"Data!$C$21","v":"Totaal te betalen:"},null,null,null,null,{"$f":"G1756+G1757","v":0},null,null,null,null,null,"Totaal te betalen:",null,null,null,null,null,null,null,null,null,null,null,{"$f":"G1760","v":0}]
[]
[{"$f":"Data!$A$23","v":"TGV Opstal dankt u voor uw aanwezigheid!  Eet smakelijk!"}]
[]
["Fietsclub TGV Opstal",null,null,null,null,null,"Tafel nr:"]
[{"$f":"A1741","v":38}]
[]
[{"$f":"Data!$B$4","v":"Kalkoenfilet"}]
[null,{"$f":"Data!$C$5","v":"Natuur"},{"$f":"C1744","v":0},"x",{"$f":"Data!$F$5","v":17},"=",{"$f":"C1768*E1768","v":0}]
[null,{"$f":"Data!$C$6","v":"Champignons"},{"$f":"C1745","v":0},"x",{"$f":"Data!$F$6","v":17},"=",{"$f":"C1769*E1769","v":0}]
[null,{"$f":"Data!$C$7","v":"Peper"},0,"x",{"$f":"Data!$F$7","v":17},"=",{"$f":"C1770*E1770","v":0}]
[]
[{"$f":"Data!$B$9","v":"Kabeljauwhaasje"},null,0,"x",{"$f":"Data!$F$9","v":17},"=",{"$f":"C1772*E1772","v":0}]
[]
[{"$f":"Data!$B$11","v":"Kindermenu"}]
[null,{"$f":"Data!$C$12","v":"Natuur"},0,"x",{"$f":"Data!$F$12","v":8},"=",{"$f":"C1775*E1775","v":0}]
[null,{"$f":"Data!$C$13","v":"Champignons"},0,"x",{"$f":"Data!$F$13","v":8},"=",{"$f":"C1776*E1776","v":0}]
[null,{"$f":"Data!$C$14","v":"Peper"},0,"x",{"$f":"Data!$F$14","v":8},"=",0]
[null,{"$f":"Data!$C$15","v":"Kabeljauwhaasje"},0,"x",{"$f":"Data!$F$15","v":8},"=",0]
[]
[null,{"$f":"Data!$C$17","v":"Totaal eten:"},null,null,null,null,{"$f":"SUM(G1768:G1779)","v":0}]
[null,{"$f":"Data!$C$18","v":"Totaal kaarten:"},{"$f":"C1757","v":0},"x",{"$f":"Data!$F$18","v":3},"=",{"$f":"-(C1781*E1781)","v":0}]
[]
[]
[null,{"$f":"Data!$C$21","v":"Totaal te betalen:"},null,null,null,null,{"$f":"G1780+G1781","v":0}]
[]
[{"$f":"Data!$A$23","v":"TGV Opstal dankt u voor uw aanwezigheid!  Eet smakelijk!"}]
["Fietsclub TGV Opstal",null,null,null,null,null,"Tafel nr:"]
[{"$f":"A1741+1","v":39},null,null,null,null,null,null,null,null,null,null,{"$f":"A1788","v":39}]
[]
[{"$f":"Data!$B$4","v":"Kalkoenfilet"},null,null,null,null,null,null,null,null,null,null,"Kalkoenfilet"]
[null,{"$f":"Data!$C$5","v":"Natuur"},null,"x",{"$f":"Data!$F$5","v":17},"=",{"$f":"C1791*E1791","v":0},null,null,null,null,null,"Natuur",null,{"$f":"C1791","v":0}]
[null,{"$f":"Data!$C$6","v":"Champignons"},null,"x",{"$f":"Data!$F$6","v":17},"=",{"$f":"C1792*E1792","v":0},null,null,null,null,null,"Champignons",null,null,{"$f":"C1792","v":0}]
[null,{"$f":"Data!$C$7","v":"Peper"},null,"x",{"$f":"Data!$F$7","v":17},"=",{"$f":"C1793*E1793","v":0},null,null,null,null,null,"Peper",null,null,null,{"$f":"C1793","v":0}]
[]
[{"$f":"Data!$B$9","v":"Kabeljauwhaasje"},null,null,"x",{"$f":"Data!$F$9","v":17},"=",{"$f":"C1795*E1795","v":0},null,null,null,null,"Kabeljauwhaasje",null,null,null,null,null,{"$f":"C1795","v":0}]
[]
[{"$f":"Data!$B$11","v":"Kindermenu"},null,null,null,null,null,null,null,null,null,null,"Kindermenu"]
[null,{"$f":"Data!$C$12","v":"Natuur"},null,"x",{"$f":"Data!$F$12","v":8},"=",{"$f":"C1798*E1798","v":0},null,null,null,null,null,"Natuur",null,null,null,null,null,{"$f":"C1798","v":0}]
[null,{"$f":"Data!$C$13","v":"Champignons"},null,"x",{"$f":"Data!$F$13","v":8},"=",{"$f":"C1799*E1799","v":0},null,null,null,null,null,"Champignons",null,null,null,null,null,null,{"$f":"C1799","v":0}]
[null,{"$f":"Data!$C$14","v":"Peper"},null,"x",{"$f":"Data!$F$14","v":8},"=",0,null,null,null,null,null,"Peper",null,null,null,null,null,null,null,{"$f":"C1800","v":0}]
[null,{"$f":"Data!$C$15","v":"Kabeljauwhaasje"},null,"x",{"$f":"Data!$F$15","v":8},"=",0,null,null,null,null,null,"Kabeljauwhaasje",null,null,null,null,null,null,null,null,{"$f":"C1801","v":0}]
[]
[null,{"$f":"Data!$C$17","v":"Totaal eten:"},null,null,null,null,{"$f":"SUM(G1791:G1802)","v":0},null,null,null,null,null,"Totaal eten:",null,null,null,null,null,null,null,null,null,{"$f":"G1803","v":0}]
[null,{"$f":"Data!$C$18","v":"Totaal kaarten:"},null,"x",{"$f":"Data!$F$18","v":3},"=",{"$f":"-(C1804*E1804)","v":0}]
[null,null,null,null,null,null,null,null,null,null,null,null,"Totaal kaarten (bedrag):",null,null,null,null,null,null,null,null,null,null,{"$f":"C1804","v":0}]
[]
[null,{"$f":"Data!$C$21","v":"Totaal te betalen:"},null,null,null,null,{"$f":"G1803+G1804","v":0},null,null,null,null,null,"Totaal te betalen:",null,null,null,null,null,null,null,null,null,null,null,{"$f":"G1807","v":0}]
[]
[{"$f":"Data!$A$23","v":"TGV Opstal dankt u voor uw aanwezigheid!  Eet smakelijk!"}]
[]
["Fietsclub TGV Opstal",null,null,null,null,null,"Tafel nr:"]
[{"$f":"A1788","v":39}]
[]
[{"$f":"Data!$B$4","v":"Kalkoenfilet"}]
[null,{"$f":"Data!$C$5","v":"Natuur"},{"$f":"C1791","v":0},"x",{"$f":"Data!$F$5","v":17},"=",{"$f":"C1815*E1815","v":0}]
[null,{"$f":"Data!$C$6","v":"Champignons"},{"$f":"C1792","v":0},"x",{"$f":"Data!$F$6","v":17},"=",{"$f":"C1816*E1816","v":0}]
[null,{"$f":"Data!$C$7","v":"Peper"},0,"x",{"$f":"Data!$F$7","v":17},"=",{"$f":"C1817*E1817","v":0}]
[]
[{"$f":"Data!$B$9","v":"Kabeljauwhaasje"},null,0,"x",{"$f":"Data!$F$9","v":17},"=",{"$f":"C1819*E1819","v":0}]
[]
[{"$f":"Data!$B$11","v":"Kindermenu"}]
[null,{"$f":"Data!$C$12","v":"Natuur"},0,"x",{"$f":"Data!$F$12","v":8},"=",{"$f":"C1822*E1822","v":0}]
[null,{"$f":"Data!$C$13","v":"Champignons"},0,"x",{"$f":"Data!$F$13","v":8},"=",{"$f":"C1823*E1823","v":0}]
[null,{"$f":"Data!$C$14","v":"Peper"},0,"x",{"$f":"Data!$F$14","v":8},"=",0]
[null,{"$f":"Data!$C$15","v":"Kabeljauwhaasje"},0,"x",{"$f":"Data!$F$15","v":8},"=",0]
[]
[null,{"$f":"Data!$C$17","v":"Totaal eten:"},null,null,null,null,{"$f":"SUM(G1815:G1826)","v":0}]
[null,{"$f":"Data!$C$18","v":"Totaal kaarten:"},{"$f":"C1804","v":0},"x",{"$f":"Data!$F$18","v":3},"=",{"$f":"-(C1828*E1828)","v":0}]
[]
[]
[null,{"$f":"Data!$C$21","v":"Totaal te betalen:"},null,null,null,null,{"$f":"G1827+G1828","v":0}]
[]
[{"$f":"Data!$A$23","v":"TGV Opstal dankt u voor uw aanwezigheid!  Eet smakelijk!"}]
["Fietsclub TGV Opstal",null,null,null,null,null,"Tafel nr:"]
[{"$f":"A1788+1","v":40},null,null,null,null,null,null,null,null,null,null,{"$f":"A1835","v":40}]
[]
[{"$f":"Data!$B$4","v":"Kalkoenfilet"},null,null,null,null,null,null,null,null,null,null,"Kalkoenfilet"]
[null,{"$f":"Data!$C$5","v":"Natuur"},null,"x",{"$f":"Data!$F$5","v":17},"=",{"$f":"C1838*E1838","v":0},null,null,null,null,null,"Natuur",null,{"$f":"C1838","v":0}]
[null,{"$f":"Data!$C$6","v":"Champignons"},null,"x",{"$f":"Data!$F$6","v":17},"=",{"$f":"C1839*E1839","v":0},null,null,null,null,null,"Champignons",null,null,{"$f":"C1839","v":0}]
[null,{"$f":"Data!$C$7","v":"Peper"},null,"x",{"$f":"Data!$F$7","v":17},"=",{"$f":"C1840*E1840","v":0},null,null,null,null,null,"Peper",null,null,null,{"$f":"C1840","v":0}]
[]
[{"$f":"Data!$B$9","v":"Kabeljauwhaasje"},null,null,"x",{"$f":"Data!$F$9","v":17},"=",{"$f":"C1842*E1842","v":0},null,null,null,null,"Kabeljauwhaasje",null,null,null,null,null,{"$f":"C1842","v":0}]
[]
[{"$f":"Data!$B$11","v":"Kindermenu"},null,null,null,null,null,null,null,null,null,null,"Kindermenu"]
[null,{"$f":"Data!$C$12","v":"Natuur"},null,"x",{"$f":"Data!$F$12","v":8},"=",{"$f":"C1845*E1845","v":0},null,null,null,null,null,"Natuur",null,null,null,null,null,{"$f":"C1845","v":0}]
[null,{"$f":"Data!$C$13","v":"Champignons"},null,"x",{"$f":"Data!$F$13","v":8},"=",{"$f":"C1846*E1846","v":0},null,null,null,null,null,"Champignons",null,null,null,null,null,null,{"$f":"C1846","v":0}]
[null,{"$f":"Data!$C$14","v":"Peper"},null,"x",{"$f":"Data!$F$14","v":8},"=",0,null,null,null,null,null,"Peper",null,null,null,null,null,null,null,{"$f":"C1847","v":0}]
[null,{"$f":"Data!$C$15","v":"Kabeljauwhaasje"},null,"x",{"$f":"Data!$F$15","v":8},"=",0,null,null,null,null,null,"Kabeljauwhaasje",null,null,null,null,null,null,null,null,{"$f":"C1848","v":0}]
[]
[null,{"$f":"Data!$C$17","v":"Totaal eten:"},null,null,null,null,{"$f":"SUM(G1838:G1849)","v":0},null,null,null,null,null,"Totaal eten:",null,null,null,null,null,null,null,null,null,{"$f":"G1850","v":0}]
[null,{"$f":"Data!$C$18","v":"Totaal kaarten:"},null,"x",{"$f":"Data!$F$18","v":3},"=",{"$f":"-(C1851*E1851)","v":0}]
[null,null,null,null,null,null,null,null,null,null,null,null,"Totaal kaarten (bedrag):",null,null,null,null,null,null,null,null,null,null,{"$f":"C1851","v":0}]
[]
[null,{"$f":"Data!$C$21","v":"Totaal te betalen:"},null,null,null,null,{"$f":"G1850+G1851","v":0},null,null,null,null,null,"Totaal te betalen:",null,null,null,null,null,null,null,null,null,null,null,{"$f":"G1854","v":0}]
[]
[{"$f":"Data!$A$23","v":"TGV Opstal dankt u voor uw aanwezigheid!  Eet smakelijk!"}]
[]
["Fietsclub TGV Opstal",null,null,null,null,null,"Tafel nr:"]
[{"$f":"A1835","v":40}]
[]
[{"$f":"Data!$B$4","v":"Kalkoenfilet"}]
[null,{"$f":"Data!$C$5","v":"Natuur"},{"$f":"C1838","v":0},"x",{"$f":"Data!$F$5","v":17},"=",{"$f":"C1862*E1862","v":0}]
[null,{"$f":"Data!$C$6","v":"Champignons"},{"$f":"C1839","v":0},"x",{"$f":"Data!$F$6","v":17},"=",{"$f":"C1863*E1863","v":0}]
[null,{"$f":"Data!$C$7","v":"Peper"},0,"x",{"$f":"Data!$F$7","v":17},"=",{"$f":"C1864*E1864","v":0}]
[]
[{"$f":"Data!$B$9","v":"Kabeljauwhaasje"},null,0,"x",{"$f":"Data!$F$9","v":17},"=",{"$f":"C1866*E1866","v":0}]
[]
[{"$f":"Data!$B$11","v":"Kindermenu"}]
[null,{"$f":"Data!$C$12","v":"Natuur"},0,"x",{"$f":"Data!$F$12","v":8},"=",{"$f":"C1869*E1869","v":0}]
[null,{"$f":"Data!$C$13","v":"Champignons"},0,"x",{"$f":"Data!$F$13","v":8},"=",{"$f":"C1870*E1870","v":0}]
[null,{"$f":"Data!$C$14","v":"Peper"},0,"x",{"$f":"Data!$F$14","v":8},"=",0]
[null,{"$f":"Data!$C$15","v":"Kabeljauwhaasje"},0,"x",{"$f":"Data!$F$15","v":8},"=",0]
[]
[null,{"$f":"Data!$C$17","v":"Totaal eten:"},null,null,null,null,{"$f":"SUM(G1862:G1873)","v":0}]
[null,{"$f":"Data!$C$18","v":"Totaal kaarten:"},{"$f":"C1851","v":0},"x",{"$f":"Data!$F$18","v":3},"=",{"$f":"-(C1875*E1875)","v":0}]
[]
[]
[null,{"$f":"Data!$C$21","v":"Totaal te betalen:"},null,null,null,null,{"$f":"G1874+G1875","v":0}]
[]
[{"$f":"Data!$A$23","v":"TGV Opstal dankt u voor uw aanwezigheid!  Eet smakelijk!"}]
["Fietsclub TGV Opstal",null,null,null,null,null,"Tafel nr:"]
[{"$f":"A1835+1","v":41},null,null,null,null,null,null,null,null,null,null,{"$f":"A1882","v":41}]
[]
[{"$f":"Data!$B$4","v":"Kalkoenfilet"},null,null,null,null,null,null,null,null,null,null,"Kalkoenfilet"]
[null,{"$f":"Data!$C$5","v":"Natuur"},null,"x",{"$f":"Data!$F$5","v":17},"=",{"$f":"C1885*E1885","v":0},null,null,null,null,null,"Natuur",null,{"$f":"C1885","v":0}]
[null,{"$f":"Data!$C$6","v":"Champignons"},null,"x",{"$f":"Data!$F$6","v":17},"=",{"$f":"C1886*E1886","v":0},null,null,null,null,null,"Champignons",null,null,{"$f":"C1886","v":0}]
[null,{"$f":"Data!$C$7","v":"Peper"},null,"x",{"$f":"Data!$F$7","v":17},"=",{"$f":"C1887*E1887","v":0},null,null,null,null,null,"Peper",null,null,null,{"$f":"C1887","v":0}]
[]
[{"$f":"Data!$B$9","v":"Kabeljauwhaasje"},null,null,"x",{"$f":"Data!$F$9","v":17},"=",{"$f":"C1889*E1889","v":0},null,null,null,null,"Kabeljauwhaasje",null,null,null,null,null,{"$f":"C1889","v":0}]
[]
[{"$f":"Data!$B$11","v":"Kindermenu"},null,null,null,null,null,null,null,null,null,null,"Kindermenu"]
[null,{"$f":"Data!$C$12","v":"Natuur"},null,"x",{"$f":"Data!$F$12","v":8},"=",{"$f":"C1892*E1892","v":0},null,null,null,null,null,"Natuur",null,null,null,null,null,{"$f":"C1892","v":0}]
[null,{"$f":"Data!$C$13","v":"Champignons"},null,"x",{"$f":"Data!$F$13","v":8},"=",{"$f":"C1893*E1893","v":0},null,null,null,null,null,"Champignons",null,null,null,null,null,null,{"$f":"C1893","v":0}]
[null,{"$f":"Data!$C$14","v":"Peper"},null,"x",{"$f":"Data!$F$14","v":8},"=",0,null,null,null,null,null,"Peper",null,null,null,null,null,null,null,{"$f":"C1894","v":0}]
[null,{"$f":"Data!$C$15","v":"Kabeljauwhaasje"},null,"x",{"$f":"Data!$F$15","v":8},"=",0,null,null,null,null,null,"Kabeljauwhaasje",null,null,null,null,null,null,null,null,{"$f":"C1895","v":0}]
[]
[null,{"$f":"Data!$C$17","v":"Totaal eten:"},null,null,null,null,{"$f":"SUM(G1885:G1896)","v":0},null,null,null,null,null,"Totaal eten:",null,null,null,null,null,null,null,null,null,{"$f":"G1897","v":0}]
[null,{"$f":"Data!$C$18","v":"Totaal kaarten:"},null,"x",{"$f":"Data!$F$18","v":3},"=",{"$f":"-(C1898*E1898)","v":0}]
[null,null,null,null,null,null,null,null,null,null,null,null,"Totaal kaarten (bedrag):",null,null,null,null,null,null,null,null,null,null,{"$f":"C1898","v":0}]
[]
[null,{"$f":"Data!$C$21","v":"Totaal te betalen:"},null,null,null,null,{"$f":"G1897+G1898","v":0},null,null,null,null,null,"Totaal te betalen:",null,null,null,null,null,null,null,null,null,null,null,{"$f":"G1901","v":0}]
[]
[{"$f":"Data!$A$23","v":"TGV Opstal dankt u voor uw aanwezigheid!  Eet smakelijk!"}]
[]
["Fietsclub TGV Opstal",null,null,null,null,null,"Tafel nr:"]
[{"$f":"A1882","v":41}]
[]
[{"$f":"Data!$B$4","v":"Kalkoenfilet"}]
[null,{"$f":"Data!$C$5","v":"Natuur"},{"$f":"C1885","v":0},"x",{"$f":"Data!$F$5","v":17},"=",{"$f":"C1909*E1909","v":0}]
[null,{"$f":"Data!$C$6","v":"Champignons"},{"$f":"C1886","v":0},"x",{"$f":"Data!$F$6","v":17},"=",{"$f":"C1910*E1910","v":0}]
[null,{"$f":"Data!$C$7","v":"Peper"},0,"x",{"$f":"Data!$F$7","v":17},"=",{"$f":"C1911*E1911","v":0}]
[]
[{"$f":"Data!$B$9","v":"Kabeljauwhaasje"},null,0,"x",{"$f":"Data!$F$9","v":17},"=",{"$f":"C1913*E1913","v":0}]
[]
[{"$f":"Data!$B$11","v":"Kindermenu"}]
[null,{"$f":"Data!$C$12","v":"Natuur"},0,"x",{"$f":"Data!$F$12","v":8},"=",{"$f":"C1916*E1916","v":0}]
[null,{"$f":"Data!$C$13","v":"Champignons"},0,"x",{"$f":"Data!$F$13","v":8},"=",{"$f":"C1917*E1917","v":0}]
[null,{"$f":"Data!$C$14","v":"Peper"},0,"x",{"$f":"Data!$F$14","v":8},"=",0]
[null,{"$f":"Data!$C$15","v":"Kabeljauwhaasje"},0,"x",{"$f":"Data!$F$15","v":8},"=",0]
[]
[null,{"$f":"Data!$C$17","v":"Totaal eten:"},null,null,null,null,{"$f":"SUM(G1909:G1920)","v":0}]
[null,{"$f":"Data!$C$18","v":"Totaal kaarten:"},{"$f":"C1898","v":0},"x",{"$f":"Data!$F$18","v":3},"=",{"$f":"-(C1922*E1922)","v":0}]
[]
[]
[null,{"$f":"Data!$C$21","v":"Totaal te betalen:"},null,null,null,null,{"$f":"G1921+G1922","v":0}]
[]
[{"$f":"Data!$A$23","v":"TGV Opstal dankt u voor uw aanwezigheid!  Eet smakelijk!"}]
["Fietsclub TGV Opstal",null,null,null,null,null,"Tafel nr:"]
[{"$f":"A1882+1","v":42},null,null,null,null,null,null,null,null,null,null,{"$f":"A1929","v":42}]
[]
[{"$f":"Data!$B$4","v":"Kalkoenfilet"},null,null,null,null,null,null,null,null,null,null,"Kalkoenfilet"]
[null,{"$f":"Data!$C$5","v":"Natuur"},null,"x",{"$f":"Data!$F$5","v":17},"=",{"$f":"C1932*E1932","v":0},null,null,null,null,null,"Natuur",null,{"$f":"C1932","v":0}]
[null,{"$f":"Data!$C$6","v":"Champignons"},null,"x",{"$f":"Data!$F$6","v":17},"=",{"$f":"C1933*E1933","v":0},null,null,null,null,null,"Champignons",null,null,{"$f":"C1933","v":0}]
[null,{"$f":"Data!$C$7","v":"Peper"},null,"x",{"$f":"Data!$F$7","v":17},"=",{"$f":"C1934*E1934","v":0},null,null,null,null,null,"Peper",null,null,null,{"$f":"C1934","v":0}]
[]
[{"$f":"Data!$B$9","v":"Kabeljauwhaasje"},null,null,"x",{"$f":"Data!$F$9","v":17},"=",{"$f":"C1936*E1936","v":0},null,null,null,null,"Kabeljauwhaasje",null,null,null,null,null,{"$f":"C1936","v":0}]
[]
[{"$f":"Data!$B$11","v":"Kindermenu"},null,null,null,null,null,null,null,null,null,null,"Kindermenu"]
[null,{"$f":"Data!$C$12","v":"Natuur"},null,"x",{"$f":"Data!$F$12","v":8},"=",{"$f":"C1939*E1939","v":0},null,null,null,null,null,"Natuur",null,null,null,null,null,{"$f":"C1939","v":0}]
[null,{"$f":"Data!$C$13","v":"Champignons"},null,"x",{"$f":"Data!$F$13","v":8},"=",{"$f":"C1940*E1940","v":0},null,null,null,null,null,"Champignons",null,null,null,null,null,null,{"$f":"C1940","v":0}]
[null,{"$f":"Data!$C$14","v":"Peper"},null,"x",{"$f":"Data!$F$14","v":8},"=",0,null,null,null,null,null,"Peper",null,null,null,null,null,null,null,{"$f":"C1941","v":0}]
[null,{"$f":"Data!$C$15","v":"Kabeljauwhaasje"},null,"x",{"$f":"Data!$F$15","v":8},"=",0,null,null,null,null,null,"Kabeljauwhaasje",null,null,null,null,null,null,null,null,{"$f":"C1942","v":0}]
[]
[null,{"$f":"Data!$C$17","v":"Totaal eten:"},null,null,null,null,{"$f":"SUM(G1932:G1943)","v":0},null,null,null,null,null,"Totaal eten:",null,null,null,null,null,null,null,null,null,{"$f":"G1944","v":0}]
[null,{"$f":"Data!$C$18","v":"Totaal kaarten:"},null,"x",{"$f":"Data!$F$18","v":3},"=",{"$f":"-(C1945*E1945)","v":0}]
[null,null,null,null,null,null,null,null,null,null,null,null,"Totaal kaarten (bedrag):",null,null,null,null,null,null,null,null,null,null,{"$f":"C1945","v":0}]
[]
[null,{"$f":"Data!$C$21","v":"Totaal te betalen:"},null,null,null,null,{"$f":"G1944+G1945","v":0},null,null,null,null,null,"Totaal te betalen:",null,null,null,null,null,null,null,null,null,null,null,{"$f":"G1948","v":0}]
[]
[{"$f":"Data!$A$23","v":"TGV Opstal dankt u voor uw aanwezigheid!  Eet smakelijk!"}]
[]
["Fietsclub TGV Opstal",null,null,null,null,null,"Tafel nr:"]
[{"$f":"A1929","v":42}]
[]
[{"$f":"Data!$B$4","v":"Kalkoenfilet"}]
[null,{"$f":"Data!$C$5","v":"Natuur"},{"$f":"C1932","v":0},"x",{"$f":"Data!$F$5","v":17},"=",{"$f":"C1956*E1956","v":0}]
[null,{"$f":"Data!$C$6","v":"Champignons"},{"$f":"C1933","v":0},"x",{"$f":"Data!$F$6","v":17},"=",{"$f":"C1957*E1957","v":0}]
[null,{"$f":"Data!$C$7","v":"Peper"},0,"x",{"$f":"Data!$F$7","v":17},"=",{"$f":"C1958*E1958","v":0}]
[]
[{"$f":"Data!$B$9","v":"Kabeljauwhaasje"},null,0,"x",{"$f":"Data!$F$9","v":17},"=",{"$f":"C1960*E1960","v":0}]
[]
[{"$f":"Data!$B$11","v":"Kindermenu"}]
[null,{"$f":"Data!$C$12","v":"Natuur"},0,"x",{"$f":"Data!$F$12","v":8},"=",{"$f":"C1963*E1963","v":0}]
[null,{"$f":"Data!$C$13","v":"Champignons"},0,"x",{"$f":"Data!$F$13","v":8},"=",{"$f":"C1964*E1964","v":0}]
[null,{"$f":"Data!$C$14","v":"Peper"},0,"x",{"$f":"Data!$F$14","v":8},"=",0]
[null,{"$f":"Data!$C$15","v":"Kabeljauwhaasje"},0,"x",{"$f":"Data!$F$15","v":8},"=",0]
[]
[null,{"$f":"Data!$C$17","v":"Totaal eten:"},null,null,null,null,{"$f":"SUM(G1956:G1967)","v":0}]
[null,{"$f":"Data!$C$18","v":"Totaal kaarten:"},{"$f":"C1945","v":0},"x",{"$f":"Data!$F$18","v":3},"=",{"$f":"-(C1969*E1969)","v":0}]
[]
[]
[null,{"$f":"Data!$C$21","v":"Totaal te betalen:"},null,null,null,null,{"$f":"G1968+G1969","v":0}]
[]
[{"$f":"Data!$A$23","v":"TGV Opstal dankt u voor uw aanwezigheid!  Eet smakelijk!"}]
["Fietsclub TGV Opstal",null,null,null,null,null,"Tafel nr:"]
[{"$f":"A1929+1","v":43},null,null,null,null,null,null,null,null,null,null,{"$f":"A1976","v":43}]
[]
[{"$f":"Data!$B$4","v":"Kalkoenfilet"},null,null,null,null,null,null,null,null,null,null,"Kalkoenfilet"]
[null,{"$f":"Data!$C$5","v":"Natuur"},null,"x",{"$f":"Data!$F$5","v":17},"=",{"$f":"C1979*E1979","v":0},null,null,null,null,null,"Natuur",null,{"$f":"C1979","v":0}]
[null,{"$f":"Data!$C$6","v":"Champignons"},null,"x",{"$f":"Data!$F$6","v":17},"=",{"$f":"C1980*E1980","v":0},null,null,null,null,null,"Champignons",null,null,{"$f":"C1980","v":0}]
[null,{"$f":"Data!$C$7","v":"Peper"},null,"x",{"$f":"Data!$F$7","v":17},"=",{"$f":"C1981*E1981","v":0},null,null,null,null,null,"Peper",null,null,null,{"$f":"C1981","v":0}]
[]
[{"$f":"Data!$B$9","v":"Kabeljauwhaasje"},null,null,"x",{"$f":"Data!$F$9","v":17},"=",{"$f":"C1983*E1983","v":0},null,null,null,null,"Kabeljauwhaasje",null,null,null,null,null,{"$f":"C1983","v":0}]
[]
[{"$f":"Data!$B$11","v":"Kindermenu"},null,null,null,null,null,null,null,null,null,null,"Kindermenu"]
[null,{"$f":"Data!$C$12","v":"Natuur"},null,"x",{"$f":"Data!$F$12","v":8},"=",{"$f":"C1986*E1986","v":0},null,null,null,null,null,"Natuur",null,null,null,null,null,{"$f":"C1986","v":0}]
[null,{"$f":"Data!$C$13","v":"Champignons"},null,"x",{"$f":"Data!$F$13","v":8},"=",{"$f":"C1987*E1987","v":0},null,null,null,null,null,"Champignons",null,null,null,null,null,null,{"$f":"C1987","v":0}]
[null,{"$f":"Data!$C$14","v":"Peper"},null,"x",{"$f":"Data!$F$14","v":8},"=",0,null,null,null,null,null,"Peper",null,null,null,null,null,null,null,{"$f":"C1988","v":0}]
[null,{"$f":"Data!$C$15","v":"Kabeljauwhaasje"},null,"x",{"$f":"Data!$F$15","v":8},"=",0,null,null,null,null,null,"Kabeljauwhaasje",null,null,null,null,null,null,null,null,{"$f":"C1989","v":0}]
[]
[null,{"$f":"Data!$C$17","v":"Totaal eten:"},null,null,null,null,{"$f":"SUM(G1979:G1990)","v":0},null,null,null,null,null,"Totaal eten:",null,null,null,null,null,null,null,null,null,{"$f":"G1991","v":0}]
[null,{"$f":"Data!$C$18","v":"Totaal kaarten:"},null,"x",{"$f":"Data!$F$18","v":3},"=",{"$f":"-(C1992*E1992)","v":0}]
[null,null,null,null,null,null,null,null,null,null,null,null,"Totaal kaarten (bedrag):",null,null,null,null,null,null,null,null,null,null,{"$f":"C1992","v":0}]
[]
[null,{"$f":"Data!$C$21","v":"Totaal te betalen:"},null,null,null,null,{"$f":"G1991+G1992","v":0},null,null,null,null,null,"Totaal te betalen:",null,null,null,null,null,null,null,null,null,null,null,{"$f":"G1995","v":0}]
[]
[{"$f":"Data!$A$23","v":"TGV Opstal dankt u voor uw aanwezigheid!  Eet smakelijk!"}]
[]
["Fietsclub TGV Opstal",null,null,null,null,null,"Tafel nr:"]
[{"$f":"A1976","v":43}]
[]
[{"$f":"Data!$B$4","v":"Kalkoenfilet"}]
[null,{"$f":"Data!$C$5","v":"Natuur"},{"$f":"C1979","v":0},"x",{"$f":"Data!$F$5","v":17},"=",{"$f":"C2003*E2003","v":0}]
[null,{"$f":"Data!$C$6","v":"Champignons"},{"$f":"C1980","v":0},"x",{"$f":"Data!$F$6","v":17},"=",{"$f":"C2004*E2004","v":0}]
[null,{"$f":"Data!$C$7","v":"Peper"},0,"x",{"$f":"Data!$F$7","v":17},"=",{"$f":"C2005*E2005","v":0}]
[]
[{"$f":"Data!$B$9","v":"Kabeljauwhaasje"},null,0,"x",{"$f":"Data!$F$9","v":17},"=",{"$f":"C2007*E2007","v":0}]
[]
[{"$f":"Data!$B$11","v":"Kindermenu"}]
[null,{"$f":"Data!$C$12","v":"Natuur"},0,"x",{"$f":"Data!$F$12","v":8},"=",{"$f":"C2010*E2010","v":0}]
[null,{"$f":"Data!$C$13","v":"Champignons"},0,"x",{"$f":"Data!$F$13","v":8},"=",{"$f":"C2011*E2011","v":0}]
[null,{"$f":"Data!$C$14","v":"Peper"},0,"x",{"$f":"Data!$F$14","v":8},"=",0]
[null,{"$f":"Data!$C$15","v":"Kabeljauwhaasje"},0,"x",{"$f":"Data!$F$15","v":8},"=",0]
[]
[null,{"$f":"Data!$C$17","v":"Totaal eten:"},null,null,null,null,{"$f":"SUM(G2003:G2014)","v":0}]
[null,{"$f":"Data!$C$18","v":"Totaal kaarten:"},{"$f":"C1992","v":0},"x",{"$f":"Data!$F$18","v":3},"=",{"$f":"-(C2016*E2016)","v":0}]
[]
[]
[null,{"$f":"Data!$C$21","v":"Totaal te betalen:"},null,null,null,null,{"$f":"G2015+G2016","v":0}]
[]
[{"$f":"Data!$A$23","v":"TGV Opstal dankt u voor uw aanwezigheid!  Eet smakelijk!"}]
["Fietsclub TGV Opstal",null,null,null,null,null,"Tafel nr:"]
[{"$f":"A1976+1","v":44},null,null,null,null,null,null,null,null,null,null,{"$f":"A2023","v":44}]
[]
[{"$f":"Data!$B$4","v":"Kalkoenfilet"},null,null,null,null,null,null,null,null,null,null,"Kalkoenfilet"]
[null,{"$f":"Data!$C$5","v":"Natuur"},null,"x",{"$f":"Data!$F$5","v":17},"=",{"$f":"C2026*E2026","v":0},null,null,null,null,null,"Natuur",null,{"$f":"C2026","v":0}]
[null,{"$f":"Data!$C$6","v":"Champignons"},null,"x",{"$f":"Data!$F$6","v":17},"=",{"$f":"C2027*E2027","v":0},null,null,null,null,null,"Champignons",null,null,{"$f":"C2027","v":0}]
[null,{"$f":"Data!$C$7","v":"Peper"},null,"x",{"$f":"Data!$F$7","v":17},"=",{"$f":"C2028*E2028","v":0},null,null,null,null,null,"Peper",null,null,null,{"$f":"C2028","v":0}]
[]
[{"$f":"Data!$B$9","v":"Kabeljauwhaasje"},null,null,"x",{"$f":"Data!$F$9","v":17},"=",{"$f":"C2030*E2030","v":0},null,null,null,null,"Kabeljauwhaasje",null,null,null,null,null,{"$f":"C2030","v":0}]
[]
[{"$f":"Data!$B$11","v":"Kindermenu"},null,null,null,null,null,null,null,null,null,null,"Kindermenu"]
[null,{"$f":"Data!$C$12","v":"Natuur"},null,"x",{"$f":"Data!$F$12","v":8},"=",{"$f":"C2033*E2033","v":0},null,null,null,null,null,"Natuur",null,null,null,null,null,{"$f":"C2033","v":0}]
[null,{"$f":"Data!$C$13","v":"Champignons"},null,"x",{"$f":"Data!$F$13","v":8},"=",{"$f":"C2034*E2034","v":0},null,null,null,null,null,"Champignons",null,null,null,null,null,null,{"$f":"C2034","v":0}]
[null,{"$f":"Data!$C$14","v":"Peper"},null,"x",{"$f":"Data!$F$14","v":8},"=",0,null,null,null,null,null,"Peper",null,null,null,null,null,null,null,{"$f":"C2035","v":0}]
[null,{"$f":"Data!$C$15","v":"Kabeljauwhaasje"},null,"x",{"$f":"Data!$F$15","v":8},"=",0,null,null,null,null,null,"Kabeljauwhaasje",null,null,null,null,null,null,null,null,{"$f":"C2036","v":0}]
[]
[null,{"$f":"Data!$C$17","v":"Totaal eten:"},null,null,null,null,{"$f":"SUM(G2026:G2037)","v":0},null,null,null,null,null,"Totaal eten:",null,null,null,null,null,null,null,null,null,{"$f":"G2038","v":0}]
[null,{"$f":"Data!$C$18","v":"Totaal kaarten:"},null,"x",{"$f":"Data!$F$18","v":3},"=",{"$f":"-(C2039*E2039)","v":0}]
[null,null,null,null,null,null,null,null,null,null,null,null,"Totaal kaarten (bedrag):",null,null,null,null,null,null,null,null,null,null,{"$f":"C2039","v":0}]
[]
[null,{"$f":"Data!$C$21","v":"Totaal te betalen:"},null,null,null,null,{"$f":"G2038+G2039","v":0},null,null,null,null,null,"Totaal te betalen:",null,null,null,null,null,null,null,null,null,null,null,{"$f":"G2042","v":0}]
[]
[{"$f":"Data!$A$23","v":"TGV Opstal dankt u voor uw aanwezigheid!  Eet smakelijk!"}]
[]
["Fietsclub TGV Opstal",null,null,null,null,null,"Tafel nr:"]
[{"$f":"A2023","v":44}]
[]
[{"$f":"Data!$B$4","v":"Kalkoenfilet"}]
[null,{"$f":"Data!$C$5","v":"Natuur"},{"$f":"C2026","v":0},"x",{"$f":"Data!$F$5","v":17},"=",{"$f":"C2050*E2050","v":0}]
[null,{"$f":"Data!$C$6","v":"Champignons"},{"$f":"C2027","v":0},"x",{"$f":"Data!$F$6","v":17},"=",{"$f":"C2051*E2051","v":0}]
[null,{"$f":"Data!$C$7","v":"Peper"},0,"x",{"$f":"Data!$F$7","v":17},"=",{"$f":"C2052*E2052","v":0}]
[]
[{"$f":"Data!$B$9","v":"Kabeljauwhaasje"},null,0,"x",{"$f":"Data!$F$9","v":17},"=",{"$f":"C2054*E2054","v":0}]
[]
[{"$f":"Data!$B$11","v":"Kindermenu"}]
[null,{"$f":"Data!$C$12","v":"Natuur"},0,"x",{"$f":"Data!$F$12","v":8},"=",{"$f":"C2057*E2057","v":0}]
[null,{"$f":"Data!$C$13","v":"Champignons"},0,"x",{"$f":"Data!$F$13","v":8},"=",{"$f":"C2058*E2058","v":0}]
[null,{"$f":"Data!$C$14","v":"Peper"},0,"x",{"$f":"Data!$F$14","v":8},"=",0]
[null,{"$f":"Data!$C$15","v":"Kabeljauwhaasje"},0,"x",{"$f":"Data!$F$15","v":8},"=",0]
[]
[null,{"$f":"Data!$C$17","v":"Totaal eten:"},null,null,null,null,{"$f":"SUM(G2050:G2061)","v":0}]
[null,{"$f":"Data!$C$18","v":"Totaal kaarten:"},{"$f":"C2039","v":0},"x",{"$f":"Data!$F$18","v":3},"=",{"$f":"-(C2063*E2063)","v":0}]
[]
[]
[null,{"$f":"Data!$C$21","v":"Totaal te betalen:"},null,null,null,null,{"$f":"G2062+G2063","v":0}]
[]
[{"$f":"Data!$A$23","v":"TGV Opstal dankt u voor uw aanwezigheid!  Eet smakelijk!"}]
["Fietsclub TGV Opstal",null,null,null,null,null,"Tafel nr:"]
[{"$f":"A2023+1","v":45},null,null,null,null,null,null,null,null,null,null,{"$f":"A2070","v":45}]
[]
[{"$f":"Data!$B$4","v":"Kalkoenfilet"},null,null,null,null,null,null,null,null,null,null,"Kalkoenfilet"]
[null,{"$f":"Data!$C$5","v":"Natuur"},null,"x",{"$f":"Data!$F$5","v":17},"=",{"$f":"C2073*E2073","v":0},null,null,null,null,null,"Natuur",null,{"$f":"C2073","v":0}]
[null,{"$f":"Data!$C$6","v":"Champignons"},null,"x",{"$f":"Data!$F$6","v":17},"=",{"$f":"C2074*E2074","v":0},null,null,null,null,null,"Champignons",null,null,{"$f":"C2074","v":0}]
[null,{"$f":"Data!$C$7","v":"Peper"},null,"x",{"$f":"Data!$F$7","v":17},"=",{"$f":"C2075*E2075","v":0},null,null,null,null,null,"Peper",null,null,null,{"$f":"C2075","v":0}]
[]
[{"$f":"Data!$B$9","v":"Kabeljauwhaasje"},null,null,"x",{"$f":"Data!$F$9","v":17},"=",{"$f":"C2077*E2077","v":0},null,null,null,null,"Kabeljauwhaasje",null,null,null,null,null,{"$f":"C2077","v":0}]
[]
[{"$f":"Data!$B$11","v":"Kindermenu"},null,null,null,null,null,null,null,null,null,null,"Kindermenu"]
[null,{"$f":"Data!$C$12","v":"Natuur"},null,"x",{"$f":"Data!$F$12","v":8},"=",{"$f":"C2080*E2080","v":0},null,null,null,null,null,"Natuur",null,null,null,null,null,{"$f":"C2080","v":0}]
[null,{"$f":"Data!$C$13","v":"Champignons"},null,"x",{"$f":"Data!$F$13","v":8},"=",{"$f":"C2081*E2081","v":0},null,null,null,null,null,"Champignons",null,null,null,null,null,null,{"$f":"C2081","v":0}]
[null,{"$f":"Data!$C$14","v":"Peper"},null,"x",{"$f":"Data!$F$14","v":8},"=",0,null,null,null,null,null,"Peper",null,null,null,null,null,null,null,{"$f":"C2082","v":0}]
[null,{"$f":"Data!$C$15","v":"Kabeljauwhaasje"},null,"x",{"$f":"Data!$F$15","v":8},"=",0,null,null,null,null,null,"Kabeljauwhaasje",null,null,null,null,null,null,null,null,{"$f":"C2083","v":0}]
[]
[null,{"$f":"Data!$C$17","v":"Totaal eten:"},null,null,null,null,{"$f":"SUM(G2073:G2084)","v":0},null,null,null,null,null,"Totaal eten:",null,null,null,null,null,null,null,null,null,{"$f":"G2085","v":0}]
[null,{"$f":"Data!$C$18","v":"Totaal kaarten:"},null,"x",{"$f":"Data!$F$18","v":3},"=",{"$f":"-(C2086*E2086)","v":0}]
[null,null,null,null,null,null,null,null,null,null,null,null,"Totaal kaarten (bedrag):",null,null,null,null,null,null,null,null,null,null,{"$f":"C2086","v":0}]
[]
[null,{"$f":"Data!$C$21","v":"Totaal te betalen:"},null,null,null,null,{"$f":"G2085+G2086","v":0},null,null,null,null,null,"Totaal te betalen:",null,null,null,null,null,null,null,null,null,null,null,{"$f":"G2089","v":0}]
[]
[{"$f":"Data!$A$23","v":"TGV Opstal dankt u voor uw aanwezigheid!  Eet smakelijk!"}]
[]
["Fietsclub TGV Opstal",null,null,null,null,null,"Tafel nr:"]
[{"$f":"A2070","v":45}]
[]
[{"$f":"Data!$B$4","v":"Kalkoenfilet"}]
[null,{"$f":"Data!$C$5","v":"Natuur"},{"$f":"C2073","v":0},"x",{"$f":"Data!$F$5","v":17},"=",{"$f":"C2097*E2097","v":0}]
[null,{"$f":"Data!$C$6","v":"Champignons"},{"$f":"C2074","v":0},"x",{"$f":"Data!$F$6","v":17},"=",{"$f":"C2098*E2098","v":0}]
[null,{"$f":"Data!$C$7","v":"Peper"},0,"x",{"$f":"Data!$F$7","v":17},"=",{"$f":"C2099*E2099","v":0}]
[]
[{"$f":"Data!$B$9","v":"Kabeljauwhaasje"},null,0,"x",{"$f":"Data!$F$9","v":17},"=",{"$f":"C2101*E2101","v":0}]
[]
[{"$f":"Data!$B$11","v":"Kindermenu"}]
[null,{"$f":"Data!$C$12","v":"Natuur"},0,"x",{"$f":"Data!$F$12","v":8},"=",{"$f":"C2104*E2104","v":0}]
[null,{"$f":"Data!$C$13","v":"Champignons"},0,"x",{"$f":"Data!$F$13","v":8},"=",{"$f":"C2105*E2105","v":0}]
[null,{"$f":"Data!$C$14","v":"Peper"},0,"x",{"$f":"Data!$F$14","v":8},"=",0]
[null,{"$f":"Data!$C$15","v":"Kabeljauwhaasje"},0,"x",{"$f":"Data!$F$15","v":8},"=",0]
[]
[null,{"$f":"Data!$C$17","v":"Totaal eten:"},null,null,null,null,{"$f":"SUM(G2097:G2108)","v":0}]
[null,{"$f":"Data!$C$18","v":"Totaal kaarten:"},{"$f":"C2086","v":0},"x",{"$f":"Data!$F$18","v":3},"=",{"$f":"-(C2110*E2110)","v":0}]
[]
[]
[null,{"$f":"Data!$C$21","v":"Totaal te betalen:"},null,null,null,null,{"$f":"G2109+G2110","v":0}]
[]
[{"$f":"Data!$A$23","v":"TGV Opstal dankt u voor uw aanwezigheid!  Eet smakelijk!"}]
["Fietsclub TGV Opstal",null,null,null,null,null,"Tafel nr:"]
[{"$f":"A2070+1","v":46},null,null,null,null,null,null,null,null,null,null,{"$f":"A2117","v":46}]
[]
[{"$f":"Data!$B$4","v":"Kalkoenfilet"},null,null,null,null,null,null,null,null,null,null,"Kalkoenfilet"]
[null,{"$f":"Data!$C$5","v":"Natuur"},null,"x",{"$f":"Data!$F$5","v":17},"=",{"$f":"C2120*E2120","v":0},null,null,null,null,null,"Natuur",null,{"$f":"C2120","v":0}]
[null,{"$f":"Data!$C$6","v":"Champignons"},null,"x",{"$f":"Data!$F$6","v":17},"=",{"$f":"C2121*E2121","v":0},null,null,null,null,null,"Champignons",null,null,{"$f":"C2121","v":0}]
[null,{"$f":"Data!$C$7","v":"Peper"},null,"x",{"$f":"Data!$F$7","v":17},"=",{"$f":"C2122*E2122","v":0},null,null,null,null,null,"Peper",null,null,null,{"$f":"C2122","v":0}]
[]
[{"$f":"Data!$B$9","v":"Kabeljauwhaasje"},null,null,"x",{"$f":"Data!$F$9","v":17},"=",{"$f":"C2124*E2124","v":0},null,null,null,null,"Kabeljauwhaasje",null,null,null,null,null,{"$f":"C2124","v":0}]
[]
[{"$f":"Data!$B$11","v":"Kindermenu"},null,null,null,null,null,null,null,null,null,null,"Kindermenu"]
[null,{"$f":"Data!$C$12","v":"Natuur"},null,"x",{"$f":"Data!$F$12","v":8},"=",{"$f":"C2127*E2127","v":0},null,null,null,null,null,"Natuur",null,null,null,null,null,{"$f":"C2127","v":0}]
[null,{"$f":"Data!$C$13","v":"Champignons"},null,"x",{"$f":"Data!$F$13","v":8},"=",{"$f":"C2128*E2128","v":0},null,null,null,null,null,"Champignons",null,null,null,null,null,null,{"$f":"C2128","v":0}]
[null,{"$f":"Data!$C$14","v":"Peper"},null,"x",{"$f":"Data!$F$14","v":8},"=",0,null,null,null,null,null,"Peper",null,null,null,null,null,null,null,{"$f":"C2129","v":0}]
[null,{"$f":"Data!$C$15","v":"Kabeljauwhaasje"},null,"x",{"$f":"Data!$F$15","v":8},"=",0,null,null,null,null,null,"Kabeljauwhaasje",null,null,null,null,null,null,null,null,{"$f":"C2130","v":0}]
[]
[null,{"$f":"Data!$C$17","v":"Totaal eten:"},null,null,null,null,{"$f":"SUM(G2120:G2131)","v":0},null,null,null,null,null,"Totaal eten:",null,null,null,null,null,null,null,null,null,{"$f":"G2132","v":0}]
[null,{"$f":"Data!$C$18","v":"Totaal kaarten:"},null,"x",{"$f":"Data!$F$18","v":3},"=",{"$f":"-(C2133*E2133)","v":0}]
[null,null,null,null,null,null,null,null,null,null,null,null,"Totaal kaarten (bedrag):",null,null,null,null,null,null,null,null,null,null,{"$f":"C2133","v":0}]
[]
[null,{"$f":"Data!$C$21","v":"Totaal te betalen:"},null,null,null,null,{"$f":"G2132+G2133","v":0},null,null,null,null,null,"Totaal te betalen:",null,null,null,null,null,null,null,null,null,null,null,{"$f":"G2136","v":0}]
[]
[{"$f":"Data!$A$23","v":"TGV Opstal dankt u voor uw aanwezigheid!  Eet smakelijk!"}]
[]
["Fietsclub TGV Opstal",null,null,null,null,null,"Tafel nr:"]
[{"$f":"A2117","v":46}]
[]
[{"$f":"Data!$B$4","v":"Kalkoenfilet"}]
[null,{"$f":"Data!$C$5","v":"Natuur"},{"$f":"C2120","v":0},"x",{"$f":"Data!$F$5","v":17},"=",{"$f":"C2144*E2144","v":0}]
[null,{"$f":"Data!$C$6","v":"Champignons"},{"$f":"C2121","v":0},"x",{"$f":"Data!$F$6","v":17},"=",{"$f":"C2145*E2145","v":0}]
[null,{"$f":"Data!$C$7","v":"Peper"},0,"x",{"$f":"Data!$F$7","v":17},"=",{"$f":"C2146*E2146","v":0}]
[]
[{"$f":"Data!$B$9","v":"Kabeljauwhaasje"},null,0,"x",{"$f":"Data!$F$9","v":17},"=",{"$f":"C2148*E2148","v":0}]
[]
[{"$f":"Data!$B$11","v":"Kindermenu"}]
[null,{"$f":"Data!$C$12","v":"Natuur"},0,"x",{"$f":"Data!$F$12","v":8},"=",{"$f":"C2151*E2151","v":0}]
[null,{"$f":"Data!$C$13","v":"Champignons"},0,"x",{"$f":"Data!$F$13","v":8},"=",{"$f":"C2152*E2152","v":0}]
[null,{"$f":"Data!$C$14","v":"Peper"},0,"x",{"$f":"Data!$F$14","v":8},"=",0]
[null,{"$f":"Data!$C$15","v":"Kabeljauwhaasje"},0,"x",{"$f":"Data!$F$15","v":8},"=",0]
[]
[null,{"$f":"Data!$C$17","v":"Totaal eten:"},null,null,null,null,{"$f":"SUM(G2144:G2155)","v":0}]
[null,{"$f":"Data!$C$18","v":"Totaal kaarten:"},{"$f":"C2133","v":0},"x",{"$f":"Data!$F$18","v":3},"=",{"$f":"-(C2157*E2157)","v":0}]
[]
[]
[null,{"$f":"Data!$C$21","v":"Totaal te betalen:"},null,null,null,null,{"$f":"G2156+G2157","v":0}]
[]
[{"$f":"Data!$A$23","v":"TGV Opstal dankt u voor uw aanwezigheid!  Eet smakelijk!"}]
["Fietsclub TGV Opstal",null,null,null,null,null,"Tafel nr:"]
[{"$f":"A2117+1","v":47},null,null,null,null,null,null,null,null,null,null,{"$f":"A2164","v":47}]
[]
[{"$f":"Data!$B$4","v":"Kalkoenfilet"},null,null,null,null,null,null,null,null,null,null,"Kalkoenfilet"]
[null,{"$f":"Data!$C$5","v":"Natuur"},null,"x",{"$f":"Data!$F$5","v":17},"=",{"$f":"C2167*E2167","v":0},null,null,null,null,null,"Natuur",null,{"$f":"C2167","v":0}]
[null,{"$f":"Data!$C$6","v":"Champignons"},null,"x",{"$f":"Data!$F$6","v":17},"=",{"$f":"C2168*E2168","v":0},null,null,null,null,null,"Champignons",null,null,{"$f":"C2168","v":0}]
[null,{"$f":"Data!$C$7","v":"Peper"},null,"x",{"$f":"Data!$F$7","v":17},"=",{"$f":"C2169*E2169","v":0},null,null,null,null,null,"Peper",null,null,null,{"$f":"C2169","v":0}]
[]
[{"$f":"Data!$B$9","v":"Kabeljauwhaasje"},null,null,"x",{"$f":"Data!$F$9","v":17},"=",{"$f":"C2171*E2171","v":0},null,null,null,null,"Kabeljauwhaasje",null,null,null,null,null,{"$f":"C2171","v":0}]
[]
[{"$f":"Data!$B$11","v":"Kindermenu"},null,null,null,null,null,null,null,null,null,null,"Kindermenu"]
[null,{"$f":"Data!$C$12","v":"Natuur"},null,"x",{"$f":"Data!$F$12","v":8},"=",{"$f":"C2174*E2174","v":0},null,null,null,null,null,"Natuur",null,null,null,null,null,{"$f":"C2174","v":0}]
[null,{"$f":"Data!$C$13","v":"Champignons"},null,"x",{"$f":"Data!$F$13","v":8},"=",{"$f":"C2175*E2175","v":0},null,null,null,null,null,"Champignons",null,null,null,null,null,null,{"$f":"C2175","v":0}]
[null,{"$f":"Data!$C$14","v":"Peper"},null,"x",{"$f":"Data!$F$14","v":8},"=",0,null,null,null,null,null,"Peper",null,null,null,null,null,null,null,{"$f":"C2176","v":0}]
[null,{"$f":"Data!$C$15","v":"Kabeljauwhaasje"},null,"x",{"$f":"Data!$F$15","v":8},"=",0,null,null,null,null,null,"Kabeljauwhaasje",null,null,null,null,null,null,null,null,{"$f":"C2177","v":0}]
[]
[null,{"$f":"Data!$C$17","v":"Totaal eten:"},null,null,null,null,{"$f":"SUM(G2167:G2178)","v":0},null,null,null,null,null,"Totaal eten:",null,null,null,null,null,null,null,null,null,{"$f":"G2179","v":0}]
[null,{"$f":"Data!$C$18","v":"Totaal kaarten:"},null,"x",{"$f":"Data!$F$18","v":3},"=",{"$f":"-(C2180*E2180)","v":0}]
[null,null,null,null,null,null,null,null,null,null,null,null,"Totaal kaarten (bedrag):",null,null,null,null,null,null,null,null,null,null,{"$f":"C2180","v":0}]
[]
[null,{"$f":"Data!$C$21","v":"Totaal te betalen:"},null,null,null,null,{"$f":"G2179+G2180","v":0},null,null,null,null,null,"Totaal te betalen:",null,null,null,null,null,null,null,null,null,null,null,{"$f":"G2183","v":0}]
[]
[{"$f":"Data!$A$23","v":"TGV Opstal dankt u voor uw aanwezigheid!  Eet smakelijk!"}]
[]
["Fietsclub TGV Opstal",null,null,null,null,null,"Tafel nr:"]
[{"$f":"A2164","v":47}]
[]
[{"$f":"Data!$B$4","v":"Kalkoenfilet"}]
[null,{"$f":"Data!$C$5","v":"Natuur"},{"$f":"C2167","v":0},"x",{"$f":"Data!$F$5","v":17},"=",{"$f":"C2191*E2191","v":0}]
[null,{"$f":"Data!$C$6","v":"Champignons"},{"$f":"C2168","v":0},"x",{"$f":"Data!$F$6","v":17},"=",{"$f":"C2192*E2192","v":0}]
[null,{"$f":"Data!$C$7","v":"Peper"},0,"x",{"$f":"Data!$F$7","v":17},"=",{"$f":"C2193*E2193","v":0}]
[]
[{"$f":"Data!$B$9","v":"Kabeljauwhaasje"},null,0,"x",{"$f":"Data!$F$9","v":17},"=",{"$f":"C2195*E2195","v":0}]
[]
[{"$f":"Data!$B$11","v":"Kindermenu"}]
[null,{"$f":"Data!$C$12","v":"Natuur"},0,"x",{"$f":"Data!$F$12","v":8},"=",{"$f":"C2198*E2198","v":0}]
[null,{"$f":"Data!$C$13","v":"Champignons"},0,"x",{"$f":"Data!$F$13","v":8},"=",{"$f":"C2199*E2199","v":0}]
[null,{"$f":"Data!$C$14","v":"Peper"},0,"x",{"$f":"Data!$F$14","v":8},"=",0]
[null,{"$f":"Data!$C$15","v":"Kabeljauwhaasje"},0,"x",{"$f":"Data!$F$15","v":8},"=",0]
[]
[null,{"$f":"Data!$C$17","v":"Totaal eten:"},null,null,null,null,{"$f":"SUM(G2191:G2202)","v":0}]
[null,{"$f":"Data!$C$18","v":"Totaal kaarten:"},{"$f":"C2180","v":0},"x",{"$f":"Data!$F$18","v":3},"=",{"$f":"-(C2204*E2204)","v":0}]
[]
[]
[null,{"$f":"Data!$C$21","v":"Totaal te betalen:"},null,null,null,null,{"$f":"G2203+G2204","v":0}]
[]
[{"$f":"Data!$A$23","v":"TGV Opstal dankt u voor uw aanwezigheid!  Eet smakelijk!"}]
["Fietsclub TGV Opstal",null,null,null,null,null,"Tafel nr:"]
[{"$f":"A2164+1","v":48},null,null,null,null,null,null,null,null,null,null,{"$f":"A2211","v":48}]
[]
[{"$f":"Data!$B$4","v":"Kalkoenfilet"},null,null,null,null,null,null,null,null,null,null,"Kalkoenfilet"]
[null,{"$f":"Data!$C$5","v":"Natuur"},null,"x",{"$f":"Data!$F$5","v":17},"=",{"$f":"C2214*E2214","v":0},null,null,null,null,null,"Natuur",null,{"$f":"C2214","v":0}]
[null,{"$f":"Data!$C$6","v":"Champignons"},null,"x",{"$f":"Data!$F$6","v":17},"=",{"$f":"C2215*E2215","v":0},null,null,null,null,null,"Champignons",null,null,{"$f":"C2215","v":0}]
[null,{"$f":"Data!$C$7","v":"Peper"},null,"x",{"$f":"Data!$F$7","v":17},"=",{"$f":"C2216*E2216","v":0},null,null,null,null,null,"Peper",null,null,null,{"$f":"C2216","v":0}]
[]
[{"$f":"Data!$B$9","v":"Kabeljauwhaasje"},null,null,"x",{"$f":"Data!$F$9","v":17},"=",{"$f":"C2218*E2218","v":0},null,null,null,null,"Kabeljauwhaasje",null,null,null,null,null,{"$f":"C2218","v":0}]
[]
[{"$f":"Data!$B$11","v":"Kindermenu"},null,null,null,null,null,null,null,null,null,null,"Kindermenu"]
[null,{"$f":"Data!$C$12","v":"Natuur"},null,"x",{"$f":"Data!$F$12","v":8},"=",{"$f":"C2221*E2221","v":0},null,null,null,null,null,"Natuur",null,null,null,null,null,{"$f":"C2221","v":0}]
[null,{"$f":"Data!$C$13","v":"Champignons"},null,"x",{"$f":"Data!$F$13","v":8},"=",{"$f":"C2222*E2222","v":0},null,null,null,null,null,"Champignons",null,null,null,null,null,null,{"$f":"C2222","v":0}]
[null,{"$f":"Data!$C$14","v":"Peper"},null,"x",{"$f":"Data!$F$14","v":8},"=",0,null,null,null,null,null,"Peper",null,null,null,null,null,null,null,{"$f":"C2223","v":0}]
[null,{"$f":"Data!$C$15","v":"Kabeljauwhaasje"},null,"x",{"$f":"Data!$F$15","v":8},"=",0,null,null,null,null,null,"Kabeljauwhaasje",null,null,null,null,null,null,null,null,{"$f":"C2224","v":0}]
[]
[null,{"$f":"Data!$C$17","v":"Totaal eten:"},null,null,null,null,{"$f":"SUM(G2214:G2225)","v":0},null,null,null,null,null,"Totaal eten:",null,null,null,null,null,null,null,null,null,{"$f":"G2226","v":0}]
[null,{"$f":"Data!$C$18","v":"Totaal kaarten:"},null,"x",{"$f":"Data!$F$18","v":3},"=",{"$f":"-(C2227*E2227)","v":0}]
[null,null,null,null,null,null,null,null,null,null,null,null,"Totaal kaarten (bedrag):",null,null,null,null,null,null,null,null,null,null,{"$f":"C2227","v":0}]
[]
[null,{"$f":"Data!$C$21","v":"Totaal te betalen:"},null,null,null,null,{"$f":"G2226+G2227","v":0},null,null,null,null,null,"Totaal te betalen:",null,null,null,null,null,null,null,null,null,null,null,{"$f":"G2230","v":0}]
[]
[{"$f":"Data!$A$23","v":"TGV Opstal dankt u voor uw aanwezigheid!  Eet smakelijk!"}]
[]
["Fietsclub TGV Opstal",null,null,null,null,null,"Tafel nr:"]
[{"$f":"A2211","v":48}]
[]
[{"$f":"Data!$B$4","v":"Kalkoenfilet"}]
[null,{"$f":"Data!$C$5","v":"Natuur"},{"$f":"C2214","v":0},"x",{"$f":"Data!$F$5","v":17},"=",{"$f":"C2238*E2238","v":0}]
[null,{"$f":"Data!$C$6","v":"Champignons"},{"$f":"C2215","v":0},"x",{"$f":"Data!$F$6","v":17},"=",{"$f":"C2239*E2239","v":0}]
[null,{"$f":"Data!$C$7","v":"Peper"},0,"x",{"$f":"Data!$F$7","v":17},"=",{"$f":"C2240*E2240","v":0}]
[]
[{"$f":"Data!$B$9","v":"Kabeljauwhaasje"},null,0,"x",{"$f":"Data!$F$9","v":17},"=",{"$f":"C2242*E2242","v":0}]
[]
[{"$f":"Data!$B$11","v":"Kindermenu"}]
[null,{"$f":"Data!$C$12","v":"Natuur"},0,"x",{"$f":"Data!$F$12","v":8},"=",{"$f":"C2245*E2245","v":0}]
[null,{"$f":"Data!$C$13","v":"Champignons"},0,"x",{"$f":"Data!$F$13","v":8},"=",{"$f":"C2246*E2246","v":0}]
[null,{"$f":"Data!$C$14","v":"Peper"},0,"x",{"$f":"Data!$F$14","v":8},"=",0]
[null,{"$f":"Data!$C$15","v":"Kabeljauwhaasje"},0,"x",{"$f":"Data!$F$15","v":8},"=",0]
[]
[null,{"$f":"Data!$C$17","v":"Totaal eten:"},null,null,null,null,{"$f":"SUM(G2238:G2249)","v":0}]
[null,{"$f":"Data!$C$18","v":"Totaal kaarten:"},{"$f":"C2227","v":0},"x",{"$f":"Data!$F$18","v":3},"=",{"$f":"-(C2251*E2251)","v":0}]
[]
[]
[null,{"$f":"Data!$C$21","v":"Totaal te betalen:"},null,null,null,null,{"$f":"G2250+G2251","v":0}]
[]
[{"$f":"Data!$A$23","v":"TGV Opstal dankt u voor uw aanwezigheid!  Eet smakelijk!"}]
["Fietsclub TGV Opstal",null,null,null,null,null,"Tafel nr:"]
[{"$f":"A2211+1","v":49},null,null,null,null,null,null,null,null,null,null,{"$f":"A2258","v":49}]
[]
[{"$f":"Data!$B$4","v":"Kalkoenfilet"},null,null,null,null,null,null,null,null,null,null,"Kalkoenfilet"]
[null,{"$f":"Data!$C$5","v":"Natuur"},null,"x",{"$f":"Data!$F$5","v":17},"=",{"$f":"C2261*E2261","v":0},null,null,null,null,null,"Natuur",null,{"$f":"C2261","v":0}]
[null,{"$f":"Data!$C$6","v":"Champignons"},null,"x",{"$f":"Data!$F$6","v":17},"=",{"$f":"C2262*E2262","v":0},null,null,null,null,null,"Champignons",null,null,{"$f":"C2262","v":0}]
[null,{"$f":"Data!$C$7","v":"Peper"},null,"x",{"$f":"Data!$F$7","v":17},"=",{"$f":"C2263*E2263","v":0},null,null,null,null,null,"Peper",null,null,null,{"$f":"C2263","v":0}]
[]
[{"$f":"Data!$B$9","v":"Kabeljauwhaasje"},null,null,"x",{"$f":"Data!$F$9","v":17},"=",{"$f":"C2265*E2265","v":0},null,null,null,null,"Kabeljauwhaasje",null,null,null,null,null,{"$f":"C2265","v":0}]
[]
[{"$f":"Data!$B$11","v":"Kindermenu"},null,null,null,null,null,null,null,null,null,null,"Kindermenu"]
[null,{"$f":"Data!$C$12","v":"Natuur"},null,"x",{"$f":"Data!$F$12","v":8},"=",{"$f":"C2268*E2268","v":0},null,null,null,null,null,"Natuur",null,null,null,null,null,{"$f":"C2268","v":0}]
[null,{"$f":"Data!$C$13","v":"Champignons"},null,"x",{"$f":"Data!$F$13","v":8},"=",{"$f":"C2269*E2269","v":0},null,null,null,null,null,"Champignons",null,null,null,null,null,null,{"$f":"C2269","v":0}]
[null,{"$f":"Data!$C$14","v":"Peper"},null,"x",{"$f":"Data!$F$14","v":8},"=",0,null,null,null,null,null,"Peper",null,null,null,null,null,null,null,{"$f":"C2270","v":0}]
[null,{"$f":"Data!$C$15","v":"Kabeljauwhaasje"},null,"x",{"$f":"Data!$F$15","v":8},"=",0,null,null,null,null,null,"Kabeljauwhaasje",null,null,null,null,null,null,null,null,{"$f":"C2271","v":0}]
[]
[null,{"$f":"Data!$C$17","v":"Totaal eten:"},null,null,null,null,{"$f":"SUM(G2261:G2272)","v":0},null,null,null,null,null,"Totaal eten:",null,null,null,null,null,null,null,null,null,{"$f":"G2273","v":0}]
[null,{"$f":"Data!$C$18","v":"Totaal kaarten:"},null,"x",{"$f":"Data!$F$18","v":3},"=",{"$f":"-(C2274*E2274)","v":0}]
[null,null,null,null,null,null,null,null,null,null,null,null,"Totaal kaarten (bedrag):",null,null,null,null,null,null,null,null,null,null,{"$f":"C2274","v":0}]
[]
[null,{"$f":"Data!$C$21","v":"Totaal te betalen:"},null,null,null,null,{"$f":"G2273+G2274","v":0},null,null,null,null,null,"Totaal te betalen:",null,null,null,null,null,null,null,null,null,null,null,{"$f":"G2277","v":0}]
[]
[{"$f":"Data!$A$23","v":"TGV Opstal dankt u voor uw aanwezigheid!  Eet smakelijk!"}]
[]
["Fietsclub TGV Opstal",null,null,null,null,null,"Tafel nr:"]
[{"$f":"A2258","v":49}]
[]
[{"$f":"Data!$B$4","v":"Kalkoenfilet"}]
[null,{"$f":"Data!$C$5","v":"Natuur"},{"$f":"C2261","v":0},"x",{"$f":"Data!$F$5","v":17},"=",{"$f":"C2285*E2285","v":0}]
[null,{"$f":"Data!$C$6","v":"Champignons"},{"$f":"C2262","v":0},"x",{"$f":"Data!$F$6","v":17},"=",{"$f":"C2286*E2286","v":0}]
[null,{"$f":"Data!$C$7","v":"Peper"},0,"x",{"$f":"Data!$F$7","v":17},"=",{"$f":"C2287*E2287","v":0}]
[]
[{"$f":"Data!$B$9","v":"Kabeljauwhaasje"},null,0,"x",{"$f":"Data!$F$9","v":17},"=",{"$f":"C2289*E2289","v":0}]
[]
[{"$f":"Data!$B$11","v":"Kindermenu"}]
[null,{"$f":"Data!$C$12","v":"Natuur"},0,"x",{"$f":"Data!$F$12","v":8},"=",{"$f":"C2292*E2292","v":0}]
[null,{"$f":"Data!$C$13","v":"Champignons"},0,"x",{"$f":"Data!$F$13","v":8},"=",{"$f":"C2293*E2293","v":0}]
[null,{"$f":"Data!$C$14","v":"Peper"},0,"x",{"$f":"Data!$F$14","v":8},"=",0]
[null,{"$f":"Data!$C$15","v":"Kabeljauwhaasje"},0,"x",{"$f":"Data!$F$15","v":8},"=",0]
[]
[null,{"$f":"Data!$C$17","v":"Totaal eten:"},null,null,null,null,{"$f":"SUM(G2285:G2296)","v":0}]
[null,{"$f":"Data!$C$18","v":"Totaal kaarten:"},{"$f":"C2274","v":0},"x",{"$f":"Data!$F$18","v":3},"=",{"$f":"-(C2298*E2298)","v":0}]
[]
[]
[null,{"$f":"Data!$C$21","v":"Totaal te betalen:"},null,null,null,null,{"$f":"G2297+G2298","v":0}]
[]
[{"$f":"Data!$A$23","v":"TGV Opstal dankt u voor uw aanwezigheid!  Eet smakelijk!"}]
["Fietsclub TGV Opstal",null,null,null,null,null,"Tafel nr:"]
[{"$f":"A2258+1","v":50},null,null,null,null,null,null,null,null,null,null,{"$f":"A2305","v":50}]
[]
[{"$f":"Data!$B$4","v":"Kalkoenfilet"},null,null,null,null,null,null,null,null,null,null,"Kalkoenfilet"]
[null,{"$f":"Data!$C$5","v":"Natuur"},null,"x",{"$f":"Data!$F$5","v":17},"=",{"$f":"C2308*E2308","v":0},null,null,null,null,null,"Natuur",null,{"$f":"C2308","v":0}]
[null,{"$f":"Data!$C$6","v":"Champignons"},null,"x",{"$f":"Data!$F$6","v":17},"=",{"$f":"C2309*E2309","v":0},null,null,null,null,null,"Champignons",null,null,{"$f":"C2309","v":0}]
[null,{"$f":"Data!$C$7","v":"Peper"},null,"x",{"$f":"Data!$F$7","v":17},"=",{"$f":"C2310*E2310","v":0},null,null,null,null,null,"Peper",null,null,null,{"$f":"C2310","v":0}]
[]
[{"$f":"Data!$B$9","v":"Kabeljauwhaasje"},null,null,"x",{"$f":"Data!$F$9","v":17},"=",{"$f":"C2312*E2312","v":0},null,null,null,null,"Kabeljauwhaasje",null,null,null,null,null,{"$f":"C2312","v":0}]
[]
[{"$f":"Data!$B$11","v":"Kindermenu"},null,null,null,null,null,null,null,null,null,null,"Kindermenu"]
[null,{"$f":"Data!$C$12","v":"Natuur"},null,"x",{"$f":"Data!$F$12","v":8},"=",{"$f":"C2315*E2315","v":0},null,null,null,null,null,"Natuur",null,null,null,null,null,{"$f":"C2315","v":0}]
[null,{"$f":"Data!$C$13","v":"Champignons"},null,"x",{"$f":"Data!$F$13","v":8},"=",{"$f":"C2316*E2316","v":0},null,null,null,null,null,"Champignons",null,null,null,null,null,null,{"$f":"C2316","v":0}]
[null,{"$f":"Data!$C$14","v":"Peper"},null,"x",{"$f":"Data!$F$14","v":8},"=",0,null,null,null,null,null,"Peper",null,null,null,null,null,null,null,{"$f":"C2317","v":0}]
[null,{"$f":"Data!$C$15","v":"Kabeljauwhaasje"},null,"x",{"$f":"Data!$F$15","v":8},"=",0,null,null,null,null,null,"Kabeljauwhaasje",null,null,null,null,null,null,null,null,{"$f":"C2318","v":0}]
[]
[null,{"$f":"Data!$C$17","v":"Totaal eten:"},null,null,null,null,{"$f":"SUM(G2308:G2319)","v":0},null,null,null,null,null,"Totaal eten:",null,null,null,null,null,null,null,null,null,{"$f":"G2320","v":0}]
[null,{"$f":"Data!$C$18","v":"Totaal kaarten:"},null,"x",{"$f":"Data!$F$18","v":3},"=",{"$f":"-(C2321*E2321)","v":0}]
[null,null,null,null,null,null,null,null,null,null,null,null,"Totaal kaarten (bedrag):",null,null,null,null,null,null,null,null,null,null,{"$f":"C2321","v":0}]
[]
[null,{"$f":"Data!$C$21","v":"Totaal te betalen:"},null,null,null,null,{"$f":"G2320+G2321","v":0},null,null,null,null,null,"Totaal te betalen:",null,null,null,null,null,null,null,null,null,null,null,{"$f":"G2324","v":0}]
[]
[{"$f":"Data!$A$23","v":"TGV Opstal dankt u voor uw aanwezigheid!  Eet smakelijk!"}]
[]
["Fietsclub TGV Opstal",null,null,null,null,null,"Tafel nr:"]
[{"$f":"A2305","v":50}]
[]
[{"$f":"Data!$B$4","v":"Kalkoenfilet"}]
[null,{"$f":"Data!$C$5","v":"Natuur"},{"$f":"C2308","v":0},"x",{"$f":"Data!$F$5","v":17},"=",{"$f":"C2332*E2332","v":0}]
[null,{"$f":"Data!$C$6","v":"Champignons"},{"$f":"C2309","v":0},"x",{"$f":"Data!$F$6","v":17},"=",{"$f":"C2333*E2333","v":0}]
[null,{"$f":"Data!$C$7","v":"Peper"},0,"x",{"$f":"Data!$F$7","v":17},"=",{"$f":"C2334*E2334","v":0}]
[]
[{"$f":"Data!$B$9","v":"Kabeljauwhaasje"},null,0,"x",{"$f":"Data!$F$9","v":17},"=",{"$f":"C2336*E2336","v":0}]
[]
[{"$f":"Data!$B$11","v":"Kindermenu"}]
[null,{"$f":"Data!$C$12","v":"Natuur"},0,"x",{"$f":"Data!$F$12","v":8},"=",{"$f":"C2339*E2339","v":0}]
[null,{"$f":"Data!$C$13","v":"Champignons"},0,"x",{"$f":"Data!$F$13","v":8},"=",{"$f":"C2340*E2340","v":0}]
[null,{"$f":"Data!$C$14","v":"Peper"},0,"x",{"$f":"Data!$F$14","v":8},"=",0]
[null,{"$f":"Data!$C$15","v":"Kabeljauwhaasje"},0,"x",{"$f":"Data!$F$15","v":8},"=",0]
[]
[null,{"$f":"Data!$C$17","v":"Totaal eten:"},null,null,null,null,{"$f":"SUM(G2332:G2343)","v":0}]
[null,{"$f":"Data!$C$18","v":"Totaal kaarten:"},{"$f":"C2321","v":0},"x",{"$f":"Data!$F$18","v":3},"=",{"$f":"-(C2345*E2345)","v":0}]
[]
[]
[null,{"$f":"Data!$C$21","v":"Totaal te betalen:"},null,null,null,null,{"$f":"G2344+G2345","v":0}]
[]
[{"$f":"Data!$A$23","v":"TGV Opstal dankt u voor uw aanwezigheid!  Eet smakelijk!"}]
["Fietsclub TGV Opstal",null,null,null,null,null,"Tafel nr:"]
[{"$f":"A2305+1","v":51},null,null,null,null,null,null,null,null,null,null,{"$f":"A2352","v":51}]
[]
[{"$f":"Data!$B$4","v":"Kalkoenfilet"},null,null,null,null,null,null,null,null,null,null,"Kalkoenfilet"]
[null,{"$f":"Data!$C$5","v":"Natuur"},null,"x",{"$f":"Data!$F$5","v":17},"=",{"$f":"C2355*E2355","v":0},null,null,null,null,null,"Natuur",null,{"$f":"C2355","v":0}]
[null,{"$f":"Data!$C$6","v":"Champignons"},null,"x",{"$f":"Data!$F$6","v":17},"=",{"$f":"C2356*E2356","v":0},null,null,null,null,null,"Champignons",null,null,{"$f":"C2356","v":0}]
[null,{"$f":"Data!$C$7","v":"Peper"},null,"x",{"$f":"Data!$F$7","v":17},"=",{"$f":"C2357*E2357","v":0},null,null,null,null,null,"Peper",null,null,null,{"$f":"C2357","v":0}]
[]
[{"$f":"Data!$B$9","v":"Kabeljauwhaasje"},null,null,"x",{"$f":"Data!$F$9","v":17},"=",{"$f":"C2359*E2359","v":0},null,null,null,null,"Kabeljauwhaasje",null,null,null,null,null,{"$f":"C2359","v":0}]
[]
[{"$f":"Data!$B$11","v":"Kindermenu"},null,null,null,null,null,null,null,null,null,null,"Kindermenu"]
[null,{"$f":"Data!$C$12","v":"Natuur"},null,"x",{"$f":"Data!$F$12","v":8},"=",{"$f":"C2362*E2362","v":0},null,null,null,null,null,"Natuur",null,null,null,null,null,{"$f":"C2362","v":0}]
[null,{"$f":"Data!$C$13","v":"Champignons"},null,"x",{"$f":"Data!$F$13","v":8},"=",{"$f":"C2363*E2363","v":0},null,null,null,null,null,"Champignons",null,null,null,null,null,null,{"$f":"C2363","v":0}]
[null,{"$f":"Data!$C$14","v":"Peper"},null,"x",{"$f":"Data!$F$14","v":8},"=",0,null,null,null,null,null,"Peper",null,null,null,null,null,null,null,{"$f":"C2364","v":0}]
[null,{"$f":"Data!$C$15","v":"Kabeljauwhaasje"},null,"x",{"$f":"Data!$F$15","v":8},"=",0,null,null,null,null,null,"Kabeljauwhaasje",null,null,null,null,null,null,null,null,{"$f":"C2365","v":0}]
[]
[null,{"$f":"Data!$C$17","v":"Totaal eten:"},null,null,null,null,{"$f":"SUM(G2355:G2366)","v":0},null,null,null,null,null,"Totaal eten:",null,null,null,null,null,null,null,null,null,{"$f":"G2367","v":0}]
[null,{"$f":"Data!$C$18","v":"Totaal kaarten:"},null,"x",{"$f":"Data!$F$18","v":3},"=",{"$f":"-(C2368*E2368)","v":0}]
[null,null,null,null,null,null,null,null,null,null,null,null,"Totaal kaarten (bedrag):",null,null,null,null,null,null,null,null,null,null,{"$f":"C2368","v":0}]
[]
[null,{"$f":"Data!$C$21","v":"Totaal te betalen:"},null,null,null,null,{"$f":"G2367+G2368","v":0},null,null,null,null,null,"Totaal te betalen:",null,null,null,null,null,null,null,null,null,null,null,{"$f":"G2371","v":0}]
[]
[{"$f":"Data!$A$23","v":"TGV Opstal dankt u voor uw aanwezigheid!  Eet smakelijk!"}]
[]
["Fietsclub TGV Opstal",null,null,null,null,null,"Tafel nr:"]
[{"$f":"A2352","v":51}]
[]
[{"$f":"Data!$B$4","v":"Kalkoenfilet"}]
[null,{"$f":"Data!$C$5","v":"Natuur"},{"$f":"C2355","v":0},"x",{"$f":"Data!$F$5","v":17},"=",{"$f":"C2379*E2379","v":0}]
[null,{"$f":"Data!$C$6","v":"Champignons"},{"$f":"C2356","v":0},"x",{"$f":"Data!$F$6","v":17},"=",{"$f":"C2380*E2380","v":0}]
[null,{"$f":"Data!$C$7","v":"Peper"},0,"x",{"$f":"Data!$F$7","v":17},"=",{"$f":"C2381*E2381","v":0}]
[]
[{"$f":"Data!$B$9","v":"Kabeljauwhaasje"},null,0,"x",{"$f":"Data!$F$9","v":17},"=",{"$f":"C2383*E2383","v":0}]
[]
[{"$f":"Data!$B$11","v":"Kindermenu"}]
[null,{"$f":"Data!$C$12","v":"Natuur"},0,"x",{"$f":"Data!$F$12","v":8},"=",{"$f":"C2386*E2386","v":0}]
[null,{"$f":"Data!$C$13","v":"Champignons"},0,"x",{"$f":"Data!$F$13","v":8},"=",{"$f":"C2387*E2387","v":0}]
[null,{"$f":"Data!$C$14","v":"Peper"},0,"x",{"$f":"Data!$F$14","v":8},"=",0]
[null,{"$f":"Data!$C$15","v":"Kabeljauwhaasje"},0,"x",{"$f":"Data!$F$15","v":8},"=",0]
[]
[null,{"$f":"Data!$C$17","v":"Totaal eten:"},null,null,null,null,{"$f":"SUM(G2379:G2390)","v":0}]
[null,{"$f":"Data!$C$18","v":"Totaal kaarten:"},{"$f":"C2368","v":0},"x",{"$f":"Data!$F$18","v":3},"=",{"$f":"-(C2392*E2392)","v":0}]
[]
[]
[null,{"$f":"Data!$C$21","v":"Totaal te betalen:"},null,null,null,null,{"$f":"G2391+G2392","v":0}]
[]
[{"$f":"Data!$A$23","v":"TGV Opstal dankt u voor uw aanwezigheid!  Eet smakelijk!"}]
["Fietsclub TGV Opstal",null,null,null,null,null,"Tafel nr:"]
[{"$f":"A2352+1","v":52},null,null,null,null,null,null,null,null,null,null,{"$f":"A2399","v":52}]
[]
[{"$f":"Data!$B$4","v":"Kalkoenfilet"},null,null,null,null,null,null,null,null,null,null,"Kalkoenfilet"]
[null,{"$f":"Data!$C$5","v":"Natuur"},null,"x",{"$f":"Data!$F$5","v":17},"=",{"$f":"C2402*E2402","v":0},null,null,null,null,null,"Natuur",null,{"$f":"C2402","v":0}]
[null,{"$f":"Data!$C$6","v":"Champignons"},null,"x",{"$f":"Data!$F$6","v":17},"=",{"$f":"C2403*E2403","v":0},null,null,null,null,null,"Champignons",null,null,{"$f":"C2403","v":0}]
[null,{"$f":"Data!$C$7","v":"Peper"},null,"x",{"$f":"Data!$F$7","v":17},"=",{"$f":"C2404*E2404","v":0},null,null,null,null,null,"Peper",null,null,null,{"$f":"C2404","v":0}]
[]
[{"$f":"Data!$B$9","v":"Kabeljauwhaasje"},null,null,"x",{"$f":"Data!$F$9","v":17},"=",{"$f":"C2406*E2406","v":0},null,null,null,null,"Kabeljauwhaasje",null,null,null,null,null,{"$f":"C2406","v":0}]
[]
[{"$f":"Data!$B$11","v":"Kindermenu"},null,null,null,null,null,null,null,null,null,null,"Kindermenu"]
[null,{"$f":"Data!$C$12","v":"Natuur"},null,"x",{"$f":"Data!$F$12","v":8},"=",{"$f":"C2409*E2409","v":0},null,null,null,null,null,"Natuur",null,null,null,null,null,{"$f":"C2409","v":0}]
[null,{"$f":"Data!$C$13","v":"Champignons"},null,"x",{"$f":"Data!$F$13","v":8},"=",{"$f":"C2410*E2410","v":0},null,null,null,null,null,"Champignons",null,null,null,null,null,null,{"$f":"C2410","v":0}]
[null,{"$f":"Data!$C$14","v":"Peper"},null,"x",{"$f":"Data!$F$14","v":8},"=",0,null,null,null,null,null,"Peper",null,null,null,null,null,null,null,{"$f":"C2411","v":0}]
[null,{"$f":"Data!$C$15","v":"Kabeljauwhaasje"},null,"x",{"$f":"Data!$F$15","v":8},"=",0,null,null,null,null,null,"Kabeljauwhaasje",null,null,null,null,null,null,null,null,{"$f":"C2412","v":0}]
[]
[null,{"$f":"Data!$C$17","v":"Totaal eten:"},null,null,null,null,{"$f":"SUM(G2402:G2413)","v":0},null,null,null,null,null,"Totaal eten:",null,null,null,null,null,null,null,null,null,{"$f":"G2414","v":0}]
[null,{"$f":"Data!$C$18","v":"Totaal kaarten:"},null,"x",{"$f":"Data!$F$18","v":3},"=",{"$f":"-(C2415*E2415)","v":0}]
[null,null,null,null,null,null,null,null,null,null,null,null,"Totaal kaarten (bedrag):",null,null,null,null,null,null,null,null,null,null,{"$f":"C2415","v":0}]
[]
[null,{"$f":"Data!$C$21","v":"Totaal te betalen:"},null,null,null,null,{"$f":"G2414+G2415","v":0},null,null,null,null,null,"Totaal te betalen:",null,null,null,null,null,null,null,null,null,null,null,{"$f":"G2418","v":0}]
[]
[{"$f":"Data!$A$23","v":"TGV Opstal dankt u voor uw aanwezigheid!  Eet smakelijk!"}]
[]
["Fietsclub TGV Opstal",null,null,null,null,null,"Tafel nr:"]
[{"$f":"A2399","v":52}]
[]
[{"$f":"Data!$B$4","v":"Kalkoenfilet"}]
[null,{"$f":"Data!$C$5","v":"Natuur"},{"$f":"C2402","v":0},"x",{"$f":"Data!$F$5","v":17},"=",{"$f":"C2426*E2426","v":0}]
[null,{"$f":"Data!$C$6","v":"Champignons"},{"$f":"C2403","v":0},"x",{"$f":"Data!$F$6","v":17},"=",{"$f":"C2427*E2427","v":0}]
[null,{"$f":"Data!$C$7","v":"Peper"},0,"x",{"$f":"Data!$F$7","v":17},"=",{"$f":"C2428*E2428","v":0}]
[]
[{"$f":"Data!$B$9","v":"Kabeljauwhaasje"},null,0,"x",{"$f":"Data!$F$9","v":17},"=",{"$f":"C2430*E2430","v":0}]
[]
[{"$f":"Data!$B$11","v":"Kindermenu"}]
[null,{"$f":"Data!$C$12","v":"Natuur"},0,"x",{"$f":"Data!$F$12","v":8},"=",{"$f":"C2433*E2433","v":0}]
[null,{"$f":"Data!$C$13","v":"Champignons"},0,"x",{"$f":"Data!$F$13","v":8},"=",{"$f":"C2434*E2434","v":0}]
[null,{"$f":"Data!$C$14","v":"Peper"},0,"x",{"$f":"Data!$F$14","v":8},"=",0]
[null,{"$f":"Data!$C$15","v":"Kabeljauwhaasje"},0,"x",{"$f":"Data!$F$15","v":8},"=",0]
[]
[null,{"$f":"Data!$C$17","v":"Totaal eten:"},null,null,null,null,{"$f":"SUM(G2426:G2437)","v":0}]
[null,{"$f":"Data!$C$18","v":"Totaal kaarten:"},{"$f":"C2415","v":0},"x",{"$f":"Data!$F$18","v":3},"=",{"$f":"-(C2439*E2439)","v":0}]
[]
[]
[null,{"$f":"Data!$C$21","v":"Totaal te betalen:"},null,null,null,null,{"$f":"G2438+G2439","v":0}]
[]
[{"$f":"Data!$A$23","v":"TGV Opstal dankt u voor uw aanwezigheid!  Eet smakelijk!"}]
["Fietsclub TGV Opstal",null,null,null,null,null,"Tafel nr:"]
[{"$f":"A2399+1","v":53},null,null,null,null,null,null,null,null,null,null,{"$f":"A2446","v":53}]
[]
[{"$f":"Data!$B$4","v":"Kalkoenfilet"},null,null,null,null,null,null,null,null,null,null,"Kalkoenfilet"]
[null,{"$f":"Data!$C$5","v":"Natuur"},null,"x",{"$f":"Data!$F$5","v":17},"=",{"$f":"C2449*E2449","v":0},null,null,null,null,null,"Natuur",null,{"$f":"C2449","v":0}]
[null,{"$f":"Data!$C$6","v":"Champignons"},null,"x",{"$f":"Data!$F$6","v":17},"=",{"$f":"C2450*E2450","v":0},null,null,null,null,null,"Champignons",null,null,{"$f":"C2450","v":0}]
[null,{"$f":"Data!$C$7","v":"Peper"},null,"x",{"$f":"Data!$F$7","v":17},"=",{"$f":"C2451*E2451","v":0},null,null,null,null,null,"Peper",null,null,null,{"$f":"C2451","v":0}]
[]
[{"$f":"Data!$B$9","v":"Kabeljauwhaasje"},null,null,"x",{"$f":"Data!$F$9","v":17},"=",{"$f":"C2453*E2453","v":0},null,null,null,null,"Kabeljauwhaasje",null,null,null,null,null,{"$f":"C2453","v":0}]
[]
[{"$f":"Data!$B$11","v":"Kindermenu"},null,null,null,null,null,null,null,null,null,null,"Kindermenu"]
[null,{"$f":"Data!$C$12","v":"Natuur"},null,"x",{"$f":"Data!$F$12","v":8},"=",{"$f":"C2456*E2456","v":0},null,null,null,null,null,"Natuur",null,null,null,null,null,{"$f":"C2456","v":0}]
[null,{"$f":"Data!$C$13","v":"Champignons"},null,"x",{"$f":"Data!$F$13","v":8},"=",{"$f":"C2457*E2457","v":0},null,null,null,null,null,"Champignons",null,null,null,null,null,null,{"$f":"C2457","v":0}]
[null,{"$f":"Data!$C$14","v":"Peper"},null,"x",{"$f":"Data!$F$14","v":8},"=",0,null,null,null,null,null,"Peper",null,null,null,null,null,null,null,{"$f":"C2458","v":0}]
[null,{"$f":"Data!$C$15","v":"Kabeljauwhaasje"},null,"x",{"$f":"Data!$F$15","v":8},"=",0,null,null,null,null,null,"Kabeljauwhaasje",null,null,null,null,null,null,null,null,{"$f":"C2459","v":0}]
[]
[null,{"$f":"Data!$C$17","v":"Totaal eten:"},null,null,null,null,{"$f":"SUM(G2449:G2460)","v":0},null,null,null,null,null,"Totaal eten:",null,null,null,null,null,null,null,null,null,{"$f":"G2461","v":0}]
[null,{"$f":"Data!$C$18","v":"Totaal kaarten:"},null,"x",{"$f":"Data!$F$18","v":3},"=",{"$f":"-(C2462*E2462)","v":0}]
[null,null,null,null,null,null,null,null,null,null,null,null,"Totaal kaarten (bedrag):",null,null,null,null,null,null,null,null,null,null,{"$f":"C2462","v":0}]
[]
[null,{"$f":"Data!$C$21","v":"Totaal te betalen:"},null,null,null,null,{"$f":"G2461+G2462","v":0},null,null,null,null,null,"Totaal te betalen:",null,null,null,null,null,null,null,null,null,null,null,{"$f":"G2465","v":0}]
[]
[{"$f":"Data!$A$23","v":"TGV Opstal dankt u voor uw aanwezigheid!  Eet smakelijk!"}]
[]
["Fietsclub TGV Opstal",null,null,null,null,null,"Tafel nr:"]
[{"$f":"A2446","v":53}]
[]
[{"$f":"Data!$B$4","v":"Kalkoenfilet"}]
[null,{"$f":"Data!$C$5","v":"Natuur"},{"$f":"C2449","v":0},"x",{"$f":"Data!$F$5","v":17},"=",{"$f":"C2473*E2473","v":0}]
[null,{"$f":"Data!$C$6","v":"Champignons"},{"$f":"C2450","v":0},"x",{"$f":"Data!$F$6","v":17},"=",{"$f":"C2474*E2474","v":0}]
[null,{"$f":"Data!$C$7","v":"Peper"},0,"x",{"$f":"Data!$F$7","v":17},"=",{"$f":"C2475*E2475","v":0}]
[]
[{"$f":"Data!$B$9","v":"Kabeljauwhaasje"},null,0,"x",{"$f":"Data!$F$9","v":17},"=",{"$f":"C2477*E2477","v":0}]
[]
[{"$f":"Data!$B$11","v":"Kindermenu"}]
[null,{"$f":"Data!$C$12","v":"Natuur"},0,"x",{"$f":"Data!$F$12","v":8},"=",{"$f":"C2480*E2480","v":0}]
[null,{"$f":"Data!$C$13","v":"Champignons"},0,"x",{"$f":"Data!$F$13","v":8},"=",{"$f":"C2481*E2481","v":0}]
[null,{"$f":"Data!$C$14","v":"Peper"},0,"x",{"$f":"Data!$F$14","v":8},"=",0]
[null,{"$f":"Data!$C$15","v":"Kabeljauwhaasje"},0,"x",{"$f":"Data!$F$15","v":8},"=",0]
[]
[null,{"$f":"Data!$C$17","v":"Totaal eten:"},null,null,null,null,{"$f":"SUM(G2473:G2484)","v":0}]
[null,{"$f":"Data!$C$18","v":"Totaal kaarten:"},{"$f":"C2462","v":0},"x",{"$f":"Data!$F$18","v":3},"=",{"$f":"-(C2486*E2486)","v":0}]
[]
[]
[null,{"$f":"Data!$C$21","v":"Totaal te betalen:"},null,null,null,null,{"$f":"G2485+G2486","v":0}]
[]
[{"$f":"Data!$A$23","v":"TGV Opstal dankt u voor uw aanwezigheid!  Eet smakelijk!"}]
["Fietsclub TGV Opstal",null,null,null,null,null,"Tafel nr:"]
[{"$f":"A2446+1","v":54},null,null,null,null,null,null,null,null,null,null,{"$f":"A2493","v":54}]
[]
[{"$f":"Data!$B$4","v":"Kalkoenfilet"},null,null,null,null,null,null,null,null,null,null,"Kalkoenfilet"]
[null,{"$f":"Data!$C$5","v":"Natuur"},null,"x",{"$f":"Data!$F$5","v":17},"=",{"$f":"C2496*E2496","v":0},null,null,null,null,null,"Natuur",null,{"$f":"C2496","v":0}]
[null,{"$f":"Data!$C$6","v":"Champignons"},null,"x",{"$f":"Data!$F$6","v":17},"=",{"$f":"C2497*E2497","v":0},null,null,null,null,null,"Champignons",null,null,{"$f":"C2497","v":0}]
[null,{"$f":"Data!$C$7","v":"Peper"},null,"x",{"$f":"Data!$F$7","v":17},"=",{"$f":"C2498*E2498","v":0},null,null,null,null,null,"Peper",null,null,null,{"$f":"C2498","v":0}]
[]
[{"$f":"Data!$B$9","v":"Kabeljauwhaasje"},null,null,"x",{"$f":"Data!$F$9","v":17},"=",{"$f":"C2500*E2500","v":0},null,null,null,null,"Kabeljauwhaasje",null,null,null,null,null,{"$f":"C2500","v":0}]
[]
[{"$f":"Data!$B$11","v":"Kindermenu"},null,null,null,null,null,null,null,null,null,null,"Kindermenu"]
[null,{"$f":"Data!$C$12","v":"Natuur"},null,"x",{"$f":"Data!$F$12","v":8},"=",{"$f":"C2503*E2503","v":0},null,null,null,null,null,"Natuur",null,null,null,null,null,{"$f":"C2503","v":0}]
[null,{"$f":"Data!$C$13","v":"Champignons"},null,"x",{"$f":"Data!$F$13","v":8},"=",{"$f":"C2504*E2504","v":0},null,null,null,null,null,"Champignons",null,null,null,null,null,null,{"$f":"C2504","v":0}]
[null,{"$f":"Data!$C$14","v":"Peper"},null,"x",{"$f":"Data!$F$14","v":8},"=",0,null,null,null,null,null,"Peper",null,null,null,null,null,null,null,{"$f":"C2505","v":0}]
[null,{"$f":"Data!$C$15","v":"Kabeljauwhaasje"},null,"x",{"$f":"Data!$F$15","v":8},"=",0,null,null,null,null,null,"Kabeljauwhaasje",null,null,null,null,null,null,null,null,{"$f":"C2506","v":0}]
[]
[null,{"$f":"Data!$C$17","v":"Totaal eten:"},null,null,null,null,{"$f":"SUM(G2496:G2507)","v":0},null,null,null,null,null,"Totaal eten:",null,null,null,null,null,null,null,null,null,{"$f":"G2508","v":0}]
[null,{"$f":"Data!$C$18","v":"Totaal kaarten:"},null,"x",{"$f":"Data!$F$18","v":3},"=",{"$f":"-(C2509*E2509)","v":0}]
[null,null,null,null,null,null,null,null,null,null,null,null,"Totaal kaarten (bedrag):",null,null,null,null,null,null,null,null,null,null,{"$f":"C2509","v":0}]
[]
[null,{"$f":"Data!$C$21","v":"Totaal te betalen:"},null,null,null,null,{"$f":"G2508+G2509","v":0},null,null,null,null,null,"Totaal te betalen:",null,null,null,null,null,null,null,null,null,null,null,{"$f":"G2512","v":0}]
[]
[{"$f":"Data!$A$23","v":"TGV Opstal dankt u voor uw aanwezigheid!  Eet smakelijk!"}]
[]
["Fietsclub TGV Opstal",null,null,null,null,null,"Tafel nr:"]
[{"$f":"A2493","v":54}]
[]
[{"$f":"Data!$B$4","v":"Kalkoenfilet"}]
[null,{"$f":"Data!$C$5","v":"Natuur"},{"$f":"C2496","v":0},"x",{"$f":"Data!$F$5","v":17},"=",{"$f":"C2520*E2520","v":0}]
[null,{"$f":"Data!$C$6","v":"Champignons"},{"$f":"C2497","v":0},"x",{"$f":"Data!$F$6","v":17},"=",{"$f":"C2521*E2521","v":0}]
[null,{"$f":"Data!$C$7","v":"Peper"},0,"x",{"$f":"Data!$F$7","v":17},"=",{"$f":"C2522*E2522","v":0}]
[]
[{"$f":"Data!$B$9","v":"Kabeljauwhaasje"},null,0,"x",{"$f":"Data!$F$9","v":17},"=",{"$f":"C2524*E2524","v":0}]
[]
[{"$f":"Data!$B$11","v":"Kindermenu"}]
[null,{"$f":"Data!$C$12","v":"Natuur"},0,"x",{"$f":"Data!$F$12","v":8},"=",{"$f":"C2527*E2527","v":0}]
[null,{"$f":"Data!$C$13","v":"Champignons"},0,"x",{"$f":"Data!$F$13","v":8},"=",{"$f":"C2528*E2528","v":0}]
[null,{"$f":"Data!$C$14","v":"Peper"},0,"x",{"$f":"Data!$F$14","v":8},"=",0]
[null,{"$f":"Data!$C$15","v":"Kabeljauwhaasje"},0,"x",{"$f":"Data!$F$15","v":8},"=",0]
[]
[null,{"$f":"Data!$C$17","v":"Totaal eten:"},null,null,null,null,{"$f":"SUM(G2520:G2531)","v":0}]
[null,{"$f":"Data!$C$18","v":"Totaal kaarten:"},{"$f":"C2509","v":0},"x",{"$f":"Data!$F$18","v":3},"=",{"$f":"-(C2533*E2533)","v":0}]
[]
[]
[null,{"$f":"Data!$C$21","v":"Totaal te betalen:"},null,null,null,null,{"$f":"G2532+G2533","v":0}]
[]
[{"$f":"Data!$A$23","v":"TGV Opstal dankt u voor uw aanwezigheid!  Eet smakelijk!"}]
["Fietsclub TGV Opstal",null,null,null,null,null,"Tafel nr:"]
[{"$f":"A2493+1","v":55},null,null,null,null,null,null,null,null,null,null,{"$f":"A2540","v":55}]
[]
[{"$f":"Data!$B$4","v":"Kalkoenfilet"},null,null,null,null,null,null,null,null,null,null,"Kalkoenfilet"]
[null,{"$f":"Data!$C$5","v":"Natuur"},null,"x",{"$f":"Data!$F$5","v":17},"=",{"$f":"C2543*E2543","v":0},null,null,null,null,null,"Natuur",null,{"$f":"C2543","v":0}]
[null,{"$f":"Data!$C$6","v":"Champignons"},null,"x",{"$f":"Data!$F$6","v":17},"=",{"$f":"C2544*E2544","v":0},null,null,null,null,null,"Champignons",null,null,{"$f":"C2544","v":0}]
[null,{"$f":"Data!$C$7","v":"Peper"},null,"x",{"$f":"Data!$F$7","v":17},"=",{"$f":"C2545*E2545","v":0},null,null,null,null,null,"Peper",null,null,null,{"$f":"C2545","v":0}]
[]
[{"$f":"Data!$B$9","v":"Kabeljauwhaasje"},null,null,"x",{"$f":"Data!$F$9","v":17},"=",{"$f":"C2547*E2547","v":0},null,null,null,null,"Kabeljauwhaasje",null,null,null,null,null,{"$f":"C2547","v":0}]
[]
[{"$f":"Data!$B$11","v":"Kindermenu"},null,null,null,null,null,null,null,null,null,null,"Kindermenu"]
[null,{"$f":"Data!$C$12","v":"Natuur"},null,"x",{"$f":"Data!$F$12","v":8},"=",{"$f":"C2550*E2550","v":0},null,null,null,null,null,"Natuur",null,null,null,null,null,{"$f":"C2550","v":0}]
[null,{"$f":"Data!$C$13","v":"Champignons"},null,"x",{"$f":"Data!$F$13","v":8},"=",{"$f":"C2551*E2551","v":0},null,null,null,null,null,"Champignons",null,null,null,null,null,null,{"$f":"C2551","v":0}]
[null,{"$f":"Data!$C$14","v":"Peper"},null,"x",{"$f":"Data!$F$14","v":8},"=",0,null,null,null,null,null,"Peper",null,null,null,null,null,null,null,{"$f":"C2552","v":0}]
[null,{"$f":"Data!$C$15","v":"Kabeljauwhaasje"},null,"x",{"$f":"Data!$F$15","v":8},"=",0,null,null,null,null,null,"Kabeljauwhaasje",null,null,null,null,null,null,null,null,{"$f":"C2553","v":0}]
[]
[null,{"$f":"Data!$C$17","v":"Totaal eten:"},null,null,null,null,{"$f":"SUM(G2543:G2554)","v":0},null,null,null,null,null,"Totaal eten:",null,null,null,null,null,null,null,null,null,{"$f":"G2555","v":0}]
[null,{"$f":"Data!$C$18","v":"Totaal kaarten:"},null,"x",{"$f":"Data!$F$18","v":3},"=",{"$f":"-(C2556*E2556)","v":0}]
[null,null,null,null,null,null,null,null,null,null,null,null,"Totaal kaarten (bedrag):",null,null,null,null,null,null,null,null,null,null,{"$f":"C2556","v":0}]
[]
[null,{"$f":"Data!$C$21","v":"Totaal te betalen:"},null,null,null,null,{"$f":"G2555+G2556","v":0},null,null,null,null,null,"Totaal te betalen:",null,null,null,null,null,null,null,null,null,null,null,{"$f":"G2559","v":0}]
[]
[{"$f":"Data!$A$23","v":"TGV Opstal dankt u voor uw aanwezigheid!  Eet smakelijk!"}]
[]
["Fietsclub TGV Opstal",null,null,null,null,null,"Tafel nr:"]
[{"$f":"A2540","v":55}]
[]
[{"$f":"Data!$B$4","v":"Kalkoenfilet"}]
[null,{"$f":"Data!$C$5","v":"Natuur"},{"$f":"C2543","v":0},"x",{"$f":"Data!$F$5","v":17},"=",{"$f":"C2567*E2567","v":0}]
[null,{"$f":"Data!$C$6","v":"Champignons"},{"$f":"C2544","v":0},"x",{"$f":"Data!$F$6","v":17},"=",{"$f":"C2568*E2568","v":0}]
[null,{"$f":"Data!$C$7","v":"Peper"},0,"x",{"$f":"Data!$F$7","v":17},"=",{"$f":"C2569*E2569","v":0}]
[]
[{"$f":"Data!$B$9","v":"Kabeljauwhaasje"},null,0,"x",{"$f":"Data!$F$9","v":17},"=",{"$f":"C2571*E2571","v":0}]
[]
[{"$f":"Data!$B$11","v":"Kindermenu"}]
[null,{"$f":"Data!$C$12","v":"Natuur"},0,"x",{"$f":"Data!$F$12","v":8},"=",{"$f":"C2574*E2574","v":0}]
[null,{"$f":"Data!$C$13","v":"Champignons"},0,"x",{"$f":"Data!$F$13","v":8},"=",{"$f":"C2575*E2575","v":0}]
[null,{"$f":"Data!$C$14","v":"Peper"},0,"x",{"$f":"Data!$F$14","v":8},"=",0]
[null,{"$f":"Data!$C$15","v":"Kabeljauwhaasje"},0,"x",{"$f":"Data!$F$15","v":8},"=",0]
[]
[null,{"$f":"Data!$C$17","v":"Totaal eten:"},null,null,null,null,{"$f":"SUM(G2567:G2578)","v":0}]
[null,{"$f":"Data!$C$18","v":"Totaal kaarten:"},{"$f":"C2556","v":0},"x",{"$f":"Data!$F$18","v":3},"=",{"$f":"-(C2580*E2580)","v":0}]
[]
[]
[null,{"$f":"Data!$C$21","v":"Totaal te betalen:"},null,null,null,null,{"$f":"G2579+G2580","v":0}]
[]
[{"$f":"Data!$A$23","v":"TGV Opstal dankt u voor uw aanwezigheid!  Eet smakelijk!"}]
["Fietsclub TGV Opstal",null,null,null,null,null,"Tafel nr:"]
[{"$f":"A2540+1","v":56},null,null,null,null,null,null,null,null,null,null,{"$f":"A2587","v":56}]
[]
[{"$f":"Data!$B$4","v":"Kalkoenfilet"},null,null,null,null,null,null,null,null,null,null,"Kalkoenfilet"]
[null,{"$f":"Data!$C$5","v":"Natuur"},null,"x",{"$f":"Data!$F$5","v":17},"=",{"$f":"C2590*E2590","v":0},null,null,null,null,null,"Natuur",null,{"$f":"C2590","v":0}]
[null,{"$f":"Data!$C$6","v":"Champignons"},null,"x",{"$f":"Data!$F$6","v":17},"=",{"$f":"C2591*E2591","v":0},null,null,null,null,null,"Champignons",null,null,{"$f":"C2591","v":0}]
[null,{"$f":"Data!$C$7","v":"Peper"},null,"x",{"$f":"Data!$F$7","v":17},"=",{"$f":"C2592*E2592","v":0},null,null,null,null,null,"Peper",null,null,null,{"$f":"C2592","v":0}]
[]
[{"$f":"Data!$B$9","v":"Kabeljauwhaasje"},null,null,"x",{"$f":"Data!$F$9","v":17},"=",{"$f":"C2594*E2594","v":0},null,null,null,null,"Kabeljauwhaasje",null,null,null,null,null,{"$f":"C2594","v":0}]
[]
[{"$f":"Data!$B$11","v":"Kindermenu"},null,null,null,null,null,null,null,null,null,null,"Kindermenu"]
[null,{"$f":"Data!$C$12","v":"Natuur"},null,"x",{"$f":"Data!$F$12","v":8},"=",{"$f":"C2597*E2597","v":0},null,null,null,null,null,"Natuur",null,null,null,null,null,{"$f":"C2597","v":0}]
[null,{"$f":"Data!$C$13","v":"Champignons"},null,"x",{"$f":"Data!$F$13","v":8},"=",{"$f":"C2598*E2598","v":0},null,null,null,null,null,"Champignons",null,null,null,null,null,null,{"$f":"C2598","v":0}]
[null,{"$f":"Data!$C$14","v":"Peper"},null,"x",{"$f":"Data!$F$14","v":8},"=",0,null,null,null,null,null,"Peper",null,null,null,null,null,null,null,{"$f":"C2599","v":0}]
[null,{"$f":"Data!$C$15","v":"Kabeljauwhaasje"},null,"x",{"$f":"Data!$F$15","v":8},"=",0,null,null,null,null,null,"Kabeljauwhaasje",null,null,null,null,null,null,null,null,{"$f":"C2600","v":0}]
[]
[null,{"$f":"Data!$C$17","v":"Totaal eten:"},null,null,null,null,{"$f":"SUM(G2590:G2601)","v":0},null,null,null,null,null,"Totaal eten:",null,null,null,null,null,null,null,null,null,{"$f":"G2602","v":0}]
[null,{"$f":"Data!$C$18","v":"Totaal kaarten:"},null,"x",{"$f":"Data!$F$18","v":3},"=",{"$f":"-(C2603*E2603)","v":0}]
[null,null,null,null,null,null,null,null,null,null,null,null,"Totaal kaarten (bedrag):",null,null,null,null,null,null,null,null,null,null,{"$f":"C2603","v":0}]
[]
[null,{"$f":"Data!$C$21","v":"Totaal te betalen:"},null,null,null,null,{"$f":"G2602+G2603","v":0},null,null,null,null,null,"Totaal te betalen:",null,null,null,null,null,null,null,null,null,null,null,{"$f":"G2606","v":0}]
[]
[{"$f":"Data!$A$23","v":"TGV Opstal dankt u voor uw aanwezigheid!  Eet smakelijk!"}]
[]
["Fietsclub TGV Opstal",null,null,null,null,null,"Tafel nr:"]
[{"$f":"A2587","v":56}]
[]
[{"$f":"Data!$B$4","v":"Kalkoenfilet"}]
[null,{"$f":"Data!$C$5","v":"Natuur"},{"$f":"C2590","v":0},"x",{"$f":"Data!$F$5","v":17},"=",{"$f":"C2614*E2614","v":0}]
[null,{"$f":"Data!$C$6","v":"Champignons"},{"$f":"C2591","v":0},"x",{"$f":"Data!$F$6","v":17},"=",{"$f":"C2615*E2615","v":0}]
[null,{"$f":"Data!$C$7","v":"Peper"},0,"x",{"$f":"Data!$F$7","v":17},"=",{"$f":"C2616*E2616","v":0}]
[]
[{"$f":"Data!$B$9","v":"Kabeljauwhaasje"},null,0,"x",{"$f":"Data!$F$9","v":17},"=",{"$f":"C2618*E2618","v":0}]
[]
[{"$f":"Data!$B$11","v":"Kindermenu"}]
[null,{"$f":"Data!$C$12","v":"Natuur"},0,"x",{"$f":"Data!$F$12","v":8},"=",{"$f":"C2621*E2621","v":0}]
[null,{"$f":"Data!$C$13","v":"Champignons"},0,"x",{"$f":"Data!$F$13","v":8},"=",{"$f":"C2622*E2622","v":0}]
[null,{"$f":"Data!$C$14","v":"Peper"},0,"x",{"$f":"Data!$F$14","v":8},"=",0]
[null,{"$f":"Data!$C$15","v":"Kabeljauwhaasje"},0,"x",{"$f":"Data!$F$15","v":8},"=",0]
[]
[null,{"$f":"Data!$C$17","v":"Totaal eten:"},null,null,null,null,{"$f":"SUM(G2614:G2625)","v":0}]
[null,{"$f":"Data!$C$18","v":"Totaal kaarten:"},{"$f":"C2603","v":0},"x",{"$f":"Data!$F$18","v":3},"=",{"$f":"-(C2627*E2627)","v":0}]
[]
[]
[null,{"$f":"Data!$C$21","v":"Totaal te betalen:"},null,null,null,null,{"$f":"G2626+G2627","v":0}]
[]
[{"$f":"Data!$A$23","v":"TGV Opstal dankt u voor uw aanwezigheid!  Eet smakelijk!"}]
["Fietsclub TGV Opstal",null,null,null,null,null,"Tafel nr:"]
[{"$f":"A2587+1","v":57},null,null,null,null,null,null,null,null,null,null,{"$f":"A2634","v":57}]
[]
[{"$f":"Data!$B$4","v":"Kalkoenfilet"},null,null,null,null,null,null,null,null,null,null,"Kalkoenfilet"]
[null,{"$f":"Data!$C$5","v":"Natuur"},null,"x",{"$f":"Data!$F$5","v":17},"=",{"$f":"C2637*E2637","v":0},null,null,null,null,null,"Natuur",null,{"$f":"C2637","v":0}]
[null,{"$f":"Data!$C$6","v":"Champignons"},null,"x",{"$f":"Data!$F$6","v":17},"=",{"$f":"C2638*E2638","v":0},null,null,null,null,null,"Champignons",null,null,{"$f":"C2638","v":0}]
[null,{"$f":"Data!$C$7","v":"Peper"},null,"x",{"$f":"Data!$F$7","v":17},"=",{"$f":"C2639*E2639","v":0},null,null,null,null,null,"Peper",null,null,null,{"$f":"C2639","v":0}]
[]
[{"$f":"Data!$B$9","v":"Kabeljauwhaasje"},null,null,"x",{"$f":"Data!$F$9","v":17},"=",{"$f":"C2641*E2641","v":0},null,null,null,null,"Kabeljauwhaasje",null,null,null,null,null,{"$f":"C2641","v":0}]
[]
[{"$f":"Data!$B$11","v":"Kindermenu"},null,null,null,null,null,null,null,null,null,null,"Kindermenu"]
[null,{"$f":"Data!$C$12","v":"Natuur"},null,"x",{"$f":"Data!$F$12","v":8},"=",{"$f":"C2644*E2644","v":0},null,null,null,null,null,"Natuur",null,null,null,null,null,{"$f":"C2644","v":0}]
[null,{"$f":"Data!$C$13","v":"Champignons"},null,"x",{"$f":"Data!$F$13","v":8},"=",{"$f":"C2645*E2645","v":0},null,null,null,null,null,"Champignons",null,null,null,null,null,null,{"$f":"C2645","v":0}]
[null,{"$f":"Data!$C$14","v":"Peper"},null,"x",{"$f":"Data!$F$14","v":8},"=",0,null,null,null,null,null,"Peper",null,null,null,null,null,null,null,{"$f":"C2646","v":0}]
[null,{"$f":"Data!$C$15","v":"Kabeljauwhaasje"},null,"x",{"$f":"Data!$F$15","v":8},"=",0,null,null,null,null,null,"Kabeljauwhaasje",null,null,null,null,null,null,null,null,{"$f":"C2647","v":0}]
[]
[null,{"$f":"Data!$C$17","v":"Totaal eten:"},null,null,null,null,{"$f":"SUM(G2637:G2648)","v":0},null,null,null,null,null,"Totaal eten:",null,null,null,null,null,null,null,null,null,{"$f":"G2649","v":0}]
[null,{"$f":"Data!$C$18","v":"Totaal kaarten:"},null,"x",{"$f":"Data!$F$18","v":3},"=",{"$f":"-(C2650*E2650)","v":0}]
[null,null,null,null,null,null,null,null,null,null,null,null,"Totaal kaarten (bedrag):",null,null,null,null,null,null,null,null,null,null,{"$f":"C2650","v":0}]
[]
[null,{"$f":"Data!$C$21","v":"Totaal te betalen:"},null,null,null,null,{"$f":"G2649+G2650","v":0},null,null,null,null,null,"Totaal te betalen:",null,null,null,null,null,null,null,null,null,null,null,{"$f":"G2653","v":0}]
[]
[{"$f":"Data!$A$23","v":"TGV Opstal dankt u voor uw aanwezigheid!  Eet smakelijk!"}]
[]
["Fietsclub TGV Opstal",null,null,null,null,null,"Tafel nr:"]
[{"$f":"A2634","v":57}]
[]
[{"$f":"Data!$B$4","v":"Kalkoenfilet"}]
[null,{"$f":"Data!$C$5","v":"Natuur"},{"$f":"C2637","v":0},"x",{"$f":"Data!$F$5","v":17},"=",{"$f":"C2661*E2661","v":0}]
[null,{"$f":"Data!$C$6","v":"Champignons"},{"$f":"C2638","v":0},"x",{"$f":"Data!$F$6","v":17},"=",{"$f":"C2662*E2662","v":0}]
[null,{"$f":"Data!$C$7","v":"Peper"},0,"x",{"$f":"Data!$F$7","v":17},"=",{"$f":"C2663*E2663","v":0}]
[]
[{"$f":"Data!$B$9","v":"Kabeljauwhaasje"},null,0,"x",{"$f":"Data!$F$9","v":17},"=",{"$f":"C2665*E2665","v":0}]
[]
[{"$f":"Data!$B$11","v":"Kindermenu"}]
[null,{"$f":"Data!$C$12","v":"Natuur"},0,"x",{"$f":"Data!$F$12","v":8},"=",{"$f":"C2668*E2668","v":0}]
[null,{"$f":"Data!$C$13","v":"Champignons"},0,"x",{"$f":"Data!$F$13","v":8},"=",{"$f":"C2669*E2669","v":0}]
[null,{"$f":"Data!$C$14","v":"Peper"},0,"x",{"$f":"Data!$F$14","v":8},"=",0]
[null,{"$f":"Data!$C$15","v":"Kabeljauwhaasje"},0,"x",{"$f":"Data!$F$15","v":8},"=",0]
[]
[null,{"$f":"Data!$C$17","v":"Totaal eten:"},null,null,null,null,{"$f":"SUM(G2661:G2672)","v":0}]
[null,{"$f":"Data!$C$18","v":"Totaal kaarten:"},{"$f":"C2650","v":0},"x",{"$f":"Data!$F$18","v":3},"=",{"$f":"-(C2674*E2674)","v":0}]
[]
[]
[null,{"$f":"Data!$C$21","v":"Totaal te betalen:"},null,null,null,null,{"$f":"G2673+G2674","v":0}]
[]
[{"$f":"Data!$A$23","v":"TGV Opstal dankt u voor uw aanwezigheid!  Eet smakelijk!"}]
["Fietsclub TGV Opstal",null,null,null,null,null,"Tafel nr:"]
[{"$f":"A2634+1","v":58},null,null,null,null,null,null,null,null,null,null,{"$f":"A2681","v":58}]
[]
[{"$f":"Data!$B$4","v":"Kalkoenfilet"},null,null,null,null,null,null,null,null,null,null,"Kalkoenfilet"]
[null,{"$f":"Data!$C$5","v":"Natuur"},null,"x",{"$f":"Data!$F$5","v":17},"=",{"$f":"C2684*E2684","v":0},null,null,null,null,null,"Natuur",null,{"$f":"C2684","v":0}]
[null,{"$f":"Data!$C$6","v":"Champignons"},null,"x",{"$f":"Data!$F$6","v":17},"=",{"$f":"C2685*E2685","v":0},null,null,null,null,null,"Champignons",null,null,{"$f":"C2685","v":0}]
[null,{"$f":"Data!$C$7","v":"Peper"},null,"x",{"$f":"Data!$F$7","v":17},"=",{"$f":"C2686*E2686","v":0},null,null,null,null,null,"Peper",null,null,null,{"$f":"C2686","v":0}]
[]
[{"$f":"Data!$B$9","v":"Kabeljauwhaasje"},null,null,"x",{"$f":"Data!$F$9","v":17},"=",{"$f":"C2688*E2688","v":0},null,null,null,null,"Kabeljauwhaasje",null,null,null,null,null,{"$f":"C2688","v":0}]
[]
[{"$f":"Data!$B$11","v":"Kindermenu"},null,null,null,null,null,null,null,null,null,null,"Kindermenu"]
[null,{"$f":"Data!$C$12","v":"Natuur"},null,"x",{"$f":"Data!$F$12","v":8},"=",{"$f":"C2691*E2691","v":0},null,null,null,null,null,"Natuur",null,null,null,null,null,{"$f":"C2691","v":0}]
[null,{"$f":"Data!$C$13","v":"Champignons"},null,"x",{"$f":"Data!$F$13","v":8},"=",{"$f":"C2692*E2692","v":0},null,null,null,null,null,"Champignons",null,null,null,null,null,null,{"$f":"C2692","v":0}]
[null,{"$f":"Data!$C$14","v":"Peper"},null,"x",{"$f":"Data!$F$14","v":8},"=",0,null,null,null,null,null,"Peper",null,null,null,null,null,null,null,{"$f":"C2693","v":0}]
[null,{"$f":"Data!$C$15","v":"Kabeljauwhaasje"},null,"x",{"$f":"Data!$F$15","v":8},"=",0,null,null,null,null,null,"Kabeljauwhaasje",null,null,null,null,null,null,null,null,{"$f":"C2694","v":0}]
[]
[null,{"$f":"Data!$C$17","v":"Totaal eten:"},null,null,null,null,{"$f":"SUM(G2684:G2695)","v":0},null,null,null,null,null,"Totaal eten:",null,null,null,null,null,null,null,null,null,{"$f":"G2696","v":0}]
[null,{"$f":"Data!$C$18","v":"Totaal kaarten:"},null,"x",{"$f":"Data!$F$18","v":3},"=",{"$f":"-(C2697*E2697)","v":0}]
[null,null,null,null,null,null,null,null,null,null,null,null,"Totaal kaarten (bedrag):",null,null,null,null,null,null,null,null,null,null,{"$f":"C2697","v":0}]
[]
[null,{"$f":"Data!$C$21","v":"Totaal te betalen:"},null,null,null,null,{"$f":"G2696+G2697","v":0},null,null,null,null,null,"Totaal te betalen:",null,null,null,null,null,null,null,null,null,null,null,{"$f":"G2700","v":0}]
[]
[{"$f":"Data!$A$23","v":"TGV Opstal dankt u voor uw aanwezigheid!  Eet smakelijk!"}]
[]
["Fietsclub TGV Opstal",null,null,null,null,null,"Tafel nr:"]
[{"$f":"A2681","v":58}]
[]
[{"$f":"Data!$B$4","v":"Kalkoenfilet"}]
[null,{"$f":"Data!$C$5","v":"Natuur"},{"$f":"C2684","v":0},"x",{"$f":"Data!$F$5","v":17},"=",{"$f":"C2708*E2708","v":0}]
[null,{"$f":"Data!$C$6","v":"Champignons"},{"$f":"C2685","v":0},"x",{"$f":"Data!$F$6","v":17},"=",{"$f":"C2709*E2709","v":0}]
[null,{"$f":"Data!$C$7","v":"Peper"},0,"x",{"$f":"Data!$F$7","v":17},"=",{"$f":"C2710*E2710","v":0}]
[]
[{"$f":"Data!$B$9","v":"Kabeljauwhaasje"},null,0,"x",{"$f":"Data!$F$9","v":17},"=",{"$f":"C2712*E2712","v":0}]
[]
[{"$f":"Data!$B$11","v":"Kindermenu"}]
[null,{"$f":"Data!$C$12","v":"Natuur"},0,"x",{"$f":"Data!$F$12","v":8},"=",{"$f":"C2715*E2715","v":0}]
[null,{"$f":"Data!$C$13","v":"Champignons"},0,"x",{"$f":"Data!$F$13","v":8},"=",{"$f":"C2716*E2716","v":0}]
[null,{"$f":"Data!$C$14","v":"Peper"},0,"x",{"$f":"Data!$F$14","v":8},"=",0]
[null,{"$f":"Data!$C$15","v":"Kabeljauwhaasje"},0,"x",{"$f":"Data!$F$15","v":8},"=",0]
[]
[null,{"$f":"Data!$C$17","v":"Totaal eten:"},null,null,null,null,{"$f":"SUM(G2708:G2719)","v":0}]
[null,{"$f":"Data!$C$18","v":"Totaal kaarten:"},{"$f":"C2697","v":0},"x",{"$f":"Data!$F$18","v":3},"=",{"$f":"-(C2721*E2721)","v":0}]
[]
[]
[null,{"$f":"Data!$C$21","v":"Totaal te betalen:"},null,null,null,null,{"$f":"G2720+G2721","v":0}]
[]
[{"$f":"Data!$A$23","v":"TGV Opstal dankt u voor uw aanwezigheid!  Eet smakelijk!"}]
["Fietsclub TGV Opstal",null,null,null,null,null,"Tafel nr:"]
[{"$f":"A2681+1","v":59},null,null,null,null,null,null,null,null,null,null,{"$f":"A2728","v":59}]
[]
[{"$f":"Data!$B$4","v":"Kalkoenfilet"},null,null,null,null,null,null,null,null,null,null,"Kalkoenfilet"]
[null,{"$f":"Data!$C$5","v":"Natuur"},null,"x",{"$f":"Data!$F$5","v":17},"=",{"$f":"C2731*E2731","v":0},null,null,null,null,null,"Natuur",null,{"$f":"C2731","v":0}]
[null,{"$f":"Data!$C$6","v":"Champignons"},null,"x",{"$f":"Data!$F$6","v":17},"=",{"$f":"C2732*E2732","v":0},null,null,null,null,null,"Champignons",null,null,{"$f":"C2732","v":0}]
[null,{"$f":"Data!$C$7","v":"Peper"},null,"x",{"$f":"Data!$F$7","v":17},"=",{"$f":"C2733*E2733","v":0},null,null,null,null,null,"Peper",null,null,null,{"$f":"C2733","v":0}]
[]
[{"$f":"Data!$B$9","v":"Kabeljauwhaasje"},null,null,"x",{"$f":"Data!$F$9","v":17},"=",{"$f":"C2735*E2735","v":0},null,null,null,null,"Kabeljauwhaasje",null,null,null,null,null,{"$f":"C2735","v":0}]
[]
[{"$f":"Data!$B$11","v":"Kindermenu"},null,null,null,null,null,null,null,null,null,null,"Kindermenu"]
[null,{"$f":"Data!$C$12","v":"Natuur"},null,"x",{"$f":"Data!$F$12","v":8},"=",{"$f":"C2738*E2738","v":0},null,null,null,null,null,"Natuur",null,null,null,null,null,{"$f":"C2738","v":0}]
[null,{"$f":"Data!$C$13","v":"Champignons"},null,"x",{"$f":"Data!$F$13","v":8},"=",{"$f":"C2739*E2739","v":0},null,null,null,null,null,"Champignons",null,null,null,null,null,null,{"$f":"C2739","v":0}]
[null,{"$f":"Data!$C$14","v":"Peper"},null,"x",{"$f":"Data!$F$14","v":8},"=",0,null,null,null,null,null,"Peper",null,null,null,null,null,null,null,{"$f":"C2740","v":0}]
[null,{"$f":"Data!$C$15","v":"Kabeljauwhaasje"},null,"x",{"$f":"Data!$F$15","v":8},"=",0,null,null,null,null,null,"Kabeljauwhaasje",null,null,null,null,null,null,null,null,{"$f":"C2741","v":0}]
[]
[null,{"$f":"Data!$C$17","v":"Totaal eten:"},null,null,null,null,{"$f":"SUM(G2731:G2742)","v":0},null,null,null,null,null,"Totaal eten:",null,null,null,null,null,null,null,null,null,{"$f":"G2743","v":0}]
[null,{"$f":"Data!$C$18","v":"Totaal kaarten:"},null,"x",{"$f":"Data!$F$18","v":3},"=",{"$f":"-(C2744*E2744)","v":0}]
[null,null,null,null,null,null,null,null,null,null,null,null,"Totaal kaarten (bedrag):",null,null,null,null,null,null,null,null,null,null,{"$f":"C2744","v":0}]
[]
[null,{"$f":"Data!$C$21","v":"Totaal te betalen:"},null,null,null,null,{"$f":"G2743+G2744","v":0},null,null,null,null,null,"Totaal te betalen:",null,null,null,null,null,null,null,null,null,null,null,{"$f":"G2747","v":0}]
[]
[{"$f":"Data!$A$23","v":"TGV Opstal dankt u voor uw aanwezigheid!  Eet smakelijk!"}]
[]
["Fietsclub TGV Opstal",null,null,null,null,null,"Tafel nr:"]
[{"$f":"A2728","v":59}]
[]
[{"$f":"Data!$B$4","v":"Kalkoenfilet"}]
[null,{"$f":"Data!$C$5","v":"Natuur"},{"$f":"C2731","v":0},"x",{"$f":"Data!$F$5","v":17},"=",{"$f":"C2755*E2755","v":0}]
[null,{"$f":"Data!$C$6","v":"Champignons"},{"$f":"C2732","v":0},"x",{"$f":"Data!$F$6","v":17},"=",{"$f":"C2756*E2756","v":0}]
[null,{"$f":"Data!$C$7","v":"Peper"},0,"x",{"$f":"Data!$F$7","v":17},"=",{"$f":"C2757*E2757","v":0}]
[]
[{"$f":"Data!$B$9","v":"Kabeljauwhaasje"},null,0,"x",{"$f":"Data!$F$9","v":17},"=",{"$f":"C2759*E2759","v":0}]
[]
[{"$f":"Data!$B$11","v":"Kindermenu"}]
[null,{"$f":"Data!$C$12","v":"Natuur"},0,"x",{"$f":"Data!$F$12","v":8},"=",{"$f":"C2762*E2762","v":0}]
[null,{"$f":"Data!$C$13","v":"Champignons"},0,"x",{"$f":"Data!$F$13","v":8},"=",{"$f":"C2763*E2763","v":0}]
[null,{"$f":"Data!$C$14","v":"Peper"},0,"x",{"$f":"Data!$F$14","v":8},"=",0]
[null,{"$f":"Data!$C$15","v":"Kabeljauwhaasje"},0,"x",{"$f":"Data!$F$15","v":8},"=",0]
[]
[null,{"$f":"Data!$C$17","v":"Totaal eten:"},null,null,null,null,{"$f":"SUM(G2755:G2766)","v":0}]
[null,{"$f":"Data!$C$18","v":"Totaal kaarten:"},{"$f":"C2744","v":0},"x",{"$f":"Data!$F$18","v":3},"=",{"$f":"-(C2768*E2768)","v":0}]
[]
[]
[null,{"$f":"Data!$C$21","v":"Totaal te betalen:"},null,null,null,null,{"$f":"G2767+G2768","v":0}]
[]
[{"$f":"Data!$A$23","v":"TGV Opstal dankt u voor uw aanwezigheid!  Eet smakelijk!"}]
["Fietsclub TGV Opstal",null,null,null,null,null,"Tafel nr:"]
[{"$f":"A2728+1","v":60},null,null,null,null,null,null,null,null,null,null,{"$f":"A2775","v":60}]
[]
[{"$f":"Data!$B$4","v":"Kalkoenfilet"},null,null,null,null,null,null,null,null,null,null,"Kalkoenfilet"]
[null,{"$f":"Data!$C$5","v":"Natuur"},null,"x",{"$f":"Data!$F$5","v":17},"=",{"$f":"C2778*E2778","v":0},null,null,null,null,null,"Natuur",null,{"$f":"C2778","v":0}]
[null,{"$f":"Data!$C$6","v":"Champignons"},null,"x",{"$f":"Data!$F$6","v":17},"=",{"$f":"C2779*E2779","v":0},null,null,null,null,null,"Champignons",null,null,{"$f":"C2779","v":0}]
[null,{"$f":"Data!$C$7","v":"Peper"},null,"x",{"$f":"Data!$F$7","v":17},"=",{"$f":"C2780*E2780","v":0},null,null,null,null,null,"Peper",null,null,null,{"$f":"C2780","v":0}]
[]
[{"$f":"Data!$B$9","v":"Kabeljauwhaasje"},null,null,"x",{"$f":"Data!$F$9","v":17},"=",{"$f":"C2782*E2782","v":0},null,null,null,null,"Kabeljauwhaasje",null,null,null,null,null,{"$f":"C2782","v":0}]
[]
[{"$f":"Data!$B$11","v":"Kindermenu"},null,null,null,null,null,null,null,null,null,null,"Kindermenu"]
[null,{"$f":"Data!$C$12","v":"Natuur"},null,"x",{"$f":"Data!$F$12","v":8},"=",{"$f":"C2785*E2785","v":0},null,null,null,null,null,"Natuur",null,null,null,null,null,{"$f":"C2785","v":0}]
[null,{"$f":"Data!$C$13","v":"Champignons"},null,"x",{"$f":"Data!$F$13","v":8},"=",{"$f":"C2786*E2786","v":0},null,null,null,null,null,"Champignons",null,null,null,null,null,null,{"$f":"C2786","v":0}]
[null,{"$f":"Data!$C$14","v":"Peper"},null,"x",{"$f":"Data!$F$14","v":8},"=",0,null,null,null,null,null,"Peper",null,null,null,null,null,null,null,{"$f":"C2787","v":0}]
[null,{"$f":"Data!$C$15","v":"Kabeljauwhaasje"},null,"x",{"$f":"Data!$F$15","v":8},"=",0,null,null,null,null,null,"Kabeljauwhaasje",null,null,null,null,null,null,null,null,{"$f":"C2788","v":0}]
[]
[null,{"$f":"Data!$C$17","v":"Totaal eten:"},null,null,null,null,{"$f":"SUM(G2778:G2789)","v":0},null,null,null,null,null,"Totaal eten:",null,null,null,null,null,null,null,null,null,{"$f":"G2790","v":0}]
[null,{"$f":"Data!$C$18","v":"Totaal kaarten:"},null,"x",{"$f":"Data!$F$18","v":3},"=",{"$f":"-(C2791*E2791)","v":0}]
[null,null,null,null,null,null,null,null,null,null,null,null,"Totaal kaarten (bedrag):",null,null,null,null,null,null,null,null,null,null,{"$f":"C2791","v":0}]
[]
[null,{"$f":"Data!$C$21","v":"Totaal te betalen:"},null,null,null,null,{"$f":"G2790+G2791","v":0},null,null,null,null,null,"Totaal te betalen:",null,null,null,null,null,null,null,null,null,null,null,{"$f":"G2794","v":0}]
[]
[{"$f":"Data!$A$23","v":"TGV Opstal dankt u voor uw aanwezigheid!  Eet smakelijk!"}]
[]
["Fietsclub TGV Opstal",null,null,null,null,null,"Tafel nr:"]
[{"$f":"A2775","v":60}]
[]
[{"$f":"Data!$B$4","v":"Kalkoenfilet"}]
[null,{"$f":"Data!$C$5","v":"Natuur"},{"$f":"C2778","v":0},"x",{"$f":"Data!$F$5","v":17},"=",{"$f":"C2802*E2802","v":0}]
[null,{"$f":"Data!$C$6","v":"Champignons"},{"$f":"C2779","v":0},"x",{"$f":"Data!$F$6","v":17},"=",{"$f":"C2803*E2803","v":0}]
[null,{"$f":"Data!$C$7","v":"Peper"},0,"x",{"$f":"Data!$F$7","v":17},"=",{"$f":"C2804*E2804","v":0}]
[]
[{"$f":"Data!$B$9","v":"Kabeljauwhaasje"},null,0,"x",{"$f":"Data!$F$9","v":17},"=",{"$f":"C2806*E2806","v":0}]
[]
[{"$f":"Data!$B$11","v":"Kindermenu"}]
[null,{"$f":"Data!$C$12","v":"Natuur"},0,"x",{"$f":"Data!$F$12","v":8},"=",{"$f":"C2809*E2809","v":0}]
[null,{"$f":"Data!$C$13","v":"Champignons"},0,"x",{"$f":"Data!$F$13","v":8},"=",{"$f":"C2810*E2810","v":0}]
[null,{"$f":"Data!$C$14","v":"Peper"},0,"x",{"$f":"Data!$F$14","v":8},"=",0]
[null,{"$f":"Data!$C$15","v":"Kabeljauwhaasje"},0,"x",{"$f":"Data!$F$15","v":8},"=",0]
[]
[null,{"$f":"Data!$C$17","v":"Totaal eten:"},null,null,null,null,{"$f":"SUM(G2802:G2813)","v":0}]
[null,{"$f":"Data!$C$18","v":"Totaal kaarten:"},{"$f":"C2791","v":0},"x",{"$f":"Data!$F$18","v":3},"=",{"$f":"-(C2815*E2815)","v":0}]
[]
[]
[null,{"$f":"Data!$C$21","v":"Totaal te betalen:"},null,null,null,null,{"$f":"G2814+G2815","v":0}]
[]
[{"$f":"Data!$A$23","v":"TGV Opstal dankt u voor uw aanwezigheid!  Eet smakelijk!"}]
["Fietsclub TGV Opstal",null,null,null,null,null,"Tafel nr:"]
[{"$f":"A2775+1","v":61},null,null,null,null,null,null,null,null,null,null,{"$f":"A2822","v":61}]
[]
[{"$f":"Data!$B$4","v":"Kalkoenfilet"},null,null,null,null,null,null,null,null,null,null,"Kalkoenfilet"]
[null,{"$f":"Data!$C$5","v":"Natuur"},null,"x",{"$f":"Data!$F$5","v":17},"=",{"$f":"C2825*E2825","v":0},null,null,null,null,null,"Natuur",null,{"$f":"C2825","v":0}]
[null,{"$f":"Data!$C$6","v":"Champignons"},null,"x",{"$f":"Data!$F$6","v":17},"=",{"$f":"C2826*E2826","v":0},null,null,null,null,null,"Champignons",null,null,{"$f":"C2826","v":0}]
[null,{"$f":"Data!$C$7","v":"Peper"},null,"x",{"$f":"Data!$F$7","v":17},"=",{"$f":"C2827*E2827","v":0},null,null,null,null,null,"Peper",null,null,null,{"$f":"C2827","v":0}]
[]
[{"$f":"Data!$B$9","v":"Kabeljauwhaasje"},null,null,"x",{"$f":"Data!$F$9","v":17},"=",{"$f":"C2829*E2829","v":0},null,null,null,null,"Kabeljauwhaasje",null,null,null,null,null,{"$f":"C2829","v":0}]
[]
[{"$f":"Data!$B$11","v":"Kindermenu"},null,null,null,null,null,null,null,null,null,null,"Kindermenu"]
[null,{"$f":"Data!$C$12","v":"Natuur"},null,"x",{"$f":"Data!$F$12","v":8},"=",{"$f":"C2832*E2832","v":0},null,null,null,null,null,"Natuur",null,null,null,null,null,{"$f":"C2832","v":0}]
[null,{"$f":"Data!$C$13","v":"Champignons"},null,"x",{"$f":"Data!$F$13","v":8},"=",{"$f":"C2833*E2833","v":0},null,null,null,null,null,"Champignons",null,null,null,null,null,null,{"$f":"C2833","v":0}]
[null,{"$f":"Data!$C$14","v":"Peper"},null,"x",{"$f":"Data!$F$14","v":8},"=",0,null,null,null,null,null,"Peper",null,null,null,null,null,null,null,{"$f":"C2834","v":0}]
[null,{"$f":"Data!$C$15","v":"Kabeljauwhaasje"},null,"x",{"$f":"Data!$F$15","v":8},"=",0,null,null,null,null,null,"Kabeljauwhaasje",null,null,null,null,null,null,null,null,{"$f":"C2835","v":0}]
[]
[null,{"$f":"Data!$C$17","v":"Totaal eten:"},null,null,null,null,{"$f":"SUM(G2825:G2836)","v":0},null,null,null,null,null,"Totaal eten:",null,null,null,null,null,null,null,null,null,{"$f":"G2837","v":0}]
[null,{"$f":"Data!$C$18","v":"Totaal kaarten:"},null,"x",{"$f":"Data!$F$18","v":3},"=",{"$f":"-(C2838*E2838)","v":0}]
[null,null,null,null,null,null,null,null,null,null,null,null,"Totaal kaarten (bedrag):",null,null,null,null,null,null,null,null,null,null,{"$f":"C2838","v":0}]
[]
[null,{"$f":"Data!$C$21","v":"Totaal te betalen:"},null,null,null,null,{"$f":"G2837+G2838","v":0},null,null,null,null,null,"Totaal te betalen:",null,null,null,null,null,null,null,null,null,null,null,{"$f":"G2841","v":0}]
[]
[{"$f":"Data!$A$23","v":"TGV Opstal dankt u voor uw aanwezigheid!  Eet smakelijk!"}]
[]
["Fietsclub TGV Opstal",null,null,null,null,null,"Tafel nr:"]
[{"$f":"A2822","v":61}]
[]
[{"$f":"Data!$B$4","v":"Kalkoenfilet"}]
[null,{"$f":"Data!$C$5","v":"Natuur"},{"$f":"C2825","v":0},"x",{"$f":"Data!$F$5","v":17},"=",{"$f":"C2849*E2849","v":0}]
[null,{"$f":"Data!$C$6","v":"Champignons"},{"$f":"C2826","v":0},"x",{"$f":"Data!$F$6","v":17},"=",{"$f":"C2850*E2850","v":0}]
[null,{"$f":"Data!$C$7","v":"Peper"},0,"x",{"$f":"Data!$F$7","v":17},"=",{"$f":"C2851*E2851","v":0}]
[]
[{"$f":"Data!$B$9","v":"Kabeljauwhaasje"},null,0,"x",{"$f":"Data!$F$9","v":17},"=",{"$f":"C2853*E2853","v":0}]
[]
[{"$f":"Data!$B$11","v":"Kindermenu"}]
[null,{"$f":"Data!$C$12","v":"Natuur"},0,"x",{"$f":"Data!$F$12","v":8},"=",{"$f":"C2856*E2856","v":0}]
[null,{"$f":"Data!$C$13","v":"Champignons"},0,"x",{"$f":"Data!$F$13","v":8},"=",{"$f":"C2857*E2857","v":0}]
[null,{"$f":"Data!$C$14","v":"Peper"},0,"x",{"$f":"Data!$F$14","v":8},"=",0]
[null,{"$f":"Data!$C$15","v":"Kabeljauwhaasje"},0,"x",{"$f":"Data!$F$15","v":8},"=",0]
[]
[null,{"$f":"Data!$C$17","v":"Totaal eten:"},null,null,null,null,{"$f":"SUM(G2849:G2860)","v":0}]
[null,{"$f":"Data!$C$18","v":"Totaal kaarten:"},{"$f":"C2838","v":0},"x",{"$f":"Data!$F$18","v":3},"=",{"$f":"-(C2862*E2862)","v":0}]
[]
[]
[null,{"$f":"Data!$C$21","v":"Totaal te betalen:"},null,null,null,null,{"$f":"G2861+G2862","v":0}]
[]
[{"$f":"Data!$A$23","v":"TGV Opstal dankt u voor uw aanwezigheid!  Eet smakelijk!"}]
["Fietsclub TGV Opstal",null,null,null,null,null,"Tafel nr:"]
[{"$f":"A2822+1","v":62},null,null,null,null,null,null,null,null,null,null,{"$f":"A2869","v":62}]
[]
[{"$f":"Data!$B$4","v":"Kalkoenfilet"},null,null,null,null,null,null,null,null,null,null,"Kalkoenfilet"]
[null,{"$f":"Data!$C$5","v":"Natuur"},null,"x",{"$f":"Data!$F$5","v":17},"=",{"$f":"C2872*E2872","v":0},null,null,null,null,null,"Natuur",null,{"$f":"C2872","v":0}]
[null,{"$f":"Data!$C$6","v":"Champignons"},null,"x",{"$f":"Data!$F$6","v":17},"=",{"$f":"C2873*E2873","v":0},null,null,null,null,null,"Champignons",null,null,{"$f":"C2873","v":0}]
[null,{"$f":"Data!$C$7","v":"Peper"},null,"x",{"$f":"Data!$F$7","v":17},"=",{"$f":"C2874*E2874","v":0},null,null,null,null,null,"Peper",null,null,null,{"$f":"C2874","v":0}]
[]
[{"$f":"Data!$B$9","v":"Kabeljauwhaasje"},null,null,"x",{"$f":"Data!$F$9","v":17},"=",{"$f":"C2876*E2876","v":0},null,null,null,null,"Kabeljauwhaasje",null,null,null,null,null,{"$f":"C2876","v":0}]
[]
[{"$f":"Data!$B$11","v":"Kindermenu"},null,null,null,null,null,null,null,null,null,null,"Kindermenu"]
[null,{"$f":"Data!$C$12","v":"Natuur"},null,"x",{"$f":"Data!$F$12","v":8},"=",{"$f":"C2879*E2879","v":0},null,null,null,null,null,"Natuur",null,null,null,null,null,{"$f":"C2879","v":0}]
[null,{"$f":"Data!$C$13","v":"Champignons"},null,"x",{"$f":"Data!$F$13","v":8},"=",{"$f":"C2880*E2880","v":0},null,null,null,null,null,"Champignons",null,null,null,null,null,null,{"$f":"C2880","v":0}]
[null,{"$f":"Data!$C$14","v":"Peper"},null,"x",{"$f":"Data!$F$14","v":8},"=",0,null,null,null,null,null,"Peper",null,null,null,null,null,null,null,{"$f":"C2881","v":0}]
[null,{"$f":"Data!$C$15","v":"Kabeljauwhaasje"},null,"x",{"$f":"Data!$F$15","v":8},"=",0,null,null,null,null,null,"Kabeljauwhaasje",null,null,null,null,null,null,null,null,{"$f":"C2882","v":0}]
[]
[null,{"$f":"Data!$C$17","v":"Totaal eten:"},null,null,null,null,{"$f":"SUM(G2872:G2883)","v":0},null,null,null,null,null,"Totaal eten:",null,null,null,null,null,null,null,null,null,{"$f":"G2884","v":0}]
[null,{"$f":"Data!$C$18","v":"Totaal kaarten:"},null,"x",{"$f":"Data!$F$18","v":3},"=",{"$f":"-(C2885*E2885)","v":0}]
[null,null,null,null,null,null,null,null,null,null,null,null,"Totaal kaarten (bedrag):",null,null,null,null,null,null,null,null,null,null,{"$f":"C2885","v":0}]
[]
[null,{"$f":"Data!$C$21","v":"Totaal te betalen:"},null,null,null,null,{"$f":"G2884+G2885","v":0},null,null,null,null,null,"Totaal te betalen:",null,null,null,null,null,null,null,null,null,null,null,{"$f":"G2888","v":0}]
[]
[{"$f":"Data!$A$23","v":"TGV Opstal dankt u voor uw aanwezigheid!  Eet smakelijk!"}]
[]
["Fietsclub TGV Opstal",null,null,null,null,null,"Tafel nr:"]
[{"$f":"A2869","v":62}]
[]
[{"$f":"Data!$B$4","v":"Kalkoenfilet"}]
[null,{"$f":"Data!$C$5","v":"Natuur"},{"$f":"C2872","v":0},"x",{"$f":"Data!$F$5","v":17},"=",{"$f":"C2896*E2896","v":0}]
[null,{"$f":"Data!$C$6","v":"Champignons"},{"$f":"C2873","v":0},"x",{"$f":"Data!$F$6","v":17},"=",{"$f":"C2897*E2897","v":0}]
[null,{"$f":"Data!$C$7","v":"Peper"},0,"x",{"$f":"Data!$F$7","v":17},"=",{"$f":"C2898*E2898","v":0}]
[]
[{"$f":"Data!$B$9","v":"Kabeljauwhaasje"},null,0,"x",{"$f":"Data!$F$9","v":17},"=",{"$f":"C2900*E2900","v":0}]
[]
[{"$f":"Data!$B$11","v":"Kindermenu"}]
[null,{"$f":"Data!$C$12","v":"Natuur"},0,"x",{"$f":"Data!$F$12","v":8},"=",{"$f":"C2903*E2903","v":0}]
[null,{"$f":"Data!$C$13","v":"Champignons"},0,"x",{"$f":"Data!$F$13","v":8},"=",{"$f":"C2904*E2904","v":0}]
[null,{"$f":"Data!$C$14","v":"Peper"},0,"x",{"$f":"Data!$F$14","v":8},"=",0]
[null,{"$f":"Data!$C$15","v":"Kabeljauwhaasje"},0,"x",{"$f":"Data!$F$15","v":8},"=",0]
[]
[null,{"$f":"Data!$C$17","v":"Totaal eten:"},null,null,null,null,{"$f":"SUM(G2896:G2907)","v":0}]
[null,{"$f":"Data!$C$18","v":"Totaal kaarten:"},{"$f":"C2885","v":0},"x",{"$f":"Data!$F$18","v":3},"=",{"$f":"-(C2909*E2909)","v":0}]
[]
[]
[null,{"$f":"Data!$C$21","v":"Totaal te betalen:"},null,null,null,null,{"$f":"G2908+G2909","v":0}]
[]
[{"$f":"Data!$A$23","v":"TGV Opstal dankt u voor uw aanwezigheid!  Eet smakelijk!"}]
["Fietsclub TGV Opstal",null,null,null,null,null,"Tafel nr:"]
[{"$f":"A2869+1","v":63},null,null,null,null,null,null,null,null,null,null,{"$f":"A2916","v":63}]
[]
[{"$f":"Data!$B$4","v":"Kalkoenfilet"},null,null,null,null,null,null,null,null,null,null,"Kalkoenfilet"]
[null,{"$f":"Data!$C$5","v":"Natuur"},null,"x",{"$f":"Data!$F$5","v":17},"=",{"$f":"C2919*E2919","v":0},null,null,null,null,null,"Natuur",null,{"$f":"C2919","v":0}]
[null,{"$f":"Data!$C$6","v":"Champignons"},null,"x",{"$f":"Data!$F$6","v":17},"=",{"$f":"C2920*E2920","v":0},null,null,null,null,null,"Champignons",null,null,{"$f":"C2920","v":0}]
[null,{"$f":"Data!$C$7","v":"Peper"},null,"x",{"$f":"Data!$F$7","v":17},"=",{"$f":"C2921*E2921","v":0},null,null,null,null,null,"Peper",null,null,null,{"$f":"C2921","v":0}]
[]
[{"$f":"Data!$B$9","v":"Kabeljauwhaasje"},null,null,"x",{"$f":"Data!$F$9","v":17},"=",{"$f":"C2923*E2923","v":0},null,null,null,null,"Kabeljauwhaasje",null,null,null,null,null,{"$f":"C2923","v":0}]
[]
[{"$f":"Data!$B$11","v":"Kindermenu"},null,null,null,null,null,null,null,null,null,null,"Kindermenu"]
[null,{"$f":"Data!$C$12","v":"Natuur"},null,"x",{"$f":"Data!$F$12","v":8},"=",{"$f":"C2926*E2926","v":0},null,null,null,null,null,"Natuur",null,null,null,null,null,{"$f":"C2926","v":0}]
[null,{"$f":"Data!$C$13","v":"Champignons"},null,"x",{"$f":"Data!$F$13","v":8},"=",{"$f":"C2927*E2927","v":0},null,null,null,null,null,"Champignons",null,null,null,null,null,null,{"$f":"C2927","v":0}]
[null,{"$f":"Data!$C$14","v":"Peper"},null,"x",{"$f":"Data!$F$14","v":8},"=",0,null,null,null,null,null,"Peper",null,null,null,null,null,null,null,{"$f":"C2928","v":0}]
[null,{"$f":"Data!$C$15","v":"Kabeljauwhaasje"},null,"x",{"$f":"Data!$F$15","v":8},"=",0,null,null,null,null,null,"Kabeljauwhaasje",null,null,null,null,null,null,null,null,{"$f":"C2929","v":0}]
[]
[null,{"$f":"Data!$C$17","v":"Totaal eten:"},null,null,null,null,{"$f":"SUM(G2919:G2930)","v":0},null,null,null,null,null,"Totaal eten:",null,null,null,null,null,null,null,null,null,{"$f":"G2931","v":0}]
[null,{"$f":"Data!$C$18","v":"Totaal kaarten:"},null,"x",{"$f":"Data!$F$18","v":3},"=",{"$f":"-(C2932*E2932)","v":0}]
[null,null,null,null,null,null,null,null,null,null,null,null,"Totaal kaarten (bedrag):",null,null,null,null,null,null,null,null,null,null,{"$f":"C2932","v":0}]
[]
[null,{"$f":"Data!$C$21","v":"Totaal te betalen:"},null,null,null,null,{"$f":"G2931+G2932","v":0},null,null,null,null,null,"Totaal te betalen:",null,null,null,null,null,null,null,null,null,null,null,{"$f":"G2935","v":0}]
[]
[{"$f":"Data!$A$23","v":"TGV Opstal dankt u voor uw aanwezigheid!  Eet smakelijk!"}]
[]
["Fietsclub TGV Opstal",null,null,null,null,null,"Tafel nr:"]
[{"$f":"A2916","v":63}]
[]
[{"$f":"Data!$B$4","v":"Kalkoenfilet"}]
[null,{"$f":"Data!$C$5","v":"Natuur"},{"$f":"C2919","v":0},"x",{"$f":"Data!$F$5","v":17},"=",{"$f":"C2943*E2943","v":0}]
[null,{"$f":"Data!$C$6","v":"Champignons"},{"$f":"C2920","v":0},"x",{"$f":"Data!$F$6","v":17},"=",{"$f":"C2944*E2944","v":0}]
[null,{"$f":"Data!$C$7","v":"Peper"},0,"x",{"$f":"Data!$F$7","v":17},"=",{"$f":"C2945*E2945","v":0}]
[]
[{"$f":"Data!$B$9","v":"Kabeljauwhaasje"},null,0,"x",{"$f":"Data!$F$9","v":17},"=",{"$f":"C2947*E2947","v":0}]
[]
[{"$f":"Data!$B$11","v":"Kindermenu"}]
[null,{"$f":"Data!$C$12","v":"Natuur"},0,"x",{"$f":"Data!$F$12","v":8},"=",{"$f":"C2950*E2950","v":0}]
[null,{"$f":"Data!$C$13","v":"Champignons"},0,"x",{"$f":"Data!$F$13","v":8},"=",{"$f":"C2951*E2951","v":0}]
[null,{"$f":"Data!$C$14","v":"Peper"},0,"x",{"$f":"Data!$F$14","v":8},"=",0]
[null,{"$f":"Data!$C$15","v":"Kabeljauwhaasje"},0,"x",{"$f":"Data!$F$15","v":8},"=",0]
[]
[null,{"$f":"Data!$C$17","v":"Totaal eten:"},null,null,null,null,{"$f":"SUM(G2943:G2954)","v":0}]
[null,{"$f":"Data!$C$18","v":"Totaal kaarten:"},{"$f":"C2932","v":0},"x",{"$f":"Data!$F$18","v":3},"=",{"$f":"-(C2956*E2956)","v":0}]
[]
[]
[null,{"$f":"Data!$C$21","v":"Totaal te betalen:"},null,null,null,null,{"$f":"G2955+G2956","v":0}]
[]
[{"$f":"Data!$A$23","v":"TGV Opstal dankt u voor uw aanwezigheid!  Eet smakelijk!"}]
["Fietsclub TGV Opstal",null,null,null,null,null,"Tafel nr:"]
[{"$f":"A2916+1","v":64},null,null,null,null,null,null,null,null,null,null,{"$f":"A2963","v":64}]
[]
[{"$f":"Data!$B$4","v":"Kalkoenfilet"},null,null,null,null,null,null,null,null,null,null,"Kalkoenfilet"]
[null,{"$f":"Data!$C$5","v":"Natuur"},null,"x",{"$f":"Data!$F$5","v":17},"=",{"$f":"C2966*E2966","v":0},null,null,null,null,null,"Natuur",null,{"$f":"C2966","v":0}]
[null,{"$f":"Data!$C$6","v":"Champignons"},null,"x",{"$f":"Data!$F$6","v":17},"=",{"$f":"C2967*E2967","v":0},null,null,null,null,null,"Champignons",null,null,{"$f":"C2967","v":0}]
[null,{"$f":"Data!$C$7","v":"Peper"},null,"x",{"$f":"Data!$F$7","v":17},"=",{"$f":"C2968*E2968","v":0},null,null,null,null,null,"Peper",null,null,null,{"$f":"C2968","v":0}]
[]
[{"$f":"Data!$B$9","v":"Kabeljauwhaasje"},null,null,"x",{"$f":"Data!$F$9","v":17},"=",{"$f":"C2970*E2970","v":0},null,null,null,null,"Kabeljauwhaasje",null,null,null,null,null,{"$f":"C2970","v":0}]
[]
[{"$f":"Data!$B$11","v":"Kindermenu"},null,null,null,null,null,null,null,null,null,null,"Kindermenu"]
[null,{"$f":"Data!$C$12","v":"Natuur"},null,"x",{"$f":"Data!$F$12","v":8},"=",{"$f":"C2973*E2973","v":0},null,null,null,null,null,"Natuur",null,null,null,null,null,{"$f":"C2973","v":0}]
[null,{"$f":"Data!$C$13","v":"Champignons"},null,"x",{"$f":"Data!$F$13","v":8},"=",{"$f":"C2974*E2974","v":0},null,null,null,null,null,"Champignons",null,null,null,null,null,null,{"$f":"C2974","v":0}]
[null,{"$f":"Data!$C$14","v":"Peper"},null,"x",{"$f":"Data!$F$14","v":8},"=",0,null,null,null,null,null,"Peper",null,null,null,null,null,null,null,{"$f":"C2975","v":0}]
[null,{"$f":"Data!$C$15","v":"Kabeljauwhaasje"},null,"x",{"$f":"Data!$F$15","v":8},"=",0,null,null,null,null,null,"Kabeljauwhaasje",null,null,null,null,null,null,null,null,{"$f":"C2976","v":0}]
[]
[null,{"$f":"Data!$C$17","v":"Totaal eten:"},null,null,null,null,{"$f":"SUM(G2966:G2977)","v":0},null,null,null,null,null,"Totaal eten:",null,null,null,null,null,null,null,null,null,{"$f":"G2978","v":0}]
[null,{"$f":"Data!$C$18","v":"Totaal kaarten:"},null,"x",{"$f":"Data!$F$18","v":3},"=",{"$f":"-(C2979*E2979)","v":0}]
[null,null,null,null,null,null,null,null,null,null,null,null,"Totaal kaarten (bedrag):",null,null,null,null,null,null,null,null,null,null,{"$f":"C2979","v":0}]
[]
[null,{"$f":"Data!$C$21","v":"Totaal te betalen:"},null,null,null,null,{"$f":"G2978+G2979","v":0},null,null,null,null,null,"Totaal te betalen:",null,null,null,null,null,null,null,null,null,null,null,{"$f":"G2982","v":0}]
[]
[{"$f":"Data!$A$23","v":"TGV Opstal dankt u voor uw aanwezigheid!  Eet smakelijk!"}]
[]
["Fietsclub TGV Opstal",null,null,null,null,null,"Tafel nr:"]
[{"$f":"A2963","v":64}]
[]
[{"$f":"Data!$B$4","v":"Kalkoenfilet"}]
[null,{"$f":"Data!$C$5","v":"Natuur"},{"$f":"C2966","v":0},"x",{"$f":"Data!$F$5","v":17},"=",{"$f":"C2990*E2990","v":0}]
[null,{"$f":"Data!$C$6","v":"Champignons"},{"$f":"C2967","v":0},"x",{"$f":"Data!$F$6","v":17},"=",{"$f":"C2991*E2991","v":0}]
[null,{"$f":"Data!$C$7","v":"Peper"},0,"x",{"$f":"Data!$F$7","v":17},"=",{"$f":"C2992*E2992","v":0}]
[]
[{"$f":"Data!$B$9","v":"Kabeljauwhaasje"},null,0,"x",{"$f":"Data!$F$9","v":17},"=",{"$f":"C2994*E2994","v":0}]
[]
[{"$f":"Data!$B$11","v":"Kindermenu"}]
[null,{"$f":"Data!$C$12","v":"Natuur"},0,"x",{"$f":"Data!$F$12","v":8},"=",{"$f":"C2997*E2997","v":0}]
[null,{"$f":"Data!$C$13","v":"Champignons"},0,"x",{"$f":"Data!$F$13","v":8},"=",{"$f":"C2998*E2998","v":0}]
[null,{"$f":"Data!$C$14","v":"Peper"},0,"x",{"$f":"Data!$F$14","v":8},"=",0]
[null,{"$f":"Data!$C$15","v":"Kabeljauwhaasje"},0,"x",{"$f":"Data!$F$15","v":8},"=",0]
[]
[null,{"$f":"Data!$C$17","v":"Totaal eten:"},null,null,null,null,{"$f":"SUM(G2990:G3001)","v":0}]
[null,{"$f":"Data!$C$18","v":"Totaal kaarten:"},{"$f":"C2979","v":0},"x",{"$f":"Data!$F$18","v":3},"=",{"$f":"-(C3003*E3003)","v":0}]
[]
[]
[null,{"$f":"Data!$C$21","v":"Totaal te betalen:"},null,null,null,null,{"$f":"G3002+G3003","v":0}]
[]
[{"$f":"Data!$A$23","v":"TGV Opstal dankt u voor uw aanwezigheid!  Eet smakelijk!"}]
["Fietsclub TGV Opstal",null,null,null,null,null,"Tafel nr:"]
[{"$f":"A2963+1","v":65},null,null,null,null,null,null,null,null,null,null,{"$f":"A3010","v":65}]
[]
[{"$f":"Data!$B$4","v":"Kalkoenfilet"},null,null,null,null,null,null,null,null,null,null,"Kalkoenfilet"]
[null,{"$f":"Data!$C$5","v":"Natuur"},null,"x",{"$f":"Data!$F$5","v":17},"=",{"$f":"C3013*E3013","v":0},null,null,null,null,null,"Natuur",null,{"$f":"C3013","v":0}]
[null,{"$f":"Data!$C$6","v":"Champignons"},null,"x",{"$f":"Data!$F$6","v":17},"=",{"$f":"C3014*E3014","v":0},null,null,null,null,null,"Champignons",null,null,{"$f":"C3014","v":0}]
[null,{"$f":"Data!$C$7","v":"Peper"},null,"x",{"$f":"Data!$F$7","v":17},"=",{"$f":"C3015*E3015","v":0},null,null,null,null,null,"Peper",null,null,null,{"$f":"C3015","v":0}]
[]
[{"$f":"Data!$B$9","v":"Kabeljauwhaasje"},null,null,"x",{"$f":"Data!$F$9","v":17},"=",{"$f":"C3017*E3017","v":0},null,null,null,null,"Kabeljauwhaasje",null,null,null,null,null,{"$f":"C3017","v":0}]
[]
[{"$f":"Data!$B$11","v":"Kindermenu"},null,null,null,null,null,null,null,null,null,null,"Kindermenu"]
[null,{"$f":"Data!$C$12","v":"Natuur"},null,"x",{"$f":"Data!$F$12","v":8},"=",{"$f":"C3020*E3020","v":0},null,null,null,null,null,"Natuur",null,null,null,null,null,{"$f":"C3020","v":0}]
[null,{"$f":"Data!$C$13","v":"Champignons"},null,"x",{"$f":"Data!$F$13","v":8},"=",{"$f":"C3021*E3021","v":0},null,null,null,null,null,"Champignons",null,null,null,null,null,null,{"$f":"C3021","v":0}]
[null,{"$f":"Data!$C$14","v":"Peper"},null,"x",{"$f":"Data!$F$14","v":8},"=",0,null,null,null,null,null,"Peper",null,null,null,null,null,null,null,{"$f":"C3022","v":0}]
[null,{"$f":"Data!$C$15","v":"Kabeljauwhaasje"},null,"x",{"$f":"Data!$F$15","v":8},"=",0,null,null,null,null,null,"Kabeljauwhaasje",null,null,null,null,null,null,null,null,{"$f":"C3023","v":0}]
[]
[null,{"$f":"Data!$C$17","v":"Totaal eten:"},null,null,null,null,{"$f":"SUM(G3013:G3024)","v":0},null,null,null,null,null,"Totaal eten:",null,null,null,null,null,null,null,null,null,{"$f":"G3025","v":0}]
[null,{"$f":"Data!$C$18","v":"Totaal kaarten:"},null,"x",{"$f":"Data!$F$18","v":3},"=",{"$f":"-(C3026*E3026)","v":0}]
[null,null,null,null,null,null,null,null,null,null,null,null,"Totaal kaarten (bedrag):",null,null,null,null,null,null,null,null,null,null,{"$f":"C3026","v":0}]
[]
[null,{"$f":"Data!$C$21","v":"Totaal te betalen:"},null,null,null,null,{"$f":"G3025+G3026","v":0},null,null,null,null,null,"Totaal te betalen:",null,null,null,null,null,null,null,null,null,null,null,{"$f":"G3029","v":0}]
[]
[{"$f":"Data!$A$23","v":"TGV Opstal dankt u voor uw aanwezigheid!  Eet smakelijk!"}]
[]
["Fietsclub TGV Opstal",null,null,null,null,null,"Tafel nr:"]
[{"$f":"A3010","v":65}]
[]
[{"$f":"Data!$B$4","v":"Kalkoenfilet"}]
[null,{"$f":"Data!$C$5","v":"Natuur"},{"$f":"C3013","v":0},"x",{"$f":"Data!$F$5","v":17},"=",{"$f":"C3037*E3037","v":0}]
[null,{"$f":"Data!$C$6","v":"Champignons"},{"$f":"C3014","v":0},"x",{"$f":"Data!$F$6","v":17},"=",{"$f":"C3038*E3038","v":0}]
[null,{"$f":"Data!$C$7","v":"Peper"},0,"x",{"$f":"Data!$F$7","v":17},"=",{"$f":"C3039*E3039","v":0}]
[]
[{"$f":"Data!$B$9","v":"Kabeljauwhaasje"},null,0,"x",{"$f":"Data!$F$9","v":17},"=",{"$f":"C3041*E3041","v":0}]
[]
[{"$f":"Data!$B$11","v":"Kindermenu"}]
[null,{"$f":"Data!$C$12","v":"Natuur"},0,"x",{"$f":"Data!$F$12","v":8},"=",{"$f":"C3044*E3044","v":0}]
[null,{"$f":"Data!$C$13","v":"Champignons"},0,"x",{"$f":"Data!$F$13","v":8},"=",{"$f":"C3045*E3045","v":0}]
[null,{"$f":"Data!$C$14","v":"Peper"},0,"x",{"$f":"Data!$F$14","v":8},"=",0]
[null,{"$f":"Data!$C$15","v":"Kabeljauwhaasje"},0,"x",{"$f":"Data!$F$15","v":8},"=",0]
[]
[null,{"$f":"Data!$C$17","v":"Totaal eten:"},null,null,null,null,{"$f":"SUM(G3037:G3048)","v":0}]
[null,{"$f":"Data!$C$18","v":"Totaal kaarten:"},{"$f":"C3026","v":0},"x",{"$f":"Data!$F$18","v":3},"=",{"$f":"-(C3050*E3050)","v":0}]
[]
[]
[null,{"$f":"Data!$C$21","v":"Totaal te betalen:"},null,null,null,null,{"$f":"G3049+G3050","v":0}]
[]
[{"$f":"Data!$A$23","v":"TGV Opstal dankt u voor uw aanwezigheid!  Eet smakelijk!"}]
["Fietsclub TGV Opstal",null,null,null,null,null,"Tafel nr:"]
[{"$f":"A3010+1","v":66},null,null,null,null,null,null,null,null,null,null,{"$f":"A3057","v":66}]
[]
[{"$f":"Data!$B$4","v":"Kalkoenfilet"},null,null,null,null,null,null,null,null,null,null,"Kalkoenfilet"]
[null,{"$f":"Data!$C$5","v":"Natuur"},null,"x",{"$f":"Data!$F$5","v":17},"=",{"$f":"C3060*E3060","v":0},null,null,null,null,null,"Natuur",null,{"$f":"C3060","v":0}]
[null,{"$f":"Data!$C$6","v":"Champignons"},null,"x",{"$f":"Data!$F$6","v":17},"=",{"$f":"C3061*E3061","v":0},null,null,null,null,null,"Champignons",null,null,{"$f":"C3061","v":0}]
[null,{"$f":"Data!$C$7","v":"Peper"},null,"x",{"$f":"Data!$F$7","v":17},"=",{"$f":"C3062*E3062","v":0},null,null,null,null,null,"Peper",null,null,null,{"$f":"C3062","v":0}]
[]
[{"$f":"Data!$B$9","v":"Kabeljauwhaasje"},null,null,"x",{"$f":"Data!$F$9","v":17},"=",{"$f":"C3064*E3064","v":0},null,null,null,null,"Kabeljauwhaasje",null,null,null,null,null,{"$f":"C3064","v":0}]
[]
[{"$f":"Data!$B$11","v":"Kindermenu"},null,null,null,null,null,null,null,null,null,null,"Kindermenu"]
[null,{"$f":"Data!$C$12","v":"Natuur"},null,"x",{"$f":"Data!$F$12","v":8},"=",{"$f":"C3067*E3067","v":0},null,null,null,null,null,"Natuur",null,null,null,null,null,{"$f":"C3067","v":0}]
[null,{"$f":"Data!$C$13","v":"Champignons"},null,"x",{"$f":"Data!$F$13","v":8},"=",{"$f":"C3068*E3068","v":0},null,null,null,null,null,"Champignons",null,null,null,null,null,null,{"$f":"C3068","v":0}]
[null,{"$f":"Data!$C$14","v":"Peper"},null,"x",{"$f":"Data!$F$14","v":8},"=",0,null,null,null,null,null,"Peper",null,null,null,null,null,null,null,{"$f":"C3069","v":0}]
[null,{"$f":"Data!$C$15","v":"Kabeljauwhaasje"},null,"x",{"$f":"Data!$F$15","v":8},"=",0,null,null,null,null,null,"Kabeljauwhaasje",null,null,null,null,null,null,null,null,{"$f":"C3070","v":0}]
[]
[null,{"$f":"Data!$C$17","v":"Totaal eten:"},null,null,null,null,{"$f":"SUM(G3060:G3071)","v":0},null,null,null,null,null,"Totaal eten:",null,null,null,null,null,null,null,null,null,{"$f":"G3072","v":0}]
[null,{"$f":"Data!$C$18","v":"Totaal kaarten:"},null,"x",{"$f":"Data!$F$18","v":3},"=",{"$f":"-(C3073*E3073)","v":0}]
[null,null,null,null,null,null,null,null,null,null,null,null,"Totaal kaarten (bedrag):",null,null,null,null,null,null,null,null,null,null,{"$f":"C3073","v":0}]
[]
[null,{"$f":"Data!$C$21","v":"Totaal te betalen:"},null,null,null,null,{"$f":"G3072+G3073","v":0},null,null,null,null,null,"Totaal te betalen:",null,null,null,null,null,null,null,null,null,null,null,{"$f":"G3076","v":0}]
[]
[{"$f":"Data!$A$23","v":"TGV Opstal dankt u voor uw aanwezigheid!  Eet smakelijk!"}]
[]
["Fietsclub TGV Opstal",null,null,null,null,null,"Tafel nr:"]
[{"$f":"A3057","v":66}]
[]
[{"$f":"Data!$B$4","v":"Kalkoenfilet"}]
[null,{"$f":"Data!$C$5","v":"Natuur"},{"$f":"C3060","v":0},"x",{"$f":"Data!$F$5","v":17},"=",{"$f":"C3084*E3084","v":0}]
[null,{"$f":"Data!$C$6","v":"Champignons"},{"$f":"C3061","v":0},"x",{"$f":"Data!$F$6","v":17},"=",{"$f":"C3085*E3085","v":0}]
[null,{"$f":"Data!$C$7","v":"Peper"},0,"x",{"$f":"Data!$F$7","v":17},"=",{"$f":"C3086*E3086","v":0}]
[]
[{"$f":"Data!$B$9","v":"Kabeljauwhaasje"},null,0,"x",{"$f":"Data!$F$9","v":17},"=",{"$f":"C3088*E3088","v":0}]
[]
[{"$f":"Data!$B$11","v":"Kindermenu"}]
[null,{"$f":"Data!$C$12","v":"Natuur"},0,"x",{"$f":"Data!$F$12","v":8},"=",{"$f":"C3091*E3091","v":0}]
[null,{"$f":"Data!$C$13","v":"Champignons"},0,"x",{"$f":"Data!$F$13","v":8},"=",{"$f":"C3092*E3092","v":0}]
[null,{"$f":"Data!$C$14","v":"Peper"},0,"x",{"$f":"Data!$F$14","v":8},"=",0]
[null,{"$f":"Data!$C$15","v":"Kabeljauwhaasje"},0,"x",{"$f":"Data!$F$15","v":8},"=",0]
[]
[null,{"$f":"Data!$C$17","v":"Totaal eten:"},null,null,null,null,{"$f":"SUM(G3084:G3095)","v":0}]
[null,{"$f":"Data!$C$18","v":"Totaal kaarten:"},{"$f":"C3073","v":0},"x",{"$f":"Data!$F$18","v":3},"=",{"$f":"-(C3097*E3097)","v":0}]
[]
[]
[null,{"$f":"Data!$C$21","v":"Totaal te betalen:"},null,null,null,null,{"$f":"G3096+G3097","v":0}]
[]
[{"$f":"Data!$A$23","v":"TGV Opstal dankt u voor uw aanwezigheid!  Eet smakelijk!"}]
["Fietsclub TGV Opstal",null,null,null,null,null,"Tafel nr:"]
[{"$f":"A3057+1","v":67},null,null,null,null,null,null,null,null,null,null,{"$f":"A3104","v":67}]
[]
[{"$f":"Data!$B$4","v":"Kalkoenfilet"},null,null,null,null,null,null,null,null,null,null,"Kalkoenfilet"]
[null,{"$f":"Data!$C$5","v":"Natuur"},null,"x",{"$f":"Data!$F$5","v":17},"=",{"$f":"C3107*E3107","v":0},null,null,null,null,null,"Natuur",null,{"$f":"C3107","v":0}]
[null,{"$f":"Data!$C$6","v":"Champignons"},null,"x",{"$f":"Data!$F$6","v":17},"=",{"$f":"C3108*E3108","v":0},null,null,null,null,null,"Champignons",null,null,{"$f":"C3108","v":0}]
[null,{"$f":"Data!$C$7","v":"Peper"},null,"x",{"$f":"Data!$F$7","v":17},"=",{"$f":"C3109*E3109","v":0},null,null,null,null,null,"Peper",null,null,null,{"$f":"C3109","v":0}]
[]
[{"$f":"Data!$B$9","v":"Kabeljauwhaasje"},null,null,"x",{"$f":"Data!$F$9","v":17},"=",{"$f":"C3111*E3111","v":0},null,null,null,null,"Kabeljauwhaasje",null,null,null,null,null,{"$f":"C3111","v":0}]
[]
[{"$f":"Data!$B$11","v":"Kindermenu"},null,null,null,null,null,null,null,null,null,null,"Kindermenu"]
[null,{"$f":"Data!$C$12","v":"Natuur"},null,"x",{"$f":"Data!$F$12","v":8},"=",{"$f":"C3114*E3114","v":0},null,null,null,null,null,"Natuur",null,null,null,null,null,{"$f":"C3114","v":0}]
[null,{"$f":"Data!$C$13","v":"Champignons"},null,"x",{"$f":"Data!$F$13","v":8},"=",{"$f":"C3115*E3115","v":0},null,null,null,null,null,"Champignons",null,null,null,null,null,null,{"$f":"C3115","v":0}]
[null,{"$f":"Data!$C$14","v":"Peper"},null,"x",{"$f":"Data!$F$14","v":8},"=",0,null,null,null,null,null,"Peper",null,null,null,null,null,null,null,{"$f":"C3116","v":0}]
[null,{"$f":"Data!$C$15","v":"Kabeljauwhaasje"},null,"x",{"$f":"Data!$F$15","v":8},"=",0,null,null,null,null,null,"Kabeljauwhaasje",null,null,null,null,null,null,null,null,{"$f":"C3117","v":0}]
[]
[null,{"$f":"Data!$C$17","v":"Totaal eten:"},null,null,null,null,{"$f":"SUM(G3107:G3118)","v":0},null,null,null,null,null,"Totaal eten:",null,null,null,null,null,null,null,null,null,{"$f":"G3119","v":0}]
[null,{"$f":"Data!$C$18","v":"Totaal kaarten:"},null,"x",{"$f":"Data!$F$18","v":3},"=",{"$f":"-(C3120*E3120)","v":0}]
[null,null,null,null,null,null,null,null,null,null,null,null,"Totaal kaarten (bedrag):",null,null,null,null,null,null,null,null,null,null,{"$f":"C3120","v":0}]
[]
[null,{"$f":"Data!$C$21","v":"Totaal te betalen:"},null,null,null,null,{"$f":"G3119+G3120","v":0},null,null,null,null,null,"Totaal te betalen:",null,null,null,null,null,null,null,null,null,null,null,{"$f":"G3123","v":0}]
[]
[{"$f":"Data!$A$23","v":"TGV Opstal dankt u voor uw aanwezigheid!  Eet smakelijk!"}]
[]
["Fietsclub TGV Opstal",null,null,null,null,null,"Tafel nr:"]
[{"$f":"A3104","v":67}]
[]
[{"$f":"Data!$B$4","v":"Kalkoenfilet"}]
[null,{"$f":"Data!$C$5","v":"Natuur"},{"$f":"C3107","v":0},"x",{"$f":"Data!$F$5","v":17},"=",{"$f":"C3131*E3131","v":0}]
[null,{"$f":"Data!$C$6","v":"Champignons"},{"$f":"C3108","v":0},"x",{"$f":"Data!$F$6","v":17},"=",{"$f":"C3132*E3132","v":0}]
[null,{"$f":"Data!$C$7","v":"Peper"},0,"x",{"$f":"Data!$F$7","v":17},"=",{"$f":"C3133*E3133","v":0}]
[]
[{"$f":"Data!$B$9","v":"Kabeljauwhaasje"},null,0,"x",{"$f":"Data!$F$9","v":17},"=",{"$f":"C3135*E3135","v":0}]
[]
[{"$f":"Data!$B$11","v":"Kindermenu"}]
[null,{"$f":"Data!$C$12","v":"Natuur"},0,"x",{"$f":"Data!$F$12","v":8},"=",{"$f":"C3138*E3138","v":0}]
[null,{"$f":"Data!$C$13","v":"Champignons"},0,"x",{"$f":"Data!$F$13","v":8},"=",{"$f":"C3139*E3139","v":0}]
[null,{"$f":"Data!$C$14","v":"Peper"},0,"x",{"$f":"Data!$F$14","v":8},"=",0]
[null,{"$f":"Data!$C$15","v":"Kabeljauwhaasje"},0,"x",{"$f":"Data!$F$15","v":8},"=",0]
[]
[null,{"$f":"Data!$C$17","v":"Totaal eten:"},null,null,null,null,{"$f":"SUM(G3131:G3142)","v":0}]
[null,{"$f":"Data!$C$18","v":"Totaal kaarten:"},{"$f":"C3120","v":0},"x",{"$f":"Data!$F$18","v":3},"=",{"$f":"-(C3144*E3144)","v":0}]
[]
[]
[null,{"$f":"Data!$C$21","v":"Totaal te betalen:"},null,null,null,null,{"$f":"G3143+G3144","v":0}]
[]
[{"$f":"Data!$A$23","v":"TGV Opstal dankt u voor uw aanwezigheid!  Eet smakelijk!"}]
["Fietsclub TGV Opstal",null,null,null,null,null,"Tafel nr:"]
[{"$f":"A3104+1","v":68},null,null,null,null,null,null,null,null,null,null,{"$f":"A3151","v":68}]
[]
[{"$f":"Data!$B$4","v":"Kalkoenfilet"},null,null,null,null,null,null,null,null,null,null,"Kalkoenfilet"]
[null,{"$f":"Data!$C$5","v":"Natuur"},null,"x",{"$f":"Data!$F$5","v":17},"=",{"$f":"C3154*E3154","v":0},null,null,null,null,null,"Natuur",null,{"$f":"C3154","v":0}]
[null,{"$f":"Data!$C$6","v":"Champignons"},null,"x",{"$f":"Data!$F$6","v":17},"=",{"$f":"C3155*E3155","v":0},null,null,null,null,null,"Champignons",null,null,{"$f":"C3155","v":0}]
[null,{"$f":"Data!$C$7","v":"Peper"},null,"x",{"$f":"Data!$F$7","v":17},"=",{"$f":"C3156*E3156","v":0},null,null,null,null,null,"Peper",null,null,null,{"$f":"C3156","v":0}]
[]
[{"$f":"Data!$B$9","v":"Kabeljauwhaasje"},null,null,"x",{"$f":"Data!$F$9","v":17},"=",{"$f":"C3158*E3158","v":0},null,null,null,null,"Kabeljauwhaasje",null,null,null,null,null,{"$f":"C3158","v":0}]
[]
[{"$f":"Data!$B$11","v":"Kindermenu"},null,null,null,null,null,null,null,null,null,null,"Kindermenu"]
[null,{"$f":"Data!$C$12","v":"Natuur"},null,"x",{"$f":"Data!$F$12","v":8},"=",{"$f":"C3161*E3161","v":0},null,null,null,null,null,"Natuur",null,null,null,null,null,{"$f":"C3161","v":0}]
[null,{"$f":"Data!$C$13","v":"Champignons"},null,"x",{"$f":"Data!$F$13","v":8},"=",{"$f":"C3162*E3162","v":0},null,null,null,null,null,"Champignons",null,null,null,null,null,null,{"$f":"C3162","v":0}]
[null,{"$f":"Data!$C$14","v":"Peper"},null,"x",{"$f":"Data!$F$14","v":8},"=",0,null,null,null,null,null,"Peper",null,null,null,null,null,null,null,{"$f":"C3163","v":0}]
[null,{"$f":"Data!$C$15","v":"Kabeljauwhaasje"},null,"x",{"$f":"Data!$F$15","v":8},"=",0,null,null,null,null,null,"Kabeljauwhaasje",null,null,null,null,null,null,null,null,{"$f":"C3164","v":0}]
[]
[null,{"$f":"Data!$C$17","v":"Totaal eten:"},null,null,null,null,{"$f":"SUM(G3154:G3165)","v":0},null,null,null,null,null,"Totaal eten:",null,null,null,null,null,null,null,null,null,{"$f":"G3166","v":0}]
[null,{"$f":"Data!$C$18","v":"Totaal kaarten:"},null,"x",{"$f":"Data!$F$18","v":3},"=",{"$f":"-(C3167*E3167)","v":0}]
[null,null,null,null,null,null,null,null,null,null,null,null,"Totaal kaarten (bedrag):",null,null,null,null,null,null,null,null,null,null,{"$f":"C3167","v":0}]
[]
[null,{"$f":"Data!$C$21","v":"Totaal te betalen:"},null,null,null,null,{"$f":"G3166+G3167","v":0},null,null,null,null,null,"Totaal te betalen:",null,null,null,null,null,null,null,null,null,null,null,{"$f":"G3170","v":0}]
[]
[{"$f":"Data!$A$23","v":"TGV Opstal dankt u voor uw aanwezigheid!  Eet smakelijk!"}]
[]
["Fietsclub TGV Opstal",null,null,null,null,null,"Tafel nr:"]
[{"$f":"A3151","v":68}]
[]
[{"$f":"Data!$B$4","v":"Kalkoenfilet"}]
[null,{"$f":"Data!$C$5","v":"Natuur"},{"$f":"C3154","v":0},"x",{"$f":"Data!$F$5","v":17},"=",{"$f":"C3178*E3178","v":0}]
[null,{"$f":"Data!$C$6","v":"Champignons"},{"$f":"C3155","v":0},"x",{"$f":"Data!$F$6","v":17},"=",{"$f":"C3179*E3179","v":0}]
[null,{"$f":"Data!$C$7","v":"Peper"},0,"x",{"$f":"Data!$F$7","v":17},"=",{"$f":"C3180*E3180","v":0}]
[]
[{"$f":"Data!$B$9","v":"Kabeljauwhaasje"},null,0,"x",{"$f":"Data!$F$9","v":17},"=",{"$f":"C3182*E3182","v":0}]
[]
[{"$f":"Data!$B$11","v":"Kindermenu"}]
[null,{"$f":"Data!$C$12","v":"Natuur"},0,"x",{"$f":"Data!$F$12","v":8},"=",{"$f":"C3185*E3185","v":0}]
[null,{"$f":"Data!$C$13","v":"Champignons"},0,"x",{"$f":"Data!$F$13","v":8},"=",{"$f":"C3186*E3186","v":0}]
[null,{"$f":"Data!$C$14","v":"Peper"},0,"x",{"$f":"Data!$F$14","v":8},"=",0]
[null,{"$f":"Data!$C$15","v":"Kabeljauwhaasje"},0,"x",{"$f":"Data!$F$15","v":8},"=",0]
[]
[null,{"$f":"Data!$C$17","v":"Totaal eten:"},null,null,null,null,{"$f":"SUM(G3178:G3189)","v":0}]
[null,{"$f":"Data!$C$18","v":"Totaal kaarten:"},{"$f":"C3167","v":0},"x",{"$f":"Data!$F$18","v":3},"=",{"$f":"-(C3191*E3191)","v":0}]
[]
[]
[null,{"$f":"Data!$C$21","v":"Totaal te betalen:"},null,null,null,null,{"$f":"G3190+G3191","v":0}]
[]
[{"$f":"Data!$A$23","v":"TGV Opstal dankt u voor uw aanwezigheid!  Eet smakelijk!"}]
["Fietsclub TGV Opstal",null,null,null,null,null,"Tafel nr:"]
[{"$f":"A3151+1","v":69},null,null,null,null,null,null,null,null,null,null,{"$f":"A3198","v":69}]
[]
[{"$f":"Data!$B$4","v":"Kalkoenfilet"},null,null,null,null,null,null,null,null,null,null,"Kalkoenfilet"]
[null,{"$f":"Data!$C$5","v":"Natuur"},null,"x",{"$f":"Data!$F$5","v":17},"=",{"$f":"C3201*E3201","v":0},null,null,null,null,null,"Natuur",null,{"$f":"C3201","v":0}]
[null,{"$f":"Data!$C$6","v":"Champignons"},null,"x",{"$f":"Data!$F$6","v":17},"=",{"$f":"C3202*E3202","v":0},null,null,null,null,null,"Champignons",null,null,{"$f":"C3202","v":0}]
[null,{"$f":"Data!$C$7","v":"Peper"},null,"x",{"$f":"Data!$F$7","v":17},"=",{"$f":"C3203*E3203","v":0},null,null,null,null,null,"Peper",null,null,null,{"$f":"C3203","v":0}]
[]
[{"$f":"Data!$B$9","v":"Kabeljauwhaasje"},null,null,"x",{"$f":"Data!$F$9","v":17},"=",{"$f":"C3205*E3205","v":0},null,null,null,null,"Kabeljauwhaasje",null,null,null,null,null,{"$f":"C3205","v":0}]
[]
[{"$f":"Data!$B$11","v":"Kindermenu"},null,null,null,null,null,null,null,null,null,null,"Kindermenu"]
[null,{"$f":"Data!$C$12","v":"Natuur"},null,"x",{"$f":"Data!$F$12","v":8},"=",{"$f":"C3208*E3208","v":0},null,null,null,null,null,"Natuur",null,null,null,null,null,{"$f":"C3208","v":0}]
[null,{"$f":"Data!$C$13","v":"Champignons"},null,"x",{"$f":"Data!$F$13","v":8},"=",{"$f":"C3209*E3209","v":0},null,null,null,null,null,"Champignons",null,null,null,null,null,null,{"$f":"C3209","v":0}]
[null,{"$f":"Data!$C$14","v":"Peper"},null,"x",{"$f":"Data!$F$14","v":8},"=",0,null,null,null,null,null,"Peper",null,null,null,null,null,null,null,{"$f":"C3210","v":0}]
[null,{"$f":"Data!$C$15","v":"Kabeljauwhaasje"},null,"x",{"$f":"Data!$F$15","v":8},"=",0,null,null,null,null,null,"Kabeljauwhaasje",null,null,null,null,null,null,null,null,{"$f":"C3211","v":0}]
[]
[null,{"$f":"Data!$C$17","v":"Totaal eten:"},null,null,null,null,{"$f":"SUM(G3201:G3212)","v":0},null,null,null,null,null,"Totaal eten:",null,null,null,null,null,null,null,null,null,{"$f":"G3213","v":0}]
[null,{"$f":"Data!$C$18","v":"Totaal kaarten:"},null,"x",{"$f":"Data!$F$18","v":3},"=",{"$f":"-(C3214*E3214)","v":0}]
[null,null,null,null,null,null,null,null,null,null,null,null,"Totaal kaarten (bedrag):",null,null,null,null,null,null,null,null,null,null,{"$f":"C3214","v":0}]
[]
[null,{"$f":"Data!$C$21","v":"Totaal te betalen:"},null,null,null,null,{"$f":"G3213+G3214","v":0},null,null,null,null,null,"Totaal te betalen:",null,null,null,null,null,null,null,null,null,null,null,{"$f":"G3217","v":0}]
[]
[{"$f":"Data!$A$23","v":"TGV Opstal dankt u voor uw aanwezigheid!  Eet smakelijk!"}]
[]
["Fietsclub TGV Opstal",null,null,null,null,null,"Tafel nr:"]
[{"$f":"A3198","v":69}]
[]
[{"$f":"Data!$B$4","v":"Kalkoenfilet"}]
[null,{"$f":"Data!$C$5","v":"Natuur"},{"$f":"C3201","v":0},"x",{"$f":"Data!$F$5","v":17},"=",{"$f":"C3225*E3225","v":0}]
[null,{"$f":"Data!$C$6","v":"Champignons"},{"$f":"C3202","v":0},"x",{"$f":"Data!$F$6","v":17},"=",{"$f":"C3226*E3226","v":0}]
[null,{"$f":"Data!$C$7","v":"Peper"},0,"x",{"$f":"Data!$F$7","v":17},"=",{"$f":"C3227*E3227","v":0}]
[]
[{"$f":"Data!$B$9","v":"Kabeljauwhaasje"},null,0,"x",{"$f":"Data!$F$9","v":17},"=",{"$f":"C3229*E3229","v":0}]
[]
[{"$f":"Data!$B$11","v":"Kindermenu"}]
[null,{"$f":"Data!$C$12","v":"Natuur"},0,"x",{"$f":"Data!$F$12","v":8},"=",{"$f":"C3232*E3232","v":0}]
[null,{"$f":"Data!$C$13","v":"Champignons"},0,"x",{"$f":"Data!$F$13","v":8},"=",{"$f":"C3233*E3233","v":0}]
[null,{"$f":"Data!$C$14","v":"Peper"},0,"x",{"$f":"Data!$F$14","v":8},"=",0]
[null,{"$f":"Data!$C$15","v":"Kabeljauwhaasje"},0,"x",{"$f":"Data!$F$15","v":8},"=",0]
[]
[null,{"$f":"Data!$C$17","v":"Totaal eten:"},null,null,null,null,{"$f":"SUM(G3225:G3236)","v":0}]
[null,{"$f":"Data!$C$18","v":"Totaal kaarten:"},{"$f":"C3214","v":0},"x",{"$f":"Data!$F$18","v":3},"=",{"$f":"-(C3238*E3238)","v":0}]
[]
[]
[null,{"$f":"Data!$C$21","v":"Totaal te betalen:"},null,null,null,null,{"$f":"G3237+G3238","v":0}]
[]
[{"$f":"Data!$A$23","v":"TGV Opstal dankt u voor uw aanwezigheid!  Eet smakelijk!"}]
["Fietsclub TGV Opstal",null,null,null,null,null,"Tafel nr:"]
[{"$f":"A3198+1","v":70},null,null,null,null,null,null,null,null,null,null,{"$f":"A3245","v":70}]
[]
[{"$f":"Data!$B$4","v":"Kalkoenfilet"},null,null,null,null,null,null,null,null,null,null,"Kalkoenfilet"]
[null,{"$f":"Data!$C$5","v":"Natuur"},null,"x",{"$f":"Data!$F$5","v":17},"=",{"$f":"C3248*E3248","v":0},null,null,null,null,null,"Natuur",null,{"$f":"C3248","v":0}]
[null,{"$f":"Data!$C$6","v":"Champignons"},null,"x",{"$f":"Data!$F$6","v":17},"=",{"$f":"C3249*E3249","v":0},null,null,null,null,null,"Champignons",null,null,{"$f":"C3249","v":0}]
[null,{"$f":"Data!$C$7","v":"Peper"},null,"x",{"$f":"Data!$F$7","v":17},"=",{"$f":"C3250*E3250","v":0},null,null,null,null,null,"Peper",null,null,null,{"$f":"C3250","v":0}]
[]
[{"$f":"Data!$B$9","v":"Kabeljauwhaasje"},null,null,"x",{"$f":"Data!$F$9","v":17},"=",{"$f":"C3252*E3252","v":0},null,null,null,null,"Kabeljauwhaasje",null,null,null,null,null,{"$f":"C3252","v":0}]
[]
[{"$f":"Data!$B$11","v":"Kindermenu"},null,null,null,null,null,null,null,null,null,null,"Kindermenu"]
[null,{"$f":"Data!$C$12","v":"Natuur"},null,"x",{"$f":"Data!$F$12","v":8},"=",{"$f":"C3255*E3255","v":0},null,null,null,null,null,"Natuur",null,null,null,null,null,{"$f":"C3255","v":0}]
[null,{"$f":"Data!$C$13","v":"Champignons"},null,"x",{"$f":"Data!$F$13","v":8},"=",{"$f":"C3256*E3256","v":0},null,null,null,null,null,"Champignons",null,null,null,null,null,null,{"$f":"C3256","v":0}]
[null,{"$f":"Data!$C$14","v":"Peper"},null,"x",{"$f":"Data!$F$14","v":8},"=",0,null,null,null,null,null,"Peper",null,null,null,null,null,null,null,{"$f":"C3257","v":0}]
[null,{"$f":"Data!$C$15","v":"Kabeljauwhaasje"},null,"x",{"$f":"Data!$F$15","v":8},"=",0,null,null,null,null,null,"Kabeljauwhaasje",null,null,null,null,null,null,null,null,{"$f":"C3258","v":0}]
[]
[null,{"$f":"Data!$C$17","v":"Totaal eten:"},null,null,null,null,{"$f":"SUM(G3248:G3259)","v":0},null,null,null,null,null,"Totaal eten:",null,null,null,null,null,null,null,null,null,{"$f":"G3260","v":0}]
[null,{"$f":"Data!$C$18","v":"Totaal kaarten:"},null,"x",{"$f":"Data!$F$18","v":3},"=",{"$f":"-(C3261*E3261)","v":0}]
[null,null,null,null,null,null,null,null,null,null,null,null,"Totaal kaarten (bedrag):",null,null,null,null,null,null,null,null,null,null,{"$f":"C3261","v":0}]
[]
[null,{"$f":"Data!$C$21","v":"Totaal te betalen:"},null,null,null,null,{"$f":"G3260+G3261","v":0},null,null,null,null,null,"Totaal te betalen:",null,null,null,null,null,null,null,null,null,null,null,{"$f":"G3264","v":0}]
[]
[{"$f":"Data!$A$23","v":"TGV Opstal dankt u voor uw aanwezigheid!  Eet smakelijk!"}]
[]
["Fietsclub TGV Opstal",null,null,null,null,null,"Tafel nr:"]
[{"$f":"A3245","v":70}]
[]
[{"$f":"Data!$B$4","v":"Kalkoenfilet"}]
[null,{"$f":"Data!$C$5","v":"Natuur"},{"$f":"C3248","v":0},"x",{"$f":"Data!$F$5","v":17},"=",{"$f":"C3272*E3272","v":0}]
[null,{"$f":"Data!$C$6","v":"Champignons"},{"$f":"C3249","v":0},"x",{"$f":"Data!$F$6","v":17},"=",{"$f":"C3273*E3273","v":0}]
[null,{"$f":"Data!$C$7","v":"Peper"},0,"x",{"$f":"Data!$F$7","v":17},"=",{"$f":"C3274*E3274","v":0}]
[]
[{"$f":"Data!$B$9","v":"Kabeljauwhaasje"},null,0,"x",{"$f":"Data!$F$9","v":17},"=",{"$f":"C3276*E3276","v":0}]
[]
[{"$f":"Data!$B$11","v":"Kindermenu"}]
[null,{"$f":"Data!$C$12","v":"Natuur"},0,"x",{"$f":"Data!$F$12","v":8},"=",{"$f":"C3279*E3279","v":0}]
[null,{"$f":"Data!$C$13","v":"Champignons"},0,"x",{"$f":"Data!$F$13","v":8},"=",{"$f":"C3280*E3280","v":0}]
[null,{"$f":"Data!$C$14","v":"Peper"},0,"x",{"$f":"Data!$F$14","v":8},"=",0]
[null,{"$f":"Data!$C$15","v":"Kabeljauwhaasje"},0,"x",{"$f":"Data!$F$15","v":8},"=",0]
[]
[null,{"$f":"Data!$C$17","v":"Totaal eten:"},null,null,null,null,{"$f":"SUM(G3272:G3283)","v":0}]
[null,{"$f":"Data!$C$18","v":"Totaal kaarten:"},{"$f":"C3261","v":0},"x",{"$f":"Data!$F$18","v":3},"=",{"$f":"-(C3285*E3285)","v":0}]
[]
[]
[null,{"$f":"Data!$C$21","v":"Totaal te betalen:"},null,null,null,null,{"$f":"G3284+G3285","v":0}]
[]
[{"$f":"Data!$A$23","v":"TGV Opstal dankt u voor uw aanwezigheid!  Eet smakelijk!"}]
["Fietsclub TGV Opstal",null,null,null,null,null,"Tafel nr:"]
[{"$f":"A3245+1","v":71},null,null,null,null,null,null,null,null,null,null,{"$f":"A3292","v":71}]
[]
[{"$f":"Data!$B$4","v":"Kalkoenfilet"},null,null,null,null,null,null,null,null,null,null,"Kalkoenfilet"]
[null,{"$f":"Data!$C$5","v":"Natuur"},null,"x",{"$f":"Data!$F$5","v":17},"=",{"$f":"C3295*E3295","v":0},null,null,null,null,null,"Natuur",null,{"$f":"C3295","v":0}]
[null,{"$f":"Data!$C$6","v":"Champignons"},null,"x",{"$f":"Data!$F$6","v":17},"=",{"$f":"C3296*E3296","v":0},null,null,null,null,null,"Champignons",null,null,{"$f":"C3296","v":0}]
[null,{"$f":"Data!$C$7","v":"Peper"},null,"x",{"$f":"Data!$F$7","v":17},"=",{"$f":"C3297*E3297","v":0},null,null,null,null,null,"Peper",null,null,null,{"$f":"C3297","v":0}]
[]
[{"$f":"Data!$B$9","v":"Kabeljauwhaasje"},null,null,"x",{"$f":"Data!$F$9","v":17},"=",{"$f":"C3299*E3299","v":0},null,null,null,null,"Kabeljauwhaasje",null,null,null,null,null,{"$f":"C3299","v":0}]
[]
[{"$f":"Data!$B$11","v":"Kindermenu"},null,null,null,null,null,null,null,null,null,null,"Kindermenu"]
[null,{"$f":"Data!$C$12","v":"Natuur"},null,"x",{"$f":"Data!$F$12","v":8},"=",{"$f":"C3302*E3302","v":0},null,null,null,null,null,"Natuur",null,null,null,null,null,{"$f":"C3302","v":0}]
[null,{"$f":"Data!$C$13","v":"Champignons"},null,"x",{"$f":"Data!$F$13","v":8},"=",{"$f":"C3303*E3303","v":0},null,null,null,null,null,"Champignons",null,null,null,null,null,null,{"$f":"C3303","v":0}]
[null,{"$f":"Data!$C$14","v":"Peper"},null,"x",{"$f":"Data!$F$14","v":8},"=",0,null,null,null,null,null,"Peper",null,null,null,null,null,null,null,{"$f":"C3304","v":0}]
[null,{"$f":"Data!$C$15","v":"Kabeljauwhaasje"},null,"x",{"$f":"Data!$F$15","v":8},"=",0,null,null,null,null,null,"Kabeljauwhaasje",null,null,null,null,null,null,null,null,{"$f":"C3305","v":0}]
[]
[null,{"$f":"Data!$C$17","v":"Totaal eten:"},null,null,null,null,{"$f":"SUM(G3295:G3306)","v":0},null,null,null,null,null,"Totaal eten:",null,null,null,null,null,null,null,null,null,{"$f":"G3307","v":0}]
[null,{"$f":"Data!$C$18","v":"Totaal kaarten:"},null,"x",{"$f":"Data!$F$18","v":3},"=",{"$f":"-(C3308*E3308)","v":0}]
[null,null,null,null,null,null,null,null,null,null,null,null,"Totaal kaarten (bedrag):",null,null,null,null,null,null,null,null,null,null,{"$f":"C3308","v":0}]
[]
[null,{"$f":"Data!$C$21","v":"Totaal te betalen:"},null,null,null,null,{"$f":"G3307+G3308","v":0},null,null,null,null,null,"Totaal te betalen:",null,null,null,null,null,null,null,null,null,null,null,{"$f":"G3311","v":0}]
[]
[{"$f":"Data!$A$23","v":"TGV Opstal dankt u voor uw aanwezigheid!  Eet smakelijk!"}]
[]
["Fietsclub TGV Opstal",null,null,null,null,null,"Tafel nr:"]
[{"$f":"A3292","v":71}]
[]
[{"$f":"Data!$B$4","v":"Kalkoenfilet"}]
[null,{"$f":"Data!$C$5","v":"Natuur"},{"$f":"C3295","v":0},"x",{"$f":"Data!$F$5","v":17},"=",{"$f":"C3319*E3319","v":0}]
[null,{"$f":"Data!$C$6","v":"Champignons"},{"$f":"C3296","v":0},"x",{"$f":"Data!$F$6","v":17},"=",{"$f":"C3320*E3320","v":0}]
[null,{"$f":"Data!$C$7","v":"Peper"},0,"x",{"$f":"Data!$F$7","v":17},"=",{"$f":"C3321*E3321","v":0}]
[]
[{"$f":"Data!$B$9","v":"Kabeljauwhaasje"},null,0,"x",{"$f":"Data!$F$9","v":17},"=",{"$f":"C3323*E3323","v":0}]
[]
[{"$f":"Data!$B$11","v":"Kindermenu"}]
[null,{"$f":"Data!$C$12","v":"Natuur"},0,"x",{"$f":"Data!$F$12","v":8},"=",{"$f":"C3326*E3326","v":0}]
[null,{"$f":"Data!$C$13","v":"Champignons"},0,"x",{"$f":"Data!$F$13","v":8},"=",{"$f":"C3327*E3327","v":0}]
[null,{"$f":"Data!$C$14","v":"Peper"},0,"x",{"$f":"Data!$F$14","v":8},"=",0]
[null,{"$f":"Data!$C$15","v":"Kabeljauwhaasje"},0,"x",{"$f":"Data!$F$15","v":8},"=",0]
[]
[null,{"$f":"Data!$C$17","v":"Totaal eten:"},null,null,null,null,{"$f":"SUM(G3319:G3330)","v":0}]
[null,{"$f":"Data!$C$18","v":"Totaal kaarten:"},{"$f":"C3308","v":0},"x",{"$f":"Data!$F$18","v":3},"=",{"$f":"-(C3332*E3332)","v":0}]
[]
[]
[null,{"$f":"Data!$C$21","v":"Totaal te betalen:"},null,null,null,null,{"$f":"G3331+G3332","v":0}]
[]
[{"$f":"Data!$A$23","v":"TGV Opstal dankt u voor uw aanwezigheid!  Eet smakelijk!"}]
["Fietsclub TGV Opstal",null,null,null,null,null,"Tafel nr:"]
[{"$f":"A3292+1","v":72},null,null,null,null,null,null,null,null,null,null,{"$f":"A3339","v":72}]
[]
[{"$f":"Data!$B$4","v":"Kalkoenfilet"},null,null,null,null,null,null,null,null,null,null,"Kalkoenfilet"]
[null,{"$f":"Data!$C$5","v":"Natuur"},null,"x",{"$f":"Data!$F$5","v":17},"=",{"$f":"C3342*E3342","v":0},null,null,null,null,null,"Natuur",null,{"$f":"C3342","v":0}]
[null,{"$f":"Data!$C$6","v":"Champignons"},null,"x",{"$f":"Data!$F$6","v":17},"=",{"$f":"C3343*E3343","v":0},null,null,null,null,null,"Champignons",null,null,{"$f":"C3343","v":0}]
[null,{"$f":"Data!$C$7","v":"Peper"},null,"x",{"$f":"Data!$F$7","v":17},"=",{"$f":"C3344*E3344","v":0},null,null,null,null,null,"Peper",null,null,null,{"$f":"C3344","v":0}]
[]
[{"$f":"Data!$B$9","v":"Kabeljauwhaasje"},null,null,"x",{"$f":"Data!$F$9","v":17},"=",{"$f":"C3346*E3346","v":0},null,null,null,null,"Kabeljauwhaasje",null,null,null,null,null,{"$f":"C3346","v":0}]
[]
[{"$f":"Data!$B$11","v":"Kindermenu"},null,null,null,null,null,null,null,null,null,null,"Kindermenu"]
[null,{"$f":"Data!$C$12","v":"Natuur"},null,"x",{"$f":"Data!$F$12","v":8},"=",{"$f":"C3349*E3349","v":0},null,null,null,null,null,"Natuur",null,null,null,null,null,{"$f":"C3349","v":0}]
[null,{"$f":"Data!$C$13","v":"Champignons"},null,"x",{"$f":"Data!$F$13","v":8},"=",{"$f":"C3350*E3350","v":0},null,null,null,null,null,"Champignons",null,null,null,null,null,null,{"$f":"C3350","v":0}]
[null,{"$f":"Data!$C$14","v":"Peper"},null,"x",{"$f":"Data!$F$14","v":8},"=",0,null,null,null,null,null,"Peper",null,null,null,null,null,null,null,{"$f":"C3351","v":0}]
[null,{"$f":"Data!$C$15","v":"Kabeljauwhaasje"},null,"x",{"$f":"Data!$F$15","v":8},"=",0,null,null,null,null,null,"Kabeljauwhaasje",null,null,null,null,null,null,null,null,{"$f":"C3352","v":0}]
[]
[null,{"$f":"Data!$C$17","v":"Totaal eten:"},null,null,null,null,{"$f":"SUM(G3342:G3353)","v":0},null,null,null,null,null,"Totaal eten:",null,null,null,null,null,null,null,null,null,{"$f":"G3354","v":0}]
[null,{"$f":"Data!$C$18","v":"Totaal kaarten:"},null,"x",{"$f":"Data!$F$18","v":3},"=",{"$f":"-(C3355*E3355)","v":0}]
[null,null,null,null,null,null,null,null,null,null,null,null,"Totaal kaarten (bedrag):",null,null,null,null,null,null,null,null,null,null,{"$f":"C3355","v":0}]
[]
[null,{"$f":"Data!$C$21","v":"Totaal te betalen:"},null,null,null,null,{"$f":"G3354+G3355","v":0},null,null,null,null,null,"Totaal te betalen:",null,null,null,null,null,null,null,null,null,null,null,{"$f":"G3358","v":0}]
[]
[{"$f":"Data!$A$23","v":"TGV Opstal dankt u voor uw aanwezigheid!  Eet smakelijk!"}]
[]
["Fietsclub TGV Opstal",null,null,null,null,null,"Tafel nr:"]
[{"$f":"A3339","v":72}]
[]
[{"$f":"Data!$B$4","v":"Kalkoenfilet"}]
[null,{"$f":"Data!$C$5","v":"Natuur"},{"$f":"C3342","v":0},"x",{"$f":"Data!$F$5","v":17},"=",{"$f":"C3366*E3366","v":0}]
[null,{"$f":"Data!$C$6","v":"Champignons"},{"$f":"C3343","v":0},"x",{"$f":"Data!$F$6","v":17},"=",{"$f":"C3367*E3367","v":0}]
[null,{"$f":"Data!$C$7","v":"Peper"},0,"x",{"$f":"Data!$F$7","v":17},"=",{"$f":"C3368*E3368","v":0}]
[]
[{"$f":"Data!$B$9","v":"Kabeljauwhaasje"},null,0,"x",{"$f":"Data!$F$9","v":17},"=",{"$f":"C3370*E3370","v":0}]
[]
[{"$f":"Data!$B$11","v":"Kindermenu"}]
[null,{"$f":"Data!$C$12","v":"Natuur"},0,"x",{"$f":"Data!$F$12","v":8},"=",{"$f":"C3373*E3373","v":0}]
[null,{"$f":"Data!$C$13","v":"Champignons"},0,"x",{"$f":"Data!$F$13","v":8},"=",{"$f":"C3374*E3374","v":0}]
[null,{"$f":"Data!$C$14","v":"Peper"},0,"x",{"$f":"Data!$F$14","v":8},"=",0]
[null,{"$f":"Data!$C$15","v":"Kabeljauwhaasje"},0,"x",{"$f":"Data!$F$15","v":8},"=",0]
[]
[null,{"$f":"Data!$C$17","v":"Totaal eten:"},null,null,null,null,{"$f":"SUM(G3366:G3377)","v":0}]
[null,{"$f":"Data!$C$18","v":"Totaal kaarten:"},{"$f":"C3355","v":0},"x",{"$f":"Data!$F$18","v":3},"=",{"$f":"-(C3379*E3379)","v":0}]
[]
[]
[null,{"$f":"Data!$C$21","v":"Totaal te betalen:"},null,null,null,null,{"$f":"G3378+G3379","v":0}]
[]
[{"$f":"Data!$A$23","v":"TGV Opstal dankt u voor uw aanwezigheid!  Eet smakelijk!"}]
["Fietsclub TGV Opstal",null,null,null,null,null,"Tafel nr:"]
[{"$f":"A3339+1","v":73},null,null,null,null,null,null,null,null,null,null,{"$f":"A3386","v":73}]
[]
[{"$f":"Data!$B$4","v":"Kalkoenfilet"},null,null,null,null,null,null,null,null,null,null,"Kalkoenfilet"]
[null,{"$f":"Data!$C$5","v":"Natuur"},null,"x",{"$f":"Data!$F$5","v":17},"=",{"$f":"C3389*E3389","v":0},null,null,null,null,null,"Natuur",null,{"$f":"C3389","v":0}]
[null,{"$f":"Data!$C$6","v":"Champignons"},null,"x",{"$f":"Data!$F$6","v":17},"=",{"$f":"C3390*E3390","v":0},null,null,null,null,null,"Champignons",null,null,{"$f":"C3390","v":0}]
[null,{"$f":"Data!$C$7","v":"Peper"},null,"x",{"$f":"Data!$F$7","v":17},"=",{"$f":"C3391*E3391","v":0},null,null,null,null,null,"Peper",null,null,null,{"$f":"C3391","v":0}]
[]
[{"$f":"Data!$B$9","v":"Kabeljauwhaasje"},null,null,"x",{"$f":"Data!$F$9","v":17},"=",{"$f":"C3393*E3393","v":0},null,null,null,null,"Kabeljauwhaasje",null,null,null,null,null,{"$f":"C3393","v":0}]
[]
[{"$f":"Data!$B$11","v":"Kindermenu"},null,null,null,null,null,null,null,null,null,null,"Kindermenu"]
[null,{"$f":"Data!$C$12","v":"Natuur"},null,"x",{"$f":"Data!$F$12","v":8},"=",{"$f":"C3396*E3396","v":0},null,null,null,null,null,"Natuur",null,null,null,null,null,{"$f":"C3396","v":0}]
[null,{"$f":"Data!$C$13","v":"Champignons"},null,"x",{"$f":"Data!$F$13","v":8},"=",{"$f":"C3397*E3397","v":0},null,null,null,null,null,"Champignons",null,null,null,null,null,null,{"$f":"C3397","v":0}]
[null,{"$f":"Data!$C$14","v":"Peper"},null,"x",{"$f":"Data!$F$14","v":8},"=",0,null,null,null,null,null,"Peper",null,null,null,null,null,null,null,{"$f":"C3398","v":0}]
[null,{"$f":"Data!$C$15","v":"Kabeljauwhaasje"},null,"x",{"$f":"Data!$F$15","v":8},"=",0,null,null,null,null,null,"Kabeljauwhaasje",null,null,null,null,null,null,null,null,{"$f":"C3399","v":0}]
[]
[null,{"$f":"Data!$C$17","v":"Totaal eten:"},null,null,null,null,{"$f":"SUM(G3389:G3400)","v":0},null,null,null,null,null,"Totaal eten:",null,null,null,null,null,null,null,null,null,{"$f":"G3401","v":0}]
[null,{"$f":"Data!$C$18","v":"Totaal kaarten:"},null,"x",{"$f":"Data!$F$18","v":3},"=",{"$f":"-(C3402*E3402)","v":0}]
[null,null,null,null,null,null,null,null,null,null,null,null,"Totaal kaarten (bedrag):",null,null,null,null,null,null,null,null,null,null,{"$f":"C3402","v":0}]
[]
[null,{"$f":"Data!$C$21","v":"Totaal te betalen:"},null,null,null,null,{"$f":"G3401+G3402","v":0},null,null,null,null,null,"Totaal te betalen:",null,null,null,null,null,null,null,null,null,null,null,{"$f":"G3405","v":0}]
[]
[{"$f":"Data!$A$23","v":"TGV Opstal dankt u voor uw aanwezigheid!  Eet smakelijk!"}]
[]
["Fietsclub TGV Opstal",null,null,null,null,null,"Tafel nr:"]
[{"$f":"A3386","v":73}]
[]
[{"$f":"Data!$B$4","v":"Kalkoenfilet"}]
[null,{"$f":"Data!$C$5","v":"Natuur"},{"$f":"C3389","v":0},"x",{"$f":"Data!$F$5","v":17},"=",{"$f":"C3413*E3413","v":0}]
[null,{"$f":"Data!$C$6","v":"Champignons"},{"$f":"C3390","v":0},"x",{"$f":"Data!$F$6","v":17},"=",{"$f":"C3414*E3414","v":0}]
[null,{"$f":"Data!$C$7","v":"Peper"},0,"x",{"$f":"Data!$F$7","v":17},"=",{"$f":"C3415*E3415","v":0}]
[]
[{"$f":"Data!$B$9","v":"Kabeljauwhaasje"},null,0,"x",{"$f":"Data!$F$9","v":17},"=",{"$f":"C3417*E3417","v":0}]
[]
[{"$f":"Data!$B$11","v":"Kindermenu"}]
[null,{"$f":"Data!$C$12","v":"Natuur"},0,"x",{"$f":"Data!$F$12","v":8},"=",{"$f":"C3420*E3420","v":0}]
[null,{"$f":"Data!$C$13","v":"Champignons"},0,"x",{"$f":"Data!$F$13","v":8},"=",{"$f":"C3421*E3421","v":0}]
[null,{"$f":"Data!$C$14","v":"Peper"},0,"x",{"$f":"Data!$F$14","v":8},"=",0]
[null,{"$f":"Data!$C$15","v":"Kabeljauwhaasje"},0,"x",{"$f":"Data!$F$15","v":8},"=",0]
[]
[null,{"$f":"Data!$C$17","v":"Totaal eten:"},null,null,null,null,{"$f":"SUM(G3413:G3424)","v":0}]
[null,{"$f":"Data!$C$18","v":"Totaal kaarten:"},{"$f":"C3402","v":0},"x",{"$f":"Data!$F$18","v":3},"=",{"$f":"-(C3426*E3426)","v":0}]
[]
[]
[null,{"$f":"Data!$C$21","v":"Totaal te betalen:"},null,null,null,null,{"$f":"G3425+G3426","v":0}]
[]
[{"$f":"Data!$A$23","v":"TGV Opstal dankt u voor uw aanwezigheid!  Eet smakelijk!"}]
["Fietsclub TGV Opstal",null,null,null,null,null,"Tafel nr:"]
[{"$f":"A3386+1","v":74},null,null,null,null,null,null,null,null,null,null,{"$f":"A3433","v":74}]
[]
[{"$f":"Data!$B$4","v":"Kalkoenfilet"},null,null,null,null,null,null,null,null,null,null,"Kalkoenfilet"]
[null,{"$f":"Data!$C$5","v":"Natuur"},null,"x",{"$f":"Data!$F$5","v":17},"=",{"$f":"C3436*E3436","v":0},null,null,null,null,null,"Natuur",null,{"$f":"C3436","v":0}]
[null,{"$f":"Data!$C$6","v":"Champignons"},null,"x",{"$f":"Data!$F$6","v":17},"=",{"$f":"C3437*E3437","v":0},null,null,null,null,null,"Champignons",null,null,{"$f":"C3437","v":0}]
[null,{"$f":"Data!$C$7","v":"Peper"},null,"x",{"$f":"Data!$F$7","v":17},"=",{"$f":"C3438*E3438","v":0},null,null,null,null,null,"Peper",null,null,null,{"$f":"C3438","v":0}]
[]
[{"$f":"Data!$B$9","v":"Kabeljauwhaasje"},null,null,"x",{"$f":"Data!$F$9","v":17},"=",{"$f":"C3440*E3440","v":0},null,null,null,null,"Kabeljauwhaasje",null,null,null,null,null,{"$f":"C3440","v":0}]
[]
[{"$f":"Data!$B$11","v":"Kindermenu"},null,null,null,null,null,null,null,null,null,null,"Kindermenu"]
[null,{"$f":"Data!$C$12","v":"Natuur"},null,"x",{"$f":"Data!$F$12","v":8},"=",{"$f":"C3443*E3443","v":0},null,null,null,null,null,"Natuur",null,null,null,null,null,{"$f":"C3443","v":0}]
[null,{"$f":"Data!$C$13","v":"Champignons"},null,"x",{"$f":"Data!$F$13","v":8},"=",{"$f":"C3444*E3444","v":0},null,null,null,null,null,"Champignons",null,null,null,null,null,null,{"$f":"C3444","v":0}]
[null,{"$f":"Data!$C$14","v":"Peper"},null,"x",{"$f":"Data!$F$14","v":8},"=",0,null,null,null,null,null,"Peper",null,null,null,null,null,null,null,{"$f":"C3445","v":0}]
[null,{"$f":"Data!$C$15","v":"Kabeljauwhaasje"},null,"x",{"$f":"Data!$F$15","v":8},"=",0,null,null,null,null,null,"Kabeljauwhaasje",null,null,null,null,null,null,null,null,{"$f":"C3446","v":0}]
[]
[null,{"$f":"Data!$C$17","v":"Totaal eten:"},null,null,null,null,{"$f":"SUM(G3436:G3447)","v":0},null,null,null,null,null,"Totaal eten:",null,null,null,null,null,null,null,null,null,{"$f":"G3448","v":0}]
[null,{"$f":"Data!$C$18","v":"Totaal kaarten:"},null,"x",{"$f":"Data!$F$18","v":3},"=",{"$f":"-(C3449*E3449)","v":0}]
[null,null,null,null,null,null,null,null,null,null,null,null,"Totaal kaarten (bedrag):",null,null,null,null,null,null,null,null,null,null,{"$f":"C3449","v":0}]
[]
[null,{"$f":"Data!$C$21","v":"Totaal te betalen:"},null,null,null,null,{"$f":"G3448+G3449","v":0},null,null,null,null,null,"Totaal te betalen:",null,null,null,null,null,null,null,null,null,null,null,{"$f":"G3452","v":0}]
[]
[{"$f":"Data!$A$23","v":"TGV Opstal dankt u voor uw aanwezigheid!  Eet smakelijk!"}]
[]
["Fietsclub TGV Opstal",null,null,null,null,null,"Tafel nr:"]
[{"$f":"A3433","v":74}]
[]
[{"$f":"Data!$B$4","v":"Kalkoenfilet"}]
[null,{"$f":"Data!$C$5","v":"Natuur"},{"$f":"C3436","v":0},"x",{"$f":"Data!$F$5","v":17},"=",{"$f":"C3460*E3460","v":0}]
[null,{"$f":"Data!$C$6","v":"Champignons"},{"$f":"C3437","v":0},"x",{"$f":"Data!$F$6","v":17},"=",{"$f":"C3461*E3461","v":0}]
[null,{"$f":"Data!$C$7","v":"Peper"},0,"x",{"$f":"Data!$F$7","v":17},"=",{"$f":"C3462*E3462","v":0}]
[]
[{"$f":"Data!$B$9","v":"Kabeljauwhaasje"},null,0,"x",{"$f":"Data!$F$9","v":17},"=",{"$f":"C3464*E3464","v":0}]
[]
[{"$f":"Data!$B$11","v":"Kindermenu"}]
[null,{"$f":"Data!$C$12","v":"Natuur"},0,"x",{"$f":"Data!$F$12","v":8},"=",{"$f":"C3467*E3467","v":0}]
[null,{"$f":"Data!$C$13","v":"Champignons"},0,"x",{"$f":"Data!$F$13","v":8},"=",{"$f":"C3468*E3468","v":0}]
[null,{"$f":"Data!$C$14","v":"Peper"},0,"x",{"$f":"Data!$F$14","v":8},"=",0]
[null,{"$f":"Data!$C$15","v":"Kabeljauwhaasje"},0,"x",{"$f":"Data!$F$15","v":8},"=",0]
[]
[null,{"$f":"Data!$C$17","v":"Totaal eten:"},null,null,null,null,{"$f":"SUM(G3460:G3471)","v":0}]
[null,{"$f":"Data!$C$18","v":"Totaal kaarten:"},{"$f":"C3449","v":0},"x",{"$f":"Data!$F$18","v":3},"=",{"$f":"-(C3473*E3473)","v":0}]
[]
[]
[null,{"$f":"Data!$C$21","v":"Totaal te betalen:"},null,null,null,null,{"$f":"G3472+G3473","v":0}]
[]
[{"$f":"Data!$A$23","v":"TGV Opstal dankt u voor uw aanwezigheid!  Eet smakelijk!"}]
["Fietsclub TGV Opstal",null,null,null,null,null,"Tafel nr:"]
[{"$f":"A3433+1","v":75},null,null,null,null,null,null,null,null,null,null,{"$f":"A3480","v":75}]
[]
[{"$f":"Data!$B$4","v":"Kalkoenfilet"},null,null,null,null,null,null,null,null,null,null,"Kalkoenfilet"]
[null,{"$f":"Data!$C$5","v":"Natuur"},null,"x",{"$f":"Data!$F$5","v":17},"=",{"$f":"C3483*E3483","v":0},null,null,null,null,null,"Natuur",null,{"$f":"C3483","v":0}]
[null,{"$f":"Data!$C$6","v":"Champignons"},null,"x",{"$f":"Data!$F$6","v":17},"=",{"$f":"C3484*E3484","v":0},null,null,null,null,null,"Champignons",null,null,{"$f":"C3484","v":0}]
[null,{"$f":"Data!$C$7","v":"Peper"},null,"x",{"$f":"Data!$F$7","v":17},"=",{"$f":"C3485*E3485","v":0},null,null,null,null,null,"Peper",null,null,null,{"$f":"C3485","v":0}]
[]
[{"$f":"Data!$B$9","v":"Kabeljauwhaasje"},null,null,"x",{"$f":"Data!$F$9","v":17},"=",{"$f":"C3487*E3487","v":0},null,null,null,null,"Kabeljauwhaasje",null,null,null,null,null,{"$f":"C3487","v":0}]
[]
[{"$f":"Data!$B$11","v":"Kindermenu"},null,null,null,null,null,null,null,null,null,null,"Kindermenu"]
[null,{"$f":"Data!$C$12","v":"Natuur"},null,"x",{"$f":"Data!$F$12","v":8},"=",{"$f":"C3490*E3490","v":0},null,null,null,null,null,"Natuur",null,null,null,null,null,{"$f":"C3490","v":0}]
[null,{"$f":"Data!$C$13","v":"Champignons"},null,"x",{"$f":"Data!$F$13","v":8},"=",{"$f":"C3491*E3491","v":0},null,null,null,null,null,"Champignons",null,null,null,null,null,null,{"$f":"C3491","v":0}]
[null,{"$f":"Data!$C$14","v":"Peper"},null,"x",{"$f":"Data!$F$14","v":8},"=",0,null,null,null,null,null,"Peper",null,null,null,null,null,null,null,{"$f":"C3492","v":0}]
[null,{"$f":"Data!$C$15","v":"Kabeljauwhaasje"},null,"x",{"$f":"Data!$F$15","v":8},"=",0,null,null,null,null,null,"Kabeljauwhaasje",null,null,null,null,null,null,null,null,{"$f":"C3493","v":0}]
[]
[null,{"$f":"Data!$C$17","v":"Totaal eten:"},null,null,null,null,{"$f":"SUM(G3483:G3494)","v":0},null,null,null,null,null,"Totaal eten:",null,null,null,null,null,null,null,null,null,{"$f":"G3495","v":0}]
[null,{"$f":"Data!$C$18","v":"Totaal kaarten:"},null,"x",{"$f":"Data!$F$18","v":3},"=",{"$f":"-(C3496*E3496)","v":0}]
[null,null,null,null,null,null,null,null,null,null,null,null,"Totaal kaarten (bedrag):",null,null,null,null,null,null,null,null,null,null,{"$f":"C3496","v":0}]
[]
[null,{"$f":"Data!$C$21","v":"Totaal te betalen:"},null,null,null,null,{"$f":"G3495+G3496","v":0},null,null,null,null,null,"Totaal te betalen:",null,null,null,null,null,null,null,null,null,null,null,{"$f":"G3499","v":0}]
[]
[{"$f":"Data!$A$23","v":"TGV Opstal dankt u voor uw aanwezigheid!  Eet smakelijk!"}]
[]
["Fietsclub TGV Opstal",null,null,null,null,null,"Tafel nr:"]
[{"$f":"A3480","v":75}]
[]
[{"$f":"Data!$B$4","v":"Kalkoenfilet"}]
[null,{"$f":"Data!$C$5","v":"Natuur"},{"$f":"C3483","v":0},"x",{"$f":"Data!$F$5","v":17},"=",{"$f":"C3507*E3507","v":0}]
[null,{"$f":"Data!$C$6","v":"Champignons"},{"$f":"C3484","v":0},"x",{"$f":"Data!$F$6","v":17},"=",{"$f":"C3508*E3508","v":0}]
[null,{"$f":"Data!$C$7","v":"Peper"},0,"x",{"$f":"Data!$F$7","v":17},"=",{"$f":"C3509*E3509","v":0}]
[]
[{"$f":"Data!$B$9","v":"Kabeljauwhaasje"},null,0,"x",{"$f":"Data!$F$9","v":17},"=",{"$f":"C3511*E3511","v":0}]
[]
[{"$f":"Data!$B$11","v":"Kindermenu"}]
[null,{"$f":"Data!$C$12","v":"Natuur"},0,"x",{"$f":"Data!$F$12","v":8},"=",{"$f":"C3514*E3514","v":0}]
[null,{"$f":"Data!$C$13","v":"Champignons"},0,"x",{"$f":"Data!$F$13","v":8},"=",{"$f":"C3515*E3515","v":0}]
[null,{"$f":"Data!$C$14","v":"Peper"},0,"x",{"$f":"Data!$F$14","v":8},"=",0]
[null,{"$f":"Data!$C$15","v":"Kabeljauwhaasje"},0,"x",{"$f":"Data!$F$15","v":8},"=",0]
[]
[null,{"$f":"Data!$C$17","v":"Totaal eten:"},null,null,null,null,{"$f":"SUM(G3507:G3518)","v":0}]
[null,{"$f":"Data!$C$18","v":"Totaal kaarten:"},{"$f":"C3496","v":0},"x",{"$f":"Data!$F$18","v":3},"=",{"$f":"-(C3520*E3520)","v":0}]
[]
[]
[null,{"$f":"Data!$C$21","v":"Totaal te betalen:"},null,null,null,null,{"$f":"G3519+G3520","v":0}]
[]
[{"$f":"Data!$A$23","v":"TGV Opstal dankt u voor uw aanwezigheid!  Eet smakelijk!"}]
["Fietsclub TGV Opstal",null,null,null,null,null,"Tafel nr:"]
[{"$f":"A3480+1","v":76},null,null,null,null,null,null,null,null,null,null,{"$f":"A3527","v":76}]
[]
[{"$f":"Data!$B$4","v":"Kalkoenfilet"},null,null,null,null,null,null,null,null,null,null,"Kalkoenfilet"]
[null,{"$f":"Data!$C$5","v":"Natuur"},null,"x",{"$f":"Data!$F$5","v":17},"=",{"$f":"C3530*E3530","v":0},null,null,null,null,null,"Natuur",null,{"$f":"C3530","v":0}]
[null,{"$f":"Data!$C$6","v":"Champignons"},null,"x",{"$f":"Data!$F$6","v":17},"=",{"$f":"C3531*E3531","v":0},null,null,null,null,null,"Champignons",null,null,{"$f":"C3531","v":0}]
[null,{"$f":"Data!$C$7","v":"Peper"},null,"x",{"$f":"Data!$F$7","v":17},"=",{"$f":"C3532*E3532","v":0},null,null,null,null,null,"Peper",null,null,null,{"$f":"C3532","v":0}]
[]
[{"$f":"Data!$B$9","v":"Kabeljauwhaasje"},null,null,"x",{"$f":"Data!$F$9","v":17},"=",{"$f":"C3534*E3534","v":0},null,null,null,null,"Kabeljauwhaasje",null,null,null,null,null,{"$f":"C3534","v":0}]
[]
[{"$f":"Data!$B$11","v":"Kindermenu"},null,null,null,null,null,null,null,null,null,null,"Kindermenu"]
[null,{"$f":"Data!$C$12","v":"Natuur"},null,"x",{"$f":"Data!$F$12","v":8},"=",{"$f":"C3537*E3537","v":0},null,null,null,null,null,"Natuur",null,null,null,null,null,{"$f":"C3537","v":0}]
[null,{"$f":"Data!$C$13","v":"Champignons"},null,"x",{"$f":"Data!$F$13","v":8},"=",{"$f":"C3538*E3538","v":0},null,null,null,null,null,"Champignons",null,null,null,null,null,null,{"$f":"C3538","v":0}]
[null,{"$f":"Data!$C$14","v":"Peper"},null,"x",{"$f":"Data!$F$14","v":8},"=",0,null,null,null,null,null,"Peper",null,null,null,null,null,null,null,{"$f":"C3539","v":0}]
[null,{"$f":"Data!$C$15","v":"Kabeljauwhaasje"},null,"x",{"$f":"Data!$F$15","v":8},"=",0,null,null,null,null,null,"Kabeljauwhaasje",null,null,null,null,null,null,null,null,{"$f":"C3540","v":0}]
[]
[null,{"$f":"Data!$C$17","v":"Totaal eten:"},null,null,null,null,{"$f":"SUM(G3530:G3541)","v":0},null,null,null,null,null,"Totaal eten:",null,null,null,null,null,null,null,null,null,{"$f":"G3542","v":0}]
[null,{"$f":"Data!$C$18","v":"Totaal kaarten:"},null,"x",{"$f":"Data!$F$18","v":3},"=",{"$f":"-(C3543*E3543)","v":0}]
[null,null,null,null,null,null,null,null,null,null,null,null,"Totaal kaarten (bedrag):",null,null,null,null,null,null,null,null,null,null,{"$f":"C3543","v":0}]
[]
[null,{"$f":"Data!$C$21","v":"Totaal te betalen:"},null,null,null,null,{"$f":"G3542+G3543","v":0},null,null,null,null,null,"Totaal te betalen:",null,null,null,null,null,null,null,null,null,null,null,{"$f":"G3546","v":0}]
[]
[{"$f":"Data!$A$23","v":"TGV Opstal dankt u voor uw aanwezigheid!  Eet smakelijk!"}]
[]
["Fietsclub TGV Opstal",null,null,null,null,null,"Tafel nr:"]
[{"$f":"A3527","v":76}]
[]
[{"$f":"Data!$B$4","v":"Kalkoenfilet"}]
[null,{"$f":"Data!$C$5","v":"Natuur"},{"$f":"C3530","v":0},"x",{"$f":"Data!$F$5","v":17},"=",{"$f":"C3554*E3554","v":0}]
[null,{"$f":"Data!$C$6","v":"Champignons"},{"$f":"C3531","v":0},"x",{"$f":"Data!$F$6","v":17},"=",{"$f":"C3555*E3555","v":0}]
[null,{"$f":"Data!$C$7","v":"Peper"},0,"x",{"$f":"Data!$F$7","v":17},"=",{"$f":"C3556*E3556","v":0}]
[]
[{"$f":"Data!$B$9","v":"Kabeljauwhaasje"},null,0,"x",{"$f":"Data!$F$9","v":17},"=",{"$f":"C3558*E3558","v":0}]
[]
[{"$f":"Data!$B$11","v":"Kindermenu"}]
[null,{"$f":"Data!$C$12","v":"Natuur"},0,"x",{"$f":"Data!$F$12","v":8},"=",{"$f":"C3561*E3561","v":0}]
[null,{"$f":"Data!$C$13","v":"Champignons"},0,"x",{"$f":"Data!$F$13","v":8},"=",{"$f":"C3562*E3562","v":0}]
[null,{"$f":"Data!$C$14","v":"Peper"},0,"x",{"$f":"Data!$F$14","v":8},"=",0]
[null,{"$f":"Data!$C$15","v":"Kabeljauwhaasje"},0,"x",{"$f":"Data!$F$15","v":8},"=",0]
[]
[null,{"$f":"Data!$C$17","v":"Totaal eten:"},null,null,null,null,{"$f":"SUM(G3554:G3565)","v":0}]
[null,{"$f":"Data!$C$18","v":"Totaal kaarten:"},{"$f":"C3543","v":0},"x",{"$f":"Data!$F$18","v":3},"=",{"$f":"-(C3567*E3567)","v":0}]
[]
[]
[null,{"$f":"Data!$C$21","v":"Totaal te betalen:"},null,null,null,null,{"$f":"G3566+G3567","v":0}]
[]
[{"$f":"Data!$A$23","v":"TGV Opstal dankt u voor uw aanwezigheid!  Eet smakelijk!"}]
["Fietsclub TGV Opstal",null,null,null,null,null,"Tafel nr:"]
[{"$f":"A3527+1","v":77},null,null,null,null,null,null,null,null,null,null,{"$f":"A3574","v":77}]
[]
[{"$f":"Data!$B$4","v":"Kalkoenfilet"},null,null,null,null,null,null,null,null,null,null,"Kalkoenfilet"]
[null,{"$f":"Data!$C$5","v":"Natuur"},null,"x",{"$f":"Data!$F$5","v":17},"=",{"$f":"C3577*E3577","v":0},null,null,null,null,null,"Natuur",null,{"$f":"C3577","v":0}]
[null,{"$f":"Data!$C$6","v":"Champignons"},null,"x",{"$f":"Data!$F$6","v":17},"=",{"$f":"C3578*E3578","v":0},null,null,null,null,null,"Champignons",null,null,{"$f":"C3578","v":0}]
[null,{"$f":"Data!$C$7","v":"Peper"},null,"x",{"$f":"Data!$F$7","v":17},"=",{"$f":"C3579*E3579","v":0},null,null,null,null,null,"Peper",null,null,null,{"$f":"C3579","v":0}]
[]
[{"$f":"Data!$B$9","v":"Kabeljauwhaasje"},null,null,"x",{"$f":"Data!$F$9","v":17},"=",{"$f":"C3581*E3581","v":0},null,null,null,null,"Kabeljauwhaasje",null,null,null,null,null,{"$f":"C3581","v":0}]
[]
[{"$f":"Data!$B$11","v":"Kindermenu"},null,null,null,null,null,null,null,null,null,null,"Kindermenu"]
[null,{"$f":"Data!$C$12","v":"Natuur"},null,"x",{"$f":"Data!$F$12","v":8},"=",{"$f":"C3584*E3584","v":0},null,null,null,null,null,"Natuur",null,null,null,null,null,{"$f":"C3584","v":0}]
[null,{"$f":"Data!$C$13","v":"Champignons"},null,"x",{"$f":"Data!$F$13","v":8},"=",{"$f":"C3585*E3585","v":0},null,null,null,null,null,"Champignons",null,null,null,null,null,null,{"$f":"C3585","v":0}]
[null,{"$f":"Data!$C$14","v":"Peper"},null,"x",{"$f":"Data!$F$14","v":8},"=",0,null,null,null,null,null,"Peper",null,null,null,null,null,null,null,{"$f":"C3586","v":0}]
[null,{"$f":"Data!$C$15","v":"Kabeljauwhaasje"},null,"x",{"$f":"Data!$F$15","v":8},"=",0,null,null,null,null,null,"Kabeljauwhaasje",null,null,null,null,null,null,null,null,{"$f":"C3587","v":0}]
[]
[null,{"$f":"Data!$C$17","v":"Totaal eten:"},null,null,null,null,{"$f":"SUM(G3577:G3588)","v":0},null,null,null,null,null,"Totaal eten:",null,null,null,null,null,null,null,null,null,{"$f":"G3589","v":0}]
[null,{"$f":"Data!$C$18","v":"Totaal kaarten:"},null,"x",{"$f":"Data!$F$18","v":3},"=",{"$f":"-(C3590*E3590)","v":0}]
[null,null,null,null,null,null,null,null,null,null,null,null,"Totaal kaarten (bedrag):",null,null,null,null,null,null,null,null,null,null,{"$f":"C3590","v":0}]
[]
[null,{"$f":"Data!$C$21","v":"Totaal te betalen:"},null,null,null,null,{"$f":"G3589+G3590","v":0},null,null,null,null,null,"Totaal te betalen:",null,null,null,null,null,null,null,null,null,null,null,{"$f":"G3593","v":0}]
[]
[{"$f":"Data!$A$23","v":"TGV Opstal dankt u voor uw aanwezigheid!  Eet smakelijk!"}]
[]
["Fietsclub TGV Opstal",null,null,null,null,null,"Tafel nr:"]
[{"$f":"A3574","v":77}]
[]
[{"$f":"Data!$B$4","v":"Kalkoenfilet"}]
[null,{"$f":"Data!$C$5","v":"Natuur"},{"$f":"C3577","v":0},"x",{"$f":"Data!$F$5","v":17},"=",{"$f":"C3601*E3601","v":0}]
[null,{"$f":"Data!$C$6","v":"Champignons"},{"$f":"C3578","v":0},"x",{"$f":"Data!$F$6","v":17},"=",{"$f":"C3602*E3602","v":0}]
[null,{"$f":"Data!$C$7","v":"Peper"},0,"x",{"$f":"Data!$F$7","v":17},"=",{"$f":"C3603*E3603","v":0}]
[]
[{"$f":"Data!$B$9","v":"Kabeljauwhaasje"},null,0,"x",{"$f":"Data!$F$9","v":17},"=",{"$f":"C3605*E3605","v":0}]
[]
[{"$f":"Data!$B$11","v":"Kindermenu"}]
[null,{"$f":"Data!$C$12","v":"Natuur"},0,"x",{"$f":"Data!$F$12","v":8},"=",{"$f":"C3608*E3608","v":0}]
[null,{"$f":"Data!$C$13","v":"Champignons"},0,"x",{"$f":"Data!$F$13","v":8},"=",{"$f":"C3609*E3609","v":0}]
[null,{"$f":"Data!$C$14","v":"Peper"},0,"x",{"$f":"Data!$F$14","v":8},"=",0]
[null,{"$f":"Data!$C$15","v":"Kabeljauwhaasje"},0,"x",{"$f":"Data!$F$15","v":8},"=",0]
[]
[null,{"$f":"Data!$C$17","v":"Totaal eten:"},null,null,null,null,{"$f":"SUM(G3601:G3612)","v":0}]
[null,{"$f":"Data!$C$18","v":"Totaal kaarten:"},{"$f":"C3590","v":0},"x",{"$f":"Data!$F$18","v":3},"=",{"$f":"-(C3614*E3614)","v":0}]
[]
[]
[null,{"$f":"Data!$C$21","v":"Totaal te betalen:"},null,null,null,null,{"$f":"G3613+G3614","v":0}]
[]
[{"$f":"Data!$A$23","v":"TGV Opstal dankt u voor uw aanwezigheid!  Eet smakelijk!"}]
["Fietsclub TGV Opstal",null,null,null,null,null,"Tafel nr:"]
[{"$f":"A3574+1","v":78},null,null,null,null,null,null,null,null,null,null,{"$f":"A3621","v":78}]
[]
[{"$f":"Data!$B$4","v":"Kalkoenfilet"},null,null,null,null,null,null,null,null,null,null,"Kalkoenfilet"]
[null,{"$f":"Data!$C$5","v":"Natuur"},null,"x",{"$f":"Data!$F$5","v":17},"=",{"$f":"C3624*E3624","v":0},null,null,null,null,null,"Natuur",null,{"$f":"C3624","v":0}]
[null,{"$f":"Data!$C$6","v":"Champignons"},null,"x",{"$f":"Data!$F$6","v":17},"=",{"$f":"C3625*E3625","v":0},null,null,null,null,null,"Champignons",null,null,{"$f":"C3625","v":0}]
[null,{"$f":"Data!$C$7","v":"Peper"},null,"x",{"$f":"Data!$F$7","v":17},"=",{"$f":"C3626*E3626","v":0},null,null,null,null,null,"Peper",null,null,null,{"$f":"C3626","v":0}]
[]
[{"$f":"Data!$B$9","v":"Kabeljauwhaasje"},null,null,"x",{"$f":"Data!$F$9","v":17},"=",{"$f":"C3628*E3628","v":0},null,null,null,null,"Kabeljauwhaasje",null,null,null,null,null,{"$f":"C3628","v":0}]
[]
[{"$f":"Data!$B$11","v":"Kindermenu"},null,null,null,null,null,null,null,null,null,null,"Kindermenu"]
[null,{"$f":"Data!$C$12","v":"Natuur"},null,"x",{"$f":"Data!$F$12","v":8},"=",{"$f":"C3631*E3631","v":0},null,null,null,null,null,"Natuur",null,null,null,null,null,{"$f":"C3631","v":0}]
[null,{"$f":"Data!$C$13","v":"Champignons"},null,"x",{"$f":"Data!$F$13","v":8},"=",{"$f":"C3632*E3632","v":0},null,null,null,null,null,"Champignons",null,null,null,null,null,null,{"$f":"C3632","v":0}]
[null,{"$f":"Data!$C$14","v":"Peper"},null,"x",{"$f":"Data!$F$14","v":8},"=",0,null,null,null,null,null,"Peper",null,null,null,null,null,null,null,{"$f":"C3633","v":0}]
[null,{"$f":"Data!$C$15","v":"Kabeljauwhaasje"},null,"x",{"$f":"Data!$F$15","v":8},"=",0,null,null,null,null,null,"Kabeljauwhaasje",null,null,null,null,null,null,null,null,{"$f":"C3634","v":0}]
[]
[null,{"$f":"Data!$C$17","v":"Totaal eten:"},null,null,null,null,{"$f":"SUM(G3624:G3635)","v":0},null,null,null,null,null,"Totaal eten:",null,null,null,null,null,null,null,null,null,{"$f":"G3636","v":0}]
[null,{"$f":"Data!$C$18","v":"Totaal kaarten:"},null,"x",{"$f":"Data!$F$18","v":3},"=",{"$f":"-(C3637*E3637)","v":0}]
[null,null,null,null,null,null,null,null,null,null,null,null,"Totaal kaarten (bedrag):",null,null,null,null,null,null,null,null,null,null,{"$f":"C3637","v":0}]
[]
[null,{"$f":"Data!$C$21","v":"Totaal te betalen:"},null,null,null,null,{"$f":"G3636+G3637","v":0},null,null,null,null,null,"Totaal te betalen:",null,null,null,null,null,null,null,null,null,null,null,{"$f":"G3640","v":0}]
[]
[{"$f":"Data!$A$23","v":"TGV Opstal dankt u voor uw aanwezigheid!  Eet smakelijk!"}]
[]
["Fietsclub TGV Opstal",null,null,null,null,null,"Tafel nr:"]
[{"$f":"A3621","v":78}]
[]
[{"$f":"Data!$B$4","v":"Kalkoenfilet"}]
[null,{"$f":"Data!$C$5","v":"Natuur"},{"$f":"C3624","v":0},"x",{"$f":"Data!$F$5","v":17},"=",{"$f":"C3648*E3648","v":0}]
[null,{"$f":"Data!$C$6","v":"Champignons"},{"$f":"C3625","v":0},"x",{"$f":"Data!$F$6","v":17},"=",{"$f":"C3649*E3649","v":0}]
[null,{"$f":"Data!$C$7","v":"Peper"},0,"x",{"$f":"Data!$F$7","v":17},"=",{"$f":"C3650*E3650","v":0}]
[]
[{"$f":"Data!$B$9","v":"Kabeljauwhaasje"},null,0,"x",{"$f":"Data!$F$9","v":17},"=",{"$f":"C3652*E3652","v":0}]
[]
[{"$f":"Data!$B$11","v":"Kindermenu"}]
[null,{"$f":"Data!$C$12","v":"Natuur"},0,"x",{"$f":"Data!$F$12","v":8},"=",{"$f":"C3655*E3655","v":0}]
[null,{"$f":"Data!$C$13","v":"Champignons"},0,"x",{"$f":"Data!$F$13","v":8},"=",{"$f":"C3656*E3656","v":0}]
[null,{"$f":"Data!$C$14","v":"Peper"},0,"x",{"$f":"Data!$F$14","v":8},"=",0]
[null,{"$f":"Data!$C$15","v":"Kabeljauwhaasje"},0,"x",{"$f":"Data!$F$15","v":8},"=",0]
[]
[null,{"$f":"Data!$C$17","v":"Totaal eten:"},null,null,null,null,{"$f":"SUM(G3648:G3659)","v":0}]
[null,{"$f":"Data!$C$18","v":"Totaal kaarten:"},{"$f":"C3637","v":0},"x",{"$f":"Data!$F$18","v":3},"=",{"$f":"-(C3661*E3661)","v":0}]
[]
[]
[null,{"$f":"Data!$C$21","v":"Totaal te betalen:"},null,null,null,null,{"$f":"G3660+G3661","v":0}]
[]
[{"$f":"Data!$A$23","v":"TGV Opstal dankt u voor uw aanwezigheid!  Eet smakelijk!"}]
["Fietsclub TGV Opstal",null,null,null,null,null,"Tafel nr:"]
[{"$f":"A3621+1","v":79},null,null,null,null,null,null,null,null,null,null,{"$f":"A3668","v":79}]
[]
[{"$f":"Data!$B$4","v":"Kalkoenfilet"},null,null,null,null,null,null,null,null,null,null,"Kalkoenfilet"]
[null,{"$f":"Data!$C$5","v":"Natuur"},null,"x",{"$f":"Data!$F$5","v":17},"=",{"$f":"C3671*E3671","v":0},null,null,null,null,null,"Natuur",null,{"$f":"C3671","v":0}]
[null,{"$f":"Data!$C$6","v":"Champignons"},null,"x",{"$f":"Data!$F$6","v":17},"=",{"$f":"C3672*E3672","v":0},null,null,null,null,null,"Champignons",null,null,{"$f":"C3672","v":0}]
[null,{"$f":"Data!$C$7","v":"Peper"},null,"x",{"$f":"Data!$F$7","v":17},"=",{"$f":"C3673*E3673","v":0},null,null,null,null,null,"Peper",null,null,null,{"$f":"C3673","v":0}]
[]
[{"$f":"Data!$B$9","v":"Kabeljauwhaasje"},null,null,"x",{"$f":"Data!$F$9","v":17},"=",{"$f":"C3675*E3675","v":0},null,null,null,null,"Kabeljauwhaasje",null,null,null,null,null,{"$f":"C3675","v":0}]
[]
[{"$f":"Data!$B$11","v":"Kindermenu"},null,null,null,null,null,null,null,null,null,null,"Kindermenu"]
[null,{"$f":"Data!$C$12","v":"Natuur"},null,"x",{"$f":"Data!$F$12","v":8},"=",{"$f":"C3678*E3678","v":0},null,null,null,null,null,"Natuur",null,null,null,null,null,{"$f":"C3678","v":0}]
[null,{"$f":"Data!$C$13","v":"Champignons"},null,"x",{"$f":"Data!$F$13","v":8},"=",{"$f":"C3679*E3679","v":0},null,null,null,null,null,"Champignons",null,null,null,null,null,null,{"$f":"C3679","v":0}]
[null,{"$f":"Data!$C$14","v":"Peper"},null,"x",{"$f":"Data!$F$14","v":8},"=",0,null,null,null,null,null,"Peper",null,null,null,null,null,null,null,{"$f":"C3680","v":0}]
[null,{"$f":"Data!$C$15","v":"Kabeljauwhaasje"},null,"x",{"$f":"Data!$F$15","v":8},"=",0,null,null,null,null,null,"Kabeljauwhaasje",null,null,null,null,null,null,null,null,{"$f":"C3681","v":0}]
[]
[null,{"$f":"Data!$C$17","v":"Totaal eten:"},null,null,null,null,{"$f":"SUM(G3671:G3682)","v":0},null,null,null,null,null,"Totaal eten:",null,null,null,null,null,null,null,null,null,{"$f":"G3683","v":0}]
[null,{"$f":"Data!$C$18","v":"Totaal kaarten:"},null,"x",{"$f":"Data!$F$18","v":3},"=",{"$f":"-(C3684*E3684)","v":0}]
[null,null,null,null,null,null,null,null,null,null,null,null,"Totaal kaarten (bedrag):",null,null,null,null,null,null,null,null,null,null,{"$f":"C3684","v":0}]
[]
[null,{"$f":"Data!$C$21","v":"Totaal te betalen:"},null,null,null,null,{"$f":"G3683+G3684","v":0},null,null,null,null,null,"Totaal te betalen:",null,null,null,null,null,null,null,null,null,null,null,{"$f":"G3687","v":0}]
[]
[{"$f":"Data!$A$23","v":"TGV Opstal dankt u voor uw aanwezigheid!  Eet smakelijk!"}]
[]
["Fietsclub TGV Opstal",null,null,null,null,null,"Tafel nr:"]
[{"$f":"A3668","v":79}]
[]
[{"$f":"Data!$B$4","v":"Kalkoenfilet"}]
[null,{"$f":"Data!$C$5","v":"Natuur"},{"$f":"C3671","v":0},"x",{"$f":"Data!$F$5","v":17},"=",{"$f":"C3695*E3695","v":0}]
[null,{"$f":"Data!$C$6","v":"Champignons"},{"$f":"C3672","v":0},"x",{"$f":"Data!$F$6","v":17},"=",{"$f":"C3696*E3696","v":0}]
[null,{"$f":"Data!$C$7","v":"Peper"},0,"x",{"$f":"Data!$F$7","v":17},"=",{"$f":"C3697*E3697","v":0}]
[]
[{"$f":"Data!$B$9","v":"Kabeljauwhaasje"},null,0,"x",{"$f":"Data!$F$9","v":17},"=",{"$f":"C3699*E3699","v":0}]
[]
[{"$f":"Data!$B$11","v":"Kindermenu"}]
[null,{"$f":"Data!$C$12","v":"Natuur"},0,"x",{"$f":"Data!$F$12","v":8},"=",{"$f":"C3702*E3702","v":0}]
[null,{"$f":"Data!$C$13","v":"Champignons"},0,"x",{"$f":"Data!$F$13","v":8},"=",{"$f":"C3703*E3703","v":0}]
[null,{"$f":"Data!$C$14","v":"Peper"},0,"x",{"$f":"Data!$F$14","v":8},"=",0]
[null,{"$f":"Data!$C$15","v":"Kabeljauwhaasje"},0,"x",{"$f":"Data!$F$15","v":8},"=",0]
[]
[null,{"$f":"Data!$C$17","v":"Totaal eten:"},null,null,null,null,{"$f":"SUM(G3695:G3706)","v":0}]
[null,{"$f":"Data!$C$18","v":"Totaal kaarten:"},{"$f":"C3684","v":0},"x",{"$f":"Data!$F$18","v":3},"=",{"$f":"-(C3708*E3708)","v":0}]
[]
[]
[null,{"$f":"Data!$C$21","v":"Totaal te betalen:"},null,null,null,null,{"$f":"G3707+G3708","v":0}]
[]
[{"$f":"Data!$A$23","v":"TGV Opstal dankt u voor uw aanwezigheid!  Eet smakelijk!"}]
["Fietsclub TGV Opstal",null,null,null,null,null,"Tafel nr:"]
[{"$f":"A3668+1","v":80},null,null,null,null,null,null,null,null,null,null,{"$f":"A3715","v":80}]
[]
[{"$f":"Data!$B$4","v":"Kalkoenfilet"},null,null,null,null,null,null,null,null,null,null,"Kalkoenfilet"]
[null,{"$f":"Data!$C$5","v":"Natuur"},null,"x",{"$f":"Data!$F$5","v":17},"=",{"$f":"C3718*E3718","v":0},null,null,null,null,null,"Natuur",null,{"$f":"C3718","v":0}]
[null,{"$f":"Data!$C$6","v":"Champignons"},null,"x",{"$f":"Data!$F$6","v":17},"=",{"$f":"C3719*E3719","v":0},null,null,null,null,null,"Champignons",null,null,{"$f":"C3719","v":0}]
[null,{"$f":"Data!$C$7","v":"Peper"},null,"x",{"$f":"Data!$F$7","v":17},"=",{"$f":"C3720*E3720","v":0},null,null,null,null,null,"Peper",null,null,null,{"$f":"C3720","v":0}]
[]
[{"$f":"Data!$B$9","v":"Kabeljauwhaasje"},null,null,"x",{"$f":"Data!$F$9","v":17},"=",{"$f":"C3722*E3722","v":0},null,null,null,null,"Kabeljauwhaasje",null,null,null,null,null,{"$f":"C3722","v":0}]
[]
[{"$f":"Data!$B$11","v":"Kindermenu"},null,null,null,null,null,null,null,null,null,null,"Kindermenu"]
[null,{"$f":"Data!$C$12","v":"Natuur"},null,"x",{"$f":"Data!$F$12","v":8},"=",{"$f":"C3725*E3725","v":0},null,null,null,null,null,"Natuur",null,null,null,null,null,{"$f":"C3725","v":0}]
[null,{"$f":"Data!$C$13","v":"Champignons"},null,"x",{"$f":"Data!$F$13","v":8},"=",{"$f":"C3726*E3726","v":0},null,null,null,null,null,"Champignons",null,null,null,null,null,null,{"$f":"C3726","v":0}]
[null,{"$f":"Data!$C$14","v":"Peper"},null,"x",{"$f":"Data!$F$14","v":8},"=",0,null,null,null,null,null,"Peper",null,null,null,null,null,null,null,{"$f":"C3727","v":0}]
[null,{"$f":"Data!$C$15","v":"Kabeljauwhaasje"},null,"x",{"$f":"Data!$F$15","v":8},"=",0,null,null,null,null,null,"Kabeljauwhaasje",null,null,null,null,null,null,null,null,{"$f":"C3728","v":0}]
[]
[null,{"$f":"Data!$C$17","v":"Totaal eten:"},null,null,null,null,{"$f":"SUM(G3718:G3729)","v":0},null,null,null,null,null,"Totaal eten:",null,null,null,null,null,null,null,null,null,{"$f":"G3730","v":0}]
[null,{"$f":"Data!$C$18","v":"Totaal kaarten:"},null,"x",{"$f":"Data!$F$18","v":3},"=",{"$f":"-(C3731*E3731)","v":0}]
[null,null,null,null,null,null,null,null,null,null,null,null,"Totaal kaarten (bedrag):",null,null,null,null,null,null,null,null,null,null,{"$f":"C3731","v":0}]
[]
[null,{"$f":"Data!$C$21","v":"Totaal te betalen:"},null,null,null,null,{"$f":"G3730+G3731","v":0},null,null,null,null,null,"Totaal te betalen:",null,null,null,null,null,null,null,null,null,null,null,{"$f":"G3734","v":0}]
[]
[{"$f":"Data!$A$23","v":"TGV Opstal dankt u voor uw aanwezigheid!  Eet smakelijk!"}]
[]
["Fietsclub TGV Opstal",null,null,null,null,null,"Tafel nr:"]
[{"$f":"A3715","v":80}]
[]
[{"$f":"Data!$B$4","v":"Kalkoenfilet"}]
[null,{"$f":"Data!$C$5","v":"Natuur"},{"$f":"C3718","v":0},"x",{"$f":"Data!$F$5","v":17},"=",{"$f":"C3742*E3742","v":0}]
[null,{"$f":"Data!$C$6","v":"Champignons"},{"$f":"C3719","v":0},"x",{"$f":"Data!$F$6","v":17},"=",{"$f":"C3743*E3743","v":0}]
[null,{"$f":"Data!$C$7","v":"Peper"},0,"x",{"$f":"Data!$F$7","v":17},"=",{"$f":"C3744*E3744","v":0}]
[]
[{"$f":"Data!$B$9","v":"Kabeljauwhaasje"},null,0,"x",{"$f":"Data!$F$9","v":17},"=",{"$f":"C3746*E3746","v":0}]
[]
[{"$f":"Data!$B$11","v":"Kindermenu"}]
[null,{"$f":"Data!$C$12","v":"Natuur"},0,"x",{"$f":"Data!$F$12","v":8},"=",{"$f":"C3749*E3749","v":0}]
[null,{"$f":"Data!$C$13","v":"Champignons"},0,"x",{"$f":"Data!$F$13","v":8},"=",{"$f":"C3750*E3750","v":0}]
[null,{"$f":"Data!$C$14","v":"Peper"},0,"x",{"$f":"Data!$F$14","v":8},"=",0]
[null,{"$f":"Data!$C$15","v":"Kabeljauwhaasje"},0,"x",{"$f":"Data!$F$15","v":8},"=",0]
[]
[null,{"$f":"Data!$C$17","v":"Totaal eten:"},null,null,null,null,{"$f":"SUM(G3742:G3753)","v":0}]
[null,{"$f":"Data!$C$18","v":"Totaal kaarten:"},{"$f":"C3731","v":0},"x",{"$f":"Data!$F$18","v":3},"=",{"$f":"-(C3755*E3755)","v":0}]
[]
[]
[null,{"$f":"Data!$C$21","v":"Totaal te betalen:"},null,null,null,null,{"$f":"G3754+G3755","v":0}]
[]
[{"$f":"Data!$A$23","v":"TGV Opstal dankt u voor uw aanwezigheid!  Eet smakelijk!"}]
["Fietsclub TGV Opstal",null,null,null,null,null,"Tafel nr:"]
[{"$f":"A3715+1","v":81},null,null,null,null,null,null,null,null,null,null,{"$f":"A3762","v":81}]
[]
[{"$f":"Data!$B$4","v":"Kalkoenfilet"},null,null,null,null,null,null,null,null,null,null,"Kalkoenfilet"]
[null,{"$f":"Data!$C$5","v":"Natuur"},null,"x",{"$f":"Data!$F$5","v":17},"=",{"$f":"C3765*E3765","v":0},null,null,null,null,null,"Natuur",null,{"$f":"C3765","v":0}]
[null,{"$f":"Data!$C$6","v":"Champignons"},null,"x",{"$f":"Data!$F$6","v":17},"=",{"$f":"C3766*E3766","v":0},null,null,null,null,null,"Champignons",null,null,{"$f":"C3766","v":0}]
[null,{"$f":"Data!$C$7","v":"Peper"},null,"x",{"$f":"Data!$F$7","v":17},"=",{"$f":"C3767*E3767","v":0},null,null,null,null,null,"Peper",null,null,null,{"$f":"C3767","v":0}]
[]
[{"$f":"Data!$B$9","v":"Kabeljauwhaasje"},null,null,"x",{"$f":"Data!$F$9","v":17},"=",{"$f":"C3769*E3769","v":0},null,null,null,null,"Kabeljauwhaasje",null,null,null,null,null,{"$f":"C3769","v":0}]
[]
[{"$f":"Data!$B$11","v":"Kindermenu"},null,null,null,null,null,null,null,null,null,null,"Kindermenu"]
[null,{"$f":"Data!$C$12","v":"Natuur"},null,"x",{"$f":"Data!$F$12","v":8},"=",{"$f":"C3772*E3772","v":0},null,null,null,null,null,"Natuur",null,null,null,null,null,{"$f":"C3772","v":0}]
[null,{"$f":"Data!$C$13","v":"Champignons"},null,"x",{"$f":"Data!$F$13","v":8},"=",{"$f":"C3773*E3773","v":0},null,null,null,null,null,"Champignons",null,null,null,null,null,null,{"$f":"C3773","v":0}]
[null,{"$f":"Data!$C$14","v":"Peper"},null,"x",{"$f":"Data!$F$14","v":8},"=",0,null,null,null,null,null,"Peper",null,null,null,null,null,null,null,{"$f":"C3774","v":0}]
[null,{"$f":"Data!$C$15","v":"Kabeljauwhaasje"},null,"x",{"$f":"Data!$F$15","v":8},"=",0,null,null,null,null,null,"Kabeljauwhaasje",null,null,null,null,null,null,null,null,{"$f":"C3775","v":0}]
[]
[null,{"$f":"Data!$C$17","v":"Totaal eten:"},null,null,null,null,{"$f":"SUM(G3765:G3776)","v":0},null,null,null,null,null,"Totaal eten:",null,null,null,null,null,null,null,null,null,{"$f":"G3777","v":0}]
[null,{"$f":"Data!$C$18","v":"Totaal kaarten:"},null,"x",{"$f":"Data!$F$18","v":3},"=",{"$f":"-(C3778*E3778)","v":0}]
[null,null,null,null,null,null,null,null,null,null,null,null,"Totaal kaarten (bedrag):",null,null,null,null,null,null,null,null,null,null,{"$f":"C3778","v":0}]
[]
[null,{"$f":"Data!$C$21","v":"Totaal te betalen:"},null,null,null,null,{"$f":"G3777+G3778","v":0},null,null,null,null,null,"Totaal te betalen:",null,null,null,null,null,null,null,null,null,null,null,{"$f":"G3781","v":0}]
[]
[{"$f":"Data!$A$23","v":"TGV Opstal dankt u voor uw aanwezigheid!  Eet smakelijk!"}]
[]
["Fietsclub TGV Opstal",null,null,null,null,null,"Tafel nr:"]
[{"$f":"A3762","v":81}]
[]
[{"$f":"Data!$B$4","v":"Kalkoenfilet"}]
[null,{"$f":"Data!$C$5","v":"Natuur"},{"$f":"C3765","v":0},"x",{"$f":"Data!$F$5","v":17},"=",{"$f":"C3789*E3789","v":0}]
[null,{"$f":"Data!$C$6","v":"Champignons"},{"$f":"C3766","v":0},"x",{"$f":"Data!$F$6","v":17},"=",{"$f":"C3790*E3790","v":0}]
[null,{"$f":"Data!$C$7","v":"Peper"},0,"x",{"$f":"Data!$F$7","v":17},"=",{"$f":"C3791*E3791","v":0}]
[]
[{"$f":"Data!$B$9","v":"Kabeljauwhaasje"},null,0,"x",{"$f":"Data!$F$9","v":17},"=",{"$f":"C3793*E3793","v":0}]
[]
[{"$f":"Data!$B$11","v":"Kindermenu"}]
[null,{"$f":"Data!$C$12","v":"Natuur"},0,"x",{"$f":"Data!$F$12","v":8},"=",{"$f":"C3796*E3796","v":0}]
[null,{"$f":"Data!$C$13","v":"Champignons"},0,"x",{"$f":"Data!$F$13","v":8},"=",{"$f":"C3797*E3797","v":0}]
[null,{"$f":"Data!$C$14","v":"Peper"},0,"x",{"$f":"Data!$F$14","v":8},"=",0]
[null,{"$f":"Data!$C$15","v":"Kabeljauwhaasje"},0,"x",{"$f":"Data!$F$15","v":8},"=",0]
[]
[null,{"$f":"Data!$C$17","v":"Totaal eten:"},null,null,null,null,{"$f":"SUM(G3789:G3800)","v":0}]
[null,{"$f":"Data!$C$18","v":"Totaal kaarten:"},{"$f":"C3778","v":0},"x",{"$f":"Data!$F$18","v":3},"=",{"$f":"-(C3802*E3802)","v":0}]
[]
[]
[null,{"$f":"Data!$C$21","v":"Totaal te betalen:"},null,null,null,null,{"$f":"G3801+G3802","v":0}]
[]
[{"$f":"Data!$A$23","v":"TGV Opstal dankt u voor uw aanwezigheid!  Eet smakelijk!"}]
["Fietsclub TGV Opstal",null,null,null,null,null,"Tafel nr:"]
[{"$f":"A3762+1","v":82},null,null,null,null,null,null,null,null,null,null,{"$f":"A3809","v":82}]
[]
[{"$f":"Data!$B$4","v":"Kalkoenfilet"},null,null,null,null,null,null,null,null,null,null,"Kalkoenfilet"]
[null,{"$f":"Data!$C$5","v":"Natuur"},null,"x",{"$f":"Data!$F$5","v":17},"=",{"$f":"C3812*E3812","v":0},null,null,null,null,null,"Natuur",null,{"$f":"C3812","v":0}]
[null,{"$f":"Data!$C$6","v":"Champignons"},null,"x",{"$f":"Data!$F$6","v":17},"=",{"$f":"C3813*E3813","v":0},null,null,null,null,null,"Champignons",null,null,{"$f":"C3813","v":0}]
[null,{"$f":"Data!$C$7","v":"Peper"},null,"x",{"$f":"Data!$F$7","v":17},"=",{"$f":"C3814*E3814","v":0},null,null,null,null,null,"Peper",null,null,null,{"$f":"C3814","v":0}]
[]
[{"$f":"Data!$B$9","v":"Kabeljauwhaasje"},null,null,"x",{"$f":"Data!$F$9","v":17},"=",{"$f":"C3816*E3816","v":0},null,null,null,null,"Kabeljauwhaasje",null,null,null,null,null,{"$f":"C3816","v":0}]
[]
[{"$f":"Data!$B$11","v":"Kindermenu"},null,null,null,null,null,null,null,null,null,null,"Kindermenu"]
[null,{"$f":"Data!$C$12","v":"Natuur"},null,"x",{"$f":"Data!$F$12","v":8},"=",{"$f":"C3819*E3819","v":0},null,null,null,null,null,"Natuur",null,null,null,null,null,{"$f":"C3819","v":0}]
[null,{"$f":"Data!$C$13","v":"Champignons"},null,"x",{"$f":"Data!$F$13","v":8},"=",{"$f":"C3820*E3820","v":0},null,null,null,null,null,"Champignons",null,null,null,null,null,null,{"$f":"C3820","v":0}]
[null,{"$f":"Data!$C$14","v":"Peper"},null,"x",{"$f":"Data!$F$14","v":8},"=",0,null,null,null,null,null,"Peper",null,null,null,null,null,null,null,{"$f":"C3821","v":0}]
[null,{"$f":"Data!$C$15","v":"Kabeljauwhaasje"},null,"x",{"$f":"Data!$F$15","v":8},"=",0,null,null,null,null,null,"Kabeljauwhaasje",null,null,null,null,null,null,null,null,{"$f":"C3822","v":0}]
[]
[null,{"$f":"Data!$C$17","v":"Totaal eten:"},null,null,null,null,{"$f":"SUM(G3812:G3823)","v":0},null,null,null,null,null,"Totaal eten:",null,null,null,null,null,null,null,null,null,{"$f":"G3824","v":0}]
[null,{"$f":"Data!$C$18","v":"Totaal kaarten:"},null,"x",{"$f":"Data!$F$18","v":3},"=",{"$f":"-(C3825*E3825)","v":0}]
[null,null,null,null,null,null,null,null,null,null,null,null,"Totaal kaarten (bedrag):",null,null,null,null,null,null,null,null,null,null,{"$f":"C3825","v":0}]
[]
[null,{"$f":"Data!$C$21","v":"Totaal te betalen:"},null,null,null,null,{"$f":"G3824+G3825","v":0},null,null,null,null,null,"Totaal te betalen:",null,null,null,null,null,null,null,null,null,null,null,{"$f":"G3828","v":0}]
[]
[{"$f":"Data!$A$23","v":"TGV Opstal dankt u voor uw aanwezigheid!  Eet smakelijk!"}]
[]
["Fietsclub TGV Opstal",null,null,null,null,null,"Tafel nr:"]
[{"$f":"A3809","v":82}]
[]
[{"$f":"Data!$B$4","v":"Kalkoenfilet"}]
[null,{"$f":"Data!$C$5","v":"Natuur"},{"$f":"C3812","v":0},"x",{"$f":"Data!$F$5","v":17},"=",{"$f":"C3836*E3836","v":0}]
[null,{"$f":"Data!$C$6","v":"Champignons"},{"$f":"C3813","v":0},"x",{"$f":"Data!$F$6","v":17},"=",{"$f":"C3837*E3837","v":0}]
[null,{"$f":"Data!$C$7","v":"Peper"},0,"x",{"$f":"Data!$F$7","v":17},"=",{"$f":"C3838*E3838","v":0}]
[]
[{"$f":"Data!$B$9","v":"Kabeljauwhaasje"},null,0,"x",{"$f":"Data!$F$9","v":17},"=",{"$f":"C3840*E3840","v":0}]
[]
[{"$f":"Data!$B$11","v":"Kindermenu"}]
[null,{"$f":"Data!$C$12","v":"Natuur"},0,"x",{"$f":"Data!$F$12","v":8},"=",{"$f":"C3843*E3843","v":0}]
[null,{"$f":"Data!$C$13","v":"Champignons"},0,"x",{"$f":"Data!$F$13","v":8},"=",{"$f":"C3844*E3844","v":0}]
[null,{"$f":"Data!$C$14","v":"Peper"},0,"x",{"$f":"Data!$F$14","v":8},"=",0]
[null,{"$f":"Data!$C$15","v":"Kabeljauwhaasje"},0,"x",{"$f":"Data!$F$15","v":8},"=",0]
[]
[null,{"$f":"Data!$C$17","v":"Totaal eten:"},null,null,null,null,{"$f":"SUM(G3836:G3847)","v":0}]
[null,{"$f":"Data!$C$18","v":"Totaal kaarten:"},{"$f":"C3825","v":0},"x",{"$f":"Data!$F$18","v":3},"=",{"$f":"-(C3849*E3849)","v":0}]
[]
[]
[null,{"$f":"Data!$C$21","v":"Totaal te betalen:"},null,null,null,null,{"$f":"G3848+G3849","v":0}]
[]
[{"$f":"Data!$A$23","v":"TGV Opstal dankt u voor uw aanwezigheid!  Eet smakelijk!"}]
["Fietsclub TGV Opstal",null,null,null,null,null,"Tafel nr:"]
[{"$f":"A3809+1","v":83},null,null,null,null,null,null,null,null,null,null,{"$f":"A3856","v":83}]
[]
[{"$f":"Data!$B$4","v":"Kalkoenfilet"},null,null,null,null,null,null,null,null,null,null,"Kalkoenfilet"]
[null,{"$f":"Data!$C$5","v":"Natuur"},null,"x",{"$f":"Data!$F$5","v":17},"=",{"$f":"C3859*E3859","v":0},null,null,null,null,null,"Natuur",null,{"$f":"C3859","v":0}]
[null,{"$f":"Data!$C$6","v":"Champignons"},null,"x",{"$f":"Data!$F$6","v":17},"=",{"$f":"C3860*E3860","v":0},null,null,null,null,null,"Champignons",null,null,{"$f":"C3860","v":0}]
[null,{"$f":"Data!$C$7","v":"Peper"},null,"x",{"$f":"Data!$F$7","v":17},"=",{"$f":"C3861*E3861","v":0},null,null,null,null,null,"Peper",null,null,null,{"$f":"C3861","v":0}]
[]
[{"$f":"Data!$B$9","v":"Kabeljauwhaasje"},null,null,"x",{"$f":"Data!$F$9","v":17},"=",{"$f":"C3863*E3863","v":0},null,null,null,null,"Kabeljauwhaasje",null,null,null,null,null,{"$f":"C3863","v":0}]
[]
[{"$f":"Data!$B$11","v":"Kindermenu"},null,null,null,null,null,null,null,null,null,null,"Kindermenu"]
[null,{"$f":"Data!$C$12","v":"Natuur"},null,"x",{"$f":"Data!$F$12","v":8},"=",{"$f":"C3866*E3866","v":0},null,null,null,null,null,"Natuur",null,null,null,null,null,{"$f":"C3866","v":0}]
[null,{"$f":"Data!$C$13","v":"Champignons"},null,"x",{"$f":"Data!$F$13","v":8},"=",{"$f":"C3867*E3867","v":0},null,null,null,null,null,"Champignons",null,null,null,null,null,null,{"$f":"C3867","v":0}]
[null,{"$f":"Data!$C$14","v":"Peper"},null,"x",{"$f":"Data!$F$14","v":8},"=",0,null,null,null,null,null,"Peper",null,null,null,null,null,null,null,{"$f":"C3868","v":0}]
[null,{"$f":"Data!$C$15","v":"Kabeljauwhaasje"},null,"x",{"$f":"Data!$F$15","v":8},"=",0,null,null,null,null,null,"Kabeljauwhaasje",null,null,null,null,null,null,null,null,{"$f":"C3869","v":0}]
[]
[null,{"$f":"Data!$C$17","v":"Totaal eten:"},null,null,null,null,{"$f":"SUM(G3859:G3870)","v":0},null,null,null,null,null,"Totaal eten:",null,null,null,null,null,null,null,null,null,{"$f":"G3871","v":0}]
[null,{"$f":"Data!$C$18","v":"Totaal kaarten:"},null,"x",{"$f":"Data!$F$18","v":3},"=",{"$f":"-(C3872*E3872)","v":0}]
[null,null,null,null,null,null,null,null,null,null,null,null,"Totaal kaarten (bedrag):",null,null,null,null,null,null,null,null,null,null,{"$f":"C3872","v":0}]
[]
[null,{"$f":"Data!$C$21","v":"Totaal te betalen:"},null,null,null,null,{"$f":"G3871+G3872","v":0},null,null,null,null,null,"Totaal te betalen:",null,null,null,null,null,null,null,null,null,null,null,{"$f":"G3875","v":0}]
[]
[{"$f":"Data!$A$23","v":"TGV Opstal dankt u voor uw aanwezigheid!  Eet smakelijk!"}]
[]
["Fietsclub TGV Opstal",null,null,null,null,null,"Tafel nr:"]
[{"$f":"A3856","v":83}]
[]
[{"$f":"Data!$B$4","v":"Kalkoenfilet"}]
[null,{"$f":"Data!$C$5","v":"Natuur"},{"$f":"C3859","v":0},"x",{"$f":"Data!$F$5","v":17},"=",{"$f":"C3883*E3883","v":0}]
[null,{"$f":"Data!$C$6","v":"Champignons"},{"$f":"C3860","v":0},"x",{"$f":"Data!$F$6","v":17},"=",{"$f":"C3884*E3884","v":0}]
[null,{"$f":"Data!$C$7","v":"Peper"},0,"x",{"$f":"Data!$F$7","v":17},"=",{"$f":"C3885*E3885","v":0}]
[]
[{"$f":"Data!$B$9","v":"Kabeljauwhaasje"},null,0,"x",{"$f":"Data!$F$9","v":17},"=",{"$f":"C3887*E3887","v":0}]
[]
[{"$f":"Data!$B$11","v":"Kindermenu"}]
[null,{"$f":"Data!$C$12","v":"Natuur"},0,"x",{"$f":"Data!$F$12","v":8},"=",{"$f":"C3890*E3890","v":0}]
[null,{"$f":"Data!$C$13","v":"Champignons"},0,"x",{"$f":"Data!$F$13","v":8},"=",{"$f":"C3891*E3891","v":0}]
[null,{"$f":"Data!$C$14","v":"Peper"},0,"x",{"$f":"Data!$F$14","v":8},"=",0]
[null,{"$f":"Data!$C$15","v":"Kabeljauwhaasje"},0,"x",{"$f":"Data!$F$15","v":8},"=",0]
[]
[null,{"$f":"Data!$C$17","v":"Totaal eten:"},null,null,null,null,{"$f":"SUM(G3883:G3894)","v":0}]
[null,{"$f":"Data!$C$18","v":"Totaal kaarten:"},{"$f":"C3872","v":0},"x",{"$f":"Data!$F$18","v":3},"=",{"$f":"-(C3896*E3896)","v":0}]
[]
[]
[null,{"$f":"Data!$C$21","v":"Totaal te betalen:"},null,null,null,null,{"$f":"G3895+G3896","v":0}]
[]
[{"$f":"Data!$A$23","v":"TGV Opstal dankt u voor uw aanwezigheid!  Eet smakelijk!"}]
["Fietsclub TGV Opstal",null,null,null,null,null,"Tafel nr:"]
[{"$f":"A3856+1","v":84},null,null,null,null,null,null,null,null,null,null,{"$f":"A3903","v":84}]
[]
[{"$f":"Data!$B$4","v":"Kalkoenfilet"},null,null,null,null,null,null,null,null,null,null,"Kalkoenfilet"]
[null,{"$f":"Data!$C$5","v":"Natuur"},null,"x",{"$f":"Data!$F$5","v":17},"=",{"$f":"C3906*E3906","v":0},null,null,null,null,null,"Natuur",null,{"$f":"C3906","v":0}]
[null,{"$f":"Data!$C$6","v":"Champignons"},null,"x",{"$f":"Data!$F$6","v":17},"=",{"$f":"C3907*E3907","v":0},null,null,null,null,null,"Champignons",null,null,{"$f":"C3907","v":0}]
[null,{"$f":"Data!$C$7","v":"Peper"},null,"x",{"$f":"Data!$F$7","v":17},"=",{"$f":"C3908*E3908","v":0},null,null,null,null,null,"Peper",null,null,null,{"$f":"C3908","v":0}]
[]
[{"$f":"Data!$B$9","v":"Kabeljauwhaasje"},null,null,"x",{"$f":"Data!$F$9","v":17},"=",{"$f":"C3910*E3910","v":0},null,null,null,null,"Kabeljauwhaasje",null,null,null,null,null,{"$f":"C3910","v":0}]
[]
[{"$f":"Data!$B$11","v":"Kindermenu"},null,null,null,null,null,null,null,null,null,null,"Kindermenu"]
[null,{"$f":"Data!$C$12","v":"Natuur"},null,"x",{"$f":"Data!$F$12","v":8},"=",{"$f":"C3913*E3913","v":0},null,null,null,null,null,"Natuur",null,null,null,null,null,{"$f":"C3913","v":0}]
[null,{"$f":"Data!$C$13","v":"Champignons"},null,"x",{"$f":"Data!$F$13","v":8},"=",{"$f":"C3914*E3914","v":0},null,null,null,null,null,"Champignons",null,null,null,null,null,null,{"$f":"C3914","v":0}]
[null,{"$f":"Data!$C$14","v":"Peper"},null,"x",{"$f":"Data!$F$14","v":8},"=",0,null,null,null,null,null,"Peper",null,null,null,null,null,null,null,{"$f":"C3915","v":0}]
[null,{"$f":"Data!$C$15","v":"Kabeljauwhaasje"},null,"x",{"$f":"Data!$F$15","v":8},"=",0,null,null,null,null,null,"Kabeljauwhaasje",null,null,null,null,null,null,null,null,{"$f":"C3916","v":0}]
[]
[null,{"$f":"Data!$C$17","v":"Totaal eten:"},null,null,null,null,{"$f":"SUM(G3906:G3917)","v":0},null,null,null,null,null,"Totaal eten:",null,null,null,null,null,null,null,null,null,{"$f":"G3918","v":0}]
[null,{"$f":"Data!$C$18","v":"Totaal kaarten:"},null,"x",{"$f":"Data!$F$18","v":3},"=",{"$f":"-(C3919*E3919)","v":0}]
[null,null,null,null,null,null,null,null,null,null,null,null,"Totaal kaarten (bedrag):",null,null,null,null,null,null,null,null,null,null,{"$f":"C3919","v":0}]
[]
[null,{"$f":"Data!$C$21","v":"Totaal te betalen:"},null,null,null,null,{"$f":"G3918+G3919","v":0},null,null,null,null,null,"Totaal te betalen:",null,null,null,null,null,null,null,null,null,null,null,{"$f":"G3922","v":0}]
[]
[{"$f":"Data!$A$23","v":"TGV Opstal dankt u voor uw aanwezigheid!  Eet smakelijk!"}]
[]
["Fietsclub TGV Opstal",null,null,null,null,null,"Tafel nr:"]
[{"$f":"A3903","v":84}]
[]
[{"$f":"Data!$B$4","v":"Kalkoenfilet"}]
[null,{"$f":"Data!$C$5","v":"Natuur"},{"$f":"C3906","v":0},"x",{"$f":"Data!$F$5","v":17},"=",{"$f":"C3930*E3930","v":0}]
[null,{"$f":"Data!$C$6","v":"Champignons"},{"$f":"C3907","v":0},"x",{"$f":"Data!$F$6","v":17},"=",{"$f":"C3931*E3931","v":0}]
[null,{"$f":"Data!$C$7","v":"Peper"},0,"x",{"$f":"Data!$F$7","v":17},"=",{"$f":"C3932*E3932","v":0}]
[]
[{"$f":"Data!$B$9","v":"Kabeljauwhaasje"},null,0,"x",{"$f":"Data!$F$9","v":17},"=",{"$f":"C3934*E3934","v":0}]
[]
[{"$f":"Data!$B$11","v":"Kindermenu"}]
[null,{"$f":"Data!$C$12","v":"Natuur"},0,"x",{"$f":"Data!$F$12","v":8},"=",{"$f":"C3937*E3937","v":0}]
[null,{"$f":"Data!$C$13","v":"Champignons"},0,"x",{"$f":"Data!$F$13","v":8},"=",{"$f":"C3938*E3938","v":0}]
[null,{"$f":"Data!$C$14","v":"Peper"},0,"x",{"$f":"Data!$F$14","v":8},"=",0]
[null,{"$f":"Data!$C$15","v":"Kabeljauwhaasje"},0,"x",{"$f":"Data!$F$15","v":8},"=",0]
[]
[null,{"$f":"Data!$C$17","v":"Totaal eten:"},null,null,null,null,{"$f":"SUM(G3930:G3941)","v":0}]
[null,{"$f":"Data!$C$18","v":"Totaal kaarten:"},{"$f":"C3919","v":0},"x",{"$f":"Data!$F$18","v":3},"=",{"$f":"-(C3943*E3943)","v":0}]
[]
[]
[null,{"$f":"Data!$C$21","v":"Totaal te betalen:"},null,null,null,null,{"$f":"G3942+G3943","v":0}]
[]
[{"$f":"Data!$A$23","v":"TGV Opstal dankt u voor uw aanwezigheid!  Eet smakelijk!"}]
["Fietsclub TGV Opstal",null,null,null,null,null,"Tafel nr:"]
[{"$f":"A3903+1","v":85},null,null,null,null,null,null,null,null,null,null,{"$f":"A3950","v":85}]
[]
[{"$f":"Data!$B$4","v":"Kalkoenfilet"},null,null,null,null,null,null,null,null,null,null,"Kalkoenfilet"]
[null,{"$f":"Data!$C$5","v":"Natuur"},null,"x",{"$f":"Data!$F$5","v":17},"=",{"$f":"C3953*E3953","v":0},null,null,null,null,null,"Natuur",null,{"$f":"C3953","v":0}]
[null,{"$f":"Data!$C$6","v":"Champignons"},null,"x",{"$f":"Data!$F$6","v":17},"=",{"$f":"C3954*E3954","v":0},null,null,null,null,null,"Champignons",null,null,{"$f":"C3954","v":0}]
[null,{"$f":"Data!$C$7","v":"Peper"},null,"x",{"$f":"Data!$F$7","v":17},"=",{"$f":"C3955*E3955","v":0},null,null,null,null,null,"Peper",null,null,null,{"$f":"C3955","v":0}]
[]
[{"$f":"Data!$B$9","v":"Kabeljauwhaasje"},null,null,"x",{"$f":"Data!$F$9","v":17},"=",{"$f":"C3957*E3957","v":0},null,null,null,null,"Kabeljauwhaasje",null,null,null,null,null,{"$f":"C3957","v":0}]
[]
[{"$f":"Data!$B$11","v":"Kindermenu"},null,null,null,null,null,null,null,null,null,null,"Kindermenu"]
[null,{"$f":"Data!$C$12","v":"Natuur"},null,"x",{"$f":"Data!$F$12","v":8},"=",{"$f":"C3960*E3960","v":0},null,null,null,null,null,"Natuur",null,null,null,null,null,{"$f":"C3960","v":0}]
[null,{"$f":"Data!$C$13","v":"Champignons"},null,"x",{"$f":"Data!$F$13","v":8},"=",{"$f":"C3961*E3961","v":0},null,null,null,null,null,"Champignons",null,null,null,null,null,null,{"$f":"C3961","v":0}]
[null,{"$f":"Data!$C$14","v":"Peper"},null,"x",{"$f":"Data!$F$14","v":8},"=",0,null,null,null,null,null,"Peper",null,null,null,null,null,null,null,{"$f":"C3962","v":0}]
[null,{"$f":"Data!$C$15","v":"Kabeljauwhaasje"},null,"x",{"$f":"Data!$F$15","v":8},"=",0,null,null,null,null,null,"Kabeljauwhaasje",null,null,null,null,null,null,null,null,{"$f":"C3963","v":0}]
[]
[null,{"$f":"Data!$C$17","v":"Totaal eten:"},null,null,null,null,{"$f":"SUM(G3953:G3964)","v":0},null,null,null,null,null,"Totaal eten:",null,null,null,null,null,null,null,null,null,{"$f":"G3965","v":0}]
[null,{"$f":"Data!$C$18","v":"Totaal kaarten:"},null,"x",{"$f":"Data!$F$18","v":3},"=",{"$f":"-(C3966*E3966)","v":0}]
[null,null,null,null,null,null,null,null,null,null,null,null,"Totaal kaarten (bedrag):",null,null,null,null,null,null,null,null,null,null,{"$f":"C3966","v":0}]
[]
[null,{"$f":"Data!$C$21","v":"Totaal te betalen:"},null,null,null,null,{"$f":"G3965+G3966","v":0},null,null,null,null,null,"Totaal te betalen:",null,null,null,null,null,null,null,null,null,null,null,{"$f":"G3969","v":0}]
[]
[{"$f":"Data!$A$23","v":"TGV Opstal dankt u voor uw aanwezigheid!  Eet smakelijk!"}]
[]
["Fietsclub TGV Opstal",null,null,null,null,null,"Tafel nr:"]
[{"$f":"A3950","v":85}]
[]
[{"$f":"Data!$B$4","v":"Kalkoenfilet"}]
[null,{"$f":"Data!$C$5","v":"Natuur"},{"$f":"C3953","v":0},"x",{"$f":"Data!$F$5","v":17},"=",{"$f":"C3977*E3977","v":0}]
[null,{"$f":"Data!$C$6","v":"Champignons"},{"$f":"C3954","v":0},"x",{"$f":"Data!$F$6","v":17},"=",{"$f":"C3978*E3978","v":0}]
[null,{"$f":"Data!$C$7","v":"Peper"},0,"x",{"$f":"Data!$F$7","v":17},"=",{"$f":"C3979*E3979","v":0}]
[]
[{"$f":"Data!$B$9","v":"Kabeljauwhaasje"},null,0,"x",{"$f":"Data!$F$9","v":17},"=",{"$f":"C3981*E3981","v":0}]
[]
[{"$f":"Data!$B$11","v":"Kindermenu"}]
[null,{"$f":"Data!$C$12","v":"Natuur"},0,"x",{"$f":"Data!$F$12","v":8},"=",{"$f":"C3984*E3984","v":0}]
[null,{"$f":"Data!$C$13","v":"Champignons"},0,"x",{"$f":"Data!$F$13","v":8},"=",{"$f":"C3985*E3985","v":0}]
[null,{"$f":"Data!$C$14","v":"Peper"},0,"x",{"$f":"Data!$F$14","v":8},"=",0]
[null,{"$f":"Data!$C$15","v":"Kabeljauwhaasje"},0,"x",{"$f":"Data!$F$15","v":8},"=",0]
[]
[null,{"$f":"Data!$C$17","v":"Totaal eten:"},null,null,null,null,{"$f":"SUM(G3977:G3988)","v":0}]
[null,{"$f":"Data!$C$18","v":"Totaal kaarten:"},{"$f":"C3966","v":0},"x",{"$f":"Data!$F$18","v":3},"=",{"$f":"-(C3990*E3990)","v":0}]
[]
[]
[null,{"$f":"Data!$C$21","v":"Totaal te betalen:"},null,null,null,null,{"$f":"G3989+G3990","v":0}]
[]
[{"$f":"Data!$A$23","v":"TGV Opstal dankt u voor uw aanwezigheid!  Eet smakelijk!"}]
["Fietsclub TGV Opstal",null,null,null,null,null,"Tafel nr:"]
[{"$f":"A3950+1","v":86},null,null,null,null,null,null,null,null,null,null,{"$f":"A3997","v":86}]
[]
[{"$f":"Data!$B$4","v":"Kalkoenfilet"},null,null,null,null,null,null,null,null,null,null,"Kalkoenfilet"]
[null,{"$f":"Data!$C$5","v":"Natuur"},null,"x",{"$f":"Data!$F$5","v":17},"=",{"$f":"C4000*E4000","v":0},null,null,null,null,null,"Natuur",null,{"$f":"C4000","v":0}]
[null,{"$f":"Data!$C$6","v":"Champignons"},null,"x",{"$f":"Data!$F$6","v":17},"=",{"$f":"C4001*E4001","v":0},null,null,null,null,null,"Champignons",null,null,{"$f":"C4001","v":0}]
[null,{"$f":"Data!$C$7","v":"Peper"},null,"x",{"$f":"Data!$F$7","v":17},"=",{"$f":"C4002*E4002","v":0},null,null,null,null,null,"Peper",null,null,null,{"$f":"C4002","v":0}]
[]
[{"$f":"Data!$B$9","v":"Kabeljauwhaasje"},null,null,"x",{"$f":"Data!$F$9","v":17},"=",{"$f":"C4004*E4004","v":0},null,null,null,null,"Kabeljauwhaasje",null,null,null,null,null,{"$f":"C4004","v":0}]
[]
[{"$f":"Data!$B$11","v":"Kindermenu"},null,null,null,null,null,null,null,null,null,null,"Kindermenu"]
[null,{"$f":"Data!$C$12","v":"Natuur"},null,"x",{"$f":"Data!$F$12","v":8},"=",{"$f":"C4007*E4007","v":0},null,null,null,null,null,"Natuur",null,null,null,null,null,{"$f":"C4007","v":0}]
[null,{"$f":"Data!$C$13","v":"Champignons"},null,"x",{"$f":"Data!$F$13","v":8},"=",{"$f":"C4008*E4008","v":0},null,null,null,null,null,"Champignons",null,null,null,null,null,null,{"$f":"C4008","v":0}]
[null,{"$f":"Data!$C$14","v":"Peper"},null,"x",{"$f":"Data!$F$14","v":8},"=",0,null,null,null,null,null,"Peper",null,null,null,null,null,null,null,{"$f":"C4009","v":0}]
[null,{"$f":"Data!$C$15","v":"Kabeljauwhaasje"},null,"x",{"$f":"Data!$F$15","v":8},"=",0,null,null,null,null,null,"Kabeljauwhaasje",null,null,null,null,null,null,null,null,{"$f":"C4010","v":0}]
[]
[null,{"$f":"Data!$C$17","v":"Totaal eten:"},null,null,null,null,{"$f":"SUM(G4000:G4011)","v":0},null,null,null,null,null,"Totaal eten:",null,null,null,null,null,null,null,null,null,{"$f":"G4012","v":0}]
[null,{"$f":"Data!$C$18","v":"Totaal kaarten:"},null,"x",{"$f":"Data!$F$18","v":3},"=",{"$f":"-(C4013*E4013)","v":0}]
[null,null,null,null,null,null,null,null,null,null,null,null,"Totaal kaarten (bedrag):",null,null,null,null,null,null,null,null,null,null,{"$f":"C4013","v":0}]
[]
[null,{"$f":"Data!$C$21","v":"Totaal te betalen:"},null,null,null,null,{"$f":"G4012+G4013","v":0},null,null,null,null,null,"Totaal te betalen:",null,null,null,null,null,null,null,null,null,null,null,{"$f":"G4016","v":0}]
[]
[{"$f":"Data!$A$23","v":"TGV Opstal dankt u voor uw aanwezigheid!  Eet smakelijk!"}]
[]
["Fietsclub TGV Opstal",null,null,null,null,null,"Tafel nr:"]
[{"$f":"A3997","v":86}]
[]
[{"$f":"Data!$B$4","v":"Kalkoenfilet"}]
[null,{"$f":"Data!$C$5","v":"Natuur"},{"$f":"C4000","v":0},"x",{"$f":"Data!$F$5","v":17},"=",{"$f":"C4024*E4024","v":0}]
[null,{"$f":"Data!$C$6","v":"Champignons"},{"$f":"C4001","v":0},"x",{"$f":"Data!$F$6","v":17},"=",{"$f":"C4025*E4025","v":0}]
[null,{"$f":"Data!$C$7","v":"Peper"},0,"x",{"$f":"Data!$F$7","v":17},"=",{"$f":"C4026*E4026","v":0}]
[]
[{"$f":"Data!$B$9","v":"Kabeljauwhaasje"},null,0,"x",{"$f":"Data!$F$9","v":17},"=",{"$f":"C4028*E4028","v":0}]
[]
[{"$f":"Data!$B$11","v":"Kindermenu"}]
[null,{"$f":"Data!$C$12","v":"Natuur"},0,"x",{"$f":"Data!$F$12","v":8},"=",{"$f":"C4031*E4031","v":0}]
[null,{"$f":"Data!$C$13","v":"Champignons"},0,"x",{"$f":"Data!$F$13","v":8},"=",{"$f":"C4032*E4032","v":0}]
[null,{"$f":"Data!$C$14","v":"Peper"},0,"x",{"$f":"Data!$F$14","v":8},"=",0]
[null,{"$f":"Data!$C$15","v":"Kabeljauwhaasje"},0,"x",{"$f":"Data!$F$15","v":8},"=",0]
[]
[null,{"$f":"Data!$C$17","v":"Totaal eten:"},null,null,null,null,{"$f":"SUM(G4024:G4035)","v":0}]
[null,{"$f":"Data!$C$18","v":"Totaal kaarten:"},{"$f":"C4013","v":0},"x",{"$f":"Data!$F$18","v":3},"=",{"$f":"-(C4037*E4037)","v":0}]
[]
[]
[null,{"$f":"Data!$C$21","v":"Totaal te betalen:"},null,null,null,null,{"$f":"G4036+G4037","v":0}]
[]
[{"$f":"Data!$A$23","v":"TGV Opstal dankt u voor uw aanwezigheid!  Eet smakelijk!"}]
["Fietsclub TGV Opstal",null,null,null,null,null,"Tafel nr:"]
[{"$f":"A3997+1","v":87},null,null,null,null,null,null,null,null,null,null,{"$f":"A4044","v":87}]
[]
[{"$f":"Data!$B$4","v":"Kalkoenfilet"},null,null,null,null,null,null,null,null,null,null,"Kalkoenfilet"]
[null,{"$f":"Data!$C$5","v":"Natuur"},null,"x",{"$f":"Data!$F$5","v":17},"=",{"$f":"C4047*E4047","v":0},null,null,null,null,null,"Natuur",null,{"$f":"C4047","v":0}]
[null,{"$f":"Data!$C$6","v":"Champignons"},null,"x",{"$f":"Data!$F$6","v":17},"=",{"$f":"C4048*E4048","v":0},null,null,null,null,null,"Champignons",null,null,{"$f":"C4048","v":0}]
[null,{"$f":"Data!$C$7","v":"Peper"},null,"x",{"$f":"Data!$F$7","v":17},"=",{"$f":"C4049*E4049","v":0},null,null,null,null,null,"Peper",null,null,null,{"$f":"C4049","v":0}]
[]
[{"$f":"Data!$B$9","v":"Kabeljauwhaasje"},null,null,"x",{"$f":"Data!$F$9","v":17},"=",{"$f":"C4051*E4051","v":0},null,null,null,null,"Kabeljauwhaasje",null,null,null,null,null,{"$f":"C4051","v":0}]
[]
[{"$f":"Data!$B$11","v":"Kindermenu"},null,null,null,null,null,null,null,null,null,null,"Kindermenu"]
[null,{"$f":"Data!$C$12","v":"Natuur"},null,"x",{"$f":"Data!$F$12","v":8},"=",{"$f":"C4054*E4054","v":0},null,null,null,null,null,"Natuur",null,null,null,null,null,{"$f":"C4054","v":0}]
[null,{"$f":"Data!$C$13","v":"Champignons"},null,"x",{"$f":"Data!$F$13","v":8},"=",{"$f":"C4055*E4055","v":0},null,null,null,null,null,"Champignons",null,null,null,null,null,null,{"$f":"C4055","v":0}]
[null,{"$f":"Data!$C$14","v":"Peper"},null,"x",{"$f":"Data!$F$14","v":8},"=",0,null,null,null,null,null,"Peper",null,null,null,null,null,null,null,{"$f":"C4056","v":0}]
[null,{"$f":"Data!$C$15","v":"Kabeljauwhaasje"},null,"x",{"$f":"Data!$F$15","v":8},"=",0,null,null,null,null,null,"Kabeljauwhaasje",null,null,null,null,null,null,null,null,{"$f":"C4057","v":0}]
[]
[null,{"$f":"Data!$C$17","v":"Totaal eten:"},null,null,null,null,{"$f":"SUM(G4047:G4058)","v":0},null,null,null,null,null,"Totaal eten:",null,null,null,null,null,null,null,null,null,{"$f":"G4059","v":0}]
[null,{"$f":"Data!$C$18","v":"Totaal kaarten:"},null,"x",{"$f":"Data!$F$18","v":3},"=",{"$f":"-(C4060*E4060)","v":0}]
[null,null,null,null,null,null,null,null,null,null,null,null,"Totaal kaarten (bedrag):",null,null,null,null,null,null,null,null,null,null,{"$f":"C4060","v":0}]
[]
[null,{"$f":"Data!$C$21","v":"Totaal te betalen:"},null,null,null,null,{"$f":"G4059+G4060","v":0},null,null,null,null,null,"Totaal te betalen:",null,null,null,null,null,null,null,null,null,null,null,{"$f":"G4063","v":0}]
[]
[{"$f":"Data!$A$23","v":"TGV Opstal dankt u voor uw aanwezigheid!  Eet smakelijk!"}]
[]
["Fietsclub TGV Opstal",null,null,null,null,null,"Tafel nr:"]
[{"$f":"A4044","v":87}]
[]
[{"$f":"Data!$B$4","v":"Kalkoenfilet"}]
[null,{"$f":"Data!$C$5","v":"Natuur"},{"$f":"C4047","v":0},"x",{"$f":"Data!$F$5","v":17},"=",{"$f":"C4071*E4071","v":0}]
[null,{"$f":"Data!$C$6","v":"Champignons"},{"$f":"C4048","v":0},"x",{"$f":"Data!$F$6","v":17},"=",{"$f":"C4072*E4072","v":0}]
[null,{"$f":"Data!$C$7","v":"Peper"},0,"x",{"$f":"Data!$F$7","v":17},"=",{"$f":"C4073*E4073","v":0}]
[]
[{"$f":"Data!$B$9","v":"Kabeljauwhaasje"},null,0,"x",{"$f":"Data!$F$9","v":17},"=",{"$f":"C4075*E4075","v":0}]
[]
[{"$f":"Data!$B$11","v":"Kindermenu"}]
[null,{"$f":"Data!$C$12","v":"Natuur"},0,"x",{"$f":"Data!$F$12","v":8},"=",{"$f":"C4078*E4078","v":0}]
[null,{"$f":"Data!$C$13","v":"Champignons"},0,"x",{"$f":"Data!$F$13","v":8},"=",{"$f":"C4079*E4079","v":0}]
[null,{"$f":"Data!$C$14","v":"Peper"},0,"x",{"$f":"Data!$F$14","v":8},"=",0]
[null,{"$f":"Data!$C$15","v":"Kabeljauwhaasje"},0,"x",{"$f":"Data!$F$15","v":8},"=",0]
[]
[null,{"$f":"Data!$C$17","v":"Totaal eten:"},null,null,null,null,{"$f":"SUM(G4071:G4082)","v":0}]
[null,{"$f":"Data!$C$18","v":"Totaal kaarten:"},{"$f":"C4060","v":0},"x",{"$f":"Data!$F$18","v":3},"=",{"$f":"-(C4084*E4084)","v":0}]
[]
[]
[null,{"$f":"Data!$C$21","v":"Totaal te betalen:"},null,null,null,null,{"$f":"G4083+G4084","v":0}]
[]
[{"$f":"Data!$A$23","v":"TGV Opstal dankt u voor uw aanwezigheid!  Eet smakelijk!"}]
["Fietsclub TGV Opstal",null,null,null,null,null,"Tafel nr:"]
[{"$f":"A4044+1","v":88},null,null,null,null,null,null,null,null,null,null,{"$f":"A4091","v":88}]
[]
[{"$f":"Data!$B$4","v":"Kalkoenfilet"},null,null,null,null,null,null,null,null,null,null,"Kalkoenfilet"]
[null,{"$f":"Data!$C$5","v":"Natuur"},null,"x",{"$f":"Data!$F$5","v":17},"=",{"$f":"C4094*E4094","v":0},null,null,null,null,null,"Natuur",null,{"$f":"C4094","v":0}]
[null,{"$f":"Data!$C$6","v":"Champignons"},null,"x",{"$f":"Data!$F$6","v":17},"=",{"$f":"C4095*E4095","v":0},null,null,null,null,null,"Champignons",null,null,{"$f":"C4095","v":0}]
[null,{"$f":"Data!$C$7","v":"Peper"},null,"x",{"$f":"Data!$F$7","v":17},"=",{"$f":"C4096*E4096","v":0},null,null,null,null,null,"Peper",null,null,null,{"$f":"C4096","v":0}]
[]
[{"$f":"Data!$B$9","v":"Kabeljauwhaasje"},null,null,"x",{"$f":"Data!$F$9","v":17},"=",{"$f":"C4098*E4098","v":0},null,null,null,null,"Kabeljauwhaasje",null,null,null,null,null,{"$f":"C4098","v":0}]
[]
[{"$f":"Data!$B$11","v":"Kindermenu"},null,null,null,null,null,null,null,null,null,null,"Kindermenu"]
[null,{"$f":"Data!$C$12","v":"Natuur"},null,"x",{"$f":"Data!$F$12","v":8},"=",{"$f":"C4101*E4101","v":0},null,null,null,null,null,"Natuur",null,null,null,null,null,{"$f":"C4101","v":0}]
[null,{"$f":"Data!$C$13","v":"Champignons"},null,"x",{"$f":"Data!$F$13","v":8},"=",{"$f":"C4102*E4102","v":0},null,null,null,null,null,"Champignons",null,null,null,null,null,null,{"$f":"C4102","v":0}]
[null,{"$f":"Data!$C$14","v":"Peper"},null,"x",{"$f":"Data!$F$14","v":8},"=",0,null,null,null,null,null,"Peper",null,null,null,null,null,null,null,{"$f":"C4103","v":0}]
[null,{"$f":"Data!$C$15","v":"Kabeljauwhaasje"},null,"x",{"$f":"Data!$F$15","v":8},"=",0,null,null,null,null,null,"Kabeljauwhaasje",null,null,null,null,null,null,null,null,{"$f":"C4104","v":0}]
[]
[null,{"$f":"Data!$C$17","v":"Totaal eten:"},null,null,null,null,{"$f":"SUM(G4094:G4105)","v":0},null,null,null,null,null,"Totaal eten:",null,null,null,null,null,null,null,null,null,{"$f":"G4106","v":0}]
[null,{"$f":"Data!$C$18","v":"Totaal kaarten:"},null,"x",{"$f":"Data!$F$18","v":3},"=",{"$f":"-(C4107*E4107)","v":0}]
[null,null,null,null,null,null,null,null,null,null,null,null,"Totaal kaarten (bedrag):",null,null,null,null,null,null,null,null,null,null,{"$f":"C4107","v":0}]
[]
[null,{"$f":"Data!$C$21","v":"Totaal te betalen:"},null,null,null,null,{"$f":"G4106+G4107","v":0},null,null,null,null,null,"Totaal te betalen:",null,null,null,null,null,null,null,null,null,null,null,{"$f":"G4110","v":0}]
[]
[{"$f":"Data!$A$23","v":"TGV Opstal dankt u voor uw aanwezigheid!  Eet smakelijk!"}]
[]
["Fietsclub TGV Opstal",null,null,null,null,null,"Tafel nr:"]
[{"$f":"A4091","v":88}]
[]
[{"$f":"Data!$B$4","v":"Kalkoenfilet"}]
[null,{"$f":"Data!$C$5","v":"Natuur"},{"$f":"C4094","v":0},"x",{"$f":"Data!$F$5","v":17},"=",{"$f":"C4118*E4118","v":0}]
[null,{"$f":"Data!$C$6","v":"Champignons"},{"$f":"C4095","v":0},"x",{"$f":"Data!$F$6","v":17},"=",{"$f":"C4119*E4119","v":0}]
[null,{"$f":"Data!$C$7","v":"Peper"},0,"x",{"$f":"Data!$F$7","v":17},"=",{"$f":"C4120*E4120","v":0}]
[]
[{"$f":"Data!$B$9","v":"Kabeljauwhaasje"},null,0,"x",{"$f":"Data!$F$9","v":17},"=",{"$f":"C4122*E4122","v":0}]
[]
[{"$f":"Data!$B$11","v":"Kindermenu"}]
[null,{"$f":"Data!$C$12","v":"Natuur"},0,"x",{"$f":"Data!$F$12","v":8},"=",{"$f":"C4125*E4125","v":0}]
[null,{"$f":"Data!$C$13","v":"Champignons"},0,"x",{"$f":"Data!$F$13","v":8},"=",{"$f":"C4126*E4126","v":0}]
[null,{"$f":"Data!$C$14","v":"Peper"},0,"x",{"$f":"Data!$F$14","v":8},"=",0]
[null,{"$f":"Data!$C$15","v":"Kabeljauwhaasje"},0,"x",{"$f":"Data!$F$15","v":8},"=",0]
[]
[null,{"$f":"Data!$C$17","v":"Totaal eten:"},null,null,null,null,{"$f":"SUM(G4118:G4129)","v":0}]
[null,{"$f":"Data!$C$18","v":"Totaal kaarten:"},{"$f":"C4107","v":0},"x",{"$f":"Data!$F$18","v":3},"=",{"$f":"-(C4131*E4131)","v":0}]
[]
[]
[null,{"$f":"Data!$C$21","v":"Totaal te betalen:"},null,null,null,null,{"$f":"G4130+G4131","v":0}]
[]
[{"$f":"Data!$A$23","v":"TGV Opstal dankt u voor uw aanwezigheid!  Eet smakelijk!"}]
["Fietsclub TGV Opstal",null,null,null,null,null,"Tafel nr:"]
[{"$f":"A4091+1","v":89},null,null,null,null,null,null,null,null,null,null,{"$f":"A4138","v":89}]
[]
[{"$f":"Data!$B$4","v":"Kalkoenfilet"},null,null,null,null,null,null,null,null,null,null,"Kalkoenfilet"]
[null,{"$f":"Data!$C$5","v":"Natuur"},null,"x",{"$f":"Data!$F$5","v":17},"=",{"$f":"C4141*E4141","v":0},null,null,null,null,null,"Natuur",null,{"$f":"C4141","v":0}]
[null,{"$f":"Data!$C$6","v":"Champignons"},null,"x",{"$f":"Data!$F$6","v":17},"=",{"$f":"C4142*E4142","v":0},null,null,null,null,null,"Champignons",null,null,{"$f":"C4142","v":0}]
[null,{"$f":"Data!$C$7","v":"Peper"},null,"x",{"$f":"Data!$F$7","v":17},"=",{"$f":"C4143*E4143","v":0},null,null,null,null,null,"Peper",null,null,null,{"$f":"C4143","v":0}]
[]
[{"$f":"Data!$B$9","v":"Kabeljauwhaasje"},null,null,"x",{"$f":"Data!$F$9","v":17},"=",{"$f":"C4145*E4145","v":0},null,null,null,null,"Kabeljauwhaasje",null,null,null,null,null,{"$f":"C4145","v":0}]
[]
[{"$f":"Data!$B$11","v":"Kindermenu"},null,null,null,null,null,null,null,null,null,null,"Kindermenu"]
[null,{"$f":"Data!$C$12","v":"Natuur"},null,"x",{"$f":"Data!$F$12","v":8},"=",{"$f":"C4148*E4148","v":0},null,null,null,null,null,"Natuur",null,null,null,null,null,{"$f":"C4148","v":0}]
[null,{"$f":"Data!$C$13","v":"Champignons"},null,"x",{"$f":"Data!$F$13","v":8},"=",{"$f":"C4149*E4149","v":0},null,null,null,null,null,"Champignons",null,null,null,null,null,null,{"$f":"C4149","v":0}]
[null,{"$f":"Data!$C$14","v":"Peper"},null,"x",{"$f":"Data!$F$14","v":8},"=",0,null,null,null,null,null,"Peper",null,null,null,null,null,null,null,{"$f":"C4150","v":0}]
[null,{"$f":"Data!$C$15","v":"Kabeljauwhaasje"},null,"x",{"$f":"Data!$F$15","v":8},"=",0,null,null,null,null,null,"Kabeljauwhaasje",null,null,null,null,null,null,null,null,{"$f":"C4151","v":0}]
[]
[null,{"$f":"Data!$C$17","v":"Totaal eten:"},null,null,null,null,{"$f":"SUM(G4141:G4152)","v":0},null,null,null,null,null,"Totaal eten:",null,null,null,null,null,null,null,null,null,{"$f":"G4153","v":0}]
[null,{"$f":"Data!$C$18","v":"Totaal kaarten:"},null,"x",{"$f":"Data!$F$18","v":3},"=",{"$f":"-(C4154*E4154)","v":0}]
[null,null,null,null,null,null,null,null,null,null,null,null,"Totaal kaarten (bedrag):",null,null,null,null,null,null,null,null,null,null,{"$f":"C4154","v":0}]
[]
[null,{"$f":"Data!$C$21","v":"Totaal te betalen:"},null,null,null,null,{"$f":"G4153+G4154","v":0},null,null,null,null,null,"Totaal te betalen:",null,null,null,null,null,null,null,null,null,null,null,{"$f":"G4157","v":0}]
[]
[{"$f":"Data!$A$23","v":"TGV Opstal dankt u voor uw aanwezigheid!  Eet smakelijk!"}]
[]
["Fietsclub TGV Opstal",null,null,null,null,null,"Tafel nr:"]
[{"$f":"A4138","v":89}]
[]
[{"$f":"Data!$B$4","v":"Kalkoenfilet"}]
[null,{"$f":"Data!$C$5","v":"Natuur"},{"$f":"C4141","v":0},"x",{"$f":"Data!$F$5","v":17},"=",{"$f":"C4165*E4165","v":0}]
[null,{"$f":"Data!$C$6","v":"Champignons"},{"$f":"C4142","v":0},"x",{"$f":"Data!$F$6","v":17},"=",{"$f":"C4166*E4166","v":0}]
[null,{"$f":"Data!$C$7","v":"Peper"},0,"x",{"$f":"Data!$F$7","v":17},"=",{"$f":"C4167*E4167","v":0}]
[]
[{"$f":"Data!$B$9","v":"Kabeljauwhaasje"},null,0,"x",{"$f":"Data!$F$9","v":17},"=",{"$f":"C4169*E4169","v":0}]
[]
[{"$f":"Data!$B$11","v":"Kindermenu"}]
[null,{"$f":"Data!$C$12","v":"Natuur"},0,"x",{"$f":"Data!$F$12","v":8},"=",{"$f":"C4172*E4172","v":0}]
[null,{"$f":"Data!$C$13","v":"Champignons"},0,"x",{"$f":"Data!$F$13","v":8},"=",{"$f":"C4173*E4173","v":0}]
[null,{"$f":"Data!$C$14","v":"Peper"},0,"x",{"$f":"Data!$F$14","v":8},"=",0]
[null,{"$f":"Data!$C$15","v":"Kabeljauwhaasje"},0,"x",{"$f":"Data!$F$15","v":8},"=",0]
[]
[null,{"$f":"Data!$C$17","v":"Totaal eten:"},null,null,null,null,{"$f":"SUM(G4165:G4176)","v":0}]
[null,{"$f":"Data!$C$18","v":"Totaal kaarten:"},{"$f":"C4154","v":0},"x",{"$f":"Data!$F$18","v":3},"=",{"$f":"-(C4178*E4178)","v":0}]
[]
[]
[null,{"$f":"Data!$C$21","v":"Totaal te betalen:"},null,null,null,null,{"$f":"G4177+G4178","v":0}]
[]
[{"$f":"Data!$A$23","v":"TGV Opstal dankt u voor uw aanwezigheid!  Eet smakelijk!"}]
["Fietsclub TGV Opstal",null,null,null,null,null,"Tafel nr:"]
[{"$f":"A4138+1","v":90},null,null,null,null,null,null,null,null,null,null,{"$f":"A4185","v":90}]
[]
[{"$f":"Data!$B$4","v":"Kalkoenfilet"},null,null,null,null,null,null,null,null,null,null,"Kalkoenfilet"]
[null,{"$f":"Data!$C$5","v":"Natuur"},null,"x",{"$f":"Data!$F$5","v":17},"=",{"$f":"C4188*E4188","v":0},null,null,null,null,null,"Natuur",null,{"$f":"C4188","v":0}]
[null,{"$f":"Data!$C$6","v":"Champignons"},null,"x",{"$f":"Data!$F$6","v":17},"=",{"$f":"C4189*E4189","v":0},null,null,null,null,null,"Champignons",null,null,{"$f":"C4189","v":0}]
[null,{"$f":"Data!$C$7","v":"Peper"},null,"x",{"$f":"Data!$F$7","v":17},"=",{"$f":"C4190*E4190","v":0},null,null,null,null,null,"Peper",null,null,null,{"$f":"C4190","v":0}]
[]
[{"$f":"Data!$B$9","v":"Kabeljauwhaasje"},null,null,"x",{"$f":"Data!$F$9","v":17},"=",{"$f":"C4192*E4192","v":0},null,null,null,null,"Kabeljauwhaasje",null,null,null,null,null,{"$f":"C4192","v":0}]
[]
[{"$f":"Data!$B$11","v":"Kindermenu"},null,null,null,null,null,null,null,null,null,null,"Kindermenu"]
[null,{"$f":"Data!$C$12","v":"Natuur"},null,"x",{"$f":"Data!$F$12","v":8},"=",{"$f":"C4195*E4195","v":0},null,null,null,null,null,"Natuur",null,null,null,null,null,{"$f":"C4195","v":0}]
[null,{"$f":"Data!$C$13","v":"Champignons"},null,"x",{"$f":"Data!$F$13","v":8},"=",{"$f":"C4196*E4196","v":0},null,null,null,null,null,"Champignons",null,null,null,null,null,null,{"$f":"C4196","v":0}]
[null,{"$f":"Data!$C$14","v":"Peper"},null,"x",{"$f":"Data!$F$14","v":8},"=",0,null,null,null,null,null,"Peper",null,null,null,null,null,null,null,{"$f":"C4197","v":0}]
[null,{"$f":"Data!$C$15","v":"Kabeljauwhaasje"},null,"x",{"$f":"Data!$F$15","v":8},"=",0,null,null,null,null,null,"Kabeljauwhaasje",null,null,null,null,null,null,null,null,{"$f":"C4198","v":0}]
[]
[null,{"$f":"Data!$C$17","v":"Totaal eten:"},null,null,null,null,{"$f":"SUM(G4188:G4199)","v":0},null,null,null,null,null,"Totaal eten:",null,null,null,null,null,null,null,null,null,{"$f":"G4200","v":0}]
[null,{"$f":"Data!$C$18","v":"Totaal kaarten:"},null,"x",{"$f":"Data!$F$18","v":3},"=",{"$f":"-(C4201*E4201)","v":0}]
[null,null,null,null,null,null,null,null,null,null,null,null,"Totaal kaarten (bedrag):",null,null,null,null,null,null,null,null,null,null,{"$f":"C4201","v":0}]
[]
[null,{"$f":"Data!$C$21","v":"Totaal te betalen:"},null,null,null,null,{"$f":"G4200+G4201","v":0},null,null,null,null,null,"Totaal te betalen:",null,null,null,null,null,null,null,null,null,null,null,{"$f":"G4204","v":0}]
[]
[{"$f":"Data!$A$23","v":"TGV Opstal dankt u voor uw aanwezigheid!  Eet smakelijk!"}]
[]
["Fietsclub TGV Opstal",null,null,null,null,null,"Tafel nr:"]
[{"$f":"A4185","v":90}]
[]
[{"$f":"Data!$B$4","v":"Kalkoenfilet"}]
[null,{"$f":"Data!$C$5","v":"Natuur"},{"$f":"C4188","v":0},"x",{"$f":"Data!$F$5","v":17},"=",{"$f":"C4212*E4212","v":0}]
[null,{"$f":"Data!$C$6","v":"Champignons"},{"$f":"C4189","v":0},"x",{"$f":"Data!$F$6","v":17},"=",{"$f":"C4213*E4213","v":0}]
[null,{"$f":"Data!$C$7","v":"Peper"},0,"x",{"$f":"Data!$F$7","v":17},"=",{"$f":"C4214*E4214","v":0}]
[]
[{"$f":"Data!$B$9","v":"Kabeljauwhaasje"},null,0,"x",{"$f":"Data!$F$9","v":17},"=",{"$f":"C4216*E4216","v":0}]
[]
[{"$f":"Data!$B$11","v":"Kindermenu"}]
[null,{"$f":"Data!$C$12","v":"Natuur"},0,"x",{"$f":"Data!$F$12","v":8},"=",{"$f":"C4219*E4219","v":0}]
[null,{"$f":"Data!$C$13","v":"Champignons"},0,"x",{"$f":"Data!$F$13","v":8},"=",{"$f":"C4220*E4220","v":0}]
[null,{"$f":"Data!$C$14","v":"Peper"},0,"x",{"$f":"Data!$F$14","v":8},"=",0]
[null,{"$f":"Data!$C$15","v":"Kabeljauwhaasje"},0,"x",{"$f":"Data!$F$15","v":8},"=",0]
[]
[null,{"$f":"Data!$C$17","v":"Totaal eten:"},null,null,null,null,{"$f":"SUM(G4212:G4223)","v":0}]
[null,{"$f":"Data!$C$18","v":"Totaal kaarten:"},{"$f":"C4201","v":0},"x",{"$f":"Data!$F$18","v":3},"=",{"$f":"-(C4225*E4225)","v":0}]
[]
[]
[null,{"$f":"Data!$C$21","v":"Totaal te betalen:"},null,null,null,null,{"$f":"G4224+G4225","v":0}]
[]
[{"$f":"Data!$A$23","v":"TGV Opstal dankt u voor uw aanwezigheid!  Eet smakelijk!"}]
["Fietsclub TGV Opstal",null,null,null,null,null,"Tafel nr:"]
[{"$f":"A4185+1","v":91},null,null,null,null,null,null,null,null,null,null,{"$f":"A4232","v":91}]
[]
[{"$f":"Data!$B$4","v":"Kalkoenfilet"},null,null,null,null,null,null,null,null,null,null,"Kalkoenfilet"]
[null,{"$f":"Data!$C$5","v":"Natuur"},null,"x",{"$f":"Data!$F$5","v":17},"=",{"$f":"C4235*E4235","v":0},null,null,null,null,null,"Natuur",null,{"$f":"C4235","v":0}]
[null,{"$f":"Data!$C$6","v":"Champignons"},null,"x",{"$f":"Data!$F$6","v":17},"=",{"$f":"C4236*E4236","v":0},null,null,null,null,null,"Champignons",null,null,{"$f":"C4236","v":0}]
[null,{"$f":"Data!$C$7","v":"Peper"},null,"x",{"$f":"Data!$F$7","v":17},"=",{"$f":"C4237*E4237","v":0},null,null,null,null,null,"Peper",null,null,null,{"$f":"C4237","v":0}]
[]
[{"$f":"Data!$B$9","v":"Kabeljauwhaasje"},null,null,"x",{"$f":"Data!$F$9","v":17},"=",{"$f":"C4239*E4239","v":0},null,null,null,null,"Kabeljauwhaasje",null,null,null,null,null,{"$f":"C4239","v":0}]
[]
[{"$f":"Data!$B$11","v":"Kindermenu"},null,null,null,null,null,null,null,null,null,null,"Kindermenu"]
[null,{"$f":"Data!$C$12","v":"Natuur"},null,"x",{"$f":"Data!$F$12","v":8},"=",{"$f":"C4242*E4242","v":0},null,null,null,null,null,"Natuur",null,null,null,null,null,{"$f":"C4242","v":0}]
[null,{"$f":"Data!$C$13","v":"Champignons"},null,"x",{"$f":"Data!$F$13","v":8},"=",{"$f":"C4243*E4243","v":0},null,null,null,null,null,"Champignons",null,null,null,null,null,null,{"$f":"C4243","v":0}]
[null,{"$f":"Data!$C$14","v":"Peper"},null,"x",{"$f":"Data!$F$14","v":8},"=",0,null,null,null,null,null,"Peper",null,null,null,null,null,null,null,{"$f":"C4244","v":0}]
[null,{"$f":"Data!$C$15","v":"Kabeljauwhaasje"},null,"x",{"$f":"Data!$F$15","v":8},"=",0,null,null,null,null,null,"Kabeljauwhaasje",null,null,null,null,null,null,null,null,{"$f":"C4245","v":0}]
[]
[null,{"$f":"Data!$C$17","v":"Totaal eten:"},null,null,null,null,{"$f":"SUM(G4235:G4246)","v":0},null,null,null,null,null,"Totaal eten:",null,null,null,null,null,null,null,null,null,{"$f":"G4247","v":0}]
[null,{"$f":"Data!$C$18","v":"Totaal kaarten:"},null,"x",{"$f":"Data!$F$18","v":3},"=",{"$f":"-(C4248*E4248)","v":0}]
[null,null,null,null,null,null,null,null,null,null,null,null,"Totaal kaarten (bedrag):",null,null,null,null,null,null,null,null,null,null,{"$f":"C4248","v":0}]
[]
[null,{"$f":"Data!$C$21","v":"Totaal te betalen:"},null,null,null,null,{"$f":"G4247+G4248","v":0},null,null,null,null,null,"Totaal te betalen:",null,null,null,null,null,null,null,null,null,null,null,{"$f":"G4251","v":0}]
[]
[{"$f":"Data!$A$23","v":"TGV Opstal dankt u voor uw aanwezigheid!  Eet smakelijk!"}]
[]
["Fietsclub TGV Opstal",null,null,null,null,null,"Tafel nr:"]
[{"$f":"A4232","v":91}]
[]
[{"$f":"Data!$B$4","v":"Kalkoenfilet"}]
[null,{"$f":"Data!$C$5","v":"Natuur"},{"$f":"C4235","v":0},"x",{"$f":"Data!$F$5","v":17},"=",{"$f":"C4259*E4259","v":0}]
[null,{"$f":"Data!$C$6","v":"Champignons"},{"$f":"C4236","v":0},"x",{"$f":"Data!$F$6","v":17},"=",{"$f":"C4260*E4260","v":0}]
[null,{"$f":"Data!$C$7","v":"Peper"},0,"x",{"$f":"Data!$F$7","v":17},"=",{"$f":"C4261*E4261","v":0}]
[]
[{"$f":"Data!$B$9","v":"Kabeljauwhaasje"},null,0,"x",{"$f":"Data!$F$9","v":17},"=",{"$f":"C4263*E4263","v":0}]
[]
[{"$f":"Data!$B$11","v":"Kindermenu"}]
[null,{"$f":"Data!$C$12","v":"Natuur"},0,"x",{"$f":"Data!$F$12","v":8},"=",{"$f":"C4266*E4266","v":0}]
[null,{"$f":"Data!$C$13","v":"Champignons"},0,"x",{"$f":"Data!$F$13","v":8},"=",{"$f":"C4267*E4267","v":0}]
[null,{"$f":"Data!$C$14","v":"Peper"},0,"x",{"$f":"Data!$F$14","v":8},"=",0]
[null,{"$f":"Data!$C$15","v":"Kabeljauwhaasje"},0,"x",{"$f":"Data!$F$15","v":8},"=",0]
[]
[null,{"$f":"Data!$C$17","v":"Totaal eten:"},null,null,null,null,{"$f":"SUM(G4259:G4270)","v":0}]
[null,{"$f":"Data!$C$18","v":"Totaal kaarten:"},{"$f":"C4248","v":0},"x",{"$f":"Data!$F$18","v":3},"=",{"$f":"-(C4272*E4272)","v":0}]
[]
[]
[null,{"$f":"Data!$C$21","v":"Totaal te betalen:"},null,null,null,null,{"$f":"G4271+G4272","v":0}]
[]
[{"$f":"Data!$A$23","v":"TGV Opstal dankt u voor uw aanwezigheid!  Eet smakelijk!"}]
["Fietsclub TGV Opstal",null,null,null,null,null,"Tafel nr:"]
[{"$f":"A4232+1","v":92},null,null,null,null,null,null,null,null,null,null,{"$f":"A4279","v":92}]
[]
[{"$f":"Data!$B$4","v":"Kalkoenfilet"},null,null,null,null,null,null,null,null,null,null,"Kalkoenfilet"]
[null,{"$f":"Data!$C$5","v":"Natuur"},null,"x",{"$f":"Data!$F$5","v":17},"=",{"$f":"C4282*E4282","v":0},null,null,null,null,null,"Natuur",null,{"$f":"C4282","v":0}]
[null,{"$f":"Data!$C$6","v":"Champignons"},null,"x",{"$f":"Data!$F$6","v":17},"=",{"$f":"C4283*E4283","v":0},null,null,null,null,null,"Champignons",null,null,{"$f":"C4283","v":0}]
[null,{"$f":"Data!$C$7","v":"Peper"},null,"x",{"$f":"Data!$F$7","v":17},"=",{"$f":"C4284*E4284","v":0},null,null,null,null,null,"Peper",null,null,null,{"$f":"C4284","v":0}]
[]
[{"$f":"Data!$B$9","v":"Kabeljauwhaasje"},null,null,"x",{"$f":"Data!$F$9","v":17},"=",{"$f":"C4286*E4286","v":0},null,null,null,null,"Kabeljauwhaasje",null,null,null,null,null,{"$f":"C4286","v":0}]
[]
[{"$f":"Data!$B$11","v":"Kindermenu"},null,null,null,null,null,null,null,null,null,null,"Kindermenu"]
[null,{"$f":"Data!$C$12","v":"Natuur"},null,"x",{"$f":"Data!$F$12","v":8},"=",{"$f":"C4289*E4289","v":0},null,null,null,null,null,"Natuur",null,null,null,null,null,{"$f":"C4289","v":0}]
[null,{"$f":"Data!$C$13","v":"Champignons"},null,"x",{"$f":"Data!$F$13","v":8},"=",{"$f":"C4290*E4290","v":0},null,null,null,null,null,"Champignons",null,null,null,null,null,null,{"$f":"C4290","v":0}]
[null,{"$f":"Data!$C$14","v":"Peper"},null,"x",{"$f":"Data!$F$14","v":8},"=",0,null,null,null,null,null,"Peper",null,null,null,null,null,null,null,{"$f":"C4291","v":0}]
[null,{"$f":"Data!$C$15","v":"Kabeljauwhaasje"},null,"x",{"$f":"Data!$F$15","v":8},"=",0,null,null,null,null,null,"Kabeljauwhaasje",null,null,null,null,null,null,null,null,{"$f":"C4292","v":0}]
[]
[null,{"$f":"Data!$C$17","v":"Totaal eten:"},null,null,null,null,{"$f":"SUM(G4282:G4293)","v":0},null,null,null,null,null,"Totaal eten:",null,null,null,null,null,null,null,null,null,{"$f":"G4294","v":0}]
[null,{"$f":"Data!$C$18","v":"Totaal kaarten:"},null,"x",{"$f":"Data!$F$18","v":3},"=",{"$f":"-(C4295*E4295)","v":0}]
[null,null,null,null,null,null,null,null,null,null,null,null,"Totaal kaarten (bedrag):",null,null,null,null,null,null,null,null,null,null,{"$f":"C4295","v":0}]
[]
[null,{"$f":"Data!$C$21","v":"Totaal te betalen:"},null,null,null,null,{"$f":"G4294+G4295","v":0},null,null,null,null,null,"Totaal te betalen:",null,null,null,null,null,null,null,null,null,null,null,{"$f":"G4298","v":0}]
[]
[{"$f":"Data!$A$23","v":"TGV Opstal dankt u voor uw aanwezigheid!  Eet smakelijk!"}]
[]
["Fietsclub TGV Opstal",null,null,null,null,null,"Tafel nr:"]
[{"$f":"A4279","v":92}]
[]
[{"$f":"Data!$B$4","v":"Kalkoenfilet"}]
[null,{"$f":"Data!$C$5","v":"Natuur"},{"$f":"C4282","v":0},"x",{"$f":"Data!$F$5","v":17},"=",{"$f":"C4306*E4306","v":0}]
[null,{"$f":"Data!$C$6","v":"Champignons"},{"$f":"C4283","v":0},"x",{"$f":"Data!$F$6","v":17},"=",{"$f":"C4307*E4307","v":0}]
[null,{"$f":"Data!$C$7","v":"Peper"},0,"x",{"$f":"Data!$F$7","v":17},"=",{"$f":"C4308*E4308","v":0}]
[]
[{"$f":"Data!$B$9","v":"Kabeljauwhaasje"},null,0,"x",{"$f":"Data!$F$9","v":17},"=",{"$f":"C4310*E4310","v":0}]
[]
[{"$f":"Data!$B$11","v":"Kindermenu"}]
[null,{"$f":"Data!$C$12","v":"Natuur"},0,"x",{"$f":"Data!$F$12","v":8},"=",{"$f":"C4313*E4313","v":0}]
[null,{"$f":"Data!$C$13","v":"Champignons"},0,"x",{"$f":"Data!$F$13","v":8},"=",{"$f":"C4314*E4314","v":0}]
[null,{"$f":"Data!$C$14","v":"Peper"},0,"x",{"$f":"Data!$F$14","v":8},"=",0]
[null,{"$f":"Data!$C$15","v":"Kabeljauwhaasje"},0,"x",{"$f":"Data!$F$15","v":8},"=",0]
[]
[null,{"$f":"Data!$C$17","v":"Totaal eten:"},null,null,null,null,{"$f":"SUM(G4306:G4317)","v":0}]
[null,{"$f":"Data!$C$18","v":"Totaal kaarten:"},{"$f":"C4295","v":0},"x",{"$f":"Data!$F$18","v":3},"=",{"$f":"-(C4319*E4319)","v":0}]
[]
[]
[null,{"$f":"Data!$C$21","v":"Totaal te betalen:"},null,null,null,null,{"$f":"G4318+G4319","v":0}]
[]
[{"$f":"Data!$A$23","v":"TGV Opstal dankt u voor uw aanwezigheid!  Eet smakelijk!"}]
["Fietsclub TGV Opstal",null,null,null,null,null,"Tafel nr:"]
[{"$f":"A4279+1","v":93},null,null,null,null,null,null,null,null,null,null,{"$f":"A4326","v":93}]
[]
[{"$f":"Data!$B$4","v":"Kalkoenfilet"},null,null,null,null,null,null,null,null,null,null,"Kalkoenfilet"]
[null,{"$f":"Data!$C$5","v":"Natuur"},null,"x",{"$f":"Data!$F$5","v":17},"=",{"$f":"C4329*E4329","v":0},null,null,null,null,null,"Natuur",null,{"$f":"C4329","v":0}]
[null,{"$f":"Data!$C$6","v":"Champignons"},null,"x",{"$f":"Data!$F$6","v":17},"=",{"$f":"C4330*E4330","v":0},null,null,null,null,null,"Champignons",null,null,{"$f":"C4330","v":0}]
[null,{"$f":"Data!$C$7","v":"Peper"},null,"x",{"$f":"Data!$F$7","v":17},"=",{"$f":"C4331*E4331","v":0},null,null,null,null,null,"Peper",null,null,null,{"$f":"C4331","v":0}]
[]
[{"$f":"Data!$B$9","v":"Kabeljauwhaasje"},null,null,"x",{"$f":"Data!$F$9","v":17},"=",{"$f":"C4333*E4333","v":0},null,null,null,null,"Kabeljauwhaasje",null,null,null,null,null,{"$f":"C4333","v":0}]
[]
[{"$f":"Data!$B$11","v":"Kindermenu"},null,null,null,null,null,null,null,null,null,null,"Kindermenu"]
[null,{"$f":"Data!$C$12","v":"Natuur"},null,"x",{"$f":"Data!$F$12","v":8},"=",{"$f":"C4336*E4336","v":0},null,null,null,null,null,"Natuur",null,null,null,null,null,{"$f":"C4336","v":0}]
[null,{"$f":"Data!$C$13","v":"Champignons"},null,"x",{"$f":"Data!$F$13","v":8},"=",{"$f":"C4337*E4337","v":0},null,null,null,null,null,"Champignons",null,null,null,null,null,null,{"$f":"C4337","v":0}]
[null,{"$f":"Data!$C$14","v":"Peper"},null,"x",{"$f":"Data!$F$14","v":8},"=",0,null,null,null,null,null,"Peper",null,null,null,null,null,null,null,{"$f":"C4338","v":0}]
[null,{"$f":"Data!$C$15","v":"Kabeljauwhaasje"},null,"x",{"$f":"Data!$F$15","v":8},"=",0,null,null,null,null,null,"Kabeljauwhaasje",null,null,null,null,null,null,null,null,{"$f":"C4339","v":0}]
[]
[null,{"$f":"Data!$C$17","v":"Totaal eten:"},null,null,null,null,{"$f":"SUM(G4329:G4340)","v":0},null,null,null,null,null,"Totaal eten:",null,null,null,null,null,null,null,null,null,{"$f":"G4341","v":0}]
[null,{"$f":"Data!$C$18","v":"Totaal kaarten:"},null,"x",{"$f":"Data!$F$18","v":3},"=",{"$f":"-(C4342*E4342)","v":0}]
[null,null,null,null,null,null,null,null,null,null,null,null,"Totaal kaarten (bedrag):",null,null,null,null,null,null,null,null,null,null,{"$f":"C4342","v":0}]
[]
[null,{"$f":"Data!$C$21","v":"Totaal te betalen:"},null,null,null,null,{"$f":"G4341+G4342","v":0},null,null,null,null,null,"Totaal te betalen:",null,null,null,null,null,null,null,null,null,null,null,{"$f":"G4345","v":0}]
[]
[{"$f":"Data!$A$23","v":"TGV Opstal dankt u voor uw aanwezigheid!  Eet smakelijk!"}]
[]
["Fietsclub TGV Opstal",null,null,null,null,null,"Tafel nr:"]
[{"$f":"A4326","v":93}]
[]
[{"$f":"Data!$B$4","v":"Kalkoenfilet"}]
[null,{"$f":"Data!$C$5","v":"Natuur"},{"$f":"C4329","v":0},"x",{"$f":"Data!$F$5","v":17},"=",{"$f":"C4353*E4353","v":0}]
[null,{"$f":"Data!$C$6","v":"Champignons"},{"$f":"C4330","v":0},"x",{"$f":"Data!$F$6","v":17},"=",{"$f":"C4354*E4354","v":0}]
[null,{"$f":"Data!$C$7","v":"Peper"},0,"x",{"$f":"Data!$F$7","v":17},"=",{"$f":"C4355*E4355","v":0}]
[]
[{"$f":"Data!$B$9","v":"Kabeljauwhaasje"},null,0,"x",{"$f":"Data!$F$9","v":17},"=",{"$f":"C4357*E4357","v":0}]
[]
[{"$f":"Data!$B$11","v":"Kindermenu"}]
[null,{"$f":"Data!$C$12","v":"Natuur"},0,"x",{"$f":"Data!$F$12","v":8},"=",{"$f":"C4360*E4360","v":0}]
[null,{"$f":"Data!$C$13","v":"Champignons"},0,"x",{"$f":"Data!$F$13","v":8},"=",{"$f":"C4361*E4361","v":0}]
[null,{"$f":"Data!$C$14","v":"Peper"},0,"x",{"$f":"Data!$F$14","v":8},"=",0]
[null,{"$f":"Data!$C$15","v":"Kabeljauwhaasje"},0,"x",{"$f":"Data!$F$15","v":8},"=",0]
[]
[null,{"$f":"Data!$C$17","v":"Totaal eten:"},null,null,null,null,{"$f":"SUM(G4353:G4364)","v":0}]
[null,{"$f":"Data!$C$18","v":"Totaal kaarten:"},{"$f":"C4342","v":0},"x",{"$f":"Data!$F$18","v":3},"=",{"$f":"-(C4366*E4366)","v":0}]
[]
[]
[null,{"$f":"Data!$C$21","v":"Totaal te betalen:"},null,null,null,null,{"$f":"G4365+G4366","v":0}]
[]
[{"$f":"Data!$A$23","v":"TGV Opstal dankt u voor uw aanwezigheid!  Eet smakelijk!"}]
["Fietsclub TGV Opstal",null,null,null,null,null,"Tafel nr:"]
[{"$f":"A4326+1","v":94},null,null,null,null,null,null,null,null,null,null,{"$f":"A4373","v":94}]
[]
[{"$f":"Data!$B$4","v":"Kalkoenfilet"},null,null,null,null,null,null,null,null,null,null,"Kalkoenfilet"]
[null,{"$f":"Data!$C$5","v":"Natuur"},null,"x",{"$f":"Data!$F$5","v":17},"=",{"$f":"C4376*E4376","v":0},null,null,null,null,null,"Natuur",null,{"$f":"C4376","v":0}]
[null,{"$f":"Data!$C$6","v":"Champignons"},null,"x",{"$f":"Data!$F$6","v":17},"=",{"$f":"C4377*E4377","v":0},null,null,null,null,null,"Champignons",null,null,{"$f":"C4377","v":0}]
[null,{"$f":"Data!$C$7","v":"Peper"},null,"x",{"$f":"Data!$F$7","v":17},"=",{"$f":"C4378*E4378","v":0},null,null,null,null,null,"Peper",null,null,null,{"$f":"C4378","v":0}]
[]
[{"$f":"Data!$B$9","v":"Kabeljauwhaasje"},null,null,"x",{"$f":"Data!$F$9","v":17},"=",{"$f":"C4380*E4380","v":0},null,null,null,null,"Kabeljauwhaasje",null,null,null,null,null,{"$f":"C4380","v":0}]
[]
[{"$f":"Data!$B$11","v":"Kindermenu"},null,null,null,null,null,null,null,null,null,null,"Kindermenu"]
[null,{"$f":"Data!$C$12","v":"Natuur"},null,"x",{"$f":"Data!$F$12","v":8},"=",{"$f":"C4383*E4383","v":0},null,null,null,null,null,"Natuur",null,null,null,null,null,{"$f":"C4383","v":0}]
[null,{"$f":"Data!$C$13","v":"Champignons"},null,"x",{"$f":"Data!$F$13","v":8},"=",{"$f":"C4384*E4384","v":0},null,null,null,null,null,"Champignons",null,null,null,null,null,null,{"$f":"C4384","v":0}]
[null,{"$f":"Data!$C$14","v":"Peper"},null,"x",{"$f":"Data!$F$14","v":8},"=",0,null,null,null,null,null,"Peper",null,null,null,null,null,null,null,{"$f":"C4385","v":0}]
[null,{"$f":"Data!$C$15","v":"Kabeljauwhaasje"},null,"x",{"$f":"Data!$F$15","v":8},"=",0,null,null,null,null,null,"Kabeljauwhaasje",null,null,null,null,null,null,null,null,{"$f":"C4386","v":0}]
[]
[null,{"$f":"Data!$C$17","v":"Totaal eten:"},null,null,null,null,{"$f":"SUM(G4376:G4387)","v":0},null,null,null,null,null,"Totaal eten:",null,null,null,null,null,null,null,null,null,{"$f":"G4388","v":0}]
[null,{"$f":"Data!$C$18","v":"Totaal kaarten:"},null,"x",{"$f":"Data!$F$18","v":3},"=",{"$f":"-(C4389*E4389)","v":0}]
[null,null,null,null,null,null,null,null,null,null,null,null,"Totaal kaarten (bedrag):",null,null,null,null,null,null,null,null,null,null,{"$f":"C4389","v":0}]
[]
[null,{"$f":"Data!$C$21","v":"Totaal te betalen:"},null,null,null,null,{"$f":"G4388+G4389","v":0},null,null,null,null,null,"Totaal te betalen:",null,null,null,null,null,null,null,null,null,null,null,{"$f":"G4392","v":0}]
[]
[{"$f":"Data!$A$23","v":"TGV Opstal dankt u voor uw aanwezigheid!  Eet smakelijk!"}]
[]
["Fietsclub TGV Opstal",null,null,null,null,null,"Tafel nr:"]
[{"$f":"A4373","v":94}]
[]
[{"$f":"Data!$B$4","v":"Kalkoenfilet"}]
[null,{"$f":"Data!$C$5","v":"Natuur"},{"$f":"C4376","v":0},"x",{"$f":"Data!$F$5","v":17},"=",{"$f":"C4400*E4400","v":0}]
[null,{"$f":"Data!$C$6","v":"Champignons"},{"$f":"C4377","v":0},"x",{"$f":"Data!$F$6","v":17},"=",{"$f":"C4401*E4401","v":0}]
[null,{"$f":"Data!$C$7","v":"Peper"},0,"x",{"$f":"Data!$F$7","v":17},"=",{"$f":"C4402*E4402","v":0}]
[]
[{"$f":"Data!$B$9","v":"Kabeljauwhaasje"},null,0,"x",{"$f":"Data!$F$9","v":17},"=",{"$f":"C4404*E4404","v":0}]
[]
[{"$f":"Data!$B$11","v":"Kindermenu"}]
[null,{"$f":"Data!$C$12","v":"Natuur"},0,"x",{"$f":"Data!$F$12","v":8},"=",{"$f":"C4407*E4407","v":0}]
[null,{"$f":"Data!$C$13","v":"Champignons"},0,"x",{"$f":"Data!$F$13","v":8},"=",{"$f":"C4408*E4408","v":0}]
[null,{"$f":"Data!$C$14","v":"Peper"},0,"x",{"$f":"Data!$F$14","v":8},"=",0]
[null,{"$f":"Data!$C$15","v":"Kabeljauwhaasje"},0,"x",{"$f":"Data!$F$15","v":8},"=",0]
[]
[null,{"$f":"Data!$C$17","v":"Totaal eten:"},null,null,null,null,{"$f":"SUM(G4400:G4411)","v":0}]
[null,{"$f":"Data!$C$18","v":"Totaal kaarten:"},{"$f":"C4389","v":0},"x",{"$f":"Data!$F$18","v":3},"=",{"$f":"-(C4413*E4413)","v":0}]
[]
[]
[null,{"$f":"Data!$C$21","v":"Totaal te betalen:"},null,null,null,null,{"$f":"G4412+G4413","v":0}]
[]
[{"$f":"Data!$A$23","v":"TGV Opstal dankt u voor uw aanwezigheid!  Eet smakelijk!"}]
["Fietsclub TGV Opstal",null,null,null,null,null,"Tafel nr:"]
[{"$f":"A4373+1","v":95},null,null,null,null,null,null,null,null,null,null,{"$f":"A4420","v":95}]
[]
[{"$f":"Data!$B$4","v":"Kalkoenfilet"},null,null,null,null,null,null,null,null,null,null,"Kalkoenfilet"]
[null,{"$f":"Data!$C$5","v":"Natuur"},null,"x",{"$f":"Data!$F$5","v":17},"=",{"$f":"C4423*E4423","v":0},null,null,null,null,null,"Natuur",null,{"$f":"C4423","v":0}]
[null,{"$f":"Data!$C$6","v":"Champignons"},null,"x",{"$f":"Data!$F$6","v":17},"=",{"$f":"C4424*E4424","v":0},null,null,null,null,null,"Champignons",null,null,{"$f":"C4424","v":0}]
[null,{"$f":"Data!$C$7","v":"Peper"},null,"x",{"$f":"Data!$F$7","v":17},"=",{"$f":"C4425*E4425","v":0},null,null,null,null,null,"Peper",null,null,null,{"$f":"C4425","v":0}]
[]
[{"$f":"Data!$B$9","v":"Kabeljauwhaasje"},null,null,"x",{"$f":"Data!$F$9","v":17},"=",{"$f":"C4427*E4427","v":0},null,null,null,null,"Kabeljauwhaasje",null,null,null,null,null,{"$f":"C4427","v":0}]
[]
[{"$f":"Data!$B$11","v":"Kindermenu"},null,null,null,null,null,null,null,null,null,null,"Kindermenu"]
[null,{"$f":"Data!$C$12","v":"Natuur"},null,"x",{"$f":"Data!$F$12","v":8},"=",{"$f":"C4430*E4430","v":0},null,null,null,null,null,"Natuur",null,null,null,null,null,{"$f":"C4430","v":0}]
[null,{"$f":"Data!$C$13","v":"Champignons"},null,"x",{"$f":"Data!$F$13","v":8},"=",{"$f":"C4431*E4431","v":0},null,null,null,null,null,"Champignons",null,null,null,null,null,null,{"$f":"C4431","v":0}]
[null,{"$f":"Data!$C$14","v":"Peper"},null,"x",{"$f":"Data!$F$14","v":8},"=",0,null,null,null,null,null,"Peper",null,null,null,null,null,null,null,{"$f":"C4432","v":0}]
[null,{"$f":"Data!$C$15","v":"Kabeljauwhaasje"},null,"x",{"$f":"Data!$F$15","v":8},"=",0,null,null,null,null,null,"Kabeljauwhaasje",null,null,null,null,null,null,null,null,{"$f":"C4433","v":0}]
[]
[null,{"$f":"Data!$C$17","v":"Totaal eten:"},null,null,null,null,{"$f":"SUM(G4423:G4434)","v":0},null,null,null,null,null,"Totaal eten:",null,null,null,null,null,null,null,null,null,{"$f":"G4435","v":0}]
[null,{"$f":"Data!$C$18","v":"Totaal kaarten:"},null,"x",{"$f":"Data!$F$18","v":3},"=",{"$f":"-(C4436*E4436)","v":0}]
[null,null,null,null,null,null,null,null,null,null,null,null,"Totaal kaarten (bedrag):",null,null,null,null,null,null,null,null,null,null,{"$f":"C4436","v":0}]
[]
[null,{"$f":"Data!$C$21","v":"Totaal te betalen:"},null,null,null,null,{"$f":"G4435+G4436","v":0},null,null,null,null,null,"Totaal te betalen:",null,null,null,null,null,null,null,null,null,null,null,{"$f":"G4439","v":0}]
[]
[{"$f":"Data!$A$23","v":"TGV Opstal dankt u voor uw aanwezigheid!  Eet smakelijk!"}]
[]
["Fietsclub TGV Opstal",null,null,null,null,null,"Tafel nr:"]
[{"$f":"A4420","v":95}]
[]
[{"$f":"Data!$B$4","v":"Kalkoenfilet"}]
[null,{"$f":"Data!$C$5","v":"Natuur"},{"$f":"C4423","v":0},"x",{"$f":"Data!$F$5","v":17},"=",{"$f":"C4447*E4447","v":0}]
[null,{"$f":"Data!$C$6","v":"Champignons"},{"$f":"C4424","v":0},"x",{"$f":"Data!$F$6","v":17},"=",{"$f":"C4448*E4448","v":0}]
[null,{"$f":"Data!$C$7","v":"Peper"},0,"x",{"$f":"Data!$F$7","v":17},"=",{"$f":"C4449*E4449","v":0}]
[]
[{"$f":"Data!$B$9","v":"Kabeljauwhaasje"},null,0,"x",{"$f":"Data!$F$9","v":17},"=",{"$f":"C4451*E4451","v":0}]
[]
[{"$f":"Data!$B$11","v":"Kindermenu"}]
[null,{"$f":"Data!$C$12","v":"Natuur"},0,"x",{"$f":"Data!$F$12","v":8},"=",{"$f":"C4454*E4454","v":0}]
[null,{"$f":"Data!$C$13","v":"Champignons"},0,"x",{"$f":"Data!$F$13","v":8},"=",{"$f":"C4455*E4455","v":0}]
[null,{"$f":"Data!$C$14","v":"Peper"},0,"x",{"$f":"Data!$F$14","v":8},"=",0]
[null,{"$f":"Data!$C$15","v":"Kabeljauwhaasje"},0,"x",{"$f":"Data!$F$15","v":8},"=",0]
[]
[null,{"$f":"Data!$C$17","v":"Totaal eten:"},null,null,null,null,{"$f":"SUM(G4447:G4458)","v":0}]
[null,{"$f":"Data!$C$18","v":"Totaal kaarten:"},{"$f":"C4436","v":0},"x",{"$f":"Data!$F$18","v":3},"=",{"$f":"-(C4460*E4460)","v":0}]
[]
[]
[null,{"$f":"Data!$C$21","v":"Totaal te betalen:"},null,null,null,null,{"$f":"G4459+G4460","v":0}]
[]
[{"$f":"Data!$A$23","v":"TGV Opstal dankt u voor uw aanwezigheid!  Eet smakelijk!"}]
["Fietsclub TGV Opstal",null,null,null,null,null,"Tafel nr:"]
[{"$f":"A4420+1","v":96},null,null,null,null,null,null,null,null,null,null,{"$f":"A4467","v":96}]
[]
[{"$f":"Data!$B$4","v":"Kalkoenfilet"},null,null,null,null,null,null,null,null,null,null,"Kalkoenfilet"]
[null,{"$f":"Data!$C$5","v":"Natuur"},null,"x",{"$f":"Data!$F$5","v":17},"=",{"$f":"C4470*E4470","v":0},null,null,null,null,null,"Natuur",null,{"$f":"C4470","v":0}]
[null,{"$f":"Data!$C$6","v":"Champignons"},null,"x",{"$f":"Data!$F$6","v":17},"=",{"$f":"C4471*E4471","v":0},null,null,null,null,null,"Champignons",null,null,{"$f":"C4471","v":0}]
[null,{"$f":"Data!$C$7","v":"Peper"},null,"x",{"$f":"Data!$F$7","v":17},"=",{"$f":"C4472*E4472","v":0},null,null,null,null,null,"Peper",null,null,null,{"$f":"C4472","v":0}]
[]
[{"$f":"Data!$B$9","v":"Kabeljauwhaasje"},null,null,"x",{"$f":"Data!$F$9","v":17},"=",{"$f":"C4474*E4474","v":0},null,null,null,null,"Kabeljauwhaasje",null,null,null,null,null,{"$f":"C4474","v":0}]
[]
[{"$f":"Data!$B$11","v":"Kindermenu"},null,null,null,null,null,null,null,null,null,null,"Kindermenu"]
[null,{"$f":"Data!$C$12","v":"Natuur"},null,"x",{"$f":"Data!$F$12","v":8},"=",{"$f":"C4477*E4477","v":0},null,null,null,null,null,"Natuur",null,null,null,null,null,{"$f":"C4477","v":0}]
[null,{"$f":"Data!$C$13","v":"Champignons"},null,"x",{"$f":"Data!$F$13","v":8},"=",{"$f":"C4478*E4478","v":0},null,null,null,null,null,"Champignons",null,null,null,null,null,null,{"$f":"C4478","v":0}]
[null,{"$f":"Data!$C$14","v":"Peper"},null,"x",{"$f":"Data!$F$14","v":8},"=",0,null,null,null,null,null,"Peper",null,null,null,null,null,null,null,{"$f":"C4479","v":0}]
[null,{"$f":"Data!$C$15","v":"Kabeljauwhaasje"},null,"x",{"$f":"Data!$F$15","v":8},"=",0,null,null,null,null,null,"Kabeljauwhaasje",null,null,null,null,null,null,null,null,{"$f":"C4480","v":0}]
[]
[null,{"$f":"Data!$C$17","v":"Totaal eten:"},null,null,null,null,{"$f":"SUM(G4470:G4481)","v":0},null,null,null,null,null,"Totaal eten:",null,null,null,null,null,null,null,null,null,{"$f":"G4482","v":0}]
[null,{"$f":"Data!$C$18","v":"Totaal kaarten:"},null,"x",{"$f":"Data!$F$18","v":3},"=",{"$f":"-(C4483*E4483)","v":0}]
[null,null,null,null,null,null,null,null,null,null,null,null,"Totaal kaarten (bedrag):",null,null,null,null,null,null,null,null,null,null,{"$f":"C4483","v":0}]
[]
[null,{"$f":"Data!$C$21","v":"Totaal te betalen:"},null,null,null,null,{"$f":"G4482+G4483","v":0},null,null,null,null,null,"Totaal te betalen:",null,null,null,null,null,null,null,null,null,null,null,{"$f":"G4486","v":0}]
[]
[{"$f":"Data!$A$23","v":"TGV Opstal dankt u voor uw aanwezigheid!  Eet smakelijk!"}]
[]
["Fietsclub TGV Opstal",null,null,null,null,null,"Tafel nr:"]
[{"$f":"A4467","v":96}]
[]
[{"$f":"Data!$B$4","v":"Kalkoenfilet"}]
[null,{"$f":"Data!$C$5","v":"Natuur"},{"$f":"C4470","v":0},"x",{"$f":"Data!$F$5","v":17},"=",{"$f":"C4494*E4494","v":0}]
[null,{"$f":"Data!$C$6","v":"Champignons"},{"$f":"C4471","v":0},"x",{"$f":"Data!$F$6","v":17},"=",{"$f":"C4495*E4495","v":0}]
[null,{"$f":"Data!$C$7","v":"Peper"},0,"x",{"$f":"Data!$F$7","v":17},"=",{"$f":"C4496*E4496","v":0}]
[]
[{"$f":"Data!$B$9","v":"Kabeljauwhaasje"},null,0,"x",{"$f":"Data!$F$9","v":17},"=",{"$f":"C4498*E4498","v":0}]
[]
[{"$f":"Data!$B$11","v":"Kindermenu"}]
[null,{"$f":"Data!$C$12","v":"Natuur"},0,"x",{"$f":"Data!$F$12","v":8},"=",{"$f":"C4501*E4501","v":0}]
[null,{"$f":"Data!$C$13","v":"Champignons"},0,"x",{"$f":"Data!$F$13","v":8},"=",{"$f":"C4502*E4502","v":0}]
[null,{"$f":"Data!$C$14","v":"Peper"},0,"x",{"$f":"Data!$F$14","v":8},"=",0]
[null,{"$f":"Data!$C$15","v":"Kabeljauwhaasje"},0,"x",{"$f":"Data!$F$15","v":8},"=",0]
[]
[null,{"$f":"Data!$C$17","v":"Totaal eten:"},null,null,null,null,{"$f":"SUM(G4494:G4505)","v":0}]
[null,{"$f":"Data!$C$18","v":"Totaal kaarten:"},{"$f":"C4483","v":0},"x",{"$f":"Data!$F$18","v":3},"=",{"$f":"-(C4507*E4507)","v":0}]
[]
[]
[null,{"$f":"Data!$C$21","v":"Totaal te betalen:"},null,null,null,null,{"$f":"G4506+G4507","v":0}]
[]
[{"$f":"Data!$A$23","v":"TGV Opstal dankt u voor uw aanwezigheid!  Eet smakelijk!"}]
["Fietsclub TGV Opstal",null,null,null,null,null,"Tafel nr:"]
[{"$f":"A4467+1","v":97},null,null,null,null,null,null,null,null,null,null,{"$f":"A4514","v":97}]
[]
[{"$f":"Data!$B$4","v":"Kalkoenfilet"},null,null,null,null,null,null,null,null,null,null,"Kalkoenfilet"]
[null,{"$f":"Data!$C$5","v":"Natuur"},null,"x",{"$f":"Data!$F$5","v":17},"=",{"$f":"C4517*E4517","v":0},null,null,null,null,null,"Natuur",null,{"$f":"C4517","v":0}]
[null,{"$f":"Data!$C$6","v":"Champignons"},null,"x",{"$f":"Data!$F$6","v":17},"=",{"$f":"C4518*E4518","v":0},null,null,null,null,null,"Champignons",null,null,{"$f":"C4518","v":0}]
[null,{"$f":"Data!$C$7","v":"Peper"},null,"x",{"$f":"Data!$F$7","v":17},"=",{"$f":"C4519*E4519","v":0},null,null,null,null,null,"Peper",null,null,null,{"$f":"C4519","v":0}]
[]
[{"$f":"Data!$B$9","v":"Kabeljauwhaasje"},null,null,"x",{"$f":"Data!$F$9","v":17},"=",{"$f":"C4521*E4521","v":0},null,null,null,null,"Kabeljauwhaasje",null,null,null,null,null,{"$f":"C4521","v":0}]
[]
[{"$f":"Data!$B$11","v":"Kindermenu"},null,null,null,null,null,null,null,null,null,null,"Kindermenu"]
[null,{"$f":"Data!$C$12","v":"Natuur"},null,"x",{"$f":"Data!$F$12","v":8},"=",{"$f":"C4524*E4524","v":0},null,null,null,null,null,"Natuur",null,null,null,null,null,{"$f":"C4524","v":0}]
[null,{"$f":"Data!$C$13","v":"Champignons"},null,"x",{"$f":"Data!$F$13","v":8},"=",{"$f":"C4525*E4525","v":0},null,null,null,null,null,"Champignons",null,null,null,null,null,null,{"$f":"C4525","v":0}]
[null,{"$f":"Data!$C$14","v":"Peper"},null,"x",{"$f":"Data!$F$14","v":8},"=",0,null,null,null,null,null,"Peper",null,null,null,null,null,null,null,{"$f":"C4526","v":0}]
[null,{"$f":"Data!$C$15","v":"Kabeljauwhaasje"},null,"x",{"$f":"Data!$F$15","v":8},"=",0,null,null,null,null,null,"Kabeljauwhaasje",null,null,null,null,null,null,null,null,{"$f":"C4527","v":0}]
[]
[null,{"$f":"Data!$C$17","v":"Totaal eten:"},null,null,null,null,{"$f":"SUM(G4517:G4528)","v":0},null,null,null,null,null,"Totaal eten:",null,null,null,null,null,null,null,null,null,{"$f":"G4529","v":0}]
[null,{"$f":"Data!$C$18","v":"Totaal kaarten:"},null,"x",{"$f":"Data!$F$18","v":3},"=",{"$f":"-(C4530*E4530)","v":0}]
[null,null,null,null,null,null,null,null,null,null,null,null,"Totaal kaarten (bedrag):",null,null,null,null,null,null,null,null,null,null,{"$f":"C4530","v":0}]
[]
[null,{"$f":"Data!$C$21","v":"Totaal te betalen:"},null,null,null,null,{"$f":"G4529+G4530","v":0},null,null,null,null,null,"Totaal te betalen:",null,null,null,null,null,null,null,null,null,null,null,{"$f":"G4533","v":0}]
[]
[{"$f":"Data!$A$23","v":"TGV Opstal dankt u voor uw aanwezigheid!  Eet smakelijk!"}]
[]
["Fietsclub TGV Opstal",null,null,null,null,null,"Tafel nr:"]
[{"$f":"A4514","v":97}]
[]
[{"$f":"Data!$B$4","v":"Kalkoenfilet"}]
[null,{"$f":"Data!$C$5","v":"Natuur"},{"$f":"C4517","v":0},"x",{"$f":"Data!$F$5","v":17},"=",{"$f":"C4541*E4541","v":0}]
[null,{"$f":"Data!$C$6","v":"Champignons"},{"$f":"C4518","v":0},"x",{"$f":"Data!$F$6","v":17},"=",{"$f":"C4542*E4542","v":0}]
[null,{"$f":"Data!$C$7","v":"Peper"},0,"x",{"$f":"Data!$F$7","v":17},"=",{"$f":"C4543*E4543","v":0}]
[]
[{"$f":"Data!$B$9","v":"Kabeljauwhaasje"},null,0,"x",{"$f":"Data!$F$9","v":17},"=",{"$f":"C4545*E4545","v":0}]
[]
[{"$f":"Data!$B$11","v":"Kindermenu"}]
[null,{"$f":"Data!$C$12","v":"Natuur"},0,"x",{"$f":"Data!$F$12","v":8},"=",{"$f":"C4548*E4548","v":0}]
[null,{"$f":"Data!$C$13","v":"Champignons"},0,"x",{"$f":"Data!$F$13","v":8},"=",{"$f":"C4549*E4549","v":0}]
[null,{"$f":"Data!$C$14","v":"Peper"},0,"x",{"$f":"Data!$F$14","v":8},"=",0]
[null,{"$f":"Data!$C$15","v":"Kabeljauwhaasje"},0,"x",{"$f":"Data!$F$15","v":8},"=",0]
[]
[null,{"$f":"Data!$C$17","v":"Totaal eten:"},null,null,null,null,{"$f":"SUM(G4541:G4552)","v":0}]
[null,{"$f":"Data!$C$18","v":"Totaal kaarten:"},{"$f":"C4530","v":0},"x",{"$f":"Data!$F$18","v":3},"=",{"$f":"-(C4554*E4554)","v":0}]
[]
[]
[null,{"$f":"Data!$C$21","v":"Totaal te betalen:"},null,null,null,null,{"$f":"G4553+G4554","v":0}]
[]
[{"$f":"Data!$A$23","v":"TGV Opstal dankt u voor uw aanwezigheid!  Eet smakelijk!"}]
["Fietsclub TGV Opstal",null,null,null,null,null,"Tafel nr:"]
[{"$f":"A4514+1","v":98},null,null,null,null,null,null,null,null,null,null,{"$f":"A4561","v":98}]
[]
[{"$f":"Data!$B$4","v":"Kalkoenfilet"},null,null,null,null,null,null,null,null,null,null,"Kalkoenfilet"]
[null,{"$f":"Data!$C$5","v":"Natuur"},null,"x",{"$f":"Data!$F$5","v":17},"=",{"$f":"C4564*E4564","v":0},null,null,null,null,null,"Natuur",null,{"$f":"C4564","v":0}]
[null,{"$f":"Data!$C$6","v":"Champignons"},null,"x",{"$f":"Data!$F$6","v":17},"=",{"$f":"C4565*E4565","v":0},null,null,null,null,null,"Champignons",null,null,{"$f":"C4565","v":0}]
[null,{"$f":"Data!$C$7","v":"Peper"},null,"x",{"$f":"Data!$F$7","v":17},"=",{"$f":"C4566*E4566","v":0},null,null,null,null,null,"Peper",null,null,null,{"$f":"C4566","v":0}]
[]
[{"$f":"Data!$B$9","v":"Kabeljauwhaasje"},null,null,"x",{"$f":"Data!$F$9","v":17},"=",{"$f":"C4568*E4568","v":0},null,null,null,null,"Kabeljauwhaasje",null,null,null,null,null,{"$f":"C4568","v":0}]
[]
[{"$f":"Data!$B$11","v":"Kindermenu"},null,null,null,null,null,null,null,null,null,null,"Kindermenu"]
[null,{"$f":"Data!$C$12","v":"Natuur"},null,"x",{"$f":"Data!$F$12","v":8},"=",{"$f":"C4571*E4571","v":0},null,null,null,null,null,"Natuur",null,null,null,null,null,{"$f":"C4571","v":0}]
[null,{"$f":"Data!$C$13","v":"Champignons"},null,"x",{"$f":"Data!$F$13","v":8},"=",{"$f":"C4572*E4572","v":0},null,null,null,null,null,"Champignons",null,null,null,null,null,null,{"$f":"C4572","v":0}]
[null,{"$f":"Data!$C$14","v":"Peper"},null,"x",{"$f":"Data!$F$14","v":8},"=",0,null,null,null,null,null,"Peper",null,null,null,null,null,null,null,{"$f":"C4573","v":0}]
[null,{"$f":"Data!$C$15","v":"Kabeljauwhaasje"},null,"x",{"$f":"Data!$F$15","v":8},"=",0,null,null,null,null,null,"Kabeljauwhaasje",null,null,null,null,null,null,null,null,{"$f":"C4574","v":0}]
[]
[null,{"$f":"Data!$C$17","v":"Totaal eten:"},null,null,null,null,{"$f":"SUM(G4564:G4575)","v":0},null,null,null,null,null,"Totaal eten:",null,null,null,null,null,null,null,null,null,{"$f":"G4576","v":0}]
[null,{"$f":"Data!$C$18","v":"Totaal kaarten:"},null,"x",{"$f":"Data!$F$18","v":3},"=",{"$f":"-(C4577*E4577)","v":0}]
[null,null,null,null,null,null,null,null,null,null,null,null,"Totaal kaarten (bedrag):",null,null,null,null,null,null,null,null,null,null,{"$f":"C4577","v":0}]
[]
[null,{"$f":"Data!$C$21","v":"Totaal te betalen:"},null,null,null,null,{"$f":"G4576+G4577","v":0},null,null,null,null,null,"Totaal te betalen:",null,null,null,null,null,null,null,null,null,null,null,{"$f":"G4580","v":0}]
[]
[{"$f":"Data!$A$23","v":"TGV Opstal dankt u voor uw aanwezigheid!  Eet smakelijk!"}]
[]
["Fietsclub TGV Opstal",null,null,null,null,null,"Tafel nr:"]
[{"$f":"A4561","v":98}]
[]
[{"$f":"Data!$B$4","v":"Kalkoenfilet"}]
[null,{"$f":"Data!$C$5","v":"Natuur"},{"$f":"C4564","v":0},"x",{"$f":"Data!$F$5","v":17},"=",{"$f":"C4588*E4588","v":0}]
[null,{"$f":"Data!$C$6","v":"Champignons"},{"$f":"C4565","v":0},"x",{"$f":"Data!$F$6","v":17},"=",{"$f":"C4589*E4589","v":0}]
[null,{"$f":"Data!$C$7","v":"Peper"},0,"x",{"$f":"Data!$F$7","v":17},"=",{"$f":"C4590*E4590","v":0}]
[]
[{"$f":"Data!$B$9","v":"Kabeljauwhaasje"},null,0,"x",{"$f":"Data!$F$9","v":17},"=",{"$f":"C4592*E4592","v":0}]
[]
[{"$f":"Data!$B$11","v":"Kindermenu"}]
[null,{"$f":"Data!$C$12","v":"Natuur"},0,"x",{"$f":"Data!$F$12","v":8},"=",{"$f":"C4595*E4595","v":0}]
[null,{"$f":"Data!$C$13","v":"Champignons"},0,"x",{"$f":"Data!$F$13","v":8},"=",{"$f":"C4596*E4596","v":0}]
[null,{"$f":"Data!$C$14","v":"Peper"},0,"x",{"$f":"Data!$F$14","v":8},"=",0]
[null,{"$f":"Data!$C$15","v":"Kabeljauwhaasje"},0,"x",{"$f":"Data!$F$15","v":8},"=",0]
[]
[null,{"$f":"Data!$C$17","v":"Totaal eten:"},null,null,null,null,{"$f":"SUM(G4588:G4599)","v":0}]
[null,{"$f":"Data!$C$18","v":"Totaal kaarten:"},{"$f":"C4577","v":0},"x",{"$f":"Data!$F$18","v":3},"=",{"$f":"-(C4601*E4601)","v":0}]
[]
[]
[null,{"$f":"Data!$C$21","v":"Totaal te betalen:"},null,null,null,null,{"$f":"G4600+G4601","v":0}]
[]
[{"$f":"Data!$A$23","v":"TGV Opstal dankt u voor uw aanwezigheid!  Eet smakelijk!"}]
["Fietsclub TGV Opstal",null,null,null,null,null,"Tafel nr:"]
[{"$f":"A4561+1","v":99},null,null,null,null,null,null,null,null,null,null,{"$f":"A4608","v":99}]
[]
[{"$f":"Data!$B$4","v":"Kalkoenfilet"},null,null,null,null,null,null,null,null,null,null,"Kalkoenfilet"]
[null,{"$f":"Data!$C$5","v":"Natuur"},null,"x",{"$f":"Data!$F$5","v":17},"=",{"$f":"C4611*E4611","v":0},null,null,null,null,null,"Natuur",null,{"$f":"C4611","v":0}]
[null,{"$f":"Data!$C$6","v":"Champignons"},null,"x",{"$f":"Data!$F$6","v":17},"=",{"$f":"C4612*E4612","v":0},null,null,null,null,null,"Champignons",null,null,{"$f":"C4612","v":0}]
[null,{"$f":"Data!$C$7","v":"Peper"},null,"x",{"$f":"Data!$F$7","v":17},"=",{"$f":"C4613*E4613","v":0},null,null,null,null,null,"Peper",null,null,null,{"$f":"C4613","v":0}]
[]
[{"$f":"Data!$B$9","v":"Kabeljauwhaasje"},null,null,"x",{"$f":"Data!$F$9","v":17},"=",{"$f":"C4615*E4615","v":0},null,null,null,null,"Kabeljauwhaasje",null,null,null,null,null,{"$f":"C4615","v":0}]
[]
[{"$f":"Data!$B$11","v":"Kindermenu"},null,null,null,null,null,null,null,null,null,null,"Kindermenu"]
[null,{"$f":"Data!$C$12","v":"Natuur"},null,"x",{"$f":"Data!$F$12","v":8},"=",{"$f":"C4618*E4618","v":0},null,null,null,null,null,"Natuur",null,null,null,null,null,{"$f":"C4618","v":0}]
[null,{"$f":"Data!$C$13","v":"Champignons"},null,"x",{"$f":"Data!$F$13","v":8},"=",{"$f":"C4619*E4619","v":0},null,null,null,null,null,"Champignons",null,null,null,null,null,null,{"$f":"C4619","v":0}]
[null,{"$f":"Data!$C$14","v":"Peper"},null,"x",{"$f":"Data!$F$14","v":8},"=",0,null,null,null,null,null,"Peper",null,null,null,null,null,null,null,{"$f":"C4620","v":0}]
[null,{"$f":"Data!$C$15","v":"Kabeljauwhaasje"},null,"x",{"$f":"Data!$F$15","v":8},"=",0,null,null,null,null,null,"Kabeljauwhaasje",null,null,null,null,null,null,null,null,{"$f":"C4621","v":0}]
[]
[null,{"$f":"Data!$C$17","v":"Totaal eten:"},null,null,null,null,{"$f":"SUM(G4611:G4622)","v":0},null,null,null,null,null,"Totaal eten:",null,null,null,null,null,null,null,null,null,{"$f":"G4623","v":0}]
[null,{"$f":"Data!$C$18","v":"Totaal kaarten:"},null,"x",{"$f":"Data!$F$18","v":3},"=",{"$f":"-(C4624*E4624)","v":0}]
[null,null,null,null,null,null,null,null,null,null,null,null,"Totaal kaarten (bedrag):",null,null,null,null,null,null,null,null,null,null,{"$f":"C4624","v":0}]
[]
[null,{"$f":"Data!$C$21","v":"Totaal te betalen:"},null,null,null,null,{"$f":"G4623+G4624","v":0},null,null,null,null,null,"Totaal te betalen:",null,null,null,null,null,null,null,null,null,null,null,{"$f":"G4627","v":0}]
[]
[{"$f":"Data!$A$23","v":"TGV Opstal dankt u voor uw aanwezigheid!  Eet smakelijk!"}]
[]
["Fietsclub TGV Opstal",null,null,null,null,null,"Tafel nr:"]
[{"$f":"A4608","v":99}]
[]
[{"$f":"Data!$B$4","v":"Kalkoenfilet"}]
[null,{"$f":"Data!$C$5","v":"Natuur"},{"$f":"C4611","v":0},"x",{"$f":"Data!$F$5","v":17},"=",{"$f":"C4635*E4635","v":0}]
[null,{"$f":"Data!$C$6","v":"Champignons"},{"$f":"C4612","v":0},"x",{"$f":"Data!$F$6","v":17},"=",{"$f":"C4636*E4636","v":0}]
[null,{"$f":"Data!$C$7","v":"Peper"},0,"x",{"$f":"Data!$F$7","v":17},"=",{"$f":"C4637*E4637","v":0}]
[]
[{"$f":"Data!$B$9","v":"Kabeljauwhaasje"},null,0,"x",{"$f":"Data!$F$9","v":17},"=",{"$f":"C4639*E4639","v":0}]
[]
[{"$f":"Data!$B$11","v":"Kindermenu"}]
[null,{"$f":"Data!$C$12","v":"Natuur"},0,"x",{"$f":"Data!$F$12","v":8},"=",{"$f":"C4642*E4642","v":0}]
[null,{"$f":"Data!$C$13","v":"Champignons"},0,"x",{"$f":"Data!$F$13","v":8},"=",{"$f":"C4643*E4643","v":0}]
[null,{"$f":"Data!$C$14","v":"Peper"},0,"x",{"$f":"Data!$F$14","v":8},"=",0]
[null,{"$f":"Data!$C$15","v":"Kabeljauwhaasje"},0,"x",{"$f":"Data!$F$15","v":8},"=",0]
[]
[null,{"$f":"Data!$C$17","v":"Totaal eten:"},null,null,null,null,{"$f":"SUM(G4635:G4646)","v":0}]
[null,{"$f":"Data!$C$18","v":"Totaal kaarten:"},{"$f":"C4624","v":0},"x",{"$f":"Data!$F$18","v":3},"=",{"$f":"-(C4648*E4648)","v":0}]
[]
[]
[null,{"$f":"Data!$C$21","v":"Totaal te betalen:"},null,null,null,null,{"$f":"G4647+G4648","v":0}]
[]
[{"$f":"Data!$A$23","v":"TGV Opstal dankt u voor uw aanwezigheid!  Eet smakelijk!"}]
["Fietsclub TGV Opstal",null,null,null,null,null,"Tafel nr:"]
[{"$f":"A4608+1","v":100},null,null,null,null,null,null,null,null,null,null,{"$f":"A4655","v":100}]
[]
[{"$f":"Data!$B$4","v":"Kalkoenfilet"},null,null,null,null,null,null,null,null,null,null,"Kalkoenfilet"]
[null,{"$f":"Data!$C$5","v":"Natuur"},null,"x",{"$f":"Data!$F$5","v":17},"=",{"$f":"C4658*E4658","v":0},null,null,null,null,null,"Natuur",null,{"$f":"C4658","v":0}]
[null,{"$f":"Data!$C$6","v":"Champignons"},null,"x",{"$f":"Data!$F$6","v":17},"=",{"$f":"C4659*E4659","v":0},null,null,null,null,null,"Champignons",null,null,{"$f":"C4659","v":0}]
[null,{"$f":"Data!$C$7","v":"Peper"},null,"x",{"$f":"Data!$F$7","v":17},"=",{"$f":"C4660*E4660","v":0},null,null,null,null,null,"Peper",null,null,null,{"$f":"C4660","v":0}]
[]
[{"$f":"Data!$B$9","v":"Kabeljauwhaasje"},null,null,"x",{"$f":"Data!$F$9","v":17},"=",{"$f":"C4662*E4662","v":0},null,null,null,null,"Kabeljauwhaasje",null,null,null,null,null,{"$f":"C4662","v":0}]
[]
[{"$f":"Data!$B$11","v":"Kindermenu"},null,null,null,null,null,null,null,null,null,null,"Kindermenu"]
[null,{"$f":"Data!$C$12","v":"Natuur"},null,"x",{"$f":"Data!$F$12","v":8},"=",{"$f":"C4665*E4665","v":0},null,null,null,null,null,"Natuur",null,null,null,null,null,{"$f":"C4665","v":0}]
[null,{"$f":"Data!$C$13","v":"Champignons"},null,"x",{"$f":"Data!$F$13","v":8},"=",{"$f":"C4666*E4666","v":0},null,null,null,null,null,"Champignons",null,null,null,null,null,null,{"$f":"C4666","v":0}]
[null,{"$f":"Data!$C$14","v":"Peper"},null,"x",{"$f":"Data!$F$14","v":8},"=",0,null,null,null,null,null,"Peper",null,null,null,null,null,null,null,{"$f":"C4667","v":0}]
[null,{"$f":"Data!$C$15","v":"Kabeljauwhaasje"},null,"x",{"$f":"Data!$F$15","v":8},"=",0,null,null,null,null,null,"Kabeljauwhaasje",null,null,null,null,null,null,null,null,{"$f":"C4668","v":0}]
[]
[null,{"$f":"Data!$C$17","v":"Totaal eten:"},null,null,null,null,{"$f":"SUM(G4658:G4669)","v":0},null,null,null,null,null,"Totaal eten:",null,null,null,null,null,null,null,null,null,{"$f":"G4670","v":0}]
[null,{"$f":"Data!$C$18","v":"Totaal kaarten:"},null,"x",{"$f":"Data!$F$18","v":3},"=",{"$f":"-(C4671*E4671)","v":0}]
[null,null,null,null,null,null,null,null,null,null,null,null,"Totaal kaarten (bedrag):",null,null,null,null,null,null,null,null,null,null,{"$f":"C4671","v":0}]
[]
[null,{"$f":"Data!$C$21","v":"Totaal te betalen:"},null,null,null,null,{"$f":"G4670+G4671","v":0},null,null,null,null,null,"Totaal te betalen:",null,null,null,null,null,null,null,null,null,null,null,{"$f":"G4674","v":0}]
[]
[{"$f":"Data!$A$23","v":"TGV Opstal dankt u voor uw aanwezigheid!  Eet smakelijk!"}]
[]
["Fietsclub TGV Opstal",null,null,null,null,null,"Tafel nr:"]
[{"$f":"A4655","v":100}]
[]
[{"$f":"Data!$B$4","v":"Kalkoenfilet"}]
[null,{"$f":"Data!$C$5","v":"Natuur"},{"$f":"C4658","v":0},"x",{"$f":"Data!$F$5","v":17},"=",{"$f":"C4682*E4682","v":0}]
[null,{"$f":"Data!$C$6","v":"Champignons"},{"$f":"C4659","v":0},"x",{"$f":"Data!$F$6","v":17},"=",{"$f":"C4683*E4683","v":0}]
[null,{"$f":"Data!$C$7","v":"Peper"},0,"x",{"$f":"Data!$F$7","v":17},"=",{"$f":"C4684*E4684","v":0}]
[]
[{"$f":"Data!$B$9","v":"Kabeljauwhaasje"},null,0,"x",{"$f":"Data!$F$9","v":17},"=",{"$f":"C4686*E4686","v":0}]
[]
[{"$f":"Data!$B$11","v":"Kindermenu"}]
[null,{"$f":"Data!$C$12","v":"Natuur"},0,"x",{"$f":"Data!$F$12","v":8},"=",{"$f":"C4689*E4689","v":0}]
[null,{"$f":"Data!$C$13","v":"Champignons"},0,"x",{"$f":"Data!$F$13","v":8},"=",{"$f":"C4690*E4690","v":0}]
[null,{"$f":"Data!$C$14","v":"Peper"},0,"x",{"$f":"Data!$F$14","v":8},"=",0]
[null,{"$f":"Data!$C$15","v":"Kabeljauwhaasje"},0,"x",{"$f":"Data!$F$15","v":8},"=",0]
[]
[null,{"$f":"Data!$C$17","v":"Totaal eten:"},null,null,null,null,{"$f":"SUM(G4682:G4693)","v":0}]
[null,{"$f":"Data!$C$18","v":"Totaal kaarten:"},{"$f":"C4671","v":0},"x",{"$f":"Data!$F$18","v":3},"=",{"$f":"-(C4695*E4695)","v":0}]
[]
[]
[null,{"$f":"Data!$C$21","v":"Totaal te betalen:"},null,null,null,null,{"$f":"G4694+G4695","v":0}]
[]
[{"$f":"Data!$A$23","v":"TGV Opstal dankt u voor uw aanwezigheid!  Eet smakelijk!"}]
["Fietsclub TGV Opstal",null,null,null,null,null,"Tafel nr:"]
[{"$f":"A4655+1","v":101},null,null,null,null,null,null,null,null,null,null,{"$f":"A4702","v":101}]
[]
[{"$f":"Data!$B$4","v":"Kalkoenfilet"},null,null,null,null,null,null,null,null,null,null,"Kalkoenfilet"]
[null,{"$f":"Data!$C$5","v":"Natuur"},null,"x",{"$f":"Data!$F$5","v":17},"=",{"$f":"C4705*E4705","v":0},null,null,null,null,null,"Natuur",null,{"$f":"C4705","v":0}]
[null,{"$f":"Data!$C$6","v":"Champignons"},null,"x",{"$f":"Data!$F$6","v":17},"=",{"$f":"C4706*E4706","v":0},null,null,null,null,null,"Champignons",null,null,{"$f":"C4706","v":0}]
[null,{"$f":"Data!$C$7","v":"Peper"},null,"x",{"$f":"Data!$F$7","v":17},"=",{"$f":"C4707*E4707","v":0},null,null,null,null,null,"Peper",null,null,null,{"$f":"C4707","v":0}]
[]
[{"$f":"Data!$B$9","v":"Kabeljauwhaasje"},null,null,"x",{"$f":"Data!$F$9","v":17},"=",{"$f":"C4709*E4709","v":0},null,null,null,null,"Kabeljauwhaasje",null,null,null,null,null,{"$f":"C4709","v":0}]
[]
[{"$f":"Data!$B$11","v":"Kindermenu"},null,null,null,null,null,null,null,null,null,null,"Kindermenu"]
[null,{"$f":"Data!$C$12","v":"Natuur"},null,"x",{"$f":"Data!$F$12","v":8},"=",{"$f":"C4712*E4712","v":0},null,null,null,null,null,"Natuur",null,null,null,null,null,{"$f":"C4712","v":0}]
[null,{"$f":"Data!$C$13","v":"Champignons"},null,"x",{"$f":"Data!$F$13","v":8},"=",{"$f":"C4713*E4713","v":0},null,null,null,null,null,"Champignons",null,null,null,null,null,null,{"$f":"C4713","v":0}]
[null,{"$f":"Data!$C$14","v":"Peper"},null,"x",{"$f":"Data!$F$14","v":8},"=",0,null,null,null,null,null,"Peper",null,null,null,null,null,null,null,{"$f":"C4714","v":0}]
[null,{"$f":"Data!$C$15","v":"Kabeljauwhaasje"},null,"x",{"$f":"Data!$F$15","v":8},"=",0,null,null,null,null,null,"Kabeljauwhaasje",null,null,null,null,null,null,null,null,{"$f":"C4715","v":0}]
[]
[null,{"$f":"Data!$C$17","v":"Totaal eten:"},null,null,null,null,{"$f":"SUM(G4705:G4716)","v":0},null,null,null,null,null,"Totaal eten:",null,null,null,null,null,null,null,null,null,{"$f":"G4717","v":0}]
[null,{"$f":"Data!$C$18","v":"Totaal kaarten:"},null,"x",{"$f":"Data!$F$18","v":3},"=",{"$f":"-(C4718*E4718)","v":0}]
[null,null,null,null,null,null,null,null,null,null,null,null,"Totaal kaarten (bedrag):",null,null,null,null,null,null,null,null,null,null,{"$f":"C4718","v":0}]
[]
[null,{"$f":"Data!$C$21","v":"Totaal te betalen:"},null,null,null,null,{"$f":"G4717+G4718","v":0},null,null,null,null,null,"Totaal te betalen:",null,null,null,null,null,null,null,null,null,null,null,{"$f":"G4721","v":0}]
[]
[{"$f":"Data!$A$23","v":"TGV Opstal dankt u voor uw aanwezigheid!  Eet smakelijk!"}]
[]
["Fietsclub TGV Opstal",null,null,null,null,null,"Tafel nr:"]
[{"$f":"A4702","v":101}]
[]
[{"$f":"Data!$B$4","v":"Kalkoenfilet"}]
[null,{"$f":"Data!$C$5","v":"Natuur"},{"$f":"C4705","v":0},"x",{"$f":"Data!$F$5","v":17},"=",{"$f":"C4729*E4729","v":0}]
[null,{"$f":"Data!$C$6","v":"Champignons"},{"$f":"C4706","v":0},"x",{"$f":"Data!$F$6","v":17},"=",{"$f":"C4730*E4730","v":0}]
[null,{"$f":"Data!$C$7","v":"Peper"},0,"x",{"$f":"Data!$F$7","v":17},"=",{"$f":"C4731*E4731","v":0}]
[]
[{"$f":"Data!$B$9","v":"Kabeljauwhaasje"},null,0,"x",{"$f":"Data!$F$9","v":17},"=",{"$f":"C4733*E4733","v":0}]
[]
[{"$f":"Data!$B$11","v":"Kindermenu"}]
[null,{"$f":"Data!$C$12","v":"Natuur"},0,"x",{"$f":"Data!$F$12","v":8},"=",{"$f":"C4736*E4736","v":0}]
[null,{"$f":"Data!$C$13","v":"Champignons"},0,"x",{"$f":"Data!$F$13","v":8},"=",{"$f":"C4737*E4737","v":0}]
[null,{"$f":"Data!$C$14","v":"Peper"},0,"x",{"$f":"Data!$F$14","v":8},"=",0]
[null,{"$f":"Data!$C$15","v":"Kabeljauwhaasje"},0,"x",{"$f":"Data!$F$15","v":8},"=",0]
[]
[null,{"$f":"Data!$C$17","v":"Totaal eten:"},null,null,null,null,{"$f":"SUM(G4729:G4740)","v":0}]
[null,{"$f":"Data!$C$18","v":"Totaal kaarten:"},{"$f":"C4718","v":0},"x",{"$f":"Data!$F$18","v":3},"=",{"$f":"-(C4742*E4742)","v":0}]
[]
[]
[null,{"$f":"Data!$C$21","v":"Totaal te betalen:"},null,null,null,null,{"$f":"G4741+G4742","v":0}]
[]
[{"$f":"Data!$A$23","v":"TGV Opstal dankt u voor uw aanwezigheid!  Eet smakelijk!"}]
["Fietsclub TGV Opstal",null,null,null,null,null,"Tafel nr:"]
[{"$f":"A4702+1","v":102},null,null,null,null,null,null,null,null,null,null,{"$f":"A4749","v":102}]
[]
[{"$f":"Data!$B$4","v":"Kalkoenfilet"},null,null,null,null,null,null,null,null,null,null,"Kalkoenfilet"]
[null,{"$f":"Data!$C$5","v":"Natuur"},null,"x",{"$f":"Data!$F$5","v":17},"=",{"$f":"C4752*E4752","v":0},null,null,null,null,null,"Natuur",null,{"$f":"C4752","v":0}]
[null,{"$f":"Data!$C$6","v":"Champignons"},null,"x",{"$f":"Data!$F$6","v":17},"=",{"$f":"C4753*E4753","v":0},null,null,null,null,null,"Champignons",null,null,{"$f":"C4753","v":0}]
[null,{"$f":"Data!$C$7","v":"Peper"},null,"x",{"$f":"Data!$F$7","v":17},"=",{"$f":"C4754*E4754","v":0},null,null,null,null,null,"Peper",null,null,null,{"$f":"C4754","v":0}]
[]
[{"$f":"Data!$B$9","v":"Kabeljauwhaasje"},null,null,"x",{"$f":"Data!$F$9","v":17},"=",{"$f":"C4756*E4756","v":0},null,null,null,null,"Kabeljauwhaasje",null,null,null,null,null,{"$f":"C4756","v":0}]
[]
[{"$f":"Data!$B$11","v":"Kindermenu"},null,null,null,null,null,null,null,null,null,null,"Kindermenu"]
[null,{"$f":"Data!$C$12","v":"Natuur"},null,"x",{"$f":"Data!$F$12","v":8},"=",{"$f":"C4759*E4759","v":0},null,null,null,null,null,"Natuur",null,null,null,null,null,{"$f":"C4759","v":0}]
[null,{"$f":"Data!$C$13","v":"Champignons"},null,"x",{"$f":"Data!$F$13","v":8},"=",{"$f":"C4760*E4760","v":0},null,null,null,null,null,"Champignons",null,null,null,null,null,null,{"$f":"C4760","v":0}]
[null,{"$f":"Data!$C$14","v":"Peper"},null,"x",{"$f":"Data!$F$14","v":8},"=",0,null,null,null,null,null,"Peper",null,null,null,null,null,null,null,{"$f":"C4761","v":0}]
[null,{"$f":"Data!$C$15","v":"Kabeljauwhaasje"},null,"x",{"$f":"Data!$F$15","v":8},"=",0,null,null,null,null,null,"Kabeljauwhaasje",null,null,null,null,null,null,null,null,{"$f":"C4762","v":0}]
[]
[null,{"$f":"Data!$C$17","v":"Totaal eten:"},null,null,null,null,{"$f":"SUM(G4752:G4763)","v":0},null,null,null,null,null,"Totaal eten:",null,null,null,null,null,null,null,null,null,{"$f":"G4764","v":0}]
[null,{"$f":"Data!$C$18","v":"Totaal kaarten:"},null,"x",{"$f":"Data!$F$18","v":3},"=",{"$f":"-(C4765*E4765)","v":0}]
[null,null,null,null,null,null,null,null,null,null,null,null,"Totaal kaarten (bedrag):",null,null,null,null,null,null,null,null,null,null,{"$f":"C4765","v":0}]
[]
[null,{"$f":"Data!$C$21","v":"Totaal te betalen:"},null,null,null,null,{"$f":"G4764+G4765","v":0},null,null,null,null,null,"Totaal te betalen:",null,null,null,null,null,null,null,null,null,null,null,{"$f":"G4768","v":0}]
[]
[{"$f":"Data!$A$23","v":"TGV Opstal dankt u voor uw aanwezigheid!  Eet smakelijk!"}]
[]
["Fietsclub TGV Opstal",null,null,null,null,null,"Tafel nr:"]
[{"$f":"A4749","v":102}]
[]
[{"$f":"Data!$B$4","v":"Kalkoenfilet"}]
[null,{"$f":"Data!$C$5","v":"Natuur"},{"$f":"C4752","v":0},"x",{"$f":"Data!$F$5","v":17},"=",{"$f":"C4776*E4776","v":0}]
[null,{"$f":"Data!$C$6","v":"Champignons"},{"$f":"C4753","v":0},"x",{"$f":"Data!$F$6","v":17},"=",{"$f":"C4777*E4777","v":0}]
[null,{"$f":"Data!$C$7","v":"Peper"},0,"x",{"$f":"Data!$F$7","v":17},"=",{"$f":"C4778*E4778","v":0}]
[]
[{"$f":"Data!$B$9","v":"Kabeljauwhaasje"},null,0,"x",{"$f":"Data!$F$9","v":17},"=",{"$f":"C4780*E4780","v":0}]
[]
[{"$f":"Data!$B$11","v":"Kindermenu"}]
[null,{"$f":"Data!$C$12","v":"Natuur"},0,"x",{"$f":"Data!$F$12","v":8},"=",{"$f":"C4783*E4783","v":0}]
[null,{"$f":"Data!$C$13","v":"Champignons"},0,"x",{"$f":"Data!$F$13","v":8},"=",{"$f":"C4784*E4784","v":0}]
[null,{"$f":"Data!$C$14","v":"Peper"},0,"x",{"$f":"Data!$F$14","v":8},"=",0]
[null,{"$f":"Data!$C$15","v":"Kabeljauwhaasje"},0,"x",{"$f":"Data!$F$15","v":8},"=",0]
[]
[null,{"$f":"Data!$C$17","v":"Totaal eten:"},null,null,null,null,{"$f":"SUM(G4776:G4787)","v":0}]
[null,{"$f":"Data!$C$18","v":"Totaal kaarten:"},{"$f":"C4765","v":0},"x",{"$f":"Data!$F$18","v":3},"=",{"$f":"-(C4789*E4789)","v":0}]
[]
[]
[null,{"$f":"Data!$C$21","v":"Totaal te betalen:"},null,null,null,null,{"$f":"G4788+G4789","v":0}]
[]
[{"$f":"Data!$A$23","v":"TGV Opstal dankt u voor uw aanwezigheid!  Eet smakelijk!"}]
["Fietsclub TGV Opstal",null,null,null,null,null,"Tafel nr:"]
[{"$f":"A4749+1","v":103},null,null,null,null,null,null,null,null,null,null,{"$f":"A4796","v":103}]
[]
[{"$f":"Data!$B$4","v":"Kalkoenfilet"},null,null,null,null,null,null,null,null,null,null,"Kalkoenfilet"]
[null,{"$f":"Data!$C$5","v":"Natuur"},null,"x",{"$f":"Data!$F$5","v":17},"=",{"$f":"C4799*E4799","v":0},null,null,null,null,null,"Natuur",null,{"$f":"C4799","v":0}]
[null,{"$f":"Data!$C$6","v":"Champignons"},null,"x",{"$f":"Data!$F$6","v":17},"=",{"$f":"C4800*E4800","v":0},null,null,null,null,null,"Champignons",null,null,{"$f":"C4800","v":0}]
[null,{"$f":"Data!$C$7","v":"Peper"},null,"x",{"$f":"Data!$F$7","v":17},"=",{"$f":"C4801*E4801","v":0},null,null,null,null,null,"Peper",null,null,null,{"$f":"C4801","v":0}]
[]
[{"$f":"Data!$B$9","v":"Kabeljauwhaasje"},null,null,"x",{"$f":"Data!$F$9","v":17},"=",{"$f":"C4803*E4803","v":0},null,null,null,null,"Kabeljauwhaasje",null,null,null,null,null,{"$f":"C4803","v":0}]
[]
[{"$f":"Data!$B$11","v":"Kindermenu"},null,null,null,null,null,null,null,null,null,null,"Kindermenu"]
[null,{"$f":"Data!$C$12","v":"Natuur"},null,"x",{"$f":"Data!$F$12","v":8},"=",{"$f":"C4806*E4806","v":0},null,null,null,null,null,"Natuur",null,null,null,null,null,{"$f":"C4806","v":0}]
[null,{"$f":"Data!$C$13","v":"Champignons"},null,"x",{"$f":"Data!$F$13","v":8},"=",{"$f":"C4807*E4807","v":0},null,null,null,null,null,"Champignons",null,null,null,null,null,null,{"$f":"C4807","v":0}]
[null,{"$f":"Data!$C$14","v":"Peper"},null,"x",{"$f":"Data!$F$14","v":8},"=",0,null,null,null,null,null,"Peper",null,null,null,null,null,null,null,{"$f":"C4808","v":0}]
[null,{"$f":"Data!$C$15","v":"Kabeljauwhaasje"},null,"x",{"$f":"Data!$F$15","v":8},"=",0,null,null,null,null,null,"Kabeljauwhaasje",null,null,null,null,null,null,null,null,{"$f":"C4809","v":0}]
[]
[null,{"$f":"Data!$C$17","v":"Totaal eten:"},null,null,null,null,{"$f":"SUM(G4799:G4810)","v":0},null,null,null,null,null,"Totaal eten:",null,null,null,null,null,null,null,null,null,{"$f":"G4811","v":0}]
[null,{"$f":"Data!$C$18","v":"Totaal kaarten:"},null,"x",{"$f":"Data!$F$18","v":3},"=",{"$f":"-(C4812*E4812)","v":0}]
[null,null,null,null,null,null,null,null,null,null,null,null,"Totaal kaarten (bedrag):",null,null,null,null,null,null,null,null,null,null,{"$f":"C4812","v":0}]
[]
[null,{"$f":"Data!$C$21","v":"Totaal te betalen:"},null,null,null,null,{"$f":"G4811+G4812","v":0},null,null,null,null,null,"Totaal te betalen:",null,null,null,null,null,null,null,null,null,null,null,{"$f":"G4815","v":0}]
[]
[{"$f":"Data!$A$23","v":"TGV Opstal dankt u voor uw aanwezigheid!  Eet smakelijk!"}]
[]
["Fietsclub TGV Opstal",null,null,null,null,null,"Tafel nr:"]
[{"$f":"A4796","v":103}]
[]
[{"$f":"Data!$B$4","v":"Kalkoenfilet"}]
[null,{"$f":"Data!$C$5","v":"Natuur"},{"$f":"C4799","v":0},"x",{"$f":"Data!$F$5","v":17},"=",{"$f":"C4823*E4823","v":0}]
[null,{"$f":"Data!$C$6","v":"Champignons"},{"$f":"C4800","v":0},"x",{"$f":"Data!$F$6","v":17},"=",{"$f":"C4824*E4824","v":0}]
[null,{"$f":"Data!$C$7","v":"Peper"},0,"x",{"$f":"Data!$F$7","v":17},"=",{"$f":"C4825*E4825","v":0}]
[]
[{"$f":"Data!$B$9","v":"Kabeljauwhaasje"},null,0,"x",{"$f":"Data!$F$9","v":17},"=",{"$f":"C4827*E4827","v":0}]
[]
[{"$f":"Data!$B$11","v":"Kindermenu"}]
[null,{"$f":"Data!$C$12","v":"Natuur"},0,"x",{"$f":"Data!$F$12","v":8},"=",{"$f":"C4830*E4830","v":0}]
[null,{"$f":"Data!$C$13","v":"Champignons"},0,"x",{"$f":"Data!$F$13","v":8},"=",{"$f":"C4831*E4831","v":0}]
[null,{"$f":"Data!$C$14","v":"Peper"},0,"x",{"$f":"Data!$F$14","v":8},"=",0]
[null,{"$f":"Data!$C$15","v":"Kabeljauwhaasje"},0,"x",{"$f":"Data!$F$15","v":8},"=",0]
[]
[null,{"$f":"Data!$C$17","v":"Totaal eten:"},null,null,null,null,{"$f":"SUM(G4823:G4834)","v":0}]
[null,{"$f":"Data!$C$18","v":"Totaal kaarten:"},{"$f":"C4812","v":0},"x",{"$f":"Data!$F$18","v":3},"=",{"$f":"-(C4836*E4836)","v":0}]
[]
[]
[null,{"$f":"Data!$C$21","v":"Totaal te betalen:"},null,null,null,null,{"$f":"G4835+G4836","v":0}]
[]
[{"$f":"Data!$A$23","v":"TGV Opstal dankt u voor uw aanwezigheid!  Eet smakelijk!"}]
["Fietsclub TGV Opstal",null,null,null,null,null,"Tafel nr:"]
[{"$f":"A4796+1","v":104},null,null,null,null,null,null,null,null,null,null,{"$f":"A4843","v":104}]
[]
[{"$f":"Data!$B$4","v":"Kalkoenfilet"},null,null,null,null,null,null,null,null,null,null,"Kalkoenfilet"]
[null,{"$f":"Data!$C$5","v":"Natuur"},null,"x",{"$f":"Data!$F$5","v":17},"=",{"$f":"C4846*E4846","v":0},null,null,null,null,null,"Natuur",null,{"$f":"C4846","v":0}]
[null,{"$f":"Data!$C$6","v":"Champignons"},null,"x",{"$f":"Data!$F$6","v":17},"=",{"$f":"C4847*E4847","v":0},null,null,null,null,null,"Champignons",null,null,{"$f":"C4847","v":0}]
[null,{"$f":"Data!$C$7","v":"Peper"},null,"x",{"$f":"Data!$F$7","v":17},"=",{"$f":"C4848*E4848","v":0},null,null,null,null,null,"Peper",null,null,null,{"$f":"C4848","v":0}]
[]
[{"$f":"Data!$B$9","v":"Kabeljauwhaasje"},null,null,"x",{"$f":"Data!$F$9","v":17},"=",{"$f":"C4850*E4850","v":0},null,null,null,null,"Kabeljauwhaasje",null,null,null,null,null,{"$f":"C4850","v":0}]
[]
[{"$f":"Data!$B$11","v":"Kindermenu"},null,null,null,null,null,null,null,null,null,null,"Kindermenu"]
[null,{"$f":"Data!$C$12","v":"Natuur"},null,"x",{"$f":"Data!$F$12","v":8},"=",{"$f":"C4853*E4853","v":0},null,null,null,null,null,"Natuur",null,null,null,null,null,{"$f":"C4853","v":0}]
[null,{"$f":"Data!$C$13","v":"Champignons"},null,"x",{"$f":"Data!$F$13","v":8},"=",{"$f":"C4854*E4854","v":0},null,null,null,null,null,"Champignons",null,null,null,null,null,null,{"$f":"C4854","v":0}]
[null,{"$f":"Data!$C$14","v":"Peper"},null,"x",{"$f":"Data!$F$14","v":8},"=",0,null,null,null,null,null,"Peper",null,null,null,null,null,null,null,{"$f":"C4855","v":0}]
[null,{"$f":"Data!$C$15","v":"Kabeljauwhaasje"},null,"x",{"$f":"Data!$F$15","v":8},"=",0,null,null,null,null,null,"Kabeljauwhaasje",null,null,null,null,null,null,null,null,{"$f":"C4856","v":0}]
[]
[null,{"$f":"Data!$C$17","v":"Totaal eten:"},null,null,null,null,{"$f":"SUM(G4846:G4857)","v":0},null,null,null,null,null,"Totaal eten:",null,null,null,null,null,null,null,null,null,{"$f":"G4858","v":0}]
[null,{"$f":"Data!$C$18","v":"Totaal kaarten:"},null,"x",{"$f":"Data!$F$18","v":3},"=",{"$f":"-(C4859*E4859)","v":0}]
[null,null,null,null,null,null,null,null,null,null,null,null,"Totaal kaarten (bedrag):",null,null,null,null,null,null,null,null,null,null,{"$f":"C4859","v":0}]
[]
[null,{"$f":"Data!$C$21","v":"Totaal te betalen:"},null,null,null,null,{"$f":"G4858+G4859","v":0},null,null,null,null,null,"Totaal te betalen:",null,null,null,null,null,null,null,null,null,null,null,{"$f":"G4862","v":0}]
[]
[{"$f":"Data!$A$23","v":"TGV Opstal dankt u voor uw aanwezigheid!  Eet smakelijk!"}]
[]
["Fietsclub TGV Opstal",null,null,null,null,null,"Tafel nr:"]
[{"$f":"A4843","v":104}]
[]
[{"$f":"Data!$B$4","v":"Kalkoenfilet"}]
[null,{"$f":"Data!$C$5","v":"Natuur"},{"$f":"C4846","v":0},"x",{"$f":"Data!$F$5","v":17},"=",{"$f":"C4870*E4870","v":0}]
[null,{"$f":"Data!$C$6","v":"Champignons"},{"$f":"C4847","v":0},"x",{"$f":"Data!$F$6","v":17},"=",{"$f":"C4871*E4871","v":0}]
[null,{"$f":"Data!$C$7","v":"Peper"},0,"x",{"$f":"Data!$F$7","v":17},"=",{"$f":"C4872*E4872","v":0}]
[]
[{"$f":"Data!$B$9","v":"Kabeljauwhaasje"},null,0,"x",{"$f":"Data!$F$9","v":17},"=",{"$f":"C4874*E4874","v":0}]
[]
[{"$f":"Data!$B$11","v":"Kindermenu"}]
[null,{"$f":"Data!$C$12","v":"Natuur"},0,"x",{"$f":"Data!$F$12","v":8},"=",{"$f":"C4877*E4877","v":0}]
[null,{"$f":"Data!$C$13","v":"Champignons"},0,"x",{"$f":"Data!$F$13","v":8},"=",{"$f":"C4878*E4878","v":0}]
[null,{"$f":"Data!$C$14","v":"Peper"},0,"x",{"$f":"Data!$F$14","v":8},"=",0]
[null,{"$f":"Data!$C$15","v":"Kabeljauwhaasje"},0,"x",{"$f":"Data!$F$15","v":8},"=",0]
[]
[null,{"$f":"Data!$C$17","v":"Totaal eten:"},null,null,null,null,{"$f":"SUM(G4870:G4881)","v":0}]
[null,{"$f":"Data!$C$18","v":"Totaal kaarten:"},{"$f":"C4859","v":0},"x",{"$f":"Data!$F$18","v":3},"=",{"$f":"-(C4883*E4883)","v":0}]
[]
[]
[null,{"$f":"Data!$C$21","v":"Totaal te betalen:"},null,null,null,null,{"$f":"G4882+G4883","v":0}]
[]
[{"$f":"Data!$A$23","v":"TGV Opstal dankt u voor uw aanwezigheid!  Eet smakelijk!"}]
["Fietsclub TGV Opstal",null,null,null,null,null,"Tafel nr:"]
[{"$f":"A4843+1","v":105},null,null,null,null,null,null,null,null,null,null,{"$f":"A4890","v":105}]
[]
[{"$f":"Data!$B$4","v":"Kalkoenfilet"},null,null,null,null,null,null,null,null,null,null,"Kalkoenfilet"]
[null,{"$f":"Data!$C$5","v":"Natuur"},null,"x",{"$f":"Data!$F$5","v":17},"=",{"$f":"C4893*E4893","v":0},null,null,null,null,null,"Natuur",null,{"$f":"C4893","v":0}]
[null,{"$f":"Data!$C$6","v":"Champignons"},null,"x",{"$f":"Data!$F$6","v":17},"=",{"$f":"C4894*E4894","v":0},null,null,null,null,null,"Champignons",null,null,{"$f":"C4894","v":0}]
[null,{"$f":"Data!$C$7","v":"Peper"},null,"x",{"$f":"Data!$F$7","v":17},"=",{"$f":"C4895*E4895","v":0},null,null,null,null,null,"Peper",null,null,null,{"$f":"C4895","v":0}]
[]
[{"$f":"Data!$B$9","v":"Kabeljauwhaasje"},null,null,"x",{"$f":"Data!$F$9","v":17},"=",{"$f":"C4897*E4897","v":0},null,null,null,null,"Kabeljauwhaasje",null,null,null,null,null,{"$f":"C4897","v":0}]
[]
[{"$f":"Data!$B$11","v":"Kindermenu"},null,null,null,null,null,null,null,null,null,null,"Kindermenu"]
[null,{"$f":"Data!$C$12","v":"Natuur"},null,"x",{"$f":"Data!$F$12","v":8},"=",{"$f":"C4900*E4900","v":0},null,null,null,null,null,"Natuur",null,null,null,null,null,{"$f":"C4900","v":0}]
[null,{"$f":"Data!$C$13","v":"Champignons"},null,"x",{"$f":"Data!$F$13","v":8},"=",{"$f":"C4901*E4901","v":0},null,null,null,null,null,"Champignons",null,null,null,null,null,null,{"$f":"C4901","v":0}]
[null,{"$f":"Data!$C$14","v":"Peper"},null,"x",{"$f":"Data!$F$14","v":8},"=",0,null,null,null,null,null,"Peper",null,null,null,null,null,null,null,{"$f":"C4902","v":0}]
[null,{"$f":"Data!$C$15","v":"Kabeljauwhaasje"},null,"x",{"$f":"Data!$F$15","v":8},"=",0,null,null,null,null,null,"Kabeljauwhaasje",null,null,null,null,null,null,null,null,{"$f":"C4903","v":0}]
[]
[null,{"$f":"Data!$C$17","v":"Totaal eten:"},null,null,null,null,{"$f":"SUM(G4893:G4904)","v":0},null,null,null,null,null,"Totaal eten:",null,null,null,null,null,null,null,null,null,{"$f":"G4905","v":0}]
[null,{"$f":"Data!$C$18","v":"Totaal kaarten:"},null,"x",{"$f":"Data!$F$18","v":3},"=",{"$f":"-(C4906*E4906)","v":0}]
[null,null,null,null,null,null,null,null,null,null,null,null,"Totaal kaarten (bedrag):",null,null,null,null,null,null,null,null,null,null,{"$f":"C4906","v":0}]
[]
[null,{"$f":"Data!$C$21","v":"Totaal te betalen:"},null,null,null,null,{"$f":"G4905+G4906","v":0},null,null,null,null,null,"Totaal te betalen:",null,null,null,null,null,null,null,null,null,null,null,{"$f":"G4909","v":0}]
[]
[{"$f":"Data!$A$23","v":"TGV Opstal dankt u voor uw aanwezigheid!  Eet smakelijk!"}]
[]
["Fietsclub TGV Opstal",null,null,null,null,null,"Tafel nr:"]
[{"$f":"A4890","v":105}]
[]
[{"$f":"Data!$B$4","v":"Kalkoenfilet"}]
[null,{"$f":"Data!$C$5","v":"Natuur"},{"$f":"C4893","v":0},"x",{"$f":"Data!$F$5","v":17},"=",{"$f":"C4917*E4917","v":0}]
[null,{"$f":"Data!$C$6","v":"Champignons"},{"$f":"C4894","v":0},"x",{"$f":"Data!$F$6","v":17},"=",{"$f":"C4918*E4918","v":0}]
[null,{"$f":"Data!$C$7","v":"Peper"},0,"x",{"$f":"Data!$F$7","v":17},"=",{"$f":"C4919*E4919","v":0}]
[]
[{"$f":"Data!$B$9","v":"Kabeljauwhaasje"},null,0,"x",{"$f":"Data!$F$9","v":17},"=",{"$f":"C4921*E4921","v":0}]
[]
[{"$f":"Data!$B$11","v":"Kindermenu"}]
[null,{"$f":"Data!$C$12","v":"Natuur"},0,"x",{"$f":"Data!$F$12","v":8},"=",{"$f":"C4924*E4924","v":0}]
[null,{"$f":"Data!$C$13","v":"Champignons"},0,"x",{"$f":"Data!$F$13","v":8},"=",{"$f":"C4925*E4925","v":0}]
[null,{"$f":"Data!$C$14","v":"Peper"},0,"x",{"$f":"Data!$F$14","v":8},"=",0]
[null,{"$f":"Data!$C$15","v":"Kabeljauwhaasje"},0,"x",{"$f":"Data!$F$15","v":8},"=",0]
[]
[null,{"$f":"Data!$C$17","v":"Totaal eten:"},null,null,null,null,{"$f":"SUM(G4917:G4928)","v":0}]
[null,{"$f":"Data!$C$18","v":"Totaal kaarten:"},{"$f":"C4906","v":0},"x",{"$f":"Data!$F$18","v":3},"=",{"$f":"-(C4930*E4930)","v":0}]
[]
[]
[null,{"$f":"Data!$C$21","v":"Totaal te betalen:"},null,null,null,null,{"$f":"G4929+G4930","v":0}]
[]
[{"$f":"Data!$A$23","v":"TGV Opstal dankt u voor uw aanwezigheid!  Eet smakelijk!"}]
["Fietsclub TGV Opstal",null,null,null,null,null,"Tafel nr:"]
[{"$f":"A4890+1","v":106},null,null,null,null,null,null,null,null,null,null,{"$f":"A4937","v":106}]
[]
[{"$f":"Data!$B$4","v":"Kalkoenfilet"},null,null,null,null,null,null,null,null,null,null,"Kalkoenfilet"]
[null,{"$f":"Data!$C$5","v":"Natuur"},null,"x",{"$f":"Data!$F$5","v":17},"=",{"$f":"C4940*E4940","v":0},null,null,null,null,null,"Natuur",null,{"$f":"C4940","v":0}]
[null,{"$f":"Data!$C$6","v":"Champignons"},null,"x",{"$f":"Data!$F$6","v":17},"=",{"$f":"C4941*E4941","v":0},null,null,null,null,null,"Champignons",null,null,{"$f":"C4941","v":0}]
[null,{"$f":"Data!$C$7","v":"Peper"},null,"x",{"$f":"Data!$F$7","v":17},"=",{"$f":"C4942*E4942","v":0},null,null,null,null,null,"Peper",null,null,null,{"$f":"C4942","v":0}]
[]
[{"$f":"Data!$B$9","v":"Kabeljauwhaasje"},null,null,"x",{"$f":"Data!$F$9","v":17},"=",{"$f":"C4944*E4944","v":0},null,null,null,null,"Kabeljauwhaasje",null,null,null,null,null,{"$f":"C4944","v":0}]
[]
[{"$f":"Data!$B$11","v":"Kindermenu"},null,null,null,null,null,null,null,null,null,null,"Kindermenu"]
[null,{"$f":"Data!$C$12","v":"Natuur"},null,"x",{"$f":"Data!$F$12","v":8},"=",{"$f":"C4947*E4947","v":0},null,null,null,null,null,"Natuur",null,null,null,null,null,{"$f":"C4947","v":0}]
[null,{"$f":"Data!$C$13","v":"Champignons"},null,"x",{"$f":"Data!$F$13","v":8},"=",{"$f":"C4948*E4948","v":0},null,null,null,null,null,"Champignons",null,null,null,null,null,null,{"$f":"C4948","v":0}]
[null,{"$f":"Data!$C$14","v":"Peper"},null,"x",{"$f":"Data!$F$14","v":8},"=",0,null,null,null,null,null,"Peper",null,null,null,null,null,null,null,{"$f":"C4949","v":0}]
[null,{"$f":"Data!$C$15","v":"Kabeljauwhaasje"},null,"x",{"$f":"Data!$F$15","v":8},"=",0,null,null,null,null,null,"Kabeljauwhaasje",null,null,null,null,null,null,null,null,{"$f":"C4950","v":0}]
[]
[null,{"$f":"Data!$C$17","v":"Totaal eten:"},null,null,null,null,{"$f":"SUM(G4940:G4951)","v":0},null,null,null,null,null,"Totaal eten:",null,null,null,null,null,null,null,null,null,{"$f":"G4952","v":0}]
[null,{"$f":"Data!$C$18","v":"Totaal kaarten:"},null,"x",{"$f":"Data!$F$18","v":3},"=",{"$f":"-(C4953*E4953)","v":0}]
[null,null,null,null,null,null,null,null,null,null,null,null,"Totaal kaarten (bedrag):",null,null,null,null,null,null,null,null,null,null,{"$f":"C4953","v":0}]
[]
[null,{"$f":"Data!$C$21","v":"Totaal te betalen:"},null,null,null,null,{"$f":"G4952+G4953","v":0},null,null,null,null,null,"Totaal te betalen:",null,null,null,null,null,null,null,null,null,null,null,{"$f":"G4956","v":0}]
[]
[{"$f":"Data!$A$23","v":"TGV Opstal dankt u voor uw aanwezigheid!  Eet smakelijk!"}]
[]
["Fietsclub TGV Opstal",null,null,null,null,null,"Tafel nr:"]
[{"$f":"A4937","v":106}]
[]
[{"$f":"Data!$B$4","v":"Kalkoenfilet"}]
[null,{"$f":"Data!$C$5","v":"Natuur"},{"$f":"C4940","v":0},"x",{"$f":"Data!$F$5","v":17},"=",{"$f":"C4964*E4964","v":0}]
[null,{"$f":"Data!$C$6","v":"Champignons"},{"$f":"C4941","v":0},"x",{"$f":"Data!$F$6","v":17},"=",{"$f":"C4965*E4965","v":0}]
[null,{"$f":"Data!$C$7","v":"Peper"},0,"x",{"$f":"Data!$F$7","v":17},"=",{"$f":"C4966*E4966","v":0}]
[]
[{"$f":"Data!$B$9","v":"Kabeljauwhaasje"},null,0,"x",{"$f":"Data!$F$9","v":17},"=",{"$f":"C4968*E4968","v":0}]
[]
[{"$f":"Data!$B$11","v":"Kindermenu"}]
[null,{"$f":"Data!$C$12","v":"Natuur"},0,"x",{"$f":"Data!$F$12","v":8},"=",{"$f":"C4971*E4971","v":0}]
[null,{"$f":"Data!$C$13","v":"Champignons"},0,"x",{"$f":"Data!$F$13","v":8},"=",{"$f":"C4972*E4972","v":0}]
[null,{"$f":"Data!$C$14","v":"Peper"},0,"x",{"$f":"Data!$F$14","v":8},"=",0]
[null,{"$f":"Data!$C$15","v":"Kabeljauwhaasje"},0,"x",{"$f":"Data!$F$15","v":8},"=",0]
[]
[null,{"$f":"Data!$C$17","v":"Totaal eten:"},null,null,null,null,{"$f":"SUM(G4964:G4975)","v":0}]
[null,{"$f":"Data!$C$18","v":"Totaal kaarten:"},{"$f":"C4953","v":0},"x",{"$f":"Data!$F$18","v":3},"=",{"$f":"-(C4977*E4977)","v":0}]
[]
[]
[null,{"$f":"Data!$C$21","v":"Totaal te betalen:"},null,null,null,null,{"$f":"G4976+G4977","v":0}]
[]
[{"$f":"Data!$A$23","v":"TGV Opstal dankt u voor uw aanwezigheid!  Eet smakelijk!"}]
["Fietsclub TGV Opstal",null,null,null,null,null,"Tafel nr:"]
[{"$f":"A4937+1","v":107},null,null,null,null,null,null,null,null,null,null,{"$f":"A4984","v":107}]
[]
[{"$f":"Data!$B$4","v":"Kalkoenfilet"},null,null,null,null,null,null,null,null,null,null,"Kalkoenfilet"]
[null,{"$f":"Data!$C$5","v":"Natuur"},null,"x",{"$f":"Data!$F$5","v":17},"=",{"$f":"C4987*E4987","v":0},null,null,null,null,null,"Natuur",null,{"$f":"C4987","v":0}]
[null,{"$f":"Data!$C$6","v":"Champignons"},null,"x",{"$f":"Data!$F$6","v":17},"=",{"$f":"C4988*E4988","v":0},null,null,null,null,null,"Champignons",null,null,{"$f":"C4988","v":0}]
[null,{"$f":"Data!$C$7","v":"Peper"},null,"x",{"$f":"Data!$F$7","v":17},"=",{"$f":"C4989*E4989","v":0},null,null,null,null,null,"Peper",null,null,null,{"$f":"C4989","v":0}]
[]
[{"$f":"Data!$B$9","v":"Kabeljauwhaasje"},null,null,"x",{"$f":"Data!$F$9","v":17},"=",{"$f":"C4991*E4991","v":0},null,null,null,null,"Kabeljauwhaasje",null,null,null,null,null,{"$f":"C4991","v":0}]
[]
[{"$f":"Data!$B$11","v":"Kindermenu"},null,null,null,null,null,null,null,null,null,null,"Kindermenu"]
[null,{"$f":"Data!$C$12","v":"Natuur"},null,"x",{"$f":"Data!$F$12","v":8},"=",{"$f":"C4994*E4994","v":0},null,null,null,null,null,"Natuur",null,null,null,null,null,{"$f":"C4994","v":0}]
[null,{"$f":"Data!$C$13","v":"Champignons"},null,"x",{"$f":"Data!$F$13","v":8},"=",{"$f":"C4995*E4995","v":0},null,null,null,null,null,"Champignons",null,null,null,null,null,null,{"$f":"C4995","v":0}]
[null,{"$f":"Data!$C$14","v":"Peper"},null,"x",{"$f":"Data!$F$14","v":8},"=",0,null,null,null,null,null,"Peper",null,null,null,null,null,null,null,{"$f":"C4996","v":0}]
[null,{"$f":"Data!$C$15","v":"Kabeljauwhaasje"},null,"x",{"$f":"Data!$F$15","v":8},"=",0,null,null,null,null,null,"Kabeljauwhaasje",null,null,null,null,null,null,null,null,{"$f":"C4997","v":0}]
[]
[null,{"$f":"Data!$C$17","v":"Totaal eten:"},null,null,null,null,{"$f":"SUM(G4987:G4998)","v":0},null,null,null,null,null,"Totaal eten:",null,null,null,null,null,null,null,null,null,{"$f":"G4999","v":0}]
[null,{"$f":"Data!$C$18","v":"Totaal kaarten:"},null,"x",{"$f":"Data!$F$18","v":3},"=",{"$f":"-(C5000*E5000)","v":0}]
[null,null,null,null,null,null,null,null,null,null,null,null,"Totaal kaarten (bedrag):",null,null,null,null,null,null,null,null,null,null,{"$f":"C5000","v":0}]
[]
[null,{"$f":"Data!$C$21","v":"Totaal te betalen:"},null,null,null,null,{"$f":"G4999+G5000","v":0},null,null,null,null,null,"Totaal te betalen:",null,null,null,null,null,null,null,null,null,null,null,{"$f":"G5003","v":0}]
[]
[{"$f":"Data!$A$23","v":"TGV Opstal dankt u voor uw aanwezigheid!  Eet smakelijk!"}]
[]
["Fietsclub TGV Opstal",null,null,null,null,null,"Tafel nr:"]
[{"$f":"A4984","v":107}]
[]
[{"$f":"Data!$B$4","v":"Kalkoenfilet"}]
[null,{"$f":"Data!$C$5","v":"Natuur"},{"$f":"C4987","v":0},"x",{"$f":"Data!$F$5","v":17},"=",{"$f":"C5011*E5011","v":0}]
[null,{"$f":"Data!$C$6","v":"Champignons"},{"$f":"C4988","v":0},"x",{"$f":"Data!$F$6","v":17},"=",{"$f":"C5012*E5012","v":0}]
[null,{"$f":"Data!$C$7","v":"Peper"},0,"x",{"$f":"Data!$F$7","v":17},"=",{"$f":"C5013*E5013","v":0}]
[]
[{"$f":"Data!$B$9","v":"Kabeljauwhaasje"},null,0,"x",{"$f":"Data!$F$9","v":17},"=",{"$f":"C5015*E5015","v":0}]
[]
[{"$f":"Data!$B$11","v":"Kindermenu"}]
[null,{"$f":"Data!$C$12","v":"Natuur"},0,"x",{"$f":"Data!$F$12","v":8},"=",{"$f":"C5018*E5018","v":0}]
[null,{"$f":"Data!$C$13","v":"Champignons"},0,"x",{"$f":"Data!$F$13","v":8},"=",{"$f":"C5019*E5019","v":0}]
[null,{"$f":"Data!$C$14","v":"Peper"},0,"x",{"$f":"Data!$F$14","v":8},"=",0]
[null,{"$f":"Data!$C$15","v":"Kabeljauwhaasje"},0,"x",{"$f":"Data!$F$15","v":8},"=",0]
[]
[null,{"$f":"Data!$C$17","v":"Totaal eten:"},null,null,null,null,{"$f":"SUM(G5011:G5022)","v":0}]
[null,{"$f":"Data!$C$18","v":"Totaal kaarten:"},{"$f":"C5000","v":0},"x",{"$f":"Data!$F$18","v":3},"=",{"$f":"-(C5024*E5024)","v":0}]
[]
[]
[null,{"$f":"Data!$C$21","v":"Totaal te betalen:"},null,null,null,null,{"$f":"G5023+G5024","v":0}]
[]
[{"$f":"Data!$A$23","v":"TGV Opstal dankt u voor uw aanwezigheid!  Eet smakelijk!"}]
["Fietsclub TGV Opstal",null,null,null,null,null,"Tafel nr:"]
[{"$f":"A4984+1","v":108},null,null,null,null,null,null,null,null,null,null,{"$f":"A5031","v":108}]
[]
[{"$f":"Data!$B$4","v":"Kalkoenfilet"},null,null,null,null,null,null,null,null,null,null,"Kalkoenfilet"]
[null,{"$f":"Data!$C$5","v":"Natuur"},null,"x",{"$f":"Data!$F$5","v":17},"=",{"$f":"C5034*E5034","v":0},null,null,null,null,null,"Natuur",null,{"$f":"C5034","v":0}]
[null,{"$f":"Data!$C$6","v":"Champignons"},null,"x",{"$f":"Data!$F$6","v":17},"=",{"$f":"C5035*E5035","v":0},null,null,null,null,null,"Champignons",null,null,{"$f":"C5035","v":0}]
[null,{"$f":"Data!$C$7","v":"Peper"},null,"x",{"$f":"Data!$F$7","v":17},"=",{"$f":"C5036*E5036","v":0},null,null,null,null,null,"Peper",null,null,null,{"$f":"C5036","v":0}]
[]
[{"$f":"Data!$B$9","v":"Kabeljauwhaasje"},null,null,"x",{"$f":"Data!$F$9","v":17},"=",{"$f":"C5038*E5038","v":0},null,null,null,null,"Kabeljauwhaasje",null,null,null,null,null,{"$f":"C5038","v":0}]
[]
[{"$f":"Data!$B$11","v":"Kindermenu"},null,null,null,null,null,null,null,null,null,null,"Kindermenu"]
[null,{"$f":"Data!$C$12","v":"Natuur"},null,"x",{"$f":"Data!$F$12","v":8},"=",{"$f":"C5041*E5041","v":0},null,null,null,null,null,"Natuur",null,null,null,null,null,{"$f":"C5041","v":0}]
[null,{"$f":"Data!$C$13","v":"Champignons"},null,"x",{"$f":"Data!$F$13","v":8},"=",{"$f":"C5042*E5042","v":0},null,null,null,null,null,"Champignons",null,null,null,null,null,null,{"$f":"C5042","v":0}]
[null,{"$f":"Data!$C$14","v":"Peper"},null,"x",{"$f":"Data!$F$14","v":8},"=",0,null,null,null,null,null,"Peper",null,null,null,null,null,null,null,{"$f":"C5043","v":0}]
[null,{"$f":"Data!$C$15","v":"Kabeljauwhaasje"},null,"x",{"$f":"Data!$F$15","v":8},"=",0,null,null,null,null,null,"Kabeljauwhaasje",null,null,null,null,null,null,null,null,{"$f":"C5044","v":0}]
[]
[null,{"$f":"Data!$C$17","v":"Totaal eten:"},null,null,null,null,{"$f":"SUM(G5034:G5045)","v":0},null,null,null,null,null,"Totaal eten:",null,null,null,null,null,null,null,null,null,{"$f":"G5046","v":0}]
[null,{"$f":"Data!$C$18","v":"Totaal kaarten:"},null,"x",{"$f":"Data!$F$18","v":3},"=",{"$f":"-(C5047*E5047)","v":0}]
[null,null,null,null,null,null,null,null,null,null,null,null,"Totaal kaarten (bedrag):",null,null,null,null,null,null,null,null,null,null,{"$f":"C5047","v":0}]
[]
[null,{"$f":"Data!$C$21","v":"Totaal te betalen:"},null,null,null,null,{"$f":"G5046+G5047","v":0},null,null,null,null,null,"Totaal te betalen:",null,null,null,null,null,null,null,null,null,null,null,{"$f":"G5050","v":0}]
[]
[{"$f":"Data!$A$23","v":"TGV Opstal dankt u voor uw aanwezigheid!  Eet smakelijk!"}]
[]
["Fietsclub TGV Opstal",null,null,null,null,null,"Tafel nr:"]
[{"$f":"A5031","v":108}]
[]
[{"$f":"Data!$B$4","v":"Kalkoenfilet"}]
[null,{"$f":"Data!$C$5","v":"Natuur"},{"$f":"C5034","v":0},"x",{"$f":"Data!$F$5","v":17},"=",{"$f":"C5058*E5058","v":0}]
[null,{"$f":"Data!$C$6","v":"Champignons"},{"$f":"C5035","v":0},"x",{"$f":"Data!$F$6","v":17},"=",{"$f":"C5059*E5059","v":0}]
[null,{"$f":"Data!$C$7","v":"Peper"},0,"x",{"$f":"Data!$F$7","v":17},"=",{"$f":"C5060*E5060","v":0}]
[]
[{"$f":"Data!$B$9","v":"Kabeljauwhaasje"},null,0,"x",{"$f":"Data!$F$9","v":17},"=",{"$f":"C5062*E5062","v":0}]
[]
[{"$f":"Data!$B$11","v":"Kindermenu"}]
[null,{"$f":"Data!$C$12","v":"Natuur"},0,"x",{"$f":"Data!$F$12","v":8},"=",{"$f":"C5065*E5065","v":0}]
[null,{"$f":"Data!$C$13","v":"Champignons"},0,"x",{"$f":"Data!$F$13","v":8},"=",{"$f":"C5066*E5066","v":0}]
[null,{"$f":"Data!$C$14","v":"Peper"},0,"x",{"$f":"Data!$F$14","v":8},"=",0]
[null,{"$f":"Data!$C$15","v":"Kabeljauwhaasje"},0,"x",{"$f":"Data!$F$15","v":8},"=",0]
[]
[null,{"$f":"Data!$C$17","v":"Totaal eten:"},null,null,null,null,{"$f":"SUM(G5058:G5069)","v":0}]
[null,{"$f":"Data!$C$18","v":"Totaal kaarten:"},{"$f":"C5047","v":0},"x",{"$f":"Data!$F$18","v":3},"=",{"$f":"-(C5071*E5071)","v":0}]
[]
[]
[null,{"$f":"Data!$C$21","v":"Totaal te betalen:"},null,null,null,null,{"$f":"G5070+G5071","v":0}]
[]
[{"$f":"Data!$A$23","v":"TGV Opstal dankt u voor uw aanwezigheid!  Eet smakelijk!"}]
["Fietsclub TGV Opstal",null,null,null,null,null,"Tafel nr:"]
[{"$f":"A5031+1","v":109},null,null,null,null,null,null,null,null,null,null,{"$f":"A5078","v":109}]
[]
[{"$f":"Data!$B$4","v":"Kalkoenfilet"},null,null,null,null,null,null,null,null,null,null,"Kalkoenfilet"]
[null,{"$f":"Data!$C$5","v":"Natuur"},null,"x",{"$f":"Data!$F$5","v":17},"=",{"$f":"C5081*E5081","v":0},null,null,null,null,null,"Natuur",null,{"$f":"C5081","v":0}]
[null,{"$f":"Data!$C$6","v":"Champignons"},null,"x",{"$f":"Data!$F$6","v":17},"=",{"$f":"C5082*E5082","v":0},null,null,null,null,null,"Champignons",null,null,{"$f":"C5082","v":0}]
[null,{"$f":"Data!$C$7","v":"Peper"},null,"x",{"$f":"Data!$F$7","v":17},"=",{"$f":"C5083*E5083","v":0},null,null,null,null,null,"Peper",null,null,null,{"$f":"C5083","v":0}]
[]
[{"$f":"Data!$B$9","v":"Kabeljauwhaasje"},null,null,"x",{"$f":"Data!$F$9","v":17},"=",{"$f":"C5085*E5085","v":0},null,null,null,null,"Kabeljauwhaasje",null,null,null,null,null,{"$f":"C5085","v":0}]
[]
[{"$f":"Data!$B$11","v":"Kindermenu"},null,null,null,null,null,null,null,null,null,null,"Kindermenu"]
[null,{"$f":"Data!$C$12","v":"Natuur"},null,"x",{"$f":"Data!$F$12","v":8},"=",{"$f":"C5088*E5088","v":0},null,null,null,null,null,"Natuur",null,null,null,null,null,{"$f":"C5088","v":0}]
[null,{"$f":"Data!$C$13","v":"Champignons"},null,"x",{"$f":"Data!$F$13","v":8},"=",{"$f":"C5089*E5089","v":0},null,null,null,null,null,"Champignons",null,null,null,null,null,null,{"$f":"C5089","v":0}]
[null,{"$f":"Data!$C$14","v":"Peper"},null,"x",{"$f":"Data!$F$14","v":8},"=",0,null,null,null,null,null,"Peper",null,null,null,null,null,null,null,{"$f":"C5090","v":0}]
[null,{"$f":"Data!$C$15","v":"Kabeljauwhaasje"},null,"x",{"$f":"Data!$F$15","v":8},"=",0,null,null,null,null,null,"Kabeljauwhaasje",null,null,null,null,null,null,null,null,{"$f":"C5091","v":0}]
[]
[null,{"$f":"Data!$C$17","v":"Totaal eten:"},null,null,null,null,{"$f":"SUM(G5081:G5092)","v":0},null,null,null,null,null,"Totaal eten:",null,null,null,null,null,null,null,null,null,{"$f":"G5093","v":0}]
[null,{"$f":"Data!$C$18","v":"Totaal kaarten:"},null,"x",{"$f":"Data!$F$18","v":3},"=",{"$f":"-(C5094*E5094)","v":0}]
[null,null,null,null,null,null,null,null,null,null,null,null,"Totaal kaarten (bedrag):",null,null,null,null,null,null,null,null,null,null,{"$f":"C5094","v":0}]
[]
[null,{"$f":"Data!$C$21","v":"Totaal te betalen:"},null,null,null,null,{"$f":"G5093+G5094","v":0},null,null,null,null,null,"Totaal te betalen:",null,null,null,null,null,null,null,null,null,null,null,{"$f":"G5097","v":0}]
[]
[{"$f":"Data!$A$23","v":"TGV Opstal dankt u voor uw aanwezigheid!  Eet smakelijk!"}]
[]
["Fietsclub TGV Opstal",null,null,null,null,null,"Tafel nr:"]
[{"$f":"A5078","v":109}]
[]
[{"$f":"Data!$B$4","v":"Kalkoenfilet"}]
[null,{"$f":"Data!$C$5","v":"Natuur"},{"$f":"C5081","v":0},"x",{"$f":"Data!$F$5","v":17},"=",{"$f":"C5105*E5105","v":0}]
[null,{"$f":"Data!$C$6","v":"Champignons"},{"$f":"C5082","v":0},"x",{"$f":"Data!$F$6","v":17},"=",{"$f":"C5106*E5106","v":0}]
[null,{"$f":"Data!$C$7","v":"Peper"},0,"x",{"$f":"Data!$F$7","v":17},"=",{"$f":"C5107*E5107","v":0}]
[]
[{"$f":"Data!$B$9","v":"Kabeljauwhaasje"},null,0,"x",{"$f":"Data!$F$9","v":17},"=",{"$f":"C5109*E5109","v":0}]
[]
[{"$f":"Data!$B$11","v":"Kindermenu"}]
[null,{"$f":"Data!$C$12","v":"Natuur"},0,"x",{"$f":"Data!$F$12","v":8},"=",{"$f":"C5112*E5112","v":0}]
[null,{"$f":"Data!$C$13","v":"Champignons"},0,"x",{"$f":"Data!$F$13","v":8},"=",{"$f":"C5113*E5113","v":0}]
[null,{"$f":"Data!$C$14","v":"Peper"},0,"x",{"$f":"Data!$F$14","v":8},"=",0]
[null,{"$f":"Data!$C$15","v":"Kabeljauwhaasje"},0,"x",{"$f":"Data!$F$15","v":8},"=",0]
[]
[null,{"$f":"Data!$C$17","v":"Totaal eten:"},null,null,null,null,{"$f":"SUM(G5105:G5116)","v":0}]
[null,{"$f":"Data!$C$18","v":"Totaal kaarten:"},{"$f":"C5094","v":0},"x",{"$f":"Data!$F$18","v":3},"=",{"$f":"-(C5118*E5118)","v":0}]
[]
[]
[null,{"$f":"Data!$C$21","v":"Totaal te betalen:"},null,null,null,null,{"$f":"G5117+G5118","v":0}]
[]
[{"$f":"Data!$A$23","v":"TGV Opstal dankt u voor uw aanwezigheid!  Eet smakelijk!"}]
["Fietsclub TGV Opstal",null,null,null,null,null,"Tafel nr:"]
[{"$f":"A5078+1","v":110},null,null,null,null,null,null,null,null,null,null,{"$f":"A5125","v":110}]
[]
[{"$f":"Data!$B$4","v":"Kalkoenfilet"},null,null,null,null,null,null,null,null,null,null,"Kalkoenfilet"]
[null,{"$f":"Data!$C$5","v":"Natuur"},null,"x",{"$f":"Data!$F$5","v":17},"=",{"$f":"C5128*E5128","v":0},null,null,null,null,null,"Natuur",null,{"$f":"C5128","v":0}]
[null,{"$f":"Data!$C$6","v":"Champignons"},null,"x",{"$f":"Data!$F$6","v":17},"=",{"$f":"C5129*E5129","v":0},null,null,null,null,null,"Champignons",null,null,{"$f":"C5129","v":0}]
[null,{"$f":"Data!$C$7","v":"Peper"},null,"x",{"$f":"Data!$F$7","v":17},"=",{"$f":"C5130*E5130","v":0},null,null,null,null,null,"Peper",null,null,null,{"$f":"C5130","v":0}]
[]
[{"$f":"Data!$B$9","v":"Kabeljauwhaasje"},null,null,"x",{"$f":"Data!$F$9","v":17},"=",{"$f":"C5132*E5132","v":0},null,null,null,null,"Kabeljauwhaasje",null,null,null,null,null,{"$f":"C5132","v":0}]
[]
[{"$f":"Data!$B$11","v":"Kindermenu"},null,null,null,null,null,null,null,null,null,null,"Kindermenu"]
[null,{"$f":"Data!$C$12","v":"Natuur"},null,"x",{"$f":"Data!$F$12","v":8},"=",{"$f":"C5135*E5135","v":0},null,null,null,null,null,"Natuur",null,null,null,null,null,{"$f":"C5135","v":0}]
[null,{"$f":"Data!$C$13","v":"Champignons"},null,"x",{"$f":"Data!$F$13","v":8},"=",{"$f":"C5136*E5136","v":0},null,null,null,null,null,"Champignons",null,null,null,null,null,null,{"$f":"C5136","v":0}]
[null,{"$f":"Data!$C$14","v":"Peper"},null,"x",{"$f":"Data!$F$14","v":8},"=",0,null,null,null,null,null,"Peper",null,null,null,null,null,null,null,{"$f":"C5137","v":0}]
[null,{"$f":"Data!$C$15","v":"Kabeljauwhaasje"},null,"x",{"$f":"Data!$F$15","v":8},"=",0,null,null,null,null,null,"Kabeljauwhaasje",null,null,null,null,null,null,null,null,{"$f":"C5138","v":0}]
[]
[null,{"$f":"Data!$C$17","v":"Totaal eten:"},null,null,null,null,{"$f":"SUM(G5128:G5139)","v":0},null,null,null,null,null,"Totaal eten:",null,null,null,null,null,null,null,null,null,{"$f":"G5140","v":0}]
[null,{"$f":"Data!$C$18","v":"Totaal kaarten:"},null,"x",{"$f":"Data!$F$18","v":3},"=",{"$f":"-(C5141*E5141)","v":0}]
[null,null,null,null,null,null,null,null,null,null,null,null,"Totaal kaarten (bedrag):",null,null,null,null,null,null,null,null,null,null,{"$f":"C5141","v":0}]
[]
[null,{"$f":"Data!$C$21","v":"Totaal te betalen:"},null,null,null,null,{"$f":"G5140+G5141","v":0},null,null,null,null,null,"Totaal te betalen:",null,null,null,null,null,null,null,null,null,null,null,{"$f":"G5144","v":0}]
[]
[{"$f":"Data!$A$23","v":"TGV Opstal dankt u voor uw aanwezigheid!  Eet smakelijk!"}]
[]
["Fietsclub TGV Opstal",null,null,null,null,null,"Tafel nr:"]
[{"$f":"A5125","v":110}]
[]
[{"$f":"Data!$B$4","v":"Kalkoenfilet"}]
[null,{"$f":"Data!$C$5","v":"Natuur"},{"$f":"C5128","v":0},"x",{"$f":"Data!$F$5","v":17},"=",{"$f":"C5152*E5152","v":0}]
[null,{"$f":"Data!$C$6","v":"Champignons"},{"$f":"C5129","v":0},"x",{"$f":"Data!$F$6","v":17},"=",{"$f":"C5153*E5153","v":0}]
[null,{"$f":"Data!$C$7","v":"Peper"},0,"x",{"$f":"Data!$F$7","v":17},"=",{"$f":"C5154*E5154","v":0}]
[]
[{"$f":"Data!$B$9","v":"Kabeljauwhaasje"},null,0,"x",{"$f":"Data!$F$9","v":17},"=",{"$f":"C5156*E5156","v":0}]
[]
[{"$f":"Data!$B$11","v":"Kindermenu"}]
[null,{"$f":"Data!$C$12","v":"Natuur"},0,"x",{"$f":"Data!$F$12","v":8},"=",{"$f":"C5159*E5159","v":0}]
[null,{"$f":"Data!$C$13","v":"Champignons"},0,"x",{"$f":"Data!$F$13","v":8},"=",{"$f":"C5160*E5160","v":0}]
[null,{"$f":"Data!$C$14","v":"Peper"},0,"x",{"$f":"Data!$F$14","v":8},"=",0]
[null,{"$f":"Data!$C$15","v":"Kabeljauwhaasje"},0,"x",{"$f":"Data!$F$15","v":8},"=",0]
[]
[null,{"$f":"Data!$C$17","v":"Totaal eten:"},null,null,null,null,{"$f":"SUM(G5152:G5163)","v":0}]
[null,{"$f":"Data!$C$18","v":"Totaal kaarten:"},{"$f":"C5141","v":0},"x",{"$f":"Data!$F$18","v":3},"=",{"$f":"-(C5165*E5165)","v":0}]
[]
[]
[null,{"$f":"Data!$C$21","v":"Totaal te betalen:"},null,null,null,null,{"$f":"G5164+G5165","v":0}]
[]
[{"$f":"Data!$A$23","v":"TGV Opstal dankt u voor uw aanwezigheid!  Eet smakelijk!"}]
["Fietsclub TGV Opstal",null,null,null,null,null,"Tafel nr:"]
[{"$f":"A5125+1","v":111},null,null,null,null,null,null,null,null,null,null,{"$f":"A5172","v":111}]
[]
[{"$f":"Data!$B$4","v":"Kalkoenfilet"},null,null,null,null,null,null,null,null,null,null,"Kalkoenfilet"]
[null,{"$f":"Data!$C$5","v":"Natuur"},null,"x",{"$f":"Data!$F$5","v":17},"=",{"$f":"C5175*E5175","v":0},null,null,null,null,null,"Natuur",null,{"$f":"C5175","v":0}]
[null,{"$f":"Data!$C$6","v":"Champignons"},null,"x",{"$f":"Data!$F$6","v":17},"=",{"$f":"C5176*E5176","v":0},null,null,null,null,null,"Champignons",null,null,{"$f":"C5176","v":0}]
[null,{"$f":"Data!$C$7","v":"Peper"},null,"x",{"$f":"Data!$F$7","v":17},"=",{"$f":"C5177*E5177","v":0},null,null,null,null,null,"Peper",null,null,null,{"$f":"C5177","v":0}]
[]
[{"$f":"Data!$B$9","v":"Kabeljauwhaasje"},null,null,"x",{"$f":"Data!$F$9","v":17},"=",{"$f":"C5179*E5179","v":0},null,null,null,null,"Kabeljauwhaasje",null,null,null,null,null,{"$f":"C5179","v":0}]
[]
[{"$f":"Data!$B$11","v":"Kindermenu"},null,null,null,null,null,null,null,null,null,null,"Kindermenu"]
[null,{"$f":"Data!$C$12","v":"Natuur"},null,"x",{"$f":"Data!$F$12","v":8},"=",{"$f":"C5182*E5182","v":0},null,null,null,null,null,"Natuur",null,null,null,null,null,{"$f":"C5182","v":0}]
[null,{"$f":"Data!$C$13","v":"Champignons"},null,"x",{"$f":"Data!$F$13","v":8},"=",{"$f":"C5183*E5183","v":0},null,null,null,null,null,"Champignons",null,null,null,null,null,null,{"$f":"C5183","v":0}]
[null,{"$f":"Data!$C$14","v":"Peper"},null,"x",{"$f":"Data!$F$14","v":8},"=",0,null,null,null,null,null,"Peper",null,null,null,null,null,null,null,{"$f":"C5184","v":0}]
[null,{"$f":"Data!$C$15","v":"Kabeljauwhaasje"},null,"x",{"$f":"Data!$F$15","v":8},"=",0,null,null,null,null,null,"Kabeljauwhaasje",null,null,null,null,null,null,null,null,{"$f":"C5185","v":0}]
[]
[null,{"$f":"Data!$C$17","v":"Totaal eten:"},null,null,null,null,{"$f":"SUM(G5175:G5186)","v":0},null,null,null,null,null,"Totaal eten:",null,null,null,null,null,null,null,null,null,{"$f":"G5187","v":0}]
[null,{"$f":"Data!$C$18","v":"Totaal kaarten:"},null,"x",{"$f":"Data!$F$18","v":3},"=",{"$f":"-(C5188*E5188)","v":0}]
[null,null,null,null,null,null,null,null,null,null,null,null,"Totaal kaarten (bedrag):",null,null,null,null,null,null,null,null,null,null,{"$f":"C5188","v":0}]
[]
[null,{"$f":"Data!$C$21","v":"Totaal te betalen:"},null,null,null,null,{"$f":"G5187+G5188","v":0},null,null,null,null,null,"Totaal te betalen:",null,null,null,null,null,null,null,null,null,null,null,{"$f":"G5191","v":0}]
[]
[{"$f":"Data!$A$23","v":"TGV Opstal dankt u voor uw aanwezigheid!  Eet smakelijk!"}]
[]
["Fietsclub TGV Opstal",null,null,null,null,null,"Tafel nr:"]
[{"$f":"A5172","v":111}]
[]
[{"$f":"Data!$B$4","v":"Kalkoenfilet"}]
[null,{"$f":"Data!$C$5","v":"Natuur"},{"$f":"C5175","v":0},"x",{"$f":"Data!$F$5","v":17},"=",{"$f":"C5199*E5199","v":0}]
[null,{"$f":"Data!$C$6","v":"Champignons"},{"$f":"C5176","v":0},"x",{"$f":"Data!$F$6","v":17},"=",{"$f":"C5200*E5200","v":0}]
[null,{"$f":"Data!$C$7","v":"Peper"},0,"x",{"$f":"Data!$F$7","v":17},"=",{"$f":"C5201*E5201","v":0}]
[]
[{"$f":"Data!$B$9","v":"Kabeljauwhaasje"},null,0,"x",{"$f":"Data!$F$9","v":17},"=",{"$f":"C5203*E5203","v":0}]
[]
[{"$f":"Data!$B$11","v":"Kindermenu"}]
[null,{"$f":"Data!$C$12","v":"Natuur"},0,"x",{"$f":"Data!$F$12","v":8},"=",{"$f":"C5206*E5206","v":0}]
[null,{"$f":"Data!$C$13","v":"Champignons"},0,"x",{"$f":"Data!$F$13","v":8},"=",{"$f":"C5207*E5207","v":0}]
[null,{"$f":"Data!$C$14","v":"Peper"},0,"x",{"$f":"Data!$F$14","v":8},"=",0]
[null,{"$f":"Data!$C$15","v":"Kabeljauwhaasje"},0,"x",{"$f":"Data!$F$15","v":8},"=",0]
[]
[null,{"$f":"Data!$C$17","v":"Totaal eten:"},null,null,null,null,{"$f":"SUM(G5199:G5210)","v":0}]
[null,{"$f":"Data!$C$18","v":"Totaal kaarten:"},{"$f":"C5188","v":0},"x",{"$f":"Data!$F$18","v":3},"=",{"$f":"-(C5212*E5212)","v":0}]
[]
[]
[null,{"$f":"Data!$C$21","v":"Totaal te betalen:"},null,null,null,null,{"$f":"G5211+G5212","v":0}]
[]
[{"$f":"Data!$A$23","v":"TGV Opstal dankt u voor uw aanwezigheid!  Eet smakelijk!"}]
["Fietsclub TGV Opstal",null,null,null,null,null,"Tafel nr:"]
[{"$f":"A5172+1","v":112},null,null,null,null,null,null,null,null,null,null,{"$f":"A5219","v":112}]
[]
[{"$f":"Data!$B$4","v":"Kalkoenfilet"},null,null,null,null,null,null,null,null,null,null,"Kalkoenfilet"]
[null,{"$f":"Data!$C$5","v":"Natuur"},null,"x",{"$f":"Data!$F$5","v":17},"=",{"$f":"C5222*E5222","v":0},null,null,null,null,null,"Natuur",null,{"$f":"C5222","v":0}]
[null,{"$f":"Data!$C$6","v":"Champignons"},null,"x",{"$f":"Data!$F$6","v":17},"=",{"$f":"C5223*E5223","v":0},null,null,null,null,null,"Champignons",null,null,{"$f":"C5223","v":0}]
[null,{"$f":"Data!$C$7","v":"Peper"},null,"x",{"$f":"Data!$F$7","v":17},"=",{"$f":"C5224*E5224","v":0},null,null,null,null,null,"Peper",null,null,null,{"$f":"C5224","v":0}]
[]
[{"$f":"Data!$B$9","v":"Kabeljauwhaasje"},null,null,"x",{"$f":"Data!$F$9","v":17},"=",{"$f":"C5226*E5226","v":0},null,null,null,null,"Kabeljauwhaasje",null,null,null,null,null,{"$f":"C5226","v":0}]
[]
[{"$f":"Data!$B$11","v":"Kindermenu"},null,null,null,null,null,null,null,null,null,null,"Kindermenu"]
[null,{"$f":"Data!$C$12","v":"Natuur"},null,"x",{"$f":"Data!$F$12","v":8},"=",{"$f":"C5229*E5229","v":0},null,null,null,null,null,"Natuur",null,null,null,null,null,{"$f":"C5229","v":0}]
[null,{"$f":"Data!$C$13","v":"Champignons"},null,"x",{"$f":"Data!$F$13","v":8},"=",{"$f":"C5230*E5230","v":0},null,null,null,null,null,"Champignons",null,null,null,null,null,null,{"$f":"C5230","v":0}]
[null,{"$f":"Data!$C$14","v":"Peper"},null,"x",{"$f":"Data!$F$14","v":8},"=",0,null,null,null,null,null,"Peper",null,null,null,null,null,null,null,{"$f":"C5231","v":0}]
[null,{"$f":"Data!$C$15","v":"Kabeljauwhaasje"},null,"x",{"$f":"Data!$F$15","v":8},"=",0,null,null,null,null,null,"Kabeljauwhaasje",null,null,null,null,null,null,null,null,{"$f":"C5232","v":0}]
[]
[null,{"$f":"Data!$C$17","v":"Totaal eten:"},null,null,null,null,{"$f":"SUM(G5222:G5233)","v":0},null,null,null,null,null,"Totaal eten:",null,null,null,null,null,null,null,null,null,{"$f":"G5234","v":0}]
[null,{"$f":"Data!$C$18","v":"Totaal kaarten:"},null,"x",{"$f":"Data!$F$18","v":3},"=",{"$f":"-(C5235*E5235)","v":0}]
[null,null,null,null,null,null,null,null,null,null,null,null,"Totaal kaarten (bedrag):",null,null,null,null,null,null,null,null,null,null,{"$f":"C5235","v":0}]
[]
[null,{"$f":"Data!$C$21","v":"Totaal te betalen:"},null,null,null,null,{"$f":"G5234+G5235","v":0},null,null,null,null,null,"Totaal te betalen:",null,null,null,null,null,null,null,null,null,null,null,{"$f":"G5238","v":0}]
[]
[{"$f":"Data!$A$23","v":"TGV Opstal dankt u voor uw aanwezigheid!  Eet smakelijk!"}]
[]
["Fietsclub TGV Opstal",null,null,null,null,null,"Tafel nr:"]
[{"$f":"A5219","v":112}]
[]
[{"$f":"Data!$B$4","v":"Kalkoenfilet"}]
[null,{"$f":"Data!$C$5","v":"Natuur"},{"$f":"C5222","v":0},"x",{"$f":"Data!$F$5","v":17},"=",{"$f":"C5246*E5246","v":0}]
[null,{"$f":"Data!$C$6","v":"Champignons"},{"$f":"C5223","v":0},"x",{"$f":"Data!$F$6","v":17},"=",{"$f":"C5247*E5247","v":0}]
[null,{"$f":"Data!$C$7","v":"Peper"},0,"x",{"$f":"Data!$F$7","v":17},"=",{"$f":"C5248*E5248","v":0}]
[]
[{"$f":"Data!$B$9","v":"Kabeljauwhaasje"},null,0,"x",{"$f":"Data!$F$9","v":17},"=",{"$f":"C5250*E5250","v":0}]
[]
[{"$f":"Data!$B$11","v":"Kindermenu"}]
[null,{"$f":"Data!$C$12","v":"Natuur"},0,"x",{"$f":"Data!$F$12","v":8},"=",{"$f":"C5253*E5253","v":0}]
[null,{"$f":"Data!$C$13","v":"Champignons"},0,"x",{"$f":"Data!$F$13","v":8},"=",{"$f":"C5254*E5254","v":0}]
[null,{"$f":"Data!$C$14","v":"Peper"},0,"x",{"$f":"Data!$F$14","v":8},"=",0]
[null,{"$f":"Data!$C$15","v":"Kabeljauwhaasje"},0,"x",{"$f":"Data!$F$15","v":8},"=",0]
[]
[null,{"$f":"Data!$C$17","v":"Totaal eten:"},null,null,null,null,{"$f":"SUM(G5246:G5257)","v":0}]
[null,{"$f":"Data!$C$18","v":"Totaal kaarten:"},{"$f":"C5235","v":0},"x",{"$f":"Data!$F$18","v":3},"=",{"$f":"-(C5259*E5259)","v":0}]
[]
[]
[null,{"$f":"Data!$C$21","v":"Totaal te betalen:"},null,null,null,null,{"$f":"G5258+G5259","v":0}]
[]
[{"$f":"Data!$A$23","v":"TGV Opstal dankt u voor uw aanwezigheid!  Eet smakelijk!"}]
["Fietsclub TGV Opstal",null,null,null,null,null,"Tafel nr:"]
[{"$f":"A5219+1","v":113},null,null,null,null,null,null,null,null,null,null,{"$f":"A5266","v":113}]
[]
[{"$f":"Data!$B$4","v":"Kalkoenfilet"},null,null,null,null,null,null,null,null,null,null,"Kalkoenfilet"]
[null,{"$f":"Data!$C$5","v":"Natuur"},null,"x",{"$f":"Data!$F$5","v":17},"=",{"$f":"C5269*E5269","v":0},null,null,null,null,null,"Natuur",null,{"$f":"C5269","v":0}]
[null,{"$f":"Data!$C$6","v":"Champignons"},null,"x",{"$f":"Data!$F$6","v":17},"=",{"$f":"C5270*E5270","v":0},null,null,null,null,null,"Champignons",null,null,{"$f":"C5270","v":0}]
[null,{"$f":"Data!$C$7","v":"Peper"},null,"x",{"$f":"Data!$F$7","v":17},"=",{"$f":"C5271*E5271","v":0},null,null,null,null,null,"Peper",null,null,null,{"$f":"C5271","v":0}]
[]
[{"$f":"Data!$B$9","v":"Kabeljauwhaasje"},null,null,"x",{"$f":"Data!$F$9","v":17},"=",{"$f":"C5273*E5273","v":0},null,null,null,null,"Kabeljauwhaasje",null,null,null,null,null,{"$f":"C5273","v":0}]
[]
[{"$f":"Data!$B$11","v":"Kindermenu"},null,null,null,null,null,null,null,null,null,null,"Kindermenu"]
[null,{"$f":"Data!$C$12","v":"Natuur"},null,"x",{"$f":"Data!$F$12","v":8},"=",{"$f":"C5276*E5276","v":0},null,null,null,null,null,"Natuur",null,null,null,null,null,{"$f":"C5276","v":0}]
[null,{"$f":"Data!$C$13","v":"Champignons"},null,"x",{"$f":"Data!$F$13","v":8},"=",{"$f":"C5277*E5277","v":0},null,null,null,null,null,"Champignons",null,null,null,null,null,null,{"$f":"C5277","v":0}]
[null,{"$f":"Data!$C$14","v":"Peper"},null,"x",{"$f":"Data!$F$14","v":8},"=",0,null,null,null,null,null,"Peper",null,null,null,null,null,null,null,{"$f":"C5278","v":0}]
[null,{"$f":"Data!$C$15","v":"Kabeljauwhaasje"},null,"x",{"$f":"Data!$F$15","v":8},"=",0,null,null,null,null,null,"Kabeljauwhaasje",null,null,null,null,null,null,null,null,{"$f":"C5279","v":0}]
[]
[null,{"$f":"Data!$C$17","v":"Totaal eten:"},null,null,null,null,{"$f":"SUM(G5269:G5280)","v":0},null,null,null,null,null,"Totaal eten:",null,null,null,null,null,null,null,null,null,{"$f":"G5281","v":0}]
[null,{"$f":"Data!$C$18","v":"Totaal kaarten:"},null,"x",{"$f":"Data!$F$18","v":3},"=",{"$f":"-(C5282*E5282)","v":0}]
[null,null,null,null,null,null,null,null,null,null,null,null,"Totaal kaarten (bedrag):",null,null,null,null,null,null,null,null,null,null,{"$f":"C5282","v":0}]
[]
[null,{"$f":"Data!$C$21","v":"Totaal te betalen:"},null,null,null,null,{"$f":"G5281+G5282","v":0},null,null,null,null,null,"Totaal te betalen:",null,null,null,null,null,null,null,null,null,null,null,{"$f":"G5285","v":0}]
[]
[{"$f":"Data!$A$23","v":"TGV Opstal dankt u voor uw aanwezigheid!  Eet smakelijk!"}]
[]
["Fietsclub TGV Opstal",null,null,null,null,null,"Tafel nr:"]
[{"$f":"A5266","v":113}]
[]
[{"$f":"Data!$B$4","v":"Kalkoenfilet"}]
[null,{"$f":"Data!$C$5","v":"Natuur"},{"$f":"C5269","v":0},"x",{"$f":"Data!$F$5","v":17},"=",{"$f":"C5293*E5293","v":0}]
[null,{"$f":"Data!$C$6","v":"Champignons"},{"$f":"C5270","v":0},"x",{"$f":"Data!$F$6","v":17},"=",{"$f":"C5294*E5294","v":0}]
[null,{"$f":"Data!$C$7","v":"Peper"},0,"x",{"$f":"Data!$F$7","v":17},"=",{"$f":"C5295*E5295","v":0}]
[]
[{"$f":"Data!$B$9","v":"Kabeljauwhaasje"},null,0,"x",{"$f":"Data!$F$9","v":17},"=",{"$f":"C5297*E5297","v":0}]
[]
[{"$f":"Data!$B$11","v":"Kindermenu"}]
[null,{"$f":"Data!$C$12","v":"Natuur"},0,"x",{"$f":"Data!$F$12","v":8},"=",{"$f":"C5300*E5300","v":0}]
[null,{"$f":"Data!$C$13","v":"Champignons"},0,"x",{"$f":"Data!$F$13","v":8},"=",{"$f":"C5301*E5301","v":0}]
[null,{"$f":"Data!$C$14","v":"Peper"},0,"x",{"$f":"Data!$F$14","v":8},"=",0]
[null,{"$f":"Data!$C$15","v":"Kabeljauwhaasje"},0,"x",{"$f":"Data!$F$15","v":8},"=",0]
[]
[null,{"$f":"Data!$C$17","v":"Totaal eten:"},null,null,null,null,{"$f":"SUM(G5293:G5304)","v":0}]
[null,{"$f":"Data!$C$18","v":"Totaal kaarten:"},{"$f":"C5282","v":0},"x",{"$f":"Data!$F$18","v":3},"=",{"$f":"-(C5306*E5306)","v":0}]
[]
[]
[null,{"$f":"Data!$C$21","v":"Totaal te betalen:"},null,null,null,null,{"$f":"G5305+G5306","v":0}]
[]
[{"$f":"Data!$A$23","v":"TGV Opstal dankt u voor uw aanwezigheid!  Eet smakelijk!"}]
["Fietsclub TGV Opstal",null,null,null,null,null,"Tafel nr:"]
[{"$f":"A5266+1","v":114},null,null,null,null,null,null,null,null,null,null,{"$f":"A5313","v":114}]
[]
[{"$f":"Data!$B$4","v":"Kalkoenfilet"},null,null,null,null,null,null,null,null,null,null,"Kalkoenfilet"]
[null,{"$f":"Data!$C$5","v":"Natuur"},null,"x",{"$f":"Data!$F$5","v":17},"=",{"$f":"C5316*E5316","v":0},null,null,null,null,null,"Natuur",null,{"$f":"C5316","v":0}]
[null,{"$f":"Data!$C$6","v":"Champignons"},null,"x",{"$f":"Data!$F$6","v":17},"=",{"$f":"C5317*E5317","v":0},null,null,null,null,null,"Champignons",null,null,{"$f":"C5317","v":0}]
[null,{"$f":"Data!$C$7","v":"Peper"},null,"x",{"$f":"Data!$F$7","v":17},"=",{"$f":"C5318*E5318","v":0},null,null,null,null,null,"Peper",null,null,null,{"$f":"C5318","v":0}]
[]
[{"$f":"Data!$B$9","v":"Kabeljauwhaasje"},null,null,"x",{"$f":"Data!$F$9","v":17},"=",{"$f":"C5320*E5320","v":0},null,null,null,null,"Kabeljauwhaasje",null,null,null,null,null,{"$f":"C5320","v":0}]
[]
[{"$f":"Data!$B$11","v":"Kindermenu"},null,null,null,null,null,null,null,null,null,null,"Kindermenu"]
[null,{"$f":"Data!$C$12","v":"Natuur"},null,"x",{"$f":"Data!$F$12","v":8},"=",{"$f":"C5323*E5323","v":0},null,null,null,null,null,"Natuur",null,null,null,null,null,{"$f":"C5323","v":0}]
[null,{"$f":"Data!$C$13","v":"Champignons"},null,"x",{"$f":"Data!$F$13","v":8},"=",{"$f":"C5324*E5324","v":0},null,null,null,null,null,"Champignons",null,null,null,null,null,null,{"$f":"C5324","v":0}]
[null,{"$f":"Data!$C$14","v":"Peper"},null,"x",{"$f":"Data!$F$14","v":8},"=",0,null,null,null,null,null,"Peper",null,null,null,null,null,null,null,{"$f":"C5325","v":0}]
[null,{"$f":"Data!$C$15","v":"Kabeljauwhaasje"},null,"x",{"$f":"Data!$F$15","v":8},"=",0,null,null,null,null,null,"Kabeljauwhaasje",null,null,null,null,null,null,null,null,{"$f":"C5326","v":0}]
[]
[null,{"$f":"Data!$C$17","v":"Totaal eten:"},null,null,null,null,{"$f":"SUM(G5316:G5327)","v":0},null,null,null,null,null,"Totaal eten:",null,null,null,null,null,null,null,null,null,{"$f":"G5328","v":0}]
[null,{"$f":"Data!$C$18","v":"Totaal kaarten:"},null,"x",{"$f":"Data!$F$18","v":3},"=",{"$f":"-(C5329*E5329)","v":0}]
[null,null,null,null,null,null,null,null,null,null,null,null,"Totaal kaarten (bedrag):",null,null,null,null,null,null,null,null,null,null,{"$f":"C5329","v":0}]
[]
[null,{"$f":"Data!$C$21","v":"Totaal te betalen:"},null,null,null,null,{"$f":"G5328+G5329","v":0},null,null,null,null,null,"Totaal te betalen:",null,null,null,null,null,null,null,null,null,null,null,{"$f":"G5332","v":0}]
[]
[{"$f":"Data!$A$23","v":"TGV Opstal dankt u voor uw aanwezigheid!  Eet smakelijk!"}]
[]
["Fietsclub TGV Opstal",null,null,null,null,null,"Tafel nr:"]
[{"$f":"A5313","v":114}]
[]
[{"$f":"Data!$B$4","v":"Kalkoenfilet"}]
[null,{"$f":"Data!$C$5","v":"Natuur"},{"$f":"C5316","v":0},"x",{"$f":"Data!$F$5","v":17},"=",{"$f":"C5340*E5340","v":0}]
[null,{"$f":"Data!$C$6","v":"Champignons"},{"$f":"C5317","v":0},"x",{"$f":"Data!$F$6","v":17},"=",{"$f":"C5341*E5341","v":0}]
[null,{"$f":"Data!$C$7","v":"Peper"},0,"x",{"$f":"Data!$F$7","v":17},"=",{"$f":"C5342*E5342","v":0}]
[]
[{"$f":"Data!$B$9","v":"Kabeljauwhaasje"},null,0,"x",{"$f":"Data!$F$9","v":17},"=",{"$f":"C5344*E5344","v":0}]
[]
[{"$f":"Data!$B$11","v":"Kindermenu"}]
[null,{"$f":"Data!$C$12","v":"Natuur"},0,"x",{"$f":"Data!$F$12","v":8},"=",{"$f":"C5347*E5347","v":0}]
[null,{"$f":"Data!$C$13","v":"Champignons"},0,"x",{"$f":"Data!$F$13","v":8},"=",{"$f":"C5348*E5348","v":0}]
[null,{"$f":"Data!$C$14","v":"Peper"},0,"x",{"$f":"Data!$F$14","v":8},"=",0]
[null,{"$f":"Data!$C$15","v":"Kabeljauwhaasje"},0,"x",{"$f":"Data!$F$15","v":8},"=",0]
[]
[null,{"$f":"Data!$C$17","v":"Totaal eten:"},null,null,null,null,{"$f":"SUM(G5340:G5351)","v":0}]
[null,{"$f":"Data!$C$18","v":"Totaal kaarten:"},{"$f":"C5329","v":0},"x",{"$f":"Data!$F$18","v":3},"=",{"$f":"-(C5353*E5353)","v":0}]
[]
[]
[null,{"$f":"Data!$C$21","v":"Totaal te betalen:"},null,null,null,null,{"$f":"G5352+G5353","v":0}]
[]
[{"$f":"Data!$A$23","v":"TGV Opstal dankt u voor uw aanwezigheid!  Eet smakelijk!"}]
["Fietsclub TGV Opstal",null,null,null,null,null,"Tafel nr:"]
[{"$f":"A5313+1","v":115},null,null,null,null,null,null,null,null,null,null,{"$f":"A5360","v":115}]
[]
[{"$f":"Data!$B$4","v":"Kalkoenfilet"},null,null,null,null,null,null,null,null,null,null,"Kalkoenfilet"]
[null,{"$f":"Data!$C$5","v":"Natuur"},null,"x",{"$f":"Data!$F$5","v":17},"=",{"$f":"C5363*E5363","v":0},null,null,null,null,null,"Natuur",null,{"$f":"C5363","v":0}]
[null,{"$f":"Data!$C$6","v":"Champignons"},null,"x",{"$f":"Data!$F$6","v":17},"=",{"$f":"C5364*E5364","v":0},null,null,null,null,null,"Champignons",null,null,{"$f":"C5364","v":0}]
[null,{"$f":"Data!$C$7","v":"Peper"},null,"x",{"$f":"Data!$F$7","v":17},"=",{"$f":"C5365*E5365","v":0},null,null,null,null,null,"Peper",null,null,null,{"$f":"C5365","v":0}]
[]
[{"$f":"Data!$B$9","v":"Kabeljauwhaasje"},null,null,"x",{"$f":"Data!$F$9","v":17},"=",{"$f":"C5367*E5367","v":0},null,null,null,null,"Kabeljauwhaasje",null,null,null,null,null,{"$f":"C5367","v":0}]
[]
[{"$f":"Data!$B$11","v":"Kindermenu"},null,null,null,null,null,null,null,null,null,null,"Kindermenu"]
[null,{"$f":"Data!$C$12","v":"Natuur"},null,"x",{"$f":"Data!$F$12","v":8},"=",{"$f":"C5370*E5370","v":0},null,null,null,null,null,"Natuur",null,null,null,null,null,{"$f":"C5370","v":0}]
[null,{"$f":"Data!$C$13","v":"Champignons"},null,"x",{"$f":"Data!$F$13","v":8},"=",{"$f":"C5371*E5371","v":0},null,null,null,null,null,"Champignons",null,null,null,null,null,null,{"$f":"C5371","v":0}]
[null,{"$f":"Data!$C$14","v":"Peper"},null,"x",{"$f":"Data!$F$14","v":8},"=",0,null,null,null,null,null,"Peper",null,null,null,null,null,null,null,{"$f":"C5372","v":0}]
[null,{"$f":"Data!$C$15","v":"Kabeljauwhaasje"},null,"x",{"$f":"Data!$F$15","v":8},"=",0,null,null,null,null,null,"Kabeljauwhaasje",null,null,null,null,null,null,null,null,{"$f":"C5373","v":0}]
[]
[null,{"$f":"Data!$C$17","v":"Totaal eten:"},null,null,null,null,{"$f":"SUM(G5363:G5374)","v":0},null,null,null,null,null,"Totaal eten:",null,null,null,null,null,null,null,null,null,{"$f":"G5375","v":0}]
[null,{"$f":"Data!$C$18","v":"Totaal kaarten:"},null,"x",{"$f":"Data!$F$18","v":3},"=",{"$f":"-(C5376*E5376)","v":0}]
[null,null,null,null,null,null,null,null,null,null,null,null,"Totaal kaarten (bedrag):",null,null,null,null,null,null,null,null,null,null,{"$f":"C5376","v":0}]
[]
[null,{"$f":"Data!$C$21","v":"Totaal te betalen:"},null,null,null,null,{"$f":"G5375+G5376","v":0},null,null,null,null,null,"Totaal te betalen:",null,null,null,null,null,null,null,null,null,null,null,{"$f":"G5379","v":0}]
[]
[{"$f":"Data!$A$23","v":"TGV Opstal dankt u voor uw aanwezigheid!  Eet smakelijk!"}]
[]
["Fietsclub TGV Opstal",null,null,null,null,null,"Tafel nr:"]
[{"$f":"A5360","v":115}]
[]
[{"$f":"Data!$B$4","v":"Kalkoenfilet"}]
[null,{"$f":"Data!$C$5","v":"Natuur"},{"$f":"C5363","v":0},"x",{"$f":"Data!$F$5","v":17},"=",{"$f":"C5387*E5387","v":0}]
[null,{"$f":"Data!$C$6","v":"Champignons"},{"$f":"C5364","v":0},"x",{"$f":"Data!$F$6","v":17},"=",{"$f":"C5388*E5388","v":0}]
[null,{"$f":"Data!$C$7","v":"Peper"},0,"x",{"$f":"Data!$F$7","v":17},"=",{"$f":"C5389*E5389","v":0}]
[]
[{"$f":"Data!$B$9","v":"Kabeljauwhaasje"},null,0,"x",{"$f":"Data!$F$9","v":17},"=",{"$f":"C5391*E5391","v":0}]
[]
[{"$f":"Data!$B$11","v":"Kindermenu"}]
[null,{"$f":"Data!$C$12","v":"Natuur"},0,"x",{"$f":"Data!$F$12","v":8},"=",{"$f":"C5394*E5394","v":0}]
[null,{"$f":"Data!$C$13","v":"Champignons"},0,"x",{"$f":"Data!$F$13","v":8},"=",{"$f":"C5395*E5395","v":0}]
[null,{"$f":"Data!$C$14","v":"Peper"},0,"x",{"$f":"Data!$F$14","v":8},"=",0]
[null,{"$f":"Data!$C$15","v":"Kabeljauwhaasje"},0,"x",{"$f":"Data!$F$15","v":8},"=",0]
[]
[null,{"$f":"Data!$C$17","v":"Totaal eten:"},null,null,null,null,{"$f":"SUM(G5387:G5398)","v":0}]
[null,{"$f":"Data!$C$18","v":"Totaal kaarten:"},{"$f":"C5376","v":0},"x",{"$f":"Data!$F$18","v":3},"=",{"$f":"-(C5400*E5400)","v":0}]
[]
[]
[null,{"$f":"Data!$C$21","v":"Totaal te betalen:"},null,null,null,null,{"$f":"G5399+G5400","v":0}]
[]
[{"$f":"Data!$A$23","v":"TGV Opstal dankt u voor uw aanwezigheid!  Eet smakelijk!"}]
["Fietsclub TGV Opstal",null,null,null,null,null,"Tafel nr:"]
[{"$f":"A5360+1","v":116},null,null,null,null,null,null,null,null,null,null,{"$f":"A5407","v":116}]
[]
[{"$f":"Data!$B$4","v":"Kalkoenfilet"},null,null,null,null,null,null,null,null,null,null,"Kalkoenfilet"]
[null,{"$f":"Data!$C$5","v":"Natuur"},null,"x",{"$f":"Data!$F$5","v":17},"=",{"$f":"C5410*E5410","v":0},null,null,null,null,null,"Natuur",null,{"$f":"C5410","v":0}]
[null,{"$f":"Data!$C$6","v":"Champignons"},null,"x",{"$f":"Data!$F$6","v":17},"=",{"$f":"C5411*E5411","v":0},null,null,null,null,null,"Champignons",null,null,{"$f":"C5411","v":0}]
[null,{"$f":"Data!$C$7","v":"Peper"},null,"x",{"$f":"Data!$F$7","v":17},"=",{"$f":"C5412*E5412","v":0},null,null,null,null,null,"Peper",null,null,null,{"$f":"C5412","v":0}]
[]
[{"$f":"Data!$B$9","v":"Kabeljauwhaasje"},null,null,"x",{"$f":"Data!$F$9","v":17},"=",{"$f":"C5414*E5414","v":0},null,null,null,null,"Kabeljauwhaasje",null,null,null,null,null,{"$f":"C5414","v":0}]
[]
[{"$f":"Data!$B$11","v":"Kindermenu"},null,null,null,null,null,null,null,null,null,null,"Kindermenu"]
[null,{"$f":"Data!$C$12","v":"Natuur"},null,"x",{"$f":"Data!$F$12","v":8},"=",{"$f":"C5417*E5417","v":0},null,null,null,null,null,"Natuur",null,null,null,null,null,{"$f":"C5417","v":0}]
[null,{"$f":"Data!$C$13","v":"Champignons"},null,"x",{"$f":"Data!$F$13","v":8},"=",{"$f":"C5418*E5418","v":0},null,null,null,null,null,"Champignons",null,null,null,null,null,null,{"$f":"C5418","v":0}]
[null,{"$f":"Data!$C$14","v":"Peper"},null,"x",{"$f":"Data!$F$14","v":8},"=",0,null,null,null,null,null,"Peper",null,null,null,null,null,null,null,{"$f":"C5419","v":0}]
[null,{"$f":"Data!$C$15","v":"Kabeljauwhaasje"},null,"x",{"$f":"Data!$F$15","v":8},"=",0,null,null,null,null,null,"Kabeljauwhaasje",null,null,null,null,null,null,null,null,{"$f":"C5420","v":0}]
[]
[null,{"$f":"Data!$C$17","v":"Totaal eten:"},null,null,null,null,{"$f":"SUM(G5410:G5421)","v":0},null,null,null,null,null,"Totaal eten:",null,null,null,null,null,null,null,null,null,{"$f":"G5422","v":0}]
[null,{"$f":"Data!$C$18","v":"Totaal kaarten:"},null,"x",{"$f":"Data!$F$18","v":3},"=",{"$f":"-(C5423*E5423)","v":0}]
[null,null,null,null,null,null,null,null,null,null,null,null,"Totaal kaarten (bedrag):",null,null,null,null,null,null,null,null,null,null,{"$f":"C5423","v":0}]
[]
[null,{"$f":"Data!$C$21","v":"Totaal te betalen:"},null,null,null,null,{"$f":"G5422+G5423","v":0},null,null,null,null,null,"Totaal te betalen:",null,null,null,null,null,null,null,null,null,null,null,{"$f":"G5426","v":0}]
[]
[{"$f":"Data!$A$23","v":"TGV Opstal dankt u voor uw aanwezigheid!  Eet smakelijk!"}]
[]
["Fietsclub TGV Opstal",null,null,null,null,null,"Tafel nr:"]
[{"$f":"A5407","v":116}]
[]
[{"$f":"Data!$B$4","v":"Kalkoenfilet"}]
[null,{"$f":"Data!$C$5","v":"Natuur"},{"$f":"C5410","v":0},"x",{"$f":"Data!$F$5","v":17},"=",{"$f":"C5434*E5434","v":0}]
[null,{"$f":"Data!$C$6","v":"Champignons"},{"$f":"C5411","v":0},"x",{"$f":"Data!$F$6","v":17},"=",{"$f":"C5435*E5435","v":0}]
[null,{"$f":"Data!$C$7","v":"Peper"},0,"x",{"$f":"Data!$F$7","v":17},"=",{"$f":"C5436*E5436","v":0}]
[]
[{"$f":"Data!$B$9","v":"Kabeljauwhaasje"},null,0,"x",{"$f":"Data!$F$9","v":17},"=",{"$f":"C5438*E5438","v":0}]
[]
[{"$f":"Data!$B$11","v":"Kindermenu"}]
[null,{"$f":"Data!$C$12","v":"Natuur"},0,"x",{"$f":"Data!$F$12","v":8},"=",{"$f":"C5441*E5441","v":0}]
[null,{"$f":"Data!$C$13","v":"Champignons"},0,"x",{"$f":"Data!$F$13","v":8},"=",{"$f":"C5442*E5442","v":0}]
[null,{"$f":"Data!$C$14","v":"Peper"},0,"x",{"$f":"Data!$F$14","v":8},"=",0]
[null,{"$f":"Data!$C$15","v":"Kabeljauwhaasje"},0,"x",{"$f":"Data!$F$15","v":8},"=",0]
[]
[null,{"$f":"Data!$C$17","v":"Totaal eten:"},null,null,null,null,{"$f":"SUM(G5434:G5445)","v":0}]
[null,{"$f":"Data!$C$18","v":"Totaal kaarten:"},{"$f":"C5423","v":0},"x",{"$f":"Data!$F$18","v":3},"=",{"$f":"-(C5447*E5447)","v":0}]
[]
[]
[null,{"$f":"Data!$C$21","v":"Totaal te betalen:"},null,null,null,null,{"$f":"G5446+G5447","v":0}]
[]
[{"$f":"Data!$A$23","v":"TGV Opstal dankt u voor uw aanwezigheid!  Eet smakelijk!"}]
["Fietsclub TGV Opstal",null,null,null,null,null,"Tafel nr:"]
[{"$f":"A5407+1","v":117},null,null,null,null,null,null,null,null,null,null,{"$f":"A5454","v":117}]
[]
[{"$f":"Data!$B$4","v":"Kalkoenfilet"},null,null,null,null,null,null,null,null,null,null,"Kalkoenfilet"]
[null,{"$f":"Data!$C$5","v":"Natuur"},null,"x",{"$f":"Data!$F$5","v":17},"=",{"$f":"C5457*E5457","v":0},null,null,null,null,null,"Natuur",null,{"$f":"C5457","v":0}]
[null,{"$f":"Data!$C$6","v":"Champignons"},null,"x",{"$f":"Data!$F$6","v":17},"=",{"$f":"C5458*E5458","v":0},null,null,null,null,null,"Champignons",null,null,{"$f":"C5458","v":0}]
[null,{"$f":"Data!$C$7","v":"Peper"},null,"x",{"$f":"Data!$F$7","v":17},"=",{"$f":"C5459*E5459","v":0},null,null,null,null,null,"Peper",null,null,null,{"$f":"C5459","v":0}]
[]
[{"$f":"Data!$B$9","v":"Kabeljauwhaasje"},null,null,"x",{"$f":"Data!$F$9","v":17},"=",{"$f":"C5461*E5461","v":0},null,null,null,null,"Kabeljauwhaasje",null,null,null,null,null,{"$f":"C5461","v":0}]
[]
[{"$f":"Data!$B$11","v":"Kindermenu"},null,null,null,null,null,null,null,null,null,null,"Kindermenu"]
[null,{"$f":"Data!$C$12","v":"Natuur"},null,"x",{"$f":"Data!$F$12","v":8},"=",{"$f":"C5464*E5464","v":0},null,null,null,null,null,"Natuur",null,null,null,null,null,{"$f":"C5464","v":0}]
[null,{"$f":"Data!$C$13","v":"Champignons"},null,"x",{"$f":"Data!$F$13","v":8},"=",{"$f":"C5465*E5465","v":0},null,null,null,null,null,"Champignons",null,null,null,null,null,null,{"$f":"C5465","v":0}]
[null,{"$f":"Data!$C$14","v":"Peper"},null,"x",{"$f":"Data!$F$14","v":8},"=",0,null,null,null,null,null,"Peper",null,null,null,null,null,null,null,{"$f":"C5466","v":0}]
[null,{"$f":"Data!$C$15","v":"Kabeljauwhaasje"},null,"x",{"$f":"Data!$F$15","v":8},"=",0,null,null,null,null,null,"Kabeljauwhaasje",null,null,null,null,null,null,null,null,{"$f":"C5467","v":0}]
[]
[null,{"$f":"Data!$C$17","v":"Totaal eten:"},null,null,null,null,{"$f":"SUM(G5457:G5468)","v":0},null,null,null,null,null,"Totaal eten:",null,null,null,null,null,null,null,null,null,{"$f":"G5469","v":0}]
[null,{"$f":"Data!$C$18","v":"Totaal kaarten:"},null,"x",{"$f":"Data!$F$18","v":3},"=",{"$f":"-(C5470*E5470)","v":0}]
[null,null,null,null,null,null,null,null,null,null,null,null,"Totaal kaarten (bedrag):",null,null,null,null,null,null,null,null,null,null,{"$f":"C5470","v":0}]
[]
[null,{"$f":"Data!$C$21","v":"Totaal te betalen:"},null,null,null,null,{"$f":"G5469+G5470","v":0},null,null,null,null,null,"Totaal te betalen:",null,null,null,null,null,null,null,null,null,null,null,{"$f":"G5473","v":0}]
[]
[{"$f":"Data!$A$23","v":"TGV Opstal dankt u voor uw aanwezigheid!  Eet smakelijk!"}]
[]
["Fietsclub TGV Opstal",null,null,null,null,null,"Tafel nr:"]
[{"$f":"A5454","v":117}]
[]
[{"$f":"Data!$B$4","v":"Kalkoenfilet"}]
[null,{"$f":"Data!$C$5","v":"Natuur"},{"$f":"C5457","v":0},"x",{"$f":"Data!$F$5","v":17},"=",{"$f":"C5481*E5481","v":0}]
[null,{"$f":"Data!$C$6","v":"Champignons"},{"$f":"C5458","v":0},"x",{"$f":"Data!$F$6","v":17},"=",{"$f":"C5482*E5482","v":0}]
[null,{"$f":"Data!$C$7","v":"Peper"},0,"x",{"$f":"Data!$F$7","v":17},"=",{"$f":"C5483*E5483","v":0}]
[]
[{"$f":"Data!$B$9","v":"Kabeljauwhaasje"},null,0,"x",{"$f":"Data!$F$9","v":17},"=",{"$f":"C5485*E5485","v":0}]
[]
[{"$f":"Data!$B$11","v":"Kindermenu"}]
[null,{"$f":"Data!$C$12","v":"Natuur"},0,"x",{"$f":"Data!$F$12","v":8},"=",{"$f":"C5488*E5488","v":0}]
[null,{"$f":"Data!$C$13","v":"Champignons"},0,"x",{"$f":"Data!$F$13","v":8},"=",{"$f":"C5489*E5489","v":0}]
[null,{"$f":"Data!$C$14","v":"Peper"},0,"x",{"$f":"Data!$F$14","v":8},"=",0]
[null,{"$f":"Data!$C$15","v":"Kabeljauwhaasje"},0,"x",{"$f":"Data!$F$15","v":8},"=",0]
[]
[null,{"$f":"Data!$C$17","v":"Totaal eten:"},null,null,null,null,{"$f":"SUM(G5481:G5492)","v":0}]
[null,{"$f":"Data!$C$18","v":"Totaal kaarten:"},{"$f":"C5470","v":0},"x",{"$f":"Data!$F$18","v":3},"=",{"$f":"-(C5494*E5494)","v":0}]
[]
[]
[null,{"$f":"Data!$C$21","v":"Totaal te betalen:"},null,null,null,null,{"$f":"G5493+G5494","v":0}]
[]
[{"$f":"Data!$A$23","v":"TGV Opstal dankt u voor uw aanwezigheid!  Eet smakelijk!"}]
["Fietsclub TGV Opstal",null,null,null,null,null,"Tafel nr:"]
[{"$f":"A5454+1","v":118},null,null,null,null,null,null,null,null,null,null,{"$f":"A5501","v":118}]
[]
[{"$f":"Data!$B$4","v":"Kalkoenfilet"},null,null,null,null,null,null,null,null,null,null,"Kalkoenfilet"]
[null,{"$f":"Data!$C$5","v":"Natuur"},null,"x",{"$f":"Data!$F$5","v":17},"=",{"$f":"C5504*E5504","v":0},null,null,null,null,null,"Natuur",null,{"$f":"C5504","v":0}]
[null,{"$f":"Data!$C$6","v":"Champignons"},null,"x",{"$f":"Data!$F$6","v":17},"=",{"$f":"C5505*E5505","v":0},null,null,null,null,null,"Champignons",null,null,{"$f":"C5505","v":0}]
[null,{"$f":"Data!$C$7","v":"Peper"},null,"x",{"$f":"Data!$F$7","v":17},"=",{"$f":"C5506*E5506","v":0},null,null,null,null,null,"Peper",null,null,null,{"$f":"C5506","v":0}]
[]
[{"$f":"Data!$B$9","v":"Kabeljauwhaasje"},null,null,"x",{"$f":"Data!$F$9","v":17},"=",{"$f":"C5508*E5508","v":0},null,null,null,null,"Kabeljauwhaasje",null,null,null,null,null,{"$f":"C5508","v":0}]
[]
[{"$f":"Data!$B$11","v":"Kindermenu"},null,null,null,null,null,null,null,null,null,null,"Kindermenu"]
[null,{"$f":"Data!$C$12","v":"Natuur"},null,"x",{"$f":"Data!$F$12","v":8},"=",{"$f":"C5511*E5511","v":0},null,null,null,null,null,"Natuur",null,null,null,null,null,{"$f":"C5511","v":0}]
[null,{"$f":"Data!$C$13","v":"Champignons"},null,"x",{"$f":"Data!$F$13","v":8},"=",{"$f":"C5512*E5512","v":0},null,null,null,null,null,"Champignons",null,null,null,null,null,null,{"$f":"C5512","v":0}]
[null,{"$f":"Data!$C$14","v":"Peper"},null,"x",{"$f":"Data!$F$14","v":8},"=",0,null,null,null,null,null,"Peper",null,null,null,null,null,null,null,{"$f":"C5513","v":0}]
[null,{"$f":"Data!$C$15","v":"Kabeljauwhaasje"},null,"x",{"$f":"Data!$F$15","v":8},"=",0,null,null,null,null,null,"Kabeljauwhaasje",null,null,null,null,null,null,null,null,{"$f":"C5514","v":0}]
[]
[null,{"$f":"Data!$C$17","v":"Totaal eten:"},null,null,null,null,{"$f":"SUM(G5504:G5515)","v":0},null,null,null,null,null,"Totaal eten:",null,null,null,null,null,null,null,null,null,{"$f":"G5516","v":0}]
[null,{"$f":"Data!$C$18","v":"Totaal kaarten:"},null,"x",{"$f":"Data!$F$18","v":3},"=",{"$f":"-(C5517*E5517)","v":0}]
[null,null,null,null,null,null,null,null,null,null,null,null,"Totaal kaarten (bedrag):",null,null,null,null,null,null,null,null,null,null,{"$f":"C5517","v":0}]
[]
[null,{"$f":"Data!$C$21","v":"Totaal te betalen:"},null,null,null,null,{"$f":"G5516+G5517","v":0},null,null,null,null,null,"Totaal te betalen:",null,null,null,null,null,null,null,null,null,null,null,{"$f":"G5520","v":0}]
[]
[{"$f":"Data!$A$23","v":"TGV Opstal dankt u voor uw aanwezigheid!  Eet smakelijk!"}]
[]
["Fietsclub TGV Opstal",null,null,null,null,null,"Tafel nr:"]
[{"$f":"A5501","v":118}]
[]
[{"$f":"Data!$B$4","v":"Kalkoenfilet"}]
[null,{"$f":"Data!$C$5","v":"Natuur"},{"$f":"C5504","v":0},"x",{"$f":"Data!$F$5","v":17},"=",{"$f":"C5528*E5528","v":0}]
[null,{"$f":"Data!$C$6","v":"Champignons"},{"$f":"C5505","v":0},"x",{"$f":"Data!$F$6","v":17},"=",{"$f":"C5529*E5529","v":0}]
[null,{"$f":"Data!$C$7","v":"Peper"},0,"x",{"$f":"Data!$F$7","v":17},"=",{"$f":"C5530*E5530","v":0}]
[]
[{"$f":"Data!$B$9","v":"Kabeljauwhaasje"},null,0,"x",{"$f":"Data!$F$9","v":17},"=",{"$f":"C5532*E5532","v":0}]
[]
[{"$f":"Data!$B$11","v":"Kindermenu"}]
[null,{"$f":"Data!$C$12","v":"Natuur"},0,"x",{"$f":"Data!$F$12","v":8},"=",{"$f":"C5535*E5535","v":0}]
[null,{"$f":"Data!$C$13","v":"Champignons"},0,"x",{"$f":"Data!$F$13","v":8},"=",{"$f":"C5536*E5536","v":0}]
[null,{"$f":"Data!$C$14","v":"Peper"},0,"x",{"$f":"Data!$F$14","v":8},"=",0]
[null,{"$f":"Data!$C$15","v":"Kabeljauwhaasje"},0,"x",{"$f":"Data!$F$15","v":8},"=",0]
[]
[null,{"$f":"Data!$C$17","v":"Totaal eten:"},null,null,null,null,{"$f":"SUM(G5528:G5539)","v":0}]
[null,{"$f":"Data!$C$18","v":"Totaal kaarten:"},{"$f":"C5517","v":0},"x",{"$f":"Data!$F$18","v":3},"=",{"$f":"-(C5541*E5541)","v":0}]
[]
[]
[null,{"$f":"Data!$C$21","v":"Totaal te betalen:"},null,null,null,null,{"$f":"G5540+G5541","v":0}]
[]
[{"$f":"Data!$A$23","v":"TGV Opstal dankt u voor uw aanwezigheid!  Eet smakelijk!"}]
["Fietsclub TGV Opstal",null,null,null,null,null,"Tafel nr:"]
[{"$f":"A5501+1","v":119},null,null,null,null,null,null,null,null,null,null,{"$f":"A5548","v":119}]
[]
[{"$f":"Data!$B$4","v":"Kalkoenfilet"},null,null,null,null,null,null,null,null,null,null,"Kalkoenfilet"]
[null,{"$f":"Data!$C$5","v":"Natuur"},null,"x",{"$f":"Data!$F$5","v":17},"=",{"$f":"C5551*E5551","v":0},null,null,null,null,null,"Natuur",null,{"$f":"C5551","v":0}]
[null,{"$f":"Data!$C$6","v":"Champignons"},null,"x",{"$f":"Data!$F$6","v":17},"=",{"$f":"C5552*E5552","v":0},null,null,null,null,null,"Champignons",null,null,{"$f":"C5552","v":0}]
[null,{"$f":"Data!$C$7","v":"Peper"},null,"x",{"$f":"Data!$F$7","v":17},"=",{"$f":"C5553*E5553","v":0},null,null,null,null,null,"Peper",null,null,null,{"$f":"C5553","v":0}]
[]
[{"$f":"Data!$B$9","v":"Kabeljauwhaasje"},null,null,"x",{"$f":"Data!$F$9","v":17},"=",{"$f":"C5555*E5555","v":0},null,null,null,null,"Kabeljauwhaasje",null,null,null,null,null,{"$f":"C5555","v":0}]
[]
[{"$f":"Data!$B$11","v":"Kindermenu"},null,null,null,null,null,null,null,null,null,null,"Kindermenu"]
[null,{"$f":"Data!$C$12","v":"Natuur"},null,"x",{"$f":"Data!$F$12","v":8},"=",{"$f":"C5558*E5558","v":0},null,null,null,null,null,"Natuur",null,null,null,null,null,{"$f":"C5558","v":0}]
[null,{"$f":"Data!$C$13","v":"Champignons"},null,"x",{"$f":"Data!$F$13","v":8},"=",{"$f":"C5559*E5559","v":0},null,null,null,null,null,"Champignons",null,null,null,null,null,null,{"$f":"C5559","v":0}]
[null,{"$f":"Data!$C$14","v":"Peper"},null,"x",{"$f":"Data!$F$14","v":8},"=",0,null,null,null,null,null,"Peper",null,null,null,null,null,null,null,{"$f":"C5560","v":0}]
[null,{"$f":"Data!$C$15","v":"Kabeljauwhaasje"},null,"x",{"$f":"Data!$F$15","v":8},"=",0,null,null,null,null,null,"Kabeljauwhaasje",null,null,null,null,null,null,null,null,{"$f":"C5561","v":0}]
[]
[null,{"$f":"Data!$C$17","v":"Totaal eten:"},null,null,null,null,{"$f":"SUM(G5551:G5562)","v":0},null,null,null,null,null,"Totaal eten:",null,null,null,null,null,null,null,null,null,{"$f":"G5563","v":0}]
[null,{"$f":"Data!$C$18","v":"Totaal kaarten:"},null,"x",{"$f":"Data!$F$18","v":3},"=",{"$f":"-(C5564*E5564)","v":0}]
[null,null,null,null,null,null,null,null,null,null,null,null,"Totaal kaarten (bedrag):",null,null,null,null,null,null,null,null,null,null,{"$f":"C5564","v":0}]
[]
[null,{"$f":"Data!$C$21","v":"Totaal te betalen:"},null,null,null,null,{"$f":"G5563+G5564","v":0},null,null,null,null,null,"Totaal te betalen:",null,null,null,null,null,null,null,null,null,null,null,{"$f":"G5567","v":0}]
[]
[{"$f":"Data!$A$23","v":"TGV Opstal dankt u voor uw aanwezigheid!  Eet smakelijk!"}]
[]
["Fietsclub TGV Opstal",null,null,null,null,null,"Tafel nr:"]
[{"$f":"A5548","v":119}]
[]
[{"$f":"Data!$B$4","v":"Kalkoenfilet"}]
[null,{"$f":"Data!$C$5","v":"Natuur"},{"$f":"C5551","v":0},"x",{"$f":"Data!$F$5","v":17},"=",{"$f":"C5575*E5575","v":0}]
[null,{"$f":"Data!$C$6","v":"Champignons"},{"$f":"C5552","v":0},"x",{"$f":"Data!$F$6","v":17},"=",{"$f":"C5576*E5576","v":0}]
[null,{"$f":"Data!$C$7","v":"Peper"},0,"x",{"$f":"Data!$F$7","v":17},"=",{"$f":"C5577*E5577","v":0}]
[]
[{"$f":"Data!$B$9","v":"Kabeljauwhaasje"},null,0,"x",{"$f":"Data!$F$9","v":17},"=",{"$f":"C5579*E5579","v":0}]
[]
[{"$f":"Data!$B$11","v":"Kindermenu"}]
[null,{"$f":"Data!$C$12","v":"Natuur"},0,"x",{"$f":"Data!$F$12","v":8},"=",{"$f":"C5582*E5582","v":0}]
[null,{"$f":"Data!$C$13","v":"Champignons"},0,"x",{"$f":"Data!$F$13","v":8},"=",{"$f":"C5583*E5583","v":0}]
[null,{"$f":"Data!$C$14","v":"Peper"},0,"x",{"$f":"Data!$F$14","v":8},"=",0]
[null,{"$f":"Data!$C$15","v":"Kabeljauwhaasje"},0,"x",{"$f":"Data!$F$15","v":8},"=",0]
[]
[null,{"$f":"Data!$C$17","v":"Totaal eten:"},null,null,null,null,{"$f":"SUM(G5575:G5586)","v":0}]
[null,{"$f":"Data!$C$18","v":"Totaal kaarten:"},{"$f":"C5564","v":0},"x",{"$f":"Data!$F$18","v":3},"=",{"$f":"-(C5588*E5588)","v":0}]
[]
[]
[null,{"$f":"Data!$C$21","v":"Totaal te betalen:"},null,null,null,null,{"$f":"G5587+G5588","v":0}]
[]
[{"$f":"Data!$A$23","v":"TGV Opstal dankt u voor uw aanwezigheid!  Eet smakelijk!"}]
["Fietsclub TGV Opstal",null,null,null,null,null,"Tafel nr:"]
[{"$f":"A5548+1","v":120},null,null,null,null,null,null,null,null,null,null,{"$f":"A5595","v":120}]
[]
[{"$f":"Data!$B$4","v":"Kalkoenfilet"},null,null,null,null,null,null,null,null,null,null,"Kalkoenfilet"]
[null,{"$f":"Data!$C$5","v":"Natuur"},null,"x",{"$f":"Data!$F$5","v":17},"=",{"$f":"C5598*E5598","v":0},null,null,null,null,null,"Natuur",null,{"$f":"C5598","v":0}]
[null,{"$f":"Data!$C$6","v":"Champignons"},null,"x",{"$f":"Data!$F$6","v":17},"=",{"$f":"C5599*E5599","v":0},null,null,null,null,null,"Champignons",null,null,{"$f":"C5599","v":0}]
[null,{"$f":"Data!$C$7","v":"Peper"},null,"x",{"$f":"Data!$F$7","v":17},"=",{"$f":"C5600*E5600","v":0},null,null,null,null,null,"Peper",null,null,null,{"$f":"C5600","v":0}]
[]
[{"$f":"Data!$B$9","v":"Kabeljauwhaasje"},null,null,"x",{"$f":"Data!$F$9","v":17},"=",{"$f":"C5602*E5602","v":0},null,null,null,null,"Kabeljauwhaasje",null,null,null,null,null,{"$f":"C5602","v":0}]
[]
[{"$f":"Data!$B$11","v":"Kindermenu"},null,null,null,null,null,null,null,null,null,null,"Kindermenu"]
[null,{"$f":"Data!$C$12","v":"Natuur"},null,"x",{"$f":"Data!$F$12","v":8},"=",{"$f":"C5605*E5605","v":0},null,null,null,null,null,"Natuur",null,null,null,null,null,{"$f":"C5605","v":0}]
[null,{"$f":"Data!$C$13","v":"Champignons"},null,"x",{"$f":"Data!$F$13","v":8},"=",{"$f":"C5606*E5606","v":0},null,null,null,null,null,"Champignons",null,null,null,null,null,null,{"$f":"C5606","v":0}]
[null,{"$f":"Data!$C$14","v":"Peper"},null,"x",{"$f":"Data!$F$14","v":8},"=",0,null,null,null,null,null,"Peper",null,null,null,null,null,null,null,{"$f":"C5607","v":0}]
[null,{"$f":"Data!$C$15","v":"Kabeljauwhaasje"},null,"x",{"$f":"Data!$F$15","v":8},"=",0,null,null,null,null,null,"Kabeljauwhaasje",null,null,null,null,null,null,null,null,{"$f":"C5608","v":0}]
[]
[null,{"$f":"Data!$C$17","v":"Totaal eten:"},null,null,null,null,{"$f":"SUM(G5598:G5609)","v":0},null,null,null,null,null,"Totaal eten:",null,null,null,null,null,null,null,null,null,{"$f":"G5610","v":0}]
[null,{"$f":"Data!$C$18","v":"Totaal kaarten:"},null,"x",{"$f":"Data!$F$18","v":3},"=",{"$f":"-(C5611*E5611)","v":0}]
[null,null,null,null,null,null,null,null,null,null,null,null,"Totaal kaarten (bedrag):",null,null,null,null,null,null,null,null,null,null,{"$f":"C5611","v":0}]
[]
[null,{"$f":"Data!$C$21","v":"Totaal te betalen:"},null,null,null,null,{"$f":"G5610+G5611","v":0},null,null,null,null,null,"Totaal te betalen:",null,null,null,null,null,null,null,null,null,null,null,{"$f":"G5614","v":0}]
[]
[{"$f":"Data!$A$23","v":"TGV Opstal dankt u voor uw aanwezigheid!  Eet smakelijk!"}]
[]
["Fietsclub TGV Opstal",null,null,null,null,null,"Tafel nr:"]
[{"$f":"A5595","v":120}]
[]
[{"$f":"Data!$B$4","v":"Kalkoenfilet"}]
[null,{"$f":"Data!$C$5","v":"Natuur"},{"$f":"C5598","v":0},"x",{"$f":"Data!$F$5","v":17},"=",{"$f":"C5622*E5622","v":0}]
[null,{"$f":"Data!$C$6","v":"Champignons"},{"$f":"C5599","v":0},"x",{"$f":"Data!$F$6","v":17},"=",{"$f":"C5623*E5623","v":0}]
[null,{"$f":"Data!$C$7","v":"Peper"},0,"x",{"$f":"Data!$F$7","v":17},"=",{"$f":"C5624*E5624","v":0}]
[]
[{"$f":"Data!$B$9","v":"Kabeljauwhaasje"},null,0,"x",{"$f":"Data!$F$9","v":17},"=",{"$f":"C5626*E5626","v":0}]
[]
[{"$f":"Data!$B$11","v":"Kindermenu"}]
[null,{"$f":"Data!$C$12","v":"Natuur"},0,"x",{"$f":"Data!$F$12","v":8},"=",{"$f":"C5629*E5629","v":0}]
[null,{"$f":"Data!$C$13","v":"Champignons"},0,"x",{"$f":"Data!$F$13","v":8},"=",{"$f":"C5630*E5630","v":0}]
[null,{"$f":"Data!$C$14","v":"Peper"},0,"x",{"$f":"Data!$F$14","v":8},"=",0]
[null,{"$f":"Data!$C$15","v":"Kabeljauwhaasje"},0,"x",{"$f":"Data!$F$15","v":8},"=",0]
[]
[null,{"$f":"Data!$C$17","v":"Totaal eten:"},null,null,null,null,{"$f":"SUM(G5622:G5633)","v":0}]
[null,{"$f":"Data!$C$18","v":"Totaal kaarten:"},{"$f":"C5611","v":0},"x",{"$f":"Data!$F$18","v":3},"=",{"$f":"-(C5635*E5635)","v":0}]
[]
[]
[null,{"$f":"Data!$C$21","v":"Totaal te betalen:"},null,null,null,null,{"$f":"G5634+G5635","v":0}]
[]
[{"$f":"Data!$A$23","v":"TGV Opstal dankt u voor uw aanwezigheid!  Eet smakelijk!"}]
["Fietsclub TGV Opstal",null,null,null,null,null,"Tafel nr:"]
[{"$f":"A5595+1","v":121},null,null,null,null,null,null,null,null,null,null,{"$f":"A5642","v":121}]
[]
[{"$f":"Data!$B$4","v":"Kalkoenfilet"},null,null,null,null,null,null,null,null,null,null,"Kalkoenfilet"]
[null,{"$f":"Data!$C$5","v":"Natuur"},null,"x",{"$f":"Data!$F$5","v":17},"=",{"$f":"C5645*E5645","v":0},null,null,null,null,null,"Natuur",null,{"$f":"C5645","v":0}]
[null,{"$f":"Data!$C$6","v":"Champignons"},null,"x",{"$f":"Data!$F$6","v":17},"=",{"$f":"C5646*E5646","v":0},null,null,null,null,null,"Champignons",null,null,{"$f":"C5646","v":0}]
[null,{"$f":"Data!$C$7","v":"Peper"},null,"x",{"$f":"Data!$F$7","v":17},"=",{"$f":"C5647*E5647","v":0},null,null,null,null,null,"Peper",null,null,null,{"$f":"C5647","v":0}]
[]
[{"$f":"Data!$B$9","v":"Kabeljauwhaasje"},null,null,"x",{"$f":"Data!$F$9","v":17},"=",{"$f":"C5649*E5649","v":0},null,null,null,null,"Kabeljauwhaasje",null,null,null,null,null,{"$f":"C5649","v":0}]
[]
[{"$f":"Data!$B$11","v":"Kindermenu"},null,null,null,null,null,null,null,null,null,null,"Kindermenu"]
[null,{"$f":"Data!$C$12","v":"Natuur"},null,"x",{"$f":"Data!$F$12","v":8},"=",{"$f":"C5652*E5652","v":0},null,null,null,null,null,"Natuur",null,null,null,null,null,{"$f":"C5652","v":0}]
[null,{"$f":"Data!$C$13","v":"Champignons"},null,"x",{"$f":"Data!$F$13","v":8},"=",{"$f":"C5653*E5653","v":0},null,null,null,null,null,"Champignons",null,null,null,null,null,null,{"$f":"C5653","v":0}]
[null,{"$f":"Data!$C$14","v":"Peper"},null,"x",{"$f":"Data!$F$14","v":8},"=",0,null,null,null,null,null,"Peper",null,null,null,null,null,null,null,{"$f":"C5654","v":0}]
[null,{"$f":"Data!$C$15","v":"Kabeljauwhaasje"},null,"x",{"$f":"Data!$F$15","v":8},"=",0,null,null,null,null,null,"Kabeljauwhaasje",null,null,null,null,null,null,null,null,{"$f":"C5655","v":0}]
[]
[null,{"$f":"Data!$C$17","v":"Totaal eten:"},null,null,null,null,{"$f":"SUM(G5645:G5656)","v":0},null,null,null,null,null,"Totaal eten:",null,null,null,null,null,null,null,null,null,{"$f":"G5657","v":0}]
[null,{"$f":"Data!$C$18","v":"Totaal kaarten:"},null,"x",{"$f":"Data!$F$18","v":3},"=",{"$f":"-(C5658*E5658)","v":0}]
[null,null,null,null,null,null,null,null,null,null,null,null,"Totaal kaarten (bedrag):",null,null,null,null,null,null,null,null,null,null,{"$f":"C5658","v":0}]
[]
[null,{"$f":"Data!$C$21","v":"Totaal te betalen:"},null,null,null,null,{"$f":"G5657+G5658","v":0},null,null,null,null,null,"Totaal te betalen:",null,null,null,null,null,null,null,null,null,null,null,{"$f":"G5661","v":0}]
[]
[{"$f":"Data!$A$23","v":"TGV Opstal dankt u voor uw aanwezigheid!  Eet smakelijk!"}]
[]
["Fietsclub TGV Opstal",null,null,null,null,null,"Tafel nr:"]
[{"$f":"A5642","v":121}]
[]
[{"$f":"Data!$B$4","v":"Kalkoenfilet"}]
[null,{"$f":"Data!$C$5","v":"Natuur"},{"$f":"C5645","v":0},"x",{"$f":"Data!$F$5","v":17},"=",{"$f":"C5669*E5669","v":0}]
[null,{"$f":"Data!$C$6","v":"Champignons"},{"$f":"C5646","v":0},"x",{"$f":"Data!$F$6","v":17},"=",{"$f":"C5670*E5670","v":0}]
[null,{"$f":"Data!$C$7","v":"Peper"},0,"x",{"$f":"Data!$F$7","v":17},"=",{"$f":"C5671*E5671","v":0}]
[]
[{"$f":"Data!$B$9","v":"Kabeljauwhaasje"},null,0,"x",{"$f":"Data!$F$9","v":17},"=",{"$f":"C5673*E5673","v":0}]
[]
[{"$f":"Data!$B$11","v":"Kindermenu"}]
[null,{"$f":"Data!$C$12","v":"Natuur"},0,"x",{"$f":"Data!$F$12","v":8},"=",{"$f":"C5676*E5676","v":0}]
[null,{"$f":"Data!$C$13","v":"Champignons"},0,"x",{"$f":"Data!$F$13","v":8},"=",{"$f":"C5677*E5677","v":0}]
[null,{"$f":"Data!$C$14","v":"Peper"},0,"x",{"$f":"Data!$F$14","v":8},"=",0]
[null,{"$f":"Data!$C$15","v":"Kabeljauwhaasje"},0,"x",{"$f":"Data!$F$15","v":8},"=",0]
[]
[null,{"$f":"Data!$C$17","v":"Totaal eten:"},null,null,null,null,{"$f":"SUM(G5669:G5680)","v":0}]
[null,{"$f":"Data!$C$18","v":"Totaal kaarten:"},{"$f":"C5658","v":0},"x",{"$f":"Data!$F$18","v":3},"=",{"$f":"-(C5682*E5682)","v":0}]
[]
[]
[null,{"$f":"Data!$C$21","v":"Totaal te betalen:"},null,null,null,null,{"$f":"G5681+G5682","v":0}]
[]
[{"$f":"Data!$A$23","v":"TGV Opstal dankt u voor uw aanwezigheid!  Eet smakelijk!"}]
["Fietsclub TGV Opstal",null,null,null,null,null,"Tafel nr:"]
[{"$f":"A5642+1","v":122},null,null,null,null,null,null,null,null,null,null,{"$f":"A5689","v":122}]
[]
[{"$f":"Data!$B$4","v":"Kalkoenfilet"},null,null,null,null,null,null,null,null,null,null,"Kalkoenfilet"]
[null,{"$f":"Data!$C$5","v":"Natuur"},null,"x",{"$f":"Data!$F$5","v":17},"=",{"$f":"C5692*E5692","v":0},null,null,null,null,null,"Natuur",null,{"$f":"C5692","v":0}]
[null,{"$f":"Data!$C$6","v":"Champignons"},null,"x",{"$f":"Data!$F$6","v":17},"=",{"$f":"C5693*E5693","v":0},null,null,null,null,null,"Champignons",null,null,{"$f":"C5693","v":0}]
[null,{"$f":"Data!$C$7","v":"Peper"},null,"x",{"$f":"Data!$F$7","v":17},"=",{"$f":"C5694*E5694","v":0},null,null,null,null,null,"Peper",null,null,null,{"$f":"C5694","v":0}]
[]
[{"$f":"Data!$B$9","v":"Kabeljauwhaasje"},null,null,"x",{"$f":"Data!$F$9","v":17},"=",{"$f":"C5696*E5696","v":0},null,null,null,null,"Kabeljauwhaasje",null,null,null,null,null,{"$f":"C5696","v":0}]
[]
[{"$f":"Data!$B$11","v":"Kindermenu"},null,null,null,null,null,null,null,null,null,null,"Kindermenu"]
[null,{"$f":"Data!$C$12","v":"Natuur"},null,"x",{"$f":"Data!$F$12","v":8},"=",{"$f":"C5699*E5699","v":0},null,null,null,null,null,"Natuur",null,null,null,null,null,{"$f":"C5699","v":0}]
[null,{"$f":"Data!$C$13","v":"Champignons"},null,"x",{"$f":"Data!$F$13","v":8},"=",{"$f":"C5700*E5700","v":0},null,null,null,null,null,"Champignons",null,null,null,null,null,null,{"$f":"C5700","v":0}]
[null,{"$f":"Data!$C$14","v":"Peper"},null,"x",{"$f":"Data!$F$14","v":8},"=",0,null,null,null,null,null,"Peper",null,null,null,null,null,null,null,{"$f":"C5701","v":0}]
[null,{"$f":"Data!$C$15","v":"Kabeljauwhaasje"},null,"x",{"$f":"Data!$F$15","v":8},"=",0,null,null,null,null,null,"Kabeljauwhaasje",null,null,null,null,null,null,null,null,{"$f":"C5702","v":0}]
[]
[null,{"$f":"Data!$C$17","v":"Totaal eten:"},null,null,null,null,{"$f":"SUM(G5692:G5703)","v":0},null,null,null,null,null,"Totaal eten:",null,null,null,null,null,null,null,null,null,{"$f":"G5704","v":0}]
[null,{"$f":"Data!$C$18","v":"Totaal kaarten:"},null,"x",{"$f":"Data!$F$18","v":3},"=",{"$f":"-(C5705*E5705)","v":0}]
[null,null,null,null,null,null,null,null,null,null,null,null,"Totaal kaarten (bedrag):",null,null,null,null,null,null,null,null,null,null,{"$f":"C5705","v":0}]
[]
[null,{"$f":"Data!$C$21","v":"Totaal te betalen:"},null,null,null,null,{"$f":"G5704+G5705","v":0},null,null,null,null,null,"Totaal te betalen:",null,null,null,null,null,null,null,null,null,null,null,{"$f":"G5708","v":0}]
[]
[{"$f":"Data!$A$23","v":"TGV Opstal dankt u voor uw aanwezigheid!  Eet smakelijk!"}]
[]
["Fietsclub TGV Opstal",null,null,null,null,null,"Tafel nr:"]
[{"$f":"A5689","v":122}]
[]
[{"$f":"Data!$B$4","v":"Kalkoenfilet"}]
[null,{"$f":"Data!$C$5","v":"Natuur"},{"$f":"C5692","v":0},"x",{"$f":"Data!$F$5","v":17},"=",{"$f":"C5716*E5716","v":0}]
[null,{"$f":"Data!$C$6","v":"Champignons"},{"$f":"C5693","v":0},"x",{"$f":"Data!$F$6","v":17},"=",{"$f":"C5717*E5717","v":0}]
[null,{"$f":"Data!$C$7","v":"Peper"},0,"x",{"$f":"Data!$F$7","v":17},"=",{"$f":"C5718*E5718","v":0}]
[]
[{"$f":"Data!$B$9","v":"Kabeljauwhaasje"},null,0,"x",{"$f":"Data!$F$9","v":17},"=",{"$f":"C5720*E5720","v":0}]
[]
[{"$f":"Data!$B$11","v":"Kindermenu"}]
[null,{"$f":"Data!$C$12","v":"Natuur"},0,"x",{"$f":"Data!$F$12","v":8},"=",{"$f":"C5723*E5723","v":0}]
[null,{"$f":"Data!$C$13","v":"Champignons"},0,"x",{"$f":"Data!$F$13","v":8},"=",{"$f":"C5724*E5724","v":0}]
[null,{"$f":"Data!$C$14","v":"Peper"},0,"x",{"$f":"Data!$F$14","v":8},"=",0]
[null,{"$f":"Data!$C$15","v":"Kabeljauwhaasje"},0,"x",{"$f":"Data!$F$15","v":8},"=",0]
[]
[null,{"$f":"Data!$C$17","v":"Totaal eten:"},null,null,null,null,{"$f":"SUM(G5716:G5727)","v":0}]
[null,{"$f":"Data!$C$18","v":"Totaal kaarten:"},{"$f":"C5705","v":0},"x",{"$f":"Data!$F$18","v":3},"=",{"$f":"-(C5729*E5729)","v":0}]
[]
[]
[null,{"$f":"Data!$C$21","v":"Totaal te betalen:"},null,null,null,null,{"$f":"G5728+G5729","v":0}]
[]
[{"$f":"Data!$A$23","v":"TGV Opstal dankt u voor uw aanwezigheid!  Eet smakelijk!"}]
["Fietsclub TGV Opstal",null,null,null,null,null,"Tafel nr:"]
[{"$f":"A5689+1","v":123},null,null,null,null,null,null,null,null,null,null,{"$f":"A5736","v":123}]
[]
[{"$f":"Data!$B$4","v":"Kalkoenfilet"},null,null,null,null,null,null,null,null,null,null,"Kalkoenfilet"]
[null,{"$f":"Data!$C$5","v":"Natuur"},null,"x",{"$f":"Data!$F$5","v":17},"=",{"$f":"C5739*E5739","v":0},null,null,null,null,null,"Natuur",null,{"$f":"C5739","v":0}]
[null,{"$f":"Data!$C$6","v":"Champignons"},null,"x",{"$f":"Data!$F$6","v":17},"=",{"$f":"C5740*E5740","v":0},null,null,null,null,null,"Champignons",null,null,{"$f":"C5740","v":0}]
[null,{"$f":"Data!$C$7","v":"Peper"},null,"x",{"$f":"Data!$F$7","v":17},"=",{"$f":"C5741*E5741","v":0},null,null,null,null,null,"Peper",null,null,null,{"$f":"C5741","v":0}]
[]
[{"$f":"Data!$B$9","v":"Kabeljauwhaasje"},null,null,"x",{"$f":"Data!$F$9","v":17},"=",{"$f":"C5743*E5743","v":0},null,null,null,null,"Kabeljauwhaasje",null,null,null,null,null,{"$f":"C5743","v":0}]
[]
[{"$f":"Data!$B$11","v":"Kindermenu"},null,null,null,null,null,null,null,null,null,null,"Kindermenu"]
[null,{"$f":"Data!$C$12","v":"Natuur"},null,"x",{"$f":"Data!$F$12","v":8},"=",{"$f":"C5746*E5746","v":0},null,null,null,null,null,"Natuur",null,null,null,null,null,{"$f":"C5746","v":0}]
[null,{"$f":"Data!$C$13","v":"Champignons"},null,"x",{"$f":"Data!$F$13","v":8},"=",{"$f":"C5747*E5747","v":0},null,null,null,null,null,"Champignons",null,null,null,null,null,null,{"$f":"C5747","v":0}]
[null,{"$f":"Data!$C$14","v":"Peper"},null,"x",{"$f":"Data!$F$14","v":8},"=",0,null,null,null,null,null,"Peper",null,null,null,null,null,null,null,{"$f":"C5748","v":0}]
[null,{"$f":"Data!$C$15","v":"Kabeljauwhaasje"},null,"x",{"$f":"Data!$F$15","v":8},"=",0,null,null,null,null,null,"Kabeljauwhaasje",null,null,null,null,null,null,null,null,{"$f":"C5749","v":0}]
[]
[null,{"$f":"Data!$C$17","v":"Totaal eten:"},null,null,null,null,{"$f":"SUM(G5739:G5750)","v":0},null,null,null,null,null,"Totaal eten:",null,null,null,null,null,null,null,null,null,{"$f":"G5751","v":0}]
[null,{"$f":"Data!$C$18","v":"Totaal kaarten:"},null,"x",{"$f":"Data!$F$18","v":3},"=",{"$f":"-(C5752*E5752)","v":0}]
[null,null,null,null,null,null,null,null,null,null,null,null,"Totaal kaarten (bedrag):",null,null,null,null,null,null,null,null,null,null,{"$f":"C5752","v":0}]
[]
[null,{"$f":"Data!$C$21","v":"Totaal te betalen:"},null,null,null,null,{"$f":"G5751+G5752","v":0},null,null,null,null,null,"Totaal te betalen:",null,null,null,null,null,null,null,null,null,null,null,{"$f":"G5755","v":0}]
[]
[{"$f":"Data!$A$23","v":"TGV Opstal dankt u voor uw aanwezigheid!  Eet smakelijk!"}]
[]
["Fietsclub TGV Opstal",null,null,null,null,null,"Tafel nr:"]
[{"$f":"A5736","v":123}]
[]
[{"$f":"Data!$B$4","v":"Kalkoenfilet"}]
[null,{"$f":"Data!$C$5","v":"Natuur"},{"$f":"C5739","v":0},"x",{"$f":"Data!$F$5","v":17},"=",{"$f":"C5763*E5763","v":0}]
[null,{"$f":"Data!$C$6","v":"Champignons"},{"$f":"C5740","v":0},"x",{"$f":"Data!$F$6","v":17},"=",{"$f":"C5764*E5764","v":0}]
[null,{"$f":"Data!$C$7","v":"Peper"},0,"x",{"$f":"Data!$F$7","v":17},"=",{"$f":"C5765*E5765","v":0}]
[]
[{"$f":"Data!$B$9","v":"Kabeljauwhaasje"},null,0,"x",{"$f":"Data!$F$9","v":17},"=",{"$f":"C5767*E5767","v":0}]
[]
[{"$f":"Data!$B$11","v":"Kindermenu"}]
[null,{"$f":"Data!$C$12","v":"Natuur"},0,"x",{"$f":"Data!$F$12","v":8},"=",{"$f":"C5770*E5770","v":0}]
[null,{"$f":"Data!$C$13","v":"Champignons"},0,"x",{"$f":"Data!$F$13","v":8},"=",{"$f":"C5771*E5771","v":0}]
[null,{"$f":"Data!$C$14","v":"Peper"},0,"x",{"$f":"Data!$F$14","v":8},"=",0]
[null,{"$f":"Data!$C$15","v":"Kabeljauwhaasje"},0,"x",{"$f":"Data!$F$15","v":8},"=",0]
[]
[null,{"$f":"Data!$C$17","v":"Totaal eten:"},null,null,null,null,{"$f":"SUM(G5763:G5774)","v":0}]
[null,{"$f":"Data!$C$18","v":"Totaal kaarten:"},{"$f":"C5752","v":0},"x",{"$f":"Data!$F$18","v":3},"=",{"$f":"-(C5776*E5776)","v":0}]
[]
[]
[null,{"$f":"Data!$C$21","v":"Totaal te betalen:"},null,null,null,null,{"$f":"G5775+G5776","v":0}]
[]
[{"$f":"Data!$A$23","v":"TGV Opstal dankt u voor uw aanwezigheid!  Eet smakelijk!"}]
["Fietsclub TGV Opstal",null,null,null,null,null,"Tafel nr:"]
[{"$f":"A5736+1","v":124},null,null,null,null,null,null,null,null,null,null,{"$f":"A5783","v":124}]
[]
[{"$f":"Data!$B$4","v":"Kalkoenfilet"},null,null,null,null,null,null,null,null,null,null,"Kalkoenfilet"]
[null,{"$f":"Data!$C$5","v":"Natuur"},null,"x",{"$f":"Data!$F$5","v":17},"=",{"$f":"C5786*E5786","v":0},null,null,null,null,null,"Natuur",null,{"$f":"C5786","v":0}]
[null,{"$f":"Data!$C$6","v":"Champignons"},null,"x",{"$f":"Data!$F$6","v":17},"=",{"$f":"C5787*E5787","v":0},null,null,null,null,null,"Champignons",null,null,{"$f":"C5787","v":0}]
[null,{"$f":"Data!$C$7","v":"Peper"},null,"x",{"$f":"Data!$F$7","v":17},"=",{"$f":"C5788*E5788","v":0},null,null,null,null,null,"Peper",null,null,null,{"$f":"C5788","v":0}]
[]
[{"$f":"Data!$B$9","v":"Kabeljauwhaasje"},null,null,"x",{"$f":"Data!$F$9","v":17},"=",{"$f":"C5790*E5790","v":0},null,null,null,null,"Kabeljauwhaasje",null,null,null,null,null,{"$f":"C5790","v":0}]
[]
[{"$f":"Data!$B$11","v":"Kindermenu"},null,null,null,null,null,null,null,null,null,null,"Kindermenu"]
[null,{"$f":"Data!$C$12","v":"Natuur"},null,"x",{"$f":"Data!$F$12","v":8},"=",{"$f":"C5793*E5793","v":0},null,null,null,null,null,"Natuur",null,null,null,null,null,{"$f":"C5793","v":0}]
[null,{"$f":"Data!$C$13","v":"Champignons"},null,"x",{"$f":"Data!$F$13","v":8},"=",{"$f":"C5794*E5794","v":0},null,null,null,null,null,"Champignons",null,null,null,null,null,null,{"$f":"C5794","v":0}]
[null,{"$f":"Data!$C$14","v":"Peper"},null,"x",{"$f":"Data!$F$14","v":8},"=",0,null,null,null,null,null,"Peper",null,null,null,null,null,null,null,{"$f":"C5795","v":0}]
[null,{"$f":"Data!$C$15","v":"Kabeljauwhaasje"},null,"x",{"$f":"Data!$F$15","v":8},"=",0,null,null,null,null,null,"Kabeljauwhaasje",null,null,null,null,null,null,null,null,{"$f":"C5796","v":0}]
[]
[null,{"$f":"Data!$C$17","v":"Totaal eten:"},null,null,null,null,{"$f":"SUM(G5786:G5797)","v":0},null,null,null,null,null,"Totaal eten:",null,null,null,null,null,null,null,null,null,{"$f":"G5798","v":0}]
[null,{"$f":"Data!$C$18","v":"Totaal kaarten:"},null,"x",{"$f":"Data!$F$18","v":3},"=",{"$f":"-(C5799*E5799)","v":0}]
[null,null,null,null,null,null,null,null,null,null,null,null,"Totaal kaarten (bedrag):",null,null,null,null,null,null,null,null,null,null,{"$f":"C5799","v":0}]
[]
[null,{"$f":"Data!$C$21","v":"Totaal te betalen:"},null,null,null,null,{"$f":"G5798+G5799","v":0},null,null,null,null,null,"Totaal te betalen:",null,null,null,null,null,null,null,null,null,null,null,{"$f":"G5802","v":0}]
[]
[{"$f":"Data!$A$23","v":"TGV Opstal dankt u voor uw aanwezigheid!  Eet smakelijk!"}]
[]
["Fietsclub TGV Opstal",null,null,null,null,null,"Tafel nr:"]
[{"$f":"A5783","v":124}]
[]
[{"$f":"Data!$B$4","v":"Kalkoenfilet"}]
[null,{"$f":"Data!$C$5","v":"Natuur"},{"$f":"C5786","v":0},"x",{"$f":"Data!$F$5","v":17},"=",{"$f":"C5810*E5810","v":0}]
[null,{"$f":"Data!$C$6","v":"Champignons"},{"$f":"C5787","v":0},"x",{"$f":"Data!$F$6","v":17},"=",{"$f":"C5811*E5811","v":0}]
[null,{"$f":"Data!$C$7","v":"Peper"},0,"x",{"$f":"Data!$F$7","v":17},"=",{"$f":"C5812*E5812","v":0}]
[]
[{"$f":"Data!$B$9","v":"Kabeljauwhaasje"},null,0,"x",{"$f":"Data!$F$9","v":17},"=",{"$f":"C5814*E5814","v":0}]
[]
[{"$f":"Data!$B$11","v":"Kindermenu"}]
[null,{"$f":"Data!$C$12","v":"Natuur"},0,"x",{"$f":"Data!$F$12","v":8},"=",{"$f":"C5817*E5817","v":0}]
[null,{"$f":"Data!$C$13","v":"Champignons"},0,"x",{"$f":"Data!$F$13","v":8},"=",{"$f":"C5818*E5818","v":0}]
[null,{"$f":"Data!$C$14","v":"Peper"},0,"x",{"$f":"Data!$F$14","v":8},"=",0]
[null,{"$f":"Data!$C$15","v":"Kabeljauwhaasje"},0,"x",{"$f":"Data!$F$15","v":8},"=",0]
[]
[null,{"$f":"Data!$C$17","v":"Totaal eten:"},null,null,null,null,{"$f":"SUM(G5810:G5821)","v":0}]
[null,{"$f":"Data!$C$18","v":"Totaal kaarten:"},{"$f":"C5799","v":0},"x",{"$f":"Data!$F$18","v":3},"=",{"$f":"-(C5823*E5823)","v":0}]
[]
[]
[null,{"$f":"Data!$C$21","v":"Totaal te betalen:"},null,null,null,null,{"$f":"G5822+G5823","v":0}]
[]
[{"$f":"Data!$A$23","v":"TGV Opstal dankt u voor uw aanwezigheid!  Eet smakelijk!"}]
["Fietsclub TGV Opstal",null,null,null,null,null,"Tafel nr:"]
[{"$f":"A5783+1","v":125},null,null,null,null,null,null,null,null,null,null,{"$f":"A5830","v":125}]
[]
[{"$f":"Data!$B$4","v":"Kalkoenfilet"},null,null,null,null,null,null,null,null,null,null,"Kalkoenfilet"]
[null,{"$f":"Data!$C$5","v":"Natuur"},null,"x",{"$f":"Data!$F$5","v":17},"=",{"$f":"C5833*E5833","v":0},null,null,null,null,null,"Natuur",null,{"$f":"C5833","v":0}]
[null,{"$f":"Data!$C$6","v":"Champignons"},null,"x",{"$f":"Data!$F$6","v":17},"=",{"$f":"C5834*E5834","v":0},null,null,null,null,null,"Champignons",null,null,{"$f":"C5834","v":0}]
[null,{"$f":"Data!$C$7","v":"Peper"},null,"x",{"$f":"Data!$F$7","v":17},"=",{"$f":"C5835*E5835","v":0},null,null,null,null,null,"Peper",null,null,null,{"$f":"C5835","v":0}]
[]
[{"$f":"Data!$B$9","v":"Kabeljauwhaasje"},null,null,"x",{"$f":"Data!$F$9","v":17},"=",{"$f":"C5837*E5837","v":0},null,null,null,null,"Kabeljauwhaasje",null,null,null,null,null,{"$f":"C5837","v":0}]
[]
[{"$f":"Data!$B$11","v":"Kindermenu"},null,null,null,null,null,null,null,null,null,null,"Kindermenu"]
[null,{"$f":"Data!$C$12","v":"Natuur"},null,"x",{"$f":"Data!$F$12","v":8},"=",{"$f":"C5840*E5840","v":0},null,null,null,null,null,"Natuur",null,null,null,null,null,{"$f":"C5840","v":0}]
[null,{"$f":"Data!$C$13","v":"Champignons"},null,"x",{"$f":"Data!$F$13","v":8},"=",{"$f":"C5841*E5841","v":0},null,null,null,null,null,"Champignons",null,null,null,null,null,null,{"$f":"C5841","v":0}]
[null,{"$f":"Data!$C$14","v":"Peper"},null,"x",{"$f":"Data!$F$14","v":8},"=",0,null,null,null,null,null,"Peper",null,null,null,null,null,null,null,{"$f":"C5842","v":0}]
[null,{"$f":"Data!$C$15","v":"Kabeljauwhaasje"},null,"x",{"$f":"Data!$F$15","v":8},"=",0,null,null,null,null,null,"Kabeljauwhaasje",null,null,null,null,null,null,null,null,{"$f":"C5843","v":0}]
[]
[null,{"$f":"Data!$C$17","v":"Totaal eten:"},null,null,null,null,{"$f":"SUM(G5833:G5844)","v":0},null,null,null,null,null,"Totaal eten:",null,null,null,null,null,null,null,null,null,{"$f":"G5845","v":0}]
[null,{"$f":"Data!$C$18","v":"Totaal kaarten:"},null,"x",{"$f":"Data!$F$18","v":3},"=",{"$f":"-(C5846*E5846)","v":0}]
[null,null,null,null,null,null,null,null,null,null,null,null,"Totaal kaarten (bedrag):",null,null,null,null,null,null,null,null,null,null,{"$f":"C5846","v":0}]
[]
[null,{"$f":"Data!$C$21","v":"Totaal te betalen:"},null,null,null,null,{"$f":"G5845+G5846","v":0},null,null,null,null,null,"Totaal te betalen:",null,null,null,null,null,null,null,null,null,null,null,{"$f":"G5849","v":0}]
[]
[{"$f":"Data!$A$23","v":"TGV Opstal dankt u voor uw aanwezigheid!  Eet smakelijk!"}]
[]
["Fietsclub TGV Opstal",null,null,null,null,null,"Tafel nr:"]
[{"$f":"A5830","v":125}]
[]
[{"$f":"Data!$B$4","v":"Kalkoenfilet"}]
[null,{"$f":"Data!$C$5","v":"Natuur"},{"$f":"C5833","v":0},"x",{"$f":"Data!$F$5","v":17},"=",{"$f":"C5857*E5857","v":0}]
[null,{"$f":"Data!$C$6","v":"Champignons"},{"$f":"C5834","v":0},"x",{"$f":"Data!$F$6","v":17},"=",{"$f":"C5858*E5858","v":0}]
[null,{"$f":"Data!$C$7","v":"Peper"},0,"x",{"$f":"Data!$F$7","v":17},"=",{"$f":"C5859*E5859","v":0}]
[]
[{"$f":"Data!$B$9","v":"Kabeljauwhaasje"},null,0,"x",{"$f":"Data!$F$9","v":17},"=",{"$f":"C5861*E5861","v":0}]
[]
[{"$f":"Data!$B$11","v":"Kindermenu"}]
[null,{"$f":"Data!$C$12","v":"Natuur"},0,"x",{"$f":"Data!$F$12","v":8},"=",{"$f":"C5864*E5864","v":0}]
[null,{"$f":"Data!$C$13","v":"Champignons"},0,"x",{"$f":"Data!$F$13","v":8},"=",{"$f":"C5865*E5865","v":0}]
[null,{"$f":"Data!$C$14","v":"Peper"},0,"x",{"$f":"Data!$F$14","v":8},"=",0]
[null,{"$f":"Data!$C$15","v":"Kabeljauwhaasje"},0,"x",{"$f":"Data!$F$15","v":8},"=",0]
[]
[null,{"$f":"Data!$C$17","v":"Totaal eten:"},null,null,null,null,{"$f":"SUM(G5857:G5868)","v":0}]
[null,{"$f":"Data!$C$18","v":"Totaal kaarten:"},{"$f":"C5846","v":0},"x",{"$f":"Data!$F$18","v":3},"=",{"$f":"-(C5870*E5870)","v":0}]
[]
[]
[null,{"$f":"Data!$C$21","v":"Totaal te betalen:"},null,null,null,null,{"$f":"G5869+G5870","v":0}]
[]
[{"$f":"Data!$A$23","v":"TGV Opstal dankt u voor uw aanwezigheid!  Eet smakelijk!"}]
["Fietsclub TGV Opstal",null,null,null,null,null,"Tafel nr:"]
[{"$f":"A5830+1","v":126},null,null,null,null,null,null,null,null,null,null,{"$f":"A5877","v":126}]
[]
[{"$f":"Data!$B$4","v":"Kalkoenfilet"},null,null,null,null,null,null,null,null,null,null,"Kalkoenfilet"]
[null,{"$f":"Data!$C$5","v":"Natuur"},null,"x",{"$f":"Data!$F$5","v":17},"=",{"$f":"C5880*E5880","v":0},null,null,null,null,null,"Natuur",null,{"$f":"C5880","v":0}]
[null,{"$f":"Data!$C$6","v":"Champignons"},null,"x",{"$f":"Data!$F$6","v":17},"=",{"$f":"C5881*E5881","v":0},null,null,null,null,null,"Champignons",null,null,{"$f":"C5881","v":0}]
[null,{"$f":"Data!$C$7","v":"Peper"},null,"x",{"$f":"Data!$F$7","v":17},"=",{"$f":"C5882*E5882","v":0},null,null,null,null,null,"Peper",null,null,null,{"$f":"C5882","v":0}]
[]
[{"$f":"Data!$B$9","v":"Kabeljauwhaasje"},null,null,"x",{"$f":"Data!$F$9","v":17},"=",{"$f":"C5884*E5884","v":0},null,null,null,null,"Kabeljauwhaasje",null,null,null,null,null,{"$f":"C5884","v":0}]
[]
[{"$f":"Data!$B$11","v":"Kindermenu"},null,null,null,null,null,null,null,null,null,null,"Kindermenu"]
[null,{"$f":"Data!$C$12","v":"Natuur"},null,"x",{"$f":"Data!$F$12","v":8},"=",{"$f":"C5887*E5887","v":0},null,null,null,null,null,"Natuur",null,null,null,null,null,{"$f":"C5887","v":0}]
[null,{"$f":"Data!$C$13","v":"Champignons"},null,"x",{"$f":"Data!$F$13","v":8},"=",{"$f":"C5888*E5888","v":0},null,null,null,null,null,"Champignons",null,null,null,null,null,null,{"$f":"C5888","v":0}]
[null,{"$f":"Data!$C$14","v":"Peper"},null,"x",{"$f":"Data!$F$14","v":8},"=",0,null,null,null,null,null,"Peper",null,null,null,null,null,null,null,{"$f":"C5889","v":0}]
[null,{"$f":"Data!$C$15","v":"Kabeljauwhaasje"},null,"x",{"$f":"Data!$F$15","v":8},"=",0,null,null,null,null,null,"Kabeljauwhaasje",null,null,null,null,null,null,null,null,{"$f":"C5890","v":0}]
[]
[null,{"$f":"Data!$C$17","v":"Totaal eten:"},null,null,null,null,{"$f":"SUM(G5880:G5891)","v":0},null,null,null,null,null,"Totaal eten:",null,null,null,null,null,null,null,null,null,{"$f":"G5892","v":0}]
[null,{"$f":"Data!$C$18","v":"Totaal kaarten:"},null,"x",{"$f":"Data!$F$18","v":3},"=",{"$f":"-(C5893*E5893)","v":0}]
[null,null,null,null,null,null,null,null,null,null,null,null,"Totaal kaarten (bedrag):",null,null,null,null,null,null,null,null,null,null,{"$f":"C5893","v":0}]
[]
[null,{"$f":"Data!$C$21","v":"Totaal te betalen:"},null,null,null,null,{"$f":"G5892+G5893","v":0},null,null,null,null,null,"Totaal te betalen:",null,null,null,null,null,null,null,null,null,null,null,{"$f":"G5896","v":0}]
[]
[{"$f":"Data!$A$23","v":"TGV Opstal dankt u voor uw aanwezigheid!  Eet smakelijk!"}]
[]
["Fietsclub TGV Opstal",null,null,null,null,null,"Tafel nr:"]
[{"$f":"A5877","v":126}]
[]
[{"$f":"Data!$B$4","v":"Kalkoenfilet"}]
[null,{"$f":"Data!$C$5","v":"Natuur"},{"$f":"C5880","v":0},"x",{"$f":"Data!$F$5","v":17},"=",{"$f":"C5904*E5904","v":0}]
[null,{"$f":"Data!$C$6","v":"Champignons"},{"$f":"C5881","v":0},"x",{"$f":"Data!$F$6","v":17},"=",{"$f":"C5905*E5905","v":0}]
[null,{"$f":"Data!$C$7","v":"Peper"},0,"x",{"$f":"Data!$F$7","v":17},"=",{"$f":"C5906*E5906","v":0}]
[]
[{"$f":"Data!$B$9","v":"Kabeljauwhaasje"},null,0,"x",{"$f":"Data!$F$9","v":17},"=",{"$f":"C5908*E5908","v":0}]
[]
[{"$f":"Data!$B$11","v":"Kindermenu"}]
[null,{"$f":"Data!$C$12","v":"Natuur"},0,"x",{"$f":"Data!$F$12","v":8},"=",{"$f":"C5911*E5911","v":0}]
[null,{"$f":"Data!$C$13","v":"Champignons"},0,"x",{"$f":"Data!$F$13","v":8},"=",{"$f":"C5912*E5912","v":0}]
[null,{"$f":"Data!$C$14","v":"Peper"},0,"x",{"$f":"Data!$F$14","v":8},"=",0]
[null,{"$f":"Data!$C$15","v":"Kabeljauwhaasje"},0,"x",{"$f":"Data!$F$15","v":8},"=",0]
[]
[null,{"$f":"Data!$C$17","v":"Totaal eten:"},null,null,null,null,{"$f":"SUM(G5904:G5915)","v":0}]
[null,{"$f":"Data!$C$18","v":"Totaal kaarten:"},{"$f":"C5893","v":0},"x",{"$f":"Data!$F$18","v":3},"=",{"$f":"-(C5917*E5917)","v":0}]
[]
[]
[null,{"$f":"Data!$C$21","v":"Totaal te betalen:"},null,null,null,null,{"$f":"G5916+G5917","v":0}]
[]
[{"$f":"Data!$A$23","v":"TGV Opstal dankt u voor uw aanwezigheid!  Eet smakelijk!"}]
["Fietsclub TGV Opstal",null,null,null,null,null,"Tafel nr:"]
[{"$f":"A5877+1","v":127},null,null,null,null,null,null,null,null,null,null,{"$f":"A5924","v":127}]
[]
[{"$f":"Data!$B$4","v":"Kalkoenfilet"},null,null,null,null,null,null,null,null,null,null,"Kalkoenfilet"]
[null,{"$f":"Data!$C$5","v":"Natuur"},null,"x",{"$f":"Data!$F$5","v":17},"=",{"$f":"C5927*E5927","v":0},null,null,null,null,null,"Natuur",null,{"$f":"C5927","v":0}]
[null,{"$f":"Data!$C$6","v":"Champignons"},null,"x",{"$f":"Data!$F$6","v":17},"=",{"$f":"C5928*E5928","v":0},null,null,null,null,null,"Champignons",null,null,{"$f":"C5928","v":0}]
[null,{"$f":"Data!$C$7","v":"Peper"},null,"x",{"$f":"Data!$F$7","v":17},"=",{"$f":"C5929*E5929","v":0},null,null,null,null,null,"Peper",null,null,null,{"$f":"C5929","v":0}]
[]
[{"$f":"Data!$B$9","v":"Kabeljauwhaasje"},null,null,"x",{"$f":"Data!$F$9","v":17},"=",{"$f":"C5931*E5931","v":0},null,null,null,null,"Kabeljauwhaasje",null,null,null,null,null,{"$f":"C5931","v":0}]
[]
[{"$f":"Data!$B$11","v":"Kindermenu"},null,null,null,null,null,null,null,null,null,null,"Kindermenu"]
[null,{"$f":"Data!$C$12","v":"Natuur"},null,"x",{"$f":"Data!$F$12","v":8},"=",{"$f":"C5934*E5934","v":0},null,null,null,null,null,"Natuur",null,null,null,null,null,{"$f":"C5934","v":0}]
[null,{"$f":"Data!$C$13","v":"Champignons"},null,"x",{"$f":"Data!$F$13","v":8},"=",{"$f":"C5935*E5935","v":0},null,null,null,null,null,"Champignons",null,null,null,null,null,null,{"$f":"C5935","v":0}]
[null,{"$f":"Data!$C$14","v":"Peper"},null,"x",{"$f":"Data!$F$14","v":8},"=",0,null,null,null,null,null,"Peper",null,null,null,null,null,null,null,{"$f":"C5936","v":0}]
[null,{"$f":"Data!$C$15","v":"Kabeljauwhaasje"},null,"x",{"$f":"Data!$F$15","v":8},"=",0,null,null,null,null,null,"Kabeljauwhaasje",null,null,null,null,null,null,null,null,{"$f":"C5937","v":0}]
[]
[null,{"$f":"Data!$C$17","v":"Totaal eten:"},null,null,null,null,{"$f":"SUM(G5927:G5938)","v":0},null,null,null,null,null,"Totaal eten:",null,null,null,null,null,null,null,null,null,{"$f":"G5939","v":0}]
[null,{"$f":"Data!$C$18","v":"Totaal kaarten:"},null,"x",{"$f":"Data!$F$18","v":3},"=",{"$f":"-(C5940*E5940)","v":0}]
[null,null,null,null,null,null,null,null,null,null,null,null,"Totaal kaarten (bedrag):",null,null,null,null,null,null,null,null,null,null,{"$f":"C5940","v":0}]
[]
[null,{"$f":"Data!$C$21","v":"Totaal te betalen:"},null,null,null,null,{"$f":"G5939+G5940","v":0},null,null,null,null,null,"Totaal te betalen:",null,null,null,null,null,null,null,null,null,null,null,{"$f":"G5943","v":0}]
[]
[{"$f":"Data!$A$23","v":"TGV Opstal dankt u voor uw aanwezigheid!  Eet smakelijk!"}]
[]
["Fietsclub TGV Opstal",null,null,null,null,null,"Tafel nr:"]
[{"$f":"A5924","v":127}]
[]
[{"$f":"Data!$B$4","v":"Kalkoenfilet"}]
[null,{"$f":"Data!$C$5","v":"Natuur"},{"$f":"C5927","v":0},"x",{"$f":"Data!$F$5","v":17},"=",{"$f":"C5951*E5951","v":0}]
[null,{"$f":"Data!$C$6","v":"Champignons"},{"$f":"C5928","v":0},"x",{"$f":"Data!$F$6","v":17},"=",{"$f":"C5952*E5952","v":0}]
[null,{"$f":"Data!$C$7","v":"Peper"},0,"x",{"$f":"Data!$F$7","v":17},"=",{"$f":"C5953*E5953","v":0}]
[]
[{"$f":"Data!$B$9","v":"Kabeljauwhaasje"},null,0,"x",{"$f":"Data!$F$9","v":17},"=",{"$f":"C5955*E5955","v":0}]
[]
[{"$f":"Data!$B$11","v":"Kindermenu"}]
[null,{"$f":"Data!$C$12","v":"Natuur"},0,"x",{"$f":"Data!$F$12","v":8},"=",{"$f":"C5958*E5958","v":0}]
[null,{"$f":"Data!$C$13","v":"Champignons"},0,"x",{"$f":"Data!$F$13","v":8},"=",{"$f":"C5959*E5959","v":0}]
[null,{"$f":"Data!$C$14","v":"Peper"},0,"x",{"$f":"Data!$F$14","v":8},"=",0]
[null,{"$f":"Data!$C$15","v":"Kabeljauwhaasje"},0,"x",{"$f":"Data!$F$15","v":8},"=",0]
[]
[null,{"$f":"Data!$C$17","v":"Totaal eten:"},null,null,null,null,{"$f":"SUM(G5951:G5962)","v":0}]
[null,{"$f":"Data!$C$18","v":"Totaal kaarten:"},{"$f":"C5940","v":0},"x",{"$f":"Data!$F$18","v":3},"=",{"$f":"-(C5964*E5964)","v":0}]
[]
[]
[null,{"$f":"Data!$C$21","v":"Totaal te betalen:"},null,null,null,null,{"$f":"G5963+G5964","v":0}]
[]
[{"$f":"Data!$A$23","v":"TGV Opstal dankt u voor uw aanwezigheid!  Eet smakelijk!"}]
["Fietsclub TGV Opstal",null,null,null,null,null,"Tafel nr:"]
[{"$f":"A5924+1","v":128},null,null,null,null,null,null,null,null,null,null,{"$f":"A5971","v":128}]
[]
[{"$f":"Data!$B$4","v":"Kalkoenfilet"},null,null,null,null,null,null,null,null,null,null,"Kalkoenfilet"]
[null,{"$f":"Data!$C$5","v":"Natuur"},null,"x",{"$f":"Data!$F$5","v":17},"=",{"$f":"C5974*E5974","v":0},null,null,null,null,null,"Natuur",null,{"$f":"C5974","v":0}]
[null,{"$f":"Data!$C$6","v":"Champignons"},null,"x",{"$f":"Data!$F$6","v":17},"=",{"$f":"C5975*E5975","v":0},null,null,null,null,null,"Champignons",null,null,{"$f":"C5975","v":0}]
[null,{"$f":"Data!$C$7","v":"Peper"},null,"x",{"$f":"Data!$F$7","v":17},"=",{"$f":"C5976*E5976","v":0},null,null,null,null,null,"Peper",null,null,null,{"$f":"C5976","v":0}]
[]
[{"$f":"Data!$B$9","v":"Kabeljauwhaasje"},null,null,"x",{"$f":"Data!$F$9","v":17},"=",{"$f":"C5978*E5978","v":0},null,null,null,null,"Kabeljauwhaasje",null,null,null,null,null,{"$f":"C5978","v":0}]
[]
[{"$f":"Data!$B$11","v":"Kindermenu"},null,null,null,null,null,null,null,null,null,null,"Kindermenu"]
[null,{"$f":"Data!$C$12","v":"Natuur"},null,"x",{"$f":"Data!$F$12","v":8},"=",{"$f":"C5981*E5981","v":0},null,null,null,null,null,"Natuur",null,null,null,null,null,{"$f":"C5981","v":0}]
[null,{"$f":"Data!$C$13","v":"Champignons"},null,"x",{"$f":"Data!$F$13","v":8},"=",{"$f":"C5982*E5982","v":0},null,null,null,null,null,"Champignons",null,null,null,null,null,null,{"$f":"C5982","v":0}]
[null,{"$f":"Data!$C$14","v":"Peper"},null,"x",{"$f":"Data!$F$14","v":8},"=",0,null,null,null,null,null,"Peper",null,null,null,null,null,null,null,{"$f":"C5983","v":0}]
[null,{"$f":"Data!$C$15","v":"Kabeljauwhaasje"},null,"x",{"$f":"Data!$F$15","v":8},"=",0,null,null,null,null,null,"Kabeljauwhaasje",null,null,null,null,null,null,null,null,{"$f":"C5984","v":0}]
[]
[null,{"$f":"Data!$C$17","v":"Totaal eten:"},null,null,null,null,{"$f":"SUM(G5974:G5985)","v":0},null,null,null,null,null,"Totaal eten:",null,null,null,null,null,null,null,null,null,{"$f":"G5986","v":0}]
[null,{"$f":"Data!$C$18","v":"Totaal kaarten:"},null,"x",{"$f":"Data!$F$18","v":3},"=",{"$f":"-(C5987*E5987)","v":0}]
[null,null,null,null,null,null,null,null,null,null,null,null,"Totaal kaarten (bedrag):",null,null,null,null,null,null,null,null,null,null,{"$f":"C5987","v":0}]
[]
[null,{"$f":"Data!$C$21","v":"Totaal te betalen:"},null,null,null,null,{"$f":"G5986+G5987","v":0},null,null,null,null,null,"Totaal te betalen:",null,null,null,null,null,null,null,null,null,null,null,{"$f":"G5990","v":0}]
[]
[{"$f":"Data!$A$23","v":"TGV Opstal dankt u voor uw aanwezigheid!  Eet smakelijk!"}]
[]
["Fietsclub TGV Opstal",null,null,null,null,null,"Tafel nr:"]
[{"$f":"A5971","v":128}]
[]
[{"$f":"Data!$B$4","v":"Kalkoenfilet"}]
[null,{"$f":"Data!$C$5","v":"Natuur"},{"$f":"C5974","v":0},"x",{"$f":"Data!$F$5","v":17},"=",{"$f":"C5998*E5998","v":0}]
[null,{"$f":"Data!$C$6","v":"Champignons"},{"$f":"C5975","v":0},"x",{"$f":"Data!$F$6","v":17},"=",{"$f":"C5999*E5999","v":0}]
[null,{"$f":"Data!$C$7","v":"Peper"},0,"x",{"$f":"Data!$F$7","v":17},"=",{"$f":"C6000*E6000","v":0}]
[]
[{"$f":"Data!$B$9","v":"Kabeljauwhaasje"},null,0,"x",{"$f":"Data!$F$9","v":17},"=",{"$f":"C6002*E6002","v":0}]
[]
[{"$f":"Data!$B$11","v":"Kindermenu"}]
[null,{"$f":"Data!$C$12","v":"Natuur"},0,"x",{"$f":"Data!$F$12","v":8},"=",{"$f":"C6005*E6005","v":0}]
[null,{"$f":"Data!$C$13","v":"Champignons"},0,"x",{"$f":"Data!$F$13","v":8},"=",{"$f":"C6006*E6006","v":0}]
[null,{"$f":"Data!$C$14","v":"Peper"},0,"x",{"$f":"Data!$F$14","v":8},"=",0]
[null,{"$f":"Data!$C$15","v":"Kabeljauwhaasje"},0,"x",{"$f":"Data!$F$15","v":8},"=",0]
[]
[null,{"$f":"Data!$C$17","v":"Totaal eten:"},null,null,null,null,{"$f":"SUM(G5998:G6009)","v":0}]
[null,{"$f":"Data!$C$18","v":"Totaal kaarten:"},{"$f":"C5987","v":0},"x",{"$f":"Data!$F$18","v":3},"=",{"$f":"-(C6011*E6011)","v":0}]
[]
[]
[null,{"$f":"Data!$C$21","v":"Totaal te betalen:"},null,null,null,null,{"$f":"G6010+G6011","v":0}]
[]
[{"$f":"Data!$A$23","v":"TGV Opstal dankt u voor uw aanwezigheid!  Eet smakelijk!"}]
["Fietsclub TGV Opstal",null,null,null,null,null,"Tafel nr:"]
[{"$f":"A5971+1","v":129},null,null,null,null,null,null,null,null,null,null,{"$f":"A6018","v":129}]
[]
[{"$f":"Data!$B$4","v":"Kalkoenfilet"},null,null,null,null,null,null,null,null,null,null,"Kalkoenfilet"]
[null,{"$f":"Data!$C$5","v":"Natuur"},null,"x",{"$f":"Data!$F$5","v":17},"=",{"$f":"C6021*E6021","v":0},null,null,null,null,null,"Natuur",null,{"$f":"C6021","v":0}]
[null,{"$f":"Data!$C$6","v":"Champignons"},null,"x",{"$f":"Data!$F$6","v":17},"=",{"$f":"C6022*E6022","v":0},null,null,null,null,null,"Champignons",null,null,{"$f":"C6022","v":0}]
[null,{"$f":"Data!$C$7","v":"Peper"},null,"x",{"$f":"Data!$F$7","v":17},"=",{"$f":"C6023*E6023","v":0},null,null,null,null,null,"Peper",null,null,null,{"$f":"C6023","v":0}]
[]
[{"$f":"Data!$B$9","v":"Kabeljauwhaasje"},null,null,"x",{"$f":"Data!$F$9","v":17},"=",{"$f":"C6025*E6025","v":0},null,null,null,null,"Kabeljauwhaasje",null,null,null,null,null,{"$f":"C6025","v":0}]
[]
[{"$f":"Data!$B$11","v":"Kindermenu"},null,null,null,null,null,null,null,null,null,null,"Kindermenu"]
[null,{"$f":"Data!$C$12","v":"Natuur"},null,"x",{"$f":"Data!$F$12","v":8},"=",{"$f":"C6028*E6028","v":0},null,null,null,null,null,"Natuur",null,null,null,null,null,{"$f":"C6028","v":0}]
[null,{"$f":"Data!$C$13","v":"Champignons"},null,"x",{"$f":"Data!$F$13","v":8},"=",{"$f":"C6029*E6029","v":0},null,null,null,null,null,"Champignons",null,null,null,null,null,null,{"$f":"C6029","v":0}]
[null,{"$f":"Data!$C$14","v":"Peper"},null,"x",{"$f":"Data!$F$14","v":8},"=",0,null,null,null,null,null,"Peper",null,null,null,null,null,null,null,{"$f":"C6030","v":0}]
[null,{"$f":"Data!$C$15","v":"Kabeljauwhaasje"},null,"x",{"$f":"Data!$F$15","v":8},"=",0,null,null,null,null,null,"Kabeljauwhaasje",null,null,null,null,null,null,null,null,{"$f":"C6031","v":0}]
[]
[null,{"$f":"Data!$C$17","v":"Totaal eten:"},null,null,null,null,{"$f":"SUM(G6021:G6032)","v":0},null,null,null,null,null,"Totaal eten:",null,null,null,null,null,null,null,null,null,{"$f":"G6033","v":0}]
[null,{"$f":"Data!$C$18","v":"Totaal kaarten:"},null,"x",{"$f":"Data!$F$18","v":3},"=",{"$f":"-(C6034*E6034)","v":0}]
[null,null,null,null,null,null,null,null,null,null,null,null,"Totaal kaarten (bedrag):",null,null,null,null,null,null,null,null,null,null,{"$f":"C6034","v":0}]
[]
[null,{"$f":"Data!$C$21","v":"Totaal te betalen:"},null,null,null,null,{"$f":"G6033+G6034","v":0},null,null,null,null,null,"Totaal te betalen:",null,null,null,null,null,null,null,null,null,null,null,{"$f":"G6037","v":0}]
[]
[{"$f":"Data!$A$23","v":"TGV Opstal dankt u voor uw aanwezigheid!  Eet smakelijk!"}]
[]
["Fietsclub TGV Opstal",null,null,null,null,null,"Tafel nr:"]
[{"$f":"A6018","v":129}]
[]
[{"$f":"Data!$B$4","v":"Kalkoenfilet"}]
[null,{"$f":"Data!$C$5","v":"Natuur"},{"$f":"C6021","v":0},"x",{"$f":"Data!$F$5","v":17},"=",{"$f":"C6045*E6045","v":0}]
[null,{"$f":"Data!$C$6","v":"Champignons"},{"$f":"C6022","v":0},"x",{"$f":"Data!$F$6","v":17},"=",{"$f":"C6046*E6046","v":0}]
[null,{"$f":"Data!$C$7","v":"Peper"},0,"x",{"$f":"Data!$F$7","v":17},"=",{"$f":"C6047*E6047","v":0}]
[]
[{"$f":"Data!$B$9","v":"Kabeljauwhaasje"},null,0,"x",{"$f":"Data!$F$9","v":17},"=",{"$f":"C6049*E6049","v":0}]
[]
[{"$f":"Data!$B$11","v":"Kindermenu"}]
[null,{"$f":"Data!$C$12","v":"Natuur"},0,"x",{"$f":"Data!$F$12","v":8},"=",{"$f":"C6052*E6052","v":0}]
[null,{"$f":"Data!$C$13","v":"Champignons"},0,"x",{"$f":"Data!$F$13","v":8},"=",{"$f":"C6053*E6053","v":0}]
[null,{"$f":"Data!$C$14","v":"Peper"},0,"x",{"$f":"Data!$F$14","v":8},"=",0]
[null,{"$f":"Data!$C$15","v":"Kabeljauwhaasje"},0,"x",{"$f":"Data!$F$15","v":8},"=",0]
[]
[null,{"$f":"Data!$C$17","v":"Totaal eten:"},null,null,null,null,{"$f":"SUM(G6045:G6056)","v":0}]
[null,{"$f":"Data!$C$18","v":"Totaal kaarten:"},{"$f":"C6034","v":0},"x",{"$f":"Data!$F$18","v":3},"=",{"$f":"-(C6058*E6058)","v":0}]
[]
[]
[null,{"$f":"Data!$C$21","v":"Totaal te betalen:"},null,null,null,null,{"$f":"G6057+G6058","v":0}]
[]
[{"$f":"Data!$A$23","v":"TGV Opstal dankt u voor uw aanwezigheid!  Eet smakelijk!"}]
["Fietsclub TGV Opstal",null,null,null,null,null,"Tafel nr:"]
[{"$f":"A6018+1","v":130},null,null,null,null,null,null,null,null,null,null,{"$f":"A6065","v":130}]
[]
[{"$f":"Data!$B$4","v":"Kalkoenfilet"},null,null,null,null,null,null,null,null,null,null,"Kalkoenfilet"]
[null,{"$f":"Data!$C$5","v":"Natuur"},null,"x",{"$f":"Data!$F$5","v":17},"=",{"$f":"C6068*E6068","v":0},null,null,null,null,null,"Natuur",null,{"$f":"C6068","v":0}]
[null,{"$f":"Data!$C$6","v":"Champignons"},null,"x",{"$f":"Data!$F$6","v":17},"=",{"$f":"C6069*E6069","v":0},null,null,null,null,null,"Champignons",null,null,{"$f":"C6069","v":0}]
[null,{"$f":"Data!$C$7","v":"Peper"},null,"x",{"$f":"Data!$F$7","v":17},"=",{"$f":"C6070*E6070","v":0},null,null,null,null,null,"Peper",null,null,null,{"$f":"C6070","v":0}]
[]
[{"$f":"Data!$B$9","v":"Kabeljauwhaasje"},null,null,"x",{"$f":"Data!$F$9","v":17},"=",{"$f":"C6072*E6072","v":0},null,null,null,null,"Kabeljauwhaasje",null,null,null,null,null,{"$f":"C6072","v":0}]
[]
[{"$f":"Data!$B$11","v":"Kindermenu"},null,null,null,null,null,null,null,null,null,null,"Kindermenu"]
[null,{"$f":"Data!$C$12","v":"Natuur"},null,"x",{"$f":"Data!$F$12","v":8},"=",{"$f":"C6075*E6075","v":0},null,null,null,null,null,"Natuur",null,null,null,null,null,{"$f":"C6075","v":0}]
[null,{"$f":"Data!$C$13","v":"Champignons"},null,"x",{"$f":"Data!$F$13","v":8},"=",{"$f":"C6076*E6076","v":0},null,null,null,null,null,"Champignons",null,null,null,null,null,null,{"$f":"C6076","v":0}]
[null,{"$f":"Data!$C$14","v":"Peper"},null,"x",{"$f":"Data!$F$14","v":8},"=",0,null,null,null,null,null,"Peper",null,null,null,null,null,null,null,{"$f":"C6077","v":0}]
[null,{"$f":"Data!$C$15","v":"Kabeljauwhaasje"},null,"x",{"$f":"Data!$F$15","v":8},"=",0,null,null,null,null,null,"Kabeljauwhaasje",null,null,null,null,null,null,null,null,{"$f":"C6078","v":0}]
[]
[null,{"$f":"Data!$C$17","v":"Totaal eten:"},null,null,null,null,{"$f":"SUM(G6068:G6079)","v":0},null,null,null,null,null,"Totaal eten:",null,null,null,null,null,null,null,null,null,{"$f":"G6080","v":0}]
[null,{"$f":"Data!$C$18","v":"Totaal kaarten:"},null,"x",{"$f":"Data!$F$18","v":3},"=",{"$f":"-(C6081*E6081)","v":0}]
[null,null,null,null,null,null,null,null,null,null,null,null,"Totaal kaarten (bedrag):",null,null,null,null,null,null,null,null,null,null,{"$f":"C6081","v":0}]
[]
[null,{"$f":"Data!$C$21","v":"Totaal te betalen:"},null,null,null,null,{"$f":"G6080+G6081","v":0},null,null,null,null,null,"Totaal te betalen:",null,null,null,null,null,null,null,null,null,null,null,{"$f":"G6084","v":0}]
[]
[{"$f":"Data!$A$23","v":"TGV Opstal dankt u voor uw aanwezigheid!  Eet smakelijk!"}]
[]
["Fietsclub TGV Opstal",null,null,null,null,null,"Tafel nr:"]
[{"$f":"A6065","v":130}]
[]
[{"$f":"Data!$B$4","v":"Kalkoenfilet"}]
[null,{"$f":"Data!$C$5","v":"Natuur"},{"$f":"C6068","v":0},"x",{"$f":"Data!$F$5","v":17},"=",{"$f":"C6092*E6092","v":0}]
[null,{"$f":"Data!$C$6","v":"Champignons"},{"$f":"C6069","v":0},"x",{"$f":"Data!$F$6","v":17},"=",{"$f":"C6093*E6093","v":0}]
[null,{"$f":"Data!$C$7","v":"Peper"},0,"x",{"$f":"Data!$F$7","v":17},"=",{"$f":"C6094*E6094","v":0}]
[]
[{"$f":"Data!$B$9","v":"Kabeljauwhaasje"},null,0,"x",{"$f":"Data!$F$9","v":17},"=",{"$f":"C6096*E6096","v":0}]
[]
[{"$f":"Data!$B$11","v":"Kindermenu"}]
[null,{"$f":"Data!$C$12","v":"Natuur"},0,"x",{"$f":"Data!$F$12","v":8},"=",{"$f":"C6099*E6099","v":0}]
[null,{"$f":"Data!$C$13","v":"Champignons"},0,"x",{"$f":"Data!$F$13","v":8},"=",{"$f":"C6100*E6100","v":0}]
[null,{"$f":"Data!$C$14","v":"Peper"},0,"x",{"$f":"Data!$F$14","v":8},"=",0]
[null,{"$f":"Data!$C$15","v":"Kabeljauwhaasje"},0,"x",{"$f":"Data!$F$15","v":8},"=",0]
[]
[null,{"$f":"Data!$C$17","v":"Totaal eten:"},null,null,null,null,{"$f":"SUM(G6092:G6103)","v":0}]
[null,{"$f":"Data!$C$18","v":"Totaal kaarten:"},{"$f":"C6081","v":0},"x",{"$f":"Data!$F$18","v":3},"=",{"$f":"-(C6105*E6105)","v":0}]
[]
[]
[null,{"$f":"Data!$C$21","v":"Totaal te betalen:"},null,null,null,null,{"$f":"G6104+G6105","v":0}]
[]
[{"$f":"Data!$A$23","v":"TGV Opstal dankt u voor uw aanwezigheid!  Eet smakelijk!"}]
["Fietsclub TGV Opstal",null,null,null,null,null,"Tafel nr:"]
[{"$f":"A6065+1","v":131},null,null,null,null,null,null,null,null,null,null,{"$f":"A6112","v":131}]
[]
[{"$f":"Data!$B$4","v":"Kalkoenfilet"},null,null,null,null,null,null,null,null,null,null,"Kalkoenfilet"]
[null,{"$f":"Data!$C$5","v":"Natuur"},null,"x",{"$f":"Data!$F$5","v":17},"=",{"$f":"C6115*E6115","v":0},null,null,null,null,null,"Natuur",null,{"$f":"C6115","v":0}]
[null,{"$f":"Data!$C$6","v":"Champignons"},null,"x",{"$f":"Data!$F$6","v":17},"=",{"$f":"C6116*E6116","v":0},null,null,null,null,null,"Champignons",null,null,{"$f":"C6116","v":0}]
[null,{"$f":"Data!$C$7","v":"Peper"},null,"x",{"$f":"Data!$F$7","v":17},"=",{"$f":"C6117*E6117","v":0},null,null,null,null,null,"Peper",null,null,null,{"$f":"C6117","v":0}]
[]
[{"$f":"Data!$B$9","v":"Kabeljauwhaasje"},null,null,"x",{"$f":"Data!$F$9","v":17},"=",{"$f":"C6119*E6119","v":0},null,null,null,null,"Kabeljauwhaasje",null,null,null,null,null,{"$f":"C6119","v":0}]
[]
[{"$f":"Data!$B$11","v":"Kindermenu"},null,null,null,null,null,null,null,null,null,null,"Kindermenu"]
[null,{"$f":"Data!$C$12","v":"Natuur"},null,"x",{"$f":"Data!$F$12","v":8},"=",{"$f":"C6122*E6122","v":0},null,null,null,null,null,"Natuur",null,null,null,null,null,{"$f":"C6122","v":0}]
[null,{"$f":"Data!$C$13","v":"Champignons"},null,"x",{"$f":"Data!$F$13","v":8},"=",{"$f":"C6123*E6123","v":0},null,null,null,null,null,"Champignons",null,null,null,null,null,null,{"$f":"C6123","v":0}]
[null,{"$f":"Data!$C$14","v":"Peper"},null,"x",{"$f":"Data!$F$14","v":8},"=",0,null,null,null,null,null,"Peper",null,null,null,null,null,null,null,{"$f":"C6124","v":0}]
[null,{"$f":"Data!$C$15","v":"Kabeljauwhaasje"},null,"x",{"$f":"Data!$F$15","v":8},"=",0,null,null,null,null,null,"Kabeljauwhaasje",null,null,null,null,null,null,null,null,{"$f":"C6125","v":0}]
[]
[null,{"$f":"Data!$C$17","v":"Totaal eten:"},null,null,null,null,{"$f":"SUM(G6115:G6126)","v":0},null,null,null,null,null,"Totaal eten:",null,null,null,null,null,null,null,null,null,{"$f":"G6127","v":0}]
[null,{"$f":"Data!$C$18","v":"Totaal kaarten:"},null,"x",{"$f":"Data!$F$18","v":3},"=",{"$f":"-(C6128*E6128)","v":0}]
[null,null,null,null,null,null,null,null,null,null,null,null,"Totaal kaarten (bedrag):",null,null,null,null,null,null,null,null,null,null,{"$f":"C6128","v":0}]
[]
[null,{"$f":"Data!$C$21","v":"Totaal te betalen:"},null,null,null,null,{"$f":"G6127+G6128","v":0},null,null,null,null,null,"Totaal te betalen:",null,null,null,null,null,null,null,null,null,null,null,{"$f":"G6131","v":0}]
[]
[{"$f":"Data!$A$23","v":"TGV Opstal dankt u voor uw aanwezigheid!  Eet smakelijk!"}]
[]
["Fietsclub TGV Opstal",null,null,null,null,null,"Tafel nr:"]
[{"$f":"A6112","v":131}]
[]
[{"$f":"Data!$B$4","v":"Kalkoenfilet"}]
[null,{"$f":"Data!$C$5","v":"Natuur"},{"$f":"C6115","v":0},"x",{"$f":"Data!$F$5","v":17},"=",{"$f":"C6139*E6139","v":0}]
[null,{"$f":"Data!$C$6","v":"Champignons"},{"$f":"C6116","v":0},"x",{"$f":"Data!$F$6","v":17},"=",{"$f":"C6140*E6140","v":0}]
[null,{"$f":"Data!$C$7","v":"Peper"},0,"x",{"$f":"Data!$F$7","v":17},"=",{"$f":"C6141*E6141","v":0}]
[]
[{"$f":"Data!$B$9","v":"Kabeljauwhaasje"},null,0,"x",{"$f":"Data!$F$9","v":17},"=",{"$f":"C6143*E6143","v":0}]
[]
[{"$f":"Data!$B$11","v":"Kindermenu"}]
[null,{"$f":"Data!$C$12","v":"Natuur"},0,"x",{"$f":"Data!$F$12","v":8},"=",{"$f":"C6146*E6146","v":0}]
[null,{"$f":"Data!$C$13","v":"Champignons"},0,"x",{"$f":"Data!$F$13","v":8},"=",{"$f":"C6147*E6147","v":0}]
[null,{"$f":"Data!$C$14","v":"Peper"},0,"x",{"$f":"Data!$F$14","v":8},"=",0]
[null,{"$f":"Data!$C$15","v":"Kabeljauwhaasje"},0,"x",{"$f":"Data!$F$15","v":8},"=",0]
[]
[null,{"$f":"Data!$C$17","v":"Totaal eten:"},null,null,null,null,{"$f":"SUM(G6139:G6150)","v":0}]
[null,{"$f":"Data!$C$18","v":"Totaal kaarten:"},{"$f":"C6128","v":0},"x",{"$f":"Data!$F$18","v":3},"=",{"$f":"-(C6152*E6152)","v":0}]
[]
[]
[null,{"$f":"Data!$C$21","v":"Totaal te betalen:"},null,null,null,null,{"$f":"G6151+G6152","v":0}]
[]
[{"$f":"Data!$A$23","v":"TGV Opstal dankt u voor uw aanwezigheid!  Eet smakelijk!"}]
["Fietsclub TGV Opstal",null,null,null,null,null,"Tafel nr:"]
[{"$f":"A6112+1","v":132},null,null,null,null,null,null,null,null,null,null,{"$f":"A6159","v":132}]
[]
[{"$f":"Data!$B$4","v":"Kalkoenfilet"},null,null,null,null,null,null,null,null,null,null,"Kalkoenfilet"]
[null,{"$f":"Data!$C$5","v":"Natuur"},null,"x",{"$f":"Data!$F$5","v":17},"=",{"$f":"C6162*E6162","v":0},null,null,null,null,null,"Natuur",null,{"$f":"C6162","v":0}]
[null,{"$f":"Data!$C$6","v":"Champignons"},null,"x",{"$f":"Data!$F$6","v":17},"=",{"$f":"C6163*E6163","v":0},null,null,null,null,null,"Champignons",null,null,{"$f":"C6163","v":0}]
[null,{"$f":"Data!$C$7","v":"Peper"},null,"x",{"$f":"Data!$F$7","v":17},"=",{"$f":"C6164*E6164","v":0},null,null,null,null,null,"Peper",null,null,null,{"$f":"C6164","v":0}]
[]
[{"$f":"Data!$B$9","v":"Kabeljauwhaasje"},null,null,"x",{"$f":"Data!$F$9","v":17},"=",{"$f":"C6166*E6166","v":0},null,null,null,null,"Kabeljauwhaasje",null,null,null,null,null,{"$f":"C6166","v":0}]
[]
[{"$f":"Data!$B$11","v":"Kindermenu"},null,null,null,null,null,null,null,null,null,null,"Kindermenu"]
[null,{"$f":"Data!$C$12","v":"Natuur"},null,"x",{"$f":"Data!$F$12","v":8},"=",{"$f":"C6169*E6169","v":0},null,null,null,null,null,"Natuur",null,null,null,null,null,{"$f":"C6169","v":0}]
[null,{"$f":"Data!$C$13","v":"Champignons"},null,"x",{"$f":"Data!$F$13","v":8},"=",{"$f":"C6170*E6170","v":0},null,null,null,null,null,"Champignons",null,null,null,null,null,null,{"$f":"C6170","v":0}]
[null,{"$f":"Data!$C$14","v":"Peper"},null,"x",{"$f":"Data!$F$14","v":8},"=",0,null,null,null,null,null,"Peper",null,null,null,null,null,null,null,{"$f":"C6171","v":0}]
[null,{"$f":"Data!$C$15","v":"Kabeljauwhaasje"},null,"x",{"$f":"Data!$F$15","v":8},"=",0,null,null,null,null,null,"Kabeljauwhaasje",null,null,null,null,null,null,null,null,{"$f":"C6172","v":0}]
[]
[null,{"$f":"Data!$C$17","v":"Totaal eten:"},null,null,null,null,{"$f":"SUM(G6162:G6173)","v":0},null,null,null,null,null,"Totaal eten:",null,null,null,null,null,null,null,null,null,{"$f":"G6174","v":0}]
[null,{"$f":"Data!$C$18","v":"Totaal kaarten:"},null,"x",{"$f":"Data!$F$18","v":3},"=",{"$f":"-(C6175*E6175)","v":0}]
[null,null,null,null,null,null,null,null,null,null,null,null,"Totaal kaarten (bedrag):",null,null,null,null,null,null,null,null,null,null,{"$f":"C6175","v":0}]
[]
[null,{"$f":"Data!$C$21","v":"Totaal te betalen:"},null,null,null,null,{"$f":"G6174+G6175","v":0},null,null,null,null,null,"Totaal te betalen:",null,null,null,null,null,null,null,null,null,null,null,{"$f":"G6178","v":0}]
[]
[{"$f":"Data!$A$23","v":"TGV Opstal dankt u voor uw aanwezigheid!  Eet smakelijk!"}]
[]
["Fietsclub TGV Opstal",null,null,null,null,null,"Tafel nr:"]
[{"$f":"A6159","v":132}]
[]
[{"$f":"Data!$B$4","v":"Kalkoenfilet"}]
[null,{"$f":"Data!$C$5","v":"Natuur"},{"$f":"C6162","v":0},"x",{"$f":"Data!$F$5","v":17},"=",{"$f":"C6186*E6186","v":0}]
[null,{"$f":"Data!$C$6","v":"Champignons"},{"$f":"C6163","v":0},"x",{"$f":"Data!$F$6","v":17},"=",{"$f":"C6187*E6187","v":0}]
[null,{"$f":"Data!$C$7","v":"Peper"},0,"x",{"$f":"Data!$F$7","v":17},"=",{"$f":"C6188*E6188","v":0}]
[]
[{"$f":"Data!$B$9","v":"Kabeljauwhaasje"},null,0,"x",{"$f":"Data!$F$9","v":17},"=",{"$f":"C6190*E6190","v":0}]
[]
[{"$f":"Data!$B$11","v":"Kindermenu"}]
[null,{"$f":"Data!$C$12","v":"Natuur"},0,"x",{"$f":"Data!$F$12","v":8},"=",{"$f":"C6193*E6193","v":0}]
[null,{"$f":"Data!$C$13","v":"Champignons"},0,"x",{"$f":"Data!$F$13","v":8},"=",{"$f":"C6194*E6194","v":0}]
[null,{"$f":"Data!$C$14","v":"Peper"},0,"x",{"$f":"Data!$F$14","v":8},"=",0]
[null,{"$f":"Data!$C$15","v":"Kabeljauwhaasje"},0,"x",{"$f":"Data!$F$15","v":8},"=",0]
[]
[null,{"$f":"Data!$C$17","v":"Totaal eten:"},null,null,null,null,{"$f":"SUM(G6186:G6197)","v":0}]
[null,{"$f":"Data!$C$18","v":"Totaal kaarten:"},{"$f":"C6175","v":0},"x",{"$f":"Data!$F$18","v":3},"=",{"$f":"-(C6199*E6199)","v":0}]
[]
[]
[null,{"$f":"Data!$C$21","v":"Totaal te betalen:"},null,null,null,null,{"$f":"G6198+G6199","v":0}]
[]
[{"$f":"Data!$A$23","v":"TGV Opstal dankt u voor uw aanwezigheid!  Eet smakelijk!"}]
["Fietsclub TGV Opstal",null,null,null,null,null,"Tafel nr:"]
[{"$f":"A6159+1","v":133},null,null,null,null,null,null,null,null,null,null,{"$f":"A6206","v":133}]
[]
[{"$f":"Data!$B$4","v":"Kalkoenfilet"},null,null,null,null,null,null,null,null,null,null,"Kalkoenfilet"]
[null,{"$f":"Data!$C$5","v":"Natuur"},null,"x",{"$f":"Data!$F$5","v":17},"=",{"$f":"C6209*E6209","v":0},null,null,null,null,null,"Natuur",null,{"$f":"C6209","v":0}]
[null,{"$f":"Data!$C$6","v":"Champignons"},null,"x",{"$f":"Data!$F$6","v":17},"=",{"$f":"C6210*E6210","v":0},null,null,null,null,null,"Champignons",null,null,{"$f":"C6210","v":0}]
[null,{"$f":"Data!$C$7","v":"Peper"},null,"x",{"$f":"Data!$F$7","v":17},"=",{"$f":"C6211*E6211","v":0},null,null,null,null,null,"Peper",null,null,null,{"$f":"C6211","v":0}]
[]
[{"$f":"Data!$B$9","v":"Kabeljauwhaasje"},null,null,"x",{"$f":"Data!$F$9","v":17},"=",{"$f":"C6213*E6213","v":0},null,null,null,null,"Kabeljauwhaasje",null,null,null,null,null,{"$f":"C6213","v":0}]
[]
[{"$f":"Data!$B$11","v":"Kindermenu"},null,null,null,null,null,null,null,null,null,null,"Kindermenu"]
[null,{"$f":"Data!$C$12","v":"Natuur"},null,"x",{"$f":"Data!$F$12","v":8},"=",{"$f":"C6216*E6216","v":0},null,null,null,null,null,"Natuur",null,null,null,null,null,{"$f":"C6216","v":0}]
[null,{"$f":"Data!$C$13","v":"Champignons"},null,"x",{"$f":"Data!$F$13","v":8},"=",{"$f":"C6217*E6217","v":0},null,null,null,null,null,"Champignons",null,null,null,null,null,null,{"$f":"C6217","v":0}]
[null,{"$f":"Data!$C$14","v":"Peper"},null,"x",{"$f":"Data!$F$14","v":8},"=",0,null,null,null,null,null,"Peper",null,null,null,null,null,null,null,{"$f":"C6218","v":0}]
[null,{"$f":"Data!$C$15","v":"Kabeljauwhaasje"},null,"x",{"$f":"Data!$F$15","v":8},"=",0,null,null,null,null,null,"Kabeljauwhaasje",null,null,null,null,null,null,null,null,{"$f":"C6219","v":0}]
[]
[null,{"$f":"Data!$C$17","v":"Totaal eten:"},null,null,null,null,{"$f":"SUM(G6209:G6220)","v":0},null,null,null,null,null,"Totaal eten:",null,null,null,null,null,null,null,null,null,{"$f":"G6221","v":0}]
[null,{"$f":"Data!$C$18","v":"Totaal kaarten:"},null,"x",{"$f":"Data!$F$18","v":3},"=",{"$f":"-(C6222*E6222)","v":0}]
[null,null,null,null,null,null,null,null,null,null,null,null,"Totaal kaarten (bedrag):",null,null,null,null,null,null,null,null,null,null,{"$f":"C6222","v":0}]
[]
[null,{"$f":"Data!$C$21","v":"Totaal te betalen:"},null,null,null,null,{"$f":"G6221+G6222","v":0},null,null,null,null,null,"Totaal te betalen:",null,null,null,null,null,null,null,null,null,null,null,{"$f":"G6225","v":0}]
[]
[{"$f":"Data!$A$23","v":"TGV Opstal dankt u voor uw aanwezigheid!  Eet smakelijk!"}]
[]
["Fietsclub TGV Opstal",null,null,null,null,null,"Tafel nr:"]
[{"$f":"A6206","v":133}]
[]
[{"$f":"Data!$B$4","v":"Kalkoenfilet"}]
[null,{"$f":"Data!$C$5","v":"Natuur"},{"$f":"C6209","v":0},"x",{"$f":"Data!$F$5","v":17},"=",{"$f":"C6233*E6233","v":0}]
[null,{"$f":"Data!$C$6","v":"Champignons"},{"$f":"C6210","v":0},"x",{"$f":"Data!$F$6","v":17},"=",{"$f":"C6234*E6234","v":0}]
[null,{"$f":"Data!$C$7","v":"Peper"},0,"x",{"$f":"Data!$F$7","v":17},"=",{"$f":"C6235*E6235","v":0}]
[]
[{"$f":"Data!$B$9","v":"Kabeljauwhaasje"},null,0,"x",{"$f":"Data!$F$9","v":17},"=",{"$f":"C6237*E6237","v":0}]
[]
[{"$f":"Data!$B$11","v":"Kindermenu"}]
[null,{"$f":"Data!$C$12","v":"Natuur"},0,"x",{"$f":"Data!$F$12","v":8},"=",{"$f":"C6240*E6240","v":0}]
[null,{"$f":"Data!$C$13","v":"Champignons"},0,"x",{"$f":"Data!$F$13","v":8},"=",{"$f":"C6241*E6241","v":0}]
[null,{"$f":"Data!$C$14","v":"Peper"},0,"x",{"$f":"Data!$F$14","v":8},"=",0]
[null,{"$f":"Data!$C$15","v":"Kabeljauwhaasje"},0,"x",{"$f":"Data!$F$15","v":8},"=",0]
[]
[null,{"$f":"Data!$C$17","v":"Totaal eten:"},null,null,null,null,{"$f":"SUM(G6233:G6244)","v":0}]
[null,{"$f":"Data!$C$18","v":"Totaal kaarten:"},{"$f":"C6222","v":0},"x",{"$f":"Data!$F$18","v":3},"=",{"$f":"-(C6246*E6246)","v":0}]
[]
[]
[null,{"$f":"Data!$C$21","v":"Totaal te betalen:"},null,null,null,null,{"$f":"G6245+G6246","v":0}]
[]
[{"$f":"Data!$A$23","v":"TGV Opstal dankt u voor uw aanwezigheid!  Eet smakelijk!"}]
["Fietsclub TGV Opstal",null,null,null,null,null,"Tafel nr:"]
[{"$f":"A6206+1","v":134},null,null,null,null,null,null,null,null,null,null,{"$f":"A6253","v":134}]
[]
[{"$f":"Data!$B$4","v":"Kalkoenfilet"},null,null,null,null,null,null,null,null,null,null,"Kalkoenfilet"]
[null,{"$f":"Data!$C$5","v":"Natuur"},null,"x",{"$f":"Data!$F$5","v":17},"=",{"$f":"C6256*E6256","v":0},null,null,null,null,null,"Natuur",null,{"$f":"C6256","v":0}]
[null,{"$f":"Data!$C$6","v":"Champignons"},null,"x",{"$f":"Data!$F$6","v":17},"=",{"$f":"C6257*E6257","v":0},null,null,null,null,null,"Champignons",null,null,{"$f":"C6257","v":0}]
[null,{"$f":"Data!$C$7","v":"Peper"},null,"x",{"$f":"Data!$F$7","v":17},"=",{"$f":"C6258*E6258","v":0},null,null,null,null,null,"Peper",null,null,null,{"$f":"C6258","v":0}]
[]
[{"$f":"Data!$B$9","v":"Kabeljauwhaasje"},null,null,"x",{"$f":"Data!$F$9","v":17},"=",{"$f":"C6260*E6260","v":0},null,null,null,null,"Kabeljauwhaasje",null,null,null,null,null,{"$f":"C6260","v":0}]
[]
[{"$f":"Data!$B$11","v":"Kindermenu"},null,null,null,null,null,null,null,null,null,null,"Kindermenu"]
[null,{"$f":"Data!$C$12","v":"Natuur"},null,"x",{"$f":"Data!$F$12","v":8},"=",{"$f":"C6263*E6263","v":0},null,null,null,null,null,"Natuur",null,null,null,null,null,{"$f":"C6263","v":0}]
[null,{"$f":"Data!$C$13","v":"Champignons"},null,"x",{"$f":"Data!$F$13","v":8},"=",{"$f":"C6264*E6264","v":0},null,null,null,null,null,"Champignons",null,null,null,null,null,null,{"$f":"C6264","v":0}]
[null,{"$f":"Data!$C$14","v":"Peper"},null,"x",{"$f":"Data!$F$14","v":8},"=",0,null,null,null,null,null,"Peper",null,null,null,null,null,null,null,{"$f":"C6265","v":0}]
[null,{"$f":"Data!$C$15","v":"Kabeljauwhaasje"},null,"x",{"$f":"Data!$F$15","v":8},"=",0,null,null,null,null,null,"Kabeljauwhaasje",null,null,null,null,null,null,null,null,{"$f":"C6266","v":0}]
[]
[null,{"$f":"Data!$C$17","v":"Totaal eten:"},null,null,null,null,{"$f":"SUM(G6256:G6267)","v":0},null,null,null,null,null,"Totaal eten:",null,null,null,null,null,null,null,null,null,{"$f":"G6268","v":0}]
[null,{"$f":"Data!$C$18","v":"Totaal kaarten:"},null,"x",{"$f":"Data!$F$18","v":3},"=",{"$f":"-(C6269*E6269)","v":0}]
[null,null,null,null,null,null,null,null,null,null,null,null,"Totaal kaarten (bedrag):",null,null,null,null,null,null,null,null,null,null,{"$f":"C6269","v":0}]
[]
[null,{"$f":"Data!$C$21","v":"Totaal te betalen:"},null,null,null,null,{"$f":"G6268+G6269","v":0},null,null,null,null,null,"Totaal te betalen:",null,null,null,null,null,null,null,null,null,null,null,{"$f":"G6272","v":0}]
[]
[{"$f":"Data!$A$23","v":"TGV Opstal dankt u voor uw aanwezigheid!  Eet smakelijk!"}]
[]
["Fietsclub TGV Opstal",null,null,null,null,null,"Tafel nr:"]
[{"$f":"A6253","v":134}]
[]
[{"$f":"Data!$B$4","v":"Kalkoenfilet"}]
[null,{"$f":"Data!$C$5","v":"Natuur"},{"$f":"C6256","v":0},"x",{"$f":"Data!$F$5","v":17},"=",{"$f":"C6280*E6280","v":0}]
[null,{"$f":"Data!$C$6","v":"Champignons"},{"$f":"C6257","v":0},"x",{"$f":"Data!$F$6","v":17},"=",{"$f":"C6281*E6281","v":0}]
[null,{"$f":"Data!$C$7","v":"Peper"},0,"x",{"$f":"Data!$F$7","v":17},"=",{"$f":"C6282*E6282","v":0}]
[]
[{"$f":"Data!$B$9","v":"Kabeljauwhaasje"},null,0,"x",{"$f":"Data!$F$9","v":17},"=",{"$f":"C6284*E6284","v":0}]
[]
[{"$f":"Data!$B$11","v":"Kindermenu"}]
[null,{"$f":"Data!$C$12","v":"Natuur"},0,"x",{"$f":"Data!$F$12","v":8},"=",{"$f":"C6287*E6287","v":0}]
[null,{"$f":"Data!$C$13","v":"Champignons"},0,"x",{"$f":"Data!$F$13","v":8},"=",{"$f":"C6288*E6288","v":0}]
[null,{"$f":"Data!$C$14","v":"Peper"},0,"x",{"$f":"Data!$F$14","v":8},"=",0]
[null,{"$f":"Data!$C$15","v":"Kabeljauwhaasje"},0,"x",{"$f":"Data!$F$15","v":8},"=",0]
[]
[null,{"$f":"Data!$C$17","v":"Totaal eten:"},null,null,null,null,{"$f":"SUM(G6280:G6291)","v":0}]
[null,{"$f":"Data!$C$18","v":"Totaal kaarten:"},{"$f":"C6269","v":0},"x",{"$f":"Data!$F$18","v":3},"=",{"$f":"-(C6293*E6293)","v":0}]
[]
[]
[null,{"$f":"Data!$C$21","v":"Totaal te betalen:"},null,null,null,null,{"$f":"G6292+G6293","v":0}]
[]
[{"$f":"Data!$A$23","v":"TGV Opstal dankt u voor uw aanwezigheid!  Eet smakelijk!"}]
["Fietsclub TGV Opstal",null,null,null,null,null,"Tafel nr:"]
[{"$f":"A6253+1","v":135},null,null,null,null,null,null,null,null,null,null,{"$f":"A6300","v":135}]
[]
[{"$f":"Data!$B$4","v":"Kalkoenfilet"},null,null,null,null,null,null,null,null,null,null,"Kalkoenfilet"]
[null,{"$f":"Data!$C$5","v":"Natuur"},null,"x",{"$f":"Data!$F$5","v":17},"=",{"$f":"C6303*E6303","v":0},null,null,null,null,null,"Natuur",null,{"$f":"C6303","v":0}]
[null,{"$f":"Data!$C$6","v":"Champignons"},null,"x",{"$f":"Data!$F$6","v":17},"=",{"$f":"C6304*E6304","v":0},null,null,null,null,null,"Champignons",null,null,{"$f":"C6304","v":0}]
[null,{"$f":"Data!$C$7","v":"Peper"},null,"x",{"$f":"Data!$F$7","v":17},"=",{"$f":"C6305*E6305","v":0},null,null,null,null,null,"Peper",null,null,null,{"$f":"C6305","v":0}]
[]
[{"$f":"Data!$B$9","v":"Kabeljauwhaasje"},null,null,"x",{"$f":"Data!$F$9","v":17},"=",{"$f":"C6307*E6307","v":0},null,null,null,null,"Kabeljauwhaasje",null,null,null,null,null,{"$f":"C6307","v":0}]
[]
[{"$f":"Data!$B$11","v":"Kindermenu"},null,null,null,null,null,null,null,null,null,null,"Kindermenu"]
[null,{"$f":"Data!$C$12","v":"Natuur"},null,"x",{"$f":"Data!$F$12","v":8},"=",{"$f":"C6310*E6310","v":0},null,null,null,null,null,"Natuur",null,null,null,null,null,{"$f":"C6310","v":0}]
[null,{"$f":"Data!$C$13","v":"Champignons"},null,"x",{"$f":"Data!$F$13","v":8},"=",{"$f":"C6311*E6311","v":0},null,null,null,null,null,"Champignons",null,null,null,null,null,null,{"$f":"C6311","v":0}]
[null,{"$f":"Data!$C$14","v":"Peper"},null,"x",{"$f":"Data!$F$14","v":8},"=",0,null,null,null,null,null,"Peper",null,null,null,null,null,null,null,{"$f":"C6312","v":0}]
[null,{"$f":"Data!$C$15","v":"Kabeljauwhaasje"},null,"x",{"$f":"Data!$F$15","v":8},"=",0,null,null,null,null,null,"Kabeljauwhaasje",null,null,null,null,null,null,null,null,{"$f":"C6313","v":0}]
[]
[null,{"$f":"Data!$C$17","v":"Totaal eten:"},null,null,null,null,{"$f":"SUM(G6303:G6314)","v":0},null,null,null,null,null,"Totaal eten:",null,null,null,null,null,null,null,null,null,{"$f":"G6315","v":0}]
[null,{"$f":"Data!$C$18","v":"Totaal kaarten:"},null,"x",{"$f":"Data!$F$18","v":3},"=",{"$f":"-(C6316*E6316)","v":0}]
[null,null,null,null,null,null,null,null,null,null,null,null,"Totaal kaarten (bedrag):",null,null,null,null,null,null,null,null,null,null,{"$f":"C6316","v":0}]
[]
[null,{"$f":"Data!$C$21","v":"Totaal te betalen:"},null,null,null,null,{"$f":"G6315+G6316","v":0},null,null,null,null,null,"Totaal te betalen:",null,null,null,null,null,null,null,null,null,null,null,{"$f":"G6319","v":0}]
[]
[{"$f":"Data!$A$23","v":"TGV Opstal dankt u voor uw aanwezigheid!  Eet smakelijk!"}]
[]
["Fietsclub TGV Opstal",null,null,null,null,null,"Tafel nr:"]
[{"$f":"A6300","v":135}]
[]
[{"$f":"Data!$B$4","v":"Kalkoenfilet"}]
[null,{"$f":"Data!$C$5","v":"Natuur"},{"$f":"C6303","v":0},"x",{"$f":"Data!$F$5","v":17},"=",{"$f":"C6327*E6327","v":0}]
[null,{"$f":"Data!$C$6","v":"Champignons"},{"$f":"C6304","v":0},"x",{"$f":"Data!$F$6","v":17},"=",{"$f":"C6328*E6328","v":0}]
[null,{"$f":"Data!$C$7","v":"Peper"},0,"x",{"$f":"Data!$F$7","v":17},"=",{"$f":"C6329*E6329","v":0}]
[]
[{"$f":"Data!$B$9","v":"Kabeljauwhaasje"},null,0,"x",{"$f":"Data!$F$9","v":17},"=",{"$f":"C6331*E6331","v":0}]
[]
[{"$f":"Data!$B$11","v":"Kindermenu"}]
[null,{"$f":"Data!$C$12","v":"Natuur"},0,"x",{"$f":"Data!$F$12","v":8},"=",{"$f":"C6334*E6334","v":0}]
[null,{"$f":"Data!$C$13","v":"Champignons"},0,"x",{"$f":"Data!$F$13","v":8},"=",{"$f":"C6335*E6335","v":0}]
[null,{"$f":"Data!$C$14","v":"Peper"},0,"x",{"$f":"Data!$F$14","v":8},"=",0]
[null,{"$f":"Data!$C$15","v":"Kabeljauwhaasje"},0,"x",{"$f":"Data!$F$15","v":8},"=",0]
[]
[null,{"$f":"Data!$C$17","v":"Totaal eten:"},null,null,null,null,{"$f":"SUM(G6327:G6338)","v":0}]
[null,{"$f":"Data!$C$18","v":"Totaal kaarten:"},{"$f":"C6316","v":0},"x",{"$f":"Data!$F$18","v":3},"=",{"$f":"-(C6340*E6340)","v":0}]
[]
[]
[null,{"$f":"Data!$C$21","v":"Totaal te betalen:"},null,null,null,null,{"$f":"G6339+G6340","v":0}]
[]
[{"$f":"Data!$A$23","v":"TGV Opstal dankt u voor uw aanwezigheid!  Eet smakelijk!"}]
["Fietsclub TGV Opstal",null,null,null,null,null,"Tafel nr:"]
[{"$f":"A6300+1","v":136},null,null,null,null,null,null,null,null,null,null,{"$f":"A6347","v":136}]
[]
[{"$f":"Data!$B$4","v":"Kalkoenfilet"},null,null,null,null,null,null,null,null,null,null,"Kalkoenfilet"]
[null,{"$f":"Data!$C$5","v":"Natuur"},null,"x",{"$f":"Data!$F$5","v":17},"=",{"$f":"C6350*E6350","v":0},null,null,null,null,null,"Natuur",null,{"$f":"C6350","v":0}]
[null,{"$f":"Data!$C$6","v":"Champignons"},null,"x",{"$f":"Data!$F$6","v":17},"=",{"$f":"C6351*E6351","v":0},null,null,null,null,null,"Champignons",null,null,{"$f":"C6351","v":0}]
[null,{"$f":"Data!$C$7","v":"Peper"},null,"x",{"$f":"Data!$F$7","v":17},"=",{"$f":"C6352*E6352","v":0},null,null,null,null,null,"Peper",null,null,null,{"$f":"C6352","v":0}]
[]
[{"$f":"Data!$B$9","v":"Kabeljauwhaasje"},null,null,"x",{"$f":"Data!$F$9","v":17},"=",{"$f":"C6354*E6354","v":0},null,null,null,null,"Kabeljauwhaasje",null,null,null,null,null,{"$f":"C6354","v":0}]
[]
[{"$f":"Data!$B$11","v":"Kindermenu"},null,null,null,null,null,null,null,null,null,null,"Kindermenu"]
[null,{"$f":"Data!$C$12","v":"Natuur"},null,"x",{"$f":"Data!$F$12","v":8},"=",{"$f":"C6357*E6357","v":0},null,null,null,null,null,"Natuur",null,null,null,null,null,{"$f":"C6357","v":0}]
[null,{"$f":"Data!$C$13","v":"Champignons"},null,"x",{"$f":"Data!$F$13","v":8},"=",{"$f":"C6358*E6358","v":0},null,null,null,null,null,"Champignons",null,null,null,null,null,null,{"$f":"C6358","v":0}]
[null,{"$f":"Data!$C$14","v":"Peper"},null,"x",{"$f":"Data!$F$14","v":8},"=",0,null,null,null,null,null,"Peper",null,null,null,null,null,null,null,{"$f":"C6359","v":0}]
[null,{"$f":"Data!$C$15","v":"Kabeljauwhaasje"},null,"x",{"$f":"Data!$F$15","v":8},"=",0,null,null,null,null,null,"Kabeljauwhaasje",null,null,null,null,null,null,null,null,{"$f":"C6360","v":0}]
[]
[null,{"$f":"Data!$C$17","v":"Totaal eten:"},null,null,null,null,{"$f":"SUM(G6350:G6361)","v":0},null,null,null,null,null,"Totaal eten:",null,null,null,null,null,null,null,null,null,{"$f":"G6362","v":0}]
[null,{"$f":"Data!$C$18","v":"Totaal kaarten:"},null,"x",{"$f":"Data!$F$18","v":3},"=",{"$f":"-(C6363*E6363)","v":0}]
[null,null,null,null,null,null,null,null,null,null,null,null,"Totaal kaarten (bedrag):",null,null,null,null,null,null,null,null,null,null,{"$f":"C6363","v":0}]
[]
[null,{"$f":"Data!$C$21","v":"Totaal te betalen:"},null,null,null,null,{"$f":"G6362+G6363","v":0},null,null,null,null,null,"Totaal te betalen:",null,null,null,null,null,null,null,null,null,null,null,{"$f":"G6366","v":0}]
[]
[{"$f":"Data!$A$23","v":"TGV Opstal dankt u voor uw aanwezigheid!  Eet smakelijk!"}]
[]
["Fietsclub TGV Opstal",null,null,null,null,null,"Tafel nr:"]
[{"$f":"A6347","v":136}]
[]
[{"$f":"Data!$B$4","v":"Kalkoenfilet"}]
[null,{"$f":"Data!$C$5","v":"Natuur"},{"$f":"C6350","v":0},"x",{"$f":"Data!$F$5","v":17},"=",{"$f":"C6374*E6374","v":0}]
[null,{"$f":"Data!$C$6","v":"Champignons"},{"$f":"C6351","v":0},"x",{"$f":"Data!$F$6","v":17},"=",{"$f":"C6375*E6375","v":0}]
[null,{"$f":"Data!$C$7","v":"Peper"},0,"x",{"$f":"Data!$F$7","v":17},"=",{"$f":"C6376*E6376","v":0}]
[]
[{"$f":"Data!$B$9","v":"Kabeljauwhaasje"},null,0,"x",{"$f":"Data!$F$9","v":17},"=",{"$f":"C6378*E6378","v":0}]
[]
[{"$f":"Data!$B$11","v":"Kindermenu"}]
[null,{"$f":"Data!$C$12","v":"Natuur"},0,"x",{"$f":"Data!$F$12","v":8},"=",{"$f":"C6381*E6381","v":0}]
[null,{"$f":"Data!$C$13","v":"Champignons"},0,"x",{"$f":"Data!$F$13","v":8},"=",{"$f":"C6382*E6382","v":0}]
[null,{"$f":"Data!$C$14","v":"Peper"},0,"x",{"$f":"Data!$F$14","v":8},"=",0]
[null,{"$f":"Data!$C$15","v":"Kabeljauwhaasje"},0,"x",{"$f":"Data!$F$15","v":8},"=",0]
[]
[null,{"$f":"Data!$C$17","v":"Totaal eten:"},null,null,null,null,{"$f":"SUM(G6374:G6385)","v":0}]
[null,{"$f":"Data!$C$18","v":"Totaal kaarten:"},{"$f":"C6363","v":0},"x",{"$f":"Data!$F$18","v":3},"=",{"$f":"-(C6387*E6387)","v":0}]
[]
[]
[null,{"$f":"Data!$C$21","v":"Totaal te betalen:"},null,null,null,null,{"$f":"G6386+G6387","v":0}]
[]
[{"$f":"Data!$A$23","v":"TGV Opstal dankt u voor uw aanwezigheid!  Eet smakelijk!"}]
["Fietsclub TGV Opstal",null,null,null,null,null,"Tafel nr:"]
[{"$f":"A6347+1","v":137},null,null,null,null,null,null,null,null,null,null,{"$f":"A6394","v":137}]
[]
[{"$f":"Data!$B$4","v":"Kalkoenfilet"},null,null,null,null,null,null,null,null,null,null,"Kalkoenfilet"]
[null,{"$f":"Data!$C$5","v":"Natuur"},null,"x",{"$f":"Data!$F$5","v":17},"=",{"$f":"C6397*E6397","v":0},null,null,null,null,null,"Natuur",null,{"$f":"C6397","v":0}]
[null,{"$f":"Data!$C$6","v":"Champignons"},null,"x",{"$f":"Data!$F$6","v":17},"=",{"$f":"C6398*E6398","v":0},null,null,null,null,null,"Champignons",null,null,{"$f":"C6398","v":0}]
[null,{"$f":"Data!$C$7","v":"Peper"},null,"x",{"$f":"Data!$F$7","v":17},"=",{"$f":"C6399*E6399","v":0},null,null,null,null,null,"Peper",null,null,null,{"$f":"C6399","v":0}]
[]
[{"$f":"Data!$B$9","v":"Kabeljauwhaasje"},null,null,"x",{"$f":"Data!$F$9","v":17},"=",{"$f":"C6401*E6401","v":0},null,null,null,null,"Kabeljauwhaasje",null,null,null,null,null,{"$f":"C6401","v":0}]
[]
[{"$f":"Data!$B$11","v":"Kindermenu"},null,null,null,null,null,null,null,null,null,null,"Kindermenu"]
[null,{"$f":"Data!$C$12","v":"Natuur"},null,"x",{"$f":"Data!$F$12","v":8},"=",{"$f":"C6404*E6404","v":0},null,null,null,null,null,"Natuur",null,null,null,null,null,{"$f":"C6404","v":0}]
[null,{"$f":"Data!$C$13","v":"Champignons"},null,"x",{"$f":"Data!$F$13","v":8},"=",{"$f":"C6405*E6405","v":0},null,null,null,null,null,"Champignons",null,null,null,null,null,null,{"$f":"C6405","v":0}]
[null,{"$f":"Data!$C$14","v":"Peper"},null,"x",{"$f":"Data!$F$14","v":8},"=",0,null,null,null,null,null,"Peper",null,null,null,null,null,null,null,{"$f":"C6406","v":0}]
[null,{"$f":"Data!$C$15","v":"Kabeljauwhaasje"},null,"x",{"$f":"Data!$F$15","v":8},"=",0,null,null,null,null,null,"Kabeljauwhaasje",null,null,null,null,null,null,null,null,{"$f":"C6407","v":0}]
[]
[null,{"$f":"Data!$C$17","v":"Totaal eten:"},null,null,null,null,{"$f":"SUM(G6397:G6408)","v":0},null,null,null,null,null,"Totaal eten:",null,null,null,null,null,null,null,null,null,{"$f":"G6409","v":0}]
[null,{"$f":"Data!$C$18","v":"Totaal kaarten:"},null,"x",{"$f":"Data!$F$18","v":3},"=",{"$f":"-(C6410*E6410)","v":0}]
[null,null,null,null,null,null,null,null,null,null,null,null,"Totaal kaarten (bedrag):",null,null,null,null,null,null,null,null,null,null,{"$f":"C6410","v":0}]
[]
[null,{"$f":"Data!$C$21","v":"Totaal te betalen:"},null,null,null,null,{"$f":"G6409+G6410","v":0},null,null,null,null,null,"Totaal te betalen:",null,null,null,null,null,null,null,null,null,null,null,{"$f":"G6413","v":0}]
[]
[{"$f":"Data!$A$23","v":"TGV Opstal dankt u voor uw aanwezigheid!  Eet smakelijk!"}]
[]
["Fietsclub TGV Opstal",null,null,null,null,null,"Tafel nr:"]
[{"$f":"A6394","v":137}]
[]
[{"$f":"Data!$B$4","v":"Kalkoenfilet"}]
[null,{"$f":"Data!$C$5","v":"Natuur"},{"$f":"C6397","v":0},"x",{"$f":"Data!$F$5","v":17},"=",{"$f":"C6421*E6421","v":0}]
[null,{"$f":"Data!$C$6","v":"Champignons"},{"$f":"C6398","v":0},"x",{"$f":"Data!$F$6","v":17},"=",{"$f":"C6422*E6422","v":0}]
[null,{"$f":"Data!$C$7","v":"Peper"},0,"x",{"$f":"Data!$F$7","v":17},"=",{"$f":"C6423*E6423","v":0}]
[]
[{"$f":"Data!$B$9","v":"Kabeljauwhaasje"},null,0,"x",{"$f":"Data!$F$9","v":17},"=",{"$f":"C6425*E6425","v":0}]
[]
[{"$f":"Data!$B$11","v":"Kindermenu"}]
[null,{"$f":"Data!$C$12","v":"Natuur"},0,"x",{"$f":"Data!$F$12","v":8},"=",{"$f":"C6428*E6428","v":0}]
[null,{"$f":"Data!$C$13","v":"Champignons"},0,"x",{"$f":"Data!$F$13","v":8},"=",{"$f":"C6429*E6429","v":0}]
[null,{"$f":"Data!$C$14","v":"Peper"},0,"x",{"$f":"Data!$F$14","v":8},"=",0]
[null,{"$f":"Data!$C$15","v":"Kabeljauwhaasje"},0,"x",{"$f":"Data!$F$15","v":8},"=",0]
[]
[null,{"$f":"Data!$C$17","v":"Totaal eten:"},null,null,null,null,{"$f":"SUM(G6421:G6432)","v":0}]
[null,{"$f":"Data!$C$18","v":"Totaal kaarten:"},{"$f":"C6410","v":0},"x",{"$f":"Data!$F$18","v":3},"=",{"$f":"-(C6434*E6434)","v":0}]
[]
[]
[null,{"$f":"Data!$C$21","v":"Totaal te betalen:"},null,null,null,null,{"$f":"G6433+G6434","v":0}]
[]
[{"$f":"Data!$A$23","v":"TGV Opstal dankt u voor uw aanwezigheid!  Eet smakelijk!"}]
["Fietsclub TGV Opstal",null,null,null,null,null,"Tafel nr:"]
[{"$f":"A6394+1","v":138},null,null,null,null,null,null,null,null,null,null,{"$f":"A6441","v":138}]
[]
[{"$f":"Data!$B$4","v":"Kalkoenfilet"},null,null,null,null,null,null,null,null,null,null,"Kalkoenfilet"]
[null,{"$f":"Data!$C$5","v":"Natuur"},null,"x",{"$f":"Data!$F$5","v":17},"=",{"$f":"C6444*E6444","v":0},null,null,null,null,null,"Natuur",null,{"$f":"C6444","v":0}]
[null,{"$f":"Data!$C$6","v":"Champignons"},null,"x",{"$f":"Data!$F$6","v":17},"=",{"$f":"C6445*E6445","v":0},null,null,null,null,null,"Champignons",null,null,{"$f":"C6445","v":0}]
[null,{"$f":"Data!$C$7","v":"Peper"},null,"x",{"$f":"Data!$F$7","v":17},"=",{"$f":"C6446*E6446","v":0},null,null,null,null,null,"Peper",null,null,null,{"$f":"C6446","v":0}]
[]
[{"$f":"Data!$B$9","v":"Kabeljauwhaasje"},null,null,"x",{"$f":"Data!$F$9","v":17},"=",{"$f":"C6448*E6448","v":0},null,null,null,null,"Kabeljauwhaasje",null,null,null,null,null,{"$f":"C6448","v":0}]
[]
[{"$f":"Data!$B$11","v":"Kindermenu"},null,null,null,null,null,null,null,null,null,null,"Kindermenu"]
[null,{"$f":"Data!$C$12","v":"Natuur"},null,"x",{"$f":"Data!$F$12","v":8},"=",{"$f":"C6451*E6451","v":0},null,null,null,null,null,"Natuur",null,null,null,null,null,{"$f":"C6451","v":0}]
[null,{"$f":"Data!$C$13","v":"Champignons"},null,"x",{"$f":"Data!$F$13","v":8},"=",{"$f":"C6452*E6452","v":0},null,null,null,null,null,"Champignons",null,null,null,null,null,null,{"$f":"C6452","v":0}]
[null,{"$f":"Data!$C$14","v":"Peper"},null,"x",{"$f":"Data!$F$14","v":8},"=",0,null,null,null,null,null,"Peper",null,null,null,null,null,null,null,{"$f":"C6453","v":0}]
[null,{"$f":"Data!$C$15","v":"Kabeljauwhaasje"},null,"x",{"$f":"Data!$F$15","v":8},"=",0,null,null,null,null,null,"Kabeljauwhaasje",null,null,null,null,null,null,null,null,{"$f":"C6454","v":0}]
[]
[null,{"$f":"Data!$C$17","v":"Totaal eten:"},null,null,null,null,{"$f":"SUM(G6444:G6455)","v":0},null,null,null,null,null,"Totaal eten:",null,null,null,null,null,null,null,null,null,{"$f":"G6456","v":0}]
[null,{"$f":"Data!$C$18","v":"Totaal kaarten:"},null,"x",{"$f":"Data!$F$18","v":3},"=",{"$f":"-(C6457*E6457)","v":0}]
[null,null,null,null,null,null,null,null,null,null,null,null,"Totaal kaarten (bedrag):",null,null,null,null,null,null,null,null,null,null,{"$f":"C6457","v":0}]
[]
[null,{"$f":"Data!$C$21","v":"Totaal te betalen:"},null,null,null,null,{"$f":"G6456+G6457","v":0},null,null,null,null,null,"Totaal te betalen:",null,null,null,null,null,null,null,null,null,null,null,{"$f":"G6460","v":0}]
[]
[{"$f":"Data!$A$23","v":"TGV Opstal dankt u voor uw aanwezigheid!  Eet smakelijk!"}]
[]
["Fietsclub TGV Opstal",null,null,null,null,null,"Tafel nr:"]
[{"$f":"A6441","v":138}]
[]
[{"$f":"Data!$B$4","v":"Kalkoenfilet"}]
[null,{"$f":"Data!$C$5","v":"Natuur"},{"$f":"C6444","v":0},"x",{"$f":"Data!$F$5","v":17},"=",{"$f":"C6468*E6468","v":0}]
[null,{"$f":"Data!$C$6","v":"Champignons"},{"$f":"C6445","v":0},"x",{"$f":"Data!$F$6","v":17},"=",{"$f":"C6469*E6469","v":0}]
[null,{"$f":"Data!$C$7","v":"Peper"},0,"x",{"$f":"Data!$F$7","v":17},"=",{"$f":"C6470*E6470","v":0}]
[]
[{"$f":"Data!$B$9","v":"Kabeljauwhaasje"},null,0,"x",{"$f":"Data!$F$9","v":17},"=",{"$f":"C6472*E6472","v":0}]
[]
[{"$f":"Data!$B$11","v":"Kindermenu"}]
[null,{"$f":"Data!$C$12","v":"Natuur"},0,"x",{"$f":"Data!$F$12","v":8},"=",{"$f":"C6475*E6475","v":0}]
[null,{"$f":"Data!$C$13","v":"Champignons"},0,"x",{"$f":"Data!$F$13","v":8},"=",{"$f":"C6476*E6476","v":0}]
[null,{"$f":"Data!$C$14","v":"Peper"},0,"x",{"$f":"Data!$F$14","v":8},"=",0]
[null,{"$f":"Data!$C$15","v":"Kabeljauwhaasje"},0,"x",{"$f":"Data!$F$15","v":8},"=",0]
[]
[null,{"$f":"Data!$C$17","v":"Totaal eten:"},null,null,null,null,{"$f":"SUM(G6468:G6479)","v":0}]
[null,{"$f":"Data!$C$18","v":"Totaal kaarten:"},{"$f":"C6457","v":0},"x",{"$f":"Data!$F$18","v":3},"=",{"$f":"-(C6481*E6481)","v":0}]
[]
[]
[null,{"$f":"Data!$C$21","v":"Totaal te betalen:"},null,null,null,null,{"$f":"G6480+G6481","v":0}]
[]
[{"$f":"Data!$A$23","v":"TGV Opstal dankt u voor uw aanwezigheid!  Eet smakelijk!"}]
["Fietsclub TGV Opstal",null,null,null,null,null,"Tafel nr:"]
[{"$f":"A6441+1","v":139},null,null,null,null,null,null,null,null,null,null,{"$f":"A6488","v":139}]
[]
[{"$f":"Data!$B$4","v":"Kalkoenfilet"},null,null,null,null,null,null,null,null,null,null,"Kalkoenfilet"]
[null,{"$f":"Data!$C$5","v":"Natuur"},null,"x",{"$f":"Data!$F$5","v":17},"=",{"$f":"C6491*E6491","v":0},null,null,null,null,null,"Natuur",null,{"$f":"C6491","v":0}]
[null,{"$f":"Data!$C$6","v":"Champignons"},null,"x",{"$f":"Data!$F$6","v":17},"=",{"$f":"C6492*E6492","v":0},null,null,null,null,null,"Champignons",null,null,{"$f":"C6492","v":0}]
[null,{"$f":"Data!$C$7","v":"Peper"},null,"x",{"$f":"Data!$F$7","v":17},"=",{"$f":"C6493*E6493","v":0},null,null,null,null,null,"Peper",null,null,null,{"$f":"C6493","v":0}]
[]
[{"$f":"Data!$B$9","v":"Kabeljauwhaasje"},null,null,"x",{"$f":"Data!$F$9","v":17},"=",{"$f":"C6495*E6495","v":0},null,null,null,null,"Kabeljauwhaasje",null,null,null,null,null,{"$f":"C6495","v":0}]
[]
[{"$f":"Data!$B$11","v":"Kindermenu"},null,null,null,null,null,null,null,null,null,null,"Kindermenu"]
[null,{"$f":"Data!$C$12","v":"Natuur"},null,"x",{"$f":"Data!$F$12","v":8},"=",{"$f":"C6498*E6498","v":0},null,null,null,null,null,"Natuur",null,null,null,null,null,{"$f":"C6498","v":0}]
[null,{"$f":"Data!$C$13","v":"Champignons"},null,"x",{"$f":"Data!$F$13","v":8},"=",{"$f":"C6499*E6499","v":0},null,null,null,null,null,"Champignons",null,null,null,null,null,null,{"$f":"C6499","v":0}]
[null,{"$f":"Data!$C$14","v":"Peper"},null,"x",{"$f":"Data!$F$14","v":8},"=",0,null,null,null,null,null,"Peper",null,null,null,null,null,null,null,{"$f":"C6500","v":0}]
[null,{"$f":"Data!$C$15","v":"Kabeljauwhaasje"},null,"x",{"$f":"Data!$F$15","v":8},"=",0,null,null,null,null,null,"Kabeljauwhaasje",null,null,null,null,null,null,null,null,{"$f":"C6501","v":0}]
[]
[null,{"$f":"Data!$C$17","v":"Totaal eten:"},null,null,null,null,{"$f":"SUM(G6491:G6502)","v":0},null,null,null,null,null,"Totaal eten:",null,null,null,null,null,null,null,null,null,{"$f":"G6503","v":0}]
[null,{"$f":"Data!$C$18","v":"Totaal kaarten:"},null,"x",{"$f":"Data!$F$18","v":3},"=",{"$f":"-(C6504*E6504)","v":0}]
[null,null,null,null,null,null,null,null,null,null,null,null,"Totaal kaarten (bedrag):",null,null,null,null,null,null,null,null,null,null,{"$f":"C6504","v":0}]
[]
[null,{"$f":"Data!$C$21","v":"Totaal te betalen:"},null,null,null,null,{"$f":"G6503+G6504","v":0},null,null,null,null,null,"Totaal te betalen:",null,null,null,null,null,null,null,null,null,null,null,{"$f":"G6507","v":0}]
[]
[{"$f":"Data!$A$23","v":"TGV Opstal dankt u voor uw aanwezigheid!  Eet smakelijk!"}]
[]
["Fietsclub TGV Opstal",null,null,null,null,null,"Tafel nr:"]
[{"$f":"A6488","v":139}]
[]
[{"$f":"Data!$B$4","v":"Kalkoenfilet"}]
[null,{"$f":"Data!$C$5","v":"Natuur"},{"$f":"C6491","v":0},"x",{"$f":"Data!$F$5","v":17},"=",{"$f":"C6515*E6515","v":0}]
[null,{"$f":"Data!$C$6","v":"Champignons"},{"$f":"C6492","v":0},"x",{"$f":"Data!$F$6","v":17},"=",{"$f":"C6516*E6516","v":0}]
[null,{"$f":"Data!$C$7","v":"Peper"},0,"x",{"$f":"Data!$F$7","v":17},"=",{"$f":"C6517*E6517","v":0}]
[]
[{"$f":"Data!$B$9","v":"Kabeljauwhaasje"},null,0,"x",{"$f":"Data!$F$9","v":17},"=",{"$f":"C6519*E6519","v":0}]
[]
[{"$f":"Data!$B$11","v":"Kindermenu"}]
[null,{"$f":"Data!$C$12","v":"Natuur"},0,"x",{"$f":"Data!$F$12","v":8},"=",{"$f":"C6522*E6522","v":0}]
[null,{"$f":"Data!$C$13","v":"Champignons"},0,"x",{"$f":"Data!$F$13","v":8},"=",{"$f":"C6523*E6523","v":0}]
[null,{"$f":"Data!$C$14","v":"Peper"},0,"x",{"$f":"Data!$F$14","v":8},"=",0]
[null,{"$f":"Data!$C$15","v":"Kabeljauwhaasje"},0,"x",{"$f":"Data!$F$15","v":8},"=",0]
[]
[null,{"$f":"Data!$C$17","v":"Totaal eten:"},null,null,null,null,{"$f":"SUM(G6515:G6526)","v":0}]
[null,{"$f":"Data!$C$18","v":"Totaal kaarten:"},{"$f":"C6504","v":0},"x",{"$f":"Data!$F$18","v":3},"=",{"$f":"-(C6528*E6528)","v":0}]
[]
[]
[null,{"$f":"Data!$C$21","v":"Totaal te betalen:"},null,null,null,null,{"$f":"G6527+G6528","v":0}]
[]
[{"$f":"Data!$A$23","v":"TGV Opstal dankt u voor uw aanwezigheid!  Eet smakelijk!"}]
["Fietsclub TGV Opstal",null,null,null,null,null,"Tafel nr:"]
[{"$f":"A6488+1","v":140},null,null,null,null,null,null,null,null,null,null,{"$f":"A6535","v":140}]
[]
[{"$f":"Data!$B$4","v":"Kalkoenfilet"},null,null,null,null,null,null,null,null,null,null,"Kalkoenfilet"]
[null,{"$f":"Data!$C$5","v":"Natuur"},null,"x",{"$f":"Data!$F$5","v":17},"=",{"$f":"C6538*E6538","v":0},null,null,null,null,null,"Natuur",null,{"$f":"C6538","v":0}]
[null,{"$f":"Data!$C$6","v":"Champignons"},null,"x",{"$f":"Data!$F$6","v":17},"=",{"$f":"C6539*E6539","v":0},null,null,null,null,null,"Champignons",null,null,{"$f":"C6539","v":0}]
[null,{"$f":"Data!$C$7","v":"Peper"},null,"x",{"$f":"Data!$F$7","v":17},"=",{"$f":"C6540*E6540","v":0},null,null,null,null,null,"Peper",null,null,null,{"$f":"C6540","v":0}]
[]
[{"$f":"Data!$B$9","v":"Kabeljauwhaasje"},null,null,"x",{"$f":"Data!$F$9","v":17},"=",{"$f":"C6542*E6542","v":0},null,null,null,null,"Kabeljauwhaasje",null,null,null,null,null,{"$f":"C6542","v":0}]
[]
[{"$f":"Data!$B$11","v":"Kindermenu"},null,null,null,null,null,null,null,null,null,null,"Kindermenu"]
[null,{"$f":"Data!$C$12","v":"Natuur"},null,"x",{"$f":"Data!$F$12","v":8},"=",{"$f":"C6545*E6545","v":0},null,null,null,null,null,"Natuur",null,null,null,null,null,{"$f":"C6545","v":0}]
[null,{"$f":"Data!$C$13","v":"Champignons"},null,"x",{"$f":"Data!$F$13","v":8},"=",{"$f":"C6546*E6546","v":0},null,null,null,null,null,"Champignons",null,null,null,null,null,null,{"$f":"C6546","v":0}]
[null,{"$f":"Data!$C$14","v":"Peper"},null,"x",{"$f":"Data!$F$14","v":8},"=",0,null,null,null,null,null,"Peper",null,null,null,null,null,null,null,{"$f":"C6547","v":0}]
[null,{"$f":"Data!$C$15","v":"Kabeljauwhaasje"},null,"x",{"$f":"Data!$F$15","v":8},"=",0,null,null,null,null,null,"Kabeljauwhaasje",null,null,null,null,null,null,null,null,{"$f":"C6548","v":0}]
[]
[null,{"$f":"Data!$C$17","v":"Totaal eten:"},null,null,null,null,{"$f":"SUM(G6538:G6549)","v":0},null,null,null,null,null,"Totaal eten:",null,null,null,null,null,null,null,null,null,{"$f":"G6550","v":0}]
[null,{"$f":"Data!$C$18","v":"Totaal kaarten:"},null,"x",{"$f":"Data!$F$18","v":3},"=",{"$f":"-(C6551*E6551)","v":0}]
[null,null,null,null,null,null,null,null,null,null,null,null,"Totaal kaarten (bedrag):",null,null,null,null,null,null,null,null,null,null,{"$f":"C6551","v":0}]
[]
[null,{"$f":"Data!$C$21","v":"Totaal te betalen:"},null,null,null,null,{"$f":"G6550+G6551","v":0},null,null,null,null,null,"Totaal te betalen:",null,null,null,null,null,null,null,null,null,null,null,{"$f":"G6554","v":0}]
[]
[{"$f":"Data!$A$23","v":"TGV Opstal dankt u voor uw aanwezigheid!  Eet smakelijk!"}]
[]
["Fietsclub TGV Opstal",null,null,null,null,null,"Tafel nr:"]
[{"$f":"A6535","v":140}]
[]
[{"$f":"Data!$B$4","v":"Kalkoenfilet"}]
[null,{"$f":"Data!$C$5","v":"Natuur"},{"$f":"C6538","v":0},"x",{"$f":"Data!$F$5","v":17},"=",{"$f":"C6562*E6562","v":0}]
[null,{"$f":"Data!$C$6","v":"Champignons"},{"$f":"C6539","v":0},"x",{"$f":"Data!$F$6","v":17},"=",{"$f":"C6563*E6563","v":0}]
[null,{"$f":"Data!$C$7","v":"Peper"},0,"x",{"$f":"Data!$F$7","v":17},"=",{"$f":"C6564*E6564","v":0}]
[]
[{"$f":"Data!$B$9","v":"Kabeljauwhaasje"},null,0,"x",{"$f":"Data!$F$9","v":17},"=",{"$f":"C6566*E6566","v":0}]
[]
[{"$f":"Data!$B$11","v":"Kindermenu"}]
[null,{"$f":"Data!$C$12","v":"Natuur"},0,"x",{"$f":"Data!$F$12","v":8},"=",{"$f":"C6569*E6569","v":0}]
[null,{"$f":"Data!$C$13","v":"Champignons"},0,"x",{"$f":"Data!$F$13","v":8},"=",{"$f":"C6570*E6570","v":0}]
[null,{"$f":"Data!$C$14","v":"Peper"},0,"x",{"$f":"Data!$F$14","v":8},"=",0]
[null,{"$f":"Data!$C$15","v":"Kabeljauwhaasje"},0,"x",{"$f":"Data!$F$15","v":8},"=",0]
[]
[null,{"$f":"Data!$C$17","v":"Totaal eten:"},null,null,null,null,{"$f":"SUM(G6562:G6573)","v":0}]
[null,{"$f":"Data!$C$18","v":"Totaal kaarten:"},{"$f":"C6551","v":0},"x",{"$f":"Data!$F$18","v":3},"=",{"$f":"-(C6575*E6575)","v":0}]
[]
[]
[null,{"$f":"Data!$C$21","v":"Totaal te betalen:"},null,null,null,null,{"$f":"G6574+G6575","v":0}]
[]
[{"$f":"Data!$A$23","v":"TGV Opstal dankt u voor uw aanwezigheid!  Eet smakelijk!"}]

{"sheet":"Statistiek zat","index":1,"n_rows":22,"n_cols":10,"rows_kept":22,"cut":false,"hidden":false,"merged":[[0,6,0,7]]}
["Fietsclub TGV Opstal"]
[]
["Zaterdag  21 oktober 2017"]
[]
[{"$f":"Data!$B$4","v":"Kalkoenfilet"}]
[null,{"$f":"Data!$C$5","v":"Natuur"},{"$f":"SUM('Invul zat'!$O1:$O9999)","v":0},"x",{"$f":"Data!$F$5","v":17},"=",{"$f":"C6*E6","v":0}]
[null,{"$f":"Data!$C$6","v":"Champignons"},{"$f":"SUM('Invul zat'!$P1:$P9999)","v":0},"x",{"$f":"Data!$F$6","v":17},"=",{"$f":"C7*E7","v":0}]
[null,{"$f":"Data!$C$7","v":"Peper"},{"$f":"SUM('Invul zat'!$Q1:$Q9999)","v":0},"x",{"$f":"Data!$F$7","v":17},"=",{"$f":"C8*E8","v":0}]
[]
[{"$f":"Data!$B$9","v":"Kabeljauwhaasje"},null,{"$f":"SUM('Invul zat'!$R1:$R9999)","v":0},"x",{"$f":"Data!$F$9","v":17},"=",{"$f":"C10*E10","v":0}]
[]
[{"$f":"Data!$B$11","v":"Kindermenu"}]
[null,{"$f":"Data!$C$12","v":"Natuur"},{"$f":"SUM('Invul zat'!$S1:$S9999)","v":0},"x",{"$f":"Data!$F$12","v":8},"=",{"$f":"C13*E13","v":0}]
[null,{"$f":"Data!$C$13","v":"Champignons"},{"$f":"SUM('Invul zat'!$T1:$T9999)","v":0},"x",{"$f":"Data!$F$13","v":8},"=",{"$f":"C14*E14","v":0}]
[null,{"$f":"Data!$C$14","v":"Peper"},{"$f":"SUM('Invul zat'!$U1:$U9999)","v":0},"x",{"$f":"Data!$F$14","v":8},"=",0]
[null,{"$f":"Data!$C$15","v":"Kabeljauwhaasje"},{"$f":"SUM('Invul zat'!$V1:$V9999)","v":0},"x",{"$f":"Data!$F$15","v":8},"=",0]
[null,"Totaal eters:",{"$f":"SUM(C6:C16)","v":0}]
[null,{"$f":"Data!$C$17","v":"Totaal eten:"},{"$f":"SUM('Invul zat'!$W1:$W9999)","v":0},null,"=",null,{"$f":"SUM(G6:G17)","v":0}]
[null,{"$f":"Data!$C$18","v":"Totaal kaarten:"},{"$f":"SUM('Invul zat'!$X1:$X9999)","v":0},"x",{"$f":"Data!$F$18","v":3},"=",{"$f":"-(C19*E19)","v":0}]
[]
[]
[null,{"$f":"Data!$C$21","v":"Totaal te betalen:"},null,null,null,null,{"$f":"G18+G19","v":0},"(=",{"$f":"SUM('Invul zat'!$Y1:$Y9999)","v":0},")"]

{"sheet":"Data","index":2,"n_rows":23,"n_cols":9,"rows_kept":23,"cut":false,"hidden":false,"merged":[]}
[]
["Data"]
[]
[null,"Kalkoenfilet"]
[null,null,"Natuur",null,"x",17,"=",null,{"$f":"D5*F5","v":0}]
[null,null,"Champignons",null,"x",17,"=",null,{"$f":"D6*F6","v":0}]
[null,null,"Peper",null,"x",17,"=",null,{"$f":"D7*F7","v":0}]
[]
[null,"Kabeljauwhaasje",null,null,"x",17,"=",null,{"$f":"D9*F9","v":0}]
[]
[null,"Kindermenu"]
[null,null,"Natuur",null,"x",8,"=",null,{"$f":"D12*F12","v":0}]
[null,null,"Champignons",null,"x",8,"=",null,{"$f":"D13*F13","v":0}]
[null,null,"Peper",null,"x",8,"=",null,0]
[null,null,"Kabeljauwhaasje",null,"x",8,"=",null,0]
[]
[null,null,"Totaal eten:",null,null,null,null,null,{"$f":"SUM(I5:I16)","v":0}]
[null,null,"Totaal kaarten:",null,"x",3,"=","-",{"$f":"-(D18*F18)","v":0}]
[]
[]
[null,null,"Totaal te betalen:",null,null,null,null,null,{"$f":"I17+I18","v":0}]
[]
["TGV Opstal dankt u voor uw aanwezigheid!  Eet smakelijk!"]

{"sheet":"Kaarten","index":3,"n_rows":52,"n_cols":12,"rows_kept":52,"cut":false,"hidden":false,"merged":[]}
["Kaarten: "]
[]
[1,"x",{"$f":"Data!$F$18","v":3},"=",{"$f":"A3*C3","v":3},null,null,51,"x",{"$f":"Data!$F$18","v":3},"=",{"$f":"H3*J3","v":153}]
[2,"x",{"$f":"Data!$F$18","v":3},"=",6,null,null,52,"x",{"$f":"Data!$F$18","v":3},"=",156]
[3,"x",{"$f":"Data!$F$18","v":3},"=",9,null,null,53,"x",{"$f":"Data!$F$18","v":3},"=",159]
[4,"x",{"$f":"Data!$F$18","v":3},"=",12,null,null,54,"x",{"$f":"Data!$F$18","v":3},"=",162]
[5,"x",{"$f":"Data!$F$18","v":3},"=",15,null,null,55,"x",{"$f":"Data!$F$18","v":3},"=",165]
[6,"x",{"$f":"Data!$F$18","v":3},"=",18,null,null,56,"x",{"$f":"Data!$F$18","v":3},"=",168]
[7,"x",{"$f":"Data!$F$18","v":3},"=",21,null,null,57,"x",{"$f":"Data!$F$18","v":3},"=",171]
[8,"x",{"$f":"Data!$F$18","v":3},"=",24,null,null,58,"x",{"$f":"Data!$F$18","v":3},"=",174]
[9,"x",{"$f":"Data!$F$18","v":3},"=",27,null,null,59,"x",{"$f":"Data!$F$18","v":3},"=",177]
[10,"x",{"$f":"Data!$F$18","v":3},"=",30,null,null,60,"x",{"$f":"Data!$F$18","v":3},"=",180]
[11,"x",{"$f":"Data!$F$18","v":3},"=",{"$f":"A13*C13","v":33},null,null,61,"x",{"$f":"Data!$F$18","v":3},"=",183]
[12,"x",{"$f":"Data!$F$18","v":3},"=",{"$f":"A14*C14","v":36},null,null,62,"x",{"$f":"Data!$F$18","v":3},"=",186]
[13,"x",{"$f":"Data!$F$18","v":3},"=",39,null,null,63,"x",{"$f":"Data!$F$18","v":3},"=",189]
[14,"x",{"$f":"Data!$F$18","v":3},"=",42,null,null,64,"x",{"$f":"Data!$F$18","v":3},"=",192]
[15,"x",{"$f":"Data!$F$18","v":3},"=",45,null,null,65,"x",{"$f":"Data!$F$18","v":3},"=",195]
[16,"x",{"$f":"Data!$F$18","v":3},"=",48,null,null,66,"x",{"$f":"Data!$F$18","v":3},"=",198]
[17,"x",{"$f":"Data!$F$18","v":3},"=",51,null,null,67,"x",{"$f":"Data!$F$18","v":3},"=",201]
[18,"x",{"$f":"Data!$F$18","v":3},"=",54,null,null,68,"x",{"$f":"Data!$F$18","v":3},"=",204]
[19,"x",{"$f":"Data!$F$18","v":3},"=",57,null,null,69,"x",{"$f":"Data!$F$18","v":3},"=",207]
[20,"x",{"$f":"Data!$F$18","v":3},"=",60,null,null,70,"x",{"$f":"Data!$F$18","v":3},"=",210]
[21,"x",{"$f":"Data!$F$18","v":3},"=",63,null,null,71,"x",{"$f":"Data!$F$18","v":3},"=",213]
[22,"x",{"$f":"Data!$F$18","v":3},"=",66,null,null,72,"x",{"$f":"Data!$F$18","v":3},"=",216]
[23,"x",{"$f":"Data!$F$18","v":3},"=",69,null,null,73,"x",{"$f":"Data!$F$18","v":3},"=",219]
[24,"x",{"$f":"Data!$F$18","v":3},"=",72,null,null,74,"x",{"$f":"Data!$F$18","v":3},"=",222]
[25,"x",{"$f":"Data!$F$18","v":3},"=",75,null,null,75,"x",{"$f":"Data!$F$18","v":3},"=",225]
[26,"x",{"$f":"Data!$F$18","v":3},"=",78,null,null,76,"x",{"$f":"Data!$F$18","v":3},"=",228]
[27,"x",{"$f":"Data!$F$18","v":3},"=",81,null,null,77,"x",{"$f":"Data!$F$18","v":3},"=",231]
[28,"x",{"$f":"Data!$F$18","v":3},"=",84,null,null,78,"x",{"$f":"Data!$F$18","v":3},"=",234]
[29,"x",{"$f":"Data!$F$18","v":3},"=",87,null,null,79,"x",{"$f":"Data!$F$18","v":3},"=",237]
[30,"x",{"$f":"Data!$F$18","v":3},"=",90,null,null,80,"x",{"$f":"Data!$F$18","v":3},"=",240]
[31,"x",{"$f":"Data!$F$18","v":3},"=",93,null,null,81,"x",{"$f":"Data!$F$18","v":3},"=",243]
[32,"x",{"$f":"Data!$F$18","v":3},"=",96,null,null,82,"x",{"$f":"Data!$F$18","v":3},"=",246]
[33,"x",{"$f":"Data!$F$18","v":3},"=",99,null,null,83,"x",{"$f":"Data!$F$18","v":3},"=",249]
[34,"x",{"$f":"Data!$F$18","v":3},"=",102,null,null,84,"x",{"$f":"Data!$F$18","v":3},"=",252]
[35,"x",{"$f":"Data!$F$18","v":3},"=",105,null,null,85,"x",{"$f":"Data!$F$18","v":3},"=",255]
[36,"x",{"$f":"Data!$F$18","v":3},"=",108,null,null,86,"x",{"$f":"Data!$F$18","v":3},"=",258]
[37,"x",{"$f":"Data!$F$18","v":3},"=",111,null,null,87,"x",{"$f":"Data!$F$18","v":3},"=",261]
[38,"x",{"$f":"Data!$F$18","v":3},"=",114,null,null,88,"x",{"$f":"Data!$F$18","v":3},"=",264]
[39,"x",{"$f":"Data!$F$18","v":3},"=",117,null,null,89,"x",{"$f":"Data!$F$18","v":3},"=",267]
[40,"x",{"$f":"Data!$F$18","v":3},"=",120,null,null,90,"x",{"$f":"Data!$F$18","v":3},"=",270]
[41,"x",{"$f":"Data!$F$18","v":3},"=",123,null,null,91,"x",{"$f":"Data!$F$18","v":3},"=",273]
[42,"x",{"$f":"Data!$F$18","v":3},"=",126,null,null,92,"x",{"$f":"Data!$F$18","v":3},"=",276]
[43,"x",{"$f":"Data!$F$18","v":3},"=",129,null,null,93,"x",{"$f":"Data!$F$18","v":3},"=",279]
[44,"x",{"$f":"Data!$F$18","v":3},"=",132,null,null,94,"x",{"$f":"Data!$F$18","v":3},"=",282]
[45,"x",{"$f":"Data!$F$18","v":3},"=",135,null,null,95,"x",{"$f":"Data!$F$18","v":3},"=",285]
[46,"x",{"$f":"Data!$F$18","v":3},"=",138,null,null,96,"x",{"$f":"Data!$F$18","v":3},"=",288]
[47,"x",{"$f":"Data!$F$18","v":3},"=",141,null,null,97,"x",{"$f":"Data!$F$18","v":3},"=",291]
[48,"x",{"$f":"Data!$F$18","v":3},"=",144,null,null,98,"x",{"$f":"Data!$F$18","v":3},"=",294]
[49,"x",{"$f":"Data!$F$18","v":3},"=",147,null,null,99,"x",{"$f":"Data!$F$18","v":3},"=",297]
[50,"x",{"$f":"Data!$F$18","v":3},"=",150,null,null,100,"x",{"$f":"Data!$F$18","v":3},"=",300]

{"sheet":"Menu","index":4,"n_rows":10,"n_cols":11,"rows_kept":10,"cut":false,"hidden":false,"merged":[[0,0,0,4]]}
["Volwassenen",null,null,null,null,null,"Kindermenu"]
[2,"x",{"$f":"Data!$F$5","v":17},"=",{"$f":"A2*C2","v":34},null,2,"x",{"$f":"Data!$F$12","v":8},"=",{"$f":"G2*I2","v":16}]
[3,"x",{"$f":"Data!$F$5","v":17},"=",51,null,3,"x",{"$f":"Data!$F$12","v":8},"=",24]
[4,"x",{"$f":"Data!$F$5","v":17},"=",68,null,4,"x",{"$f":"Data!$F$12","v":8},"=",32]
[5,"x",{"$f":"Data!$F$5","v":17},"=",85,null,5,"x",{"$f":"Data!$F$12","v":8},"=",40]
[6,"x",{"$f":"Data!$F$5","v":17},"=",102,null,6,"x",{"$f":"Data!$F$12","v":8},"=",48]
[7,"x",{"$f":"Data!$F$5","v":17},"=",119,null,7,"x",{"$f":"Data!$F$12","v":8},"=",56]
[8,"x",{"$f":"Data!$F$5","v":17},"=",136,null,8,"x",{"$f":"Data!$F$12","v":8},"=",64]
[9,"x",{"$f":"Data!$F$5","v":17},"=",153,null,9,"x",{"$f":"Data!$F$12","v":8},"=",72]
[10,"x",{"$f":"Data!$F$5","v":17},"=",170,null,10,"x",{"$f":"Data!$F$12","v":8},"=",80]

{"sheet":"Streepjeslijst","index":5,"n_rows":51,"n_cols":2,"rows_kept":51,"cut":false,"hidden":false,"merged":[]}
[{"$f":"Data!$B$4","v":"Kalkoenfilet"}]
[null,{"$f":"Data!$C$5","v":"Natuur"}]
[null,{"$f":"Data!$C$6","v":"Champignons"}]
[null,{"$f":"Data!$C$7","v":"Peper"}]
[]
[{"$f":"Data!$B$9","v":"Kabeljauwhaasje"}]
[]
[{"$f":"Data!$B$11","v":"Kindermenu"}]
[null,{"$f":"Data!$C$12","v":"Natuur"}]
[null,{"$f":"Data!$C$13","v":"Champignons"}]
[null,{"$f":"Data!$C$14","v":"Peper"}]
[null,{"$f":"Data!$C$15","v":"Kabeljauwhaasje"}]
[]
[{"$f":"Data!$B$4","v":"Kalkoenfilet"}]
[null,{"$f":"Data!$C$5","v":"Natuur"}]
[null,{"$f":"Data!$C$6","v":"Champignons"}]
[null,{"$f":"Data!$C$7","v":"Peper"}]
[]
[{"$f":"Data!$B$9","v":"Kabeljauwhaasje"}]
[]
[{"$f":"Data!$B$11","v":"Kindermenu"}]
[null,{"$f":"Data!$C$12","v":"Natuur"}]
[null,{"$f":"Data!$C$13","v":"Champignons"}]
[null,{"$f":"Data!$C$14","v":"Peper"}]
[null,{"$f":"Data!$C$15","v":"Kabeljauwhaasje"}]
[]
[{"$f":"Data!$B$4","v":"Kalkoenfilet"}]
[null,{"$f":"Data!$C$5","v":"Natuur"}]
[null,{"$f":"Data!$C$6","v":"Champignons"}]
[null,{"$f":"Data!$C$7","v":"Peper"}]
[]
[{"$f":"Data!$B$9","v":"Kabeljauwhaasje"}]
[]
[{"$f":"Data!$B$11","v":"Kindermenu"}]
[null,{"$f":"Data!$C$12","v":"Natuur"}]
[null,{"$f":"Data!$C$13","v":"Champignons"}]
[null,{"$f":"Data!$C$14","v":"Peper"}]
[null,{"$f":"Data!$C$15","v":"Kabeljauwhaasje"}]
[]
[{"$f":"Data!$B$4","v":"Kalkoenfilet"}]
[null,{"$f":"Data!$C$5","v":"Natuur"}]
[null,{"$f":"Data!$C$6","v":"Champignons"}]
[null,{"$f":"Data!$C$7","v":"Peper"}]
[]
[{"$f":"Data!$B$9","v":"Kabeljauwhaasje"}]
[]
[{"$f":"Data!$B$11","v":"Kindermenu"}]
[null,{"$f":"Data!$C$12","v":"Natuur"}]
[null,{"$f":"Data!$C$13","v":"Champignons"}]
[null,{"$f":"Data!$C$14","v":"Peper"}]
[null,{"$f":"Data!$C$15","v":"Kabeljauwhaasje"}]

{"sheet":"Leesmij","index":6,"n_rows":9,"n_cols":2,"rows_kept":9,"cut":false,"hidden":false,"merged":[]}
[]
["Vergeet niet de datum aan te passen"]
["Belangrijk bij het invullen: enkel in bovenste luik van de pagina, in het onderste"]
[null,"zijn de formules verwerkt: daarom heeft eerste luik een gekleurde titel "]
["Na afloop best de optelsommen nakijken in de statistiek"]
["Bij het klaarzetten van de bestanden best de twee bestanden (zat + zon) samenhouden"]
[null,"omwille van de verwijzende formules naar beide bestanden (statistiek)"]
["Kijk goed na dat de pagina-eindes kloppen, dit kan verschillen alnaargelang pc en/of printer"]
[null,"nov 2016: nieuwe pc, pagina's kloppen niet, dus eerst checken met beschikbare pc FC"]

{"sheet":"Macro's tekst","index":7,"n_rows":9,"n_cols":1,"rows_kept":9,"cut":false,"hidden":false,"merged":[]}
[]
["Excel: macro’s ingebracht voor kassasysteem FC.\nWerkwijze: Macro’s weergeven \\ macronaam invoeren (geen spaties) \\ maken \\ tekst macro plakken tussen sub en end sub.  Knop in werkbalk snelle toegang aanmaken en eventueel sneltoets aan koppelen (opties).\n"]
["Naam macro1: Afdrukhuidigepaginanr:    Sneltoets Ctrl + w\nUitvoer: drukt pagina af na manuele invoer van paginanummer.\nSub Macro1()\nDim Start As Integer\nOn Error GoTo Fout\nStart = InputBox(\"Welke paginanr. van dit blad wil je afdrukken?\")\nActiveWindow.SelectedSheets.PrintOut From:=Start, To:=Start\nFout:\nEnd Sub\nNaam macro1: Afdrukhuidigepaginanr:    Sneltoets Ctrl + w\nUitvoer: drukt pagina af na manuele invoer van paginanummer.\nSub Macro1()\nDim Start As Integer\nOn Error GoTo Fout\nStart = InputBox(\"Welke paginanr. van dit blad wil je afdrukken?\")\nActiveWindow.SelectedSheets.PrintOut From:=Start, To:=Start\nFout:\nEnd Sub\n"]
[]
["Naam macro2: AfdrukhuidigepagFC:    Sneltoets  Ctrl + q\nUitvoer: drukt huidige pagina af maar elke pagina moet hetzelfde aantal rijen hebben, dus enkel geschikt voor kassasysteem FC (elke pagina is gelijk).  Het aantal rijen kan in de macro wel worden aangepast. \nSub Macro1()\nDim acc As Integer, acr As Integer, ar As Integer, pnr As Integer\nOn Error GoTo Fout\nar = 47\nacr = ActiveCell.Row: acc = ActiveCell.Column\nIf acc > 11 Then Exit Sub\npnr = 1 + Int(acr / ar)\nIf acr / ar = Int(acr / ar) Then\npnr = pnr - 1\nEnd If\nActiveSheet.PrintOut From:=pnr, To:=pnr\nFout:\nEnd Sub\n"]
["Gemakkelijkste manier: "]
["Naam macro3: Afdrukhuidigepagsteeds:     Sneltoets: geen \nUitvoer: drukt huidige pagina af, aantal rijen hoeven niet in elke pagina gelijk te zijn.  Deze macro kan dus in elk excel-document worden gebruikt, en biedt ook meer zekerheid voor het kassasysteem FC, in geval een pagina toch niet evenveel rijen bevat.  \nSub macro1()\nDim pb As HPageBreak, pnr As Integer\nOn Error GoTo einde\npnr = 1\nFor Each pb In ActiveSheet.HPageBreaks\nIf pb.Location.Row > ActiveCell.Row Then\nExit For\nEnd If\npnr = pnr + 1\nNext pb\nActiveSheet.PrintOut From:=pnr, To:=pnr\neinde:\n- End Sub\n"]
[]
["Meer info en historiek PC4 zie tabblad.\n\n- In Excel en Word de werkbalk snelle toegang aangepast.  Zie afdruk in tabblad."]