{"text_format":"1","workbook":"xlsx","n_sheets":15,"sheets":["werknemers","orders","januari","februari","maart","april","mei","juni","juli","augustus","september","oktober","november","december","verlofoverzicht jaar"],"not_rendered":{"charts":0,"images":1,"macros":1,"external_links":0,"defined_names":4,"comments":0,"pivot_tables":0},"unopened":[],"bounds":{"document_bytes":16777216,"sheet_cells":100000,"rows_first":2000,"rows_last":500,"rows_between":2000,"halvings":0,"cell_chars":16384,"cell_head_chars":4096},"cells_cut":0,"cells_raw":0,"read":"whole","date_system":"1900"}

{"sheet":"werknemers","index":0,"n_rows":31,"n_cols":10,"rows_kept":31,"cut":false,"hidden":false,"merged":[]}
["werknemer",null,null,null,null,null,null,null,null,"functie 1"]
["werknemer 1",null,null,null,null,null,null,null,null,"functie 2"]
["werknemer 2",null,null,null,null,null,null,null,null,"functie 3"]
["werknemer 3",null,null,null,null,null,null,null,null,"functie 4"]
["werknemer 4",null,null,null,null,null,null,null,null,"functie 5"]
["werknemer 5",null,null,null,null,null,null,null,null,"functie 6"]
["werknemer 6",null,null,null,null,null,null,null,null,"functie 7"]
["werknemer 7",null,null,null,null,null,null,null,null,"functie 8"]
["werknemer 8",null,null,null,null,null,null,null,null,"functie 9"]
["werknemer 9",null,null,null,null,null,null,null,null,"functie 10"]
["werknemer 10",null,null,null,null,null,null,null,null,"functie 11"]
["werknemer 11",null,null,null,null,null,null,null,null,"functie 12"]
["werknemer 12",null,null,null,null,null,null,null,null,"functie 13"]
["werknemer 13",null,null,null,null,null,null,null,null,"functie 14"]
["werknemer 14"]
["werknemer 15"]
["werknemer 16"]
["werknemer 17"]
["werknemer 18"]
["werknemer 19"]
["werknemer 20"]
["werknemer 21"]
["werknemer 22"]
["werknemer 23"]
["werknemer 24"]
["werknemer 25"]
["werknemer 26"]
["werknemer 27"]
["werknemer 28"]
["werknemer 29"]
["werknemer 30"]

{"sheet":"orders","index":1,"n_rows":4,"n_cols":9,"rows_kept":4,"cut":false,"hidden":false,"merged":[]}
[]
[]
[]
["werknemer","datum","order","taak","ATB","job","toestel","omschrijving","uren"]

{"sheet":"januari","index":2,"n_rows":45,"n_cols":32,"rows_kept":45,"cut":false,"hidden":false,"merged":[[3,0,4,0],[1,1,1,3],[1,5,1,7],[1,9,1,11]]}
[]
[null,"verlof (V)",null,null,null,"ziek (Z)",null,null,null,"feestdag (F)"]
[]
[{"$f":"YEAR(B5)","v":2018},{"$f":"WEEKDAY(B5)","v":"1900-01-02"},{"$f":"WEEKDAY(C5)","v":"1900-01-03"},"1900-01-04","1900-01-05","1900-01-06","1900-01-07","1900-01-01","1900-01-02","1900-01-03","1900-01-04","1900-01-05","1900-01-06","1900-01-07","1900-01-01","1900-01-02","1900-01-03","1900-01-04","1900-01-05","1900-01-06","1900-01-07","1900-01-01","1900-01-02","1900-01-03","1900-01-04","1900-01-05","1900-01-06","1900-01-07","1900-01-01","1900-01-02","1900-01-03","1900-01-04"]
[null,"2018-01-01","2018-01-02","2018-01-03","2018-01-04","2018-01-05","2018-01-06","2018-01-07","2018-01-08","2018-01-09","2018-01-10","2018-01-11","2018-01-12","2018-01-13","2018-01-14","2018-01-15","2018-01-16","2018-01-17","2018-01-18","2018-01-19","2018-01-20","2018-01-21","2018-01-22","2018-01-23","2018-01-24","2018-01-25","2018-01-26","2018-01-27","2018-01-28","2018-01-29","2018-01-30","2018-01-31"]
["werknemer 1",null,null,null,"V","V"]
["CONTROLE",{"$f":"SUMPRODUCT((werknemers=januari!$A6)*(datums=januari!B$5)*(uren))","v":"00:00:00"},{"$f":"SUMPRODUCT((werknemers=januari!$A6)*(datums=januari!C$5)*(uren))","v":"00:00:00"},{"$f":"SUMPRODUCT((werknemers=januari!$A6)*(datums=januari!D$5)*(uren))","v":"00:00:00"},{"$f":"SUMPRODUCT((werknemers=januari!$A6)*(datums=januari!E$5)*(uren))","v":"00:00:00"},{"$f":"SUMPRODUCT((werknemers=januari!$A6)*(datums=januari!F$5)*(uren))","v":"00:00:00"},{"$f":"SUMPRODUCT((werknemers=januari!$A6)*(datums=januari!G$5)*(uren))","v":"00:00:00"},{"$f":"SUMPRODUCT((werknemers=januari!$A6)*(datums=januari!H$5)*(uren))","v":"00:00:00"},{"$f":"SUMPRODUCT((werknemers=januari!$A6)*(datums=januari!I$5)*(uren))","v":"00:00:00"},{"$f":"SUMPRODUCT((werknemers=januari!$A6)*(datums=januari!J$5)*(uren))","v":"00:00:00"},{"$f":"SUMPRODUCT((werknemers=januari!$A6)*(datums=januari!K$5)*(uren))","v":"00:00:00"},{"$f":"SUMPRODUCT((werknemers=januari!$A6)*(datums=januari!L$5)*(uren))","v":"00:00:00"},{"$f":"SUMPRODUCT((werknemers=januari!$A6)*(datums=januari!M$5)*(uren))","v":"00:00:00"},{"$f":"SUMPRODUCT((werknemers=januari!$A6)*(datums=januari!N$5)*(uren))","v":"00:00:00"},{"$f":"SUMPRODUCT((werknemers=januari!$A6)*(datums=januari!O$5)*(uren))","v":"00:00:00"},{"$f":"SUMPRODUCT((werknemers=januari!$A6)*(datums=januari!P$5)*(uren))","v":"00:00:00"},{"$f":"SUMPRODUCT((werknemers=januari!$A6)*(datums=januari!Q$5)*(uren))","v":"00:00:00"},{"$f":"SUMPRODUCT((werknemers=januari!$A6)*(datums=januari!R$5)*(uren))","v":"00:00:00"},{"$f":"SUMPRODUCT((werknemers=januari!$A6)*(datums=januari!S$5)*(uren))","v":"00:00:00"},{"$f":"SUMPRODUCT((werknemers=januari!$A6)*(datums=januari!T$5)*(uren))","v":"00:00:00"},{"$f":"SUMPRODUCT((werknemers=januari!$A6)*(datums=januari!U$5)*(uren))","v":"00:00:00"},{"$f":"SUMPRODUCT((werknemers=januari!$A6)*(datums=januari!V$5)*(uren))","v":"00:00:00"},{"$f":"SUMPRODUCT((werknemers=januari!$A6)*(datums=januari!W$5)*(uren))","v":"00:00:00"},{"$f":"SUMPRODUCT((werknemers=januari!$A6)*(datums=januari!X$5)*(uren))","v":"00:00:00"},{"$f":"SUMPRODUCT((werknemers=januari!$A6)*(datums=januari!Y$5)*(uren))","v":"00:00:00"},{"$f":"SUMPRODUCT((werknemers=januari!$A6)*(datums=januari!Z$5)*(uren))","v":"00:00:00"},{"$f":"SUMPRODUCT((werknemers=januari!$A6)*(datums=januari!AA$5)*(uren))","v":"00:00:00"},{"$f":"SUMPRODUCT((werknemers=januari!$A6)*(datums=januari!AB$5)*(uren))","v":"00:00:00"},{"$f":"SUMPRODUCT((werknemers=januari!$A6)*(datums=januari!AC$5)*(uren))","v":"00:00:00"},{"$f":"SUMPRODUCT((werknemers=januari!$A6)*(datums=januari!AD$5)*(uren))","v":"00:00:00"},{"$f":"SUMPRODUCT((werknemers=januari!$A6)*(datums=januari!AE$5)*(uren))","v":"00:00:00"},{"$f":"SUMPRODUCT((werknemers=januari!$A6)*(datums=januari!AF$5)*(uren))","v":"00:00:00"}]
["werknemer 2",null,null,null,null,null,null,null,"Z","Z","Z","Z","Z"]
["CONTROLE",{"$f":"SUMPRODUCT((werknemers=januari!$A8)*(datums=januari!B$5)*(uren))","v":"00:00:00"},{"$f":"SUMPRODUCT((werknemers=januari!$A8)*(datums=januari!C$5)*(uren))","v":"00:00:00"},{"$f":"SUMPRODUCT((werknemers=januari!$A8)*(datums=januari!D$5)*(uren))","v":"00:00:00"},{"$f":"SUMPRODUCT((werknemers=januari!$A8)*(datums=januari!E$5)*(uren))","v":"00:00:00"},{"$f":"SUMPRODUCT((werknemers=januari!$A8)*(datums=januari!F$5)*(uren))","v":"00:00:00"},{"$f":"SUMPRODUCT((werknemers=januari!$A8)*(datums=januari!G$5)*(uren))","v":"00:00:00"},{"$f":"SUMPRODUCT((werknemers=januari!$A8)*(datums=januari!H$5)*(uren))","v":"00:00:00"},{"$f":"SUMPRODUCT((werknemers=januari!$A8)*(datums=januari!I$5)*(uren))","v":"00:00:00"},{"$f":"SUMPRODUCT((werknemers=januari!$A8)*(datums=januari!J$5)*(uren))","v":"00:00:00"},{"$f":"SUMPRODUCT((werknemers=januari!$A8)*(datums=januari!K$5)*(uren))","v":"00:00:00"},{"$f":"SUMPRODUCT((werknemers=januari!$A8)*(datums=januari!L$5)*(uren))","v":"00:00:00"},{"$f":"SUMPRODUCT((werknemers=januari!$A8)*(datums=januari!M$5)*(uren))","v":"00:00:00"},{"$f":"SUMPRODUCT((werknemers=januari!$A8)*(datums=januari!N$5)*(uren))","v":"00:00:00"},{"$f":"SUMPRODUCT((werknemers=januari!$A8)*(datums=januari!O$5)*(uren))","v":"00:00:00"},{"$f":"SUMPRODUCT((werknemers=januari!$A8)*(datums=januari!P$5)*(uren))","v":"00:00:00"},{"$f":"SUMPRODUCT((werknemers=januari!$A8)*(datums=januari!Q$5)*(uren))","v":"00:00:00"},{"$f":"SUMPRODUCT((werknemers=januari!$A8)*(datums=januari!R$5)*(uren))","v":"00:00:00"},{"$f":"SUMPRODUCT((werknemers=januari!$A8)*(datums=januari!S$5)*(uren))","v":"00:00:00"},{"$f":"SUMPRODUCT((werknemers=januari!$A8)*(datums=januari!T$5)*(uren))","v":"00:00:00"},{"$f":"SUMPRODUCT((werknemers=januari!$A8)*(datums=januari!U$5)*(uren))","v":"00:00:00"},{"$f":"SUMPRODUCT((werknemers=januari!$A8)*(datums=januari!V$5)*(uren))","v":"00:00:00"},{"$f":"SUMPRODUCT((werknemers=januari!$A8)*(datums=januari!W$5)*(uren))","v":"00:00:00"},{"$f":"SUMPRODUCT((werknemers=januari!$A8)*(datums=januari!X$5)*(uren))","v":"00:00:00"},{"$f":"SUMPRODUCT((werknemers=januari!$A8)*(datums=januari!Y$5)*(uren))","v":"00:00:00"},{"$f":"SUMPRODUCT((werknemers=januari!$A8)*(datums=januari!Z$5)*(uren))","v":"00:00:00"},{"$f":"SUMPRODUCT((werknemers=januari!$A8)*(datums=januari!AA$5)*(uren))","v":"00:00:00"},{"$f":"SUMPRODUCT((werknemers=januari!$A8)*(datums=januari!AB$5)*(uren))","v":"00:00:00"},{"$f":"SUMPRODUCT((werknemers=januari!$A8)*(datums=januari!AC$5)*(uren))","v":"00:00:00"},{"$f":"SUMPRODUCT((werknemers=januari!$A8)*(datums=januari!AD$5)*(uren))","v":"00:00:00"},{"$f":"SUMPRODUCT((werknemers=januari!$A8)*(datums=januari!AE$5)*(uren))","v":"00:00:00"},{"$f":"SUMPRODUCT((werknemers=januari!$A8)*(datums=januari!AF$5)*(uren))","v":"00:00:00"}]
[]
["CONTROLE",{"$f":"SUMPRODUCT((werknemers=januari!$A10)*(datums=januari!B$5)*(uren))","v":"00:00:00"},{"$f":"SUMPRODUCT((werknemers=januari!$A10)*(datums=januari!C$5)*(uren))","v":"00:00:00"},{"$f":"SUMPRODUCT((werknemers=januari!$A10)*(datums=januari!D$5)*(uren))","v":"00:00:00"},{"$f":"SUMPRODUCT((werknemers=januari!$A10)*(datums=januari!E$5)*(uren))","v":"00:00:00"},{"$f":"SUMPRODUCT((werknemers=januari!$A10)*(datums=januari!F$5)*(uren))","v":"00:00:00"},{"$f":"SUMPRODUCT((werknemers=januari!$A10)*(datums=januari!G$5)*(uren))","v":"00:00:00"},{"$f":"SUMPRODUCT((werknemers=januari!$A10)*(datums=januari!H$5)*(uren))","v":"00:00:00"},{"$f":"SUMPRODUCT((werknemers=januari!$A10)*(datums=januari!I$5)*(uren))","v":"00:00:00"},{"$f":"SUMPRODUCT((werknemers=januari!$A10)*(datums=januari!J$5)*(uren))","v":"00:00:00"},{"$f":"SUMPRODUCT((werknemers=januari!$A10)*(datums=januari!K$5)*(uren))","v":"00:00:00"},{"$f":"SUMPRODUCT((werknemers=januari!$A10)*(datums=januari!L$5)*(uren))","v":"00:00:00"},{"$f":"SUMPRODUCT((werknemers=januari!$A10)*(datums=januari!M$5)*(uren))","v":"00:00:00"},{"$f":"SUMPRODUCT((werknemers=januari!$A10)*(datums=januari!N$5)*(uren))","v":"00:00:00"},{"$f":"SUMPRODUCT((werknemers=januari!$A10)*(datums=januari!O$5)*(uren))","v":"00:00:00"},{"$f":"SUMPRODUCT((werknemers=januari!$A10)*(datums=januari!P$5)*(uren))","v":"00:00:00"},{"$f":"SUMPRODUCT((werknemers=januari!$A10)*(datums=januari!Q$5)*(uren))","v":"00:00:00"},{"$f":"SUMPRODUCT((werknemers=januari!$A10)*(datums=januari!R$5)*(uren))","v":"00:00:00"},{"$f":"SUMPRODUCT((werknemers=januari!$A10)*(datums=januari!S$5)*(uren))","v":"00:00:00"},{"$f":"SUMPRODUCT((werknemers=januari!$A10)*(datums=januari!T$5)*(uren))","v":"00:00:00"},{"$f":"SUMPRODUCT((werknemers=januari!$A10)*(datums=januari!U$5)*(uren))","v":"00:00:00"},{"$f":"SUMPRODUCT((werknemers=januari!$A10)*(datums=januari!V$5)*(uren))","v":"00:00:00"},{"$f":"SUMPRODUCT((werknemers=januari!$A10)*(datums=januari!W$5)*(uren))","v":"00:00:00"},{"$f":"SUMPRODUCT((werknemers=januari!$A10)*(datums=januari!X$5)*(uren))","v":"00:00:00"},{"$f":"SUMPRODUCT((werknemers=januari!$A10)*(datums=januari!Y$5)*(uren))","v":"00:00:00"},{"$f":"SUMPRODUCT((werknemers=januari!$A10)*(datums=januari!Z$5)*(uren))","v":"00:00:00"},{"$f":"SUMPRODUCT((werknemers=januari!$A10)*(datums=januari!AA$5)*(uren))","v":"00:00:00"},{"$f":"SUMPRODUCT((werknemers=januari!$A10)*(datums=januari!AB$5)*(uren))","v":"00:00:00"},{"$f":"SUMPRODUCT((werknemers=januari!$A10)*(datums=januari!AC$5)*(uren))","v":"00:00:00"},{"$f":"SUMPRODUCT((werknemers=januari!$A10)*(datums=januari!AD$5)*(uren))","v":"00:00:00"},{"$f":"SUMPRODUCT((werknemers=januari!$A10)*(datums=januari!AE$5)*(uren))","v":"00:00:00"},{"$f":"SUMPRODUCT((werknemers=januari!$A10)*(datums=januari!AF$5)*(uren))","v":"00:00:00"}]
[]
["CONTROLE",{"$f":"SUMPRODUCT((werknemers=januari!$A12)*(datums=januari!B$5)*(uren))","v":"00:00:00"},{"$f":"SUMPRODUCT((werknemers=januari!$A12)*(datums=januari!C$5)*(uren))","v":"00:00:00"},{"$f":"SUMPRODUCT((werknemers=januari!$A12)*(datums=januari!D$5)*(uren))","v":"00:00:00"},{"$f":"SUMPRODUCT((werknemers=januari!$A12)*(datums=januari!E$5)*(uren))","v":"00:00:00"},{"$f":"SUMPRODUCT((werknemers=januari!$A12)*(datums=januari!F$5)*(uren))","v":"00:00:00"},{"$f":"SUMPRODUCT((werknemers=januari!$A12)*(datums=januari!G$5)*(uren))","v":"00:00:00"},{"$f":"SUMPRODUCT((werknemers=januari!$A12)*(datums=januari!H$5)*(uren))","v":"00:00:00"},{"$f":"SUMPRODUCT((werknemers=januari!$A12)*(datums=januari!I$5)*(uren))","v":"00:00:00"},{"$f":"SUMPRODUCT((werknemers=januari!$A12)*(datums=januari!J$5)*(uren))","v":"00:00:00"},{"$f":"SUMPRODUCT((werknemers=januari!$A12)*(datums=januari!K$5)*(uren))","v":"00:00:00"},{"$f":"SUMPRODUCT((werknemers=januari!$A12)*(datums=januari!L$5)*(uren))","v":"00:00:00"},{"$f":"SUMPRODUCT((werknemers=januari!$A12)*(datums=januari!M$5)*(uren))","v":"00:00:00"},{"$f":"SUMPRODUCT((werknemers=januari!$A12)*(datums=januari!N$5)*(uren))","v":"00:00:00"},{"$f":"SUMPRODUCT((werknemers=januari!$A12)*(datums=januari!O$5)*(uren))","v":"00:00:00"},{"$f":"SUMPRODUCT((werknemers=januari!$A12)*(datums=januari!P$5)*(uren))","v":"00:00:00"},{"$f":"SUMPRODUCT((werknemers=januari!$A12)*(datums=januari!Q$5)*(uren))","v":"00:00:00"},{"$f":"SUMPRODUCT((werknemers=januari!$A12)*(datums=januari!R$5)*(uren))","v":"00:00:00"},{"$f":"SUMPRODUCT((werknemers=januari!$A12)*(datums=januari!S$5)*(uren))","v":"00:00:00"},{"$f":"SUMPRODUCT((werknemers=januari!$A12)*(datums=januari!T$5)*(uren))","v":"00:00:00"},{"$f":"SUMPRODUCT((werknemers=januari!$A12)*(datums=januari!U$5)*(uren))","v":"00:00:00"},{"$f":"SUMPRODUCT((werknemers=januari!$A12)*(datums=januari!V$5)*(uren))","v":"00:00:00"},{"$f":"SUMPRODUCT((werknemers=januari!$A12)*(datums=januari!W$5)*(uren))","v":"00:00:00"},{"$f":"SUMPRODUCT((werknemers=januari!$A12)*(datums=januari!X$5)*(uren))","v":"00:00:00"},{"$f":"SUMPRODUCT((werknemers=januari!$A12)*(datums=januari!Y$5)*(uren))","v":"00:00:00"},{"$f":"SUMPRODUCT((werknemers=januari!$A12)*(datums=januari!Z$5)*(uren))","v":"00:00:00"},{"$f":"SUMPRODUCT((werknemers=januari!$A12)*(datums=januari!AA$5)*(uren))","v":"00:00:00"},{"$f":"SUMPRODUCT((werknemers=januari!$A12)*(datums=januari!AB$5)*(uren))","v":"00:00:00"},{"$f":"SUMPRODUCT((werknemers=januari!$A12)*(datums=januari!AC$5)*(uren))","v":"00:00:00"},{"$f":"SUMPRODUCT((werknemers=januari!$A12)*(datums=januari!AD$5)*(uren))","v":"00:00:00"},{"$f":"SUMPRODUCT((werknemers=januari!$A12)*(datums=januari!AE$5)*(uren))","v":"00:00:00"},{"$f":"SUMPRODUCT((werknemers=januari!$A12)*(datums=januari!AF$5)*(uren))","v":"00:00:00"}]
[]
["CONTROLE",{"$f":"SUMPRODUCT((werknemers=januari!$A14)*(datums=januari!B$5)*(uren))","v":"00:00:00"},{"$f":"SUMPRODUCT((werknemers=januari!$A14)*(datums=januari!C$5)*(uren))","v":"00:00:00"},{"$f":"SUMPRODUCT((werknemers=januari!$A14)*(datums=januari!D$5)*(uren))","v":"00:00:00"},{"$f":"SUMPRODUCT((werknemers=januari!$A14)*(datums=januari!E$5)*(uren))","v":"00:00:00"},{"$f":"SUMPRODUCT((werknemers=januari!$A14)*(datums=januari!F$5)*(uren))","v":"00:00:00"},{"$f":"SUMPRODUCT((werknemers=januari!$A14)*(datums=januari!G$5)*(uren))","v":"00:00:00"},{"$f":"SUMPRODUCT((werknemers=januari!$A14)*(datums=januari!H$5)*(uren))","v":"00:00:00"},{"$f":"SUMPRODUCT((werknemers=januari!$A14)*(datums=januari!I$5)*(uren))","v":"00:00:00"},{"$f":"SUMPRODUCT((werknemers=januari!$A14)*(datums=januari!J$5)*(uren))","v":"00:00:00"},{"$f":"SUMPRODUCT((werknemers=januari!$A14)*(datums=januari!K$5)*(uren))","v":"00:00:00"},{"$f":"SUMPRODUCT((werknemers=januari!$A14)*(datums=januari!L$5)*(uren))","v":"00:00:00"},{"$f":"SUMPRODUCT((werknemers=januari!$A14)*(datums=januari!M$5)*(uren))","v":"00:00:00"},{"$f":"SUMPRODUCT((werknemers=januari!$A14)*(datums=januari!N$5)*(uren))","v":"00:00:00"},{"$f":"SUMPRODUCT((werknemers=januari!$A14)*(datums=januari!O$5)*(uren))","v":"00:00:00"},{"$f":"SUMPRODUCT((werknemers=januari!$A14)*(datums=januari!P$5)*(uren))","v":"00:00:00"},{"$f":"SUMPRODUCT((werknemers=januari!$A14)*(datums=januari!Q$5)*(uren))","v":"00:00:00"},{"$f":"SUMPRODUCT((werknemers=januari!$A14)*(datums=januari!R$5)*(uren))","v":"00:00:00"},{"$f":"SUMPRODUCT((werknemers=januari!$A14)*(datums=januari!S$5)*(uren))","v":"00:00:00"},{"$f":"SUMPRODUCT((werknemers=januari!$A14)*(datums=januari!T$5)*(uren))","v":"00:00:00"},{"$f":"SUMPRODUCT((werknemers=januari!$A14)*(datums=januari!U$5)*(uren))","v":"00:00:00"},{"$f":"SUMPRODUCT((werknemers=januari!$A14)*(datums=januari!V$5)*(uren))","v":"00:00:00"},{"$f":"SUMPRODUCT((werknemers=januari!$A14)*(datums=januari!W$5)*(uren))","v":"00:00:00"},{"$f":"SUMPRODUCT((werknemers=januari!$A14)*(datums=januari!X$5)*(uren))","v":"00:00:00"},{"$f":"SUMPRODUCT((werknemers=januari!$A14)*(datums=januari!Y$5)*(uren))","v":"00:00:00"},{"$f":"SUMPRODUCT((werknemers=januari!$A14)*(datums=januari!Z$5)*(uren))","v":"00:00:00"},{"$f":"SUMPRODUCT((werknemers=januari!$A14)*(datums=januari!AA$5)*(uren))","v":"00:00:00"},{"$f":"SUMPRODUCT((werknemers=januari!$A14)*(datums=januari!AB$5)*(uren))","v":"00:00:00"},{"$f":"SUMPRODUCT((werknemers=januari!$A14)*(datums=januari!AC$5)*(uren))","v":"00:00:00"},{"$f":"SUMPRODUCT((werknemers=januari!$A14)*(datums=januari!AD$5)*(uren))","v":"00:00:00"},{"$f":"SUMPRODUCT((werknemers=januari!$A14)*(datums=januari!AE$5)*(uren))","v":"00:00:00"},{"$f":"SUMPRODUCT((werknemers=januari!$A14)*(datums=januari!AF$5)*(uren))","v":"00:00:00"}]
[]
["CONTROLE",{"$f":"SUMPRODUCT((werknemers=januari!$A16)*(datums=januari!B$5)*(uren))","v":"00:00:00"},{"$f":"SUMPRODUCT((werknemers=januari!$A16)*(datums=januari!C$5)*(uren))","v":"00:00:00"},{"$f":"SUMPRODUCT((werknemers=januari!$A16)*(datums=januari!D$5)*(uren))","v":"00:00:00"},{"$f":"SUMPRODUCT((werknemers=januari!$A16)*(datums=januari!E$5)*(uren))","v":"00:00:00"},{"$f":"SUMPRODUCT((werknemers=januari!$A16)*(datums=januari!F$5)*(uren))","v":"00:00:00"},{"$f":"SUMPRODUCT((werknemers=januari!$A16)*(datums=januari!G$5)*(uren))","v":"00:00:00"},{"$f":"SUMPRODUCT((werknemers=januari!$A16)*(datums=januari!H$5)*(uren))","v":"00:00:00"},{"$f":"SUMPRODUCT((werknemers=januari!$A16)*(datums=januari!I$5)*(uren))","v":"00:00:00"},{"$f":"SUMPRODUCT((werknemers=januari!$A16)*(datums=januari!J$5)*(uren))","v":"00:00:00"},{"$f":"SUMPRODUCT((werknemers=januari!$A16)*(datums=januari!K$5)*(uren))","v":"00:00:00"},{"$f":"SUMPRODUCT((werknemers=januari!$A16)*(datums=januari!L$5)*(uren))","v":"00:00:00"},{"$f":"SUMPRODUCT((werknemers=januari!$A16)*(datums=januari!M$5)*(uren))","v":"00:00:00"},{"$f":"SUMPRODUCT((werknemers=januari!$A16)*(datums=januari!N$5)*(uren))","v":"00:00:00"},{"$f":"SUMPRODUCT((werknemers=januari!$A16)*(datums=januari!O$5)*(uren))","v":"00:00:00"},{"$f":"SUMPRODUCT((werknemers=januari!$A16)*(datums=januari!P$5)*(uren))","v":"00:00:00"},{"$f":"SUMPRODUCT((werknemers=januari!$A16)*(datums=januari!Q$5)*(uren))","v":"00:00:00"},{"$f":"SUMPRODUCT((werknemers=januari!$A16)*(datums=januari!R$5)*(uren))","v":"00:00:00"},{"$f":"SUMPRODUCT((werknemers=januari!$A16)*(datums=januari!S$5)*(uren))","v":"00:00:00"},{"$f":"SUMPRODUCT((werknemers=januari!$A16)*(datums=januari!T$5)*(uren))","v":"00:00:00"},{"$f":"SUMPRODUCT((werknemers=januari!$A16)*(datums=januari!U$5)*(uren))","v":"00:00:00"},{"$f":"SUMPRODUCT((werknemers=januari!$A16)*(datums=januari!V$5)*(uren))","v":"00:00:00"},{"$f":"SUMPRODUCT((werknemers=januari!$A16)*(datums=januari!W$5)*(uren))","v":"00:00:00"},{"$f":"SUMPRODUCT((werknemers=januari!$A16)*(datums=januari!X$5)*(uren))","v":"00:00:00"},{"$f":"SUMPRODUCT((werknemers=januari!$A16)*(datums=januari!Y$5)*(uren))","v":"00:00:00"},{"$f":"SUMPRODUCT((werknemers=januari!$A16)*(datums=januari!Z$5)*(uren))","v":"00:00:00"},{"$f":"SUMPRODUCT((werknemers=januari!$A16)*(datums=januari!AA$5)*(uren))","v":"00:00:00"},{"$f":"SUMPRODUCT((werknemers=januari!$A16)*(datums=januari!AB$5)*(uren))","v":"00:00:00"},{"$f":"SUMPRODUCT((werknemers=januari!$A16)*(datums=januari!AC$5)*(uren))","v":"00:00:00"},{"$f":"SUMPRODUCT((werknemers=januari!$A16)*(datums=januari!AD$5)*(uren))","v":"00:00:00"},{"$f":"SUMPRODUCT((werknemers=januari!$A16)*(datums=januari!AE$5)*(uren))","v":"00:00:00"},{"$f":"SUMPRODUCT((werknemers=januari!$A16)*(datums=januari!AF$5)*(uren))","v":"00:00:00"}]
[]
["CONTROLE",{"$f":"SUMPRODUCT((werknemers=januari!$A18)*(datums=januari!B$5)*(uren))","v":"00:00:00"},{"$f":"SUMPRODUCT((werknemers=januari!$A18)*(datums=januari!C$5)*(uren))","v":"00:00:00"},{"$f":"SUMPRODUCT((werknemers=januari!$A18)*(datums=januari!D$5)*(uren))","v":"00:00:00"},{"$f":"SUMPRODUCT((werknemers=januari!$A18)*(datums=januari!E$5)*(uren))","v":"00:00:00"},{"$f":"SUMPRODUCT((werknemers=januari!$A18)*(datums=januari!F$5)*(uren))","v":"00:00:00"},{"$f":"SUMPRODUCT((werknemers=januari!$A18)*(datums=januari!G$5)*(uren))","v":"00:00:00"},{"$f":"SUMPRODUCT((werknemers=januari!$A18)*(datums=januari!H$5)*(uren))","v":"00:00:00"},{"$f":"SUMPRODUCT((werknemers=januari!$A18)*(datums=januari!I$5)*(uren))","v":"00:00:00"},{"$f":"SUMPRODUCT((werknemers=januari!$A18)*(datums=januari!J$5)*(uren))","v":"00:00:00"},{"$f":"SUMPRODUCT((werknemers=januari!$A18)*(datums=januari!K$5)*(uren))","v":"00:00:00"},{"$f":"SUMPRODUCT((werknemers=januari!$A18)*(datums=januari!L$5)*(uren))","v":"00:00:00"},{"$f":"SUMPRODUCT((werknemers=januari!$A18)*(datums=januari!M$5)*(uren))","v":"00:00:00"},{"$f":"SUMPRODUCT((werknemers=januari!$A18)*(datums=januari!N$5)*(uren))","v":"00:00:00"},{"$f":"SUMPRODUCT((werknemers=januari!$A18)*(datums=januari!O$5)*(uren))","v":"00:00:00"},{"$f":"SUMPRODUCT((werknemers=januari!$A18)*(datums=januari!P$5)*(uren))","v":"00:00:00"},{"$f":"SUMPRODUCT((werknemers=januari!$A18)*(datums=januari!Q$5)*(uren))","v":"00:00:00"},{"$f":"SUMPRODUCT((werknemers=januari!$A18)*(datums=januari!R$5)*(uren))","v":"00:00:00"},{"$f":"SUMPRODUCT((werknemers=januari!$A18)*(datums=januari!S$5)*(uren))","v":"00:00:00"},{"$f":"SUMPRODUCT((werknemers=januari!$A18)*(datums=januari!T$5)*(uren))","v":"00:00:00"},{"$f":"SUMPRODUCT((werknemers=januari!$A18)*(datums=januari!U$5)*(uren))","v":"00:00:00"},{"$f":"SUMPRODUCT((werknemers=januari!$A18)*(datums=januari!V$5)*(uren))","v":"00:00:00"},{"$f":"SUMPRODUCT((werknemers=januari!$A18)*(datums=januari!W$5)*(uren))","v":"00:00:00"},{"$f":"SUMPRODUCT((werknemers=januari!$A18)*(datums=januari!X$5)*(uren))","v":"00:00:00"},{"$f":"SUMPRODUCT((werknemers=januari!$A18)*(datums=januari!Y$5)*(uren))","v":"00:00:00"},{"$f":"SUMPRODUCT((werknemers=januari!$A18)*(datums=januari!Z$5)*(uren))","v":"00:00:00"},{"$f":"SUMPRODUCT((werknemers=januari!$A18)*(datums=januari!AA$5)*(uren))","v":"00:00:00"},{"$f":"SUMPRODUCT((werknemers=januari!$A18)*(datums=januari!AB$5)*(uren))","v":"00:00:00"},{"$f":"SUMPRODUCT((werknemers=januari!$A18)*(datums=januari!AC$5)*(uren))","v":"00:00:00"},{"$f":"SUMPRODUCT((werknemers=januari!$A18)*(datums=januari!AD$5)*(uren))","v":"00:00:00"},{"$f":"SUMPRODUCT((werknemers=januari!$A18)*(datums=januari!AE$5)*(uren))","v":"00:00:00"},{"$f":"SUMPRODUCT((werknemers=januari!$A18)*(datums=januari!AF$5)*(uren))","v":"00:00:00"}]
[]
["CONTROLE",{"$f":"SUMPRODUCT((werknemers=januari!$A20)*(datums=januari!B$5)*(uren))","v":"00:00:00"},{"$f":"SUMPRODUCT((werknemers=januari!$A20)*(datums=januari!C$5)*(uren))","v":"00:00:00"},{"$f":"SUMPRODUCT((werknemers=januari!$A20)*(datums=januari!D$5)*(uren))","v":"00:00:00"},{"$f":"SUMPRODUCT((werknemers=januari!$A20)*(datums=januari!E$5)*(uren))","v":"00:00:00"},{"$f":"SUMPRODUCT((werknemers=januari!$A20)*(datums=januari!F$5)*(uren))","v":"00:00:00"},{"$f":"SUMPRODUCT((werknemers=januari!$A20)*(datums=januari!G$5)*(uren))","v":"00:00:00"},{"$f":"SUMPRODUCT((werknemers=januari!$A20)*(datums=januari!H$5)*(uren))","v":"00:00:00"},{"$f":"SUMPRODUCT((werknemers=januari!$A20)*(datums=januari!I$5)*(uren))","v":"00:00:00"},{"$f":"SUMPRODUCT((werknemers=januari!$A20)*(datums=januari!J$5)*(uren))","v":"00:00:00"},{"$f":"SUMPRODUCT((werknemers=januari!$A20)*(datums=januari!K$5)*(uren))","v":"00:00:00"},{"$f":"SUMPRODUCT((werknemers=januari!$A20)*(datums=januari!L$5)*(uren))","v":"00:00:00"},{"$f":"SUMPRODUCT((werknemers=januari!$A20)*(datums=januari!M$5)*(uren))","v":"00:00:00"},{"$f":"SUMPRODUCT((werknemers=januari!$A20)*(datums=januari!N$5)*(uren))","v":"00:00:00"},{"$f":"SUMPRODUCT((werknemers=januari!$A20)*(datums=januari!O$5)*(uren))","v":"00:00:00"},{"$f":"SUMPRODUCT((werknemers=januari!$A20)*(datums=januari!P$5)*(uren))","v":"00:00:00"},{"$f":"SUMPRODUCT((werknemers=januari!$A20)*(datums=januari!Q$5)*(uren))","v":"00:00:00"},{"$f":"SUMPRODUCT((werknemers=januari!$A20)*(datums=januari!R$5)*(uren))","v":"00:00:00"},{"$f":"SUMPRODUCT((werknemers=januari!$A20)*(datums=januari!S$5)*(uren))","v":"00:00:00"},{"$f":"SUMPRODUCT((werknemers=januari!$A20)*(datums=januari!T$5)*(uren))","v":"00:00:00"},{"$f":"SUMPRODUCT((werknemers=januari!$A20)*(datums=januari!U$5)*(uren))","v":"00:00:00"},{"$f":"SUMPRODUCT((werknemers=januari!$A20)*(datums=januari!V$5)*(uren))","v":"00:00:00"},{"$f":"SUMPRODUCT((werknemers=januari!$A20)*(datums=januari!W$5)*(uren))","v":"00:00:00"},{"$f":"SUMPRODUCT((werknemers=januari!$A20)*(datums=januari!X$5)*(uren))","v":"00:00:00"},{"$f":"SUMPRODUCT((werknemers=januari!$A20)*(datums=januari!Y$5)*(uren))","v":"00:00:00"},{"$f":"SUMPRODUCT((werknemers=januari!$A20)*(datums=januari!Z$5)*(uren))","v":"00:00:00"},{"$f":"SUMPRODUCT((werknemers=januari!$A20)*(datums=januari!AA$5)*(uren))","v":"00:00:00"},{"$f":"SUMPRODUCT((werknemers=januari!$A20)*(datums=januari!AB$5)*(uren))","v":"00:00:00"},{"$f":"SUMPRODUCT((werknemers=januari!$A20)*(datums=januari!AC$5)*(uren))","v":"00:00:00"},{"$f":"SUMPRODUCT((werknemers=januari!$A20)*(datums=januari!AD$5)*(uren))","v":"00:00:00"},{"$f":"SUMPRODUCT((werknemers=januari!$A20)*(datums=januari!AE$5)*(uren))","v":"00:00:00"},{"$f":"SUMPRODUCT((werknemers=januari!$A20)*(datums=januari!AF$5)*(uren))","v":"00:00:00"}]
[]
["CONTROLE",{"$f":"SUMPRODUCT((werknemers=januari!$A22)*(datums=januari!B$5)*(uren))","v":"00:00:00"},{"$f":"SUMPRODUCT((werknemers=januari!$A22)*(datums=januari!C$5)*(uren))","v":"00:00:00"},{"$f":"SUMPRODUCT((werknemers=januari!$A22)*(datums=januari!D$5)*(uren))","v":"00:00:00"},{"$f":"SUMPRODUCT((werknemers=januari!$A22)*(datums=januari!E$5)*(uren))","v":"00:00:00"},{"$f":"SUMPRODUCT((werknemers=januari!$A22)*(datums=januari!F$5)*(uren))","v":"00:00:00"},{"$f":"SUMPRODUCT((werknemers=januari!$A22)*(datums=januari!G$5)*(uren))","v":"00:00:00"},{"$f":"SUMPRODUCT((werknemers=januari!$A22)*(datums=januari!H$5)*(uren))","v":"00:00:00"},{"$f":"SUMPRODUCT((werknemers=januari!$A22)*(datums=januari!I$5)*(uren))","v":"00:00:00"},{"$f":"SUMPRODUCT((werknemers=januari!$A22)*(datums=januari!J$5)*(uren))","v":"00:00:00"},{"$f":"SUMPRODUCT((werknemers=januari!$A22)*(datums=januari!K$5)*(uren))","v":"00:00:00"},{"$f":"SUMPRODUCT((werknemers=januari!$A22)*(datums=januari!L$5)*(uren))","v":"00:00:00"},{"$f":"SUMPRODUCT((werknemers=januari!$A22)*(datums=januari!M$5)*(uren))","v":"00:00:00"},{"$f":"SUMPRODUCT((werknemers=januari!$A22)*(datums=januari!N$5)*(uren))","v":"00:00:00"},{"$f":"SUMPRODUCT((werknemers=januari!$A22)*(datums=januari!O$5)*(uren))","v":"00:00:00"},{"$f":"SUMPRODUCT((werknemers=januari!$A22)*(datums=januari!P$5)*(uren))","v":"00:00:00"},{"$f":"SUMPRODUCT((werknemers=januari!$A22)*(datums=januari!Q$5)*(uren))","v":"00:00:00"},{"$f":"SUMPRODUCT((werknemers=januari!$A22)*(datums=januari!R$5)*(uren))","v":"00:00:00"},{"$f":"SUMPRODUCT((werknemers=januari!$A22)*(datums=januari!S$5)*(uren))","v":"00:00:00"},{"$f":"SUMPRODUCT((werknemers=januari!$A22)*(datums=januari!T$5)*(uren))","v":"00:00:00"},{"$f":"SUMPRODUCT((werknemers=januari!$A22)*(datums=januari!U$5)*(uren))","v":"00:00:00"},{"$f":"SUMPRODUCT((werknemers=januari!$A22)*(datums=januari!V$5)*(uren))","v":"00:00:00"},{"$f":"SUMPRODUCT((werknemers=januari!$A22)*(datums=januari!W$5)*(uren))","v":"00:00:00"},{"$f":"SUMPRODUCT((werknemers=januari!$A22)*(datums=januari!X$5)*(uren))","v":"00:00:00"},{"$f":"SUMPRODUCT((werknemers=januari!$A22)*(datums=januari!Y$5)*(uren))","v":"00:00:00"},{"$f":"SUMPRODUCT((werknemers=januari!$A22)*(datums=januari!Z$5)*(uren))","v":"00:00:00"},{"$f":"SUMPRODUCT((werknemers=januari!$A22)*(datums=januari!AA$5)*(uren))","v":"00:00:00"},{"$f":"SUMPRODUCT((werknemers=januari!$A22)*(datums=januari!AB$5)*(uren))","v":"00:00:00"},{"$f":"SUMPRODUCT((werknemers=januari!$A22)*(datums=januari!AC$5)*(uren))","v":"00:00:00"},{"$f":"SUMPRODUCT((werknemers=januari!$A22)*(datums=januari!AD$5)*(uren))","v":"00:00:00"},{"$f":"SUMPRODUCT((werknemers=januari!$A22)*(datums=januari!AE$5)*(uren))","v":"00:00:00"},{"$f":"SUMPRODUCT((werknemers=januari!$A22)*(datums=januari!AF$5)*(uren))","v":"00:00:00"}]
[]
["CONTROLE",{"$f":"SUMPRODUCT((werknemers=januari!$A24)*(datums=januari!B$5)*(uren))","v":"00:00:00"},{"$f":"SUMPRODUCT((werknemers=januari!$A24)*(datums=januari!C$5)*(uren))","v":"00:00:00"},{"$f":"SUMPRODUCT((werknemers=januari!$A24)*(datums=januari!D$5)*(uren))","v":"00:00:00"},{"$f":"SUMPRODUCT((werknemers=januari!$A24)*(datums=januari!E$5)*(uren))","v":"00:00:00"},{"$f":"SUMPRODUCT((werknemers=januari!$A24)*(datums=januari!F$5)*(uren))","v":"00:00:00"},{"$f":"SUMPRODUCT((werknemers=januari!$A24)*(datums=januari!G$5)*(uren))","v":"00:00:00"},{"$f":"SUMPRODUCT((werknemers=januari!$A24)*(datums=januari!H$5)*(uren))","v":"00:00:00"},{"$f":"SUMPRODUCT((werknemers=januari!$A24)*(datums=januari!I$5)*(uren))","v":"00:00:00"},{"$f":"SUMPRODUCT((werknemers=januari!$A24)*(datums=januari!J$5)*(uren))","v":"00:00:00"},{"$f":"SUMPRODUCT((werknemers=januari!$A24)*(datums=januari!K$5)*(uren))","v":"00:00:00"},{"$f":"SUMPRODUCT((werknemers=januari!$A24)*(datums=januari!L$5)*(uren))","v":"00:00:00"},{"$f":"SUMPRODUCT((werknemers=januari!$A24)*(datums=januari!M$5)*(uren))","v":"00:00:00"},{"$f":"SUMPRODUCT((werknemers=januari!$A24)*(datums=januari!N$5)*(uren))","v":"00:00:00"},{"$f":"SUMPRODUCT((werknemers=januari!$A24)*(datums=januari!O$5)*(uren))","v":"00:00:00"},{"$f":"SUMPRODUCT((werknemers=januari!$A24)*(datums=januari!P$5)*(uren))","v":"00:00:00"},{"$f":"SUMPRODUCT((werknemers=januari!$A24)*(datums=januari!Q$5)*(uren))","v":"00:00:00"},{"$f":"SUMPRODUCT((werknemers=januari!$A24)*(datums=januari!R$5)*(uren))","v":"00:00:00"},{"$f":"SUMPRODUCT((werknemers=januari!$A24)*(datums=januari!S$5)*(uren))","v":"00:00:00"},{"$f":"SUMPRODUCT((werknemers=januari!$A24)*(datums=januari!T$5)*(uren))","v":"00:00:00"},{"$f":"SUMPRODUCT((werknemers=januari!$A24)*(datums=januari!U$5)*(uren))","v":"00:00:00"},{"$f":"SUMPRODUCT((werknemers=januari!$A24)*(datums=januari!V$5)*(uren))","v":"00:00:00"},{"$f":"SUMPRODUCT((werknemers=januari!$A24)*(datums=januari!W$5)*(uren))","v":"00:00:00"},{"$f":"SUMPRODUCT((werknemers=januari!$A24)*(datums=januari!X$5)*(uren))","v":"00:00:00"},{"$f":"SUMPRODUCT((werknemers=januari!$A24)*(datums=januari!Y$5)*(uren))","v":"00:00:00"},{"$f":"SUMPRODUCT((werknemers=januari!$A24)*(datums=januari!Z$5)*(uren))","v":"00:00:00"},{"$f":"SUMPRODUCT((werknemers=januari!$A24)*(datums=januari!AA$5)*(uren))","v":"00:00:00"},{"$f":"SUMPRODUCT((werknemers=januari!$A24)*(datums=januari!AB$5)*(uren))","v":"00:00:00"},{"$f":"SUMPRODUCT((werknemers=januari!$A24)*(datums=januari!AC$5)*(uren))","v":"00:00:00"},{"$f":"SUMPRODUCT((werknemers=januari!$A24)*(datums=januari!AD$5)*(uren))","v":"00:00:00"},{"$f":"SUMPRODUCT((werknemers=januari!$A24)*(datums=januari!AE$5)*(uren))","v":"00:00:00"},{"$f":"SUMPRODUCT((werknemers=januari!$A24)*(datums=januari!AF$5)*(uren))","v":"00:00:00"}]
[]
["CONTROLE",{"$f":"SUMPRODUCT((werknemers=januari!$A26)*(datums=januari!B$5)*(uren))","v":"00:00:00"},{"$f":"SUMPRODUCT((werknemers=januari!$A26)*(datums=januari!C$5)*(uren))","v":"00:00:00"},{"$f":"SUMPRODUCT((werknemers=januari!$A26)*(datums=januari!D$5)*(uren))","v":"00:00:00"},{"$f":"SUMPRODUCT((werknemers=januari!$A26)*(datums=januari!E$5)*(uren))","v":"00:00:00"},{"$f":"SUMPRODUCT((werknemers=januari!$A26)*(datums=januari!F$5)*(uren))","v":"00:00:00"},{"$f":"SUMPRODUCT((werknemers=januari!$A26)*(datums=januari!G$5)*(uren))","v":"00:00:00"},{"$f":"SUMPRODUCT((werknemers=januari!$A26)*(datums=januari!H$5)*(uren))","v":"00:00:00"},{"$f":"SUMPRODUCT((werknemers=januari!$A26)*(datums=januari!I$5)*(uren))","v":"00:00:00"},{"$f":"SUMPRODUCT((werknemers=januari!$A26)*(datums=januari!J$5)*(uren))","v":"00:00:00"},{"$f":"SUMPRODUCT((werknemers=januari!$A26)*(datums=januari!K$5)*(uren))","v":"00:00:00"},{"$f":"SUMPRODUCT((werknemers=januari!$A26)*(datums=januari!L$5)*(uren))","v":"00:00:00"},{"$f":"SUMPRODUCT((werknemers=januari!$A26)*(datums=januari!M$5)*(uren))","v":"00:00:00"},{"$f":"SUMPRODUCT((werknemers=januari!$A26)*(datums=januari!N$5)*(uren))","v":"00:00:00"},{"$f":"SUMPRODUCT((werknemers=januari!$A26)*(datums=januari!O$5)*(uren))","v":"00:00:00"},{"$f":"SUMPRODUCT((werknemers=januari!$A26)*(datums=januari!P$5)*(uren))","v":"00:00:00"},{"$f":"SUMPRODUCT((werknemers=januari!$A26)*(datums=januari!Q$5)*(uren))","v":"00:00:00"},{"$f":"SUMPRODUCT((werknemers=januari!$A26)*(datums=januari!R$5)*(uren))","v":"00:00:00"},{"$f":"SUMPRODUCT((werknemers=januari!$A26)*(datums=januari!S$5)*(uren))","v":"00:00:00"},{"$f":"SUMPRODUCT((werknemers=januari!$A26)*(datums=januari!T$5)*(uren))","v":"00:00:00"},{"$f":"SUMPRODUCT((werknemers=januari!$A26)*(datums=januari!U$5)*(uren))","v":"00:00:00"},{"$f":"SUMPRODUCT((werknemers=januari!$A26)*(datums=januari!V$5)*(uren))","v":"00:00:00"},{"$f":"SUMPRODUCT((werknemers=januari!$A26)*(datums=januari!W$5)*(uren))","v":"00:00:00"},{"$f":"SUMPRODUCT((werknemers=januari!$A26)*(datums=januari!X$5)*(uren))","v":"00:00:00"},{"$f":"SUMPRODUCT((werknemers=januari!$A26)*(datums=januari!Y$5)*(uren))","v":"00:00:00"},{"$f":"SUMPRODUCT((werknemers=januari!$A26)*(datums=januari!Z$5)*(uren))","v":"00:00:00"},{"$f":"SUMPRODUCT((werknemers=januari!$A26)*(datums=januari!AA$5)*(uren))","v":"00:00:00"},{"$f":"SUMPRODUCT((werknemers=januari!$A26)*(datums=januari!AB$5)*(uren))","v":"00:00:00"},{"$f":"SUMPRODUCT((werknemers=januari!$A26)*(datums=januari!AC$5)*(uren))","v":"00:00:00"},{"$f":"SUMPRODUCT((werknemers=januari!$A26)*(datums=januari!AD$5)*(uren))","v":"00:00:00"},{"$f":"SUMPRODUCT((werknemers=januari!$A26)*(datums=januari!AE$5)*(uren))","v":"00:00:00"},{"$f":"SUMPRODUCT((werknemers=januari!$A26)*(datums=januari!AF$5)*(uren))","v":"00:00:00"}]
[]
["CONTROLE",{"$f":"SUMPRODUCT((werknemers=januari!$A28)*(datums=januari!B$5)*(uren))","v":"00:00:00"},{"$f":"SUMPRODUCT((werknemers=januari!$A28)*(datums=januari!C$5)*(uren))","v":"00:00:00"},{"$f":"SUMPRODUCT((werknemers=januari!$A28)*(datums=januari!D$5)*(uren))","v":"00:00:00"},{"$f":"SUMPRODUCT((werknemers=januari!$A28)*(datums=januari!E$5)*(uren))","v":"00:00:00"},{"$f":"SUMPRODUCT((werknemers=januari!$A28)*(datums=januari!F$5)*(uren))","v":"00:00:00"},{"$f":"SUMPRODUCT((werknemers=januari!$A28)*(datums=januari!G$5)*(uren))","v":"00:00:00"},{"$f":"SUMPRODUCT((werknemers=januari!$A28)*(datums=januari!H$5)*(uren))","v":"00:00:00"},{"$f":"SUMPRODUCT((werknemers=januari!$A28)*(datums=januari!I$5)*(uren))","v":"00:00:00"},{"$f":"SUMPRODUCT((werknemers=januari!$A28)*(datums=januari!J$5)*(uren))","v":"00:00:00"},{"$f":"SUMPRODUCT((werknemers=januari!$A28)*(datums=januari!K$5)*(uren))","v":"00:00:00"},{"$f":"SUMPRODUCT((werknemers=januari!$A28)*(datums=januari!L$5)*(uren))","v":"00:00:00"},{"$f":"SUMPRODUCT((werknemers=januari!$A28)*(datums=januari!M$5)*(uren))","v":"00:00:00"},{"$f":"SUMPRODUCT((werknemers=januari!$A28)*(datums=januari!N$5)*(uren))","v":"00:00:00"},{"$f":"SUMPRODUCT((werknemers=januari!$A28)*(datums=januari!O$5)*(uren))","v":"00:00:00"},{"$f":"SUMPRODUCT((werknemers=januari!$A28)*(datums=januari!P$5)*(uren))","v":"00:00:00"},{"$f":"SUMPRODUCT((werknemers=januari!$A28)*(datums=januari!Q$5)*(uren))","v":"00:00:00"},{"$f":"SUMPRODUCT((werknemers=januari!$A28)*(datums=januari!R$5)*(uren))","v":"00:00:00"},{"$f":"SUMPRODUCT((werknemers=januari!$A28)*(datums=januari!S$5)*(uren))","v":"00:00:00"},{"$f":"SUMPRODUCT((werknemers=januari!$A28)*(datums=januari!T$5)*(uren))","v":"00:00:00"},{"$f":"SUMPRODUCT((werknemers=januari!$A28)*(datums=januari!U$5)*(uren))","v":"00:00:00"},{"$f":"SUMPRODUCT((werknemers=januari!$A28)*(datums=januari!V$5)*(uren))","v":"00:00:00"},{"$f":"SUMPRODUCT((werknemers=januari!$A28)*(datums=januari!W$5)*(uren))","v":"00:00:00"},{"$f":"SUMPRODUCT((werknemers=januari!$A28)*(datums=januari!X$5)*(uren))","v":"00:00:00"},{"$f":"SUMPRODUCT((werknemers=januari!$A28)*(datums=januari!Y$5)*(uren))","v":"00:00:00"},{"$f":"SUMPRODUCT((werknemers=januari!$A28)*(datums=januari!Z$5)*(uren))","v":"00:00:00"},{"$f":"SUMPRODUCT((werknemers=januari!$A28)*(datums=januari!AA$5)*(uren))","v":"00:00:00"},{"$f":"SUMPRODUCT((werknemers=januari!$A28)*(datums=januari!AB$5)*(uren))","v":"00:00:00"},{"$f":"SUMPRODUCT((werknemers=januari!$A28)*(datums=januari!AC$5)*(uren))","v":"00:00:00"},{"$f":"SUMPRODUCT((werknemers=januari!$A28)*(datums=januari!AD$5)*(uren))","v":"00:00:00"},{"$f":"SUMPRODUCT((werknemers=januari!$A28)*(datums=januari!AE$5)*(uren))","v":"00:00:00"},{"$f":"SUMPRODUCT((werknemers=januari!$A28)*(datums=januari!AF$5)*(uren))","v":"00:00:00"}]
[]
["CONTROLE",{"$f":"SUMPRODUCT((werknemers=januari!$A30)*(datums=januari!B$5)*(uren))","v":"00:00:00"},{"$f":"SUMPRODUCT((werknemers=januari!$A30)*(datums=januari!C$5)*(uren))","v":"00:00:00"},{"$f":"SUMPRODUCT((werknemers=januari!$A30)*(datums=januari!D$5)*(uren))","v":"00:00:00"},{"$f":"SUMPRODUCT((werknemers=januari!$A30)*(datums=januari!E$5)*(uren))","v":"00:00:00"},{"$f":"SUMPRODUCT((werknemers=januari!$A30)*(datums=januari!F$5)*(uren))","v":"00:00:00"},{"$f":"SUMPRODUCT((werknemers=januari!$A30)*(datums=januari!G$5)*(uren))","v":"00:00:00"},{"$f":"SUMPRODUCT((werknemers=januari!$A30)*(datums=januari!H$5)*(uren))","v":"00:00:00"},{"$f":"SUMPRODUCT((werknemers=januari!$A30)*(datums=januari!I$5)*(uren))","v":"00:00:00"},{"$f":"SUMPRODUCT((werknemers=januari!$A30)*(datums=januari!J$5)*(uren))","v":"00:00:00"},{"$f":"SUMPRODUCT((werknemers=januari!$A30)*(datums=januari!K$5)*(uren))","v":"00:00:00"},{"$f":"SUMPRODUCT((werknemers=januari!$A30)*(datums=januari!L$5)*(uren))","v":"00:00:00"},{"$f":"SUMPRODUCT((werknemers=januari!$A30)*(datums=januari!M$5)*(uren))","v":"00:00:00"},{"$f":"SUMPRODUCT((werknemers=januari!$A30)*(datums=januari!N$5)*(uren))","v":"00:00:00"},{"$f":"SUMPRODUCT((werknemers=januari!$A30)*(datums=januari!O$5)*(uren))","v":"00:00:00"},{"$f":"SUMPRODUCT((werknemers=januari!$A30)*(datums=januari!P$5)*(uren))","v":"00:00:00"},{"$f":"SUMPRODUCT((werknemers=januari!$A30)*(datums=januari!Q$5)*(uren))","v":"00:00:00"},{"$f":"SUMPRODUCT((werknemers=januari!$A30)*(datums=januari!R$5)*(uren))","v":"00:00:00"},{"$f":"SUMPRODUCT((werknemers=januari!$A30)*(datums=januari!S$5)*(uren))","v":"00:00:00"},{"$f":"SUMPRODUCT((werknemers=januari!$A30)*(datums=januari!T$5)*(uren))","v":"00:00:00"},{"$f":"SUMPRODUCT((werknemers=januari!$A30)*(datums=januari!U$5)*(uren))","v":"00:00:00"},{"$f":"SUMPRODUCT((werknemers=januari!$A30)*(datums=januari!V$5)*(uren))","v":"00:00:00"},{"$f":"SUMPRODUCT((werknemers=januari!$A30)*(datums=januari!W$5)*(uren))","v":"00:00:00"},{"$f":"SUMPRODUCT((werknemers=januari!$A30)*(datums=januari!X$5)*(uren))","v":"00:00:00"},{"$f":"SUMPRODUCT((werknemers=januari!$A30)*(datums=januari!Y$5)*(uren))","v":"00:00:00"},{"$f":"SUMPRODUCT((werknemers=januari!$A30)*(datums=januari!Z$5)*(uren))","v":"00:00:00"},{"$f":"SUMPRODUCT((werknemers=januari!$A30)*(datums=januari!AA$5)*(uren))","v":"00:00:00"},{"$f":"SUMPRODUCT((werknemers=januari!$A30)*(datums=januari!AB$5)*(uren))","v":"00:00:00"},{"$f":"SUMPRODUCT((werknemers=januari!$A30)*(datums=januari!AC$5)*(uren))","v":"00:00:00"},{"$f":"SUMPRODUCT((werknemers=januari!$A30)*(datums=januari!AD$5)*(uren))","v":"00:00:00"},{"$f":"SUMPRODUCT((werknemers=januari!$A30)*(datums=januari!AE$5)*(uren))","v":"00:00:00"},{"$f":"SUMPRODUCT((werknemers=januari!$A30)*(datums=januari!AF$5)*(uren))","v":"00:00:00"}]
[]
["CONTROLE",{"$f":"SUMPRODUCT((werknemers=januari!$A32)*(datums=januari!B$5)*(uren))","v":"00:00:00"},{"$f":"SUMPRODUCT((werknemers=januari!$A32)*(datums=januari!C$5)*(uren))","v":"00:00:00"},{"$f":"SUMPRODUCT((werknemers=januari!$A32)*(datums=januari!D$5)*(uren))","v":"00:00:00"},{"$f":"SUMPRODUCT((werknemers=januari!$A32)*(datums=januari!E$5)*(uren))","v":"00:00:00"},{"$f":"SUMPRODUCT((werknemers=januari!$A32)*(datums=januari!F$5)*(uren))","v":"00:00:00"},{"$f":"SUMPRODUCT((werknemers=januari!$A32)*(datums=januari!G$5)*(uren))","v":"00:00:00"},{"$f":"SUMPRODUCT((werknemers=januari!$A32)*(datums=januari!H$5)*(uren))","v":"00:00:00"},{"$f":"SUMPRODUCT((werknemers=januari!$A32)*(datums=januari!I$5)*(uren))","v":"00:00:00"},{"$f":"SUMPRODUCT((werknemers=januari!$A32)*(datums=januari!J$5)*(uren))","v":"00:00:00"},{"$f":"SUMPRODUCT((werknemers=januari!$A32)*(datums=januari!K$5)*(uren))","v":"00:00:00"},{"$f":"SUMPRODUCT((werknemers=januari!$A32)*(datums=januari!L$5)*(uren))","v":"00:00:00"},{"$f":"SUMPRODUCT((werknemers=januari!$A32)*(datums=januari!M$5)*(uren))","v":"00:00:00"},{"$f":"SUMPRODUCT((werknemers=januari!$A32)*(datums=januari!N$5)*(uren))","v":"00:00:00"},{"$f":"SUMPRODUCT((werknemers=januari!$A32)*(datums=januari!O$5)*(uren))","v":"00:00:00"},{"$f":"SUMPRODUCT((werknemers=januari!$A32)*(datums=januari!P$5)*(uren))","v":"00:00:00"},{"$f":"SUMPRODUCT((werknemers=januari!$A32)*(datums=januari!Q$5)*(uren))","v":"00:00:00"},{"$f":"SUMPRODUCT((werknemers=januari!$A32)*(datums=januari!R$5)*(uren))","v":"00:00:00"},{"$f":"SUMPRODUCT((werknemers=januari!$A32)*(datums=januari!S$5)*(uren))","v":"00:00:00"},{"$f":"SUMPRODUCT((werknemers=januari!$A32)*(datums=januari!T$5)*(uren))","v":"00:00:00"},{"$f":"SUMPRODUCT((werknemers=januari!$A32)*(datums=januari!U$5)*(uren))","v":"00:00:00"},{"$f":"SUMPRODUCT((werknemers=januari!$A32)*(datums=januari!V$5)*(uren))","v":"00:00:00"},{"$f":"SUMPRODUCT((werknemers=januari!$A32)*(datums=januari!W$5)*(uren))","v":"00:00:00"},{"$f":"SUMPRODUCT((werknemers=januari!$A32)*(datums=januari!X$5)*(uren))","v":"00:00:00"},{"$f":"SUMPRODUCT((werknemers=januari!$A32)*(datums=januari!Y$5)*(uren))","v":"00:00:00"},{"$f":"SUMPRODUCT((werknemers=januari!$A32)*(datums=januari!Z$5)*(uren))","v":"00:00:00"},{"$f":"SUMPRODUCT((werknemers=januari!$A32)*(datums=januari!AA$5)*(uren))","v":"00:00:00"},{"$f":"SUMPRODUCT((werknemers=januari!$A32)*(datums=januari!AB$5)*(uren))","v":"00:00:00"},{"$f":"SUMPRODUCT((werknemers=januari!$A32)*(datums=januari!AC$5)*(uren))","v":"00:00:00"},{"$f":"SUMPRODUCT((werknemers=januari!$A32)*(datums=januari!AD$5)*(uren))","v":"00:00:00"},{"$f":"SUMPRODUCT((werknemers=januari!$A32)*(datums=januari!AE$5)*(uren))","v":"00:00:00"},{"$f":"SUMPRODUCT((werknemers=januari!$A32)*(datums=januari!AF$5)*(uren))","v":"00:00:00"}]
[]
["CONTROLE",{"$f":"SUMPRODUCT((werknemers=januari!$A34)*(datums=januari!B$5)*(uren))","v":"00:00:00"},{"$f":"SUMPRODUCT((werknemers=januari!$A34)*(datums=januari!C$5)*(uren))","v":"00:00:00"},{"$f":"SUMPRODUCT((werknemers=januari!$A34)*(datums=januari!D$5)*(uren))","v":"00:00:00"},{"$f":"SUMPRODUCT((werknemers=januari!$A34)*(datums=januari!E$5)*(uren))","v":"00:00:00"},{"$f":"SUMPRODUCT((werknemers=januari!$A34)*(datums=januari!F$5)*(uren))","v":"00:00:00"},{"$f":"SUMPRODUCT((werknemers=januari!$A34)*(datums=januari!G$5)*(uren))","v":"00:00:00"},{"$f":"SUMPRODUCT((werknemers=januari!$A34)*(datums=januari!H$5)*(uren))","v":"00:00:00"},{"$f":"SUMPRODUCT((werknemers=januari!$A34)*(datums=januari!I$5)*(uren))","v":"00:00:00"},{"$f":"SUMPRODUCT((werknemers=januari!$A34)*(datums=januari!J$5)*(uren))","v":"00:00:00"},{"$f":"SUMPRODUCT((werknemers=januari!$A34)*(datums=januari!K$5)*(uren))","v":"00:00:00"},{"$f":"SUMPRODUCT((werknemers=januari!$A34)*(datums=januari!L$5)*(uren))","v":"00:00:00"},{"$f":"SUMPRODUCT((werknemers=januari!$A34)*(datums=januari!M$5)*(uren))","v":"00:00:00"},{"$f":"SUMPRODUCT((werknemers=januari!$A34)*(datums=januari!N$5)*(uren))","v":"00:00:00"},{"$f":"SUMPRODUCT((werknemers=januari!$A34)*(datums=januari!O$5)*(uren))","v":"00:00:00"},{"$f":"SUMPRODUCT((werknemers=januari!$A34)*(datums=januari!P$5)*(uren))","v":"00:00:00"},{"$f":"SUMPRODUCT((werknemers=januari!$A34)*(datums=januari!Q$5)*(uren))","v":"00:00:00"},{"$f":"SUMPRODUCT((werknemers=januari!$A34)*(datums=januari!R$5)*(uren))","v":"00:00:00"},{"$f":"SUMPRODUCT((werknemers=januari!$A34)*(datums=januari!S$5)*(uren))","v":"00:00:00"},{"$f":"SUMPRODUCT((werknemers=januari!$A34)*(datums=januari!T$5)*(uren))","v":"00:00:00"},{"$f":"SUMPRODUCT((werknemers=januari!$A34)*(datums=januari!U$5)*(uren))","v":"00:00:00"},{"$f":"SUMPRODUCT((werknemers=januari!$A34)*(datums=januari!V$5)*(uren))","v":"00:00:00"},{"$f":"SUMPRODUCT((werknemers=januari!$A34)*(datums=januari!W$5)*(uren))","v":"00:00:00"},{"$f":"SUMPRODUCT((werknemers=januari!$A34)*(datums=januari!X$5)*(uren))","v":"00:00:00"},{"$f":"SUMPRODUCT((werknemers=januari!$A34)*(datums=januari!Y$5)*(uren))","v":"00:00:00"},{"$f":"SUMPRODUCT((werknemers=januari!$A34)*(datums=januari!Z$5)*(uren))","v":"00:00:00"},{"$f":"SUMPRODUCT((werknemers=januari!$A34)*(datums=januari!AA$5)*(uren))","v":"00:00:00"},{"$f":"SUMPRODUCT((werknemers=januari!$A34)*(datums=januari!AB$5)*(uren))","v":"00:00:00"},{"$f":"SUMPRODUCT((werknemers=januari!$A34)*(datums=januari!AC$5)*(uren))","v":"00:00:00"},{"$f":"SUMPRODUCT((werknemers=januari!$A34)*(datums=januari!AD$5)*(uren))","v":"00:00:00"},{"$f":"SUMPRODUCT((werknemers=januari!$A34)*(datums=januari!AE$5)*(uren))","v":"00:00:00"},{"$f":"SUMPRODUCT((werknemers=januari!$A34)*(datums=januari!AF$5)*(uren))","v":"00:00:00"}]
[]
["CONTROLE",{"$f":"SUMPRODUCT((werknemers=januari!$A36)*(datums=januari!B$5)*(uren))","v":"00:00:00"},{"$f":"SUMPRODUCT((werknemers=januari!$A36)*(datums=januari!C$5)*(uren))","v":"00:00:00"},{"$f":"SUMPRODUCT((werknemers=januari!$A36)*(datums=januari!D$5)*(uren))","v":"00:00:00"},{"$f":"SUMPRODUCT((werknemers=januari!$A36)*(datums=januari!E$5)*(uren))","v":"00:00:00"},{"$f":"SUMPRODUCT((werknemers=januari!$A36)*(datums=januari!F$5)*(uren))","v":"00:00:00"},{"$f":"SUMPRODUCT((werknemers=januari!$A36)*(datums=januari!G$5)*(uren))","v":"00:00:00"},{"$f":"SUMPRODUCT((werknemers=januari!$A36)*(datums=januari!H$5)*(uren))","v":"00:00:00"},{"$f":"SUMPRODUCT((werknemers=januari!$A36)*(datums=januari!I$5)*(uren))","v":"00:00:00"},{"$f":"SUMPRODUCT((werknemers=januari!$A36)*(datums=januari!J$5)*(uren))","v":"00:00:00"},{"$f":"SUMPRODUCT((werknemers=januari!$A36)*(datums=januari!K$5)*(uren))","v":"00:00:00"},{"$f":"SUMPRODUCT((werknemers=januari!$A36)*(datums=januari!L$5)*(uren))","v":"00:00:00"},{"$f":"SUMPRODUCT((werknemers=januari!$A36)*(datums=januari!M$5)*(uren))","v":"00:00:00"},{"$f":"SUMPRODUCT((werknemers=januari!$A36)*(datums=januari!N$5)*(uren))","v":"00:00:00"},{"$f":"SUMPRODUCT((werknemers=januari!$A36)*(datums=januari!O$5)*(uren))","v":"00:00:00"},{"$f":"SUMPRODUCT((werknemers=januari!$A36)*(datums=januari!P$5)*(uren))","v":"00:00:00"},{"$f":"SUMPRODUCT((werknemers=januari!$A36)*(datums=januari!Q$5)*(uren))","v":"00:00:00"},{"$f":"SUMPRODUCT((werknemers=januari!$A36)*(datums=januari!R$5)*(uren))","v":"00:00:00"},{"$f":"SUMPRODUCT((werknemers=januari!$A36)*(datums=januari!S$5)*(uren))","v":"00:00:00"},{"$f":"SUMPRODUCT((werknemers=januari!$A36)*(datums=januari!T$5)*(uren))","v":"00:00:00"},{"$f":"SUMPRODUCT((werknemers=januari!$A36)*(datums=januari!U$5)*(uren))","v":"00:00:00"},{"$f":"SUMPRODUCT((werknemers=januari!$A36)*(datums=januari!V$5)*(uren))","v":"00:00:00"},{"$f":"SUMPRODUCT((werknemers=januari!$A36)*(datums=januari!W$5)*(uren))","v":"00:00:00"},{"$f":"SUMPRODUCT((werknemers=januari!$A36)*(datums=januari!X$5)*(uren))","v":"00:00:00"},{"$f":"SUMPRODUCT((werknemers=januari!$A36)*(datums=januari!Y$5)*(uren))","v":"00:00:00"},{"$f":"SUMPRODUCT((werknemers=januari!$A36)*(datums=januari!Z$5)*(uren))","v":"00:00:00"},{"$f":"SUMPRODUCT((werknemers=januari!$A36)*(datums=januari!AA$5)*(uren))","v":"00:00:00"},{"$f":"SUMPRODUCT((werknemers=januari!$A36)*(datums=januari!AB$5)*(uren))","v":"00:00:00"},{"$f":"SUMPRODUCT((werknemers=januari!$A36)*(datums=januari!AC$5)*(uren))","v":"00:00:00"},{"$f":"SUMPRODUCT((werknemers=januari!$A36)*(datums=januari!AD$5)*(uren))","v":"00:00:00"},{"$f":"SUMPRODUCT((werknemers=januari!$A36)*(datums=januari!AE$5)*(uren))","v":"00:00:00"},{"$f":"SUMPRODUCT((werknemers=januari!$A36)*(datums=januari!AF$5)*(uren))","v":"00:00:00"}]
[]
["CONTROLE",{"$f":"SUMPRODUCT((werknemers=januari!$A38)*(datums=januari!B$5)*(uren))","v":"00:00:00"},{"$f":"SUMPRODUCT((werknemers=januari!$A38)*(datums=januari!C$5)*(uren))","v":"00:00:00"},{"$f":"SUMPRODUCT((werknemers=januari!$A38)*(datums=januari!D$5)*(uren))","v":"00:00:00"},{"$f":"SUMPRODUCT((werknemers=januari!$A38)*(datums=januari!E$5)*(uren))","v":"00:00:00"},{"$f":"SUMPRODUCT((werknemers=januari!$A38)*(datums=januari!F$5)*(uren))","v":"00:00:00"},{"$f":"SUMPRODUCT((werknemers=januari!$A38)*(datums=januari!G$5)*(uren))","v":"00:00:00"},{"$f":"SUMPRODUCT((werknemers=januari!$A38)*(datums=januari!H$5)*(uren))","v":"00:00:00"},{"$f":"SUMPRODUCT((werknemers=januari!$A38)*(datums=januari!I$5)*(uren))","v":"00:00:00"},{"$f":"SUMPRODUCT((werknemers=januari!$A38)*(datums=januari!J$5)*(uren))","v":"00:00:00"},{"$f":"SUMPRODUCT((werknemers=januari!$A38)*(datums=januari!K$5)*(uren))","v":"00:00:00"},{"$f":"SUMPRODUCT((werknemers=januari!$A38)*(datums=januari!L$5)*(uren))","v":"00:00:00"},{"$f":"SUMPRODUCT((werknemers=januari!$A38)*(datums=januari!M$5)*(uren))","v":"00:00:00"},{"$f":"SUMPRODUCT((werknemers=januari!$A38)*(datums=januari!N$5)*(uren))","v":"00:00:00"},{"$f":"SUMPRODUCT((werknemers=januari!$A38)*(datums=januari!O$5)*(uren))","v":"00:00:00"},{"$f":"SUMPRODUCT((werknemers=januari!$A38)*(datums=januari!P$5)*(uren))","v":"00:00:00"},{"$f":"SUMPRODUCT((werknemers=januari!$A38)*(datums=januari!Q$5)*(uren))","v":"00:00:00"},{"$f":"SUMPRODUCT((werknemers=januari!$A38)*(datums=januari!R$5)*(uren))","v":"00:00:00"},{"$f":"SUMPRODUCT((werknemers=januari!$A38)*(datums=januari!S$5)*(uren))","v":"00:00:00"},{"$f":"SUMPRODUCT((werknemers=januari!$A38)*(datums=januari!T$5)*(uren))","v":"00:00:00"},{"$f":"SUMPRODUCT((werknemers=januari!$A38)*(datums=januari!U$5)*(uren))","v":"00:00:00"},{"$f":"SUMPRODUCT((werknemers=januari!$A38)*(datums=januari!V$5)*(uren))","v":"00:00:00"},{"$f":"SUMPRODUCT((werknemers=januari!$A38)*(datums=januari!W$5)*(uren))","v":"00:00:00"},{"$f":"SUMPRODUCT((werknemers=januari!$A38)*(datums=januari!X$5)*(uren))","v":"00:00:00"},{"$f":"SUMPRODUCT((werknemers=januari!$A38)*(datums=januari!Y$5)*(uren))","v":"00:00:00"},{"$f":"SUMPRODUCT((werknemers=januari!$A38)*(datums=januari!Z$5)*(uren))","v":"00:00:00"},{"$f":"SUMPRODUCT((werknemers=januari!$A38)*(datums=januari!AA$5)*(uren))","v":"00:00:00"},{"$f":"SUMPRODUCT((werknemers=januari!$A38)*(datums=januari!AB$5)*(uren))","v":"00:00:00"},{"$f":"SUMPRODUCT((werknemers=januari!$A38)*(datums=januari!AC$5)*(uren))","v":"00:00:00"},{"$f":"SUMPRODUCT((werknemers=januari!$A38)*(datums=januari!AD$5)*(uren))","v":"00:00:00"},{"$f":"SUMPRODUCT((werknemers=januari!$A38)*(datums=januari!AE$5)*(uren))","v":"00:00:00"},{"$f":"SUMPRODUCT((werknemers=januari!$A38)*(datums=januari!AF$5)*(uren))","v":"00:00:00"}]
[]
["CONTROLE",{"$f":"SUMPRODUCT((werknemers=januari!$A40)*(datums=januari!B$5)*(uren))","v":"00:00:00"},{"$f":"SUMPRODUCT((werknemers=januari!$A40)*(datums=januari!C$5)*(uren))","v":"00:00:00"},{"$f":"SUMPRODUCT((werknemers=januari!$A40)*(datums=januari!D$5)*(uren))","v":"00:00:00"},{"$f":"SUMPRODUCT((werknemers=januari!$A40)*(datums=januari!E$5)*(uren))","v":"00:00:00"},{"$f":"SUMPRODUCT((werknemers=januari!$A40)*(datums=januari!F$5)*(uren))","v":"00:00:00"},{"$f":"SUMPRODUCT((werknemers=januari!$A40)*(datums=januari!G$5)*(uren))","v":"00:00:00"},{"$f":"SUMPRODUCT((werknemers=januari!$A40)*(datums=januari!H$5)*(uren))","v":"00:00:00"},{"$f":"SUMPRODUCT((werknemers=januari!$A40)*(datums=januari!I$5)*(uren))","v":"00:00:00"},{"$f":"SUMPRODUCT((werknemers=januari!$A40)*(datums=januari!J$5)*(uren))","v":"00:00:00"},{"$f":"SUMPRODUCT((werknemers=januari!$A40)*(datums=januari!K$5)*(uren))","v":"00:00:00"},{"$f":"SUMPRODUCT((werknemers=januari!$A40)*(datums=januari!L$5)*(uren))","v":"00:00:00"},{"$f":"SUMPRODUCT((werknemers=januari!$A40)*(datums=januari!M$5)*(uren))","v":"00:00:00"},{"$f":"SUMPRODUCT((werknemers=januari!$A40)*(datums=januari!N$5)*(uren))","v":"00:00:00"},{"$f":"SUMPRODUCT((werknemers=januari!$A40)*(datums=januari!O$5)*(uren))","v":"00:00:00"},{"$f":"SUMPRODUCT((werknemers=januari!$A40)*(datums=januari!P$5)*(uren))","v":"00:00:00"},{"$f":"SUMPRODUCT((werknemers=januari!$A40)*(datums=januari!Q$5)*(uren))","v":"00:00:00"},{"$f":"SUMPRODUCT((werknemers=januari!$A40)*(datums=januari!R$5)*(uren))","v":"00:00:00"},{"$f":"SUMPRODUCT((werknemers=januari!$A40)*(datums=januari!S$5)*(uren))","v":"00:00:00"},{"$f":"SUMPRODUCT((werknemers=januari!$A40)*(datums=januari!T$5)*(uren))","v":"00:00:00"},{"$f":"SUMPRODUCT((werknemers=januari!$A40)*(datums=januari!U$5)*(uren))","v":"00:00:00"},{"$f":"SUMPRODUCT((werknemers=januari!$A40)*(datums=januari!V$5)*(uren))","v":"00:00:00"},{"$f":"SUMPRODUCT((werknemers=januari!$A40)*(datums=januari!W$5)*(uren))","v":"00:00:00"},{"$f":"SUMPRODUCT((werknemers=januari!$A40)*(datums=januari!X$5)*(uren))","v":"00:00:00"},{"$f":"SUMPRODUCT((werknemers=januari!$A40)*(datums=januari!Y$5)*(uren))","v":"00:00:00"},{"$f":"SUMPRODUCT((werknemers=januari!$A40)*(datums=januari!Z$5)*(uren))","v":"00:00:00"},{"$f":"SUMPRODUCT((werknemers=januari!$A40)*(datums=januari!AA$5)*(uren))","v":"00:00:00"},{"$f":"SUMPRODUCT((werknemers=januari!$A40)*(datums=januari!AB$5)*(uren))","v":"00:00:00"},{"$f":"SUMPRODUCT((werknemers=januari!$A40)*(datums=januari!AC$5)*(uren))","v":"00:00:00"},{"$f":"SUMPRODUCT((werknemers=januari!$A40)*(datums=januari!AD$5)*(uren))","v":"00:00:00"},{"$f":"SUMPRODUCT((werknemers=januari!$A40)*(datums=januari!AE$5)*(uren))","v":"00:00:00"},{"$f":"SUMPRODUCT((werknemers=januari!$A40)*(datums=januari!AF$5)*(uren))","v":"00:00:00"}]
[]
["CONTROLE",{"$f":"SUMPRODUCT((werknemers=januari!$A42)*(datums=januari!B$5)*(uren))","v":"00:00:00"},{"$f":"SUMPRODUCT((werknemers=januari!$A42)*(datums=januari!C$5)*(uren))","v":"00:00:00"},{"$f":"SUMPRODUCT((werknemers=januari!$A42)*(datums=januari!D$5)*(uren))","v":"00:00:00"},{"$f":"SUMPRODUCT((werknemers=januari!$A42)*(datums=januari!E$5)*(uren))","v":"00:00:00"},{"$f":"SUMPRODUCT((werknemers=januari!$A42)*(datums=januari!F$5)*(uren))","v":"00:00:00"},{"$f":"SUMPRODUCT((werknemers=januari!$A42)*(datums=januari!G$5)*(uren))","v":"00:00:00"},{"$f":"SUMPRODUCT((werknemers=januari!$A42)*(datums=januari!H$5)*(uren))","v":"00:00:00"},{"$f":"SUMPRODUCT((werknemers=januari!$A42)*(datums=januari!I$5)*(uren))","v":"00:00:00"},{"$f":"SUMPRODUCT((werknemers=januari!$A42)*(datums=januari!J$5)*(uren))","v":"00:00:00"},{"$f":"SUMPRODUCT((werknemers=januari!$A42)*(datums=januari!K$5)*(uren))","v":"00:00:00"},{"$f":"SUMPRODUCT((werknemers=januari!$A42)*(datums=januari!L$5)*(uren))","v":"00:00:00"},{"$f":"SUMPRODUCT((werknemers=januari!$A42)*(datums=januari!M$5)*(uren))","v":"00:00:00"},{"$f":"SUMPRODUCT((werknemers=januari!$A42)*(datums=januari!N$5)*(uren))","v":"00:00:00"},{"$f":"SUMPRODUCT((werknemers=januari!$A42)*(datums=januari!O$5)*(uren))","v":"00:00:00"},{"$f":"SUMPRODUCT((werknemers=januari!$A42)*(datums=januari!P$5)*(uren))","v":"00:00:00"},{"$f":"SUMPRODUCT((werknemers=januari!$A42)*(datums=januari!Q$5)*(uren))","v":"00:00:00"},{"$f":"SUMPRODUCT((werknemers=januari!$A42)*(datums=januari!R$5)*(uren))","v":"00:00:00"},{"$f":"SUMPRODUCT((werknemers=januari!$A42)*(datums=januari!S$5)*(uren))","v":"00:00:00"},{"$f":"SUMPRODUCT((werknemers=januari!$A42)*(datums=januari!T$5)*(uren))","v":"00:00:00"},{"$f":"SUMPRODUCT((werknemers=januari!$A42)*(datums=januari!U$5)*(uren))","v":"00:00:00"},{"$f":"SUMPRODUCT((werknemers=januari!$A42)*(datums=januari!V$5)*(uren))","v":"00:00:00"},{"$f":"SUMPRODUCT((werknemers=januari!$A42)*(datums=januari!W$5)*(uren))","v":"00:00:00"},{"$f":"SUMPRODUCT((werknemers=januari!$A42)*(datums=januari!X$5)*(uren))","v":"00:00:00"},{"$f":"SUMPRODUCT((werknemers=januari!$A42)*(datums=januari!Y$5)*(uren))","v":"00:00:00"},{"$f":"SUMPRODUCT((werknemers=januari!$A42)*(datums=januari!Z$5)*(uren))","v":"00:00:00"},{"$f":"SUMPRODUCT((werknemers=januari!$A42)*(datums=januari!AA$5)*(uren))","v":"00:00:00"},{"$f":"SUMPRODUCT((werknemers=januari!$A42)*(datums=januari!AB$5)*(uren))","v":"00:00:00"},{"$f":"SUMPRODUCT((werknemers=januari!$A42)*(datums=januari!AC$5)*(uren))","v":"00:00:00"},{"$f":"SUMPRODUCT((werknemers=januari!$A42)*(datums=januari!AD$5)*(uren))","v":"00:00:00"},{"$f":"SUMPRODUCT((werknemers=januari!$A42)*(datums=januari!AE$5)*(uren))","v":"00:00:00"},{"$f":"SUMPRODUCT((werknemers=januari!$A42)*(datums=januari!AF$5)*(uren))","v":"00:00:00"}]
[]
["CONTROLE",{"$f":"SUMPRODUCT((werknemers=januari!$A44)*(datums=januari!B$5)*(uren))","v":"00:00:00"},{"$f":"SUMPRODUCT((werknemers=januari!$A44)*(datums=januari!C$5)*(uren))","v":"00:00:00"},{"$f":"SUMPRODUCT((werknemers=januari!$A44)*(datums=januari!D$5)*(uren))","v":"00:00:00"},{"$f":"SUMPRODUCT((werknemers=januari!$A44)*(datums=januari!E$5)*(uren))","v":"00:00:00"},{"$f":"SUMPRODUCT((werknemers=januari!$A44)*(datums=januari!F$5)*(uren))","v":"00:00:00"},{"$f":"SUMPRODUCT((werknemers=januari!$A44)*(datums=januari!G$5)*(uren))","v":"00:00:00"},{"$f":"SUMPRODUCT((werknemers=januari!$A44)*(datums=januari!H$5)*(uren))","v":"00:00:00"},{"$f":"SUMPRODUCT((werknemers=januari!$A44)*(datums=januari!I$5)*(uren))","v":"00:00:00"},{"$f":"SUMPRODUCT((werknemers=januari!$A44)*(datums=januari!J$5)*(uren))","v":"00:00:00"},{"$f":"SUMPRODUCT((werknemers=januari!$A44)*(datums=januari!K$5)*(uren))","v":"00:00:00"},{"$f":"SUMPRODUCT((werknemers=januari!$A44)*(datums=januari!L$5)*(uren))","v":"00:00:00"},{"$f":"SUMPRODUCT((werknemers=januari!$A44)*(datums=januari!M$5)*(uren))","v":"00:00:00"},{"$f":"SUMPRODUCT((werknemers=januari!$A44)*(datums=januari!N$5)*(uren))","v":"00:00:00"},{"$f":"SUMPRODUCT((werknemers=januari!$A44)*(datums=januari!O$5)*(uren))","v":"00:00:00"},{"$f":"SUMPRODUCT((werknemers=januari!$A44)*(datums=januari!P$5)*(uren))","v":"00:00:00"},{"$f":"SUMPRODUCT((werknemers=januari!$A44)*(datums=januari!Q$5)*(uren))","v":"00:00:00"},{"$f":"SUMPRODUCT((werknemers=januari!$A44)*(datums=januari!R$5)*(uren))","v":"00:00:00"},{"$f":"SUMPRODUCT((werknemers=januari!$A44)*(datums=januari!S$5)*(uren))","v":"00:00:00"},{"$f":"SUMPRODUCT((werknemers=januari!$A44)*(datums=januari!T$5)*(uren))","v":"00:00:00"},{"$f":"SUMPRODUCT((werknemers=januari!$A44)*(datums=januari!U$5)*(uren))","v":"00:00:00"},{"$f":"SUMPRODUCT((werknemers=januari!$A44)*(datums=januari!V$5)*(uren))","v":"00:00:00"},{"$f":"SUMPRODUCT((werknemers=januari!$A44)*(datums=januari!W$5)*(uren))","v":"00:00:00"},{"$f":"SUMPRODUCT((werknemers=januari!$A44)*(datums=januari!X$5)*(uren))","v":"00:00:00"},{"$f":"SUMPRODUCT((werknemers=januari!$A44)*(datums=januari!Y$5)*(uren))","v":"00:00:00"},{"$f":"SUMPRODUCT((werknemers=januari!$A44)*(datums=januari!Z$5)*(uren))","v":"00:00:00"},{"$f":"SUMPRODUCT((werknemers=januari!$A44)*(datums=januari!AA$5)*(uren))","v":"00:00:00"},{"$f":"SUMPRODUCT((werknemers=januari!$A44)*(datums=januari!AB$5)*(uren))","v":"00:00:00"},{"$f":"SUMPRODUCT((werknemers=januari!$A44)*(datums=januari!AC$5)*(uren))","v":"00:00:00"},{"$f":"SUMPRODUCT((werknemers=januari!$A44)*(datums=januari!AD$5)*(uren))","v":"00:00:00"},{"$f":"SUMPRODUCT((werknemers=januari!$A44)*(datums=januari!AE$5)*(uren))","v":"00:00:00"},{"$f":"SUMPRODUCT((werknemers=januari!$A44)*(datums=januari!AF$5)*(uren))","v":"00:00:00"}]

{"sheet":"februari","index":3,"n_rows":45,"n_cols":29,"rows_kept":45,"cut":false,"hidden":false,"merged":[[3,0,4,0],[1,1,1,3],[1,5,1,7],[1,9,1,11]]}
[]
[null,"verlof (V)",null,null,null,"ziek (Z)",null,null,null,"feestdag (F)"]
[]
[{"$f":"YEAR(B5)","v":2018},{"$f":"WEEKDAY(B5)","v":"1900-01-05"},{"$f":"WEEKDAY(C5)","v":"1900-01-06"},"1900-01-07","1900-01-01","1900-01-02","1900-01-03","1900-01-04","1900-01-05","1900-01-06","1900-01-07","1900-01-01","1900-01-02","1900-01-03","1900-01-04","1900-01-05","1900-01-06","1900-01-07","1900-01-01","1900-01-02","1900-01-03","1900-01-04","1900-01-05","1900-01-06","1900-01-07","1900-01-01","1900-01-02","1900-01-03","1900-01-04"]
[null,"2018-02-01","2018-02-02","2018-02-03","2018-02-04","2018-02-05","2018-02-06","2018-02-07","2018-02-08","2018-02-09","2018-02-10","2018-02-11","2018-02-12","2018-02-13","2018-02-14","2018-02-15","2018-02-16","2018-02-17","2018-02-18","2018-02-19","2018-02-20","2018-02-21","2018-02-22","2018-02-23","2018-02-24","2018-02-25","2018-02-26","2018-02-27","2018-02-28"]
[]
["CONTROLE",{"$f":"SUMPRODUCT((werknemers=februari!$A6)*(datums=februari!B$5)*(uren))","v":"00:00:00"},{"$f":"SUMPRODUCT((werknemers=februari!$A6)*(datums=februari!C$5)*(uren))","v":"00:00:00"},{"$f":"SUMPRODUCT((werknemers=februari!$A6)*(datums=februari!D$5)*(uren))","v":"00:00:00"},{"$f":"SUMPRODUCT((werknemers=februari!$A6)*(datums=februari!E$5)*(uren))","v":"00:00:00"},{"$f":"SUMPRODUCT((werknemers=februari!$A6)*(datums=februari!F$5)*(uren))","v":"00:00:00"},{"$f":"SUMPRODUCT((werknemers=februari!$A6)*(datums=februari!G$5)*(uren))","v":"00:00:00"},{"$f":"SUMPRODUCT((werknemers=februari!$A6)*(datums=februari!H$5)*(uren))","v":"00:00:00"},{"$f":"SUMPRODUCT((werknemers=februari!$A6)*(datums=februari!I$5)*(uren))","v":"00:00:00"},{"$f":"SUMPRODUCT((werknemers=februari!$A6)*(datums=februari!J$5)*(uren))","v":"00:00:00"},{"$f":"SUMPRODUCT((werknemers=februari!$A6)*(datums=februari!K$5)*(uren))","v":"00:00:00"},{"$f":"SUMPRODUCT((werknemers=februari!$A6)*(datums=februari!L$5)*(uren))","v":"00:00:00"},{"$f":"SUMPRODUCT((werknemers=februari!$A6)*(datums=februari!M$5)*(uren))","v":"00:00:00"},{"$f":"SUMPRODUCT((werknemers=februari!$A6)*(datums=februari!N$5)*(uren))","v":"00:00:00"},{"$f":"SUMPRODUCT((werknemers=februari!$A6)*(datums=februari!O$5)*(uren))","v":"00:00:00"},{"$f":"SUMPRODUCT((werknemers=februari!$A6)*(datums=februari!P$5)*(uren))","v":"00:00:00"},{"$f":"SUMPRODUCT((werknemers=februari!$A6)*(datums=februari!Q$5)*(uren))","v":"00:00:00"},{"$f":"SUMPRODUCT((werknemers=februari!$A6)*(datums=februari!R$5)*(uren))","v":"00:00:00"},{"$f":"SUMPRODUCT((werknemers=februari!$A6)*(datums=februari!S$5)*(uren))","v":"00:00:00"},{"$f":"SUMPRODUCT((werknemers=februari!$A6)*(datums=februari!T$5)*(uren))","v":"00:00:00"},{"$f":"SUMPRODUCT((werknemers=februari!$A6)*(datums=februari!U$5)*(uren))","v":"00:00:00"},{"$f":"SUMPRODUCT((werknemers=februari!$A6)*(datums=februari!V$5)*(uren))","v":"00:00:00"},{"$f":"SUMPRODUCT((werknemers=februari!$A6)*(datums=februari!W$5)*(uren))","v":"00:00:00"},{"$f":"SUMPRODUCT((werknemers=februari!$A6)*(datums=februari!X$5)*(uren))","v":"00:00:00"},{"$f":"SUMPRODUCT((werknemers=februari!$A6)*(datums=februari!Y$5)*(uren))","v":"00:00:00"},{"$f":"SUMPRODUCT((werknemers=februari!$A6)*(datums=februari!Z$5)*(uren))","v":"00:00:00"},{"$f":"SUMPRODUCT((werknemers=februari!$A6)*(datums=februari!AA$5)*(uren))","v":"00:00:00"},{"$f":"SUMPRODUCT((werknemers=februari!$A6)*(datums=februari!AB$5)*(uren))","v":"00:00:00"},{"$f":"SUMPRODUCT((werknemers=februari!$A6)*(datums=februari!AC$5)*(uren))","v":"00:00:00"}]
[]
["CONTROLE",{"$f":"SUMPRODUCT((werknemers=februari!$A8)*(datums=februari!B$5)*(uren))","v":"00:00:00"},{"$f":"SUMPRODUCT((werknemers=februari!$A8)*(datums=februari!C$5)*(uren))","v":"00:00:00"},{"$f":"SUMPRODUCT((werknemers=februari!$A8)*(datums=februari!D$5)*(uren))","v":"00:00:00"},{"$f":"SUMPRODUCT((werknemers=februari!$A8)*(datums=februari!E$5)*(uren))","v":"00:00:00"},{"$f":"SUMPRODUCT((werknemers=februari!$A8)*(datums=februari!F$5)*(uren))","v":"00:00:00"},{"$f":"SUMPRODUCT((werknemers=februari!$A8)*(datums=februari!G$5)*(uren))","v":"00:00:00"},{"$f":"SUMPRODUCT((werknemers=februari!$A8)*(datums=februari!H$5)*(uren))","v":"00:00:00"},{"$f":"SUMPRODUCT((werknemers=februari!$A8)*(datums=februari!I$5)*(uren))","v":"00:00:00"},{"$f":"SUMPRODUCT((werknemers=februari!$A8)*(datums=februari!J$5)*(uren))","v":"00:00:00"},{"$f":"SUMPRODUCT((werknemers=februari!$A8)*(datums=februari!K$5)*(uren))","v":"00:00:00"},{"$f":"SUMPRODUCT((werknemers=februari!$A8)*(datums=februari!L$5)*(uren))","v":"00:00:00"},{"$f":"SUMPRODUCT((werknemers=februari!$A8)*(datums=februari!M$5)*(uren))","v":"00:00:00"},{"$f":"SUMPRODUCT((werknemers=februari!$A8)*(datums=februari!N$5)*(uren))","v":"00:00:00"},{"$f":"SUMPRODUCT((werknemers=februari!$A8)*(datums=februari!O$5)*(uren))","v":"00:00:00"},{"$f":"SUMPRODUCT((werknemers=februari!$A8)*(datums=februari!P$5)*(uren))","v":"00:00:00"},{"$f":"SUMPRODUCT((werknemers=februari!$A8)*(datums=februari!Q$5)*(uren))","v":"00:00:00"},{"$f":"SUMPRODUCT((werknemers=februari!$A8)*(datums=februari!R$5)*(uren))","v":"00:00:00"},{"$f":"SUMPRODUCT((werknemers=februari!$A8)*(datums=februari!S$5)*(uren))","v":"00:00:00"},{"$f":"SUMPRODUCT((werknemers=februari!$A8)*(datums=februari!T$5)*(uren))","v":"00:00:00"},{"$f":"SUMPRODUCT((werknemers=februari!$A8)*(datums=februari!U$5)*(uren))","v":"00:00:00"},{"$f":"SUMPRODUCT((werknemers=februari!$A8)*(datums=februari!V$5)*(uren))","v":"00:00:00"},{"$f":"SUMPRODUCT((werknemers=februari!$A8)*(datums=februari!W$5)*(uren))","v":"00:00:00"},{"$f":"SUMPRODUCT((werknemers=februari!$A8)*(datums=februari!X$5)*(uren))","v":"00:00:00"},{"$f":"SUMPRODUCT((werknemers=februari!$A8)*(datums=februari!Y$5)*(uren))","v":"00:00:00"},{"$f":"SUMPRODUCT((werknemers=februari!$A8)*(datums=februari!Z$5)*(uren))","v":"00:00:00"},{"$f":"SUMPRODUCT((werknemers=februari!$A8)*(datums=februari!AA$5)*(uren))","v":"00:00:00"},{"$f":"SUMPRODUCT((werknemers=februari!$A8)*(datums=februari!AB$5)*(uren))","v":"00:00:00"},{"$f":"SUMPRODUCT((werknemers=februari!$A8)*(datums=februari!AC$5)*(uren))","v":"00:00:00"}]
[]
["CONTROLE",{"$f":"SUMPRODUCT((werknemers=februari!$A10)*(datums=februari!B$5)*(uren))","v":"00:00:00"},{"$f":"SUMPRODUCT((werknemers=februari!$A10)*(datums=februari!C$5)*(uren))","v":"00:00:00"},{"$f":"SUMPRODUCT((werknemers=februari!$A10)*(datums=februari!D$5)*(uren))","v":"00:00:00"},{"$f":"SUMPRODUCT((werknemers=februari!$A10)*(datums=februari!E$5)*(uren))","v":"00:00:00"},{"$f":"SUMPRODUCT((werknemers=februari!$A10)*(datums=februari!F$5)*(uren))","v":"00:00:00"},{"$f":"SUMPRODUCT((werknemers=februari!$A10)*(datums=februari!G$5)*(uren))","v":"00:00:00"},{"$f":"SUMPRODUCT((werknemers=februari!$A10)*(datums=februari!H$5)*(uren))","v":"00:00:00"},{"$f":"SUMPRODUCT((werknemers=februari!$A10)*(datums=februari!I$5)*(uren))","v":"00:00:00"},{"$f":"SUMPRODUCT((werknemers=februari!$A10)*(datums=februari!J$5)*(uren))","v":"00:00:00"},{"$f":"SUMPRODUCT((werknemers=februari!$A10)*(datums=februari!K$5)*(uren))","v":"00:00:00"},{"$f":"SUMPRODUCT((werknemers=februari!$A10)*(datums=februari!L$5)*(uren))","v":"00:00:00"},{"$f":"SUMPRODUCT((werknemers=februari!$A10)*(datums=februari!M$5)*(uren))","v":"00:00:00"},{"$f":"SUMPRODUCT((werknemers=februari!$A10)*(datums=februari!N$5)*(uren))","v":"00:00:00"},{"$f":"SUMPRODUCT((werknemers=februari!$A10)*(datums=februari!O$5)*(uren))","v":"00:00:00"},{"$f":"SUMPRODUCT((werknemers=februari!$A10)*(datums=februari!P$5)*(uren))","v":"00:00:00"},{"$f":"SUMPRODUCT((werknemers=februari!$A10)*(datums=februari!Q$5)*(uren))","v":"00:00:00"},{"$f":"SUMPRODUCT((werknemers=februari!$A10)*(datums=februari!R$5)*(uren))","v":"00:00:00"},{"$f":"SUMPRODUCT((werknemers=februari!$A10)*(datums=februari!S$5)*(uren))","v":"00:00:00"},{"$f":"SUMPRODUCT((werknemers=februari!$A10)*(datums=februari!T$5)*(uren))","v":"00:00:00"},{"$f":"SUMPRODUCT((werknemers=februari!$A10)*(datums=februari!U$5)*(uren))","v":"00:00:00"},{"$f":"SUMPRODUCT((werknemers=februari!$A10)*(datums=februari!V$5)*(uren))","v":"00:00:00"},{"$f":"SUMPRODUCT((werknemers=februari!$A10)*(datums=februari!W$5)*(uren))","v":"00:00:00"},{"$f":"SUMPRODUCT((werknemers=februari!$A10)*(datums=februari!X$5)*(uren))","v":"00:00:00"},{"$f":"SUMPRODUCT((werknemers=februari!$A10)*(datums=februari!Y$5)*(uren))","v":"00:00:00"},{"$f":"SUMPRODUCT((werknemers=februari!$A10)*(datums=februari!Z$5)*(uren))","v":"00:00:00"},{"$f":"SUMPRODUCT((werknemers=februari!$A10)*(datums=februari!AA$5)*(uren))","v":"00:00:00"},{"$f":"SUMPRODUCT((werknemers=februari!$A10)*(datums=februari!AB$5)*(uren))","v":"00:00:00"},{"$f":"SUMPRODUCT((werknemers=februari!$A10)*(datums=februari!AC$5)*(uren))","v":"00:00:00"}]
[]
["CONTROLE",{"$f":"SUMPRODUCT((werknemers=februari!$A12)*(datums=februari!B$5)*(uren))","v":"00:00:00"},{"$f":"SUMPRODUCT((werknemers=februari!$A12)*(datums=februari!C$5)*(uren))","v":"00:00:00"},{"$f":"SUMPRODUCT((werknemers=februari!$A12)*(datums=februari!D$5)*(uren))","v":"00:00:00"},{"$f":"SUMPRODUCT((werknemers=februari!$A12)*(datums=februari!E$5)*(uren))","v":"00:00:00"},{"$f":"SUMPRODUCT((werknemers=februari!$A12)*(datums=februari!F$5)*(uren))","v":"00:00:00"},{"$f":"SUMPRODUCT((werknemers=februari!$A12)*(datums=februari!G$5)*(uren))","v":"00:00:00"},{"$f":"SUMPRODUCT((werknemers=februari!$A12)*(datums=februari!H$5)*(uren))","v":"00:00:00"},{"$f":"SUMPRODUCT((werknemers=februari!$A12)*(datums=februari!I$5)*(uren))","v":"00:00:00"},{"$f":"SUMPRODUCT((werknemers=februari!$A12)*(datums=februari!J$5)*(uren))","v":"00:00:00"},{"$f":"SUMPRODUCT((werknemers=februari!$A12)*(datums=februari!K$5)*(uren))","v":"00:00:00"},{"$f":"SUMPRODUCT((werknemers=februari!$A12)*(datums=februari!L$5)*(uren))","v":"00:00:00"},{"$f":"SUMPRODUCT((werknemers=februari!$A12)*(datums=februari!M$5)*(uren))","v":"00:00:00"},{"$f":"SUMPRODUCT((werknemers=februari!$A12)*(datums=februari!N$5)*(uren))","v":"00:00:00"},{"$f":"SUMPRODUCT((werknemers=februari!$A12)*(datums=februari!O$5)*(uren))","v":"00:00:00"},{"$f":"SUMPRODUCT((werknemers=februari!$A12)*(datums=februari!P$5)*(uren))","v":"00:00:00"},{"$f":"SUMPRODUCT((werknemers=februari!$A12)*(datums=februari!Q$5)*(uren))","v":"00:00:00"},{"$f":"SUMPRODUCT((werknemers=februari!$A12)*(datums=februari!R$5)*(uren))","v":"00:00:00"},{"$f":"SUMPRODUCT((werknemers=februari!$A12)*(datums=februari!S$5)*(uren))","v":"00:00:00"},{"$f":"SUMPRODUCT((werknemers=februari!$A12)*(datums=februari!T$5)*(uren))","v":"00:00:00"},{"$f":"SUMPRODUCT((werknemers=februari!$A12)*(datums=februari!U$5)*(uren))","v":"00:00:00"},{"$f":"SUMPRODUCT((werknemers=februari!$A12)*(datums=februari!V$5)*(uren))","v":"00:00:00"},{"$f":"SUMPRODUCT((werknemers=februari!$A12)*(datums=februari!W$5)*(uren))","v":"00:00:00"},{"$f":"SUMPRODUCT((werknemers=februari!$A12)*(datums=februari!X$5)*(uren))","v":"00:00:00"},{"$f":"SUMPRODUCT((werknemers=februari!$A12)*(datums=februari!Y$5)*(uren))","v":"00:00:00"},{"$f":"SUMPRODUCT((werknemers=februari!$A12)*(datums=februari!Z$5)*(uren))","v":"00:00:00"},{"$f":"SUMPRODUCT((werknemers=februari!$A12)*(datums=februari!AA$5)*(uren))","v":"00:00:00"},{"$f":"SUMPRODUCT((werknemers=februari!$A12)*(datums=februari!AB$5)*(uren))","v":"00:00:00"},{"$f":"SUMPRODUCT((werknemers=februari!$A12)*(datums=februari!AC$5)*(uren))","v":"00:00:00"}]
[]
["CONTROLE",{"$f":"SUMPRODUCT((werknemers=februari!$A14)*(datums=februari!B$5)*(uren))","v":"00:00:00"},{"$f":"SUMPRODUCT((werknemers=februari!$A14)*(datums=februari!C$5)*(uren))","v":"00:00:00"},{"$f":"SUMPRODUCT((werknemers=februari!$A14)*(datums=februari!D$5)*(uren))","v":"00:00:00"},{"$f":"SUMPRODUCT((werknemers=februari!$A14)*(datums=februari!E$5)*(uren))","v":"00:00:00"},{"$f":"SUMPRODUCT((werknemers=februari!$A14)*(datums=februari!F$5)*(uren))","v":"00:00:00"},{"$f":"SUMPRODUCT((werknemers=februari!$A14)*(datums=februari!G$5)*(uren))","v":"00:00:00"},{"$f":"SUMPRODUCT((werknemers=februari!$A14)*(datums=februari!H$5)*(uren))","v":"00:00:00"},{"$f":"SUMPRODUCT((werknemers=februari!$A14)*(datums=februari!I$5)*(uren))","v":"00:00:00"},{"$f":"SUMPRODUCT((werknemers=februari!$A14)*(datums=februari!J$5)*(uren))","v":"00:00:00"},{"$f":"SUMPRODUCT((werknemers=februari!$A14)*(datums=februari!K$5)*(uren))","v":"00:00:00"},{"$f":"SUMPRODUCT((werknemers=februari!$A14)*(datums=februari!L$5)*(uren))","v":"00:00:00"},{"$f":"SUMPRODUCT((werknemers=februari!$A14)*(datums=februari!M$5)*(uren))","v":"00:00:00"},{"$f":"SUMPRODUCT((werknemers=februari!$A14)*(datums=februari!N$5)*(uren))","v":"00:00:00"},{"$f":"SUMPRODUCT((werknemers=februari!$A14)*(datums=februari!O$5)*(uren))","v":"00:00:00"},{"$f":"SUMPRODUCT((werknemers=februari!$A14)*(datums=februari!P$5)*(uren))","v":"00:00:00"},{"$f":"SUMPRODUCT((werknemers=februari!$A14)*(datums=februari!Q$5)*(uren))","v":"00:00:00"},{"$f":"SUMPRODUCT((werknemers=februari!$A14)*(datums=februari!R$5)*(uren))","v":"00:00:00"},{"$f":"SUMPRODUCT((werknemers=februari!$A14)*(datums=februari!S$5)*(uren))","v":"00:00:00"},{"$f":"SUMPRODUCT((werknemers=februari!$A14)*(datums=februari!T$5)*(uren))","v":"00:00:00"},{"$f":"SUMPRODUCT((werknemers=februari!$A14)*(datums=februari!U$5)*(uren))","v":"00:00:00"},{"$f":"SUMPRODUCT((werknemers=februari!$A14)*(datums=februari!V$5)*(uren))","v":"00:00:00"},{"$f":"SUMPRODUCT((werknemers=februari!$A14)*(datums=februari!W$5)*(uren))","v":"00:00:00"},{"$f":"SUMPRODUCT((werknemers=februari!$A14)*(datums=februari!X$5)*(uren))","v":"00:00:00"},{"$f":"SUMPRODUCT((werknemers=februari!$A14)*(datums=februari!Y$5)*(uren))","v":"00:00:00"},{"$f":"SUMPRODUCT((werknemers=februari!$A14)*(datums=februari!Z$5)*(uren))","v":"00:00:00"},{"$f":"SUMPRODUCT((werknemers=februari!$A14)*(datums=februari!AA$5)*(uren))","v":"00:00:00"},{"$f":"SUMPRODUCT((werknemers=februari!$A14)*(datums=februari!AB$5)*(uren))","v":"00:00:00"},{"$f":"SUMPRODUCT((werknemers=februari!$A14)*(datums=februari!AC$5)*(uren))","v":"00:00:00"}]
[]
["CONTROLE",{"$f":"SUMPRODUCT((werknemers=februari!$A16)*(datums=februari!B$5)*(uren))","v":"00:00:00"},{"$f":"SUMPRODUCT((werknemers=februari!$A16)*(datums=februari!C$5)*(uren))","v":"00:00:00"},{"$f":"SUMPRODUCT((werknemers=februari!$A16)*(datums=februari!D$5)*(uren))","v":"00:00:00"},{"$f":"SUMPRODUCT((werknemers=februari!$A16)*(datums=februari!E$5)*(uren))","v":"00:00:00"},{"$f":"SUMPRODUCT((werknemers=februari!$A16)*(datums=februari!F$5)*(uren))","v":"00:00:00"},{"$f":"SUMPRODUCT((werknemers=februari!$A16)*(datums=februari!G$5)*(uren))","v":"00:00:00"},{"$f":"SUMPRODUCT((werknemers=februari!$A16)*(datums=februari!H$5)*(uren))","v":"00:00:00"},{"$f":"SUMPRODUCT((werknemers=februari!$A16)*(datums=februari!I$5)*(uren))","v":"00:00:00"},{"$f":"SUMPRODUCT((werknemers=februari!$A16)*(datums=februari!J$5)*(uren))","v":"00:00:00"},{"$f":"SUMPRODUCT((werknemers=februari!$A16)*(datums=februari!K$5)*(uren))","v":"00:00:00"},{"$f":"SUMPRODUCT((werknemers=februari!$A16)*(datums=februari!L$5)*(uren))","v":"00:00:00"},{"$f":"SUMPRODUCT((werknemers=februari!$A16)*(datums=februari!M$5)*(uren))","v":"00:00:00"},{"$f":"SUMPRODUCT((werknemers=februari!$A16)*(datums=februari!N$5)*(uren))","v":"00:00:00"},{"$f":"SUMPRODUCT((werknemers=februari!$A16)*(datums=februari!O$5)*(uren))","v":"00:00:00"},{"$f":"SUMPRODUCT((werknemers=februari!$A16)*(datums=februari!P$5)*(uren))","v":"00:00:00"},{"$f":"SUMPRODUCT((werknemers=februari!$A16)*(datums=februari!Q$5)*(uren))","v":"00:00:00"},{"$f":"SUMPRODUCT((werknemers=februari!$A16)*(datums=februari!R$5)*(uren))","v":"00:00:00"},{"$f":"SUMPRODUCT((werknemers=februari!$A16)*(datums=februari!S$5)*(uren))","v":"00:00:00"},{"$f":"SUMPRODUCT((werknemers=februari!$A16)*(datums=februari!T$5)*(uren))","v":"00:00:00"},{"$f":"SUMPRODUCT((werknemers=februari!$A16)*(datums=februari!U$5)*(uren))","v":"00:00:00"},{"$f":"SUMPRODUCT((werknemers=februari!$A16)*(datums=februari!V$5)*(uren))","v":"00:00:00"},{"$f":"SUMPRODUCT((werknemers=februari!$A16)*(datums=februari!W$5)*(uren))","v":"00:00:00"},{"$f":"SUMPRODUCT((werknemers=februari!$A16)*(datums=februari!X$5)*(uren))","v":"00:00:00"},{"$f":"SUMPRODUCT((werknemers=februari!$A16)*(datums=februari!Y$5)*(uren))","v":"00:00:00"},{"$f":"SUMPRODUCT((werknemers=februari!$A16)*(datums=februari!Z$5)*(uren))","v":"00:00:00"},{"$f":"SUMPRODUCT((werknemers=februari!$A16)*(datums=februari!AA$5)*(uren))","v":"00:00:00"},{"$f":"SUMPRODUCT((werknemers=februari!$A16)*(datums=februari!AB$5)*(uren))","v":"00:00:00"},{"$f":"SUMPRODUCT((werknemers=februari!$A16)*(datums=februari!AC$5)*(uren))","v":"00:00:00"}]
[]
["CONTROLE",{"$f":"SUMPRODUCT((werknemers=februari!$A18)*(datums=februari!B$5)*(uren))","v":"00:00:00"},{"$f":"SUMPRODUCT((werknemers=februari!$A18)*(datums=februari!C$5)*(uren))","v":"00:00:00"},{"$f":"SUMPRODUCT((werknemers=februari!$A18)*(datums=februari!D$5)*(uren))","v":"00:00:00"},{"$f":"SUMPRODUCT((werknemers=februari!$A18)*(datums=februari!E$5)*(uren))","v":"00:00:00"},{"$f":"SUMPRODUCT((werknemers=februari!$A18)*(datums=februari!F$5)*(uren))","v":"00:00:00"},{"$f":"SUMPRODUCT((werknemers=februari!$A18)*(datums=februari!G$5)*(uren))","v":"00:00:00"},{"$f":"SUMPRODUCT((werknemers=februari!$A18)*(datums=februari!H$5)*(uren))","v":"00:00:00"},{"$f":"SUMPRODUCT((werknemers=februari!$A18)*(datums=februari!I$5)*(uren))","v":"00:00:00"},{"$f":"SUMPRODUCT((werknemers=februari!$A18)*(datums=februari!J$5)*(uren))","v":"00:00:00"},{"$f":"SUMPRODUCT((werknemers=februari!$A18)*(datums=februari!K$5)*(uren))","v":"00:00:00"},{"$f":"SUMPRODUCT((werknemers=februari!$A18)*(datums=februari!L$5)*(uren))","v":"00:00:00"},{"$f":"SUMPRODUCT((werknemers=februari!$A18)*(datums=februari!M$5)*(uren))","v":"00:00:00"},{"$f":"SUMPRODUCT((werknemers=februari!$A18)*(datums=februari!N$5)*(uren))","v":"00:00:00"},{"$f":"SUMPRODUCT((werknemers=februari!$A18)*(datums=februari!O$5)*(uren))","v":"00:00:00"},{"$f":"SUMPRODUCT((werknemers=februari!$A18)*(datums=februari!P$5)*(uren))","v":"00:00:00"},{"$f":"SUMPRODUCT((werknemers=februari!$A18)*(datums=februari!Q$5)*(uren))","v":"00:00:00"},{"$f":"SUMPRODUCT((werknemers=februari!$A18)*(datums=februari!R$5)*(uren))","v":"00:00:00"},{"$f":"SUMPRODUCT((werknemers=februari!$A18)*(datums=februari!S$5)*(uren))","v":"00:00:00"},{"$f":"SUMPRODUCT((werknemers=februari!$A18)*(datums=februari!T$5)*(uren))","v":"00:00:00"},{"$f":"SUMPRODUCT((werknemers=februari!$A18)*(datums=februari!U$5)*(uren))","v":"00:00:00"},{"$f":"SUMPRODUCT((werknemers=februari!$A18)*(datums=februari!V$5)*(uren))","v":"00:00:00"},{"$f":"SUMPRODUCT((werknemers=februari!$A18)*(datums=februari!W$5)*(uren))","v":"00:00:00"},{"$f":"SUMPRODUCT((werknemers=februari!$A18)*(datums=februari!X$5)*(uren))","v":"00:00:00"},{"$f":"SUMPRODUCT((werknemers=februari!$A18)*(datums=februari!Y$5)*(uren))","v":"00:00:00"},{"$f":"SUMPRODUCT((werknemers=februari!$A18)*(datums=februari!Z$5)*(uren))","v":"00:00:00"},{"$f":"SUMPRODUCT((werknemers=februari!$A18)*(datums=februari!AA$5)*(uren))","v":"00:00:00"},{"$f":"SUMPRODUCT((werknemers=februari!$A18)*(datums=februari!AB$5)*(uren))","v":"00:00:00"},{"$f":"SUMPRODUCT((werknemers=februari!$A18)*(datums=februari!AC$5)*(uren))","v":"00:00:00"}]
[]
["CONTROLE",{"$f":"SUMPRODUCT((werknemers=februari!$A20)*(datums=februari!B$5)*(uren))","v":"00:00:00"},{"$f":"SUMPRODUCT((werknemers=februari!$A20)*(datums=februari!C$5)*(uren))","v":"00:00:00"},{"$f":"SUMPRODUCT((werknemers=februari!$A20)*(datums=februari!D$5)*(uren))","v":"00:00:00"},{"$f":"SUMPRODUCT((werknemers=februari!$A20)*(datums=februari!E$5)*(uren))","v":"00:00:00"},{"$f":"SUMPRODUCT((werknemers=februari!$A20)*(datums=februari!F$5)*(uren))","v":"00:00:00"},{"$f":"SUMPRODUCT((werknemers=februari!$A20)*(datums=februari!G$5)*(uren))","v":"00:00:00"},{"$f":"SUMPRODUCT((werknemers=februari!$A20)*(datums=februari!H$5)*(uren))","v":"00:00:00"},{"$f":"SUMPRODUCT((werknemers=februari!$A20)*(datums=februari!I$5)*(uren))","v":"00:00:00"},{"$f":"SUMPRODUCT((werknemers=februari!$A20)*(datums=februari!J$5)*(uren))","v":"00:00:00"},{"$f":"SUMPRODUCT((werknemers=februari!$A20)*(datums=februari!K$5)*(uren))","v":"00:00:00"},{"$f":"SUMPRODUCT((werknemers=februari!$A20)*(datums=februari!L$5)*(uren))","v":"00:00:00"},{"$f":"SUMPRODUCT((werknemers=februari!$A20)*(datums=februari!M$5)*(uren))","v":"00:00:00"},{"$f":"SUMPRODUCT((werknemers=februari!$A20)*(datums=februari!N$5)*(uren))","v":"00:00:00"},{"$f":"SUMPRODUCT((werknemers=februari!$A20)*(datums=februari!O$5)*(uren))","v":"00:00:00"},{"$f":"SUMPRODUCT((werknemers=februari!$A20)*(datums=februari!P$5)*(uren))","v":"00:00:00"},{"$f":"SUMPRODUCT((werknemers=februari!$A20)*(datums=februari!Q$5)*(uren))","v":"00:00:00"},{"$f":"SUMPRODUCT((werknemers=februari!$A20)*(datums=februari!R$5)*(uren))","v":"00:00:00"},{"$f":"SUMPRODUCT((werknemers=februari!$A20)*(datums=februari!S$5)*(uren))","v":"00:00:00"},{"$f":"SUMPRODUCT((werknemers=februari!$A20)*(datums=februari!T$5)*(uren))","v":"00:00:00"},{"$f":"SUMPRODUCT((werknemers=februari!$A20)*(datums=februari!U$5)*(uren))","v":"00:00:00"},{"$f":"SUMPRODUCT((werknemers=februari!$A20)*(datums=februari!V$5)*(uren))","v":"00:00:00"},{"$f":"SUMPRODUCT((werknemers=februari!$A20)*(datums=februari!W$5)*(uren))","v":"00:00:00"},{"$f":"SUMPRODUCT((werknemers=februari!$A20)*(datums=februari!X$5)*(uren))","v":"00:00:00"},{"$f":"SUMPRODUCT((werknemers=februari!$A20)*(datums=februari!Y$5)*(uren))","v":"00:00:00"},{"$f":"SUMPRODUCT((werknemers=februari!$A20)*(datums=februari!Z$5)*(uren))","v":"00:00:00"},{"$f":"SUMPRODUCT((werknemers=februari!$A20)*(datums=februari!AA$5)*(uren))","v":"00:00:00"},{"$f":"SUMPRODUCT((werknemers=februari!$A20)*(datums=februari!AB$5)*(uren))","v":"00:00:00"},{"$f":"SUMPRODUCT((werknemers=februari!$A20)*(datums=februari!AC$5)*(uren))","v":"00:00:00"}]
[]
["CONTROLE",{"$f":"SUMPRODUCT((werknemers=februari!$A22)*(datums=februari!B$5)*(uren))","v":"00:00:00"},{"$f":"SUMPRODUCT((werknemers=februari!$A22)*(datums=februari!C$5)*(uren))","v":"00:00:00"},{"$f":"SUMPRODUCT((werknemers=februari!$A22)*(datums=februari!D$5)*(uren))","v":"00:00:00"},{"$f":"SUMPRODUCT((werknemers=februari!$A22)*(datums=februari!E$5)*(uren))","v":"00:00:00"},{"$f":"SUMPRODUCT((werknemers=februari!$A22)*(datums=februari!F$5)*(uren))","v":"00:00:00"},{"$f":"SUMPRODUCT((werknemers=februari!$A22)*(datums=februari!G$5)*(uren))","v":"00:00:00"},{"$f":"SUMPRODUCT((werknemers=februari!$A22)*(datums=februari!H$5)*(uren))","v":"00:00:00"},{"$f":"SUMPRODUCT((werknemers=februari!$A22)*(datums=februari!I$5)*(uren))","v":"00:00:00"},{"$f":"SUMPRODUCT((werknemers=februari!$A22)*(datums=februari!J$5)*(uren))","v":"00:00:00"},{"$f":"SUMPRODUCT((werknemers=februari!$A22)*(datums=februari!K$5)*(uren))","v":"00:00:00"},{"$f":"SUMPRODUCT((werknemers=februari!$A22)*(datums=februari!L$5)*(uren))","v":"00:00:00"},{"$f":"SUMPRODUCT((werknemers=februari!$A22)*(datums=februari!M$5)*(uren))","v":"00:00:00"},{"$f":"SUMPRODUCT((werknemers=februari!$A22)*(datums=februari!N$5)*(uren))","v":"00:00:00"},{"$f":"SUMPRODUCT((werknemers=februari!$A22)*(datums=februari!O$5)*(uren))","v":"00:00:00"},{"$f":"SUMPRODUCT((werknemers=februari!$A22)*(datums=februari!P$5)*(uren))","v":"00:00:00"},{"$f":"SUMPRODUCT((werknemers=februari!$A22)*(datums=februari!Q$5)*(uren))","v":"00:00:00"},{"$f":"SUMPRODUCT((werknemers=februari!$A22)*(datums=februari!R$5)*(uren))","v":"00:00:00"},{"$f":"SUMPRODUCT((werknemers=februari!$A22)*(datums=februari!S$5)*(uren))","v":"00:00:00"},{"$f":"SUMPRODUCT((werknemers=februari!$A22)*(datums=februari!T$5)*(uren))","v":"00:00:00"},{"$f":"SUMPRODUCT((werknemers=februari!$A22)*(datums=februari!U$5)*(uren))","v":"00:00:00"},{"$f":"SUMPRODUCT((werknemers=februari!$A22)*(datums=februari!V$5)*(uren))","v":"00:00:00"},{"$f":"SUMPRODUCT((werknemers=februari!$A22)*(datums=februari!W$5)*(uren))","v":"00:00:00"},{"$f":"SUMPRODUCT((werknemers=februari!$A22)*(datums=februari!X$5)*(uren))","v":"00:00:00"},{"$f":"SUMPRODUCT((werknemers=februari!$A22)*(datums=februari!Y$5)*(uren))","v":"00:00:00"},{"$f":"SUMPRODUCT((werknemers=februari!$A22)*(datums=februari!Z$5)*(uren))","v":"00:00:00"},{"$f":"SUMPRODUCT((werknemers=februari!$A22)*(datums=februari!AA$5)*(uren))","v":"00:00:00"},{"$f":"SUMPRODUCT((werknemers=februari!$A22)*(datums=februari!AB$5)*(uren))","v":"00:00:00"},{"$f":"SUMPRODUCT((werknemers=februari!$A22)*(datums=februari!AC$5)*(uren))","v":"00:00:00"}]
[]
["CONTROLE",{"$f":"SUMPRODUCT((werknemers=februari!$A24)*(datums=februari!B$5)*(uren))","v":"00:00:00"},{"$f":"SUMPRODUCT((werknemers=februari!$A24)*(datums=februari!C$5)*(uren))","v":"00:00:00"},{"$f":"SUMPRODUCT((werknemers=februari!$A24)*(datums=februari!D$5)*(uren))","v":"00:00:00"},{"$f":"SUMPRODUCT((werknemers=februari!$A24)*(datums=februari!E$5)*(uren))","v":"00:00:00"},{"$f":"SUMPRODUCT((werknemers=februari!$A24)*(datums=februari!F$5)*(uren))","v":"00:00:00"},{"$f":"SUMPRODUCT((werknemers=februari!$A24)*(datums=februari!G$5)*(uren))","v":"00:00:00"},{"$f":"SUMPRODUCT((werknemers=februari!$A24)*(datums=februari!H$5)*(uren))","v":"00:00:00"},{"$f":"SUMPRODUCT((werknemers=februari!$A24)*(datums=februari!I$5)*(uren))","v":"00:00:00"},{"$f":"SUMPRODUCT((werknemers=februari!$A24)*(datums=februari!J$5)*(uren))","v":"00:00:00"},{"$f":"SUMPRODUCT((werknemers=februari!$A24)*(datums=februari!K$5)*(uren))","v":"00:00:00"},{"$f":"SUMPRODUCT((werknemers=februari!$A24)*(datums=februari!L$5)*(uren))","v":"00:00:00"},{"$f":"SUMPRODUCT((werknemers=februari!$A24)*(datums=februari!M$5)*(uren))","v":"00:00:00"},{"$f":"SUMPRODUCT((werknemers=februari!$A24)*(datums=februari!N$5)*(uren))","v":"00:00:00"},{"$f":"SUMPRODUCT((werknemers=februari!$A24)*(datums=februari!O$5)*(uren))","v":"00:00:00"},{"$f":"SUMPRODUCT((werknemers=februari!$A24)*(datums=februari!P$5)*(uren))","v":"00:00:00"},{"$f":"SUMPRODUCT((werknemers=februari!$A24)*(datums=februari!Q$5)*(uren))","v":"00:00:00"},{"$f":"SUMPRODUCT((werknemers=februari!$A24)*(datums=februari!R$5)*(uren))","v":"00:00:00"},{"$f":"SUMPRODUCT((werknemers=februari!$A24)*(datums=februari!S$5)*(uren))","v":"00:00:00"},{"$f":"SUMPRODUCT((werknemers=februari!$A24)*(datums=februari!T$5)*(uren))","v":"00:00:00"},{"$f":"SUMPRODUCT((werknemers=februari!$A24)*(datums=februari!U$5)*(uren))","v":"00:00:00"},{"$f":"SUMPRODUCT((werknemers=februari!$A24)*(datums=februari!V$5)*(uren))","v":"00:00:00"},{"$f":"SUMPRODUCT((werknemers=februari!$A24)*(datums=februari!W$5)*(uren))","v":"00:00:00"},{"$f":"SUMPRODUCT((werknemers=februari!$A24)*(datums=februari!X$5)*(uren))","v":"00:00:00"},{"$f":"SUMPRODUCT((werknemers=februari!$A24)*(datums=februari!Y$5)*(uren))","v":"00:00:00"},{"$f":"SUMPRODUCT((werknemers=februari!$A24)*(datums=februari!Z$5)*(uren))","v":"00:00:00"},{"$f":"SUMPRODUCT((werknemers=februari!$A24)*(datums=februari!AA$5)*(uren))","v":"00:00:00"},{"$f":"SUMPRODUCT((werknemers=februari!$A24)*(datums=februari!AB$5)*(uren))","v":"00:00:00"},{"$f":"SUMPRODUCT((werknemers=februari!$A24)*(datums=februari!AC$5)*(uren))","v":"00:00:00"}]
[]
["CONTROLE",{"$f":"SUMPRODUCT((werknemers=februari!$A26)*(datums=februari!B$5)*(uren))","v":"00:00:00"},{"$f":"SUMPRODUCT((werknemers=februari!$A26)*(datums=februari!C$5)*(uren))","v":"00:00:00"},{"$f":"SUMPRODUCT((werknemers=februari!$A26)*(datums=februari!D$5)*(uren))","v":"00:00:00"},{"$f":"SUMPRODUCT((werknemers=februari!$A26)*(datums=februari!E$5)*(uren))","v":"00:00:00"},{"$f":"SUMPRODUCT((werknemers=februari!$A26)*(datums=februari!F$5)*(uren))","v":"00:00:00"},{"$f":"SUMPRODUCT((werknemers=februari!$A26)*(datums=februari!G$5)*(uren))","v":"00:00:00"},{"$f":"SUMPRODUCT((werknemers=februari!$A26)*(datums=februari!H$5)*(uren))","v":"00:00:00"},{"$f":"SUMPRODUCT((werknemers=februari!$A26)*(datums=februari!I$5)*(uren))","v":"00:00:00"},{"$f":"SUMPRODUCT((werknemers=februari!$A26)*(datums=februari!J$5)*(uren))","v":"00:00:00"},{"$f":"SUMPRODUCT((werknemers=februari!$A26)*(datums=februari!K$5)*(uren))","v":"00:00:00"},{"$f":"SUMPRODUCT((werknemers=februari!$A26)*(datums=februari!L$5)*(uren))","v":"00:00:00"},{"$f":"SUMPRODUCT((werknemers=februari!$A26)*(datums=februari!M$5)*(uren))","v":"00:00:00"},{"$f":"SUMPRODUCT((werknemers=februari!$A26)*(datums=februari!N$5)*(uren))","v":"00:00:00"},{"$f":"SUMPRODUCT((werknemers=februari!$A26)*(datums=februari!O$5)*(uren))","v":"00:00:00"},{"$f":"SUMPRODUCT((werknemers=februari!$A26)*(datums=februari!P$5)*(uren))","v":"00:00:00"},{"$f":"SUMPRODUCT((werknemers=februari!$A26)*(datums=februari!Q$5)*(uren))","v":"00:00:00"},{"$f":"SUMPRODUCT((werknemers=februari!$A26)*(datums=februari!R$5)*(uren))","v":"00:00:00"},{"$f":"SUMPRODUCT((werknemers=februari!$A26)*(datums=februari!S$5)*(uren))","v":"00:00:00"},{"$f":"SUMPRODUCT((werknemers=februari!$A26)*(datums=februari!T$5)*(uren))","v":"00:00:00"},{"$f":"SUMPRODUCT((werknemers=februari!$A26)*(datums=februari!U$5)*(uren))","v":"00:00:00"},{"$f":"SUMPRODUCT((werknemers=februari!$A26)*(datums=februari!V$5)*(uren))","v":"00:00:00"},{"$f":"SUMPRODUCT((werknemers=februari!$A26)*(datums=februari!W$5)*(uren))","v":"00:00:00"},{"$f":"SUMPRODUCT((werknemers=februari!$A26)*(datums=februari!X$5)*(uren))","v":"00:00:00"},{"$f":"SUMPRODUCT((werknemers=februari!$A26)*(datums=februari!Y$5)*(uren))","v":"00:00:00"},{"$f":"SUMPRODUCT((werknemers=februari!$A26)*(datums=februari!Z$5)*(uren))","v":"00:00:00"},{"$f":"SUMPRODUCT((werknemers=februari!$A26)*(datums=februari!AA$5)*(uren))","v":"00:00:00"},{"$f":"SUMPRODUCT((werknemers=februari!$A26)*(datums=februari!AB$5)*(uren))","v":"00:00:00"},{"$f":"SUMPRODUCT((werknemers=februari!$A26)*(datums=februari!AC$5)*(uren))","v":"00:00:00"}]
[]
["CONTROLE",{"$f":"SUMPRODUCT((werknemers=februari!$A28)*(datums=februari!B$5)*(uren))","v":"00:00:00"},{"$f":"SUMPRODUCT((werknemers=februari!$A28)*(datums=februari!C$5)*(uren))","v":"00:00:00"},{"$f":"SUMPRODUCT((werknemers=februari!$A28)*(datums=februari!D$5)*(uren))","v":"00:00:00"},{"$f":"SUMPRODUCT((werknemers=februari!$A28)*(datums=februari!E$5)*(uren))","v":"00:00:00"},{"$f":"SUMPRODUCT((werknemers=februari!$A28)*(datums=februari!F$5)*(uren))","v":"00:00:00"},{"$f":"SUMPRODUCT((werknemers=februari!$A28)*(datums=februari!G$5)*(uren))","v":"00:00:00"},{"$f":"SUMPRODUCT((werknemers=februari!$A28)*(datums=februari!H$5)*(uren))","v":"00:00:00"},{"$f":"SUMPRODUCT((werknemers=februari!$A28)*(datums=februari!I$5)*(uren))","v":"00:00:00"},{"$f":"SUMPRODUCT((werknemers=februari!$A28)*(datums=februari!J$5)*(uren))","v":"00:00:00"},{"$f":"SUMPRODUCT((werknemers=februari!$A28)*(datums=februari!K$5)*(uren))","v":"00:00:00"},{"$f":"SUMPRODUCT((werknemers=februari!$A28)*(datums=februari!L$5)*(uren))","v":"00:00:00"},{"$f":"SUMPRODUCT((werknemers=februari!$A28)*(datums=februari!M$5)*(uren))","v":"00:00:00"},{"$f":"SUMPRODUCT((werknemers=februari!$A28)*(datums=februari!N$5)*(uren))","v":"00:00:00"},{"$f":"SUMPRODUCT((werknemers=februari!$A28)*(datums=februari!O$5)*(uren))","v":"00:00:00"},{"$f":"SUMPRODUCT((werknemers=februari!$A28)*(datums=februari!P$5)*(uren))","v":"00:00:00"},{"$f":"SUMPRODUCT((werknemers=februari!$A28)*(datums=februari!Q$5)*(uren))","v":"00:00:00"},{"$f":"SUMPRODUCT((werknemers=februari!$A28)*(datums=februari!R$5)*(uren))","v":"00:00:00"},{"$f":"SUMPRODUCT((werknemers=februari!$A28)*(datums=februari!S$5)*(uren))","v":"00:00:00"},{"$f":"SUMPRODUCT((werknemers=februari!$A28)*(datums=februari!T$5)*(uren))","v":"00:00:00"},{"$f":"SUMPRODUCT((werknemers=februari!$A28)*(datums=februari!U$5)*(uren))","v":"00:00:00"},{"$f":"SUMPRODUCT((werknemers=februari!$A28)*(datums=februari!V$5)*(uren))","v":"00:00:00"},{"$f":"SUMPRODUCT((werknemers=februari!$A28)*(datums=februari!W$5)*(uren))","v":"00:00:00"},{"$f":"SUMPRODUCT((werknemers=februari!$A28)*(datums=februari!X$5)*(uren))","v":"00:00:00"},{"$f":"SUMPRODUCT((werknemers=februari!$A28)*(datums=februari!Y$5)*(uren))","v":"00:00:00"},{"$f":"SUMPRODUCT((werknemers=februari!$A28)*(datums=februari!Z$5)*(uren))","v":"00:00:00"},{"$f":"SUMPRODUCT((werknemers=februari!$A28)*(datums=februari!AA$5)*(uren))","v":"00:00:00"},{"$f":"SUMPRODUCT((werknemers=februari!$A28)*(datums=februari!AB$5)*(uren))","v":"00:00:00"},{"$f":"SUMPRODUCT((werknemers=februari!$A28)*(datums=februari!AC$5)*(uren))","v":"00:00:00"}]
[]
["CONTROLE",{"$f":"SUMPRODUCT((werknemers=februari!$A30)*(datums=februari!B$5)*(uren))","v":"00:00:00"},{"$f":"SUMPRODUCT((werknemers=februari!$A30)*(datums=februari!C$5)*(uren))","v":"00:00:00"},{"$f":"SUMPRODUCT((werknemers=februari!$A30)*(datums=februari!D$5)*(uren))","v":"00:00:00"},{"$f":"SUMPRODUCT((werknemers=februari!$A30)*(datums=februari!E$5)*(uren))","v":"00:00:00"},{"$f":"SUMPRODUCT((werknemers=februari!$A30)*(datums=februari!F$5)*(uren))","v":"00:00:00"},{"$f":"SUMPRODUCT((werknemers=februari!$A30)*(datums=februari!G$5)*(uren))","v":"00:00:00"},{"$f":"SUMPRODUCT((werknemers=februari!$A30)*(datums=februari!H$5)*(uren))","v":"00:00:00"},{"$f":"SUMPRODUCT((werknemers=februari!$A30)*(datums=februari!I$5)*(uren))","v":"00:00:00"},{"$f":"SUMPRODUCT((werknemers=februari!$A30)*(datums=februari!J$5)*(uren))","v":"00:00:00"},{"$f":"SUMPRODUCT((werknemers=februari!$A30)*(datums=februari!K$5)*(uren))","v":"00:00:00"},{"$f":"SUMPRODUCT((werknemers=februari!$A30)*(datums=februari!L$5)*(uren))","v":"00:00:00"},{"$f":"SUMPRODUCT((werknemers=februari!$A30)*(datums=februari!M$5)*(uren))","v":"00:00:00"},{"$f":"SUMPRODUCT((werknemers=februari!$A30)*(datums=februari!N$5)*(uren))","v":"00:00:00"},{"$f":"SUMPRODUCT((werknemers=februari!$A30)*(datums=februari!O$5)*(uren))","v":"00:00:00"},{"$f":"SUMPRODUCT((werknemers=februari!$A30)*(datums=februari!P$5)*(uren))","v":"00:00:00"},{"$f":"SUMPRODUCT((werknemers=februari!$A30)*(datums=februari!Q$5)*(uren))","v":"00:00:00"},{"$f":"SUMPRODUCT((werknemers=februari!$A30)*(datums=februari!R$5)*(uren))","v":"00:00:00"},{"$f":"SUMPRODUCT((werknemers=februari!$A30)*(datums=februari!S$5)*(uren))","v":"00:00:00"},{"$f":"SUMPRODUCT((werknemers=februari!$A30)*(datums=februari!T$5)*(uren))","v":"00:00:00"},{"$f":"SUMPRODUCT((werknemers=februari!$A30)*(datums=februari!U$5)*(uren))","v":"00:00:00"},{"$f":"SUMPRODUCT((werknemers=februari!$A30)*(datums=februari!V$5)*(uren))","v":"00:00:00"},{"$f":"SUMPRODUCT((werknemers=februari!$A30)*(datums=februari!W$5)*(uren))","v":"00:00:00"},{"$f":"SUMPRODUCT((werknemers=februari!$A30)*(datums=februari!X$5)*(uren))","v":"00:00:00"},{"$f":"SUMPRODUCT((werknemers=februari!$A30)*(datums=februari!Y$5)*(uren))","v":"00:00:00"},{"$f":"SUMPRODUCT((werknemers=februari!$A30)*(datums=februari!Z$5)*(uren))","v":"00:00:00"},{"$f":"SUMPRODUCT((werknemers=februari!$A30)*(datums=februari!AA$5)*(uren))","v":"00:00:00"},{"$f":"SUMPRODUCT((werknemers=februari!$A30)*(datums=februari!AB$5)*(uren))","v":"00:00:00"},{"$f":"SUMPRODUCT((werknemers=februari!$A30)*(datums=februari!AC$5)*(uren))","v":"00:00:00"}]
[]
["CONTROLE",{"$f":"SUMPRODUCT((werknemers=februari!$A32)*(datums=februari!B$5)*(uren))","v":"00:00:00"},{"$f":"SUMPRODUCT((werknemers=februari!$A32)*(datums=februari!C$5)*(uren))","v":"00:00:00"},{"$f":"SUMPRODUCT((werknemers=februari!$A32)*(datums=februari!D$5)*(uren))","v":"00:00:00"},{"$f":"SUMPRODUCT((werknemers=februari!$A32)*(datums=februari!E$5)*(uren))","v":"00:00:00"},{"$f":"SUMPRODUCT((werknemers=februari!$A32)*(datums=februari!F$5)*(uren))","v":"00:00:00"},{"$f":"SUMPRODUCT((werknemers=februari!$A32)*(datums=februari!G$5)*(uren))","v":"00:00:00"},{"$f":"SUMPRODUCT((werknemers=februari!$A32)*(datums=februari!H$5)*(uren))","v":"00:00:00"},{"$f":"SUMPRODUCT((werknemers=februari!$A32)*(datums=februari!I$5)*(uren))","v":"00:00:00"},{"$f":"SUMPRODUCT((werknemers=februari!$A32)*(datums=februari!J$5)*(uren))","v":"00:00:00"},{"$f":"SUMPRODUCT((werknemers=februari!$A32)*(datums=februari!K$5)*(uren))","v":"00:00:00"},{"$f":"SUMPRODUCT((werknemers=februari!$A32)*(datums=februari!L$5)*(uren))","v":"00:00:00"},{"$f":"SUMPRODUCT((werknemers=februari!$A32)*(datums=februari!M$5)*(uren))","v":"00:00:00"},{"$f":"SUMPRODUCT((werknemers=februari!$A32)*(datums=februari!N$5)*(uren))","v":"00:00:00"},{"$f":"SUMPRODUCT((werknemers=februari!$A32)*(datums=februari!O$5)*(uren))","v":"00:00:00"},{"$f":"SUMPRODUCT((werknemers=februari!$A32)*(datums=februari!P$5)*(uren))","v":"00:00:00"},{"$f":"SUMPRODUCT((werknemers=februari!$A32)*(datums=februari!Q$5)*(uren))","v":"00:00:00"},{"$f":"SUMPRODUCT((werknemers=februari!$A32)*(datums=februari!R$5)*(uren))","v":"00:00:00"},{"$f":"SUMPRODUCT((werknemers=februari!$A32)*(datums=februari!S$5)*(uren))","v":"00:00:00"},{"$f":"SUMPRODUCT((werknemers=februari!$A32)*(datums=februari!T$5)*(uren))","v":"00:00:00"},{"$f":"SUMPRODUCT((werknemers=februari!$A32)*(datums=februari!U$5)*(uren))","v":"00:00:00"},{"$f":"SUMPRODUCT((werknemers=februari!$A32)*(datums=februari!V$5)*(uren))","v":"00:00:00"},{"$f":"SUMPRODUCT((werknemers=februari!$A32)*(datums=februari!W$5)*(uren))","v":"00:00:00"},{"$f":"SUMPRODUCT((werknemers=februari!$A32)*(datums=februari!X$5)*(uren))","v":"00:00:00"},{"$f":"SUMPRODUCT((werknemers=februari!$A32)*(datums=februari!Y$5)*(uren))","v":"00:00:00"},{"$f":"SUMPRODUCT((werknemers=februari!$A32)*(datums=februari!Z$5)*(uren))","v":"00:00:00"},{"$f":"SUMPRODUCT((werknemers=februari!$A32)*(datums=februari!AA$5)*(uren))","v":"00:00:00"},{"$f":"SUMPRODUCT((werknemers=februari!$A32)*(datums=februari!AB$5)*(uren))","v":"00:00:00"},{"$f":"SUMPRODUCT((werknemers=februari!$A32)*(datums=februari!AC$5)*(uren))","v":"00:00:00"}]
[]
["CONTROLE",{"$f":"SUMPRODUCT((werknemers=februari!$A34)*(datums=februari!B$5)*(uren))","v":"00:00:00"},{"$f":"SUMPRODUCT((werknemers=februari!$A34)*(datums=februari!C$5)*(uren))","v":"00:00:00"},{"$f":"SUMPRODUCT((werknemers=februari!$A34)*(datums=februari!D$5)*(uren))","v":"00:00:00"},{"$f":"SUMPRODUCT((werknemers=februari!$A34)*(datums=februari!E$5)*(uren))","v":"00:00:00"},{"$f":"SUMPRODUCT((werknemers=februari!$A34)*(datums=februari!F$5)*(uren))","v":"00:00:00"},{"$f":"SUMPRODUCT((werknemers=februari!$A34)*(datums=februari!G$5)*(uren))","v":"00:00:00"},{"$f":"SUMPRODUCT((werknemers=februari!$A34)*(datums=februari!H$5)*(uren))","v":"00:00:00"},{"$f":"SUMPRODUCT((werknemers=februari!$A34)*(datums=februari!I$5)*(uren))","v":"00:00:00"},{"$f":"SUMPRODUCT((werknemers=februari!$A34)*(datums=februari!J$5)*(uren))","v":"00:00:00"},{"$f":"SUMPRODUCT((werknemers=februari!$A34)*(datums=februari!K$5)*(uren))","v":"00:00:00"},{"$f":"SUMPRODUCT((werknemers=februari!$A34)*(datums=februari!L$5)*(uren))","v":"00:00:00"},{"$f":"SUMPRODUCT((werknemers=februari!$A34)*(datums=februari!M$5)*(uren))","v":"00:00:00"},{"$f":"SUMPRODUCT((werknemers=februari!$A34)*(datums=februari!N$5)*(uren))","v":"00:00:00"},{"$f":"SUMPRODUCT((werknemers=februari!$A34)*(datums=februari!O$5)*(uren))","v":"00:00:00"},{"$f":"SUMPRODUCT((werknemers=februari!$A34)*(datums=februari!P$5)*(uren))","v":"00:00:00"},{"$f":"SUMPRODUCT((werknemers=februari!$A34)*(datums=februari!Q$5)*(uren))","v":"00:00:00"},{"$f":"SUMPRODUCT((werknemers=februari!$A34)*(datums=februari!R$5)*(uren))","v":"00:00:00"},{"$f":"SUMPRODUCT((werknemers=februari!$A34)*(datums=februari!S$5)*(uren))","v":"00:00:00"},{"$f":"SUMPRODUCT((werknemers=februari!$A34)*(datums=februari!T$5)*(uren))","v":"00:00:00"},{"$f":"SUMPRODUCT((werknemers=februari!$A34)*(datums=februari!U$5)*(uren))","v":"00:00:00"},{"$f":"SUMPRODUCT((werknemers=februari!$A34)*(datums=februari!V$5)*(uren))","v":"00:00:00"},{"$f":"SUMPRODUCT((werknemers=februari!$A34)*(datums=februari!W$5)*(uren))","v":"00:00:00"},{"$f":"SUMPRODUCT((werknemers=februari!$A34)*(datums=februari!X$5)*(uren))","v":"00:00:00"},{"$f":"SUMPRODUCT((werknemers=februari!$A34)*(datums=februari!Y$5)*(uren))","v":"00:00:00"},{"$f":"SUMPRODUCT((werknemers=februari!$A34)*(datums=februari!Z$5)*(uren))","v":"00:00:00"},{"$f":"SUMPRODUCT((werknemers=februari!$A34)*(datums=februari!AA$5)*(uren))","v":"00:00:00"},{"$f":"SUMPRODUCT((werknemers=februari!$A34)*(datums=februari!AB$5)*(uren))","v":"00:00:00"},{"$f":"SUMPRODUCT((werknemers=februari!$A34)*(datums=februari!AC$5)*(uren))","v":"00:00:00"}]
[]
["CONTROLE",{"$f":"SUMPRODUCT((werknemers=februari!$A36)*(datums=februari!B$5)*(uren))","v":"00:00:00"},{"$f":"SUMPRODUCT((werknemers=februari!$A36)*(datums=februari!C$5)*(uren))","v":"00:00:00"},{"$f":"SUMPRODUCT((werknemers=februari!$A36)*(datums=februari!D$5)*(uren))","v":"00:00:00"},{"$f":"SUMPRODUCT((werknemers=februari!$A36)*(datums=februari!E$5)*(uren))","v":"00:00:00"},{"$f":"SUMPRODUCT((werknemers=februari!$A36)*(datums=februari!F$5)*(uren))","v":"00:00:00"},{"$f":"SUMPRODUCT((werknemers=februari!$A36)*(datums=februari!G$5)*(uren))","v":"00:00:00"},{"$f":"SUMPRODUCT((werknemers=februari!$A36)*(datums=februari!H$5)*(uren))","v":"00:00:00"},{"$f":"SUMPRODUCT((werknemers=februari!$A36)*(datums=februari!I$5)*(uren))","v":"00:00:00"},{"$f":"SUMPRODUCT((werknemers=februari!$A36)*(datums=februari!J$5)*(uren))","v":"00:00:00"},{"$f":"SUMPRODUCT((werknemers=februari!$A36)*(datums=februari!K$5)*(uren))","v":"00:00:00"},{"$f":"SUMPRODUCT((werknemers=februari!$A36)*(datums=februari!L$5)*(uren))","v":"00:00:00"},{"$f":"SUMPRODUCT((werknemers=februari!$A36)*(datums=februari!M$5)*(uren))","v":"00:00:00"},{"$f":"SUMPRODUCT((werknemers=februari!$A36)*(datums=februari!N$5)*(uren))","v":"00:00:00"},{"$f":"SUMPRODUCT((werknemers=februari!$A36)*(datums=februari!O$5)*(uren))","v":"00:00:00"},{"$f":"SUMPRODUCT((werknemers=februari!$A36)*(datums=februari!P$5)*(uren))","v":"00:00:00"},{"$f":"SUMPRODUCT((werknemers=februari!$A36)*(datums=februari!Q$5)*(uren))","v":"00:00:00"},{"$f":"SUMPRODUCT((werknemers=februari!$A36)*(datums=februari!R$5)*(uren))","v":"00:00:00"},{"$f":"SUMPRODUCT((werknemers=februari!$A36)*(datums=februari!S$5)*(uren))","v":"00:00:00"},{"$f":"SUMPRODUCT((werknemers=februari!$A36)*(datums=februari!T$5)*(uren))","v":"00:00:00"},{"$f":"SUMPRODUCT((werknemers=februari!$A36)*(datums=februari!U$5)*(uren))","v":"00:00:00"},{"$f":"SUMPRODUCT((werknemers=februari!$A36)*(datums=februari!V$5)*(uren))","v":"00:00:00"},{"$f":"SUMPRODUCT((werknemers=februari!$A36)*(datums=februari!W$5)*(uren))","v":"00:00:00"},{"$f":"SUMPRODUCT((werknemers=februari!$A36)*(datums=februari!X$5)*(uren))","v":"00:00:00"},{"$f":"SUMPRODUCT((werknemers=februari!$A36)*(datums=februari!Y$5)*(uren))","v":"00:00:00"},{"$f":"SUMPRODUCT((werknemers=februari!$A36)*(datums=februari!Z$5)*(uren))","v":"00:00:00"},{"$f":"SUMPRODUCT((werknemers=februari!$A36)*(datums=februari!AA$5)*(uren))","v":"00:00:00"},{"$f":"SUMPRODUCT((werknemers=februari!$A36)*(datums=februari!AB$5)*(uren))","v":"00:00:00"},{"$f":"SUMPRODUCT((werknemers=februari!$A36)*(datums=februari!AC$5)*(uren))","v":"00:00:00"}]
[]
["CONTROLE",{"$f":"SUMPRODUCT((werknemers=februari!$A38)*(datums=februari!B$5)*(uren))","v":"00:00:00"},{"$f":"SUMPRODUCT((werknemers=februari!$A38)*(datums=februari!C$5)*(uren))","v":"00:00:00"},{"$f":"SUMPRODUCT((werknemers=februari!$A38)*(datums=februari!D$5)*(uren))","v":"00:00:00"},{"$f":"SUMPRODUCT((werknemers=februari!$A38)*(datums=februari!E$5)*(uren))","v":"00:00:00"},{"$f":"SUMPRODUCT((werknemers=februari!$A38)*(datums=februari!F$5)*(uren))","v":"00:00:00"},{"$f":"SUMPRODUCT((werknemers=februari!$A38)*(datums=februari!G$5)*(uren))","v":"00:00:00"},{"$f":"SUMPRODUCT((werknemers=februari!$A38)*(datums=februari!H$5)*(uren))","v":"00:00:00"},{"$f":"SUMPRODUCT((werknemers=februari!$A38)*(datums=februari!I$5)*(uren))","v":"00:00:00"},{"$f":"SUMPRODUCT((werknemers=februari!$A38)*(datums=februari!J$5)*(uren))","v":"00:00:00"},{"$f":"SUMPRODUCT((werknemers=februari!$A38)*(datums=februari!K$5)*(uren))","v":"00:00:00"},{"$f":"SUMPRODUCT((werknemers=februari!$A38)*(datums=februari!L$5)*(uren))","v":"00:00:00"},{"$f":"SUMPRODUCT((werknemers=februari!$A38)*(datums=februari!M$5)*(uren))","v":"00:00:00"},{"$f":"SUMPRODUCT((werknemers=februari!$A38)*(datums=februari!N$5)*(uren))","v":"00:00:00"},{"$f":"SUMPRODUCT((werknemers=februari!$A38)*(datums=februari!O$5)*(uren))","v":"00:00:00"},{"$f":"SUMPRODUCT((werknemers=februari!$A38)*(datums=februari!P$5)*(uren))","v":"00:00:00"},{"$f":"SUMPRODUCT((werknemers=februari!$A38)*(datums=februari!Q$5)*(uren))","v":"00:00:00"},{"$f":"SUMPRODUCT((werknemers=februari!$A38)*(datums=februari!R$5)*(uren))","v":"00:00:00"},{"$f":"SUMPRODUCT((werknemers=februari!$A38)*(datums=februari!S$5)*(uren))","v":"00:00:00"},{"$f":"SUMPRODUCT((werknemers=februari!$A38)*(datums=februari!T$5)*(uren))","v":"00:00:00"},{"$f":"SUMPRODUCT((werknemers=februari!$A38)*(datums=februari!U$5)*(uren))","v":"00:00:00"},{"$f":"SUMPRODUCT((werknemers=februari!$A38)*(datums=februari!V$5)*(uren))","v":"00:00:00"},{"$f":"SUMPRODUCT((werknemers=februari!$A38)*(datums=februari!W$5)*(uren))","v":"00:00:00"},{"$f":"SUMPRODUCT((werknemers=februari!$A38)*(datums=februari!X$5)*(uren))","v":"00:00:00"},{"$f":"SUMPRODUCT((werknemers=februari!$A38)*(datums=februari!Y$5)*(uren))","v":"00:00:00"},{"$f":"SUMPRODUCT((werknemers=februari!$A38)*(datums=februari!Z$5)*(uren))","v":"00:00:00"},{"$f":"SUMPRODUCT((werknemers=februari!$A38)*(datums=februari!AA$5)*(uren))","v":"00:00:00"},{"$f":"SUMPRODUCT((werknemers=februari!$A38)*(datums=februari!AB$5)*(uren))","v":"00:00:00"},{"$f":"SUMPRODUCT((werknemers=februari!$A38)*(datums=februari!AC$5)*(uren))","v":"00:00:00"}]
[]
["CONTROLE",{"$f":"SUMPRODUCT((werknemers=februari!$A40)*(datums=februari!B$5)*(uren))","v":"00:00:00"},{"$f":"SUMPRODUCT((werknemers=februari!$A40)*(datums=februari!C$5)*(uren))","v":"00:00:00"},{"$f":"SUMPRODUCT((werknemers=februari!$A40)*(datums=februari!D$5)*(uren))","v":"00:00:00"},{"$f":"SUMPRODUCT((werknemers=februari!$A40)*(datums=februari!E$5)*(uren))","v":"00:00:00"},{"$f":"SUMPRODUCT((werknemers=februari!$A40)*(datums=februari!F$5)*(uren))","v":"00:00:00"},{"$f":"SUMPRODUCT((werknemers=februari!$A40)*(datums=februari!G$5)*(uren))","v":"00:00:00"},{"$f":"SUMPRODUCT((werknemers=februari!$A40)*(datums=februari!H$5)*(uren))","v":"00:00:00"},{"$f":"SUMPRODUCT((werknemers=februari!$A40)*(datums=februari!I$5)*(uren))","v":"00:00:00"},{"$f":"SUMPRODUCT((werknemers=februari!$A40)*(datums=februari!J$5)*(uren))","v":"00:00:00"},{"$f":"SUMPRODUCT((werknemers=februari!$A40)*(datums=februari!K$5)*(uren))","v":"00:00:00"},{"$f":"SUMPRODUCT((werknemers=februari!$A40)*(datums=februari!L$5)*(uren))","v":"00:00:00"},{"$f":"SUMPRODUCT((werknemers=februari!$A40)*(datums=februari!M$5)*(uren))","v":"00:00:00"},{"$f":"SUMPRODUCT((werknemers=februari!$A40)*(datums=februari!N$5)*(uren))","v":"00:00:00"},{"$f":"SUMPRODUCT((werknemers=februari!$A40)*(datums=februari!O$5)*(uren))","v":"00:00:00"},{"$f":"SUMPRODUCT((werknemers=februari!$A40)*(datums=februari!P$5)*(uren))","v":"00:00:00"},{"$f":"SUMPRODUCT((werknemers=februari!$A40)*(datums=februari!Q$5)*(uren))","v":"00:00:00"},{"$f":"SUMPRODUCT((werknemers=februari!$A40)*(datums=februari!R$5)*(uren))","v":"00:00:00"},{"$f":"SUMPRODUCT((werknemers=februari!$A40)*(datums=februari!S$5)*(uren))","v":"00:00:00"},{"$f":"SUMPRODUCT((werknemers=februari!$A40)*(datums=februari!T$5)*(uren))","v":"00:00:00"},{"$f":"SUMPRODUCT((werknemers=februari!$A40)*(datums=februari!U$5)*(uren))","v":"00:00:00"},{"$f":"SUMPRODUCT((werknemers=februari!$A40)*(datums=februari!V$5)*(uren))","v":"00:00:00"},{"$f":"SUMPRODUCT((werknemers=februari!$A40)*(datums=februari!W$5)*(uren))","v":"00:00:00"},{"$f":"SUMPRODUCT((werknemers=februari!$A40)*(datums=februari!X$5)*(uren))","v":"00:00:00"},{"$f":"SUMPRODUCT((werknemers=februari!$A40)*(datums=februari!Y$5)*(uren))","v":"00:00:00"},{"$f":"SUMPRODUCT((werknemers=februari!$A40)*(datums=februari!Z$5)*(uren))","v":"00:00:00"},{"$f":"SUMPRODUCT((werknemers=februari!$A40)*(datums=februari!AA$5)*(uren))","v":"00:00:00"},{"$f":"SUMPRODUCT((werknemers=februari!$A40)*(datums=februari!AB$5)*(uren))","v":"00:00:00"},{"$f":"SUMPRODUCT((werknemers=februari!$A40)*(datums=februari!AC$5)*(uren))","v":"00:00:00"}]
[]
["CONTROLE",{"$f":"SUMPRODUCT((werknemers=februari!$A42)*(datums=februari!B$5)*(uren))","v":"00:00:00"},{"$f":"SUMPRODUCT((werknemers=februari!$A42)*(datums=februari!C$5)*(uren))","v":"00:00:00"},{"$f":"SUMPRODUCT((werknemers=februari!$A42)*(datums=februari!D$5)*(uren))","v":"00:00:00"},{"$f":"SUMPRODUCT((werknemers=februari!$A42)*(datums=februari!E$5)*(uren))","v":"00:00:00"},{"$f":"SUMPRODUCT((werknemers=februari!$A42)*(datums=februari!F$5)*(uren))","v":"00:00:00"},{"$f":"SUMPRODUCT((werknemers=februari!$A42)*(datums=februari!G$5)*(uren))","v":"00:00:00"},{"$f":"SUMPRODUCT((werknemers=februari!$A42)*(datums=februari!H$5)*(uren))","v":"00:00:00"},{"$f":"SUMPRODUCT((werknemers=februari!$A42)*(datums=februari!I$5)*(uren))","v":"00:00:00"},{"$f":"SUMPRODUCT((werknemers=februari!$A42)*(datums=februari!J$5)*(uren))","v":"00:00:00"},{"$f":"SUMPRODUCT((werknemers=februari!$A42)*(datums=februari!K$5)*(uren))","v":"00:00:00"},{"$f":"SUMPRODUCT((werknemers=februari!$A42)*(datums=februari!L$5)*(uren))","v":"00:00:00"},{"$f":"SUMPRODUCT((werknemers=februari!$A42)*(datums=februari!M$5)*(uren))","v":"00:00:00"},{"$f":"SUMPRODUCT((werknemers=februari!$A42)*(datums=februari!N$5)*(uren))","v":"00:00:00"},{"$f":"SUMPRODUCT((werknemers=februari!$A42)*(datums=februari!O$5)*(uren))","v":"00:00:00"},{"$f":"SUMPRODUCT((werknemers=februari!$A42)*(datums=februari!P$5)*(uren))","v":"00:00:00"},{"$f":"SUMPRODUCT((werknemers=februari!$A42)*(datums=februari!Q$5)*(uren))","v":"00:00:00"},{"$f":"SUMPRODUCT((werknemers=februari!$A42)*(datums=februari!R$5)*(uren))","v":"00:00:00"},{"$f":"SUMPRODUCT((werknemers=februari!$A42)*(datums=februari!S$5)*(uren))","v":"00:00:00"},{"$f":"SUMPRODUCT((werknemers=februari!$A42)*(datums=februari!T$5)*(uren))","v":"00:00:00"},{"$f":"SUMPRODUCT((werknemers=februari!$A42)*(datums=februari!U$5)*(uren))","v":"00:00:00"},{"$f":"SUMPRODUCT((werknemers=februari!$A42)*(datums=februari!V$5)*(uren))","v":"00:00:00"},{"$f":"SUMPRODUCT((werknemers=februari!$A42)*(datums=februari!W$5)*(uren))","v":"00:00:00"},{"$f":"SUMPRODUCT((werknemers=februari!$A42)*(datums=februari!X$5)*(uren))","v":"00:00:00"},{"$f":"SUMPRODUCT((werknemers=februari!$A42)*(datums=februari!Y$5)*(uren))","v":"00:00:00"},{"$f":"SUMPRODUCT((werknemers=februari!$A42)*(datums=februari!Z$5)*(uren))","v":"00:00:00"},{"$f":"SUMPRODUCT((werknemers=februari!$A42)*(datums=februari!AA$5)*(uren))","v":"00:00:00"},{"$f":"SUMPRODUCT((werknemers=februari!$A42)*(datums=februari!AB$5)*(uren))","v":"00:00:00"},{"$f":"SUMPRODUCT((werknemers=februari!$A42)*(datums=februari!AC$5)*(uren))","v":"00:00:00"}]
[]
["CONTROLE",{"$f":"SUMPRODUCT((werknemers=februari!$A44)*(datums=februari!B$5)*(uren))","v":"00:00:00"},{"$f":"SUMPRODUCT((werknemers=februari!$A44)*(datums=februari!C$5)*(uren))","v":"00:00:00"},{"$f":"SUMPRODUCT((werknemers=februari!$A44)*(datums=februari!D$5)*(uren))","v":"00:00:00"},{"$f":"SUMPRODUCT((werknemers=februari!$A44)*(datums=februari!E$5)*(uren))","v":"00:00:00"},{"$f":"SUMPRODUCT((werknemers=februari!$A44)*(datums=februari!F$5)*(uren))","v":"00:00:00"},{"$f":"SUMPRODUCT((werknemers=februari!$A44)*(datums=februari!G$5)*(uren))","v":"00:00:00"},{"$f":"SUMPRODUCT((werknemers=februari!$A44)*(datums=februari!H$5)*(uren))","v":"00:00:00"},{"$f":"SUMPRODUCT((werknemers=februari!$A44)*(datums=februari!I$5)*(uren))","v":"00:00:00"},{"$f":"SUMPRODUCT((werknemers=februari!$A44)*(datums=februari!J$5)*(uren))","v":"00:00:00"},{"$f":"SUMPRODUCT((werknemers=februari!$A44)*(datums=februari!K$5)*(uren))","v":"00:00:00"},{"$f":"SUMPRODUCT((werknemers=februari!$A44)*(datums=februari!L$5)*(uren))","v":"00:00:00"},{"$f":"SUMPRODUCT((werknemers=februari!$A44)*(datums=februari!M$5)*(uren))","v":"00:00:00"},{"$f":"SUMPRODUCT((werknemers=februari!$A44)*(datums=februari!N$5)*(uren))","v":"00:00:00"},{"$f":"SUMPRODUCT((werknemers=februari!$A44)*(datums=februari!O$5)*(uren))","v":"00:00:00"},{"$f":"SUMPRODUCT((werknemers=februari!$A44)*(datums=februari!P$5)*(uren))","v":"00:00:00"},{"$f":"SUMPRODUCT((werknemers=februari!$A44)*(datums=februari!Q$5)*(uren))","v":"00:00:00"},{"$f":"SUMPRODUCT((werknemers=februari!$A44)*(datums=februari!R$5)*(uren))","v":"00:00:00"},{"$f":"SUMPRODUCT((werknemers=februari!$A44)*(datums=februari!S$5)*(uren))","v":"00:00:00"},{"$f":"SUMPRODUCT((werknemers=februari!$A44)*(datums=februari!T$5)*(uren))","v":"00:00:00"},{"$f":"SUMPRODUCT((werknemers=februari!$A44)*(datums=februari!U$5)*(uren))","v":"00:00:00"},{"$f":"SUMPRODUCT((werknemers=februari!$A44)*(datums=februari!V$5)*(uren))","v":"00:00:00"},{"$f":"SUMPRODUCT((werknemers=februari!$A44)*(datums=februari!W$5)*(uren))","v":"00:00:00"},{"$f":"SUMPRODUCT((werknemers=februari!$A44)*(datums=februari!X$5)*(uren))","v":"00:00:00"},{"$f":"SUMPRODUCT((werknemers=februari!$A44)*(datums=februari!Y$5)*(uren))","v":"00:00:00"},{"$f":"SUMPRODUCT((werknemers=februari!$A44)*(datums=februari!Z$5)*(uren))","v":"00:00:00"},{"$f":"SUMPRODUCT((werknemers=februari!$A44)*(datums=februari!AA$5)*(uren))","v":"00:00:00"},{"$f":"SUMPRODUCT((werknemers=februari!$A44)*(datums=februari!AB$5)*(uren))","v":"00:00:00"},{"$f":"SUMPRODUCT((werknemers=februari!$A44)*(datums=februari!AC$5)*(uren))","v":"00:00:00"}]

{"sheet":"maart","index":4,"n_rows":45,"n_cols":32,"rows_kept":45,"cut":false,"hidden":false,"merged":[[3,0,4,0],[1,1,1,3],[1,5,1,7],[1,9,1,11]]}
[]
[null,"verlof (V)",null,null,null,"ziek (Z)",null,null,null,"feestdag (F)"]
[]
[{"$f":"YEAR(B5)","v":2018},{"$f":"WEEKDAY(B5)","v":"1900-01-05"},{"$f":"WEEKDAY(C5)","v":"1900-01-06"},"1900-01-07","1900-01-01","1900-01-02","1900-01-03","1900-01-04","1900-01-05","1900-01-06","1900-01-07","1900-01-01","1900-01-02","1900-01-03","1900-01-04","1900-01-05","1900-01-06","1900-01-07","1900-01-01","1900-01-02","1900-01-03","1900-01-04","1900-01-05","1900-01-06","1900-01-07","1900-01-01","1900-01-02","1900-01-03","1900-01-04","1900-01-05","1900-01-06","1900-01-07"]
[null,"2018-03-01","2018-03-02","2018-03-03","2018-03-04","2018-03-05","2018-03-06","2018-03-07","2018-03-08","2018-03-09","2018-03-10","2018-03-11","2018-03-12","2018-03-13","2018-03-14","2018-03-15","2018-03-16","2018-03-17","2018-03-18","2018-03-19","2018-03-20","2018-03-21","2018-03-22","2018-03-23","2018-03-24","2018-03-25","2018-03-26","2018-03-27","2018-03-28","2018-03-29","2018-03-30","2018-03-31"]
[]
["CONTROLE",{"$f":"SUMPRODUCT((werknemers=maart!$A6)*(datums=maart!B$5)*(uren))","v":"00:00:00"},{"$f":"SUMPRODUCT((werknemers=maart!$A6)*(datums=maart!C$5)*(uren))","v":"00:00:00"},{"$f":"SUMPRODUCT((werknemers=maart!$A6)*(datums=maart!D$5)*(uren))","v":"00:00:00"},{"$f":"SUMPRODUCT((werknemers=maart!$A6)*(datums=maart!E$5)*(uren))","v":"00:00:00"},{"$f":"SUMPRODUCT((werknemers=maart!$A6)*(datums=maart!F$5)*(uren))","v":"00:00:00"},{"$f":"SUMPRODUCT((werknemers=maart!$A6)*(datums=maart!G$5)*(uren))","v":"00:00:00"},{"$f":"SUMPRODUCT((werknemers=maart!$A6)*(datums=maart!H$5)*(uren))","v":"00:00:00"},{"$f":"SUMPRODUCT((werknemers=maart!$A6)*(datums=maart!I$5)*(uren))","v":"00:00:00"},{"$f":"SUMPRODUCT((werknemers=maart!$A6)*(datums=maart!J$5)*(uren))","v":"00:00:00"},{"$f":"SUMPRODUCT((werknemers=maart!$A6)*(datums=maart!K$5)*(uren))","v":"00:00:00"},{"$f":"SUMPRODUCT((werknemers=maart!$A6)*(datums=maart!L$5)*(uren))","v":"00:00:00"},{"$f":"SUMPRODUCT((werknemers=maart!$A6)*(datums=maart!M$5)*(uren))","v":"00:00:00"},{"$f":"SUMPRODUCT((werknemers=maart!$A6)*(datums=maart!N$5)*(uren))","v":"00:00:00"},{"$f":"SUMPRODUCT((werknemers=maart!$A6)*(datums=maart!O$5)*(uren))","v":"00:00:00"},{"$f":"SUMPRODUCT((werknemers=maart!$A6)*(datums=maart!P$5)*(uren))","v":"00:00:00"},{"$f":"SUMPRODUCT((werknemers=maart!$A6)*(datums=maart!Q$5)*(uren))","v":"00:00:00"},{"$f":"SUMPRODUCT((werknemers=maart!$A6)*(datums=maart!R$5)*(uren))","v":"00:00:00"},{"$f":"SUMPRODUCT((werknemers=maart!$A6)*(datums=maart!S$5)*(uren))","v":"00:00:00"},{"$f":"SUMPRODUCT((werknemers=maart!$A6)*(datums=maart!T$5)*(uren))","v":"00:00:00"},{"$f":"SUMPRODUCT((werknemers=maart!$A6)*(datums=maart!U$5)*(uren))","v":"00:00:00"},{"$f":"SUMPRODUCT((werknemers=maart!$A6)*(datums=maart!V$5)*(uren))","v":"00:00:00"},{"$f":"SUMPRODUCT((werknemers=maart!$A6)*(datums=maart!W$5)*(uren))","v":"00:00:00"},{"$f":"SUMPRODUCT((werknemers=maart!$A6)*(datums=maart!X$5)*(uren))","v":"00:00:00"},{"$f":"SUMPRODUCT((werknemers=maart!$A6)*(datums=maart!Y$5)*(uren))","v":"00:00:00"},{"$f":"SUMPRODUCT((werknemers=maart!$A6)*(datums=maart!Z$5)*(uren))","v":"00:00:00"},{"$f":"SUMPRODUCT((werknemers=maart!$A6)*(datums=maart!AA$5)*(uren))","v":"00:00:00"},{"$f":"SUMPRODUCT((werknemers=maart!$A6)*(datums=maart!AB$5)*(uren))","v":"00:00:00"},{"$f":"SUMPRODUCT((werknemers=maart!$A6)*(datums=maart!AC$5)*(uren))","v":"00:00:00"},{"$f":"SUMPRODUCT((werknemers=maart!$A6)*(datums=maart!AD$5)*(uren))","v":"00:00:00"},{"$f":"SUMPRODUCT((werknemers=maart!$A6)*(datums=maart!AE$5)*(uren))","v":"00:00:00"},{"$f":"SUMPRODUCT((werknemers=maart!$A6)*(datums=maart!AF$5)*(uren))","v":"00:00:00"}]
[]
["CONTROLE",{"$f":"SUMPRODUCT((werknemers=maart!$A8)*(datums=maart!B$5)*(uren))","v":"00:00:00"},{"$f":"SUMPRODUCT((werknemers=maart!$A8)*(datums=maart!C$5)*(uren))","v":"00:00:00"},{"$f":"SUMPRODUCT((werknemers=maart!$A8)*(datums=maart!D$5)*(uren))","v":"00:00:00"},{"$f":"SUMPRODUCT((werknemers=maart!$A8)*(datums=maart!E$5)*(uren))","v":"00:00:00"},{"$f":"SUMPRODUCT((werknemers=maart!$A8)*(datums=maart!F$5)*(uren))","v":"00:00:00"},{"$f":"SUMPRODUCT((werknemers=maart!$A8)*(datums=maart!G$5)*(uren))","v":"00:00:00"},{"$f":"SUMPRODUCT((werknemers=maart!$A8)*(datums=maart!H$5)*(uren))","v":"00:00:00"},{"$f":"SUMPRODUCT((werknemers=maart!$A8)*(datums=maart!I$5)*(uren))","v":"00:00:00"},{"$f":"SUMPRODUCT((werknemers=maart!$A8)*(datums=maart!J$5)*(uren))","v":"00:00:00"},{"$f":"SUMPRODUCT((werknemers=maart!$A8)*(datums=maart!K$5)*(uren))","v":"00:00:00"},{"$f":"SUMPRODUCT((werknemers=maart!$A8)*(datums=maart!L$5)*(uren))","v":"00:00:00"},{"$f":"SUMPRODUCT((werknemers=maart!$A8)*(datums=maart!M$5)*(uren))","v":"00:00:00"},{"$f":"SUMPRODUCT((werknemers=maart!$A8)*(datums=maart!N$5)*(uren))","v":"00:00:00"},{"$f":"SUMPRODUCT((werknemers=maart!$A8)*(datums=maart!O$5)*(uren))","v":"00:00:00"},{"$f":"SUMPRODUCT((werknemers=maart!$A8)*(datums=maart!P$5)*(uren))","v":"00:00:00"},{"$f":"SUMPRODUCT((werknemers=maart!$A8)*(datums=maart!Q$5)*(uren))","v":"00:00:00"},{"$f":"SUMPRODUCT((werknemers=maart!$A8)*(datums=maart!R$5)*(uren))","v":"00:00:00"},{"$f":"SUMPRODUCT((werknemers=maart!$A8)*(datums=maart!S$5)*(uren))","v":"00:00:00"},{"$f":"SUMPRODUCT((werknemers=maart!$A8)*(datums=maart!T$5)*(uren))","v":"00:00:00"},{"$f":"SUMPRODUCT((werknemers=maart!$A8)*(datums=maart!U$5)*(uren))","v":"00:00:00"},{"$f":"SUMPRODUCT((werknemers=maart!$A8)*(datums=maart!V$5)*(uren))","v":"00:00:00"},{"$f":"SUMPRODUCT((werknemers=maart!$A8)*(datums=maart!W$5)*(uren))","v":"00:00:00"},{"$f":"SUMPRODUCT((werknemers=maart!$A8)*(datums=maart!X$5)*(uren))","v":"00:00:00"},{"$f":"SUMPRODUCT((werknemers=maart!$A8)*(datums=maart!Y$5)*(uren))","v":"00:00:00"},{"$f":"SUMPRODUCT((werknemers=maart!$A8)*(datums=maart!Z$5)*(uren))","v":"00:00:00"},{"$f":"SUMPRODUCT((werknemers=maart!$A8)*(datums=maart!AA$5)*(uren))","v":"00:00:00"},{"$f":"SUMPRODUCT((werknemers=maart!$A8)*(datums=maart!AB$5)*(uren))","v":"00:00:00"},{"$f":"SUMPRODUCT((werknemers=maart!$A8)*(datums=maart!AC$5)*(uren))","v":"00:00:00"},{"$f":"SUMPRODUCT((werknemers=maart!$A8)*(datums=maart!AD$5)*(uren))","v":"00:00:00"},{"$f":"SUMPRODUCT((werknemers=maart!$A8)*(datums=maart!AE$5)*(uren))","v":"00:00:00"},{"$f":"SUMPRODUCT((werknemers=maart!$A8)*(datums=maart!AF$5)*(uren))","v":"00:00:00"}]
[]
["CONTROLE",{"$f":"SUMPRODUCT((werknemers=maart!$A10)*(datums=maart!B$5)*(uren))","v":"00:00:00"},{"$f":"SUMPRODUCT((werknemers=maart!$A10)*(datums=maart!C$5)*(uren))","v":"00:00:00"},{"$f":"SUMPRODUCT((werknemers=maart!$A10)*(datums=maart!D$5)*(uren))","v":"00:00:00"},{"$f":"SUMPRODUCT((werknemers=maart!$A10)*(datums=maart!E$5)*(uren))","v":"00:00:00"},{"$f":"SUMPRODUCT((werknemers=maart!$A10)*(datums=maart!F$5)*(uren))","v":"00:00:00"},{"$f":"SUMPRODUCT((werknemers=maart!$A10)*(datums=maart!G$5)*(uren))","v":"00:00:00"},{"$f":"SUMPRODUCT((werknemers=maart!$A10)*(datums=maart!H$5)*(uren))","v":"00:00:00"},{"$f":"SUMPRODUCT((werknemers=maart!$A10)*(datums=maart!I$5)*(uren))","v":"00:00:00"},{"$f":"SUMPRODUCT((werknemers=maart!$A10)*(datums=maart!J$5)*(uren))","v":"00:00:00"},{"$f":"SUMPRODUCT((werknemers=maart!$A10)*(datums=maart!K$5)*(uren))","v":"00:00:00"},{"$f":"SUMPRODUCT((werknemers=maart!$A10)*(datums=maart!L$5)*(uren))","v":"00:00:00"},{"$f":"SUMPRODUCT((werknemers=maart!$A10)*(datums=maart!M$5)*(uren))","v":"00:00:00"},{"$f":"SUMPRODUCT((werknemers=maart!$A10)*(datums=maart!N$5)*(uren))","v":"00:00:00"},{"$f":"SUMPRODUCT((werknemers=maart!$A10)*(datums=maart!O$5)*(uren))","v":"00:00:00"},{"$f":"SUMPRODUCT((werknemers=maart!$A10)*(datums=maart!P$5)*(uren))","v":"00:00:00"},{"$f":"SUMPRODUCT((werknemers=maart!$A10)*(datums=maart!Q$5)*(uren))","v":"00:00:00"},{"$f":"SUMPRODUCT((werknemers=maart!$A10)*(datums=maart!R$5)*(uren))","v":"00:00:00"},{"$f":"SUMPRODUCT((werknemers=maart!$A10)*(datums=maart!S$5)*(uren))","v":"00:00:00"},{"$f":"SUMPRODUCT((werknemers=maart!$A10)*(datums=maart!T$5)*(uren))","v":"00:00:00"},{"$f":"SUMPRODUCT((werknemers=maart!$A10)*(datums=maart!U$5)*(uren))","v":"00:00:00"},{"$f":"SUMPRODUCT((werknemers=maart!$A10)*(datums=maart!V$5)*(uren))","v":"00:00:00"},{"$f":"SUMPRODUCT((werknemers=maart!$A10)*(datums=maart!W$5)*(uren))","v":"00:00:00"},{"$f":"SUMPRODUCT((werknemers=maart!$A10)*(datums=maart!X$5)*(uren))","v":"00:00:00"},{"$f":"SUMPRODUCT((werknemers=maart!$A10)*(datums=maart!Y$5)*(uren))","v":"00:00:00"},{"$f":"SUMPRODUCT((werknemers=maart!$A10)*(datums=maart!Z$5)*(uren))","v":"00:00:00"},{"$f":"SUMPRODUCT((werknemers=maart!$A10)*(datums=maart!AA$5)*(uren))","v":"00:00:00"},{"$f":"SUMPRODUCT((werknemers=maart!$A10)*(datums=maart!AB$5)*(uren))","v":"00:00:00"},{"$f":"SUMPRODUCT((werknemers=maart!$A10)*(datums=maart!AC$5)*(uren))","v":"00:00:00"},{"$f":"SUMPRODUCT((werknemers=maart!$A10)*(datums=maart!AD$5)*(uren))","v":"00:00:00"},{"$f":"SUMPRODUCT((werknemers=maart!$A10)*(datums=maart!AE$5)*(uren))","v":"00:00:00"},{"$f":"SUMPRODUCT((werknemers=maart!$A10)*(datums=maart!AF$5)*(uren))","v":"00:00:00"}]
[]
["CONTROLE",{"$f":"SUMPRODUCT((werknemers=maart!$A12)*(datums=maart!B$5)*(uren))","v":"00:00:00"},{"$f":"SUMPRODUCT((werknemers=maart!$A12)*(datums=maart!C$5)*(uren))","v":"00:00:00"},{"$f":"SUMPRODUCT((werknemers=maart!$A12)*(datums=maart!D$5)*(uren))","v":"00:00:00"},{"$f":"SUMPRODUCT((werknemers=maart!$A12)*(datums=maart!E$5)*(uren))","v":"00:00:00"},{"$f":"SUMPRODUCT((werknemers=maart!$A12)*(datums=maart!F$5)*(uren))","v":"00:00:00"},{"$f":"SUMPRODUCT((werknemers=maart!$A12)*(datums=maart!G$5)*(uren))","v":"00:00:00"},{"$f":"SUMPRODUCT((werknemers=maart!$A12)*(datums=maart!H$5)*(uren))","v":"00:00:00"},{"$f":"SUMPRODUCT((werknemers=maart!$A12)*(datums=maart!I$5)*(uren))","v":"00:00:00"},{"$f":"SUMPRODUCT((werknemers=maart!$A12)*(datums=maart!J$5)*(uren))","v":"00:00:00"},{"$f":"SUMPRODUCT((werknemers=maart!$A12)*(datums=maart!K$5)*(uren))","v":"00:00:00"},{"$f":"SUMPRODUCT((werknemers=maart!$A12)*(datums=maart!L$5)*(uren))","v":"00:00:00"},{"$f":"SUMPRODUCT((werknemers=maart!$A12)*(datums=maart!M$5)*(uren))","v":"00:00:00"},{"$f":"SUMPRODUCT((werknemers=maart!$A12)*(datums=maart!N$5)*(uren))","v":"00:00:00"},{"$f":"SUMPRODUCT((werknemers=maart!$A12)*(datums=maart!O$5)*(uren))","v":"00:00:00"},{"$f":"SUMPRODUCT((werknemers=maart!$A12)*(datums=maart!P$5)*(uren))","v":"00:00:00"},{"$f":"SUMPRODUCT((werknemers=maart!$A12)*(datums=maart!Q$5)*(uren))","v":"00:00:00"},{"$f":"SUMPRODUCT((werknemers=maart!$A12)*(datums=maart!R$5)*(uren))","v":"00:00:00"},{"$f":"SUMPRODUCT((werknemers=maart!$A12)*(datums=maart!S$5)*(uren))","v":"00:00:00"},{"$f":"SUMPRODUCT((werknemers=maart!$A12)*(datums=maart!T$5)*(uren))","v":"00:00:00"},{"$f":"SUMPRODUCT((werknemers=maart!$A12)*(datums=maart!U$5)*(uren))","v":"00:00:00"},{"$f":"SUMPRODUCT((werknemers=maart!$A12)*(datums=maart!V$5)*(uren))","v":"00:00:00"},{"$f":"SUMPRODUCT((werknemers=maart!$A12)*(datums=maart!W$5)*(uren))","v":"00:00:00"},{"$f":"SUMPRODUCT((werknemers=maart!$A12)*(datums=maart!X$5)*(uren))","v":"00:00:00"},{"$f":"SUMPRODUCT((werknemers=maart!$A12)*(datums=maart!Y$5)*(uren))","v":"00:00:00"},{"$f":"SUMPRODUCT((werknemers=maart!$A12)*(datums=maart!Z$5)*(uren))","v":"00:00:00"},{"$f":"SUMPRODUCT((werknemers=maart!$A12)*(datums=maart!AA$5)*(uren))","v":"00:00:00"},{"$f":"SUMPRODUCT((werknemers=maart!$A12)*(datums=maart!AB$5)*(uren))","v":"00:00:00"},{"$f":"SUMPRODUCT((werknemers=maart!$A12)*(datums=maart!AC$5)*(uren))","v":"00:00:00"},{"$f":"SUMPRODUCT((werknemers=maart!$A12)*(datums=maart!AD$5)*(uren))","v":"00:00:00"},{"$f":"SUMPRODUCT((werknemers=maart!$A12)*(datums=maart!AE$5)*(uren))","v":"00:00:00"},{"$f":"SUMPRODUCT((werknemers=maart!$A12)*(datums=maart!AF$5)*(uren))","v":"00:00:00"}]
[]
["CONTROLE",{"$f":"SUMPRODUCT((werknemers=maart!$A14)*(datums=maart!B$5)*(uren))","v":"00:00:00"},{"$f":"SUMPRODUCT((werknemers=maart!$A14)*(datums=maart!C$5)*(uren))","v":"00:00:00"},{"$f":"SUMPRODUCT((werknemers=maart!$A14)*(datums=maart!D$5)*(uren))","v":"00:00:00"},{"$f":"SUMPRODUCT((werknemers=maart!$A14)*(datums=maart!E$5)*(uren))","v":"00:00:00"},{"$f":"SUMPRODUCT((werknemers=maart!$A14)*(datums=maart!F$5)*(uren))","v":"00:00:00"},{"$f":"SUMPRODUCT((werknemers=maart!$A14)*(datums=maart!G$5)*(uren))","v":"00:00:00"},{"$f":"SUMPRODUCT((werknemers=maart!$A14)*(datums=maart!H$5)*(uren))","v":"00:00:00"},{"$f":"SUMPRODUCT((werknemers=maart!$A14)*(datums=maart!I$5)*(uren))","v":"00:00:00"},{"$f":"SUMPRODUCT((werknemers=maart!$A14)*(datums=maart!J$5)*(uren))","v":"00:00:00"},{"$f":"SUMPRODUCT((werknemers=maart!$A14)*(datums=maart!K$5)*(uren))","v":"00:00:00"},{"$f":"SUMPRODUCT((werknemers=maart!$A14)*(datums=maart!L$5)*(uren))","v":"00:00:00"},{"$f":"SUMPRODUCT((werknemers=maart!$A14)*(datums=maart!M$5)*(uren))","v":"00:00:00"},{"$f":"SUMPRODUCT((werknemers=maart!$A14)*(datums=maart!N$5)*(uren))","v":"00:00:00"},{"$f":"SUMPRODUCT((werknemers=maart!$A14)*(datums=maart!O$5)*(uren))","v":"00:00:00"},{"$f":"SUMPRODUCT((werknemers=maart!$A14)*(datums=maart!P$5)*(uren))","v":"00:00:00"},{"$f":"SUMPRODUCT((werknemers=maart!$A14)*(datums=maart!Q$5)*(uren))","v":"00:00:00"},{"$f":"SUMPRODUCT((werknemers=maart!$A14)*(datums=maart!R$5)*(uren))","v":"00:00:00"},{"$f":"SUMPRODUCT((werknemers=maart!$A14)*(datums=maart!S$5)*(uren))","v":"00:00:00"},{"$f":"SUMPRODUCT((werknemers=maart!$A14)*(datums=maart!T$5)*(uren))","v":"00:00:00"},{"$f":"SUMPRODUCT((werknemers=maart!$A14)*(datums=maart!U$5)*(uren))","v":"00:00:00"},{"$f":"SUMPRODUCT((werknemers=maart!$A14)*(datums=maart!V$5)*(uren))","v":"00:00:00"},{"$f":"SUMPRODUCT((werknemers=maart!$A14)*(datums=maart!W$5)*(uren))","v":"00:00:00"},{"$f":"SUMPRODUCT((werknemers=maart!$A14)*(datums=maart!X$5)*(uren))","v":"00:00:00"},{"$f":"SUMPRODUCT((werknemers=maart!$A14)*(datums=maart!Y$5)*(uren))","v":"00:00:00"},{"$f":"SUMPRODUCT((werknemers=maart!$A14)*(datums=maart!Z$5)*(uren))","v":"00:00:00"},{"$f":"SUMPRODUCT((werknemers=maart!$A14)*(datums=maart!AA$5)*(uren))","v":"00:00:00"},{"$f":"SUMPRODUCT((werknemers=maart!$A14)*(datums=maart!AB$5)*(uren))","v":"00:00:00"},{"$f":"SUMPRODUCT((werknemers=maart!$A14)*(datums=maart!AC$5)*(uren))","v":"00:00:00"},{"$f":"SUMPRODUCT((werknemers=maart!$A14)*(datums=maart!AD$5)*(uren))","v":"00:00:00"},{"$f":"SUMPRODUCT((werknemers=maart!$A14)*(datums=maart!AE$5)*(uren))","v":"00:00:00"},{"$f":"SUMPRODUCT((werknemers=maart!$A14)*(datums=maart!AF$5)*(uren))","v":"00:00:00"}]
[]
["CONTROLE",{"$f":"SUMPRODUCT((werknemers=maart!$A16)*(datums=maart!B$5)*(uren))","v":"00:00:00"},{"$f":"SUMPRODUCT((werknemers=maart!$A16)*(datums=maart!C$5)*(uren))","v":"00:00:00"},{"$f":"SUMPRODUCT((werknemers=maart!$A16)*(datums=maart!D$5)*(uren))","v":"00:00:00"},{"$f":"SUMPRODUCT((werknemers=maart!$A16)*(datums=maart!E$5)*(uren))","v":"00:00:00"},{"$f":"SUMPRODUCT((werknemers=maart!$A16)*(datums=maart!F$5)*(uren))","v":"00:00:00"},{"$f":"SUMPRODUCT((werknemers=maart!$A16)*(datums=maart!G$5)*(uren))","v":"00:00:00"},{"$f":"SUMPRODUCT((werknemers=maart!$A16)*(datums=maart!H$5)*(uren))","v":"00:00:00"},{"$f":"SUMPRODUCT((werknemers=maart!$A16)*(datums=maart!I$5)*(uren))","v":"00:00:00"},{"$f":"SUMPRODUCT((werknemers=maart!$A16)*(datums=maart!J$5)*(uren))","v":"00:00:00"},{"$f":"SUMPRODUCT((werknemers=maart!$A16)*(datums=maart!K$5)*(uren))","v":"00:00:00"},{"$f":"SUMPRODUCT((werknemers=maart!$A16)*(datums=maart!L$5)*(uren))","v":"00:00:00"},{"$f":"SUMPRODUCT((werknemers=maart!$A16)*(datums=maart!M$5)*(uren))","v":"00:00:00"},{"$f":"SUMPRODUCT((werknemers=maart!$A16)*(datums=maart!N$5)*(uren))","v":"00:00:00"},{"$f":"SUMPRODUCT((werknemers=maart!$A16)*(datums=maart!O$5)*(uren))","v":"00:00:00"},{"$f":"SUMPRODUCT((werknemers=maart!$A16)*(datums=maart!P$5)*(uren))","v":"00:00:00"},{"$f":"SUMPRODUCT((werknemers=maart!$A16)*(datums=maart!Q$5)*(uren))","v":"00:00:00"},{"$f":"SUMPRODUCT((werknemers=maart!$A16)*(datums=maart!R$5)*(uren))","v":"00:00:00"},{"$f":"SUMPRODUCT((werknemers=maart!$A16)*(datums=maart!S$5)*(uren))","v":"00:00:00"},{"$f":"SUMPRODUCT((werknemers=maart!$A16)*(datums=maart!T$5)*(uren))","v":"00:00:00"},{"$f":"SUMPRODUCT((werknemers=maart!$A16)*(datums=maart!U$5)*(uren))","v":"00:00:00"},{"$f":"SUMPRODUCT((werknemers=maart!$A16)*(datums=maart!V$5)*(uren))","v":"00:00:00"},{"$f":"SUMPRODUCT((werknemers=maart!$A16)*(datums=maart!W$5)*(uren))","v":"00:00:00"},{"$f":"SUMPRODUCT((werknemers=maart!$A16)*(datums=maart!X$5)*(uren))","v":"00:00:00"},{"$f":"SUMPRODUCT((werknemers=maart!$A16)*(datums=maart!Y$5)*(uren))","v":"00:00:00"},{"$f":"SUMPRODUCT((werknemers=maart!$A16)*(datums=maart!Z$5)*(uren))","v":"00:00:00"},{"$f":"SUMPRODUCT((werknemers=maart!$A16)*(datums=maart!AA$5)*(uren))","v":"00:00:00"},{"$f":"SUMPRODUCT((werknemers=maart!$A16)*(datums=maart!AB$5)*(uren))","v":"00:00:00"},{"$f":"SUMPRODUCT((werknemers=maart!$A16)*(datums=maart!AC$5)*(uren))","v":"00:00:00"},{"$f":"SUMPRODUCT((werknemers=maart!$A16)*(datums=maart!AD$5)*(uren))","v":"00:00:00"},{"$f":"SUMPRODUCT((werknemers=maart!$A16)*(datums=maart!AE$5)*(uren))","v":"00:00:00"},{"$f":"SUMPRODUCT((werknemers=maart!$A16)*(datums=maart!AF$5)*(uren))","v":"00:00:00"}]
[]
["CONTROLE",{"$f":"SUMPRODUCT((werknemers=maart!$A18)*(datums=maart!B$5)*(uren))","v":"00:00:00"},{"$f":"SUMPRODUCT((werknemers=maart!$A18)*(datums=maart!C$5)*(uren))","v":"00:00:00"},{"$f":"SUMPRODUCT((werknemers=maart!$A18)*(datums=maart!D$5)*(uren))","v":"00:00:00"},{"$f":"SUMPRODUCT((werknemers=maart!$A18)*(datums=maart!E$5)*(uren))","v":"00:00:00"},{"$f":"SUMPRODUCT((werknemers=maart!$A18)*(datums=maart!F$5)*(uren))","v":"00:00:00"},{"$f":"SUMPRODUCT((werknemers=maart!$A18)*(datums=maart!G$5)*(uren))","v":"00:00:00"},{"$f":"SUMPRODUCT((werknemers=maart!$A18)*(datums=maart!H$5)*(uren))","v":"00:00:00"},{"$f":"SUMPRODUCT((werknemers=maart!$A18)*(datums=maart!I$5)*(uren))","v":"00:00:00"},{"$f":"SUMPRODUCT((werknemers=maart!$A18)*(datums=maart!J$5)*(uren))","v":"00:00:00"},{"$f":"SUMPRODUCT((werknemers=maart!$A18)*(datums=maart!K$5)*(uren))","v":"00:00:00"},{"$f":"SUMPRODUCT((werknemers=maart!$A18)*(datums=maart!L$5)*(uren))","v":"00:00:00"},{"$f":"SUMPRODUCT((werknemers=maart!$A18)*(datums=maart!M$5)*(uren))","v":"00:00:00"},{"$f":"SUMPRODUCT((werknemers=maart!$A18)*(datums=maart!N$5)*(uren))","v":"00:00:00"},{"$f":"SUMPRODUCT((werknemers=maart!$A18)*(datums=maart!O$5)*(uren))","v":"00:00:00"},{"$f":"SUMPRODUCT((werknemers=maart!$A18)*(datums=maart!P$5)*(uren))","v":"00:00:00"},{"$f":"SUMPRODUCT((werknemers=maart!$A18)*(datums=maart!Q$5)*(uren))","v":"00:00:00"},{"$f":"SUMPRODUCT((werknemers=maart!$A18)*(datums=maart!R$5)*(uren))","v":"00:00:00"},{"$f":"SUMPRODUCT((werknemers=maart!$A18)*(datums=maart!S$5)*(uren))","v":"00:00:00"},{"$f":"SUMPRODUCT((werknemers=maart!$A18)*(datums=maart!T$5)*(uren))","v":"00:00:00"},{"$f":"SUMPRODUCT((werknemers=maart!$A18)*(datums=maart!U$5)*(uren))","v":"00:00:00"},{"$f":"SUMPRODUCT((werknemers=maart!$A18)*(datums=maart!V$5)*(uren))","v":"00:00:00"},{"$f":"SUMPRODUCT((werknemers=maart!$A18)*(datums=maart!W$5)*(uren))","v":"00:00:00"},{"$f":"SUMPRODUCT((werknemers=maart!$A18)*(datums=maart!X$5)*(uren))","v":"00:00:00"},{"$f":"SUMPRODUCT((werknemers=maart!$A18)*(datums=maart!Y$5)*(uren))","v":"00:00:00"},{"$f":"SUMPRODUCT((werknemers=maart!$A18)*(datums=maart!Z$5)*(uren))","v":"00:00:00"},{"$f":"SUMPRODUCT((werknemers=maart!$A18)*(datums=maart!AA$5)*(uren))","v":"00:00:00"},{"$f":"SUMPRODUCT((werknemers=maart!$A18)*(datums=maart!AB$5)*(uren))","v":"00:00:00"},{"$f":"SUMPRODUCT((werknemers=maart!$A18)*(datums=maart!AC$5)*(uren))","v":"00:00:00"},{"$f":"SUMPRODUCT((werknemers=maart!$A18)*(datums=maart!AD$5)*(uren))","v":"00:00:00"},{"$f":"SUMPRODUCT((werknemers=maart!$A18)*(datums=maart!AE$5)*(uren))","v":"00:00:00"},{"$f":"SUMPRODUCT((werknemers=maart!$A18)*(datums=maart!AF$5)*(uren))","v":"00:00:00"}]
[]
["CONTROLE",{"$f":"SUMPRODUCT((werknemers=maart!$A20)*(datums=maart!B$5)*(uren))","v":"00:00:00"},{"$f":"SUMPRODUCT((werknemers=maart!$A20)*(datums=maart!C$5)*(uren))","v":"00:00:00"},{"$f":"SUMPRODUCT((werknemers=maart!$A20)*(datums=maart!D$5)*(uren))","v":"00:00:00"},{"$f":"SUMPRODUCT((werknemers=maart!$A20)*(datums=maart!E$5)*(uren))","v":"00:00:00"},{"$f":"SUMPRODUCT((werknemers=maart!$A20)*(datums=maart!F$5)*(uren))","v":"00:00:00"},{"$f":"SUMPRODUCT((werknemers=maart!$A20)*(datums=maart!G$5)*(uren))","v":"00:00:00"},{"$f":"SUMPRODUCT((werknemers=maart!$A20)*(datums=maart!H$5)*(uren))","v":"00:00:00"},{"$f":"SUMPRODUCT((werknemers=maart!$A20)*(datums=maart!I$5)*(uren))","v":"00:00:00"},{"$f":"SUMPRODUCT((werknemers=maart!$A20)*(datums=maart!J$5)*(uren))","v":"00:00:00"},{"$f":"SUMPRODUCT((werknemers=maart!$A20)*(datums=maart!K$5)*(uren))","v":"00:00:00"},{"$f":"SUMPRODUCT((werknemers=maart!$A20)*(datums=maart!L$5)*(uren))","v":"00:00:00"},{"$f":"SUMPRODUCT((werknemers=maart!$A20)*(datums=maart!M$5)*(uren))","v":"00:00:00"},{"$f":"SUMPRODUCT((werknemers=maart!$A20)*(datums=maart!N$5)*(uren))","v":"00:00:00"},{"$f":"SUMPRODUCT((werknemers=maart!$A20)*(datums=maart!O$5)*(uren))","v":"00:00:00"},{"$f":"SUMPRODUCT((werknemers=maart!$A20)*(datums=maart!P$5)*(uren))","v":"00:00:00"},{"$f":"SUMPRODUCT((werknemers=maart!$A20)*(datums=maart!Q$5)*(uren))","v":"00:00:00"},{"$f":"SUMPRODUCT((werknemers=maart!$A20)*(datums=maart!R$5)*(uren))","v":"00:00:00"},{"$f":"SUMPRODUCT((werknemers=maart!$A20)*(datums=maart!S$5)*(uren))","v":"00:00:00"},{"$f":"SUMPRODUCT((werknemers=maart!$A20)*(datums=maart!T$5)*(uren))","v":"00:00:00"},{"$f":"SUMPRODUCT((werknemers=maart!$A20)*(datums=maart!U$5)*(uren))","v":"00:00:00"},{"$f":"SUMPRODUCT((werknemers=maart!$A20)*(datums=maart!V$5)*(uren))","v":"00:00:00"},{"$f":"SUMPRODUCT((werknemers=maart!$A20)*(datums=maart!W$5)*(uren))","v":"00:00:00"},{"$f":"SUMPRODUCT((werknemers=maart!$A20)*(datums=maart!X$5)*(uren))","v":"00:00:00"},{"$f":"SUMPRODUCT((werknemers=maart!$A20)*(datums=maart!Y$5)*(uren))","v":"00:00:00"},{"$f":"SUMPRODUCT((werknemers=maart!$A20)*(datums=maart!Z$5)*(uren))","v":"00:00:00"},{"$f":"SUMPRODUCT((werknemers=maart!$A20)*(datums=maart!AA$5)*(uren))","v":"00:00:00"},{"$f":"SUMPRODUCT((werknemers=maart!$A20)*(datums=maart!AB$5)*(uren))","v":"00:00:00"},{"$f":"SUMPRODUCT((werknemers=maart!$A20)*(datums=maart!AC$5)*(uren))","v":"00:00:00"},{"$f":"SUMPRODUCT((werknemers=maart!$A20)*(datums=maart!AD$5)*(uren))","v":"00:00:00"},{"$f":"SUMPRODUCT((werknemers=maart!$A20)*(datums=maart!AE$5)*(uren))","v":"00:00:00"},{"$f":"SUMPRODUCT((werknemers=maart!$A20)*(datums=maart!AF$5)*(uren))","v":"00:00:00"}]
[]
["CONTROLE",{"$f":"SUMPRODUCT((werknemers=maart!$A22)*(datums=maart!B$5)*(uren))","v":"00:00:00"},{"$f":"SUMPRODUCT((werknemers=maart!$A22)*(datums=maart!C$5)*(uren))","v":"00:00:00"},{"$f":"SUMPRODUCT((werknemers=maart!$A22)*(datums=maart!D$5)*(uren))","v":"00:00:00"},{"$f":"SUMPRODUCT((werknemers=maart!$A22)*(datums=maart!E$5)*(uren))","v":"00:00:00"},{"$f":"SUMPRODUCT((werknemers=maart!$A22)*(datums=maart!F$5)*(uren))","v":"00:00:00"},{"$f":"SUMPRODUCT((werknemers=maart!$A22)*(datums=maart!G$5)*(uren))","v":"00:00:00"},{"$f":"SUMPRODUCT((werknemers=maart!$A22)*(datums=maart!H$5)*(uren))","v":"00:00:00"},{"$f":"SUMPRODUCT((werknemers=maart!$A22)*(datums=maart!I$5)*(uren))","v":"00:00:00"},{"$f":"SUMPRODUCT((werknemers=maart!$A22)*(datums=maart!J$5)*(uren))","v":"00:00:00"},{"$f":"SUMPRODUCT((werknemers=maart!$A22)*(datums=maart!K$5)*(uren))","v":"00:00:00"},{"$f":"SUMPRODUCT((werknemers=maart!$A22)*(datums=maart!L$5)*(uren))","v":"00:00:00"},{"$f":"SUMPRODUCT((werknemers=maart!$A22)*(datums=maart!M$5)*(uren))","v":"00:00:00"},{"$f":"SUMPRODUCT((werknemers=maart!$A22)*(datums=maart!N$5)*(uren))","v":"00:00:00"},{"$f":"SUMPRODUCT((werknemers=maart!$A22)*(datums=maart!O$5)*(uren))","v":"00:00:00"},{"$f":"SUMPRODUCT((werknemers=maart!$A22)*(datums=maart!P$5)*(uren))","v":"00:00:00"},{"$f":"SUMPRODUCT((werknemers=maart!$A22)*(datums=maart!Q$5)*(uren))","v":"00:00:00"},{"$f":"SUMPRODUCT((werknemers=maart!$A22)*(datums=maart!R$5)*(uren))","v":"00:00:00"},{"$f":"SUMPRODUCT((werknemers=maart!$A22)*(datums=maart!S$5)*(uren))","v":"00:00:00"},{"$f":"SUMPRODUCT((werknemers=maart!$A22)*(datums=maart!T$5)*(uren))","v":"00:00:00"},{"$f":"SUMPRODUCT((werknemers=maart!$A22)*(datums=maart!U$5)*(uren))","v":"00:00:00"},{"$f":"SUMPRODUCT((werknemers=maart!$A22)*(datums=maart!V$5)*(uren))","v":"00:00:00"},{"$f":"SUMPRODUCT((werknemers=maart!$A22)*(datums=maart!W$5)*(uren))","v":"00:00:00"},{"$f":"SUMPRODUCT((werknemers=maart!$A22)*(datums=maart!X$5)*(uren))","v":"00:00:00"},{"$f":"SUMPRODUCT((werknemers=maart!$A22)*(datums=maart!Y$5)*(uren))","v":"00:00:00"},{"$f":"SUMPRODUCT((werknemers=maart!$A22)*(datums=maart!Z$5)*(uren))","v":"00:00:00"},{"$f":"SUMPRODUCT((werknemers=maart!$A22)*(datums=maart!AA$5)*(uren))","v":"00:00:00"},{"$f":"SUMPRODUCT((werknemers=maart!$A22)*(datums=maart!AB$5)*(uren))","v":"00:00:00"},{"$f":"SUMPRODUCT((werknemers=maart!$A22)*(datums=maart!AC$5)*(uren))","v":"00:00:00"},{"$f":"SUMPRODUCT((werknemers=maart!$A22)*(datums=maart!AD$5)*(uren))","v":"00:00:00"},{"$f":"SUMPRODUCT((werknemers=maart!$A22)*(datums=maart!AE$5)*(uren))","v":"00:00:00"},{"$f":"SUMPRODUCT((werknemers=maart!$A22)*(datums=maart!AF$5)*(uren))","v":"00:00:00"}]
[]
["CONTROLE",{"$f":"SUMPRODUCT((werknemers=maart!$A24)*(datums=maart!B$5)*(uren))","v":"00:00:00"},{"$f":"SUMPRODUCT((werknemers=maart!$A24)*(datums=maart!C$5)*(uren))","v":"00:00:00"},{"$f":"SUMPRODUCT((werknemers=maart!$A24)*(datums=maart!D$5)*(uren))","v":"00:00:00"},{"$f":"SUMPRODUCT((werknemers=maart!$A24)*(datums=maart!E$5)*(uren))","v":"00:00:00"},{"$f":"SUMPRODUCT((werknemers=maart!$A24)*(datums=maart!F$5)*(uren))","v":"00:00:00"},{"$f":"SUMPRODUCT((werknemers=maart!$A24)*(datums=maart!G$5)*(uren))","v":"00:00:00"},{"$f":"SUMPRODUCT((werknemers=maart!$A24)*(datums=maart!H$5)*(uren))","v":"00:00:00"},{"$f":"SUMPRODUCT((werknemers=maart!$A24)*(datums=maart!I$5)*(uren))","v":"00:00:00"},{"$f":"SUMPRODUCT((werknemers=maart!$A24)*(datums=maart!J$5)*(uren))","v":"00:00:00"},{"$f":"SUMPRODUCT((werknemers=maart!$A24)*(datums=maart!K$5)*(uren))","v":"00:00:00"},{"$f":"SUMPRODUCT((werknemers=maart!$A24)*(datums=maart!L$5)*(uren))","v":"00:00:00"},{"$f":"SUMPRODUCT((werknemers=maart!$A24)*(datums=maart!M$5)*(uren))","v":"00:00:00"},{"$f":"SUMPRODUCT((werknemers=maart!$A24)*(datums=maart!N$5)*(uren))","v":"00:00:00"},{"$f":"SUMPRODUCT((werknemers=maart!$A24)*(datums=maart!O$5)*(uren))","v":"00:00:00"},{"$f":"SUMPRODUCT((werknemers=maart!$A24)*(datums=maart!P$5)*(uren))","v":"00:00:00"},{"$f":"SUMPRODUCT((werknemers=maart!$A24)*(datums=maart!Q$5)*(uren))","v":"00:00:00"},{"$f":"SUMPRODUCT((werknemers=maart!$A24)*(datums=maart!R$5)*(uren))","v":"00:00:00"},{"$f":"SUMPRODUCT((werknemers=maart!$A24)*(datums=maart!S$5)*(uren))","v":"00:00:00"},{"$f":"SUMPRODUCT((werknemers=maart!$A24)*(datums=maart!T$5)*(uren))","v":"00:00:00"},{"$f":"SUMPRODUCT((werknemers=maart!$A24)*(datums=maart!U$5)*(uren))","v":"00:00:00"},{"$f":"SUMPRODUCT((werknemers=maart!$A24)*(datums=maart!V$5)*(uren))","v":"00:00:00"},{"$f":"SUMPRODUCT((werknemers=maart!$A24)*(datums=maart!W$5)*(uren))","v":"00:00:00"},{"$f":"SUMPRODUCT((werknemers=maart!$A24)*(datums=maart!X$5)*(uren))","v":"00:00:00"},{"$f":"SUMPRODUCT((werknemers=maart!$A24)*(datums=maart!Y$5)*(uren))","v":"00:00:00"},{"$f":"SUMPRODUCT((werknemers=maart!$A24)*(datums=maart!Z$5)*(uren))","v":"00:00:00"},{"$f":"SUMPRODUCT((werknemers=maart!$A24)*(datums=maart!AA$5)*(uren))","v":"00:00:00"},{"$f":"SUMPRODUCT((werknemers=maart!$A24)*(datums=maart!AB$5)*(uren))","v":"00:00:00"},{"$f":"SUMPRODUCT((werknemers=maart!$A24)*(datums=maart!AC$5)*(uren))","v":"00:00:00"},{"$f":"SUMPRODUCT((werknemers=maart!$A24)*(datums=maart!AD$5)*(uren))","v":"00:00:00"},{"$f":"SUMPRODUCT((werknemers=maart!$A24)*(datums=maart!AE$5)*(uren))","v":"00:00:00"},{"$f":"SUMPRODUCT((werknemers=maart!$A24)*(datums=maart!AF$5)*(uren))","v":"00:00:00"}]
[]
["CONTROLE",{"$f":"SUMPRODUCT((werknemers=maart!$A26)*(datums=maart!B$5)*(uren))","v":"00:00:00"},{"$f":"SUMPRODUCT((werknemers=maart!$A26)*(datums=maart!C$5)*(uren))","v":"00:00:00"},{"$f":"SUMPRODUCT((werknemers=maart!$A26)*(datums=maart!D$5)*(uren))","v":"00:00:00"},{"$f":"SUMPRODUCT((werknemers=maart!$A26)*(datums=maart!E$5)*(uren))","v":"00:00:00"},{"$f":"SUMPRODUCT((werknemers=maart!$A26)*(datums=maart!F$5)*(uren))","v":"00:00:00"},{"$f":"SUMPRODUCT((werknemers=maart!$A26)*(datums=maart!G$5)*(uren))","v":"00:00:00"},{"$f":"SUMPRODUCT((werknemers=maart!$A26)*(datums=maart!H$5)*(uren))","v":"00:00:00"},{"$f":"SUMPRODUCT((werknemers=maart!$A26)*(datums=maart!I$5)*(uren))","v":"00:00:00"},{"$f":"SUMPRODUCT((werknemers=maart!$A26)*(datums=maart!J$5)*(uren))","v":"00:00:00"},{"$f":"SUMPRODUCT((werknemers=maart!$A26)*(datums=maart!K$5)*(uren))","v":"00:00:00"},{"$f":"SUMPRODUCT((werknemers=maart!$A26)*(datums=maart!L$5)*(uren))","v":"00:00:00"},{"$f":"SUMPRODUCT((werknemers=maart!$A26)*(datums=maart!M$5)*(uren))","v":"00:00:00"},{"$f":"SUMPRODUCT((werknemers=maart!$A26)*(datums=maart!N$5)*(uren))","v":"00:00:00"},{"$f":"SUMPRODUCT((werknemers=maart!$A26)*(datums=maart!O$5)*(uren))","v":"00:00:00"},{"$f":"SUMPRODUCT((werknemers=maart!$A26)*(datums=maart!P$5)*(uren))","v":"00:00:00"},{"$f":"SUMPRODUCT((werknemers=maart!$A26)*(datums=maart!Q$5)*(uren))","v":"00:00:00"},{"$f":"SUMPRODUCT((werknemers=maart!$A26)*(datums=maart!R$5)*(uren))","v":"00:00:00"},{"$f":"SUMPRODUCT((werknemers=maart!$A26)*(datums=maart!S$5)*(uren))","v":"00:00:00"},{"$f":"SUMPRODUCT((werknemers=maart!$A26)*(datums=maart!T$5)*(uren))","v":"00:00:00"},{"$f":"SUMPRODUCT((werknemers=maart!$A26)*(datums=maart!U$5)*(uren))","v":"00:00:00"},{"$f":"SUMPRODUCT((werknemers=maart!$A26)*(datums=maart!V$5)*(uren))","v":"00:00:00"},{"$f":"SUMPRODUCT((werknemers=maart!$A26)*(datums=maart!W$5)*(uren))","v":"00:00:00"},{"$f":"SUMPRODUCT((werknemers=maart!$A26)*(datums=maart!X$5)*(uren))","v":"00:00:00"},{"$f":"SUMPRODUCT((werknemers=maart!$A26)*(datums=maart!Y$5)*(uren))","v":"00:00:00"},{"$f":"SUMPRODUCT((werknemers=maart!$A26)*(datums=maart!Z$5)*(uren))","v":"00:00:00"},{"$f":"SUMPRODUCT((werknemers=maart!$A26)*(datums=maart!AA$5)*(uren))","v":"00:00:00"},{"$f":"SUMPRODUCT((werknemers=maart!$A26)*(datums=maart!AB$5)*(uren))","v":"00:00:00"},{"$f":"SUMPRODUCT((werknemers=maart!$A26)*(datums=maart!AC$5)*(uren))","v":"00:00:00"},{"$f":"SUMPRODUCT((werknemers=maart!$A26)*(datums=maart!AD$5)*(uren))","v":"00:00:00"},{"$f":"SUMPRODUCT((werknemers=maart!$A26)*(datums=maart!AE$5)*(uren))","v":"00:00:00"},{"$f":"SUMPRODUCT((werknemers=maart!$A26)*(datums=maart!AF$5)*(uren))","v":"00:00:00"}]
[]
["CONTROLE",{"$f":"SUMPRODUCT((werknemers=maart!$A28)*(datums=maart!B$5)*(uren))","v":"00:00:00"},{"$f":"SUMPRODUCT((werknemers=maart!$A28)*(datums=maart!C$5)*(uren))","v":"00:00:00"},{"$f":"SUMPRODUCT((werknemers=maart!$A28)*(datums=maart!D$5)*(uren))","v":"00:00:00"},{"$f":"SUMPRODUCT((werknemers=maart!$A28)*(datums=maart!E$5)*(uren))","v":"00:00:00"},{"$f":"SUMPRODUCT((werknemers=maart!$A28)*(datums=maart!F$5)*(uren))","v":"00:00:00"},{"$f":"SUMPRODUCT((werknemers=maart!$A28)*(datums=maart!G$5)*(uren))","v":"00:00:00"},{"$f":"SUMPRODUCT((werknemers=maart!$A28)*(datums=maart!H$5)*(uren))","v":"00:00:00"},{"$f":"SUMPRODUCT((werknemers=maart!$A28)*(datums=maart!I$5)*(uren))","v":"00:00:00"},{"$f":"SUMPRODUCT((werknemers=maart!$A28)*(datums=maart!J$5)*(uren))","v":"00:00:00"},{"$f":"SUMPRODUCT((werknemers=maart!$A28)*(datums=maart!K$5)*(uren))","v":"00:00:00"},{"$f":"SUMPRODUCT((werknemers=maart!$A28)*(datums=maart!L$5)*(uren))","v":"00:00:00"},{"$f":"SUMPRODUCT((werknemers=maart!$A28)*(datums=maart!M$5)*(uren))","v":"00:00:00"},{"$f":"SUMPRODUCT((werknemers=maart!$A28)*(datums=maart!N$5)*(uren))","v":"00:00:00"},{"$f":"SUMPRODUCT((werknemers=maart!$A28)*(datums=maart!O$5)*(uren))","v":"00:00:00"},{"$f":"SUMPRODUCT((werknemers=maart!$A28)*(datums=maart!P$5)*(uren))","v":"00:00:00"},{"$f":"SUMPRODUCT((werknemers=maart!$A28)*(datums=maart!Q$5)*(uren))","v":"00:00:00"},{"$f":"SUMPRODUCT((werknemers=maart!$A28)*(datums=maart!R$5)*(uren))","v":"00:00:00"},{"$f":"SUMPRODUCT((werknemers=maart!$A28)*(datums=maart!S$5)*(uren))","v":"00:00:00"},{"$f":"SUMPRODUCT((werknemers=maart!$A28)*(datums=maart!T$5)*(uren))","v":"00:00:00"},{"$f":"SUMPRODUCT((werknemers=maart!$A28)*(datums=maart!U$5)*(uren))","v":"00:00:00"},{"$f":"SUMPRODUCT((werknemers=maart!$A28)*(datums=maart!V$5)*(uren))","v":"00:00:00"},{"$f":"SUMPRODUCT((werknemers=maart!$A28)*(datums=maart!W$5)*(uren))","v":"00:00:00"},{"$f":"SUMPRODUCT((werknemers=maart!$A28)*(datums=maart!X$5)*(uren))","v":"00:00:00"},{"$f":"SUMPRODUCT((werknemers=maart!$A28)*(datums=maart!Y$5)*(uren))","v":"00:00:00"},{"$f":"SUMPRODUCT((werknemers=maart!$A28)*(datums=maart!Z$5)*(uren))","v":"00:00:00"},{"$f":"SUMPRODUCT((werknemers=maart!$A28)*(datums=maart!AA$5)*(uren))","v":"00:00:00"},{"$f":"SUMPRODUCT((werknemers=maart!$A28)*(datums=maart!AB$5)*(uren))","v":"00:00:00"},{"$f":"SUMPRODUCT((werknemers=maart!$A28)*(datums=maart!AC$5)*(uren))","v":"00:00:00"},{"$f":"SUMPRODUCT((werknemers=maart!$A28)*(datums=maart!AD$5)*(uren))","v":"00:00:00"},{"$f":"SUMPRODUCT((werknemers=maart!$A28)*(datums=maart!AE$5)*(uren))","v":"00:00:00"},{"$f":"SUMPRODUCT((werknemers=maart!$A28)*(datums=maart!AF$5)*(uren))","v":"00:00:00"}]
[]
["CONTROLE",{"$f":"SUMPRODUCT((werknemers=maart!$A30)*(datums=maart!B$5)*(uren))","v":"00:00:00"},{"$f":"SUMPRODUCT((werknemers=maart!$A30)*(datums=maart!C$5)*(uren))","v":"00:00:00"},{"$f":"SUMPRODUCT((werknemers=maart!$A30)*(datums=maart!D$5)*(uren))","v":"00:00:00"},{"$f":"SUMPRODUCT((werknemers=maart!$A30)*(datums=maart!E$5)*(uren))","v":"00:00:00"},{"$f":"SUMPRODUCT((werknemers=maart!$A30)*(datums=maart!F$5)*(uren))","v":"00:00:00"},{"$f":"SUMPRODUCT((werknemers=maart!$A30)*(datums=maart!G$5)*(uren))","v":"00:00:00"},{"$f":"SUMPRODUCT((werknemers=maart!$A30)*(datums=maart!H$5)*(uren))","v":"00:00:00"},{"$f":"SUMPRODUCT((werknemers=maart!$A30)*(datums=maart!I$5)*(uren))","v":"00:00:00"},{"$f":"SUMPRODUCT((werknemers=maart!$A30)*(datums=maart!J$5)*(uren))","v":"00:00:00"},{"$f":"SUMPRODUCT((werknemers=maart!$A30)*(datums=maart!K$5)*(uren))","v":"00:00:00"},{"$f":"SUMPRODUCT((werknemers=maart!$A30)*(datums=maart!L$5)*(uren))","v":"00:00:00"},{"$f":"SUMPRODUCT((werknemers=maart!$A30)*(datums=maart!M$5)*(uren))","v":"00:00:00"},{"$f":"SUMPRODUCT((werknemers=maart!$A30)*(datums=maart!N$5)*(uren))","v":"00:00:00"},{"$f":"SUMPRODUCT((werknemers=maart!$A30)*(datums=maart!O$5)*(uren))","v":"00:00:00"},{"$f":"SUMPRODUCT((werknemers=maart!$A30)*(datums=maart!P$5)*(uren))","v":"00:00:00"},{"$f":"SUMPRODUCT((werknemers=maart!$A30)*(datums=maart!Q$5)*(uren))","v":"00:00:00"},{"$f":"SUMPRODUCT((werknemers=maart!$A30)*(datums=maart!R$5)*(uren))","v":"00:00:00"},{"$f":"SUMPRODUCT((werknemers=maart!$A30)*(datums=maart!S$5)*(uren))","v":"00:00:00"},{"$f":"SUMPRODUCT((werknemers=maart!$A30)*(datums=maart!T$5)*(uren))","v":"00:00:00"},{"$f":"SUMPRODUCT((werknemers=maart!$A30)*(datums=maart!U$5)*(uren))","v":"00:00:00"},{"$f":"SUMPRODUCT((werknemers=maart!$A30)*(datums=maart!V$5)*(uren))","v":"00:00:00"},{"$f":"SUMPRODUCT((werknemers=maart!$A30)*(datums=maart!W$5)*(uren))","v":"00:00:00"},{"$f":"SUMPRODUCT((werknemers=maart!$A30)*(datums=maart!X$5)*(uren))","v":"00:00:00"},{"$f":"SUMPRODUCT((werknemers=maart!$A30)*(datums=maart!Y$5)*(uren))","v":"00:00:00"},{"$f":"SUMPRODUCT((werknemers=maart!$A30)*(datums=maart!Z$5)*(uren))","v":"00:00:00"},{"$f":"SUMPRODUCT((werknemers=maart!$A30)*(datums=maart!AA$5)*(uren))","v":"00:00:00"},{"$f":"SUMPRODUCT((werknemers=maart!$A30)*(datums=maart!AB$5)*(uren))","v":"00:00:00"},{"$f":"SUMPRODUCT((werknemers=maart!$A30)*(datums=maart!AC$5)*(uren))","v":"00:00:00"},{"$f":"SUMPRODUCT((werknemers=maart!$A30)*(datums=maart!AD$5)*(uren))","v":"00:00:00"},{"$f":"SUMPRODUCT((werknemers=maart!$A30)*(datums=maart!AE$5)*(uren))","v":"00:00:00"},{"$f":"SUMPRODUCT((werknemers=maart!$A30)*(datums=maart!AF$5)*(uren))","v":"00:00:00"}]
[]
["CONTROLE",{"$f":"SUMPRODUCT((werknemers=maart!$A32)*(datums=maart!B$5)*(uren))","v":"00:00:00"},{"$f":"SUMPRODUCT((werknemers=maart!$A32)*(datums=maart!C$5)*(uren))","v":"00:00:00"},{"$f":"SUMPRODUCT((werknemers=maart!$A32)*(datums=maart!D$5)*(uren))","v":"00:00:00"},{"$f":"SUMPRODUCT((werknemers=maart!$A32)*(datums=maart!E$5)*(uren))","v":"00:00:00"},{"$f":"SUMPRODUCT((werknemers=maart!$A32)*(datums=maart!F$5)*(uren))","v":"00:00:00"},{"$f":"SUMPRODUCT((werknemers=maart!$A32)*(datums=maart!G$5)*(uren))","v":"00:00:00"},{"$f":"SUMPRODUCT((werknemers=maart!$A32)*(datums=maart!H$5)*(uren))","v":"00:00:00"},{"$f":"SUMPRODUCT((werknemers=maart!$A32)*(datums=maart!I$5)*(uren))","v":"00:00:00"},{"$f":"SUMPRODUCT((werknemers=maart!$A32)*(datums=maart!J$5)*(uren))","v":"00:00:00"},{"$f":"SUMPRODUCT((werknemers=maart!$A32)*(datums=maart!K$5)*(uren))","v":"00:00:00"},{"$f":"SUMPRODUCT((werknemers=maart!$A32)*(datums=maart!L$5)*(uren))","v":"00:00:00"},{"$f":"SUMPRODUCT((werknemers=maart!$A32)*(datums=maart!M$5)*(uren))","v":"00:00:00"},{"$f":"SUMPRODUCT((werknemers=maart!$A32)*(datums=maart!N$5)*(uren))","v":"00:00:00"},{"$f":"SUMPRODUCT((werknemers=maart!$A32)*(datums=maart!O$5)*(uren))","v":"00:00:00"},{"$f":"SUMPRODUCT((werknemers=maart!$A32)*(datums=maart!P$5)*(uren))","v":"00:00:00"},{"$f":"SUMPRODUCT((werknemers=maart!$A32)*(datums=maart!Q$5)*(uren))","v":"00:00:00"},{"$f":"SUMPRODUCT((werknemers=maart!$A32)*(datums=maart!R$5)*(uren))","v":"00:00:00"},{"$f":"SUMPRODUCT((werknemers=maart!$A32)*(datums=maart!S$5)*(uren))","v":"00:00:00"},{"$f":"SUMPRODUCT((werknemers=maart!$A32)*(datums=maart!T$5)*(uren))","v":"00:00:00"},{"$f":"SUMPRODUCT((werknemers=maart!$A32)*(datums=maart!U$5)*(uren))","v":"00:00:00"},{"$f":"SUMPRODUCT((werknemers=maart!$A32)*(datums=maart!V$5)*(uren))","v":"00:00:00"},{"$f":"SUMPRODUCT((werknemers=maart!$A32)*(datums=maart!W$5)*(uren))","v":"00:00:00"},{"$f":"SUMPRODUCT((werknemers=maart!$A32)*(datums=maart!X$5)*(uren))","v":"00:00:00"},{"$f":"SUMPRODUCT((werknemers=maart!$A32)*(datums=maart!Y$5)*(uren))","v":"00:00:00"},{"$f":"SUMPRODUCT((werknemers=maart!$A32)*(datums=maart!Z$5)*(uren))","v":"00:00:00"},{"$f":"SUMPRODUCT((werknemers=maart!$A32)*(datums=maart!AA$5)*(uren))","v":"00:00:00"},{"$f":"SUMPRODUCT((werknemers=maart!$A32)*(datums=maart!AB$5)*(uren))","v":"00:00:00"},{"$f":"SUMPRODUCT((werknemers=maart!$A32)*(datums=maart!AC$5)*(uren))","v":"00:00:00"},{"$f":"SUMPRODUCT((werknemers=maart!$A32)*(datums=maart!AD$5)*(uren))","v":"00:00:00"},{"$f":"SUMPRODUCT((werknemers=maart!$A32)*(datums=maart!AE$5)*(uren))","v":"00:00:00"},{"$f":"SUMPRODUCT((werknemers=maart!$A32)*(datums=maart!AF$5)*(uren))","v":"00:00:00"}]
[]
["CONTROLE",{"$f":"SUMPRODUCT((werknemers=maart!$A34)*(datums=maart!B$5)*(uren))","v":"00:00:00"},{"$f":"SUMPRODUCT((werknemers=maart!$A34)*(datums=maart!C$5)*(uren))","v":"00:00:00"},{"$f":"SUMPRODUCT((werknemers=maart!$A34)*(datums=maart!D$5)*(uren))","v":"00:00:00"},{"$f":"SUMPRODUCT((werknemers=maart!$A34)*(datums=maart!E$5)*(uren))","v":"00:00:00"},{"$f":"SUMPRODUCT((werknemers=maart!$A34)*(datums=maart!F$5)*(uren))","v":"00:00:00"},{"$f":"SUMPRODUCT((werknemers=maart!$A34)*(datums=maart!G$5)*(uren))","v":"00:00:00"},{"$f":"SUMPRODUCT((werknemers=maart!$A34)*(datums=maart!H$5)*(uren))","v":"00:00:00"},{"$f":"SUMPRODUCT((werknemers=maart!$A34)*(datums=maart!I$5)*(uren))","v":"00:00:00"},{"$f":"SUMPRODUCT((werknemers=maart!$A34)*(datums=maart!J$5)*(uren))","v":"00:00:00"},{"$f":"SUMPRODUCT((werknemers=maart!$A34)*(datums=maart!K$5)*(uren))","v":"00:00:00"},{"$f":"SUMPRODUCT((werknemers=maart!$A34)*(datums=maart!L$5)*(uren))","v":"00:00:00"},{"$f":"SUMPRODUCT((werknemers=maart!$A34)*(datums=maart!M$5)*(uren))","v":"00:00:00"},{"$f":"SUMPRODUCT((werknemers=maart!$A34)*(datums=maart!N$5)*(uren))","v":"00:00:00"},{"$f":"SUMPRODUCT((werknemers=maart!$A34)*(datums=maart!O$5)*(uren))","v":"00:00:00"},{"$f":"SUMPRODUCT((werknemers=maart!$A34)*(datums=maart!P$5)*(uren))","v":"00:00:00"},{"$f":"SUMPRODUCT((werknemers=maart!$A34)*(datums=maart!Q$5)*(uren))","v":"00:00:00"},{"$f":"SUMPRODUCT((werknemers=maart!$A34)*(datums=maart!R$5)*(uren))","v":"00:00:00"},{"$f":"SUMPRODUCT((werknemers=maart!$A34)*(datums=maart!S$5)*(uren))","v":"00:00:00"},{"$f":"SUMPRODUCT((werknemers=maart!$A34)*(datums=maart!T$5)*(uren))","v":"00:00:00"},{"$f":"SUMPRODUCT((werknemers=maart!$A34)*(datums=maart!U$5)*(uren))","v":"00:00:00"},{"$f":"SUMPRODUCT((werknemers=maart!$A34)*(datums=maart!V$5)*(uren))","v":"00:00:00"},{"$f":"SUMPRODUCT((werknemers=maart!$A34)*(datums=maart!W$5)*(uren))","v":"00:00:00"},{"$f":"SUMPRODUCT((werknemers=maart!$A34)*(datums=maart!X$5)*(uren))","v":"00:00:00"},{"$f":"SUMPRODUCT((werknemers=maart!$A34)*(datums=maart!Y$5)*(uren))","v":"00:00:00"},{"$f":"SUMPRODUCT((werknemers=maart!$A34)*(datums=maart!Z$5)*(uren))","v":"00:00:00"},{"$f":"SUMPRODUCT((werknemers=maart!$A34)*(datums=maart!AA$5)*(uren))","v":"00:00:00"},{"$f":"SUMPRODUCT((werknemers=maart!$A34)*(datums=maart!AB$5)*(uren))","v":"00:00:00"},{"$f":"SUMPRODUCT((werknemers=maart!$A34)*(datums=maart!AC$5)*(uren))","v":"00:00:00"},{"$f":"SUMPRODUCT((werknemers=maart!$A34)*(datums=maart!AD$5)*(uren))","v":"00:00:00"},{"$f":"SUMPRODUCT((werknemers=maart!$A34)*(datums=maart!AE$5)*(uren))","v":"00:00:00"},{"$f":"SUMPRODUCT((werknemers=maart!$A34)*(datums=maart!AF$5)*(uren))","v":"00:00:00"}]
[]
["CONTROLE",{"$f":"SUMPRODUCT((werknemers=maart!$A36)*(datums=maart!B$5)*(uren))","v":"00:00:00"},{"$f":"SUMPRODUCT((werknemers=maart!$A36)*(datums=maart!C$5)*(uren))","v":"00:00:00"},{"$f":"SUMPRODUCT((werknemers=maart!$A36)*(datums=maart!D$5)*(uren))","v":"00:00:00"},{"$f":"SUMPRODUCT((werknemers=maart!$A36)*(datums=maart!E$5)*(uren))","v":"00:00:00"},{"$f":"SUMPRODUCT((werknemers=maart!$A36)*(datums=maart!F$5)*(uren))","v":"00:00:00"},{"$f":"SUMPRODUCT((werknemers=maart!$A36)*(datums=maart!G$5)*(uren))","v":"00:00:00"},{"$f":"SUMPRODUCT((werknemers=maart!$A36)*(datums=maart!H$5)*(uren))","v":"00:00:00"},{"$f":"SUMPRODUCT((werknemers=maart!$A36)*(datums=maart!I$5)*(uren))","v":"00:00:00"},{"$f":"SUMPRODUCT((werknemers=maart!$A36)*(datums=maart!J$5)*(uren))","v":"00:00:00"},{"$f":"SUMPRODUCT((werknemers=maart!$A36)*(datums=maart!K$5)*(uren))","v":"00:00:00"},{"$f":"SUMPRODUCT((werknemers=maart!$A36)*(datums=maart!L$5)*(uren))","v":"00:00:00"},{"$f":"SUMPRODUCT((werknemers=maart!$A36)*(datums=maart!M$5)*(uren))","v":"00:00:00"},{"$f":"SUMPRODUCT((werknemers=maart!$A36)*(datums=maart!N$5)*(uren))","v":"00:00:00"},{"$f":"SUMPRODUCT((werknemers=maart!$A36)*(datums=maart!O$5)*(uren))","v":"00:00:00"},{"$f":"SUMPRODUCT((werknemers=maart!$A36)*(datums=maart!P$5)*(uren))","v":"00:00:00"},{"$f":"SUMPRODUCT((werknemers=maart!$A36)*(datums=maart!Q$5)*(uren))","v":"00:00:00"},{"$f":"SUMPRODUCT((werknemers=maart!$A36)*(datums=maart!R$5)*(uren))","v":"00:00:00"},{"$f":"SUMPRODUCT((werknemers=maart!$A36)*(datums=maart!S$5)*(uren))","v":"00:00:00"},{"$f":"SUMPRODUCT((werknemers=maart!$A36)*(datums=maart!T$5)*(uren))","v":"00:00:00"},{"$f":"SUMPRODUCT((werknemers=maart!$A36)*(datums=maart!U$5)*(uren))","v":"00:00:00"},{"$f":"SUMPRODUCT((werknemers=maart!$A36)*(datums=maart!V$5)*(uren))","v":"00:00:00"},{"$f":"SUMPRODUCT((werknemers=maart!$A36)*(datums=maart!W$5)*(uren))","v":"00:00:00"},{"$f":"SUMPRODUCT((werknemers=maart!$A36)*(datums=maart!X$5)*(uren))","v":"00:00:00"},{"$f":"SUMPRODUCT((werknemers=maart!$A36)*(datums=maart!Y$5)*(uren))","v":"00:00:00"},{"$f":"SUMPRODUCT((werknemers=maart!$A36)*(datums=maart!Z$5)*(uren))","v":"00:00:00"},{"$f":"SUMPRODUCT((werknemers=maart!$A36)*(datums=maart!AA$5)*(uren))","v":"00:00:00"},{"$f":"SUMPRODUCT((werknemers=maart!$A36)*(datums=maart!AB$5)*(uren))","v":"00:00:00"},{"$f":"SUMPRODUCT((werknemers=maart!$A36)*(datums=maart!AC$5)*(uren))","v":"00:00:00"},{"$f":"SUMPRODUCT((werknemers=maart!$A36)*(datums=maart!AD$5)*(uren))","v":"00:00:00"},{"$f":"SUMPRODUCT((werknemers=maart!$A36)*(datums=maart!AE$5)*(uren))","v":"00:00:00"},{"$f":"SUMPRODUCT((werknemers=maart!$A36)*(datums=maart!AF$5)*(uren))","v":"00:00:00"}]
[]
["CONTROLE",{"$f":"SUMPRODUCT((werknemers=maart!$A38)*(datums=maart!B$5)*(uren))","v":"00:00:00"},{"$f":"SUMPRODUCT((werknemers=maart!$A38)*(datums=maart!C$5)*(uren))","v":"00:00:00"},{"$f":"SUMPRODUCT((werknemers=maart!$A38)*(datums=maart!D$5)*(uren))","v":"00:00:00"},{"$f":"SUMPRODUCT((werknemers=maart!$A38)*(datums=maart!E$5)*(uren))","v":"00:00:00"},{"$f":"SUMPRODUCT((werknemers=maart!$A38)*(datums=maart!F$5)*(uren))","v":"00:00:00"},{"$f":"SUMPRODUCT((werknemers=maart!$A38)*(datums=maart!G$5)*(uren))","v":"00:00:00"},{"$f":"SUMPRODUCT((werknemers=maart!$A38)*(datums=maart!H$5)*(uren))","v":"00:00:00"},{"$f":"SUMPRODUCT((werknemers=maart!$A38)*(datums=maart!I$5)*(uren))","v":"00:00:00"},{"$f":"SUMPRODUCT((werknemers=maart!$A38)*(datums=maart!J$5)*(uren))","v":"00:00:00"},{"$f":"SUMPRODUCT((werknemers=maart!$A38)*(datums=maart!K$5)*(uren))","v":"00:00:00"},{"$f":"SUMPRODUCT((werknemers=maart!$A38)*(datums=maart!L$5)*(uren))","v":"00:00:00"},{"$f":"SUMPRODUCT((werknemers=maart!$A38)*(datums=maart!M$5)*(uren))","v":"00:00:00"},{"$f":"SUMPRODUCT((werknemers=maart!$A38)*(datums=maart!N$5)*(uren))","v":"00:00:00"},{"$f":"SUMPRODUCT((werknemers=maart!$A38)*(datums=maart!O$5)*(uren))","v":"00:00:00"},{"$f":"SUMPRODUCT((werknemers=maart!$A38)*(datums=maart!P$5)*(uren))","v":"00:00:00"},{"$f":"SUMPRODUCT((werknemers=maart!$A38)*(datums=maart!Q$5)*(uren))","v":"00:00:00"},{"$f":"SUMPRODUCT((werknemers=maart!$A38)*(datums=maart!R$5)*(uren))","v":"00:00:00"},{"$f":"SUMPRODUCT((werknemers=maart!$A38)*(datums=maart!S$5)*(uren))","v":"00:00:00"},{"$f":"SUMPRODUCT((werknemers=maart!$A38)*(datums=maart!T$5)*(uren))","v":"00:00:00"},{"$f":"SUMPRODUCT((werknemers=maart!$A38)*(datums=maart!U$5)*(uren))","v":"00:00:00"},{"$f":"SUMPRODUCT((werknemers=maart!$A38)*(datums=maart!V$5)*(uren))","v":"00:00:00"},{"$f":"SUMPRODUCT((werknemers=maart!$A38)*(datums=maart!W$5)*(uren))","v":"00:00:00"},{"$f":"SUMPRODUCT((werknemers=maart!$A38)*(datums=maart!X$5)*(uren))","v":"00:00:00"},{"$f":"SUMPRODUCT((werknemers=maart!$A38)*(datums=maart!Y$5)*(uren))","v":"00:00:00"},{"$f":"SUMPRODUCT((werknemers=maart!$A38)*(datums=maart!Z$5)*(uren))","v":"00:00:00"},{"$f":"SUMPRODUCT((werknemers=maart!$A38)*(datums=maart!AA$5)*(uren))","v":"00:00:00"},{"$f":"SUMPRODUCT((werknemers=maart!$A38)*(datums=maart!AB$5)*(uren))","v":"00:00:00"},{"$f":"SUMPRODUCT((werknemers=maart!$A38)*(datums=maart!AC$5)*(uren))","v":"00:00:00"},{"$f":"SUMPRODUCT((werknemers=maart!$A38)*(datums=maart!AD$5)*(uren))","v":"00:00:00"},{"$f":"SUMPRODUCT((werknemers=maart!$A38)*(datums=maart!AE$5)*(uren))","v":"00:00:00"},{"$f":"SUMPRODUCT((werknemers=maart!$A38)*(datums=maart!AF$5)*(uren))","v":"00:00:00"}]
[]
["CONTROLE",{"$f":"SUMPRODUCT((werknemers=maart!$A40)*(datums=maart!B$5)*(uren))","v":"00:00:00"},{"$f":"SUMPRODUCT((werknemers=maart!$A40)*(datums=maart!C$5)*(uren))","v":"00:00:00"},{"$f":"SUMPRODUCT((werknemers=maart!$A40)*(datums=maart!D$5)*(uren))","v":"00:00:00"},{"$f":"SUMPRODUCT((werknemers=maart!$A40)*(datums=maart!E$5)*(uren))","v":"00:00:00"},{"$f":"SUMPRODUCT((werknemers=maart!$A40)*(datums=maart!F$5)*(uren))","v":"00:00:00"},{"$f":"SUMPRODUCT((werknemers=maart!$A40)*(datums=maart!G$5)*(uren))","v":"00:00:00"},{"$f":"SUMPRODUCT((werknemers=maart!$A40)*(datums=maart!H$5)*(uren))","v":"00:00:00"},{"$f":"SUMPRODUCT((werknemers=maart!$A40)*(datums=maart!I$5)*(uren))","v":"00:00:00"},{"$f":"SUMPRODUCT((werknemers=maart!$A40)*(datums=maart!J$5)*(uren))","v":"00:00:00"},{"$f":"SUMPRODUCT((werknemers=maart!$A40)*(datums=maart!K$5)*(uren))","v":"00:00:00"},{"$f":"SUMPRODUCT((werknemers=maart!$A40)*(datums=maart!L$5)*(uren))","v":"00:00:00"},{"$f":"SUMPRODUCT((werknemers=maart!$A40)*(datums=maart!M$5)*(uren))","v":"00:00:00"},{"$f":"SUMPRODUCT((werknemers=maart!$A40)*(datums=maart!N$5)*(uren))","v":"00:00:00"},{"$f":"SUMPRODUCT((werknemers=maart!$A40)*(datums=maart!O$5)*(uren))","v":"00:00:00"},{"$f":"SUMPRODUCT((werknemers=maart!$A40)*(datums=maart!P$5)*(uren))","v":"00:00:00"},{"$f":"SUMPRODUCT((werknemers=maart!$A40)*(datums=maart!Q$5)*(uren))","v":"00:00:00"},{"$f":"SUMPRODUCT((werknemers=maart!$A40)*(datums=maart!R$5)*(uren))","v":"00:00:00"},{"$f":"SUMPRODUCT((werknemers=maart!$A40)*(datums=maart!S$5)*(uren))","v":"00:00:00"},{"$f":"SUMPRODUCT((werknemers=maart!$A40)*(datums=maart!T$5)*(uren))","v":"00:00:00"},{"$f":"SUMPRODUCT((werknemers=maart!$A40)*(datums=maart!U$5)*(uren))","v":"00:00:00"},{"$f":"SUMPRODUCT((werknemers=maart!$A40)*(datums=maart!V$5)*(uren))","v":"00:00:00"},{"$f":"SUMPRODUCT((werknemers=maart!$A40)*(datums=maart!W$5)*(uren))","v":"00:00:00"},{"$f":"SUMPRODUCT((werknemers=maart!$A40)*(datums=maart!X$5)*(uren))","v":"00:00:00"},{"$f":"SUMPRODUCT((werknemers=maart!$A40)*(datums=maart!Y$5)*(uren))","v":"00:00:00"},{"$f":"SUMPRODUCT((werknemers=maart!$A40)*(datums=maart!Z$5)*(uren))","v":"00:00:00"},{"$f":"SUMPRODUCT((werknemers=maart!$A40)*(datums=maart!AA$5)*(uren))","v":"00:00:00"},{"$f":"SUMPRODUCT((werknemers=maart!$A40)*(datums=maart!AB$5)*(uren))","v":"00:00:00"},{"$f":"SUMPRODUCT((werknemers=maart!$A40)*(datums=maart!AC$5)*(uren))","v":"00:00:00"},{"$f":"SUMPRODUCT((werknemers=maart!$A40)*(datums=maart!AD$5)*(uren))","v":"00:00:00"},{"$f":"SUMPRODUCT((werknemers=maart!$A40)*(datums=maart!AE$5)*(uren))","v":"00:00:00"},{"$f":"SUMPRODUCT((werknemers=maart!$A40)*(datums=maart!AF$5)*(uren))","v":"00:00:00"}]
[]
["CONTROLE",{"$f":"SUMPRODUCT((werknemers=maart!$A42)*(datums=maart!B$5)*(uren))","v":"00:00:00"},{"$f":"SUMPRODUCT((werknemers=maart!$A42)*(datums=maart!C$5)*(uren))","v":"00:00:00"},{"$f":"SUMPRODUCT((werknemers=maart!$A42)*(datums=maart!D$5)*(uren))","v":"00:00:00"},{"$f":"SUMPRODUCT((werknemers=maart!$A42)*(datums=maart!E$5)*(uren))","v":"00:00:00"},{"$f":"SUMPRODUCT((werknemers=maart!$A42)*(datums=maart!F$5)*(uren))","v":"00:00:00"},{"$f":"SUMPRODUCT((werknemers=maart!$A42)*(datums=maart!G$5)*(uren))","v":"00:00:00"},{"$f":"SUMPRODUCT((werknemers=maart!$A42)*(datums=maart!H$5)*(uren))","v":"00:00:00"},{"$f":"SUMPRODUCT((werknemers=maart!$A42)*(datums=maart!I$5)*(uren))","v":"00:00:00"},{"$f":"SUMPRODUCT((werknemers=maart!$A42)*(datums=maart!J$5)*(uren))","v":"00:00:00"},{"$f":"SUMPRODUCT((werknemers=maart!$A42)*(datums=maart!K$5)*(uren))","v":"00:00:00"},{"$f":"SUMPRODUCT((werknemers=maart!$A42)*(datums=maart!L$5)*(uren))","v":"00:00:00"},{"$f":"SUMPRODUCT((werknemers=maart!$A42)*(datums=maart!M$5)*(uren))","v":"00:00:00"},{"$f":"SUMPRODUCT((werknemers=maart!$A42)*(datums=maart!N$5)*(uren))","v":"00:00:00"},{"$f":"SUMPRODUCT((werknemers=maart!$A42)*(datums=maart!O$5)*(uren))","v":"00:00:00"},{"$f":"SUMPRODUCT((werknemers=maart!$A42)*(datums=maart!P$5)*(uren))","v":"00:00:00"},{"$f":"SUMPRODUCT((werknemers=maart!$A42)*(datums=maart!Q$5)*(uren))","v":"00:00:00"},{"$f":"SUMPRODUCT((werknemers=maart!$A42)*(datums=maart!R$5)*(uren))","v":"00:00:00"},{"$f":"SUMPRODUCT((werknemers=maart!$A42)*(datums=maart!S$5)*(uren))","v":"00:00:00"},{"$f":"SUMPRODUCT((werknemers=maart!$A42)*(datums=maart!T$5)*(uren))","v":"00:00:00"},{"$f":"SUMPRODUCT((werknemers=maart!$A42)*(datums=maart!U$5)*(uren))","v":"00:00:00"},{"$f":"SUMPRODUCT((werknemers=maart!$A42)*(datums=maart!V$5)*(uren))","v":"00:00:00"},{"$f":"SUMPRODUCT((werknemers=maart!$A42)*(datums=maart!W$5)*(uren))","v":"00:00:00"},{"$f":"SUMPRODUCT((werknemers=maart!$A42)*(datums=maart!X$5)*(uren))","v":"00:00:00"},{"$f":"SUMPRODUCT((werknemers=maart!$A42)*(datums=maart!Y$5)*(uren))","v":"00:00:00"},{"$f":"SUMPRODUCT((werknemers=maart!$A42)*(datums=maart!Z$5)*(uren))","v":"00:00:00"},{"$f":"SUMPRODUCT((werknemers=maart!$A42)*(datums=maart!AA$5)*(uren))","v":"00:00:00"},{"$f":"SUMPRODUCT((werknemers=maart!$A42)*(datums=maart!AB$5)*(uren))","v":"00:00:00"},{"$f":"SUMPRODUCT((werknemers=maart!$A42)*(datums=maart!AC$5)*(uren))","v":"00:00:00"},{"$f":"SUMPRODUCT((werknemers=maart!$A42)*(datums=maart!AD$5)*(uren))","v":"00:00:00"},{"$f":"SUMPRODUCT((werknemers=maart!$A42)*(datums=maart!AE$5)*(uren))","v":"00:00:00"},{"$f":"SUMPRODUCT((werknemers=maart!$A42)*(datums=maart!AF$5)*(uren))","v":"00:00:00"}]
[]
["CONTROLE",{"$f":"SUMPRODUCT((werknemers=maart!$A44)*(datums=maart!B$5)*(uren))","v":"00:00:00"},{"$f":"SUMPRODUCT((werknemers=maart!$A44)*(datums=maart!C$5)*(uren))","v":"00:00:00"},{"$f":"SUMPRODUCT((werknemers=maart!$A44)*(datums=maart!D$5)*(uren))","v":"00:00:00"},{"$f":"SUMPRODUCT((werknemers=maart!$A44)*(datums=maart!E$5)*(uren))","v":"00:00:00"},{"$f":"SUMPRODUCT((werknemers=maart!$A44)*(datums=maart!F$5)*(uren))","v":"00:00:00"},{"$f":"SUMPRODUCT((werknemers=maart!$A44)*(datums=maart!G$5)*(uren))","v":"00:00:00"},{"$f":"SUMPRODUCT((werknemers=maart!$A44)*(datums=maart!H$5)*(uren))","v":"00:00:00"},{"$f":"SUMPRODUCT((werknemers=maart!$A44)*(datums=maart!I$5)*(uren))","v":"00:00:00"},{"$f":"SUMPRODUCT((werknemers=maart!$A44)*(datums=maart!J$5)*(uren))","v":"00:00:00"},{"$f":"SUMPRODUCT((werknemers=maart!$A44)*(datums=maart!K$5)*(uren))","v":"00:00:00"},{"$f":"SUMPRODUCT((werknemers=maart!$A44)*(datums=maart!L$5)*(uren))","v":"00:00:00"},{"$f":"SUMPRODUCT((werknemers=maart!$A44)*(datums=maart!M$5)*(uren))","v":"00:00:00"},{"$f":"SUMPRODUCT((werknemers=maart!$A44)*(datums=maart!N$5)*(uren))","v":"00:00:00"},{"$f":"SUMPRODUCT((werknemers=maart!$A44)*(datums=maart!O$5)*(uren))","v":"00:00:00"},{"$f":"SUMPRODUCT((werknemers=maart!$A44)*(datums=maart!P$5)*(uren))","v":"00:00:00"},{"$f":"SUMPRODUCT((werknemers=maart!$A44)*(datums=maart!Q$5)*(uren))","v":"00:00:00"},{"$f":"SUMPRODUCT((werknemers=maart!$A44)*(datums=maart!R$5)*(uren))","v":"00:00:00"},{"$f":"SUMPRODUCT((werknemers=maart!$A44)*(datums=maart!S$5)*(uren))","v":"00:00:00"},{"$f":"SUMPRODUCT((werknemers=maart!$A44)*(datums=maart!T$5)*(uren))","v":"00:00:00"},{"$f":"SUMPRODUCT((werknemers=maart!$A44)*(datums=maart!U$5)*(uren))","v":"00:00:00"},{"$f":"SUMPRODUCT((werknemers=maart!$A44)*(datums=maart!V$5)*(uren))","v":"00:00:00"},{"$f":"SUMPRODUCT((werknemers=maart!$A44)*(datums=maart!W$5)*(uren))","v":"00:00:00"},{"$f":"SUMPRODUCT((werknemers=maart!$A44)*(datums=maart!X$5)*(uren))","v":"00:00:00"},{"$f":"SUMPRODUCT((werknemers=maart!$A44)*(datums=maart!Y$5)*(uren))","v":"00:00:00"},{"$f":"SUMPRODUCT((werknemers=maart!$A44)*(datums=maart!Z$5)*(uren))","v":"00:00:00"},{"$f":"SUMPRODUCT((werknemers=maart!$A44)*(datums=maart!AA$5)*(uren))","v":"00:00:00"},{"$f":"SUMPRODUCT((werknemers=maart!$A44)*(datums=maart!AB$5)*(uren))","v":"00:00:00"},{"$f":"SUMPRODUCT((werknemers=maart!$A44)*(datums=maart!AC$5)*(uren))","v":"00:00:00"},{"$f":"SUMPRODUCT((werknemers=maart!$A44)*(datums=maart!AD$5)*(uren))","v":"00:00:00"},{"$f":"SUMPRODUCT((werknemers=maart!$A44)*(datums=maart!AE$5)*(uren))","v":"00:00:00"},{"$f":"SUMPRODUCT((werknemers=maart!$A44)*(datums=maart!AF$5)*(uren))","v":"00:00:00"}]

{"sheet":"april","index":5,"n_rows":45,"n_cols":31,"rows_kept":45,"cut":false,"hidden":false,"merged":[[3,0,4,0],[1,1,1,3],[1,5,1,7],[1,9,1,11]]}
[]
[null,"verlof (V)",null,null,null,"ziek (Z)",null,null,null,"feestdag (F)"]
[]
[{"$f":"YEAR(B5)","v":2018},{"$f":"WEEKDAY(B5)","v":"1900-01-01"},{"$f":"WEEKDAY(C5)","v":"1900-01-02"},"1900-01-03","1900-01-04","1900-01-05","1900-01-06","1900-01-07","1900-01-01","1900-01-02","1900-01-03","1900-01-04","1900-01-05","1900-01-06","1900-01-07","1900-01-01","1900-01-02","1900-01-03","1900-01-04","1900-01-05","1900-01-06","1900-01-07","1900-01-01","1900-01-02","1900-01-03","1900-01-04","1900-01-05","1900-01-06","1900-01-07","1900-01-01","1900-01-02"]
[null,"2018-04-01","2018-04-02","2018-04-03","2018-04-04","2018-04-05","2018-04-06","2018-04-07","2018-04-08","2018-04-09","2018-04-10","2018-04-11","2018-04-12","2018-04-13","2018-04-14","2018-04-15","2018-04-16","2018-04-17","2018-04-18","2018-04-19","2018-04-20","2018-04-21","2018-04-22","2018-04-23","2018-04-24","2018-04-25","2018-04-26","2018-04-27","2018-04-28","2018-04-29","2018-04-30"]
[]
["CONTROLE",{"$f":"SUMPRODUCT((werknemers=april!$A6)*(datums=april!B$5)*(uren))","v":"00:00:00"},{"$f":"SUMPRODUCT((werknemers=april!$A6)*(datums=april!C$5)*(uren))","v":"00:00:00"},{"$f":"SUMPRODUCT((werknemers=april!$A6)*(datums=april!D$5)*(uren))","v":"00:00:00"},{"$f":"SUMPRODUCT((werknemers=april!$A6)*(datums=april!E$5)*(uren))","v":"00:00:00"},{"$f":"SUMPRODUCT((werknemers=april!$A6)*(datums=april!F$5)*(uren))","v":"00:00:00"},{"$f":"SUMPRODUCT((werknemers=april!$A6)*(datums=april!G$5)*(uren))","v":"00:00:00"},{"$f":"SUMPRODUCT((werknemers=april!$A6)*(datums=april!H$5)*(uren))","v":"00:00:00"},{"$f":"SUMPRODUCT((werknemers=april!$A6)*(datums=april!I$5)*(uren))","v":"00:00:00"},{"$f":"SUMPRODUCT((werknemers=april!$A6)*(datums=april!J$5)*(uren))","v":"00:00:00"},{"$f":"SUMPRODUCT((werknemers=april!$A6)*(datums=april!K$5)*(uren))","v":"00:00:00"},{"$f":"SUMPRODUCT((werknemers=april!$A6)*(datums=april!L$5)*(uren))","v":"00:00:00"},{"$f":"SUMPRODUCT((werknemers=april!$A6)*(datums=april!M$5)*(uren))","v":"00:00:00"},{"$f":"SUMPRODUCT((werknemers=april!$A6)*(datums=april!N$5)*(uren))","v":"00:00:00"},{"$f":"SUMPRODUCT((werknemers=april!$A6)*(datums=april!O$5)*(uren))","v":"00:00:00"},{"$f":"SUMPRODUCT((werknemers=april!$A6)*(datums=april!P$5)*(uren))","v":"00:00:00"},{"$f":"SUMPRODUCT((werknemers=april!$A6)*(datums=april!Q$5)*(uren))","v":"00:00:00"},{"$f":"SUMPRODUCT((werknemers=april!$A6)*(datums=april!R$5)*(uren))","v":"00:00:00"},{"$f":"SUMPRODUCT((werknemers=april!$A6)*(datums=april!S$5)*(uren))","v":"00:00:00"},{"$f":"SUMPRODUCT((werknemers=april!$A6)*(datums=april!T$5)*(uren))","v":"00:00:00"},{"$f":"SUMPRODUCT((werknemers=april!$A6)*(datums=april!U$5)*(uren))","v":"00:00:00"},{"$f":"SUMPRODUCT((werknemers=april!$A6)*(datums=april!V$5)*(uren))","v":"00:00:00"},{"$f":"SUMPRODUCT((werknemers=april!$A6)*(datums=april!W$5)*(uren))","v":"00:00:00"},{"$f":"SUMPRODUCT((werknemers=april!$A6)*(datums=april!X$5)*(uren))","v":"00:00:00"},{"$f":"SUMPRODUCT((werknemers=april!$A6)*(datums=april!Y$5)*(uren))","v":"00:00:00"},{"$f":"SUMPRODUCT((werknemers=april!$A6)*(datums=april!Z$5)*(uren))","v":"00:00:00"},{"$f":"SUMPRODUCT((werknemers=april!$A6)*(datums=april!AA$5)*(uren))","v":"00:00:00"},{"$f":"SUMPRODUCT((werknemers=april!$A6)*(datums=april!AB$5)*(uren))","v":"00:00:00"},{"$f":"SUMPRODUCT((werknemers=april!$A6)*(datums=april!AC$5)*(uren))","v":"00:00:00"},{"$f":"SUMPRODUCT((werknemers=april!$A6)*(datums=april!AD$5)*(uren))","v":"00:00:00"},{"$f":"SUMPRODUCT((werknemers=april!$A6)*(datums=april!AE$5)*(uren))","v":"00:00:00"}]
[]
["CONTROLE",{"$f":"SUMPRODUCT((werknemers=april!$A8)*(datums=april!B$5)*(uren))","v":"00:00:00"},{"$f":"SUMPRODUCT((werknemers=april!$A8)*(datums=april!C$5)*(uren))","v":"00:00:00"},{"$f":"SUMPRODUCT((werknemers=april!$A8)*(datums=april!D$5)*(uren))","v":"00:00:00"},{"$f":"SUMPRODUCT((werknemers=april!$A8)*(datums=april!E$5)*(uren))","v":"00:00:00"},{"$f":"SUMPRODUCT((werknemers=april!$A8)*(datums=april!F$5)*(uren))","v":"00:00:00"},{"$f":"SUMPRODUCT((werknemers=april!$A8)*(datums=april!G$5)*(uren))","v":"00:00:00"},{"$f":"SUMPRODUCT((werknemers=april!$A8)*(datums=april!H$5)*(uren))","v":"00:00:00"},{"$f":"SUMPRODUCT((werknemers=april!$A8)*(datums=april!I$5)*(uren))","v":"00:00:00"},{"$f":"SUMPRODUCT((werknemers=april!$A8)*(datums=april!J$5)*(uren))","v":"00:00:00"},{"$f":"SUMPRODUCT((werknemers=april!$A8)*(datums=april!K$5)*(uren))","v":"00:00:00"},{"$f":"SUMPRODUCT((werknemers=april!$A8)*(datums=april!L$5)*(uren))","v":"00:00:00"},{"$f":"SUMPRODUCT((werknemers=april!$A8)*(datums=april!M$5)*(uren))","v":"00:00:00"},{"$f":"SUMPRODUCT((werknemers=april!$A8)*(datums=april!N$5)*(uren))","v":"00:00:00"},{"$f":"SUMPRODUCT((werknemers=april!$A8)*(datums=april!O$5)*(uren))","v":"00:00:00"},{"$f":"SUMPRODUCT((werknemers=april!$A8)*(datums=april!P$5)*(uren))","v":"00:00:00"},{"$f":"SUMPRODUCT((werknemers=april!$A8)*(datums=april!Q$5)*(uren))","v":"00:00:00"},{"$f":"SUMPRODUCT((werknemers=april!$A8)*(datums=april!R$5)*(uren))","v":"00:00:00"},{"$f":"SUMPRODUCT((werknemers=april!$A8)*(datums=april!S$5)*(uren))","v":"00:00:00"},{"$f":"SUMPRODUCT((werknemers=april!$A8)*(datums=april!T$5)*(uren))","v":"00:00:00"},{"$f":"SUMPRODUCT((werknemers=april!$A8)*(datums=april!U$5)*(uren))","v":"00:00:00"},{"$f":"SUMPRODUCT((werknemers=april!$A8)*(datums=april!V$5)*(uren))","v":"00:00:00"},{"$f":"SUMPRODUCT((werknemers=april!$A8)*(datums=april!W$5)*(uren))","v":"00:00:00"},{"$f":"SUMPRODUCT((werknemers=april!$A8)*(datums=april!X$5)*(uren))","v":"00:00:00"},{"$f":"SUMPRODUCT((werknemers=april!$A8)*(datums=april!Y$5)*(uren))","v":"00:00:00"},{"$f":"SUMPRODUCT((werknemers=april!$A8)*(datums=april!Z$5)*(uren))","v":"00:00:00"},{"$f":"SUMPRODUCT((werknemers=april!$A8)*(datums=april!AA$5)*(uren))","v":"00:00:00"},{"$f":"SUMPRODUCT((werknemers=april!$A8)*(datums=april!AB$5)*(uren))","v":"00:00:00"},{"$f":"SUMPRODUCT((werknemers=april!$A8)*(datums=april!AC$5)*(uren))","v":"00:00:00"},{"$f":"SUMPRODUCT((werknemers=april!$A8)*(datums=april!AD$5)*(uren))","v":"00:00:00"},{"$f":"SUMPRODUCT((werknemers=april!$A8)*(datums=april!AE$5)*(uren))","v":"00:00:00"}]
[]
["CONTROLE",{"$f":"SUMPRODUCT((werknemers=april!$A10)*(datums=april!B$5)*(uren))","v":"00:00:00"},{"$f":"SUMPRODUCT((werknemers=april!$A10)*(datums=april!C$5)*(uren))","v":"00:00:00"},{"$f":"SUMPRODUCT((werknemers=april!$A10)*(datums=april!D$5)*(uren))","v":"00:00:00"},{"$f":"SUMPRODUCT((werknemers=april!$A10)*(datums=april!E$5)*(uren))","v":"00:00:00"},{"$f":"SUMPRODUCT((werknemers=april!$A10)*(datums=april!F$5)*(uren))","v":"00:00:00"},{"$f":"SUMPRODUCT((werknemers=april!$A10)*(datums=april!G$5)*(uren))","v":"00:00:00"},{"$f":"SUMPRODUCT((werknemers=april!$A10)*(datums=april!H$5)*(uren))","v":"00:00:00"},{"$f":"SUMPRODUCT((werknemers=april!$A10)*(datums=april!I$5)*(uren))","v":"00:00:00"},{"$f":"SUMPRODUCT((werknemers=april!$A10)*(datums=april!J$5)*(uren))","v":"00:00:00"},{"$f":"SUMPRODUCT((werknemers=april!$A10)*(datums=april!K$5)*(uren))","v":"00:00:00"},{"$f":"SUMPRODUCT((werknemers=april!$A10)*(datums=april!L$5)*(uren))","v":"00:00:00"},{"$f":"SUMPRODUCT((werknemers=april!$A10)*(datums=april!M$5)*(uren))","v":"00:00:00"},{"$f":"SUMPRODUCT((werknemers=april!$A10)*(datums=april!N$5)*(uren))","v":"00:00:00"},{"$f":"SUMPRODUCT((werknemers=april!$A10)*(datums=april!O$5)*(uren))","v":"00:00:00"},{"$f":"SUMPRODUCT((werknemers=april!$A10)*(datums=april!P$5)*(uren))","v":"00:00:00"},{"$f":"SUMPRODUCT((werknemers=april!$A10)*(datums=april!Q$5)*(uren))","v":"00:00:00"},{"$f":"SUMPRODUCT((werknemers=april!$A10)*(datums=april!R$5)*(uren))","v":"00:00:00"},{"$f":"SUMPRODUCT((werknemers=april!$A10)*(datums=april!S$5)*(uren))","v":"00:00:00"},{"$f":"SUMPRODUCT((werknemers=april!$A10)*(datums=april!T$5)*(uren))","v":"00:00:00"},{"$f":"SUMPRODUCT((werknemers=april!$A10)*(datums=april!U$5)*(uren))","v":"00:00:00"},{"$f":"SUMPRODUCT((werknemers=april!$A10)*(datums=april!V$5)*(uren))","v":"00:00:00"},{"$f":"SUMPRODUCT((werknemers=april!$A10)*(datums=april!W$5)*(uren))","v":"00:00:00"},{"$f":"SUMPRODUCT((werknemers=april!$A10)*(datums=april!X$5)*(uren))","v":"00:00:00"},{"$f":"SUMPRODUCT((werknemers=april!$A10)*(datums=april!Y$5)*(uren))","v":"00:00:00"},{"$f":"SUMPRODUCT((werknemers=april!$A10)*(datums=april!Z$5)*(uren))","v":"00:00:00"},{"$f":"SUMPRODUCT((werknemers=april!$A10)*(datums=april!AA$5)*(uren))","v":"00:00:00"},{"$f":"SUMPRODUCT((werknemers=april!$A10)*(datums=april!AB$5)*(uren))","v":"00:00:00"},{"$f":"SUMPRODUCT((werknemers=april!$A10)*(datums=april!AC$5)*(uren))","v":"00:00:00"},{"$f":"SUMPRODUCT((werknemers=april!$A10)*(datums=april!AD$5)*(uren))","v":"00:00:00"},{"$f":"SUMPRODUCT((werknemers=april!$A10)*(datums=april!AE$5)*(uren))","v":"00:00:00"}]
[]
["CONTROLE",{"$f":"SUMPRODUCT((werknemers=april!$A12)*(datums=april!B$5)*(uren))","v":"00:00:00"},{"$f":"SUMPRODUCT((werknemers=april!$A12)*(datums=april!C$5)*(uren))","v":"00:00:00"},{"$f":"SUMPRODUCT((werknemers=april!$A12)*(datums=april!D$5)*(uren))","v":"00:00:00"},{"$f":"SUMPRODUCT((werknemers=april!$A12)*(datums=april!E$5)*(uren))","v":"00:00:00"},{"$f":"SUMPRODUCT((werknemers=april!$A12)*(datums=april!F$5)*(uren))","v":"00:00:00"},{"$f":"SUMPRODUCT((werknemers=april!$A12)*(datums=april!G$5)*(uren))","v":"00:00:00"},{"$f":"SUMPRODUCT((werknemers=april!$A12)*(datums=april!H$5)*(uren))","v":"00:00:00"},{"$f":"SUMPRODUCT((werknemers=april!$A12)*(datums=april!I$5)*(uren))","v":"00:00:00"},{"$f":"SUMPRODUCT((werknemers=april!$A12)*(datums=april!J$5)*(uren))","v":"00:00:00"},{"$f":"SUMPRODUCT((werknemers=april!$A12)*(datums=april!K$5)*(uren))","v":"00:00:00"},{"$f":"SUMPRODUCT((werknemers=april!$A12)*(datums=april!L$5)*(uren))","v":"00:00:00"},{"$f":"SUMPRODUCT((werknemers=april!$A12)*(datums=april!M$5)*(uren))","v":"00:00:00"},{"$f":"SUMPRODUCT((werknemers=april!$A12)*(datums=april!N$5)*(uren))","v":"00:00:00"},{"$f":"SUMPRODUCT((werknemers=april!$A12)*(datums=april!O$5)*(uren))","v":"00:00:00"},{"$f":"SUMPRODUCT((werknemers=april!$A12)*(datums=april!P$5)*(uren))","v":"00:00:00"},{"$f":"SUMPRODUCT((werknemers=april!$A12)*(datums=april!Q$5)*(uren))","v":"00:00:00"},{"$f":"SUMPRODUCT((werknemers=april!$A12)*(datums=april!R$5)*(uren))","v":"00:00:00"},{"$f":"SUMPRODUCT((werknemers=april!$A12)*(datums=april!S$5)*(uren))","v":"00:00:00"},{"$f":"SUMPRODUCT((werknemers=april!$A12)*(datums=april!T$5)*(uren))","v":"00:00:00"},{"$f":"SUMPRODUCT((werknemers=april!$A12)*(datums=april!U$5)*(uren))","v":"00:00:00"},{"$f":"SUMPRODUCT((werknemers=april!$A12)*(datums=april!V$5)*(uren))","v":"00:00:00"},{"$f":"SUMPRODUCT((werknemers=april!$A12)*(datums=april!W$5)*(uren))","v":"00:00:00"},{"$f":"SUMPRODUCT((werknemers=april!$A12)*(datums=april!X$5)*(uren))","v":"00:00:00"},{"$f":"SUMPRODUCT((werknemers=april!$A12)*(datums=april!Y$5)*(uren))","v":"00:00:00"},{"$f":"SUMPRODUCT((werknemers=april!$A12)*(datums=april!Z$5)*(uren))","v":"00:00:00"},{"$f":"SUMPRODUCT((werknemers=april!$A12)*(datums=april!AA$5)*(uren))","v":"00:00:00"},{"$f":"SUMPRODUCT((werknemers=april!$A12)*(datums=april!AB$5)*(uren))","v":"00:00:00"},{"$f":"SUMPRODUCT((werknemers=april!$A12)*(datums=april!AC$5)*(uren))","v":"00:00:00"},{"$f":"SUMPRODUCT((werknemers=april!$A12)*(datums=april!AD$5)*(uren))","v":"00:00:00"},{"$f":"SUMPRODUCT((werknemers=april!$A12)*(datums=april!AE$5)*(uren))","v":"00:00:00"}]
[]
["CONTROLE",{"$f":"SUMPRODUCT((werknemers=april!$A14)*(datums=april!B$5)*(uren))","v":"00:00:00"},{"$f":"SUMPRODUCT((werknemers=april!$A14)*(datums=april!C$5)*(uren))","v":"00:00:00"},{"$f":"SUMPRODUCT((werknemers=april!$A14)*(datums=april!D$5)*(uren))","v":"00:00:00"},{"$f":"SUMPRODUCT((werknemers=april!$A14)*(datums=april!E$5)*(uren))","v":"00:00:00"},{"$f":"SUMPRODUCT((werknemers=april!$A14)*(datums=april!F$5)*(uren))","v":"00:00:00"},{"$f":"SUMPRODUCT((werknemers=april!$A14)*(datums=april!G$5)*(uren))","v":"00:00:00"},{"$f":"SUMPRODUCT((werknemers=april!$A14)*(datums=april!H$5)*(uren))","v":"00:00:00"},{"$f":"SUMPRODUCT((werknemers=april!$A14)*(datums=april!I$5)*(uren))","v":"00:00:00"},{"$f":"SUMPRODUCT((werknemers=april!$A14)*(datums=april!J$5)*(uren))","v":"00:00:00"},{"$f":"SUMPRODUCT((werknemers=april!$A14)*(datums=april!K$5)*(uren))","v":"00:00:00"},{"$f":"SUMPRODUCT((werknemers=april!$A14)*(datums=april!L$5)*(uren))","v":"00:00:00"},{"$f":"SUMPRODUCT((werknemers=april!$A14)*(datums=april!M$5)*(uren))","v":"00:00:00"},{"$f":"SUMPRODUCT((werknemers=april!$A14)*(datums=april!N$5)*(uren))","v":"00:00:00"},{"$f":"SUMPRODUCT((werknemers=april!$A14)*(datums=april!O$5)*(uren))","v":"00:00:00"},{"$f":"SUMPRODUCT((werknemers=april!$A14)*(datums=april!P$5)*(uren))","v":"00:00:00"},{"$f":"SUMPRODUCT((werknemers=april!$A14)*(datums=april!Q$5)*(uren))","v":"00:00:00"},{"$f":"SUMPRODUCT((werknemers=april!$A14)*(datums=april!R$5)*(uren))","v":"00:00:00"},{"$f":"SUMPRODUCT((werknemers=april!$A14)*(datums=april!S$5)*(uren))","v":"00:00:00"},{"$f":"SUMPRODUCT((werknemers=april!$A14)*(datums=april!T$5)*(uren))","v":"00:00:00"},{"$f":"SUMPRODUCT((werknemers=april!$A14)*(datums=april!U$5)*(uren))","v":"00:00:00"},{"$f":"SUMPRODUCT((werknemers=april!$A14)*(datums=april!V$5)*(uren))","v":"00:00:00"},{"$f":"SUMPRODUCT((werknemers=april!$A14)*(datums=april!W$5)*(uren))","v":"00:00:00"},{"$f":"SUMPRODUCT((werknemers=april!$A14)*(datums=april!X$5)*(uren))","v":"00:00:00"},{"$f":"SUMPRODUCT((werknemers=april!$A14)*(datums=april!Y$5)*(uren))","v":"00:00:00"},{"$f":"SUMPRODUCT((werknemers=april!$A14)*(datums=april!Z$5)*(uren))","v":"00:00:00"},{"$f":"SUMPRODUCT((werknemers=april!$A14)*(datums=april!AA$5)*(uren))","v":"00:00:00"},{"$f":"SUMPRODUCT((werknemers=april!$A14)*(datums=april!AB$5)*(uren))","v":"00:00:00"},{"$f":"SUMPRODUCT((werknemers=april!$A14)*(datums=april!AC$5)*(uren))","v":"00:00:00"},{"$f":"SUMPRODUCT((werknemers=april!$A14)*(datums=april!AD$5)*(uren))","v":"00:00:00"},{"$f":"SUMPRODUCT((werknemers=april!$A14)*(datums=april!AE$5)*(uren))","v":"00:00:00"}]
[]
["CONTROLE",{"$f":"SUMPRODUCT((werknemers=april!$A16)*(datums=april!B$5)*(uren))","v":"00:00:00"},{"$f":"SUMPRODUCT((werknemers=april!$A16)*(datums=april!C$5)*(uren))","v":"00:00:00"},{"$f":"SUMPRODUCT((werknemers=april!$A16)*(datums=april!D$5)*(uren))","v":"00:00:00"},{"$f":"SUMPRODUCT((werknemers=april!$A16)*(datums=april!E$5)*(uren))","v":"00:00:00"},{"$f":"SUMPRODUCT((werknemers=april!$A16)*(datums=april!F$5)*(uren))","v":"00:00:00"},{"$f":"SUMPRODUCT((werknemers=april!$A16)*(datums=april!G$5)*(uren))","v":"00:00:00"},{"$f":"SUMPRODUCT((werknemers=april!$A16)*(datums=april!H$5)*(uren))","v":"00:00:00"},{"$f":"SUMPRODUCT((werknemers=april!$A16)*(datums=april!I$5)*(uren))","v":"00:00:00"},{"$f":"SUMPRODUCT((werknemers=april!$A16)*(datums=april!J$5)*(uren))","v":"00:00:00"},{"$f":"SUMPRODUCT((werknemers=april!$A16)*(datums=april!K$5)*(uren))","v":"00:00:00"},{"$f":"SUMPRODUCT((werknemers=april!$A16)*(datums=april!L$5)*(uren))","v":"00:00:00"},{"$f":"SUMPRODUCT((werknemers=april!$A16)*(datums=april!M$5)*(uren))","v":"00:00:00"},{"$f":"SUMPRODUCT((werknemers=april!$A16)*(datums=april!N$5)*(uren))","v":"00:00:00"},{"$f":"SUMPRODUCT((werknemers=april!$A16)*(datums=april!O$5)*(uren))","v":"00:00:00"},{"$f":"SUMPRODUCT((werknemers=april!$A16)*(datums=april!P$5)*(uren))","v":"00:00:00"},{"$f":"SUMPRODUCT((werknemers=april!$A16)*(datums=april!Q$5)*(uren))","v":"00:00:00"},{"$f":"SUMPRODUCT((werknemers=april!$A16)*(datums=april!R$5)*(uren))","v":"00:00:00"},{"$f":"SUMPRODUCT((werknemers=april!$A16)*(datums=april!S$5)*(uren))","v":"00:00:00"},{"$f":"SUMPRODUCT((werknemers=april!$A16)*(datums=april!T$5)*(uren))","v":"00:00:00"},{"$f":"SUMPRODUCT((werknemers=april!$A16)*(datums=april!U$5)*(uren))","v":"00:00:00"},{"$f":"SUMPRODUCT((werknemers=april!$A16)*(datums=april!V$5)*(uren))","v":"00:00:00"},{"$f":"SUMPRODUCT((werknemers=april!$A16)*(datums=april!W$5)*(uren))","v":"00:00:00"},{"$f":"SUMPRODUCT((werknemers=april!$A16)*(datums=april!X$5)*(uren))","v":"00:00:00"},{"$f":"SUMPRODUCT((werknemers=april!$A16)*(datums=april!Y$5)*(uren))","v":"00:00:00"},{"$f":"SUMPRODUCT((werknemers=april!$A16)*(datums=april!Z$5)*(uren))","v":"00:00:00"},{"$f":"SUMPRODUCT((werknemers=april!$A16)*(datums=april!AA$5)*(uren))","v":"00:00:00"},{"$f":"SUMPRODUCT((werknemers=april!$A16)*(datums=april!AB$5)*(uren))","v":"00:00:00"},{"$f":"SUMPRODUCT((werknemers=april!$A16)*(datums=april!AC$5)*(uren))","v":"00:00:00"},{"$f":"SUMPRODUCT((werknemers=april!$A16)*(datums=april!AD$5)*(uren))","v":"00:00:00"},{"$f":"SUMPRODUCT((werknemers=april!$A16)*(datums=april!AE$5)*(uren))","v":"00:00:00"}]
[]
["CONTROLE",{"$f":"SUMPRODUCT((werknemers=april!$A18)*(datums=april!B$5)*(uren))","v":"00:00:00"},{"$f":"SUMPRODUCT((werknemers=april!$A18)*(datums=april!C$5)*(uren))","v":"00:00:00"},{"$f":"SUMPRODUCT((werknemers=april!$A18)*(datums=april!D$5)*(uren))","v":"00:00:00"},{"$f":"SUMPRODUCT((werknemers=april!$A18)*(datums=april!E$5)*(uren))","v":"00:00:00"},{"$f":"SUMPRODUCT((werknemers=april!$A18)*(datums=april!F$5)*(uren))","v":"00:00:00"},{"$f":"SUMPRODUCT((werknemers=april!$A18)*(datums=april!G$5)*(uren))","v":"00:00:00"},{"$f":"SUMPRODUCT((werknemers=april!$A18)*(datums=april!H$5)*(uren))","v":"00:00:00"},{"$f":"SUMPRODUCT((werknemers=april!$A18)*(datums=april!I$5)*(uren))","v":"00:00:00"},{"$f":"SUMPRODUCT((werknemers=april!$A18)*(datums=april!J$5)*(uren))","v":"00:00:00"},{"$f":"SUMPRODUCT((werknemers=april!$A18)*(datums=april!K$5)*(uren))","v":"00:00:00"},{"$f":"SUMPRODUCT((werknemers=april!$A18)*(datums=april!L$5)*(uren))","v":"00:00:00"},{"$f":"SUMPRODUCT((werknemers=april!$A18)*(datums=april!M$5)*(uren))","v":"00:00:00"},{"$f":"SUMPRODUCT((werknemers=april!$A18)*(datums=april!N$5)*(uren))","v":"00:00:00"},{"$f":"SUMPRODUCT((werknemers=april!$A18)*(datums=april!O$5)*(uren))","v":"00:00:00"},{"$f":"SUMPRODUCT((werknemers=april!$A18)*(datums=april!P$5)*(uren))","v":"00:00:00"},{"$f":"SUMPRODUCT((werknemers=april!$A18)*(datums=april!Q$5)*(uren))","v":"00:00:00"},{"$f":"SUMPRODUCT((werknemers=april!$A18)*(datums=april!R$5)*(uren))","v":"00:00:00"},{"$f":"SUMPRODUCT((werknemers=april!$A18)*(datums=april!S$5)*(uren))","v":"00:00:00"},{"$f":"SUMPRODUCT((werknemers=april!$A18)*(datums=april!T$5)*(uren))","v":"00:00:00"},{"$f":"SUMPRODUCT((werknemers=april!$A18)*(datums=april!U$5)*(uren))","v":"00:00:00"},{"$f":"SUMPRODUCT((werknemers=april!$A18)*(datums=april!V$5)*(uren))","v":"00:00:00"},{"$f":"SUMPRODUCT((werknemers=april!$A18)*(datums=april!W$5)*(uren))","v":"00:00:00"},{"$f":"SUMPRODUCT((werknemers=april!$A18)*(datums=april!X$5)*(uren))","v":"00:00:00"},{"$f":"SUMPRODUCT((werknemers=april!$A18)*(datums=april!Y$5)*(uren))","v":"00:00:00"},{"$f":"SUMPRODUCT((werknemers=april!$A18)*(datums=april!Z$5)*(uren))","v":"00:00:00"},{"$f":"SUMPRODUCT((werknemers=april!$A18)*(datums=april!AA$5)*(uren))","v":"00:00:00"},{"$f":"SUMPRODUCT((werknemers=april!$A18)*(datums=april!AB$5)*(uren))","v":"00:00:00"},{"$f":"SUMPRODUCT((werknemers=april!$A18)*(datums=april!AC$5)*(uren))","v":"00:00:00"},{"$f":"SUMPRODUCT((werknemers=april!$A18)*(datums=april!AD$5)*(uren))","v":"00:00:00"},{"$f":"SUMPRODUCT((werknemers=april!$A18)*(datums=april!AE$5)*(uren))","v":"00:00:00"}]
[]
["CONTROLE",{"$f":"SUMPRODUCT((werknemers=april!$A20)*(datums=april!B$5)*(uren))","v":"00:00:00"},{"$f":"SUMPRODUCT((werknemers=april!$A20)*(datums=april!C$5)*(uren))","v":"00:00:00"},{"$f":"SUMPRODUCT((werknemers=april!$A20)*(datums=april!D$5)*(uren))","v":"00:00:00"},{"$f":"SUMPRODUCT((werknemers=april!$A20)*(datums=april!E$5)*(uren))","v":"00:00:00"},{"$f":"SUMPRODUCT((werknemers=april!$A20)*(datums=april!F$5)*(uren))","v":"00:00:00"},{"$f":"SUMPRODUCT((werknemers=april!$A20)*(datums=april!G$5)*(uren))","v":"00:00:00"},{"$f":"SUMPRODUCT((werknemers=april!$A20)*(datums=april!H$5)*(uren))","v":"00:00:00"},{"$f":"SUMPRODUCT((werknemers=april!$A20)*(datums=april!I$5)*(uren))","v":"00:00:00"},{"$f":"SUMPRODUCT((werknemers=april!$A20)*(datums=april!J$5)*(uren))","v":"00:00:00"},{"$f":"SUMPRODUCT((werknemers=april!$A20)*(datums=april!K$5)*(uren))","v":"00:00:00"},{"$f":"SUMPRODUCT((werknemers=april!$A20)*(datums=april!L$5)*(uren))","v":"00:00:00"},{"$f":"SUMPRODUCT((werknemers=april!$A20)*(datums=april!M$5)*(uren))","v":"00:00:00"},{"$f":"SUMPRODUCT((werknemers=april!$A20)*(datums=april!N$5)*(uren))","v":"00:00:00"},{"$f":"SUMPRODUCT((werknemers=april!$A20)*(datums=april!O$5)*(uren))","v":"00:00:00"},{"$f":"SUMPRODUCT((werknemers=april!$A20)*(datums=april!P$5)*(uren))","v":"00:00:00"},{"$f":"SUMPRODUCT((werknemers=april!$A20)*(datums=april!Q$5)*(uren))","v":"00:00:00"},{"$f":"SUMPRODUCT((werknemers=april!$A20)*(datums=april!R$5)*(uren))","v":"00:00:00"},{"$f":"SUMPRODUCT((werknemers=april!$A20)*(datums=april!S$5)*(uren))","v":"00:00:00"},{"$f":"SUMPRODUCT((werknemers=april!$A20)*(datums=april!T$5)*(uren))","v":"00:00:00"},{"$f":"SUMPRODUCT((werknemers=april!$A20)*(datums=april!U$5)*(uren))","v":"00:00:00"},{"$f":"SUMPRODUCT((werknemers=april!$A20)*(datums=april!V$5)*(uren))","v":"00:00:00"},{"$f":"SUMPRODUCT((werknemers=april!$A20)*(datums=april!W$5)*(uren))","v":"00:00:00"},{"$f":"SUMPRODUCT((werknemers=april!$A20)*(datums=april!X$5)*(uren))","v":"00:00:00"},{"$f":"SUMPRODUCT((werknemers=april!$A20)*(datums=april!Y$5)*(uren))","v":"00:00:00"},{"$f":"SUMPRODUCT((werknemers=april!$A20)*(datums=april!Z$5)*(uren))","v":"00:00:00"},{"$f":"SUMPRODUCT((werknemers=april!$A20)*(datums=april!AA$5)*(uren))","v":"00:00:00"},{"$f":"SUMPRODUCT((werknemers=april!$A20)*(datums=april!AB$5)*(uren))","v":"00:00:00"},{"$f":"SUMPRODUCT((werknemers=april!$A20)*(datums=april!AC$5)*(uren))","v":"00:00:00"},{"$f":"SUMPRODUCT((werknemers=april!$A20)*(datums=april!AD$5)*(uren))","v":"00:00:00"},{"$f":"SUMPRODUCT((werknemers=april!$A20)*(datums=april!AE$5)*(uren))","v":"00:00:00"}]
[]
["CONTROLE",{"$f":"SUMPRODUCT((werknemers=april!$A22)*(datums=april!B$5)*(uren))","v":"00:00:00"},{"$f":"SUMPRODUCT((werknemers=april!$A22)*(datums=april!C$5)*(uren))","v":"00:00:00"},{"$f":"SUMPRODUCT((werknemers=april!$A22)*(datums=april!D$5)*(uren))","v":"00:00:00"},{"$f":"SUMPRODUCT((werknemers=april!$A22)*(datums=april!E$5)*(uren))","v":"00:00:00"},{"$f":"SUMPRODUCT((werknemers=april!$A22)*(datums=april!F$5)*(uren))","v":"00:00:00"},{"$f":"SUMPRODUCT((werknemers=april!$A22)*(datums=april!G$5)*(uren))","v":"00:00:00"},{"$f":"SUMPRODUCT((werknemers=april!$A22)*(datums=april!H$5)*(uren))","v":"00:00:00"},{"$f":"SUMPRODUCT((werknemers=april!$A22)*(datums=april!I$5)*(uren))","v":"00:00:00"},{"$f":"SUMPRODUCT((werknemers=april!$A22)*(datums=april!J$5)*(uren))","v":"00:00:00"},{"$f":"SUMPRODUCT((werknemers=april!$A22)*(datums=april!K$5)*(uren))","v":"00:00:00"},{"$f":"SUMPRODUCT((werknemers=april!$A22)*(datums=april!L$5)*(uren))","v":"00:00:00"},{"$f":"SUMPRODUCT((werknemers=april!$A22)*(datums=april!M$5)*(uren))","v":"00:00:00"},{"$f":"SUMPRODUCT((werknemers=april!$A22)*(datums=april!N$5)*(uren))","v":"00:00:00"},{"$f":"SUMPRODUCT((werknemers=april!$A22)*(datums=april!O$5)*(uren))","v":"00:00:00"},{"$f":"SUMPRODUCT((werknemers=april!$A22)*(datums=april!P$5)*(uren))","v":"00:00:00"},{"$f":"SUMPRODUCT((werknemers=april!$A22)*(datums=april!Q$5)*(uren))","v":"00:00:00"},{"$f":"SUMPRODUCT((werknemers=april!$A22)*(datums=april!R$5)*(uren))","v":"00:00:00"},{"$f":"SUMPRODUCT((werknemers=april!$A22)*(datums=april!S$5)*(uren))","v":"00:00:00"},{"$f":"SUMPRODUCT((werknemers=april!$A22)*(datums=april!T$5)*(uren))","v":"00:00:00"},{"$f":"SUMPRODUCT((werknemers=april!$A22)*(datums=april!U$5)*(uren))","v":"00:00:00"},{"$f":"SUMPRODUCT((werknemers=april!$A22)*(datums=april!V$5)*(uren))","v":"00:00:00"},{"$f":"SUMPRODUCT((werknemers=april!$A22)*(datums=april!W$5)*(uren))","v":"00:00:00"},{"$f":"SUMPRODUCT((werknemers=april!$A22)*(datums=april!X$5)*(uren))","v":"00:00:00"},{"$f":"SUMPRODUCT((werknemers=april!$A22)*(datums=april!Y$5)*(uren))","v":"00:00:00"},{"$f":"SUMPRODUCT((werknemers=april!$A22)*(datums=april!Z$5)*(uren))","v":"00:00:00"},{"$f":"SUMPRODUCT((werknemers=april!$A22)*(datums=april!AA$5)*(uren))","v":"00:00:00"},{"$f":"SUMPRODUCT((werknemers=april!$A22)*(datums=april!AB$5)*(uren))","v":"00:00:00"},{"$f":"SUMPRODUCT((werknemers=april!$A22)*(datums=april!AC$5)*(uren))","v":"00:00:00"},{"$f":"SUMPRODUCT((werknemers=april!$A22)*(datums=april!AD$5)*(uren))","v":"00:00:00"},{"$f":"SUMPRODUCT((werknemers=april!$A22)*(datums=april!AE$5)*(uren))","v":"00:00:00"}]
[]
["CONTROLE",{"$f":"SUMPRODUCT((werknemers=april!$A24)*(datums=april!B$5)*(uren))","v":"00:00:00"},{"$f":"SUMPRODUCT((werknemers=april!$A24)*(datums=april!C$5)*(uren))","v":"00:00:00"},{"$f":"SUMPRODUCT((werknemers=april!$A24)*(datums=april!D$5)*(uren))","v":"00:00:00"},{"$f":"SUMPRODUCT((werknemers=april!$A24)*(datums=april!E$5)*(uren))","v":"00:00:00"},{"$f":"SUMPRODUCT((werknemers=april!$A24)*(datums=april!F$5)*(uren))","v":"00:00:00"},{"$f":"SUMPRODUCT((werknemers=april!$A24)*(datums=april!G$5)*(uren))","v":"00:00:00"},{"$f":"SUMPRODUCT((werknemers=april!$A24)*(datums=april!H$5)*(uren))","v":"00:00:00"},{"$f":"SUMPRODUCT((werknemers=april!$A24)*(datums=april!I$5)*(uren))","v":"00:00:00"},{"$f":"SUMPRODUCT((werknemers=april!$A24)*(datums=april!J$5)*(uren))","v":"00:00:00"},{"$f":"SUMPRODUCT((werknemers=april!$A24)*(datums=april!K$5)*(uren))","v":"00:00:00"},{"$f":"SUMPRODUCT((werknemers=april!$A24)*(datums=april!L$5)*(uren))","v":"00:00:00"},{"$f":"SUMPRODUCT((werknemers=april!$A24)*(datums=april!M$5)*(uren))","v":"00:00:00"},{"$f":"SUMPRODUCT((werknemers=april!$A24)*(datums=april!N$5)*(uren))","v":"00:00:00"},{"$f":"SUMPRODUCT((werknemers=april!$A24)*(datums=april!O$5)*(uren))","v":"00:00:00"},{"$f":"SUMPRODUCT((werknemers=april!$A24)*(datums=april!P$5)*(uren))","v":"00:00:00"},{"$f":"SUMPRODUCT((werknemers=april!$A24)*(datums=april!Q$5)*(uren))","v":"00:00:00"},{"$f":"SUMPRODUCT((werknemers=april!$A24)*(datums=april!R$5)*(uren))","v":"00:00:00"},{"$f":"SUMPRODUCT((werknemers=april!$A24)*(datums=april!S$5)*(uren))","v":"00:00:00"},{"$f":"SUMPRODUCT((werknemers=april!$A24)*(datums=april!T$5)*(uren))","v":"00:00:00"},{"$f":"SUMPRODUCT((werknemers=april!$A24)*(datums=april!U$5)*(uren))","v":"00:00:00"},{"$f":"SUMPRODUCT((werknemers=april!$A24)*(datums=april!V$5)*(uren))","v":"00:00:00"},{"$f":"SUMPRODUCT((werknemers=april!$A24)*(datums=april!W$5)*(uren))","v":"00:00:00"},{"$f":"SUMPRODUCT((werknemers=april!$A24)*(datums=april!X$5)*(uren))","v":"00:00:00"},{"$f":"SUMPRODUCT((werknemers=april!$A24)*(datums=april!Y$5)*(uren))","v":"00:00:00"},{"$f":"SUMPRODUCT((werknemers=april!$A24)*(datums=april!Z$5)*(uren))","v":"00:00:00"},{"$f":"SUMPRODUCT((werknemers=april!$A24)*(datums=april!AA$5)*(uren))","v":"00:00:00"},{"$f":"SUMPRODUCT((werknemers=april!$A24)*(datums=april!AB$5)*(uren))","v":"00:00:00"},{"$f":"SUMPRODUCT((werknemers=april!$A24)*(datums=april!AC$5)*(uren))","v":"00:00:00"},{"$f":"SUMPRODUCT((werknemers=april!$A24)*(datums=april!AD$5)*(uren))","v":"00:00:00"},{"$f":"SUMPRODUCT((werknemers=april!$A24)*(datums=april!AE$5)*(uren))","v":"00:00:00"}]
[]
["CONTROLE",{"$f":"SUMPRODUCT((werknemers=april!$A26)*(datums=april!B$5)*(uren))","v":"00:00:00"},{"$f":"SUMPRODUCT((werknemers=april!$A26)*(datums=april!C$5)*(uren))","v":"00:00:00"},{"$f":"SUMPRODUCT((werknemers=april!$A26)*(datums=april!D$5)*(uren))","v":"00:00:00"},{"$f":"SUMPRODUCT((werknemers=april!$A26)*(datums=april!E$5)*(uren))","v":"00:00:00"},{"$f":"SUMPRODUCT((werknemers=april!$A26)*(datums=april!F$5)*(uren))","v":"00:00:00"},{"$f":"SUMPRODUCT((werknemers=april!$A26)*(datums=april!G$5)*(uren))","v":"00:00:00"},{"$f":"SUMPRODUCT((werknemers=april!$A26)*(datums=april!H$5)*(uren))","v":"00:00:00"},{"$f":"SUMPRODUCT((werknemers=april!$A26)*(datums=april!I$5)*(uren))","v":"00:00:00"},{"$f":"SUMPRODUCT((werknemers=april!$A26)*(datums=april!J$5)*(uren))","v":"00:00:00"},{"$f":"SUMPRODUCT((werknemers=april!$A26)*(datums=april!K$5)*(uren))","v":"00:00:00"},{"$f":"SUMPRODUCT((werknemers=april!$A26)*(datums=april!L$5)*(uren))","v":"00:00:00"},{"$f":"SUMPRODUCT((werknemers=april!$A26)*(datums=april!M$5)*(uren))","v":"00:00:00"},{"$f":"SUMPRODUCT((werknemers=april!$A26)*(datums=april!N$5)*(uren))","v":"00:00:00"},{"$f":"SUMPRODUCT((werknemers=april!$A26)*(datums=april!O$5)*(uren))","v":"00:00:00"},{"$f":"SUMPRODUCT((werknemers=april!$A26)*(datums=april!P$5)*(uren))","v":"00:00:00"},{"$f":"SUMPRODUCT((werknemers=april!$A26)*(datums=april!Q$5)*(uren))","v":"00:00:00"},{"$f":"SUMPRODUCT((werknemers=april!$A26)*(datums=april!R$5)*(uren))","v":"00:00:00"},{"$f":"SUMPRODUCT((werknemers=april!$A26)*(datums=april!S$5)*(uren))","v":"00:00:00"},{"$f":"SUMPRODUCT((werknemers=april!$A26)*(datums=april!T$5)*(uren))","v":"00:00:00"},{"$f":"SUMPRODUCT((werknemers=april!$A26)*(datums=april!U$5)*(uren))","v":"00:00:00"},{"$f":"SUMPRODUCT((werknemers=april!$A26)*(datums=april!V$5)*(uren))","v":"00:00:00"},{"$f":"SUMPRODUCT((werknemers=april!$A26)*(datums=april!W$5)*(uren))","v":"00:00:00"},{"$f":"SUMPRODUCT((werknemers=april!$A26)*(datums=april!X$5)*(uren))","v":"00:00:00"},{"$f":"SUMPRODUCT((werknemers=april!$A26)*(datums=april!Y$5)*(uren))","v":"00:00:00"},{"$f":"SUMPRODUCT((werknemers=april!$A26)*(datums=april!Z$5)*(uren))","v":"00:00:00"},{"$f":"SUMPRODUCT((werknemers=april!$A26)*(datums=april!AA$5)*(uren))","v":"00:00:00"},{"$f":"SUMPRODUCT((werknemers=april!$A26)*(datums=april!AB$5)*(uren))","v":"00:00:00"},{"$f":"SUMPRODUCT((werknemers=april!$A26)*(datums=april!AC$5)*(uren))","v":"00:00:00"},{"$f":"SUMPRODUCT((werknemers=april!$A26)*(datums=april!AD$5)*(uren))","v":"00:00:00"},{"$f":"SUMPRODUCT((werknemers=april!$A26)*(datums=april!AE$5)*(uren))","v":"00:00:00"}]
[]
["CONTROLE",{"$f":"SUMPRODUCT((werknemers=april!$A28)*(datums=april!B$5)*(uren))","v":"00:00:00"},{"$f":"SUMPRODUCT((werknemers=april!$A28)*(datums=april!C$5)*(uren))","v":"00:00:00"},{"$f":"SUMPRODUCT((werknemers=april!$A28)*(datums=april!D$5)*(uren))","v":"00:00:00"},{"$f":"SUMPRODUCT((werknemers=april!$A28)*(datums=april!E$5)*(uren))","v":"00:00:00"},{"$f":"SUMPRODUCT((werknemers=april!$A28)*(datums=april!F$5)*(uren))","v":"00:00:00"},{"$f":"SUMPRODUCT((werknemers=april!$A28)*(datums=april!G$5)*(uren))","v":"00:00:00"},{"$f":"SUMPRODUCT((werknemers=april!$A28)*(datums=april!H$5)*(uren))","v":"00:00:00"},{"$f":"SUMPRODUCT((werknemers=april!$A28)*(datums=april!I$5)*(uren))","v":"00:00:00"},{"$f":"SUMPRODUCT((werknemers=april!$A28)*(datums=april!J$5)*(uren))","v":"00:00:00"},{"$f":"SUMPRODUCT((werknemers=april!$A28)*(datums=april!K$5)*(uren))","v":"00:00:00"},{"$f":"SUMPRODUCT((werknemers=april!$A28)*(datums=april!L$5)*(uren))","v":"00:00:00"},{"$f":"SUMPRODUCT((werknemers=april!$A28)*(datums=april!M$5)*(uren))","v":"00:00:00"},{"$f":"SUMPRODUCT((werknemers=april!$A28)*(datums=april!N$5)*(uren))","v":"00:00:00"},{"$f":"SUMPRODUCT((werknemers=april!$A28)*(datums=april!O$5)*(uren))","v":"00:00:00"},{"$f":"SUMPRODUCT((werknemers=april!$A28)*(datums=april!P$5)*(uren))","v":"00:00:00"},{"$f":"SUMPRODUCT((werknemers=april!$A28)*(datums=april!Q$5)*(uren))","v":"00:00:00"},{"$f":"SUMPRODUCT((werknemers=april!$A28)*(datums=april!R$5)*(uren))","v":"00:00:00"},{"$f":"SUMPRODUCT((werknemers=april!$A28)*(datums=april!S$5)*(uren))","v":"00:00:00"},{"$f":"SUMPRODUCT((werknemers=april!$A28)*(datums=april!T$5)*(uren))","v":"00:00:00"},{"$f":"SUMPRODUCT((werknemers=april!$A28)*(datums=april!U$5)*(uren))","v":"00:00:00"},{"$f":"SUMPRODUCT((werknemers=april!$A28)*(datums=april!V$5)*(uren))","v":"00:00:00"},{"$f":"SUMPRODUCT((werknemers=april!$A28)*(datums=april!W$5)*(uren))","v":"00:00:00"},{"$f":"SUMPRODUCT((werknemers=april!$A28)*(datums=april!X$5)*(uren))","v":"00:00:00"},{"$f":"SUMPRODUCT((werknemers=april!$A28)*(datums=april!Y$5)*(uren))","v":"00:00:00"},{"$f":"SUMPRODUCT((werknemers=april!$A28)*(datums=april!Z$5)*(uren))","v":"00:00:00"},{"$f":"SUMPRODUCT((werknemers=april!$A28)*(datums=april!AA$5)*(uren))","v":"00:00:00"},{"$f":"SUMPRODUCT((werknemers=april!$A28)*(datums=april!AB$5)*(uren))","v":"00:00:00"},{"$f":"SUMPRODUCT((werknemers=april!$A28)*(datums=april!AC$5)*(uren))","v":"00:00:00"},{"$f":"SUMPRODUCT((werknemers=april!$A28)*(datums=april!AD$5)*(uren))","v":"00:00:00"},{"$f":"SUMPRODUCT((werknemers=april!$A28)*(datums=april!AE$5)*(uren))","v":"00:00:00"}]
[]
["CONTROLE",{"$f":"SUMPRODUCT((werknemers=april!$A30)*(datums=april!B$5)*(uren))","v":"00:00:00"},{"$f":"SUMPRODUCT((werknemers=april!$A30)*(datums=april!C$5)*(uren))","v":"00:00:00"},{"$f":"SUMPRODUCT((werknemers=april!$A30)*(datums=april!D$5)*(uren))","v":"00:00:00"},{"$f":"SUMPRODUCT((werknemers=april!$A30)*(datums=april!E$5)*(uren))","v":"00:00:00"},{"$f":"SUMPRODUCT((werknemers=april!$A30)*(datums=april!F$5)*(uren))","v":"00:00:00"},{"$f":"SUMPRODUCT((werknemers=april!$A30)*(datums=april!G$5)*(uren))","v":"00:00:00"},{"$f":"SUMPRODUCT((werknemers=april!$A30)*(datums=april!H$5)*(uren))","v":"00:00:00"},{"$f":"SUMPRODUCT((werknemers=april!$A30)*(datums=april!I$5)*(uren))","v":"00:00:00"},{"$f":"SUMPRODUCT((werknemers=april!$A30)*(datums=april!J$5)*(uren))","v":"00:00:00"},{"$f":"SUMPRODUCT((werknemers=april!$A30)*(datums=april!K$5)*(uren))","v":"00:00:00"},{"$f":"SUMPRODUCT((werknemers=april!$A30)*(datums=april!L$5)*(uren))","v":"00:00:00"},{"$f":"SUMPRODUCT((werknemers=april!$A30)*(datums=april!M$5)*(uren))","v":"00:00:00"},{"$f":"SUMPRODUCT((werknemers=april!$A30)*(datums=april!N$5)*(uren))","v":"00:00:00"},{"$f":"SUMPRODUCT((werknemers=april!$A30)*(datums=april!O$5)*(uren))","v":"00:00:00"},{"$f":"SUMPRODUCT((werknemers=april!$A30)*(datums=april!P$5)*(uren))","v":"00:00:00"},{"$f":"SUMPRODUCT((werknemers=april!$A30)*(datums=april!Q$5)*(uren))","v":"00:00:00"},{"$f":"SUMPRODUCT((werknemers=april!$A30)*(datums=april!R$5)*(uren))","v":"00:00:00"},{"$f":"SUMPRODUCT((werknemers=april!$A30)*(datums=april!S$5)*(uren))","v":"00:00:00"},{"$f":"SUMPRODUCT((werknemers=april!$A30)*(datums=april!T$5)*(uren))","v":"00:00:00"},{"$f":"SUMPRODUCT((werknemers=april!$A30)*(datums=april!U$5)*(uren))","v":"00:00:00"},{"$f":"SUMPRODUCT((werknemers=april!$A30)*(datums=april!V$5)*(uren))","v":"00:00:00"},{"$f":"SUMPRODUCT((werknemers=april!$A30)*(datums=april!W$5)*(uren))","v":"00:00:00"},{"$f":"SUMPRODUCT((werknemers=april!$A30)*(datums=april!X$5)*(uren))","v":"00:00:00"},{"$f":"SUMPRODUCT((werknemers=april!$A30)*(datums=april!Y$5)*(uren))","v":"00:00:00"},{"$f":"SUMPRODUCT((werknemers=april!$A30)*(datums=april!Z$5)*(uren))","v":"00:00:00"},{"$f":"SUMPRODUCT((werknemers=april!$A30)*(datums=april!AA$5)*(uren))","v":"00:00:00"},{"$f":"SUMPRODUCT((werknemers=april!$A30)*(datums=april!AB$5)*(uren))","v":"00:00:00"},{"$f":"SUMPRODUCT((werknemers=april!$A30)*(datums=april!AC$5)*(uren))","v":"00:00:00"},{"$f":"SUMPRODUCT((werknemers=april!$A30)*(datums=april!AD$5)*(uren))","v":"00:00:00"},{"$f":"SUMPRODUCT((werknemers=april!$A30)*(datums=april!AE$5)*(uren))","v":"00:00:00"}]
[]
["CONTROLE",{"$f":"SUMPRODUCT((werknemers=april!$A32)*(datums=april!B$5)*(uren))","v":"00:00:00"},{"$f":"SUMPRODUCT((werknemers=april!$A32)*(datums=april!C$5)*(uren))","v":"00:00:00"},{"$f":"SUMPRODUCT((werknemers=april!$A32)*(datums=april!D$5)*(uren))","v":"00:00:00"},{"$f":"SUMPRODUCT((werknemers=april!$A32)*(datums=april!E$5)*(uren))","v":"00:00:00"},{"$f":"SUMPRODUCT((werknemers=april!$A32)*(datums=april!F$5)*(uren))","v":"00:00:00"},{"$f":"SUMPRODUCT((werknemers=april!$A32)*(datums=april!G$5)*(uren))","v":"00:00:00"},{"$f":"SUMPRODUCT((werknemers=april!$A32)*(datums=april!H$5)*(uren))","v":"00:00:00"},{"$f":"SUMPRODUCT((werknemers=april!$A32)*(datums=april!I$5)*(uren))","v":"00:00:00"},{"$f":"SUMPRODUCT((werknemers=april!$A32)*(datums=april!J$5)*(uren))","v":"00:00:00"},{"$f":"SUMPRODUCT((werknemers=april!$A32)*(datums=april!K$5)*(uren))","v":"00:00:00"},{"$f":"SUMPRODUCT((werknemers=april!$A32)*(datums=april!L$5)*(uren))","v":"00:00:00"},{"$f":"SUMPRODUCT((werknemers=april!$A32)*(datums=april!M$5)*(uren))","v":"00:00:00"},{"$f":"SUMPRODUCT((werknemers=april!$A32)*(datums=april!N$5)*(uren))","v":"00:00:00"},{"$f":"SUMPRODUCT((werknemers=april!$A32)*(datums=april!O$5)*(uren))","v":"00:00:00"},{"$f":"SUMPRODUCT((werknemers=april!$A32)*(datums=april!P$5)*(uren))","v":"00:00:00"},{"$f":"SUMPRODUCT((werknemers=april!$A32)*(datums=april!Q$5)*(uren))","v":"00:00:00"},{"$f":"SUMPRODUCT((werknemers=april!$A32)*(datums=april!R$5)*(uren))","v":"00:00:00"},{"$f":"SUMPRODUCT((werknemers=april!$A32)*(datums=april!S$5)*(uren))","v":"00:00:00"},{"$f":"SUMPRODUCT((werknemers=april!$A32)*(datums=april!T$5)*(uren))","v":"00:00:00"},{"$f":"SUMPRODUCT((werknemers=april!$A32)*(datums=april!U$5)*(uren))","v":"00:00:00"},{"$f":"SUMPRODUCT((werknemers=april!$A32)*(datums=april!V$5)*(uren))","v":"00:00:00"},{"$f":"SUMPRODUCT((werknemers=april!$A32)*(datums=april!W$5)*(uren))","v":"00:00:00"},{"$f":"SUMPRODUCT((werknemers=april!$A32)*(datums=april!X$5)*(uren))","v":"00:00:00"},{"$f":"SUMPRODUCT((werknemers=april!$A32)*(datums=april!Y$5)*(uren))","v":"00:00:00"},{"$f":"SUMPRODUCT((werknemers=april!$A32)*(datums=april!Z$5)*(uren))","v":"00:00:00"},{"$f":"SUMPRODUCT((werknemers=april!$A32)*(datums=april!AA$5)*(uren))","v":"00:00:00"},{"$f":"SUMPRODUCT((werknemers=april!$A32)*(datums=april!AB$5)*(uren))","v":"00:00:00"},{"$f":"SUMPRODUCT((werknemers=april!$A32)*(datums=april!AC$5)*(uren))","v":"00:00:00"},{"$f":"SUMPRODUCT((werknemers=april!$A32)*(datums=april!AD$5)*(uren))","v":"00:00:00"},{"$f":"SUMPRODUCT((werknemers=april!$A32)*(datums=april!AE$5)*(uren))","v":"00:00:00"}]
[]
["CONTROLE",{"$f":"SUMPRODUCT((werknemers=april!$A34)*(datums=april!B$5)*(uren))","v":"00:00:00"},{"$f":"SUMPRODUCT((werknemers=april!$A34)*(datums=april!C$5)*(uren))","v":"00:00:00"},{"$f":"SUMPRODUCT((werknemers=april!$A34)*(datums=april!D$5)*(uren))","v":"00:00:00"},{"$f":"SUMPRODUCT((werknemers=april!$A34)*(datums=april!E$5)*(uren))","v":"00:00:00"},{"$f":"SUMPRODUCT((werknemers=april!$A34)*(datums=april!F$5)*(uren))","v":"00:00:00"},{"$f":"SUMPRODUCT((werknemers=april!$A34)*(datums=april!G$5)*(uren))","v":"00:00:00"},{"$f":"SUMPRODUCT((werknemers=april!$A34)*(datums=april!H$5)*(uren))","v":"00:00:00"},{"$f":"SUMPRODUCT((werknemers=april!$A34)*(datums=april!I$5)*(uren))","v":"00:00:00"},{"$f":"SUMPRODUCT((werknemers=april!$A34)*(datums=april!J$5)*(uren))","v":"00:00:00"},{"$f":"SUMPRODUCT((werknemers=april!$A34)*(datums=april!K$5)*(uren))","v":"00:00:00"},{"$f":"SUMPRODUCT((werknemers=april!$A34)*(datums=april!L$5)*(uren))","v":"00:00:00"},{"$f":"SUMPRODUCT((werknemers=april!$A34)*(datums=april!M$5)*(uren))","v":"00:00:00"},{"$f":"SUMPRODUCT((werknemers=april!$A34)*(datums=april!N$5)*(uren))","v":"00:00:00"},{"$f":"SUMPRODUCT((werknemers=april!$A34)*(datums=april!O$5)*(uren))","v":"00:00:00"},{"$f":"SUMPRODUCT((werknemers=april!$A34)*(datums=april!P$5)*(uren))","v":"00:00:00"},{"$f":"SUMPRODUCT((werknemers=april!$A34)*(datums=april!Q$5)*(uren))","v":"00:00:00"},{"$f":"SUMPRODUCT((werknemers=april!$A34)*(datums=april!R$5)*(uren))","v":"00:00:00"},{"$f":"SUMPRODUCT((werknemers=april!$A34)*(datums=april!S$5)*(uren))","v":"00:00:00"},{"$f":"SUMPRODUCT((werknemers=april!$A34)*(datums=april!T$5)*(uren))","v":"00:00:00"},{"$f":"SUMPRODUCT((werknemers=april!$A34)*(datums=april!U$5)*(uren))","v":"00:00:00"},{"$f":"SUMPRODUCT((werknemers=april!$A34)*(datums=april!V$5)*(uren))","v":"00:00:00"},{"$f":"SUMPRODUCT((werknemers=april!$A34)*(datums=april!W$5)*(uren))","v":"00:00:00"},{"$f":"SUMPRODUCT((werknemers=april!$A34)*(datums=april!X$5)*(uren))","v":"00:00:00"},{"$f":"SUMPRODUCT((werknemers=april!$A34)*(datums=april!Y$5)*(uren))","v":"00:00:00"},{"$f":"SUMPRODUCT((werknemers=april!$A34)*(datums=april!Z$5)*(uren))","v":"00:00:00"},{"$f":"SUMPRODUCT((werknemers=april!$A34)*(datums=april!AA$5)*(uren))","v":"00:00:00"},{"$f":"SUMPRODUCT((werknemers=april!$A34)*(datums=april!AB$5)*(uren))","v":"00:00:00"},{"$f":"SUMPRODUCT((werknemers=april!$A34)*(datums=april!AC$5)*(uren))","v":"00:00:00"},{"$f":"SUMPRODUCT((werknemers=april!$A34)*(datums=april!AD$5)*(uren))","v":"00:00:00"},{"$f":"SUMPRODUCT((werknemers=april!$A34)*(datums=april!AE$5)*(uren))","v":"00:00:00"}]
[]
["CONTROLE",{"$f":"SUMPRODUCT((werknemers=april!$A36)*(datums=april!B$5)*(uren))","v":"00:00:00"},{"$f":"SUMPRODUCT((werknemers=april!$A36)*(datums=april!C$5)*(uren))","v":"00:00:00"},{"$f":"SUMPRODUCT((werknemers=april!$A36)*(datums=april!D$5)*(uren))","v":"00:00:00"},{"$f":"SUMPRODUCT((werknemers=april!$A36)*(datums=april!E$5)*(uren))","v":"00:00:00"},{"$f":"SUMPRODUCT((werknemers=april!$A36)*(datums=april!F$5)*(uren))","v":"00:00:00"},{"$f":"SUMPRODUCT((werknemers=april!$A36)*(datums=april!G$5)*(uren))","v":"00:00:00"},{"$f":"SUMPRODUCT((werknemers=april!$A36)*(datums=april!H$5)*(uren))","v":"00:00:00"},{"$f":"SUMPRODUCT((werknemers=april!$A36)*(datums=april!I$5)*(uren))","v":"00:00:00"},{"$f":"SUMPRODUCT((werknemers=april!$A36)*(datums=april!J$5)*(uren))","v":"00:00:00"},{"$f":"SUMPRODUCT((werknemers=april!$A36)*(datums=april!K$5)*(uren))","v":"00:00:00"},{"$f":"SUMPRODUCT((werknemers=april!$A36)*(datums=april!L$5)*(uren))","v":"00:00:00"},{"$f":"SUMPRODUCT((werknemers=april!$A36)*(datums=april!M$5)*(uren))","v":"00:00:00"},{"$f":"SUMPRODUCT((werknemers=april!$A36)*(datums=april!N$5)*(uren))","v":"00:00:00"},{"$f":"SUMPRODUCT((werknemers=april!$A36)*(datums=april!O$5)*(uren))","v":"00:00:00"},{"$f":"SUMPRODUCT((werknemers=april!$A36)*(datums=april!P$5)*(uren))","v":"00:00:00"},{"$f":"SUMPRODUCT((werknemers=april!$A36)*(datums=april!Q$5)*(uren))","v":"00:00:00"},{"$f":"SUMPRODUCT((werknemers=april!$A36)*(datums=april!R$5)*(uren))","v":"00:00:00"},{"$f":"SUMPRODUCT((werknemers=april!$A36)*(datums=april!S$5)*(uren))","v":"00:00:00"},{"$f":"SUMPRODUCT((werknemers=april!$A36)*(datums=april!T$5)*(uren))","v":"00:00:00"},{"$f":"SUMPRODUCT((werknemers=april!$A36)*(datums=april!U$5)*(uren))","v":"00:00:00"},{"$f":"SUMPRODUCT((werknemers=april!$A36)*(datums=april!V$5)*(uren))","v":"00:00:00"},{"$f":"SUMPRODUCT((werknemers=april!$A36)*(datums=april!W$5)*(uren))","v":"00:00:00"},{"$f":"SUMPRODUCT((werknemers=april!$A36)*(datums=april!X$5)*(uren))","v":"00:00:00"},{"$f":"SUMPRODUCT((werknemers=april!$A36)*(datums=april!Y$5)*(uren))","v":"00:00:00"},{"$f":"SUMPRODUCT((werknemers=april!$A36)*(datums=april!Z$5)*(uren))","v":"00:00:00"},{"$f":"SUMPRODUCT((werknemers=april!$A36)*(datums=april!AA$5)*(uren))","v":"00:00:00"},{"$f":"SUMPRODUCT((werknemers=april!$A36)*(datums=april!AB$5)*(uren))","v":"00:00:00"},{"$f":"SUMPRODUCT((werknemers=april!$A36)*(datums=april!AC$5)*(uren))","v":"00:00:00"},{"$f":"SUMPRODUCT((werknemers=april!$A36)*(datums=april!AD$5)*(uren))","v":"00:00:00"},{"$f":"SUMPRODUCT((werknemers=april!$A36)*(datums=april!AE$5)*(uren))","v":"00:00:00"}]
[]
["CONTROLE",{"$f":"SUMPRODUCT((werknemers=april!$A38)*(datums=april!B$5)*(uren))","v":"00:00:00"},{"$f":"SUMPRODUCT((werknemers=april!$A38)*(datums=april!C$5)*(uren))","v":"00:00:00"},{"$f":"SUMPRODUCT((werknemers=april!$A38)*(datums=april!D$5)*(uren))","v":"00:00:00"},{"$f":"SUMPRODUCT((werknemers=april!$A38)*(datums=april!E$5)*(uren))","v":"00:00:00"},{"$f":"SUMPRODUCT((werknemers=april!$A38)*(datums=april!F$5)*(uren))","v":"00:00:00"},{"$f":"SUMPRODUCT((werknemers=april!$A38)*(datums=april!G$5)*(uren))","v":"00:00:00"},{"$f":"SUMPRODUCT((werknemers=april!$A38)*(datums=april!H$5)*(uren))","v":"00:00:00"},{"$f":"SUMPRODUCT((werknemers=april!$A38)*(datums=april!I$5)*(uren))","v":"00:00:00"},{"$f":"SUMPRODUCT((werknemers=april!$A38)*(datums=april!J$5)*(uren))","v":"00:00:00"},{"$f":"SUMPRODUCT((werknemers=april!$A38)*(datums=april!K$5)*(uren))","v":"00:00:00"},{"$f":"SUMPRODUCT((werknemers=april!$A38)*(datums=april!L$5)*(uren))","v":"00:00:00"},{"$f":"SUMPRODUCT((werknemers=april!$A38)*(datums=april!M$5)*(uren))","v":"00:00:00"},{"$f":"SUMPRODUCT((werknemers=april!$A38)*(datums=april!N$5)*(uren))","v":"00:00:00"},{"$f":"SUMPRODUCT((werknemers=april!$A38)*(datums=april!O$5)*(uren))","v":"00:00:00"},{"$f":"SUMPRODUCT((werknemers=april!$A38)*(datums=april!P$5)*(uren))","v":"00:00:00"},{"$f":"SUMPRODUCT((werknemers=april!$A38)*(datums=april!Q$5)*(uren))","v":"00:00:00"},{"$f":"SUMPRODUCT((werknemers=april!$A38)*(datums=april!R$5)*(uren))","v":"00:00:00"},{"$f":"SUMPRODUCT((werknemers=april!$A38)*(datums=april!S$5)*(uren))","v":"00:00:00"},{"$f":"SUMPRODUCT((werknemers=april!$A38)*(datums=april!T$5)*(uren))","v":"00:00:00"},{"$f":"SUMPRODUCT((werknemers=april!$A38)*(datums=april!U$5)*(uren))","v":"00:00:00"},{"$f":"SUMPRODUCT((werknemers=april!$A38)*(datums=april!V$5)*(uren))","v":"00:00:00"},{"$f":"SUMPRODUCT((werknemers=april!$A38)*(datums=april!W$5)*(uren))","v":"00:00:00"},{"$f":"SUMPRODUCT((werknemers=april!$A38)*(datums=april!X$5)*(uren))","v":"00:00:00"},{"$f":"SUMPRODUCT((werknemers=april!$A38)*(datums=april!Y$5)*(uren))","v":"00:00:00"},{"$f":"SUMPRODUCT((werknemers=april!$A38)*(datums=april!Z$5)*(uren))","v":"00:00:00"},{"$f":"SUMPRODUCT((werknemers=april!$A38)*(datums=april!AA$5)*(uren))","v":"00:00:00"},{"$f":"SUMPRODUCT((werknemers=april!$A38)*(datums=april!AB$5)*(uren))","v":"00:00:00"},{"$f":"SUMPRODUCT((werknemers=april!$A38)*(datums=april!AC$5)*(uren))","v":"00:00:00"},{"$f":"SUMPRODUCT((werknemers=april!$A38)*(datums=april!AD$5)*(uren))","v":"00:00:00"},{"$f":"SUMPRODUCT((werknemers=april!$A38)*(datums=april!AE$5)*(uren))","v":"00:00:00"}]
[]
["CONTROLE",{"$f":"SUMPRODUCT((werknemers=april!$A40)*(datums=april!B$5)*(uren))","v":"00:00:00"},{"$f":"SUMPRODUCT((werknemers=april!$A40)*(datums=april!C$5)*(uren))","v":"00:00:00"},{"$f":"SUMPRODUCT((werknemers=april!$A40)*(datums=april!D$5)*(uren))","v":"00:00:00"},{"$f":"SUMPRODUCT((werknemers=april!$A40)*(datums=april!E$5)*(uren))","v":"00:00:00"},{"$f":"SUMPRODUCT((werknemers=april!$A40)*(datums=april!F$5)*(uren))","v":"00:00:00"},{"$f":"SUMPRODUCT((werknemers=april!$A40)*(datums=april!G$5)*(uren))","v":"00:00:00"},{"$f":"SUMPRODUCT((werknemers=april!$A40)*(datums=april!H$5)*(uren))","v":"00:00:00"},{"$f":"SUMPRODUCT((werknemers=april!$A40)*(datums=april!I$5)*(uren))","v":"00:00:00"},{"$f":"SUMPRODUCT((werknemers=april!$A40)*(datums=april!J$5)*(uren))","v":"00:00:00"},{"$f":"SUMPRODUCT((werknemers=april!$A40)*(datums=april!K$5)*(uren))","v":"00:00:00"},{"$f":"SUMPRODUCT((werknemers=april!$A40)*(datums=april!L$5)*(uren))","v":"00:00:00"},{"$f":"SUMPRODUCT((werknemers=april!$A40)*(datums=april!M$5)*(uren))","v":"00:00:00"},{"$f":"SUMPRODUCT((werknemers=april!$A40)*(datums=april!N$5)*(uren))","v":"00:00:00"},{"$f":"SUMPRODUCT((werknemers=april!$A40)*(datums=april!O$5)*(uren))","v":"00:00:00"},{"$f":"SUMPRODUCT((werknemers=april!$A40)*(datums=april!P$5)*(uren))","v":"00:00:00"},{"$f":"SUMPRODUCT((werknemers=april!$A40)*(datums=april!Q$5)*(uren))","v":"00:00:00"},{"$f":"SUMPRODUCT((werknemers=april!$A40)*(datums=april!R$5)*(uren))","v":"00:00:00"},{"$f":"SUMPRODUCT((werknemers=april!$A40)*(datums=april!S$5)*(uren))","v":"00:00:00"},{"$f":"SUMPRODUCT((werknemers=april!$A40)*(datums=april!T$5)*(uren))","v":"00:00:00"},{"$f":"SUMPRODUCT((werknemers=april!$A40)*(datums=april!U$5)*(uren))","v":"00:00:00"},{"$f":"SUMPRODUCT((werknemers=april!$A40)*(datums=april!V$5)*(uren))","v":"00:00:00"},{"$f":"SUMPRODUCT((werknemers=april!$A40)*(datums=april!W$5)*(uren))","v":"00:00:00"},{"$f":"SUMPRODUCT((werknemers=april!$A40)*(datums=april!X$5)*(uren))","v":"00:00:00"},{"$f":"SUMPRODUCT((werknemers=april!$A40)*(datums=april!Y$5)*(uren))","v":"00:00:00"},{"$f":"SUMPRODUCT((werknemers=april!$A40)*(datums=april!Z$5)*(uren))","v":"00:00:00"},{"$f":"SUMPRODUCT((werknemers=april!$A40)*(datums=april!AA$5)*(uren))","v":"00:00:00"},{"$f":"SUMPRODUCT((werknemers=april!$A40)*(datums=april!AB$5)*(uren))","v":"00:00:00"},{"$f":"SUMPRODUCT((werknemers=april!$A40)*(datums=april!AC$5)*(uren))","v":"00:00:00"},{"$f":"SUMPRODUCT((werknemers=april!$A40)*(datums=april!AD$5)*(uren))","v":"00:00:00"},{"$f":"SUMPRODUCT((werknemers=april!$A40)*(datums=april!AE$5)*(uren))","v":"00:00:00"}]
[]
["CONTROLE",{"$f":"SUMPRODUCT((werknemers=april!$A42)*(datums=april!B$5)*(uren))","v":"00:00:00"},{"$f":"SUMPRODUCT((werknemers=april!$A42)*(datums=april!C$5)*(uren))","v":"00:00:00"},{"$f":"SUMPRODUCT((werknemers=april!$A42)*(datums=april!D$5)*(uren))","v":"00:00:00"},{"$f":"SUMPRODUCT((werknemers=april!$A42)*(datums=april!E$5)*(uren))","v":"00:00:00"},{"$f":"SUMPRODUCT((werknemers=april!$A42)*(datums=april!F$5)*(uren))","v":"00:00:00"},{"$f":"SUMPRODUCT((werknemers=april!$A42)*(datums=april!G$5)*(uren))","v":"00:00:00"},{"$f":"SUMPRODUCT((werknemers=april!$A42)*(datums=april!H$5)*(uren))","v":"00:00:00"},{"$f":"SUMPRODUCT((werknemers=april!$A42)*(datums=april!I$5)*(uren))","v":"00:00:00"},{"$f":"SUMPRODUCT((werknemers=april!$A42)*(datums=april!J$5)*(uren))","v":"00:00:00"},{"$f":"SUMPRODUCT((werknemers=april!$A42)*(datums=april!K$5)*(uren))","v":"00:00:00"},{"$f":"SUMPRODUCT((werknemers=april!$A42)*(datums=april!L$5)*(uren))","v":"00:00:00"},{"$f":"SUMPRODUCT((werknemers=april!$A42)*(datums=april!M$5)*(uren))","v":"00:00:00"},{"$f":"SUMPRODUCT((werknemers=april!$A42)*(datums=april!N$5)*(uren))","v":"00:00:00"},{"$f":"SUMPRODUCT((werknemers=april!$A42)*(datums=april!O$5)*(uren))","v":"00:00:00"},{"$f":"SUMPRODUCT((werknemers=april!$A42)*(datums=april!P$5)*(uren))","v":"00:00:00"},{"$f":"SUMPRODUCT((werknemers=april!$A42)*(datums=april!Q$5)*(uren))","v":"00:00:00"},{"$f":"SUMPRODUCT((werknemers=april!$A42)*(datums=april!R$5)*(uren))","v":"00:00:00"},{"$f":"SUMPRODUCT((werknemers=april!$A42)*(datums=april!S$5)*(uren))","v":"00:00:00"},{"$f":"SUMPRODUCT((werknemers=april!$A42)*(datums=april!T$5)*(uren))","v":"00:00:00"},{"$f":"SUMPRODUCT((werknemers=april!$A42)*(datums=april!U$5)*(uren))","v":"00:00:00"},{"$f":"SUMPRODUCT((werknemers=april!$A42)*(datums=april!V$5)*(uren))","v":"00:00:00"},{"$f":"SUMPRODUCT((werknemers=april!$A42)*(datums=april!W$5)*(uren))","v":"00:00:00"},{"$f":"SUMPRODUCT((werknemers=april!$A42)*(datums=april!X$5)*(uren))","v":"00:00:00"},{"$f":"SUMPRODUCT((werknemers=april!$A42)*(datums=april!Y$5)*(uren))","v":"00:00:00"},{"$f":"SUMPRODUCT((werknemers=april!$A42)*(datums=april!Z$5)*(uren))","v":"00:00:00"},{"$f":"SUMPRODUCT((werknemers=april!$A42)*(datums=april!AA$5)*(uren))","v":"00:00:00"},{"$f":"SUMPRODUCT((werknemers=april!$A42)*(datums=april!AB$5)*(uren))","v":"00:00:00"},{"$f":"SUMPRODUCT((werknemers=april!$A42)*(datums=april!AC$5)*(uren))","v":"00:00:00"},{"$f":"SUMPRODUCT((werknemers=april!$A42)*(datums=april!AD$5)*(uren))","v":"00:00:00"},{"$f":"SUMPRODUCT((werknemers=april!$A42)*(datums=april!AE$5)*(uren))","v":"00:00:00"}]
[]
["CONTROLE",{"$f":"SUMPRODUCT((werknemers=april!$A44)*(datums=april!B$5)*(uren))","v":"00:00:00"},{"$f":"SUMPRODUCT((werknemers=april!$A44)*(datums=april!C$5)*(uren))","v":"00:00:00"},{"$f":"SUMPRODUCT((werknemers=april!$A44)*(datums=april!D$5)*(uren))","v":"00:00:00"},{"$f":"SUMPRODUCT((werknemers=april!$A44)*(datums=april!E$5)*(uren))","v":"00:00:00"},{"$f":"SUMPRODUCT((werknemers=april!$A44)*(datums=april!F$5)*(uren))","v":"00:00:00"},{"$f":"SUMPRODUCT((werknemers=april!$A44)*(datums=april!G$5)*(uren))","v":"00:00:00"},{"$f":"SUMPRODUCT((werknemers=april!$A44)*(datums=april!H$5)*(uren))","v":"00:00:00"},{"$f":"SUMPRODUCT((werknemers=april!$A44)*(datums=april!I$5)*(uren))","v":"00:00:00"},{"$f":"SUMPRODUCT((werknemers=april!$A44)*(datums=april!J$5)*(uren))","v":"00:00:00"},{"$f":"SUMPRODUCT((werknemers=april!$A44)*(datums=april!K$5)*(uren))","v":"00:00:00"},{"$f":"SUMPRODUCT((werknemers=april!$A44)*(datums=april!L$5)*(uren))","v":"00:00:00"},{"$f":"SUMPRODUCT((werknemers=april!$A44)*(datums=april!M$5)*(uren))","v":"00:00:00"},{"$f":"SUMPRODUCT((werknemers=april!$A44)*(datums=april!N$5)*(uren))","v":"00:00:00"},{"$f":"SUMPRODUCT((werknemers=april!$A44)*(datums=april!O$5)*(uren))","v":"00:00:00"},{"$f":"SUMPRODUCT((werknemers=april!$A44)*(datums=april!P$5)*(uren))","v":"00:00:00"},{"$f":"SUMPRODUCT((werknemers=april!$A44)*(datums=april!Q$5)*(uren))","v":"00:00:00"},{"$f":"SUMPRODUCT((werknemers=april!$A44)*(datums=april!R$5)*(uren))","v":"00:00:00"},{"$f":"SUMPRODUCT((werknemers=april!$A44)*(datums=april!S$5)*(uren))","v":"00:00:00"},{"$f":"SUMPRODUCT((werknemers=april!$A44)*(datums=april!T$5)*(uren))","v":"00:00:00"},{"$f":"SUMPRODUCT((werknemers=april!$A44)*(datums=april!U$5)*(uren))","v":"00:00:00"},{"$f":"SUMPRODUCT((werknemers=april!$A44)*(datums=april!V$5)*(uren))","v":"00:00:00"},{"$f":"SUMPRODUCT((werknemers=april!$A44)*(datums=april!W$5)*(uren))","v":"00:00:00"},{"$f":"SUMPRODUCT((werknemers=april!$A44)*(datums=april!X$5)*(uren))","v":"00:00:00"},{"$f":"SUMPRODUCT((werknemers=april!$A44)*(datums=april!Y$5)*(uren))","v":"00:00:00"},{"$f":"SUMPRODUCT((werknemers=april!$A44)*(datums=april!Z$5)*(uren))","v":"00:00:00"},{"$f":"SUMPRODUCT((werknemers=april!$A44)*(datums=april!AA$5)*(uren))","v":"00:00:00"},{"$f":"SUMPRODUCT((werknemers=april!$A44)*(datums=april!AB$5)*(uren))","v":"00:00:00"},{"$f":"SUMPRODUCT((werknemers=april!$A44)*(datums=april!AC$5)*(uren))","v":"00:00:00"},{"$f":"SUMPRODUCT((werknemers=april!$A44)*(datums=april!AD$5)*(uren))","v":"00:00:00"},{"$f":"SUMPRODUCT((werknemers=april!$A44)*(datums=april!AE$5)*(uren))","v":"00:00:00"}]

{"sheet":"mei","index":6,"n_rows":45,"n_cols":32,"rows_kept":45,"cut":false,"hidden":false,"merged":[[3,0,4,0],[1,1,1,3],[1,5,1,7],[1,9,1,11]]}
[]
[null,"verlof (V)",null,null,null,"ziek (Z)",null,null,null,"feestdag (F)"]
[]
[{"$f":"YEAR(B5)","v":2018},{"$f":"WEEKDAY(B5)","v":"1900-01-03"},{"$f":"WEEKDAY(C5)","v":"1900-01-04"},"1900-01-05","1900-01-06","1900-01-07","1900-01-01","1900-01-02","1900-01-03","1900-01-04","1900-01-05","1900-01-06","1900-01-07","1900-01-01","1900-01-02","1900-01-03","1900-01-04","1900-01-05","1900-01-06","1900-01-07","1900-01-01","1900-01-02","1900-01-03","1900-01-04","1900-01-05","1900-01-06","1900-01-07","1900-01-01","1900-01-02","1900-01-03","1900-01-04","1900-01-05"]
[null,"2018-05-01","2018-05-02","2018-05-03","2018-05-04","2018-05-05","2018-05-06","2018-05-07","2018-05-08","2018-05-09","2018-05-10","2018-05-11","2018-05-12","2018-05-13","2018-05-14","2018-05-15","2018-05-16","2018-05-17","2018-05-18","2018-05-19","2018-05-20","2018-05-21","2018-05-22","2018-05-23","2018-05-24","2018-05-25","2018-05-26","2018-05-27","2018-05-28","2018-05-29","2018-05-30","2018-05-31"]
[]
["CONTROLE",{"$f":"SUMPRODUCT((werknemers=mei!$A6)*(datums=mei!B$5)*(uren))","v":"00:00:00"},{"$f":"SUMPRODUCT((werknemers=mei!$A6)*(datums=mei!C$5)*(uren))","v":"00:00:00"},{"$f":"SUMPRODUCT((werknemers=mei!$A6)*(datums=mei!D$5)*(uren))","v":"00:00:00"},{"$f":"SUMPRODUCT((werknemers=mei!$A6)*(datums=mei!E$5)*(uren))","v":"00:00:00"},{"$f":"SUMPRODUCT((werknemers=mei!$A6)*(datums=mei!F$5)*(uren))","v":"00:00:00"},{"$f":"SUMPRODUCT((werknemers=mei!$A6)*(datums=mei!G$5)*(uren))","v":"00:00:00"},{"$f":"SUMPRODUCT((werknemers=mei!$A6)*(datums=mei!H$5)*(uren))","v":"00:00:00"},{"$f":"SUMPRODUCT((werknemers=mei!$A6)*(datums=mei!I$5)*(uren))","v":"00:00:00"},{"$f":"SUMPRODUCT((werknemers=mei!$A6)*(datums=mei!J$5)*(uren))","v":"00:00:00"},{"$f":"SUMPRODUCT((werknemers=mei!$A6)*(datums=mei!K$5)*(uren))","v":"00:00:00"},{"$f":"SUMPRODUCT((werknemers=mei!$A6)*(datums=mei!L$5)*(uren))","v":"00:00:00"},{"$f":"SUMPRODUCT((werknemers=mei!$A6)*(datums=mei!M$5)*(uren))","v":"00:00:00"},{"$f":"SUMPRODUCT((werknemers=mei!$A6)*(datums=mei!N$5)*(uren))","v":"00:00:00"},{"$f":"SUMPRODUCT((werknemers=mei!$A6)*(datums=mei!O$5)*(uren))","v":"00:00:00"},{"$f":"SUMPRODUCT((werknemers=mei!$A6)*(datums=mei!P$5)*(uren))","v":"00:00:00"},{"$f":"SUMPRODUCT((werknemers=mei!$A6)*(datums=mei!Q$5)*(uren))","v":"00:00:00"},{"$f":"SUMPRODUCT((werknemers=mei!$A6)*(datums=mei!R$5)*(uren))","v":"00:00:00"},{"$f":"SUMPRODUCT((werknemers=mei!$A6)*(datums=mei!S$5)*(uren))","v":"00:00:00"},{"$f":"SUMPRODUCT((werknemers=mei!$A6)*(datums=mei!T$5)*(uren))","v":"00:00:00"},{"$f":"SUMPRODUCT((werknemers=mei!$A6)*(datums=mei!U$5)*(uren))","v":"00:00:00"},{"$f":"SUMPRODUCT((werknemers=mei!$A6)*(datums=mei!V$5)*(uren))","v":"00:00:00"},{"$f":"SUMPRODUCT((werknemers=mei!$A6)*(datums=mei!W$5)*(uren))","v":"00:00:00"},{"$f":"SUMPRODUCT((werknemers=mei!$A6)*(datums=mei!X$5)*(uren))","v":"00:00:00"},{"$f":"SUMPRODUCT((werknemers=mei!$A6)*(datums=mei!Y$5)*(uren))","v":"00:00:00"},{"$f":"SUMPRODUCT((werknemers=mei!$A6)*(datums=mei!Z$5)*(uren))","v":"00:00:00"},{"$f":"SUMPRODUCT((werknemers=mei!$A6)*(datums=mei!AA$5)*(uren))","v":"00:00:00"},{"$f":"SUMPRODUCT((werknemers=mei!$A6)*(datums=mei!AB$5)*(uren))","v":"00:00:00"},{"$f":"SUMPRODUCT((werknemers=mei!$A6)*(datums=mei!AC$5)*(uren))","v":"00:00:00"},{"$f":"SUMPRODUCT((werknemers=mei!$A6)*(datums=mei!AD$5)*(uren))","v":"00:00:00"},{"$f":"SUMPRODUCT((werknemers=mei!$A6)*(datums=mei!AE$5)*(uren))","v":"00:00:00"},{"$f":"SUMPRODUCT((werknemers=mei!$A6)*(datums=mei!AF$5)*(uren))","v":"00:00:00"}]
[]
["CONTROLE",{"$f":"SUMPRODUCT((werknemers=mei!$A8)*(datums=mei!B$5)*(uren))","v":"00:00:00"},{"$f":"SUMPRODUCT((werknemers=mei!$A8)*(datums=mei!C$5)*(uren))","v":"00:00:00"},{"$f":"SUMPRODUCT((werknemers=mei!$A8)*(datums=mei!D$5)*(uren))","v":"00:00:00"},{"$f":"SUMPRODUCT((werknemers=mei!$A8)*(datums=mei!E$5)*(uren))","v":"00:00:00"},{"$f":"SUMPRODUCT((werknemers=mei!$A8)*(datums=mei!F$5)*(uren))","v":"00:00:00"},{"$f":"SUMPRODUCT((werknemers=mei!$A8)*(datums=mei!G$5)*(uren))","v":"00:00:00"},{"$f":"SUMPRODUCT((werknemers=mei!$A8)*(datums=mei!H$5)*(uren))","v":"00:00:00"},{"$f":"SUMPRODUCT((werknemers=mei!$A8)*(datums=mei!I$5)*(uren))","v":"00:00:00"},{"$f":"SUMPRODUCT((werknemers=mei!$A8)*(datums=mei!J$5)*(uren))","v":"00:00:00"},{"$f":"SUMPRODUCT((werknemers=mei!$A8)*(datums=mei!K$5)*(uren))","v":"00:00:00"},{"$f":"SUMPRODUCT((werknemers=mei!$A8)*(datums=mei!L$5)*(uren))","v":"00:00:00"},{"$f":"SUMPRODUCT((werknemers=mei!$A8)*(datums=mei!M$5)*(uren))","v":"00:00:00"},{"$f":"SUMPRODUCT((werknemers=mei!$A8)*(datums=mei!N$5)*(uren))","v":"00:00:00"},{"$f":"SUMPRODUCT((werknemers=mei!$A8)*(datums=mei!O$5)*(uren))","v":"00:00:00"},{"$f":"SUMPRODUCT((werknemers=mei!$A8)*(datums=mei!P$5)*(uren))","v":"00:00:00"},{"$f":"SUMPRODUCT((werknemers=mei!$A8)*(datums=mei!Q$5)*(uren))","v":"00:00:00"},{"$f":"SUMPRODUCT((werknemers=mei!$A8)*(datums=mei!R$5)*(uren))","v":"00:00:00"},{"$f":"SUMPRODUCT((werknemers=mei!$A8)*(datums=mei!S$5)*(uren))","v":"00:00:00"},{"$f":"SUMPRODUCT((werknemers=mei!$A8)*(datums=mei!T$5)*(uren))","v":"00:00:00"},{"$f":"SUMPRODUCT((werknemers=mei!$A8)*(datums=mei!U$5)*(uren))","v":"00:00:00"},{"$f":"SUMPRODUCT((werknemers=mei!$A8)*(datums=mei!V$5)*(uren))","v":"00:00:00"},{"$f":"SUMPRODUCT((werknemers=mei!$A8)*(datums=mei!W$5)*(uren))","v":"00:00:00"},{"$f":"SUMPRODUCT((werknemers=mei!$A8)*(datums=mei!X$5)*(uren))","v":"00:00:00"},{"$f":"SUMPRODUCT((werknemers=mei!$A8)*(datums=mei!Y$5)*(uren))","v":"00:00:00"},{"$f":"SUMPRODUCT((werknemers=mei!$A8)*(datums=mei!Z$5)*(uren))","v":"00:00:00"},{"$f":"SUMPRODUCT((werknemers=mei!$A8)*(datums=mei!AA$5)*(uren))","v":"00:00:00"},{"$f":"SUMPRODUCT((werknemers=mei!$A8)*(datums=mei!AB$5)*(uren))","v":"00:00:00"},{"$f":"SUMPRODUCT((werknemers=mei!$A8)*(datums=mei!AC$5)*(uren))","v":"00:00:00"},{"$f":"SUMPRODUCT((werknemers=mei!$A8)*(datums=mei!AD$5)*(uren))","v":"00:00:00"},{"$f":"SUMPRODUCT((werknemers=mei!$A8)*(datums=mei!AE$5)*(uren))","v":"00:00:00"},{"$f":"SUMPRODUCT((werknemers=mei!$A8)*(datums=mei!AF$5)*(uren))","v":"00:00:00"}]
[]
["CONTROLE",{"$f":"SUMPRODUCT((werknemers=mei!$A10)*(datums=mei!B$5)*(uren))","v":"00:00:00"},{"$f":"SUMPRODUCT((werknemers=mei!$A10)*(datums=mei!C$5)*(uren))","v":"00:00:00"},{"$f":"SUMPRODUCT((werknemers=mei!$A10)*(datums=mei!D$5)*(uren))","v":"00:00:00"},{"$f":"SUMPRODUCT((werknemers=mei!$A10)*(datums=mei!E$5)*(uren))","v":"00:00:00"},{"$f":"SUMPRODUCT((werknemers=mei!$A10)*(datums=mei!F$5)*(uren))","v":"00:00:00"},{"$f":"SUMPRODUCT((werknemers=mei!$A10)*(datums=mei!G$5)*(uren))","v":"00:00:00"},{"$f":"SUMPRODUCT((werknemers=mei!$A10)*(datums=mei!H$5)*(uren))","v":"00:00:00"},{"$f":"SUMPRODUCT((werknemers=mei!$A10)*(datums=mei!I$5)*(uren))","v":"00:00:00"},{"$f":"SUMPRODUCT((werknemers=mei!$A10)*(datums=mei!J$5)*(uren))","v":"00:00:00"},{"$f":"SUMPRODUCT((werknemers=mei!$A10)*(datums=mei!K$5)*(uren))","v":"00:00:00"},{"$f":"SUMPRODUCT((werknemers=mei!$A10)*(datums=mei!L$5)*(uren))","v":"00:00:00"},{"$f":"SUMPRODUCT((werknemers=mei!$A10)*(datums=mei!M$5)*(uren))","v":"00:00:00"},{"$f":"SUMPRODUCT((werknemers=mei!$A10)*(datums=mei!N$5)*(uren))","v":"00:00:00"},{"$f":"SUMPRODUCT((werknemers=mei!$A10)*(datums=mei!O$5)*(uren))","v":"00:00:00"},{"$f":"SUMPRODUCT((werknemers=mei!$A10)*(datums=mei!P$5)*(uren))","v":"00:00:00"},{"$f":"SUMPRODUCT((werknemers=mei!$A10)*(datums=mei!Q$5)*(uren))","v":"00:00:00"},{"$f":"SUMPRODUCT((werknemers=mei!$A10)*(datums=mei!R$5)*(uren))","v":"00:00:00"},{"$f":"SUMPRODUCT((werknemers=mei!$A10)*(datums=mei!S$5)*(uren))","v":"00:00:00"},{"$f":"SUMPRODUCT((werknemers=mei!$A10)*(datums=mei!T$5)*(uren))","v":"00:00:00"},{"$f":"SUMPRODUCT((werknemers=mei!$A10)*(datums=mei!U$5)*(uren))","v":"00:00:00"},{"$f":"SUMPRODUCT((werknemers=mei!$A10)*(datums=mei!V$5)*(uren))","v":"00:00:00"},{"$f":"SUMPRODUCT((werknemers=mei!$A10)*(datums=mei!W$5)*(uren))","v":"00:00:00"},{"$f":"SUMPRODUCT((werknemers=mei!$A10)*(datums=mei!X$5)*(uren))","v":"00:00:00"},{"$f":"SUMPRODUCT((werknemers=mei!$A10)*(datums=mei!Y$5)*(uren))","v":"00:00:00"},{"$f":"SUMPRODUCT((werknemers=mei!$A10)*(datums=mei!Z$5)*(uren))","v":"00:00:00"},{"$f":"SUMPRODUCT((werknemers=mei!$A10)*(datums=mei!AA$5)*(uren))","v":"00:00:00"},{"$f":"SUMPRODUCT((werknemers=mei!$A10)*(datums=mei!AB$5)*(uren))","v":"00:00:00"},{"$f":"SUMPRODUCT((werknemers=mei!$A10)*(datums=mei!AC$5)*(uren))","v":"00:00:00"},{"$f":"SUMPRODUCT((werknemers=mei!$A10)*(datums=mei!AD$5)*(uren))","v":"00:00:00"},{"$f":"SUMPRODUCT((werknemers=mei!$A10)*(datums=mei!AE$5)*(uren))","v":"00:00:00"},{"$f":"SUMPRODUCT((werknemers=mei!$A10)*(datums=mei!AF$5)*(uren))","v":"00:00:00"}]
[]
["CONTROLE",{"$f":"SUMPRODUCT((werknemers=mei!$A12)*(datums=mei!B$5)*(uren))","v":"00:00:00"},{"$f":"SUMPRODUCT((werknemers=mei!$A12)*(datums=mei!C$5)*(uren))","v":"00:00:00"},{"$f":"SUMPRODUCT((werknemers=mei!$A12)*(datums=mei!D$5)*(uren))","v":"00:00:00"},{"$f":"SUMPRODUCT((werknemers=mei!$A12)*(datums=mei!E$5)*(uren))","v":"00:00:00"},{"$f":"SUMPRODUCT((werknemers=mei!$A12)*(datums=mei!F$5)*(uren))","v":"00:00:00"},{"$f":"SUMPRODUCT((werknemers=mei!$A12)*(datums=mei!G$5)*(uren))","v":"00:00:00"},{"$f":"SUMPRODUCT((werknemers=mei!$A12)*(datums=mei!H$5)*(uren))","v":"00:00:00"},{"$f":"SUMPRODUCT((werknemers=mei!$A12)*(datums=mei!I$5)*(uren))","v":"00:00:00"},{"$f":"SUMPRODUCT((werknemers=mei!$A12)*(datums=mei!J$5)*(uren))","v":"00:00:00"},{"$f":"SUMPRODUCT((werknemers=mei!$A12)*(datums=mei!K$5)*(uren))","v":"00:00:00"},{"$f":"SUMPRODUCT((werknemers=mei!$A12)*(datums=mei!L$5)*(uren))","v":"00:00:00"},{"$f":"SUMPRODUCT((werknemers=mei!$A12)*(datums=mei!M$5)*(uren))","v":"00:00:00"},{"$f":"SUMPRODUCT((werknemers=mei!$A12)*(datums=mei!N$5)*(uren))","v":"00:00:00"},{"$f":"SUMPRODUCT((werknemers=mei!$A12)*(datums=mei!O$5)*(uren))","v":"00:00:00"},{"$f":"SUMPRODUCT((werknemers=mei!$A12)*(datums=mei!P$5)*(uren))","v":"00:00:00"},{"$f":"SUMPRODUCT((werknemers=mei!$A12)*(datums=mei!Q$5)*(uren))","v":"00:00:00"},{"$f":"SUMPRODUCT((werknemers=mei!$A12)*(datums=mei!R$5)*(uren))","v":"00:00:00"},{"$f":"SUMPRODUCT((werknemers=mei!$A12)*(datums=mei!S$5)*(uren))","v":"00:00:00"},{"$f":"SUMPRODUCT((werknemers=mei!$A12)*(datums=mei!T$5)*(uren))","v":"00:00:00"},{"$f":"SUMPRODUCT((werknemers=mei!$A12)*(datums=mei!U$5)*(uren))","v":"00:00:00"},{"$f":"SUMPRODUCT((werknemers=mei!$A12)*(datums=mei!V$5)*(uren))","v":"00:00:00"},{"$f":"SUMPRODUCT((werknemers=mei!$A12)*(datums=mei!W$5)*(uren))","v":"00:00:00"},{"$f":"SUMPRODUCT((werknemers=mei!$A12)*(datums=mei!X$5)*(uren))","v":"00:00:00"},{"$f":"SUMPRODUCT((werknemers=mei!$A12)*(datums=mei!Y$5)*(uren))","v":"00:00:00"},{"$f":"SUMPRODUCT((werknemers=mei!$A12)*(datums=mei!Z$5)*(uren))","v":"00:00:00"},{"$f":"SUMPRODUCT((werknemers=mei!$A12)*(datums=mei!AA$5)*(uren))","v":"00:00:00"},{"$f":"SUMPRODUCT((werknemers=mei!$A12)*(datums=mei!AB$5)*(uren))","v":"00:00:00"},{"$f":"SUMPRODUCT((werknemers=mei!$A12)*(datums=mei!AC$5)*(uren))","v":"00:00:00"},{"$f":"SUMPRODUCT((werknemers=mei!$A12)*(datums=mei!AD$5)*(uren))","v":"00:00:00"},{"$f":"SUMPRODUCT((werknemers=mei!$A12)*(datums=mei!AE$5)*(uren))","v":"00:00:00"},{"$f":"SUMPRODUCT((werknemers=mei!$A12)*(datums=mei!AF$5)*(uren))","v":"00:00:00"}]
[]
["CONTROLE",{"$f":"SUMPRODUCT((werknemers=mei!$A14)*(datums=mei!B$5)*(uren))","v":"00:00:00"},{"$f":"SUMPRODUCT((werknemers=mei!$A14)*(datums=mei!C$5)*(uren))","v":"00:00:00"},{"$f":"SUMPRODUCT((werknemers=mei!$A14)*(datums=mei!D$5)*(uren))","v":"00:00:00"},{"$f":"SUMPRODUCT((werknemers=mei!$A14)*(datums=mei!E$5)*(uren))","v":"00:00:00"},{"$f":"SUMPRODUCT((werknemers=mei!$A14)*(datums=mei!F$5)*(uren))","v":"00:00:00"},{"$f":"SUMPRODUCT((werknemers=mei!$A14)*(datums=mei!G$5)*(uren))","v":"00:00:00"},{"$f":"SUMPRODUCT((werknemers=mei!$A14)*(datums=mei!H$5)*(uren))","v":"00:00:00"},{"$f":"SUMPRODUCT((werknemers=mei!$A14)*(datums=mei!I$5)*(uren))","v":"00:00:00"},{"$f":"SUMPRODUCT((werknemers=mei!$A14)*(datums=mei!J$5)*(uren))","v":"00:00:00"},{"$f":"SUMPRODUCT((werknemers=mei!$A14)*(datums=mei!K$5)*(uren))","v":"00:00:00"},{"$f":"SUMPRODUCT((werknemers=mei!$A14)*(datums=mei!L$5)*(uren))","v":"00:00:00"},{"$f":"SUMPRODUCT((werknemers=mei!$A14)*(datums=mei!M$5)*(uren))","v":"00:00:00"},{"$f":"SUMPRODUCT((werknemers=mei!$A14)*(datums=mei!N$5)*(uren))","v":"00:00:00"},{"$f":"SUMPRODUCT((werknemers=mei!$A14)*(datums=mei!O$5)*(uren))","v":"00:00:00"},{"$f":"SUMPRODUCT((werknemers=mei!$A14)*(datums=mei!P$5)*(uren))","v":"00:00:00"},{"$f":"SUMPRODUCT((werknemers=mei!$A14)*(datums=mei!Q$5)*(uren))","v":"00:00:00"},{"$f":"SUMPRODUCT((werknemers=mei!$A14)*(datums=mei!R$5)*(uren))","v":"00:00:00"},{"$f":"SUMPRODUCT((werknemers=mei!$A14)*(datums=mei!S$5)*(uren))","v":"00:00:00"},{"$f":"SUMPRODUCT((werknemers=mei!$A14)*(datums=mei!T$5)*(uren))","v":"00:00:00"},{"$f":"SUMPRODUCT((werknemers=mei!$A14)*(datums=mei!U$5)*(uren))","v":"00:00:00"},{"$f":"SUMPRODUCT((werknemers=mei!$A14)*(datums=mei!V$5)*(uren))","v":"00:00:00"},{"$f":"SUMPRODUCT((werknemers=mei!$A14)*(datums=mei!W$5)*(uren))","v":"00:00:00"},{"$f":"SUMPRODUCT((werknemers=mei!$A14)*(datums=mei!X$5)*(uren))","v":"00:00:00"},{"$f":"SUMPRODUCT((werknemers=mei!$A14)*(datums=mei!Y$5)*(uren))","v":"00:00:00"},{"$f":"SUMPRODUCT((werknemers=mei!$A14)*(datums=mei!Z$5)*(uren))","v":"00:00:00"},{"$f":"SUMPRODUCT((werknemers=mei!$A14)*(datums=mei!AA$5)*(uren))","v":"00:00:00"},{"$f":"SUMPRODUCT((werknemers=mei!$A14)*(datums=mei!AB$5)*(uren))","v":"00:00:00"},{"$f":"SUMPRODUCT((werknemers=mei!$A14)*(datums=mei!AC$5)*(uren))","v":"00:00:00"},{"$f":"SUMPRODUCT((werknemers=mei!$A14)*(datums=mei!AD$5)*(uren))","v":"00:00:00"},{"$f":"SUMPRODUCT((werknemers=mei!$A14)*(datums=mei!AE$5)*(uren))","v":"00:00:00"},{"$f":"SUMPRODUCT((werknemers=mei!$A14)*(datums=mei!AF$5)*(uren))","v":"00:00:00"}]
[]
["CONTROLE",{"$f":"SUMPRODUCT((werknemers=mei!$A16)*(datums=mei!B$5)*(uren))","v":"00:00:00"},{"$f":"SUMPRODUCT((werknemers=mei!$A16)*(datums=mei!C$5)*(uren))","v":"00:00:00"},{"$f":"SUMPRODUCT((werknemers=mei!$A16)*(datums=mei!D$5)*(uren))","v":"00:00:00"},{"$f":"SUMPRODUCT((werknemers=mei!$A16)*(datums=mei!E$5)*(uren))","v":"00:00:00"},{"$f":"SUMPRODUCT((werknemers=mei!$A16)*(datums=mei!F$5)*(uren))","v":"00:00:00"},{"$f":"SUMPRODUCT((werknemers=mei!$A16)*(datums=mei!G$5)*(uren))","v":"00:00:00"},{"$f":"SUMPRODUCT((werknemers=mei!$A16)*(datums=mei!H$5)*(uren))","v":"00:00:00"},{"$f":"SUMPRODUCT((werknemers=mei!$A16)*(datums=mei!I$5)*(uren))","v":"00:00:00"},{"$f":"SUMPRODUCT((werknemers=mei!$A16)*(datums=mei!J$5)*(uren))","v":"00:00:00"},{"$f":"SUMPRODUCT((werknemers=mei!$A16)*(datums=mei!K$5)*(uren))","v":"00:00:00"},{"$f":"SUMPRODUCT((werknemers=mei!$A16)*(datums=mei!L$5)*(uren))","v":"00:00:00"},{"$f":"SUMPRODUCT((werknemers=mei!$A16)*(datums=mei!M$5)*(uren))","v":"00:00:00"},{"$f":"SUMPRODUCT((werknemers=mei!$A16)*(datums=mei!N$5)*(uren))","v":"00:00:00"},{"$f":"SUMPRODUCT((werknemers=mei!$A16)*(datums=mei!O$5)*(uren))","v":"00:00:00"},{"$f":"SUMPRODUCT((werknemers=mei!$A16)*(datums=mei!P$5)*(uren))","v":"00:00:00"},{"$f":"SUMPRODUCT((werknemers=mei!$A16)*(datums=mei!Q$5)*(uren))","v":"00:00:00"},{"$f":"SUMPRODUCT((werknemers=mei!$A16)*(datums=mei!R$5)*(uren))","v":"00:00:00"},{"$f":"SUMPRODUCT((werknemers=mei!$A16)*(datums=mei!S$5)*(uren))","v":"00:00:00"},{"$f":"SUMPRODUCT((werknemers=mei!$A16)*(datums=mei!T$5)*(uren))","v":"00:00:00"},{"$f":"SUMPRODUCT((werknemers=mei!$A16)*(datums=mei!U$5)*(uren))","v":"00:00:00"},{"$f":"SUMPRODUCT((werknemers=mei!$A16)*(datums=mei!V$5)*(uren))","v":"00:00:00"},{"$f":"SUMPRODUCT((werknemers=mei!$A16)*(datums=mei!W$5)*(uren))","v":"00:00:00"},{"$f":"SUMPRODUCT((werknemers=mei!$A16)*(datums=mei!X$5)*(uren))","v":"00:00:00"},{"$f":"SUMPRODUCT((werknemers=mei!$A16)*(datums=mei!Y$5)*(uren))","v":"00:00:00"},{"$f":"SUMPRODUCT((werknemers=mei!$A16)*(datums=mei!Z$5)*(uren))","v":"00:00:00"},{"$f":"SUMPRODUCT((werknemers=mei!$A16)*(datums=mei!AA$5)*(uren))","v":"00:00:00"},{"$f":"SUMPRODUCT((werknemers=mei!$A16)*(datums=mei!AB$5)*(uren))","v":"00:00:00"},{"$f":"SUMPRODUCT((werknemers=mei!$A16)*(datums=mei!AC$5)*(uren))","v":"00:00:00"},{"$f":"SUMPRODUCT((werknemers=mei!$A16)*(datums=mei!AD$5)*(uren))","v":"00:00:00"},{"$f":"SUMPRODUCT((werknemers=mei!$A16)*(datums=mei!AE$5)*(uren))","v":"00:00:00"},{"$f":"SUMPRODUCT((werknemers=mei!$A16)*(datums=mei!AF$5)*(uren))","v":"00:00:00"}]
[]
["CONTROLE",{"$f":"SUMPRODUCT((werknemers=mei!$A18)*(datums=mei!B$5)*(uren))","v":"00:00:00"},{"$f":"SUMPRODUCT((werknemers=mei!$A18)*(datums=mei!C$5)*(uren))","v":"00:00:00"},{"$f":"SUMPRODUCT((werknemers=mei!$A18)*(datums=mei!D$5)*(uren))","v":"00:00:00"},{"$f":"SUMPRODUCT((werknemers=mei!$A18)*(datums=mei!E$5)*(uren))","v":"00:00:00"},{"$f":"SUMPRODUCT((werknemers=mei!$A18)*(datums=mei!F$5)*(uren))","v":"00:00:00"},{"$f":"SUMPRODUCT((werknemers=mei!$A18)*(datums=mei!G$5)*(uren))","v":"00:00:00"},{"$f":"SUMPRODUCT((werknemers=mei!$A18)*(datums=mei!H$5)*(uren))","v":"00:00:00"},{"$f":"SUMPRODUCT((werknemers=mei!$A18)*(datums=mei!I$5)*(uren))","v":"00:00:00"},{"$f":"SUMPRODUCT((werknemers=mei!$A18)*(datums=mei!J$5)*(uren))","v":"00:00:00"},{"$f":"SUMPRODUCT((werknemers=mei!$A18)*(datums=mei!K$5)*(uren))","v":"00:00:00"},{"$f":"SUMPRODUCT((werknemers=mei!$A18)*(datums=mei!L$5)*(uren))","v":"00:00:00"},{"$f":"SUMPRODUCT((werknemers=mei!$A18)*(datums=mei!M$5)*(uren))","v":"00:00:00"},{"$f":"SUMPRODUCT((werknemers=mei!$A18)*(datums=mei!N$5)*(uren))","v":"00:00:00"},{"$f":"SUMPRODUCT((werknemers=mei!$A18)*(datums=mei!O$5)*(uren))","v":"00:00:00"},{"$f":"SUMPRODUCT((werknemers=mei!$A18)*(datums=mei!P$5)*(uren))","v":"00:00:00"},{"$f":"SUMPRODUCT((werknemers=mei!$A18)*(datums=mei!Q$5)*(uren))","v":"00:00:00"},{"$f":"SUMPRODUCT((werknemers=mei!$A18)*(datums=mei!R$5)*(uren))","v":"00:00:00"},{"$f":"SUMPRODUCT((werknemers=mei!$A18)*(datums=mei!S$5)*(uren))","v":"00:00:00"},{"$f":"SUMPRODUCT((werknemers=mei!$A18)*(datums=mei!T$5)*(uren))","v":"00:00:00"},{"$f":"SUMPRODUCT((werknemers=mei!$A18)*(datums=mei!U$5)*(uren))","v":"00:00:00"},{"$f":"SUMPRODUCT((werknemers=mei!$A18)*(datums=mei!V$5)*(uren))","v":"00:00:00"},{"$f":"SUMPRODUCT((werknemers=mei!$A18)*(datums=mei!W$5)*(uren))","v":"00:00:00"},{"$f":"SUMPRODUCT((werknemers=mei!$A18)*(datums=mei!X$5)*(uren))","v":"00:00:00"},{"$f":"SUMPRODUCT((werknemers=mei!$A18)*(datums=mei!Y$5)*(uren))","v":"00:00:00"},{"$f":"SUMPRODUCT((werknemers=mei!$A18)*(datums=mei!Z$5)*(uren))","v":"00:00:00"},{"$f":"SUMPRODUCT((werknemers=mei!$A18)*(datums=mei!AA$5)*(uren))","v":"00:00:00"},{"$f":"SUMPRODUCT((werknemers=mei!$A18)*(datums=mei!AB$5)*(uren))","v":"00:00:00"},{"$f":"SUMPRODUCT((werknemers=mei!$A18)*(datums=mei!AC$5)*(uren))","v":"00:00:00"},{"$f":"SUMPRODUCT((werknemers=mei!$A18)*(datums=mei!AD$5)*(uren))","v":"00:00:00"},{"$f":"SUMPRODUCT((werknemers=mei!$A18)*(datums=mei!AE$5)*(uren))","v":"00:00:00"},{"$f":"SUMPRODUCT((werknemers=mei!$A18)*(datums=mei!AF$5)*(uren))","v":"00:00:00"}]
[]
["CONTROLE",{"$f":"SUMPRODUCT((werknemers=mei!$A20)*(datums=mei!B$5)*(uren))","v":"00:00:00"},{"$f":"SUMPRODUCT((werknemers=mei!$A20)*(datums=mei!C$5)*(uren))","v":"00:00:00"},{"$f":"SUMPRODUCT((werknemers=mei!$A20)*(datums=mei!D$5)*(uren))","v":"00:00:00"},{"$f":"SUMPRODUCT((werknemers=mei!$A20)*(datums=mei!E$5)*(uren))","v":"00:00:00"},{"$f":"SUMPRODUCT((werknemers=mei!$A20)*(datums=mei!F$5)*(uren))","v":"00:00:00"},{"$f":"SUMPRODUCT((werknemers=mei!$A20)*(datums=mei!G$5)*(uren))","v":"00:00:00"},{"$f":"SUMPRODUCT((werknemers=mei!$A20)*(datums=mei!H$5)*(uren))","v":"00:00:00"},{"$f":"SUMPRODUCT((werknemers=mei!$A20)*(datums=mei!I$5)*(uren))","v":"00:00:00"},{"$f":"SUMPRODUCT((werknemers=mei!$A20)*(datums=mei!J$5)*(uren))","v":"00:00:00"},{"$f":"SUMPRODUCT((werknemers=mei!$A20)*(datums=mei!K$5)*(uren))","v":"00:00:00"},{"$f":"SUMPRODUCT((werknemers=mei!$A20)*(datums=mei!L$5)*(uren))","v":"00:00:00"},{"$f":"SUMPRODUCT((werknemers=mei!$A20)*(datums=mei!M$5)*(uren))","v":"00:00:00"},{"$f":"SUMPRODUCT((werknemers=mei!$A20)*(datums=mei!N$5)*(uren))","v":"00:00:00"},{"$f":"SUMPRODUCT((werknemers=mei!$A20)*(datums=mei!O$5)*(uren))","v":"00:00:00"},{"$f":"SUMPRODUCT((werknemers=mei!$A20)*(datums=mei!P$5)*(uren))","v":"00:00:00"},{"$f":"SUMPRODUCT((werknemers=mei!$A20)*(datums=mei!Q$5)*(uren))","v":"00:00:00"},{"$f":"SUMPRODUCT((werknemers=mei!$A20)*(datums=mei!R$5)*(uren))","v":"00:00:00"},{"$f":"SUMPRODUCT((werknemers=mei!$A20)*(datums=mei!S$5)*(uren))","v":"00:00:00"},{"$f":"SUMPRODUCT((werknemers=mei!$A20)*(datums=mei!T$5)*(uren))","v":"00:00:00"},{"$f":"SUMPRODUCT((werknemers=mei!$A20)*(datums=mei!U$5)*(uren))","v":"00:00:00"},{"$f":"SUMPRODUCT((werknemers=mei!$A20)*(datums=mei!V$5)*(uren))","v":"00:00:00"},{"$f":"SUMPRODUCT((werknemers=mei!$A20)*(datums=mei!W$5)*(uren))","v":"00:00:00"},{"$f":"SUMPRODUCT((werknemers=mei!$A20)*(datums=mei!X$5)*(uren))","v":"00:00:00"},{"$f":"SUMPRODUCT((werknemers=mei!$A20)*(datums=mei!Y$5)*(uren))","v":"00:00:00"},{"$f":"SUMPRODUCT((werknemers=mei!$A20)*(datums=mei!Z$5)*(uren))","v":"00:00:00"},{"$f":"SUMPRODUCT((werknemers=mei!$A20)*(datums=mei!AA$5)*(uren))","v":"00:00:00"},{"$f":"SUMPRODUCT((werknemers=mei!$A20)*(datums=mei!AB$5)*(uren))","v":"00:00:00"},{"$f":"SUMPRODUCT((werknemers=mei!$A20)*(datums=mei!AC$5)*(uren))","v":"00:00:00"},{"$f":"SUMPRODUCT((werknemers=mei!$A20)*(datums=mei!AD$5)*(uren))","v":"00:00:00"},{"$f":"SUMPRODUCT((werknemers=mei!$A20)*(datums=mei!AE$5)*(uren))","v":"00:00:00"},{"$f":"SUMPRODUCT((werknemers=mei!$A20)*(datums=mei!AF$5)*(uren))","v":"00:00:00"}]
[]
["CONTROLE",{"$f":"SUMPRODUCT((werknemers=mei!$A22)*(datums=mei!B$5)*(uren))","v":"00:00:00"},{"$f":"SUMPRODUCT((werknemers=mei!$A22)*(datums=mei!C$5)*(uren))","v":"00:00:00"},{"$f":"SUMPRODUCT((werknemers=mei!$A22)*(datums=mei!D$5)*(uren))","v":"00:00:00"},{"$f":"SUMPRODUCT((werknemers=mei!$A22)*(datums=mei!E$5)*(uren))","v":"00:00:00"},{"$f":"SUMPRODUCT((werknemers=mei!$A22)*(datums=mei!F$5)*(uren))","v":"00:00:00"},{"$f":"SUMPRODUCT((werknemers=mei!$A22)*(datums=mei!G$5)*(uren))","v":"00:00:00"},{"$f":"SUMPRODUCT((werknemers=mei!$A22)*(datums=mei!H$5)*(uren))","v":"00:00:00"},{"$f":"SUMPRODUCT((werknemers=mei!$A22)*(datums=mei!I$5)*(uren))","v":"00:00:00"},{"$f":"SUMPRODUCT((werknemers=mei!$A22)*(datums=mei!J$5)*(uren))","v":"00:00:00"},{"$f":"SUMPRODUCT((werknemers=mei!$A22)*(datums=mei!K$5)*(uren))","v":"00:00:00"},{"$f":"SUMPRODUCT((werknemers=mei!$A22)*(datums=mei!L$5)*(uren))","v":"00:00:00"},{"$f":"SUMPRODUCT((werknemers=mei!$A22)*(datums=mei!M$5)*(uren))","v":"00:00:00"},{"$f":"SUMPRODUCT((werknemers=mei!$A22)*(datums=mei!N$5)*(uren))","v":"00:00:00"},{"$f":"SUMPRODUCT((werknemers=mei!$A22)*(datums=mei!O$5)*(uren))","v":"00:00:00"},{"$f":"SUMPRODUCT((werknemers=mei!$A22)*(datums=mei!P$5)*(uren))","v":"00:00:00"},{"$f":"SUMPRODUCT((werknemers=mei!$A22)*(datums=mei!Q$5)*(uren))","v":"00:00:00"},{"$f":"SUMPRODUCT((werknemers=mei!$A22)*(datums=mei!R$5)*(uren))","v":"00:00:00"},{"$f":"SUMPRODUCT((werknemers=mei!$A22)*(datums=mei!S$5)*(uren))","v":"00:00:00"},{"$f":"SUMPRODUCT((werknemers=mei!$A22)*(datums=mei!T$5)*(uren))","v":"00:00:00"},{"$f":"SUMPRODUCT((werknemers=mei!$A22)*(datums=mei!U$5)*(uren))","v":"00:00:00"},{"$f":"SUMPRODUCT((werknemers=mei!$A22)*(datums=mei!V$5)*(uren))","v":"00:00:00"},{"$f":"SUMPRODUCT((werknemers=mei!$A22)*(datums=mei!W$5)*(uren))","v":"00:00:00"},{"$f":"SUMPRODUCT((werknemers=mei!$A22)*(datums=mei!X$5)*(uren))","v":"00:00:00"},{"$f":"SUMPRODUCT((werknemers=mei!$A22)*(datums=mei!Y$5)*(uren))","v":"00:00:00"},{"$f":"SUMPRODUCT((werknemers=mei!$A22)*(datums=mei!Z$5)*(uren))","v":"00:00:00"},{"$f":"SUMPRODUCT((werknemers=mei!$A22)*(datums=mei!AA$5)*(uren))","v":"00:00:00"},{"$f":"SUMPRODUCT((werknemers=mei!$A22)*(datums=mei!AB$5)*(uren))","v":"00:00:00"},{"$f":"SUMPRODUCT((werknemers=mei!$A22)*(datums=mei!AC$5)*(uren))","v":"00:00:00"},{"$f":"SUMPRODUCT((werknemers=mei!$A22)*(datums=mei!AD$5)*(uren))","v":"00:00:00"},{"$f":"SUMPRODUCT((werknemers=mei!$A22)*(datums=mei!AE$5)*(uren))","v":"00:00:00"},{"$f":"SUMPRODUCT((werknemers=mei!$A22)*(datums=mei!AF$5)*(uren))","v":"00:00:00"}]
[]
["CONTROLE",{"$f":"SUMPRODUCT((werknemers=mei!$A24)*(datums=mei!B$5)*(uren))","v":"00:00:00"},{"$f":"SUMPRODUCT((werknemers=mei!$A24)*(datums=mei!C$5)*(uren))","v":"00:00:00"},{"$f":"SUMPRODUCT((werknemers=mei!$A24)*(datums=mei!D$5)*(uren))","v":"00:00:00"},{"$f":"SUMPRODUCT((werknemers=mei!$A24)*(datums=mei!E$5)*(uren))","v":"00:00:00"},{"$f":"SUMPRODUCT((werknemers=mei!$A24)*(datums=mei!F$5)*(uren))","v":"00:00:00"},{"$f":"SUMPRODUCT((werknemers=mei!$A24)*(datums=mei!G$5)*(uren))","v":"00:00:00"},{"$f":"SUMPRODUCT((werknemers=mei!$A24)*(datums=mei!H$5)*(uren))","v":"00:00:00"},{"$f":"SUMPRODUCT((werknemers=mei!$A24)*(datums=mei!I$5)*(uren))","v":"00:00:00"},{"$f":"SUMPRODUCT((werknemers=mei!$A24)*(datums=mei!J$5)*(uren))","v":"00:00:00"},{"$f":"SUMPRODUCT((werknemers=mei!$A24)*(datums=mei!K$5)*(uren))","v":"00:00:00"},{"$f":"SUMPRODUCT((werknemers=mei!$A24)*(datums=mei!L$5)*(uren))","v":"00:00:00"},{"$f":"SUMPRODUCT((werknemers=mei!$A24)*(datums=mei!M$5)*(uren))","v":"00:00:00"},{"$f":"SUMPRODUCT((werknemers=mei!$A24)*(datums=mei!N$5)*(uren))","v":"00:00:00"},{"$f":"SUMPRODUCT((werknemers=mei!$A24)*(datums=mei!O$5)*(uren))","v":"00:00:00"},{"$f":"SUMPRODUCT((werknemers=mei!$A24)*(datums=mei!P$5)*(uren))","v":"00:00:00"},{"$f":"SUMPRODUCT((werknemers=mei!$A24)*(datums=mei!Q$5)*(uren))","v":"00:00:00"},{"$f":"SUMPRODUCT((werknemers=mei!$A24)*(datums=mei!R$5)*(uren))","v":"00:00:00"},{"$f":"SUMPRODUCT((werknemers=mei!$A24)*(datums=mei!S$5)*(uren))","v":"00:00:00"},{"$f":"SUMPRODUCT((werknemers=mei!$A24)*(datums=mei!T$5)*(uren))","v":"00:00:00"},{"$f":"SUMPRODUCT((werknemers=mei!$A24)*(datums=mei!U$5)*(uren))","v":"00:00:00"},{"$f":"SUMPRODUCT((werknemers=mei!$A24)*(datums=mei!V$5)*(uren))","v":"00:00:00"},{"$f":"SUMPRODUCT((werknemers=mei!$A24)*(datums=mei!W$5)*(uren))","v":"00:00:00"},{"$f":"SUMPRODUCT((werknemers=mei!$A24)*(datums=mei!X$5)*(uren))","v":"00:00:00"},{"$f":"SUMPRODUCT((werknemers=mei!$A24)*(datums=mei!Y$5)*(uren))","v":"00:00:00"},{"$f":"SUMPRODUCT((werknemers=mei!$A24)*(datums=mei!Z$5)*(uren))","v":"00:00:00"},{"$f":"SUMPRODUCT((werknemers=mei!$A24)*(datums=mei!AA$5)*(uren))","v":"00:00:00"},{"$f":"SUMPRODUCT((werknemers=mei!$A24)*(datums=mei!AB$5)*(uren))","v":"00:00:00"},{"$f":"SUMPRODUCT((werknemers=mei!$A24)*(datums=mei!AC$5)*(uren))","v":"00:00:00"},{"$f":"SUMPRODUCT((werknemers=mei!$A24)*(datums=mei!AD$5)*(uren))","v":"00:00:00"},{"$f":"SUMPRODUCT((werknemers=mei!$A24)*(datums=mei!AE$5)*(uren))","v":"00:00:00"},{"$f":"SUMPRODUCT((werknemers=mei!$A24)*(datums=mei!AF$5)*(uren))","v":"00:00:00"}]
[]
["CONTROLE",{"$f":"SUMPRODUCT((werknemers=mei!$A26)*(datums=mei!B$5)*(uren))","v":"00:00:00"},{"$f":"SUMPRODUCT((werknemers=mei!$A26)*(datums=mei!C$5)*(uren))","v":"00:00:00"},{"$f":"SUMPRODUCT((werknemers=mei!$A26)*(datums=mei!D$5)*(uren))","v":"00:00:00"},{"$f":"SUMPRODUCT((werknemers=mei!$A26)*(datums=mei!E$5)*(uren))","v":"00:00:00"},{"$f":"SUMPRODUCT((werknemers=mei!$A26)*(datums=mei!F$5)*(uren))","v":"00:00:00"},{"$f":"SUMPRODUCT((werknemers=mei!$A26)*(datums=mei!G$5)*(uren))","v":"00:00:00"},{"$f":"SUMPRODUCT((werknemers=mei!$A26)*(datums=mei!H$5)*(uren))","v":"00:00:00"},{"$f":"SUMPRODUCT((werknemers=mei!$A26)*(datums=mei!I$5)*(uren))","v":"00:00:00"},{"$f":"SUMPRODUCT((werknemers=mei!$A26)*(datums=mei!J$5)*(uren))","v":"00:00:00"},{"$f":"SUMPRODUCT((werknemers=mei!$A26)*(datums=mei!K$5)*(uren))","v":"00:00:00"},{"$f":"SUMPRODUCT((werknemers=mei!$A26)*(datums=mei!L$5)*(uren))","v":"00:00:00"},{"$f":"SUMPRODUCT((werknemers=mei!$A26)*(datums=mei!M$5)*(uren))","v":"00:00:00"},{"$f":"SUMPRODUCT((werknemers=mei!$A26)*(datums=mei!N$5)*(uren))","v":"00:00:00"},{"$f":"SUMPRODUCT((werknemers=mei!$A26)*(datums=mei!O$5)*(uren))","v":"00:00:00"},{"$f":"SUMPRODUCT((werknemers=mei!$A26)*(datums=mei!P$5)*(uren))","v":"00:00:00"},{"$f":"SUMPRODUCT((werknemers=mei!$A26)*(datums=mei!Q$5)*(uren))","v":"00:00:00"},{"$f":"SUMPRODUCT((werknemers=mei!$A26)*(datums=mei!R$5)*(uren))","v":"00:00:00"},{"$f":"SUMPRODUCT((werknemers=mei!$A26)*(datums=mei!S$5)*(uren))","v":"00:00:00"},{"$f":"SUMPRODUCT((werknemers=mei!$A26)*(datums=mei!T$5)*(uren))","v":"00:00:00"},{"$f":"SUMPRODUCT((werknemers=mei!$A26)*(datums=mei!U$5)*(uren))","v":"00:00:00"},{"$f":"SUMPRODUCT((werknemers=mei!$A26)*(datums=mei!V$5)*(uren))","v":"00:00:00"},{"$f":"SUMPRODUCT((werknemers=mei!$A26)*(datums=mei!W$5)*(uren))","v":"00:00:00"},{"$f":"SUMPRODUCT((werknemers=mei!$A26)*(datums=mei!X$5)*(uren))","v":"00:00:00"},{"$f":"SUMPRODUCT((werknemers=mei!$A26)*(datums=mei!Y$5)*(uren))","v":"00:00:00"},{"$f":"SUMPRODUCT((werknemers=mei!$A26)*(datums=mei!Z$5)*(uren))","v":"00:00:00"},{"$f":"SUMPRODUCT((werknemers=mei!$A26)*(datums=mei!AA$5)*(uren))","v":"00:00:00"},{"$f":"SUMPRODUCT((werknemers=mei!$A26)*(datums=mei!AB$5)*(uren))","v":"00:00:00"},{"$f":"SUMPRODUCT((werknemers=mei!$A26)*(datums=mei!AC$5)*(uren))","v":"00:00:00"},{"$f":"SUMPRODUCT((werknemers=mei!$A26)*(datums=mei!AD$5)*(uren))","v":"00:00:00"},{"$f":"SUMPRODUCT((werknemers=mei!$A26)*(datums=mei!AE$5)*(uren))","v":"00:00:00"},{"$f":"SUMPRODUCT((werknemers=mei!$A26)*(datums=mei!AF$5)*(uren))","v":"00:00:00"}]
[]
["CONTROLE",{"$f":"SUMPRODUCT((werknemers=mei!$A28)*(datums=mei!B$5)*(uren))","v":"00:00:00"},{"$f":"SUMPRODUCT((werknemers=mei!$A28)*(datums=mei!C$5)*(uren))","v":"00:00:00"},{"$f":"SUMPRODUCT((werknemers=mei!$A28)*(datums=mei!D$5)*(uren))","v":"00:00:00"},{"$f":"SUMPRODUCT((werknemers=mei!$A28)*(datums=mei!E$5)*(uren))","v":"00:00:00"},{"$f":"SUMPRODUCT((werknemers=mei!$A28)*(datums=mei!F$5)*(uren))","v":"00:00:00"},{"$f":"SUMPRODUCT((werknemers=mei!$A28)*(datums=mei!G$5)*(uren))","v":"00:00:00"},{"$f":"SUMPRODUCT((werknemers=mei!$A28)*(datums=mei!H$5)*(uren))","v":"00:00:00"},{"$f":"SUMPRODUCT((werknemers=mei!$A28)*(datums=mei!I$5)*(uren))","v":"00:00:00"},{"$f":"SUMPRODUCT((werknemers=mei!$A28)*(datums=mei!J$5)*(uren))","v":"00:00:00"},{"$f":"SUMPRODUCT((werknemers=mei!$A28)*(datums=mei!K$5)*(uren))","v":"00:00:00"},{"$f":"SUMPRODUCT((werknemers=mei!$A28)*(datums=mei!L$5)*(uren))","v":"00:00:00"},{"$f":"SUMPRODUCT((werknemers=mei!$A28)*(datums=mei!M$5)*(uren))","v":"00:00:00"},{"$f":"SUMPRODUCT((werknemers=mei!$A28)*(datums=mei!N$5)*(uren))","v":"00:00:00"},{"$f":"SUMPRODUCT((werknemers=mei!$A28)*(datums=mei!O$5)*(uren))","v":"00:00:00"},{"$f":"SUMPRODUCT((werknemers=mei!$A28)*(datums=mei!P$5)*(uren))","v":"00:00:00"},{"$f":"SUMPRODUCT((werknemers=mei!$A28)*(datums=mei!Q$5)*(uren))","v":"00:00:00"},{"$f":"SUMPRODUCT((werknemers=mei!$A28)*(datums=mei!R$5)*(uren))","v":"00:00:00"},{"$f":"SUMPRODUCT((werknemers=mei!$A28)*(datums=mei!S$5)*(uren))","v":"00:00:00"},{"$f":"SUMPRODUCT((werknemers=mei!$A28)*(datums=mei!T$5)*(uren))","v":"00:00:00"},{"$f":"SUMPRODUCT((werknemers=mei!$A28)*(datums=mei!U$5)*(uren))","v":"00:00:00"},{"$f":"SUMPRODUCT((werknemers=mei!$A28)*(datums=mei!V$5)*(uren))","v":"00:00:00"},{"$f":"SUMPRODUCT((werknemers=mei!$A28)*(datums=mei!W$5)*(uren))","v":"00:00:00"},{"$f":"SUMPRODUCT((werknemers=mei!$A28)*(datums=mei!X$5)*(uren))","v":"00:00:00"},{"$f":"SUMPRODUCT((werknemers=mei!$A28)*(datums=mei!Y$5)*(uren))","v":"00:00:00"},{"$f":"SUMPRODUCT((werknemers=mei!$A28)*(datums=mei!Z$5)*(uren))","v":"00:00:00"},{"$f":"SUMPRODUCT((werknemers=mei!$A28)*(datums=mei!AA$5)*(uren))","v":"00:00:00"},{"$f":"SUMPRODUCT((werknemers=mei!$A28)*(datums=mei!AB$5)*(uren))","v":"00:00:00"},{"$f":"SUMPRODUCT((werknemers=mei!$A28)*(datums=mei!AC$5)*(uren))","v":"00:00:00"},{"$f":"SUMPRODUCT((werknemers=mei!$A28)*(datums=mei!AD$5)*(uren))","v":"00:00:00"},{"$f":"SUMPRODUCT((werknemers=mei!$A28)*(datums=mei!AE$5)*(uren))","v":"00:00:00"},{"$f":"SUMPRODUCT((werknemers=mei!$A28)*(datums=mei!AF$5)*(uren))","v":"00:00:00"}]
[]
["CONTROLE",{"$f":"SUMPRODUCT((werknemers=mei!$A30)*(datums=mei!B$5)*(uren))","v":"00:00:00"},{"$f":"SUMPRODUCT((werknemers=mei!$A30)*(datums=mei!C$5)*(uren))","v":"00:00:00"},{"$f":"SUMPRODUCT((werknemers=mei!$A30)*(datums=mei!D$5)*(uren))","v":"00:00:00"},{"$f":"SUMPRODUCT((werknemers=mei!$A30)*(datums=mei!E$5)*(uren))","v":"00:00:00"},{"$f":"SUMPRODUCT((werknemers=mei!$A30)*(datums=mei!F$5)*(uren))","v":"00:00:00"},{"$f":"SUMPRODUCT((werknemers=mei!$A30)*(datums=mei!G$5)*(uren))","v":"00:00:00"},{"$f":"SUMPRODUCT((werknemers=mei!$A30)*(datums=mei!H$5)*(uren))","v":"00:00:00"},{"$f":"SUMPRODUCT((werknemers=mei!$A30)*(datums=mei!I$5)*(uren))","v":"00:00:00"},{"$f":"SUMPRODUCT((werknemers=mei!$A30)*(datums=mei!J$5)*(uren))","v":"00:00:00"},{"$f":"SUMPRODUCT((werknemers=mei!$A30)*(datums=mei!K$5)*(uren))","v":"00:00:00"},{"$f":"SUMPRODUCT((werknemers=mei!$A30)*(datums=mei!L$5)*(uren))","v":"00:00:00"},{"$f":"SUMPRODUCT((werknemers=mei!$A30)*(datums=mei!M$5)*(uren))","v":"00:00:00"},{"$f":"SUMPRODUCT((werknemers=mei!$A30)*(datums=mei!N$5)*(uren))","v":"00:00:00"},{"$f":"SUMPRODUCT((werknemers=mei!$A30)*(datums=mei!O$5)*(uren))","v":"00:00:00"},{"$f":"SUMPRODUCT((werknemers=mei!$A30)*(datums=mei!P$5)*(uren))","v":"00:00:00"},{"$f":"SUMPRODUCT((werknemers=mei!$A30)*(datums=mei!Q$5)*(uren))","v":"00:00:00"},{"$f":"SUMPRODUCT((werknemers=mei!$A30)*(datums=mei!R$5)*(uren))","v":"00:00:00"},{"$f":"SUMPRODUCT((werknemers=mei!$A30)*(datums=mei!S$5)*(uren))","v":"00:00:00"},{"$f":"SUMPRODUCT((werknemers=mei!$A30)*(datums=mei!T$5)*(uren))","v":"00:00:00"},{"$f":"SUMPRODUCT((werknemers=mei!$A30)*(datums=mei!U$5)*(uren))","v":"00:00:00"},{"$f":"SUMPRODUCT((werknemers=mei!$A30)*(datums=mei!V$5)*(uren))","v":"00:00:00"},{"$f":"SUMPRODUCT((werknemers=mei!$A30)*(datums=mei!W$5)*(uren))","v":"00:00:00"},{"$f":"SUMPRODUCT((werknemers=mei!$A30)*(datums=mei!X$5)*(uren))","v":"00:00:00"},{"$f":"SUMPRODUCT((werknemers=mei!$A30)*(datums=mei!Y$5)*(uren))","v":"00:00:00"},{"$f":"SUMPRODUCT((werknemers=mei!$A30)*(datums=mei!Z$5)*(uren))","v":"00:00:00"},{"$f":"SUMPRODUCT((werknemers=mei!$A30)*(datums=mei!AA$5)*(uren))","v":"00:00:00"},{"$f":"SUMPRODUCT((werknemers=mei!$A30)*(datums=mei!AB$5)*(uren))","v":"00:00:00"},{"$f":"SUMPRODUCT((werknemers=mei!$A30)*(datums=mei!AC$5)*(uren))","v":"00:00:00"},{"$f":"SUMPRODUCT((werknemers=mei!$A30)*(datums=mei!AD$5)*(uren))","v":"00:00:00"},{"$f":"SUMPRODUCT((werknemers=mei!$A30)*(datums=mei!AE$5)*(uren))","v":"00:00:00"},{"$f":"SUMPRODUCT((werknemers=mei!$A30)*(datums=mei!AF$5)*(uren))","v":"00:00:00"}]
[]
["CONTROLE",{"$f":"SUMPRODUCT((werknemers=mei!$A32)*(datums=mei!B$5)*(uren))","v":"00:00:00"},{"$f":"SUMPRODUCT((werknemers=mei!$A32)*(datums=mei!C$5)*(uren))","v":"00:00:00"},{"$f":"SUMPRODUCT((werknemers=mei!$A32)*(datums=mei!D$5)*(uren))","v":"00:00:00"},{"$f":"SUMPRODUCT((werknemers=mei!$A32)*(datums=mei!E$5)*(uren))","v":"00:00:00"},{"$f":"SUMPRODUCT((werknemers=mei!$A32)*(datums=mei!F$5)*(uren))","v":"00:00:00"},{"$f":"SUMPRODUCT((werknemers=mei!$A32)*(datums=mei!G$5)*(uren))","v":"00:00:00"},{"$f":"SUMPRODUCT((werknemers=mei!$A32)*(datums=mei!H$5)*(uren))","v":"00:00:00"},{"$f":"SUMPRODUCT((werknemers=mei!$A32)*(datums=mei!I$5)*(uren))","v":"00:00:00"},{"$f":"SUMPRODUCT((werknemers=mei!$A32)*(datums=mei!J$5)*(uren))","v":"00:00:00"},{"$f":"SUMPRODUCT((werknemers=mei!$A32)*(datums=mei!K$5)*(uren))","v":"00:00:00"},{"$f":"SUMPRODUCT((werknemers=mei!$A32)*(datums=mei!L$5)*(uren))","v":"00:00:00"},{"$f":"SUMPRODUCT((werknemers=mei!$A32)*(datums=mei!M$5)*(uren))","v":"00:00:00"},{"$f":"SUMPRODUCT((werknemers=mei!$A32)*(datums=mei!N$5)*(uren))","v":"00:00:00"},{"$f":"SUMPRODUCT((werknemers=mei!$A32)*(datums=mei!O$5)*(uren))","v":"00:00:00"},{"$f":"SUMPRODUCT((werknemers=mei!$A32)*(datums=mei!P$5)*(uren))","v":"00:00:00"},{"$f":"SUMPRODUCT((werknemers=mei!$A32)*(datums=mei!Q$5)*(uren))","v":"00:00:00"},{"$f":"SUMPRODUCT((werknemers=mei!$A32)*(datums=mei!R$5)*(uren))","v":"00:00:00"},{"$f":"SUMPRODUCT((werknemers=mei!$A32)*(datums=mei!S$5)*(uren))","v":"00:00:00"},{"$f":"SUMPRODUCT((werknemers=mei!$A32)*(datums=mei!T$5)*(uren))","v":"00:00:00"},{"$f":"SUMPRODUCT((werknemers=mei!$A32)*(datums=mei!U$5)*(uren))","v":"00:00:00"},{"$f":"SUMPRODUCT((werknemers=mei!$A32)*(datums=mei!V$5)*(uren))","v":"00:00:00"},{"$f":"SUMPRODUCT((werknemers=mei!$A32)*(datums=mei!W$5)*(uren))","v":"00:00:00"},{"$f":"SUMPRODUCT((werknemers=mei!$A32)*(datums=mei!X$5)*(uren))","v":"00:00:00"},{"$f":"SUMPRODUCT((werknemers=mei!$A32)*(datums=mei!Y$5)*(uren))","v":"00:00:00"},{"$f":"SUMPRODUCT((werknemers=mei!$A32)*(datums=mei!Z$5)*(uren))","v":"00:00:00"},{"$f":"SUMPRODUCT((werknemers=mei!$A32)*(datums=mei!AA$5)*(uren))","v":"00:00:00"},{"$f":"SUMPRODUCT((werknemers=mei!$A32)*(datums=mei!AB$5)*(uren))","v":"00:00:00"},{"$f":"SUMPRODUCT((werknemers=mei!$A32)*(datums=mei!AC$5)*(uren))","v":"00:00:00"},{"$f":"SUMPRODUCT((werknemers=mei!$A32)*(datums=mei!AD$5)*(uren))","v":"00:00:00"},{"$f":"SUMPRODUCT((werknemers=mei!$A32)*(datums=mei!AE$5)*(uren))","v":"00:00:00"},{"$f":"SUMPRODUCT((werknemers=mei!$A32)*(datums=mei!AF$5)*(uren))","v":"00:00:00"}]
[]
["CONTROLE",{"$f":"SUMPRODUCT((werknemers=mei!$A34)*(datums=mei!B$5)*(uren))","v":"00:00:00"},{"$f":"SUMPRODUCT((werknemers=mei!$A34)*(datums=mei!C$5)*(uren))","v":"00:00:00"},{"$f":"SUMPRODUCT((werknemers=mei!$A34)*(datums=mei!D$5)*(uren))","v":"00:00:00"},{"$f":"SUMPRODUCT((werknemers=mei!$A34)*(datums=mei!E$5)*(uren))","v":"00:00:00"},{"$f":"SUMPRODUCT((werknemers=mei!$A34)*(datums=mei!F$5)*(uren))","v":"00:00:00"},{"$f":"SUMPRODUCT((werknemers=mei!$A34)*(datums=mei!G$5)*(uren))","v":"00:00:00"},{"$f":"SUMPRODUCT((werknemers=mei!$A34)*(datums=mei!H$5)*(uren))","v":"00:00:00"},{"$f":"SUMPRODUCT((werknemers=mei!$A34)*(datums=mei!I$5)*(uren))","v":"00:00:00"},{"$f":"SUMPRODUCT((werknemers=mei!$A34)*(datums=mei!J$5)*(uren))","v":"00:00:00"},{"$f":"SUMPRODUCT((werknemers=mei!$A34)*(datums=mei!K$5)*(uren))","v":"00:00:00"},{"$f":"SUMPRODUCT((werknemers=mei!$A34)*(datums=mei!L$5)*(uren))","v":"00:00:00"},{"$f":"SUMPRODUCT((werknemers=mei!$A34)*(datums=mei!M$5)*(uren))","v":"00:00:00"},{"$f":"SUMPRODUCT((werknemers=mei!$A34)*(datums=mei!N$5)*(uren))","v":"00:00:00"},{"$f":"SUMPRODUCT((werknemers=mei!$A34)*(datums=mei!O$5)*(uren))","v":"00:00:00"},{"$f":"SUMPRODUCT((werknemers=mei!$A34)*(datums=mei!P$5)*(uren))","v":"00:00:00"},{"$f":"SUMPRODUCT((werknemers=mei!$A34)*(datums=mei!Q$5)*(uren))","v":"00:00:00"},{"$f":"SUMPRODUCT((werknemers=mei!$A34)*(datums=mei!R$5)*(uren))","v":"00:00:00"},{"$f":"SUMPRODUCT((werknemers=mei!$A34)*(datums=mei!S$5)*(uren))","v":"00:00:00"},{"$f":"SUMPRODUCT((werknemers=mei!$A34)*(datums=mei!T$5)*(uren))","v":"00:00:00"},{"$f":"SUMPRODUCT((werknemers=mei!$A34)*(datums=mei!U$5)*(uren))","v":"00:00:00"},{"$f":"SUMPRODUCT((werknemers=mei!$A34)*(datums=mei!V$5)*(uren))","v":"00:00:00"},{"$f":"SUMPRODUCT((werknemers=mei!$A34)*(datums=mei!W$5)*(uren))","v":"00:00:00"},{"$f":"SUMPRODUCT((werknemers=mei!$A34)*(datums=mei!X$5)*(uren))","v":"00:00:00"},{"$f":"SUMPRODUCT((werknemers=mei!$A34)*(datums=mei!Y$5)*(uren))","v":"00:00:00"},{"$f":"SUMPRODUCT((werknemers=mei!$A34)*(datums=mei!Z$5)*(uren))","v":"00:00:00"},{"$f":"SUMPRODUCT((werknemers=mei!$A34)*(datums=mei!AA$5)*(uren))","v":"00:00:00"},{"$f":"SUMPRODUCT((werknemers=mei!$A34)*(datums=mei!AB$5)*(uren))","v":"00:00:00"},{"$f":"SUMPRODUCT((werknemers=mei!$A34)*(datums=mei!AC$5)*(uren))","v":"00:00:00"},{"$f":"SUMPRODUCT((werknemers=mei!$A34)*(datums=mei!AD$5)*(uren))","v":"00:00:00"},{"$f":"SUMPRODUCT((werknemers=mei!$A34)*(datums=mei!AE$5)*(uren))","v":"00:00:00"},{"$f":"SUMPRODUCT((werknemers=mei!$A34)*(datums=mei!AF$5)*(uren))","v":"00:00:00"}]
[]
["CONTROLE",{"$f":"SUMPRODUCT((werknemers=mei!$A36)*(datums=mei!B$5)*(uren))","v":"00:00:00"},{"$f":"SUMPRODUCT((werknemers=mei!$A36)*(datums=mei!C$5)*(uren))","v":"00:00:00"},{"$f":"SUMPRODUCT((werknemers=mei!$A36)*(datums=mei!D$5)*(uren))","v":"00:00:00"},{"$f":"SUMPRODUCT((werknemers=mei!$A36)*(datums=mei!E$5)*(uren))","v":"00:00:00"},{"$f":"SUMPRODUCT((werknemers=mei!$A36)*(datums=mei!F$5)*(uren))","v":"00:00:00"},{"$f":"SUMPRODUCT((werknemers=mei!$A36)*(datums=mei!G$5)*(uren))","v":"00:00:00"},{"$f":"SUMPRODUCT((werknemers=mei!$A36)*(datums=mei!H$5)*(uren))","v":"00:00:00"},{"$f":"SUMPRODUCT((werknemers=mei!$A36)*(datums=mei!I$5)*(uren))","v":"00:00:00"},{"$f":"SUMPRODUCT((werknemers=mei!$A36)*(datums=mei!J$5)*(uren))","v":"00:00:00"},{"$f":"SUMPRODUCT((werknemers=mei!$A36)*(datums=mei!K$5)*(uren))","v":"00:00:00"},{"$f":"SUMPRODUCT((werknemers=mei!$A36)*(datums=mei!L$5)*(uren))","v":"00:00:00"},{"$f":"SUMPRODUCT((werknemers=mei!$A36)*(datums=mei!M$5)*(uren))","v":"00:00:00"},{"$f":"SUMPRODUCT((werknemers=mei!$A36)*(datums=mei!N$5)*(uren))","v":"00:00:00"},{"$f":"SUMPRODUCT((werknemers=mei!$A36)*(datums=mei!O$5)*(uren))","v":"00:00:00"},{"$f":"SUMPRODUCT((werknemers=mei!$A36)*(datums=mei!P$5)*(uren))","v":"00:00:00"},{"$f":"SUMPRODUCT((werknemers=mei!$A36)*(datums=mei!Q$5)*(uren))","v":"00:00:00"},{"$f":"SUMPRODUCT((werknemers=mei!$A36)*(datums=mei!R$5)*(uren))","v":"00:00:00"},{"$f":"SUMPRODUCT((werknemers=mei!$A36)*(datums=mei!S$5)*(uren))","v":"00:00:00"},{"$f":"SUMPRODUCT((werknemers=mei!$A36)*(datums=mei!T$5)*(uren))","v":"00:00:00"},{"$f":"SUMPRODUCT((werknemers=mei!$A36)*(datums=mei!U$5)*(uren))","v":"00:00:00"},{"$f":"SUMPRODUCT((werknemers=mei!$A36)*(datums=mei!V$5)*(uren))","v":"00:00:00"},{"$f":"SUMPRODUCT((werknemers=mei!$A36)*(datums=mei!W$5)*(uren))","v":"00:00:00"},{"$f":"SUMPRODUCT((werknemers=mei!$A36)*(datums=mei!X$5)*(uren))","v":"00:00:00"},{"$f":"SUMPRODUCT((werknemers=mei!$A36)*(datums=mei!Y$5)*(uren))","v":"00:00:00"},{"$f":"SUMPRODUCT((werknemers=mei!$A36)*(datums=mei!Z$5)*(uren))","v":"00:00:00"},{"$f":"SUMPRODUCT((werknemers=mei!$A36)*(datums=mei!AA$5)*(uren))","v":"00:00:00"},{"$f":"SUMPRODUCT((werknemers=mei!$A36)*(datums=mei!AB$5)*(uren))","v":"00:00:00"},{"$f":"SUMPRODUCT((werknemers=mei!$A36)*(datums=mei!AC$5)*(uren))","v":"00:00:00"},{"$f":"SUMPRODUCT((werknemers=mei!$A36)*(datums=mei!AD$5)*(uren))","v":"00:00:00"},{"$f":"SUMPRODUCT((werknemers=mei!$A36)*(datums=mei!AE$5)*(uren))","v":"00:00:00"},{"$f":"SUMPRODUCT((werknemers=mei!$A36)*(datums=mei!AF$5)*(uren))","v":"00:00:00"}]
[]
["CONTROLE",{"$f":"SUMPRODUCT((werknemers=mei!$A38)*(datums=mei!B$5)*(uren))","v":"00:00:00"},{"$f":"SUMPRODUCT((werknemers=mei!$A38)*(datums=mei!C$5)*(uren))","v":"00:00:00"},{"$f":"SUMPRODUCT((werknemers=mei!$A38)*(datums=mei!D$5)*(uren))","v":"00:00:00"},{"$f":"SUMPRODUCT((werknemers=mei!$A38)*(datums=mei!E$5)*(uren))","v":"00:00:00"},{"$f":"SUMPRODUCT((werknemers=mei!$A38)*(datums=mei!F$5)*(uren))","v":"00:00:00"},{"$f":"SUMPRODUCT((werknemers=mei!$A38)*(datums=mei!G$5)*(uren))","v":"00:00:00"},{"$f":"SUMPRODUCT((werknemers=mei!$A38)*(datums=mei!H$5)*(uren))","v":"00:00:00"},{"$f":"SUMPRODUCT((werknemers=mei!$A38)*(datums=mei!I$5)*(uren))","v":"00:00:00"},{"$f":"SUMPRODUCT((werknemers=mei!$A38)*(datums=mei!J$5)*(uren))","v":"00:00:00"},{"$f":"SUMPRODUCT((werknemers=mei!$A38)*(datums=mei!K$5)*(uren))","v":"00:00:00"},{"$f":"SUMPRODUCT((werknemers=mei!$A38)*(datums=mei!L$5)*(uren))","v":"00:00:00"},{"$f":"SUMPRODUCT((werknemers=mei!$A38)*(datums=mei!M$5)*(uren))","v":"00:00:00"},{"$f":"SUMPRODUCT((werknemers=mei!$A38)*(datums=mei!N$5)*(uren))","v":"00:00:00"},{"$f":"SUMPRODUCT((werknemers=mei!$A38)*(datums=mei!O$5)*(uren))","v":"00:00:00"},{"$f":"SUMPRODUCT((werknemers=mei!$A38)*(datums=mei!P$5)*(uren))","v":"00:00:00"},{"$f":"SUMPRODUCT((werknemers=mei!$A38)*(datums=mei!Q$5)*(uren))","v":"00:00:00"},{"$f":"SUMPRODUCT((werknemers=mei!$A38)*(datums=mei!R$5)*(uren))","v":"00:00:00"},{"$f":"SUMPRODUCT((werknemers=mei!$A38)*(datums=mei!S$5)*(uren))","v":"00:00:00"},{"$f":"SUMPRODUCT((werknemers=mei!$A38)*(datums=mei!T$5)*(uren))","v":"00:00:00"},{"$f":"SUMPRODUCT((werknemers=mei!$A38)*(datums=mei!U$5)*(uren))","v":"00:00:00"},{"$f":"SUMPRODUCT((werknemers=mei!$A38)*(datums=mei!V$5)*(uren))","v":"00:00:00"},{"$f":"SUMPRODUCT((werknemers=mei!$A38)*(datums=mei!W$5)*(uren))","v":"00:00:00"},{"$f":"SUMPRODUCT((werknemers=mei!$A38)*(datums=mei!X$5)*(uren))","v":"00:00:00"},{"$f":"SUMPRODUCT((werknemers=mei!$A38)*(datums=mei!Y$5)*(uren))","v":"00:00:00"},{"$f":"SUMPRODUCT((werknemers=mei!$A38)*(datums=mei!Z$5)*(uren))","v":"00:00:00"},{"$f":"SUMPRODUCT((werknemers=mei!$A38)*(datums=mei!AA$5)*(uren))","v":"00:00:00"},{"$f":"SUMPRODUCT((werknemers=mei!$A38)*(datums=mei!AB$5)*(uren))","v":"00:00:00"},{"$f":"SUMPRODUCT((werknemers=mei!$A38)*(datums=mei!AC$5)*(uren))","v":"00:00:00"},{"$f":"SUMPRODUCT((werknemers=mei!$A38)*(datums=mei!AD$5)*(uren))","v":"00:00:00"},{"$f":"SUMPRODUCT((werknemers=mei!$A38)*(datums=mei!AE$5)*(uren))","v":"00:00:00"},{"$f":"SUMPRODUCT((werknemers=mei!$A38)*(datums=mei!AF$5)*(uren))","v":"00:00:00"}]
[]
["CONTROLE",{"$f":"SUMPRODUCT((werknemers=mei!$A40)*(datums=mei!B$5)*(uren))","v":"00:00:00"},{"$f":"SUMPRODUCT((werknemers=mei!$A40)*(datums=mei!C$5)*(uren))","v":"00:00:00"},{"$f":"SUMPRODUCT((werknemers=mei!$A40)*(datums=mei!D$5)*(uren))","v":"00:00:00"},{"$f":"SUMPRODUCT((werknemers=mei!$A40)*(datums=mei!E$5)*(uren))","v":"00:00:00"},{"$f":"SUMPRODUCT((werknemers=mei!$A40)*(datums=mei!F$5)*(uren))","v":"00:00:00"},{"$f":"SUMPRODUCT((werknemers=mei!$A40)*(datums=mei!G$5)*(uren))","v":"00:00:00"},{"$f":"SUMPRODUCT((werknemers=mei!$A40)*(datums=mei!H$5)*(uren))","v":"00:00:00"},{"$f":"SUMPRODUCT((werknemers=mei!$A40)*(datums=mei!I$5)*(uren))","v":"00:00:00"},{"$f":"SUMPRODUCT((werknemers=mei!$A40)*(datums=mei!J$5)*(uren))","v":"00:00:00"},{"$f":"SUMPRODUCT((werknemers=mei!$A40)*(datums=mei!K$5)*(uren))","v":"00:00:00"},{"$f":"SUMPRODUCT((werknemers=mei!$A40)*(datums=mei!L$5)*(uren))","v":"00:00:00"},{"$f":"SUMPRODUCT((werknemers=mei!$A40)*(datums=mei!M$5)*(uren))","v":"00:00:00"},{"$f":"SUMPRODUCT((werknemers=mei!$A40)*(datums=mei!N$5)*(uren))","v":"00:00:00"},{"$f":"SUMPRODUCT((werknemers=mei!$A40)*(datums=mei!O$5)*(uren))","v":"00:00:00"},{"$f":"SUMPRODUCT((werknemers=mei!$A40)*(datums=mei!P$5)*(uren))","v":"00:00:00"},{"$f":"SUMPRODUCT((werknemers=mei!$A40)*(datums=mei!Q$5)*(uren))","v":"00:00:00"},{"$f":"SUMPRODUCT((werknemers=mei!$A40)*(datums=mei!R$5)*(uren))","v":"00:00:00"},{"$f":"SUMPRODUCT((werknemers=mei!$A40)*(datums=mei!S$5)*(uren))","v":"00:00:00"},{"$f":"SUMPRODUCT((werknemers=mei!$A40)*(datums=mei!T$5)*(uren))","v":"00:00:00"},{"$f":"SUMPRODUCT((werknemers=mei!$A40)*(datums=mei!U$5)*(uren))","v":"00:00:00"},{"$f":"SUMPRODUCT((werknemers=mei!$A40)*(datums=mei!V$5)*(uren))","v":"00:00:00"},{"$f":"SUMPRODUCT((werknemers=mei!$A40)*(datums=mei!W$5)*(uren))","v":"00:00:00"},{"$f":"SUMPRODUCT((werknemers=mei!$A40)*(datums=mei!X$5)*(uren))","v":"00:00:00"},{"$f":"SUMPRODUCT((werknemers=mei!$A40)*(datums=mei!Y$5)*(uren))","v":"00:00:00"},{"$f":"SUMPRODUCT((werknemers=mei!$A40)*(datums=mei!Z$5)*(uren))","v":"00:00:00"},{"$f":"SUMPRODUCT((werknemers=mei!$A40)*(datums=mei!AA$5)*(uren))","v":"00:00:00"},{"$f":"SUMPRODUCT((werknemers=mei!$A40)*(datums=mei!AB$5)*(uren))","v":"00:00:00"},{"$f":"SUMPRODUCT((werknemers=mei!$A40)*(datums=mei!AC$5)*(uren))","v":"00:00:00"},{"$f":"SUMPRODUCT((werknemers=mei!$A40)*(datums=mei!AD$5)*(uren))","v":"00:00:00"},{"$f":"SUMPRODUCT((werknemers=mei!$A40)*(datums=mei!AE$5)*(uren))","v":"00:00:00"},{"$f":"SUMPRODUCT((werknemers=mei!$A40)*(datums=mei!AF$5)*(uren))","v":"00:00:00"}]
[]
["CONTROLE",{"$f":"SUMPRODUCT((werknemers=mei!$A42)*(datums=mei!B$5)*(uren))","v":"00:00:00"},{"$f":"SUMPRODUCT((werknemers=mei!$A42)*(datums=mei!C$5)*(uren))","v":"00:00:00"},{"$f":"SUMPRODUCT((werknemers=mei!$A42)*(datums=mei!D$5)*(uren))","v":"00:00:00"},{"$f":"SUMPRODUCT((werknemers=mei!$A42)*(datums=mei!E$5)*(uren))","v":"00:00:00"},{"$f":"SUMPRODUCT((werknemers=mei!$A42)*(datums=mei!F$5)*(uren))","v":"00:00:00"},{"$f":"SUMPRODUCT((werknemers=mei!$A42)*(datums=mei!G$5)*(uren))","v":"00:00:00"},{"$f":"SUMPRODUCT((werknemers=mei!$A42)*(datums=mei!H$5)*(uren))","v":"00:00:00"},{"$f":"SUMPRODUCT((werknemers=mei!$A42)*(datums=mei!I$5)*(uren))","v":"00:00:00"},{"$f":"SUMPRODUCT((werknemers=mei!$A42)*(datums=mei!J$5)*(uren))","v":"00:00:00"},{"$f":"SUMPRODUCT((werknemers=mei!$A42)*(datums=mei!K$5)*(uren))","v":"00:00:00"},{"$f":"SUMPRODUCT((werknemers=mei!$A42)*(datums=mei!L$5)*(uren))","v":"00:00:00"},{"$f":"SUMPRODUCT((werknemers=mei!$A42)*(datums=mei!M$5)*(uren))","v":"00:00:00"},{"$f":"SUMPRODUCT((werknemers=mei!$A42)*(datums=mei!N$5)*(uren))","v":"00:00:00"},{"$f":"SUMPRODUCT((werknemers=mei!$A42)*(datums=mei!O$5)*(uren))","v":"00:00:00"},{"$f":"SUMPRODUCT((werknemers=mei!$A42)*(datums=mei!P$5)*(uren))","v":"00:00:00"},{"$f":"SUMPRODUCT((werknemers=mei!$A42)*(datums=mei!Q$5)*(uren))","v":"00:00:00"},{"$f":"SUMPRODUCT((werknemers=mei!$A42)*(datums=mei!R$5)*(uren))","v":"00:00:00"},{"$f":"SUMPRODUCT((werknemers=mei!$A42)*(datums=mei!S$5)*(uren))","v":"00:00:00"},{"$f":"SUMPRODUCT((werknemers=mei!$A42)*(datums=mei!T$5)*(uren))","v":"00:00:00"},{"$f":"SUMPRODUCT((werknemers=mei!$A42)*(datums=mei!U$5)*(uren))","v":"00:00:00"},{"$f":"SUMPRODUCT((werknemers=mei!$A42)*(datums=mei!V$5)*(uren))","v":"00:00:00"},{"$f":"SUMPRODUCT((werknemers=mei!$A42)*(datums=mei!W$5)*(uren))","v":"00:00:00"},{"$f":"SUMPRODUCT((werknemers=mei!$A42)*(datums=mei!X$5)*(uren))","v":"00:00:00"},{"$f":"SUMPRODUCT((werknemers=mei!$A42)*(datums=mei!Y$5)*(uren))","v":"00:00:00"},{"$f":"SUMPRODUCT((werknemers=mei!$A42)*(datums=mei!Z$5)*(uren))","v":"00:00:00"},{"$f":"SUMPRODUCT((werknemers=mei!$A42)*(datums=mei!AA$5)*(uren))","v":"00:00:00"},{"$f":"SUMPRODUCT((werknemers=mei!$A42)*(datums=mei!AB$5)*(uren))","v":"00:00:00"},{"$f":"SUMPRODUCT((werknemers=mei!$A42)*(datums=mei!AC$5)*(uren))","v":"00:00:00"},{"$f":"SUMPRODUCT((werknemers=mei!$A42)*(datums=mei!AD$5)*(uren))","v":"00:00:00"},{"$f":"SUMPRODUCT((werknemers=mei!$A42)*(datums=mei!AE$5)*(uren))","v":"00:00:00"},{"$f":"SUMPRODUCT((werknemers=mei!$A42)*(datums=mei!AF$5)*(uren))","v":"00:00:00"}]
[]
["CONTROLE",{"$f":"SUMPRODUCT((werknemers=mei!$A44)*(datums=mei!B$5)*(uren))","v":"00:00:00"},{"$f":"SUMPRODUCT((werknemers=mei!$A44)*(datums=mei!C$5)*(uren))","v":"00:00:00"},{"$f":"SUMPRODUCT((werknemers=mei!$A44)*(datums=mei!D$5)*(uren))","v":"00:00:00"},{"$f":"SUMPRODUCT((werknemers=mei!$A44)*(datums=mei!E$5)*(uren))","v":"00:00:00"},{"$f":"SUMPRODUCT((werknemers=mei!$A44)*(datums=mei!F$5)*(uren))","v":"00:00:00"},{"$f":"SUMPRODUCT((werknemers=mei!$A44)*(datums=mei!G$5)*(uren))","v":"00:00:00"},{"$f":"SUMPRODUCT((werknemers=mei!$A44)*(datums=mei!H$5)*(uren))","v":"00:00:00"},{"$f":"SUMPRODUCT((werknemers=mei!$A44)*(datums=mei!I$5)*(uren))","v":"00:00:00"},{"$f":"SUMPRODUCT((werknemers=mei!$A44)*(datums=mei!J$5)*(uren))","v":"00:00:00"},{"$f":"SUMPRODUCT((werknemers=mei!$A44)*(datums=mei!K$5)*(uren))","v":"00:00:00"},{"$f":"SUMPRODUCT((werknemers=mei!$A44)*(datums=mei!L$5)*(uren))","v":"00:00:00"},{"$f":"SUMPRODUCT((werknemers=mei!$A44)*(datums=mei!M$5)*(uren))","v":"00:00:00"},{"$f":"SUMPRODUCT((werknemers=mei!$A44)*(datums=mei!N$5)*(uren))","v":"00:00:00"},{"$f":"SUMPRODUCT((werknemers=mei!$A44)*(datums=mei!O$5)*(uren))","v":"00:00:00"},{"$f":"SUMPRODUCT((werknemers=mei!$A44)*(datums=mei!P$5)*(uren))","v":"00:00:00"},{"$f":"SUMPRODUCT((werknemers=mei!$A44)*(datums=mei!Q$5)*(uren))","v":"00:00:00"},{"$f":"SUMPRODUCT((werknemers=mei!$A44)*(datums=mei!R$5)*(uren))","v":"00:00:00"},{"$f":"SUMPRODUCT((werknemers=mei!$A44)*(datums=mei!S$5)*(uren))","v":"00:00:00"},{"$f":"SUMPRODUCT((werknemers=mei!$A44)*(datums=mei!T$5)*(uren))","v":"00:00:00"},{"$f":"SUMPRODUCT((werknemers=mei!$A44)*(datums=mei!U$5)*(uren))","v":"00:00:00"},{"$f":"SUMPRODUCT((werknemers=mei!$A44)*(datums=mei!V$5)*(uren))","v":"00:00:00"},{"$f":"SUMPRODUCT((werknemers=mei!$A44)*(datums=mei!W$5)*(uren))","v":"00:00:00"},{"$f":"SUMPRODUCT((werknemers=mei!$A44)*(datums=mei!X$5)*(uren))","v":"00:00:00"},{"$f":"SUMPRODUCT((werknemers=mei!$A44)*(datums=mei!Y$5)*(uren))","v":"00:00:00"},{"$f":"SUMPRODUCT((werknemers=mei!$A44)*(datums=mei!Z$5)*(uren))","v":"00:00:00"},{"$f":"SUMPRODUCT((werknemers=mei!$A44)*(datums=mei!AA$5)*(uren))","v":"00:00:00"},{"$f":"SUMPRODUCT((werknemers=mei!$A44)*(datums=mei!AB$5)*(uren))","v":"00:00:00"},{"$f":"SUMPRODUCT((werknemers=mei!$A44)*(datums=mei!AC$5)*(uren))","v":"00:00:00"},{"$f":"SUMPRODUCT((werknemers=mei!$A44)*(datums=mei!AD$5)*(uren))","v":"00:00:00"},{"$f":"SUMPRODUCT((werknemers=mei!$A44)*(datums=mei!AE$5)*(uren))","v":"00:00:00"},{"$f":"SUMPRODUCT((werknemers=mei!$A44)*(datums=mei!AF$5)*(uren))","v":"00:00:00"}]

{"sheet":"juni","index":7,"n_rows":45,"n_cols":31,"rows_kept":45,"cut":false,"hidden":false,"merged":[[3,0,4,0],[1,1,1,3],[1,5,1,7],[1,9,1,11]]}
[]
[null,"verlof (V)",null,null,null,"ziek (Z)",null,null,null,"feestdag (F)"]
[]
[{"$f":"YEAR(B5)","v":2018},{"$f":"WEEKDAY(B5)","v":"1900-01-06"},{"$f":"WEEKDAY(C5)","v":"1900-01-07"},"1900-01-01","1900-01-02","1900-01-03","1900-01-04","1900-01-05","1900-01-06","1900-01-07","1900-01-01","1900-01-02","1900-01-03","1900-01-04","1900-01-05","1900-01-06","1900-01-07","1900-01-01","1900-01-02","1900-01-03","1900-01-04","1900-01-05","1900-01-06","1900-01-07","1900-01-01","1900-01-02","1900-01-03","1900-01-04","1900-01-05","1900-01-06","1900-01-07"]
[null,"2018-06-01","2018-06-02","2018-06-03","2018-06-04","2018-06-05","2018-06-06","2018-06-07","2018-06-08","2018-06-09","2018-06-10","2018-06-11","2018-06-12","2018-06-13","2018-06-14","2018-06-15","2018-06-16","2018-06-17","2018-06-18","2018-06-19","2018-06-20","2018-06-21","2018-06-22","2018-06-23","2018-06-24","2018-06-25","2018-06-26","2018-06-27","2018-06-28","2018-06-29","2018-06-30"]
[]
["CONTROLE",{"$f":"SUMPRODUCT((werknemers=juni!$A6)*(datums=juni!B$5)*(uren))","v":"00:00:00"},{"$f":"SUMPRODUCT((werknemers=juni!$A6)*(datums=juni!C$5)*(uren))","v":"00:00:00"},{"$f":"SUMPRODUCT((werknemers=juni!$A6)*(datums=juni!D$5)*(uren))","v":"00:00:00"},{"$f":"SUMPRODUCT((werknemers=juni!$A6)*(datums=juni!E$5)*(uren))","v":"00:00:00"},{"$f":"SUMPRODUCT((werknemers=juni!$A6)*(datums=juni!F$5)*(uren))","v":"00:00:00"},{"$f":"SUMPRODUCT((werknemers=juni!$A6)*(datums=juni!G$5)*(uren))","v":"00:00:00"},{"$f":"SUMPRODUCT((werknemers=juni!$A6)*(datums=juni!H$5)*(uren))","v":"00:00:00"},{"$f":"SUMPRODUCT((werknemers=juni!$A6)*(datums=juni!I$5)*(uren))","v":"00:00:00"},{"$f":"SUMPRODUCT((werknemers=juni!$A6)*(datums=juni!J$5)*(uren))","v":"00:00:00"},{"$f":"SUMPRODUCT((werknemers=juni!$A6)*(datums=juni!K$5)*(uren))","v":"00:00:00"},{"$f":"SUMPRODUCT((werknemers=juni!$A6)*(datums=juni!L$5)*(uren))","v":"00:00:00"},{"$f":"SUMPRODUCT((werknemers=juni!$A6)*(datums=juni!M$5)*(uren))","v":"00:00:00"},{"$f":"SUMPRODUCT((werknemers=juni!$A6)*(datums=juni!N$5)*(uren))","v":"00:00:00"},{"$f":"SUMPRODUCT((werknemers=juni!$A6)*(datums=juni!O$5)*(uren))","v":"00:00:00"},{"$f":"SUMPRODUCT((werknemers=juni!$A6)*(datums=juni!P$5)*(uren))","v":"00:00:00"},{"$f":"SUMPRODUCT((werknemers=juni!$A6)*(datums=juni!Q$5)*(uren))","v":"00:00:00"},{"$f":"SUMPRODUCT((werknemers=juni!$A6)*(datums=juni!R$5)*(uren))","v":"00:00:00"},{"$f":"SUMPRODUCT((werknemers=juni!$A6)*(datums=juni!S$5)*(uren))","v":"00:00:00"},{"$f":"SUMPRODUCT((werknemers=juni!$A6)*(datums=juni!T$5)*(uren))","v":"00:00:00"},{"$f":"SUMPRODUCT((werknemers=juni!$A6)*(datums=juni!U$5)*(uren))","v":"00:00:00"},{"$f":"SUMPRODUCT((werknemers=juni!$A6)*(datums=juni!V$5)*(uren))","v":"00:00:00"},{"$f":"SUMPRODUCT((werknemers=juni!$A6)*(datums=juni!W$5)*(uren))","v":"00:00:00"},{"$f":"SUMPRODUCT((werknemers=juni!$A6)*(datums=juni!X$5)*(uren))","v":"00:00:00"},{"$f":"SUMPRODUCT((werknemers=juni!$A6)*(datums=juni!Y$5)*(uren))","v":"00:00:00"},{"$f":"SUMPRODUCT((werknemers=juni!$A6)*(datums=juni!Z$5)*(uren))","v":"00:00:00"},{"$f":"SUMPRODUCT((werknemers=juni!$A6)*(datums=juni!AA$5)*(uren))","v":"00:00:00"},{"$f":"SUMPRODUCT((werknemers=juni!$A6)*(datums=juni!AB$5)*(uren))","v":"00:00:00"},{"$f":"SUMPRODUCT((werknemers=juni!$A6)*(datums=juni!AC$5)*(uren))","v":"00:00:00"},{"$f":"SUMPRODUCT((werknemers=juni!$A6)*(datums=juni!AD$5)*(uren))","v":"00:00:00"},{"$f":"SUMPRODUCT((werknemers=juni!$A6)*(datums=juni!AE$5)*(uren))","v":"00:00:00"}]
[]
["CONTROLE",{"$f":"SUMPRODUCT((werknemers=juni!$A8)*(datums=juni!B$5)*(uren))","v":"00:00:00"},{"$f":"SUMPRODUCT((werknemers=juni!$A8)*(datums=juni!C$5)*(uren))","v":"00:00:00"},{"$f":"SUMPRODUCT((werknemers=juni!$A8)*(datums=juni!D$5)*(uren))","v":"00:00:00"},{"$f":"SUMPRODUCT((werknemers=juni!$A8)*(datums=juni!E$5)*(uren))","v":"00:00:00"},{"$f":"SUMPRODUCT((werknemers=juni!$A8)*(datums=juni!F$5)*(uren))","v":"00:00:00"},{"$f":"SUMPRODUCT((werknemers=juni!$A8)*(datums=juni!G$5)*(uren))","v":"00:00:00"},{"$f":"SUMPRODUCT((werknemers=juni!$A8)*(datums=juni!H$5)*(uren))","v":"00:00:00"},{"$f":"SUMPRODUCT((werknemers=juni!$A8)*(datums=juni!I$5)*(uren))","v":"00:00:00"},{"$f":"SUMPRODUCT((werknemers=juni!$A8)*(datums=juni!J$5)*(uren))","v":"00:00:00"},{"$f":"SUMPRODUCT((werknemers=juni!$A8)*(datums=juni!K$5)*(uren))","v":"00:00:00"},{"$f":"SUMPRODUCT((werknemers=juni!$A8)*(datums=juni!L$5)*(uren))","v":"00:00:00"},{"$f":"SUMPRODUCT((werknemers=juni!$A8)*(datums=juni!M$5)*(uren))","v":"00:00:00"},{"$f":"SUMPRODUCT((werknemers=juni!$A8)*(datums=juni!N$5)*(uren))","v":"00:00:00"},{"$f":"SUMPRODUCT((werknemers=juni!$A8)*(datums=juni!O$5)*(uren))","v":"00:00:00"},{"$f":"SUMPRODUCT((werknemers=juni!$A8)*(datums=juni!P$5)*(uren))","v":"00:00:00"},{"$f":"SUMPRODUCT((werknemers=juni!$A8)*(datums=juni!Q$5)*(uren))","v":"00:00:00"},{"$f":"SUMPRODUCT((werknemers=juni!$A8)*(datums=juni!R$5)*(uren))","v":"00:00:00"},{"$f":"SUMPRODUCT((werknemers=juni!$A8)*(datums=juni!S$5)*(uren))","v":"00:00:00"},{"$f":"SUMPRODUCT((werknemers=juni!$A8)*(datums=juni!T$5)*(uren))","v":"00:00:00"},{"$f":"SUMPRODUCT((werknemers=juni!$A8)*(datums=juni!U$5)*(uren))","v":"00:00:00"},{"$f":"SUMPRODUCT((werknemers=juni!$A8)*(datums=juni!V$5)*(uren))","v":"00:00:00"},{"$f":"SUMPRODUCT((werknemers=juni!$A8)*(datums=juni!W$5)*(uren))","v":"00:00:00"},{"$f":"SUMPRODUCT((werknemers=juni!$A8)*(datums=juni!X$5)*(uren))","v":"00:00:00"},{"$f":"SUMPRODUCT((werknemers=juni!$A8)*(datums=juni!Y$5)*(uren))","v":"00:00:00"},{"$f":"SUMPRODUCT((werknemers=juni!$A8)*(datums=juni!Z$5)*(uren))","v":"00:00:00"},{"$f":"SUMPRODUCT((werknemers=juni!$A8)*(datums=juni!AA$5)*(uren))","v":"00:00:00"},{"$f":"SUMPRODUCT((werknemers=juni!$A8)*(datums=juni!AB$5)*(uren))","v":"00:00:00"},{"$f":"SUMPRODUCT((werknemers=juni!$A8)*(datums=juni!AC$5)*(uren))","v":"00:00:00"},{"$f":"SUMPRODUCT((werknemers=juni!$A8)*(datums=juni!AD$5)*(uren))","v":"00:00:00"},{"$f":"SUMPRODUCT((werknemers=juni!$A8)*(datums=juni!AE$5)*(uren))","v":"00:00:00"}]
[]
["CONTROLE",{"$f":"SUMPRODUCT((werknemers=juni!$A10)*(datums=juni!B$5)*(uren))","v":"00:00:00"},{"$f":"SUMPRODUCT((werknemers=juni!$A10)*(datums=juni!C$5)*(uren))","v":"00:00:00"},{"$f":"SUMPRODUCT((werknemers=juni!$A10)*(datums=juni!D$5)*(uren))","v":"00:00:00"},{"$f":"SUMPRODUCT((werknemers=juni!$A10)*(datums=juni!E$5)*(uren))","v":"00:00:00"},{"$f":"SUMPRODUCT((werknemers=juni!$A10)*(datums=juni!F$5)*(uren))","v":"00:00:00"},{"$f":"SUMPRODUCT((werknemers=juni!$A10)*(datums=juni!G$5)*(uren))","v":"00:00:00"},{"$f":"SUMPRODUCT((werknemers=juni!$A10)*(datums=juni!H$5)*(uren))","v":"00:00:00"},{"$f":"SUMPRODUCT((werknemers=juni!$A10)*(datums=juni!I$5)*(uren))","v":"00:00:00"},{"$f":"SUMPRODUCT((werknemers=juni!$A10)*(datums=juni!J$5)*(uren))","v":"00:00:00"},{"$f":"SUMPRODUCT((werknemers=juni!$A10)*(datums=juni!K$5)*(uren))","v":"00:00:00"},{"$f":"SUMPRODUCT((werknemers=juni!$A10)*(datums=juni!L$5)*(uren))","v":"00:00:00"},{"$f":"SUMPRODUCT((werknemers=juni!$A10)*(datums=juni!M$5)*(uren))","v":"00:00:00"},{"$f":"SUMPRODUCT((werknemers=juni!$A10)*(datums=juni!N$5)*(uren))","v":"00:00:00"},{"$f":"SUMPRODUCT((werknemers=juni!$A10)*(datums=juni!O$5)*(uren))","v":"00:00:00"},{"$f":"SUMPRODUCT((werknemers=juni!$A10)*(datums=juni!P$5)*(uren))","v":"00:00:00"},{"$f":"SUMPRODUCT((werknemers=juni!$A10)*(datums=juni!Q$5)*(uren))","v":"00:00:00"},{"$f":"SUMPRODUCT((werknemers=juni!$A10)*(datums=juni!R$5)*(uren))","v":"00:00:00"},{"$f":"SUMPRODUCT((werknemers=juni!$A10)*(datums=juni!S$5)*(uren))","v":"00:00:00"},{"$f":"SUMPRODUCT((werknemers=juni!$A10)*(datums=juni!T$5)*(uren))","v":"00:00:00"},{"$f":"SUMPRODUCT((werknemers=juni!$A10)*(datums=juni!U$5)*(uren))","v":"00:00:00"},{"$f":"SUMPRODUCT((werknemers=juni!$A10)*(datums=juni!V$5)*(uren))","v":"00:00:00"},{"$f":"SUMPRODUCT((werknemers=juni!$A10)*(datums=juni!W$5)*(uren))","v":"00:00:00"},{"$f":"SUMPRODUCT((werknemers=juni!$A10)*(datums=juni!X$5)*(uren))","v":"00:00:00"},{"$f":"SUMPRODUCT((werknemers=juni!$A10)*(datums=juni!Y$5)*(uren))","v":"00:00:00"},{"$f":"SUMPRODUCT((werknemers=juni!$A10)*(datums=juni!Z$5)*(uren))","v":"00:00:00"},{"$f":"SUMPRODUCT((werknemers=juni!$A10)*(datums=juni!AA$5)*(uren))","v":"00:00:00"},{"$f":"SUMPRODUCT((werknemers=juni!$A10)*(datums=juni!AB$5)*(uren))","v":"00:00:00"},{"$f":"SUMPRODUCT((werknemers=juni!$A10)*(datums=juni!AC$5)*(uren))","v":"00:00:00"},{"$f":"SUMPRODUCT((werknemers=juni!$A10)*(datums=juni!AD$5)*(uren))","v":"00:00:00"},{"$f":"SUMPRODUCT((werknemers=juni!$A10)*(datums=juni!AE$5)*(uren))","v":"00:00:00"}]
[]
["CONTROLE",{"$f":"SUMPRODUCT((werknemers=juni!$A12)*(datums=juni!B$5)*(uren))","v":"00:00:00"},{"$f":"SUMPRODUCT((werknemers=juni!$A12)*(datums=juni!C$5)*(uren))","v":"00:00:00"},{"$f":"SUMPRODUCT((werknemers=juni!$A12)*(datums=juni!D$5)*(uren))","v":"00:00:00"},{"$f":"SUMPRODUCT((werknemers=juni!$A12)*(datums=juni!E$5)*(uren))","v":"00:00:00"},{"$f":"SUMPRODUCT((werknemers=juni!$A12)*(datums=juni!F$5)*(uren))","v":"00:00:00"},{"$f":"SUMPRODUCT((werknemers=juni!$A12)*(datums=juni!G$5)*(uren))","v":"00:00:00"},{"$f":"SUMPRODUCT((werknemers=juni!$A12)*(datums=juni!H$5)*(uren))","v":"00:00:00"},{"$f":"SUMPRODUCT((werknemers=juni!$A12)*(datums=juni!I$5)*(uren))","v":"00:00:00"},{"$f":"SUMPRODUCT((werknemers=juni!$A12)*(datums=juni!J$5)*(uren))","v":"00:00:00"},{"$f":"SUMPRODUCT((werknemers=juni!$A12)*(datums=juni!K$5)*(uren))","v":"00:00:00"},{"$f":"SUMPRODUCT((werknemers=juni!$A12)*(datums=juni!L$5)*(uren))","v":"00:00:00"},{"$f":"SUMPRODUCT((werknemers=juni!$A12)*(datums=juni!M$5)*(uren))","v":"00:00:00"},{"$f":"SUMPRODUCT((werknemers=juni!$A12)*(datums=juni!N$5)*(uren))","v":"00:00:00"},{"$f":"SUMPRODUCT((werknemers=juni!$A12)*(datums=juni!O$5)*(uren))","v":"00:00:00"},{"$f":"SUMPRODUCT((werknemers=juni!$A12)*(datums=juni!P$5)*(uren))","v":"00:00:00"},{"$f":"SUMPRODUCT((werknemers=juni!$A12)*(datums=juni!Q$5)*(uren))","v":"00:00:00"},{"$f":"SUMPRODUCT((werknemers=juni!$A12)*(datums=juni!R$5)*(uren))","v":"00:00:00"},{"$f":"SUMPRODUCT((werknemers=juni!$A12)*(datums=juni!S$5)*(uren))","v":"00:00:00"},{"$f":"SUMPRODUCT((werknemers=juni!$A12)*(datums=juni!T$5)*(uren))","v":"00:00:00"},{"$f":"SUMPRODUCT((werknemers=juni!$A12)*(datums=juni!U$5)*(uren))","v":"00:00:00"},{"$f":"SUMPRODUCT((werknemers=juni!$A12)*(datums=juni!V$5)*(uren))","v":"00:00:00"},{"$f":"SUMPRODUCT((werknemers=juni!$A12)*(datums=juni!W$5)*(uren))","v":"00:00:00"},{"$f":"SUMPRODUCT((werknemers=juni!$A12)*(datums=juni!X$5)*(uren))","v":"00:00:00"},{"$f":"SUMPRODUCT((werknemers=juni!$A12)*(datums=juni!Y$5)*(uren))","v":"00:00:00"},{"$f":"SUMPRODUCT((werknemers=juni!$A12)*(datums=juni!Z$5)*(uren))","v":"00:00:00"},{"$f":"SUMPRODUCT((werknemers=juni!$A12)*(datums=juni!AA$5)*(uren))","v":"00:00:00"},{"$f":"SUMPRODUCT((werknemers=juni!$A12)*(datums=juni!AB$5)*(uren))","v":"00:00:00"},{"$f":"SUMPRODUCT((werknemers=juni!$A12)*(datums=juni!AC$5)*(uren))","v":"00:00:00"},{"$f":"SUMPRODUCT((werknemers=juni!$A12)*(datums=juni!AD$5)*(uren))","v":"00:00:00"},{"$f":"SUMPRODUCT((werknemers=juni!$A12)*(datums=juni!AE$5)*(uren))","v":"00:00:00"}]
[]
["CONTROLE",{"$f":"SUMPRODUCT((werknemers=juni!$A14)*(datums=juni!B$5)*(uren))","v":"00:00:00"},{"$f":"SUMPRODUCT((werknemers=juni!$A14)*(datums=juni!C$5)*(uren))","v":"00:00:00"},{"$f":"SUMPRODUCT((werknemers=juni!$A14)*(datums=juni!D$5)*(uren))","v":"00:00:00"},{"$f":"SUMPRODUCT((werknemers=juni!$A14)*(datums=juni!E$5)*(uren))","v":"00:00:00"},{"$f":"SUMPRODUCT((werknemers=juni!$A14)*(datums=juni!F$5)*(uren))","v":"00:00:00"},{"$f":"SUMPRODUCT((werknemers=juni!$A14)*(datums=juni!G$5)*(uren))","v":"00:00:00"},{"$f":"SUMPRODUCT((werknemers=juni!$A14)*(datums=juni!H$5)*(uren))","v":"00:00:00"},{"$f":"SUMPRODUCT((werknemers=juni!$A14)*(datums=juni!I$5)*(uren))","v":"00:00:00"},{"$f":"SUMPRODUCT((werknemers=juni!$A14)*(datums=juni!J$5)*(uren))","v":"00:00:00"},{"$f":"SUMPRODUCT((werknemers=juni!$A14)*(datums=juni!K$5)*(uren))","v":"00:00:00"},{"$f":"SUMPRODUCT((werknemers=juni!$A14)*(datums=juni!L$5)*(uren))","v":"00:00:00"},{"$f":"SUMPRODUCT((werknemers=juni!$A14)*(datums=juni!M$5)*(uren))","v":"00:00:00"},{"$f":"SUMPRODUCT((werknemers=juni!$A14)*(datums=juni!N$5)*(uren))","v":"00:00:00"},{"$f":"SUMPRODUCT((werknemers=juni!$A14)*(datums=juni!O$5)*(uren))","v":"00:00:00"},{"$f":"SUMPRODUCT((werknemers=juni!$A14)*(datums=juni!P$5)*(uren))","v":"00:00:00"},{"$f":"SUMPRODUCT((werknemers=juni!$A14)*(datums=juni!Q$5)*(uren))","v":"00:00:00"},{"$f":"SUMPRODUCT((werknemers=juni!$A14)*(datums=juni!R$5)*(uren))","v":"00:00:00"},{"$f":"SUMPRODUCT((werknemers=juni!$A14)*(datums=juni!S$5)*(uren))","v":"00:00:00"},{"$f":"SUMPRODUCT((werknemers=juni!$A14)*(datums=juni!T$5)*(uren))","v":"00:00:00"},{"$f":"SUMPRODUCT((werknemers=juni!$A14)*(datums=juni!U$5)*(uren))","v":"00:00:00"},{"$f":"SUMPRODUCT((werknemers=juni!$A14)*(datums=juni!V$5)*(uren))","v":"00:00:00"},{"$f":"SUMPRODUCT((werknemers=juni!$A14)*(datums=juni!W$5)*(uren))","v":"00:00:00"},{"$f":"SUMPRODUCT((werknemers=juni!$A14)*(datums=juni!X$5)*(uren))","v":"00:00:00"},{"$f":"SUMPRODUCT((werknemers=juni!$A14)*(datums=juni!Y$5)*(uren))","v":"00:00:00"},{"$f":"SUMPRODUCT((werknemers=juni!$A14)*(datums=juni!Z$5)*(uren))","v":"00:00:00"},{"$f":"SUMPRODUCT((werknemers=juni!$A14)*(datums=juni!AA$5)*(uren))","v":"00:00:00"},{"$f":"SUMPRODUCT((werknemers=juni!$A14)*(datums=juni!AB$5)*(uren))","v":"00:00:00"},{"$f":"SUMPRODUCT((werknemers=juni!$A14)*(datums=juni!AC$5)*(uren))","v":"00:00:00"},{"$f":"SUMPRODUCT((werknemers=juni!$A14)*(datums=juni!AD$5)*(uren))","v":"00:00:00"},{"$f":"SUMPRODUCT((werknemers=juni!$A14)*(datums=juni!AE$5)*(uren))","v":"00:00:00"}]
[]
["CONTROLE",{"$f":"SUMPRODUCT((werknemers=juni!$A16)*(datums=juni!B$5)*(uren))","v":"00:00:00"},{"$f":"SUMPRODUCT((werknemers=juni!$A16)*(datums=juni!C$5)*(uren))","v":"00:00:00"},{"$f":"SUMPRODUCT((werknemers=juni!$A16)*(datums=juni!D$5)*(uren))","v":"00:00:00"},{"$f":"SUMPRODUCT((werknemers=juni!$A16)*(datums=juni!E$5)*(uren))","v":"00:00:00"},{"$f":"SUMPRODUCT((werknemers=juni!$A16)*(datums=juni!F$5)*(uren))","v":"00:00:00"},{"$f":"SUMPRODUCT((werknemers=juni!$A16)*(datums=juni!G$5)*(uren))","v":"00:00:00"},{"$f":"SUMPRODUCT((werknemers=juni!$A16)*(datums=juni!H$5)*(uren))","v":"00:00:00"},{"$f":"SUMPRODUCT((werknemers=juni!$A16)*(datums=juni!I$5)*(uren))","v":"00:00:00"},{"$f":"SUMPRODUCT((werknemers=juni!$A16)*(datums=juni!J$5)*(uren))","v":"00:00:00"},{"$f":"SUMPRODUCT((werknemers=juni!$A16)*(datums=juni!K$5)*(uren))","v":"00:00:00"},{"$f":"SUMPRODUCT((werknemers=juni!$A16)*(datums=juni!L$5)*(uren))","v":"00:00:00"},{"$f":"SUMPRODUCT((werknemers=juni!$A16)*(datums=juni!M$5)*(uren))","v":"00:00:00"},{"$f":"SUMPRODUCT((werknemers=juni!$A16)*(datums=juni!N$5)*(uren))","v":"00:00:00"},{"$f":"SUMPRODUCT((werknemers=juni!$A16)*(datums=juni!O$5)*(uren))","v":"00:00:00"},{"$f":"SUMPRODUCT((werknemers=juni!$A16)*(datums=juni!P$5)*(uren))","v":"00:00:00"},{"$f":"SUMPRODUCT((werknemers=juni!$A16)*(datums=juni!Q$5)*(uren))","v":"00:00:00"},{"$f":"SUMPRODUCT((werknemers=juni!$A16)*(datums=juni!R$5)*(uren))","v":"00:00:00"},{"$f":"SUMPRODUCT((werknemers=juni!$A16)*(datums=juni!S$5)*(uren))","v":"00:00:00"},{"$f":"SUMPRODUCT((werknemers=juni!$A16)*(datums=juni!T$5)*(uren))","v":"00:00:00"},{"$f":"SUMPRODUCT((werknemers=juni!$A16)*(datums=juni!U$5)*(uren))","v":"00:00:00"},{"$f":"SUMPRODUCT((werknemers=juni!$A16)*(datums=juni!V$5)*(uren))","v":"00:00:00"},{"$f":"SUMPRODUCT((werknemers=juni!$A16)*(datums=juni!W$5)*(uren))","v":"00:00:00"},{"$f":"SUMPRODUCT((werknemers=juni!$A16)*(datums=juni!X$5)*(uren))","v":"00:00:00"},{"$f":"SUMPRODUCT((werknemers=juni!$A16)*(datums=juni!Y$5)*(uren))","v":"00:00:00"},{"$f":"SUMPRODUCT((werknemers=juni!$A16)*(datums=juni!Z$5)*(uren))","v":"00:00:00"},{"$f":"SUMPRODUCT((werknemers=juni!$A16)*(datums=juni!AA$5)*(uren))","v":"00:00:00"},{"$f":"SUMPRODUCT((werknemers=juni!$A16)*(datums=juni!AB$5)*(uren))","v":"00:00:00"},{"$f":"SUMPRODUCT((werknemers=juni!$A16)*(datums=juni!AC$5)*(uren))","v":"00:00:00"},{"$f":"SUMPRODUCT((werknemers=juni!$A16)*(datums=juni!AD$5)*(uren))","v":"00:00:00"},{"$f":"SUMPRODUCT((werknemers=juni!$A16)*(datums=juni!AE$5)*(uren))","v":"00:00:00"}]
[]
["CONTROLE",{"$f":"SUMPRODUCT((werknemers=juni!$A18)*(datums=juni!B$5)*(uren))","v":"00:00:00"},{"$f":"SUMPRODUCT((werknemers=juni!$A18)*(datums=juni!C$5)*(uren))","v":"00:00:00"},{"$f":"SUMPRODUCT((werknemers=juni!$A18)*(datums=juni!D$5)*(uren))","v":"00:00:00"},{"$f":"SUMPRODUCT((werknemers=juni!$A18)*(datums=juni!E$5)*(uren))","v":"00:00:00"},{"$f":"SUMPRODUCT((werknemers=juni!$A18)*(datums=juni!F$5)*(uren))","v":"00:00:00"},{"$f":"SUMPRODUCT((werknemers=juni!$A18)*(datums=juni!G$5)*(uren))","v":"00:00:00"},{"$f":"SUMPRODUCT((werknemers=juni!$A18)*(datums=juni!H$5)*(uren))","v":"00:00:00"},{"$f":"SUMPRODUCT((werknemers=juni!$A18)*(datums=juni!I$5)*(uren))","v":"00:00:00"},{"$f":"SUMPRODUCT((werknemers=juni!$A18)*(datums=juni!J$5)*(uren))","v":"00:00:00"},{"$f":"SUMPRODUCT((werknemers=juni!$A18)*(datums=juni!K$5)*(uren))","v":"00:00:00"},{"$f":"SUMPRODUCT((werknemers=juni!$A18)*(datums=juni!L$5)*(uren))","v":"00:00:00"},{"$f":"SUMPRODUCT((werknemers=juni!$A18)*(datums=juni!M$5)*(uren))","v":"00:00:00"},{"$f":"SUMPRODUCT((werknemers=juni!$A18)*(datums=juni!N$5)*(uren))","v":"00:00:00"},{"$f":"SUMPRODUCT((werknemers=juni!$A18)*(datums=juni!O$5)*(uren))","v":"00:00:00"},{"$f":"SUMPRODUCT((werknemers=juni!$A18)*(datums=juni!P$5)*(uren))","v":"00:00:00"},{"$f":"SUMPRODUCT((werknemers=juni!$A18)*(datums=juni!Q$5)*(uren))","v":"00:00:00"},{"$f":"SUMPRODUCT((werknemers=juni!$A18)*(datums=juni!R$5)*(uren))","v":"00:00:00"},{"$f":"SUMPRODUCT((werknemers=juni!$A18)*(datums=juni!S$5)*(uren))","v":"00:00:00"},{"$f":"SUMPRODUCT((werknemers=juni!$A18)*(datums=juni!T$5)*(uren))","v":"00:00:00"},{"$f":"SUMPRODUCT((werknemers=juni!$A18)*(datums=juni!U$5)*(uren))","v":"00:00:00"},{"$f":"SUMPRODUCT((werknemers=juni!$A18)*(datums=juni!V$5)*(uren))","v":"00:00:00"},{"$f":"SUMPRODUCT((werknemers=juni!$A18)*(datums=juni!W$5)*(uren))","v":"00:00:00"},{"$f":"SUMPRODUCT((werknemers=juni!$A18)*(datums=juni!X$5)*(uren))","v":"00:00:00"},{"$f":"SUMPRODUCT((werknemers=juni!$A18)*(datums=juni!Y$5)*(uren))","v":"00:00:00"},{"$f":"SUMPRODUCT((werknemers=juni!$A18)*(datums=juni!Z$5)*(uren))","v":"00:00:00"},{"$f":"SUMPRODUCT((werknemers=juni!$A18)*(datums=juni!AA$5)*(uren))","v":"00:00:00"},{"$f":"SUMPRODUCT((werknemers=juni!$A18)*(datums=juni!AB$5)*(uren))","v":"00:00:00"},{"$f":"SUMPRODUCT((werknemers=juni!$A18)*(datums=juni!AC$5)*(uren))","v":"00:00:00"},{"$f":"SUMPRODUCT((werknemers=juni!$A18)*(datums=juni!AD$5)*(uren))","v":"00:00:00"},{"$f":"SUMPRODUCT((werknemers=juni!$A18)*(datums=juni!AE$5)*(uren))","v":"00:00:00"}]
[]
["CONTROLE",{"$f":"SUMPRODUCT((werknemers=juni!$A20)*(datums=juni!B$5)*(uren))","v":"00:00:00"},{"$f":"SUMPRODUCT((werknemers=juni!$A20)*(datums=juni!C$5)*(uren))","v":"00:00:00"},{"$f":"SUMPRODUCT((werknemers=juni!$A20)*(datums=juni!D$5)*(uren))","v":"00:00:00"},{"$f":"SUMPRODUCT((werknemers=juni!$A20)*(datums=juni!E$5)*(uren))","v":"00:00:00"},{"$f":"SUMPRODUCT((werknemers=juni!$A20)*(datums=juni!F$5)*(uren))","v":"00:00:00"},{"$f":"SUMPRODUCT((werknemers=juni!$A20)*(datums=juni!G$5)*(uren))","v":"00:00:00"},{"$f":"SUMPRODUCT((werknemers=juni!$A20)*(datums=juni!H$5)*(uren))","v":"00:00:00"},{"$f":"SUMPRODUCT((werknemers=juni!$A20)*(datums=juni!I$5)*(uren))","v":"00:00:00"},{"$f":"SUMPRODUCT((werknemers=juni!$A20)*(datums=juni!J$5)*(uren))","v":"00:00:00"},{"$f":"SUMPRODUCT((werknemers=juni!$A20)*(datums=juni!K$5)*(uren))","v":"00:00:00"},{"$f":"SUMPRODUCT((werknemers=juni!$A20)*(datums=juni!L$5)*(uren))","v":"00:00:00"},{"$f":"SUMPRODUCT((werknemers=juni!$A20)*(datums=juni!M$5)*(uren))","v":"00:00:00"},{"$f":"SUMPRODUCT((werknemers=juni!$A20)*(datums=juni!N$5)*(uren))","v":"00:00:00"},{"$f":"SUMPRODUCT((werknemers=juni!$A20)*(datums=juni!O$5)*(uren))","v":"00:00:00"},{"$f":"SUMPRODUCT((werknemers=juni!$A20)*(datums=juni!P$5)*(uren))","v":"00:00:00"},{"$f":"SUMPRODUCT((werknemers=juni!$A20)*(datums=juni!Q$5)*(uren))","v":"00:00:00"},{"$f":"SUMPRODUCT((werknemers=juni!$A20)*(datums=juni!R$5)*(uren))","v":"00:00:00"},{"$f":"SUMPRODUCT((werknemers=juni!$A20)*(datums=juni!S$5)*(uren))","v":"00:00:00"},{"$f":"SUMPRODUCT((werknemers=juni!$A20)*(datums=juni!T$5)*(uren))","v":"00:00:00"},{"$f":"SUMPRODUCT((werknemers=juni!$A20)*(datums=juni!U$5)*(uren))","v":"00:00:00"},{"$f":"SUMPRODUCT((werknemers=juni!$A20)*(datums=juni!V$5)*(uren))","v":"00:00:00"},{"$f":"SUMPRODUCT((werknemers=juni!$A20)*(datums=juni!W$5)*(uren))","v":"00:00:00"},{"$f":"SUMPRODUCT((werknemers=juni!$A20)*(datums=juni!X$5)*(uren))","v":"00:00:00"},{"$f":"SUMPRODUCT((werknemers=juni!$A20)*(datums=juni!Y$5)*(uren))","v":"00:00:00"},{"$f":"SUMPRODUCT((werknemers=juni!$A20)*(datums=juni!Z$5)*(uren))","v":"00:00:00"},{"$f":"SUMPRODUCT((werknemers=juni!$A20)*(datums=juni!AA$5)*(uren))","v":"00:00:00"},{"$f":"SUMPRODUCT((werknemers=juni!$A20)*(datums=juni!AB$5)*(uren))","v":"00:00:00"},{"$f":"SUMPRODUCT((werknemers=juni!$A20)*(datums=juni!AC$5)*(uren))","v":"00:00:00"},{"$f":"SUMPRODUCT((werknemers=juni!$A20)*(datums=juni!AD$5)*(uren))","v":"00:00:00"},{"$f":"SUMPRODUCT((werknemers=juni!$A20)*(datums=juni!AE$5)*(uren))","v":"00:00:00"}]
[]
["CONTROLE",{"$f":"SUMPRODUCT((werknemers=juni!$A22)*(datums=juni!B$5)*(uren))","v":"00:00:00"},{"$f":"SUMPRODUCT((werknemers=juni!$A22)*(datums=juni!C$5)*(uren))","v":"00:00:00"},{"$f":"SUMPRODUCT((werknemers=juni!$A22)*(datums=juni!D$5)*(uren))","v":"00:00:00"},{"$f":"SUMPRODUCT((werknemers=juni!$A22)*(datums=juni!E$5)*(uren))","v":"00:00:00"},{"$f":"SUMPRODUCT((werknemers=juni!$A22)*(datums=juni!F$5)*(uren))","v":"00:00:00"},{"$f":"SUMPRODUCT((werknemers=juni!$A22)*(datums=juni!G$5)*(uren))","v":"00:00:00"},{"$f":"SUMPRODUCT((werknemers=juni!$A22)*(datums=juni!H$5)*(uren))","v":"00:00:00"},{"$f":"SUMPRODUCT((werknemers=juni!$A22)*(datums=juni!I$5)*(uren))","v":"00:00:00"},{"$f":"SUMPRODUCT((werknemers=juni!$A22)*(datums=juni!J$5)*(uren))","v":"00:00:00"},{"$f":"SUMPRODUCT((werknemers=juni!$A22)*(datums=juni!K$5)*(uren))","v":"00:00:00"},{"$f":"SUMPRODUCT((werknemers=juni!$A22)*(datums=juni!L$5)*(uren))","v":"00:00:00"},{"$f":"SUMPRODUCT((werknemers=juni!$A22)*(datums=juni!M$5)*(uren))","v":"00:00:00"},{"$f":"SUMPRODUCT((werknemers=juni!$A22)*(datums=juni!N$5)*(uren))","v":"00:00:00"},{"$f":"SUMPRODUCT((werknemers=juni!$A22)*(datums=juni!O$5)*(uren))","v":"00:00:00"},{"$f":"SUMPRODUCT((werknemers=juni!$A22)*(datums=juni!P$5)*(uren))","v":"00:00:00"},{"$f":"SUMPRODUCT((werknemers=juni!$A22)*(datums=juni!Q$5)*(uren))","v":"00:00:00"},{"$f":"SUMPRODUCT((werknemers=juni!$A22)*(datums=juni!R$5)*(uren))","v":"00:00:00"},{"$f":"SUMPRODUCT((werknemers=juni!$A22)*(datums=juni!S$5)*(uren))","v":"00:00:00"},{"$f":"SUMPRODUCT((werknemers=juni!$A22)*(datums=juni!T$5)*(uren))","v":"00:00:00"},{"$f":"SUMPRODUCT((werknemers=juni!$A22)*(datums=juni!U$5)*(uren))","v":"00:00:00"},{"$f":"SUMPRODUCT((werknemers=juni!$A22)*(datums=juni!V$5)*(uren))","v":"00:00:00"},{"$f":"SUMPRODUCT((werknemers=juni!$A22)*(datums=juni!W$5)*(uren))","v":"00:00:00"},{"$f":"SUMPRODUCT((werknemers=juni!$A22)*(datums=juni!X$5)*(uren))","v":"00:00:00"},{"$f":"SUMPRODUCT((werknemers=juni!$A22)*(datums=juni!Y$5)*(uren))","v":"00:00:00"},{"$f":"SUMPRODUCT((werknemers=juni!$A22)*(datums=juni!Z$5)*(uren))","v":"00:00:00"},{"$f":"SUMPRODUCT((werknemers=juni!$A22)*(datums=juni!AA$5)*(uren))","v":"00:00:00"},{"$f":"SUMPRODUCT((werknemers=juni!$A22)*(datums=juni!AB$5)*(uren))","v":"00:00:00"},{"$f":"SUMPRODUCT((werknemers=juni!$A22)*(datums=juni!AC$5)*(uren))","v":"00:00:00"},{"$f":"SUMPRODUCT((werknemers=juni!$A22)*(datums=juni!AD$5)*(uren))","v":"00:00:00"},{"$f":"SUMPRODUCT((werknemers=juni!$A22)*(datums=juni!AE$5)*(uren))","v":"00:00:00"}]
[]
["CONTROLE",{"$f":"SUMPRODUCT((werknemers=juni!$A24)*(datums=juni!B$5)*(uren))","v":"00:00:00"},{"$f":"SUMPRODUCT((werknemers=juni!$A24)*(datums=juni!C$5)*(uren))","v":"00:00:00"},{"$f":"SUMPRODUCT((werknemers=juni!$A24)*(datums=juni!D$5)*(uren))","v":"00:00:00"},{"$f":"SUMPRODUCT((werknemers=juni!$A24)*(datums=juni!E$5)*(uren))","v":"00:00:00"},{"$f":"SUMPRODUCT((werknemers=juni!$A24)*(datums=juni!F$5)*(uren))","v":"00:00:00"},{"$f":"SUMPRODUCT((werknemers=juni!$A24)*(datums=juni!G$5)*(uren))","v":"00:00:00"},{"$f":"SUMPRODUCT((werknemers=juni!$A24)*(datums=juni!H$5)*(uren))","v":"00:00:00"},{"$f":"SUMPRODUCT((werknemers=juni!$A24)*(datums=juni!I$5)*(uren))","v":"00:00:00"},{"$f":"SUMPRODUCT((werknemers=juni!$A24)*(datums=juni!J$5)*(uren))","v":"00:00:00"},{"$f":"SUMPRODUCT((werknemers=juni!$A24)*(datums=juni!K$5)*(uren))","v":"00:00:00"},{"$f":"SUMPRODUCT((werknemers=juni!$A24)*(datums=juni!L$5)*(uren))","v":"00:00:00"},{"$f":"SUMPRODUCT((werknemers=juni!$A24)*(datums=juni!M$5)*(uren))","v":"00:00:00"},{"$f":"SUMPRODUCT((werknemers=juni!$A24)*(datums=juni!N$5)*(uren))","v":"00:00:00"},{"$f":"SUMPRODUCT((werknemers=juni!$A24)*(datums=juni!O$5)*(uren))","v":"00:00:00"},{"$f":"SUMPRODUCT((werknemers=juni!$A24)*(datums=juni!P$5)*(uren))","v":"00:00:00"},{"$f":"SUMPRODUCT((werknemers=juni!$A24)*(datums=juni!Q$5)*(uren))","v":"00:00:00"},{"$f":"SUMPRODUCT((werknemers=juni!$A24)*(datums=juni!R$5)*(uren))","v":"00:00:00"},{"$f":"SUMPRODUCT((werknemers=juni!$A24)*(datums=juni!S$5)*(uren))","v":"00:00:00"},{"$f":"SUMPRODUCT((werknemers=juni!$A24)*(datums=juni!T$5)*(uren))","v":"00:00:00"},{"$f":"SUMPRODUCT((werknemers=juni!$A24)*(datums=juni!U$5)*(uren))","v":"00:00:00"},{"$f":"SUMPRODUCT((werknemers=juni!$A24)*(datums=juni!V$5)*(uren))","v":"00:00:00"},{"$f":"SUMPRODUCT((werknemers=juni!$A24)*(datums=juni!W$5)*(uren))","v":"00:00:00"},{"$f":"SUMPRODUCT((werknemers=juni!$A24)*(datums=juni!X$5)*(uren))","v":"00:00:00"},{"$f":"SUMPRODUCT((werknemers=juni!$A24)*(datums=juni!Y$5)*(uren))","v":"00:00:00"},{"$f":"SUMPRODUCT((werknemers=juni!$A24)*(datums=juni!Z$5)*(uren))","v":"00:00:00"},{"$f":"SUMPRODUCT((werknemers=juni!$A24)*(datums=juni!AA$5)*(uren))","v":"00:00:00"},{"$f":"SUMPRODUCT((werknemers=juni!$A24)*(datums=juni!AB$5)*(uren))","v":"00:00:00"},{"$f":"SUMPRODUCT((werknemers=juni!$A24)*(datums=juni!AC$5)*(uren))","v":"00:00:00"},{"$f":"SUMPRODUCT((werknemers=juni!$A24)*(datums=juni!AD$5)*(uren))","v":"00:00:00"},{"$f":"SUMPRODUCT((werknemers=juni!$A24)*(datums=juni!AE$5)*(uren))","v":"00:00:00"}]
[]
["CONTROLE",{"$f":"SUMPRODUCT((werknemers=juni!$A26)*(datums=juni!B$5)*(uren))","v":"00:00:00"},{"$f":"SUMPRODUCT((werknemers=juni!$A26)*(datums=juni!C$5)*(uren))","v":"00:00:00"},{"$f":"SUMPRODUCT((werknemers=juni!$A26)*(datums=juni!D$5)*(uren))","v":"00:00:00"},{"$f":"SUMPRODUCT((werknemers=juni!$A26)*(datums=juni!E$5)*(uren))","v":"00:00:00"},{"$f":"SUMPRODUCT((werknemers=juni!$A26)*(datums=juni!F$5)*(uren))","v":"00:00:00"},{"$f":"SUMPRODUCT((werknemers=juni!$A26)*(datums=juni!G$5)*(uren))","v":"00:00:00"},{"$f":"SUMPRODUCT((werknemers=juni!$A26)*(datums=juni!H$5)*(uren))","v":"00:00:00"},{"$f":"SUMPRODUCT((werknemers=juni!$A26)*(datums=juni!I$5)*(uren))","v":"00:00:00"},{"$f":"SUMPRODUCT((werknemers=juni!$A26)*(datums=juni!J$5)*(uren))","v":"00:00:00"},{"$f":"SUMPRODUCT((werknemers=juni!$A26)*(datums=juni!K$5)*(uren))","v":"00:00:00"},{"$f":"SUMPRODUCT((werknemers=juni!$A26)*(datums=juni!L$5)*(uren))","v":"00:00:00"},{"$f":"SUMPRODUCT((werknemers=juni!$A26)*(datums=juni!M$5)*(uren))","v":"00:00:00"},{"$f":"SUMPRODUCT((werknemers=juni!$A26)*(datums=juni!N$5)*(uren))","v":"00:00:00"},{"$f":"SUMPRODUCT((werknemers=juni!$A26)*(datums=juni!O$5)*(uren))","v":"00:00:00"},{"$f":"SUMPRODUCT((werknemers=juni!$A26)*(datums=juni!P$5)*(uren))","v":"00:00:00"},{"$f":"SUMPRODUCT((werknemers=juni!$A26)*(datums=juni!Q$5)*(uren))","v":"00:00:00"},{"$f":"SUMPRODUCT((werknemers=juni!$A26)*(datums=juni!R$5)*(uren))","v":"00:00:00"},{"$f":"SUMPRODUCT((werknemers=juni!$A26)*(datums=juni!S$5)*(uren))","v":"00:00:00"},{"$f":"SUMPRODUCT((werknemers=juni!$A26)*(datums=juni!T$5)*(uren))","v":"00:00:00"},{"$f":"SUMPRODUCT((werknemers=juni!$A26)*(datums=juni!U$5)*(uren))","v":"00:00:00"},{"$f":"SUMPRODUCT((werknemers=juni!$A26)*(datums=juni!V$5)*(uren))","v":"00:00:00"},{"$f":"SUMPRODUCT((werknemers=juni!$A26)*(datums=juni!W$5)*(uren))","v":"00:00:00"},{"$f":"SUMPRODUCT((werknemers=juni!$A26)*(datums=juni!X$5)*(uren))","v":"00:00:00"},{"$f":"SUMPRODUCT((werknemers=juni!$A26)*(datums=juni!Y$5)*(uren))","v":"00:00:00"},{"$f":"SUMPRODUCT((werknemers=juni!$A26)*(datums=juni!Z$5)*(uren))","v":"00:00:00"},{"$f":"SUMPRODUCT((werknemers=juni!$A26)*(datums=juni!AA$5)*(uren))","v":"00:00:00"},{"$f":"SUMPRODUCT((werknemers=juni!$A26)*(datums=juni!AB$5)*(uren))","v":"00:00:00"},{"$f":"SUMPRODUCT((werknemers=juni!$A26)*(datums=juni!AC$5)*(uren))","v":"00:00:00"},{"$f":"SUMPRODUCT((werknemers=juni!$A26)*(datums=juni!AD$5)*(uren))","v":"00:00:00"},{"$f":"SUMPRODUCT((werknemers=juni!$A26)*(datums=juni!AE$5)*(uren))","v":"00:00:00"}]
[]
["CONTROLE",{"$f":"SUMPRODUCT((werknemers=juni!$A28)*(datums=juni!B$5)*(uren))","v":"00:00:00"},{"$f":"SUMPRODUCT((werknemers=juni!$A28)*(datums=juni!C$5)*(uren))","v":"00:00:00"},{"$f":"SUMPRODUCT((werknemers=juni!$A28)*(datums=juni!D$5)*(uren))","v":"00:00:00"},{"$f":"SUMPRODUCT((werknemers=juni!$A28)*(datums=juni!E$5)*(uren))","v":"00:00:00"},{"$f":"SUMPRODUCT((werknemers=juni!$A28)*(datums=juni!F$5)*(uren))","v":"00:00:00"},{"$f":"SUMPRODUCT((werknemers=juni!$A28)*(datums=juni!G$5)*(uren))","v":"00:00:00"},{"$f":"SUMPRODUCT((werknemers=juni!$A28)*(datums=juni!H$5)*(uren))","v":"00:00:00"},{"$f":"SUMPRODUCT((werknemers=juni!$A28)*(datums=juni!I$5)*(uren))","v":"00:00:00"},{"$f":"SUMPRODUCT((werknemers=juni!$A28)*(datums=juni!J$5)*(uren))","v":"00:00:00"},{"$f":"SUMPRODUCT((werknemers=juni!$A28)*(datums=juni!K$5)*(uren))","v":"00:00:00"},{"$f":"SUMPRODUCT((werknemers=juni!$A28)*(datums=juni!L$5)*(uren))","v":"00:00:00"},{"$f":"SUMPRODUCT((werknemers=juni!$A28)*(datums=juni!M$5)*(uren))","v":"00:00:00"},{"$f":"SUMPRODUCT((werknemers=juni!$A28)*(datums=juni!N$5)*(uren))","v":"00:00:00"},{"$f":"SUMPRODUCT((werknemers=juni!$A28)*(datums=juni!O$5)*(uren))","v":"00:00:00"},{"$f":"SUMPRODUCT((werknemers=juni!$A28)*(datums=juni!P$5)*(uren))","v":"00:00:00"},{"$f":"SUMPRODUCT((werknemers=juni!$A28)*(datums=juni!Q$5)*(uren))","v":"00:00:00"},{"$f":"SUMPRODUCT((werknemers=juni!$A28)*(datums=juni!R$5)*(uren))","v":"00:00:00"},{"$f":"SUMPRODUCT((werknemers=juni!$A28)*(datums=juni!S$5)*(uren))","v":"00:00:00"},{"$f":"SUMPRODUCT((werknemers=juni!$A28)*(datums=juni!T$5)*(uren))","v":"00:00:00"},{"$f":"SUMPRODUCT((werknemers=juni!$A28)*(datums=juni!U$5)*(uren))","v":"00:00:00"},{"$f":"SUMPRODUCT((werknemers=juni!$A28)*(datums=juni!V$5)*(uren))","v":"00:00:00"},{"$f":"SUMPRODUCT((werknemers=juni!$A28)*(datums=juni!W$5)*(uren))","v":"00:00:00"},{"$f":"SUMPRODUCT((werknemers=juni!$A28)*(datums=juni!X$5)*(uren))","v":"00:00:00"},{"$f":"SUMPRODUCT((werknemers=juni!$A28)*(datums=juni!Y$5)*(uren))","v":"00:00:00"},{"$f":"SUMPRODUCT((werknemers=juni!$A28)*(datums=juni!Z$5)*(uren))","v":"00:00:00"},{"$f":"SUMPRODUCT((werknemers=juni!$A28)*(datums=juni!AA$5)*(uren))","v":"00:00:00"},{"$f":"SUMPRODUCT((werknemers=juni!$A28)*(datums=juni!AB$5)*(uren))","v":"00:00:00"},{"$f":"SUMPRODUCT((werknemers=juni!$A28)*(datums=juni!AC$5)*(uren))","v":"00:00:00"},{"$f":"SUMPRODUCT((werknemers=juni!$A28)*(datums=juni!AD$5)*(uren))","v":"00:00:00"},{"$f":"SUMPRODUCT((werknemers=juni!$A28)*(datums=juni!AE$5)*(uren))","v":"00:00:00"}]
[]
["CONTROLE",{"$f":"SUMPRODUCT((werknemers=juni!$A30)*(datums=juni!B$5)*(uren))","v":"00:00:00"},{"$f":"SUMPRODUCT((werknemers=juni!$A30)*(datums=juni!C$5)*(uren))","v":"00:00:00"},{"$f":"SUMPRODUCT((werknemers=juni!$A30)*(datums=juni!D$5)*(uren))","v":"00:00:00"},{"$f":"SUMPRODUCT((werknemers=juni!$A30)*(datums=juni!E$5)*(uren))","v":"00:00:00"},{"$f":"SUMPRODUCT((werknemers=juni!$A30)*(datums=juni!F$5)*(uren))","v":"00:00:00"},{"$f":"SUMPRODUCT((werknemers=juni!$A30)*(datums=juni!G$5)*(uren))","v":"00:00:00"},{"$f":"SUMPRODUCT((werknemers=juni!$A30)*(datums=juni!H$5)*(uren))","v":"00:00:00"},{"$f":"SUMPRODUCT((werknemers=juni!$A30)*(datums=juni!I$5)*(uren))","v":"00:00:00"},{"$f":"SUMPRODUCT((werknemers=juni!$A30)*(datums=juni!J$5)*(uren))","v":"00:00:00"},{"$f":"SUMPRODUCT((werknemers=juni!$A30)*(datums=juni!K$5)*(uren))","v":"00:00:00"},{"$f":"SUMPRODUCT((werknemers=juni!$A30)*(datums=juni!L$5)*(uren))","v":"00:00:00"},{"$f":"SUMPRODUCT((werknemers=juni!$A30)*(datums=juni!M$5)*(uren))","v":"00:00:00"},{"$f":"SUMPRODUCT((werknemers=juni!$A30)*(datums=juni!N$5)*(uren))","v":"00:00:00"},{"$f":"SUMPRODUCT((werknemers=juni!$A30)*(datums=juni!O$5)*(uren))","v":"00:00:00"},{"$f":"SUMPRODUCT((werknemers=juni!$A30)*(datums=juni!P$5)*(uren))","v":"00:00:00"},{"$f":"SUMPRODUCT((werknemers=juni!$A30)*(datums=juni!Q$5)*(uren))","v":"00:00:00"},{"$f":"SUMPRODUCT((werknemers=juni!$A30)*(datums=juni!R$5)*(uren))","v":"00:00:00"},{"$f":"SUMPRODUCT((werknemers=juni!$A30)*(datums=juni!S$5)*(uren))","v":"00:00:00"},{"$f":"SUMPRODUCT((werknemers=juni!$A30)*(datums=juni!T$5)*(uren))","v":"00:00:00"},{"$f":"SUMPRODUCT((werknemers=juni!$A30)*(datums=juni!U$5)*(uren))","v":"00:00:00"},{"$f":"SUMPRODUCT((werknemers=juni!$A30)*(datums=juni!V$5)*(uren))","v":"00:00:00"},{"$f":"SUMPRODUCT((werknemers=juni!$A30)*(datums=juni!W$5)*(uren))","v":"00:00:00"},{"$f":"SUMPRODUCT((werknemers=juni!$A30)*(datums=juni!X$5)*(uren))","v":"00:00:00"},{"$f":"SUMPRODUCT((werknemers=juni!$A30)*(datums=juni!Y$5)*(uren))","v":"00:00:00"},{"$f":"SUMPRODUCT((werknemers=juni!$A30)*(datums=juni!Z$5)*(uren))","v":"00:00:00"},{"$f":"SUMPRODUCT((werknemers=juni!$A30)*(datums=juni!AA$5)*(uren))","v":"00:00:00"},{"$f":"SUMPRODUCT((werknemers=juni!$A30)*(datums=juni!AB$5)*(uren))","v":"00:00:00"},{"$f":"SUMPRODUCT((werknemers=juni!$A30)*(datums=juni!AC$5)*(uren))","v":"00:00:00"},{"$f":"SUMPRODUCT((werknemers=juni!$A30)*(datums=juni!AD$5)*(uren))","v":"00:00:00"},{"$f":"SUMPRODUCT((werknemers=juni!$A30)*(datums=juni!AE$5)*(uren))","v":"00:00:00"}]
[]
["CONTROLE",{"$f":"SUMPRODUCT((werknemers=juni!$A32)*(datums=juni!B$5)*(uren))","v":"00:00:00"},{"$f":"SUMPRODUCT((werknemers=juni!$A32)*(datums=juni!C$5)*(uren))","v":"00:00:00"},{"$f":"SUMPRODUCT((werknemers=juni!$A32)*(datums=juni!D$5)*(uren))","v":"00:00:00"},{"$f":"SUMPRODUCT((werknemers=juni!$A32)*(datums=juni!E$5)*(uren))","v":"00:00:00"},{"$f":"SUMPRODUCT((werknemers=juni!$A32)*(datums=juni!F$5)*(uren))","v":"00:00:00"},{"$f":"SUMPRODUCT((werknemers=juni!$A32)*(datums=juni!G$5)*(uren))","v":"00:00:00"},{"$f":"SUMPRODUCT((werknemers=juni!$A32)*(datums=juni!H$5)*(uren))","v":"00:00:00"},{"$f":"SUMPRODUCT((werknemers=juni!$A32)*(datums=juni!I$5)*(uren))","v":"00:00:00"},{"$f":"SUMPRODUCT((werknemers=juni!$A32)*(datums=juni!J$5)*(uren))","v":"00:00:00"},{"$f":"SUMPRODUCT((werknemers=juni!$A32)*(datums=juni!K$5)*(uren))","v":"00:00:00"},{"$f":"SUMPRODUCT((werknemers=juni!$A32)*(datums=juni!L$5)*(uren))","v":"00:00:00"},{"$f":"SUMPRODUCT((werknemers=juni!$A32)*(datums=juni!M$5)*(uren))","v":"00:00:00"},{"$f":"SUMPRODUCT((werknemers=juni!$A32)*(datums=juni!N$5)*(uren))","v":"00:00:00"},{"$f":"SUMPRODUCT((werknemers=juni!$A32)*(datums=juni!O$5)*(uren))","v":"00:00:00"},{"$f":"SUMPRODUCT((werknemers=juni!$A32)*(datums=juni!P$5)*(uren))","v":"00:00:00"},{"$f":"SUMPRODUCT((werknemers=juni!$A32)*(datums=juni!Q$5)*(uren))","v":"00:00:00"},{"$f":"SUMPRODUCT((werknemers=juni!$A32)*(datums=juni!R$5)*(uren))","v":"00:00:00"},{"$f":"SUMPRODUCT((werknemers=juni!$A32)*(datums=juni!S$5)*(uren))","v":"00:00:00"},{"$f":"SUMPRODUCT((werknemers=juni!$A32)*(datums=juni!T$5)*(uren))","v":"00:00:00"},{"$f":"SUMPRODUCT((werknemers=juni!$A32)*(datums=juni!U$5)*(uren))","v":"00:00:00"},{"$f":"SUMPRODUCT((werknemers=juni!$A32)*(datums=juni!V$5)*(uren))","v":"00:00:00"},{"$f":"SUMPRODUCT((werknemers=juni!$A32)*(datums=juni!W$5)*(uren))","v":"00:00:00"},{"$f":"SUMPRODUCT((werknemers=juni!$A32)*(datums=juni!X$5)*(uren))","v":"00:00:00"},{"$f":"SUMPRODUCT((werknemers=juni!$A32)*(datums=juni!Y$5)*(uren))","v":"00:00:00"},{"$f":"SUMPRODUCT((werknemers=juni!$A32)*(datums=juni!Z$5)*(uren))","v":"00:00:00"},{"$f":"SUMPRODUCT((werknemers=juni!$A32)*(datums=juni!AA$5)*(uren))","v":"00:00:00"},{"$f":"SUMPRODUCT((werknemers=juni!$A32)*(datums=juni!AB$5)*(uren))","v":"00:00:00"},{"$f":"SUMPRODUCT((werknemers=juni!$A32)*(datums=juni!AC$5)*(uren))","v":"00:00:00"},{"$f":"SUMPRODUCT((werknemers=juni!$A32)*(datums=juni!AD$5)*(uren))","v":"00:00:00"},{"$f":"SUMPRODUCT((werknemers=juni!$A32)*(datums=juni!AE$5)*(uren))","v":"00:00:00"}]
[]
["CONTROLE",{"$f":"SUMPRODUCT((werknemers=juni!$A34)*(datums=juni!B$5)*(uren))","v":"00:00:00"},{"$f":"SUMPRODUCT((werknemers=juni!$A34)*(datums=juni!C$5)*(uren))","v":"00:00:00"},{"$f":"SUMPRODUCT((werknemers=juni!$A34)*(datums=juni!D$5)*(uren))","v":"00:00:00"},{"$f":"SUMPRODUCT((werknemers=juni!$A34)*(datums=juni!E$5)*(uren))","v":"00:00:00"},{"$f":"SUMPRODUCT((werknemers=juni!$A34)*(datums=juni!F$5)*(uren))","v":"00:00:00"},{"$f":"SUMPRODUCT((werknemers=juni!$A34)*(datums=juni!G$5)*(uren))","v":"00:00:00"},{"$f":"SUMPRODUCT((werknemers=juni!$A34)*(datums=juni!H$5)*(uren))","v":"00:00:00"},{"$f":"SUMPRODUCT((werknemers=juni!$A34)*(datums=juni!I$5)*(uren))","v":"00:00:00"},{"$f":"SUMPRODUCT((werknemers=juni!$A34)*(datums=juni!J$5)*(uren))","v":"00:00:00"},{"$f":"SUMPRODUCT((werknemers=juni!$A34)*(datums=juni!K$5)*(uren))","v":"00:00:00"},{"$f":"SUMPRODUCT((werknemers=juni!$A34)*(datums=juni!L$5)*(uren))","v":"00:00:00"},{"$f":"SUMPRODUCT((werknemers=juni!$A34)*(datums=juni!M$5)*(uren))","v":"00:00:00"},{"$f":"SUMPRODUCT((werknemers=juni!$A34)*(datums=juni!N$5)*(uren))","v":"00:00:00"},{"$f":"SUMPRODUCT((werknemers=juni!$A34)*(datums=juni!O$5)*(uren))","v":"00:00:00"},{"$f":"SUMPRODUCT((werknemers=juni!$A34)*(datums=juni!P$5)*(uren))","v":"00:00:00"},{"$f":"SUMPRODUCT((werknemers=juni!$A34)*(datums=juni!Q$5)*(uren))","v":"00:00:00"},{"$f":"SUMPRODUCT((werknemers=juni!$A34)*(datums=juni!R$5)*(uren))","v":"00:00:00"},{"$f":"SUMPRODUCT((werknemers=juni!$A34)*(datums=juni!S$5)*(uren))","v":"00:00:00"},{"$f":"SUMPRODUCT((werknemers=juni!$A34)*(datums=juni!T$5)*(uren))","v":"00:00:00"},{"$f":"SUMPRODUCT((werknemers=juni!$A34)*(datums=juni!U$5)*(uren))","v":"00:00:00"},{"$f":"SUMPRODUCT((werknemers=juni!$A34)*(datums=juni!V$5)*(uren))","v":"00:00:00"},{"$f":"SUMPRODUCT((werknemers=juni!$A34)*(datums=juni!W$5)*(uren))","v":"00:00:00"},{"$f":"SUMPRODUCT((werknemers=juni!$A34)*(datums=juni!X$5)*(uren))","v":"00:00:00"},{"$f":"SUMPRODUCT((werknemers=juni!$A34)*(datums=juni!Y$5)*(uren))","v":"00:00:00"},{"$f":"SUMPRODUCT((werknemers=juni!$A34)*(datums=juni!Z$5)*(uren))","v":"00:00:00"},{"$f":"SUMPRODUCT((werknemers=juni!$A34)*(datums=juni!AA$5)*(uren))","v":"00:00:00"},{"$f":"SUMPRODUCT((werknemers=juni!$A34)*(datums=juni!AB$5)*(uren))","v":"00:00:00"},{"$f":"SUMPRODUCT((werknemers=juni!$A34)*(datums=juni!AC$5)*(uren))","v":"00:00:00"},{"$f":"SUMPRODUCT((werknemers=juni!$A34)*(datums=juni!AD$5)*(uren))","v":"00:00:00"},{"$f":"SUMPRODUCT((werknemers=juni!$A34)*(datums=juni!AE$5)*(uren))","v":"00:00:00"}]
[]
["CONTROLE",{"$f":"SUMPRODUCT((werknemers=juni!$A36)*(datums=juni!B$5)*(uren))","v":"00:00:00"},{"$f":"SUMPRODUCT((werknemers=juni!$A36)*(datums=juni!C$5)*(uren))","v":"00:00:00"},{"$f":"SUMPRODUCT((werknemers=juni!$A36)*(datums=juni!D$5)*(uren))","v":"00:00:00"},{"$f":"SUMPRODUCT((werknemers=juni!$A36)*(datums=juni!E$5)*(uren))","v":"00:00:00"},{"$f":"SUMPRODUCT((werknemers=juni!$A36)*(datums=juni!F$5)*(uren))","v":"00:00:00"},{"$f":"SUMPRODUCT((werknemers=juni!$A36)*(datums=juni!G$5)*(uren))","v":"00:00:00"},{"$f":"SUMPRODUCT((werknemers=juni!$A36)*(datums=juni!H$5)*(uren))","v":"00:00:00"},{"$f":"SUMPRODUCT((werknemers=juni!$A36)*(datums=juni!I$5)*(uren))","v":"00:00:00"},{"$f":"SUMPRODUCT((werknemers=juni!$A36)*(datums=juni!J$5)*(uren))","v":"00:00:00"},{"$f":"SUMPRODUCT((werknemers=juni!$A36)*(datums=juni!K$5)*(uren))","v":"00:00:00"},{"$f":"SUMPRODUCT((werknemers=juni!$A36)*(datums=juni!L$5)*(uren))","v":"00:00:00"},{"$f":"SUMPRODUCT((werknemers=juni!$A36)*(datums=juni!M$5)*(uren))","v":"00:00:00"},{"$f":"SUMPRODUCT((werknemers=juni!$A36)*(datums=juni!N$5)*(uren))","v":"00:00:00"},{"$f":"SUMPRODUCT((werknemers=juni!$A36)*(datums=juni!O$5)*(uren))","v":"00:00:00"},{"$f":"SUMPRODUCT((werknemers=juni!$A36)*(datums=juni!P$5)*(uren))","v":"00:00:00"},{"$f":"SUMPRODUCT((werknemers=juni!$A36)*(datums=juni!Q$5)*(uren))","v":"00:00:00"},{"$f":"SUMPRODUCT((werknemers=juni!$A36)*(datums=juni!R$5)*(uren))","v":"00:00:00"},{"$f":"SUMPRODUCT((werknemers=juni!$A36)*(datums=juni!S$5)*(uren))","v":"00:00:00"},{"$f":"SUMPRODUCT((werknemers=juni!$A36)*(datums=juni!T$5)*(uren))","v":"00:00:00"},{"$f":"SUMPRODUCT((werknemers=juni!$A36)*(datums=juni!U$5)*(uren))","v":"00:00:00"},{"$f":"SUMPRODUCT((werknemers=juni!$A36)*(datums=juni!V$5)*(uren))","v":"00:00:00"},{"$f":"SUMPRODUCT((werknemers=juni!$A36)*(datums=juni!W$5)*(uren))","v":"00:00:00"},{"$f":"SUMPRODUCT((werknemers=juni!$A36)*(datums=juni!X$5)*(uren))","v":"00:00:00"},{"$f":"SUMPRODUCT((werknemers=juni!$A36)*(datums=juni!Y$5)*(uren))","v":"00:00:00"},{"$f":"SUMPRODUCT((werknemers=juni!$A36)*(datums=juni!Z$5)*(uren))","v":"00:00:00"},{"$f":"SUMPRODUCT((werknemers=juni!$A36)*(datums=juni!AA$5)*(uren))","v":"00:00:00"},{"$f":"SUMPRODUCT((werknemers=juni!$A36)*(datums=juni!AB$5)*(uren))","v":"00:00:00"},{"$f":"SUMPRODUCT((werknemers=juni!$A36)*(datums=juni!AC$5)*(uren))","v":"00:00:00"},{"$f":"SUMPRODUCT((werknemers=juni!$A36)*(datums=juni!AD$5)*(uren))","v":"00:00:00"},{"$f":"SUMPRODUCT((werknemers=juni!$A36)*(datums=juni!AE$5)*(uren))","v":"00:00:00"}]
[]
["CONTROLE",{"$f":"SUMPRODUCT((werknemers=juni!$A38)*(datums=juni!B$5)*(uren))","v":"00:00:00"},{"$f":"SUMPRODUCT((werknemers=juni!$A38)*(datums=juni!C$5)*(uren))","v":"00:00:00"},{"$f":"SUMPRODUCT((werknemers=juni!$A38)*(datums=juni!D$5)*(uren))","v":"00:00:00"},{"$f":"SUMPRODUCT((werknemers=juni!$A38)*(datums=juni!E$5)*(uren))","v":"00:00:00"},{"$f":"SUMPRODUCT((werknemers=juni!$A38)*(datums=juni!F$5)*(uren))","v":"00:00:00"},{"$f":"SUMPRODUCT((werknemers=juni!$A38)*(datums=juni!G$5)*(uren))","v":"00:00:00"},{"$f":"SUMPRODUCT((werknemers=juni!$A38)*(datums=juni!H$5)*(uren))","v":"00:00:00"},{"$f":"SUMPRODUCT((werknemers=juni!$A38)*(datums=juni!I$5)*(uren))","v":"00:00:00"},{"$f":"SUMPRODUCT((werknemers=juni!$A38)*(datums=juni!J$5)*(uren))","v":"00:00:00"},{"$f":"SUMPRODUCT((werknemers=juni!$A38)*(datums=juni!K$5)*(uren))","v":"00:00:00"},{"$f":"SUMPRODUCT((werknemers=juni!$A38)*(datums=juni!L$5)*(uren))","v":"00:00:00"},{"$f":"SUMPRODUCT((werknemers=juni!$A38)*(datums=juni!M$5)*(uren))","v":"00:00:00"},{"$f":"SUMPRODUCT((werknemers=juni!$A38)*(datums=juni!N$5)*(uren))","v":"00:00:00"},{"$f":"SUMPRODUCT((werknemers=juni!$A38)*(datums=juni!O$5)*(uren))","v":"00:00:00"},{"$f":"SUMPRODUCT((werknemers=juni!$A38)*(datums=juni!P$5)*(uren))","v":"00:00:00"},{"$f":"SUMPRODUCT((werknemers=juni!$A38)*(datums=juni!Q$5)*(uren))","v":"00:00:00"},{"$f":"SUMPRODUCT((werknemers=juni!$A38)*(datums=juni!R$5)*(uren))","v":"00:00:00"},{"$f":"SUMPRODUCT((werknemers=juni!$A38)*(datums=juni!S$5)*(uren))","v":"00:00:00"},{"$f":"SUMPRODUCT((werknemers=juni!$A38)*(datums=juni!T$5)*(uren))","v":"00:00:00"},{"$f":"SUMPRODUCT((werknemers=juni!$A38)*(datums=juni!U$5)*(uren))","v":"00:00:00"},{"$f":"SUMPRODUCT((werknemers=juni!$A38)*(datums=juni!V$5)*(uren))","v":"00:00:00"},{"$f":"SUMPRODUCT((werknemers=juni!$A38)*(datums=juni!W$5)*(uren))","v":"00:00:00"},{"$f":"SUMPRODUCT((werknemers=juni!$A38)*(datums=juni!X$5)*(uren))","v":"00:00:00"},{"$f":"SUMPRODUCT((werknemers=juni!$A38)*(datums=juni!Y$5)*(uren))","v":"00:00:00"},{"$f":"SUMPRODUCT((werknemers=juni!$A38)*(datums=juni!Z$5)*(uren))","v":"00:00:00"},{"$f":"SUMPRODUCT((werknemers=juni!$A38)*(datums=juni!AA$5)*(uren))","v":"00:00:00"},{"$f":"SUMPRODUCT((werknemers=juni!$A38)*(datums=juni!AB$5)*(uren))","v":"00:00:00"},{"$f":"SUMPRODUCT((werknemers=juni!$A38)*(datums=juni!AC$5)*(uren))","v":"00:00:00"},{"$f":"SUMPRODUCT((werknemers=juni!$A38)*(datums=juni!AD$5)*(uren))","v":"00:00:00"},{"$f":"SUMPRODUCT((werknemers=juni!$A38)*(datums=juni!AE$5)*(uren))","v":"00:00:00"}]
[]
["CONTROLE",{"$f":"SUMPRODUCT((werknemers=juni!$A40)*(datums=juni!B$5)*(uren))","v":"00:00:00"},{"$f":"SUMPRODUCT((werknemers=juni!$A40)*(datums=juni!C$5)*(uren))","v":"00:00:00"},{"$f":"SUMPRODUCT((werknemers=juni!$A40)*(datums=juni!D$5)*(uren))","v":"00:00:00"},{"$f":"SUMPRODUCT((werknemers=juni!$A40)*(datums=juni!E$5)*(uren))","v":"00:00:00"},{"$f":"SUMPRODUCT((werknemers=juni!$A40)*(datums=juni!F$5)*(uren))","v":"00:00:00"},{"$f":"SUMPRODUCT((werknemers=juni!$A40)*(datums=juni!G$5)*(uren))","v":"00:00:00"},{"$f":"SUMPRODUCT((werknemers=juni!$A40)*(datums=juni!H$5)*(uren))","v":"00:00:00"},{"$f":"SUMPRODUCT((werknemers=juni!$A40)*(datums=juni!I$5)*(uren))","v":"00:00:00"},{"$f":"SUMPRODUCT((werknemers=juni!$A40)*(datums=juni!J$5)*(uren))","v":"00:00:00"},{"$f":"SUMPRODUCT((werknemers=juni!$A40)*(datums=juni!K$5)*(uren))","v":"00:00:00"},{"$f":"SUMPRODUCT((werknemers=juni!$A40)*(datums=juni!L$5)*(uren))","v":"00:00:00"},{"$f":"SUMPRODUCT((werknemers=juni!$A40)*(datums=juni!M$5)*(uren))","v":"00:00:00"},{"$f":"SUMPRODUCT((werknemers=juni!$A40)*(datums=juni!N$5)*(uren))","v":"00:00:00"},{"$f":"SUMPRODUCT((werknemers=juni!$A40)*(datums=juni!O$5)*(uren))","v":"00:00:00"},{"$f":"SUMPRODUCT((werknemers=juni!$A40)*(datums=juni!P$5)*(uren))","v":"00:00:00"},{"$f":"SUMPRODUCT((werknemers=juni!$A40)*(datums=juni!Q$5)*(uren))","v":"00:00:00"},{"$f":"SUMPRODUCT((werknemers=juni!$A40)*(datums=juni!R$5)*(uren))","v":"00:00:00"},{"$f":"SUMPRODUCT((werknemers=juni!$A40)*(datums=juni!S$5)*(uren))","v":"00:00:00"},{"$f":"SUMPRODUCT((werknemers=juni!$A40)*(datums=juni!T$5)*(uren))","v":"00:00:00"},{"$f":"SUMPRODUCT((werknemers=juni!$A40)*(datums=juni!U$5)*(uren))","v":"00:00:00"},{"$f":"SUMPRODUCT((werknemers=juni!$A40)*(datums=juni!V$5)*(uren))","v":"00:00:00"},{"$f":"SUMPRODUCT((werknemers=juni!$A40)*(datums=juni!W$5)*(uren))","v":"00:00:00"},{"$f":"SUMPRODUCT((werknemers=juni!$A40)*(datums=juni!X$5)*(uren))","v":"00:00:00"},{"$f":"SUMPRODUCT((werknemers=juni!$A40)*(datums=juni!Y$5)*(uren))","v":"00:00:00"},{"$f":"SUMPRODUCT((werknemers=juni!$A40)*(datums=juni!Z$5)*(uren))","v":"00:00:00"},{"$f":"SUMPRODUCT((werknemers=juni!$A40)*(datums=juni!AA$5)*(uren))","v":"00:00:00"},{"$f":"SUMPRODUCT((werknemers=juni!$A40)*(datums=juni!AB$5)*(uren))","v":"00:00:00"},{"$f":"SUMPRODUCT((werknemers=juni!$A40)*(datums=juni!AC$5)*(uren))","v":"00:00:00"},{"$f":"SUMPRODUCT((werknemers=juni!$A40)*(datums=juni!AD$5)*(uren))","v":"00:00:00"},{"$f":"SUMPRODUCT((werknemers=juni!$A40)*(datums=juni!AE$5)*(uren))","v":"00:00:00"}]
[]
["CONTROLE",{"$f":"SUMPRODUCT((werknemers=juni!$A42)*(datums=juni!B$5)*(uren))","v":"00:00:00"},{"$f":"SUMPRODUCT((werknemers=juni!$A42)*(datums=juni!C$5)*(uren))","v":"00:00:00"},{"$f":"SUMPRODUCT((werknemers=juni!$A42)*(datums=juni!D$5)*(uren))","v":"00:00:00"},{"$f":"SUMPRODUCT((werknemers=juni!$A42)*(datums=juni!E$5)*(uren))","v":"00:00:00"},{"$f":"SUMPRODUCT((werknemers=juni!$A42)*(datums=juni!F$5)*(uren))","v":"00:00:00"},{"$f":"SUMPRODUCT((werknemers=juni!$A42)*(datums=juni!G$5)*(uren))","v":"00:00:00"},{"$f":"SUMPRODUCT((werknemers=juni!$A42)*(datums=juni!H$5)*(uren))","v":"00:00:00"},{"$f":"SUMPRODUCT((werknemers=juni!$A42)*(datums=juni!I$5)*(uren))","v":"00:00:00"},{"$f":"SUMPRODUCT((werknemers=juni!$A42)*(datums=juni!J$5)*(uren))","v":"00:00:00"},{"$f":"SUMPRODUCT((werknemers=juni!$A42)*(datums=juni!K$5)*(uren))","v":"00:00:00"},{"$f":"SUMPRODUCT((werknemers=juni!$A42)*(datums=juni!L$5)*(uren))","v":"00:00:00"},{"$f":"SUMPRODUCT((werknemers=juni!$A42)*(datums=juni!M$5)*(uren))","v":"00:00:00"},{"$f":"SUMPRODUCT((werknemers=juni!$A42)*(datums=juni!N$5)*(uren))","v":"00:00:00"},{"$f":"SUMPRODUCT((werknemers=juni!$A42)*(datums=juni!O$5)*(uren))","v":"00:00:00"},{"$f":"SUMPRODUCT((werknemers=juni!$A42)*(datums=juni!P$5)*(uren))","v":"00:00:00"},{"$f":"SUMPRODUCT((werknemers=juni!$A42)*(datums=juni!Q$5)*(uren))","v":"00:00:00"},{"$f":"SUMPRODUCT((werknemers=juni!$A42)*(datums=juni!R$5)*(uren))","v":"00:00:00"},{"$f":"SUMPRODUCT((werknemers=juni!$A42)*(datums=juni!S$5)*(uren))","v":"00:00:00"},{"$f":"SUMPRODUCT((werknemers=juni!$A42)*(datums=juni!T$5)*(uren))","v":"00:00:00"},{"$f":"SUMPRODUCT((werknemers=juni!$A42)*(datums=juni!U$5)*(uren))","v":"00:00:00"},{"$f":"SUMPRODUCT((werknemers=juni!$A42)*(datums=juni!V$5)*(uren))","v":"00:00:00"},{"$f":"SUMPRODUCT((werknemers=juni!$A42)*(datums=juni!W$5)*(uren))","v":"00:00:00"},{"$f":"SUMPRODUCT((werknemers=juni!$A42)*(datums=juni!X$5)*(uren))","v":"00:00:00"},{"$f":"SUMPRODUCT((werknemers=juni!$A42)*(datums=juni!Y$5)*(uren))","v":"00:00:00"},{"$f":"SUMPRODUCT((werknemers=juni!$A42)*(datums=juni!Z$5)*(uren))","v":"00:00:00"},{"$f":"SUMPRODUCT((werknemers=juni!$A42)*(datums=juni!AA$5)*(uren))","v":"00:00:00"},{"$f":"SUMPRODUCT((werknemers=juni!$A42)*(datums=juni!AB$5)*(uren))","v":"00:00:00"},{"$f":"SUMPRODUCT((werknemers=juni!$A42)*(datums=juni!AC$5)*(uren))","v":"00:00:00"},{"$f":"SUMPRODUCT((werknemers=juni!$A42)*(datums=juni!AD$5)*(uren))","v":"00:00:00"},{"$f":"SUMPRODUCT((werknemers=juni!$A42)*(datums=juni!AE$5)*(uren))","v":"00:00:00"}]
[]
["CONTROLE",{"$f":"SUMPRODUCT((werknemers=juni!$A44)*(datums=juni!B$5)*(uren))","v":"00:00:00"},{"$f":"SUMPRODUCT((werknemers=juni!$A44)*(datums=juni!C$5)*(uren))","v":"00:00:00"},{"$f":"SUMPRODUCT((werknemers=juni!$A44)*(datums=juni!D$5)*(uren))","v":"00:00:00"},{"$f":"SUMPRODUCT((werknemers=juni!$A44)*(datums=juni!E$5)*(uren))","v":"00:00:00"},{"$f":"SUMPRODUCT((werknemers=juni!$A44)*(datums=juni!F$5)*(uren))","v":"00:00:00"},{"$f":"SUMPRODUCT((werknemers=juni!$A44)*(datums=juni!G$5)*(uren))","v":"00:00:00"},{"$f":"SUMPRODUCT((werknemers=juni!$A44)*(datums=juni!H$5)*(uren))","v":"00:00:00"},{"$f":"SUMPRODUCT((werknemers=juni!$A44)*(datums=juni!I$5)*(uren))","v":"00:00:00"},{"$f":"SUMPRODUCT((werknemers=juni!$A44)*(datums=juni!J$5)*(uren))","v":"00:00:00"},{"$f":"SUMPRODUCT((werknemers=juni!$A44)*(datums=juni!K$5)*(uren))","v":"00:00:00"},{"$f":"SUMPRODUCT((werknemers=juni!$A44)*(datums=juni!L$5)*(uren))","v":"00:00:00"},{"$f":"SUMPRODUCT((werknemers=juni!$A44)*(datums=juni!M$5)*(uren))","v":"00:00:00"},{"$f":"SUMPRODUCT((werknemers=juni!$A44)*(datums=juni!N$5)*(uren))","v":"00:00:00"},{"$f":"SUMPRODUCT((werknemers=juni!$A44)*(datums=juni!O$5)*(uren))","v":"00:00:00"},{"$f":"SUMPRODUCT((werknemers=juni!$A44)*(datums=juni!P$5)*(uren))","v":"00:00:00"},{"$f":"SUMPRODUCT((werknemers=juni!$A44)*(datums=juni!Q$5)*(uren))","v":"00:00:00"},{"$f":"SUMPRODUCT((werknemers=juni!$A44)*(datums=juni!R$5)*(uren))","v":"00:00:00"},{"$f":"SUMPRODUCT((werknemers=juni!$A44)*(datums=juni!S$5)*(uren))","v":"00:00:00"},{"$f":"SUMPRODUCT((werknemers=juni!$A44)*(datums=juni!T$5)*(uren))","v":"00:00:00"},{"$f":"SUMPRODUCT((werknemers=juni!$A44)*(datums=juni!U$5)*(uren))","v":"00:00:00"},{"$f":"SUMPRODUCT((werknemers=juni!$A44)*(datums=juni!V$5)*(uren))","v":"00:00:00"},{"$f":"SUMPRODUCT((werknemers=juni!$A44)*(datums=juni!W$5)*(uren))","v":"00:00:00"},{"$f":"SUMPRODUCT((werknemers=juni!$A44)*(datums=juni!X$5)*(uren))","v":"00:00:00"},{"$f":"SUMPRODUCT((werknemers=juni!$A44)*(datums=juni!Y$5)*(uren))","v":"00:00:00"},{"$f":"SUMPRODUCT((werknemers=juni!$A44)*(datums=juni!Z$5)*(uren))","v":"00:00:00"},{"$f":"SUMPRODUCT((werknemers=juni!$A44)*(datums=juni!AA$5)*(uren))","v":"00:00:00"},{"$f":"SUMPRODUCT((werknemers=juni!$A44)*(datums=juni!AB$5)*(uren))","v":"00:00:00"},{"$f":"SUMPRODUCT((werknemers=juni!$A44)*(datums=juni!AC$5)*(uren))","v":"00:00:00"},{"$f":"SUMPRODUCT((werknemers=juni!$A44)*(datums=juni!AD$5)*(uren))","v":"00:00:00"},{"$f":"SUMPRODUCT((werknemers=juni!$A44)*(datums=juni!AE$5)*(uren))","v":"00:00:00"}]

{"sheet":"juli","index":8,"n_rows":45,"n_cols":32,"rows_kept":45,"cut":false,"hidden":false,"merged":[[3,0,4,0],[1,1,1,3],[1,5,1,7],[1,9,1,11]]}
[]
[null,"verlof (V)",null,null,null,"ziek (Z)",null,null,null,"feestdag (F)"]
[]
[{"$f":"YEAR(B5)","v":2018},{"$f":"WEEKDAY(B5)","v":"1900-01-01"},{"$f":"WEEKDAY(C5)","v":"1900-01-02"},"1900-01-03","1900-01-04","1900-01-05","1900-01-06","1900-01-07","1900-01-01","1900-01-02","1900-01-03","1900-01-04","1900-01-05","1900-01-06","1900-01-07","1900-01-01","1900-01-02","1900-01-03","1900-01-04","1900-01-05","1900-01-06","1900-01-07","1900-01-01","1900-01-02","1900-01-03","1900-01-04","1900-01-05","1900-01-06","1900-01-07","1900-01-01","1900-01-02","1900-01-03"]
[null,"2018-07-01","2018-07-02","2018-07-03","2018-07-04","2018-07-05","2018-07-06","2018-07-07","2018-07-08","2018-07-09","2018-07-10","2018-07-11","2018-07-12","2018-07-13","2018-07-14","2018-07-15","2018-07-16","2018-07-17","2018-07-18","2018-07-19","2018-07-20","2018-07-21","2018-07-22","2018-07-23","2018-07-24","2018-07-25","2018-07-26","2018-07-27","2018-07-28","2018-07-29","2018-07-30","2018-07-31"]
[]
["CONTROLE",{"$f":"SUMPRODUCT((werknemers=juli!$A6)*(datums=juli!B$5)*(uren))","v":"00:00:00"},{"$f":"SUMPRODUCT((werknemers=juli!$A6)*(datums=juli!C$5)*(uren))","v":"00:00:00"},{"$f":"SUMPRODUCT((werknemers=juli!$A6)*(datums=juli!D$5)*(uren))","v":"00:00:00"},{"$f":"SUMPRODUCT((werknemers=juli!$A6)*(datums=juli!E$5)*(uren))","v":"00:00:00"},{"$f":"SUMPRODUCT((werknemers=juli!$A6)*(datums=juli!F$5)*(uren))","v":"00:00:00"},{"$f":"SUMPRODUCT((werknemers=juli!$A6)*(datums=juli!G$5)*(uren))","v":"00:00:00"},{"$f":"SUMPRODUCT((werknemers=juli!$A6)*(datums=juli!H$5)*(uren))","v":"00:00:00"},{"$f":"SUMPRODUCT((werknemers=juli!$A6)*(datums=juli!I$5)*(uren))","v":"00:00:00"},{"$f":"SUMPRODUCT((werknemers=juli!$A6)*(datums=juli!J$5)*(uren))","v":"00:00:00"},{"$f":"SUMPRODUCT((werknemers=juli!$A6)*(datums=juli!K$5)*(uren))","v":"00:00:00"},{"$f":"SUMPRODUCT((werknemers=juli!$A6)*(datums=juli!L$5)*(uren))","v":"00:00:00"},{"$f":"SUMPRODUCT((werknemers=juli!$A6)*(datums=juli!M$5)*(uren))","v":"00:00:00"},{"$f":"SUMPRODUCT((werknemers=juli!$A6)*(datums=juli!N$5)*(uren))","v":"00:00:00"},{"$f":"SUMPRODUCT((werknemers=juli!$A6)*(datums=juli!O$5)*(uren))","v":"00:00:00"},{"$f":"SUMPRODUCT((werknemers=juli!$A6)*(datums=juli!P$5)*(uren))","v":"00:00:00"},{"$f":"SUMPRODUCT((werknemers=juli!$A6)*(datums=juli!Q$5)*(uren))","v":"00:00:00"},{"$f":"SUMPRODUCT((werknemers=juli!$A6)*(datums=juli!R$5)*(uren))","v":"00:00:00"},{"$f":"SUMPRODUCT((werknemers=juli!$A6)*(datums=juli!S$5)*(uren))","v":"00:00:00"},{"$f":"SUMPRODUCT((werknemers=juli!$A6)*(datums=juli!T$5)*(uren))","v":"00:00:00"},{"$f":"SUMPRODUCT((werknemers=juli!$A6)*(datums=juli!U$5)*(uren))","v":"00:00:00"},{"$f":"SUMPRODUCT((werknemers=juli!$A6)*(datums=juli!V$5)*(uren))","v":"00:00:00"},{"$f":"SUMPRODUCT((werknemers=juli!$A6)*(datums=juli!W$5)*(uren))","v":"00:00:00"},{"$f":"SUMPRODUCT((werknemers=juli!$A6)*(datums=juli!X$5)*(uren))","v":"00:00:00"},{"$f":"SUMPRODUCT((werknemers=juli!$A6)*(datums=juli!Y$5)*(uren))","v":"00:00:00"},{"$f":"SUMPRODUCT((werknemers=juli!$A6)*(datums=juli!Z$5)*(uren))","v":"00:00:00"},{"$f":"SUMPRODUCT((werknemers=juli!$A6)*(datums=juli!AA$5)*(uren))","v":"00:00:00"},{"$f":"SUMPRODUCT((werknemers=juli!$A6)*(datums=juli!AB$5)*(uren))","v":"00:00:00"},{"$f":"SUMPRODUCT((werknemers=juli!$A6)*(datums=juli!AC$5)*(uren))","v":"00:00:00"},{"$f":"SUMPRODUCT((werknemers=juli!$A6)*(datums=juli!AD$5)*(uren))","v":"00:00:00"},{"$f":"SUMPRODUCT((werknemers=juli!$A6)*(datums=juli!AE$5)*(uren))","v":"00:00:00"},{"$f":"SUMPRODUCT((werknemers=juli!$A6)*(datums=juli!AF$5)*(uren))","v":"00:00:00"}]
[]
["CONTROLE",{"$f":"SUMPRODUCT((werknemers=juli!$A8)*(datums=juli!B$5)*(uren))","v":"00:00:00"},{"$f":"SUMPRODUCT((werknemers=juli!$A8)*(datums=juli!C$5)*(uren))","v":"00:00:00"},{"$f":"SUMPRODUCT((werknemers=juli!$A8)*(datums=juli!D$5)*(uren))","v":"00:00:00"},{"$f":"SUMPRODUCT((werknemers=juli!$A8)*(datums=juli!E$5)*(uren))","v":"00:00:00"},{"$f":"SUMPRODUCT((werknemers=juli!$A8)*(datums=juli!F$5)*(uren))","v":"00:00:00"},{"$f":"SUMPRODUCT((werknemers=juli!$A8)*(datums=juli!G$5)*(uren))","v":"00:00:00"},{"$f":"SUMPRODUCT((werknemers=juli!$A8)*(datums=juli!H$5)*(uren))","v":"00:00:00"},{"$f":"SUMPRODUCT((werknemers=juli!$A8)*(datums=juli!I$5)*(uren))","v":"00:00:00"},{"$f":"SUMPRODUCT((werknemers=juli!$A8)*(datums=juli!J$5)*(uren))","v":"00:00:00"},{"$f":"SUMPRODUCT((werknemers=juli!$A8)*(datums=juli!K$5)*(uren))","v":"00:00:00"},{"$f":"SUMPRODUCT((werknemers=juli!$A8)*(datums=juli!L$5)*(uren))","v":"00:00:00"},{"$f":"SUMPRODUCT((werknemers=juli!$A8)*(datums=juli!M$5)*(uren))","v":"00:00:00"},{"$f":"SUMPRODUCT((werknemers=juli!$A8)*(datums=juli!N$5)*(uren))","v":"00:00:00"},{"$f":"SUMPRODUCT((werknemers=juli!$A8)*(datums=juli!O$5)*(uren))","v":"00:00:00"},{"$f":"SUMPRODUCT((werknemers=juli!$A8)*(datums=juli!P$5)*(uren))","v":"00:00:00"},{"$f":"SUMPRODUCT((werknemers=juli!$A8)*(datums=juli!Q$5)*(uren))","v":"00:00:00"},{"$f":"SUMPRODUCT((werknemers=juli!$A8)*(datums=juli!R$5)*(uren))","v":"00:00:00"},{"$f":"SUMPRODUCT((werknemers=juli!$A8)*(datums=juli!S$5)*(uren))","v":"00:00:00"},{"$f":"SUMPRODUCT((werknemers=juli!$A8)*(datums=juli!T$5)*(uren))","v":"00:00:00"},{"$f":"SUMPRODUCT((werknemers=juli!$A8)*(datums=juli!U$5)*(uren))","v":"00:00:00"},{"$f":"SUMPRODUCT((werknemers=juli!$A8)*(datums=juli!V$5)*(uren))","v":"00:00:00"},{"$f":"SUMPRODUCT((werknemers=juli!$A8)*(datums=juli!W$5)*(uren))","v":"00:00:00"},{"$f":"SUMPRODUCT((werknemers=juli!$A8)*(datums=juli!X$5)*(uren))","v":"00:00:00"},{"$f":"SUMPRODUCT((werknemers=juli!$A8)*(datums=juli!Y$5)*(uren))","v":"00:00:00"},{"$f":"SUMPRODUCT((werknemers=juli!$A8)*(datums=juli!Z$5)*(uren))","v":"00:00:00"},{"$f":"SUMPRODUCT((werknemers=juli!$A8)*(datums=juli!AA$5)*(uren))","v":"00:00:00"},{"$f":"SUMPRODUCT((werknemers=juli!$A8)*(datums=juli!AB$5)*(uren))","v":"00:00:00"},{"$f":"SUMPRODUCT((werknemers=juli!$A8)*(datums=juli!AC$5)*(uren))","v":"00:00:00"},{"$f":"SUMPRODUCT((werknemers=juli!$A8)*(datums=juli!AD$5)*(uren))","v":"00:00:00"},{"$f":"SUMPRODUCT((werknemers=juli!$A8)*(datums=juli!AE$5)*(uren))","v":"00:00:00"},{"$f":"SUMPRODUCT((werknemers=juli!$A8)*(datums=juli!AF$5)*(uren))","v":"00:00:00"}]
[]
["CONTROLE",{"$f":"SUMPRODUCT((werknemers=juli!$A10)*(datums=juli!B$5)*(uren))","v":"00:00:00"},{"$f":"SUMPRODUCT((werknemers=juli!$A10)*(datums=juli!C$5)*(uren))","v":"00:00:00"},{"$f":"SUMPRODUCT((werknemers=juli!$A10)*(datums=juli!D$5)*(uren))","v":"00:00:00"},{"$f":"SUMPRODUCT((werknemers=juli!$A10)*(datums=juli!E$5)*(uren))","v":"00:00:00"},{"$f":"SUMPRODUCT((werknemers=juli!$A10)*(datums=juli!F$5)*(uren))","v":"00:00:00"},{"$f":"SUMPRODUCT((werknemers=juli!$A10)*(datums=juli!G$5)*(uren))","v":"00:00:00"},{"$f":"SUMPRODUCT((werknemers=juli!$A10)*(datums=juli!H$5)*(uren))","v":"00:00:00"},{"$f":"SUMPRODUCT((werknemers=juli!$A10)*(datums=juli!I$5)*(uren))","v":"00:00:00"},{"$f":"SUMPRODUCT((werknemers=juli!$A10)*(datums=juli!J$5)*(uren))","v":"00:00:00"},{"$f":"SUMPRODUCT((werknemers=juli!$A10)*(datums=juli!K$5)*(uren))","v":"00:00:00"},{"$f":"SUMPRODUCT((werknemers=juli!$A10)*(datums=juli!L$5)*(uren))","v":"00:00:00"},{"$f":"SUMPRODUCT((werknemers=juli!$A10)*(datums=juli!M$5)*(uren))","v":"00:00:00"},{"$f":"SUMPRODUCT((werknemers=juli!$A10)*(datums=juli!N$5)*(uren))","v":"00:00:00"},{"$f":"SUMPRODUCT((werknemers=juli!$A10)*(datums=juli!O$5)*(uren))","v":"00:00:00"},{"$f":"SUMPRODUCT((werknemers=juli!$A10)*(datums=juli!P$5)*(uren))","v":"00:00:00"},{"$f":"SUMPRODUCT((werknemers=juli!$A10)*(datums=juli!Q$5)*(uren))","v":"00:00:00"},{"$f":"SUMPRODUCT((werknemers=juli!$A10)*(datums=juli!R$5)*(uren))","v":"00:00:00"},{"$f":"SUMPRODUCT((werknemers=juli!$A10)*(datums=juli!S$5)*(uren))","v":"00:00:00"},{"$f":"SUMPRODUCT((werknemers=juli!$A10)*(datums=juli!T$5)*(uren))","v":"00:00:00"},{"$f":"SUMPRODUCT((werknemers=juli!$A10)*(datums=juli!U$5)*(uren))","v":"00:00:00"},{"$f":"SUMPRODUCT((werknemers=juli!$A10)*(datums=juli!V$5)*(uren))","v":"00:00:00"},{"$f":"SUMPRODUCT((werknemers=juli!$A10)*(datums=juli!W$5)*(uren))","v":"00:00:00"},{"$f":"SUMPRODUCT((werknemers=juli!$A10)*(datums=juli!X$5)*(uren))","v":"00:00:00"},{"$f":"SUMPRODUCT((werknemers=juli!$A10)*(datums=juli!Y$5)*(uren))","v":"00:00:00"},{"$f":"SUMPRODUCT((werknemers=juli!$A10)*(datums=juli!Z$5)*(uren))","v":"00:00:00"},{"$f":"SUMPRODUCT((werknemers=juli!$A10)*(datums=juli!AA$5)*(uren))","v":"00:00:00"},{"$f":"SUMPRODUCT((werknemers=juli!$A10)*(datums=juli!AB$5)*(uren))","v":"00:00:00"},{"$f":"SUMPRODUCT((werknemers=juli!$A10)*(datums=juli!AC$5)*(uren))","v":"00:00:00"},{"$f":"SUMPRODUCT((werknemers=juli!$A10)*(datums=juli!AD$5)*(uren))","v":"00:00:00"},{"$f":"SUMPRODUCT((werknemers=juli!$A10)*(datums=juli!AE$5)*(uren))","v":"00:00:00"},{"$f":"SUMPRODUCT((werknemers=juli!$A10)*(datums=juli!AF$5)*(uren))","v":"00:00:00"}]
[]
["CONTROLE",{"$f":"SUMPRODUCT((werknemers=juli!$A12)*(datums=juli!B$5)*(uren))","v":"00:00:00"},{"$f":"SUMPRODUCT((werknemers=juli!$A12)*(datums=juli!C$5)*(uren))","v":"00:00:00"},{"$f":"SUMPRODUCT((werknemers=juli!$A12)*(datums=juli!D$5)*(uren))","v":"00:00:00"},{"$f":"SUMPRODUCT((werknemers=juli!$A12)*(datums=juli!E$5)*(uren))","v":"00:00:00"},{"$f":"SUMPRODUCT((werknemers=juli!$A12)*(datums=juli!F$5)*(uren))","v":"00:00:00"},{"$f":"SUMPRODUCT((werknemers=juli!$A12)*(datums=juli!G$5)*(uren))","v":"00:00:00"},{"$f":"SUMPRODUCT((werknemers=juli!$A12)*(datums=juli!H$5)*(uren))","v":"00:00:00"},{"$f":"SUMPRODUCT((werknemers=juli!$A12)*(datums=juli!I$5)*(uren))","v":"00:00:00"},{"$f":"SUMPRODUCT((werknemers=juli!$A12)*(datums=juli!J$5)*(uren))","v":"00:00:00"},{"$f":"SUMPRODUCT((werknemers=juli!$A12)*(datums=juli!K$5)*(uren))","v":"00:00:00"},{"$f":"SUMPRODUCT((werknemers=juli!$A12)*(datums=juli!L$5)*(uren))","v":"00:00:00"},{"$f":"SUMPRODUCT((werknemers=juli!$A12)*(datums=juli!M$5)*(uren))","v":"00:00:00"},{"$f":"SUMPRODUCT((werknemers=juli!$A12)*(datums=juli!N$5)*(uren))","v":"00:00:00"},{"$f":"SUMPRODUCT((werknemers=juli!$A12)*(datums=juli!O$5)*(uren))","v":"00:00:00"},{"$f":"SUMPRODUCT((werknemers=juli!$A12)*(datums=juli!P$5)*(uren))","v":"00:00:00"},{"$f":"SUMPRODUCT((werknemers=juli!$A12)*(datums=juli!Q$5)*(uren))","v":"00:00:00"},{"$f":"SUMPRODUCT((werknemers=juli!$A12)*(datums=juli!R$5)*(uren))","v":"00:00:00"},{"$f":"SUMPRODUCT((werknemers=juli!$A12)*(datums=juli!S$5)*(uren))","v":"00:00:00"},{"$f":"SUMPRODUCT((werknemers=juli!$A12)*(datums=juli!T$5)*(uren))","v":"00:00:00"},{"$f":"SUMPRODUCT((werknemers=juli!$A12)*(datums=juli!U$5)*(uren))","v":"00:00:00"},{"$f":"SUMPRODUCT((werknemers=juli!$A12)*(datums=juli!V$5)*(uren))","v":"00:00:00"},{"$f":"SUMPRODUCT((werknemers=juli!$A12)*(datums=juli!W$5)*(uren))","v":"00:00:00"},{"$f":"SUMPRODUCT((werknemers=juli!$A12)*(datums=juli!X$5)*(uren))","v":"00:00:00"},{"$f":"SUMPRODUCT((werknemers=juli!$A12)*(datums=juli!Y$5)*(uren))","v":"00:00:00"},{"$f":"SUMPRODUCT((werknemers=juli!$A12)*(datums=juli!Z$5)*(uren))","v":"00:00:00"},{"$f":"SUMPRODUCT((werknemers=juli!$A12)*(datums=juli!AA$5)*(uren))","v":"00:00:00"},{"$f":"SUMPRODUCT((werknemers=juli!$A12)*(datums=juli!AB$5)*(uren))","v":"00:00:00"},{"$f":"SUMPRODUCT((werknemers=juli!$A12)*(datums=juli!AC$5)*(uren))","v":"00:00:00"},{"$f":"SUMPRODUCT((werknemers=juli!$A12)*(datums=juli!AD$5)*(uren))","v":"00:00:00"},{"$f":"SUMPRODUCT((werknemers=juli!$A12)*(datums=juli!AE$5)*(uren))","v":"00:00:00"},{"$f":"SUMPRODUCT((werknemers=juli!$A12)*(datums=juli!AF$5)*(uren))","v":"00:00:00"}]
[]
["CONTROLE",{"$f":"SUMPRODUCT((werknemers=juli!$A14)*(datums=juli!B$5)*(uren))","v":"00:00:00"},{"$f":"SUMPRODUCT((werknemers=juli!$A14)*(datums=juli!C$5)*(uren))","v":"00:00:00"},{"$f":"SUMPRODUCT((werknemers=juli!$A14)*(datums=juli!D$5)*(uren))","v":"00:00:00"},{"$f":"SUMPRODUCT((werknemers=juli!$A14)*(datums=juli!E$5)*(uren))","v":"00:00:00"},{"$f":"SUMPRODUCT((werknemers=juli!$A14)*(datums=juli!F$5)*(uren))","v":"00:00:00"},{"$f":"SUMPRODUCT((werknemers=juli!$A14)*(datums=juli!G$5)*(uren))","v":"00:00:00"},{"$f":"SUMPRODUCT((werknemers=juli!$A14)*(datums=juli!H$5)*(uren))","v":"00:00:00"},{"$f":"SUMPRODUCT((werknemers=juli!$A14)*(datums=juli!I$5)*(uren))","v":"00:00:00"},{"$f":"SUMPRODUCT((werknemers=juli!$A14)*(datums=juli!J$5)*(uren))","v":"00:00:00"},{"$f":"SUMPRODUCT((werknemers=juli!$A14)*(datums=juli!K$5)*(uren))","v":"00:00:00"},{"$f":"SUMPRODUCT((werknemers=juli!$A14)*(datums=juli!L$5)*(uren))","v":"00:00:00"},{"$f":"SUMPRODUCT((werknemers=juli!$A14)*(datums=juli!M$5)*(uren))","v":"00:00:00"},{"$f":"SUMPRODUCT((werknemers=juli!$A14)*(datums=juli!N$5)*(uren))","v":"00:00:00"},{"$f":"SUMPRODUCT((werknemers=juli!$A14)*(datums=juli!O$5)*(uren))","v":"00:00:00"},{"$f":"SUMPRODUCT((werknemers=juli!$A14)*(datums=juli!P$5)*(uren))","v":"00:00:00"},{"$f":"SUMPRODUCT((werknemers=juli!$A14)*(datums=juli!Q$5)*(uren))","v":"00:00:00"},{"$f":"SUMPRODUCT((werknemers=juli!$A14)*(datums=juli!R$5)*(uren))","v":"00:00:00"},{"$f":"SUMPRODUCT((werknemers=juli!$A14)*(datums=juli!S$5)*(uren))","v":"00:00:00"},{"$f":"SUMPRODUCT((werknemers=juli!$A14)*(datums=juli!T$5)*(uren))","v":"00:00:00"},{"$f":"SUMPRODUCT((werknemers=juli!$A14)*(datums=juli!U$5)*(uren))","v":"00:00:00"},{"$f":"SUMPRODUCT((werknemers=juli!$A14)*(datums=juli!V$5)*(uren))","v":"00:00:00"},{"$f":"SUMPRODUCT((werknemers=juli!$A14)*(datums=juli!W$5)*(uren))","v":"00:00:00"},{"$f":"SUMPRODUCT((werknemers=juli!$A14)*(datums=juli!X$5)*(uren))","v":"00:00:00"},{"$f":"SUMPRODUCT((werknemers=juli!$A14)*(datums=juli!Y$5)*(uren))","v":"00:00:00"},{"$f":"SUMPRODUCT((werknemers=juli!$A14)*(datums=juli!Z$5)*(uren))","v":"00:00:00"},{"$f":"SUMPRODUCT((werknemers=juli!$A14)*(datums=juli!AA$5)*(uren))","v":"00:00:00"},{"$f":"SUMPRODUCT((werknemers=juli!$A14)*(datums=juli!AB$5)*(uren))","v":"00:00:00"},{"$f":"SUMPRODUCT((werknemers=juli!$A14)*(datums=juli!AC$5)*(uren))","v":"00:00:00"},{"$f":"SUMPRODUCT((werknemers=juli!$A14)*(datums=juli!AD$5)*(uren))","v":"00:00:00"},{"$f":"SUMPRODUCT((werknemers=juli!$A14)*(datums=juli!AE$5)*(uren))","v":"00:00:00"},{"$f":"SUMPRODUCT((werknemers=juli!$A14)*(datums=juli!AF$5)*(uren))","v":"00:00:00"}]
[]
["CONTROLE",{"$f":"SUMPRODUCT((werknemers=juli!$A16)*(datums=juli!B$5)*(uren))","v":"00:00:00"},{"$f":"SUMPRODUCT((werknemers=juli!$A16)*(datums=juli!C$5)*(uren))","v":"00:00:00"},{"$f":"SUMPRODUCT((werknemers=juli!$A16)*(datums=juli!D$5)*(uren))","v":"00:00:00"},{"$f":"SUMPRODUCT((werknemers=juli!$A16)*(datums=juli!E$5)*(uren))","v":"00:00:00"},{"$f":"SUMPRODUCT((werknemers=juli!$A16)*(datums=juli!F$5)*(uren))","v":"00:00:00"},{"$f":"SUMPRODUCT((werknemers=juli!$A16)*(datums=juli!G$5)*(uren))","v":"00:00:00"},{"$f":"SUMPRODUCT((werknemers=juli!$A16)*(datums=juli!H$5)*(uren))","v":"00:00:00"},{"$f":"SUMPRODUCT((werknemers=juli!$A16)*(datums=juli!I$5)*(uren))","v":"00:00:00"},{"$f":"SUMPRODUCT((werknemers=juli!$A16)*(datums=juli!J$5)*(uren))","v":"00:00:00"},{"$f":"SUMPRODUCT((werknemers=juli!$A16)*(datums=juli!K$5)*(uren))","v":"00:00:00"},{"$f":"SUMPRODUCT((werknemers=juli!$A16)*(datums=juli!L$5)*(uren))","v":"00:00:00"},{"$f":"SUMPRODUCT((werknemers=juli!$A16)*(datums=juli!M$5)*(uren))","v":"00:00:00"},{"$f":"SUMPRODUCT((werknemers=juli!$A16)*(datums=juli!N$5)*(uren))","v":"00:00:00"},{"$f":"SUMPRODUCT((werknemers=juli!$A16)*(datums=juli!O$5)*(uren))","v":"00:00:00"},{"$f":"SUMPRODUCT((werknemers=juli!$A16)*(datums=juli!P$5)*(uren))","v":"00:00:00"},{"$f":"SUMPRODUCT((werknemers=juli!$A16)*(datums=juli!Q$5)*(uren))","v":"00:00:00"},{"$f":"SUMPRODUCT((werknemers=juli!$A16)*(datums=juli!R$5)*(uren))","v":"00:00:00"},{"$f":"SUMPRODUCT((werknemers=juli!$A16)*(datums=juli!S$5)*(uren))","v":"00:00:00"},{"$f":"SUMPRODUCT((werknemers=juli!$A16)*(datums=juli!T$5)*(uren))","v":"00:00:00"},{"$f":"SUMPRODUCT((werknemers=juli!$A16)*(datums=juli!U$5)*(uren))","v":"00:00:00"},{"$f":"SUMPRODUCT((werknemers=juli!$A16)*(datums=juli!V$5)*(uren))","v":"00:00:00"},{"$f":"SUMPRODUCT((werknemers=juli!$A16)*(datums=juli!W$5)*(uren))","v":"00:00:00"},{"$f":"SUMPRODUCT((werknemers=juli!$A16)*(datums=juli!X$5)*(uren))","v":"00:00:00"},{"$f":"SUMPRODUCT((werknemers=juli!$A16)*(datums=juli!Y$5)*(uren))","v":"00:00:00"},{"$f":"SUMPRODUCT((werknemers=juli!$A16)*(datums=juli!Z$5)*(uren))","v":"00:00:00"},{"$f":"SUMPRODUCT((werknemers=juli!$A16)*(datums=juli!AA$5)*(uren))","v":"00:00:00"},{"$f":"SUMPRODUCT((werknemers=juli!$A16)*(datums=juli!AB$5)*(uren))","v":"00:00:00"},{"$f":"SUMPRODUCT((werknemers=juli!$A16)*(datums=juli!AC$5)*(uren))","v":"00:00:00"},{"$f":"SUMPRODUCT((werknemers=juli!$A16)*(datums=juli!AD$5)*(uren))","v":"00:00:00"},{"$f":"SUMPRODUCT((werknemers=juli!$A16)*(datums=juli!AE$5)*(uren))","v":"00:00:00"},{"$f":"SUMPRODUCT((werknemers=juli!$A16)*(datums=juli!AF$5)*(uren))","v":"00:00:00"}]
[]
["CONTROLE",{"$f":"SUMPRODUCT((werknemers=juli!$A18)*(datums=juli!B$5)*(uren))","v":"00:00:00"},{"$f":"SUMPRODUCT((werknemers=juli!$A18)*(datums=juli!C$5)*(uren))","v":"00:00:00"},{"$f":"SUMPRODUCT((werknemers=juli!$A18)*(datums=juli!D$5)*(uren))","v":"00:00:00"},{"$f":"SUMPRODUCT((werknemers=juli!$A18)*(datums=juli!E$5)*(uren))","v":"00:00:00"},{"$f":"SUMPRODUCT((werknemers=juli!$A18)*(datums=juli!F$5)*(uren))","v":"00:00:00"},{"$f":"SUMPRODUCT((werknemers=juli!$A18)*(datums=juli!G$5)*(uren))","v":"00:00:00"},{"$f":"SUMPRODUCT((werknemers=juli!$A18)*(datums=juli!H$5)*(uren))","v":"00:00:00"},{"$f":"SUMPRODUCT((werknemers=juli!$A18)*(datums=juli!I$5)*(uren))","v":"00:00:00"},{"$f":"SUMPRODUCT((werknemers=juli!$A18)*(datums=juli!J$5)*(uren))","v":"00:00:00"},{"$f":"SUMPRODUCT((werknemers=juli!$A18)*(datums=juli!K$5)*(uren))","v":"00:00:00"},{"$f":"SUMPRODUCT((werknemers=juli!$A18)*(datums=juli!L$5)*(uren))","v":"00:00:00"},{"$f":"SUMPRODUCT((werknemers=juli!$A18)*(datums=juli!M$5)*(uren))","v":"00:00:00"},{"$f":"SUMPRODUCT((werknemers=juli!$A18)*(datums=juli!N$5)*(uren))","v":"00:00:00"},{"$f":"SUMPRODUCT((werknemers=juli!$A18)*(datums=juli!O$5)*(uren))","v":"00:00:00"},{"$f":"SUMPRODUCT((werknemers=juli!$A18)*(datums=juli!P$5)*(uren))","v":"00:00:00"},{"$f":"SUMPRODUCT((werknemers=juli!$A18)*(datums=juli!Q$5)*(uren))","v":"00:00:00"},{"$f":"SUMPRODUCT((werknemers=juli!$A18)*(datums=juli!R$5)*(uren))","v":"00:00:00"},{"$f":"SUMPRODUCT((werknemers=juli!$A18)*(datums=juli!S$5)*(uren))","v":"00:00:00"},{"$f":"SUMPRODUCT((werknemers=juli!$A18)*(datums=juli!T$5)*(uren))","v":"00:00:00"},{"$f":"SUMPRODUCT((werknemers=juli!$A18)*(datums=juli!U$5)*(uren))","v":"00:00:00"},{"$f":"SUMPRODUCT((werknemers=juli!$A18)*(datums=juli!V$5)*(uren))","v":"00:00:00"},{"$f":"SUMPRODUCT((werknemers=juli!$A18)*(datums=juli!W$5)*(uren))","v":"00:00:00"},{"$f":"SUMPRODUCT((werknemers=juli!$A18)*(datums=juli!X$5)*(uren))","v":"00:00:00"},{"$f":"SUMPRODUCT((werknemers=juli!$A18)*(datums=juli!Y$5)*(uren))","v":"00:00:00"},{"$f":"SUMPRODUCT((werknemers=juli!$A18)*(datums=juli!Z$5)*(uren))","v":"00:00:00"},{"$f":"SUMPRODUCT((werknemers=juli!$A18)*(datums=juli!AA$5)*(uren))","v":"00:00:00"},{"$f":"SUMPRODUCT((werknemers=juli!$A18)*(datums=juli!AB$5)*(uren))","v":"00:00:00"},{"$f":"SUMPRODUCT((werknemers=juli!$A18)*(datums=juli!AC$5)*(uren))","v":"00:00:00"},{"$f":"SUMPRODUCT((werknemers=juli!$A18)*(datums=juli!AD$5)*(uren))","v":"00:00:00"},{"$f":"SUMPRODUCT((werknemers=juli!$A18)*(datums=juli!AE$5)*(uren))","v":"00:00:00"},{"$f":"SUMPRODUCT((werknemers=juli!$A18)*(datums=juli!AF$5)*(uren))","v":"00:00:00"}]
[]
["CONTROLE",{"$f":"SUMPRODUCT((werknemers=juli!$A20)*(datums=juli!B$5)*(uren))","v":"00:00:00"},{"$f":"SUMPRODUCT((werknemers=juli!$A20)*(datums=juli!C$5)*(uren))","v":"00:00:00"},{"$f":"SUMPRODUCT((werknemers=juli!$A20)*(datums=juli!D$5)*(uren))","v":"00:00:00"},{"$f":"SUMPRODUCT((werknemers=juli!$A20)*(datums=juli!E$5)*(uren))","v":"00:00:00"},{"$f":"SUMPRODUCT((werknemers=juli!$A20)*(datums=juli!F$5)*(uren))","v":"00:00:00"},{"$f":"SUMPRODUCT((werknemers=juli!$A20)*(datums=juli!G$5)*(uren))","v":"00:00:00"},{"$f":"SUMPRODUCT((werknemers=juli!$A20)*(datums=juli!H$5)*(uren))","v":"00:00:00"},{"$f":"SUMPRODUCT((werknemers=juli!$A20)*(datums=juli!I$5)*(uren))","v":"00:00:00"},{"$f":"SUMPRODUCT((werknemers=juli!$A20)*(datums=juli!J$5)*(uren))","v":"00:00:00"},{"$f":"SUMPRODUCT((werknemers=juli!$A20)*(datums=juli!K$5)*(uren))","v":"00:00:00"},{"$f":"SUMPRODUCT((werknemers=juli!$A20)*(datums=juli!L$5)*(uren))","v":"00:00:00"},{"$f":"SUMPRODUCT((werknemers=juli!$A20)*(datums=juli!M$5)*(uren))","v":"00:00:00"},{"$f":"SUMPRODUCT((werknemers=juli!$A20)*(datums=juli!N$5)*(uren))","v":"00:00:00"},{"$f":"SUMPRODUCT((werknemers=juli!$A20)*(datums=juli!O$5)*(uren))","v":"00:00:00"},{"$f":"SUMPRODUCT((werknemers=juli!$A20)*(datums=juli!P$5)*(uren))","v":"00:00:00"},{"$f":"SUMPRODUCT((werknemers=juli!$A20)*(datums=juli!Q$5)*(uren))","v":"00:00:00"},{"$f":"SUMPRODUCT((werknemers=juli!$A20)*(datums=juli!R$5)*(uren))","v":"00:00:00"},{"$f":"SUMPRODUCT((werknemers=juli!$A20)*(datums=juli!S$5)*(uren))","v":"00:00:00"},{"$f":"SUMPRODUCT((werknemers=juli!$A20)*(datums=juli!T$5)*(uren))","v":"00:00:00"},{"$f":"SUMPRODUCT((werknemers=juli!$A20)*(datums=juli!U$5)*(uren))","v":"00:00:00"},{"$f":"SUMPRODUCT((werknemers=juli!$A20)*(datums=juli!V$5)*(uren))","v":"00:00:00"},{"$f":"SUMPRODUCT((werknemers=juli!$A20)*(datums=juli!W$5)*(uren))","v":"00:00:00"},{"$f":"SUMPRODUCT((werknemers=juli!$A20)*(datums=juli!X$5)*(uren))","v":"00:00:00"},{"$f":"SUMPRODUCT((werknemers=juli!$A20)*(datums=juli!Y$5)*(uren))","v":"00:00:00"},{"$f":"SUMPRODUCT((werknemers=juli!$A20)*(datums=juli!Z$5)*(uren))","v":"00:00:00"},{"$f":"SUMPRODUCT((werknemers=juli!$A20)*(datums=juli!AA$5)*(uren))","v":"00:00:00"},{"$f":"SUMPRODUCT((werknemers=juli!$A20)*(datums=juli!AB$5)*(uren))","v":"00:00:00"},{"$f":"SUMPRODUCT((werknemers=juli!$A20)*(datums=juli!AC$5)*(uren))","v":"00:00:00"},{"$f":"SUMPRODUCT((werknemers=juli!$A20)*(datums=juli!AD$5)*(uren))","v":"00:00:00"},{"$f":"SUMPRODUCT((werknemers=juli!$A20)*(datums=juli!AE$5)*(uren))","v":"00:00:00"},{"$f":"SUMPRODUCT((werknemers=juli!$A20)*(datums=juli!AF$5)*(uren))","v":"00:00:00"}]
[]
["CONTROLE",{"$f":"SUMPRODUCT((werknemers=juli!$A22)*(datums=juli!B$5)*(uren))","v":"00:00:00"},{"$f":"SUMPRODUCT((werknemers=juli!$A22)*(datums=juli!C$5)*(uren))","v":"00:00:00"},{"$f":"SUMPRODUCT((werknemers=juli!$A22)*(datums=juli!D$5)*(uren))","v":"00:00:00"},{"$f":"SUMPRODUCT((werknemers=juli!$A22)*(datums=juli!E$5)*(uren))","v":"00:00:00"},{"$f":"SUMPRODUCT((werknemers=juli!$A22)*(datums=juli!F$5)*(uren))","v":"00:00:00"},{"$f":"SUMPRODUCT((werknemers=juli!$A22)*(datums=juli!G$5)*(uren))","v":"00:00:00"},{"$f":"SUMPRODUCT((werknemers=juli!$A22)*(datums=juli!H$5)*(uren))","v":"00:00:00"},{"$f":"SUMPRODUCT((werknemers=juli!$A22)*(datums=juli!I$5)*(uren))","v":"00:00:00"},{"$f":"SUMPRODUCT((werknemers=juli!$A22)*(datums=juli!J$5)*(uren))","v":"00:00:00"},{"$f":"SUMPRODUCT((werknemers=juli!$A22)*(datums=juli!K$5)*(uren))","v":"00:00:00"},{"$f":"SUMPRODUCT((werknemers=juli!$A22)*(datums=juli!L$5)*(uren))","v":"00:00:00"},{"$f":"SUMPRODUCT((werknemers=juli!$A22)*(datums=juli!M$5)*(uren))","v":"00:00:00"},{"$f":"SUMPRODUCT((werknemers=juli!$A22)*(datums=juli!N$5)*(uren))","v":"00:00:00"},{"$f":"SUMPRODUCT((werknemers=juli!$A22)*(datums=juli!O$5)*(uren))","v":"00:00:00"},{"$f":"SUMPRODUCT((werknemers=juli!$A22)*(datums=juli!P$5)*(uren))","v":"00:00:00"},{"$f":"SUMPRODUCT((werknemers=juli!$A22)*(datums=juli!Q$5)*(uren))","v":"00:00:00"},{"$f":"SUMPRODUCT((werknemers=juli!$A22)*(datums=juli!R$5)*(uren))","v":"00:00:00"},{"$f":"SUMPRODUCT((werknemers=juli!$A22)*(datums=juli!S$5)*(uren))","v":"00:00:00"},{"$f":"SUMPRODUCT((werknemers=juli!$A22)*(datums=juli!T$5)*(uren))","v":"00:00:00"},{"$f":"SUMPRODUCT((werknemers=juli!$A22)*(datums=juli!U$5)*(uren))","v":"00:00:00"},{"$f":"SUMPRODUCT((werknemers=juli!$A22)*(datums=juli!V$5)*(uren))","v":"00:00:00"},{"$f":"SUMPRODUCT((werknemers=juli!$A22)*(datums=juli!W$5)*(uren))","v":"00:00:00"},{"$f":"SUMPRODUCT((werknemers=juli!$A22)*(datums=juli!X$5)*(uren))","v":"00:00:00"},{"$f":"SUMPRODUCT((werknemers=juli!$A22)*(datums=juli!Y$5)*(uren))","v":"00:00:00"},{"$f":"SUMPRODUCT((werknemers=juli!$A22)*(datums=juli!Z$5)*(uren))","v":"00:00:00"},{"$f":"SUMPRODUCT((werknemers=juli!$A22)*(datums=juli!AA$5)*(uren))","v":"00:00:00"},{"$f":"SUMPRODUCT((werknemers=juli!$A22)*(datums=juli!AB$5)*(uren))","v":"00:00:00"},{"$f":"SUMPRODUCT((werknemers=juli!$A22)*(datums=juli!AC$5)*(uren))","v":"00:00:00"},{"$f":"SUMPRODUCT((werknemers=juli!$A22)*(datums=juli!AD$5)*(uren))","v":"00:00:00"},{"$f":"SUMPRODUCT((werknemers=juli!$A22)*(datums=juli!AE$5)*(uren))","v":"00:00:00"},{"$f":"SUMPRODUCT((werknemers=juli!$A22)*(datums=juli!AF$5)*(uren))","v":"00:00:00"}]
[]
["CONTROLE",{"$f":"SUMPRODUCT((werknemers=juli!$A24)*(datums=juli!B$5)*(uren))","v":"00:00:00"},{"$f":"SUMPRODUCT((werknemers=juli!$A24)*(datums=juli!C$5)*(uren))","v":"00:00:00"},{"$f":"SUMPRODUCT((werknemers=juli!$A24)*(datums=juli!D$5)*(uren))","v":"00:00:00"},{"$f":"SUMPRODUCT((werknemers=juli!$A24)*(datums=juli!E$5)*(uren))","v":"00:00:00"},{"$f":"SUMPRODUCT((werknemers=juli!$A24)*(datums=juli!F$5)*(uren))","v":"00:00:00"},{"$f":"SUMPRODUCT((werknemers=juli!$A24)*(datums=juli!G$5)*(uren))","v":"00:00:00"},{"$f":"SUMPRODUCT((werknemers=juli!$A24)*(datums=juli!H$5)*(uren))","v":"00:00:00"},{"$f":"SUMPRODUCT((werknemers=juli!$A24)*(datums=juli!I$5)*(uren))","v":"00:00:00"},{"$f":"SUMPRODUCT((werknemers=juli!$A24)*(datums=juli!J$5)*(uren))","v":"00:00:00"},{"$f":"SUMPRODUCT((werknemers=juli!$A24)*(datums=juli!K$5)*(uren))","v":"00:00:00"},{"$f":"SUMPRODUCT((werknemers=juli!$A24)*(datums=juli!L$5)*(uren))","v":"00:00:00"},{"$f":"SUMPRODUCT((werknemers=juli!$A24)*(datums=juli!M$5)*(uren))","v":"00:00:00"},{"$f":"SUMPRODUCT((werknemers=juli!$A24)*(datums=juli!N$5)*(uren))","v":"00:00:00"},{"$f":"SUMPRODUCT((werknemers=juli!$A24)*(datums=juli!O$5)*(uren))","v":"00:00:00"},{"$f":"SUMPRODUCT((werknemers=juli!$A24)*(datums=juli!P$5)*(uren))","v":"00:00:00"},{"$f":"SUMPRODUCT((werknemers=juli!$A24)*(datums=juli!Q$5)*(uren))","v":"00:00:00"},{"$f":"SUMPRODUCT((werknemers=juli!$A24)*(datums=juli!R$5)*(uren))","v":"00:00:00"},{"$f":"SUMPRODUCT((werknemers=juli!$A24)*(datums=juli!S$5)*(uren))","v":"00:00:00"},{"$f":"SUMPRODUCT((werknemers=juli!$A24)*(datums=juli!T$5)*(uren))","v":"00:00:00"},{"$f":"SUMPRODUCT((werknemers=juli!$A24)*(datums=juli!U$5)*(uren))","v":"00:00:00"},{"$f":"SUMPRODUCT((werknemers=juli!$A24)*(datums=juli!V$5)*(uren))","v":"00:00:00"},{"$f":"SUMPRODUCT((werknemers=juli!$A24)*(datums=juli!W$5)*(uren))","v":"00:00:00"},{"$f":"SUMPRODUCT((werknemers=juli!$A24)*(datums=juli!X$5)*(uren))","v":"00:00:00"},{"$f":"SUMPRODUCT((werknemers=juli!$A24)*(datums=juli!Y$5)*(uren))","v":"00:00:00"},{"$f":"SUMPRODUCT((werknemers=juli!$A24)*(datums=juli!Z$5)*(uren))","v":"00:00:00"},{"$f":"SUMPRODUCT((werknemers=juli!$A24)*(datums=juli!AA$5)*(uren))","v":"00:00:00"},{"$f":"SUMPRODUCT((werknemers=juli!$A24)*(datums=juli!AB$5)*(uren))","v":"00:00:00"},{"$f":"SUMPRODUCT((werknemers=juli!$A24)*(datums=juli!AC$5)*(uren))","v":"00:00:00"},{"$f":"SUMPRODUCT((werknemers=juli!$A24)*(datums=juli!AD$5)*(uren))","v":"00:00:00"},{"$f":"SUMPRODUCT((werknemers=juli!$A24)*(datums=juli!AE$5)*(uren))","v":"00:00:00"},{"$f":"SUMPRODUCT((werknemers=juli!$A24)*(datums=juli!AF$5)*(uren))","v":"00:00:00"}]
[]
["CONTROLE",{"$f":"SUMPRODUCT((werknemers=juli!$A26)*(datums=juli!B$5)*(uren))","v":"00:00:00"},{"$f":"SUMPRODUCT((werknemers=juli!$A26)*(datums=juli!C$5)*(uren))","v":"00:00:00"},{"$f":"SUMPRODUCT((werknemers=juli!$A26)*(datums=juli!D$5)*(uren))","v":"00:00:00"},{"$f":"SUMPRODUCT((werknemers=juli!$A26)*(datums=juli!E$5)*(uren))","v":"00:00:00"},{"$f":"SUMPRODUCT((werknemers=juli!$A26)*(datums=juli!F$5)*(uren))","v":"00:00:00"},{"$f":"SUMPRODUCT((werknemers=juli!$A26)*(datums=juli!G$5)*(uren))","v":"00:00:00"},{"$f":"SUMPRODUCT((werknemers=juli!$A26)*(datums=juli!H$5)*(uren))","v":"00:00:00"},{"$f":"SUMPRODUCT((werknemers=juli!$A26)*(datums=juli!I$5)*(uren))","v":"00:00:00"},{"$f":"SUMPRODUCT((werknemers=juli!$A26)*(datums=juli!J$5)*(uren))","v":"00:00:00"},{"$f":"SUMPRODUCT((werknemers=juli!$A26)*(datums=juli!K$5)*(uren))","v":"00:00:00"},{"$f":"SUMPRODUCT((werknemers=juli!$A26)*(datums=juli!L$5)*(uren))","v":"00:00:00"},{"$f":"SUMPRODUCT((werknemers=juli!$A26)*(datums=juli!M$5)*(uren))","v":"00:00:00"},{"$f":"SUMPRODUCT((werknemers=juli!$A26)*(datums=juli!N$5)*(uren))","v":"00:00:00"},{"$f":"SUMPRODUCT((werknemers=juli!$A26)*(datums=juli!O$5)*(uren))","v":"00:00:00"},{"$f":"SUMPRODUCT((werknemers=juli!$A26)*(datums=juli!P$5)*(uren))","v":"00:00:00"},{"$f":"SUMPRODUCT((werknemers=juli!$A26)*(datums=juli!Q$5)*(uren))","v":"00:00:00"},{"$f":"SUMPRODUCT((werknemers=juli!$A26)*(datums=juli!R$5)*(uren))","v":"00:00:00"},{"$f":"SUMPRODUCT((werknemers=juli!$A26)*(datums=juli!S$5)*(uren))","v":"00:00:00"},{"$f":"SUMPRODUCT((werknemers=juli!$A26)*(datums=juli!T$5)*(uren))","v":"00:00:00"},{"$f":"SUMPRODUCT((werknemers=juli!$A26)*(datums=juli!U$5)*(uren))","v":"00:00:00"},{"$f":"SUMPRODUCT((werknemers=juli!$A26)*(datums=juli!V$5)*(uren))","v":"00:00:00"},{"$f":"SUMPRODUCT((werknemers=juli!$A26)*(datums=juli!W$5)*(uren))","v":"00:00:00"},{"$f":"SUMPRODUCT((werknemers=juli!$A26)*(datums=juli!X$5)*(uren))","v":"00:00:00"},{"$f":"SUMPRODUCT((werknemers=juli!$A26)*(datums=juli!Y$5)*(uren))","v":"00:00:00"},{"$f":"SUMPRODUCT((werknemers=juli!$A26)*(datums=juli!Z$5)*(uren))","v":"00:00:00"},{"$f":"SUMPRODUCT((werknemers=juli!$A26)*(datums=juli!AA$5)*(uren))","v":"00:00:00"},{"$f":"SUMPRODUCT((werknemers=juli!$A26)*(datums=juli!AB$5)*(uren))","v":"00:00:00"},{"$f":"SUMPRODUCT((werknemers=juli!$A26)*(datums=juli!AC$5)*(uren))","v":"00:00:00"},{"$f":"SUMPRODUCT((werknemers=juli!$A26)*(datums=juli!AD$5)*(uren))","v":"00:00:00"},{"$f":"SUMPRODUCT((werknemers=juli!$A26)*(datums=juli!AE$5)*(uren))","v":"00:00:00"},{"$f":"SUMPRODUCT((werknemers=juli!$A26)*(datums=juli!AF$5)*(uren))","v":"00:00:00"}]
[]
["CONTROLE",{"$f":"SUMPRODUCT((werknemers=juli!$A28)*(datums=juli!B$5)*(uren))","v":"00:00:00"},{"$f":"SUMPRODUCT((werknemers=juli!$A28)*(datums=juli!C$5)*(uren))","v":"00:00:00"},{"$f":"SUMPRODUCT((werknemers=juli!$A28)*(datums=juli!D$5)*(uren))","v":"00:00:00"},{"$f":"SUMPRODUCT((werknemers=juli!$A28)*(datums=juli!E$5)*(uren))","v":"00:00:00"},{"$f":"SUMPRODUCT((werknemers=juli!$A28)*(datums=juli!F$5)*(uren))","v":"00:00:00"},{"$f":"SUMPRODUCT((werknemers=juli!$A28)*(datums=juli!G$5)*(uren))","v":"00:00:00"},{"$f":"SUMPRODUCT((werknemers=juli!$A28)*(datums=juli!H$5)*(uren))","v":"00:00:00"},{"$f":"SUMPRODUCT((werknemers=juli!$A28)*(datums=juli!I$5)*(uren))","v":"00:00:00"},{"$f":"SUMPRODUCT((werknemers=juli!$A28)*(datums=juli!J$5)*(uren))","v":"00:00:00"},{"$f":"SUMPRODUCT((werknemers=juli!$A28)*(datums=juli!K$5)*(uren))","v":"00:00:00"},{"$f":"SUMPRODUCT((werknemers=juli!$A28)*(datums=juli!L$5)*(uren))","v":"00:00:00"},{"$f":"SUMPRODUCT((werknemers=juli!$A28)*(datums=juli!M$5)*(uren))","v":"00:00:00"},{"$f":"SUMPRODUCT((werknemers=juli!$A28)*(datums=juli!N$5)*(uren))","v":"00:00:00"},{"$f":"SUMPRODUCT((werknemers=juli!$A28)*(datums=juli!O$5)*(uren))","v":"00:00:00"},{"$f":"SUMPRODUCT((werknemers=juli!$A28)*(datums=juli!P$5)*(uren))","v":"00:00:00"},{"$f":"SUMPRODUCT((werknemers=juli!$A28)*(datums=juli!Q$5)*(uren))","v":"00:00:00"},{"$f":"SUMPRODUCT((werknemers=juli!$A28)*(datums=juli!R$5)*(uren))","v":"00:00:00"},{"$f":"SUMPRODUCT((werknemers=juli!$A28)*(datums=juli!S$5)*(uren))","v":"00:00:00"},{"$f":"SUMPRODUCT((werknemers=juli!$A28)*(datums=juli!T$5)*(uren))","v":"00:00:00"},{"$f":"SUMPRODUCT((werknemers=juli!$A28)*(datums=juli!U$5)*(uren))","v":"00:00:00"},{"$f":"SUMPRODUCT((werknemers=juli!$A28)*(datums=juli!V$5)*(uren))","v":"00:00:00"},{"$f":"SUMPRODUCT((werknemers=juli!$A28)*(datums=juli!W$5)*(uren))","v":"00:00:00"},{"$f":"SUMPRODUCT((werknemers=juli!$A28)*(datums=juli!X$5)*(uren))","v":"00:00:00"},{"$f":"SUMPRODUCT((werknemers=juli!$A28)*(datums=juli!Y$5)*(uren))","v":"00:00:00"},{"$f":"SUMPRODUCT((werknemers=juli!$A28)*(datums=juli!Z$5)*(uren))","v":"00:00:00"},{"$f":"SUMPRODUCT((werknemers=juli!$A28)*(datums=juli!AA$5)*(uren))","v":"00:00:00"},{"$f":"SUMPRODUCT((werknemers=juli!$A28)*(datums=juli!AB$5)*(uren))","v":"00:00:00"},{"$f":"SUMPRODUCT((werknemers=juli!$A28)*(datums=juli!AC$5)*(uren))","v":"00:00:00"},{"$f":"SUMPRODUCT((werknemers=juli!$A28)*(datums=juli!AD$5)*(uren))","v":"00:00:00"},{"$f":"SUMPRODUCT((werknemers=juli!$A28)*(datums=juli!AE$5)*(uren))","v":"00:00:00"},{"$f":"SUMPRODUCT((werknemers=juli!$A28)*(datums=juli!AF$5)*(uren))","v":"00:00:00"}]
[]
["CONTROLE",{"$f":"SUMPRODUCT((werknemers=juli!$A30)*(datums=juli!B$5)*(uren))","v":"00:00:00"},{"$f":"SUMPRODUCT((werknemers=juli!$A30)*(datums=juli!C$5)*(uren))","v":"00:00:00"},{"$f":"SUMPRODUCT((werknemers=juli!$A30)*(datums=juli!D$5)*(uren))","v":"00:00:00"},{"$f":"SUMPRODUCT((werknemers=juli!$A30)*(datums=juli!E$5)*(uren))","v":"00:00:00"},{"$f":"SUMPRODUCT((werknemers=juli!$A30)*(datums=juli!F$5)*(uren))","v":"00:00:00"},{"$f":"SUMPRODUCT((werknemers=juli!$A30)*(datums=juli!G$5)*(uren))","v":"00:00:00"},{"$f":"SUMPRODUCT((werknemers=juli!$A30)*(datums=juli!H$5)*(uren))","v":"00:00:00"},{"$f":"SUMPRODUCT((werknemers=juli!$A30)*(datums=juli!I$5)*(uren))","v":"00:00:00"},{"$f":"SUMPRODUCT((werknemers=juli!$A30)*(datums=juli!J$5)*(uren))","v":"00:00:00"},{"$f":"SUMPRODUCT((werknemers=juli!$A30)*(datums=juli!K$5)*(uren))","v":"00:00:00"},{"$f":"SUMPRODUCT((werknemers=juli!$A30)*(datums=juli!L$5)*(uren))","v":"00:00:00"},{"$f":"SUMPRODUCT((werknemers=juli!$A30)*(datums=juli!M$5)*(uren))","v":"00:00:00"},{"$f":"SUMPRODUCT((werknemers=juli!$A30)*(datums=juli!N$5)*(uren))","v":"00:00:00"},{"$f":"SUMPRODUCT((werknemers=juli!$A30)*(datums=juli!O$5)*(uren))","v":"00:00:00"},{"$f":"SUMPRODUCT((werknemers=juli!$A30)*(datums=juli!P$5)*(uren))","v":"00:00:00"},{"$f":"SUMPRODUCT((werknemers=juli!$A30)*(datums=juli!Q$5)*(uren))","v":"00:00:00"},{"$f":"SUMPRODUCT((werknemers=juli!$A30)*(datums=juli!R$5)*(uren))","v":"00:00:00"},{"$f":"SUMPRODUCT((werknemers=juli!$A30)*(datums=juli!S$5)*(uren))","v":"00:00:00"},{"$f":"SUMPRODUCT((werknemers=juli!$A30)*(datums=juli!T$5)*(uren))","v":"00:00:00"},{"$f":"SUMPRODUCT((werknemers=juli!$A30)*(datums=juli!U$5)*(uren))","v":"00:00:00"},{"$f":"SUMPRODUCT((werknemers=juli!$A30)*(datums=juli!V$5)*(uren))","v":"00:00:00"},{"$f":"SUMPRODUCT((werknemers=juli!$A30)*(datums=juli!W$5)*(uren))","v":"00:00:00"},{"$f":"SUMPRODUCT((werknemers=juli!$A30)*(datums=juli!X$5)*(uren))","v":"00:00:00"},{"$f":"SUMPRODUCT((werknemers=juli!$A30)*(datums=juli!Y$5)*(uren))","v":"00:00:00"},{"$f":"SUMPRODUCT((werknemers=juli!$A30)*(datums=juli!Z$5)*(uren))","v":"00:00:00"},{"$f":"SUMPRODUCT((werknemers=juli!$A30)*(datums=juli!AA$5)*(uren))","v":"00:00:00"},{"$f":"SUMPRODUCT((werknemers=juli!$A30)*(datums=juli!AB$5)*(uren))","v":"00:00:00"},{"$f":"SUMPRODUCT((werknemers=juli!$A30)*(datums=juli!AC$5)*(uren))","v":"00:00:00"},{"$f":"SUMPRODUCT((werknemers=juli!$A30)*(datums=juli!AD$5)*(uren))","v":"00:00:00"},{"$f":"SUMPRODUCT((werknemers=juli!$A30)*(datums=juli!AE$5)*(uren))","v":"00:00:00"},{"$f":"SUMPRODUCT((werknemers=juli!$A30)*(datums=juli!AF$5)*(uren))","v":"00:00:00"}]
[]
["CONTROLE",{"$f":"SUMPRODUCT((werknemers=juli!$A32)*(datums=juli!B$5)*(uren))","v":"00:00:00"},{"$f":"SUMPRODUCT((werknemers=juli!$A32)*(datums=juli!C$5)*(uren))","v":"00:00:00"},{"$f":"SUMPRODUCT((werknemers=juli!$A32)*(datums=juli!D$5)*(uren))","v":"00:00:00"},{"$f":"SUMPRODUCT((werknemers=juli!$A32)*(datums=juli!E$5)*(uren))","v":"00:00:00"},{"$f":"SUMPRODUCT((werknemers=juli!$A32)*(datums=juli!F$5)*(uren))","v":"00:00:00"},{"$f":"SUMPRODUCT((werknemers=juli!$A32)*(datums=juli!G$5)*(uren))","v":"00:00:00"},{"$f":"SUMPRODUCT((werknemers=juli!$A32)*(datums=juli!H$5)*(uren))","v":"00:00:00"},{"$f":"SUMPRODUCT((werknemers=juli!$A32)*(datums=juli!I$5)*(uren))","v":"00:00:00"},{"$f":"SUMPRODUCT((werknemers=juli!$A32)*(datums=juli!J$5)*(uren))","v":"00:00:00"},{"$f":"SUMPRODUCT((werknemers=juli!$A32)*(datums=juli!K$5)*(uren))","v":"00:00:00"},{"$f":"SUMPRODUCT((werknemers=juli!$A32)*(datums=juli!L$5)*(uren))","v":"00:00:00"},{"$f":"SUMPRODUCT((werknemers=juli!$A32)*(datums=juli!M$5)*(uren))","v":"00:00:00"},{"$f":"SUMPRODUCT((werknemers=juli!$A32)*(datums=juli!N$5)*(uren))","v":"00:00:00"},{"$f":"SUMPRODUCT((werknemers=juli!$A32)*(datums=juli!O$5)*(uren))","v":"00:00:00"},{"$f":"SUMPRODUCT((werknemers=juli!$A32)*(datums=juli!P$5)*(uren))","v":"00:00:00"},{"$f":"SUMPRODUCT((werknemers=juli!$A32)*(datums=juli!Q$5)*(uren))","v":"00:00:00"},{"$f":"SUMPRODUCT((werknemers=juli!$A32)*(datums=juli!R$5)*(uren))","v":"00:00:00"},{"$f":"SUMPRODUCT((werknemers=juli!$A32)*(datums=juli!S$5)*(uren))","v":"00:00:00"},{"$f":"SUMPRODUCT((werknemers=juli!$A32)*(datums=juli!T$5)*(uren))","v":"00:00:00"},{"$f":"SUMPRODUCT((werknemers=juli!$A32)*(datums=juli!U$5)*(uren))","v":"00:00:00"},{"$f":"SUMPRODUCT((werknemers=juli!$A32)*(datums=juli!V$5)*(uren))","v":"00:00:00"},{"$f":"SUMPRODUCT((werknemers=juli!$A32)*(datums=juli!W$5)*(uren))","v":"00:00:00"},{"$f":"SUMPRODUCT((werknemers=juli!$A32)*(datums=juli!X$5)*(uren))","v":"00:00:00"},{"$f":"SUMPRODUCT((werknemers=juli!$A32)*(datums=juli!Y$5)*(uren))","v":"00:00:00"},{"$f":"SUMPRODUCT((werknemers=juli!$A32)*(datums=juli!Z$5)*(uren))","v":"00:00:00"},{"$f":"SUMPRODUCT((werknemers=juli!$A32)*(datums=juli!AA$5)*(uren))","v":"00:00:00"},{"$f":"SUMPRODUCT((werknemers=juli!$A32)*(datums=juli!AB$5)*(uren))","v":"00:00:00"},{"$f":"SUMPRODUCT((werknemers=juli!$A32)*(datums=juli!AC$5)*(uren))","v":"00:00:00"},{"$f":"SUMPRODUCT((werknemers=juli!$A32)*(datums=juli!AD$5)*(uren))","v":"00:00:00"},{"$f":"SUMPRODUCT((werknemers=juli!$A32)*(datums=juli!AE$5)*(uren))","v":"00:00:00"},{"$f":"SUMPRODUCT((werknemers=juli!$A32)*(datums=juli!AF$5)*(uren))","v":"00:00:00"}]
[]
["CONTROLE",{"$f":"SUMPRODUCT((werknemers=juli!$A34)*(datums=juli!B$5)*(uren))","v":"00:00:00"},{"$f":"SUMPRODUCT((werknemers=juli!$A34)*(datums=juli!C$5)*(uren))","v":"00:00:00"},{"$f":"SUMPRODUCT((werknemers=juli!$A34)*(datums=juli!D$5)*(uren))","v":"00:00:00"},{"$f":"SUMPRODUCT((werknemers=juli!$A34)*(datums=juli!E$5)*(uren))","v":"00:00:00"},{"$f":"SUMPRODUCT((werknemers=juli!$A34)*(datums=juli!F$5)*(uren))","v":"00:00:00"},{"$f":"SUMPRODUCT((werknemers=juli!$A34)*(datums=juli!G$5)*(uren))","v":"00:00:00"},{"$f":"SUMPRODUCT((werknemers=juli!$A34)*(datums=juli!H$5)*(uren))","v":"00:00:00"},{"$f":"SUMPRODUCT((werknemers=juli!$A34)*(datums=juli!I$5)*(uren))","v":"00:00:00"},{"$f":"SUMPRODUCT((werknemers=juli!$A34)*(datums=juli!J$5)*(uren))","v":"00:00:00"},{"$f":"SUMPRODUCT((werknemers=juli!$A34)*(datums=juli!K$5)*(uren))","v":"00:00:00"},{"$f":"SUMPRODUCT((werknemers=juli!$A34)*(datums=juli!L$5)*(uren))","v":"00:00:00"},{"$f":"SUMPRODUCT((werknemers=juli!$A34)*(datums=juli!M$5)*(uren))","v":"00:00:00"},{"$f":"SUMPRODUCT((werknemers=juli!$A34)*(datums=juli!N$5)*(uren))","v":"00:00:00"},{"$f":"SUMPRODUCT((werknemers=juli!$A34)*(datums=juli!O$5)*(uren))","v":"00:00:00"},{"$f":"SUMPRODUCT((werknemers=juli!$A34)*(datums=juli!P$5)*(uren))","v":"00:00:00"},{"$f":"SUMPRODUCT((werknemers=juli!$A34)*(datums=juli!Q$5)*(uren))","v":"00:00:00"},{"$f":"SUMPRODUCT((werknemers=juli!$A34)*(datums=juli!R$5)*(uren))","v":"00:00:00"},{"$f":"SUMPRODUCT((werknemers=juli!$A34)*(datums=juli!S$5)*(uren))","v":"00:00:00"},{"$f":"SUMPRODUCT((werknemers=juli!$A34)*(datums=juli!T$5)*(uren))","v":"00:00:00"},{"$f":"SUMPRODUCT((werknemers=juli!$A34)*(datums=juli!U$5)*(uren))","v":"00:00:00"},{"$f":"SUMPRODUCT((werknemers=juli!$A34)*(datums=juli!V$5)*(uren))","v":"00:00:00"},{"$f":"SUMPRODUCT((werknemers=juli!$A34)*(datums=juli!W$5)*(uren))","v":"00:00:00"},{"$f":"SUMPRODUCT((werknemers=juli!$A34)*(datums=juli!X$5)*(uren))","v":"00:00:00"},{"$f":"SUMPRODUCT((werknemers=juli!$A34)*(datums=juli!Y$5)*(uren))","v":"00:00:00"},{"$f":"SUMPRODUCT((werknemers=juli!$A34)*(datums=juli!Z$5)*(uren))","v":"00:00:00"},{"$f":"SUMPRODUCT((werknemers=juli!$A34)*(datums=juli!AA$5)*(uren))","v":"00:00:00"},{"$f":"SUMPRODUCT((werknemers=juli!$A34)*(datums=juli!AB$5)*(uren))","v":"00:00:00"},{"$f":"SUMPRODUCT((werknemers=juli!$A34)*(datums=juli!AC$5)*(uren))","v":"00:00:00"},{"$f":"SUMPRODUCT((werknemers=juli!$A34)*(datums=juli!AD$5)*(uren))","v":"00:00:00"},{"$f":"SUMPRODUCT((werknemers=juli!$A34)*(datums=juli!AE$5)*(uren))","v":"00:00:00"},{"$f":"SUMPRODUCT((werknemers=juli!$A34)*(datums=juli!AF$5)*(uren))","v":"00:00:00"}]
[]
["CONTROLE",{"$f":"SUMPRODUCT((werknemers=juli!$A36)*(datums=juli!B$5)*(uren))","v":"00:00:00"},{"$f":"SUMPRODUCT((werknemers=juli!$A36)*(datums=juli!C$5)*(uren))","v":"00:00:00"},{"$f":"SUMPRODUCT((werknemers=juli!$A36)*(datums=juli!D$5)*(uren))","v":"00:00:00"},{"$f":"SUMPRODUCT((werknemers=juli!$A36)*(datums=juli!E$5)*(uren))","v":"00:00:00"},{"$f":"SUMPRODUCT((werknemers=juli!$A36)*(datums=juli!F$5)*(uren))","v":"00:00:00"},{"$f":"SUMPRODUCT((werknemers=juli!$A36)*(datums=juli!G$5)*(uren))","v":"00:00:00"},{"$f":"SUMPRODUCT((werknemers=juli!$A36)*(datums=juli!H$5)*(uren))","v":"00:00:00"},{"$f":"SUMPRODUCT((werknemers=juli!$A36)*(datums=juli!I$5)*(uren))","v":"00:00:00"},{"$f":"SUMPRODUCT((werknemers=juli!$A36)*(datums=juli!J$5)*(uren))","v":"00:00:00"},{"$f":"SUMPRODUCT((werknemers=juli!$A36)*(datums=juli!K$5)*(uren))","v":"00:00:00"},{"$f":"SUMPRODUCT((werknemers=juli!$A36)*(datums=juli!L$5)*(uren))","v":"00:00:00"},{"$f":"SUMPRODUCT((werknemers=juli!$A36)*(datums=juli!M$5)*(uren))","v":"00:00:00"},{"$f":"SUMPRODUCT((werknemers=juli!$A36)*(datums=juli!N$5)*(uren))","v":"00:00:00"},{"$f":"SUMPRODUCT((werknemers=juli!$A36)*(datums=juli!O$5)*(uren))","v":"00:00:00"},{"$f":"SUMPRODUCT((werknemers=juli!$A36)*(datums=juli!P$5)*(uren))","v":"00:00:00"},{"$f":"SUMPRODUCT((werknemers=juli!$A36)*(datums=juli!Q$5)*(uren))","v":"00:00:00"},{"$f":"SUMPRODUCT((werknemers=juli!$A36)*(datums=juli!R$5)*(uren))","v":"00:00:00"},{"$f":"SUMPRODUCT((werknemers=juli!$A36)*(datums=juli!S$5)*(uren))","v":"00:00:00"},{"$f":"SUMPRODUCT((werknemers=juli!$A36)*(datums=juli!T$5)*(uren))","v":"00:00:00"},{"$f":"SUMPRODUCT((werknemers=juli!$A36)*(datums=juli!U$5)*(uren))","v":"00:00:00"},{"$f":"SUMPRODUCT((werknemers=juli!$A36)*(datums=juli!V$5)*(uren))","v":"00:00:00"},{"$f":"SUMPRODUCT((werknemers=juli!$A36)*(datums=juli!W$5)*(uren))","v":"00:00:00"},{"$f":"SUMPRODUCT((werknemers=juli!$A36)*(datums=juli!X$5)*(uren))","v":"00:00:00"},{"$f":"SUMPRODUCT((werknemers=juli!$A36)*(datums=juli!Y$5)*(uren))","v":"00:00:00"},{"$f":"SUMPRODUCT((werknemers=juli!$A36)*(datums=juli!Z$5)*(uren))","v":"00:00:00"},{"$f":"SUMPRODUCT((werknemers=juli!$A36)*(datums=juli!AA$5)*(uren))","v":"00:00:00"},{"$f":"SUMPRODUCT((werknemers=juli!$A36)*(datums=juli!AB$5)*(uren))","v":"00:00:00"},{"$f":"SUMPRODUCT((werknemers=juli!$A36)*(datums=juli!AC$5)*(uren))","v":"00:00:00"},{"$f":"SUMPRODUCT((werknemers=juli!$A36)*(datums=juli!AD$5)*(uren))","v":"00:00:00"},{"$f":"SUMPRODUCT((werknemers=juli!$A36)*(datums=juli!AE$5)*(uren))","v":"00:00:00"},{"$f":"SUMPRODUCT((werknemers=juli!$A36)*(datums=juli!AF$5)*(uren))","v":"00:00:00"}]
[]
["CONTROLE",{"$f":"SUMPRODUCT((werknemers=juli!$A38)*(datums=juli!B$5)*(uren))","v":"00:00:00"},{"$f":"SUMPRODUCT((werknemers=juli!$A38)*(datums=juli!C$5)*(uren))","v":"00:00:00"},{"$f":"SUMPRODUCT((werknemers=juli!$A38)*(datums=juli!D$5)*(uren))","v":"00:00:00"},{"$f":"SUMPRODUCT((werknemers=juli!$A38)*(datums=juli!E$5)*(uren))","v":"00:00:00"},{"$f":"SUMPRODUCT((werknemers=juli!$A38)*(datums=juli!F$5)*(uren))","v":"00:00:00"},{"$f":"SUMPRODUCT((werknemers=juli!$A38)*(datums=juli!G$5)*(uren))","v":"00:00:00"},{"$f":"SUMPRODUCT((werknemers=juli!$A38)*(datums=juli!H$5)*(uren))","v":"00:00:00"},{"$f":"SUMPRODUCT((werknemers=juli!$A38)*(datums=juli!I$5)*(uren))","v":"00:00:00"},{"$f":"SUMPRODUCT((werknemers=juli!$A38)*(datums=juli!J$5)*(uren))","v":"00:00:00"},{"$f":"SUMPRODUCT((werknemers=juli!$A38)*(datums=juli!K$5)*(uren))","v":"00:00:00"},{"$f":"SUMPRODUCT((werknemers=juli!$A38)*(datums=juli!L$5)*(uren))","v":"00:00:00"},{"$f":"SUMPRODUCT((werknemers=juli!$A38)*(datums=juli!M$5)*(uren))","v":"00:00:00"},{"$f":"SUMPRODUCT((werknemers=juli!$A38)*(datums=juli!N$5)*(uren))","v":"00:00:00"},{"$f":"SUMPRODUCT((werknemers=juli!$A38)*(datums=juli!O$5)*(uren))","v":"00:00:00"},{"$f":"SUMPRODUCT((werknemers=juli!$A38)*(datums=juli!P$5)*(uren))","v":"00:00:00"},{"$f":"SUMPRODUCT((werknemers=juli!$A38)*(datums=juli!Q$5)*(uren))","v":"00:00:00"},{"$f":"SUMPRODUCT((werknemers=juli!$A38)*(datums=juli!R$5)*(uren))","v":"00:00:00"},{"$f":"SUMPRODUCT((werknemers=juli!$A38)*(datums=juli!S$5)*(uren))","v":"00:00:00"},{"$f":"SUMPRODUCT((werknemers=juli!$A38)*(datums=juli!T$5)*(uren))","v":"00:00:00"},{"$f":"SUMPRODUCT((werknemers=juli!$A38)*(datums=juli!U$5)*(uren))","v":"00:00:00"},{"$f":"SUMPRODUCT((werknemers=juli!$A38)*(datums=juli!V$5)*(uren))","v":"00:00:00"},{"$f":"SUMPRODUCT((werknemers=juli!$A38)*(datums=juli!W$5)*(uren))","v":"00:00:00"},{"$f":"SUMPRODUCT((werknemers=juli!$A38)*(datums=juli!X$5)*(uren))","v":"00:00:00"},{"$f":"SUMPRODUCT((werknemers=juli!$A38)*(datums=juli!Y$5)*(uren))","v":"00:00:00"},{"$f":"SUMPRODUCT((werknemers=juli!$A38)*(datums=juli!Z$5)*(uren))","v":"00:00:00"},{"$f":"SUMPRODUCT((werknemers=juli!$A38)*(datums=juli!AA$5)*(uren))","v":"00:00:00"},{"$f":"SUMPRODUCT((werknemers=juli!$A38)*(datums=juli!AB$5)*(uren))","v":"00:00:00"},{"$f":"SUMPRODUCT((werknemers=juli!$A38)*(datums=juli!AC$5)*(uren))","v":"00:00:00"},{"$f":"SUMPRODUCT((werknemers=juli!$A38)*(datums=juli!AD$5)*(uren))","v":"00:00:00"},{"$f":"SUMPRODUCT((werknemers=juli!$A38)*(datums=juli!AE$5)*(uren))","v":"00:00:00"},{"$f":"SUMPRODUCT((werknemers=juli!$A38)*(datums=juli!AF$5)*(uren))","v":"00:00:00"}]
[]
["CONTROLE",{"$f":"SUMPRODUCT((werknemers=juli!$A40)*(datums=juli!B$5)*(uren))","v":"00:00:00"},{"$f":"SUMPRODUCT((werknemers=juli!$A40)*(datums=juli!C$5)*(uren))","v":"00:00:00"},{"$f":"SUMPRODUCT((werknemers=juli!$A40)*(datums=juli!D$5)*(uren))","v":"00:00:00"},{"$f":"SUMPRODUCT((werknemers=juli!$A40)*(datums=juli!E$5)*(uren))","v":"00:00:00"},{"$f":"SUMPRODUCT((werknemers=juli!$A40)*(datums=juli!F$5)*(uren))","v":"00:00:00"},{"$f":"SUMPRODUCT((werknemers=juli!$A40)*(datums=juli!G$5)*(uren))","v":"00:00:00"},{"$f":"SUMPRODUCT((werknemers=juli!$A40)*(datums=juli!H$5)*(uren))","v":"00:00:00"},{"$f":"SUMPRODUCT((werknemers=juli!$A40)*(datums=juli!I$5)*(uren))","v":"00:00:00"},{"$f":"SUMPRODUCT((werknemers=juli!$A40)*(datums=juli!J$5)*(uren))","v":"00:00:00"},{"$f":"SUMPRODUCT((werknemers=juli!$A40)*(datums=juli!K$5)*(uren))","v":"00:00:00"},{"$f":"SUMPRODUCT((werknemers=juli!$A40)*(datums=juli!L$5)*(uren))","v":"00:00:00"},{"$f":"SUMPRODUCT((werknemers=juli!$A40)*(datums=juli!M$5)*(uren))","v":"00:00:00"},{"$f":"SUMPRODUCT((werknemers=juli!$A40)*(datums=juli!N$5)*(uren))","v":"00:00:00"},{"$f":"SUMPRODUCT((werknemers=juli!$A40)*(datums=juli!O$5)*(uren))","v":"00:00:00"},{"$f":"SUMPRODUCT((werknemers=juli!$A40)*(datums=juli!P$5)*(uren))","v":"00:00:00"},{"$f":"SUMPRODUCT((werknemers=juli!$A40)*(datums=juli!Q$5)*(uren))","v":"00:00:00"},{"$f":"SUMPRODUCT((werknemers=juli!$A40)*(datums=juli!R$5)*(uren))","v":"00:00:00"},{"$f":"SUMPRODUCT((werknemers=juli!$A40)*(datums=juli!S$5)*(uren))","v":"00:00:00"},{"$f":"SUMPRODUCT((werknemers=juli!$A40)*(datums=juli!T$5)*(uren))","v":"00:00:00"},{"$f":"SUMPRODUCT((werknemers=juli!$A40)*(datums=juli!U$5)*(uren))","v":"00:00:00"},{"$f":"SUMPRODUCT((werknemers=juli!$A40)*(datums=juli!V$5)*(uren))","v":"00:00:00"},{"$f":"SUMPRODUCT((werknemers=juli!$A40)*(datums=juli!W$5)*(uren))","v":"00:00:00"},{"$f":"SUMPRODUCT((werknemers=juli!$A40)*(datums=juli!X$5)*(uren))","v":"00:00:00"},{"$f":"SUMPRODUCT((werknemers=juli!$A40)*(datums=juli!Y$5)*(uren))","v":"00:00:00"},{"$f":"SUMPRODUCT((werknemers=juli!$A40)*(datums=juli!Z$5)*(uren))","v":"00:00:00"},{"$f":"SUMPRODUCT((werknemers=juli!$A40)*(datums=juli!AA$5)*(uren))","v":"00:00:00"},{"$f":"SUMPRODUCT((werknemers=juli!$A40)*(datums=juli!AB$5)*(uren))","v":"00:00:00"},{"$f":"SUMPRODUCT((werknemers=juli!$A40)*(datums=juli!AC$5)*(uren))","v":"00:00:00"},{"$f":"SUMPRODUCT((werknemers=juli!$A40)*(datums=juli!AD$5)*(uren))","v":"00:00:00"},{"$f":"SUMPRODUCT((werknemers=juli!$A40)*(datums=juli!AE$5)*(uren))","v":"00:00:00"},{"$f":"SUMPRODUCT((werknemers=juli!$A40)*(datums=juli!AF$5)*(uren))","v":"00:00:00"}]
[]
["CONTROLE",{"$f":"SUMPRODUCT((werknemers=juli!$A42)*(datums=juli!B$5)*(uren))","v":"00:00:00"},{"$f":"SUMPRODUCT((werknemers=juli!$A42)*(datums=juli!C$5)*(uren))","v":"00:00:00"},{"$f":"SUMPRODUCT((werknemers=juli!$A42)*(datums=juli!D$5)*(uren))","v":"00:00:00"},{"$f":"SUMPRODUCT((werknemers=juli!$A42)*(datums=juli!E$5)*(uren))","v":"00:00:00"},{"$f":"SUMPRODUCT((werknemers=juli!$A42)*(datums=juli!F$5)*(uren))","v":"00:00:00"},{"$f":"SUMPRODUCT((werknemers=juli!$A42)*(datums=juli!G$5)*(uren))","v":"00:00:00"},{"$f":"SUMPRODUCT((werknemers=juli!$A42)*(datums=juli!H$5)*(uren))","v":"00:00:00"},{"$f":"SUMPRODUCT((werknemers=juli!$A42)*(datums=juli!I$5)*(uren))","v":"00:00:00"},{"$f":"SUMPRODUCT((werknemers=juli!$A42)*(datums=juli!J$5)*(uren))","v":"00:00:00"},{"$f":"SUMPRODUCT((werknemers=juli!$A42)*(datums=juli!K$5)*(uren))","v":"00:00:00"},{"$f":"SUMPRODUCT((werknemers=juli!$A42)*(datums=juli!L$5)*(uren))","v":"00:00:00"},{"$f":"SUMPRODUCT((werknemers=juli!$A42)*(datums=juli!M$5)*(uren))","v":"00:00:00"},{"$f":"SUMPRODUCT((werknemers=juli!$A42)*(datums=juli!N$5)*(uren))","v":"00:00:00"},{"$f":"SUMPRODUCT((werknemers=juli!$A42)*(datums=juli!O$5)*(uren))","v":"00:00:00"},{"$f":"SUMPRODUCT((werknemers=juli!$A42)*(datums=juli!P$5)*(uren))","v":"00:00:00"},{"$f":"SUMPRODUCT((werknemers=juli!$A42)*(datums=juli!Q$5)*(uren))","v":"00:00:00"},{"$f":"SUMPRODUCT((werknemers=juli!$A42)*(datums=juli!R$5)*(uren))","v":"00:00:00"},{"$f":"SUMPRODUCT((werknemers=juli!$A42)*(datums=juli!S$5)*(uren))","v":"00:00:00"},{"$f":"SUMPRODUCT((werknemers=juli!$A42)*(datums=juli!T$5)*(uren))","v":"00:00:00"},{"$f":"SUMPRODUCT((werknemers=juli!$A42)*(datums=juli!U$5)*(uren))","v":"00:00:00"},{"$f":"SUMPRODUCT((werknemers=juli!$A42)*(datums=juli!V$5)*(uren))","v":"00:00:00"},{"$f":"SUMPRODUCT((werknemers=juli!$A42)*(datums=juli!W$5)*(uren))","v":"00:00:00"},{"$f":"SUMPRODUCT((werknemers=juli!$A42)*(datums=juli!X$5)*(uren))","v":"00:00:00"},{"$f":"SUMPRODUCT((werknemers=juli!$A42)*(datums=juli!Y$5)*(uren))","v":"00:00:00"},{"$f":"SUMPRODUCT((werknemers=juli!$A42)*(datums=juli!Z$5)*(uren))","v":"00:00:00"},{"$f":"SUMPRODUCT((werknemers=juli!$A42)*(datums=juli!AA$5)*(uren))","v":"00:00:00"},{"$f":"SUMPRODUCT((werknemers=juli!$A42)*(datums=juli!AB$5)*(uren))","v":"00:00:00"},{"$f":"SUMPRODUCT((werknemers=juli!$A42)*(datums=juli!AC$5)*(uren))","v":"00:00:00"},{"$f":"SUMPRODUCT((werknemers=juli!$A42)*(datums=juli!AD$5)*(uren))","v":"00:00:00"},{"$f":"SUMPRODUCT((werknemers=juli!$A42)*(datums=juli!AE$5)*(uren))","v":"00:00:00"},{"$f":"SUMPRODUCT((werknemers=juli!$A42)*(datums=juli!AF$5)*(uren))","v":"00:00:00"}]
[]
["CONTROLE",{"$f":"SUMPRODUCT((werknemers=juli!$A44)*(datums=juli!B$5)*(uren))","v":"00:00:00"},{"$f":"SUMPRODUCT((werknemers=juli!$A44)*(datums=juli!C$5)*(uren))","v":"00:00:00"},{"$f":"SUMPRODUCT((werknemers=juli!$A44)*(datums=juli!D$5)*(uren))","v":"00:00:00"},{"$f":"SUMPRODUCT((werknemers=juli!$A44)*(datums=juli!E$5)*(uren))","v":"00:00:00"},{"$f":"SUMPRODUCT((werknemers=juli!$A44)*(datums=juli!F$5)*(uren))","v":"00:00:00"},{"$f":"SUMPRODUCT((werknemers=juli!$A44)*(datums=juli!G$5)*(uren))","v":"00:00:00"},{"$f":"SUMPRODUCT((werknemers=juli!$A44)*(datums=juli!H$5)*(uren))","v":"00:00:00"},{"$f":"SUMPRODUCT((werknemers=juli!$A44)*(datums=juli!I$5)*(uren))","v":"00:00:00"},{"$f":"SUMPRODUCT((werknemers=juli!$A44)*(datums=juli!J$5)*(uren))","v":"00:00:00"},{"$f":"SUMPRODUCT((werknemers=juli!$A44)*(datums=juli!K$5)*(uren))","v":"00:00:00"},{"$f":"SUMPRODUCT((werknemers=juli!$A44)*(datums=juli!L$5)*(uren))","v":"00:00:00"},{"$f":"SUMPRODUCT((werknemers=juli!$A44)*(datums=juli!M$5)*(uren))","v":"00:00:00"},{"$f":"SUMPRODUCT((werknemers=juli!$A44)*(datums=juli!N$5)*(uren))","v":"00:00:00"},{"$f":"SUMPRODUCT((werknemers=juli!$A44)*(datums=juli!O$5)*(uren))","v":"00:00:00"},{"$f":"SUMPRODUCT((werknemers=juli!$A44)*(datums=juli!P$5)*(uren))","v":"00:00:00"},{"$f":"SUMPRODUCT((werknemers=juli!$A44)*(datums=juli!Q$5)*(uren))","v":"00:00:00"},{"$f":"SUMPRODUCT((werknemers=juli!$A44)*(datums=juli!R$5)*(uren))","v":"00:00:00"},{"$f":"SUMPRODUCT((werknemers=juli!$A44)*(datums=juli!S$5)*(uren))","v":"00:00:00"},{"$f":"SUMPRODUCT((werknemers=juli!$A44)*(datums=juli!T$5)*(uren))","v":"00:00:00"},{"$f":"SUMPRODUCT((werknemers=juli!$A44)*(datums=juli!U$5)*(uren))","v":"00:00:00"},{"$f":"SUMPRODUCT((werknemers=juli!$A44)*(datums=juli!V$5)*(uren))","v":"00:00:00"},{"$f":"SUMPRODUCT((werknemers=juli!$A44)*(datums=juli!W$5)*(uren))","v":"00:00:00"},{"$f":"SUMPRODUCT((werknemers=juli!$A44)*(datums=juli!X$5)*(uren))","v":"00:00:00"},{"$f":"SUMPRODUCT((werknemers=juli!$A44)*(datums=juli!Y$5)*(uren))","v":"00:00:00"},{"$f":"SUMPRODUCT((werknemers=juli!$A44)*(datums=juli!Z$5)*(uren))","v":"00:00:00"},{"$f":"SUMPRODUCT((werknemers=juli!$A44)*(datums=juli!AA$5)*(uren))","v":"00:00:00"},{"$f":"SUMPRODUCT((werknemers=juli!$A44)*(datums=juli!AB$5)*(uren))","v":"00:00:00"},{"$f":"SUMPRODUCT((werknemers=juli!$A44)*(datums=juli!AC$5)*(uren))","v":"00:00:00"},{"$f":"SUMPRODUCT((werknemers=juli!$A44)*(datums=juli!AD$5)*(uren))","v":"00:00:00"},{"$f":"SUMPRODUCT((werknemers=juli!$A44)*(datums=juli!AE$5)*(uren))","v":"00:00:00"},{"$f":"SUMPRODUCT((werknemers=juli!$A44)*(datums=juli!AF$5)*(uren))","v":"00:00:00"}]

{"sheet":"augustus","index":9,"n_rows":45,"n_cols":32,"rows_kept":45,"cut":false,"hidden":false,"merged":[[3,0,4,0],[1,1,1,3],[1,5,1,7],[1,9,1,11]]}
[]
[null,"verlof (V)",null,null,null,"ziek (Z)",null,null,null,"feestdag (F)"]
[]
[{"$f":"YEAR(B5)","v":2018},{"$f":"WEEKDAY(B5)","v":"1900-01-04"},{"$f":"WEEKDAY(C5)","v":"1900-01-05"},"1900-01-06","1900-01-07","1900-01-01","1900-01-02","1900-01-03","1900-01-04","1900-01-05","1900-01-06","1900-01-07","1900-01-01","1900-01-02","1900-01-03","1900-01-04","1900-01-05","1900-01-06","1900-01-07","1900-01-01","1900-01-02","1900-01-03","1900-01-04","1900-01-05","1900-01-06","1900-01-07","1900-01-01","1900-01-02","1900-01-03","1900-01-04","1900-01-05","1900-01-06"]
[null,"2018-08-01","2018-08-02","2018-08-03","2018-08-04","2018-08-05","2018-08-06","2018-08-07","2018-08-08","2018-08-09","2018-08-10","2018-08-11","2018-08-12","2018-08-13","2018-08-14","2018-08-15","2018-08-16","2018-08-17","2018-08-18","2018-08-19","2018-08-20","2018-08-21","2018-08-22","2018-08-23","2018-08-24","2018-08-25","2018-08-26","2018-08-27","2018-08-28","2018-08-29","2018-08-30","2018-08-31"]
[]
["CONTROLE",{"$f":"SUMPRODUCT((werknemers=augustus!$A6)*(datums=augustus!B$5)*(uren))","v":"00:00:00"},{"$f":"SUMPRODUCT((werknemers=augustus!$A6)*(datums=augustus!C$5)*(uren))","v":"00:00:00"},{"$f":"SUMPRODUCT((werknemers=augustus!$A6)*(datums=augustus!D$5)*(uren))","v":"00:00:00"},{"$f":"SUMPRODUCT((werknemers=augustus!$A6)*(datums=augustus!E$5)*(uren))","v":"00:00:00"},{"$f":"SUMPRODUCT((werknemers=augustus!$A6)*(datums=augustus!F$5)*(uren))","v":"00:00:00"},{"$f":"SUMPRODUCT((werknemers=augustus!$A6)*(datums=augustus!G$5)*(uren))","v":"00:00:00"},{"$f":"SUMPRODUCT((werknemers=augustus!$A6)*(datums=augustus!H$5)*(uren))","v":"00:00:00"},{"$f":"SUMPRODUCT((werknemers=augustus!$A6)*(datums=augustus!I$5)*(uren))","v":"00:00:00"},{"$f":"SUMPRODUCT((werknemers=augustus!$A6)*(datums=augustus!J$5)*(uren))","v":"00:00:00"},{"$f":"SUMPRODUCT((werknemers=augustus!$A6)*(datums=augustus!K$5)*(uren))","v":"00:00:00"},{"$f":"SUMPRODUCT((werknemers=augustus!$A6)*(datums=augustus!L$5)*(uren))","v":"00:00:00"},{"$f":"SUMPRODUCT((werknemers=augustus!$A6)*(datums=augustus!M$5)*(uren))","v":"00:00:00"},{"$f":"SUMPRODUCT((werknemers=augustus!$A6)*(datums=augustus!N$5)*(uren))","v":"00:00:00"},{"$f":"SUMPRODUCT((werknemers=augustus!$A6)*(datums=augustus!O$5)*(uren))","v":"00:00:00"},{"$f":"SUMPRODUCT((werknemers=augustus!$A6)*(datums=augustus!P$5)*(uren))","v":"00:00:00"},{"$f":"SUMPRODUCT((werknemers=augustus!$A6)*(datums=augustus!Q$5)*(uren))","v":"00:00:00"},{"$f":"SUMPRODUCT((werknemers=augustus!$A6)*(datums=augustus!R$5)*(uren))","v":"00:00:00"},{"$f":"SUMPRODUCT((werknemers=augustus!$A6)*(datums=augustus!S$5)*(uren))","v":"00:00:00"},{"$f":"SUMPRODUCT((werknemers=augustus!$A6)*(datums=augustus!T$5)*(uren))","v":"00:00:00"},{"$f":"SUMPRODUCT((werknemers=augustus!$A6)*(datums=augustus!U$5)*(uren))","v":"00:00:00"},{"$f":"SUMPRODUCT((werknemers=augustus!$A6)*(datums=augustus!V$5)*(uren))","v":"00:00:00"},{"$f":"SUMPRODUCT((werknemers=augustus!$A6)*(datums=augustus!W$5)*(uren))","v":"00:00:00"},{"$f":"SUMPRODUCT((werknemers=augustus!$A6)*(datums=augustus!X$5)*(uren))","v":"00:00:00"},{"$f":"SUMPRODUCT((werknemers=augustus!$A6)*(datums=augustus!Y$5)*(uren))","v":"00:00:00"},{"$f":"SUMPRODUCT((werknemers=augustus!$A6)*(datums=augustus!Z$5)*(uren))","v":"00:00:00"},{"$f":"SUMPRODUCT((werknemers=augustus!$A6)*(datums=augustus!AA$5)*(uren))","v":"00:00:00"},{"$f":"SUMPRODUCT((werknemers=augustus!$A6)*(datums=augustus!AB$5)*(uren))","v":"00:00:00"},{"$f":"SUMPRODUCT((werknemers=augustus!$A6)*(datums=augustus!AC$5)*(uren))","v":"00:00:00"},{"$f":"SUMPRODUCT((werknemers=augustus!$A6)*(datums=augustus!AD$5)*(uren))","v":"00:00:00"},{"$f":"SUMPRODUCT((werknemers=augustus!$A6)*(datums=augustus!AE$5)*(uren))","v":"00:00:00"},{"$f":"SUMPRODUCT((werknemers=augustus!$A6)*(datums=augustus!AF$5)*(uren))","v":"00:00:00"}]
[]
["CONTROLE",{"$f":"SUMPRODUCT((werknemers=augustus!$A8)*(datums=augustus!B$5)*(uren))","v":"00:00:00"},{"$f":"SUMPRODUCT((werknemers=augustus!$A8)*(datums=augustus!C$5)*(uren))","v":"00:00:00"},{"$f":"SUMPRODUCT((werknemers=augustus!$A8)*(datums=augustus!D$5)*(uren))","v":"00:00:00"},{"$f":"SUMPRODUCT((werknemers=augustus!$A8)*(datums=augustus!E$5)*(uren))","v":"00:00:00"},{"$f":"SUMPRODUCT((werknemers=augustus!$A8)*(datums=augustus!F$5)*(uren))","v":"00:00:00"},{"$f":"SUMPRODUCT((werknemers=augustus!$A8)*(datums=augustus!G$5)*(uren))","v":"00:00:00"},{"$f":"SUMPRODUCT((werknemers=augustus!$A8)*(datums=augustus!H$5)*(uren))","v":"00:00:00"},{"$f":"SUMPRODUCT((werknemers=augustus!$A8)*(datums=augustus!I$5)*(uren))","v":"00:00:00"},{"$f":"SUMPRODUCT((werknemers=augustus!$A8)*(datums=augustus!J$5)*(uren))","v":"00:00:00"},{"$f":"SUMPRODUCT((werknemers=augustus!$A8)*(datums=augustus!K$5)*(uren))","v":"00:00:00"},{"$f":"SUMPRODUCT((werknemers=augustus!$A8)*(datums=augustus!L$5)*(uren))","v":"00:00:00"},{"$f":"SUMPRODUCT((werknemers=augustus!$A8)*(datums=augustus!M$5)*(uren))","v":"00:00:00"},{"$f":"SUMPRODUCT((werknemers=augustus!$A8)*(datums=augustus!N$5)*(uren))","v":"00:00:00"},{"$f":"SUMPRODUCT((werknemers=augustus!$A8)*(datums=augustus!O$5)*(uren))","v":"00:00:00"},{"$f":"SUMPRODUCT((werknemers=augustus!$A8)*(datums=augustus!P$5)*(uren))","v":"00:00:00"},{"$f":"SUMPRODUCT((werknemers=augustus!$A8)*(datums=augustus!Q$5)*(uren))","v":"00:00:00"},{"$f":"SUMPRODUCT((werknemers=augustus!$A8)*(datums=augustus!R$5)*(uren))","v":"00:00:00"},{"$f":"SUMPRODUCT((werknemers=augustus!$A8)*(datums=augustus!S$5)*(uren))","v":"00:00:00"},{"$f":"SUMPRODUCT((werknemers=augustus!$A8)*(datums=augustus!T$5)*(uren))","v":"00:00:00"},{"$f":"SUMPRODUCT((werknemers=augustus!$A8)*(datums=augustus!U$5)*(uren))","v":"00:00:00"},{"$f":"SUMPRODUCT((werknemers=augustus!$A8)*(datums=augustus!V$5)*(uren))","v":"00:00:00"},{"$f":"SUMPRODUCT((werknemers=augustus!$A8)*(datums=augustus!W$5)*(uren))","v":"00:00:00"},{"$f":"SUMPRODUCT((werknemers=augustus!$A8)*(datums=augustus!X$5)*(uren))","v":"00:00:00"},{"$f":"SUMPRODUCT((werknemers=augustus!$A8)*(datums=augustus!Y$5)*(uren))","v":"00:00:00"},{"$f":"SUMPRODUCT((werknemers=augustus!$A8)*(datums=augustus!Z$5)*(uren))","v":"00:00:00"},{"$f":"SUMPRODUCT((werknemers=augustus!$A8)*(datums=augustus!AA$5)*(uren))","v":"00:00:00"},{"$f":"SUMPRODUCT((werknemers=augustus!$A8)*(datums=augustus!AB$5)*(uren))","v":"00:00:00"},{"$f":"SUMPRODUCT((werknemers=augustus!$A8)*(datums=augustus!AC$5)*(uren))","v":"00:00:00"},{"$f":"SUMPRODUCT((werknemers=augustus!$A8)*(datums=augustus!AD$5)*(uren))","v":"00:00:00"},{"$f":"SUMPRODUCT((werknemers=augustus!$A8)*(datums=augustus!AE$5)*(uren))","v":"00:00:00"},{"$f":"SUMPRODUCT((werknemers=augustus!$A8)*(datums=augustus!AF$5)*(uren))","v":"00:00:00"}]
[]
["CONTROLE",{"$f":"SUMPRODUCT((werknemers=augustus!$A10)*(datums=augustus!B$5)*(uren))","v":"00:00:00"},{"$f":"SUMPRODUCT((werknemers=augustus!$A10)*(datums=augustus!C$5)*(uren))","v":"00:00:00"},{"$f":"SUMPRODUCT((werknemers=augustus!$A10)*(datums=augustus!D$5)*(uren))","v":"00:00:00"},{"$f":"SUMPRODUCT((werknemers=augustus!$A10)*(datums=augustus!E$5)*(uren))","v":"00:00:00"},{"$f":"SUMPRODUCT((werknemers=augustus!$A10)*(datums=augustus!F$5)*(uren))","v":"00:00:00"},{"$f":"SUMPRODUCT((werknemers=augustus!$A10)*(datums=augustus!G$5)*(uren))","v":"00:00:00"},{"$f":"SUMPRODUCT((werknemers=augustus!$A10)*(datums=augustus!H$5)*(uren))","v":"00:00:00"},{"$f":"SUMPRODUCT((werknemers=augustus!$A10)*(datums=augustus!I$5)*(uren))","v":"00:00:00"},{"$f":"SUMPRODUCT((werknemers=augustus!$A10)*(datums=augustus!J$5)*(uren))","v":"00:00:00"},{"$f":"SUMPRODUCT((werknemers=augustus!$A10)*(datums=augustus!K$5)*(uren))","v":"00:00:00"},{"$f":"SUMPRODUCT((werknemers=augustus!$A10)*(datums=augustus!L$5)*(uren))","v":"00:00:00"},{"$f":"SUMPRODUCT((werknemers=augustus!$A10)*(datums=augustus!M$5)*(uren))","v":"00:00:00"},{"$f":"SUMPRODUCT((werknemers=augustus!$A10)*(datums=augustus!N$5)*(uren))","v":"00:00:00"},{"$f":"SUMPRODUCT((werknemers=augustus!$A10)*(datums=augustus!O$5)*(uren))","v":"00:00:00"},{"$f":"SUMPRODUCT((werknemers=augustus!$A10)*(datums=augustus!P$5)*(uren))","v":"00:00:00"},{"$f":"SUMPRODUCT((werknemers=augustus!$A10)*(datums=augustus!Q$5)*(uren))","v":"00:00:00"},{"$f":"SUMPRODUCT((werknemers=augustus!$A10)*(datums=augustus!R$5)*(uren))","v":"00:00:00"},{"$f":"SUMPRODUCT((werknemers=augustus!$A10)*(datums=augustus!S$5)*(uren))","v":"00:00:00"},{"$f":"SUMPRODUCT((werknemers=augustus!$A10)*(datums=augustus!T$5)*(uren))","v":"00:00:00"},{"$f":"SUMPRODUCT((werknemers=augustus!$A10)*(datums=augustus!U$5)*(uren))","v":"00:00:00"},{"$f":"SUMPRODUCT((werknemers=augustus!$A10)*(datums=augustus!V$5)*(uren))","v":"00:00:00"},{"$f":"SUMPRODUCT((werknemers=augustus!$A10)*(datums=augustus!W$5)*(uren))","v":"00:00:00"},{"$f":"SUMPRODUCT((werknemers=augustus!$A10)*(datums=augustus!X$5)*(uren))","v":"00:00:00"},{"$f":"SUMPRODUCT((werknemers=augustus!$A10)*(datums=augustus!Y$5)*(uren))","v":"00:00:00"},{"$f":"SUMPRODUCT((werknemers=augustus!$A10)*(datums=augustus!Z$5)*(uren))","v":"00:00:00"},{"$f":"SUMPRODUCT((werknemers=augustus!$A10)*(datums=augustus!AA$5)*(uren))","v":"00:00:00"},{"$f":"SUMPRODUCT((werknemers=augustus!$A10)*(datums=augustus!AB$5)*(uren))","v":"00:00:00"},{"$f":"SUMPRODUCT((werknemers=augustus!$A10)*(datums=augustus!AC$5)*(uren))","v":"00:00:00"},{"$f":"SUMPRODUCT((werknemers=augustus!$A10)*(datums=augustus!AD$5)*(uren))","v":"00:00:00"},{"$f":"SUMPRODUCT((werknemers=augustus!$A10)*(datums=augustus!AE$5)*(uren))","v":"00:00:00"},{"$f":"SUMPRODUCT((werknemers=augustus!$A10)*(datums=augustus!AF$5)*(uren))","v":"00:00:00"}]
[]
["CONTROLE",{"$f":"SUMPRODUCT((werknemers=augustus!$A12)*(datums=augustus!B$5)*(uren))","v":"00:00:00"},{"$f":"SUMPRODUCT((werknemers=augustus!$A12)*(datums=augustus!C$5)*(uren))","v":"00:00:00"},{"$f":"SUMPRODUCT((werknemers=augustus!$A12)*(datums=augustus!D$5)*(uren))","v":"00:00:00"},{"$f":"SUMPRODUCT((werknemers=augustus!$A12)*(datums=augustus!E$5)*(uren))","v":"00:00:00"},{"$f":"SUMPRODUCT((werknemers=augustus!$A12)*(datums=augustus!F$5)*(uren))","v":"00:00:00"},{"$f":"SUMPRODUCT((werknemers=augustus!$A12)*(datums=augustus!G$5)*(uren))","v":"00:00:00"},{"$f":"SUMPRODUCT((werknemers=augustus!$A12)*(datums=augustus!H$5)*(uren))","v":"00:00:00"},{"$f":"SUMPRODUCT((werknemers=augustus!$A12)*(datums=augustus!I$5)*(uren))","v":"00:00:00"},{"$f":"SUMPRODUCT((werknemers=augustus!$A12)*(datums=augustus!J$5)*(uren))","v":"00:00:00"},{"$f":"SUMPRODUCT((werknemers=augustus!$A12)*(datums=augustus!K$5)*(uren))","v":"00:00:00"},{"$f":"SUMPRODUCT((werknemers=augustus!$A12)*(datums=augustus!L$5)*(uren))","v":"00:00:00"},{"$f":"SUMPRODUCT((werknemers=augustus!$A12)*(datums=augustus!M$5)*(uren))","v":"00:00:00"},{"$f":"SUMPRODUCT((werknemers=augustus!$A12)*(datums=augustus!N$5)*(uren))","v":"00:00:00"},{"$f":"SUMPRODUCT((werknemers=augustus!$A12)*(datums=augustus!O$5)*(uren))","v":"00:00:00"},{"$f":"SUMPRODUCT((werknemers=augustus!$A12)*(datums=augustus!P$5)*(uren))","v":"00:00:00"},{"$f":"SUMPRODUCT((werknemers=augustus!$A12)*(datums=augustus!Q$5)*(uren))","v":"00:00:00"},{"$f":"SUMPRODUCT((werknemers=augustus!$A12)*(datums=augustus!R$5)*(uren))","v":"00:00:00"},{"$f":"SUMPRODUCT((werknemers=augustus!$A12)*(datums=augustus!S$5)*(uren))","v":"00:00:00"},{"$f":"SUMPRODUCT((werknemers=augustus!$A12)*(datums=augustus!T$5)*(uren))","v":"00:00:00"},{"$f":"SUMPRODUCT((werknemers=augustus!$A12)*(datums=augustus!U$5)*(uren))","v":"00:00:00"},{"$f":"SUMPRODUCT((werknemers=augustus!$A12)*(datums=augustus!V$5)*(uren))","v":"00:00:00"},{"$f":"SUMPRODUCT((werknemers=augustus!$A12)*(datums=augustus!W$5)*(uren))","v":"00:00:00"},{"$f":"SUMPRODUCT((werknemers=augustus!$A12)*(datums=augustus!X$5)*(uren))","v":"00:00:00"},{"$f":"SUMPRODUCT((werknemers=augustus!$A12)*(datums=augustus!Y$5)*(uren))","v":"00:00:00"},{"$f":"SUMPRODUCT((werknemers=augustus!$A12)*(datums=augustus!Z$5)*(uren))","v":"00:00:00"},{"$f":"SUMPRODUCT((werknemers=augustus!$A12)*(datums=augustus!AA$5)*(uren))","v":"00:00:00"},{"$f":"SUMPRODUCT((werknemers=augustus!$A12)*(datums=augustus!AB$5)*(uren))","v":"00:00:00"},{"$f":"SUMPRODUCT((werknemers=augustus!$A12)*(datums=augustus!AC$5)*(uren))","v":"00:00:00"},{"$f":"SUMPRODUCT((werknemers=augustus!$A12)*(datums=augustus!AD$5)*(uren))","v":"00:00:00"},{"$f":"SUMPRODUCT((werknemers=augustus!$A12)*(datums=augustus!AE$5)*(uren))","v":"00:00:00"},{"$f":"SUMPRODUCT((werknemers=augustus!$A12)*(datums=augustus!AF$5)*(uren))","v":"00:00:00"}]
[]
["CONTROLE",{"$f":"SUMPRODUCT((werknemers=augustus!$A14)*(datums=augustus!B$5)*(uren))","v":"00:00:00"},{"$f":"SUMPRODUCT((werknemers=augustus!$A14)*(datums=augustus!C$5)*(uren))","v":"00:00:00"},{"$f":"SUMPRODUCT((werknemers=augustus!$A14)*(datums=augustus!D$5)*(uren))","v":"00:00:00"},{"$f":"SUMPRODUCT((werknemers=augustus!$A14)*(datums=augustus!E$5)*(uren))","v":"00:00:00"},{"$f":"SUMPRODUCT((werknemers=augustus!$A14)*(datums=augustus!F$5)*(uren))","v":"00:00:00"},{"$f":"SUMPRODUCT((werknemers=augustus!$A14)*(datums=augustus!G$5)*(uren))","v":"00:00:00"},{"$f":"SUMPRODUCT((werknemers=augustus!$A14)*(datums=augustus!H$5)*(uren))","v":"00:00:00"},{"$f":"SUMPRODUCT((werknemers=augustus!$A14)*(datums=augustus!I$5)*(uren))","v":"00:00:00"},{"$f":"SUMPRODUCT((werknemers=augustus!$A14)*(datums=augustus!J$5)*(uren))","v":"00:00:00"},{"$f":"SUMPRODUCT((werknemers=augustus!$A14)*(datums=augustus!K$5)*(uren))","v":"00:00:00"},{"$f":"SUMPRODUCT((werknemers=augustus!$A14)*(datums=augustus!L$5)*(uren))","v":"00:00:00"},{"$f":"SUMPRODUCT((werknemers=augustus!$A14)*(datums=augustus!M$5)*(uren))","v":"00:00:00"},{"$f":"SUMPRODUCT((werknemers=augustus!$A14)*(datums=augustus!N$5)*(uren))","v":"00:00:00"},{"$f":"SUMPRODUCT((werknemers=augustus!$A14)*(datums=augustus!O$5)*(uren))","v":"00:00:00"},{"$f":"SUMPRODUCT((werknemers=augustus!$A14)*(datums=augustus!P$5)*(uren))","v":"00:00:00"},{"$f":"SUMPRODUCT((werknemers=augustus!$A14)*(datums=augustus!Q$5)*(uren))","v":"00:00:00"},{"$f":"SUMPRODUCT((werknemers=augustus!$A14)*(datums=augustus!R$5)*(uren))","v":"00:00:00"},{"$f":"SUMPRODUCT((werknemers=augustus!$A14)*(datums=augustus!S$5)*(uren))","v":"00:00:00"},{"$f":"SUMPRODUCT((werknemers=augustus!$A14)*(datums=augustus!T$5)*(uren))","v":"00:00:00"},{"$f":"SUMPRODUCT((werknemers=augustus!$A14)*(datums=augustus!U$5)*(uren))","v":"00:00:00"},{"$f":"SUMPRODUCT((werknemers=augustus!$A14)*(datums=augustus!V$5)*(uren))","v":"00:00:00"},{"$f":"SUMPRODUCT((werknemers=augustus!$A14)*(datums=augustus!W$5)*(uren))","v":"00:00:00"},{"$f":"SUMPRODUCT((werknemers=augustus!$A14)*(datums=augustus!X$5)*(uren))","v":"00:00:00"},{"$f":"SUMPRODUCT((werknemers=augustus!$A14)*(datums=augustus!Y$5)*(uren))","v":"00:00:00"},{"$f":"SUMPRODUCT((werknemers=augustus!$A14)*(datums=augustus!Z$5)*(uren))","v":"00:00:00"},{"$f":"SUMPRODUCT((werknemers=augustus!$A14)*(datums=augustus!AA$5)*(uren))","v":"00:00:00"},{"$f":"SUMPRODUCT((werknemers=augustus!$A14)*(datums=augustus!AB$5)*(uren))","v":"00:00:00"},{"$f":"SUMPRODUCT((werknemers=augustus!$A14)*(datums=augustus!AC$5)*(uren))","v":"00:00:00"},{"$f":"SUMPRODUCT((werknemers=augustus!$A14)*(datums=augustus!AD$5)*(uren))","v":"00:00:00"},{"$f":"SUMPRODUCT((werknemers=augustus!$A14)*(datums=augustus!AE$5)*(uren))","v":"00:00:00"},{"$f":"SUMPRODUCT((werknemers=augustus!$A14)*(datums=augustus!AF$5)*(uren))","v":"00:00:00"}]
[]
["CONTROLE",{"$f":"SUMPRODUCT((werknemers=augustus!$A16)*(datums=augustus!B$5)*(uren))","v":"00:00:00"},{"$f":"SUMPRODUCT((werknemers=augustus!$A16)*(datums=augustus!C$5)*(uren))","v":"00:00:00"},{"$f":"SUMPRODUCT((werknemers=augustus!$A16)*(datums=augustus!D$5)*(uren))","v":"00:00:00"},{"$f":"SUMPRODUCT((werknemers=augustus!$A16)*(datums=augustus!E$5)*(uren))","v":"00:00:00"},{"$f":"SUMPRODUCT((werknemers=augustus!$A16)*(datums=augustus!F$5)*(uren))","v":"00:00:00"},{"$f":"SUMPRODUCT((werknemers=augustus!$A16)*(datums=augustus!G$5)*(uren))","v":"00:00:00"},{"$f":"SUMPRODUCT((werknemers=augustus!$A16)*(datums=augustus!H$5)*(uren))","v":"00:00:00"},{"$f":"SUMPRODUCT((werknemers=augustus!$A16)*(datums=augustus!I$5)*(uren))","v":"00:00:00"},{"$f":"SUMPRODUCT((werknemers=augustus!$A16)*(datums=augustus!J$5)*(uren))","v":"00:00:00"},{"$f":"SUMPRODUCT((werknemers=augustus!$A16)*(datums=augustus!K$5)*(uren))","v":"00:00:00"},{"$f":"SUMPRODUCT((werknemers=augustus!$A16)*(datums=augustus!L$5)*(uren))","v":"00:00:00"},{"$f":"SUMPRODUCT((werknemers=augustus!$A16)*(datums=augustus!M$5)*(uren))","v":"00:00:00"},{"$f":"SUMPRODUCT((werknemers=augustus!$A16)*(datums=augustus!N$5)*(uren))","v":"00:00:00"},{"$f":"SUMPRODUCT((werknemers=augustus!$A16)*(datums=augustus!O$5)*(uren))","v":"00:00:00"},{"$f":"SUMPRODUCT((werknemers=augustus!$A16)*(datums=augustus!P$5)*(uren))","v":"00:00:00"},{"$f":"SUMPRODUCT((werknemers=augustus!$A16)*(datums=augustus!Q$5)*(uren))","v":"00:00:00"},{"$f":"SUMPRODUCT((werknemers=augustus!$A16)*(datums=augustus!R$5)*(uren))","v":"00:00:00"},{"$f":"SUMPRODUCT((werknemers=augustus!$A16)*(datums=augustus!S$5)*(uren))","v":"00:00:00"},{"$f":"SUMPRODUCT((werknemers=augustus!$A16)*(datums=augustus!T$5)*(uren))","v":"00:00:00"},{"$f":"SUMPRODUCT((werknemers=augustus!$A16)*(datums=augustus!U$5)*(uren))","v":"00:00:00"},{"$f":"SUMPRODUCT((werknemers=augustus!$A16)*(datums=augustus!V$5)*(uren))","v":"00:00:00"},{"$f":"SUMPRODUCT((werknemers=augustus!$A16)*(datums=augustus!W$5)*(uren))","v":"00:00:00"},{"$f":"SUMPRODUCT((werknemers=augustus!$A16)*(datums=augustus!X$5)*(uren))","v":"00:00:00"},{"$f":"SUMPRODUCT((werknemers=augustus!$A16)*(datums=augustus!Y$5)*(uren))","v":"00:00:00"},{"$f":"SUMPRODUCT((werknemers=augustus!$A16)*(datums=augustus!Z$5)*(uren))","v":"00:00:00"},{"$f":"SUMPRODUCT((werknemers=augustus!$A16)*(datums=augustus!AA$5)*(uren))","v":"00:00:00"},{"$f":"SUMPRODUCT((werknemers=augustus!$A16)*(datums=augustus!AB$5)*(uren))","v":"00:00:00"},{"$f":"SUMPRODUCT((werknemers=augustus!$A16)*(datums=augustus!AC$5)*(uren))","v":"00:00:00"},{"$f":"SUMPRODUCT((werknemers=augustus!$A16)*(datums=augustus!AD$5)*(uren))","v":"00:00:00"},{"$f":"SUMPRODUCT((werknemers=augustus!$A16)*(datums=augustus!AE$5)*(uren))","v":"00:00:00"},{"$f":"SUMPRODUCT((werknemers=augustus!$A16)*(datums=augustus!AF$5)*(uren))","v":"00:00:00"}]
[]
["CONTROLE",{"$f":"SUMPRODUCT((werknemers=augustus!$A18)*(datums=augustus!B$5)*(uren))","v":"00:00:00"},{"$f":"SUMPRODUCT((werknemers=augustus!$A18)*(datums=augustus!C$5)*(uren))","v":"00:00:00"},{"$f":"SUMPRODUCT((werknemers=augustus!$A18)*(datums=augustus!D$5)*(uren))","v":"00:00:00"},{"$f":"SUMPRODUCT((werknemers=augustus!$A18)*(datums=augustus!E$5)*(uren))","v":"00:00:00"},{"$f":"SUMPRODUCT((werknemers=augustus!$A18)*(datums=augustus!F$5)*(uren))","v":"00:00:00"},{"$f":"SUMPRODUCT((werknemers=augustus!$A18)*(datums=augustus!G$5)*(uren))","v":"00:00:00"},{"$f":"SUMPRODUCT((werknemers=augustus!$A18)*(datums=augustus!H$5)*(uren))","v":"00:00:00"},{"$f":"SUMPRODUCT((werknemers=augustus!$A18)*(datums=augustus!I$5)*(uren))","v":"00:00:00"},{"$f":"SUMPRODUCT((werknemers=augustus!$A18)*(datums=augustus!J$5)*(uren))","v":"00:00:00"},{"$f":"SUMPRODUCT((werknemers=augustus!$A18)*(datums=augustus!K$5)*(uren))","v":"00:00:00"},{"$f":"SUMPRODUCT((werknemers=augustus!$A18)*(datums=augustus!L$5)*(uren))","v":"00:00:00"},{"$f":"SUMPRODUCT((werknemers=augustus!$A18)*(datums=augustus!M$5)*(uren))","v":"00:00:00"},{"$f":"SUMPRODUCT((werknemers=augustus!$A18)*(datums=augustus!N$5)*(uren))","v":"00:00:00"},{"$f":"SUMPRODUCT((werknemers=augustus!$A18)*(datums=augustus!O$5)*(uren))","v":"00:00:00"},{"$f":"SUMPRODUCT((werknemers=augustus!$A18)*(datums=augustus!P$5)*(uren))","v":"00:00:00"},{"$f":"SUMPRODUCT((werknemers=augustus!$A18)*(datums=augustus!Q$5)*(uren))","v":"00:00:00"},{"$f":"SUMPRODUCT((werknemers=augustus!$A18)*(datums=augustus!R$5)*(uren))","v":"00:00:00"},{"$f":"SUMPRODUCT((werknemers=augustus!$A18)*(datums=augustus!S$5)*(uren))","v":"00:00:00"},{"$f":"SUMPRODUCT((werknemers=augustus!$A18)*(datums=augustus!T$5)*(uren))","v":"00:00:00"},{"$f":"SUMPRODUCT((werknemers=augustus!$A18)*(datums=augustus!U$5)*(uren))","v":"00:00:00"},{"$f":"SUMPRODUCT((werknemers=augustus!$A18)*(datums=augustus!V$5)*(uren))","v":"00:00:00"},{"$f":"SUMPRODUCT((werknemers=augustus!$A18)*(datums=augustus!W$5)*(uren))","v":"00:00:00"},{"$f":"SUMPRODUCT((werknemers=augustus!$A18)*(datums=augustus!X$5)*(uren))","v":"00:00:00"},{"$f":"SUMPRODUCT((werknemers=augustus!$A18)*(datums=augustus!Y$5)*(uren))","v":"00:00:00"},{"$f":"SUMPRODUCT((werknemers=augustus!$A18)*(datums=augustus!Z$5)*(uren))","v":"00:00:00"},{"$f":"SUMPRODUCT((werknemers=augustus!$A18)*(datums=augustus!AA$5)*(uren))","v":"00:00:00"},{"$f":"SUMPRODUCT((werknemers=augustus!$A18)*(datums=augustus!AB$5)*(uren))","v":"00:00:00"},{"$f":"SUMPRODUCT((werknemers=augustus!$A18)*(datums=augustus!AC$5)*(uren))","v":"00:00:00"},{"$f":"SUMPRODUCT((werknemers=augustus!$A18)*(datums=augustus!AD$5)*(uren))","v":"00:00:00"},{"$f":"SUMPRODUCT((werknemers=augustus!$A18)*(datums=augustus!AE$5)*(uren))","v":"00:00:00"},{"$f":"SUMPRODUCT((werknemers=augustus!$A18)*(datums=augustus!AF$5)*(uren))","v":"00:00:00"}]
[]
["CONTROLE",{"$f":"SUMPRODUCT((werknemers=augustus!$A20)*(datums=augustus!B$5)*(uren))","v":"00:00:00"},{"$f":"SUMPRODUCT((werknemers=augustus!$A20)*(datums=augustus!C$5)*(uren))","v":"00:00:00"},{"$f":"SUMPRODUCT((werknemers=augustus!$A20)*(datums=augustus!D$5)*(uren))","v":"00:00:00"},{"$f":"SUMPRODUCT((werknemers=augustus!$A20)*(datums=augustus!E$5)*(uren))","v":"00:00:00"},{"$f":"SUMPRODUCT((werknemers=augustus!$A20)*(datums=augustus!F$5)*(uren))","v":"00:00:00"},{"$f":"SUMPRODUCT((werknemers=augustus!$A20)*(datums=augustus!G$5)*(uren))","v":"00:00:00"},{"$f":"SUMPRODUCT((werknemers=augustus!$A20)*(datums=augustus!H$5)*(uren))","v":"00:00:00"},{"$f":"SUMPRODUCT((werknemers=augustus!$A20)*(datums=augustus!I$5)*(uren))","v":"00:00:00"},{"$f":"SUMPRODUCT((werknemers=augustus!$A20)*(datums=augustus!J$5)*(uren))","v":"00:00:00"},{"$f":"SUMPRODUCT((werknemers=augustus!$A20)*(datums=augustus!K$5)*(uren))","v":"00:00:00"},{"$f":"SUMPRODUCT((werknemers=augustus!$A20)*(datums=augustus!L$5)*(uren))","v":"00:00:00"},{"$f":"SUMPRODUCT((werknemers=augustus!$A20)*(datums=augustus!M$5)*(uren))","v":"00:00:00"},{"$f":"SUMPRODUCT((werknemers=augustus!$A20)*(datums=augustus!N$5)*(uren))","v":"00:00:00"},{"$f":"SUMPRODUCT((werknemers=augustus!$A20)*(datums=augustus!O$5)*(uren))","v":"00:00:00"},{"$f":"SUMPRODUCT((werknemers=augustus!$A20)*(datums=augustus!P$5)*(uren))","v":"00:00:00"},{"$f":"SUMPRODUCT((werknemers=augustus!$A20)*(datums=augustus!Q$5)*(uren))","v":"00:00:00"},{"$f":"SUMPRODUCT((werknemers=augustus!$A20)*(datums=augustus!R$5)*(uren))","v":"00:00:00"},{"$f":"SUMPRODUCT((werknemers=augustus!$A20)*(datums=augustus!S$5)*(uren))","v":"00:00:00"},{"$f":"SUMPRODUCT((werknemers=augustus!$A20)*(datums=augustus!T$5)*(uren))","v":"00:00:00"},{"$f":"SUMPRODUCT((werknemers=augustus!$A20)*(datums=augustus!U$5)*(uren))","v":"00:00:00"},{"$f":"SUMPRODUCT((werknemers=augustus!$A20)*(datums=augustus!V$5)*(uren))","v":"00:00:00"},{"$f":"SUMPRODUCT((werknemers=augustus!$A20)*(datums=augustus!W$5)*(uren))","v":"00:00:00"},{"$f":"SUMPRODUCT((werknemers=augustus!$A20)*(datums=augustus!X$5)*(uren))","v":"00:00:00"},{"$f":"SUMPRODUCT((werknemers=augustus!$A20)*(datums=augustus!Y$5)*(uren))","v":"00:00:00"},{"$f":"SUMPRODUCT((werknemers=augustus!$A20)*(datums=augustus!Z$5)*(uren))","v":"00:00:00"},{"$f":"SUMPRODUCT((werknemers=augustus!$A20)*(datums=augustus!AA$5)*(uren))","v":"00:00:00"},{"$f":"SUMPRODUCT((werknemers=augustus!$A20)*(datums=augustus!AB$5)*(uren))","v":"00:00:00"},{"$f":"SUMPRODUCT((werknemers=augustus!$A20)*(datums=augustus!AC$5)*(uren))","v":"00:00:00"},{"$f":"SUMPRODUCT((werknemers=augustus!$A20)*(datums=augustus!AD$5)*(uren))","v":"00:00:00"},{"$f":"SUMPRODUCT((werknemers=augustus!$A20)*(datums=augustus!AE$5)*(uren))","v":"00:00:00"},{"$f":"SUMPRODUCT((werknemers=augustus!$A20)*(datums=augustus!AF$5)*(uren))","v":"00:00:00"}]
[]
["CONTROLE",{"$f":"SUMPRODUCT((werknemers=augustus!$A22)*(datums=augustus!B$5)*(uren))","v":"00:00:00"},{"$f":"SUMPRODUCT((werknemers=augustus!$A22)*(datums=augustus!C$5)*(uren))","v":"00:00:00"},{"$f":"SUMPRODUCT((werknemers=augustus!$A22)*(datums=augustus!D$5)*(uren))","v":"00:00:00"},{"$f":"SUMPRODUCT((werknemers=augustus!$A22)*(datums=augustus!E$5)*(uren))","v":"00:00:00"},{"$f":"SUMPRODUCT((werknemers=augustus!$A22)*(datums=augustus!F$5)*(uren))","v":"00:00:00"},{"$f":"SUMPRODUCT((werknemers=augustus!$A22)*(datums=augustus!G$5)*(uren))","v":"00:00:00"},{"$f":"SUMPRODUCT((werknemers=augustus!$A22)*(datums=augustus!H$5)*(uren))","v":"00:00:00"},{"$f":"SUMPRODUCT((werknemers=augustus!$A22)*(datums=augustus!I$5)*(uren))","v":"00:00:00"},{"$f":"SUMPRODUCT((werknemers=augustus!$A22)*(datums=augustus!J$5)*(uren))","v":"00:00:00"},{"$f":"SUMPRODUCT((werknemers=augustus!$A22)*(datums=augustus!K$5)*(uren))","v":"00:00:00"},{"$f":"SUMPRODUCT((werknemers=augustus!$A22)*(datums=augustus!L$5)*(uren))","v":"00:00:00"},{"$f":"SUMPRODUCT((werknemers=augustus!$A22)*(datums=augustus!M$5)*(uren))","v":"00:00:00"},{"$f":"SUMPRODUCT((werknemers=augustus!$A22)*(datums=augustus!N$5)*(uren))","v":"00:00:00"},{"$f":"SUMPRODUCT((werknemers=augustus!$A22)*(datums=augustus!O$5)*(uren))","v":"00:00:00"},{"$f":"SUMPRODUCT((werknemers=augustus!$A22)*(datums=augustus!P$5)*(uren))","v":"00:00:00"},{"$f":"SUMPRODUCT((werknemers=augustus!$A22)*(datums=augustus!Q$5)*(uren))","v":"00:00:00"},{"$f":"SUMPRODUCT((werknemers=augustus!$A22)*(datums=augustus!R$5)*(uren))","v":"00:00:00"},{"$f":"SUMPRODUCT((werknemers=augustus!$A22)*(datums=augustus!S$5)*(uren))","v":"00:00:00"},{"$f":"SUMPRODUCT((werknemers=augustus!$A22)*(datums=augustus!T$5)*(uren))","v":"00:00:00"},{"$f":"SUMPRODUCT((werknemers=augustus!$A22)*(datums=augustus!U$5)*(uren))","v":"00:00:00"},{"$f":"SUMPRODUCT((werknemers=augustus!$A22)*(datums=augustus!V$5)*(uren))","v":"00:00:00"},{"$f":"SUMPRODUCT((werknemers=augustus!$A22)*(datums=augustus!W$5)*(uren))","v":"00:00:00"},{"$f":"SUMPRODUCT((werknemers=augustus!$A22)*(datums=augustus!X$5)*(uren))","v":"00:00:00"},{"$f":"SUMPRODUCT((werknemers=augustus!$A22)*(datums=augustus!Y$5)*(uren))","v":"00:00:00"},{"$f":"SUMPRODUCT((werknemers=augustus!$A22)*(datums=augustus!Z$5)*(uren))","v":"00:00:00"},{"$f":"SUMPRODUCT((werknemers=augustus!$A22)*(datums=augustus!AA$5)*(uren))","v":"00:00:00"},{"$f":"SUMPRODUCT((werknemers=augustus!$A22)*(datums=augustus!AB$5)*(uren))","v":"00:00:00"},{"$f":"SUMPRODUCT((werknemers=augustus!$A22)*(datums=augustus!AC$5)*(uren))","v":"00:00:00"},{"$f":"SUMPRODUCT((werknemers=augustus!$A22)*(datums=augustus!AD$5)*(uren))","v":"00:00:00"},{"$f":"SUMPRODUCT((werknemers=augustus!$A22)*(datums=augustus!AE$5)*(uren))","v":"00:00:00"},{"$f":"SUMPRODUCT((werknemers=augustus!$A22)*(datums=augustus!AF$5)*(uren))","v":"00:00:00"}]
[]
["CONTROLE",{"$f":"SUMPRODUCT((werknemers=augustus!$A24)*(datums=augustus!B$5)*(uren))","v":"00:00:00"},{"$f":"SUMPRODUCT((werknemers=augustus!$A24)*(datums=augustus!C$5)*(uren))","v":"00:00:00"},{"$f":"SUMPRODUCT((werknemers=augustus!$A24)*(datums=augustus!D$5)*(uren))","v":"00:00:00"},{"$f":"SUMPRODUCT((werknemers=augustus!$A24)*(datums=augustus!E$5)*(uren))","v":"00:00:00"},{"$f":"SUMPRODUCT((werknemers=augustus!$A24)*(datums=augustus!F$5)*(uren))","v":"00:00:00"},{"$f":"SUMPRODUCT((werknemers=augustus!$A24)*(datums=augustus!G$5)*(uren))","v":"00:00:00"},{"$f":"SUMPRODUCT((werknemers=augustus!$A24)*(datums=augustus!H$5)*(uren))","v":"00:00:00"},{"$f":"SUMPRODUCT((werknemers=augustus!$A24)*(datums=augustus!I$5)*(uren))","v":"00:00:00"},{"$f":"SUMPRODUCT((werknemers=augustus!$A24)*(datums=augustus!J$5)*(uren))","v":"00:00:00"},{"$f":"SUMPRODUCT((werknemers=augustus!$A24)*(datums=augustus!K$5)*(uren))","v":"00:00:00"},{"$f":"SUMPRODUCT((werknemers=augustus!$A24)*(datums=augustus!L$5)*(uren))","v":"00:00:00"},{"$f":"SUMPRODUCT((werknemers=augustus!$A24)*(datums=augustus!M$5)*(uren))","v":"00:00:00"},{"$f":"SUMPRODUCT((werknemers=augustus!$A24)*(datums=augustus!N$5)*(uren))","v":"00:00:00"},{"$f":"SUMPRODUCT((werknemers=augustus!$A24)*(datums=augustus!O$5)*(uren))","v":"00:00:00"},{"$f":"SUMPRODUCT((werknemers=augustus!$A24)*(datums=augustus!P$5)*(uren))","v":"00:00:00"},{"$f":"SUMPRODUCT((werknemers=augustus!$A24)*(datums=augustus!Q$5)*(uren))","v":"00:00:00"},{"$f":"SUMPRODUCT((werknemers=augustus!$A24)*(datums=augustus!R$5)*(uren))","v":"00:00:00"},{"$f":"SUMPRODUCT((werknemers=augustus!$A24)*(datums=augustus!S$5)*(uren))","v":"00:00:00"},{"$f":"SUMPRODUCT((werknemers=augustus!$A24)*(datums=augustus!T$5)*(uren))","v":"00:00:00"},{"$f":"SUMPRODUCT((werknemers=augustus!$A24)*(datums=augustus!U$5)*(uren))","v":"00:00:00"},{"$f":"SUMPRODUCT((werknemers=augustus!$A24)*(datums=augustus!V$5)*(uren))","v":"00:00:00"},{"$f":"SUMPRODUCT((werknemers=augustus!$A24)*(datums=augustus!W$5)*(uren))","v":"00:00:00"},{"$f":"SUMPRODUCT((werknemers=augustus!$A24)*(datums=augustus!X$5)*(uren))","v":"00:00:00"},{"$f":"SUMPRODUCT((werknemers=augustus!$A24)*(datums=augustus!Y$5)*(uren))","v":"00:00:00"},{"$f":"SUMPRODUCT((werknemers=augustus!$A24)*(datums=augustus!Z$5)*(uren))","v":"00:00:00"},{"$f":"SUMPRODUCT((werknemers=augustus!$A24)*(datums=augustus!AA$5)*(uren))","v":"00:00:00"},{"$f":"SUMPRODUCT((werknemers=augustus!$A24)*(datums=augustus!AB$5)*(uren))","v":"00:00:00"},{"$f":"SUMPRODUCT((werknemers=augustus!$A24)*(datums=augustus!AC$5)*(uren))","v":"00:00:00"},{"$f":"SUMPRODUCT((werknemers=augustus!$A24)*(datums=augustus!AD$5)*(uren))","v":"00:00:00"},{"$f":"SUMPRODUCT((werknemers=augustus!$A24)*(datums=augustus!AE$5)*(uren))","v":"00:00:00"},{"$f":"SUMPRODUCT((werknemers=augustus!$A24)*(datums=augustus!AF$5)*(uren))","v":"00:00:00"}]
[]
["CONTROLE",{"$f":"SUMPRODUCT((werknemers=augustus!$A26)*(datums=augustus!B$5)*(uren))","v":"00:00:00"},{"$f":"SUMPRODUCT((werknemers=augustus!$A26)*(datums=augustus!C$5)*(uren))","v":"00:00:00"},{"$f":"SUMPRODUCT((werknemers=augustus!$A26)*(datums=augustus!D$5)*(uren))","v":"00:00:00"},{"$f":"SUMPRODUCT((werknemers=augustus!$A26)*(datums=augustus!E$5)*(uren))","v":"00:00:00"},{"$f":"SUMPRODUCT((werknemers=augustus!$A26)*(datums=augustus!F$5)*(uren))","v":"00:00:00"},{"$f":"SUMPRODUCT((werknemers=augustus!$A26)*(datums=augustus!G$5)*(uren))","v":"00:00:00"},{"$f":"SUMPRODUCT((werknemers=augustus!$A26)*(datums=augustus!H$5)*(uren))","v":"00:00:00"},{"$f":"SUMPRODUCT((werknemers=augustus!$A26)*(datums=augustus!I$5)*(uren))","v":"00:00:00"},{"$f":"SUMPRODUCT((werknemers=augustus!$A26)*(datums=augustus!J$5)*(uren))","v":"00:00:00"},{"$f":"SUMPRODUCT((werknemers=augustus!$A26)*(datums=augustus!K$5)*(uren))","v":"00:00:00"},{"$f":"SUMPRODUCT((werknemers=augustus!$A26)*(datums=augustus!L$5)*(uren))","v":"00:00:00"},{"$f":"SUMPRODUCT((werknemers=augustus!$A26)*(datums=augustus!M$5)*(uren))","v":"00:00:00"},{"$f":"SUMPRODUCT((werknemers=augustus!$A26)*(datums=augustus!N$5)*(uren))","v":"00:00:00"},{"$f":"SUMPRODUCT((werknemers=augustus!$A26)*(datums=augustus!O$5)*(uren))","v":"00:00:00"},{"$f":"SUMPRODUCT((werknemers=augustus!$A26)*(datums=augustus!P$5)*(uren))","v":"00:00:00"},{"$f":"SUMPRODUCT((werknemers=augustus!$A26)*(datums=augustus!Q$5)*(uren))","v":"00:00:00"},{"$f":"SUMPRODUCT((werknemers=augustus!$A26)*(datums=augustus!R$5)*(uren))","v":"00:00:00"},{"$f":"SUMPRODUCT((werknemers=augustus!$A26)*(datums=augustus!S$5)*(uren))","v":"00:00:00"},{"$f":"SUMPRODUCT((werknemers=augustus!$A26)*(datums=augustus!T$5)*(uren))","v":"00:00:00"},{"$f":"SUMPRODUCT((werknemers=augustus!$A26)*(datums=augustus!U$5)*(uren))","v":"00:00:00"},{"$f":"SUMPRODUCT((werknemers=augustus!$A26)*(datums=augustus!V$5)*(uren))","v":"00:00:00"},{"$f":"SUMPRODUCT((werknemers=augustus!$A26)*(datums=augustus!W$5)*(uren))","v":"00:00:00"},{"$f":"SUMPRODUCT((werknemers=augustus!$A26)*(datums=augustus!X$5)*(uren))","v":"00:00:00"},{"$f":"SUMPRODUCT((werknemers=augustus!$A26)*(datums=augustus!Y$5)*(uren))","v":"00:00:00"},{"$f":"SUMPRODUCT((werknemers=augustus!$A26)*(datums=augustus!Z$5)*(uren))","v":"00:00:00"},{"$f":"SUMPRODUCT((werknemers=augustus!$A26)*(datums=augustus!AA$5)*(uren))","v":"00:00:00"},{"$f":"SUMPRODUCT((werknemers=augustus!$A26)*(datums=augustus!AB$5)*(uren))","v":"00:00:00"},{"$f":"SUMPRODUCT((werknemers=augustus!$A26)*(datums=augustus!AC$5)*(uren))","v":"00:00:00"},{"$f":"SUMPRODUCT((werknemers=augustus!$A26)*(datums=augustus!AD$5)*(uren))","v":"00:00:00"},{"$f":"SUMPRODUCT((werknemers=augustus!$A26)*(datums=augustus!AE$5)*(uren))","v":"00:00:00"},{"$f":"SUMPRODUCT((werknemers=augustus!$A26)*(datums=augustus!AF$5)*(uren))","v":"00:00:00"}]
[]
["CONTROLE",{"$f":"SUMPRODUCT((werknemers=augustus!$A28)*(datums=augustus!B$5)*(uren))","v":"00:00:00"},{"$f":"SUMPRODUCT((werknemers=augustus!$A28)*(datums=augustus!C$5)*(uren))","v":"00:00:00"},{"$f":"SUMPRODUCT((werknemers=augustus!$A28)*(datums=augustus!D$5)*(uren))","v":"00:00:00"},{"$f":"SUMPRODUCT((werknemers=augustus!$A28)*(datums=augustus!E$5)*(uren))","v":"00:00:00"},{"$f":"SUMPRODUCT((werknemers=augustus!$A28)*(datums=augustus!F$5)*(uren))","v":"00:00:00"},{"$f":"SUMPRODUCT((werknemers=augustus!$A28)*(datums=augustus!G$5)*(uren))","v":"00:00:00"},{"$f":"SUMPRODUCT((werknemers=augustus!$A28)*(datums=augustus!H$5)*(uren))","v":"00:00:00"},{"$f":"SUMPRODUCT((werknemers=augustus!$A28)*(datums=augustus!I$5)*(uren))","v":"00:00:00"},{"$f":"SUMPRODUCT((werknemers=augustus!$A28)*(datums=augustus!J$5)*(uren))","v":"00:00:00"},{"$f":"SUMPRODUCT((werknemers=augustus!$A28)*(datums=augustus!K$5)*(uren))","v":"00:00:00"},{"$f":"SUMPRODUCT((werknemers=augustus!$A28)*(datums=augustus!L$5)*(uren))","v":"00:00:00"},{"$f":"SUMPRODUCT((werknemers=augustus!$A28)*(datums=augustus!M$5)*(uren))","v":"00:00:00"},{"$f":"SUMPRODUCT((werknemers=augustus!$A28)*(datums=augustus!N$5)*(uren))","v":"00:00:00"},{"$f":"SUMPRODUCT((werknemers=augustus!$A28)*(datums=augustus!O$5)*(uren))","v":"00:00:00"},{"$f":"SUMPRODUCT((werknemers=augustus!$A28)*(datums=augustus!P$5)*(uren))","v":"00:00:00"},{"$f":"SUMPRODUCT((werknemers=augustus!$A28)*(datums=augustus!Q$5)*(uren))","v":"00:00:00"},{"$f":"SUMPRODUCT((werknemers=augustus!$A28)*(datums=augustus!R$5)*(uren))","v":"00:00:00"},{"$f":"SUMPRODUCT((werknemers=augustus!$A28)*(datums=augustus!S$5)*(uren))","v":"00:00:00"},{"$f":"SUMPRODUCT((werknemers=augustus!$A28)*(datums=augustus!T$5)*(uren))","v":"00:00:00"},{"$f":"SUMPRODUCT((werknemers=augustus!$A28)*(datums=augustus!U$5)*(uren))","v":"00:00:00"},{"$f":"SUMPRODUCT((werknemers=augustus!$A28)*(datums=augustus!V$5)*(uren))","v":"00:00:00"},{"$f":"SUMPRODUCT((werknemers=augustus!$A28)*(datums=augustus!W$5)*(uren))","v":"00:00:00"},{"$f":"SUMPRODUCT((werknemers=augustus!$A28)*(datums=augustus!X$5)*(uren))","v":"00:00:00"},{"$f":"SUMPRODUCT((werknemers=augustus!$A28)*(datums=augustus!Y$5)*(uren))","v":"00:00:00"},{"$f":"SUMPRODUCT((werknemers=augustus!$A28)*(datums=augustus!Z$5)*(uren))","v":"00:00:00"},{"$f":"SUMPRODUCT((werknemers=augustus!$A28)*(datums=augustus!AA$5)*(uren))","v":"00:00:00"},{"$f":"SUMPRODUCT((werknemers=augustus!$A28)*(datums=augustus!AB$5)*(uren))","v":"00:00:00"},{"$f":"SUMPRODUCT((werknemers=augustus!$A28)*(datums=augustus!AC$5)*(uren))","v":"00:00:00"},{"$f":"SUMPRODUCT((werknemers=augustus!$A28)*(datums=augustus!AD$5)*(uren))","v":"00:00:00"},{"$f":"SUMPRODUCT((werknemers=augustus!$A28)*(datums=augustus!AE$5)*(uren))","v":"00:00:00"},{"$f":"SUMPRODUCT((werknemers=augustus!$A28)*(datums=augustus!AF$5)*(uren))","v":"00:00:00"}]
[]
["CONTROLE",{"$f":"SUMPRODUCT((werknemers=augustus!$A30)*(datums=augustus!B$5)*(uren))","v":"00:00:00"},{"$f":"SUMPRODUCT((werknemers=augustus!$A30)*(datums=augustus!C$5)*(uren))","v":"00:00:00"},{"$f":"SUMPRODUCT((werknemers=augustus!$A30)*(datums=augustus!D$5)*(uren))","v":"00:00:00"},{"$f":"SUMPRODUCT((werknemers=augustus!$A30)*(datums=augustus!E$5)*(uren))","v":"00:00:00"},{"$f":"SUMPRODUCT((werknemers=augustus!$A30)*(datums=augustus!F$5)*(uren))","v":"00:00:00"},{"$f":"SUMPRODUCT((werknemers=augustus!$A30)*(datums=augustus!G$5)*(uren))","v":"00:00:00"},{"$f":"SUMPRODUCT((werknemers=augustus!$A30)*(datums=augustus!H$5)*(uren))","v":"00:00:00"},{"$f":"SUMPRODUCT((werknemers=augustus!$A30)*(datums=augustus!I$5)*(uren))","v":"00:00:00"},{"$f":"SUMPRODUCT((werknemers=augustus!$A30)*(datums=augustus!J$5)*(uren))","v":"00:00:00"},{"$f":"SUMPRODUCT((werknemers=augustus!$A30)*(datums=augustus!K$5)*(uren))","v":"00:00:00"},{"$f":"SUMPRODUCT((werknemers=augustus!$A30)*(datums=augustus!L$5)*(uren))","v":"00:00:00"},{"$f":"SUMPRODUCT((werknemers=augustus!$A30)*(datums=augustus!M$5)*(uren))","v":"00:00:00"},{"$f":"SUMPRODUCT((werknemers=augustus!$A30)*(datums=augustus!N$5)*(uren))","v":"00:00:00"},{"$f":"SUMPRODUCT((werknemers=augustus!$A30)*(datums=augustus!O$5)*(uren))","v":"00:00:00"},{"$f":"SUMPRODUCT((werknemers=augustus!$A30)*(datums=augustus!P$5)*(uren))","v":"00:00:00"},{"$f":"SUMPRODUCT((werknemers=augustus!$A30)*(datums=augustus!Q$5)*(uren))","v":"00:00:00"},{"$f":"SUMPRODUCT((werknemers=augustus!$A30)*(datums=augustus!R$5)*(uren))","v":"00:00:00"},{"$f":"SUMPRODUCT((werknemers=augustus!$A30)*(datums=augustus!S$5)*(uren))","v":"00:00:00"},{"$f":"SUMPRODUCT((werknemers=augustus!$A30)*(datums=augustus!T$5)*(uren))","v":"00:00:00"},{"$f":"SUMPRODUCT((werknemers=augustus!$A30)*(datums=augustus!U$5)*(uren))","v":"00:00:00"},{"$f":"SUMPRODUCT((werknemers=augustus!$A30)*(datums=augustus!V$5)*(uren))","v":"00:00:00"},{"$f":"SUMPRODUCT((werknemers=augustus!$A30)*(datums=augustus!W$5)*(uren))","v":"00:00:00"},{"$f":"SUMPRODUCT((werknemers=augustus!$A30)*(datums=augustus!X$5)*(uren))","v":"00:00:00"},{"$f":"SUMPRODUCT((werknemers=augustus!$A30)*(datums=augustus!Y$5)*(uren))","v":"00:00:00"},{"$f":"SUMPRODUCT((werknemers=augustus!$A30)*(datums=augustus!Z$5)*(uren))","v":"00:00:00"},{"$f":"SUMPRODUCT((werknemers=augustus!$A30)*(datums=augustus!AA$5)*(uren))","v":"00:00:00"},{"$f":"SUMPRODUCT((werknemers=augustus!$A30)*(datums=augustus!AB$5)*(uren))","v":"00:00:00"},{"$f":"SUMPRODUCT((werknemers=augustus!$A30)*(datums=augustus!AC$5)*(uren))","v":"00:00:00"},{"$f":"SUMPRODUCT((werknemers=augustus!$A30)*(datums=augustus!AD$5)*(uren))","v":"00:00:00"},{"$f":"SUMPRODUCT((werknemers=augustus!$A30)*(datums=augustus!AE$5)*(uren))","v":"00:00:00"},{"$f":"SUMPRODUCT((werknemers=augustus!$A30)*(datums=augustus!AF$5)*(uren))","v":"00:00:00"}]
[]
["CONTROLE",{"$f":"SUMPRODUCT((werknemers=augustus!$A32)*(datums=augustus!B$5)*(uren))","v":"00:00:00"},{"$f":"SUMPRODUCT((werknemers=augustus!$A32)*(datums=augustus!C$5)*(uren))","v":"00:00:00"},{"$f":"SUMPRODUCT((werknemers=augustus!$A32)*(datums=augustus!D$5)*(uren))","v":"00:00:00"},{"$f":"SUMPRODUCT((werknemers=augustus!$A32)*(datums=augustus!E$5)*(uren))","v":"00:00:00"},{"$f":"SUMPRODUCT((werknemers=augustus!$A32)*(datums=augustus!F$5)*(uren))","v":"00:00:00"},{"$f":"SUMPRODUCT((werknemers=augustus!$A32)*(datums=augustus!G$5)*(uren))","v":"00:00:00"},{"$f":"SUMPRODUCT((werknemers=augustus!$A32)*(datums=augustus!H$5)*(uren))","v":"00:00:00"},{"$f":"SUMPRODUCT((werknemers=augustus!$A32)*(datums=augustus!I$5)*(uren))","v":"00:00:00"},{"$f":"SUMPRODUCT((werknemers=augustus!$A32)*(datums=augustus!J$5)*(uren))","v":"00:00:00"},{"$f":"SUMPRODUCT((werknemers=augustus!$A32)*(datums=augustus!K$5)*(uren))","v":"00:00:00"},{"$f":"SUMPRODUCT((werknemers=augustus!$A32)*(datums=augustus!L$5)*(uren))","v":"00:00:00"},{"$f":"SUMPRODUCT((werknemers=augustus!$A32)*(datums=augustus!M$5)*(uren))","v":"00:00:00"},{"$f":"SUMPRODUCT((werknemers=augustus!$A32)*(datums=augustus!N$5)*(uren))","v":"00:00:00"},{"$f":"SUMPRODUCT((werknemers=augustus!$A32)*(datums=augustus!O$5)*(uren))","v":"00:00:00"},{"$f":"SUMPRODUCT((werknemers=augustus!$A32)*(datums=augustus!P$5)*(uren))","v":"00:00:00"},{"$f":"SUMPRODUCT((werknemers=augustus!$A32)*(datums=augustus!Q$5)*(uren))","v":"00:00:00"},{"$f":"SUMPRODUCT((werknemers=augustus!$A32)*(datums=augustus!R$5)*(uren))","v":"00:00:00"},{"$f":"SUMPRODUCT((werknemers=augustus!$A32)*(datums=augustus!S$5)*(uren))","v":"00:00:00"},{"$f":"SUMPRODUCT((werknemers=augustus!$A32)*(datums=augustus!T$5)*(uren))","v":"00:00:00"},{"$f":"SUMPRODUCT((werknemers=augustus!$A32)*(datums=augustus!U$5)*(uren))","v":"00:00:00"},{"$f":"SUMPRODUCT((werknemers=augustus!$A32)*(datums=augustus!V$5)*(uren))","v":"00:00:00"},{"$f":"SUMPRODUCT((werknemers=augustus!$A32)*(datums=augustus!W$5)*(uren))","v":"00:00:00"},{"$f":"SUMPRODUCT((werknemers=augustus!$A32)*(datums=augustus!X$5)*(uren))","v":"00:00:00"},{"$f":"SUMPRODUCT((werknemers=augustus!$A32)*(datums=augustus!Y$5)*(uren))","v":"00:00:00"},{"$f":"SUMPRODUCT((werknemers=augustus!$A32)*(datums=augustus!Z$5)*(uren))","v":"00:00:00"},{"$f":"SUMPRODUCT((werknemers=augustus!$A32)*(datums=augustus!AA$5)*(uren))","v":"00:00:00"},{"$f":"SUMPRODUCT((werknemers=augustus!$A32)*(datums=augustus!AB$5)*(uren))","v":"00:00:00"},{"$f":"SUMPRODUCT((werknemers=augustus!$A32)*(datums=augustus!AC$5)*(uren))","v":"00:00:00"},{"$f":"SUMPRODUCT((werknemers=augustus!$A32)*(datums=augustus!AD$5)*(uren))","v":"00:00:00"},{"$f":"SUMPRODUCT((werknemers=augustus!$A32)*(datums=augustus!AE$5)*(uren))","v":"00:00:00"},{"$f":"SUMPRODUCT((werknemers=augustus!$A32)*(datums=augustus!AF$5)*(uren))","v":"00:00:00"}]
[]
["CONTROLE",{"$f":"SUMPRODUCT((werknemers=augustus!$A34)*(datums=augustus!B$5)*(uren))","v":"00:00:00"},{"$f":"SUMPRODUCT((werknemers=augustus!$A34)*(datums=augustus!C$5)*(uren))","v":"00:00:00"},{"$f":"SUMPRODUCT((werknemers=augustus!$A34)*(datums=augustus!D$5)*(uren))","v":"00:00:00"},{"$f":"SUMPRODUCT((werknemers=augustus!$A34)*(datums=augustus!E$5)*(uren))","v":"00:00:00"},{"$f":"SUMPRODUCT((werknemers=augustus!$A34)*(datums=augustus!F$5)*(uren))","v":"00:00:00"},{"$f":"SUMPRODUCT((werknemers=augustus!$A34)*(datums=augustus!G$5)*(uren))","v":"00:00:00"},{"$f":"SUMPRODUCT((werknemers=augustus!$A34)*(datums=augustus!H$5)*(uren))","v":"00:00:00"},{"$f":"SUMPRODUCT((werknemers=augustus!$A34)*(datums=augustus!I$5)*(uren))","v":"00:00:00"},{"$f":"SUMPRODUCT((werknemers=augustus!$A34)*(datums=augustus!J$5)*(uren))","v":"00:00:00"},{"$f":"SUMPRODUCT((werknemers=augustus!$A34)*(datums=augustus!K$5)*(uren))","v":"00:00:00"},{"$f":"SUMPRODUCT((werknemers=augustus!$A34)*(datums=augustus!L$5)*(uren))","v":"00:00:00"},{"$f":"SUMPRODUCT((werknemers=augustus!$A34)*(datums=augustus!M$5)*(uren))","v":"00:00:00"},{"$f":"SUMPRODUCT((werknemers=augustus!$A34)*(datums=augustus!N$5)*(uren))","v":"00:00:00"},{"$f":"SUMPRODUCT((werknemers=augustus!$A34)*(datums=augustus!O$5)*(uren))","v":"00:00:00"},{"$f":"SUMPRODUCT((werknemers=augustus!$A34)*(datums=augustus!P$5)*(uren))","v":"00:00:00"},{"$f":"SUMPRODUCT((werknemers=augustus!$A34)*(datums=augustus!Q$5)*(uren))","v":"00:00:00"},{"$f":"SUMPRODUCT((werknemers=augustus!$A34)*(datums=augustus!R$5)*(uren))","v":"00:00:00"},{"$f":"SUMPRODUCT((werknemers=augustus!$A34)*(datums=augustus!S$5)*(uren))","v":"00:00:00"},{"$f":"SUMPRODUCT((werknemers=augustus!$A34)*(datums=augustus!T$5)*(uren))","v":"00:00:00"},{"$f":"SUMPRODUCT((werknemers=augustus!$A34)*(datums=augustus!U$5)*(uren))","v":"00:00:00"},{"$f":"SUMPRODUCT((werknemers=augustus!$A34)*(datums=augustus!V$5)*(uren))","v":"00:00:00"},{"$f":"SUMPRODUCT((werknemers=augustus!$A34)*(datums=augustus!W$5)*(uren))","v":"00:00:00"},{"$f":"SUMPRODUCT((werknemers=augustus!$A34)*(datums=augustus!X$5)*(uren))","v":"00:00:00"},{"$f":"SUMPRODUCT((werknemers=augustus!$A34)*(datums=augustus!Y$5)*(uren))","v":"00:00:00"},{"$f":"SUMPRODUCT((werknemers=augustus!$A34)*(datums=augustus!Z$5)*(uren))","v":"00:00:00"},{"$f":"SUMPRODUCT((werknemers=augustus!$A34)*(datums=augustus!AA$5)*(uren))","v":"00:00:00"},{"$f":"SUMPRODUCT((werknemers=augustus!$A34)*(datums=augustus!AB$5)*(uren))","v":"00:00:00"},{"$f":"SUMPRODUCT((werknemers=augustus!$A34)*(datums=augustus!AC$5)*(uren))","v":"00:00:00"},{"$f":"SUMPRODUCT((werknemers=augustus!$A34)*(datums=augustus!AD$5)*(uren))","v":"00:00:00"},{"$f":"SUMPRODUCT((werknemers=augustus!$A34)*(datums=augustus!AE$5)*(uren))","v":"00:00:00"},{"$f":"SUMPRODUCT((werknemers=augustus!$A34)*(datums=augustus!AF$5)*(uren))","v":"00:00:00"}]
[]
["CONTROLE",{"$f":"SUMPRODUCT((werknemers=augustus!$A36)*(datums=augustus!B$5)*(uren))","v":"00:00:00"},{"$f":"SUMPRODUCT((werknemers=augustus!$A36)*(datums=augustus!C$5)*(uren))","v":"00:00:00"},{"$f":"SUMPRODUCT((werknemers=augustus!$A36)*(datums=augustus!D$5)*(uren))","v":"00:00:00"},{"$f":"SUMPRODUCT((werknemers=augustus!$A36)*(datums=augustus!E$5)*(uren))","v":"00:00:00"},{"$f":"SUMPRODUCT((werknemers=augustus!$A36)*(datums=augustus!F$5)*(uren))","v":"00:00:00"},{"$f":"SUMPRODUCT((werknemers=augustus!$A36)*(datums=augustus!G$5)*(uren))","v":"00:00:00"},{"$f":"SUMPRODUCT((werknemers=augustus!$A36)*(datums=augustus!H$5)*(uren))","v":"00:00:00"},{"$f":"SUMPRODUCT((werknemers=augustus!$A36)*(datums=augustus!I$5)*(uren))","v":"00:00:00"},{"$f":"SUMPRODUCT((werknemers=augustus!$A36)*(datums=augustus!J$5)*(uren))","v":"00:00:00"},{"$f":"SUMPRODUCT((werknemers=augustus!$A36)*(datums=augustus!K$5)*(uren))","v":"00:00:00"},{"$f":"SUMPRODUCT((werknemers=augustus!$A36)*(datums=augustus!L$5)*(uren))","v":"00:00:00"},{"$f":"SUMPRODUCT((werknemers=augustus!$A36)*(datums=augustus!M$5)*(uren))","v":"00:00:00"},{"$f":"SUMPRODUCT((werknemers=augustus!$A36)*(datums=augustus!N$5)*(uren))","v":"00:00:00"},{"$f":"SUMPRODUCT((werknemers=augustus!$A36)*(datums=augustus!O$5)*(uren))","v":"00:00:00"},{"$f":"SUMPRODUCT((werknemers=augustus!$A36)*(datums=augustus!P$5)*(uren))","v":"00:00:00"},{"$f":"SUMPRODUCT((werknemers=augustus!$A36)*(datums=augustus!Q$5)*(uren))","v":"00:00:00"},{"$f":"SUMPRODUCT((werknemers=augustus!$A36)*(datums=augustus!R$5)*(uren))","v":"00:00:00"},{"$f":"SUMPRODUCT((werknemers=augustus!$A36)*(datums=augustus!S$5)*(uren))","v":"00:00:00"},{"$f":"SUMPRODUCT((werknemers=augustus!$A36)*(datums=augustus!T$5)*(uren))","v":"00:00:00"},{"$f":"SUMPRODUCT((werknemers=augustus!$A36)*(datums=augustus!U$5)*(uren))","v":"00:00:00"},{"$f":"SUMPRODUCT((werknemers=augustus!$A36)*(datums=augustus!V$5)*(uren))","v":"00:00:00"},{"$f":"SUMPRODUCT((werknemers=augustus!$A36)*(datums=augustus!W$5)*(uren))","v":"00:00:00"},{"$f":"SUMPRODUCT((werknemers=augustus!$A36)*(datums=augustus!X$5)*(uren))","v":"00:00:00"},{"$f":"SUMPRODUCT((werknemers=augustus!$A36)*(datums=augustus!Y$5)*(uren))","v":"00:00:00"},{"$f":"SUMPRODUCT((werknemers=augustus!$A36)*(datums=augustus!Z$5)*(uren))","v":"00:00:00"},{"$f":"SUMPRODUCT((werknemers=augustus!$A36)*(datums=augustus!AA$5)*(uren))","v":"00:00:00"},{"$f":"SUMPRODUCT((werknemers=augustus!$A36)*(datums=augustus!AB$5)*(uren))","v":"00:00:00"},{"$f":"SUMPRODUCT((werknemers=augustus!$A36)*(datums=augustus!AC$5)*(uren))","v":"00:00:00"},{"$f":"SUMPRODUCT((werknemers=augustus!$A36)*(datums=augustus!AD$5)*(uren))","v":"00:00:00"},{"$f":"SUMPRODUCT((werknemers=augustus!$A36)*(datums=augustus!AE$5)*(uren))","v":"00:00:00"},{"$f":"SUMPRODUCT((werknemers=augustus!$A36)*(datums=augustus!AF$5)*(uren))","v":"00:00:00"}]
[]
["CONTROLE",{"$f":"SUMPRODUCT((werknemers=augustus!$A38)*(datums=augustus!B$5)*(uren))","v":"00:00:00"},{"$f":"SUMPRODUCT((werknemers=augustus!$A38)*(datums=augustus!C$5)*(uren))","v":"00:00:00"},{"$f":"SUMPRODUCT((werknemers=augustus!$A38)*(datums=augustus!D$5)*(uren))","v":"00:00:00"},{"$f":"SUMPRODUCT((werknemers=augustus!$A38)*(datums=augustus!E$5)*(uren))","v":"00:00:00"},{"$f":"SUMPRODUCT((werknemers=augustus!$A38)*(datums=augustus!F$5)*(uren))","v":"00:00:00"},{"$f":"SUMPRODUCT((werknemers=augustus!$A38)*(datums=augustus!G$5)*(uren))","v":"00:00:00"},{"$f":"SUMPRODUCT((werknemers=augustus!$A38)*(datums=augustus!H$5)*(uren))","v":"00:00:00"},{"$f":"SUMPRODUCT((werknemers=augustus!$A38)*(datums=augustus!I$5)*(uren))","v":"00:00:00"},{"$f":"SUMPRODUCT((werknemers=augustus!$A38)*(datums=augustus!J$5)*(uren))","v":"00:00:00"},{"$f":"SUMPRODUCT((werknemers=augustus!$A38)*(datums=augustus!K$5)*(uren))","v":"00:00:00"},{"$f":"SUMPRODUCT((werknemers=augustus!$A38)*(datums=augustus!L$5)*(uren))","v":"00:00:00"},{"$f":"SUMPRODUCT((werknemers=augustus!$A38)*(datums=augustus!M$5)*(uren))","v":"00:00:00"},{"$f":"SUMPRODUCT((werknemers=augustus!$A38)*(datums=augustus!N$5)*(uren))","v":"00:00:00"},{"$f":"SUMPRODUCT((werknemers=augustus!$A38)*(datums=augustus!O$5)*(uren))","v":"00:00:00"},{"$f":"SUMPRODUCT((werknemers=augustus!$A38)*(datums=augustus!P$5)*(uren))","v":"00:00:00"},{"$f":"SUMPRODUCT((werknemers=augustus!$A38)*(datums=augustus!Q$5)*(uren))","v":"00:00:00"},{"$f":"SUMPRODUCT((werknemers=augustus!$A38)*(datums=augustus!R$5)*(uren))","v":"00:00:00"},{"$f":"SUMPRODUCT((werknemers=augustus!$A38)*(datums=augustus!S$5)*(uren))","v":"00:00:00"},{"$f":"SUMPRODUCT((werknemers=augustus!$A38)*(datums=augustus!T$5)*(uren))","v":"00:00:00"},{"$f":"SUMPRODUCT((werknemers=augustus!$A38)*(datums=augustus!U$5)*(uren))","v":"00:00:00"},{"$f":"SUMPRODUCT((werknemers=augustus!$A38)*(datums=augustus!V$5)*(uren))","v":"00:00:00"},{"$f":"SUMPRODUCT((werknemers=augustus!$A38)*(datums=augustus!W$5)*(uren))","v":"00:00:00"},{"$f":"SUMPRODUCT((werknemers=augustus!$A38)*(datums=augustus!X$5)*(uren))","v":"00:00:00"},{"$f":"SUMPRODUCT((werknemers=augustus!$A38)*(datums=augustus!Y$5)*(uren))","v":"00:00:00"},{"$f":"SUMPRODUCT((werknemers=augustus!$A38)*(datums=augustus!Z$5)*(uren))","v":"00:00:00"},{"$f":"SUMPRODUCT((werknemers=augustus!$A38)*(datums=augustus!AA$5)*(uren))","v":"00:00:00"},{"$f":"SUMPRODUCT((werknemers=augustus!$A38)*(datums=augustus!AB$5)*(uren))","v":"00:00:00"},{"$f":"SUMPRODUCT((werknemers=augustus!$A38)*(datums=augustus!AC$5)*(uren))","v":"00:00:00"},{"$f":"SUMPRODUCT((werknemers=augustus!$A38)*(datums=augustus!AD$5)*(uren))","v":"00:00:00"},{"$f":"SUMPRODUCT((werknemers=augustus!$A38)*(datums=augustus!AE$5)*(uren))","v":"00:00:00"},{"$f":"SUMPRODUCT((werknemers=augustus!$A38)*(datums=augustus!AF$5)*(uren))","v":"00:00:00"}]
[]
["CONTROLE",{"$f":"SUMPRODUCT((werknemers=augustus!$A40)*(datums=augustus!B$5)*(uren))","v":"00:00:00"},{"$f":"SUMPRODUCT((werknemers=augustus!$A40)*(datums=augustus!C$5)*(uren))","v":"00:00:00"},{"$f":"SUMPRODUCT((werknemers=augustus!$A40)*(datums=augustus!D$5)*(uren))","v":"00:00:00"},{"$f":"SUMPRODUCT((werknemers=augustus!$A40)*(datums=augustus!E$5)*(uren))","v":"00:00:00"},{"$f":"SUMPRODUCT((werknemers=augustus!$A40)*(datums=augustus!F$5)*(uren))","v":"00:00:00"},{"$f":"SUMPRODUCT((werknemers=augustus!$A40)*(datums=augustus!G$5)*(uren))","v":"00:00:00"},{"$f":"SUMPRODUCT((werknemers=augustus!$A40)*(datums=augustus!H$5)*(uren))","v":"00:00:00"},{"$f":"SUMPRODUCT((werknemers=augustus!$A40)*(datums=augustus!I$5)*(uren))","v":"00:00:00"},{"$f":"SUMPRODUCT((werknemers=augustus!$A40)*(datums=augustus!J$5)*(uren))","v":"00:00:00"},{"$f":"SUMPRODUCT((werknemers=augustus!$A40)*(datums=augustus!K$5)*(uren))","v":"00:00:00"},{"$f":"SUMPRODUCT((werknemers=augustus!$A40)*(datums=augustus!L$5)*(uren))","v":"00:00:00"},{"$f":"SUMPRODUCT((werknemers=augustus!$A40)*(datums=augustus!M$5)*(uren))","v":"00:00:00"},{"$f":"SUMPRODUCT((werknemers=augustus!$A40)*(datums=augustus!N$5)*(uren))","v":"00:00:00"},{"$f":"SUMPRODUCT((werknemers=augustus!$A40)*(datums=augustus!O$5)*(uren))","v":"00:00:00"},{"$f":"SUMPRODUCT((werknemers=augustus!$A40)*(datums=augustus!P$5)*(uren))","v":"00:00:00"},{"$f":"SUMPRODUCT((werknemers=augustus!$A40)*(datums=augustus!Q$5)*(uren))","v":"00:00:00"},{"$f":"SUMPRODUCT((werknemers=augustus!$A40)*(datums=augustus!R$5)*(uren))","v":"00:00:00"},{"$f":"SUMPRODUCT((werknemers=augustus!$A40)*(datums=augustus!S$5)*(uren))","v":"00:00:00"},{"$f":"SUMPRODUCT((werknemers=augustus!$A40)*(datums=augustus!T$5)*(uren))","v":"00:00:00"},{"$f":"SUMPRODUCT((werknemers=augustus!$A40)*(datums=augustus!U$5)*(uren))","v":"00:00:00"},{"$f":"SUMPRODUCT((werknemers=augustus!$A40)*(datums=augustus!V$5)*(uren))","v":"00:00:00"},{"$f":"SUMPRODUCT((werknemers=augustus!$A40)*(datums=augustus!W$5)*(uren))","v":"00:00:00"},{"$f":"SUMPRODUCT((werknemers=augustus!$A40)*(datums=augustus!X$5)*(uren))","v":"00:00:00"},{"$f":"SUMPRODUCT((werknemers=augustus!$A40)*(datums=augustus!Y$5)*(uren))","v":"00:00:00"},{"$f":"SUMPRODUCT((werknemers=augustus!$A40)*(datums=augustus!Z$5)*(uren))","v":"00:00:00"},{"$f":"SUMPRODUCT((werknemers=augustus!$A40)*(datums=augustus!AA$5)*(uren))","v":"00:00:00"},{"$f":"SUMPRODUCT((werknemers=augustus!$A40)*(datums=augustus!AB$5)*(uren))","v":"00:00:00"},{"$f":"SUMPRODUCT((werknemers=augustus!$A40)*(datums=augustus!AC$5)*(uren))","v":"00:00:00"},{"$f":"SUMPRODUCT((werknemers=augustus!$A40)*(datums=augustus!AD$5)*(uren))","v":"00:00:00"},{"$f":"SUMPRODUCT((werknemers=augustus!$A40)*(datums=augustus!AE$5)*(uren))","v":"00:00:00"},{"$f":"SUMPRODUCT((werknemers=augustus!$A40)*(datums=augustus!AF$5)*(uren))","v":"00:00:00"}]
[]
["CONTROLE",{"$f":"SUMPRODUCT((werknemers=augustus!$A42)*(datums=augustus!B$5)*(uren))","v":"00:00:00"},{"$f":"SUMPRODUCT((werknemers=augustus!$A42)*(datums=augustus!C$5)*(uren))","v":"00:00:00"},{"$f":"SUMPRODUCT((werknemers=augustus!$A42)*(datums=augustus!D$5)*(uren))","v":"00:00:00"},{"$f":"SUMPRODUCT((werknemers=augustus!$A42)*(datums=augustus!E$5)*(uren))","v":"00:00:00"},{"$f":"SUMPRODUCT((werknemers=augustus!$A42)*(datums=augustus!F$5)*(uren))","v":"00:00:00"},{"$f":"SUMPRODUCT((werknemers=augustus!$A42)*(datums=augustus!G$5)*(uren))","v":"00:00:00"},{"$f":"SUMPRODUCT((werknemers=augustus!$A42)*(datums=augustus!H$5)*(uren))","v":"00:00:00"},{"$f":"SUMPRODUCT((werknemers=augustus!$A42)*(datums=augustus!I$5)*(uren))","v":"00:00:00"},{"$f":"SUMPRODUCT((werknemers=augustus!$A42)*(datums=augustus!J$5)*(uren))","v":"00:00:00"},{"$f":"SUMPRODUCT((werknemers=augustus!$A42)*(datums=augustus!K$5)*(uren))","v":"00:00:00"},{"$f":"SUMPRODUCT((werknemers=augustus!$A42)*(datums=augustus!L$5)*(uren))","v":"00:00:00"},{"$f":"SUMPRODUCT((werknemers=augustus!$A42)*(datums=augustus!M$5)*(uren))","v":"00:00:00"},{"$f":"SUMPRODUCT((werknemers=augustus!$A42)*(datums=augustus!N$5)*(uren))","v":"00:00:00"},{"$f":"SUMPRODUCT((werknemers=augustus!$A42)*(datums=augustus!O$5)*(uren))","v":"00:00:00"},{"$f":"SUMPRODUCT((werknemers=augustus!$A42)*(datums=augustus!P$5)*(uren))","v":"00:00:00"},{"$f":"SUMPRODUCT((werknemers=augustus!$A42)*(datums=augustus!Q$5)*(uren))","v":"00:00:00"},{"$f":"SUMPRODUCT((werknemers=augustus!$A42)*(datums=augustus!R$5)*(uren))","v":"00:00:00"},{"$f":"SUMPRODUCT((werknemers=augustus!$A42)*(datums=augustus!S$5)*(uren))","v":"00:00:00"},{"$f":"SUMPRODUCT((werknemers=augustus!$A42)*(datums=augustus!T$5)*(uren))","v":"00:00:00"},{"$f":"SUMPRODUCT((werknemers=augustus!$A42)*(datums=augustus!U$5)*(uren))","v":"00:00:00"},{"$f":"SUMPRODUCT((werknemers=augustus!$A42)*(datums=augustus!V$5)*(uren))","v":"00:00:00"},{"$f":"SUMPRODUCT((werknemers=augustus!$A42)*(datums=augustus!W$5)*(uren))","v":"00:00:00"},{"$f":"SUMPRODUCT((werknemers=augustus!$A42)*(datums=augustus!X$5)*(uren))","v":"00:00:00"},{"$f":"SUMPRODUCT((werknemers=augustus!$A42)*(datums=augustus!Y$5)*(uren))","v":"00:00:00"},{"$f":"SUMPRODUCT((werknemers=augustus!$A42)*(datums=augustus!Z$5)*(uren))","v":"00:00:00"},{"$f":"SUMPRODUCT((werknemers=augustus!$A42)*(datums=augustus!AA$5)*(uren))","v":"00:00:00"},{"$f":"SUMPRODUCT((werknemers=augustus!$A42)*(datums=augustus!AB$5)*(uren))","v":"00:00:00"},{"$f":"SUMPRODUCT((werknemers=augustus!$A42)*(datums=augustus!AC$5)*(uren))","v":"00:00:00"},{"$f":"SUMPRODUCT((werknemers=augustus!$A42)*(datums=augustus!AD$5)*(uren))","v":"00:00:00"},{"$f":"SUMPRODUCT((werknemers=augustus!$A42)*(datums=augustus!AE$5)*(uren))","v":"00:00:00"},{"$f":"SUMPRODUCT((werknemers=augustus!$A42)*(datums=augustus!AF$5)*(uren))","v":"00:00:00"}]
[]
["CONTROLE",{"$f":"SUMPRODUCT((werknemers=augustus!$A44)*(datums=augustus!B$5)*(uren))","v":"00:00:00"},{"$f":"SUMPRODUCT((werknemers=augustus!$A44)*(datums=augustus!C$5)*(uren))","v":"00:00:00"},{"$f":"SUMPRODUCT((werknemers=augustus!$A44)*(datums=augustus!D$5)*(uren))","v":"00:00:00"},{"$f":"SUMPRODUCT((werknemers=augustus!$A44)*(datums=augustus!E$5)*(uren))","v":"00:00:00"},{"$f":"SUMPRODUCT((werknemers=augustus!$A44)*(datums=augustus!F$5)*(uren))","v":"00:00:00"},{"$f":"SUMPRODUCT((werknemers=augustus!$A44)*(datums=augustus!G$5)*(uren))","v":"00:00:00"},{"$f":"SUMPRODUCT((werknemers=augustus!$A44)*(datums=augustus!H$5)*(uren))","v":"00:00:00"},{"$f":"SUMPRODUCT((werknemers=augustus!$A44)*(datums=augustus!I$5)*(uren))","v":"00:00:00"},{"$f":"SUMPRODUCT((werknemers=augustus!$A44)*(datums=augustus!J$5)*(uren))","v":"00:00:00"},{"$f":"SUMPRODUCT((werknemers=augustus!$A44)*(datums=augustus!K$5)*(uren))","v":"00:00:00"},{"$f":"SUMPRODUCT((werknemers=augustus!$A44)*(datums=augustus!L$5)*(uren))","v":"00:00:00"},{"$f":"SUMPRODUCT((werknemers=augustus!$A44)*(datums=augustus!M$5)*(uren))","v":"00:00:00"},{"$f":"SUMPRODUCT((werknemers=augustus!$A44)*(datums=augustus!N$5)*(uren))","v":"00:00:00"},{"$f":"SUMPRODUCT((werknemers=augustus!$A44)*(datums=augustus!O$5)*(uren))","v":"00:00:00"},{"$f":"SUMPRODUCT((werknemers=augustus!$A44)*(datums=augustus!P$5)*(uren))","v":"00:00:00"},{"$f":"SUMPRODUCT((werknemers=augustus!$A44)*(datums=augustus!Q$5)*(uren))","v":"00:00:00"},{"$f":"SUMPRODUCT((werknemers=augustus!$A44)*(datums=augustus!R$5)*(uren))","v":"00:00:00"},{"$f":"SUMPRODUCT((werknemers=augustus!$A44)*(datums=augustus!S$5)*(uren))","v":"00:00:00"},{"$f":"SUMPRODUCT((werknemers=augustus!$A44)*(datums=augustus!T$5)*(uren))","v":"00:00:00"},{"$f":"SUMPRODUCT((werknemers=augustus!$A44)*(datums=augustus!U$5)*(uren))","v":"00:00:00"},{"$f":"SUMPRODUCT((werknemers=augustus!$A44)*(datums=augustus!V$5)*(uren))","v":"00:00:00"},{"$f":"SUMPRODUCT((werknemers=augustus!$A44)*(datums=augustus!W$5)*(uren))","v":"00:00:00"},{"$f":"SUMPRODUCT((werknemers=augustus!$A44)*(datums=augustus!X$5)*(uren))","v":"00:00:00"},{"$f":"SUMPRODUCT((werknemers=augustus!$A44)*(datums=augustus!Y$5)*(uren))","v":"00:00:00"},{"$f":"SUMPRODUCT((werknemers=augustus!$A44)*(datums=augustus!Z$5)*(uren))","v":"00:00:00"},{"$f":"SUMPRODUCT((werknemers=augustus!$A44)*(datums=augustus!AA$5)*(uren))","v":"00:00:00"},{"$f":"SUMPRODUCT((werknemers=augustus!$A44)*(datums=augustus!AB$5)*(uren))","v":"00:00:00"},{"$f":"SUMPRODUCT((werknemers=augustus!$A44)*(datums=augustus!AC$5)*(uren))","v":"00:00:00"},{"$f":"SUMPRODUCT((werknemers=augustus!$A44)*(datums=augustus!AD$5)*(uren))","v":"00:00:00"},{"$f":"SUMPRODUCT((werknemers=augustus!$A44)*(datums=augustus!AE$5)*(uren))","v":"00:00:00"},{"$f":"SUMPRODUCT((werknemers=augustus!$A44)*(datums=augustus!AF$5)*(uren))","v":"00:00:00"}]

{"sheet":"september","index":10,"n_rows":45,"n_cols":31,"rows_kept":45,"cut":false,"hidden":false,"merged":[[3,0,4,0],[1,1,1,3],[1,5,1,7],[1,9,1,11]]}
[]
[null,"verlof (V)",null,null,null,"ziek (Z)",null,null,null,"feestdag (F)"]
[]
[{"$f":"YEAR(B5)","v":2018},{"$f":"WEEKDAY(B5)","v":"1900-01-07"},{"$f":"WEEKDAY(C5)","v":"1900-01-01"},"1900-01-02","1900-01-03","1900-01-04","1900-01-05","1900-01-06","1900-01-07","1900-01-01","1900-01-02","1900-01-03","1900-01-04","1900-01-05","1900-01-06","1900-01-07","1900-01-01","1900-01-02","1900-01-03","1900-01-04","1900-01-05","1900-01-06","1900-01-07","1900-01-01","1900-01-02","1900-01-03","1900-01-04","1900-01-05","1900-01-06","1900-01-07","1900-01-01"]
[null,"2018-09-01","2018-09-02","2018-09-03","2018-09-04","2018-09-05","2018-09-06","2018-09-07","2018-09-08","2018-09-09","2018-09-10","2018-09-11","2018-09-12","2018-09-13","2018-09-14","2018-09-15","2018-09-16","2018-09-17","2018-09-18","2018-09-19","2018-09-20","2018-09-21","2018-09-22","2018-09-23","2018-09-24","2018-09-25","2018-09-26","2018-09-27","2018-09-28","2018-09-29","2018-09-30"]
[]
["CONTROLE",{"$f":"SUMPRODUCT((werknemers=september!$A6)*(datums=september!B$5)*(uren))","v":"00:00:00"},{"$f":"SUMPRODUCT((werknemers=september!$A6)*(datums=september!C$5)*(uren))","v":"00:00:00"},{"$f":"SUMPRODUCT((werknemers=september!$A6)*(datums=september!D$5)*(uren))","v":"00:00:00"},{"$f":"SUMPRODUCT((werknemers=september!$A6)*(datums=september!E$5)*(uren))","v":"00:00:00"},{"$f":"SUMPRODUCT((werknemers=september!$A6)*(datums=september!F$5)*(uren))","v":"00:00:00"},{"$f":"SUMPRODUCT((werknemers=september!$A6)*(datums=september!G$5)*(uren))","v":"00:00:00"},{"$f":"SUMPRODUCT((werknemers=september!$A6)*(datums=september!H$5)*(uren))","v":"00:00:00"},{"$f":"SUMPRODUCT((werknemers=september!$A6)*(datums=september!I$5)*(uren))","v":"00:00:00"},{"$f":"SUMPRODUCT((werknemers=september!$A6)*(datums=september!J$5)*(uren))","v":"00:00:00"},{"$f":"SUMPRODUCT((werknemers=september!$A6)*(datums=september!K$5)*(uren))","v":"00:00:00"},{"$f":"SUMPRODUCT((werknemers=september!$A6)*(datums=september!L$5)*(uren))","v":"00:00:00"},{"$f":"SUMPRODUCT((werknemers=september!$A6)*(datums=september!M$5)*(uren))","v":"00:00:00"},{"$f":"SUMPRODUCT((werknemers=september!$A6)*(datums=september!N$5)*(uren))","v":"00:00:00"},{"$f":"SUMPRODUCT((werknemers=september!$A6)*(datums=september!O$5)*(uren))","v":"00:00:00"},{"$f":"SUMPRODUCT((werknemers=september!$A6)*(datums=september!P$5)*(uren))","v":"00:00:00"},{"$f":"SUMPRODUCT((werknemers=september!$A6)*(datums=september!Q$5)*(uren))","v":"00:00:00"},{"$f":"SUMPRODUCT((werknemers=september!$A6)*(datums=september!R$5)*(uren))","v":"00:00:00"},{"$f":"SUMPRODUCT((werknemers=september!$A6)*(datums=september!S$5)*(uren))","v":"00:00:00"},{"$f":"SUMPRODUCT((werknemers=september!$A6)*(datums=september!T$5)*(uren))","v":"00:00:00"},{"$f":"SUMPRODUCT((werknemers=september!$A6)*(datums=september!U$5)*(uren))","v":"00:00:00"},{"$f":"SUMPRODUCT((werknemers=september!$A6)*(datums=september!V$5)*(uren))","v":"00:00:00"},{"$f":"SUMPRODUCT((werknemers=september!$A6)*(datums=september!W$5)*(uren))","v":"00:00:00"},{"$f":"SUMPRODUCT((werknemers=september!$A6)*(datums=september!X$5)*(uren))","v":"00:00:00"},{"$f":"SUMPRODUCT((werknemers=september!$A6)*(datums=september!Y$5)*(uren))","v":"00:00:00"},{"$f":"SUMPRODUCT((werknemers=september!$A6)*(datums=september!Z$5)*(uren))","v":"00:00:00"},{"$f":"SUMPRODUCT((werknemers=september!$A6)*(datums=september!AA$5)*(uren))","v":"00:00:00"},{"$f":"SUMPRODUCT((werknemers=september!$A6)*(datums=september!AB$5)*(uren))","v":"00:00:00"},{"$f":"SUMPRODUCT((werknemers=september!$A6)*(datums=september!AC$5)*(uren))","v":"00:00:00"},{"$f":"SUMPRODUCT((werknemers=september!$A6)*(datums=september!AD$5)*(uren))","v":"00:00:00"},{"$f":"SUMPRODUCT((werknemers=september!$A6)*(datums=september!AE$5)*(uren))","v":"00:00:00"}]
[]
["CONTROLE",{"$f":"SUMPRODUCT((werknemers=september!$A8)*(datums=september!B$5)*(uren))","v":"00:00:00"},{"$f":"SUMPRODUCT((werknemers=september!$A8)*(datums=september!C$5)*(uren))","v":"00:00:00"},{"$f":"SUMPRODUCT((werknemers=september!$A8)*(datums=september!D$5)*(uren))","v":"00:00:00"},{"$f":"SUMPRODUCT((werknemers=september!$A8)*(datums=september!E$5)*(uren))","v":"00:00:00"},{"$f":"SUMPRODUCT((werknemers=september!$A8)*(datums=september!F$5)*(uren))","v":"00:00:00"},{"$f":"SUMPRODUCT((werknemers=september!$A8)*(datums=september!G$5)*(uren))","v":"00:00:00"},{"$f":"SUMPRODUCT((werknemers=september!$A8)*(datums=september!H$5)*(uren))","v":"00:00:00"},{"$f":"SUMPRODUCT((werknemers=september!$A8)*(datums=september!I$5)*(uren))","v":"00:00:00"},{"$f":"SUMPRODUCT((werknemers=september!$A8)*(datums=september!J$5)*(uren))","v":"00:00:00"},{"$f":"SUMPRODUCT((werknemers=september!$A8)*(datums=september!K$5)*(uren))","v":"00:00:00"},{"$f":"SUMPRODUCT((werknemers=september!$A8)*(datums=september!L$5)*(uren))","v":"00:00:00"},{"$f":"SUMPRODUCT((werknemers=september!$A8)*(datums=september!M$5)*(uren))","v":"00:00:00"},{"$f":"SUMPRODUCT((werknemers=september!$A8)*(datums=september!N$5)*(uren))","v":"00:00:00"},{"$f":"SUMPRODUCT((werknemers=september!$A8)*(datums=september!O$5)*(uren))","v":"00:00:00"},{"$f":"SUMPRODUCT((werknemers=september!$A8)*(datums=september!P$5)*(uren))","v":"00:00:00"},{"$f":"SUMPRODUCT((werknemers=september!$A8)*(datums=september!Q$5)*(uren))","v":"00:00:00"},{"$f":"SUMPRODUCT((werknemers=september!$A8)*(datums=september!R$5)*(uren))","v":"00:00:00"},{"$f":"SUMPRODUCT((werknemers=september!$A8)*(datums=september!S$5)*(uren))","v":"00:00:00"},{"$f":"SUMPRODUCT((werknemers=september!$A8)*(datums=september!T$5)*(uren))","v":"00:00:00"},{"$f":"SUMPRODUCT((werknemers=september!$A8)*(datums=september!U$5)*(uren))","v":"00:00:00"},{"$f":"SUMPRODUCT((werknemers=september!$A8)*(datums=september!V$5)*(uren))","v":"00:00:00"},{"$f":"SUMPRODUCT((werknemers=september!$A8)*(datums=september!W$5)*(uren))","v":"00:00:00"},{"$f":"SUMPRODUCT((werknemers=september!$A8)*(datums=september!X$5)*(uren))","v":"00:00:00"},{"$f":"SUMPRODUCT((werknemers=september!$A8)*(datums=september!Y$5)*(uren))","v":"00:00:00"},{"$f":"SUMPRODUCT((werknemers=september!$A8)*(datums=september!Z$5)*(uren))","v":"00:00:00"},{"$f":"SUMPRODUCT((werknemers=september!$A8)*(datums=september!AA$5)*(uren))","v":"00:00:00"},{"$f":"SUMPRODUCT((werknemers=september!$A8)*(datums=september!AB$5)*(uren))","v":"00:00:00"},{"$f":"SUMPRODUCT((werknemers=september!$A8)*(datums=september!AC$5)*(uren))","v":"00:00:00"},{"$f":"SUMPRODUCT((werknemers=september!$A8)*(datums=september!AD$5)*(uren))","v":"00:00:00"},{"$f":"SUMPRODUCT((werknemers=september!$A8)*(datums=september!AE$5)*(uren))","v":"00:00:00"}]
[]
["CONTROLE",{"$f":"SUMPRODUCT((werknemers=september!$A10)*(datums=september!B$5)*(uren))","v":"00:00:00"},{"$f":"SUMPRODUCT((werknemers=september!$A10)*(datums=september!C$5)*(uren))","v":"00:00:00"},{"$f":"SUMPRODUCT((werknemers=september!$A10)*(datums=september!D$5)*(uren))","v":"00:00:00"},{"$f":"SUMPRODUCT((werknemers=september!$A10)*(datums=september!E$5)*(uren))","v":"00:00:00"},{"$f":"SUMPRODUCT((werknemers=september!$A10)*(datums=september!F$5)*(uren))","v":"00:00:00"},{"$f":"SUMPRODUCT((werknemers=september!$A10)*(datums=september!G$5)*(uren))","v":"00:00:00"},{"$f":"SUMPRODUCT((werknemers=september!$A10)*(datums=september!H$5)*(uren))","v":"00:00:00"},{"$f":"SUMPRODUCT((werknemers=september!$A10)*(datums=september!I$5)*(uren))","v":"00:00:00"},{"$f":"SUMPRODUCT((werknemers=september!$A10)*(datums=september!J$5)*(uren))","v":"00:00:00"},{"$f":"SUMPRODUCT((werknemers=september!$A10)*(datums=september!K$5)*(uren))","v":"00:00:00"},{"$f":"SUMPRODUCT((werknemers=september!$A10)*(datums=september!L$5)*(uren))","v":"00:00:00"},{"$f":"SUMPRODUCT((werknemers=september!$A10)*(datums=september!M$5)*(uren))","v":"00:00:00"},{"$f":"SUMPRODUCT((werknemers=september!$A10)*(datums=september!N$5)*(uren))","v":"00:00:00"},{"$f":"SUMPRODUCT((werknemers=september!$A10)*(datums=september!O$5)*(uren))","v":"00:00:00"},{"$f":"SUMPRODUCT((werknemers=september!$A10)*(datums=september!P$5)*(uren))","v":"00:00:00"},{"$f":"SUMPRODUCT((werknemers=september!$A10)*(datums=september!Q$5)*(uren))","v":"00:00:00"},{"$f":"SUMPRODUCT((werknemers=september!$A10)*(datums=september!R$5)*(uren))","v":"00:00:00"},{"$f":"SUMPRODUCT((werknemers=september!$A10)*(datums=september!S$5)*(uren))","v":"00:00:00"},{"$f":"SUMPRODUCT((werknemers=september!$A10)*(datums=september!T$5)*(uren))","v":"00:00:00"},{"$f":"SUMPRODUCT((werknemers=september!$A10)*(datums=september!U$5)*(uren))","v":"00:00:00"},{"$f":"SUMPRODUCT((werknemers=september!$A10)*(datums=september!V$5)*(uren))","v":"00:00:00"},{"$f":"SUMPRODUCT((werknemers=september!$A10)*(datums=september!W$5)*(uren))","v":"00:00:00"},{"$f":"SUMPRODUCT((werknemers=september!$A10)*(datums=september!X$5)*(uren))","v":"00:00:00"},{"$f":"SUMPRODUCT((werknemers=september!$A10)*(datums=september!Y$5)*(uren))","v":"00:00:00"},{"$f":"SUMPRODUCT((werknemers=september!$A10)*(datums=september!Z$5)*(uren))","v":"00:00:00"},{"$f":"SUMPRODUCT((werknemers=september!$A10)*(datums=september!AA$5)*(uren))","v":"00:00:00"},{"$f":"SUMPRODUCT((werknemers=september!$A10)*(datums=september!AB$5)*(uren))","v":"00:00:00"},{"$f":"SUMPRODUCT((werknemers=september!$A10)*(datums=september!AC$5)*(uren))","v":"00:00:00"},{"$f":"SUMPRODUCT((werknemers=september!$A10)*(datums=september!AD$5)*(uren))","v":"00:00:00"},{"$f":"SUMPRODUCT((werknemers=september!$A10)*(datums=september!AE$5)*(uren))","v":"00:00:00"}]
[]
["CONTROLE",{"$f":"SUMPRODUCT((werknemers=september!$A12)*(datums=september!B$5)*(uren))","v":"00:00:00"},{"$f":"SUMPRODUCT((werknemers=september!$A12)*(datums=september!C$5)*(uren))","v":"00:00:00"},{"$f":"SUMPRODUCT((werknemers=september!$A12)*(datums=september!D$5)*(uren))","v":"00:00:00"},{"$f":"SUMPRODUCT((werknemers=september!$A12)*(datums=september!E$5)*(uren))","v":"00:00:00"},{"$f":"SUMPRODUCT((werknemers=september!$A12)*(datums=september!F$5)*(uren))","v":"00:00:00"},{"$f":"SUMPRODUCT((werknemers=september!$A12)*(datums=september!G$5)*(uren))","v":"00:00:00"},{"$f":"SUMPRODUCT((werknemers=september!$A12)*(datums=september!H$5)*(uren))","v":"00:00:00"},{"$f":"SUMPRODUCT((werknemers=september!$A12)*(datums=september!I$5)*(uren))","v":"00:00:00"},{"$f":"SUMPRODUCT((werknemers=september!$A12)*(datums=september!J$5)*(uren))","v":"00:00:00"},{"$f":"SUMPRODUCT((werknemers=september!$A12)*(datums=september!K$5)*(uren))","v":"00:00:00"},{"$f":"SUMPRODUCT((werknemers=september!$A12)*(datums=september!L$5)*(uren))","v":"00:00:00"},{"$f":"SUMPRODUCT((werknemers=september!$A12)*(datums=september!M$5)*(uren))","v":"00:00:00"},{"$f":"SUMPRODUCT((werknemers=september!$A12)*(datums=september!N$5)*(uren))","v":"00:00:00"},{"$f":"SUMPRODUCT((werknemers=september!$A12)*(datums=september!O$5)*(uren))","v":"00:00:00"},{"$f":"SUMPRODUCT((werknemers=september!$A12)*(datums=september!P$5)*(uren))","v":"00:00:00"},{"$f":"SUMPRODUCT((werknemers=september!$A12)*(datums=september!Q$5)*(uren))","v":"00:00:00"},{"$f":"SUMPRODUCT((werknemers=september!$A12)*(datums=september!R$5)*(uren))","v":"00:00:00"},{"$f":"SUMPRODUCT((werknemers=september!$A12)*(datums=september!S$5)*(uren))","v":"00:00:00"},{"$f":"SUMPRODUCT((werknemers=september!$A12)*(datums=september!T$5)*(uren))","v":"00:00:00"},{"$f":"SUMPRODUCT((werknemers=september!$A12)*(datums=september!U$5)*(uren))","v":"00:00:00"},{"$f":"SUMPRODUCT((werknemers=september!$A12)*(datums=september!V$5)*(uren))","v":"00:00:00"},{"$f":"SUMPRODUCT((werknemers=september!$A12)*(datums=september!W$5)*(uren))","v":"00:00:00"},{"$f":"SUMPRODUCT((werknemers=september!$A12)*(datums=september!X$5)*(uren))","v":"00:00:00"},{"$f":"SUMPRODUCT((werknemers=september!$A12)*(datums=september!Y$5)*(uren))","v":"00:00:00"},{"$f":"SUMPRODUCT((werknemers=september!$A12)*(datums=september!Z$5)*(uren))","v":"00:00:00"},{"$f":"SUMPRODUCT((werknemers=september!$A12)*(datums=september!AA$5)*(uren))","v":"00:00:00"},{"$f":"SUMPRODUCT((werknemers=september!$A12)*(datums=september!AB$5)*(uren))","v":"00:00:00"},{"$f":"SUMPRODUCT((werknemers=september!$A12)*(datums=september!AC$5)*(uren))","v":"00:00:00"},{"$f":"SUMPRODUCT((werknemers=september!$A12)*(datums=september!AD$5)*(uren))","v":"00:00:00"},{"$f":"SUMPRODUCT((werknemers=september!$A12)*(datums=september!AE$5)*(uren))","v":"00:00:00"}]
[]
["CONTROLE",{"$f":"SUMPRODUCT((werknemers=september!$A14)*(datums=september!B$5)*(uren))","v":"00:00:00"},{"$f":"SUMPRODUCT((werknemers=september!$A14)*(datums=september!C$5)*(uren))","v":"00:00:00"},{"$f":"SUMPRODUCT((werknemers=september!$A14)*(datums=september!D$5)*(uren))","v":"00:00:00"},{"$f":"SUMPRODUCT((werknemers=september!$A14)*(datums=september!E$5)*(uren))","v":"00:00:00"},{"$f":"SUMPRODUCT((werknemers=september!$A14)*(datums=september!F$5)*(uren))","v":"00:00:00"},{"$f":"SUMPRODUCT((werknemers=september!$A14)*(datums=september!G$5)*(uren))","v":"00:00:00"},{"$f":"SUMPRODUCT((werknemers=september!$A14)*(datums=september!H$5)*(uren))","v":"00:00:00"},{"$f":"SUMPRODUCT((werknemers=september!$A14)*(datums=september!I$5)*(uren))","v":"00:00:00"},{"$f":"SUMPRODUCT((werknemers=september!$A14)*(datums=september!J$5)*(uren))","v":"00:00:00"},{"$f":"SUMPRODUCT((werknemers=september!$A14)*(datums=september!K$5)*(uren))","v":"00:00:00"},{"$f":"SUMPRODUCT((werknemers=september!$A14)*(datums=september!L$5)*(uren))","v":"00:00:00"},{"$f":"SUMPRODUCT((werknemers=september!$A14)*(datums=september!M$5)*(uren))","v":"00:00:00"},{"$f":"SUMPRODUCT((werknemers=september!$A14)*(datums=september!N$5)*(uren))","v":"00:00:00"},{"$f":"SUMPRODUCT((werknemers=september!$A14)*(datums=september!O$5)*(uren))","v":"00:00:00"},{"$f":"SUMPRODUCT((werknemers=september!$A14)*(datums=september!P$5)*(uren))","v":"00:00:00"},{"$f":"SUMPRODUCT((werknemers=september!$A14)*(datums=september!Q$5)*(uren))","v":"00:00:00"},{"$f":"SUMPRODUCT((werknemers=september!$A14)*(datums=september!R$5)*(uren))","v":"00:00:00"},{"$f":"SUMPRODUCT((werknemers=september!$A14)*(datums=september!S$5)*(uren))","v":"00:00:00"},{"$f":"SUMPRODUCT((werknemers=september!$A14)*(datums=september!T$5)*(uren))","v":"00:00:00"},{"$f":"SUMPRODUCT((werknemers=september!$A14)*(datums=september!U$5)*(uren))","v":"00:00:00"},{"$f":"SUMPRODUCT((werknemers=september!$A14)*(datums=september!V$5)*(uren))","v":"00:00:00"},{"$f":"SUMPRODUCT((werknemers=september!$A14)*(datums=september!W$5)*(uren))","v":"00:00:00"},{"$f":"SUMPRODUCT((werknemers=september!$A14)*(datums=september!X$5)*(uren))","v":"00:00:00"},{"$f":"SUMPRODUCT((werknemers=september!$A14)*(datums=september!Y$5)*(uren))","v":"00:00:00"},{"$f":"SUMPRODUCT((werknemers=september!$A14)*(datums=september!Z$5)*(uren))","v":"00:00:00"},{"$f":"SUMPRODUCT((werknemers=september!$A14)*(datums=september!AA$5)*(uren))","v":"00:00:00"},{"$f":"SUMPRODUCT((werknemers=september!$A14)*(datums=september!AB$5)*(uren))","v":"00:00:00"},{"$f":"SUMPRODUCT((werknemers=september!$A14)*(datums=september!AC$5)*(uren))","v":"00:00:00"},{"$f":"SUMPRODUCT((werknemers=september!$A14)*(datums=september!AD$5)*(uren))","v":"00:00:00"},{"$f":"SUMPRODUCT((werknemers=september!$A14)*(datums=september!AE$5)*(uren))","v":"00:00:00"}]
[]
["CONTROLE",{"$f":"SUMPRODUCT((werknemers=september!$A16)*(datums=september!B$5)*(uren))","v":"00:00:00"},{"$f":"SUMPRODUCT((werknemers=september!$A16)*(datums=september!C$5)*(uren))","v":"00:00:00"},{"$f":"SUMPRODUCT((werknemers=september!$A16)*(datums=september!D$5)*(uren))","v":"00:00:00"},{"$f":"SUMPRODUCT((werknemers=september!$A16)*(datums=september!E$5)*(uren))","v":"00:00:00"},{"$f":"SUMPRODUCT((werknemers=september!$A16)*(datums=september!F$5)*(uren))","v":"00:00:00"},{"$f":"SUMPRODUCT((werknemers=september!$A16)*(datums=september!G$5)*(uren))","v":"00:00:00"},{"$f":"SUMPRODUCT((werknemers=september!$A16)*(datums=september!H$5)*(uren))","v":"00:00:00"},{"$f":"SUMPRODUCT((werknemers=september!$A16)*(datums=september!I$5)*(uren))","v":"00:00:00"},{"$f":"SUMPRODUCT((werknemers=september!$A16)*(datums=september!J$5)*(uren))","v":"00:00:00"},{"$f":"SUMPRODUCT((werknemers=september!$A16)*(datums=september!K$5)*(uren))","v":"00:00:00"},{"$f":"SUMPRODUCT((werknemers=september!$A16)*(datums=september!L$5)*(uren))","v":"00:00:00"},{"$f":"SUMPRODUCT((werknemers=september!$A16)*(datums=september!M$5)*(uren))","v":"00:00:00"},{"$f":"SUMPRODUCT((werknemers=september!$A16)*(datums=september!N$5)*(uren))","v":"00:00:00"},{"$f":"SUMPRODUCT((werknemers=september!$A16)*(datums=september!O$5)*(uren))","v":"00:00:00"},{"$f":"SUMPRODUCT((werknemers=september!$A16)*(datums=september!P$5)*(uren))","v":"00:00:00"},{"$f":"SUMPRODUCT((werknemers=september!$A16)*(datums=september!Q$5)*(uren))","v":"00:00:00"},{"$f":"SUMPRODUCT((werknemers=september!$A16)*(datums=september!R$5)*(uren))","v":"00:00:00"},{"$f":"SUMPRODUCT((werknemers=september!$A16)*(datums=september!S$5)*(uren))","v":"00:00:00"},{"$f":"SUMPRODUCT((werknemers=september!$A16)*(datums=september!T$5)*(uren))","v":"00:00:00"},{"$f":"SUMPRODUCT((werknemers=september!$A16)*(datums=september!U$5)*(uren))","v":"00:00:00"},{"$f":"SUMPRODUCT((werknemers=september!$A16)*(datums=september!V$5)*(uren))","v":"00:00:00"},{"$f":"SUMPRODUCT((werknemers=september!$A16)*(datums=september!W$5)*(uren))","v":"00:00:00"},{"$f":"SUMPRODUCT((werknemers=september!$A16)*(datums=september!X$5)*(uren))","v":"00:00:00"},{"$f":"SUMPRODUCT((werknemers=september!$A16)*(datums=september!Y$5)*(uren))","v":"00:00:00"},{"$f":"SUMPRODUCT((werknemers=september!$A16)*(datums=september!Z$5)*(uren))","v":"00:00:00"},{"$f":"SUMPRODUCT((werknemers=september!$A16)*(datums=september!AA$5)*(uren))","v":"00:00:00"},{"$f":"SUMPRODUCT((werknemers=september!$A16)*(datums=september!AB$5)*(uren))","v":"00:00:00"},{"$f":"SUMPRODUCT((werknemers=september!$A16)*(datums=september!AC$5)*(uren))","v":"00:00:00"},{"$f":"SUMPRODUCT((werknemers=september!$A16)*(datums=september!AD$5)*(uren))","v":"00:00:00"},{"$f":"SUMPRODUCT((werknemers=september!$A16)*(datums=september!AE$5)*(uren))","v":"00:00:00"}]
[]
["CONTROLE",{"$f":"SUMPRODUCT((werknemers=september!$A18)*(datums=september!B$5)*(uren))","v":"00:00:00"},{"$f":"SUMPRODUCT((werknemers=september!$A18)*(datums=september!C$5)*(uren))","v":"00:00:00"},{"$f":"SUMPRODUCT((werknemers=september!$A18)*(datums=september!D$5)*(uren))","v":"00:00:00"},{"$f":"SUMPRODUCT((werknemers=september!$A18)*(datums=september!E$5)*(uren))","v":"00:00:00"},{"$f":"SUMPRODUCT((werknemers=september!$A18)*(datums=september!F$5)*(uren))","v":"00:00:00"},{"$f":"SUMPRODUCT((werknemers=september!$A18)*(datums=september!G$5)*(uren))","v":"00:00:00"},{"$f":"SUMPRODUCT((werknemers=september!$A18)*(datums=september!H$5)*(uren))","v":"00:00:00"},{"$f":"SUMPRODUCT((werknemers=september!$A18)*(datums=september!I$5)*(uren))","v":"00:00:00"},{"$f":"SUMPRODUCT((werknemers=september!$A18)*(datums=september!J$5)*(uren))","v":"00:00:00"},{"$f":"SUMPRODUCT((werknemers=september!$A18)*(datums=september!K$5)*(uren))","v":"00:00:00"},{"$f":"SUMPRODUCT((werknemers=september!$A18)*(datums=september!L$5)*(uren))","v":"00:00:00"},{"$f":"SUMPRODUCT((werknemers=september!$A18)*(datums=september!M$5)*(uren))","v":"00:00:00"},{"$f":"SUMPRODUCT((werknemers=september!$A18)*(datums=september!N$5)*(uren))","v":"00:00:00"},{"$f":"SUMPRODUCT((werknemers=september!$A18)*(datums=september!O$5)*(uren))","v":"00:00:00"},{"$f":"SUMPRODUCT((werknemers=september!$A18)*(datums=september!P$5)*(uren))","v":"00:00:00"},{"$f":"SUMPRODUCT((werknemers=september!$A18)*(datums=september!Q$5)*(uren))","v":"00:00:00"},{"$f":"SUMPRODUCT((werknemers=september!$A18)*(datums=september!R$5)*(uren))","v":"00:00:00"},{"$f":"SUMPRODUCT((werknemers=september!$A18)*(datums=september!S$5)*(uren))","v":"00:00:00"},{"$f":"SUMPRODUCT((werknemers=september!$A18)*(datums=september!T$5)*(uren))","v":"00:00:00"},{"$f":"SUMPRODUCT((werknemers=september!$A18)*(datums=september!U$5)*(uren))","v":"00:00:00"},{"$f":"SUMPRODUCT((werknemers=september!$A18)*(datums=september!V$5)*(uren))","v":"00:00:00"},{"$f":"SUMPRODUCT((werknemers=september!$A18)*(datums=september!W$5)*(uren))","v":"00:00:00"},{"$f":"SUMPRODUCT((werknemers=september!$A18)*(datums=september!X$5)*(uren))","v":"00:00:00"},{"$f":"SUMPRODUCT((werknemers=september!$A18)*(datums=september!Y$5)*(uren))","v":"00:00:00"},{"$f":"SUMPRODUCT((werknemers=september!$A18)*(datums=september!Z$5)*(uren))","v":"00:00:00"},{"$f":"SUMPRODUCT((werknemers=september!$A18)*(datums=september!AA$5)*(uren))","v":"00:00:00"},{"$f":"SUMPRODUCT((werknemers=september!$A18)*(datums=september!AB$5)*(uren))","v":"00:00:00"},{"$f":"SUMPRODUCT((werknemers=september!$A18)*(datums=september!AC$5)*(uren))","v":"00:00:00"},{"$f":"SUMPRODUCT((werknemers=september!$A18)*(datums=september!AD$5)*(uren))","v":"00:00:00"},{"$f":"SUMPRODUCT((werknemers=september!$A18)*(datums=september!AE$5)*(uren))","v":"00:00:00"}]
[]
["CONTROLE",{"$f":"SUMPRODUCT((werknemers=september!$A20)*(datums=september!B$5)*(uren))","v":"00:00:00"},{"$f":"SUMPRODUCT((werknemers=september!$A20)*(datums=september!C$5)*(uren))","v":"00:00:00"},{"$f":"SUMPRODUCT((werknemers=september!$A20)*(datums=september!D$5)*(uren))","v":"00:00:00"},{"$f":"SUMPRODUCT((werknemers=september!$A20)*(datums=september!E$5)*(uren))","v":"00:00:00"},{"$f":"SUMPRODUCT((werknemers=september!$A20)*(datums=september!F$5)*(uren))","v":"00:00:00"},{"$f":"SUMPRODUCT((werknemers=september!$A20)*(datums=september!G$5)*(uren))","v":"00:00:00"},{"$f":"SUMPRODUCT((werknemers=september!$A20)*(datums=september!H$5)*(uren))","v":"00:00:00"},{"$f":"SUMPRODUCT((werknemers=september!$A20)*(datums=september!I$5)*(uren))","v":"00:00:00"},{"$f":"SUMPRODUCT((werknemers=september!$A20)*(datums=september!J$5)*(uren))","v":"00:00:00"},{"$f":"SUMPRODUCT((werknemers=september!$A20)*(datums=september!K$5)*(uren))","v":"00:00:00"},{"$f":"SUMPRODUCT((werknemers=september!$A20)*(datums=september!L$5)*(uren))","v":"00:00:00"},{"$f":"SUMPRODUCT((werknemers=september!$A20)*(datums=september!M$5)*(uren))","v":"00:00:00"},{"$f":"SUMPRODUCT((werknemers=september!$A20)*(datums=september!N$5)*(uren))","v":"00:00:00"},{"$f":"SUMPRODUCT((werknemers=september!$A20)*(datums=september!O$5)*(uren))","v":"00:00:00"},{"$f":"SUMPRODUCT((werknemers=september!$A20)*(datums=september!P$5)*(uren))","v":"00:00:00"},{"$f":"SUMPRODUCT((werknemers=september!$A20)*(datums=september!Q$5)*(uren))","v":"00:00:00"},{"$f":"SUMPRODUCT((werknemers=september!$A20)*(datums=september!R$5)*(uren))","v":"00:00:00"},{"$f":"SUMPRODUCT((werknemers=september!$A20)*(datums=september!S$5)*(uren))","v":"00:00:00"},{"$f":"SUMPRODUCT((werknemers=september!$A20)*(datums=september!T$5)*(uren))","v":"00:00:00"},{"$f":"SUMPRODUCT((werknemers=september!$A20)*(datums=september!U$5)*(uren))","v":"00:00:00"},{"$f":"SUMPRODUCT((werknemers=september!$A20)*(datums=september!V$5)*(uren))","v":"00:00:00"},{"$f":"SUMPRODUCT((werknemers=september!$A20)*(datums=september!W$5)*(uren))","v":"00:00:00"},{"$f":"SUMPRODUCT((werknemers=september!$A20)*(datums=september!X$5)*(uren))","v":"00:00:00"},{"$f":"SUMPRODUCT((werknemers=september!$A20)*(datums=september!Y$5)*(uren))","v":"00:00:00"},{"$f":"SUMPRODUCT((werknemers=september!$A20)*(datums=september!Z$5)*(uren))","v":"00:00:00"},{"$f":"SUMPRODUCT((werknemers=september!$A20)*(datums=september!AA$5)*(uren))","v":"00:00:00"},{"$f":"SUMPRODUCT((werknemers=september!$A20)*(datums=september!AB$5)*(uren))","v":"00:00:00"},{"$f":"SUMPRODUCT((werknemers=september!$A20)*(datums=september!AC$5)*(uren))","v":"00:00:00"},{"$f":"SUMPRODUCT((werknemers=september!$A20)*(datums=september!AD$5)*(uren))","v":"00:00:00"},{"$f":"SUMPRODUCT((werknemers=september!$A20)*(datums=september!AE$5)*(uren))","v":"00:00:00"}]
[]
["CONTROLE",{"$f":"SUMPRODUCT((werknemers=september!$A22)*(datums=september!B$5)*(uren))","v":"00:00:00"},{"$f":"SUMPRODUCT((werknemers=september!$A22)*(datums=september!C$5)*(uren))","v":"00:00:00"},{"$f":"SUMPRODUCT((werknemers=september!$A22)*(datums=september!D$5)*(uren))","v":"00:00:00"},{"$f":"SUMPRODUCT((werknemers=september!$A22)*(datums=september!E$5)*(uren))","v":"00:00:00"},{"$f":"SUMPRODUCT((werknemers=september!$A22)*(datums=september!F$5)*(uren))","v":"00:00:00"},{"$f":"SUMPRODUCT((werknemers=september!$A22)*(datums=september!G$5)*(uren))","v":"00:00:00"},{"$f":"SUMPRODUCT((werknemers=september!$A22)*(datums=september!H$5)*(uren))","v":"00:00:00"},{"$f":"SUMPRODUCT((werknemers=september!$A22)*(datums=september!I$5)*(uren))","v":"00:00:00"},{"$f":"SUMPRODUCT((werknemers=september!$A22)*(datums=september!J$5)*(uren))","v":"00:00:00"},{"$f":"SUMPRODUCT((werknemers=september!$A22)*(datums=september!K$5)*(uren))","v":"00:00:00"},{"$f":"SUMPRODUCT((werknemers=september!$A22)*(datums=september!L$5)*(uren))","v":"00:00:00"},{"$f":"SUMPRODUCT((werknemers=september!$A22)*(datums=september!M$5)*(uren))","v":"00:00:00"},{"$f":"SUMPRODUCT((werknemers=september!$A22)*(datums=september!N$5)*(uren))","v":"00:00:00"},{"$f":"SUMPRODUCT((werknemers=september!$A22)*(datums=september!O$5)*(uren))","v":"00:00:00"},{"$f":"SUMPRODUCT((werknemers=september!$A22)*(datums=september!P$5)*(uren))","v":"00:00:00"},{"$f":"SUMPRODUCT((werknemers=september!$A22)*(datums=september!Q$5)*(uren))","v":"00:00:00"},{"$f":"SUMPRODUCT((werknemers=september!$A22)*(datums=september!R$5)*(uren))","v":"00:00:00"},{"$f":"SUMPRODUCT((werknemers=september!$A22)*(datums=september!S$5)*(uren))","v":"00:00:00"},{"$f":"SUMPRODUCT((werknemers=september!$A22)*(datums=september!T$5)*(uren))","v":"00:00:00"},{"$f":"SUMPRODUCT((werknemers=september!$A22)*(datums=september!U$5)*(uren))","v":"00:00:00"},{"$f":"SUMPRODUCT((werknemers=september!$A22)*(datums=september!V$5)*(uren))","v":"00:00:00"},{"$f":"SUMPRODUCT((werknemers=september!$A22)*(datums=september!W$5)*(uren))","v":"00:00:00"},{"$f":"SUMPRODUCT((werknemers=september!$A22)*(datums=september!X$5)*(uren))","v":"00:00:00"},{"$f":"SUMPRODUCT((werknemers=september!$A22)*(datums=september!Y$5)*(uren))","v":"00:00:00"},{"$f":"SUMPRODUCT((werknemers=september!$A22)*(datums=september!Z$5)*(uren))","v":"00:00:00"},{"$f":"SUMPRODUCT((werknemers=september!$A22)*(datums=september!AA$5)*(uren))","v":"00:00:00"},{"$f":"SUMPRODUCT((werknemers=september!$A22)*(datums=september!AB$5)*(uren))","v":"00:00:00"},{"$f":"SUMPRODUCT((werknemers=september!$A22)*(datums=september!AC$5)*(uren))","v":"00:00:00"},{"$f":"SUMPRODUCT((werknemers=september!$A22)*(datums=september!AD$5)*(uren))","v":"00:00:00"},{"$f":"SUMPRODUCT((werknemers=september!$A22)*(datums=september!AE$5)*(uren))","v":"00:00:00"}]
[]
["CONTROLE",{"$f":"SUMPRODUCT((werknemers=september!$A24)*(datums=september!B$5)*(uren))","v":"00:00:00"},{"$f":"SUMPRODUCT((werknemers=september!$A24)*(datums=september!C$5)*(uren))","v":"00:00:00"},{"$f":"SUMPRODUCT((werknemers=september!$A24)*(datums=september!D$5)*(uren))","v":"00:00:00"},{"$f":"SUMPRODUCT((werknemers=september!$A24)*(datums=september!E$5)*(uren))","v":"00:00:00"},{"$f":"SUMPRODUCT((werknemers=september!$A24)*(datums=september!F$5)*(uren))","v":"00:00:00"},{"$f":"SUMPRODUCT((werknemers=september!$A24)*(datums=september!G$5)*(uren))","v":"00:00:00"},{"$f":"SUMPRODUCT((werknemers=september!$A24)*(datums=september!H$5)*(uren))","v":"00:00:00"},{"$f":"SUMPRODUCT((werknemers=september!$A24)*(datums=september!I$5)*(uren))","v":"00:00:00"},{"$f":"SUMPRODUCT((werknemers=september!$A24)*(datums=september!J$5)*(uren))","v":"00:00:00"},{"$f":"SUMPRODUCT((werknemers=september!$A24)*(datums=september!K$5)*(uren))","v":"00:00:00"},{"$f":"SUMPRODUCT((werknemers=september!$A24)*(datums=september!L$5)*(uren))","v":"00:00:00"},{"$f":"SUMPRODUCT((werknemers=september!$A24)*(datums=september!M$5)*(uren))","v":"00:00:00"},{"$f":"SUMPRODUCT((werknemers=september!$A24)*(datums=september!N$5)*(uren))","v":"00:00:00"},{"$f":"SUMPRODUCT((werknemers=september!$A24)*(datums=september!O$5)*(uren))","v":"00:00:00"},{"$f":"SUMPRODUCT((werknemers=september!$A24)*(datums=september!P$5)*(uren))","v":"00:00:00"},{"$f":"SUMPRODUCT((werknemers=september!$A24)*(datums=september!Q$5)*(uren))","v":"00:00:00"},{"$f":"SUMPRODUCT((werknemers=september!$A24)*(datums=september!R$5)*(uren))","v":"00:00:00"},{"$f":"SUMPRODUCT((werknemers=september!$A24)*(datums=september!S$5)*(uren))","v":"00:00:00"},{"$f":"SUMPRODUCT((werknemers=september!$A24)*(datums=september!T$5)*(uren))","v":"00:00:00"},{"$f":"SUMPRODUCT((werknemers=september!$A24)*(datums=september!U$5)*(uren))","v":"00:00:00"},{"$f":"SUMPRODUCT((werknemers=september!$A24)*(datums=september!V$5)*(uren))","v":"00:00:00"},{"$f":"SUMPRODUCT((werknemers=september!$A24)*(datums=september!W$5)*(uren))","v":"00:00:00"},{"$f":"SUMPRODUCT((werknemers=september!$A24)*(datums=september!X$5)*(uren))","v":"00:00:00"},{"$f":"SUMPRODUCT((werknemers=september!$A24)*(datums=september!Y$5)*(uren))","v":"00:00:00"},{"$f":"SUMPRODUCT((werknemers=september!$A24)*(datums=september!Z$5)*(uren))","v":"00:00:00"},{"$f":"SUMPRODUCT((werknemers=september!$A24)*(datums=september!AA$5)*(uren))","v":"00:00:00"},{"$f":"SUMPRODUCT((werknemers=september!$A24)*(datums=september!AB$5)*(uren))","v":"00:00:00"},{"$f":"SUMPRODUCT((werknemers=september!$A24)*(datums=september!AC$5)*(uren))","v":"00:00:00"},{"$f":"SUMPRODUCT((werknemers=september!$A24)*(datums=september!AD$5)*(uren))","v":"00:00:00"},{"$f":"SUMPRODUCT((werknemers=september!$A24)*(datums=september!AE$5)*(uren))","v":"00:00:00"}]
[]
["CONTROLE",{"$f":"SUMPRODUCT((werknemers=september!$A26)*(datums=september!B$5)*(uren))","v":"00:00:00"},{"$f":"SUMPRODUCT((werknemers=september!$A26)*(datums=september!C$5)*(uren))","v":"00:00:00"},{"$f":"SUMPRODUCT((werknemers=september!$A26)*(datums=september!D$5)*(uren))","v":"00:00:00"},{"$f":"SUMPRODUCT((werknemers=september!$A26)*(datums=september!E$5)*(uren))","v":"00:00:00"},{"$f":"SUMPRODUCT((werknemers=september!$A26)*(datums=september!F$5)*(uren))","v":"00:00:00"},{"$f":"SUMPRODUCT((werknemers=september!$A26)*(datums=september!G$5)*(uren))","v":"00:00:00"},{"$f":"SUMPRODUCT((werknemers=september!$A26)*(datums=september!H$5)*(uren))","v":"00:00:00"},{"$f":"SUMPRODUCT((werknemers=september!$A26)*(datums=september!I$5)*(uren))","v":"00:00:00"},{"$f":"SUMPRODUCT((werknemers=september!$A26)*(datums=september!J$5)*(uren))","v":"00:00:00"},{"$f":"SUMPRODUCT((werknemers=september!$A26)*(datums=september!K$5)*(uren))","v":"00:00:00"},{"$f":"SUMPRODUCT((werknemers=september!$A26)*(datums=september!L$5)*(uren))","v":"00:00:00"},{"$f":"SUMPRODUCT((werknemers=september!$A26)*(datums=september!M$5)*(uren))","v":"00:00:00"},{"$f":"SUMPRODUCT((werknemers=september!$A26)*(datums=september!N$5)*(uren))","v":"00:00:00"},{"$f":"SUMPRODUCT((werknemers=september!$A26)*(datums=september!O$5)*(uren))","v":"00:00:00"},{"$f":"SUMPRODUCT((werknemers=september!$A26)*(datums=september!P$5)*(uren))","v":"00:00:00"},{"$f":"SUMPRODUCT((werknemers=september!$A26)*(datums=september!Q$5)*(uren))","v":"00:00:00"},{"$f":"SUMPRODUCT((werknemers=september!$A26)*(datums=september!R$5)*(uren))","v":"00:00:00"},{"$f":"SUMPRODUCT((werknemers=september!$A26)*(datums=september!S$5)*(uren))","v":"00:00:00"},{"$f":"SUMPRODUCT((werknemers=september!$A26)*(datums=september!T$5)*(uren))","v":"00:00:00"},{"$f":"SUMPRODUCT((werknemers=september!$A26)*(datums=september!U$5)*(uren))","v":"00:00:00"},{"$f":"SUMPRODUCT((werknemers=september!$A26)*(datums=september!V$5)*(uren))","v":"00:00:00"},{"$f":"SUMPRODUCT((werknemers=september!$A26)*(datums=september!W$5)*(uren))","v":"00:00:00"},{"$f":"SUMPRODUCT((werknemers=september!$A26)*(datums=september!X$5)*(uren))","v":"00:00:00"},{"$f":"SUMPRODUCT((werknemers=september!$A26)*(datums=september!Y$5)*(uren))","v":"00:00:00"},{"$f":"SUMPRODUCT((werknemers=september!$A26)*(datums=september!Z$5)*(uren))","v":"00:00:00"},{"$f":"SUMPRODUCT((werknemers=september!$A26)*(datums=september!AA$5)*(uren))","v":"00:00:00"},{"$f":"SUMPRODUCT((werknemers=september!$A26)*(datums=september!AB$5)*(uren))","v":"00:00:00"},{"$f":"SUMPRODUCT((werknemers=september!$A26)*(datums=september!AC$5)*(uren))","v":"00:00:00"},{"$f":"SUMPRODUCT((werknemers=september!$A26)*(datums=september!AD$5)*(uren))","v":"00:00:00"},{"$f":"SUMPRODUCT((werknemers=september!$A26)*(datums=september!AE$5)*(uren))","v":"00:00:00"}]
[]
["CONTROLE",{"$f":"SUMPRODUCT((werknemers=september!$A28)*(datums=september!B$5)*(uren))","v":"00:00:00"},{"$f":"SUMPRODUCT((werknemers=september!$A28)*(datums=september!C$5)*(uren))","v":"00:00:00"},{"$f":"SUMPRODUCT((werknemers=september!$A28)*(datums=september!D$5)*(uren))","v":"00:00:00"},{"$f":"SUMPRODUCT((werknemers=september!$A28)*(datums=september!E$5)*(uren))","v":"00:00:00"},{"$f":"SUMPRODUCT((werknemers=september!$A28)*(datums=september!F$5)*(uren))","v":"00:00:00"},{"$f":"SUMPRODUCT((werknemers=september!$A28)*(datums=september!G$5)*(uren))","v":"00:00:00"},{"$f":"SUMPRODUCT((werknemers=september!$A28)*(datums=september!H$5)*(uren))","v":"00:00:00"},{"$f":"SUMPRODUCT((werknemers=september!$A28)*(datums=september!I$5)*(uren))","v":"00:00:00"},{"$f":"SUMPRODUCT((werknemers=september!$A28)*(datums=september!J$5)*(uren))","v":"00:00:00"},{"$f":"SUMPRODUCT((werknemers=september!$A28)*(datums=september!K$5)*(uren))","v":"00:00:00"},{"$f":"SUMPRODUCT((werknemers=september!$A28)*(datums=september!L$5)*(uren))","v":"00:00:00"},{"$f":"SUMPRODUCT((werknemers=september!$A28)*(datums=september!M$5)*(uren))","v":"00:00:00"},{"$f":"SUMPRODUCT((werknemers=september!$A28)*(datums=september!N$5)*(uren))","v":"00:00:00"},{"$f":"SUMPRODUCT((werknemers=september!$A28)*(datums=september!O$5)*(uren))","v":"00:00:00"},{"$f":"SUMPRODUCT((werknemers=september!$A28)*(datums=september!P$5)*(uren))","v":"00:00:00"},{"$f":"SUMPRODUCT((werknemers=september!$A28)*(datums=september!Q$5)*(uren))","v":"00:00:00"},{"$f":"SUMPRODUCT((werknemers=september!$A28)*(datums=september!R$5)*(uren))","v":"00:00:00"},{"$f":"SUMPRODUCT((werknemers=september!$A28)*(datums=september!S$5)*(uren))","v":"00:00:00"},{"$f":"SUMPRODUCT((werknemers=september!$A28)*(datums=september!T$5)*(uren))","v":"00:00:00"},{"$f":"SUMPRODUCT((werknemers=september!$A28)*(datums=september!U$5)*(uren))","v":"00:00:00"},{"$f":"SUMPRODUCT((werknemers=september!$A28)*(datums=september!V$5)*(uren))","v":"00:00:00"},{"$f":"SUMPRODUCT((werknemers=september!$A28)*(datums=september!W$5)*(uren))","v":"00:00:00"},{"$f":"SUMPRODUCT((werknemers=september!$A28)*(datums=september!X$5)*(uren))","v":"00:00:00"},{"$f":"SUMPRODUCT((werknemers=september!$A28)*(datums=september!Y$5)*(uren))","v":"00:00:00"},{"$f":"SUMPRODUCT((werknemers=september!$A28)*(datums=september!Z$5)*(uren))","v":"00:00:00"},{"$f":"SUMPRODUCT((werknemers=september!$A28)*(datums=september!AA$5)*(uren))","v":"00:00:00"},{"$f":"SUMPRODUCT((werknemers=september!$A28)*(datums=september!AB$5)*(uren))","v":"00:00:00"},{"$f":"SUMPRODUCT((werknemers=september!$A28)*(datums=september!AC$5)*(uren))","v":"00:00:00"},{"$f":"SUMPRODUCT((werknemers=september!$A28)*(datums=september!AD$5)*(uren))","v":"00:00:00"},{"$f":"SUMPRODUCT((werknemers=september!$A28)*(datums=september!AE$5)*(uren))","v":"00:00:00"}]
[]
["CONTROLE",{"$f":"SUMPRODUCT((werknemers=september!$A30)*(datums=september!B$5)*(uren))","v":"00:00:00"},{"$f":"SUMPRODUCT((werknemers=september!$A30)*(datums=september!C$5)*(uren))","v":"00:00:00"},{"$f":"SUMPRODUCT((werknemers=september!$A30)*(datums=september!D$5)*(uren))","v":"00:00:00"},{"$f":"SUMPRODUCT((werknemers=september!$A30)*(datums=september!E$5)*(uren))","v":"00:00:00"},{"$f":"SUMPRODUCT((werknemers=september!$A30)*(datums=september!F$5)*(uren))","v":"00:00:00"},{"$f":"SUMPRODUCT((werknemers=september!$A30)*(datums=september!G$5)*(uren))","v":"00:00:00"},{"$f":"SUMPRODUCT((werknemers=september!$A30)*(datums=september!H$5)*(uren))","v":"00:00:00"},{"$f":"SUMPRODUCT((werknemers=september!$A30)*(datums=september!I$5)*(uren))","v":"00:00:00"},{"$f":"SUMPRODUCT((werknemers=september!$A30)*(datums=september!J$5)*(uren))","v":"00:00:00"},{"$f":"SUMPRODUCT((werknemers=september!$A30)*(datums=september!K$5)*(uren))","v":"00:00:00"},{"$f":"SUMPRODUCT((werknemers=september!$A30)*(datums=september!L$5)*(uren))","v":"00:00:00"},{"$f":"SUMPRODUCT((werknemers=september!$A30)*(datums=september!M$5)*(uren))","v":"00:00:00"},{"$f":"SUMPRODUCT((werknemers=september!$A30)*(datums=september!N$5)*(uren))","v":"00:00:00"},{"$f":"SUMPRODUCT((werknemers=september!$A30)*(datums=september!O$5)*(uren))","v":"00:00:00"},{"$f":"SUMPRODUCT((werknemers=september!$A30)*(datums=september!P$5)*(uren))","v":"00:00:00"},{"$f":"SUMPRODUCT((werknemers=september!$A30)*(datums=september!Q$5)*(uren))","v":"00:00:00"},{"$f":"SUMPRODUCT((werknemers=september!$A30)*(datums=september!R$5)*(uren))","v":"00:00:00"},{"$f":"SUMPRODUCT((werknemers=september!$A30)*(datums=september!S$5)*(uren))","v":"00:00:00"},{"$f":"SUMPRODUCT((werknemers=september!$A30)*(datums=september!T$5)*(uren))","v":"00:00:00"},{"$f":"SUMPRODUCT((werknemers=september!$A30)*(datums=september!U$5)*(uren))","v":"00:00:00"},{"$f":"SUMPRODUCT((werknemers=september!$A30)*(datums=september!V$5)*(uren))","v":"00:00:00"},{"$f":"SUMPRODUCT((werknemers=september!$A30)*(datums=september!W$5)*(uren))","v":"00:00:00"},{"$f":"SUMPRODUCT((werknemers=september!$A30)*(datums=september!X$5)*(uren))","v":"00:00:00"},{"$f":"SUMPRODUCT((werknemers=september!$A30)*(datums=september!Y$5)*(uren))","v":"00:00:00"},{"$f":"SUMPRODUCT((werknemers=september!$A30)*(datums=september!Z$5)*(uren))","v":"00:00:00"},{"$f":"SUMPRODUCT((werknemers=september!$A30)*(datums=september!AA$5)*(uren))","v":"00:00:00"},{"$f":"SUMPRODUCT((werknemers=september!$A30)*(datums=september!AB$5)*(uren))","v":"00:00:00"},{"$f":"SUMPRODUCT((werknemers=september!$A30)*(datums=september!AC$5)*(uren))","v":"00:00:00"},{"$f":"SUMPRODUCT((werknemers=september!$A30)*(datums=september!AD$5)*(uren))","v":"00:00:00"},{"$f":"SUMPRODUCT((werknemers=september!$A30)*(datums=september!AE$5)*(uren))","v":"00:00:00"}]
[]
["CONTROLE",{"$f":"SUMPRODUCT((werknemers=september!$A32)*(datums=september!B$5)*(uren))","v":"00:00:00"},{"$f":"SUMPRODUCT((werknemers=september!$A32)*(datums=september!C$5)*(uren))","v":"00:00:00"},{"$f":"SUMPRODUCT((werknemers=september!$A32)*(datums=september!D$5)*(uren))","v":"00:00:00"},{"$f":"SUMPRODUCT((werknemers=september!$A32)*(datums=september!E$5)*(uren))","v":"00:00:00"},{"$f":"SUMPRODUCT((werknemers=september!$A32)*(datums=september!F$5)*(uren))","v":"00:00:00"},{"$f":"SUMPRODUCT((werknemers=september!$A32)*(datums=september!G$5)*(uren))","v":"00:00:00"},{"$f":"SUMPRODUCT((werknemers=september!$A32)*(datums=september!H$5)*(uren))","v":"00:00:00"},{"$f":"SUMPRODUCT((werknemers=september!$A32)*(datums=september!I$5)*(uren))","v":"00:00:00"},{"$f":"SUMPRODUCT((werknemers=september!$A32)*(datums=september!J$5)*(uren))","v":"00:00:00"},{"$f":"SUMPRODUCT((werknemers=september!$A32)*(datums=september!K$5)*(uren))","v":"00:00:00"},{"$f":"SUMPRODUCT((werknemers=september!$A32)*(datums=september!L$5)*(uren))","v":"00:00:00"},{"$f":"SUMPRODUCT((werknemers=september!$A32)*(datums=september!M$5)*(uren))","v":"00:00:00"},{"$f":"SUMPRODUCT((werknemers=september!$A32)*(datums=september!N$5)*(uren))","v":"00:00:00"},{"$f":"SUMPRODUCT((werknemers=september!$A32)*(datums=september!O$5)*(uren))","v":"00:00:00"},{"$f":"SUMPRODUCT((werknemers=september!$A32)*(datums=september!P$5)*(uren))","v":"00:00:00"},{"$f":"SUMPRODUCT((werknemers=september!$A32)*(datums=september!Q$5)*(uren))","v":"00:00:00"},{"$f":"SUMPRODUCT((werknemers=september!$A32)*(datums=september!R$5)*(uren))","v":"00:00:00"},{"$f":"SUMPRODUCT((werknemers=september!$A32)*(datums=september!S$5)*(uren))","v":"00:00:00"},{"$f":"SUMPRODUCT((werknemers=september!$A32)*(datums=september!T$5)*(uren))","v":"00:00:00"},{"$f":"SUMPRODUCT((werknemers=september!$A32)*(datums=september!U$5)*(uren))","v":"00:00:00"},{"$f":"SUMPRODUCT((werknemers=september!$A32)*(datums=september!V$5)*(uren))","v":"00:00:00"},{"$f":"SUMPRODUCT((werknemers=september!$A32)*(datums=september!W$5)*(uren))","v":"00:00:00"},{"$f":"SUMPRODUCT((werknemers=september!$A32)*(datums=september!X$5)*(uren))","v":"00:00:00"},{"$f":"SUMPRODUCT((werknemers=september!$A32)*(datums=september!Y$5)*(uren))","v":"00:00:00"},{"$f":"SUMPRODUCT((werknemers=september!$A32)*(datums=september!Z$5)*(uren))","v":"00:00:00"},{"$f":"SUMPRODUCT((werknemers=september!$A32)*(datums=september!AA$5)*(uren))","v":"00:00:00"},{"$f":"SUMPRODUCT((werknemers=september!$A32)*(datums=september!AB$5)*(uren))","v":"00:00:00"},{"$f":"SUMPRODUCT((werknemers=september!$A32)*(datums=september!AC$5)*(uren))","v":"00:00:00"},{"$f":"SUMPRODUCT((werknemers=september!$A32)*(datums=september!AD$5)*(uren))","v":"00:00:00"},{"$f":"SUMPRODUCT((werknemers=september!$A32)*(datums=september!AE$5)*(uren))","v":"00:00:00"}]
[]
["CONTROLE",{"$f":"SUMPRODUCT((werknemers=september!$A34)*(datums=september!B$5)*(uren))","v":"00:00:00"},{"$f":"SUMPRODUCT((werknemers=september!$A34)*(datums=september!C$5)*(uren))","v":"00:00:00"},{"$f":"SUMPRODUCT((werknemers=september!$A34)*(datums=september!D$5)*(uren))","v":"00:00:00"},{"$f":"SUMPRODUCT((werknemers=september!$A34)*(datums=september!E$5)*(uren))","v":"00:00:00"},{"$f":"SUMPRODUCT((werknemers=september!$A34)*(datums=september!F$5)*(uren))","v":"00:00:00"},{"$f":"SUMPRODUCT((werknemers=september!$A34)*(datums=september!G$5)*(uren))","v":"00:00:00"},{"$f":"SUMPRODUCT((werknemers=september!$A34)*(datums=september!H$5)*(uren))","v":"00:00:00"},{"$f":"SUMPRODUCT((werknemers=september!$A34)*(datums=september!I$5)*(uren))","v":"00:00:00"},{"$f":"SUMPRODUCT((werknemers=september!$A34)*(datums=september!J$5)*(uren))","v":"00:00:00"},{"$f":"SUMPRODUCT((werknemers=september!$A34)*(datums=september!K$5)*(uren))","v":"00:00:00"},{"$f":"SUMPRODUCT((werknemers=september!$A34)*(datums=september!L$5)*(uren))","v":"00:00:00"},{"$f":"SUMPRODUCT((werknemers=september!$A34)*(datums=september!M$5)*(uren))","v":"00:00:00"},{"$f":"SUMPRODUCT((werknemers=september!$A34)*(datums=september!N$5)*(uren))","v":"00:00:00"},{"$f":"SUMPRODUCT((werknemers=september!$A34)*(datums=september!O$5)*(uren))","v":"00:00:00"},{"$f":"SUMPRODUCT((werknemers=september!$A34)*(datums=september!P$5)*(uren))","v":"00:00:00"},{"$f":"SUMPRODUCT((werknemers=september!$A34)*(datums=september!Q$5)*(uren))","v":"00:00:00"},{"$f":"SUMPRODUCT((werknemers=september!$A34)*(datums=september!R$5)*(uren))","v":"00:00:00"},{"$f":"SUMPRODUCT((werknemers=september!$A34)*(datums=september!S$5)*(uren))","v":"00:00:00"},{"$f":"SUMPRODUCT((werknemers=september!$A34)*(datums=september!T$5)*(uren))","v":"00:00:00"},{"$f":"SUMPRODUCT((werknemers=september!$A34)*(datums=september!U$5)*(uren))","v":"00:00:00"},{"$f":"SUMPRODUCT((werknemers=september!$A34)*(datums=september!V$5)*(uren))","v":"00:00:00"},{"$f":"SUMPRODUCT((werknemers=september!$A34)*(datums=september!W$5)*(uren))","v":"00:00:00"},{"$f":"SUMPRODUCT((werknemers=september!$A34)*(datums=september!X$5)*(uren))","v":"00:00:00"},{"$f":"SUMPRODUCT((werknemers=september!$A34)*(datums=september!Y$5)*(uren))","v":"00:00:00"},{"$f":"SUMPRODUCT((werknemers=september!$A34)*(datums=september!Z$5)*(uren))","v":"00:00:00"},{"$f":"SUMPRODUCT((werknemers=september!$A34)*(datums=september!AA$5)*(uren))","v":"00:00:00"},{"$f":"SUMPRODUCT((werknemers=september!$A34)*(datums=september!AB$5)*(uren))","v":"00:00:00"},{"$f":"SUMPRODUCT((werknemers=september!$A34)*(datums=september!AC$5)*(uren))","v":"00:00:00"},{"$f":"SUMPRODUCT((werknemers=september!$A34)*(datums=september!AD$5)*(uren))","v":"00:00:00"},{"$f":"SUMPRODUCT((werknemers=september!$A34)*(datums=september!AE$5)*(uren))","v":"00:00:00"}]
[]
["CONTROLE",{"$f":"SUMPRODUCT((werknemers=september!$A36)*(datums=september!B$5)*(uren))","v":"00:00:00"},{"$f":"SUMPRODUCT((werknemers=september!$A36)*(datums=september!C$5)*(uren))","v":"00:00:00"},{"$f":"SUMPRODUCT((werknemers=september!$A36)*(datums=september!D$5)*(uren))","v":"00:00:00"},{"$f":"SUMPRODUCT((werknemers=september!$A36)*(datums=september!E$5)*(uren))","v":"00:00:00"},{"$f":"SUMPRODUCT((werknemers=september!$A36)*(datums=september!F$5)*(uren))","v":"00:00:00"},{"$f":"SUMPRODUCT((werknemers=september!$A36)*(datums=september!G$5)*(uren))","v":"00:00:00"},{"$f":"SUMPRODUCT((werknemers=september!$A36)*(datums=september!H$5)*(uren))","v":"00:00:00"},{"$f":"SUMPRODUCT((werknemers=september!$A36)*(datums=september!I$5)*(uren))","v":"00:00:00"},{"$f":"SUMPRODUCT((werknemers=september!$A36)*(datums=september!J$5)*(uren))","v":"00:00:00"},{"$f":"SUMPRODUCT((werknemers=september!$A36)*(datums=september!K$5)*(uren))","v":"00:00:00"},{"$f":"SUMPRODUCT((werknemers=september!$A36)*(datums=september!L$5)*(uren))","v":"00:00:00"},{"$f":"SUMPRODUCT((werknemers=september!$A36)*(datums=september!M$5)*(uren))","v":"00:00:00"},{"$f":"SUMPRODUCT((werknemers=september!$A36)*(datums=september!N$5)*(uren))","v":"00:00:00"},{"$f":"SUMPRODUCT((werknemers=september!$A36)*(datums=september!O$5)*(uren))","v":"00:00:00"},{"$f":"SUMPRODUCT((werknemers=september!$A36)*(datums=september!P$5)*(uren))","v":"00:00:00"},{"$f":"SUMPRODUCT((werknemers=september!$A36)*(datums=september!Q$5)*(uren))","v":"00:00:00"},{"$f":"SUMPRODUCT((werknemers=september!$A36)*(datums=september!R$5)*(uren))","v":"00:00:00"},{"$f":"SUMPRODUCT((werknemers=september!$A36)*(datums=september!S$5)*(uren))","v":"00:00:00"},{"$f":"SUMPRODUCT((werknemers=september!$A36)*(datums=september!T$5)*(uren))","v":"00:00:00"},{"$f":"SUMPRODUCT((werknemers=september!$A36)*(datums=september!U$5)*(uren))","v":"00:00:00"},{"$f":"SUMPRODUCT((werknemers=september!$A36)*(datums=september!V$5)*(uren))","v":"00:00:00"},{"$f":"SUMPRODUCT((werknemers=september!$A36)*(datums=september!W$5)*(uren))","v":"00:00:00"},{"$f":"SUMPRODUCT((werknemers=september!$A36)*(datums=september!X$5)*(uren))","v":"00:00:00"},{"$f":"SUMPRODUCT((werknemers=september!$A36)*(datums=september!Y$5)*(uren))","v":"00:00:00"},{"$f":"SUMPRODUCT((werknemers=september!$A36)*(datums=september!Z$5)*(uren))","v":"00:00:00"},{"$f":"SUMPRODUCT((werknemers=september!$A36)*(datums=september!AA$5)*(uren))","v":"00:00:00"},{"$f":"SUMPRODUCT((werknemers=september!$A36)*(datums=september!AB$5)*(uren))","v":"00:00:00"},{"$f":"SUMPRODUCT((werknemers=september!$A36)*(datums=september!AC$5)*(uren))","v":"00:00:00"},{"$f":"SUMPRODUCT((werknemers=september!$A36)*(datums=september!AD$5)*(uren))","v":"00:00:00"},{"$f":"SUMPRODUCT((werknemers=september!$A36)*(datums=september!AE$5)*(uren))","v":"00:00:00"}]
[]
["CONTROLE",{"$f":"SUMPRODUCT((werknemers=september!$A38)*(datums=september!B$5)*(uren))","v":"00:00:00"},{"$f":"SUMPRODUCT((werknemers=september!$A38)*(datums=september!C$5)*(uren))","v":"00:00:00"},{"$f":"SUMPRODUCT((werknemers=september!$A38)*(datums=september!D$5)*(uren))","v":"00:00:00"},{"$f":"SUMPRODUCT((werknemers=september!$A38)*(datums=september!E$5)*(uren))","v":"00:00:00"},{"$f":"SUMPRODUCT((werknemers=september!$A38)*(datums=september!F$5)*(uren))","v":"00:00:00"},{"$f":"SUMPRODUCT((werknemers=september!$A38)*(datums=september!G$5)*(uren))","v":"00:00:00"},{"$f":"SUMPRODUCT((werknemers=september!$A38)*(datums=september!H$5)*(uren))","v":"00:00:00"},{"$f":"SUMPRODUCT((werknemers=september!$A38)*(datums=september!I$5)*(uren))","v":"00:00:00"},{"$f":"SUMPRODUCT((werknemers=september!$A38)*(datums=september!J$5)*(uren))","v":"00:00:00"},{"$f":"SUMPRODUCT((werknemers=september!$A38)*(datums=september!K$5)*(uren))","v":"00:00:00"},{"$f":"SUMPRODUCT((werknemers=september!$A38)*(datums=september!L$5)*(uren))","v":"00:00:00"},{"$f":"SUMPRODUCT((werknemers=september!$A38)*(datums=september!M$5)*(uren))","v":"00:00:00"},{"$f":"SUMPRODUCT((werknemers=september!$A38)*(datums=september!N$5)*(uren))","v":"00:00:00"},{"$f":"SUMPRODUCT((werknemers=september!$A38)*(datums=september!O$5)*(uren))","v":"00:00:00"},{"$f":"SUMPRODUCT((werknemers=september!$A38)*(datums=september!P$5)*(uren))","v":"00:00:00"},{"$f":"SUMPRODUCT((werknemers=september!$A38)*(datums=september!Q$5)*(uren))","v":"00:00:00"},{"$f":"SUMPRODUCT((werknemers=september!$A38)*(datums=september!R$5)*(uren))","v":"00:00:00"},{"$f":"SUMPRODUCT((werknemers=september!$A38)*(datums=september!S$5)*(uren))","v":"00:00:00"},{"$f":"SUMPRODUCT((werknemers=september!$A38)*(datums=september!T$5)*(uren))","v":"00:00:00"},{"$f":"SUMPRODUCT((werknemers=september!$A38)*(datums=september!U$5)*(uren))","v":"00:00:00"},{"$f":"SUMPRODUCT((werknemers=september!$A38)*(datums=september!V$5)*(uren))","v":"00:00:00"},{"$f":"SUMPRODUCT((werknemers=september!$A38)*(datums=september!W$5)*(uren))","v":"00:00:00"},{"$f":"SUMPRODUCT((werknemers=september!$A38)*(datums=september!X$5)*(uren))","v":"00:00:00"},{"$f":"SUMPRODUCT((werknemers=september!$A38)*(datums=september!Y$5)*(uren))","v":"00:00:00"},{"$f":"SUMPRODUCT((werknemers=september!$A38)*(datums=september!Z$5)*(uren))","v":"00:00:00"},{"$f":"SUMPRODUCT((werknemers=september!$A38)*(datums=september!AA$5)*(uren))","v":"00:00:00"},{"$f":"SUMPRODUCT((werknemers=september!$A38)*(datums=september!AB$5)*(uren))","v":"00:00:00"},{"$f":"SUMPRODUCT((werknemers=september!$A38)*(datums=september!AC$5)*(uren))","v":"00:00:00"},{"$f":"SUMPRODUCT((werknemers=september!$A38)*(datums=september!AD$5)*(uren))","v":"00:00:00"},{"$f":"SUMPRODUCT((werknemers=september!$A38)*(datums=september!AE$5)*(uren))","v":"00:00:00"}]
[]
["CONTROLE",{"$f":"SUMPRODUCT((werknemers=september!$A40)*(datums=september!B$5)*(uren))","v":"00:00:00"},{"$f":"SUMPRODUCT((werknemers=september!$A40)*(datums=september!C$5)*(uren))","v":"00:00:00"},{"$f":"SUMPRODUCT((werknemers=september!$A40)*(datums=september!D$5)*(uren))","v":"00:00:00"},{"$f":"SUMPRODUCT((werknemers=september!$A40)*(datums=september!E$5)*(uren))","v":"00:00:00"},{"$f":"SUMPRODUCT((werknemers=september!$A40)*(datums=september!F$5)*(uren))","v":"00:00:00"},{"$f":"SUMPRODUCT((werknemers=september!$A40)*(datums=september!G$5)*(uren))","v":"00:00:00"},{"$f":"SUMPRODUCT((werknemers=september!$A40)*(datums=september!H$5)*(uren))","v":"00:00:00"},{"$f":"SUMPRODUCT((werknemers=september!$A40)*(datums=september!I$5)*(uren))","v":"00:00:00"},{"$f":"SUMPRODUCT((werknemers=september!$A40)*(datums=september!J$5)*(uren))","v":"00:00:00"},{"$f":"SUMPRODUCT((werknemers=september!$A40)*(datums=september!K$5)*(uren))","v":"00:00:00"},{"$f":"SUMPRODUCT((werknemers=september!$A40)*(datums=september!L$5)*(uren))","v":"00:00:00"},{"$f":"SUMPRODUCT((werknemers=september!$A40)*(datums=september!M$5)*(uren))","v":"00:00:00"},{"$f":"SUMPRODUCT((werknemers=september!$A40)*(datums=september!N$5)*(uren))","v":"00:00:00"},{"$f":"SUMPRODUCT((werknemers=september!$A40)*(datums=september!O$5)*(uren))","v":"00:00:00"},{"$f":"SUMPRODUCT((werknemers=september!$A40)*(datums=september!P$5)*(uren))","v":"00:00:00"},{"$f":"SUMPRODUCT((werknemers=september!$A40)*(datums=september!Q$5)*(uren))","v":"00:00:00"},{"$f":"SUMPRODUCT((werknemers=september!$A40)*(datums=september!R$5)*(uren))","v":"00:00:00"},{"$f":"SUMPRODUCT((werknemers=september!$A40)*(datums=september!S$5)*(uren))","v":"00:00:00"},{"$f":"SUMPRODUCT((werknemers=september!$A40)*(datums=september!T$5)*(uren))","v":"00:00:00"},{"$f":"SUMPRODUCT((werknemers=september!$A40)*(datums=september!U$5)*(uren))","v":"00:00:00"},{"$f":"SUMPRODUCT((werknemers=september!$A40)*(datums=september!V$5)*(uren))","v":"00:00:00"},{"$f":"SUMPRODUCT((werknemers=september!$A40)*(datums=september!W$5)*(uren))","v":"00:00:00"},{"$f":"SUMPRODUCT((werknemers=september!$A40)*(datums=september!X$5)*(uren))","v":"00:00:00"},{"$f":"SUMPRODUCT((werknemers=september!$A40)*(datums=september!Y$5)*(uren))","v":"00:00:00"},{"$f":"SUMPRODUCT((werknemers=september!$A40)*(datums=september!Z$5)*(uren))","v":"00:00:00"},{"$f":"SUMPRODUCT((werknemers=september!$A40)*(datums=september!AA$5)*(uren))","v":"00:00:00"},{"$f":"SUMPRODUCT((werknemers=september!$A40)*(datums=september!AB$5)*(uren))","v":"00:00:00"},{"$f":"SUMPRODUCT((werknemers=september!$A40)*(datums=september!AC$5)*(uren))","v":"00:00:00"},{"$f":"SUMPRODUCT((werknemers=september!$A40)*(datums=september!AD$5)*(uren))","v":"00:00:00"},{"$f":"SUMPRODUCT((werknemers=september!$A40)*(datums=september!AE$5)*(uren))","v":"00:00:00"}]
[]
["CONTROLE",{"$f":"SUMPRODUCT((werknemers=september!$A42)*(datums=september!B$5)*(uren))","v":"00:00:00"},{"$f":"SUMPRODUCT((werknemers=september!$A42)*(datums=september!C$5)*(uren))","v":"00:00:00"},{"$f":"SUMPRODUCT((werknemers=september!$A42)*(datums=september!D$5)*(uren))","v":"00:00:00"},{"$f":"SUMPRODUCT((werknemers=september!$A42)*(datums=september!E$5)*(uren))","v":"00:00:00"},{"$f":"SUMPRODUCT((werknemers=september!$A42)*(datums=september!F$5)*(uren))","v":"00:00:00"},{"$f":"SUMPRODUCT((werknemers=september!$A42)*(datums=september!G$5)*(uren))","v":"00:00:00"},{"$f":"SUMPRODUCT((werknemers=september!$A42)*(datums=september!H$5)*(uren))","v":"00:00:00"},{"$f":"SUMPRODUCT((werknemers=september!$A42)*(datums=september!I$5)*(uren))","v":"00:00:00"},{"$f":"SUMPRODUCT((werknemers=september!$A42)*(datums=september!J$5)*(uren))","v":"00:00:00"},{"$f":"SUMPRODUCT((werknemers=september!$A42)*(datums=september!K$5)*(uren))","v":"00:00:00"},{"$f":"SUMPRODUCT((werknemers=september!$A42)*(datums=september!L$5)*(uren))","v":"00:00:00"},{"$f":"SUMPRODUCT((werknemers=september!$A42)*(datums=september!M$5)*(uren))","v":"00:00:00"},{"$f":"SUMPRODUCT((werknemers=september!$A42)*(datums=september!N$5)*(uren))","v":"00:00:00"},{"$f":"SUMPRODUCT((werknemers=september!$A42)*(datums=september!O$5)*(uren))","v":"00:00:00"},{"$f":"SUMPRODUCT((werknemers=september!$A42)*(datums=september!P$5)*(uren))","v":"00:00:00"},{"$f":"SUMPRODUCT((werknemers=september!$A42)*(datums=september!Q$5)*(uren))","v":"00:00:00"},{"$f":"SUMPRODUCT((werknemers=september!$A42)*(datums=september!R$5)*(uren))","v":"00:00:00"},{"$f":"SUMPRODUCT((werknemers=september!$A42)*(datums=september!S$5)*(uren))","v":"00:00:00"},{"$f":"SUMPRODUCT((werknemers=september!$A42)*(datums=september!T$5)*(uren))","v":"00:00:00"},{"$f":"SUMPRODUCT((werknemers=september!$A42)*(datums=september!U$5)*(uren))","v":"00:00:00"},{"$f":"SUMPRODUCT((werknemers=september!$A42)*(datums=september!V$5)*(uren))","v":"00:00:00"},{"$f":"SUMPRODUCT((werknemers=september!$A42)*(datums=september!W$5)*(uren))","v":"00:00:00"},{"$f":"SUMPRODUCT((werknemers=september!$A42)*(datums=september!X$5)*(uren))","v":"00:00:00"},{"$f":"SUMPRODUCT((werknemers=september!$A42)*(datums=september!Y$5)*(uren))","v":"00:00:00"},{"$f":"SUMPRODUCT((werknemers=september!$A42)*(datums=september!Z$5)*(uren))","v":"00:00:00"},{"$f":"SUMPRODUCT((werknemers=september!$A42)*(datums=september!AA$5)*(uren))","v":"00:00:00"},{"$f":"SUMPRODUCT((werknemers=september!$A42)*(datums=september!AB$5)*(uren))","v":"00:00:00"},{"$f":"SUMPRODUCT((werknemers=september!$A42)*(datums=september!AC$5)*(uren))","v":"00:00:00"},{"$f":"SUMPRODUCT((werknemers=september!$A42)*(datums=september!AD$5)*(uren))","v":"00:00:00"},{"$f":"SUMPRODUCT((werknemers=september!$A42)*(datums=september!AE$5)*(uren))","v":"00:00:00"}]
[]
["CONTROLE",{"$f":"SUMPRODUCT((werknemers=september!$A44)*(datums=september!B$5)*(uren))","v":"00:00:00"},{"$f":"SUMPRODUCT((werknemers=september!$A44)*(datums=september!C$5)*(uren))","v":"00:00:00"},{"$f":"SUMPRODUCT((werknemers=september!$A44)*(datums=september!D$5)*(uren))","v":"00:00:00"},{"$f":"SUMPRODUCT((werknemers=september!$A44)*(datums=september!E$5)*(uren))","v":"00:00:00"},{"$f":"SUMPRODUCT((werknemers=september!$A44)*(datums=september!F$5)*(uren))","v":"00:00:00"},{"$f":"SUMPRODUCT((werknemers=september!$A44)*(datums=september!G$5)*(uren))","v":"00:00:00"},{"$f":"SUMPRODUCT((werknemers=september!$A44)*(datums=september!H$5)*(uren))","v":"00:00:00"},{"$f":"SUMPRODUCT((werknemers=september!$A44)*(datums=september!I$5)*(uren))","v":"00:00:00"},{"$f":"SUMPRODUCT((werknemers=september!$A44)*(datums=september!J$5)*(uren))","v":"00:00:00"},{"$f":"SUMPRODUCT((werknemers=september!$A44)*(datums=september!K$5)*(uren))","v":"00:00:00"},{"$f":"SUMPRODUCT((werknemers=september!$A44)*(datums=september!L$5)*(uren))","v":"00:00:00"},{"$f":"SUMPRODUCT((werknemers=september!$A44)*(datums=september!M$5)*(uren))","v":"00:00:00"},{"$f":"SUMPRODUCT((werknemers=september!$A44)*(datums=september!N$5)*(uren))","v":"00:00:00"},{"$f":"SUMPRODUCT((werknemers=september!$A44)*(datums=september!O$5)*(uren))","v":"00:00:00"},{"$f":"SUMPRODUCT((werknemers=september!$A44)*(datums=september!P$5)*(uren))","v":"00:00:00"},{"$f":"SUMPRODUCT((werknemers=september!$A44)*(datums=september!Q$5)*(uren))","v":"00:00:00"},{"$f":"SUMPRODUCT((werknemers=september!$A44)*(datums=september!R$5)*(uren))","v":"00:00:00"},{"$f":"SUMPRODUCT((werknemers=september!$A44)*(datums=september!S$5)*(uren))","v":"00:00:00"},{"$f":"SUMPRODUCT((werknemers=september!$A44)*(datums=september!T$5)*(uren))","v":"00:00:00"},{"$f":"SUMPRODUCT((werknemers=september!$A44)*(datums=september!U$5)*(uren))","v":"00:00:00"},{"$f":"SUMPRODUCT((werknemers=september!$A44)*(datums=september!V$5)*(uren))","v":"00:00:00"},{"$f":"SUMPRODUCT((werknemers=september!$A44)*(datums=september!W$5)*(uren))","v":"00:00:00"},{"$f":"SUMPRODUCT((werknemers=september!$A44)*(datums=september!X$5)*(uren))","v":"00:00:00"},{"$f":"SUMPRODUCT((werknemers=september!$A44)*(datums=september!Y$5)*(uren))","v":"00:00:00"},{"$f":"SUMPRODUCT((werknemers=september!$A44)*(datums=september!Z$5)*(uren))","v":"00:00:00"},{"$f":"SUMPRODUCT((werknemers=september!$A44)*(datums=september!AA$5)*(uren))","v":"00:00:00"},{"$f":"SUMPRODUCT((werknemers=september!$A44)*(datums=september!AB$5)*(uren))","v":"00:00:00"},{"$f":"SUMPRODUCT((werknemers=september!$A44)*(datums=september!AC$5)*(uren))","v":"00:00:00"},{"$f":"SUMPRODUCT((werknemers=september!$A44)*(datums=september!AD$5)*(uren))","v":"00:00:00"},{"$f":"SUMPRODUCT((werknemers=september!$A44)*(datums=september!AE$5)*(uren))","v":"00:00:00"}]

{"sheet":"oktober","index":11,"n_rows":45,"n_cols":32,"rows_kept":45,"cut":false,"hidden":false,"merged":[[3,0,4,0],[1,1,1,3],[1,5,1,7],[1,9,1,11]]}
[]
[null,"verlof (V)",null,null,null,"ziek (Z)",null,null,null,"feestdag (F)"]
[]
[{"$f":"YEAR(B5)","v":2018},{"$f":"WEEKDAY(B5)","v":"1900-01-02"},{"$f":"WEEKDAY(C5)","v":"1900-01-03"},"1900-01-04","1900-01-05","1900-01-06","1900-01-07","1900-01-01","1900-01-02","1900-01-03","1900-01-04","1900-01-05","1900-01-06","1900-01-07","1900-01-01","1900-01-02","1900-01-03","1900-01-04","1900-01-05","1900-01-06","1900-01-07","1900-01-01","1900-01-02","1900-01-03","1900-01-04","1900-01-05","1900-01-06","1900-01-07","1900-01-01","1900-01-02","1900-01-03","1900-01-04"]
[null,"2018-10-01","2018-10-02","2018-10-03","2018-10-04","2018-10-05","2018-10-06","2018-10-07","2018-10-08","2018-10-09","2018-10-10","2018-10-11","2018-10-12","2018-10-13","2018-10-14","2018-10-15","2018-10-16","2018-10-17","2018-10-18","2018-10-19","2018-10-20","2018-10-21","2018-10-22","2018-10-23","2018-10-24","2018-10-25","2018-10-26","2018-10-27","2018-10-28","2018-10-29","2018-10-30","2018-10-31"]
[]
["CONTROLE",{"$f":"SUMPRODUCT((werknemers=oktober!$A6)*(datums=oktober!B$5)*(uren))","v":"00:00:00"},{"$f":"SUMPRODUCT((werknemers=oktober!$A6)*(datums=oktober!C$5)*(uren))","v":"00:00:00"},{"$f":"SUMPRODUCT((werknemers=oktober!$A6)*(datums=oktober!D$5)*(uren))","v":"00:00:00"},{"$f":"SUMPRODUCT((werknemers=oktober!$A6)*(datums=oktober!E$5)*(uren))","v":"00:00:00"},{"$f":"SUMPRODUCT((werknemers=oktober!$A6)*(datums=oktober!F$5)*(uren))","v":"00:00:00"},{"$f":"SUMPRODUCT((werknemers=oktober!$A6)*(datums=oktober!G$5)*(uren))","v":"00:00:00"},{"$f":"SUMPRODUCT((werknemers=oktober!$A6)*(datums=oktober!H$5)*(uren))","v":"00:00:00"},{"$f":"SUMPRODUCT((werknemers=oktober!$A6)*(datums=oktober!I$5)*(uren))","v":"00:00:00"},{"$f":"SUMPRODUCT((werknemers=oktober!$A6)*(datums=oktober!J$5)*(uren))","v":"00:00:00"},{"$f":"SUMPRODUCT((werknemers=oktober!$A6)*(datums=oktober!K$5)*(uren))","v":"00:00:00"},{"$f":"SUMPRODUCT((werknemers=oktober!$A6)*(datums=oktober!L$5)*(uren))","v":"00:00:00"},{"$f":"SUMPRODUCT((werknemers=oktober!$A6)*(datums=oktober!M$5)*(uren))","v":"00:00:00"},{"$f":"SUMPRODUCT((werknemers=oktober!$A6)*(datums=oktober!N$5)*(uren))","v":"00:00:00"},{"$f":"SUMPRODUCT((werknemers=oktober!$A6)*(datums=oktober!O$5)*(uren))","v":"00:00:00"},{"$f":"SUMPRODUCT((werknemers=oktober!$A6)*(datums=oktober!P$5)*(uren))","v":"00:00:00"},{"$f":"SUMPRODUCT((werknemers=oktober!$A6)*(datums=oktober!Q$5)*(uren))","v":"00:00:00"},{"$f":"SUMPRODUCT((werknemers=oktober!$A6)*(datums=oktober!R$5)*(uren))","v":"00:00:00"},{"$f":"SUMPRODUCT((werknemers=oktober!$A6)*(datums=oktober!S$5)*(uren))","v":"00:00:00"},{"$f":"SUMPRODUCT((werknemers=oktober!$A6)*(datums=oktober!T$5)*(uren))","v":"00:00:00"},{"$f":"SUMPRODUCT((werknemers=oktober!$A6)*(datums=oktober!U$5)*(uren))","v":"00:00:00"},{"$f":"SUMPRODUCT((werknemers=oktober!$A6)*(datums=oktober!V$5)*(uren))","v":"00:00:00"},{"$f":"SUMPRODUCT((werknemers=oktober!$A6)*(datums=oktober!W$5)*(uren))","v":"00:00:00"},{"$f":"SUMPRODUCT((werknemers=oktober!$A6)*(datums=oktober!X$5)*(uren))","v":"00:00:00"},{"$f":"SUMPRODUCT((werknemers=oktober!$A6)*(datums=oktober!Y$5)*(uren))","v":"00:00:00"},{"$f":"SUMPRODUCT((werknemers=oktober!$A6)*(datums=oktober!Z$5)*(uren))","v":"00:00:00"},{"$f":"SUMPRODUCT((werknemers=oktober!$A6)*(datums=oktober!AA$5)*(uren))","v":"00:00:00"},{"$f":"SUMPRODUCT((werknemers=oktober!$A6)*(datums=oktober!AB$5)*(uren))","v":"00:00:00"},{"$f":"SUMPRODUCT((werknemers=oktober!$A6)*(datums=oktober!AC$5)*(uren))","v":"00:00:00"},{"$f":"SUMPRODUCT((werknemers=oktober!$A6)*(datums=oktober!AD$5)*(uren))","v":"00:00:00"},{"$f":"SUMPRODUCT((werknemers=oktober!$A6)*(datums=oktober!AE$5)*(uren))","v":"00:00:00"},{"$f":"SUMPRODUCT((werknemers=oktober!$A6)*(datums=oktober!AF$5)*(uren))","v":"00:00:00"}]
[]
["CONTROLE",{"$f":"SUMPRODUCT((werknemers=oktober!$A8)*(datums=oktober!B$5)*(uren))","v":"00:00:00"},{"$f":"SUMPRODUCT((werknemers=oktober!$A8)*(datums=oktober!C$5)*(uren))","v":"00:00:00"},{"$f":"SUMPRODUCT((werknemers=oktober!$A8)*(datums=oktober!D$5)*(uren))","v":"00:00:00"},{"$f":"SUMPRODUCT((werknemers=oktober!$A8)*(datums=oktober!E$5)*(uren))","v":"00:00:00"},{"$f":"SUMPRODUCT((werknemers=oktober!$A8)*(datums=oktober!F$5)*(uren))","v":"00:00:00"},{"$f":"SUMPRODUCT((werknemers=oktober!$A8)*(datums=oktober!G$5)*(uren))","v":"00:00:00"},{"$f":"SUMPRODUCT((werknemers=oktober!$A8)*(datums=oktober!H$5)*(uren))","v":"00:00:00"},{"$f":"SUMPRODUCT((werknemers=oktober!$A8)*(datums=oktober!I$5)*(uren))","v":"00:00:00"},{"$f":"SUMPRODUCT((werknemers=oktober!$A8)*(datums=oktober!J$5)*(uren))","v":"00:00:00"},{"$f":"SUMPRODUCT((werknemers=oktober!$A8)*(datums=oktober!K$5)*(uren))","v":"00:00:00"},{"$f":"SUMPRODUCT((werknemers=oktober!$A8)*(datums=oktober!L$5)*(uren))","v":"00:00:00"},{"$f":"SUMPRODUCT((werknemers=oktober!$A8)*(datums=oktober!M$5)*(uren))","v":"00:00:00"},{"$f":"SUMPRODUCT((werknemers=oktober!$A8)*(datums=oktober!N$5)*(uren))","v":"00:00:00"},{"$f":"SUMPRODUCT((werknemers=oktober!$A8)*(datums=oktober!O$5)*(uren))","v":"00:00:00"},{"$f":"SUMPRODUCT((werknemers=oktober!$A8)*(datums=oktober!P$5)*(uren))","v":"00:00:00"},{"$f":"SUMPRODUCT((werknemers=oktober!$A8)*(datums=oktober!Q$5)*(uren))","v":"00:00:00"},{"$f":"SUMPRODUCT((werknemers=oktober!$A8)*(datums=oktober!R$5)*(uren))","v":"00:00:00"},{"$f":"SUMPRODUCT((werknemers=oktober!$A8)*(datums=oktober!S$5)*(uren))","v":"00:00:00"},{"$f":"SUMPRODUCT((werknemers=oktober!$A8)*(datums=oktober!T$5)*(uren))","v":"00:00:00"},{"$f":"SUMPRODUCT((werknemers=oktober!$A8)*(datums=oktober!U$5)*(uren))","v":"00:00:00"},{"$f":"SUMPRODUCT((werknemers=oktober!$A8)*(datums=oktober!V$5)*(uren))","v":"00:00:00"},{"$f":"SUMPRODUCT((werknemers=oktober!$A8)*(datums=oktober!W$5)*(uren))","v":"00:00:00"},{"$f":"SUMPRODUCT((werknemers=oktober!$A8)*(datums=oktober!X$5)*(uren))","v":"00:00:00"},{"$f":"SUMPRODUCT((werknemers=oktober!$A8)*(datums=oktober!Y$5)*(uren))","v":"00:00:00"},{"$f":"SUMPRODUCT((werknemers=oktober!$A8)*(datums=oktober!Z$5)*(uren))","v":"00:00:00"},{"$f":"SUMPRODUCT((werknemers=oktober!$A8)*(datums=oktober!AA$5)*(uren))","v":"00:00:00"},{"$f":"SUMPRODUCT((werknemers=oktober!$A8)*(datums=oktober!AB$5)*(uren))","v":"00:00:00"},{"$f":"SUMPRODUCT((werknemers=oktober!$A8)*(datums=oktober!AC$5)*(uren))","v":"00:00:00"},{"$f":"SUMPRODUCT((werknemers=oktober!$A8)*(datums=oktober!AD$5)*(uren))","v":"00:00:00"},{"$f":"SUMPRODUCT((werknemers=oktober!$A8)*(datums=oktober!AE$5)*(uren))","v":"00:00:00"},{"$f":"SUMPRODUCT((werknemers=oktober!$A8)*(datums=oktober!AF$5)*(uren))","v":"00:00:00"}]
[]
["CONTROLE",{"$f":"SUMPRODUCT((werknemers=oktober!$A10)*(datums=oktober!B$5)*(uren))","v":"00:00:00"},{"$f":"SUMPRODUCT((werknemers=oktober!$A10)*(datums=oktober!C$5)*(uren))","v":"00:00:00"},{"$f":"SUMPRODUCT((werknemers=oktober!$A10)*(datums=oktober!D$5)*(uren))","v":"00:00:00"},{"$f":"SUMPRODUCT((werknemers=oktober!$A10)*(datums=oktober!E$5)*(uren))","v":"00:00:00"},{"$f":"SUMPRODUCT((werknemers=oktober!$A10)*(datums=oktober!F$5)*(uren))","v":"00:00:00"},{"$f":"SUMPRODUCT((werknemers=oktober!$A10)*(datums=oktober!G$5)*(uren))","v":"00:00:00"},{"$f":"SUMPRODUCT((werknemers=oktober!$A10)*(datums=oktober!H$5)*(uren))","v":"00:00:00"},{"$f":"SUMPRODUCT((werknemers=oktober!$A10)*(datums=oktober!I$5)*(uren))","v":"00:00:00"},{"$f":"SUMPRODUCT((werknemers=oktober!$A10)*(datums=oktober!J$5)*(uren))","v":"00:00:00"},{"$f":"SUMPRODUCT((werknemers=oktober!$A10)*(datums=oktober!K$5)*(uren))","v":"00:00:00"},{"$f":"SUMPRODUCT((werknemers=oktober!$A10)*(datums=oktober!L$5)*(uren))","v":"00:00:00"},{"$f":"SUMPRODUCT((werknemers=oktober!$A10)*(datums=oktober!M$5)*(uren))","v":"00:00:00"},{"$f":"SUMPRODUCT((werknemers=oktober!$A10)*(datums=oktober!N$5)*(uren))","v":"00:00:00"},{"$f":"SUMPRODUCT((werknemers=oktober!$A10)*(datums=oktober!O$5)*(uren))","v":"00:00:00"},{"$f":"SUMPRODUCT((werknemers=oktober!$A10)*(datums=oktober!P$5)*(uren))","v":"00:00:00"},{"$f":"SUMPRODUCT((werknemers=oktober!$A10)*(datums=oktober!Q$5)*(uren))","v":"00:00:00"},{"$f":"SUMPRODUCT((werknemers=oktober!$A10)*(datums=oktober!R$5)*(uren))","v":"00:00:00"},{"$f":"SUMPRODUCT((werknemers=oktober!$A10)*(datums=oktober!S$5)*(uren))","v":"00:00:00"},{"$f":"SUMPRODUCT((werknemers=oktober!$A10)*(datums=oktober!T$5)*(uren))","v":"00:00:00"},{"$f":"SUMPRODUCT((werknemers=oktober!$A10)*(datums=oktober!U$5)*(uren))","v":"00:00:00"},{"$f":"SUMPRODUCT((werknemers=oktober!$A10)*(datums=oktober!V$5)*(uren))","v":"00:00:00"},{"$f":"SUMPRODUCT((werknemers=oktober!$A10)*(datums=oktober!W$5)*(uren))","v":"00:00:00"},{"$f":"SUMPRODUCT((werknemers=oktober!$A10)*(datums=oktober!X$5)*(uren))","v":"00:00:00"},{"$f":"SUMPRODUCT((werknemers=oktober!$A10)*(datums=oktober!Y$5)*(uren))","v":"00:00:00"},{"$f":"SUMPRODUCT((werknemers=oktober!$A10)*(datums=oktober!Z$5)*(uren))","v":"00:00:00"},{"$f":"SUMPRODUCT((werknemers=oktober!$A10)*(datums=oktober!AA$5)*(uren))","v":"00:00:00"},{"$f":"SUMPRODUCT((werknemers=oktober!$A10)*(datums=oktober!AB$5)*(uren))","v":"00:00:00"},{"$f":"SUMPRODUCT((werknemers=oktober!$A10)*(datums=oktober!AC$5)*(uren))","v":"00:00:00"},{"$f":"SUMPRODUCT((werknemers=oktober!$A10)*(datums=oktober!AD$5)*(uren))","v":"00:00:00"},{"$f":"SUMPRODUCT((werknemers=oktober!$A10)*(datums=oktober!AE$5)*(uren))","v":"00:00:00"},{"$f":"SUMPRODUCT((werknemers=oktober!$A10)*(datums=oktober!AF$5)*(uren))","v":"00:00:00"}]
[]
["CONTROLE",{"$f":"SUMPRODUCT((werknemers=oktober!$A12)*(datums=oktober!B$5)*(uren))","v":"00:00:00"},{"$f":"SUMPRODUCT((werknemers=oktober!$A12)*(datums=oktober!C$5)*(uren))","v":"00:00:00"},{"$f":"SUMPRODUCT((werknemers=oktober!$A12)*(datums=oktober!D$5)*(uren))","v":"00:00:00"},{"$f":"SUMPRODUCT((werknemers=oktober!$A12)*(datums=oktober!E$5)*(uren))","v":"00:00:00"},{"$f":"SUMPRODUCT((werknemers=oktober!$A12)*(datums=oktober!F$5)*(uren))","v":"00:00:00"},{"$f":"SUMPRODUCT((werknemers=oktober!$A12)*(datums=oktober!G$5)*(uren))","v":"00:00:00"},{"$f":"SUMPRODUCT((werknemers=oktober!$A12)*(datums=oktober!H$5)*(uren))","v":"00:00:00"},{"$f":"SUMPRODUCT((werknemers=oktober!$A12)*(datums=oktober!I$5)*(uren))","v":"00:00:00"},{"$f":"SUMPRODUCT((werknemers=oktober!$A12)*(datums=oktober!J$5)*(uren))","v":"00:00:00"},{"$f":"SUMPRODUCT((werknemers=oktober!$A12)*(datums=oktober!K$5)*(uren))","v":"00:00:00"},{"$f":"SUMPRODUCT((werknemers=oktober!$A12)*(datums=oktober!L$5)*(uren))","v":"00:00:00"},{"$f":"SUMPRODUCT((werknemers=oktober!$A12)*(datums=oktober!M$5)*(uren))","v":"00:00:00"},{"$f":"SUMPRODUCT((werknemers=oktober!$A12)*(datums=oktober!N$5)*(uren))","v":"00:00:00"},{"$f":"SUMPRODUCT((werknemers=oktober!$A12)*(datums=oktober!O$5)*(uren))","v":"00:00:00"},{"$f":"SUMPRODUCT((werknemers=oktober!$A12)*(datums=oktober!P$5)*(uren))","v":"00:00:00"},{"$f":"SUMPRODUCT((werknemers=oktober!$A12)*(datums=oktober!Q$5)*(uren))","v":"00:00:00"},{"$f":"SUMPRODUCT((werknemers=oktober!$A12)*(datums=oktober!R$5)*(uren))","v":"00:00:00"},{"$f":"SUMPRODUCT((werknemers=oktober!$A12)*(datums=oktober!S$5)*(uren))","v":"00:00:00"},{"$f":"SUMPRODUCT((werknemers=oktober!$A12)*(datums=oktober!T$5)*(uren))","v":"00:00:00"},{"$f":"SUMPRODUCT((werknemers=oktober!$A12)*(datums=oktober!U$5)*(uren))","v":"00:00:00"},{"$f":"SUMPRODUCT((werknemers=oktober!$A12)*(datums=oktober!V$5)*(uren))","v":"00:00:00"},{"$f":"SUMPRODUCT((werknemers=oktober!$A12)*(datums=oktober!W$5)*(uren))","v":"00:00:00"},{"$f":"SUMPRODUCT((werknemers=oktober!$A12)*(datums=oktober!X$5)*(uren))","v":"00:00:00"},{"$f":"SUMPRODUCT((werknemers=oktober!$A12)*(datums=oktober!Y$5)*(uren))","v":"00:00:00"},{"$f":"SUMPRODUCT((werknemers=oktober!$A12)*(datums=oktober!Z$5)*(uren))","v":"00:00:00"},{"$f":"SUMPRODUCT((werknemers=oktober!$A12)*(datums=oktober!AA$5)*(uren))","v":"00:00:00"},{"$f":"SUMPRODUCT((werknemers=oktober!$A12)*(datums=oktober!AB$5)*(uren))","v":"00:00:00"},{"$f":"SUMPRODUCT((werknemers=oktober!$A12)*(datums=oktober!AC$5)*(uren))","v":"00:00:00"},{"$f":"SUMPRODUCT((werknemers=oktober!$A12)*(datums=oktober!AD$5)*(uren))","v":"00:00:00"},{"$f":"SUMPRODUCT((werknemers=oktober!$A12)*(datums=oktober!AE$5)*(uren))","v":"00:00:00"},{"$f":"SUMPRODUCT((werknemers=oktober!$A12)*(datums=oktober!AF$5)*(uren))","v":"00:00:00"}]
[]
["CONTROLE",{"$f":"SUMPRODUCT((werknemers=oktober!$A14)*(datums=oktober!B$5)*(uren))","v":"00:00:00"},{"$f":"SUMPRODUCT((werknemers=oktober!$A14)*(datums=oktober!C$5)*(uren))","v":"00:00:00"},{"$f":"SUMPRODUCT((werknemers=oktober!$A14)*(datums=oktober!D$5)*(uren))","v":"00:00:00"},{"$f":"SUMPRODUCT((werknemers=oktober!$A14)*(datums=oktober!E$5)*(uren))","v":"00:00:00"},{"$f":"SUMPRODUCT((werknemers=oktober!$A14)*(datums=oktober!F$5)*(uren))","v":"00:00:00"},{"$f":"SUMPRODUCT((werknemers=oktober!$A14)*(datums=oktober!G$5)*(uren))","v":"00:00:00"},{"$f":"SUMPRODUCT((werknemers=oktober!$A14)*(datums=oktober!H$5)*(uren))","v":"00:00:00"},{"$f":"SUMPRODUCT((werknemers=oktober!$A14)*(datums=oktober!I$5)*(uren))","v":"00:00:00"},{"$f":"SUMPRODUCT((werknemers=oktober!$A14)*(datums=oktober!J$5)*(uren))","v":"00:00:00"},{"$f":"SUMPRODUCT((werknemers=oktober!$A14)*(datums=oktober!K$5)*(uren))","v":"00:00:00"},{"$f":"SUMPRODUCT((werknemers=oktober!$A14)*(datums=oktober!L$5)*(uren))","v":"00:00:00"},{"$f":"SUMPRODUCT((werknemers=oktober!$A14)*(datums=oktober!M$5)*(uren))","v":"00:00:00"},{"$f":"SUMPRODUCT((werknemers=oktober!$A14)*(datums=oktober!N$5)*(uren))","v":"00:00:00"},{"$f":"SUMPRODUCT((werknemers=oktober!$A14)*(datums=oktober!O$5)*(uren))","v":"00:00:00"},{"$f":"SUMPRODUCT((werknemers=oktober!$A14)*(datums=oktober!P$5)*(uren))","v":"00:00:00"},{"$f":"SUMPRODUCT((werknemers=oktober!$A14)*(datums=oktober!Q$5)*(uren))","v":"00:00:00"},{"$f":"SUMPRODUCT((werknemers=oktober!$A14)*(datums=oktober!R$5)*(uren))","v":"00:00:00"},{"$f":"SUMPRODUCT((werknemers=oktober!$A14)*(datums=oktober!S$5)*(uren))","v":"00:00:00"},{"$f":"SUMPRODUCT((werknemers=oktober!$A14)*(datums=oktober!T$5)*(uren))","v":"00:00:00"},{"$f":"SUMPRODUCT((werknemers=oktober!$A14)*(datums=oktober!U$5)*(uren))","v":"00:00:00"},{"$f":"SUMPRODUCT((werknemers=oktober!$A14)*(datums=oktober!V$5)*(uren))","v":"00:00:00"},{"$f":"SUMPRODUCT((werknemers=oktober!$A14)*(datums=oktober!W$5)*(uren))","v":"00:00:00"},{"$f":"SUMPRODUCT((werknemers=oktober!$A14)*(datums=oktober!X$5)*(uren))","v":"00:00:00"},{"$f":"SUMPRODUCT((werknemers=oktober!$A14)*(datums=oktober!Y$5)*(uren))","v":"00:00:00"},{"$f":"SUMPRODUCT((werknemers=oktober!$A14)*(datums=oktober!Z$5)*(uren))","v":"00:00:00"},{"$f":"SUMPRODUCT((werknemers=oktober!$A14)*(datums=oktober!AA$5)*(uren))","v":"00:00:00"},{"$f":"SUMPRODUCT((werknemers=oktober!$A14)*(datums=oktober!AB$5)*(uren))","v":"00:00:00"},{"$f":"SUMPRODUCT((werknemers=oktober!$A14)*(datums=oktober!AC$5)*(uren))","v":"00:00:00"},{"$f":"SUMPRODUCT((werknemers=oktober!$A14)*(datums=oktober!AD$5)*(uren))","v":"00:00:00"},{"$f":"SUMPRODUCT((werknemers=oktober!$A14)*(datums=oktober!AE$5)*(uren))","v":"00:00:00"},{"$f":"SUMPRODUCT((werknemers=oktober!$A14)*(datums=oktober!AF$5)*(uren))","v":"00:00:00"}]
[]
["CONTROLE",{"$f":"SUMPRODUCT((werknemers=oktober!$A16)*(datums=oktober!B$5)*(uren))","v":"00:00:00"},{"$f":"SUMPRODUCT((werknemers=oktober!$A16)*(datums=oktober!C$5)*(uren))","v":"00:00:00"},{"$f":"SUMPRODUCT((werknemers=oktober!$A16)*(datums=oktober!D$5)*(uren))","v":"00:00:00"},{"$f":"SUMPRODUCT((werknemers=oktober!$A16)*(datums=oktober!E$5)*(uren))","v":"00:00:00"},{"$f":"SUMPRODUCT((werknemers=oktober!$A16)*(datums=oktober!F$5)*(uren))","v":"00:00:00"},{"$f":"SUMPRODUCT((werknemers=oktober!$A16)*(datums=oktober!G$5)*(uren))","v":"00:00:00"},{"$f":"SUMPRODUCT((werknemers=oktober!$A16)*(datums=oktober!H$5)*(uren))","v":"00:00:00"},{"$f":"SUMPRODUCT((werknemers=oktober!$A16)*(datums=oktober!I$5)*(uren))","v":"00:00:00"},{"$f":"SUMPRODUCT((werknemers=oktober!$A16)*(datums=oktober!J$5)*(uren))","v":"00:00:00"},{"$f":"SUMPRODUCT((werknemers=oktober!$A16)*(datums=oktober!K$5)*(uren))","v":"00:00:00"},{"$f":"SUMPRODUCT((werknemers=oktober!$A16)*(datums=oktober!L$5)*(uren))","v":"00:00:00"},{"$f":"SUMPRODUCT((werknemers=oktober!$A16)*(datums=oktober!M$5)*(uren))","v":"00:00:00"},{"$f":"SUMPRODUCT((werknemers=oktober!$A16)*(datums=oktober!N$5)*(uren))","v":"00:00:00"},{"$f":"SUMPRODUCT((werknemers=oktober!$A16)*(datums=oktober!O$5)*(uren))","v":"00:00:00"},{"$f":"SUMPRODUCT((werknemers=oktober!$A16)*(datums=oktober!P$5)*(uren))","v":"00:00:00"},{"$f":"SUMPRODUCT((werknemers=oktober!$A16)*(datums=oktober!Q$5)*(uren))","v":"00:00:00"},{"$f":"SUMPRODUCT((werknemers=oktober!$A16)*(datums=oktober!R$5)*(uren))","v":"00:00:00"},{"$f":"SUMPRODUCT((werknemers=oktober!$A16)*(datums=oktober!S$5)*(uren))","v":"00:00:00"},{"$f":"SUMPRODUCT((werknemers=oktober!$A16)*(datums=oktober!T$5)*(uren))","v":"00:00:00"},{"$f":"SUMPRODUCT((werknemers=oktober!$A16)*(datums=oktober!U$5)*(uren))","v":"00:00:00"},{"$f":"SUMPRODUCT((werknemers=oktober!$A16)*(datums=oktober!V$5)*(uren))","v":"00:00:00"},{"$f":"SUMPRODUCT((werknemers=oktober!$A16)*(datums=oktober!W$5)*(uren))","v":"00:00:00"},{"$f":"SUMPRODUCT((werknemers=oktober!$A16)*(datums=oktober!X$5)*(uren))","v":"00:00:00"},{"$f":"SUMPRODUCT((werknemers=oktober!$A16)*(datums=oktober!Y$5)*(uren))","v":"00:00:00"},{"$f":"SUMPRODUCT((werknemers=oktober!$A16)*(datums=oktober!Z$5)*(uren))","v":"00:00:00"},{"$f":"SUMPRODUCT((werknemers=oktober!$A16)*(datums=oktober!AA$5)*(uren))","v":"00:00:00"},{"$f":"SUMPRODUCT((werknemers=oktober!$A16)*(datums=oktober!AB$5)*(uren))","v":"00:00:00"},{"$f":"SUMPRODUCT((werknemers=oktober!$A16)*(datums=oktober!AC$5)*(uren))","v":"00:00:00"},{"$f":"SUMPRODUCT((werknemers=oktober!$A16)*(datums=oktober!AD$5)*(uren))","v":"00:00:00"},{"$f":"SUMPRODUCT((werknemers=oktober!$A16)*(datums=oktober!AE$5)*(uren))","v":"00:00:00"},{"$f":"SUMPRODUCT((werknemers=oktober!$A16)*(datums=oktober!AF$5)*(uren))","v":"00:00:00"}]
[]
["CONTROLE",{"$f":"SUMPRODUCT((werknemers=oktober!$A18)*(datums=oktober!B$5)*(uren))","v":"00:00:00"},{"$f":"SUMPRODUCT((werknemers=oktober!$A18)*(datums=oktober!C$5)*(uren))","v":"00:00:00"},{"$f":"SUMPRODUCT((werknemers=oktober!$A18)*(datums=oktober!D$5)*(uren))","v":"00:00:00"},{"$f":"SUMPRODUCT((werknemers=oktober!$A18)*(datums=oktober!E$5)*(uren))","v":"00:00:00"},{"$f":"SUMPRODUCT((werknemers=oktober!$A18)*(datums=oktober!F$5)*(uren))","v":"00:00:00"},{"$f":"SUMPRODUCT((werknemers=oktober!$A18)*(datums=oktober!G$5)*(uren))","v":"00:00:00"},{"$f":"SUMPRODUCT((werknemers=oktober!$A18)*(datums=oktober!H$5)*(uren))","v":"00:00:00"},{"$f":"SUMPRODUCT((werknemers=oktober!$A18)*(datums=oktober!I$5)*(uren))","v":"00:00:00"},{"$f":"SUMPRODUCT((werknemers=oktober!$A18)*(datums=oktober!J$5)*(uren))","v":"00:00:00"},{"$f":"SUMPRODUCT((werknemers=oktober!$A18)*(datums=oktober!K$5)*(uren))","v":"00:00:00"},{"$f":"SUMPRODUCT((werknemers=oktober!$A18)*(datums=oktober!L$5)*(uren))","v":"00:00:00"},{"$f":"SUMPRODUCT((werknemers=oktober!$A18)*(datums=oktober!M$5)*(uren))","v":"00:00:00"},{"$f":"SUMPRODUCT((werknemers=oktober!$A18)*(datums=oktober!N$5)*(uren))","v":"00:00:00"},{"$f":"SUMPRODUCT((werknemers=oktober!$A18)*(datums=oktober!O$5)*(uren))","v":"00:00:00"},{"$f":"SUMPRODUCT((werknemers=oktober!$A18)*(datums=oktober!P$5)*(uren))","v":"00:00:00"},{"$f":"SUMPRODUCT((werknemers=oktober!$A18)*(datums=oktober!Q$5)*(uren))","v":"00:00:00"},{"$f":"SUMPRODUCT((werknemers=oktober!$A18)*(datums=oktober!R$5)*(uren))","v":"00:00:00"},{"$f":"SUMPRODUCT((werknemers=oktober!$A18)*(datums=oktober!S$5)*(uren))","v":"00:00:00"},{"$f":"SUMPRODUCT((werknemers=oktober!$A18)*(datums=oktober!T$5)*(uren))","v":"00:00:00"},{"$f":"SUMPRODUCT((werknemers=oktober!$A18)*(datums=oktober!U$5)*(uren))","v":"00:00:00"},{"$f":"SUMPRODUCT((werknemers=oktober!$A18)*(datums=oktober!V$5)*(uren))","v":"00:00:00"},{"$f":"SUMPRODUCT((werknemers=oktober!$A18)*(datums=oktober!W$5)*(uren))","v":"00:00:00"},{"$f":"SUMPRODUCT((werknemers=oktober!$A18)*(datums=oktober!X$5)*(uren))","v":"00:00:00"},{"$f":"SUMPRODUCT((werknemers=oktober!$A18)*(datums=oktober!Y$5)*(uren))","v":"00:00:00"},{"$f":"SUMPRODUCT((werknemers=oktober!$A18)*(datums=oktober!Z$5)*(uren))","v":"00:00:00"},{"$f":"SUMPRODUCT((werknemers=oktober!$A18)*(datums=oktober!AA$5)*(uren))","v":"00:00:00"},{"$f":"SUMPRODUCT((werknemers=oktober!$A18)*(datums=oktober!AB$5)*(uren))","v":"00:00:00"},{"$f":"SUMPRODUCT((werknemers=oktober!$A18)*(datums=oktober!AC$5)*(uren))","v":"00:00:00"},{"$f":"SUMPRODUCT((werknemers=oktober!$A18)*(datums=oktober!AD$5)*(uren))","v":"00:00:00"},{"$f":"SUMPRODUCT((werknemers=oktober!$A18)*(datums=oktober!AE$5)*(uren))","v":"00:00:00"},{"$f":"SUMPRODUCT((werknemers=oktober!$A18)*(datums=oktober!AF$5)*(uren))","v":"00:00:00"}]
[]
["CONTROLE",{"$f":"SUMPRODUCT((werknemers=oktober!$A20)*(datums=oktober!B$5)*(uren))","v":"00:00:00"},{"$f":"SUMPRODUCT((werknemers=oktober!$A20)*(datums=oktober!C$5)*(uren))","v":"00:00:00"},{"$f":"SUMPRODUCT((werknemers=oktober!$A20)*(datums=oktober!D$5)*(uren))","v":"00:00:00"},{"$f":"SUMPRODUCT((werknemers=oktober!$A20)*(datums=oktober!E$5)*(uren))","v":"00:00:00"},{"$f":"SUMPRODUCT((werknemers=oktober!$A20)*(datums=oktober!F$5)*(uren))","v":"00:00:00"},{"$f":"SUMPRODUCT((werknemers=oktober!$A20)*(datums=oktober!G$5)*(uren))","v":"00:00:00"},{"$f":"SUMPRODUCT((werknemers=oktober!$A20)*(datums=oktober!H$5)*(uren))","v":"00:00:00"},{"$f":"SUMPRODUCT((werknemers=oktober!$A20)*(datums=oktober!I$5)*(uren))","v":"00:00:00"},{"$f":"SUMPRODUCT((werknemers=oktober!$A20)*(datums=oktober!J$5)*(uren))","v":"00:00:00"},{"$f":"SUMPRODUCT((werknemers=oktober!$A20)*(datums=oktober!K$5)*(uren))","v":"00:00:00"},{"$f":"SUMPRODUCT((werknemers=oktober!$A20)*(datums=oktober!L$5)*(uren))","v":"00:00:00"},{"$f":"SUMPRODUCT((werknemers=oktober!$A20)*(datums=oktober!M$5)*(uren))","v":"00:00:00"},{"$f":"SUMPRODUCT((werknemers=oktober!$A20)*(datums=oktober!N$5)*(uren))","v":"00:00:00"},{"$f":"SUMPRODUCT((werknemers=oktober!$A20)*(datums=oktober!O$5)*(uren))","v":"00:00:00"},{"$f":"SUMPRODUCT((werknemers=oktober!$A20)*(datums=oktober!P$5)*(uren))","v":"00:00:00"},{"$f":"SUMPRODUCT((werknemers=oktober!$A20)*(datums=oktober!Q$5)*(uren))","v":"00:00:00"},{"$f":"SUMPRODUCT((werknemers=oktober!$A20)*(datums=oktober!R$5)*(uren))","v":"00:00:00"},{"$f":"SUMPRODUCT((werknemers=oktober!$A20)*(datums=oktober!S$5)*(uren))","v":"00:00:00"},{"$f":"SUMPRODUCT((werknemers=oktober!$A20)*(datums=oktober!T$5)*(uren))","v":"00:00:00"},{"$f":"SUMPRODUCT((werknemers=oktober!$A20)*(datums=oktober!U$5)*(uren))","v":"00:00:00"},{"$f":"SUMPRODUCT((werknemers=oktober!$A20)*(datums=oktober!V$5)*(uren))","v":"00:00:00"},{"$f":"SUMPRODUCT((werknemers=oktober!$A20)*(datums=oktober!W$5)*(uren))","v":"00:00:00"},{"$f":"SUMPRODUCT((werknemers=oktober!$A20)*(datums=oktober!X$5)*(uren))","v":"00:00:00"},{"$f":"SUMPRODUCT((werknemers=oktober!$A20)*(datums=oktober!Y$5)*(uren))","v":"00:00:00"},{"$f":"SUMPRODUCT((werknemers=oktober!$A20)*(datums=oktober!Z$5)*(uren))","v":"00:00:00"},{"$f":"SUMPRODUCT((werknemers=oktober!$A20)*(datums=oktober!AA$5)*(uren))","v":"00:00:00"},{"$f":"SUMPRODUCT((werknemers=oktober!$A20)*(datums=oktober!AB$5)*(uren))","v":"00:00:00"},{"$f":"SUMPRODUCT((werknemers=oktober!$A20)*(datums=oktober!AC$5)*(uren))","v":"00:00:00"},{"$f":"SUMPRODUCT((werknemers=oktober!$A20)*(datums=oktober!AD$5)*(uren))","v":"00:00:00"},{"$f":"SUMPRODUCT((werknemers=oktober!$A20)*(datums=oktober!AE$5)*(uren))","v":"00:00:00"},{"$f":"SUMPRODUCT((werknemers=oktober!$A20)*(datums=oktober!AF$5)*(uren))","v":"00:00:00"}]
[]
["CONTROLE",{"$f":"SUMPRODUCT((werknemers=oktober!$A22)*(datums=oktober!B$5)*(uren))","v":"00:00:00"},{"$f":"SUMPRODUCT((werknemers=oktober!$A22)*(datums=oktober!C$5)*(uren))","v":"00:00:00"},{"$f":"SUMPRODUCT((werknemers=oktober!$A22)*(datums=oktober!D$5)*(uren))","v":"00:00:00"},{"$f":"SUMPRODUCT((werknemers=oktober!$A22)*(datums=oktober!E$5)*(uren))","v":"00:00:00"},{"$f":"SUMPRODUCT((werknemers=oktober!$A22)*(datums=oktober!F$5)*(uren))","v":"00:00:00"},{"$f":"SUMPRODUCT((werknemers=oktober!$A22)*(datums=oktober!G$5)*(uren))","v":"00:00:00"},{"$f":"SUMPRODUCT((werknemers=oktober!$A22)*(datums=oktober!H$5)*(uren))","v":"00:00:00"},{"$f":"SUMPRODUCT((werknemers=oktober!$A22)*(datums=oktober!I$5)*(uren))","v":"00:00:00"},{"$f":"SUMPRODUCT((werknemers=oktober!$A22)*(datums=oktober!J$5)*(uren))","v":"00:00:00"},{"$f":"SUMPRODUCT((werknemers=oktober!$A22)*(datums=oktober!K$5)*(uren))","v":"00:00:00"},{"$f":"SUMPRODUCT((werknemers=oktober!$A22)*(datums=oktober!L$5)*(uren))","v":"00:00:00"},{"$f":"SUMPRODUCT((werknemers=oktober!$A22)*(datums=oktober!M$5)*(uren))","v":"00:00:00"},{"$f":"SUMPRODUCT((werknemers=oktober!$A22)*(datums=oktober!N$5)*(uren))","v":"00:00:00"},{"$f":"SUMPRODUCT((werknemers=oktober!$A22)*(datums=oktober!O$5)*(uren))","v":"00:00:00"},{"$f":"SUMPRODUCT((werknemers=oktober!$A22)*(datums=oktober!P$5)*(uren))","v":"00:00:00"},{"$f":"SUMPRODUCT((werknemers=oktober!$A22)*(datums=oktober!Q$5)*(uren))","v":"00:00:00"},{"$f":"SUMPRODUCT((werknemers=oktober!$A22)*(datums=oktober!R$5)*(uren))","v":"00:00:00"},{"$f":"SUMPRODUCT((werknemers=oktober!$A22)*(datums=oktober!S$5)*(uren))","v":"00:00:00"},{"$f":"SUMPRODUCT((werknemers=oktober!$A22)*(datums=oktober!T$5)*(uren))","v":"00:00:00"},{"$f":"SUMPRODUCT((werknemers=oktober!$A22)*(datums=oktober!U$5)*(uren))","v":"00:00:00"},{"$f":"SUMPRODUCT((werknemers=oktober!$A22)*(datums=oktober!V$5)*(uren))","v":"00:00:00"},{"$f":"SUMPRODUCT((werknemers=oktober!$A22)*(datums=oktober!W$5)*(uren))","v":"00:00:00"},{"$f":"SUMPRODUCT((werknemers=oktober!$A22)*(datums=oktober!X$5)*(uren))","v":"00:00:00"},{"$f":"SUMPRODUCT((werknemers=oktober!$A22)*(datums=oktober!Y$5)*(uren))","v":"00:00:00"},{"$f":"SUMPRODUCT((werknemers=oktober!$A22)*(datums=oktober!Z$5)*(uren))","v":"00:00:00"},{"$f":"SUMPRODUCT((werknemers=oktober!$A22)*(datums=oktober!AA$5)*(uren))","v":"00:00:00"},{"$f":"SUMPRODUCT((werknemers=oktober!$A22)*(datums=oktober!AB$5)*(uren))","v":"00:00:00"},{"$f":"SUMPRODUCT((werknemers=oktober!$A22)*(datums=oktober!AC$5)*(uren))","v":"00:00:00"},{"$f":"SUMPRODUCT((werknemers=oktober!$A22)*(datums=oktober!AD$5)*(uren))","v":"00:00:00"},{"$f":"SUMPRODUCT((werknemers=oktober!$A22)*(datums=oktober!AE$5)*(uren))","v":"00:00:00"},{"$f":"SUMPRODUCT((werknemers=oktober!$A22)*(datums=oktober!AF$5)*(uren))","v":"00:00:00"}]
[]
["CONTROLE",{"$f":"SUMPRODUCT((werknemers=oktober!$A24)*(datums=oktober!B$5)*(uren))","v":"00:00:00"},{"$f":"SUMPRODUCT((werknemers=oktober!$A24)*(datums=oktober!C$5)*(uren))","v":"00:00:00"},{"$f":"SUMPRODUCT((werknemers=oktober!$A24)*(datums=oktober!D$5)*(uren))","v":"00:00:00"},{"$f":"SUMPRODUCT((werknemers=oktober!$A24)*(datums=oktober!E$5)*(uren))","v":"00:00:00"},{"$f":"SUMPRODUCT((werknemers=oktober!$A24)*(datums=oktober!F$5)*(uren))","v":"00:00:00"},{"$f":"SUMPRODUCT((werknemers=oktober!$A24)*(datums=oktober!G$5)*(uren))","v":"00:00:00"},{"$f":"SUMPRODUCT((werknemers=oktober!$A24)*(datums=oktober!H$5)*(uren))","v":"00:00:00"},{"$f":"SUMPRODUCT((werknemers=oktober!$A24)*(datums=oktober!I$5)*(uren))","v":"00:00:00"},{"$f":"SUMPRODUCT((werknemers=oktober!$A24)*(datums=oktober!J$5)*(uren))","v":"00:00:00"},{"$f":"SUMPRODUCT((werknemers=oktober!$A24)*(datums=oktober!K$5)*(uren))","v":"00:00:00"},{"$f":"SUMPRODUCT((werknemers=oktober!$A24)*(datums=oktober!L$5)*(uren))","v":"00:00:00"},{"$f":"SUMPRODUCT((werknemers=oktober!$A24)*(datums=oktober!M$5)*(uren))","v":"00:00:00"},{"$f":"SUMPRODUCT((werknemers=oktober!$A24)*(datums=oktober!N$5)*(uren))","v":"00:00:00"},{"$f":"SUMPRODUCT((werknemers=oktober!$A24)*(datums=oktober!O$5)*(uren))","v":"00:00:00"},{"$f":"SUMPRODUCT((werknemers=oktober!$A24)*(datums=oktober!P$5)*(uren))","v":"00:00:00"},{"$f":"SUMPRODUCT((werknemers=oktober!$A24)*(datums=oktober!Q$5)*(uren))","v":"00:00:00"},{"$f":"SUMPRODUCT((werknemers=oktober!$A24)*(datums=oktober!R$5)*(uren))","v":"00:00:00"},{"$f":"SUMPRODUCT((werknemers=oktober!$A24)*(datums=oktober!S$5)*(uren))","v":"00:00:00"},{"$f":"SUMPRODUCT((werknemers=oktober!$A24)*(datums=oktober!T$5)*(uren))","v":"00:00:00"},{"$f":"SUMPRODUCT((werknemers=oktober!$A24)*(datums=oktober!U$5)*(uren))","v":"00:00:00"},{"$f":"SUMPRODUCT((werknemers=oktober!$A24)*(datums=oktober!V$5)*(uren))","v":"00:00:00"},{"$f":"SUMPRODUCT((werknemers=oktober!$A24)*(datums=oktober!W$5)*(uren))","v":"00:00:00"},{"$f":"SUMPRODUCT((werknemers=oktober!$A24)*(datums=oktober!X$5)*(uren))","v":"00:00:00"},{"$f":"SUMPRODUCT((werknemers=oktober!$A24)*(datums=oktober!Y$5)*(uren))","v":"00:00:00"},{"$f":"SUMPRODUCT((werknemers=oktober!$A24)*(datums=oktober!Z$5)*(uren))","v":"00:00:00"},{"$f":"SUMPRODUCT((werknemers=oktober!$A24)*(datums=oktober!AA$5)*(uren))","v":"00:00:00"},{"$f":"SUMPRODUCT((werknemers=oktober!$A24)*(datums=oktober!AB$5)*(uren))","v":"00:00:00"},{"$f":"SUMPRODUCT((werknemers=oktober!$A24)*(datums=oktober!AC$5)*(uren))","v":"00:00:00"},{"$f":"SUMPRODUCT((werknemers=oktober!$A24)*(datums=oktober!AD$5)*(uren))","v":"00:00:00"},{"$f":"SUMPRODUCT((werknemers=oktober!$A24)*(datums=oktober!AE$5)*(uren))","v":"00:00:00"},{"$f":"SUMPRODUCT((werknemers=oktober!$A24)*(datums=oktober!AF$5)*(uren))","v":"00:00:00"}]
[]
["CONTROLE",{"$f":"SUMPRODUCT((werknemers=oktober!$A26)*(datums=oktober!B$5)*(uren))","v":"00:00:00"},{"$f":"SUMPRODUCT((werknemers=oktober!$A26)*(datums=oktober!C$5)*(uren))","v":"00:00:00"},{"$f":"SUMPRODUCT((werknemers=oktober!$A26)*(datums=oktober!D$5)*(uren))","v":"00:00:00"},{"$f":"SUMPRODUCT((werknemers=oktober!$A26)*(datums=oktober!E$5)*(uren))","v":"00:00:00"},{"$f":"SUMPRODUCT((werknemers=oktober!$A26)*(datums=oktober!F$5)*(uren))","v":"00:00:00"},{"$f":"SUMPRODUCT((werknemers=oktober!$A26)*(datums=oktober!G$5)*(uren))","v":"00:00:00"},{"$f":"SUMPRODUCT((werknemers=oktober!$A26)*(datums=oktober!H$5)*(uren))","v":"00:00:00"},{"$f":"SUMPRODUCT((werknemers=oktober!$A26)*(datums=oktober!I$5)*(uren))","v":"00:00:00"},{"$f":"SUMPRODUCT((werknemers=oktober!$A26)*(datums=oktober!J$5)*(uren))","v":"00:00:00"},{"$f":"SUMPRODUCT((werknemers=oktober!$A26)*(datums=oktober!K$5)*(uren))","v":"00:00:00"},{"$f":"SUMPRODUCT((werknemers=oktober!$A26)*(datums=oktober!L$5)*(uren))","v":"00:00:00"},{"$f":"SUMPRODUCT((werknemers=oktober!$A26)*(datums=oktober!M$5)*(uren))","v":"00:00:00"},{"$f":"SUMPRODUCT((werknemers=oktober!$A26)*(datums=oktober!N$5)*(uren))","v":"00:00:00"},{"$f":"SUMPRODUCT((werknemers=oktober!$A26)*(datums=oktober!O$5)*(uren))","v":"00:00:00"},{"$f":"SUMPRODUCT((werknemers=oktober!$A26)*(datums=oktober!P$5)*(uren))","v":"00:00:00"},{"$f":"SUMPRODUCT((werknemers=oktober!$A26)*(datums=oktober!Q$5)*(uren))","v":"00:00:00"},{"$f":"SUMPRODUCT((werknemers=oktober!$A26)*(datums=oktober!R$5)*(uren))","v":"00:00:00"},{"$f":"SUMPRODUCT((werknemers=oktober!$A26)*(datums=oktober!S$5)*(uren))","v":"00:00:00"},{"$f":"SUMPRODUCT((werknemers=oktober!$A26)*(datums=oktober!T$5)*(uren))","v":"00:00:00"},{"$f":"SUMPRODUCT((werknemers=oktober!$A26)*(datums=oktober!U$5)*(uren))","v":"00:00:00"},{"$f":"SUMPRODUCT((werknemers=oktober!$A26)*(datums=oktober!V$5)*(uren))","v":"00:00:00"},{"$f":"SUMPRODUCT((werknemers=oktober!$A26)*(datums=oktober!W$5)*(uren))","v":"00:00:00"},{"$f":"SUMPRODUCT((werknemers=oktober!$A26)*(datums=oktober!X$5)*(uren))","v":"00:00:00"},{"$f":"SUMPRODUCT((werknemers=oktober!$A26)*(datums=oktober!Y$5)*(uren))","v":"00:00:00"},{"$f":"SUMPRODUCT((werknemers=oktober!$A26)*(datums=oktober!Z$5)*(uren))","v":"00:00:00"},{"$f":"SUMPRODUCT((werknemers=oktober!$A26)*(datums=oktober!AA$5)*(uren))","v":"00:00:00"},{"$f":"SUMPRODUCT((werknemers=oktober!$A26)*(datums=oktober!AB$5)*(uren))","v":"00:00:00"},{"$f":"SUMPRODUCT((werknemers=oktober!$A26)*(datums=oktober!AC$5)*(uren))","v":"00:00:00"},{"$f":"SUMPRODUCT((werknemers=oktober!$A26)*(datums=oktober!AD$5)*(uren))","v":"00:00:00"},{"$f":"SUMPRODUCT((werknemers=oktober!$A26)*(datums=oktober!AE$5)*(uren))","v":"00:00:00"},{"$f":"SUMPRODUCT((werknemers=oktober!$A26)*(datums=oktober!AF$5)*(uren))","v":"00:00:00"}]
[]
["CONTROLE",{"$f":"SUMPRODUCT((werknemers=oktober!$A28)*(datums=oktober!B$5)*(uren))","v":"00:00:00"},{"$f":"SUMPRODUCT((werknemers=oktober!$A28)*(datums=oktober!C$5)*(uren))","v":"00:00:00"},{"$f":"SUMPRODUCT((werknemers=oktober!$A28)*(datums=oktober!D$5)*(uren))","v":"00:00:00"},{"$f":"SUMPRODUCT((werknemers=oktober!$A28)*(datums=oktober!E$5)*(uren))","v":"00:00:00"},{"$f":"SUMPRODUCT((werknemers=oktober!$A28)*(datums=oktober!F$5)*(uren))","v":"00:00:00"},{"$f":"SUMPRODUCT((werknemers=oktober!$A28)*(datums=oktober!G$5)*(uren))","v":"00:00:00"},{"$f":"SUMPRODUCT((werknemers=oktober!$A28)*(datums=oktober!H$5)*(uren))","v":"00:00:00"},{"$f":"SUMPRODUCT((werknemers=oktober!$A28)*(datums=oktober!I$5)*(uren))","v":"00:00:00"},{"$f":"SUMPRODUCT((werknemers=oktober!$A28)*(datums=oktober!J$5)*(uren))","v":"00:00:00"},{"$f":"SUMPRODUCT((werknemers=oktober!$A28)*(datums=oktober!K$5)*(uren))","v":"00:00:00"},{"$f":"SUMPRODUCT((werknemers=oktober!$A28)*(datums=oktober!L$5)*(uren))","v":"00:00:00"},{"$f":"SUMPRODUCT((werknemers=oktober!$A28)*(datums=oktober!M$5)*(uren))","v":"00:00:00"},{"$f":"SUMPRODUCT((werknemers=oktober!$A28)*(datums=oktober!N$5)*(uren))","v":"00:00:00"},{"$f":"SUMPRODUCT((werknemers=oktober!$A28)*(datums=oktober!O$5)*(uren))","v":"00:00:00"},{"$f":"SUMPRODUCT((werknemers=oktober!$A28)*(datums=oktober!P$5)*(uren))","v":"00:00:00"},{"$f":"SUMPRODUCT((werknemers=oktober!$A28)*(datums=oktober!Q$5)*(uren))","v":"00:00:00"},{"$f":"SUMPRODUCT((werknemers=oktober!$A28)*(datums=oktober!R$5)*(uren))","v":"00:00:00"},{"$f":"SUMPRODUCT((werknemers=oktober!$A28)*(datums=oktober!S$5)*(uren))","v":"00:00:00"},{"$f":"SUMPRODUCT((werknemers=oktober!$A28)*(datums=oktober!T$5)*(uren))","v":"00:00:00"},{"$f":"SUMPRODUCT((werknemers=oktober!$A28)*(datums=oktober!U$5)*(uren))","v":"00:00:00"},{"$f":"SUMPRODUCT((werknemers=oktober!$A28)*(datums=oktober!V$5)*(uren))","v":"00:00:00"},{"$f":"SUMPRODUCT((werknemers=oktober!$A28)*(datums=oktober!W$5)*(uren))","v":"00:00:00"},{"$f":"SUMPRODUCT((werknemers=oktober!$A28)*(datums=oktober!X$5)*(uren))","v":"00:00:00"},{"$f":"SUMPRODUCT((werknemers=oktober!$A28)*(datums=oktober!Y$5)*(uren))","v":"00:00:00"},{"$f":"SUMPRODUCT((werknemers=oktober!$A28)*(datums=oktober!Z$5)*(uren))","v":"00:00:00"},{"$f":"SUMPRODUCT((werknemers=oktober!$A28)*(datums=oktober!AA$5)*(uren))","v":"00:00:00"},{"$f":"SUMPRODUCT((werknemers=oktober!$A28)*(datums=oktober!AB$5)*(uren))","v":"00:00:00"},{"$f":"SUMPRODUCT((werknemers=oktober!$A28)*(datums=oktober!AC$5)*(uren))","v":"00:00:00"},{"$f":"SUMPRODUCT((werknemers=oktober!$A28)*(datums=oktober!AD$5)*(uren))","v":"00:00:00"},{"$f":"SUMPRODUCT((werknemers=oktober!$A28)*(datums=oktober!AE$5)*(uren))","v":"00:00:00"},{"$f":"SUMPRODUCT((werknemers=oktober!$A28)*(datums=oktober!AF$5)*(uren))","v":"00:00:00"}]
[]
["CONTROLE",{"$f":"SUMPRODUCT((werknemers=oktober!$A30)*(datums=oktober!B$5)*(uren))","v":"00:00:00"},{"$f":"SUMPRODUCT((werknemers=oktober!$A30)*(datums=oktober!C$5)*(uren))","v":"00:00:00"},{"$f":"SUMPRODUCT((werknemers=oktober!$A30)*(datums=oktober!D$5)*(uren))","v":"00:00:00"},{"$f":"SUMPRODUCT((werknemers=oktober!$A30)*(datums=oktober!E$5)*(uren))","v":"00:00:00"},{"$f":"SUMPRODUCT((werknemers=oktober!$A30)*(datums=oktober!F$5)*(uren))","v":"00:00:00"},{"$f":"SUMPRODUCT((werknemers=oktober!$A30)*(datums=oktober!G$5)*(uren))","v":"00:00:00"},{"$f":"SUMPRODUCT((werknemers=oktober!$A30)*(datums=oktober!H$5)*(uren))","v":"00:00:00"},{"$f":"SUMPRODUCT((werknemers=oktober!$A30)*(datums=oktober!I$5)*(uren))","v":"00:00:00"},{"$f":"SUMPRODUCT((werknemers=oktober!$A30)*(datums=oktober!J$5)*(uren))","v":"00:00:00"},{"$f":"SUMPRODUCT((werknemers=oktober!$A30)*(datums=oktober!K$5)*(uren))","v":"00:00:00"},{"$f":"SUMPRODUCT((werknemers=oktober!$A30)*(datums=oktober!L$5)*(uren))","v":"00:00:00"},{"$f":"SUMPRODUCT((werknemers=oktober!$A30)*(datums=oktober!M$5)*(uren))","v":"00:00:00"},{"$f":"SUMPRODUCT((werknemers=oktober!$A30)*(datums=oktober!N$5)*(uren))","v":"00:00:00"},{"$f":"SUMPRODUCT((werknemers=oktober!$A30)*(datums=oktober!O$5)*(uren))","v":"00:00:00"},{"$f":"SUMPRODUCT((werknemers=oktober!$A30)*(datums=oktober!P$5)*(uren))","v":"00:00:00"},{"$f":"SUMPRODUCT((werknemers=oktober!$A30)*(datums=oktober!Q$5)*(uren))","v":"00:00:00"},{"$f":"SUMPRODUCT((werknemers=oktober!$A30)*(datums=oktober!R$5)*(uren))","v":"00:00:00"},{"$f":"SUMPRODUCT((werknemers=oktober!$A30)*(datums=oktober!S$5)*(uren))","v":"00:00:00"},{"$f":"SUMPRODUCT((werknemers=oktober!$A30)*(datums=oktober!T$5)*(uren))","v":"00:00:00"},{"$f":"SUMPRODUCT((werknemers=oktober!$A30)*(datums=oktober!U$5)*(uren))","v":"00:00:00"},{"$f":"SUMPRODUCT((werknemers=oktober!$A30)*(datums=oktober!V$5)*(uren))","v":"00:00:00"},{"$f":"SUMPRODUCT((werknemers=oktober!$A30)*(datums=oktober!W$5)*(uren))","v":"00:00:00"},{"$f":"SUMPRODUCT((werknemers=oktober!$A30)*(datums=oktober!X$5)*(uren))","v":"00:00:00"},{"$f":"SUMPRODUCT((werknemers=oktober!$A30)*(datums=oktober!Y$5)*(uren))","v":"00:00:00"},{"$f":"SUMPRODUCT((werknemers=oktober!$A30)*(datums=oktober!Z$5)*(uren))","v":"00:00:00"},{"$f":"SUMPRODUCT((werknemers=oktober!$A30)*(datums=oktober!AA$5)*(uren))","v":"00:00:00"},{"$f":"SUMPRODUCT((werknemers=oktober!$A30)*(datums=oktober!AB$5)*(uren))","v":"00:00:00"},{"$f":"SUMPRODUCT((werknemers=oktober!$A30)*(datums=oktober!AC$5)*(uren))","v":"00:00:00"},{"$f":"SUMPRODUCT((werknemers=oktober!$A30)*(datums=oktober!AD$5)*(uren))","v":"00:00:00"},{"$f":"SUMPRODUCT((werknemers=oktober!$A30)*(datums=oktober!AE$5)*(uren))","v":"00:00:00"},{"$f":"SUMPRODUCT((werknemers=oktober!$A30)*(datums=oktober!AF$5)*(uren))","v":"00:00:00"}]
[]
["CONTROLE",{"$f":"SUMPRODUCT((werknemers=oktober!$A32)*(datums=oktober!B$5)*(uren))","v":"00:00:00"},{"$f":"SUMPRODUCT((werknemers=oktober!$A32)*(datums=oktober!C$5)*(uren))","v":"00:00:00"},{"$f":"SUMPRODUCT((werknemers=oktober!$A32)*(datums=oktober!D$5)*(uren))","v":"00:00:00"},{"$f":"SUMPRODUCT((werknemers=oktober!$A32)*(datums=oktober!E$5)*(uren))","v":"00:00:00"},{"$f":"SUMPRODUCT((werknemers=oktober!$A32)*(datums=oktober!F$5)*(uren))","v":"00:00:00"},{"$f":"SUMPRODUCT((werknemers=oktober!$A32)*(datums=oktober!G$5)*(uren))","v":"00:00:00"},{"$f":"SUMPRODUCT((werknemers=oktober!$A32)*(datums=oktober!H$5)*(uren))","v":"00:00:00"},{"$f":"SUMPRODUCT((werknemers=oktober!$A32)*(datums=oktober!I$5)*(uren))","v":"00:00:00"},{"$f":"SUMPRODUCT((werknemers=oktober!$A32)*(datums=oktober!J$5)*(uren))","v":"00:00:00"},{"$f":"SUMPRODUCT((werknemers=oktober!$A32)*(datums=oktober!K$5)*(uren))","v":"00:00:00"},{"$f":"SUMPRODUCT((werknemers=oktober!$A32)*(datums=oktober!L$5)*(uren))","v":"00:00:00"},{"$f":"SUMPRODUCT((werknemers=oktober!$A32)*(datums=oktober!M$5)*(uren))","v":"00:00:00"},{"$f":"SUMPRODUCT((werknemers=oktober!$A32)*(datums=oktober!N$5)*(uren))","v":"00:00:00"},{"$f":"SUMPRODUCT((werknemers=oktober!$A32)*(datums=oktober!O$5)*(uren))","v":"00:00:00"},{"$f":"SUMPRODUCT((werknemers=oktober!$A32)*(datums=oktober!P$5)*(uren))","v":"00:00:00"},{"$f":"SUMPRODUCT((werknemers=oktober!$A32)*(datums=oktober!Q$5)*(uren))","v":"00:00:00"},{"$f":"SUMPRODUCT((werknemers=oktober!$A32)*(datums=oktober!R$5)*(uren))","v":"00:00:00"},{"$f":"SUMPRODUCT((werknemers=oktober!$A32)*(datums=oktober!S$5)*(uren))","v":"00:00:00"},{"$f":"SUMPRODUCT((werknemers=oktober!$A32)*(datums=oktober!T$5)*(uren))","v":"00:00:00"},{"$f":"SUMPRODUCT((werknemers=oktober!$A32)*(datums=oktober!U$5)*(uren))","v":"00:00:00"},{"$f":"SUMPRODUCT((werknemers=oktober!$A32)*(datums=oktober!V$5)*(uren))","v":"00:00:00"},{"$f":"SUMPRODUCT((werknemers=oktober!$A32)*(datums=oktober!W$5)*(uren))","v":"00:00:00"},{"$f":"SUMPRODUCT((werknemers=oktober!$A32)*(datums=oktober!X$5)*(uren))","v":"00:00:00"},{"$f":"SUMPRODUCT((werknemers=oktober!$A32)*(datums=oktober!Y$5)*(uren))","v":"00:00:00"},{"$f":"SUMPRODUCT((werknemers=oktober!$A32)*(datums=oktober!Z$5)*(uren))","v":"00:00:00"},{"$f":"SUMPRODUCT((werknemers=oktober!$A32)*(datums=oktober!AA$5)*(uren))","v":"00:00:00"},{"$f":"SUMPRODUCT((werknemers=oktober!$A32)*(datums=oktober!AB$5)*(uren))","v":"00:00:00"},{"$f":"SUMPRODUCT((werknemers=oktober!$A32)*(datums=oktober!AC$5)*(uren))","v":"00:00:00"},{"$f":"SUMPRODUCT((werknemers=oktober!$A32)*(datums=oktober!AD$5)*(uren))","v":"00:00:00"},{"$f":"SUMPRODUCT((werknemers=oktober!$A32)*(datums=oktober!AE$5)*(uren))","v":"00:00:00"},{"$f":"SUMPRODUCT((werknemers=oktober!$A32)*(datums=oktober!AF$5)*(uren))","v":"00:00:00"}]
[]
["CONTROLE",{"$f":"SUMPRODUCT((werknemers=oktober!$A34)*(datums=oktober!B$5)*(uren))","v":"00:00:00"},{"$f":"SUMPRODUCT((werknemers=oktober!$A34)*(datums=oktober!C$5)*(uren))","v":"00:00:00"},{"$f":"SUMPRODUCT((werknemers=oktober!$A34)*(datums=oktober!D$5)*(uren))","v":"00:00:00"},{"$f":"SUMPRODUCT((werknemers=oktober!$A34)*(datums=oktober!E$5)*(uren))","v":"00:00:00"},{"$f":"SUMPRODUCT((werknemers=oktober!$A34)*(datums=oktober!F$5)*(uren))","v":"00:00:00"},{"$f":"SUMPRODUCT((werknemers=oktober!$A34)*(datums=oktober!G$5)*(uren))","v":"00:00:00"},{"$f":"SUMPRODUCT((werknemers=oktober!$A34)*(datums=oktober!H$5)*(uren))","v":"00:00:00"},{"$f":"SUMPRODUCT((werknemers=oktober!$A34)*(datums=oktober!I$5)*(uren))","v":"00:00:00"},{"$f":"SUMPRODUCT((werknemers=oktober!$A34)*(datums=oktober!J$5)*(uren))","v":"00:00:00"},{"$f":"SUMPRODUCT((werknemers=oktober!$A34)*(datums=oktober!K$5)*(uren))","v":"00:00:00"},{"$f":"SUMPRODUCT((werknemers=oktober!$A34)*(datums=oktober!L$5)*(uren))","v":"00:00:00"},{"$f":"SUMPRODUCT((werknemers=oktober!$A34)*(datums=oktober!M$5)*(uren))","v":"00:00:00"},{"$f":"SUMPRODUCT((werknemers=oktober!$A34)*(datums=oktober!N$5)*(uren))","v":"00:00:00"},{"$f":"SUMPRODUCT((werknemers=oktober!$A34)*(datums=oktober!O$5)*(uren))","v":"00:00:00"},{"$f":"SUMPRODUCT((werknemers=oktober!$A34)*(datums=oktober!P$5)*(uren))","v":"00:00:00"},{"$f":"SUMPRODUCT((werknemers=oktober!$A34)*(datums=oktober!Q$5)*(uren))","v":"00:00:00"},{"$f":"SUMPRODUCT((werknemers=oktober!$A34)*(datums=oktober!R$5)*(uren))","v":"00:00:00"},{"$f":"SUMPRODUCT((werknemers=oktober!$A34)*(datums=oktober!S$5)*(uren))","v":"00:00:00"},{"$f":"SUMPRODUCT((werknemers=oktober!$A34)*(datums=oktober!T$5)*(uren))","v":"00:00:00"},{"$f":"SUMPRODUCT((werknemers=oktober!$A34)*(datums=oktober!U$5)*(uren))","v":"00:00:00"},{"$f":"SUMPRODUCT((werknemers=oktober!$A34)*(datums=oktober!V$5)*(uren))","v":"00:00:00"},{"$f":"SUMPRODUCT((werknemers=oktober!$A34)*(datums=oktober!W$5)*(uren))","v":"00:00:00"},{"$f":"SUMPRODUCT((werknemers=oktober!$A34)*(datums=oktober!X$5)*(uren))","v":"00:00:00"},{"$f":"SUMPRODUCT((werknemers=oktober!$A34)*(datums=oktober!Y$5)*(uren))","v":"00:00:00"},{"$f":"SUMPRODUCT((werknemers=oktober!$A34)*(datums=oktober!Z$5)*(uren))","v":"00:00:00"},{"$f":"SUMPRODUCT((werknemers=oktober!$A34)*(datums=oktober!AA$5)*(uren))","v":"00:00:00"},{"$f":"SUMPRODUCT((werknemers=oktober!$A34)*(datums=oktober!AB$5)*(uren))","v":"00:00:00"},{"$f":"SUMPRODUCT((werknemers=oktober!$A34)*(datums=oktober!AC$5)*(uren))","v":"00:00:00"},{"$f":"SUMPRODUCT((werknemers=oktober!$A34)*(datums=oktober!AD$5)*(uren))","v":"00:00:00"},{"$f":"SUMPRODUCT((werknemers=oktober!$A34)*(datums=oktober!AE$5)*(uren))","v":"00:00:00"},{"$f":"SUMPRODUCT((werknemers=oktober!$A34)*(datums=oktober!AF$5)*(uren))","v":"00:00:00"}]
[]
["CONTROLE",{"$f":"SUMPRODUCT((werknemers=oktober!$A36)*(datums=oktober!B$5)*(uren))","v":"00:00:00"},{"$f":"SUMPRODUCT((werknemers=oktober!$A36)*(datums=oktober!C$5)*(uren))","v":"00:00:00"},{"$f":"SUMPRODUCT((werknemers=oktober!$A36)*(datums=oktober!D$5)*(uren))","v":"00:00:00"},{"$f":"SUMPRODUCT((werknemers=oktober!$A36)*(datums=oktober!E$5)*(uren))","v":"00:00:00"},{"$f":"SUMPRODUCT((werknemers=oktober!$A36)*(datums=oktober!F$5)*(uren))","v":"00:00:00"},{"$f":"SUMPRODUCT((werknemers=oktober!$A36)*(datums=oktober!G$5)*(uren))","v":"00:00:00"},{"$f":"SUMPRODUCT((werknemers=oktober!$A36)*(datums=oktober!H$5)*(uren))","v":"00:00:00"},{"$f":"SUMPRODUCT((werknemers=oktober!$A36)*(datums=oktober!I$5)*(uren))","v":"00:00:00"},{"$f":"SUMPRODUCT((werknemers=oktober!$A36)*(datums=oktober!J$5)*(uren))","v":"00:00:00"},{"$f":"SUMPRODUCT((werknemers=oktober!$A36)*(datums=oktober!K$5)*(uren))","v":"00:00:00"},{"$f":"SUMPRODUCT((werknemers=oktober!$A36)*(datums=oktober!L$5)*(uren))","v":"00:00:00"},{"$f":"SUMPRODUCT((werknemers=oktober!$A36)*(datums=oktober!M$5)*(uren))","v":"00:00:00"},{"$f":"SUMPRODUCT((werknemers=oktober!$A36)*(datums=oktober!N$5)*(uren))","v":"00:00:00"},{"$f":"SUMPRODUCT((werknemers=oktober!$A36)*(datums=oktober!O$5)*(uren))","v":"00:00:00"},{"$f":"SUMPRODUCT((werknemers=oktober!$A36)*(datums=oktober!P$5)*(uren))","v":"00:00:00"},{"$f":"SUMPRODUCT((werknemers=oktober!$A36)*(datums=oktober!Q$5)*(uren))","v":"00:00:00"},{"$f":"SUMPRODUCT((werknemers=oktober!$A36)*(datums=oktober!R$5)*(uren))","v":"00:00:00"},{"$f":"SUMPRODUCT((werknemers=oktober!$A36)*(datums=oktober!S$5)*(uren))","v":"00:00:00"},{"$f":"SUMPRODUCT((werknemers=oktober!$A36)*(datums=oktober!T$5)*(uren))","v":"00:00:00"},{"$f":"SUMPRODUCT((werknemers=oktober!$A36)*(datums=oktober!U$5)*(uren))","v":"00:00:00"},{"$f":"SUMPRODUCT((werknemers=oktober!$A36)*(datums=oktober!V$5)*(uren))","v":"00:00:00"},{"$f":"SUMPRODUCT((werknemers=oktober!$A36)*(datums=oktober!W$5)*(uren))","v":"00:00:00"},{"$f":"SUMPRODUCT((werknemers=oktober!$A36)*(datums=oktober!X$5)*(uren))","v":"00:00:00"},{"$f":"SUMPRODUCT((werknemers=oktober!$A36)*(datums=oktober!Y$5)*(uren))","v":"00:00:00"},{"$f":"SUMPRODUCT((werknemers=oktober!$A36)*(datums=oktober!Z$5)*(uren))","v":"00:00:00"},{"$f":"SUMPRODUCT((werknemers=oktober!$A36)*(datums=oktober!AA$5)*(uren))","v":"00:00:00"},{"$f":"SUMPRODUCT((werknemers=oktober!$A36)*(datums=oktober!AB$5)*(uren))","v":"00:00:00"},{"$f":"SUMPRODUCT((werknemers=oktober!$A36)*(datums=oktober!AC$5)*(uren))","v":"00:00:00"},{"$f":"SUMPRODUCT((werknemers=oktober!$A36)*(datums=oktober!AD$5)*(uren))","v":"00:00:00"},{"$f":"SUMPRODUCT((werknemers=oktober!$A36)*(datums=oktober!AE$5)*(uren))","v":"00:00:00"},{"$f":"SUMPRODUCT((werknemers=oktober!$A36)*(datums=oktober!AF$5)*(uren))","v":"00:00:00"}]
[]
["CONTROLE",{"$f":"SUMPRODUCT((werknemers=oktober!$A38)*(datums=oktober!B$5)*(uren))","v":"00:00:00"},{"$f":"SUMPRODUCT((werknemers=oktober!$A38)*(datums=oktober!C$5)*(uren))","v":"00:00:00"},{"$f":"SUMPRODUCT((werknemers=oktober!$A38)*(datums=oktober!D$5)*(uren))","v":"00:00:00"},{"$f":"SUMPRODUCT((werknemers=oktober!$A38)*(datums=oktober!E$5)*(uren))","v":"00:00:00"},{"$f":"SUMPRODUCT((werknemers=oktober!$A38)*(datums=oktober!F$5)*(uren))","v":"00:00:00"},{"$f":"SUMPRODUCT((werknemers=oktober!$A38)*(datums=oktober!G$5)*(uren))","v":"00:00:00"},{"$f":"SUMPRODUCT((werknemers=oktober!$A38)*(datums=oktober!H$5)*(uren))","v":"00:00:00"},{"$f":"SUMPRODUCT((werknemers=oktober!$A38)*(datums=oktober!I$5)*(uren))","v":"00:00:00"},{"$f":"SUMPRODUCT((werknemers=oktober!$A38)*(datums=oktober!J$5)*(uren))","v":"00:00:00"},{"$f":"SUMPRODUCT((werknemers=oktober!$A38)*(datums=oktober!K$5)*(uren))","v":"00:00:00"},{"$f":"SUMPRODUCT((werknemers=oktober!$A38)*(datums=oktober!L$5)*(uren))","v":"00:00:00"},{"$f":"SUMPRODUCT((werknemers=oktober!$A38)*(datums=oktober!M$5)*(uren))","v":"00:00:00"},{"$f":"SUMPRODUCT((werknemers=oktober!$A38)*(datums=oktober!N$5)*(uren))","v":"00:00:00"},{"$f":"SUMPRODUCT((werknemers=oktober!$A38)*(datums=oktober!O$5)*(uren))","v":"00:00:00"},{"$f":"SUMPRODUCT((werknemers=oktober!$A38)*(datums=oktober!P$5)*(uren))","v":"00:00:00"},{"$f":"SUMPRODUCT((werknemers=oktober!$A38)*(datums=oktober!Q$5)*(uren))","v":"00:00:00"},{"$f":"SUMPRODUCT((werknemers=oktober!$A38)*(datums=oktober!R$5)*(uren))","v":"00:00:00"},{"$f":"SUMPRODUCT((werknemers=oktober!$A38)*(datums=oktober!S$5)*(uren))","v":"00:00:00"},{"$f":"SUMPRODUCT((werknemers=oktober!$A38)*(datums=oktober!T$5)*(uren))","v":"00:00:00"},{"$f":"SUMPRODUCT((werknemers=oktober!$A38)*(datums=oktober!U$5)*(uren))","v":"00:00:00"},{"$f":"SUMPRODUCT((werknemers=oktober!$A38)*(datums=oktober!V$5)*(uren))","v":"00:00:00"},{"$f":"SUMPRODUCT((werknemers=oktober!$A38)*(datums=oktober!W$5)*(uren))","v":"00:00:00"},{"$f":"SUMPRODUCT((werknemers=oktober!$A38)*(datums=oktober!X$5)*(uren))","v":"00:00:00"},{"$f":"SUMPRODUCT((werknemers=oktober!$A38)*(datums=oktober!Y$5)*(uren))","v":"00:00:00"},{"$f":"SUMPRODUCT((werknemers=oktober!$A38)*(datums=oktober!Z$5)*(uren))","v":"00:00:00"},{"$f":"SUMPRODUCT((werknemers=oktober!$A38)*(datums=oktober!AA$5)*(uren))","v":"00:00:00"},{"$f":"SUMPRODUCT((werknemers=oktober!$A38)*(datums=oktober!AB$5)*(uren))","v":"00:00:00"},{"$f":"SUMPRODUCT((werknemers=oktober!$A38)*(datums=oktober!AC$5)*(uren))","v":"00:00:00"},{"$f":"SUMPRODUCT((werknemers=oktober!$A38)*(datums=oktober!AD$5)*(uren))","v":"00:00:00"},{"$f":"SUMPRODUCT((werknemers=oktober!$A38)*(datums=oktober!AE$5)*(uren))","v":"00:00:00"},{"$f":"SUMPRODUCT((werknemers=oktober!$A38)*(datums=oktober!AF$5)*(uren))","v":"00:00:00"}]
[]
["CONTROLE",{"$f":"SUMPRODUCT((werknemers=oktober!$A40)*(datums=oktober!B$5)*(uren))","v":"00:00:00"},{"$f":"SUMPRODUCT((werknemers=oktober!$A40)*(datums=oktober!C$5)*(uren))","v":"00:00:00"},{"$f":"SUMPRODUCT((werknemers=oktober!$A40)*(datums=oktober!D$5)*(uren))","v":"00:00:00"},{"$f":"SUMPRODUCT((werknemers=oktober!$A40)*(datums=oktober!E$5)*(uren))","v":"00:00:00"},{"$f":"SUMPRODUCT((werknemers=oktober!$A40)*(datums=oktober!F$5)*(uren))","v":"00:00:00"},{"$f":"SUMPRODUCT((werknemers=oktober!$A40)*(datums=oktober!G$5)*(uren))","v":"00:00:00"},{"$f":"SUMPRODUCT((werknemers=oktober!$A40)*(datums=oktober!H$5)*(uren))","v":"00:00:00"},{"$f":"SUMPRODUCT((werknemers=oktober!$A40)*(datums=oktober!I$5)*(uren))","v":"00:00:00"},{"$f":"SUMPRODUCT((werknemers=oktober!$A40)*(datums=oktober!J$5)*(uren))","v":"00:00:00"},{"$f":"SUMPRODUCT((werknemers=oktober!$A40)*(datums=oktober!K$5)*(uren))","v":"00:00:00"},{"$f":"SUMPRODUCT((werknemers=oktober!$A40)*(datums=oktober!L$5)*(uren))","v":"00:00:00"},{"$f":"SUMPRODUCT((werknemers=oktober!$A40)*(datums=oktober!M$5)*(uren))","v":"00:00:00"},{"$f":"SUMPRODUCT((werknemers=oktober!$A40)*(datums=oktober!N$5)*(uren))","v":"00:00:00"},{"$f":"SUMPRODUCT((werknemers=oktober!$A40)*(datums=oktober!O$5)*(uren))","v":"00:00:00"},{"$f":"SUMPRODUCT((werknemers=oktober!$A40)*(datums=oktober!P$5)*(uren))","v":"00:00:00"},{"$f":"SUMPRODUCT((werknemers=oktober!$A40)*(datums=oktober!Q$5)*(uren))","v":"00:00:00"},{"$f":"SUMPRODUCT((werknemers=oktober!$A40)*(datums=oktober!R$5)*(uren))","v":"00:00:00"},{"$f":"SUMPRODUCT((werknemers=oktober!$A40)*(datums=oktober!S$5)*(uren))","v":"00:00:00"},{"$f":"SUMPRODUCT((werknemers=oktober!$A40)*(datums=oktober!T$5)*(uren))","v":"00:00:00"},{"$f":"SUMPRODUCT((werknemers=oktober!$A40)*(datums=oktober!U$5)*(uren))","v":"00:00:00"},{"$f":"SUMPRODUCT((werknemers=oktober!$A40)*(datums=oktober!V$5)*(uren))","v":"00:00:00"},{"$f":"SUMPRODUCT((werknemers=oktober!$A40)*(datums=oktober!W$5)*(uren))","v":"00:00:00"},{"$f":"SUMPRODUCT((werknemers=oktober!$A40)*(datums=oktober!X$5)*(uren))","v":"00:00:00"},{"$f":"SUMPRODUCT((werknemers=oktober!$A40)*(datums=oktober!Y$5)*(uren))","v":"00:00:00"},{"$f":"SUMPRODUCT((werknemers=oktober!$A40)*(datums=oktober!Z$5)*(uren))","v":"00:00:00"},{"$f":"SUMPRODUCT((werknemers=oktober!$A40)*(datums=oktober!AA$5)*(uren))","v":"00:00:00"},{"$f":"SUMPRODUCT((werknemers=oktober!$A40)*(datums=oktober!AB$5)*(uren))","v":"00:00:00"},{"$f":"SUMPRODUCT((werknemers=oktober!$A40)*(datums=oktober!AC$5)*(uren))","v":"00:00:00"},{"$f":"SUMPRODUCT((werknemers=oktober!$A40)*(datums=oktober!AD$5)*(uren))","v":"00:00:00"},{"$f":"SUMPRODUCT((werknemers=oktober!$A40)*(datums=oktober!AE$5)*(uren))","v":"00:00:00"},{"$f":"SUMPRODUCT((werknemers=oktober!$A40)*(datums=oktober!AF$5)*(uren))","v":"00:00:00"}]
[]
["CONTROLE",{"$f":"SUMPRODUCT((werknemers=oktober!$A42)*(datums=oktober!B$5)*(uren))","v":"00:00:00"},{"$f":"SUMPRODUCT((werknemers=oktober!$A42)*(datums=oktober!C$5)*(uren))","v":"00:00:00"},{"$f":"SUMPRODUCT((werknemers=oktober!$A42)*(datums=oktober!D$5)*(uren))","v":"00:00:00"},{"$f":"SUMPRODUCT((werknemers=oktober!$A42)*(datums=oktober!E$5)*(uren))","v":"00:00:00"},{"$f":"SUMPRODUCT((werknemers=oktober!$A42)*(datums=oktober!F$5)*(uren))","v":"00:00:00"},{"$f":"SUMPRODUCT((werknemers=oktober!$A42)*(datums=oktober!G$5)*(uren))","v":"00:00:00"},{"$f":"SUMPRODUCT((werknemers=oktober!$A42)*(datums=oktober!H$5)*(uren))","v":"00:00:00"},{"$f":"SUMPRODUCT((werknemers=oktober!$A42)*(datums=oktober!I$5)*(uren))","v":"00:00:00"},{"$f":"SUMPRODUCT((werknemers=oktober!$A42)*(datums=oktober!J$5)*(uren))","v":"00:00:00"},{"$f":"SUMPRODUCT((werknemers=oktober!$A42)*(datums=oktober!K$5)*(uren))","v":"00:00:00"},{"$f":"SUMPRODUCT((werknemers=oktober!$A42)*(datums=oktober!L$5)*(uren))","v":"00:00:00"},{"$f":"SUMPRODUCT((werknemers=oktober!$A42)*(datums=oktober!M$5)*(uren))","v":"00:00:00"},{"$f":"SUMPRODUCT((werknemers=oktober!$A42)*(datums=oktober!N$5)*(uren))","v":"00:00:00"},{"$f":"SUMPRODUCT((werknemers=oktober!$A42)*(datums=oktober!O$5)*(uren))","v":"00:00:00"},{"$f":"SUMPRODUCT((werknemers=oktober!$A42)*(datums=oktober!P$5)*(uren))","v":"00:00:00"},{"$f":"SUMPRODUCT((werknemers=oktober!$A42)*(datums=oktober!Q$5)*(uren))","v":"00:00:00"},{"$f":"SUMPRODUCT((werknemers=oktober!$A42)*(datums=oktober!R$5)*(uren))","v":"00:00:00"},{"$f":"SUMPRODUCT((werknemers=oktober!$A42)*(datums=oktober!S$5)*(uren))","v":"00:00:00"},{"$f":"SUMPRODUCT((werknemers=oktober!$A42)*(datums=oktober!T$5)*(uren))","v":"00:00:00"},{"$f":"SUMPRODUCT((werknemers=oktober!$A42)*(datums=oktober!U$5)*(uren))","v":"00:00:00"},{"$f":"SUMPRODUCT((werknemers=oktober!$A42)*(datums=oktober!V$5)*(uren))","v":"00:00:00"},{"$f":"SUMPRODUCT((werknemers=oktober!$A42)*(datums=oktober!W$5)*(uren))","v":"00:00:00"},{"$f":"SUMPRODUCT((werknemers=oktober!$A42)*(datums=oktober!X$5)*(uren))","v":"00:00:00"},{"$f":"SUMPRODUCT((werknemers=oktober!$A42)*(datums=oktober!Y$5)*(uren))","v":"00:00:00"},{"$f":"SUMPRODUCT((werknemers=oktober!$A42)*(datums=oktober!Z$5)*(uren))","v":"00:00:00"},{"$f":"SUMPRODUCT((werknemers=oktober!$A42)*(datums=oktober!AA$5)*(uren))","v":"00:00:00"},{"$f":"SUMPRODUCT((werknemers=oktober!$A42)*(datums=oktober!AB$5)*(uren))","v":"00:00:00"},{"$f":"SUMPRODUCT((werknemers=oktober!$A42)*(datums=oktober!AC$5)*(uren))","v":"00:00:00"},{"$f":"SUMPRODUCT((werknemers=oktober!$A42)*(datums=oktober!AD$5)*(uren))","v":"00:00:00"},{"$f":"SUMPRODUCT((werknemers=oktober!$A42)*(datums=oktober!AE$5)*(uren))","v":"00:00:00"},{"$f":"SUMPRODUCT((werknemers=oktober!$A42)*(datums=oktober!AF$5)*(uren))","v":"00:00:00"}]
[]
["CONTROLE",{"$f":"SUMPRODUCT((werknemers=oktober!$A44)*(datums=oktober!B$5)*(uren))","v":"00:00:00"},{"$f":"SUMPRODUCT((werknemers=oktober!$A44)*(datums=oktober!C$5)*(uren))","v":"00:00:00"},{"$f":"SUMPRODUCT((werknemers=oktober!$A44)*(datums=oktober!D$5)*(uren))","v":"00:00:00"},{"$f":"SUMPRODUCT((werknemers=oktober!$A44)*(datums=oktober!E$5)*(uren))","v":"00:00:00"},{"$f":"SUMPRODUCT((werknemers=oktober!$A44)*(datums=oktober!F$5)*(uren))","v":"00:00:00"},{"$f":"SUMPRODUCT((werknemers=oktober!$A44)*(datums=oktober!G$5)*(uren))","v":"00:00:00"},{"$f":"SUMPRODUCT((werknemers=oktober!$A44)*(datums=oktober!H$5)*(uren))","v":"00:00:00"},{"$f":"SUMPRODUCT((werknemers=oktober!$A44)*(datums=oktober!I$5)*(uren))","v":"00:00:00"},{"$f":"SUMPRODUCT((werknemers=oktober!$A44)*(datums=oktober!J$5)*(uren))","v":"00:00:00"},{"$f":"SUMPRODUCT((werknemers=oktober!$A44)*(datums=oktober!K$5)*(uren))","v":"00:00:00"},{"$f":"SUMPRODUCT((werknemers=oktober!$A44)*(datums=oktober!L$5)*(uren))","v":"00:00:00"},{"$f":"SUMPRODUCT((werknemers=oktober!$A44)*(datums=oktober!M$5)*(uren))","v":"00:00:00"},{"$f":"SUMPRODUCT((werknemers=oktober!$A44)*(datums=oktober!N$5)*(uren))","v":"00:00:00"},{"$f":"SUMPRODUCT((werknemers=oktober!$A44)*(datums=oktober!O$5)*(uren))","v":"00:00:00"},{"$f":"SUMPRODUCT((werknemers=oktober!$A44)*(datums=oktober!P$5)*(uren))","v":"00:00:00"},{"$f":"SUMPRODUCT((werknemers=oktober!$A44)*(datums=oktober!Q$5)*(uren))","v":"00:00:00"},{"$f":"SUMPRODUCT((werknemers=oktober!$A44)*(datums=oktober!R$5)*(uren))","v":"00:00:00"},{"$f":"SUMPRODUCT((werknemers=oktober!$A44)*(datums=oktober!S$5)*(uren))","v":"00:00:00"},{"$f":"SUMPRODUCT((werknemers=oktober!$A44)*(datums=oktober!T$5)*(uren))","v":"00:00:00"},{"$f":"SUMPRODUCT((werknemers=oktober!$A44)*(datums=oktober!U$5)*(uren))","v":"00:00:00"},{"$f":"SUMPRODUCT((werknemers=oktober!$A44)*(datums=oktober!V$5)*(uren))","v":"00:00:00"},{"$f":"SUMPRODUCT((werknemers=oktober!$A44)*(datums=oktober!W$5)*(uren))","v":"00:00:00"},{"$f":"SUMPRODUCT((werknemers=oktober!$A44)*(datums=oktober!X$5)*(uren))","v":"00:00:00"},{"$f":"SUMPRODUCT((werknemers=oktober!$A44)*(datums=oktober!Y$5)*(uren))","v":"00:00:00"},{"$f":"SUMPRODUCT((werknemers=oktober!$A44)*(datums=oktober!Z$5)*(uren))","v":"00:00:00"},{"$f":"SUMPRODUCT((werknemers=oktober!$A44)*(datums=oktober!AA$5)*(uren))","v":"00:00:00"},{"$f":"SUMPRODUCT((werknemers=oktober!$A44)*(datums=oktober!AB$5)*(uren))","v":"00:00:00"},{"$f":"SUMPRODUCT((werknemers=oktober!$A44)*(datums=oktober!AC$5)*(uren))","v":"00:00:00"},{"$f":"SUMPRODUCT((werknemers=oktober!$A44)*(datums=oktober!AD$5)*(uren))","v":"00:00:00"},{"$f":"SUMPRODUCT((werknemers=oktober!$A44)*(datums=oktober!AE$5)*(uren))","v":"00:00:00"},{"$f":"SUMPRODUCT((werknemers=oktober!$A44)*(datums=oktober!AF$5)*(uren))","v":"00:00:00"}]

{"sheet":"november","index":12,"n_rows":45,"n_cols":31,"rows_kept":45,"cut":false,"hidden":false,"merged":[[3,0,4,0],[1,1,1,3],[1,5,1,7],[1,9,1,11]]}
[]
[null,"verlof (V)",null,null,null,"ziek (Z)",null,null,null,"feestdag (F)"]
[]
[{"$f":"YEAR(B5)","v":2018},{"$f":"WEEKDAY(B5)","v":"1900-01-05"},{"$f":"WEEKDAY(C5)","v":"1900-01-06"},"1900-01-07","1900-01-01","1900-01-02","1900-01-03","1900-01-04","1900-01-05","1900-01-06","1900-01-07","1900-01-01","1900-01-02","1900-01-03","1900-01-04","1900-01-05","1900-01-06","1900-01-07","1900-01-01","1900-01-02","1900-01-03","1900-01-04","1900-01-05","1900-01-06","1900-01-07","1900-01-01","1900-01-02","1900-01-03","1900-01-04","1900-01-05","1900-01-06"]
[null,"2018-11-01","2018-11-02","2018-11-03","2018-11-04","2018-11-05","2018-11-06","2018-11-07","2018-11-08","2018-11-09","2018-11-10","2018-11-11","2018-11-12","2018-11-13","2018-11-14","2018-11-15","2018-11-16","2018-11-17","2018-11-18","2018-11-19","2018-11-20","2018-11-21","2018-11-22","2018-11-23","2018-11-24","2018-11-25","2018-11-26","2018-11-27","2018-11-28","2018-11-29","2018-11-30"]
[]
["CONTROLE",{"$f":"SUMPRODUCT((werknemers=november!$A6)*(datums=november!B$5)*(uren))","v":"00:00:00"},{"$f":"SUMPRODUCT((werknemers=november!$A6)*(datums=november!C$5)*(uren))","v":"00:00:00"},{"$f":"SUMPRODUCT((werknemers=november!$A6)*(datums=november!D$5)*(uren))","v":"00:00:00"},{"$f":"SUMPRODUCT((werknemers=november!$A6)*(datums=november!E$5)*(uren))","v":"00:00:00"},{"$f":"SUMPRODUCT((werknemers=november!$A6)*(datums=november!F$5)*(uren))","v":"00:00:00"},{"$f":"SUMPRODUCT((werknemers=november!$A6)*(datums=november!G$5)*(uren))","v":"00:00:00"},{"$f":"SUMPRODUCT((werknemers=november!$A6)*(datums=november!H$5)*(uren))","v":"00:00:00"},{"$f":"SUMPRODUCT((werknemers=november!$A6)*(datums=november!I$5)*(uren))","v":"00:00:00"},{"$f":"SUMPRODUCT((werknemers=november!$A6)*(datums=november!J$5)*(uren))","v":"00:00:00"},{"$f":"SUMPRODUCT((werknemers=november!$A6)*(datums=november!K$5)*(uren))","v":"00:00:00"},{"$f":"SUMPRODUCT((werknemers=november!$A6)*(datums=november!L$5)*(uren))","v":"00:00:00"},{"$f":"SUMPRODUCT((werknemers=november!$A6)*(datums=november!M$5)*(uren))","v":"00:00:00"},{"$f":"SUMPRODUCT((werknemers=november!$A6)*(datums=november!N$5)*(uren))","v":"00:00:00"},{"$f":"SUMPRODUCT((werknemers=november!$A6)*(datums=november!O$5)*(uren))","v":"00:00:00"},{"$f":"SUMPRODUCT((werknemers=november!$A6)*(datums=november!P$5)*(uren))","v":"00:00:00"},{"$f":"SUMPRODUCT((werknemers=november!$A6)*(datums=november!Q$5)*(uren))","v":"00:00:00"},{"$f":"SUMPRODUCT((werknemers=november!$A6)*(datums=november!R$5)*(uren))","v":"00:00:00"},{"$f":"SUMPRODUCT((werknemers=november!$A6)*(datums=november!S$5)*(uren))","v":"00:00:00"},{"$f":"SUMPRODUCT((werknemers=november!$A6)*(datums=november!T$5)*(uren))","v":"00:00:00"},{"$f":"SUMPRODUCT((werknemers=november!$A6)*(datums=november!U$5)*(uren))","v":"00:00:00"},{"$f":"SUMPRODUCT((werknemers=november!$A6)*(datums=november!V$5)*(uren))","v":"00:00:00"},{"$f":"SUMPRODUCT((werknemers=november!$A6)*(datums=november!W$5)*(uren))","v":"00:00:00"},{"$f":"SUMPRODUCT((werknemers=november!$A6)*(datums=november!X$5)*(uren))","v":"00:00:00"},{"$f":"SUMPRODUCT((werknemers=november!$A6)*(datums=november!Y$5)*(uren))","v":"00:00:00"},{"$f":"SUMPRODUCT((werknemers=november!$A6)*(datums=november!Z$5)*(uren))","v":"00:00:00"},{"$f":"SUMPRODUCT((werknemers=november!$A6)*(datums=november!AA$5)*(uren))","v":"00:00:00"},{"$f":"SUMPRODUCT((werknemers=november!$A6)*(datums=november!AB$5)*(uren))","v":"00:00:00"},{"$f":"SUMPRODUCT((werknemers=november!$A6)*(datums=november!AC$5)*(uren))","v":"00:00:00"},{"$f":"SUMPRODUCT((werknemers=november!$A6)*(datums=november!AD$5)*(uren))","v":"00:00:00"},{"$f":"SUMPRODUCT((werknemers=november!$A6)*(datums=november!AE$5)*(uren))","v":"00:00:00"}]
[]
["CONTROLE",{"$f":"SUMPRODUCT((werknemers=november!$A8)*(datums=november!B$5)*(uren))","v":"00:00:00"},{"$f":"SUMPRODUCT((werknemers=november!$A8)*(datums=november!C$5)*(uren))","v":"00:00:00"},{"$f":"SUMPRODUCT((werknemers=november!$A8)*(datums=november!D$5)*(uren))","v":"00:00:00"},{"$f":"SUMPRODUCT((werknemers=november!$A8)*(datums=november!E$5)*(uren))","v":"00:00:00"},{"$f":"SUMPRODUCT((werknemers=november!$A8)*(datums=november!F$5)*(uren))","v":"00:00:00"},{"$f":"SUMPRODUCT((werknemers=november!$A8)*(datums=november!G$5)*(uren))","v":"00:00:00"},{"$f":"SUMPRODUCT((werknemers=november!$A8)*(datums=november!H$5)*(uren))","v":"00:00:00"},{"$f":"SUMPRODUCT((werknemers=november!$A8)*(datums=november!I$5)*(uren))","v":"00:00:00"},{"$f":"SUMPRODUCT((werknemers=november!$A8)*(datums=november!J$5)*(uren))","v":"00:00:00"},{"$f":"SUMPRODUCT((werknemers=november!$A8)*(datums=november!K$5)*(uren))","v":"00:00:00"},{"$f":"SUMPRODUCT((werknemers=november!$A8)*(datums=november!L$5)*(uren))","v":"00:00:00"},{"$f":"SUMPRODUCT((werknemers=november!$A8)*(datums=november!M$5)*(uren))","v":"00:00:00"},{"$f":"SUMPRODUCT((werknemers=november!$A8)*(datums=november!N$5)*(uren))","v":"00:00:00"},{"$f":"SUMPRODUCT((werknemers=november!$A8)*(datums=november!O$5)*(uren))","v":"00:00:00"},{"$f":"SUMPRODUCT((werknemers=november!$A8)*(datums=november!P$5)*(uren))","v":"00:00:00"},{"$f":"SUMPRODUCT((werknemers=november!$A8)*(datums=november!Q$5)*(uren))","v":"00:00:00"},{"$f":"SUMPRODUCT((werknemers=november!$A8)*(datums=november!R$5)*(uren))","v":"00:00:00"},{"$f":"SUMPRODUCT((werknemers=november!$A8)*(datums=november!S$5)*(uren))","v":"00:00:00"},{"$f":"SUMPRODUCT((werknemers=november!$A8)*(datums=november!T$5)*(uren))","v":"00:00:00"},{"$f":"SUMPRODUCT((werknemers=november!$A8)*(datums=november!U$5)*(uren))","v":"00:00:00"},{"$f":"SUMPRODUCT((werknemers=november!$A8)*(datums=november!V$5)*(uren))","v":"00:00:00"},{"$f":"SUMPRODUCT((werknemers=november!$A8)*(datums=november!W$5)*(uren))","v":"00:00:00"},{"$f":"SUMPRODUCT((werknemers=november!$A8)*(datums=november!X$5)*(uren))","v":"00:00:00"},{"$f":"SUMPRODUCT((werknemers=november!$A8)*(datums=november!Y$5)*(uren))","v":"00:00:00"},{"$f":"SUMPRODUCT((werknemers=november!$A8)*(datums=november!Z$5)*(uren))","v":"00:00:00"},{"$f":"SUMPRODUCT((werknemers=november!$A8)*(datums=november!AA$5)*(uren))","v":"00:00:00"},{"$f":"SUMPRODUCT((werknemers=november!$A8)*(datums=november!AB$5)*(uren))","v":"00:00:00"},{"$f":"SUMPRODUCT((werknemers=november!$A8)*(datums=november!AC$5)*(uren))","v":"00:00:00"},{"$f":"SUMPRODUCT((werknemers=november!$A8)*(datums=november!AD$5)*(uren))","v":"00:00:00"},{"$f":"SUMPRODUCT((werknemers=november!$A8)*(datums=november!AE$5)*(uren))","v":"00:00:00"}]
[]
["CONTROLE",{"$f":"SUMPRODUCT((werknemers=november!$A10)*(datums=november!B$5)*(uren))","v":"00:00:00"},{"$f":"SUMPRODUCT((werknemers=november!$A10)*(datums=november!C$5)*(uren))","v":"00:00:00"},{"$f":"SUMPRODUCT((werknemers=november!$A10)*(datums=november!D$5)*(uren))","v":"00:00:00"},{"$f":"SUMPRODUCT((werknemers=november!$A10)*(datums=november!E$5)*(uren))","v":"00:00:00"},{"$f":"SUMPRODUCT((werknemers=november!$A10)*(datums=november!F$5)*(uren))","v":"00:00:00"},{"$f":"SUMPRODUCT((werknemers=november!$A10)*(datums=november!G$5)*(uren))","v":"00:00:00"},{"$f":"SUMPRODUCT((werknemers=november!$A10)*(datums=november!H$5)*(uren))","v":"00:00:00"},{"$f":"SUMPRODUCT((werknemers=november!$A10)*(datums=november!I$5)*(uren))","v":"00:00:00"},{"$f":"SUMPRODUCT((werknemers=november!$A10)*(datums=november!J$5)*(uren))","v":"00:00:00"},{"$f":"SUMPRODUCT((werknemers=november!$A10)*(datums=november!K$5)*(uren))","v":"00:00:00"},{"$f":"SUMPRODUCT((werknemers=november!$A10)*(datums=november!L$5)*(uren))","v":"00:00:00"},{"$f":"SUMPRODUCT((werknemers=november!$A10)*(datums=november!M$5)*(uren))","v":"00:00:00"},{"$f":"SUMPRODUCT((werknemers=november!$A10)*(datums=november!N$5)*(uren))","v":"00:00:00"},{"$f":"SUMPRODUCT((werknemers=november!$A10)*(datums=november!O$5)*(uren))","v":"00:00:00"},{"$f":"SUMPRODUCT((werknemers=november!$A10)*(datums=november!P$5)*(uren))","v":"00:00:00"},{"$f":"SUMPRODUCT((werknemers=november!$A10)*(datums=november!Q$5)*(uren))","v":"00:00:00"},{"$f":"SUMPRODUCT((werknemers=november!$A10)*(datums=november!R$5)*(uren))","v":"00:00:00"},{"$f":"SUMPRODUCT((werknemers=november!$A10)*(datums=november!S$5)*(uren))","v":"00:00:00"},{"$f":"SUMPRODUCT((werknemers=november!$A10)*(datums=november!T$5)*(uren))","v":"00:00:00"},{"$f":"SUMPRODUCT((werknemers=november!$A10)*(datums=november!U$5)*(uren))","v":"00:00:00"},{"$f":"SUMPRODUCT((werknemers=november!$A10)*(datums=november!V$5)*(uren))","v":"00:00:00"},{"$f":"SUMPRODUCT((werknemers=november!$A10)*(datums=november!W$5)*(uren))","v":"00:00:00"},{"$f":"SUMPRODUCT((werknemers=november!$A10)*(datums=november!X$5)*(uren))","v":"00:00:00"},{"$f":"SUMPRODUCT((werknemers=november!$A10)*(datums=november!Y$5)*(uren))","v":"00:00:00"},{"$f":"SUMPRODUCT((werknemers=november!$A10)*(datums=november!Z$5)*(uren))","v":"00:00:00"},{"$f":"SUMPRODUCT((werknemers=november!$A10)*(datums=november!AA$5)*(uren))","v":"00:00:00"},{"$f":"SUMPRODUCT((werknemers=november!$A10)*(datums=november!AB$5)*(uren))","v":"00:00:00"},{"$f":"SUMPRODUCT((werknemers=november!$A10)*(datums=november!AC$5)*(uren))","v":"00:00:00"},{"$f":"SUMPRODUCT((werknemers=november!$A10)*(datums=november!AD$5)*(uren))","v":"00:00:00"},{"$f":"SUMPRODUCT((werknemers=november!$A10)*(datums=november!AE$5)*(uren))","v":"00:00:00"}]
[]
["CONTROLE",{"$f":"SUMPRODUCT((werknemers=november!$A12)*(datums=november!B$5)*(uren))","v":"00:00:00"},{"$f":"SUMPRODUCT((werknemers=november!$A12)*(datums=november!C$5)*(uren))","v":"00:00:00"},{"$f":"SUMPRODUCT((werknemers=november!$A12)*(datums=november!D$5)*(uren))","v":"00:00:00"},{"$f":"SUMPRODUCT((werknemers=november!$A12)*(datums=november!E$5)*(uren))","v":"00:00:00"},{"$f":"SUMPRODUCT((werknemers=november!$A12)*(datums=november!F$5)*(uren))","v":"00:00:00"},{"$f":"SUMPRODUCT((werknemers=november!$A12)*(datums=november!G$5)*(uren))","v":"00:00:00"},{"$f":"SUMPRODUCT((werknemers=november!$A12)*(datums=november!H$5)*(uren))","v":"00:00:00"},{"$f":"SUMPRODUCT((werknemers=november!$A12)*(datums=november!I$5)*(uren))","v":"00:00:00"},{"$f":"SUMPRODUCT((werknemers=november!$A12)*(datums=november!J$5)*(uren))","v":"00:00:00"},{"$f":"SUMPRODUCT((werknemers=november!$A12)*(datums=november!K$5)*(uren))","v":"00:00:00"},{"$f":"SUMPRODUCT((werknemers=november!$A12)*(datums=november!L$5)*(uren))","v":"00:00:00"},{"$f":"SUMPRODUCT((werknemers=november!$A12)*(datums=november!M$5)*(uren))","v":"00:00:00"},{"$f":"SUMPRODUCT((werknemers=november!$A12)*(datums=november!N$5)*(uren))","v":"00:00:00"},{"$f":"SUMPRODUCT((werknemers=november!$A12)*(datums=november!O$5)*(uren))","v":"00:00:00"},{"$f":"SUMPRODUCT((werknemers=november!$A12)*(datums=november!P$5)*(uren))","v":"00:00:00"},{"$f":"SUMPRODUCT((werknemers=november!$A12)*(datums=november!Q$5)*(uren))","v":"00:00:00"},{"$f":"SUMPRODUCT((werknemers=november!$A12)*(datums=november!R$5)*(uren))","v":"00:00:00"},{"$f":"SUMPRODUCT((werknemers=november!$A12)*(datums=november!S$5)*(uren))","v":"00:00:00"},{"$f":"SUMPRODUCT((werknemers=november!$A12)*(datums=november!T$5)*(uren))","v":"00:00:00"},{"$f":"SUMPRODUCT((werknemers=november!$A12)*(datums=november!U$5)*(uren))","v":"00:00:00"},{"$f":"SUMPRODUCT((werknemers=november!$A12)*(datums=november!V$5)*(uren))","v":"00:00:00"},{"$f":"SUMPRODUCT((werknemers=november!$A12)*(datums=november!W$5)*(uren))","v":"00:00:00"},{"$f":"SUMPRODUCT((werknemers=november!$A12)*(datums=november!X$5)*(uren))","v":"00:00:00"},{"$f":"SUMPRODUCT((werknemers=november!$A12)*(datums=november!Y$5)*(uren))","v":"00:00:00"},{"$f":"SUMPRODUCT((werknemers=november!$A12)*(datums=november!Z$5)*(uren))","v":"00:00:00"},{"$f":"SUMPRODUCT((werknemers=november!$A12)*(datums=november!AA$5)*(uren))","v":"00:00:00"},{"$f":"SUMPRODUCT((werknemers=november!$A12)*(datums=november!AB$5)*(uren))","v":"00:00:00"},{"$f":"SUMPRODUCT((werknemers=november!$A12)*(datums=november!AC$5)*(uren))","v":"00:00:00"},{"$f":"SUMPRODUCT((werknemers=november!$A12)*(datums=november!AD$5)*(uren))","v":"00:00:00"},{"$f":"SUMPRODUCT((werknemers=november!$A12)*(datums=november!AE$5)*(uren))","v":"00:00:00"}]
[]
["CONTROLE",{"$f":"SUMPRODUCT((werknemers=november!$A14)*(datums=november!B$5)*(uren))","v":"00:00:00"},{"$f":"SUMPRODUCT((werknemers=november!$A14)*(datums=november!C$5)*(uren))","v":"00:00:00"},{"$f":"SUMPRODUCT((werknemers=november!$A14)*(datums=november!D$5)*(uren))","v":"00:00:00"},{"$f":"SUMPRODUCT((werknemers=november!$A14)*(datums=november!E$5)*(uren))","v":"00:00:00"},{"$f":"SUMPRODUCT((werknemers=november!$A14)*(datums=november!F$5)*(uren))","v":"00:00:00"},{"$f":"SUMPRODUCT((werknemers=november!$A14)*(datums=november!G$5)*(uren))","v":"00:00:00"},{"$f":"SUMPRODUCT((werknemers=november!$A14)*(datums=november!H$5)*(uren))","v":"00:00:00"},{"$f":"SUMPRODUCT((werknemers=november!$A14)*(datums=november!I$5)*(uren))","v":"00:00:00"},{"$f":"SUMPRODUCT((werknemers=november!$A14)*(datums=november!J$5)*(uren))","v":"00:00:00"},{"$f":"SUMPRODUCT((werknemers=november!$A14)*(datums=november!K$5)*(uren))","v":"00:00:00"},{"$f":"SUMPRODUCT((werknemers=november!$A14)*(datums=november!L$5)*(uren))","v":"00:00:00"},{"$f":"SUMPRODUCT((werknemers=november!$A14)*(datums=november!M$5)*(uren))","v":"00:00:00"},{"$f":"SUMPRODUCT((werknemers=november!$A14)*(datums=november!N$5)*(uren))","v":"00:00:00"},{"$f":"SUMPRODUCT((werknemers=november!$A14)*(datums=november!O$5)*(uren))","v":"00:00:00"},{"$f":"SUMPRODUCT((werknemers=november!$A14)*(datums=november!P$5)*(uren))","v":"00:00:00"},{"$f":"SUMPRODUCT((werknemers=november!$A14)*(datums=november!Q$5)*(uren))","v":"00:00:00"},{"$f":"SUMPRODUCT((werknemers=november!$A14)*(datums=november!R$5)*(uren))","v":"00:00:00"},{"$f":"SUMPRODUCT((werknemers=november!$A14)*(datums=november!S$5)*(uren))","v":"00:00:00"},{"$f":"SUMPRODUCT((werknemers=november!$A14)*(datums=november!T$5)*(uren))","v":"00:00:00"},{"$f":"SUMPRODUCT((werknemers=november!$A14)*(datums=november!U$5)*(uren))","v":"00:00:00"},{"$f":"SUMPRODUCT((werknemers=november!$A14)*(datums=november!V$5)*(uren))","v":"00:00:00"},{"$f":"SUMPRODUCT((werknemers=november!$A14)*(datums=november!W$5)*(uren))","v":"00:00:00"},{"$f":"SUMPRODUCT((werknemers=november!$A14)*(datums=november!X$5)*(uren))","v":"00:00:00"},{"$f":"SUMPRODUCT((werknemers=november!$A14)*(datums=november!Y$5)*(uren))","v":"00:00:00"},{"$f":"SUMPRODUCT((werknemers=november!$A14)*(datums=november!Z$5)*(uren))","v":"00:00:00"},{"$f":"SUMPRODUCT((werknemers=november!$A14)*(datums=november!AA$5)*(uren))","v":"00:00:00"},{"$f":"SUMPRODUCT((werknemers=november!$A14)*(datums=november!AB$5)*(uren))","v":"00:00:00"},{"$f":"SUMPRODUCT((werknemers=november!$A14)*(datums=november!AC$5)*(uren))","v":"00:00:00"},{"$f":"SUMPRODUCT((werknemers=november!$A14)*(datums=november!AD$5)*(uren))","v":"00:00:00"},{"$f":"SUMPRODUCT((werknemers=november!$A14)*(datums=november!AE$5)*(uren))","v":"00:00:00"}]
[]
["CONTROLE",{"$f":"SUMPRODUCT((werknemers=november!$A16)*(datums=november!B$5)*(uren))","v":"00:00:00"},{"$f":"SUMPRODUCT((werknemers=november!$A16)*(datums=november!C$5)*(uren))","v":"00:00:00"},{"$f":"SUMPRODUCT((werknemers=november!$A16)*(datums=november!D$5)*(uren))","v":"00:00:00"},{"$f":"SUMPRODUCT((werknemers=november!$A16)*(datums=november!E$5)*(uren))","v":"00:00:00"},{"$f":"SUMPRODUCT((werknemers=november!$A16)*(datums=november!F$5)*(uren))","v":"00:00:00"},{"$f":"SUMPRODUCT((werknemers=november!$A16)*(datums=november!G$5)*(uren))","v":"00:00:00"},{"$f":"SUMPRODUCT((werknemers=november!$A16)*(datums=november!H$5)*(uren))","v":"00:00:00"},{"$f":"SUMPRODUCT((werknemers=november!$A16)*(datums=november!I$5)*(uren))","v":"00:00:00"},{"$f":"SUMPRODUCT((werknemers=november!$A16)*(datums=november!J$5)*(uren))","v":"00:00:00"},{"$f":"SUMPRODUCT((werknemers=november!$A16)*(datums=november!K$5)*(uren))","v":"00:00:00"},{"$f":"SUMPRODUCT((werknemers=november!$A16)*(datums=november!L$5)*(uren))","v":"00:00:00"},{"$f":"SUMPRODUCT((werknemers=november!$A16)*(datums=november!M$5)*(uren))","v":"00:00:00"},{"$f":"SUMPRODUCT((werknemers=november!$A16)*(datums=november!N$5)*(uren))","v":"00:00:00"},{"$f":"SUMPRODUCT((werknemers=november!$A16)*(datums=november!O$5)*(uren))","v":"00:00:00"},{"$f":"SUMPRODUCT((werknemers=november!$A16)*(datums=november!P$5)*(uren))","v":"00:00:00"},{"$f":"SUMPRODUCT((werknemers=november!$A16)*(datums=november!Q$5)*(uren))","v":"00:00:00"},{"$f":"SUMPRODUCT((werknemers=november!$A16)*(datums=november!R$5)*(uren))","v":"00:00:00"},{"$f":"SUMPRODUCT((werknemers=november!$A16)*(datums=november!S$5)*(uren))","v":"00:00:00"},{"$f":"SUMPRODUCT((werknemers=november!$A16)*(datums=november!T$5)*(uren))","v":"00:00:00"},{"$f":"SUMPRODUCT((werknemers=november!$A16)*(datums=november!U$5)*(uren))","v":"00:00:00"},{"$f":"SUMPRODUCT((werknemers=november!$A16)*(datums=november!V$5)*(uren))","v":"00:00:00"},{"$f":"SUMPRODUCT((werknemers=november!$A16)*(datums=november!W$5)*(uren))","v":"00:00:00"},{"$f":"SUMPRODUCT((werknemers=november!$A16)*(datums=november!X$5)*(uren))","v":"00:00:00"},{"$f":"SUMPRODUCT((werknemers=november!$A16)*(datums=november!Y$5)*(uren))","v":"00:00:00"},{"$f":"SUMPRODUCT((werknemers=november!$A16)*(datums=november!Z$5)*(uren))","v":"00:00:00"},{"$f":"SUMPRODUCT((werknemers=november!$A16)*(datums=november!AA$5)*(uren))","v":"00:00:00"},{"$f":"SUMPRODUCT((werknemers=november!$A16)*(datums=november!AB$5)*(uren))","v":"00:00:00"},{"$f":"SUMPRODUCT((werknemers=november!$A16)*(datums=november!AC$5)*(uren))","v":"00:00:00"},{"$f":"SUMPRODUCT((werknemers=november!$A16)*(datums=november!AD$5)*(uren))","v":"00:00:00"},{"$f":"SUMPRODUCT((werknemers=november!$A16)*(datums=november!AE$5)*(uren))","v":"00:00:00"}]
[]
["CONTROLE",{"$f":"SUMPRODUCT((werknemers=november!$A18)*(datums=november!B$5)*(uren))","v":"00:00:00"},{"$f":"SUMPRODUCT((werknemers=november!$A18)*(datums=november!C$5)*(uren))","v":"00:00:00"},{"$f":"SUMPRODUCT((werknemers=november!$A18)*(datums=november!D$5)*(uren))","v":"00:00:00"},{"$f":"SUMPRODUCT((werknemers=november!$A18)*(datums=november!E$5)*(uren))","v":"00:00:00"},{"$f":"SUMPRODUCT((werknemers=november!$A18)*(datums=november!F$5)*(uren))","v":"00:00:00"},{"$f":"SUMPRODUCT((werknemers=november!$A18)*(datums=november!G$5)*(uren))","v":"00:00:00"},{"$f":"SUMPRODUCT((werknemers=november!$A18)*(datums=november!H$5)*(uren))","v":"00:00:00"},{"$f":"SUMPRODUCT((werknemers=november!$A18)*(datums=november!I$5)*(uren))","v":"00:00:00"},{"$f":"SUMPRODUCT((werknemers=november!$A18)*(datums=november!J$5)*(uren))","v":"00:00:00"},{"$f":"SUMPRODUCT((werknemers=november!$A18)*(datums=november!K$5)*(uren))","v":"00:00:00"},{"$f":"SUMPRODUCT((werknemers=november!$A18)*(datums=november!L$5)*(uren))","v":"00:00:00"},{"$f":"SUMPRODUCT((werknemers=november!$A18)*(datums=november!M$5)*(uren))","v":"00:00:00"},{"$f":"SUMPRODUCT((werknemers=november!$A18)*(datums=november!N$5)*(uren))","v":"00:00:00"},{"$f":"SUMPRODUCT((werknemers=november!$A18)*(datums=november!O$5)*(uren))","v":"00:00:00"},{"$f":"SUMPRODUCT((werknemers=november!$A18)*(datums=november!P$5)*(uren))","v":"00:00:00"},{"$f":"SUMPRODUCT((werknemers=november!$A18)*(datums=november!Q$5)*(uren))","v":"00:00:00"},{"$f":"SUMPRODUCT((werknemers=november!$A18)*(datums=november!R$5)*(uren))","v":"00:00:00"},{"$f":"SUMPRODUCT((werknemers=november!$A18)*(datums=november!S$5)*(uren))","v":"00:00:00"},{"$f":"SUMPRODUCT((werknemers=november!$A18)*(datums=november!T$5)*(uren))","v":"00:00:00"},{"$f":"SUMPRODUCT((werknemers=november!$A18)*(datums=november!U$5)*(uren))","v":"00:00:00"},{"$f":"SUMPRODUCT((werknemers=november!$A18)*(datums=november!V$5)*(uren))","v":"00:00:00"},{"$f":"SUMPRODUCT((werknemers=november!$A18)*(datums=november!W$5)*(uren))","v":"00:00:00"},{"$f":"SUMPRODUCT((werknemers=november!$A18)*(datums=november!X$5)*(uren))","v":"00:00:00"},{"$f":"SUMPRODUCT((werknemers=november!$A18)*(datums=november!Y$5)*(uren))","v":"00:00:00"},{"$f":"SUMPRODUCT((werknemers=november!$A18)*(datums=november!Z$5)*(uren))","v":"00:00:00"},{"$f":"SUMPRODUCT((werknemers=november!$A18)*(datums=november!AA$5)*(uren))","v":"00:00:00"},{"$f":"SUMPRODUCT((werknemers=november!$A18)*(datums=november!AB$5)*(uren))","v":"00:00:00"},{"$f":"SUMPRODUCT((werknemers=november!$A18)*(datums=november!AC$5)*(uren))","v":"00:00:00"},{"$f":"SUMPRODUCT((werknemers=november!$A18)*(datums=november!AD$5)*(uren))","v":"00:00:00"},{"$f":"SUMPRODUCT((werknemers=november!$A18)*(datums=november!AE$5)*(uren))","v":"00:00:00"}]
[]
["CONTROLE",{"$f":"SUMPRODUCT((werknemers=november!$A20)*(datums=november!B$5)*(uren))","v":"00:00:00"},{"$f":"SUMPRODUCT((werknemers=november!$A20)*(datums=november!C$5)*(uren))","v":"00:00:00"},{"$f":"SUMPRODUCT((werknemers=november!$A20)*(datums=november!D$5)*(uren))","v":"00:00:00"},{"$f":"SUMPRODUCT((werknemers=november!$A20)*(datums=november!E$5)*(uren))","v":"00:00:00"},{"$f":"SUMPRODUCT((werknemers=november!$A20)*(datums=november!F$5)*(uren))","v":"00:00:00"},{"$f":"SUMPRODUCT((werknemers=november!$A20)*(datums=november!G$5)*(uren))","v":"00:00:00"},{"$f":"SUMPRODUCT((werknemers=november!$A20)*(datums=november!H$5)*(uren))","v":"00:00:00"},{"$f":"SUMPRODUCT((werknemers=november!$A20)*(datums=november!I$5)*(uren))","v":"00:00:00"},{"$f":"SUMPRODUCT((werknemers=november!$A20)*(datums=november!J$5)*(uren))","v":"00:00:00"},{"$f":"SUMPRODUCT((werknemers=november!$A20)*(datums=november!K$5)*(uren))","v":"00:00:00"},{"$f":"SUMPRODUCT((werknemers=november!$A20)*(datums=november!L$5)*(uren))","v":"00:00:00"},{"$f":"SUMPRODUCT((werknemers=november!$A20)*(datums=november!M$5)*(uren))","v":"00:00:00"},{"$f":"SUMPRODUCT((werknemers=november!$A20)*(datums=november!N$5)*(uren))","v":"00:00:00"},{"$f":"SUMPRODUCT((werknemers=november!$A20)*(datums=november!O$5)*(uren))","v":"00:00:00"},{"$f":"SUMPRODUCT((werknemers=november!$A20)*(datums=november!P$5)*(uren))","v":"00:00:00"},{"$f":"SUMPRODUCT((werknemers=november!$A20)*(datums=november!Q$5)*(uren))","v":"00:00:00"},{"$f":"SUMPRODUCT((werknemers=november!$A20)*(datums=november!R$5)*(uren))","v":"00:00:00"},{"$f":"SUMPRODUCT((werknemers=november!$A20)*(datums=november!S$5)*(uren))","v":"00:00:00"},{"$f":"SUMPRODUCT((werknemers=november!$A20)*(datums=november!T$5)*(uren))","v":"00:00:00"},{"$f":"SUMPRODUCT((werknemers=november!$A20)*(datums=november!U$5)*(uren))","v":"00:00:00"},{"$f":"SUMPRODUCT((werknemers=november!$A20)*(datums=november!V$5)*(uren))","v":"00:00:00"},{"$f":"SUMPRODUCT((werknemers=november!$A20)*(datums=november!W$5)*(uren))","v":"00:00:00"},{"$f":"SUMPRODUCT((werknemers=november!$A20)*(datums=november!X$5)*(uren))","v":"00:00:00"},{"$f":"SUMPRODUCT((werknemers=november!$A20)*(datums=november!Y$5)*(uren))","v":"00:00:00"},{"$f":"SUMPRODUCT((werknemers=november!$A20)*(datums=november!Z$5)*(uren))","v":"00:00:00"},{"$f":"SUMPRODUCT((werknemers=november!$A20)*(datums=november!AA$5)*(uren))","v":"00:00:00"},{"$f":"SUMPRODUCT((werknemers=november!$A20)*(datums=november!AB$5)*(uren))","v":"00:00:00"},{"$f":"SUMPRODUCT((werknemers=november!$A20)*(datums=november!AC$5)*(uren))","v":"00:00:00"},{"$f":"SUMPRODUCT((werknemers=november!$A20)*(datums=november!AD$5)*(uren))","v":"00:00:00"},{"$f":"SUMPRODUCT((werknemers=november!$A20)*(datums=november!AE$5)*(uren))","v":"00:00:00"}]
[]
["CONTROLE",{"$f":"SUMPRODUCT((werknemers=november!$A22)*(datums=november!B$5)*(uren))","v":"00:00:00"},{"$f":"SUMPRODUCT((werknemers=november!$A22)*(datums=november!C$5)*(uren))","v":"00:00:00"},{"$f":"SUMPRODUCT((werknemers=november!$A22)*(datums=november!D$5)*(uren))","v":"00:00:00"},{"$f":"SUMPRODUCT((werknemers=november!$A22)*(datums=november!E$5)*(uren))","v":"00:00:00"},{"$f":"SUMPRODUCT((werknemers=november!$A22)*(datums=november!F$5)*(uren))","v":"00:00:00"},{"$f":"SUMPRODUCT((werknemers=november!$A22)*(datums=november!G$5)*(uren))","v":"00:00:00"},{"$f":"SUMPRODUCT((werknemers=november!$A22)*(datums=november!H$5)*(uren))","v":"00:00:00"},{"$f":"SUMPRODUCT((werknemers=november!$A22)*(datums=november!I$5)*(uren))","v":"00:00:00"},{"$f":"SUMPRODUCT((werknemers=november!$A22)*(datums=november!J$5)*(uren))","v":"00:00:00"},{"$f":"SUMPRODUCT((werknemers=november!$A22)*(datums=november!K$5)*(uren))","v":"00:00:00"},{"$f":"SUMPRODUCT((werknemers=november!$A22)*(datums=november!L$5)*(uren))","v":"00:00:00"},{"$f":"SUMPRODUCT((werknemers=november!$A22)*(datums=november!M$5)*(uren))","v":"00:00:00"},{"$f":"SUMPRODUCT((werknemers=november!$A22)*(datums=november!N$5)*(uren))","v":"00:00:00"},{"$f":"SUMPRODUCT((werknemers=november!$A22)*(datums=november!O$5)*(uren))","v":"00:00:00"},{"$f":"SUMPRODUCT((werknemers=november!$A22)*(datums=november!P$5)*(uren))","v":"00:00:00"},{"$f":"SUMPRODUCT((werknemers=november!$A22)*(datums=november!Q$5)*(uren))","v":"00:00:00"},{"$f":"SUMPRODUCT((werknemers=november!$A22)*(datums=november!R$5)*(uren))","v":"00:00:00"},{"$f":"SUMPRODUCT((werknemers=november!$A22)*(datums=november!S$5)*(uren))","v":"00:00:00"},{"$f":"SUMPRODUCT((werknemers=november!$A22)*(datums=november!T$5)*(uren))","v":"00:00:00"},{"$f":"SUMPRODUCT((werknemers=november!$A22)*(datums=november!U$5)*(uren))","v":"00:00:00"},{"$f":"SUMPRODUCT((werknemers=november!$A22)*(datums=november!V$5)*(uren))","v":"00:00:00"},{"$f":"SUMPRODUCT((werknemers=november!$A22)*(datums=november!W$5)*(uren))","v":"00:00:00"},{"$f":"SUMPRODUCT((werknemers=november!$A22)*(datums=november!X$5)*(uren))","v":"00:00:00"},{"$f":"SUMPRODUCT((werknemers=november!$A22)*(datums=november!Y$5)*(uren))","v":"00:00:00"},{"$f":"SUMPRODUCT((werknemers=november!$A22)*(datums=november!Z$5)*(uren))","v":"00:00:00"},{"$f":"SUMPRODUCT((werknemers=november!$A22)*(datums=november!AA$5)*(uren))","v":"00:00:00"},{"$f":"SUMPRODUCT((werknemers=november!$A22)*(datums=november!AB$5)*(uren))","v":"00:00:00"},{"$f":"SUMPRODUCT((werknemers=november!$A22)*(datums=november!AC$5)*(uren))","v":"00:00:00"},{"$f":"SUMPRODUCT((werknemers=november!$A22)*(datums=november!AD$5)*(uren))","v":"00:00:00"},{"$f":"SUMPRODUCT((werknemers=november!$A22)*(datums=november!AE$5)*(uren))","v":"00:00:00"}]
[]
["CONTROLE",{"$f":"SUMPRODUCT((werknemers=november!$A24)*(datums=november!B$5)*(uren))","v":"00:00:00"},{"$f":"SUMPRODUCT((werknemers=november!$A24)*(datums=november!C$5)*(uren))","v":"00:00:00"},{"$f":"SUMPRODUCT((werknemers=november!$A24)*(datums=november!D$5)*(uren))","v":"00:00:00"},{"$f":"SUMPRODUCT((werknemers=november!$A24)*(datums=november!E$5)*(uren))","v":"00:00:00"},{"$f":"SUMPRODUCT((werknemers=november!$A24)*(datums=november!F$5)*(uren))","v":"00:00:00"},{"$f":"SUMPRODUCT((werknemers=november!$A24)*(datums=november!G$5)*(uren))","v":"00:00:00"},{"$f":"SUMPRODUCT((werknemers=november!$A24)*(datums=november!H$5)*(uren))","v":"00:00:00"},{"$f":"SUMPRODUCT((werknemers=november!$A24)*(datums=november!I$5)*(uren))","v":"00:00:00"},{"$f":"SUMPRODUCT((werknemers=november!$A24)*(datums=november!J$5)*(uren))","v":"00:00:00"},{"$f":"SUMPRODUCT((werknemers=november!$A24)*(datums=november!K$5)*(uren))","v":"00:00:00"},{"$f":"SUMPRODUCT((werknemers=november!$A24)*(datums=november!L$5)*(uren))","v":"00:00:00"},{"$f":"SUMPRODUCT((werknemers=november!$A24)*(datums=november!M$5)*(uren))","v":"00:00:00"},{"$f":"SUMPRODUCT((werknemers=november!$A24)*(datums=november!N$5)*(uren))","v":"00:00:00"},{"$f":"SUMPRODUCT((werknemers=november!$A24)*(datums=november!O$5)*(uren))","v":"00:00:00"},{"$f":"SUMPRODUCT((werknemers=november!$A24)*(datums=november!P$5)*(uren))","v":"00:00:00"},{"$f":"SUMPRODUCT((werknemers=november!$A24)*(datums=november!Q$5)*(uren))","v":"00:00:00"},{"$f":"SUMPRODUCT((werknemers=november!$A24)*(datums=november!R$5)*(uren))","v":"00:00:00"},{"$f":"SUMPRODUCT((werknemers=november!$A24)*(datums=november!S$5)*(uren))","v":"00:00:00"},{"$f":"SUMPRODUCT((werknemers=november!$A24)*(datums=november!T$5)*(uren))","v":"00:00:00"},{"$f":"SUMPRODUCT((werknemers=november!$A24)*(datums=november!U$5)*(uren))","v":"00:00:00"},{"$f":"SUMPRODUCT((werknemers=november!$A24)*(datums=november!V$5)*(uren))","v":"00:00:00"},{"$f":"SUMPRODUCT((werknemers=november!$A24)*(datums=november!W$5)*(uren))","v":"00:00:00"},{"$f":"SUMPRODUCT((werknemers=november!$A24)*(datums=november!X$5)*(uren))","v":"00:00:00"},{"$f":"SUMPRODUCT((werknemers=november!$A24)*(datums=november!Y$5)*(uren))","v":"00:00:00"},{"$f":"SUMPRODUCT((werknemers=november!$A24)*(datums=november!Z$5)*(uren))","v":"00:00:00"},{"$f":"SUMPRODUCT((werknemers=november!$A24)*(datums=november!AA$5)*(uren))","v":"00:00:00"},{"$f":"SUMPRODUCT((werknemers=november!$A24)*(datums=november!AB$5)*(uren))","v":"00:00:00"},{"$f":"SUMPRODUCT((werknemers=november!$A24)*(datums=november!AC$5)*(uren))","v":"00:00:00"},{"$f":"SUMPRODUCT((werknemers=november!$A24)*(datums=november!AD$5)*(uren))","v":"00:00:00"},{"$f":"SUMPRODUCT((werknemers=november!$A24)*(datums=november!AE$5)*(uren))","v":"00:00:00"}]
[]
["CONTROLE",{"$f":"SUMPRODUCT((werknemers=november!$A26)*(datums=november!B$5)*(uren))","v":"00:00:00"},{"$f":"SUMPRODUCT((werknemers=november!$A26)*(datums=november!C$5)*(uren))","v":"00:00:00"},{"$f":"SUMPRODUCT((werknemers=november!$A26)*(datums=november!D$5)*(uren))","v":"00:00:00"},{"$f":"SUMPRODUCT((werknemers=november!$A26)*(datums=november!E$5)*(uren))","v":"00:00:00"},{"$f":"SUMPRODUCT((werknemers=november!$A26)*(datums=november!F$5)*(uren))","v":"00:00:00"},{"$f":"SUMPRODUCT((werknemers=november!$A26)*(datums=november!G$5)*(uren))","v":"00:00:00"},{"$f":"SUMPRODUCT((werknemers=november!$A26)*(datums=november!H$5)*(uren))","v":"00:00:00"},{"$f":"SUMPRODUCT((werknemers=november!$A26)*(datums=november!I$5)*(uren))","v":"00:00:00"},{"$f":"SUMPRODUCT((werknemers=november!$A26)*(datums=november!J$5)*(uren))","v":"00:00:00"},{"$f":"SUMPRODUCT((werknemers=november!$A26)*(datums=november!K$5)*(uren))","v":"00:00:00"},{"$f":"SUMPRODUCT((werknemers=november!$A26)*(datums=november!L$5)*(uren))","v":"00:00:00"},{"$f":"SUMPRODUCT((werknemers=november!$A26)*(datums=november!M$5)*(uren))","v":"00:00:00"},{"$f":"SUMPRODUCT((werknemers=november!$A26)*(datums=november!N$5)*(uren))","v":"00:00:00"},{"$f":"SUMPRODUCT((werknemers=november!$A26)*(datums=november!O$5)*(uren))","v":"00:00:00"},{"$f":"SUMPRODUCT((werknemers=november!$A26)*(datums=november!P$5)*(uren))","v":"00:00:00"},{"$f":"SUMPRODUCT((werknemers=november!$A26)*(datums=november!Q$5)*(uren))","v":"00:00:00"},{"$f":"SUMPRODUCT((werknemers=november!$A26)*(datums=november!R$5)*(uren))","v":"00:00:00"},{"$f":"SUMPRODUCT((werknemers=november!$A26)*(datums=november!S$5)*(uren))","v":"00:00:00"},{"$f":"SUMPRODUCT((werknemers=november!$A26)*(datums=november!T$5)*(uren))","v":"00:00:00"},{"$f":"SUMPRODUCT((werknemers=november!$A26)*(datums=november!U$5)*(uren))","v":"00:00:00"},{"$f":"SUMPRODUCT((werknemers=november!$A26)*(datums=november!V$5)*(uren))","v":"00:00:00"},{"$f":"SUMPRODUCT((werknemers=november!$A26)*(datums=november!W$5)*(uren))","v":"00:00:00"},{"$f":"SUMPRODUCT((werknemers=november!$A26)*(datums=november!X$5)*(uren))","v":"00:00:00"},{"$f":"SUMPRODUCT((werknemers=november!$A26)*(datums=november!Y$5)*(uren))","v":"00:00:00"},{"$f":"SUMPRODUCT((werknemers=november!$A26)*(datums=november!Z$5)*(uren))","v":"00:00:00"},{"$f":"SUMPRODUCT((werknemers=november!$A26)*(datums=november!AA$5)*(uren))","v":"00:00:00"},{"$f":"SUMPRODUCT((werknemers=november!$A26)*(datums=november!AB$5)*(uren))","v":"00:00:00"},{"$f":"SUMPRODUCT((werknemers=november!$A26)*(datums=november!AC$5)*(uren))","v":"00:00:00"},{"$f":"SUMPRODUCT((werknemers=november!$A26)*(datums=november!AD$5)*(uren))","v":"00:00:00"},{"$f":"SUMPRODUCT((werknemers=november!$A26)*(datums=november!AE$5)*(uren))","v":"00:00:00"}]
[]
["CONTROLE",{"$f":"SUMPRODUCT((werknemers=november!$A28)*(datums=november!B$5)*(uren))","v":"00:00:00"},{"$f":"SUMPRODUCT((werknemers=november!$A28)*(datums=november!C$5)*(uren))","v":"00:00:00"},{"$f":"SUMPRODUCT((werknemers=november!$A28)*(datums=november!D$5)*(uren))","v":"00:00:00"},{"$f":"SUMPRODUCT((werknemers=november!$A28)*(datums=november!E$5)*(uren))","v":"00:00:00"},{"$f":"SUMPRODUCT((werknemers=november!$A28)*(datums=november!F$5)*(uren))","v":"00:00:00"},{"$f":"SUMPRODUCT((werknemers=november!$A28)*(datums=november!G$5)*(uren))","v":"00:00:00"},{"$f":"SUMPRODUCT((werknemers=november!$A28)*(datums=november!H$5)*(uren))","v":"00:00:00"},{"$f":"SUMPRODUCT((werknemers=november!$A28)*(datums=november!I$5)*(uren))","v":"00:00:00"},{"$f":"SUMPRODUCT((werknemers=november!$A28)*(datums=november!J$5)*(uren))","v":"00:00:00"},{"$f":"SUMPRODUCT((werknemers=november!$A28)*(datums=november!K$5)*(uren))","v":"00:00:00"},{"$f":"SUMPRODUCT((werknemers=november!$A28)*(datums=november!L$5)*(uren))","v":"00:00:00"},{"$f":"SUMPRODUCT((werknemers=november!$A28)*(datums=november!M$5)*(uren))","v":"00:00:00"},{"$f":"SUMPRODUCT((werknemers=november!$A28)*(datums=november!N$5)*(uren))","v":"00:00:00"},{"$f":"SUMPRODUCT((werknemers=november!$A28)*(datums=november!O$5)*(uren))","v":"00:00:00"},{"$f":"SUMPRODUCT((werknemers=november!$A28)*(datums=november!P$5)*(uren))","v":"00:00:00"},{"$f":"SUMPRODUCT((werknemers=november!$A28)*(datums=november!Q$5)*(uren))","v":"00:00:00"},{"$f":"SUMPRODUCT((werknemers=november!$A28)*(datums=november!R$5)*(uren))","v":"00:00:00"},{"$f":"SUMPRODUCT((werknemers=november!$A28)*(datums=november!S$5)*(uren))","v":"00:00:00"},{"$f":"SUMPRODUCT((werknemers=november!$A28)*(datums=november!T$5)*(uren))","v":"00:00:00"},{"$f":"SUMPRODUCT((werknemers=november!$A28)*(datums=november!U$5)*(uren))","v":"00:00:00"},{"$f":"SUMPRODUCT((werknemers=november!$A28)*(datums=november!V$5)*(uren))","v":"00:00:00"},{"$f":"SUMPRODUCT((werknemers=november!$A28)*(datums=november!W$5)*(uren))","v":"00:00:00"},{"$f":"SUMPRODUCT((werknemers=november!$A28)*(datums=november!X$5)*(uren))","v":"00:00:00"},{"$f":"SUMPRODUCT((werknemers=november!$A28)*(datums=november!Y$5)*(uren))","v":"00:00:00"},{"$f":"SUMPRODUCT((werknemers=november!$A28)*(datums=november!Z$5)*(uren))","v":"00:00:00"},{"$f":"SUMPRODUCT((werknemers=november!$A28)*(datums=november!AA$5)*(uren))","v":"00:00:00"},{"$f":"SUMPRODUCT((werknemers=november!$A28)*(datums=november!AB$5)*(uren))","v":"00:00:00"},{"$f":"SUMPRODUCT((werknemers=november!$A28)*(datums=november!AC$5)*(uren))","v":"00:00:00"},{"$f":"SUMPRODUCT((werknemers=november!$A28)*(datums=november!AD$5)*(uren))","v":"00:00:00"},{"$f":"SUMPRODUCT((werknemers=november!$A28)*(datums=november!AE$5)*(uren))","v":"00:00:00"}]
[]
["CONTROLE",{"$f":"SUMPRODUCT((werknemers=november!$A30)*(datums=november!B$5)*(uren))","v":"00:00:00"},{"$f":"SUMPRODUCT((werknemers=november!$A30)*(datums=november!C$5)*(uren))","v":"00:00:00"},{"$f":"SUMPRODUCT((werknemers=november!$A30)*(datums=november!D$5)*(uren))","v":"00:00:00"},{"$f":"SUMPRODUCT((werknemers=november!$A30)*(datums=november!E$5)*(uren))","v":"00:00:00"},{"$f":"SUMPRODUCT((werknemers=november!$A30)*(datums=november!F$5)*(uren))","v":"00:00:00"},{"$f":"SUMPRODUCT((werknemers=november!$A30)*(datums=november!G$5)*(uren))","v":"00:00:00"},{"$f":"SUMPRODUCT((werknemers=november!$A30)*(datums=november!H$5)*(uren))","v":"00:00:00"},{"$f":"SUMPRODUCT((werknemers=november!$A30)*(datums=november!I$5)*(uren))","v":"00:00:00"},{"$f":"SUMPRODUCT((werknemers=november!$A30)*(datums=november!J$5)*(uren))","v":"00:00:00"},{"$f":"SUMPRODUCT((werknemers=november!$A30)*(datums=november!K$5)*(uren))","v":"00:00:00"},{"$f":"SUMPRODUCT((werknemers=november!$A30)*(datums=november!L$5)*(uren))","v":"00:00:00"},{"$f":"SUMPRODUCT((werknemers=november!$A30)*(datums=november!M$5)*(uren))","v":"00:00:00"},{"$f":"SUMPRODUCT((werknemers=november!$A30)*(datums=november!N$5)*(uren))","v":"00:00:00"},{"$f":"SUMPRODUCT((werknemers=november!$A30)*(datums=november!O$5)*(uren))","v":"00:00:00"},{"$f":"SUMPRODUCT((werknemers=november!$A30)*(datums=november!P$5)*(uren))","v":"00:00:00"},{"$f":"SUMPRODUCT((werknemers=november!$A30)*(datums=november!Q$5)*(uren))","v":"00:00:00"},{"$f":"SUMPRODUCT((werknemers=november!$A30)*(datums=november!R$5)*(uren))","v":"00:00:00"},{"$f":"SUMPRODUCT((werknemers=november!$A30)*(datums=november!S$5)*(uren))","v":"00:00:00"},{"$f":"SUMPRODUCT((werknemers=november!$A30)*(datums=november!T$5)*(uren))","v":"00:00:00"},{"$f":"SUMPRODUCT((werknemers=november!$A30)*(datums=november!U$5)*(uren))","v":"00:00:00"},{"$f":"SUMPRODUCT((werknemers=november!$A30)*(datums=november!V$5)*(uren))","v":"00:00:00"},{"$f":"SUMPRODUCT((werknemers=november!$A30)*(datums=november!W$5)*(uren))","v":"00:00:00"},{"$f":"SUMPRODUCT((werknemers=november!$A30)*(datums=november!X$5)*(uren))","v":"00:00:00"},{"$f":"SUMPRODUCT((werknemers=november!$A30)*(datums=november!Y$5)*(uren))","v":"00:00:00"},{"$f":"SUMPRODUCT((werknemers=november!$A30)*(datums=november!Z$5)*(uren))","v":"00:00:00"},{"$f":"SUMPRODUCT((werknemers=november!$A30)*(datums=november!AA$5)*(uren))","v":"00:00:00"},{"$f":"SUMPRODUCT((werknemers=november!$A30)*(datums=november!AB$5)*(uren))","v":"00:00:00"},{"$f":"SUMPRODUCT((werknemers=november!$A30)*(datums=november!AC$5)*(uren))","v":"00:00:00"},{"$f":"SUMPRODUCT((werknemers=november!$A30)*(datums=november!AD$5)*(uren))","v":"00:00:00"},{"$f":"SUMPRODUCT((werknemers=november!$A30)*(datums=november!AE$5)*(uren))","v":"00:00:00"}]
[]
["CONTROLE",{"$f":"SUMPRODUCT((werknemers=november!$A32)*(datums=november!B$5)*(uren))","v":"00:00:00"},{"$f":"SUMPRODUCT((werknemers=november!$A32)*(datums=november!C$5)*(uren))","v":"00:00:00"},{"$f":"SUMPRODUCT((werknemers=november!$A32)*(datums=november!D$5)*(uren))","v":"00:00:00"},{"$f":"SUMPRODUCT((werknemers=november!$A32)*(datums=november!E$5)*(uren))","v":"00:00:00"},{"$f":"SUMPRODUCT((werknemers=november!$A32)*(datums=november!F$5)*(uren))","v":"00:00:00"},{"$f":"SUMPRODUCT((werknemers=november!$A32)*(datums=november!G$5)*(uren))","v":"00:00:00"},{"$f":"SUMPRODUCT((werknemers=november!$A32)*(datums=november!H$5)*(uren))","v":"00:00:00"},{"$f":"SUMPRODUCT((werknemers=november!$A32)*(datums=november!I$5)*(uren))","v":"00:00:00"},{"$f":"SUMPRODUCT((werknemers=november!$A32)*(datums=november!J$5)*(uren))","v":"00:00:00"},{"$f":"SUMPRODUCT((werknemers=november!$A32)*(datums=november!K$5)*(uren))","v":"00:00:00"},{"$f":"SUMPRODUCT((werknemers=november!$A32)*(datums=november!L$5)*(uren))","v":"00:00:00"},{"$f":"SUMPRODUCT((werknemers=november!$A32)*(datums=november!M$5)*(uren))","v":"00:00:00"},{"$f":"SUMPRODUCT((werknemers=november!$A32)*(datums=november!N$5)*(uren))","v":"00:00:00"},{"$f":"SUMPRODUCT((werknemers=november!$A32)*(datums=november!O$5)*(uren))","v":"00:00:00"},{"$f":"SUMPRODUCT((werknemers=november!$A32)*(datums=november!P$5)*(uren))","v":"00:00:00"},{"$f":"SUMPRODUCT((werknemers=november!$A32)*(datums=november!Q$5)*(uren))","v":"00:00:00"},{"$f":"SUMPRODUCT((werknemers=november!$A32)*(datums=november!R$5)*(uren))","v":"00:00:00"},{"$f":"SUMPRODUCT((werknemers=november!$A32)*(datums=november!S$5)*(uren))","v":"00:00:00"},{"$f":"SUMPRODUCT((werknemers=november!$A32)*(datums=november!T$5)*(uren))","v":"00:00:00"},{"$f":"SUMPRODUCT((werknemers=november!$A32)*(datums=november!U$5)*(uren))","v":"00:00:00"},{"$f":"SUMPRODUCT((werknemers=november!$A32)*(datums=november!V$5)*(uren))","v":"00:00:00"},{"$f":"SUMPRODUCT((werknemers=november!$A32)*(datums=november!W$5)*(uren))","v":"00:00:00"},{"$f":"SUMPRODUCT((werknemers=november!$A32)*(datums=november!X$5)*(uren))","v":"00:00:00"},{"$f":"SUMPRODUCT((werknemers=november!$A32)*(datums=november!Y$5)*(uren))","v":"00:00:00"},{"$f":"SUMPRODUCT((werknemers=november!$A32)*(datums=november!Z$5)*(uren))","v":"00:00:00"},{"$f":"SUMPRODUCT((werknemers=november!$A32)*(datums=november!AA$5)*(uren))","v":"00:00:00"},{"$f":"SUMPRODUCT((werknemers=november!$A32)*(datums=november!AB$5)*(uren))","v":"00:00:00"},{"$f":"SUMPRODUCT((werknemers=november!$A32)*(datums=november!AC$5)*(uren))","v":"00:00:00"},{"$f":"SUMPRODUCT((werknemers=november!$A32)*(datums=november!AD$5)*(uren))","v":"00:00:00"},{"$f":"SUMPRODUCT((werknemers=november!$A32)*(datums=november!AE$5)*(uren))","v":"00:00:00"}]
[]
["CONTROLE",{"$f":"SUMPRODUCT((werknemers=november!$A34)*(datums=november!B$5)*(uren))","v":"00:00:00"},{"$f":"SUMPRODUCT((werknemers=november!$A34)*(datums=november!C$5)*(uren))","v":"00:00:00"},{"$f":"SUMPRODUCT((werknemers=november!$A34)*(datums=november!D$5)*(uren))","v":"00:00:00"},{"$f":"SUMPRODUCT((werknemers=november!$A34)*(datums=november!E$5)*(uren))","v":"00:00:00"},{"$f":"SUMPRODUCT((werknemers=november!$A34)*(datums=november!F$5)*(uren))","v":"00:00:00"},{"$f":"SUMPRODUCT((werknemers=november!$A34)*(datums=november!G$5)*(uren))","v":"00:00:00"},{"$f":"SUMPRODUCT((werknemers=november!$A34)*(datums=november!H$5)*(uren))","v":"00:00:00"},{"$f":"SUMPRODUCT((werknemers=november!$A34)*(datums=november!I$5)*(uren))","v":"00:00:00"},{"$f":"SUMPRODUCT((werknemers=november!$A34)*(datums=november!J$5)*(uren))","v":"00:00:00"},{"$f":"SUMPRODUCT((werknemers=november!$A34)*(datums=november!K$5)*(uren))","v":"00:00:00"},{"$f":"SUMPRODUCT((werknemers=november!$A34)*(datums=november!L$5)*(uren))","v":"00:00:00"},{"$f":"SUMPRODUCT((werknemers=november!$A34)*(datums=november!M$5)*(uren))","v":"00:00:00"},{"$f":"SUMPRODUCT((werknemers=november!$A34)*(datums=november!N$5)*(uren))","v":"00:00:00"},{"$f":"SUMPRODUCT((werknemers=november!$A34)*(datums=november!O$5)*(uren))","v":"00:00:00"},{"$f":"SUMPRODUCT((werknemers=november!$A34)*(datums=november!P$5)*(uren))","v":"00:00:00"},{"$f":"SUMPRODUCT((werknemers=november!$A34)*(datums=november!Q$5)*(uren))","v":"00:00:00"},{"$f":"SUMPRODUCT((werknemers=november!$A34)*(datums=november!R$5)*(uren))","v":"00:00:00"},{"$f":"SUMPRODUCT((werknemers=november!$A34)*(datums=november!S$5)*(uren))","v":"00:00:00"},{"$f":"SUMPRODUCT((werknemers=november!$A34)*(datums=november!T$5)*(uren))","v":"00:00:00"},{"$f":"SUMPRODUCT((werknemers=november!$A34)*(datums=november!U$5)*(uren))","v":"00:00:00"},{"$f":"SUMPRODUCT((werknemers=november!$A34)*(datums=november!V$5)*(uren))","v":"00:00:00"},{"$f":"SUMPRODUCT((werknemers=november!$A34)*(datums=november!W$5)*(uren))","v":"00:00:00"},{"$f":"SUMPRODUCT((werknemers=november!$A34)*(datums=november!X$5)*(uren))","v":"00:00:00"},{"$f":"SUMPRODUCT((werknemers=november!$A34)*(datums=november!Y$5)*(uren))","v":"00:00:00"},{"$f":"SUMPRODUCT((werknemers=november!$A34)*(datums=november!Z$5)*(uren))","v":"00:00:00"},{"$f":"SUMPRODUCT((werknemers=november!$A34)*(datums=november!AA$5)*(uren))","v":"00:00:00"},{"$f":"SUMPRODUCT((werknemers=november!$A34)*(datums=november!AB$5)*(uren))","v":"00:00:00"},{"$f":"SUMPRODUCT((werknemers=november!$A34)*(datums=november!AC$5)*(uren))","v":"00:00:00"},{"$f":"SUMPRODUCT((werknemers=november!$A34)*(datums=november!AD$5)*(uren))","v":"00:00:00"},{"$f":"SUMPRODUCT((werknemers=november!$A34)*(datums=november!AE$5)*(uren))","v":"00:00:00"}]
[]
["CONTROLE",{"$f":"SUMPRODUCT((werknemers=november!$A36)*(datums=november!B$5)*(uren))","v":"00:00:00"},{"$f":"SUMPRODUCT((werknemers=november!$A36)*(datums=november!C$5)*(uren))","v":"00:00:00"},{"$f":"SUMPRODUCT((werknemers=november!$A36)*(datums=november!D$5)*(uren))","v":"00:00:00"},{"$f":"SUMPRODUCT((werknemers=november!$A36)*(datums=november!E$5)*(uren))","v":"00:00:00"},{"$f":"SUMPRODUCT((werknemers=november!$A36)*(datums=november!F$5)*(uren))","v":"00:00:00"},{"$f":"SUMPRODUCT((werknemers=november!$A36)*(datums=november!G$5)*(uren))","v":"00:00:00"},{"$f":"SUMPRODUCT((werknemers=november!$A36)*(datums=november!H$5)*(uren))","v":"00:00:00"},{"$f":"SUMPRODUCT((werknemers=november!$A36)*(datums=november!I$5)*(uren))","v":"00:00:00"},{"$f":"SUMPRODUCT((werknemers=november!$A36)*(datums=november!J$5)*(uren))","v":"00:00:00"},{"$f":"SUMPRODUCT((werknemers=november!$A36)*(datums=november!K$5)*(uren))","v":"00:00:00"},{"$f":"SUMPRODUCT((werknemers=november!$A36)*(datums=november!L$5)*(uren))","v":"00:00:00"},{"$f":"SUMPRODUCT((werknemers=november!$A36)*(datums=november!M$5)*(uren))","v":"00:00:00"},{"$f":"SUMPRODUCT((werknemers=november!$A36)*(datums=november!N$5)*(uren))","v":"00:00:00"},{"$f":"SUMPRODUCT((werknemers=november!$A36)*(datums=november!O$5)*(uren))","v":"00:00:00"},{"$f":"SUMPRODUCT((werknemers=november!$A36)*(datums=november!P$5)*(uren))","v":"00:00:00"},{"$f":"SUMPRODUCT((werknemers=november!$A36)*(datums=november!Q$5)*(uren))","v":"00:00:00"},{"$f":"SUMPRODUCT((werknemers=november!$A36)*(datums=november!R$5)*(uren))","v":"00:00:00"},{"$f":"SUMPRODUCT((werknemers=november!$A36)*(datums=november!S$5)*(uren))","v":"00:00:00"},{"$f":"SUMPRODUCT((werknemers=november!$A36)*(datums=november!T$5)*(uren))","v":"00:00:00"},{"$f":"SUMPRODUCT((werknemers=november!$A36)*(datums=november!U$5)*(uren))","v":"00:00:00"},{"$f":"SUMPRODUCT((werknemers=november!$A36)*(datums=november!V$5)*(uren))","v":"00:00:00"},{"$f":"SUMPRODUCT((werknemers=november!$A36)*(datums=november!W$5)*(uren))","v":"00:00:00"},{"$f":"SUMPRODUCT((werknemers=november!$A36)*(datums=november!X$5)*(uren))","v":"00:00:00"},{"$f":"SUMPRODUCT((werknemers=november!$A36)*(datums=november!Y$5)*(uren))","v":"00:00:00"},{"$f":"SUMPRODUCT((werknemers=november!$A36)*(datums=november!Z$5)*(uren))","v":"00:00:00"},{"$f":"SUMPRODUCT((werknemers=november!$A36)*(datums=november!AA$5)*(uren))","v":"00:00:00"},{"$f":"SUMPRODUCT((werknemers=november!$A36)*(datums=november!AB$5)*(uren))","v":"00:00:00"},{"$f":"SUMPRODUCT((werknemers=november!$A36)*(datums=november!AC$5)*(uren))","v":"00:00:00"},{"$f":"SUMPRODUCT((werknemers=november!$A36)*(datums=november!AD$5)*(uren))","v":"00:00:00"},{"$f":"SUMPRODUCT((werknemers=november!$A36)*(datums=november!AE$5)*(uren))","v":"00:00:00"}]
[]
["CONTROLE",{"$f":"SUMPRODUCT((werknemers=november!$A38)*(datums=november!B$5)*(uren))","v":"00:00:00"},{"$f":"SUMPRODUCT((werknemers=november!$A38)*(datums=november!C$5)*(uren))","v":"00:00:00"},{"$f":"SUMPRODUCT((werknemers=november!$A38)*(datums=november!D$5)*(uren))","v":"00:00:00"},{"$f":"SUMPRODUCT((werknemers=november!$A38)*(datums=november!E$5)*(uren))","v":"00:00:00"},{"$f":"SUMPRODUCT((werknemers=november!$A38)*(datums=november!F$5)*(uren))","v":"00:00:00"},{"$f":"SUMPRODUCT((werknemers=november!$A38)*(datums=november!G$5)*(uren))","v":"00:00:00"},{"$f":"SUMPRODUCT((werknemers=november!$A38)*(datums=november!H$5)*(uren))","v":"00:00:00"},{"$f":"SUMPRODUCT((werknemers=november!$A38)*(datums=november!I$5)*(uren))","v":"00:00:00"},{"$f":"SUMPRODUCT((werknemers=november!$A38)*(datums=november!J$5)*(uren))","v":"00:00:00"},{"$f":"SUMPRODUCT((werknemers=november!$A38)*(datums=november!K$5)*(uren))","v":"00:00:00"},{"$f":"SUMPRODUCT((werknemers=november!$A38)*(datums=november!L$5)*(uren))","v":"00:00:00"},{"$f":"SUMPRODUCT((werknemers=november!$A38)*(datums=november!M$5)*(uren))","v":"00:00:00"},{"$f":"SUMPRODUCT((werknemers=november!$A38)*(datums=november!N$5)*(uren))","v":"00:00:00"},{"$f":"SUMPRODUCT((werknemers=november!$A38)*(datums=november!O$5)*(uren))","v":"00:00:00"},{"$f":"SUMPRODUCT((werknemers=november!$A38)*(datums=november!P$5)*(uren))","v":"00:00:00"},{"$f":"SUMPRODUCT((werknemers=november!$A38)*(datums=november!Q$5)*(uren))","v":"00:00:00"},{"$f":"SUMPRODUCT((werknemers=november!$A38)*(datums=november!R$5)*(uren))","v":"00:00:00"},{"$f":"SUMPRODUCT((werknemers=november!$A38)*(datums=november!S$5)*(uren))","v":"00:00:00"},{"$f":"SUMPRODUCT((werknemers=november!$A38)*(datums=november!T$5)*(uren))","v":"00:00:00"},{"$f":"SUMPRODUCT((werknemers=november!$A38)*(datums=november!U$5)*(uren))","v":"00:00:00"},{"$f":"SUMPRODUCT((werknemers=november!$A38)*(datums=november!V$5)*(uren))","v":"00:00:00"},{"$f":"SUMPRODUCT((werknemers=november!$A38)*(datums=november!W$5)*(uren))","v":"00:00:00"},{"$f":"SUMPRODUCT((werknemers=november!$A38)*(datums=november!X$5)*(uren))","v":"00:00:00"},{"$f":"SUMPRODUCT((werknemers=november!$A38)*(datums=november!Y$5)*(uren))","v":"00:00:00"},{"$f":"SUMPRODUCT((werknemers=november!$A38)*(datums=november!Z$5)*(uren))","v":"00:00:00"},{"$f":"SUMPRODUCT((werknemers=november!$A38)*(datums=november!AA$5)*(uren))","v":"00:00:00"},{"$f":"SUMPRODUCT((werknemers=november!$A38)*(datums=november!AB$5)*(uren))","v":"00:00:00"},{"$f":"SUMPRODUCT((werknemers=november!$A38)*(datums=november!AC$5)*(uren))","v":"00:00:00"},{"$f":"SUMPRODUCT((werknemers=november!$A38)*(datums=november!AD$5)*(uren))","v":"00:00:00"},{"$f":"SUMPRODUCT((werknemers=november!$A38)*(datums=november!AE$5)*(uren))","v":"00:00:00"}]
[]
["CONTROLE",{"$f":"SUMPRODUCT((werknemers=november!$A40)*(datums=november!B$5)*(uren))","v":"00:00:00"},{"$f":"SUMPRODUCT((werknemers=november!$A40)*(datums=november!C$5)*(uren))","v":"00:00:00"},{"$f":"SUMPRODUCT((werknemers=november!$A40)*(datums=november!D$5)*(uren))","v":"00:00:00"},{"$f":"SUMPRODUCT((werknemers=november!$A40)*(datums=november!E$5)*(uren))","v":"00:00:00"},{"$f":"SUMPRODUCT((werknemers=november!$A40)*(datums=november!F$5)*(uren))","v":"00:00:00"},{"$f":"SUMPRODUCT((werknemers=november!$A40)*(datums=november!G$5)*(uren))","v":"00:00:00"},{"$f":"SUMPRODUCT((werknemers=november!$A40)*(datums=november!H$5)*(uren))","v":"00:00:00"},{"$f":"SUMPRODUCT((werknemers=november!$A40)*(datums=november!I$5)*(uren))","v":"00:00:00"},{"$f":"SUMPRODUCT((werknemers=november!$A40)*(datums=november!J$5)*(uren))","v":"00:00:00"},{"$f":"SUMPRODUCT((werknemers=november!$A40)*(datums=november!K$5)*(uren))","v":"00:00:00"},{"$f":"SUMPRODUCT((werknemers=november!$A40)*(datums=november!L$5)*(uren))","v":"00:00:00"},{"$f":"SUMPRODUCT((werknemers=november!$A40)*(datums=november!M$5)*(uren))","v":"00:00:00"},{"$f":"SUMPRODUCT((werknemers=november!$A40)*(datums=november!N$5)*(uren))","v":"00:00:00"},{"$f":"SUMPRODUCT((werknemers=november!$A40)*(datums=november!O$5)*(uren))","v":"00:00:00"},{"$f":"SUMPRODUCT((werknemers=november!$A40)*(datums=november!P$5)*(uren))","v":"00:00:00"},{"$f":"SUMPRODUCT((werknemers=november!$A40)*(datums=november!Q$5)*(uren))","v":"00:00:00"},{"$f":"SUMPRODUCT((werknemers=november!$A40)*(datums=november!R$5)*(uren))","v":"00:00:00"},{"$f":"SUMPRODUCT((werknemers=november!$A40)*(datums=november!S$5)*(uren))","v":"00:00:00"},{"$f":"SUMPRODUCT((werknemers=november!$A40)*(datums=november!T$5)*(uren))","v":"00:00:00"},{"$f":"SUMPRODUCT((werknemers=november!$A40)*(datums=november!U$5)*(uren))","v":"00:00:00"},{"$f":"SUMPRODUCT((werknemers=november!$A40)*(datums=november!V$5)*(uren))","v":"00:00:00"},{"$f":"SUMPRODUCT((werknemers=november!$A40)*(datums=november!W$5)*(uren))","v":"00:00:00"},{"$f":"SUMPRODUCT((werknemers=november!$A40)*(datums=november!X$5)*(uren))","v":"00:00:00"},{"$f":"SUMPRODUCT((werknemers=november!$A40)*(datums=november!Y$5)*(uren))","v":"00:00:00"},{"$f":"SUMPRODUCT((werknemers=november!$A40)*(datums=november!Z$5)*(uren))","v":"00:00:00"},{"$f":"SUMPRODUCT((werknemers=november!$A40)*(datums=november!AA$5)*(uren))","v":"00:00:00"},{"$f":"SUMPRODUCT((werknemers=november!$A40)*(datums=november!AB$5)*(uren))","v":"00:00:00"},{"$f":"SUMPRODUCT((werknemers=november!$A40)*(datums=november!AC$5)*(uren))","v":"00:00:00"},{"$f":"SUMPRODUCT((werknemers=november!$A40)*(datums=november!AD$5)*(uren))","v":"00:00:00"},{"$f":"SUMPRODUCT((werknemers=november!$A40)*(datums=november!AE$5)*(uren))","v":"00:00:00"}]
[]
["CONTROLE",{"$f":"SUMPRODUCT((werknemers=november!$A42)*(datums=november!B$5)*(uren))","v":"00:00:00"},{"$f":"SUMPRODUCT((werknemers=november!$A42)*(datums=november!C$5)*(uren))","v":"00:00:00"},{"$f":"SUMPRODUCT((werknemers=november!$A42)*(datums=november!D$5)*(uren))","v":"00:00:00"},{"$f":"SUMPRODUCT((werknemers=november!$A42)*(datums=november!E$5)*(uren))","v":"00:00:00"},{"$f":"SUMPRODUCT((werknemers=november!$A42)*(datums=november!F$5)*(uren))","v":"00:00:00"},{"$f":"SUMPRODUCT((werknemers=november!$A42)*(datums=november!G$5)*(uren))","v":"00:00:00"},{"$f":"SUMPRODUCT((werknemers=november!$A42)*(datums=november!H$5)*(uren))","v":"00:00:00"},{"$f":"SUMPRODUCT((werknemers=november!$A42)*(datums=november!I$5)*(uren))","v":"00:00:00"},{"$f":"SUMPRODUCT((werknemers=november!$A42)*(datums=november!J$5)*(uren))","v":"00:00:00"},{"$f":"SUMPRODUCT((werknemers=november!$A42)*(datums=november!K$5)*(uren))","v":"00:00:00"},{"$f":"SUMPRODUCT((werknemers=november!$A42)*(datums=november!L$5)*(uren))","v":"00:00:00"},{"$f":"SUMPRODUCT((werknemers=november!$A42)*(datums=november!M$5)*(uren))","v":"00:00:00"},{"$f":"SUMPRODUCT((werknemers=november!$A42)*(datums=november!N$5)*(uren))","v":"00:00:00"},{"$f":"SUMPRODUCT((werknemers=november!$A42)*(datums=november!O$5)*(uren))","v":"00:00:00"},{"$f":"SUMPRODUCT((werknemers=november!$A42)*(datums=november!P$5)*(uren))","v":"00:00:00"},{"$f":"SUMPRODUCT((werknemers=november!$A42)*(datums=november!Q$5)*(uren))","v":"00:00:00"},{"$f":"SUMPRODUCT((werknemers=november!$A42)*(datums=november!R$5)*(uren))","v":"00:00:00"},{"$f":"SUMPRODUCT((werknemers=november!$A42)*(datums=november!S$5)*(uren))","v":"00:00:00"},{"$f":"SUMPRODUCT((werknemers=november!$A42)*(datums=november!T$5)*(uren))","v":"00:00:00"},{"$f":"SUMPRODUCT((werknemers=november!$A42)*(datums=november!U$5)*(uren))","v":"00:00:00"},{"$f":"SUMPRODUCT((werknemers=november!$A42)*(datums=november!V$5)*(uren))","v":"00:00:00"},{"$f":"SUMPRODUCT((werknemers=november!$A42)*(datums=november!W$5)*(uren))","v":"00:00:00"},{"$f":"SUMPRODUCT((werknemers=november!$A42)*(datums=november!X$5)*(uren))","v":"00:00:00"},{"$f":"SUMPRODUCT((werknemers=november!$A42)*(datums=november!Y$5)*(uren))","v":"00:00:00"},{"$f":"SUMPRODUCT((werknemers=november!$A42)*(datums=november!Z$5)*(uren))","v":"00:00:00"},{"$f":"SUMPRODUCT((werknemers=november!$A42)*(datums=november!AA$5)*(uren))","v":"00:00:00"},{"$f":"SUMPRODUCT((werknemers=november!$A42)*(datums=november!AB$5)*(uren))","v":"00:00:00"},{"$f":"SUMPRODUCT((werknemers=november!$A42)*(datums=november!AC$5)*(uren))","v":"00:00:00"},{"$f":"SUMPRODUCT((werknemers=november!$A42)*(datums=november!AD$5)*(uren))","v":"00:00:00"},{"$f":"SUMPRODUCT((werknemers=november!$A42)*(datums=november!AE$5)*(uren))","v":"00:00:00"}]
[]
["CONTROLE",{"$f":"SUMPRODUCT((werknemers=november!$A44)*(datums=november!B$5)*(uren))","v":"00:00:00"},{"$f":"SUMPRODUCT((werknemers=november!$A44)*(datums=november!C$5)*(uren))","v":"00:00:00"},{"$f":"SUMPRODUCT((werknemers=november!$A44)*(datums=november!D$5)*(uren))","v":"00:00:00"},{"$f":"SUMPRODUCT((werknemers=november!$A44)*(datums=november!E$5)*(uren))","v":"00:00:00"},{"$f":"SUMPRODUCT((werknemers=november!$A44)*(datums=november!F$5)*(uren))","v":"00:00:00"},{"$f":"SUMPRODUCT((werknemers=november!$A44)*(datums=november!G$5)*(uren))","v":"00:00:00"},{"$f":"SUMPRODUCT((werknemers=november!$A44)*(datums=november!H$5)*(uren))","v":"00:00:00"},{"$f":"SUMPRODUCT((werknemers=november!$A44)*(datums=november!I$5)*(uren))","v":"00:00:00"},{"$f":"SUMPRODUCT((werknemers=november!$A44)*(datums=november!J$5)*(uren))","v":"00:00:00"},{"$f":"SUMPRODUCT((werknemers=november!$A44)*(datums=november!K$5)*(uren))","v":"00:00:00"},{"$f":"SUMPRODUCT((werknemers=november!$A44)*(datums=november!L$5)*(uren))","v":"00:00:00"},{"$f":"SUMPRODUCT((werknemers=november!$A44)*(datums=november!M$5)*(uren))","v":"00:00:00"},{"$f":"SUMPRODUCT((werknemers=november!$A44)*(datums=november!N$5)*(uren))","v":"00:00:00"},{"$f":"SUMPRODUCT((werknemers=november!$A44)*(datums=november!O$5)*(uren))","v":"00:00:00"},{"$f":"SUMPRODUCT((werknemers=november!$A44)*(datums=november!P$5)*(uren))","v":"00:00:00"},{"$f":"SUMPRODUCT((werknemers=november!$A44)*(datums=november!Q$5)*(uren))","v":"00:00:00"},{"$f":"SUMPRODUCT((werknemers=november!$A44)*(datums=november!R$5)*(uren))","v":"00:00:00"},{"$f":"SUMPRODUCT((werknemers=november!$A44)*(datums=november!S$5)*(uren))","v":"00:00:00"},{"$f":"SUMPRODUCT((werknemers=november!$A44)*(datums=november!T$5)*(uren))","v":"00:00:00"},{"$f":"SUMPRODUCT((werknemers=november!$A44)*(datums=november!U$5)*(uren))","v":"00:00:00"},{"$f":"SUMPRODUCT((werknemers=november!$A44)*(datums=november!V$5)*(uren))","v":"00:00:00"},{"$f":"SUMPRODUCT((werknemers=november!$A44)*(datums=november!W$5)*(uren))","v":"00:00:00"},{"$f":"SUMPRODUCT((werknemers=november!$A44)*(datums=november!X$5)*(uren))","v":"00:00:00"},{"$f":"SUMPRODUCT((werknemers=november!$A44)*(datums=november!Y$5)*(uren))","v":"00:00:00"},{"$f":"SUMPRODUCT((werknemers=november!$A44)*(datums=november!Z$5)*(uren))","v":"00:00:00"},{"$f":"SUMPRODUCT((werknemers=november!$A44)*(datums=november!AA$5)*(uren))","v":"00:00:00"},{"$f":"SUMPRODUCT((werknemers=november!$A44)*(datums=november!AB$5)*(uren))","v":"00:00:00"},{"$f":"SUMPRODUCT((werknemers=november!$A44)*(datums=november!AC$5)*(uren))","v":"00:00:00"},{"$f":"SUMPRODUCT((werknemers=november!$A44)*(datums=november!AD$5)*(uren))","v":"00:00:00"},{"$f":"SUMPRODUCT((werknemers=november!$A44)*(datums=november!AE$5)*(uren))","v":"00:00:00"}]

{"sheet":"december","index":13,"n_rows":45,"n_cols":32,"rows_kept":45,"cut":false,"hidden":false,"merged":[[3,0,4,0],[1,1,1,3],[1,5,1,7],[1,9,1,11]]}
[]
[null,"verlof (V)",null,null,null,"ziek (Z)",null,null,null,"feestdag (F)"]
[]
[{"$f":"YEAR(B5)","v":2018},{"$f":"WEEKDAY(B5)","v":"1900-01-07"},{"$f":"WEEKDAY(C5)","v":"1900-01-01"},"1900-01-02","1900-01-03","1900-01-04","1900-01-05","1900-01-06","1900-01-07","1900-01-01","1900-01-02","1900-01-03","1900-01-04","1900-01-05","1900-01-06","1900-01-07","1900-01-01","1900-01-02","1900-01-03","1900-01-04","1900-01-05","1900-01-06","1900-01-07","1900-01-01","1900-01-02","1900-01-03","1900-01-04","1900-01-05","1900-01-06","1900-01-07","1900-01-01","1900-01-02"]
[null,"2018-12-01","2018-12-02","2018-12-03","2018-12-04","2018-12-05","2018-12-06","2018-12-07","2018-12-08","2018-12-09","2018-12-10","2018-12-11","2018-12-12","2018-12-13","2018-12-14","2018-12-15","2018-12-16","2018-12-17","2018-12-18","2018-12-19","2018-12-20","2018-12-21","2018-12-22","2018-12-23","2018-12-24","2018-12-25","2018-12-26","2018-12-27","2018-12-28","2018-12-29","2018-12-30","2018-12-31"]
[]
["CONTROLE",{"$f":"SUMPRODUCT((werknemers=december!$A6)*(datums=december!B$5)*(uren))","v":"00:00:00"},{"$f":"SUMPRODUCT((werknemers=december!$A6)*(datums=december!C$5)*(uren))","v":"00:00:00"},{"$f":"SUMPRODUCT((werknemers=december!$A6)*(datums=december!D$5)*(uren))","v":"00:00:00"},{"$f":"SUMPRODUCT((werknemers=december!$A6)*(datums=december!E$5)*(uren))","v":"00:00:00"},{"$f":"SUMPRODUCT((werknemers=december!$A6)*(datums=december!F$5)*(uren))","v":"00:00:00"},{"$f":"SUMPRODUCT((werknemers=december!$A6)*(datums=december!G$5)*(uren))","v":"00:00:00"},{"$f":"SUMPRODUCT((werknemers=december!$A6)*(datums=december!H$5)*(uren))","v":"00:00:00"},{"$f":"SUMPRODUCT((werknemers=december!$A6)*(datums=december!I$5)*(uren))","v":"00:00:00"},{"$f":"SUMPRODUCT((werknemers=december!$A6)*(datums=december!J$5)*(uren))","v":"00:00:00"},{"$f":"SUMPRODUCT((werknemers=december!$A6)*(datums=december!K$5)*(uren))","v":"00:00:00"},{"$f":"SUMPRODUCT((werknemers=december!$A6)*(datums=december!L$5)*(uren))","v":"00:00:00"},{"$f":"SUMPRODUCT((werknemers=december!$A6)*(datums=december!M$5)*(uren))","v":"00:00:00"},{"$f":"SUMPRODUCT((werknemers=december!$A6)*(datums=december!N$5)*(uren))","v":"00:00:00"},{"$f":"SUMPRODUCT((werknemers=december!$A6)*(datums=december!O$5)*(uren))","v":"00:00:00"},{"$f":"SUMPRODUCT((werknemers=december!$A6)*(datums=december!P$5)*(uren))","v":"00:00:00"},{"$f":"SUMPRODUCT((werknemers=december!$A6)*(datums=december!Q$5)*(uren))","v":"00:00:00"},{"$f":"SUMPRODUCT((werknemers=december!$A6)*(datums=december!R$5)*(uren))","v":"00:00:00"},{"$f":"SUMPRODUCT((werknemers=december!$A6)*(datums=december!S$5)*(uren))","v":"00:00:00"},{"$f":"SUMPRODUCT((werknemers=december!$A6)*(datums=december!T$5)*(uren))","v":"00:00:00"},{"$f":"SUMPRODUCT((werknemers=december!$A6)*(datums=december!U$5)*(uren))","v":"00:00:00"},{"$f":"SUMPRODUCT((werknemers=december!$A6)*(datums=december!V$5)*(uren))","v":"00:00:00"},{"$f":"SUMPRODUCT((werknemers=december!$A6)*(datums=december!W$5)*(uren))","v":"00:00:00"},{"$f":"SUMPRODUCT((werknemers=december!$A6)*(datums=december!X$5)*(uren))","v":"00:00:00"},{"$f":"SUMPRODUCT((werknemers=december!$A6)*(datums=december!Y$5)*(uren))","v":"00:00:00"},{"$f":"SUMPRODUCT((werknemers=december!$A6)*(datums=december!Z$5)*(uren))","v":"00:00:00"},{"$f":"SUMPRODUCT((werknemers=december!$A6)*(datums=december!AA$5)*(uren))","v":"00:00:00"},{"$f":"SUMPRODUCT((werknemers=december!$A6)*(datums=december!AB$5)*(uren))","v":"00:00:00"},{"$f":"SUMPRODUCT((werknemers=december!$A6)*(datums=december!AC$5)*(uren))","v":"00:00:00"},{"$f":"SUMPRODUCT((werknemers=december!$A6)*(datums=december!AD$5)*(uren))","v":"00:00:00"},{"$f":"SUMPRODUCT((werknemers=december!$A6)*(datums=december!AE$5)*(uren))","v":"00:00:00"},{"$f":"SUMPRODUCT((werknemers=december!$A6)*(datums=december!AF$5)*(uren))","v":"00:00:00"}]
[]
["CONTROLE",{"$f":"SUMPRODUCT((werknemers=december!$A8)*(datums=december!B$5)*(uren))","v":"00:00:00"},{"$f":"SUMPRODUCT((werknemers=december!$A8)*(datums=december!C$5)*(uren))","v":"00:00:00"},{"$f":"SUMPRODUCT((werknemers=december!$A8)*(datums=december!D$5)*(uren))","v":"00:00:00"},{"$f":"SUMPRODUCT((werknemers=december!$A8)*(datums=december!E$5)*(uren))","v":"00:00:00"},{"$f":"SUMPRODUCT((werknemers=december!$A8)*(datums=december!F$5)*(uren))","v":"00:00:00"},{"$f":"SUMPRODUCT((werknemers=december!$A8)*(datums=december!G$5)*(uren))","v":"00:00:00"},{"$f":"SUMPRODUCT((werknemers=december!$A8)*(datums=december!H$5)*(uren))","v":"00:00:00"},{"$f":"SUMPRODUCT((werknemers=december!$A8)*(datums=december!I$5)*(uren))","v":"00:00:00"},{"$f":"SUMPRODUCT((werknemers=december!$A8)*(datums=december!J$5)*(uren))","v":"00:00:00"},{"$f":"SUMPRODUCT((werknemers=december!$A8)*(datums=december!K$5)*(uren))","v":"00:00:00"},{"$f":"SUMPRODUCT((werknemers=december!$A8)*(datums=december!L$5)*(uren))","v":"00:00:00"},{"$f":"SUMPRODUCT((werknemers=december!$A8)*(datums=december!M$5)*(uren))","v":"00:00:00"},{"$f":"SUMPRODUCT((werknemers=december!$A8)*(datums=december!N$5)*(uren))","v":"00:00:00"},{"$f":"SUMPRODUCT((werknemers=december!$A8)*(datums=december!O$5)*(uren))","v":"00:00:00"},{"$f":"SUMPRODUCT((werknemers=december!$A8)*(datums=december!P$5)*(uren))","v":"00:00:00"},{"$f":"SUMPRODUCT((werknemers=december!$A8)*(datums=december!Q$5)*(uren))","v":"00:00:00"},{"$f":"SUMPRODUCT((werknemers=december!$A8)*(datums=december!R$5)*(uren))","v":"00:00:00"},{"$f":"SUMPRODUCT((werknemers=december!$A8)*(datums=december!S$5)*(uren))","v":"00:00:00"},{"$f":"SUMPRODUCT((werknemers=december!$A8)*(datums=december!T$5)*(uren))","v":"00:00:00"},{"$f":"SUMPRODUCT((werknemers=december!$A8)*(datums=december!U$5)*(uren))","v":"00:00:00"},{"$f":"SUMPRODUCT((werknemers=december!$A8)*(datums=december!V$5)*(uren))","v":"00:00:00"},{"$f":"SUMPRODUCT((werknemers=december!$A8)*(datums=december!W$5)*(uren))","v":"00:00:00"},{"$f":"SUMPRODUCT((werknemers=december!$A8)*(datums=december!X$5)*(uren))","v":"00:00:00"},{"$f":"SUMPRODUCT((werknemers=december!$A8)*(datums=december!Y$5)*(uren))","v":"00:00:00"},{"$f":"SUMPRODUCT((werknemers=december!$A8)*(datums=december!Z$5)*(uren))","v":"00:00:00"},{"$f":"SUMPRODUCT((werknemers=december!$A8)*(datums=december!AA$5)*(uren))","v":"00:00:00"},{"$f":"SUMPRODUCT((werknemers=december!$A8)*(datums=december!AB$5)*(uren))","v":"00:00:00"},{"$f":"SUMPRODUCT((werknemers=december!$A8)*(datums=december!AC$5)*(uren))","v":"00:00:00"},{"$f":"SUMPRODUCT((werknemers=december!$A8)*(datums=december!AD$5)*(uren))","v":"00:00:00"},{"$f":"SUMPRODUCT((werknemers=december!$A8)*(datums=december!AE$5)*(uren))","v":"00:00:00"},{"$f":"SUMPRODUCT((werknemers=december!$A8)*(datums=december!AF$5)*(uren))","v":"00:00:00"}]
[]
["CONTROLE",{"$f":"SUMPRODUCT((werknemers=december!$A10)*(datums=december!B$5)*(uren))","v":"00:00:00"},{"$f":"SUMPRODUCT((werknemers=december!$A10)*(datums=december!C$5)*(uren))","v":"00:00:00"},{"$f":"SUMPRODUCT((werknemers=december!$A10)*(datums=december!D$5)*(uren))","v":"00:00:00"},{"$f":"SUMPRODUCT((werknemers=december!$A10)*(datums=december!E$5)*(uren))","v":"00:00:00"},{"$f":"SUMPRODUCT((werknemers=december!$A10)*(datums=december!F$5)*(uren))","v":"00:00:00"},{"$f":"SUMPRODUCT((werknemers=december!$A10)*(datums=december!G$5)*(uren))","v":"00:00:00"},{"$f":"SUMPRODUCT((werknemers=december!$A10)*(datums=december!H$5)*(uren))","v":"00:00:00"},{"$f":"SUMPRODUCT((werknemers=december!$A10)*(datums=december!I$5)*(uren))","v":"00:00:00"},{"$f":"SUMPRODUCT((werknemers=december!$A10)*(datums=december!J$5)*(uren))","v":"00:00:00"},{"$f":"SUMPRODUCT((werknemers=december!$A10)*(datums=december!K$5)*(uren))","v":"00:00:00"},{"$f":"SUMPRODUCT((werknemers=december!$A10)*(datums=december!L$5)*(uren))","v":"00:00:00"},{"$f":"SUMPRODUCT((werknemers=december!$A10)*(datums=december!M$5)*(uren))","v":"00:00:00"},{"$f":"SUMPRODUCT((werknemers=december!$A10)*(datums=december!N$5)*(uren))","v":"00:00:00"},{"$f":"SUMPRODUCT((werknemers=december!$A10)*(datums=december!O$5)*(uren))","v":"00:00:00"},{"$f":"SUMPRODUCT((werknemers=december!$A10)*(datums=december!P$5)*(uren))","v":"00:00:00"},{"$f":"SUMPRODUCT((werknemers=december!$A10)*(datums=december!Q$5)*(uren))","v":"00:00:00"},{"$f":"SUMPRODUCT((werknemers=december!$A10)*(datums=december!R$5)*(uren))","v":"00:00:00"},{"$f":"SUMPRODUCT((werknemers=december!$A10)*(datums=december!S$5)*(uren))","v":"00:00:00"},{"$f":"SUMPRODUCT((werknemers=december!$A10)*(datums=december!T$5)*(uren))","v":"00:00:00"},{"$f":"SUMPRODUCT((werknemers=december!$A10)*(datums=december!U$5)*(uren))","v":"00:00:00"},{"$f":"SUMPRODUCT((werknemers=december!$A10)*(datums=december!V$5)*(uren))","v":"00:00:00"},{"$f":"SUMPRODUCT((werknemers=december!$A10)*(datums=december!W$5)*(uren))","v":"00:00:00"},{"$f":"SUMPRODUCT((werknemers=december!$A10)*(datums=december!X$5)*(uren))","v":"00:00:00"},{"$f":"SUMPRODUCT((werknemers=december!$A10)*(datums=december!Y$5)*(uren))","v":"00:00:00"},{"$f":"SUMPRODUCT((werknemers=december!$A10)*(datums=december!Z$5)*(uren))","v":"00:00:00"},{"$f":"SUMPRODUCT((werknemers=december!$A10)*(datums=december!AA$5)*(uren))","v":"00:00:00"},{"$f":"SUMPRODUCT((werknemers=december!$A10)*(datums=december!AB$5)*(uren))","v":"00:00:00"},{"$f":"SUMPRODUCT((werknemers=december!$A10)*(datums=december!AC$5)*(uren))","v":"00:00:00"},{"$f":"SUMPRODUCT((werknemers=december!$A10)*(datums=december!AD$5)*(uren))","v":"00:00:00"},{"$f":"SUMPRODUCT((werknemers=december!$A10)*(datums=december!AE$5)*(uren))","v":"00:00:00"},{"$f":"SUMPRODUCT((werknemers=december!$A10)*(datums=december!AF$5)*(uren))","v":"00:00:00"}]
[]
["CONTROLE",{"$f":"SUMPRODUCT((werknemers=december!$A12)*(datums=december!B$5)*(uren))","v":"00:00:00"},{"$f":"SUMPRODUCT((werknemers=december!$A12)*(datums=december!C$5)*(uren))","v":"00:00:00"},{"$f":"SUMPRODUCT((werknemers=december!$A12)*(datums=december!D$5)*(uren))","v":"00:00:00"},{"$f":"SUMPRODUCT((werknemers=december!$A12)*(datums=december!E$5)*(uren))","v":"00:00:00"},{"$f":"SUMPRODUCT((werknemers=december!$A12)*(datums=december!F$5)*(uren))","v":"00:00:00"},{"$f":"SUMPRODUCT((werknemers=december!$A12)*(datums=december!G$5)*(uren))","v":"00:00:00"},{"$f":"SUMPRODUCT((werknemers=december!$A12)*(datums=december!H$5)*(uren))","v":"00:00:00"},{"$f":"SUMPRODUCT((werknemers=december!$A12)*(datums=december!I$5)*(uren))","v":"00:00:00"},{"$f":"SUMPRODUCT((werknemers=december!$A12)*(datums=december!J$5)*(uren))","v":"00:00:00"},{"$f":"SUMPRODUCT((werknemers=december!$A12)*(datums=december!K$5)*(uren))","v":"00:00:00"},{"$f":"SUMPRODUCT((werknemers=december!$A12)*(datums=december!L$5)*(uren))","v":"00:00:00"},{"$f":"SUMPRODUCT((werknemers=december!$A12)*(datums=december!M$5)*(uren))","v":"00:00:00"},{"$f":"SUMPRODUCT((werknemers=december!$A12)*(datums=december!N$5)*(uren))","v":"00:00:00"},{"$f":"SUMPRODUCT((werknemers=december!$A12)*(datums=december!O$5)*(uren))","v":"00:00:00"},{"$f":"SUMPRODUCT((werknemers=december!$A12)*(datums=december!P$5)*(uren))","v":"00:00:00"},{"$f":"SUMPRODUCT((werknemers=december!$A12)*(datums=december!Q$5)*(uren))","v":"00:00:00"},{"$f":"SUMPRODUCT((werknemers=december!$A12)*(datums=december!R$5)*(uren))","v":"00:00:00"},{"$f":"SUMPRODUCT((werknemers=december!$A12)*(datums=december!S$5)*(uren))","v":"00:00:00"},{"$f":"SUMPRODUCT((werknemers=december!$A12)*(datums=december!T$5)*(uren))","v":"00:00:00"},{"$f":"SUMPRODUCT((werknemers=december!$A12)*(datums=december!U$5)*(uren))","v":"00:00:00"},{"$f":"SUMPRODUCT((werknemers=december!$A12)*(datums=december!V$5)*(uren))","v":"00:00:00"},{"$f":"SUMPRODUCT((werknemers=december!$A12)*(datums=december!W$5)*(uren))","v":"00:00:00"},{"$f":"SUMPRODUCT((werknemers=december!$A12)*(datums=december!X$5)*(uren))","v":"00:00:00"},{"$f":"SUMPRODUCT((werknemers=december!$A12)*(datums=december!Y$5)*(uren))","v":"00:00:00"},{"$f":"SUMPRODUCT((werknemers=december!$A12)*(datums=december!Z$5)*(uren))","v":"00:00:00"},{"$f":"SUMPRODUCT((werknemers=december!$A12)*(datums=december!AA$5)*(uren))","v":"00:00:00"},{"$f":"SUMPRODUCT((werknemers=december!$A12)*(datums=december!AB$5)*(uren))","v":"00:00:00"},{"$f":"SUMPRODUCT((werknemers=december!$A12)*(datums=december!AC$5)*(uren))","v":"00:00:00"},{"$f":"SUMPRODUCT((werknemers=december!$A12)*(datums=december!AD$5)*(uren))","v":"00:00:00"},{"$f":"SUMPRODUCT((werknemers=december!$A12)*(datums=december!AE$5)*(uren))","v":"00:00:00"},{"$f":"SUMPRODUCT((werknemers=december!$A12)*(datums=december!AF$5)*(uren))","v":"00:00:00"}]
[]
["CONTROLE",{"$f":"SUMPRODUCT((werknemers=december!$A14)*(datums=december!B$5)*(uren))","v":"00:00:00"},{"$f":"SUMPRODUCT((werknemers=december!$A14)*(datums=december!C$5)*(uren))","v":"00:00:00"},{"$f":"SUMPRODUCT((werknemers=december!$A14)*(datums=december!D$5)*(uren))","v":"00:00:00"},{"$f":"SUMPRODUCT((werknemers=december!$A14)*(datums=december!E$5)*(uren))","v":"00:00:00"},{"$f":"SUMPRODUCT((werknemers=december!$A14)*(datums=december!F$5)*(uren))","v":"00:00:00"},{"$f":"SUMPRODUCT((werknemers=december!$A14)*(datums=december!G$5)*(uren))","v":"00:00:00"},{"$f":"SUMPRODUCT((werknemers=december!$A14)*(datums=december!H$5)*(uren))","v":"00:00:00"},{"$f":"SUMPRODUCT((werknemers=december!$A14)*(datums=december!I$5)*(uren))","v":"00:00:00"},{"$f":"SUMPRODUCT((werknemers=december!$A14)*(datums=december!J$5)*(uren))","v":"00:00:00"},{"$f":"SUMPRODUCT((werknemers=december!$A14)*(datums=december!K$5)*(uren))","v":"00:00:00"},{"$f":"SUMPRODUCT((werknemers=december!$A14)*(datums=december!L$5)*(uren))","v":"00:00:00"},{"$f":"SUMPRODUCT((werknemers=december!$A14)*(datums=december!M$5)*(uren))","v":"00:00:00"},{"$f":"SUMPRODUCT((werknemers=december!$A14)*(datums=december!N$5)*(uren))","v":"00:00:00"},{"$f":"SUMPRODUCT((werknemers=december!$A14)*(datums=december!O$5)*(uren))","v":"00:00:00"},{"$f":"SUMPRODUCT((werknemers=december!$A14)*(datums=december!P$5)*(uren))","v":"00:00:00"},{"$f":"SUMPRODUCT((werknemers=december!$A14)*(datums=december!Q$5)*(uren))","v":"00:00:00"},{"$f":"SUMPRODUCT((werknemers=december!$A14)*(datums=december!R$5)*(uren))","v":"00:00:00"},{"$f":"SUMPRODUCT((werknemers=december!$A14)*(datums=december!S$5)*(uren))","v":"00:00:00"},{"$f":"SUMPRODUCT((werknemers=december!$A14)*(datums=december!T$5)*(uren))","v":"00:00:00"},{"$f":"SUMPRODUCT((werknemers=december!$A14)*(datums=december!U$5)*(uren))","v":"00:00:00"},{"$f":"SUMPRODUCT((werknemers=december!$A14)*(datums=december!V$5)*(uren))","v":"00:00:00"},{"$f":"SUMPRODUCT((werknemers=december!$A14)*(datums=december!W$5)*(uren))","v":"00:00:00"},{"$f":"SUMPRODUCT((werknemers=december!$A14)*(datums=december!X$5)*(uren))","v":"00:00:00"},{"$f":"SUMPRODUCT((werknemers=december!$A14)*(datums=december!Y$5)*(uren))","v":"00:00:00"},{"$f":"SUMPRODUCT((werknemers=december!$A14)*(datums=december!Z$5)*(uren))","v":"00:00:00"},{"$f":"SUMPRODUCT((werknemers=december!$A14)*(datums=december!AA$5)*(uren))","v":"00:00:00"},{"$f":"SUMPRODUCT((werknemers=december!$A14)*(datums=december!AB$5)*(uren))","v":"00:00:00"},{"$f":"SUMPRODUCT((werknemers=december!$A14)*(datums=december!AC$5)*(uren))","v":"00:00:00"},{"$f":"SUMPRODUCT((werknemers=december!$A14)*(datums=december!AD$5)*(uren))","v":"00:00:00"},{"$f":"SUMPRODUCT((werknemers=december!$A14)*(datums=december!AE$5)*(uren))","v":"00:00:00"},{"$f":"SUMPRODUCT((werknemers=december!$A14)*(datums=december!AF$5)*(uren))","v":"00:00:00"}]
[]
["CONTROLE",{"$f":"SUMPRODUCT((werknemers=december!$A16)*(datums=december!B$5)*(uren))","v":"00:00:00"},{"$f":"SUMPRODUCT((werknemers=december!$A16)*(datums=december!C$5)*(uren))","v":"00:00:00"},{"$f":"SUMPRODUCT((werknemers=december!$A16)*(datums=december!D$5)*(uren))","v":"00:00:00"},{"$f":"SUMPRODUCT((werknemers=december!$A16)*(datums=december!E$5)*(uren))","v":"00:00:00"},{"$f":"SUMPRODUCT((werknemers=december!$A16)*(datums=december!F$5)*(uren))","v":"00:00:00"},{"$f":"SUMPRODUCT((werknemers=december!$A16)*(datums=december!G$5)*(uren))","v":"00:00:00"},{"$f":"SUMPRODUCT((werknemers=december!$A16)*(datums=december!H$5)*(uren))","v":"00:00:00"},{"$f":"SUMPRODUCT((werknemers=december!$A16)*(datums=december!I$5)*(uren))","v":"00:00:00"},{"$f":"SUMPRODUCT((werknemers=december!$A16)*(datums=december!J$5)*(uren))","v":"00:00:00"},{"$f":"SUMPRODUCT((werknemers=december!$A16)*(datums=december!K$5)*(uren))","v":"00:00:00"},{"$f":"SUMPRODUCT((werknemers=december!$A16)*(datums=december!L$5)*(uren))","v":"00:00:00"},{"$f":"SUMPRODUCT((werknemers=december!$A16)*(datums=december!M$5)*(uren))","v":"00:00:00"},{"$f":"SUMPRODUCT((werknemers=december!$A16)*(datums=december!N$5)*(uren))","v":"00:00:00"},{"$f":"SUMPRODUCT((werknemers=december!$A16)*(datums=december!O$5)*(uren))","v":"00:00:00"},{"$f":"SUMPRODUCT((werknemers=december!$A16)*(datums=december!P$5)*(uren))","v":"00:00:00"},{"$f":"SUMPRODUCT((werknemers=december!$A16)*(datums=december!Q$5)*(uren))","v":"00:00:00"},{"$f":"SUMPRODUCT((werknemers=december!$A16)*(datums=december!R$5)*(uren))","v":"00:00:00"},{"$f":"SUMPRODUCT((werknemers=december!$A16)*(datums=december!S$5)*(uren))","v":"00:00:00"},{"$f":"SUMPRODUCT((werknemers=december!$A16)*(datums=december!T$5)*(uren))","v":"00:00:00"},{"$f":"SUMPRODUCT((werknemers=december!$A16)*(datums=december!U$5)*(uren))","v":"00:00:00"},{"$f":"SUMPRODUCT((werknemers=december!$A16)*(datums=december!V$5)*(uren))","v":"00:00:00"},{"$f":"SUMPRODUCT((werknemers=december!$A16)*(datums=december!W$5)*(uren))","v":"00:00:00"},{"$f":"SUMPRODUCT((werknemers=december!$A16)*(datums=december!X$5)*(uren))","v":"00:00:00"},{"$f":"SUMPRODUCT((werknemers=december!$A16)*(datums=december!Y$5)*(uren))","v":"00:00:00"},{"$f":"SUMPRODUCT((werknemers=december!$A16)*(datums=december!Z$5)*(uren))","v":"00:00:00"},{"$f":"SUMPRODUCT((werknemers=december!$A16)*(datums=december!AA$5)*(uren))","v":"00:00:00"},{"$f":"SUMPRODUCT((werknemers=december!$A16)*(datums=december!AB$5)*(uren))","v":"00:00:00"},{"$f":"SUMPRODUCT((werknemers=december!$A16)*(datums=december!AC$5)*(uren))","v":"00:00:00"},{"$f":"SUMPRODUCT((werknemers=december!$A16)*(datums=december!AD$5)*(uren))","v":"00:00:00"},{"$f":"SUMPRODUCT((werknemers=december!$A16)*(datums=december!AE$5)*(uren))","v":"00:00:00"},{"$f":"SUMPRODUCT((werknemers=december!$A16)*(datums=december!AF$5)*(uren))","v":"00:00:00"}]
[]
["CONTROLE",{"$f":"SUMPRODUCT((werknemers=december!$A18)*(datums=december!B$5)*(uren))","v":"00:00:00"},{"$f":"SUMPRODUCT((werknemers=december!$A18)*(datums=december!C$5)*(uren))","v":"00:00:00"},{"$f":"SUMPRODUCT((werknemers=december!$A18)*(datums=december!D$5)*(uren))","v":"00:00:00"},{"$f":"SUMPRODUCT((werknemers=december!$A18)*(datums=december!E$5)*(uren))","v":"00:00:00"},{"$f":"SUMPRODUCT((werknemers=december!$A18)*(datums=december!F$5)*(uren))","v":"00:00:00"},{"$f":"SUMPRODUCT((werknemers=december!$A18)*(datums=december!G$5)*(uren))","v":"00:00:00"},{"$f":"SUMPRODUCT((werknemers=december!$A18)*(datums=december!H$5)*(uren))","v":"00:00:00"},{"$f":"SUMPRODUCT((werknemers=december!$A18)*(datums=december!I$5)*(uren))","v":"00:00:00"},{"$f":"SUMPRODUCT((werknemers=december!$A18)*(datums=december!J$5)*(uren))","v":"00:00:00"},{"$f":"SUMPRODUCT((werknemers=december!$A18)*(datums=december!K$5)*(uren))","v":"00:00:00"},{"$f":"SUMPRODUCT((werknemers=december!$A18)*(datums=december!L$5)*(uren))","v":"00:00:00"},{"$f":"SUMPRODUCT((werknemers=december!$A18)*(datums=december!M$5)*(uren))","v":"00:00:00"},{"$f":"SUMPRODUCT((werknemers=december!$A18)*(datums=december!N$5)*(uren))","v":"00:00:00"},{"$f":"SUMPRODUCT((werknemers=december!$A18)*(datums=december!O$5)*(uren))","v":"00:00:00"},{"$f":"SUMPRODUCT((werknemers=december!$A18)*(datums=december!P$5)*(uren))","v":"00:00:00"},{"$f":"SUMPRODUCT((werknemers=december!$A18)*(datums=december!Q$5)*(uren))","v":"00:00:00"},{"$f":"SUMPRODUCT((werknemers=december!$A18)*(datums=december!R$5)*(uren))","v":"00:00:00"},{"$f":"SUMPRODUCT((werknemers=december!$A18)*(datums=december!S$5)*(uren))","v":"00:00:00"},{"$f":"SUMPRODUCT((werknemers=december!$A18)*(datums=december!T$5)*(uren))","v":"00:00:00"},{"$f":"SUMPRODUCT((werknemers=december!$A18)*(datums=december!U$5)*(uren))","v":"00:00:00"},{"$f":"SUMPRODUCT((werknemers=december!$A18)*(datums=december!V$5)*(uren))","v":"00:00:00"},{"$f":"SUMPRODUCT((werknemers=december!$A18)*(datums=december!W$5)*(uren))","v":"00:00:00"},{"$f":"SUMPRODUCT((werknemers=december!$A18)*(datums=december!X$5)*(uren))","v":"00:00:00"},{"$f":"SUMPRODUCT((werknemers=december!$A18)*(datums=december!Y$5)*(uren))","v":"00:00:00"},{"$f":"SUMPRODUCT((werknemers=december!$A18)*(datums=december!Z$5)*(uren))","v":"00:00:00"},{"$f":"SUMPRODUCT((werknemers=december!$A18)*(datums=december!AA$5)*(uren))","v":"00:00:00"},{"$f":"SUMPRODUCT((werknemers=december!$A18)*(datums=december!AB$5)*(uren))","v":"00:00:00"},{"$f":"SUMPRODUCT((werknemers=december!$A18)*(datums=december!AC$5)*(uren))","v":"00:00:00"},{"$f":"SUMPRODUCT((werknemers=december!$A18)*(datums=december!AD$5)*(uren))","v":"00:00:00"},{"$f":"SUMPRODUCT((werknemers=december!$A18)*(datums=december!AE$5)*(uren))","v":"00:00:00"},{"$f":"SUMPRODUCT((werknemers=december!$A18)*(datums=december!AF$5)*(uren))","v":"00:00:00"}]
[]
["CONTROLE",{"$f":"SUMPRODUCT((werknemers=december!$A20)*(datums=december!B$5)*(uren))","v":"00:00:00"},{"$f":"SUMPRODUCT((werknemers=december!$A20)*(datums=december!C$5)*(uren))","v":"00:00:00"},{"$f":"SUMPRODUCT((werknemers=december!$A20)*(datums=december!D$5)*(uren))","v":"00:00:00"},{"$f":"SUMPRODUCT((werknemers=december!$A20)*(datums=december!E$5)*(uren))","v":"00:00:00"},{"$f":"SUMPRODUCT((werknemers=december!$A20)*(datums=december!F$5)*(uren))","v":"00:00:00"},{"$f":"SUMPRODUCT((werknemers=december!$A20)*(datums=december!G$5)*(uren))","v":"00:00:00"},{"$f":"SUMPRODUCT((werknemers=december!$A20)*(datums=december!H$5)*(uren))","v":"00:00:00"},{"$f":"SUMPRODUCT((werknemers=december!$A20)*(datums=december!I$5)*(uren))","v":"00:00:00"},{"$f":"SUMPRODUCT((werknemers=december!$A20)*(datums=december!J$5)*(uren))","v":"00:00:00"},{"$f":"SUMPRODUCT((werknemers=december!$A20)*(datums=december!K$5)*(uren))","v":"00:00:00"},{"$f":"SUMPRODUCT((werknemers=december!$A20)*(datums=december!L$5)*(uren))","v":"00:00:00"},{"$f":"SUMPRODUCT((werknemers=december!$A20)*(datums=december!M$5)*(uren))","v":"00:00:00"},{"$f":"SUMPRODUCT((werknemers=december!$A20)*(datums=december!N$5)*(uren))","v":"00:00:00"},{"$f":"SUMPRODUCT((werknemers=december!$A20)*(datums=december!O$5)*(uren))","v":"00:00:00"},{"$f":"SUMPRODUCT((werknemers=december!$A20)*(datums=december!P$5)*(uren))","v":"00:00:00"},{"$f":"SUMPRODUCT((werknemers=december!$A20)*(datums=december!Q$5)*(uren))","v":"00:00:00"},{"$f":"SUMPRODUCT((werknemers=december!$A20)*(datums=december!R$5)*(uren))","v":"00:00:00"},{"$f":"SUMPRODUCT((werknemers=december!$A20)*(datums=december!S$5)*(uren))","v":"00:00:00"},{"$f":"SUMPRODUCT((werknemers=december!$A20)*(datums=december!T$5)*(uren))","v":"00:00:00"},{"$f":"SUMPRODUCT((werknemers=december!$A20)*(datums=december!U$5)*(uren))","v":"00:00:00"},{"$f":"SUMPRODUCT((werknemers=december!$A20)*(datums=december!V$5)*(uren))","v":"00:00:00"},{"$f":"SUMPRODUCT((werknemers=december!$A20)*(datums=december!W$5)*(uren))","v":"00:00:00"},{"$f":"SUMPRODUCT((werknemers=december!$A20)*(datums=december!X$5)*(uren))","v":"00:00:00"},{"$f":"SUMPRODUCT((werknemers=december!$A20)*(datums=december!Y$5)*(uren))","v":"00:00:00"},{"$f":"SUMPRODUCT((werknemers=december!$A20)*(datums=december!Z$5)*(uren))","v":"00:00:00"},{"$f":"SUMPRODUCT((werknemers=december!$A20)*(datums=december!AA$5)*(uren))","v":"00:00:00"},{"$f":"SUMPRODUCT((werknemers=december!$A20)*(datums=december!AB$5)*(uren))","v":"00:00:00"},{"$f":"SUMPRODUCT((werknemers=december!$A20)*(datums=december!AC$5)*(uren))","v":"00:00:00"},{"$f":"SUMPRODUCT((werknemers=december!$A20)*(datums=december!AD$5)*(uren))","v":"00:00:00"},{"$f":"SUMPRODUCT((werknemers=december!$A20)*(datums=december!AE$5)*(uren))","v":"00:00:00"},{"$f":"SUMPRODUCT((werknemers=december!$A20)*(datums=december!AF$5)*(uren))","v":"00:00:00"}]
[]
["CONTROLE",{"$f":"SUMPRODUCT((werknemers=december!$A22)*(datums=december!B$5)*(uren))","v":"00:00:00"},{"$f":"SUMPRODUCT((werknemers=december!$A22)*(datums=december!C$5)*(uren))","v":"00:00:00"},{"$f":"SUMPRODUCT((werknemers=december!$A22)*(datums=december!D$5)*(uren))","v":"00:00:00"},{"$f":"SUMPRODUCT((werknemers=december!$A22)*(datums=december!E$5)*(uren))","v":"00:00:00"},{"$f":"SUMPRODUCT((werknemers=december!$A22)*(datums=december!F$5)*(uren))","v":"00:00:00"},{"$f":"SUMPRODUCT((werknemers=december!$A22)*(datums=december!G$5)*(uren))","v":"00:00:00"},{"$f":"SUMPRODUCT((werknemers=december!$A22)*(datums=december!H$5)*(uren))","v":"00:00:00"},{"$f":"SUMPRODUCT((werknemers=december!$A22)*(datums=december!I$5)*(uren))","v":"00:00:00"},{"$f":"SUMPRODUCT((werknemers=december!$A22)*(datums=december!J$5)*(uren))","v":"00:00:00"},{"$f":"SUMPRODUCT((werknemers=december!$A22)*(datums=december!K$5)*(uren))","v":"00:00:00"},{"$f":"SUMPRODUCT((werknemers=december!$A22)*(datums=december!L$5)*(uren))","v":"00:00:00"},{"$f":"SUMPRODUCT((werknemers=december!$A22)*(datums=december!M$5)*(uren))","v":"00:00:00"},{"$f":"SUMPRODUCT((werknemers=december!$A22)*(datums=december!N$5)*(uren))","v":"00:00:00"},{"$f":"SUMPRODUCT((werknemers=december!$A22)*(datums=december!O$5)*(uren))","v":"00:00:00"},{"$f":"SUMPRODUCT((werknemers=december!$A22)*(datums=december!P$5)*(uren))","v":"00:00:00"},{"$f":"SUMPRODUCT((werknemers=december!$A22)*(datums=december!Q$5)*(uren))","v":"00:00:00"},{"$f":"SUMPRODUCT((werknemers=december!$A22)*(datums=december!R$5)*(uren))","v":"00:00:00"},{"$f":"SUMPRODUCT((werknemers=december!$A22)*(datums=december!S$5)*(uren))","v":"00:00:00"},{"$f":"SUMPRODUCT((werknemers=december!$A22)*(datums=december!T$5)*(uren))","v":"00:00:00"},{"$f":"SUMPRODUCT((werknemers=december!$A22)*(datums=december!U$5)*(uren))","v":"00:00:00"},{"$f":"SUMPRODUCT((werknemers=december!$A22)*(datums=december!V$5)*(uren))","v":"00:00:00"},{"$f":"SUMPRODUCT((werknemers=december!$A22)*(datums=december!W$5)*(uren))","v":"00:00:00"},{"$f":"SUMPRODUCT((werknemers=december!$A22)*(datums=december!X$5)*(uren))","v":"00:00:00"},{"$f":"SUMPRODUCT((werknemers=december!$A22)*(datums=december!Y$5)*(uren))","v":"00:00:00"},{"$f":"SUMPRODUCT((werknemers=december!$A22)*(datums=december!Z$5)*(uren))","v":"00:00:00"},{"$f":"SUMPRODUCT((werknemers=december!$A22)*(datums=december!AA$5)*(uren))","v":"00:00:00"},{"$f":"SUMPRODUCT((werknemers=december!$A22)*(datums=december!AB$5)*(uren))","v":"00:00:00"},{"$f":"SUMPRODUCT((werknemers=december!$A22)*(datums=december!AC$5)*(uren))","v":"00:00:00"},{"$f":"SUMPRODUCT((werknemers=december!$A22)*(datums=december!AD$5)*(uren))","v":"00:00:00"},{"$f":"SUMPRODUCT((werknemers=december!$A22)*(datums=december!AE$5)*(uren))","v":"00:00:00"},{"$f":"SUMPRODUCT((werknemers=december!$A22)*(datums=december!AF$5)*(uren))","v":"00:00:00"}]
[]
["CONTROLE",{"$f":"SUMPRODUCT((werknemers=december!$A24)*(datums=december!B$5)*(uren))","v":"00:00:00"},{"$f":"SUMPRODUCT((werknemers=december!$A24)*(datums=december!C$5)*(uren))","v":"00:00:00"},{"$f":"SUMPRODUCT((werknemers=december!$A24)*(datums=december!D$5)*(uren))","v":"00:00:00"},{"$f":"SUMPRODUCT((werknemers=december!$A24)*(datums=december!E$5)*(uren))","v":"00:00:00"},{"$f":"SUMPRODUCT((werknemers=december!$A24)*(datums=december!F$5)*(uren))","v":"00:00:00"},{"$f":"SUMPRODUCT((werknemers=december!$A24)*(datums=december!G$5)*(uren))","v":"00:00:00"},{"$f":"SUMPRODUCT((werknemers=december!$A24)*(datums=december!H$5)*(uren))","v":"00:00:00"},{"$f":"SUMPRODUCT((werknemers=december!$A24)*(datums=december!I$5)*(uren))","v":"00:00:00"},{"$f":"SUMPRODUCT((werknemers=december!$A24)*(datums=december!J$5)*(uren))","v":"00:00:00"},{"$f":"SUMPRODUCT((werknemers=december!$A24)*(datums=december!K$5)*(uren))","v":"00:00:00"},{"$f":"SUMPRODUCT((werknemers=december!$A24)*(datums=december!L$5)*(uren))","v":"00:00:00"},{"$f":"SUMPRODUCT((werknemers=december!$A24)*(datums=december!M$5)*(uren))","v":"00:00:00"},{"$f":"SUMPRODUCT((werknemers=december!$A24)*(datums=december!N$5)*(uren))","v":"00:00:00"},{"$f":"SUMPRODUCT((werknemers=december!$A24)*(datums=december!O$5)*(uren))","v":"00:00:00"},{"$f":"SUMPRODUCT((werknemers=december!$A24)*(datums=december!P$5)*(uren))","v":"00:00:00"},{"$f":"SUMPRODUCT((werknemers=december!$A24)*(datums=december!Q$5)*(uren))","v":"00:00:00"},{"$f":"SUMPRODUCT((werknemers=december!$A24)*(datums=december!R$5)*(uren))","v":"00:00:00"},{"$f":"SUMPRODUCT((werknemers=december!$A24)*(datums=december!S$5)*(uren))","v":"00:00:00"},{"$f":"SUMPRODUCT((werknemers=december!$A24)*(datums=december!T$5)*(uren))","v":"00:00:00"},{"$f":"SUMPRODUCT((werknemers=december!$A24)*(datums=december!U$5)*(uren))","v":"00:00:00"},{"$f":"SUMPRODUCT((werknemers=december!$A24)*(datums=december!V$5)*(uren))","v":"00:00:00"},{"$f":"SUMPRODUCT((werknemers=december!$A24)*(datums=december!W$5)*(uren))","v":"00:00:00"},{"$f":"SUMPRODUCT((werknemers=december!$A24)*(datums=december!X$5)*(uren))","v":"00:00:00"},{"$f":"SUMPRODUCT((werknemers=december!$A24)*(datums=december!Y$5)*(uren))","v":"00:00:00"},{"$f":"SUMPRODUCT((werknemers=december!$A24)*(datums=december!Z$5)*(uren))","v":"00:00:00"},{"$f":"SUMPRODUCT((werknemers=december!$A24)*(datums=december!AA$5)*(uren))","v":"00:00:00"},{"$f":"SUMPRODUCT((werknemers=december!$A24)*(datums=december!AB$5)*(uren))","v":"00:00:00"},{"$f":"SUMPRODUCT((werknemers=december!$A24)*(datums=december!AC$5)*(uren))","v":"00:00:00"},{"$f":"SUMPRODUCT((werknemers=december!$A24)*(datums=december!AD$5)*(uren))","v":"00:00:00"},{"$f":"SUMPRODUCT((werknemers=december!$A24)*(datums=december!AE$5)*(uren))","v":"00:00:00"},{"$f":"SUMPRODUCT((werknemers=december!$A24)*(datums=december!AF$5)*(uren))","v":"00:00:00"}]
[]
["CONTROLE",{"$f":"SUMPRODUCT((werknemers=december!$A26)*(datums=december!B$5)*(uren))","v":"00:00:00"},{"$f":"SUMPRODUCT((werknemers=december!$A26)*(datums=december!C$5)*(uren))","v":"00:00:00"},{"$f":"SUMPRODUCT((werknemers=december!$A26)*(datums=december!D$5)*(uren))","v":"00:00:00"},{"$f":"SUMPRODUCT((werknemers=december!$A26)*(datums=december!E$5)*(uren))","v":"00:00:00"},{"$f":"SUMPRODUCT((werknemers=december!$A26)*(datums=december!F$5)*(uren))","v":"00:00:00"},{"$f":"SUMPRODUCT((werknemers=december!$A26)*(datums=december!G$5)*(uren))","v":"00:00:00"},{"$f":"SUMPRODUCT((werknemers=december!$A26)*(datums=december!H$5)*(uren))","v":"00:00:00"},{"$f":"SUMPRODUCT((werknemers=december!$A26)*(datums=december!I$5)*(uren))","v":"00:00:00"},{"$f":"SUMPRODUCT((werknemers=december!$A26)*(datums=december!J$5)*(uren))","v":"00:00:00"},{"$f":"SUMPRODUCT((werknemers=december!$A26)*(datums=december!K$5)*(uren))","v":"00:00:00"},{"$f":"SUMPRODUCT((werknemers=december!$A26)*(datums=december!L$5)*(uren))","v":"00:00:00"},{"$f":"SUMPRODUCT((werknemers=december!$A26)*(datums=december!M$5)*(uren))","v":"00:00:00"},{"$f":"SUMPRODUCT((werknemers=december!$A26)*(datums=december!N$5)*(uren))","v":"00:00:00"},{"$f":"SUMPRODUCT((werknemers=december!$A26)*(datums=december!O$5)*(uren))","v":"00:00:00"},{"$f":"SUMPRODUCT((werknemers=december!$A26)*(datums=december!P$5)*(uren))","v":"00:00:00"},{"$f":"SUMPRODUCT((werknemers=december!$A26)*(datums=december!Q$5)*(uren))","v":"00:00:00"},{"$f":"SUMPRODUCT((werknemers=december!$A26)*(datums=december!R$5)*(uren))","v":"00:00:00"},{"$f":"SUMPRODUCT((werknemers=december!$A26)*(datums=december!S$5)*(uren))","v":"00:00:00"},{"$f":"SUMPRODUCT((werknemers=december!$A26)*(datums=december!T$5)*(uren))","v":"00:00:00"},{"$f":"SUMPRODUCT((werknemers=december!$A26)*(datums=december!U$5)*(uren))","v":"00:00:00"},{"$f":"SUMPRODUCT((werknemers=december!$A26)*(datums=december!V$5)*(uren))","v":"00:00:00"},{"$f":"SUMPRODUCT((werknemers=december!$A26)*(datums=december!W$5)*(uren))","v":"00:00:00"},{"$f":"SUMPRODUCT((werknemers=december!$A26)*(datums=december!X$5)*(uren))","v":"00:00:00"},{"$f":"SUMPRODUCT((werknemers=december!$A26)*(datums=december!Y$5)*(uren))","v":"00:00:00"},{"$f":"SUMPRODUCT((werknemers=december!$A26)*(datums=december!Z$5)*(uren))","v":"00:00:00"},{"$f":"SUMPRODUCT((werknemers=december!$A26)*(datums=december!AA$5)*(uren))","v":"00:00:00"},{"$f":"SUMPRODUCT((werknemers=december!$A26)*(datums=december!AB$5)*(uren))","v":"00:00:00"},{"$f":"SUMPRODUCT((werknemers=december!$A26)*(datums=december!AC$5)*(uren))","v":"00:00:00"},{"$f":"SUMPRODUCT((werknemers=december!$A26)*(datums=december!AD$5)*(uren))","v":"00:00:00"},{"$f":"SUMPRODUCT((werknemers=december!$A26)*(datums=december!AE$5)*(uren))","v":"00:00:00"},{"$f":"SUMPRODUCT((werknemers=december!$A26)*(datums=december!AF$5)*(uren))","v":"00:00:00"}]
[]
["CONTROLE",{"$f":"SUMPRODUCT((werknemers=december!$A28)*(datums=december!B$5)*(uren))","v":"00:00:00"},{"$f":"SUMPRODUCT((werknemers=december!$A28)*(datums=december!C$5)*(uren))","v":"00:00:00"},{"$f":"SUMPRODUCT((werknemers=december!$A28)*(datums=december!D$5)*(uren))","v":"00:00:00"},{"$f":"SUMPRODUCT((werknemers=december!$A28)*(datums=december!E$5)*(uren))","v":"00:00:00"},{"$f":"SUMPRODUCT((werknemers=december!$A28)*(datums=december!F$5)*(uren))","v":"00:00:00"},{"$f":"SUMPRODUCT((werknemers=december!$A28)*(datums=december!G$5)*(uren))","v":"00:00:00"},{"$f":"SUMPRODUCT((werknemers=december!$A28)*(datums=december!H$5)*(uren))","v":"00:00:00"},{"$f":"SUMPRODUCT((werknemers=december!$A28)*(datums=december!I$5)*(uren))","v":"00:00:00"},{"$f":"SUMPRODUCT((werknemers=december!$A28)*(datums=december!J$5)*(uren))","v":"00:00:00"},{"$f":"SUMPRODUCT((werknemers=december!$A28)*(datums=december!K$5)*(uren))","v":"00:00:00"},{"$f":"SUMPRODUCT((werknemers=december!$A28)*(datums=december!L$5)*(uren))","v":"00:00:00"},{"$f":"SUMPRODUCT((werknemers=december!$A28)*(datums=december!M$5)*(uren))","v":"00:00:00"},{"$f":"SUMPRODUCT((werknemers=december!$A28)*(datums=december!N$5)*(uren))","v":"00:00:00"},{"$f":"SUMPRODUCT((werknemers=december!$A28)*(datums=december!O$5)*(uren))","v":"00:00:00"},{"$f":"SUMPRODUCT((werknemers=december!$A28)*(datums=december!P$5)*(uren))","v":"00:00:00"},{"$f":"SUMPRODUCT((werknemers=december!$A28)*(datums=december!Q$5)*(uren))","v":"00:00:00"},{"$f":"SUMPRODUCT((werknemers=december!$A28)*(datums=december!R$5)*(uren))","v":"00:00:00"},{"$f":"SUMPRODUCT((werknemers=december!$A28)*(datums=december!S$5)*(uren))","v":"00:00:00"},{"$f":"SUMPRODUCT((werknemers=december!$A28)*(datums=december!T$5)*(uren))","v":"00:00:00"},{"$f":"SUMPRODUCT((werknemers=december!$A28)*(datums=december!U$5)*(uren))","v":"00:00:00"},{"$f":"SUMPRODUCT((werknemers=december!$A28)*(datums=december!V$5)*(uren))","v":"00:00:00"},{"$f":"SUMPRODUCT((werknemers=december!$A28)*(datums=december!W$5)*(uren))","v":"00:00:00"},{"$f":"SUMPRODUCT((werknemers=december!$A28)*(datums=december!X$5)*(uren))","v":"00:00:00"},{"$f":"SUMPRODUCT((werknemers=december!$A28)*(datums=december!Y$5)*(uren))","v":"00:00:00"},{"$f":"SUMPRODUCT((werknemers=december!$A28)*(datums=december!Z$5)*(uren))","v":"00:00:00"},{"$f":"SUMPRODUCT((werknemers=december!$A28)*(datums=december!AA$5)*(uren))","v":"00:00:00"},{"$f":"SUMPRODUCT((werknemers=december!$A28)*(datums=december!AB$5)*(uren))","v":"00:00:00"},{"$f":"SUMPRODUCT((werknemers=december!$A28)*(datums=december!AC$5)*(uren))","v":"00:00:00"},{"$f":"SUMPRODUCT((werknemers=december!$A28)*(datums=december!AD$5)*(uren))","v":"00:00:00"},{"$f":"SUMPRODUCT((werknemers=december!$A28)*(datums=december!AE$5)*(uren))","v":"00:00:00"},{"$f":"SUMPRODUCT((werknemers=december!$A28)*(datums=december!AF$5)*(uren))","v":"00:00:00"}]
[]
["CONTROLE",{"$f":"SUMPRODUCT((werknemers=december!$A30)*(datums=december!B$5)*(uren))","v":"00:00:00"},{"$f":"SUMPRODUCT((werknemers=december!$A30)*(datums=december!C$5)*(uren))","v":"00:00:00"},{"$f":"SUMPRODUCT((werknemers=december!$A30)*(datums=december!D$5)*(uren))","v":"00:00:00"},{"$f":"SUMPRODUCT((werknemers=december!$A30)*(datums=december!E$5)*(uren))","v":"00:00:00"},{"$f":"SUMPRODUCT((werknemers=december!$A30)*(datums=december!F$5)*(uren))","v":"00:00:00"},{"$f":"SUMPRODUCT((werknemers=december!$A30)*(datums=december!G$5)*(uren))","v":"00:00:00"},{"$f":"SUMPRODUCT((werknemers=december!$A30)*(datums=december!H$5)*(uren))","v":"00:00:00"},{"$f":"SUMPRODUCT((werknemers=december!$A30)*(datums=december!I$5)*(uren))","v":"00:00:00"},{"$f":"SUMPRODUCT((werknemers=december!$A30)*(datums=december!J$5)*(uren))","v":"00:00:00"},{"$f":"SUMPRODUCT((werknemers=december!$A30)*(datums=december!K$5)*(uren))","v":"00:00:00"},{"$f":"SUMPRODUCT((werknemers=december!$A30)*(datums=december!L$5)*(uren))","v":"00:00:00"},{"$f":"SUMPRODUCT((werknemers=december!$A30)*(datums=december!M$5)*(uren))","v":"00:00:00"},{"$f":"SUMPRODUCT((werknemers=december!$A30)*(datums=december!N$5)*(uren))","v":"00:00:00"},{"$f":"SUMPRODUCT((werknemers=december!$A30)*(datums=december!O$5)*(uren))","v":"00:00:00"},{"$f":"SUMPRODUCT((werknemers=december!$A30)*(datums=december!P$5)*(uren))","v":"00:00:00"},{"$f":"SUMPRODUCT((werknemers=december!$A30)*(datums=december!Q$5)*(uren))","v":"00:00:00"},{"$f":"SUMPRODUCT((werknemers=december!$A30)*(datums=december!R$5)*(uren))","v":"00:00:00"},{"$f":"SUMPRODUCT((werknemers=december!$A30)*(datums=december!S$5)*(uren))","v":"00:00:00"},{"$f":"SUMPRODUCT((werknemers=december!$A30)*(datums=december!T$5)*(uren))","v":"00:00:00"},{"$f":"SUMPRODUCT((werknemers=december!$A30)*(datums=december!U$5)*(uren))","v":"00:00:00"},{"$f":"SUMPRODUCT((werknemers=december!$A30)*(datums=december!V$5)*(uren))","v":"00:00:00"},{"$f":"SUMPRODUCT((werknemers=december!$A30)*(datums=december!W$5)*(uren))","v":"00:00:00"},{"$f":"SUMPRODUCT((werknemers=december!$A30)*(datums=december!X$5)*(uren))","v":"00:00:00"},{"$f":"SUMPRODUCT((werknemers=december!$A30)*(datums=december!Y$5)*(uren))","v":"00:00:00"},{"$f":"SUMPRODUCT((werknemers=december!$A30)*(datums=december!Z$5)*(uren))","v":"00:00:00"},{"$f":"SUMPRODUCT((werknemers=december!$A30)*(datums=december!AA$5)*(uren))","v":"00:00:00"},{"$f":"SUMPRODUCT((werknemers=december!$A30)*(datums=december!AB$5)*(uren))","v":"00:00:00"},{"$f":"SUMPRODUCT((werknemers=december!$A30)*(datums=december!AC$5)*(uren))","v":"00:00:00"},{"$f":"SUMPRODUCT((werknemers=december!$A30)*(datums=december!AD$5)*(uren))","v":"00:00:00"},{"$f":"SUMPRODUCT((werknemers=december!$A30)*(datums=december!AE$5)*(uren))","v":"00:00:00"},{"$f":"SUMPRODUCT((werknemers=december!$A30)*(datums=december!AF$5)*(uren))","v":"00:00:00"}]
[]
["CONTROLE",{"$f":"SUMPRODUCT((werknemers=december!$A32)*(datums=december!B$5)*(uren))","v":"00:00:00"},{"$f":"SUMPRODUCT((werknemers=december!$A32)*(datums=december!C$5)*(uren))","v":"00:00:00"},{"$f":"SUMPRODUCT((werknemers=december!$A32)*(datums=december!D$5)*(uren))","v":"00:00:00"},{"$f":"SUMPRODUCT((werknemers=december!$A32)*(datums=december!E$5)*(uren))","v":"00:00:00"},{"$f":"SUMPRODUCT((werknemers=december!$A32)*(datums=december!F$5)*(uren))","v":"00:00:00"},{"$f":"SUMPRODUCT((werknemers=december!$A32)*(datums=december!G$5)*(uren))","v":"00:00:00"},{"$f":"SUMPRODUCT((werknemers=december!$A32)*(datums=december!H$5)*(uren))","v":"00:00:00"},{"$f":"SUMPRODUCT((werknemers=december!$A32)*(datums=december!I$5)*(uren))","v":"00:00:00"},{"$f":"SUMPRODUCT((werknemers=december!$A32)*(datums=december!J$5)*(uren))","v":"00:00:00"},{"$f":"SUMPRODUCT((werknemers=december!$A32)*(datums=december!K$5)*(uren))","v":"00:00:00"},{"$f":"SUMPRODUCT((werknemers=december!$A32)*(datums=december!L$5)*(uren))","v":"00:00:00"},{"$f":"SUMPRODUCT((werknemers=december!$A32)*(datums=december!M$5)*(uren))","v":"00:00:00"},{"$f":"SUMPRODUCT((werknemers=december!$A32)*(datums=december!N$5)*(uren))","v":"00:00:00"},{"$f":"SUMPRODUCT((werknemers=december!$A32)*(datums=december!O$5)*(uren))","v":"00:00:00"},{"$f":"SUMPRODUCT((werknemers=december!$A32)*(datums=december!P$5)*(uren))","v":"00:00:00"},{"$f":"SUMPRODUCT((werknemers=december!$A32)*(datums=december!Q$5)*(uren))","v":"00:00:00"},{"$f":"SUMPRODUCT((werknemers=december!$A32)*(datums=december!R$5)*(uren))","v":"00:00:00"},{"$f":"SUMPRODUCT((werknemers=december!$A32)*(datums=december!S$5)*(uren))","v":"00:00:00"},{"$f":"SUMPRODUCT((werknemers=december!$A32)*(datums=december!T$5)*(uren))","v":"00:00:00"},{"$f":"SUMPRODUCT((werknemers=december!$A32)*(datums=december!U$5)*(uren))","v":"00:00:00"},{"$f":"SUMPRODUCT((werknemers=december!$A32)*(datums=december!V$5)*(uren))","v":"00:00:00"},{"$f":"SUMPRODUCT((werknemers=december!$A32)*(datums=december!W$5)*(uren))","v":"00:00:00"},{"$f":"SUMPRODUCT((werknemers=december!$A32)*(datums=december!X$5)*(uren))","v":"00:00:00"},{"$f":"SUMPRODUCT((werknemers=december!$A32)*(datums=december!Y$5)*(uren))","v":"00:00:00"},{"$f":"SUMPRODUCT((werknemers=december!$A32)*(datums=december!Z$5)*(uren))","v":"00:00:00"},{"$f":"SUMPRODUCT((werknemers=december!$A32)*(datums=december!AA$5)*(uren))","v":"00:00:00"},{"$f":"SUMPRODUCT((werknemers=december!$A32)*(datums=december!AB$5)*(uren))","v":"00:00:00"},{"$f":"SUMPRODUCT((werknemers=december!$A32)*(datums=december!AC$5)*(uren))","v":"00:00:00"},{"$f":"SUMPRODUCT((werknemers=december!$A32)*(datums=december!AD$5)*(uren))","v":"00:00:00"},{"$f":"SUMPRODUCT((werknemers=december!$A32)*(datums=december!AE$5)*(uren))","v":"00:00:00"},{"$f":"SUMPRODUCT((werknemers=december!$A32)*(datums=december!AF$5)*(uren))","v":"00:00:00"}]
[]
["CONTROLE",{"$f":"SUMPRODUCT((werknemers=december!$A34)*(datums=december!B$5)*(uren))","v":"00:00:00"},{"$f":"SUMPRODUCT((werknemers=december!$A34)*(datums=december!C$5)*(uren))","v":"00:00:00"},{"$f":"SUMPRODUCT((werknemers=december!$A34)*(datums=december!D$5)*(uren))","v":"00:00:00"},{"$f":"SUMPRODUCT((werknemers=december!$A34)*(datums=december!E$5)*(uren))","v":"00:00:00"},{"$f":"SUMPRODUCT((werknemers=december!$A34)*(datums=december!F$5)*(uren))","v":"00:00:00"},{"$f":"SUMPRODUCT((werknemers=december!$A34)*(datums=december!G$5)*(uren))","v":"00:00:00"},{"$f":"SUMPRODUCT((werknemers=december!$A34)*(datums=december!H$5)*(uren))","v":"00:00:00"},{"$f":"SUMPRODUCT((werknemers=december!$A34)*(datums=december!I$5)*(uren))","v":"00:00:00"},{"$f":"SUMPRODUCT((werknemers=december!$A34)*(datums=december!J$5)*(uren))","v":"00:00:00"},{"$f":"SUMPRODUCT((werknemers=december!$A34)*(datums=december!K$5)*(uren))","v":"00:00:00"},{"$f":"SUMPRODUCT((werknemers=december!$A34)*(datums=december!L$5)*(uren))","v":"00:00:00"},{"$f":"SUMPRODUCT((werknemers=december!$A34)*(datums=december!M$5)*(uren))","v":"00:00:00"},{"$f":"SUMPRODUCT((werknemers=december!$A34)*(datums=december!N$5)*(uren))","v":"00:00:00"},{"$f":"SUMPRODUCT((werknemers=december!$A34)*(datums=december!O$5)*(uren))","v":"00:00:00"},{"$f":"SUMPRODUCT((werknemers=december!$A34)*(datums=december!P$5)*(uren))","v":"00:00:00"},{"$f":"SUMPRODUCT((werknemers=december!$A34)*(datums=december!Q$5)*(uren))","v":"00:00:00"},{"$f":"SUMPRODUCT((werknemers=december!$A34)*(datums=december!R$5)*(uren))","v":"00:00:00"},{"$f":"SUMPRODUCT((werknemers=december!$A34)*(datums=december!S$5)*(uren))","v":"00:00:00"},{"$f":"SUMPRODUCT((werknemers=december!$A34)*(datums=december!T$5)*(uren))","v":"00:00:00"},{"$f":"SUMPRODUCT((werknemers=december!$A34)*(datums=december!U$5)*(uren))","v":"00:00:00"},{"$f":"SUMPRODUCT((werknemers=december!$A34)*(datums=december!V$5)*(uren))","v":"00:00:00"},{"$f":"SUMPRODUCT((werknemers=december!$A34)*(datums=december!W$5)*(uren))","v":"00:00:00"},{"$f":"SUMPRODUCT((werknemers=december!$A34)*(datums=december!X$5)*(uren))","v":"00:00:00"},{"$f":"SUMPRODUCT((werknemers=december!$A34)*(datums=december!Y$5)*(uren))","v":"00:00:00"},{"$f":"SUMPRODUCT((werknemers=december!$A34)*(datums=december!Z$5)*(uren))","v":"00:00:00"},{"$f":"SUMPRODUCT((werknemers=december!$A34)*(datums=december!AA$5)*(uren))","v":"00:00:00"},{"$f":"SUMPRODUCT((werknemers=december!$A34)*(datums=december!AB$5)*(uren))","v":"00:00:00"},{"$f":"SUMPRODUCT((werknemers=december!$A34)*(datums=december!AC$5)*(uren))","v":"00:00:00"},{"$f":"SUMPRODUCT((werknemers=december!$A34)*(datums=december!AD$5)*(uren))","v":"00:00:00"},{"$f":"SUMPRODUCT((werknemers=december!$A34)*(datums=december!AE$5)*(uren))","v":"00:00:00"},{"$f":"SUMPRODUCT((werknemers=december!$A34)*(datums=december!AF$5)*(uren))","v":"00:00:00"}]
[]
["CONTROLE",{"$f":"SUMPRODUCT((werknemers=december!$A36)*(datums=december!B$5)*(uren))","v":"00:00:00"},{"$f":"SUMPRODUCT((werknemers=december!$A36)*(datums=december!C$5)*(uren))","v":"00:00:00"},{"$f":"SUMPRODUCT((werknemers=december!$A36)*(datums=december!D$5)*(uren))","v":"00:00:00"},{"$f":"SUMPRODUCT((werknemers=december!$A36)*(datums=december!E$5)*(uren))","v":"00:00:00"},{"$f":"SUMPRODUCT((werknemers=december!$A36)*(datums=december!F$5)*(uren))","v":"00:00:00"},{"$f":"SUMPRODUCT((werknemers=december!$A36)*(datums=december!G$5)*(uren))","v":"00:00:00"},{"$f":"SUMPRODUCT((werknemers=december!$A36)*(datums=december!H$5)*(uren))","v":"00:00:00"},{"$f":"SUMPRODUCT((werknemers=december!$A36)*(datums=december!I$5)*(uren))","v":"00:00:00"},{"$f":"SUMPRODUCT((werknemers=december!$A36)*(datums=december!J$5)*(uren))","v":"00:00:00"},{"$f":"SUMPRODUCT((werknemers=december!$A36)*(datums=december!K$5)*(uren))","v":"00:00:00"},{"$f":"SUMPRODUCT((werknemers=december!$A36)*(datums=december!L$5)*(uren))","v":"00:00:00"},{"$f":"SUMPRODUCT((werknemers=december!$A36)*(datums=december!M$5)*(uren))","v":"00:00:00"},{"$f":"SUMPRODUCT((werknemers=december!$A36)*(datums=december!N$5)*(uren))","v":"00:00:00"},{"$f":"SUMPRODUCT((werknemers=december!$A36)*(datums=december!O$5)*(uren))","v":"00:00:00"},{"$f":"SUMPRODUCT((werknemers=december!$A36)*(datums=december!P$5)*(uren))","v":"00:00:00"},{"$f":"SUMPRODUCT((werknemers=december!$A36)*(datums=december!Q$5)*(uren))","v":"00:00:00"},{"$f":"SUMPRODUCT((werknemers=december!$A36)*(datums=december!R$5)*(uren))","v":"00:00:00"},{"$f":"SUMPRODUCT((werknemers=december!$A36)*(datums=december!S$5)*(uren))","v":"00:00:00"},{"$f":"SUMPRODUCT((werknemers=december!$A36)*(datums=december!T$5)*(uren))","v":"00:00:00"},{"$f":"SUMPRODUCT((werknemers=december!$A36)*(datums=december!U$5)*(uren))","v":"00:00:00"},{"$f":"SUMPRODUCT((werknemers=december!$A36)*(datums=december!V$5)*(uren))","v":"00:00:00"},{"$f":"SUMPRODUCT((werknemers=december!$A36)*(datums=december!W$5)*(uren))","v":"00:00:00"},{"$f":"SUMPRODUCT((werknemers=december!$A36)*(datums=december!X$5)*(uren))","v":"00:00:00"},{"$f":"SUMPRODUCT((werknemers=december!$A36)*(datums=december!Y$5)*(uren))","v":"00:00:00"},{"$f":"SUMPRODUCT((werknemers=december!$A36)*(datums=december!Z$5)*(uren))","v":"00:00:00"},{"$f":"SUMPRODUCT((werknemers=december!$A36)*(datums=december!AA$5)*(uren))","v":"00:00:00"},{"$f":"SUMPRODUCT((werknemers=december!$A36)*(datums=december!AB$5)*(uren))","v":"00:00:00"},{"$f":"SUMPRODUCT((werknemers=december!$A36)*(datums=december!AC$5)*(uren))","v":"00:00:00"},{"$f":"SUMPRODUCT((werknemers=december!$A36)*(datums=december!AD$5)*(uren))","v":"00:00:00"},{"$f":"SUMPRODUCT((werknemers=december!$A36)*(datums=december!AE$5)*(uren))","v":"00:00:00"},{"$f":"SUMPRODUCT((werknemers=december!$A36)*(datums=december!AF$5)*(uren))","v":"00:00:00"}]
[]
["CONTROLE",{"$f":"SUMPRODUCT((werknemers=december!$A38)*(datums=december!B$5)*(uren))","v":"00:00:00"},{"$f":"SUMPRODUCT((werknemers=december!$A38)*(datums=december!C$5)*(uren))","v":"00:00:00"},{"$f":"SUMPRODUCT((werknemers=december!$A38)*(datums=december!D$5)*(uren))","v":"00:00:00"},{"$f":"SUMPRODUCT((werknemers=december!$A38)*(datums=december!E$5)*(uren))","v":"00:00:00"},{"$f":"SUMPRODUCT((werknemers=december!$A38)*(datums=december!F$5)*(uren))","v":"00:00:00"},{"$f":"SUMPRODUCT((werknemers=december!$A38)*(datums=december!G$5)*(uren))","v":"00:00:00"},{"$f":"SUMPRODUCT((werknemers=december!$A38)*(datums=december!H$5)*(uren))","v":"00:00:00"},{"$f":"SUMPRODUCT((werknemers=december!$A38)*(datums=december!I$5)*(uren))","v":"00:00:00"},{"$f":"SUMPRODUCT((werknemers=december!$A38)*(datums=december!J$5)*(uren))","v":"00:00:00"},{"$f":"SUMPRODUCT((werknemers=december!$A38)*(datums=december!K$5)*(uren))","v":"00:00:00"},{"$f":"SUMPRODUCT((werknemers=december!$A38)*(datums=december!L$5)*(uren))","v":"00:00:00"},{"$f":"SUMPRODUCT((werknemers=december!$A38)*(datums=december!M$5)*(uren))","v":"00:00:00"},{"$f":"SUMPRODUCT((werknemers=december!$A38)*(datums=december!N$5)*(uren))","v":"00:00:00"},{"$f":"SUMPRODUCT((werknemers=december!$A38)*(datums=december!O$5)*(uren))","v":"00:00:00"},{"$f":"SUMPRODUCT((werknemers=december!$A38)*(datums=december!P$5)*(uren))","v":"00:00:00"},{"$f":"SUMPRODUCT((werknemers=december!$A38)*(datums=december!Q$5)*(uren))","v":"00:00:00"},{"$f":"SUMPRODUCT((werknemers=december!$A38)*(datums=december!R$5)*(uren))","v":"00:00:00"},{"$f":"SUMPRODUCT((werknemers=december!$A38)*(datums=december!S$5)*(uren))","v":"00:00:00"},{"$f":"SUMPRODUCT((werknemers=december!$A38)*(datums=december!T$5)*(uren))","v":"00:00:00"},{"$f":"SUMPRODUCT((werknemers=december!$A38)*(datums=december!U$5)*(uren))","v":"00:00:00"},{"$f":"SUMPRODUCT((werknemers=december!$A38)*(datums=december!V$5)*(uren))","v":"00:00:00"},{"$f":"SUMPRODUCT((werknemers=december!$A38)*(datums=december!W$5)*(uren))","v":"00:00:00"},{"$f":"SUMPRODUCT((werknemers=december!$A38)*(datums=december!X$5)*(uren))","v":"00:00:00"},{"$f":"SUMPRODUCT((werknemers=december!$A38)*(datums=december!Y$5)*(uren))","v":"00:00:00"},{"$f":"SUMPRODUCT((werknemers=december!$A38)*(datums=december!Z$5)*(uren))","v":"00:00:00"},{"$f":"SUMPRODUCT((werknemers=december!$A38)*(datums=december!AA$5)*(uren))","v":"00:00:00"},{"$f":"SUMPRODUCT((werknemers=december!$A38)*(datums=december!AB$5)*(uren))","v":"00:00:00"},{"$f":"SUMPRODUCT((werknemers=december!$A38)*(datums=december!AC$5)*(uren))","v":"00:00:00"},{"$f":"SUMPRODUCT((werknemers=december!$A38)*(datums=december!AD$5)*(uren))","v":"00:00:00"},{"$f":"SUMPRODUCT((werknemers=december!$A38)*(datums=december!AE$5)*(uren))","v":"00:00:00"},{"$f":"SUMPRODUCT((werknemers=december!$A38)*(datums=december!AF$5)*(uren))","v":"00:00:00"}]
[]
["CONTROLE",{"$f":"SUMPRODUCT((werknemers=december!$A40)*(datums=december!B$5)*(uren))","v":"00:00:00"},{"$f":"SUMPRODUCT((werknemers=december!$A40)*(datums=december!C$5)*(uren))","v":"00:00:00"},{"$f":"SUMPRODUCT((werknemers=december!$A40)*(datums=december!D$5)*(uren))","v":"00:00:00"},{"$f":"SUMPRODUCT((werknemers=december!$A40)*(datums=december!E$5)*(uren))","v":"00:00:00"},{"$f":"SUMPRODUCT((werknemers=december!$A40)*(datums=december!F$5)*(uren))","v":"00:00:00"},{"$f":"SUMPRODUCT((werknemers=december!$A40)*(datums=december!G$5)*(uren))","v":"00:00:00"},{"$f":"SUMPRODUCT((werknemers=december!$A40)*(datums=december!H$5)*(uren))","v":"00:00:00"},{"$f":"SUMPRODUCT((werknemers=december!$A40)*(datums=december!I$5)*(uren))","v":"00:00:00"},{"$f":"SUMPRODUCT((werknemers=december!$A40)*(datums=december!J$5)*(uren))","v":"00:00:00"},{"$f":"SUMPRODUCT((werknemers=december!$A40)*(datums=december!K$5)*(uren))","v":"00:00:00"},{"$f":"SUMPRODUCT((werknemers=december!$A40)*(datums=december!L$5)*(uren))","v":"00:00:00"},{"$f":"SUMPRODUCT((werknemers=december!$A40)*(datums=december!M$5)*(uren))","v":"00:00:00"},{"$f":"SUMPRODUCT((werknemers=december!$A40)*(datums=december!N$5)*(uren))","v":"00:00:00"},{"$f":"SUMPRODUCT((werknemers=december!$A40)*(datums=december!O$5)*(uren))","v":"00:00:00"},{"$f":"SUMPRODUCT((werknemers=december!$A40)*(datums=december!P$5)*(uren))","v":"00:00:00"},{"$f":"SUMPRODUCT((werknemers=december!$A40)*(datums=december!Q$5)*(uren))","v":"00:00:00"},{"$f":"SUMPRODUCT((werknemers=december!$A40)*(datums=december!R$5)*(uren))","v":"00:00:00"},{"$f":"SUMPRODUCT((werknemers=december!$A40)*(datums=december!S$5)*(uren))","v":"00:00:00"},{"$f":"SUMPRODUCT((werknemers=december!$A40)*(datums=december!T$5)*(uren))","v":"00:00:00"},{"$f":"SUMPRODUCT((werknemers=december!$A40)*(datums=december!U$5)*(uren))","v":"00:00:00"},{"$f":"SUMPRODUCT((werknemers=december!$A40)*(datums=december!V$5)*(uren))","v":"00:00:00"},{"$f":"SUMPRODUCT((werknemers=december!$A40)*(datums=december!W$5)*(uren))","v":"00:00:00"},{"$f":"SUMPRODUCT((werknemers=december!$A40)*(datums=december!X$5)*(uren))","v":"00:00:00"},{"$f":"SUMPRODUCT((werknemers=december!$A40)*(datums=december!Y$5)*(uren))","v":"00:00:00"},{"$f":"SUMPRODUCT((werknemers=december!$A40)*(datums=december!Z$5)*(uren))","v":"00:00:00"},{"$f":"SUMPRODUCT((werknemers=december!$A40)*(datums=december!AA$5)*(uren))","v":"00:00:00"},{"$f":"SUMPRODUCT((werknemers=december!$A40)*(datums=december!AB$5)*(uren))","v":"00:00:00"},{"$f":"SUMPRODUCT((werknemers=december!$A40)*(datums=december!AC$5)*(uren))","v":"00:00:00"},{"$f":"SUMPRODUCT((werknemers=december!$A40)*(datums=december!AD$5)*(uren))","v":"00:00:00"},{"$f":"SUMPRODUCT((werknemers=december!$A40)*(datums=december!AE$5)*(uren))","v":"00:00:00"},{"$f":"SUMPRODUCT((werknemers=december!$A40)*(datums=december!AF$5)*(uren))","v":"00:00:00"}]
[]
["CONTROLE",{"$f":"SUMPRODUCT((werknemers=december!$A42)*(datums=december!B$5)*(uren))","v":"00:00:00"},{"$f":"SUMPRODUCT((werknemers=december!$A42)*(datums=december!C$5)*(uren))","v":"00:00:00"},{"$f":"SUMPRODUCT((werknemers=december!$A42)*(datums=december!D$5)*(uren))","v":"00:00:00"},{"$f":"SUMPRODUCT((werknemers=december!$A42)*(datums=december!E$5)*(uren))","v":"00:00:00"},{"$f":"SUMPRODUCT((werknemers=december!$A42)*(datums=december!F$5)*(uren))","v":"00:00:00"},{"$f":"SUMPRODUCT((werknemers=december!$A42)*(datums=december!G$5)*(uren))","v":"00:00:00"},{"$f":"SUMPRODUCT((werknemers=december!$A42)*(datums=december!H$5)*(uren))","v":"00:00:00"},{"$f":"SUMPRODUCT((werknemers=december!$A42)*(datums=december!I$5)*(uren))","v":"00:00:00"},{"$f":"SUMPRODUCT((werknemers=december!$A42)*(datums=december!J$5)*(uren))","v":"00:00:00"},{"$f":"SUMPRODUCT((werknemers=december!$A42)*(datums=december!K$5)*(uren))","v":"00:00:00"},{"$f":"SUMPRODUCT((werknemers=december!$A42)*(datums=december!L$5)*(uren))","v":"00:00:00"},{"$f":"SUMPRODUCT((werknemers=december!$A42)*(datums=december!M$5)*(uren))","v":"00:00:00"},{"$f":"SUMPRODUCT((werknemers=december!$A42)*(datums=december!N$5)*(uren))","v":"00:00:00"},{"$f":"SUMPRODUCT((werknemers=december!$A42)*(datums=december!O$5)*(uren))","v":"00:00:00"},{"$f":"SUMPRODUCT((werknemers=december!$A42)*(datums=december!P$5)*(uren))","v":"00:00:00"},{"$f":"SUMPRODUCT((werknemers=december!$A42)*(datums=december!Q$5)*(uren))","v":"00:00:00"},{"$f":"SUMPRODUCT((werknemers=december!$A42)*(datums=december!R$5)*(uren))","v":"00:00:00"},{"$f":"SUMPRODUCT((werknemers=december!$A42)*(datums=december!S$5)*(uren))","v":"00:00:00"},{"$f":"SUMPRODUCT((werknemers=december!$A42)*(datums=december!T$5)*(uren))","v":"00:00:00"},{"$f":"SUMPRODUCT((werknemers=december!$A42)*(datums=december!U$5)*(uren))","v":"00:00:00"},{"$f":"SUMPRODUCT((werknemers=december!$A42)*(datums=december!V$5)*(uren))","v":"00:00:00"},{"$f":"SUMPRODUCT((werknemers=december!$A42)*(datums=december!W$5)*(uren))","v":"00:00:00"},{"$f":"SUMPRODUCT((werknemers=december!$A42)*(datums=december!X$5)*(uren))","v":"00:00:00"},{"$f":"SUMPRODUCT((werknemers=december!$A42)*(datums=december!Y$5)*(uren))","v":"00:00:00"},{"$f":"SUMPRODUCT((werknemers=december!$A42)*(datums=december!Z$5)*(uren))","v":"00:00:00"},{"$f":"SUMPRODUCT((werknemers=december!$A42)*(datums=december!AA$5)*(uren))","v":"00:00:00"},{"$f":"SUMPRODUCT((werknemers=december!$A42)*(datums=december!AB$5)*(uren))","v":"00:00:00"},{"$f":"SUMPRODUCT((werknemers=december!$A42)*(datums=december!AC$5)*(uren))","v":"00:00:00"},{"$f":"SUMPRODUCT((werknemers=december!$A42)*(datums=december!AD$5)*(uren))","v":"00:00:00"},{"$f":"SUMPRODUCT((werknemers=december!$A42)*(datums=december!AE$5)*(uren))","v":"00:00:00"},{"$f":"SUMPRODUCT((werknemers=december!$A42)*(datums=december!AF$5)*(uren))","v":"00:00:00"}]
[]
["CONTROLE",{"$f":"SUMPRODUCT((werknemers=december!$A44)*(datums=december!B$5)*(uren))","v":"00:00:00"},{"$f":"SUMPRODUCT((werknemers=december!$A44)*(datums=december!C$5)*(uren))","v":"00:00:00"},{"$f":"SUMPRODUCT((werknemers=december!$A44)*(datums=december!D$5)*(uren))","v":"00:00:00"},{"$f":"SUMPRODUCT((werknemers=december!$A44)*(datums=december!E$5)*(uren))","v":"00:00:00"},{"$f":"SUMPRODUCT((werknemers=december!$A44)*(datums=december!F$5)*(uren))","v":"00:00:00"},{"$f":"SUMPRODUCT((werknemers=december!$A44)*(datums=december!G$5)*(uren))","v":"00:00:00"},{"$f":"SUMPRODUCT((werknemers=december!$A44)*(datums=december!H$5)*(uren))","v":"00:00:00"},{"$f":"SUMPRODUCT((werknemers=december!$A44)*(datums=december!I$5)*(uren))","v":"00:00:00"},{"$f":"SUMPRODUCT((werknemers=december!$A44)*(datums=december!J$5)*(uren))","v":"00:00:00"},{"$f":"SUMPRODUCT((werknemers=december!$A44)*(datums=december!K$5)*(uren))","v":"00:00:00"},{"$f":"SUMPRODUCT((werknemers=december!$A44)*(datums=december!L$5)*(uren))","v":"00:00:00"},{"$f":"SUMPRODUCT((werknemers=december!$A44)*(datums=december!M$5)*(uren))","v":"00:00:00"},{"$f":"SUMPRODUCT((werknemers=december!$A44)*(datums=december!N$5)*(uren))","v":"00:00:00"},{"$f":"SUMPRODUCT((werknemers=december!$A44)*(datums=december!O$5)*(uren))","v":"00:00:00"},{"$f":"SUMPRODUCT((werknemers=december!$A44)*(datums=december!P$5)*(uren))","v":"00:00:00"},{"$f":"SUMPRODUCT((werknemers=december!$A44)*(datums=december!Q$5)*(uren))","v":"00:00:00"},{"$f":"SUMPRODUCT((werknemers=december!$A44)*(datums=december!R$5)*(uren))","v":"00:00:00"},{"$f":"SUMPRODUCT((werknemers=december!$A44)*(datums=december!S$5)*(uren))","v":"00:00:00"},{"$f":"SUMPRODUCT((werknemers=december!$A44)*(datums=december!T$5)*(uren))","v":"00:00:00"},{"$f":"SUMPRODUCT((werknemers=december!$A44)*(datums=december!U$5)*(uren))","v":"00:00:00"},{"$f":"SUMPRODUCT((werknemers=december!$A44)*(datums=december!V$5)*(uren))","v":"00:00:00"},{"$f":"SUMPRODUCT((werknemers=december!$A44)*(datums=december!W$5)*(uren))","v":"00:00:00"},{"$f":"SUMPRODUCT((werknemers=december!$A44)*(datums=december!X$5)*(uren))","v":"00:00:00"},{"$f":"SUMPRODUCT((werknemers=december!$A44)*(datums=december!Y$5)*(uren))","v":"00:00:00"},{"$f":"SUMPRODUCT((werknemers=december!$A44)*(datums=december!Z$5)*(uren))","v":"00:00:00"},{"$f":"SUMPRODUCT((werknemers=december!$A44)*(datums=december!AA$5)*(uren))","v":"00:00:00"},{"$f":"SUMPRODUCT((werknemers=december!$A44)*(datums=december!AB$5)*(uren))","v":"00:00:00"},{"$f":"SUMPRODUCT((werknemers=december!$A44)*(datums=december!AC$5)*(uren))","v":"00:00:00"},{"$f":"SUMPRODUCT((werknemers=december!$A44)*(datums=december!AD$5)*(uren))","v":"00:00:00"},{"$f":"SUMPRODUCT((werknemers=december!$A44)*(datums=december!AE$5)*(uren))","v":"00:00:00"},{"$f":"SUMPRODUCT((werknemers=december!$A44)*(datums=december!AF$5)*(uren))","v":"00:00:00"}]

{"sheet":"verlofoverzicht jaar","index":14,"n_rows":5,"n_cols":366,"rows_kept":5,"cut":false,"hidden":false,"merged":[[3,0,4,0],[1,1,1,3],[1,5,1,7],[1,9,1,11]]}
[]
[null,"verlof (V)",null,null,null,"ziek (Z)",null,null,null,"feestdag (F)"]
[]
[{"$f":"YEAR(B5)","v":2018},{"$f":"WEEKDAY(B5)","v":"1900-01-02"},{"$f":"WEEKDAY(C5)","v":"1900-01-03"},"1900-01-04","1900-01-05","1900-01-06","1900-01-07","1900-01-01","1900-01-02","1900-01-03","1900-01-04","1900-01-05","1900-01-06","1900-01-07","1900-01-01","1900-01-02","1900-01-03","1900-01-04","1900-01-05","1900-01-06","1900-01-07","1900-01-01","1900-01-02","1900-01-03","1900-01-04","1900-01-05","1900-01-06","1900-01-07","1900-01-01","1900-01-02","1900-01-03","1900-01-04","1900-01-05","1900-01-06","1900-01-07","1900-01-01","1900-01-02","1900-01-03","1900-01-04","1900-01-05","1900-01-06","1900-01-07","1900-01-01","1900-01-02","1900-01-03","1900-01-04","1900-01-05","1900-01-06","1900-01-07","1900-01-01","1900-01-02","1900-01-03","1900-01-04","1900-01-05","1900-01-06","1900-01-07","1900-01-01","1900-01-02","1900-01-03","1900-01-04","1900-01-05","1900-01-06","1900-01-07","1900-01-01","1900-01-02","1900-01-03",{"$f":"WEEKDAY(BO5)","v":"1900-01-04"},"1900-01-05","1900-01-06","1900-01-07","1900-01-01","1900-01-02","1900-01-03","1900-01-04","1900-01-05","1900-01-06","1900-01-07","1900-01-01","1900-01-02","1900-01-03","1900-01-04","1900-01-05","1900-01-06","1900-01-07","1900-01-01","1900-01-02","1900-01-03","1900-01-04","1900-01-05","1900-01-06","1900-01-07","1900-01-01","1900-01-02","1900-01-03","1900-01-04","1900-01-05","1900-01-06","1900-01-07","1900-01-01","1900-01-02","1900-01-03","1900-01-04","1900-01-05","1900-01-06","1900-01-07","1900-01-01","1900-01-02","1900-01-03","1900-01-04","1900-01-05","1900-01-06","1900-01-07","1900-01-01","1900-01-02","1900-01-03","1900-01-04","1900-01-05","1900-01-06","1900-01-07","1900-01-01","1900-01-02","1900-01-03","1900-01-04","1900-01-05","1900-01-06","1900-01-07","1900-01-01","1900-01-02","1900-01-03","1900-01-04",{"$f":"WEEKDAY(EA5)","v":"1900-01-05"},"1900-01-06","1900-01-07","1900-01-01","1900-01-02","1900-01-03","1900-01-04","1900-01-05","1900-01-06","1900-01-07","1900-01-01","1900-01-02","1900-01-03","1900-01-04","1900-01-05","1900-01-06","1900-01-07","1900-01-01","1900-01-02","1900-01-03","1900-01-04","1900-01-05","1900-01-06","1900-01-07","1900-01-01","1900-01-02","1900-01-03","1900-01-04","1900-01-05","1900-01-06","1900-01-07","1900-01-01","1900-01-02","1900-01-03","1900-01-04","1900-01-05","1900-01-06","1900-01-07","1900-01-01","1900-01-02","1900-01-03","1900-01-04","1900-01-05","1900-01-06","1900-01-07","1900-01-01","1900-01-02","1900-01-03","1900-01-04","1900-01-05","1900-01-06","1900-01-07","1900-01-01","1900-01-02","1900-01-03","1900-01-04","1900-01-05","1900-01-06","1900-01-07","1900-01-01","1900-01-02","1900-01-03","1900-01-04","1900-01-05",{"$f":"WEEKDAY(GM5)","v":"1900-01-06"},"1900-01-07","1900-01-01","1900-01-02","1900-01-03","1900-01-04","1900-01-05","1900-01-06","1900-01-07","1900-01-01","1900-01-02","1900-01-03","1900-01-04","1900-01-05","1900-01-06","1900-01-07","1900-01-01","1900-01-02","1900-01-03","1900-01-04","1900-01-05","1900-01-06","1900-01-07","1900-01-01","1900-01-02","1900-01-03","1900-01-04","1900-01-05","1900-01-06","1900-01-07","1900-01-01","1900-01-02","1900-01-03","1900-01-04","1900-01-05","1900-01-06","1900-01-07","1900-01-01","1900-01-02","1900-01-03","1900-01-04","1900-01-05","1900-01-06","1900-01-07","1900-01-01","1900-01-02","1900-01-03","1900-01-04","1900-01-05","1900-01-06","1900-01-07","1900-01-01","1900-01-02","1900-01-03","1900-01-04","1900-01-05","1900-01-06","1900-01-07","1900-01-01","1900-01-02","1900-01-03","1900-01-04","1900-01-05","1900-01-06",{"$f":"WEEKDAY(IY5)","v":"1900-01-07"},"1900-01-01","1900-01-02","1900-01-03","1900-01-04","1900-01-05","1900-01-06","1900-01-07","1900-01-01","1900-01-02","1900-01-03","1900-01-04","1900-01-05","1900-01-06","1900-01-07","1900-01-01","1900-01-02","1900-01-03","1900-01-04","1900-01-05","1900-01-06","1900-01-07","1900-01-01","1900-01-02","1900-01-03","1900-01-04","1900-01-05","1900-01-06","1900-01-07","1900-01-01","1900-01-02","1900-01-03","1900-01-04","1900-01-05","1900-01-06","1900-01-07","1900-01-01","1900-01-02","1900-01-03","1900-01-04","1900-01-05","1900-01-06","1900-01-07","1900-01-01","1900-01-02","1900-01-03","1900-01-04","1900-01-05","1900-01-06","1900-01-07","1900-01-01","1900-01-02","1900-01-03","1900-01-04","1900-01-05","1900-01-06","1900-01-07","1900-01-01","1900-01-02","1900-01-03","1900-01-04","1900-01-05","1900-01-06","1900-01-07",{"$f":"WEEKDAY(LK5)","v":"1900-01-01"},"1900-01-02","1900-01-03","1900-01-04","1900-01-05","1900-01-06","1900-01-07","1900-01-01","1900-01-02","1900-01-03","1900-01-04","1900-01-05","1900-01-06","1900-01-07","1900-01-01","1900-01-02","1900-01-03","1900-01-04","1900-01-05","1900-01-06","1900-01-07","1900-01-01","1900-01-02","1900-01-03","1900-01-04","1900-01-05","1900-01-06","1900-01-07","1900-01-01","1900-01-02","1900-01-03","1900-01-04","1900-01-05","1900-01-06","1900-01-07","1900-01-01","1900-01-02","1900-01-03","1900-01-04","1900-01-05","1900-01-06","1900-01-07","1900-01-01","1900-01-02"]
[null,"2018-01-01","2018-01-02","2018-01-03","2018-01-04","2018-01-05","2018-01-06","2018-01-07","2018-01-08","2018-01-09","2018-01-10","2018-01-11","2018-01-12","2018-01-13","2018-01-14","2018-01-15","2018-01-16","2018-01-17","2018-01-18","2018-01-19","2018-01-20","2018-01-21","2018-01-22","2018-01-23","2018-01-24","2018-01-25","2018-01-26","2018-01-27","2018-01-28","2018-01-29","2018-01-30","2018-01-31","2018-02-01","2018-02-02","2018-02-03","2018-02-04","2018-02-05","2018-02-06","2018-02-07","2018-02-08","2018-02-09","2018-02-10","2018-02-11","2018-02-12","2018-02-13","2018-02-14","2018-02-15","2018-02-16","2018-02-17","2018-02-18","2018-02-19","2018-02-20","2018-02-21","2018-02-22","2018-02-23","2018-02-24","2018-02-25","2018-02-26","2018-02-27","2018-02-28","2018-03-01","2018-03-02","2018-03-03","2018-03-04","2018-03-05","2018-03-06","2018-03-07","2018-03-08","2018-03-09","2018-03-10","2018-03-11","2018-03-12","2018-03-13","2018-03-14","2018-03-15","2018-03-16","2018-03-17","2018-03-18","2018-03-19","2018-03-20","2018-03-21","2018-03-22","2018-03-23","2018-03-24","2018-03-25","2018-03-26","2018-03-27","2018-03-28","2018-03-29","2018-03-30","2018-03-31","2018-04-01","2018-04-02","2018-04-03","2018-04-04","2018-04-05","2018-04-06","2018-04-07","2018-04-08","2018-04-09","2018-04-10","2018-04-11","2018-04-12","2018-04-13","2018-04-14","2018-04-15","2018-04-16","2018-04-17","2018-04-18","2018-04-19","2018-04-20","2018-04-21","2018-04-22","2018-04-23","2018-04-24","2018-04-25","2018-04-26","2018-04-27","2018-04-28","2018-04-29","2018-04-30","2018-05-01","2018-05-02","2018-05-03","2018-05-04","2018-05-05","2018-05-06","2018-05-07","2018-05-08","2018-05-09","2018-05-10","2018-05-11","2018-05-12","2018-05-13","2018-05-14","2018-05-15","2018-05-16","2018-05-17","2018-05-18","2018-05-19","2018-05-20","2018-05-21","2018-05-22","2018-05-23","2018-05-24","2018-05-25","2018-05-26","2018-05-27","2018-05-28","2018-05-29","2018-05-30","2018-05-31","2018-06-01","2018-06-02","2018-06-03","2018-06-04","2018-06-05","2018-06-06","2018-06-07","2018-06-08","2018-06-09","2018-06-10","2018-06-11","2018-06-12","2018-06-13","2018-06-14","2018-06-15","2018-06-16","2018-06-17","2018-06-18","2018-06-19","2018-06-20","2018-06-21","2018-06-22","2018-06-23","2018-06-24","2018-06-25","2018-06-26","2018-06-27","2018-06-28","2018-06-29","2018-06-30","2018-07-01","2018-07-02","2018-07-03","2018-07-04","2018-07-05","2018-07-06","2018-07-07","2018-07-08","2018-07-09","2018-07-10","2018-07-11","2018-07-12","2018-07-13","2018-07-14","2018-07-15","2018-07-16","2018-07-17","2018-07-18","2018-07-19","2018-07-20","2018-07-21","2018-07-22","2018-07-23","2018-07-24","2018-07-25","2018-07-26","2018-07-27","2018-07-28","2018-07-29","2018-07-30","2018-07-31","2018-08-01","2018-08-02","2018-08-03","2018-08-04","2018-08-05","2018-08-06","2018-08-07","2018-08-08","2018-08-09","2018-08-10","2018-08-11","2018-08-12","2018-08-13","2018-08-14","2018-08-15","2018-08-16","2018-08-17","2018-08-18","2018-08-19","2018-08-20","2018-08-21","2018-08-22","2018-08-23","2018-08-24","2018-08-25","2018-08-26","2018-08-27","2018-08-28","2018-08-29","2018-08-30","2018-08-31","2018-09-01","2018-09-02","2018-09-03","2018-09-04","2018-09-05","2018-09-06","2018-09-07","2018-09-08","2018-09-09","2018-09-10","2018-09-11","2018-09-12","2018-09-13","2018-09-14","2018-09-15","2018-09-16","2018-09-17","2018-09-18","2018-09-19","2018-09-20","2018-09-21","2018-09-22","2018-09-23","2018-09-24","2018-09-25","2018-09-26","2018-09-27","2018-09-28","2018-09-29","2018-09-30","2018-10-01","2018-10-02","2018-10-03","2018-10-04","2018-10-05","2018-10-06","2018-10-07","2018-10-08","2018-10-09","2018-10-10","2018-10-11","2018-10-12","2018-10-13","2018-10-14","2018-10-15","2018-10-16","2018-10-17","2018-10-18","2018-10-19","2018-10-20","2018-10-21","2018-10-22","2018-10-23","2018-10-24","2018-10-25","2018-10-26","2018-10-27","2018-10-28","2018-10-29","2018-10-30","2018-10-31","2018-11-01","2018-11-02","2018-11-03","2018-11-04","2018-11-05","2018-11-06","2018-11-07","2018-11-08","2018-11-09","2018-11-10","2018-11-11","2018-11-12","2018-11-13","2018-11-14","2018-11-15","2018-11-16","2018-11-17","2018-11-18","2018-11-19","2018-11-20","2018-11-21","2018-11-22","2018-11-23","2018-11-24","2018-11-25","2018-11-26","2018-11-27","2018-11-28","2018-11-29","2018-11-30","2018-12-01","2018-12-02","2018-12-03","2018-12-04","2018-12-05","2018-12-06","2018-12-07","2018-12-08","2018-12-09","2018-12-10","2018-12-11","2018-12-12","2018-12-13","2018-12-14","2018-12-15","2018-12-16","2018-12-17","2018-12-18","2018-12-19","2018-12-20","2018-12-21","2018-12-22","2018-12-23","2018-12-24","2018-12-25","2018-12-26","2018-12-27","2018-12-28","2018-12-29","2018-12-30","2018-12-31"]