{"text_format":"1","workbook":"xlsx","n_sheets":6,"sheets":["Lijst","BarcodeGenerator","Tabel","Adres stickers","BarcodeGenerator TESTER","TESTER"],"not_rendered":{"charts":0,"images":7,"macros":1,"external_links":0,"defined_names":2,"comments":0,"pivot_tables":0},"unopened":[],"bounds":{"document_bytes":16777216,"sheet_cells":100000,"rows_first":2000,"rows_last":500,"rows_between":2000,"halvings":0,"cell_chars":16384,"cell_head_chars":4096},"cells_cut":0,"cells_raw":0,"read":"whole","date_system":"1900"}

{"sheet":"Lijst","index":0,"n_rows":213,"n_cols":18,"rows_kept":213,"cut":false,"hidden":false,"merged":[[0,0,0,8],[0,9,0,13],[1,1,2,1],[1,2,2,2],[1,3,2,3],[1,7,2,7],[1,9,2,9],[1,10,2,10],[1,4,3,4],[1,11,2,11],[1,12,2,12],[1,15,2,15],[1,5,3,6],[1,14,2,14],[1,13,2,13],[1,0,2,0]]}
["Gastenlijst Meista Assa 05 mei 2018",null,null,null,null,null,null,null,null,"Komt wel of niet. Uiterst bevestigen voor 01 april en hoeveel personen"]
["Gast nr","Achternaam","Roepnaam","Straat","Nr.","Post code",null,"Plaats",null,"To taal","Op komst","WEL","NIET","Mis schien","e-mail adres","Barcode 128"]
[]
[null,null,null,null,null,null,null,null,"Hp nummer",{"$f":"SUM(J6:J213)","v":9},{"$f":"SUM(K6:K213)","v":0},{"$f":"SUM(L9:L213)","v":0},{"$f":"SUM(M9:M213)","v":0},{"$f":"SUM(N9:N213)","v":0}]
["Gast nr.","Achternaam","Roepnaam","Straat","Huisnr","Post","Code","Plaats","HP nummer","Aantal","Ada","Yes","No","Maby","E-mailadres","Barcode","Postcode-GSM","Huisnr aangepast"]
[1,"Klaasen","Jan","Klaasenstraat",12,1234,"AB","Klaasenstad","06-12345678",2,null,2,null,null," ",{"$f":"BarcodeGenerator!AI6","v":"Ð1234AB12 2IÓ"},{"$f":"CONCATENATE(gastenlijst[[#This Row],[Post]],gastenlijst[[#This Row],[Code]],gastenlijst[[#This Row],[Huisnr aangepast]],gastenlijst[[#This Row],[Yes]])","v":"1234AB12 2"},{"$f":"CHOOSE(LEN(E6),E6&\" \",E6&\" \",E6&\" \")","v":"12 "}]
[2,"Boer","Groenten","Groentenstraat",678,5678,"XY","Groentestad","06-98765432",4,null,2,2,null," ",{"$f":"BarcodeGenerator!AI7","v":"Ð5678XY678 2eÓ"},{"$f":"CONCATENATE(gastenlijst[[#This Row],[Post]],gastenlijst[[#This Row],[Code]],gastenlijst[[#This Row],[Huisnr aangepast]],gastenlijst[[#This Row],[Yes]])","v":"5678XY678 2"},"678 "]
[3,"Maker","Worsten","Slagerijstraat",56,9182,"HJ","Vleesstad","06-82649137",3,null,1,null,2," ",{"$f":"BarcodeGenerator!AI8","v":"Ð9182HJ56 1xÓ"},{"$f":"CONCATENATE(gastenlijst[[#This Row],[Post]],gastenlijst[[#This Row],[Code]],gastenlijst[[#This Row],[Huisnr aangepast]],gastenlijst[[#This Row],[Yes]])","v":"9182HJ56 1"},"56 "]
[4,null,null,null,null,null,null,null,null,null,null,null,null,null," ",{"$f":"BarcodeGenerator!AI9","v":{"$error":"#VALUE!"}},{"$f":"CONCATENATE(gastenlijst[[#This Row],[Post]],gastenlijst[[#This Row],[Code]],gastenlijst[[#This Row],[Huisnr aangepast]],gastenlijst[[#This Row],[Yes]])","v":{"$error":"#VALUE!"}},{"$error":"#VALUE!"}]
[5,null,null,null,null,null,null,null,null,null,null,null,null,null," ",{"$f":"BarcodeGenerator!AI10","v":{"$error":"#VALUE!"}},{"$f":"CONCATENATE(gastenlijst[[#This Row],[Post]],gastenlijst[[#This Row],[Code]],gastenlijst[[#This Row],[Huisnr aangepast]],gastenlijst[[#This Row],[Yes]])","v":{"$error":"#VALUE!"}},{"$error":"#VALUE!"}]
[6,null,null,null,null,null,null,null,null,null,null,null,null,null," ",{"$f":"BarcodeGenerator!AI11","v":{"$error":"#VALUE!"}},{"$f":"CONCATENATE(gastenlijst[[#This Row],[Post]],gastenlijst[[#This Row],[Code]],gastenlijst[[#This Row],[Huisnr aangepast]],gastenlijst[[#This Row],[Yes]])","v":{"$error":"#VALUE!"}},{"$error":"#VALUE!"}]
[7,null,null,null,null,null,null,null,null,null,null,null,null,null," ",{"$f":"BarcodeGenerator!AI12","v":{"$error":"#VALUE!"}},{"$f":"CONCATENATE(gastenlijst[[#This Row],[Post]],gastenlijst[[#This Row],[Code]],gastenlijst[[#This Row],[Huisnr aangepast]],gastenlijst[[#This Row],[Yes]])","v":{"$error":"#VALUE!"}},{"$error":"#VALUE!"}]
[8,null,null,null,null,null,null,null,null,null,null,null,null,null," ",{"$f":"BarcodeGenerator!AI13","v":{"$error":"#VALUE!"}},{"$f":"CONCATENATE(gastenlijst[[#This Row],[Post]],gastenlijst[[#This Row],[Code]],gastenlijst[[#This Row],[Huisnr aangepast]],gastenlijst[[#This Row],[Yes]])","v":{"$error":"#VALUE!"}},{"$error":"#VALUE!"}]
[9,null,null,null,null,null,null,null,null,null,null,null,null,null," ",{"$f":"BarcodeGenerator!AI14","v":{"$error":"#VALUE!"}},{"$f":"CONCATENATE(gastenlijst[[#This Row],[Post]],gastenlijst[[#This Row],[Code]],gastenlijst[[#This Row],[Huisnr aangepast]],gastenlijst[[#This Row],[Yes]])","v":{"$error":"#VALUE!"}},{"$error":"#VALUE!"}]
[10,null,null,null,null,null,null,null,null,null,null,null,null,null," ",{"$f":"BarcodeGenerator!AI15","v":{"$error":"#VALUE!"}},{"$f":"CONCATENATE(gastenlijst[[#This Row],[Post]],gastenlijst[[#This Row],[Code]],gastenlijst[[#This Row],[Huisnr aangepast]],gastenlijst[[#This Row],[Yes]])","v":{"$error":"#VALUE!"}},{"$error":"#VALUE!"}]
[11,null,null,null,null,null,null,null,null,null,null,null,null,null," ",{"$f":"BarcodeGenerator!AI16","v":{"$error":"#VALUE!"}},{"$f":"CONCATENATE(gastenlijst[[#This Row],[Post]],gastenlijst[[#This Row],[Code]],gastenlijst[[#This Row],[Huisnr aangepast]],gastenlijst[[#This Row],[Yes]])","v":{"$error":"#VALUE!"}},{"$error":"#VALUE!"}]
[12,null,null,null,null,null,null,null,null,null,null,null,null,null," ",{"$f":"BarcodeGenerator!AI17","v":{"$error":"#VALUE!"}},{"$f":"CONCATENATE(gastenlijst[[#This Row],[Post]],gastenlijst[[#This Row],[Code]],gastenlijst[[#This Row],[Huisnr aangepast]],gastenlijst[[#This Row],[Yes]])","v":{"$error":"#VALUE!"}},{"$error":"#VALUE!"}]
[13,null,null,null,null,null,null,null,null,null,null,null,null,null," ",{"$f":"BarcodeGenerator!AI18","v":{"$error":"#VALUE!"}},{"$f":"CONCATENATE(gastenlijst[[#This Row],[Post]],gastenlijst[[#This Row],[Code]],gastenlijst[[#This Row],[Huisnr aangepast]],gastenlijst[[#This Row],[Yes]])","v":{"$error":"#VALUE!"}},{"$error":"#VALUE!"}]
[14,null,null,null,null,null,null,null,null,null,null,null,null,null," ",{"$f":"BarcodeGenerator!AI19","v":{"$error":"#VALUE!"}},{"$f":"CONCATENATE(gastenlijst[[#This Row],[Post]],gastenlijst[[#This Row],[Code]],gastenlijst[[#This Row],[Huisnr aangepast]],gastenlijst[[#This Row],[Yes]])","v":{"$error":"#VALUE!"}},{"$error":"#VALUE!"}]
[15,null,null,null,null,null,null,null,null,null,null,null,null,null," ",{"$f":"BarcodeGenerator!AI20","v":{"$error":"#VALUE!"}},{"$f":"CONCATENATE(gastenlijst[[#This Row],[Post]],gastenlijst[[#This Row],[Code]],gastenlijst[[#This Row],[Huisnr aangepast]],gastenlijst[[#This Row],[Yes]])","v":{"$error":"#VALUE!"}},{"$error":"#VALUE!"}]
[16,null,null,null,null,null,null,null,null,null,null,null,null,null," ",{"$f":"BarcodeGenerator!AI21","v":{"$error":"#VALUE!"}},{"$f":"CONCATENATE(gastenlijst[[#This Row],[Post]],gastenlijst[[#This Row],[Code]],gastenlijst[[#This Row],[Huisnr aangepast]],gastenlijst[[#This Row],[Yes]])","v":{"$error":"#VALUE!"}},{"$error":"#VALUE!"}]
[17,null,null,null,null,null,null,null,null,null,null,null,null,null," ",{"$f":"BarcodeGenerator!AI22","v":{"$error":"#VALUE!"}},{"$f":"CONCATENATE(gastenlijst[[#This Row],[Post]],gastenlijst[[#This Row],[Code]],gastenlijst[[#This Row],[Huisnr aangepast]],gastenlijst[[#This Row],[Yes]])","v":{"$error":"#VALUE!"}},{"$error":"#VALUE!"}]
[18,null,null,null,null,null,null,null,null,null,null,null,null,null," ",{"$f":"BarcodeGenerator!AI23","v":{"$error":"#VALUE!"}},{"$f":"CONCATENATE(gastenlijst[[#This Row],[Post]],gastenlijst[[#This Row],[Code]],gastenlijst[[#This Row],[Huisnr aangepast]],gastenlijst[[#This Row],[Yes]])","v":{"$error":"#VALUE!"}},{"$error":"#VALUE!"}]
[19,null,null,null,null,null,null,null,null,null,null,null,null,null," ",{"$f":"BarcodeGenerator!AI24","v":{"$error":"#VALUE!"}},{"$f":"CONCATENATE(gastenlijst[[#This Row],[Post]],gastenlijst[[#This Row],[Code]],gastenlijst[[#This Row],[Huisnr aangepast]],gastenlijst[[#This Row],[Yes]])","v":{"$error":"#VALUE!"}},{"$error":"#VALUE!"}]
[20,null,null,null,null,null,null,null,null,null,null,null,null,null," ",{"$f":"BarcodeGenerator!AI25","v":{"$error":"#VALUE!"}},{"$f":"CONCATENATE(gastenlijst[[#This Row],[Post]],gastenlijst[[#This Row],[Code]],gastenlijst[[#This Row],[Huisnr aangepast]],gastenlijst[[#This Row],[Yes]])","v":{"$error":"#VALUE!"}},{"$error":"#VALUE!"}]
[21,null,null,null,null,null,null,null,null,null,null,null,null,null," ",{"$f":"BarcodeGenerator!AI26","v":{"$error":"#VALUE!"}},{"$f":"CONCATENATE(gastenlijst[[#This Row],[Post]],gastenlijst[[#This Row],[Code]],gastenlijst[[#This Row],[Huisnr aangepast]],gastenlijst[[#This Row],[Yes]])","v":{"$error":"#VALUE!"}},{"$error":"#VALUE!"}]
[22,null,null,null,null,null,null,null,null,null,null,null,null,null," ",{"$f":"BarcodeGenerator!AI27","v":{"$error":"#VALUE!"}},{"$f":"CONCATENATE(gastenlijst[[#This Row],[Post]],gastenlijst[[#This Row],[Code]],gastenlijst[[#This Row],[Huisnr aangepast]],gastenlijst[[#This Row],[Yes]])","v":{"$error":"#VALUE!"}},{"$error":"#VALUE!"}]
[23,null,null,null,null,null,null,null,null,null,null,null,null,null," ",{"$f":"BarcodeGenerator!AI28","v":{"$error":"#VALUE!"}},{"$f":"CONCATENATE(gastenlijst[[#This Row],[Post]],gastenlijst[[#This Row],[Code]],gastenlijst[[#This Row],[Huisnr aangepast]],gastenlijst[[#This Row],[Yes]])","v":{"$error":"#VALUE!"}},{"$error":"#VALUE!"}]
[24,null,null,null,null,null,null,null,null,null,null,null,null,null," ",{"$f":"BarcodeGenerator!AI29","v":{"$error":"#VALUE!"}},{"$f":"CONCATENATE(gastenlijst[[#This Row],[Post]],gastenlijst[[#This Row],[Code]],gastenlijst[[#This Row],[Huisnr aangepast]],gastenlijst[[#This Row],[Yes]])","v":{"$error":"#VALUE!"}},{"$error":"#VALUE!"}]
[25,null,null,null,null,null,null,null,null,null,null,null,null,null," ",{"$f":"BarcodeGenerator!AI30","v":{"$error":"#VALUE!"}},{"$f":"CONCATENATE(gastenlijst[[#This Row],[Post]],gastenlijst[[#This Row],[Code]],gastenlijst[[#This Row],[Huisnr aangepast]],gastenlijst[[#This Row],[Yes]])","v":{"$error":"#VALUE!"}},{"$error":"#VALUE!"}]
[26,null,null,null,null,null,null,null,null,null,null,null,null,null," ",{"$f":"BarcodeGenerator!AI31","v":{"$error":"#VALUE!"}},{"$f":"CONCATENATE(gastenlijst[[#This Row],[Post]],gastenlijst[[#This Row],[Code]],gastenlijst[[#This Row],[Huisnr aangepast]],gastenlijst[[#This Row],[Yes]])","v":{"$error":"#VALUE!"}},{"$error":"#VALUE!"}]
[27,null,null,null,null,null,null,null,null,null,null,null,null,null," ",{"$f":"BarcodeGenerator!AI32","v":{"$error":"#VALUE!"}},{"$f":"CONCATENATE(gastenlijst[[#This Row],[Post]],gastenlijst[[#This Row],[Code]],gastenlijst[[#This Row],[Huisnr aangepast]],gastenlijst[[#This Row],[Yes]])","v":{"$error":"#VALUE!"}},{"$error":"#VALUE!"}]
[28,null,null,null,null,null,null,null,null,null,null,null,null,null," ",{"$f":"BarcodeGenerator!AI33","v":{"$error":"#VALUE!"}},{"$f":"CONCATENATE(gastenlijst[[#This Row],[Post]],gastenlijst[[#This Row],[Code]],gastenlijst[[#This Row],[Huisnr aangepast]],gastenlijst[[#This Row],[Yes]])","v":{"$error":"#VALUE!"}},{"$error":"#VALUE!"}]
[29,null,null,null,null,null,null,null,null,null,null,null,null,null," ",{"$f":"BarcodeGenerator!AI34","v":{"$error":"#VALUE!"}},{"$f":"CONCATENATE(gastenlijst[[#This Row],[Post]],gastenlijst[[#This Row],[Code]],gastenlijst[[#This Row],[Huisnr aangepast]],gastenlijst[[#This Row],[Yes]])","v":{"$error":"#VALUE!"}},{"$error":"#VALUE!"}]
[30,null,null,null,null,null,null,null,null,null,null,null,null,null," ",{"$f":"BarcodeGenerator!AI35","v":{"$error":"#VALUE!"}},{"$f":"CONCATENATE(gastenlijst[[#This Row],[Post]],gastenlijst[[#This Row],[Code]],gastenlijst[[#This Row],[Huisnr aangepast]],gastenlijst[[#This Row],[Yes]])","v":{"$error":"#VALUE!"}},{"$error":"#VALUE!"}]
[31,null,null,null,null,null,null,null,null,null,null,null,null,null," ",{"$f":"BarcodeGenerator!AI36","v":{"$error":"#VALUE!"}},{"$f":"CONCATENATE(gastenlijst[[#This Row],[Post]],gastenlijst[[#This Row],[Code]],gastenlijst[[#This Row],[Huisnr aangepast]],gastenlijst[[#This Row],[Yes]])","v":{"$error":"#VALUE!"}},{"$error":"#VALUE!"}]
[32,null,null,null,null,null,null,null,null,null,null,null,null,null," ",{"$f":"BarcodeGenerator!AI37","v":{"$error":"#VALUE!"}},{"$f":"CONCATENATE(gastenlijst[[#This Row],[Post]],gastenlijst[[#This Row],[Code]],gastenlijst[[#This Row],[Huisnr aangepast]],gastenlijst[[#This Row],[Yes]])","v":{"$error":"#VALUE!"}},{"$error":"#VALUE!"}]
[33,null,null,null,null,null,null,null,null,null,null,null,null,null," ",{"$f":"BarcodeGenerator!AI38","v":{"$error":"#VALUE!"}},{"$f":"CONCATENATE(gastenlijst[[#This Row],[Post]],gastenlijst[[#This Row],[Code]],gastenlijst[[#This Row],[Huisnr aangepast]],gastenlijst[[#This Row],[Yes]])","v":{"$error":"#VALUE!"}},{"$error":"#VALUE!"}]
[34,null,null,null,null,null,null,null,null,null,null,null,null,null," ",{"$f":"BarcodeGenerator!AI39","v":{"$error":"#VALUE!"}},{"$f":"CONCATENATE(gastenlijst[[#This Row],[Post]],gastenlijst[[#This Row],[Code]],gastenlijst[[#This Row],[Huisnr aangepast]],gastenlijst[[#This Row],[Yes]])","v":{"$error":"#VALUE!"}},{"$error":"#VALUE!"}]
[35,null,null,null,null,null,null,null,null,null,null,null,null,null," ",{"$f":"BarcodeGenerator!AI40","v":{"$error":"#VALUE!"}},{"$f":"CONCATENATE(gastenlijst[[#This Row],[Post]],gastenlijst[[#This Row],[Code]],gastenlijst[[#This Row],[Huisnr aangepast]],gastenlijst[[#This Row],[Yes]])","v":{"$error":"#VALUE!"}},{"$error":"#VALUE!"}]
[36,null,null,null,null,null,null,null,null,null,null,null,null,null," ",{"$f":"BarcodeGenerator!AI41","v":{"$error":"#VALUE!"}},{"$f":"CONCATENATE(gastenlijst[[#This Row],[Post]],gastenlijst[[#This Row],[Code]],gastenlijst[[#This Row],[Huisnr aangepast]],gastenlijst[[#This Row],[Yes]])","v":{"$error":"#VALUE!"}},{"$error":"#VALUE!"}]
[37,null,null,null,null,null,null,null,null,null,null,null,null,null," ",{"$f":"BarcodeGenerator!AI42","v":{"$error":"#VALUE!"}},{"$f":"CONCATENATE(gastenlijst[[#This Row],[Post]],gastenlijst[[#This Row],[Code]],gastenlijst[[#This Row],[Huisnr aangepast]],gastenlijst[[#This Row],[Yes]])","v":{"$error":"#VALUE!"}},{"$error":"#VALUE!"}]
[38,null,null,null,null,null,null,null,null,null,null,null,null,null," ",{"$f":"BarcodeGenerator!AI43","v":{"$error":"#VALUE!"}},{"$f":"CONCATENATE(gastenlijst[[#This Row],[Post]],gastenlijst[[#This Row],[Code]],gastenlijst[[#This Row],[Huisnr aangepast]],gastenlijst[[#This Row],[Yes]])","v":{"$error":"#VALUE!"}},{"$error":"#VALUE!"}]
[39,null,null,null,null,null,null,null,null,null,null,null,null,null," ",{"$f":"BarcodeGenerator!AI44","v":{"$error":"#VALUE!"}},{"$f":"CONCATENATE(gastenlijst[[#This Row],[Post]],gastenlijst[[#This Row],[Code]],gastenlijst[[#This Row],[Huisnr aangepast]],gastenlijst[[#This Row],[Yes]])","v":{"$error":"#VALUE!"}},{"$error":"#VALUE!"}]
[40,null,null,null,null,null,null,null,null,null,null,null,null,null," ",{"$f":"BarcodeGenerator!AI45","v":{"$error":"#VALUE!"}},{"$f":"CONCATENATE(gastenlijst[[#This Row],[Post]],gastenlijst[[#This Row],[Code]],gastenlijst[[#This Row],[Huisnr aangepast]],gastenlijst[[#This Row],[Yes]])","v":{"$error":"#VALUE!"}},{"$error":"#VALUE!"}]
[41,null,null,null,null,null,null,null,null,null,null,null,null,null," ",{"$f":"BarcodeGenerator!AI46","v":{"$error":"#VALUE!"}},{"$f":"CONCATENATE(gastenlijst[[#This Row],[Post]],gastenlijst[[#This Row],[Code]],gastenlijst[[#This Row],[Huisnr aangepast]],gastenlijst[[#This Row],[Yes]])","v":{"$error":"#VALUE!"}},{"$error":"#VALUE!"}]
[42,null,null,null,null,null,null,null,null,null,null,null,null,null," ",{"$f":"BarcodeGenerator!AI47","v":{"$error":"#VALUE!"}},{"$f":"CONCATENATE(gastenlijst[[#This Row],[Post]],gastenlijst[[#This Row],[Code]],gastenlijst[[#This Row],[Huisnr aangepast]],gastenlijst[[#This Row],[Yes]])","v":{"$error":"#VALUE!"}},{"$error":"#VALUE!"}]
[43,null,null,null,null,null,null,null,null,null,null,null,null,null," ",{"$f":"BarcodeGenerator!AI48","v":{"$error":"#VALUE!"}},{"$f":"CONCATENATE(gastenlijst[[#This Row],[Post]],gastenlijst[[#This Row],[Code]],gastenlijst[[#This Row],[Huisnr aangepast]],gastenlijst[[#This Row],[Yes]])","v":{"$error":"#VALUE!"}},{"$error":"#VALUE!"}]
[44,null,null,null,null,null,null,null,null,null,null,null,null,null," ",{"$f":"BarcodeGenerator!AI49","v":{"$error":"#VALUE!"}},{"$f":"CONCATENATE(gastenlijst[[#This Row],[Post]],gastenlijst[[#This Row],[Code]],gastenlijst[[#This Row],[Huisnr aangepast]],gastenlijst[[#This Row],[Yes]])","v":{"$error":"#VALUE!"}},{"$error":"#VALUE!"}]
[45,null,null,null,null,null,null,null,null,null,null,null,null,null," ",{"$f":"BarcodeGenerator!AI50","v":{"$error":"#VALUE!"}},{"$f":"CONCATENATE(gastenlijst[[#This Row],[Post]],gastenlijst[[#This Row],[Code]],gastenlijst[[#This Row],[Huisnr aangepast]],gastenlijst[[#This Row],[Yes]])","v":{"$error":"#VALUE!"}},{"$error":"#VALUE!"}]
[46,null,null,null,null,null,null,null,null,null,null,null,null,null," ",{"$f":"BarcodeGenerator!AI51","v":{"$error":"#VALUE!"}},{"$f":"CONCATENATE(gastenlijst[[#This Row],[Post]],gastenlijst[[#This Row],[Code]],gastenlijst[[#This Row],[Huisnr aangepast]],gastenlijst[[#This Row],[Yes]])","v":{"$error":"#VALUE!"}},{"$error":"#VALUE!"}]
[47,null,null,null,null,null,null,null,null,null,null,null,null,null," ",{"$f":"BarcodeGenerator!AI52","v":{"$error":"#VALUE!"}},{"$f":"CONCATENATE(gastenlijst[[#This Row],[Post]],gastenlijst[[#This Row],[Code]],gastenlijst[[#This Row],[Huisnr aangepast]],gastenlijst[[#This Row],[Yes]])","v":{"$error":"#VALUE!"}},{"$error":"#VALUE!"}]
[48,null,null,null,null,null,null,null,null,null,null,null,null,null," ",{"$f":"BarcodeGenerator!AI53","v":{"$error":"#VALUE!"}},{"$f":"CONCATENATE(gastenlijst[[#This Row],[Post]],gastenlijst[[#This Row],[Code]],gastenlijst[[#This Row],[Huisnr aangepast]],gastenlijst[[#This Row],[Yes]])","v":{"$error":"#VALUE!"}},{"$error":"#VALUE!"}]
[49,null,null,null,null,null,null,null,null,null,null,null,null,null," ",{"$f":"BarcodeGenerator!AI54","v":{"$error":"#VALUE!"}},{"$f":"CONCATENATE(gastenlijst[[#This Row],[Post]],gastenlijst[[#This Row],[Code]],gastenlijst[[#This Row],[Huisnr aangepast]],gastenlijst[[#This Row],[Yes]])","v":{"$error":"#VALUE!"}},{"$error":"#VALUE!"}]
[50,null,null,null,null,null,null,null,null,null,null,null,null,null," ",{"$f":"BarcodeGenerator!AI55","v":{"$error":"#VALUE!"}},{"$f":"CONCATENATE(gastenlijst[[#This Row],[Post]],gastenlijst[[#This Row],[Code]],gastenlijst[[#This Row],[Huisnr aangepast]],gastenlijst[[#This Row],[Yes]])","v":{"$error":"#VALUE!"}},{"$error":"#VALUE!"}]
[51,null,null,null,null,null,null,null,null,null,null,null,null,null," ",{"$f":"BarcodeGenerator!AI56","v":{"$error":"#VALUE!"}},{"$f":"CONCATENATE(gastenlijst[[#This Row],[Post]],gastenlijst[[#This Row],[Code]],gastenlijst[[#This Row],[Huisnr aangepast]],gastenlijst[[#This Row],[Yes]])","v":{"$error":"#VALUE!"}},{"$error":"#VALUE!"}]
[52,null,null,null,null,null,null,null,null,null,null,null,null,null," ",{"$f":"BarcodeGenerator!AI57","v":{"$error":"#VALUE!"}},{"$f":"CONCATENATE(gastenlijst[[#This Row],[Post]],gastenlijst[[#This Row],[Code]],gastenlijst[[#This Row],[Huisnr aangepast]],gastenlijst[[#This Row],[Yes]])","v":{"$error":"#VALUE!"}},{"$error":"#VALUE!"}]
[53,null,null,null,null,null,null,null,null,null,null,null,null,null," ",{"$f":"BarcodeGenerator!AI58","v":{"$error":"#VALUE!"}},{"$f":"CONCATENATE(gastenlijst[[#This Row],[Post]],gastenlijst[[#This Row],[Code]],gastenlijst[[#This Row],[Huisnr aangepast]],gastenlijst[[#This Row],[Yes]])","v":{"$error":"#VALUE!"}},{"$error":"#VALUE!"}]
[54,null,null,null,null,null,null,null,null,null,null,null,null,null," ",{"$f":"BarcodeGenerator!AI59","v":{"$error":"#VALUE!"}},{"$f":"CONCATENATE(gastenlijst[[#This Row],[Post]],gastenlijst[[#This Row],[Code]],gastenlijst[[#This Row],[Huisnr aangepast]],gastenlijst[[#This Row],[Yes]])","v":{"$error":"#VALUE!"}},{"$error":"#VALUE!"}]
[55,null,null,null,null,null,null,null,null,null,null,null,null,null," ",{"$f":"BarcodeGenerator!AI60","v":{"$error":"#VALUE!"}},{"$f":"CONCATENATE(gastenlijst[[#This Row],[Post]],gastenlijst[[#This Row],[Code]],gastenlijst[[#This Row],[Huisnr aangepast]],gastenlijst[[#This Row],[Yes]])","v":{"$error":"#VALUE!"}},{"$error":"#VALUE!"}]
[56,null,null,null,null,null,null,null,null,null,null,null,null,null," ",{"$f":"BarcodeGenerator!AI61","v":{"$error":"#VALUE!"}},{"$f":"CONCATENATE(gastenlijst[[#This Row],[Post]],gastenlijst[[#This Row],[Code]],gastenlijst[[#This Row],[Huisnr aangepast]],gastenlijst[[#This Row],[Yes]])","v":{"$error":"#VALUE!"}},{"$error":"#VALUE!"}]
[57,null,null,null,null,null,null,null,null,null,null,null,null,null," ",{"$f":"BarcodeGenerator!AI62","v":{"$error":"#VALUE!"}},{"$f":"CONCATENATE(gastenlijst[[#This Row],[Post]],gastenlijst[[#This Row],[Code]],gastenlijst[[#This Row],[Huisnr aangepast]],gastenlijst[[#This Row],[Yes]])","v":{"$error":"#VALUE!"}},{"$error":"#VALUE!"}]
[58,null,null,null,null,null,null,null,null,null,null,null,null,null," ",{"$f":"BarcodeGenerator!AI63","v":{"$error":"#VALUE!"}},{"$f":"CONCATENATE(gastenlijst[[#This Row],[Post]],gastenlijst[[#This Row],[Code]],gastenlijst[[#This Row],[Huisnr aangepast]],gastenlijst[[#This Row],[Yes]])","v":{"$error":"#VALUE!"}},{"$error":"#VALUE!"}]
[59,null,null,null,null,null,null,null,null,null,null,null,null,null," ",{"$f":"BarcodeGenerator!AI64","v":{"$error":"#VALUE!"}},{"$f":"CONCATENATE(gastenlijst[[#This Row],[Post]],gastenlijst[[#This Row],[Code]],gastenlijst[[#This Row],[Huisnr aangepast]],gastenlijst[[#This Row],[Yes]])","v":{"$error":"#VALUE!"}},{"$error":"#VALUE!"}]
[60,null,null,null,null,null,null,null,null,null,null,null,null,null," ",{"$f":"BarcodeGenerator!AI65","v":{"$error":"#VALUE!"}},{"$f":"CONCATENATE(gastenlijst[[#This Row],[Post]],gastenlijst[[#This Row],[Code]],gastenlijst[[#This Row],[Huisnr aangepast]],gastenlijst[[#This Row],[Yes]])","v":{"$error":"#VALUE!"}},{"$error":"#VALUE!"}]
[61,null,null,null,null,null,null,null,null,null,null,null,null,null," ",{"$f":"BarcodeGenerator!AI66","v":{"$error":"#VALUE!"}},{"$f":"CONCATENATE(gastenlijst[[#This Row],[Post]],gastenlijst[[#This Row],[Code]],gastenlijst[[#This Row],[Huisnr aangepast]],gastenlijst[[#This Row],[Yes]])","v":{"$error":"#VALUE!"}},{"$error":"#VALUE!"}]
[62,null,null,null,null,null,null,null,null,null,null,null,null,null," ",{"$f":"BarcodeGenerator!AI67","v":{"$error":"#VALUE!"}},{"$f":"CONCATENATE(gastenlijst[[#This Row],[Post]],gastenlijst[[#This Row],[Code]],gastenlijst[[#This Row],[Huisnr aangepast]],gastenlijst[[#This Row],[Yes]])","v":{"$error":"#VALUE!"}},{"$error":"#VALUE!"}]
[63,null,null,null,null,null,null,null,null,null,null,null,null,null," ",{"$f":"BarcodeGenerator!AI68","v":{"$error":"#VALUE!"}},{"$f":"CONCATENATE(gastenlijst[[#This Row],[Post]],gastenlijst[[#This Row],[Code]],gastenlijst[[#This Row],[Huisnr aangepast]],gastenlijst[[#This Row],[Yes]])","v":{"$error":"#VALUE!"}},{"$error":"#VALUE!"}]
[64,null,null,null,null,null,null,null,null,null,null,null,null,null," ",{"$f":"BarcodeGenerator!AI69","v":{"$error":"#VALUE!"}},{"$f":"CONCATENATE(gastenlijst[[#This Row],[Post]],gastenlijst[[#This Row],[Code]],gastenlijst[[#This Row],[Huisnr aangepast]],gastenlijst[[#This Row],[Yes]])","v":{"$error":"#VALUE!"}},{"$error":"#VALUE!"}]
[65,null,null,null,null,null,null,null,null,null,null,null,null,null," ",{"$f":"BarcodeGenerator!AI70","v":{"$error":"#VALUE!"}},{"$f":"CONCATENATE(gastenlijst[[#This Row],[Post]],gastenlijst[[#This Row],[Code]],gastenlijst[[#This Row],[Huisnr aangepast]],gastenlijst[[#This Row],[Yes]])","v":{"$error":"#VALUE!"}},{"$f":"CHOOSE(LEN(E70),E70&\" \",E70&\" \",E70&\" \")","v":{"$error":"#VALUE!"}}]
[66,null,null,null,null,null,null,null,null,null,null,null,null,null," ",{"$f":"BarcodeGenerator!AI71","v":{"$error":"#VALUE!"}},{"$f":"CONCATENATE(gastenlijst[[#This Row],[Post]],gastenlijst[[#This Row],[Code]],gastenlijst[[#This Row],[Huisnr aangepast]],gastenlijst[[#This Row],[Yes]])","v":{"$error":"#VALUE!"}},{"$error":"#VALUE!"}]
[67,null,null,null,null,null,null,null,null,null,null,null,null,null," ",{"$f":"BarcodeGenerator!AI72","v":{"$error":"#VALUE!"}},{"$f":"CONCATENATE(gastenlijst[[#This Row],[Post]],gastenlijst[[#This Row],[Code]],gastenlijst[[#This Row],[Huisnr aangepast]],gastenlijst[[#This Row],[Yes]])","v":{"$error":"#VALUE!"}},{"$error":"#VALUE!"}]
[68,null,null,null,null,null,null,null,null,null,null,null,null,null," ",{"$f":"BarcodeGenerator!AI73","v":{"$error":"#VALUE!"}},{"$f":"CONCATENATE(gastenlijst[[#This Row],[Post]],gastenlijst[[#This Row],[Code]],gastenlijst[[#This Row],[Huisnr aangepast]],gastenlijst[[#This Row],[Yes]])","v":{"$error":"#VALUE!"}},{"$error":"#VALUE!"}]
[69,null,null,null,null,null,null,null,null,null,null,null,null,null," ",{"$f":"BarcodeGenerator!AI74","v":{"$error":"#VALUE!"}},{"$f":"CONCATENATE(gastenlijst[[#This Row],[Post]],gastenlijst[[#This Row],[Code]],gastenlijst[[#This Row],[Huisnr aangepast]],gastenlijst[[#This Row],[Yes]])","v":{"$error":"#VALUE!"}},{"$error":"#VALUE!"}]
[70,null,null,null,null,null,null,null,null,null,null,null,null,null," ",{"$f":"BarcodeGenerator!AI75","v":{"$error":"#VALUE!"}},{"$f":"CONCATENATE(gastenlijst[[#This Row],[Post]],gastenlijst[[#This Row],[Code]],gastenlijst[[#This Row],[Huisnr aangepast]],gastenlijst[[#This Row],[Yes]])","v":{"$error":"#VALUE!"}},{"$error":"#VALUE!"}]
[71,null,null,null,null,null,null,null,null,null,null,null,null,null," ",{"$f":"BarcodeGenerator!AI76","v":{"$error":"#VALUE!"}},{"$f":"CONCATENATE(gastenlijst[[#This Row],[Post]],gastenlijst[[#This Row],[Code]],gastenlijst[[#This Row],[Huisnr aangepast]],gastenlijst[[#This Row],[Yes]])","v":{"$error":"#VALUE!"}},{"$error":"#VALUE!"}]
[72,null,null,null,null,null,null,null,null,null,null,null,null,null," ",{"$f":"BarcodeGenerator!AI77","v":{"$error":"#VALUE!"}},{"$f":"CONCATENATE(gastenlijst[[#This Row],[Post]],gastenlijst[[#This Row],[Code]],gastenlijst[[#This Row],[Huisnr aangepast]],gastenlijst[[#This Row],[Yes]])","v":{"$error":"#VALUE!"}},{"$error":"#VALUE!"}]
[73,null,null,null,null,null,null,null,null,null,null,null,null,null," ",{"$f":"BarcodeGenerator!AI78","v":{"$error":"#VALUE!"}},{"$f":"CONCATENATE(gastenlijst[[#This Row],[Post]],gastenlijst[[#This Row],[Code]],gastenlijst[[#This Row],[Huisnr aangepast]],gastenlijst[[#This Row],[Yes]])","v":{"$error":"#VALUE!"}},{"$error":"#VALUE!"}]
[74,null,null,null,null,null,null,null,null,null,null,null,null,null," ",{"$f":"BarcodeGenerator!AI79","v":{"$error":"#VALUE!"}},{"$f":"CONCATENATE(gastenlijst[[#This Row],[Post]],gastenlijst[[#This Row],[Code]],gastenlijst[[#This Row],[Huisnr aangepast]],gastenlijst[[#This Row],[Yes]])","v":{"$error":"#VALUE!"}},{"$error":"#VALUE!"}]
[75,null,null,null,null,null,null,null,null,null,null,null,null,null," ",{"$f":"BarcodeGenerator!AI80","v":{"$error":"#VALUE!"}},{"$f":"CONCATENATE(gastenlijst[[#This Row],[Post]],gastenlijst[[#This Row],[Code]],gastenlijst[[#This Row],[Huisnr aangepast]],gastenlijst[[#This Row],[Yes]])","v":{"$error":"#VALUE!"}},{"$error":"#VALUE!"}]
[76,null,null,null,null,null,null,null,null,null,null,null,null,null," ",{"$f":"BarcodeGenerator!AI81","v":{"$error":"#VALUE!"}},{"$f":"CONCATENATE(gastenlijst[[#This Row],[Post]],gastenlijst[[#This Row],[Code]],gastenlijst[[#This Row],[Huisnr aangepast]],gastenlijst[[#This Row],[Yes]])","v":{"$error":"#VALUE!"}},{"$error":"#VALUE!"}]
[77,null,null,null,null,null,null,null,null,null,null,null,null,null," ",{"$f":"BarcodeGenerator!AI82","v":{"$error":"#VALUE!"}},{"$f":"CONCATENATE(gastenlijst[[#This Row],[Post]],gastenlijst[[#This Row],[Code]],gastenlijst[[#This Row],[Huisnr aangepast]],gastenlijst[[#This Row],[Yes]])","v":{"$error":"#VALUE!"}},{"$error":"#VALUE!"}]
[78,null,null,null,null,null,null,null,null,null,null,null,null,null," ",{"$f":"BarcodeGenerator!AI83","v":{"$error":"#VALUE!"}},{"$f":"CONCATENATE(gastenlijst[[#This Row],[Post]],gastenlijst[[#This Row],[Code]],gastenlijst[[#This Row],[Huisnr aangepast]],gastenlijst[[#This Row],[Yes]])","v":{"$error":"#VALUE!"}},{"$error":"#VALUE!"}]
[79,null,null,null,null,null,null,null,null,null,null,null,null,null," ",{"$f":"BarcodeGenerator!AI84","v":{"$error":"#VALUE!"}},{"$f":"CONCATENATE(gastenlijst[[#This Row],[Post]],gastenlijst[[#This Row],[Code]],gastenlijst[[#This Row],[Huisnr aangepast]],gastenlijst[[#This Row],[Yes]])","v":{"$error":"#VALUE!"}},{"$error":"#VALUE!"}]
[80,null,null,null,null,null,null,null,null,null,null,null,null,null," ",{"$f":"BarcodeGenerator!AI85","v":{"$error":"#VALUE!"}},{"$f":"CONCATENATE(gastenlijst[[#This Row],[Post]],gastenlijst[[#This Row],[Code]],gastenlijst[[#This Row],[Huisnr aangepast]],gastenlijst[[#This Row],[Yes]])","v":{"$error":"#VALUE!"}},{"$error":"#VALUE!"}]
[81,null,null,null,null,null,null,null,null,null,null,null,null,null," ",{"$f":"BarcodeGenerator!AI86","v":{"$error":"#VALUE!"}},{"$f":"CONCATENATE(gastenlijst[[#This Row],[Post]],gastenlijst[[#This Row],[Code]],gastenlijst[[#This Row],[Huisnr aangepast]],gastenlijst[[#This Row],[Yes]])","v":{"$error":"#VALUE!"}},{"$error":"#VALUE!"}]
[82,null,null,null,null,null,null,null,null,null,null,null,null,null," ",{"$f":"BarcodeGenerator!AI87","v":{"$error":"#VALUE!"}},{"$f":"CONCATENATE(gastenlijst[[#This Row],[Post]],gastenlijst[[#This Row],[Code]],gastenlijst[[#This Row],[Huisnr aangepast]],gastenlijst[[#This Row],[Yes]])","v":{"$error":"#VALUE!"}},{"$error":"#VALUE!"}]
[83,null,null,null,null,null,null,null,null,null,null,null,null,null," ",{"$f":"BarcodeGenerator!AI88","v":{"$error":"#VALUE!"}},{"$f":"CONCATENATE(gastenlijst[[#This Row],[Post]],gastenlijst[[#This Row],[Code]],gastenlijst[[#This Row],[Huisnr aangepast]],gastenlijst[[#This Row],[Yes]])","v":{"$error":"#VALUE!"}},{"$error":"#VALUE!"}]
[84,null,null,null,null,null,null,null,null,null,null,null,null,null," ",{"$f":"BarcodeGenerator!AI89","v":{"$error":"#VALUE!"}},{"$f":"CONCATENATE(gastenlijst[[#This Row],[Post]],gastenlijst[[#This Row],[Code]],gastenlijst[[#This Row],[Huisnr aangepast]],gastenlijst[[#This Row],[Yes]])","v":{"$error":"#VALUE!"}},{"$error":"#VALUE!"}]
[85,null,null,null,null,null,null,null,null,null,null,null,null,null," ",{"$f":"BarcodeGenerator!AI90","v":{"$error":"#VALUE!"}},{"$f":"CONCATENATE(gastenlijst[[#This Row],[Post]],gastenlijst[[#This Row],[Code]],gastenlijst[[#This Row],[Huisnr aangepast]],gastenlijst[[#This Row],[Yes]])","v":{"$error":"#VALUE!"}},{"$error":"#VALUE!"}]
[86,null,null,null,null,null,null,null,null,null,null,null,null,null," ",{"$f":"BarcodeGenerator!AI91","v":{"$error":"#VALUE!"}},{"$f":"CONCATENATE(gastenlijst[[#This Row],[Post]],gastenlijst[[#This Row],[Code]],gastenlijst[[#This Row],[Huisnr aangepast]],gastenlijst[[#This Row],[Yes]])","v":{"$error":"#VALUE!"}},{"$error":"#VALUE!"}]
[87,null,null,null,null,null,null,null,null,null,null,null,null,null," ",{"$f":"BarcodeGenerator!AI92","v":{"$error":"#VALUE!"}},{"$f":"CONCATENATE(gastenlijst[[#This Row],[Post]],gastenlijst[[#This Row],[Code]],gastenlijst[[#This Row],[Huisnr aangepast]],gastenlijst[[#This Row],[Yes]])","v":{"$error":"#VALUE!"}},{"$error":"#VALUE!"}]
[88,null,null,null,null,null,null,null,null,null,null,null,null,null," ",{"$f":"BarcodeGenerator!AI93","v":{"$error":"#VALUE!"}},{"$f":"CONCATENATE(gastenlijst[[#This Row],[Post]],gastenlijst[[#This Row],[Code]],gastenlijst[[#This Row],[Huisnr aangepast]],gastenlijst[[#This Row],[Yes]])","v":{"$error":"#VALUE!"}},{"$error":"#VALUE!"}]
[90,null,null,null,null,null,null,null,null,null,null,null,null,null," ",{"$f":"BarcodeGenerator!AI94","v":{"$error":"#VALUE!"}},{"$f":"CONCATENATE(gastenlijst[[#This Row],[Post]],gastenlijst[[#This Row],[Code]],gastenlijst[[#This Row],[Huisnr aangepast]],gastenlijst[[#This Row],[Yes]])","v":{"$error":"#VALUE!"}},{"$error":"#VALUE!"}]
[91,null,null,null,null,null,null,null,null,null,null,null,null,null," ",{"$f":"BarcodeGenerator!AI95","v":{"$error":"#VALUE!"}},{"$f":"CONCATENATE(gastenlijst[[#This Row],[Post]],gastenlijst[[#This Row],[Code]],gastenlijst[[#This Row],[Huisnr aangepast]],gastenlijst[[#This Row],[Yes]])","v":{"$error":"#VALUE!"}},{"$error":"#VALUE!"}]
[92,null,null,null,null,null,null,null,null,null,null,null,null,null," ",{"$f":"BarcodeGenerator!AI96","v":{"$error":"#VALUE!"}},{"$f":"CONCATENATE(gastenlijst[[#This Row],[Post]],gastenlijst[[#This Row],[Code]],gastenlijst[[#This Row],[Huisnr aangepast]],gastenlijst[[#This Row],[Yes]])","v":{"$error":"#VALUE!"}},{"$error":"#VALUE!"}]
[93,null,null,null,null,null,null,null,null,null,null,null,null,null," ",{"$f":"BarcodeGenerator!AI97","v":{"$error":"#VALUE!"}},{"$f":"CONCATENATE(gastenlijst[[#This Row],[Post]],gastenlijst[[#This Row],[Code]],gastenlijst[[#This Row],[Huisnr aangepast]],gastenlijst[[#This Row],[Yes]])","v":{"$error":"#VALUE!"}},{"$error":"#VALUE!"}]
[94,null,null,null,null,null,null,null,null,null,null,null,null,null," ",{"$f":"BarcodeGenerator!AI98","v":{"$error":"#VALUE!"}},{"$f":"CONCATENATE(gastenlijst[[#This Row],[Post]],gastenlijst[[#This Row],[Code]],gastenlijst[[#This Row],[Huisnr aangepast]],gastenlijst[[#This Row],[Yes]])","v":{"$error":"#VALUE!"}},{"$error":"#VALUE!"}]
[95,null,null,null,null,null,null,null,null,null,null,null,null,null," ",{"$f":"BarcodeGenerator!AI99","v":{"$error":"#VALUE!"}},{"$f":"CONCATENATE(gastenlijst[[#This Row],[Post]],gastenlijst[[#This Row],[Code]],gastenlijst[[#This Row],[Huisnr aangepast]],gastenlijst[[#This Row],[Yes]])","v":{"$error":"#VALUE!"}},{"$error":"#VALUE!"}]
[96,null,null,null,null,null,null,null,null,null,null,null,null,null," ",{"$f":"BarcodeGenerator!AI100","v":{"$error":"#VALUE!"}},{"$f":"CONCATENATE(gastenlijst[[#This Row],[Post]],gastenlijst[[#This Row],[Code]],gastenlijst[[#This Row],[Huisnr aangepast]],gastenlijst[[#This Row],[Yes]])","v":{"$error":"#VALUE!"}},{"$error":"#VALUE!"}]
[97,null,null,null,null,null,null,null,null,null,null,null,null,null," ",{"$f":"BarcodeGenerator!AI101","v":{"$error":"#VALUE!"}},{"$f":"CONCATENATE(gastenlijst[[#This Row],[Post]],gastenlijst[[#This Row],[Code]],gastenlijst[[#This Row],[Huisnr aangepast]],gastenlijst[[#This Row],[Yes]])","v":{"$error":"#VALUE!"}},{"$error":"#VALUE!"}]
[98,null,null,null,null,null,null,null,null,null,null,null,null,null," ",{"$f":"BarcodeGenerator!AI102","v":{"$error":"#VALUE!"}},{"$f":"CONCATENATE(gastenlijst[[#This Row],[Post]],gastenlijst[[#This Row],[Code]],gastenlijst[[#This Row],[Huisnr aangepast]],gastenlijst[[#This Row],[Yes]])","v":{"$error":"#VALUE!"}},{"$error":"#VALUE!"}]
[99,null,null,null,null,null,null,null,null,null,null,null,null,null," ",{"$f":"BarcodeGenerator!AI103","v":{"$error":"#VALUE!"}},{"$f":"CONCATENATE(gastenlijst[[#This Row],[Post]],gastenlijst[[#This Row],[Code]],gastenlijst[[#This Row],[Huisnr aangepast]],gastenlijst[[#This Row],[Yes]])","v":{"$error":"#VALUE!"}},{"$error":"#VALUE!"}]
[100,null,null,null,null,null,null,null,null,null,null,null,null,null," ",{"$f":"BarcodeGenerator!AI104","v":{"$error":"#VALUE!"}},{"$f":"CONCATENATE(gastenlijst[[#This Row],[Post]],gastenlijst[[#This Row],[Code]],gastenlijst[[#This Row],[Huisnr aangepast]],gastenlijst[[#This Row],[Yes]])","v":{"$error":"#VALUE!"}},{"$error":"#VALUE!"}]
[101,null,null,null,null,null,null,null,null,null,null,null,null,null," ",{"$f":"BarcodeGenerator!AI105","v":{"$error":"#VALUE!"}},{"$f":"CONCATENATE(gastenlijst[[#This Row],[Post]],gastenlijst[[#This Row],[Code]],gastenlijst[[#This Row],[Huisnr aangepast]],gastenlijst[[#This Row],[Yes]])","v":{"$error":"#VALUE!"}},{"$error":"#VALUE!"}]
[102,null,null,null,null,null,null,null,null,null,null,null,null,null," ",{"$f":"BarcodeGenerator!AI106","v":{"$error":"#VALUE!"}},{"$f":"CONCATENATE(gastenlijst[[#This Row],[Post]],gastenlijst[[#This Row],[Code]],gastenlijst[[#This Row],[Huisnr aangepast]],gastenlijst[[#This Row],[Yes]])","v":{"$error":"#VALUE!"}},{"$error":"#VALUE!"}]
[103,null,null,null,null,null,null,null,null,null,null,null,null,null," ",{"$f":"BarcodeGenerator!AI107","v":{"$error":"#VALUE!"}},{"$f":"CONCATENATE(gastenlijst[[#This Row],[Post]],gastenlijst[[#This Row],[Code]],gastenlijst[[#This Row],[Huisnr aangepast]],gastenlijst[[#This Row],[Yes]])","v":{"$error":"#VALUE!"}},{"$error":"#VALUE!"}]
[104,null,null,null,null,null,null,null,null,null,null,null,null,null," ",{"$f":"BarcodeGenerator!AI108","v":{"$error":"#VALUE!"}},{"$f":"CONCATENATE(gastenlijst[[#This Row],[Post]],gastenlijst[[#This Row],[Code]],gastenlijst[[#This Row],[Huisnr aangepast]],gastenlijst[[#This Row],[Yes]])","v":{"$error":"#VALUE!"}},{"$error":"#VALUE!"}]
[105,null,null,null,null,null,null,null,null,null,null,null,null,null," ",{"$f":"BarcodeGenerator!AI109","v":{"$error":"#VALUE!"}},{"$f":"CONCATENATE(gastenlijst[[#This Row],[Post]],gastenlijst[[#This Row],[Code]],gastenlijst[[#This Row],[Huisnr aangepast]],gastenlijst[[#This Row],[Yes]])","v":{"$error":"#VALUE!"}},{"$error":"#VALUE!"}]
[106,null,null,null,null,null,null,null,null,null,null,null,null,null," ",{"$f":"BarcodeGenerator!AI110","v":{"$error":"#VALUE!"}},{"$f":"CONCATENATE(gastenlijst[[#This Row],[Post]],gastenlijst[[#This Row],[Code]],gastenlijst[[#This Row],[Huisnr aangepast]],gastenlijst[[#This Row],[Yes]])","v":{"$error":"#VALUE!"}},{"$error":"#VALUE!"}]
[107,null,null,null,null,null,null,null,null,null,null,null,null,null," ",{"$f":"BarcodeGenerator!AI111","v":{"$error":"#VALUE!"}},{"$f":"CONCATENATE(gastenlijst[[#This Row],[Post]],gastenlijst[[#This Row],[Code]],gastenlijst[[#This Row],[Huisnr aangepast]],gastenlijst[[#This Row],[Yes]])","v":{"$error":"#VALUE!"}},{"$error":"#VALUE!"}]
[108,null,null,null,null,null,null,null,null,null,null,null,null,null," ",{"$f":"BarcodeGenerator!AI112","v":{"$error":"#VALUE!"}},{"$f":"CONCATENATE(gastenlijst[[#This Row],[Post]],gastenlijst[[#This Row],[Code]],gastenlijst[[#This Row],[Huisnr aangepast]],gastenlijst[[#This Row],[Yes]])","v":{"$error":"#VALUE!"}},{"$error":"#VALUE!"}]
[109,null,null,null,null,null,null,null,null,null,null,null,null,null," ",{"$f":"BarcodeGenerator!AI113","v":{"$error":"#VALUE!"}},{"$f":"CONCATENATE(gastenlijst[[#This Row],[Post]],gastenlijst[[#This Row],[Code]],gastenlijst[[#This Row],[Huisnr aangepast]],gastenlijst[[#This Row],[Yes]])","v":{"$error":"#VALUE!"}},{"$error":"#VALUE!"}]
[110,null,null,null,null,null,null,null,null,null,null,null,null,null," ",{"$f":"BarcodeGenerator!AI114","v":{"$error":"#VALUE!"}},{"$f":"CONCATENATE(gastenlijst[[#This Row],[Post]],gastenlijst[[#This Row],[Code]],gastenlijst[[#This Row],[Huisnr aangepast]],gastenlijst[[#This Row],[Yes]])","v":{"$error":"#VALUE!"}},{"$error":"#VALUE!"}]
[111,null,null,null,null,null,null,null,null,null,null,null,null,null," ",{"$f":"BarcodeGenerator!AI115","v":{"$error":"#VALUE!"}},{"$f":"CONCATENATE(gastenlijst[[#This Row],[Post]],gastenlijst[[#This Row],[Code]],gastenlijst[[#This Row],[Huisnr aangepast]],gastenlijst[[#This Row],[Yes]])","v":{"$error":"#VALUE!"}},{"$error":"#VALUE!"}]
[112,null,null,null,null,null,null,null,null,null,null,null,null,null," ",{"$f":"BarcodeGenerator!AI116","v":{"$error":"#VALUE!"}},{"$f":"CONCATENATE(gastenlijst[[#This Row],[Post]],gastenlijst[[#This Row],[Code]],gastenlijst[[#This Row],[Huisnr aangepast]],gastenlijst[[#This Row],[Yes]])","v":{"$error":"#VALUE!"}},{"$error":"#VALUE!"}]
[113,null,null,null,null,null,null,null,null,null,null,null,null,null," ",{"$f":"BarcodeGenerator!AI117","v":{"$error":"#VALUE!"}},{"$f":"CONCATENATE(gastenlijst[[#This Row],[Post]],gastenlijst[[#This Row],[Code]],gastenlijst[[#This Row],[Huisnr aangepast]],gastenlijst[[#This Row],[Yes]])","v":{"$error":"#VALUE!"}},{"$error":"#VALUE!"}]
[114,null,null,null,null,null,null,null,null,null,null,null,null,null," ",{"$f":"BarcodeGenerator!AI118","v":{"$error":"#VALUE!"}},{"$f":"CONCATENATE(gastenlijst[[#This Row],[Post]],gastenlijst[[#This Row],[Code]],gastenlijst[[#This Row],[Huisnr aangepast]],gastenlijst[[#This Row],[Yes]])","v":{"$error":"#VALUE!"}},{"$error":"#VALUE!"}]
[115,null,null,null,null,null,null,null,null,null,null,null,null,null," ",{"$f":"BarcodeGenerator!AI119","v":{"$error":"#VALUE!"}},{"$f":"CONCATENATE(gastenlijst[[#This Row],[Post]],gastenlijst[[#This Row],[Code]],gastenlijst[[#This Row],[Huisnr aangepast]],gastenlijst[[#This Row],[Yes]])","v":{"$error":"#VALUE!"}},{"$error":"#VALUE!"}]
[116,null,null,null,null,null,null,null,null,null,null,null,null,null," ",{"$f":"BarcodeGenerator!AI120","v":{"$error":"#VALUE!"}},{"$f":"CONCATENATE(gastenlijst[[#This Row],[Post]],gastenlijst[[#This Row],[Code]],gastenlijst[[#This Row],[Huisnr aangepast]],gastenlijst[[#This Row],[Yes]])","v":{"$error":"#VALUE!"}},{"$error":"#VALUE!"}]
[117,null,null,null,null,null,null,null,null,null,null,null,null,null," ",{"$f":"BarcodeGenerator!AI121","v":{"$error":"#VALUE!"}},{"$f":"CONCATENATE(gastenlijst[[#This Row],[Post]],gastenlijst[[#This Row],[Code]],gastenlijst[[#This Row],[Huisnr aangepast]],gastenlijst[[#This Row],[Yes]])","v":{"$error":"#VALUE!"}},{"$error":"#VALUE!"}]
[118,null,null,null,null,null,null,null,null,null,null,null,null,null," ",{"$f":"BarcodeGenerator!AI122","v":{"$error":"#VALUE!"}},{"$f":"CONCATENATE(gastenlijst[[#This Row],[Post]],gastenlijst[[#This Row],[Code]],gastenlijst[[#This Row],[Huisnr aangepast]],gastenlijst[[#This Row],[Yes]])","v":{"$error":"#VALUE!"}},{"$error":"#VALUE!"}]
[119,null,null,null,null,null,null,null,null,null,null,null,null,null," ",{"$f":"BarcodeGenerator!AI123","v":{"$error":"#VALUE!"}},{"$f":"CONCATENATE(gastenlijst[[#This Row],[Post]],gastenlijst[[#This Row],[Code]],gastenlijst[[#This Row],[Huisnr aangepast]],gastenlijst[[#This Row],[Yes]])","v":{"$error":"#VALUE!"}},{"$error":"#VALUE!"}]
[120,null,null,null,null,null,null,null,null,null,null,null,null,null," ",{"$f":"BarcodeGenerator!AI124","v":{"$error":"#VALUE!"}},{"$f":"CONCATENATE(gastenlijst[[#This Row],[Post]],gastenlijst[[#This Row],[Code]],gastenlijst[[#This Row],[Huisnr aangepast]],gastenlijst[[#This Row],[Yes]])","v":{"$error":"#VALUE!"}},{"$error":"#VALUE!"}]
[121,null,null,null,null,null,null,null,null,null,null,null,null,null," ",{"$f":"BarcodeGenerator!AI125","v":{"$error":"#VALUE!"}},{"$f":"CONCATENATE(gastenlijst[[#This Row],[Post]],gastenlijst[[#This Row],[Code]],gastenlijst[[#This Row],[Huisnr aangepast]],gastenlijst[[#This Row],[Yes]])","v":{"$error":"#VALUE!"}},{"$error":"#VALUE!"}]
[122,null,null,null,null,null,null,null,null,null,null,null,null,null," ",{"$f":"BarcodeGenerator!AI126","v":{"$error":"#VALUE!"}},{"$f":"CONCATENATE(gastenlijst[[#This Row],[Post]],gastenlijst[[#This Row],[Code]],gastenlijst[[#This Row],[Huisnr aangepast]],gastenlijst[[#This Row],[Yes]])","v":{"$error":"#VALUE!"}},{"$error":"#VALUE!"}]
[123,null,null,null,null,null,null,null,null,null,null,null,null,null," ",{"$f":"BarcodeGenerator!AI127","v":{"$error":"#VALUE!"}},{"$f":"CONCATENATE(gastenlijst[[#This Row],[Post]],gastenlijst[[#This Row],[Code]],gastenlijst[[#This Row],[Huisnr aangepast]],gastenlijst[[#This Row],[Yes]])","v":{"$error":"#VALUE!"}},{"$error":"#VALUE!"}]
[124,null,null,null,null,null,null,null,null,null,null,null,null,null," ",{"$f":"BarcodeGenerator!AI128","v":{"$error":"#VALUE!"}},{"$f":"CONCATENATE(gastenlijst[[#This Row],[Post]],gastenlijst[[#This Row],[Code]],gastenlijst[[#This Row],[Huisnr aangepast]],gastenlijst[[#This Row],[Yes]])","v":{"$error":"#VALUE!"}},{"$error":"#VALUE!"}]
[125,null,null,null,null,null,null,null,null,null,null,null,null,null," ",{"$f":"BarcodeGenerator!AI129","v":{"$error":"#VALUE!"}},{"$f":"CONCATENATE(gastenlijst[[#This Row],[Post]],gastenlijst[[#This Row],[Code]],gastenlijst[[#This Row],[Huisnr aangepast]],gastenlijst[[#This Row],[Yes]])","v":{"$error":"#VALUE!"}},{"$error":"#VALUE!"}]
[126,null,null,null,null,null,null,null,null,null,null,null,null,null," ",{"$f":"BarcodeGenerator!AI130","v":{"$error":"#VALUE!"}},{"$f":"CONCATENATE(gastenlijst[[#This Row],[Post]],gastenlijst[[#This Row],[Code]],gastenlijst[[#This Row],[Huisnr aangepast]],gastenlijst[[#This Row],[Yes]])","v":{"$error":"#VALUE!"}},{"$error":"#VALUE!"}]
[127,null,null,null,null,null,null,null,null,null,null,null,null,null," ",{"$f":"BarcodeGenerator!AI131","v":{"$error":"#VALUE!"}},{"$f":"CONCATENATE(gastenlijst[[#This Row],[Post]],gastenlijst[[#This Row],[Code]],gastenlijst[[#This Row],[Huisnr aangepast]],gastenlijst[[#This Row],[Yes]])","v":{"$error":"#VALUE!"}},{"$error":"#VALUE!"}]
[128,null,null,null,null,null,null,null,null,null,null,null,null,null," ",{"$f":"BarcodeGenerator!AI132","v":{"$error":"#VALUE!"}},{"$f":"CONCATENATE(gastenlijst[[#This Row],[Post]],gastenlijst[[#This Row],[Code]],gastenlijst[[#This Row],[Huisnr aangepast]],gastenlijst[[#This Row],[Yes]])","v":{"$error":"#VALUE!"}},{"$error":"#VALUE!"}]
[129,null,null,null,null,null,null,null,null,null,null,null,null,null," ",{"$f":"BarcodeGenerator!AI133","v":{"$error":"#VALUE!"}},{"$f":"CONCATENATE(gastenlijst[[#This Row],[Post]],gastenlijst[[#This Row],[Code]],gastenlijst[[#This Row],[Huisnr aangepast]],gastenlijst[[#This Row],[Yes]])","v":{"$error":"#VALUE!"}},{"$error":"#VALUE!"}]
[130,null,null,null,null,null,null,null,null,null,null,null,null,null," ",{"$f":"BarcodeGenerator!AI134","v":{"$error":"#VALUE!"}},{"$f":"CONCATENATE(gastenlijst[[#This Row],[Post]],gastenlijst[[#This Row],[Code]],gastenlijst[[#This Row],[Huisnr aangepast]],gastenlijst[[#This Row],[Yes]])","v":{"$error":"#VALUE!"}},{"$f":"CHOOSE(LEN(E134),E134&\" \",E134&\" \",E134&\" \")","v":{"$error":"#VALUE!"}}]
[131,null,null,null,null,null,null,null,null,null,null,null,null,null," ",{"$f":"BarcodeGenerator!AI135","v":{"$error":"#VALUE!"}},{"$f":"CONCATENATE(gastenlijst[[#This Row],[Post]],gastenlijst[[#This Row],[Code]],gastenlijst[[#This Row],[Huisnr aangepast]],gastenlijst[[#This Row],[Yes]])","v":{"$error":"#VALUE!"}},{"$error":"#VALUE!"}]
[132,null,null,null,null,null,null,null,null,null,null,null,null,null," ",{"$f":"BarcodeGenerator!AI136","v":{"$error":"#VALUE!"}},{"$f":"CONCATENATE(gastenlijst[[#This Row],[Post]],gastenlijst[[#This Row],[Code]],gastenlijst[[#This Row],[Huisnr aangepast]],gastenlijst[[#This Row],[Yes]])","v":{"$error":"#VALUE!"}},{"$error":"#VALUE!"}]
[133,null,null,null,null,null,null,null,null,null,null,null,null,null," ",{"$f":"BarcodeGenerator!AI137","v":{"$error":"#VALUE!"}},{"$f":"CONCATENATE(gastenlijst[[#This Row],[Post]],gastenlijst[[#This Row],[Code]],gastenlijst[[#This Row],[Huisnr aangepast]],gastenlijst[[#This Row],[Yes]])","v":{"$error":"#VALUE!"}},{"$error":"#VALUE!"}]
[134,null,null,null,null,null,null,null,null,null,null,null,null,null," ",{"$f":"BarcodeGenerator!AI138","v":{"$error":"#VALUE!"}},{"$f":"CONCATENATE(gastenlijst[[#This Row],[Post]],gastenlijst[[#This Row],[Code]],gastenlijst[[#This Row],[Huisnr aangepast]],gastenlijst[[#This Row],[Yes]])","v":{"$error":"#VALUE!"}},{"$error":"#VALUE!"}]
[135,null,null,null,null,null,null,null,null,null,null,null,null,null," ",{"$f":"BarcodeGenerator!AI139","v":{"$error":"#VALUE!"}},{"$f":"CONCATENATE(gastenlijst[[#This Row],[Post]],gastenlijst[[#This Row],[Code]],gastenlijst[[#This Row],[Huisnr aangepast]],gastenlijst[[#This Row],[Yes]])","v":{"$error":"#VALUE!"}},{"$error":"#VALUE!"}]
[136,null,null,null,null,null,null,null,null,null,null,null,null,null," ",{"$f":"BarcodeGenerator!AI140","v":{"$error":"#VALUE!"}},{"$f":"CONCATENATE(gastenlijst[[#This Row],[Post]],gastenlijst[[#This Row],[Code]],gastenlijst[[#This Row],[Huisnr aangepast]],gastenlijst[[#This Row],[Yes]])","v":{"$error":"#VALUE!"}},{"$error":"#VALUE!"}]
[137,null,null,null,null,null,null,null,null,null,null,null,null,null," ",{"$f":"BarcodeGenerator!AI141","v":{"$error":"#VALUE!"}},{"$f":"CONCATENATE(gastenlijst[[#This Row],[Post]],gastenlijst[[#This Row],[Code]],gastenlijst[[#This Row],[Huisnr aangepast]],gastenlijst[[#This Row],[Yes]])","v":{"$error":"#VALUE!"}},{"$error":"#VALUE!"}]
[138,null,null,null,null,null,null,null,null,null,null,null,null,null," ",{"$f":"BarcodeGenerator!AI142","v":{"$error":"#VALUE!"}},{"$f":"CONCATENATE(gastenlijst[[#This Row],[Post]],gastenlijst[[#This Row],[Code]],gastenlijst[[#This Row],[Huisnr aangepast]],gastenlijst[[#This Row],[Yes]])","v":{"$error":"#VALUE!"}},{"$error":"#VALUE!"}]
[139,null,null,null,null,null,null,null,null,null,null,null,null,null," ",{"$f":"BarcodeGenerator!AI143","v":{"$error":"#VALUE!"}},{"$f":"CONCATENATE(gastenlijst[[#This Row],[Post]],gastenlijst[[#This Row],[Code]],gastenlijst[[#This Row],[Huisnr aangepast]],gastenlijst[[#This Row],[Yes]])","v":{"$error":"#VALUE!"}},{"$error":"#VALUE!"}]
[140,null,null,null,null,null,null,null,null,null,null,null,null,null," ",{"$f":"BarcodeGenerator!AI144","v":{"$error":"#VALUE!"}},{"$f":"CONCATENATE(gastenlijst[[#This Row],[Post]],gastenlijst[[#This Row],[Code]],gastenlijst[[#This Row],[Huisnr aangepast]],gastenlijst[[#This Row],[Yes]])","v":{"$error":"#VALUE!"}},{"$error":"#VALUE!"}]
[141,null,null,null,null,null,null,null,null,null,null,null,null,null," ",{"$f":"BarcodeGenerator!AI145","v":{"$error":"#VALUE!"}},{"$f":"CONCATENATE(gastenlijst[[#This Row],[Post]],gastenlijst[[#This Row],[Code]],gastenlijst[[#This Row],[Huisnr aangepast]],gastenlijst[[#This Row],[Yes]])","v":{"$error":"#VALUE!"}},{"$error":"#VALUE!"}]
[142,null,null,null,null,null,null,null,null,null,null,null,null,null," ",{"$f":"BarcodeGenerator!AI146","v":{"$error":"#VALUE!"}},{"$f":"CONCATENATE(gastenlijst[[#This Row],[Post]],gastenlijst[[#This Row],[Code]],gastenlijst[[#This Row],[Huisnr aangepast]],gastenlijst[[#This Row],[Yes]])","v":{"$error":"#VALUE!"}},{"$error":"#VALUE!"}]
[143,null,null,null,null,null,null,null,null,null,null,null,null,null," ",{"$f":"BarcodeGenerator!AI147","v":{"$error":"#VALUE!"}},{"$f":"CONCATENATE(gastenlijst[[#This Row],[Post]],gastenlijst[[#This Row],[Code]],gastenlijst[[#This Row],[Huisnr aangepast]],gastenlijst[[#This Row],[Yes]])","v":{"$error":"#VALUE!"}},{"$error":"#VALUE!"}]
[144,null,null,null,null,null,null,null,null,null,null,null,null,null," ",{"$f":"BarcodeGenerator!AI148","v":{"$error":"#VALUE!"}},{"$f":"CONCATENATE(gastenlijst[[#This Row],[Post]],gastenlijst[[#This Row],[Code]],gastenlijst[[#This Row],[Huisnr aangepast]],gastenlijst[[#This Row],[Yes]])","v":{"$error":"#VALUE!"}},{"$error":"#VALUE!"}]
[145,null,null,null,null,null,null,null,null,null,null,null,null,null," ",{"$f":"BarcodeGenerator!AI149","v":{"$error":"#VALUE!"}},{"$f":"CONCATENATE(gastenlijst[[#This Row],[Post]],gastenlijst[[#This Row],[Code]],gastenlijst[[#This Row],[Huisnr aangepast]],gastenlijst[[#This Row],[Yes]])","v":{"$error":"#VALUE!"}},{"$error":"#VALUE!"}]
[146,null,null,null,null,null,null,null,null,null,null,null,null,null," ",{"$f":"BarcodeGenerator!AI150","v":{"$error":"#VALUE!"}},{"$f":"CONCATENATE(gastenlijst[[#This Row],[Post]],gastenlijst[[#This Row],[Code]],gastenlijst[[#This Row],[Huisnr aangepast]],gastenlijst[[#This Row],[Yes]])","v":{"$error":"#VALUE!"}},{"$error":"#VALUE!"}]
[147,null,null,null,null,null,null,null,null,null,null,null,null,null," ",{"$f":"BarcodeGenerator!AI151","v":{"$error":"#VALUE!"}},{"$f":"CONCATENATE(gastenlijst[[#This Row],[Post]],gastenlijst[[#This Row],[Code]],gastenlijst[[#This Row],[Huisnr aangepast]],gastenlijst[[#This Row],[Yes]])","v":{"$error":"#VALUE!"}},{"$error":"#VALUE!"}]
[148,null,null,null,null,null,null,null,null,null,null,null,null,null," ",{"$f":"BarcodeGenerator!AI152","v":{"$error":"#VALUE!"}},{"$f":"CONCATENATE(gastenlijst[[#This Row],[Post]],gastenlijst[[#This Row],[Code]],gastenlijst[[#This Row],[Huisnr aangepast]],gastenlijst[[#This Row],[Yes]])","v":{"$error":"#VALUE!"}},{"$error":"#VALUE!"}]
[149,null,null,null,null,null,null,null,null,null,null,null,null,null," ",{"$f":"BarcodeGenerator!AI153","v":{"$error":"#VALUE!"}},{"$f":"CONCATENATE(gastenlijst[[#This Row],[Post]],gastenlijst[[#This Row],[Code]],gastenlijst[[#This Row],[Huisnr aangepast]],gastenlijst[[#This Row],[Yes]])","v":{"$error":"#VALUE!"}},{"$error":"#VALUE!"}]
[150,null,null,null,null,null,null,null,null,null,null,null,null,null," ",{"$f":"BarcodeGenerator!AI154","v":{"$error":"#VALUE!"}},{"$f":"CONCATENATE(gastenlijst[[#This Row],[Post]],gastenlijst[[#This Row],[Code]],gastenlijst[[#This Row],[Huisnr aangepast]],gastenlijst[[#This Row],[Yes]])","v":{"$error":"#VALUE!"}},{"$error":"#VALUE!"}]
[151,null,null,null,null,null,null,null,null,null,null,null,null,null," ",{"$f":"BarcodeGenerator!AI155","v":{"$error":"#VALUE!"}},{"$f":"CONCATENATE(gastenlijst[[#This Row],[Post]],gastenlijst[[#This Row],[Code]],gastenlijst[[#This Row],[Huisnr aangepast]],gastenlijst[[#This Row],[Yes]])","v":{"$error":"#VALUE!"}},{"$error":"#VALUE!"}]
[152,null,null,null,null,null,null,null,null,null,null,null,null,null," ",{"$f":"BarcodeGenerator!AI156","v":{"$error":"#VALUE!"}},{"$f":"CONCATENATE(gastenlijst[[#This Row],[Post]],gastenlijst[[#This Row],[Code]],gastenlijst[[#This Row],[Huisnr aangepast]],gastenlijst[[#This Row],[Yes]])","v":{"$error":"#VALUE!"}},{"$error":"#VALUE!"}]
[153,null,null,null,null,null,null,null,null,null,null,null,null,null," ",{"$f":"BarcodeGenerator!AI157","v":{"$error":"#VALUE!"}},{"$f":"CONCATENATE(gastenlijst[[#This Row],[Post]],gastenlijst[[#This Row],[Code]],gastenlijst[[#This Row],[Huisnr aangepast]],gastenlijst[[#This Row],[Yes]])","v":{"$error":"#VALUE!"}},{"$error":"#VALUE!"}]
[154,null,null,null,null,null,null,null,null,null,null,null,null,null," ",{"$f":"BarcodeGenerator!AI158","v":{"$error":"#VALUE!"}},{"$f":"CONCATENATE(gastenlijst[[#This Row],[Post]],gastenlijst[[#This Row],[Code]],gastenlijst[[#This Row],[Huisnr aangepast]],gastenlijst[[#This Row],[Yes]])","v":{"$error":"#VALUE!"}},{"$error":"#VALUE!"}]
[155,null,null,null,null,null,null,null,null,null,null,null,null,null," ",{"$f":"BarcodeGenerator!AI159","v":{"$error":"#VALUE!"}},{"$f":"CONCATENATE(gastenlijst[[#This Row],[Post]],gastenlijst[[#This Row],[Code]],gastenlijst[[#This Row],[Huisnr aangepast]],gastenlijst[[#This Row],[Yes]])","v":{"$error":"#VALUE!"}},{"$error":"#VALUE!"}]
[156,null,null,null,null,null,null,null,null,null,null,null,null,null," ",{"$f":"BarcodeGenerator!AI160","v":{"$error":"#VALUE!"}},{"$f":"CONCATENATE(gastenlijst[[#This Row],[Post]],gastenlijst[[#This Row],[Code]],gastenlijst[[#This Row],[Huisnr aangepast]],gastenlijst[[#This Row],[Yes]])","v":{"$error":"#VALUE!"}},{"$error":"#VALUE!"}]
[157,null,null,null,null,null,null,null,null,null,null,null,null,null," ",{"$f":"BarcodeGenerator!AI161","v":{"$error":"#VALUE!"}},{"$f":"CONCATENATE(gastenlijst[[#This Row],[Post]],gastenlijst[[#This Row],[Code]],gastenlijst[[#This Row],[Huisnr aangepast]],gastenlijst[[#This Row],[Yes]])","v":{"$error":"#VALUE!"}},{"$error":"#VALUE!"}]
[158,null,null,null,null,null,null,null,null,null,null,null,null,null," ",{"$f":"BarcodeGenerator!AI162","v":{"$error":"#VALUE!"}},{"$f":"CONCATENATE(gastenlijst[[#This Row],[Post]],gastenlijst[[#This Row],[Code]],gastenlijst[[#This Row],[Huisnr aangepast]],gastenlijst[[#This Row],[Yes]])","v":{"$error":"#VALUE!"}},{"$error":"#VALUE!"}]
[159,null,null,null,null,null,null,null,null,null,null,null,null,null," ",{"$f":"BarcodeGenerator!AI163","v":{"$error":"#VALUE!"}},{"$f":"CONCATENATE(gastenlijst[[#This Row],[Post]],gastenlijst[[#This Row],[Code]],gastenlijst[[#This Row],[Huisnr aangepast]],gastenlijst[[#This Row],[Yes]])","v":{"$error":"#VALUE!"}},{"$error":"#VALUE!"}]
[160,null,null,null,null,null,null,null,null,null,null,null,null,null," ",{"$f":"BarcodeGenerator!AI164","v":{"$error":"#VALUE!"}},{"$f":"CONCATENATE(gastenlijst[[#This Row],[Post]],gastenlijst[[#This Row],[Code]],gastenlijst[[#This Row],[Huisnr aangepast]],gastenlijst[[#This Row],[Yes]])","v":{"$error":"#VALUE!"}},{"$error":"#VALUE!"}]
[161,null,null,null,null,null,null,null,null,null,null,null,null,null," ",{"$f":"BarcodeGenerator!AI165","v":{"$error":"#VALUE!"}},{"$f":"CONCATENATE(gastenlijst[[#This Row],[Post]],gastenlijst[[#This Row],[Code]],gastenlijst[[#This Row],[Huisnr aangepast]],gastenlijst[[#This Row],[Yes]])","v":{"$error":"#VALUE!"}},{"$error":"#VALUE!"}]
[162,null,null,null,null,null,null,null,null,null,null,null,null,null," ",{"$f":"BarcodeGenerator!AI166","v":{"$error":"#VALUE!"}},{"$f":"CONCATENATE(gastenlijst[[#This Row],[Post]],gastenlijst[[#This Row],[Code]],gastenlijst[[#This Row],[Huisnr aangepast]],gastenlijst[[#This Row],[Yes]])","v":{"$error":"#VALUE!"}},{"$error":"#VALUE!"}]
[163,null,null,null,null,null,null,null,null,null,null,null,null,null," ",{"$f":"BarcodeGenerator!AI167","v":{"$error":"#VALUE!"}},{"$f":"CONCATENATE(gastenlijst[[#This Row],[Post]],gastenlijst[[#This Row],[Code]],gastenlijst[[#This Row],[Huisnr aangepast]],gastenlijst[[#This Row],[Yes]])","v":{"$error":"#VALUE!"}},{"$error":"#VALUE!"}]
[164,null,null,null,null,null,null,null,null,null,null,null,null,null," ",{"$f":"BarcodeGenerator!AI168","v":{"$error":"#VALUE!"}},{"$f":"CONCATENATE(gastenlijst[[#This Row],[Post]],gastenlijst[[#This Row],[Code]],gastenlijst[[#This Row],[Huisnr aangepast]],gastenlijst[[#This Row],[Yes]])","v":{"$error":"#VALUE!"}},{"$error":"#VALUE!"}]
[165,null,null,null,null,null,null,null,null,null,null,null,null,null," ",{"$f":"BarcodeGenerator!AI169","v":{"$error":"#VALUE!"}},{"$f":"CONCATENATE(gastenlijst[[#This Row],[Post]],gastenlijst[[#This Row],[Code]],gastenlijst[[#This Row],[Huisnr aangepast]],gastenlijst[[#This Row],[Yes]])","v":{"$error":"#VALUE!"}},{"$error":"#VALUE!"}]
[166,null,null,null,null,null,null,null,null,null,null,null,null,null," ",{"$f":"BarcodeGenerator!AI170","v":{"$error":"#VALUE!"}},{"$f":"CONCATENATE(gastenlijst[[#This Row],[Post]],gastenlijst[[#This Row],[Code]],gastenlijst[[#This Row],[Huisnr aangepast]],gastenlijst[[#This Row],[Yes]])","v":{"$error":"#VALUE!"}},{"$error":"#VALUE!"}]
[167,null,null,null,null,null,null,null,null,null,null,null,null,null," ",{"$f":"BarcodeGenerator!AI171","v":{"$error":"#VALUE!"}},{"$f":"CONCATENATE(gastenlijst[[#This Row],[Post]],gastenlijst[[#This Row],[Code]],gastenlijst[[#This Row],[Huisnr aangepast]],gastenlijst[[#This Row],[Yes]])","v":{"$error":"#VALUE!"}},{"$error":"#VALUE!"}]
[168,null,null,null,null,null,null,null,null,null,null,null,null,null," ",{"$f":"BarcodeGenerator!AI172","v":{"$error":"#VALUE!"}},{"$f":"CONCATENATE(gastenlijst[[#This Row],[Post]],gastenlijst[[#This Row],[Code]],gastenlijst[[#This Row],[Huisnr aangepast]],gastenlijst[[#This Row],[Yes]])","v":{"$error":"#VALUE!"}},{"$error":"#VALUE!"}]
[169,null,null,null,null,null,null,null,null,null,null,null,null,null," ",{"$f":"BarcodeGenerator!AI173","v":{"$error":"#VALUE!"}},{"$f":"CONCATENATE(gastenlijst[[#This Row],[Post]],gastenlijst[[#This Row],[Code]],gastenlijst[[#This Row],[Huisnr aangepast]],gastenlijst[[#This Row],[Yes]])","v":{"$error":"#VALUE!"}},{"$error":"#VALUE!"}]
[170,null,null,null,null,null,null,null,null,null,null,null,null,null," ",{"$f":"BarcodeGenerator!AI174","v":{"$error":"#VALUE!"}},{"$f":"CONCATENATE(gastenlijst[[#This Row],[Post]],gastenlijst[[#This Row],[Code]],gastenlijst[[#This Row],[Huisnr aangepast]],gastenlijst[[#This Row],[Yes]])","v":{"$error":"#VALUE!"}},{"$error":"#VALUE!"}]
[171,null,null,null,null,null,null,null,null,null,null,null,null,null," ",{"$f":"BarcodeGenerator!AI175","v":{"$error":"#VALUE!"}},{"$f":"CONCATENATE(gastenlijst[[#This Row],[Post]],gastenlijst[[#This Row],[Code]],gastenlijst[[#This Row],[Huisnr aangepast]],gastenlijst[[#This Row],[Yes]])","v":{"$error":"#VALUE!"}},{"$error":"#VALUE!"}]
[172,null,null,null,null,null,null,null,null,null,null,null,null,null," ",{"$f":"BarcodeGenerator!AI176","v":{"$error":"#VALUE!"}},{"$f":"CONCATENATE(gastenlijst[[#This Row],[Post]],gastenlijst[[#This Row],[Code]],gastenlijst[[#This Row],[Huisnr aangepast]],gastenlijst[[#This Row],[Yes]])","v":{"$error":"#VALUE!"}},{"$error":"#VALUE!"}]
[173,null,null,null,null,null,null,null,null,null,null,null,null,null," ",{"$f":"BarcodeGenerator!AI177","v":{"$error":"#VALUE!"}},{"$f":"CONCATENATE(gastenlijst[[#This Row],[Post]],gastenlijst[[#This Row],[Code]],gastenlijst[[#This Row],[Huisnr aangepast]],gastenlijst[[#This Row],[Yes]])","v":{"$error":"#VALUE!"}},{"$error":"#VALUE!"}]
[174,null,null,null,null,null,null,null,null,null,null,null,null,null," ",{"$f":"BarcodeGenerator!AI178","v":{"$error":"#VALUE!"}},{"$f":"CONCATENATE(gastenlijst[[#This Row],[Post]],gastenlijst[[#This Row],[Code]],gastenlijst[[#This Row],[Huisnr aangepast]],gastenlijst[[#This Row],[Yes]])","v":{"$error":"#VALUE!"}},{"$error":"#VALUE!"}]
[175,null,null,null,null,null,null,null,null,null,null,null,null,null," ",{"$f":"BarcodeGenerator!AI179","v":{"$error":"#VALUE!"}},{"$f":"CONCATENATE(gastenlijst[[#This Row],[Post]],gastenlijst[[#This Row],[Code]],gastenlijst[[#This Row],[Huisnr aangepast]],gastenlijst[[#This Row],[Yes]])","v":{"$error":"#VALUE!"}},{"$error":"#VALUE!"}]
[176,null,null,null,null,null,null,null,null,null,null,null,null,null," ",{"$f":"BarcodeGenerator!AI180","v":{"$error":"#VALUE!"}},{"$f":"CONCATENATE(gastenlijst[[#This Row],[Post]],gastenlijst[[#This Row],[Code]],gastenlijst[[#This Row],[Huisnr aangepast]],gastenlijst[[#This Row],[Yes]])","v":{"$error":"#VALUE!"}},{"$error":"#VALUE!"}]
[177,null,null,null,null,null,null,null,null,null,null,null,null,null," ",{"$f":"BarcodeGenerator!AI181","v":{"$error":"#VALUE!"}},{"$f":"CONCATENATE(gastenlijst[[#This Row],[Post]],gastenlijst[[#This Row],[Code]],gastenlijst[[#This Row],[Huisnr aangepast]],gastenlijst[[#This Row],[Yes]])","v":{"$error":"#VALUE!"}},{"$error":"#VALUE!"}]
[178,null,null,null,null,null,null,null,null,null,null,null,null,null," ",{"$f":"BarcodeGenerator!AI182","v":{"$error":"#VALUE!"}},{"$f":"CONCATENATE(gastenlijst[[#This Row],[Post]],gastenlijst[[#This Row],[Code]],gastenlijst[[#This Row],[Huisnr aangepast]],gastenlijst[[#This Row],[Yes]])","v":{"$error":"#VALUE!"}},{"$error":"#VALUE!"}]
[179,null,null,null,null,null,null,null,null,null,null,null,null,null," ",{"$f":"BarcodeGenerator!AI183","v":{"$error":"#VALUE!"}},{"$f":"CONCATENATE(gastenlijst[[#This Row],[Post]],gastenlijst[[#This Row],[Code]],gastenlijst[[#This Row],[Huisnr aangepast]],gastenlijst[[#This Row],[Yes]])","v":{"$error":"#VALUE!"}},{"$error":"#VALUE!"}]
[180,null,null,null,null,null,null,null,null,null,null,null,null,null," ",{"$f":"BarcodeGenerator!AI184","v":{"$error":"#VALUE!"}},{"$f":"CONCATENATE(gastenlijst[[#This Row],[Post]],gastenlijst[[#This Row],[Code]],gastenlijst[[#This Row],[Huisnr aangepast]],gastenlijst[[#This Row],[Yes]])","v":{"$error":"#VALUE!"}},{"$error":"#VALUE!"}]
[181,null,null,null,null,null,null,null,null,null,null,null,null,null," ",{"$f":"BarcodeGenerator!AI185","v":{"$error":"#VALUE!"}},{"$f":"CONCATENATE(gastenlijst[[#This Row],[Post]],gastenlijst[[#This Row],[Code]],gastenlijst[[#This Row],[Huisnr aangepast]],gastenlijst[[#This Row],[Yes]])","v":{"$error":"#VALUE!"}},{"$error":"#VALUE!"}]
[182,null,null,null,null,null,null,null,null,null,null,null,null,null," ",{"$f":"BarcodeGenerator!AI186","v":{"$error":"#VALUE!"}},{"$f":"CONCATENATE(gastenlijst[[#This Row],[Post]],gastenlijst[[#This Row],[Code]],gastenlijst[[#This Row],[Huisnr aangepast]],gastenlijst[[#This Row],[Yes]])","v":{"$error":"#VALUE!"}},{"$error":"#VALUE!"}]
[183,null,null,null,null,null,null,null,null,null,null,null,null,null," ",{"$f":"BarcodeGenerator!AI187","v":{"$error":"#VALUE!"}},{"$f":"CONCATENATE(gastenlijst[[#This Row],[Post]],gastenlijst[[#This Row],[Code]],gastenlijst[[#This Row],[Huisnr aangepast]],gastenlijst[[#This Row],[Yes]])","v":{"$error":"#VALUE!"}},{"$error":"#VALUE!"}]
[184,null,null,null,null,null,null,null,null,null,null,null,null,null," ",{"$f":"BarcodeGenerator!AI188","v":{"$error":"#VALUE!"}},{"$f":"CONCATENATE(gastenlijst[[#This Row],[Post]],gastenlijst[[#This Row],[Code]],gastenlijst[[#This Row],[Huisnr aangepast]],gastenlijst[[#This Row],[Yes]])","v":{"$error":"#VALUE!"}},{"$error":"#VALUE!"}]
[185,null,null,null,null,null,null,null,null,null,null,null,null,null," ",{"$f":"BarcodeGenerator!AI189","v":{"$error":"#VALUE!"}},{"$f":"CONCATENATE(gastenlijst[[#This Row],[Post]],gastenlijst[[#This Row],[Code]],gastenlijst[[#This Row],[Huisnr aangepast]],gastenlijst[[#This Row],[Yes]])","v":{"$error":"#VALUE!"}},{"$error":"#VALUE!"}]
[186,null,null,null,null,null,null,null,null,null,null,null,null,null," ",{"$f":"BarcodeGenerator!AI190","v":{"$error":"#VALUE!"}},{"$f":"CONCATENATE(gastenlijst[[#This Row],[Post]],gastenlijst[[#This Row],[Code]],gastenlijst[[#This Row],[Huisnr aangepast]],gastenlijst[[#This Row],[Yes]])","v":{"$error":"#VALUE!"}},{"$error":"#VALUE!"}]
[187,null,null,null,null,null,null,null,null,null,null,null,null,null," ",{"$f":"BarcodeGenerator!AI191","v":{"$error":"#VALUE!"}},{"$f":"CONCATENATE(gastenlijst[[#This Row],[Post]],gastenlijst[[#This Row],[Code]],gastenlijst[[#This Row],[Huisnr aangepast]],gastenlijst[[#This Row],[Yes]])","v":{"$error":"#VALUE!"}},{"$error":"#VALUE!"}]
[188,null,null,null,null,null,null,null,null,null,null,null,null,null," ",{"$f":"BarcodeGenerator!AI192","v":{"$error":"#VALUE!"}},{"$f":"CONCATENATE(gastenlijst[[#This Row],[Post]],gastenlijst[[#This Row],[Code]],gastenlijst[[#This Row],[Huisnr aangepast]],gastenlijst[[#This Row],[Yes]])","v":{"$error":"#VALUE!"}},{"$error":"#VALUE!"}]
[189,null,null,null,null,null,null,null,null,null,null,null,null,null," ",{"$f":"BarcodeGenerator!AI193","v":{"$error":"#VALUE!"}},{"$f":"CONCATENATE(gastenlijst[[#This Row],[Post]],gastenlijst[[#This Row],[Code]],gastenlijst[[#This Row],[Huisnr aangepast]],gastenlijst[[#This Row],[Yes]])","v":{"$error":"#VALUE!"}},{"$error":"#VALUE!"}]
[190,null,null,null,null,null,null,null,null,null,null,null,null,null," ",{"$f":"BarcodeGenerator!AI194","v":{"$error":"#VALUE!"}},{"$f":"CONCATENATE(gastenlijst[[#This Row],[Post]],gastenlijst[[#This Row],[Code]],gastenlijst[[#This Row],[Huisnr aangepast]],gastenlijst[[#This Row],[Yes]])","v":{"$error":"#VALUE!"}},{"$error":"#VALUE!"}]
[191,null,null,null,null,null,null,null,null,null,null,null,null,null," ",{"$f":"BarcodeGenerator!AI195","v":{"$error":"#VALUE!"}},{"$f":"CONCATENATE(gastenlijst[[#This Row],[Post]],gastenlijst[[#This Row],[Code]],gastenlijst[[#This Row],[Huisnr aangepast]],gastenlijst[[#This Row],[Yes]])","v":{"$error":"#VALUE!"}},{"$error":"#VALUE!"}]
[192,null,null,null,null,null,null,null,null,null,null,null,null,null," ",{"$f":"BarcodeGenerator!AI196","v":{"$error":"#VALUE!"}},{"$f":"CONCATENATE(gastenlijst[[#This Row],[Post]],gastenlijst[[#This Row],[Code]],gastenlijst[[#This Row],[Huisnr aangepast]],gastenlijst[[#This Row],[Yes]])","v":{"$error":"#VALUE!"}},{"$error":"#VALUE!"}]
[193,null,null,null,null,null,null,null,null,null,null,null,null,null," ",{"$f":"BarcodeGenerator!AI197","v":{"$error":"#VALUE!"}},{"$f":"CONCATENATE(gastenlijst[[#This Row],[Post]],gastenlijst[[#This Row],[Code]],gastenlijst[[#This Row],[Huisnr aangepast]],gastenlijst[[#This Row],[Yes]])","v":{"$error":"#VALUE!"}},{"$error":"#VALUE!"}]
[194,null,null,null,null,null,null,null,null,null,null,null,null,null," ",{"$f":"BarcodeGenerator!AI198","v":{"$error":"#VALUE!"}},{"$f":"CONCATENATE(gastenlijst[[#This Row],[Post]],gastenlijst[[#This Row],[Code]],gastenlijst[[#This Row],[Huisnr aangepast]],gastenlijst[[#This Row],[Yes]])","v":{"$error":"#VALUE!"}},{"$f":"CHOOSE(LEN(E198),E198&\" \",E198&\" \",E198&\" \")","v":{"$error":"#VALUE!"}}]
[195,null,null,null,null,null,null,null,null,null,null,null,null,null," ",{"$f":"BarcodeGenerator!AI199","v":{"$error":"#VALUE!"}},{"$f":"CONCATENATE(gastenlijst[[#This Row],[Post]],gastenlijst[[#This Row],[Code]],gastenlijst[[#This Row],[Huisnr aangepast]],gastenlijst[[#This Row],[Yes]])","v":{"$error":"#VALUE!"}},{"$error":"#VALUE!"}]
[196,null,null,null,null,null,null,null,null,null,null,null,null,null," ",{"$f":"BarcodeGenerator!AI200","v":{"$error":"#VALUE!"}},{"$f":"CONCATENATE(gastenlijst[[#This Row],[Post]],gastenlijst[[#This Row],[Code]],gastenlijst[[#This Row],[Huisnr aangepast]],gastenlijst[[#This Row],[Yes]])","v":{"$error":"#VALUE!"}},{"$error":"#VALUE!"}]
[197,null,null,null,null,null,null,null,null,null,null,null,null,null," ",{"$f":"BarcodeGenerator!AI201","v":{"$error":"#VALUE!"}},{"$f":"CONCATENATE(gastenlijst[[#This Row],[Post]],gastenlijst[[#This Row],[Code]],gastenlijst[[#This Row],[Huisnr aangepast]],gastenlijst[[#This Row],[Yes]])","v":{"$error":"#VALUE!"}},{"$error":"#VALUE!"}]
[198,null,null,null,null,null,null,null,null,null,null,null,null,null," ",{"$f":"BarcodeGenerator!AI202","v":{"$error":"#VALUE!"}},{"$f":"CONCATENATE(gastenlijst[[#This Row],[Post]],gastenlijst[[#This Row],[Code]],gastenlijst[[#This Row],[Huisnr aangepast]],gastenlijst[[#This Row],[Yes]])","v":{"$error":"#VALUE!"}},{"$error":"#VALUE!"}]
[199,null,null,null,null,null,null,null,null,null,null,null,null,null," ",{"$f":"BarcodeGenerator!AI203","v":{"$error":"#VALUE!"}},{"$f":"CONCATENATE(gastenlijst[[#This Row],[Post]],gastenlijst[[#This Row],[Code]],gastenlijst[[#This Row],[Huisnr aangepast]],gastenlijst[[#This Row],[Yes]])","v":{"$error":"#VALUE!"}},{"$error":"#VALUE!"}]
[200,null,null,null,null,null,null,null,null,null,null,null,null,null," ",{"$f":"BarcodeGenerator!AI204","v":{"$error":"#VALUE!"}},{"$f":"CONCATENATE(gastenlijst[[#This Row],[Post]],gastenlijst[[#This Row],[Code]],gastenlijst[[#This Row],[Huisnr aangepast]],gastenlijst[[#This Row],[Yes]])","v":{"$error":"#VALUE!"}},{"$error":"#VALUE!"}]
[201,null,null,null,null,null,null,null,null,null,null,null,null,null," ",{"$f":"BarcodeGenerator!AI205","v":{"$error":"#VALUE!"}},{"$f":"CONCATENATE(gastenlijst[[#This Row],[Post]],gastenlijst[[#This Row],[Code]],gastenlijst[[#This Row],[Huisnr aangepast]],gastenlijst[[#This Row],[Yes]])","v":{"$error":"#VALUE!"}},{"$error":"#VALUE!"}]
[202,null,null,null,null,null,null,null,null,null,null,null,null,null," ",{"$f":"BarcodeGenerator!AI206","v":{"$error":"#VALUE!"}},{"$f":"CONCATENATE(gastenlijst[[#This Row],[Post]],gastenlijst[[#This Row],[Code]],gastenlijst[[#This Row],[Huisnr aangepast]],gastenlijst[[#This Row],[Yes]])","v":{"$error":"#VALUE!"}},{"$error":"#VALUE!"}]
[203,null,null,null,null,null,null,null,null,null,null,null,null,null," ",{"$f":"BarcodeGenerator!AI207","v":{"$error":"#VALUE!"}},{"$f":"CONCATENATE(gastenlijst[[#This Row],[Post]],gastenlijst[[#This Row],[Code]],gastenlijst[[#This Row],[Huisnr aangepast]],gastenlijst[[#This Row],[Yes]])","v":{"$error":"#VALUE!"}},{"$error":"#VALUE!"}]
[204,null,null,null,null,null,null,null,null,null,null,null,null,null," ",{"$f":"BarcodeGenerator!AI208","v":{"$error":"#VALUE!"}},{"$f":"CONCATENATE(gastenlijst[[#This Row],[Post]],gastenlijst[[#This Row],[Code]],gastenlijst[[#This Row],[Huisnr aangepast]],gastenlijst[[#This Row],[Yes]])","v":{"$error":"#VALUE!"}},{"$error":"#VALUE!"}]
[205,null,null,null,null,null,null,null,null,null,null,null,null,null," ",{"$f":"BarcodeGenerator!AI209","v":{"$error":"#VALUE!"}},{"$f":"CONCATENATE(gastenlijst[[#This Row],[Post]],gastenlijst[[#This Row],[Code]],gastenlijst[[#This Row],[Huisnr aangepast]],gastenlijst[[#This Row],[Yes]])","v":{"$error":"#VALUE!"}},{"$error":"#VALUE!"}]
[206,null,null,null,null,null,null,null,null,null,null,null,null,null," ",{"$f":"BarcodeGenerator!AI210","v":{"$error":"#VALUE!"}},{"$f":"CONCATENATE(gastenlijst[[#This Row],[Post]],gastenlijst[[#This Row],[Code]],gastenlijst[[#This Row],[Huisnr aangepast]],gastenlijst[[#This Row],[Yes]])","v":{"$error":"#VALUE!"}},{"$error":"#VALUE!"}]
[207,null,null,null,null,null,null,null,null,null,null,null,null,null," ",{"$f":"BarcodeGenerator!AI211","v":{"$error":"#VALUE!"}},{"$f":"CONCATENATE(gastenlijst[[#This Row],[Post]],gastenlijst[[#This Row],[Code]],gastenlijst[[#This Row],[Huisnr aangepast]],gastenlijst[[#This Row],[Yes]])","v":{"$error":"#VALUE!"}},{"$error":"#VALUE!"}]
[208,null,null,null,null,null,null,null,null,null,null,null,null,null," ",{"$f":"BarcodeGenerator!AI212","v":{"$error":"#VALUE!"}},{"$f":"CONCATENATE(gastenlijst[[#This Row],[Post]],gastenlijst[[#This Row],[Code]],gastenlijst[[#This Row],[Huisnr aangepast]],gastenlijst[[#This Row],[Yes]])","v":{"$error":"#VALUE!"}},{"$error":"#VALUE!"}]
[209,null,null,null,null,null,null,null,null,null,null,null,null,null," ",{"$f":"BarcodeGenerator!AI213","v":{"$error":"#VALUE!"}},{"$f":"CONCATENATE(gastenlijst[[#This Row],[Post]],gastenlijst[[#This Row],[Code]],gastenlijst[[#This Row],[Huisnr aangepast]],gastenlijst[[#This Row],[Yes]])","v":{"$error":"#VALUE!"}},{"$error":"#VALUE!"}]

{"sheet":"BarcodeGenerator","index":1,"n_rows":226,"n_cols":36,"rows_kept":226,"cut":false,"hidden":false,"merged":[[3,1,3,4],[0,5,0,8],[1,5,1,8],[2,5,2,8],[3,5,3,8],[0,1,0,4],[1,1,1,4],[2,1,2,4]]}
[null,"Engels",null,null,null,"Nederlands"]
[null,"CHAR",null,null,null,"Teken"]
[null,"VLOOKUP",null,null,null,"Ver.Zoeken"]
[null,"MOD",null,null,null,"REST"]
[]
[{"$f":"CONCATENATE(gastenlijst[[#This Row],[Post]],gastenlijst[[#This Row],[Code]],gastenlijst[[#This Row],[Huisnr aangepast]],gastenlijst[[#This Row],[Yes]])","v":"1234AB12 2"},{"$f":"MID(A6,1,1)","v":"1"},{"$f":"MID(A6,2,1)","v":"2"},{"$f":"MID(A6,3,1)","v":"3"},{"$f":"MID(A6,4,1)","v":"4"},{"$f":"MID(A6,5,1)","v":"A"},{"$f":"MID(A6,6,1)","v":"B"},{"$f":"MID(A6,7,1)","v":"1"},{"$f":"MID(A6,8,1)","v":"2"},{"$f":"MID(A6,9,1)","v":" "},{"$f":"MID(A6,10,1)","v":"2"},{"$f":"VLOOKUP(B6,Tabel!$K$3:$L$109,2,FALSE)","v":"17"},{"$f":"VLOOKUP(C6,Tabel!$K$3:$L$109,2,FALSE)","v":"18"},{"$f":"VLOOKUP(D6,Tabel!$K$3:$L$109,2,FALSE)","v":"19"},{"$f":"VLOOKUP(E6,Tabel!$K$3:$L$109,2,FALSE)","v":"20"},{"$f":"VLOOKUP(F6,Tabel!$K$3:$L$109,2,FALSE)","v":"33"},{"$f":"VLOOKUP(G6,Tabel!$K$3:$L$109,2,FALSE)","v":"34"},{"$f":"VLOOKUP(H6,Tabel!$K$3:$L$109,2,FALSE)","v":"17"},{"$f":"VLOOKUP(I6,Tabel!$K$3:$L$109,2,FALSE)","v":"18"},{"$f":"VLOOKUP(J6,Tabel!$K$3:$L$109,2,FALSE)","v":"0"},{"$f":"VLOOKUP(K6,Tabel!$K$3:$L$109,2,FALSE)","v":"18"},{"$f":"$L6*1","v":17},{"$f":"$M6*2","v":36},{"$f":"$N6*3","v":57},{"$f":"$O6*4","v":80},{"$f":"$P6*5","v":165},{"$f":"$Q6*5","v":170},{"$f":"$R6*5","v":85},{"$f":"$S6*5","v":90},{"$f":"$T6*5","v":0},{"$f":"$P6*5","v":165},{"$f":"103+V6+W6+X6+Y6+Z6+AA6+AB6+AC6+AD6+AE6","v":968},{"$f":"MOD(AF6,103)","v":41},{"$f":"VLOOKUP($AG6,Tabel!$J$3:$K$109,2,FALSE)","v":"I"},{"$f":"Tabel!$K$106&$A6&$AH6&Tabel!$K$109","v":"Ð1234AB12 2IÓ"},{"$f":"AI6","v":"Ð1234AB12 2IÓ"}]
[{"$f":"CONCATENATE(gastenlijst[[#This Row],[Post]],gastenlijst[[#This Row],[Code]],gastenlijst[[#This Row],[Huisnr aangepast]],gastenlijst[[#This Row],[Yes]])","v":"5678XY678 2"},{"$f":"MID(A7,1,1)","v":"5"},{"$f":"MID(A7,2,1)","v":"6"},{"$f":"MID(A7,3,1)","v":"7"},{"$f":"MID(A7,4,1)","v":"8"},{"$f":"MID(A7,5,1)","v":"X"},{"$f":"MID(A7,6,1)","v":"Y"},{"$f":"MID(A7,7,1)","v":"6"},{"$f":"MID(A7,8,1)","v":"7"},{"$f":"MID(A7,9,1)","v":"8"},{"$f":"MID(A7,10,1)","v":" "},{"$f":"VLOOKUP(B7,Tabel!$K$3:$L$109,2,FALSE)","v":"21"},{"$f":"VLOOKUP(C7,Tabel!$K$3:$L$109,2,FALSE)","v":"22"},{"$f":"VLOOKUP(D7,Tabel!$K$3:$L$109,2,FALSE)","v":"23"},{"$f":"VLOOKUP(E7,Tabel!$K$3:$L$109,2,FALSE)","v":"24"},{"$f":"VLOOKUP(F7,Tabel!$K$3:$L$109,2,FALSE)","v":"56"},{"$f":"VLOOKUP(G7,Tabel!$K$3:$L$109,2,FALSE)","v":"57"},{"$f":"VLOOKUP(H7,Tabel!$K$3:$L$109,2,FALSE)","v":"22"},{"$f":"VLOOKUP(I7,Tabel!$K$3:$L$109,2,FALSE)","v":"23"},{"$f":"VLOOKUP(J7,Tabel!$K$3:$L$109,2,FALSE)","v":"24"},{"$f":"VLOOKUP(K7,Tabel!$K$3:$L$109,2,FALSE)","v":"0"},{"$f":"$L7*1","v":21},{"$f":"$M7*2","v":44},{"$f":"$N7*3","v":69},{"$f":"$O7*4","v":96},{"$f":"$P7*5","v":280},{"$f":"$Q7*5","v":285},{"$f":"$R7*5","v":110},{"$f":"$S7*5","v":115},{"$f":"$T7*5","v":120},280,{"$f":"103+V7+W7+X7+Y7+Z7+AE7","v":893},{"$f":"MOD(AF7,103)","v":69},{"$f":"VLOOKUP($AG7,Tabel!$J$3:$K$109,2,FALSE)","v":"e"},{"$f":"Tabel!$K$106&$A7&$AH7&Tabel!$K$109","v":"Ð5678XY678 2eÓ"},{"$f":"AI7","v":"Ð5678XY678 2eÓ"}]
[{"$f":"CONCATENATE(gastenlijst[[#This Row],[Post]],gastenlijst[[#This Row],[Code]],gastenlijst[[#This Row],[Huisnr aangepast]],gastenlijst[[#This Row],[Yes]])","v":"9182HJ56 1"},"9","1","8","2","H","J","5","6"," ","1",{"$f":"VLOOKUP(B8,Tabel!$K$3:$L$109,2,FALSE)","v":"25"},{"$f":"VLOOKUP(C8,Tabel!$K$3:$L$109,2,FALSE)","v":"17"},{"$f":"VLOOKUP(D8,Tabel!$K$3:$L$109,2,FALSE)","v":"24"},{"$f":"VLOOKUP(E8,Tabel!$K$3:$L$109,2,FALSE)","v":"18"},{"$f":"VLOOKUP(F8,Tabel!$K$3:$L$109,2,FALSE)","v":"40"},{"$f":"VLOOKUP(G8,Tabel!$K$3:$L$109,2,FALSE)","v":"42"},{"$f":"VLOOKUP(H8,Tabel!$K$3:$L$109,2,FALSE)","v":"21"},{"$f":"VLOOKUP(I8,Tabel!$K$3:$L$109,2,FALSE)","v":"22"},{"$f":"VLOOKUP(J8,Tabel!$K$3:$L$109,2,FALSE)","v":"0"},{"$f":"VLOOKUP(K8,Tabel!$K$3:$L$109,2,FALSE)","v":"17"},25,34,72,72,200,210,105,110,0,200,706,88,{"$f":"VLOOKUP($AG8,Tabel!$J$3:$K$109,2,FALSE)","v":"x"},{"$f":"Tabel!$K$106&$A8&$AH8&Tabel!$K$109","v":"Ð9182HJ56 1xÓ"},"Ð9182HJ56 1xÓ"]
[{"$f":"CONCATENATE(gastenlijst[[#This Row],[Post]],gastenlijst[[#This Row],[Code]],gastenlijst[[#This Row],[Huisnr aangepast]],gastenlijst[[#This Row],[Yes]])","v":{"$error":"#VALUE!"}},{"$error":"#VALUE!"},{"$error":"#VALUE!"},{"$error":"#VALUE!"},{"$error":"#VALUE!"},{"$error":"#VALUE!"},{"$error":"#VALUE!"},{"$error":"#VALUE!"},{"$error":"#VALUE!"},{"$error":"#VALUE!"},{"$error":"#VALUE!"},{"$f":"VLOOKUP(B9,Tabel!$K$3:$L$109,2,FALSE)","v":{"$error":"#VALUE!"}},{"$f":"VLOOKUP(C9,Tabel!$K$3:$L$109,2,FALSE)","v":{"$error":"#VALUE!"}},{"$f":"VLOOKUP(D9,Tabel!$K$3:$L$109,2,FALSE)","v":{"$error":"#VALUE!"}},{"$f":"VLOOKUP(E9,Tabel!$K$3:$L$109,2,FALSE)","v":{"$error":"#VALUE!"}},{"$f":"VLOOKUP(F9,Tabel!$K$3:$L$109,2,FALSE)","v":{"$error":"#VALUE!"}},{"$f":"VLOOKUP(G9,Tabel!$K$3:$L$109,2,FALSE)","v":{"$error":"#VALUE!"}},{"$f":"VLOOKUP(H9,Tabel!$K$3:$L$109,2,FALSE)","v":{"$error":"#VALUE!"}},{"$f":"VLOOKUP(I9,Tabel!$K$3:$L$109,2,FALSE)","v":{"$error":"#VALUE!"}},{"$f":"VLOOKUP(J9,Tabel!$K$3:$L$109,2,FALSE)","v":{"$error":"#VALUE!"}},{"$f":"VLOOKUP(K9,Tabel!$K$3:$L$109,2,FALSE)","v":{"$error":"#VALUE!"}},{"$error":"#VALUE!"},{"$error":"#VALUE!"},{"$error":"#VALUE!"},{"$error":"#VALUE!"},{"$error":"#VALUE!"},{"$error":"#VALUE!"},{"$error":"#VALUE!"},{"$error":"#VALUE!"},{"$error":"#VALUE!"},{"$error":"#VALUE!"},{"$error":"#VALUE!"},{"$error":"#VALUE!"},{"$f":"VLOOKUP($AG9,Tabel!$J$3:$K$109,2,FALSE)","v":{"$error":"#VALUE!"}},{"$f":"Tabel!$K$106&$A9&$AH9&Tabel!$K$109","v":{"$error":"#VALUE!"}},{"$error":"#VALUE!"}]
[{"$f":"CONCATENATE(gastenlijst[[#This Row],[Post]],gastenlijst[[#This Row],[Code]],gastenlijst[[#This Row],[Huisnr aangepast]],gastenlijst[[#This Row],[Yes]])","v":{"$error":"#VALUE!"}},{"$error":"#VALUE!"},{"$error":"#VALUE!"},{"$error":"#VALUE!"},{"$error":"#VALUE!"},{"$error":"#VALUE!"},{"$error":"#VALUE!"},{"$error":"#VALUE!"},{"$error":"#VALUE!"},{"$error":"#VALUE!"},{"$error":"#VALUE!"},{"$f":"VLOOKUP(B10,Tabel!$K$3:$L$109,2,FALSE)","v":{"$error":"#VALUE!"}},{"$f":"VLOOKUP(C10,Tabel!$K$3:$L$109,2,FALSE)","v":{"$error":"#VALUE!"}},{"$f":"VLOOKUP(D10,Tabel!$K$3:$L$109,2,FALSE)","v":{"$error":"#VALUE!"}},{"$f":"VLOOKUP(E10,Tabel!$K$3:$L$109,2,FALSE)","v":{"$error":"#VALUE!"}},{"$f":"VLOOKUP(F10,Tabel!$K$3:$L$109,2,FALSE)","v":{"$error":"#VALUE!"}},{"$f":"VLOOKUP(G10,Tabel!$K$3:$L$109,2,FALSE)","v":{"$error":"#VALUE!"}},{"$f":"VLOOKUP(H10,Tabel!$K$3:$L$109,2,FALSE)","v":{"$error":"#VALUE!"}},{"$f":"VLOOKUP(I10,Tabel!$K$3:$L$109,2,FALSE)","v":{"$error":"#VALUE!"}},{"$f":"VLOOKUP(J10,Tabel!$K$3:$L$109,2,FALSE)","v":{"$error":"#VALUE!"}},{"$f":"VLOOKUP(K10,Tabel!$K$3:$L$109,2,FALSE)","v":{"$error":"#VALUE!"}},{"$error":"#VALUE!"},{"$error":"#VALUE!"},{"$error":"#VALUE!"},{"$error":"#VALUE!"},{"$error":"#VALUE!"},{"$error":"#VALUE!"},{"$error":"#VALUE!"},{"$error":"#VALUE!"},{"$error":"#VALUE!"},{"$error":"#VALUE!"},{"$error":"#VALUE!"},{"$error":"#VALUE!"},{"$f":"VLOOKUP($AG10,Tabel!$J$3:$K$109,2,FALSE)","v":{"$error":"#VALUE!"}},{"$f":"Tabel!$K$106&$A10&$AH10&Tabel!$K$109","v":{"$error":"#VALUE!"}},{"$error":"#VALUE!"}]
[{"$f":"CONCATENATE(gastenlijst[[#This Row],[Post]],gastenlijst[[#This Row],[Code]],gastenlijst[[#This Row],[Huisnr aangepast]],gastenlijst[[#This Row],[Yes]])","v":{"$error":"#VALUE!"}},{"$error":"#VALUE!"},{"$error":"#VALUE!"},{"$error":"#VALUE!"},{"$error":"#VALUE!"},{"$error":"#VALUE!"},{"$error":"#VALUE!"},{"$error":"#VALUE!"},{"$error":"#VALUE!"},{"$error":"#VALUE!"},{"$error":"#VALUE!"},{"$f":"VLOOKUP(B11,Tabel!$K$3:$L$109,2,FALSE)","v":{"$error":"#VALUE!"}},{"$f":"VLOOKUP(C11,Tabel!$K$3:$L$109,2,FALSE)","v":{"$error":"#VALUE!"}},{"$f":"VLOOKUP(D11,Tabel!$K$3:$L$109,2,FALSE)","v":{"$error":"#VALUE!"}},{"$f":"VLOOKUP(E11,Tabel!$K$3:$L$109,2,FALSE)","v":{"$error":"#VALUE!"}},{"$f":"VLOOKUP(F11,Tabel!$K$3:$L$109,2,FALSE)","v":{"$error":"#VALUE!"}},{"$f":"VLOOKUP(G11,Tabel!$K$3:$L$109,2,FALSE)","v":{"$error":"#VALUE!"}},{"$f":"VLOOKUP(H11,Tabel!$K$3:$L$109,2,FALSE)","v":{"$error":"#VALUE!"}},{"$f":"VLOOKUP(I11,Tabel!$K$3:$L$109,2,FALSE)","v":{"$error":"#VALUE!"}},{"$f":"VLOOKUP(J11,Tabel!$K$3:$L$109,2,FALSE)","v":{"$error":"#VALUE!"}},{"$f":"VLOOKUP(K11,Tabel!$K$3:$L$109,2,FALSE)","v":{"$error":"#VALUE!"}},{"$error":"#VALUE!"},{"$error":"#VALUE!"},{"$error":"#VALUE!"},{"$error":"#VALUE!"},{"$error":"#VALUE!"},{"$error":"#VALUE!"},{"$error":"#VALUE!"},{"$error":"#VALUE!"},{"$error":"#VALUE!"},{"$error":"#VALUE!"},{"$error":"#VALUE!"},{"$error":"#VALUE!"},{"$f":"VLOOKUP($AG11,Tabel!$J$3:$K$109,2,FALSE)","v":{"$error":"#VALUE!"}},{"$f":"Tabel!$K$106&$A11&$AH11&Tabel!$K$109","v":{"$error":"#VALUE!"}},{"$error":"#VALUE!"}]
[{"$f":"CONCATENATE(gastenlijst[[#This Row],[Post]],gastenlijst[[#This Row],[Code]],gastenlijst[[#This Row],[Huisnr aangepast]],gastenlijst[[#This Row],[Yes]])","v":{"$error":"#VALUE!"}},{"$error":"#VALUE!"},{"$error":"#VALUE!"},{"$error":"#VALUE!"},{"$error":"#VALUE!"},{"$error":"#VALUE!"},{"$error":"#VALUE!"},{"$error":"#VALUE!"},{"$error":"#VALUE!"},{"$error":"#VALUE!"},{"$error":"#VALUE!"},{"$f":"VLOOKUP(B12,Tabel!$K$3:$L$109,2,FALSE)","v":{"$error":"#VALUE!"}},{"$f":"VLOOKUP(C12,Tabel!$K$3:$L$109,2,FALSE)","v":{"$error":"#VALUE!"}},{"$f":"VLOOKUP(D12,Tabel!$K$3:$L$109,2,FALSE)","v":{"$error":"#VALUE!"}},{"$f":"VLOOKUP(E12,Tabel!$K$3:$L$109,2,FALSE)","v":{"$error":"#VALUE!"}},{"$f":"VLOOKUP(F12,Tabel!$K$3:$L$109,2,FALSE)","v":{"$error":"#VALUE!"}},{"$f":"VLOOKUP(G12,Tabel!$K$3:$L$109,2,FALSE)","v":{"$error":"#VALUE!"}},{"$f":"VLOOKUP(H12,Tabel!$K$3:$L$109,2,FALSE)","v":{"$error":"#VALUE!"}},{"$f":"VLOOKUP(I12,Tabel!$K$3:$L$109,2,FALSE)","v":{"$error":"#VALUE!"}},{"$f":"VLOOKUP(J12,Tabel!$K$3:$L$109,2,FALSE)","v":{"$error":"#VALUE!"}},{"$f":"VLOOKUP(K12,Tabel!$K$3:$L$109,2,FALSE)","v":{"$error":"#VALUE!"}},{"$error":"#VALUE!"},{"$error":"#VALUE!"},{"$error":"#VALUE!"},{"$error":"#VALUE!"},{"$error":"#VALUE!"},{"$error":"#VALUE!"},{"$error":"#VALUE!"},{"$error":"#VALUE!"},{"$error":"#VALUE!"},{"$error":"#VALUE!"},{"$error":"#VALUE!"},{"$error":"#VALUE!"},{"$f":"VLOOKUP($AG12,Tabel!$J$3:$K$109,2,FALSE)","v":{"$error":"#VALUE!"}},{"$f":"Tabel!$K$106&$A12&$AH12&Tabel!$K$109","v":{"$error":"#VALUE!"}},{"$error":"#VALUE!"}]
[{"$f":"CONCATENATE(gastenlijst[[#This Row],[Post]],gastenlijst[[#This Row],[Code]],gastenlijst[[#This Row],[Huisnr aangepast]],gastenlijst[[#This Row],[Yes]])","v":{"$error":"#VALUE!"}},{"$error":"#VALUE!"},{"$error":"#VALUE!"},{"$error":"#VALUE!"},{"$error":"#VALUE!"},{"$error":"#VALUE!"},{"$error":"#VALUE!"},{"$error":"#VALUE!"},{"$error":"#VALUE!"},{"$error":"#VALUE!"},{"$error":"#VALUE!"},{"$f":"VLOOKUP(B13,Tabel!$K$3:$L$109,2,FALSE)","v":{"$error":"#VALUE!"}},{"$f":"VLOOKUP(C13,Tabel!$K$3:$L$109,2,FALSE)","v":{"$error":"#VALUE!"}},{"$f":"VLOOKUP(D13,Tabel!$K$3:$L$109,2,FALSE)","v":{"$error":"#VALUE!"}},{"$f":"VLOOKUP(E13,Tabel!$K$3:$L$109,2,FALSE)","v":{"$error":"#VALUE!"}},{"$f":"VLOOKUP(F13,Tabel!$K$3:$L$109,2,FALSE)","v":{"$error":"#VALUE!"}},{"$f":"VLOOKUP(G13,Tabel!$K$3:$L$109,2,FALSE)","v":{"$error":"#VALUE!"}},{"$f":"VLOOKUP(H13,Tabel!$K$3:$L$109,2,FALSE)","v":{"$error":"#VALUE!"}},{"$f":"VLOOKUP(I13,Tabel!$K$3:$L$109,2,FALSE)","v":{"$error":"#VALUE!"}},{"$f":"VLOOKUP(J13,Tabel!$K$3:$L$109,2,FALSE)","v":{"$error":"#VALUE!"}},{"$f":"VLOOKUP(K13,Tabel!$K$3:$L$109,2,FALSE)","v":{"$error":"#VALUE!"}},{"$error":"#VALUE!"},{"$error":"#VALUE!"},{"$error":"#VALUE!"},{"$error":"#VALUE!"},{"$error":"#VALUE!"},{"$error":"#VALUE!"},{"$error":"#VALUE!"},{"$error":"#VALUE!"},{"$error":"#VALUE!"},{"$error":"#VALUE!"},{"$error":"#VALUE!"},{"$error":"#VALUE!"},{"$f":"VLOOKUP($AG13,Tabel!$J$3:$K$109,2,FALSE)","v":{"$error":"#VALUE!"}},{"$f":"Tabel!$K$106&$A13&$AH13&Tabel!$K$109","v":{"$error":"#VALUE!"}},{"$error":"#VALUE!"}]
[{"$f":"CONCATENATE(gastenlijst[[#This Row],[Post]],gastenlijst[[#This Row],[Code]],gastenlijst[[#This Row],[Huisnr aangepast]],gastenlijst[[#This Row],[Yes]])","v":{"$error":"#VALUE!"}},{"$error":"#VALUE!"},{"$error":"#VALUE!"},{"$error":"#VALUE!"},{"$error":"#VALUE!"},{"$error":"#VALUE!"},{"$error":"#VALUE!"},{"$error":"#VALUE!"},{"$error":"#VALUE!"},{"$error":"#VALUE!"},{"$error":"#VALUE!"},{"$f":"VLOOKUP(B14,Tabel!$K$3:$L$109,2,FALSE)","v":{"$error":"#VALUE!"}},{"$f":"VLOOKUP(C14,Tabel!$K$3:$L$109,2,FALSE)","v":{"$error":"#VALUE!"}},{"$f":"VLOOKUP(D14,Tabel!$K$3:$L$109,2,FALSE)","v":{"$error":"#VALUE!"}},{"$f":"VLOOKUP(E14,Tabel!$K$3:$L$109,2,FALSE)","v":{"$error":"#VALUE!"}},{"$f":"VLOOKUP(F14,Tabel!$K$3:$L$109,2,FALSE)","v":{"$error":"#VALUE!"}},{"$f":"VLOOKUP(G14,Tabel!$K$3:$L$109,2,FALSE)","v":{"$error":"#VALUE!"}},{"$f":"VLOOKUP(H14,Tabel!$K$3:$L$109,2,FALSE)","v":{"$error":"#VALUE!"}},{"$f":"VLOOKUP(I14,Tabel!$K$3:$L$109,2,FALSE)","v":{"$error":"#VALUE!"}},{"$f":"VLOOKUP(J14,Tabel!$K$3:$L$109,2,FALSE)","v":{"$error":"#VALUE!"}},{"$f":"VLOOKUP(K14,Tabel!$K$3:$L$109,2,FALSE)","v":{"$error":"#VALUE!"}},{"$error":"#VALUE!"},{"$error":"#VALUE!"},{"$error":"#VALUE!"},{"$error":"#VALUE!"},{"$error":"#VALUE!"},{"$error":"#VALUE!"},{"$error":"#VALUE!"},{"$error":"#VALUE!"},{"$error":"#VALUE!"},{"$error":"#VALUE!"},{"$error":"#VALUE!"},{"$error":"#VALUE!"},{"$f":"VLOOKUP($AG14,Tabel!$J$3:$K$109,2,FALSE)","v":{"$error":"#VALUE!"}},{"$f":"Tabel!$K$106&$A14&$AH14&Tabel!$K$109","v":{"$error":"#VALUE!"}},{"$error":"#VALUE!"}]
[{"$f":"CONCATENATE(gastenlijst[[#This Row],[Post]],gastenlijst[[#This Row],[Code]],gastenlijst[[#This Row],[Huisnr aangepast]],gastenlijst[[#This Row],[Yes]])","v":{"$error":"#VALUE!"}},{"$error":"#VALUE!"},{"$error":"#VALUE!"},{"$error":"#VALUE!"},{"$error":"#VALUE!"},{"$error":"#VALUE!"},{"$error":"#VALUE!"},{"$error":"#VALUE!"},{"$error":"#VALUE!"},{"$error":"#VALUE!"},{"$error":"#VALUE!"},{"$f":"VLOOKUP(B15,Tabel!$K$3:$L$109,2,FALSE)","v":{"$error":"#VALUE!"}},{"$f":"VLOOKUP(C15,Tabel!$K$3:$L$109,2,FALSE)","v":{"$error":"#VALUE!"}},{"$f":"VLOOKUP(D15,Tabel!$K$3:$L$109,2,FALSE)","v":{"$error":"#VALUE!"}},{"$f":"VLOOKUP(E15,Tabel!$K$3:$L$109,2,FALSE)","v":{"$error":"#VALUE!"}},{"$f":"VLOOKUP(F15,Tabel!$K$3:$L$109,2,FALSE)","v":{"$error":"#VALUE!"}},{"$f":"VLOOKUP(G15,Tabel!$K$3:$L$109,2,FALSE)","v":{"$error":"#VALUE!"}},{"$f":"VLOOKUP(H15,Tabel!$K$3:$L$109,2,FALSE)","v":{"$error":"#VALUE!"}},{"$f":"VLOOKUP(I15,Tabel!$K$3:$L$109,2,FALSE)","v":{"$error":"#VALUE!"}},{"$f":"VLOOKUP(J15,Tabel!$K$3:$L$109,2,FALSE)","v":{"$error":"#VALUE!"}},{"$f":"VLOOKUP(K15,Tabel!$K$3:$L$109,2,FALSE)","v":{"$error":"#VALUE!"}},{"$error":"#VALUE!"},{"$error":"#VALUE!"},{"$error":"#VALUE!"},{"$error":"#VALUE!"},{"$error":"#VALUE!"},{"$error":"#VALUE!"},{"$error":"#VALUE!"},{"$error":"#VALUE!"},{"$error":"#VALUE!"},{"$error":"#VALUE!"},{"$error":"#VALUE!"},{"$error":"#VALUE!"},{"$f":"VLOOKUP($AG15,Tabel!$J$3:$K$109,2,FALSE)","v":{"$error":"#VALUE!"}},{"$f":"Tabel!$K$106&$A15&$AH15&Tabel!$K$109","v":{"$error":"#VALUE!"}},{"$error":"#VALUE!"}]
[{"$f":"CONCATENATE(gastenlijst[[#This Row],[Post]],gastenlijst[[#This Row],[Code]],gastenlijst[[#This Row],[Huisnr aangepast]],gastenlijst[[#This Row],[Yes]])","v":{"$error":"#VALUE!"}},{"$error":"#VALUE!"},{"$error":"#VALUE!"},{"$error":"#VALUE!"},{"$error":"#VALUE!"},{"$error":"#VALUE!"},{"$error":"#VALUE!"},{"$error":"#VALUE!"},{"$error":"#VALUE!"},{"$error":"#VALUE!"},{"$error":"#VALUE!"},{"$f":"VLOOKUP(B16,Tabel!$K$3:$L$109,2,FALSE)","v":{"$error":"#VALUE!"}},{"$f":"VLOOKUP(C16,Tabel!$K$3:$L$109,2,FALSE)","v":{"$error":"#VALUE!"}},{"$f":"VLOOKUP(D16,Tabel!$K$3:$L$109,2,FALSE)","v":{"$error":"#VALUE!"}},{"$f":"VLOOKUP(E16,Tabel!$K$3:$L$109,2,FALSE)","v":{"$error":"#VALUE!"}},{"$f":"VLOOKUP(F16,Tabel!$K$3:$L$109,2,FALSE)","v":{"$error":"#VALUE!"}},{"$f":"VLOOKUP(G16,Tabel!$K$3:$L$109,2,FALSE)","v":{"$error":"#VALUE!"}},{"$f":"VLOOKUP(H16,Tabel!$K$3:$L$109,2,FALSE)","v":{"$error":"#VALUE!"}},{"$f":"VLOOKUP(I16,Tabel!$K$3:$L$109,2,FALSE)","v":{"$error":"#VALUE!"}},{"$f":"VLOOKUP(J16,Tabel!$K$3:$L$109,2,FALSE)","v":{"$error":"#VALUE!"}},{"$f":"VLOOKUP(K16,Tabel!$K$3:$L$109,2,FALSE)","v":{"$error":"#VALUE!"}},{"$error":"#VALUE!"},{"$error":"#VALUE!"},{"$error":"#VALUE!"},{"$error":"#VALUE!"},{"$error":"#VALUE!"},{"$error":"#VALUE!"},{"$error":"#VALUE!"},{"$error":"#VALUE!"},{"$error":"#VALUE!"},{"$error":"#VALUE!"},{"$error":"#VALUE!"},{"$error":"#VALUE!"},{"$f":"VLOOKUP($AG16,Tabel!$J$3:$K$109,2,FALSE)","v":{"$error":"#VALUE!"}},{"$f":"Tabel!$K$106&$A16&$AH16&Tabel!$K$109","v":{"$error":"#VALUE!"}},{"$error":"#VALUE!"}]
[{"$f":"CONCATENATE(gastenlijst[[#This Row],[Post]],gastenlijst[[#This Row],[Code]],gastenlijst[[#This Row],[Huisnr aangepast]],gastenlijst[[#This Row],[Yes]])","v":{"$error":"#VALUE!"}},{"$error":"#VALUE!"},{"$error":"#VALUE!"},{"$error":"#VALUE!"},{"$error":"#VALUE!"},{"$error":"#VALUE!"},{"$error":"#VALUE!"},{"$error":"#VALUE!"},{"$error":"#VALUE!"},{"$error":"#VALUE!"},{"$error":"#VALUE!"},{"$f":"VLOOKUP(B17,Tabel!$K$3:$L$109,2,FALSE)","v":{"$error":"#VALUE!"}},{"$f":"VLOOKUP(C17,Tabel!$K$3:$L$109,2,FALSE)","v":{"$error":"#VALUE!"}},{"$f":"VLOOKUP(D17,Tabel!$K$3:$L$109,2,FALSE)","v":{"$error":"#VALUE!"}},{"$f":"VLOOKUP(E17,Tabel!$K$3:$L$109,2,FALSE)","v":{"$error":"#VALUE!"}},{"$f":"VLOOKUP(F17,Tabel!$K$3:$L$109,2,FALSE)","v":{"$error":"#VALUE!"}},{"$f":"VLOOKUP(G17,Tabel!$K$3:$L$109,2,FALSE)","v":{"$error":"#VALUE!"}},{"$f":"VLOOKUP(H17,Tabel!$K$3:$L$109,2,FALSE)","v":{"$error":"#VALUE!"}},{"$f":"VLOOKUP(I17,Tabel!$K$3:$L$109,2,FALSE)","v":{"$error":"#VALUE!"}},{"$f":"VLOOKUP(J17,Tabel!$K$3:$L$109,2,FALSE)","v":{"$error":"#VALUE!"}},{"$f":"VLOOKUP(K17,Tabel!$K$3:$L$109,2,FALSE)","v":{"$error":"#VALUE!"}},{"$error":"#VALUE!"},{"$error":"#VALUE!"},{"$error":"#VALUE!"},{"$error":"#VALUE!"},{"$error":"#VALUE!"},{"$error":"#VALUE!"},{"$error":"#VALUE!"},{"$error":"#VALUE!"},{"$error":"#VALUE!"},{"$error":"#VALUE!"},{"$error":"#VALUE!"},{"$error":"#VALUE!"},{"$f":"VLOOKUP($AG17,Tabel!$J$3:$K$109,2,FALSE)","v":{"$error":"#VALUE!"}},{"$f":"Tabel!$K$106&$A17&$AH17&Tabel!$K$109","v":{"$error":"#VALUE!"}},{"$error":"#VALUE!"}]
[{"$f":"CONCATENATE(gastenlijst[[#This Row],[Post]],gastenlijst[[#This Row],[Code]],gastenlijst[[#This Row],[Huisnr aangepast]],gastenlijst[[#This Row],[Yes]])","v":{"$error":"#VALUE!"}},{"$error":"#VALUE!"},{"$error":"#VALUE!"},{"$error":"#VALUE!"},{"$error":"#VALUE!"},{"$error":"#VALUE!"},{"$error":"#VALUE!"},{"$error":"#VALUE!"},{"$error":"#VALUE!"},{"$error":"#VALUE!"},{"$error":"#VALUE!"},{"$f":"VLOOKUP(B18,Tabel!$K$3:$L$109,2,FALSE)","v":{"$error":"#VALUE!"}},{"$f":"VLOOKUP(C18,Tabel!$K$3:$L$109,2,FALSE)","v":{"$error":"#VALUE!"}},{"$f":"VLOOKUP(D18,Tabel!$K$3:$L$109,2,FALSE)","v":{"$error":"#VALUE!"}},{"$f":"VLOOKUP(E18,Tabel!$K$3:$L$109,2,FALSE)","v":{"$error":"#VALUE!"}},{"$f":"VLOOKUP(F18,Tabel!$K$3:$L$109,2,FALSE)","v":{"$error":"#VALUE!"}},{"$f":"VLOOKUP(G18,Tabel!$K$3:$L$109,2,FALSE)","v":{"$error":"#VALUE!"}},{"$f":"VLOOKUP(H18,Tabel!$K$3:$L$109,2,FALSE)","v":{"$error":"#VALUE!"}},{"$f":"VLOOKUP(I18,Tabel!$K$3:$L$109,2,FALSE)","v":{"$error":"#VALUE!"}},{"$f":"VLOOKUP(J18,Tabel!$K$3:$L$109,2,FALSE)","v":{"$error":"#VALUE!"}},{"$f":"VLOOKUP(K18,Tabel!$K$3:$L$109,2,FALSE)","v":{"$error":"#VALUE!"}},{"$error":"#VALUE!"},{"$error":"#VALUE!"},{"$error":"#VALUE!"},{"$error":"#VALUE!"},{"$error":"#VALUE!"},{"$error":"#VALUE!"},{"$error":"#VALUE!"},{"$error":"#VALUE!"},{"$error":"#VALUE!"},{"$error":"#VALUE!"},{"$error":"#VALUE!"},{"$error":"#VALUE!"},{"$f":"VLOOKUP($AG18,Tabel!$J$3:$K$109,2,FALSE)","v":{"$error":"#VALUE!"}},{"$f":"Tabel!$K$106&$A18&$AH18&Tabel!$K$109","v":{"$error":"#VALUE!"}},{"$error":"#VALUE!"}]
[{"$f":"CONCATENATE(gastenlijst[[#This Row],[Post]],gastenlijst[[#This Row],[Code]],gastenlijst[[#This Row],[Huisnr aangepast]],gastenlijst[[#This Row],[Yes]])","v":{"$error":"#VALUE!"}},{"$error":"#VALUE!"},{"$error":"#VALUE!"},{"$error":"#VALUE!"},{"$error":"#VALUE!"},{"$error":"#VALUE!"},{"$error":"#VALUE!"},{"$error":"#VALUE!"},{"$error":"#VALUE!"},{"$error":"#VALUE!"},{"$error":"#VALUE!"},{"$f":"VLOOKUP(B19,Tabel!$K$3:$L$109,2,FALSE)","v":{"$error":"#VALUE!"}},{"$f":"VLOOKUP(C19,Tabel!$K$3:$L$109,2,FALSE)","v":{"$error":"#VALUE!"}},{"$f":"VLOOKUP(D19,Tabel!$K$3:$L$109,2,FALSE)","v":{"$error":"#VALUE!"}},{"$f":"VLOOKUP(E19,Tabel!$K$3:$L$109,2,FALSE)","v":{"$error":"#VALUE!"}},{"$f":"VLOOKUP(F19,Tabel!$K$3:$L$109,2,FALSE)","v":{"$error":"#VALUE!"}},{"$f":"VLOOKUP(G19,Tabel!$K$3:$L$109,2,FALSE)","v":{"$error":"#VALUE!"}},{"$f":"VLOOKUP(H19,Tabel!$K$3:$L$109,2,FALSE)","v":{"$error":"#VALUE!"}},{"$f":"VLOOKUP(I19,Tabel!$K$3:$L$109,2,FALSE)","v":{"$error":"#VALUE!"}},{"$f":"VLOOKUP(J19,Tabel!$K$3:$L$109,2,FALSE)","v":{"$error":"#VALUE!"}},{"$f":"VLOOKUP(K19,Tabel!$K$3:$L$109,2,FALSE)","v":{"$error":"#VALUE!"}},{"$error":"#VALUE!"},{"$error":"#VALUE!"},{"$error":"#VALUE!"},{"$error":"#VALUE!"},{"$error":"#VALUE!"},{"$error":"#VALUE!"},{"$error":"#VALUE!"},{"$error":"#VALUE!"},{"$error":"#VALUE!"},{"$error":"#VALUE!"},{"$error":"#VALUE!"},{"$error":"#VALUE!"},{"$f":"VLOOKUP($AG19,Tabel!$J$3:$K$109,2,FALSE)","v":{"$error":"#VALUE!"}},{"$f":"Tabel!$K$106&$A19&$AH19&Tabel!$K$109","v":{"$error":"#VALUE!"}},{"$error":"#VALUE!"}]
[{"$f":"CONCATENATE(gastenlijst[[#This Row],[Post]],gastenlijst[[#This Row],[Code]],gastenlijst[[#This Row],[Huisnr aangepast]],gastenlijst[[#This Row],[Yes]])","v":{"$error":"#VALUE!"}},{"$error":"#VALUE!"},{"$error":"#VALUE!"},{"$error":"#VALUE!"},{"$error":"#VALUE!"},{"$error":"#VALUE!"},{"$error":"#VALUE!"},{"$error":"#VALUE!"},{"$error":"#VALUE!"},{"$error":"#VALUE!"},{"$error":"#VALUE!"},{"$f":"VLOOKUP(B20,Tabel!$K$3:$L$109,2,FALSE)","v":{"$error":"#VALUE!"}},{"$f":"VLOOKUP(C20,Tabel!$K$3:$L$109,2,FALSE)","v":{"$error":"#VALUE!"}},{"$f":"VLOOKUP(D20,Tabel!$K$3:$L$109,2,FALSE)","v":{"$error":"#VALUE!"}},{"$f":"VLOOKUP(E20,Tabel!$K$3:$L$109,2,FALSE)","v":{"$error":"#VALUE!"}},{"$f":"VLOOKUP(F20,Tabel!$K$3:$L$109,2,FALSE)","v":{"$error":"#VALUE!"}},{"$f":"VLOOKUP(G20,Tabel!$K$3:$L$109,2,FALSE)","v":{"$error":"#VALUE!"}},{"$f":"VLOOKUP(H20,Tabel!$K$3:$L$109,2,FALSE)","v":{"$error":"#VALUE!"}},{"$f":"VLOOKUP(I20,Tabel!$K$3:$L$109,2,FALSE)","v":{"$error":"#VALUE!"}},{"$f":"VLOOKUP(J20,Tabel!$K$3:$L$109,2,FALSE)","v":{"$error":"#VALUE!"}},{"$f":"VLOOKUP(K20,Tabel!$K$3:$L$109,2,FALSE)","v":{"$error":"#VALUE!"}},{"$error":"#VALUE!"},{"$error":"#VALUE!"},{"$error":"#VALUE!"},{"$error":"#VALUE!"},{"$error":"#VALUE!"},{"$error":"#VALUE!"},{"$error":"#VALUE!"},{"$error":"#VALUE!"},{"$error":"#VALUE!"},{"$error":"#VALUE!"},{"$error":"#VALUE!"},{"$error":"#VALUE!"},{"$f":"VLOOKUP($AG20,Tabel!$J$3:$K$109,2,FALSE)","v":{"$error":"#VALUE!"}},{"$f":"Tabel!$K$106&$A20&$AH20&Tabel!$K$109","v":{"$error":"#VALUE!"}},{"$error":"#VALUE!"}]
[{"$f":"CONCATENATE(gastenlijst[[#This Row],[Post]],gastenlijst[[#This Row],[Code]],gastenlijst[[#This Row],[Huisnr aangepast]],gastenlijst[[#This Row],[Yes]])","v":{"$error":"#VALUE!"}},{"$error":"#VALUE!"},{"$error":"#VALUE!"},{"$error":"#VALUE!"},{"$error":"#VALUE!"},{"$error":"#VALUE!"},{"$error":"#VALUE!"},{"$error":"#VALUE!"},{"$error":"#VALUE!"},{"$error":"#VALUE!"},{"$error":"#VALUE!"},{"$f":"VLOOKUP(B21,Tabel!$K$3:$L$109,2,FALSE)","v":{"$error":"#VALUE!"}},{"$f":"VLOOKUP(C21,Tabel!$K$3:$L$109,2,FALSE)","v":{"$error":"#VALUE!"}},{"$f":"VLOOKUP(D21,Tabel!$K$3:$L$109,2,FALSE)","v":{"$error":"#VALUE!"}},{"$f":"VLOOKUP(E21,Tabel!$K$3:$L$109,2,FALSE)","v":{"$error":"#VALUE!"}},{"$f":"VLOOKUP(F21,Tabel!$K$3:$L$109,2,FALSE)","v":{"$error":"#VALUE!"}},{"$f":"VLOOKUP(G21,Tabel!$K$3:$L$109,2,FALSE)","v":{"$error":"#VALUE!"}},{"$f":"VLOOKUP(H21,Tabel!$K$3:$L$109,2,FALSE)","v":{"$error":"#VALUE!"}},{"$f":"VLOOKUP(I21,Tabel!$K$3:$L$109,2,FALSE)","v":{"$error":"#VALUE!"}},{"$f":"VLOOKUP(J21,Tabel!$K$3:$L$109,2,FALSE)","v":{"$error":"#VALUE!"}},{"$f":"VLOOKUP(K21,Tabel!$K$3:$L$109,2,FALSE)","v":{"$error":"#VALUE!"}},{"$error":"#VALUE!"},{"$error":"#VALUE!"},{"$error":"#VALUE!"},{"$error":"#VALUE!"},{"$error":"#VALUE!"},{"$error":"#VALUE!"},{"$error":"#VALUE!"},{"$error":"#VALUE!"},{"$error":"#VALUE!"},{"$error":"#VALUE!"},{"$error":"#VALUE!"},{"$error":"#VALUE!"},{"$f":"VLOOKUP($AG21,Tabel!$J$3:$K$109,2,FALSE)","v":{"$error":"#VALUE!"}},{"$f":"Tabel!$K$106&$A21&$AH21&Tabel!$K$109","v":{"$error":"#VALUE!"}},{"$error":"#VALUE!"}]
[{"$f":"CONCATENATE(gastenlijst[[#This Row],[Post]],gastenlijst[[#This Row],[Code]],gastenlijst[[#This Row],[Huisnr aangepast]],gastenlijst[[#This Row],[Yes]])","v":{"$error":"#VALUE!"}},{"$error":"#VALUE!"},{"$error":"#VALUE!"},{"$error":"#VALUE!"},{"$error":"#VALUE!"},{"$error":"#VALUE!"},{"$error":"#VALUE!"},{"$error":"#VALUE!"},{"$error":"#VALUE!"},{"$error":"#VALUE!"},{"$error":"#VALUE!"},{"$f":"VLOOKUP(B22,Tabel!$K$3:$L$109,2,FALSE)","v":{"$error":"#VALUE!"}},{"$f":"VLOOKUP(C22,Tabel!$K$3:$L$109,2,FALSE)","v":{"$error":"#VALUE!"}},{"$f":"VLOOKUP(D22,Tabel!$K$3:$L$109,2,FALSE)","v":{"$error":"#VALUE!"}},{"$f":"VLOOKUP(E22,Tabel!$K$3:$L$109,2,FALSE)","v":{"$error":"#VALUE!"}},{"$f":"VLOOKUP(F22,Tabel!$K$3:$L$109,2,FALSE)","v":{"$error":"#VALUE!"}},{"$f":"VLOOKUP(G22,Tabel!$K$3:$L$109,2,FALSE)","v":{"$error":"#VALUE!"}},{"$f":"VLOOKUP(H22,Tabel!$K$3:$L$109,2,FALSE)","v":{"$error":"#VALUE!"}},{"$f":"VLOOKUP(I22,Tabel!$K$3:$L$109,2,FALSE)","v":{"$error":"#VALUE!"}},{"$f":"VLOOKUP(J22,Tabel!$K$3:$L$109,2,FALSE)","v":{"$error":"#VALUE!"}},{"$f":"VLOOKUP(K22,Tabel!$K$3:$L$109,2,FALSE)","v":{"$error":"#VALUE!"}},{"$error":"#VALUE!"},{"$error":"#VALUE!"},{"$error":"#VALUE!"},{"$error":"#VALUE!"},{"$error":"#VALUE!"},{"$error":"#VALUE!"},{"$error":"#VALUE!"},{"$error":"#VALUE!"},{"$error":"#VALUE!"},{"$f":"$P22*5","v":{"$error":"#VALUE!"}},{"$error":"#VALUE!"},{"$error":"#VALUE!"},{"$f":"VLOOKUP($AG22,Tabel!$J$3:$K$109,2,FALSE)","v":{"$error":"#VALUE!"}},{"$f":"Tabel!$K$106&$A22&$AH22&Tabel!$K$109","v":{"$error":"#VALUE!"}},{"$error":"#VALUE!"}]
[{"$f":"CONCATENATE(gastenlijst[[#This Row],[Post]],gastenlijst[[#This Row],[Code]],gastenlijst[[#This Row],[Huisnr aangepast]],gastenlijst[[#This Row],[Yes]])","v":{"$error":"#VALUE!"}},{"$error":"#VALUE!"},{"$error":"#VALUE!"},{"$error":"#VALUE!"},{"$error":"#VALUE!"},{"$error":"#VALUE!"},{"$error":"#VALUE!"},{"$error":"#VALUE!"},{"$error":"#VALUE!"},{"$error":"#VALUE!"},{"$error":"#VALUE!"},{"$f":"VLOOKUP(B23,Tabel!$K$3:$L$109,2,FALSE)","v":{"$error":"#VALUE!"}},{"$f":"VLOOKUP(C23,Tabel!$K$3:$L$109,2,FALSE)","v":{"$error":"#VALUE!"}},{"$f":"VLOOKUP(D23,Tabel!$K$3:$L$109,2,FALSE)","v":{"$error":"#VALUE!"}},{"$f":"VLOOKUP(E23,Tabel!$K$3:$L$109,2,FALSE)","v":{"$error":"#VALUE!"}},{"$f":"VLOOKUP(F23,Tabel!$K$3:$L$109,2,FALSE)","v":{"$error":"#VALUE!"}},{"$f":"VLOOKUP(G23,Tabel!$K$3:$L$109,2,FALSE)","v":{"$error":"#VALUE!"}},{"$f":"VLOOKUP(H23,Tabel!$K$3:$L$109,2,FALSE)","v":{"$error":"#VALUE!"}},{"$f":"VLOOKUP(I23,Tabel!$K$3:$L$109,2,FALSE)","v":{"$error":"#VALUE!"}},{"$f":"VLOOKUP(J23,Tabel!$K$3:$L$109,2,FALSE)","v":{"$error":"#VALUE!"}},{"$f":"VLOOKUP(K23,Tabel!$K$3:$L$109,2,FALSE)","v":{"$error":"#VALUE!"}},{"$error":"#VALUE!"},{"$error":"#VALUE!"},{"$error":"#VALUE!"},{"$error":"#VALUE!"},{"$error":"#VALUE!"},{"$error":"#VALUE!"},{"$error":"#VALUE!"},{"$error":"#VALUE!"},{"$error":"#VALUE!"},{"$error":"#VALUE!"},{"$error":"#VALUE!"},{"$error":"#VALUE!"},{"$f":"VLOOKUP($AG23,Tabel!$J$3:$K$109,2,FALSE)","v":{"$error":"#VALUE!"}},{"$f":"Tabel!$K$106&$A23&$AH23&Tabel!$K$109","v":{"$error":"#VALUE!"}},{"$error":"#VALUE!"}]
[{"$f":"CONCATENATE(gastenlijst[[#This Row],[Post]],gastenlijst[[#This Row],[Code]],gastenlijst[[#This Row],[Huisnr aangepast]],gastenlijst[[#This Row],[Yes]])","v":{"$error":"#VALUE!"}},{"$error":"#VALUE!"},{"$error":"#VALUE!"},{"$error":"#VALUE!"},{"$error":"#VALUE!"},{"$error":"#VALUE!"},{"$error":"#VALUE!"},{"$error":"#VALUE!"},{"$error":"#VALUE!"},{"$error":"#VALUE!"},{"$error":"#VALUE!"},{"$f":"VLOOKUP(B24,Tabel!$K$3:$L$109,2,FALSE)","v":{"$error":"#VALUE!"}},{"$f":"VLOOKUP(C24,Tabel!$K$3:$L$109,2,FALSE)","v":{"$error":"#VALUE!"}},{"$f":"VLOOKUP(D24,Tabel!$K$3:$L$109,2,FALSE)","v":{"$error":"#VALUE!"}},{"$f":"VLOOKUP(E24,Tabel!$K$3:$L$109,2,FALSE)","v":{"$error":"#VALUE!"}},{"$f":"VLOOKUP(F24,Tabel!$K$3:$L$109,2,FALSE)","v":{"$error":"#VALUE!"}},{"$f":"VLOOKUP(G24,Tabel!$K$3:$L$109,2,FALSE)","v":{"$error":"#VALUE!"}},{"$f":"VLOOKUP(H24,Tabel!$K$3:$L$109,2,FALSE)","v":{"$error":"#VALUE!"}},{"$f":"VLOOKUP(I24,Tabel!$K$3:$L$109,2,FALSE)","v":{"$error":"#VALUE!"}},{"$f":"VLOOKUP(J24,Tabel!$K$3:$L$109,2,FALSE)","v":{"$error":"#VALUE!"}},{"$f":"VLOOKUP(K24,Tabel!$K$3:$L$109,2,FALSE)","v":{"$error":"#VALUE!"}},{"$error":"#VALUE!"},{"$error":"#VALUE!"},{"$error":"#VALUE!"},{"$error":"#VALUE!"},{"$error":"#VALUE!"},{"$error":"#VALUE!"},{"$error":"#VALUE!"},{"$error":"#VALUE!"},{"$error":"#VALUE!"},{"$error":"#VALUE!"},{"$error":"#VALUE!"},{"$error":"#VALUE!"},{"$f":"VLOOKUP($AG24,Tabel!$J$3:$K$109,2,FALSE)","v":{"$error":"#VALUE!"}},{"$f":"Tabel!$K$106&$A24&$AH24&Tabel!$K$109","v":{"$error":"#VALUE!"}},{"$error":"#VALUE!"}]
[{"$f":"CONCATENATE(gastenlijst[[#This Row],[Post]],gastenlijst[[#This Row],[Code]],gastenlijst[[#This Row],[Huisnr aangepast]],gastenlijst[[#This Row],[Yes]])","v":{"$error":"#VALUE!"}},{"$error":"#VALUE!"},{"$error":"#VALUE!"},{"$error":"#VALUE!"},{"$error":"#VALUE!"},{"$error":"#VALUE!"},{"$error":"#VALUE!"},{"$error":"#VALUE!"},{"$error":"#VALUE!"},{"$error":"#VALUE!"},{"$error":"#VALUE!"},{"$f":"VLOOKUP(B25,Tabel!$K$3:$L$109,2,FALSE)","v":{"$error":"#VALUE!"}},{"$f":"VLOOKUP(C25,Tabel!$K$3:$L$109,2,FALSE)","v":{"$error":"#VALUE!"}},{"$f":"VLOOKUP(D25,Tabel!$K$3:$L$109,2,FALSE)","v":{"$error":"#VALUE!"}},{"$f":"VLOOKUP(E25,Tabel!$K$3:$L$109,2,FALSE)","v":{"$error":"#VALUE!"}},{"$f":"VLOOKUP(F25,Tabel!$K$3:$L$109,2,FALSE)","v":{"$error":"#VALUE!"}},{"$f":"VLOOKUP(G25,Tabel!$K$3:$L$109,2,FALSE)","v":{"$error":"#VALUE!"}},{"$f":"VLOOKUP(H25,Tabel!$K$3:$L$109,2,FALSE)","v":{"$error":"#VALUE!"}},{"$f":"VLOOKUP(I25,Tabel!$K$3:$L$109,2,FALSE)","v":{"$error":"#VALUE!"}},{"$f":"VLOOKUP(J25,Tabel!$K$3:$L$109,2,FALSE)","v":{"$error":"#VALUE!"}},{"$f":"VLOOKUP(K25,Tabel!$K$3:$L$109,2,FALSE)","v":{"$error":"#VALUE!"}},{"$error":"#VALUE!"},{"$error":"#VALUE!"},{"$error":"#VALUE!"},{"$error":"#VALUE!"},{"$error":"#VALUE!"},{"$error":"#VALUE!"},{"$error":"#VALUE!"},{"$error":"#VALUE!"},{"$error":"#VALUE!"},{"$error":"#VALUE!"},{"$error":"#VALUE!"},{"$error":"#VALUE!"},{"$f":"VLOOKUP($AG25,Tabel!$J$3:$K$109,2,FALSE)","v":{"$error":"#VALUE!"}},{"$f":"Tabel!$K$106&$A25&$AH25&Tabel!$K$109","v":{"$error":"#VALUE!"}},{"$error":"#VALUE!"}]
[{"$f":"CONCATENATE(gastenlijst[[#This Row],[Post]],gastenlijst[[#This Row],[Code]],gastenlijst[[#This Row],[Huisnr aangepast]],gastenlijst[[#This Row],[Yes]])","v":{"$error":"#VALUE!"}},{"$error":"#VALUE!"},{"$error":"#VALUE!"},{"$error":"#VALUE!"},{"$error":"#VALUE!"},{"$error":"#VALUE!"},{"$error":"#VALUE!"},{"$error":"#VALUE!"},{"$error":"#VALUE!"},{"$error":"#VALUE!"},{"$error":"#VALUE!"},{"$f":"VLOOKUP(B26,Tabel!$K$3:$L$109,2,FALSE)","v":{"$error":"#VALUE!"}},{"$f":"VLOOKUP(C26,Tabel!$K$3:$L$109,2,FALSE)","v":{"$error":"#VALUE!"}},{"$f":"VLOOKUP(D26,Tabel!$K$3:$L$109,2,FALSE)","v":{"$error":"#VALUE!"}},{"$f":"VLOOKUP(E26,Tabel!$K$3:$L$109,2,FALSE)","v":{"$error":"#VALUE!"}},{"$f":"VLOOKUP(F26,Tabel!$K$3:$L$109,2,FALSE)","v":{"$error":"#VALUE!"}},{"$f":"VLOOKUP(G26,Tabel!$K$3:$L$109,2,FALSE)","v":{"$error":"#VALUE!"}},{"$f":"VLOOKUP(H26,Tabel!$K$3:$L$109,2,FALSE)","v":{"$error":"#VALUE!"}},{"$f":"VLOOKUP(I26,Tabel!$K$3:$L$109,2,FALSE)","v":{"$error":"#VALUE!"}},{"$f":"VLOOKUP(J26,Tabel!$K$3:$L$109,2,FALSE)","v":{"$error":"#VALUE!"}},{"$f":"VLOOKUP(K26,Tabel!$K$3:$L$109,2,FALSE)","v":{"$error":"#VALUE!"}},{"$error":"#VALUE!"},{"$error":"#VALUE!"},{"$error":"#VALUE!"},{"$error":"#VALUE!"},{"$error":"#VALUE!"},{"$error":"#VALUE!"},{"$error":"#VALUE!"},{"$error":"#VALUE!"},{"$error":"#VALUE!"},{"$error":"#VALUE!"},{"$error":"#VALUE!"},{"$error":"#VALUE!"},{"$f":"VLOOKUP($AG26,Tabel!$J$3:$K$109,2,FALSE)","v":{"$error":"#VALUE!"}},{"$f":"Tabel!$K$106&$A26&$AH26&Tabel!$K$109","v":{"$error":"#VALUE!"}},{"$error":"#VALUE!"}]
[{"$f":"CONCATENATE(gastenlijst[[#This Row],[Post]],gastenlijst[[#This Row],[Code]],gastenlijst[[#This Row],[Huisnr aangepast]],gastenlijst[[#This Row],[Yes]])","v":{"$error":"#VALUE!"}},{"$error":"#VALUE!"},{"$error":"#VALUE!"},{"$error":"#VALUE!"},{"$error":"#VALUE!"},{"$error":"#VALUE!"},{"$error":"#VALUE!"},{"$error":"#VALUE!"},{"$error":"#VALUE!"},{"$error":"#VALUE!"},{"$error":"#VALUE!"},{"$f":"VLOOKUP(B27,Tabel!$K$3:$L$109,2,FALSE)","v":{"$error":"#VALUE!"}},{"$f":"VLOOKUP(C27,Tabel!$K$3:$L$109,2,FALSE)","v":{"$error":"#VALUE!"}},{"$f":"VLOOKUP(D27,Tabel!$K$3:$L$109,2,FALSE)","v":{"$error":"#VALUE!"}},{"$f":"VLOOKUP(E27,Tabel!$K$3:$L$109,2,FALSE)","v":{"$error":"#VALUE!"}},{"$f":"VLOOKUP(F27,Tabel!$K$3:$L$109,2,FALSE)","v":{"$error":"#VALUE!"}},{"$f":"VLOOKUP(G27,Tabel!$K$3:$L$109,2,FALSE)","v":{"$error":"#VALUE!"}},{"$f":"VLOOKUP(H27,Tabel!$K$3:$L$109,2,FALSE)","v":{"$error":"#VALUE!"}},{"$f":"VLOOKUP(I27,Tabel!$K$3:$L$109,2,FALSE)","v":{"$error":"#VALUE!"}},{"$f":"VLOOKUP(J27,Tabel!$K$3:$L$109,2,FALSE)","v":{"$error":"#VALUE!"}},{"$f":"VLOOKUP(K27,Tabel!$K$3:$L$109,2,FALSE)","v":{"$error":"#VALUE!"}},{"$error":"#VALUE!"},{"$error":"#VALUE!"},{"$error":"#VALUE!"},{"$error":"#VALUE!"},{"$error":"#VALUE!"},{"$error":"#VALUE!"},{"$error":"#VALUE!"},{"$error":"#VALUE!"},{"$error":"#VALUE!"},{"$error":"#VALUE!"},{"$error":"#VALUE!"},{"$error":"#VALUE!"},{"$f":"VLOOKUP($AG27,Tabel!$J$3:$K$109,2,FALSE)","v":{"$error":"#VALUE!"}},{"$f":"Tabel!$K$106&$A27&$AH27&Tabel!$K$109","v":{"$error":"#VALUE!"}},{"$error":"#VALUE!"}]
[{"$f":"CONCATENATE(gastenlijst[[#This Row],[Post]],gastenlijst[[#This Row],[Code]],gastenlijst[[#This Row],[Huisnr aangepast]],gastenlijst[[#This Row],[Yes]])","v":{"$error":"#VALUE!"}},{"$error":"#VALUE!"},{"$error":"#VALUE!"},{"$error":"#VALUE!"},{"$error":"#VALUE!"},{"$error":"#VALUE!"},{"$error":"#VALUE!"},{"$error":"#VALUE!"},{"$error":"#VALUE!"},{"$error":"#VALUE!"},{"$error":"#VALUE!"},{"$f":"VLOOKUP(B28,Tabel!$K$3:$L$109,2,FALSE)","v":{"$error":"#VALUE!"}},{"$f":"VLOOKUP(C28,Tabel!$K$3:$L$109,2,FALSE)","v":{"$error":"#VALUE!"}},{"$f":"VLOOKUP(D28,Tabel!$K$3:$L$109,2,FALSE)","v":{"$error":"#VALUE!"}},{"$f":"VLOOKUP(E28,Tabel!$K$3:$L$109,2,FALSE)","v":{"$error":"#VALUE!"}},{"$f":"VLOOKUP(F28,Tabel!$K$3:$L$109,2,FALSE)","v":{"$error":"#VALUE!"}},{"$f":"VLOOKUP(G28,Tabel!$K$3:$L$109,2,FALSE)","v":{"$error":"#VALUE!"}},{"$f":"VLOOKUP(H28,Tabel!$K$3:$L$109,2,FALSE)","v":{"$error":"#VALUE!"}},{"$f":"VLOOKUP(I28,Tabel!$K$3:$L$109,2,FALSE)","v":{"$error":"#VALUE!"}},{"$f":"VLOOKUP(J28,Tabel!$K$3:$L$109,2,FALSE)","v":{"$error":"#VALUE!"}},{"$f":"VLOOKUP(K28,Tabel!$K$3:$L$109,2,FALSE)","v":{"$error":"#VALUE!"}},{"$error":"#VALUE!"},{"$error":"#VALUE!"},{"$error":"#VALUE!"},{"$error":"#VALUE!"},{"$error":"#VALUE!"},{"$error":"#VALUE!"},{"$error":"#VALUE!"},{"$error":"#VALUE!"},{"$error":"#VALUE!"},{"$error":"#VALUE!"},{"$error":"#VALUE!"},{"$error":"#VALUE!"},{"$f":"VLOOKUP($AG28,Tabel!$J$3:$K$109,2,FALSE)","v":{"$error":"#VALUE!"}},{"$f":"Tabel!$K$106&$A28&$AH28&Tabel!$K$109","v":{"$error":"#VALUE!"}},{"$error":"#VALUE!"}]
[{"$f":"CONCATENATE(gastenlijst[[#This Row],[Post]],gastenlijst[[#This Row],[Code]],gastenlijst[[#This Row],[Huisnr aangepast]],gastenlijst[[#This Row],[Yes]])","v":{"$error":"#VALUE!"}},{"$error":"#VALUE!"},{"$error":"#VALUE!"},{"$error":"#VALUE!"},{"$error":"#VALUE!"},{"$error":"#VALUE!"},{"$error":"#VALUE!"},{"$error":"#VALUE!"},{"$error":"#VALUE!"},{"$error":"#VALUE!"},{"$error":"#VALUE!"},{"$f":"VLOOKUP(B29,Tabel!$K$3:$L$109,2,FALSE)","v":{"$error":"#VALUE!"}},{"$f":"VLOOKUP(C29,Tabel!$K$3:$L$109,2,FALSE)","v":{"$error":"#VALUE!"}},{"$f":"VLOOKUP(D29,Tabel!$K$3:$L$109,2,FALSE)","v":{"$error":"#VALUE!"}},{"$f":"VLOOKUP(E29,Tabel!$K$3:$L$109,2,FALSE)","v":{"$error":"#VALUE!"}},{"$f":"VLOOKUP(F29,Tabel!$K$3:$L$109,2,FALSE)","v":{"$error":"#VALUE!"}},{"$f":"VLOOKUP(G29,Tabel!$K$3:$L$109,2,FALSE)","v":{"$error":"#VALUE!"}},{"$f":"VLOOKUP(H29,Tabel!$K$3:$L$109,2,FALSE)","v":{"$error":"#VALUE!"}},{"$f":"VLOOKUP(I29,Tabel!$K$3:$L$109,2,FALSE)","v":{"$error":"#VALUE!"}},{"$f":"VLOOKUP(J29,Tabel!$K$3:$L$109,2,FALSE)","v":{"$error":"#VALUE!"}},{"$f":"VLOOKUP(K29,Tabel!$K$3:$L$109,2,FALSE)","v":{"$error":"#VALUE!"}},{"$error":"#VALUE!"},{"$error":"#VALUE!"},{"$error":"#VALUE!"},{"$error":"#VALUE!"},{"$error":"#VALUE!"},{"$error":"#VALUE!"},{"$error":"#VALUE!"},{"$error":"#VALUE!"},{"$error":"#VALUE!"},{"$error":"#VALUE!"},{"$error":"#VALUE!"},{"$error":"#VALUE!"},{"$f":"VLOOKUP($AG29,Tabel!$J$3:$K$109,2,FALSE)","v":{"$error":"#VALUE!"}},{"$f":"Tabel!$K$106&$A29&$AH29&Tabel!$K$109","v":{"$error":"#VALUE!"}},{"$error":"#VALUE!"}]
[{"$f":"CONCATENATE(gastenlijst[[#This Row],[Post]],gastenlijst[[#This Row],[Code]],gastenlijst[[#This Row],[Huisnr aangepast]],gastenlijst[[#This Row],[Yes]])","v":{"$error":"#VALUE!"}},{"$error":"#VALUE!"},{"$error":"#VALUE!"},{"$error":"#VALUE!"},{"$error":"#VALUE!"},{"$error":"#VALUE!"},{"$error":"#VALUE!"},{"$error":"#VALUE!"},{"$error":"#VALUE!"},{"$error":"#VALUE!"},{"$error":"#VALUE!"},{"$f":"VLOOKUP(B30,Tabel!$K$3:$L$109,2,FALSE)","v":{"$error":"#VALUE!"}},{"$f":"VLOOKUP(C30,Tabel!$K$3:$L$109,2,FALSE)","v":{"$error":"#VALUE!"}},{"$f":"VLOOKUP(D30,Tabel!$K$3:$L$109,2,FALSE)","v":{"$error":"#VALUE!"}},{"$f":"VLOOKUP(E30,Tabel!$K$3:$L$109,2,FALSE)","v":{"$error":"#VALUE!"}},{"$f":"VLOOKUP(F30,Tabel!$K$3:$L$109,2,FALSE)","v":{"$error":"#VALUE!"}},{"$f":"VLOOKUP(G30,Tabel!$K$3:$L$109,2,FALSE)","v":{"$error":"#VALUE!"}},{"$f":"VLOOKUP(H30,Tabel!$K$3:$L$109,2,FALSE)","v":{"$error":"#VALUE!"}},{"$f":"VLOOKUP(I30,Tabel!$K$3:$L$109,2,FALSE)","v":{"$error":"#VALUE!"}},{"$f":"VLOOKUP(J30,Tabel!$K$3:$L$109,2,FALSE)","v":{"$error":"#VALUE!"}},{"$f":"VLOOKUP(K30,Tabel!$K$3:$L$109,2,FALSE)","v":{"$error":"#VALUE!"}},{"$error":"#VALUE!"},{"$error":"#VALUE!"},{"$error":"#VALUE!"},{"$error":"#VALUE!"},{"$error":"#VALUE!"},{"$error":"#VALUE!"},{"$error":"#VALUE!"},{"$error":"#VALUE!"},{"$error":"#VALUE!"},{"$error":"#VALUE!"},{"$error":"#VALUE!"},{"$error":"#VALUE!"},{"$f":"VLOOKUP($AG30,Tabel!$J$3:$K$109,2,FALSE)","v":{"$error":"#VALUE!"}},{"$f":"Tabel!$K$106&$A30&$AH30&Tabel!$K$109","v":{"$error":"#VALUE!"}},{"$error":"#VALUE!"}]
[{"$f":"CONCATENATE(gastenlijst[[#This Row],[Post]],gastenlijst[[#This Row],[Code]],gastenlijst[[#This Row],[Huisnr aangepast]],gastenlijst[[#This Row],[Yes]])","v":{"$error":"#VALUE!"}},{"$error":"#VALUE!"},{"$error":"#VALUE!"},{"$error":"#VALUE!"},{"$error":"#VALUE!"},{"$error":"#VALUE!"},{"$error":"#VALUE!"},{"$error":"#VALUE!"},{"$error":"#VALUE!"},{"$error":"#VALUE!"},{"$error":"#VALUE!"},{"$f":"VLOOKUP(B31,Tabel!$K$3:$L$109,2,FALSE)","v":{"$error":"#VALUE!"}},{"$f":"VLOOKUP(C31,Tabel!$K$3:$L$109,2,FALSE)","v":{"$error":"#VALUE!"}},{"$f":"VLOOKUP(D31,Tabel!$K$3:$L$109,2,FALSE)","v":{"$error":"#VALUE!"}},{"$f":"VLOOKUP(E31,Tabel!$K$3:$L$109,2,FALSE)","v":{"$error":"#VALUE!"}},{"$f":"VLOOKUP(F31,Tabel!$K$3:$L$109,2,FALSE)","v":{"$error":"#VALUE!"}},{"$f":"VLOOKUP(G31,Tabel!$K$3:$L$109,2,FALSE)","v":{"$error":"#VALUE!"}},{"$f":"VLOOKUP(H31,Tabel!$K$3:$L$109,2,FALSE)","v":{"$error":"#VALUE!"}},{"$f":"VLOOKUP(I31,Tabel!$K$3:$L$109,2,FALSE)","v":{"$error":"#VALUE!"}},{"$f":"VLOOKUP(J31,Tabel!$K$3:$L$109,2,FALSE)","v":{"$error":"#VALUE!"}},{"$f":"VLOOKUP(K31,Tabel!$K$3:$L$109,2,FALSE)","v":{"$error":"#VALUE!"}},{"$error":"#VALUE!"},{"$error":"#VALUE!"},{"$error":"#VALUE!"},{"$error":"#VALUE!"},{"$error":"#VALUE!"},{"$error":"#VALUE!"},{"$error":"#VALUE!"},{"$error":"#VALUE!"},{"$error":"#VALUE!"},{"$error":"#VALUE!"},{"$error":"#VALUE!"},{"$error":"#VALUE!"},{"$f":"VLOOKUP($AG31,Tabel!$J$3:$K$109,2,FALSE)","v":{"$error":"#VALUE!"}},{"$f":"Tabel!$K$106&$A31&$AH31&Tabel!$K$109","v":{"$error":"#VALUE!"}},{"$error":"#VALUE!"}]
[{"$f":"CONCATENATE(gastenlijst[[#This Row],[Post]],gastenlijst[[#This Row],[Code]],gastenlijst[[#This Row],[Huisnr aangepast]],gastenlijst[[#This Row],[Yes]])","v":{"$error":"#VALUE!"}},{"$error":"#VALUE!"},{"$error":"#VALUE!"},{"$error":"#VALUE!"},{"$error":"#VALUE!"},{"$error":"#VALUE!"},{"$error":"#VALUE!"},{"$error":"#VALUE!"},{"$error":"#VALUE!"},{"$error":"#VALUE!"},{"$error":"#VALUE!"},{"$f":"VLOOKUP(B32,Tabel!$K$3:$L$109,2,FALSE)","v":{"$error":"#VALUE!"}},{"$f":"VLOOKUP(C32,Tabel!$K$3:$L$109,2,FALSE)","v":{"$error":"#VALUE!"}},{"$f":"VLOOKUP(D32,Tabel!$K$3:$L$109,2,FALSE)","v":{"$error":"#VALUE!"}},{"$f":"VLOOKUP(E32,Tabel!$K$3:$L$109,2,FALSE)","v":{"$error":"#VALUE!"}},{"$f":"VLOOKUP(F32,Tabel!$K$3:$L$109,2,FALSE)","v":{"$error":"#VALUE!"}},{"$f":"VLOOKUP(G32,Tabel!$K$3:$L$109,2,FALSE)","v":{"$error":"#VALUE!"}},{"$f":"VLOOKUP(H32,Tabel!$K$3:$L$109,2,FALSE)","v":{"$error":"#VALUE!"}},{"$f":"VLOOKUP(I32,Tabel!$K$3:$L$109,2,FALSE)","v":{"$error":"#VALUE!"}},{"$f":"VLOOKUP(J32,Tabel!$K$3:$L$109,2,FALSE)","v":{"$error":"#VALUE!"}},{"$f":"VLOOKUP(K32,Tabel!$K$3:$L$109,2,FALSE)","v":{"$error":"#VALUE!"}},{"$error":"#VALUE!"},{"$error":"#VALUE!"},{"$error":"#VALUE!"},{"$error":"#VALUE!"},{"$error":"#VALUE!"},{"$error":"#VALUE!"},{"$error":"#VALUE!"},{"$error":"#VALUE!"},{"$error":"#VALUE!"},{"$error":"#VALUE!"},{"$error":"#VALUE!"},{"$error":"#VALUE!"},{"$f":"VLOOKUP($AG32,Tabel!$J$3:$K$109,2,FALSE)","v":{"$error":"#VALUE!"}},{"$f":"Tabel!$K$106&$A32&$AH32&Tabel!$K$109","v":{"$error":"#VALUE!"}},{"$error":"#VALUE!"}]
[{"$f":"CONCATENATE(gastenlijst[[#This Row],[Post]],gastenlijst[[#This Row],[Code]],gastenlijst[[#This Row],[Huisnr aangepast]],gastenlijst[[#This Row],[Yes]])","v":{"$error":"#VALUE!"}},{"$error":"#VALUE!"},{"$error":"#VALUE!"},{"$error":"#VALUE!"},{"$error":"#VALUE!"},{"$error":"#VALUE!"},{"$error":"#VALUE!"},{"$error":"#VALUE!"},{"$error":"#VALUE!"},{"$error":"#VALUE!"},{"$error":"#VALUE!"},{"$f":"VLOOKUP(B33,Tabel!$K$3:$L$109,2,FALSE)","v":{"$error":"#VALUE!"}},{"$f":"VLOOKUP(C33,Tabel!$K$3:$L$109,2,FALSE)","v":{"$error":"#VALUE!"}},{"$f":"VLOOKUP(D33,Tabel!$K$3:$L$109,2,FALSE)","v":{"$error":"#VALUE!"}},{"$f":"VLOOKUP(E33,Tabel!$K$3:$L$109,2,FALSE)","v":{"$error":"#VALUE!"}},{"$f":"VLOOKUP(F33,Tabel!$K$3:$L$109,2,FALSE)","v":{"$error":"#VALUE!"}},{"$f":"VLOOKUP(G33,Tabel!$K$3:$L$109,2,FALSE)","v":{"$error":"#VALUE!"}},{"$f":"VLOOKUP(H33,Tabel!$K$3:$L$109,2,FALSE)","v":{"$error":"#VALUE!"}},{"$f":"VLOOKUP(I33,Tabel!$K$3:$L$109,2,FALSE)","v":{"$error":"#VALUE!"}},{"$f":"VLOOKUP(J33,Tabel!$K$3:$L$109,2,FALSE)","v":{"$error":"#VALUE!"}},{"$f":"VLOOKUP(K33,Tabel!$K$3:$L$109,2,FALSE)","v":{"$error":"#VALUE!"}},{"$error":"#VALUE!"},{"$error":"#VALUE!"},{"$error":"#VALUE!"},{"$error":"#VALUE!"},{"$error":"#VALUE!"},{"$error":"#VALUE!"},{"$error":"#VALUE!"},{"$error":"#VALUE!"},{"$error":"#VALUE!"},{"$error":"#VALUE!"},{"$error":"#VALUE!"},{"$error":"#VALUE!"},{"$f":"VLOOKUP($AG33,Tabel!$J$3:$K$109,2,FALSE)","v":{"$error":"#VALUE!"}},{"$f":"Tabel!$K$106&$A33&$AH33&Tabel!$K$109","v":{"$error":"#VALUE!"}},{"$error":"#VALUE!"}]
[{"$f":"CONCATENATE(gastenlijst[[#This Row],[Post]],gastenlijst[[#This Row],[Code]],gastenlijst[[#This Row],[Huisnr aangepast]],gastenlijst[[#This Row],[Yes]])","v":{"$error":"#VALUE!"}},{"$error":"#VALUE!"},{"$error":"#VALUE!"},{"$error":"#VALUE!"},{"$error":"#VALUE!"},{"$error":"#VALUE!"},{"$error":"#VALUE!"},{"$error":"#VALUE!"},{"$error":"#VALUE!"},{"$error":"#VALUE!"},{"$error":"#VALUE!"},{"$f":"VLOOKUP(B34,Tabel!$K$3:$L$109,2,FALSE)","v":{"$error":"#VALUE!"}},{"$f":"VLOOKUP(C34,Tabel!$K$3:$L$109,2,FALSE)","v":{"$error":"#VALUE!"}},{"$f":"VLOOKUP(D34,Tabel!$K$3:$L$109,2,FALSE)","v":{"$error":"#VALUE!"}},{"$f":"VLOOKUP(E34,Tabel!$K$3:$L$109,2,FALSE)","v":{"$error":"#VALUE!"}},{"$f":"VLOOKUP(F34,Tabel!$K$3:$L$109,2,FALSE)","v":{"$error":"#VALUE!"}},{"$f":"VLOOKUP(G34,Tabel!$K$3:$L$109,2,FALSE)","v":{"$error":"#VALUE!"}},{"$f":"VLOOKUP(H34,Tabel!$K$3:$L$109,2,FALSE)","v":{"$error":"#VALUE!"}},{"$f":"VLOOKUP(I34,Tabel!$K$3:$L$109,2,FALSE)","v":{"$error":"#VALUE!"}},{"$f":"VLOOKUP(J34,Tabel!$K$3:$L$109,2,FALSE)","v":{"$error":"#VALUE!"}},{"$f":"VLOOKUP(K34,Tabel!$K$3:$L$109,2,FALSE)","v":{"$error":"#VALUE!"}},{"$error":"#VALUE!"},{"$error":"#VALUE!"},{"$error":"#VALUE!"},{"$error":"#VALUE!"},{"$error":"#VALUE!"},{"$error":"#VALUE!"},{"$error":"#VALUE!"},{"$error":"#VALUE!"},{"$error":"#VALUE!"},{"$error":"#VALUE!"},{"$error":"#VALUE!"},{"$error":"#VALUE!"},{"$f":"VLOOKUP($AG34,Tabel!$J$3:$K$109,2,FALSE)","v":{"$error":"#VALUE!"}},{"$f":"Tabel!$K$106&$A34&$AH34&Tabel!$K$109","v":{"$error":"#VALUE!"}},{"$error":"#VALUE!"}]
[{"$f":"CONCATENATE(gastenlijst[[#This Row],[Post]],gastenlijst[[#This Row],[Code]],gastenlijst[[#This Row],[Huisnr aangepast]],gastenlijst[[#This Row],[Yes]])","v":{"$error":"#VALUE!"}},{"$error":"#VALUE!"},{"$error":"#VALUE!"},{"$error":"#VALUE!"},{"$error":"#VALUE!"},{"$error":"#VALUE!"},{"$error":"#VALUE!"},{"$error":"#VALUE!"},{"$error":"#VALUE!"},{"$error":"#VALUE!"},{"$error":"#VALUE!"},{"$f":"VLOOKUP(B35,Tabel!$K$3:$L$109,2,FALSE)","v":{"$error":"#VALUE!"}},{"$f":"VLOOKUP(C35,Tabel!$K$3:$L$109,2,FALSE)","v":{"$error":"#VALUE!"}},{"$f":"VLOOKUP(D35,Tabel!$K$3:$L$109,2,FALSE)","v":{"$error":"#VALUE!"}},{"$f":"VLOOKUP(E35,Tabel!$K$3:$L$109,2,FALSE)","v":{"$error":"#VALUE!"}},{"$f":"VLOOKUP(F35,Tabel!$K$3:$L$109,2,FALSE)","v":{"$error":"#VALUE!"}},{"$f":"VLOOKUP(G35,Tabel!$K$3:$L$109,2,FALSE)","v":{"$error":"#VALUE!"}},{"$f":"VLOOKUP(H35,Tabel!$K$3:$L$109,2,FALSE)","v":{"$error":"#VALUE!"}},{"$f":"VLOOKUP(I35,Tabel!$K$3:$L$109,2,FALSE)","v":{"$error":"#VALUE!"}},{"$f":"VLOOKUP(J35,Tabel!$K$3:$L$109,2,FALSE)","v":{"$error":"#VALUE!"}},{"$f":"VLOOKUP(K35,Tabel!$K$3:$L$109,2,FALSE)","v":{"$error":"#VALUE!"}},{"$error":"#VALUE!"},{"$error":"#VALUE!"},{"$error":"#VALUE!"},{"$error":"#VALUE!"},{"$error":"#VALUE!"},{"$error":"#VALUE!"},{"$error":"#VALUE!"},{"$error":"#VALUE!"},{"$error":"#VALUE!"},{"$error":"#VALUE!"},{"$error":"#VALUE!"},{"$error":"#VALUE!"},{"$f":"VLOOKUP($AG35,Tabel!$J$3:$K$109,2,FALSE)","v":{"$error":"#VALUE!"}},{"$f":"Tabel!$K$106&$A35&$AH35&Tabel!$K$109","v":{"$error":"#VALUE!"}},{"$error":"#VALUE!"}]
[{"$f":"CONCATENATE(gastenlijst[[#This Row],[Post]],gastenlijst[[#This Row],[Code]],gastenlijst[[#This Row],[Huisnr aangepast]],gastenlijst[[#This Row],[Yes]])","v":{"$error":"#VALUE!"}},{"$error":"#VALUE!"},{"$error":"#VALUE!"},{"$error":"#VALUE!"},{"$error":"#VALUE!"},{"$error":"#VALUE!"},{"$error":"#VALUE!"},{"$error":"#VALUE!"},{"$error":"#VALUE!"},{"$error":"#VALUE!"},{"$error":"#VALUE!"},{"$f":"VLOOKUP(B36,Tabel!$K$3:$L$109,2,FALSE)","v":{"$error":"#VALUE!"}},{"$f":"VLOOKUP(C36,Tabel!$K$3:$L$109,2,FALSE)","v":{"$error":"#VALUE!"}},{"$f":"VLOOKUP(D36,Tabel!$K$3:$L$109,2,FALSE)","v":{"$error":"#VALUE!"}},{"$f":"VLOOKUP(E36,Tabel!$K$3:$L$109,2,FALSE)","v":{"$error":"#VALUE!"}},{"$f":"VLOOKUP(F36,Tabel!$K$3:$L$109,2,FALSE)","v":{"$error":"#VALUE!"}},{"$f":"VLOOKUP(G36,Tabel!$K$3:$L$109,2,FALSE)","v":{"$error":"#VALUE!"}},{"$f":"VLOOKUP(H36,Tabel!$K$3:$L$109,2,FALSE)","v":{"$error":"#VALUE!"}},{"$f":"VLOOKUP(I36,Tabel!$K$3:$L$109,2,FALSE)","v":{"$error":"#VALUE!"}},{"$f":"VLOOKUP(J36,Tabel!$K$3:$L$109,2,FALSE)","v":{"$error":"#VALUE!"}},{"$f":"VLOOKUP(K36,Tabel!$K$3:$L$109,2,FALSE)","v":{"$error":"#VALUE!"}},{"$error":"#VALUE!"},{"$error":"#VALUE!"},{"$error":"#VALUE!"},{"$error":"#VALUE!"},{"$error":"#VALUE!"},{"$error":"#VALUE!"},{"$error":"#VALUE!"},{"$error":"#VALUE!"},{"$error":"#VALUE!"},{"$error":"#VALUE!"},{"$error":"#VALUE!"},{"$error":"#VALUE!"},{"$f":"VLOOKUP($AG36,Tabel!$J$3:$K$109,2,FALSE)","v":{"$error":"#VALUE!"}},{"$f":"Tabel!$K$106&$A36&$AH36&Tabel!$K$109","v":{"$error":"#VALUE!"}},{"$error":"#VALUE!"}]
[{"$f":"CONCATENATE(gastenlijst[[#This Row],[Post]],gastenlijst[[#This Row],[Code]],gastenlijst[[#This Row],[Huisnr aangepast]],gastenlijst[[#This Row],[Yes]])","v":{"$error":"#VALUE!"}},{"$error":"#VALUE!"},{"$error":"#VALUE!"},{"$error":"#VALUE!"},{"$error":"#VALUE!"},{"$error":"#VALUE!"},{"$error":"#VALUE!"},{"$error":"#VALUE!"},{"$error":"#VALUE!"},{"$error":"#VALUE!"},{"$error":"#VALUE!"},{"$f":"VLOOKUP(B37,Tabel!$K$3:$L$109,2,FALSE)","v":{"$error":"#VALUE!"}},{"$f":"VLOOKUP(C37,Tabel!$K$3:$L$109,2,FALSE)","v":{"$error":"#VALUE!"}},{"$f":"VLOOKUP(D37,Tabel!$K$3:$L$109,2,FALSE)","v":{"$error":"#VALUE!"}},{"$f":"VLOOKUP(E37,Tabel!$K$3:$L$109,2,FALSE)","v":{"$error":"#VALUE!"}},{"$f":"VLOOKUP(F37,Tabel!$K$3:$L$109,2,FALSE)","v":{"$error":"#VALUE!"}},{"$f":"VLOOKUP(G37,Tabel!$K$3:$L$109,2,FALSE)","v":{"$error":"#VALUE!"}},{"$f":"VLOOKUP(H37,Tabel!$K$3:$L$109,2,FALSE)","v":{"$error":"#VALUE!"}},{"$f":"VLOOKUP(I37,Tabel!$K$3:$L$109,2,FALSE)","v":{"$error":"#VALUE!"}},{"$f":"VLOOKUP(J37,Tabel!$K$3:$L$109,2,FALSE)","v":{"$error":"#VALUE!"}},{"$f":"VLOOKUP(K37,Tabel!$K$3:$L$109,2,FALSE)","v":{"$error":"#VALUE!"}},{"$error":"#VALUE!"},{"$error":"#VALUE!"},{"$error":"#VALUE!"},{"$error":"#VALUE!"},{"$error":"#VALUE!"},{"$error":"#VALUE!"},{"$error":"#VALUE!"},{"$error":"#VALUE!"},{"$error":"#VALUE!"},{"$error":"#VALUE!"},{"$error":"#VALUE!"},{"$error":"#VALUE!"},{"$f":"VLOOKUP($AG37,Tabel!$J$3:$K$109,2,FALSE)","v":{"$error":"#VALUE!"}},{"$f":"Tabel!$K$106&$A37&$AH37&Tabel!$K$109","v":{"$error":"#VALUE!"}},{"$error":"#VALUE!"}]
[{"$f":"CONCATENATE(gastenlijst[[#This Row],[Post]],gastenlijst[[#This Row],[Code]],gastenlijst[[#This Row],[Huisnr aangepast]],gastenlijst[[#This Row],[Yes]])","v":{"$error":"#VALUE!"}},{"$error":"#VALUE!"},{"$error":"#VALUE!"},{"$error":"#VALUE!"},{"$error":"#VALUE!"},{"$error":"#VALUE!"},{"$error":"#VALUE!"},{"$error":"#VALUE!"},{"$error":"#VALUE!"},{"$error":"#VALUE!"},{"$error":"#VALUE!"},{"$f":"VLOOKUP(B38,Tabel!$K$3:$L$109,2,FALSE)","v":{"$error":"#VALUE!"}},{"$f":"VLOOKUP(C38,Tabel!$K$3:$L$109,2,FALSE)","v":{"$error":"#VALUE!"}},{"$f":"VLOOKUP(D38,Tabel!$K$3:$L$109,2,FALSE)","v":{"$error":"#VALUE!"}},{"$f":"VLOOKUP(E38,Tabel!$K$3:$L$109,2,FALSE)","v":{"$error":"#VALUE!"}},{"$f":"VLOOKUP(F38,Tabel!$K$3:$L$109,2,FALSE)","v":{"$error":"#VALUE!"}},{"$f":"VLOOKUP(G38,Tabel!$K$3:$L$109,2,FALSE)","v":{"$error":"#VALUE!"}},{"$f":"VLOOKUP(H38,Tabel!$K$3:$L$109,2,FALSE)","v":{"$error":"#VALUE!"}},{"$f":"VLOOKUP(I38,Tabel!$K$3:$L$109,2,FALSE)","v":{"$error":"#VALUE!"}},{"$f":"VLOOKUP(J38,Tabel!$K$3:$L$109,2,FALSE)","v":{"$error":"#VALUE!"}},{"$f":"VLOOKUP(K38,Tabel!$K$3:$L$109,2,FALSE)","v":{"$error":"#VALUE!"}},{"$error":"#VALUE!"},{"$error":"#VALUE!"},{"$error":"#VALUE!"},{"$error":"#VALUE!"},{"$error":"#VALUE!"},{"$error":"#VALUE!"},{"$error":"#VALUE!"},{"$error":"#VALUE!"},{"$error":"#VALUE!"},{"$error":"#VALUE!"},{"$error":"#VALUE!"},{"$error":"#VALUE!"},{"$f":"VLOOKUP($AG38,Tabel!$J$3:$K$109,2,FALSE)","v":{"$error":"#VALUE!"}},{"$f":"Tabel!$K$106&$A38&$AH38&Tabel!$K$109","v":{"$error":"#VALUE!"}},{"$error":"#VALUE!"}]
[{"$f":"CONCATENATE(gastenlijst[[#This Row],[Post]],gastenlijst[[#This Row],[Code]],gastenlijst[[#This Row],[Huisnr aangepast]],gastenlijst[[#This Row],[Yes]])","v":{"$error":"#VALUE!"}},{"$error":"#VALUE!"},{"$error":"#VALUE!"},{"$error":"#VALUE!"},{"$error":"#VALUE!"},{"$error":"#VALUE!"},{"$error":"#VALUE!"},{"$error":"#VALUE!"},{"$error":"#VALUE!"},{"$error":"#VALUE!"},{"$error":"#VALUE!"},{"$f":"VLOOKUP(B39,Tabel!$K$3:$L$109,2,FALSE)","v":{"$error":"#VALUE!"}},{"$f":"VLOOKUP(C39,Tabel!$K$3:$L$109,2,FALSE)","v":{"$error":"#VALUE!"}},{"$f":"VLOOKUP(D39,Tabel!$K$3:$L$109,2,FALSE)","v":{"$error":"#VALUE!"}},{"$f":"VLOOKUP(E39,Tabel!$K$3:$L$109,2,FALSE)","v":{"$error":"#VALUE!"}},{"$f":"VLOOKUP(F39,Tabel!$K$3:$L$109,2,FALSE)","v":{"$error":"#VALUE!"}},{"$f":"VLOOKUP(G39,Tabel!$K$3:$L$109,2,FALSE)","v":{"$error":"#VALUE!"}},{"$f":"VLOOKUP(H39,Tabel!$K$3:$L$109,2,FALSE)","v":{"$error":"#VALUE!"}},{"$f":"VLOOKUP(I39,Tabel!$K$3:$L$109,2,FALSE)","v":{"$error":"#VALUE!"}},{"$f":"VLOOKUP(J39,Tabel!$K$3:$L$109,2,FALSE)","v":{"$error":"#VALUE!"}},{"$f":"VLOOKUP(K39,Tabel!$K$3:$L$109,2,FALSE)","v":{"$error":"#VALUE!"}},{"$error":"#VALUE!"},{"$error":"#VALUE!"},{"$error":"#VALUE!"},{"$error":"#VALUE!"},{"$error":"#VALUE!"},{"$error":"#VALUE!"},{"$error":"#VALUE!"},{"$error":"#VALUE!"},{"$error":"#VALUE!"},{"$error":"#VALUE!"},{"$error":"#VALUE!"},{"$error":"#VALUE!"},{"$f":"VLOOKUP($AG39,Tabel!$J$3:$K$109,2,FALSE)","v":{"$error":"#VALUE!"}},{"$f":"Tabel!$K$106&$A39&$AH39&Tabel!$K$109","v":{"$error":"#VALUE!"}},{"$error":"#VALUE!"}]
[{"$f":"CONCATENATE(gastenlijst[[#This Row],[Post]],gastenlijst[[#This Row],[Code]],gastenlijst[[#This Row],[Huisnr aangepast]],gastenlijst[[#This Row],[Yes]])","v":{"$error":"#VALUE!"}},{"$error":"#VALUE!"},{"$error":"#VALUE!"},{"$error":"#VALUE!"},{"$error":"#VALUE!"},{"$error":"#VALUE!"},{"$error":"#VALUE!"},{"$error":"#VALUE!"},{"$error":"#VALUE!"},{"$error":"#VALUE!"},{"$error":"#VALUE!"},{"$f":"VLOOKUP(B40,Tabel!$K$3:$L$109,2,FALSE)","v":{"$error":"#VALUE!"}},{"$f":"VLOOKUP(C40,Tabel!$K$3:$L$109,2,FALSE)","v":{"$error":"#VALUE!"}},{"$f":"VLOOKUP(D40,Tabel!$K$3:$L$109,2,FALSE)","v":{"$error":"#VALUE!"}},{"$f":"VLOOKUP(E40,Tabel!$K$3:$L$109,2,FALSE)","v":{"$error":"#VALUE!"}},{"$f":"VLOOKUP(F40,Tabel!$K$3:$L$109,2,FALSE)","v":{"$error":"#VALUE!"}},{"$f":"VLOOKUP(G40,Tabel!$K$3:$L$109,2,FALSE)","v":{"$error":"#VALUE!"}},{"$f":"VLOOKUP(H40,Tabel!$K$3:$L$109,2,FALSE)","v":{"$error":"#VALUE!"}},{"$f":"VLOOKUP(I40,Tabel!$K$3:$L$109,2,FALSE)","v":{"$error":"#VALUE!"}},{"$f":"VLOOKUP(J40,Tabel!$K$3:$L$109,2,FALSE)","v":{"$error":"#VALUE!"}},{"$f":"VLOOKUP(K40,Tabel!$K$3:$L$109,2,FALSE)","v":{"$error":"#VALUE!"}},{"$error":"#VALUE!"},{"$error":"#VALUE!"},{"$error":"#VALUE!"},{"$error":"#VALUE!"},{"$error":"#VALUE!"},{"$error":"#VALUE!"},{"$error":"#VALUE!"},{"$error":"#VALUE!"},{"$error":"#VALUE!"},{"$error":"#VALUE!"},{"$error":"#VALUE!"},{"$error":"#VALUE!"},{"$f":"VLOOKUP($AG40,Tabel!$J$3:$K$109,2,FALSE)","v":{"$error":"#VALUE!"}},{"$f":"Tabel!$K$106&$A40&$AH40&Tabel!$K$109","v":{"$error":"#VALUE!"}},{"$error":"#VALUE!"}]
[{"$f":"CONCATENATE(gastenlijst[[#This Row],[Post]],gastenlijst[[#This Row],[Code]],gastenlijst[[#This Row],[Huisnr aangepast]],gastenlijst[[#This Row],[Yes]])","v":{"$error":"#VALUE!"}},{"$error":"#VALUE!"},{"$error":"#VALUE!"},{"$error":"#VALUE!"},{"$error":"#VALUE!"},{"$error":"#VALUE!"},{"$error":"#VALUE!"},{"$error":"#VALUE!"},{"$error":"#VALUE!"},{"$error":"#VALUE!"},{"$error":"#VALUE!"},{"$f":"VLOOKUP(B41,Tabel!$K$3:$L$109,2,FALSE)","v":{"$error":"#VALUE!"}},{"$f":"VLOOKUP(C41,Tabel!$K$3:$L$109,2,FALSE)","v":{"$error":"#VALUE!"}},{"$f":"VLOOKUP(D41,Tabel!$K$3:$L$109,2,FALSE)","v":{"$error":"#VALUE!"}},{"$f":"VLOOKUP(E41,Tabel!$K$3:$L$109,2,FALSE)","v":{"$error":"#VALUE!"}},{"$f":"VLOOKUP(F41,Tabel!$K$3:$L$109,2,FALSE)","v":{"$error":"#VALUE!"}},{"$f":"VLOOKUP(G41,Tabel!$K$3:$L$109,2,FALSE)","v":{"$error":"#VALUE!"}},{"$f":"VLOOKUP(H41,Tabel!$K$3:$L$109,2,FALSE)","v":{"$error":"#VALUE!"}},{"$f":"VLOOKUP(I41,Tabel!$K$3:$L$109,2,FALSE)","v":{"$error":"#VALUE!"}},{"$f":"VLOOKUP(J41,Tabel!$K$3:$L$109,2,FALSE)","v":{"$error":"#VALUE!"}},{"$f":"VLOOKUP(K41,Tabel!$K$3:$L$109,2,FALSE)","v":{"$error":"#VALUE!"}},{"$error":"#VALUE!"},{"$error":"#VALUE!"},{"$error":"#VALUE!"},{"$error":"#VALUE!"},{"$error":"#VALUE!"},{"$error":"#VALUE!"},{"$error":"#VALUE!"},{"$error":"#VALUE!"},{"$error":"#VALUE!"},{"$error":"#VALUE!"},{"$error":"#VALUE!"},{"$error":"#VALUE!"},{"$f":"VLOOKUP($AG41,Tabel!$J$3:$K$109,2,FALSE)","v":{"$error":"#VALUE!"}},{"$f":"Tabel!$K$106&$A41&$AH41&Tabel!$K$109","v":{"$error":"#VALUE!"}},{"$error":"#VALUE!"}]
[{"$f":"CONCATENATE(gastenlijst[[#This Row],[Post]],gastenlijst[[#This Row],[Code]],gastenlijst[[#This Row],[Huisnr aangepast]],gastenlijst[[#This Row],[Yes]])","v":{"$error":"#VALUE!"}},{"$error":"#VALUE!"},{"$error":"#VALUE!"},{"$error":"#VALUE!"},{"$error":"#VALUE!"},{"$error":"#VALUE!"},{"$error":"#VALUE!"},{"$error":"#VALUE!"},{"$error":"#VALUE!"},{"$error":"#VALUE!"},{"$error":"#VALUE!"},{"$f":"VLOOKUP(B42,Tabel!$K$3:$L$109,2,FALSE)","v":{"$error":"#VALUE!"}},{"$f":"VLOOKUP(C42,Tabel!$K$3:$L$109,2,FALSE)","v":{"$error":"#VALUE!"}},{"$f":"VLOOKUP(D42,Tabel!$K$3:$L$109,2,FALSE)","v":{"$error":"#VALUE!"}},{"$f":"VLOOKUP(E42,Tabel!$K$3:$L$109,2,FALSE)","v":{"$error":"#VALUE!"}},{"$f":"VLOOKUP(F42,Tabel!$K$3:$L$109,2,FALSE)","v":{"$error":"#VALUE!"}},{"$f":"VLOOKUP(G42,Tabel!$K$3:$L$109,2,FALSE)","v":{"$error":"#VALUE!"}},{"$f":"VLOOKUP(H42,Tabel!$K$3:$L$109,2,FALSE)","v":{"$error":"#VALUE!"}},{"$f":"VLOOKUP(I42,Tabel!$K$3:$L$109,2,FALSE)","v":{"$error":"#VALUE!"}},{"$f":"VLOOKUP(J42,Tabel!$K$3:$L$109,2,FALSE)","v":{"$error":"#VALUE!"}},{"$f":"VLOOKUP(K42,Tabel!$K$3:$L$109,2,FALSE)","v":{"$error":"#VALUE!"}},{"$error":"#VALUE!"},{"$error":"#VALUE!"},{"$error":"#VALUE!"},{"$error":"#VALUE!"},{"$error":"#VALUE!"},{"$error":"#VALUE!"},{"$error":"#VALUE!"},{"$error":"#VALUE!"},{"$error":"#VALUE!"},{"$error":"#VALUE!"},{"$error":"#VALUE!"},{"$error":"#VALUE!"},{"$f":"VLOOKUP($AG42,Tabel!$J$3:$K$109,2,FALSE)","v":{"$error":"#VALUE!"}},{"$f":"Tabel!$K$106&$A42&$AH42&Tabel!$K$109","v":{"$error":"#VALUE!"}},{"$error":"#VALUE!"}]
[{"$f":"CONCATENATE(gastenlijst[[#This Row],[Post]],gastenlijst[[#This Row],[Code]],gastenlijst[[#This Row],[Huisnr aangepast]],gastenlijst[[#This Row],[Yes]])","v":{"$error":"#VALUE!"}},{"$error":"#VALUE!"},{"$error":"#VALUE!"},{"$error":"#VALUE!"},{"$error":"#VALUE!"},{"$error":"#VALUE!"},{"$error":"#VALUE!"},{"$error":"#VALUE!"},{"$error":"#VALUE!"},{"$error":"#VALUE!"},{"$error":"#VALUE!"},{"$f":"VLOOKUP(B43,Tabel!$K$3:$L$109,2,FALSE)","v":{"$error":"#VALUE!"}},{"$f":"VLOOKUP(C43,Tabel!$K$3:$L$109,2,FALSE)","v":{"$error":"#VALUE!"}},{"$f":"VLOOKUP(D43,Tabel!$K$3:$L$109,2,FALSE)","v":{"$error":"#VALUE!"}},{"$f":"VLOOKUP(E43,Tabel!$K$3:$L$109,2,FALSE)","v":{"$error":"#VALUE!"}},{"$f":"VLOOKUP(F43,Tabel!$K$3:$L$109,2,FALSE)","v":{"$error":"#VALUE!"}},{"$f":"VLOOKUP(G43,Tabel!$K$3:$L$109,2,FALSE)","v":{"$error":"#VALUE!"}},{"$f":"VLOOKUP(H43,Tabel!$K$3:$L$109,2,FALSE)","v":{"$error":"#VALUE!"}},{"$f":"VLOOKUP(I43,Tabel!$K$3:$L$109,2,FALSE)","v":{"$error":"#VALUE!"}},{"$f":"VLOOKUP(J43,Tabel!$K$3:$L$109,2,FALSE)","v":{"$error":"#VALUE!"}},{"$f":"VLOOKUP(K43,Tabel!$K$3:$L$109,2,FALSE)","v":{"$error":"#VALUE!"}},{"$error":"#VALUE!"},{"$error":"#VALUE!"},{"$error":"#VALUE!"},{"$error":"#VALUE!"},{"$error":"#VALUE!"},{"$error":"#VALUE!"},{"$error":"#VALUE!"},{"$error":"#VALUE!"},{"$error":"#VALUE!"},{"$error":"#VALUE!"},{"$error":"#VALUE!"},{"$error":"#VALUE!"},{"$f":"VLOOKUP($AG43,Tabel!$J$3:$K$109,2,FALSE)","v":{"$error":"#VALUE!"}},{"$f":"Tabel!$K$106&$A43&$AH43&Tabel!$K$109","v":{"$error":"#VALUE!"}},{"$error":"#VALUE!"}]
[{"$f":"CONCATENATE(gastenlijst[[#This Row],[Post]],gastenlijst[[#This Row],[Code]],gastenlijst[[#This Row],[Huisnr aangepast]],gastenlijst[[#This Row],[Yes]])","v":{"$error":"#VALUE!"}},{"$error":"#VALUE!"},{"$error":"#VALUE!"},{"$error":"#VALUE!"},{"$error":"#VALUE!"},{"$error":"#VALUE!"},{"$error":"#VALUE!"},{"$error":"#VALUE!"},{"$error":"#VALUE!"},{"$error":"#VALUE!"},{"$error":"#VALUE!"},{"$f":"VLOOKUP(B44,Tabel!$K$3:$L$109,2,FALSE)","v":{"$error":"#VALUE!"}},{"$f":"VLOOKUP(C44,Tabel!$K$3:$L$109,2,FALSE)","v":{"$error":"#VALUE!"}},{"$f":"VLOOKUP(D44,Tabel!$K$3:$L$109,2,FALSE)","v":{"$error":"#VALUE!"}},{"$f":"VLOOKUP(E44,Tabel!$K$3:$L$109,2,FALSE)","v":{"$error":"#VALUE!"}},{"$f":"VLOOKUP(F44,Tabel!$K$3:$L$109,2,FALSE)","v":{"$error":"#VALUE!"}},{"$f":"VLOOKUP(G44,Tabel!$K$3:$L$109,2,FALSE)","v":{"$error":"#VALUE!"}},{"$f":"VLOOKUP(H44,Tabel!$K$3:$L$109,2,FALSE)","v":{"$error":"#VALUE!"}},{"$f":"VLOOKUP(I44,Tabel!$K$3:$L$109,2,FALSE)","v":{"$error":"#VALUE!"}},{"$f":"VLOOKUP(J44,Tabel!$K$3:$L$109,2,FALSE)","v":{"$error":"#VALUE!"}},{"$f":"VLOOKUP(K44,Tabel!$K$3:$L$109,2,FALSE)","v":{"$error":"#VALUE!"}},{"$error":"#VALUE!"},{"$error":"#VALUE!"},{"$error":"#VALUE!"},{"$error":"#VALUE!"},{"$error":"#VALUE!"},{"$error":"#VALUE!"},{"$error":"#VALUE!"},{"$error":"#VALUE!"},{"$error":"#VALUE!"},{"$error":"#VALUE!"},{"$error":"#VALUE!"},{"$error":"#VALUE!"},{"$f":"VLOOKUP($AG44,Tabel!$J$3:$K$109,2,FALSE)","v":{"$error":"#VALUE!"}},{"$f":"Tabel!$K$106&$A44&$AH44&Tabel!$K$109","v":{"$error":"#VALUE!"}},{"$error":"#VALUE!"}]
[{"$f":"CONCATENATE(gastenlijst[[#This Row],[Post]],gastenlijst[[#This Row],[Code]],gastenlijst[[#This Row],[Huisnr aangepast]],gastenlijst[[#This Row],[Yes]])","v":{"$error":"#VALUE!"}},{"$error":"#VALUE!"},{"$error":"#VALUE!"},{"$error":"#VALUE!"},{"$error":"#VALUE!"},{"$error":"#VALUE!"},{"$error":"#VALUE!"},{"$error":"#VALUE!"},{"$error":"#VALUE!"},{"$error":"#VALUE!"},{"$error":"#VALUE!"},{"$f":"VLOOKUP(B45,Tabel!$K$3:$L$109,2,FALSE)","v":{"$error":"#VALUE!"}},{"$f":"VLOOKUP(C45,Tabel!$K$3:$L$109,2,FALSE)","v":{"$error":"#VALUE!"}},{"$f":"VLOOKUP(D45,Tabel!$K$3:$L$109,2,FALSE)","v":{"$error":"#VALUE!"}},{"$f":"VLOOKUP(E45,Tabel!$K$3:$L$109,2,FALSE)","v":{"$error":"#VALUE!"}},{"$f":"VLOOKUP(F45,Tabel!$K$3:$L$109,2,FALSE)","v":{"$error":"#VALUE!"}},{"$f":"VLOOKUP(G45,Tabel!$K$3:$L$109,2,FALSE)","v":{"$error":"#VALUE!"}},{"$f":"VLOOKUP(H45,Tabel!$K$3:$L$109,2,FALSE)","v":{"$error":"#VALUE!"}},{"$f":"VLOOKUP(I45,Tabel!$K$3:$L$109,2,FALSE)","v":{"$error":"#VALUE!"}},{"$f":"VLOOKUP(J45,Tabel!$K$3:$L$109,2,FALSE)","v":{"$error":"#VALUE!"}},{"$f":"VLOOKUP(K45,Tabel!$K$3:$L$109,2,FALSE)","v":{"$error":"#VALUE!"}},{"$error":"#VALUE!"},{"$error":"#VALUE!"},{"$error":"#VALUE!"},{"$error":"#VALUE!"},{"$error":"#VALUE!"},{"$error":"#VALUE!"},{"$error":"#VALUE!"},{"$error":"#VALUE!"},{"$error":"#VALUE!"},{"$error":"#VALUE!"},{"$error":"#VALUE!"},{"$error":"#VALUE!"},{"$f":"VLOOKUP($AG45,Tabel!$J$3:$K$109,2,FALSE)","v":{"$error":"#VALUE!"}},{"$f":"Tabel!$K$106&$A45&$AH45&Tabel!$K$109","v":{"$error":"#VALUE!"}},{"$error":"#VALUE!"}]
[{"$f":"CONCATENATE(gastenlijst[[#This Row],[Post]],gastenlijst[[#This Row],[Code]],gastenlijst[[#This Row],[Huisnr aangepast]],gastenlijst[[#This Row],[Yes]])","v":{"$error":"#VALUE!"}},{"$error":"#VALUE!"},{"$error":"#VALUE!"},{"$error":"#VALUE!"},{"$error":"#VALUE!"},{"$error":"#VALUE!"},{"$error":"#VALUE!"},{"$error":"#VALUE!"},{"$error":"#VALUE!"},{"$error":"#VALUE!"},{"$error":"#VALUE!"},{"$f":"VLOOKUP(B46,Tabel!$K$3:$L$109,2,FALSE)","v":{"$error":"#VALUE!"}},{"$f":"VLOOKUP(C46,Tabel!$K$3:$L$109,2,FALSE)","v":{"$error":"#VALUE!"}},{"$f":"VLOOKUP(D46,Tabel!$K$3:$L$109,2,FALSE)","v":{"$error":"#VALUE!"}},{"$f":"VLOOKUP(E46,Tabel!$K$3:$L$109,2,FALSE)","v":{"$error":"#VALUE!"}},{"$f":"VLOOKUP(F46,Tabel!$K$3:$L$109,2,FALSE)","v":{"$error":"#VALUE!"}},{"$f":"VLOOKUP(G46,Tabel!$K$3:$L$109,2,FALSE)","v":{"$error":"#VALUE!"}},{"$f":"VLOOKUP(H46,Tabel!$K$3:$L$109,2,FALSE)","v":{"$error":"#VALUE!"}},{"$f":"VLOOKUP(I46,Tabel!$K$3:$L$109,2,FALSE)","v":{"$error":"#VALUE!"}},{"$f":"VLOOKUP(J46,Tabel!$K$3:$L$109,2,FALSE)","v":{"$error":"#VALUE!"}},{"$f":"VLOOKUP(K46,Tabel!$K$3:$L$109,2,FALSE)","v":{"$error":"#VALUE!"}},{"$error":"#VALUE!"},{"$error":"#VALUE!"},{"$error":"#VALUE!"},{"$error":"#VALUE!"},{"$error":"#VALUE!"},{"$error":"#VALUE!"},{"$error":"#VALUE!"},{"$error":"#VALUE!"},{"$error":"#VALUE!"},{"$error":"#VALUE!"},{"$error":"#VALUE!"},{"$error":"#VALUE!"},{"$f":"VLOOKUP($AG46,Tabel!$J$3:$K$109,2,FALSE)","v":{"$error":"#VALUE!"}},{"$f":"Tabel!$K$106&$A46&$AH46&Tabel!$K$109","v":{"$error":"#VALUE!"}},{"$error":"#VALUE!"}]
[{"$f":"CONCATENATE(gastenlijst[[#This Row],[Post]],gastenlijst[[#This Row],[Code]],gastenlijst[[#This Row],[Huisnr aangepast]],gastenlijst[[#This Row],[Yes]])","v":{"$error":"#VALUE!"}},{"$error":"#VALUE!"},{"$error":"#VALUE!"},{"$error":"#VALUE!"},{"$error":"#VALUE!"},{"$error":"#VALUE!"},{"$error":"#VALUE!"},{"$error":"#VALUE!"},{"$error":"#VALUE!"},{"$error":"#VALUE!"},{"$error":"#VALUE!"},{"$f":"VLOOKUP(B47,Tabel!$K$3:$L$109,2,FALSE)","v":{"$error":"#VALUE!"}},{"$f":"VLOOKUP(C47,Tabel!$K$3:$L$109,2,FALSE)","v":{"$error":"#VALUE!"}},{"$f":"VLOOKUP(D47,Tabel!$K$3:$L$109,2,FALSE)","v":{"$error":"#VALUE!"}},{"$f":"VLOOKUP(E47,Tabel!$K$3:$L$109,2,FALSE)","v":{"$error":"#VALUE!"}},{"$f":"VLOOKUP(F47,Tabel!$K$3:$L$109,2,FALSE)","v":{"$error":"#VALUE!"}},{"$f":"VLOOKUP(G47,Tabel!$K$3:$L$109,2,FALSE)","v":{"$error":"#VALUE!"}},{"$f":"VLOOKUP(H47,Tabel!$K$3:$L$109,2,FALSE)","v":{"$error":"#VALUE!"}},{"$f":"VLOOKUP(I47,Tabel!$K$3:$L$109,2,FALSE)","v":{"$error":"#VALUE!"}},{"$f":"VLOOKUP(J47,Tabel!$K$3:$L$109,2,FALSE)","v":{"$error":"#VALUE!"}},{"$f":"VLOOKUP(K47,Tabel!$K$3:$L$109,2,FALSE)","v":{"$error":"#VALUE!"}},{"$error":"#VALUE!"},{"$error":"#VALUE!"},{"$error":"#VALUE!"},{"$error":"#VALUE!"},{"$error":"#VALUE!"},{"$error":"#VALUE!"},{"$error":"#VALUE!"},{"$error":"#VALUE!"},{"$error":"#VALUE!"},{"$error":"#VALUE!"},{"$error":"#VALUE!"},{"$error":"#VALUE!"},{"$f":"VLOOKUP($AG47,Tabel!$J$3:$K$109,2,FALSE)","v":{"$error":"#VALUE!"}},{"$f":"Tabel!$K$106&$A47&$AH47&Tabel!$K$109","v":{"$error":"#VALUE!"}},{"$error":"#VALUE!"}]
[{"$f":"CONCATENATE(gastenlijst[[#This Row],[Post]],gastenlijst[[#This Row],[Code]],gastenlijst[[#This Row],[Huisnr aangepast]],gastenlijst[[#This Row],[Yes]])","v":{"$error":"#VALUE!"}},{"$error":"#VALUE!"},{"$error":"#VALUE!"},{"$error":"#VALUE!"},{"$error":"#VALUE!"},{"$error":"#VALUE!"},{"$error":"#VALUE!"},{"$error":"#VALUE!"},{"$error":"#VALUE!"},{"$error":"#VALUE!"},{"$error":"#VALUE!"},{"$f":"VLOOKUP(B48,Tabel!$K$3:$L$109,2,FALSE)","v":{"$error":"#VALUE!"}},{"$f":"VLOOKUP(C48,Tabel!$K$3:$L$109,2,FALSE)","v":{"$error":"#VALUE!"}},{"$f":"VLOOKUP(D48,Tabel!$K$3:$L$109,2,FALSE)","v":{"$error":"#VALUE!"}},{"$f":"VLOOKUP(E48,Tabel!$K$3:$L$109,2,FALSE)","v":{"$error":"#VALUE!"}},{"$f":"VLOOKUP(F48,Tabel!$K$3:$L$109,2,FALSE)","v":{"$error":"#VALUE!"}},{"$f":"VLOOKUP(G48,Tabel!$K$3:$L$109,2,FALSE)","v":{"$error":"#VALUE!"}},{"$f":"VLOOKUP(H48,Tabel!$K$3:$L$109,2,FALSE)","v":{"$error":"#VALUE!"}},{"$f":"VLOOKUP(I48,Tabel!$K$3:$L$109,2,FALSE)","v":{"$error":"#VALUE!"}},{"$f":"VLOOKUP(J48,Tabel!$K$3:$L$109,2,FALSE)","v":{"$error":"#VALUE!"}},{"$f":"VLOOKUP(K48,Tabel!$K$3:$L$109,2,FALSE)","v":{"$error":"#VALUE!"}},{"$error":"#VALUE!"},{"$error":"#VALUE!"},{"$error":"#VALUE!"},{"$error":"#VALUE!"},{"$error":"#VALUE!"},{"$error":"#VALUE!"},{"$error":"#VALUE!"},{"$error":"#VALUE!"},{"$error":"#VALUE!"},{"$error":"#VALUE!"},{"$error":"#VALUE!"},{"$error":"#VALUE!"},{"$f":"VLOOKUP($AG48,Tabel!$J$3:$K$109,2,FALSE)","v":{"$error":"#VALUE!"}},{"$f":"Tabel!$K$106&$A48&$AH48&Tabel!$K$109","v":{"$error":"#VALUE!"}},{"$error":"#VALUE!"}]
[{"$f":"CONCATENATE(gastenlijst[[#This Row],[Post]],gastenlijst[[#This Row],[Code]],gastenlijst[[#This Row],[Huisnr aangepast]],gastenlijst[[#This Row],[Yes]])","v":{"$error":"#VALUE!"}},{"$error":"#VALUE!"},{"$error":"#VALUE!"},{"$error":"#VALUE!"},{"$error":"#VALUE!"},{"$error":"#VALUE!"},{"$error":"#VALUE!"},{"$error":"#VALUE!"},{"$error":"#VALUE!"},{"$error":"#VALUE!"},{"$error":"#VALUE!"},{"$f":"VLOOKUP(B49,Tabel!$K$3:$L$109,2,FALSE)","v":{"$error":"#VALUE!"}},{"$f":"VLOOKUP(C49,Tabel!$K$3:$L$109,2,FALSE)","v":{"$error":"#VALUE!"}},{"$f":"VLOOKUP(D49,Tabel!$K$3:$L$109,2,FALSE)","v":{"$error":"#VALUE!"}},{"$f":"VLOOKUP(E49,Tabel!$K$3:$L$109,2,FALSE)","v":{"$error":"#VALUE!"}},{"$f":"VLOOKUP(F49,Tabel!$K$3:$L$109,2,FALSE)","v":{"$error":"#VALUE!"}},{"$f":"VLOOKUP(G49,Tabel!$K$3:$L$109,2,FALSE)","v":{"$error":"#VALUE!"}},{"$f":"VLOOKUP(H49,Tabel!$K$3:$L$109,2,FALSE)","v":{"$error":"#VALUE!"}},{"$f":"VLOOKUP(I49,Tabel!$K$3:$L$109,2,FALSE)","v":{"$error":"#VALUE!"}},{"$f":"VLOOKUP(J49,Tabel!$K$3:$L$109,2,FALSE)","v":{"$error":"#VALUE!"}},{"$f":"VLOOKUP(K49,Tabel!$K$3:$L$109,2,FALSE)","v":{"$error":"#VALUE!"}},{"$error":"#VALUE!"},{"$error":"#VALUE!"},{"$error":"#VALUE!"},{"$error":"#VALUE!"},{"$error":"#VALUE!"},{"$error":"#VALUE!"},{"$error":"#VALUE!"},{"$error":"#VALUE!"},{"$error":"#VALUE!"},{"$error":"#VALUE!"},{"$error":"#VALUE!"},{"$error":"#VALUE!"},{"$f":"VLOOKUP($AG49,Tabel!$J$3:$K$109,2,FALSE)","v":{"$error":"#VALUE!"}},{"$f":"Tabel!$K$106&$A49&$AH49&Tabel!$K$109","v":{"$error":"#VALUE!"}},{"$error":"#VALUE!"}]
[{"$f":"CONCATENATE(gastenlijst[[#This Row],[Post]],gastenlijst[[#This Row],[Code]],gastenlijst[[#This Row],[Huisnr aangepast]],gastenlijst[[#This Row],[Yes]])","v":{"$error":"#VALUE!"}},{"$error":"#VALUE!"},{"$error":"#VALUE!"},{"$error":"#VALUE!"},{"$error":"#VALUE!"},{"$error":"#VALUE!"},{"$error":"#VALUE!"},{"$error":"#VALUE!"},{"$error":"#VALUE!"},{"$error":"#VALUE!"},{"$error":"#VALUE!"},{"$f":"VLOOKUP(B50,Tabel!$K$3:$L$109,2,FALSE)","v":{"$error":"#VALUE!"}},{"$f":"VLOOKUP(C50,Tabel!$K$3:$L$109,2,FALSE)","v":{"$error":"#VALUE!"}},{"$f":"VLOOKUP(D50,Tabel!$K$3:$L$109,2,FALSE)","v":{"$error":"#VALUE!"}},{"$f":"VLOOKUP(E50,Tabel!$K$3:$L$109,2,FALSE)","v":{"$error":"#VALUE!"}},{"$f":"VLOOKUP(F50,Tabel!$K$3:$L$109,2,FALSE)","v":{"$error":"#VALUE!"}},{"$f":"VLOOKUP(G50,Tabel!$K$3:$L$109,2,FALSE)","v":{"$error":"#VALUE!"}},{"$f":"VLOOKUP(H50,Tabel!$K$3:$L$109,2,FALSE)","v":{"$error":"#VALUE!"}},{"$f":"VLOOKUP(I50,Tabel!$K$3:$L$109,2,FALSE)","v":{"$error":"#VALUE!"}},{"$f":"VLOOKUP(J50,Tabel!$K$3:$L$109,2,FALSE)","v":{"$error":"#VALUE!"}},{"$f":"VLOOKUP(K50,Tabel!$K$3:$L$109,2,FALSE)","v":{"$error":"#VALUE!"}},{"$error":"#VALUE!"},{"$error":"#VALUE!"},{"$error":"#VALUE!"},{"$error":"#VALUE!"},{"$error":"#VALUE!"},{"$error":"#VALUE!"},{"$error":"#VALUE!"},{"$error":"#VALUE!"},{"$error":"#VALUE!"},{"$error":"#VALUE!"},{"$error":"#VALUE!"},{"$error":"#VALUE!"},{"$f":"VLOOKUP($AG50,Tabel!$J$3:$K$109,2,FALSE)","v":{"$error":"#VALUE!"}},{"$f":"Tabel!$K$106&$A50&$AH50&Tabel!$K$109","v":{"$error":"#VALUE!"}},{"$error":"#VALUE!"}]
[{"$f":"CONCATENATE(gastenlijst[[#This Row],[Post]],gastenlijst[[#This Row],[Code]],gastenlijst[[#This Row],[Huisnr aangepast]],gastenlijst[[#This Row],[Yes]])","v":{"$error":"#VALUE!"}},{"$error":"#VALUE!"},{"$error":"#VALUE!"},{"$error":"#VALUE!"},{"$error":"#VALUE!"},{"$error":"#VALUE!"},{"$error":"#VALUE!"},{"$error":"#VALUE!"},{"$error":"#VALUE!"},{"$error":"#VALUE!"},{"$error":"#VALUE!"},{"$f":"VLOOKUP(B51,Tabel!$K$3:$L$109,2,FALSE)","v":{"$error":"#VALUE!"}},{"$f":"VLOOKUP(C51,Tabel!$K$3:$L$109,2,FALSE)","v":{"$error":"#VALUE!"}},{"$f":"VLOOKUP(D51,Tabel!$K$3:$L$109,2,FALSE)","v":{"$error":"#VALUE!"}},{"$f":"VLOOKUP(E51,Tabel!$K$3:$L$109,2,FALSE)","v":{"$error":"#VALUE!"}},{"$f":"VLOOKUP(F51,Tabel!$K$3:$L$109,2,FALSE)","v":{"$error":"#VALUE!"}},{"$f":"VLOOKUP(G51,Tabel!$K$3:$L$109,2,FALSE)","v":{"$error":"#VALUE!"}},{"$f":"VLOOKUP(H51,Tabel!$K$3:$L$109,2,FALSE)","v":{"$error":"#VALUE!"}},{"$f":"VLOOKUP(I51,Tabel!$K$3:$L$109,2,FALSE)","v":{"$error":"#VALUE!"}},{"$f":"VLOOKUP(J51,Tabel!$K$3:$L$109,2,FALSE)","v":{"$error":"#VALUE!"}},{"$f":"VLOOKUP(K51,Tabel!$K$3:$L$109,2,FALSE)","v":{"$error":"#VALUE!"}},{"$error":"#VALUE!"},{"$error":"#VALUE!"},{"$error":"#VALUE!"},{"$error":"#VALUE!"},{"$error":"#VALUE!"},{"$error":"#VALUE!"},{"$error":"#VALUE!"},{"$error":"#VALUE!"},{"$error":"#VALUE!"},{"$error":"#VALUE!"},{"$error":"#VALUE!"},{"$error":"#VALUE!"},{"$f":"VLOOKUP($AG51,Tabel!$J$3:$K$109,2,FALSE)","v":{"$error":"#VALUE!"}},{"$f":"Tabel!$K$106&$A51&$AH51&Tabel!$K$109","v":{"$error":"#VALUE!"}},{"$error":"#VALUE!"}]
[{"$f":"CONCATENATE(gastenlijst[[#This Row],[Post]],gastenlijst[[#This Row],[Code]],gastenlijst[[#This Row],[Huisnr aangepast]],gastenlijst[[#This Row],[Yes]])","v":{"$error":"#VALUE!"}},{"$error":"#VALUE!"},{"$error":"#VALUE!"},{"$error":"#VALUE!"},{"$error":"#VALUE!"},{"$error":"#VALUE!"},{"$error":"#VALUE!"},{"$error":"#VALUE!"},{"$error":"#VALUE!"},{"$error":"#VALUE!"},{"$error":"#VALUE!"},{"$f":"VLOOKUP(B52,Tabel!$K$3:$L$109,2,FALSE)","v":{"$error":"#VALUE!"}},{"$f":"VLOOKUP(C52,Tabel!$K$3:$L$109,2,FALSE)","v":{"$error":"#VALUE!"}},{"$f":"VLOOKUP(D52,Tabel!$K$3:$L$109,2,FALSE)","v":{"$error":"#VALUE!"}},{"$f":"VLOOKUP(E52,Tabel!$K$3:$L$109,2,FALSE)","v":{"$error":"#VALUE!"}},{"$f":"VLOOKUP(F52,Tabel!$K$3:$L$109,2,FALSE)","v":{"$error":"#VALUE!"}},{"$f":"VLOOKUP(G52,Tabel!$K$3:$L$109,2,FALSE)","v":{"$error":"#VALUE!"}},{"$f":"VLOOKUP(H52,Tabel!$K$3:$L$109,2,FALSE)","v":{"$error":"#VALUE!"}},{"$f":"VLOOKUP(I52,Tabel!$K$3:$L$109,2,FALSE)","v":{"$error":"#VALUE!"}},{"$f":"VLOOKUP(J52,Tabel!$K$3:$L$109,2,FALSE)","v":{"$error":"#VALUE!"}},{"$f":"VLOOKUP(K52,Tabel!$K$3:$L$109,2,FALSE)","v":{"$error":"#VALUE!"}},{"$error":"#VALUE!"},{"$error":"#VALUE!"},{"$error":"#VALUE!"},{"$error":"#VALUE!"},{"$error":"#VALUE!"},{"$error":"#VALUE!"},{"$error":"#VALUE!"},{"$error":"#VALUE!"},{"$error":"#VALUE!"},{"$error":"#VALUE!"},{"$error":"#VALUE!"},{"$error":"#VALUE!"},{"$f":"VLOOKUP($AG52,Tabel!$J$3:$K$109,2,FALSE)","v":{"$error":"#VALUE!"}},{"$f":"Tabel!$K$106&$A52&$AH52&Tabel!$K$109","v":{"$error":"#VALUE!"}},{"$error":"#VALUE!"}]
[{"$f":"CONCATENATE(gastenlijst[[#This Row],[Post]],gastenlijst[[#This Row],[Code]],gastenlijst[[#This Row],[Huisnr aangepast]],gastenlijst[[#This Row],[Yes]])","v":{"$error":"#VALUE!"}},{"$error":"#VALUE!"},{"$error":"#VALUE!"},{"$error":"#VALUE!"},{"$error":"#VALUE!"},{"$error":"#VALUE!"},{"$error":"#VALUE!"},{"$error":"#VALUE!"},{"$error":"#VALUE!"},{"$error":"#VALUE!"},{"$error":"#VALUE!"},{"$f":"VLOOKUP(B53,Tabel!$K$3:$L$109,2,FALSE)","v":{"$error":"#VALUE!"}},{"$f":"VLOOKUP(C53,Tabel!$K$3:$L$109,2,FALSE)","v":{"$error":"#VALUE!"}},{"$f":"VLOOKUP(D53,Tabel!$K$3:$L$109,2,FALSE)","v":{"$error":"#VALUE!"}},{"$f":"VLOOKUP(E53,Tabel!$K$3:$L$109,2,FALSE)","v":{"$error":"#VALUE!"}},{"$f":"VLOOKUP(F53,Tabel!$K$3:$L$109,2,FALSE)","v":{"$error":"#VALUE!"}},{"$f":"VLOOKUP(G53,Tabel!$K$3:$L$109,2,FALSE)","v":{"$error":"#VALUE!"}},{"$f":"VLOOKUP(H53,Tabel!$K$3:$L$109,2,FALSE)","v":{"$error":"#VALUE!"}},{"$f":"VLOOKUP(I53,Tabel!$K$3:$L$109,2,FALSE)","v":{"$error":"#VALUE!"}},{"$f":"VLOOKUP(J53,Tabel!$K$3:$L$109,2,FALSE)","v":{"$error":"#VALUE!"}},{"$f":"VLOOKUP(K53,Tabel!$K$3:$L$109,2,FALSE)","v":{"$error":"#VALUE!"}},{"$error":"#VALUE!"},{"$error":"#VALUE!"},{"$error":"#VALUE!"},{"$error":"#VALUE!"},{"$error":"#VALUE!"},{"$error":"#VALUE!"},{"$error":"#VALUE!"},{"$error":"#VALUE!"},{"$error":"#VALUE!"},{"$error":"#VALUE!"},{"$error":"#VALUE!"},{"$error":"#VALUE!"},{"$f":"VLOOKUP($AG53,Tabel!$J$3:$K$109,2,FALSE)","v":{"$error":"#VALUE!"}},{"$f":"Tabel!$K$106&$A53&$AH53&Tabel!$K$109","v":{"$error":"#VALUE!"}},{"$error":"#VALUE!"}]
[{"$f":"CONCATENATE(gastenlijst[[#This Row],[Post]],gastenlijst[[#This Row],[Code]],gastenlijst[[#This Row],[Huisnr aangepast]],gastenlijst[[#This Row],[Yes]])","v":{"$error":"#VALUE!"}},{"$error":"#VALUE!"},{"$error":"#VALUE!"},{"$error":"#VALUE!"},{"$error":"#VALUE!"},{"$error":"#VALUE!"},{"$error":"#VALUE!"},{"$error":"#VALUE!"},{"$error":"#VALUE!"},{"$error":"#VALUE!"},{"$error":"#VALUE!"},{"$f":"VLOOKUP(B54,Tabel!$K$3:$L$109,2,FALSE)","v":{"$error":"#VALUE!"}},{"$f":"VLOOKUP(C54,Tabel!$K$3:$L$109,2,FALSE)","v":{"$error":"#VALUE!"}},{"$f":"VLOOKUP(D54,Tabel!$K$3:$L$109,2,FALSE)","v":{"$error":"#VALUE!"}},{"$f":"VLOOKUP(E54,Tabel!$K$3:$L$109,2,FALSE)","v":{"$error":"#VALUE!"}},{"$f":"VLOOKUP(F54,Tabel!$K$3:$L$109,2,FALSE)","v":{"$error":"#VALUE!"}},{"$f":"VLOOKUP(G54,Tabel!$K$3:$L$109,2,FALSE)","v":{"$error":"#VALUE!"}},{"$f":"VLOOKUP(H54,Tabel!$K$3:$L$109,2,FALSE)","v":{"$error":"#VALUE!"}},{"$f":"VLOOKUP(I54,Tabel!$K$3:$L$109,2,FALSE)","v":{"$error":"#VALUE!"}},{"$f":"VLOOKUP(J54,Tabel!$K$3:$L$109,2,FALSE)","v":{"$error":"#VALUE!"}},{"$f":"VLOOKUP(K54,Tabel!$K$3:$L$109,2,FALSE)","v":{"$error":"#VALUE!"}},{"$error":"#VALUE!"},{"$error":"#VALUE!"},{"$error":"#VALUE!"},{"$error":"#VALUE!"},{"$error":"#VALUE!"},{"$error":"#VALUE!"},{"$error":"#VALUE!"},{"$error":"#VALUE!"},{"$error":"#VALUE!"},{"$error":"#VALUE!"},{"$error":"#VALUE!"},{"$error":"#VALUE!"},{"$f":"VLOOKUP($AG54,Tabel!$J$3:$K$109,2,FALSE)","v":{"$error":"#VALUE!"}},{"$f":"Tabel!$K$106&$A54&$AH54&Tabel!$K$109","v":{"$error":"#VALUE!"}},{"$error":"#VALUE!"}]
[{"$f":"CONCATENATE(gastenlijst[[#This Row],[Post]],gastenlijst[[#This Row],[Code]],gastenlijst[[#This Row],[Huisnr aangepast]],gastenlijst[[#This Row],[Yes]])","v":{"$error":"#VALUE!"}},{"$error":"#VALUE!"},{"$error":"#VALUE!"},{"$error":"#VALUE!"},{"$error":"#VALUE!"},{"$error":"#VALUE!"},{"$error":"#VALUE!"},{"$error":"#VALUE!"},{"$error":"#VALUE!"},{"$error":"#VALUE!"},{"$error":"#VALUE!"},{"$f":"VLOOKUP(B55,Tabel!$K$3:$L$109,2,FALSE)","v":{"$error":"#VALUE!"}},{"$f":"VLOOKUP(C55,Tabel!$K$3:$L$109,2,FALSE)","v":{"$error":"#VALUE!"}},{"$f":"VLOOKUP(D55,Tabel!$K$3:$L$109,2,FALSE)","v":{"$error":"#VALUE!"}},{"$f":"VLOOKUP(E55,Tabel!$K$3:$L$109,2,FALSE)","v":{"$error":"#VALUE!"}},{"$f":"VLOOKUP(F55,Tabel!$K$3:$L$109,2,FALSE)","v":{"$error":"#VALUE!"}},{"$f":"VLOOKUP(G55,Tabel!$K$3:$L$109,2,FALSE)","v":{"$error":"#VALUE!"}},{"$f":"VLOOKUP(H55,Tabel!$K$3:$L$109,2,FALSE)","v":{"$error":"#VALUE!"}},{"$f":"VLOOKUP(I55,Tabel!$K$3:$L$109,2,FALSE)","v":{"$error":"#VALUE!"}},{"$f":"VLOOKUP(J55,Tabel!$K$3:$L$109,2,FALSE)","v":{"$error":"#VALUE!"}},{"$f":"VLOOKUP(K55,Tabel!$K$3:$L$109,2,FALSE)","v":{"$error":"#VALUE!"}},{"$error":"#VALUE!"},{"$error":"#VALUE!"},{"$error":"#VALUE!"},{"$error":"#VALUE!"},{"$error":"#VALUE!"},{"$error":"#VALUE!"},{"$error":"#VALUE!"},{"$error":"#VALUE!"},{"$error":"#VALUE!"},{"$error":"#VALUE!"},{"$error":"#VALUE!"},{"$error":"#VALUE!"},{"$f":"VLOOKUP($AG55,Tabel!$J$3:$K$109,2,FALSE)","v":{"$error":"#VALUE!"}},{"$f":"Tabel!$K$106&$A55&$AH55&Tabel!$K$109","v":{"$error":"#VALUE!"}},{"$error":"#VALUE!"}]
[{"$f":"CONCATENATE(gastenlijst[[#This Row],[Post]],gastenlijst[[#This Row],[Code]],gastenlijst[[#This Row],[Huisnr aangepast]],gastenlijst[[#This Row],[Yes]])","v":{"$error":"#VALUE!"}},{"$error":"#VALUE!"},{"$error":"#VALUE!"},{"$error":"#VALUE!"},{"$error":"#VALUE!"},{"$error":"#VALUE!"},{"$error":"#VALUE!"},{"$error":"#VALUE!"},{"$error":"#VALUE!"},{"$error":"#VALUE!"},{"$error":"#VALUE!"},{"$f":"VLOOKUP(B56,Tabel!$K$3:$L$109,2,FALSE)","v":{"$error":"#VALUE!"}},{"$f":"VLOOKUP(C56,Tabel!$K$3:$L$109,2,FALSE)","v":{"$error":"#VALUE!"}},{"$f":"VLOOKUP(D56,Tabel!$K$3:$L$109,2,FALSE)","v":{"$error":"#VALUE!"}},{"$f":"VLOOKUP(E56,Tabel!$K$3:$L$109,2,FALSE)","v":{"$error":"#VALUE!"}},{"$f":"VLOOKUP(F56,Tabel!$K$3:$L$109,2,FALSE)","v":{"$error":"#VALUE!"}},{"$f":"VLOOKUP(G56,Tabel!$K$3:$L$109,2,FALSE)","v":{"$error":"#VALUE!"}},{"$f":"VLOOKUP(H56,Tabel!$K$3:$L$109,2,FALSE)","v":{"$error":"#VALUE!"}},{"$f":"VLOOKUP(I56,Tabel!$K$3:$L$109,2,FALSE)","v":{"$error":"#VALUE!"}},{"$f":"VLOOKUP(J56,Tabel!$K$3:$L$109,2,FALSE)","v":{"$error":"#VALUE!"}},{"$f":"VLOOKUP(K56,Tabel!$K$3:$L$109,2,FALSE)","v":{"$error":"#VALUE!"}},{"$error":"#VALUE!"},{"$error":"#VALUE!"},{"$error":"#VALUE!"},{"$error":"#VALUE!"},{"$error":"#VALUE!"},{"$error":"#VALUE!"},{"$error":"#VALUE!"},{"$error":"#VALUE!"},{"$error":"#VALUE!"},{"$error":"#VALUE!"},{"$error":"#VALUE!"},{"$error":"#VALUE!"},{"$f":"VLOOKUP($AG56,Tabel!$J$3:$K$109,2,FALSE)","v":{"$error":"#VALUE!"}},{"$f":"Tabel!$K$106&$A56&$AH56&Tabel!$K$109","v":{"$error":"#VALUE!"}},{"$error":"#VALUE!"}]
[{"$f":"CONCATENATE(gastenlijst[[#This Row],[Post]],gastenlijst[[#This Row],[Code]],gastenlijst[[#This Row],[Huisnr aangepast]],gastenlijst[[#This Row],[Yes]])","v":{"$error":"#VALUE!"}},{"$error":"#VALUE!"},{"$error":"#VALUE!"},{"$error":"#VALUE!"},{"$error":"#VALUE!"},{"$error":"#VALUE!"},{"$error":"#VALUE!"},{"$error":"#VALUE!"},{"$error":"#VALUE!"},{"$error":"#VALUE!"},{"$error":"#VALUE!"},{"$f":"VLOOKUP(B57,Tabel!$K$3:$L$109,2,FALSE)","v":{"$error":"#VALUE!"}},{"$f":"VLOOKUP(C57,Tabel!$K$3:$L$109,2,FALSE)","v":{"$error":"#VALUE!"}},{"$f":"VLOOKUP(D57,Tabel!$K$3:$L$109,2,FALSE)","v":{"$error":"#VALUE!"}},{"$f":"VLOOKUP(E57,Tabel!$K$3:$L$109,2,FALSE)","v":{"$error":"#VALUE!"}},{"$f":"VLOOKUP(F57,Tabel!$K$3:$L$109,2,FALSE)","v":{"$error":"#VALUE!"}},{"$f":"VLOOKUP(G57,Tabel!$K$3:$L$109,2,FALSE)","v":{"$error":"#VALUE!"}},{"$f":"VLOOKUP(H57,Tabel!$K$3:$L$109,2,FALSE)","v":{"$error":"#VALUE!"}},{"$f":"VLOOKUP(I57,Tabel!$K$3:$L$109,2,FALSE)","v":{"$error":"#VALUE!"}},{"$f":"VLOOKUP(J57,Tabel!$K$3:$L$109,2,FALSE)","v":{"$error":"#VALUE!"}},{"$f":"VLOOKUP(K57,Tabel!$K$3:$L$109,2,FALSE)","v":{"$error":"#VALUE!"}},{"$error":"#VALUE!"},{"$error":"#VALUE!"},{"$error":"#VALUE!"},{"$error":"#VALUE!"},{"$error":"#VALUE!"},{"$error":"#VALUE!"},{"$error":"#VALUE!"},{"$error":"#VALUE!"},{"$error":"#VALUE!"},{"$error":"#VALUE!"},{"$error":"#VALUE!"},{"$error":"#VALUE!"},{"$f":"VLOOKUP($AG57,Tabel!$J$3:$K$109,2,FALSE)","v":{"$error":"#VALUE!"}},{"$f":"Tabel!$K$106&$A57&$AH57&Tabel!$K$109","v":{"$error":"#VALUE!"}},{"$error":"#VALUE!"}]
[{"$f":"CONCATENATE(gastenlijst[[#This Row],[Post]],gastenlijst[[#This Row],[Code]],gastenlijst[[#This Row],[Huisnr aangepast]],gastenlijst[[#This Row],[Yes]])","v":{"$error":"#VALUE!"}},{"$error":"#VALUE!"},{"$error":"#VALUE!"},{"$error":"#VALUE!"},{"$error":"#VALUE!"},{"$error":"#VALUE!"},{"$error":"#VALUE!"},{"$error":"#VALUE!"},{"$error":"#VALUE!"},{"$error":"#VALUE!"},{"$error":"#VALUE!"},{"$f":"VLOOKUP(B58,Tabel!$K$3:$L$109,2,FALSE)","v":{"$error":"#VALUE!"}},{"$f":"VLOOKUP(C58,Tabel!$K$3:$L$109,2,FALSE)","v":{"$error":"#VALUE!"}},{"$f":"VLOOKUP(D58,Tabel!$K$3:$L$109,2,FALSE)","v":{"$error":"#VALUE!"}},{"$f":"VLOOKUP(E58,Tabel!$K$3:$L$109,2,FALSE)","v":{"$error":"#VALUE!"}},{"$f":"VLOOKUP(F58,Tabel!$K$3:$L$109,2,FALSE)","v":{"$error":"#VALUE!"}},{"$f":"VLOOKUP(G58,Tabel!$K$3:$L$109,2,FALSE)","v":{"$error":"#VALUE!"}},{"$f":"VLOOKUP(H58,Tabel!$K$3:$L$109,2,FALSE)","v":{"$error":"#VALUE!"}},{"$f":"VLOOKUP(I58,Tabel!$K$3:$L$109,2,FALSE)","v":{"$error":"#VALUE!"}},{"$f":"VLOOKUP(J58,Tabel!$K$3:$L$109,2,FALSE)","v":{"$error":"#VALUE!"}},{"$f":"VLOOKUP(K58,Tabel!$K$3:$L$109,2,FALSE)","v":{"$error":"#VALUE!"}},{"$error":"#VALUE!"},{"$error":"#VALUE!"},{"$error":"#VALUE!"},{"$error":"#VALUE!"},{"$error":"#VALUE!"},{"$error":"#VALUE!"},{"$error":"#VALUE!"},{"$error":"#VALUE!"},{"$error":"#VALUE!"},{"$error":"#VALUE!"},{"$error":"#VALUE!"},{"$error":"#VALUE!"},{"$f":"VLOOKUP($AG58,Tabel!$J$3:$K$109,2,FALSE)","v":{"$error":"#VALUE!"}},{"$f":"Tabel!$K$106&$A58&$AH58&Tabel!$K$109","v":{"$error":"#VALUE!"}},{"$error":"#VALUE!"}]
[{"$f":"CONCATENATE(gastenlijst[[#This Row],[Post]],gastenlijst[[#This Row],[Code]],gastenlijst[[#This Row],[Huisnr aangepast]],gastenlijst[[#This Row],[Yes]])","v":{"$error":"#VALUE!"}},{"$error":"#VALUE!"},{"$error":"#VALUE!"},{"$error":"#VALUE!"},{"$error":"#VALUE!"},{"$error":"#VALUE!"},{"$error":"#VALUE!"},{"$error":"#VALUE!"},{"$error":"#VALUE!"},{"$error":"#VALUE!"},{"$error":"#VALUE!"},{"$f":"VLOOKUP(B59,Tabel!$K$3:$L$109,2,FALSE)","v":{"$error":"#VALUE!"}},{"$f":"VLOOKUP(C59,Tabel!$K$3:$L$109,2,FALSE)","v":{"$error":"#VALUE!"}},{"$f":"VLOOKUP(D59,Tabel!$K$3:$L$109,2,FALSE)","v":{"$error":"#VALUE!"}},{"$f":"VLOOKUP(E59,Tabel!$K$3:$L$109,2,FALSE)","v":{"$error":"#VALUE!"}},{"$f":"VLOOKUP(F59,Tabel!$K$3:$L$109,2,FALSE)","v":{"$error":"#VALUE!"}},{"$f":"VLOOKUP(G59,Tabel!$K$3:$L$109,2,FALSE)","v":{"$error":"#VALUE!"}},{"$f":"VLOOKUP(H59,Tabel!$K$3:$L$109,2,FALSE)","v":{"$error":"#VALUE!"}},{"$f":"VLOOKUP(I59,Tabel!$K$3:$L$109,2,FALSE)","v":{"$error":"#VALUE!"}},{"$f":"VLOOKUP(J59,Tabel!$K$3:$L$109,2,FALSE)","v":{"$error":"#VALUE!"}},{"$f":"VLOOKUP(K59,Tabel!$K$3:$L$109,2,FALSE)","v":{"$error":"#VALUE!"}},{"$error":"#VALUE!"},{"$error":"#VALUE!"},{"$error":"#VALUE!"},{"$error":"#VALUE!"},{"$error":"#VALUE!"},{"$error":"#VALUE!"},{"$error":"#VALUE!"},{"$error":"#VALUE!"},{"$error":"#VALUE!"},{"$error":"#VALUE!"},{"$error":"#VALUE!"},{"$error":"#VALUE!"},{"$f":"VLOOKUP($AG59,Tabel!$J$3:$K$109,2,FALSE)","v":{"$error":"#VALUE!"}},{"$f":"Tabel!$K$106&$A59&$AH59&Tabel!$K$109","v":{"$error":"#VALUE!"}},{"$error":"#VALUE!"}]
[{"$f":"CONCATENATE(gastenlijst[[#This Row],[Post]],gastenlijst[[#This Row],[Code]],gastenlijst[[#This Row],[Huisnr aangepast]],gastenlijst[[#This Row],[Yes]])","v":{"$error":"#VALUE!"}},{"$error":"#VALUE!"},{"$error":"#VALUE!"},{"$error":"#VALUE!"},{"$error":"#VALUE!"},{"$error":"#VALUE!"},{"$error":"#VALUE!"},{"$error":"#VALUE!"},{"$error":"#VALUE!"},{"$error":"#VALUE!"},{"$error":"#VALUE!"},{"$f":"VLOOKUP(B60,Tabel!$K$3:$L$109,2,FALSE)","v":{"$error":"#VALUE!"}},{"$f":"VLOOKUP(C60,Tabel!$K$3:$L$109,2,FALSE)","v":{"$error":"#VALUE!"}},{"$f":"VLOOKUP(D60,Tabel!$K$3:$L$109,2,FALSE)","v":{"$error":"#VALUE!"}},{"$f":"VLOOKUP(E60,Tabel!$K$3:$L$109,2,FALSE)","v":{"$error":"#VALUE!"}},{"$f":"VLOOKUP(F60,Tabel!$K$3:$L$109,2,FALSE)","v":{"$error":"#VALUE!"}},{"$f":"VLOOKUP(G60,Tabel!$K$3:$L$109,2,FALSE)","v":{"$error":"#VALUE!"}},{"$f":"VLOOKUP(H60,Tabel!$K$3:$L$109,2,FALSE)","v":{"$error":"#VALUE!"}},{"$f":"VLOOKUP(I60,Tabel!$K$3:$L$109,2,FALSE)","v":{"$error":"#VALUE!"}},{"$f":"VLOOKUP(J60,Tabel!$K$3:$L$109,2,FALSE)","v":{"$error":"#VALUE!"}},{"$f":"VLOOKUP(K60,Tabel!$K$3:$L$109,2,FALSE)","v":{"$error":"#VALUE!"}},{"$error":"#VALUE!"},{"$error":"#VALUE!"},{"$error":"#VALUE!"},{"$error":"#VALUE!"},{"$error":"#VALUE!"},{"$error":"#VALUE!"},{"$error":"#VALUE!"},{"$error":"#VALUE!"},{"$error":"#VALUE!"},{"$error":"#VALUE!"},{"$error":"#VALUE!"},{"$error":"#VALUE!"},{"$f":"VLOOKUP($AG60,Tabel!$J$3:$K$109,2,FALSE)","v":{"$error":"#VALUE!"}},{"$f":"Tabel!$K$106&$A60&$AH60&Tabel!$K$109","v":{"$error":"#VALUE!"}},{"$error":"#VALUE!"}]
[{"$f":"CONCATENATE(gastenlijst[[#This Row],[Post]],gastenlijst[[#This Row],[Code]],gastenlijst[[#This Row],[Huisnr aangepast]],gastenlijst[[#This Row],[Yes]])","v":{"$error":"#VALUE!"}},{"$error":"#VALUE!"},{"$error":"#VALUE!"},{"$error":"#VALUE!"},{"$error":"#VALUE!"},{"$error":"#VALUE!"},{"$error":"#VALUE!"},{"$error":"#VALUE!"},{"$error":"#VALUE!"},{"$error":"#VALUE!"},{"$error":"#VALUE!"},{"$f":"VLOOKUP(B61,Tabel!$K$3:$L$109,2,FALSE)","v":{"$error":"#VALUE!"}},{"$f":"VLOOKUP(C61,Tabel!$K$3:$L$109,2,FALSE)","v":{"$error":"#VALUE!"}},{"$f":"VLOOKUP(D61,Tabel!$K$3:$L$109,2,FALSE)","v":{"$error":"#VALUE!"}},{"$f":"VLOOKUP(E61,Tabel!$K$3:$L$109,2,FALSE)","v":{"$error":"#VALUE!"}},{"$f":"VLOOKUP(F61,Tabel!$K$3:$L$109,2,FALSE)","v":{"$error":"#VALUE!"}},{"$f":"VLOOKUP(G61,Tabel!$K$3:$L$109,2,FALSE)","v":{"$error":"#VALUE!"}},{"$f":"VLOOKUP(H61,Tabel!$K$3:$L$109,2,FALSE)","v":{"$error":"#VALUE!"}},{"$f":"VLOOKUP(I61,Tabel!$K$3:$L$109,2,FALSE)","v":{"$error":"#VALUE!"}},{"$f":"VLOOKUP(J61,Tabel!$K$3:$L$109,2,FALSE)","v":{"$error":"#VALUE!"}},{"$f":"VLOOKUP(K61,Tabel!$K$3:$L$109,2,FALSE)","v":{"$error":"#VALUE!"}},{"$error":"#VALUE!"},{"$error":"#VALUE!"},{"$error":"#VALUE!"},{"$error":"#VALUE!"},{"$error":"#VALUE!"},{"$error":"#VALUE!"},{"$error":"#VALUE!"},{"$error":"#VALUE!"},{"$error":"#VALUE!"},{"$error":"#VALUE!"},{"$error":"#VALUE!"},{"$error":"#VALUE!"},{"$f":"VLOOKUP($AG61,Tabel!$J$3:$K$109,2,FALSE)","v":{"$error":"#VALUE!"}},{"$f":"Tabel!$K$106&$A61&$AH61&Tabel!$K$109","v":{"$error":"#VALUE!"}},{"$error":"#VALUE!"}]
[{"$f":"CONCATENATE(gastenlijst[[#This Row],[Post]],gastenlijst[[#This Row],[Code]],gastenlijst[[#This Row],[Huisnr aangepast]],gastenlijst[[#This Row],[Yes]])","v":{"$error":"#VALUE!"}},{"$error":"#VALUE!"},{"$error":"#VALUE!"},{"$error":"#VALUE!"},{"$error":"#VALUE!"},{"$error":"#VALUE!"},{"$error":"#VALUE!"},{"$error":"#VALUE!"},{"$error":"#VALUE!"},{"$error":"#VALUE!"},{"$error":"#VALUE!"},{"$f":"VLOOKUP(B62,Tabel!$K$3:$L$109,2,FALSE)","v":{"$error":"#VALUE!"}},{"$f":"VLOOKUP(C62,Tabel!$K$3:$L$109,2,FALSE)","v":{"$error":"#VALUE!"}},{"$f":"VLOOKUP(D62,Tabel!$K$3:$L$109,2,FALSE)","v":{"$error":"#VALUE!"}},{"$f":"VLOOKUP(E62,Tabel!$K$3:$L$109,2,FALSE)","v":{"$error":"#VALUE!"}},{"$f":"VLOOKUP(F62,Tabel!$K$3:$L$109,2,FALSE)","v":{"$error":"#VALUE!"}},{"$f":"VLOOKUP(G62,Tabel!$K$3:$L$109,2,FALSE)","v":{"$error":"#VALUE!"}},{"$f":"VLOOKUP(H62,Tabel!$K$3:$L$109,2,FALSE)","v":{"$error":"#VALUE!"}},{"$f":"VLOOKUP(I62,Tabel!$K$3:$L$109,2,FALSE)","v":{"$error":"#VALUE!"}},{"$f":"VLOOKUP(J62,Tabel!$K$3:$L$109,2,FALSE)","v":{"$error":"#VALUE!"}},{"$f":"VLOOKUP(K62,Tabel!$K$3:$L$109,2,FALSE)","v":{"$error":"#VALUE!"}},{"$error":"#VALUE!"},{"$error":"#VALUE!"},{"$error":"#VALUE!"},{"$error":"#VALUE!"},{"$error":"#VALUE!"},{"$error":"#VALUE!"},{"$error":"#VALUE!"},{"$error":"#VALUE!"},{"$error":"#VALUE!"},{"$error":"#VALUE!"},{"$error":"#VALUE!"},{"$error":"#VALUE!"},{"$f":"VLOOKUP($AG62,Tabel!$J$3:$K$109,2,FALSE)","v":{"$error":"#VALUE!"}},{"$f":"Tabel!$K$106&$A62&$AH62&Tabel!$K$109","v":{"$error":"#VALUE!"}},{"$error":"#VALUE!"}]
[{"$f":"CONCATENATE(gastenlijst[[#This Row],[Post]],gastenlijst[[#This Row],[Code]],gastenlijst[[#This Row],[Huisnr aangepast]],gastenlijst[[#This Row],[Yes]])","v":{"$error":"#VALUE!"}},{"$error":"#VALUE!"},{"$error":"#VALUE!"},{"$error":"#VALUE!"},{"$error":"#VALUE!"},{"$error":"#VALUE!"},{"$error":"#VALUE!"},{"$error":"#VALUE!"},{"$error":"#VALUE!"},{"$error":"#VALUE!"},{"$error":"#VALUE!"},{"$f":"VLOOKUP(B63,Tabel!$K$3:$L$109,2,FALSE)","v":{"$error":"#VALUE!"}},{"$f":"VLOOKUP(C63,Tabel!$K$3:$L$109,2,FALSE)","v":{"$error":"#VALUE!"}},{"$f":"VLOOKUP(D63,Tabel!$K$3:$L$109,2,FALSE)","v":{"$error":"#VALUE!"}},{"$f":"VLOOKUP(E63,Tabel!$K$3:$L$109,2,FALSE)","v":{"$error":"#VALUE!"}},{"$f":"VLOOKUP(F63,Tabel!$K$3:$L$109,2,FALSE)","v":{"$error":"#VALUE!"}},{"$f":"VLOOKUP(G63,Tabel!$K$3:$L$109,2,FALSE)","v":{"$error":"#VALUE!"}},{"$f":"VLOOKUP(H63,Tabel!$K$3:$L$109,2,FALSE)","v":{"$error":"#VALUE!"}},{"$f":"VLOOKUP(I63,Tabel!$K$3:$L$109,2,FALSE)","v":{"$error":"#VALUE!"}},{"$f":"VLOOKUP(J63,Tabel!$K$3:$L$109,2,FALSE)","v":{"$error":"#VALUE!"}},{"$f":"VLOOKUP(K63,Tabel!$K$3:$L$109,2,FALSE)","v":{"$error":"#VALUE!"}},{"$error":"#VALUE!"},{"$error":"#VALUE!"},{"$error":"#VALUE!"},{"$error":"#VALUE!"},{"$error":"#VALUE!"},{"$error":"#VALUE!"},{"$error":"#VALUE!"},{"$error":"#VALUE!"},{"$error":"#VALUE!"},{"$error":"#VALUE!"},{"$error":"#VALUE!"},{"$error":"#VALUE!"},{"$f":"VLOOKUP($AG63,Tabel!$J$3:$K$109,2,FALSE)","v":{"$error":"#VALUE!"}},{"$f":"Tabel!$K$106&$A63&$AH63&Tabel!$K$109","v":{"$error":"#VALUE!"}},{"$error":"#VALUE!"}]
[{"$f":"CONCATENATE(gastenlijst[[#This Row],[Post]],gastenlijst[[#This Row],[Code]],gastenlijst[[#This Row],[Huisnr aangepast]],gastenlijst[[#This Row],[Yes]])","v":{"$error":"#VALUE!"}},{"$error":"#VALUE!"},{"$error":"#VALUE!"},{"$error":"#VALUE!"},{"$error":"#VALUE!"},{"$error":"#VALUE!"},{"$error":"#VALUE!"},{"$error":"#VALUE!"},{"$error":"#VALUE!"},{"$error":"#VALUE!"},{"$error":"#VALUE!"},{"$f":"VLOOKUP(B64,Tabel!$K$3:$L$109,2,FALSE)","v":{"$error":"#VALUE!"}},{"$f":"VLOOKUP(C64,Tabel!$K$3:$L$109,2,FALSE)","v":{"$error":"#VALUE!"}},{"$f":"VLOOKUP(D64,Tabel!$K$3:$L$109,2,FALSE)","v":{"$error":"#VALUE!"}},{"$f":"VLOOKUP(E64,Tabel!$K$3:$L$109,2,FALSE)","v":{"$error":"#VALUE!"}},{"$f":"VLOOKUP(F64,Tabel!$K$3:$L$109,2,FALSE)","v":{"$error":"#VALUE!"}},{"$f":"VLOOKUP(G64,Tabel!$K$3:$L$109,2,FALSE)","v":{"$error":"#VALUE!"}},{"$f":"VLOOKUP(H64,Tabel!$K$3:$L$109,2,FALSE)","v":{"$error":"#VALUE!"}},{"$f":"VLOOKUP(I64,Tabel!$K$3:$L$109,2,FALSE)","v":{"$error":"#VALUE!"}},{"$f":"VLOOKUP(J64,Tabel!$K$3:$L$109,2,FALSE)","v":{"$error":"#VALUE!"}},{"$f":"VLOOKUP(K64,Tabel!$K$3:$L$109,2,FALSE)","v":{"$error":"#VALUE!"}},{"$error":"#VALUE!"},{"$error":"#VALUE!"},{"$error":"#VALUE!"},{"$error":"#VALUE!"},{"$error":"#VALUE!"},{"$error":"#VALUE!"},{"$error":"#VALUE!"},{"$error":"#VALUE!"},{"$error":"#VALUE!"},{"$error":"#VALUE!"},{"$error":"#VALUE!"},{"$error":"#VALUE!"},{"$f":"VLOOKUP($AG64,Tabel!$J$3:$K$109,2,FALSE)","v":{"$error":"#VALUE!"}},{"$f":"Tabel!$K$106&$A64&$AH64&Tabel!$K$109","v":{"$error":"#VALUE!"}},{"$error":"#VALUE!"}]
[{"$f":"CONCATENATE(gastenlijst[[#This Row],[Post]],gastenlijst[[#This Row],[Code]],gastenlijst[[#This Row],[Huisnr aangepast]],gastenlijst[[#This Row],[Yes]])","v":{"$error":"#VALUE!"}},{"$error":"#VALUE!"},{"$error":"#VALUE!"},{"$error":"#VALUE!"},{"$error":"#VALUE!"},{"$error":"#VALUE!"},{"$error":"#VALUE!"},{"$error":"#VALUE!"},{"$error":"#VALUE!"},{"$error":"#VALUE!"},{"$error":"#VALUE!"},{"$f":"VLOOKUP(B65,Tabel!$K$3:$L$109,2,FALSE)","v":{"$error":"#VALUE!"}},{"$f":"VLOOKUP(C65,Tabel!$K$3:$L$109,2,FALSE)","v":{"$error":"#VALUE!"}},{"$f":"VLOOKUP(D65,Tabel!$K$3:$L$109,2,FALSE)","v":{"$error":"#VALUE!"}},{"$f":"VLOOKUP(E65,Tabel!$K$3:$L$109,2,FALSE)","v":{"$error":"#VALUE!"}},{"$f":"VLOOKUP(F65,Tabel!$K$3:$L$109,2,FALSE)","v":{"$error":"#VALUE!"}},{"$f":"VLOOKUP(G65,Tabel!$K$3:$L$109,2,FALSE)","v":{"$error":"#VALUE!"}},{"$f":"VLOOKUP(H65,Tabel!$K$3:$L$109,2,FALSE)","v":{"$error":"#VALUE!"}},{"$f":"VLOOKUP(I65,Tabel!$K$3:$L$109,2,FALSE)","v":{"$error":"#VALUE!"}},{"$f":"VLOOKUP(J65,Tabel!$K$3:$L$109,2,FALSE)","v":{"$error":"#VALUE!"}},{"$f":"VLOOKUP(K65,Tabel!$K$3:$L$109,2,FALSE)","v":{"$error":"#VALUE!"}},{"$error":"#VALUE!"},{"$error":"#VALUE!"},{"$error":"#VALUE!"},{"$error":"#VALUE!"},{"$error":"#VALUE!"},{"$error":"#VALUE!"},{"$error":"#VALUE!"},{"$error":"#VALUE!"},{"$error":"#VALUE!"},{"$error":"#VALUE!"},{"$error":"#VALUE!"},{"$error":"#VALUE!"},{"$f":"VLOOKUP($AG65,Tabel!$J$3:$K$109,2,FALSE)","v":{"$error":"#VALUE!"}},{"$f":"Tabel!$K$106&$A65&$AH65&Tabel!$K$109","v":{"$error":"#VALUE!"}},{"$error":"#VALUE!"}]
[{"$f":"CONCATENATE(gastenlijst[[#This Row],[Post]],gastenlijst[[#This Row],[Code]],gastenlijst[[#This Row],[Huisnr aangepast]],gastenlijst[[#This Row],[Yes]])","v":{"$error":"#VALUE!"}},{"$error":"#VALUE!"},{"$error":"#VALUE!"},{"$error":"#VALUE!"},{"$error":"#VALUE!"},{"$error":"#VALUE!"},{"$error":"#VALUE!"},{"$error":"#VALUE!"},{"$error":"#VALUE!"},{"$error":"#VALUE!"},{"$error":"#VALUE!"},{"$f":"VLOOKUP(B66,Tabel!$K$3:$L$109,2,FALSE)","v":{"$error":"#VALUE!"}},{"$f":"VLOOKUP(C66,Tabel!$K$3:$L$109,2,FALSE)","v":{"$error":"#VALUE!"}},{"$f":"VLOOKUP(D66,Tabel!$K$3:$L$109,2,FALSE)","v":{"$error":"#VALUE!"}},{"$f":"VLOOKUP(E66,Tabel!$K$3:$L$109,2,FALSE)","v":{"$error":"#VALUE!"}},{"$f":"VLOOKUP(F66,Tabel!$K$3:$L$109,2,FALSE)","v":{"$error":"#VALUE!"}},{"$f":"VLOOKUP(G66,Tabel!$K$3:$L$109,2,FALSE)","v":{"$error":"#VALUE!"}},{"$f":"VLOOKUP(H66,Tabel!$K$3:$L$109,2,FALSE)","v":{"$error":"#VALUE!"}},{"$f":"VLOOKUP(I66,Tabel!$K$3:$L$109,2,FALSE)","v":{"$error":"#VALUE!"}},{"$f":"VLOOKUP(J66,Tabel!$K$3:$L$109,2,FALSE)","v":{"$error":"#VALUE!"}},{"$f":"VLOOKUP(K66,Tabel!$K$3:$L$109,2,FALSE)","v":{"$error":"#VALUE!"}},{"$error":"#VALUE!"},{"$error":"#VALUE!"},{"$error":"#VALUE!"},{"$error":"#VALUE!"},{"$error":"#VALUE!"},{"$error":"#VALUE!"},{"$error":"#VALUE!"},{"$error":"#VALUE!"},{"$error":"#VALUE!"},{"$error":"#VALUE!"},{"$error":"#VALUE!"},{"$error":"#VALUE!"},{"$f":"VLOOKUP($AG66,Tabel!$J$3:$K$109,2,FALSE)","v":{"$error":"#VALUE!"}},{"$f":"Tabel!$K$106&$A66&$AH66&Tabel!$K$109","v":{"$error":"#VALUE!"}},{"$error":"#VALUE!"}]
[{"$f":"CONCATENATE(gastenlijst[[#This Row],[Post]],gastenlijst[[#This Row],[Code]],gastenlijst[[#This Row],[Huisnr aangepast]],gastenlijst[[#This Row],[Yes]])","v":{"$error":"#VALUE!"}},{"$error":"#VALUE!"},{"$error":"#VALUE!"},{"$error":"#VALUE!"},{"$error":"#VALUE!"},{"$error":"#VALUE!"},{"$error":"#VALUE!"},{"$error":"#VALUE!"},{"$error":"#VALUE!"},{"$error":"#VALUE!"},{"$error":"#VALUE!"},{"$f":"VLOOKUP(B67,Tabel!$K$3:$L$109,2,FALSE)","v":{"$error":"#VALUE!"}},{"$f":"VLOOKUP(C67,Tabel!$K$3:$L$109,2,FALSE)","v":{"$error":"#VALUE!"}},{"$f":"VLOOKUP(D67,Tabel!$K$3:$L$109,2,FALSE)","v":{"$error":"#VALUE!"}},{"$f":"VLOOKUP(E67,Tabel!$K$3:$L$109,2,FALSE)","v":{"$error":"#VALUE!"}},{"$f":"VLOOKUP(F67,Tabel!$K$3:$L$109,2,FALSE)","v":{"$error":"#VALUE!"}},{"$f":"VLOOKUP(G67,Tabel!$K$3:$L$109,2,FALSE)","v":{"$error":"#VALUE!"}},{"$f":"VLOOKUP(H67,Tabel!$K$3:$L$109,2,FALSE)","v":{"$error":"#VALUE!"}},{"$f":"VLOOKUP(I67,Tabel!$K$3:$L$109,2,FALSE)","v":{"$error":"#VALUE!"}},{"$f":"VLOOKUP(J67,Tabel!$K$3:$L$109,2,FALSE)","v":{"$error":"#VALUE!"}},{"$f":"VLOOKUP(K67,Tabel!$K$3:$L$109,2,FALSE)","v":{"$error":"#VALUE!"}},{"$error":"#VALUE!"},{"$error":"#VALUE!"},{"$error":"#VALUE!"},{"$error":"#VALUE!"},{"$error":"#VALUE!"},{"$error":"#VALUE!"},{"$error":"#VALUE!"},{"$error":"#VALUE!"},{"$error":"#VALUE!"},{"$error":"#VALUE!"},{"$error":"#VALUE!"},{"$error":"#VALUE!"},{"$f":"VLOOKUP($AG67,Tabel!$J$3:$K$109,2,FALSE)","v":{"$error":"#VALUE!"}},{"$f":"Tabel!$K$106&$A67&$AH67&Tabel!$K$109","v":{"$error":"#VALUE!"}},{"$error":"#VALUE!"}]
[{"$f":"CONCATENATE(gastenlijst[[#This Row],[Post]],gastenlijst[[#This Row],[Code]],gastenlijst[[#This Row],[Huisnr aangepast]],gastenlijst[[#This Row],[Yes]])","v":{"$error":"#VALUE!"}},{"$error":"#VALUE!"},{"$error":"#VALUE!"},{"$error":"#VALUE!"},{"$error":"#VALUE!"},{"$error":"#VALUE!"},{"$error":"#VALUE!"},{"$error":"#VALUE!"},{"$error":"#VALUE!"},{"$error":"#VALUE!"},{"$error":"#VALUE!"},{"$f":"VLOOKUP(B68,Tabel!$K$3:$L$109,2,FALSE)","v":{"$error":"#VALUE!"}},{"$f":"VLOOKUP(C68,Tabel!$K$3:$L$109,2,FALSE)","v":{"$error":"#VALUE!"}},{"$f":"VLOOKUP(D68,Tabel!$K$3:$L$109,2,FALSE)","v":{"$error":"#VALUE!"}},{"$f":"VLOOKUP(E68,Tabel!$K$3:$L$109,2,FALSE)","v":{"$error":"#VALUE!"}},{"$f":"VLOOKUP(F68,Tabel!$K$3:$L$109,2,FALSE)","v":{"$error":"#VALUE!"}},{"$f":"VLOOKUP(G68,Tabel!$K$3:$L$109,2,FALSE)","v":{"$error":"#VALUE!"}},{"$f":"VLOOKUP(H68,Tabel!$K$3:$L$109,2,FALSE)","v":{"$error":"#VALUE!"}},{"$f":"VLOOKUP(I68,Tabel!$K$3:$L$109,2,FALSE)","v":{"$error":"#VALUE!"}},{"$f":"VLOOKUP(J68,Tabel!$K$3:$L$109,2,FALSE)","v":{"$error":"#VALUE!"}},{"$f":"VLOOKUP(K68,Tabel!$K$3:$L$109,2,FALSE)","v":{"$error":"#VALUE!"}},{"$error":"#VALUE!"},{"$error":"#VALUE!"},{"$error":"#VALUE!"},{"$error":"#VALUE!"},{"$error":"#VALUE!"},{"$error":"#VALUE!"},{"$error":"#VALUE!"},{"$error":"#VALUE!"},{"$error":"#VALUE!"},{"$error":"#VALUE!"},{"$error":"#VALUE!"},{"$error":"#VALUE!"},{"$f":"VLOOKUP($AG68,Tabel!$J$3:$K$109,2,FALSE)","v":{"$error":"#VALUE!"}},{"$f":"Tabel!$K$106&$A68&$AH68&Tabel!$K$109","v":{"$error":"#VALUE!"}},{"$error":"#VALUE!"}]
[{"$f":"CONCATENATE(gastenlijst[[#This Row],[Post]],gastenlijst[[#This Row],[Code]],gastenlijst[[#This Row],[Huisnr aangepast]],gastenlijst[[#This Row],[Yes]])","v":{"$error":"#VALUE!"}},{"$error":"#VALUE!"},{"$error":"#VALUE!"},{"$error":"#VALUE!"},{"$error":"#VALUE!"},{"$error":"#VALUE!"},{"$error":"#VALUE!"},{"$error":"#VALUE!"},{"$error":"#VALUE!"},{"$error":"#VALUE!"},{"$error":"#VALUE!"},{"$f":"VLOOKUP(B69,Tabel!$K$3:$L$109,2,FALSE)","v":{"$error":"#VALUE!"}},{"$f":"VLOOKUP(C69,Tabel!$K$3:$L$109,2,FALSE)","v":{"$error":"#VALUE!"}},{"$f":"VLOOKUP(D69,Tabel!$K$3:$L$109,2,FALSE)","v":{"$error":"#VALUE!"}},{"$f":"VLOOKUP(E69,Tabel!$K$3:$L$109,2,FALSE)","v":{"$error":"#VALUE!"}},{"$f":"VLOOKUP(F69,Tabel!$K$3:$L$109,2,FALSE)","v":{"$error":"#VALUE!"}},{"$f":"VLOOKUP(G69,Tabel!$K$3:$L$109,2,FALSE)","v":{"$error":"#VALUE!"}},{"$f":"VLOOKUP(H69,Tabel!$K$3:$L$109,2,FALSE)","v":{"$error":"#VALUE!"}},{"$f":"VLOOKUP(I69,Tabel!$K$3:$L$109,2,FALSE)","v":{"$error":"#VALUE!"}},{"$f":"VLOOKUP(J69,Tabel!$K$3:$L$109,2,FALSE)","v":{"$error":"#VALUE!"}},{"$f":"VLOOKUP(K69,Tabel!$K$3:$L$109,2,FALSE)","v":{"$error":"#VALUE!"}},{"$error":"#VALUE!"},{"$error":"#VALUE!"},{"$error":"#VALUE!"},{"$error":"#VALUE!"},{"$error":"#VALUE!"},{"$error":"#VALUE!"},{"$error":"#VALUE!"},{"$error":"#VALUE!"},{"$error":"#VALUE!"},{"$error":"#VALUE!"},{"$error":"#VALUE!"},{"$error":"#VALUE!"},{"$f":"VLOOKUP($AG69,Tabel!$J$3:$K$109,2,FALSE)","v":{"$error":"#VALUE!"}},{"$f":"Tabel!$K$106&$A69&$AH69&Tabel!$K$109","v":{"$error":"#VALUE!"}},{"$error":"#VALUE!"}]
[{"$f":"CONCATENATE(gastenlijst[[#This Row],[Post]],gastenlijst[[#This Row],[Code]],gastenlijst[[#This Row],[Huisnr aangepast]],gastenlijst[[#This Row],[Yes]])","v":{"$error":"#VALUE!"}},{"$error":"#VALUE!"},{"$error":"#VALUE!"},{"$error":"#VALUE!"},{"$error":"#VALUE!"},{"$error":"#VALUE!"},{"$error":"#VALUE!"},{"$error":"#VALUE!"},{"$error":"#VALUE!"},{"$error":"#VALUE!"},{"$error":"#VALUE!"},{"$f":"VLOOKUP(B70,Tabel!$K$3:$L$109,2,FALSE)","v":{"$error":"#VALUE!"}},{"$f":"VLOOKUP(C70,Tabel!$K$3:$L$109,2,FALSE)","v":{"$error":"#VALUE!"}},{"$f":"VLOOKUP(D70,Tabel!$K$3:$L$109,2,FALSE)","v":{"$error":"#VALUE!"}},{"$f":"VLOOKUP(E70,Tabel!$K$3:$L$109,2,FALSE)","v":{"$error":"#VALUE!"}},{"$f":"VLOOKUP(F70,Tabel!$K$3:$L$109,2,FALSE)","v":{"$error":"#VALUE!"}},{"$f":"VLOOKUP(G70,Tabel!$K$3:$L$109,2,FALSE)","v":{"$error":"#VALUE!"}},{"$f":"VLOOKUP(H70,Tabel!$K$3:$L$109,2,FALSE)","v":{"$error":"#VALUE!"}},{"$f":"VLOOKUP(I70,Tabel!$K$3:$L$109,2,FALSE)","v":{"$error":"#VALUE!"}},{"$f":"VLOOKUP(J70,Tabel!$K$3:$L$109,2,FALSE)","v":{"$error":"#VALUE!"}},{"$f":"VLOOKUP(K70,Tabel!$K$3:$L$109,2,FALSE)","v":{"$error":"#VALUE!"}},{"$error":"#VALUE!"},{"$error":"#VALUE!"},{"$error":"#VALUE!"},{"$error":"#VALUE!"},{"$error":"#VALUE!"},{"$error":"#VALUE!"},{"$error":"#VALUE!"},{"$error":"#VALUE!"},{"$error":"#VALUE!"},{"$error":"#VALUE!"},{"$error":"#VALUE!"},{"$error":"#VALUE!"},{"$f":"VLOOKUP($AG70,Tabel!$J$3:$K$109,2,FALSE)","v":{"$error":"#VALUE!"}},{"$f":"Tabel!$K$106&$A70&$AH70&Tabel!$K$109","v":{"$error":"#VALUE!"}},{"$error":"#VALUE!"}]
[{"$f":"CONCATENATE(gastenlijst[[#This Row],[Post]],gastenlijst[[#This Row],[Code]],gastenlijst[[#This Row],[Huisnr aangepast]],gastenlijst[[#This Row],[Yes]])","v":{"$error":"#VALUE!"}},{"$f":"MID(A71,1,1)","v":{"$error":"#VALUE!"}},{"$f":"MID(A71,2,1)","v":{"$error":"#VALUE!"}},{"$f":"MID(A71,3,1)","v":{"$error":"#VALUE!"}},{"$f":"MID(A71,4,1)","v":{"$error":"#VALUE!"}},{"$f":"MID(A71,5,1)","v":{"$error":"#VALUE!"}},{"$f":"MID(A71,6,1)","v":{"$error":"#VALUE!"}},{"$f":"MID(A71,7,1)","v":{"$error":"#VALUE!"}},{"$f":"MID(A71,8,1)","v":{"$error":"#VALUE!"}},{"$f":"MID(A71,9,1)","v":{"$error":"#VALUE!"}},{"$f":"MID(A71,10,1)","v":{"$error":"#VALUE!"}},{"$f":"VLOOKUP(B71,Tabel!$K$3:$L$109,2,FALSE)","v":{"$error":"#VALUE!"}},{"$f":"VLOOKUP(C71,Tabel!$K$3:$L$109,2,FALSE)","v":{"$error":"#VALUE!"}},{"$f":"VLOOKUP(D71,Tabel!$K$3:$L$109,2,FALSE)","v":{"$error":"#VALUE!"}},{"$f":"VLOOKUP(E71,Tabel!$K$3:$L$109,2,FALSE)","v":{"$error":"#VALUE!"}},{"$f":"VLOOKUP(F71,Tabel!$K$3:$L$109,2,FALSE)","v":{"$error":"#VALUE!"}},{"$f":"VLOOKUP(G71,Tabel!$K$3:$L$109,2,FALSE)","v":{"$error":"#VALUE!"}},{"$f":"VLOOKUP(H71,Tabel!$K$3:$L$109,2,FALSE)","v":{"$error":"#VALUE!"}},{"$f":"VLOOKUP(I71,Tabel!$K$3:$L$109,2,FALSE)","v":{"$error":"#VALUE!"}},{"$f":"VLOOKUP(J71,Tabel!$K$3:$L$109,2,FALSE)","v":{"$error":"#VALUE!"}},{"$f":"VLOOKUP(K71,Tabel!$K$3:$L$109,2,FALSE)","v":{"$error":"#VALUE!"}},{"$f":"$L71*1","v":{"$error":"#VALUE!"}},{"$f":"$M71*2","v":{"$error":"#VALUE!"}},{"$f":"$N71*3","v":{"$error":"#VALUE!"}},{"$f":"$O71*4","v":{"$error":"#VALUE!"}},{"$f":"$P71*5","v":{"$error":"#VALUE!"}},{"$f":"$Q71*5","v":{"$error":"#VALUE!"}},{"$f":"$R71*5","v":{"$error":"#VALUE!"}},{"$f":"$S71*5","v":{"$error":"#VALUE!"}},{"$f":"$T71*5","v":{"$error":"#VALUE!"}},{"$error":"#VALUE!"},{"$f":"103+V71+W71+X71+Y71+Z71+AE71","v":{"$error":"#VALUE!"}},{"$f":"MOD(AF71,103)","v":{"$error":"#VALUE!"}},{"$f":"VLOOKUP($AG71,Tabel!$J$3:$K$109,2,FALSE)","v":{"$error":"#VALUE!"}},{"$f":"Tabel!$K$106&$A71&$AH71&Tabel!$K$109","v":{"$error":"#VALUE!"}},{"$f":"AI71","v":{"$error":"#VALUE!"}}]
[{"$f":"CONCATENATE(gastenlijst[[#This Row],[Post]],gastenlijst[[#This Row],[Code]],gastenlijst[[#This Row],[Huisnr aangepast]],gastenlijst[[#This Row],[Yes]])","v":{"$error":"#VALUE!"}},{"$error":"#VALUE!"},{"$error":"#VALUE!"},{"$error":"#VALUE!"},{"$error":"#VALUE!"},{"$error":"#VALUE!"},{"$error":"#VALUE!"},{"$error":"#VALUE!"},{"$error":"#VALUE!"},{"$error":"#VALUE!"},{"$error":"#VALUE!"},{"$f":"VLOOKUP(B72,Tabel!$K$3:$L$109,2,FALSE)","v":{"$error":"#VALUE!"}},{"$f":"VLOOKUP(C72,Tabel!$K$3:$L$109,2,FALSE)","v":{"$error":"#VALUE!"}},{"$f":"VLOOKUP(D72,Tabel!$K$3:$L$109,2,FALSE)","v":{"$error":"#VALUE!"}},{"$f":"VLOOKUP(E72,Tabel!$K$3:$L$109,2,FALSE)","v":{"$error":"#VALUE!"}},{"$f":"VLOOKUP(F72,Tabel!$K$3:$L$109,2,FALSE)","v":{"$error":"#VALUE!"}},{"$f":"VLOOKUP(G72,Tabel!$K$3:$L$109,2,FALSE)","v":{"$error":"#VALUE!"}},{"$f":"VLOOKUP(H72,Tabel!$K$3:$L$109,2,FALSE)","v":{"$error":"#VALUE!"}},{"$f":"VLOOKUP(I72,Tabel!$K$3:$L$109,2,FALSE)","v":{"$error":"#VALUE!"}},{"$f":"VLOOKUP(J72,Tabel!$K$3:$L$109,2,FALSE)","v":{"$error":"#VALUE!"}},{"$f":"VLOOKUP(K72,Tabel!$K$3:$L$109,2,FALSE)","v":{"$error":"#VALUE!"}},{"$error":"#VALUE!"},{"$error":"#VALUE!"},{"$error":"#VALUE!"},{"$error":"#VALUE!"},{"$error":"#VALUE!"},{"$error":"#VALUE!"},{"$error":"#VALUE!"},{"$error":"#VALUE!"},{"$error":"#VALUE!"},{"$error":"#VALUE!"},{"$error":"#VALUE!"},{"$error":"#VALUE!"},{"$f":"VLOOKUP($AG72,Tabel!$J$3:$K$109,2,FALSE)","v":{"$error":"#VALUE!"}},{"$f":"Tabel!$K$106&$A72&$AH72&Tabel!$K$109","v":{"$error":"#VALUE!"}},{"$error":"#VALUE!"}]
[{"$f":"CONCATENATE(gastenlijst[[#This Row],[Post]],gastenlijst[[#This Row],[Code]],gastenlijst[[#This Row],[Huisnr aangepast]],gastenlijst[[#This Row],[Yes]])","v":{"$error":"#VALUE!"}},{"$error":"#VALUE!"},{"$error":"#VALUE!"},{"$error":"#VALUE!"},{"$error":"#VALUE!"},{"$error":"#VALUE!"},{"$error":"#VALUE!"},{"$error":"#VALUE!"},{"$error":"#VALUE!"},{"$error":"#VALUE!"},{"$error":"#VALUE!"},{"$f":"VLOOKUP(B73,Tabel!$K$3:$L$109,2,FALSE)","v":{"$error":"#VALUE!"}},{"$f":"VLOOKUP(C73,Tabel!$K$3:$L$109,2,FALSE)","v":{"$error":"#VALUE!"}},{"$f":"VLOOKUP(D73,Tabel!$K$3:$L$109,2,FALSE)","v":{"$error":"#VALUE!"}},{"$f":"VLOOKUP(E73,Tabel!$K$3:$L$109,2,FALSE)","v":{"$error":"#VALUE!"}},{"$f":"VLOOKUP(F73,Tabel!$K$3:$L$109,2,FALSE)","v":{"$error":"#VALUE!"}},{"$f":"VLOOKUP(G73,Tabel!$K$3:$L$109,2,FALSE)","v":{"$error":"#VALUE!"}},{"$f":"VLOOKUP(H73,Tabel!$K$3:$L$109,2,FALSE)","v":{"$error":"#VALUE!"}},{"$f":"VLOOKUP(I73,Tabel!$K$3:$L$109,2,FALSE)","v":{"$error":"#VALUE!"}},{"$f":"VLOOKUP(J73,Tabel!$K$3:$L$109,2,FALSE)","v":{"$error":"#VALUE!"}},{"$f":"VLOOKUP(K73,Tabel!$K$3:$L$109,2,FALSE)","v":{"$error":"#VALUE!"}},{"$error":"#VALUE!"},{"$error":"#VALUE!"},{"$error":"#VALUE!"},{"$error":"#VALUE!"},{"$error":"#VALUE!"},{"$error":"#VALUE!"},{"$error":"#VALUE!"},{"$error":"#VALUE!"},{"$error":"#VALUE!"},{"$error":"#VALUE!"},{"$error":"#VALUE!"},{"$error":"#VALUE!"},{"$f":"VLOOKUP($AG73,Tabel!$J$3:$K$109,2,FALSE)","v":{"$error":"#VALUE!"}},{"$f":"Tabel!$K$106&$A73&$AH73&Tabel!$K$109","v":{"$error":"#VALUE!"}},{"$error":"#VALUE!"}]
[{"$f":"CONCATENATE(gastenlijst[[#This Row],[Post]],gastenlijst[[#This Row],[Code]],gastenlijst[[#This Row],[Huisnr aangepast]],gastenlijst[[#This Row],[Yes]])","v":{"$error":"#VALUE!"}},{"$error":"#VALUE!"},{"$error":"#VALUE!"},{"$error":"#VALUE!"},{"$error":"#VALUE!"},{"$error":"#VALUE!"},{"$error":"#VALUE!"},{"$error":"#VALUE!"},{"$error":"#VALUE!"},{"$error":"#VALUE!"},{"$error":"#VALUE!"},{"$f":"VLOOKUP(B74,Tabel!$K$3:$L$109,2,FALSE)","v":{"$error":"#VALUE!"}},{"$f":"VLOOKUP(C74,Tabel!$K$3:$L$109,2,FALSE)","v":{"$error":"#VALUE!"}},{"$f":"VLOOKUP(D74,Tabel!$K$3:$L$109,2,FALSE)","v":{"$error":"#VALUE!"}},{"$f":"VLOOKUP(E74,Tabel!$K$3:$L$109,2,FALSE)","v":{"$error":"#VALUE!"}},{"$f":"VLOOKUP(F74,Tabel!$K$3:$L$109,2,FALSE)","v":{"$error":"#VALUE!"}},{"$f":"VLOOKUP(G74,Tabel!$K$3:$L$109,2,FALSE)","v":{"$error":"#VALUE!"}},{"$f":"VLOOKUP(H74,Tabel!$K$3:$L$109,2,FALSE)","v":{"$error":"#VALUE!"}},{"$f":"VLOOKUP(I74,Tabel!$K$3:$L$109,2,FALSE)","v":{"$error":"#VALUE!"}},{"$f":"VLOOKUP(J74,Tabel!$K$3:$L$109,2,FALSE)","v":{"$error":"#VALUE!"}},{"$f":"VLOOKUP(K74,Tabel!$K$3:$L$109,2,FALSE)","v":{"$error":"#VALUE!"}},{"$error":"#VALUE!"},{"$error":"#VALUE!"},{"$error":"#VALUE!"},{"$error":"#VALUE!"},{"$error":"#VALUE!"},{"$error":"#VALUE!"},{"$error":"#VALUE!"},{"$error":"#VALUE!"},{"$error":"#VALUE!"},{"$error":"#VALUE!"},{"$error":"#VALUE!"},{"$error":"#VALUE!"},{"$f":"VLOOKUP($AG74,Tabel!$J$3:$K$109,2,FALSE)","v":{"$error":"#VALUE!"}},{"$f":"Tabel!$K$106&$A74&$AH74&Tabel!$K$109","v":{"$error":"#VALUE!"}},{"$error":"#VALUE!"}]
[{"$f":"CONCATENATE(gastenlijst[[#This Row],[Post]],gastenlijst[[#This Row],[Code]],gastenlijst[[#This Row],[Huisnr aangepast]],gastenlijst[[#This Row],[Yes]])","v":{"$error":"#VALUE!"}},{"$error":"#VALUE!"},{"$error":"#VALUE!"},{"$error":"#VALUE!"},{"$error":"#VALUE!"},{"$error":"#VALUE!"},{"$error":"#VALUE!"},{"$error":"#VALUE!"},{"$error":"#VALUE!"},{"$error":"#VALUE!"},{"$error":"#VALUE!"},{"$f":"VLOOKUP(B75,Tabel!$K$3:$L$109,2,FALSE)","v":{"$error":"#VALUE!"}},{"$f":"VLOOKUP(C75,Tabel!$K$3:$L$109,2,FALSE)","v":{"$error":"#VALUE!"}},{"$f":"VLOOKUP(D75,Tabel!$K$3:$L$109,2,FALSE)","v":{"$error":"#VALUE!"}},{"$f":"VLOOKUP(E75,Tabel!$K$3:$L$109,2,FALSE)","v":{"$error":"#VALUE!"}},{"$f":"VLOOKUP(F75,Tabel!$K$3:$L$109,2,FALSE)","v":{"$error":"#VALUE!"}},{"$f":"VLOOKUP(G75,Tabel!$K$3:$L$109,2,FALSE)","v":{"$error":"#VALUE!"}},{"$f":"VLOOKUP(H75,Tabel!$K$3:$L$109,2,FALSE)","v":{"$error":"#VALUE!"}},{"$f":"VLOOKUP(I75,Tabel!$K$3:$L$109,2,FALSE)","v":{"$error":"#VALUE!"}},{"$f":"VLOOKUP(J75,Tabel!$K$3:$L$109,2,FALSE)","v":{"$error":"#VALUE!"}},{"$f":"VLOOKUP(K75,Tabel!$K$3:$L$109,2,FALSE)","v":{"$error":"#VALUE!"}},{"$error":"#VALUE!"},{"$error":"#VALUE!"},{"$error":"#VALUE!"},{"$error":"#VALUE!"},{"$error":"#VALUE!"},{"$error":"#VALUE!"},{"$error":"#VALUE!"},{"$error":"#VALUE!"},{"$error":"#VALUE!"},{"$error":"#VALUE!"},{"$error":"#VALUE!"},{"$error":"#VALUE!"},{"$f":"VLOOKUP($AG75,Tabel!$J$3:$K$109,2,FALSE)","v":{"$error":"#VALUE!"}},{"$f":"Tabel!$K$106&$A75&$AH75&Tabel!$K$109","v":{"$error":"#VALUE!"}},{"$error":"#VALUE!"}]
[{"$f":"CONCATENATE(gastenlijst[[#This Row],[Post]],gastenlijst[[#This Row],[Code]],gastenlijst[[#This Row],[Huisnr aangepast]],gastenlijst[[#This Row],[Yes]])","v":{"$error":"#VALUE!"}},{"$error":"#VALUE!"},{"$error":"#VALUE!"},{"$error":"#VALUE!"},{"$error":"#VALUE!"},{"$error":"#VALUE!"},{"$error":"#VALUE!"},{"$error":"#VALUE!"},{"$error":"#VALUE!"},{"$error":"#VALUE!"},{"$error":"#VALUE!"},{"$f":"VLOOKUP(B76,Tabel!$K$3:$L$109,2,FALSE)","v":{"$error":"#VALUE!"}},{"$f":"VLOOKUP(C76,Tabel!$K$3:$L$109,2,FALSE)","v":{"$error":"#VALUE!"}},{"$f":"VLOOKUP(D76,Tabel!$K$3:$L$109,2,FALSE)","v":{"$error":"#VALUE!"}},{"$f":"VLOOKUP(E76,Tabel!$K$3:$L$109,2,FALSE)","v":{"$error":"#VALUE!"}},{"$f":"VLOOKUP(F76,Tabel!$K$3:$L$109,2,FALSE)","v":{"$error":"#VALUE!"}},{"$f":"VLOOKUP(G76,Tabel!$K$3:$L$109,2,FALSE)","v":{"$error":"#VALUE!"}},{"$f":"VLOOKUP(H76,Tabel!$K$3:$L$109,2,FALSE)","v":{"$error":"#VALUE!"}},{"$f":"VLOOKUP(I76,Tabel!$K$3:$L$109,2,FALSE)","v":{"$error":"#VALUE!"}},{"$f":"VLOOKUP(J76,Tabel!$K$3:$L$109,2,FALSE)","v":{"$error":"#VALUE!"}},{"$f":"VLOOKUP(K76,Tabel!$K$3:$L$109,2,FALSE)","v":{"$error":"#VALUE!"}},{"$error":"#VALUE!"},{"$error":"#VALUE!"},{"$error":"#VALUE!"},{"$error":"#VALUE!"},{"$error":"#VALUE!"},{"$error":"#VALUE!"},{"$error":"#VALUE!"},{"$error":"#VALUE!"},{"$error":"#VALUE!"},{"$error":"#VALUE!"},{"$error":"#VALUE!"},{"$error":"#VALUE!"},{"$f":"VLOOKUP($AG76,Tabel!$J$3:$K$109,2,FALSE)","v":{"$error":"#VALUE!"}},{"$f":"Tabel!$K$106&$A76&$AH76&Tabel!$K$109","v":{"$error":"#VALUE!"}},{"$error":"#VALUE!"}]
[{"$f":"CONCATENATE(gastenlijst[[#This Row],[Post]],gastenlijst[[#This Row],[Code]],gastenlijst[[#This Row],[Huisnr aangepast]],gastenlijst[[#This Row],[Yes]])","v":{"$error":"#VALUE!"}},{"$error":"#VALUE!"},{"$error":"#VALUE!"},{"$error":"#VALUE!"},{"$error":"#VALUE!"},{"$error":"#VALUE!"},{"$error":"#VALUE!"},{"$error":"#VALUE!"},{"$error":"#VALUE!"},{"$error":"#VALUE!"},{"$error":"#VALUE!"},{"$f":"VLOOKUP(B77,Tabel!$K$3:$L$109,2,FALSE)","v":{"$error":"#VALUE!"}},{"$f":"VLOOKUP(C77,Tabel!$K$3:$L$109,2,FALSE)","v":{"$error":"#VALUE!"}},{"$f":"VLOOKUP(D77,Tabel!$K$3:$L$109,2,FALSE)","v":{"$error":"#VALUE!"}},{"$f":"VLOOKUP(E77,Tabel!$K$3:$L$109,2,FALSE)","v":{"$error":"#VALUE!"}},{"$f":"VLOOKUP(F77,Tabel!$K$3:$L$109,2,FALSE)","v":{"$error":"#VALUE!"}},{"$f":"VLOOKUP(G77,Tabel!$K$3:$L$109,2,FALSE)","v":{"$error":"#VALUE!"}},{"$f":"VLOOKUP(H77,Tabel!$K$3:$L$109,2,FALSE)","v":{"$error":"#VALUE!"}},{"$f":"VLOOKUP(I77,Tabel!$K$3:$L$109,2,FALSE)","v":{"$error":"#VALUE!"}},{"$f":"VLOOKUP(J77,Tabel!$K$3:$L$109,2,FALSE)","v":{"$error":"#VALUE!"}},{"$f":"VLOOKUP(K77,Tabel!$K$3:$L$109,2,FALSE)","v":{"$error":"#VALUE!"}},{"$error":"#VALUE!"},{"$error":"#VALUE!"},{"$error":"#VALUE!"},{"$error":"#VALUE!"},{"$error":"#VALUE!"},{"$error":"#VALUE!"},{"$error":"#VALUE!"},{"$error":"#VALUE!"},{"$error":"#VALUE!"},{"$error":"#VALUE!"},{"$error":"#VALUE!"},{"$error":"#VALUE!"},{"$f":"VLOOKUP($AG77,Tabel!$J$3:$K$109,2,FALSE)","v":{"$error":"#VALUE!"}},{"$f":"Tabel!$K$106&$A77&$AH77&Tabel!$K$109","v":{"$error":"#VALUE!"}},{"$error":"#VALUE!"}]
[{"$f":"CONCATENATE(gastenlijst[[#This Row],[Post]],gastenlijst[[#This Row],[Code]],gastenlijst[[#This Row],[Huisnr aangepast]],gastenlijst[[#This Row],[Yes]])","v":{"$error":"#VALUE!"}},{"$error":"#VALUE!"},{"$error":"#VALUE!"},{"$error":"#VALUE!"},{"$error":"#VALUE!"},{"$error":"#VALUE!"},{"$error":"#VALUE!"},{"$error":"#VALUE!"},{"$error":"#VALUE!"},{"$error":"#VALUE!"},{"$error":"#VALUE!"},{"$f":"VLOOKUP(B78,Tabel!$K$3:$L$109,2,FALSE)","v":{"$error":"#VALUE!"}},{"$f":"VLOOKUP(C78,Tabel!$K$3:$L$109,2,FALSE)","v":{"$error":"#VALUE!"}},{"$f":"VLOOKUP(D78,Tabel!$K$3:$L$109,2,FALSE)","v":{"$error":"#VALUE!"}},{"$f":"VLOOKUP(E78,Tabel!$K$3:$L$109,2,FALSE)","v":{"$error":"#VALUE!"}},{"$f":"VLOOKUP(F78,Tabel!$K$3:$L$109,2,FALSE)","v":{"$error":"#VALUE!"}},{"$f":"VLOOKUP(G78,Tabel!$K$3:$L$109,2,FALSE)","v":{"$error":"#VALUE!"}},{"$f":"VLOOKUP(H78,Tabel!$K$3:$L$109,2,FALSE)","v":{"$error":"#VALUE!"}},{"$f":"VLOOKUP(I78,Tabel!$K$3:$L$109,2,FALSE)","v":{"$error":"#VALUE!"}},{"$f":"VLOOKUP(J78,Tabel!$K$3:$L$109,2,FALSE)","v":{"$error":"#VALUE!"}},{"$f":"VLOOKUP(K78,Tabel!$K$3:$L$109,2,FALSE)","v":{"$error":"#VALUE!"}},{"$error":"#VALUE!"},{"$error":"#VALUE!"},{"$error":"#VALUE!"},{"$error":"#VALUE!"},{"$error":"#VALUE!"},{"$error":"#VALUE!"},{"$error":"#VALUE!"},{"$error":"#VALUE!"},{"$error":"#VALUE!"},{"$error":"#VALUE!"},{"$error":"#VALUE!"},{"$error":"#VALUE!"},{"$f":"VLOOKUP($AG78,Tabel!$J$3:$K$109,2,FALSE)","v":{"$error":"#VALUE!"}},{"$f":"Tabel!$K$106&$A78&$AH78&Tabel!$K$109","v":{"$error":"#VALUE!"}},{"$error":"#VALUE!"}]
[{"$f":"CONCATENATE(gastenlijst[[#This Row],[Post]],gastenlijst[[#This Row],[Code]],gastenlijst[[#This Row],[Huisnr aangepast]],gastenlijst[[#This Row],[Yes]])","v":{"$error":"#VALUE!"}},{"$error":"#VALUE!"},{"$error":"#VALUE!"},{"$error":"#VALUE!"},{"$error":"#VALUE!"},{"$error":"#VALUE!"},{"$error":"#VALUE!"},{"$error":"#VALUE!"},{"$error":"#VALUE!"},{"$error":"#VALUE!"},{"$error":"#VALUE!"},{"$f":"VLOOKUP(B79,Tabel!$K$3:$L$109,2,FALSE)","v":{"$error":"#VALUE!"}},{"$f":"VLOOKUP(C79,Tabel!$K$3:$L$109,2,FALSE)","v":{"$error":"#VALUE!"}},{"$f":"VLOOKUP(D79,Tabel!$K$3:$L$109,2,FALSE)","v":{"$error":"#VALUE!"}},{"$f":"VLOOKUP(E79,Tabel!$K$3:$L$109,2,FALSE)","v":{"$error":"#VALUE!"}},{"$f":"VLOOKUP(F79,Tabel!$K$3:$L$109,2,FALSE)","v":{"$error":"#VALUE!"}},{"$f":"VLOOKUP(G79,Tabel!$K$3:$L$109,2,FALSE)","v":{"$error":"#VALUE!"}},{"$f":"VLOOKUP(H79,Tabel!$K$3:$L$109,2,FALSE)","v":{"$error":"#VALUE!"}},{"$f":"VLOOKUP(I79,Tabel!$K$3:$L$109,2,FALSE)","v":{"$error":"#VALUE!"}},{"$f":"VLOOKUP(J79,Tabel!$K$3:$L$109,2,FALSE)","v":{"$error":"#VALUE!"}},{"$f":"VLOOKUP(K79,Tabel!$K$3:$L$109,2,FALSE)","v":{"$error":"#VALUE!"}},{"$error":"#VALUE!"},{"$error":"#VALUE!"},{"$error":"#VALUE!"},{"$error":"#VALUE!"},{"$error":"#VALUE!"},{"$error":"#VALUE!"},{"$error":"#VALUE!"},{"$error":"#VALUE!"},{"$error":"#VALUE!"},{"$error":"#VALUE!"},{"$error":"#VALUE!"},{"$error":"#VALUE!"},{"$f":"VLOOKUP($AG79,Tabel!$J$3:$K$109,2,FALSE)","v":{"$error":"#VALUE!"}},{"$f":"Tabel!$K$106&$A79&$AH79&Tabel!$K$109","v":{"$error":"#VALUE!"}},{"$error":"#VALUE!"}]
[{"$f":"CONCATENATE(gastenlijst[[#This Row],[Post]],gastenlijst[[#This Row],[Code]],gastenlijst[[#This Row],[Huisnr aangepast]],gastenlijst[[#This Row],[Yes]])","v":{"$error":"#VALUE!"}},{"$error":"#VALUE!"},{"$error":"#VALUE!"},{"$error":"#VALUE!"},{"$error":"#VALUE!"},{"$error":"#VALUE!"},{"$error":"#VALUE!"},{"$error":"#VALUE!"},{"$error":"#VALUE!"},{"$error":"#VALUE!"},{"$error":"#VALUE!"},{"$f":"VLOOKUP(B80,Tabel!$K$3:$L$109,2,FALSE)","v":{"$error":"#VALUE!"}},{"$f":"VLOOKUP(C80,Tabel!$K$3:$L$109,2,FALSE)","v":{"$error":"#VALUE!"}},{"$f":"VLOOKUP(D80,Tabel!$K$3:$L$109,2,FALSE)","v":{"$error":"#VALUE!"}},{"$f":"VLOOKUP(E80,Tabel!$K$3:$L$109,2,FALSE)","v":{"$error":"#VALUE!"}},{"$f":"VLOOKUP(F80,Tabel!$K$3:$L$109,2,FALSE)","v":{"$error":"#VALUE!"}},{"$f":"VLOOKUP(G80,Tabel!$K$3:$L$109,2,FALSE)","v":{"$error":"#VALUE!"}},{"$f":"VLOOKUP(H80,Tabel!$K$3:$L$109,2,FALSE)","v":{"$error":"#VALUE!"}},{"$f":"VLOOKUP(I80,Tabel!$K$3:$L$109,2,FALSE)","v":{"$error":"#VALUE!"}},{"$f":"VLOOKUP(J80,Tabel!$K$3:$L$109,2,FALSE)","v":{"$error":"#VALUE!"}},{"$f":"VLOOKUP(K80,Tabel!$K$3:$L$109,2,FALSE)","v":{"$error":"#VALUE!"}},{"$error":"#VALUE!"},{"$error":"#VALUE!"},{"$error":"#VALUE!"},{"$error":"#VALUE!"},{"$error":"#VALUE!"},{"$error":"#VALUE!"},{"$error":"#VALUE!"},{"$error":"#VALUE!"},{"$error":"#VALUE!"},{"$error":"#VALUE!"},{"$error":"#VALUE!"},{"$error":"#VALUE!"},{"$f":"VLOOKUP($AG80,Tabel!$J$3:$K$109,2,FALSE)","v":{"$error":"#VALUE!"}},{"$f":"Tabel!$K$106&$A80&$AH80&Tabel!$K$109","v":{"$error":"#VALUE!"}},{"$error":"#VALUE!"}]
[{"$f":"CONCATENATE(gastenlijst[[#This Row],[Post]],gastenlijst[[#This Row],[Code]],gastenlijst[[#This Row],[Huisnr aangepast]],gastenlijst[[#This Row],[Yes]])","v":{"$error":"#VALUE!"}},{"$error":"#VALUE!"},{"$error":"#VALUE!"},{"$error":"#VALUE!"},{"$error":"#VALUE!"},{"$error":"#VALUE!"},{"$error":"#VALUE!"},{"$error":"#VALUE!"},{"$error":"#VALUE!"},{"$error":"#VALUE!"},{"$error":"#VALUE!"},{"$f":"VLOOKUP(B81,Tabel!$K$3:$L$109,2,FALSE)","v":{"$error":"#VALUE!"}},{"$f":"VLOOKUP(C81,Tabel!$K$3:$L$109,2,FALSE)","v":{"$error":"#VALUE!"}},{"$f":"VLOOKUP(D81,Tabel!$K$3:$L$109,2,FALSE)","v":{"$error":"#VALUE!"}},{"$f":"VLOOKUP(E81,Tabel!$K$3:$L$109,2,FALSE)","v":{"$error":"#VALUE!"}},{"$f":"VLOOKUP(F81,Tabel!$K$3:$L$109,2,FALSE)","v":{"$error":"#VALUE!"}},{"$f":"VLOOKUP(G81,Tabel!$K$3:$L$109,2,FALSE)","v":{"$error":"#VALUE!"}},{"$f":"VLOOKUP(H81,Tabel!$K$3:$L$109,2,FALSE)","v":{"$error":"#VALUE!"}},{"$f":"VLOOKUP(I81,Tabel!$K$3:$L$109,2,FALSE)","v":{"$error":"#VALUE!"}},{"$f":"VLOOKUP(J81,Tabel!$K$3:$L$109,2,FALSE)","v":{"$error":"#VALUE!"}},{"$f":"VLOOKUP(K81,Tabel!$K$3:$L$109,2,FALSE)","v":{"$error":"#VALUE!"}},{"$error":"#VALUE!"},{"$error":"#VALUE!"},{"$error":"#VALUE!"},{"$error":"#VALUE!"},{"$error":"#VALUE!"},{"$error":"#VALUE!"},{"$error":"#VALUE!"},{"$error":"#VALUE!"},{"$error":"#VALUE!"},{"$error":"#VALUE!"},{"$error":"#VALUE!"},{"$error":"#VALUE!"},{"$f":"VLOOKUP($AG81,Tabel!$J$3:$K$109,2,FALSE)","v":{"$error":"#VALUE!"}},{"$f":"Tabel!$K$106&$A81&$AH81&Tabel!$K$109","v":{"$error":"#VALUE!"}},{"$error":"#VALUE!"}]
[{"$f":"CONCATENATE(gastenlijst[[#This Row],[Post]],gastenlijst[[#This Row],[Code]],gastenlijst[[#This Row],[Huisnr aangepast]],gastenlijst[[#This Row],[Yes]])","v":{"$error":"#VALUE!"}},{"$error":"#VALUE!"},{"$error":"#VALUE!"},{"$error":"#VALUE!"},{"$error":"#VALUE!"},{"$error":"#VALUE!"},{"$error":"#VALUE!"},{"$error":"#VALUE!"},{"$error":"#VALUE!"},{"$error":"#VALUE!"},{"$error":"#VALUE!"},{"$f":"VLOOKUP(B82,Tabel!$K$3:$L$109,2,FALSE)","v":{"$error":"#VALUE!"}},{"$f":"VLOOKUP(C82,Tabel!$K$3:$L$109,2,FALSE)","v":{"$error":"#VALUE!"}},{"$f":"VLOOKUP(D82,Tabel!$K$3:$L$109,2,FALSE)","v":{"$error":"#VALUE!"}},{"$f":"VLOOKUP(E82,Tabel!$K$3:$L$109,2,FALSE)","v":{"$error":"#VALUE!"}},{"$f":"VLOOKUP(F82,Tabel!$K$3:$L$109,2,FALSE)","v":{"$error":"#VALUE!"}},{"$f":"VLOOKUP(G82,Tabel!$K$3:$L$109,2,FALSE)","v":{"$error":"#VALUE!"}},{"$f":"VLOOKUP(H82,Tabel!$K$3:$L$109,2,FALSE)","v":{"$error":"#VALUE!"}},{"$f":"VLOOKUP(I82,Tabel!$K$3:$L$109,2,FALSE)","v":{"$error":"#VALUE!"}},{"$f":"VLOOKUP(J82,Tabel!$K$3:$L$109,2,FALSE)","v":{"$error":"#VALUE!"}},{"$f":"VLOOKUP(K82,Tabel!$K$3:$L$109,2,FALSE)","v":{"$error":"#VALUE!"}},{"$error":"#VALUE!"},{"$error":"#VALUE!"},{"$error":"#VALUE!"},{"$error":"#VALUE!"},{"$error":"#VALUE!"},{"$error":"#VALUE!"},{"$error":"#VALUE!"},{"$error":"#VALUE!"},{"$error":"#VALUE!"},{"$error":"#VALUE!"},{"$error":"#VALUE!"},{"$error":"#VALUE!"},{"$f":"VLOOKUP($AG82,Tabel!$J$3:$K$109,2,FALSE)","v":{"$error":"#VALUE!"}},{"$f":"Tabel!$K$106&$A82&$AH82&Tabel!$K$109","v":{"$error":"#VALUE!"}},{"$error":"#VALUE!"}]
[{"$f":"CONCATENATE(gastenlijst[[#This Row],[Post]],gastenlijst[[#This Row],[Code]],gastenlijst[[#This Row],[Huisnr aangepast]],gastenlijst[[#This Row],[Yes]])","v":{"$error":"#VALUE!"}},{"$error":"#VALUE!"},{"$error":"#VALUE!"},{"$error":"#VALUE!"},{"$error":"#VALUE!"},{"$error":"#VALUE!"},{"$error":"#VALUE!"},{"$error":"#VALUE!"},{"$error":"#VALUE!"},{"$error":"#VALUE!"},{"$error":"#VALUE!"},{"$f":"VLOOKUP(B83,Tabel!$K$3:$L$109,2,FALSE)","v":{"$error":"#VALUE!"}},{"$f":"VLOOKUP(C83,Tabel!$K$3:$L$109,2,FALSE)","v":{"$error":"#VALUE!"}},{"$f":"VLOOKUP(D83,Tabel!$K$3:$L$109,2,FALSE)","v":{"$error":"#VALUE!"}},{"$f":"VLOOKUP(E83,Tabel!$K$3:$L$109,2,FALSE)","v":{"$error":"#VALUE!"}},{"$f":"VLOOKUP(F83,Tabel!$K$3:$L$109,2,FALSE)","v":{"$error":"#VALUE!"}},{"$f":"VLOOKUP(G83,Tabel!$K$3:$L$109,2,FALSE)","v":{"$error":"#VALUE!"}},{"$f":"VLOOKUP(H83,Tabel!$K$3:$L$109,2,FALSE)","v":{"$error":"#VALUE!"}},{"$f":"VLOOKUP(I83,Tabel!$K$3:$L$109,2,FALSE)","v":{"$error":"#VALUE!"}},{"$f":"VLOOKUP(J83,Tabel!$K$3:$L$109,2,FALSE)","v":{"$error":"#VALUE!"}},{"$f":"VLOOKUP(K83,Tabel!$K$3:$L$109,2,FALSE)","v":{"$error":"#VALUE!"}},{"$error":"#VALUE!"},{"$error":"#VALUE!"},{"$error":"#VALUE!"},{"$error":"#VALUE!"},{"$error":"#VALUE!"},{"$error":"#VALUE!"},{"$error":"#VALUE!"},{"$error":"#VALUE!"},{"$error":"#VALUE!"},{"$error":"#VALUE!"},{"$error":"#VALUE!"},{"$error":"#VALUE!"},{"$f":"VLOOKUP($AG83,Tabel!$J$3:$K$109,2,FALSE)","v":{"$error":"#VALUE!"}},{"$f":"Tabel!$K$106&$A83&$AH83&Tabel!$K$109","v":{"$error":"#VALUE!"}},{"$error":"#VALUE!"}]
[{"$f":"CONCATENATE(gastenlijst[[#This Row],[Post]],gastenlijst[[#This Row],[Code]],gastenlijst[[#This Row],[Huisnr aangepast]],gastenlijst[[#This Row],[Yes]])","v":{"$error":"#VALUE!"}},{"$error":"#VALUE!"},{"$error":"#VALUE!"},{"$error":"#VALUE!"},{"$error":"#VALUE!"},{"$error":"#VALUE!"},{"$error":"#VALUE!"},{"$error":"#VALUE!"},{"$error":"#VALUE!"},{"$error":"#VALUE!"},{"$error":"#VALUE!"},{"$f":"VLOOKUP(B84,Tabel!$K$3:$L$109,2,FALSE)","v":{"$error":"#VALUE!"}},{"$f":"VLOOKUP(C84,Tabel!$K$3:$L$109,2,FALSE)","v":{"$error":"#VALUE!"}},{"$f":"VLOOKUP(D84,Tabel!$K$3:$L$109,2,FALSE)","v":{"$error":"#VALUE!"}},{"$f":"VLOOKUP(E84,Tabel!$K$3:$L$109,2,FALSE)","v":{"$error":"#VALUE!"}},{"$f":"VLOOKUP(F84,Tabel!$K$3:$L$109,2,FALSE)","v":{"$error":"#VALUE!"}},{"$f":"VLOOKUP(G84,Tabel!$K$3:$L$109,2,FALSE)","v":{"$error":"#VALUE!"}},{"$f":"VLOOKUP(H84,Tabel!$K$3:$L$109,2,FALSE)","v":{"$error":"#VALUE!"}},{"$f":"VLOOKUP(I84,Tabel!$K$3:$L$109,2,FALSE)","v":{"$error":"#VALUE!"}},{"$f":"VLOOKUP(J84,Tabel!$K$3:$L$109,2,FALSE)","v":{"$error":"#VALUE!"}},{"$f":"VLOOKUP(K84,Tabel!$K$3:$L$109,2,FALSE)","v":{"$error":"#VALUE!"}},{"$error":"#VALUE!"},{"$error":"#VALUE!"},{"$error":"#VALUE!"},{"$error":"#VALUE!"},{"$error":"#VALUE!"},{"$error":"#VALUE!"},{"$error":"#VALUE!"},{"$error":"#VALUE!"},{"$error":"#VALUE!"},{"$error":"#VALUE!"},{"$error":"#VALUE!"},{"$error":"#VALUE!"},{"$f":"VLOOKUP($AG84,Tabel!$J$3:$K$109,2,FALSE)","v":{"$error":"#VALUE!"}},{"$f":"Tabel!$K$106&$A84&$AH84&Tabel!$K$109","v":{"$error":"#VALUE!"}},{"$error":"#VALUE!"}]
[{"$f":"CONCATENATE(gastenlijst[[#This Row],[Post]],gastenlijst[[#This Row],[Code]],gastenlijst[[#This Row],[Huisnr aangepast]],gastenlijst[[#This Row],[Yes]])","v":{"$error":"#VALUE!"}},{"$error":"#VALUE!"},{"$error":"#VALUE!"},{"$error":"#VALUE!"},{"$error":"#VALUE!"},{"$error":"#VALUE!"},{"$error":"#VALUE!"},{"$error":"#VALUE!"},{"$error":"#VALUE!"},{"$error":"#VALUE!"},{"$error":"#VALUE!"},{"$f":"VLOOKUP(B85,Tabel!$K$3:$L$109,2,FALSE)","v":{"$error":"#VALUE!"}},{"$f":"VLOOKUP(C85,Tabel!$K$3:$L$109,2,FALSE)","v":{"$error":"#VALUE!"}},{"$f":"VLOOKUP(D85,Tabel!$K$3:$L$109,2,FALSE)","v":{"$error":"#VALUE!"}},{"$f":"VLOOKUP(E85,Tabel!$K$3:$L$109,2,FALSE)","v":{"$error":"#VALUE!"}},{"$f":"VLOOKUP(F85,Tabel!$K$3:$L$109,2,FALSE)","v":{"$error":"#VALUE!"}},{"$f":"VLOOKUP(G85,Tabel!$K$3:$L$109,2,FALSE)","v":{"$error":"#VALUE!"}},{"$f":"VLOOKUP(H85,Tabel!$K$3:$L$109,2,FALSE)","v":{"$error":"#VALUE!"}},{"$f":"VLOOKUP(I85,Tabel!$K$3:$L$109,2,FALSE)","v":{"$error":"#VALUE!"}},{"$f":"VLOOKUP(J85,Tabel!$K$3:$L$109,2,FALSE)","v":{"$error":"#VALUE!"}},{"$f":"VLOOKUP(K85,Tabel!$K$3:$L$109,2,FALSE)","v":{"$error":"#VALUE!"}},{"$error":"#VALUE!"},{"$error":"#VALUE!"},{"$error":"#VALUE!"},{"$error":"#VALUE!"},{"$error":"#VALUE!"},{"$error":"#VALUE!"},{"$error":"#VALUE!"},{"$error":"#VALUE!"},{"$error":"#VALUE!"},{"$error":"#VALUE!"},{"$error":"#VALUE!"},{"$error":"#VALUE!"},{"$f":"VLOOKUP($AG85,Tabel!$J$3:$K$109,2,FALSE)","v":{"$error":"#VALUE!"}},{"$f":"Tabel!$K$106&$A85&$AH85&Tabel!$K$109","v":{"$error":"#VALUE!"}},{"$error":"#VALUE!"}]
[{"$f":"CONCATENATE(gastenlijst[[#This Row],[Post]],gastenlijst[[#This Row],[Code]],gastenlijst[[#This Row],[Huisnr aangepast]],gastenlijst[[#This Row],[Yes]])","v":{"$error":"#VALUE!"}},{"$error":"#VALUE!"},{"$error":"#VALUE!"},{"$error":"#VALUE!"},{"$error":"#VALUE!"},{"$error":"#VALUE!"},{"$error":"#VALUE!"},{"$error":"#VALUE!"},{"$error":"#VALUE!"},{"$error":"#VALUE!"},{"$error":"#VALUE!"},{"$f":"VLOOKUP(B86,Tabel!$K$3:$L$109,2,FALSE)","v":{"$error":"#VALUE!"}},{"$f":"VLOOKUP(C86,Tabel!$K$3:$L$109,2,FALSE)","v":{"$error":"#VALUE!"}},{"$f":"VLOOKUP(D86,Tabel!$K$3:$L$109,2,FALSE)","v":{"$error":"#VALUE!"}},{"$f":"VLOOKUP(E86,Tabel!$K$3:$L$109,2,FALSE)","v":{"$error":"#VALUE!"}},{"$f":"VLOOKUP(F86,Tabel!$K$3:$L$109,2,FALSE)","v":{"$error":"#VALUE!"}},{"$f":"VLOOKUP(G86,Tabel!$K$3:$L$109,2,FALSE)","v":{"$error":"#VALUE!"}},{"$f":"VLOOKUP(H86,Tabel!$K$3:$L$109,2,FALSE)","v":{"$error":"#VALUE!"}},{"$f":"VLOOKUP(I86,Tabel!$K$3:$L$109,2,FALSE)","v":{"$error":"#VALUE!"}},{"$f":"VLOOKUP(J86,Tabel!$K$3:$L$109,2,FALSE)","v":{"$error":"#VALUE!"}},{"$f":"VLOOKUP(K86,Tabel!$K$3:$L$109,2,FALSE)","v":{"$error":"#VALUE!"}},{"$error":"#VALUE!"},{"$error":"#VALUE!"},{"$error":"#VALUE!"},{"$error":"#VALUE!"},{"$error":"#VALUE!"},{"$error":"#VALUE!"},{"$error":"#VALUE!"},{"$error":"#VALUE!"},{"$error":"#VALUE!"},{"$f":"$P86*5","v":{"$error":"#VALUE!"}},{"$error":"#VALUE!"},{"$error":"#VALUE!"},{"$f":"VLOOKUP($AG86,Tabel!$J$3:$K$109,2,FALSE)","v":{"$error":"#VALUE!"}},{"$f":"Tabel!$K$106&$A86&$AH86&Tabel!$K$109","v":{"$error":"#VALUE!"}},{"$error":"#VALUE!"}]
[{"$f":"CONCATENATE(gastenlijst[[#This Row],[Post]],gastenlijst[[#This Row],[Code]],gastenlijst[[#This Row],[Huisnr aangepast]],gastenlijst[[#This Row],[Yes]])","v":{"$error":"#VALUE!"}},{"$error":"#VALUE!"},{"$error":"#VALUE!"},{"$error":"#VALUE!"},{"$error":"#VALUE!"},{"$error":"#VALUE!"},{"$error":"#VALUE!"},{"$error":"#VALUE!"},{"$error":"#VALUE!"},{"$error":"#VALUE!"},{"$error":"#VALUE!"},{"$f":"VLOOKUP(B87,Tabel!$K$3:$L$109,2,FALSE)","v":{"$error":"#VALUE!"}},{"$f":"VLOOKUP(C87,Tabel!$K$3:$L$109,2,FALSE)","v":{"$error":"#VALUE!"}},{"$f":"VLOOKUP(D87,Tabel!$K$3:$L$109,2,FALSE)","v":{"$error":"#VALUE!"}},{"$f":"VLOOKUP(E87,Tabel!$K$3:$L$109,2,FALSE)","v":{"$error":"#VALUE!"}},{"$f":"VLOOKUP(F87,Tabel!$K$3:$L$109,2,FALSE)","v":{"$error":"#VALUE!"}},{"$f":"VLOOKUP(G87,Tabel!$K$3:$L$109,2,FALSE)","v":{"$error":"#VALUE!"}},{"$f":"VLOOKUP(H87,Tabel!$K$3:$L$109,2,FALSE)","v":{"$error":"#VALUE!"}},{"$f":"VLOOKUP(I87,Tabel!$K$3:$L$109,2,FALSE)","v":{"$error":"#VALUE!"}},{"$f":"VLOOKUP(J87,Tabel!$K$3:$L$109,2,FALSE)","v":{"$error":"#VALUE!"}},{"$f":"VLOOKUP(K87,Tabel!$K$3:$L$109,2,FALSE)","v":{"$error":"#VALUE!"}},{"$error":"#VALUE!"},{"$error":"#VALUE!"},{"$error":"#VALUE!"},{"$error":"#VALUE!"},{"$error":"#VALUE!"},{"$error":"#VALUE!"},{"$error":"#VALUE!"},{"$error":"#VALUE!"},{"$error":"#VALUE!"},{"$error":"#VALUE!"},{"$error":"#VALUE!"},{"$error":"#VALUE!"},{"$f":"VLOOKUP($AG87,Tabel!$J$3:$K$109,2,FALSE)","v":{"$error":"#VALUE!"}},{"$f":"Tabel!$K$106&$A87&$AH87&Tabel!$K$109","v":{"$error":"#VALUE!"}},{"$error":"#VALUE!"}]
[{"$f":"CONCATENATE(gastenlijst[[#This Row],[Post]],gastenlijst[[#This Row],[Code]],gastenlijst[[#This Row],[Huisnr aangepast]],gastenlijst[[#This Row],[Yes]])","v":{"$error":"#VALUE!"}},{"$error":"#VALUE!"},{"$error":"#VALUE!"},{"$error":"#VALUE!"},{"$error":"#VALUE!"},{"$error":"#VALUE!"},{"$error":"#VALUE!"},{"$error":"#VALUE!"},{"$error":"#VALUE!"},{"$error":"#VALUE!"},{"$error":"#VALUE!"},{"$f":"VLOOKUP(B88,Tabel!$K$3:$L$109,2,FALSE)","v":{"$error":"#VALUE!"}},{"$f":"VLOOKUP(C88,Tabel!$K$3:$L$109,2,FALSE)","v":{"$error":"#VALUE!"}},{"$f":"VLOOKUP(D88,Tabel!$K$3:$L$109,2,FALSE)","v":{"$error":"#VALUE!"}},{"$f":"VLOOKUP(E88,Tabel!$K$3:$L$109,2,FALSE)","v":{"$error":"#VALUE!"}},{"$f":"VLOOKUP(F88,Tabel!$K$3:$L$109,2,FALSE)","v":{"$error":"#VALUE!"}},{"$f":"VLOOKUP(G88,Tabel!$K$3:$L$109,2,FALSE)","v":{"$error":"#VALUE!"}},{"$f":"VLOOKUP(H88,Tabel!$K$3:$L$109,2,FALSE)","v":{"$error":"#VALUE!"}},{"$f":"VLOOKUP(I88,Tabel!$K$3:$L$109,2,FALSE)","v":{"$error":"#VALUE!"}},{"$f":"VLOOKUP(J88,Tabel!$K$3:$L$109,2,FALSE)","v":{"$error":"#VALUE!"}},{"$f":"VLOOKUP(K88,Tabel!$K$3:$L$109,2,FALSE)","v":{"$error":"#VALUE!"}},{"$error":"#VALUE!"},{"$error":"#VALUE!"},{"$error":"#VALUE!"},{"$error":"#VALUE!"},{"$error":"#VALUE!"},{"$error":"#VALUE!"},{"$error":"#VALUE!"},{"$error":"#VALUE!"},{"$error":"#VALUE!"},{"$error":"#VALUE!"},{"$error":"#VALUE!"},{"$error":"#VALUE!"},{"$f":"VLOOKUP($AG88,Tabel!$J$3:$K$109,2,FALSE)","v":{"$error":"#VALUE!"}},{"$f":"Tabel!$K$106&$A88&$AH88&Tabel!$K$109","v":{"$error":"#VALUE!"}},{"$error":"#VALUE!"}]
[{"$f":"CONCATENATE(gastenlijst[[#This Row],[Post]],gastenlijst[[#This Row],[Code]],gastenlijst[[#This Row],[Huisnr aangepast]],gastenlijst[[#This Row],[Yes]])","v":{"$error":"#VALUE!"}},{"$error":"#VALUE!"},{"$error":"#VALUE!"},{"$error":"#VALUE!"},{"$error":"#VALUE!"},{"$error":"#VALUE!"},{"$error":"#VALUE!"},{"$error":"#VALUE!"},{"$error":"#VALUE!"},{"$error":"#VALUE!"},{"$error":"#VALUE!"},{"$f":"VLOOKUP(B89,Tabel!$K$3:$L$109,2,FALSE)","v":{"$error":"#VALUE!"}},{"$f":"VLOOKUP(C89,Tabel!$K$3:$L$109,2,FALSE)","v":{"$error":"#VALUE!"}},{"$f":"VLOOKUP(D89,Tabel!$K$3:$L$109,2,FALSE)","v":{"$error":"#VALUE!"}},{"$f":"VLOOKUP(E89,Tabel!$K$3:$L$109,2,FALSE)","v":{"$error":"#VALUE!"}},{"$f":"VLOOKUP(F89,Tabel!$K$3:$L$109,2,FALSE)","v":{"$error":"#VALUE!"}},{"$f":"VLOOKUP(G89,Tabel!$K$3:$L$109,2,FALSE)","v":{"$error":"#VALUE!"}},{"$f":"VLOOKUP(H89,Tabel!$K$3:$L$109,2,FALSE)","v":{"$error":"#VALUE!"}},{"$f":"VLOOKUP(I89,Tabel!$K$3:$L$109,2,FALSE)","v":{"$error":"#VALUE!"}},{"$f":"VLOOKUP(J89,Tabel!$K$3:$L$109,2,FALSE)","v":{"$error":"#VALUE!"}},{"$f":"VLOOKUP(K89,Tabel!$K$3:$L$109,2,FALSE)","v":{"$error":"#VALUE!"}},{"$error":"#VALUE!"},{"$error":"#VALUE!"},{"$error":"#VALUE!"},{"$error":"#VALUE!"},{"$error":"#VALUE!"},{"$error":"#VALUE!"},{"$error":"#VALUE!"},{"$error":"#VALUE!"},{"$error":"#VALUE!"},{"$error":"#VALUE!"},{"$error":"#VALUE!"},{"$error":"#VALUE!"},{"$f":"VLOOKUP($AG89,Tabel!$J$3:$K$109,2,FALSE)","v":{"$error":"#VALUE!"}},{"$f":"Tabel!$K$106&$A89&$AH89&Tabel!$K$109","v":{"$error":"#VALUE!"}},{"$error":"#VALUE!"}]
[{"$f":"CONCATENATE(gastenlijst[[#This Row],[Post]],gastenlijst[[#This Row],[Code]],gastenlijst[[#This Row],[Huisnr aangepast]],gastenlijst[[#This Row],[Yes]])","v":{"$error":"#VALUE!"}},{"$error":"#VALUE!"},{"$error":"#VALUE!"},{"$error":"#VALUE!"},{"$error":"#VALUE!"},{"$error":"#VALUE!"},{"$error":"#VALUE!"},{"$error":"#VALUE!"},{"$error":"#VALUE!"},{"$error":"#VALUE!"},{"$error":"#VALUE!"},{"$f":"VLOOKUP(B90,Tabel!$K$3:$L$109,2,FALSE)","v":{"$error":"#VALUE!"}},{"$f":"VLOOKUP(C90,Tabel!$K$3:$L$109,2,FALSE)","v":{"$error":"#VALUE!"}},{"$f":"VLOOKUP(D90,Tabel!$K$3:$L$109,2,FALSE)","v":{"$error":"#VALUE!"}},{"$f":"VLOOKUP(E90,Tabel!$K$3:$L$109,2,FALSE)","v":{"$error":"#VALUE!"}},{"$f":"VLOOKUP(F90,Tabel!$K$3:$L$109,2,FALSE)","v":{"$error":"#VALUE!"}},{"$f":"VLOOKUP(G90,Tabel!$K$3:$L$109,2,FALSE)","v":{"$error":"#VALUE!"}},{"$f":"VLOOKUP(H90,Tabel!$K$3:$L$109,2,FALSE)","v":{"$error":"#VALUE!"}},{"$f":"VLOOKUP(I90,Tabel!$K$3:$L$109,2,FALSE)","v":{"$error":"#VALUE!"}},{"$f":"VLOOKUP(J90,Tabel!$K$3:$L$109,2,FALSE)","v":{"$error":"#VALUE!"}},{"$f":"VLOOKUP(K90,Tabel!$K$3:$L$109,2,FALSE)","v":{"$error":"#VALUE!"}},{"$error":"#VALUE!"},{"$error":"#VALUE!"},{"$error":"#VALUE!"},{"$error":"#VALUE!"},{"$error":"#VALUE!"},{"$error":"#VALUE!"},{"$error":"#VALUE!"},{"$error":"#VALUE!"},{"$error":"#VALUE!"},{"$error":"#VALUE!"},{"$error":"#VALUE!"},{"$error":"#VALUE!"},{"$f":"VLOOKUP($AG90,Tabel!$J$3:$K$109,2,FALSE)","v":{"$error":"#VALUE!"}},{"$f":"Tabel!$K$106&$A90&$AH90&Tabel!$K$109","v":{"$error":"#VALUE!"}},{"$error":"#VALUE!"}]
[{"$f":"CONCATENATE(gastenlijst[[#This Row],[Post]],gastenlijst[[#This Row],[Code]],gastenlijst[[#This Row],[Huisnr aangepast]],gastenlijst[[#This Row],[Yes]])","v":{"$error":"#VALUE!"}},{"$error":"#VALUE!"},{"$error":"#VALUE!"},{"$error":"#VALUE!"},{"$error":"#VALUE!"},{"$error":"#VALUE!"},{"$error":"#VALUE!"},{"$error":"#VALUE!"},{"$error":"#VALUE!"},{"$error":"#VALUE!"},{"$error":"#VALUE!"},{"$f":"VLOOKUP(B91,Tabel!$K$3:$L$109,2,FALSE)","v":{"$error":"#VALUE!"}},{"$f":"VLOOKUP(C91,Tabel!$K$3:$L$109,2,FALSE)","v":{"$error":"#VALUE!"}},{"$f":"VLOOKUP(D91,Tabel!$K$3:$L$109,2,FALSE)","v":{"$error":"#VALUE!"}},{"$f":"VLOOKUP(E91,Tabel!$K$3:$L$109,2,FALSE)","v":{"$error":"#VALUE!"}},{"$f":"VLOOKUP(F91,Tabel!$K$3:$L$109,2,FALSE)","v":{"$error":"#VALUE!"}},{"$f":"VLOOKUP(G91,Tabel!$K$3:$L$109,2,FALSE)","v":{"$error":"#VALUE!"}},{"$f":"VLOOKUP(H91,Tabel!$K$3:$L$109,2,FALSE)","v":{"$error":"#VALUE!"}},{"$f":"VLOOKUP(I91,Tabel!$K$3:$L$109,2,FALSE)","v":{"$error":"#VALUE!"}},{"$f":"VLOOKUP(J91,Tabel!$K$3:$L$109,2,FALSE)","v":{"$error":"#VALUE!"}},{"$f":"VLOOKUP(K91,Tabel!$K$3:$L$109,2,FALSE)","v":{"$error":"#VALUE!"}},{"$error":"#VALUE!"},{"$error":"#VALUE!"},{"$error":"#VALUE!"},{"$error":"#VALUE!"},{"$error":"#VALUE!"},{"$error":"#VALUE!"},{"$error":"#VALUE!"},{"$error":"#VALUE!"},{"$error":"#VALUE!"},{"$error":"#VALUE!"},{"$error":"#VALUE!"},{"$error":"#VALUE!"},{"$f":"VLOOKUP($AG91,Tabel!$J$3:$K$109,2,FALSE)","v":{"$error":"#VALUE!"}},{"$f":"Tabel!$K$106&$A91&$AH91&Tabel!$K$109","v":{"$error":"#VALUE!"}},{"$error":"#VALUE!"}]
[{"$f":"CONCATENATE(gastenlijst[[#This Row],[Post]],gastenlijst[[#This Row],[Code]],gastenlijst[[#This Row],[Huisnr aangepast]],gastenlijst[[#This Row],[Yes]])","v":{"$error":"#VALUE!"}},{"$error":"#VALUE!"},{"$error":"#VALUE!"},{"$error":"#VALUE!"},{"$error":"#VALUE!"},{"$error":"#VALUE!"},{"$error":"#VALUE!"},{"$error":"#VALUE!"},{"$error":"#VALUE!"},{"$error":"#VALUE!"},{"$error":"#VALUE!"},{"$f":"VLOOKUP(B92,Tabel!$K$3:$L$109,2,FALSE)","v":{"$error":"#VALUE!"}},{"$f":"VLOOKUP(C92,Tabel!$K$3:$L$109,2,FALSE)","v":{"$error":"#VALUE!"}},{"$f":"VLOOKUP(D92,Tabel!$K$3:$L$109,2,FALSE)","v":{"$error":"#VALUE!"}},{"$f":"VLOOKUP(E92,Tabel!$K$3:$L$109,2,FALSE)","v":{"$error":"#VALUE!"}},{"$f":"VLOOKUP(F92,Tabel!$K$3:$L$109,2,FALSE)","v":{"$error":"#VALUE!"}},{"$f":"VLOOKUP(G92,Tabel!$K$3:$L$109,2,FALSE)","v":{"$error":"#VALUE!"}},{"$f":"VLOOKUP(H92,Tabel!$K$3:$L$109,2,FALSE)","v":{"$error":"#VALUE!"}},{"$f":"VLOOKUP(I92,Tabel!$K$3:$L$109,2,FALSE)","v":{"$error":"#VALUE!"}},{"$f":"VLOOKUP(J92,Tabel!$K$3:$L$109,2,FALSE)","v":{"$error":"#VALUE!"}},{"$f":"VLOOKUP(K92,Tabel!$K$3:$L$109,2,FALSE)","v":{"$error":"#VALUE!"}},{"$error":"#VALUE!"},{"$error":"#VALUE!"},{"$error":"#VALUE!"},{"$error":"#VALUE!"},{"$error":"#VALUE!"},{"$error":"#VALUE!"},{"$error":"#VALUE!"},{"$error":"#VALUE!"},{"$error":"#VALUE!"},{"$error":"#VALUE!"},{"$error":"#VALUE!"},{"$error":"#VALUE!"},{"$f":"VLOOKUP($AG92,Tabel!$J$3:$K$109,2,FALSE)","v":{"$error":"#VALUE!"}},{"$f":"Tabel!$K$106&$A92&$AH92&Tabel!$K$109","v":{"$error":"#VALUE!"}},{"$error":"#VALUE!"}]
[{"$f":"CONCATENATE(gastenlijst[[#This Row],[Post]],gastenlijst[[#This Row],[Code]],gastenlijst[[#This Row],[Huisnr aangepast]],gastenlijst[[#This Row],[Yes]])","v":{"$error":"#VALUE!"}},{"$error":"#VALUE!"},{"$error":"#VALUE!"},{"$error":"#VALUE!"},{"$error":"#VALUE!"},{"$error":"#VALUE!"},{"$error":"#VALUE!"},{"$error":"#VALUE!"},{"$error":"#VALUE!"},{"$error":"#VALUE!"},{"$error":"#VALUE!"},{"$f":"VLOOKUP(B93,Tabel!$K$3:$L$109,2,FALSE)","v":{"$error":"#VALUE!"}},{"$f":"VLOOKUP(C93,Tabel!$K$3:$L$109,2,FALSE)","v":{"$error":"#VALUE!"}},{"$f":"VLOOKUP(D93,Tabel!$K$3:$L$109,2,FALSE)","v":{"$error":"#VALUE!"}},{"$f":"VLOOKUP(E93,Tabel!$K$3:$L$109,2,FALSE)","v":{"$error":"#VALUE!"}},{"$f":"VLOOKUP(F93,Tabel!$K$3:$L$109,2,FALSE)","v":{"$error":"#VALUE!"}},{"$f":"VLOOKUP(G93,Tabel!$K$3:$L$109,2,FALSE)","v":{"$error":"#VALUE!"}},{"$f":"VLOOKUP(H93,Tabel!$K$3:$L$109,2,FALSE)","v":{"$error":"#VALUE!"}},{"$f":"VLOOKUP(I93,Tabel!$K$3:$L$109,2,FALSE)","v":{"$error":"#VALUE!"}},{"$f":"VLOOKUP(J93,Tabel!$K$3:$L$109,2,FALSE)","v":{"$error":"#VALUE!"}},{"$f":"VLOOKUP(K93,Tabel!$K$3:$L$109,2,FALSE)","v":{"$error":"#VALUE!"}},{"$error":"#VALUE!"},{"$error":"#VALUE!"},{"$error":"#VALUE!"},{"$error":"#VALUE!"},{"$error":"#VALUE!"},{"$error":"#VALUE!"},{"$error":"#VALUE!"},{"$error":"#VALUE!"},{"$error":"#VALUE!"},{"$error":"#VALUE!"},{"$error":"#VALUE!"},{"$error":"#VALUE!"},{"$f":"VLOOKUP($AG93,Tabel!$J$3:$K$109,2,FALSE)","v":{"$error":"#VALUE!"}},{"$f":"Tabel!$K$106&$A93&$AH93&Tabel!$K$109","v":{"$error":"#VALUE!"}},{"$error":"#VALUE!"}]
[{"$f":"CONCATENATE(gastenlijst[[#This Row],[Post]],gastenlijst[[#This Row],[Code]],gastenlijst[[#This Row],[Huisnr aangepast]],gastenlijst[[#This Row],[Yes]])","v":{"$error":"#VALUE!"}},{"$error":"#VALUE!"},{"$error":"#VALUE!"},{"$error":"#VALUE!"},{"$error":"#VALUE!"},{"$error":"#VALUE!"},{"$error":"#VALUE!"},{"$error":"#VALUE!"},{"$error":"#VALUE!"},{"$error":"#VALUE!"},{"$error":"#VALUE!"},{"$f":"VLOOKUP(B94,Tabel!$K$3:$L$109,2,FALSE)","v":{"$error":"#VALUE!"}},{"$f":"VLOOKUP(C94,Tabel!$K$3:$L$109,2,FALSE)","v":{"$error":"#VALUE!"}},{"$f":"VLOOKUP(D94,Tabel!$K$3:$L$109,2,FALSE)","v":{"$error":"#VALUE!"}},{"$f":"VLOOKUP(E94,Tabel!$K$3:$L$109,2,FALSE)","v":{"$error":"#VALUE!"}},{"$f":"VLOOKUP(F94,Tabel!$K$3:$L$109,2,FALSE)","v":{"$error":"#VALUE!"}},{"$f":"VLOOKUP(G94,Tabel!$K$3:$L$109,2,FALSE)","v":{"$error":"#VALUE!"}},{"$f":"VLOOKUP(H94,Tabel!$K$3:$L$109,2,FALSE)","v":{"$error":"#VALUE!"}},{"$f":"VLOOKUP(I94,Tabel!$K$3:$L$109,2,FALSE)","v":{"$error":"#VALUE!"}},{"$f":"VLOOKUP(J94,Tabel!$K$3:$L$109,2,FALSE)","v":{"$error":"#VALUE!"}},{"$f":"VLOOKUP(K94,Tabel!$K$3:$L$109,2,FALSE)","v":{"$error":"#VALUE!"}},{"$error":"#VALUE!"},{"$error":"#VALUE!"},{"$error":"#VALUE!"},{"$error":"#VALUE!"},{"$error":"#VALUE!"},{"$error":"#VALUE!"},{"$error":"#VALUE!"},{"$error":"#VALUE!"},{"$error":"#VALUE!"},{"$error":"#VALUE!"},{"$error":"#VALUE!"},{"$error":"#VALUE!"},{"$f":"VLOOKUP($AG94,Tabel!$J$3:$K$109,2,FALSE)","v":{"$error":"#VALUE!"}},{"$f":"Tabel!$K$106&$A94&$AH94&Tabel!$K$109","v":{"$error":"#VALUE!"}},{"$error":"#VALUE!"}]
[{"$f":"CONCATENATE(gastenlijst[[#This Row],[Post]],gastenlijst[[#This Row],[Code]],gastenlijst[[#This Row],[Huisnr aangepast]],gastenlijst[[#This Row],[Yes]])","v":{"$error":"#VALUE!"}},{"$error":"#VALUE!"},{"$error":"#VALUE!"},{"$error":"#VALUE!"},{"$error":"#VALUE!"},{"$error":"#VALUE!"},{"$error":"#VALUE!"},{"$error":"#VALUE!"},{"$error":"#VALUE!"},{"$error":"#VALUE!"},{"$error":"#VALUE!"},{"$f":"VLOOKUP(B95,Tabel!$K$3:$L$109,2,FALSE)","v":{"$error":"#VALUE!"}},{"$f":"VLOOKUP(C95,Tabel!$K$3:$L$109,2,FALSE)","v":{"$error":"#VALUE!"}},{"$f":"VLOOKUP(D95,Tabel!$K$3:$L$109,2,FALSE)","v":{"$error":"#VALUE!"}},{"$f":"VLOOKUP(E95,Tabel!$K$3:$L$109,2,FALSE)","v":{"$error":"#VALUE!"}},{"$f":"VLOOKUP(F95,Tabel!$K$3:$L$109,2,FALSE)","v":{"$error":"#VALUE!"}},{"$f":"VLOOKUP(G95,Tabel!$K$3:$L$109,2,FALSE)","v":{"$error":"#VALUE!"}},{"$f":"VLOOKUP(H95,Tabel!$K$3:$L$109,2,FALSE)","v":{"$error":"#VALUE!"}},{"$f":"VLOOKUP(I95,Tabel!$K$3:$L$109,2,FALSE)","v":{"$error":"#VALUE!"}},{"$f":"VLOOKUP(J95,Tabel!$K$3:$L$109,2,FALSE)","v":{"$error":"#VALUE!"}},{"$f":"VLOOKUP(K95,Tabel!$K$3:$L$109,2,FALSE)","v":{"$error":"#VALUE!"}},{"$error":"#VALUE!"},{"$error":"#VALUE!"},{"$error":"#VALUE!"},{"$error":"#VALUE!"},{"$error":"#VALUE!"},{"$error":"#VALUE!"},{"$error":"#VALUE!"},{"$error":"#VALUE!"},{"$error":"#VALUE!"},{"$error":"#VALUE!"},{"$error":"#VALUE!"},{"$error":"#VALUE!"},{"$f":"VLOOKUP($AG95,Tabel!$J$3:$K$109,2,FALSE)","v":{"$error":"#VALUE!"}},{"$f":"Tabel!$K$106&$A95&$AH95&Tabel!$K$109","v":{"$error":"#VALUE!"}},{"$error":"#VALUE!"}]
[{"$f":"CONCATENATE(gastenlijst[[#This Row],[Post]],gastenlijst[[#This Row],[Code]],gastenlijst[[#This Row],[Huisnr aangepast]],gastenlijst[[#This Row],[Yes]])","v":{"$error":"#VALUE!"}},{"$error":"#VALUE!"},{"$error":"#VALUE!"},{"$error":"#VALUE!"},{"$error":"#VALUE!"},{"$error":"#VALUE!"},{"$error":"#VALUE!"},{"$error":"#VALUE!"},{"$error":"#VALUE!"},{"$error":"#VALUE!"},{"$error":"#VALUE!"},{"$f":"VLOOKUP(B96,Tabel!$K$3:$L$109,2,FALSE)","v":{"$error":"#VALUE!"}},{"$f":"VLOOKUP(C96,Tabel!$K$3:$L$109,2,FALSE)","v":{"$error":"#VALUE!"}},{"$f":"VLOOKUP(D96,Tabel!$K$3:$L$109,2,FALSE)","v":{"$error":"#VALUE!"}},{"$f":"VLOOKUP(E96,Tabel!$K$3:$L$109,2,FALSE)","v":{"$error":"#VALUE!"}},{"$f":"VLOOKUP(F96,Tabel!$K$3:$L$109,2,FALSE)","v":{"$error":"#VALUE!"}},{"$f":"VLOOKUP(G96,Tabel!$K$3:$L$109,2,FALSE)","v":{"$error":"#VALUE!"}},{"$f":"VLOOKUP(H96,Tabel!$K$3:$L$109,2,FALSE)","v":{"$error":"#VALUE!"}},{"$f":"VLOOKUP(I96,Tabel!$K$3:$L$109,2,FALSE)","v":{"$error":"#VALUE!"}},{"$f":"VLOOKUP(J96,Tabel!$K$3:$L$109,2,FALSE)","v":{"$error":"#VALUE!"}},{"$f":"VLOOKUP(K96,Tabel!$K$3:$L$109,2,FALSE)","v":{"$error":"#VALUE!"}},{"$error":"#VALUE!"},{"$error":"#VALUE!"},{"$error":"#VALUE!"},{"$error":"#VALUE!"},{"$error":"#VALUE!"},{"$error":"#VALUE!"},{"$error":"#VALUE!"},{"$error":"#VALUE!"},{"$error":"#VALUE!"},{"$error":"#VALUE!"},{"$error":"#VALUE!"},{"$error":"#VALUE!"},{"$f":"VLOOKUP($AG96,Tabel!$J$3:$K$109,2,FALSE)","v":{"$error":"#VALUE!"}},{"$f":"Tabel!$K$106&$A96&$AH96&Tabel!$K$109","v":{"$error":"#VALUE!"}},{"$error":"#VALUE!"}]
[{"$f":"CONCATENATE(gastenlijst[[#This Row],[Post]],gastenlijst[[#This Row],[Code]],gastenlijst[[#This Row],[Huisnr aangepast]],gastenlijst[[#This Row],[Yes]])","v":{"$error":"#VALUE!"}},{"$error":"#VALUE!"},{"$error":"#VALUE!"},{"$error":"#VALUE!"},{"$error":"#VALUE!"},{"$error":"#VALUE!"},{"$error":"#VALUE!"},{"$error":"#VALUE!"},{"$error":"#VALUE!"},{"$error":"#VALUE!"},{"$error":"#VALUE!"},{"$f":"VLOOKUP(B97,Tabel!$K$3:$L$109,2,FALSE)","v":{"$error":"#VALUE!"}},{"$f":"VLOOKUP(C97,Tabel!$K$3:$L$109,2,FALSE)","v":{"$error":"#VALUE!"}},{"$f":"VLOOKUP(D97,Tabel!$K$3:$L$109,2,FALSE)","v":{"$error":"#VALUE!"}},{"$f":"VLOOKUP(E97,Tabel!$K$3:$L$109,2,FALSE)","v":{"$error":"#VALUE!"}},{"$f":"VLOOKUP(F97,Tabel!$K$3:$L$109,2,FALSE)","v":{"$error":"#VALUE!"}},{"$f":"VLOOKUP(G97,Tabel!$K$3:$L$109,2,FALSE)","v":{"$error":"#VALUE!"}},{"$f":"VLOOKUP(H97,Tabel!$K$3:$L$109,2,FALSE)","v":{"$error":"#VALUE!"}},{"$f":"VLOOKUP(I97,Tabel!$K$3:$L$109,2,FALSE)","v":{"$error":"#VALUE!"}},{"$f":"VLOOKUP(J97,Tabel!$K$3:$L$109,2,FALSE)","v":{"$error":"#VALUE!"}},{"$f":"VLOOKUP(K97,Tabel!$K$3:$L$109,2,FALSE)","v":{"$error":"#VALUE!"}},{"$error":"#VALUE!"},{"$error":"#VALUE!"},{"$error":"#VALUE!"},{"$error":"#VALUE!"},{"$error":"#VALUE!"},{"$error":"#VALUE!"},{"$error":"#VALUE!"},{"$error":"#VALUE!"},{"$error":"#VALUE!"},{"$error":"#VALUE!"},{"$error":"#VALUE!"},{"$error":"#VALUE!"},{"$f":"VLOOKUP($AG97,Tabel!$J$3:$K$109,2,FALSE)","v":{"$error":"#VALUE!"}},{"$f":"Tabel!$K$106&$A97&$AH97&Tabel!$K$109","v":{"$error":"#VALUE!"}},{"$error":"#VALUE!"}]
[{"$f":"CONCATENATE(gastenlijst[[#This Row],[Post]],gastenlijst[[#This Row],[Code]],gastenlijst[[#This Row],[Huisnr aangepast]],gastenlijst[[#This Row],[Yes]])","v":{"$error":"#VALUE!"}},{"$error":"#VALUE!"},{"$error":"#VALUE!"},{"$error":"#VALUE!"},{"$error":"#VALUE!"},{"$error":"#VALUE!"},{"$error":"#VALUE!"},{"$error":"#VALUE!"},{"$error":"#VALUE!"},{"$error":"#VALUE!"},{"$error":"#VALUE!"},{"$f":"VLOOKUP(B98,Tabel!$K$3:$L$109,2,FALSE)","v":{"$error":"#VALUE!"}},{"$f":"VLOOKUP(C98,Tabel!$K$3:$L$109,2,FALSE)","v":{"$error":"#VALUE!"}},{"$f":"VLOOKUP(D98,Tabel!$K$3:$L$109,2,FALSE)","v":{"$error":"#VALUE!"}},{"$f":"VLOOKUP(E98,Tabel!$K$3:$L$109,2,FALSE)","v":{"$error":"#VALUE!"}},{"$f":"VLOOKUP(F98,Tabel!$K$3:$L$109,2,FALSE)","v":{"$error":"#VALUE!"}},{"$f":"VLOOKUP(G98,Tabel!$K$3:$L$109,2,FALSE)","v":{"$error":"#VALUE!"}},{"$f":"VLOOKUP(H98,Tabel!$K$3:$L$109,2,FALSE)","v":{"$error":"#VALUE!"}},{"$f":"VLOOKUP(I98,Tabel!$K$3:$L$109,2,FALSE)","v":{"$error":"#VALUE!"}},{"$f":"VLOOKUP(J98,Tabel!$K$3:$L$109,2,FALSE)","v":{"$error":"#VALUE!"}},{"$f":"VLOOKUP(K98,Tabel!$K$3:$L$109,2,FALSE)","v":{"$error":"#VALUE!"}},{"$error":"#VALUE!"},{"$error":"#VALUE!"},{"$error":"#VALUE!"},{"$error":"#VALUE!"},{"$error":"#VALUE!"},{"$error":"#VALUE!"},{"$error":"#VALUE!"},{"$error":"#VALUE!"},{"$error":"#VALUE!"},{"$error":"#VALUE!"},{"$error":"#VALUE!"},{"$error":"#VALUE!"},{"$f":"VLOOKUP($AG98,Tabel!$J$3:$K$109,2,FALSE)","v":{"$error":"#VALUE!"}},{"$f":"Tabel!$K$106&$A98&$AH98&Tabel!$K$109","v":{"$error":"#VALUE!"}},{"$error":"#VALUE!"}]
[{"$f":"CONCATENATE(gastenlijst[[#This Row],[Post]],gastenlijst[[#This Row],[Code]],gastenlijst[[#This Row],[Huisnr aangepast]],gastenlijst[[#This Row],[Yes]])","v":{"$error":"#VALUE!"}},{"$error":"#VALUE!"},{"$error":"#VALUE!"},{"$error":"#VALUE!"},{"$error":"#VALUE!"},{"$error":"#VALUE!"},{"$error":"#VALUE!"},{"$error":"#VALUE!"},{"$error":"#VALUE!"},{"$error":"#VALUE!"},{"$error":"#VALUE!"},{"$f":"VLOOKUP(B99,Tabel!$K$3:$L$109,2,FALSE)","v":{"$error":"#VALUE!"}},{"$f":"VLOOKUP(C99,Tabel!$K$3:$L$109,2,FALSE)","v":{"$error":"#VALUE!"}},{"$f":"VLOOKUP(D99,Tabel!$K$3:$L$109,2,FALSE)","v":{"$error":"#VALUE!"}},{"$f":"VLOOKUP(E99,Tabel!$K$3:$L$109,2,FALSE)","v":{"$error":"#VALUE!"}},{"$f":"VLOOKUP(F99,Tabel!$K$3:$L$109,2,FALSE)","v":{"$error":"#VALUE!"}},{"$f":"VLOOKUP(G99,Tabel!$K$3:$L$109,2,FALSE)","v":{"$error":"#VALUE!"}},{"$f":"VLOOKUP(H99,Tabel!$K$3:$L$109,2,FALSE)","v":{"$error":"#VALUE!"}},{"$f":"VLOOKUP(I99,Tabel!$K$3:$L$109,2,FALSE)","v":{"$error":"#VALUE!"}},{"$f":"VLOOKUP(J99,Tabel!$K$3:$L$109,2,FALSE)","v":{"$error":"#VALUE!"}},{"$f":"VLOOKUP(K99,Tabel!$K$3:$L$109,2,FALSE)","v":{"$error":"#VALUE!"}},{"$error":"#VALUE!"},{"$error":"#VALUE!"},{"$error":"#VALUE!"},{"$error":"#VALUE!"},{"$error":"#VALUE!"},{"$error":"#VALUE!"},{"$error":"#VALUE!"},{"$error":"#VALUE!"},{"$error":"#VALUE!"},{"$error":"#VALUE!"},{"$error":"#VALUE!"},{"$error":"#VALUE!"},{"$f":"VLOOKUP($AG99,Tabel!$J$3:$K$109,2,FALSE)","v":{"$error":"#VALUE!"}},{"$f":"Tabel!$K$106&$A99&$AH99&Tabel!$K$109","v":{"$error":"#VALUE!"}},{"$error":"#VALUE!"}]
[{"$f":"CONCATENATE(gastenlijst[[#This Row],[Post]],gastenlijst[[#This Row],[Code]],gastenlijst[[#This Row],[Huisnr aangepast]],gastenlijst[[#This Row],[Yes]])","v":{"$error":"#VALUE!"}},{"$error":"#VALUE!"},{"$error":"#VALUE!"},{"$error":"#VALUE!"},{"$error":"#VALUE!"},{"$error":"#VALUE!"},{"$error":"#VALUE!"},{"$error":"#VALUE!"},{"$error":"#VALUE!"},{"$error":"#VALUE!"},{"$error":"#VALUE!"},{"$f":"VLOOKUP(B100,Tabel!$K$3:$L$109,2,FALSE)","v":{"$error":"#VALUE!"}},{"$f":"VLOOKUP(C100,Tabel!$K$3:$L$109,2,FALSE)","v":{"$error":"#VALUE!"}},{"$f":"VLOOKUP(D100,Tabel!$K$3:$L$109,2,FALSE)","v":{"$error":"#VALUE!"}},{"$f":"VLOOKUP(E100,Tabel!$K$3:$L$109,2,FALSE)","v":{"$error":"#VALUE!"}},{"$f":"VLOOKUP(F100,Tabel!$K$3:$L$109,2,FALSE)","v":{"$error":"#VALUE!"}},{"$f":"VLOOKUP(G100,Tabel!$K$3:$L$109,2,FALSE)","v":{"$error":"#VALUE!"}},{"$f":"VLOOKUP(H100,Tabel!$K$3:$L$109,2,FALSE)","v":{"$error":"#VALUE!"}},{"$f":"VLOOKUP(I100,Tabel!$K$3:$L$109,2,FALSE)","v":{"$error":"#VALUE!"}},{"$f":"VLOOKUP(J100,Tabel!$K$3:$L$109,2,FALSE)","v":{"$error":"#VALUE!"}},{"$f":"VLOOKUP(K100,Tabel!$K$3:$L$109,2,FALSE)","v":{"$error":"#VALUE!"}},{"$error":"#VALUE!"},{"$error":"#VALUE!"},{"$error":"#VALUE!"},{"$error":"#VALUE!"},{"$error":"#VALUE!"},{"$error":"#VALUE!"},{"$error":"#VALUE!"},{"$error":"#VALUE!"},{"$error":"#VALUE!"},{"$error":"#VALUE!"},{"$error":"#VALUE!"},{"$error":"#VALUE!"},{"$f":"VLOOKUP($AG100,Tabel!$J$3:$K$109,2,FALSE)","v":{"$error":"#VALUE!"}},{"$f":"Tabel!$K$106&$A100&$AH100&Tabel!$K$109","v":{"$error":"#VALUE!"}},{"$error":"#VALUE!"}]
[{"$f":"CONCATENATE(gastenlijst[[#This Row],[Post]],gastenlijst[[#This Row],[Code]],gastenlijst[[#This Row],[Huisnr aangepast]],gastenlijst[[#This Row],[Yes]])","v":{"$error":"#VALUE!"}},{"$error":"#VALUE!"},{"$error":"#VALUE!"},{"$error":"#VALUE!"},{"$error":"#VALUE!"},{"$error":"#VALUE!"},{"$error":"#VALUE!"},{"$error":"#VALUE!"},{"$error":"#VALUE!"},{"$error":"#VALUE!"},{"$error":"#VALUE!"},{"$f":"VLOOKUP(B101,Tabel!$K$3:$L$109,2,FALSE)","v":{"$error":"#VALUE!"}},{"$f":"VLOOKUP(C101,Tabel!$K$3:$L$109,2,FALSE)","v":{"$error":"#VALUE!"}},{"$f":"VLOOKUP(D101,Tabel!$K$3:$L$109,2,FALSE)","v":{"$error":"#VALUE!"}},{"$f":"VLOOKUP(E101,Tabel!$K$3:$L$109,2,FALSE)","v":{"$error":"#VALUE!"}},{"$f":"VLOOKUP(F101,Tabel!$K$3:$L$109,2,FALSE)","v":{"$error":"#VALUE!"}},{"$f":"VLOOKUP(G101,Tabel!$K$3:$L$109,2,FALSE)","v":{"$error":"#VALUE!"}},{"$f":"VLOOKUP(H101,Tabel!$K$3:$L$109,2,FALSE)","v":{"$error":"#VALUE!"}},{"$f":"VLOOKUP(I101,Tabel!$K$3:$L$109,2,FALSE)","v":{"$error":"#VALUE!"}},{"$f":"VLOOKUP(J101,Tabel!$K$3:$L$109,2,FALSE)","v":{"$error":"#VALUE!"}},{"$f":"VLOOKUP(K101,Tabel!$K$3:$L$109,2,FALSE)","v":{"$error":"#VALUE!"}},{"$error":"#VALUE!"},{"$error":"#VALUE!"},{"$error":"#VALUE!"},{"$error":"#VALUE!"},{"$error":"#VALUE!"},{"$error":"#VALUE!"},{"$error":"#VALUE!"},{"$error":"#VALUE!"},{"$error":"#VALUE!"},{"$error":"#VALUE!"},{"$error":"#VALUE!"},{"$error":"#VALUE!"},{"$f":"VLOOKUP($AG101,Tabel!$J$3:$K$109,2,FALSE)","v":{"$error":"#VALUE!"}},{"$f":"Tabel!$K$106&$A101&$AH101&Tabel!$K$109","v":{"$error":"#VALUE!"}},{"$error":"#VALUE!"}]
[{"$f":"CONCATENATE(gastenlijst[[#This Row],[Post]],gastenlijst[[#This Row],[Code]],gastenlijst[[#This Row],[Huisnr aangepast]],gastenlijst[[#This Row],[Yes]])","v":{"$error":"#VALUE!"}},{"$error":"#VALUE!"},{"$error":"#VALUE!"},{"$error":"#VALUE!"},{"$error":"#VALUE!"},{"$error":"#VALUE!"},{"$error":"#VALUE!"},{"$error":"#VALUE!"},{"$error":"#VALUE!"},{"$error":"#VALUE!"},{"$error":"#VALUE!"},{"$f":"VLOOKUP(B102,Tabel!$K$3:$L$109,2,FALSE)","v":{"$error":"#VALUE!"}},{"$f":"VLOOKUP(C102,Tabel!$K$3:$L$109,2,FALSE)","v":{"$error":"#VALUE!"}},{"$f":"VLOOKUP(D102,Tabel!$K$3:$L$109,2,FALSE)","v":{"$error":"#VALUE!"}},{"$f":"VLOOKUP(E102,Tabel!$K$3:$L$109,2,FALSE)","v":{"$error":"#VALUE!"}},{"$f":"VLOOKUP(F102,Tabel!$K$3:$L$109,2,FALSE)","v":{"$error":"#VALUE!"}},{"$f":"VLOOKUP(G102,Tabel!$K$3:$L$109,2,FALSE)","v":{"$error":"#VALUE!"}},{"$f":"VLOOKUP(H102,Tabel!$K$3:$L$109,2,FALSE)","v":{"$error":"#VALUE!"}},{"$f":"VLOOKUP(I102,Tabel!$K$3:$L$109,2,FALSE)","v":{"$error":"#VALUE!"}},{"$f":"VLOOKUP(J102,Tabel!$K$3:$L$109,2,FALSE)","v":{"$error":"#VALUE!"}},{"$f":"VLOOKUP(K102,Tabel!$K$3:$L$109,2,FALSE)","v":{"$error":"#VALUE!"}},{"$error":"#VALUE!"},{"$error":"#VALUE!"},{"$error":"#VALUE!"},{"$error":"#VALUE!"},{"$error":"#VALUE!"},{"$error":"#VALUE!"},{"$error":"#VALUE!"},{"$error":"#VALUE!"},{"$error":"#VALUE!"},{"$error":"#VALUE!"},{"$error":"#VALUE!"},{"$error":"#VALUE!"},{"$f":"VLOOKUP($AG102,Tabel!$J$3:$K$109,2,FALSE)","v":{"$error":"#VALUE!"}},{"$f":"Tabel!$K$106&$A102&$AH102&Tabel!$K$109","v":{"$error":"#VALUE!"}},{"$error":"#VALUE!"}]
[{"$f":"CONCATENATE(gastenlijst[[#This Row],[Post]],gastenlijst[[#This Row],[Code]],gastenlijst[[#This Row],[Huisnr aangepast]],gastenlijst[[#This Row],[Yes]])","v":{"$error":"#VALUE!"}},{"$error":"#VALUE!"},{"$error":"#VALUE!"},{"$error":"#VALUE!"},{"$error":"#VALUE!"},{"$error":"#VALUE!"},{"$error":"#VALUE!"},{"$error":"#VALUE!"},{"$error":"#VALUE!"},{"$error":"#VALUE!"},{"$error":"#VALUE!"},{"$f":"VLOOKUP(B103,Tabel!$K$3:$L$109,2,FALSE)","v":{"$error":"#VALUE!"}},{"$f":"VLOOKUP(C103,Tabel!$K$3:$L$109,2,FALSE)","v":{"$error":"#VALUE!"}},{"$f":"VLOOKUP(D103,Tabel!$K$3:$L$109,2,FALSE)","v":{"$error":"#VALUE!"}},{"$f":"VLOOKUP(E103,Tabel!$K$3:$L$109,2,FALSE)","v":{"$error":"#VALUE!"}},{"$f":"VLOOKUP(F103,Tabel!$K$3:$L$109,2,FALSE)","v":{"$error":"#VALUE!"}},{"$f":"VLOOKUP(G103,Tabel!$K$3:$L$109,2,FALSE)","v":{"$error":"#VALUE!"}},{"$f":"VLOOKUP(H103,Tabel!$K$3:$L$109,2,FALSE)","v":{"$error":"#VALUE!"}},{"$f":"VLOOKUP(I103,Tabel!$K$3:$L$109,2,FALSE)","v":{"$error":"#VALUE!"}},{"$f":"VLOOKUP(J103,Tabel!$K$3:$L$109,2,FALSE)","v":{"$error":"#VALUE!"}},{"$f":"VLOOKUP(K103,Tabel!$K$3:$L$109,2,FALSE)","v":{"$error":"#VALUE!"}},{"$error":"#VALUE!"},{"$error":"#VALUE!"},{"$error":"#VALUE!"},{"$error":"#VALUE!"},{"$error":"#VALUE!"},{"$error":"#VALUE!"},{"$error":"#VALUE!"},{"$error":"#VALUE!"},{"$error":"#VALUE!"},{"$error":"#VALUE!"},{"$error":"#VALUE!"},{"$error":"#VALUE!"},{"$f":"VLOOKUP($AG103,Tabel!$J$3:$K$109,2,FALSE)","v":{"$error":"#VALUE!"}},{"$f":"Tabel!$K$106&$A103&$AH103&Tabel!$K$109","v":{"$error":"#VALUE!"}},{"$error":"#VALUE!"}]
[{"$f":"CONCATENATE(gastenlijst[[#This Row],[Post]],gastenlijst[[#This Row],[Code]],gastenlijst[[#This Row],[Huisnr aangepast]],gastenlijst[[#This Row],[Yes]])","v":{"$error":"#VALUE!"}},{"$error":"#VALUE!"},{"$error":"#VALUE!"},{"$error":"#VALUE!"},{"$error":"#VALUE!"},{"$error":"#VALUE!"},{"$error":"#VALUE!"},{"$error":"#VALUE!"},{"$error":"#VALUE!"},{"$error":"#VALUE!"},{"$error":"#VALUE!"},{"$f":"VLOOKUP(B104,Tabel!$K$3:$L$109,2,FALSE)","v":{"$error":"#VALUE!"}},{"$f":"VLOOKUP(C104,Tabel!$K$3:$L$109,2,FALSE)","v":{"$error":"#VALUE!"}},{"$f":"VLOOKUP(D104,Tabel!$K$3:$L$109,2,FALSE)","v":{"$error":"#VALUE!"}},{"$f":"VLOOKUP(E104,Tabel!$K$3:$L$109,2,FALSE)","v":{"$error":"#VALUE!"}},{"$f":"VLOOKUP(F104,Tabel!$K$3:$L$109,2,FALSE)","v":{"$error":"#VALUE!"}},{"$f":"VLOOKUP(G104,Tabel!$K$3:$L$109,2,FALSE)","v":{"$error":"#VALUE!"}},{"$f":"VLOOKUP(H104,Tabel!$K$3:$L$109,2,FALSE)","v":{"$error":"#VALUE!"}},{"$f":"VLOOKUP(I104,Tabel!$K$3:$L$109,2,FALSE)","v":{"$error":"#VALUE!"}},{"$f":"VLOOKUP(J104,Tabel!$K$3:$L$109,2,FALSE)","v":{"$error":"#VALUE!"}},{"$f":"VLOOKUP(K104,Tabel!$K$3:$L$109,2,FALSE)","v":{"$error":"#VALUE!"}},{"$error":"#VALUE!"},{"$error":"#VALUE!"},{"$error":"#VALUE!"},{"$error":"#VALUE!"},{"$error":"#VALUE!"},{"$error":"#VALUE!"},{"$error":"#VALUE!"},{"$error":"#VALUE!"},{"$error":"#VALUE!"},{"$error":"#VALUE!"},{"$error":"#VALUE!"},{"$error":"#VALUE!"},{"$f":"VLOOKUP($AG104,Tabel!$J$3:$K$109,2,FALSE)","v":{"$error":"#VALUE!"}},{"$f":"Tabel!$K$106&$A104&$AH104&Tabel!$K$109","v":{"$error":"#VALUE!"}},{"$error":"#VALUE!"}]
[{"$f":"CONCATENATE(gastenlijst[[#This Row],[Post]],gastenlijst[[#This Row],[Code]],gastenlijst[[#This Row],[Huisnr aangepast]],gastenlijst[[#This Row],[Yes]])","v":{"$error":"#VALUE!"}},{"$error":"#VALUE!"},{"$error":"#VALUE!"},{"$error":"#VALUE!"},{"$error":"#VALUE!"},{"$error":"#VALUE!"},{"$error":"#VALUE!"},{"$error":"#VALUE!"},{"$error":"#VALUE!"},{"$error":"#VALUE!"},{"$error":"#VALUE!"},{"$f":"VLOOKUP(B105,Tabel!$K$3:$L$109,2,FALSE)","v":{"$error":"#VALUE!"}},{"$f":"VLOOKUP(C105,Tabel!$K$3:$L$109,2,FALSE)","v":{"$error":"#VALUE!"}},{"$f":"VLOOKUP(D105,Tabel!$K$3:$L$109,2,FALSE)","v":{"$error":"#VALUE!"}},{"$f":"VLOOKUP(E105,Tabel!$K$3:$L$109,2,FALSE)","v":{"$error":"#VALUE!"}},{"$f":"VLOOKUP(F105,Tabel!$K$3:$L$109,2,FALSE)","v":{"$error":"#VALUE!"}},{"$f":"VLOOKUP(G105,Tabel!$K$3:$L$109,2,FALSE)","v":{"$error":"#VALUE!"}},{"$f":"VLOOKUP(H105,Tabel!$K$3:$L$109,2,FALSE)","v":{"$error":"#VALUE!"}},{"$f":"VLOOKUP(I105,Tabel!$K$3:$L$109,2,FALSE)","v":{"$error":"#VALUE!"}},{"$f":"VLOOKUP(J105,Tabel!$K$3:$L$109,2,FALSE)","v":{"$error":"#VALUE!"}},{"$f":"VLOOKUP(K105,Tabel!$K$3:$L$109,2,FALSE)","v":{"$error":"#VALUE!"}},{"$error":"#VALUE!"},{"$error":"#VALUE!"},{"$error":"#VALUE!"},{"$error":"#VALUE!"},{"$error":"#VALUE!"},{"$error":"#VALUE!"},{"$error":"#VALUE!"},{"$error":"#VALUE!"},{"$error":"#VALUE!"},{"$error":"#VALUE!"},{"$error":"#VALUE!"},{"$error":"#VALUE!"},{"$f":"VLOOKUP($AG105,Tabel!$J$3:$K$109,2,FALSE)","v":{"$error":"#VALUE!"}},{"$f":"Tabel!$K$106&$A105&$AH105&Tabel!$K$109","v":{"$error":"#VALUE!"}},{"$error":"#VALUE!"}]
[{"$f":"CONCATENATE(gastenlijst[[#This Row],[Post]],gastenlijst[[#This Row],[Code]],gastenlijst[[#This Row],[Huisnr aangepast]],gastenlijst[[#This Row],[Yes]])","v":{"$error":"#VALUE!"}},{"$error":"#VALUE!"},{"$error":"#VALUE!"},{"$error":"#VALUE!"},{"$error":"#VALUE!"},{"$error":"#VALUE!"},{"$error":"#VALUE!"},{"$error":"#VALUE!"},{"$error":"#VALUE!"},{"$error":"#VALUE!"},{"$error":"#VALUE!"},{"$f":"VLOOKUP(B106,Tabel!$K$3:$L$109,2,FALSE)","v":{"$error":"#VALUE!"}},{"$f":"VLOOKUP(C106,Tabel!$K$3:$L$109,2,FALSE)","v":{"$error":"#VALUE!"}},{"$f":"VLOOKUP(D106,Tabel!$K$3:$L$109,2,FALSE)","v":{"$error":"#VALUE!"}},{"$f":"VLOOKUP(E106,Tabel!$K$3:$L$109,2,FALSE)","v":{"$error":"#VALUE!"}},{"$f":"VLOOKUP(F106,Tabel!$K$3:$L$109,2,FALSE)","v":{"$error":"#VALUE!"}},{"$f":"VLOOKUP(G106,Tabel!$K$3:$L$109,2,FALSE)","v":{"$error":"#VALUE!"}},{"$f":"VLOOKUP(H106,Tabel!$K$3:$L$109,2,FALSE)","v":{"$error":"#VALUE!"}},{"$f":"VLOOKUP(I106,Tabel!$K$3:$L$109,2,FALSE)","v":{"$error":"#VALUE!"}},{"$f":"VLOOKUP(J106,Tabel!$K$3:$L$109,2,FALSE)","v":{"$error":"#VALUE!"}},{"$f":"VLOOKUP(K106,Tabel!$K$3:$L$109,2,FALSE)","v":{"$error":"#VALUE!"}},{"$error":"#VALUE!"},{"$error":"#VALUE!"},{"$error":"#VALUE!"},{"$error":"#VALUE!"},{"$error":"#VALUE!"},{"$error":"#VALUE!"},{"$error":"#VALUE!"},{"$error":"#VALUE!"},{"$error":"#VALUE!"},{"$error":"#VALUE!"},{"$error":"#VALUE!"},{"$error":"#VALUE!"},{"$f":"VLOOKUP($AG106,Tabel!$J$3:$K$109,2,FALSE)","v":{"$error":"#VALUE!"}},{"$f":"Tabel!$K$106&$A106&$AH106&Tabel!$K$109","v":{"$error":"#VALUE!"}},{"$error":"#VALUE!"}]
[{"$f":"CONCATENATE(gastenlijst[[#This Row],[Post]],gastenlijst[[#This Row],[Code]],gastenlijst[[#This Row],[Huisnr aangepast]],gastenlijst[[#This Row],[Yes]])","v":{"$error":"#VALUE!"}},{"$error":"#VALUE!"},{"$error":"#VALUE!"},{"$error":"#VALUE!"},{"$error":"#VALUE!"},{"$error":"#VALUE!"},{"$error":"#VALUE!"},{"$error":"#VALUE!"},{"$error":"#VALUE!"},{"$error":"#VALUE!"},{"$error":"#VALUE!"},{"$f":"VLOOKUP(B107,Tabel!$K$3:$L$109,2,FALSE)","v":{"$error":"#VALUE!"}},{"$f":"VLOOKUP(C107,Tabel!$K$3:$L$109,2,FALSE)","v":{"$error":"#VALUE!"}},{"$f":"VLOOKUP(D107,Tabel!$K$3:$L$109,2,FALSE)","v":{"$error":"#VALUE!"}},{"$f":"VLOOKUP(E107,Tabel!$K$3:$L$109,2,FALSE)","v":{"$error":"#VALUE!"}},{"$f":"VLOOKUP(F107,Tabel!$K$3:$L$109,2,FALSE)","v":{"$error":"#VALUE!"}},{"$f":"VLOOKUP(G107,Tabel!$K$3:$L$109,2,FALSE)","v":{"$error":"#VALUE!"}},{"$f":"VLOOKUP(H107,Tabel!$K$3:$L$109,2,FALSE)","v":{"$error":"#VALUE!"}},{"$f":"VLOOKUP(I107,Tabel!$K$3:$L$109,2,FALSE)","v":{"$error":"#VALUE!"}},{"$f":"VLOOKUP(J107,Tabel!$K$3:$L$109,2,FALSE)","v":{"$error":"#VALUE!"}},{"$f":"VLOOKUP(K107,Tabel!$K$3:$L$109,2,FALSE)","v":{"$error":"#VALUE!"}},{"$error":"#VALUE!"},{"$error":"#VALUE!"},{"$error":"#VALUE!"},{"$error":"#VALUE!"},{"$error":"#VALUE!"},{"$error":"#VALUE!"},{"$error":"#VALUE!"},{"$error":"#VALUE!"},{"$error":"#VALUE!"},{"$error":"#VALUE!"},{"$error":"#VALUE!"},{"$error":"#VALUE!"},{"$f":"VLOOKUP($AG107,Tabel!$J$3:$K$109,2,FALSE)","v":{"$error":"#VALUE!"}},{"$f":"Tabel!$K$106&$A107&$AH107&Tabel!$K$109","v":{"$error":"#VALUE!"}},{"$error":"#VALUE!"}]
[{"$f":"CONCATENATE(gastenlijst[[#This Row],[Post]],gastenlijst[[#This Row],[Code]],gastenlijst[[#This Row],[Huisnr aangepast]],gastenlijst[[#This Row],[Yes]])","v":{"$error":"#VALUE!"}},{"$error":"#VALUE!"},{"$error":"#VALUE!"},{"$error":"#VALUE!"},{"$error":"#VALUE!"},{"$error":"#VALUE!"},{"$error":"#VALUE!"},{"$error":"#VALUE!"},{"$error":"#VALUE!"},{"$error":"#VALUE!"},{"$error":"#VALUE!"},{"$f":"VLOOKUP(B108,Tabel!$K$3:$L$109,2,FALSE)","v":{"$error":"#VALUE!"}},{"$f":"VLOOKUP(C108,Tabel!$K$3:$L$109,2,FALSE)","v":{"$error":"#VALUE!"}},{"$f":"VLOOKUP(D108,Tabel!$K$3:$L$109,2,FALSE)","v":{"$error":"#VALUE!"}},{"$f":"VLOOKUP(E108,Tabel!$K$3:$L$109,2,FALSE)","v":{"$error":"#VALUE!"}},{"$f":"VLOOKUP(F108,Tabel!$K$3:$L$109,2,FALSE)","v":{"$error":"#VALUE!"}},{"$f":"VLOOKUP(G108,Tabel!$K$3:$L$109,2,FALSE)","v":{"$error":"#VALUE!"}},{"$f":"VLOOKUP(H108,Tabel!$K$3:$L$109,2,FALSE)","v":{"$error":"#VALUE!"}},{"$f":"VLOOKUP(I108,Tabel!$K$3:$L$109,2,FALSE)","v":{"$error":"#VALUE!"}},{"$f":"VLOOKUP(J108,Tabel!$K$3:$L$109,2,FALSE)","v":{"$error":"#VALUE!"}},{"$f":"VLOOKUP(K108,Tabel!$K$3:$L$109,2,FALSE)","v":{"$error":"#VALUE!"}},{"$error":"#VALUE!"},{"$error":"#VALUE!"},{"$error":"#VALUE!"},{"$error":"#VALUE!"},{"$error":"#VALUE!"},{"$error":"#VALUE!"},{"$error":"#VALUE!"},{"$error":"#VALUE!"},{"$error":"#VALUE!"},{"$error":"#VALUE!"},{"$error":"#VALUE!"},{"$error":"#VALUE!"},{"$f":"VLOOKUP($AG108,Tabel!$J$3:$K$109,2,FALSE)","v":{"$error":"#VALUE!"}},{"$f":"Tabel!$K$106&$A108&$AH108&Tabel!$K$109","v":{"$error":"#VALUE!"}},{"$error":"#VALUE!"}]
[{"$f":"CONCATENATE(gastenlijst[[#This Row],[Post]],gastenlijst[[#This Row],[Code]],gastenlijst[[#This Row],[Huisnr aangepast]],gastenlijst[[#This Row],[Yes]])","v":{"$error":"#VALUE!"}},{"$error":"#VALUE!"},{"$error":"#VALUE!"},{"$error":"#VALUE!"},{"$error":"#VALUE!"},{"$error":"#VALUE!"},{"$error":"#VALUE!"},{"$error":"#VALUE!"},{"$error":"#VALUE!"},{"$error":"#VALUE!"},{"$error":"#VALUE!"},{"$f":"VLOOKUP(B109,Tabel!$K$3:$L$109,2,FALSE)","v":{"$error":"#VALUE!"}},{"$f":"VLOOKUP(C109,Tabel!$K$3:$L$109,2,FALSE)","v":{"$error":"#VALUE!"}},{"$f":"VLOOKUP(D109,Tabel!$K$3:$L$109,2,FALSE)","v":{"$error":"#VALUE!"}},{"$f":"VLOOKUP(E109,Tabel!$K$3:$L$109,2,FALSE)","v":{"$error":"#VALUE!"}},{"$f":"VLOOKUP(F109,Tabel!$K$3:$L$109,2,FALSE)","v":{"$error":"#VALUE!"}},{"$f":"VLOOKUP(G109,Tabel!$K$3:$L$109,2,FALSE)","v":{"$error":"#VALUE!"}},{"$f":"VLOOKUP(H109,Tabel!$K$3:$L$109,2,FALSE)","v":{"$error":"#VALUE!"}},{"$f":"VLOOKUP(I109,Tabel!$K$3:$L$109,2,FALSE)","v":{"$error":"#VALUE!"}},{"$f":"VLOOKUP(J109,Tabel!$K$3:$L$109,2,FALSE)","v":{"$error":"#VALUE!"}},{"$f":"VLOOKUP(K109,Tabel!$K$3:$L$109,2,FALSE)","v":{"$error":"#VALUE!"}},{"$error":"#VALUE!"},{"$error":"#VALUE!"},{"$error":"#VALUE!"},{"$error":"#VALUE!"},{"$error":"#VALUE!"},{"$error":"#VALUE!"},{"$error":"#VALUE!"},{"$error":"#VALUE!"},{"$error":"#VALUE!"},{"$error":"#VALUE!"},{"$error":"#VALUE!"},{"$error":"#VALUE!"},{"$f":"VLOOKUP($AG109,Tabel!$J$3:$K$109,2,FALSE)","v":{"$error":"#VALUE!"}},{"$f":"Tabel!$K$106&$A109&$AH109&Tabel!$K$109","v":{"$error":"#VALUE!"}},{"$error":"#VALUE!"}]
[{"$f":"CONCATENATE(gastenlijst[[#This Row],[Post]],gastenlijst[[#This Row],[Code]],gastenlijst[[#This Row],[Huisnr aangepast]],gastenlijst[[#This Row],[Yes]])","v":{"$error":"#VALUE!"}},{"$error":"#VALUE!"},{"$error":"#VALUE!"},{"$error":"#VALUE!"},{"$error":"#VALUE!"},{"$error":"#VALUE!"},{"$error":"#VALUE!"},{"$error":"#VALUE!"},{"$error":"#VALUE!"},{"$error":"#VALUE!"},{"$error":"#VALUE!"},{"$f":"VLOOKUP(B110,Tabel!$K$3:$L$109,2,FALSE)","v":{"$error":"#VALUE!"}},{"$f":"VLOOKUP(C110,Tabel!$K$3:$L$109,2,FALSE)","v":{"$error":"#VALUE!"}},{"$f":"VLOOKUP(D110,Tabel!$K$3:$L$109,2,FALSE)","v":{"$error":"#VALUE!"}},{"$f":"VLOOKUP(E110,Tabel!$K$3:$L$109,2,FALSE)","v":{"$error":"#VALUE!"}},{"$f":"VLOOKUP(F110,Tabel!$K$3:$L$109,2,FALSE)","v":{"$error":"#VALUE!"}},{"$f":"VLOOKUP(G110,Tabel!$K$3:$L$109,2,FALSE)","v":{"$error":"#VALUE!"}},{"$f":"VLOOKUP(H110,Tabel!$K$3:$L$109,2,FALSE)","v":{"$error":"#VALUE!"}},{"$f":"VLOOKUP(I110,Tabel!$K$3:$L$109,2,FALSE)","v":{"$error":"#VALUE!"}},{"$f":"VLOOKUP(J110,Tabel!$K$3:$L$109,2,FALSE)","v":{"$error":"#VALUE!"}},{"$f":"VLOOKUP(K110,Tabel!$K$3:$L$109,2,FALSE)","v":{"$error":"#VALUE!"}},{"$error":"#VALUE!"},{"$error":"#VALUE!"},{"$error":"#VALUE!"},{"$error":"#VALUE!"},{"$error":"#VALUE!"},{"$error":"#VALUE!"},{"$error":"#VALUE!"},{"$error":"#VALUE!"},{"$error":"#VALUE!"},{"$error":"#VALUE!"},{"$error":"#VALUE!"},{"$error":"#VALUE!"},{"$f":"VLOOKUP($AG110,Tabel!$J$3:$K$109,2,FALSE)","v":{"$error":"#VALUE!"}},{"$f":"Tabel!$K$106&$A110&$AH110&Tabel!$K$109","v":{"$error":"#VALUE!"}},{"$error":"#VALUE!"}]
[{"$f":"CONCATENATE(gastenlijst[[#This Row],[Post]],gastenlijst[[#This Row],[Code]],gastenlijst[[#This Row],[Huisnr aangepast]],gastenlijst[[#This Row],[Yes]])","v":{"$error":"#VALUE!"}},{"$error":"#VALUE!"},{"$error":"#VALUE!"},{"$error":"#VALUE!"},{"$error":"#VALUE!"},{"$error":"#VALUE!"},{"$error":"#VALUE!"},{"$error":"#VALUE!"},{"$error":"#VALUE!"},{"$error":"#VALUE!"},{"$error":"#VALUE!"},{"$f":"VLOOKUP(B111,Tabel!$K$3:$L$109,2,FALSE)","v":{"$error":"#VALUE!"}},{"$f":"VLOOKUP(C111,Tabel!$K$3:$L$109,2,FALSE)","v":{"$error":"#VALUE!"}},{"$f":"VLOOKUP(D111,Tabel!$K$3:$L$109,2,FALSE)","v":{"$error":"#VALUE!"}},{"$f":"VLOOKUP(E111,Tabel!$K$3:$L$109,2,FALSE)","v":{"$error":"#VALUE!"}},{"$f":"VLOOKUP(F111,Tabel!$K$3:$L$109,2,FALSE)","v":{"$error":"#VALUE!"}},{"$f":"VLOOKUP(G111,Tabel!$K$3:$L$109,2,FALSE)","v":{"$error":"#VALUE!"}},{"$f":"VLOOKUP(H111,Tabel!$K$3:$L$109,2,FALSE)","v":{"$error":"#VALUE!"}},{"$f":"VLOOKUP(I111,Tabel!$K$3:$L$109,2,FALSE)","v":{"$error":"#VALUE!"}},{"$f":"VLOOKUP(J111,Tabel!$K$3:$L$109,2,FALSE)","v":{"$error":"#VALUE!"}},{"$f":"VLOOKUP(K111,Tabel!$K$3:$L$109,2,FALSE)","v":{"$error":"#VALUE!"}},{"$error":"#VALUE!"},{"$error":"#VALUE!"},{"$error":"#VALUE!"},{"$error":"#VALUE!"},{"$error":"#VALUE!"},{"$error":"#VALUE!"},{"$error":"#VALUE!"},{"$error":"#VALUE!"},{"$error":"#VALUE!"},{"$error":"#VALUE!"},{"$error":"#VALUE!"},{"$error":"#VALUE!"},{"$f":"VLOOKUP($AG111,Tabel!$J$3:$K$109,2,FALSE)","v":{"$error":"#VALUE!"}},{"$f":"Tabel!$K$106&$A111&$AH111&Tabel!$K$109","v":{"$error":"#VALUE!"}},{"$error":"#VALUE!"}]
[{"$f":"CONCATENATE(gastenlijst[[#This Row],[Post]],gastenlijst[[#This Row],[Code]],gastenlijst[[#This Row],[Huisnr aangepast]],gastenlijst[[#This Row],[Yes]])","v":{"$error":"#VALUE!"}},{"$error":"#VALUE!"},{"$error":"#VALUE!"},{"$error":"#VALUE!"},{"$error":"#VALUE!"},{"$error":"#VALUE!"},{"$error":"#VALUE!"},{"$error":"#VALUE!"},{"$error":"#VALUE!"},{"$error":"#VALUE!"},{"$error":"#VALUE!"},{"$f":"VLOOKUP(B112,Tabel!$K$3:$L$109,2,FALSE)","v":{"$error":"#VALUE!"}},{"$f":"VLOOKUP(C112,Tabel!$K$3:$L$109,2,FALSE)","v":{"$error":"#VALUE!"}},{"$f":"VLOOKUP(D112,Tabel!$K$3:$L$109,2,FALSE)","v":{"$error":"#VALUE!"}},{"$f":"VLOOKUP(E112,Tabel!$K$3:$L$109,2,FALSE)","v":{"$error":"#VALUE!"}},{"$f":"VLOOKUP(F112,Tabel!$K$3:$L$109,2,FALSE)","v":{"$error":"#VALUE!"}},{"$f":"VLOOKUP(G112,Tabel!$K$3:$L$109,2,FALSE)","v":{"$error":"#VALUE!"}},{"$f":"VLOOKUP(H112,Tabel!$K$3:$L$109,2,FALSE)","v":{"$error":"#VALUE!"}},{"$f":"VLOOKUP(I112,Tabel!$K$3:$L$109,2,FALSE)","v":{"$error":"#VALUE!"}},{"$f":"VLOOKUP(J112,Tabel!$K$3:$L$109,2,FALSE)","v":{"$error":"#VALUE!"}},{"$f":"VLOOKUP(K112,Tabel!$K$3:$L$109,2,FALSE)","v":{"$error":"#VALUE!"}},{"$error":"#VALUE!"},{"$error":"#VALUE!"},{"$error":"#VALUE!"},{"$error":"#VALUE!"},{"$error":"#VALUE!"},{"$error":"#VALUE!"},{"$error":"#VALUE!"},{"$error":"#VALUE!"},{"$error":"#VALUE!"},{"$error":"#VALUE!"},{"$error":"#VALUE!"},{"$error":"#VALUE!"},{"$f":"VLOOKUP($AG112,Tabel!$J$3:$K$109,2,FALSE)","v":{"$error":"#VALUE!"}},{"$f":"Tabel!$K$106&$A112&$AH112&Tabel!$K$109","v":{"$error":"#VALUE!"}},{"$error":"#VALUE!"}]
[{"$f":"CONCATENATE(gastenlijst[[#This Row],[Post]],gastenlijst[[#This Row],[Code]],gastenlijst[[#This Row],[Huisnr aangepast]],gastenlijst[[#This Row],[Yes]])","v":{"$error":"#VALUE!"}},{"$error":"#VALUE!"},{"$error":"#VALUE!"},{"$error":"#VALUE!"},{"$error":"#VALUE!"},{"$error":"#VALUE!"},{"$error":"#VALUE!"},{"$error":"#VALUE!"},{"$error":"#VALUE!"},{"$error":"#VALUE!"},{"$error":"#VALUE!"},{"$f":"VLOOKUP(B113,Tabel!$K$3:$L$109,2,FALSE)","v":{"$error":"#VALUE!"}},{"$f":"VLOOKUP(C113,Tabel!$K$3:$L$109,2,FALSE)","v":{"$error":"#VALUE!"}},{"$f":"VLOOKUP(D113,Tabel!$K$3:$L$109,2,FALSE)","v":{"$error":"#VALUE!"}},{"$f":"VLOOKUP(E113,Tabel!$K$3:$L$109,2,FALSE)","v":{"$error":"#VALUE!"}},{"$f":"VLOOKUP(F113,Tabel!$K$3:$L$109,2,FALSE)","v":{"$error":"#VALUE!"}},{"$f":"VLOOKUP(G113,Tabel!$K$3:$L$109,2,FALSE)","v":{"$error":"#VALUE!"}},{"$f":"VLOOKUP(H113,Tabel!$K$3:$L$109,2,FALSE)","v":{"$error":"#VALUE!"}},{"$f":"VLOOKUP(I113,Tabel!$K$3:$L$109,2,FALSE)","v":{"$error":"#VALUE!"}},{"$f":"VLOOKUP(J113,Tabel!$K$3:$L$109,2,FALSE)","v":{"$error":"#VALUE!"}},{"$f":"VLOOKUP(K113,Tabel!$K$3:$L$109,2,FALSE)","v":{"$error":"#VALUE!"}},{"$error":"#VALUE!"},{"$error":"#VALUE!"},{"$error":"#VALUE!"},{"$error":"#VALUE!"},{"$error":"#VALUE!"},{"$error":"#VALUE!"},{"$error":"#VALUE!"},{"$error":"#VALUE!"},{"$error":"#VALUE!"},{"$error":"#VALUE!"},{"$error":"#VALUE!"},{"$error":"#VALUE!"},{"$f":"VLOOKUP($AG113,Tabel!$J$3:$K$109,2,FALSE)","v":{"$error":"#VALUE!"}},{"$f":"Tabel!$K$106&$A113&$AH113&Tabel!$K$109","v":{"$error":"#VALUE!"}},{"$error":"#VALUE!"}]
[{"$f":"CONCATENATE(gastenlijst[[#This Row],[Post]],gastenlijst[[#This Row],[Code]],gastenlijst[[#This Row],[Huisnr aangepast]],gastenlijst[[#This Row],[Yes]])","v":{"$error":"#VALUE!"}},{"$error":"#VALUE!"},{"$error":"#VALUE!"},{"$error":"#VALUE!"},{"$error":"#VALUE!"},{"$error":"#VALUE!"},{"$error":"#VALUE!"},{"$error":"#VALUE!"},{"$error":"#VALUE!"},{"$error":"#VALUE!"},{"$error":"#VALUE!"},{"$f":"VLOOKUP(B114,Tabel!$K$3:$L$109,2,FALSE)","v":{"$error":"#VALUE!"}},{"$f":"VLOOKUP(C114,Tabel!$K$3:$L$109,2,FALSE)","v":{"$error":"#VALUE!"}},{"$f":"VLOOKUP(D114,Tabel!$K$3:$L$109,2,FALSE)","v":{"$error":"#VALUE!"}},{"$f":"VLOOKUP(E114,Tabel!$K$3:$L$109,2,FALSE)","v":{"$error":"#VALUE!"}},{"$f":"VLOOKUP(F114,Tabel!$K$3:$L$109,2,FALSE)","v":{"$error":"#VALUE!"}},{"$f":"VLOOKUP(G114,Tabel!$K$3:$L$109,2,FALSE)","v":{"$error":"#VALUE!"}},{"$f":"VLOOKUP(H114,Tabel!$K$3:$L$109,2,FALSE)","v":{"$error":"#VALUE!"}},{"$f":"VLOOKUP(I114,Tabel!$K$3:$L$109,2,FALSE)","v":{"$error":"#VALUE!"}},{"$f":"VLOOKUP(J114,Tabel!$K$3:$L$109,2,FALSE)","v":{"$error":"#VALUE!"}},{"$f":"VLOOKUP(K114,Tabel!$K$3:$L$109,2,FALSE)","v":{"$error":"#VALUE!"}},{"$error":"#VALUE!"},{"$error":"#VALUE!"},{"$error":"#VALUE!"},{"$error":"#VALUE!"},{"$error":"#VALUE!"},{"$error":"#VALUE!"},{"$error":"#VALUE!"},{"$error":"#VALUE!"},{"$error":"#VALUE!"},{"$error":"#VALUE!"},{"$error":"#VALUE!"},{"$error":"#VALUE!"},{"$f":"VLOOKUP($AG114,Tabel!$J$3:$K$109,2,FALSE)","v":{"$error":"#VALUE!"}},{"$f":"Tabel!$K$106&$A114&$AH114&Tabel!$K$109","v":{"$error":"#VALUE!"}},{"$error":"#VALUE!"}]
[{"$f":"CONCATENATE(gastenlijst[[#This Row],[Post]],gastenlijst[[#This Row],[Code]],gastenlijst[[#This Row],[Huisnr aangepast]],gastenlijst[[#This Row],[Yes]])","v":{"$error":"#VALUE!"}},{"$error":"#VALUE!"},{"$error":"#VALUE!"},{"$error":"#VALUE!"},{"$error":"#VALUE!"},{"$error":"#VALUE!"},{"$error":"#VALUE!"},{"$error":"#VALUE!"},{"$error":"#VALUE!"},{"$error":"#VALUE!"},{"$error":"#VALUE!"},{"$f":"VLOOKUP(B115,Tabel!$K$3:$L$109,2,FALSE)","v":{"$error":"#VALUE!"}},{"$f":"VLOOKUP(C115,Tabel!$K$3:$L$109,2,FALSE)","v":{"$error":"#VALUE!"}},{"$f":"VLOOKUP(D115,Tabel!$K$3:$L$109,2,FALSE)","v":{"$error":"#VALUE!"}},{"$f":"VLOOKUP(E115,Tabel!$K$3:$L$109,2,FALSE)","v":{"$error":"#VALUE!"}},{"$f":"VLOOKUP(F115,Tabel!$K$3:$L$109,2,FALSE)","v":{"$error":"#VALUE!"}},{"$f":"VLOOKUP(G115,Tabel!$K$3:$L$109,2,FALSE)","v":{"$error":"#VALUE!"}},{"$f":"VLOOKUP(H115,Tabel!$K$3:$L$109,2,FALSE)","v":{"$error":"#VALUE!"}},{"$f":"VLOOKUP(I115,Tabel!$K$3:$L$109,2,FALSE)","v":{"$error":"#VALUE!"}},{"$f":"VLOOKUP(J115,Tabel!$K$3:$L$109,2,FALSE)","v":{"$error":"#VALUE!"}},{"$f":"VLOOKUP(K115,Tabel!$K$3:$L$109,2,FALSE)","v":{"$error":"#VALUE!"}},{"$error":"#VALUE!"},{"$error":"#VALUE!"},{"$error":"#VALUE!"},{"$error":"#VALUE!"},{"$error":"#VALUE!"},{"$error":"#VALUE!"},{"$error":"#VALUE!"},{"$error":"#VALUE!"},{"$error":"#VALUE!"},{"$error":"#VALUE!"},{"$error":"#VALUE!"},{"$error":"#VALUE!"},{"$f":"VLOOKUP($AG115,Tabel!$J$3:$K$109,2,FALSE)","v":{"$error":"#VALUE!"}},{"$f":"Tabel!$K$106&$A115&$AH115&Tabel!$K$109","v":{"$error":"#VALUE!"}},{"$error":"#VALUE!"}]
[{"$f":"CONCATENATE(gastenlijst[[#This Row],[Post]],gastenlijst[[#This Row],[Code]],gastenlijst[[#This Row],[Huisnr aangepast]],gastenlijst[[#This Row],[Yes]])","v":{"$error":"#VALUE!"}},{"$error":"#VALUE!"},{"$error":"#VALUE!"},{"$error":"#VALUE!"},{"$error":"#VALUE!"},{"$error":"#VALUE!"},{"$error":"#VALUE!"},{"$error":"#VALUE!"},{"$error":"#VALUE!"},{"$error":"#VALUE!"},{"$error":"#VALUE!"},{"$f":"VLOOKUP(B116,Tabel!$K$3:$L$109,2,FALSE)","v":{"$error":"#VALUE!"}},{"$f":"VLOOKUP(C116,Tabel!$K$3:$L$109,2,FALSE)","v":{"$error":"#VALUE!"}},{"$f":"VLOOKUP(D116,Tabel!$K$3:$L$109,2,FALSE)","v":{"$error":"#VALUE!"}},{"$f":"VLOOKUP(E116,Tabel!$K$3:$L$109,2,FALSE)","v":{"$error":"#VALUE!"}},{"$f":"VLOOKUP(F116,Tabel!$K$3:$L$109,2,FALSE)","v":{"$error":"#VALUE!"}},{"$f":"VLOOKUP(G116,Tabel!$K$3:$L$109,2,FALSE)","v":{"$error":"#VALUE!"}},{"$f":"VLOOKUP(H116,Tabel!$K$3:$L$109,2,FALSE)","v":{"$error":"#VALUE!"}},{"$f":"VLOOKUP(I116,Tabel!$K$3:$L$109,2,FALSE)","v":{"$error":"#VALUE!"}},{"$f":"VLOOKUP(J116,Tabel!$K$3:$L$109,2,FALSE)","v":{"$error":"#VALUE!"}},{"$f":"VLOOKUP(K116,Tabel!$K$3:$L$109,2,FALSE)","v":{"$error":"#VALUE!"}},{"$error":"#VALUE!"},{"$error":"#VALUE!"},{"$error":"#VALUE!"},{"$error":"#VALUE!"},{"$error":"#VALUE!"},{"$error":"#VALUE!"},{"$error":"#VALUE!"},{"$error":"#VALUE!"},{"$error":"#VALUE!"},{"$error":"#VALUE!"},{"$error":"#VALUE!"},{"$error":"#VALUE!"},{"$f":"VLOOKUP($AG116,Tabel!$J$3:$K$109,2,FALSE)","v":{"$error":"#VALUE!"}},{"$f":"Tabel!$K$106&$A116&$AH116&Tabel!$K$109","v":{"$error":"#VALUE!"}},{"$error":"#VALUE!"}]
[{"$f":"CONCATENATE(gastenlijst[[#This Row],[Post]],gastenlijst[[#This Row],[Code]],gastenlijst[[#This Row],[Huisnr aangepast]],gastenlijst[[#This Row],[Yes]])","v":{"$error":"#VALUE!"}},{"$error":"#VALUE!"},{"$error":"#VALUE!"},{"$error":"#VALUE!"},{"$error":"#VALUE!"},{"$error":"#VALUE!"},{"$error":"#VALUE!"},{"$error":"#VALUE!"},{"$error":"#VALUE!"},{"$error":"#VALUE!"},{"$error":"#VALUE!"},{"$f":"VLOOKUP(B117,Tabel!$K$3:$L$109,2,FALSE)","v":{"$error":"#VALUE!"}},{"$f":"VLOOKUP(C117,Tabel!$K$3:$L$109,2,FALSE)","v":{"$error":"#VALUE!"}},{"$f":"VLOOKUP(D117,Tabel!$K$3:$L$109,2,FALSE)","v":{"$error":"#VALUE!"}},{"$f":"VLOOKUP(E117,Tabel!$K$3:$L$109,2,FALSE)","v":{"$error":"#VALUE!"}},{"$f":"VLOOKUP(F117,Tabel!$K$3:$L$109,2,FALSE)","v":{"$error":"#VALUE!"}},{"$f":"VLOOKUP(G117,Tabel!$K$3:$L$109,2,FALSE)","v":{"$error":"#VALUE!"}},{"$f":"VLOOKUP(H117,Tabel!$K$3:$L$109,2,FALSE)","v":{"$error":"#VALUE!"}},{"$f":"VLOOKUP(I117,Tabel!$K$3:$L$109,2,FALSE)","v":{"$error":"#VALUE!"}},{"$f":"VLOOKUP(J117,Tabel!$K$3:$L$109,2,FALSE)","v":{"$error":"#VALUE!"}},{"$f":"VLOOKUP(K117,Tabel!$K$3:$L$109,2,FALSE)","v":{"$error":"#VALUE!"}},{"$error":"#VALUE!"},{"$error":"#VALUE!"},{"$error":"#VALUE!"},{"$error":"#VALUE!"},{"$error":"#VALUE!"},{"$error":"#VALUE!"},{"$error":"#VALUE!"},{"$error":"#VALUE!"},{"$error":"#VALUE!"},{"$error":"#VALUE!"},{"$error":"#VALUE!"},{"$error":"#VALUE!"},{"$f":"VLOOKUP($AG117,Tabel!$J$3:$K$109,2,FALSE)","v":{"$error":"#VALUE!"}},{"$f":"Tabel!$K$106&$A117&$AH117&Tabel!$K$109","v":{"$error":"#VALUE!"}},{"$error":"#VALUE!"}]
[{"$f":"CONCATENATE(gastenlijst[[#This Row],[Post]],gastenlijst[[#This Row],[Code]],gastenlijst[[#This Row],[Huisnr aangepast]],gastenlijst[[#This Row],[Yes]])","v":{"$error":"#VALUE!"}},{"$error":"#VALUE!"},{"$error":"#VALUE!"},{"$error":"#VALUE!"},{"$error":"#VALUE!"},{"$error":"#VALUE!"},{"$error":"#VALUE!"},{"$error":"#VALUE!"},{"$error":"#VALUE!"},{"$error":"#VALUE!"},{"$error":"#VALUE!"},{"$f":"VLOOKUP(B118,Tabel!$K$3:$L$109,2,FALSE)","v":{"$error":"#VALUE!"}},{"$f":"VLOOKUP(C118,Tabel!$K$3:$L$109,2,FALSE)","v":{"$error":"#VALUE!"}},{"$f":"VLOOKUP(D118,Tabel!$K$3:$L$109,2,FALSE)","v":{"$error":"#VALUE!"}},{"$f":"VLOOKUP(E118,Tabel!$K$3:$L$109,2,FALSE)","v":{"$error":"#VALUE!"}},{"$f":"VLOOKUP(F118,Tabel!$K$3:$L$109,2,FALSE)","v":{"$error":"#VALUE!"}},{"$f":"VLOOKUP(G118,Tabel!$K$3:$L$109,2,FALSE)","v":{"$error":"#VALUE!"}},{"$f":"VLOOKUP(H118,Tabel!$K$3:$L$109,2,FALSE)","v":{"$error":"#VALUE!"}},{"$f":"VLOOKUP(I118,Tabel!$K$3:$L$109,2,FALSE)","v":{"$error":"#VALUE!"}},{"$f":"VLOOKUP(J118,Tabel!$K$3:$L$109,2,FALSE)","v":{"$error":"#VALUE!"}},{"$f":"VLOOKUP(K118,Tabel!$K$3:$L$109,2,FALSE)","v":{"$error":"#VALUE!"}},{"$error":"#VALUE!"},{"$error":"#VALUE!"},{"$error":"#VALUE!"},{"$error":"#VALUE!"},{"$error":"#VALUE!"},{"$error":"#VALUE!"},{"$error":"#VALUE!"},{"$error":"#VALUE!"},{"$error":"#VALUE!"},{"$error":"#VALUE!"},{"$error":"#VALUE!"},{"$error":"#VALUE!"},{"$f":"VLOOKUP($AG118,Tabel!$J$3:$K$109,2,FALSE)","v":{"$error":"#VALUE!"}},{"$f":"Tabel!$K$106&$A118&$AH118&Tabel!$K$109","v":{"$error":"#VALUE!"}},{"$error":"#VALUE!"}]
[{"$f":"CONCATENATE(gastenlijst[[#This Row],[Post]],gastenlijst[[#This Row],[Code]],gastenlijst[[#This Row],[Huisnr aangepast]],gastenlijst[[#This Row],[Yes]])","v":{"$error":"#VALUE!"}},{"$error":"#VALUE!"},{"$error":"#VALUE!"},{"$error":"#VALUE!"},{"$error":"#VALUE!"},{"$error":"#VALUE!"},{"$error":"#VALUE!"},{"$error":"#VALUE!"},{"$error":"#VALUE!"},{"$error":"#VALUE!"},{"$error":"#VALUE!"},{"$f":"VLOOKUP(B119,Tabel!$K$3:$L$109,2,FALSE)","v":{"$error":"#VALUE!"}},{"$f":"VLOOKUP(C119,Tabel!$K$3:$L$109,2,FALSE)","v":{"$error":"#VALUE!"}},{"$f":"VLOOKUP(D119,Tabel!$K$3:$L$109,2,FALSE)","v":{"$error":"#VALUE!"}},{"$f":"VLOOKUP(E119,Tabel!$K$3:$L$109,2,FALSE)","v":{"$error":"#VALUE!"}},{"$f":"VLOOKUP(F119,Tabel!$K$3:$L$109,2,FALSE)","v":{"$error":"#VALUE!"}},{"$f":"VLOOKUP(G119,Tabel!$K$3:$L$109,2,FALSE)","v":{"$error":"#VALUE!"}},{"$f":"VLOOKUP(H119,Tabel!$K$3:$L$109,2,FALSE)","v":{"$error":"#VALUE!"}},{"$f":"VLOOKUP(I119,Tabel!$K$3:$L$109,2,FALSE)","v":{"$error":"#VALUE!"}},{"$f":"VLOOKUP(J119,Tabel!$K$3:$L$109,2,FALSE)","v":{"$error":"#VALUE!"}},{"$f":"VLOOKUP(K119,Tabel!$K$3:$L$109,2,FALSE)","v":{"$error":"#VALUE!"}},{"$error":"#VALUE!"},{"$error":"#VALUE!"},{"$error":"#VALUE!"},{"$error":"#VALUE!"},{"$error":"#VALUE!"},{"$error":"#VALUE!"},{"$error":"#VALUE!"},{"$error":"#VALUE!"},{"$error":"#VALUE!"},{"$error":"#VALUE!"},{"$error":"#VALUE!"},{"$error":"#VALUE!"},{"$f":"VLOOKUP($AG119,Tabel!$J$3:$K$109,2,FALSE)","v":{"$error":"#VALUE!"}},{"$f":"Tabel!$K$106&$A119&$AH119&Tabel!$K$109","v":{"$error":"#VALUE!"}},{"$error":"#VALUE!"}]
[{"$f":"CONCATENATE(gastenlijst[[#This Row],[Post]],gastenlijst[[#This Row],[Code]],gastenlijst[[#This Row],[Huisnr aangepast]],gastenlijst[[#This Row],[Yes]])","v":{"$error":"#VALUE!"}},{"$error":"#VALUE!"},{"$error":"#VALUE!"},{"$error":"#VALUE!"},{"$error":"#VALUE!"},{"$error":"#VALUE!"},{"$error":"#VALUE!"},{"$error":"#VALUE!"},{"$error":"#VALUE!"},{"$error":"#VALUE!"},{"$error":"#VALUE!"},{"$f":"VLOOKUP(B120,Tabel!$K$3:$L$109,2,FALSE)","v":{"$error":"#VALUE!"}},{"$f":"VLOOKUP(C120,Tabel!$K$3:$L$109,2,FALSE)","v":{"$error":"#VALUE!"}},{"$f":"VLOOKUP(D120,Tabel!$K$3:$L$109,2,FALSE)","v":{"$error":"#VALUE!"}},{"$f":"VLOOKUP(E120,Tabel!$K$3:$L$109,2,FALSE)","v":{"$error":"#VALUE!"}},{"$f":"VLOOKUP(F120,Tabel!$K$3:$L$109,2,FALSE)","v":{"$error":"#VALUE!"}},{"$f":"VLOOKUP(G120,Tabel!$K$3:$L$109,2,FALSE)","v":{"$error":"#VALUE!"}},{"$f":"VLOOKUP(H120,Tabel!$K$3:$L$109,2,FALSE)","v":{"$error":"#VALUE!"}},{"$f":"VLOOKUP(I120,Tabel!$K$3:$L$109,2,FALSE)","v":{"$error":"#VALUE!"}},{"$f":"VLOOKUP(J120,Tabel!$K$3:$L$109,2,FALSE)","v":{"$error":"#VALUE!"}},{"$f":"VLOOKUP(K120,Tabel!$K$3:$L$109,2,FALSE)","v":{"$error":"#VALUE!"}},{"$error":"#VALUE!"},{"$error":"#VALUE!"},{"$error":"#VALUE!"},{"$error":"#VALUE!"},{"$error":"#VALUE!"},{"$error":"#VALUE!"},{"$error":"#VALUE!"},{"$error":"#VALUE!"},{"$error":"#VALUE!"},{"$error":"#VALUE!"},{"$error":"#VALUE!"},{"$error":"#VALUE!"},{"$f":"VLOOKUP($AG120,Tabel!$J$3:$K$109,2,FALSE)","v":{"$error":"#VALUE!"}},{"$f":"Tabel!$K$106&$A120&$AH120&Tabel!$K$109","v":{"$error":"#VALUE!"}},{"$error":"#VALUE!"}]
[{"$f":"CONCATENATE(gastenlijst[[#This Row],[Post]],gastenlijst[[#This Row],[Code]],gastenlijst[[#This Row],[Huisnr aangepast]],gastenlijst[[#This Row],[Yes]])","v":{"$error":"#VALUE!"}},{"$error":"#VALUE!"},{"$error":"#VALUE!"},{"$error":"#VALUE!"},{"$error":"#VALUE!"},{"$error":"#VALUE!"},{"$error":"#VALUE!"},{"$error":"#VALUE!"},{"$error":"#VALUE!"},{"$error":"#VALUE!"},{"$error":"#VALUE!"},{"$f":"VLOOKUP(B121,Tabel!$K$3:$L$109,2,FALSE)","v":{"$error":"#VALUE!"}},{"$f":"VLOOKUP(C121,Tabel!$K$3:$L$109,2,FALSE)","v":{"$error":"#VALUE!"}},{"$f":"VLOOKUP(D121,Tabel!$K$3:$L$109,2,FALSE)","v":{"$error":"#VALUE!"}},{"$f":"VLOOKUP(E121,Tabel!$K$3:$L$109,2,FALSE)","v":{"$error":"#VALUE!"}},{"$f":"VLOOKUP(F121,Tabel!$K$3:$L$109,2,FALSE)","v":{"$error":"#VALUE!"}},{"$f":"VLOOKUP(G121,Tabel!$K$3:$L$109,2,FALSE)","v":{"$error":"#VALUE!"}},{"$f":"VLOOKUP(H121,Tabel!$K$3:$L$109,2,FALSE)","v":{"$error":"#VALUE!"}},{"$f":"VLOOKUP(I121,Tabel!$K$3:$L$109,2,FALSE)","v":{"$error":"#VALUE!"}},{"$f":"VLOOKUP(J121,Tabel!$K$3:$L$109,2,FALSE)","v":{"$error":"#VALUE!"}},{"$f":"VLOOKUP(K121,Tabel!$K$3:$L$109,2,FALSE)","v":{"$error":"#VALUE!"}},{"$error":"#VALUE!"},{"$error":"#VALUE!"},{"$error":"#VALUE!"},{"$error":"#VALUE!"},{"$error":"#VALUE!"},{"$error":"#VALUE!"},{"$error":"#VALUE!"},{"$error":"#VALUE!"},{"$error":"#VALUE!"},{"$error":"#VALUE!"},{"$error":"#VALUE!"},{"$error":"#VALUE!"},{"$f":"VLOOKUP($AG121,Tabel!$J$3:$K$109,2,FALSE)","v":{"$error":"#VALUE!"}},{"$f":"Tabel!$K$106&$A121&$AH121&Tabel!$K$109","v":{"$error":"#VALUE!"}},{"$error":"#VALUE!"}]
[{"$f":"CONCATENATE(gastenlijst[[#This Row],[Post]],gastenlijst[[#This Row],[Code]],gastenlijst[[#This Row],[Huisnr aangepast]],gastenlijst[[#This Row],[Yes]])","v":{"$error":"#VALUE!"}},{"$error":"#VALUE!"},{"$error":"#VALUE!"},{"$error":"#VALUE!"},{"$error":"#VALUE!"},{"$error":"#VALUE!"},{"$error":"#VALUE!"},{"$error":"#VALUE!"},{"$error":"#VALUE!"},{"$error":"#VALUE!"},{"$error":"#VALUE!"},{"$f":"VLOOKUP(B122,Tabel!$K$3:$L$109,2,FALSE)","v":{"$error":"#VALUE!"}},{"$f":"VLOOKUP(C122,Tabel!$K$3:$L$109,2,FALSE)","v":{"$error":"#VALUE!"}},{"$f":"VLOOKUP(D122,Tabel!$K$3:$L$109,2,FALSE)","v":{"$error":"#VALUE!"}},{"$f":"VLOOKUP(E122,Tabel!$K$3:$L$109,2,FALSE)","v":{"$error":"#VALUE!"}},{"$f":"VLOOKUP(F122,Tabel!$K$3:$L$109,2,FALSE)","v":{"$error":"#VALUE!"}},{"$f":"VLOOKUP(G122,Tabel!$K$3:$L$109,2,FALSE)","v":{"$error":"#VALUE!"}},{"$f":"VLOOKUP(H122,Tabel!$K$3:$L$109,2,FALSE)","v":{"$error":"#VALUE!"}},{"$f":"VLOOKUP(I122,Tabel!$K$3:$L$109,2,FALSE)","v":{"$error":"#VALUE!"}},{"$f":"VLOOKUP(J122,Tabel!$K$3:$L$109,2,FALSE)","v":{"$error":"#VALUE!"}},{"$f":"VLOOKUP(K122,Tabel!$K$3:$L$109,2,FALSE)","v":{"$error":"#VALUE!"}},{"$error":"#VALUE!"},{"$error":"#VALUE!"},{"$error":"#VALUE!"},{"$error":"#VALUE!"},{"$error":"#VALUE!"},{"$error":"#VALUE!"},{"$error":"#VALUE!"},{"$error":"#VALUE!"},{"$error":"#VALUE!"},{"$error":"#VALUE!"},{"$error":"#VALUE!"},{"$error":"#VALUE!"},{"$f":"VLOOKUP($AG122,Tabel!$J$3:$K$109,2,FALSE)","v":{"$error":"#VALUE!"}},{"$f":"Tabel!$K$106&$A122&$AH122&Tabel!$K$109","v":{"$error":"#VALUE!"}},{"$error":"#VALUE!"}]
[{"$f":"CONCATENATE(gastenlijst[[#This Row],[Post]],gastenlijst[[#This Row],[Code]],gastenlijst[[#This Row],[Huisnr aangepast]],gastenlijst[[#This Row],[Yes]])","v":{"$error":"#VALUE!"}},{"$error":"#VALUE!"},{"$error":"#VALUE!"},{"$error":"#VALUE!"},{"$error":"#VALUE!"},{"$error":"#VALUE!"},{"$error":"#VALUE!"},{"$error":"#VALUE!"},{"$error":"#VALUE!"},{"$error":"#VALUE!"},{"$error":"#VALUE!"},{"$f":"VLOOKUP(B123,Tabel!$K$3:$L$109,2,FALSE)","v":{"$error":"#VALUE!"}},{"$f":"VLOOKUP(C123,Tabel!$K$3:$L$109,2,FALSE)","v":{"$error":"#VALUE!"}},{"$f":"VLOOKUP(D123,Tabel!$K$3:$L$109,2,FALSE)","v":{"$error":"#VALUE!"}},{"$f":"VLOOKUP(E123,Tabel!$K$3:$L$109,2,FALSE)","v":{"$error":"#VALUE!"}},{"$f":"VLOOKUP(F123,Tabel!$K$3:$L$109,2,FALSE)","v":{"$error":"#VALUE!"}},{"$f":"VLOOKUP(G123,Tabel!$K$3:$L$109,2,FALSE)","v":{"$error":"#VALUE!"}},{"$f":"VLOOKUP(H123,Tabel!$K$3:$L$109,2,FALSE)","v":{"$error":"#VALUE!"}},{"$f":"VLOOKUP(I123,Tabel!$K$3:$L$109,2,FALSE)","v":{"$error":"#VALUE!"}},{"$f":"VLOOKUP(J123,Tabel!$K$3:$L$109,2,FALSE)","v":{"$error":"#VALUE!"}},{"$f":"VLOOKUP(K123,Tabel!$K$3:$L$109,2,FALSE)","v":{"$error":"#VALUE!"}},{"$error":"#VALUE!"},{"$error":"#VALUE!"},{"$error":"#VALUE!"},{"$error":"#VALUE!"},{"$error":"#VALUE!"},{"$error":"#VALUE!"},{"$error":"#VALUE!"},{"$error":"#VALUE!"},{"$error":"#VALUE!"},{"$error":"#VALUE!"},{"$error":"#VALUE!"},{"$error":"#VALUE!"},{"$f":"VLOOKUP($AG123,Tabel!$J$3:$K$109,2,FALSE)","v":{"$error":"#VALUE!"}},{"$f":"Tabel!$K$106&$A123&$AH123&Tabel!$K$109","v":{"$error":"#VALUE!"}},{"$error":"#VALUE!"}]
[{"$f":"CONCATENATE(gastenlijst[[#This Row],[Post]],gastenlijst[[#This Row],[Code]],gastenlijst[[#This Row],[Huisnr aangepast]],gastenlijst[[#This Row],[Yes]])","v":{"$error":"#VALUE!"}},{"$error":"#VALUE!"},{"$error":"#VALUE!"},{"$error":"#VALUE!"},{"$error":"#VALUE!"},{"$error":"#VALUE!"},{"$error":"#VALUE!"},{"$error":"#VALUE!"},{"$error":"#VALUE!"},{"$error":"#VALUE!"},{"$error":"#VALUE!"},{"$f":"VLOOKUP(B124,Tabel!$K$3:$L$109,2,FALSE)","v":{"$error":"#VALUE!"}},{"$f":"VLOOKUP(C124,Tabel!$K$3:$L$109,2,FALSE)","v":{"$error":"#VALUE!"}},{"$f":"VLOOKUP(D124,Tabel!$K$3:$L$109,2,FALSE)","v":{"$error":"#VALUE!"}},{"$f":"VLOOKUP(E124,Tabel!$K$3:$L$109,2,FALSE)","v":{"$error":"#VALUE!"}},{"$f":"VLOOKUP(F124,Tabel!$K$3:$L$109,2,FALSE)","v":{"$error":"#VALUE!"}},{"$f":"VLOOKUP(G124,Tabel!$K$3:$L$109,2,FALSE)","v":{"$error":"#VALUE!"}},{"$f":"VLOOKUP(H124,Tabel!$K$3:$L$109,2,FALSE)","v":{"$error":"#VALUE!"}},{"$f":"VLOOKUP(I124,Tabel!$K$3:$L$109,2,FALSE)","v":{"$error":"#VALUE!"}},{"$f":"VLOOKUP(J124,Tabel!$K$3:$L$109,2,FALSE)","v":{"$error":"#VALUE!"}},{"$f":"VLOOKUP(K124,Tabel!$K$3:$L$109,2,FALSE)","v":{"$error":"#VALUE!"}},{"$error":"#VALUE!"},{"$error":"#VALUE!"},{"$error":"#VALUE!"},{"$error":"#VALUE!"},{"$error":"#VALUE!"},{"$error":"#VALUE!"},{"$error":"#VALUE!"},{"$error":"#VALUE!"},{"$error":"#VALUE!"},{"$error":"#VALUE!"},{"$error":"#VALUE!"},{"$error":"#VALUE!"},{"$f":"VLOOKUP($AG124,Tabel!$J$3:$K$109,2,FALSE)","v":{"$error":"#VALUE!"}},{"$f":"Tabel!$K$106&$A124&$AH124&Tabel!$K$109","v":{"$error":"#VALUE!"}},{"$error":"#VALUE!"}]
[{"$f":"CONCATENATE(gastenlijst[[#This Row],[Post]],gastenlijst[[#This Row],[Code]],gastenlijst[[#This Row],[Huisnr aangepast]],gastenlijst[[#This Row],[Yes]])","v":{"$error":"#VALUE!"}},{"$error":"#VALUE!"},{"$error":"#VALUE!"},{"$error":"#VALUE!"},{"$error":"#VALUE!"},{"$error":"#VALUE!"},{"$error":"#VALUE!"},{"$error":"#VALUE!"},{"$error":"#VALUE!"},{"$error":"#VALUE!"},{"$error":"#VALUE!"},{"$f":"VLOOKUP(B125,Tabel!$K$3:$L$109,2,FALSE)","v":{"$error":"#VALUE!"}},{"$f":"VLOOKUP(C125,Tabel!$K$3:$L$109,2,FALSE)","v":{"$error":"#VALUE!"}},{"$f":"VLOOKUP(D125,Tabel!$K$3:$L$109,2,FALSE)","v":{"$error":"#VALUE!"}},{"$f":"VLOOKUP(E125,Tabel!$K$3:$L$109,2,FALSE)","v":{"$error":"#VALUE!"}},{"$f":"VLOOKUP(F125,Tabel!$K$3:$L$109,2,FALSE)","v":{"$error":"#VALUE!"}},{"$f":"VLOOKUP(G125,Tabel!$K$3:$L$109,2,FALSE)","v":{"$error":"#VALUE!"}},{"$f":"VLOOKUP(H125,Tabel!$K$3:$L$109,2,FALSE)","v":{"$error":"#VALUE!"}},{"$f":"VLOOKUP(I125,Tabel!$K$3:$L$109,2,FALSE)","v":{"$error":"#VALUE!"}},{"$f":"VLOOKUP(J125,Tabel!$K$3:$L$109,2,FALSE)","v":{"$error":"#VALUE!"}},{"$f":"VLOOKUP(K125,Tabel!$K$3:$L$109,2,FALSE)","v":{"$error":"#VALUE!"}},{"$error":"#VALUE!"},{"$error":"#VALUE!"},{"$error":"#VALUE!"},{"$error":"#VALUE!"},{"$error":"#VALUE!"},{"$error":"#VALUE!"},{"$error":"#VALUE!"},{"$error":"#VALUE!"},{"$error":"#VALUE!"},{"$error":"#VALUE!"},{"$error":"#VALUE!"},{"$error":"#VALUE!"},{"$f":"VLOOKUP($AG125,Tabel!$J$3:$K$109,2,FALSE)","v":{"$error":"#VALUE!"}},{"$f":"Tabel!$K$106&$A125&$AH125&Tabel!$K$109","v":{"$error":"#VALUE!"}},{"$error":"#VALUE!"}]
[{"$f":"CONCATENATE(gastenlijst[[#This Row],[Post]],gastenlijst[[#This Row],[Code]],gastenlijst[[#This Row],[Huisnr aangepast]],gastenlijst[[#This Row],[Yes]])","v":{"$error":"#VALUE!"}},{"$error":"#VALUE!"},{"$error":"#VALUE!"},{"$error":"#VALUE!"},{"$error":"#VALUE!"},{"$error":"#VALUE!"},{"$error":"#VALUE!"},{"$error":"#VALUE!"},{"$error":"#VALUE!"},{"$error":"#VALUE!"},{"$error":"#VALUE!"},{"$f":"VLOOKUP(B126,Tabel!$K$3:$L$109,2,FALSE)","v":{"$error":"#VALUE!"}},{"$f":"VLOOKUP(C126,Tabel!$K$3:$L$109,2,FALSE)","v":{"$error":"#VALUE!"}},{"$f":"VLOOKUP(D126,Tabel!$K$3:$L$109,2,FALSE)","v":{"$error":"#VALUE!"}},{"$f":"VLOOKUP(E126,Tabel!$K$3:$L$109,2,FALSE)","v":{"$error":"#VALUE!"}},{"$f":"VLOOKUP(F126,Tabel!$K$3:$L$109,2,FALSE)","v":{"$error":"#VALUE!"}},{"$f":"VLOOKUP(G126,Tabel!$K$3:$L$109,2,FALSE)","v":{"$error":"#VALUE!"}},{"$f":"VLOOKUP(H126,Tabel!$K$3:$L$109,2,FALSE)","v":{"$error":"#VALUE!"}},{"$f":"VLOOKUP(I126,Tabel!$K$3:$L$109,2,FALSE)","v":{"$error":"#VALUE!"}},{"$f":"VLOOKUP(J126,Tabel!$K$3:$L$109,2,FALSE)","v":{"$error":"#VALUE!"}},{"$f":"VLOOKUP(K126,Tabel!$K$3:$L$109,2,FALSE)","v":{"$error":"#VALUE!"}},{"$error":"#VALUE!"},{"$error":"#VALUE!"},{"$error":"#VALUE!"},{"$error":"#VALUE!"},{"$error":"#VALUE!"},{"$error":"#VALUE!"},{"$error":"#VALUE!"},{"$error":"#VALUE!"},{"$error":"#VALUE!"},{"$error":"#VALUE!"},{"$error":"#VALUE!"},{"$error":"#VALUE!"},{"$f":"VLOOKUP($AG126,Tabel!$J$3:$K$109,2,FALSE)","v":{"$error":"#VALUE!"}},{"$f":"Tabel!$K$106&$A126&$AH126&Tabel!$K$109","v":{"$error":"#VALUE!"}},{"$error":"#VALUE!"}]
[{"$f":"CONCATENATE(gastenlijst[[#This Row],[Post]],gastenlijst[[#This Row],[Code]],gastenlijst[[#This Row],[Huisnr aangepast]],gastenlijst[[#This Row],[Yes]])","v":{"$error":"#VALUE!"}},{"$error":"#VALUE!"},{"$error":"#VALUE!"},{"$error":"#VALUE!"},{"$error":"#VALUE!"},{"$error":"#VALUE!"},{"$error":"#VALUE!"},{"$error":"#VALUE!"},{"$error":"#VALUE!"},{"$error":"#VALUE!"},{"$error":"#VALUE!"},{"$f":"VLOOKUP(B127,Tabel!$K$3:$L$109,2,FALSE)","v":{"$error":"#VALUE!"}},{"$f":"VLOOKUP(C127,Tabel!$K$3:$L$109,2,FALSE)","v":{"$error":"#VALUE!"}},{"$f":"VLOOKUP(D127,Tabel!$K$3:$L$109,2,FALSE)","v":{"$error":"#VALUE!"}},{"$f":"VLOOKUP(E127,Tabel!$K$3:$L$109,2,FALSE)","v":{"$error":"#VALUE!"}},{"$f":"VLOOKUP(F127,Tabel!$K$3:$L$109,2,FALSE)","v":{"$error":"#VALUE!"}},{"$f":"VLOOKUP(G127,Tabel!$K$3:$L$109,2,FALSE)","v":{"$error":"#VALUE!"}},{"$f":"VLOOKUP(H127,Tabel!$K$3:$L$109,2,FALSE)","v":{"$error":"#VALUE!"}},{"$f":"VLOOKUP(I127,Tabel!$K$3:$L$109,2,FALSE)","v":{"$error":"#VALUE!"}},{"$f":"VLOOKUP(J127,Tabel!$K$3:$L$109,2,FALSE)","v":{"$error":"#VALUE!"}},{"$f":"VLOOKUP(K127,Tabel!$K$3:$L$109,2,FALSE)","v":{"$error":"#VALUE!"}},{"$error":"#VALUE!"},{"$error":"#VALUE!"},{"$error":"#VALUE!"},{"$error":"#VALUE!"},{"$error":"#VALUE!"},{"$error":"#VALUE!"},{"$error":"#VALUE!"},{"$error":"#VALUE!"},{"$error":"#VALUE!"},{"$error":"#VALUE!"},{"$error":"#VALUE!"},{"$error":"#VALUE!"},{"$f":"VLOOKUP($AG127,Tabel!$J$3:$K$109,2,FALSE)","v":{"$error":"#VALUE!"}},{"$f":"Tabel!$K$106&$A127&$AH127&Tabel!$K$109","v":{"$error":"#VALUE!"}},{"$error":"#VALUE!"}]
[{"$f":"CONCATENATE(gastenlijst[[#This Row],[Post]],gastenlijst[[#This Row],[Code]],gastenlijst[[#This Row],[Huisnr aangepast]],gastenlijst[[#This Row],[Yes]])","v":{"$error":"#VALUE!"}},{"$error":"#VALUE!"},{"$error":"#VALUE!"},{"$error":"#VALUE!"},{"$error":"#VALUE!"},{"$error":"#VALUE!"},{"$error":"#VALUE!"},{"$error":"#VALUE!"},{"$error":"#VALUE!"},{"$error":"#VALUE!"},{"$error":"#VALUE!"},{"$f":"VLOOKUP(B128,Tabel!$K$3:$L$109,2,FALSE)","v":{"$error":"#VALUE!"}},{"$f":"VLOOKUP(C128,Tabel!$K$3:$L$109,2,FALSE)","v":{"$error":"#VALUE!"}},{"$f":"VLOOKUP(D128,Tabel!$K$3:$L$109,2,FALSE)","v":{"$error":"#VALUE!"}},{"$f":"VLOOKUP(E128,Tabel!$K$3:$L$109,2,FALSE)","v":{"$error":"#VALUE!"}},{"$f":"VLOOKUP(F128,Tabel!$K$3:$L$109,2,FALSE)","v":{"$error":"#VALUE!"}},{"$f":"VLOOKUP(G128,Tabel!$K$3:$L$109,2,FALSE)","v":{"$error":"#VALUE!"}},{"$f":"VLOOKUP(H128,Tabel!$K$3:$L$109,2,FALSE)","v":{"$error":"#VALUE!"}},{"$f":"VLOOKUP(I128,Tabel!$K$3:$L$109,2,FALSE)","v":{"$error":"#VALUE!"}},{"$f":"VLOOKUP(J128,Tabel!$K$3:$L$109,2,FALSE)","v":{"$error":"#VALUE!"}},{"$f":"VLOOKUP(K128,Tabel!$K$3:$L$109,2,FALSE)","v":{"$error":"#VALUE!"}},{"$error":"#VALUE!"},{"$error":"#VALUE!"},{"$error":"#VALUE!"},{"$error":"#VALUE!"},{"$error":"#VALUE!"},{"$error":"#VALUE!"},{"$error":"#VALUE!"},{"$error":"#VALUE!"},{"$error":"#VALUE!"},{"$error":"#VALUE!"},{"$error":"#VALUE!"},{"$error":"#VALUE!"},{"$f":"VLOOKUP($AG128,Tabel!$J$3:$K$109,2,FALSE)","v":{"$error":"#VALUE!"}},{"$f":"Tabel!$K$106&$A128&$AH128&Tabel!$K$109","v":{"$error":"#VALUE!"}},{"$error":"#VALUE!"}]
[{"$f":"CONCATENATE(gastenlijst[[#This Row],[Post]],gastenlijst[[#This Row],[Code]],gastenlijst[[#This Row],[Huisnr aangepast]],gastenlijst[[#This Row],[Yes]])","v":{"$error":"#VALUE!"}},{"$error":"#VALUE!"},{"$error":"#VALUE!"},{"$error":"#VALUE!"},{"$error":"#VALUE!"},{"$error":"#VALUE!"},{"$error":"#VALUE!"},{"$error":"#VALUE!"},{"$error":"#VALUE!"},{"$error":"#VALUE!"},{"$error":"#VALUE!"},{"$f":"VLOOKUP(B129,Tabel!$K$3:$L$109,2,FALSE)","v":{"$error":"#VALUE!"}},{"$f":"VLOOKUP(C129,Tabel!$K$3:$L$109,2,FALSE)","v":{"$error":"#VALUE!"}},{"$f":"VLOOKUP(D129,Tabel!$K$3:$L$109,2,FALSE)","v":{"$error":"#VALUE!"}},{"$f":"VLOOKUP(E129,Tabel!$K$3:$L$109,2,FALSE)","v":{"$error":"#VALUE!"}},{"$f":"VLOOKUP(F129,Tabel!$K$3:$L$109,2,FALSE)","v":{"$error":"#VALUE!"}},{"$f":"VLOOKUP(G129,Tabel!$K$3:$L$109,2,FALSE)","v":{"$error":"#VALUE!"}},{"$f":"VLOOKUP(H129,Tabel!$K$3:$L$109,2,FALSE)","v":{"$error":"#VALUE!"}},{"$f":"VLOOKUP(I129,Tabel!$K$3:$L$109,2,FALSE)","v":{"$error":"#VALUE!"}},{"$f":"VLOOKUP(J129,Tabel!$K$3:$L$109,2,FALSE)","v":{"$error":"#VALUE!"}},{"$f":"VLOOKUP(K129,Tabel!$K$3:$L$109,2,FALSE)","v":{"$error":"#VALUE!"}},{"$error":"#VALUE!"},{"$error":"#VALUE!"},{"$error":"#VALUE!"},{"$error":"#VALUE!"},{"$error":"#VALUE!"},{"$error":"#VALUE!"},{"$error":"#VALUE!"},{"$error":"#VALUE!"},{"$error":"#VALUE!"},{"$error":"#VALUE!"},{"$error":"#VALUE!"},{"$error":"#VALUE!"},{"$f":"VLOOKUP($AG129,Tabel!$J$3:$K$109,2,FALSE)","v":{"$error":"#VALUE!"}},{"$f":"Tabel!$K$106&$A129&$AH129&Tabel!$K$109","v":{"$error":"#VALUE!"}},{"$error":"#VALUE!"}]
[{"$f":"CONCATENATE(gastenlijst[[#This Row],[Post]],gastenlijst[[#This Row],[Code]],gastenlijst[[#This Row],[Huisnr aangepast]],gastenlijst[[#This Row],[Yes]])","v":{"$error":"#VALUE!"}},{"$error":"#VALUE!"},{"$error":"#VALUE!"},{"$error":"#VALUE!"},{"$error":"#VALUE!"},{"$error":"#VALUE!"},{"$error":"#VALUE!"},{"$error":"#VALUE!"},{"$error":"#VALUE!"},{"$error":"#VALUE!"},{"$error":"#VALUE!"},{"$f":"VLOOKUP(B130,Tabel!$K$3:$L$109,2,FALSE)","v":{"$error":"#VALUE!"}},{"$f":"VLOOKUP(C130,Tabel!$K$3:$L$109,2,FALSE)","v":{"$error":"#VALUE!"}},{"$f":"VLOOKUP(D130,Tabel!$K$3:$L$109,2,FALSE)","v":{"$error":"#VALUE!"}},{"$f":"VLOOKUP(E130,Tabel!$K$3:$L$109,2,FALSE)","v":{"$error":"#VALUE!"}},{"$f":"VLOOKUP(F130,Tabel!$K$3:$L$109,2,FALSE)","v":{"$error":"#VALUE!"}},{"$f":"VLOOKUP(G130,Tabel!$K$3:$L$109,2,FALSE)","v":{"$error":"#VALUE!"}},{"$f":"VLOOKUP(H130,Tabel!$K$3:$L$109,2,FALSE)","v":{"$error":"#VALUE!"}},{"$f":"VLOOKUP(I130,Tabel!$K$3:$L$109,2,FALSE)","v":{"$error":"#VALUE!"}},{"$f":"VLOOKUP(J130,Tabel!$K$3:$L$109,2,FALSE)","v":{"$error":"#VALUE!"}},{"$f":"VLOOKUP(K130,Tabel!$K$3:$L$109,2,FALSE)","v":{"$error":"#VALUE!"}},{"$error":"#VALUE!"},{"$error":"#VALUE!"},{"$error":"#VALUE!"},{"$error":"#VALUE!"},{"$error":"#VALUE!"},{"$error":"#VALUE!"},{"$error":"#VALUE!"},{"$error":"#VALUE!"},{"$error":"#VALUE!"},{"$error":"#VALUE!"},{"$error":"#VALUE!"},{"$error":"#VALUE!"},{"$f":"VLOOKUP($AG130,Tabel!$J$3:$K$109,2,FALSE)","v":{"$error":"#VALUE!"}},{"$f":"Tabel!$K$106&$A130&$AH130&Tabel!$K$109","v":{"$error":"#VALUE!"}},{"$error":"#VALUE!"}]
[{"$f":"CONCATENATE(gastenlijst[[#This Row],[Post]],gastenlijst[[#This Row],[Code]],gastenlijst[[#This Row],[Huisnr aangepast]],gastenlijst[[#This Row],[Yes]])","v":{"$error":"#VALUE!"}},{"$error":"#VALUE!"},{"$error":"#VALUE!"},{"$error":"#VALUE!"},{"$error":"#VALUE!"},{"$error":"#VALUE!"},{"$error":"#VALUE!"},{"$error":"#VALUE!"},{"$error":"#VALUE!"},{"$error":"#VALUE!"},{"$error":"#VALUE!"},{"$f":"VLOOKUP(B131,Tabel!$K$3:$L$109,2,FALSE)","v":{"$error":"#VALUE!"}},{"$f":"VLOOKUP(C131,Tabel!$K$3:$L$109,2,FALSE)","v":{"$error":"#VALUE!"}},{"$f":"VLOOKUP(D131,Tabel!$K$3:$L$109,2,FALSE)","v":{"$error":"#VALUE!"}},{"$f":"VLOOKUP(E131,Tabel!$K$3:$L$109,2,FALSE)","v":{"$error":"#VALUE!"}},{"$f":"VLOOKUP(F131,Tabel!$K$3:$L$109,2,FALSE)","v":{"$error":"#VALUE!"}},{"$f":"VLOOKUP(G131,Tabel!$K$3:$L$109,2,FALSE)","v":{"$error":"#VALUE!"}},{"$f":"VLOOKUP(H131,Tabel!$K$3:$L$109,2,FALSE)","v":{"$error":"#VALUE!"}},{"$f":"VLOOKUP(I131,Tabel!$K$3:$L$109,2,FALSE)","v":{"$error":"#VALUE!"}},{"$f":"VLOOKUP(J131,Tabel!$K$3:$L$109,2,FALSE)","v":{"$error":"#VALUE!"}},{"$f":"VLOOKUP(K131,Tabel!$K$3:$L$109,2,FALSE)","v":{"$error":"#VALUE!"}},{"$error":"#VALUE!"},{"$error":"#VALUE!"},{"$error":"#VALUE!"},{"$error":"#VALUE!"},{"$error":"#VALUE!"},{"$error":"#VALUE!"},{"$error":"#VALUE!"},{"$error":"#VALUE!"},{"$error":"#VALUE!"},{"$error":"#VALUE!"},{"$error":"#VALUE!"},{"$error":"#VALUE!"},{"$f":"VLOOKUP($AG131,Tabel!$J$3:$K$109,2,FALSE)","v":{"$error":"#VALUE!"}},{"$f":"Tabel!$K$106&$A131&$AH131&Tabel!$K$109","v":{"$error":"#VALUE!"}},{"$error":"#VALUE!"}]
[{"$f":"CONCATENATE(gastenlijst[[#This Row],[Post]],gastenlijst[[#This Row],[Code]],gastenlijst[[#This Row],[Huisnr aangepast]],gastenlijst[[#This Row],[Yes]])","v":{"$error":"#VALUE!"}},{"$error":"#VALUE!"},{"$error":"#VALUE!"},{"$error":"#VALUE!"},{"$error":"#VALUE!"},{"$error":"#VALUE!"},{"$error":"#VALUE!"},{"$error":"#VALUE!"},{"$error":"#VALUE!"},{"$error":"#VALUE!"},{"$error":"#VALUE!"},{"$f":"VLOOKUP(B132,Tabel!$K$3:$L$109,2,FALSE)","v":{"$error":"#VALUE!"}},{"$f":"VLOOKUP(C132,Tabel!$K$3:$L$109,2,FALSE)","v":{"$error":"#VALUE!"}},{"$f":"VLOOKUP(D132,Tabel!$K$3:$L$109,2,FALSE)","v":{"$error":"#VALUE!"}},{"$f":"VLOOKUP(E132,Tabel!$K$3:$L$109,2,FALSE)","v":{"$error":"#VALUE!"}},{"$f":"VLOOKUP(F132,Tabel!$K$3:$L$109,2,FALSE)","v":{"$error":"#VALUE!"}},{"$f":"VLOOKUP(G132,Tabel!$K$3:$L$109,2,FALSE)","v":{"$error":"#VALUE!"}},{"$f":"VLOOKUP(H132,Tabel!$K$3:$L$109,2,FALSE)","v":{"$error":"#VALUE!"}},{"$f":"VLOOKUP(I132,Tabel!$K$3:$L$109,2,FALSE)","v":{"$error":"#VALUE!"}},{"$f":"VLOOKUP(J132,Tabel!$K$3:$L$109,2,FALSE)","v":{"$error":"#VALUE!"}},{"$f":"VLOOKUP(K132,Tabel!$K$3:$L$109,2,FALSE)","v":{"$error":"#VALUE!"}},{"$error":"#VALUE!"},{"$error":"#VALUE!"},{"$error":"#VALUE!"},{"$error":"#VALUE!"},{"$error":"#VALUE!"},{"$error":"#VALUE!"},{"$error":"#VALUE!"},{"$error":"#VALUE!"},{"$error":"#VALUE!"},{"$error":"#VALUE!"},{"$error":"#VALUE!"},{"$error":"#VALUE!"},{"$f":"VLOOKUP($AG132,Tabel!$J$3:$K$109,2,FALSE)","v":{"$error":"#VALUE!"}},{"$f":"Tabel!$K$106&$A132&$AH132&Tabel!$K$109","v":{"$error":"#VALUE!"}},{"$error":"#VALUE!"}]
[{"$f":"CONCATENATE(gastenlijst[[#This Row],[Post]],gastenlijst[[#This Row],[Code]],gastenlijst[[#This Row],[Huisnr aangepast]],gastenlijst[[#This Row],[Yes]])","v":{"$error":"#VALUE!"}},{"$error":"#VALUE!"},{"$error":"#VALUE!"},{"$error":"#VALUE!"},{"$error":"#VALUE!"},{"$error":"#VALUE!"},{"$error":"#VALUE!"},{"$error":"#VALUE!"},{"$error":"#VALUE!"},{"$error":"#VALUE!"},{"$error":"#VALUE!"},{"$f":"VLOOKUP(B133,Tabel!$K$3:$L$109,2,FALSE)","v":{"$error":"#VALUE!"}},{"$f":"VLOOKUP(C133,Tabel!$K$3:$L$109,2,FALSE)","v":{"$error":"#VALUE!"}},{"$f":"VLOOKUP(D133,Tabel!$K$3:$L$109,2,FALSE)","v":{"$error":"#VALUE!"}},{"$f":"VLOOKUP(E133,Tabel!$K$3:$L$109,2,FALSE)","v":{"$error":"#VALUE!"}},{"$f":"VLOOKUP(F133,Tabel!$K$3:$L$109,2,FALSE)","v":{"$error":"#VALUE!"}},{"$f":"VLOOKUP(G133,Tabel!$K$3:$L$109,2,FALSE)","v":{"$error":"#VALUE!"}},{"$f":"VLOOKUP(H133,Tabel!$K$3:$L$109,2,FALSE)","v":{"$error":"#VALUE!"}},{"$f":"VLOOKUP(I133,Tabel!$K$3:$L$109,2,FALSE)","v":{"$error":"#VALUE!"}},{"$f":"VLOOKUP(J133,Tabel!$K$3:$L$109,2,FALSE)","v":{"$error":"#VALUE!"}},{"$f":"VLOOKUP(K133,Tabel!$K$3:$L$109,2,FALSE)","v":{"$error":"#VALUE!"}},{"$error":"#VALUE!"},{"$error":"#VALUE!"},{"$error":"#VALUE!"},{"$error":"#VALUE!"},{"$error":"#VALUE!"},{"$error":"#VALUE!"},{"$error":"#VALUE!"},{"$error":"#VALUE!"},{"$error":"#VALUE!"},{"$error":"#VALUE!"},{"$error":"#VALUE!"},{"$error":"#VALUE!"},{"$f":"VLOOKUP($AG133,Tabel!$J$3:$K$109,2,FALSE)","v":{"$error":"#VALUE!"}},{"$f":"Tabel!$K$106&$A133&$AH133&Tabel!$K$109","v":{"$error":"#VALUE!"}},{"$error":"#VALUE!"}]
[{"$f":"CONCATENATE(gastenlijst[[#This Row],[Post]],gastenlijst[[#This Row],[Code]],gastenlijst[[#This Row],[Huisnr aangepast]],gastenlijst[[#This Row],[Yes]])","v":{"$error":"#VALUE!"}},{"$error":"#VALUE!"},{"$error":"#VALUE!"},{"$error":"#VALUE!"},{"$error":"#VALUE!"},{"$error":"#VALUE!"},{"$error":"#VALUE!"},{"$error":"#VALUE!"},{"$error":"#VALUE!"},{"$error":"#VALUE!"},{"$error":"#VALUE!"},{"$f":"VLOOKUP(B134,Tabel!$K$3:$L$109,2,FALSE)","v":{"$error":"#VALUE!"}},{"$f":"VLOOKUP(C134,Tabel!$K$3:$L$109,2,FALSE)","v":{"$error":"#VALUE!"}},{"$f":"VLOOKUP(D134,Tabel!$K$3:$L$109,2,FALSE)","v":{"$error":"#VALUE!"}},{"$f":"VLOOKUP(E134,Tabel!$K$3:$L$109,2,FALSE)","v":{"$error":"#VALUE!"}},{"$f":"VLOOKUP(F134,Tabel!$K$3:$L$109,2,FALSE)","v":{"$error":"#VALUE!"}},{"$f":"VLOOKUP(G134,Tabel!$K$3:$L$109,2,FALSE)","v":{"$error":"#VALUE!"}},{"$f":"VLOOKUP(H134,Tabel!$K$3:$L$109,2,FALSE)","v":{"$error":"#VALUE!"}},{"$f":"VLOOKUP(I134,Tabel!$K$3:$L$109,2,FALSE)","v":{"$error":"#VALUE!"}},{"$f":"VLOOKUP(J134,Tabel!$K$3:$L$109,2,FALSE)","v":{"$error":"#VALUE!"}},{"$f":"VLOOKUP(K134,Tabel!$K$3:$L$109,2,FALSE)","v":{"$error":"#VALUE!"}},{"$error":"#VALUE!"},{"$error":"#VALUE!"},{"$error":"#VALUE!"},{"$error":"#VALUE!"},{"$error":"#VALUE!"},{"$error":"#VALUE!"},{"$error":"#VALUE!"},{"$error":"#VALUE!"},{"$error":"#VALUE!"},{"$error":"#VALUE!"},{"$error":"#VALUE!"},{"$error":"#VALUE!"},{"$f":"VLOOKUP($AG134,Tabel!$J$3:$K$109,2,FALSE)","v":{"$error":"#VALUE!"}},{"$f":"Tabel!$K$106&$A134&$AH134&Tabel!$K$109","v":{"$error":"#VALUE!"}},{"$error":"#VALUE!"}]
[{"$f":"CONCATENATE(gastenlijst[[#This Row],[Post]],gastenlijst[[#This Row],[Code]],gastenlijst[[#This Row],[Huisnr aangepast]],gastenlijst[[#This Row],[Yes]])","v":{"$error":"#VALUE!"}},{"$f":"MID(A135,1,1)","v":{"$error":"#VALUE!"}},{"$f":"MID(A135,2,1)","v":{"$error":"#VALUE!"}},{"$f":"MID(A135,3,1)","v":{"$error":"#VALUE!"}},{"$f":"MID(A135,4,1)","v":{"$error":"#VALUE!"}},{"$f":"MID(A135,5,1)","v":{"$error":"#VALUE!"}},{"$f":"MID(A135,6,1)","v":{"$error":"#VALUE!"}},{"$f":"MID(A135,7,1)","v":{"$error":"#VALUE!"}},{"$f":"MID(A135,8,1)","v":{"$error":"#VALUE!"}},{"$f":"MID(A135,9,1)","v":{"$error":"#VALUE!"}},{"$f":"MID(A135,10,1)","v":{"$error":"#VALUE!"}},{"$f":"VLOOKUP(B135,Tabel!$K$3:$L$109,2,FALSE)","v":{"$error":"#VALUE!"}},{"$f":"VLOOKUP(C135,Tabel!$K$3:$L$109,2,FALSE)","v":{"$error":"#VALUE!"}},{"$f":"VLOOKUP(D135,Tabel!$K$3:$L$109,2,FALSE)","v":{"$error":"#VALUE!"}},{"$f":"VLOOKUP(E135,Tabel!$K$3:$L$109,2,FALSE)","v":{"$error":"#VALUE!"}},{"$f":"VLOOKUP(F135,Tabel!$K$3:$L$109,2,FALSE)","v":{"$error":"#VALUE!"}},{"$f":"VLOOKUP(G135,Tabel!$K$3:$L$109,2,FALSE)","v":{"$error":"#VALUE!"}},{"$f":"VLOOKUP(H135,Tabel!$K$3:$L$109,2,FALSE)","v":{"$error":"#VALUE!"}},{"$f":"VLOOKUP(I135,Tabel!$K$3:$L$109,2,FALSE)","v":{"$error":"#VALUE!"}},{"$f":"VLOOKUP(J135,Tabel!$K$3:$L$109,2,FALSE)","v":{"$error":"#VALUE!"}},{"$f":"VLOOKUP(K135,Tabel!$K$3:$L$109,2,FALSE)","v":{"$error":"#VALUE!"}},{"$f":"$L135*1","v":{"$error":"#VALUE!"}},{"$f":"$M135*2","v":{"$error":"#VALUE!"}},{"$f":"$N135*3","v":{"$error":"#VALUE!"}},{"$f":"$O135*4","v":{"$error":"#VALUE!"}},{"$f":"$P135*5","v":{"$error":"#VALUE!"}},{"$f":"$Q135*5","v":{"$error":"#VALUE!"}},{"$f":"$R135*5","v":{"$error":"#VALUE!"}},{"$f":"$S135*5","v":{"$error":"#VALUE!"}},{"$f":"$T135*5","v":{"$error":"#VALUE!"}},{"$error":"#VALUE!"},{"$f":"103+V135+W135+X135+Y135+Z135+AE135","v":{"$error":"#VALUE!"}},{"$f":"MOD(AF135,103)","v":{"$error":"#VALUE!"}},{"$f":"VLOOKUP($AG135,Tabel!$J$3:$K$109,2,FALSE)","v":{"$error":"#VALUE!"}},{"$f":"Tabel!$K$106&$A135&$AH135&Tabel!$K$109","v":{"$error":"#VALUE!"}},{"$f":"AI135","v":{"$error":"#VALUE!"}}]
[{"$f":"CONCATENATE(gastenlijst[[#This Row],[Post]],gastenlijst[[#This Row],[Code]],gastenlijst[[#This Row],[Huisnr aangepast]],gastenlijst[[#This Row],[Yes]])","v":{"$error":"#VALUE!"}},{"$error":"#VALUE!"},{"$error":"#VALUE!"},{"$error":"#VALUE!"},{"$error":"#VALUE!"},{"$error":"#VALUE!"},{"$error":"#VALUE!"},{"$error":"#VALUE!"},{"$error":"#VALUE!"},{"$error":"#VALUE!"},{"$error":"#VALUE!"},{"$f":"VLOOKUP(B136,Tabel!$K$3:$L$109,2,FALSE)","v":{"$error":"#VALUE!"}},{"$f":"VLOOKUP(C136,Tabel!$K$3:$L$109,2,FALSE)","v":{"$error":"#VALUE!"}},{"$f":"VLOOKUP(D136,Tabel!$K$3:$L$109,2,FALSE)","v":{"$error":"#VALUE!"}},{"$f":"VLOOKUP(E136,Tabel!$K$3:$L$109,2,FALSE)","v":{"$error":"#VALUE!"}},{"$f":"VLOOKUP(F136,Tabel!$K$3:$L$109,2,FALSE)","v":{"$error":"#VALUE!"}},{"$f":"VLOOKUP(G136,Tabel!$K$3:$L$109,2,FALSE)","v":{"$error":"#VALUE!"}},{"$f":"VLOOKUP(H136,Tabel!$K$3:$L$109,2,FALSE)","v":{"$error":"#VALUE!"}},{"$f":"VLOOKUP(I136,Tabel!$K$3:$L$109,2,FALSE)","v":{"$error":"#VALUE!"}},{"$f":"VLOOKUP(J136,Tabel!$K$3:$L$109,2,FALSE)","v":{"$error":"#VALUE!"}},{"$f":"VLOOKUP(K136,Tabel!$K$3:$L$109,2,FALSE)","v":{"$error":"#VALUE!"}},{"$error":"#VALUE!"},{"$error":"#VALUE!"},{"$error":"#VALUE!"},{"$error":"#VALUE!"},{"$error":"#VALUE!"},{"$error":"#VALUE!"},{"$error":"#VALUE!"},{"$error":"#VALUE!"},{"$error":"#VALUE!"},{"$error":"#VALUE!"},{"$error":"#VALUE!"},{"$error":"#VALUE!"},{"$f":"VLOOKUP($AG136,Tabel!$J$3:$K$109,2,FALSE)","v":{"$error":"#VALUE!"}},{"$f":"Tabel!$K$106&$A136&$AH136&Tabel!$K$109","v":{"$error":"#VALUE!"}},{"$error":"#VALUE!"}]
[{"$f":"CONCATENATE(gastenlijst[[#This Row],[Post]],gastenlijst[[#This Row],[Code]],gastenlijst[[#This Row],[Huisnr aangepast]],gastenlijst[[#This Row],[Yes]])","v":{"$error":"#VALUE!"}},{"$error":"#VALUE!"},{"$error":"#VALUE!"},{"$error":"#VALUE!"},{"$error":"#VALUE!"},{"$error":"#VALUE!"},{"$error":"#VALUE!"},{"$error":"#VALUE!"},{"$error":"#VALUE!"},{"$error":"#VALUE!"},{"$error":"#VALUE!"},{"$f":"VLOOKUP(B137,Tabel!$K$3:$L$109,2,FALSE)","v":{"$error":"#VALUE!"}},{"$f":"VLOOKUP(C137,Tabel!$K$3:$L$109,2,FALSE)","v":{"$error":"#VALUE!"}},{"$f":"VLOOKUP(D137,Tabel!$K$3:$L$109,2,FALSE)","v":{"$error":"#VALUE!"}},{"$f":"VLOOKUP(E137,Tabel!$K$3:$L$109,2,FALSE)","v":{"$error":"#VALUE!"}},{"$f":"VLOOKUP(F137,Tabel!$K$3:$L$109,2,FALSE)","v":{"$error":"#VALUE!"}},{"$f":"VLOOKUP(G137,Tabel!$K$3:$L$109,2,FALSE)","v":{"$error":"#VALUE!"}},{"$f":"VLOOKUP(H137,Tabel!$K$3:$L$109,2,FALSE)","v":{"$error":"#VALUE!"}},{"$f":"VLOOKUP(I137,Tabel!$K$3:$L$109,2,FALSE)","v":{"$error":"#VALUE!"}},{"$f":"VLOOKUP(J137,Tabel!$K$3:$L$109,2,FALSE)","v":{"$error":"#VALUE!"}},{"$f":"VLOOKUP(K137,Tabel!$K$3:$L$109,2,FALSE)","v":{"$error":"#VALUE!"}},{"$error":"#VALUE!"},{"$error":"#VALUE!"},{"$error":"#VALUE!"},{"$error":"#VALUE!"},{"$error":"#VALUE!"},{"$error":"#VALUE!"},{"$error":"#VALUE!"},{"$error":"#VALUE!"},{"$error":"#VALUE!"},{"$error":"#VALUE!"},{"$error":"#VALUE!"},{"$error":"#VALUE!"},{"$f":"VLOOKUP($AG137,Tabel!$J$3:$K$109,2,FALSE)","v":{"$error":"#VALUE!"}},{"$f":"Tabel!$K$106&$A137&$AH137&Tabel!$K$109","v":{"$error":"#VALUE!"}},{"$error":"#VALUE!"}]
[{"$f":"CONCATENATE(gastenlijst[[#This Row],[Post]],gastenlijst[[#This Row],[Code]],gastenlijst[[#This Row],[Huisnr aangepast]],gastenlijst[[#This Row],[Yes]])","v":{"$error":"#VALUE!"}},{"$error":"#VALUE!"},{"$error":"#VALUE!"},{"$error":"#VALUE!"},{"$error":"#VALUE!"},{"$error":"#VALUE!"},{"$error":"#VALUE!"},{"$error":"#VALUE!"},{"$error":"#VALUE!"},{"$error":"#VALUE!"},{"$error":"#VALUE!"},{"$f":"VLOOKUP(B138,Tabel!$K$3:$L$109,2,FALSE)","v":{"$error":"#VALUE!"}},{"$f":"VLOOKUP(C138,Tabel!$K$3:$L$109,2,FALSE)","v":{"$error":"#VALUE!"}},{"$f":"VLOOKUP(D138,Tabel!$K$3:$L$109,2,FALSE)","v":{"$error":"#VALUE!"}},{"$f":"VLOOKUP(E138,Tabel!$K$3:$L$109,2,FALSE)","v":{"$error":"#VALUE!"}},{"$f":"VLOOKUP(F138,Tabel!$K$3:$L$109,2,FALSE)","v":{"$error":"#VALUE!"}},{"$f":"VLOOKUP(G138,Tabel!$K$3:$L$109,2,FALSE)","v":{"$error":"#VALUE!"}},{"$f":"VLOOKUP(H138,Tabel!$K$3:$L$109,2,FALSE)","v":{"$error":"#VALUE!"}},{"$f":"VLOOKUP(I138,Tabel!$K$3:$L$109,2,FALSE)","v":{"$error":"#VALUE!"}},{"$f":"VLOOKUP(J138,Tabel!$K$3:$L$109,2,FALSE)","v":{"$error":"#VALUE!"}},{"$f":"VLOOKUP(K138,Tabel!$K$3:$L$109,2,FALSE)","v":{"$error":"#VALUE!"}},{"$error":"#VALUE!"},{"$error":"#VALUE!"},{"$error":"#VALUE!"},{"$error":"#VALUE!"},{"$error":"#VALUE!"},{"$error":"#VALUE!"},{"$error":"#VALUE!"},{"$error":"#VALUE!"},{"$error":"#VALUE!"},{"$error":"#VALUE!"},{"$error":"#VALUE!"},{"$error":"#VALUE!"},{"$f":"VLOOKUP($AG138,Tabel!$J$3:$K$109,2,FALSE)","v":{"$error":"#VALUE!"}},{"$f":"Tabel!$K$106&$A138&$AH138&Tabel!$K$109","v":{"$error":"#VALUE!"}},{"$error":"#VALUE!"}]
[{"$f":"CONCATENATE(gastenlijst[[#This Row],[Post]],gastenlijst[[#This Row],[Code]],gastenlijst[[#This Row],[Huisnr aangepast]],gastenlijst[[#This Row],[Yes]])","v":{"$error":"#VALUE!"}},{"$error":"#VALUE!"},{"$error":"#VALUE!"},{"$error":"#VALUE!"},{"$error":"#VALUE!"},{"$error":"#VALUE!"},{"$error":"#VALUE!"},{"$error":"#VALUE!"},{"$error":"#VALUE!"},{"$error":"#VALUE!"},{"$error":"#VALUE!"},{"$f":"VLOOKUP(B139,Tabel!$K$3:$L$109,2,FALSE)","v":{"$error":"#VALUE!"}},{"$f":"VLOOKUP(C139,Tabel!$K$3:$L$109,2,FALSE)","v":{"$error":"#VALUE!"}},{"$f":"VLOOKUP(D139,Tabel!$K$3:$L$109,2,FALSE)","v":{"$error":"#VALUE!"}},{"$f":"VLOOKUP(E139,Tabel!$K$3:$L$109,2,FALSE)","v":{"$error":"#VALUE!"}},{"$f":"VLOOKUP(F139,Tabel!$K$3:$L$109,2,FALSE)","v":{"$error":"#VALUE!"}},{"$f":"VLOOKUP(G139,Tabel!$K$3:$L$109,2,FALSE)","v":{"$error":"#VALUE!"}},{"$f":"VLOOKUP(H139,Tabel!$K$3:$L$109,2,FALSE)","v":{"$error":"#VALUE!"}},{"$f":"VLOOKUP(I139,Tabel!$K$3:$L$109,2,FALSE)","v":{"$error":"#VALUE!"}},{"$f":"VLOOKUP(J139,Tabel!$K$3:$L$109,2,FALSE)","v":{"$error":"#VALUE!"}},{"$f":"VLOOKUP(K139,Tabel!$K$3:$L$109,2,FALSE)","v":{"$error":"#VALUE!"}},{"$error":"#VALUE!"},{"$error":"#VALUE!"},{"$error":"#VALUE!"},{"$error":"#VALUE!"},{"$error":"#VALUE!"},{"$error":"#VALUE!"},{"$error":"#VALUE!"},{"$error":"#VALUE!"},{"$error":"#VALUE!"},{"$error":"#VALUE!"},{"$error":"#VALUE!"},{"$error":"#VALUE!"},{"$f":"VLOOKUP($AG139,Tabel!$J$3:$K$109,2,FALSE)","v":{"$error":"#VALUE!"}},{"$f":"Tabel!$K$106&$A139&$AH139&Tabel!$K$109","v":{"$error":"#VALUE!"}},{"$error":"#VALUE!"}]
[{"$f":"CONCATENATE(gastenlijst[[#This Row],[Post]],gastenlijst[[#This Row],[Code]],gastenlijst[[#This Row],[Huisnr aangepast]],gastenlijst[[#This Row],[Yes]])","v":{"$error":"#VALUE!"}},{"$error":"#VALUE!"},{"$error":"#VALUE!"},{"$error":"#VALUE!"},{"$error":"#VALUE!"},{"$error":"#VALUE!"},{"$error":"#VALUE!"},{"$error":"#VALUE!"},{"$error":"#VALUE!"},{"$error":"#VALUE!"},{"$error":"#VALUE!"},{"$f":"VLOOKUP(B140,Tabel!$K$3:$L$109,2,FALSE)","v":{"$error":"#VALUE!"}},{"$f":"VLOOKUP(C140,Tabel!$K$3:$L$109,2,FALSE)","v":{"$error":"#VALUE!"}},{"$f":"VLOOKUP(D140,Tabel!$K$3:$L$109,2,FALSE)","v":{"$error":"#VALUE!"}},{"$f":"VLOOKUP(E140,Tabel!$K$3:$L$109,2,FALSE)","v":{"$error":"#VALUE!"}},{"$f":"VLOOKUP(F140,Tabel!$K$3:$L$109,2,FALSE)","v":{"$error":"#VALUE!"}},{"$f":"VLOOKUP(G140,Tabel!$K$3:$L$109,2,FALSE)","v":{"$error":"#VALUE!"}},{"$f":"VLOOKUP(H140,Tabel!$K$3:$L$109,2,FALSE)","v":{"$error":"#VALUE!"}},{"$f":"VLOOKUP(I140,Tabel!$K$3:$L$109,2,FALSE)","v":{"$error":"#VALUE!"}},{"$f":"VLOOKUP(J140,Tabel!$K$3:$L$109,2,FALSE)","v":{"$error":"#VALUE!"}},{"$f":"VLOOKUP(K140,Tabel!$K$3:$L$109,2,FALSE)","v":{"$error":"#VALUE!"}},{"$error":"#VALUE!"},{"$error":"#VALUE!"},{"$error":"#VALUE!"},{"$error":"#VALUE!"},{"$error":"#VALUE!"},{"$error":"#VALUE!"},{"$error":"#VALUE!"},{"$error":"#VALUE!"},{"$error":"#VALUE!"},{"$error":"#VALUE!"},{"$error":"#VALUE!"},{"$error":"#VALUE!"},{"$f":"VLOOKUP($AG140,Tabel!$J$3:$K$109,2,FALSE)","v":{"$error":"#VALUE!"}},{"$f":"Tabel!$K$106&$A140&$AH140&Tabel!$K$109","v":{"$error":"#VALUE!"}},{"$error":"#VALUE!"}]
[{"$f":"CONCATENATE(gastenlijst[[#This Row],[Post]],gastenlijst[[#This Row],[Code]],gastenlijst[[#This Row],[Huisnr aangepast]],gastenlijst[[#This Row],[Yes]])","v":{"$error":"#VALUE!"}},{"$error":"#VALUE!"},{"$error":"#VALUE!"},{"$error":"#VALUE!"},{"$error":"#VALUE!"},{"$error":"#VALUE!"},{"$error":"#VALUE!"},{"$error":"#VALUE!"},{"$error":"#VALUE!"},{"$error":"#VALUE!"},{"$error":"#VALUE!"},{"$f":"VLOOKUP(B141,Tabel!$K$3:$L$109,2,FALSE)","v":{"$error":"#VALUE!"}},{"$f":"VLOOKUP(C141,Tabel!$K$3:$L$109,2,FALSE)","v":{"$error":"#VALUE!"}},{"$f":"VLOOKUP(D141,Tabel!$K$3:$L$109,2,FALSE)","v":{"$error":"#VALUE!"}},{"$f":"VLOOKUP(E141,Tabel!$K$3:$L$109,2,FALSE)","v":{"$error":"#VALUE!"}},{"$f":"VLOOKUP(F141,Tabel!$K$3:$L$109,2,FALSE)","v":{"$error":"#VALUE!"}},{"$f":"VLOOKUP(G141,Tabel!$K$3:$L$109,2,FALSE)","v":{"$error":"#VALUE!"}},{"$f":"VLOOKUP(H141,Tabel!$K$3:$L$109,2,FALSE)","v":{"$error":"#VALUE!"}},{"$f":"VLOOKUP(I141,Tabel!$K$3:$L$109,2,FALSE)","v":{"$error":"#VALUE!"}},{"$f":"VLOOKUP(J141,Tabel!$K$3:$L$109,2,FALSE)","v":{"$error":"#VALUE!"}},{"$f":"VLOOKUP(K141,Tabel!$K$3:$L$109,2,FALSE)","v":{"$error":"#VALUE!"}},{"$error":"#VALUE!"},{"$error":"#VALUE!"},{"$error":"#VALUE!"},{"$error":"#VALUE!"},{"$error":"#VALUE!"},{"$error":"#VALUE!"},{"$error":"#VALUE!"},{"$error":"#VALUE!"},{"$error":"#VALUE!"},{"$error":"#VALUE!"},{"$error":"#VALUE!"},{"$error":"#VALUE!"},{"$f":"VLOOKUP($AG141,Tabel!$J$3:$K$109,2,FALSE)","v":{"$error":"#VALUE!"}},{"$f":"Tabel!$K$106&$A141&$AH141&Tabel!$K$109","v":{"$error":"#VALUE!"}},{"$error":"#VALUE!"}]
[{"$f":"CONCATENATE(gastenlijst[[#This Row],[Post]],gastenlijst[[#This Row],[Code]],gastenlijst[[#This Row],[Huisnr aangepast]],gastenlijst[[#This Row],[Yes]])","v":{"$error":"#VALUE!"}},{"$error":"#VALUE!"},{"$error":"#VALUE!"},{"$error":"#VALUE!"},{"$error":"#VALUE!"},{"$error":"#VALUE!"},{"$error":"#VALUE!"},{"$error":"#VALUE!"},{"$error":"#VALUE!"},{"$error":"#VALUE!"},{"$error":"#VALUE!"},{"$f":"VLOOKUP(B142,Tabel!$K$3:$L$109,2,FALSE)","v":{"$error":"#VALUE!"}},{"$f":"VLOOKUP(C142,Tabel!$K$3:$L$109,2,FALSE)","v":{"$error":"#VALUE!"}},{"$f":"VLOOKUP(D142,Tabel!$K$3:$L$109,2,FALSE)","v":{"$error":"#VALUE!"}},{"$f":"VLOOKUP(E142,Tabel!$K$3:$L$109,2,FALSE)","v":{"$error":"#VALUE!"}},{"$f":"VLOOKUP(F142,Tabel!$K$3:$L$109,2,FALSE)","v":{"$error":"#VALUE!"}},{"$f":"VLOOKUP(G142,Tabel!$K$3:$L$109,2,FALSE)","v":{"$error":"#VALUE!"}},{"$f":"VLOOKUP(H142,Tabel!$K$3:$L$109,2,FALSE)","v":{"$error":"#VALUE!"}},{"$f":"VLOOKUP(I142,Tabel!$K$3:$L$109,2,FALSE)","v":{"$error":"#VALUE!"}},{"$f":"VLOOKUP(J142,Tabel!$K$3:$L$109,2,FALSE)","v":{"$error":"#VALUE!"}},{"$f":"VLOOKUP(K142,Tabel!$K$3:$L$109,2,FALSE)","v":{"$error":"#VALUE!"}},{"$error":"#VALUE!"},{"$error":"#VALUE!"},{"$error":"#VALUE!"},{"$error":"#VALUE!"},{"$error":"#VALUE!"},{"$error":"#VALUE!"},{"$error":"#VALUE!"},{"$error":"#VALUE!"},{"$error":"#VALUE!"},{"$error":"#VALUE!"},{"$error":"#VALUE!"},{"$error":"#VALUE!"},{"$f":"VLOOKUP($AG142,Tabel!$J$3:$K$109,2,FALSE)","v":{"$error":"#VALUE!"}},{"$f":"Tabel!$K$106&$A142&$AH142&Tabel!$K$109","v":{"$error":"#VALUE!"}},{"$error":"#VALUE!"}]
[{"$f":"CONCATENATE(gastenlijst[[#This Row],[Post]],gastenlijst[[#This Row],[Code]],gastenlijst[[#This Row],[Huisnr aangepast]],gastenlijst[[#This Row],[Yes]])","v":{"$error":"#VALUE!"}},{"$error":"#VALUE!"},{"$error":"#VALUE!"},{"$error":"#VALUE!"},{"$error":"#VALUE!"},{"$error":"#VALUE!"},{"$error":"#VALUE!"},{"$error":"#VALUE!"},{"$error":"#VALUE!"},{"$error":"#VALUE!"},{"$error":"#VALUE!"},{"$f":"VLOOKUP(B143,Tabel!$K$3:$L$109,2,FALSE)","v":{"$error":"#VALUE!"}},{"$f":"VLOOKUP(C143,Tabel!$K$3:$L$109,2,FALSE)","v":{"$error":"#VALUE!"}},{"$f":"VLOOKUP(D143,Tabel!$K$3:$L$109,2,FALSE)","v":{"$error":"#VALUE!"}},{"$f":"VLOOKUP(E143,Tabel!$K$3:$L$109,2,FALSE)","v":{"$error":"#VALUE!"}},{"$f":"VLOOKUP(F143,Tabel!$K$3:$L$109,2,FALSE)","v":{"$error":"#VALUE!"}},{"$f":"VLOOKUP(G143,Tabel!$K$3:$L$109,2,FALSE)","v":{"$error":"#VALUE!"}},{"$f":"VLOOKUP(H143,Tabel!$K$3:$L$109,2,FALSE)","v":{"$error":"#VALUE!"}},{"$f":"VLOOKUP(I143,Tabel!$K$3:$L$109,2,FALSE)","v":{"$error":"#VALUE!"}},{"$f":"VLOOKUP(J143,Tabel!$K$3:$L$109,2,FALSE)","v":{"$error":"#VALUE!"}},{"$f":"VLOOKUP(K143,Tabel!$K$3:$L$109,2,FALSE)","v":{"$error":"#VALUE!"}},{"$error":"#VALUE!"},{"$error":"#VALUE!"},{"$error":"#VALUE!"},{"$error":"#VALUE!"},{"$error":"#VALUE!"},{"$error":"#VALUE!"},{"$error":"#VALUE!"},{"$error":"#VALUE!"},{"$error":"#VALUE!"},{"$error":"#VALUE!"},{"$error":"#VALUE!"},{"$error":"#VALUE!"},{"$f":"VLOOKUP($AG143,Tabel!$J$3:$K$109,2,FALSE)","v":{"$error":"#VALUE!"}},{"$f":"Tabel!$K$106&$A143&$AH143&Tabel!$K$109","v":{"$error":"#VALUE!"}},{"$error":"#VALUE!"}]
[{"$f":"CONCATENATE(gastenlijst[[#This Row],[Post]],gastenlijst[[#This Row],[Code]],gastenlijst[[#This Row],[Huisnr aangepast]],gastenlijst[[#This Row],[Yes]])","v":{"$error":"#VALUE!"}},{"$error":"#VALUE!"},{"$error":"#VALUE!"},{"$error":"#VALUE!"},{"$error":"#VALUE!"},{"$error":"#VALUE!"},{"$error":"#VALUE!"},{"$error":"#VALUE!"},{"$error":"#VALUE!"},{"$error":"#VALUE!"},{"$error":"#VALUE!"},{"$f":"VLOOKUP(B144,Tabel!$K$3:$L$109,2,FALSE)","v":{"$error":"#VALUE!"}},{"$f":"VLOOKUP(C144,Tabel!$K$3:$L$109,2,FALSE)","v":{"$error":"#VALUE!"}},{"$f":"VLOOKUP(D144,Tabel!$K$3:$L$109,2,FALSE)","v":{"$error":"#VALUE!"}},{"$f":"VLOOKUP(E144,Tabel!$K$3:$L$109,2,FALSE)","v":{"$error":"#VALUE!"}},{"$f":"VLOOKUP(F144,Tabel!$K$3:$L$109,2,FALSE)","v":{"$error":"#VALUE!"}},{"$f":"VLOOKUP(G144,Tabel!$K$3:$L$109,2,FALSE)","v":{"$error":"#VALUE!"}},{"$f":"VLOOKUP(H144,Tabel!$K$3:$L$109,2,FALSE)","v":{"$error":"#VALUE!"}},{"$f":"VLOOKUP(I144,Tabel!$K$3:$L$109,2,FALSE)","v":{"$error":"#VALUE!"}},{"$f":"VLOOKUP(J144,Tabel!$K$3:$L$109,2,FALSE)","v":{"$error":"#VALUE!"}},{"$f":"VLOOKUP(K144,Tabel!$K$3:$L$109,2,FALSE)","v":{"$error":"#VALUE!"}},{"$error":"#VALUE!"},{"$error":"#VALUE!"},{"$error":"#VALUE!"},{"$error":"#VALUE!"},{"$error":"#VALUE!"},{"$error":"#VALUE!"},{"$error":"#VALUE!"},{"$error":"#VALUE!"},{"$error":"#VALUE!"},{"$error":"#VALUE!"},{"$error":"#VALUE!"},{"$error":"#VALUE!"},{"$f":"VLOOKUP($AG144,Tabel!$J$3:$K$109,2,FALSE)","v":{"$error":"#VALUE!"}},{"$f":"Tabel!$K$106&$A144&$AH144&Tabel!$K$109","v":{"$error":"#VALUE!"}},{"$error":"#VALUE!"}]
[{"$f":"CONCATENATE(gastenlijst[[#This Row],[Post]],gastenlijst[[#This Row],[Code]],gastenlijst[[#This Row],[Huisnr aangepast]],gastenlijst[[#This Row],[Yes]])","v":{"$error":"#VALUE!"}},{"$error":"#VALUE!"},{"$error":"#VALUE!"},{"$error":"#VALUE!"},{"$error":"#VALUE!"},{"$error":"#VALUE!"},{"$error":"#VALUE!"},{"$error":"#VALUE!"},{"$error":"#VALUE!"},{"$error":"#VALUE!"},{"$error":"#VALUE!"},{"$f":"VLOOKUP(B145,Tabel!$K$3:$L$109,2,FALSE)","v":{"$error":"#VALUE!"}},{"$f":"VLOOKUP(C145,Tabel!$K$3:$L$109,2,FALSE)","v":{"$error":"#VALUE!"}},{"$f":"VLOOKUP(D145,Tabel!$K$3:$L$109,2,FALSE)","v":{"$error":"#VALUE!"}},{"$f":"VLOOKUP(E145,Tabel!$K$3:$L$109,2,FALSE)","v":{"$error":"#VALUE!"}},{"$f":"VLOOKUP(F145,Tabel!$K$3:$L$109,2,FALSE)","v":{"$error":"#VALUE!"}},{"$f":"VLOOKUP(G145,Tabel!$K$3:$L$109,2,FALSE)","v":{"$error":"#VALUE!"}},{"$f":"VLOOKUP(H145,Tabel!$K$3:$L$109,2,FALSE)","v":{"$error":"#VALUE!"}},{"$f":"VLOOKUP(I145,Tabel!$K$3:$L$109,2,FALSE)","v":{"$error":"#VALUE!"}},{"$f":"VLOOKUP(J145,Tabel!$K$3:$L$109,2,FALSE)","v":{"$error":"#VALUE!"}},{"$f":"VLOOKUP(K145,Tabel!$K$3:$L$109,2,FALSE)","v":{"$error":"#VALUE!"}},{"$error":"#VALUE!"},{"$error":"#VALUE!"},{"$error":"#VALUE!"},{"$error":"#VALUE!"},{"$error":"#VALUE!"},{"$error":"#VALUE!"},{"$error":"#VALUE!"},{"$error":"#VALUE!"},{"$error":"#VALUE!"},{"$error":"#VALUE!"},{"$error":"#VALUE!"},{"$error":"#VALUE!"},{"$f":"VLOOKUP($AG145,Tabel!$J$3:$K$109,2,FALSE)","v":{"$error":"#VALUE!"}},{"$f":"Tabel!$K$106&$A145&$AH145&Tabel!$K$109","v":{"$error":"#VALUE!"}},{"$error":"#VALUE!"}]
[{"$f":"CONCATENATE(gastenlijst[[#This Row],[Post]],gastenlijst[[#This Row],[Code]],gastenlijst[[#This Row],[Huisnr aangepast]],gastenlijst[[#This Row],[Yes]])","v":{"$error":"#VALUE!"}},{"$error":"#VALUE!"},{"$error":"#VALUE!"},{"$error":"#VALUE!"},{"$error":"#VALUE!"},{"$error":"#VALUE!"},{"$error":"#VALUE!"},{"$error":"#VALUE!"},{"$error":"#VALUE!"},{"$error":"#VALUE!"},{"$error":"#VALUE!"},{"$f":"VLOOKUP(B146,Tabel!$K$3:$L$109,2,FALSE)","v":{"$error":"#VALUE!"}},{"$f":"VLOOKUP(C146,Tabel!$K$3:$L$109,2,FALSE)","v":{"$error":"#VALUE!"}},{"$f":"VLOOKUP(D146,Tabel!$K$3:$L$109,2,FALSE)","v":{"$error":"#VALUE!"}},{"$f":"VLOOKUP(E146,Tabel!$K$3:$L$109,2,FALSE)","v":{"$error":"#VALUE!"}},{"$f":"VLOOKUP(F146,Tabel!$K$3:$L$109,2,FALSE)","v":{"$error":"#VALUE!"}},{"$f":"VLOOKUP(G146,Tabel!$K$3:$L$109,2,FALSE)","v":{"$error":"#VALUE!"}},{"$f":"VLOOKUP(H146,Tabel!$K$3:$L$109,2,FALSE)","v":{"$error":"#VALUE!"}},{"$f":"VLOOKUP(I146,Tabel!$K$3:$L$109,2,FALSE)","v":{"$error":"#VALUE!"}},{"$f":"VLOOKUP(J146,Tabel!$K$3:$L$109,2,FALSE)","v":{"$error":"#VALUE!"}},{"$f":"VLOOKUP(K146,Tabel!$K$3:$L$109,2,FALSE)","v":{"$error":"#VALUE!"}},{"$error":"#VALUE!"},{"$error":"#VALUE!"},{"$error":"#VALUE!"},{"$error":"#VALUE!"},{"$error":"#VALUE!"},{"$error":"#VALUE!"},{"$error":"#VALUE!"},{"$error":"#VALUE!"},{"$error":"#VALUE!"},{"$error":"#VALUE!"},{"$error":"#VALUE!"},{"$error":"#VALUE!"},{"$f":"VLOOKUP($AG146,Tabel!$J$3:$K$109,2,FALSE)","v":{"$error":"#VALUE!"}},{"$f":"Tabel!$K$106&$A146&$AH146&Tabel!$K$109","v":{"$error":"#VALUE!"}},{"$error":"#VALUE!"}]
[{"$f":"CONCATENATE(gastenlijst[[#This Row],[Post]],gastenlijst[[#This Row],[Code]],gastenlijst[[#This Row],[Huisnr aangepast]],gastenlijst[[#This Row],[Yes]])","v":{"$error":"#VALUE!"}},{"$error":"#VALUE!"},{"$error":"#VALUE!"},{"$error":"#VALUE!"},{"$error":"#VALUE!"},{"$error":"#VALUE!"},{"$error":"#VALUE!"},{"$error":"#VALUE!"},{"$error":"#VALUE!"},{"$error":"#VALUE!"},{"$error":"#VALUE!"},{"$f":"VLOOKUP(B147,Tabel!$K$3:$L$109,2,FALSE)","v":{"$error":"#VALUE!"}},{"$f":"VLOOKUP(C147,Tabel!$K$3:$L$109,2,FALSE)","v":{"$error":"#VALUE!"}},{"$f":"VLOOKUP(D147,Tabel!$K$3:$L$109,2,FALSE)","v":{"$error":"#VALUE!"}},{"$f":"VLOOKUP(E147,Tabel!$K$3:$L$109,2,FALSE)","v":{"$error":"#VALUE!"}},{"$f":"VLOOKUP(F147,Tabel!$K$3:$L$109,2,FALSE)","v":{"$error":"#VALUE!"}},{"$f":"VLOOKUP(G147,Tabel!$K$3:$L$109,2,FALSE)","v":{"$error":"#VALUE!"}},{"$f":"VLOOKUP(H147,Tabel!$K$3:$L$109,2,FALSE)","v":{"$error":"#VALUE!"}},{"$f":"VLOOKUP(I147,Tabel!$K$3:$L$109,2,FALSE)","v":{"$error":"#VALUE!"}},{"$f":"VLOOKUP(J147,Tabel!$K$3:$L$109,2,FALSE)","v":{"$error":"#VALUE!"}},{"$f":"VLOOKUP(K147,Tabel!$K$3:$L$109,2,FALSE)","v":{"$error":"#VALUE!"}},{"$error":"#VALUE!"},{"$error":"#VALUE!"},{"$error":"#VALUE!"},{"$error":"#VALUE!"},{"$error":"#VALUE!"},{"$error":"#VALUE!"},{"$error":"#VALUE!"},{"$error":"#VALUE!"},{"$error":"#VALUE!"},{"$error":"#VALUE!"},{"$error":"#VALUE!"},{"$error":"#VALUE!"},{"$f":"VLOOKUP($AG147,Tabel!$J$3:$K$109,2,FALSE)","v":{"$error":"#VALUE!"}},{"$f":"Tabel!$K$106&$A147&$AH147&Tabel!$K$109","v":{"$error":"#VALUE!"}},{"$error":"#VALUE!"}]
[{"$f":"CONCATENATE(gastenlijst[[#This Row],[Post]],gastenlijst[[#This Row],[Code]],gastenlijst[[#This Row],[Huisnr aangepast]],gastenlijst[[#This Row],[Yes]])","v":{"$error":"#VALUE!"}},{"$error":"#VALUE!"},{"$error":"#VALUE!"},{"$error":"#VALUE!"},{"$error":"#VALUE!"},{"$error":"#VALUE!"},{"$error":"#VALUE!"},{"$error":"#VALUE!"},{"$error":"#VALUE!"},{"$error":"#VALUE!"},{"$error":"#VALUE!"},{"$f":"VLOOKUP(B148,Tabel!$K$3:$L$109,2,FALSE)","v":{"$error":"#VALUE!"}},{"$f":"VLOOKUP(C148,Tabel!$K$3:$L$109,2,FALSE)","v":{"$error":"#VALUE!"}},{"$f":"VLOOKUP(D148,Tabel!$K$3:$L$109,2,FALSE)","v":{"$error":"#VALUE!"}},{"$f":"VLOOKUP(E148,Tabel!$K$3:$L$109,2,FALSE)","v":{"$error":"#VALUE!"}},{"$f":"VLOOKUP(F148,Tabel!$K$3:$L$109,2,FALSE)","v":{"$error":"#VALUE!"}},{"$f":"VLOOKUP(G148,Tabel!$K$3:$L$109,2,FALSE)","v":{"$error":"#VALUE!"}},{"$f":"VLOOKUP(H148,Tabel!$K$3:$L$109,2,FALSE)","v":{"$error":"#VALUE!"}},{"$f":"VLOOKUP(I148,Tabel!$K$3:$L$109,2,FALSE)","v":{"$error":"#VALUE!"}},{"$f":"VLOOKUP(J148,Tabel!$K$3:$L$109,2,FALSE)","v":{"$error":"#VALUE!"}},{"$f":"VLOOKUP(K148,Tabel!$K$3:$L$109,2,FALSE)","v":{"$error":"#VALUE!"}},{"$error":"#VALUE!"},{"$error":"#VALUE!"},{"$error":"#VALUE!"},{"$error":"#VALUE!"},{"$error":"#VALUE!"},{"$error":"#VALUE!"},{"$error":"#VALUE!"},{"$error":"#VALUE!"},{"$error":"#VALUE!"},{"$error":"#VALUE!"},{"$error":"#VALUE!"},{"$error":"#VALUE!"},{"$f":"VLOOKUP($AG148,Tabel!$J$3:$K$109,2,FALSE)","v":{"$error":"#VALUE!"}},{"$f":"Tabel!$K$106&$A148&$AH148&Tabel!$K$109","v":{"$error":"#VALUE!"}},{"$error":"#VALUE!"}]
[{"$f":"CONCATENATE(gastenlijst[[#This Row],[Post]],gastenlijst[[#This Row],[Code]],gastenlijst[[#This Row],[Huisnr aangepast]],gastenlijst[[#This Row],[Yes]])","v":{"$error":"#VALUE!"}},{"$error":"#VALUE!"},{"$error":"#VALUE!"},{"$error":"#VALUE!"},{"$error":"#VALUE!"},{"$error":"#VALUE!"},{"$error":"#VALUE!"},{"$error":"#VALUE!"},{"$error":"#VALUE!"},{"$error":"#VALUE!"},{"$error":"#VALUE!"},{"$f":"VLOOKUP(B149,Tabel!$K$3:$L$109,2,FALSE)","v":{"$error":"#VALUE!"}},{"$f":"VLOOKUP(C149,Tabel!$K$3:$L$109,2,FALSE)","v":{"$error":"#VALUE!"}},{"$f":"VLOOKUP(D149,Tabel!$K$3:$L$109,2,FALSE)","v":{"$error":"#VALUE!"}},{"$f":"VLOOKUP(E149,Tabel!$K$3:$L$109,2,FALSE)","v":{"$error":"#VALUE!"}},{"$f":"VLOOKUP(F149,Tabel!$K$3:$L$109,2,FALSE)","v":{"$error":"#VALUE!"}},{"$f":"VLOOKUP(G149,Tabel!$K$3:$L$109,2,FALSE)","v":{"$error":"#VALUE!"}},{"$f":"VLOOKUP(H149,Tabel!$K$3:$L$109,2,FALSE)","v":{"$error":"#VALUE!"}},{"$f":"VLOOKUP(I149,Tabel!$K$3:$L$109,2,FALSE)","v":{"$error":"#VALUE!"}},{"$f":"VLOOKUP(J149,Tabel!$K$3:$L$109,2,FALSE)","v":{"$error":"#VALUE!"}},{"$f":"VLOOKUP(K149,Tabel!$K$3:$L$109,2,FALSE)","v":{"$error":"#VALUE!"}},{"$error":"#VALUE!"},{"$error":"#VALUE!"},{"$error":"#VALUE!"},{"$error":"#VALUE!"},{"$error":"#VALUE!"},{"$error":"#VALUE!"},{"$error":"#VALUE!"},{"$error":"#VALUE!"},{"$error":"#VALUE!"},{"$error":"#VALUE!"},{"$error":"#VALUE!"},{"$error":"#VALUE!"},{"$f":"VLOOKUP($AG149,Tabel!$J$3:$K$109,2,FALSE)","v":{"$error":"#VALUE!"}},{"$f":"Tabel!$K$106&$A149&$AH149&Tabel!$K$109","v":{"$error":"#VALUE!"}},{"$error":"#VALUE!"}]
[{"$f":"CONCATENATE(gastenlijst[[#This Row],[Post]],gastenlijst[[#This Row],[Code]],gastenlijst[[#This Row],[Huisnr aangepast]],gastenlijst[[#This Row],[Yes]])","v":{"$error":"#VALUE!"}},{"$error":"#VALUE!"},{"$error":"#VALUE!"},{"$error":"#VALUE!"},{"$error":"#VALUE!"},{"$error":"#VALUE!"},{"$error":"#VALUE!"},{"$error":"#VALUE!"},{"$error":"#VALUE!"},{"$error":"#VALUE!"},{"$error":"#VALUE!"},{"$f":"VLOOKUP(B150,Tabel!$K$3:$L$109,2,FALSE)","v":{"$error":"#VALUE!"}},{"$f":"VLOOKUP(C150,Tabel!$K$3:$L$109,2,FALSE)","v":{"$error":"#VALUE!"}},{"$f":"VLOOKUP(D150,Tabel!$K$3:$L$109,2,FALSE)","v":{"$error":"#VALUE!"}},{"$f":"VLOOKUP(E150,Tabel!$K$3:$L$109,2,FALSE)","v":{"$error":"#VALUE!"}},{"$f":"VLOOKUP(F150,Tabel!$K$3:$L$109,2,FALSE)","v":{"$error":"#VALUE!"}},{"$f":"VLOOKUP(G150,Tabel!$K$3:$L$109,2,FALSE)","v":{"$error":"#VALUE!"}},{"$f":"VLOOKUP(H150,Tabel!$K$3:$L$109,2,FALSE)","v":{"$error":"#VALUE!"}},{"$f":"VLOOKUP(I150,Tabel!$K$3:$L$109,2,FALSE)","v":{"$error":"#VALUE!"}},{"$f":"VLOOKUP(J150,Tabel!$K$3:$L$109,2,FALSE)","v":{"$error":"#VALUE!"}},{"$f":"VLOOKUP(K150,Tabel!$K$3:$L$109,2,FALSE)","v":{"$error":"#VALUE!"}},{"$error":"#VALUE!"},{"$error":"#VALUE!"},{"$error":"#VALUE!"},{"$error":"#VALUE!"},{"$error":"#VALUE!"},{"$error":"#VALUE!"},{"$error":"#VALUE!"},{"$error":"#VALUE!"},{"$error":"#VALUE!"},{"$f":"$P150*5","v":{"$error":"#VALUE!"}},{"$error":"#VALUE!"},{"$error":"#VALUE!"},{"$f":"VLOOKUP($AG150,Tabel!$J$3:$K$109,2,FALSE)","v":{"$error":"#VALUE!"}},{"$f":"Tabel!$K$106&$A150&$AH150&Tabel!$K$109","v":{"$error":"#VALUE!"}},{"$error":"#VALUE!"}]
[{"$f":"CONCATENATE(gastenlijst[[#This Row],[Post]],gastenlijst[[#This Row],[Code]],gastenlijst[[#This Row],[Huisnr aangepast]],gastenlijst[[#This Row],[Yes]])","v":{"$error":"#VALUE!"}},{"$error":"#VALUE!"},{"$error":"#VALUE!"},{"$error":"#VALUE!"},{"$error":"#VALUE!"},{"$error":"#VALUE!"},{"$error":"#VALUE!"},{"$error":"#VALUE!"},{"$error":"#VALUE!"},{"$error":"#VALUE!"},{"$error":"#VALUE!"},{"$f":"VLOOKUP(B151,Tabel!$K$3:$L$109,2,FALSE)","v":{"$error":"#VALUE!"}},{"$f":"VLOOKUP(C151,Tabel!$K$3:$L$109,2,FALSE)","v":{"$error":"#VALUE!"}},{"$f":"VLOOKUP(D151,Tabel!$K$3:$L$109,2,FALSE)","v":{"$error":"#VALUE!"}},{"$f":"VLOOKUP(E151,Tabel!$K$3:$L$109,2,FALSE)","v":{"$error":"#VALUE!"}},{"$f":"VLOOKUP(F151,Tabel!$K$3:$L$109,2,FALSE)","v":{"$error":"#VALUE!"}},{"$f":"VLOOKUP(G151,Tabel!$K$3:$L$109,2,FALSE)","v":{"$error":"#VALUE!"}},{"$f":"VLOOKUP(H151,Tabel!$K$3:$L$109,2,FALSE)","v":{"$error":"#VALUE!"}},{"$f":"VLOOKUP(I151,Tabel!$K$3:$L$109,2,FALSE)","v":{"$error":"#VALUE!"}},{"$f":"VLOOKUP(J151,Tabel!$K$3:$L$109,2,FALSE)","v":{"$error":"#VALUE!"}},{"$f":"VLOOKUP(K151,Tabel!$K$3:$L$109,2,FALSE)","v":{"$error":"#VALUE!"}},{"$error":"#VALUE!"},{"$error":"#VALUE!"},{"$error":"#VALUE!"},{"$error":"#VALUE!"},{"$error":"#VALUE!"},{"$error":"#VALUE!"},{"$error":"#VALUE!"},{"$error":"#VALUE!"},{"$error":"#VALUE!"},{"$error":"#VALUE!"},{"$error":"#VALUE!"},{"$error":"#VALUE!"},{"$f":"VLOOKUP($AG151,Tabel!$J$3:$K$109,2,FALSE)","v":{"$error":"#VALUE!"}},{"$f":"Tabel!$K$106&$A151&$AH151&Tabel!$K$109","v":{"$error":"#VALUE!"}},{"$error":"#VALUE!"}]
[{"$f":"CONCATENATE(gastenlijst[[#This Row],[Post]],gastenlijst[[#This Row],[Code]],gastenlijst[[#This Row],[Huisnr aangepast]],gastenlijst[[#This Row],[Yes]])","v":{"$error":"#VALUE!"}},{"$error":"#VALUE!"},{"$error":"#VALUE!"},{"$error":"#VALUE!"},{"$error":"#VALUE!"},{"$error":"#VALUE!"},{"$error":"#VALUE!"},{"$error":"#VALUE!"},{"$error":"#VALUE!"},{"$error":"#VALUE!"},{"$error":"#VALUE!"},{"$f":"VLOOKUP(B152,Tabel!$K$3:$L$109,2,FALSE)","v":{"$error":"#VALUE!"}},{"$f":"VLOOKUP(C152,Tabel!$K$3:$L$109,2,FALSE)","v":{"$error":"#VALUE!"}},{"$f":"VLOOKUP(D152,Tabel!$K$3:$L$109,2,FALSE)","v":{"$error":"#VALUE!"}},{"$f":"VLOOKUP(E152,Tabel!$K$3:$L$109,2,FALSE)","v":{"$error":"#VALUE!"}},{"$f":"VLOOKUP(F152,Tabel!$K$3:$L$109,2,FALSE)","v":{"$error":"#VALUE!"}},{"$f":"VLOOKUP(G152,Tabel!$K$3:$L$109,2,FALSE)","v":{"$error":"#VALUE!"}},{"$f":"VLOOKUP(H152,Tabel!$K$3:$L$109,2,FALSE)","v":{"$error":"#VALUE!"}},{"$f":"VLOOKUP(I152,Tabel!$K$3:$L$109,2,FALSE)","v":{"$error":"#VALUE!"}},{"$f":"VLOOKUP(J152,Tabel!$K$3:$L$109,2,FALSE)","v":{"$error":"#VALUE!"}},{"$f":"VLOOKUP(K152,Tabel!$K$3:$L$109,2,FALSE)","v":{"$error":"#VALUE!"}},{"$error":"#VALUE!"},{"$error":"#VALUE!"},{"$error":"#VALUE!"},{"$error":"#VALUE!"},{"$error":"#VALUE!"},{"$error":"#VALUE!"},{"$error":"#VALUE!"},{"$error":"#VALUE!"},{"$error":"#VALUE!"},{"$error":"#VALUE!"},{"$error":"#VALUE!"},{"$error":"#VALUE!"},{"$f":"VLOOKUP($AG152,Tabel!$J$3:$K$109,2,FALSE)","v":{"$error":"#VALUE!"}},{"$f":"Tabel!$K$106&$A152&$AH152&Tabel!$K$109","v":{"$error":"#VALUE!"}},{"$error":"#VALUE!"}]
[{"$f":"CONCATENATE(gastenlijst[[#This Row],[Post]],gastenlijst[[#This Row],[Code]],gastenlijst[[#This Row],[Huisnr aangepast]],gastenlijst[[#This Row],[Yes]])","v":{"$error":"#VALUE!"}},{"$error":"#VALUE!"},{"$error":"#VALUE!"},{"$error":"#VALUE!"},{"$error":"#VALUE!"},{"$error":"#VALUE!"},{"$error":"#VALUE!"},{"$error":"#VALUE!"},{"$error":"#VALUE!"},{"$error":"#VALUE!"},{"$error":"#VALUE!"},{"$f":"VLOOKUP(B153,Tabel!$K$3:$L$109,2,FALSE)","v":{"$error":"#VALUE!"}},{"$f":"VLOOKUP(C153,Tabel!$K$3:$L$109,2,FALSE)","v":{"$error":"#VALUE!"}},{"$f":"VLOOKUP(D153,Tabel!$K$3:$L$109,2,FALSE)","v":{"$error":"#VALUE!"}},{"$f":"VLOOKUP(E153,Tabel!$K$3:$L$109,2,FALSE)","v":{"$error":"#VALUE!"}},{"$f":"VLOOKUP(F153,Tabel!$K$3:$L$109,2,FALSE)","v":{"$error":"#VALUE!"}},{"$f":"VLOOKUP(G153,Tabel!$K$3:$L$109,2,FALSE)","v":{"$error":"#VALUE!"}},{"$f":"VLOOKUP(H153,Tabel!$K$3:$L$109,2,FALSE)","v":{"$error":"#VALUE!"}},{"$f":"VLOOKUP(I153,Tabel!$K$3:$L$109,2,FALSE)","v":{"$error":"#VALUE!"}},{"$f":"VLOOKUP(J153,Tabel!$K$3:$L$109,2,FALSE)","v":{"$error":"#VALUE!"}},{"$f":"VLOOKUP(K153,Tabel!$K$3:$L$109,2,FALSE)","v":{"$error":"#VALUE!"}},{"$error":"#VALUE!"},{"$error":"#VALUE!"},{"$error":"#VALUE!"},{"$error":"#VALUE!"},{"$error":"#VALUE!"},{"$error":"#VALUE!"},{"$error":"#VALUE!"},{"$error":"#VALUE!"},{"$error":"#VALUE!"},{"$error":"#VALUE!"},{"$error":"#VALUE!"},{"$error":"#VALUE!"},{"$f":"VLOOKUP($AG153,Tabel!$J$3:$K$109,2,FALSE)","v":{"$error":"#VALUE!"}},{"$f":"Tabel!$K$106&$A153&$AH153&Tabel!$K$109","v":{"$error":"#VALUE!"}},{"$error":"#VALUE!"}]
[{"$f":"CONCATENATE(gastenlijst[[#This Row],[Post]],gastenlijst[[#This Row],[Code]],gastenlijst[[#This Row],[Huisnr aangepast]],gastenlijst[[#This Row],[Yes]])","v":{"$error":"#VALUE!"}},{"$error":"#VALUE!"},{"$error":"#VALUE!"},{"$error":"#VALUE!"},{"$error":"#VALUE!"},{"$error":"#VALUE!"},{"$error":"#VALUE!"},{"$error":"#VALUE!"},{"$error":"#VALUE!"},{"$error":"#VALUE!"},{"$error":"#VALUE!"},{"$f":"VLOOKUP(B154,Tabel!$K$3:$L$109,2,FALSE)","v":{"$error":"#VALUE!"}},{"$f":"VLOOKUP(C154,Tabel!$K$3:$L$109,2,FALSE)","v":{"$error":"#VALUE!"}},{"$f":"VLOOKUP(D154,Tabel!$K$3:$L$109,2,FALSE)","v":{"$error":"#VALUE!"}},{"$f":"VLOOKUP(E154,Tabel!$K$3:$L$109,2,FALSE)","v":{"$error":"#VALUE!"}},{"$f":"VLOOKUP(F154,Tabel!$K$3:$L$109,2,FALSE)","v":{"$error":"#VALUE!"}},{"$f":"VLOOKUP(G154,Tabel!$K$3:$L$109,2,FALSE)","v":{"$error":"#VALUE!"}},{"$f":"VLOOKUP(H154,Tabel!$K$3:$L$109,2,FALSE)","v":{"$error":"#VALUE!"}},{"$f":"VLOOKUP(I154,Tabel!$K$3:$L$109,2,FALSE)","v":{"$error":"#VALUE!"}},{"$f":"VLOOKUP(J154,Tabel!$K$3:$L$109,2,FALSE)","v":{"$error":"#VALUE!"}},{"$f":"VLOOKUP(K154,Tabel!$K$3:$L$109,2,FALSE)","v":{"$error":"#VALUE!"}},{"$error":"#VALUE!"},{"$error":"#VALUE!"},{"$error":"#VALUE!"},{"$error":"#VALUE!"},{"$error":"#VALUE!"},{"$error":"#VALUE!"},{"$error":"#VALUE!"},{"$error":"#VALUE!"},{"$error":"#VALUE!"},{"$error":"#VALUE!"},{"$error":"#VALUE!"},{"$error":"#VALUE!"},{"$f":"VLOOKUP($AG154,Tabel!$J$3:$K$109,2,FALSE)","v":{"$error":"#VALUE!"}},{"$f":"Tabel!$K$106&$A154&$AH154&Tabel!$K$109","v":{"$error":"#VALUE!"}},{"$error":"#VALUE!"}]
[{"$f":"CONCATENATE(gastenlijst[[#This Row],[Post]],gastenlijst[[#This Row],[Code]],gastenlijst[[#This Row],[Huisnr aangepast]],gastenlijst[[#This Row],[Yes]])","v":{"$error":"#VALUE!"}},{"$error":"#VALUE!"},{"$error":"#VALUE!"},{"$error":"#VALUE!"},{"$error":"#VALUE!"},{"$error":"#VALUE!"},{"$error":"#VALUE!"},{"$error":"#VALUE!"},{"$error":"#VALUE!"},{"$error":"#VALUE!"},{"$error":"#VALUE!"},{"$f":"VLOOKUP(B155,Tabel!$K$3:$L$109,2,FALSE)","v":{"$error":"#VALUE!"}},{"$f":"VLOOKUP(C155,Tabel!$K$3:$L$109,2,FALSE)","v":{"$error":"#VALUE!"}},{"$f":"VLOOKUP(D155,Tabel!$K$3:$L$109,2,FALSE)","v":{"$error":"#VALUE!"}},{"$f":"VLOOKUP(E155,Tabel!$K$3:$L$109,2,FALSE)","v":{"$error":"#VALUE!"}},{"$f":"VLOOKUP(F155,Tabel!$K$3:$L$109,2,FALSE)","v":{"$error":"#VALUE!"}},{"$f":"VLOOKUP(G155,Tabel!$K$3:$L$109,2,FALSE)","v":{"$error":"#VALUE!"}},{"$f":"VLOOKUP(H155,Tabel!$K$3:$L$109,2,FALSE)","v":{"$error":"#VALUE!"}},{"$f":"VLOOKUP(I155,Tabel!$K$3:$L$109,2,FALSE)","v":{"$error":"#VALUE!"}},{"$f":"VLOOKUP(J155,Tabel!$K$3:$L$109,2,FALSE)","v":{"$error":"#VALUE!"}},{"$f":"VLOOKUP(K155,Tabel!$K$3:$L$109,2,FALSE)","v":{"$error":"#VALUE!"}},{"$error":"#VALUE!"},{"$error":"#VALUE!"},{"$error":"#VALUE!"},{"$error":"#VALUE!"},{"$error":"#VALUE!"},{"$error":"#VALUE!"},{"$error":"#VALUE!"},{"$error":"#VALUE!"},{"$error":"#VALUE!"},{"$error":"#VALUE!"},{"$error":"#VALUE!"},{"$error":"#VALUE!"},{"$f":"VLOOKUP($AG155,Tabel!$J$3:$K$109,2,FALSE)","v":{"$error":"#VALUE!"}},{"$f":"Tabel!$K$106&$A155&$AH155&Tabel!$K$109","v":{"$error":"#VALUE!"}},{"$error":"#VALUE!"}]
[{"$f":"CONCATENATE(gastenlijst[[#This Row],[Post]],gastenlijst[[#This Row],[Code]],gastenlijst[[#This Row],[Huisnr aangepast]],gastenlijst[[#This Row],[Yes]])","v":{"$error":"#VALUE!"}},{"$error":"#VALUE!"},{"$error":"#VALUE!"},{"$error":"#VALUE!"},{"$error":"#VALUE!"},{"$error":"#VALUE!"},{"$error":"#VALUE!"},{"$error":"#VALUE!"},{"$error":"#VALUE!"},{"$error":"#VALUE!"},{"$error":"#VALUE!"},{"$f":"VLOOKUP(B156,Tabel!$K$3:$L$109,2,FALSE)","v":{"$error":"#VALUE!"}},{"$f":"VLOOKUP(C156,Tabel!$K$3:$L$109,2,FALSE)","v":{"$error":"#VALUE!"}},{"$f":"VLOOKUP(D156,Tabel!$K$3:$L$109,2,FALSE)","v":{"$error":"#VALUE!"}},{"$f":"VLOOKUP(E156,Tabel!$K$3:$L$109,2,FALSE)","v":{"$error":"#VALUE!"}},{"$f":"VLOOKUP(F156,Tabel!$K$3:$L$109,2,FALSE)","v":{"$error":"#VALUE!"}},{"$f":"VLOOKUP(G156,Tabel!$K$3:$L$109,2,FALSE)","v":{"$error":"#VALUE!"}},{"$f":"VLOOKUP(H156,Tabel!$K$3:$L$109,2,FALSE)","v":{"$error":"#VALUE!"}},{"$f":"VLOOKUP(I156,Tabel!$K$3:$L$109,2,FALSE)","v":{"$error":"#VALUE!"}},{"$f":"VLOOKUP(J156,Tabel!$K$3:$L$109,2,FALSE)","v":{"$error":"#VALUE!"}},{"$f":"VLOOKUP(K156,Tabel!$K$3:$L$109,2,FALSE)","v":{"$error":"#VALUE!"}},{"$error":"#VALUE!"},{"$error":"#VALUE!"},{"$error":"#VALUE!"},{"$error":"#VALUE!"},{"$error":"#VALUE!"},{"$error":"#VALUE!"},{"$error":"#VALUE!"},{"$error":"#VALUE!"},{"$error":"#VALUE!"},{"$error":"#VALUE!"},{"$error":"#VALUE!"},{"$error":"#VALUE!"},{"$f":"VLOOKUP($AG156,Tabel!$J$3:$K$109,2,FALSE)","v":{"$error":"#VALUE!"}},{"$f":"Tabel!$K$106&$A156&$AH156&Tabel!$K$109","v":{"$error":"#VALUE!"}},{"$error":"#VALUE!"}]
[{"$f":"CONCATENATE(gastenlijst[[#This Row],[Post]],gastenlijst[[#This Row],[Code]],gastenlijst[[#This Row],[Huisnr aangepast]],gastenlijst[[#This Row],[Yes]])","v":{"$error":"#VALUE!"}},{"$error":"#VALUE!"},{"$error":"#VALUE!"},{"$error":"#VALUE!"},{"$error":"#VALUE!"},{"$error":"#VALUE!"},{"$error":"#VALUE!"},{"$error":"#VALUE!"},{"$error":"#VALUE!"},{"$error":"#VALUE!"},{"$error":"#VALUE!"},{"$f":"VLOOKUP(B157,Tabel!$K$3:$L$109,2,FALSE)","v":{"$error":"#VALUE!"}},{"$f":"VLOOKUP(C157,Tabel!$K$3:$L$109,2,FALSE)","v":{"$error":"#VALUE!"}},{"$f":"VLOOKUP(D157,Tabel!$K$3:$L$109,2,FALSE)","v":{"$error":"#VALUE!"}},{"$f":"VLOOKUP(E157,Tabel!$K$3:$L$109,2,FALSE)","v":{"$error":"#VALUE!"}},{"$f":"VLOOKUP(F157,Tabel!$K$3:$L$109,2,FALSE)","v":{"$error":"#VALUE!"}},{"$f":"VLOOKUP(G157,Tabel!$K$3:$L$109,2,FALSE)","v":{"$error":"#VALUE!"}},{"$f":"VLOOKUP(H157,Tabel!$K$3:$L$109,2,FALSE)","v":{"$error":"#VALUE!"}},{"$f":"VLOOKUP(I157,Tabel!$K$3:$L$109,2,FALSE)","v":{"$error":"#VALUE!"}},{"$f":"VLOOKUP(J157,Tabel!$K$3:$L$109,2,FALSE)","v":{"$error":"#VALUE!"}},{"$f":"VLOOKUP(K157,Tabel!$K$3:$L$109,2,FALSE)","v":{"$error":"#VALUE!"}},{"$error":"#VALUE!"},{"$error":"#VALUE!"},{"$error":"#VALUE!"},{"$error":"#VALUE!"},{"$error":"#VALUE!"},{"$error":"#VALUE!"},{"$error":"#VALUE!"},{"$error":"#VALUE!"},{"$error":"#VALUE!"},{"$error":"#VALUE!"},{"$error":"#VALUE!"},{"$error":"#VALUE!"},{"$f":"VLOOKUP($AG157,Tabel!$J$3:$K$109,2,FALSE)","v":{"$error":"#VALUE!"}},{"$f":"Tabel!$K$106&$A157&$AH157&Tabel!$K$109","v":{"$error":"#VALUE!"}},{"$error":"#VALUE!"}]
[{"$f":"CONCATENATE(gastenlijst[[#This Row],[Post]],gastenlijst[[#This Row],[Code]],gastenlijst[[#This Row],[Huisnr aangepast]],gastenlijst[[#This Row],[Yes]])","v":{"$error":"#VALUE!"}},{"$error":"#VALUE!"},{"$error":"#VALUE!"},{"$error":"#VALUE!"},{"$error":"#VALUE!"},{"$error":"#VALUE!"},{"$error":"#VALUE!"},{"$error":"#VALUE!"},{"$error":"#VALUE!"},{"$error":"#VALUE!"},{"$error":"#VALUE!"},{"$f":"VLOOKUP(B158,Tabel!$K$3:$L$109,2,FALSE)","v":{"$error":"#VALUE!"}},{"$f":"VLOOKUP(C158,Tabel!$K$3:$L$109,2,FALSE)","v":{"$error":"#VALUE!"}},{"$f":"VLOOKUP(D158,Tabel!$K$3:$L$109,2,FALSE)","v":{"$error":"#VALUE!"}},{"$f":"VLOOKUP(E158,Tabel!$K$3:$L$109,2,FALSE)","v":{"$error":"#VALUE!"}},{"$f":"VLOOKUP(F158,Tabel!$K$3:$L$109,2,FALSE)","v":{"$error":"#VALUE!"}},{"$f":"VLOOKUP(G158,Tabel!$K$3:$L$109,2,FALSE)","v":{"$error":"#VALUE!"}},{"$f":"VLOOKUP(H158,Tabel!$K$3:$L$109,2,FALSE)","v":{"$error":"#VALUE!"}},{"$f":"VLOOKUP(I158,Tabel!$K$3:$L$109,2,FALSE)","v":{"$error":"#VALUE!"}},{"$f":"VLOOKUP(J158,Tabel!$K$3:$L$109,2,FALSE)","v":{"$error":"#VALUE!"}},{"$f":"VLOOKUP(K158,Tabel!$K$3:$L$109,2,FALSE)","v":{"$error":"#VALUE!"}},{"$error":"#VALUE!"},{"$error":"#VALUE!"},{"$error":"#VALUE!"},{"$error":"#VALUE!"},{"$error":"#VALUE!"},{"$error":"#VALUE!"},{"$error":"#VALUE!"},{"$error":"#VALUE!"},{"$error":"#VALUE!"},{"$error":"#VALUE!"},{"$error":"#VALUE!"},{"$error":"#VALUE!"},{"$f":"VLOOKUP($AG158,Tabel!$J$3:$K$109,2,FALSE)","v":{"$error":"#VALUE!"}},{"$f":"Tabel!$K$106&$A158&$AH158&Tabel!$K$109","v":{"$error":"#VALUE!"}},{"$error":"#VALUE!"}]
[{"$f":"CONCATENATE(gastenlijst[[#This Row],[Post]],gastenlijst[[#This Row],[Code]],gastenlijst[[#This Row],[Huisnr aangepast]],gastenlijst[[#This Row],[Yes]])","v":{"$error":"#VALUE!"}},{"$error":"#VALUE!"},{"$error":"#VALUE!"},{"$error":"#VALUE!"},{"$error":"#VALUE!"},{"$error":"#VALUE!"},{"$error":"#VALUE!"},{"$error":"#VALUE!"},{"$error":"#VALUE!"},{"$error":"#VALUE!"},{"$error":"#VALUE!"},{"$f":"VLOOKUP(B159,Tabel!$K$3:$L$109,2,FALSE)","v":{"$error":"#VALUE!"}},{"$f":"VLOOKUP(C159,Tabel!$K$3:$L$109,2,FALSE)","v":{"$error":"#VALUE!"}},{"$f":"VLOOKUP(D159,Tabel!$K$3:$L$109,2,FALSE)","v":{"$error":"#VALUE!"}},{"$f":"VLOOKUP(E159,Tabel!$K$3:$L$109,2,FALSE)","v":{"$error":"#VALUE!"}},{"$f":"VLOOKUP(F159,Tabel!$K$3:$L$109,2,FALSE)","v":{"$error":"#VALUE!"}},{"$f":"VLOOKUP(G159,Tabel!$K$3:$L$109,2,FALSE)","v":{"$error":"#VALUE!"}},{"$f":"VLOOKUP(H159,Tabel!$K$3:$L$109,2,FALSE)","v":{"$error":"#VALUE!"}},{"$f":"VLOOKUP(I159,Tabel!$K$3:$L$109,2,FALSE)","v":{"$error":"#VALUE!"}},{"$f":"VLOOKUP(J159,Tabel!$K$3:$L$109,2,FALSE)","v":{"$error":"#VALUE!"}},{"$f":"VLOOKUP(K159,Tabel!$K$3:$L$109,2,FALSE)","v":{"$error":"#VALUE!"}},{"$error":"#VALUE!"},{"$error":"#VALUE!"},{"$error":"#VALUE!"},{"$error":"#VALUE!"},{"$error":"#VALUE!"},{"$error":"#VALUE!"},{"$error":"#VALUE!"},{"$error":"#VALUE!"},{"$error":"#VALUE!"},{"$error":"#VALUE!"},{"$error":"#VALUE!"},{"$error":"#VALUE!"},{"$f":"VLOOKUP($AG159,Tabel!$J$3:$K$109,2,FALSE)","v":{"$error":"#VALUE!"}},{"$f":"Tabel!$K$106&$A159&$AH159&Tabel!$K$109","v":{"$error":"#VALUE!"}},{"$error":"#VALUE!"}]
[{"$f":"CONCATENATE(gastenlijst[[#This Row],[Post]],gastenlijst[[#This Row],[Code]],gastenlijst[[#This Row],[Huisnr aangepast]],gastenlijst[[#This Row],[Yes]])","v":{"$error":"#VALUE!"}},{"$error":"#VALUE!"},{"$error":"#VALUE!"},{"$error":"#VALUE!"},{"$error":"#VALUE!"},{"$error":"#VALUE!"},{"$error":"#VALUE!"},{"$error":"#VALUE!"},{"$error":"#VALUE!"},{"$error":"#VALUE!"},{"$error":"#VALUE!"},{"$f":"VLOOKUP(B160,Tabel!$K$3:$L$109,2,FALSE)","v":{"$error":"#VALUE!"}},{"$f":"VLOOKUP(C160,Tabel!$K$3:$L$109,2,FALSE)","v":{"$error":"#VALUE!"}},{"$f":"VLOOKUP(D160,Tabel!$K$3:$L$109,2,FALSE)","v":{"$error":"#VALUE!"}},{"$f":"VLOOKUP(E160,Tabel!$K$3:$L$109,2,FALSE)","v":{"$error":"#VALUE!"}},{"$f":"VLOOKUP(F160,Tabel!$K$3:$L$109,2,FALSE)","v":{"$error":"#VALUE!"}},{"$f":"VLOOKUP(G160,Tabel!$K$3:$L$109,2,FALSE)","v":{"$error":"#VALUE!"}},{"$f":"VLOOKUP(H160,Tabel!$K$3:$L$109,2,FALSE)","v":{"$error":"#VALUE!"}},{"$f":"VLOOKUP(I160,Tabel!$K$3:$L$109,2,FALSE)","v":{"$error":"#VALUE!"}},{"$f":"VLOOKUP(J160,Tabel!$K$3:$L$109,2,FALSE)","v":{"$error":"#VALUE!"}},{"$f":"VLOOKUP(K160,Tabel!$K$3:$L$109,2,FALSE)","v":{"$error":"#VALUE!"}},{"$error":"#VALUE!"},{"$error":"#VALUE!"},{"$error":"#VALUE!"},{"$error":"#VALUE!"},{"$error":"#VALUE!"},{"$error":"#VALUE!"},{"$error":"#VALUE!"},{"$error":"#VALUE!"},{"$error":"#VALUE!"},{"$error":"#VALUE!"},{"$error":"#VALUE!"},{"$error":"#VALUE!"},{"$f":"VLOOKUP($AG160,Tabel!$J$3:$K$109,2,FALSE)","v":{"$error":"#VALUE!"}},{"$f":"Tabel!$K$106&$A160&$AH160&Tabel!$K$109","v":{"$error":"#VALUE!"}},{"$error":"#VALUE!"}]
[{"$f":"CONCATENATE(gastenlijst[[#This Row],[Post]],gastenlijst[[#This Row],[Code]],gastenlijst[[#This Row],[Huisnr aangepast]],gastenlijst[[#This Row],[Yes]])","v":{"$error":"#VALUE!"}},{"$error":"#VALUE!"},{"$error":"#VALUE!"},{"$error":"#VALUE!"},{"$error":"#VALUE!"},{"$error":"#VALUE!"},{"$error":"#VALUE!"},{"$error":"#VALUE!"},{"$error":"#VALUE!"},{"$error":"#VALUE!"},{"$error":"#VALUE!"},{"$f":"VLOOKUP(B161,Tabel!$K$3:$L$109,2,FALSE)","v":{"$error":"#VALUE!"}},{"$f":"VLOOKUP(C161,Tabel!$K$3:$L$109,2,FALSE)","v":{"$error":"#VALUE!"}},{"$f":"VLOOKUP(D161,Tabel!$K$3:$L$109,2,FALSE)","v":{"$error":"#VALUE!"}},{"$f":"VLOOKUP(E161,Tabel!$K$3:$L$109,2,FALSE)","v":{"$error":"#VALUE!"}},{"$f":"VLOOKUP(F161,Tabel!$K$3:$L$109,2,FALSE)","v":{"$error":"#VALUE!"}},{"$f":"VLOOKUP(G161,Tabel!$K$3:$L$109,2,FALSE)","v":{"$error":"#VALUE!"}},{"$f":"VLOOKUP(H161,Tabel!$K$3:$L$109,2,FALSE)","v":{"$error":"#VALUE!"}},{"$f":"VLOOKUP(I161,Tabel!$K$3:$L$109,2,FALSE)","v":{"$error":"#VALUE!"}},{"$f":"VLOOKUP(J161,Tabel!$K$3:$L$109,2,FALSE)","v":{"$error":"#VALUE!"}},{"$f":"VLOOKUP(K161,Tabel!$K$3:$L$109,2,FALSE)","v":{"$error":"#VALUE!"}},{"$error":"#VALUE!"},{"$error":"#VALUE!"},{"$error":"#VALUE!"},{"$error":"#VALUE!"},{"$error":"#VALUE!"},{"$error":"#VALUE!"},{"$error":"#VALUE!"},{"$error":"#VALUE!"},{"$error":"#VALUE!"},{"$error":"#VALUE!"},{"$error":"#VALUE!"},{"$error":"#VALUE!"},{"$f":"VLOOKUP($AG161,Tabel!$J$3:$K$109,2,FALSE)","v":{"$error":"#VALUE!"}},{"$f":"Tabel!$K$106&$A161&$AH161&Tabel!$K$109","v":{"$error":"#VALUE!"}},{"$error":"#VALUE!"}]
[{"$f":"CONCATENATE(gastenlijst[[#This Row],[Post]],gastenlijst[[#This Row],[Code]],gastenlijst[[#This Row],[Huisnr aangepast]],gastenlijst[[#This Row],[Yes]])","v":{"$error":"#VALUE!"}},{"$error":"#VALUE!"},{"$error":"#VALUE!"},{"$error":"#VALUE!"},{"$error":"#VALUE!"},{"$error":"#VALUE!"},{"$error":"#VALUE!"},{"$error":"#VALUE!"},{"$error":"#VALUE!"},{"$error":"#VALUE!"},{"$error":"#VALUE!"},{"$f":"VLOOKUP(B162,Tabel!$K$3:$L$109,2,FALSE)","v":{"$error":"#VALUE!"}},{"$f":"VLOOKUP(C162,Tabel!$K$3:$L$109,2,FALSE)","v":{"$error":"#VALUE!"}},{"$f":"VLOOKUP(D162,Tabel!$K$3:$L$109,2,FALSE)","v":{"$error":"#VALUE!"}},{"$f":"VLOOKUP(E162,Tabel!$K$3:$L$109,2,FALSE)","v":{"$error":"#VALUE!"}},{"$f":"VLOOKUP(F162,Tabel!$K$3:$L$109,2,FALSE)","v":{"$error":"#VALUE!"}},{"$f":"VLOOKUP(G162,Tabel!$K$3:$L$109,2,FALSE)","v":{"$error":"#VALUE!"}},{"$f":"VLOOKUP(H162,Tabel!$K$3:$L$109,2,FALSE)","v":{"$error":"#VALUE!"}},{"$f":"VLOOKUP(I162,Tabel!$K$3:$L$109,2,FALSE)","v":{"$error":"#VALUE!"}},{"$f":"VLOOKUP(J162,Tabel!$K$3:$L$109,2,FALSE)","v":{"$error":"#VALUE!"}},{"$f":"VLOOKUP(K162,Tabel!$K$3:$L$109,2,FALSE)","v":{"$error":"#VALUE!"}},{"$error":"#VALUE!"},{"$error":"#VALUE!"},{"$error":"#VALUE!"},{"$error":"#VALUE!"},{"$error":"#VALUE!"},{"$error":"#VALUE!"},{"$error":"#VALUE!"},{"$error":"#VALUE!"},{"$error":"#VALUE!"},{"$error":"#VALUE!"},{"$error":"#VALUE!"},{"$error":"#VALUE!"},{"$f":"VLOOKUP($AG162,Tabel!$J$3:$K$109,2,FALSE)","v":{"$error":"#VALUE!"}},{"$f":"Tabel!$K$106&$A162&$AH162&Tabel!$K$109","v":{"$error":"#VALUE!"}},{"$error":"#VALUE!"}]
[{"$f":"CONCATENATE(gastenlijst[[#This Row],[Post]],gastenlijst[[#This Row],[Code]],gastenlijst[[#This Row],[Huisnr aangepast]],gastenlijst[[#This Row],[Yes]])","v":{"$error":"#VALUE!"}},{"$error":"#VALUE!"},{"$error":"#VALUE!"},{"$error":"#VALUE!"},{"$error":"#VALUE!"},{"$error":"#VALUE!"},{"$error":"#VALUE!"},{"$error":"#VALUE!"},{"$error":"#VALUE!"},{"$error":"#VALUE!"},{"$error":"#VALUE!"},{"$f":"VLOOKUP(B163,Tabel!$K$3:$L$109,2,FALSE)","v":{"$error":"#VALUE!"}},{"$f":"VLOOKUP(C163,Tabel!$K$3:$L$109,2,FALSE)","v":{"$error":"#VALUE!"}},{"$f":"VLOOKUP(D163,Tabel!$K$3:$L$109,2,FALSE)","v":{"$error":"#VALUE!"}},{"$f":"VLOOKUP(E163,Tabel!$K$3:$L$109,2,FALSE)","v":{"$error":"#VALUE!"}},{"$f":"VLOOKUP(F163,Tabel!$K$3:$L$109,2,FALSE)","v":{"$error":"#VALUE!"}},{"$f":"VLOOKUP(G163,Tabel!$K$3:$L$109,2,FALSE)","v":{"$error":"#VALUE!"}},{"$f":"VLOOKUP(H163,Tabel!$K$3:$L$109,2,FALSE)","v":{"$error":"#VALUE!"}},{"$f":"VLOOKUP(I163,Tabel!$K$3:$L$109,2,FALSE)","v":{"$error":"#VALUE!"}},{"$f":"VLOOKUP(J163,Tabel!$K$3:$L$109,2,FALSE)","v":{"$error":"#VALUE!"}},{"$f":"VLOOKUP(K163,Tabel!$K$3:$L$109,2,FALSE)","v":{"$error":"#VALUE!"}},{"$error":"#VALUE!"},{"$error":"#VALUE!"},{"$error":"#VALUE!"},{"$error":"#VALUE!"},{"$error":"#VALUE!"},{"$error":"#VALUE!"},{"$error":"#VALUE!"},{"$error":"#VALUE!"},{"$error":"#VALUE!"},{"$error":"#VALUE!"},{"$error":"#VALUE!"},{"$error":"#VALUE!"},{"$f":"VLOOKUP($AG163,Tabel!$J$3:$K$109,2,FALSE)","v":{"$error":"#VALUE!"}},{"$f":"Tabel!$K$106&$A163&$AH163&Tabel!$K$109","v":{"$error":"#VALUE!"}},{"$error":"#VALUE!"}]
[{"$f":"CONCATENATE(gastenlijst[[#This Row],[Post]],gastenlijst[[#This Row],[Code]],gastenlijst[[#This Row],[Huisnr aangepast]],gastenlijst[[#This Row],[Yes]])","v":{"$error":"#VALUE!"}},{"$error":"#VALUE!"},{"$error":"#VALUE!"},{"$error":"#VALUE!"},{"$error":"#VALUE!"},{"$error":"#VALUE!"},{"$error":"#VALUE!"},{"$error":"#VALUE!"},{"$error":"#VALUE!"},{"$error":"#VALUE!"},{"$error":"#VALUE!"},{"$f":"VLOOKUP(B164,Tabel!$K$3:$L$109,2,FALSE)","v":{"$error":"#VALUE!"}},{"$f":"VLOOKUP(C164,Tabel!$K$3:$L$109,2,FALSE)","v":{"$error":"#VALUE!"}},{"$f":"VLOOKUP(D164,Tabel!$K$3:$L$109,2,FALSE)","v":{"$error":"#VALUE!"}},{"$f":"VLOOKUP(E164,Tabel!$K$3:$L$109,2,FALSE)","v":{"$error":"#VALUE!"}},{"$f":"VLOOKUP(F164,Tabel!$K$3:$L$109,2,FALSE)","v":{"$error":"#VALUE!"}},{"$f":"VLOOKUP(G164,Tabel!$K$3:$L$109,2,FALSE)","v":{"$error":"#VALUE!"}},{"$f":"VLOOKUP(H164,Tabel!$K$3:$L$109,2,FALSE)","v":{"$error":"#VALUE!"}},{"$f":"VLOOKUP(I164,Tabel!$K$3:$L$109,2,FALSE)","v":{"$error":"#VALUE!"}},{"$f":"VLOOKUP(J164,Tabel!$K$3:$L$109,2,FALSE)","v":{"$error":"#VALUE!"}},{"$f":"VLOOKUP(K164,Tabel!$K$3:$L$109,2,FALSE)","v":{"$error":"#VALUE!"}},{"$error":"#VALUE!"},{"$error":"#VALUE!"},{"$error":"#VALUE!"},{"$error":"#VALUE!"},{"$error":"#VALUE!"},{"$error":"#VALUE!"},{"$error":"#VALUE!"},{"$error":"#VALUE!"},{"$error":"#VALUE!"},{"$error":"#VALUE!"},{"$error":"#VALUE!"},{"$error":"#VALUE!"},{"$f":"VLOOKUP($AG164,Tabel!$J$3:$K$109,2,FALSE)","v":{"$error":"#VALUE!"}},{"$f":"Tabel!$K$106&$A164&$AH164&Tabel!$K$109","v":{"$error":"#VALUE!"}},{"$error":"#VALUE!"}]
[{"$f":"CONCATENATE(gastenlijst[[#This Row],[Post]],gastenlijst[[#This Row],[Code]],gastenlijst[[#This Row],[Huisnr aangepast]],gastenlijst[[#This Row],[Yes]])","v":{"$error":"#VALUE!"}},{"$error":"#VALUE!"},{"$error":"#VALUE!"},{"$error":"#VALUE!"},{"$error":"#VALUE!"},{"$error":"#VALUE!"},{"$error":"#VALUE!"},{"$error":"#VALUE!"},{"$error":"#VALUE!"},{"$error":"#VALUE!"},{"$error":"#VALUE!"},{"$f":"VLOOKUP(B165,Tabel!$K$3:$L$109,2,FALSE)","v":{"$error":"#VALUE!"}},{"$f":"VLOOKUP(C165,Tabel!$K$3:$L$109,2,FALSE)","v":{"$error":"#VALUE!"}},{"$f":"VLOOKUP(D165,Tabel!$K$3:$L$109,2,FALSE)","v":{"$error":"#VALUE!"}},{"$f":"VLOOKUP(E165,Tabel!$K$3:$L$109,2,FALSE)","v":{"$error":"#VALUE!"}},{"$f":"VLOOKUP(F165,Tabel!$K$3:$L$109,2,FALSE)","v":{"$error":"#VALUE!"}},{"$f":"VLOOKUP(G165,Tabel!$K$3:$L$109,2,FALSE)","v":{"$error":"#VALUE!"}},{"$f":"VLOOKUP(H165,Tabel!$K$3:$L$109,2,FALSE)","v":{"$error":"#VALUE!"}},{"$f":"VLOOKUP(I165,Tabel!$K$3:$L$109,2,FALSE)","v":{"$error":"#VALUE!"}},{"$f":"VLOOKUP(J165,Tabel!$K$3:$L$109,2,FALSE)","v":{"$error":"#VALUE!"}},{"$f":"VLOOKUP(K165,Tabel!$K$3:$L$109,2,FALSE)","v":{"$error":"#VALUE!"}},{"$error":"#VALUE!"},{"$error":"#VALUE!"},{"$error":"#VALUE!"},{"$error":"#VALUE!"},{"$error":"#VALUE!"},{"$error":"#VALUE!"},{"$error":"#VALUE!"},{"$error":"#VALUE!"},{"$error":"#VALUE!"},{"$error":"#VALUE!"},{"$error":"#VALUE!"},{"$error":"#VALUE!"},{"$f":"VLOOKUP($AG165,Tabel!$J$3:$K$109,2,FALSE)","v":{"$error":"#VALUE!"}},{"$f":"Tabel!$K$106&$A165&$AH165&Tabel!$K$109","v":{"$error":"#VALUE!"}},{"$error":"#VALUE!"}]
[{"$f":"CONCATENATE(gastenlijst[[#This Row],[Post]],gastenlijst[[#This Row],[Code]],gastenlijst[[#This Row],[Huisnr aangepast]],gastenlijst[[#This Row],[Yes]])","v":{"$error":"#VALUE!"}},{"$error":"#VALUE!"},{"$error":"#VALUE!"},{"$error":"#VALUE!"},{"$error":"#VALUE!"},{"$error":"#VALUE!"},{"$error":"#VALUE!"},{"$error":"#VALUE!"},{"$error":"#VALUE!"},{"$error":"#VALUE!"},{"$error":"#VALUE!"},{"$f":"VLOOKUP(B166,Tabel!$K$3:$L$109,2,FALSE)","v":{"$error":"#VALUE!"}},{"$f":"VLOOKUP(C166,Tabel!$K$3:$L$109,2,FALSE)","v":{"$error":"#VALUE!"}},{"$f":"VLOOKUP(D166,Tabel!$K$3:$L$109,2,FALSE)","v":{"$error":"#VALUE!"}},{"$f":"VLOOKUP(E166,Tabel!$K$3:$L$109,2,FALSE)","v":{"$error":"#VALUE!"}},{"$f":"VLOOKUP(F166,Tabel!$K$3:$L$109,2,FALSE)","v":{"$error":"#VALUE!"}},{"$f":"VLOOKUP(G166,Tabel!$K$3:$L$109,2,FALSE)","v":{"$error":"#VALUE!"}},{"$f":"VLOOKUP(H166,Tabel!$K$3:$L$109,2,FALSE)","v":{"$error":"#VALUE!"}},{"$f":"VLOOKUP(I166,Tabel!$K$3:$L$109,2,FALSE)","v":{"$error":"#VALUE!"}},{"$f":"VLOOKUP(J166,Tabel!$K$3:$L$109,2,FALSE)","v":{"$error":"#VALUE!"}},{"$f":"VLOOKUP(K166,Tabel!$K$3:$L$109,2,FALSE)","v":{"$error":"#VALUE!"}},{"$error":"#VALUE!"},{"$error":"#VALUE!"},{"$error":"#VALUE!"},{"$error":"#VALUE!"},{"$error":"#VALUE!"},{"$error":"#VALUE!"},{"$error":"#VALUE!"},{"$error":"#VALUE!"},{"$error":"#VALUE!"},{"$error":"#VALUE!"},{"$error":"#VALUE!"},{"$error":"#VALUE!"},{"$f":"VLOOKUP($AG166,Tabel!$J$3:$K$109,2,FALSE)","v":{"$error":"#VALUE!"}},{"$f":"Tabel!$K$106&$A166&$AH166&Tabel!$K$109","v":{"$error":"#VALUE!"}},{"$error":"#VALUE!"}]
[{"$f":"CONCATENATE(gastenlijst[[#This Row],[Post]],gastenlijst[[#This Row],[Code]],gastenlijst[[#This Row],[Huisnr aangepast]],gastenlijst[[#This Row],[Yes]])","v":{"$error":"#VALUE!"}},{"$error":"#VALUE!"},{"$error":"#VALUE!"},{"$error":"#VALUE!"},{"$error":"#VALUE!"},{"$error":"#VALUE!"},{"$error":"#VALUE!"},{"$error":"#VALUE!"},{"$error":"#VALUE!"},{"$error":"#VALUE!"},{"$error":"#VALUE!"},{"$f":"VLOOKUP(B167,Tabel!$K$3:$L$109,2,FALSE)","v":{"$error":"#VALUE!"}},{"$f":"VLOOKUP(C167,Tabel!$K$3:$L$109,2,FALSE)","v":{"$error":"#VALUE!"}},{"$f":"VLOOKUP(D167,Tabel!$K$3:$L$109,2,FALSE)","v":{"$error":"#VALUE!"}},{"$f":"VLOOKUP(E167,Tabel!$K$3:$L$109,2,FALSE)","v":{"$error":"#VALUE!"}},{"$f":"VLOOKUP(F167,Tabel!$K$3:$L$109,2,FALSE)","v":{"$error":"#VALUE!"}},{"$f":"VLOOKUP(G167,Tabel!$K$3:$L$109,2,FALSE)","v":{"$error":"#VALUE!"}},{"$f":"VLOOKUP(H167,Tabel!$K$3:$L$109,2,FALSE)","v":{"$error":"#VALUE!"}},{"$f":"VLOOKUP(I167,Tabel!$K$3:$L$109,2,FALSE)","v":{"$error":"#VALUE!"}},{"$f":"VLOOKUP(J167,Tabel!$K$3:$L$109,2,FALSE)","v":{"$error":"#VALUE!"}},{"$f":"VLOOKUP(K167,Tabel!$K$3:$L$109,2,FALSE)","v":{"$error":"#VALUE!"}},{"$error":"#VALUE!"},{"$error":"#VALUE!"},{"$error":"#VALUE!"},{"$error":"#VALUE!"},{"$error":"#VALUE!"},{"$error":"#VALUE!"},{"$error":"#VALUE!"},{"$error":"#VALUE!"},{"$error":"#VALUE!"},{"$error":"#VALUE!"},{"$error":"#VALUE!"},{"$error":"#VALUE!"},{"$f":"VLOOKUP($AG167,Tabel!$J$3:$K$109,2,FALSE)","v":{"$error":"#VALUE!"}},{"$f":"Tabel!$K$106&$A167&$AH167&Tabel!$K$109","v":{"$error":"#VALUE!"}},{"$error":"#VALUE!"}]
[{"$f":"CONCATENATE(gastenlijst[[#This Row],[Post]],gastenlijst[[#This Row],[Code]],gastenlijst[[#This Row],[Huisnr aangepast]],gastenlijst[[#This Row],[Yes]])","v":{"$error":"#VALUE!"}},{"$error":"#VALUE!"},{"$error":"#VALUE!"},{"$error":"#VALUE!"},{"$error":"#VALUE!"},{"$error":"#VALUE!"},{"$error":"#VALUE!"},{"$error":"#VALUE!"},{"$error":"#VALUE!"},{"$error":"#VALUE!"},{"$error":"#VALUE!"},{"$f":"VLOOKUP(B168,Tabel!$K$3:$L$109,2,FALSE)","v":{"$error":"#VALUE!"}},{"$f":"VLOOKUP(C168,Tabel!$K$3:$L$109,2,FALSE)","v":{"$error":"#VALUE!"}},{"$f":"VLOOKUP(D168,Tabel!$K$3:$L$109,2,FALSE)","v":{"$error":"#VALUE!"}},{"$f":"VLOOKUP(E168,Tabel!$K$3:$L$109,2,FALSE)","v":{"$error":"#VALUE!"}},{"$f":"VLOOKUP(F168,Tabel!$K$3:$L$109,2,FALSE)","v":{"$error":"#VALUE!"}},{"$f":"VLOOKUP(G168,Tabel!$K$3:$L$109,2,FALSE)","v":{"$error":"#VALUE!"}},{"$f":"VLOOKUP(H168,Tabel!$K$3:$L$109,2,FALSE)","v":{"$error":"#VALUE!"}},{"$f":"VLOOKUP(I168,Tabel!$K$3:$L$109,2,FALSE)","v":{"$error":"#VALUE!"}},{"$f":"VLOOKUP(J168,Tabel!$K$3:$L$109,2,FALSE)","v":{"$error":"#VALUE!"}},{"$f":"VLOOKUP(K168,Tabel!$K$3:$L$109,2,FALSE)","v":{"$error":"#VALUE!"}},{"$error":"#VALUE!"},{"$error":"#VALUE!"},{"$error":"#VALUE!"},{"$error":"#VALUE!"},{"$error":"#VALUE!"},{"$error":"#VALUE!"},{"$error":"#VALUE!"},{"$error":"#VALUE!"},{"$error":"#VALUE!"},{"$error":"#VALUE!"},{"$error":"#VALUE!"},{"$error":"#VALUE!"},{"$f":"VLOOKUP($AG168,Tabel!$J$3:$K$109,2,FALSE)","v":{"$error":"#VALUE!"}},{"$f":"Tabel!$K$106&$A168&$AH168&Tabel!$K$109","v":{"$error":"#VALUE!"}},{"$error":"#VALUE!"}]
[{"$f":"CONCATENATE(gastenlijst[[#This Row],[Post]],gastenlijst[[#This Row],[Code]],gastenlijst[[#This Row],[Huisnr aangepast]],gastenlijst[[#This Row],[Yes]])","v":{"$error":"#VALUE!"}},{"$error":"#VALUE!"},{"$error":"#VALUE!"},{"$error":"#VALUE!"},{"$error":"#VALUE!"},{"$error":"#VALUE!"},{"$error":"#VALUE!"},{"$error":"#VALUE!"},{"$error":"#VALUE!"},{"$error":"#VALUE!"},{"$error":"#VALUE!"},{"$f":"VLOOKUP(B169,Tabel!$K$3:$L$109,2,FALSE)","v":{"$error":"#VALUE!"}},{"$f":"VLOOKUP(C169,Tabel!$K$3:$L$109,2,FALSE)","v":{"$error":"#VALUE!"}},{"$f":"VLOOKUP(D169,Tabel!$K$3:$L$109,2,FALSE)","v":{"$error":"#VALUE!"}},{"$f":"VLOOKUP(E169,Tabel!$K$3:$L$109,2,FALSE)","v":{"$error":"#VALUE!"}},{"$f":"VLOOKUP(F169,Tabel!$K$3:$L$109,2,FALSE)","v":{"$error":"#VALUE!"}},{"$f":"VLOOKUP(G169,Tabel!$K$3:$L$109,2,FALSE)","v":{"$error":"#VALUE!"}},{"$f":"VLOOKUP(H169,Tabel!$K$3:$L$109,2,FALSE)","v":{"$error":"#VALUE!"}},{"$f":"VLOOKUP(I169,Tabel!$K$3:$L$109,2,FALSE)","v":{"$error":"#VALUE!"}},{"$f":"VLOOKUP(J169,Tabel!$K$3:$L$109,2,FALSE)","v":{"$error":"#VALUE!"}},{"$f":"VLOOKUP(K169,Tabel!$K$3:$L$109,2,FALSE)","v":{"$error":"#VALUE!"}},{"$error":"#VALUE!"},{"$error":"#VALUE!"},{"$error":"#VALUE!"},{"$error":"#VALUE!"},{"$error":"#VALUE!"},{"$error":"#VALUE!"},{"$error":"#VALUE!"},{"$error":"#VALUE!"},{"$error":"#VALUE!"},{"$error":"#VALUE!"},{"$error":"#VALUE!"},{"$error":"#VALUE!"},{"$f":"VLOOKUP($AG169,Tabel!$J$3:$K$109,2,FALSE)","v":{"$error":"#VALUE!"}},{"$f":"Tabel!$K$106&$A169&$AH169&Tabel!$K$109","v":{"$error":"#VALUE!"}},{"$error":"#VALUE!"}]
[{"$f":"CONCATENATE(gastenlijst[[#This Row],[Post]],gastenlijst[[#This Row],[Code]],gastenlijst[[#This Row],[Huisnr aangepast]],gastenlijst[[#This Row],[Yes]])","v":{"$error":"#VALUE!"}},{"$error":"#VALUE!"},{"$error":"#VALUE!"},{"$error":"#VALUE!"},{"$error":"#VALUE!"},{"$error":"#VALUE!"},{"$error":"#VALUE!"},{"$error":"#VALUE!"},{"$error":"#VALUE!"},{"$error":"#VALUE!"},{"$error":"#VALUE!"},{"$f":"VLOOKUP(B170,Tabel!$K$3:$L$109,2,FALSE)","v":{"$error":"#VALUE!"}},{"$f":"VLOOKUP(C170,Tabel!$K$3:$L$109,2,FALSE)","v":{"$error":"#VALUE!"}},{"$f":"VLOOKUP(D170,Tabel!$K$3:$L$109,2,FALSE)","v":{"$error":"#VALUE!"}},{"$f":"VLOOKUP(E170,Tabel!$K$3:$L$109,2,FALSE)","v":{"$error":"#VALUE!"}},{"$f":"VLOOKUP(F170,Tabel!$K$3:$L$109,2,FALSE)","v":{"$error":"#VALUE!"}},{"$f":"VLOOKUP(G170,Tabel!$K$3:$L$109,2,FALSE)","v":{"$error":"#VALUE!"}},{"$f":"VLOOKUP(H170,Tabel!$K$3:$L$109,2,FALSE)","v":{"$error":"#VALUE!"}},{"$f":"VLOOKUP(I170,Tabel!$K$3:$L$109,2,FALSE)","v":{"$error":"#VALUE!"}},{"$f":"VLOOKUP(J170,Tabel!$K$3:$L$109,2,FALSE)","v":{"$error":"#VALUE!"}},{"$f":"VLOOKUP(K170,Tabel!$K$3:$L$109,2,FALSE)","v":{"$error":"#VALUE!"}},{"$error":"#VALUE!"},{"$error":"#VALUE!"},{"$error":"#VALUE!"},{"$error":"#VALUE!"},{"$error":"#VALUE!"},{"$error":"#VALUE!"},{"$error":"#VALUE!"},{"$error":"#VALUE!"},{"$error":"#VALUE!"},{"$error":"#VALUE!"},{"$error":"#VALUE!"},{"$error":"#VALUE!"},{"$f":"VLOOKUP($AG170,Tabel!$J$3:$K$109,2,FALSE)","v":{"$error":"#VALUE!"}},{"$f":"Tabel!$K$106&$A170&$AH170&Tabel!$K$109","v":{"$error":"#VALUE!"}},{"$error":"#VALUE!"}]
[{"$f":"CONCATENATE(gastenlijst[[#This Row],[Post]],gastenlijst[[#This Row],[Code]],gastenlijst[[#This Row],[Huisnr aangepast]],gastenlijst[[#This Row],[Yes]])","v":{"$error":"#VALUE!"}},{"$error":"#VALUE!"},{"$error":"#VALUE!"},{"$error":"#VALUE!"},{"$error":"#VALUE!"},{"$error":"#VALUE!"},{"$error":"#VALUE!"},{"$error":"#VALUE!"},{"$error":"#VALUE!"},{"$error":"#VALUE!"},{"$error":"#VALUE!"},{"$f":"VLOOKUP(B171,Tabel!$K$3:$L$109,2,FALSE)","v":{"$error":"#VALUE!"}},{"$f":"VLOOKUP(C171,Tabel!$K$3:$L$109,2,FALSE)","v":{"$error":"#VALUE!"}},{"$f":"VLOOKUP(D171,Tabel!$K$3:$L$109,2,FALSE)","v":{"$error":"#VALUE!"}},{"$f":"VLOOKUP(E171,Tabel!$K$3:$L$109,2,FALSE)","v":{"$error":"#VALUE!"}},{"$f":"VLOOKUP(F171,Tabel!$K$3:$L$109,2,FALSE)","v":{"$error":"#VALUE!"}},{"$f":"VLOOKUP(G171,Tabel!$K$3:$L$109,2,FALSE)","v":{"$error":"#VALUE!"}},{"$f":"VLOOKUP(H171,Tabel!$K$3:$L$109,2,FALSE)","v":{"$error":"#VALUE!"}},{"$f":"VLOOKUP(I171,Tabel!$K$3:$L$109,2,FALSE)","v":{"$error":"#VALUE!"}},{"$f":"VLOOKUP(J171,Tabel!$K$3:$L$109,2,FALSE)","v":{"$error":"#VALUE!"}},{"$f":"VLOOKUP(K171,Tabel!$K$3:$L$109,2,FALSE)","v":{"$error":"#VALUE!"}},{"$error":"#VALUE!"},{"$error":"#VALUE!"},{"$error":"#VALUE!"},{"$error":"#VALUE!"},{"$error":"#VALUE!"},{"$error":"#VALUE!"},{"$error":"#VALUE!"},{"$error":"#VALUE!"},{"$error":"#VALUE!"},{"$error":"#VALUE!"},{"$error":"#VALUE!"},{"$error":"#VALUE!"},{"$f":"VLOOKUP($AG171,Tabel!$J$3:$K$109,2,FALSE)","v":{"$error":"#VALUE!"}},{"$f":"Tabel!$K$106&$A171&$AH171&Tabel!$K$109","v":{"$error":"#VALUE!"}},{"$error":"#VALUE!"}]
[{"$f":"CONCATENATE(gastenlijst[[#This Row],[Post]],gastenlijst[[#This Row],[Code]],gastenlijst[[#This Row],[Huisnr aangepast]],gastenlijst[[#This Row],[Yes]])","v":{"$error":"#VALUE!"}},{"$error":"#VALUE!"},{"$error":"#VALUE!"},{"$error":"#VALUE!"},{"$error":"#VALUE!"},{"$error":"#VALUE!"},{"$error":"#VALUE!"},{"$error":"#VALUE!"},{"$error":"#VALUE!"},{"$error":"#VALUE!"},{"$error":"#VALUE!"},{"$f":"VLOOKUP(B172,Tabel!$K$3:$L$109,2,FALSE)","v":{"$error":"#VALUE!"}},{"$f":"VLOOKUP(C172,Tabel!$K$3:$L$109,2,FALSE)","v":{"$error":"#VALUE!"}},{"$f":"VLOOKUP(D172,Tabel!$K$3:$L$109,2,FALSE)","v":{"$error":"#VALUE!"}},{"$f":"VLOOKUP(E172,Tabel!$K$3:$L$109,2,FALSE)","v":{"$error":"#VALUE!"}},{"$f":"VLOOKUP(F172,Tabel!$K$3:$L$109,2,FALSE)","v":{"$error":"#VALUE!"}},{"$f":"VLOOKUP(G172,Tabel!$K$3:$L$109,2,FALSE)","v":{"$error":"#VALUE!"}},{"$f":"VLOOKUP(H172,Tabel!$K$3:$L$109,2,FALSE)","v":{"$error":"#VALUE!"}},{"$f":"VLOOKUP(I172,Tabel!$K$3:$L$109,2,FALSE)","v":{"$error":"#VALUE!"}},{"$f":"VLOOKUP(J172,Tabel!$K$3:$L$109,2,FALSE)","v":{"$error":"#VALUE!"}},{"$f":"VLOOKUP(K172,Tabel!$K$3:$L$109,2,FALSE)","v":{"$error":"#VALUE!"}},{"$error":"#VALUE!"},{"$error":"#VALUE!"},{"$error":"#VALUE!"},{"$error":"#VALUE!"},{"$error":"#VALUE!"},{"$error":"#VALUE!"},{"$error":"#VALUE!"},{"$error":"#VALUE!"},{"$error":"#VALUE!"},{"$error":"#VALUE!"},{"$error":"#VALUE!"},{"$error":"#VALUE!"},{"$f":"VLOOKUP($AG172,Tabel!$J$3:$K$109,2,FALSE)","v":{"$error":"#VALUE!"}},{"$f":"Tabel!$K$106&$A172&$AH172&Tabel!$K$109","v":{"$error":"#VALUE!"}},{"$error":"#VALUE!"}]
[{"$f":"CONCATENATE(gastenlijst[[#This Row],[Post]],gastenlijst[[#This Row],[Code]],gastenlijst[[#This Row],[Huisnr aangepast]],gastenlijst[[#This Row],[Yes]])","v":{"$error":"#VALUE!"}},{"$error":"#VALUE!"},{"$error":"#VALUE!"},{"$error":"#VALUE!"},{"$error":"#VALUE!"},{"$error":"#VALUE!"},{"$error":"#VALUE!"},{"$error":"#VALUE!"},{"$error":"#VALUE!"},{"$error":"#VALUE!"},{"$error":"#VALUE!"},{"$f":"VLOOKUP(B173,Tabel!$K$3:$L$109,2,FALSE)","v":{"$error":"#VALUE!"}},{"$f":"VLOOKUP(C173,Tabel!$K$3:$L$109,2,FALSE)","v":{"$error":"#VALUE!"}},{"$f":"VLOOKUP(D173,Tabel!$K$3:$L$109,2,FALSE)","v":{"$error":"#VALUE!"}},{"$f":"VLOOKUP(E173,Tabel!$K$3:$L$109,2,FALSE)","v":{"$error":"#VALUE!"}},{"$f":"VLOOKUP(F173,Tabel!$K$3:$L$109,2,FALSE)","v":{"$error":"#VALUE!"}},{"$f":"VLOOKUP(G173,Tabel!$K$3:$L$109,2,FALSE)","v":{"$error":"#VALUE!"}},{"$f":"VLOOKUP(H173,Tabel!$K$3:$L$109,2,FALSE)","v":{"$error":"#VALUE!"}},{"$f":"VLOOKUP(I173,Tabel!$K$3:$L$109,2,FALSE)","v":{"$error":"#VALUE!"}},{"$f":"VLOOKUP(J173,Tabel!$K$3:$L$109,2,FALSE)","v":{"$error":"#VALUE!"}},{"$f":"VLOOKUP(K173,Tabel!$K$3:$L$109,2,FALSE)","v":{"$error":"#VALUE!"}},{"$error":"#VALUE!"},{"$error":"#VALUE!"},{"$error":"#VALUE!"},{"$error":"#VALUE!"},{"$error":"#VALUE!"},{"$error":"#VALUE!"},{"$error":"#VALUE!"},{"$error":"#VALUE!"},{"$error":"#VALUE!"},{"$error":"#VALUE!"},{"$error":"#VALUE!"},{"$error":"#VALUE!"},{"$f":"VLOOKUP($AG173,Tabel!$J$3:$K$109,2,FALSE)","v":{"$error":"#VALUE!"}},{"$f":"Tabel!$K$106&$A173&$AH173&Tabel!$K$109","v":{"$error":"#VALUE!"}},{"$error":"#VALUE!"}]
[{"$f":"CONCATENATE(gastenlijst[[#This Row],[Post]],gastenlijst[[#This Row],[Code]],gastenlijst[[#This Row],[Huisnr aangepast]],gastenlijst[[#This Row],[Yes]])","v":{"$error":"#VALUE!"}},{"$error":"#VALUE!"},{"$error":"#VALUE!"},{"$error":"#VALUE!"},{"$error":"#VALUE!"},{"$error":"#VALUE!"},{"$error":"#VALUE!"},{"$error":"#VALUE!"},{"$error":"#VALUE!"},{"$error":"#VALUE!"},{"$error":"#VALUE!"},{"$f":"VLOOKUP(B174,Tabel!$K$3:$L$109,2,FALSE)","v":{"$error":"#VALUE!"}},{"$f":"VLOOKUP(C174,Tabel!$K$3:$L$109,2,FALSE)","v":{"$error":"#VALUE!"}},{"$f":"VLOOKUP(D174,Tabel!$K$3:$L$109,2,FALSE)","v":{"$error":"#VALUE!"}},{"$f":"VLOOKUP(E174,Tabel!$K$3:$L$109,2,FALSE)","v":{"$error":"#VALUE!"}},{"$f":"VLOOKUP(F174,Tabel!$K$3:$L$109,2,FALSE)","v":{"$error":"#VALUE!"}},{"$f":"VLOOKUP(G174,Tabel!$K$3:$L$109,2,FALSE)","v":{"$error":"#VALUE!"}},{"$f":"VLOOKUP(H174,Tabel!$K$3:$L$109,2,FALSE)","v":{"$error":"#VALUE!"}},{"$f":"VLOOKUP(I174,Tabel!$K$3:$L$109,2,FALSE)","v":{"$error":"#VALUE!"}},{"$f":"VLOOKUP(J174,Tabel!$K$3:$L$109,2,FALSE)","v":{"$error":"#VALUE!"}},{"$f":"VLOOKUP(K174,Tabel!$K$3:$L$109,2,FALSE)","v":{"$error":"#VALUE!"}},{"$error":"#VALUE!"},{"$error":"#VALUE!"},{"$error":"#VALUE!"},{"$error":"#VALUE!"},{"$error":"#VALUE!"},{"$error":"#VALUE!"},{"$error":"#VALUE!"},{"$error":"#VALUE!"},{"$error":"#VALUE!"},{"$error":"#VALUE!"},{"$error":"#VALUE!"},{"$error":"#VALUE!"},{"$f":"VLOOKUP($AG174,Tabel!$J$3:$K$109,2,FALSE)","v":{"$error":"#VALUE!"}},{"$f":"Tabel!$K$106&$A174&$AH174&Tabel!$K$109","v":{"$error":"#VALUE!"}},{"$error":"#VALUE!"}]
[{"$f":"CONCATENATE(gastenlijst[[#This Row],[Post]],gastenlijst[[#This Row],[Code]],gastenlijst[[#This Row],[Huisnr aangepast]],gastenlijst[[#This Row],[Yes]])","v":{"$error":"#VALUE!"}},{"$error":"#VALUE!"},{"$error":"#VALUE!"},{"$error":"#VALUE!"},{"$error":"#VALUE!"},{"$error":"#VALUE!"},{"$error":"#VALUE!"},{"$error":"#VALUE!"},{"$error":"#VALUE!"},{"$error":"#VALUE!"},{"$error":"#VALUE!"},{"$f":"VLOOKUP(B175,Tabel!$K$3:$L$109,2,FALSE)","v":{"$error":"#VALUE!"}},{"$f":"VLOOKUP(C175,Tabel!$K$3:$L$109,2,FALSE)","v":{"$error":"#VALUE!"}},{"$f":"VLOOKUP(D175,Tabel!$K$3:$L$109,2,FALSE)","v":{"$error":"#VALUE!"}},{"$f":"VLOOKUP(E175,Tabel!$K$3:$L$109,2,FALSE)","v":{"$error":"#VALUE!"}},{"$f":"VLOOKUP(F175,Tabel!$K$3:$L$109,2,FALSE)","v":{"$error":"#VALUE!"}},{"$f":"VLOOKUP(G175,Tabel!$K$3:$L$109,2,FALSE)","v":{"$error":"#VALUE!"}},{"$f":"VLOOKUP(H175,Tabel!$K$3:$L$109,2,FALSE)","v":{"$error":"#VALUE!"}},{"$f":"VLOOKUP(I175,Tabel!$K$3:$L$109,2,FALSE)","v":{"$error":"#VALUE!"}},{"$f":"VLOOKUP(J175,Tabel!$K$3:$L$109,2,FALSE)","v":{"$error":"#VALUE!"}},{"$f":"VLOOKUP(K175,Tabel!$K$3:$L$109,2,FALSE)","v":{"$error":"#VALUE!"}},{"$error":"#VALUE!"},{"$error":"#VALUE!"},{"$error":"#VALUE!"},{"$error":"#VALUE!"},{"$error":"#VALUE!"},{"$error":"#VALUE!"},{"$error":"#VALUE!"},{"$error":"#VALUE!"},{"$error":"#VALUE!"},{"$error":"#VALUE!"},{"$error":"#VALUE!"},{"$error":"#VALUE!"},{"$f":"VLOOKUP($AG175,Tabel!$J$3:$K$109,2,FALSE)","v":{"$error":"#VALUE!"}},{"$f":"Tabel!$K$106&$A175&$AH175&Tabel!$K$109","v":{"$error":"#VALUE!"}},{"$error":"#VALUE!"}]
[{"$f":"CONCATENATE(gastenlijst[[#This Row],[Post]],gastenlijst[[#This Row],[Code]],gastenlijst[[#This Row],[Huisnr aangepast]],gastenlijst[[#This Row],[Yes]])","v":{"$error":"#VALUE!"}},{"$error":"#VALUE!"},{"$error":"#VALUE!"},{"$error":"#VALUE!"},{"$error":"#VALUE!"},{"$error":"#VALUE!"},{"$error":"#VALUE!"},{"$error":"#VALUE!"},{"$error":"#VALUE!"},{"$error":"#VALUE!"},{"$error":"#VALUE!"},{"$f":"VLOOKUP(B176,Tabel!$K$3:$L$109,2,FALSE)","v":{"$error":"#VALUE!"}},{"$f":"VLOOKUP(C176,Tabel!$K$3:$L$109,2,FALSE)","v":{"$error":"#VALUE!"}},{"$f":"VLOOKUP(D176,Tabel!$K$3:$L$109,2,FALSE)","v":{"$error":"#VALUE!"}},{"$f":"VLOOKUP(E176,Tabel!$K$3:$L$109,2,FALSE)","v":{"$error":"#VALUE!"}},{"$f":"VLOOKUP(F176,Tabel!$K$3:$L$109,2,FALSE)","v":{"$error":"#VALUE!"}},{"$f":"VLOOKUP(G176,Tabel!$K$3:$L$109,2,FALSE)","v":{"$error":"#VALUE!"}},{"$f":"VLOOKUP(H176,Tabel!$K$3:$L$109,2,FALSE)","v":{"$error":"#VALUE!"}},{"$f":"VLOOKUP(I176,Tabel!$K$3:$L$109,2,FALSE)","v":{"$error":"#VALUE!"}},{"$f":"VLOOKUP(J176,Tabel!$K$3:$L$109,2,FALSE)","v":{"$error":"#VALUE!"}},{"$f":"VLOOKUP(K176,Tabel!$K$3:$L$109,2,FALSE)","v":{"$error":"#VALUE!"}},{"$error":"#VALUE!"},{"$error":"#VALUE!"},{"$error":"#VALUE!"},{"$error":"#VALUE!"},{"$error":"#VALUE!"},{"$error":"#VALUE!"},{"$error":"#VALUE!"},{"$error":"#VALUE!"},{"$error":"#VALUE!"},{"$error":"#VALUE!"},{"$error":"#VALUE!"},{"$error":"#VALUE!"},{"$f":"VLOOKUP($AG176,Tabel!$J$3:$K$109,2,FALSE)","v":{"$error":"#VALUE!"}},{"$f":"Tabel!$K$106&$A176&$AH176&Tabel!$K$109","v":{"$error":"#VALUE!"}},{"$error":"#VALUE!"}]
[{"$f":"CONCATENATE(gastenlijst[[#This Row],[Post]],gastenlijst[[#This Row],[Code]],gastenlijst[[#This Row],[Huisnr aangepast]],gastenlijst[[#This Row],[Yes]])","v":{"$error":"#VALUE!"}},{"$error":"#VALUE!"},{"$error":"#VALUE!"},{"$error":"#VALUE!"},{"$error":"#VALUE!"},{"$error":"#VALUE!"},{"$error":"#VALUE!"},{"$error":"#VALUE!"},{"$error":"#VALUE!"},{"$error":"#VALUE!"},{"$error":"#VALUE!"},{"$f":"VLOOKUP(B177,Tabel!$K$3:$L$109,2,FALSE)","v":{"$error":"#VALUE!"}},{"$f":"VLOOKUP(C177,Tabel!$K$3:$L$109,2,FALSE)","v":{"$error":"#VALUE!"}},{"$f":"VLOOKUP(D177,Tabel!$K$3:$L$109,2,FALSE)","v":{"$error":"#VALUE!"}},{"$f":"VLOOKUP(E177,Tabel!$K$3:$L$109,2,FALSE)","v":{"$error":"#VALUE!"}},{"$f":"VLOOKUP(F177,Tabel!$K$3:$L$109,2,FALSE)","v":{"$error":"#VALUE!"}},{"$f":"VLOOKUP(G177,Tabel!$K$3:$L$109,2,FALSE)","v":{"$error":"#VALUE!"}},{"$f":"VLOOKUP(H177,Tabel!$K$3:$L$109,2,FALSE)","v":{"$error":"#VALUE!"}},{"$f":"VLOOKUP(I177,Tabel!$K$3:$L$109,2,FALSE)","v":{"$error":"#VALUE!"}},{"$f":"VLOOKUP(J177,Tabel!$K$3:$L$109,2,FALSE)","v":{"$error":"#VALUE!"}},{"$f":"VLOOKUP(K177,Tabel!$K$3:$L$109,2,FALSE)","v":{"$error":"#VALUE!"}},{"$error":"#VALUE!"},{"$error":"#VALUE!"},{"$error":"#VALUE!"},{"$error":"#VALUE!"},{"$error":"#VALUE!"},{"$error":"#VALUE!"},{"$error":"#VALUE!"},{"$error":"#VALUE!"},{"$error":"#VALUE!"},{"$error":"#VALUE!"},{"$error":"#VALUE!"},{"$error":"#VALUE!"},{"$f":"VLOOKUP($AG177,Tabel!$J$3:$K$109,2,FALSE)","v":{"$error":"#VALUE!"}},{"$f":"Tabel!$K$106&$A177&$AH177&Tabel!$K$109","v":{"$error":"#VALUE!"}},{"$error":"#VALUE!"}]
[{"$f":"CONCATENATE(gastenlijst[[#This Row],[Post]],gastenlijst[[#This Row],[Code]],gastenlijst[[#This Row],[Huisnr aangepast]],gastenlijst[[#This Row],[Yes]])","v":{"$error":"#VALUE!"}},{"$error":"#VALUE!"},{"$error":"#VALUE!"},{"$error":"#VALUE!"},{"$error":"#VALUE!"},{"$error":"#VALUE!"},{"$error":"#VALUE!"},{"$error":"#VALUE!"},{"$error":"#VALUE!"},{"$error":"#VALUE!"},{"$error":"#VALUE!"},{"$f":"VLOOKUP(B178,Tabel!$K$3:$L$109,2,FALSE)","v":{"$error":"#VALUE!"}},{"$f":"VLOOKUP(C178,Tabel!$K$3:$L$109,2,FALSE)","v":{"$error":"#VALUE!"}},{"$f":"VLOOKUP(D178,Tabel!$K$3:$L$109,2,FALSE)","v":{"$error":"#VALUE!"}},{"$f":"VLOOKUP(E178,Tabel!$K$3:$L$109,2,FALSE)","v":{"$error":"#VALUE!"}},{"$f":"VLOOKUP(F178,Tabel!$K$3:$L$109,2,FALSE)","v":{"$error":"#VALUE!"}},{"$f":"VLOOKUP(G178,Tabel!$K$3:$L$109,2,FALSE)","v":{"$error":"#VALUE!"}},{"$f":"VLOOKUP(H178,Tabel!$K$3:$L$109,2,FALSE)","v":{"$error":"#VALUE!"}},{"$f":"VLOOKUP(I178,Tabel!$K$3:$L$109,2,FALSE)","v":{"$error":"#VALUE!"}},{"$f":"VLOOKUP(J178,Tabel!$K$3:$L$109,2,FALSE)","v":{"$error":"#VALUE!"}},{"$f":"VLOOKUP(K178,Tabel!$K$3:$L$109,2,FALSE)","v":{"$error":"#VALUE!"}},{"$error":"#VALUE!"},{"$error":"#VALUE!"},{"$error":"#VALUE!"},{"$error":"#VALUE!"},{"$error":"#VALUE!"},{"$error":"#VALUE!"},{"$error":"#VALUE!"},{"$error":"#VALUE!"},{"$error":"#VALUE!"},{"$error":"#VALUE!"},{"$error":"#VALUE!"},{"$error":"#VALUE!"},{"$f":"VLOOKUP($AG178,Tabel!$J$3:$K$109,2,FALSE)","v":{"$error":"#VALUE!"}},{"$f":"Tabel!$K$106&$A178&$AH178&Tabel!$K$109","v":{"$error":"#VALUE!"}},{"$error":"#VALUE!"}]
[{"$f":"CONCATENATE(gastenlijst[[#This Row],[Post]],gastenlijst[[#This Row],[Code]],gastenlijst[[#This Row],[Huisnr aangepast]],gastenlijst[[#This Row],[Yes]])","v":{"$error":"#VALUE!"}},{"$error":"#VALUE!"},{"$error":"#VALUE!"},{"$error":"#VALUE!"},{"$error":"#VALUE!"},{"$error":"#VALUE!"},{"$error":"#VALUE!"},{"$error":"#VALUE!"},{"$error":"#VALUE!"},{"$error":"#VALUE!"},{"$error":"#VALUE!"},{"$f":"VLOOKUP(B179,Tabel!$K$3:$L$109,2,FALSE)","v":{"$error":"#VALUE!"}},{"$f":"VLOOKUP(C179,Tabel!$K$3:$L$109,2,FALSE)","v":{"$error":"#VALUE!"}},{"$f":"VLOOKUP(D179,Tabel!$K$3:$L$109,2,FALSE)","v":{"$error":"#VALUE!"}},{"$f":"VLOOKUP(E179,Tabel!$K$3:$L$109,2,FALSE)","v":{"$error":"#VALUE!"}},{"$f":"VLOOKUP(F179,Tabel!$K$3:$L$109,2,FALSE)","v":{"$error":"#VALUE!"}},{"$f":"VLOOKUP(G179,Tabel!$K$3:$L$109,2,FALSE)","v":{"$error":"#VALUE!"}},{"$f":"VLOOKUP(H179,Tabel!$K$3:$L$109,2,FALSE)","v":{"$error":"#VALUE!"}},{"$f":"VLOOKUP(I179,Tabel!$K$3:$L$109,2,FALSE)","v":{"$error":"#VALUE!"}},{"$f":"VLOOKUP(J179,Tabel!$K$3:$L$109,2,FALSE)","v":{"$error":"#VALUE!"}},{"$f":"VLOOKUP(K179,Tabel!$K$3:$L$109,2,FALSE)","v":{"$error":"#VALUE!"}},{"$error":"#VALUE!"},{"$error":"#VALUE!"},{"$error":"#VALUE!"},{"$error":"#VALUE!"},{"$error":"#VALUE!"},{"$error":"#VALUE!"},{"$error":"#VALUE!"},{"$error":"#VALUE!"},{"$error":"#VALUE!"},{"$error":"#VALUE!"},{"$error":"#VALUE!"},{"$error":"#VALUE!"},{"$f":"VLOOKUP($AG179,Tabel!$J$3:$K$109,2,FALSE)","v":{"$error":"#VALUE!"}},{"$f":"Tabel!$K$106&$A179&$AH179&Tabel!$K$109","v":{"$error":"#VALUE!"}},{"$error":"#VALUE!"}]
[{"$f":"CONCATENATE(gastenlijst[[#This Row],[Post]],gastenlijst[[#This Row],[Code]],gastenlijst[[#This Row],[Huisnr aangepast]],gastenlijst[[#This Row],[Yes]])","v":{"$error":"#VALUE!"}},{"$error":"#VALUE!"},{"$error":"#VALUE!"},{"$error":"#VALUE!"},{"$error":"#VALUE!"},{"$error":"#VALUE!"},{"$error":"#VALUE!"},{"$error":"#VALUE!"},{"$error":"#VALUE!"},{"$error":"#VALUE!"},{"$error":"#VALUE!"},{"$f":"VLOOKUP(B180,Tabel!$K$3:$L$109,2,FALSE)","v":{"$error":"#VALUE!"}},{"$f":"VLOOKUP(C180,Tabel!$K$3:$L$109,2,FALSE)","v":{"$error":"#VALUE!"}},{"$f":"VLOOKUP(D180,Tabel!$K$3:$L$109,2,FALSE)","v":{"$error":"#VALUE!"}},{"$f":"VLOOKUP(E180,Tabel!$K$3:$L$109,2,FALSE)","v":{"$error":"#VALUE!"}},{"$f":"VLOOKUP(F180,Tabel!$K$3:$L$109,2,FALSE)","v":{"$error":"#VALUE!"}},{"$f":"VLOOKUP(G180,Tabel!$K$3:$L$109,2,FALSE)","v":{"$error":"#VALUE!"}},{"$f":"VLOOKUP(H180,Tabel!$K$3:$L$109,2,FALSE)","v":{"$error":"#VALUE!"}},{"$f":"VLOOKUP(I180,Tabel!$K$3:$L$109,2,FALSE)","v":{"$error":"#VALUE!"}},{"$f":"VLOOKUP(J180,Tabel!$K$3:$L$109,2,FALSE)","v":{"$error":"#VALUE!"}},{"$f":"VLOOKUP(K180,Tabel!$K$3:$L$109,2,FALSE)","v":{"$error":"#VALUE!"}},{"$error":"#VALUE!"},{"$error":"#VALUE!"},{"$error":"#VALUE!"},{"$error":"#VALUE!"},{"$error":"#VALUE!"},{"$error":"#VALUE!"},{"$error":"#VALUE!"},{"$error":"#VALUE!"},{"$error":"#VALUE!"},{"$error":"#VALUE!"},{"$error":"#VALUE!"},{"$error":"#VALUE!"},{"$f":"VLOOKUP($AG180,Tabel!$J$3:$K$109,2,FALSE)","v":{"$error":"#VALUE!"}},{"$f":"Tabel!$K$106&$A180&$AH180&Tabel!$K$109","v":{"$error":"#VALUE!"}},{"$error":"#VALUE!"}]
[{"$f":"CONCATENATE(gastenlijst[[#This Row],[Post]],gastenlijst[[#This Row],[Code]],gastenlijst[[#This Row],[Huisnr aangepast]],gastenlijst[[#This Row],[Yes]])","v":{"$error":"#VALUE!"}},{"$error":"#VALUE!"},{"$error":"#VALUE!"},{"$error":"#VALUE!"},{"$error":"#VALUE!"},{"$error":"#VALUE!"},{"$error":"#VALUE!"},{"$error":"#VALUE!"},{"$error":"#VALUE!"},{"$error":"#VALUE!"},{"$error":"#VALUE!"},{"$f":"VLOOKUP(B181,Tabel!$K$3:$L$109,2,FALSE)","v":{"$error":"#VALUE!"}},{"$f":"VLOOKUP(C181,Tabel!$K$3:$L$109,2,FALSE)","v":{"$error":"#VALUE!"}},{"$f":"VLOOKUP(D181,Tabel!$K$3:$L$109,2,FALSE)","v":{"$error":"#VALUE!"}},{"$f":"VLOOKUP(E181,Tabel!$K$3:$L$109,2,FALSE)","v":{"$error":"#VALUE!"}},{"$f":"VLOOKUP(F181,Tabel!$K$3:$L$109,2,FALSE)","v":{"$error":"#VALUE!"}},{"$f":"VLOOKUP(G181,Tabel!$K$3:$L$109,2,FALSE)","v":{"$error":"#VALUE!"}},{"$f":"VLOOKUP(H181,Tabel!$K$3:$L$109,2,FALSE)","v":{"$error":"#VALUE!"}},{"$f":"VLOOKUP(I181,Tabel!$K$3:$L$109,2,FALSE)","v":{"$error":"#VALUE!"}},{"$f":"VLOOKUP(J181,Tabel!$K$3:$L$109,2,FALSE)","v":{"$error":"#VALUE!"}},{"$f":"VLOOKUP(K181,Tabel!$K$3:$L$109,2,FALSE)","v":{"$error":"#VALUE!"}},{"$error":"#VALUE!"},{"$error":"#VALUE!"},{"$error":"#VALUE!"},{"$error":"#VALUE!"},{"$error":"#VALUE!"},{"$error":"#VALUE!"},{"$error":"#VALUE!"},{"$error":"#VALUE!"},{"$error":"#VALUE!"},{"$error":"#VALUE!"},{"$error":"#VALUE!"},{"$error":"#VALUE!"},{"$f":"VLOOKUP($AG181,Tabel!$J$3:$K$109,2,FALSE)","v":{"$error":"#VALUE!"}},{"$f":"Tabel!$K$106&$A181&$AH181&Tabel!$K$109","v":{"$error":"#VALUE!"}},{"$error":"#VALUE!"}]
[{"$f":"CONCATENATE(gastenlijst[[#This Row],[Post]],gastenlijst[[#This Row],[Code]],gastenlijst[[#This Row],[Huisnr aangepast]],gastenlijst[[#This Row],[Yes]])","v":{"$error":"#VALUE!"}},{"$error":"#VALUE!"},{"$error":"#VALUE!"},{"$error":"#VALUE!"},{"$error":"#VALUE!"},{"$error":"#VALUE!"},{"$error":"#VALUE!"},{"$error":"#VALUE!"},{"$error":"#VALUE!"},{"$error":"#VALUE!"},{"$error":"#VALUE!"},{"$f":"VLOOKUP(B182,Tabel!$K$3:$L$109,2,FALSE)","v":{"$error":"#VALUE!"}},{"$f":"VLOOKUP(C182,Tabel!$K$3:$L$109,2,FALSE)","v":{"$error":"#VALUE!"}},{"$f":"VLOOKUP(D182,Tabel!$K$3:$L$109,2,FALSE)","v":{"$error":"#VALUE!"}},{"$f":"VLOOKUP(E182,Tabel!$K$3:$L$109,2,FALSE)","v":{"$error":"#VALUE!"}},{"$f":"VLOOKUP(F182,Tabel!$K$3:$L$109,2,FALSE)","v":{"$error":"#VALUE!"}},{"$f":"VLOOKUP(G182,Tabel!$K$3:$L$109,2,FALSE)","v":{"$error":"#VALUE!"}},{"$f":"VLOOKUP(H182,Tabel!$K$3:$L$109,2,FALSE)","v":{"$error":"#VALUE!"}},{"$f":"VLOOKUP(I182,Tabel!$K$3:$L$109,2,FALSE)","v":{"$error":"#VALUE!"}},{"$f":"VLOOKUP(J182,Tabel!$K$3:$L$109,2,FALSE)","v":{"$error":"#VALUE!"}},{"$f":"VLOOKUP(K182,Tabel!$K$3:$L$109,2,FALSE)","v":{"$error":"#VALUE!"}},{"$error":"#VALUE!"},{"$error":"#VALUE!"},{"$error":"#VALUE!"},{"$error":"#VALUE!"},{"$error":"#VALUE!"},{"$error":"#VALUE!"},{"$error":"#VALUE!"},{"$error":"#VALUE!"},{"$error":"#VALUE!"},{"$error":"#VALUE!"},{"$error":"#VALUE!"},{"$error":"#VALUE!"},{"$f":"VLOOKUP($AG182,Tabel!$J$3:$K$109,2,FALSE)","v":{"$error":"#VALUE!"}},{"$f":"Tabel!$K$106&$A182&$AH182&Tabel!$K$109","v":{"$error":"#VALUE!"}},{"$error":"#VALUE!"}]
[{"$f":"CONCATENATE(gastenlijst[[#This Row],[Post]],gastenlijst[[#This Row],[Code]],gastenlijst[[#This Row],[Huisnr aangepast]],gastenlijst[[#This Row],[Yes]])","v":{"$error":"#VALUE!"}},{"$error":"#VALUE!"},{"$error":"#VALUE!"},{"$error":"#VALUE!"},{"$error":"#VALUE!"},{"$error":"#VALUE!"},{"$error":"#VALUE!"},{"$error":"#VALUE!"},{"$error":"#VALUE!"},{"$error":"#VALUE!"},{"$error":"#VALUE!"},{"$f":"VLOOKUP(B183,Tabel!$K$3:$L$109,2,FALSE)","v":{"$error":"#VALUE!"}},{"$f":"VLOOKUP(C183,Tabel!$K$3:$L$109,2,FALSE)","v":{"$error":"#VALUE!"}},{"$f":"VLOOKUP(D183,Tabel!$K$3:$L$109,2,FALSE)","v":{"$error":"#VALUE!"}},{"$f":"VLOOKUP(E183,Tabel!$K$3:$L$109,2,FALSE)","v":{"$error":"#VALUE!"}},{"$f":"VLOOKUP(F183,Tabel!$K$3:$L$109,2,FALSE)","v":{"$error":"#VALUE!"}},{"$f":"VLOOKUP(G183,Tabel!$K$3:$L$109,2,FALSE)","v":{"$error":"#VALUE!"}},{"$f":"VLOOKUP(H183,Tabel!$K$3:$L$109,2,FALSE)","v":{"$error":"#VALUE!"}},{"$f":"VLOOKUP(I183,Tabel!$K$3:$L$109,2,FALSE)","v":{"$error":"#VALUE!"}},{"$f":"VLOOKUP(J183,Tabel!$K$3:$L$109,2,FALSE)","v":{"$error":"#VALUE!"}},{"$f":"VLOOKUP(K183,Tabel!$K$3:$L$109,2,FALSE)","v":{"$error":"#VALUE!"}},{"$error":"#VALUE!"},{"$error":"#VALUE!"},{"$error":"#VALUE!"},{"$error":"#VALUE!"},{"$error":"#VALUE!"},{"$error":"#VALUE!"},{"$error":"#VALUE!"},{"$error":"#VALUE!"},{"$error":"#VALUE!"},{"$error":"#VALUE!"},{"$error":"#VALUE!"},{"$error":"#VALUE!"},{"$f":"VLOOKUP($AG183,Tabel!$J$3:$K$109,2,FALSE)","v":{"$error":"#VALUE!"}},{"$f":"Tabel!$K$106&$A183&$AH183&Tabel!$K$109","v":{"$error":"#VALUE!"}},{"$error":"#VALUE!"}]
[{"$f":"CONCATENATE(gastenlijst[[#This Row],[Post]],gastenlijst[[#This Row],[Code]],gastenlijst[[#This Row],[Huisnr aangepast]],gastenlijst[[#This Row],[Yes]])","v":{"$error":"#VALUE!"}},{"$error":"#VALUE!"},{"$error":"#VALUE!"},{"$error":"#VALUE!"},{"$error":"#VALUE!"},{"$error":"#VALUE!"},{"$error":"#VALUE!"},{"$error":"#VALUE!"},{"$error":"#VALUE!"},{"$error":"#VALUE!"},{"$error":"#VALUE!"},{"$f":"VLOOKUP(B184,Tabel!$K$3:$L$109,2,FALSE)","v":{"$error":"#VALUE!"}},{"$f":"VLOOKUP(C184,Tabel!$K$3:$L$109,2,FALSE)","v":{"$error":"#VALUE!"}},{"$f":"VLOOKUP(D184,Tabel!$K$3:$L$109,2,FALSE)","v":{"$error":"#VALUE!"}},{"$f":"VLOOKUP(E184,Tabel!$K$3:$L$109,2,FALSE)","v":{"$error":"#VALUE!"}},{"$f":"VLOOKUP(F184,Tabel!$K$3:$L$109,2,FALSE)","v":{"$error":"#VALUE!"}},{"$f":"VLOOKUP(G184,Tabel!$K$3:$L$109,2,FALSE)","v":{"$error":"#VALUE!"}},{"$f":"VLOOKUP(H184,Tabel!$K$3:$L$109,2,FALSE)","v":{"$error":"#VALUE!"}},{"$f":"VLOOKUP(I184,Tabel!$K$3:$L$109,2,FALSE)","v":{"$error":"#VALUE!"}},{"$f":"VLOOKUP(J184,Tabel!$K$3:$L$109,2,FALSE)","v":{"$error":"#VALUE!"}},{"$f":"VLOOKUP(K184,Tabel!$K$3:$L$109,2,FALSE)","v":{"$error":"#VALUE!"}},{"$error":"#VALUE!"},{"$error":"#VALUE!"},{"$error":"#VALUE!"},{"$error":"#VALUE!"},{"$error":"#VALUE!"},{"$error":"#VALUE!"},{"$error":"#VALUE!"},{"$error":"#VALUE!"},{"$error":"#VALUE!"},{"$error":"#VALUE!"},{"$error":"#VALUE!"},{"$error":"#VALUE!"},{"$f":"VLOOKUP($AG184,Tabel!$J$3:$K$109,2,FALSE)","v":{"$error":"#VALUE!"}},{"$f":"Tabel!$K$106&$A184&$AH184&Tabel!$K$109","v":{"$error":"#VALUE!"}},{"$error":"#VALUE!"}]
[{"$f":"CONCATENATE(gastenlijst[[#This Row],[Post]],gastenlijst[[#This Row],[Code]],gastenlijst[[#This Row],[Huisnr aangepast]],gastenlijst[[#This Row],[Yes]])","v":{"$error":"#VALUE!"}},{"$error":"#VALUE!"},{"$error":"#VALUE!"},{"$error":"#VALUE!"},{"$error":"#VALUE!"},{"$error":"#VALUE!"},{"$error":"#VALUE!"},{"$error":"#VALUE!"},{"$error":"#VALUE!"},{"$error":"#VALUE!"},{"$error":"#VALUE!"},{"$f":"VLOOKUP(B185,Tabel!$K$3:$L$109,2,FALSE)","v":{"$error":"#VALUE!"}},{"$f":"VLOOKUP(C185,Tabel!$K$3:$L$109,2,FALSE)","v":{"$error":"#VALUE!"}},{"$f":"VLOOKUP(D185,Tabel!$K$3:$L$109,2,FALSE)","v":{"$error":"#VALUE!"}},{"$f":"VLOOKUP(E185,Tabel!$K$3:$L$109,2,FALSE)","v":{"$error":"#VALUE!"}},{"$f":"VLOOKUP(F185,Tabel!$K$3:$L$109,2,FALSE)","v":{"$error":"#VALUE!"}},{"$f":"VLOOKUP(G185,Tabel!$K$3:$L$109,2,FALSE)","v":{"$error":"#VALUE!"}},{"$f":"VLOOKUP(H185,Tabel!$K$3:$L$109,2,FALSE)","v":{"$error":"#VALUE!"}},{"$f":"VLOOKUP(I185,Tabel!$K$3:$L$109,2,FALSE)","v":{"$error":"#VALUE!"}},{"$f":"VLOOKUP(J185,Tabel!$K$3:$L$109,2,FALSE)","v":{"$error":"#VALUE!"}},{"$f":"VLOOKUP(K185,Tabel!$K$3:$L$109,2,FALSE)","v":{"$error":"#VALUE!"}},{"$error":"#VALUE!"},{"$error":"#VALUE!"},{"$error":"#VALUE!"},{"$error":"#VALUE!"},{"$error":"#VALUE!"},{"$error":"#VALUE!"},{"$error":"#VALUE!"},{"$error":"#VALUE!"},{"$error":"#VALUE!"},{"$error":"#VALUE!"},{"$error":"#VALUE!"},{"$error":"#VALUE!"},{"$f":"VLOOKUP($AG185,Tabel!$J$3:$K$109,2,FALSE)","v":{"$error":"#VALUE!"}},{"$f":"Tabel!$K$106&$A185&$AH185&Tabel!$K$109","v":{"$error":"#VALUE!"}},{"$error":"#VALUE!"}]
[{"$f":"CONCATENATE(gastenlijst[[#This Row],[Post]],gastenlijst[[#This Row],[Code]],gastenlijst[[#This Row],[Huisnr aangepast]],gastenlijst[[#This Row],[Yes]])","v":{"$error":"#VALUE!"}},{"$error":"#VALUE!"},{"$error":"#VALUE!"},{"$error":"#VALUE!"},{"$error":"#VALUE!"},{"$error":"#VALUE!"},{"$error":"#VALUE!"},{"$error":"#VALUE!"},{"$error":"#VALUE!"},{"$error":"#VALUE!"},{"$error":"#VALUE!"},{"$f":"VLOOKUP(B186,Tabel!$K$3:$L$109,2,FALSE)","v":{"$error":"#VALUE!"}},{"$f":"VLOOKUP(C186,Tabel!$K$3:$L$109,2,FALSE)","v":{"$error":"#VALUE!"}},{"$f":"VLOOKUP(D186,Tabel!$K$3:$L$109,2,FALSE)","v":{"$error":"#VALUE!"}},{"$f":"VLOOKUP(E186,Tabel!$K$3:$L$109,2,FALSE)","v":{"$error":"#VALUE!"}},{"$f":"VLOOKUP(F186,Tabel!$K$3:$L$109,2,FALSE)","v":{"$error":"#VALUE!"}},{"$f":"VLOOKUP(G186,Tabel!$K$3:$L$109,2,FALSE)","v":{"$error":"#VALUE!"}},{"$f":"VLOOKUP(H186,Tabel!$K$3:$L$109,2,FALSE)","v":{"$error":"#VALUE!"}},{"$f":"VLOOKUP(I186,Tabel!$K$3:$L$109,2,FALSE)","v":{"$error":"#VALUE!"}},{"$f":"VLOOKUP(J186,Tabel!$K$3:$L$109,2,FALSE)","v":{"$error":"#VALUE!"}},{"$f":"VLOOKUP(K186,Tabel!$K$3:$L$109,2,FALSE)","v":{"$error":"#VALUE!"}},{"$error":"#VALUE!"},{"$error":"#VALUE!"},{"$error":"#VALUE!"},{"$error":"#VALUE!"},{"$error":"#VALUE!"},{"$error":"#VALUE!"},{"$error":"#VALUE!"},{"$error":"#VALUE!"},{"$error":"#VALUE!"},{"$error":"#VALUE!"},{"$error":"#VALUE!"},{"$error":"#VALUE!"},{"$f":"VLOOKUP($AG186,Tabel!$J$3:$K$109,2,FALSE)","v":{"$error":"#VALUE!"}},{"$f":"Tabel!$K$106&$A186&$AH186&Tabel!$K$109","v":{"$error":"#VALUE!"}},{"$error":"#VALUE!"}]
[{"$f":"CONCATENATE(gastenlijst[[#This Row],[Post]],gastenlijst[[#This Row],[Code]],gastenlijst[[#This Row],[Huisnr aangepast]],gastenlijst[[#This Row],[Yes]])","v":{"$error":"#VALUE!"}},{"$error":"#VALUE!"},{"$error":"#VALUE!"},{"$error":"#VALUE!"},{"$error":"#VALUE!"},{"$error":"#VALUE!"},{"$error":"#VALUE!"},{"$error":"#VALUE!"},{"$error":"#VALUE!"},{"$error":"#VALUE!"},{"$error":"#VALUE!"},{"$f":"VLOOKUP(B187,Tabel!$K$3:$L$109,2,FALSE)","v":{"$error":"#VALUE!"}},{"$f":"VLOOKUP(C187,Tabel!$K$3:$L$109,2,FALSE)","v":{"$error":"#VALUE!"}},{"$f":"VLOOKUP(D187,Tabel!$K$3:$L$109,2,FALSE)","v":{"$error":"#VALUE!"}},{"$f":"VLOOKUP(E187,Tabel!$K$3:$L$109,2,FALSE)","v":{"$error":"#VALUE!"}},{"$f":"VLOOKUP(F187,Tabel!$K$3:$L$109,2,FALSE)","v":{"$error":"#VALUE!"}},{"$f":"VLOOKUP(G187,Tabel!$K$3:$L$109,2,FALSE)","v":{"$error":"#VALUE!"}},{"$f":"VLOOKUP(H187,Tabel!$K$3:$L$109,2,FALSE)","v":{"$error":"#VALUE!"}},{"$f":"VLOOKUP(I187,Tabel!$K$3:$L$109,2,FALSE)","v":{"$error":"#VALUE!"}},{"$f":"VLOOKUP(J187,Tabel!$K$3:$L$109,2,FALSE)","v":{"$error":"#VALUE!"}},{"$f":"VLOOKUP(K187,Tabel!$K$3:$L$109,2,FALSE)","v":{"$error":"#VALUE!"}},{"$error":"#VALUE!"},{"$error":"#VALUE!"},{"$error":"#VALUE!"},{"$error":"#VALUE!"},{"$error":"#VALUE!"},{"$error":"#VALUE!"},{"$error":"#VALUE!"},{"$error":"#VALUE!"},{"$error":"#VALUE!"},{"$error":"#VALUE!"},{"$error":"#VALUE!"},{"$error":"#VALUE!"},{"$f":"VLOOKUP($AG187,Tabel!$J$3:$K$109,2,FALSE)","v":{"$error":"#VALUE!"}},{"$f":"Tabel!$K$106&$A187&$AH187&Tabel!$K$109","v":{"$error":"#VALUE!"}},{"$error":"#VALUE!"}]
[{"$f":"CONCATENATE(gastenlijst[[#This Row],[Post]],gastenlijst[[#This Row],[Code]],gastenlijst[[#This Row],[Huisnr aangepast]],gastenlijst[[#This Row],[Yes]])","v":{"$error":"#VALUE!"}},{"$error":"#VALUE!"},{"$error":"#VALUE!"},{"$error":"#VALUE!"},{"$error":"#VALUE!"},{"$error":"#VALUE!"},{"$error":"#VALUE!"},{"$error":"#VALUE!"},{"$error":"#VALUE!"},{"$error":"#VALUE!"},{"$error":"#VALUE!"},{"$f":"VLOOKUP(B188,Tabel!$K$3:$L$109,2,FALSE)","v":{"$error":"#VALUE!"}},{"$f":"VLOOKUP(C188,Tabel!$K$3:$L$109,2,FALSE)","v":{"$error":"#VALUE!"}},{"$f":"VLOOKUP(D188,Tabel!$K$3:$L$109,2,FALSE)","v":{"$error":"#VALUE!"}},{"$f":"VLOOKUP(E188,Tabel!$K$3:$L$109,2,FALSE)","v":{"$error":"#VALUE!"}},{"$f":"VLOOKUP(F188,Tabel!$K$3:$L$109,2,FALSE)","v":{"$error":"#VALUE!"}},{"$f":"VLOOKUP(G188,Tabel!$K$3:$L$109,2,FALSE)","v":{"$error":"#VALUE!"}},{"$f":"VLOOKUP(H188,Tabel!$K$3:$L$109,2,FALSE)","v":{"$error":"#VALUE!"}},{"$f":"VLOOKUP(I188,Tabel!$K$3:$L$109,2,FALSE)","v":{"$error":"#VALUE!"}},{"$f":"VLOOKUP(J188,Tabel!$K$3:$L$109,2,FALSE)","v":{"$error":"#VALUE!"}},{"$f":"VLOOKUP(K188,Tabel!$K$3:$L$109,2,FALSE)","v":{"$error":"#VALUE!"}},{"$error":"#VALUE!"},{"$error":"#VALUE!"},{"$error":"#VALUE!"},{"$error":"#VALUE!"},{"$error":"#VALUE!"},{"$error":"#VALUE!"},{"$error":"#VALUE!"},{"$error":"#VALUE!"},{"$error":"#VALUE!"},{"$error":"#VALUE!"},{"$error":"#VALUE!"},{"$error":"#VALUE!"},{"$f":"VLOOKUP($AG188,Tabel!$J$3:$K$109,2,FALSE)","v":{"$error":"#VALUE!"}},{"$f":"Tabel!$K$106&$A188&$AH188&Tabel!$K$109","v":{"$error":"#VALUE!"}},{"$error":"#VALUE!"}]
[{"$f":"CONCATENATE(gastenlijst[[#This Row],[Post]],gastenlijst[[#This Row],[Code]],gastenlijst[[#This Row],[Huisnr aangepast]],gastenlijst[[#This Row],[Yes]])","v":{"$error":"#VALUE!"}},{"$error":"#VALUE!"},{"$error":"#VALUE!"},{"$error":"#VALUE!"},{"$error":"#VALUE!"},{"$error":"#VALUE!"},{"$error":"#VALUE!"},{"$error":"#VALUE!"},{"$error":"#VALUE!"},{"$error":"#VALUE!"},{"$error":"#VALUE!"},{"$f":"VLOOKUP(B189,Tabel!$K$3:$L$109,2,FALSE)","v":{"$error":"#VALUE!"}},{"$f":"VLOOKUP(C189,Tabel!$K$3:$L$109,2,FALSE)","v":{"$error":"#VALUE!"}},{"$f":"VLOOKUP(D189,Tabel!$K$3:$L$109,2,FALSE)","v":{"$error":"#VALUE!"}},{"$f":"VLOOKUP(E189,Tabel!$K$3:$L$109,2,FALSE)","v":{"$error":"#VALUE!"}},{"$f":"VLOOKUP(F189,Tabel!$K$3:$L$109,2,FALSE)","v":{"$error":"#VALUE!"}},{"$f":"VLOOKUP(G189,Tabel!$K$3:$L$109,2,FALSE)","v":{"$error":"#VALUE!"}},{"$f":"VLOOKUP(H189,Tabel!$K$3:$L$109,2,FALSE)","v":{"$error":"#VALUE!"}},{"$f":"VLOOKUP(I189,Tabel!$K$3:$L$109,2,FALSE)","v":{"$error":"#VALUE!"}},{"$f":"VLOOKUP(J189,Tabel!$K$3:$L$109,2,FALSE)","v":{"$error":"#VALUE!"}},{"$f":"VLOOKUP(K189,Tabel!$K$3:$L$109,2,FALSE)","v":{"$error":"#VALUE!"}},{"$error":"#VALUE!"},{"$error":"#VALUE!"},{"$error":"#VALUE!"},{"$error":"#VALUE!"},{"$error":"#VALUE!"},{"$error":"#VALUE!"},{"$error":"#VALUE!"},{"$error":"#VALUE!"},{"$error":"#VALUE!"},{"$error":"#VALUE!"},{"$error":"#VALUE!"},{"$error":"#VALUE!"},{"$f":"VLOOKUP($AG189,Tabel!$J$3:$K$109,2,FALSE)","v":{"$error":"#VALUE!"}},{"$f":"Tabel!$K$106&$A189&$AH189&Tabel!$K$109","v":{"$error":"#VALUE!"}},{"$error":"#VALUE!"}]
[{"$f":"CONCATENATE(gastenlijst[[#This Row],[Post]],gastenlijst[[#This Row],[Code]],gastenlijst[[#This Row],[Huisnr aangepast]],gastenlijst[[#This Row],[Yes]])","v":{"$error":"#VALUE!"}},{"$error":"#VALUE!"},{"$error":"#VALUE!"},{"$error":"#VALUE!"},{"$error":"#VALUE!"},{"$error":"#VALUE!"},{"$error":"#VALUE!"},{"$error":"#VALUE!"},{"$error":"#VALUE!"},{"$error":"#VALUE!"},{"$error":"#VALUE!"},{"$f":"VLOOKUP(B190,Tabel!$K$3:$L$109,2,FALSE)","v":{"$error":"#VALUE!"}},{"$f":"VLOOKUP(C190,Tabel!$K$3:$L$109,2,FALSE)","v":{"$error":"#VALUE!"}},{"$f":"VLOOKUP(D190,Tabel!$K$3:$L$109,2,FALSE)","v":{"$error":"#VALUE!"}},{"$f":"VLOOKUP(E190,Tabel!$K$3:$L$109,2,FALSE)","v":{"$error":"#VALUE!"}},{"$f":"VLOOKUP(F190,Tabel!$K$3:$L$109,2,FALSE)","v":{"$error":"#VALUE!"}},{"$f":"VLOOKUP(G190,Tabel!$K$3:$L$109,2,FALSE)","v":{"$error":"#VALUE!"}},{"$f":"VLOOKUP(H190,Tabel!$K$3:$L$109,2,FALSE)","v":{"$error":"#VALUE!"}},{"$f":"VLOOKUP(I190,Tabel!$K$3:$L$109,2,FALSE)","v":{"$error":"#VALUE!"}},{"$f":"VLOOKUP(J190,Tabel!$K$3:$L$109,2,FALSE)","v":{"$error":"#VALUE!"}},{"$f":"VLOOKUP(K190,Tabel!$K$3:$L$109,2,FALSE)","v":{"$error":"#VALUE!"}},{"$error":"#VALUE!"},{"$error":"#VALUE!"},{"$error":"#VALUE!"},{"$error":"#VALUE!"},{"$error":"#VALUE!"},{"$error":"#VALUE!"},{"$error":"#VALUE!"},{"$error":"#VALUE!"},{"$error":"#VALUE!"},{"$error":"#VALUE!"},{"$error":"#VALUE!"},{"$error":"#VALUE!"},{"$f":"VLOOKUP($AG190,Tabel!$J$3:$K$109,2,FALSE)","v":{"$error":"#VALUE!"}},{"$f":"Tabel!$K$106&$A190&$AH190&Tabel!$K$109","v":{"$error":"#VALUE!"}},{"$error":"#VALUE!"}]
[{"$f":"CONCATENATE(gastenlijst[[#This Row],[Post]],gastenlijst[[#This Row],[Code]],gastenlijst[[#This Row],[Huisnr aangepast]],gastenlijst[[#This Row],[Yes]])","v":{"$error":"#VALUE!"}},{"$error":"#VALUE!"},{"$error":"#VALUE!"},{"$error":"#VALUE!"},{"$error":"#VALUE!"},{"$error":"#VALUE!"},{"$error":"#VALUE!"},{"$error":"#VALUE!"},{"$error":"#VALUE!"},{"$error":"#VALUE!"},{"$error":"#VALUE!"},{"$f":"VLOOKUP(B191,Tabel!$K$3:$L$109,2,FALSE)","v":{"$error":"#VALUE!"}},{"$f":"VLOOKUP(C191,Tabel!$K$3:$L$109,2,FALSE)","v":{"$error":"#VALUE!"}},{"$f":"VLOOKUP(D191,Tabel!$K$3:$L$109,2,FALSE)","v":{"$error":"#VALUE!"}},{"$f":"VLOOKUP(E191,Tabel!$K$3:$L$109,2,FALSE)","v":{"$error":"#VALUE!"}},{"$f":"VLOOKUP(F191,Tabel!$K$3:$L$109,2,FALSE)","v":{"$error":"#VALUE!"}},{"$f":"VLOOKUP(G191,Tabel!$K$3:$L$109,2,FALSE)","v":{"$error":"#VALUE!"}},{"$f":"VLOOKUP(H191,Tabel!$K$3:$L$109,2,FALSE)","v":{"$error":"#VALUE!"}},{"$f":"VLOOKUP(I191,Tabel!$K$3:$L$109,2,FALSE)","v":{"$error":"#VALUE!"}},{"$f":"VLOOKUP(J191,Tabel!$K$3:$L$109,2,FALSE)","v":{"$error":"#VALUE!"}},{"$f":"VLOOKUP(K191,Tabel!$K$3:$L$109,2,FALSE)","v":{"$error":"#VALUE!"}},{"$error":"#VALUE!"},{"$error":"#VALUE!"},{"$error":"#VALUE!"},{"$error":"#VALUE!"},{"$error":"#VALUE!"},{"$error":"#VALUE!"},{"$error":"#VALUE!"},{"$error":"#VALUE!"},{"$error":"#VALUE!"},{"$error":"#VALUE!"},{"$error":"#VALUE!"},{"$error":"#VALUE!"},{"$f":"VLOOKUP($AG191,Tabel!$J$3:$K$109,2,FALSE)","v":{"$error":"#VALUE!"}},{"$f":"Tabel!$K$106&$A191&$AH191&Tabel!$K$109","v":{"$error":"#VALUE!"}},{"$error":"#VALUE!"}]
[{"$f":"CONCATENATE(gastenlijst[[#This Row],[Post]],gastenlijst[[#This Row],[Code]],gastenlijst[[#This Row],[Huisnr aangepast]],gastenlijst[[#This Row],[Yes]])","v":{"$error":"#VALUE!"}},{"$error":"#VALUE!"},{"$error":"#VALUE!"},{"$error":"#VALUE!"},{"$error":"#VALUE!"},{"$error":"#VALUE!"},{"$error":"#VALUE!"},{"$error":"#VALUE!"},{"$error":"#VALUE!"},{"$error":"#VALUE!"},{"$error":"#VALUE!"},{"$f":"VLOOKUP(B192,Tabel!$K$3:$L$109,2,FALSE)","v":{"$error":"#VALUE!"}},{"$f":"VLOOKUP(C192,Tabel!$K$3:$L$109,2,FALSE)","v":{"$error":"#VALUE!"}},{"$f":"VLOOKUP(D192,Tabel!$K$3:$L$109,2,FALSE)","v":{"$error":"#VALUE!"}},{"$f":"VLOOKUP(E192,Tabel!$K$3:$L$109,2,FALSE)","v":{"$error":"#VALUE!"}},{"$f":"VLOOKUP(F192,Tabel!$K$3:$L$109,2,FALSE)","v":{"$error":"#VALUE!"}},{"$f":"VLOOKUP(G192,Tabel!$K$3:$L$109,2,FALSE)","v":{"$error":"#VALUE!"}},{"$f":"VLOOKUP(H192,Tabel!$K$3:$L$109,2,FALSE)","v":{"$error":"#VALUE!"}},{"$f":"VLOOKUP(I192,Tabel!$K$3:$L$109,2,FALSE)","v":{"$error":"#VALUE!"}},{"$f":"VLOOKUP(J192,Tabel!$K$3:$L$109,2,FALSE)","v":{"$error":"#VALUE!"}},{"$f":"VLOOKUP(K192,Tabel!$K$3:$L$109,2,FALSE)","v":{"$error":"#VALUE!"}},{"$error":"#VALUE!"},{"$error":"#VALUE!"},{"$error":"#VALUE!"},{"$error":"#VALUE!"},{"$error":"#VALUE!"},{"$error":"#VALUE!"},{"$error":"#VALUE!"},{"$error":"#VALUE!"},{"$error":"#VALUE!"},{"$error":"#VALUE!"},{"$error":"#VALUE!"},{"$error":"#VALUE!"},{"$f":"VLOOKUP($AG192,Tabel!$J$3:$K$109,2,FALSE)","v":{"$error":"#VALUE!"}},{"$f":"Tabel!$K$106&$A192&$AH192&Tabel!$K$109","v":{"$error":"#VALUE!"}},{"$error":"#VALUE!"}]
[{"$f":"CONCATENATE(gastenlijst[[#This Row],[Post]],gastenlijst[[#This Row],[Code]],gastenlijst[[#This Row],[Huisnr aangepast]],gastenlijst[[#This Row],[Yes]])","v":{"$error":"#VALUE!"}},{"$error":"#VALUE!"},{"$error":"#VALUE!"},{"$error":"#VALUE!"},{"$error":"#VALUE!"},{"$error":"#VALUE!"},{"$error":"#VALUE!"},{"$error":"#VALUE!"},{"$error":"#VALUE!"},{"$error":"#VALUE!"},{"$error":"#VALUE!"},{"$f":"VLOOKUP(B193,Tabel!$K$3:$L$109,2,FALSE)","v":{"$error":"#VALUE!"}},{"$f":"VLOOKUP(C193,Tabel!$K$3:$L$109,2,FALSE)","v":{"$error":"#VALUE!"}},{"$f":"VLOOKUP(D193,Tabel!$K$3:$L$109,2,FALSE)","v":{"$error":"#VALUE!"}},{"$f":"VLOOKUP(E193,Tabel!$K$3:$L$109,2,FALSE)","v":{"$error":"#VALUE!"}},{"$f":"VLOOKUP(F193,Tabel!$K$3:$L$109,2,FALSE)","v":{"$error":"#VALUE!"}},{"$f":"VLOOKUP(G193,Tabel!$K$3:$L$109,2,FALSE)","v":{"$error":"#VALUE!"}},{"$f":"VLOOKUP(H193,Tabel!$K$3:$L$109,2,FALSE)","v":{"$error":"#VALUE!"}},{"$f":"VLOOKUP(I193,Tabel!$K$3:$L$109,2,FALSE)","v":{"$error":"#VALUE!"}},{"$f":"VLOOKUP(J193,Tabel!$K$3:$L$109,2,FALSE)","v":{"$error":"#VALUE!"}},{"$f":"VLOOKUP(K193,Tabel!$K$3:$L$109,2,FALSE)","v":{"$error":"#VALUE!"}},{"$error":"#VALUE!"},{"$error":"#VALUE!"},{"$error":"#VALUE!"},{"$error":"#VALUE!"},{"$error":"#VALUE!"},{"$error":"#VALUE!"},{"$error":"#VALUE!"},{"$error":"#VALUE!"},{"$error":"#VALUE!"},{"$error":"#VALUE!"},{"$error":"#VALUE!"},{"$error":"#VALUE!"},{"$f":"VLOOKUP($AG193,Tabel!$J$3:$K$109,2,FALSE)","v":{"$error":"#VALUE!"}},{"$f":"Tabel!$K$106&$A193&$AH193&Tabel!$K$109","v":{"$error":"#VALUE!"}},{"$error":"#VALUE!"}]
[{"$f":"CONCATENATE(gastenlijst[[#This Row],[Post]],gastenlijst[[#This Row],[Code]],gastenlijst[[#This Row],[Huisnr aangepast]],gastenlijst[[#This Row],[Yes]])","v":{"$error":"#VALUE!"}},{"$error":"#VALUE!"},{"$error":"#VALUE!"},{"$error":"#VALUE!"},{"$error":"#VALUE!"},{"$error":"#VALUE!"},{"$error":"#VALUE!"},{"$error":"#VALUE!"},{"$error":"#VALUE!"},{"$error":"#VALUE!"},{"$error":"#VALUE!"},{"$f":"VLOOKUP(B194,Tabel!$K$3:$L$109,2,FALSE)","v":{"$error":"#VALUE!"}},{"$f":"VLOOKUP(C194,Tabel!$K$3:$L$109,2,FALSE)","v":{"$error":"#VALUE!"}},{"$f":"VLOOKUP(D194,Tabel!$K$3:$L$109,2,FALSE)","v":{"$error":"#VALUE!"}},{"$f":"VLOOKUP(E194,Tabel!$K$3:$L$109,2,FALSE)","v":{"$error":"#VALUE!"}},{"$f":"VLOOKUP(F194,Tabel!$K$3:$L$109,2,FALSE)","v":{"$error":"#VALUE!"}},{"$f":"VLOOKUP(G194,Tabel!$K$3:$L$109,2,FALSE)","v":{"$error":"#VALUE!"}},{"$f":"VLOOKUP(H194,Tabel!$K$3:$L$109,2,FALSE)","v":{"$error":"#VALUE!"}},{"$f":"VLOOKUP(I194,Tabel!$K$3:$L$109,2,FALSE)","v":{"$error":"#VALUE!"}},{"$f":"VLOOKUP(J194,Tabel!$K$3:$L$109,2,FALSE)","v":{"$error":"#VALUE!"}},{"$f":"VLOOKUP(K194,Tabel!$K$3:$L$109,2,FALSE)","v":{"$error":"#VALUE!"}},{"$error":"#VALUE!"},{"$error":"#VALUE!"},{"$error":"#VALUE!"},{"$error":"#VALUE!"},{"$error":"#VALUE!"},{"$error":"#VALUE!"},{"$error":"#VALUE!"},{"$error":"#VALUE!"},{"$error":"#VALUE!"},{"$error":"#VALUE!"},{"$error":"#VALUE!"},{"$error":"#VALUE!"},{"$f":"VLOOKUP($AG194,Tabel!$J$3:$K$109,2,FALSE)","v":{"$error":"#VALUE!"}},{"$f":"Tabel!$K$106&$A194&$AH194&Tabel!$K$109","v":{"$error":"#VALUE!"}},{"$error":"#VALUE!"}]
[{"$f":"CONCATENATE(gastenlijst[[#This Row],[Post]],gastenlijst[[#This Row],[Code]],gastenlijst[[#This Row],[Huisnr aangepast]],gastenlijst[[#This Row],[Yes]])","v":{"$error":"#VALUE!"}},{"$error":"#VALUE!"},{"$error":"#VALUE!"},{"$error":"#VALUE!"},{"$error":"#VALUE!"},{"$error":"#VALUE!"},{"$error":"#VALUE!"},{"$error":"#VALUE!"},{"$error":"#VALUE!"},{"$error":"#VALUE!"},{"$error":"#VALUE!"},{"$f":"VLOOKUP(B195,Tabel!$K$3:$L$109,2,FALSE)","v":{"$error":"#VALUE!"}},{"$f":"VLOOKUP(C195,Tabel!$K$3:$L$109,2,FALSE)","v":{"$error":"#VALUE!"}},{"$f":"VLOOKUP(D195,Tabel!$K$3:$L$109,2,FALSE)","v":{"$error":"#VALUE!"}},{"$f":"VLOOKUP(E195,Tabel!$K$3:$L$109,2,FALSE)","v":{"$error":"#VALUE!"}},{"$f":"VLOOKUP(F195,Tabel!$K$3:$L$109,2,FALSE)","v":{"$error":"#VALUE!"}},{"$f":"VLOOKUP(G195,Tabel!$K$3:$L$109,2,FALSE)","v":{"$error":"#VALUE!"}},{"$f":"VLOOKUP(H195,Tabel!$K$3:$L$109,2,FALSE)","v":{"$error":"#VALUE!"}},{"$f":"VLOOKUP(I195,Tabel!$K$3:$L$109,2,FALSE)","v":{"$error":"#VALUE!"}},{"$f":"VLOOKUP(J195,Tabel!$K$3:$L$109,2,FALSE)","v":{"$error":"#VALUE!"}},{"$f":"VLOOKUP(K195,Tabel!$K$3:$L$109,2,FALSE)","v":{"$error":"#VALUE!"}},{"$error":"#VALUE!"},{"$error":"#VALUE!"},{"$error":"#VALUE!"},{"$error":"#VALUE!"},{"$error":"#VALUE!"},{"$error":"#VALUE!"},{"$error":"#VALUE!"},{"$error":"#VALUE!"},{"$error":"#VALUE!"},{"$error":"#VALUE!"},{"$error":"#VALUE!"},{"$error":"#VALUE!"},{"$f":"VLOOKUP($AG195,Tabel!$J$3:$K$109,2,FALSE)","v":{"$error":"#VALUE!"}},{"$f":"Tabel!$K$106&$A195&$AH195&Tabel!$K$109","v":{"$error":"#VALUE!"}},{"$error":"#VALUE!"}]
[{"$f":"CONCATENATE(gastenlijst[[#This Row],[Post]],gastenlijst[[#This Row],[Code]],gastenlijst[[#This Row],[Huisnr aangepast]],gastenlijst[[#This Row],[Yes]])","v":{"$error":"#VALUE!"}},{"$error":"#VALUE!"},{"$error":"#VALUE!"},{"$error":"#VALUE!"},{"$error":"#VALUE!"},{"$error":"#VALUE!"},{"$error":"#VALUE!"},{"$error":"#VALUE!"},{"$error":"#VALUE!"},{"$error":"#VALUE!"},{"$error":"#VALUE!"},{"$f":"VLOOKUP(B196,Tabel!$K$3:$L$109,2,FALSE)","v":{"$error":"#VALUE!"}},{"$f":"VLOOKUP(C196,Tabel!$K$3:$L$109,2,FALSE)","v":{"$error":"#VALUE!"}},{"$f":"VLOOKUP(D196,Tabel!$K$3:$L$109,2,FALSE)","v":{"$error":"#VALUE!"}},{"$f":"VLOOKUP(E196,Tabel!$K$3:$L$109,2,FALSE)","v":{"$error":"#VALUE!"}},{"$f":"VLOOKUP(F196,Tabel!$K$3:$L$109,2,FALSE)","v":{"$error":"#VALUE!"}},{"$f":"VLOOKUP(G196,Tabel!$K$3:$L$109,2,FALSE)","v":{"$error":"#VALUE!"}},{"$f":"VLOOKUP(H196,Tabel!$K$3:$L$109,2,FALSE)","v":{"$error":"#VALUE!"}},{"$f":"VLOOKUP(I196,Tabel!$K$3:$L$109,2,FALSE)","v":{"$error":"#VALUE!"}},{"$f":"VLOOKUP(J196,Tabel!$K$3:$L$109,2,FALSE)","v":{"$error":"#VALUE!"}},{"$f":"VLOOKUP(K196,Tabel!$K$3:$L$109,2,FALSE)","v":{"$error":"#VALUE!"}},{"$error":"#VALUE!"},{"$error":"#VALUE!"},{"$error":"#VALUE!"},{"$error":"#VALUE!"},{"$error":"#VALUE!"},{"$error":"#VALUE!"},{"$error":"#VALUE!"},{"$error":"#VALUE!"},{"$error":"#VALUE!"},{"$error":"#VALUE!"},{"$error":"#VALUE!"},{"$error":"#VALUE!"},{"$f":"VLOOKUP($AG196,Tabel!$J$3:$K$109,2,FALSE)","v":{"$error":"#VALUE!"}},{"$f":"Tabel!$K$106&$A196&$AH196&Tabel!$K$109","v":{"$error":"#VALUE!"}},{"$error":"#VALUE!"}]
[{"$f":"CONCATENATE(gastenlijst[[#This Row],[Post]],gastenlijst[[#This Row],[Code]],gastenlijst[[#This Row],[Huisnr aangepast]],gastenlijst[[#This Row],[Yes]])","v":{"$error":"#VALUE!"}},{"$error":"#VALUE!"},{"$error":"#VALUE!"},{"$error":"#VALUE!"},{"$error":"#VALUE!"},{"$error":"#VALUE!"},{"$error":"#VALUE!"},{"$error":"#VALUE!"},{"$error":"#VALUE!"},{"$error":"#VALUE!"},{"$error":"#VALUE!"},{"$f":"VLOOKUP(B197,Tabel!$K$3:$L$109,2,FALSE)","v":{"$error":"#VALUE!"}},{"$f":"VLOOKUP(C197,Tabel!$K$3:$L$109,2,FALSE)","v":{"$error":"#VALUE!"}},{"$f":"VLOOKUP(D197,Tabel!$K$3:$L$109,2,FALSE)","v":{"$error":"#VALUE!"}},{"$f":"VLOOKUP(E197,Tabel!$K$3:$L$109,2,FALSE)","v":{"$error":"#VALUE!"}},{"$f":"VLOOKUP(F197,Tabel!$K$3:$L$109,2,FALSE)","v":{"$error":"#VALUE!"}},{"$f":"VLOOKUP(G197,Tabel!$K$3:$L$109,2,FALSE)","v":{"$error":"#VALUE!"}},{"$f":"VLOOKUP(H197,Tabel!$K$3:$L$109,2,FALSE)","v":{"$error":"#VALUE!"}},{"$f":"VLOOKUP(I197,Tabel!$K$3:$L$109,2,FALSE)","v":{"$error":"#VALUE!"}},{"$f":"VLOOKUP(J197,Tabel!$K$3:$L$109,2,FALSE)","v":{"$error":"#VALUE!"}},{"$f":"VLOOKUP(K197,Tabel!$K$3:$L$109,2,FALSE)","v":{"$error":"#VALUE!"}},{"$error":"#VALUE!"},{"$error":"#VALUE!"},{"$error":"#VALUE!"},{"$error":"#VALUE!"},{"$error":"#VALUE!"},{"$error":"#VALUE!"},{"$error":"#VALUE!"},{"$error":"#VALUE!"},{"$error":"#VALUE!"},{"$error":"#VALUE!"},{"$error":"#VALUE!"},{"$error":"#VALUE!"},{"$f":"VLOOKUP($AG197,Tabel!$J$3:$K$109,2,FALSE)","v":{"$error":"#VALUE!"}},{"$f":"Tabel!$K$106&$A197&$AH197&Tabel!$K$109","v":{"$error":"#VALUE!"}},{"$error":"#VALUE!"}]
[{"$f":"CONCATENATE(gastenlijst[[#This Row],[Post]],gastenlijst[[#This Row],[Code]],gastenlijst[[#This Row],[Huisnr aangepast]],gastenlijst[[#This Row],[Yes]])","v":{"$error":"#VALUE!"}},{"$error":"#VALUE!"},{"$error":"#VALUE!"},{"$error":"#VALUE!"},{"$error":"#VALUE!"},{"$error":"#VALUE!"},{"$error":"#VALUE!"},{"$error":"#VALUE!"},{"$error":"#VALUE!"},{"$error":"#VALUE!"},{"$error":"#VALUE!"},{"$f":"VLOOKUP(B198,Tabel!$K$3:$L$109,2,FALSE)","v":{"$error":"#VALUE!"}},{"$f":"VLOOKUP(C198,Tabel!$K$3:$L$109,2,FALSE)","v":{"$error":"#VALUE!"}},{"$f":"VLOOKUP(D198,Tabel!$K$3:$L$109,2,FALSE)","v":{"$error":"#VALUE!"}},{"$f":"VLOOKUP(E198,Tabel!$K$3:$L$109,2,FALSE)","v":{"$error":"#VALUE!"}},{"$f":"VLOOKUP(F198,Tabel!$K$3:$L$109,2,FALSE)","v":{"$error":"#VALUE!"}},{"$f":"VLOOKUP(G198,Tabel!$K$3:$L$109,2,FALSE)","v":{"$error":"#VALUE!"}},{"$f":"VLOOKUP(H198,Tabel!$K$3:$L$109,2,FALSE)","v":{"$error":"#VALUE!"}},{"$f":"VLOOKUP(I198,Tabel!$K$3:$L$109,2,FALSE)","v":{"$error":"#VALUE!"}},{"$f":"VLOOKUP(J198,Tabel!$K$3:$L$109,2,FALSE)","v":{"$error":"#VALUE!"}},{"$f":"VLOOKUP(K198,Tabel!$K$3:$L$109,2,FALSE)","v":{"$error":"#VALUE!"}},{"$error":"#VALUE!"},{"$error":"#VALUE!"},{"$error":"#VALUE!"},{"$error":"#VALUE!"},{"$error":"#VALUE!"},{"$error":"#VALUE!"},{"$error":"#VALUE!"},{"$error":"#VALUE!"},{"$error":"#VALUE!"},{"$error":"#VALUE!"},{"$error":"#VALUE!"},{"$error":"#VALUE!"},{"$f":"VLOOKUP($AG198,Tabel!$J$3:$K$109,2,FALSE)","v":{"$error":"#VALUE!"}},{"$f":"Tabel!$K$106&$A198&$AH198&Tabel!$K$109","v":{"$error":"#VALUE!"}},{"$error":"#VALUE!"}]
[{"$f":"CONCATENATE(gastenlijst[[#This Row],[Post]],gastenlijst[[#This Row],[Code]],gastenlijst[[#This Row],[Huisnr aangepast]],gastenlijst[[#This Row],[Yes]])","v":{"$error":"#VALUE!"}},{"$f":"MID(A199,1,1)","v":{"$error":"#VALUE!"}},{"$f":"MID(A199,2,1)","v":{"$error":"#VALUE!"}},{"$f":"MID(A199,3,1)","v":{"$error":"#VALUE!"}},{"$f":"MID(A199,4,1)","v":{"$error":"#VALUE!"}},{"$f":"MID(A199,5,1)","v":{"$error":"#VALUE!"}},{"$f":"MID(A199,6,1)","v":{"$error":"#VALUE!"}},{"$f":"MID(A199,7,1)","v":{"$error":"#VALUE!"}},{"$f":"MID(A199,8,1)","v":{"$error":"#VALUE!"}},{"$f":"MID(A199,9,1)","v":{"$error":"#VALUE!"}},{"$f":"MID(A199,10,1)","v":{"$error":"#VALUE!"}},{"$f":"VLOOKUP(B199,Tabel!$K$3:$L$109,2,FALSE)","v":{"$error":"#VALUE!"}},{"$f":"VLOOKUP(C199,Tabel!$K$3:$L$109,2,FALSE)","v":{"$error":"#VALUE!"}},{"$f":"VLOOKUP(D199,Tabel!$K$3:$L$109,2,FALSE)","v":{"$error":"#VALUE!"}},{"$f":"VLOOKUP(E199,Tabel!$K$3:$L$109,2,FALSE)","v":{"$error":"#VALUE!"}},{"$f":"VLOOKUP(F199,Tabel!$K$3:$L$109,2,FALSE)","v":{"$error":"#VALUE!"}},{"$f":"VLOOKUP(G199,Tabel!$K$3:$L$109,2,FALSE)","v":{"$error":"#VALUE!"}},{"$f":"VLOOKUP(H199,Tabel!$K$3:$L$109,2,FALSE)","v":{"$error":"#VALUE!"}},{"$f":"VLOOKUP(I199,Tabel!$K$3:$L$109,2,FALSE)","v":{"$error":"#VALUE!"}},{"$f":"VLOOKUP(J199,Tabel!$K$3:$L$109,2,FALSE)","v":{"$error":"#VALUE!"}},{"$f":"VLOOKUP(K199,Tabel!$K$3:$L$109,2,FALSE)","v":{"$error":"#VALUE!"}},{"$f":"$L199*1","v":{"$error":"#VALUE!"}},{"$f":"$M199*2","v":{"$error":"#VALUE!"}},{"$f":"$N199*3","v":{"$error":"#VALUE!"}},{"$f":"$O199*4","v":{"$error":"#VALUE!"}},{"$f":"$P199*5","v":{"$error":"#VALUE!"}},{"$f":"$Q199*5","v":{"$error":"#VALUE!"}},{"$f":"$R199*5","v":{"$error":"#VALUE!"}},{"$f":"$S199*5","v":{"$error":"#VALUE!"}},{"$f":"$T199*5","v":{"$error":"#VALUE!"}},{"$error":"#VALUE!"},{"$f":"103+V199+W199+X199+Y199+Z199+AE199","v":{"$error":"#VALUE!"}},{"$f":"MOD(AF199,103)","v":{"$error":"#VALUE!"}},{"$f":"VLOOKUP($AG199,Tabel!$J$3:$K$109,2,FALSE)","v":{"$error":"#VALUE!"}},{"$f":"Tabel!$K$106&$A199&$AH199&Tabel!$K$109","v":{"$error":"#VALUE!"}},{"$f":"AI199","v":{"$error":"#VALUE!"}}]
[{"$f":"CONCATENATE(gastenlijst[[#This Row],[Post]],gastenlijst[[#This Row],[Code]],gastenlijst[[#This Row],[Huisnr aangepast]],gastenlijst[[#This Row],[Yes]])","v":{"$error":"#VALUE!"}},{"$error":"#VALUE!"},{"$error":"#VALUE!"},{"$error":"#VALUE!"},{"$error":"#VALUE!"},{"$error":"#VALUE!"},{"$error":"#VALUE!"},{"$error":"#VALUE!"},{"$error":"#VALUE!"},{"$error":"#VALUE!"},{"$error":"#VALUE!"},{"$f":"VLOOKUP(B200,Tabel!$K$3:$L$109,2,FALSE)","v":{"$error":"#VALUE!"}},{"$f":"VLOOKUP(C200,Tabel!$K$3:$L$109,2,FALSE)","v":{"$error":"#VALUE!"}},{"$f":"VLOOKUP(D200,Tabel!$K$3:$L$109,2,FALSE)","v":{"$error":"#VALUE!"}},{"$f":"VLOOKUP(E200,Tabel!$K$3:$L$109,2,FALSE)","v":{"$error":"#VALUE!"}},{"$f":"VLOOKUP(F200,Tabel!$K$3:$L$109,2,FALSE)","v":{"$error":"#VALUE!"}},{"$f":"VLOOKUP(G200,Tabel!$K$3:$L$109,2,FALSE)","v":{"$error":"#VALUE!"}},{"$f":"VLOOKUP(H200,Tabel!$K$3:$L$109,2,FALSE)","v":{"$error":"#VALUE!"}},{"$f":"VLOOKUP(I200,Tabel!$K$3:$L$109,2,FALSE)","v":{"$error":"#VALUE!"}},{"$f":"VLOOKUP(J200,Tabel!$K$3:$L$109,2,FALSE)","v":{"$error":"#VALUE!"}},{"$f":"VLOOKUP(K200,Tabel!$K$3:$L$109,2,FALSE)","v":{"$error":"#VALUE!"}},{"$error":"#VALUE!"},{"$error":"#VALUE!"},{"$error":"#VALUE!"},{"$error":"#VALUE!"},{"$error":"#VALUE!"},{"$error":"#VALUE!"},{"$error":"#VALUE!"},{"$error":"#VALUE!"},{"$error":"#VALUE!"},{"$error":"#VALUE!"},{"$error":"#VALUE!"},{"$error":"#VALUE!"},{"$f":"VLOOKUP($AG200,Tabel!$J$3:$K$109,2,FALSE)","v":{"$error":"#VALUE!"}},{"$f":"Tabel!$K$106&$A200&$AH200&Tabel!$K$109","v":{"$error":"#VALUE!"}},{"$error":"#VALUE!"}]
[{"$f":"CONCATENATE(gastenlijst[[#This Row],[Post]],gastenlijst[[#This Row],[Code]],gastenlijst[[#This Row],[Huisnr aangepast]],gastenlijst[[#This Row],[Yes]])","v":{"$error":"#VALUE!"}},{"$error":"#VALUE!"},{"$error":"#VALUE!"},{"$error":"#VALUE!"},{"$error":"#VALUE!"},{"$error":"#VALUE!"},{"$error":"#VALUE!"},{"$error":"#VALUE!"},{"$error":"#VALUE!"},{"$error":"#VALUE!"},{"$error":"#VALUE!"},{"$f":"VLOOKUP(B201,Tabel!$K$3:$L$109,2,FALSE)","v":{"$error":"#VALUE!"}},{"$f":"VLOOKUP(C201,Tabel!$K$3:$L$109,2,FALSE)","v":{"$error":"#VALUE!"}},{"$f":"VLOOKUP(D201,Tabel!$K$3:$L$109,2,FALSE)","v":{"$error":"#VALUE!"}},{"$f":"VLOOKUP(E201,Tabel!$K$3:$L$109,2,FALSE)","v":{"$error":"#VALUE!"}},{"$f":"VLOOKUP(F201,Tabel!$K$3:$L$109,2,FALSE)","v":{"$error":"#VALUE!"}},{"$f":"VLOOKUP(G201,Tabel!$K$3:$L$109,2,FALSE)","v":{"$error":"#VALUE!"}},{"$f":"VLOOKUP(H201,Tabel!$K$3:$L$109,2,FALSE)","v":{"$error":"#VALUE!"}},{"$f":"VLOOKUP(I201,Tabel!$K$3:$L$109,2,FALSE)","v":{"$error":"#VALUE!"}},{"$f":"VLOOKUP(J201,Tabel!$K$3:$L$109,2,FALSE)","v":{"$error":"#VALUE!"}},{"$f":"VLOOKUP(K201,Tabel!$K$3:$L$109,2,FALSE)","v":{"$error":"#VALUE!"}},{"$error":"#VALUE!"},{"$error":"#VALUE!"},{"$error":"#VALUE!"},{"$error":"#VALUE!"},{"$error":"#VALUE!"},{"$error":"#VALUE!"},{"$error":"#VALUE!"},{"$error":"#VALUE!"},{"$error":"#VALUE!"},{"$error":"#VALUE!"},{"$error":"#VALUE!"},{"$error":"#VALUE!"},{"$f":"VLOOKUP($AG201,Tabel!$J$3:$K$109,2,FALSE)","v":{"$error":"#VALUE!"}},{"$f":"Tabel!$K$106&$A201&$AH201&Tabel!$K$109","v":{"$error":"#VALUE!"}},{"$error":"#VALUE!"}]
[{"$f":"CONCATENATE(gastenlijst[[#This Row],[Post]],gastenlijst[[#This Row],[Code]],gastenlijst[[#This Row],[Huisnr aangepast]],gastenlijst[[#This Row],[Yes]])","v":{"$error":"#VALUE!"}},{"$error":"#VALUE!"},{"$error":"#VALUE!"},{"$error":"#VALUE!"},{"$error":"#VALUE!"},{"$error":"#VALUE!"},{"$error":"#VALUE!"},{"$error":"#VALUE!"},{"$error":"#VALUE!"},{"$error":"#VALUE!"},{"$error":"#VALUE!"},{"$f":"VLOOKUP(B202,Tabel!$K$3:$L$109,2,FALSE)","v":{"$error":"#VALUE!"}},{"$f":"VLOOKUP(C202,Tabel!$K$3:$L$109,2,FALSE)","v":{"$error":"#VALUE!"}},{"$f":"VLOOKUP(D202,Tabel!$K$3:$L$109,2,FALSE)","v":{"$error":"#VALUE!"}},{"$f":"VLOOKUP(E202,Tabel!$K$3:$L$109,2,FALSE)","v":{"$error":"#VALUE!"}},{"$f":"VLOOKUP(F202,Tabel!$K$3:$L$109,2,FALSE)","v":{"$error":"#VALUE!"}},{"$f":"VLOOKUP(G202,Tabel!$K$3:$L$109,2,FALSE)","v":{"$error":"#VALUE!"}},{"$f":"VLOOKUP(H202,Tabel!$K$3:$L$109,2,FALSE)","v":{"$error":"#VALUE!"}},{"$f":"VLOOKUP(I202,Tabel!$K$3:$L$109,2,FALSE)","v":{"$error":"#VALUE!"}},{"$f":"VLOOKUP(J202,Tabel!$K$3:$L$109,2,FALSE)","v":{"$error":"#VALUE!"}},{"$f":"VLOOKUP(K202,Tabel!$K$3:$L$109,2,FALSE)","v":{"$error":"#VALUE!"}},{"$error":"#VALUE!"},{"$error":"#VALUE!"},{"$error":"#VALUE!"},{"$error":"#VALUE!"},{"$error":"#VALUE!"},{"$error":"#VALUE!"},{"$error":"#VALUE!"},{"$error":"#VALUE!"},{"$error":"#VALUE!"},{"$error":"#VALUE!"},{"$error":"#VALUE!"},{"$error":"#VALUE!"},{"$f":"VLOOKUP($AG202,Tabel!$J$3:$K$109,2,FALSE)","v":{"$error":"#VALUE!"}},{"$f":"Tabel!$K$106&$A202&$AH202&Tabel!$K$109","v":{"$error":"#VALUE!"}},{"$error":"#VALUE!"}]
[{"$f":"CONCATENATE(gastenlijst[[#This Row],[Post]],gastenlijst[[#This Row],[Code]],gastenlijst[[#This Row],[Huisnr aangepast]],gastenlijst[[#This Row],[Yes]])","v":{"$error":"#VALUE!"}},{"$error":"#VALUE!"},{"$error":"#VALUE!"},{"$error":"#VALUE!"},{"$error":"#VALUE!"},{"$error":"#VALUE!"},{"$error":"#VALUE!"},{"$error":"#VALUE!"},{"$error":"#VALUE!"},{"$error":"#VALUE!"},{"$error":"#VALUE!"},{"$f":"VLOOKUP(B203,Tabel!$K$3:$L$109,2,FALSE)","v":{"$error":"#VALUE!"}},{"$f":"VLOOKUP(C203,Tabel!$K$3:$L$109,2,FALSE)","v":{"$error":"#VALUE!"}},{"$f":"VLOOKUP(D203,Tabel!$K$3:$L$109,2,FALSE)","v":{"$error":"#VALUE!"}},{"$f":"VLOOKUP(E203,Tabel!$K$3:$L$109,2,FALSE)","v":{"$error":"#VALUE!"}},{"$f":"VLOOKUP(F203,Tabel!$K$3:$L$109,2,FALSE)","v":{"$error":"#VALUE!"}},{"$f":"VLOOKUP(G203,Tabel!$K$3:$L$109,2,FALSE)","v":{"$error":"#VALUE!"}},{"$f":"VLOOKUP(H203,Tabel!$K$3:$L$109,2,FALSE)","v":{"$error":"#VALUE!"}},{"$f":"VLOOKUP(I203,Tabel!$K$3:$L$109,2,FALSE)","v":{"$error":"#VALUE!"}},{"$f":"VLOOKUP(J203,Tabel!$K$3:$L$109,2,FALSE)","v":{"$error":"#VALUE!"}},{"$f":"VLOOKUP(K203,Tabel!$K$3:$L$109,2,FALSE)","v":{"$error":"#VALUE!"}},{"$error":"#VALUE!"},{"$error":"#VALUE!"},{"$error":"#VALUE!"},{"$error":"#VALUE!"},{"$error":"#VALUE!"},{"$error":"#VALUE!"},{"$error":"#VALUE!"},{"$error":"#VALUE!"},{"$error":"#VALUE!"},{"$error":"#VALUE!"},{"$error":"#VALUE!"},{"$error":"#VALUE!"},{"$f":"VLOOKUP($AG203,Tabel!$J$3:$K$109,2,FALSE)","v":{"$error":"#VALUE!"}},{"$f":"Tabel!$K$106&$A203&$AH203&Tabel!$K$109","v":{"$error":"#VALUE!"}},{"$error":"#VALUE!"}]
[{"$f":"CONCATENATE(gastenlijst[[#This Row],[Post]],gastenlijst[[#This Row],[Code]],gastenlijst[[#This Row],[Huisnr aangepast]],gastenlijst[[#This Row],[Yes]])","v":{"$error":"#VALUE!"}},{"$error":"#VALUE!"},{"$error":"#VALUE!"},{"$error":"#VALUE!"},{"$error":"#VALUE!"},{"$error":"#VALUE!"},{"$error":"#VALUE!"},{"$error":"#VALUE!"},{"$error":"#VALUE!"},{"$error":"#VALUE!"},{"$error":"#VALUE!"},{"$f":"VLOOKUP(B204,Tabel!$K$3:$L$109,2,FALSE)","v":{"$error":"#VALUE!"}},{"$f":"VLOOKUP(C204,Tabel!$K$3:$L$109,2,FALSE)","v":{"$error":"#VALUE!"}},{"$f":"VLOOKUP(D204,Tabel!$K$3:$L$109,2,FALSE)","v":{"$error":"#VALUE!"}},{"$f":"VLOOKUP(E204,Tabel!$K$3:$L$109,2,FALSE)","v":{"$error":"#VALUE!"}},{"$f":"VLOOKUP(F204,Tabel!$K$3:$L$109,2,FALSE)","v":{"$error":"#VALUE!"}},{"$f":"VLOOKUP(G204,Tabel!$K$3:$L$109,2,FALSE)","v":{"$error":"#VALUE!"}},{"$f":"VLOOKUP(H204,Tabel!$K$3:$L$109,2,FALSE)","v":{"$error":"#VALUE!"}},{"$f":"VLOOKUP(I204,Tabel!$K$3:$L$109,2,FALSE)","v":{"$error":"#VALUE!"}},{"$f":"VLOOKUP(J204,Tabel!$K$3:$L$109,2,FALSE)","v":{"$error":"#VALUE!"}},{"$f":"VLOOKUP(K204,Tabel!$K$3:$L$109,2,FALSE)","v":{"$error":"#VALUE!"}},{"$error":"#VALUE!"},{"$error":"#VALUE!"},{"$error":"#VALUE!"},{"$error":"#VALUE!"},{"$error":"#VALUE!"},{"$error":"#VALUE!"},{"$error":"#VALUE!"},{"$error":"#VALUE!"},{"$error":"#VALUE!"},{"$error":"#VALUE!"},{"$error":"#VALUE!"},{"$error":"#VALUE!"},{"$f":"VLOOKUP($AG204,Tabel!$J$3:$K$109,2,FALSE)","v":{"$error":"#VALUE!"}},{"$f":"Tabel!$K$106&$A204&$AH204&Tabel!$K$109","v":{"$error":"#VALUE!"}},{"$error":"#VALUE!"}]
[{"$f":"CONCATENATE(gastenlijst[[#This Row],[Post]],gastenlijst[[#This Row],[Code]],gastenlijst[[#This Row],[Huisnr aangepast]],gastenlijst[[#This Row],[Yes]])","v":{"$error":"#VALUE!"}},{"$error":"#VALUE!"},{"$error":"#VALUE!"},{"$error":"#VALUE!"},{"$error":"#VALUE!"},{"$error":"#VALUE!"},{"$error":"#VALUE!"},{"$error":"#VALUE!"},{"$error":"#VALUE!"},{"$error":"#VALUE!"},{"$error":"#VALUE!"},{"$f":"VLOOKUP(B205,Tabel!$K$3:$L$109,2,FALSE)","v":{"$error":"#VALUE!"}},{"$f":"VLOOKUP(C205,Tabel!$K$3:$L$109,2,FALSE)","v":{"$error":"#VALUE!"}},{"$f":"VLOOKUP(D205,Tabel!$K$3:$L$109,2,FALSE)","v":{"$error":"#VALUE!"}},{"$f":"VLOOKUP(E205,Tabel!$K$3:$L$109,2,FALSE)","v":{"$error":"#VALUE!"}},{"$f":"VLOOKUP(F205,Tabel!$K$3:$L$109,2,FALSE)","v":{"$error":"#VALUE!"}},{"$f":"VLOOKUP(G205,Tabel!$K$3:$L$109,2,FALSE)","v":{"$error":"#VALUE!"}},{"$f":"VLOOKUP(H205,Tabel!$K$3:$L$109,2,FALSE)","v":{"$error":"#VALUE!"}},{"$f":"VLOOKUP(I205,Tabel!$K$3:$L$109,2,FALSE)","v":{"$error":"#VALUE!"}},{"$f":"VLOOKUP(J205,Tabel!$K$3:$L$109,2,FALSE)","v":{"$error":"#VALUE!"}},{"$f":"VLOOKUP(K205,Tabel!$K$3:$L$109,2,FALSE)","v":{"$error":"#VALUE!"}},{"$error":"#VALUE!"},{"$error":"#VALUE!"},{"$error":"#VALUE!"},{"$error":"#VALUE!"},{"$error":"#VALUE!"},{"$error":"#VALUE!"},{"$error":"#VALUE!"},{"$error":"#VALUE!"},{"$error":"#VALUE!"},{"$error":"#VALUE!"},{"$error":"#VALUE!"},{"$error":"#VALUE!"},{"$f":"VLOOKUP($AG205,Tabel!$J$3:$K$109,2,FALSE)","v":{"$error":"#VALUE!"}},{"$f":"Tabel!$K$106&$A205&$AH205&Tabel!$K$109","v":{"$error":"#VALUE!"}},{"$error":"#VALUE!"}]
[{"$f":"CONCATENATE(gastenlijst[[#This Row],[Post]],gastenlijst[[#This Row],[Code]],gastenlijst[[#This Row],[Huisnr aangepast]],gastenlijst[[#This Row],[Yes]])","v":{"$error":"#VALUE!"}},{"$error":"#VALUE!"},{"$error":"#VALUE!"},{"$error":"#VALUE!"},{"$error":"#VALUE!"},{"$error":"#VALUE!"},{"$error":"#VALUE!"},{"$error":"#VALUE!"},{"$error":"#VALUE!"},{"$error":"#VALUE!"},{"$error":"#VALUE!"},{"$f":"VLOOKUP(B206,Tabel!$K$3:$L$109,2,FALSE)","v":{"$error":"#VALUE!"}},{"$f":"VLOOKUP(C206,Tabel!$K$3:$L$109,2,FALSE)","v":{"$error":"#VALUE!"}},{"$f":"VLOOKUP(D206,Tabel!$K$3:$L$109,2,FALSE)","v":{"$error":"#VALUE!"}},{"$f":"VLOOKUP(E206,Tabel!$K$3:$L$109,2,FALSE)","v":{"$error":"#VALUE!"}},{"$f":"VLOOKUP(F206,Tabel!$K$3:$L$109,2,FALSE)","v":{"$error":"#VALUE!"}},{"$f":"VLOOKUP(G206,Tabel!$K$3:$L$109,2,FALSE)","v":{"$error":"#VALUE!"}},{"$f":"VLOOKUP(H206,Tabel!$K$3:$L$109,2,FALSE)","v":{"$error":"#VALUE!"}},{"$f":"VLOOKUP(I206,Tabel!$K$3:$L$109,2,FALSE)","v":{"$error":"#VALUE!"}},{"$f":"VLOOKUP(J206,Tabel!$K$3:$L$109,2,FALSE)","v":{"$error":"#VALUE!"}},{"$f":"VLOOKUP(K206,Tabel!$K$3:$L$109,2,FALSE)","v":{"$error":"#VALUE!"}},{"$error":"#VALUE!"},{"$error":"#VALUE!"},{"$error":"#VALUE!"},{"$error":"#VALUE!"},{"$error":"#VALUE!"},{"$error":"#VALUE!"},{"$error":"#VALUE!"},{"$error":"#VALUE!"},{"$error":"#VALUE!"},{"$error":"#VALUE!"},{"$error":"#VALUE!"},{"$error":"#VALUE!"},{"$f":"VLOOKUP($AG206,Tabel!$J$3:$K$109,2,FALSE)","v":{"$error":"#VALUE!"}},{"$f":"Tabel!$K$106&$A206&$AH206&Tabel!$K$109","v":{"$error":"#VALUE!"}},{"$error":"#VALUE!"}]
[{"$f":"CONCATENATE(gastenlijst[[#This Row],[Post]],gastenlijst[[#This Row],[Code]],gastenlijst[[#This Row],[Huisnr aangepast]],gastenlijst[[#This Row],[Yes]])","v":{"$error":"#VALUE!"}},{"$error":"#VALUE!"},{"$error":"#VALUE!"},{"$error":"#VALUE!"},{"$error":"#VALUE!"},{"$error":"#VALUE!"},{"$error":"#VALUE!"},{"$error":"#VALUE!"},{"$error":"#VALUE!"},{"$error":"#VALUE!"},{"$error":"#VALUE!"},{"$f":"VLOOKUP(B207,Tabel!$K$3:$L$109,2,FALSE)","v":{"$error":"#VALUE!"}},{"$f":"VLOOKUP(C207,Tabel!$K$3:$L$109,2,FALSE)","v":{"$error":"#VALUE!"}},{"$f":"VLOOKUP(D207,Tabel!$K$3:$L$109,2,FALSE)","v":{"$error":"#VALUE!"}},{"$f":"VLOOKUP(E207,Tabel!$K$3:$L$109,2,FALSE)","v":{"$error":"#VALUE!"}},{"$f":"VLOOKUP(F207,Tabel!$K$3:$L$109,2,FALSE)","v":{"$error":"#VALUE!"}},{"$f":"VLOOKUP(G207,Tabel!$K$3:$L$109,2,FALSE)","v":{"$error":"#VALUE!"}},{"$f":"VLOOKUP(H207,Tabel!$K$3:$L$109,2,FALSE)","v":{"$error":"#VALUE!"}},{"$f":"VLOOKUP(I207,Tabel!$K$3:$L$109,2,FALSE)","v":{"$error":"#VALUE!"}},{"$f":"VLOOKUP(J207,Tabel!$K$3:$L$109,2,FALSE)","v":{"$error":"#VALUE!"}},{"$f":"VLOOKUP(K207,Tabel!$K$3:$L$109,2,FALSE)","v":{"$error":"#VALUE!"}},{"$error":"#VALUE!"},{"$error":"#VALUE!"},{"$error":"#VALUE!"},{"$error":"#VALUE!"},{"$error":"#VALUE!"},{"$error":"#VALUE!"},{"$error":"#VALUE!"},{"$error":"#VALUE!"},{"$error":"#VALUE!"},{"$error":"#VALUE!"},{"$error":"#VALUE!"},{"$error":"#VALUE!"},{"$f":"VLOOKUP($AG207,Tabel!$J$3:$K$109,2,FALSE)","v":{"$error":"#VALUE!"}},{"$f":"Tabel!$K$106&$A207&$AH207&Tabel!$K$109","v":{"$error":"#VALUE!"}},{"$error":"#VALUE!"}]
[{"$f":"CONCATENATE(gastenlijst[[#This Row],[Post]],gastenlijst[[#This Row],[Code]],gastenlijst[[#This Row],[Huisnr aangepast]],gastenlijst[[#This Row],[Yes]])","v":{"$error":"#VALUE!"}},{"$error":"#VALUE!"},{"$error":"#VALUE!"},{"$error":"#VALUE!"},{"$error":"#VALUE!"},{"$error":"#VALUE!"},{"$error":"#VALUE!"},{"$error":"#VALUE!"},{"$error":"#VALUE!"},{"$error":"#VALUE!"},{"$error":"#VALUE!"},{"$f":"VLOOKUP(B208,Tabel!$K$3:$L$109,2,FALSE)","v":{"$error":"#VALUE!"}},{"$f":"VLOOKUP(C208,Tabel!$K$3:$L$109,2,FALSE)","v":{"$error":"#VALUE!"}},{"$f":"VLOOKUP(D208,Tabel!$K$3:$L$109,2,FALSE)","v":{"$error":"#VALUE!"}},{"$f":"VLOOKUP(E208,Tabel!$K$3:$L$109,2,FALSE)","v":{"$error":"#VALUE!"}},{"$f":"VLOOKUP(F208,Tabel!$K$3:$L$109,2,FALSE)","v":{"$error":"#VALUE!"}},{"$f":"VLOOKUP(G208,Tabel!$K$3:$L$109,2,FALSE)","v":{"$error":"#VALUE!"}},{"$f":"VLOOKUP(H208,Tabel!$K$3:$L$109,2,FALSE)","v":{"$error":"#VALUE!"}},{"$f":"VLOOKUP(I208,Tabel!$K$3:$L$109,2,FALSE)","v":{"$error":"#VALUE!"}},{"$f":"VLOOKUP(J208,Tabel!$K$3:$L$109,2,FALSE)","v":{"$error":"#VALUE!"}},{"$f":"VLOOKUP(K208,Tabel!$K$3:$L$109,2,FALSE)","v":{"$error":"#VALUE!"}},{"$error":"#VALUE!"},{"$error":"#VALUE!"},{"$error":"#VALUE!"},{"$error":"#VALUE!"},{"$error":"#VALUE!"},{"$error":"#VALUE!"},{"$error":"#VALUE!"},{"$error":"#VALUE!"},{"$error":"#VALUE!"},{"$error":"#VALUE!"},{"$error":"#VALUE!"},{"$error":"#VALUE!"},{"$f":"VLOOKUP($AG208,Tabel!$J$3:$K$109,2,FALSE)","v":{"$error":"#VALUE!"}},{"$f":"Tabel!$K$106&$A208&$AH208&Tabel!$K$109","v":{"$error":"#VALUE!"}},{"$error":"#VALUE!"}]
[{"$f":"CONCATENATE(gastenlijst[[#This Row],[Post]],gastenlijst[[#This Row],[Code]],gastenlijst[[#This Row],[Huisnr aangepast]],gastenlijst[[#This Row],[Yes]])","v":{"$error":"#VALUE!"}},{"$error":"#VALUE!"},{"$error":"#VALUE!"},{"$error":"#VALUE!"},{"$error":"#VALUE!"},{"$error":"#VALUE!"},{"$error":"#VALUE!"},{"$error":"#VALUE!"},{"$error":"#VALUE!"},{"$error":"#VALUE!"},{"$error":"#VALUE!"},{"$f":"VLOOKUP(B209,Tabel!$K$3:$L$109,2,FALSE)","v":{"$error":"#VALUE!"}},{"$f":"VLOOKUP(C209,Tabel!$K$3:$L$109,2,FALSE)","v":{"$error":"#VALUE!"}},{"$f":"VLOOKUP(D209,Tabel!$K$3:$L$109,2,FALSE)","v":{"$error":"#VALUE!"}},{"$f":"VLOOKUP(E209,Tabel!$K$3:$L$109,2,FALSE)","v":{"$error":"#VALUE!"}},{"$f":"VLOOKUP(F209,Tabel!$K$3:$L$109,2,FALSE)","v":{"$error":"#VALUE!"}},{"$f":"VLOOKUP(G209,Tabel!$K$3:$L$109,2,FALSE)","v":{"$error":"#VALUE!"}},{"$f":"VLOOKUP(H209,Tabel!$K$3:$L$109,2,FALSE)","v":{"$error":"#VALUE!"}},{"$f":"VLOOKUP(I209,Tabel!$K$3:$L$109,2,FALSE)","v":{"$error":"#VALUE!"}},{"$f":"VLOOKUP(J209,Tabel!$K$3:$L$109,2,FALSE)","v":{"$error":"#VALUE!"}},{"$f":"VLOOKUP(K209,Tabel!$K$3:$L$109,2,FALSE)","v":{"$error":"#VALUE!"}},{"$error":"#VALUE!"},{"$error":"#VALUE!"},{"$error":"#VALUE!"},{"$error":"#VALUE!"},{"$error":"#VALUE!"},{"$error":"#VALUE!"},{"$error":"#VALUE!"},{"$error":"#VALUE!"},{"$error":"#VALUE!"},{"$error":"#VALUE!"},{"$error":"#VALUE!"},{"$error":"#VALUE!"},{"$f":"VLOOKUP($AG209,Tabel!$J$3:$K$109,2,FALSE)","v":{"$error":"#VALUE!"}},{"$f":"Tabel!$K$106&$A209&$AH209&Tabel!$K$109","v":{"$error":"#VALUE!"}},{"$error":"#VALUE!"}]
[{"$f":"CONCATENATE(gastenlijst[[#This Row],[Post]],gastenlijst[[#This Row],[Code]],gastenlijst[[#This Row],[Huisnr aangepast]],gastenlijst[[#This Row],[Yes]])","v":{"$error":"#VALUE!"}},{"$error":"#VALUE!"},{"$error":"#VALUE!"},{"$error":"#VALUE!"},{"$error":"#VALUE!"},{"$error":"#VALUE!"},{"$error":"#VALUE!"},{"$error":"#VALUE!"},{"$error":"#VALUE!"},{"$error":"#VALUE!"},{"$error":"#VALUE!"},{"$f":"VLOOKUP(B210,Tabel!$K$3:$L$109,2,FALSE)","v":{"$error":"#VALUE!"}},{"$f":"VLOOKUP(C210,Tabel!$K$3:$L$109,2,FALSE)","v":{"$error":"#VALUE!"}},{"$f":"VLOOKUP(D210,Tabel!$K$3:$L$109,2,FALSE)","v":{"$error":"#VALUE!"}},{"$f":"VLOOKUP(E210,Tabel!$K$3:$L$109,2,FALSE)","v":{"$error":"#VALUE!"}},{"$f":"VLOOKUP(F210,Tabel!$K$3:$L$109,2,FALSE)","v":{"$error":"#VALUE!"}},{"$f":"VLOOKUP(G210,Tabel!$K$3:$L$109,2,FALSE)","v":{"$error":"#VALUE!"}},{"$f":"VLOOKUP(H210,Tabel!$K$3:$L$109,2,FALSE)","v":{"$error":"#VALUE!"}},{"$f":"VLOOKUP(I210,Tabel!$K$3:$L$109,2,FALSE)","v":{"$error":"#VALUE!"}},{"$f":"VLOOKUP(J210,Tabel!$K$3:$L$109,2,FALSE)","v":{"$error":"#VALUE!"}},{"$f":"VLOOKUP(K210,Tabel!$K$3:$L$109,2,FALSE)","v":{"$error":"#VALUE!"}},{"$error":"#VALUE!"},{"$error":"#VALUE!"},{"$error":"#VALUE!"},{"$error":"#VALUE!"},{"$error":"#VALUE!"},{"$error":"#VALUE!"},{"$error":"#VALUE!"},{"$error":"#VALUE!"},{"$error":"#VALUE!"},{"$error":"#VALUE!"},{"$error":"#VALUE!"},{"$error":"#VALUE!"},{"$f":"VLOOKUP($AG210,Tabel!$J$3:$K$109,2,FALSE)","v":{"$error":"#VALUE!"}},{"$f":"Tabel!$K$106&$A210&$AH210&Tabel!$K$109","v":{"$error":"#VALUE!"}},{"$error":"#VALUE!"}]
[{"$f":"CONCATENATE(gastenlijst[[#This Row],[Post]],gastenlijst[[#This Row],[Code]],gastenlijst[[#This Row],[Huisnr aangepast]],gastenlijst[[#This Row],[Yes]])","v":{"$error":"#VALUE!"}},{"$error":"#VALUE!"},{"$error":"#VALUE!"},{"$error":"#VALUE!"},{"$error":"#VALUE!"},{"$error":"#VALUE!"},{"$error":"#VALUE!"},{"$error":"#VALUE!"},{"$error":"#VALUE!"},{"$error":"#VALUE!"},{"$error":"#VALUE!"},{"$f":"VLOOKUP(B211,Tabel!$K$3:$L$109,2,FALSE)","v":{"$error":"#VALUE!"}},{"$f":"VLOOKUP(C211,Tabel!$K$3:$L$109,2,FALSE)","v":{"$error":"#VALUE!"}},{"$f":"VLOOKUP(D211,Tabel!$K$3:$L$109,2,FALSE)","v":{"$error":"#VALUE!"}},{"$f":"VLOOKUP(E211,Tabel!$K$3:$L$109,2,FALSE)","v":{"$error":"#VALUE!"}},{"$f":"VLOOKUP(F211,Tabel!$K$3:$L$109,2,FALSE)","v":{"$error":"#VALUE!"}},{"$f":"VLOOKUP(G211,Tabel!$K$3:$L$109,2,FALSE)","v":{"$error":"#VALUE!"}},{"$f":"VLOOKUP(H211,Tabel!$K$3:$L$109,2,FALSE)","v":{"$error":"#VALUE!"}},{"$f":"VLOOKUP(I211,Tabel!$K$3:$L$109,2,FALSE)","v":{"$error":"#VALUE!"}},{"$f":"VLOOKUP(J211,Tabel!$K$3:$L$109,2,FALSE)","v":{"$error":"#VALUE!"}},{"$f":"VLOOKUP(K211,Tabel!$K$3:$L$109,2,FALSE)","v":{"$error":"#VALUE!"}},{"$error":"#VALUE!"},{"$error":"#VALUE!"},{"$error":"#VALUE!"},{"$error":"#VALUE!"},{"$error":"#VALUE!"},{"$error":"#VALUE!"},{"$error":"#VALUE!"},{"$error":"#VALUE!"},{"$error":"#VALUE!"},{"$error":"#VALUE!"},{"$error":"#VALUE!"},{"$error":"#VALUE!"},{"$f":"VLOOKUP($AG211,Tabel!$J$3:$K$109,2,FALSE)","v":{"$error":"#VALUE!"}},{"$f":"Tabel!$K$106&$A211&$AH211&Tabel!$K$109","v":{"$error":"#VALUE!"}},{"$error":"#VALUE!"}]
[{"$f":"CONCATENATE(gastenlijst[[#This Row],[Post]],gastenlijst[[#This Row],[Code]],gastenlijst[[#This Row],[Huisnr aangepast]],gastenlijst[[#This Row],[Yes]])","v":{"$error":"#VALUE!"}},{"$error":"#VALUE!"},{"$error":"#VALUE!"},{"$error":"#VALUE!"},{"$error":"#VALUE!"},{"$error":"#VALUE!"},{"$error":"#VALUE!"},{"$error":"#VALUE!"},{"$error":"#VALUE!"},{"$error":"#VALUE!"},{"$error":"#VALUE!"},{"$f":"VLOOKUP(B212,Tabel!$K$3:$L$109,2,FALSE)","v":{"$error":"#VALUE!"}},{"$f":"VLOOKUP(C212,Tabel!$K$3:$L$109,2,FALSE)","v":{"$error":"#VALUE!"}},{"$f":"VLOOKUP(D212,Tabel!$K$3:$L$109,2,FALSE)","v":{"$error":"#VALUE!"}},{"$f":"VLOOKUP(E212,Tabel!$K$3:$L$109,2,FALSE)","v":{"$error":"#VALUE!"}},{"$f":"VLOOKUP(F212,Tabel!$K$3:$L$109,2,FALSE)","v":{"$error":"#VALUE!"}},{"$f":"VLOOKUP(G212,Tabel!$K$3:$L$109,2,FALSE)","v":{"$error":"#VALUE!"}},{"$f":"VLOOKUP(H212,Tabel!$K$3:$L$109,2,FALSE)","v":{"$error":"#VALUE!"}},{"$f":"VLOOKUP(I212,Tabel!$K$3:$L$109,2,FALSE)","v":{"$error":"#VALUE!"}},{"$f":"VLOOKUP(J212,Tabel!$K$3:$L$109,2,FALSE)","v":{"$error":"#VALUE!"}},{"$f":"VLOOKUP(K212,Tabel!$K$3:$L$109,2,FALSE)","v":{"$error":"#VALUE!"}},{"$error":"#VALUE!"},{"$error":"#VALUE!"},{"$error":"#VALUE!"},{"$error":"#VALUE!"},{"$error":"#VALUE!"},{"$error":"#VALUE!"},{"$error":"#VALUE!"},{"$error":"#VALUE!"},{"$error":"#VALUE!"},{"$error":"#VALUE!"},{"$error":"#VALUE!"},{"$error":"#VALUE!"},{"$f":"VLOOKUP($AG212,Tabel!$J$3:$K$109,2,FALSE)","v":{"$error":"#VALUE!"}},{"$f":"Tabel!$K$106&$A212&$AH212&Tabel!$K$109","v":{"$error":"#VALUE!"}},{"$error":"#VALUE!"}]
[{"$f":"CONCATENATE(gastenlijst[[#This Row],[Post]],gastenlijst[[#This Row],[Code]],gastenlijst[[#This Row],[Huisnr aangepast]],gastenlijst[[#This Row],[Yes]])","v":{"$error":"#VALUE!"}},{"$error":"#VALUE!"},{"$error":"#VALUE!"},{"$error":"#VALUE!"},{"$error":"#VALUE!"},{"$error":"#VALUE!"},{"$error":"#VALUE!"},{"$error":"#VALUE!"},{"$error":"#VALUE!"},{"$error":"#VALUE!"},{"$error":"#VALUE!"},{"$f":"VLOOKUP(B213,Tabel!$K$3:$L$109,2,FALSE)","v":{"$error":"#VALUE!"}},{"$f":"VLOOKUP(C213,Tabel!$K$3:$L$109,2,FALSE)","v":{"$error":"#VALUE!"}},{"$f":"VLOOKUP(D213,Tabel!$K$3:$L$109,2,FALSE)","v":{"$error":"#VALUE!"}},{"$f":"VLOOKUP(E213,Tabel!$K$3:$L$109,2,FALSE)","v":{"$error":"#VALUE!"}},{"$f":"VLOOKUP(F213,Tabel!$K$3:$L$109,2,FALSE)","v":{"$error":"#VALUE!"}},{"$f":"VLOOKUP(G213,Tabel!$K$3:$L$109,2,FALSE)","v":{"$error":"#VALUE!"}},{"$f":"VLOOKUP(H213,Tabel!$K$3:$L$109,2,FALSE)","v":{"$error":"#VALUE!"}},{"$f":"VLOOKUP(I213,Tabel!$K$3:$L$109,2,FALSE)","v":{"$error":"#VALUE!"}},{"$f":"VLOOKUP(J213,Tabel!$K$3:$L$109,2,FALSE)","v":{"$error":"#VALUE!"}},{"$f":"VLOOKUP(K213,Tabel!$K$3:$L$109,2,FALSE)","v":{"$error":"#VALUE!"}},{"$error":"#VALUE!"},{"$error":"#VALUE!"},{"$error":"#VALUE!"},{"$error":"#VALUE!"},{"$error":"#VALUE!"},{"$error":"#VALUE!"},{"$error":"#VALUE!"},{"$error":"#VALUE!"},{"$error":"#VALUE!"},{"$error":"#VALUE!"},{"$error":"#VALUE!"},{"$error":"#VALUE!"},{"$f":"VLOOKUP($AG213,Tabel!$J$3:$K$109,2,FALSE)","v":{"$error":"#VALUE!"}},{"$f":"Tabel!$K$106&$A213&$AH213&Tabel!$K$109","v":{"$error":"#VALUE!"}},{"$error":"#VALUE!"}]
[{"$f":"CONCATENATE(gastenlijst[[#This Row],[Post]],gastenlijst[[#This Row],[Code]],gastenlijst[[#This Row],[Huisnr aangepast]],gastenlijst[[#This Row],[Yes]])","v":{"$error":"#VALUE!"}},{"$error":"#VALUE!"},{"$error":"#VALUE!"},{"$error":"#VALUE!"},{"$error":"#VALUE!"},{"$error":"#VALUE!"},{"$error":"#VALUE!"},{"$error":"#VALUE!"},{"$error":"#VALUE!"},{"$error":"#VALUE!"},{"$error":"#VALUE!"},{"$f":"VLOOKUP(B214,Tabel!$K$3:$L$109,2,FALSE)","v":{"$error":"#VALUE!"}},{"$f":"VLOOKUP(C214,Tabel!$K$3:$L$109,2,FALSE)","v":{"$error":"#VALUE!"}},{"$f":"VLOOKUP(D214,Tabel!$K$3:$L$109,2,FALSE)","v":{"$error":"#VALUE!"}},{"$f":"VLOOKUP(E214,Tabel!$K$3:$L$109,2,FALSE)","v":{"$error":"#VALUE!"}},{"$f":"VLOOKUP(F214,Tabel!$K$3:$L$109,2,FALSE)","v":{"$error":"#VALUE!"}},{"$f":"VLOOKUP(G214,Tabel!$K$3:$L$109,2,FALSE)","v":{"$error":"#VALUE!"}},{"$f":"VLOOKUP(H214,Tabel!$K$3:$L$109,2,FALSE)","v":{"$error":"#VALUE!"}},{"$f":"VLOOKUP(I214,Tabel!$K$3:$L$109,2,FALSE)","v":{"$error":"#VALUE!"}},{"$f":"VLOOKUP(J214,Tabel!$K$3:$L$109,2,FALSE)","v":{"$error":"#VALUE!"}},{"$f":"VLOOKUP(K214,Tabel!$K$3:$L$109,2,FALSE)","v":{"$error":"#VALUE!"}},{"$error":"#VALUE!"},{"$error":"#VALUE!"},{"$error":"#VALUE!"},{"$error":"#VALUE!"},{"$error":"#VALUE!"},{"$error":"#VALUE!"},{"$error":"#VALUE!"},{"$error":"#VALUE!"},{"$error":"#VALUE!"},{"$f":"$P214*5","v":{"$error":"#VALUE!"}},{"$error":"#VALUE!"},{"$error":"#VALUE!"},{"$f":"VLOOKUP($AG214,Tabel!$J$3:$K$109,2,FALSE)","v":{"$error":"#VALUE!"}},{"$f":"Tabel!$K$106&$A214&$AH214&Tabel!$K$109","v":{"$error":"#VALUE!"}},{"$error":"#VALUE!"}]
[{"$f":"CONCATENATE(gastenlijst[[#This Row],[Post]],gastenlijst[[#This Row],[Code]],gastenlijst[[#This Row],[Huisnr aangepast]],gastenlijst[[#This Row],[Yes]])","v":{"$error":"#VALUE!"}},{"$error":"#VALUE!"},{"$error":"#VALUE!"},{"$error":"#VALUE!"},{"$error":"#VALUE!"},{"$error":"#VALUE!"},{"$error":"#VALUE!"},{"$error":"#VALUE!"},{"$error":"#VALUE!"},{"$error":"#VALUE!"},{"$error":"#VALUE!"},{"$f":"VLOOKUP(B215,Tabel!$K$3:$L$109,2,FALSE)","v":{"$error":"#VALUE!"}},{"$f":"VLOOKUP(C215,Tabel!$K$3:$L$109,2,FALSE)","v":{"$error":"#VALUE!"}},{"$f":"VLOOKUP(D215,Tabel!$K$3:$L$109,2,FALSE)","v":{"$error":"#VALUE!"}},{"$f":"VLOOKUP(E215,Tabel!$K$3:$L$109,2,FALSE)","v":{"$error":"#VALUE!"}},{"$f":"VLOOKUP(F215,Tabel!$K$3:$L$109,2,FALSE)","v":{"$error":"#VALUE!"}},{"$f":"VLOOKUP(G215,Tabel!$K$3:$L$109,2,FALSE)","v":{"$error":"#VALUE!"}},{"$f":"VLOOKUP(H215,Tabel!$K$3:$L$109,2,FALSE)","v":{"$error":"#VALUE!"}},{"$f":"VLOOKUP(I215,Tabel!$K$3:$L$109,2,FALSE)","v":{"$error":"#VALUE!"}},{"$f":"VLOOKUP(J215,Tabel!$K$3:$L$109,2,FALSE)","v":{"$error":"#VALUE!"}},{"$f":"VLOOKUP(K215,Tabel!$K$3:$L$109,2,FALSE)","v":{"$error":"#VALUE!"}},{"$error":"#VALUE!"},{"$error":"#VALUE!"},{"$error":"#VALUE!"},{"$error":"#VALUE!"},{"$error":"#VALUE!"},{"$error":"#VALUE!"},{"$error":"#VALUE!"},{"$error":"#VALUE!"},{"$error":"#VALUE!"},{"$error":"#VALUE!"},{"$error":"#VALUE!"},{"$error":"#VALUE!"},{"$f":"VLOOKUP($AG215,Tabel!$J$3:$K$109,2,FALSE)","v":{"$error":"#VALUE!"}},{"$f":"Tabel!$K$106&$A215&$AH215&Tabel!$K$109","v":{"$error":"#VALUE!"}},{"$error":"#VALUE!"}]
[{"$f":"CONCATENATE(gastenlijst[[#This Row],[Post]],gastenlijst[[#This Row],[Code]],gastenlijst[[#This Row],[Huisnr aangepast]],gastenlijst[[#This Row],[Yes]])","v":{"$error":"#VALUE!"}},{"$error":"#VALUE!"},{"$error":"#VALUE!"},{"$error":"#VALUE!"},{"$error":"#VALUE!"},{"$error":"#VALUE!"},{"$error":"#VALUE!"},{"$error":"#VALUE!"},{"$error":"#VALUE!"},{"$error":"#VALUE!"},{"$error":"#VALUE!"},{"$f":"VLOOKUP(B216,Tabel!$K$3:$L$109,2,FALSE)","v":{"$error":"#VALUE!"}},{"$f":"VLOOKUP(C216,Tabel!$K$3:$L$109,2,FALSE)","v":{"$error":"#VALUE!"}},{"$f":"VLOOKUP(D216,Tabel!$K$3:$L$109,2,FALSE)","v":{"$error":"#VALUE!"}},{"$f":"VLOOKUP(E216,Tabel!$K$3:$L$109,2,FALSE)","v":{"$error":"#VALUE!"}},{"$f":"VLOOKUP(F216,Tabel!$K$3:$L$109,2,FALSE)","v":{"$error":"#VALUE!"}},{"$f":"VLOOKUP(G216,Tabel!$K$3:$L$109,2,FALSE)","v":{"$error":"#VALUE!"}},{"$f":"VLOOKUP(H216,Tabel!$K$3:$L$109,2,FALSE)","v":{"$error":"#VALUE!"}},{"$f":"VLOOKUP(I216,Tabel!$K$3:$L$109,2,FALSE)","v":{"$error":"#VALUE!"}},{"$f":"VLOOKUP(J216,Tabel!$K$3:$L$109,2,FALSE)","v":{"$error":"#VALUE!"}},{"$f":"VLOOKUP(K216,Tabel!$K$3:$L$109,2,FALSE)","v":{"$error":"#VALUE!"}},{"$error":"#VALUE!"},{"$error":"#VALUE!"},{"$error":"#VALUE!"},{"$error":"#VALUE!"},{"$error":"#VALUE!"},{"$error":"#VALUE!"},{"$error":"#VALUE!"},{"$error":"#VALUE!"},{"$error":"#VALUE!"},{"$error":"#VALUE!"},{"$error":"#VALUE!"},{"$error":"#VALUE!"},{"$f":"VLOOKUP($AG216,Tabel!$J$3:$K$109,2,FALSE)","v":{"$error":"#VALUE!"}},{"$f":"Tabel!$K$106&$A216&$AH216&Tabel!$K$109","v":{"$error":"#VALUE!"}},{"$error":"#VALUE!"}]
[{"$f":"CONCATENATE(gastenlijst[[#This Row],[Post]],gastenlijst[[#This Row],[Code]],gastenlijst[[#This Row],[Huisnr aangepast]],gastenlijst[[#This Row],[Yes]])","v":{"$error":"#VALUE!"}},{"$error":"#VALUE!"},{"$error":"#VALUE!"},{"$error":"#VALUE!"},{"$error":"#VALUE!"},{"$error":"#VALUE!"},{"$error":"#VALUE!"},{"$error":"#VALUE!"},{"$error":"#VALUE!"},{"$error":"#VALUE!"},{"$error":"#VALUE!"},{"$f":"VLOOKUP(B217,Tabel!$K$3:$L$109,2,FALSE)","v":{"$error":"#VALUE!"}},{"$f":"VLOOKUP(C217,Tabel!$K$3:$L$109,2,FALSE)","v":{"$error":"#VALUE!"}},{"$f":"VLOOKUP(D217,Tabel!$K$3:$L$109,2,FALSE)","v":{"$error":"#VALUE!"}},{"$f":"VLOOKUP(E217,Tabel!$K$3:$L$109,2,FALSE)","v":{"$error":"#VALUE!"}},{"$f":"VLOOKUP(F217,Tabel!$K$3:$L$109,2,FALSE)","v":{"$error":"#VALUE!"}},{"$f":"VLOOKUP(G217,Tabel!$K$3:$L$109,2,FALSE)","v":{"$error":"#VALUE!"}},{"$f":"VLOOKUP(H217,Tabel!$K$3:$L$109,2,FALSE)","v":{"$error":"#VALUE!"}},{"$f":"VLOOKUP(I217,Tabel!$K$3:$L$109,2,FALSE)","v":{"$error":"#VALUE!"}},{"$f":"VLOOKUP(J217,Tabel!$K$3:$L$109,2,FALSE)","v":{"$error":"#VALUE!"}},{"$f":"VLOOKUP(K217,Tabel!$K$3:$L$109,2,FALSE)","v":{"$error":"#VALUE!"}},{"$error":"#VALUE!"},{"$error":"#VALUE!"},{"$error":"#VALUE!"},{"$error":"#VALUE!"},{"$error":"#VALUE!"},{"$error":"#VALUE!"},{"$error":"#VALUE!"},{"$error":"#VALUE!"},{"$error":"#VALUE!"},{"$error":"#VALUE!"},{"$error":"#VALUE!"},{"$error":"#VALUE!"},{"$f":"VLOOKUP($AG217,Tabel!$J$3:$K$109,2,FALSE)","v":{"$error":"#VALUE!"}},{"$f":"Tabel!$K$106&$A217&$AH217&Tabel!$K$109","v":{"$error":"#VALUE!"}},{"$error":"#VALUE!"}]
[{"$f":"CONCATENATE(gastenlijst[[#This Row],[Post]],gastenlijst[[#This Row],[Code]],gastenlijst[[#This Row],[Huisnr aangepast]],gastenlijst[[#This Row],[Yes]])","v":{"$error":"#VALUE!"}},{"$error":"#VALUE!"},{"$error":"#VALUE!"},{"$error":"#VALUE!"},{"$error":"#VALUE!"},{"$error":"#VALUE!"},{"$error":"#VALUE!"},{"$error":"#VALUE!"},{"$error":"#VALUE!"},{"$error":"#VALUE!"},{"$error":"#VALUE!"},{"$f":"VLOOKUP(B218,Tabel!$K$3:$L$109,2,FALSE)","v":{"$error":"#VALUE!"}},{"$f":"VLOOKUP(C218,Tabel!$K$3:$L$109,2,FALSE)","v":{"$error":"#VALUE!"}},{"$f":"VLOOKUP(D218,Tabel!$K$3:$L$109,2,FALSE)","v":{"$error":"#VALUE!"}},{"$f":"VLOOKUP(E218,Tabel!$K$3:$L$109,2,FALSE)","v":{"$error":"#VALUE!"}},{"$f":"VLOOKUP(F218,Tabel!$K$3:$L$109,2,FALSE)","v":{"$error":"#VALUE!"}},{"$f":"VLOOKUP(G218,Tabel!$K$3:$L$109,2,FALSE)","v":{"$error":"#VALUE!"}},{"$f":"VLOOKUP(H218,Tabel!$K$3:$L$109,2,FALSE)","v":{"$error":"#VALUE!"}},{"$f":"VLOOKUP(I218,Tabel!$K$3:$L$109,2,FALSE)","v":{"$error":"#VALUE!"}},{"$f":"VLOOKUP(J218,Tabel!$K$3:$L$109,2,FALSE)","v":{"$error":"#VALUE!"}},{"$f":"VLOOKUP(K218,Tabel!$K$3:$L$109,2,FALSE)","v":{"$error":"#VALUE!"}},{"$error":"#VALUE!"},{"$error":"#VALUE!"},{"$error":"#VALUE!"},{"$error":"#VALUE!"},{"$error":"#VALUE!"},{"$error":"#VALUE!"},{"$error":"#VALUE!"},{"$error":"#VALUE!"},{"$error":"#VALUE!"},{"$error":"#VALUE!"},{"$error":"#VALUE!"},{"$error":"#VALUE!"},{"$f":"VLOOKUP($AG218,Tabel!$J$3:$K$109,2,FALSE)","v":{"$error":"#VALUE!"}},{"$f":"Tabel!$K$106&$A218&$AH218&Tabel!$K$109","v":{"$error":"#VALUE!"}},{"$error":"#VALUE!"}]
[{"$f":"CONCATENATE(gastenlijst[[#This Row],[Post]],gastenlijst[[#This Row],[Code]],gastenlijst[[#This Row],[Huisnr aangepast]],gastenlijst[[#This Row],[Yes]])","v":{"$error":"#VALUE!"}},{"$error":"#VALUE!"},{"$error":"#VALUE!"},{"$error":"#VALUE!"},{"$error":"#VALUE!"},{"$error":"#VALUE!"},{"$error":"#VALUE!"},{"$error":"#VALUE!"},{"$error":"#VALUE!"},{"$error":"#VALUE!"},{"$error":"#VALUE!"},{"$f":"VLOOKUP(B219,Tabel!$K$3:$L$109,2,FALSE)","v":{"$error":"#VALUE!"}},{"$f":"VLOOKUP(C219,Tabel!$K$3:$L$109,2,FALSE)","v":{"$error":"#VALUE!"}},{"$f":"VLOOKUP(D219,Tabel!$K$3:$L$109,2,FALSE)","v":{"$error":"#VALUE!"}},{"$f":"VLOOKUP(E219,Tabel!$K$3:$L$109,2,FALSE)","v":{"$error":"#VALUE!"}},{"$f":"VLOOKUP(F219,Tabel!$K$3:$L$109,2,FALSE)","v":{"$error":"#VALUE!"}},{"$f":"VLOOKUP(G219,Tabel!$K$3:$L$109,2,FALSE)","v":{"$error":"#VALUE!"}},{"$f":"VLOOKUP(H219,Tabel!$K$3:$L$109,2,FALSE)","v":{"$error":"#VALUE!"}},{"$f":"VLOOKUP(I219,Tabel!$K$3:$L$109,2,FALSE)","v":{"$error":"#VALUE!"}},{"$f":"VLOOKUP(J219,Tabel!$K$3:$L$109,2,FALSE)","v":{"$error":"#VALUE!"}},{"$f":"VLOOKUP(K219,Tabel!$K$3:$L$109,2,FALSE)","v":{"$error":"#VALUE!"}},{"$error":"#VALUE!"},{"$error":"#VALUE!"},{"$error":"#VALUE!"},{"$error":"#VALUE!"},{"$error":"#VALUE!"},{"$error":"#VALUE!"},{"$error":"#VALUE!"},{"$error":"#VALUE!"},{"$error":"#VALUE!"},{"$error":"#VALUE!"},{"$error":"#VALUE!"},{"$error":"#VALUE!"},{"$f":"VLOOKUP($AG219,Tabel!$J$3:$K$109,2,FALSE)","v":{"$error":"#VALUE!"}},{"$f":"Tabel!$K$106&$A219&$AH219&Tabel!$K$109","v":{"$error":"#VALUE!"}},{"$error":"#VALUE!"}]
[{"$f":"CONCATENATE(gastenlijst[[#This Row],[Post]],gastenlijst[[#This Row],[Code]],gastenlijst[[#This Row],[Huisnr aangepast]],gastenlijst[[#This Row],[Yes]])","v":{"$error":"#VALUE!"}},{"$error":"#VALUE!"},{"$error":"#VALUE!"},{"$error":"#VALUE!"},{"$error":"#VALUE!"},{"$error":"#VALUE!"},{"$error":"#VALUE!"},{"$error":"#VALUE!"},{"$error":"#VALUE!"},{"$error":"#VALUE!"},{"$error":"#VALUE!"},{"$f":"VLOOKUP(B220,Tabel!$K$3:$L$109,2,FALSE)","v":{"$error":"#VALUE!"}},{"$f":"VLOOKUP(C220,Tabel!$K$3:$L$109,2,FALSE)","v":{"$error":"#VALUE!"}},{"$f":"VLOOKUP(D220,Tabel!$K$3:$L$109,2,FALSE)","v":{"$error":"#VALUE!"}},{"$f":"VLOOKUP(E220,Tabel!$K$3:$L$109,2,FALSE)","v":{"$error":"#VALUE!"}},{"$f":"VLOOKUP(F220,Tabel!$K$3:$L$109,2,FALSE)","v":{"$error":"#VALUE!"}},{"$f":"VLOOKUP(G220,Tabel!$K$3:$L$109,2,FALSE)","v":{"$error":"#VALUE!"}},{"$f":"VLOOKUP(H220,Tabel!$K$3:$L$109,2,FALSE)","v":{"$error":"#VALUE!"}},{"$f":"VLOOKUP(I220,Tabel!$K$3:$L$109,2,FALSE)","v":{"$error":"#VALUE!"}},{"$f":"VLOOKUP(J220,Tabel!$K$3:$L$109,2,FALSE)","v":{"$error":"#VALUE!"}},{"$f":"VLOOKUP(K220,Tabel!$K$3:$L$109,2,FALSE)","v":{"$error":"#VALUE!"}},{"$error":"#VALUE!"},{"$error":"#VALUE!"},{"$error":"#VALUE!"},{"$error":"#VALUE!"},{"$error":"#VALUE!"},{"$error":"#VALUE!"},{"$error":"#VALUE!"},{"$error":"#VALUE!"},{"$error":"#VALUE!"},{"$error":"#VALUE!"},{"$error":"#VALUE!"},{"$error":"#VALUE!"},{"$f":"VLOOKUP($AG220,Tabel!$J$3:$K$109,2,FALSE)","v":{"$error":"#VALUE!"}},{"$f":"Tabel!$K$106&$A220&$AH220&Tabel!$K$109","v":{"$error":"#VALUE!"}},{"$error":"#VALUE!"}]
[{"$f":"CONCATENATE(gastenlijst[[#This Row],[Post]],gastenlijst[[#This Row],[Code]],gastenlijst[[#This Row],[Huisnr aangepast]],gastenlijst[[#This Row],[Yes]])","v":{"$error":"#VALUE!"}},{"$error":"#VALUE!"},{"$error":"#VALUE!"},{"$error":"#VALUE!"},{"$error":"#VALUE!"},{"$error":"#VALUE!"},{"$error":"#VALUE!"},{"$error":"#VALUE!"},{"$error":"#VALUE!"},{"$error":"#VALUE!"},{"$error":"#VALUE!"},{"$f":"VLOOKUP(B221,Tabel!$K$3:$L$109,2,FALSE)","v":{"$error":"#VALUE!"}},{"$f":"VLOOKUP(C221,Tabel!$K$3:$L$109,2,FALSE)","v":{"$error":"#VALUE!"}},{"$f":"VLOOKUP(D221,Tabel!$K$3:$L$109,2,FALSE)","v":{"$error":"#VALUE!"}},{"$f":"VLOOKUP(E221,Tabel!$K$3:$L$109,2,FALSE)","v":{"$error":"#VALUE!"}},{"$f":"VLOOKUP(F221,Tabel!$K$3:$L$109,2,FALSE)","v":{"$error":"#VALUE!"}},{"$f":"VLOOKUP(G221,Tabel!$K$3:$L$109,2,FALSE)","v":{"$error":"#VALUE!"}},{"$f":"VLOOKUP(H221,Tabel!$K$3:$L$109,2,FALSE)","v":{"$error":"#VALUE!"}},{"$f":"VLOOKUP(I221,Tabel!$K$3:$L$109,2,FALSE)","v":{"$error":"#VALUE!"}},{"$f":"VLOOKUP(J221,Tabel!$K$3:$L$109,2,FALSE)","v":{"$error":"#VALUE!"}},{"$f":"VLOOKUP(K221,Tabel!$K$3:$L$109,2,FALSE)","v":{"$error":"#VALUE!"}},{"$error":"#VALUE!"},{"$error":"#VALUE!"},{"$error":"#VALUE!"},{"$error":"#VALUE!"},{"$error":"#VALUE!"},{"$error":"#VALUE!"},{"$error":"#VALUE!"},{"$error":"#VALUE!"},{"$error":"#VALUE!"},{"$error":"#VALUE!"},{"$error":"#VALUE!"},{"$error":"#VALUE!"},{"$f":"VLOOKUP($AG221,Tabel!$J$3:$K$109,2,FALSE)","v":{"$error":"#VALUE!"}},{"$f":"Tabel!$K$106&$A221&$AH221&Tabel!$K$109","v":{"$error":"#VALUE!"}},{"$error":"#VALUE!"}]
[{"$f":"CONCATENATE(gastenlijst[[#This Row],[Post]],gastenlijst[[#This Row],[Code]],gastenlijst[[#This Row],[Huisnr aangepast]],gastenlijst[[#This Row],[Yes]])","v":{"$error":"#VALUE!"}},{"$error":"#VALUE!"},{"$error":"#VALUE!"},{"$error":"#VALUE!"},{"$error":"#VALUE!"},{"$error":"#VALUE!"},{"$error":"#VALUE!"},{"$error":"#VALUE!"},{"$error":"#VALUE!"},{"$error":"#VALUE!"},{"$error":"#VALUE!"},{"$f":"VLOOKUP(B222,Tabel!$K$3:$L$109,2,FALSE)","v":{"$error":"#VALUE!"}},{"$f":"VLOOKUP(C222,Tabel!$K$3:$L$109,2,FALSE)","v":{"$error":"#VALUE!"}},{"$f":"VLOOKUP(D222,Tabel!$K$3:$L$109,2,FALSE)","v":{"$error":"#VALUE!"}},{"$f":"VLOOKUP(E222,Tabel!$K$3:$L$109,2,FALSE)","v":{"$error":"#VALUE!"}},{"$f":"VLOOKUP(F222,Tabel!$K$3:$L$109,2,FALSE)","v":{"$error":"#VALUE!"}},{"$f":"VLOOKUP(G222,Tabel!$K$3:$L$109,2,FALSE)","v":{"$error":"#VALUE!"}},{"$f":"VLOOKUP(H222,Tabel!$K$3:$L$109,2,FALSE)","v":{"$error":"#VALUE!"}},{"$f":"VLOOKUP(I222,Tabel!$K$3:$L$109,2,FALSE)","v":{"$error":"#VALUE!"}},{"$f":"VLOOKUP(J222,Tabel!$K$3:$L$109,2,FALSE)","v":{"$error":"#VALUE!"}},{"$f":"VLOOKUP(K222,Tabel!$K$3:$L$109,2,FALSE)","v":{"$error":"#VALUE!"}},{"$error":"#VALUE!"},{"$error":"#VALUE!"},{"$error":"#VALUE!"},{"$error":"#VALUE!"},{"$error":"#VALUE!"},{"$error":"#VALUE!"},{"$error":"#VALUE!"},{"$error":"#VALUE!"},{"$error":"#VALUE!"},{"$error":"#VALUE!"},{"$error":"#VALUE!"},{"$error":"#VALUE!"},{"$f":"VLOOKUP($AG222,Tabel!$J$3:$K$109,2,FALSE)","v":{"$error":"#VALUE!"}},{"$f":"Tabel!$K$106&$A222&$AH222&Tabel!$K$109","v":{"$error":"#VALUE!"}},{"$error":"#VALUE!"}]
[{"$f":"CONCATENATE(gastenlijst[[#This Row],[Post]],gastenlijst[[#This Row],[Code]],gastenlijst[[#This Row],[Huisnr aangepast]],gastenlijst[[#This Row],[Yes]])","v":{"$error":"#VALUE!"}},{"$error":"#VALUE!"},{"$error":"#VALUE!"},{"$error":"#VALUE!"},{"$error":"#VALUE!"},{"$error":"#VALUE!"},{"$error":"#VALUE!"},{"$error":"#VALUE!"},{"$error":"#VALUE!"},{"$error":"#VALUE!"},{"$error":"#VALUE!"},{"$f":"VLOOKUP(B223,Tabel!$K$3:$L$109,2,FALSE)","v":{"$error":"#VALUE!"}},{"$f":"VLOOKUP(C223,Tabel!$K$3:$L$109,2,FALSE)","v":{"$error":"#VALUE!"}},{"$f":"VLOOKUP(D223,Tabel!$K$3:$L$109,2,FALSE)","v":{"$error":"#VALUE!"}},{"$f":"VLOOKUP(E223,Tabel!$K$3:$L$109,2,FALSE)","v":{"$error":"#VALUE!"}},{"$f":"VLOOKUP(F223,Tabel!$K$3:$L$109,2,FALSE)","v":{"$error":"#VALUE!"}},{"$f":"VLOOKUP(G223,Tabel!$K$3:$L$109,2,FALSE)","v":{"$error":"#VALUE!"}},{"$f":"VLOOKUP(H223,Tabel!$K$3:$L$109,2,FALSE)","v":{"$error":"#VALUE!"}},{"$f":"VLOOKUP(I223,Tabel!$K$3:$L$109,2,FALSE)","v":{"$error":"#VALUE!"}},{"$f":"VLOOKUP(J223,Tabel!$K$3:$L$109,2,FALSE)","v":{"$error":"#VALUE!"}},{"$f":"VLOOKUP(K223,Tabel!$K$3:$L$109,2,FALSE)","v":{"$error":"#VALUE!"}},{"$error":"#VALUE!"},{"$error":"#VALUE!"},{"$error":"#VALUE!"},{"$error":"#VALUE!"},{"$error":"#VALUE!"},{"$error":"#VALUE!"},{"$error":"#VALUE!"},{"$error":"#VALUE!"},{"$error":"#VALUE!"},{"$error":"#VALUE!"},{"$error":"#VALUE!"},{"$error":"#VALUE!"},{"$f":"VLOOKUP($AG223,Tabel!$J$3:$K$109,2,FALSE)","v":{"$error":"#VALUE!"}},{"$f":"Tabel!$K$106&$A223&$AH223&Tabel!$K$109","v":{"$error":"#VALUE!"}},{"$error":"#VALUE!"}]
[{"$f":"CONCATENATE(gastenlijst[[#This Row],[Post]],gastenlijst[[#This Row],[Code]],gastenlijst[[#This Row],[Huisnr aangepast]],gastenlijst[[#This Row],[Yes]])","v":{"$error":"#VALUE!"}},{"$error":"#VALUE!"},{"$error":"#VALUE!"},{"$error":"#VALUE!"},{"$error":"#VALUE!"},{"$error":"#VALUE!"},{"$error":"#VALUE!"},{"$error":"#VALUE!"},{"$error":"#VALUE!"},{"$error":"#VALUE!"},{"$error":"#VALUE!"},{"$f":"VLOOKUP(B224,Tabel!$K$3:$L$109,2,FALSE)","v":{"$error":"#VALUE!"}},{"$f":"VLOOKUP(C224,Tabel!$K$3:$L$109,2,FALSE)","v":{"$error":"#VALUE!"}},{"$f":"VLOOKUP(D224,Tabel!$K$3:$L$109,2,FALSE)","v":{"$error":"#VALUE!"}},{"$f":"VLOOKUP(E224,Tabel!$K$3:$L$109,2,FALSE)","v":{"$error":"#VALUE!"}},{"$f":"VLOOKUP(F224,Tabel!$K$3:$L$109,2,FALSE)","v":{"$error":"#VALUE!"}},{"$f":"VLOOKUP(G224,Tabel!$K$3:$L$109,2,FALSE)","v":{"$error":"#VALUE!"}},{"$f":"VLOOKUP(H224,Tabel!$K$3:$L$109,2,FALSE)","v":{"$error":"#VALUE!"}},{"$f":"VLOOKUP(I224,Tabel!$K$3:$L$109,2,FALSE)","v":{"$error":"#VALUE!"}},{"$f":"VLOOKUP(J224,Tabel!$K$3:$L$109,2,FALSE)","v":{"$error":"#VALUE!"}},{"$f":"VLOOKUP(K224,Tabel!$K$3:$L$109,2,FALSE)","v":{"$error":"#VALUE!"}},{"$error":"#VALUE!"},{"$error":"#VALUE!"},{"$error":"#VALUE!"},{"$error":"#VALUE!"},{"$error":"#VALUE!"},{"$error":"#VALUE!"},{"$error":"#VALUE!"},{"$error":"#VALUE!"},{"$error":"#VALUE!"},{"$error":"#VALUE!"},{"$error":"#VALUE!"},{"$error":"#VALUE!"},{"$f":"VLOOKUP($AG224,Tabel!$J$3:$K$109,2,FALSE)","v":{"$error":"#VALUE!"}},{"$f":"Tabel!$K$106&$A224&$AH224&Tabel!$K$109","v":{"$error":"#VALUE!"}},{"$error":"#VALUE!"}]
[{"$f":"CONCATENATE(gastenlijst[[#This Row],[Post]],gastenlijst[[#This Row],[Code]],gastenlijst[[#This Row],[Huisnr aangepast]],gastenlijst[[#This Row],[Yes]])","v":{"$error":"#VALUE!"}},{"$error":"#VALUE!"},{"$error":"#VALUE!"},{"$error":"#VALUE!"},{"$error":"#VALUE!"},{"$error":"#VALUE!"},{"$error":"#VALUE!"},{"$error":"#VALUE!"},{"$error":"#VALUE!"},{"$error":"#VALUE!"},{"$error":"#VALUE!"},{"$f":"VLOOKUP(B225,Tabel!$K$3:$L$109,2,FALSE)","v":{"$error":"#VALUE!"}},{"$f":"VLOOKUP(C225,Tabel!$K$3:$L$109,2,FALSE)","v":{"$error":"#VALUE!"}},{"$f":"VLOOKUP(D225,Tabel!$K$3:$L$109,2,FALSE)","v":{"$error":"#VALUE!"}},{"$f":"VLOOKUP(E225,Tabel!$K$3:$L$109,2,FALSE)","v":{"$error":"#VALUE!"}},{"$f":"VLOOKUP(F225,Tabel!$K$3:$L$109,2,FALSE)","v":{"$error":"#VALUE!"}},{"$f":"VLOOKUP(G225,Tabel!$K$3:$L$109,2,FALSE)","v":{"$error":"#VALUE!"}},{"$f":"VLOOKUP(H225,Tabel!$K$3:$L$109,2,FALSE)","v":{"$error":"#VALUE!"}},{"$f":"VLOOKUP(I225,Tabel!$K$3:$L$109,2,FALSE)","v":{"$error":"#VALUE!"}},{"$f":"VLOOKUP(J225,Tabel!$K$3:$L$109,2,FALSE)","v":{"$error":"#VALUE!"}},{"$f":"VLOOKUP(K225,Tabel!$K$3:$L$109,2,FALSE)","v":{"$error":"#VALUE!"}},{"$error":"#VALUE!"},{"$error":"#VALUE!"},{"$error":"#VALUE!"},{"$error":"#VALUE!"},{"$error":"#VALUE!"},{"$error":"#VALUE!"},{"$error":"#VALUE!"},{"$error":"#VALUE!"},{"$error":"#VALUE!"},{"$error":"#VALUE!"},{"$error":"#VALUE!"},{"$error":"#VALUE!"},{"$f":"VLOOKUP($AG225,Tabel!$J$3:$K$109,2,FALSE)","v":{"$error":"#VALUE!"}},{"$f":"Tabel!$K$106&$A225&$AH225&Tabel!$K$109","v":{"$error":"#VALUE!"}},{"$error":"#VALUE!"}]
[{"$f":"CONCATENATE(gastenlijst[[#This Row],[Post]],gastenlijst[[#This Row],[Code]],gastenlijst[[#This Row],[Huisnr aangepast]],gastenlijst[[#This Row],[Yes]])","v":{"$error":"#VALUE!"}},{"$error":"#VALUE!"},{"$error":"#VALUE!"},{"$error":"#VALUE!"},{"$error":"#VALUE!"},{"$error":"#VALUE!"},{"$error":"#VALUE!"},{"$error":"#VALUE!"},{"$error":"#VALUE!"},{"$error":"#VALUE!"},{"$error":"#VALUE!"},{"$f":"VLOOKUP(B226,Tabel!$K$3:$L$109,2,FALSE)","v":{"$error":"#VALUE!"}},{"$f":"VLOOKUP(C226,Tabel!$K$3:$L$109,2,FALSE)","v":{"$error":"#VALUE!"}},{"$f":"VLOOKUP(D226,Tabel!$K$3:$L$109,2,FALSE)","v":{"$error":"#VALUE!"}},{"$f":"VLOOKUP(E226,Tabel!$K$3:$L$109,2,FALSE)","v":{"$error":"#VALUE!"}},{"$f":"VLOOKUP(F226,Tabel!$K$3:$L$109,2,FALSE)","v":{"$error":"#VALUE!"}},{"$f":"VLOOKUP(G226,Tabel!$K$3:$L$109,2,FALSE)","v":{"$error":"#VALUE!"}},{"$f":"VLOOKUP(H226,Tabel!$K$3:$L$109,2,FALSE)","v":{"$error":"#VALUE!"}},{"$f":"VLOOKUP(I226,Tabel!$K$3:$L$109,2,FALSE)","v":{"$error":"#VALUE!"}},{"$f":"VLOOKUP(J226,Tabel!$K$3:$L$109,2,FALSE)","v":{"$error":"#VALUE!"}},{"$f":"VLOOKUP(K226,Tabel!$K$3:$L$109,2,FALSE)","v":{"$error":"#VALUE!"}},{"$error":"#VALUE!"},{"$error":"#VALUE!"},{"$error":"#VALUE!"},{"$error":"#VALUE!"},{"$error":"#VALUE!"},{"$error":"#VALUE!"},{"$error":"#VALUE!"},{"$error":"#VALUE!"},{"$error":"#VALUE!"},{"$error":"#VALUE!"},{"$error":"#VALUE!"},{"$error":"#VALUE!"},{"$f":"VLOOKUP($AG226,Tabel!$J$3:$K$109,2,FALSE)","v":{"$error":"#VALUE!"}},{"$f":"Tabel!$K$106&$A226&$AH226&Tabel!$K$109","v":{"$error":"#VALUE!"}},{"$error":"#VALUE!"}]

{"sheet":"Tabel","index":2,"n_rows":109,"n_cols":20,"rows_kept":109,"cut":false,"hidden":false,"merged":[[107,1,107,3],[108,1,108,3],[0,0,0,7],[1,9,1,11],[1,13,1,19],[105,1,105,3],[106,1,106,3],[12,18,12,22]]}
["Code 128"]
["Value","128A","128B","128C","ASCII Code (Common/Barcode soft)","Character (Common/Barcode soft)","Bar/Space Pattern","Bar/Space Widths",null,"Real Chart - Teken",null,null,null,"Dit is als voorbeeld uit deze video                                                      https://www.youtube.com/watch?v=7HIEdwqnCG0                                                                  alleen even op 1 blad"]
[0,"space","space",0,"32 or 212 / 252","␣ or Ô / ü",11011001100,212222,null,0," ",{"$f":"TEXT(J3,0)","v":"0"},null,123456,{"$f":"MID($N$3,1,1)","v":"1"},{"$f":"VLOOKUP(O3,Tabel!K3:L109,2,FALSE)","v":"17"},{"$f":"P3*1","v":17}]
[1," !"," !",1,33," !",11001101100,222122,null,1,{"$f":"TEXT(B4,0)","v":" !"},{"$f":"TEXT(J4,0)","v":"1"},null,null,{"$f":"MID($N$3,2,1)","v":"2"},{"$f":"VLOOKUP(O4,Tabel!K4:L110,2,FALSE)","v":"18"},{"$f":"P4*2","v":36}]
[2,"\"","\"",2,34,"\"",11001100110,222221,null,2,"\"","2",null,null,{"$f":"MID($N$3,3,1)","v":"3"},{"$f":"VLOOKUP(O5,Tabel!K5:L111,2,FALSE)","v":"19"},{"$f":"P5*3","v":57}]
[3,"#","#",3,35,"#",10010011000,121223,null,3,"#","3",null,null,{"$f":"MID($N$3,4,1)","v":"4"},{"$f":"VLOOKUP(O6,Tabel!K6:L112,2,FALSE)","v":"20"},{"$f":"P6*4","v":80}]
[4,"$","$",4,36,"$",10010001100,121322,null,4,"$","4",null,null,{"$f":"MID($N$3,5,1)","v":"5"},{"$f":"VLOOKUP(O7,Tabel!K7:L113,2,FALSE)","v":"21"},{"$f":"P7*5","v":105}]
[5," %"," %",5,37," %",10001001100,131222,null,5," %","5",null,null,{"$f":"MID($N$3,6,1)","v":"6"},{"$f":"VLOOKUP(O8,Tabel!K8:L114,2,FALSE)","v":"22"},{"$f":"P8*6","v":132}]
[6,"&","&",6,38,"&",10011001000,122213,null,6,"&","6",null,null,null,null,{"$f":"103+Q3+Q4+Q5+Q6+Q7+Q8","v":530},{"$f":"MOD(Q9,103)","v":15},{"$f":"VLOOKUP(R9,Tabel!$J$3:$K$109,2,FALSE)","v":"/"},{"$f":"Tabel!K106&N3&S9&Tabel!K109","v":"Ð123456/Ó"}]
[7,"'","'",7,39,"'",10011000100,122312,null,7,"'","7"]
[8,"(","(",8,40,"(",10001100100,132212,null,8,"(","8",null,null,null,null,null,null,null,{"$f":"T9","v":"Ð123456/Ó"}]
[9,")",")",9,41,")",11001001000,221213,null,9,")","9"]
[10,"*","*",10,42,"*",11001000100,221312,null,10,"*","10",null,"Code 128",null,null,null,null,"https://www.youtube.com/watch?v=7HIEdwqnCG0"]
[11,"+","+",11,43,"+",11000100100,231212,null,11,"+","11"]
[12,",",",",12,44,",",10110011100,112232,null,12,",","12"]
[13,"-","-",13,45,"-",10011011100,122132,null,13,"-","13"]
[14,".",".",14,46,".",10011001110,122231,null,14,".","14"]
[15,"/","/",15,47,"/",10111001100,113222,null,15,"/","15"]
[16,0,0,16,48,0,10011101100,123122,null,16,"0","16"]
[17,1,1,17,49,1,10011100110,123221,null,17,"1","17"]
[18,2,2,18,50,2,11001110010,223211,null,18,"2","18"]
[19,3,3,19,51,3,11001011100,221132,null,19,"3","19",null,"\"Wikipedia\" in Code 128."]
[20,4,4,20,52,4,11001001110,221231,null,20,"4","20"]
[21,5,5,21,53,5,11011100100,213212,null,21,"5","21",null,"Code 128 is een soort streepjescode."]
[22,6,6,22,54,6,11001110100,223112,null,22,"6","22"]
[23,7,7,23,55,7,11101101110,312131,null,23,"7","23",null,"Alle symbolen van de streepjescode bestaan uit een opeenvolging van streepjes \"zwart, wit, zwart, wit, zwart, wit\"."]
[24,8,8,24,56,8,11101001100,311222,null,24,"8","24",null,"Een zwart of wit streepje kan vier breedtes hebben."]
[25,9,9,25,57,9,11100101100,321122,null,25,"9","25",null,"Als we de breedte van het dunste streepje op 1 stellen, zijn de overige breedtes 2, 3 en 4 keer zo breed."]
[26," :"," :",26,58," :",11100100110,321221,null,26," :","26",null,"De breedte van het elk geheel symbool is 11."]
[27," ;"," ;",27,59," ;",11101100100,312212,null,27," ;","27",null,"Omdat moeilijk op wit geëindigd kan worden wordt het \"stop\"-symbool gevolgd door een extra zwarte streep met breedte 2."]
[28,"<","<",28,60,"<",11100110100,322112,null,28,"<","28",null,"Een barcode bestaat uit achtereenvolgens: een startsymbool, symbolen voor de gecodeerde gegevens, een controlesymbool en het stopsymbool."]
[29,"=","=",29,61,"=",11100110010,322211,null,29,"=","29",null,"Er zijn 107 verschillende symbolen gedefinieerd, waaronder drie verschillende startsymbolen, die elk een verschillende tekenset definiëren, en het stopsymbool."]
[30,">",">",30,62,">",11011011000,212123,null,30,">","30",null,"Bij elk symbool, behalve het stopsymbool, hoort ook een getalswaarde die gebruikt wordt bij het berekenen van het controlesymbool."]
[31," ?"," ?",31,63," ?",11011000110,212321,null,31," ?","31",null,"De getalswaarde van het controlesymbool wordt berekend door 1 x de getalswaarde van het startsymbool, 1 x de getalswaarde van het eerste gegevenssymbool"]
[32,"@","@",32,64,"@",11000110110,232121,null,32,"@","32",null,"2 x die van het tweede gegevenssymbool, 3 x die van het derde gegevenssymbool, en zo voort, bij elkaar op te tellen,"]
[33,"A","A",33,65,"A",10100011000,111323,null,33,"A","33",null,"en van het totaal de rest te nemen bij deling door 103."]
[34,"B","B",34,66,"B",10001011000,131123,null,34,"B","34",null,"Om een bepaald aantal gegevenssymbolen te coderen zijn er dus drie extra symbolen nodig (start, controle en stop),"]
[35,"C","C",35,67,"C",10001000110,131321,null,35,"C","35",null,"en de totale breedte van een streepjescode, uitgedrukt in de breedte van het dunste streepje, is dus: (aantal symbolen + 3) x 11 + 2."]
[36,"D","D",36,68,"D",10110001000,112313,null,36,"D","36",null,"Het is van belang om ervoor te zorgen dat bij het afdrukken de streepjes ook inderdaad de juiste breedteverhoudingen hebben."]
[37,"E","E",37,69,"E",10001101000,132113,null,37,"E","37",null,"Door schaling is dit niet altijd het geval. Om dit te voorkomen dient men de lengte van de totale streepjescode te berekenen en te vermenigvuldigen met een"]
[38,"F","F",38,70,"F",10001100010,132311,null,38,"F","38",null,"geschikt geheel aantal pixels om een afbeelding van de gewenste grootte te verkrijgen."]
[39,"G","G",39,71,"G",11010001000,211313,null,39,"G","39"]
[40,"H","H",40,72,"H",11000101000,231113,null,40,"H","40"]
[41,"I","I",41,73,"I",11000100010,231311,null,41,"I","41"]
[42,"J","J",42,74,"J",10110111000,112133,null,42,"J","42"]
[43,"K","K",43,75,"K",10110001110,112331,null,43,"K","43"]
[44,"L","L",44,76,"L",10001101110,132131,null,44,"L","44"]
[45,"M","M",45,77,"M",10111011000,113123,null,45,"M","45"]
[46,"N","N",46,78,"N",10111000110,113321,null,46,"N","46"]
[47,"O","O",47,79,"O",10001110110,133121,null,47,"O","47"]
[48,"P","P",48,80,"P",11101110110,313121,null,48,"P","48"]
[49,"Q","Q",49,81,"Q",11010001110,211331,null,49,"Q","49"]
[50,"R","R",50,82,"R",11000101110,231131,null,50,"R","50"]
[51,"S","S",51,83,"S",11011101000,213113,null,51,"S","51"]
[52,"T","T",52,84,"T",11011100010,213311,null,52,"T","52"]
[53,"U","U",53,85,"U",11011101110,213131,null,53,"U","53"]
[54,"V","V",54,86,"V",11101011000,311123,null,54,"V","54"]
[55,"W","W",55,87,"W",11101000110,311321,null,55,"W","55"]
[56,"X","X",56,88,"X",11100010110,331121,null,56,"X","56"]
[57,"Y","Y",57,89,"Y",11101101000,312113,null,57,"Y","57"]
[58,"Z","Z",58,90,"Z",11101100010,312311,null,58,"Z","58"]
[59,"[","[",59,91,"[",11100011010,332111,null,59,"[","59"]
[60,"\\","\\",60,92,"\\",11101111010,314111,null,60,"\\","60"]
[61,"]","]",61,93,"]",11001000010,221411,null,61,"]","61"]
[62,"^","^",62,94,"^",11110001010,431111,null,62,"^","62"]
[63,"_","_",63,95,"_",10100110000,111224,null,63,"_","63"]
[64,"NUL","`",64,96,"`",10100001100,111422,null,64,{"$f":"TEXT(C67,0)","v":"`"},"64"]
[65,"SOH","a",65,97,"a",10010110000,121124,null,65,{"$f":"TEXT(C68,0)","v":"a"},{"$f":"TEXT(J68,0)","v":"65"}]
[66,"STX","b",66,98,"b",10010000110,121421,null,66,"b","66"]
[67,"ETX","c",67,99,"c",10000101100,141122,null,67,"c","67"]
[68,"EOT","d",68,100,"d",10000100110,141221,null,68,"d","68"]
[69,"ENQ","e",69,101,"e",10110010000,112214,null,69,"e","69"]
[70,"ACK","f",70,102,"f",10110000100,112412,null,70,"f","70"]
[71,"BEL","g",71,103,"g",10011010000,122114,null,71,"g","71"]
[72,"BS","h",72,104,"h",10011000010,122411,null,72,"h","72"]
[73,"HT","i",73,105,"i",10000110100,142112,null,73,"i","73"]
[74,"LF","j",74,106,"j",10000110010,142211,null,74,"j","74"]
[75,"VT","k",75,107,"k",11000010010,241211,null,75,"k","75"]
[76,"FF","l",76,108,"l",11001010000,221114,null,76,"l","76"]
[77,"CR","m",77,109,"m",11110111010,413111,null,77,"m","77"]
[78,"SO","n",78,110,"n",11000010100,241112,null,78,"n","78"]
[79,"SI","o",79,111,"o",10001111010,134111,null,79,"o","79"]
[80,"DLE","p",80,112,"p",10100111100,111242,null,80,"p","80"]
[81,"DC1","q",81,113,"q",10010111100,121142,null,81,"q","81"]
[82,"DC2","r",82,114,"r",10010011110,121241,null,82,"r","82"]
[83,"DC3","s",83,115,"s",10111100100,114212,null,83,"s","83"]
[84,"DC4","t",84,116,"t",10011110100,124112,null,84,"t","84"]
[85,"NAK","u",85,117,"u",10011110010,124211,null,85,"u","85"]
[86,"SYN","v",86,118,"v",11110100100,411212,null,86,"v","86"]
[87,"ETB","w",87,119,"w",11110010100,421112,null,87,"w","87"]
[88,"CAN","x",88,120,"x",11110010010,421211,null,88,"x","88"]
[89,"EM","y",89,121,"y",11011011110,212141,null,89,"y","89"]
[90,"SUB","z",90,122,"z",11011110110,214121,null,90,"z","90"]
[91,"ESC","{",91,123,"{",11110110110,412121,null,91,"{","91"]
[92,"FS","|",92,124,"|",10101111000,111143,null,92,"|","92"]
[93,"GS","}",93,125,"}",10100011110,111341,null,93,"}","93"]
[94,"RS","~",94,126,"~",10001011110,131141,null,94,"~","94"]
[95,"US","DEL",95,"200 / 240","È / ð",10111101000,114113,null,95,{"$f":"CHAR(200)","v":"È"},"95"]
[96,"FNC 3","FNC 3",96,"201 / 241","É / ñ",10111100010,114311,null,96,{"$f":"CHAR(201)","v":"É"},"96"]
[97,"FNC 2","FNC 2",97,"202 / 242","Ê / ò",11110101000,411113,null,97,{"$f":"CHAR(202)","v":"Ê"},"97"]
[98,"Shift B","Shift A",98,"203 / 243","Ë / ó",11110100010,411311,null,98,{"$f":"CHAR(203)","v":"Ë"},"98"]
[99,"Code C","Code C",99,"204 / 244","Ì / ô",10111011110,113141,null,99,{"$f":"CHAR(204)","v":"Ì"},"99"]
[100,"Code B","FNC 4","Code B","205 / 245","Í / õ",10111101110,114131,null,100,{"$f":"CHAR(205)","v":"Í"},"100"]
[101,"FNC 4","Code A","Code A","206 / 246","Î / ö",11101011110,311141,null,101,{"$f":"CHAR(206)","v":"Î"},"101"]
[102,"FNC 1","FNC 1","FNC 1","207 / 247","Ï / ÷",11110101110,411131,null,102,{"$f":"CHAR(207)","v":"Ï"},"102"]
[103,"Start Code A",null,null,"208 / 248","Ð / ø",11010000100,211412,null,103,{"$f":"CHAR(208)","v":"Ð"},"103"]
[104,"Start Code B",null,null,"209 / 249","Ñ / ù",11010010000,211214,null,104,{"$f":"CHAR(209)","v":"Ñ"},"104"]
[105,"Start Code C",null,null,"210 / 250","Ò / ú",11010011100,211232,null,105,{"$f":"CHAR(210)","v":"Ò"},"105"]
[106,"Stop pattern (7 bars/spaces)",null,null,"211 / 251","Ó / û","  1100011101011"," 2331112",null,106,{"$f":"CHAR(211)","v":"Ó"},"106"]

{"sheet":"Adres stickers","index":3,"n_rows":26,"n_cols":26,"rows_kept":26,"cut":false,"hidden":false,"merged":[]}
[{"$f":"IF(Lijst!L6>0,Lijst!$C6&\" \"&Lijst!$B6&CHAR(10)&Lijst!$D6&\" \"&Lijst!$E6&CHAR(10)&Lijst!$F6&\" \"&Lijst!$G6&\" \"&Lijst!$H6,\"\")","v":"Jan Klaasen\nKlaasenstraat 12\n1234 AB Klaasenstad"},null,{"$f":"IF(Lijst!L15>0,Lijst!$C15&\" \"&Lijst!$B15&CHAR(10)&Lijst!$D15&\" \"&Lijst!$E15&CHAR(10)&Lijst!$F15&\" \"&Lijst!$G15&\" \"&Lijst!$H15,\"\")","v":""},null,{"$f":"IF(Lijst!L24>0,Lijst!$C24&\" \"&Lijst!$B24&CHAR(10)&Lijst!$D24&\" \"&Lijst!$E24&CHAR(10)&Lijst!$F24&\" \"&Lijst!$G24&\" \"&Lijst!$H24,\"\")","v":""},null,null,{"$f":"IF(Lijst!L33>0,Lijst!$C33&\" \"&Lijst!$B33&CHAR(10)&Lijst!$D33&\" \"&Lijst!$E33&CHAR(10)&Lijst!$F33&\" \"&Lijst!$G33&\" \"&Lijst!$H33,\"\")","v":""},null,{"$f":"IF(Lijst!L42>0,Lijst!$C42&\" \"&Lijst!$B42&CHAR(10)&Lijst!$D42&\" \"&Lijst!$E42&CHAR(10)&Lijst!$F42&\" \"&Lijst!$G42&\" \"&Lijst!$H42,\"\")","v":""},null,{"$f":"IF(Lijst!L51>0,Lijst!$C51&\" \"&Lijst!$B51&CHAR(10)&Lijst!$D51&\" \"&Lijst!$E51&CHAR(10)&Lijst!$F51&\" \"&Lijst!$G51&\" \"&Lijst!$H51,\"\")","v":""},null,null,{"$f":"IF(Lijst!L60>0,Lijst!$C60&\" \"&Lijst!$B60&CHAR(10)&Lijst!$D60&\" \"&Lijst!$E60&CHAR(10)&Lijst!$F60&\" \"&Lijst!$G60&\" \"&Lijst!$H60,\"\")","v":""},null,{"$f":"IF(Lijst!L69>0,Lijst!$C69&\" \"&Lijst!$B69&CHAR(10)&Lijst!$D69&\" \"&Lijst!$E69&CHAR(10)&Lijst!$F69&\" \"&Lijst!$G69&\" \"&Lijst!$H69,\"\")","v":""},null,{"$f":"IF(Lijst!$L78>0,Lijst!$C78&\" \"&Lijst!$B78&CHAR(10)&Lijst!$D78&\" \"&Lijst!$E78&CHAR(10)&Lijst!$F78&\" \"&Lijst!$G78&\" \"&Lijst!$H78,\"\")","v":""},null,null,{"$f":"IF(Lijst!$L87>0,Lijst!$C87&\" \"&Lijst!$B87&CHAR(10)&Lijst!$D87&\" \"&Lijst!$E87&CHAR(10)&Lijst!$F87&\" \"&Lijst!$G87&\" \"&Lijst!$H87,\"\")","v":""},null,{"$f":"IF(Lijst!$L96>0,Lijst!$C96&\" \"&Lijst!$B96&CHAR(10)&Lijst!$D96&\" \"&Lijst!$E96&CHAR(10)&Lijst!$F96&\" \"&Lijst!$G96&\" \"&Lijst!$H96,\"\")","v":""},null,{"$f":"IF(Lijst!$L105>0,Lijst!$C105&\" \"&Lijst!$B105&CHAR(10)&Lijst!$D105&\" \"&Lijst!$E105&CHAR(10)&Lijst!$F105&\" \"&Lijst!$G105&\" \"&Lijst!$H105,\"\")","v":""}]
[{"$f":"IF(Lijst!$L6<>\"\",Lijst!$P6,\"\")","v":"Ð1234AB12 2IÓ"},null,{"$f":"IF(Lijst!$L15<>\"\",Lijst!$P15,\"\")","v":""},null,{"$f":"IF(Lijst!$L24<>\"\",Lijst!$P24,\"\")","v":""},null,null,{"$f":"IF(Lijst!$L33<>\"\",Lijst!$P33,\"\")","v":""},null,{"$f":"IF(Lijst!$L42<>\"\",Lijst!$P42,\"\")","v":""},null,{"$f":"IF(Lijst!$L51<>\"\",Lijst!$P51,\"\")","v":""},null,null,{"$f":"IF(Lijst!$L60<>\"\",Lijst!$P60,\"\")","v":""},null,{"$f":"IF(Lijst!$L69<>\"\",Lijst!$P69,\"\")","v":""},null,{"$f":"IF(Lijst!$L78<>\"\",Lijst!$P78,\"\")","v":""},null,null,{"$f":"IF(Lijst!$L87<>\"\",Lijst!$P87,\"\")","v":""},null,{"$f":"IF(Lijst!$L96<>\"\",Lijst!$P96,\"\")","v":""},null,{"$f":"IF(Lijst!$L105<>\"\",Lijst!$P105,\"\")","v":""}]
[]
[{"$f":"IF(Lijst!L7>0,Lijst!$C7&\" \"&Lijst!$B7&CHAR(10)&Lijst!$D7&\" \"&Lijst!$E7&CHAR(10)&Lijst!$F7&\" \"&Lijst!$G7&\" \"&Lijst!$H7,\"\")","v":"Groenten Boer\nGroentenstraat 678\n5678 XY Groentestad"},null,{"$f":"IF(Lijst!L16>0,Lijst!$C16&\" \"&Lijst!$B16&CHAR(10)&Lijst!$D16&\" \"&Lijst!$E16&CHAR(10)&Lijst!$F16&\" \"&Lijst!$G16&\" \"&Lijst!$H16,\"\")","v":""},null,{"$f":"IF(Lijst!L25>0,Lijst!$C25&\" \"&Lijst!$B25&CHAR(10)&Lijst!$D25&\" \"&Lijst!$E25&CHAR(10)&Lijst!$F25&\" \"&Lijst!$G25&\" \"&Lijst!$H25,\"\")","v":""},null,null,{"$f":"IF(Lijst!L34>0,Lijst!$C34&\" \"&Lijst!$B34&CHAR(10)&Lijst!$D34&\" \"&Lijst!$E34&CHAR(10)&Lijst!$F34&\" \"&Lijst!$G34&\" \"&Lijst!$H34,\"\")","v":""},null,{"$f":"IF(Lijst!L43>0,Lijst!$C43&\" \"&Lijst!$B43&CHAR(10)&Lijst!$D43&\" \"&Lijst!$E43&CHAR(10)&Lijst!$F43&\" \"&Lijst!$G43&\" \"&Lijst!$H43,\"\")","v":""},null,{"$f":"IF(Lijst!L52>0,Lijst!$C52&\" \"&Lijst!$B52&CHAR(10)&Lijst!$D52&\" \"&Lijst!$E52&CHAR(10)&Lijst!$F52&\" \"&Lijst!$G52&\" \"&Lijst!$H52,\"\")","v":""},null,null,{"$f":"IF(Lijst!L61>0,Lijst!$C61&\" \"&Lijst!$B61&CHAR(10)&Lijst!$D61&\" \"&Lijst!$E61&CHAR(10)&Lijst!$F61&\" \"&Lijst!$G61&\" \"&Lijst!$H61,\"\")","v":""},null,{"$f":"IF(Lijst!L70>0,Lijst!$C70&\" \"&Lijst!$B70&CHAR(10)&Lijst!$D70&\" \"&Lijst!$E70&CHAR(10)&Lijst!$F70&\" \"&Lijst!$G70&\" \"&Lijst!$H70,\"\")","v":""},null,{"$f":"IF(Lijst!L79>0,Lijst!$C79&\" \"&Lijst!$B79&CHAR(10)&Lijst!$D79&\" \"&Lijst!$E79&CHAR(10)&Lijst!$F79&\" \"&Lijst!$G79&\" \"&Lijst!$H79,\"\")","v":""},null,null,{"$f":"IF(Lijst!$L88>0,Lijst!$C88&\" \"&Lijst!$B88&CHAR(10)&Lijst!$D88&\" \"&Lijst!$E88&CHAR(10)&Lijst!$F88&\" \"&Lijst!$G88&\" \"&Lijst!$H88,\"\")","v":""},null,{"$f":"IF(Lijst!$L97>0,Lijst!$C97&\" \"&Lijst!$B97&CHAR(10)&Lijst!$D97&\" \"&Lijst!$E97&CHAR(10)&Lijst!$F97&\" \"&Lijst!$G97&\" \"&Lijst!$H97,\"\")","v":""},null,{"$f":"IF(Lijst!$L106>0,Lijst!$C106&\" \"&Lijst!$B106&CHAR(10)&Lijst!$D106&\" \"&Lijst!$E106&CHAR(10)&Lijst!$F106&\" \"&Lijst!$G106&\" \"&Lijst!$H106,\"\")","v":""}]
[{"$f":"IF(Lijst!L7<>\"\",Lijst!$P7,\"\")","v":"Ð5678XY678 2eÓ"},null,{"$f":"IF(Lijst!$L16<>\"\",Lijst!$P16,\"\")","v":""},null,{"$f":"IF(Lijst!$L25<>\"\",Lijst!$P25,\"\")","v":""},null,null,{"$f":"IF(Lijst!$L34<>\"\",Lijst!$P34,\"\")","v":""},null,{"$f":"IF(Lijst!$L43<>\"\",Lijst!$P43,\"\")","v":""},null,{"$f":"IF(Lijst!$L52<>\"\",Lijst!$P52,\"\")","v":""},null,null,{"$f":"IF(Lijst!$L61<>\"\",Lijst!$P61,\"\")","v":""},null,{"$f":"IF(Lijst!$L72<>\"\",Lijst!$P72,\"\")","v":""},null,{"$f":"IF(Lijst!$L79<>\"\",Lijst!$P79,\"\")","v":""},null,null,{"$f":"IF(Lijst!$L88<>\"\",Lijst!$P88,\"\")","v":""},null,{"$f":"IF(Lijst!$L97<>\"\",Lijst!$P97,\"\")","v":""},null,{"$f":"IF(Lijst!$L106<>\"\",Lijst!$P106,\"\")","v":""}]
[]
[{"$f":"IF(Lijst!L8>0,Lijst!$C8&\" \"&Lijst!$B8&CHAR(10)&Lijst!$D8&\" \"&Lijst!$E8&CHAR(10)&Lijst!$F8&\" \"&Lijst!$G8&\" \"&Lijst!$H8,\"\")","v":"Worsten Maker\nSlagerijstraat 56\n9182 HJ Vleesstad"},null,{"$f":"IF(Lijst!L17>0,Lijst!$C17&\" \"&Lijst!$B17&CHAR(10)&Lijst!$D17&\" \"&Lijst!$E17&CHAR(10)&Lijst!$F17&\" \"&Lijst!$G17&\" \"&Lijst!$H17,\"\")","v":""},null,{"$f":"IF(Lijst!L26>0,Lijst!$C26&\" \"&Lijst!$B26&CHAR(10)&Lijst!$D26&\" \"&Lijst!$E26&CHAR(10)&Lijst!$F26&\" \"&Lijst!$G26&\" \"&Lijst!$H26,\"\")","v":""},null,null,{"$f":"IF(Lijst!L35>0,Lijst!$C35&\" \"&Lijst!$B35&CHAR(10)&Lijst!$D35&\" \"&Lijst!$E35&CHAR(10)&Lijst!$F35&\" \"&Lijst!$G35&\" \"&Lijst!$H35,\"\")","v":""},null,{"$f":"IF(Lijst!L44>0,Lijst!$C44&\" \"&Lijst!$B44&CHAR(10)&Lijst!$D44&\" \"&Lijst!$E44&CHAR(10)&Lijst!$F44&\" \"&Lijst!$G44&\" \"&Lijst!$H44,\"\")","v":""},null,{"$f":"IF(Lijst!L53>0,Lijst!$C53&\" \"&Lijst!$B53&CHAR(10)&Lijst!$D53&\" \"&Lijst!$E53&CHAR(10)&Lijst!$F53&\" \"&Lijst!$G53&\" \"&Lijst!$H53,\"\")","v":""},null,null,{"$f":"IF(Lijst!L62>0,Lijst!$C62&\" \"&Lijst!$B62&CHAR(10)&Lijst!$D62&\" \"&Lijst!$E62&CHAR(10)&Lijst!$F62&\" \"&Lijst!$G62&\" \"&Lijst!$H62,\"\")","v":""},null,{"$f":"IF(Lijst!L71>0,Lijst!$C71&\" \"&Lijst!$B71&CHAR(10)&Lijst!$D71&\" \"&Lijst!$E71&CHAR(10)&Lijst!$F71&\" \"&Lijst!$G71&\" \"&Lijst!$H71,\"\")","v":""},null,{"$f":"IF(Lijst!L80>0,Lijst!$C80&\" \"&Lijst!$B80&CHAR(10)&Lijst!$D80&\" \"&Lijst!$E80&CHAR(10)&Lijst!$F80&\" \"&Lijst!$G80&\" \"&Lijst!$H80,\"\")","v":""},null,null,{"$f":"IF(Lijst!$L89>0,Lijst!$C89&\" \"&Lijst!$B89&CHAR(10)&Lijst!$D89&\" \"&Lijst!$E89&CHAR(10)&Lijst!$F89&\" \"&Lijst!$G89&\" \"&Lijst!$H89,\"\")","v":""},null,{"$f":"IF(Lijst!$L98>0,Lijst!$C98&\" \"&Lijst!$B98&CHAR(10)&Lijst!$D98&\" \"&Lijst!$E98&CHAR(10)&Lijst!$F98&\" \"&Lijst!$G98&\" \"&Lijst!$H98,\"\")","v":""},null,{"$f":"IF(Lijst!$L107>0,Lijst!$C107&\" \"&Lijst!$B107&CHAR(10)&Lijst!$D107&\" \"&Lijst!$E107&CHAR(10)&Lijst!$F107&\" \"&Lijst!$G107&\" \"&Lijst!$H107,\"\")","v":""}]
[{"$f":"IF(Lijst!L8<>\"\",Lijst!$P8,\"\")","v":"Ð9182HJ56 1xÓ"},null,{"$f":"IF(Lijst!$L17<>\"\",Lijst!$P17,\"\")","v":""},null,{"$f":"IF(Lijst!$L26<>\"\",Lijst!$P26,\"\")","v":""},null,null,{"$f":"IF(Lijst!$L35<>\"\",Lijst!$P35,\"\")","v":""},null,{"$f":"IF(Lijst!$L442<>\"\",Lijst!$P44,\"\")","v":""},null,{"$f":"IF(Lijst!$L53<>\"\",Lijst!$P53,\"\")","v":""},null,null,{"$f":"IF(Lijst!$L62<>\"\",Lijst!$P62,\"\")","v":""},null,{"$f":"IF(Lijst!$L75<>\"\",Lijst!$P75,\"\")","v":""},null,{"$f":"IF(Lijst!$L80<>\"\",Lijst!$P80,\"\")","v":""},null,null,{"$f":"IF(Lijst!$L89<>\"\",Lijst!$P89,\"\")","v":""},null,{"$f":"IF(Lijst!$L98<>\"\",Lijst!$P98,\"\")","v":""},null,{"$f":"IF(Lijst!$L107<>\"\",Lijst!$P107,\"\")","v":""}]
[]
[{"$f":"IF(Lijst!L9>0,Lijst!$C9&\" \"&Lijst!$B9&CHAR(10)&Lijst!$D9&\" \"&Lijst!$E9&CHAR(10)&Lijst!$F9&\" \"&Lijst!$G9&\" \"&Lijst!$H9,\"\")","v":""},null,{"$f":"IF(Lijst!L18>0,Lijst!$C18&\" \"&Lijst!$B18&CHAR(10)&Lijst!$D18&\" \"&Lijst!$E18&CHAR(10)&Lijst!$F18&\" \"&Lijst!$G18&\" \"&Lijst!$H18,\"\")","v":""},null,{"$f":"IF(Lijst!L27>0,Lijst!$C27&\" \"&Lijst!$B27&CHAR(10)&Lijst!$D27&\" \"&Lijst!$E27&CHAR(10)&Lijst!$F27&\" \"&Lijst!$G27&\" \"&Lijst!$H27,\"\")","v":""},null,null,{"$f":"IF(Lijst!L36>0,Lijst!$C36&\" \"&Lijst!$B36&CHAR(10)&Lijst!$D36&\" \"&Lijst!$E36&CHAR(10)&Lijst!$F36&\" \"&Lijst!$G36&\" \"&Lijst!$H36,\"\")","v":""},null,{"$f":"IF(Lijst!L45>0,Lijst!$C45&\" \"&Lijst!$B45&CHAR(10)&Lijst!$D45&\" \"&Lijst!$E45&CHAR(10)&Lijst!$F45&\" \"&Lijst!$G45&\" \"&Lijst!$H45,\"\")","v":""},null,{"$f":"IF(Lijst!L54>0,Lijst!$C54&\" \"&Lijst!$B54&CHAR(10)&Lijst!$D54&\" \"&Lijst!$E54&CHAR(10)&Lijst!$F54&\" \"&Lijst!$G54&\" \"&Lijst!$H54,\"\")","v":""},null,null,{"$f":"IF(Lijst!L63>0,Lijst!$C63&\" \"&Lijst!$B63&CHAR(10)&Lijst!$D63&\" \"&Lijst!$E63&CHAR(10)&Lijst!$F63&\" \"&Lijst!$G63&\" \"&Lijst!$H63,\"\")","v":""},null,{"$f":"IF(Lijst!L72>0,Lijst!$C72&\" \"&Lijst!$B72&CHAR(10)&Lijst!$D72&\" \"&Lijst!$E72&CHAR(10)&Lijst!$F72&\" \"&Lijst!$G72&\" \"&Lijst!$H72,\"\")","v":""},null,{"$f":"IF(Lijst!L81>0,Lijst!$C81&\" \"&Lijst!$B81&CHAR(10)&Lijst!$D81&\" \"&Lijst!$E81&CHAR(10)&Lijst!$F81&\" \"&Lijst!$G81&\" \"&Lijst!$H81,\"\")","v":""},null,null,{"$f":"IF(Lijst!$L90>0,Lijst!$C90&\" \"&Lijst!$B90&CHAR(10)&Lijst!$D90&\" \"&Lijst!$E90&CHAR(10)&Lijst!$F90&\" \"&Lijst!$G90&\" \"&Lijst!$H90,\"\")","v":""},null,{"$f":"IF(Lijst!$L99>0,Lijst!$C99&\" \"&Lijst!$B99&CHAR(10)&Lijst!$D99&\" \"&Lijst!$E99&CHAR(10)&Lijst!$F99&\" \"&Lijst!$G99&\" \"&Lijst!$H99,\"\")","v":""},null,{"$f":"IF(Lijst!$L108>0,Lijst!$C108&\" \"&Lijst!$B108&CHAR(10)&Lijst!$D108&\" \"&Lijst!$E108&CHAR(10)&Lijst!$F108&\" \"&Lijst!$G108&\" \"&Lijst!$H108,\"\")","v":""}]
[{"$f":"IF(Lijst!L9<>\"\",Lijst!$P9,\"\")","v":""},null,{"$f":"IF(Lijst!$L18<>\"\",Lijst!$P18,\"\")","v":""},null,{"$f":"IF(Lijst!$L27<>\"\",Lijst!$P27,\"\")","v":""},null,null,{"$f":"IF(Lijst!$L36<>\"\",Lijst!$P36,\"\")","v":""},null,{"$f":"IF(Lijst!$L45<>\"\",Lijst!$P45,\"\")","v":""},null,{"$f":"IF(Lijst!$L54<>\"\",Lijst!$P54,\"\")","v":""},null,null,{"$f":"IF(Lijst!$L63<>\"\",Lijst!$P63,\"\")","v":""},null,{"$f":"IF(Lijst!$L78<>\"\",Lijst!$P78,\"\")","v":""},null,{"$f":"IF(Lijst!$L81<>\"\",Lijst!$P81,\"\")","v":""},null,null,{"$f":"IF(Lijst!$L90<>\"\",Lijst!$P90,\"\")","v":""},null,{"$f":"IF(Lijst!$L87<>\"\",Lijst!$P87,\"\")","v":""},null,{"$f":"IF(Lijst!$L108<>\"\",Lijst!$P108,\"\")","v":""}]
[]
[{"$f":"IF(Lijst!L10>0,Lijst!$C10&\" \"&Lijst!$B10&CHAR(10)&Lijst!$D10&\" \"&Lijst!$E10&CHAR(10)&Lijst!$F10&\" \"&Lijst!$G10&\" \"&Lijst!$H10,\"\")","v":""},null,{"$f":"IF(Lijst!L19>0,Lijst!$C19&\" \"&Lijst!$B19&CHAR(10)&Lijst!$D19&\" \"&Lijst!$E19&CHAR(10)&Lijst!$F19&\" \"&Lijst!$G19&\" \"&Lijst!$H19,\"\")","v":""},null,{"$f":"IF(Lijst!L28>0,Lijst!$C28&\" \"&Lijst!$B28&CHAR(10)&Lijst!$D28&\" \"&Lijst!$E28&CHAR(10)&Lijst!$F28&\" \"&Lijst!$G28&\" \"&Lijst!$H28,\"\")","v":""},null,null,{"$f":"IF(Lijst!L37>0,Lijst!$C37&\" \"&Lijst!$B37&CHAR(10)&Lijst!$D37&\" \"&Lijst!$E37&CHAR(10)&Lijst!$F37&\" \"&Lijst!$G37&\" \"&Lijst!$H37,\"\")","v":""},null,{"$f":"IF(Lijst!L46>0,Lijst!$C46&\" \"&Lijst!$B46&CHAR(10)&Lijst!$D46&\" \"&Lijst!$E46&CHAR(10)&Lijst!$F46&\" \"&Lijst!$G46&\" \"&Lijst!$H46,\"\")","v":""},null,{"$f":"IF(Lijst!L55>0,Lijst!$C55&\" \"&Lijst!$B55&CHAR(10)&Lijst!$D55&\" \"&Lijst!$E55&CHAR(10)&Lijst!$F55&\" \"&Lijst!$G55&\" \"&Lijst!$H55,\"\")","v":""},null,null,{"$f":"IF(Lijst!L64>0,Lijst!$C64&\" \"&Lijst!$B64&CHAR(10)&Lijst!$D64&\" \"&Lijst!$E64&CHAR(10)&Lijst!$F64&\" \"&Lijst!$G64&\" \"&Lijst!$H64,\"\")","v":""},null,{"$f":"IF(Lijst!L73>0,Lijst!$C73&\" \"&Lijst!$B73&CHAR(10)&Lijst!$D73&\" \"&Lijst!$E73&CHAR(10)&Lijst!$F73&\" \"&Lijst!$G73&\" \"&Lijst!$H73,\"\")","v":""},null,{"$f":"IF(Lijst!L82>0,Lijst!$C82&\" \"&Lijst!$B82&CHAR(10)&Lijst!$D82&\" \"&Lijst!$E82&CHAR(10)&Lijst!$F82&\" \"&Lijst!$G82&\" \"&Lijst!$H82,\"\")","v":""},null,null,{"$f":"IF(Lijst!$L90>0,Lijst!$C91&\" \"&Lijst!$B91&CHAR(10)&Lijst!$D91&\" \"&Lijst!$E91&CHAR(10)&Lijst!$F91&\" \"&Lijst!$G91&\" \"&Lijst!$H91,\"\")","v":""},null,{"$f":"IF(Lijst!$L100>0,Lijst!$C100&\" \"&Lijst!$B100&CHAR(10)&Lijst!$D100&\" \"&Lijst!$E100&CHAR(10)&Lijst!$F100&\" \"&Lijst!$G100&\" \"&Lijst!$H100,\"\")","v":""},null,{"$f":"IF(Lijst!$L109>0,Lijst!$C109&\" \"&Lijst!$B109&CHAR(10)&Lijst!$D109&\" \"&Lijst!$E109&CHAR(10)&Lijst!$F109&\" \"&Lijst!$G109&\" \"&Lijst!$H109,\"\")","v":""}]
[{"$f":"IF(Lijst!L10<>\"\",Lijst!$P10,\"\")","v":""},null,{"$f":"IF(Lijst!$L19<>\"\",Lijst!$P19,\"\")","v":""},null,{"$f":"IF(Lijst!$L28<>\"\",Lijst!$P28,\"\")","v":""},null,null,{"$f":"IF(Lijst!$L37<>\"\",Lijst!$P37,\"\")","v":""},null,{"$f":"IF(Lijst!$L46<>\"\",Lijst!$P46,\"\")","v":""},null,{"$f":"IF(Lijst!$L55<>\"\",Lijst!$P55,\"\")","v":""},null,null,{"$f":"IF(Lijst!$L64<>\"\",Lijst!$P64,\"\")","v":""},null,{"$f":"IF(Lijst!$L81<>\"\",Lijst!$P81,\"\")","v":""},null,{"$f":"IF(Lijst!$L82<>\"\",Lijst!$P82,\"\")","v":""},null,null,{"$f":"IF(Lijst!$L91<>\"\",Lijst!$P91,\"\")","v":""},null,{"$f":"IF(Lijst!$L100<>\"\",Lijst!$P100,\"\")","v":""},null,{"$f":"IF(Lijst!$L109<>\"\",Lijst!$P109,\"\")","v":""}]
[]
[{"$f":"IF(Lijst!L11,Lijst!$C11&\" \"&Lijst!$B11&CHAR(10)&Lijst!$D11&\" \"&Lijst!$E11&CHAR(10)&Lijst!$F11&\" \"&Lijst!$G11&\" \"&Lijst!$H11,\"\")","v":""},null,{"$f":"IF(Lijst!L20>0,Lijst!$C20&\" \"&Lijst!$B20&CHAR(10)&Lijst!$D20&\" \"&Lijst!$E20&CHAR(10)&Lijst!$F20&\" \"&Lijst!$G20&\" \"&Lijst!$H20,\"\")","v":""},null,{"$f":"IF(Lijst!L29>0,Lijst!$C29&\" \"&Lijst!$B29&CHAR(10)&Lijst!$D29&\" \"&Lijst!$E29&CHAR(10)&Lijst!$F29&\" \"&Lijst!$G29&\" \"&Lijst!$H29,\"\")","v":""},null,null,{"$f":"IF(Lijst!L38>0,Lijst!$C38&\" \"&Lijst!$B38&CHAR(10)&Lijst!$D38&\" \"&Lijst!$E38&CHAR(10)&Lijst!$F38&\" \"&Lijst!$G38&\" \"&Lijst!$H38,\"\")","v":""},null,{"$f":"IF(Lijst!L47>0,Lijst!$C47&\" \"&Lijst!$B47&CHAR(10)&Lijst!$D47&\" \"&Lijst!$E47&CHAR(10)&Lijst!$F47&\" \"&Lijst!$G47&\" \"&Lijst!$H47,\"\")","v":""},null,{"$f":"IF(Lijst!L56>0,Lijst!$C56&\" \"&Lijst!$B56&CHAR(10)&Lijst!$D56&\" \"&Lijst!$E56&CHAR(10)&Lijst!$F56&\" \"&Lijst!$G56&\" \"&Lijst!$H56,\"\")","v":""},null,null,{"$f":"IF(Lijst!L65>0,Lijst!$C65&\" \"&Lijst!$B65&CHAR(10)&Lijst!$D65&\" \"&Lijst!$E65&CHAR(10)&Lijst!$F65&\" \"&Lijst!$G65&\" \"&Lijst!$H65,\"\")","v":""},null,{"$f":"IF(Lijst!L74>0,Lijst!$C74&\" \"&Lijst!$B74&CHAR(10)&Lijst!$D74&\" \"&Lijst!$E74&CHAR(10)&Lijst!$F74&\" \"&Lijst!$G74&\" \"&Lijst!$H74,\"\")","v":""},null,{"$f":"IF(Lijst!L83>0,Lijst!$C83&\" \"&Lijst!$B83&CHAR(10)&Lijst!$D83&\" \"&Lijst!$E83&CHAR(10)&Lijst!$F83&\" \"&Lijst!$G83&\" \"&Lijst!$H83,\"\")","v":""},null,null,{"$f":"IF(Lijst!$L92>0,Lijst!$C92&\" \"&Lijst!$B92&CHAR(10)&Lijst!$D92&\" \"&Lijst!$E92&CHAR(10)&Lijst!$F92&\" \"&Lijst!$G92&\" \"&Lijst!$H92,\"\")","v":""},null,{"$f":"IF(Lijst!$L101>0,Lijst!$C101&\" \"&Lijst!$B101&CHAR(10)&Lijst!$D101&\" \"&Lijst!$E101&CHAR(10)&Lijst!$F101&\" \"&Lijst!$G101&\" \"&Lijst!$H101,\"\")","v":""},null,{"$f":"IF(Lijst!$L110>0,Lijst!$C110&\" \"&Lijst!$B110&CHAR(10)&Lijst!$D110&\" \"&Lijst!$E110&CHAR(10)&Lijst!$F110&\" \"&Lijst!$G110&\" \"&Lijst!$H110,\"\")","v":""}]
[{"$f":"IF(Lijst!L11<>\"\",Lijst!$P11,\"\")","v":""},null,{"$f":"IF(Lijst!$L20<>\"\",Lijst!$P20,\"\")","v":""},null,{"$f":"IF(Lijst!$L29<>\"\",Lijst!$P29,\"\")","v":""},null,null,{"$f":"IF(Lijst!$L38<>\"\",Lijst!$P38,\"\")","v":""},null,{"$f":"IF(Lijst!$L47<>\"\",Lijst!$P47,\"\")","v":""},null,{"$f":"IF(Lijst!$L56<>\"\",Lijst!$P56,\"\")","v":""},null,null,{"$f":"IF(Lijst!$L65<>\"\",Lijst!$P65,\"\")","v":""},null,{"$f":"IF(Lijst!$L84<>\"\",Lijst!$P84,\"\")","v":""},null,{"$f":"IF(Lijst!$L83<>\"\",Lijst!$P83,\"\")","v":""},null,null,{"$f":"IF(Lijst!$L92<>\"\",Lijst!$P92,\"\")","v":""},null,{"$f":"IF(Lijst!$L101<>\"\",Lijst!$P101,\"\")","v":""},null,{"$f":"IF(Lijst!$L110<>\"\",Lijst!$P110,\"\")","v":""}]
[]
[{"$f":"IF(Lijst!L12>0,Lijst!$C12&\" \"&Lijst!$B12&CHAR(10)&Lijst!$D12&\" \"&Lijst!$E12&CHAR(10)&Lijst!$F12&\" \"&Lijst!$G12&\" \"&Lijst!$H12,\"\")","v":""},null,{"$f":"IF(Lijst!L21>0,Lijst!$C21&\" \"&Lijst!$B21&CHAR(10)&Lijst!$D21&\" \"&Lijst!$E21&CHAR(10)&Lijst!$F21&\" \"&Lijst!$G21&\" \"&Lijst!$H21,\"\")","v":""},null,{"$f":"IF(Lijst!L30>0,Lijst!$C30&\" \"&Lijst!$B30&CHAR(10)&Lijst!$D30&\" \"&Lijst!$E30&CHAR(10)&Lijst!$F30&\" \"&Lijst!$G30&\" \"&Lijst!$H30,\"\")","v":""},null,null,{"$f":"IF(Lijst!L39>0,Lijst!$C39&\" \"&Lijst!$B39&CHAR(10)&Lijst!$D39&\" \"&Lijst!$E39&CHAR(10)&Lijst!$F39&\" \"&Lijst!$G39&\" \"&Lijst!$H39,\"\")","v":""},null,{"$f":"IF(Lijst!L48>0,Lijst!$C48&\" \"&Lijst!$B48&CHAR(10)&Lijst!$D48&\" \"&Lijst!$E48&CHAR(10)&Lijst!$F48&\" \"&Lijst!$G48&\" \"&Lijst!$H48,\"\")","v":""},null,{"$f":"IF(Lijst!L57>0,Lijst!$C57&\" \"&Lijst!$B57&CHAR(10)&Lijst!$D57&\" \"&Lijst!$E57&CHAR(10)&Lijst!$F57&\" \"&Lijst!$G57&\" \"&Lijst!$H57,\"\")","v":""},null,null,{"$f":"IF(Lijst!L66>0,Lijst!$C66&\" \"&Lijst!$B66&CHAR(10)&Lijst!$D66&\" \"&Lijst!$E66&CHAR(10)&Lijst!$F66&\" \"&Lijst!$G66&\" \"&Lijst!$H66,\"\")","v":""},null,{"$f":"IF(Lijst!L75>0,Lijst!$C75&\" \"&Lijst!$B75&CHAR(10)&Lijst!$D75&\" \"&Lijst!$E75&CHAR(10)&Lijst!$F75&\" \"&Lijst!$G75&\" \"&Lijst!$H75,\"\")","v":""},null,{"$f":"IF(Lijst!L84>0,Lijst!$C84&\" \"&Lijst!$B84&CHAR(10)&Lijst!$D84&\" \"&Lijst!$E84&CHAR(10)&Lijst!$F84&\" \"&Lijst!$G84&\" \"&Lijst!$H84,\"\")","v":""},null,null,{"$f":"IF(Lijst!$L93>0,Lijst!$C93&\" \"&Lijst!$B93&CHAR(10)&Lijst!$D93&\" \"&Lijst!$E93&CHAR(10)&Lijst!$F93&\" \"&Lijst!$G93&\" \"&Lijst!$H93,\"\")","v":""},null,{"$f":"IF(Lijst!$L102>0,Lijst!$C102&\" \"&Lijst!$B102&CHAR(10)&Lijst!$D102&\" \"&Lijst!$E102&CHAR(10)&Lijst!$F102&\" \"&Lijst!$G102&\" \"&Lijst!$H102,\"\")","v":""},null,{"$f":"IF(Lijst!$L111>0,Lijst!$C111&\" \"&Lijst!$B111&CHAR(10)&Lijst!$D111&\" \"&Lijst!$E111&CHAR(10)&Lijst!$F111&\" \"&Lijst!$G111&\" \"&Lijst!$H111,\"\")","v":""}]
[{"$f":"IF(Lijst!L12<>\"\",Lijst!$P12,\"\")","v":""},null,{"$f":"IF(Lijst!$L21<>\"\",Lijst!$P21,\"\")","v":""},null,{"$f":"IF(Lijst!$L30<>\"\",Lijst!$P30,\"\")","v":""},null,null,{"$f":"IF(Lijst!$L39<>\"\",Lijst!$P39,\"\")","v":""},null,{"$f":"IF(Lijst!$L48<>\"\",Lijst!$P48,\"\")","v":""},null,{"$f":"IF(Lijst!$L57<>\"\",Lijst!$P57,\"\")","v":""},null,null,{"$f":"IF(Lijst!$L66<>\"\",Lijst!$P66,\"\")","v":""},null,{"$f":"IF(Lijst!$L87<>\"\",Lijst!$P87,\"\")","v":""},null,{"$f":"IF(Lijst!$L84<>\"\",Lijst!$P84,\"\")","v":""},null,null,{"$f":"IF(Lijst!$L93<>\"\",Lijst!$P93,\"\")","v":""},null,{"$f":"IF(Lijst!$L102<>\"\",Lijst!$P102,\"\")","v":""},null,{"$f":"IF(Lijst!$L111<>\"\",Lijst!$P111,\"\")","v":""}]
[]
[{"$f":"IF(Lijst!L13>0,Lijst!$C13&\" \"&Lijst!$B13&CHAR(10)&Lijst!$D13&\" \"&Lijst!$E13&CHAR(10)&Lijst!$F13&\" \"&Lijst!$G13&\" \"&Lijst!$H13,\"\")","v":""},null,{"$f":"IF(Lijst!L22>0,Lijst!$C22&\" \"&Lijst!$B22&CHAR(10)&Lijst!$D22&\" \"&Lijst!$E22&CHAR(10)&Lijst!$F22&\" \"&Lijst!$G22&\" \"&Lijst!$H22,\"\")","v":""},null,{"$f":"IF(Lijst!L31>0,Lijst!$C31&\" \"&Lijst!$B31&CHAR(10)&Lijst!$D31&\" \"&Lijst!$E31&CHAR(10)&Lijst!$F31&\" \"&Lijst!$G31&\" \"&Lijst!$H31,\"\")","v":""},null,null,{"$f":"IF(Lijst!L40>0,Lijst!$C40&\" \"&Lijst!$B40&CHAR(10)&Lijst!$D40&\" \"&Lijst!$E40&CHAR(10)&Lijst!$F40&\" \"&Lijst!$G40&\" \"&Lijst!$H40,\"\")","v":""},null,{"$f":"IF(Lijst!L49>0,Lijst!$C49&\" \"&Lijst!$B49&CHAR(10)&Lijst!$D49&\" \"&Lijst!$E49&CHAR(10)&Lijst!$F49&\" \"&Lijst!$G49&\" \"&Lijst!$H49,\"\")","v":""},null,{"$f":"IF(Lijst!L58>0,Lijst!$C58&\" \"&Lijst!$B58&CHAR(10)&Lijst!$D58&\" \"&Lijst!$E58&CHAR(10)&Lijst!$F58&\" \"&Lijst!$G58&\" \"&Lijst!$H358,\"\")","v":""},null,null,{"$f":"IF(Lijst!L67>0,Lijst!$C67&\" \"&Lijst!$B67&CHAR(10)&Lijst!$D67&\" \"&Lijst!$E67&CHAR(10)&Lijst!$F67&\" \"&Lijst!$G67&\" \"&Lijst!$H67,\"\")","v":""},null,{"$f":"IF(Lijst!L76>0,Lijst!$C76&\" \"&Lijst!$B76&CHAR(10)&Lijst!$D76&\" \"&Lijst!$E76&CHAR(10)&Lijst!$F76&\" \"&Lijst!$G76&\" \"&Lijst!$H76,\"\")","v":""},null,{"$f":"IF(Lijst!L85>0,Lijst!$C85&\" \"&Lijst!$B85&CHAR(10)&Lijst!$D85&\" \"&Lijst!$E85&CHAR(10)&Lijst!$F85&\" \"&Lijst!$G85&\" \"&Lijst!$H85,\"\")","v":""},null,null,{"$f":"IF(Lijst!$L94>0,Lijst!$C94&\" \"&Lijst!$B94&CHAR(10)&Lijst!$D94&\" \"&Lijst!$E94&CHAR(10)&Lijst!$F94&\" \"&Lijst!$G94&\" \"&Lijst!$H94,\"\")","v":""},null,{"$f":"IF(Lijst!$L103>0,Lijst!$C103&\" \"&Lijst!$B103&CHAR(10)&Lijst!$D103&\" \"&Lijst!$E103&CHAR(10)&Lijst!$F103&\" \"&Lijst!$G103&\" \"&Lijst!$H103,\"\")","v":""},null,{"$f":"IF(Lijst!$L112>0,Lijst!$C112&\" \"&Lijst!$B112&CHAR(10)&Lijst!$D112&\" \"&Lijst!$E112&CHAR(10)&Lijst!$F112&\" \"&Lijst!$G112&\" \"&Lijst!$H112,\"\")","v":""}]
[{"$f":"IF(Lijst!L13<>\"\",Lijst!$P13,\"\")","v":""},null,{"$f":"IF(Lijst!$L22<>\"\",Lijst!$P22,\"\")","v":""},null,{"$f":"IF(Lijst!$L31<>\"\",Lijst!$P31,\"\")","v":""},null,null,{"$f":"IF(Lijst!$L40<>\"\",Lijst!$P407,\"\")","v":""},null,{"$f":"IF(Lijst!$L49<>\"\",Lijst!$P49,\"\")","v":""},null,{"$f":"IF(Lijst!$L58<>\"\",Lijst!$P58,\"\")","v":""},null,null,{"$f":"IF(Lijst!$L67<>\"\",Lijst!$P67,\"\")","v":""},null,{"$f":"IF(Lijst!$L90<>\"\",Lijst!$P90,\"\")","v":""},null,{"$f":"IF(Lijst!$L85<>\"\",Lijst!$P85,\"\")","v":""},null,null,{"$f":"IF(Lijst!$L94<>\"\",Lijst!$P94,\"\")","v":""},null,{"$f":"IF(Lijst!$L103<>\"\",Lijst!$P103,\"\")","v":""},null,{"$f":"IF(Lijst!$L112<>\"\",Lijst!$P112,\"\")","v":""}]
[]
[{"$f":"IF(Lijst!L14>0,Lijst!$C14&\" \"&Lijst!$B14&CHAR(10)&Lijst!$D14&\" \"&Lijst!$E14&CHAR(10)&Lijst!$F14&\" \"&Lijst!$G14&\" \"&Lijst!$H14,\"\")","v":""},null,{"$f":"IF(Lijst!L23>0,Lijst!$C23&\" \"&Lijst!$B23&CHAR(10)&Lijst!$D23&\" \"&Lijst!$E23&CHAR(10)&Lijst!$F23&\" \"&Lijst!$G23&\" \"&Lijst!$H23,\"\")","v":""},null,{"$f":"IF(Lijst!L32>0,Lijst!$C32&\" \"&Lijst!$B32&CHAR(10)&Lijst!$D32&\" \"&Lijst!$E32&CHAR(10)&Lijst!$F32&\" \"&Lijst!$G32&\" \"&Lijst!$H32,\"\")","v":""},null,null,{"$f":"IF(Lijst!L41>0,Lijst!$C41&\" \"&Lijst!$B41&CHAR(10)&Lijst!$D41&\" \"&Lijst!$E41&CHAR(10)&Lijst!$F41&\" \"&Lijst!$G41&\" \"&Lijst!$H41,\"\")","v":""},null,{"$f":"IF(Lijst!L50>0,Lijst!$C50&\" \"&Lijst!$B50&CHAR(10)&Lijst!$D50&\" \"&Lijst!$E50&CHAR(10)&Lijst!$F50&\" \"&Lijst!$G50&\" \"&Lijst!$H50,\"\")","v":""},null,{"$f":"IF(Lijst!L59>0,Lijst!$C59&\" \"&Lijst!$B59&CHAR(10)&Lijst!$D59&\" \"&Lijst!$E59&CHAR(10)&Lijst!$F59&\" \"&Lijst!$G59&\" \"&Lijst!$H59,\"\")","v":""},null,null,{"$f":"IF(Lijst!L68>0,Lijst!$C68&\" \"&Lijst!$B68&CHAR(10)&Lijst!$D68&\" \"&Lijst!$E68&CHAR(10)&Lijst!$F68&\" \"&Lijst!$G68&\" \"&Lijst!$H68,\"\")","v":""},null,{"$f":"IF(Lijst!L77>0,Lijst!$C77&\" \"&Lijst!$B77&CHAR(10)&Lijst!$D77&\" \"&Lijst!$E77&CHAR(10)&Lijst!$F77&\" \"&Lijst!$G77&\" \"&Lijst!$H77,\"\")","v":""},null,{"$f":"IF(Lijst!L86>0,Lijst!$C86&\" \"&Lijst!$B86&CHAR(10)&Lijst!$D86&\" \"&Lijst!$E86&CHAR(10)&Lijst!$F86&\" \"&Lijst!$G86&\" \"&Lijst!$H86,\"\")","v":""},null,null,{"$f":"IF(Lijst!$L95>0,Lijst!$C95&\" \"&Lijst!$B95&CHAR(10)&Lijst!$D95&\" \"&Lijst!$E95&CHAR(10)&Lijst!$F95&\" \"&Lijst!$G95&\" \"&Lijst!$H95,\"\")","v":""},null,{"$f":"IF(Lijst!$L104>0,Lijst!$C104&\" \"&Lijst!$B104&CHAR(10)&Lijst!$D104&\" \"&Lijst!$E104&CHAR(10)&Lijst!$F104&\" \"&Lijst!$G104&\" \"&Lijst!$H104,\"\")","v":""},null,{"$f":"IF(Lijst!$L113>0,Lijst!$C113&\" \"&Lijst!$B113&CHAR(10)&Lijst!$D113&\" \"&Lijst!$E113&CHAR(10)&Lijst!$F113&\" \"&Lijst!$G113&\" \"&Lijst!$H113,\"\")","v":""}]
[{"$f":"IF(Lijst!L14<>\"\",Lijst!$P14,\"\")","v":""},null,{"$f":"IF(Lijst!$L23<>\"\",Lijst!$P23,\"\")","v":""},null,{"$f":"IF(Lijst!$L32<>\"\",Lijst!$P32,\"\")","v":""},null,null,{"$f":"IF(Lijst!$L41<>\"\",Lijst!$P41,\"\")","v":""},null,{"$f":"IF(Lijst!$L50<>\"\",Lijst!$P50,\"\")","v":""},null,{"$f":"IF(Lijst!$L59<>\"\",Lijst!$P59,\"\")","v":""},null,null,{"$f":"IF(Lijst!$L68<>\"\",Lijst!$P68,\"\")","v":""},null,{"$f":"IF(Lijst!$L93<>\"\",Lijst!$P93,\"\")","v":""},null,{"$f":"IF(Lijst!$L86<>\"\",Lijst!$P86,\"\")","v":""},null,null,{"$f":"IF(Lijst!$L95<>\"\",Lijst!$P95,\"\")","v":""},null,{"$f":"IF(Lijst!$L104<>\"\",Lijst!$P104,\"\")","v":""},null,{"$f":"IF(Lijst!$L113<>\"\",Lijst!$P113,\"\")","v":""}]

{"sheet":"BarcodeGenerator TESTER","index":4,"n_rows":226,"n_cols":24,"rows_kept":226,"cut":false,"hidden":false,"merged":[[3,1,3,4],[3,5,3,8],[0,1,0,4],[0,5,0,8],[1,1,1,4],[1,5,1,8],[2,1,2,4],[2,5,2,8]]}
[null,"Engels",null,null,null,"Nederlands"]
[null,"CHAR",null,null,null,"Teken"]
[null,"VLOOKUP",null,null,null,"Ver.Zoeken"]
[null,"MOD",null,null,null,"REST"]
[]
[{"$f":"gastenlijst[[#This Row],[Postcode-GSM]]","v":"1234AB12 2"},{"$f":"MID(A6,1,1)","v":"1"},{"$f":"MID(A6,2,1)","v":"2"},{"$f":"MID(A6,3,1)","v":"3"},{"$f":"MID(A6,4,1)","v":"4"},{"$f":"MID(A6,5,1)","v":"A"},{"$f":"MID(A6,6,1)","v":"B"},{"$f":"VLOOKUP(B6,Tabel!$K$3:$L$109,2,FALSE)","v":"17"},{"$f":"VLOOKUP(C6,Tabel!$K$3:$L$109,2,FALSE)","v":"18"},{"$f":"VLOOKUP(D6,Tabel!$K$3:$L$109,2,FALSE)","v":"19"},{"$f":"VLOOKUP(E6,Tabel!$K$3:$L$109,2,FALSE)","v":"20"},{"$f":"VLOOKUP(F6,Tabel!$K$3:$L$109,2,FALSE)","v":"33"},{"$f":"VLOOKUP(G6,Tabel!$K$3:$L$109,2,FALSE)","v":"34"},{"$f":"$H6*1","v":17},{"$f":"$I6*2","v":36},{"$f":"$J6*3","v":57},{"$f":"$K6*4","v":80},{"$f":"$L6*5","v":165},{"$f":"$M6*5","v":170},{"$f":"103+N6+O6+P6+Q6+R6+S6","v":628},{"$f":"MOD(T6,103)","v":10},{"$f":"VLOOKUP($U6,Tabel!$J$3:$K$109,2,FALSE)","v":"*"},{"$f":"Tabel!$K$106&$A6&$V6&Tabel!$K$109","v":"Ð1234AB12 2*Ó"},{"$f":"W6","v":"Ð1234AB12 2*Ó"}]
[{"$f":"gastenlijst[[#This Row],[Postcode-GSM]]","v":"5678XY678 2"},{"$f":"MID(A7,1,1)","v":"5"},{"$f":"MID(A7,2,1)","v":"6"},{"$f":"MID(A7,3,1)","v":"7"},{"$f":"MID(A7,4,1)","v":"8"},{"$f":"MID(A7,5,1)","v":"X"},{"$f":"MID(A7,6,1)","v":"Y"},{"$f":"VLOOKUP(B7,Tabel!$K$3:$L$109,2,FALSE)","v":"21"},{"$f":"VLOOKUP(C7,Tabel!$K$3:$L$109,2,FALSE)","v":"22"},{"$f":"VLOOKUP(D7,Tabel!$K$3:$L$109,2,FALSE)","v":"23"},{"$f":"VLOOKUP(E7,Tabel!$K$3:$L$109,2,FALSE)","v":"24"},{"$f":"VLOOKUP(F7,Tabel!$K$3:$L$109,2,FALSE)","v":"56"},{"$f":"VLOOKUP(G7,Tabel!$K$3:$L$109,2,FALSE)","v":"57"},{"$f":"$H7*1","v":21},{"$f":"$I7*2","v":44},{"$f":"$J7*3","v":69},{"$f":"$K7*4","v":96},{"$f":"$L7*5","v":280},{"$f":"$M7*5","v":285},{"$f":"103+N7+O7+P7+Q7+R7+S7","v":898},{"$f":"MOD(T7,103)","v":74},{"$f":"VLOOKUP($U7,Tabel!$J$3:$K$109,2,FALSE)","v":"j"},{"$f":"Tabel!$K$106&$A7&$V7&Tabel!$K$109","v":"Ð5678XY678 2jÓ"},{"$f":"W7","v":"Ð5678XY678 2jÓ"}]
[{"$f":"gastenlijst[[#This Row],[Postcode-GSM]]","v":"9182HJ56 1"},"9","1","8","2","H","J",{"$f":"VLOOKUP(B8,Tabel!$K$3:$L$109,2,FALSE)","v":"25"},{"$f":"VLOOKUP(C8,Tabel!$K$3:$L$109,2,FALSE)","v":"17"},{"$f":"VLOOKUP(D8,Tabel!$K$3:$L$109,2,FALSE)","v":"24"},{"$f":"VLOOKUP(E8,Tabel!$K$3:$L$109,2,FALSE)","v":"18"},{"$f":"VLOOKUP(F8,Tabel!$K$3:$L$109,2,FALSE)","v":"40"},{"$f":"VLOOKUP(G8,Tabel!$K$3:$L$109,2,FALSE)","v":"42"},25,34,72,72,200,210,716,98,{"$f":"VLOOKUP($U8,Tabel!$J$3:$K$109,2,FALSE)","v":"Ë"},{"$f":"Tabel!$K$106&$A8&$V8&Tabel!$K$109","v":"Ð9182HJ56 1ËÓ"},"Ð9182HJ56 1ËÓ"]
[{"$f":"gastenlijst[[#This Row],[Postcode-GSM]]","v":{"$error":"#VALUE!"}},{"$error":"#VALUE!"},{"$error":"#VALUE!"},{"$error":"#VALUE!"},{"$error":"#VALUE!"},{"$error":"#VALUE!"},{"$error":"#VALUE!"},{"$f":"VLOOKUP(B9,Tabel!$K$3:$L$109,2,FALSE)","v":{"$error":"#VALUE!"}},{"$f":"VLOOKUP(C9,Tabel!$K$3:$L$109,2,FALSE)","v":{"$error":"#VALUE!"}},{"$f":"VLOOKUP(D9,Tabel!$K$3:$L$109,2,FALSE)","v":{"$error":"#VALUE!"}},{"$f":"VLOOKUP(E9,Tabel!$K$3:$L$109,2,FALSE)","v":{"$error":"#VALUE!"}},{"$f":"VLOOKUP(F9,Tabel!$K$3:$L$109,2,FALSE)","v":{"$error":"#VALUE!"}},{"$f":"VLOOKUP(G9,Tabel!$K$3:$L$109,2,FALSE)","v":{"$error":"#VALUE!"}},{"$error":"#VALUE!"},{"$error":"#VALUE!"},{"$error":"#VALUE!"},{"$error":"#VALUE!"},{"$error":"#VALUE!"},{"$error":"#VALUE!"},{"$error":"#VALUE!"},{"$error":"#VALUE!"},{"$f":"VLOOKUP($U9,Tabel!$J$3:$K$109,2,FALSE)","v":{"$error":"#VALUE!"}},{"$f":"Tabel!$K$106&$A9&$V9&Tabel!$K$109","v":{"$error":"#VALUE!"}},{"$error":"#VALUE!"}]
[{"$f":"gastenlijst[[#This Row],[Postcode-GSM]]","v":{"$error":"#VALUE!"}},{"$error":"#VALUE!"},{"$error":"#VALUE!"},{"$error":"#VALUE!"},{"$error":"#VALUE!"},{"$error":"#VALUE!"},{"$error":"#VALUE!"},{"$f":"VLOOKUP(B10,Tabel!$K$3:$L$109,2,FALSE)","v":{"$error":"#VALUE!"}},{"$f":"VLOOKUP(C10,Tabel!$K$3:$L$109,2,FALSE)","v":{"$error":"#VALUE!"}},{"$f":"VLOOKUP(D10,Tabel!$K$3:$L$109,2,FALSE)","v":{"$error":"#VALUE!"}},{"$f":"VLOOKUP(E10,Tabel!$K$3:$L$109,2,FALSE)","v":{"$error":"#VALUE!"}},{"$f":"VLOOKUP(F10,Tabel!$K$3:$L$109,2,FALSE)","v":{"$error":"#VALUE!"}},{"$f":"VLOOKUP(G10,Tabel!$K$3:$L$109,2,FALSE)","v":{"$error":"#VALUE!"}},{"$error":"#VALUE!"},{"$error":"#VALUE!"},{"$error":"#VALUE!"},{"$error":"#VALUE!"},{"$error":"#VALUE!"},{"$error":"#VALUE!"},{"$error":"#VALUE!"},{"$error":"#VALUE!"},{"$f":"VLOOKUP($U10,Tabel!$J$3:$K$109,2,FALSE)","v":{"$error":"#VALUE!"}},{"$f":"Tabel!$K$106&$A10&$V10&Tabel!$K$109","v":{"$error":"#VALUE!"}},{"$error":"#VALUE!"}]
[{"$f":"gastenlijst[[#This Row],[Postcode-GSM]]","v":{"$error":"#VALUE!"}},{"$error":"#VALUE!"},{"$error":"#VALUE!"},{"$error":"#VALUE!"},{"$error":"#VALUE!"},{"$error":"#VALUE!"},{"$error":"#VALUE!"},{"$f":"VLOOKUP(B11,Tabel!$K$3:$L$109,2,FALSE)","v":{"$error":"#VALUE!"}},{"$f":"VLOOKUP(C11,Tabel!$K$3:$L$109,2,FALSE)","v":{"$error":"#VALUE!"}},{"$f":"VLOOKUP(D11,Tabel!$K$3:$L$109,2,FALSE)","v":{"$error":"#VALUE!"}},{"$f":"VLOOKUP(E11,Tabel!$K$3:$L$109,2,FALSE)","v":{"$error":"#VALUE!"}},{"$f":"VLOOKUP(F11,Tabel!$K$3:$L$109,2,FALSE)","v":{"$error":"#VALUE!"}},{"$f":"VLOOKUP(G11,Tabel!$K$3:$L$109,2,FALSE)","v":{"$error":"#VALUE!"}},{"$error":"#VALUE!"},{"$error":"#VALUE!"},{"$error":"#VALUE!"},{"$error":"#VALUE!"},{"$error":"#VALUE!"},{"$error":"#VALUE!"},{"$error":"#VALUE!"},{"$error":"#VALUE!"},{"$f":"VLOOKUP($U11,Tabel!$J$3:$K$109,2,FALSE)","v":{"$error":"#VALUE!"}},{"$f":"Tabel!$K$106&$A11&$V11&Tabel!$K$109","v":{"$error":"#VALUE!"}},{"$error":"#VALUE!"}]
[{"$f":"gastenlijst[[#This Row],[Postcode-GSM]]","v":{"$error":"#VALUE!"}},{"$error":"#VALUE!"},{"$error":"#VALUE!"},{"$error":"#VALUE!"},{"$error":"#VALUE!"},{"$error":"#VALUE!"},{"$error":"#VALUE!"},{"$f":"VLOOKUP(B12,Tabel!$K$3:$L$109,2,FALSE)","v":{"$error":"#VALUE!"}},{"$f":"VLOOKUP(C12,Tabel!$K$3:$L$109,2,FALSE)","v":{"$error":"#VALUE!"}},{"$f":"VLOOKUP(D12,Tabel!$K$3:$L$109,2,FALSE)","v":{"$error":"#VALUE!"}},{"$f":"VLOOKUP(E12,Tabel!$K$3:$L$109,2,FALSE)","v":{"$error":"#VALUE!"}},{"$f":"VLOOKUP(F12,Tabel!$K$3:$L$109,2,FALSE)","v":{"$error":"#VALUE!"}},{"$f":"VLOOKUP(G12,Tabel!$K$3:$L$109,2,FALSE)","v":{"$error":"#VALUE!"}},{"$error":"#VALUE!"},{"$error":"#VALUE!"},{"$error":"#VALUE!"},{"$error":"#VALUE!"},{"$error":"#VALUE!"},{"$error":"#VALUE!"},{"$error":"#VALUE!"},{"$error":"#VALUE!"},{"$f":"VLOOKUP($U12,Tabel!$J$3:$K$109,2,FALSE)","v":{"$error":"#VALUE!"}},{"$f":"Tabel!$K$106&$A12&$V12&Tabel!$K$109","v":{"$error":"#VALUE!"}},{"$error":"#VALUE!"}]
[{"$f":"gastenlijst[[#This Row],[Postcode-GSM]]","v":{"$error":"#VALUE!"}},{"$error":"#VALUE!"},{"$error":"#VALUE!"},{"$error":"#VALUE!"},{"$error":"#VALUE!"},{"$error":"#VALUE!"},{"$error":"#VALUE!"},{"$f":"VLOOKUP(B13,Tabel!$K$3:$L$109,2,FALSE)","v":{"$error":"#VALUE!"}},{"$f":"VLOOKUP(C13,Tabel!$K$3:$L$109,2,FALSE)","v":{"$error":"#VALUE!"}},{"$f":"VLOOKUP(D13,Tabel!$K$3:$L$109,2,FALSE)","v":{"$error":"#VALUE!"}},{"$f":"VLOOKUP(E13,Tabel!$K$3:$L$109,2,FALSE)","v":{"$error":"#VALUE!"}},{"$f":"VLOOKUP(F13,Tabel!$K$3:$L$109,2,FALSE)","v":{"$error":"#VALUE!"}},{"$f":"VLOOKUP(G13,Tabel!$K$3:$L$109,2,FALSE)","v":{"$error":"#VALUE!"}},{"$error":"#VALUE!"},{"$error":"#VALUE!"},{"$error":"#VALUE!"},{"$error":"#VALUE!"},{"$error":"#VALUE!"},{"$error":"#VALUE!"},{"$error":"#VALUE!"},{"$error":"#VALUE!"},{"$f":"VLOOKUP($U13,Tabel!$J$3:$K$109,2,FALSE)","v":{"$error":"#VALUE!"}},{"$f":"Tabel!$K$106&$A13&$V13&Tabel!$K$109","v":{"$error":"#VALUE!"}},{"$error":"#VALUE!"}]
[{"$f":"gastenlijst[[#This Row],[Postcode-GSM]]","v":{"$error":"#VALUE!"}},{"$error":"#VALUE!"},{"$error":"#VALUE!"},{"$error":"#VALUE!"},{"$error":"#VALUE!"},{"$error":"#VALUE!"},{"$error":"#VALUE!"},{"$f":"VLOOKUP(B14,Tabel!$K$3:$L$109,2,FALSE)","v":{"$error":"#VALUE!"}},{"$f":"VLOOKUP(C14,Tabel!$K$3:$L$109,2,FALSE)","v":{"$error":"#VALUE!"}},{"$f":"VLOOKUP(D14,Tabel!$K$3:$L$109,2,FALSE)","v":{"$error":"#VALUE!"}},{"$f":"VLOOKUP(E14,Tabel!$K$3:$L$109,2,FALSE)","v":{"$error":"#VALUE!"}},{"$f":"VLOOKUP(F14,Tabel!$K$3:$L$109,2,FALSE)","v":{"$error":"#VALUE!"}},{"$f":"VLOOKUP(G14,Tabel!$K$3:$L$109,2,FALSE)","v":{"$error":"#VALUE!"}},{"$error":"#VALUE!"},{"$error":"#VALUE!"},{"$error":"#VALUE!"},{"$error":"#VALUE!"},{"$error":"#VALUE!"},{"$error":"#VALUE!"},{"$error":"#VALUE!"},{"$error":"#VALUE!"},{"$f":"VLOOKUP($U14,Tabel!$J$3:$K$109,2,FALSE)","v":{"$error":"#VALUE!"}},{"$f":"Tabel!$K$106&$A14&$V14&Tabel!$K$109","v":{"$error":"#VALUE!"}},{"$error":"#VALUE!"}]
[{"$f":"gastenlijst[[#This Row],[Postcode-GSM]]","v":{"$error":"#VALUE!"}},{"$error":"#VALUE!"},{"$error":"#VALUE!"},{"$error":"#VALUE!"},{"$error":"#VALUE!"},{"$error":"#VALUE!"},{"$error":"#VALUE!"},{"$f":"VLOOKUP(B15,Tabel!$K$3:$L$109,2,FALSE)","v":{"$error":"#VALUE!"}},{"$f":"VLOOKUP(C15,Tabel!$K$3:$L$109,2,FALSE)","v":{"$error":"#VALUE!"}},{"$f":"VLOOKUP(D15,Tabel!$K$3:$L$109,2,FALSE)","v":{"$error":"#VALUE!"}},{"$f":"VLOOKUP(E15,Tabel!$K$3:$L$109,2,FALSE)","v":{"$error":"#VALUE!"}},{"$f":"VLOOKUP(F15,Tabel!$K$3:$L$109,2,FALSE)","v":{"$error":"#VALUE!"}},{"$f":"VLOOKUP(G15,Tabel!$K$3:$L$109,2,FALSE)","v":{"$error":"#VALUE!"}},{"$error":"#VALUE!"},{"$error":"#VALUE!"},{"$error":"#VALUE!"},{"$error":"#VALUE!"},{"$error":"#VALUE!"},{"$error":"#VALUE!"},{"$error":"#VALUE!"},{"$error":"#VALUE!"},{"$f":"VLOOKUP($U15,Tabel!$J$3:$K$109,2,FALSE)","v":{"$error":"#VALUE!"}},{"$f":"Tabel!$K$106&$A15&$V15&Tabel!$K$109","v":{"$error":"#VALUE!"}},{"$error":"#VALUE!"}]
[{"$f":"gastenlijst[[#This Row],[Postcode-GSM]]","v":{"$error":"#VALUE!"}},{"$error":"#VALUE!"},{"$error":"#VALUE!"},{"$error":"#VALUE!"},{"$error":"#VALUE!"},{"$error":"#VALUE!"},{"$error":"#VALUE!"},{"$f":"VLOOKUP(B16,Tabel!$K$3:$L$109,2,FALSE)","v":{"$error":"#VALUE!"}},{"$f":"VLOOKUP(C16,Tabel!$K$3:$L$109,2,FALSE)","v":{"$error":"#VALUE!"}},{"$f":"VLOOKUP(D16,Tabel!$K$3:$L$109,2,FALSE)","v":{"$error":"#VALUE!"}},{"$f":"VLOOKUP(E16,Tabel!$K$3:$L$109,2,FALSE)","v":{"$error":"#VALUE!"}},{"$f":"VLOOKUP(F16,Tabel!$K$3:$L$109,2,FALSE)","v":{"$error":"#VALUE!"}},{"$f":"VLOOKUP(G16,Tabel!$K$3:$L$109,2,FALSE)","v":{"$error":"#VALUE!"}},{"$error":"#VALUE!"},{"$error":"#VALUE!"},{"$error":"#VALUE!"},{"$error":"#VALUE!"},{"$error":"#VALUE!"},{"$error":"#VALUE!"},{"$error":"#VALUE!"},{"$error":"#VALUE!"},{"$f":"VLOOKUP($U16,Tabel!$J$3:$K$109,2,FALSE)","v":{"$error":"#VALUE!"}},{"$f":"Tabel!$K$106&$A16&$V16&Tabel!$K$109","v":{"$error":"#VALUE!"}},{"$error":"#VALUE!"}]
[{"$f":"gastenlijst[[#This Row],[Postcode-GSM]]","v":{"$error":"#VALUE!"}},{"$error":"#VALUE!"},{"$error":"#VALUE!"},{"$error":"#VALUE!"},{"$error":"#VALUE!"},{"$error":"#VALUE!"},{"$error":"#VALUE!"},{"$f":"VLOOKUP(B17,Tabel!$K$3:$L$109,2,FALSE)","v":{"$error":"#VALUE!"}},{"$f":"VLOOKUP(C17,Tabel!$K$3:$L$109,2,FALSE)","v":{"$error":"#VALUE!"}},{"$f":"VLOOKUP(D17,Tabel!$K$3:$L$109,2,FALSE)","v":{"$error":"#VALUE!"}},{"$f":"VLOOKUP(E17,Tabel!$K$3:$L$109,2,FALSE)","v":{"$error":"#VALUE!"}},{"$f":"VLOOKUP(F17,Tabel!$K$3:$L$109,2,FALSE)","v":{"$error":"#VALUE!"}},{"$f":"VLOOKUP(G17,Tabel!$K$3:$L$109,2,FALSE)","v":{"$error":"#VALUE!"}},{"$error":"#VALUE!"},{"$error":"#VALUE!"},{"$error":"#VALUE!"},{"$error":"#VALUE!"},{"$error":"#VALUE!"},{"$error":"#VALUE!"},{"$error":"#VALUE!"},{"$error":"#VALUE!"},{"$f":"VLOOKUP($U17,Tabel!$J$3:$K$109,2,FALSE)","v":{"$error":"#VALUE!"}},{"$f":"Tabel!$K$106&$A17&$V17&Tabel!$K$109","v":{"$error":"#VALUE!"}},{"$error":"#VALUE!"}]
[{"$f":"gastenlijst[[#This Row],[Postcode-GSM]]","v":{"$error":"#VALUE!"}},{"$error":"#VALUE!"},{"$error":"#VALUE!"},{"$error":"#VALUE!"},{"$error":"#VALUE!"},{"$error":"#VALUE!"},{"$error":"#VALUE!"},{"$f":"VLOOKUP(B18,Tabel!$K$3:$L$109,2,FALSE)","v":{"$error":"#VALUE!"}},{"$f":"VLOOKUP(C18,Tabel!$K$3:$L$109,2,FALSE)","v":{"$error":"#VALUE!"}},{"$f":"VLOOKUP(D18,Tabel!$K$3:$L$109,2,FALSE)","v":{"$error":"#VALUE!"}},{"$f":"VLOOKUP(E18,Tabel!$K$3:$L$109,2,FALSE)","v":{"$error":"#VALUE!"}},{"$f":"VLOOKUP(F18,Tabel!$K$3:$L$109,2,FALSE)","v":{"$error":"#VALUE!"}},{"$f":"VLOOKUP(G18,Tabel!$K$3:$L$109,2,FALSE)","v":{"$error":"#VALUE!"}},{"$error":"#VALUE!"},{"$error":"#VALUE!"},{"$error":"#VALUE!"},{"$error":"#VALUE!"},{"$error":"#VALUE!"},{"$error":"#VALUE!"},{"$error":"#VALUE!"},{"$error":"#VALUE!"},{"$f":"VLOOKUP($U18,Tabel!$J$3:$K$109,2,FALSE)","v":{"$error":"#VALUE!"}},{"$f":"Tabel!$K$106&$A18&$V18&Tabel!$K$109","v":{"$error":"#VALUE!"}},{"$error":"#VALUE!"}]
[{"$f":"gastenlijst[[#This Row],[Postcode-GSM]]","v":{"$error":"#VALUE!"}},{"$error":"#VALUE!"},{"$error":"#VALUE!"},{"$error":"#VALUE!"},{"$error":"#VALUE!"},{"$error":"#VALUE!"},{"$error":"#VALUE!"},{"$f":"VLOOKUP(B19,Tabel!$K$3:$L$109,2,FALSE)","v":{"$error":"#VALUE!"}},{"$f":"VLOOKUP(C19,Tabel!$K$3:$L$109,2,FALSE)","v":{"$error":"#VALUE!"}},{"$f":"VLOOKUP(D19,Tabel!$K$3:$L$109,2,FALSE)","v":{"$error":"#VALUE!"}},{"$f":"VLOOKUP(E19,Tabel!$K$3:$L$109,2,FALSE)","v":{"$error":"#VALUE!"}},{"$f":"VLOOKUP(F19,Tabel!$K$3:$L$109,2,FALSE)","v":{"$error":"#VALUE!"}},{"$f":"VLOOKUP(G19,Tabel!$K$3:$L$109,2,FALSE)","v":{"$error":"#VALUE!"}},{"$error":"#VALUE!"},{"$error":"#VALUE!"},{"$error":"#VALUE!"},{"$error":"#VALUE!"},{"$error":"#VALUE!"},{"$error":"#VALUE!"},{"$error":"#VALUE!"},{"$error":"#VALUE!"},{"$f":"VLOOKUP($U19,Tabel!$J$3:$K$109,2,FALSE)","v":{"$error":"#VALUE!"}},{"$f":"Tabel!$K$106&$A19&$V19&Tabel!$K$109","v":{"$error":"#VALUE!"}},{"$error":"#VALUE!"}]
[{"$f":"gastenlijst[[#This Row],[Postcode-GSM]]","v":{"$error":"#VALUE!"}},{"$error":"#VALUE!"},{"$error":"#VALUE!"},{"$error":"#VALUE!"},{"$error":"#VALUE!"},{"$error":"#VALUE!"},{"$error":"#VALUE!"},{"$f":"VLOOKUP(B20,Tabel!$K$3:$L$109,2,FALSE)","v":{"$error":"#VALUE!"}},{"$f":"VLOOKUP(C20,Tabel!$K$3:$L$109,2,FALSE)","v":{"$error":"#VALUE!"}},{"$f":"VLOOKUP(D20,Tabel!$K$3:$L$109,2,FALSE)","v":{"$error":"#VALUE!"}},{"$f":"VLOOKUP(E20,Tabel!$K$3:$L$109,2,FALSE)","v":{"$error":"#VALUE!"}},{"$f":"VLOOKUP(F20,Tabel!$K$3:$L$109,2,FALSE)","v":{"$error":"#VALUE!"}},{"$f":"VLOOKUP(G20,Tabel!$K$3:$L$109,2,FALSE)","v":{"$error":"#VALUE!"}},{"$error":"#VALUE!"},{"$error":"#VALUE!"},{"$error":"#VALUE!"},{"$error":"#VALUE!"},{"$error":"#VALUE!"},{"$error":"#VALUE!"},{"$error":"#VALUE!"},{"$error":"#VALUE!"},{"$f":"VLOOKUP($U20,Tabel!$J$3:$K$109,2,FALSE)","v":{"$error":"#VALUE!"}},{"$f":"Tabel!$K$106&$A20&$V20&Tabel!$K$109","v":{"$error":"#VALUE!"}},{"$error":"#VALUE!"}]
[{"$f":"gastenlijst[[#This Row],[Postcode-GSM]]","v":{"$error":"#VALUE!"}},{"$error":"#VALUE!"},{"$error":"#VALUE!"},{"$error":"#VALUE!"},{"$error":"#VALUE!"},{"$error":"#VALUE!"},{"$error":"#VALUE!"},{"$f":"VLOOKUP(B21,Tabel!$K$3:$L$109,2,FALSE)","v":{"$error":"#VALUE!"}},{"$f":"VLOOKUP(C21,Tabel!$K$3:$L$109,2,FALSE)","v":{"$error":"#VALUE!"}},{"$f":"VLOOKUP(D21,Tabel!$K$3:$L$109,2,FALSE)","v":{"$error":"#VALUE!"}},{"$f":"VLOOKUP(E21,Tabel!$K$3:$L$109,2,FALSE)","v":{"$error":"#VALUE!"}},{"$f":"VLOOKUP(F21,Tabel!$K$3:$L$109,2,FALSE)","v":{"$error":"#VALUE!"}},{"$f":"VLOOKUP(G21,Tabel!$K$3:$L$109,2,FALSE)","v":{"$error":"#VALUE!"}},{"$error":"#VALUE!"},{"$error":"#VALUE!"},{"$error":"#VALUE!"},{"$error":"#VALUE!"},{"$error":"#VALUE!"},{"$error":"#VALUE!"},{"$error":"#VALUE!"},{"$error":"#VALUE!"},{"$f":"VLOOKUP($U21,Tabel!$J$3:$K$109,2,FALSE)","v":{"$error":"#VALUE!"}},{"$f":"Tabel!$K$106&$A21&$V21&Tabel!$K$109","v":{"$error":"#VALUE!"}},{"$error":"#VALUE!"}]
[{"$f":"gastenlijst[[#This Row],[Postcode-GSM]]","v":{"$error":"#VALUE!"}},{"$error":"#VALUE!"},{"$error":"#VALUE!"},{"$error":"#VALUE!"},{"$error":"#VALUE!"},{"$error":"#VALUE!"},{"$error":"#VALUE!"},{"$f":"VLOOKUP(B22,Tabel!$K$3:$L$109,2,FALSE)","v":{"$error":"#VALUE!"}},{"$f":"VLOOKUP(C22,Tabel!$K$3:$L$109,2,FALSE)","v":{"$error":"#VALUE!"}},{"$f":"VLOOKUP(D22,Tabel!$K$3:$L$109,2,FALSE)","v":{"$error":"#VALUE!"}},{"$f":"VLOOKUP(E22,Tabel!$K$3:$L$109,2,FALSE)","v":{"$error":"#VALUE!"}},{"$f":"VLOOKUP(F22,Tabel!$K$3:$L$109,2,FALSE)","v":{"$error":"#VALUE!"}},{"$f":"VLOOKUP(G22,Tabel!$K$3:$L$109,2,FALSE)","v":{"$error":"#VALUE!"}},{"$error":"#VALUE!"},{"$error":"#VALUE!"},{"$error":"#VALUE!"},{"$error":"#VALUE!"},{"$error":"#VALUE!"},{"$error":"#VALUE!"},{"$error":"#VALUE!"},{"$error":"#VALUE!"},{"$f":"VLOOKUP($U22,Tabel!$J$3:$K$109,2,FALSE)","v":{"$error":"#VALUE!"}},{"$f":"Tabel!$K$106&$A22&$V22&Tabel!$K$109","v":{"$error":"#VALUE!"}},{"$error":"#VALUE!"}]
[{"$f":"gastenlijst[[#This Row],[Postcode-GSM]]","v":{"$error":"#VALUE!"}},{"$error":"#VALUE!"},{"$error":"#VALUE!"},{"$error":"#VALUE!"},{"$error":"#VALUE!"},{"$error":"#VALUE!"},{"$error":"#VALUE!"},{"$f":"VLOOKUP(B23,Tabel!$K$3:$L$109,2,FALSE)","v":{"$error":"#VALUE!"}},{"$f":"VLOOKUP(C23,Tabel!$K$3:$L$109,2,FALSE)","v":{"$error":"#VALUE!"}},{"$f":"VLOOKUP(D23,Tabel!$K$3:$L$109,2,FALSE)","v":{"$error":"#VALUE!"}},{"$f":"VLOOKUP(E23,Tabel!$K$3:$L$109,2,FALSE)","v":{"$error":"#VALUE!"}},{"$f":"VLOOKUP(F23,Tabel!$K$3:$L$109,2,FALSE)","v":{"$error":"#VALUE!"}},{"$f":"VLOOKUP(G23,Tabel!$K$3:$L$109,2,FALSE)","v":{"$error":"#VALUE!"}},{"$error":"#VALUE!"},{"$error":"#VALUE!"},{"$error":"#VALUE!"},{"$error":"#VALUE!"},{"$error":"#VALUE!"},{"$error":"#VALUE!"},{"$error":"#VALUE!"},{"$error":"#VALUE!"},{"$f":"VLOOKUP($U23,Tabel!$J$3:$K$109,2,FALSE)","v":{"$error":"#VALUE!"}},{"$f":"Tabel!$K$106&$A23&$V23&Tabel!$K$109","v":{"$error":"#VALUE!"}},{"$error":"#VALUE!"}]
[{"$f":"gastenlijst[[#This Row],[Postcode-GSM]]","v":{"$error":"#VALUE!"}},{"$error":"#VALUE!"},{"$error":"#VALUE!"},{"$error":"#VALUE!"},{"$error":"#VALUE!"},{"$error":"#VALUE!"},{"$error":"#VALUE!"},{"$f":"VLOOKUP(B24,Tabel!$K$3:$L$109,2,FALSE)","v":{"$error":"#VALUE!"}},{"$f":"VLOOKUP(C24,Tabel!$K$3:$L$109,2,FALSE)","v":{"$error":"#VALUE!"}},{"$f":"VLOOKUP(D24,Tabel!$K$3:$L$109,2,FALSE)","v":{"$error":"#VALUE!"}},{"$f":"VLOOKUP(E24,Tabel!$K$3:$L$109,2,FALSE)","v":{"$error":"#VALUE!"}},{"$f":"VLOOKUP(F24,Tabel!$K$3:$L$109,2,FALSE)","v":{"$error":"#VALUE!"}},{"$f":"VLOOKUP(G24,Tabel!$K$3:$L$109,2,FALSE)","v":{"$error":"#VALUE!"}},{"$error":"#VALUE!"},{"$error":"#VALUE!"},{"$error":"#VALUE!"},{"$error":"#VALUE!"},{"$error":"#VALUE!"},{"$error":"#VALUE!"},{"$error":"#VALUE!"},{"$error":"#VALUE!"},{"$f":"VLOOKUP($U24,Tabel!$J$3:$K$109,2,FALSE)","v":{"$error":"#VALUE!"}},{"$f":"Tabel!$K$106&$A24&$V24&Tabel!$K$109","v":{"$error":"#VALUE!"}},{"$error":"#VALUE!"}]
[{"$f":"gastenlijst[[#This Row],[Postcode-GSM]]","v":{"$error":"#VALUE!"}},{"$error":"#VALUE!"},{"$error":"#VALUE!"},{"$error":"#VALUE!"},{"$error":"#VALUE!"},{"$error":"#VALUE!"},{"$error":"#VALUE!"},{"$f":"VLOOKUP(B25,Tabel!$K$3:$L$109,2,FALSE)","v":{"$error":"#VALUE!"}},{"$f":"VLOOKUP(C25,Tabel!$K$3:$L$109,2,FALSE)","v":{"$error":"#VALUE!"}},{"$f":"VLOOKUP(D25,Tabel!$K$3:$L$109,2,FALSE)","v":{"$error":"#VALUE!"}},{"$f":"VLOOKUP(E25,Tabel!$K$3:$L$109,2,FALSE)","v":{"$error":"#VALUE!"}},{"$f":"VLOOKUP(F25,Tabel!$K$3:$L$109,2,FALSE)","v":{"$error":"#VALUE!"}},{"$f":"VLOOKUP(G25,Tabel!$K$3:$L$109,2,FALSE)","v":{"$error":"#VALUE!"}},{"$error":"#VALUE!"},{"$error":"#VALUE!"},{"$error":"#VALUE!"},{"$error":"#VALUE!"},{"$error":"#VALUE!"},{"$error":"#VALUE!"},{"$error":"#VALUE!"},{"$error":"#VALUE!"},{"$f":"VLOOKUP($U25,Tabel!$J$3:$K$109,2,FALSE)","v":{"$error":"#VALUE!"}},{"$f":"Tabel!$K$106&$A25&$V25&Tabel!$K$109","v":{"$error":"#VALUE!"}},{"$error":"#VALUE!"}]
[{"$f":"gastenlijst[[#This Row],[Postcode-GSM]]","v":{"$error":"#VALUE!"}},{"$error":"#VALUE!"},{"$error":"#VALUE!"},{"$error":"#VALUE!"},{"$error":"#VALUE!"},{"$error":"#VALUE!"},{"$error":"#VALUE!"},{"$f":"VLOOKUP(B26,Tabel!$K$3:$L$109,2,FALSE)","v":{"$error":"#VALUE!"}},{"$f":"VLOOKUP(C26,Tabel!$K$3:$L$109,2,FALSE)","v":{"$error":"#VALUE!"}},{"$f":"VLOOKUP(D26,Tabel!$K$3:$L$109,2,FALSE)","v":{"$error":"#VALUE!"}},{"$f":"VLOOKUP(E26,Tabel!$K$3:$L$109,2,FALSE)","v":{"$error":"#VALUE!"}},{"$f":"VLOOKUP(F26,Tabel!$K$3:$L$109,2,FALSE)","v":{"$error":"#VALUE!"}},{"$f":"VLOOKUP(G26,Tabel!$K$3:$L$109,2,FALSE)","v":{"$error":"#VALUE!"}},{"$error":"#VALUE!"},{"$error":"#VALUE!"},{"$error":"#VALUE!"},{"$error":"#VALUE!"},{"$error":"#VALUE!"},{"$error":"#VALUE!"},{"$error":"#VALUE!"},{"$error":"#VALUE!"},{"$f":"VLOOKUP($U26,Tabel!$J$3:$K$109,2,FALSE)","v":{"$error":"#VALUE!"}},{"$f":"Tabel!$K$106&$A26&$V26&Tabel!$K$109","v":{"$error":"#VALUE!"}},{"$error":"#VALUE!"}]
[{"$f":"gastenlijst[[#This Row],[Postcode-GSM]]","v":{"$error":"#VALUE!"}},{"$error":"#VALUE!"},{"$error":"#VALUE!"},{"$error":"#VALUE!"},{"$error":"#VALUE!"},{"$error":"#VALUE!"},{"$error":"#VALUE!"},{"$f":"VLOOKUP(B27,Tabel!$K$3:$L$109,2,FALSE)","v":{"$error":"#VALUE!"}},{"$f":"VLOOKUP(C27,Tabel!$K$3:$L$109,2,FALSE)","v":{"$error":"#VALUE!"}},{"$f":"VLOOKUP(D27,Tabel!$K$3:$L$109,2,FALSE)","v":{"$error":"#VALUE!"}},{"$f":"VLOOKUP(E27,Tabel!$K$3:$L$109,2,FALSE)","v":{"$error":"#VALUE!"}},{"$f":"VLOOKUP(F27,Tabel!$K$3:$L$109,2,FALSE)","v":{"$error":"#VALUE!"}},{"$f":"VLOOKUP(G27,Tabel!$K$3:$L$109,2,FALSE)","v":{"$error":"#VALUE!"}},{"$error":"#VALUE!"},{"$error":"#VALUE!"},{"$error":"#VALUE!"},{"$error":"#VALUE!"},{"$error":"#VALUE!"},{"$error":"#VALUE!"},{"$error":"#VALUE!"},{"$error":"#VALUE!"},{"$f":"VLOOKUP($U27,Tabel!$J$3:$K$109,2,FALSE)","v":{"$error":"#VALUE!"}},{"$f":"Tabel!$K$106&$A27&$V27&Tabel!$K$109","v":{"$error":"#VALUE!"}},{"$error":"#VALUE!"}]
[{"$f":"gastenlijst[[#This Row],[Postcode-GSM]]","v":{"$error":"#VALUE!"}},{"$error":"#VALUE!"},{"$error":"#VALUE!"},{"$error":"#VALUE!"},{"$error":"#VALUE!"},{"$error":"#VALUE!"},{"$error":"#VALUE!"},{"$f":"VLOOKUP(B28,Tabel!$K$3:$L$109,2,FALSE)","v":{"$error":"#VALUE!"}},{"$f":"VLOOKUP(C28,Tabel!$K$3:$L$109,2,FALSE)","v":{"$error":"#VALUE!"}},{"$f":"VLOOKUP(D28,Tabel!$K$3:$L$109,2,FALSE)","v":{"$error":"#VALUE!"}},{"$f":"VLOOKUP(E28,Tabel!$K$3:$L$109,2,FALSE)","v":{"$error":"#VALUE!"}},{"$f":"VLOOKUP(F28,Tabel!$K$3:$L$109,2,FALSE)","v":{"$error":"#VALUE!"}},{"$f":"VLOOKUP(G28,Tabel!$K$3:$L$109,2,FALSE)","v":{"$error":"#VALUE!"}},{"$error":"#VALUE!"},{"$error":"#VALUE!"},{"$error":"#VALUE!"},{"$error":"#VALUE!"},{"$error":"#VALUE!"},{"$error":"#VALUE!"},{"$error":"#VALUE!"},{"$error":"#VALUE!"},{"$f":"VLOOKUP($U28,Tabel!$J$3:$K$109,2,FALSE)","v":{"$error":"#VALUE!"}},{"$f":"Tabel!$K$106&$A28&$V28&Tabel!$K$109","v":{"$error":"#VALUE!"}},{"$error":"#VALUE!"}]
[{"$f":"gastenlijst[[#This Row],[Postcode-GSM]]","v":{"$error":"#VALUE!"}},{"$error":"#VALUE!"},{"$error":"#VALUE!"},{"$error":"#VALUE!"},{"$error":"#VALUE!"},{"$error":"#VALUE!"},{"$error":"#VALUE!"},{"$f":"VLOOKUP(B29,Tabel!$K$3:$L$109,2,FALSE)","v":{"$error":"#VALUE!"}},{"$f":"VLOOKUP(C29,Tabel!$K$3:$L$109,2,FALSE)","v":{"$error":"#VALUE!"}},{"$f":"VLOOKUP(D29,Tabel!$K$3:$L$109,2,FALSE)","v":{"$error":"#VALUE!"}},{"$f":"VLOOKUP(E29,Tabel!$K$3:$L$109,2,FALSE)","v":{"$error":"#VALUE!"}},{"$f":"VLOOKUP(F29,Tabel!$K$3:$L$109,2,FALSE)","v":{"$error":"#VALUE!"}},{"$f":"VLOOKUP(G29,Tabel!$K$3:$L$109,2,FALSE)","v":{"$error":"#VALUE!"}},{"$error":"#VALUE!"},{"$error":"#VALUE!"},{"$error":"#VALUE!"},{"$error":"#VALUE!"},{"$error":"#VALUE!"},{"$error":"#VALUE!"},{"$error":"#VALUE!"},{"$error":"#VALUE!"},{"$f":"VLOOKUP($U29,Tabel!$J$3:$K$109,2,FALSE)","v":{"$error":"#VALUE!"}},{"$f":"Tabel!$K$106&$A29&$V29&Tabel!$K$109","v":{"$error":"#VALUE!"}},{"$error":"#VALUE!"}]
[{"$f":"gastenlijst[[#This Row],[Postcode-GSM]]","v":{"$error":"#VALUE!"}},{"$error":"#VALUE!"},{"$error":"#VALUE!"},{"$error":"#VALUE!"},{"$error":"#VALUE!"},{"$error":"#VALUE!"},{"$error":"#VALUE!"},{"$f":"VLOOKUP(B30,Tabel!$K$3:$L$109,2,FALSE)","v":{"$error":"#VALUE!"}},{"$f":"VLOOKUP(C30,Tabel!$K$3:$L$109,2,FALSE)","v":{"$error":"#VALUE!"}},{"$f":"VLOOKUP(D30,Tabel!$K$3:$L$109,2,FALSE)","v":{"$error":"#VALUE!"}},{"$f":"VLOOKUP(E30,Tabel!$K$3:$L$109,2,FALSE)","v":{"$error":"#VALUE!"}},{"$f":"VLOOKUP(F30,Tabel!$K$3:$L$109,2,FALSE)","v":{"$error":"#VALUE!"}},{"$f":"VLOOKUP(G30,Tabel!$K$3:$L$109,2,FALSE)","v":{"$error":"#VALUE!"}},{"$error":"#VALUE!"},{"$error":"#VALUE!"},{"$error":"#VALUE!"},{"$error":"#VALUE!"},{"$error":"#VALUE!"},{"$error":"#VALUE!"},{"$error":"#VALUE!"},{"$error":"#VALUE!"},{"$f":"VLOOKUP($U30,Tabel!$J$3:$K$109,2,FALSE)","v":{"$error":"#VALUE!"}},{"$f":"Tabel!$K$106&$A30&$V30&Tabel!$K$109","v":{"$error":"#VALUE!"}},{"$error":"#VALUE!"}]
[{"$f":"gastenlijst[[#This Row],[Postcode-GSM]]","v":{"$error":"#VALUE!"}},{"$error":"#VALUE!"},{"$error":"#VALUE!"},{"$error":"#VALUE!"},{"$error":"#VALUE!"},{"$error":"#VALUE!"},{"$error":"#VALUE!"},{"$f":"VLOOKUP(B31,Tabel!$K$3:$L$109,2,FALSE)","v":{"$error":"#VALUE!"}},{"$f":"VLOOKUP(C31,Tabel!$K$3:$L$109,2,FALSE)","v":{"$error":"#VALUE!"}},{"$f":"VLOOKUP(D31,Tabel!$K$3:$L$109,2,FALSE)","v":{"$error":"#VALUE!"}},{"$f":"VLOOKUP(E31,Tabel!$K$3:$L$109,2,FALSE)","v":{"$error":"#VALUE!"}},{"$f":"VLOOKUP(F31,Tabel!$K$3:$L$109,2,FALSE)","v":{"$error":"#VALUE!"}},{"$f":"VLOOKUP(G31,Tabel!$K$3:$L$109,2,FALSE)","v":{"$error":"#VALUE!"}},{"$error":"#VALUE!"},{"$error":"#VALUE!"},{"$error":"#VALUE!"},{"$error":"#VALUE!"},{"$error":"#VALUE!"},{"$error":"#VALUE!"},{"$error":"#VALUE!"},{"$error":"#VALUE!"},{"$f":"VLOOKUP($U31,Tabel!$J$3:$K$109,2,FALSE)","v":{"$error":"#VALUE!"}},{"$f":"Tabel!$K$106&$A31&$V31&Tabel!$K$109","v":{"$error":"#VALUE!"}},{"$error":"#VALUE!"}]
[{"$f":"gastenlijst[[#This Row],[Postcode-GSM]]","v":{"$error":"#VALUE!"}},{"$error":"#VALUE!"},{"$error":"#VALUE!"},{"$error":"#VALUE!"},{"$error":"#VALUE!"},{"$error":"#VALUE!"},{"$error":"#VALUE!"},{"$f":"VLOOKUP(B32,Tabel!$K$3:$L$109,2,FALSE)","v":{"$error":"#VALUE!"}},{"$f":"VLOOKUP(C32,Tabel!$K$3:$L$109,2,FALSE)","v":{"$error":"#VALUE!"}},{"$f":"VLOOKUP(D32,Tabel!$K$3:$L$109,2,FALSE)","v":{"$error":"#VALUE!"}},{"$f":"VLOOKUP(E32,Tabel!$K$3:$L$109,2,FALSE)","v":{"$error":"#VALUE!"}},{"$f":"VLOOKUP(F32,Tabel!$K$3:$L$109,2,FALSE)","v":{"$error":"#VALUE!"}},{"$f":"VLOOKUP(G32,Tabel!$K$3:$L$109,2,FALSE)","v":{"$error":"#VALUE!"}},{"$error":"#VALUE!"},{"$error":"#VALUE!"},{"$error":"#VALUE!"},{"$error":"#VALUE!"},{"$error":"#VALUE!"},{"$error":"#VALUE!"},{"$error":"#VALUE!"},{"$error":"#VALUE!"},{"$f":"VLOOKUP($U32,Tabel!$J$3:$K$109,2,FALSE)","v":{"$error":"#VALUE!"}},{"$f":"Tabel!$K$106&$A32&$V32&Tabel!$K$109","v":{"$error":"#VALUE!"}},{"$error":"#VALUE!"}]
[{"$f":"gastenlijst[[#This Row],[Postcode-GSM]]","v":{"$error":"#VALUE!"}},{"$error":"#VALUE!"},{"$error":"#VALUE!"},{"$error":"#VALUE!"},{"$error":"#VALUE!"},{"$error":"#VALUE!"},{"$error":"#VALUE!"},{"$f":"VLOOKUP(B33,Tabel!$K$3:$L$109,2,FALSE)","v":{"$error":"#VALUE!"}},{"$f":"VLOOKUP(C33,Tabel!$K$3:$L$109,2,FALSE)","v":{"$error":"#VALUE!"}},{"$f":"VLOOKUP(D33,Tabel!$K$3:$L$109,2,FALSE)","v":{"$error":"#VALUE!"}},{"$f":"VLOOKUP(E33,Tabel!$K$3:$L$109,2,FALSE)","v":{"$error":"#VALUE!"}},{"$f":"VLOOKUP(F33,Tabel!$K$3:$L$109,2,FALSE)","v":{"$error":"#VALUE!"}},{"$f":"VLOOKUP(G33,Tabel!$K$3:$L$109,2,FALSE)","v":{"$error":"#VALUE!"}},{"$error":"#VALUE!"},{"$error":"#VALUE!"},{"$error":"#VALUE!"},{"$error":"#VALUE!"},{"$error":"#VALUE!"},{"$error":"#VALUE!"},{"$error":"#VALUE!"},{"$error":"#VALUE!"},{"$f":"VLOOKUP($U33,Tabel!$J$3:$K$109,2,FALSE)","v":{"$error":"#VALUE!"}},{"$f":"Tabel!$K$106&$A33&$V33&Tabel!$K$109","v":{"$error":"#VALUE!"}},{"$error":"#VALUE!"}]
[{"$f":"gastenlijst[[#This Row],[Postcode-GSM]]","v":{"$error":"#VALUE!"}},{"$error":"#VALUE!"},{"$error":"#VALUE!"},{"$error":"#VALUE!"},{"$error":"#VALUE!"},{"$error":"#VALUE!"},{"$error":"#VALUE!"},{"$f":"VLOOKUP(B34,Tabel!$K$3:$L$109,2,FALSE)","v":{"$error":"#VALUE!"}},{"$f":"VLOOKUP(C34,Tabel!$K$3:$L$109,2,FALSE)","v":{"$error":"#VALUE!"}},{"$f":"VLOOKUP(D34,Tabel!$K$3:$L$109,2,FALSE)","v":{"$error":"#VALUE!"}},{"$f":"VLOOKUP(E34,Tabel!$K$3:$L$109,2,FALSE)","v":{"$error":"#VALUE!"}},{"$f":"VLOOKUP(F34,Tabel!$K$3:$L$109,2,FALSE)","v":{"$error":"#VALUE!"}},{"$f":"VLOOKUP(G34,Tabel!$K$3:$L$109,2,FALSE)","v":{"$error":"#VALUE!"}},{"$error":"#VALUE!"},{"$error":"#VALUE!"},{"$error":"#VALUE!"},{"$error":"#VALUE!"},{"$error":"#VALUE!"},{"$error":"#VALUE!"},{"$error":"#VALUE!"},{"$error":"#VALUE!"},{"$f":"VLOOKUP($U34,Tabel!$J$3:$K$109,2,FALSE)","v":{"$error":"#VALUE!"}},{"$f":"Tabel!$K$106&$A34&$V34&Tabel!$K$109","v":{"$error":"#VALUE!"}},{"$error":"#VALUE!"}]
[{"$f":"gastenlijst[[#This Row],[Postcode-GSM]]","v":{"$error":"#VALUE!"}},{"$error":"#VALUE!"},{"$error":"#VALUE!"},{"$error":"#VALUE!"},{"$error":"#VALUE!"},{"$error":"#VALUE!"},{"$error":"#VALUE!"},{"$f":"VLOOKUP(B35,Tabel!$K$3:$L$109,2,FALSE)","v":{"$error":"#VALUE!"}},{"$f":"VLOOKUP(C35,Tabel!$K$3:$L$109,2,FALSE)","v":{"$error":"#VALUE!"}},{"$f":"VLOOKUP(D35,Tabel!$K$3:$L$109,2,FALSE)","v":{"$error":"#VALUE!"}},{"$f":"VLOOKUP(E35,Tabel!$K$3:$L$109,2,FALSE)","v":{"$error":"#VALUE!"}},{"$f":"VLOOKUP(F35,Tabel!$K$3:$L$109,2,FALSE)","v":{"$error":"#VALUE!"}},{"$f":"VLOOKUP(G35,Tabel!$K$3:$L$109,2,FALSE)","v":{"$error":"#VALUE!"}},{"$error":"#VALUE!"},{"$error":"#VALUE!"},{"$error":"#VALUE!"},{"$error":"#VALUE!"},{"$error":"#VALUE!"},{"$error":"#VALUE!"},{"$error":"#VALUE!"},{"$error":"#VALUE!"},{"$f":"VLOOKUP($U35,Tabel!$J$3:$K$109,2,FALSE)","v":{"$error":"#VALUE!"}},{"$f":"Tabel!$K$106&$A35&$V35&Tabel!$K$109","v":{"$error":"#VALUE!"}},{"$error":"#VALUE!"}]
[{"$f":"gastenlijst[[#This Row],[Postcode-GSM]]","v":{"$error":"#VALUE!"}},{"$error":"#VALUE!"},{"$error":"#VALUE!"},{"$error":"#VALUE!"},{"$error":"#VALUE!"},{"$error":"#VALUE!"},{"$error":"#VALUE!"},{"$f":"VLOOKUP(B36,Tabel!$K$3:$L$109,2,FALSE)","v":{"$error":"#VALUE!"}},{"$f":"VLOOKUP(C36,Tabel!$K$3:$L$109,2,FALSE)","v":{"$error":"#VALUE!"}},{"$f":"VLOOKUP(D36,Tabel!$K$3:$L$109,2,FALSE)","v":{"$error":"#VALUE!"}},{"$f":"VLOOKUP(E36,Tabel!$K$3:$L$109,2,FALSE)","v":{"$error":"#VALUE!"}},{"$f":"VLOOKUP(F36,Tabel!$K$3:$L$109,2,FALSE)","v":{"$error":"#VALUE!"}},{"$f":"VLOOKUP(G36,Tabel!$K$3:$L$109,2,FALSE)","v":{"$error":"#VALUE!"}},{"$error":"#VALUE!"},{"$error":"#VALUE!"},{"$error":"#VALUE!"},{"$error":"#VALUE!"},{"$error":"#VALUE!"},{"$error":"#VALUE!"},{"$error":"#VALUE!"},{"$error":"#VALUE!"},{"$f":"VLOOKUP($U36,Tabel!$J$3:$K$109,2,FALSE)","v":{"$error":"#VALUE!"}},{"$f":"Tabel!$K$106&$A36&$V36&Tabel!$K$109","v":{"$error":"#VALUE!"}},{"$error":"#VALUE!"}]
[{"$f":"gastenlijst[[#This Row],[Postcode-GSM]]","v":{"$error":"#VALUE!"}},{"$error":"#VALUE!"},{"$error":"#VALUE!"},{"$error":"#VALUE!"},{"$error":"#VALUE!"},{"$error":"#VALUE!"},{"$error":"#VALUE!"},{"$f":"VLOOKUP(B37,Tabel!$K$3:$L$109,2,FALSE)","v":{"$error":"#VALUE!"}},{"$f":"VLOOKUP(C37,Tabel!$K$3:$L$109,2,FALSE)","v":{"$error":"#VALUE!"}},{"$f":"VLOOKUP(D37,Tabel!$K$3:$L$109,2,FALSE)","v":{"$error":"#VALUE!"}},{"$f":"VLOOKUP(E37,Tabel!$K$3:$L$109,2,FALSE)","v":{"$error":"#VALUE!"}},{"$f":"VLOOKUP(F37,Tabel!$K$3:$L$109,2,FALSE)","v":{"$error":"#VALUE!"}},{"$f":"VLOOKUP(G37,Tabel!$K$3:$L$109,2,FALSE)","v":{"$error":"#VALUE!"}},{"$error":"#VALUE!"},{"$error":"#VALUE!"},{"$error":"#VALUE!"},{"$error":"#VALUE!"},{"$error":"#VALUE!"},{"$error":"#VALUE!"},{"$error":"#VALUE!"},{"$error":"#VALUE!"},{"$f":"VLOOKUP($U37,Tabel!$J$3:$K$109,2,FALSE)","v":{"$error":"#VALUE!"}},{"$f":"Tabel!$K$106&$A37&$V37&Tabel!$K$109","v":{"$error":"#VALUE!"}},{"$error":"#VALUE!"}]
[{"$f":"gastenlijst[[#This Row],[Postcode-GSM]]","v":{"$error":"#VALUE!"}},{"$error":"#VALUE!"},{"$error":"#VALUE!"},{"$error":"#VALUE!"},{"$error":"#VALUE!"},{"$error":"#VALUE!"},{"$error":"#VALUE!"},{"$f":"VLOOKUP(B38,Tabel!$K$3:$L$109,2,FALSE)","v":{"$error":"#VALUE!"}},{"$f":"VLOOKUP(C38,Tabel!$K$3:$L$109,2,FALSE)","v":{"$error":"#VALUE!"}},{"$f":"VLOOKUP(D38,Tabel!$K$3:$L$109,2,FALSE)","v":{"$error":"#VALUE!"}},{"$f":"VLOOKUP(E38,Tabel!$K$3:$L$109,2,FALSE)","v":{"$error":"#VALUE!"}},{"$f":"VLOOKUP(F38,Tabel!$K$3:$L$109,2,FALSE)","v":{"$error":"#VALUE!"}},{"$f":"VLOOKUP(G38,Tabel!$K$3:$L$109,2,FALSE)","v":{"$error":"#VALUE!"}},{"$error":"#VALUE!"},{"$error":"#VALUE!"},{"$error":"#VALUE!"},{"$error":"#VALUE!"},{"$error":"#VALUE!"},{"$error":"#VALUE!"},{"$error":"#VALUE!"},{"$error":"#VALUE!"},{"$f":"VLOOKUP($U38,Tabel!$J$3:$K$109,2,FALSE)","v":{"$error":"#VALUE!"}},{"$f":"Tabel!$K$106&$A38&$V38&Tabel!$K$109","v":{"$error":"#VALUE!"}},{"$error":"#VALUE!"}]
[{"$f":"gastenlijst[[#This Row],[Postcode-GSM]]","v":{"$error":"#VALUE!"}},{"$error":"#VALUE!"},{"$error":"#VALUE!"},{"$error":"#VALUE!"},{"$error":"#VALUE!"},{"$error":"#VALUE!"},{"$error":"#VALUE!"},{"$f":"VLOOKUP(B39,Tabel!$K$3:$L$109,2,FALSE)","v":{"$error":"#VALUE!"}},{"$f":"VLOOKUP(C39,Tabel!$K$3:$L$109,2,FALSE)","v":{"$error":"#VALUE!"}},{"$f":"VLOOKUP(D39,Tabel!$K$3:$L$109,2,FALSE)","v":{"$error":"#VALUE!"}},{"$f":"VLOOKUP(E39,Tabel!$K$3:$L$109,2,FALSE)","v":{"$error":"#VALUE!"}},{"$f":"VLOOKUP(F39,Tabel!$K$3:$L$109,2,FALSE)","v":{"$error":"#VALUE!"}},{"$f":"VLOOKUP(G39,Tabel!$K$3:$L$109,2,FALSE)","v":{"$error":"#VALUE!"}},{"$error":"#VALUE!"},{"$error":"#VALUE!"},{"$error":"#VALUE!"},{"$error":"#VALUE!"},{"$error":"#VALUE!"},{"$error":"#VALUE!"},{"$error":"#VALUE!"},{"$error":"#VALUE!"},{"$f":"VLOOKUP($U39,Tabel!$J$3:$K$109,2,FALSE)","v":{"$error":"#VALUE!"}},{"$f":"Tabel!$K$106&$A39&$V39&Tabel!$K$109","v":{"$error":"#VALUE!"}},{"$error":"#VALUE!"}]
[{"$f":"gastenlijst[[#This Row],[Postcode-GSM]]","v":{"$error":"#VALUE!"}},{"$error":"#VALUE!"},{"$error":"#VALUE!"},{"$error":"#VALUE!"},{"$error":"#VALUE!"},{"$error":"#VALUE!"},{"$error":"#VALUE!"},{"$f":"VLOOKUP(B40,Tabel!$K$3:$L$109,2,FALSE)","v":{"$error":"#VALUE!"}},{"$f":"VLOOKUP(C40,Tabel!$K$3:$L$109,2,FALSE)","v":{"$error":"#VALUE!"}},{"$f":"VLOOKUP(D40,Tabel!$K$3:$L$109,2,FALSE)","v":{"$error":"#VALUE!"}},{"$f":"VLOOKUP(E40,Tabel!$K$3:$L$109,2,FALSE)","v":{"$error":"#VALUE!"}},{"$f":"VLOOKUP(F40,Tabel!$K$3:$L$109,2,FALSE)","v":{"$error":"#VALUE!"}},{"$f":"VLOOKUP(G40,Tabel!$K$3:$L$109,2,FALSE)","v":{"$error":"#VALUE!"}},{"$error":"#VALUE!"},{"$error":"#VALUE!"},{"$error":"#VALUE!"},{"$error":"#VALUE!"},{"$error":"#VALUE!"},{"$error":"#VALUE!"},{"$error":"#VALUE!"},{"$error":"#VALUE!"},{"$f":"VLOOKUP($U40,Tabel!$J$3:$K$109,2,FALSE)","v":{"$error":"#VALUE!"}},{"$f":"Tabel!$K$106&$A40&$V40&Tabel!$K$109","v":{"$error":"#VALUE!"}},{"$error":"#VALUE!"}]
[{"$f":"gastenlijst[[#This Row],[Postcode-GSM]]","v":{"$error":"#VALUE!"}},{"$error":"#VALUE!"},{"$error":"#VALUE!"},{"$error":"#VALUE!"},{"$error":"#VALUE!"},{"$error":"#VALUE!"},{"$error":"#VALUE!"},{"$f":"VLOOKUP(B41,Tabel!$K$3:$L$109,2,FALSE)","v":{"$error":"#VALUE!"}},{"$f":"VLOOKUP(C41,Tabel!$K$3:$L$109,2,FALSE)","v":{"$error":"#VALUE!"}},{"$f":"VLOOKUP(D41,Tabel!$K$3:$L$109,2,FALSE)","v":{"$error":"#VALUE!"}},{"$f":"VLOOKUP(E41,Tabel!$K$3:$L$109,2,FALSE)","v":{"$error":"#VALUE!"}},{"$f":"VLOOKUP(F41,Tabel!$K$3:$L$109,2,FALSE)","v":{"$error":"#VALUE!"}},{"$f":"VLOOKUP(G41,Tabel!$K$3:$L$109,2,FALSE)","v":{"$error":"#VALUE!"}},{"$error":"#VALUE!"},{"$error":"#VALUE!"},{"$error":"#VALUE!"},{"$error":"#VALUE!"},{"$error":"#VALUE!"},{"$error":"#VALUE!"},{"$error":"#VALUE!"},{"$error":"#VALUE!"},{"$f":"VLOOKUP($U41,Tabel!$J$3:$K$109,2,FALSE)","v":{"$error":"#VALUE!"}},{"$f":"Tabel!$K$106&$A41&$V41&Tabel!$K$109","v":{"$error":"#VALUE!"}},{"$error":"#VALUE!"}]
[{"$f":"gastenlijst[[#This Row],[Postcode-GSM]]","v":{"$error":"#VALUE!"}},{"$error":"#VALUE!"},{"$error":"#VALUE!"},{"$error":"#VALUE!"},{"$error":"#VALUE!"},{"$error":"#VALUE!"},{"$error":"#VALUE!"},{"$f":"VLOOKUP(B42,Tabel!$K$3:$L$109,2,FALSE)","v":{"$error":"#VALUE!"}},{"$f":"VLOOKUP(C42,Tabel!$K$3:$L$109,2,FALSE)","v":{"$error":"#VALUE!"}},{"$f":"VLOOKUP(D42,Tabel!$K$3:$L$109,2,FALSE)","v":{"$error":"#VALUE!"}},{"$f":"VLOOKUP(E42,Tabel!$K$3:$L$109,2,FALSE)","v":{"$error":"#VALUE!"}},{"$f":"VLOOKUP(F42,Tabel!$K$3:$L$109,2,FALSE)","v":{"$error":"#VALUE!"}},{"$f":"VLOOKUP(G42,Tabel!$K$3:$L$109,2,FALSE)","v":{"$error":"#VALUE!"}},{"$error":"#VALUE!"},{"$error":"#VALUE!"},{"$error":"#VALUE!"},{"$error":"#VALUE!"},{"$error":"#VALUE!"},{"$error":"#VALUE!"},{"$error":"#VALUE!"},{"$error":"#VALUE!"},{"$f":"VLOOKUP($U42,Tabel!$J$3:$K$109,2,FALSE)","v":{"$error":"#VALUE!"}},{"$f":"Tabel!$K$106&$A42&$V42&Tabel!$K$109","v":{"$error":"#VALUE!"}},{"$error":"#VALUE!"}]
[{"$f":"gastenlijst[[#This Row],[Postcode-GSM]]","v":{"$error":"#VALUE!"}},{"$error":"#VALUE!"},{"$error":"#VALUE!"},{"$error":"#VALUE!"},{"$error":"#VALUE!"},{"$error":"#VALUE!"},{"$error":"#VALUE!"},{"$f":"VLOOKUP(B43,Tabel!$K$3:$L$109,2,FALSE)","v":{"$error":"#VALUE!"}},{"$f":"VLOOKUP(C43,Tabel!$K$3:$L$109,2,FALSE)","v":{"$error":"#VALUE!"}},{"$f":"VLOOKUP(D43,Tabel!$K$3:$L$109,2,FALSE)","v":{"$error":"#VALUE!"}},{"$f":"VLOOKUP(E43,Tabel!$K$3:$L$109,2,FALSE)","v":{"$error":"#VALUE!"}},{"$f":"VLOOKUP(F43,Tabel!$K$3:$L$109,2,FALSE)","v":{"$error":"#VALUE!"}},{"$f":"VLOOKUP(G43,Tabel!$K$3:$L$109,2,FALSE)","v":{"$error":"#VALUE!"}},{"$error":"#VALUE!"},{"$error":"#VALUE!"},{"$error":"#VALUE!"},{"$error":"#VALUE!"},{"$error":"#VALUE!"},{"$error":"#VALUE!"},{"$error":"#VALUE!"},{"$error":"#VALUE!"},{"$f":"VLOOKUP($U43,Tabel!$J$3:$K$109,2,FALSE)","v":{"$error":"#VALUE!"}},{"$f":"Tabel!$K$106&$A43&$V43&Tabel!$K$109","v":{"$error":"#VALUE!"}},{"$error":"#VALUE!"}]
[{"$f":"gastenlijst[[#This Row],[Postcode-GSM]]","v":{"$error":"#VALUE!"}},{"$error":"#VALUE!"},{"$error":"#VALUE!"},{"$error":"#VALUE!"},{"$error":"#VALUE!"},{"$error":"#VALUE!"},{"$error":"#VALUE!"},{"$f":"VLOOKUP(B44,Tabel!$K$3:$L$109,2,FALSE)","v":{"$error":"#VALUE!"}},{"$f":"VLOOKUP(C44,Tabel!$K$3:$L$109,2,FALSE)","v":{"$error":"#VALUE!"}},{"$f":"VLOOKUP(D44,Tabel!$K$3:$L$109,2,FALSE)","v":{"$error":"#VALUE!"}},{"$f":"VLOOKUP(E44,Tabel!$K$3:$L$109,2,FALSE)","v":{"$error":"#VALUE!"}},{"$f":"VLOOKUP(F44,Tabel!$K$3:$L$109,2,FALSE)","v":{"$error":"#VALUE!"}},{"$f":"VLOOKUP(G44,Tabel!$K$3:$L$109,2,FALSE)","v":{"$error":"#VALUE!"}},{"$error":"#VALUE!"},{"$error":"#VALUE!"},{"$error":"#VALUE!"},{"$error":"#VALUE!"},{"$error":"#VALUE!"},{"$error":"#VALUE!"},{"$error":"#VALUE!"},{"$error":"#VALUE!"},{"$f":"VLOOKUP($U44,Tabel!$J$3:$K$109,2,FALSE)","v":{"$error":"#VALUE!"}},{"$f":"Tabel!$K$106&$A44&$V44&Tabel!$K$109","v":{"$error":"#VALUE!"}},{"$error":"#VALUE!"}]
[{"$f":"gastenlijst[[#This Row],[Postcode-GSM]]","v":{"$error":"#VALUE!"}},{"$error":"#VALUE!"},{"$error":"#VALUE!"},{"$error":"#VALUE!"},{"$error":"#VALUE!"},{"$error":"#VALUE!"},{"$error":"#VALUE!"},{"$f":"VLOOKUP(B45,Tabel!$K$3:$L$109,2,FALSE)","v":{"$error":"#VALUE!"}},{"$f":"VLOOKUP(C45,Tabel!$K$3:$L$109,2,FALSE)","v":{"$error":"#VALUE!"}},{"$f":"VLOOKUP(D45,Tabel!$K$3:$L$109,2,FALSE)","v":{"$error":"#VALUE!"}},{"$f":"VLOOKUP(E45,Tabel!$K$3:$L$109,2,FALSE)","v":{"$error":"#VALUE!"}},{"$f":"VLOOKUP(F45,Tabel!$K$3:$L$109,2,FALSE)","v":{"$error":"#VALUE!"}},{"$f":"VLOOKUP(G45,Tabel!$K$3:$L$109,2,FALSE)","v":{"$error":"#VALUE!"}},{"$error":"#VALUE!"},{"$error":"#VALUE!"},{"$error":"#VALUE!"},{"$error":"#VALUE!"},{"$error":"#VALUE!"},{"$error":"#VALUE!"},{"$error":"#VALUE!"},{"$error":"#VALUE!"},{"$f":"VLOOKUP($U45,Tabel!$J$3:$K$109,2,FALSE)","v":{"$error":"#VALUE!"}},{"$f":"Tabel!$K$106&$A45&$V45&Tabel!$K$109","v":{"$error":"#VALUE!"}},{"$error":"#VALUE!"}]
[{"$f":"gastenlijst[[#This Row],[Postcode-GSM]]","v":{"$error":"#VALUE!"}},{"$error":"#VALUE!"},{"$error":"#VALUE!"},{"$error":"#VALUE!"},{"$error":"#VALUE!"},{"$error":"#VALUE!"},{"$error":"#VALUE!"},{"$f":"VLOOKUP(B46,Tabel!$K$3:$L$109,2,FALSE)","v":{"$error":"#VALUE!"}},{"$f":"VLOOKUP(C46,Tabel!$K$3:$L$109,2,FALSE)","v":{"$error":"#VALUE!"}},{"$f":"VLOOKUP(D46,Tabel!$K$3:$L$109,2,FALSE)","v":{"$error":"#VALUE!"}},{"$f":"VLOOKUP(E46,Tabel!$K$3:$L$109,2,FALSE)","v":{"$error":"#VALUE!"}},{"$f":"VLOOKUP(F46,Tabel!$K$3:$L$109,2,FALSE)","v":{"$error":"#VALUE!"}},{"$f":"VLOOKUP(G46,Tabel!$K$3:$L$109,2,FALSE)","v":{"$error":"#VALUE!"}},{"$error":"#VALUE!"},{"$error":"#VALUE!"},{"$error":"#VALUE!"},{"$error":"#VALUE!"},{"$error":"#VALUE!"},{"$error":"#VALUE!"},{"$error":"#VALUE!"},{"$error":"#VALUE!"},{"$f":"VLOOKUP($U46,Tabel!$J$3:$K$109,2,FALSE)","v":{"$error":"#VALUE!"}},{"$f":"Tabel!$K$106&$A46&$V46&Tabel!$K$109","v":{"$error":"#VALUE!"}},{"$error":"#VALUE!"}]
[{"$f":"gastenlijst[[#This Row],[Postcode-GSM]]","v":{"$error":"#VALUE!"}},{"$error":"#VALUE!"},{"$error":"#VALUE!"},{"$error":"#VALUE!"},{"$error":"#VALUE!"},{"$error":"#VALUE!"},{"$error":"#VALUE!"},{"$f":"VLOOKUP(B47,Tabel!$K$3:$L$109,2,FALSE)","v":{"$error":"#VALUE!"}},{"$f":"VLOOKUP(C47,Tabel!$K$3:$L$109,2,FALSE)","v":{"$error":"#VALUE!"}},{"$f":"VLOOKUP(D47,Tabel!$K$3:$L$109,2,FALSE)","v":{"$error":"#VALUE!"}},{"$f":"VLOOKUP(E47,Tabel!$K$3:$L$109,2,FALSE)","v":{"$error":"#VALUE!"}},{"$f":"VLOOKUP(F47,Tabel!$K$3:$L$109,2,FALSE)","v":{"$error":"#VALUE!"}},{"$f":"VLOOKUP(G47,Tabel!$K$3:$L$109,2,FALSE)","v":{"$error":"#VALUE!"}},{"$error":"#VALUE!"},{"$error":"#VALUE!"},{"$error":"#VALUE!"},{"$error":"#VALUE!"},{"$error":"#VALUE!"},{"$error":"#VALUE!"},{"$error":"#VALUE!"},{"$error":"#VALUE!"},{"$f":"VLOOKUP($U47,Tabel!$J$3:$K$109,2,FALSE)","v":{"$error":"#VALUE!"}},{"$f":"Tabel!$K$106&$A47&$V47&Tabel!$K$109","v":{"$error":"#VALUE!"}},{"$error":"#VALUE!"}]
[{"$f":"gastenlijst[[#This Row],[Postcode-GSM]]","v":{"$error":"#VALUE!"}},{"$error":"#VALUE!"},{"$error":"#VALUE!"},{"$error":"#VALUE!"},{"$error":"#VALUE!"},{"$error":"#VALUE!"},{"$error":"#VALUE!"},{"$f":"VLOOKUP(B48,Tabel!$K$3:$L$109,2,FALSE)","v":{"$error":"#VALUE!"}},{"$f":"VLOOKUP(C48,Tabel!$K$3:$L$109,2,FALSE)","v":{"$error":"#VALUE!"}},{"$f":"VLOOKUP(D48,Tabel!$K$3:$L$109,2,FALSE)","v":{"$error":"#VALUE!"}},{"$f":"VLOOKUP(E48,Tabel!$K$3:$L$109,2,FALSE)","v":{"$error":"#VALUE!"}},{"$f":"VLOOKUP(F48,Tabel!$K$3:$L$109,2,FALSE)","v":{"$error":"#VALUE!"}},{"$f":"VLOOKUP(G48,Tabel!$K$3:$L$109,2,FALSE)","v":{"$error":"#VALUE!"}},{"$error":"#VALUE!"},{"$error":"#VALUE!"},{"$error":"#VALUE!"},{"$error":"#VALUE!"},{"$error":"#VALUE!"},{"$error":"#VALUE!"},{"$error":"#VALUE!"},{"$error":"#VALUE!"},{"$f":"VLOOKUP($U48,Tabel!$J$3:$K$109,2,FALSE)","v":{"$error":"#VALUE!"}},{"$f":"Tabel!$K$106&$A48&$V48&Tabel!$K$109","v":{"$error":"#VALUE!"}},{"$error":"#VALUE!"}]
[{"$f":"gastenlijst[[#This Row],[Postcode-GSM]]","v":{"$error":"#VALUE!"}},{"$error":"#VALUE!"},{"$error":"#VALUE!"},{"$error":"#VALUE!"},{"$error":"#VALUE!"},{"$error":"#VALUE!"},{"$error":"#VALUE!"},{"$f":"VLOOKUP(B49,Tabel!$K$3:$L$109,2,FALSE)","v":{"$error":"#VALUE!"}},{"$f":"VLOOKUP(C49,Tabel!$K$3:$L$109,2,FALSE)","v":{"$error":"#VALUE!"}},{"$f":"VLOOKUP(D49,Tabel!$K$3:$L$109,2,FALSE)","v":{"$error":"#VALUE!"}},{"$f":"VLOOKUP(E49,Tabel!$K$3:$L$109,2,FALSE)","v":{"$error":"#VALUE!"}},{"$f":"VLOOKUP(F49,Tabel!$K$3:$L$109,2,FALSE)","v":{"$error":"#VALUE!"}},{"$f":"VLOOKUP(G49,Tabel!$K$3:$L$109,2,FALSE)","v":{"$error":"#VALUE!"}},{"$error":"#VALUE!"},{"$error":"#VALUE!"},{"$error":"#VALUE!"},{"$error":"#VALUE!"},{"$error":"#VALUE!"},{"$error":"#VALUE!"},{"$error":"#VALUE!"},{"$error":"#VALUE!"},{"$f":"VLOOKUP($U49,Tabel!$J$3:$K$109,2,FALSE)","v":{"$error":"#VALUE!"}},{"$f":"Tabel!$K$106&$A49&$V49&Tabel!$K$109","v":{"$error":"#VALUE!"}},{"$error":"#VALUE!"}]
[{"$f":"gastenlijst[[#This Row],[Postcode-GSM]]","v":{"$error":"#VALUE!"}},{"$error":"#VALUE!"},{"$error":"#VALUE!"},{"$error":"#VALUE!"},{"$error":"#VALUE!"},{"$error":"#VALUE!"},{"$error":"#VALUE!"},{"$f":"VLOOKUP(B50,Tabel!$K$3:$L$109,2,FALSE)","v":{"$error":"#VALUE!"}},{"$f":"VLOOKUP(C50,Tabel!$K$3:$L$109,2,FALSE)","v":{"$error":"#VALUE!"}},{"$f":"VLOOKUP(D50,Tabel!$K$3:$L$109,2,FALSE)","v":{"$error":"#VALUE!"}},{"$f":"VLOOKUP(E50,Tabel!$K$3:$L$109,2,FALSE)","v":{"$error":"#VALUE!"}},{"$f":"VLOOKUP(F50,Tabel!$K$3:$L$109,2,FALSE)","v":{"$error":"#VALUE!"}},{"$f":"VLOOKUP(G50,Tabel!$K$3:$L$109,2,FALSE)","v":{"$error":"#VALUE!"}},{"$error":"#VALUE!"},{"$error":"#VALUE!"},{"$error":"#VALUE!"},{"$error":"#VALUE!"},{"$error":"#VALUE!"},{"$error":"#VALUE!"},{"$error":"#VALUE!"},{"$error":"#VALUE!"},{"$f":"VLOOKUP($U50,Tabel!$J$3:$K$109,2,FALSE)","v":{"$error":"#VALUE!"}},{"$f":"Tabel!$K$106&$A50&$V50&Tabel!$K$109","v":{"$error":"#VALUE!"}},{"$error":"#VALUE!"}]
[{"$f":"gastenlijst[[#This Row],[Postcode-GSM]]","v":{"$error":"#VALUE!"}},{"$error":"#VALUE!"},{"$error":"#VALUE!"},{"$error":"#VALUE!"},{"$error":"#VALUE!"},{"$error":"#VALUE!"},{"$error":"#VALUE!"},{"$f":"VLOOKUP(B51,Tabel!$K$3:$L$109,2,FALSE)","v":{"$error":"#VALUE!"}},{"$f":"VLOOKUP(C51,Tabel!$K$3:$L$109,2,FALSE)","v":{"$error":"#VALUE!"}},{"$f":"VLOOKUP(D51,Tabel!$K$3:$L$109,2,FALSE)","v":{"$error":"#VALUE!"}},{"$f":"VLOOKUP(E51,Tabel!$K$3:$L$109,2,FALSE)","v":{"$error":"#VALUE!"}},{"$f":"VLOOKUP(F51,Tabel!$K$3:$L$109,2,FALSE)","v":{"$error":"#VALUE!"}},{"$f":"VLOOKUP(G51,Tabel!$K$3:$L$109,2,FALSE)","v":{"$error":"#VALUE!"}},{"$error":"#VALUE!"},{"$error":"#VALUE!"},{"$error":"#VALUE!"},{"$error":"#VALUE!"},{"$error":"#VALUE!"},{"$error":"#VALUE!"},{"$error":"#VALUE!"},{"$error":"#VALUE!"},{"$f":"VLOOKUP($U51,Tabel!$J$3:$K$109,2,FALSE)","v":{"$error":"#VALUE!"}},{"$f":"Tabel!$K$106&$A51&$V51&Tabel!$K$109","v":{"$error":"#VALUE!"}},{"$error":"#VALUE!"}]
[{"$f":"gastenlijst[[#This Row],[Postcode-GSM]]","v":{"$error":"#VALUE!"}},{"$error":"#VALUE!"},{"$error":"#VALUE!"},{"$error":"#VALUE!"},{"$error":"#VALUE!"},{"$error":"#VALUE!"},{"$error":"#VALUE!"},{"$f":"VLOOKUP(B52,Tabel!$K$3:$L$109,2,FALSE)","v":{"$error":"#VALUE!"}},{"$f":"VLOOKUP(C52,Tabel!$K$3:$L$109,2,FALSE)","v":{"$error":"#VALUE!"}},{"$f":"VLOOKUP(D52,Tabel!$K$3:$L$109,2,FALSE)","v":{"$error":"#VALUE!"}},{"$f":"VLOOKUP(E52,Tabel!$K$3:$L$109,2,FALSE)","v":{"$error":"#VALUE!"}},{"$f":"VLOOKUP(F52,Tabel!$K$3:$L$109,2,FALSE)","v":{"$error":"#VALUE!"}},{"$f":"VLOOKUP(G52,Tabel!$K$3:$L$109,2,FALSE)","v":{"$error":"#VALUE!"}},{"$error":"#VALUE!"},{"$error":"#VALUE!"},{"$error":"#VALUE!"},{"$error":"#VALUE!"},{"$error":"#VALUE!"},{"$error":"#VALUE!"},{"$error":"#VALUE!"},{"$error":"#VALUE!"},{"$f":"VLOOKUP($U52,Tabel!$J$3:$K$109,2,FALSE)","v":{"$error":"#VALUE!"}},{"$f":"Tabel!$K$106&$A52&$V52&Tabel!$K$109","v":{"$error":"#VALUE!"}},{"$error":"#VALUE!"}]
[{"$f":"gastenlijst[[#This Row],[Postcode-GSM]]","v":{"$error":"#VALUE!"}},{"$error":"#VALUE!"},{"$error":"#VALUE!"},{"$error":"#VALUE!"},{"$error":"#VALUE!"},{"$error":"#VALUE!"},{"$error":"#VALUE!"},{"$f":"VLOOKUP(B53,Tabel!$K$3:$L$109,2,FALSE)","v":{"$error":"#VALUE!"}},{"$f":"VLOOKUP(C53,Tabel!$K$3:$L$109,2,FALSE)","v":{"$error":"#VALUE!"}},{"$f":"VLOOKUP(D53,Tabel!$K$3:$L$109,2,FALSE)","v":{"$error":"#VALUE!"}},{"$f":"VLOOKUP(E53,Tabel!$K$3:$L$109,2,FALSE)","v":{"$error":"#VALUE!"}},{"$f":"VLOOKUP(F53,Tabel!$K$3:$L$109,2,FALSE)","v":{"$error":"#VALUE!"}},{"$f":"VLOOKUP(G53,Tabel!$K$3:$L$109,2,FALSE)","v":{"$error":"#VALUE!"}},{"$error":"#VALUE!"},{"$error":"#VALUE!"},{"$error":"#VALUE!"},{"$error":"#VALUE!"},{"$error":"#VALUE!"},{"$error":"#VALUE!"},{"$error":"#VALUE!"},{"$error":"#VALUE!"},{"$f":"VLOOKUP($U53,Tabel!$J$3:$K$109,2,FALSE)","v":{"$error":"#VALUE!"}},{"$f":"Tabel!$K$106&$A53&$V53&Tabel!$K$109","v":{"$error":"#VALUE!"}},{"$error":"#VALUE!"}]
[{"$f":"gastenlijst[[#This Row],[Postcode-GSM]]","v":{"$error":"#VALUE!"}},{"$error":"#VALUE!"},{"$error":"#VALUE!"},{"$error":"#VALUE!"},{"$error":"#VALUE!"},{"$error":"#VALUE!"},{"$error":"#VALUE!"},{"$f":"VLOOKUP(B54,Tabel!$K$3:$L$109,2,FALSE)","v":{"$error":"#VALUE!"}},{"$f":"VLOOKUP(C54,Tabel!$K$3:$L$109,2,FALSE)","v":{"$error":"#VALUE!"}},{"$f":"VLOOKUP(D54,Tabel!$K$3:$L$109,2,FALSE)","v":{"$error":"#VALUE!"}},{"$f":"VLOOKUP(E54,Tabel!$K$3:$L$109,2,FALSE)","v":{"$error":"#VALUE!"}},{"$f":"VLOOKUP(F54,Tabel!$K$3:$L$109,2,FALSE)","v":{"$error":"#VALUE!"}},{"$f":"VLOOKUP(G54,Tabel!$K$3:$L$109,2,FALSE)","v":{"$error":"#VALUE!"}},{"$error":"#VALUE!"},{"$error":"#VALUE!"},{"$error":"#VALUE!"},{"$error":"#VALUE!"},{"$error":"#VALUE!"},{"$error":"#VALUE!"},{"$error":"#VALUE!"},{"$error":"#VALUE!"},{"$f":"VLOOKUP($U54,Tabel!$J$3:$K$109,2,FALSE)","v":{"$error":"#VALUE!"}},{"$f":"Tabel!$K$106&$A54&$V54&Tabel!$K$109","v":{"$error":"#VALUE!"}},{"$error":"#VALUE!"}]
[{"$f":"gastenlijst[[#This Row],[Postcode-GSM]]","v":{"$error":"#VALUE!"}},{"$error":"#VALUE!"},{"$error":"#VALUE!"},{"$error":"#VALUE!"},{"$error":"#VALUE!"},{"$error":"#VALUE!"},{"$error":"#VALUE!"},{"$f":"VLOOKUP(B55,Tabel!$K$3:$L$109,2,FALSE)","v":{"$error":"#VALUE!"}},{"$f":"VLOOKUP(C55,Tabel!$K$3:$L$109,2,FALSE)","v":{"$error":"#VALUE!"}},{"$f":"VLOOKUP(D55,Tabel!$K$3:$L$109,2,FALSE)","v":{"$error":"#VALUE!"}},{"$f":"VLOOKUP(E55,Tabel!$K$3:$L$109,2,FALSE)","v":{"$error":"#VALUE!"}},{"$f":"VLOOKUP(F55,Tabel!$K$3:$L$109,2,FALSE)","v":{"$error":"#VALUE!"}},{"$f":"VLOOKUP(G55,Tabel!$K$3:$L$109,2,FALSE)","v":{"$error":"#VALUE!"}},{"$error":"#VALUE!"},{"$error":"#VALUE!"},{"$error":"#VALUE!"},{"$error":"#VALUE!"},{"$error":"#VALUE!"},{"$error":"#VALUE!"},{"$error":"#VALUE!"},{"$error":"#VALUE!"},{"$f":"VLOOKUP($U55,Tabel!$J$3:$K$109,2,FALSE)","v":{"$error":"#VALUE!"}},{"$f":"Tabel!$K$106&$A55&$V55&Tabel!$K$109","v":{"$error":"#VALUE!"}},{"$error":"#VALUE!"}]
[{"$f":"gastenlijst[[#This Row],[Postcode-GSM]]","v":{"$error":"#VALUE!"}},{"$error":"#VALUE!"},{"$error":"#VALUE!"},{"$error":"#VALUE!"},{"$error":"#VALUE!"},{"$error":"#VALUE!"},{"$error":"#VALUE!"},{"$f":"VLOOKUP(B56,Tabel!$K$3:$L$109,2,FALSE)","v":{"$error":"#VALUE!"}},{"$f":"VLOOKUP(C56,Tabel!$K$3:$L$109,2,FALSE)","v":{"$error":"#VALUE!"}},{"$f":"VLOOKUP(D56,Tabel!$K$3:$L$109,2,FALSE)","v":{"$error":"#VALUE!"}},{"$f":"VLOOKUP(E56,Tabel!$K$3:$L$109,2,FALSE)","v":{"$error":"#VALUE!"}},{"$f":"VLOOKUP(F56,Tabel!$K$3:$L$109,2,FALSE)","v":{"$error":"#VALUE!"}},{"$f":"VLOOKUP(G56,Tabel!$K$3:$L$109,2,FALSE)","v":{"$error":"#VALUE!"}},{"$error":"#VALUE!"},{"$error":"#VALUE!"},{"$error":"#VALUE!"},{"$error":"#VALUE!"},{"$error":"#VALUE!"},{"$error":"#VALUE!"},{"$error":"#VALUE!"},{"$error":"#VALUE!"},{"$f":"VLOOKUP($U56,Tabel!$J$3:$K$109,2,FALSE)","v":{"$error":"#VALUE!"}},{"$f":"Tabel!$K$106&$A56&$V56&Tabel!$K$109","v":{"$error":"#VALUE!"}},{"$error":"#VALUE!"}]
[{"$f":"gastenlijst[[#This Row],[Postcode-GSM]]","v":{"$error":"#VALUE!"}},{"$error":"#VALUE!"},{"$error":"#VALUE!"},{"$error":"#VALUE!"},{"$error":"#VALUE!"},{"$error":"#VALUE!"},{"$error":"#VALUE!"},{"$f":"VLOOKUP(B57,Tabel!$K$3:$L$109,2,FALSE)","v":{"$error":"#VALUE!"}},{"$f":"VLOOKUP(C57,Tabel!$K$3:$L$109,2,FALSE)","v":{"$error":"#VALUE!"}},{"$f":"VLOOKUP(D57,Tabel!$K$3:$L$109,2,FALSE)","v":{"$error":"#VALUE!"}},{"$f":"VLOOKUP(E57,Tabel!$K$3:$L$109,2,FALSE)","v":{"$error":"#VALUE!"}},{"$f":"VLOOKUP(F57,Tabel!$K$3:$L$109,2,FALSE)","v":{"$error":"#VALUE!"}},{"$f":"VLOOKUP(G57,Tabel!$K$3:$L$109,2,FALSE)","v":{"$error":"#VALUE!"}},{"$error":"#VALUE!"},{"$error":"#VALUE!"},{"$error":"#VALUE!"},{"$error":"#VALUE!"},{"$error":"#VALUE!"},{"$error":"#VALUE!"},{"$error":"#VALUE!"},{"$error":"#VALUE!"},{"$f":"VLOOKUP($U57,Tabel!$J$3:$K$109,2,FALSE)","v":{"$error":"#VALUE!"}},{"$f":"Tabel!$K$106&$A57&$V57&Tabel!$K$109","v":{"$error":"#VALUE!"}},{"$error":"#VALUE!"}]
[{"$f":"gastenlijst[[#This Row],[Postcode-GSM]]","v":{"$error":"#VALUE!"}},{"$error":"#VALUE!"},{"$error":"#VALUE!"},{"$error":"#VALUE!"},{"$error":"#VALUE!"},{"$error":"#VALUE!"},{"$error":"#VALUE!"},{"$f":"VLOOKUP(B58,Tabel!$K$3:$L$109,2,FALSE)","v":{"$error":"#VALUE!"}},{"$f":"VLOOKUP(C58,Tabel!$K$3:$L$109,2,FALSE)","v":{"$error":"#VALUE!"}},{"$f":"VLOOKUP(D58,Tabel!$K$3:$L$109,2,FALSE)","v":{"$error":"#VALUE!"}},{"$f":"VLOOKUP(E58,Tabel!$K$3:$L$109,2,FALSE)","v":{"$error":"#VALUE!"}},{"$f":"VLOOKUP(F58,Tabel!$K$3:$L$109,2,FALSE)","v":{"$error":"#VALUE!"}},{"$f":"VLOOKUP(G58,Tabel!$K$3:$L$109,2,FALSE)","v":{"$error":"#VALUE!"}},{"$error":"#VALUE!"},{"$error":"#VALUE!"},{"$error":"#VALUE!"},{"$error":"#VALUE!"},{"$error":"#VALUE!"},{"$error":"#VALUE!"},{"$error":"#VALUE!"},{"$error":"#VALUE!"},{"$f":"VLOOKUP($U58,Tabel!$J$3:$K$109,2,FALSE)","v":{"$error":"#VALUE!"}},{"$f":"Tabel!$K$106&$A58&$V58&Tabel!$K$109","v":{"$error":"#VALUE!"}},{"$error":"#VALUE!"}]
[{"$f":"gastenlijst[[#This Row],[Postcode-GSM]]","v":{"$error":"#VALUE!"}},{"$error":"#VALUE!"},{"$error":"#VALUE!"},{"$error":"#VALUE!"},{"$error":"#VALUE!"},{"$error":"#VALUE!"},{"$error":"#VALUE!"},{"$f":"VLOOKUP(B59,Tabel!$K$3:$L$109,2,FALSE)","v":{"$error":"#VALUE!"}},{"$f":"VLOOKUP(C59,Tabel!$K$3:$L$109,2,FALSE)","v":{"$error":"#VALUE!"}},{"$f":"VLOOKUP(D59,Tabel!$K$3:$L$109,2,FALSE)","v":{"$error":"#VALUE!"}},{"$f":"VLOOKUP(E59,Tabel!$K$3:$L$109,2,FALSE)","v":{"$error":"#VALUE!"}},{"$f":"VLOOKUP(F59,Tabel!$K$3:$L$109,2,FALSE)","v":{"$error":"#VALUE!"}},{"$f":"VLOOKUP(G59,Tabel!$K$3:$L$109,2,FALSE)","v":{"$error":"#VALUE!"}},{"$error":"#VALUE!"},{"$error":"#VALUE!"},{"$error":"#VALUE!"},{"$error":"#VALUE!"},{"$error":"#VALUE!"},{"$error":"#VALUE!"},{"$error":"#VALUE!"},{"$error":"#VALUE!"},{"$f":"VLOOKUP($U59,Tabel!$J$3:$K$109,2,FALSE)","v":{"$error":"#VALUE!"}},{"$f":"Tabel!$K$106&$A59&$V59&Tabel!$K$109","v":{"$error":"#VALUE!"}},{"$error":"#VALUE!"}]
[{"$f":"gastenlijst[[#This Row],[Postcode-GSM]]","v":{"$error":"#VALUE!"}},{"$error":"#VALUE!"},{"$error":"#VALUE!"},{"$error":"#VALUE!"},{"$error":"#VALUE!"},{"$error":"#VALUE!"},{"$error":"#VALUE!"},{"$f":"VLOOKUP(B60,Tabel!$K$3:$L$109,2,FALSE)","v":{"$error":"#VALUE!"}},{"$f":"VLOOKUP(C60,Tabel!$K$3:$L$109,2,FALSE)","v":{"$error":"#VALUE!"}},{"$f":"VLOOKUP(D60,Tabel!$K$3:$L$109,2,FALSE)","v":{"$error":"#VALUE!"}},{"$f":"VLOOKUP(E60,Tabel!$K$3:$L$109,2,FALSE)","v":{"$error":"#VALUE!"}},{"$f":"VLOOKUP(F60,Tabel!$K$3:$L$109,2,FALSE)","v":{"$error":"#VALUE!"}},{"$f":"VLOOKUP(G60,Tabel!$K$3:$L$109,2,FALSE)","v":{"$error":"#VALUE!"}},{"$error":"#VALUE!"},{"$error":"#VALUE!"},{"$error":"#VALUE!"},{"$error":"#VALUE!"},{"$error":"#VALUE!"},{"$error":"#VALUE!"},{"$error":"#VALUE!"},{"$error":"#VALUE!"},{"$f":"VLOOKUP($U60,Tabel!$J$3:$K$109,2,FALSE)","v":{"$error":"#VALUE!"}},{"$f":"Tabel!$K$106&$A60&$V60&Tabel!$K$109","v":{"$error":"#VALUE!"}},{"$error":"#VALUE!"}]
[{"$f":"gastenlijst[[#This Row],[Postcode-GSM]]","v":{"$error":"#VALUE!"}},{"$error":"#VALUE!"},{"$error":"#VALUE!"},{"$error":"#VALUE!"},{"$error":"#VALUE!"},{"$error":"#VALUE!"},{"$error":"#VALUE!"},{"$f":"VLOOKUP(B61,Tabel!$K$3:$L$109,2,FALSE)","v":{"$error":"#VALUE!"}},{"$f":"VLOOKUP(C61,Tabel!$K$3:$L$109,2,FALSE)","v":{"$error":"#VALUE!"}},{"$f":"VLOOKUP(D61,Tabel!$K$3:$L$109,2,FALSE)","v":{"$error":"#VALUE!"}},{"$f":"VLOOKUP(E61,Tabel!$K$3:$L$109,2,FALSE)","v":{"$error":"#VALUE!"}},{"$f":"VLOOKUP(F61,Tabel!$K$3:$L$109,2,FALSE)","v":{"$error":"#VALUE!"}},{"$f":"VLOOKUP(G61,Tabel!$K$3:$L$109,2,FALSE)","v":{"$error":"#VALUE!"}},{"$error":"#VALUE!"},{"$error":"#VALUE!"},{"$error":"#VALUE!"},{"$error":"#VALUE!"},{"$error":"#VALUE!"},{"$error":"#VALUE!"},{"$error":"#VALUE!"},{"$error":"#VALUE!"},{"$f":"VLOOKUP($U61,Tabel!$J$3:$K$109,2,FALSE)","v":{"$error":"#VALUE!"}},{"$f":"Tabel!$K$106&$A61&$V61&Tabel!$K$109","v":{"$error":"#VALUE!"}},{"$error":"#VALUE!"}]
[{"$f":"gastenlijst[[#This Row],[Postcode-GSM]]","v":{"$error":"#VALUE!"}},{"$error":"#VALUE!"},{"$error":"#VALUE!"},{"$error":"#VALUE!"},{"$error":"#VALUE!"},{"$error":"#VALUE!"},{"$error":"#VALUE!"},{"$f":"VLOOKUP(B62,Tabel!$K$3:$L$109,2,FALSE)","v":{"$error":"#VALUE!"}},{"$f":"VLOOKUP(C62,Tabel!$K$3:$L$109,2,FALSE)","v":{"$error":"#VALUE!"}},{"$f":"VLOOKUP(D62,Tabel!$K$3:$L$109,2,FALSE)","v":{"$error":"#VALUE!"}},{"$f":"VLOOKUP(E62,Tabel!$K$3:$L$109,2,FALSE)","v":{"$error":"#VALUE!"}},{"$f":"VLOOKUP(F62,Tabel!$K$3:$L$109,2,FALSE)","v":{"$error":"#VALUE!"}},{"$f":"VLOOKUP(G62,Tabel!$K$3:$L$109,2,FALSE)","v":{"$error":"#VALUE!"}},{"$error":"#VALUE!"},{"$error":"#VALUE!"},{"$error":"#VALUE!"},{"$error":"#VALUE!"},{"$error":"#VALUE!"},{"$error":"#VALUE!"},{"$error":"#VALUE!"},{"$error":"#VALUE!"},{"$f":"VLOOKUP($U62,Tabel!$J$3:$K$109,2,FALSE)","v":{"$error":"#VALUE!"}},{"$f":"Tabel!$K$106&$A62&$V62&Tabel!$K$109","v":{"$error":"#VALUE!"}},{"$error":"#VALUE!"}]
[{"$f":"gastenlijst[[#This Row],[Postcode-GSM]]","v":{"$error":"#VALUE!"}},{"$error":"#VALUE!"},{"$error":"#VALUE!"},{"$error":"#VALUE!"},{"$error":"#VALUE!"},{"$error":"#VALUE!"},{"$error":"#VALUE!"},{"$f":"VLOOKUP(B63,Tabel!$K$3:$L$109,2,FALSE)","v":{"$error":"#VALUE!"}},{"$f":"VLOOKUP(C63,Tabel!$K$3:$L$109,2,FALSE)","v":{"$error":"#VALUE!"}},{"$f":"VLOOKUP(D63,Tabel!$K$3:$L$109,2,FALSE)","v":{"$error":"#VALUE!"}},{"$f":"VLOOKUP(E63,Tabel!$K$3:$L$109,2,FALSE)","v":{"$error":"#VALUE!"}},{"$f":"VLOOKUP(F63,Tabel!$K$3:$L$109,2,FALSE)","v":{"$error":"#VALUE!"}},{"$f":"VLOOKUP(G63,Tabel!$K$3:$L$109,2,FALSE)","v":{"$error":"#VALUE!"}},{"$error":"#VALUE!"},{"$error":"#VALUE!"},{"$error":"#VALUE!"},{"$error":"#VALUE!"},{"$error":"#VALUE!"},{"$error":"#VALUE!"},{"$error":"#VALUE!"},{"$error":"#VALUE!"},{"$f":"VLOOKUP($U63,Tabel!$J$3:$K$109,2,FALSE)","v":{"$error":"#VALUE!"}},{"$f":"Tabel!$K$106&$A63&$V63&Tabel!$K$109","v":{"$error":"#VALUE!"}},{"$error":"#VALUE!"}]
[{"$f":"gastenlijst[[#This Row],[Postcode-GSM]]","v":{"$error":"#VALUE!"}},{"$error":"#VALUE!"},{"$error":"#VALUE!"},{"$error":"#VALUE!"},{"$error":"#VALUE!"},{"$error":"#VALUE!"},{"$error":"#VALUE!"},{"$f":"VLOOKUP(B64,Tabel!$K$3:$L$109,2,FALSE)","v":{"$error":"#VALUE!"}},{"$f":"VLOOKUP(C64,Tabel!$K$3:$L$109,2,FALSE)","v":{"$error":"#VALUE!"}},{"$f":"VLOOKUP(D64,Tabel!$K$3:$L$109,2,FALSE)","v":{"$error":"#VALUE!"}},{"$f":"VLOOKUP(E64,Tabel!$K$3:$L$109,2,FALSE)","v":{"$error":"#VALUE!"}},{"$f":"VLOOKUP(F64,Tabel!$K$3:$L$109,2,FALSE)","v":{"$error":"#VALUE!"}},{"$f":"VLOOKUP(G64,Tabel!$K$3:$L$109,2,FALSE)","v":{"$error":"#VALUE!"}},{"$error":"#VALUE!"},{"$error":"#VALUE!"},{"$error":"#VALUE!"},{"$error":"#VALUE!"},{"$error":"#VALUE!"},{"$error":"#VALUE!"},{"$error":"#VALUE!"},{"$error":"#VALUE!"},{"$f":"VLOOKUP($U64,Tabel!$J$3:$K$109,2,FALSE)","v":{"$error":"#VALUE!"}},{"$f":"Tabel!$K$106&$A64&$V64&Tabel!$K$109","v":{"$error":"#VALUE!"}},{"$error":"#VALUE!"}]
[{"$f":"gastenlijst[[#This Row],[Postcode-GSM]]","v":{"$error":"#VALUE!"}},{"$error":"#VALUE!"},{"$error":"#VALUE!"},{"$error":"#VALUE!"},{"$error":"#VALUE!"},{"$error":"#VALUE!"},{"$error":"#VALUE!"},{"$f":"VLOOKUP(B65,Tabel!$K$3:$L$109,2,FALSE)","v":{"$error":"#VALUE!"}},{"$f":"VLOOKUP(C65,Tabel!$K$3:$L$109,2,FALSE)","v":{"$error":"#VALUE!"}},{"$f":"VLOOKUP(D65,Tabel!$K$3:$L$109,2,FALSE)","v":{"$error":"#VALUE!"}},{"$f":"VLOOKUP(E65,Tabel!$K$3:$L$109,2,FALSE)","v":{"$error":"#VALUE!"}},{"$f":"VLOOKUP(F65,Tabel!$K$3:$L$109,2,FALSE)","v":{"$error":"#VALUE!"}},{"$f":"VLOOKUP(G65,Tabel!$K$3:$L$109,2,FALSE)","v":{"$error":"#VALUE!"}},{"$error":"#VALUE!"},{"$error":"#VALUE!"},{"$error":"#VALUE!"},{"$error":"#VALUE!"},{"$error":"#VALUE!"},{"$error":"#VALUE!"},{"$error":"#VALUE!"},{"$error":"#VALUE!"},{"$f":"VLOOKUP($U65,Tabel!$J$3:$K$109,2,FALSE)","v":{"$error":"#VALUE!"}},{"$f":"Tabel!$K$106&$A65&$V65&Tabel!$K$109","v":{"$error":"#VALUE!"}},{"$error":"#VALUE!"}]
[{"$f":"gastenlijst[[#This Row],[Postcode-GSM]]","v":{"$error":"#VALUE!"}},{"$error":"#VALUE!"},{"$error":"#VALUE!"},{"$error":"#VALUE!"},{"$error":"#VALUE!"},{"$error":"#VALUE!"},{"$error":"#VALUE!"},{"$f":"VLOOKUP(B66,Tabel!$K$3:$L$109,2,FALSE)","v":{"$error":"#VALUE!"}},{"$f":"VLOOKUP(C66,Tabel!$K$3:$L$109,2,FALSE)","v":{"$error":"#VALUE!"}},{"$f":"VLOOKUP(D66,Tabel!$K$3:$L$109,2,FALSE)","v":{"$error":"#VALUE!"}},{"$f":"VLOOKUP(E66,Tabel!$K$3:$L$109,2,FALSE)","v":{"$error":"#VALUE!"}},{"$f":"VLOOKUP(F66,Tabel!$K$3:$L$109,2,FALSE)","v":{"$error":"#VALUE!"}},{"$f":"VLOOKUP(G66,Tabel!$K$3:$L$109,2,FALSE)","v":{"$error":"#VALUE!"}},{"$error":"#VALUE!"},{"$error":"#VALUE!"},{"$error":"#VALUE!"},{"$error":"#VALUE!"},{"$error":"#VALUE!"},{"$error":"#VALUE!"},{"$error":"#VALUE!"},{"$error":"#VALUE!"},{"$f":"VLOOKUP($U66,Tabel!$J$3:$K$109,2,FALSE)","v":{"$error":"#VALUE!"}},{"$f":"Tabel!$K$106&$A66&$V66&Tabel!$K$109","v":{"$error":"#VALUE!"}},{"$error":"#VALUE!"}]
[{"$f":"gastenlijst[[#This Row],[Postcode-GSM]]","v":{"$error":"#VALUE!"}},{"$error":"#VALUE!"},{"$error":"#VALUE!"},{"$error":"#VALUE!"},{"$error":"#VALUE!"},{"$error":"#VALUE!"},{"$error":"#VALUE!"},{"$f":"VLOOKUP(B67,Tabel!$K$3:$L$109,2,FALSE)","v":{"$error":"#VALUE!"}},{"$f":"VLOOKUP(C67,Tabel!$K$3:$L$109,2,FALSE)","v":{"$error":"#VALUE!"}},{"$f":"VLOOKUP(D67,Tabel!$K$3:$L$109,2,FALSE)","v":{"$error":"#VALUE!"}},{"$f":"VLOOKUP(E67,Tabel!$K$3:$L$109,2,FALSE)","v":{"$error":"#VALUE!"}},{"$f":"VLOOKUP(F67,Tabel!$K$3:$L$109,2,FALSE)","v":{"$error":"#VALUE!"}},{"$f":"VLOOKUP(G67,Tabel!$K$3:$L$109,2,FALSE)","v":{"$error":"#VALUE!"}},{"$error":"#VALUE!"},{"$error":"#VALUE!"},{"$error":"#VALUE!"},{"$error":"#VALUE!"},{"$error":"#VALUE!"},{"$error":"#VALUE!"},{"$error":"#VALUE!"},{"$error":"#VALUE!"},{"$f":"VLOOKUP($U67,Tabel!$J$3:$K$109,2,FALSE)","v":{"$error":"#VALUE!"}},{"$f":"Tabel!$K$106&$A67&$V67&Tabel!$K$109","v":{"$error":"#VALUE!"}},{"$error":"#VALUE!"}]
[{"$f":"gastenlijst[[#This Row],[Postcode-GSM]]","v":{"$error":"#VALUE!"}},{"$error":"#VALUE!"},{"$error":"#VALUE!"},{"$error":"#VALUE!"},{"$error":"#VALUE!"},{"$error":"#VALUE!"},{"$error":"#VALUE!"},{"$f":"VLOOKUP(B68,Tabel!$K$3:$L$109,2,FALSE)","v":{"$error":"#VALUE!"}},{"$f":"VLOOKUP(C68,Tabel!$K$3:$L$109,2,FALSE)","v":{"$error":"#VALUE!"}},{"$f":"VLOOKUP(D68,Tabel!$K$3:$L$109,2,FALSE)","v":{"$error":"#VALUE!"}},{"$f":"VLOOKUP(E68,Tabel!$K$3:$L$109,2,FALSE)","v":{"$error":"#VALUE!"}},{"$f":"VLOOKUP(F68,Tabel!$K$3:$L$109,2,FALSE)","v":{"$error":"#VALUE!"}},{"$f":"VLOOKUP(G68,Tabel!$K$3:$L$109,2,FALSE)","v":{"$error":"#VALUE!"}},{"$error":"#VALUE!"},{"$error":"#VALUE!"},{"$error":"#VALUE!"},{"$error":"#VALUE!"},{"$error":"#VALUE!"},{"$error":"#VALUE!"},{"$error":"#VALUE!"},{"$error":"#VALUE!"},{"$f":"VLOOKUP($U68,Tabel!$J$3:$K$109,2,FALSE)","v":{"$error":"#VALUE!"}},{"$f":"Tabel!$K$106&$A68&$V68&Tabel!$K$109","v":{"$error":"#VALUE!"}},{"$error":"#VALUE!"}]
[{"$f":"gastenlijst[[#This Row],[Postcode-GSM]]","v":{"$error":"#VALUE!"}},{"$error":"#VALUE!"},{"$error":"#VALUE!"},{"$error":"#VALUE!"},{"$error":"#VALUE!"},{"$error":"#VALUE!"},{"$error":"#VALUE!"},{"$f":"VLOOKUP(B69,Tabel!$K$3:$L$109,2,FALSE)","v":{"$error":"#VALUE!"}},{"$f":"VLOOKUP(C69,Tabel!$K$3:$L$109,2,FALSE)","v":{"$error":"#VALUE!"}},{"$f":"VLOOKUP(D69,Tabel!$K$3:$L$109,2,FALSE)","v":{"$error":"#VALUE!"}},{"$f":"VLOOKUP(E69,Tabel!$K$3:$L$109,2,FALSE)","v":{"$error":"#VALUE!"}},{"$f":"VLOOKUP(F69,Tabel!$K$3:$L$109,2,FALSE)","v":{"$error":"#VALUE!"}},{"$f":"VLOOKUP(G69,Tabel!$K$3:$L$109,2,FALSE)","v":{"$error":"#VALUE!"}},{"$error":"#VALUE!"},{"$error":"#VALUE!"},{"$error":"#VALUE!"},{"$error":"#VALUE!"},{"$error":"#VALUE!"},{"$error":"#VALUE!"},{"$error":"#VALUE!"},{"$error":"#VALUE!"},{"$f":"VLOOKUP($U69,Tabel!$J$3:$K$109,2,FALSE)","v":{"$error":"#VALUE!"}},{"$f":"Tabel!$K$106&$A69&$V69&Tabel!$K$109","v":{"$error":"#VALUE!"}},{"$error":"#VALUE!"}]
[{"$f":"gastenlijst[[#This Row],[Postcode-GSM]]","v":{"$error":"#VALUE!"}},{"$error":"#VALUE!"},{"$error":"#VALUE!"},{"$error":"#VALUE!"},{"$error":"#VALUE!"},{"$error":"#VALUE!"},{"$error":"#VALUE!"},{"$f":"VLOOKUP(B70,Tabel!$K$3:$L$109,2,FALSE)","v":{"$error":"#VALUE!"}},{"$f":"VLOOKUP(C70,Tabel!$K$3:$L$109,2,FALSE)","v":{"$error":"#VALUE!"}},{"$f":"VLOOKUP(D70,Tabel!$K$3:$L$109,2,FALSE)","v":{"$error":"#VALUE!"}},{"$f":"VLOOKUP(E70,Tabel!$K$3:$L$109,2,FALSE)","v":{"$error":"#VALUE!"}},{"$f":"VLOOKUP(F70,Tabel!$K$3:$L$109,2,FALSE)","v":{"$error":"#VALUE!"}},{"$f":"VLOOKUP(G70,Tabel!$K$3:$L$109,2,FALSE)","v":{"$error":"#VALUE!"}},{"$error":"#VALUE!"},{"$error":"#VALUE!"},{"$error":"#VALUE!"},{"$error":"#VALUE!"},{"$error":"#VALUE!"},{"$error":"#VALUE!"},{"$error":"#VALUE!"},{"$error":"#VALUE!"},{"$f":"VLOOKUP($U70,Tabel!$J$3:$K$109,2,FALSE)","v":{"$error":"#VALUE!"}},{"$f":"Tabel!$K$106&$A70&$V70&Tabel!$K$109","v":{"$error":"#VALUE!"}},{"$error":"#VALUE!"}]
[{"$f":"gastenlijst[[#This Row],[Postcode-GSM]]","v":{"$error":"#VALUE!"}},{"$f":"MID(A71,1,1)","v":{"$error":"#VALUE!"}},{"$f":"MID(A71,2,1)","v":{"$error":"#VALUE!"}},{"$f":"MID(A71,3,1)","v":{"$error":"#VALUE!"}},{"$f":"MID(A71,4,1)","v":{"$error":"#VALUE!"}},{"$f":"MID(A71,5,1)","v":{"$error":"#VALUE!"}},{"$f":"MID(A71,6,1)","v":{"$error":"#VALUE!"}},{"$f":"VLOOKUP(B71,Tabel!$K$3:$L$109,2,FALSE)","v":{"$error":"#VALUE!"}},{"$f":"VLOOKUP(C71,Tabel!$K$3:$L$109,2,FALSE)","v":{"$error":"#VALUE!"}},{"$f":"VLOOKUP(D71,Tabel!$K$3:$L$109,2,FALSE)","v":{"$error":"#VALUE!"}},{"$f":"VLOOKUP(E71,Tabel!$K$3:$L$109,2,FALSE)","v":{"$error":"#VALUE!"}},{"$f":"VLOOKUP(F71,Tabel!$K$3:$L$109,2,FALSE)","v":{"$error":"#VALUE!"}},{"$f":"VLOOKUP(G71,Tabel!$K$3:$L$109,2,FALSE)","v":{"$error":"#VALUE!"}},{"$f":"$H71*1","v":{"$error":"#VALUE!"}},{"$f":"$I71*2","v":{"$error":"#VALUE!"}},{"$f":"$J71*3","v":{"$error":"#VALUE!"}},{"$f":"$K71*4","v":{"$error":"#VALUE!"}},{"$f":"$L71*5","v":{"$error":"#VALUE!"}},{"$f":"$M71*5","v":{"$error":"#VALUE!"}},{"$f":"103+N71+O71+P71+Q71+R71+S71","v":{"$error":"#VALUE!"}},{"$f":"MOD(T71,103)","v":{"$error":"#VALUE!"}},{"$f":"VLOOKUP($U71,Tabel!$J$3:$K$109,2,FALSE)","v":{"$error":"#VALUE!"}},{"$f":"Tabel!$K$106&$A71&$V71&Tabel!$K$109","v":{"$error":"#VALUE!"}},{"$f":"W71","v":{"$error":"#VALUE!"}}]
[{"$f":"gastenlijst[[#This Row],[Postcode-GSM]]","v":{"$error":"#VALUE!"}},{"$error":"#VALUE!"},{"$error":"#VALUE!"},{"$error":"#VALUE!"},{"$error":"#VALUE!"},{"$error":"#VALUE!"},{"$error":"#VALUE!"},{"$f":"VLOOKUP(B72,Tabel!$K$3:$L$109,2,FALSE)","v":{"$error":"#VALUE!"}},{"$f":"VLOOKUP(C72,Tabel!$K$3:$L$109,2,FALSE)","v":{"$error":"#VALUE!"}},{"$f":"VLOOKUP(D72,Tabel!$K$3:$L$109,2,FALSE)","v":{"$error":"#VALUE!"}},{"$f":"VLOOKUP(E72,Tabel!$K$3:$L$109,2,FALSE)","v":{"$error":"#VALUE!"}},{"$f":"VLOOKUP(F72,Tabel!$K$3:$L$109,2,FALSE)","v":{"$error":"#VALUE!"}},{"$f":"VLOOKUP(G72,Tabel!$K$3:$L$109,2,FALSE)","v":{"$error":"#VALUE!"}},{"$error":"#VALUE!"},{"$error":"#VALUE!"},{"$error":"#VALUE!"},{"$error":"#VALUE!"},{"$error":"#VALUE!"},{"$error":"#VALUE!"},{"$error":"#VALUE!"},{"$error":"#VALUE!"},{"$f":"VLOOKUP($U72,Tabel!$J$3:$K$109,2,FALSE)","v":{"$error":"#VALUE!"}},{"$f":"Tabel!$K$106&$A72&$V72&Tabel!$K$109","v":{"$error":"#VALUE!"}},{"$error":"#VALUE!"}]
[{"$f":"gastenlijst[[#This Row],[Postcode-GSM]]","v":{"$error":"#VALUE!"}},{"$error":"#VALUE!"},{"$error":"#VALUE!"},{"$error":"#VALUE!"},{"$error":"#VALUE!"},{"$error":"#VALUE!"},{"$error":"#VALUE!"},{"$f":"VLOOKUP(B73,Tabel!$K$3:$L$109,2,FALSE)","v":{"$error":"#VALUE!"}},{"$f":"VLOOKUP(C73,Tabel!$K$3:$L$109,2,FALSE)","v":{"$error":"#VALUE!"}},{"$f":"VLOOKUP(D73,Tabel!$K$3:$L$109,2,FALSE)","v":{"$error":"#VALUE!"}},{"$f":"VLOOKUP(E73,Tabel!$K$3:$L$109,2,FALSE)","v":{"$error":"#VALUE!"}},{"$f":"VLOOKUP(F73,Tabel!$K$3:$L$109,2,FALSE)","v":{"$error":"#VALUE!"}},{"$f":"VLOOKUP(G73,Tabel!$K$3:$L$109,2,FALSE)","v":{"$error":"#VALUE!"}},{"$error":"#VALUE!"},{"$error":"#VALUE!"},{"$error":"#VALUE!"},{"$error":"#VALUE!"},{"$error":"#VALUE!"},{"$error":"#VALUE!"},{"$error":"#VALUE!"},{"$error":"#VALUE!"},{"$f":"VLOOKUP($U73,Tabel!$J$3:$K$109,2,FALSE)","v":{"$error":"#VALUE!"}},{"$f":"Tabel!$K$106&$A73&$V73&Tabel!$K$109","v":{"$error":"#VALUE!"}},{"$error":"#VALUE!"}]
[{"$f":"gastenlijst[[#This Row],[Postcode-GSM]]","v":{"$error":"#VALUE!"}},{"$error":"#VALUE!"},{"$error":"#VALUE!"},{"$error":"#VALUE!"},{"$error":"#VALUE!"},{"$error":"#VALUE!"},{"$error":"#VALUE!"},{"$f":"VLOOKUP(B74,Tabel!$K$3:$L$109,2,FALSE)","v":{"$error":"#VALUE!"}},{"$f":"VLOOKUP(C74,Tabel!$K$3:$L$109,2,FALSE)","v":{"$error":"#VALUE!"}},{"$f":"VLOOKUP(D74,Tabel!$K$3:$L$109,2,FALSE)","v":{"$error":"#VALUE!"}},{"$f":"VLOOKUP(E74,Tabel!$K$3:$L$109,2,FALSE)","v":{"$error":"#VALUE!"}},{"$f":"VLOOKUP(F74,Tabel!$K$3:$L$109,2,FALSE)","v":{"$error":"#VALUE!"}},{"$f":"VLOOKUP(G74,Tabel!$K$3:$L$109,2,FALSE)","v":{"$error":"#VALUE!"}},{"$error":"#VALUE!"},{"$error":"#VALUE!"},{"$error":"#VALUE!"},{"$error":"#VALUE!"},{"$error":"#VALUE!"},{"$error":"#VALUE!"},{"$error":"#VALUE!"},{"$error":"#VALUE!"},{"$f":"VLOOKUP($U74,Tabel!$J$3:$K$109,2,FALSE)","v":{"$error":"#VALUE!"}},{"$f":"Tabel!$K$106&$A74&$V74&Tabel!$K$109","v":{"$error":"#VALUE!"}},{"$error":"#VALUE!"}]
[{"$f":"gastenlijst[[#This Row],[Postcode-GSM]]","v":{"$error":"#VALUE!"}},{"$error":"#VALUE!"},{"$error":"#VALUE!"},{"$error":"#VALUE!"},{"$error":"#VALUE!"},{"$error":"#VALUE!"},{"$error":"#VALUE!"},{"$f":"VLOOKUP(B75,Tabel!$K$3:$L$109,2,FALSE)","v":{"$error":"#VALUE!"}},{"$f":"VLOOKUP(C75,Tabel!$K$3:$L$109,2,FALSE)","v":{"$error":"#VALUE!"}},{"$f":"VLOOKUP(D75,Tabel!$K$3:$L$109,2,FALSE)","v":{"$error":"#VALUE!"}},{"$f":"VLOOKUP(E75,Tabel!$K$3:$L$109,2,FALSE)","v":{"$error":"#VALUE!"}},{"$f":"VLOOKUP(F75,Tabel!$K$3:$L$109,2,FALSE)","v":{"$error":"#VALUE!"}},{"$f":"VLOOKUP(G75,Tabel!$K$3:$L$109,2,FALSE)","v":{"$error":"#VALUE!"}},{"$error":"#VALUE!"},{"$error":"#VALUE!"},{"$error":"#VALUE!"},{"$error":"#VALUE!"},{"$error":"#VALUE!"},{"$error":"#VALUE!"},{"$error":"#VALUE!"},{"$error":"#VALUE!"},{"$f":"VLOOKUP($U75,Tabel!$J$3:$K$109,2,FALSE)","v":{"$error":"#VALUE!"}},{"$f":"Tabel!$K$106&$A75&$V75&Tabel!$K$109","v":{"$error":"#VALUE!"}},{"$error":"#VALUE!"}]
[{"$f":"gastenlijst[[#This Row],[Postcode-GSM]]","v":{"$error":"#VALUE!"}},{"$error":"#VALUE!"},{"$error":"#VALUE!"},{"$error":"#VALUE!"},{"$error":"#VALUE!"},{"$error":"#VALUE!"},{"$error":"#VALUE!"},{"$f":"VLOOKUP(B76,Tabel!$K$3:$L$109,2,FALSE)","v":{"$error":"#VALUE!"}},{"$f":"VLOOKUP(C76,Tabel!$K$3:$L$109,2,FALSE)","v":{"$error":"#VALUE!"}},{"$f":"VLOOKUP(D76,Tabel!$K$3:$L$109,2,FALSE)","v":{"$error":"#VALUE!"}},{"$f":"VLOOKUP(E76,Tabel!$K$3:$L$109,2,FALSE)","v":{"$error":"#VALUE!"}},{"$f":"VLOOKUP(F76,Tabel!$K$3:$L$109,2,FALSE)","v":{"$error":"#VALUE!"}},{"$f":"VLOOKUP(G76,Tabel!$K$3:$L$109,2,FALSE)","v":{"$error":"#VALUE!"}},{"$error":"#VALUE!"},{"$error":"#VALUE!"},{"$error":"#VALUE!"},{"$error":"#VALUE!"},{"$error":"#VALUE!"},{"$error":"#VALUE!"},{"$error":"#VALUE!"},{"$error":"#VALUE!"},{"$f":"VLOOKUP($U76,Tabel!$J$3:$K$109,2,FALSE)","v":{"$error":"#VALUE!"}},{"$f":"Tabel!$K$106&$A76&$V76&Tabel!$K$109","v":{"$error":"#VALUE!"}},{"$error":"#VALUE!"}]
[{"$f":"gastenlijst[[#This Row],[Postcode-GSM]]","v":{"$error":"#VALUE!"}},{"$error":"#VALUE!"},{"$error":"#VALUE!"},{"$error":"#VALUE!"},{"$error":"#VALUE!"},{"$error":"#VALUE!"},{"$error":"#VALUE!"},{"$f":"VLOOKUP(B77,Tabel!$K$3:$L$109,2,FALSE)","v":{"$error":"#VALUE!"}},{"$f":"VLOOKUP(C77,Tabel!$K$3:$L$109,2,FALSE)","v":{"$error":"#VALUE!"}},{"$f":"VLOOKUP(D77,Tabel!$K$3:$L$109,2,FALSE)","v":{"$error":"#VALUE!"}},{"$f":"VLOOKUP(E77,Tabel!$K$3:$L$109,2,FALSE)","v":{"$error":"#VALUE!"}},{"$f":"VLOOKUP(F77,Tabel!$K$3:$L$109,2,FALSE)","v":{"$error":"#VALUE!"}},{"$f":"VLOOKUP(G77,Tabel!$K$3:$L$109,2,FALSE)","v":{"$error":"#VALUE!"}},{"$error":"#VALUE!"},{"$error":"#VALUE!"},{"$error":"#VALUE!"},{"$error":"#VALUE!"},{"$error":"#VALUE!"},{"$error":"#VALUE!"},{"$error":"#VALUE!"},{"$error":"#VALUE!"},{"$f":"VLOOKUP($U77,Tabel!$J$3:$K$109,2,FALSE)","v":{"$error":"#VALUE!"}},{"$f":"Tabel!$K$106&$A77&$V77&Tabel!$K$109","v":{"$error":"#VALUE!"}},{"$error":"#VALUE!"}]
[{"$f":"gastenlijst[[#This Row],[Postcode-GSM]]","v":{"$error":"#VALUE!"}},{"$error":"#VALUE!"},{"$error":"#VALUE!"},{"$error":"#VALUE!"},{"$error":"#VALUE!"},{"$error":"#VALUE!"},{"$error":"#VALUE!"},{"$f":"VLOOKUP(B78,Tabel!$K$3:$L$109,2,FALSE)","v":{"$error":"#VALUE!"}},{"$f":"VLOOKUP(C78,Tabel!$K$3:$L$109,2,FALSE)","v":{"$error":"#VALUE!"}},{"$f":"VLOOKUP(D78,Tabel!$K$3:$L$109,2,FALSE)","v":{"$error":"#VALUE!"}},{"$f":"VLOOKUP(E78,Tabel!$K$3:$L$109,2,FALSE)","v":{"$error":"#VALUE!"}},{"$f":"VLOOKUP(F78,Tabel!$K$3:$L$109,2,FALSE)","v":{"$error":"#VALUE!"}},{"$f":"VLOOKUP(G78,Tabel!$K$3:$L$109,2,FALSE)","v":{"$error":"#VALUE!"}},{"$error":"#VALUE!"},{"$error":"#VALUE!"},{"$error":"#VALUE!"},{"$error":"#VALUE!"},{"$error":"#VALUE!"},{"$error":"#VALUE!"},{"$error":"#VALUE!"},{"$error":"#VALUE!"},{"$f":"VLOOKUP($U78,Tabel!$J$3:$K$109,2,FALSE)","v":{"$error":"#VALUE!"}},{"$f":"Tabel!$K$106&$A78&$V78&Tabel!$K$109","v":{"$error":"#VALUE!"}},{"$error":"#VALUE!"}]
[{"$f":"gastenlijst[[#This Row],[Postcode-GSM]]","v":{"$error":"#VALUE!"}},{"$error":"#VALUE!"},{"$error":"#VALUE!"},{"$error":"#VALUE!"},{"$error":"#VALUE!"},{"$error":"#VALUE!"},{"$error":"#VALUE!"},{"$f":"VLOOKUP(B79,Tabel!$K$3:$L$109,2,FALSE)","v":{"$error":"#VALUE!"}},{"$f":"VLOOKUP(C79,Tabel!$K$3:$L$109,2,FALSE)","v":{"$error":"#VALUE!"}},{"$f":"VLOOKUP(D79,Tabel!$K$3:$L$109,2,FALSE)","v":{"$error":"#VALUE!"}},{"$f":"VLOOKUP(E79,Tabel!$K$3:$L$109,2,FALSE)","v":{"$error":"#VALUE!"}},{"$f":"VLOOKUP(F79,Tabel!$K$3:$L$109,2,FALSE)","v":{"$error":"#VALUE!"}},{"$f":"VLOOKUP(G79,Tabel!$K$3:$L$109,2,FALSE)","v":{"$error":"#VALUE!"}},{"$error":"#VALUE!"},{"$error":"#VALUE!"},{"$error":"#VALUE!"},{"$error":"#VALUE!"},{"$error":"#VALUE!"},{"$error":"#VALUE!"},{"$error":"#VALUE!"},{"$error":"#VALUE!"},{"$f":"VLOOKUP($U79,Tabel!$J$3:$K$109,2,FALSE)","v":{"$error":"#VALUE!"}},{"$f":"Tabel!$K$106&$A79&$V79&Tabel!$K$109","v":{"$error":"#VALUE!"}},{"$error":"#VALUE!"}]
[{"$f":"gastenlijst[[#This Row],[Postcode-GSM]]","v":{"$error":"#VALUE!"}},{"$error":"#VALUE!"},{"$error":"#VALUE!"},{"$error":"#VALUE!"},{"$error":"#VALUE!"},{"$error":"#VALUE!"},{"$error":"#VALUE!"},{"$f":"VLOOKUP(B80,Tabel!$K$3:$L$109,2,FALSE)","v":{"$error":"#VALUE!"}},{"$f":"VLOOKUP(C80,Tabel!$K$3:$L$109,2,FALSE)","v":{"$error":"#VALUE!"}},{"$f":"VLOOKUP(D80,Tabel!$K$3:$L$109,2,FALSE)","v":{"$error":"#VALUE!"}},{"$f":"VLOOKUP(E80,Tabel!$K$3:$L$109,2,FALSE)","v":{"$error":"#VALUE!"}},{"$f":"VLOOKUP(F80,Tabel!$K$3:$L$109,2,FALSE)","v":{"$error":"#VALUE!"}},{"$f":"VLOOKUP(G80,Tabel!$K$3:$L$109,2,FALSE)","v":{"$error":"#VALUE!"}},{"$error":"#VALUE!"},{"$error":"#VALUE!"},{"$error":"#VALUE!"},{"$error":"#VALUE!"},{"$error":"#VALUE!"},{"$error":"#VALUE!"},{"$error":"#VALUE!"},{"$error":"#VALUE!"},{"$f":"VLOOKUP($U80,Tabel!$J$3:$K$109,2,FALSE)","v":{"$error":"#VALUE!"}},{"$f":"Tabel!$K$106&$A80&$V80&Tabel!$K$109","v":{"$error":"#VALUE!"}},{"$error":"#VALUE!"}]
[{"$f":"gastenlijst[[#This Row],[Postcode-GSM]]","v":{"$error":"#VALUE!"}},{"$error":"#VALUE!"},{"$error":"#VALUE!"},{"$error":"#VALUE!"},{"$error":"#VALUE!"},{"$error":"#VALUE!"},{"$error":"#VALUE!"},{"$f":"VLOOKUP(B81,Tabel!$K$3:$L$109,2,FALSE)","v":{"$error":"#VALUE!"}},{"$f":"VLOOKUP(C81,Tabel!$K$3:$L$109,2,FALSE)","v":{"$error":"#VALUE!"}},{"$f":"VLOOKUP(D81,Tabel!$K$3:$L$109,2,FALSE)","v":{"$error":"#VALUE!"}},{"$f":"VLOOKUP(E81,Tabel!$K$3:$L$109,2,FALSE)","v":{"$error":"#VALUE!"}},{"$f":"VLOOKUP(F81,Tabel!$K$3:$L$109,2,FALSE)","v":{"$error":"#VALUE!"}},{"$f":"VLOOKUP(G81,Tabel!$K$3:$L$109,2,FALSE)","v":{"$error":"#VALUE!"}},{"$error":"#VALUE!"},{"$error":"#VALUE!"},{"$error":"#VALUE!"},{"$error":"#VALUE!"},{"$error":"#VALUE!"},{"$error":"#VALUE!"},{"$error":"#VALUE!"},{"$error":"#VALUE!"},{"$f":"VLOOKUP($U81,Tabel!$J$3:$K$109,2,FALSE)","v":{"$error":"#VALUE!"}},{"$f":"Tabel!$K$106&$A81&$V81&Tabel!$K$109","v":{"$error":"#VALUE!"}},{"$error":"#VALUE!"}]
[{"$f":"gastenlijst[[#This Row],[Postcode-GSM]]","v":{"$error":"#VALUE!"}},{"$error":"#VALUE!"},{"$error":"#VALUE!"},{"$error":"#VALUE!"},{"$error":"#VALUE!"},{"$error":"#VALUE!"},{"$error":"#VALUE!"},{"$f":"VLOOKUP(B82,Tabel!$K$3:$L$109,2,FALSE)","v":{"$error":"#VALUE!"}},{"$f":"VLOOKUP(C82,Tabel!$K$3:$L$109,2,FALSE)","v":{"$error":"#VALUE!"}},{"$f":"VLOOKUP(D82,Tabel!$K$3:$L$109,2,FALSE)","v":{"$error":"#VALUE!"}},{"$f":"VLOOKUP(E82,Tabel!$K$3:$L$109,2,FALSE)","v":{"$error":"#VALUE!"}},{"$f":"VLOOKUP(F82,Tabel!$K$3:$L$109,2,FALSE)","v":{"$error":"#VALUE!"}},{"$f":"VLOOKUP(G82,Tabel!$K$3:$L$109,2,FALSE)","v":{"$error":"#VALUE!"}},{"$error":"#VALUE!"},{"$error":"#VALUE!"},{"$error":"#VALUE!"},{"$error":"#VALUE!"},{"$error":"#VALUE!"},{"$error":"#VALUE!"},{"$error":"#VALUE!"},{"$error":"#VALUE!"},{"$f":"VLOOKUP($U82,Tabel!$J$3:$K$109,2,FALSE)","v":{"$error":"#VALUE!"}},{"$f":"Tabel!$K$106&$A82&$V82&Tabel!$K$109","v":{"$error":"#VALUE!"}},{"$error":"#VALUE!"}]
[{"$f":"gastenlijst[[#This Row],[Postcode-GSM]]","v":{"$error":"#VALUE!"}},{"$error":"#VALUE!"},{"$error":"#VALUE!"},{"$error":"#VALUE!"},{"$error":"#VALUE!"},{"$error":"#VALUE!"},{"$error":"#VALUE!"},{"$f":"VLOOKUP(B83,Tabel!$K$3:$L$109,2,FALSE)","v":{"$error":"#VALUE!"}},{"$f":"VLOOKUP(C83,Tabel!$K$3:$L$109,2,FALSE)","v":{"$error":"#VALUE!"}},{"$f":"VLOOKUP(D83,Tabel!$K$3:$L$109,2,FALSE)","v":{"$error":"#VALUE!"}},{"$f":"VLOOKUP(E83,Tabel!$K$3:$L$109,2,FALSE)","v":{"$error":"#VALUE!"}},{"$f":"VLOOKUP(F83,Tabel!$K$3:$L$109,2,FALSE)","v":{"$error":"#VALUE!"}},{"$f":"VLOOKUP(G83,Tabel!$K$3:$L$109,2,FALSE)","v":{"$error":"#VALUE!"}},{"$error":"#VALUE!"},{"$error":"#VALUE!"},{"$error":"#VALUE!"},{"$error":"#VALUE!"},{"$error":"#VALUE!"},{"$error":"#VALUE!"},{"$error":"#VALUE!"},{"$error":"#VALUE!"},{"$f":"VLOOKUP($U83,Tabel!$J$3:$K$109,2,FALSE)","v":{"$error":"#VALUE!"}},{"$f":"Tabel!$K$106&$A83&$V83&Tabel!$K$109","v":{"$error":"#VALUE!"}},{"$error":"#VALUE!"}]
[{"$f":"gastenlijst[[#This Row],[Postcode-GSM]]","v":{"$error":"#VALUE!"}},{"$error":"#VALUE!"},{"$error":"#VALUE!"},{"$error":"#VALUE!"},{"$error":"#VALUE!"},{"$error":"#VALUE!"},{"$error":"#VALUE!"},{"$f":"VLOOKUP(B84,Tabel!$K$3:$L$109,2,FALSE)","v":{"$error":"#VALUE!"}},{"$f":"VLOOKUP(C84,Tabel!$K$3:$L$109,2,FALSE)","v":{"$error":"#VALUE!"}},{"$f":"VLOOKUP(D84,Tabel!$K$3:$L$109,2,FALSE)","v":{"$error":"#VALUE!"}},{"$f":"VLOOKUP(E84,Tabel!$K$3:$L$109,2,FALSE)","v":{"$error":"#VALUE!"}},{"$f":"VLOOKUP(F84,Tabel!$K$3:$L$109,2,FALSE)","v":{"$error":"#VALUE!"}},{"$f":"VLOOKUP(G84,Tabel!$K$3:$L$109,2,FALSE)","v":{"$error":"#VALUE!"}},{"$error":"#VALUE!"},{"$error":"#VALUE!"},{"$error":"#VALUE!"},{"$error":"#VALUE!"},{"$error":"#VALUE!"},{"$error":"#VALUE!"},{"$error":"#VALUE!"},{"$error":"#VALUE!"},{"$f":"VLOOKUP($U84,Tabel!$J$3:$K$109,2,FALSE)","v":{"$error":"#VALUE!"}},{"$f":"Tabel!$K$106&$A84&$V84&Tabel!$K$109","v":{"$error":"#VALUE!"}},{"$error":"#VALUE!"}]
[{"$f":"gastenlijst[[#This Row],[Postcode-GSM]]","v":{"$error":"#VALUE!"}},{"$error":"#VALUE!"},{"$error":"#VALUE!"},{"$error":"#VALUE!"},{"$error":"#VALUE!"},{"$error":"#VALUE!"},{"$error":"#VALUE!"},{"$f":"VLOOKUP(B85,Tabel!$K$3:$L$109,2,FALSE)","v":{"$error":"#VALUE!"}},{"$f":"VLOOKUP(C85,Tabel!$K$3:$L$109,2,FALSE)","v":{"$error":"#VALUE!"}},{"$f":"VLOOKUP(D85,Tabel!$K$3:$L$109,2,FALSE)","v":{"$error":"#VALUE!"}},{"$f":"VLOOKUP(E85,Tabel!$K$3:$L$109,2,FALSE)","v":{"$error":"#VALUE!"}},{"$f":"VLOOKUP(F85,Tabel!$K$3:$L$109,2,FALSE)","v":{"$error":"#VALUE!"}},{"$f":"VLOOKUP(G85,Tabel!$K$3:$L$109,2,FALSE)","v":{"$error":"#VALUE!"}},{"$error":"#VALUE!"},{"$error":"#VALUE!"},{"$error":"#VALUE!"},{"$error":"#VALUE!"},{"$error":"#VALUE!"},{"$error":"#VALUE!"},{"$error":"#VALUE!"},{"$error":"#VALUE!"},{"$f":"VLOOKUP($U85,Tabel!$J$3:$K$109,2,FALSE)","v":{"$error":"#VALUE!"}},{"$f":"Tabel!$K$106&$A85&$V85&Tabel!$K$109","v":{"$error":"#VALUE!"}},{"$error":"#VALUE!"}]
[{"$f":"gastenlijst[[#This Row],[Postcode-GSM]]","v":{"$error":"#VALUE!"}},{"$error":"#VALUE!"},{"$error":"#VALUE!"},{"$error":"#VALUE!"},{"$error":"#VALUE!"},{"$error":"#VALUE!"},{"$error":"#VALUE!"},{"$f":"VLOOKUP(B86,Tabel!$K$3:$L$109,2,FALSE)","v":{"$error":"#VALUE!"}},{"$f":"VLOOKUP(C86,Tabel!$K$3:$L$109,2,FALSE)","v":{"$error":"#VALUE!"}},{"$f":"VLOOKUP(D86,Tabel!$K$3:$L$109,2,FALSE)","v":{"$error":"#VALUE!"}},{"$f":"VLOOKUP(E86,Tabel!$K$3:$L$109,2,FALSE)","v":{"$error":"#VALUE!"}},{"$f":"VLOOKUP(F86,Tabel!$K$3:$L$109,2,FALSE)","v":{"$error":"#VALUE!"}},{"$f":"VLOOKUP(G86,Tabel!$K$3:$L$109,2,FALSE)","v":{"$error":"#VALUE!"}},{"$error":"#VALUE!"},{"$error":"#VALUE!"},{"$error":"#VALUE!"},{"$error":"#VALUE!"},{"$error":"#VALUE!"},{"$error":"#VALUE!"},{"$error":"#VALUE!"},{"$error":"#VALUE!"},{"$f":"VLOOKUP($U86,Tabel!$J$3:$K$109,2,FALSE)","v":{"$error":"#VALUE!"}},{"$f":"Tabel!$K$106&$A86&$V86&Tabel!$K$109","v":{"$error":"#VALUE!"}},{"$error":"#VALUE!"}]
[{"$f":"gastenlijst[[#This Row],[Postcode-GSM]]","v":{"$error":"#VALUE!"}},{"$error":"#VALUE!"},{"$error":"#VALUE!"},{"$error":"#VALUE!"},{"$error":"#VALUE!"},{"$error":"#VALUE!"},{"$error":"#VALUE!"},{"$f":"VLOOKUP(B87,Tabel!$K$3:$L$109,2,FALSE)","v":{"$error":"#VALUE!"}},{"$f":"VLOOKUP(C87,Tabel!$K$3:$L$109,2,FALSE)","v":{"$error":"#VALUE!"}},{"$f":"VLOOKUP(D87,Tabel!$K$3:$L$109,2,FALSE)","v":{"$error":"#VALUE!"}},{"$f":"VLOOKUP(E87,Tabel!$K$3:$L$109,2,FALSE)","v":{"$error":"#VALUE!"}},{"$f":"VLOOKUP(F87,Tabel!$K$3:$L$109,2,FALSE)","v":{"$error":"#VALUE!"}},{"$f":"VLOOKUP(G87,Tabel!$K$3:$L$109,2,FALSE)","v":{"$error":"#VALUE!"}},{"$error":"#VALUE!"},{"$error":"#VALUE!"},{"$error":"#VALUE!"},{"$error":"#VALUE!"},{"$error":"#VALUE!"},{"$error":"#VALUE!"},{"$error":"#VALUE!"},{"$error":"#VALUE!"},{"$f":"VLOOKUP($U87,Tabel!$J$3:$K$109,2,FALSE)","v":{"$error":"#VALUE!"}},{"$f":"Tabel!$K$106&$A87&$V87&Tabel!$K$109","v":{"$error":"#VALUE!"}},{"$error":"#VALUE!"}]
[{"$f":"gastenlijst[[#This Row],[Postcode-GSM]]","v":{"$error":"#VALUE!"}},{"$error":"#VALUE!"},{"$error":"#VALUE!"},{"$error":"#VALUE!"},{"$error":"#VALUE!"},{"$error":"#VALUE!"},{"$error":"#VALUE!"},{"$f":"VLOOKUP(B88,Tabel!$K$3:$L$109,2,FALSE)","v":{"$error":"#VALUE!"}},{"$f":"VLOOKUP(C88,Tabel!$K$3:$L$109,2,FALSE)","v":{"$error":"#VALUE!"}},{"$f":"VLOOKUP(D88,Tabel!$K$3:$L$109,2,FALSE)","v":{"$error":"#VALUE!"}},{"$f":"VLOOKUP(E88,Tabel!$K$3:$L$109,2,FALSE)","v":{"$error":"#VALUE!"}},{"$f":"VLOOKUP(F88,Tabel!$K$3:$L$109,2,FALSE)","v":{"$error":"#VALUE!"}},{"$f":"VLOOKUP(G88,Tabel!$K$3:$L$109,2,FALSE)","v":{"$error":"#VALUE!"}},{"$error":"#VALUE!"},{"$error":"#VALUE!"},{"$error":"#VALUE!"},{"$error":"#VALUE!"},{"$error":"#VALUE!"},{"$error":"#VALUE!"},{"$error":"#VALUE!"},{"$error":"#VALUE!"},{"$f":"VLOOKUP($U88,Tabel!$J$3:$K$109,2,FALSE)","v":{"$error":"#VALUE!"}},{"$f":"Tabel!$K$106&$A88&$V88&Tabel!$K$109","v":{"$error":"#VALUE!"}},{"$error":"#VALUE!"}]
[{"$f":"gastenlijst[[#This Row],[Postcode-GSM]]","v":{"$error":"#VALUE!"}},{"$error":"#VALUE!"},{"$error":"#VALUE!"},{"$error":"#VALUE!"},{"$error":"#VALUE!"},{"$error":"#VALUE!"},{"$error":"#VALUE!"},{"$f":"VLOOKUP(B89,Tabel!$K$3:$L$109,2,FALSE)","v":{"$error":"#VALUE!"}},{"$f":"VLOOKUP(C89,Tabel!$K$3:$L$109,2,FALSE)","v":{"$error":"#VALUE!"}},{"$f":"VLOOKUP(D89,Tabel!$K$3:$L$109,2,FALSE)","v":{"$error":"#VALUE!"}},{"$f":"VLOOKUP(E89,Tabel!$K$3:$L$109,2,FALSE)","v":{"$error":"#VALUE!"}},{"$f":"VLOOKUP(F89,Tabel!$K$3:$L$109,2,FALSE)","v":{"$error":"#VALUE!"}},{"$f":"VLOOKUP(G89,Tabel!$K$3:$L$109,2,FALSE)","v":{"$error":"#VALUE!"}},{"$error":"#VALUE!"},{"$error":"#VALUE!"},{"$error":"#VALUE!"},{"$error":"#VALUE!"},{"$error":"#VALUE!"},{"$error":"#VALUE!"},{"$error":"#VALUE!"},{"$error":"#VALUE!"},{"$f":"VLOOKUP($U89,Tabel!$J$3:$K$109,2,FALSE)","v":{"$error":"#VALUE!"}},{"$f":"Tabel!$K$106&$A89&$V89&Tabel!$K$109","v":{"$error":"#VALUE!"}},{"$error":"#VALUE!"}]
[{"$f":"gastenlijst[[#This Row],[Postcode-GSM]]","v":{"$error":"#VALUE!"}},{"$error":"#VALUE!"},{"$error":"#VALUE!"},{"$error":"#VALUE!"},{"$error":"#VALUE!"},{"$error":"#VALUE!"},{"$error":"#VALUE!"},{"$f":"VLOOKUP(B90,Tabel!$K$3:$L$109,2,FALSE)","v":{"$error":"#VALUE!"}},{"$f":"VLOOKUP(C90,Tabel!$K$3:$L$109,2,FALSE)","v":{"$error":"#VALUE!"}},{"$f":"VLOOKUP(D90,Tabel!$K$3:$L$109,2,FALSE)","v":{"$error":"#VALUE!"}},{"$f":"VLOOKUP(E90,Tabel!$K$3:$L$109,2,FALSE)","v":{"$error":"#VALUE!"}},{"$f":"VLOOKUP(F90,Tabel!$K$3:$L$109,2,FALSE)","v":{"$error":"#VALUE!"}},{"$f":"VLOOKUP(G90,Tabel!$K$3:$L$109,2,FALSE)","v":{"$error":"#VALUE!"}},{"$error":"#VALUE!"},{"$error":"#VALUE!"},{"$error":"#VALUE!"},{"$error":"#VALUE!"},{"$error":"#VALUE!"},{"$error":"#VALUE!"},{"$error":"#VALUE!"},{"$error":"#VALUE!"},{"$f":"VLOOKUP($U90,Tabel!$J$3:$K$109,2,FALSE)","v":{"$error":"#VALUE!"}},{"$f":"Tabel!$K$106&$A90&$V90&Tabel!$K$109","v":{"$error":"#VALUE!"}},{"$error":"#VALUE!"}]
[{"$f":"gastenlijst[[#This Row],[Postcode-GSM]]","v":{"$error":"#VALUE!"}},{"$error":"#VALUE!"},{"$error":"#VALUE!"},{"$error":"#VALUE!"},{"$error":"#VALUE!"},{"$error":"#VALUE!"},{"$error":"#VALUE!"},{"$f":"VLOOKUP(B91,Tabel!$K$3:$L$109,2,FALSE)","v":{"$error":"#VALUE!"}},{"$f":"VLOOKUP(C91,Tabel!$K$3:$L$109,2,FALSE)","v":{"$error":"#VALUE!"}},{"$f":"VLOOKUP(D91,Tabel!$K$3:$L$109,2,FALSE)","v":{"$error":"#VALUE!"}},{"$f":"VLOOKUP(E91,Tabel!$K$3:$L$109,2,FALSE)","v":{"$error":"#VALUE!"}},{"$f":"VLOOKUP(F91,Tabel!$K$3:$L$109,2,FALSE)","v":{"$error":"#VALUE!"}},{"$f":"VLOOKUP(G91,Tabel!$K$3:$L$109,2,FALSE)","v":{"$error":"#VALUE!"}},{"$error":"#VALUE!"},{"$error":"#VALUE!"},{"$error":"#VALUE!"},{"$error":"#VALUE!"},{"$error":"#VALUE!"},{"$error":"#VALUE!"},{"$error":"#VALUE!"},{"$error":"#VALUE!"},{"$f":"VLOOKUP($U91,Tabel!$J$3:$K$109,2,FALSE)","v":{"$error":"#VALUE!"}},{"$f":"Tabel!$K$106&$A91&$V91&Tabel!$K$109","v":{"$error":"#VALUE!"}},{"$error":"#VALUE!"}]
[{"$f":"gastenlijst[[#This Row],[Postcode-GSM]]","v":{"$error":"#VALUE!"}},{"$error":"#VALUE!"},{"$error":"#VALUE!"},{"$error":"#VALUE!"},{"$error":"#VALUE!"},{"$error":"#VALUE!"},{"$error":"#VALUE!"},{"$f":"VLOOKUP(B92,Tabel!$K$3:$L$109,2,FALSE)","v":{"$error":"#VALUE!"}},{"$f":"VLOOKUP(C92,Tabel!$K$3:$L$109,2,FALSE)","v":{"$error":"#VALUE!"}},{"$f":"VLOOKUP(D92,Tabel!$K$3:$L$109,2,FALSE)","v":{"$error":"#VALUE!"}},{"$f":"VLOOKUP(E92,Tabel!$K$3:$L$109,2,FALSE)","v":{"$error":"#VALUE!"}},{"$f":"VLOOKUP(F92,Tabel!$K$3:$L$109,2,FALSE)","v":{"$error":"#VALUE!"}},{"$f":"VLOOKUP(G92,Tabel!$K$3:$L$109,2,FALSE)","v":{"$error":"#VALUE!"}},{"$error":"#VALUE!"},{"$error":"#VALUE!"},{"$error":"#VALUE!"},{"$error":"#VALUE!"},{"$error":"#VALUE!"},{"$error":"#VALUE!"},{"$error":"#VALUE!"},{"$error":"#VALUE!"},{"$f":"VLOOKUP($U92,Tabel!$J$3:$K$109,2,FALSE)","v":{"$error":"#VALUE!"}},{"$f":"Tabel!$K$106&$A92&$V92&Tabel!$K$109","v":{"$error":"#VALUE!"}},{"$error":"#VALUE!"}]
[{"$f":"gastenlijst[[#This Row],[Postcode-GSM]]","v":{"$error":"#VALUE!"}},{"$error":"#VALUE!"},{"$error":"#VALUE!"},{"$error":"#VALUE!"},{"$error":"#VALUE!"},{"$error":"#VALUE!"},{"$error":"#VALUE!"},{"$f":"VLOOKUP(B93,Tabel!$K$3:$L$109,2,FALSE)","v":{"$error":"#VALUE!"}},{"$f":"VLOOKUP(C93,Tabel!$K$3:$L$109,2,FALSE)","v":{"$error":"#VALUE!"}},{"$f":"VLOOKUP(D93,Tabel!$K$3:$L$109,2,FALSE)","v":{"$error":"#VALUE!"}},{"$f":"VLOOKUP(E93,Tabel!$K$3:$L$109,2,FALSE)","v":{"$error":"#VALUE!"}},{"$f":"VLOOKUP(F93,Tabel!$K$3:$L$109,2,FALSE)","v":{"$error":"#VALUE!"}},{"$f":"VLOOKUP(G93,Tabel!$K$3:$L$109,2,FALSE)","v":{"$error":"#VALUE!"}},{"$error":"#VALUE!"},{"$error":"#VALUE!"},{"$error":"#VALUE!"},{"$error":"#VALUE!"},{"$error":"#VALUE!"},{"$error":"#VALUE!"},{"$error":"#VALUE!"},{"$error":"#VALUE!"},{"$f":"VLOOKUP($U93,Tabel!$J$3:$K$109,2,FALSE)","v":{"$error":"#VALUE!"}},{"$f":"Tabel!$K$106&$A93&$V93&Tabel!$K$109","v":{"$error":"#VALUE!"}},{"$error":"#VALUE!"}]
[{"$f":"gastenlijst[[#This Row],[Postcode-GSM]]","v":{"$error":"#VALUE!"}},{"$error":"#VALUE!"},{"$error":"#VALUE!"},{"$error":"#VALUE!"},{"$error":"#VALUE!"},{"$error":"#VALUE!"},{"$error":"#VALUE!"},{"$f":"VLOOKUP(B94,Tabel!$K$3:$L$109,2,FALSE)","v":{"$error":"#VALUE!"}},{"$f":"VLOOKUP(C94,Tabel!$K$3:$L$109,2,FALSE)","v":{"$error":"#VALUE!"}},{"$f":"VLOOKUP(D94,Tabel!$K$3:$L$109,2,FALSE)","v":{"$error":"#VALUE!"}},{"$f":"VLOOKUP(E94,Tabel!$K$3:$L$109,2,FALSE)","v":{"$error":"#VALUE!"}},{"$f":"VLOOKUP(F94,Tabel!$K$3:$L$109,2,FALSE)","v":{"$error":"#VALUE!"}},{"$f":"VLOOKUP(G94,Tabel!$K$3:$L$109,2,FALSE)","v":{"$error":"#VALUE!"}},{"$error":"#VALUE!"},{"$error":"#VALUE!"},{"$error":"#VALUE!"},{"$error":"#VALUE!"},{"$error":"#VALUE!"},{"$error":"#VALUE!"},{"$error":"#VALUE!"},{"$error":"#VALUE!"},{"$f":"VLOOKUP($U94,Tabel!$J$3:$K$109,2,FALSE)","v":{"$error":"#VALUE!"}},{"$f":"Tabel!$K$106&$A94&$V94&Tabel!$K$109","v":{"$error":"#VALUE!"}},{"$error":"#VALUE!"}]
[{"$f":"gastenlijst[[#This Row],[Postcode-GSM]]","v":{"$error":"#VALUE!"}},{"$error":"#VALUE!"},{"$error":"#VALUE!"},{"$error":"#VALUE!"},{"$error":"#VALUE!"},{"$error":"#VALUE!"},{"$error":"#VALUE!"},{"$f":"VLOOKUP(B95,Tabel!$K$3:$L$109,2,FALSE)","v":{"$error":"#VALUE!"}},{"$f":"VLOOKUP(C95,Tabel!$K$3:$L$109,2,FALSE)","v":{"$error":"#VALUE!"}},{"$f":"VLOOKUP(D95,Tabel!$K$3:$L$109,2,FALSE)","v":{"$error":"#VALUE!"}},{"$f":"VLOOKUP(E95,Tabel!$K$3:$L$109,2,FALSE)","v":{"$error":"#VALUE!"}},{"$f":"VLOOKUP(F95,Tabel!$K$3:$L$109,2,FALSE)","v":{"$error":"#VALUE!"}},{"$f":"VLOOKUP(G95,Tabel!$K$3:$L$109,2,FALSE)","v":{"$error":"#VALUE!"}},{"$error":"#VALUE!"},{"$error":"#VALUE!"},{"$error":"#VALUE!"},{"$error":"#VALUE!"},{"$error":"#VALUE!"},{"$error":"#VALUE!"},{"$error":"#VALUE!"},{"$error":"#VALUE!"},{"$f":"VLOOKUP($U95,Tabel!$J$3:$K$109,2,FALSE)","v":{"$error":"#VALUE!"}},{"$f":"Tabel!$K$106&$A95&$V95&Tabel!$K$109","v":{"$error":"#VALUE!"}},{"$error":"#VALUE!"}]
[{"$f":"gastenlijst[[#This Row],[Postcode-GSM]]","v":{"$error":"#VALUE!"}},{"$error":"#VALUE!"},{"$error":"#VALUE!"},{"$error":"#VALUE!"},{"$error":"#VALUE!"},{"$error":"#VALUE!"},{"$error":"#VALUE!"},{"$f":"VLOOKUP(B96,Tabel!$K$3:$L$109,2,FALSE)","v":{"$error":"#VALUE!"}},{"$f":"VLOOKUP(C96,Tabel!$K$3:$L$109,2,FALSE)","v":{"$error":"#VALUE!"}},{"$f":"VLOOKUP(D96,Tabel!$K$3:$L$109,2,FALSE)","v":{"$error":"#VALUE!"}},{"$f":"VLOOKUP(E96,Tabel!$K$3:$L$109,2,FALSE)","v":{"$error":"#VALUE!"}},{"$f":"VLOOKUP(F96,Tabel!$K$3:$L$109,2,FALSE)","v":{"$error":"#VALUE!"}},{"$f":"VLOOKUP(G96,Tabel!$K$3:$L$109,2,FALSE)","v":{"$error":"#VALUE!"}},{"$error":"#VALUE!"},{"$error":"#VALUE!"},{"$error":"#VALUE!"},{"$error":"#VALUE!"},{"$error":"#VALUE!"},{"$error":"#VALUE!"},{"$error":"#VALUE!"},{"$error":"#VALUE!"},{"$f":"VLOOKUP($U96,Tabel!$J$3:$K$109,2,FALSE)","v":{"$error":"#VALUE!"}},{"$f":"Tabel!$K$106&$A96&$V96&Tabel!$K$109","v":{"$error":"#VALUE!"}},{"$error":"#VALUE!"}]
[{"$f":"gastenlijst[[#This Row],[Postcode-GSM]]","v":{"$error":"#VALUE!"}},{"$error":"#VALUE!"},{"$error":"#VALUE!"},{"$error":"#VALUE!"},{"$error":"#VALUE!"},{"$error":"#VALUE!"},{"$error":"#VALUE!"},{"$f":"VLOOKUP(B97,Tabel!$K$3:$L$109,2,FALSE)","v":{"$error":"#VALUE!"}},{"$f":"VLOOKUP(C97,Tabel!$K$3:$L$109,2,FALSE)","v":{"$error":"#VALUE!"}},{"$f":"VLOOKUP(D97,Tabel!$K$3:$L$109,2,FALSE)","v":{"$error":"#VALUE!"}},{"$f":"VLOOKUP(E97,Tabel!$K$3:$L$109,2,FALSE)","v":{"$error":"#VALUE!"}},{"$f":"VLOOKUP(F97,Tabel!$K$3:$L$109,2,FALSE)","v":{"$error":"#VALUE!"}},{"$f":"VLOOKUP(G97,Tabel!$K$3:$L$109,2,FALSE)","v":{"$error":"#VALUE!"}},{"$error":"#VALUE!"},{"$error":"#VALUE!"},{"$error":"#VALUE!"},{"$error":"#VALUE!"},{"$error":"#VALUE!"},{"$error":"#VALUE!"},{"$error":"#VALUE!"},{"$error":"#VALUE!"},{"$f":"VLOOKUP($U97,Tabel!$J$3:$K$109,2,FALSE)","v":{"$error":"#VALUE!"}},{"$f":"Tabel!$K$106&$A97&$V97&Tabel!$K$109","v":{"$error":"#VALUE!"}},{"$error":"#VALUE!"}]
[{"$f":"gastenlijst[[#This Row],[Postcode-GSM]]","v":{"$error":"#VALUE!"}},{"$error":"#VALUE!"},{"$error":"#VALUE!"},{"$error":"#VALUE!"},{"$error":"#VALUE!"},{"$error":"#VALUE!"},{"$error":"#VALUE!"},{"$f":"VLOOKUP(B98,Tabel!$K$3:$L$109,2,FALSE)","v":{"$error":"#VALUE!"}},{"$f":"VLOOKUP(C98,Tabel!$K$3:$L$109,2,FALSE)","v":{"$error":"#VALUE!"}},{"$f":"VLOOKUP(D98,Tabel!$K$3:$L$109,2,FALSE)","v":{"$error":"#VALUE!"}},{"$f":"VLOOKUP(E98,Tabel!$K$3:$L$109,2,FALSE)","v":{"$error":"#VALUE!"}},{"$f":"VLOOKUP(F98,Tabel!$K$3:$L$109,2,FALSE)","v":{"$error":"#VALUE!"}},{"$f":"VLOOKUP(G98,Tabel!$K$3:$L$109,2,FALSE)","v":{"$error":"#VALUE!"}},{"$error":"#VALUE!"},{"$error":"#VALUE!"},{"$error":"#VALUE!"},{"$error":"#VALUE!"},{"$error":"#VALUE!"},{"$error":"#VALUE!"},{"$error":"#VALUE!"},{"$error":"#VALUE!"},{"$f":"VLOOKUP($U98,Tabel!$J$3:$K$109,2,FALSE)","v":{"$error":"#VALUE!"}},{"$f":"Tabel!$K$106&$A98&$V98&Tabel!$K$109","v":{"$error":"#VALUE!"}},{"$error":"#VALUE!"}]
[{"$f":"gastenlijst[[#This Row],[Postcode-GSM]]","v":{"$error":"#VALUE!"}},{"$error":"#VALUE!"},{"$error":"#VALUE!"},{"$error":"#VALUE!"},{"$error":"#VALUE!"},{"$error":"#VALUE!"},{"$error":"#VALUE!"},{"$f":"VLOOKUP(B99,Tabel!$K$3:$L$109,2,FALSE)","v":{"$error":"#VALUE!"}},{"$f":"VLOOKUP(C99,Tabel!$K$3:$L$109,2,FALSE)","v":{"$error":"#VALUE!"}},{"$f":"VLOOKUP(D99,Tabel!$K$3:$L$109,2,FALSE)","v":{"$error":"#VALUE!"}},{"$f":"VLOOKUP(E99,Tabel!$K$3:$L$109,2,FALSE)","v":{"$error":"#VALUE!"}},{"$f":"VLOOKUP(F99,Tabel!$K$3:$L$109,2,FALSE)","v":{"$error":"#VALUE!"}},{"$f":"VLOOKUP(G99,Tabel!$K$3:$L$109,2,FALSE)","v":{"$error":"#VALUE!"}},{"$error":"#VALUE!"},{"$error":"#VALUE!"},{"$error":"#VALUE!"},{"$error":"#VALUE!"},{"$error":"#VALUE!"},{"$error":"#VALUE!"},{"$error":"#VALUE!"},{"$error":"#VALUE!"},{"$f":"VLOOKUP($U99,Tabel!$J$3:$K$109,2,FALSE)","v":{"$error":"#VALUE!"}},{"$f":"Tabel!$K$106&$A99&$V99&Tabel!$K$109","v":{"$error":"#VALUE!"}},{"$error":"#VALUE!"}]
[{"$f":"gastenlijst[[#This Row],[Postcode-GSM]]","v":{"$error":"#VALUE!"}},{"$error":"#VALUE!"},{"$error":"#VALUE!"},{"$error":"#VALUE!"},{"$error":"#VALUE!"},{"$error":"#VALUE!"},{"$error":"#VALUE!"},{"$f":"VLOOKUP(B100,Tabel!$K$3:$L$109,2,FALSE)","v":{"$error":"#VALUE!"}},{"$f":"VLOOKUP(C100,Tabel!$K$3:$L$109,2,FALSE)","v":{"$error":"#VALUE!"}},{"$f":"VLOOKUP(D100,Tabel!$K$3:$L$109,2,FALSE)","v":{"$error":"#VALUE!"}},{"$f":"VLOOKUP(E100,Tabel!$K$3:$L$109,2,FALSE)","v":{"$error":"#VALUE!"}},{"$f":"VLOOKUP(F100,Tabel!$K$3:$L$109,2,FALSE)","v":{"$error":"#VALUE!"}},{"$f":"VLOOKUP(G100,Tabel!$K$3:$L$109,2,FALSE)","v":{"$error":"#VALUE!"}},{"$error":"#VALUE!"},{"$error":"#VALUE!"},{"$error":"#VALUE!"},{"$error":"#VALUE!"},{"$error":"#VALUE!"},{"$error":"#VALUE!"},{"$error":"#VALUE!"},{"$error":"#VALUE!"},{"$f":"VLOOKUP($U100,Tabel!$J$3:$K$109,2,FALSE)","v":{"$error":"#VALUE!"}},{"$f":"Tabel!$K$106&$A100&$V100&Tabel!$K$109","v":{"$error":"#VALUE!"}},{"$error":"#VALUE!"}]
[{"$f":"gastenlijst[[#This Row],[Postcode-GSM]]","v":{"$error":"#VALUE!"}},{"$error":"#VALUE!"},{"$error":"#VALUE!"},{"$error":"#VALUE!"},{"$error":"#VALUE!"},{"$error":"#VALUE!"},{"$error":"#VALUE!"},{"$f":"VLOOKUP(B101,Tabel!$K$3:$L$109,2,FALSE)","v":{"$error":"#VALUE!"}},{"$f":"VLOOKUP(C101,Tabel!$K$3:$L$109,2,FALSE)","v":{"$error":"#VALUE!"}},{"$f":"VLOOKUP(D101,Tabel!$K$3:$L$109,2,FALSE)","v":{"$error":"#VALUE!"}},{"$f":"VLOOKUP(E101,Tabel!$K$3:$L$109,2,FALSE)","v":{"$error":"#VALUE!"}},{"$f":"VLOOKUP(F101,Tabel!$K$3:$L$109,2,FALSE)","v":{"$error":"#VALUE!"}},{"$f":"VLOOKUP(G101,Tabel!$K$3:$L$109,2,FALSE)","v":{"$error":"#VALUE!"}},{"$error":"#VALUE!"},{"$error":"#VALUE!"},{"$error":"#VALUE!"},{"$error":"#VALUE!"},{"$error":"#VALUE!"},{"$error":"#VALUE!"},{"$error":"#VALUE!"},{"$error":"#VALUE!"},{"$f":"VLOOKUP($U101,Tabel!$J$3:$K$109,2,FALSE)","v":{"$error":"#VALUE!"}},{"$f":"Tabel!$K$106&$A101&$V101&Tabel!$K$109","v":{"$error":"#VALUE!"}},{"$error":"#VALUE!"}]
[{"$f":"gastenlijst[[#This Row],[Postcode-GSM]]","v":{"$error":"#VALUE!"}},{"$error":"#VALUE!"},{"$error":"#VALUE!"},{"$error":"#VALUE!"},{"$error":"#VALUE!"},{"$error":"#VALUE!"},{"$error":"#VALUE!"},{"$f":"VLOOKUP(B102,Tabel!$K$3:$L$109,2,FALSE)","v":{"$error":"#VALUE!"}},{"$f":"VLOOKUP(C102,Tabel!$K$3:$L$109,2,FALSE)","v":{"$error":"#VALUE!"}},{"$f":"VLOOKUP(D102,Tabel!$K$3:$L$109,2,FALSE)","v":{"$error":"#VALUE!"}},{"$f":"VLOOKUP(E102,Tabel!$K$3:$L$109,2,FALSE)","v":{"$error":"#VALUE!"}},{"$f":"VLOOKUP(F102,Tabel!$K$3:$L$109,2,FALSE)","v":{"$error":"#VALUE!"}},{"$f":"VLOOKUP(G102,Tabel!$K$3:$L$109,2,FALSE)","v":{"$error":"#VALUE!"}},{"$error":"#VALUE!"},{"$error":"#VALUE!"},{"$error":"#VALUE!"},{"$error":"#VALUE!"},{"$error":"#VALUE!"},{"$error":"#VALUE!"},{"$error":"#VALUE!"},{"$error":"#VALUE!"},{"$f":"VLOOKUP($U102,Tabel!$J$3:$K$109,2,FALSE)","v":{"$error":"#VALUE!"}},{"$f":"Tabel!$K$106&$A102&$V102&Tabel!$K$109","v":{"$error":"#VALUE!"}},{"$error":"#VALUE!"}]
[{"$f":"gastenlijst[[#This Row],[Postcode-GSM]]","v":{"$error":"#VALUE!"}},{"$error":"#VALUE!"},{"$error":"#VALUE!"},{"$error":"#VALUE!"},{"$error":"#VALUE!"},{"$error":"#VALUE!"},{"$error":"#VALUE!"},{"$f":"VLOOKUP(B103,Tabel!$K$3:$L$109,2,FALSE)","v":{"$error":"#VALUE!"}},{"$f":"VLOOKUP(C103,Tabel!$K$3:$L$109,2,FALSE)","v":{"$error":"#VALUE!"}},{"$f":"VLOOKUP(D103,Tabel!$K$3:$L$109,2,FALSE)","v":{"$error":"#VALUE!"}},{"$f":"VLOOKUP(E103,Tabel!$K$3:$L$109,2,FALSE)","v":{"$error":"#VALUE!"}},{"$f":"VLOOKUP(F103,Tabel!$K$3:$L$109,2,FALSE)","v":{"$error":"#VALUE!"}},{"$f":"VLOOKUP(G103,Tabel!$K$3:$L$109,2,FALSE)","v":{"$error":"#VALUE!"}},{"$error":"#VALUE!"},{"$error":"#VALUE!"},{"$error":"#VALUE!"},{"$error":"#VALUE!"},{"$error":"#VALUE!"},{"$error":"#VALUE!"},{"$error":"#VALUE!"},{"$error":"#VALUE!"},{"$f":"VLOOKUP($U103,Tabel!$J$3:$K$109,2,FALSE)","v":{"$error":"#VALUE!"}},{"$f":"Tabel!$K$106&$A103&$V103&Tabel!$K$109","v":{"$error":"#VALUE!"}},{"$error":"#VALUE!"}]
[{"$f":"gastenlijst[[#This Row],[Postcode-GSM]]","v":{"$error":"#VALUE!"}},{"$error":"#VALUE!"},{"$error":"#VALUE!"},{"$error":"#VALUE!"},{"$error":"#VALUE!"},{"$error":"#VALUE!"},{"$error":"#VALUE!"},{"$f":"VLOOKUP(B104,Tabel!$K$3:$L$109,2,FALSE)","v":{"$error":"#VALUE!"}},{"$f":"VLOOKUP(C104,Tabel!$K$3:$L$109,2,FALSE)","v":{"$error":"#VALUE!"}},{"$f":"VLOOKUP(D104,Tabel!$K$3:$L$109,2,FALSE)","v":{"$error":"#VALUE!"}},{"$f":"VLOOKUP(E104,Tabel!$K$3:$L$109,2,FALSE)","v":{"$error":"#VALUE!"}},{"$f":"VLOOKUP(F104,Tabel!$K$3:$L$109,2,FALSE)","v":{"$error":"#VALUE!"}},{"$f":"VLOOKUP(G104,Tabel!$K$3:$L$109,2,FALSE)","v":{"$error":"#VALUE!"}},{"$error":"#VALUE!"},{"$error":"#VALUE!"},{"$error":"#VALUE!"},{"$error":"#VALUE!"},{"$error":"#VALUE!"},{"$error":"#VALUE!"},{"$error":"#VALUE!"},{"$error":"#VALUE!"},{"$f":"VLOOKUP($U104,Tabel!$J$3:$K$109,2,FALSE)","v":{"$error":"#VALUE!"}},{"$f":"Tabel!$K$106&$A104&$V104&Tabel!$K$109","v":{"$error":"#VALUE!"}},{"$error":"#VALUE!"}]
[{"$f":"gastenlijst[[#This Row],[Postcode-GSM]]","v":{"$error":"#VALUE!"}},{"$error":"#VALUE!"},{"$error":"#VALUE!"},{"$error":"#VALUE!"},{"$error":"#VALUE!"},{"$error":"#VALUE!"},{"$error":"#VALUE!"},{"$f":"VLOOKUP(B105,Tabel!$K$3:$L$109,2,FALSE)","v":{"$error":"#VALUE!"}},{"$f":"VLOOKUP(C105,Tabel!$K$3:$L$109,2,FALSE)","v":{"$error":"#VALUE!"}},{"$f":"VLOOKUP(D105,Tabel!$K$3:$L$109,2,FALSE)","v":{"$error":"#VALUE!"}},{"$f":"VLOOKUP(E105,Tabel!$K$3:$L$109,2,FALSE)","v":{"$error":"#VALUE!"}},{"$f":"VLOOKUP(F105,Tabel!$K$3:$L$109,2,FALSE)","v":{"$error":"#VALUE!"}},{"$f":"VLOOKUP(G105,Tabel!$K$3:$L$109,2,FALSE)","v":{"$error":"#VALUE!"}},{"$error":"#VALUE!"},{"$error":"#VALUE!"},{"$error":"#VALUE!"},{"$error":"#VALUE!"},{"$error":"#VALUE!"},{"$error":"#VALUE!"},{"$error":"#VALUE!"},{"$error":"#VALUE!"},{"$f":"VLOOKUP($U105,Tabel!$J$3:$K$109,2,FALSE)","v":{"$error":"#VALUE!"}},{"$f":"Tabel!$K$106&$A105&$V105&Tabel!$K$109","v":{"$error":"#VALUE!"}},{"$error":"#VALUE!"}]
[{"$f":"gastenlijst[[#This Row],[Postcode-GSM]]","v":{"$error":"#VALUE!"}},{"$error":"#VALUE!"},{"$error":"#VALUE!"},{"$error":"#VALUE!"},{"$error":"#VALUE!"},{"$error":"#VALUE!"},{"$error":"#VALUE!"},{"$f":"VLOOKUP(B106,Tabel!$K$3:$L$109,2,FALSE)","v":{"$error":"#VALUE!"}},{"$f":"VLOOKUP(C106,Tabel!$K$3:$L$109,2,FALSE)","v":{"$error":"#VALUE!"}},{"$f":"VLOOKUP(D106,Tabel!$K$3:$L$109,2,FALSE)","v":{"$error":"#VALUE!"}},{"$f":"VLOOKUP(E106,Tabel!$K$3:$L$109,2,FALSE)","v":{"$error":"#VALUE!"}},{"$f":"VLOOKUP(F106,Tabel!$K$3:$L$109,2,FALSE)","v":{"$error":"#VALUE!"}},{"$f":"VLOOKUP(G106,Tabel!$K$3:$L$109,2,FALSE)","v":{"$error":"#VALUE!"}},{"$error":"#VALUE!"},{"$error":"#VALUE!"},{"$error":"#VALUE!"},{"$error":"#VALUE!"},{"$error":"#VALUE!"},{"$error":"#VALUE!"},{"$error":"#VALUE!"},{"$error":"#VALUE!"},{"$f":"VLOOKUP($U106,Tabel!$J$3:$K$109,2,FALSE)","v":{"$error":"#VALUE!"}},{"$f":"Tabel!$K$106&$A106&$V106&Tabel!$K$109","v":{"$error":"#VALUE!"}},{"$error":"#VALUE!"}]
[{"$f":"gastenlijst[[#This Row],[Postcode-GSM]]","v":{"$error":"#VALUE!"}},{"$error":"#VALUE!"},{"$error":"#VALUE!"},{"$error":"#VALUE!"},{"$error":"#VALUE!"},{"$error":"#VALUE!"},{"$error":"#VALUE!"},{"$f":"VLOOKUP(B107,Tabel!$K$3:$L$109,2,FALSE)","v":{"$error":"#VALUE!"}},{"$f":"VLOOKUP(C107,Tabel!$K$3:$L$109,2,FALSE)","v":{"$error":"#VALUE!"}},{"$f":"VLOOKUP(D107,Tabel!$K$3:$L$109,2,FALSE)","v":{"$error":"#VALUE!"}},{"$f":"VLOOKUP(E107,Tabel!$K$3:$L$109,2,FALSE)","v":{"$error":"#VALUE!"}},{"$f":"VLOOKUP(F107,Tabel!$K$3:$L$109,2,FALSE)","v":{"$error":"#VALUE!"}},{"$f":"VLOOKUP(G107,Tabel!$K$3:$L$109,2,FALSE)","v":{"$error":"#VALUE!"}},{"$error":"#VALUE!"},{"$error":"#VALUE!"},{"$error":"#VALUE!"},{"$error":"#VALUE!"},{"$error":"#VALUE!"},{"$error":"#VALUE!"},{"$error":"#VALUE!"},{"$error":"#VALUE!"},{"$f":"VLOOKUP($U107,Tabel!$J$3:$K$109,2,FALSE)","v":{"$error":"#VALUE!"}},{"$f":"Tabel!$K$106&$A107&$V107&Tabel!$K$109","v":{"$error":"#VALUE!"}},{"$error":"#VALUE!"}]
[{"$f":"gastenlijst[[#This Row],[Postcode-GSM]]","v":{"$error":"#VALUE!"}},{"$error":"#VALUE!"},{"$error":"#VALUE!"},{"$error":"#VALUE!"},{"$error":"#VALUE!"},{"$error":"#VALUE!"},{"$error":"#VALUE!"},{"$f":"VLOOKUP(B108,Tabel!$K$3:$L$109,2,FALSE)","v":{"$error":"#VALUE!"}},{"$f":"VLOOKUP(C108,Tabel!$K$3:$L$109,2,FALSE)","v":{"$error":"#VALUE!"}},{"$f":"VLOOKUP(D108,Tabel!$K$3:$L$109,2,FALSE)","v":{"$error":"#VALUE!"}},{"$f":"VLOOKUP(E108,Tabel!$K$3:$L$109,2,FALSE)","v":{"$error":"#VALUE!"}},{"$f":"VLOOKUP(F108,Tabel!$K$3:$L$109,2,FALSE)","v":{"$error":"#VALUE!"}},{"$f":"VLOOKUP(G108,Tabel!$K$3:$L$109,2,FALSE)","v":{"$error":"#VALUE!"}},{"$error":"#VALUE!"},{"$error":"#VALUE!"},{"$error":"#VALUE!"},{"$error":"#VALUE!"},{"$error":"#VALUE!"},{"$error":"#VALUE!"},{"$error":"#VALUE!"},{"$error":"#VALUE!"},{"$f":"VLOOKUP($U108,Tabel!$J$3:$K$109,2,FALSE)","v":{"$error":"#VALUE!"}},{"$f":"Tabel!$K$106&$A108&$V108&Tabel!$K$109","v":{"$error":"#VALUE!"}},{"$error":"#VALUE!"}]
[{"$f":"gastenlijst[[#This Row],[Postcode-GSM]]","v":{"$error":"#VALUE!"}},{"$error":"#VALUE!"},{"$error":"#VALUE!"},{"$error":"#VALUE!"},{"$error":"#VALUE!"},{"$error":"#VALUE!"},{"$error":"#VALUE!"},{"$f":"VLOOKUP(B109,Tabel!$K$3:$L$109,2,FALSE)","v":{"$error":"#VALUE!"}},{"$f":"VLOOKUP(C109,Tabel!$K$3:$L$109,2,FALSE)","v":{"$error":"#VALUE!"}},{"$f":"VLOOKUP(D109,Tabel!$K$3:$L$109,2,FALSE)","v":{"$error":"#VALUE!"}},{"$f":"VLOOKUP(E109,Tabel!$K$3:$L$109,2,FALSE)","v":{"$error":"#VALUE!"}},{"$f":"VLOOKUP(F109,Tabel!$K$3:$L$109,2,FALSE)","v":{"$error":"#VALUE!"}},{"$f":"VLOOKUP(G109,Tabel!$K$3:$L$109,2,FALSE)","v":{"$error":"#VALUE!"}},{"$error":"#VALUE!"},{"$error":"#VALUE!"},{"$error":"#VALUE!"},{"$error":"#VALUE!"},{"$error":"#VALUE!"},{"$error":"#VALUE!"},{"$error":"#VALUE!"},{"$error":"#VALUE!"},{"$f":"VLOOKUP($U109,Tabel!$J$3:$K$109,2,FALSE)","v":{"$error":"#VALUE!"}},{"$f":"Tabel!$K$106&$A109&$V109&Tabel!$K$109","v":{"$error":"#VALUE!"}},{"$error":"#VALUE!"}]
[{"$f":"gastenlijst[[#This Row],[Postcode-GSM]]","v":{"$error":"#VALUE!"}},{"$error":"#VALUE!"},{"$error":"#VALUE!"},{"$error":"#VALUE!"},{"$error":"#VALUE!"},{"$error":"#VALUE!"},{"$error":"#VALUE!"},{"$f":"VLOOKUP(B110,Tabel!$K$3:$L$109,2,FALSE)","v":{"$error":"#VALUE!"}},{"$f":"VLOOKUP(C110,Tabel!$K$3:$L$109,2,FALSE)","v":{"$error":"#VALUE!"}},{"$f":"VLOOKUP(D110,Tabel!$K$3:$L$109,2,FALSE)","v":{"$error":"#VALUE!"}},{"$f":"VLOOKUP(E110,Tabel!$K$3:$L$109,2,FALSE)","v":{"$error":"#VALUE!"}},{"$f":"VLOOKUP(F110,Tabel!$K$3:$L$109,2,FALSE)","v":{"$error":"#VALUE!"}},{"$f":"VLOOKUP(G110,Tabel!$K$3:$L$109,2,FALSE)","v":{"$error":"#VALUE!"}},{"$error":"#VALUE!"},{"$error":"#VALUE!"},{"$error":"#VALUE!"},{"$error":"#VALUE!"},{"$error":"#VALUE!"},{"$error":"#VALUE!"},{"$error":"#VALUE!"},{"$error":"#VALUE!"},{"$f":"VLOOKUP($U110,Tabel!$J$3:$K$109,2,FALSE)","v":{"$error":"#VALUE!"}},{"$f":"Tabel!$K$106&$A110&$V110&Tabel!$K$109","v":{"$error":"#VALUE!"}},{"$error":"#VALUE!"}]
[{"$f":"gastenlijst[[#This Row],[Postcode-GSM]]","v":{"$error":"#VALUE!"}},{"$error":"#VALUE!"},{"$error":"#VALUE!"},{"$error":"#VALUE!"},{"$error":"#VALUE!"},{"$error":"#VALUE!"},{"$error":"#VALUE!"},{"$f":"VLOOKUP(B111,Tabel!$K$3:$L$109,2,FALSE)","v":{"$error":"#VALUE!"}},{"$f":"VLOOKUP(C111,Tabel!$K$3:$L$109,2,FALSE)","v":{"$error":"#VALUE!"}},{"$f":"VLOOKUP(D111,Tabel!$K$3:$L$109,2,FALSE)","v":{"$error":"#VALUE!"}},{"$f":"VLOOKUP(E111,Tabel!$K$3:$L$109,2,FALSE)","v":{"$error":"#VALUE!"}},{"$f":"VLOOKUP(F111,Tabel!$K$3:$L$109,2,FALSE)","v":{"$error":"#VALUE!"}},{"$f":"VLOOKUP(G111,Tabel!$K$3:$L$109,2,FALSE)","v":{"$error":"#VALUE!"}},{"$error":"#VALUE!"},{"$error":"#VALUE!"},{"$error":"#VALUE!"},{"$error":"#VALUE!"},{"$error":"#VALUE!"},{"$error":"#VALUE!"},{"$error":"#VALUE!"},{"$error":"#VALUE!"},{"$f":"VLOOKUP($U111,Tabel!$J$3:$K$109,2,FALSE)","v":{"$error":"#VALUE!"}},{"$f":"Tabel!$K$106&$A111&$V111&Tabel!$K$109","v":{"$error":"#VALUE!"}},{"$error":"#VALUE!"}]
[{"$f":"gastenlijst[[#This Row],[Postcode-GSM]]","v":{"$error":"#VALUE!"}},{"$error":"#VALUE!"},{"$error":"#VALUE!"},{"$error":"#VALUE!"},{"$error":"#VALUE!"},{"$error":"#VALUE!"},{"$error":"#VALUE!"},{"$f":"VLOOKUP(B112,Tabel!$K$3:$L$109,2,FALSE)","v":{"$error":"#VALUE!"}},{"$f":"VLOOKUP(C112,Tabel!$K$3:$L$109,2,FALSE)","v":{"$error":"#VALUE!"}},{"$f":"VLOOKUP(D112,Tabel!$K$3:$L$109,2,FALSE)","v":{"$error":"#VALUE!"}},{"$f":"VLOOKUP(E112,Tabel!$K$3:$L$109,2,FALSE)","v":{"$error":"#VALUE!"}},{"$f":"VLOOKUP(F112,Tabel!$K$3:$L$109,2,FALSE)","v":{"$error":"#VALUE!"}},{"$f":"VLOOKUP(G112,Tabel!$K$3:$L$109,2,FALSE)","v":{"$error":"#VALUE!"}},{"$error":"#VALUE!"},{"$error":"#VALUE!"},{"$error":"#VALUE!"},{"$error":"#VALUE!"},{"$error":"#VALUE!"},{"$error":"#VALUE!"},{"$error":"#VALUE!"},{"$error":"#VALUE!"},{"$f":"VLOOKUP($U112,Tabel!$J$3:$K$109,2,FALSE)","v":{"$error":"#VALUE!"}},{"$f":"Tabel!$K$106&$A112&$V112&Tabel!$K$109","v":{"$error":"#VALUE!"}},{"$error":"#VALUE!"}]
[{"$f":"gastenlijst[[#This Row],[Postcode-GSM]]","v":{"$error":"#VALUE!"}},{"$error":"#VALUE!"},{"$error":"#VALUE!"},{"$error":"#VALUE!"},{"$error":"#VALUE!"},{"$error":"#VALUE!"},{"$error":"#VALUE!"},{"$f":"VLOOKUP(B113,Tabel!$K$3:$L$109,2,FALSE)","v":{"$error":"#VALUE!"}},{"$f":"VLOOKUP(C113,Tabel!$K$3:$L$109,2,FALSE)","v":{"$error":"#VALUE!"}},{"$f":"VLOOKUP(D113,Tabel!$K$3:$L$109,2,FALSE)","v":{"$error":"#VALUE!"}},{"$f":"VLOOKUP(E113,Tabel!$K$3:$L$109,2,FALSE)","v":{"$error":"#VALUE!"}},{"$f":"VLOOKUP(F113,Tabel!$K$3:$L$109,2,FALSE)","v":{"$error":"#VALUE!"}},{"$f":"VLOOKUP(G113,Tabel!$K$3:$L$109,2,FALSE)","v":{"$error":"#VALUE!"}},{"$error":"#VALUE!"},{"$error":"#VALUE!"},{"$error":"#VALUE!"},{"$error":"#VALUE!"},{"$error":"#VALUE!"},{"$error":"#VALUE!"},{"$error":"#VALUE!"},{"$error":"#VALUE!"},{"$f":"VLOOKUP($U113,Tabel!$J$3:$K$109,2,FALSE)","v":{"$error":"#VALUE!"}},{"$f":"Tabel!$K$106&$A113&$V113&Tabel!$K$109","v":{"$error":"#VALUE!"}},{"$error":"#VALUE!"}]
[{"$f":"gastenlijst[[#This Row],[Postcode-GSM]]","v":{"$error":"#VALUE!"}},{"$error":"#VALUE!"},{"$error":"#VALUE!"},{"$error":"#VALUE!"},{"$error":"#VALUE!"},{"$error":"#VALUE!"},{"$error":"#VALUE!"},{"$f":"VLOOKUP(B114,Tabel!$K$3:$L$109,2,FALSE)","v":{"$error":"#VALUE!"}},{"$f":"VLOOKUP(C114,Tabel!$K$3:$L$109,2,FALSE)","v":{"$error":"#VALUE!"}},{"$f":"VLOOKUP(D114,Tabel!$K$3:$L$109,2,FALSE)","v":{"$error":"#VALUE!"}},{"$f":"VLOOKUP(E114,Tabel!$K$3:$L$109,2,FALSE)","v":{"$error":"#VALUE!"}},{"$f":"VLOOKUP(F114,Tabel!$K$3:$L$109,2,FALSE)","v":{"$error":"#VALUE!"}},{"$f":"VLOOKUP(G114,Tabel!$K$3:$L$109,2,FALSE)","v":{"$error":"#VALUE!"}},{"$error":"#VALUE!"},{"$error":"#VALUE!"},{"$error":"#VALUE!"},{"$error":"#VALUE!"},{"$error":"#VALUE!"},{"$error":"#VALUE!"},{"$error":"#VALUE!"},{"$error":"#VALUE!"},{"$f":"VLOOKUP($U114,Tabel!$J$3:$K$109,2,FALSE)","v":{"$error":"#VALUE!"}},{"$f":"Tabel!$K$106&$A114&$V114&Tabel!$K$109","v":{"$error":"#VALUE!"}},{"$error":"#VALUE!"}]
[{"$f":"gastenlijst[[#This Row],[Postcode-GSM]]","v":{"$error":"#VALUE!"}},{"$error":"#VALUE!"},{"$error":"#VALUE!"},{"$error":"#VALUE!"},{"$error":"#VALUE!"},{"$error":"#VALUE!"},{"$error":"#VALUE!"},{"$f":"VLOOKUP(B115,Tabel!$K$3:$L$109,2,FALSE)","v":{"$error":"#VALUE!"}},{"$f":"VLOOKUP(C115,Tabel!$K$3:$L$109,2,FALSE)","v":{"$error":"#VALUE!"}},{"$f":"VLOOKUP(D115,Tabel!$K$3:$L$109,2,FALSE)","v":{"$error":"#VALUE!"}},{"$f":"VLOOKUP(E115,Tabel!$K$3:$L$109,2,FALSE)","v":{"$error":"#VALUE!"}},{"$f":"VLOOKUP(F115,Tabel!$K$3:$L$109,2,FALSE)","v":{"$error":"#VALUE!"}},{"$f":"VLOOKUP(G115,Tabel!$K$3:$L$109,2,FALSE)","v":{"$error":"#VALUE!"}},{"$error":"#VALUE!"},{"$error":"#VALUE!"},{"$error":"#VALUE!"},{"$error":"#VALUE!"},{"$error":"#VALUE!"},{"$error":"#VALUE!"},{"$error":"#VALUE!"},{"$error":"#VALUE!"},{"$f":"VLOOKUP($U115,Tabel!$J$3:$K$109,2,FALSE)","v":{"$error":"#VALUE!"}},{"$f":"Tabel!$K$106&$A115&$V115&Tabel!$K$109","v":{"$error":"#VALUE!"}},{"$error":"#VALUE!"}]
[{"$f":"gastenlijst[[#This Row],[Postcode-GSM]]","v":{"$error":"#VALUE!"}},{"$error":"#VALUE!"},{"$error":"#VALUE!"},{"$error":"#VALUE!"},{"$error":"#VALUE!"},{"$error":"#VALUE!"},{"$error":"#VALUE!"},{"$f":"VLOOKUP(B116,Tabel!$K$3:$L$109,2,FALSE)","v":{"$error":"#VALUE!"}},{"$f":"VLOOKUP(C116,Tabel!$K$3:$L$109,2,FALSE)","v":{"$error":"#VALUE!"}},{"$f":"VLOOKUP(D116,Tabel!$K$3:$L$109,2,FALSE)","v":{"$error":"#VALUE!"}},{"$f":"VLOOKUP(E116,Tabel!$K$3:$L$109,2,FALSE)","v":{"$error":"#VALUE!"}},{"$f":"VLOOKUP(F116,Tabel!$K$3:$L$109,2,FALSE)","v":{"$error":"#VALUE!"}},{"$f":"VLOOKUP(G116,Tabel!$K$3:$L$109,2,FALSE)","v":{"$error":"#VALUE!"}},{"$error":"#VALUE!"},{"$error":"#VALUE!"},{"$error":"#VALUE!"},{"$error":"#VALUE!"},{"$error":"#VALUE!"},{"$error":"#VALUE!"},{"$error":"#VALUE!"},{"$error":"#VALUE!"},{"$f":"VLOOKUP($U116,Tabel!$J$3:$K$109,2,FALSE)","v":{"$error":"#VALUE!"}},{"$f":"Tabel!$K$106&$A116&$V116&Tabel!$K$109","v":{"$error":"#VALUE!"}},{"$error":"#VALUE!"}]
[{"$f":"gastenlijst[[#This Row],[Postcode-GSM]]","v":{"$error":"#VALUE!"}},{"$error":"#VALUE!"},{"$error":"#VALUE!"},{"$error":"#VALUE!"},{"$error":"#VALUE!"},{"$error":"#VALUE!"},{"$error":"#VALUE!"},{"$f":"VLOOKUP(B117,Tabel!$K$3:$L$109,2,FALSE)","v":{"$error":"#VALUE!"}},{"$f":"VLOOKUP(C117,Tabel!$K$3:$L$109,2,FALSE)","v":{"$error":"#VALUE!"}},{"$f":"VLOOKUP(D117,Tabel!$K$3:$L$109,2,FALSE)","v":{"$error":"#VALUE!"}},{"$f":"VLOOKUP(E117,Tabel!$K$3:$L$109,2,FALSE)","v":{"$error":"#VALUE!"}},{"$f":"VLOOKUP(F117,Tabel!$K$3:$L$109,2,FALSE)","v":{"$error":"#VALUE!"}},{"$f":"VLOOKUP(G117,Tabel!$K$3:$L$109,2,FALSE)","v":{"$error":"#VALUE!"}},{"$error":"#VALUE!"},{"$error":"#VALUE!"},{"$error":"#VALUE!"},{"$error":"#VALUE!"},{"$error":"#VALUE!"},{"$error":"#VALUE!"},{"$error":"#VALUE!"},{"$error":"#VALUE!"},{"$f":"VLOOKUP($U117,Tabel!$J$3:$K$109,2,FALSE)","v":{"$error":"#VALUE!"}},{"$f":"Tabel!$K$106&$A117&$V117&Tabel!$K$109","v":{"$error":"#VALUE!"}},{"$error":"#VALUE!"}]
[{"$f":"gastenlijst[[#This Row],[Postcode-GSM]]","v":{"$error":"#VALUE!"}},{"$error":"#VALUE!"},{"$error":"#VALUE!"},{"$error":"#VALUE!"},{"$error":"#VALUE!"},{"$error":"#VALUE!"},{"$error":"#VALUE!"},{"$f":"VLOOKUP(B118,Tabel!$K$3:$L$109,2,FALSE)","v":{"$error":"#VALUE!"}},{"$f":"VLOOKUP(C118,Tabel!$K$3:$L$109,2,FALSE)","v":{"$error":"#VALUE!"}},{"$f":"VLOOKUP(D118,Tabel!$K$3:$L$109,2,FALSE)","v":{"$error":"#VALUE!"}},{"$f":"VLOOKUP(E118,Tabel!$K$3:$L$109,2,FALSE)","v":{"$error":"#VALUE!"}},{"$f":"VLOOKUP(F118,Tabel!$K$3:$L$109,2,FALSE)","v":{"$error":"#VALUE!"}},{"$f":"VLOOKUP(G118,Tabel!$K$3:$L$109,2,FALSE)","v":{"$error":"#VALUE!"}},{"$error":"#VALUE!"},{"$error":"#VALUE!"},{"$error":"#VALUE!"},{"$error":"#VALUE!"},{"$error":"#VALUE!"},{"$error":"#VALUE!"},{"$error":"#VALUE!"},{"$error":"#VALUE!"},{"$f":"VLOOKUP($U118,Tabel!$J$3:$K$109,2,FALSE)","v":{"$error":"#VALUE!"}},{"$f":"Tabel!$K$106&$A118&$V118&Tabel!$K$109","v":{"$error":"#VALUE!"}},{"$error":"#VALUE!"}]
[{"$f":"gastenlijst[[#This Row],[Postcode-GSM]]","v":{"$error":"#VALUE!"}},{"$error":"#VALUE!"},{"$error":"#VALUE!"},{"$error":"#VALUE!"},{"$error":"#VALUE!"},{"$error":"#VALUE!"},{"$error":"#VALUE!"},{"$f":"VLOOKUP(B119,Tabel!$K$3:$L$109,2,FALSE)","v":{"$error":"#VALUE!"}},{"$f":"VLOOKUP(C119,Tabel!$K$3:$L$109,2,FALSE)","v":{"$error":"#VALUE!"}},{"$f":"VLOOKUP(D119,Tabel!$K$3:$L$109,2,FALSE)","v":{"$error":"#VALUE!"}},{"$f":"VLOOKUP(E119,Tabel!$K$3:$L$109,2,FALSE)","v":{"$error":"#VALUE!"}},{"$f":"VLOOKUP(F119,Tabel!$K$3:$L$109,2,FALSE)","v":{"$error":"#VALUE!"}},{"$f":"VLOOKUP(G119,Tabel!$K$3:$L$109,2,FALSE)","v":{"$error":"#VALUE!"}},{"$error":"#VALUE!"},{"$error":"#VALUE!"},{"$error":"#VALUE!"},{"$error":"#VALUE!"},{"$error":"#VALUE!"},{"$error":"#VALUE!"},{"$error":"#VALUE!"},{"$error":"#VALUE!"},{"$f":"VLOOKUP($U119,Tabel!$J$3:$K$109,2,FALSE)","v":{"$error":"#VALUE!"}},{"$f":"Tabel!$K$106&$A119&$V119&Tabel!$K$109","v":{"$error":"#VALUE!"}},{"$error":"#VALUE!"}]
[{"$f":"gastenlijst[[#This Row],[Postcode-GSM]]","v":{"$error":"#VALUE!"}},{"$error":"#VALUE!"},{"$error":"#VALUE!"},{"$error":"#VALUE!"},{"$error":"#VALUE!"},{"$error":"#VALUE!"},{"$error":"#VALUE!"},{"$f":"VLOOKUP(B120,Tabel!$K$3:$L$109,2,FALSE)","v":{"$error":"#VALUE!"}},{"$f":"VLOOKUP(C120,Tabel!$K$3:$L$109,2,FALSE)","v":{"$error":"#VALUE!"}},{"$f":"VLOOKUP(D120,Tabel!$K$3:$L$109,2,FALSE)","v":{"$error":"#VALUE!"}},{"$f":"VLOOKUP(E120,Tabel!$K$3:$L$109,2,FALSE)","v":{"$error":"#VALUE!"}},{"$f":"VLOOKUP(F120,Tabel!$K$3:$L$109,2,FALSE)","v":{"$error":"#VALUE!"}},{"$f":"VLOOKUP(G120,Tabel!$K$3:$L$109,2,FALSE)","v":{"$error":"#VALUE!"}},{"$error":"#VALUE!"},{"$error":"#VALUE!"},{"$error":"#VALUE!"},{"$error":"#VALUE!"},{"$error":"#VALUE!"},{"$error":"#VALUE!"},{"$error":"#VALUE!"},{"$error":"#VALUE!"},{"$f":"VLOOKUP($U120,Tabel!$J$3:$K$109,2,FALSE)","v":{"$error":"#VALUE!"}},{"$f":"Tabel!$K$106&$A120&$V120&Tabel!$K$109","v":{"$error":"#VALUE!"}},{"$error":"#VALUE!"}]
[{"$f":"gastenlijst[[#This Row],[Postcode-GSM]]","v":{"$error":"#VALUE!"}},{"$error":"#VALUE!"},{"$error":"#VALUE!"},{"$error":"#VALUE!"},{"$error":"#VALUE!"},{"$error":"#VALUE!"},{"$error":"#VALUE!"},{"$f":"VLOOKUP(B121,Tabel!$K$3:$L$109,2,FALSE)","v":{"$error":"#VALUE!"}},{"$f":"VLOOKUP(C121,Tabel!$K$3:$L$109,2,FALSE)","v":{"$error":"#VALUE!"}},{"$f":"VLOOKUP(D121,Tabel!$K$3:$L$109,2,FALSE)","v":{"$error":"#VALUE!"}},{"$f":"VLOOKUP(E121,Tabel!$K$3:$L$109,2,FALSE)","v":{"$error":"#VALUE!"}},{"$f":"VLOOKUP(F121,Tabel!$K$3:$L$109,2,FALSE)","v":{"$error":"#VALUE!"}},{"$f":"VLOOKUP(G121,Tabel!$K$3:$L$109,2,FALSE)","v":{"$error":"#VALUE!"}},{"$error":"#VALUE!"},{"$error":"#VALUE!"},{"$error":"#VALUE!"},{"$error":"#VALUE!"},{"$error":"#VALUE!"},{"$error":"#VALUE!"},{"$error":"#VALUE!"},{"$error":"#VALUE!"},{"$f":"VLOOKUP($U121,Tabel!$J$3:$K$109,2,FALSE)","v":{"$error":"#VALUE!"}},{"$f":"Tabel!$K$106&$A121&$V121&Tabel!$K$109","v":{"$error":"#VALUE!"}},{"$error":"#VALUE!"}]
[{"$f":"gastenlijst[[#This Row],[Postcode-GSM]]","v":{"$error":"#VALUE!"}},{"$error":"#VALUE!"},{"$error":"#VALUE!"},{"$error":"#VALUE!"},{"$error":"#VALUE!"},{"$error":"#VALUE!"},{"$error":"#VALUE!"},{"$f":"VLOOKUP(B122,Tabel!$K$3:$L$109,2,FALSE)","v":{"$error":"#VALUE!"}},{"$f":"VLOOKUP(C122,Tabel!$K$3:$L$109,2,FALSE)","v":{"$error":"#VALUE!"}},{"$f":"VLOOKUP(D122,Tabel!$K$3:$L$109,2,FALSE)","v":{"$error":"#VALUE!"}},{"$f":"VLOOKUP(E122,Tabel!$K$3:$L$109,2,FALSE)","v":{"$error":"#VALUE!"}},{"$f":"VLOOKUP(F122,Tabel!$K$3:$L$109,2,FALSE)","v":{"$error":"#VALUE!"}},{"$f":"VLOOKUP(G122,Tabel!$K$3:$L$109,2,FALSE)","v":{"$error":"#VALUE!"}},{"$error":"#VALUE!"},{"$error":"#VALUE!"},{"$error":"#VALUE!"},{"$error":"#VALUE!"},{"$error":"#VALUE!"},{"$error":"#VALUE!"},{"$error":"#VALUE!"},{"$error":"#VALUE!"},{"$f":"VLOOKUP($U122,Tabel!$J$3:$K$109,2,FALSE)","v":{"$error":"#VALUE!"}},{"$f":"Tabel!$K$106&$A122&$V122&Tabel!$K$109","v":{"$error":"#VALUE!"}},{"$error":"#VALUE!"}]
[{"$f":"gastenlijst[[#This Row],[Postcode-GSM]]","v":{"$error":"#VALUE!"}},{"$error":"#VALUE!"},{"$error":"#VALUE!"},{"$error":"#VALUE!"},{"$error":"#VALUE!"},{"$error":"#VALUE!"},{"$error":"#VALUE!"},{"$f":"VLOOKUP(B123,Tabel!$K$3:$L$109,2,FALSE)","v":{"$error":"#VALUE!"}},{"$f":"VLOOKUP(C123,Tabel!$K$3:$L$109,2,FALSE)","v":{"$error":"#VALUE!"}},{"$f":"VLOOKUP(D123,Tabel!$K$3:$L$109,2,FALSE)","v":{"$error":"#VALUE!"}},{"$f":"VLOOKUP(E123,Tabel!$K$3:$L$109,2,FALSE)","v":{"$error":"#VALUE!"}},{"$f":"VLOOKUP(F123,Tabel!$K$3:$L$109,2,FALSE)","v":{"$error":"#VALUE!"}},{"$f":"VLOOKUP(G123,Tabel!$K$3:$L$109,2,FALSE)","v":{"$error":"#VALUE!"}},{"$error":"#VALUE!"},{"$error":"#VALUE!"},{"$error":"#VALUE!"},{"$error":"#VALUE!"},{"$error":"#VALUE!"},{"$error":"#VALUE!"},{"$error":"#VALUE!"},{"$error":"#VALUE!"},{"$f":"VLOOKUP($U123,Tabel!$J$3:$K$109,2,FALSE)","v":{"$error":"#VALUE!"}},{"$f":"Tabel!$K$106&$A123&$V123&Tabel!$K$109","v":{"$error":"#VALUE!"}},{"$error":"#VALUE!"}]
[{"$f":"gastenlijst[[#This Row],[Postcode-GSM]]","v":{"$error":"#VALUE!"}},{"$error":"#VALUE!"},{"$error":"#VALUE!"},{"$error":"#VALUE!"},{"$error":"#VALUE!"},{"$error":"#VALUE!"},{"$error":"#VALUE!"},{"$f":"VLOOKUP(B124,Tabel!$K$3:$L$109,2,FALSE)","v":{"$error":"#VALUE!"}},{"$f":"VLOOKUP(C124,Tabel!$K$3:$L$109,2,FALSE)","v":{"$error":"#VALUE!"}},{"$f":"VLOOKUP(D124,Tabel!$K$3:$L$109,2,FALSE)","v":{"$error":"#VALUE!"}},{"$f":"VLOOKUP(E124,Tabel!$K$3:$L$109,2,FALSE)","v":{"$error":"#VALUE!"}},{"$f":"VLOOKUP(F124,Tabel!$K$3:$L$109,2,FALSE)","v":{"$error":"#VALUE!"}},{"$f":"VLOOKUP(G124,Tabel!$K$3:$L$109,2,FALSE)","v":{"$error":"#VALUE!"}},{"$error":"#VALUE!"},{"$error":"#VALUE!"},{"$error":"#VALUE!"},{"$error":"#VALUE!"},{"$error":"#VALUE!"},{"$error":"#VALUE!"},{"$error":"#VALUE!"},{"$error":"#VALUE!"},{"$f":"VLOOKUP($U124,Tabel!$J$3:$K$109,2,FALSE)","v":{"$error":"#VALUE!"}},{"$f":"Tabel!$K$106&$A124&$V124&Tabel!$K$109","v":{"$error":"#VALUE!"}},{"$error":"#VALUE!"}]
[{"$f":"gastenlijst[[#This Row],[Postcode-GSM]]","v":{"$error":"#VALUE!"}},{"$error":"#VALUE!"},{"$error":"#VALUE!"},{"$error":"#VALUE!"},{"$error":"#VALUE!"},{"$error":"#VALUE!"},{"$error":"#VALUE!"},{"$f":"VLOOKUP(B125,Tabel!$K$3:$L$109,2,FALSE)","v":{"$error":"#VALUE!"}},{"$f":"VLOOKUP(C125,Tabel!$K$3:$L$109,2,FALSE)","v":{"$error":"#VALUE!"}},{"$f":"VLOOKUP(D125,Tabel!$K$3:$L$109,2,FALSE)","v":{"$error":"#VALUE!"}},{"$f":"VLOOKUP(E125,Tabel!$K$3:$L$109,2,FALSE)","v":{"$error":"#VALUE!"}},{"$f":"VLOOKUP(F125,Tabel!$K$3:$L$109,2,FALSE)","v":{"$error":"#VALUE!"}},{"$f":"VLOOKUP(G125,Tabel!$K$3:$L$109,2,FALSE)","v":{"$error":"#VALUE!"}},{"$error":"#VALUE!"},{"$error":"#VALUE!"},{"$error":"#VALUE!"},{"$error":"#VALUE!"},{"$error":"#VALUE!"},{"$error":"#VALUE!"},{"$error":"#VALUE!"},{"$error":"#VALUE!"},{"$f":"VLOOKUP($U125,Tabel!$J$3:$K$109,2,FALSE)","v":{"$error":"#VALUE!"}},{"$f":"Tabel!$K$106&$A125&$V125&Tabel!$K$109","v":{"$error":"#VALUE!"}},{"$error":"#VALUE!"}]
[{"$f":"gastenlijst[[#This Row],[Postcode-GSM]]","v":{"$error":"#VALUE!"}},{"$error":"#VALUE!"},{"$error":"#VALUE!"},{"$error":"#VALUE!"},{"$error":"#VALUE!"},{"$error":"#VALUE!"},{"$error":"#VALUE!"},{"$f":"VLOOKUP(B126,Tabel!$K$3:$L$109,2,FALSE)","v":{"$error":"#VALUE!"}},{"$f":"VLOOKUP(C126,Tabel!$K$3:$L$109,2,FALSE)","v":{"$error":"#VALUE!"}},{"$f":"VLOOKUP(D126,Tabel!$K$3:$L$109,2,FALSE)","v":{"$error":"#VALUE!"}},{"$f":"VLOOKUP(E126,Tabel!$K$3:$L$109,2,FALSE)","v":{"$error":"#VALUE!"}},{"$f":"VLOOKUP(F126,Tabel!$K$3:$L$109,2,FALSE)","v":{"$error":"#VALUE!"}},{"$f":"VLOOKUP(G126,Tabel!$K$3:$L$109,2,FALSE)","v":{"$error":"#VALUE!"}},{"$error":"#VALUE!"},{"$error":"#VALUE!"},{"$error":"#VALUE!"},{"$error":"#VALUE!"},{"$error":"#VALUE!"},{"$error":"#VALUE!"},{"$error":"#VALUE!"},{"$error":"#VALUE!"},{"$f":"VLOOKUP($U126,Tabel!$J$3:$K$109,2,FALSE)","v":{"$error":"#VALUE!"}},{"$f":"Tabel!$K$106&$A126&$V126&Tabel!$K$109","v":{"$error":"#VALUE!"}},{"$error":"#VALUE!"}]
[{"$f":"gastenlijst[[#This Row],[Postcode-GSM]]","v":{"$error":"#VALUE!"}},{"$error":"#VALUE!"},{"$error":"#VALUE!"},{"$error":"#VALUE!"},{"$error":"#VALUE!"},{"$error":"#VALUE!"},{"$error":"#VALUE!"},{"$f":"VLOOKUP(B127,Tabel!$K$3:$L$109,2,FALSE)","v":{"$error":"#VALUE!"}},{"$f":"VLOOKUP(C127,Tabel!$K$3:$L$109,2,FALSE)","v":{"$error":"#VALUE!"}},{"$f":"VLOOKUP(D127,Tabel!$K$3:$L$109,2,FALSE)","v":{"$error":"#VALUE!"}},{"$f":"VLOOKUP(E127,Tabel!$K$3:$L$109,2,FALSE)","v":{"$error":"#VALUE!"}},{"$f":"VLOOKUP(F127,Tabel!$K$3:$L$109,2,FALSE)","v":{"$error":"#VALUE!"}},{"$f":"VLOOKUP(G127,Tabel!$K$3:$L$109,2,FALSE)","v":{"$error":"#VALUE!"}},{"$error":"#VALUE!"},{"$error":"#VALUE!"},{"$error":"#VALUE!"},{"$error":"#VALUE!"},{"$error":"#VALUE!"},{"$error":"#VALUE!"},{"$error":"#VALUE!"},{"$error":"#VALUE!"},{"$f":"VLOOKUP($U127,Tabel!$J$3:$K$109,2,FALSE)","v":{"$error":"#VALUE!"}},{"$f":"Tabel!$K$106&$A127&$V127&Tabel!$K$109","v":{"$error":"#VALUE!"}},{"$error":"#VALUE!"}]
[{"$f":"gastenlijst[[#This Row],[Postcode-GSM]]","v":{"$error":"#VALUE!"}},{"$error":"#VALUE!"},{"$error":"#VALUE!"},{"$error":"#VALUE!"},{"$error":"#VALUE!"},{"$error":"#VALUE!"},{"$error":"#VALUE!"},{"$f":"VLOOKUP(B128,Tabel!$K$3:$L$109,2,FALSE)","v":{"$error":"#VALUE!"}},{"$f":"VLOOKUP(C128,Tabel!$K$3:$L$109,2,FALSE)","v":{"$error":"#VALUE!"}},{"$f":"VLOOKUP(D128,Tabel!$K$3:$L$109,2,FALSE)","v":{"$error":"#VALUE!"}},{"$f":"VLOOKUP(E128,Tabel!$K$3:$L$109,2,FALSE)","v":{"$error":"#VALUE!"}},{"$f":"VLOOKUP(F128,Tabel!$K$3:$L$109,2,FALSE)","v":{"$error":"#VALUE!"}},{"$f":"VLOOKUP(G128,Tabel!$K$3:$L$109,2,FALSE)","v":{"$error":"#VALUE!"}},{"$error":"#VALUE!"},{"$error":"#VALUE!"},{"$error":"#VALUE!"},{"$error":"#VALUE!"},{"$error":"#VALUE!"},{"$error":"#VALUE!"},{"$error":"#VALUE!"},{"$error":"#VALUE!"},{"$f":"VLOOKUP($U128,Tabel!$J$3:$K$109,2,FALSE)","v":{"$error":"#VALUE!"}},{"$f":"Tabel!$K$106&$A128&$V128&Tabel!$K$109","v":{"$error":"#VALUE!"}},{"$error":"#VALUE!"}]
[{"$f":"gastenlijst[[#This Row],[Postcode-GSM]]","v":{"$error":"#VALUE!"}},{"$error":"#VALUE!"},{"$error":"#VALUE!"},{"$error":"#VALUE!"},{"$error":"#VALUE!"},{"$error":"#VALUE!"},{"$error":"#VALUE!"},{"$f":"VLOOKUP(B129,Tabel!$K$3:$L$109,2,FALSE)","v":{"$error":"#VALUE!"}},{"$f":"VLOOKUP(C129,Tabel!$K$3:$L$109,2,FALSE)","v":{"$error":"#VALUE!"}},{"$f":"VLOOKUP(D129,Tabel!$K$3:$L$109,2,FALSE)","v":{"$error":"#VALUE!"}},{"$f":"VLOOKUP(E129,Tabel!$K$3:$L$109,2,FALSE)","v":{"$error":"#VALUE!"}},{"$f":"VLOOKUP(F129,Tabel!$K$3:$L$109,2,FALSE)","v":{"$error":"#VALUE!"}},{"$f":"VLOOKUP(G129,Tabel!$K$3:$L$109,2,FALSE)","v":{"$error":"#VALUE!"}},{"$error":"#VALUE!"},{"$error":"#VALUE!"},{"$error":"#VALUE!"},{"$error":"#VALUE!"},{"$error":"#VALUE!"},{"$error":"#VALUE!"},{"$error":"#VALUE!"},{"$error":"#VALUE!"},{"$f":"VLOOKUP($U129,Tabel!$J$3:$K$109,2,FALSE)","v":{"$error":"#VALUE!"}},{"$f":"Tabel!$K$106&$A129&$V129&Tabel!$K$109","v":{"$error":"#VALUE!"}},{"$error":"#VALUE!"}]
[{"$f":"gastenlijst[[#This Row],[Postcode-GSM]]","v":{"$error":"#VALUE!"}},{"$error":"#VALUE!"},{"$error":"#VALUE!"},{"$error":"#VALUE!"},{"$error":"#VALUE!"},{"$error":"#VALUE!"},{"$error":"#VALUE!"},{"$f":"VLOOKUP(B130,Tabel!$K$3:$L$109,2,FALSE)","v":{"$error":"#VALUE!"}},{"$f":"VLOOKUP(C130,Tabel!$K$3:$L$109,2,FALSE)","v":{"$error":"#VALUE!"}},{"$f":"VLOOKUP(D130,Tabel!$K$3:$L$109,2,FALSE)","v":{"$error":"#VALUE!"}},{"$f":"VLOOKUP(E130,Tabel!$K$3:$L$109,2,FALSE)","v":{"$error":"#VALUE!"}},{"$f":"VLOOKUP(F130,Tabel!$K$3:$L$109,2,FALSE)","v":{"$error":"#VALUE!"}},{"$f":"VLOOKUP(G130,Tabel!$K$3:$L$109,2,FALSE)","v":{"$error":"#VALUE!"}},{"$error":"#VALUE!"},{"$error":"#VALUE!"},{"$error":"#VALUE!"},{"$error":"#VALUE!"},{"$error":"#VALUE!"},{"$error":"#VALUE!"},{"$error":"#VALUE!"},{"$error":"#VALUE!"},{"$f":"VLOOKUP($U130,Tabel!$J$3:$K$109,2,FALSE)","v":{"$error":"#VALUE!"}},{"$f":"Tabel!$K$106&$A130&$V130&Tabel!$K$109","v":{"$error":"#VALUE!"}},{"$error":"#VALUE!"}]
[{"$f":"gastenlijst[[#This Row],[Postcode-GSM]]","v":{"$error":"#VALUE!"}},{"$error":"#VALUE!"},{"$error":"#VALUE!"},{"$error":"#VALUE!"},{"$error":"#VALUE!"},{"$error":"#VALUE!"},{"$error":"#VALUE!"},{"$f":"VLOOKUP(B131,Tabel!$K$3:$L$109,2,FALSE)","v":{"$error":"#VALUE!"}},{"$f":"VLOOKUP(C131,Tabel!$K$3:$L$109,2,FALSE)","v":{"$error":"#VALUE!"}},{"$f":"VLOOKUP(D131,Tabel!$K$3:$L$109,2,FALSE)","v":{"$error":"#VALUE!"}},{"$f":"VLOOKUP(E131,Tabel!$K$3:$L$109,2,FALSE)","v":{"$error":"#VALUE!"}},{"$f":"VLOOKUP(F131,Tabel!$K$3:$L$109,2,FALSE)","v":{"$error":"#VALUE!"}},{"$f":"VLOOKUP(G131,Tabel!$K$3:$L$109,2,FALSE)","v":{"$error":"#VALUE!"}},{"$error":"#VALUE!"},{"$error":"#VALUE!"},{"$error":"#VALUE!"},{"$error":"#VALUE!"},{"$error":"#VALUE!"},{"$error":"#VALUE!"},{"$error":"#VALUE!"},{"$error":"#VALUE!"},{"$f":"VLOOKUP($U131,Tabel!$J$3:$K$109,2,FALSE)","v":{"$error":"#VALUE!"}},{"$f":"Tabel!$K$106&$A131&$V131&Tabel!$K$109","v":{"$error":"#VALUE!"}},{"$error":"#VALUE!"}]
[{"$f":"gastenlijst[[#This Row],[Postcode-GSM]]","v":{"$error":"#VALUE!"}},{"$error":"#VALUE!"},{"$error":"#VALUE!"},{"$error":"#VALUE!"},{"$error":"#VALUE!"},{"$error":"#VALUE!"},{"$error":"#VALUE!"},{"$f":"VLOOKUP(B132,Tabel!$K$3:$L$109,2,FALSE)","v":{"$error":"#VALUE!"}},{"$f":"VLOOKUP(C132,Tabel!$K$3:$L$109,2,FALSE)","v":{"$error":"#VALUE!"}},{"$f":"VLOOKUP(D132,Tabel!$K$3:$L$109,2,FALSE)","v":{"$error":"#VALUE!"}},{"$f":"VLOOKUP(E132,Tabel!$K$3:$L$109,2,FALSE)","v":{"$error":"#VALUE!"}},{"$f":"VLOOKUP(F132,Tabel!$K$3:$L$109,2,FALSE)","v":{"$error":"#VALUE!"}},{"$f":"VLOOKUP(G132,Tabel!$K$3:$L$109,2,FALSE)","v":{"$error":"#VALUE!"}},{"$error":"#VALUE!"},{"$error":"#VALUE!"},{"$error":"#VALUE!"},{"$error":"#VALUE!"},{"$error":"#VALUE!"},{"$error":"#VALUE!"},{"$error":"#VALUE!"},{"$error":"#VALUE!"},{"$f":"VLOOKUP($U132,Tabel!$J$3:$K$109,2,FALSE)","v":{"$error":"#VALUE!"}},{"$f":"Tabel!$K$106&$A132&$V132&Tabel!$K$109","v":{"$error":"#VALUE!"}},{"$error":"#VALUE!"}]
[{"$f":"gastenlijst[[#This Row],[Postcode-GSM]]","v":{"$error":"#VALUE!"}},{"$error":"#VALUE!"},{"$error":"#VALUE!"},{"$error":"#VALUE!"},{"$error":"#VALUE!"},{"$error":"#VALUE!"},{"$error":"#VALUE!"},{"$f":"VLOOKUP(B133,Tabel!$K$3:$L$109,2,FALSE)","v":{"$error":"#VALUE!"}},{"$f":"VLOOKUP(C133,Tabel!$K$3:$L$109,2,FALSE)","v":{"$error":"#VALUE!"}},{"$f":"VLOOKUP(D133,Tabel!$K$3:$L$109,2,FALSE)","v":{"$error":"#VALUE!"}},{"$f":"VLOOKUP(E133,Tabel!$K$3:$L$109,2,FALSE)","v":{"$error":"#VALUE!"}},{"$f":"VLOOKUP(F133,Tabel!$K$3:$L$109,2,FALSE)","v":{"$error":"#VALUE!"}},{"$f":"VLOOKUP(G133,Tabel!$K$3:$L$109,2,FALSE)","v":{"$error":"#VALUE!"}},{"$error":"#VALUE!"},{"$error":"#VALUE!"},{"$error":"#VALUE!"},{"$error":"#VALUE!"},{"$error":"#VALUE!"},{"$error":"#VALUE!"},{"$error":"#VALUE!"},{"$error":"#VALUE!"},{"$f":"VLOOKUP($U133,Tabel!$J$3:$K$109,2,FALSE)","v":{"$error":"#VALUE!"}},{"$f":"Tabel!$K$106&$A133&$V133&Tabel!$K$109","v":{"$error":"#VALUE!"}},{"$error":"#VALUE!"}]
[{"$f":"gastenlijst[[#This Row],[Postcode-GSM]]","v":{"$error":"#VALUE!"}},{"$error":"#VALUE!"},{"$error":"#VALUE!"},{"$error":"#VALUE!"},{"$error":"#VALUE!"},{"$error":"#VALUE!"},{"$error":"#VALUE!"},{"$f":"VLOOKUP(B134,Tabel!$K$3:$L$109,2,FALSE)","v":{"$error":"#VALUE!"}},{"$f":"VLOOKUP(C134,Tabel!$K$3:$L$109,2,FALSE)","v":{"$error":"#VALUE!"}},{"$f":"VLOOKUP(D134,Tabel!$K$3:$L$109,2,FALSE)","v":{"$error":"#VALUE!"}},{"$f":"VLOOKUP(E134,Tabel!$K$3:$L$109,2,FALSE)","v":{"$error":"#VALUE!"}},{"$f":"VLOOKUP(F134,Tabel!$K$3:$L$109,2,FALSE)","v":{"$error":"#VALUE!"}},{"$f":"VLOOKUP(G134,Tabel!$K$3:$L$109,2,FALSE)","v":{"$error":"#VALUE!"}},{"$error":"#VALUE!"},{"$error":"#VALUE!"},{"$error":"#VALUE!"},{"$error":"#VALUE!"},{"$error":"#VALUE!"},{"$error":"#VALUE!"},{"$error":"#VALUE!"},{"$error":"#VALUE!"},{"$f":"VLOOKUP($U134,Tabel!$J$3:$K$109,2,FALSE)","v":{"$error":"#VALUE!"}},{"$f":"Tabel!$K$106&$A134&$V134&Tabel!$K$109","v":{"$error":"#VALUE!"}},{"$error":"#VALUE!"}]
[{"$f":"gastenlijst[[#This Row],[Postcode-GSM]]","v":{"$error":"#VALUE!"}},{"$f":"MID(A135,1,1)","v":{"$error":"#VALUE!"}},{"$f":"MID(A135,2,1)","v":{"$error":"#VALUE!"}},{"$f":"MID(A135,3,1)","v":{"$error":"#VALUE!"}},{"$f":"MID(A135,4,1)","v":{"$error":"#VALUE!"}},{"$f":"MID(A135,5,1)","v":{"$error":"#VALUE!"}},{"$f":"MID(A135,6,1)","v":{"$error":"#VALUE!"}},{"$f":"VLOOKUP(B135,Tabel!$K$3:$L$109,2,FALSE)","v":{"$error":"#VALUE!"}},{"$f":"VLOOKUP(C135,Tabel!$K$3:$L$109,2,FALSE)","v":{"$error":"#VALUE!"}},{"$f":"VLOOKUP(D135,Tabel!$K$3:$L$109,2,FALSE)","v":{"$error":"#VALUE!"}},{"$f":"VLOOKUP(E135,Tabel!$K$3:$L$109,2,FALSE)","v":{"$error":"#VALUE!"}},{"$f":"VLOOKUP(F135,Tabel!$K$3:$L$109,2,FALSE)","v":{"$error":"#VALUE!"}},{"$f":"VLOOKUP(G135,Tabel!$K$3:$L$109,2,FALSE)","v":{"$error":"#VALUE!"}},{"$f":"$H135*1","v":{"$error":"#VALUE!"}},{"$f":"$I135*2","v":{"$error":"#VALUE!"}},{"$f":"$J135*3","v":{"$error":"#VALUE!"}},{"$f":"$K135*4","v":{"$error":"#VALUE!"}},{"$f":"$L135*5","v":{"$error":"#VALUE!"}},{"$f":"$M135*5","v":{"$error":"#VALUE!"}},{"$f":"103+N135+O135+P135+Q135+R135+S135","v":{"$error":"#VALUE!"}},{"$f":"MOD(T135,103)","v":{"$error":"#VALUE!"}},{"$f":"VLOOKUP($U135,Tabel!$J$3:$K$109,2,FALSE)","v":{"$error":"#VALUE!"}},{"$f":"Tabel!$K$106&$A135&$V135&Tabel!$K$109","v":{"$error":"#VALUE!"}},{"$f":"W135","v":{"$error":"#VALUE!"}}]
[{"$f":"gastenlijst[[#This Row],[Postcode-GSM]]","v":{"$error":"#VALUE!"}},{"$error":"#VALUE!"},{"$error":"#VALUE!"},{"$error":"#VALUE!"},{"$error":"#VALUE!"},{"$error":"#VALUE!"},{"$error":"#VALUE!"},{"$f":"VLOOKUP(B136,Tabel!$K$3:$L$109,2,FALSE)","v":{"$error":"#VALUE!"}},{"$f":"VLOOKUP(C136,Tabel!$K$3:$L$109,2,FALSE)","v":{"$error":"#VALUE!"}},{"$f":"VLOOKUP(D136,Tabel!$K$3:$L$109,2,FALSE)","v":{"$error":"#VALUE!"}},{"$f":"VLOOKUP(E136,Tabel!$K$3:$L$109,2,FALSE)","v":{"$error":"#VALUE!"}},{"$f":"VLOOKUP(F136,Tabel!$K$3:$L$109,2,FALSE)","v":{"$error":"#VALUE!"}},{"$f":"VLOOKUP(G136,Tabel!$K$3:$L$109,2,FALSE)","v":{"$error":"#VALUE!"}},{"$error":"#VALUE!"},{"$error":"#VALUE!"},{"$error":"#VALUE!"},{"$error":"#VALUE!"},{"$error":"#VALUE!"},{"$error":"#VALUE!"},{"$error":"#VALUE!"},{"$error":"#VALUE!"},{"$f":"VLOOKUP($U136,Tabel!$J$3:$K$109,2,FALSE)","v":{"$error":"#VALUE!"}},{"$f":"Tabel!$K$106&$A136&$V136&Tabel!$K$109","v":{"$error":"#VALUE!"}},{"$error":"#VALUE!"}]
[{"$f":"gastenlijst[[#This Row],[Postcode-GSM]]","v":{"$error":"#VALUE!"}},{"$error":"#VALUE!"},{"$error":"#VALUE!"},{"$error":"#VALUE!"},{"$error":"#VALUE!"},{"$error":"#VALUE!"},{"$error":"#VALUE!"},{"$f":"VLOOKUP(B137,Tabel!$K$3:$L$109,2,FALSE)","v":{"$error":"#VALUE!"}},{"$f":"VLOOKUP(C137,Tabel!$K$3:$L$109,2,FALSE)","v":{"$error":"#VALUE!"}},{"$f":"VLOOKUP(D137,Tabel!$K$3:$L$109,2,FALSE)","v":{"$error":"#VALUE!"}},{"$f":"VLOOKUP(E137,Tabel!$K$3:$L$109,2,FALSE)","v":{"$error":"#VALUE!"}},{"$f":"VLOOKUP(F137,Tabel!$K$3:$L$109,2,FALSE)","v":{"$error":"#VALUE!"}},{"$f":"VLOOKUP(G137,Tabel!$K$3:$L$109,2,FALSE)","v":{"$error":"#VALUE!"}},{"$error":"#VALUE!"},{"$error":"#VALUE!"},{"$error":"#VALUE!"},{"$error":"#VALUE!"},{"$error":"#VALUE!"},{"$error":"#VALUE!"},{"$error":"#VALUE!"},{"$error":"#VALUE!"},{"$f":"VLOOKUP($U137,Tabel!$J$3:$K$109,2,FALSE)","v":{"$error":"#VALUE!"}},{"$f":"Tabel!$K$106&$A137&$V137&Tabel!$K$109","v":{"$error":"#VALUE!"}},{"$error":"#VALUE!"}]
[{"$f":"gastenlijst[[#This Row],[Postcode-GSM]]","v":{"$error":"#VALUE!"}},{"$error":"#VALUE!"},{"$error":"#VALUE!"},{"$error":"#VALUE!"},{"$error":"#VALUE!"},{"$error":"#VALUE!"},{"$error":"#VALUE!"},{"$f":"VLOOKUP(B138,Tabel!$K$3:$L$109,2,FALSE)","v":{"$error":"#VALUE!"}},{"$f":"VLOOKUP(C138,Tabel!$K$3:$L$109,2,FALSE)","v":{"$error":"#VALUE!"}},{"$f":"VLOOKUP(D138,Tabel!$K$3:$L$109,2,FALSE)","v":{"$error":"#VALUE!"}},{"$f":"VLOOKUP(E138,Tabel!$K$3:$L$109,2,FALSE)","v":{"$error":"#VALUE!"}},{"$f":"VLOOKUP(F138,Tabel!$K$3:$L$109,2,FALSE)","v":{"$error":"#VALUE!"}},{"$f":"VLOOKUP(G138,Tabel!$K$3:$L$109,2,FALSE)","v":{"$error":"#VALUE!"}},{"$error":"#VALUE!"},{"$error":"#VALUE!"},{"$error":"#VALUE!"},{"$error":"#VALUE!"},{"$error":"#VALUE!"},{"$error":"#VALUE!"},{"$error":"#VALUE!"},{"$error":"#VALUE!"},{"$f":"VLOOKUP($U138,Tabel!$J$3:$K$109,2,FALSE)","v":{"$error":"#VALUE!"}},{"$f":"Tabel!$K$106&$A138&$V138&Tabel!$K$109","v":{"$error":"#VALUE!"}},{"$error":"#VALUE!"}]
[{"$f":"gastenlijst[[#This Row],[Postcode-GSM]]","v":{"$error":"#VALUE!"}},{"$error":"#VALUE!"},{"$error":"#VALUE!"},{"$error":"#VALUE!"},{"$error":"#VALUE!"},{"$error":"#VALUE!"},{"$error":"#VALUE!"},{"$f":"VLOOKUP(B139,Tabel!$K$3:$L$109,2,FALSE)","v":{"$error":"#VALUE!"}},{"$f":"VLOOKUP(C139,Tabel!$K$3:$L$109,2,FALSE)","v":{"$error":"#VALUE!"}},{"$f":"VLOOKUP(D139,Tabel!$K$3:$L$109,2,FALSE)","v":{"$error":"#VALUE!"}},{"$f":"VLOOKUP(E139,Tabel!$K$3:$L$109,2,FALSE)","v":{"$error":"#VALUE!"}},{"$f":"VLOOKUP(F139,Tabel!$K$3:$L$109,2,FALSE)","v":{"$error":"#VALUE!"}},{"$f":"VLOOKUP(G139,Tabel!$K$3:$L$109,2,FALSE)","v":{"$error":"#VALUE!"}},{"$error":"#VALUE!"},{"$error":"#VALUE!"},{"$error":"#VALUE!"},{"$error":"#VALUE!"},{"$error":"#VALUE!"},{"$error":"#VALUE!"},{"$error":"#VALUE!"},{"$error":"#VALUE!"},{"$f":"VLOOKUP($U139,Tabel!$J$3:$K$109,2,FALSE)","v":{"$error":"#VALUE!"}},{"$f":"Tabel!$K$106&$A139&$V139&Tabel!$K$109","v":{"$error":"#VALUE!"}},{"$error":"#VALUE!"}]
[{"$f":"gastenlijst[[#This Row],[Postcode-GSM]]","v":{"$error":"#VALUE!"}},{"$error":"#VALUE!"},{"$error":"#VALUE!"},{"$error":"#VALUE!"},{"$error":"#VALUE!"},{"$error":"#VALUE!"},{"$error":"#VALUE!"},{"$f":"VLOOKUP(B140,Tabel!$K$3:$L$109,2,FALSE)","v":{"$error":"#VALUE!"}},{"$f":"VLOOKUP(C140,Tabel!$K$3:$L$109,2,FALSE)","v":{"$error":"#VALUE!"}},{"$f":"VLOOKUP(D140,Tabel!$K$3:$L$109,2,FALSE)","v":{"$error":"#VALUE!"}},{"$f":"VLOOKUP(E140,Tabel!$K$3:$L$109,2,FALSE)","v":{"$error":"#VALUE!"}},{"$f":"VLOOKUP(F140,Tabel!$K$3:$L$109,2,FALSE)","v":{"$error":"#VALUE!"}},{"$f":"VLOOKUP(G140,Tabel!$K$3:$L$109,2,FALSE)","v":{"$error":"#VALUE!"}},{"$error":"#VALUE!"},{"$error":"#VALUE!"},{"$error":"#VALUE!"},{"$error":"#VALUE!"},{"$error":"#VALUE!"},{"$error":"#VALUE!"},{"$error":"#VALUE!"},{"$error":"#VALUE!"},{"$f":"VLOOKUP($U140,Tabel!$J$3:$K$109,2,FALSE)","v":{"$error":"#VALUE!"}},{"$f":"Tabel!$K$106&$A140&$V140&Tabel!$K$109","v":{"$error":"#VALUE!"}},{"$error":"#VALUE!"}]
[{"$f":"gastenlijst[[#This Row],[Postcode-GSM]]","v":{"$error":"#VALUE!"}},{"$error":"#VALUE!"},{"$error":"#VALUE!"},{"$error":"#VALUE!"},{"$error":"#VALUE!"},{"$error":"#VALUE!"},{"$error":"#VALUE!"},{"$f":"VLOOKUP(B141,Tabel!$K$3:$L$109,2,FALSE)","v":{"$error":"#VALUE!"}},{"$f":"VLOOKUP(C141,Tabel!$K$3:$L$109,2,FALSE)","v":{"$error":"#VALUE!"}},{"$f":"VLOOKUP(D141,Tabel!$K$3:$L$109,2,FALSE)","v":{"$error":"#VALUE!"}},{"$f":"VLOOKUP(E141,Tabel!$K$3:$L$109,2,FALSE)","v":{"$error":"#VALUE!"}},{"$f":"VLOOKUP(F141,Tabel!$K$3:$L$109,2,FALSE)","v":{"$error":"#VALUE!"}},{"$f":"VLOOKUP(G141,Tabel!$K$3:$L$109,2,FALSE)","v":{"$error":"#VALUE!"}},{"$error":"#VALUE!"},{"$error":"#VALUE!"},{"$error":"#VALUE!"},{"$error":"#VALUE!"},{"$error":"#VALUE!"},{"$error":"#VALUE!"},{"$error":"#VALUE!"},{"$error":"#VALUE!"},{"$f":"VLOOKUP($U141,Tabel!$J$3:$K$109,2,FALSE)","v":{"$error":"#VALUE!"}},{"$f":"Tabel!$K$106&$A141&$V141&Tabel!$K$109","v":{"$error":"#VALUE!"}},{"$error":"#VALUE!"}]
[{"$f":"gastenlijst[[#This Row],[Postcode-GSM]]","v":{"$error":"#VALUE!"}},{"$error":"#VALUE!"},{"$error":"#VALUE!"},{"$error":"#VALUE!"},{"$error":"#VALUE!"},{"$error":"#VALUE!"},{"$error":"#VALUE!"},{"$f":"VLOOKUP(B142,Tabel!$K$3:$L$109,2,FALSE)","v":{"$error":"#VALUE!"}},{"$f":"VLOOKUP(C142,Tabel!$K$3:$L$109,2,FALSE)","v":{"$error":"#VALUE!"}},{"$f":"VLOOKUP(D142,Tabel!$K$3:$L$109,2,FALSE)","v":{"$error":"#VALUE!"}},{"$f":"VLOOKUP(E142,Tabel!$K$3:$L$109,2,FALSE)","v":{"$error":"#VALUE!"}},{"$f":"VLOOKUP(F142,Tabel!$K$3:$L$109,2,FALSE)","v":{"$error":"#VALUE!"}},{"$f":"VLOOKUP(G142,Tabel!$K$3:$L$109,2,FALSE)","v":{"$error":"#VALUE!"}},{"$error":"#VALUE!"},{"$error":"#VALUE!"},{"$error":"#VALUE!"},{"$error":"#VALUE!"},{"$error":"#VALUE!"},{"$error":"#VALUE!"},{"$error":"#VALUE!"},{"$error":"#VALUE!"},{"$f":"VLOOKUP($U142,Tabel!$J$3:$K$109,2,FALSE)","v":{"$error":"#VALUE!"}},{"$f":"Tabel!$K$106&$A142&$V142&Tabel!$K$109","v":{"$error":"#VALUE!"}},{"$error":"#VALUE!"}]
[{"$f":"gastenlijst[[#This Row],[Postcode-GSM]]","v":{"$error":"#VALUE!"}},{"$error":"#VALUE!"},{"$error":"#VALUE!"},{"$error":"#VALUE!"},{"$error":"#VALUE!"},{"$error":"#VALUE!"},{"$error":"#VALUE!"},{"$f":"VLOOKUP(B143,Tabel!$K$3:$L$109,2,FALSE)","v":{"$error":"#VALUE!"}},{"$f":"VLOOKUP(C143,Tabel!$K$3:$L$109,2,FALSE)","v":{"$error":"#VALUE!"}},{"$f":"VLOOKUP(D143,Tabel!$K$3:$L$109,2,FALSE)","v":{"$error":"#VALUE!"}},{"$f":"VLOOKUP(E143,Tabel!$K$3:$L$109,2,FALSE)","v":{"$error":"#VALUE!"}},{"$f":"VLOOKUP(F143,Tabel!$K$3:$L$109,2,FALSE)","v":{"$error":"#VALUE!"}},{"$f":"VLOOKUP(G143,Tabel!$K$3:$L$109,2,FALSE)","v":{"$error":"#VALUE!"}},{"$error":"#VALUE!"},{"$error":"#VALUE!"},{"$error":"#VALUE!"},{"$error":"#VALUE!"},{"$error":"#VALUE!"},{"$error":"#VALUE!"},{"$error":"#VALUE!"},{"$error":"#VALUE!"},{"$f":"VLOOKUP($U143,Tabel!$J$3:$K$109,2,FALSE)","v":{"$error":"#VALUE!"}},{"$f":"Tabel!$K$106&$A143&$V143&Tabel!$K$109","v":{"$error":"#VALUE!"}},{"$error":"#VALUE!"}]
[{"$f":"gastenlijst[[#This Row],[Postcode-GSM]]","v":{"$error":"#VALUE!"}},{"$error":"#VALUE!"},{"$error":"#VALUE!"},{"$error":"#VALUE!"},{"$error":"#VALUE!"},{"$error":"#VALUE!"},{"$error":"#VALUE!"},{"$f":"VLOOKUP(B144,Tabel!$K$3:$L$109,2,FALSE)","v":{"$error":"#VALUE!"}},{"$f":"VLOOKUP(C144,Tabel!$K$3:$L$109,2,FALSE)","v":{"$error":"#VALUE!"}},{"$f":"VLOOKUP(D144,Tabel!$K$3:$L$109,2,FALSE)","v":{"$error":"#VALUE!"}},{"$f":"VLOOKUP(E144,Tabel!$K$3:$L$109,2,FALSE)","v":{"$error":"#VALUE!"}},{"$f":"VLOOKUP(F144,Tabel!$K$3:$L$109,2,FALSE)","v":{"$error":"#VALUE!"}},{"$f":"VLOOKUP(G144,Tabel!$K$3:$L$109,2,FALSE)","v":{"$error":"#VALUE!"}},{"$error":"#VALUE!"},{"$error":"#VALUE!"},{"$error":"#VALUE!"},{"$error":"#VALUE!"},{"$error":"#VALUE!"},{"$error":"#VALUE!"},{"$error":"#VALUE!"},{"$error":"#VALUE!"},{"$f":"VLOOKUP($U144,Tabel!$J$3:$K$109,2,FALSE)","v":{"$error":"#VALUE!"}},{"$f":"Tabel!$K$106&$A144&$V144&Tabel!$K$109","v":{"$error":"#VALUE!"}},{"$error":"#VALUE!"}]
[{"$f":"gastenlijst[[#This Row],[Postcode-GSM]]","v":{"$error":"#VALUE!"}},{"$error":"#VALUE!"},{"$error":"#VALUE!"},{"$error":"#VALUE!"},{"$error":"#VALUE!"},{"$error":"#VALUE!"},{"$error":"#VALUE!"},{"$f":"VLOOKUP(B145,Tabel!$K$3:$L$109,2,FALSE)","v":{"$error":"#VALUE!"}},{"$f":"VLOOKUP(C145,Tabel!$K$3:$L$109,2,FALSE)","v":{"$error":"#VALUE!"}},{"$f":"VLOOKUP(D145,Tabel!$K$3:$L$109,2,FALSE)","v":{"$error":"#VALUE!"}},{"$f":"VLOOKUP(E145,Tabel!$K$3:$L$109,2,FALSE)","v":{"$error":"#VALUE!"}},{"$f":"VLOOKUP(F145,Tabel!$K$3:$L$109,2,FALSE)","v":{"$error":"#VALUE!"}},{"$f":"VLOOKUP(G145,Tabel!$K$3:$L$109,2,FALSE)","v":{"$error":"#VALUE!"}},{"$error":"#VALUE!"},{"$error":"#VALUE!"},{"$error":"#VALUE!"},{"$error":"#VALUE!"},{"$error":"#VALUE!"},{"$error":"#VALUE!"},{"$error":"#VALUE!"},{"$error":"#VALUE!"},{"$f":"VLOOKUP($U145,Tabel!$J$3:$K$109,2,FALSE)","v":{"$error":"#VALUE!"}},{"$f":"Tabel!$K$106&$A145&$V145&Tabel!$K$109","v":{"$error":"#VALUE!"}},{"$error":"#VALUE!"}]
[{"$f":"gastenlijst[[#This Row],[Postcode-GSM]]","v":{"$error":"#VALUE!"}},{"$error":"#VALUE!"},{"$error":"#VALUE!"},{"$error":"#VALUE!"},{"$error":"#VALUE!"},{"$error":"#VALUE!"},{"$error":"#VALUE!"},{"$f":"VLOOKUP(B146,Tabel!$K$3:$L$109,2,FALSE)","v":{"$error":"#VALUE!"}},{"$f":"VLOOKUP(C146,Tabel!$K$3:$L$109,2,FALSE)","v":{"$error":"#VALUE!"}},{"$f":"VLOOKUP(D146,Tabel!$K$3:$L$109,2,FALSE)","v":{"$error":"#VALUE!"}},{"$f":"VLOOKUP(E146,Tabel!$K$3:$L$109,2,FALSE)","v":{"$error":"#VALUE!"}},{"$f":"VLOOKUP(F146,Tabel!$K$3:$L$109,2,FALSE)","v":{"$error":"#VALUE!"}},{"$f":"VLOOKUP(G146,Tabel!$K$3:$L$109,2,FALSE)","v":{"$error":"#VALUE!"}},{"$error":"#VALUE!"},{"$error":"#VALUE!"},{"$error":"#VALUE!"},{"$error":"#VALUE!"},{"$error":"#VALUE!"},{"$error":"#VALUE!"},{"$error":"#VALUE!"},{"$error":"#VALUE!"},{"$f":"VLOOKUP($U146,Tabel!$J$3:$K$109,2,FALSE)","v":{"$error":"#VALUE!"}},{"$f":"Tabel!$K$106&$A146&$V146&Tabel!$K$109","v":{"$error":"#VALUE!"}},{"$error":"#VALUE!"}]
[{"$f":"gastenlijst[[#This Row],[Postcode-GSM]]","v":{"$error":"#VALUE!"}},{"$error":"#VALUE!"},{"$error":"#VALUE!"},{"$error":"#VALUE!"},{"$error":"#VALUE!"},{"$error":"#VALUE!"},{"$error":"#VALUE!"},{"$f":"VLOOKUP(B147,Tabel!$K$3:$L$109,2,FALSE)","v":{"$error":"#VALUE!"}},{"$f":"VLOOKUP(C147,Tabel!$K$3:$L$109,2,FALSE)","v":{"$error":"#VALUE!"}},{"$f":"VLOOKUP(D147,Tabel!$K$3:$L$109,2,FALSE)","v":{"$error":"#VALUE!"}},{"$f":"VLOOKUP(E147,Tabel!$K$3:$L$109,2,FALSE)","v":{"$error":"#VALUE!"}},{"$f":"VLOOKUP(F147,Tabel!$K$3:$L$109,2,FALSE)","v":{"$error":"#VALUE!"}},{"$f":"VLOOKUP(G147,Tabel!$K$3:$L$109,2,FALSE)","v":{"$error":"#VALUE!"}},{"$error":"#VALUE!"},{"$error":"#VALUE!"},{"$error":"#VALUE!"},{"$error":"#VALUE!"},{"$error":"#VALUE!"},{"$error":"#VALUE!"},{"$error":"#VALUE!"},{"$error":"#VALUE!"},{"$f":"VLOOKUP($U147,Tabel!$J$3:$K$109,2,FALSE)","v":{"$error":"#VALUE!"}},{"$f":"Tabel!$K$106&$A147&$V147&Tabel!$K$109","v":{"$error":"#VALUE!"}},{"$error":"#VALUE!"}]
[{"$f":"gastenlijst[[#This Row],[Postcode-GSM]]","v":{"$error":"#VALUE!"}},{"$error":"#VALUE!"},{"$error":"#VALUE!"},{"$error":"#VALUE!"},{"$error":"#VALUE!"},{"$error":"#VALUE!"},{"$error":"#VALUE!"},{"$f":"VLOOKUP(B148,Tabel!$K$3:$L$109,2,FALSE)","v":{"$error":"#VALUE!"}},{"$f":"VLOOKUP(C148,Tabel!$K$3:$L$109,2,FALSE)","v":{"$error":"#VALUE!"}},{"$f":"VLOOKUP(D148,Tabel!$K$3:$L$109,2,FALSE)","v":{"$error":"#VALUE!"}},{"$f":"VLOOKUP(E148,Tabel!$K$3:$L$109,2,FALSE)","v":{"$error":"#VALUE!"}},{"$f":"VLOOKUP(F148,Tabel!$K$3:$L$109,2,FALSE)","v":{"$error":"#VALUE!"}},{"$f":"VLOOKUP(G148,Tabel!$K$3:$L$109,2,FALSE)","v":{"$error":"#VALUE!"}},{"$error":"#VALUE!"},{"$error":"#VALUE!"},{"$error":"#VALUE!"},{"$error":"#VALUE!"},{"$error":"#VALUE!"},{"$error":"#VALUE!"},{"$error":"#VALUE!"},{"$error":"#VALUE!"},{"$f":"VLOOKUP($U148,Tabel!$J$3:$K$109,2,FALSE)","v":{"$error":"#VALUE!"}},{"$f":"Tabel!$K$106&$A148&$V148&Tabel!$K$109","v":{"$error":"#VALUE!"}},{"$error":"#VALUE!"}]
[{"$f":"gastenlijst[[#This Row],[Postcode-GSM]]","v":{"$error":"#VALUE!"}},{"$error":"#VALUE!"},{"$error":"#VALUE!"},{"$error":"#VALUE!"},{"$error":"#VALUE!"},{"$error":"#VALUE!"},{"$error":"#VALUE!"},{"$f":"VLOOKUP(B149,Tabel!$K$3:$L$109,2,FALSE)","v":{"$error":"#VALUE!"}},{"$f":"VLOOKUP(C149,Tabel!$K$3:$L$109,2,FALSE)","v":{"$error":"#VALUE!"}},{"$f":"VLOOKUP(D149,Tabel!$K$3:$L$109,2,FALSE)","v":{"$error":"#VALUE!"}},{"$f":"VLOOKUP(E149,Tabel!$K$3:$L$109,2,FALSE)","v":{"$error":"#VALUE!"}},{"$f":"VLOOKUP(F149,Tabel!$K$3:$L$109,2,FALSE)","v":{"$error":"#VALUE!"}},{"$f":"VLOOKUP(G149,Tabel!$K$3:$L$109,2,FALSE)","v":{"$error":"#VALUE!"}},{"$error":"#VALUE!"},{"$error":"#VALUE!"},{"$error":"#VALUE!"},{"$error":"#VALUE!"},{"$error":"#VALUE!"},{"$error":"#VALUE!"},{"$error":"#VALUE!"},{"$error":"#VALUE!"},{"$f":"VLOOKUP($U149,Tabel!$J$3:$K$109,2,FALSE)","v":{"$error":"#VALUE!"}},{"$f":"Tabel!$K$106&$A149&$V149&Tabel!$K$109","v":{"$error":"#VALUE!"}},{"$error":"#VALUE!"}]
[{"$f":"gastenlijst[[#This Row],[Postcode-GSM]]","v":{"$error":"#VALUE!"}},{"$error":"#VALUE!"},{"$error":"#VALUE!"},{"$error":"#VALUE!"},{"$error":"#VALUE!"},{"$error":"#VALUE!"},{"$error":"#VALUE!"},{"$f":"VLOOKUP(B150,Tabel!$K$3:$L$109,2,FALSE)","v":{"$error":"#VALUE!"}},{"$f":"VLOOKUP(C150,Tabel!$K$3:$L$109,2,FALSE)","v":{"$error":"#VALUE!"}},{"$f":"VLOOKUP(D150,Tabel!$K$3:$L$109,2,FALSE)","v":{"$error":"#VALUE!"}},{"$f":"VLOOKUP(E150,Tabel!$K$3:$L$109,2,FALSE)","v":{"$error":"#VALUE!"}},{"$f":"VLOOKUP(F150,Tabel!$K$3:$L$109,2,FALSE)","v":{"$error":"#VALUE!"}},{"$f":"VLOOKUP(G150,Tabel!$K$3:$L$109,2,FALSE)","v":{"$error":"#VALUE!"}},{"$error":"#VALUE!"},{"$error":"#VALUE!"},{"$error":"#VALUE!"},{"$error":"#VALUE!"},{"$error":"#VALUE!"},{"$error":"#VALUE!"},{"$error":"#VALUE!"},{"$error":"#VALUE!"},{"$f":"VLOOKUP($U150,Tabel!$J$3:$K$109,2,FALSE)","v":{"$error":"#VALUE!"}},{"$f":"Tabel!$K$106&$A150&$V150&Tabel!$K$109","v":{"$error":"#VALUE!"}},{"$error":"#VALUE!"}]
[{"$f":"gastenlijst[[#This Row],[Postcode-GSM]]","v":{"$error":"#VALUE!"}},{"$error":"#VALUE!"},{"$error":"#VALUE!"},{"$error":"#VALUE!"},{"$error":"#VALUE!"},{"$error":"#VALUE!"},{"$error":"#VALUE!"},{"$f":"VLOOKUP(B151,Tabel!$K$3:$L$109,2,FALSE)","v":{"$error":"#VALUE!"}},{"$f":"VLOOKUP(C151,Tabel!$K$3:$L$109,2,FALSE)","v":{"$error":"#VALUE!"}},{"$f":"VLOOKUP(D151,Tabel!$K$3:$L$109,2,FALSE)","v":{"$error":"#VALUE!"}},{"$f":"VLOOKUP(E151,Tabel!$K$3:$L$109,2,FALSE)","v":{"$error":"#VALUE!"}},{"$f":"VLOOKUP(F151,Tabel!$K$3:$L$109,2,FALSE)","v":{"$error":"#VALUE!"}},{"$f":"VLOOKUP(G151,Tabel!$K$3:$L$109,2,FALSE)","v":{"$error":"#VALUE!"}},{"$error":"#VALUE!"},{"$error":"#VALUE!"},{"$error":"#VALUE!"},{"$error":"#VALUE!"},{"$error":"#VALUE!"},{"$error":"#VALUE!"},{"$error":"#VALUE!"},{"$error":"#VALUE!"},{"$f":"VLOOKUP($U151,Tabel!$J$3:$K$109,2,FALSE)","v":{"$error":"#VALUE!"}},{"$f":"Tabel!$K$106&$A151&$V151&Tabel!$K$109","v":{"$error":"#VALUE!"}},{"$error":"#VALUE!"}]
[{"$f":"gastenlijst[[#This Row],[Postcode-GSM]]","v":{"$error":"#VALUE!"}},{"$error":"#VALUE!"},{"$error":"#VALUE!"},{"$error":"#VALUE!"},{"$error":"#VALUE!"},{"$error":"#VALUE!"},{"$error":"#VALUE!"},{"$f":"VLOOKUP(B152,Tabel!$K$3:$L$109,2,FALSE)","v":{"$error":"#VALUE!"}},{"$f":"VLOOKUP(C152,Tabel!$K$3:$L$109,2,FALSE)","v":{"$error":"#VALUE!"}},{"$f":"VLOOKUP(D152,Tabel!$K$3:$L$109,2,FALSE)","v":{"$error":"#VALUE!"}},{"$f":"VLOOKUP(E152,Tabel!$K$3:$L$109,2,FALSE)","v":{"$error":"#VALUE!"}},{"$f":"VLOOKUP(F152,Tabel!$K$3:$L$109,2,FALSE)","v":{"$error":"#VALUE!"}},{"$f":"VLOOKUP(G152,Tabel!$K$3:$L$109,2,FALSE)","v":{"$error":"#VALUE!"}},{"$error":"#VALUE!"},{"$error":"#VALUE!"},{"$error":"#VALUE!"},{"$error":"#VALUE!"},{"$error":"#VALUE!"},{"$error":"#VALUE!"},{"$error":"#VALUE!"},{"$error":"#VALUE!"},{"$f":"VLOOKUP($U152,Tabel!$J$3:$K$109,2,FALSE)","v":{"$error":"#VALUE!"}},{"$f":"Tabel!$K$106&$A152&$V152&Tabel!$K$109","v":{"$error":"#VALUE!"}},{"$error":"#VALUE!"}]
[{"$f":"gastenlijst[[#This Row],[Postcode-GSM]]","v":{"$error":"#VALUE!"}},{"$error":"#VALUE!"},{"$error":"#VALUE!"},{"$error":"#VALUE!"},{"$error":"#VALUE!"},{"$error":"#VALUE!"},{"$error":"#VALUE!"},{"$f":"VLOOKUP(B153,Tabel!$K$3:$L$109,2,FALSE)","v":{"$error":"#VALUE!"}},{"$f":"VLOOKUP(C153,Tabel!$K$3:$L$109,2,FALSE)","v":{"$error":"#VALUE!"}},{"$f":"VLOOKUP(D153,Tabel!$K$3:$L$109,2,FALSE)","v":{"$error":"#VALUE!"}},{"$f":"VLOOKUP(E153,Tabel!$K$3:$L$109,2,FALSE)","v":{"$error":"#VALUE!"}},{"$f":"VLOOKUP(F153,Tabel!$K$3:$L$109,2,FALSE)","v":{"$error":"#VALUE!"}},{"$f":"VLOOKUP(G153,Tabel!$K$3:$L$109,2,FALSE)","v":{"$error":"#VALUE!"}},{"$error":"#VALUE!"},{"$error":"#VALUE!"},{"$error":"#VALUE!"},{"$error":"#VALUE!"},{"$error":"#VALUE!"},{"$error":"#VALUE!"},{"$error":"#VALUE!"},{"$error":"#VALUE!"},{"$f":"VLOOKUP($U153,Tabel!$J$3:$K$109,2,FALSE)","v":{"$error":"#VALUE!"}},{"$f":"Tabel!$K$106&$A153&$V153&Tabel!$K$109","v":{"$error":"#VALUE!"}},{"$error":"#VALUE!"}]
[{"$f":"gastenlijst[[#This Row],[Postcode-GSM]]","v":{"$error":"#VALUE!"}},{"$error":"#VALUE!"},{"$error":"#VALUE!"},{"$error":"#VALUE!"},{"$error":"#VALUE!"},{"$error":"#VALUE!"},{"$error":"#VALUE!"},{"$f":"VLOOKUP(B154,Tabel!$K$3:$L$109,2,FALSE)","v":{"$error":"#VALUE!"}},{"$f":"VLOOKUP(C154,Tabel!$K$3:$L$109,2,FALSE)","v":{"$error":"#VALUE!"}},{"$f":"VLOOKUP(D154,Tabel!$K$3:$L$109,2,FALSE)","v":{"$error":"#VALUE!"}},{"$f":"VLOOKUP(E154,Tabel!$K$3:$L$109,2,FALSE)","v":{"$error":"#VALUE!"}},{"$f":"VLOOKUP(F154,Tabel!$K$3:$L$109,2,FALSE)","v":{"$error":"#VALUE!"}},{"$f":"VLOOKUP(G154,Tabel!$K$3:$L$109,2,FALSE)","v":{"$error":"#VALUE!"}},{"$error":"#VALUE!"},{"$error":"#VALUE!"},{"$error":"#VALUE!"},{"$error":"#VALUE!"},{"$error":"#VALUE!"},{"$error":"#VALUE!"},{"$error":"#VALUE!"},{"$error":"#VALUE!"},{"$f":"VLOOKUP($U154,Tabel!$J$3:$K$109,2,FALSE)","v":{"$error":"#VALUE!"}},{"$f":"Tabel!$K$106&$A154&$V154&Tabel!$K$109","v":{"$error":"#VALUE!"}},{"$error":"#VALUE!"}]
[{"$f":"gastenlijst[[#This Row],[Postcode-GSM]]","v":{"$error":"#VALUE!"}},{"$error":"#VALUE!"},{"$error":"#VALUE!"},{"$error":"#VALUE!"},{"$error":"#VALUE!"},{"$error":"#VALUE!"},{"$error":"#VALUE!"},{"$f":"VLOOKUP(B155,Tabel!$K$3:$L$109,2,FALSE)","v":{"$error":"#VALUE!"}},{"$f":"VLOOKUP(C155,Tabel!$K$3:$L$109,2,FALSE)","v":{"$error":"#VALUE!"}},{"$f":"VLOOKUP(D155,Tabel!$K$3:$L$109,2,FALSE)","v":{"$error":"#VALUE!"}},{"$f":"VLOOKUP(E155,Tabel!$K$3:$L$109,2,FALSE)","v":{"$error":"#VALUE!"}},{"$f":"VLOOKUP(F155,Tabel!$K$3:$L$109,2,FALSE)","v":{"$error":"#VALUE!"}},{"$f":"VLOOKUP(G155,Tabel!$K$3:$L$109,2,FALSE)","v":{"$error":"#VALUE!"}},{"$error":"#VALUE!"},{"$error":"#VALUE!"},{"$error":"#VALUE!"},{"$error":"#VALUE!"},{"$error":"#VALUE!"},{"$error":"#VALUE!"},{"$error":"#VALUE!"},{"$error":"#VALUE!"},{"$f":"VLOOKUP($U155,Tabel!$J$3:$K$109,2,FALSE)","v":{"$error":"#VALUE!"}},{"$f":"Tabel!$K$106&$A155&$V155&Tabel!$K$109","v":{"$error":"#VALUE!"}},{"$error":"#VALUE!"}]
[{"$f":"gastenlijst[[#This Row],[Postcode-GSM]]","v":{"$error":"#VALUE!"}},{"$error":"#VALUE!"},{"$error":"#VALUE!"},{"$error":"#VALUE!"},{"$error":"#VALUE!"},{"$error":"#VALUE!"},{"$error":"#VALUE!"},{"$f":"VLOOKUP(B156,Tabel!$K$3:$L$109,2,FALSE)","v":{"$error":"#VALUE!"}},{"$f":"VLOOKUP(C156,Tabel!$K$3:$L$109,2,FALSE)","v":{"$error":"#VALUE!"}},{"$f":"VLOOKUP(D156,Tabel!$K$3:$L$109,2,FALSE)","v":{"$error":"#VALUE!"}},{"$f":"VLOOKUP(E156,Tabel!$K$3:$L$109,2,FALSE)","v":{"$error":"#VALUE!"}},{"$f":"VLOOKUP(F156,Tabel!$K$3:$L$109,2,FALSE)","v":{"$error":"#VALUE!"}},{"$f":"VLOOKUP(G156,Tabel!$K$3:$L$109,2,FALSE)","v":{"$error":"#VALUE!"}},{"$error":"#VALUE!"},{"$error":"#VALUE!"},{"$error":"#VALUE!"},{"$error":"#VALUE!"},{"$error":"#VALUE!"},{"$error":"#VALUE!"},{"$error":"#VALUE!"},{"$error":"#VALUE!"},{"$f":"VLOOKUP($U156,Tabel!$J$3:$K$109,2,FALSE)","v":{"$error":"#VALUE!"}},{"$f":"Tabel!$K$106&$A156&$V156&Tabel!$K$109","v":{"$error":"#VALUE!"}},{"$error":"#VALUE!"}]
[{"$f":"gastenlijst[[#This Row],[Postcode-GSM]]","v":{"$error":"#VALUE!"}},{"$error":"#VALUE!"},{"$error":"#VALUE!"},{"$error":"#VALUE!"},{"$error":"#VALUE!"},{"$error":"#VALUE!"},{"$error":"#VALUE!"},{"$f":"VLOOKUP(B157,Tabel!$K$3:$L$109,2,FALSE)","v":{"$error":"#VALUE!"}},{"$f":"VLOOKUP(C157,Tabel!$K$3:$L$109,2,FALSE)","v":{"$error":"#VALUE!"}},{"$f":"VLOOKUP(D157,Tabel!$K$3:$L$109,2,FALSE)","v":{"$error":"#VALUE!"}},{"$f":"VLOOKUP(E157,Tabel!$K$3:$L$109,2,FALSE)","v":{"$error":"#VALUE!"}},{"$f":"VLOOKUP(F157,Tabel!$K$3:$L$109,2,FALSE)","v":{"$error":"#VALUE!"}},{"$f":"VLOOKUP(G157,Tabel!$K$3:$L$109,2,FALSE)","v":{"$error":"#VALUE!"}},{"$error":"#VALUE!"},{"$error":"#VALUE!"},{"$error":"#VALUE!"},{"$error":"#VALUE!"},{"$error":"#VALUE!"},{"$error":"#VALUE!"},{"$error":"#VALUE!"},{"$error":"#VALUE!"},{"$f":"VLOOKUP($U157,Tabel!$J$3:$K$109,2,FALSE)","v":{"$error":"#VALUE!"}},{"$f":"Tabel!$K$106&$A157&$V157&Tabel!$K$109","v":{"$error":"#VALUE!"}},{"$error":"#VALUE!"}]
[{"$f":"gastenlijst[[#This Row],[Postcode-GSM]]","v":{"$error":"#VALUE!"}},{"$error":"#VALUE!"},{"$error":"#VALUE!"},{"$error":"#VALUE!"},{"$error":"#VALUE!"},{"$error":"#VALUE!"},{"$error":"#VALUE!"},{"$f":"VLOOKUP(B158,Tabel!$K$3:$L$109,2,FALSE)","v":{"$error":"#VALUE!"}},{"$f":"VLOOKUP(C158,Tabel!$K$3:$L$109,2,FALSE)","v":{"$error":"#VALUE!"}},{"$f":"VLOOKUP(D158,Tabel!$K$3:$L$109,2,FALSE)","v":{"$error":"#VALUE!"}},{"$f":"VLOOKUP(E158,Tabel!$K$3:$L$109,2,FALSE)","v":{"$error":"#VALUE!"}},{"$f":"VLOOKUP(F158,Tabel!$K$3:$L$109,2,FALSE)","v":{"$error":"#VALUE!"}},{"$f":"VLOOKUP(G158,Tabel!$K$3:$L$109,2,FALSE)","v":{"$error":"#VALUE!"}},{"$error":"#VALUE!"},{"$error":"#VALUE!"},{"$error":"#VALUE!"},{"$error":"#VALUE!"},{"$error":"#VALUE!"},{"$error":"#VALUE!"},{"$error":"#VALUE!"},{"$error":"#VALUE!"},{"$f":"VLOOKUP($U158,Tabel!$J$3:$K$109,2,FALSE)","v":{"$error":"#VALUE!"}},{"$f":"Tabel!$K$106&$A158&$V158&Tabel!$K$109","v":{"$error":"#VALUE!"}},{"$error":"#VALUE!"}]
[{"$f":"gastenlijst[[#This Row],[Postcode-GSM]]","v":{"$error":"#VALUE!"}},{"$error":"#VALUE!"},{"$error":"#VALUE!"},{"$error":"#VALUE!"},{"$error":"#VALUE!"},{"$error":"#VALUE!"},{"$error":"#VALUE!"},{"$f":"VLOOKUP(B159,Tabel!$K$3:$L$109,2,FALSE)","v":{"$error":"#VALUE!"}},{"$f":"VLOOKUP(C159,Tabel!$K$3:$L$109,2,FALSE)","v":{"$error":"#VALUE!"}},{"$f":"VLOOKUP(D159,Tabel!$K$3:$L$109,2,FALSE)","v":{"$error":"#VALUE!"}},{"$f":"VLOOKUP(E159,Tabel!$K$3:$L$109,2,FALSE)","v":{"$error":"#VALUE!"}},{"$f":"VLOOKUP(F159,Tabel!$K$3:$L$109,2,FALSE)","v":{"$error":"#VALUE!"}},{"$f":"VLOOKUP(G159,Tabel!$K$3:$L$109,2,FALSE)","v":{"$error":"#VALUE!"}},{"$error":"#VALUE!"},{"$error":"#VALUE!"},{"$error":"#VALUE!"},{"$error":"#VALUE!"},{"$error":"#VALUE!"},{"$error":"#VALUE!"},{"$error":"#VALUE!"},{"$error":"#VALUE!"},{"$f":"VLOOKUP($U159,Tabel!$J$3:$K$109,2,FALSE)","v":{"$error":"#VALUE!"}},{"$f":"Tabel!$K$106&$A159&$V159&Tabel!$K$109","v":{"$error":"#VALUE!"}},{"$error":"#VALUE!"}]
[{"$f":"gastenlijst[[#This Row],[Postcode-GSM]]","v":{"$error":"#VALUE!"}},{"$error":"#VALUE!"},{"$error":"#VALUE!"},{"$error":"#VALUE!"},{"$error":"#VALUE!"},{"$error":"#VALUE!"},{"$error":"#VALUE!"},{"$f":"VLOOKUP(B160,Tabel!$K$3:$L$109,2,FALSE)","v":{"$error":"#VALUE!"}},{"$f":"VLOOKUP(C160,Tabel!$K$3:$L$109,2,FALSE)","v":{"$error":"#VALUE!"}},{"$f":"VLOOKUP(D160,Tabel!$K$3:$L$109,2,FALSE)","v":{"$error":"#VALUE!"}},{"$f":"VLOOKUP(E160,Tabel!$K$3:$L$109,2,FALSE)","v":{"$error":"#VALUE!"}},{"$f":"VLOOKUP(F160,Tabel!$K$3:$L$109,2,FALSE)","v":{"$error":"#VALUE!"}},{"$f":"VLOOKUP(G160,Tabel!$K$3:$L$109,2,FALSE)","v":{"$error":"#VALUE!"}},{"$error":"#VALUE!"},{"$error":"#VALUE!"},{"$error":"#VALUE!"},{"$error":"#VALUE!"},{"$error":"#VALUE!"},{"$error":"#VALUE!"},{"$error":"#VALUE!"},{"$error":"#VALUE!"},{"$f":"VLOOKUP($U160,Tabel!$J$3:$K$109,2,FALSE)","v":{"$error":"#VALUE!"}},{"$f":"Tabel!$K$106&$A160&$V160&Tabel!$K$109","v":{"$error":"#VALUE!"}},{"$error":"#VALUE!"}]
[{"$f":"gastenlijst[[#This Row],[Postcode-GSM]]","v":{"$error":"#VALUE!"}},{"$error":"#VALUE!"},{"$error":"#VALUE!"},{"$error":"#VALUE!"},{"$error":"#VALUE!"},{"$error":"#VALUE!"},{"$error":"#VALUE!"},{"$f":"VLOOKUP(B161,Tabel!$K$3:$L$109,2,FALSE)","v":{"$error":"#VALUE!"}},{"$f":"VLOOKUP(C161,Tabel!$K$3:$L$109,2,FALSE)","v":{"$error":"#VALUE!"}},{"$f":"VLOOKUP(D161,Tabel!$K$3:$L$109,2,FALSE)","v":{"$error":"#VALUE!"}},{"$f":"VLOOKUP(E161,Tabel!$K$3:$L$109,2,FALSE)","v":{"$error":"#VALUE!"}},{"$f":"VLOOKUP(F161,Tabel!$K$3:$L$109,2,FALSE)","v":{"$error":"#VALUE!"}},{"$f":"VLOOKUP(G161,Tabel!$K$3:$L$109,2,FALSE)","v":{"$error":"#VALUE!"}},{"$error":"#VALUE!"},{"$error":"#VALUE!"},{"$error":"#VALUE!"},{"$error":"#VALUE!"},{"$error":"#VALUE!"},{"$error":"#VALUE!"},{"$error":"#VALUE!"},{"$error":"#VALUE!"},{"$f":"VLOOKUP($U161,Tabel!$J$3:$K$109,2,FALSE)","v":{"$error":"#VALUE!"}},{"$f":"Tabel!$K$106&$A161&$V161&Tabel!$K$109","v":{"$error":"#VALUE!"}},{"$error":"#VALUE!"}]
[{"$f":"gastenlijst[[#This Row],[Postcode-GSM]]","v":{"$error":"#VALUE!"}},{"$error":"#VALUE!"},{"$error":"#VALUE!"},{"$error":"#VALUE!"},{"$error":"#VALUE!"},{"$error":"#VALUE!"},{"$error":"#VALUE!"},{"$f":"VLOOKUP(B162,Tabel!$K$3:$L$109,2,FALSE)","v":{"$error":"#VALUE!"}},{"$f":"VLOOKUP(C162,Tabel!$K$3:$L$109,2,FALSE)","v":{"$error":"#VALUE!"}},{"$f":"VLOOKUP(D162,Tabel!$K$3:$L$109,2,FALSE)","v":{"$error":"#VALUE!"}},{"$f":"VLOOKUP(E162,Tabel!$K$3:$L$109,2,FALSE)","v":{"$error":"#VALUE!"}},{"$f":"VLOOKUP(F162,Tabel!$K$3:$L$109,2,FALSE)","v":{"$error":"#VALUE!"}},{"$f":"VLOOKUP(G162,Tabel!$K$3:$L$109,2,FALSE)","v":{"$error":"#VALUE!"}},{"$error":"#VALUE!"},{"$error":"#VALUE!"},{"$error":"#VALUE!"},{"$error":"#VALUE!"},{"$error":"#VALUE!"},{"$error":"#VALUE!"},{"$error":"#VALUE!"},{"$error":"#VALUE!"},{"$f":"VLOOKUP($U162,Tabel!$J$3:$K$109,2,FALSE)","v":{"$error":"#VALUE!"}},{"$f":"Tabel!$K$106&$A162&$V162&Tabel!$K$109","v":{"$error":"#VALUE!"}},{"$error":"#VALUE!"}]
[{"$f":"gastenlijst[[#This Row],[Postcode-GSM]]","v":{"$error":"#VALUE!"}},{"$error":"#VALUE!"},{"$error":"#VALUE!"},{"$error":"#VALUE!"},{"$error":"#VALUE!"},{"$error":"#VALUE!"},{"$error":"#VALUE!"},{"$f":"VLOOKUP(B163,Tabel!$K$3:$L$109,2,FALSE)","v":{"$error":"#VALUE!"}},{"$f":"VLOOKUP(C163,Tabel!$K$3:$L$109,2,FALSE)","v":{"$error":"#VALUE!"}},{"$f":"VLOOKUP(D163,Tabel!$K$3:$L$109,2,FALSE)","v":{"$error":"#VALUE!"}},{"$f":"VLOOKUP(E163,Tabel!$K$3:$L$109,2,FALSE)","v":{"$error":"#VALUE!"}},{"$f":"VLOOKUP(F163,Tabel!$K$3:$L$109,2,FALSE)","v":{"$error":"#VALUE!"}},{"$f":"VLOOKUP(G163,Tabel!$K$3:$L$109,2,FALSE)","v":{"$error":"#VALUE!"}},{"$error":"#VALUE!"},{"$error":"#VALUE!"},{"$error":"#VALUE!"},{"$error":"#VALUE!"},{"$error":"#VALUE!"},{"$error":"#VALUE!"},{"$error":"#VALUE!"},{"$error":"#VALUE!"},{"$f":"VLOOKUP($U163,Tabel!$J$3:$K$109,2,FALSE)","v":{"$error":"#VALUE!"}},{"$f":"Tabel!$K$106&$A163&$V163&Tabel!$K$109","v":{"$error":"#VALUE!"}},{"$error":"#VALUE!"}]
[{"$f":"gastenlijst[[#This Row],[Postcode-GSM]]","v":{"$error":"#VALUE!"}},{"$error":"#VALUE!"},{"$error":"#VALUE!"},{"$error":"#VALUE!"},{"$error":"#VALUE!"},{"$error":"#VALUE!"},{"$error":"#VALUE!"},{"$f":"VLOOKUP(B164,Tabel!$K$3:$L$109,2,FALSE)","v":{"$error":"#VALUE!"}},{"$f":"VLOOKUP(C164,Tabel!$K$3:$L$109,2,FALSE)","v":{"$error":"#VALUE!"}},{"$f":"VLOOKUP(D164,Tabel!$K$3:$L$109,2,FALSE)","v":{"$error":"#VALUE!"}},{"$f":"VLOOKUP(E164,Tabel!$K$3:$L$109,2,FALSE)","v":{"$error":"#VALUE!"}},{"$f":"VLOOKUP(F164,Tabel!$K$3:$L$109,2,FALSE)","v":{"$error":"#VALUE!"}},{"$f":"VLOOKUP(G164,Tabel!$K$3:$L$109,2,FALSE)","v":{"$error":"#VALUE!"}},{"$error":"#VALUE!"},{"$error":"#VALUE!"},{"$error":"#VALUE!"},{"$error":"#VALUE!"},{"$error":"#VALUE!"},{"$error":"#VALUE!"},{"$error":"#VALUE!"},{"$error":"#VALUE!"},{"$f":"VLOOKUP($U164,Tabel!$J$3:$K$109,2,FALSE)","v":{"$error":"#VALUE!"}},{"$f":"Tabel!$K$106&$A164&$V164&Tabel!$K$109","v":{"$error":"#VALUE!"}},{"$error":"#VALUE!"}]
[{"$f":"gastenlijst[[#This Row],[Postcode-GSM]]","v":{"$error":"#VALUE!"}},{"$error":"#VALUE!"},{"$error":"#VALUE!"},{"$error":"#VALUE!"},{"$error":"#VALUE!"},{"$error":"#VALUE!"},{"$error":"#VALUE!"},{"$f":"VLOOKUP(B165,Tabel!$K$3:$L$109,2,FALSE)","v":{"$error":"#VALUE!"}},{"$f":"VLOOKUP(C165,Tabel!$K$3:$L$109,2,FALSE)","v":{"$error":"#VALUE!"}},{"$f":"VLOOKUP(D165,Tabel!$K$3:$L$109,2,FALSE)","v":{"$error":"#VALUE!"}},{"$f":"VLOOKUP(E165,Tabel!$K$3:$L$109,2,FALSE)","v":{"$error":"#VALUE!"}},{"$f":"VLOOKUP(F165,Tabel!$K$3:$L$109,2,FALSE)","v":{"$error":"#VALUE!"}},{"$f":"VLOOKUP(G165,Tabel!$K$3:$L$109,2,FALSE)","v":{"$error":"#VALUE!"}},{"$error":"#VALUE!"},{"$error":"#VALUE!"},{"$error":"#VALUE!"},{"$error":"#VALUE!"},{"$error":"#VALUE!"},{"$error":"#VALUE!"},{"$error":"#VALUE!"},{"$error":"#VALUE!"},{"$f":"VLOOKUP($U165,Tabel!$J$3:$K$109,2,FALSE)","v":{"$error":"#VALUE!"}},{"$f":"Tabel!$K$106&$A165&$V165&Tabel!$K$109","v":{"$error":"#VALUE!"}},{"$error":"#VALUE!"}]
[{"$f":"gastenlijst[[#This Row],[Postcode-GSM]]","v":{"$error":"#VALUE!"}},{"$error":"#VALUE!"},{"$error":"#VALUE!"},{"$error":"#VALUE!"},{"$error":"#VALUE!"},{"$error":"#VALUE!"},{"$error":"#VALUE!"},{"$f":"VLOOKUP(B166,Tabel!$K$3:$L$109,2,FALSE)","v":{"$error":"#VALUE!"}},{"$f":"VLOOKUP(C166,Tabel!$K$3:$L$109,2,FALSE)","v":{"$error":"#VALUE!"}},{"$f":"VLOOKUP(D166,Tabel!$K$3:$L$109,2,FALSE)","v":{"$error":"#VALUE!"}},{"$f":"VLOOKUP(E166,Tabel!$K$3:$L$109,2,FALSE)","v":{"$error":"#VALUE!"}},{"$f":"VLOOKUP(F166,Tabel!$K$3:$L$109,2,FALSE)","v":{"$error":"#VALUE!"}},{"$f":"VLOOKUP(G166,Tabel!$K$3:$L$109,2,FALSE)","v":{"$error":"#VALUE!"}},{"$error":"#VALUE!"},{"$error":"#VALUE!"},{"$error":"#VALUE!"},{"$error":"#VALUE!"},{"$error":"#VALUE!"},{"$error":"#VALUE!"},{"$error":"#VALUE!"},{"$error":"#VALUE!"},{"$f":"VLOOKUP($U166,Tabel!$J$3:$K$109,2,FALSE)","v":{"$error":"#VALUE!"}},{"$f":"Tabel!$K$106&$A166&$V166&Tabel!$K$109","v":{"$error":"#VALUE!"}},{"$error":"#VALUE!"}]
[{"$f":"gastenlijst[[#This Row],[Postcode-GSM]]","v":{"$error":"#VALUE!"}},{"$error":"#VALUE!"},{"$error":"#VALUE!"},{"$error":"#VALUE!"},{"$error":"#VALUE!"},{"$error":"#VALUE!"},{"$error":"#VALUE!"},{"$f":"VLOOKUP(B167,Tabel!$K$3:$L$109,2,FALSE)","v":{"$error":"#VALUE!"}},{"$f":"VLOOKUP(C167,Tabel!$K$3:$L$109,2,FALSE)","v":{"$error":"#VALUE!"}},{"$f":"VLOOKUP(D167,Tabel!$K$3:$L$109,2,FALSE)","v":{"$error":"#VALUE!"}},{"$f":"VLOOKUP(E167,Tabel!$K$3:$L$109,2,FALSE)","v":{"$error":"#VALUE!"}},{"$f":"VLOOKUP(F167,Tabel!$K$3:$L$109,2,FALSE)","v":{"$error":"#VALUE!"}},{"$f":"VLOOKUP(G167,Tabel!$K$3:$L$109,2,FALSE)","v":{"$error":"#VALUE!"}},{"$error":"#VALUE!"},{"$error":"#VALUE!"},{"$error":"#VALUE!"},{"$error":"#VALUE!"},{"$error":"#VALUE!"},{"$error":"#VALUE!"},{"$error":"#VALUE!"},{"$error":"#VALUE!"},{"$f":"VLOOKUP($U167,Tabel!$J$3:$K$109,2,FALSE)","v":{"$error":"#VALUE!"}},{"$f":"Tabel!$K$106&$A167&$V167&Tabel!$K$109","v":{"$error":"#VALUE!"}},{"$error":"#VALUE!"}]
[{"$f":"gastenlijst[[#This Row],[Postcode-GSM]]","v":{"$error":"#VALUE!"}},{"$error":"#VALUE!"},{"$error":"#VALUE!"},{"$error":"#VALUE!"},{"$error":"#VALUE!"},{"$error":"#VALUE!"},{"$error":"#VALUE!"},{"$f":"VLOOKUP(B168,Tabel!$K$3:$L$109,2,FALSE)","v":{"$error":"#VALUE!"}},{"$f":"VLOOKUP(C168,Tabel!$K$3:$L$109,2,FALSE)","v":{"$error":"#VALUE!"}},{"$f":"VLOOKUP(D168,Tabel!$K$3:$L$109,2,FALSE)","v":{"$error":"#VALUE!"}},{"$f":"VLOOKUP(E168,Tabel!$K$3:$L$109,2,FALSE)","v":{"$error":"#VALUE!"}},{"$f":"VLOOKUP(F168,Tabel!$K$3:$L$109,2,FALSE)","v":{"$error":"#VALUE!"}},{"$f":"VLOOKUP(G168,Tabel!$K$3:$L$109,2,FALSE)","v":{"$error":"#VALUE!"}},{"$error":"#VALUE!"},{"$error":"#VALUE!"},{"$error":"#VALUE!"},{"$error":"#VALUE!"},{"$error":"#VALUE!"},{"$error":"#VALUE!"},{"$error":"#VALUE!"},{"$error":"#VALUE!"},{"$f":"VLOOKUP($U168,Tabel!$J$3:$K$109,2,FALSE)","v":{"$error":"#VALUE!"}},{"$f":"Tabel!$K$106&$A168&$V168&Tabel!$K$109","v":{"$error":"#VALUE!"}},{"$error":"#VALUE!"}]
[{"$f":"gastenlijst[[#This Row],[Postcode-GSM]]","v":{"$error":"#VALUE!"}},{"$error":"#VALUE!"},{"$error":"#VALUE!"},{"$error":"#VALUE!"},{"$error":"#VALUE!"},{"$error":"#VALUE!"},{"$error":"#VALUE!"},{"$f":"VLOOKUP(B169,Tabel!$K$3:$L$109,2,FALSE)","v":{"$error":"#VALUE!"}},{"$f":"VLOOKUP(C169,Tabel!$K$3:$L$109,2,FALSE)","v":{"$error":"#VALUE!"}},{"$f":"VLOOKUP(D169,Tabel!$K$3:$L$109,2,FALSE)","v":{"$error":"#VALUE!"}},{"$f":"VLOOKUP(E169,Tabel!$K$3:$L$109,2,FALSE)","v":{"$error":"#VALUE!"}},{"$f":"VLOOKUP(F169,Tabel!$K$3:$L$109,2,FALSE)","v":{"$error":"#VALUE!"}},{"$f":"VLOOKUP(G169,Tabel!$K$3:$L$109,2,FALSE)","v":{"$error":"#VALUE!"}},{"$error":"#VALUE!"},{"$error":"#VALUE!"},{"$error":"#VALUE!"},{"$error":"#VALUE!"},{"$error":"#VALUE!"},{"$error":"#VALUE!"},{"$error":"#VALUE!"},{"$error":"#VALUE!"},{"$f":"VLOOKUP($U169,Tabel!$J$3:$K$109,2,FALSE)","v":{"$error":"#VALUE!"}},{"$f":"Tabel!$K$106&$A169&$V169&Tabel!$K$109","v":{"$error":"#VALUE!"}},{"$error":"#VALUE!"}]
[{"$f":"gastenlijst[[#This Row],[Postcode-GSM]]","v":{"$error":"#VALUE!"}},{"$error":"#VALUE!"},{"$error":"#VALUE!"},{"$error":"#VALUE!"},{"$error":"#VALUE!"},{"$error":"#VALUE!"},{"$error":"#VALUE!"},{"$f":"VLOOKUP(B170,Tabel!$K$3:$L$109,2,FALSE)","v":{"$error":"#VALUE!"}},{"$f":"VLOOKUP(C170,Tabel!$K$3:$L$109,2,FALSE)","v":{"$error":"#VALUE!"}},{"$f":"VLOOKUP(D170,Tabel!$K$3:$L$109,2,FALSE)","v":{"$error":"#VALUE!"}},{"$f":"VLOOKUP(E170,Tabel!$K$3:$L$109,2,FALSE)","v":{"$error":"#VALUE!"}},{"$f":"VLOOKUP(F170,Tabel!$K$3:$L$109,2,FALSE)","v":{"$error":"#VALUE!"}},{"$f":"VLOOKUP(G170,Tabel!$K$3:$L$109,2,FALSE)","v":{"$error":"#VALUE!"}},{"$error":"#VALUE!"},{"$error":"#VALUE!"},{"$error":"#VALUE!"},{"$error":"#VALUE!"},{"$error":"#VALUE!"},{"$error":"#VALUE!"},{"$error":"#VALUE!"},{"$error":"#VALUE!"},{"$f":"VLOOKUP($U170,Tabel!$J$3:$K$109,2,FALSE)","v":{"$error":"#VALUE!"}},{"$f":"Tabel!$K$106&$A170&$V170&Tabel!$K$109","v":{"$error":"#VALUE!"}},{"$error":"#VALUE!"}]
[{"$f":"gastenlijst[[#This Row],[Postcode-GSM]]","v":{"$error":"#VALUE!"}},{"$error":"#VALUE!"},{"$error":"#VALUE!"},{"$error":"#VALUE!"},{"$error":"#VALUE!"},{"$error":"#VALUE!"},{"$error":"#VALUE!"},{"$f":"VLOOKUP(B171,Tabel!$K$3:$L$109,2,FALSE)","v":{"$error":"#VALUE!"}},{"$f":"VLOOKUP(C171,Tabel!$K$3:$L$109,2,FALSE)","v":{"$error":"#VALUE!"}},{"$f":"VLOOKUP(D171,Tabel!$K$3:$L$109,2,FALSE)","v":{"$error":"#VALUE!"}},{"$f":"VLOOKUP(E171,Tabel!$K$3:$L$109,2,FALSE)","v":{"$error":"#VALUE!"}},{"$f":"VLOOKUP(F171,Tabel!$K$3:$L$109,2,FALSE)","v":{"$error":"#VALUE!"}},{"$f":"VLOOKUP(G171,Tabel!$K$3:$L$109,2,FALSE)","v":{"$error":"#VALUE!"}},{"$error":"#VALUE!"},{"$error":"#VALUE!"},{"$error":"#VALUE!"},{"$error":"#VALUE!"},{"$error":"#VALUE!"},{"$error":"#VALUE!"},{"$error":"#VALUE!"},{"$error":"#VALUE!"},{"$f":"VLOOKUP($U171,Tabel!$J$3:$K$109,2,FALSE)","v":{"$error":"#VALUE!"}},{"$f":"Tabel!$K$106&$A171&$V171&Tabel!$K$109","v":{"$error":"#VALUE!"}},{"$error":"#VALUE!"}]
[{"$f":"gastenlijst[[#This Row],[Postcode-GSM]]","v":{"$error":"#VALUE!"}},{"$error":"#VALUE!"},{"$error":"#VALUE!"},{"$error":"#VALUE!"},{"$error":"#VALUE!"},{"$error":"#VALUE!"},{"$error":"#VALUE!"},{"$f":"VLOOKUP(B172,Tabel!$K$3:$L$109,2,FALSE)","v":{"$error":"#VALUE!"}},{"$f":"VLOOKUP(C172,Tabel!$K$3:$L$109,2,FALSE)","v":{"$error":"#VALUE!"}},{"$f":"VLOOKUP(D172,Tabel!$K$3:$L$109,2,FALSE)","v":{"$error":"#VALUE!"}},{"$f":"VLOOKUP(E172,Tabel!$K$3:$L$109,2,FALSE)","v":{"$error":"#VALUE!"}},{"$f":"VLOOKUP(F172,Tabel!$K$3:$L$109,2,FALSE)","v":{"$error":"#VALUE!"}},{"$f":"VLOOKUP(G172,Tabel!$K$3:$L$109,2,FALSE)","v":{"$error":"#VALUE!"}},{"$error":"#VALUE!"},{"$error":"#VALUE!"},{"$error":"#VALUE!"},{"$error":"#VALUE!"},{"$error":"#VALUE!"},{"$error":"#VALUE!"},{"$error":"#VALUE!"},{"$error":"#VALUE!"},{"$f":"VLOOKUP($U172,Tabel!$J$3:$K$109,2,FALSE)","v":{"$error":"#VALUE!"}},{"$f":"Tabel!$K$106&$A172&$V172&Tabel!$K$109","v":{"$error":"#VALUE!"}},{"$error":"#VALUE!"}]
[{"$f":"gastenlijst[[#This Row],[Postcode-GSM]]","v":{"$error":"#VALUE!"}},{"$error":"#VALUE!"},{"$error":"#VALUE!"},{"$error":"#VALUE!"},{"$error":"#VALUE!"},{"$error":"#VALUE!"},{"$error":"#VALUE!"},{"$f":"VLOOKUP(B173,Tabel!$K$3:$L$109,2,FALSE)","v":{"$error":"#VALUE!"}},{"$f":"VLOOKUP(C173,Tabel!$K$3:$L$109,2,FALSE)","v":{"$error":"#VALUE!"}},{"$f":"VLOOKUP(D173,Tabel!$K$3:$L$109,2,FALSE)","v":{"$error":"#VALUE!"}},{"$f":"VLOOKUP(E173,Tabel!$K$3:$L$109,2,FALSE)","v":{"$error":"#VALUE!"}},{"$f":"VLOOKUP(F173,Tabel!$K$3:$L$109,2,FALSE)","v":{"$error":"#VALUE!"}},{"$f":"VLOOKUP(G173,Tabel!$K$3:$L$109,2,FALSE)","v":{"$error":"#VALUE!"}},{"$error":"#VALUE!"},{"$error":"#VALUE!"},{"$error":"#VALUE!"},{"$error":"#VALUE!"},{"$error":"#VALUE!"},{"$error":"#VALUE!"},{"$error":"#VALUE!"},{"$error":"#VALUE!"},{"$f":"VLOOKUP($U173,Tabel!$J$3:$K$109,2,FALSE)","v":{"$error":"#VALUE!"}},{"$f":"Tabel!$K$106&$A173&$V173&Tabel!$K$109","v":{"$error":"#VALUE!"}},{"$error":"#VALUE!"}]
[{"$f":"gastenlijst[[#This Row],[Postcode-GSM]]","v":{"$error":"#VALUE!"}},{"$error":"#VALUE!"},{"$error":"#VALUE!"},{"$error":"#VALUE!"},{"$error":"#VALUE!"},{"$error":"#VALUE!"},{"$error":"#VALUE!"},{"$f":"VLOOKUP(B174,Tabel!$K$3:$L$109,2,FALSE)","v":{"$error":"#VALUE!"}},{"$f":"VLOOKUP(C174,Tabel!$K$3:$L$109,2,FALSE)","v":{"$error":"#VALUE!"}},{"$f":"VLOOKUP(D174,Tabel!$K$3:$L$109,2,FALSE)","v":{"$error":"#VALUE!"}},{"$f":"VLOOKUP(E174,Tabel!$K$3:$L$109,2,FALSE)","v":{"$error":"#VALUE!"}},{"$f":"VLOOKUP(F174,Tabel!$K$3:$L$109,2,FALSE)","v":{"$error":"#VALUE!"}},{"$f":"VLOOKUP(G174,Tabel!$K$3:$L$109,2,FALSE)","v":{"$error":"#VALUE!"}},{"$error":"#VALUE!"},{"$error":"#VALUE!"},{"$error":"#VALUE!"},{"$error":"#VALUE!"},{"$error":"#VALUE!"},{"$error":"#VALUE!"},{"$error":"#VALUE!"},{"$error":"#VALUE!"},{"$f":"VLOOKUP($U174,Tabel!$J$3:$K$109,2,FALSE)","v":{"$error":"#VALUE!"}},{"$f":"Tabel!$K$106&$A174&$V174&Tabel!$K$109","v":{"$error":"#VALUE!"}},{"$error":"#VALUE!"}]
[{"$f":"gastenlijst[[#This Row],[Postcode-GSM]]","v":{"$error":"#VALUE!"}},{"$error":"#VALUE!"},{"$error":"#VALUE!"},{"$error":"#VALUE!"},{"$error":"#VALUE!"},{"$error":"#VALUE!"},{"$error":"#VALUE!"},{"$f":"VLOOKUP(B175,Tabel!$K$3:$L$109,2,FALSE)","v":{"$error":"#VALUE!"}},{"$f":"VLOOKUP(C175,Tabel!$K$3:$L$109,2,FALSE)","v":{"$error":"#VALUE!"}},{"$f":"VLOOKUP(D175,Tabel!$K$3:$L$109,2,FALSE)","v":{"$error":"#VALUE!"}},{"$f":"VLOOKUP(E175,Tabel!$K$3:$L$109,2,FALSE)","v":{"$error":"#VALUE!"}},{"$f":"VLOOKUP(F175,Tabel!$K$3:$L$109,2,FALSE)","v":{"$error":"#VALUE!"}},{"$f":"VLOOKUP(G175,Tabel!$K$3:$L$109,2,FALSE)","v":{"$error":"#VALUE!"}},{"$error":"#VALUE!"},{"$error":"#VALUE!"},{"$error":"#VALUE!"},{"$error":"#VALUE!"},{"$error":"#VALUE!"},{"$error":"#VALUE!"},{"$error":"#VALUE!"},{"$error":"#VALUE!"},{"$f":"VLOOKUP($U175,Tabel!$J$3:$K$109,2,FALSE)","v":{"$error":"#VALUE!"}},{"$f":"Tabel!$K$106&$A175&$V175&Tabel!$K$109","v":{"$error":"#VALUE!"}},{"$error":"#VALUE!"}]
[{"$f":"gastenlijst[[#This Row],[Postcode-GSM]]","v":{"$error":"#VALUE!"}},{"$error":"#VALUE!"},{"$error":"#VALUE!"},{"$error":"#VALUE!"},{"$error":"#VALUE!"},{"$error":"#VALUE!"},{"$error":"#VALUE!"},{"$f":"VLOOKUP(B176,Tabel!$K$3:$L$109,2,FALSE)","v":{"$error":"#VALUE!"}},{"$f":"VLOOKUP(C176,Tabel!$K$3:$L$109,2,FALSE)","v":{"$error":"#VALUE!"}},{"$f":"VLOOKUP(D176,Tabel!$K$3:$L$109,2,FALSE)","v":{"$error":"#VALUE!"}},{"$f":"VLOOKUP(E176,Tabel!$K$3:$L$109,2,FALSE)","v":{"$error":"#VALUE!"}},{"$f":"VLOOKUP(F176,Tabel!$K$3:$L$109,2,FALSE)","v":{"$error":"#VALUE!"}},{"$f":"VLOOKUP(G176,Tabel!$K$3:$L$109,2,FALSE)","v":{"$error":"#VALUE!"}},{"$error":"#VALUE!"},{"$error":"#VALUE!"},{"$error":"#VALUE!"},{"$error":"#VALUE!"},{"$error":"#VALUE!"},{"$error":"#VALUE!"},{"$error":"#VALUE!"},{"$error":"#VALUE!"},{"$f":"VLOOKUP($U176,Tabel!$J$3:$K$109,2,FALSE)","v":{"$error":"#VALUE!"}},{"$f":"Tabel!$K$106&$A176&$V176&Tabel!$K$109","v":{"$error":"#VALUE!"}},{"$error":"#VALUE!"}]
[{"$f":"gastenlijst[[#This Row],[Postcode-GSM]]","v":{"$error":"#VALUE!"}},{"$error":"#VALUE!"},{"$error":"#VALUE!"},{"$error":"#VALUE!"},{"$error":"#VALUE!"},{"$error":"#VALUE!"},{"$error":"#VALUE!"},{"$f":"VLOOKUP(B177,Tabel!$K$3:$L$109,2,FALSE)","v":{"$error":"#VALUE!"}},{"$f":"VLOOKUP(C177,Tabel!$K$3:$L$109,2,FALSE)","v":{"$error":"#VALUE!"}},{"$f":"VLOOKUP(D177,Tabel!$K$3:$L$109,2,FALSE)","v":{"$error":"#VALUE!"}},{"$f":"VLOOKUP(E177,Tabel!$K$3:$L$109,2,FALSE)","v":{"$error":"#VALUE!"}},{"$f":"VLOOKUP(F177,Tabel!$K$3:$L$109,2,FALSE)","v":{"$error":"#VALUE!"}},{"$f":"VLOOKUP(G177,Tabel!$K$3:$L$109,2,FALSE)","v":{"$error":"#VALUE!"}},{"$error":"#VALUE!"},{"$error":"#VALUE!"},{"$error":"#VALUE!"},{"$error":"#VALUE!"},{"$error":"#VALUE!"},{"$error":"#VALUE!"},{"$error":"#VALUE!"},{"$error":"#VALUE!"},{"$f":"VLOOKUP($U177,Tabel!$J$3:$K$109,2,FALSE)","v":{"$error":"#VALUE!"}},{"$f":"Tabel!$K$106&$A177&$V177&Tabel!$K$109","v":{"$error":"#VALUE!"}},{"$error":"#VALUE!"}]
[{"$f":"gastenlijst[[#This Row],[Postcode-GSM]]","v":{"$error":"#VALUE!"}},{"$error":"#VALUE!"},{"$error":"#VALUE!"},{"$error":"#VALUE!"},{"$error":"#VALUE!"},{"$error":"#VALUE!"},{"$error":"#VALUE!"},{"$f":"VLOOKUP(B178,Tabel!$K$3:$L$109,2,FALSE)","v":{"$error":"#VALUE!"}},{"$f":"VLOOKUP(C178,Tabel!$K$3:$L$109,2,FALSE)","v":{"$error":"#VALUE!"}},{"$f":"VLOOKUP(D178,Tabel!$K$3:$L$109,2,FALSE)","v":{"$error":"#VALUE!"}},{"$f":"VLOOKUP(E178,Tabel!$K$3:$L$109,2,FALSE)","v":{"$error":"#VALUE!"}},{"$f":"VLOOKUP(F178,Tabel!$K$3:$L$109,2,FALSE)","v":{"$error":"#VALUE!"}},{"$f":"VLOOKUP(G178,Tabel!$K$3:$L$109,2,FALSE)","v":{"$error":"#VALUE!"}},{"$error":"#VALUE!"},{"$error":"#VALUE!"},{"$error":"#VALUE!"},{"$error":"#VALUE!"},{"$error":"#VALUE!"},{"$error":"#VALUE!"},{"$error":"#VALUE!"},{"$error":"#VALUE!"},{"$f":"VLOOKUP($U178,Tabel!$J$3:$K$109,2,FALSE)","v":{"$error":"#VALUE!"}},{"$f":"Tabel!$K$106&$A178&$V178&Tabel!$K$109","v":{"$error":"#VALUE!"}},{"$error":"#VALUE!"}]
[{"$f":"gastenlijst[[#This Row],[Postcode-GSM]]","v":{"$error":"#VALUE!"}},{"$error":"#VALUE!"},{"$error":"#VALUE!"},{"$error":"#VALUE!"},{"$error":"#VALUE!"},{"$error":"#VALUE!"},{"$error":"#VALUE!"},{"$f":"VLOOKUP(B179,Tabel!$K$3:$L$109,2,FALSE)","v":{"$error":"#VALUE!"}},{"$f":"VLOOKUP(C179,Tabel!$K$3:$L$109,2,FALSE)","v":{"$error":"#VALUE!"}},{"$f":"VLOOKUP(D179,Tabel!$K$3:$L$109,2,FALSE)","v":{"$error":"#VALUE!"}},{"$f":"VLOOKUP(E179,Tabel!$K$3:$L$109,2,FALSE)","v":{"$error":"#VALUE!"}},{"$f":"VLOOKUP(F179,Tabel!$K$3:$L$109,2,FALSE)","v":{"$error":"#VALUE!"}},{"$f":"VLOOKUP(G179,Tabel!$K$3:$L$109,2,FALSE)","v":{"$error":"#VALUE!"}},{"$error":"#VALUE!"},{"$error":"#VALUE!"},{"$error":"#VALUE!"},{"$error":"#VALUE!"},{"$error":"#VALUE!"},{"$error":"#VALUE!"},{"$error":"#VALUE!"},{"$error":"#VALUE!"},{"$f":"VLOOKUP($U179,Tabel!$J$3:$K$109,2,FALSE)","v":{"$error":"#VALUE!"}},{"$f":"Tabel!$K$106&$A179&$V179&Tabel!$K$109","v":{"$error":"#VALUE!"}},{"$error":"#VALUE!"}]
[{"$f":"gastenlijst[[#This Row],[Postcode-GSM]]","v":{"$error":"#VALUE!"}},{"$error":"#VALUE!"},{"$error":"#VALUE!"},{"$error":"#VALUE!"},{"$error":"#VALUE!"},{"$error":"#VALUE!"},{"$error":"#VALUE!"},{"$f":"VLOOKUP(B180,Tabel!$K$3:$L$109,2,FALSE)","v":{"$error":"#VALUE!"}},{"$f":"VLOOKUP(C180,Tabel!$K$3:$L$109,2,FALSE)","v":{"$error":"#VALUE!"}},{"$f":"VLOOKUP(D180,Tabel!$K$3:$L$109,2,FALSE)","v":{"$error":"#VALUE!"}},{"$f":"VLOOKUP(E180,Tabel!$K$3:$L$109,2,FALSE)","v":{"$error":"#VALUE!"}},{"$f":"VLOOKUP(F180,Tabel!$K$3:$L$109,2,FALSE)","v":{"$error":"#VALUE!"}},{"$f":"VLOOKUP(G180,Tabel!$K$3:$L$109,2,FALSE)","v":{"$error":"#VALUE!"}},{"$error":"#VALUE!"},{"$error":"#VALUE!"},{"$error":"#VALUE!"},{"$error":"#VALUE!"},{"$error":"#VALUE!"},{"$error":"#VALUE!"},{"$error":"#VALUE!"},{"$error":"#VALUE!"},{"$f":"VLOOKUP($U180,Tabel!$J$3:$K$109,2,FALSE)","v":{"$error":"#VALUE!"}},{"$f":"Tabel!$K$106&$A180&$V180&Tabel!$K$109","v":{"$error":"#VALUE!"}},{"$error":"#VALUE!"}]
[{"$f":"gastenlijst[[#This Row],[Postcode-GSM]]","v":{"$error":"#VALUE!"}},{"$error":"#VALUE!"},{"$error":"#VALUE!"},{"$error":"#VALUE!"},{"$error":"#VALUE!"},{"$error":"#VALUE!"},{"$error":"#VALUE!"},{"$f":"VLOOKUP(B181,Tabel!$K$3:$L$109,2,FALSE)","v":{"$error":"#VALUE!"}},{"$f":"VLOOKUP(C181,Tabel!$K$3:$L$109,2,FALSE)","v":{"$error":"#VALUE!"}},{"$f":"VLOOKUP(D181,Tabel!$K$3:$L$109,2,FALSE)","v":{"$error":"#VALUE!"}},{"$f":"VLOOKUP(E181,Tabel!$K$3:$L$109,2,FALSE)","v":{"$error":"#VALUE!"}},{"$f":"VLOOKUP(F181,Tabel!$K$3:$L$109,2,FALSE)","v":{"$error":"#VALUE!"}},{"$f":"VLOOKUP(G181,Tabel!$K$3:$L$109,2,FALSE)","v":{"$error":"#VALUE!"}},{"$error":"#VALUE!"},{"$error":"#VALUE!"},{"$error":"#VALUE!"},{"$error":"#VALUE!"},{"$error":"#VALUE!"},{"$error":"#VALUE!"},{"$error":"#VALUE!"},{"$error":"#VALUE!"},{"$f":"VLOOKUP($U181,Tabel!$J$3:$K$109,2,FALSE)","v":{"$error":"#VALUE!"}},{"$f":"Tabel!$K$106&$A181&$V181&Tabel!$K$109","v":{"$error":"#VALUE!"}},{"$error":"#VALUE!"}]
[{"$f":"gastenlijst[[#This Row],[Postcode-GSM]]","v":{"$error":"#VALUE!"}},{"$error":"#VALUE!"},{"$error":"#VALUE!"},{"$error":"#VALUE!"},{"$error":"#VALUE!"},{"$error":"#VALUE!"},{"$error":"#VALUE!"},{"$f":"VLOOKUP(B182,Tabel!$K$3:$L$109,2,FALSE)","v":{"$error":"#VALUE!"}},{"$f":"VLOOKUP(C182,Tabel!$K$3:$L$109,2,FALSE)","v":{"$error":"#VALUE!"}},{"$f":"VLOOKUP(D182,Tabel!$K$3:$L$109,2,FALSE)","v":{"$error":"#VALUE!"}},{"$f":"VLOOKUP(E182,Tabel!$K$3:$L$109,2,FALSE)","v":{"$error":"#VALUE!"}},{"$f":"VLOOKUP(F182,Tabel!$K$3:$L$109,2,FALSE)","v":{"$error":"#VALUE!"}},{"$f":"VLOOKUP(G182,Tabel!$K$3:$L$109,2,FALSE)","v":{"$error":"#VALUE!"}},{"$error":"#VALUE!"},{"$error":"#VALUE!"},{"$error":"#VALUE!"},{"$error":"#VALUE!"},{"$error":"#VALUE!"},{"$error":"#VALUE!"},{"$error":"#VALUE!"},{"$error":"#VALUE!"},{"$f":"VLOOKUP($U182,Tabel!$J$3:$K$109,2,FALSE)","v":{"$error":"#VALUE!"}},{"$f":"Tabel!$K$106&$A182&$V182&Tabel!$K$109","v":{"$error":"#VALUE!"}},{"$error":"#VALUE!"}]
[{"$f":"gastenlijst[[#This Row],[Postcode-GSM]]","v":{"$error":"#VALUE!"}},{"$error":"#VALUE!"},{"$error":"#VALUE!"},{"$error":"#VALUE!"},{"$error":"#VALUE!"},{"$error":"#VALUE!"},{"$error":"#VALUE!"},{"$f":"VLOOKUP(B183,Tabel!$K$3:$L$109,2,FALSE)","v":{"$error":"#VALUE!"}},{"$f":"VLOOKUP(C183,Tabel!$K$3:$L$109,2,FALSE)","v":{"$error":"#VALUE!"}},{"$f":"VLOOKUP(D183,Tabel!$K$3:$L$109,2,FALSE)","v":{"$error":"#VALUE!"}},{"$f":"VLOOKUP(E183,Tabel!$K$3:$L$109,2,FALSE)","v":{"$error":"#VALUE!"}},{"$f":"VLOOKUP(F183,Tabel!$K$3:$L$109,2,FALSE)","v":{"$error":"#VALUE!"}},{"$f":"VLOOKUP(G183,Tabel!$K$3:$L$109,2,FALSE)","v":{"$error":"#VALUE!"}},{"$error":"#VALUE!"},{"$error":"#VALUE!"},{"$error":"#VALUE!"},{"$error":"#VALUE!"},{"$error":"#VALUE!"},{"$error":"#VALUE!"},{"$error":"#VALUE!"},{"$error":"#VALUE!"},{"$f":"VLOOKUP($U183,Tabel!$J$3:$K$109,2,FALSE)","v":{"$error":"#VALUE!"}},{"$f":"Tabel!$K$106&$A183&$V183&Tabel!$K$109","v":{"$error":"#VALUE!"}},{"$error":"#VALUE!"}]
[{"$f":"gastenlijst[[#This Row],[Postcode-GSM]]","v":{"$error":"#VALUE!"}},{"$error":"#VALUE!"},{"$error":"#VALUE!"},{"$error":"#VALUE!"},{"$error":"#VALUE!"},{"$error":"#VALUE!"},{"$error":"#VALUE!"},{"$f":"VLOOKUP(B184,Tabel!$K$3:$L$109,2,FALSE)","v":{"$error":"#VALUE!"}},{"$f":"VLOOKUP(C184,Tabel!$K$3:$L$109,2,FALSE)","v":{"$error":"#VALUE!"}},{"$f":"VLOOKUP(D184,Tabel!$K$3:$L$109,2,FALSE)","v":{"$error":"#VALUE!"}},{"$f":"VLOOKUP(E184,Tabel!$K$3:$L$109,2,FALSE)","v":{"$error":"#VALUE!"}},{"$f":"VLOOKUP(F184,Tabel!$K$3:$L$109,2,FALSE)","v":{"$error":"#VALUE!"}},{"$f":"VLOOKUP(G184,Tabel!$K$3:$L$109,2,FALSE)","v":{"$error":"#VALUE!"}},{"$error":"#VALUE!"},{"$error":"#VALUE!"},{"$error":"#VALUE!"},{"$error":"#VALUE!"},{"$error":"#VALUE!"},{"$error":"#VALUE!"},{"$error":"#VALUE!"},{"$error":"#VALUE!"},{"$f":"VLOOKUP($U184,Tabel!$J$3:$K$109,2,FALSE)","v":{"$error":"#VALUE!"}},{"$f":"Tabel!$K$106&$A184&$V184&Tabel!$K$109","v":{"$error":"#VALUE!"}},{"$error":"#VALUE!"}]
[{"$f":"gastenlijst[[#This Row],[Postcode-GSM]]","v":{"$error":"#VALUE!"}},{"$error":"#VALUE!"},{"$error":"#VALUE!"},{"$error":"#VALUE!"},{"$error":"#VALUE!"},{"$error":"#VALUE!"},{"$error":"#VALUE!"},{"$f":"VLOOKUP(B185,Tabel!$K$3:$L$109,2,FALSE)","v":{"$error":"#VALUE!"}},{"$f":"VLOOKUP(C185,Tabel!$K$3:$L$109,2,FALSE)","v":{"$error":"#VALUE!"}},{"$f":"VLOOKUP(D185,Tabel!$K$3:$L$109,2,FALSE)","v":{"$error":"#VALUE!"}},{"$f":"VLOOKUP(E185,Tabel!$K$3:$L$109,2,FALSE)","v":{"$error":"#VALUE!"}},{"$f":"VLOOKUP(F185,Tabel!$K$3:$L$109,2,FALSE)","v":{"$error":"#VALUE!"}},{"$f":"VLOOKUP(G185,Tabel!$K$3:$L$109,2,FALSE)","v":{"$error":"#VALUE!"}},{"$error":"#VALUE!"},{"$error":"#VALUE!"},{"$error":"#VALUE!"},{"$error":"#VALUE!"},{"$error":"#VALUE!"},{"$error":"#VALUE!"},{"$error":"#VALUE!"},{"$error":"#VALUE!"},{"$f":"VLOOKUP($U185,Tabel!$J$3:$K$109,2,FALSE)","v":{"$error":"#VALUE!"}},{"$f":"Tabel!$K$106&$A185&$V185&Tabel!$K$109","v":{"$error":"#VALUE!"}},{"$error":"#VALUE!"}]
[{"$f":"gastenlijst[[#This Row],[Postcode-GSM]]","v":{"$error":"#VALUE!"}},{"$error":"#VALUE!"},{"$error":"#VALUE!"},{"$error":"#VALUE!"},{"$error":"#VALUE!"},{"$error":"#VALUE!"},{"$error":"#VALUE!"},{"$f":"VLOOKUP(B186,Tabel!$K$3:$L$109,2,FALSE)","v":{"$error":"#VALUE!"}},{"$f":"VLOOKUP(C186,Tabel!$K$3:$L$109,2,FALSE)","v":{"$error":"#VALUE!"}},{"$f":"VLOOKUP(D186,Tabel!$K$3:$L$109,2,FALSE)","v":{"$error":"#VALUE!"}},{"$f":"VLOOKUP(E186,Tabel!$K$3:$L$109,2,FALSE)","v":{"$error":"#VALUE!"}},{"$f":"VLOOKUP(F186,Tabel!$K$3:$L$109,2,FALSE)","v":{"$error":"#VALUE!"}},{"$f":"VLOOKUP(G186,Tabel!$K$3:$L$109,2,FALSE)","v":{"$error":"#VALUE!"}},{"$error":"#VALUE!"},{"$error":"#VALUE!"},{"$error":"#VALUE!"},{"$error":"#VALUE!"},{"$error":"#VALUE!"},{"$error":"#VALUE!"},{"$error":"#VALUE!"},{"$error":"#VALUE!"},{"$f":"VLOOKUP($U186,Tabel!$J$3:$K$109,2,FALSE)","v":{"$error":"#VALUE!"}},{"$f":"Tabel!$K$106&$A186&$V186&Tabel!$K$109","v":{"$error":"#VALUE!"}},{"$error":"#VALUE!"}]
[{"$f":"gastenlijst[[#This Row],[Postcode-GSM]]","v":{"$error":"#VALUE!"}},{"$error":"#VALUE!"},{"$error":"#VALUE!"},{"$error":"#VALUE!"},{"$error":"#VALUE!"},{"$error":"#VALUE!"},{"$error":"#VALUE!"},{"$f":"VLOOKUP(B187,Tabel!$K$3:$L$109,2,FALSE)","v":{"$error":"#VALUE!"}},{"$f":"VLOOKUP(C187,Tabel!$K$3:$L$109,2,FALSE)","v":{"$error":"#VALUE!"}},{"$f":"VLOOKUP(D187,Tabel!$K$3:$L$109,2,FALSE)","v":{"$error":"#VALUE!"}},{"$f":"VLOOKUP(E187,Tabel!$K$3:$L$109,2,FALSE)","v":{"$error":"#VALUE!"}},{"$f":"VLOOKUP(F187,Tabel!$K$3:$L$109,2,FALSE)","v":{"$error":"#VALUE!"}},{"$f":"VLOOKUP(G187,Tabel!$K$3:$L$109,2,FALSE)","v":{"$error":"#VALUE!"}},{"$error":"#VALUE!"},{"$error":"#VALUE!"},{"$error":"#VALUE!"},{"$error":"#VALUE!"},{"$error":"#VALUE!"},{"$error":"#VALUE!"},{"$error":"#VALUE!"},{"$error":"#VALUE!"},{"$f":"VLOOKUP($U187,Tabel!$J$3:$K$109,2,FALSE)","v":{"$error":"#VALUE!"}},{"$f":"Tabel!$K$106&$A187&$V187&Tabel!$K$109","v":{"$error":"#VALUE!"}},{"$error":"#VALUE!"}]
[{"$f":"gastenlijst[[#This Row],[Postcode-GSM]]","v":{"$error":"#VALUE!"}},{"$error":"#VALUE!"},{"$error":"#VALUE!"},{"$error":"#VALUE!"},{"$error":"#VALUE!"},{"$error":"#VALUE!"},{"$error":"#VALUE!"},{"$f":"VLOOKUP(B188,Tabel!$K$3:$L$109,2,FALSE)","v":{"$error":"#VALUE!"}},{"$f":"VLOOKUP(C188,Tabel!$K$3:$L$109,2,FALSE)","v":{"$error":"#VALUE!"}},{"$f":"VLOOKUP(D188,Tabel!$K$3:$L$109,2,FALSE)","v":{"$error":"#VALUE!"}},{"$f":"VLOOKUP(E188,Tabel!$K$3:$L$109,2,FALSE)","v":{"$error":"#VALUE!"}},{"$f":"VLOOKUP(F188,Tabel!$K$3:$L$109,2,FALSE)","v":{"$error":"#VALUE!"}},{"$f":"VLOOKUP(G188,Tabel!$K$3:$L$109,2,FALSE)","v":{"$error":"#VALUE!"}},{"$error":"#VALUE!"},{"$error":"#VALUE!"},{"$error":"#VALUE!"},{"$error":"#VALUE!"},{"$error":"#VALUE!"},{"$error":"#VALUE!"},{"$error":"#VALUE!"},{"$error":"#VALUE!"},{"$f":"VLOOKUP($U188,Tabel!$J$3:$K$109,2,FALSE)","v":{"$error":"#VALUE!"}},{"$f":"Tabel!$K$106&$A188&$V188&Tabel!$K$109","v":{"$error":"#VALUE!"}},{"$error":"#VALUE!"}]
[{"$f":"gastenlijst[[#This Row],[Postcode-GSM]]","v":{"$error":"#VALUE!"}},{"$error":"#VALUE!"},{"$error":"#VALUE!"},{"$error":"#VALUE!"},{"$error":"#VALUE!"},{"$error":"#VALUE!"},{"$error":"#VALUE!"},{"$f":"VLOOKUP(B189,Tabel!$K$3:$L$109,2,FALSE)","v":{"$error":"#VALUE!"}},{"$f":"VLOOKUP(C189,Tabel!$K$3:$L$109,2,FALSE)","v":{"$error":"#VALUE!"}},{"$f":"VLOOKUP(D189,Tabel!$K$3:$L$109,2,FALSE)","v":{"$error":"#VALUE!"}},{"$f":"VLOOKUP(E189,Tabel!$K$3:$L$109,2,FALSE)","v":{"$error":"#VALUE!"}},{"$f":"VLOOKUP(F189,Tabel!$K$3:$L$109,2,FALSE)","v":{"$error":"#VALUE!"}},{"$f":"VLOOKUP(G189,Tabel!$K$3:$L$109,2,FALSE)","v":{"$error":"#VALUE!"}},{"$error":"#VALUE!"},{"$error":"#VALUE!"},{"$error":"#VALUE!"},{"$error":"#VALUE!"},{"$error":"#VALUE!"},{"$error":"#VALUE!"},{"$error":"#VALUE!"},{"$error":"#VALUE!"},{"$f":"VLOOKUP($U189,Tabel!$J$3:$K$109,2,FALSE)","v":{"$error":"#VALUE!"}},{"$f":"Tabel!$K$106&$A189&$V189&Tabel!$K$109","v":{"$error":"#VALUE!"}},{"$error":"#VALUE!"}]
[{"$f":"gastenlijst[[#This Row],[Postcode-GSM]]","v":{"$error":"#VALUE!"}},{"$error":"#VALUE!"},{"$error":"#VALUE!"},{"$error":"#VALUE!"},{"$error":"#VALUE!"},{"$error":"#VALUE!"},{"$error":"#VALUE!"},{"$f":"VLOOKUP(B190,Tabel!$K$3:$L$109,2,FALSE)","v":{"$error":"#VALUE!"}},{"$f":"VLOOKUP(C190,Tabel!$K$3:$L$109,2,FALSE)","v":{"$error":"#VALUE!"}},{"$f":"VLOOKUP(D190,Tabel!$K$3:$L$109,2,FALSE)","v":{"$error":"#VALUE!"}},{"$f":"VLOOKUP(E190,Tabel!$K$3:$L$109,2,FALSE)","v":{"$error":"#VALUE!"}},{"$f":"VLOOKUP(F190,Tabel!$K$3:$L$109,2,FALSE)","v":{"$error":"#VALUE!"}},{"$f":"VLOOKUP(G190,Tabel!$K$3:$L$109,2,FALSE)","v":{"$error":"#VALUE!"}},{"$error":"#VALUE!"},{"$error":"#VALUE!"},{"$error":"#VALUE!"},{"$error":"#VALUE!"},{"$error":"#VALUE!"},{"$error":"#VALUE!"},{"$error":"#VALUE!"},{"$error":"#VALUE!"},{"$f":"VLOOKUP($U190,Tabel!$J$3:$K$109,2,FALSE)","v":{"$error":"#VALUE!"}},{"$f":"Tabel!$K$106&$A190&$V190&Tabel!$K$109","v":{"$error":"#VALUE!"}},{"$error":"#VALUE!"}]
[{"$f":"gastenlijst[[#This Row],[Postcode-GSM]]","v":{"$error":"#VALUE!"}},{"$error":"#VALUE!"},{"$error":"#VALUE!"},{"$error":"#VALUE!"},{"$error":"#VALUE!"},{"$error":"#VALUE!"},{"$error":"#VALUE!"},{"$f":"VLOOKUP(B191,Tabel!$K$3:$L$109,2,FALSE)","v":{"$error":"#VALUE!"}},{"$f":"VLOOKUP(C191,Tabel!$K$3:$L$109,2,FALSE)","v":{"$error":"#VALUE!"}},{"$f":"VLOOKUP(D191,Tabel!$K$3:$L$109,2,FALSE)","v":{"$error":"#VALUE!"}},{"$f":"VLOOKUP(E191,Tabel!$K$3:$L$109,2,FALSE)","v":{"$error":"#VALUE!"}},{"$f":"VLOOKUP(F191,Tabel!$K$3:$L$109,2,FALSE)","v":{"$error":"#VALUE!"}},{"$f":"VLOOKUP(G191,Tabel!$K$3:$L$109,2,FALSE)","v":{"$error":"#VALUE!"}},{"$error":"#VALUE!"},{"$error":"#VALUE!"},{"$error":"#VALUE!"},{"$error":"#VALUE!"},{"$error":"#VALUE!"},{"$error":"#VALUE!"},{"$error":"#VALUE!"},{"$error":"#VALUE!"},{"$f":"VLOOKUP($U191,Tabel!$J$3:$K$109,2,FALSE)","v":{"$error":"#VALUE!"}},{"$f":"Tabel!$K$106&$A191&$V191&Tabel!$K$109","v":{"$error":"#VALUE!"}},{"$error":"#VALUE!"}]
[{"$f":"gastenlijst[[#This Row],[Postcode-GSM]]","v":{"$error":"#VALUE!"}},{"$error":"#VALUE!"},{"$error":"#VALUE!"},{"$error":"#VALUE!"},{"$error":"#VALUE!"},{"$error":"#VALUE!"},{"$error":"#VALUE!"},{"$f":"VLOOKUP(B192,Tabel!$K$3:$L$109,2,FALSE)","v":{"$error":"#VALUE!"}},{"$f":"VLOOKUP(C192,Tabel!$K$3:$L$109,2,FALSE)","v":{"$error":"#VALUE!"}},{"$f":"VLOOKUP(D192,Tabel!$K$3:$L$109,2,FALSE)","v":{"$error":"#VALUE!"}},{"$f":"VLOOKUP(E192,Tabel!$K$3:$L$109,2,FALSE)","v":{"$error":"#VALUE!"}},{"$f":"VLOOKUP(F192,Tabel!$K$3:$L$109,2,FALSE)","v":{"$error":"#VALUE!"}},{"$f":"VLOOKUP(G192,Tabel!$K$3:$L$109,2,FALSE)","v":{"$error":"#VALUE!"}},{"$error":"#VALUE!"},{"$error":"#VALUE!"},{"$error":"#VALUE!"},{"$error":"#VALUE!"},{"$error":"#VALUE!"},{"$error":"#VALUE!"},{"$error":"#VALUE!"},{"$error":"#VALUE!"},{"$f":"VLOOKUP($U192,Tabel!$J$3:$K$109,2,FALSE)","v":{"$error":"#VALUE!"}},{"$f":"Tabel!$K$106&$A192&$V192&Tabel!$K$109","v":{"$error":"#VALUE!"}},{"$error":"#VALUE!"}]
[{"$f":"gastenlijst[[#This Row],[Postcode-GSM]]","v":{"$error":"#VALUE!"}},{"$error":"#VALUE!"},{"$error":"#VALUE!"},{"$error":"#VALUE!"},{"$error":"#VALUE!"},{"$error":"#VALUE!"},{"$error":"#VALUE!"},{"$f":"VLOOKUP(B193,Tabel!$K$3:$L$109,2,FALSE)","v":{"$error":"#VALUE!"}},{"$f":"VLOOKUP(C193,Tabel!$K$3:$L$109,2,FALSE)","v":{"$error":"#VALUE!"}},{"$f":"VLOOKUP(D193,Tabel!$K$3:$L$109,2,FALSE)","v":{"$error":"#VALUE!"}},{"$f":"VLOOKUP(E193,Tabel!$K$3:$L$109,2,FALSE)","v":{"$error":"#VALUE!"}},{"$f":"VLOOKUP(F193,Tabel!$K$3:$L$109,2,FALSE)","v":{"$error":"#VALUE!"}},{"$f":"VLOOKUP(G193,Tabel!$K$3:$L$109,2,FALSE)","v":{"$error":"#VALUE!"}},{"$error":"#VALUE!"},{"$error":"#VALUE!"},{"$error":"#VALUE!"},{"$error":"#VALUE!"},{"$error":"#VALUE!"},{"$error":"#VALUE!"},{"$error":"#VALUE!"},{"$error":"#VALUE!"},{"$f":"VLOOKUP($U193,Tabel!$J$3:$K$109,2,FALSE)","v":{"$error":"#VALUE!"}},{"$f":"Tabel!$K$106&$A193&$V193&Tabel!$K$109","v":{"$error":"#VALUE!"}},{"$error":"#VALUE!"}]
[{"$f":"gastenlijst[[#This Row],[Postcode-GSM]]","v":{"$error":"#VALUE!"}},{"$error":"#VALUE!"},{"$error":"#VALUE!"},{"$error":"#VALUE!"},{"$error":"#VALUE!"},{"$error":"#VALUE!"},{"$error":"#VALUE!"},{"$f":"VLOOKUP(B194,Tabel!$K$3:$L$109,2,FALSE)","v":{"$error":"#VALUE!"}},{"$f":"VLOOKUP(C194,Tabel!$K$3:$L$109,2,FALSE)","v":{"$error":"#VALUE!"}},{"$f":"VLOOKUP(D194,Tabel!$K$3:$L$109,2,FALSE)","v":{"$error":"#VALUE!"}},{"$f":"VLOOKUP(E194,Tabel!$K$3:$L$109,2,FALSE)","v":{"$error":"#VALUE!"}},{"$f":"VLOOKUP(F194,Tabel!$K$3:$L$109,2,FALSE)","v":{"$error":"#VALUE!"}},{"$f":"VLOOKUP(G194,Tabel!$K$3:$L$109,2,FALSE)","v":{"$error":"#VALUE!"}},{"$error":"#VALUE!"},{"$error":"#VALUE!"},{"$error":"#VALUE!"},{"$error":"#VALUE!"},{"$error":"#VALUE!"},{"$error":"#VALUE!"},{"$error":"#VALUE!"},{"$error":"#VALUE!"},{"$f":"VLOOKUP($U194,Tabel!$J$3:$K$109,2,FALSE)","v":{"$error":"#VALUE!"}},{"$f":"Tabel!$K$106&$A194&$V194&Tabel!$K$109","v":{"$error":"#VALUE!"}},{"$error":"#VALUE!"}]
[{"$f":"gastenlijst[[#This Row],[Postcode-GSM]]","v":{"$error":"#VALUE!"}},{"$error":"#VALUE!"},{"$error":"#VALUE!"},{"$error":"#VALUE!"},{"$error":"#VALUE!"},{"$error":"#VALUE!"},{"$error":"#VALUE!"},{"$f":"VLOOKUP(B195,Tabel!$K$3:$L$109,2,FALSE)","v":{"$error":"#VALUE!"}},{"$f":"VLOOKUP(C195,Tabel!$K$3:$L$109,2,FALSE)","v":{"$error":"#VALUE!"}},{"$f":"VLOOKUP(D195,Tabel!$K$3:$L$109,2,FALSE)","v":{"$error":"#VALUE!"}},{"$f":"VLOOKUP(E195,Tabel!$K$3:$L$109,2,FALSE)","v":{"$error":"#VALUE!"}},{"$f":"VLOOKUP(F195,Tabel!$K$3:$L$109,2,FALSE)","v":{"$error":"#VALUE!"}},{"$f":"VLOOKUP(G195,Tabel!$K$3:$L$109,2,FALSE)","v":{"$error":"#VALUE!"}},{"$error":"#VALUE!"},{"$error":"#VALUE!"},{"$error":"#VALUE!"},{"$error":"#VALUE!"},{"$error":"#VALUE!"},{"$error":"#VALUE!"},{"$error":"#VALUE!"},{"$error":"#VALUE!"},{"$f":"VLOOKUP($U195,Tabel!$J$3:$K$109,2,FALSE)","v":{"$error":"#VALUE!"}},{"$f":"Tabel!$K$106&$A195&$V195&Tabel!$K$109","v":{"$error":"#VALUE!"}},{"$error":"#VALUE!"}]
[{"$f":"gastenlijst[[#This Row],[Postcode-GSM]]","v":{"$error":"#VALUE!"}},{"$error":"#VALUE!"},{"$error":"#VALUE!"},{"$error":"#VALUE!"},{"$error":"#VALUE!"},{"$error":"#VALUE!"},{"$error":"#VALUE!"},{"$f":"VLOOKUP(B196,Tabel!$K$3:$L$109,2,FALSE)","v":{"$error":"#VALUE!"}},{"$f":"VLOOKUP(C196,Tabel!$K$3:$L$109,2,FALSE)","v":{"$error":"#VALUE!"}},{"$f":"VLOOKUP(D196,Tabel!$K$3:$L$109,2,FALSE)","v":{"$error":"#VALUE!"}},{"$f":"VLOOKUP(E196,Tabel!$K$3:$L$109,2,FALSE)","v":{"$error":"#VALUE!"}},{"$f":"VLOOKUP(F196,Tabel!$K$3:$L$109,2,FALSE)","v":{"$error":"#VALUE!"}},{"$f":"VLOOKUP(G196,Tabel!$K$3:$L$109,2,FALSE)","v":{"$error":"#VALUE!"}},{"$error":"#VALUE!"},{"$error":"#VALUE!"},{"$error":"#VALUE!"},{"$error":"#VALUE!"},{"$error":"#VALUE!"},{"$error":"#VALUE!"},{"$error":"#VALUE!"},{"$error":"#VALUE!"},{"$f":"VLOOKUP($U196,Tabel!$J$3:$K$109,2,FALSE)","v":{"$error":"#VALUE!"}},{"$f":"Tabel!$K$106&$A196&$V196&Tabel!$K$109","v":{"$error":"#VALUE!"}},{"$error":"#VALUE!"}]
[{"$f":"gastenlijst[[#This Row],[Postcode-GSM]]","v":{"$error":"#VALUE!"}},{"$error":"#VALUE!"},{"$error":"#VALUE!"},{"$error":"#VALUE!"},{"$error":"#VALUE!"},{"$error":"#VALUE!"},{"$error":"#VALUE!"},{"$f":"VLOOKUP(B197,Tabel!$K$3:$L$109,2,FALSE)","v":{"$error":"#VALUE!"}},{"$f":"VLOOKUP(C197,Tabel!$K$3:$L$109,2,FALSE)","v":{"$error":"#VALUE!"}},{"$f":"VLOOKUP(D197,Tabel!$K$3:$L$109,2,FALSE)","v":{"$error":"#VALUE!"}},{"$f":"VLOOKUP(E197,Tabel!$K$3:$L$109,2,FALSE)","v":{"$error":"#VALUE!"}},{"$f":"VLOOKUP(F197,Tabel!$K$3:$L$109,2,FALSE)","v":{"$error":"#VALUE!"}},{"$f":"VLOOKUP(G197,Tabel!$K$3:$L$109,2,FALSE)","v":{"$error":"#VALUE!"}},{"$error":"#VALUE!"},{"$error":"#VALUE!"},{"$error":"#VALUE!"},{"$error":"#VALUE!"},{"$error":"#VALUE!"},{"$error":"#VALUE!"},{"$error":"#VALUE!"},{"$error":"#VALUE!"},{"$f":"VLOOKUP($U197,Tabel!$J$3:$K$109,2,FALSE)","v":{"$error":"#VALUE!"}},{"$f":"Tabel!$K$106&$A197&$V197&Tabel!$K$109","v":{"$error":"#VALUE!"}},{"$error":"#VALUE!"}]
[{"$f":"gastenlijst[[#This Row],[Postcode-GSM]]","v":{"$error":"#VALUE!"}},{"$error":"#VALUE!"},{"$error":"#VALUE!"},{"$error":"#VALUE!"},{"$error":"#VALUE!"},{"$error":"#VALUE!"},{"$error":"#VALUE!"},{"$f":"VLOOKUP(B198,Tabel!$K$3:$L$109,2,FALSE)","v":{"$error":"#VALUE!"}},{"$f":"VLOOKUP(C198,Tabel!$K$3:$L$109,2,FALSE)","v":{"$error":"#VALUE!"}},{"$f":"VLOOKUP(D198,Tabel!$K$3:$L$109,2,FALSE)","v":{"$error":"#VALUE!"}},{"$f":"VLOOKUP(E198,Tabel!$K$3:$L$109,2,FALSE)","v":{"$error":"#VALUE!"}},{"$f":"VLOOKUP(F198,Tabel!$K$3:$L$109,2,FALSE)","v":{"$error":"#VALUE!"}},{"$f":"VLOOKUP(G198,Tabel!$K$3:$L$109,2,FALSE)","v":{"$error":"#VALUE!"}},{"$error":"#VALUE!"},{"$error":"#VALUE!"},{"$error":"#VALUE!"},{"$error":"#VALUE!"},{"$error":"#VALUE!"},{"$error":"#VALUE!"},{"$error":"#VALUE!"},{"$error":"#VALUE!"},{"$f":"VLOOKUP($U198,Tabel!$J$3:$K$109,2,FALSE)","v":{"$error":"#VALUE!"}},{"$f":"Tabel!$K$106&$A198&$V198&Tabel!$K$109","v":{"$error":"#VALUE!"}},{"$error":"#VALUE!"}]
[{"$f":"gastenlijst[[#This Row],[Postcode-GSM]]","v":{"$error":"#VALUE!"}},{"$f":"MID(A199,1,1)","v":{"$error":"#VALUE!"}},{"$f":"MID(A199,2,1)","v":{"$error":"#VALUE!"}},{"$f":"MID(A199,3,1)","v":{"$error":"#VALUE!"}},{"$f":"MID(A199,4,1)","v":{"$error":"#VALUE!"}},{"$f":"MID(A199,5,1)","v":{"$error":"#VALUE!"}},{"$f":"MID(A199,6,1)","v":{"$error":"#VALUE!"}},{"$f":"VLOOKUP(B199,Tabel!$K$3:$L$109,2,FALSE)","v":{"$error":"#VALUE!"}},{"$f":"VLOOKUP(C199,Tabel!$K$3:$L$109,2,FALSE)","v":{"$error":"#VALUE!"}},{"$f":"VLOOKUP(D199,Tabel!$K$3:$L$109,2,FALSE)","v":{"$error":"#VALUE!"}},{"$f":"VLOOKUP(E199,Tabel!$K$3:$L$109,2,FALSE)","v":{"$error":"#VALUE!"}},{"$f":"VLOOKUP(F199,Tabel!$K$3:$L$109,2,FALSE)","v":{"$error":"#VALUE!"}},{"$f":"VLOOKUP(G199,Tabel!$K$3:$L$109,2,FALSE)","v":{"$error":"#VALUE!"}},{"$f":"$H199*1","v":{"$error":"#VALUE!"}},{"$f":"$I199*2","v":{"$error":"#VALUE!"}},{"$f":"$J199*3","v":{"$error":"#VALUE!"}},{"$f":"$K199*4","v":{"$error":"#VALUE!"}},{"$f":"$L199*5","v":{"$error":"#VALUE!"}},{"$f":"$M199*5","v":{"$error":"#VALUE!"}},{"$f":"103+N199+O199+P199+Q199+R199+S199","v":{"$error":"#VALUE!"}},{"$f":"MOD(T199,103)","v":{"$error":"#VALUE!"}},{"$f":"VLOOKUP($U199,Tabel!$J$3:$K$109,2,FALSE)","v":{"$error":"#VALUE!"}},{"$f":"Tabel!$K$106&$A199&$V199&Tabel!$K$109","v":{"$error":"#VALUE!"}},{"$f":"W199","v":{"$error":"#VALUE!"}}]
[{"$f":"gastenlijst[[#This Row],[Postcode-GSM]]","v":{"$error":"#VALUE!"}},{"$error":"#VALUE!"},{"$error":"#VALUE!"},{"$error":"#VALUE!"},{"$error":"#VALUE!"},{"$error":"#VALUE!"},{"$error":"#VALUE!"},{"$f":"VLOOKUP(B200,Tabel!$K$3:$L$109,2,FALSE)","v":{"$error":"#VALUE!"}},{"$f":"VLOOKUP(C200,Tabel!$K$3:$L$109,2,FALSE)","v":{"$error":"#VALUE!"}},{"$f":"VLOOKUP(D200,Tabel!$K$3:$L$109,2,FALSE)","v":{"$error":"#VALUE!"}},{"$f":"VLOOKUP(E200,Tabel!$K$3:$L$109,2,FALSE)","v":{"$error":"#VALUE!"}},{"$f":"VLOOKUP(F200,Tabel!$K$3:$L$109,2,FALSE)","v":{"$error":"#VALUE!"}},{"$f":"VLOOKUP(G200,Tabel!$K$3:$L$109,2,FALSE)","v":{"$error":"#VALUE!"}},{"$error":"#VALUE!"},{"$error":"#VALUE!"},{"$error":"#VALUE!"},{"$error":"#VALUE!"},{"$error":"#VALUE!"},{"$error":"#VALUE!"},{"$error":"#VALUE!"},{"$error":"#VALUE!"},{"$f":"VLOOKUP($U200,Tabel!$J$3:$K$109,2,FALSE)","v":{"$error":"#VALUE!"}},{"$f":"Tabel!$K$106&$A200&$V200&Tabel!$K$109","v":{"$error":"#VALUE!"}},{"$error":"#VALUE!"}]
[{"$f":"gastenlijst[[#This Row],[Postcode-GSM]]","v":{"$error":"#VALUE!"}},{"$error":"#VALUE!"},{"$error":"#VALUE!"},{"$error":"#VALUE!"},{"$error":"#VALUE!"},{"$error":"#VALUE!"},{"$error":"#VALUE!"},{"$f":"VLOOKUP(B201,Tabel!$K$3:$L$109,2,FALSE)","v":{"$error":"#VALUE!"}},{"$f":"VLOOKUP(C201,Tabel!$K$3:$L$109,2,FALSE)","v":{"$error":"#VALUE!"}},{"$f":"VLOOKUP(D201,Tabel!$K$3:$L$109,2,FALSE)","v":{"$error":"#VALUE!"}},{"$f":"VLOOKUP(E201,Tabel!$K$3:$L$109,2,FALSE)","v":{"$error":"#VALUE!"}},{"$f":"VLOOKUP(F201,Tabel!$K$3:$L$109,2,FALSE)","v":{"$error":"#VALUE!"}},{"$f":"VLOOKUP(G201,Tabel!$K$3:$L$109,2,FALSE)","v":{"$error":"#VALUE!"}},{"$error":"#VALUE!"},{"$error":"#VALUE!"},{"$error":"#VALUE!"},{"$error":"#VALUE!"},{"$error":"#VALUE!"},{"$error":"#VALUE!"},{"$error":"#VALUE!"},{"$error":"#VALUE!"},{"$f":"VLOOKUP($U201,Tabel!$J$3:$K$109,2,FALSE)","v":{"$error":"#VALUE!"}},{"$f":"Tabel!$K$106&$A201&$V201&Tabel!$K$109","v":{"$error":"#VALUE!"}},{"$error":"#VALUE!"}]
[{"$f":"gastenlijst[[#This Row],[Postcode-GSM]]","v":{"$error":"#VALUE!"}},{"$error":"#VALUE!"},{"$error":"#VALUE!"},{"$error":"#VALUE!"},{"$error":"#VALUE!"},{"$error":"#VALUE!"},{"$error":"#VALUE!"},{"$f":"VLOOKUP(B202,Tabel!$K$3:$L$109,2,FALSE)","v":{"$error":"#VALUE!"}},{"$f":"VLOOKUP(C202,Tabel!$K$3:$L$109,2,FALSE)","v":{"$error":"#VALUE!"}},{"$f":"VLOOKUP(D202,Tabel!$K$3:$L$109,2,FALSE)","v":{"$error":"#VALUE!"}},{"$f":"VLOOKUP(E202,Tabel!$K$3:$L$109,2,FALSE)","v":{"$error":"#VALUE!"}},{"$f":"VLOOKUP(F202,Tabel!$K$3:$L$109,2,FALSE)","v":{"$error":"#VALUE!"}},{"$f":"VLOOKUP(G202,Tabel!$K$3:$L$109,2,FALSE)","v":{"$error":"#VALUE!"}},{"$error":"#VALUE!"},{"$error":"#VALUE!"},{"$error":"#VALUE!"},{"$error":"#VALUE!"},{"$error":"#VALUE!"},{"$error":"#VALUE!"},{"$error":"#VALUE!"},{"$error":"#VALUE!"},{"$f":"VLOOKUP($U202,Tabel!$J$3:$K$109,2,FALSE)","v":{"$error":"#VALUE!"}},{"$f":"Tabel!$K$106&$A202&$V202&Tabel!$K$109","v":{"$error":"#VALUE!"}},{"$error":"#VALUE!"}]
[{"$f":"gastenlijst[[#This Row],[Postcode-GSM]]","v":{"$error":"#VALUE!"}},{"$error":"#VALUE!"},{"$error":"#VALUE!"},{"$error":"#VALUE!"},{"$error":"#VALUE!"},{"$error":"#VALUE!"},{"$error":"#VALUE!"},{"$f":"VLOOKUP(B203,Tabel!$K$3:$L$109,2,FALSE)","v":{"$error":"#VALUE!"}},{"$f":"VLOOKUP(C203,Tabel!$K$3:$L$109,2,FALSE)","v":{"$error":"#VALUE!"}},{"$f":"VLOOKUP(D203,Tabel!$K$3:$L$109,2,FALSE)","v":{"$error":"#VALUE!"}},{"$f":"VLOOKUP(E203,Tabel!$K$3:$L$109,2,FALSE)","v":{"$error":"#VALUE!"}},{"$f":"VLOOKUP(F203,Tabel!$K$3:$L$109,2,FALSE)","v":{"$error":"#VALUE!"}},{"$f":"VLOOKUP(G203,Tabel!$K$3:$L$109,2,FALSE)","v":{"$error":"#VALUE!"}},{"$error":"#VALUE!"},{"$error":"#VALUE!"},{"$error":"#VALUE!"},{"$error":"#VALUE!"},{"$error":"#VALUE!"},{"$error":"#VALUE!"},{"$error":"#VALUE!"},{"$error":"#VALUE!"},{"$f":"VLOOKUP($U203,Tabel!$J$3:$K$109,2,FALSE)","v":{"$error":"#VALUE!"}},{"$f":"Tabel!$K$106&$A203&$V203&Tabel!$K$109","v":{"$error":"#VALUE!"}},{"$error":"#VALUE!"}]
[{"$f":"gastenlijst[[#This Row],[Postcode-GSM]]","v":{"$error":"#VALUE!"}},{"$error":"#VALUE!"},{"$error":"#VALUE!"},{"$error":"#VALUE!"},{"$error":"#VALUE!"},{"$error":"#VALUE!"},{"$error":"#VALUE!"},{"$f":"VLOOKUP(B204,Tabel!$K$3:$L$109,2,FALSE)","v":{"$error":"#VALUE!"}},{"$f":"VLOOKUP(C204,Tabel!$K$3:$L$109,2,FALSE)","v":{"$error":"#VALUE!"}},{"$f":"VLOOKUP(D204,Tabel!$K$3:$L$109,2,FALSE)","v":{"$error":"#VALUE!"}},{"$f":"VLOOKUP(E204,Tabel!$K$3:$L$109,2,FALSE)","v":{"$error":"#VALUE!"}},{"$f":"VLOOKUP(F204,Tabel!$K$3:$L$109,2,FALSE)","v":{"$error":"#VALUE!"}},{"$f":"VLOOKUP(G204,Tabel!$K$3:$L$109,2,FALSE)","v":{"$error":"#VALUE!"}},{"$error":"#VALUE!"},{"$error":"#VALUE!"},{"$error":"#VALUE!"},{"$error":"#VALUE!"},{"$error":"#VALUE!"},{"$error":"#VALUE!"},{"$error":"#VALUE!"},{"$error":"#VALUE!"},{"$f":"VLOOKUP($U204,Tabel!$J$3:$K$109,2,FALSE)","v":{"$error":"#VALUE!"}},{"$f":"Tabel!$K$106&$A204&$V204&Tabel!$K$109","v":{"$error":"#VALUE!"}},{"$error":"#VALUE!"}]
[{"$f":"gastenlijst[[#This Row],[Postcode-GSM]]","v":{"$error":"#VALUE!"}},{"$error":"#VALUE!"},{"$error":"#VALUE!"},{"$error":"#VALUE!"},{"$error":"#VALUE!"},{"$error":"#VALUE!"},{"$error":"#VALUE!"},{"$f":"VLOOKUP(B205,Tabel!$K$3:$L$109,2,FALSE)","v":{"$error":"#VALUE!"}},{"$f":"VLOOKUP(C205,Tabel!$K$3:$L$109,2,FALSE)","v":{"$error":"#VALUE!"}},{"$f":"VLOOKUP(D205,Tabel!$K$3:$L$109,2,FALSE)","v":{"$error":"#VALUE!"}},{"$f":"VLOOKUP(E205,Tabel!$K$3:$L$109,2,FALSE)","v":{"$error":"#VALUE!"}},{"$f":"VLOOKUP(F205,Tabel!$K$3:$L$109,2,FALSE)","v":{"$error":"#VALUE!"}},{"$f":"VLOOKUP(G205,Tabel!$K$3:$L$109,2,FALSE)","v":{"$error":"#VALUE!"}},{"$error":"#VALUE!"},{"$error":"#VALUE!"},{"$error":"#VALUE!"},{"$error":"#VALUE!"},{"$error":"#VALUE!"},{"$error":"#VALUE!"},{"$error":"#VALUE!"},{"$error":"#VALUE!"},{"$f":"VLOOKUP($U205,Tabel!$J$3:$K$109,2,FALSE)","v":{"$error":"#VALUE!"}},{"$f":"Tabel!$K$106&$A205&$V205&Tabel!$K$109","v":{"$error":"#VALUE!"}},{"$error":"#VALUE!"}]
[{"$f":"gastenlijst[[#This Row],[Postcode-GSM]]","v":{"$error":"#VALUE!"}},{"$error":"#VALUE!"},{"$error":"#VALUE!"},{"$error":"#VALUE!"},{"$error":"#VALUE!"},{"$error":"#VALUE!"},{"$error":"#VALUE!"},{"$f":"VLOOKUP(B206,Tabel!$K$3:$L$109,2,FALSE)","v":{"$error":"#VALUE!"}},{"$f":"VLOOKUP(C206,Tabel!$K$3:$L$109,2,FALSE)","v":{"$error":"#VALUE!"}},{"$f":"VLOOKUP(D206,Tabel!$K$3:$L$109,2,FALSE)","v":{"$error":"#VALUE!"}},{"$f":"VLOOKUP(E206,Tabel!$K$3:$L$109,2,FALSE)","v":{"$error":"#VALUE!"}},{"$f":"VLOOKUP(F206,Tabel!$K$3:$L$109,2,FALSE)","v":{"$error":"#VALUE!"}},{"$f":"VLOOKUP(G206,Tabel!$K$3:$L$109,2,FALSE)","v":{"$error":"#VALUE!"}},{"$error":"#VALUE!"},{"$error":"#VALUE!"},{"$error":"#VALUE!"},{"$error":"#VALUE!"},{"$error":"#VALUE!"},{"$error":"#VALUE!"},{"$error":"#VALUE!"},{"$error":"#VALUE!"},{"$f":"VLOOKUP($U206,Tabel!$J$3:$K$109,2,FALSE)","v":{"$error":"#VALUE!"}},{"$f":"Tabel!$K$106&$A206&$V206&Tabel!$K$109","v":{"$error":"#VALUE!"}},{"$error":"#VALUE!"}]
[{"$f":"gastenlijst[[#This Row],[Postcode-GSM]]","v":{"$error":"#VALUE!"}},{"$error":"#VALUE!"},{"$error":"#VALUE!"},{"$error":"#VALUE!"},{"$error":"#VALUE!"},{"$error":"#VALUE!"},{"$error":"#VALUE!"},{"$f":"VLOOKUP(B207,Tabel!$K$3:$L$109,2,FALSE)","v":{"$error":"#VALUE!"}},{"$f":"VLOOKUP(C207,Tabel!$K$3:$L$109,2,FALSE)","v":{"$error":"#VALUE!"}},{"$f":"VLOOKUP(D207,Tabel!$K$3:$L$109,2,FALSE)","v":{"$error":"#VALUE!"}},{"$f":"VLOOKUP(E207,Tabel!$K$3:$L$109,2,FALSE)","v":{"$error":"#VALUE!"}},{"$f":"VLOOKUP(F207,Tabel!$K$3:$L$109,2,FALSE)","v":{"$error":"#VALUE!"}},{"$f":"VLOOKUP(G207,Tabel!$K$3:$L$109,2,FALSE)","v":{"$error":"#VALUE!"}},{"$error":"#VALUE!"},{"$error":"#VALUE!"},{"$error":"#VALUE!"},{"$error":"#VALUE!"},{"$error":"#VALUE!"},{"$error":"#VALUE!"},{"$error":"#VALUE!"},{"$error":"#VALUE!"},{"$f":"VLOOKUP($U207,Tabel!$J$3:$K$109,2,FALSE)","v":{"$error":"#VALUE!"}},{"$f":"Tabel!$K$106&$A207&$V207&Tabel!$K$109","v":{"$error":"#VALUE!"}},{"$error":"#VALUE!"}]
[{"$f":"gastenlijst[[#This Row],[Postcode-GSM]]","v":{"$error":"#VALUE!"}},{"$error":"#VALUE!"},{"$error":"#VALUE!"},{"$error":"#VALUE!"},{"$error":"#VALUE!"},{"$error":"#VALUE!"},{"$error":"#VALUE!"},{"$f":"VLOOKUP(B208,Tabel!$K$3:$L$109,2,FALSE)","v":{"$error":"#VALUE!"}},{"$f":"VLOOKUP(C208,Tabel!$K$3:$L$109,2,FALSE)","v":{"$error":"#VALUE!"}},{"$f":"VLOOKUP(D208,Tabel!$K$3:$L$109,2,FALSE)","v":{"$error":"#VALUE!"}},{"$f":"VLOOKUP(E208,Tabel!$K$3:$L$109,2,FALSE)","v":{"$error":"#VALUE!"}},{"$f":"VLOOKUP(F208,Tabel!$K$3:$L$109,2,FALSE)","v":{"$error":"#VALUE!"}},{"$f":"VLOOKUP(G208,Tabel!$K$3:$L$109,2,FALSE)","v":{"$error":"#VALUE!"}},{"$error":"#VALUE!"},{"$error":"#VALUE!"},{"$error":"#VALUE!"},{"$error":"#VALUE!"},{"$error":"#VALUE!"},{"$error":"#VALUE!"},{"$error":"#VALUE!"},{"$error":"#VALUE!"},{"$f":"VLOOKUP($U208,Tabel!$J$3:$K$109,2,FALSE)","v":{"$error":"#VALUE!"}},{"$f":"Tabel!$K$106&$A208&$V208&Tabel!$K$109","v":{"$error":"#VALUE!"}},{"$error":"#VALUE!"}]
[{"$f":"gastenlijst[[#This Row],[Postcode-GSM]]","v":{"$error":"#VALUE!"}},{"$error":"#VALUE!"},{"$error":"#VALUE!"},{"$error":"#VALUE!"},{"$error":"#VALUE!"},{"$error":"#VALUE!"},{"$error":"#VALUE!"},{"$f":"VLOOKUP(B209,Tabel!$K$3:$L$109,2,FALSE)","v":{"$error":"#VALUE!"}},{"$f":"VLOOKUP(C209,Tabel!$K$3:$L$109,2,FALSE)","v":{"$error":"#VALUE!"}},{"$f":"VLOOKUP(D209,Tabel!$K$3:$L$109,2,FALSE)","v":{"$error":"#VALUE!"}},{"$f":"VLOOKUP(E209,Tabel!$K$3:$L$109,2,FALSE)","v":{"$error":"#VALUE!"}},{"$f":"VLOOKUP(F209,Tabel!$K$3:$L$109,2,FALSE)","v":{"$error":"#VALUE!"}},{"$f":"VLOOKUP(G209,Tabel!$K$3:$L$109,2,FALSE)","v":{"$error":"#VALUE!"}},{"$error":"#VALUE!"},{"$error":"#VALUE!"},{"$error":"#VALUE!"},{"$error":"#VALUE!"},{"$error":"#VALUE!"},{"$error":"#VALUE!"},{"$error":"#VALUE!"},{"$error":"#VALUE!"},{"$f":"VLOOKUP($U209,Tabel!$J$3:$K$109,2,FALSE)","v":{"$error":"#VALUE!"}},{"$f":"Tabel!$K$106&$A209&$V209&Tabel!$K$109","v":{"$error":"#VALUE!"}},{"$error":"#VALUE!"}]
[{"$f":"gastenlijst[[#This Row],[Postcode-GSM]]","v":{"$error":"#VALUE!"}},{"$error":"#VALUE!"},{"$error":"#VALUE!"},{"$error":"#VALUE!"},{"$error":"#VALUE!"},{"$error":"#VALUE!"},{"$error":"#VALUE!"},{"$f":"VLOOKUP(B210,Tabel!$K$3:$L$109,2,FALSE)","v":{"$error":"#VALUE!"}},{"$f":"VLOOKUP(C210,Tabel!$K$3:$L$109,2,FALSE)","v":{"$error":"#VALUE!"}},{"$f":"VLOOKUP(D210,Tabel!$K$3:$L$109,2,FALSE)","v":{"$error":"#VALUE!"}},{"$f":"VLOOKUP(E210,Tabel!$K$3:$L$109,2,FALSE)","v":{"$error":"#VALUE!"}},{"$f":"VLOOKUP(F210,Tabel!$K$3:$L$109,2,FALSE)","v":{"$error":"#VALUE!"}},{"$f":"VLOOKUP(G210,Tabel!$K$3:$L$109,2,FALSE)","v":{"$error":"#VALUE!"}},{"$error":"#VALUE!"},{"$error":"#VALUE!"},{"$error":"#VALUE!"},{"$error":"#VALUE!"},{"$error":"#VALUE!"},{"$error":"#VALUE!"},{"$error":"#VALUE!"},{"$error":"#VALUE!"},{"$f":"VLOOKUP($U210,Tabel!$J$3:$K$109,2,FALSE)","v":{"$error":"#VALUE!"}},{"$f":"Tabel!$K$106&$A210&$V210&Tabel!$K$109","v":{"$error":"#VALUE!"}},{"$error":"#VALUE!"}]
[{"$f":"gastenlijst[[#This Row],[Postcode-GSM]]","v":{"$error":"#VALUE!"}},{"$error":"#VALUE!"},{"$error":"#VALUE!"},{"$error":"#VALUE!"},{"$error":"#VALUE!"},{"$error":"#VALUE!"},{"$error":"#VALUE!"},{"$f":"VLOOKUP(B211,Tabel!$K$3:$L$109,2,FALSE)","v":{"$error":"#VALUE!"}},{"$f":"VLOOKUP(C211,Tabel!$K$3:$L$109,2,FALSE)","v":{"$error":"#VALUE!"}},{"$f":"VLOOKUP(D211,Tabel!$K$3:$L$109,2,FALSE)","v":{"$error":"#VALUE!"}},{"$f":"VLOOKUP(E211,Tabel!$K$3:$L$109,2,FALSE)","v":{"$error":"#VALUE!"}},{"$f":"VLOOKUP(F211,Tabel!$K$3:$L$109,2,FALSE)","v":{"$error":"#VALUE!"}},{"$f":"VLOOKUP(G211,Tabel!$K$3:$L$109,2,FALSE)","v":{"$error":"#VALUE!"}},{"$error":"#VALUE!"},{"$error":"#VALUE!"},{"$error":"#VALUE!"},{"$error":"#VALUE!"},{"$error":"#VALUE!"},{"$error":"#VALUE!"},{"$error":"#VALUE!"},{"$error":"#VALUE!"},{"$f":"VLOOKUP($U211,Tabel!$J$3:$K$109,2,FALSE)","v":{"$error":"#VALUE!"}},{"$f":"Tabel!$K$106&$A211&$V211&Tabel!$K$109","v":{"$error":"#VALUE!"}},{"$error":"#VALUE!"}]
[{"$f":"gastenlijst[[#This Row],[Postcode-GSM]]","v":{"$error":"#VALUE!"}},{"$error":"#VALUE!"},{"$error":"#VALUE!"},{"$error":"#VALUE!"},{"$error":"#VALUE!"},{"$error":"#VALUE!"},{"$error":"#VALUE!"},{"$f":"VLOOKUP(B212,Tabel!$K$3:$L$109,2,FALSE)","v":{"$error":"#VALUE!"}},{"$f":"VLOOKUP(C212,Tabel!$K$3:$L$109,2,FALSE)","v":{"$error":"#VALUE!"}},{"$f":"VLOOKUP(D212,Tabel!$K$3:$L$109,2,FALSE)","v":{"$error":"#VALUE!"}},{"$f":"VLOOKUP(E212,Tabel!$K$3:$L$109,2,FALSE)","v":{"$error":"#VALUE!"}},{"$f":"VLOOKUP(F212,Tabel!$K$3:$L$109,2,FALSE)","v":{"$error":"#VALUE!"}},{"$f":"VLOOKUP(G212,Tabel!$K$3:$L$109,2,FALSE)","v":{"$error":"#VALUE!"}},{"$error":"#VALUE!"},{"$error":"#VALUE!"},{"$error":"#VALUE!"},{"$error":"#VALUE!"},{"$error":"#VALUE!"},{"$error":"#VALUE!"},{"$error":"#VALUE!"},{"$error":"#VALUE!"},{"$f":"VLOOKUP($U212,Tabel!$J$3:$K$109,2,FALSE)","v":{"$error":"#VALUE!"}},{"$f":"Tabel!$K$106&$A212&$V212&Tabel!$K$109","v":{"$error":"#VALUE!"}},{"$error":"#VALUE!"}]
[{"$f":"gastenlijst[[#This Row],[Postcode-GSM]]","v":{"$error":"#VALUE!"}},{"$error":"#VALUE!"},{"$error":"#VALUE!"},{"$error":"#VALUE!"},{"$error":"#VALUE!"},{"$error":"#VALUE!"},{"$error":"#VALUE!"},{"$f":"VLOOKUP(B213,Tabel!$K$3:$L$109,2,FALSE)","v":{"$error":"#VALUE!"}},{"$f":"VLOOKUP(C213,Tabel!$K$3:$L$109,2,FALSE)","v":{"$error":"#VALUE!"}},{"$f":"VLOOKUP(D213,Tabel!$K$3:$L$109,2,FALSE)","v":{"$error":"#VALUE!"}},{"$f":"VLOOKUP(E213,Tabel!$K$3:$L$109,2,FALSE)","v":{"$error":"#VALUE!"}},{"$f":"VLOOKUP(F213,Tabel!$K$3:$L$109,2,FALSE)","v":{"$error":"#VALUE!"}},{"$f":"VLOOKUP(G213,Tabel!$K$3:$L$109,2,FALSE)","v":{"$error":"#VALUE!"}},{"$error":"#VALUE!"},{"$error":"#VALUE!"},{"$error":"#VALUE!"},{"$error":"#VALUE!"},{"$error":"#VALUE!"},{"$error":"#VALUE!"},{"$error":"#VALUE!"},{"$error":"#VALUE!"},{"$f":"VLOOKUP($U213,Tabel!$J$3:$K$109,2,FALSE)","v":{"$error":"#VALUE!"}},{"$f":"Tabel!$K$106&$A213&$V213&Tabel!$K$109","v":{"$error":"#VALUE!"}},{"$error":"#VALUE!"}]
[{"$f":"gastenlijst[[#This Row],[Postcode-GSM]]","v":{"$error":"#VALUE!"}},{"$error":"#VALUE!"},{"$error":"#VALUE!"},{"$error":"#VALUE!"},{"$error":"#VALUE!"},{"$error":"#VALUE!"},{"$error":"#VALUE!"},{"$f":"VLOOKUP(B214,Tabel!$K$3:$L$109,2,FALSE)","v":{"$error":"#VALUE!"}},{"$f":"VLOOKUP(C214,Tabel!$K$3:$L$109,2,FALSE)","v":{"$error":"#VALUE!"}},{"$f":"VLOOKUP(D214,Tabel!$K$3:$L$109,2,FALSE)","v":{"$error":"#VALUE!"}},{"$f":"VLOOKUP(E214,Tabel!$K$3:$L$109,2,FALSE)","v":{"$error":"#VALUE!"}},{"$f":"VLOOKUP(F214,Tabel!$K$3:$L$109,2,FALSE)","v":{"$error":"#VALUE!"}},{"$f":"VLOOKUP(G214,Tabel!$K$3:$L$109,2,FALSE)","v":{"$error":"#VALUE!"}},{"$error":"#VALUE!"},{"$error":"#VALUE!"},{"$error":"#VALUE!"},{"$error":"#VALUE!"},{"$error":"#VALUE!"},{"$error":"#VALUE!"},{"$error":"#VALUE!"},{"$error":"#VALUE!"},{"$f":"VLOOKUP($U214,Tabel!$J$3:$K$109,2,FALSE)","v":{"$error":"#VALUE!"}},{"$f":"Tabel!$K$106&$A214&$V214&Tabel!$K$109","v":{"$error":"#VALUE!"}},{"$error":"#VALUE!"}]
[{"$f":"gastenlijst[[#This Row],[Postcode-GSM]]","v":{"$error":"#VALUE!"}},{"$error":"#VALUE!"},{"$error":"#VALUE!"},{"$error":"#VALUE!"},{"$error":"#VALUE!"},{"$error":"#VALUE!"},{"$error":"#VALUE!"},{"$f":"VLOOKUP(B215,Tabel!$K$3:$L$109,2,FALSE)","v":{"$error":"#VALUE!"}},{"$f":"VLOOKUP(C215,Tabel!$K$3:$L$109,2,FALSE)","v":{"$error":"#VALUE!"}},{"$f":"VLOOKUP(D215,Tabel!$K$3:$L$109,2,FALSE)","v":{"$error":"#VALUE!"}},{"$f":"VLOOKUP(E215,Tabel!$K$3:$L$109,2,FALSE)","v":{"$error":"#VALUE!"}},{"$f":"VLOOKUP(F215,Tabel!$K$3:$L$109,2,FALSE)","v":{"$error":"#VALUE!"}},{"$f":"VLOOKUP(G215,Tabel!$K$3:$L$109,2,FALSE)","v":{"$error":"#VALUE!"}},{"$error":"#VALUE!"},{"$error":"#VALUE!"},{"$error":"#VALUE!"},{"$error":"#VALUE!"},{"$error":"#VALUE!"},{"$error":"#VALUE!"},{"$error":"#VALUE!"},{"$error":"#VALUE!"},{"$f":"VLOOKUP($U215,Tabel!$J$3:$K$109,2,FALSE)","v":{"$error":"#VALUE!"}},{"$f":"Tabel!$K$106&$A215&$V215&Tabel!$K$109","v":{"$error":"#VALUE!"}},{"$error":"#VALUE!"}]
[{"$f":"gastenlijst[[#This Row],[Postcode-GSM]]","v":{"$error":"#VALUE!"}},{"$error":"#VALUE!"},{"$error":"#VALUE!"},{"$error":"#VALUE!"},{"$error":"#VALUE!"},{"$error":"#VALUE!"},{"$error":"#VALUE!"},{"$f":"VLOOKUP(B216,Tabel!$K$3:$L$109,2,FALSE)","v":{"$error":"#VALUE!"}},{"$f":"VLOOKUP(C216,Tabel!$K$3:$L$109,2,FALSE)","v":{"$error":"#VALUE!"}},{"$f":"VLOOKUP(D216,Tabel!$K$3:$L$109,2,FALSE)","v":{"$error":"#VALUE!"}},{"$f":"VLOOKUP(E216,Tabel!$K$3:$L$109,2,FALSE)","v":{"$error":"#VALUE!"}},{"$f":"VLOOKUP(F216,Tabel!$K$3:$L$109,2,FALSE)","v":{"$error":"#VALUE!"}},{"$f":"VLOOKUP(G216,Tabel!$K$3:$L$109,2,FALSE)","v":{"$error":"#VALUE!"}},{"$error":"#VALUE!"},{"$error":"#VALUE!"},{"$error":"#VALUE!"},{"$error":"#VALUE!"},{"$error":"#VALUE!"},{"$error":"#VALUE!"},{"$error":"#VALUE!"},{"$error":"#VALUE!"},{"$f":"VLOOKUP($U216,Tabel!$J$3:$K$109,2,FALSE)","v":{"$error":"#VALUE!"}},{"$f":"Tabel!$K$106&$A216&$V216&Tabel!$K$109","v":{"$error":"#VALUE!"}},{"$error":"#VALUE!"}]
[{"$f":"gastenlijst[[#This Row],[Postcode-GSM]]","v":{"$error":"#VALUE!"}},{"$error":"#VALUE!"},{"$error":"#VALUE!"},{"$error":"#VALUE!"},{"$error":"#VALUE!"},{"$error":"#VALUE!"},{"$error":"#VALUE!"},{"$f":"VLOOKUP(B217,Tabel!$K$3:$L$109,2,FALSE)","v":{"$error":"#VALUE!"}},{"$f":"VLOOKUP(C217,Tabel!$K$3:$L$109,2,FALSE)","v":{"$error":"#VALUE!"}},{"$f":"VLOOKUP(D217,Tabel!$K$3:$L$109,2,FALSE)","v":{"$error":"#VALUE!"}},{"$f":"VLOOKUP(E217,Tabel!$K$3:$L$109,2,FALSE)","v":{"$error":"#VALUE!"}},{"$f":"VLOOKUP(F217,Tabel!$K$3:$L$109,2,FALSE)","v":{"$error":"#VALUE!"}},{"$f":"VLOOKUP(G217,Tabel!$K$3:$L$109,2,FALSE)","v":{"$error":"#VALUE!"}},{"$error":"#VALUE!"},{"$error":"#VALUE!"},{"$error":"#VALUE!"},{"$error":"#VALUE!"},{"$error":"#VALUE!"},{"$error":"#VALUE!"},{"$error":"#VALUE!"},{"$error":"#VALUE!"},{"$f":"VLOOKUP($U217,Tabel!$J$3:$K$109,2,FALSE)","v":{"$error":"#VALUE!"}},{"$f":"Tabel!$K$106&$A217&$V217&Tabel!$K$109","v":{"$error":"#VALUE!"}},{"$error":"#VALUE!"}]
[{"$f":"gastenlijst[[#This Row],[Postcode-GSM]]","v":{"$error":"#VALUE!"}},{"$error":"#VALUE!"},{"$error":"#VALUE!"},{"$error":"#VALUE!"},{"$error":"#VALUE!"},{"$error":"#VALUE!"},{"$error":"#VALUE!"},{"$f":"VLOOKUP(B218,Tabel!$K$3:$L$109,2,FALSE)","v":{"$error":"#VALUE!"}},{"$f":"VLOOKUP(C218,Tabel!$K$3:$L$109,2,FALSE)","v":{"$error":"#VALUE!"}},{"$f":"VLOOKUP(D218,Tabel!$K$3:$L$109,2,FALSE)","v":{"$error":"#VALUE!"}},{"$f":"VLOOKUP(E218,Tabel!$K$3:$L$109,2,FALSE)","v":{"$error":"#VALUE!"}},{"$f":"VLOOKUP(F218,Tabel!$K$3:$L$109,2,FALSE)","v":{"$error":"#VALUE!"}},{"$f":"VLOOKUP(G218,Tabel!$K$3:$L$109,2,FALSE)","v":{"$error":"#VALUE!"}},{"$error":"#VALUE!"},{"$error":"#VALUE!"},{"$error":"#VALUE!"},{"$error":"#VALUE!"},{"$error":"#VALUE!"},{"$error":"#VALUE!"},{"$error":"#VALUE!"},{"$error":"#VALUE!"},{"$f":"VLOOKUP($U218,Tabel!$J$3:$K$109,2,FALSE)","v":{"$error":"#VALUE!"}},{"$f":"Tabel!$K$106&$A218&$V218&Tabel!$K$109","v":{"$error":"#VALUE!"}},{"$error":"#VALUE!"}]
[{"$f":"gastenlijst[[#This Row],[Postcode-GSM]]","v":{"$error":"#VALUE!"}},{"$error":"#VALUE!"},{"$error":"#VALUE!"},{"$error":"#VALUE!"},{"$error":"#VALUE!"},{"$error":"#VALUE!"},{"$error":"#VALUE!"},{"$f":"VLOOKUP(B219,Tabel!$K$3:$L$109,2,FALSE)","v":{"$error":"#VALUE!"}},{"$f":"VLOOKUP(C219,Tabel!$K$3:$L$109,2,FALSE)","v":{"$error":"#VALUE!"}},{"$f":"VLOOKUP(D219,Tabel!$K$3:$L$109,2,FALSE)","v":{"$error":"#VALUE!"}},{"$f":"VLOOKUP(E219,Tabel!$K$3:$L$109,2,FALSE)","v":{"$error":"#VALUE!"}},{"$f":"VLOOKUP(F219,Tabel!$K$3:$L$109,2,FALSE)","v":{"$error":"#VALUE!"}},{"$f":"VLOOKUP(G219,Tabel!$K$3:$L$109,2,FALSE)","v":{"$error":"#VALUE!"}},{"$error":"#VALUE!"},{"$error":"#VALUE!"},{"$error":"#VALUE!"},{"$error":"#VALUE!"},{"$error":"#VALUE!"},{"$error":"#VALUE!"},{"$error":"#VALUE!"},{"$error":"#VALUE!"},{"$f":"VLOOKUP($U219,Tabel!$J$3:$K$109,2,FALSE)","v":{"$error":"#VALUE!"}},{"$f":"Tabel!$K$106&$A219&$V219&Tabel!$K$109","v":{"$error":"#VALUE!"}},{"$error":"#VALUE!"}]
[{"$f":"gastenlijst[[#This Row],[Postcode-GSM]]","v":{"$error":"#VALUE!"}},{"$error":"#VALUE!"},{"$error":"#VALUE!"},{"$error":"#VALUE!"},{"$error":"#VALUE!"},{"$error":"#VALUE!"},{"$error":"#VALUE!"},{"$f":"VLOOKUP(B220,Tabel!$K$3:$L$109,2,FALSE)","v":{"$error":"#VALUE!"}},{"$f":"VLOOKUP(C220,Tabel!$K$3:$L$109,2,FALSE)","v":{"$error":"#VALUE!"}},{"$f":"VLOOKUP(D220,Tabel!$K$3:$L$109,2,FALSE)","v":{"$error":"#VALUE!"}},{"$f":"VLOOKUP(E220,Tabel!$K$3:$L$109,2,FALSE)","v":{"$error":"#VALUE!"}},{"$f":"VLOOKUP(F220,Tabel!$K$3:$L$109,2,FALSE)","v":{"$error":"#VALUE!"}},{"$f":"VLOOKUP(G220,Tabel!$K$3:$L$109,2,FALSE)","v":{"$error":"#VALUE!"}},{"$error":"#VALUE!"},{"$error":"#VALUE!"},{"$error":"#VALUE!"},{"$error":"#VALUE!"},{"$error":"#VALUE!"},{"$error":"#VALUE!"},{"$error":"#VALUE!"},{"$error":"#VALUE!"},{"$f":"VLOOKUP($U220,Tabel!$J$3:$K$109,2,FALSE)","v":{"$error":"#VALUE!"}},{"$f":"Tabel!$K$106&$A220&$V220&Tabel!$K$109","v":{"$error":"#VALUE!"}},{"$error":"#VALUE!"}]
[{"$f":"gastenlijst[[#This Row],[Postcode-GSM]]","v":{"$error":"#VALUE!"}},{"$error":"#VALUE!"},{"$error":"#VALUE!"},{"$error":"#VALUE!"},{"$error":"#VALUE!"},{"$error":"#VALUE!"},{"$error":"#VALUE!"},{"$f":"VLOOKUP(B221,Tabel!$K$3:$L$109,2,FALSE)","v":{"$error":"#VALUE!"}},{"$f":"VLOOKUP(C221,Tabel!$K$3:$L$109,2,FALSE)","v":{"$error":"#VALUE!"}},{"$f":"VLOOKUP(D221,Tabel!$K$3:$L$109,2,FALSE)","v":{"$error":"#VALUE!"}},{"$f":"VLOOKUP(E221,Tabel!$K$3:$L$109,2,FALSE)","v":{"$error":"#VALUE!"}},{"$f":"VLOOKUP(F221,Tabel!$K$3:$L$109,2,FALSE)","v":{"$error":"#VALUE!"}},{"$f":"VLOOKUP(G221,Tabel!$K$3:$L$109,2,FALSE)","v":{"$error":"#VALUE!"}},{"$error":"#VALUE!"},{"$error":"#VALUE!"},{"$error":"#VALUE!"},{"$error":"#VALUE!"},{"$error":"#VALUE!"},{"$error":"#VALUE!"},{"$error":"#VALUE!"},{"$error":"#VALUE!"},{"$f":"VLOOKUP($U221,Tabel!$J$3:$K$109,2,FALSE)","v":{"$error":"#VALUE!"}},{"$f":"Tabel!$K$106&$A221&$V221&Tabel!$K$109","v":{"$error":"#VALUE!"}},{"$error":"#VALUE!"}]
[{"$f":"gastenlijst[[#This Row],[Postcode-GSM]]","v":{"$error":"#VALUE!"}},{"$error":"#VALUE!"},{"$error":"#VALUE!"},{"$error":"#VALUE!"},{"$error":"#VALUE!"},{"$error":"#VALUE!"},{"$error":"#VALUE!"},{"$f":"VLOOKUP(B222,Tabel!$K$3:$L$109,2,FALSE)","v":{"$error":"#VALUE!"}},{"$f":"VLOOKUP(C222,Tabel!$K$3:$L$109,2,FALSE)","v":{"$error":"#VALUE!"}},{"$f":"VLOOKUP(D222,Tabel!$K$3:$L$109,2,FALSE)","v":{"$error":"#VALUE!"}},{"$f":"VLOOKUP(E222,Tabel!$K$3:$L$109,2,FALSE)","v":{"$error":"#VALUE!"}},{"$f":"VLOOKUP(F222,Tabel!$K$3:$L$109,2,FALSE)","v":{"$error":"#VALUE!"}},{"$f":"VLOOKUP(G222,Tabel!$K$3:$L$109,2,FALSE)","v":{"$error":"#VALUE!"}},{"$error":"#VALUE!"},{"$error":"#VALUE!"},{"$error":"#VALUE!"},{"$error":"#VALUE!"},{"$error":"#VALUE!"},{"$error":"#VALUE!"},{"$error":"#VALUE!"},{"$error":"#VALUE!"},{"$f":"VLOOKUP($U222,Tabel!$J$3:$K$109,2,FALSE)","v":{"$error":"#VALUE!"}},{"$f":"Tabel!$K$106&$A222&$V222&Tabel!$K$109","v":{"$error":"#VALUE!"}},{"$error":"#VALUE!"}]
[{"$f":"gastenlijst[[#This Row],[Postcode-GSM]]","v":{"$error":"#VALUE!"}},{"$error":"#VALUE!"},{"$error":"#VALUE!"},{"$error":"#VALUE!"},{"$error":"#VALUE!"},{"$error":"#VALUE!"},{"$error":"#VALUE!"},{"$f":"VLOOKUP(B223,Tabel!$K$3:$L$109,2,FALSE)","v":{"$error":"#VALUE!"}},{"$f":"VLOOKUP(C223,Tabel!$K$3:$L$109,2,FALSE)","v":{"$error":"#VALUE!"}},{"$f":"VLOOKUP(D223,Tabel!$K$3:$L$109,2,FALSE)","v":{"$error":"#VALUE!"}},{"$f":"VLOOKUP(E223,Tabel!$K$3:$L$109,2,FALSE)","v":{"$error":"#VALUE!"}},{"$f":"VLOOKUP(F223,Tabel!$K$3:$L$109,2,FALSE)","v":{"$error":"#VALUE!"}},{"$f":"VLOOKUP(G223,Tabel!$K$3:$L$109,2,FALSE)","v":{"$error":"#VALUE!"}},{"$error":"#VALUE!"},{"$error":"#VALUE!"},{"$error":"#VALUE!"},{"$error":"#VALUE!"},{"$error":"#VALUE!"},{"$error":"#VALUE!"},{"$error":"#VALUE!"},{"$error":"#VALUE!"},{"$f":"VLOOKUP($U223,Tabel!$J$3:$K$109,2,FALSE)","v":{"$error":"#VALUE!"}},{"$f":"Tabel!$K$106&$A223&$V223&Tabel!$K$109","v":{"$error":"#VALUE!"}},{"$error":"#VALUE!"}]
[{"$f":"gastenlijst[[#This Row],[Postcode-GSM]]","v":{"$error":"#VALUE!"}},{"$error":"#VALUE!"},{"$error":"#VALUE!"},{"$error":"#VALUE!"},{"$error":"#VALUE!"},{"$error":"#VALUE!"},{"$error":"#VALUE!"},{"$f":"VLOOKUP(B224,Tabel!$K$3:$L$109,2,FALSE)","v":{"$error":"#VALUE!"}},{"$f":"VLOOKUP(C224,Tabel!$K$3:$L$109,2,FALSE)","v":{"$error":"#VALUE!"}},{"$f":"VLOOKUP(D224,Tabel!$K$3:$L$109,2,FALSE)","v":{"$error":"#VALUE!"}},{"$f":"VLOOKUP(E224,Tabel!$K$3:$L$109,2,FALSE)","v":{"$error":"#VALUE!"}},{"$f":"VLOOKUP(F224,Tabel!$K$3:$L$109,2,FALSE)","v":{"$error":"#VALUE!"}},{"$f":"VLOOKUP(G224,Tabel!$K$3:$L$109,2,FALSE)","v":{"$error":"#VALUE!"}},{"$error":"#VALUE!"},{"$error":"#VALUE!"},{"$error":"#VALUE!"},{"$error":"#VALUE!"},{"$error":"#VALUE!"},{"$error":"#VALUE!"},{"$error":"#VALUE!"},{"$error":"#VALUE!"},{"$f":"VLOOKUP($U224,Tabel!$J$3:$K$109,2,FALSE)","v":{"$error":"#VALUE!"}},{"$f":"Tabel!$K$106&$A224&$V224&Tabel!$K$109","v":{"$error":"#VALUE!"}},{"$error":"#VALUE!"}]
[{"$f":"gastenlijst[[#This Row],[Postcode-GSM]]","v":{"$error":"#VALUE!"}},{"$error":"#VALUE!"},{"$error":"#VALUE!"},{"$error":"#VALUE!"},{"$error":"#VALUE!"},{"$error":"#VALUE!"},{"$error":"#VALUE!"},{"$f":"VLOOKUP(B225,Tabel!$K$3:$L$109,2,FALSE)","v":{"$error":"#VALUE!"}},{"$f":"VLOOKUP(C225,Tabel!$K$3:$L$109,2,FALSE)","v":{"$error":"#VALUE!"}},{"$f":"VLOOKUP(D225,Tabel!$K$3:$L$109,2,FALSE)","v":{"$error":"#VALUE!"}},{"$f":"VLOOKUP(E225,Tabel!$K$3:$L$109,2,FALSE)","v":{"$error":"#VALUE!"}},{"$f":"VLOOKUP(F225,Tabel!$K$3:$L$109,2,FALSE)","v":{"$error":"#VALUE!"}},{"$f":"VLOOKUP(G225,Tabel!$K$3:$L$109,2,FALSE)","v":{"$error":"#VALUE!"}},{"$error":"#VALUE!"},{"$error":"#VALUE!"},{"$error":"#VALUE!"},{"$error":"#VALUE!"},{"$error":"#VALUE!"},{"$error":"#VALUE!"},{"$error":"#VALUE!"},{"$error":"#VALUE!"},{"$f":"VLOOKUP($U225,Tabel!$J$3:$K$109,2,FALSE)","v":{"$error":"#VALUE!"}},{"$f":"Tabel!$K$106&$A225&$V225&Tabel!$K$109","v":{"$error":"#VALUE!"}},{"$error":"#VALUE!"}]
[{"$f":"gastenlijst[[#This Row],[Postcode-GSM]]","v":{"$error":"#VALUE!"}},{"$error":"#VALUE!"},{"$error":"#VALUE!"},{"$error":"#VALUE!"},{"$error":"#VALUE!"},{"$error":"#VALUE!"},{"$error":"#VALUE!"},{"$f":"VLOOKUP(B226,Tabel!$K$3:$L$109,2,FALSE)","v":{"$error":"#VALUE!"}},{"$f":"VLOOKUP(C226,Tabel!$K$3:$L$109,2,FALSE)","v":{"$error":"#VALUE!"}},{"$f":"VLOOKUP(D226,Tabel!$K$3:$L$109,2,FALSE)","v":{"$error":"#VALUE!"}},{"$f":"VLOOKUP(E226,Tabel!$K$3:$L$109,2,FALSE)","v":{"$error":"#VALUE!"}},{"$f":"VLOOKUP(F226,Tabel!$K$3:$L$109,2,FALSE)","v":{"$error":"#VALUE!"}},{"$f":"VLOOKUP(G226,Tabel!$K$3:$L$109,2,FALSE)","v":{"$error":"#VALUE!"}},{"$error":"#VALUE!"},{"$error":"#VALUE!"},{"$error":"#VALUE!"},{"$error":"#VALUE!"},{"$error":"#VALUE!"},{"$error":"#VALUE!"},{"$error":"#VALUE!"},{"$error":"#VALUE!"},{"$f":"VLOOKUP($U226,Tabel!$J$3:$K$109,2,FALSE)","v":{"$error":"#VALUE!"}},{"$f":"Tabel!$K$106&$A226&$V226&Tabel!$K$109","v":{"$error":"#VALUE!"}},{"$error":"#VALUE!"}]

{"sheet":"TESTER","index":5,"n_rows":4,"n_cols":4,"rows_kept":4,"cut":false,"hidden":false,"merged":[]}
[]
[]
[]
[null,null,null,{"$f":"'BarcodeGenerator TESTER'!X6","v":"Ð1234AB12 2*Ó"}]