{"text_format":"1","workbook":"xlsx","n_sheets":13,"sheets":["Januari","Februari","Maart","April","Mei","Juni","Juli","Augustus","September","Oktober","November","December","Blad2"],"not_rendered":{"charts":0,"images":48,"macros":1,"external_links":0,"defined_names":13,"comments":0,"pivot_tables":0},"unopened":[],"bounds":{"document_bytes":16777216,"sheet_cells":100000,"rows_first":2000,"rows_last":500,"rows_between":2000,"halvings":0,"cell_chars":16384,"cell_head_chars":4096},"cells_cut":0,"cells_raw":0,"read":"whole","date_system":"1904"}

{"sheet":"Januari","index":0,"n_rows":39,"n_cols":57,"rows_kept":39,"cut":false,"hidden":false,"merged":[[38,18,38,19],[37,18,37,19],[31,1,31,8],[32,1,32,8],[34,18,34,19],[35,17,35,19],[36,17,36,19],[36,12,36,14],[36,15,36,16],[34,12,34,16],[35,12,35,14],[35,15,35,16],[0,14,0,21],[1,48,1,51],[18,1,18,8],[19,1,19,8],[1,2,1,8],[3,2,3,8],[2,3,2,7],[12,1,12,8],[13,1,13,8],[15,1,15,8],[16,1,16,8]]}
[null,null,null,null,null,null,null,null,null,null,null,null,null,null,"Test"]
[null,null,{"$f":"TODAY()","v":"2018-03-21"},null,null,null,null,null,null,"Feestdag","wknr","dag","datum","tijd in","tijd uit","tijd in","tijd uit","tijd in","tijd uit","tijd in","tijd uit","werk\ntijd",1,1.25,1.5,2,"hulp",1,1.25,1.5,1.5,2,1,1.25,1.5,1.5,2,1,1.25,1.5,1.5,2,1,1.25,1.5,1.5,2,null,"onregelmatigheidstoeslag",null,null,null,null,"Aantal","Laden","Lossen","Werktijd"]
[null,2018," ","Kalender",null,null,null,null,null,{"$f":"IF(ISNA(VLOOKUP(M3,feestdagen,2,0)),\"\",VLOOKUP(M3,feestdagen,2,0))","v":"Nieuwjaarsdag"},{"$f":"WEEKNUM(L3,21)","v":1},{"$f":"DATE($B$3,$B$4,1)","v":"2018-01-01"},{"$f":"DATE($B$3,$B$4,1)","v":"2018-01-01"},null,null,null,null,null,null,null,null,{"$f":"IF(AND(W3=\"\",X3=\"\",Y3=\"\",Z3=\"\"),\"\",SUM(W3:Z3))","v":""},{"$f":"IF(AND(AB3=\"\",AG3=\"\",AL3=\"\",AQ3=\"\"),\"\",SUM(AB3,AG3,AL3,AQ3))","v":""},{"$f":"IF(AND(AC3=\"\",AH3=\"\",AM3=\"\",AR3=\"\"),\"\",SUM(AC3,AH3,AM3,AR3))","v":""},{"$f":"IF(AND(AD3=\"\",AE3=\"\",AI3=\"\",AJ3=\"\",AN3=\"\",AO3=\"\",AS3=\"\",AT3=\"\"),\"\",SUM(AD3,AE3,AI3,AJ3,AN3,AO3,AS3,AT3))","v":""},{"$f":"IF(AND(AF3=\"\",AK3=\"\",AP3=\"\",AU3=\"\"),\"\",SUM(AF3,AK3,AP3,AU3))","v":""},{"$f":"IF(ISERROR(IF(NOT(ISERROR(MATCH($M3,Blad2!$A$2:$A$11,0))),7,WEEKDAY($M3,2))),\"\",IF(NOT(ISERROR(MATCH($M3,Blad2!$A$2:$A$11,0))),7,WEEKDAY($M3,2)))","v":7},{"$f":"IF(AND($AA3<6,N3<>\"\",O3<>\"\"),ort($N3,$O3,$AY$3:$AZ$3),\"\")","v":""},{"$f":"IF(AND($AA3<6,N3<>\"\",O3<>\"\"),ort($N3,$O3,$AY$4:$AZ$5),\"\")","v":""},{"$f":"IF(AND($AA3<6,N3<>\"\",O3<>\"\"),ort($N3,$O3,$AY$6:$AZ$7),\"\")","v":""},{"$f":"IF(AND($AA3=6,N3<>\"\",O3<>\"\"),ort($N3,$O3,$AY$8:$AZ$8),\"\")","v":""},{"$f":"IF(AND($AA3=7,N3<>\"\",O3<>\"\"),ort($N3,$O3,$AY$9:$AZ$9),\"\")","v":""},{"$f":"IF(AND($AA3<6,P3<>\"\",Q3<>\"\"),ort($P3,$Q3,$AY$3:$AZ$3),\"\")","v":""},{"$f":"IF(AND($AA3<6,P3<>\"\",Q3<>\"\"),ort($P3,$Q3,$AY$4:$AZ$5),\"\")","v":""},{"$f":"IF(AND($AA3<6,P3<>\"\",Q3<>\"\"),ort($P3,$Q3,$AY$6:$AZ$7),\"\")","v":""},{"$f":"IF(AND($AA3=6,P3<>\"\",Q3<>\"\"),ort($P3,$Q3,$AY$8:$AZ$8),\"\")","v":""},{"$f":"IF(AND($AA3=7,P3<>\"\",Q3<>\"\"),ort($P3,$Q3,$AY$9:$AZ$9),\"\")","v":""},{"$f":"IF(AND($AA3<6,R3<>\"\",S3<>\"\"),ort($R3,$S3,$AY$3:$AZ$3),\"\")","v":""},{"$f":"IF(AND($AA3<6,R3<>\"\",S3<>\"\"),ort($R3,$S3,$AY$4:$AZ$5),\"\")","v":""},{"$f":"IF(AND($AA3<6,R3<>\"\",S3<>\"\"),ort($R3,$S3,$AY$6:$AZ$7),\"\")","v":""},{"$f":"IF(AND($AA3=6,R3<>\"\",S3<>\"\"),ort($R3,$S3,$AY$8:$AZ$8),\"\")","v":""},{"$f":"IF(AND($AA3=7,R3<>\"\",S3<>\"\"),ort($R3,$S3,$AY$9:$AZ$9),\"\")","v":""},{"$f":"IF(AND($AA3<6,T3<>\"\",U3<>\"\"),ort($T3,$U3,$AY$3:$AZ$3),\"\")","v":""},{"$f":"IF(AND($AA3<6,T3<>\"\",U3<>\"\"),ort($T3,$U3,$AY$4:$AZ$5),\"\")","v":""},{"$f":"IF(AND($AA3<6,T3<>\"\",U3<>\"\"),ort($T3,$U3,$AY$6:$AZ$7),\"\")","v":""},{"$f":"IF(AND($AA3=6,T3<>\"\",U3<>\"\"),ort($T3,$U3,$AY$8:$AZ$8),\"\")","v":""},{"$f":"IF(AND($AA3=7,T3<>\"\",U3<>\"\"),ort($T3,$U3,$AY$9:$AZ$9),\"\")","v":""},null,1,"m-vr",0.39583333333333331,0.8125,null,null,null,null,{"$f":"SUM(BB3/26/24,BC3:BD3)","v":"00:00:00"}]
[null,1,{"$f":"DATE(B3,B4,1)","v":"2018-01-01"},null,null,null,null,null,null,"",{"$f":"IF(WEEKDAY(L4)=2,1+INT((L4-DATE(YEAR(L4+4-WEEKDAY(L4+6)),1,5)+WEEKDAY(DATE(YEAR(L4+4-WEEKDAY(L4+6)),1,3)))/7),\"\")","v":""},{"$f":"DATE($B$3,$B$4,2)","v":"2018-01-02"},{"$f":"DATE($B$3,$B$4,2)","v":"2018-01-02"},0.39583333333333331,{"$f":"SUM(N4,BE4)","v":"13:50:46.154"},null,null,null,null,null,null,0.18108974358974356,0.18108974358974356,"","","",{"$f":"IF(ISERROR(IF(NOT(ISERROR(MATCH($M4,Blad2!$A$2:$A$11,0))),7,WEEKDAY($M4,2))),\"\",IF(NOT(ISERROR(MATCH($M4,Blad2!$A$2:$A$11,0))),7,WEEKDAY($M4,2)))","v":2},{"$f":"IF(AND($AA4<6,N4<>\"\",O4<>\"\"),ort($N4,$O4,$AY$3:$AZ$3),\"\")","v":0.18108974358974356},{"$f":"IF(AND($AA4<6,N4<>\"\",O4<>\"\"),ort($N4,$O4,$AY$4:$AZ$5),\"\")","v":""},{"$f":"IF(AND($AA4<6,N4<>\"\",O4<>\"\"),ort($N4,$O4,$AY$6:$AZ$7),\"\")","v":""},{"$f":"IF(AND($AA4=6,N4<>\"\",O4<>\"\"),ort($N4,$O4,$AY$8:$AZ$8),\"\")","v":""},{"$f":"IF(AND($AA4=7,N4<>\"\",O4<>\"\"),ort($N4,$O4,$AY$9:$AZ$9),\"\")","v":""},{"$f":"IF(AND($AA4<6,P4<>\"\",Q4<>\"\"),ort($P4,$Q4,$AY$3:$AZ$3),\"\")","v":""},{"$f":"IF(AND($AA4<6,P4<>\"\",Q4<>\"\"),ort($P4,$Q4,$AY$4:$AZ$5),\"\")","v":""},{"$f":"IF(AND($AA4<6,P4<>\"\",Q4<>\"\"),ort($P4,$Q4,$AY$6:$AZ$7),\"\")","v":""},{"$f":"IF(AND($AA4=6,P4<>\"\",Q4<>\"\"),ort($P4,$Q4,$AY$8:$AZ$8),\"\")","v":""},{"$f":"IF(AND($AA4=7,P4<>\"\",Q4<>\"\"),ort($P4,$Q4,$AY$9:$AZ$9),\"\")","v":""},{"$f":"IF(AND($AA4<6,R4<>\"\",S4<>\"\"),ort($R4,$S4,$AY$3:$AZ$3),\"\")","v":""},{"$f":"IF(AND($AA4<6,R4<>\"\",S4<>\"\"),ort($R4,$S4,$AY$4:$AZ$5),\"\")","v":""},{"$f":"IF(AND($AA4<6,R4<>\"\",S4<>\"\"),ort($R4,$S4,$AY$6:$AZ$7),\"\")","v":""},{"$f":"IF(AND($AA4=6,R4<>\"\",S4<>\"\"),ort($R4,$S4,$AY$8:$AZ$8),\"\")","v":""},{"$f":"IF(AND($AA4=7,R4<>\"\",S4<>\"\"),ort($R4,$S4,$AY$9:$AZ$9),\"\")","v":""},{"$f":"IF(AND($AA4<6,T4<>\"\",U4<>\"\"),ort($T4,$U4,$AY$3:$AZ$3),\"\")","v":""},{"$f":"IF(AND($AA4<6,T4<>\"\",U4<>\"\"),ort($T4,$U4,$AY$4:$AZ$5),\"\")","v":""},{"$f":"IF(AND($AA4<6,T4<>\"\",U4<>\"\"),ort($T4,$U4,$AY$6:$AZ$7),\"\")","v":""},{"$f":"IF(AND($AA4=6,T4<>\"\",U4<>\"\"),ort($T4,$U4,$AY$8:$AZ$8),\"\")","v":""},{"$f":"IF(AND($AA4=7,T4<>\"\",U4<>\"\"),ort($T4,$U4,$AY$9:$AZ$9),\"\")","v":""},null,1.25,"m-vr",0.25,0.3125,null,100,"00:30:00",null,{"$f":"SUM(BB4/26/24,BC4:BD4)","v":"04:20:46.154"}]
[null,null,"Ma","Di","Wo","Do","Vr","Za","Zo","","",{"$f":"DATE($B$3,$B$4,3)","v":"2018-01-03"},{"$f":"DATE($B$3,$B$4,3)","v":"2018-01-03"},0.39583333333333331,{"$f":"SUM(N5,BE5)","v":"11:55:23.077"},null,null,null,null,null,null,0.10096153846153849,0.10096153846153849,"","","",{"$f":"IF(ISERROR(IF(NOT(ISERROR(MATCH($M5,Blad2!$A$2:$A$11,0))),7,WEEKDAY($M5,2))),\"\",IF(NOT(ISERROR(MATCH($M5,Blad2!$A$2:$A$11,0))),7,WEEKDAY($M5,2)))","v":3},{"$f":"IF(AND($AA5<6,N5<>\"\",O5<>\"\"),ort($N5,$O5,$AY$3:$AZ$3),\"\")","v":0.10096153846153849},{"$f":"IF(AND($AA5<6,N5<>\"\",O5<>\"\"),ort($N5,$O5,$AY$4:$AZ$5),\"\")","v":""},{"$f":"IF(AND($AA5<6,N5<>\"\",O5<>\"\"),ort($N5,$O5,$AY$6:$AZ$7),\"\")","v":""},{"$f":"IF(AND($AA5=6,N5<>\"\",O5<>\"\"),ort($N5,$O5,$AY$8:$AZ$8),\"\")","v":""},{"$f":"IF(AND($AA5=7,N5<>\"\",O5<>\"\"),ort($N5,$O5,$AY$9:$AZ$9),\"\")","v":""},{"$f":"IF(AND($AA5<6,P5<>\"\",Q5<>\"\"),ort($P5,$Q5,$AY$3:$AZ$3),\"\")","v":""},{"$f":"IF(AND($AA5<6,P5<>\"\",Q5<>\"\"),ort($P5,$Q5,$AY$4:$AZ$5),\"\")","v":""},{"$f":"IF(AND($AA5<6,P5<>\"\",Q5<>\"\"),ort($P5,$Q5,$AY$6:$AZ$7),\"\")","v":""},{"$f":"IF(AND($AA5=6,P5<>\"\",Q5<>\"\"),ort($P5,$Q5,$AY$8:$AZ$8),\"\")","v":""},{"$f":"IF(AND($AA5=7,P5<>\"\",Q5<>\"\"),ort($P5,$Q5,$AY$9:$AZ$9),\"\")","v":""},{"$f":"IF(AND($AA5<6,R5<>\"\",S5<>\"\"),ort($R5,$S5,$AY$3:$AZ$3),\"\")","v":""},{"$f":"IF(AND($AA5<6,R5<>\"\",S5<>\"\"),ort($R5,$S5,$AY$4:$AZ$5),\"\")","v":""},{"$f":"IF(AND($AA5<6,R5<>\"\",S5<>\"\"),ort($R5,$S5,$AY$6:$AZ$7),\"\")","v":""},{"$f":"IF(AND($AA5=6,R5<>\"\",S5<>\"\"),ort($R5,$S5,$AY$8:$AZ$8),\"\")","v":""},{"$f":"IF(AND($AA5=7,R5<>\"\",S5<>\"\"),ort($R5,$S5,$AY$9:$AZ$9),\"\")","v":""},{"$f":"IF(AND($AA5<6,T5<>\"\",U5<>\"\"),ort($T5,$U5,$AY$3:$AZ$3),\"\")","v":""},{"$f":"IF(AND($AA5<6,T5<>\"\",U5<>\"\"),ort($T5,$U5,$AY$4:$AZ$5),\"\")","v":""},{"$f":"IF(AND($AA5<6,T5<>\"\",U5<>\"\"),ort($T5,$U5,$AY$6:$AZ$7),\"\")","v":""},{"$f":"IF(AND($AA5=6,T5<>\"\",U5<>\"\"),ort($T5,$U5,$AY$8:$AZ$8),\"\")","v":""},{"$f":"IF(AND($AA5=7,T5<>\"\",U5<>\"\"),ort($T5,$U5,$AY$9:$AZ$9),\"\")","v":""},null,1.25,"m-vr",0.75,0.77083333333333337,null,50,null,"00:30:00","02:25:23.077"]
[null,null,{"$f":"IF(WEEKDAY(C4,2)=1,C4,\"\")","v":"2018-01-01"},{"$f":"IF(WEEKDAY(C4,2)=2,C4,IF(C6<>\"\",C6+1,\"\"))","v":"2018-01-02"},{"$f":"IF(WEEKDAY(C4,2)=3,C4,IF(D6<>\"\",D6+1,\"\"))","v":"2018-01-03"},{"$f":"IF(WEEKDAY(C4,2)=4,C4,IF(E6<>\"\",E6+1,\"\"))","v":"2018-01-04"},{"$f":"IF(WEEKDAY(C4,2)=5,C4,IF(F6<>\"\",F6+1,\"\"))","v":"2018-01-05"},{"$f":"IF(WEEKDAY(C4,2)=6,C4,IF(G6<>\"\",G6+1,\"\"))","v":"2018-01-06"},{"$f":"IF(WEEKDAY(C4,2)=7,C4,IF(H6<>\"\",H6+1,\"\"))","v":"2018-01-07"},"","",{"$f":"DATE($B$3,$B$4,4)","v":"2018-01-04"},{"$f":"DATE($B$3,$B$4,4)","v":"2018-01-04"},0.39583333333333331,"12:41:32.308",null,null,null,null,null,null,0.13301282051282054,0.13301282051282054,"","","",{"$f":"IF(ISERROR(IF(NOT(ISERROR(MATCH($M6,Blad2!$A$2:$A$11,0))),7,WEEKDAY($M6,2))),\"\",IF(NOT(ISERROR(MATCH($M6,Blad2!$A$2:$A$11,0))),7,WEEKDAY($M6,2)))","v":4},{"$f":"IF(AND($AA6<6,N6<>\"\",O6<>\"\"),ort($N6,$O6,$AY$3:$AZ$3),\"\")","v":0.13301282051282054},{"$f":"IF(AND($AA6<6,N6<>\"\",O6<>\"\"),ort($N6,$O6,$AY$4:$AZ$5),\"\")","v":""},{"$f":"IF(AND($AA6<6,N6<>\"\",O6<>\"\"),ort($N6,$O6,$AY$6:$AZ$7),\"\")","v":""},{"$f":"IF(AND($AA6=6,N6<>\"\",O6<>\"\"),ort($N6,$O6,$AY$8:$AZ$8),\"\")","v":""},{"$f":"IF(AND($AA6=7,N6<>\"\",O6<>\"\"),ort($N6,$O6,$AY$9:$AZ$9),\"\")","v":""},{"$f":"IF(AND($AA6<6,P6<>\"\",Q6<>\"\"),ort($P6,$Q6,$AY$3:$AZ$3),\"\")","v":""},{"$f":"IF(AND($AA6<6,P6<>\"\",Q6<>\"\"),ort($P6,$Q6,$AY$4:$AZ$5),\"\")","v":""},{"$f":"IF(AND($AA6<6,P6<>\"\",Q6<>\"\"),ort($P6,$Q6,$AY$6:$AZ$7),\"\")","v":""},{"$f":"IF(AND($AA6=6,P6<>\"\",Q6<>\"\"),ort($P6,$Q6,$AY$8:$AZ$8),\"\")","v":""},{"$f":"IF(AND($AA6=7,P6<>\"\",Q6<>\"\"),ort($P6,$Q6,$AY$9:$AZ$9),\"\")","v":""},{"$f":"IF(AND($AA6<6,R6<>\"\",S6<>\"\"),ort($R6,$S6,$AY$3:$AZ$3),\"\")","v":""},{"$f":"IF(AND($AA6<6,R6<>\"\",S6<>\"\"),ort($R6,$S6,$AY$4:$AZ$5),\"\")","v":""},{"$f":"IF(AND($AA6<6,R6<>\"\",S6<>\"\"),ort($R6,$S6,$AY$6:$AZ$7),\"\")","v":""},{"$f":"IF(AND($AA6=6,R6<>\"\",S6<>\"\"),ort($R6,$S6,$AY$8:$AZ$8),\"\")","v":""},{"$f":"IF(AND($AA6=7,R6<>\"\",S6<>\"\"),ort($R6,$S6,$AY$9:$AZ$9),\"\")","v":""},{"$f":"IF(AND($AA6<6,T6<>\"\",U6<>\"\"),ort($T6,$U6,$AY$3:$AZ$3),\"\")","v":""},{"$f":"IF(AND($AA6<6,T6<>\"\",U6<>\"\"),ort($T6,$U6,$AY$4:$AZ$5),\"\")","v":""},{"$f":"IF(AND($AA6<6,T6<>\"\",U6<>\"\"),ort($T6,$U6,$AY$6:$AZ$7),\"\")","v":""},{"$f":"IF(AND($AA6=6,T6<>\"\",U6<>\"\"),ort($T6,$U6,$AY$8:$AZ$8),\"\")","v":""},{"$f":"IF(AND($AA6=7,T6<>\"\",U6<>\"\"),ort($T6,$U6,$AY$9:$AZ$9),\"\")","v":""},null,1.5,"m-vr",0,0.25,null,70,"00:30:00",null,"03:11:32.308"]
[null,null,{"$f":"I6+1","v":"2018-01-08"},{"$f":"C7+1","v":"2018-01-09"},"2018-01-10","2018-01-11","2018-01-12","2018-01-13","2018-01-14","","",{"$f":"DATE($B$3,$B$4,5)","v":"2018-01-05"},{"$f":"DATE($B$3,$B$4,5)","v":"2018-01-05"},0.39583333333333331,"13:04:36.923",null,null,null,null,null,null,0.14903846153846162,0.14903846153846162,"","","",{"$f":"IF(ISERROR(IF(NOT(ISERROR(MATCH($M7,Blad2!$A$2:$A$11,0))),7,WEEKDAY($M7,2))),\"\",IF(NOT(ISERROR(MATCH($M7,Blad2!$A$2:$A$11,0))),7,WEEKDAY($M7,2)))","v":5},{"$f":"IF(AND($AA7<6,N7<>\"\",O7<>\"\"),ort($N7,$O7,$AY$3:$AZ$3),\"\")","v":0.14903846153846162},{"$f":"IF(AND($AA7<6,N7<>\"\",O7<>\"\"),ort($N7,$O7,$AY$4:$AZ$5),\"\")","v":""},{"$f":"IF(AND($AA7<6,N7<>\"\",O7<>\"\"),ort($N7,$O7,$AY$6:$AZ$7),\"\")","v":""},{"$f":"IF(AND($AA7=6,N7<>\"\",O7<>\"\"),ort($N7,$O7,$AY$8:$AZ$8),\"\")","v":""},{"$f":"IF(AND($AA7=7,N7<>\"\",O7<>\"\"),ort($N7,$O7,$AY$9:$AZ$9),\"\")","v":""},{"$f":"IF(AND($AA7<6,P7<>\"\",Q7<>\"\"),ort($P7,$Q7,$AY$3:$AZ$3),\"\")","v":""},{"$f":"IF(AND($AA7<6,P7<>\"\",Q7<>\"\"),ort($P7,$Q7,$AY$4:$AZ$5),\"\")","v":""},{"$f":"IF(AND($AA7<6,P7<>\"\",Q7<>\"\"),ort($P7,$Q7,$AY$6:$AZ$7),\"\")","v":""},{"$f":"IF(AND($AA7=6,P7<>\"\",Q7<>\"\"),ort($P7,$Q7,$AY$8:$AZ$8),\"\")","v":""},{"$f":"IF(AND($AA7=7,P7<>\"\",Q7<>\"\"),ort($P7,$Q7,$AY$9:$AZ$9),\"\")","v":""},{"$f":"IF(AND($AA7<6,R7<>\"\",S7<>\"\"),ort($R7,$S7,$AY$3:$AZ$3),\"\")","v":""},{"$f":"IF(AND($AA7<6,R7<>\"\",S7<>\"\"),ort($R7,$S7,$AY$4:$AZ$5),\"\")","v":""},{"$f":"IF(AND($AA7<6,R7<>\"\",S7<>\"\"),ort($R7,$S7,$AY$6:$AZ$7),\"\")","v":""},{"$f":"IF(AND($AA7=6,R7<>\"\",S7<>\"\"),ort($R7,$S7,$AY$8:$AZ$8),\"\")","v":""},{"$f":"IF(AND($AA7=7,R7<>\"\",S7<>\"\"),ort($R7,$S7,$AY$9:$AZ$9),\"\")","v":""},{"$f":"IF(AND($AA7<6,T7<>\"\",U7<>\"\"),ort($T7,$U7,$AY$3:$AZ$3),\"\")","v":""},{"$f":"IF(AND($AA7<6,T7<>\"\",U7<>\"\"),ort($T7,$U7,$AY$4:$AZ$5),\"\")","v":""},{"$f":"IF(AND($AA7<6,T7<>\"\",U7<>\"\"),ort($T7,$U7,$AY$6:$AZ$7),\"\")","v":""},{"$f":"IF(AND($AA7=6,T7<>\"\",U7<>\"\"),ort($T7,$U7,$AY$8:$AZ$8),\"\")","v":""},{"$f":"IF(AND($AA7=7,T7<>\"\",U7<>\"\"),ort($T7,$U7,$AY$9:$AZ$9),\"\")","v":""},null,1.5,"m-vr",0.77083333333333337,1,null,80,"00:30:00",null,"03:34:36.923"]
[null,null,{"$f":"I7+1","v":"2018-01-15"},"2018-01-16","2018-01-17","2018-01-18","2018-01-19","2018-01-20","2018-01-21","","",{"$f":"DATE($B$3,$B$4,6)","v":"2018-01-06"},{"$f":"DATE($B$3,$B$4,6)","v":"2018-01-06"},null,"00:00:00",null,null,null,null,null,null,"","","","","",{"$f":"IF(ISERROR(IF(NOT(ISERROR(MATCH($M8,Blad2!$A$2:$A$11,0))),7,WEEKDAY($M8,2))),\"\",IF(NOT(ISERROR(MATCH($M8,Blad2!$A$2:$A$11,0))),7,WEEKDAY($M8,2)))","v":6},{"$f":"IF(AND($AA8<6,N8<>\"\",O8<>\"\"),ort($N8,$O8,$AY$3:$AZ$3),\"\")","v":""},{"$f":"IF(AND($AA8<6,N8<>\"\",O8<>\"\"),ort($N8,$O8,$AY$4:$AZ$5),\"\")","v":""},{"$f":"IF(AND($AA8<6,N8<>\"\",O8<>\"\"),ort($N8,$O8,$AY$6:$AZ$7),\"\")","v":""},{"$f":"IF(AND($AA8=6,N8<>\"\",O8<>\"\"),ort($N8,$O8,$AY$8:$AZ$8),\"\")","v":""},{"$f":"IF(AND($AA8=7,N8<>\"\",O8<>\"\"),ort($N8,$O8,$AY$9:$AZ$9),\"\")","v":""},{"$f":"IF(AND($AA8<6,P8<>\"\",Q8<>\"\"),ort($P8,$Q8,$AY$3:$AZ$3),\"\")","v":""},{"$f":"IF(AND($AA8<6,P8<>\"\",Q8<>\"\"),ort($P8,$Q8,$AY$4:$AZ$5),\"\")","v":""},{"$f":"IF(AND($AA8<6,P8<>\"\",Q8<>\"\"),ort($P8,$Q8,$AY$6:$AZ$7),\"\")","v":""},{"$f":"IF(AND($AA8=6,P8<>\"\",Q8<>\"\"),ort($P8,$Q8,$AY$8:$AZ$8),\"\")","v":""},{"$f":"IF(AND($AA8=7,P8<>\"\",Q8<>\"\"),ort($P8,$Q8,$AY$9:$AZ$9),\"\")","v":""},{"$f":"IF(AND($AA8<6,R8<>\"\",S8<>\"\"),ort($R8,$S8,$AY$3:$AZ$3),\"\")","v":""},{"$f":"IF(AND($AA8<6,R8<>\"\",S8<>\"\"),ort($R8,$S8,$AY$4:$AZ$5),\"\")","v":""},{"$f":"IF(AND($AA8<6,R8<>\"\",S8<>\"\"),ort($R8,$S8,$AY$6:$AZ$7),\"\")","v":""},{"$f":"IF(AND($AA8=6,R8<>\"\",S8<>\"\"),ort($R8,$S8,$AY$8:$AZ$8),\"\")","v":""},{"$f":"IF(AND($AA8=7,R8<>\"\",S8<>\"\"),ort($R8,$S8,$AY$9:$AZ$9),\"\")","v":""},{"$f":"IF(AND($AA8<6,T8<>\"\",U8<>\"\"),ort($T8,$U8,$AY$3:$AZ$3),\"\")","v":""},{"$f":"IF(AND($AA8<6,T8<>\"\",U8<>\"\"),ort($T8,$U8,$AY$4:$AZ$5),\"\")","v":""},{"$f":"IF(AND($AA8<6,T8<>\"\",U8<>\"\"),ort($T8,$U8,$AY$6:$AZ$7),\"\")","v":""},{"$f":"IF(AND($AA8=6,T8<>\"\",U8<>\"\"),ort($T8,$U8,$AY$8:$AZ$8),\"\")","v":""},{"$f":"IF(AND($AA8=7,T8<>\"\",U8<>\"\"),ort($T8,$U8,$AY$9:$AZ$9),\"\")","v":""},null,1.5,"za",0,1,null,null,null,null,"00:00:00"]
[null,null,{"$f":"I8+1","v":"2018-01-22"},"2018-01-23","2018-01-24","2018-01-25","2018-01-26","2018-01-27","2018-01-28","","",{"$f":"DATE($B$3,$B$4,7)","v":"2018-01-07"},{"$f":"DATE($B$3,$B$4,7)","v":"2018-01-07"},null,"00:00:00",null,null,null,null,null,null,"","","","","",{"$f":"IF(ISERROR(IF(NOT(ISERROR(MATCH($M9,Blad2!$A$2:$A$11,0))),7,WEEKDAY($M9,2))),\"\",IF(NOT(ISERROR(MATCH($M9,Blad2!$A$2:$A$11,0))),7,WEEKDAY($M9,2)))","v":7},{"$f":"IF(AND($AA9<6,N9<>\"\",O9<>\"\"),ort($N9,$O9,$AY$3:$AZ$3),\"\")","v":""},{"$f":"IF(AND($AA9<6,N9<>\"\",O9<>\"\"),ort($N9,$O9,$AY$4:$AZ$5),\"\")","v":""},{"$f":"IF(AND($AA9<6,N9<>\"\",O9<>\"\"),ort($N9,$O9,$AY$6:$AZ$7),\"\")","v":""},{"$f":"IF(AND($AA9=6,N9<>\"\",O9<>\"\"),ort($N9,$O9,$AY$8:$AZ$8),\"\")","v":""},{"$f":"IF(AND($AA9=7,N9<>\"\",O9<>\"\"),ort($N9,$O9,$AY$9:$AZ$9),\"\")","v":""},{"$f":"IF(AND($AA9<6,P9<>\"\",Q9<>\"\"),ort($P9,$Q9,$AY$3:$AZ$3),\"\")","v":""},{"$f":"IF(AND($AA9<6,P9<>\"\",Q9<>\"\"),ort($P9,$Q9,$AY$4:$AZ$5),\"\")","v":""},{"$f":"IF(AND($AA9<6,P9<>\"\",Q9<>\"\"),ort($P9,$Q9,$AY$6:$AZ$7),\"\")","v":""},{"$f":"IF(AND($AA9=6,P9<>\"\",Q9<>\"\"),ort($P9,$Q9,$AY$8:$AZ$8),\"\")","v":""},{"$f":"IF(AND($AA9=7,P9<>\"\",Q9<>\"\"),ort($P9,$Q9,$AY$9:$AZ$9),\"\")","v":""},{"$f":"IF(AND($AA9<6,R9<>\"\",S9<>\"\"),ort($R9,$S9,$AY$3:$AZ$3),\"\")","v":""},{"$f":"IF(AND($AA9<6,R9<>\"\",S9<>\"\"),ort($R9,$S9,$AY$4:$AZ$5),\"\")","v":""},{"$f":"IF(AND($AA9<6,R9<>\"\",S9<>\"\"),ort($R9,$S9,$AY$6:$AZ$7),\"\")","v":""},{"$f":"IF(AND($AA9=6,R9<>\"\",S9<>\"\"),ort($R9,$S9,$AY$8:$AZ$8),\"\")","v":""},{"$f":"IF(AND($AA9=7,R9<>\"\",S9<>\"\"),ort($R9,$S9,$AY$9:$AZ$9),\"\")","v":""},{"$f":"IF(AND($AA9<6,T9<>\"\",U9<>\"\"),ort($T9,$U9,$AY$3:$AZ$3),\"\")","v":""},{"$f":"IF(AND($AA9<6,T9<>\"\",U9<>\"\"),ort($T9,$U9,$AY$4:$AZ$5),\"\")","v":""},{"$f":"IF(AND($AA9<6,T9<>\"\",U9<>\"\"),ort($T9,$U9,$AY$6:$AZ$7),\"\")","v":""},{"$f":"IF(AND($AA9=6,T9<>\"\",U9<>\"\"),ort($T9,$U9,$AY$8:$AZ$8),\"\")","v":""},{"$f":"IF(AND($AA9=7,T9<>\"\",U9<>\"\"),ort($T9,$U9,$AY$9:$AZ$9),\"\")","v":""},null,2,"zo/feest",0,1,null,null,null,null,"00:00:00"]
[null,null,{"$f":"IF(I9=\"\",\"\",IF(MONTH(I9+1)=MONTH(I9),I9+1,\"\"))","v":"2018-01-29"},{"$f":"IF(C10=\"\",\"\",IF(MONTH(C10+1)=MONTH(C10),C10+1,\"\"))","v":"2018-01-30"},"2018-01-31","","","","","",2,{"$f":"DATE($B$3,$B$4,8)","v":"2018-01-08"},{"$f":"DATE($B$3,$B$4,8)","v":"2018-01-08"},null,"00:00:00",null,null,null,null,null,null,"","","","","",{"$f":"IF(ISERROR(IF(NOT(ISERROR(MATCH($M10,Blad2!$A$2:$A$11,0))),7,WEEKDAY($M10,2))),\"\",IF(NOT(ISERROR(MATCH($M10,Blad2!$A$2:$A$11,0))),7,WEEKDAY($M10,2)))","v":1},{"$f":"IF(AND($AA10<6,N10<>\"\",O10<>\"\"),ort($N10,$O10,$AY$3:$AZ$3),\"\")","v":""},{"$f":"IF(AND($AA10<6,N10<>\"\",O10<>\"\"),ort($N10,$O10,$AY$4:$AZ$5),\"\")","v":""},{"$f":"IF(AND($AA10<6,N10<>\"\",O10<>\"\"),ort($N10,$O10,$AY$6:$AZ$7),\"\")","v":""},{"$f":"IF(AND($AA10=6,N10<>\"\",O10<>\"\"),ort($N10,$O10,$AY$8:$AZ$8),\"\")","v":""},{"$f":"IF(AND($AA10=7,N10<>\"\",O10<>\"\"),ort($N10,$O10,$AY$9:$AZ$9),\"\")","v":""},{"$f":"IF(AND($AA10<6,P10<>\"\",Q10<>\"\"),ort($P10,$Q10,$AY$3:$AZ$3),\"\")","v":""},{"$f":"IF(AND($AA10<6,P10<>\"\",Q10<>\"\"),ort($P10,$Q10,$AY$4:$AZ$5),\"\")","v":""},{"$f":"IF(AND($AA10<6,P10<>\"\",Q10<>\"\"),ort($P10,$Q10,$AY$6:$AZ$7),\"\")","v":""},{"$f":"IF(AND($AA10=6,P10<>\"\",Q10<>\"\"),ort($P10,$Q10,$AY$8:$AZ$8),\"\")","v":""},{"$f":"IF(AND($AA10=7,P10<>\"\",Q10<>\"\"),ort($P10,$Q10,$AY$9:$AZ$9),\"\")","v":""},{"$f":"IF(AND($AA10<6,R10<>\"\",S10<>\"\"),ort($R10,$S10,$AY$3:$AZ$3),\"\")","v":""},{"$f":"IF(AND($AA10<6,R10<>\"\",S10<>\"\"),ort($R10,$S10,$AY$4:$AZ$5),\"\")","v":""},{"$f":"IF(AND($AA10<6,R10<>\"\",S10<>\"\"),ort($R10,$S10,$AY$6:$AZ$7),\"\")","v":""},{"$f":"IF(AND($AA10=6,R10<>\"\",S10<>\"\"),ort($R10,$S10,$AY$8:$AZ$8),\"\")","v":""},{"$f":"IF(AND($AA10=7,R10<>\"\",S10<>\"\"),ort($R10,$S10,$AY$9:$AZ$9),\"\")","v":""},{"$f":"IF(AND($AA10<6,T10<>\"\",U10<>\"\"),ort($T10,$U10,$AY$3:$AZ$3),\"\")","v":""},{"$f":"IF(AND($AA10<6,T10<>\"\",U10<>\"\"),ort($T10,$U10,$AY$4:$AZ$5),\"\")","v":""},{"$f":"IF(AND($AA10<6,T10<>\"\",U10<>\"\"),ort($T10,$U10,$AY$6:$AZ$7),\"\")","v":""},{"$f":"IF(AND($AA10=6,T10<>\"\",U10<>\"\"),ort($T10,$U10,$AY$8:$AZ$8),\"\")","v":""},{"$f":"IF(AND($AA10=7,T10<>\"\",U10<>\"\"),ort($T10,$U10,$AY$9:$AZ$9),\"\")","v":""},null,null,null,null,null,null,null,null,null,"00:00:00"]
[null,null,{"$f":"IF(I10=\"\",\"\",IF(MONTH(I10+1)=MONTH(I10),I10+1,\"\"))","v":""},"","","","","","","","",{"$f":"DATE($B$3,$B$4,9)","v":"2018-01-09"},{"$f":"DATE($B$3,$B$4,9)","v":"2018-01-09"},null,"00:00:00",null,null,null,null,null,null,"","","","","",{"$f":"IF(ISERROR(IF(NOT(ISERROR(MATCH($M11,Blad2!$A$2:$A$11,0))),7,WEEKDAY($M11,2))),\"\",IF(NOT(ISERROR(MATCH($M11,Blad2!$A$2:$A$11,0))),7,WEEKDAY($M11,2)))","v":2},{"$f":"IF(AND($AA11<6,N11<>\"\",O11<>\"\"),ort($N11,$O11,$AY$3:$AZ$3),\"\")","v":""},{"$f":"IF(AND($AA11<6,N11<>\"\",O11<>\"\"),ort($N11,$O11,$AY$4:$AZ$5),\"\")","v":""},{"$f":"IF(AND($AA11<6,N11<>\"\",O11<>\"\"),ort($N11,$O11,$AY$6:$AZ$7),\"\")","v":""},{"$f":"IF(AND($AA11=6,N11<>\"\",O11<>\"\"),ort($N11,$O11,$AY$8:$AZ$8),\"\")","v":""},{"$f":"IF(AND($AA11=7,N11<>\"\",O11<>\"\"),ort($N11,$O11,$AY$9:$AZ$9),\"\")","v":""},{"$f":"IF(AND($AA11<6,P11<>\"\",Q11<>\"\"),ort($P11,$Q11,$AY$3:$AZ$3),\"\")","v":""},{"$f":"IF(AND($AA11<6,P11<>\"\",Q11<>\"\"),ort($P11,$Q11,$AY$4:$AZ$5),\"\")","v":""},{"$f":"IF(AND($AA11<6,P11<>\"\",Q11<>\"\"),ort($P11,$Q11,$AY$6:$AZ$7),\"\")","v":""},{"$f":"IF(AND($AA11=6,P11<>\"\",Q11<>\"\"),ort($P11,$Q11,$AY$8:$AZ$8),\"\")","v":""},{"$f":"IF(AND($AA11=7,P11<>\"\",Q11<>\"\"),ort($P11,$Q11,$AY$9:$AZ$9),\"\")","v":""},{"$f":"IF(AND($AA11<6,R11<>\"\",S11<>\"\"),ort($R11,$S11,$AY$3:$AZ$3),\"\")","v":""},{"$f":"IF(AND($AA11<6,R11<>\"\",S11<>\"\"),ort($R11,$S11,$AY$4:$AZ$5),\"\")","v":""},{"$f":"IF(AND($AA11<6,R11<>\"\",S11<>\"\"),ort($R11,$S11,$AY$6:$AZ$7),\"\")","v":""},{"$f":"IF(AND($AA11=6,R11<>\"\",S11<>\"\"),ort($R11,$S11,$AY$8:$AZ$8),\"\")","v":""},{"$f":"IF(AND($AA11=7,R11<>\"\",S11<>\"\"),ort($R11,$S11,$AY$9:$AZ$9),\"\")","v":""},{"$f":"IF(AND($AA11<6,T11<>\"\",U11<>\"\"),ort($T11,$U11,$AY$3:$AZ$3),\"\")","v":""},{"$f":"IF(AND($AA11<6,T11<>\"\",U11<>\"\"),ort($T11,$U11,$AY$4:$AZ$5),\"\")","v":""},{"$f":"IF(AND($AA11<6,T11<>\"\",U11<>\"\"),ort($T11,$U11,$AY$6:$AZ$7),\"\")","v":""},{"$f":"IF(AND($AA11=6,T11<>\"\",U11<>\"\"),ort($T11,$U11,$AY$8:$AZ$8),\"\")","v":""},{"$f":"IF(AND($AA11=7,T11<>\"\",U11<>\"\"),ort($T11,$U11,$AY$9:$AZ$9),\"\")","v":""},null,null,null,null,null,null,null,null,null,"00:00:00"]
[null,null,null,null,null,null,null,null,null,"","",{"$f":"DATE($B$3,$B$4,10)","v":"2018-01-10"},{"$f":"DATE($B$3,$B$4,10)","v":"2018-01-10"},null,"00:00:00",null,null,null,null,null,null,"","","","","",{"$f":"IF(ISERROR(IF(NOT(ISERROR(MATCH($M12,Blad2!$A$2:$A$11,0))),7,WEEKDAY($M12,2))),\"\",IF(NOT(ISERROR(MATCH($M12,Blad2!$A$2:$A$11,0))),7,WEEKDAY($M12,2)))","v":3},{"$f":"IF(AND($AA12<6,N12<>\"\",O12<>\"\"),ort($N12,$O12,$AY$3:$AZ$3),\"\")","v":""},{"$f":"IF(AND($AA12<6,N12<>\"\",O12<>\"\"),ort($N12,$O12,$AY$4:$AZ$5),\"\")","v":""},{"$f":"IF(AND($AA12<6,N12<>\"\",O12<>\"\"),ort($N12,$O12,$AY$6:$AZ$7),\"\")","v":""},{"$f":"IF(AND($AA12=6,N12<>\"\",O12<>\"\"),ort($N12,$O12,$AY$8:$AZ$8),\"\")","v":""},{"$f":"IF(AND($AA12=7,N12<>\"\",O12<>\"\"),ort($N12,$O12,$AY$9:$AZ$9),\"\")","v":""},{"$f":"IF(AND($AA12<6,P12<>\"\",Q12<>\"\"),ort($P12,$Q12,$AY$3:$AZ$3),\"\")","v":""},{"$f":"IF(AND($AA12<6,P12<>\"\",Q12<>\"\"),ort($P12,$Q12,$AY$4:$AZ$5),\"\")","v":""},{"$f":"IF(AND($AA12<6,P12<>\"\",Q12<>\"\"),ort($P12,$Q12,$AY$6:$AZ$7),\"\")","v":""},{"$f":"IF(AND($AA12=6,P12<>\"\",Q12<>\"\"),ort($P12,$Q12,$AY$8:$AZ$8),\"\")","v":""},{"$f":"IF(AND($AA12=7,P12<>\"\",Q12<>\"\"),ort($P12,$Q12,$AY$9:$AZ$9),\"\")","v":""},{"$f":"IF(AND($AA12<6,R12<>\"\",S12<>\"\"),ort($R12,$S12,$AY$3:$AZ$3),\"\")","v":""},{"$f":"IF(AND($AA12<6,R12<>\"\",S12<>\"\"),ort($R12,$S12,$AY$4:$AZ$5),\"\")","v":""},{"$f":"IF(AND($AA12<6,R12<>\"\",S12<>\"\"),ort($R12,$S12,$AY$6:$AZ$7),\"\")","v":""},{"$f":"IF(AND($AA12=6,R12<>\"\",S12<>\"\"),ort($R12,$S12,$AY$8:$AZ$8),\"\")","v":""},{"$f":"IF(AND($AA12=7,R12<>\"\",S12<>\"\"),ort($R12,$S12,$AY$9:$AZ$9),\"\")","v":""},{"$f":"IF(AND($AA12<6,T12<>\"\",U12<>\"\"),ort($T12,$U12,$AY$3:$AZ$3),\"\")","v":""},{"$f":"IF(AND($AA12<6,T12<>\"\",U12<>\"\"),ort($T12,$U12,$AY$4:$AZ$5),\"\")","v":""},{"$f":"IF(AND($AA12<6,T12<>\"\",U12<>\"\"),ort($T12,$U12,$AY$6:$AZ$7),\"\")","v":""},{"$f":"IF(AND($AA12=6,T12<>\"\",U12<>\"\"),ort($T12,$U12,$AY$8:$AZ$8),\"\")","v":""},{"$f":"IF(AND($AA12=7,T12<>\"\",U12<>\"\"),ort($T12,$U12,$AY$9:$AZ$9),\"\")","v":""},null,null,null,null,null,null,null,null,null,"00:00:00"]
[null,"Werkdagen deze maand",null,null,null,null,null,null,null,"","",{"$f":"DATE($B$3,$B$4,11)","v":"2018-01-11"},{"$f":"DATE($B$3,$B$4,11)","v":"2018-01-11"},null,"00:00:00",null,null,null,null,null,null,"","","","","",{"$f":"IF(ISERROR(IF(NOT(ISERROR(MATCH($M13,Blad2!$A$2:$A$11,0))),7,WEEKDAY($M13,2))),\"\",IF(NOT(ISERROR(MATCH($M13,Blad2!$A$2:$A$11,0))),7,WEEKDAY($M13,2)))","v":4},{"$f":"IF(AND($AA13<6,N13<>\"\",O13<>\"\"),ort($N13,$O13,$AY$3:$AZ$3),\"\")","v":""},{"$f":"IF(AND($AA13<6,N13<>\"\",O13<>\"\"),ort($N13,$O13,$AY$4:$AZ$5),\"\")","v":""},{"$f":"IF(AND($AA13<6,N13<>\"\",O13<>\"\"),ort($N13,$O13,$AY$6:$AZ$7),\"\")","v":""},{"$f":"IF(AND($AA13=6,N13<>\"\",O13<>\"\"),ort($N13,$O13,$AY$8:$AZ$8),\"\")","v":""},{"$f":"IF(AND($AA13=7,N13<>\"\",O13<>\"\"),ort($N13,$O13,$AY$9:$AZ$9),\"\")","v":""},{"$f":"IF(AND($AA13<6,P13<>\"\",Q13<>\"\"),ort($P13,$Q13,$AY$3:$AZ$3),\"\")","v":""},{"$f":"IF(AND($AA13<6,P13<>\"\",Q13<>\"\"),ort($P13,$Q13,$AY$4:$AZ$5),\"\")","v":""},{"$f":"IF(AND($AA13<6,P13<>\"\",Q13<>\"\"),ort($P13,$Q13,$AY$6:$AZ$7),\"\")","v":""},{"$f":"IF(AND($AA13=6,P13<>\"\",Q13<>\"\"),ort($P13,$Q13,$AY$8:$AZ$8),\"\")","v":""},{"$f":"IF(AND($AA13=7,P13<>\"\",Q13<>\"\"),ort($P13,$Q13,$AY$9:$AZ$9),\"\")","v":""},{"$f":"IF(AND($AA13<6,R13<>\"\",S13<>\"\"),ort($R13,$S13,$AY$3:$AZ$3),\"\")","v":""},{"$f":"IF(AND($AA13<6,R13<>\"\",S13<>\"\"),ort($R13,$S13,$AY$4:$AZ$5),\"\")","v":""},{"$f":"IF(AND($AA13<6,R13<>\"\",S13<>\"\"),ort($R13,$S13,$AY$6:$AZ$7),\"\")","v":""},{"$f":"IF(AND($AA13=6,R13<>\"\",S13<>\"\"),ort($R13,$S13,$AY$8:$AZ$8),\"\")","v":""},{"$f":"IF(AND($AA13=7,R13<>\"\",S13<>\"\"),ort($R13,$S13,$AY$9:$AZ$9),\"\")","v":""},{"$f":"IF(AND($AA13<6,T13<>\"\",U13<>\"\"),ort($T13,$U13,$AY$3:$AZ$3),\"\")","v":""},{"$f":"IF(AND($AA13<6,T13<>\"\",U13<>\"\"),ort($T13,$U13,$AY$4:$AZ$5),\"\")","v":""},{"$f":"IF(AND($AA13<6,T13<>\"\",U13<>\"\"),ort($T13,$U13,$AY$6:$AZ$7),\"\")","v":""},{"$f":"IF(AND($AA13=6,T13<>\"\",U13<>\"\"),ort($T13,$U13,$AY$8:$AZ$8),\"\")","v":""},{"$f":"IF(AND($AA13=7,T13<>\"\",U13<>\"\"),ort($T13,$U13,$AY$9:$AZ$9),\"\")","v":""},null,null,null,null,null,null,null,null,null,"00:00:00"]
[null,{"$f":"NETWORKDAYS($L$3,EOMONTH($L$3,0),Blad2!A2:A97)&\" dagen\"","v":"22 dagen"},null,null,null,null,null,null,null,"","",{"$f":"DATE($B$3,$B$4,12)","v":"2018-01-12"},{"$f":"DATE($B$3,$B$4,12)","v":"2018-01-12"},null,"00:00:00",null,null,null,null,null,null,"","","","","",{"$f":"IF(ISERROR(IF(NOT(ISERROR(MATCH($M14,Blad2!$A$2:$A$11,0))),7,WEEKDAY($M14,2))),\"\",IF(NOT(ISERROR(MATCH($M14,Blad2!$A$2:$A$11,0))),7,WEEKDAY($M14,2)))","v":5},{"$f":"IF(AND($AA14<6,N14<>\"\",O14<>\"\"),ort($N14,$O14,$AY$3:$AZ$3),\"\")","v":""},{"$f":"IF(AND($AA14<6,N14<>\"\",O14<>\"\"),ort($N14,$O14,$AY$4:$AZ$5),\"\")","v":""},{"$f":"IF(AND($AA14<6,N14<>\"\",O14<>\"\"),ort($N14,$O14,$AY$6:$AZ$7),\"\")","v":""},{"$f":"IF(AND($AA14=6,N14<>\"\",O14<>\"\"),ort($N14,$O14,$AY$8:$AZ$8),\"\")","v":""},{"$f":"IF(AND($AA14=7,N14<>\"\",O14<>\"\"),ort($N14,$O14,$AY$9:$AZ$9),\"\")","v":""},{"$f":"IF(AND($AA14<6,P14<>\"\",Q14<>\"\"),ort($P14,$Q14,$AY$3:$AZ$3),\"\")","v":""},{"$f":"IF(AND($AA14<6,P14<>\"\",Q14<>\"\"),ort($P14,$Q14,$AY$4:$AZ$5),\"\")","v":""},{"$f":"IF(AND($AA14<6,P14<>\"\",Q14<>\"\"),ort($P14,$Q14,$AY$6:$AZ$7),\"\")","v":""},{"$f":"IF(AND($AA14=6,P14<>\"\",Q14<>\"\"),ort($P14,$Q14,$AY$8:$AZ$8),\"\")","v":""},{"$f":"IF(AND($AA14=7,P14<>\"\",Q14<>\"\"),ort($P14,$Q14,$AY$9:$AZ$9),\"\")","v":""},{"$f":"IF(AND($AA14<6,R14<>\"\",S14<>\"\"),ort($R14,$S14,$AY$3:$AZ$3),\"\")","v":""},{"$f":"IF(AND($AA14<6,R14<>\"\",S14<>\"\"),ort($R14,$S14,$AY$4:$AZ$5),\"\")","v":""},{"$f":"IF(AND($AA14<6,R14<>\"\",S14<>\"\"),ort($R14,$S14,$AY$6:$AZ$7),\"\")","v":""},{"$f":"IF(AND($AA14=6,R14<>\"\",S14<>\"\"),ort($R14,$S14,$AY$8:$AZ$8),\"\")","v":""},{"$f":"IF(AND($AA14=7,R14<>\"\",S14<>\"\"),ort($R14,$S14,$AY$9:$AZ$9),\"\")","v":""},{"$f":"IF(AND($AA14<6,T14<>\"\",U14<>\"\"),ort($T14,$U14,$AY$3:$AZ$3),\"\")","v":""},{"$f":"IF(AND($AA14<6,T14<>\"\",U14<>\"\"),ort($T14,$U14,$AY$4:$AZ$5),\"\")","v":""},{"$f":"IF(AND($AA14<6,T14<>\"\",U14<>\"\"),ort($T14,$U14,$AY$6:$AZ$7),\"\")","v":""},{"$f":"IF(AND($AA14=6,T14<>\"\",U14<>\"\"),ort($T14,$U14,$AY$8:$AZ$8),\"\")","v":""},{"$f":"IF(AND($AA14=7,T14<>\"\",U14<>\"\"),ort($T14,$U14,$AY$9:$AZ$9),\"\")","v":""},null,null,null,null,null,null,null,null,null,"00:00:00"]
[null,null,null,null,null,null,null,null,null,"","",{"$f":"DATE($B$3,$B$4,13)","v":"2018-01-13"},{"$f":"DATE($B$3,$B$4,13)","v":"2018-01-13"},null,"00:00:00",null,null,null,null,null,null,"","","","","",{"$f":"IF(ISERROR(IF(NOT(ISERROR(MATCH($M15,Blad2!$A$2:$A$11,0))),7,WEEKDAY($M15,2))),\"\",IF(NOT(ISERROR(MATCH($M15,Blad2!$A$2:$A$11,0))),7,WEEKDAY($M15,2)))","v":6},{"$f":"IF(AND($AA15<6,N15<>\"\",O15<>\"\"),ort($N15,$O15,$AY$3:$AZ$3),\"\")","v":""},{"$f":"IF(AND($AA15<6,N15<>\"\",O15<>\"\"),ort($N15,$O15,$AY$4:$AZ$5),\"\")","v":""},{"$f":"IF(AND($AA15<6,N15<>\"\",O15<>\"\"),ort($N15,$O15,$AY$6:$AZ$7),\"\")","v":""},{"$f":"IF(AND($AA15=6,N15<>\"\",O15<>\"\"),ort($N15,$O15,$AY$8:$AZ$8),\"\")","v":""},{"$f":"IF(AND($AA15=7,N15<>\"\",O15<>\"\"),ort($N15,$O15,$AY$9:$AZ$9),\"\")","v":""},{"$f":"IF(AND($AA15<6,P15<>\"\",Q15<>\"\"),ort($P15,$Q15,$AY$3:$AZ$3),\"\")","v":""},{"$f":"IF(AND($AA15<6,P15<>\"\",Q15<>\"\"),ort($P15,$Q15,$AY$4:$AZ$5),\"\")","v":""},{"$f":"IF(AND($AA15<6,P15<>\"\",Q15<>\"\"),ort($P15,$Q15,$AY$6:$AZ$7),\"\")","v":""},{"$f":"IF(AND($AA15=6,P15<>\"\",Q15<>\"\"),ort($P15,$Q15,$AY$8:$AZ$8),\"\")","v":""},{"$f":"IF(AND($AA15=7,P15<>\"\",Q15<>\"\"),ort($P15,$Q15,$AY$9:$AZ$9),\"\")","v":""},{"$f":"IF(AND($AA15<6,R15<>\"\",S15<>\"\"),ort($R15,$S15,$AY$3:$AZ$3),\"\")","v":""},{"$f":"IF(AND($AA15<6,R15<>\"\",S15<>\"\"),ort($R15,$S15,$AY$4:$AZ$5),\"\")","v":""},{"$f":"IF(AND($AA15<6,R15<>\"\",S15<>\"\"),ort($R15,$S15,$AY$6:$AZ$7),\"\")","v":""},{"$f":"IF(AND($AA15=6,R15<>\"\",S15<>\"\"),ort($R15,$S15,$AY$8:$AZ$8),\"\")","v":""},{"$f":"IF(AND($AA15=7,R15<>\"\",S15<>\"\"),ort($R15,$S15,$AY$9:$AZ$9),\"\")","v":""},{"$f":"IF(AND($AA15<6,T15<>\"\",U15<>\"\"),ort($T15,$U15,$AY$3:$AZ$3),\"\")","v":""},{"$f":"IF(AND($AA15<6,T15<>\"\",U15<>\"\"),ort($T15,$U15,$AY$4:$AZ$5),\"\")","v":""},{"$f":"IF(AND($AA15<6,T15<>\"\",U15<>\"\"),ort($T15,$U15,$AY$6:$AZ$7),\"\")","v":""},{"$f":"IF(AND($AA15=6,T15<>\"\",U15<>\"\"),ort($T15,$U15,$AY$8:$AZ$8),\"\")","v":""},{"$f":"IF(AND($AA15=7,T15<>\"\",U15<>\"\"),ort($T15,$U15,$AY$9:$AZ$9),\"\")","v":""},null,null,null,null,null,null,null,null,null,"00:00:00"]
[null,"Contract Uren",null,null,null,null,null,null,null,"","",{"$f":"DATE($B$3,$B$4,14)","v":"2018-01-14"},{"$f":"DATE($B$3,$B$4,14)","v":"2018-01-14"},null,"00:00:00",null,null,null,null,null,null,"","","","","",{"$f":"IF(ISERROR(IF(NOT(ISERROR(MATCH($M16,Blad2!$A$2:$A$11,0))),7,WEEKDAY($M16,2))),\"\",IF(NOT(ISERROR(MATCH($M16,Blad2!$A$2:$A$11,0))),7,WEEKDAY($M16,2)))","v":7},{"$f":"IF(AND($AA16<6,N16<>\"\",O16<>\"\"),ort($N16,$O16,$AY$3:$AZ$3),\"\")","v":""},{"$f":"IF(AND($AA16<6,N16<>\"\",O16<>\"\"),ort($N16,$O16,$AY$4:$AZ$5),\"\")","v":""},{"$f":"IF(AND($AA16<6,N16<>\"\",O16<>\"\"),ort($N16,$O16,$AY$6:$AZ$7),\"\")","v":""},{"$f":"IF(AND($AA16=6,N16<>\"\",O16<>\"\"),ort($N16,$O16,$AY$8:$AZ$8),\"\")","v":""},{"$f":"IF(AND($AA16=7,N16<>\"\",O16<>\"\"),ort($N16,$O16,$AY$9:$AZ$9),\"\")","v":""},{"$f":"IF(AND($AA16<6,P16<>\"\",Q16<>\"\"),ort($P16,$Q16,$AY$3:$AZ$3),\"\")","v":""},{"$f":"IF(AND($AA16<6,P16<>\"\",Q16<>\"\"),ort($P16,$Q16,$AY$4:$AZ$5),\"\")","v":""},{"$f":"IF(AND($AA16<6,P16<>\"\",Q16<>\"\"),ort($P16,$Q16,$AY$6:$AZ$7),\"\")","v":""},{"$f":"IF(AND($AA16=6,P16<>\"\",Q16<>\"\"),ort($P16,$Q16,$AY$8:$AZ$8),\"\")","v":""},{"$f":"IF(AND($AA16=7,P16<>\"\",Q16<>\"\"),ort($P16,$Q16,$AY$9:$AZ$9),\"\")","v":""},{"$f":"IF(AND($AA16<6,R16<>\"\",S16<>\"\"),ort($R16,$S16,$AY$3:$AZ$3),\"\")","v":""},{"$f":"IF(AND($AA16<6,R16<>\"\",S16<>\"\"),ort($R16,$S16,$AY$4:$AZ$5),\"\")","v":""},{"$f":"IF(AND($AA16<6,R16<>\"\",S16<>\"\"),ort($R16,$S16,$AY$6:$AZ$7),\"\")","v":""},{"$f":"IF(AND($AA16=6,R16<>\"\",S16<>\"\"),ort($R16,$S16,$AY$8:$AZ$8),\"\")","v":""},{"$f":"IF(AND($AA16=7,R16<>\"\",S16<>\"\"),ort($R16,$S16,$AY$9:$AZ$9),\"\")","v":""},{"$f":"IF(AND($AA16<6,T16<>\"\",U16<>\"\"),ort($T16,$U16,$AY$3:$AZ$3),\"\")","v":""},{"$f":"IF(AND($AA16<6,T16<>\"\",U16<>\"\"),ort($T16,$U16,$AY$4:$AZ$5),\"\")","v":""},{"$f":"IF(AND($AA16<6,T16<>\"\",U16<>\"\"),ort($T16,$U16,$AY$6:$AZ$7),\"\")","v":""},{"$f":"IF(AND($AA16=6,T16<>\"\",U16<>\"\"),ort($T16,$U16,$AY$8:$AZ$8),\"\")","v":""},{"$f":"IF(AND($AA16=7,T16<>\"\",U16<>\"\"),ort($T16,$U16,$AY$9:$AZ$9),\"\")","v":""},null,null,null,null,null,null,null,null,null,"00:00:00"]
[null,3.75,null,null,null,null,null,null,null,null,3,{"$f":"DATE($B$3,$B$4,15)","v":"2018-01-15"},{"$f":"DATE($B$3,$B$4,15)","v":"2018-01-15"},null,"00:00:00",null,null,null,null,null,null,"","","","","",{"$f":"IF(ISERROR(IF(NOT(ISERROR(MATCH($M17,Blad2!$A$2:$A$11,0))),7,WEEKDAY($M17,2))),\"\",IF(NOT(ISERROR(MATCH($M17,Blad2!$A$2:$A$11,0))),7,WEEKDAY($M17,2)))","v":1},{"$f":"IF(AND($AA17<6,N17<>\"\",O17<>\"\"),ort($N17,$O17,$AY$3:$AZ$3),\"\")","v":""},{"$f":"IF(AND($AA17<6,N17<>\"\",O17<>\"\"),ort($N17,$O17,$AY$4:$AZ$5),\"\")","v":""},{"$f":"IF(AND($AA17<6,N17<>\"\",O17<>\"\"),ort($N17,$O17,$AY$6:$AZ$7),\"\")","v":""},{"$f":"IF(AND($AA17=6,N17<>\"\",O17<>\"\"),ort($N17,$O17,$AY$8:$AZ$8),\"\")","v":""},{"$f":"IF(AND($AA17=7,N17<>\"\",O17<>\"\"),ort($N17,$O17,$AY$9:$AZ$9),\"\")","v":""},{"$f":"IF(AND($AA17<6,P17<>\"\",Q17<>\"\"),ort($P17,$Q17,$AY$3:$AZ$3),\"\")","v":""},{"$f":"IF(AND($AA17<6,P17<>\"\",Q17<>\"\"),ort($P17,$Q17,$AY$4:$AZ$5),\"\")","v":""},{"$f":"IF(AND($AA17<6,P17<>\"\",Q17<>\"\"),ort($P17,$Q17,$AY$6:$AZ$7),\"\")","v":""},{"$f":"IF(AND($AA17=6,P17<>\"\",Q17<>\"\"),ort($P17,$Q17,$AY$8:$AZ$8),\"\")","v":""},{"$f":"IF(AND($AA17=7,P17<>\"\",Q17<>\"\"),ort($P17,$Q17,$AY$9:$AZ$9),\"\")","v":""},{"$f":"IF(AND($AA17<6,R17<>\"\",S17<>\"\"),ort($R17,$S17,$AY$3:$AZ$3),\"\")","v":""},{"$f":"IF(AND($AA17<6,R17<>\"\",S17<>\"\"),ort($R17,$S17,$AY$4:$AZ$5),\"\")","v":""},{"$f":"IF(AND($AA17<6,R17<>\"\",S17<>\"\"),ort($R17,$S17,$AY$6:$AZ$7),\"\")","v":""},{"$f":"IF(AND($AA17=6,R17<>\"\",S17<>\"\"),ort($R17,$S17,$AY$8:$AZ$8),\"\")","v":""},{"$f":"IF(AND($AA17=7,R17<>\"\",S17<>\"\"),ort($R17,$S17,$AY$9:$AZ$9),\"\")","v":""},{"$f":"IF(AND($AA17<6,T17<>\"\",U17<>\"\"),ort($T17,$U17,$AY$3:$AZ$3),\"\")","v":""},{"$f":"IF(AND($AA17<6,T17<>\"\",U17<>\"\"),ort($T17,$U17,$AY$4:$AZ$5),\"\")","v":""},{"$f":"IF(AND($AA17<6,T17<>\"\",U17<>\"\"),ort($T17,$U17,$AY$6:$AZ$7),\"\")","v":""},{"$f":"IF(AND($AA17=6,T17<>\"\",U17<>\"\"),ort($T17,$U17,$AY$8:$AZ$8),\"\")","v":""},{"$f":"IF(AND($AA17=7,T17<>\"\",U17<>\"\"),ort($T17,$U17,$AY$9:$AZ$9),\"\")","v":""},null,null,null,null,null,null,null,null,null,"00:00:00"]
[null,null,null,null,null,null,null,null,null,{"$f":"IF(ISNA(VLOOKUP(M18,feestdagen,2,0)),\"\",VLOOKUP(M18,feestdagen,2,0))","v":""},"",{"$f":"DATE($B$3,$B$4,16)","v":"2018-01-16"},{"$f":"DATE($B$3,$B$4,16)","v":"2018-01-16"},null,"00:00:00",null,null,null,null,null,null,"","","","","",{"$f":"IF(ISERROR(IF(NOT(ISERROR(MATCH($M18,Blad2!$A$2:$A$11,0))),7,WEEKDAY($M18,2))),\"\",IF(NOT(ISERROR(MATCH($M18,Blad2!$A$2:$A$11,0))),7,WEEKDAY($M18,2)))","v":2},{"$f":"IF(AND($AA18<6,N18<>\"\",O18<>\"\"),ort($N18,$O18,$AY$3:$AZ$3),\"\")","v":""},{"$f":"IF(AND($AA18<6,N18<>\"\",O18<>\"\"),ort($N18,$O18,$AY$4:$AZ$5),\"\")","v":""},{"$f":"IF(AND($AA18<6,N18<>\"\",O18<>\"\"),ort($N18,$O18,$AY$6:$AZ$7),\"\")","v":""},{"$f":"IF(AND($AA18=6,N18<>\"\",O18<>\"\"),ort($N18,$O18,$AY$8:$AZ$8),\"\")","v":""},{"$f":"IF(AND($AA18=7,N18<>\"\",O18<>\"\"),ort($N18,$O18,$AY$9:$AZ$9),\"\")","v":""},{"$f":"IF(AND($AA18<6,P18<>\"\",Q18<>\"\"),ort($P18,$Q18,$AY$3:$AZ$3),\"\")","v":""},{"$f":"IF(AND($AA18<6,P18<>\"\",Q18<>\"\"),ort($P18,$Q18,$AY$4:$AZ$5),\"\")","v":""},{"$f":"IF(AND($AA18<6,P18<>\"\",Q18<>\"\"),ort($P18,$Q18,$AY$6:$AZ$7),\"\")","v":""},{"$f":"IF(AND($AA18=6,P18<>\"\",Q18<>\"\"),ort($P18,$Q18,$AY$8:$AZ$8),\"\")","v":""},{"$f":"IF(AND($AA18=7,P18<>\"\",Q18<>\"\"),ort($P18,$Q18,$AY$9:$AZ$9),\"\")","v":""},{"$f":"IF(AND($AA18<6,R18<>\"\",S18<>\"\"),ort($R18,$S18,$AY$3:$AZ$3),\"\")","v":""},{"$f":"IF(AND($AA18<6,R18<>\"\",S18<>\"\"),ort($R18,$S18,$AY$4:$AZ$5),\"\")","v":""},{"$f":"IF(AND($AA18<6,R18<>\"\",S18<>\"\"),ort($R18,$S18,$AY$6:$AZ$7),\"\")","v":""},{"$f":"IF(AND($AA18=6,R18<>\"\",S18<>\"\"),ort($R18,$S18,$AY$8:$AZ$8),\"\")","v":""},{"$f":"IF(AND($AA18=7,R18<>\"\",S18<>\"\"),ort($R18,$S18,$AY$9:$AZ$9),\"\")","v":""},{"$f":"IF(AND($AA18<6,T18<>\"\",U18<>\"\"),ort($T18,$U18,$AY$3:$AZ$3),\"\")","v":""},{"$f":"IF(AND($AA18<6,T18<>\"\",U18<>\"\"),ort($T18,$U18,$AY$4:$AZ$5),\"\")","v":""},{"$f":"IF(AND($AA18<6,T18<>\"\",U18<>\"\"),ort($T18,$U18,$AY$6:$AZ$7),\"\")","v":""},{"$f":"IF(AND($AA18=6,T18<>\"\",U18<>\"\"),ort($T18,$U18,$AY$8:$AZ$8),\"\")","v":""},{"$f":"IF(AND($AA18=7,T18<>\"\",U18<>\"\"),ort($T18,$U18,$AY$9:$AZ$9),\"\")","v":""},null,null,null,null,null,null,null,null,null,"00:00:00"]
[null,"Gewerkte uren deze maand",null,null,null,null,null,null,null,"","",{"$f":"DATE($B$3,$B$4,17)","v":"2018-01-17"},{"$f":"DATE($B$3,$B$4,17)","v":"2018-01-17"},null,"00:00:00",null,null,null,null,null,null,"","","","","",{"$f":"IF(ISERROR(IF(NOT(ISERROR(MATCH($M19,Blad2!$A$2:$A$11,0))),7,WEEKDAY($M19,2))),\"\",IF(NOT(ISERROR(MATCH($M19,Blad2!$A$2:$A$11,0))),7,WEEKDAY($M19,2)))","v":3},{"$f":"IF(AND($AA19<6,N19<>\"\",O19<>\"\"),ort($N19,$O19,$AY$3:$AZ$3),\"\")","v":""},{"$f":"IF(AND($AA19<6,N19<>\"\",O19<>\"\"),ort($N19,$O19,$AY$4:$AZ$5),\"\")","v":""},{"$f":"IF(AND($AA19<6,N19<>\"\",O19<>\"\"),ort($N19,$O19,$AY$6:$AZ$7),\"\")","v":""},{"$f":"IF(AND($AA19=6,N19<>\"\",O19<>\"\"),ort($N19,$O19,$AY$8:$AZ$8),\"\")","v":""},{"$f":"IF(AND($AA19=7,N19<>\"\",O19<>\"\"),ort($N19,$O19,$AY$9:$AZ$9),\"\")","v":""},{"$f":"IF(AND($AA19<6,P19<>\"\",Q19<>\"\"),ort($P19,$Q19,$AY$3:$AZ$3),\"\")","v":""},{"$f":"IF(AND($AA19<6,P19<>\"\",Q19<>\"\"),ort($P19,$Q19,$AY$4:$AZ$5),\"\")","v":""},{"$f":"IF(AND($AA19<6,P19<>\"\",Q19<>\"\"),ort($P19,$Q19,$AY$6:$AZ$7),\"\")","v":""},{"$f":"IF(AND($AA19=6,P19<>\"\",Q19<>\"\"),ort($P19,$Q19,$AY$8:$AZ$8),\"\")","v":""},{"$f":"IF(AND($AA19=7,P19<>\"\",Q19<>\"\"),ort($P19,$Q19,$AY$9:$AZ$9),\"\")","v":""},{"$f":"IF(AND($AA19<6,R19<>\"\",S19<>\"\"),ort($R19,$S19,$AY$3:$AZ$3),\"\")","v":""},{"$f":"IF(AND($AA19<6,R19<>\"\",S19<>\"\"),ort($R19,$S19,$AY$4:$AZ$5),\"\")","v":""},{"$f":"IF(AND($AA19<6,R19<>\"\",S19<>\"\"),ort($R19,$S19,$AY$6:$AZ$7),\"\")","v":""},{"$f":"IF(AND($AA19=6,R19<>\"\",S19<>\"\"),ort($R19,$S19,$AY$8:$AZ$8),\"\")","v":""},{"$f":"IF(AND($AA19=7,R19<>\"\",S19<>\"\"),ort($R19,$S19,$AY$9:$AZ$9),\"\")","v":""},{"$f":"IF(AND($AA19<6,T19<>\"\",U19<>\"\"),ort($T19,$U19,$AY$3:$AZ$3),\"\")","v":""},{"$f":"IF(AND($AA19<6,T19<>\"\",U19<>\"\"),ort($T19,$U19,$AY$4:$AZ$5),\"\")","v":""},{"$f":"IF(AND($AA19<6,T19<>\"\",U19<>\"\"),ort($T19,$U19,$AY$6:$AZ$7),\"\")","v":""},{"$f":"IF(AND($AA19=6,T19<>\"\",U19<>\"\"),ort($T19,$U19,$AY$8:$AZ$8),\"\")","v":""},{"$f":"IF(AND($AA19=7,T19<>\"\",U19<>\"\"),ort($T19,$U19,$AY$9:$AZ$9),\"\")","v":""},null,null,null,null,null,null,null,null,null,"00:00:00"]
[null,{"$f":"SUM($V$3:$V$33)","v":0.56410256410256421},null,null,null,null,null,null,null,"","",{"$f":"DATE($B$3,$B$4,18)","v":"2018-01-18"},{"$f":"DATE($B$3,$B$4,18)","v":"2018-01-18"},null,"00:00:00",null,null,null,null,null,null,"","","","","",{"$f":"IF(ISERROR(IF(NOT(ISERROR(MATCH($M20,Blad2!$A$2:$A$11,0))),7,WEEKDAY($M20,2))),\"\",IF(NOT(ISERROR(MATCH($M20,Blad2!$A$2:$A$11,0))),7,WEEKDAY($M20,2)))","v":4},{"$f":"IF(AND($AA20<6,N20<>\"\",O20<>\"\"),ort($N20,$O20,$AY$3:$AZ$3),\"\")","v":""},{"$f":"IF(AND($AA20<6,N20<>\"\",O20<>\"\"),ort($N20,$O20,$AY$4:$AZ$5),\"\")","v":""},{"$f":"IF(AND($AA20<6,N20<>\"\",O20<>\"\"),ort($N20,$O20,$AY$6:$AZ$7),\"\")","v":""},{"$f":"IF(AND($AA20=6,N20<>\"\",O20<>\"\"),ort($N20,$O20,$AY$8:$AZ$8),\"\")","v":""},{"$f":"IF(AND($AA20=7,N20<>\"\",O20<>\"\"),ort($N20,$O20,$AY$9:$AZ$9),\"\")","v":""},{"$f":"IF(AND($AA20<6,P20<>\"\",Q20<>\"\"),ort($P20,$Q20,$AY$3:$AZ$3),\"\")","v":""},{"$f":"IF(AND($AA20<6,P20<>\"\",Q20<>\"\"),ort($P20,$Q20,$AY$4:$AZ$5),\"\")","v":""},{"$f":"IF(AND($AA20<6,P20<>\"\",Q20<>\"\"),ort($P20,$Q20,$AY$6:$AZ$7),\"\")","v":""},{"$f":"IF(AND($AA20=6,P20<>\"\",Q20<>\"\"),ort($P20,$Q20,$AY$8:$AZ$8),\"\")","v":""},{"$f":"IF(AND($AA20=7,P20<>\"\",Q20<>\"\"),ort($P20,$Q20,$AY$9:$AZ$9),\"\")","v":""},{"$f":"IF(AND($AA20<6,R20<>\"\",S20<>\"\"),ort($R20,$S20,$AY$3:$AZ$3),\"\")","v":""},{"$f":"IF(AND($AA20<6,R20<>\"\",S20<>\"\"),ort($R20,$S20,$AY$4:$AZ$5),\"\")","v":""},{"$f":"IF(AND($AA20<6,R20<>\"\",S20<>\"\"),ort($R20,$S20,$AY$6:$AZ$7),\"\")","v":""},{"$f":"IF(AND($AA20=6,R20<>\"\",S20<>\"\"),ort($R20,$S20,$AY$8:$AZ$8),\"\")","v":""},{"$f":"IF(AND($AA20=7,R20<>\"\",S20<>\"\"),ort($R20,$S20,$AY$9:$AZ$9),\"\")","v":""},{"$f":"IF(AND($AA20<6,T20<>\"\",U20<>\"\"),ort($T20,$U20,$AY$3:$AZ$3),\"\")","v":""},{"$f":"IF(AND($AA20<6,T20<>\"\",U20<>\"\"),ort($T20,$U20,$AY$4:$AZ$5),\"\")","v":""},{"$f":"IF(AND($AA20<6,T20<>\"\",U20<>\"\"),ort($T20,$U20,$AY$6:$AZ$7),\"\")","v":""},{"$f":"IF(AND($AA20=6,T20<>\"\",U20<>\"\"),ort($T20,$U20,$AY$8:$AZ$8),\"\")","v":""},{"$f":"IF(AND($AA20=7,T20<>\"\",U20<>\"\"),ort($T20,$U20,$AY$9:$AZ$9),\"\")","v":""},null,{"$f":"COUNTA(Blad2!B12:B100)-COUNTIF(Blad2!B12:B100,\"Verlof\")","v":0},"  Aantal opgenomen ATV-dagen",null,null,null,null,null,null,"00:00:00"]
[null,null,null,null,null,null,null,null,null,"","",{"$f":"DATE($B$3,$B$4,19)","v":"2018-01-19"},{"$f":"DATE($B$3,$B$4,19)","v":"2018-01-19"},null,"00:00:00",null,null,null,null,null,null,"","","","","",{"$f":"IF(ISERROR(IF(NOT(ISERROR(MATCH($M21,Blad2!$A$2:$A$11,0))),7,WEEKDAY($M21,2))),\"\",IF(NOT(ISERROR(MATCH($M21,Blad2!$A$2:$A$11,0))),7,WEEKDAY($M21,2)))","v":5},{"$f":"IF(AND($AA21<6,N21<>\"\",O21<>\"\"),ort($N21,$O21,$AY$3:$AZ$3),\"\")","v":""},{"$f":"IF(AND($AA21<6,N21<>\"\",O21<>\"\"),ort($N21,$O21,$AY$4:$AZ$5),\"\")","v":""},{"$f":"IF(AND($AA21<6,N21<>\"\",O21<>\"\"),ort($N21,$O21,$AY$6:$AZ$7),\"\")","v":""},{"$f":"IF(AND($AA21=6,N21<>\"\",O21<>\"\"),ort($N21,$O21,$AY$8:$AZ$8),\"\")","v":""},{"$f":"IF(AND($AA21=7,N21<>\"\",O21<>\"\"),ort($N21,$O21,$AY$9:$AZ$9),\"\")","v":""},{"$f":"IF(AND($AA21<6,P21<>\"\",Q21<>\"\"),ort($P21,$Q21,$AY$3:$AZ$3),\"\")","v":""},{"$f":"IF(AND($AA21<6,P21<>\"\",Q21<>\"\"),ort($P21,$Q21,$AY$4:$AZ$5),\"\")","v":""},{"$f":"IF(AND($AA21<6,P21<>\"\",Q21<>\"\"),ort($P21,$Q21,$AY$6:$AZ$7),\"\")","v":""},{"$f":"IF(AND($AA21=6,P21<>\"\",Q21<>\"\"),ort($P21,$Q21,$AY$8:$AZ$8),\"\")","v":""},{"$f":"IF(AND($AA21=7,P21<>\"\",Q21<>\"\"),ort($P21,$Q21,$AY$9:$AZ$9),\"\")","v":""},{"$f":"IF(AND($AA21<6,R21<>\"\",S21<>\"\"),ort($R21,$S21,$AY$3:$AZ$3),\"\")","v":""},{"$f":"IF(AND($AA21<6,R21<>\"\",S21<>\"\"),ort($R21,$S21,$AY$4:$AZ$5),\"\")","v":""},{"$f":"IF(AND($AA21<6,R21<>\"\",S21<>\"\"),ort($R21,$S21,$AY$6:$AZ$7),\"\")","v":""},{"$f":"IF(AND($AA21=6,R21<>\"\",S21<>\"\"),ort($R21,$S21,$AY$8:$AZ$8),\"\")","v":""},{"$f":"IF(AND($AA21=7,R21<>\"\",S21<>\"\"),ort($R21,$S21,$AY$9:$AZ$9),\"\")","v":""},{"$f":"IF(AND($AA21<6,T21<>\"\",U21<>\"\"),ort($T21,$U21,$AY$3:$AZ$3),\"\")","v":""},{"$f":"IF(AND($AA21<6,T21<>\"\",U21<>\"\"),ort($T21,$U21,$AY$4:$AZ$5),\"\")","v":""},{"$f":"IF(AND($AA21<6,T21<>\"\",U21<>\"\"),ort($T21,$U21,$AY$6:$AZ$7),\"\")","v":""},{"$f":"IF(AND($AA21=6,T21<>\"\",U21<>\"\"),ort($T21,$U21,$AY$8:$AZ$8),\"\")","v":""},{"$f":"IF(AND($AA21=7,T21<>\"\",U21<>\"\"),ort($T21,$U21,$AY$9:$AZ$9),\"\")","v":""},null,1,"  Aantal opgenomen verlofdagen",null,null,null,null,null,null,"00:00:00"]
[null,null,null,null,null,null,null,null,null,"","",{"$f":"DATE($B$3,$B$4,20)","v":"2018-01-20"},{"$f":"DATE($B$3,$B$4,20)","v":"2018-01-20"},null,"00:00:00",null,null,null,null,null,null,"","","","","",{"$f":"IF(ISERROR(IF(NOT(ISERROR(MATCH($M22,Blad2!$A$2:$A$11,0))),7,WEEKDAY($M22,2))),\"\",IF(NOT(ISERROR(MATCH($M22,Blad2!$A$2:$A$11,0))),7,WEEKDAY($M22,2)))","v":6},{"$f":"IF(AND($AA22<6,N22<>\"\",O22<>\"\"),ort($N22,$O22,$AY$3:$AZ$3),\"\")","v":""},{"$f":"IF(AND($AA22<6,N22<>\"\",O22<>\"\"),ort($N22,$O22,$AY$4:$AZ$5),\"\")","v":""},{"$f":"IF(AND($AA22<6,N22<>\"\",O22<>\"\"),ort($N22,$O22,$AY$6:$AZ$7),\"\")","v":""},{"$f":"IF(AND($AA22=6,N22<>\"\",O22<>\"\"),ort($N22,$O22,$AY$8:$AZ$8),\"\")","v":""},{"$f":"IF(AND($AA22=7,N22<>\"\",O22<>\"\"),ort($N22,$O22,$AY$9:$AZ$9),\"\")","v":""},{"$f":"IF(AND($AA22<6,P22<>\"\",Q22<>\"\"),ort($P22,$Q22,$AY$3:$AZ$3),\"\")","v":""},{"$f":"IF(AND($AA22<6,P22<>\"\",Q22<>\"\"),ort($P22,$Q22,$AY$4:$AZ$5),\"\")","v":""},{"$f":"IF(AND($AA22<6,P22<>\"\",Q22<>\"\"),ort($P22,$Q22,$AY$6:$AZ$7),\"\")","v":""},{"$f":"IF(AND($AA22=6,P22<>\"\",Q22<>\"\"),ort($P22,$Q22,$AY$8:$AZ$8),\"\")","v":""},{"$f":"IF(AND($AA22=7,P22<>\"\",Q22<>\"\"),ort($P22,$Q22,$AY$9:$AZ$9),\"\")","v":""},{"$f":"IF(AND($AA22<6,R22<>\"\",S22<>\"\"),ort($R22,$S22,$AY$3:$AZ$3),\"\")","v":""},{"$f":"IF(AND($AA22<6,R22<>\"\",S22<>\"\"),ort($R22,$S22,$AY$4:$AZ$5),\"\")","v":""},{"$f":"IF(AND($AA22<6,R22<>\"\",S22<>\"\"),ort($R22,$S22,$AY$6:$AZ$7),\"\")","v":""},{"$f":"IF(AND($AA22=6,R22<>\"\",S22<>\"\"),ort($R22,$S22,$AY$8:$AZ$8),\"\")","v":""},{"$f":"IF(AND($AA22=7,R22<>\"\",S22<>\"\"),ort($R22,$S22,$AY$9:$AZ$9),\"\")","v":""},{"$f":"IF(AND($AA22<6,T22<>\"\",U22<>\"\"),ort($T22,$U22,$AY$3:$AZ$3),\"\")","v":""},{"$f":"IF(AND($AA22<6,T22<>\"\",U22<>\"\"),ort($T22,$U22,$AY$4:$AZ$5),\"\")","v":""},{"$f":"IF(AND($AA22<6,T22<>\"\",U22<>\"\"),ort($T22,$U22,$AY$6:$AZ$7),\"\")","v":""},{"$f":"IF(AND($AA22=6,T22<>\"\",U22<>\"\"),ort($T22,$U22,$AY$8:$AZ$8),\"\")","v":""},{"$f":"IF(AND($AA22=7,T22<>\"\",U22<>\"\"),ort($T22,$U22,$AY$9:$AZ$9),\"\")","v":""},null,null,null,null,null,null,null,null,null,"00:00:00"]
[null,null,null,null,null,null,null,null,null,"","",{"$f":"DATE($B$3,$B$4,21)","v":"2018-01-21"},{"$f":"DATE($B$3,$B$4,21)","v":"2018-01-21"},null,"00:00:00",null,null,null,null,null,null,"","","","","",{"$f":"IF(ISERROR(IF(NOT(ISERROR(MATCH($M23,Blad2!$A$2:$A$11,0))),7,WEEKDAY($M23,2))),\"\",IF(NOT(ISERROR(MATCH($M23,Blad2!$A$2:$A$11,0))),7,WEEKDAY($M23,2)))","v":7},{"$f":"IF(AND($AA23<6,N23<>\"\",O23<>\"\"),ort($N23,$O23,$AY$3:$AZ$3),\"\")","v":""},{"$f":"IF(AND($AA23<6,N23<>\"\",O23<>\"\"),ort($N23,$O23,$AY$4:$AZ$5),\"\")","v":""},{"$f":"IF(AND($AA23<6,N23<>\"\",O23<>\"\"),ort($N23,$O23,$AY$6:$AZ$7),\"\")","v":""},{"$f":"IF(AND($AA23=6,N23<>\"\",O23<>\"\"),ort($N23,$O23,$AY$8:$AZ$8),\"\")","v":""},{"$f":"IF(AND($AA23=7,N23<>\"\",O23<>\"\"),ort($N23,$O23,$AY$9:$AZ$9),\"\")","v":""},{"$f":"IF(AND($AA23<6,P23<>\"\",Q23<>\"\"),ort($P23,$Q23,$AY$3:$AZ$3),\"\")","v":""},{"$f":"IF(AND($AA23<6,P23<>\"\",Q23<>\"\"),ort($P23,$Q23,$AY$4:$AZ$5),\"\")","v":""},{"$f":"IF(AND($AA23<6,P23<>\"\",Q23<>\"\"),ort($P23,$Q23,$AY$6:$AZ$7),\"\")","v":""},{"$f":"IF(AND($AA23=6,P23<>\"\",Q23<>\"\"),ort($P23,$Q23,$AY$8:$AZ$8),\"\")","v":""},{"$f":"IF(AND($AA23=7,P23<>\"\",Q23<>\"\"),ort($P23,$Q23,$AY$9:$AZ$9),\"\")","v":""},{"$f":"IF(AND($AA23<6,R23<>\"\",S23<>\"\"),ort($R23,$S23,$AY$3:$AZ$3),\"\")","v":""},{"$f":"IF(AND($AA23<6,R23<>\"\",S23<>\"\"),ort($R23,$S23,$AY$4:$AZ$5),\"\")","v":""},{"$f":"IF(AND($AA23<6,R23<>\"\",S23<>\"\"),ort($R23,$S23,$AY$6:$AZ$7),\"\")","v":""},{"$f":"IF(AND($AA23=6,R23<>\"\",S23<>\"\"),ort($R23,$S23,$AY$8:$AZ$8),\"\")","v":""},{"$f":"IF(AND($AA23=7,R23<>\"\",S23<>\"\"),ort($R23,$S23,$AY$9:$AZ$9),\"\")","v":""},{"$f":"IF(AND($AA23<6,T23<>\"\",U23<>\"\"),ort($T23,$U23,$AY$3:$AZ$3),\"\")","v":""},{"$f":"IF(AND($AA23<6,T23<>\"\",U23<>\"\"),ort($T23,$U23,$AY$4:$AZ$5),\"\")","v":""},{"$f":"IF(AND($AA23<6,T23<>\"\",U23<>\"\"),ort($T23,$U23,$AY$6:$AZ$7),\"\")","v":""},{"$f":"IF(AND($AA23=6,T23<>\"\",U23<>\"\"),ort($T23,$U23,$AY$8:$AZ$8),\"\")","v":""},{"$f":"IF(AND($AA23=7,T23<>\"\",U23<>\"\"),ort($T23,$U23,$AY$9:$AZ$9),\"\")","v":""},null,null,null,null,null,null,null,null,null,"00:00:00"]
[null,null,null,null,null,null,null,null,null,"",4,{"$f":"DATE($B$3,$B$4,22)","v":"2018-01-22"},{"$f":"DATE($B$3,$B$4,22)","v":"2018-01-22"},null,"00:00:00",null,null,null,null,null,null,"","","","","",{"$f":"IF(ISERROR(IF(NOT(ISERROR(MATCH($M24,Blad2!$A$2:$A$11,0))),7,WEEKDAY($M24,2))),\"\",IF(NOT(ISERROR(MATCH($M24,Blad2!$A$2:$A$11,0))),7,WEEKDAY($M24,2)))","v":1},{"$f":"IF(AND($AA24<6,N24<>\"\",O24<>\"\"),ort($N24,$O24,$AY$3:$AZ$3),\"\")","v":""},{"$f":"IF(AND($AA24<6,N24<>\"\",O24<>\"\"),ort($N24,$O24,$AY$4:$AZ$5),\"\")","v":""},{"$f":"IF(AND($AA24<6,N24<>\"\",O24<>\"\"),ort($N24,$O24,$AY$6:$AZ$7),\"\")","v":""},{"$f":"IF(AND($AA24=6,N24<>\"\",O24<>\"\"),ort($N24,$O24,$AY$8:$AZ$8),\"\")","v":""},{"$f":"IF(AND($AA24=7,N24<>\"\",O24<>\"\"),ort($N24,$O24,$AY$9:$AZ$9),\"\")","v":""},{"$f":"IF(AND($AA24<6,P24<>\"\",Q24<>\"\"),ort($P24,$Q24,$AY$3:$AZ$3),\"\")","v":""},{"$f":"IF(AND($AA24<6,P24<>\"\",Q24<>\"\"),ort($P24,$Q24,$AY$4:$AZ$5),\"\")","v":""},{"$f":"IF(AND($AA24<6,P24<>\"\",Q24<>\"\"),ort($P24,$Q24,$AY$6:$AZ$7),\"\")","v":""},{"$f":"IF(AND($AA24=6,P24<>\"\",Q24<>\"\"),ort($P24,$Q24,$AY$8:$AZ$8),\"\")","v":""},{"$f":"IF(AND($AA24=7,P24<>\"\",Q24<>\"\"),ort($P24,$Q24,$AY$9:$AZ$9),\"\")","v":""},{"$f":"IF(AND($AA24<6,R24<>\"\",S24<>\"\"),ort($R24,$S24,$AY$3:$AZ$3),\"\")","v":""},{"$f":"IF(AND($AA24<6,R24<>\"\",S24<>\"\"),ort($R24,$S24,$AY$4:$AZ$5),\"\")","v":""},{"$f":"IF(AND($AA24<6,R24<>\"\",S24<>\"\"),ort($R24,$S24,$AY$6:$AZ$7),\"\")","v":""},{"$f":"IF(AND($AA24=6,R24<>\"\",S24<>\"\"),ort($R24,$S24,$AY$8:$AZ$8),\"\")","v":""},{"$f":"IF(AND($AA24=7,R24<>\"\",S24<>\"\"),ort($R24,$S24,$AY$9:$AZ$9),\"\")","v":""},{"$f":"IF(AND($AA24<6,T24<>\"\",U24<>\"\"),ort($T24,$U24,$AY$3:$AZ$3),\"\")","v":""},{"$f":"IF(AND($AA24<6,T24<>\"\",U24<>\"\"),ort($T24,$U24,$AY$4:$AZ$5),\"\")","v":""},{"$f":"IF(AND($AA24<6,T24<>\"\",U24<>\"\"),ort($T24,$U24,$AY$6:$AZ$7),\"\")","v":""},{"$f":"IF(AND($AA24=6,T24<>\"\",U24<>\"\"),ort($T24,$U24,$AY$8:$AZ$8),\"\")","v":""},{"$f":"IF(AND($AA24=7,T24<>\"\",U24<>\"\"),ort($T24,$U24,$AY$9:$AZ$9),\"\")","v":""},null,null,null,null,null,null,null,null,null,"00:00:00"]
[null,null,null,null,null,null,null,null,null,"","",{"$f":"DATE($B$3,$B$4,23)","v":"2018-01-23"},{"$f":"DATE($B$3,$B$4,23)","v":"2018-01-23"},null,"00:00:00",null,null,null,null,null,null,"","","","","",{"$f":"IF(ISERROR(IF(NOT(ISERROR(MATCH($M25,Blad2!$A$2:$A$11,0))),7,WEEKDAY($M25,2))),\"\",IF(NOT(ISERROR(MATCH($M25,Blad2!$A$2:$A$11,0))),7,WEEKDAY($M25,2)))","v":2},{"$f":"IF(AND($AA25<6,N25<>\"\",O25<>\"\"),ort($N25,$O25,$AY$3:$AZ$3),\"\")","v":""},{"$f":"IF(AND($AA25<6,N25<>\"\",O25<>\"\"),ort($N25,$O25,$AY$4:$AZ$5),\"\")","v":""},{"$f":"IF(AND($AA25<6,N25<>\"\",O25<>\"\"),ort($N25,$O25,$AY$6:$AZ$7),\"\")","v":""},{"$f":"IF(AND($AA25=6,N25<>\"\",O25<>\"\"),ort($N25,$O25,$AY$8:$AZ$8),\"\")","v":""},{"$f":"IF(AND($AA25=7,N25<>\"\",O25<>\"\"),ort($N25,$O25,$AY$9:$AZ$9),\"\")","v":""},{"$f":"IF(AND($AA25<6,P25<>\"\",Q25<>\"\"),ort($P25,$Q25,$AY$3:$AZ$3),\"\")","v":""},{"$f":"IF(AND($AA25<6,P25<>\"\",Q25<>\"\"),ort($P25,$Q25,$AY$4:$AZ$5),\"\")","v":""},{"$f":"IF(AND($AA25<6,P25<>\"\",Q25<>\"\"),ort($P25,$Q25,$AY$6:$AZ$7),\"\")","v":""},{"$f":"IF(AND($AA25=6,P25<>\"\",Q25<>\"\"),ort($P25,$Q25,$AY$8:$AZ$8),\"\")","v":""},{"$f":"IF(AND($AA25=7,P25<>\"\",Q25<>\"\"),ort($P25,$Q25,$AY$9:$AZ$9),\"\")","v":""},{"$f":"IF(AND($AA25<6,R25<>\"\",S25<>\"\"),ort($R25,$S25,$AY$3:$AZ$3),\"\")","v":""},{"$f":"IF(AND($AA25<6,R25<>\"\",S25<>\"\"),ort($R25,$S25,$AY$4:$AZ$5),\"\")","v":""},{"$f":"IF(AND($AA25<6,R25<>\"\",S25<>\"\"),ort($R25,$S25,$AY$6:$AZ$7),\"\")","v":""},{"$f":"IF(AND($AA25=6,R25<>\"\",S25<>\"\"),ort($R25,$S25,$AY$8:$AZ$8),\"\")","v":""},{"$f":"IF(AND($AA25=7,R25<>\"\",S25<>\"\"),ort($R25,$S25,$AY$9:$AZ$9),\"\")","v":""},{"$f":"IF(AND($AA25<6,T25<>\"\",U25<>\"\"),ort($T25,$U25,$AY$3:$AZ$3),\"\")","v":""},{"$f":"IF(AND($AA25<6,T25<>\"\",U25<>\"\"),ort($T25,$U25,$AY$4:$AZ$5),\"\")","v":""},{"$f":"IF(AND($AA25<6,T25<>\"\",U25<>\"\"),ort($T25,$U25,$AY$6:$AZ$7),\"\")","v":""},{"$f":"IF(AND($AA25=6,T25<>\"\",U25<>\"\"),ort($T25,$U25,$AY$8:$AZ$8),\"\")","v":""},{"$f":"IF(AND($AA25=7,T25<>\"\",U25<>\"\"),ort($T25,$U25,$AY$9:$AZ$9),\"\")","v":""},null,null,null,null,null,null,null,null,null,"00:00:00"]
[null,null,null,null,null,null,null,null,null,"","",{"$f":"DATE($B$3,$B$4,24)","v":"2018-01-24"},{"$f":"DATE($B$3,$B$4,24)","v":"2018-01-24"},null,"00:00:00",null,null,null,null,null,null,"","","","","",{"$f":"IF(ISERROR(IF(NOT(ISERROR(MATCH($M26,Blad2!$A$2:$A$11,0))),7,WEEKDAY($M26,2))),\"\",IF(NOT(ISERROR(MATCH($M26,Blad2!$A$2:$A$11,0))),7,WEEKDAY($M26,2)))","v":3},{"$f":"IF(AND($AA26<6,N26<>\"\",O26<>\"\"),ort($N26,$O26,$AY$3:$AZ$3),\"\")","v":""},{"$f":"IF(AND($AA26<6,N26<>\"\",O26<>\"\"),ort($N26,$O26,$AY$4:$AZ$5),\"\")","v":""},{"$f":"IF(AND($AA26<6,N26<>\"\",O26<>\"\"),ort($N26,$O26,$AY$6:$AZ$7),\"\")","v":""},{"$f":"IF(AND($AA26=6,N26<>\"\",O26<>\"\"),ort($N26,$O26,$AY$8:$AZ$8),\"\")","v":""},{"$f":"IF(AND($AA26=7,N26<>\"\",O26<>\"\"),ort($N26,$O26,$AY$9:$AZ$9),\"\")","v":""},{"$f":"IF(AND($AA26<6,P26<>\"\",Q26<>\"\"),ort($P26,$Q26,$AY$3:$AZ$3),\"\")","v":""},{"$f":"IF(AND($AA26<6,P26<>\"\",Q26<>\"\"),ort($P26,$Q26,$AY$4:$AZ$5),\"\")","v":""},{"$f":"IF(AND($AA26<6,P26<>\"\",Q26<>\"\"),ort($P26,$Q26,$AY$6:$AZ$7),\"\")","v":""},{"$f":"IF(AND($AA26=6,P26<>\"\",Q26<>\"\"),ort($P26,$Q26,$AY$8:$AZ$8),\"\")","v":""},{"$f":"IF(AND($AA26=7,P26<>\"\",Q26<>\"\"),ort($P26,$Q26,$AY$9:$AZ$9),\"\")","v":""},{"$f":"IF(AND($AA26<6,R26<>\"\",S26<>\"\"),ort($R26,$S26,$AY$3:$AZ$3),\"\")","v":""},{"$f":"IF(AND($AA26<6,R26<>\"\",S26<>\"\"),ort($R26,$S26,$AY$4:$AZ$5),\"\")","v":""},{"$f":"IF(AND($AA26<6,R26<>\"\",S26<>\"\"),ort($R26,$S26,$AY$6:$AZ$7),\"\")","v":""},{"$f":"IF(AND($AA26=6,R26<>\"\",S26<>\"\"),ort($R26,$S26,$AY$8:$AZ$8),\"\")","v":""},{"$f":"IF(AND($AA26=7,R26<>\"\",S26<>\"\"),ort($R26,$S26,$AY$9:$AZ$9),\"\")","v":""},{"$f":"IF(AND($AA26<6,T26<>\"\",U26<>\"\"),ort($T26,$U26,$AY$3:$AZ$3),\"\")","v":""},{"$f":"IF(AND($AA26<6,T26<>\"\",U26<>\"\"),ort($T26,$U26,$AY$4:$AZ$5),\"\")","v":""},{"$f":"IF(AND($AA26<6,T26<>\"\",U26<>\"\"),ort($T26,$U26,$AY$6:$AZ$7),\"\")","v":""},{"$f":"IF(AND($AA26=6,T26<>\"\",U26<>\"\"),ort($T26,$U26,$AY$8:$AZ$8),\"\")","v":""},{"$f":"IF(AND($AA26=7,T26<>\"\",U26<>\"\"),ort($T26,$U26,$AY$9:$AZ$9),\"\")","v":""},null,null,null,null,null,null,null,null,null,"00:00:00"]
[null,null,null,null,null,null,null,null,null,"","",{"$f":"DATE($B$3,$B$4,25)","v":"2018-01-25"},{"$f":"DATE($B$3,$B$4,25)","v":"2018-01-25"},null,"00:00:00",null,null,null,null,null,null,"","","","","",{"$f":"IF(ISERROR(IF(NOT(ISERROR(MATCH($M27,Blad2!$A$2:$A$11,0))),7,WEEKDAY($M27,2))),\"\",IF(NOT(ISERROR(MATCH($M27,Blad2!$A$2:$A$11,0))),7,WEEKDAY($M27,2)))","v":4},{"$f":"IF(AND($AA27<6,N27<>\"\",O27<>\"\"),ort($N27,$O27,$AY$3:$AZ$3),\"\")","v":""},{"$f":"IF(AND($AA27<6,N27<>\"\",O27<>\"\"),ort($N27,$O27,$AY$4:$AZ$5),\"\")","v":""},{"$f":"IF(AND($AA27<6,N27<>\"\",O27<>\"\"),ort($N27,$O27,$AY$6:$AZ$7),\"\")","v":""},{"$f":"IF(AND($AA27=6,N27<>\"\",O27<>\"\"),ort($N27,$O27,$AY$8:$AZ$8),\"\")","v":""},{"$f":"IF(AND($AA27=7,N27<>\"\",O27<>\"\"),ort($N27,$O27,$AY$9:$AZ$9),\"\")","v":""},{"$f":"IF(AND($AA27<6,P27<>\"\",Q27<>\"\"),ort($P27,$Q27,$AY$3:$AZ$3),\"\")","v":""},{"$f":"IF(AND($AA27<6,P27<>\"\",Q27<>\"\"),ort($P27,$Q27,$AY$4:$AZ$5),\"\")","v":""},{"$f":"IF(AND($AA27<6,P27<>\"\",Q27<>\"\"),ort($P27,$Q27,$AY$6:$AZ$7),\"\")","v":""},{"$f":"IF(AND($AA27=6,P27<>\"\",Q27<>\"\"),ort($P27,$Q27,$AY$8:$AZ$8),\"\")","v":""},{"$f":"IF(AND($AA27=7,P27<>\"\",Q27<>\"\"),ort($P27,$Q27,$AY$9:$AZ$9),\"\")","v":""},{"$f":"IF(AND($AA27<6,R27<>\"\",S27<>\"\"),ort($R27,$S27,$AY$3:$AZ$3),\"\")","v":""},{"$f":"IF(AND($AA27<6,R27<>\"\",S27<>\"\"),ort($R27,$S27,$AY$4:$AZ$5),\"\")","v":""},{"$f":"IF(AND($AA27<6,R27<>\"\",S27<>\"\"),ort($R27,$S27,$AY$6:$AZ$7),\"\")","v":""},{"$f":"IF(AND($AA27=6,R27<>\"\",S27<>\"\"),ort($R27,$S27,$AY$8:$AZ$8),\"\")","v":""},{"$f":"IF(AND($AA27=7,R27<>\"\",S27<>\"\"),ort($R27,$S27,$AY$9:$AZ$9),\"\")","v":""},{"$f":"IF(AND($AA27<6,T27<>\"\",U27<>\"\"),ort($T27,$U27,$AY$3:$AZ$3),\"\")","v":""},{"$f":"IF(AND($AA27<6,T27<>\"\",U27<>\"\"),ort($T27,$U27,$AY$4:$AZ$5),\"\")","v":""},{"$f":"IF(AND($AA27<6,T27<>\"\",U27<>\"\"),ort($T27,$U27,$AY$6:$AZ$7),\"\")","v":""},{"$f":"IF(AND($AA27=6,T27<>\"\",U27<>\"\"),ort($T27,$U27,$AY$8:$AZ$8),\"\")","v":""},{"$f":"IF(AND($AA27=7,T27<>\"\",U27<>\"\"),ort($T27,$U27,$AY$9:$AZ$9),\"\")","v":""},null,null,null,null,null,null,null,null,null,"00:00:00"]
[null,null,null,null,null,null,null,null,null,"","",{"$f":"DATE($B$3,$B$4,26)","v":"2018-01-26"},{"$f":"DATE($B$3,$B$4,26)","v":"2018-01-26"},null,"00:00:00",null,null,null,null,null,null,"","","","","",{"$f":"IF(ISERROR(IF(NOT(ISERROR(MATCH($M28,Blad2!$A$2:$A$11,0))),7,WEEKDAY($M28,2))),\"\",IF(NOT(ISERROR(MATCH($M28,Blad2!$A$2:$A$11,0))),7,WEEKDAY($M28,2)))","v":5},{"$f":"IF(AND($AA28<6,N28<>\"\",O28<>\"\"),ort($N28,$O28,$AY$3:$AZ$3),\"\")","v":""},{"$f":"IF(AND($AA28<6,N28<>\"\",O28<>\"\"),ort($N28,$O28,$AY$4:$AZ$5),\"\")","v":""},{"$f":"IF(AND($AA28<6,N28<>\"\",O28<>\"\"),ort($N28,$O28,$AY$6:$AZ$7),\"\")","v":""},{"$f":"IF(AND($AA28=6,N28<>\"\",O28<>\"\"),ort($N28,$O28,$AY$8:$AZ$8),\"\")","v":""},{"$f":"IF(AND($AA28=7,N28<>\"\",O28<>\"\"),ort($N28,$O28,$AY$9:$AZ$9),\"\")","v":""},{"$f":"IF(AND($AA28<6,P28<>\"\",Q28<>\"\"),ort($P28,$Q28,$AY$3:$AZ$3),\"\")","v":""},{"$f":"IF(AND($AA28<6,P28<>\"\",Q28<>\"\"),ort($P28,$Q28,$AY$4:$AZ$5),\"\")","v":""},{"$f":"IF(AND($AA28<6,P28<>\"\",Q28<>\"\"),ort($P28,$Q28,$AY$6:$AZ$7),\"\")","v":""},{"$f":"IF(AND($AA28=6,P28<>\"\",Q28<>\"\"),ort($P28,$Q28,$AY$8:$AZ$8),\"\")","v":""},{"$f":"IF(AND($AA28=7,P28<>\"\",Q28<>\"\"),ort($P28,$Q28,$AY$9:$AZ$9),\"\")","v":""},{"$f":"IF(AND($AA28<6,R28<>\"\",S28<>\"\"),ort($R28,$S28,$AY$3:$AZ$3),\"\")","v":""},{"$f":"IF(AND($AA28<6,R28<>\"\",S28<>\"\"),ort($R28,$S28,$AY$4:$AZ$5),\"\")","v":""},{"$f":"IF(AND($AA28<6,R28<>\"\",S28<>\"\"),ort($R28,$S28,$AY$6:$AZ$7),\"\")","v":""},{"$f":"IF(AND($AA28=6,R28<>\"\",S28<>\"\"),ort($R28,$S28,$AY$8:$AZ$8),\"\")","v":""},{"$f":"IF(AND($AA28=7,R28<>\"\",S28<>\"\"),ort($R28,$S28,$AY$9:$AZ$9),\"\")","v":""},{"$f":"IF(AND($AA28<6,T28<>\"\",U28<>\"\"),ort($T28,$U28,$AY$3:$AZ$3),\"\")","v":""},{"$f":"IF(AND($AA28<6,T28<>\"\",U28<>\"\"),ort($T28,$U28,$AY$4:$AZ$5),\"\")","v":""},{"$f":"IF(AND($AA28<6,T28<>\"\",U28<>\"\"),ort($T28,$U28,$AY$6:$AZ$7),\"\")","v":""},{"$f":"IF(AND($AA28=6,T28<>\"\",U28<>\"\"),ort($T28,$U28,$AY$8:$AZ$8),\"\")","v":""},{"$f":"IF(AND($AA28=7,T28<>\"\",U28<>\"\"),ort($T28,$U28,$AY$9:$AZ$9),\"\")","v":""},null,null,null,null,null,null,null,null,null,"00:00:00"]
[null,null,null,null,null,null,null,null,null,"","",{"$f":"DATE($B$3,$B$4,27)","v":"2018-01-27"},{"$f":"DATE($B$3,$B$4,27)","v":"2018-01-27"},null,"00:00:00",null,null,null,null,null,null,"","","","","",{"$f":"IF(ISERROR(IF(NOT(ISERROR(MATCH($M29,Blad2!$A$2:$A$11,0))),7,WEEKDAY($M29,2))),\"\",IF(NOT(ISERROR(MATCH($M29,Blad2!$A$2:$A$11,0))),7,WEEKDAY($M29,2)))","v":6},{"$f":"IF(AND($AA29<6,N29<>\"\",O29<>\"\"),ort($N29,$O29,$AY$3:$AZ$3),\"\")","v":""},{"$f":"IF(AND($AA29<6,N29<>\"\",O29<>\"\"),ort($N29,$O29,$AY$4:$AZ$5),\"\")","v":""},{"$f":"IF(AND($AA29<6,N29<>\"\",O29<>\"\"),ort($N29,$O29,$AY$6:$AZ$7),\"\")","v":""},{"$f":"IF(AND($AA29=6,N29<>\"\",O29<>\"\"),ort($N29,$O29,$AY$8:$AZ$8),\"\")","v":""},{"$f":"IF(AND($AA29=7,N29<>\"\",O29<>\"\"),ort($N29,$O29,$AY$9:$AZ$9),\"\")","v":""},{"$f":"IF(AND($AA29<6,P29<>\"\",Q29<>\"\"),ort($P29,$Q29,$AY$3:$AZ$3),\"\")","v":""},{"$f":"IF(AND($AA29<6,P29<>\"\",Q29<>\"\"),ort($P29,$Q29,$AY$4:$AZ$5),\"\")","v":""},{"$f":"IF(AND($AA29<6,P29<>\"\",Q29<>\"\"),ort($P29,$Q29,$AY$6:$AZ$7),\"\")","v":""},{"$f":"IF(AND($AA29=6,P29<>\"\",Q29<>\"\"),ort($P29,$Q29,$AY$8:$AZ$8),\"\")","v":""},{"$f":"IF(AND($AA29=7,P29<>\"\",Q29<>\"\"),ort($P29,$Q29,$AY$9:$AZ$9),\"\")","v":""},{"$f":"IF(AND($AA29<6,R29<>\"\",S29<>\"\"),ort($R29,$S29,$AY$3:$AZ$3),\"\")","v":""},{"$f":"IF(AND($AA29<6,R29<>\"\",S29<>\"\"),ort($R29,$S29,$AY$4:$AZ$5),\"\")","v":""},{"$f":"IF(AND($AA29<6,R29<>\"\",S29<>\"\"),ort($R29,$S29,$AY$6:$AZ$7),\"\")","v":""},{"$f":"IF(AND($AA29=6,R29<>\"\",S29<>\"\"),ort($R29,$S29,$AY$8:$AZ$8),\"\")","v":""},{"$f":"IF(AND($AA29=7,R29<>\"\",S29<>\"\"),ort($R29,$S29,$AY$9:$AZ$9),\"\")","v":""},{"$f":"IF(AND($AA29<6,T29<>\"\",U29<>\"\"),ort($T29,$U29,$AY$3:$AZ$3),\"\")","v":""},{"$f":"IF(AND($AA29<6,T29<>\"\",U29<>\"\"),ort($T29,$U29,$AY$4:$AZ$5),\"\")","v":""},{"$f":"IF(AND($AA29<6,T29<>\"\",U29<>\"\"),ort($T29,$U29,$AY$6:$AZ$7),\"\")","v":""},{"$f":"IF(AND($AA29=6,T29<>\"\",U29<>\"\"),ort($T29,$U29,$AY$8:$AZ$8),\"\")","v":""},{"$f":"IF(AND($AA29=7,T29<>\"\",U29<>\"\"),ort($T29,$U29,$AY$9:$AZ$9),\"\")","v":""},null,null,null,null,null,null,null,null,null,"00:00:00"]
[null,null,null,null,null,null,null,null,null,"","",{"$f":"DATE($B$3,$B$4,28)","v":"2018-01-28"},{"$f":"DATE($B$3,$B$4,28)","v":"2018-01-28"},null,"00:00:00",null,null,null,null,null,null,"","","","","",{"$f":"IF(ISERROR(IF(NOT(ISERROR(MATCH($M30,Blad2!$A$2:$A$11,0))),7,WEEKDAY($M30,2))),\"\",IF(NOT(ISERROR(MATCH($M30,Blad2!$A$2:$A$11,0))),7,WEEKDAY($M30,2)))","v":7},{"$f":"IF(AND($AA30<6,N30<>\"\",O30<>\"\"),ort($N30,$O30,$AY$3:$AZ$3),\"\")","v":""},{"$f":"IF(AND($AA30<6,N30<>\"\",O30<>\"\"),ort($N30,$O30,$AY$4:$AZ$5),\"\")","v":""},{"$f":"IF(AND($AA30<6,N30<>\"\",O30<>\"\"),ort($N30,$O30,$AY$6:$AZ$7),\"\")","v":""},{"$f":"IF(AND($AA30=6,N30<>\"\",O30<>\"\"),ort($N30,$O30,$AY$8:$AZ$8),\"\")","v":""},{"$f":"IF(AND($AA30=7,N30<>\"\",O30<>\"\"),ort($N30,$O30,$AY$9:$AZ$9),\"\")","v":""},{"$f":"IF(AND($AA30<6,P30<>\"\",Q30<>\"\"),ort($P30,$Q30,$AY$3:$AZ$3),\"\")","v":""},{"$f":"IF(AND($AA30<6,P30<>\"\",Q30<>\"\"),ort($P30,$Q30,$AY$4:$AZ$5),\"\")","v":""},{"$f":"IF(AND($AA30<6,P30<>\"\",Q30<>\"\"),ort($P30,$Q30,$AY$6:$AZ$7),\"\")","v":""},{"$f":"IF(AND($AA30=6,P30<>\"\",Q30<>\"\"),ort($P30,$Q30,$AY$8:$AZ$8),\"\")","v":""},{"$f":"IF(AND($AA30=7,P30<>\"\",Q30<>\"\"),ort($P30,$Q30,$AY$9:$AZ$9),\"\")","v":""},{"$f":"IF(AND($AA30<6,R30<>\"\",S30<>\"\"),ort($R30,$S30,$AY$3:$AZ$3),\"\")","v":""},{"$f":"IF(AND($AA30<6,R30<>\"\",S30<>\"\"),ort($R30,$S30,$AY$4:$AZ$5),\"\")","v":""},{"$f":"IF(AND($AA30<6,R30<>\"\",S30<>\"\"),ort($R30,$S30,$AY$6:$AZ$7),\"\")","v":""},{"$f":"IF(AND($AA30=6,R30<>\"\",S30<>\"\"),ort($R30,$S30,$AY$8:$AZ$8),\"\")","v":""},{"$f":"IF(AND($AA30=7,R30<>\"\",S30<>\"\"),ort($R30,$S30,$AY$9:$AZ$9),\"\")","v":""},{"$f":"IF(AND($AA30<6,T30<>\"\",U30<>\"\"),ort($T30,$U30,$AY$3:$AZ$3),\"\")","v":""},{"$f":"IF(AND($AA30<6,T30<>\"\",U30<>\"\"),ort($T30,$U30,$AY$4:$AZ$5),\"\")","v":""},{"$f":"IF(AND($AA30<6,T30<>\"\",U30<>\"\"),ort($T30,$U30,$AY$6:$AZ$7),\"\")","v":""},{"$f":"IF(AND($AA30=6,T30<>\"\",U30<>\"\"),ort($T30,$U30,$AY$8:$AZ$8),\"\")","v":""},{"$f":"IF(AND($AA30=7,T30<>\"\",U30<>\"\"),ort($T30,$U30,$AY$9:$AZ$9),\"\")","v":""},null,null,null,null,null,null,null,null,null,"00:00:00"]
[null,null,null,null,null,null,null,null,null,"",{"$f":"IF(L31=\"\",\"\",IF(WEEKDAY(L31)=2,1+INT((L31-DATE(YEAR(L31+4-WEEKDAY(L31+6)),1,5)+WEEKDAY(DATE(YEAR(L31+4-WEEKDAY(L31+6)),1,3)))/7),\"\"))","v":5},{"$f":"IF(MONTH(L$30+1)<>MONTH(L$30),\"\",L$30+1)","v":"2018-01-29"},{"$f":"IF(MONTH(M$30+1)<>MONTH(M$30),\"\",M$30+1)","v":"2018-01-29"},null,"00:00:00",null,null,null,null,null,null,"","","","","",{"$f":"IF(ISERROR(IF(NOT(ISERROR(MATCH($M31,Blad2!$A$2:$A$11,0))),7,WEEKDAY($M31,2))),\"\",IF(NOT(ISERROR(MATCH($M31,Blad2!$A$2:$A$11,0))),7,WEEKDAY($M31,2)))","v":1},{"$f":"IF(AND($AA31<6,N31<>\"\",O31<>\"\"),ort($N31,$O31,$AY$3:$AZ$3),\"\")","v":""},{"$f":"IF(AND($AA31<6,N31<>\"\",O31<>\"\"),ort($N31,$O31,$AY$4:$AZ$5),\"\")","v":""},{"$f":"IF(AND($AA31<6,N31<>\"\",O31<>\"\"),ort($N31,$O31,$AY$6:$AZ$7),\"\")","v":""},{"$f":"IF(AND($AA31=6,N31<>\"\",O31<>\"\"),ort($N31,$O31,$AY$8:$AZ$8),\"\")","v":""},{"$f":"IF(AND($AA31=7,N31<>\"\",O31<>\"\"),ort($N31,$O31,$AY$9:$AZ$9),\"\")","v":""},{"$f":"IF(AND($AA31<6,P31<>\"\",Q31<>\"\"),ort($P31,$Q31,$AY$3:$AZ$3),\"\")","v":""},{"$f":"IF(AND($AA31<6,P31<>\"\",Q31<>\"\"),ort($P31,$Q31,$AY$4:$AZ$5),\"\")","v":""},{"$f":"IF(AND($AA31<6,P31<>\"\",Q31<>\"\"),ort($P31,$Q31,$AY$6:$AZ$7),\"\")","v":""},{"$f":"IF(AND($AA31=6,P31<>\"\",Q31<>\"\"),ort($P31,$Q31,$AY$8:$AZ$8),\"\")","v":""},{"$f":"IF(AND($AA31=7,P31<>\"\",Q31<>\"\"),ort($P31,$Q31,$AY$9:$AZ$9),\"\")","v":""},{"$f":"IF(AND($AA31<6,R31<>\"\",S31<>\"\"),ort($R31,$S31,$AY$3:$AZ$3),\"\")","v":""},{"$f":"IF(AND($AA31<6,R31<>\"\",S31<>\"\"),ort($R31,$S31,$AY$4:$AZ$5),\"\")","v":""},{"$f":"IF(AND($AA31<6,R31<>\"\",S31<>\"\"),ort($R31,$S31,$AY$6:$AZ$7),\"\")","v":""},{"$f":"IF(AND($AA31=6,R31<>\"\",S31<>\"\"),ort($R31,$S31,$AY$8:$AZ$8),\"\")","v":""},{"$f":"IF(AND($AA31=7,R31<>\"\",S31<>\"\"),ort($R31,$S31,$AY$9:$AZ$9),\"\")","v":""},{"$f":"IF(AND($AA31<6,T31<>\"\",U31<>\"\"),ort($T31,$U31,$AY$3:$AZ$3),\"\")","v":""},{"$f":"IF(AND($AA31<6,T31<>\"\",U31<>\"\"),ort($T31,$U31,$AY$4:$AZ$5),\"\")","v":""},{"$f":"IF(AND($AA31<6,T31<>\"\",U31<>\"\"),ort($T31,$U31,$AY$6:$AZ$7),\"\")","v":""},{"$f":"IF(AND($AA31=6,T31<>\"\",U31<>\"\"),ort($T31,$U31,$AY$8:$AZ$8),\"\")","v":""},{"$f":"IF(AND($AA31=7,T31<>\"\",U31<>\"\"),ort($T31,$U31,$AY$9:$AZ$9),\"\")","v":""},null,null,null,null,null,null,null,null,null,"00:00:00"]
[null,"Totaal Uren incl 150 %",null,null,null,null,null,null,null,"","",{"$f":"IF(L31=\"\",\"\",IF(MONTH($M31+1)<>MONTH($M31),\"\",$M31+1))","v":"2018-01-30"},{"$f":"IF(M31=\"\",\"\",IF(MONTH($M31+1)<>MONTH($M31),\"\",$M31+1))","v":"2018-01-30"},null,"00:00:00",null,null,null,null,null,null,"","","","","",{"$f":"IF(ISERROR(IF(NOT(ISERROR(MATCH($M32,Blad2!$A$2:$A$11,0))),7,WEEKDAY($M32,2))),\"\",IF(NOT(ISERROR(MATCH($M32,Blad2!$A$2:$A$11,0))),7,WEEKDAY($M32,2)))","v":2},{"$f":"IF(AND($AA32<6,N32<>\"\",O32<>\"\"),ort($N32,$O32,$AY$3:$AZ$3),\"\")","v":""},{"$f":"IF(AND($AA32<6,N32<>\"\",O32<>\"\"),ort($N32,$O32,$AY$4:$AZ$5),\"\")","v":""},{"$f":"IF(AND($AA32<6,N32<>\"\",O32<>\"\"),ort($N32,$O32,$AY$6:$AZ$7),\"\")","v":""},{"$f":"IF(AND($AA32=6,N32<>\"\",O32<>\"\"),ort($N32,$O32,$AY$8:$AZ$8),\"\")","v":""},{"$f":"IF(AND($AA32=7,N32<>\"\",O32<>\"\"),ort($N32,$O32,$AY$9:$AZ$9),\"\")","v":""},{"$f":"IF(AND($AA32<6,P32<>\"\",Q32<>\"\"),ort($P32,$Q32,$AY$3:$AZ$3),\"\")","v":""},{"$f":"IF(AND($AA32<6,P32<>\"\",Q32<>\"\"),ort($P32,$Q32,$AY$4:$AZ$5),\"\")","v":""},{"$f":"IF(AND($AA32<6,P32<>\"\",Q32<>\"\"),ort($P32,$Q32,$AY$6:$AZ$7),\"\")","v":""},{"$f":"IF(AND($AA32=6,P32<>\"\",Q32<>\"\"),ort($P32,$Q32,$AY$8:$AZ$8),\"\")","v":""},{"$f":"IF(AND($AA32=7,P32<>\"\",Q32<>\"\"),ort($P32,$Q32,$AY$9:$AZ$9),\"\")","v":""},{"$f":"IF(AND($AA32<6,R32<>\"\",S32<>\"\"),ort($R32,$S32,$AY$3:$AZ$3),\"\")","v":""},{"$f":"IF(AND($AA32<6,R32<>\"\",S32<>\"\"),ort($R32,$S32,$AY$4:$AZ$5),\"\")","v":""},{"$f":"IF(AND($AA32<6,R32<>\"\",S32<>\"\"),ort($R32,$S32,$AY$6:$AZ$7),\"\")","v":""},{"$f":"IF(AND($AA32=6,R32<>\"\",S32<>\"\"),ort($R32,$S32,$AY$8:$AZ$8),\"\")","v":""},{"$f":"IF(AND($AA32=7,R32<>\"\",S32<>\"\"),ort($R32,$S32,$AY$9:$AZ$9),\"\")","v":""},{"$f":"IF(AND($AA32<6,T32<>\"\",U32<>\"\"),ort($T32,$U32,$AY$3:$AZ$3),\"\")","v":""},{"$f":"IF(AND($AA32<6,T32<>\"\",U32<>\"\"),ort($T32,$U32,$AY$4:$AZ$5),\"\")","v":""},{"$f":"IF(AND($AA32<6,T32<>\"\",U32<>\"\"),ort($T32,$U32,$AY$6:$AZ$7),\"\")","v":""},{"$f":"IF(AND($AA32=6,T32<>\"\",U32<>\"\"),ort($T32,$U32,$AY$8:$AZ$8),\"\")","v":""},{"$f":"IF(AND($AA32=7,T32<>\"\",U32<>\"\"),ort($T32,$U32,$AY$9:$AZ$9),\"\")","v":""},null,null,null,null,null,null,null,null,null,"00:00:00"]
[null,{"$f":"SUM(U36,W37)","v":0.56410256410256421},null,null,null,null,null,null,null,"",{"$f":"IF(L33=\"\",\"\",IF(WEEKDAY(L33)=2,1+INT((L33-DATE(YEAR(L33+4-WEEKDAY(L33+6)),1,5)+WEEKDAY(DATE(YEAR(L33+4-WEEKDAY(L33+6)),1,3)))/7),\"\"))","v":""},{"$f":"IF(L32=\"\",\"\",IF(MONTH($M32+1)<>MONTH($M32),\"\",$M32+1))","v":"2018-01-31"},{"$f":"IF(M32=\"\",\"\",IF(MONTH($M32+1)<>MONTH($M32),\"\",$M32+1))","v":"2018-01-31"},null,"00:00:00",null,null,null,null,null,null,"","","","","",{"$f":"IF(ISERROR(IF(NOT(ISERROR(MATCH($M33,Blad2!$A$2:$A$11,0))),7,WEEKDAY($M33,2))),\"\",IF(NOT(ISERROR(MATCH($M33,Blad2!$A$2:$A$11,0))),7,WEEKDAY($M33,2)))","v":3},{"$f":"IF(AND($AA33<6,N33<>\"\",O33<>\"\"),ort($N33,$O33,$AY$3:$AZ$3),\"\")","v":""},{"$f":"IF(AND($AA33<6,N33<>\"\",O33<>\"\"),ort($N33,$O33,$AY$4:$AZ$5),\"\")","v":""},{"$f":"IF(AND($AA33<6,N33<>\"\",O33<>\"\"),ort($N33,$O33,$AY$6:$AZ$7),\"\")","v":""},{"$f":"IF(AND($AA33=6,N33<>\"\",O33<>\"\"),ort($N33,$O33,$AY$8:$AZ$8),\"\")","v":""},{"$f":"IF(AND($AA33=7,N33<>\"\",O33<>\"\"),ort($N33,$O33,$AY$9:$AZ$9),\"\")","v":""},{"$f":"IF(AND($AA33<6,P33<>\"\",Q33<>\"\"),ort($P33,$Q33,$AY$3:$AZ$3),\"\")","v":""},{"$f":"IF(AND($AA33<6,P33<>\"\",Q33<>\"\"),ort($P33,$Q33,$AY$4:$AZ$5),\"\")","v":""},{"$f":"IF(AND($AA33<6,P33<>\"\",Q33<>\"\"),ort($P33,$Q33,$AY$6:$AZ$7),\"\")","v":""},{"$f":"IF(AND($AA33=6,P33<>\"\",Q33<>\"\"),ort($P33,$Q33,$AY$8:$AZ$8),\"\")","v":""},{"$f":"IF(AND($AA33=7,P33<>\"\",Q33<>\"\"),ort($P33,$Q33,$AY$9:$AZ$9),\"\")","v":""},{"$f":"IF(AND($AA33<6,R33<>\"\",S33<>\"\"),ort($R33,$S33,$AY$3:$AZ$3),\"\")","v":""},{"$f":"IF(AND($AA33<6,R33<>\"\",S33<>\"\"),ort($R33,$S33,$AY$4:$AZ$5),\"\")","v":""},{"$f":"IF(AND($AA33<6,R33<>\"\",S33<>\"\"),ort($R33,$S33,$AY$6:$AZ$7),\"\")","v":""},{"$f":"IF(AND($AA33=6,R33<>\"\",S33<>\"\"),ort($R33,$S33,$AY$8:$AZ$8),\"\")","v":""},{"$f":"IF(AND($AA33=7,R33<>\"\",S33<>\"\"),ort($R33,$S33,$AY$9:$AZ$9),\"\")","v":""},{"$f":"IF(AND($AA33<6,T33<>\"\",U33<>\"\"),ort($T33,$U33,$AY$3:$AZ$3),\"\")","v":""},{"$f":"IF(AND($AA33<6,T33<>\"\",U33<>\"\"),ort($T33,$U33,$AY$4:$AZ$5),\"\")","v":""},{"$f":"IF(AND($AA33<6,T33<>\"\",U33<>\"\"),ort($T33,$U33,$AY$6:$AZ$7),\"\")","v":""},{"$f":"IF(AND($AA33=6,T33<>\"\",U33<>\"\"),ort($T33,$U33,$AY$8:$AZ$8),\"\")","v":""},{"$f":"IF(AND($AA33=7,T33<>\"\",U33<>\"\"),ort($T33,$U33,$AY$9:$AZ$9),\"\")","v":""},null,null,null,null,null,null,null,null,null,"00:00:00"]
[null,null,null,null,null,null,null,null,null,null,null,null,null,null,null,null,null,null,null,null,null,null,{"$f":"SUM(W3:W33)","v":0.56410256410256421},{"$f":"SUM(X3:X33)","v":0},{"$f":"SUM(Y3:Y33)","v":0},{"$f":"SUM(Z3:Z33)","v":0}]
[null,null,null,null,null,null,null,null,null,null,null,null,"Plus / Min Uren Incl 150 % Uren",null,null,null,null,null,"Contract Uren",null,{"$f":"SUM(B17)","v":3.75}]
[null,null,null,null,null,null,null,null,null,null,null,null,{"$f":"SUM(B33-B17)","v":-3.1858974358974357},null,null,5,null,"Gewerkte Uren 100 %",null,null,{"$f":"SUM(W34:X34)","v":0.56410256410256421}]
[null,null,null,null,null,null,null,null,null,null,null,null,"Uitbetalen / Verlof",null,null,{"$f":"SUM(M36*P36)*24","v":-382.30769230769226},null,"Gewerkte Uren 150 %",null,null,{"$f":"SUM(Y34)","v":0},"X 150%",{"$f":"SUM(U37*150%)","v":0}]
[null,null,null,null,null,null,null,null,null,null,null,null,null,null,null,null,null,null,"Plus Uren"]
[null,null,null,null,null,null,null,null,null,null,null,null,null,null,null,null,null,null,"Min Uren"]

{"sheet":"Februari","index":1,"n_rows":39,"n_cols":57,"rows_kept":39,"cut":false,"hidden":false,"merged":[[38,18,38,19],[37,18,37,19],[31,1,31,8],[32,1,32,8],[34,18,34,19],[35,17,35,19],[36,17,36,19],[34,12,34,16],[35,12,35,14],[35,15,35,16],[36,12,36,14],[36,15,36,16],[19,1,19,8],[13,1,13,8],[15,1,15,8],[16,1,16,8],[18,1,18,8],[12,1,12,8],[0,14,0,21],[1,2,1,8],[1,48,1,51],[2,3,2,7],[3,2,3,8]]}
[null,null,null,null,null,null,null,null,null,null,null,null,null,null,"Test"]
[null,null,{"$f":"TODAY()","v":"2018-03-21"},null,null,null,null,null,null,"Feestdag","wknr","dag","datum","tijd in","tijd uit","tijd in","tijd uit","tijd in","tijd uit","tijd in","tijd uit","werk\ntijd",1,1.25,1.5,2,"hulp",1,1.25,1.5,1.5,2,1,1.25,1.5,1.5,2,1,1.25,1.5,1.5,2,1,1.25,1.5,1.5,2,null,"onregelmatigheidstoeslag",null,null,null,null,"Stops","Laden","Lossen","Werktijd"]
[null,2018," ","Kalender",null,null,null,null,null,{"$f":"IF(ISNA(VLOOKUP(M3,feestdagen,2,0)),\"\",VLOOKUP(M3,feestdagen,2,0))","v":""},{"$f":"WEEKNUM(L3,21)","v":5},{"$f":"DATE($B$3,$B$4,1)","v":"2018-02-01"},{"$f":"DATE($B$3,$B$4,1)","v":"2018-02-01"},0.39583333333333331,{"$f":"SUM(N3,BE3)","v":"16:27:30"},null,null,null,null,null,null,{"$f":"IF(AND(W3=\"\",X3=\"\",Y3=\"\",Z3=\"\"),\"\",SUM(W3:Z3))","v":0.28993055555555552},{"$f":"IF(AND(AB3=\"\",AG3=\"\",AL3=\"\",AQ3=\"\"),\"\",SUM(AB3,AG3,AL3,AQ3))","v":0.28993055555555552},{"$f":"IF(AND(AC3=\"\",AH3=\"\",AM3=\"\",AR3=\"\"),\"\",SUM(AC3,AH3,AM3,AR3))","v":""},{"$f":"IF(AND(AD3=\"\",AE3=\"\",AI3=\"\",AJ3=\"\",AN3=\"\",AO3=\"\",AS3=\"\",AT3=\"\"),\"\",SUM(AD3,AE3,AI3,AJ3,AN3,AO3,AS3,AT3))","v":""},{"$f":"IF(AND(AF3=\"\",AK3=\"\",AP3=\"\",AU3=\"\"),\"\",SUM(AF3,AK3,AP3,AU3))","v":""},{"$f":"IF(ISERROR(IF(NOT(ISERROR(MATCH($M3,Blad2!$A$2:$A$11,0))),7,WEEKDAY($M3,2))),\"\",IF(NOT(ISERROR(MATCH($M3,Blad2!$A$2:$A$11,0))),7,WEEKDAY($M3,2)))","v":4},{"$f":"IF(AND($AA3<6,N3<>\"\",O3<>\"\"),ort($N3,$O3,$AY$3:$AZ$3),\"\")","v":0.28993055555555552},{"$f":"IF(AND($AA3<6,N3<>\"\",O3<>\"\"),ort($N3,$O3,$AY$4:$AZ$5),\"\")","v":""},{"$f":"IF(AND($AA3<6,N3<>\"\",O3<>\"\"),ort($N3,$O3,$AY$6:$AZ$7),\"\")","v":""},{"$f":"IF(AND($AA3=6,N3<>\"\",O3<>\"\"),ort($N3,$O3,$AY$8:$AZ$8),\"\")","v":""},{"$f":"IF(AND($AA3=7,N3<>\"\",O3<>\"\"),ort($N3,$O3,$AY$9:$AZ$9),\"\")","v":""},{"$f":"IF(AND($AA3<6,P3<>\"\",Q3<>\"\"),ort($P3,$Q3,$AY$3:$AZ$3),\"\")","v":""},{"$f":"IF(AND($AA3<6,P3<>\"\",Q3<>\"\"),ort($P3,$Q3,$AY$4:$AZ$5),\"\")","v":""},{"$f":"IF(AND($AA3<6,P3<>\"\",Q3<>\"\"),ort($P3,$Q3,$AY$6:$AZ$7),\"\")","v":""},{"$f":"IF(AND($AA3=6,P3<>\"\",Q3<>\"\"),ort($P3,$Q3,$AY$8:$AZ$8),\"\")","v":""},{"$f":"IF(AND($AA3=7,P3<>\"\",Q3<>\"\"),ort($P3,$Q3,$AY$9:$AZ$9),\"\")","v":""},{"$f":"IF(AND($AA3<6,R3<>\"\",S3<>\"\"),ort($R3,$S3,$AY$3:$AZ$3),\"\")","v":""},{"$f":"IF(AND($AA3<6,R3<>\"\",S3<>\"\"),ort($R3,$S3,$AY$4:$AZ$5),\"\")","v":""},{"$f":"IF(AND($AA3<6,R3<>\"\",S3<>\"\"),ort($R3,$S3,$AY$6:$AZ$7),\"\")","v":""},{"$f":"IF(AND($AA3=6,R3<>\"\",S3<>\"\"),ort($R3,$S3,$AY$8:$AZ$8),\"\")","v":""},{"$f":"IF(AND($AA3=7,R3<>\"\",S3<>\"\"),ort($R3,$S3,$AY$9:$AZ$9),\"\")","v":""},{"$f":"IF(AND($AA3<6,T3<>\"\",U3<>\"\"),ort($T3,$U3,$AY$3:$AZ$3),\"\")","v":""},{"$f":"IF(AND($AA3<6,T3<>\"\",U3<>\"\"),ort($T3,$U3,$AY$4:$AZ$5),\"\")","v":""},{"$f":"IF(AND($AA3<6,T3<>\"\",U3<>\"\"),ort($T3,$U3,$AY$6:$AZ$7),\"\")","v":""},{"$f":"IF(AND($AA3=6,T3<>\"\",U3<>\"\"),ort($T3,$U3,$AY$8:$AZ$8),\"\")","v":""},{"$f":"IF(AND($AA3=7,T3<>\"\",U3<>\"\"),ort($T3,$U3,$AY$9:$AZ$9),\"\")","v":""},null,1,"m-vr",0.39583333333333331,0.72916666666666663,null,155,"00:30:00",null,{"$f":"SUM(BB3/24/24,BC3:BD3)","v":"06:57:30"}]
[null,2,{"$f":"DATE(B3,B4,1)","v":"2018-02-01"},null,null,null,null,null,null,"",{"$f":"IF(WEEKDAY(L4)=2,1+INT((L4-DATE(YEAR(L4+4-WEEKDAY(L4+6)),1,5)+WEEKDAY(DATE(YEAR(L4+4-WEEKDAY(L4+6)),1,3)))/7),\"\")","v":""},{"$f":"DATE($B$3,$B$4,2)","v":"2018-02-02"},{"$f":"DATE($B$3,$B$4,2)","v":"2018-02-02"},0.39583333333333331,{"$f":"SUM(N4,BE4)","v":"15:27:30"},null,null,null,null,null,null,{"$f":"IF(AND(W4=\"\",X4=\"\",Y4=\"\",Z4=\"\"),\"\",SUM(W4:Z4))","v":0.2482638888888889},{"$f":"IF(AND(AB4=\"\",AG4=\"\",AL4=\"\",AQ4=\"\"),\"\",SUM(AB4,AG4,AL4,AQ4))","v":0.2482638888888889},{"$f":"IF(AND(AC4=\"\",AH4=\"\",AM4=\"\",AR4=\"\"),\"\",SUM(AC4,AH4,AM4,AR4))","v":""},{"$f":"IF(AND(AD4=\"\",AE4=\"\",AI4=\"\",AJ4=\"\",AN4=\"\",AO4=\"\",AS4=\"\",AT4=\"\"),\"\",SUM(AD4,AE4,AI4,AJ4,AN4,AO4,AS4,AT4))","v":""},{"$f":"IF(AND(AF4=\"\",AK4=\"\",AP4=\"\",AU4=\"\"),\"\",SUM(AF4,AK4,AP4,AU4))","v":""},{"$f":"IF(ISERROR(IF(NOT(ISERROR(MATCH($M4,Blad2!$A$2:$A$11,0))),7,WEEKDAY($M4,2))),\"\",IF(NOT(ISERROR(MATCH($M4,Blad2!$A$2:$A$11,0))),7,WEEKDAY($M4,2)))","v":5},{"$f":"IF(AND($AA4<6,N4<>\"\",O4<>\"\"),ort($N4,$O4,$AY$3:$AZ$3),\"\")","v":0.2482638888888889},{"$f":"IF(AND($AA4<6,N4<>\"\",O4<>\"\"),ort($N4,$O4,$AY$4:$AZ$5),\"\")","v":""},{"$f":"IF(AND($AA4<6,N4<>\"\",O4<>\"\"),ort($N4,$O4,$AY$6:$AZ$7),\"\")","v":""},{"$f":"IF(AND($AA4=6,N4<>\"\",O4<>\"\"),ort($N4,$O4,$AY$8:$AZ$8),\"\")","v":""},{"$f":"IF(AND($AA4=7,N4<>\"\",O4<>\"\"),ort($N4,$O4,$AY$9:$AZ$9),\"\")","v":""},{"$f":"IF(AND($AA4<6,P4<>\"\",Q4<>\"\"),ort($P4,$Q4,$AY$3:$AZ$3),\"\")","v":""},{"$f":"IF(AND($AA4<6,P4<>\"\",Q4<>\"\"),ort($P4,$Q4,$AY$4:$AZ$5),\"\")","v":""},{"$f":"IF(AND($AA4<6,P4<>\"\",Q4<>\"\"),ort($P4,$Q4,$AY$6:$AZ$7),\"\")","v":""},{"$f":"IF(AND($AA4=6,P4<>\"\",Q4<>\"\"),ort($P4,$Q4,$AY$8:$AZ$8),\"\")","v":""},{"$f":"IF(AND($AA4=7,P4<>\"\",Q4<>\"\"),ort($P4,$Q4,$AY$9:$AZ$9),\"\")","v":""},{"$f":"IF(AND($AA4<6,R4<>\"\",S4<>\"\"),ort($R4,$S4,$AY$3:$AZ$3),\"\")","v":""},{"$f":"IF(AND($AA4<6,R4<>\"\",S4<>\"\"),ort($R4,$S4,$AY$4:$AZ$5),\"\")","v":""},{"$f":"IF(AND($AA4<6,R4<>\"\",S4<>\"\"),ort($R4,$S4,$AY$6:$AZ$7),\"\")","v":""},{"$f":"IF(AND($AA4=6,R4<>\"\",S4<>\"\"),ort($R4,$S4,$AY$8:$AZ$8),\"\")","v":""},{"$f":"IF(AND($AA4=7,R4<>\"\",S4<>\"\"),ort($R4,$S4,$AY$9:$AZ$9),\"\")","v":""},{"$f":"IF(AND($AA4<6,T4<>\"\",U4<>\"\"),ort($T4,$U4,$AY$3:$AZ$3),\"\")","v":""},{"$f":"IF(AND($AA4<6,T4<>\"\",U4<>\"\"),ort($T4,$U4,$AY$4:$AZ$5),\"\")","v":""},{"$f":"IF(AND($AA4<6,T4<>\"\",U4<>\"\"),ort($T4,$U4,$AY$6:$AZ$7),\"\")","v":""},{"$f":"IF(AND($AA4=6,T4<>\"\",U4<>\"\"),ort($T4,$U4,$AY$8:$AZ$8),\"\")","v":""},{"$f":"IF(AND($AA4=7,T4<>\"\",U4<>\"\"),ort($T4,$U4,$AY$9:$AZ$9),\"\")","v":""},null,1.25,"m-vr",0.25,0.3125,null,131,"00:30:00",null,{"$f":"SUM(BB4/24/24,BC4:BD4)","v":"05:57:30"}]
[null,null,"Ma","Di","Wo","Do","Vr","Za","Zo","","",{"$f":"DATE($B$3,$B$4,3)","v":"2018-02-03"},{"$f":"DATE($B$3,$B$4,3)","v":"2018-02-03"},null,"00:00:00",null,null,null,null,null,null,"",{"$f":"IF(AND(AB5=\"\",AG5=\"\",AL5=\"\",AQ5=\"\"),\"\",SUM(AB5,AG5,AL5,AQ5))","v":""},"",{"$f":"IF(AND(AD5=\"\",AE5=\"\",AI5=\"\",AJ5=\"\",AN5=\"\",AO5=\"\",AS5=\"\",AT5=\"\"),\"\",SUM(AD5,AE5,AI5,AJ5,AN5,AO5,AS5,AT5))","v":""},{"$f":"IF(AND(AF5=\"\",AK5=\"\",AP5=\"\",AU5=\"\"),\"\",SUM(AF5,AK5,AP5,AU5))","v":""},{"$f":"IF(ISERROR(IF(NOT(ISERROR(MATCH($M5,Blad2!$A$2:$A$11,0))),7,WEEKDAY($M5,2))),\"\",IF(NOT(ISERROR(MATCH($M5,Blad2!$A$2:$A$11,0))),7,WEEKDAY($M5,2)))","v":6},{"$f":"IF(AND($AA5<6,N5<>\"\",O5<>\"\"),ort($N5,$O5,$AY$3:$AZ$3),\"\")","v":""},{"$f":"IF(AND($AA5<6,N5<>\"\",O5<>\"\"),ort($N5,$O5,$AY$4:$AZ$5),\"\")","v":""},{"$f":"IF(AND($AA5<6,N5<>\"\",O5<>\"\"),ort($N5,$O5,$AY$6:$AZ$7),\"\")","v":""},{"$f":"IF(AND($AA5=6,N5<>\"\",O5<>\"\"),ort($N5,$O5,$AY$8:$AZ$8),\"\")","v":""},{"$f":"IF(AND($AA5=7,N5<>\"\",O5<>\"\"),ort($N5,$O5,$AY$9:$AZ$9),\"\")","v":""},{"$f":"IF(AND($AA5<6,P5<>\"\",Q5<>\"\"),ort($P5,$Q5,$AY$3:$AZ$3),\"\")","v":""},{"$f":"IF(AND($AA5<6,P5<>\"\",Q5<>\"\"),ort($P5,$Q5,$AY$4:$AZ$5),\"\")","v":""},{"$f":"IF(AND($AA5<6,P5<>\"\",Q5<>\"\"),ort($P5,$Q5,$AY$6:$AZ$7),\"\")","v":""},{"$f":"IF(AND($AA5=6,P5<>\"\",Q5<>\"\"),ort($P5,$Q5,$AY$8:$AZ$8),\"\")","v":""},{"$f":"IF(AND($AA5=7,P5<>\"\",Q5<>\"\"),ort($P5,$Q5,$AY$9:$AZ$9),\"\")","v":""},{"$f":"IF(AND($AA5<6,R5<>\"\",S5<>\"\"),ort($R5,$S5,$AY$3:$AZ$3),\"\")","v":""},{"$f":"IF(AND($AA5<6,R5<>\"\",S5<>\"\"),ort($R5,$S5,$AY$4:$AZ$5),\"\")","v":""},{"$f":"IF(AND($AA5<6,R5<>\"\",S5<>\"\"),ort($R5,$S5,$AY$6:$AZ$7),\"\")","v":""},{"$f":"IF(AND($AA5=6,R5<>\"\",S5<>\"\"),ort($R5,$S5,$AY$8:$AZ$8),\"\")","v":""},{"$f":"IF(AND($AA5=7,R5<>\"\",S5<>\"\"),ort($R5,$S5,$AY$9:$AZ$9),\"\")","v":""},{"$f":"IF(AND($AA5<6,T5<>\"\",U5<>\"\"),ort($T5,$U5,$AY$3:$AZ$3),\"\")","v":""},{"$f":"IF(AND($AA5<6,T5<>\"\",U5<>\"\"),ort($T5,$U5,$AY$4:$AZ$5),\"\")","v":""},{"$f":"IF(AND($AA5<6,T5<>\"\",U5<>\"\"),ort($T5,$U5,$AY$6:$AZ$7),\"\")","v":""},{"$f":"IF(AND($AA5=6,T5<>\"\",U5<>\"\"),ort($T5,$U5,$AY$8:$AZ$8),\"\")","v":""},{"$f":"IF(AND($AA5=7,T5<>\"\",U5<>\"\"),ort($T5,$U5,$AY$9:$AZ$9),\"\")","v":""},null,1.25,"m-vr",0.72916666666666663,0.77083333333333337,null,null,null,null,"00:00:00"]
[null,null,{"$f":"IF(WEEKDAY(C4,2)=1,C4,\"\")","v":""},{"$f":"IF(WEEKDAY(C4,2)=2,C4,IF(C6<>\"\",C6+1,\"\"))","v":""},{"$f":"IF(WEEKDAY(C4,2)=3,C4,IF(D6<>\"\",D6+1,\"\"))","v":""},{"$f":"IF(WEEKDAY(C4,2)=4,C4,IF(E6<>\"\",E6+1,\"\"))","v":"2018-02-01"},{"$f":"IF(WEEKDAY(C4,2)=5,C4,IF(F6<>\"\",F6+1,\"\"))","v":"2018-02-02"},{"$f":"IF(WEEKDAY(C4,2)=6,C4,IF(G6<>\"\",G6+1,\"\"))","v":"2018-02-03"},{"$f":"IF(WEEKDAY(C4,2)=7,C4,IF(H6<>\"\",H6+1,\"\"))","v":"2018-02-04"},"","",{"$f":"DATE($B$3,$B$4,4)","v":"2018-02-04"},{"$f":"DATE($B$3,$B$4,4)","v":"2018-02-04"},null,"00:00:00",null,null,null,null,null,null,"","","","","",{"$f":"IF(ISERROR(IF(NOT(ISERROR(MATCH($M6,Blad2!$A$2:$A$11,0))),7,WEEKDAY($M6,2))),\"\",IF(NOT(ISERROR(MATCH($M6,Blad2!$A$2:$A$11,0))),7,WEEKDAY($M6,2)))","v":7},{"$f":"IF(AND($AA6<6,N6<>\"\",O6<>\"\"),ort($N6,$O6,$AY$3:$AZ$3),\"\")","v":""},{"$f":"IF(AND($AA6<6,N6<>\"\",O6<>\"\"),ort($N6,$O6,$AY$4:$AZ$5),\"\")","v":""},{"$f":"IF(AND($AA6<6,N6<>\"\",O6<>\"\"),ort($N6,$O6,$AY$6:$AZ$7),\"\")","v":""},{"$f":"IF(AND($AA6=6,N6<>\"\",O6<>\"\"),ort($N6,$O6,$AY$8:$AZ$8),\"\")","v":""},{"$f":"IF(AND($AA6=7,N6<>\"\",O6<>\"\"),ort($N6,$O6,$AY$9:$AZ$9),\"\")","v":""},{"$f":"IF(AND($AA6<6,P6<>\"\",Q6<>\"\"),ort($P6,$Q6,$AY$3:$AZ$3),\"\")","v":""},{"$f":"IF(AND($AA6<6,P6<>\"\",Q6<>\"\"),ort($P6,$Q6,$AY$4:$AZ$5),\"\")","v":""},{"$f":"IF(AND($AA6<6,P6<>\"\",Q6<>\"\"),ort($P6,$Q6,$AY$6:$AZ$7),\"\")","v":""},{"$f":"IF(AND($AA6=6,P6<>\"\",Q6<>\"\"),ort($P6,$Q6,$AY$8:$AZ$8),\"\")","v":""},{"$f":"IF(AND($AA6=7,P6<>\"\",Q6<>\"\"),ort($P6,$Q6,$AY$9:$AZ$9),\"\")","v":""},{"$f":"IF(AND($AA6<6,R6<>\"\",S6<>\"\"),ort($R6,$S6,$AY$3:$AZ$3),\"\")","v":""},{"$f":"IF(AND($AA6<6,R6<>\"\",S6<>\"\"),ort($R6,$S6,$AY$4:$AZ$5),\"\")","v":""},{"$f":"IF(AND($AA6<6,R6<>\"\",S6<>\"\"),ort($R6,$S6,$AY$6:$AZ$7),\"\")","v":""},{"$f":"IF(AND($AA6=6,R6<>\"\",S6<>\"\"),ort($R6,$S6,$AY$8:$AZ$8),\"\")","v":""},{"$f":"IF(AND($AA6=7,R6<>\"\",S6<>\"\"),ort($R6,$S6,$AY$9:$AZ$9),\"\")","v":""},{"$f":"IF(AND($AA6<6,T6<>\"\",U6<>\"\"),ort($T6,$U6,$AY$3:$AZ$3),\"\")","v":""},{"$f":"IF(AND($AA6<6,T6<>\"\",U6<>\"\"),ort($T6,$U6,$AY$4:$AZ$5),\"\")","v":""},{"$f":"IF(AND($AA6<6,T6<>\"\",U6<>\"\"),ort($T6,$U6,$AY$6:$AZ$7),\"\")","v":""},{"$f":"IF(AND($AA6=6,T6<>\"\",U6<>\"\"),ort($T6,$U6,$AY$8:$AZ$8),\"\")","v":""},{"$f":"IF(AND($AA6=7,T6<>\"\",U6<>\"\"),ort($T6,$U6,$AY$9:$AZ$9),\"\")","v":""},null,1.5,"m-vr",0,0.25,null,null,null,null,"00:00:00"]
[null,null,{"$f":"I6+1","v":"2018-02-05"},{"$f":"C7+1","v":"2018-02-06"},{"$f":"D7+1","v":"2018-02-07"},"2018-02-08","2018-02-09","2018-02-10","2018-02-11","",6,{"$f":"DATE($B$3,$B$4,5)","v":"2018-02-05"},{"$f":"DATE($B$3,$B$4,5)","v":"2018-02-05"},0.39583333333333331,"09:30:00",null,null,null,null,null,null,"","","","","",{"$f":"IF(ISERROR(IF(NOT(ISERROR(MATCH($M7,Blad2!$A$2:$A$11,0))),7,WEEKDAY($M7,2))),\"\",IF(NOT(ISERROR(MATCH($M7,Blad2!$A$2:$A$11,0))),7,WEEKDAY($M7,2)))","v":1},{"$f":"IF(AND($AA7<6,N7<>\"\",O7<>\"\"),ort($N7,$O7,$AY$3:$AZ$3),\"\")","v":""},{"$f":"IF(AND($AA7<6,N7<>\"\",O7<>\"\"),ort($N7,$O7,$AY$4:$AZ$5),\"\")","v":""},{"$f":"IF(AND($AA7<6,N7<>\"\",O7<>\"\"),ort($N7,$O7,$AY$6:$AZ$7),\"\")","v":""},{"$f":"IF(AND($AA7=6,N7<>\"\",O7<>\"\"),ort($N7,$O7,$AY$8:$AZ$8),\"\")","v":""},{"$f":"IF(AND($AA7=7,N7<>\"\",O7<>\"\"),ort($N7,$O7,$AY$9:$AZ$9),\"\")","v":""},{"$f":"IF(AND($AA7<6,P7<>\"\",Q7<>\"\"),ort($P7,$Q7,$AY$3:$AZ$3),\"\")","v":""},{"$f":"IF(AND($AA7<6,P7<>\"\",Q7<>\"\"),ort($P7,$Q7,$AY$4:$AZ$5),\"\")","v":""},{"$f":"IF(AND($AA7<6,P7<>\"\",Q7<>\"\"),ort($P7,$Q7,$AY$6:$AZ$7),\"\")","v":""},{"$f":"IF(AND($AA7=6,P7<>\"\",Q7<>\"\"),ort($P7,$Q7,$AY$8:$AZ$8),\"\")","v":""},{"$f":"IF(AND($AA7=7,P7<>\"\",Q7<>\"\"),ort($P7,$Q7,$AY$9:$AZ$9),\"\")","v":""},{"$f":"IF(AND($AA7<6,R7<>\"\",S7<>\"\"),ort($R7,$S7,$AY$3:$AZ$3),\"\")","v":""},{"$f":"IF(AND($AA7<6,R7<>\"\",S7<>\"\"),ort($R7,$S7,$AY$4:$AZ$5),\"\")","v":""},{"$f":"IF(AND($AA7<6,R7<>\"\",S7<>\"\"),ort($R7,$S7,$AY$6:$AZ$7),\"\")","v":""},{"$f":"IF(AND($AA7=6,R7<>\"\",S7<>\"\"),ort($R7,$S7,$AY$8:$AZ$8),\"\")","v":""},{"$f":"IF(AND($AA7=7,R7<>\"\",S7<>\"\"),ort($R7,$S7,$AY$9:$AZ$9),\"\")","v":""},{"$f":"IF(AND($AA7<6,T7<>\"\",U7<>\"\"),ort($T7,$U7,$AY$3:$AZ$3),\"\")","v":""},{"$f":"IF(AND($AA7<6,T7<>\"\",U7<>\"\"),ort($T7,$U7,$AY$4:$AZ$5),\"\")","v":""},{"$f":"IF(AND($AA7<6,T7<>\"\",U7<>\"\"),ort($T7,$U7,$AY$6:$AZ$7),\"\")","v":""},{"$f":"IF(AND($AA7=6,T7<>\"\",U7<>\"\"),ort($T7,$U7,$AY$8:$AZ$8),\"\")","v":""},{"$f":"IF(AND($AA7=7,T7<>\"\",U7<>\"\"),ort($T7,$U7,$AY$9:$AZ$9),\"\")","v":""},null,1.5,"m-vr",0.77083333333333337,1,null,null,null,null,"00:00:00"]
[null,null,{"$f":"I7+1","v":"2018-02-12"},{"$f":"C8+1","v":"2018-02-13"},"2018-02-14","2018-02-15","2018-02-16","2018-02-17","2018-02-18","","",{"$f":"DATE($B$3,$B$4,6)","v":"2018-02-06"},{"$f":"DATE($B$3,$B$4,6)","v":"2018-02-06"},0.39583333333333331,"16:20:00",null,null,null,null,null,null,0.28472222222222227,0.28472222222222227,"","","",{"$f":"IF(ISERROR(IF(NOT(ISERROR(MATCH($M8,Blad2!$A$2:$A$11,0))),7,WEEKDAY($M8,2))),\"\",IF(NOT(ISERROR(MATCH($M8,Blad2!$A$2:$A$11,0))),7,WEEKDAY($M8,2)))","v":2},{"$f":"IF(AND($AA8<6,N8<>\"\",O8<>\"\"),ort($N8,$O8,$AY$3:$AZ$3),\"\")","v":0.28472222222222227},{"$f":"IF(AND($AA8<6,N8<>\"\",O8<>\"\"),ort($N8,$O8,$AY$4:$AZ$5),\"\")","v":""},{"$f":"IF(AND($AA8<6,N8<>\"\",O8<>\"\"),ort($N8,$O8,$AY$6:$AZ$7),\"\")","v":""},{"$f":"IF(AND($AA8=6,N8<>\"\",O8<>\"\"),ort($N8,$O8,$AY$8:$AZ$8),\"\")","v":""},{"$f":"IF(AND($AA8=7,N8<>\"\",O8<>\"\"),ort($N8,$O8,$AY$9:$AZ$9),\"\")","v":""},{"$f":"IF(AND($AA8<6,P8<>\"\",Q8<>\"\"),ort($P8,$Q8,$AY$3:$AZ$3),\"\")","v":""},{"$f":"IF(AND($AA8<6,P8<>\"\",Q8<>\"\"),ort($P8,$Q8,$AY$4:$AZ$5),\"\")","v":""},{"$f":"IF(AND($AA8<6,P8<>\"\",Q8<>\"\"),ort($P8,$Q8,$AY$6:$AZ$7),\"\")","v":""},{"$f":"IF(AND($AA8=6,P8<>\"\",Q8<>\"\"),ort($P8,$Q8,$AY$8:$AZ$8),\"\")","v":""},{"$f":"IF(AND($AA8=7,P8<>\"\",Q8<>\"\"),ort($P8,$Q8,$AY$9:$AZ$9),\"\")","v":""},{"$f":"IF(AND($AA8<6,R8<>\"\",S8<>\"\"),ort($R8,$S8,$AY$3:$AZ$3),\"\")","v":""},{"$f":"IF(AND($AA8<6,R8<>\"\",S8<>\"\"),ort($R8,$S8,$AY$4:$AZ$5),\"\")","v":""},{"$f":"IF(AND($AA8<6,R8<>\"\",S8<>\"\"),ort($R8,$S8,$AY$6:$AZ$7),\"\")","v":""},{"$f":"IF(AND($AA8=6,R8<>\"\",S8<>\"\"),ort($R8,$S8,$AY$8:$AZ$8),\"\")","v":""},{"$f":"IF(AND($AA8=7,R8<>\"\",S8<>\"\"),ort($R8,$S8,$AY$9:$AZ$9),\"\")","v":""},{"$f":"IF(AND($AA8<6,T8<>\"\",U8<>\"\"),ort($T8,$U8,$AY$3:$AZ$3),\"\")","v":""},{"$f":"IF(AND($AA8<6,T8<>\"\",U8<>\"\"),ort($T8,$U8,$AY$4:$AZ$5),\"\")","v":""},{"$f":"IF(AND($AA8<6,T8<>\"\",U8<>\"\"),ort($T8,$U8,$AY$6:$AZ$7),\"\")","v":""},{"$f":"IF(AND($AA8=6,T8<>\"\",U8<>\"\"),ort($T8,$U8,$AY$8:$AZ$8),\"\")","v":""},{"$f":"IF(AND($AA8=7,T8<>\"\",U8<>\"\"),ort($T8,$U8,$AY$9:$AZ$9),\"\")","v":""},null,1.5,"za",0,1,null,152,"00:30:00",null,"06:50:00"]
[null,null,{"$f":"I8+1","v":"2018-02-19"},{"$f":"C9+1","v":"2018-02-20"},"2018-02-21","2018-02-22","2018-02-23","2018-02-24","2018-02-25","","",{"$f":"DATE($B$3,$B$4,7)","v":"2018-02-07"},{"$f":"DATE($B$3,$B$4,7)","v":"2018-02-07"},0.39583333333333331,"16:02:30",null,null,null,null,null,null,0.27256944444444436,0.27256944444444436,"","","",{"$f":"IF(ISERROR(IF(NOT(ISERROR(MATCH($M9,Blad2!$A$2:$A$11,0))),7,WEEKDAY($M9,2))),\"\",IF(NOT(ISERROR(MATCH($M9,Blad2!$A$2:$A$11,0))),7,WEEKDAY($M9,2)))","v":3},{"$f":"IF(AND($AA9<6,N9<>\"\",O9<>\"\"),ort($N9,$O9,$AY$3:$AZ$3),\"\")","v":0.27256944444444436},{"$f":"IF(AND($AA9<6,N9<>\"\",O9<>\"\"),ort($N9,$O9,$AY$4:$AZ$5),\"\")","v":""},{"$f":"IF(AND($AA9<6,N9<>\"\",O9<>\"\"),ort($N9,$O9,$AY$6:$AZ$7),\"\")","v":""},{"$f":"IF(AND($AA9=6,N9<>\"\",O9<>\"\"),ort($N9,$O9,$AY$8:$AZ$8),\"\")","v":""},{"$f":"IF(AND($AA9=7,N9<>\"\",O9<>\"\"),ort($N9,$O9,$AY$9:$AZ$9),\"\")","v":""},{"$f":"IF(AND($AA9<6,P9<>\"\",Q9<>\"\"),ort($P9,$Q9,$AY$3:$AZ$3),\"\")","v":""},{"$f":"IF(AND($AA9<6,P9<>\"\",Q9<>\"\"),ort($P9,$Q9,$AY$4:$AZ$5),\"\")","v":""},{"$f":"IF(AND($AA9<6,P9<>\"\",Q9<>\"\"),ort($P9,$Q9,$AY$6:$AZ$7),\"\")","v":""},{"$f":"IF(AND($AA9=6,P9<>\"\",Q9<>\"\"),ort($P9,$Q9,$AY$8:$AZ$8),\"\")","v":""},{"$f":"IF(AND($AA9=7,P9<>\"\",Q9<>\"\"),ort($P9,$Q9,$AY$9:$AZ$9),\"\")","v":""},{"$f":"IF(AND($AA9<6,R9<>\"\",S9<>\"\"),ort($R9,$S9,$AY$3:$AZ$3),\"\")","v":""},{"$f":"IF(AND($AA9<6,R9<>\"\",S9<>\"\"),ort($R9,$S9,$AY$4:$AZ$5),\"\")","v":""},{"$f":"IF(AND($AA9<6,R9<>\"\",S9<>\"\"),ort($R9,$S9,$AY$6:$AZ$7),\"\")","v":""},{"$f":"IF(AND($AA9=6,R9<>\"\",S9<>\"\"),ort($R9,$S9,$AY$8:$AZ$8),\"\")","v":""},{"$f":"IF(AND($AA9=7,R9<>\"\",S9<>\"\"),ort($R9,$S9,$AY$9:$AZ$9),\"\")","v":""},{"$f":"IF(AND($AA9<6,T9<>\"\",U9<>\"\"),ort($T9,$U9,$AY$3:$AZ$3),\"\")","v":""},{"$f":"IF(AND($AA9<6,T9<>\"\",U9<>\"\"),ort($T9,$U9,$AY$4:$AZ$5),\"\")","v":""},{"$f":"IF(AND($AA9<6,T9<>\"\",U9<>\"\"),ort($T9,$U9,$AY$6:$AZ$7),\"\")","v":""},{"$f":"IF(AND($AA9=6,T9<>\"\",U9<>\"\"),ort($T9,$U9,$AY$8:$AZ$8),\"\")","v":""},{"$f":"IF(AND($AA9=7,T9<>\"\",U9<>\"\"),ort($T9,$U9,$AY$9:$AZ$9),\"\")","v":""},null,2,"zo/feest",0,1,null,145,"00:30:00",null,"06:32:30"]
[null,null,{"$f":"IF(I9=\"\",\"\",IF(MONTH(I9+1)=MONTH(I9),I9+1,\"\"))","v":"2018-02-26"},{"$f":"IF(C10=\"\",\"\",IF(MONTH(C10+1)=MONTH(C10),C10+1,\"\"))","v":"2018-02-27"},{"$f":"IF(D10=\"\",\"\",IF(MONTH(D10+1)=MONTH(D10),D10+1,\"\"))","v":"2018-02-28"},"","","","","","",{"$f":"DATE($B$3,$B$4,8)","v":"2018-02-08"},{"$f":"DATE($B$3,$B$4,8)","v":"2018-02-08"},0.39583333333333331,"15:10:00",null,null,null,null,null,null,0.2361111111111111,0.2361111111111111,"","","",{"$f":"IF(ISERROR(IF(NOT(ISERROR(MATCH($M10,Blad2!$A$2:$A$11,0))),7,WEEKDAY($M10,2))),\"\",IF(NOT(ISERROR(MATCH($M10,Blad2!$A$2:$A$11,0))),7,WEEKDAY($M10,2)))","v":4},{"$f":"IF(AND($AA10<6,N10<>\"\",O10<>\"\"),ort($N10,$O10,$AY$3:$AZ$3),\"\")","v":0.2361111111111111},{"$f":"IF(AND($AA10<6,N10<>\"\",O10<>\"\"),ort($N10,$O10,$AY$4:$AZ$5),\"\")","v":""},{"$f":"IF(AND($AA10<6,N10<>\"\",O10<>\"\"),ort($N10,$O10,$AY$6:$AZ$7),\"\")","v":""},{"$f":"IF(AND($AA10=6,N10<>\"\",O10<>\"\"),ort($N10,$O10,$AY$8:$AZ$8),\"\")","v":""},{"$f":"IF(AND($AA10=7,N10<>\"\",O10<>\"\"),ort($N10,$O10,$AY$9:$AZ$9),\"\")","v":""},{"$f":"IF(AND($AA10<6,P10<>\"\",Q10<>\"\"),ort($P10,$Q10,$AY$3:$AZ$3),\"\")","v":""},{"$f":"IF(AND($AA10<6,P10<>\"\",Q10<>\"\"),ort($P10,$Q10,$AY$4:$AZ$5),\"\")","v":""},{"$f":"IF(AND($AA10<6,P10<>\"\",Q10<>\"\"),ort($P10,$Q10,$AY$6:$AZ$7),\"\")","v":""},{"$f":"IF(AND($AA10=6,P10<>\"\",Q10<>\"\"),ort($P10,$Q10,$AY$8:$AZ$8),\"\")","v":""},{"$f":"IF(AND($AA10=7,P10<>\"\",Q10<>\"\"),ort($P10,$Q10,$AY$9:$AZ$9),\"\")","v":""},{"$f":"IF(AND($AA10<6,R10<>\"\",S10<>\"\"),ort($R10,$S10,$AY$3:$AZ$3),\"\")","v":""},{"$f":"IF(AND($AA10<6,R10<>\"\",S10<>\"\"),ort($R10,$S10,$AY$4:$AZ$5),\"\")","v":""},{"$f":"IF(AND($AA10<6,R10<>\"\",S10<>\"\"),ort($R10,$S10,$AY$6:$AZ$7),\"\")","v":""},{"$f":"IF(AND($AA10=6,R10<>\"\",S10<>\"\"),ort($R10,$S10,$AY$8:$AZ$8),\"\")","v":""},{"$f":"IF(AND($AA10=7,R10<>\"\",S10<>\"\"),ort($R10,$S10,$AY$9:$AZ$9),\"\")","v":""},{"$f":"IF(AND($AA10<6,T10<>\"\",U10<>\"\"),ort($T10,$U10,$AY$3:$AZ$3),\"\")","v":""},{"$f":"IF(AND($AA10<6,T10<>\"\",U10<>\"\"),ort($T10,$U10,$AY$4:$AZ$5),\"\")","v":""},{"$f":"IF(AND($AA10<6,T10<>\"\",U10<>\"\"),ort($T10,$U10,$AY$6:$AZ$7),\"\")","v":""},{"$f":"IF(AND($AA10=6,T10<>\"\",U10<>\"\"),ort($T10,$U10,$AY$8:$AZ$8),\"\")","v":""},{"$f":"IF(AND($AA10=7,T10<>\"\",U10<>\"\"),ort($T10,$U10,$AY$9:$AZ$9),\"\")","v":""},null,null,null,null,null,null,124,"00:30:00",null,"05:40:00"]
[null,null,{"$f":"IF(I10=\"\",\"\",IF(MONTH(I10+1)=MONTH(I10),I10+1,\"\"))","v":""},{"$f":"IF(C11=\"\",\"\",IF(MONTH(C11+1)=MONTH(C11),C11+1,\"\"))","v":""},"","","","","","","",{"$f":"DATE($B$3,$B$4,9)","v":"2018-02-09"},{"$f":"DATE($B$3,$B$4,9)","v":"2018-02-09"},0.45833333333333331,"15:07:30",null,null,null,null,null,null,0.17187499999999994,0.17187499999999994,"","","",{"$f":"IF(ISERROR(IF(NOT(ISERROR(MATCH($M11,Blad2!$A$2:$A$11,0))),7,WEEKDAY($M11,2))),\"\",IF(NOT(ISERROR(MATCH($M11,Blad2!$A$2:$A$11,0))),7,WEEKDAY($M11,2)))","v":5},{"$f":"IF(AND($AA11<6,N11<>\"\",O11<>\"\"),ort($N11,$O11,$AY$3:$AZ$3),\"\")","v":0.17187499999999994},{"$f":"IF(AND($AA11<6,N11<>\"\",O11<>\"\"),ort($N11,$O11,$AY$4:$AZ$5),\"\")","v":""},{"$f":"IF(AND($AA11<6,N11<>\"\",O11<>\"\"),ort($N11,$O11,$AY$6:$AZ$7),\"\")","v":""},{"$f":"IF(AND($AA11=6,N11<>\"\",O11<>\"\"),ort($N11,$O11,$AY$8:$AZ$8),\"\")","v":""},{"$f":"IF(AND($AA11=7,N11<>\"\",O11<>\"\"),ort($N11,$O11,$AY$9:$AZ$9),\"\")","v":""},{"$f":"IF(AND($AA11<6,P11<>\"\",Q11<>\"\"),ort($P11,$Q11,$AY$3:$AZ$3),\"\")","v":""},{"$f":"IF(AND($AA11<6,P11<>\"\",Q11<>\"\"),ort($P11,$Q11,$AY$4:$AZ$5),\"\")","v":""},{"$f":"IF(AND($AA11<6,P11<>\"\",Q11<>\"\"),ort($P11,$Q11,$AY$6:$AZ$7),\"\")","v":""},{"$f":"IF(AND($AA11=6,P11<>\"\",Q11<>\"\"),ort($P11,$Q11,$AY$8:$AZ$8),\"\")","v":""},{"$f":"IF(AND($AA11=7,P11<>\"\",Q11<>\"\"),ort($P11,$Q11,$AY$9:$AZ$9),\"\")","v":""},{"$f":"IF(AND($AA11<6,R11<>\"\",S11<>\"\"),ort($R11,$S11,$AY$3:$AZ$3),\"\")","v":""},{"$f":"IF(AND($AA11<6,R11<>\"\",S11<>\"\"),ort($R11,$S11,$AY$4:$AZ$5),\"\")","v":""},{"$f":"IF(AND($AA11<6,R11<>\"\",S11<>\"\"),ort($R11,$S11,$AY$6:$AZ$7),\"\")","v":""},{"$f":"IF(AND($AA11=6,R11<>\"\",S11<>\"\"),ort($R11,$S11,$AY$8:$AZ$8),\"\")","v":""},{"$f":"IF(AND($AA11=7,R11<>\"\",S11<>\"\"),ort($R11,$S11,$AY$9:$AZ$9),\"\")","v":""},{"$f":"IF(AND($AA11<6,T11<>\"\",U11<>\"\"),ort($T11,$U11,$AY$3:$AZ$3),\"\")","v":""},{"$f":"IF(AND($AA11<6,T11<>\"\",U11<>\"\"),ort($T11,$U11,$AY$4:$AZ$5),\"\")","v":""},{"$f":"IF(AND($AA11<6,T11<>\"\",U11<>\"\"),ort($T11,$U11,$AY$6:$AZ$7),\"\")","v":""},{"$f":"IF(AND($AA11=6,T11<>\"\",U11<>\"\"),ort($T11,$U11,$AY$8:$AZ$8),\"\")","v":""},{"$f":"IF(AND($AA11=7,T11<>\"\",U11<>\"\"),ort($T11,$U11,$AY$9:$AZ$9),\"\")","v":""},null,null,null,null,null,null,87,"00:30:00",null,"04:07:30"]
[null,null,null,null,null,null,null,null,null,"","",{"$f":"DATE($B$3,$B$4,10)","v":"2018-02-10"},{"$f":"DATE($B$3,$B$4,10)","v":"2018-02-10"},null,"00:00:00",null,null,null,null,null,null,"","","","","",{"$f":"IF(ISERROR(IF(NOT(ISERROR(MATCH($M12,Blad2!$A$2:$A$11,0))),7,WEEKDAY($M12,2))),\"\",IF(NOT(ISERROR(MATCH($M12,Blad2!$A$2:$A$11,0))),7,WEEKDAY($M12,2)))","v":6},{"$f":"IF(AND($AA12<6,N12<>\"\",O12<>\"\"),ort($N12,$O12,$AY$3:$AZ$3),\"\")","v":""},{"$f":"IF(AND($AA12<6,N12<>\"\",O12<>\"\"),ort($N12,$O12,$AY$4:$AZ$5),\"\")","v":""},{"$f":"IF(AND($AA12<6,N12<>\"\",O12<>\"\"),ort($N12,$O12,$AY$6:$AZ$7),\"\")","v":""},{"$f":"IF(AND($AA12=6,N12<>\"\",O12<>\"\"),ort($N12,$O12,$AY$8:$AZ$8),\"\")","v":""},{"$f":"IF(AND($AA12=7,N12<>\"\",O12<>\"\"),ort($N12,$O12,$AY$9:$AZ$9),\"\")","v":""},{"$f":"IF(AND($AA12<6,P12<>\"\",Q12<>\"\"),ort($P12,$Q12,$AY$3:$AZ$3),\"\")","v":""},{"$f":"IF(AND($AA12<6,P12<>\"\",Q12<>\"\"),ort($P12,$Q12,$AY$4:$AZ$5),\"\")","v":""},{"$f":"IF(AND($AA12<6,P12<>\"\",Q12<>\"\"),ort($P12,$Q12,$AY$6:$AZ$7),\"\")","v":""},{"$f":"IF(AND($AA12=6,P12<>\"\",Q12<>\"\"),ort($P12,$Q12,$AY$8:$AZ$8),\"\")","v":""},{"$f":"IF(AND($AA12=7,P12<>\"\",Q12<>\"\"),ort($P12,$Q12,$AY$9:$AZ$9),\"\")","v":""},{"$f":"IF(AND($AA12<6,R12<>\"\",S12<>\"\"),ort($R12,$S12,$AY$3:$AZ$3),\"\")","v":""},{"$f":"IF(AND($AA12<6,R12<>\"\",S12<>\"\"),ort($R12,$S12,$AY$4:$AZ$5),\"\")","v":""},{"$f":"IF(AND($AA12<6,R12<>\"\",S12<>\"\"),ort($R12,$S12,$AY$6:$AZ$7),\"\")","v":""},{"$f":"IF(AND($AA12=6,R12<>\"\",S12<>\"\"),ort($R12,$S12,$AY$8:$AZ$8),\"\")","v":""},{"$f":"IF(AND($AA12=7,R12<>\"\",S12<>\"\"),ort($R12,$S12,$AY$9:$AZ$9),\"\")","v":""},{"$f":"IF(AND($AA12<6,T12<>\"\",U12<>\"\"),ort($T12,$U12,$AY$3:$AZ$3),\"\")","v":""},{"$f":"IF(AND($AA12<6,T12<>\"\",U12<>\"\"),ort($T12,$U12,$AY$4:$AZ$5),\"\")","v":""},{"$f":"IF(AND($AA12<6,T12<>\"\",U12<>\"\"),ort($T12,$U12,$AY$6:$AZ$7),\"\")","v":""},{"$f":"IF(AND($AA12=6,T12<>\"\",U12<>\"\"),ort($T12,$U12,$AY$8:$AZ$8),\"\")","v":""},{"$f":"IF(AND($AA12=7,T12<>\"\",U12<>\"\"),ort($T12,$U12,$AY$9:$AZ$9),\"\")","v":""},null,null,null,null,null,null,null,null,null,"00:00:00"]
[null,"Werkdagen deze maand",null,null,null,null,null,null,null,"","",{"$f":"DATE($B$3,$B$4,11)","v":"2018-02-11"},{"$f":"DATE($B$3,$B$4,11)","v":"2018-02-11"},null,"00:00:00",null,null,null,null,null,null,"","","","","",{"$f":"IF(ISERROR(IF(NOT(ISERROR(MATCH($M13,Blad2!$A$2:$A$11,0))),7,WEEKDAY($M13,2))),\"\",IF(NOT(ISERROR(MATCH($M13,Blad2!$A$2:$A$11,0))),7,WEEKDAY($M13,2)))","v":7},{"$f":"IF(AND($AA13<6,N13<>\"\",O13<>\"\"),ort($N13,$O13,$AY$3:$AZ$3),\"\")","v":""},{"$f":"IF(AND($AA13<6,N13<>\"\",O13<>\"\"),ort($N13,$O13,$AY$4:$AZ$5),\"\")","v":""},{"$f":"IF(AND($AA13<6,N13<>\"\",O13<>\"\"),ort($N13,$O13,$AY$6:$AZ$7),\"\")","v":""},{"$f":"IF(AND($AA13=6,N13<>\"\",O13<>\"\"),ort($N13,$O13,$AY$8:$AZ$8),\"\")","v":""},{"$f":"IF(AND($AA13=7,N13<>\"\",O13<>\"\"),ort($N13,$O13,$AY$9:$AZ$9),\"\")","v":""},{"$f":"IF(AND($AA13<6,P13<>\"\",Q13<>\"\"),ort($P13,$Q13,$AY$3:$AZ$3),\"\")","v":""},{"$f":"IF(AND($AA13<6,P13<>\"\",Q13<>\"\"),ort($P13,$Q13,$AY$4:$AZ$5),\"\")","v":""},{"$f":"IF(AND($AA13<6,P13<>\"\",Q13<>\"\"),ort($P13,$Q13,$AY$6:$AZ$7),\"\")","v":""},{"$f":"IF(AND($AA13=6,P13<>\"\",Q13<>\"\"),ort($P13,$Q13,$AY$8:$AZ$8),\"\")","v":""},{"$f":"IF(AND($AA13=7,P13<>\"\",Q13<>\"\"),ort($P13,$Q13,$AY$9:$AZ$9),\"\")","v":""},{"$f":"IF(AND($AA13<6,R13<>\"\",S13<>\"\"),ort($R13,$S13,$AY$3:$AZ$3),\"\")","v":""},{"$f":"IF(AND($AA13<6,R13<>\"\",S13<>\"\"),ort($R13,$S13,$AY$4:$AZ$5),\"\")","v":""},{"$f":"IF(AND($AA13<6,R13<>\"\",S13<>\"\"),ort($R13,$S13,$AY$6:$AZ$7),\"\")","v":""},{"$f":"IF(AND($AA13=6,R13<>\"\",S13<>\"\"),ort($R13,$S13,$AY$8:$AZ$8),\"\")","v":""},{"$f":"IF(AND($AA13=7,R13<>\"\",S13<>\"\"),ort($R13,$S13,$AY$9:$AZ$9),\"\")","v":""},{"$f":"IF(AND($AA13<6,T13<>\"\",U13<>\"\"),ort($T13,$U13,$AY$3:$AZ$3),\"\")","v":""},{"$f":"IF(AND($AA13<6,T13<>\"\",U13<>\"\"),ort($T13,$U13,$AY$4:$AZ$5),\"\")","v":""},{"$f":"IF(AND($AA13<6,T13<>\"\",U13<>\"\"),ort($T13,$U13,$AY$6:$AZ$7),\"\")","v":""},{"$f":"IF(AND($AA13=6,T13<>\"\",U13<>\"\"),ort($T13,$U13,$AY$8:$AZ$8),\"\")","v":""},{"$f":"IF(AND($AA13=7,T13<>\"\",U13<>\"\"),ort($T13,$U13,$AY$9:$AZ$9),\"\")","v":""},null,null,null,null,null,null,null,null,null,"00:00:00"]
[null,{"$f":"NETWORKDAYS($L$3,EOMONTH($L$3,0),Blad2!A2:A97)&\" dagen\"","v":"20 dagen"},null,null,null,null,null,null,null,"",7,{"$f":"DATE($B$3,$B$4,12)","v":"2018-02-12"},{"$f":"DATE($B$3,$B$4,12)","v":"2018-02-12"},0.39583333333333331,"09:30:00",null,null,null,null,null,null,"","","","","",{"$f":"IF(ISERROR(IF(NOT(ISERROR(MATCH($M14,Blad2!$A$2:$A$11,0))),7,WEEKDAY($M14,2))),\"\",IF(NOT(ISERROR(MATCH($M14,Blad2!$A$2:$A$11,0))),7,WEEKDAY($M14,2)))","v":1},{"$f":"IF(AND($AA14<6,N14<>\"\",O14<>\"\"),ort($N14,$O14,$AY$3:$AZ$3),\"\")","v":""},{"$f":"IF(AND($AA14<6,N14<>\"\",O14<>\"\"),ort($N14,$O14,$AY$4:$AZ$5),\"\")","v":""},{"$f":"IF(AND($AA14<6,N14<>\"\",O14<>\"\"),ort($N14,$O14,$AY$6:$AZ$7),\"\")","v":""},{"$f":"IF(AND($AA14=6,N14<>\"\",O14<>\"\"),ort($N14,$O14,$AY$8:$AZ$8),\"\")","v":""},{"$f":"IF(AND($AA14=7,N14<>\"\",O14<>\"\"),ort($N14,$O14,$AY$9:$AZ$9),\"\")","v":""},{"$f":"IF(AND($AA14<6,P14<>\"\",Q14<>\"\"),ort($P14,$Q14,$AY$3:$AZ$3),\"\")","v":""},{"$f":"IF(AND($AA14<6,P14<>\"\",Q14<>\"\"),ort($P14,$Q14,$AY$4:$AZ$5),\"\")","v":""},{"$f":"IF(AND($AA14<6,P14<>\"\",Q14<>\"\"),ort($P14,$Q14,$AY$6:$AZ$7),\"\")","v":""},{"$f":"IF(AND($AA14=6,P14<>\"\",Q14<>\"\"),ort($P14,$Q14,$AY$8:$AZ$8),\"\")","v":""},{"$f":"IF(AND($AA14=7,P14<>\"\",Q14<>\"\"),ort($P14,$Q14,$AY$9:$AZ$9),\"\")","v":""},{"$f":"IF(AND($AA14<6,R14<>\"\",S14<>\"\"),ort($R14,$S14,$AY$3:$AZ$3),\"\")","v":""},{"$f":"IF(AND($AA14<6,R14<>\"\",S14<>\"\"),ort($R14,$S14,$AY$4:$AZ$5),\"\")","v":""},{"$f":"IF(AND($AA14<6,R14<>\"\",S14<>\"\"),ort($R14,$S14,$AY$6:$AZ$7),\"\")","v":""},{"$f":"IF(AND($AA14=6,R14<>\"\",S14<>\"\"),ort($R14,$S14,$AY$8:$AZ$8),\"\")","v":""},{"$f":"IF(AND($AA14=7,R14<>\"\",S14<>\"\"),ort($R14,$S14,$AY$9:$AZ$9),\"\")","v":""},{"$f":"IF(AND($AA14<6,T14<>\"\",U14<>\"\"),ort($T14,$U14,$AY$3:$AZ$3),\"\")","v":""},{"$f":"IF(AND($AA14<6,T14<>\"\",U14<>\"\"),ort($T14,$U14,$AY$4:$AZ$5),\"\")","v":""},{"$f":"IF(AND($AA14<6,T14<>\"\",U14<>\"\"),ort($T14,$U14,$AY$6:$AZ$7),\"\")","v":""},{"$f":"IF(AND($AA14=6,T14<>\"\",U14<>\"\"),ort($T14,$U14,$AY$8:$AZ$8),\"\")","v":""},{"$f":"IF(AND($AA14=7,T14<>\"\",U14<>\"\"),ort($T14,$U14,$AY$9:$AZ$9),\"\")","v":""},null,null,null,null,null,null,null,null,null,"00:00:00"]
[null,null,null,null,null,null,null,null,null,"","",{"$f":"DATE($B$3,$B$4,13)","v":"2018-02-13"},{"$f":"DATE($B$3,$B$4,13)","v":"2018-02-13"},0.39583333333333331,"15:12:30",null,null,null,null,null,null,0.23784722222222227,0.23784722222222227,"","","",{"$f":"IF(ISERROR(IF(NOT(ISERROR(MATCH($M15,Blad2!$A$2:$A$11,0))),7,WEEKDAY($M15,2))),\"\",IF(NOT(ISERROR(MATCH($M15,Blad2!$A$2:$A$11,0))),7,WEEKDAY($M15,2)))","v":2},{"$f":"IF(AND($AA15<6,N15<>\"\",O15<>\"\"),ort($N15,$O15,$AY$3:$AZ$3),\"\")","v":0.23784722222222227},{"$f":"IF(AND($AA15<6,N15<>\"\",O15<>\"\"),ort($N15,$O15,$AY$4:$AZ$5),\"\")","v":""},{"$f":"IF(AND($AA15<6,N15<>\"\",O15<>\"\"),ort($N15,$O15,$AY$6:$AZ$7),\"\")","v":""},{"$f":"IF(AND($AA15=6,N15<>\"\",O15<>\"\"),ort($N15,$O15,$AY$8:$AZ$8),\"\")","v":""},{"$f":"IF(AND($AA15=7,N15<>\"\",O15<>\"\"),ort($N15,$O15,$AY$9:$AZ$9),\"\")","v":""},{"$f":"IF(AND($AA15<6,P15<>\"\",Q15<>\"\"),ort($P15,$Q15,$AY$3:$AZ$3),\"\")","v":""},{"$f":"IF(AND($AA15<6,P15<>\"\",Q15<>\"\"),ort($P15,$Q15,$AY$4:$AZ$5),\"\")","v":""},{"$f":"IF(AND($AA15<6,P15<>\"\",Q15<>\"\"),ort($P15,$Q15,$AY$6:$AZ$7),\"\")","v":""},{"$f":"IF(AND($AA15=6,P15<>\"\",Q15<>\"\"),ort($P15,$Q15,$AY$8:$AZ$8),\"\")","v":""},{"$f":"IF(AND($AA15=7,P15<>\"\",Q15<>\"\"),ort($P15,$Q15,$AY$9:$AZ$9),\"\")","v":""},{"$f":"IF(AND($AA15<6,R15<>\"\",S15<>\"\"),ort($R15,$S15,$AY$3:$AZ$3),\"\")","v":""},{"$f":"IF(AND($AA15<6,R15<>\"\",S15<>\"\"),ort($R15,$S15,$AY$4:$AZ$5),\"\")","v":""},{"$f":"IF(AND($AA15<6,R15<>\"\",S15<>\"\"),ort($R15,$S15,$AY$6:$AZ$7),\"\")","v":""},{"$f":"IF(AND($AA15=6,R15<>\"\",S15<>\"\"),ort($R15,$S15,$AY$8:$AZ$8),\"\")","v":""},{"$f":"IF(AND($AA15=7,R15<>\"\",S15<>\"\"),ort($R15,$S15,$AY$9:$AZ$9),\"\")","v":""},{"$f":"IF(AND($AA15<6,T15<>\"\",U15<>\"\"),ort($T15,$U15,$AY$3:$AZ$3),\"\")","v":""},{"$f":"IF(AND($AA15<6,T15<>\"\",U15<>\"\"),ort($T15,$U15,$AY$4:$AZ$5),\"\")","v":""},{"$f":"IF(AND($AA15<6,T15<>\"\",U15<>\"\"),ort($T15,$U15,$AY$6:$AZ$7),\"\")","v":""},{"$f":"IF(AND($AA15=6,T15<>\"\",U15<>\"\"),ort($T15,$U15,$AY$8:$AZ$8),\"\")","v":""},{"$f":"IF(AND($AA15=7,T15<>\"\",U15<>\"\"),ort($T15,$U15,$AY$9:$AZ$9),\"\")","v":""},null,null,null,null,null,null,125,"00:30:00",null,"05:42:30"]
[null,"Contract Uren",null,null,null,null,null,null,null,"","",{"$f":"DATE($B$3,$B$4,14)","v":"2018-02-14"},{"$f":"DATE($B$3,$B$4,14)","v":"2018-02-14"},0.39583333333333331,"14:50:00",null,null,null,null,null,null,0.22222222222222227,0.22222222222222227,"","","",{"$f":"IF(ISERROR(IF(NOT(ISERROR(MATCH($M16,Blad2!$A$2:$A$11,0))),7,WEEKDAY($M16,2))),\"\",IF(NOT(ISERROR(MATCH($M16,Blad2!$A$2:$A$11,0))),7,WEEKDAY($M16,2)))","v":3},{"$f":"IF(AND($AA16<6,N16<>\"\",O16<>\"\"),ort($N16,$O16,$AY$3:$AZ$3),\"\")","v":0.22222222222222227},{"$f":"IF(AND($AA16<6,N16<>\"\",O16<>\"\"),ort($N16,$O16,$AY$4:$AZ$5),\"\")","v":""},{"$f":"IF(AND($AA16<6,N16<>\"\",O16<>\"\"),ort($N16,$O16,$AY$6:$AZ$7),\"\")","v":""},{"$f":"IF(AND($AA16=6,N16<>\"\",O16<>\"\"),ort($N16,$O16,$AY$8:$AZ$8),\"\")","v":""},{"$f":"IF(AND($AA16=7,N16<>\"\",O16<>\"\"),ort($N16,$O16,$AY$9:$AZ$9),\"\")","v":""},{"$f":"IF(AND($AA16<6,P16<>\"\",Q16<>\"\"),ort($P16,$Q16,$AY$3:$AZ$3),\"\")","v":""},{"$f":"IF(AND($AA16<6,P16<>\"\",Q16<>\"\"),ort($P16,$Q16,$AY$4:$AZ$5),\"\")","v":""},{"$f":"IF(AND($AA16<6,P16<>\"\",Q16<>\"\"),ort($P16,$Q16,$AY$6:$AZ$7),\"\")","v":""},{"$f":"IF(AND($AA16=6,P16<>\"\",Q16<>\"\"),ort($P16,$Q16,$AY$8:$AZ$8),\"\")","v":""},{"$f":"IF(AND($AA16=7,P16<>\"\",Q16<>\"\"),ort($P16,$Q16,$AY$9:$AZ$9),\"\")","v":""},{"$f":"IF(AND($AA16<6,R16<>\"\",S16<>\"\"),ort($R16,$S16,$AY$3:$AZ$3),\"\")","v":""},{"$f":"IF(AND($AA16<6,R16<>\"\",S16<>\"\"),ort($R16,$S16,$AY$4:$AZ$5),\"\")","v":""},{"$f":"IF(AND($AA16<6,R16<>\"\",S16<>\"\"),ort($R16,$S16,$AY$6:$AZ$7),\"\")","v":""},{"$f":"IF(AND($AA16=6,R16<>\"\",S16<>\"\"),ort($R16,$S16,$AY$8:$AZ$8),\"\")","v":""},{"$f":"IF(AND($AA16=7,R16<>\"\",S16<>\"\"),ort($R16,$S16,$AY$9:$AZ$9),\"\")","v":""},{"$f":"IF(AND($AA16<6,T16<>\"\",U16<>\"\"),ort($T16,$U16,$AY$3:$AZ$3),\"\")","v":""},{"$f":"IF(AND($AA16<6,T16<>\"\",U16<>\"\"),ort($T16,$U16,$AY$4:$AZ$5),\"\")","v":""},{"$f":"IF(AND($AA16<6,T16<>\"\",U16<>\"\"),ort($T16,$U16,$AY$6:$AZ$7),\"\")","v":""},{"$f":"IF(AND($AA16=6,T16<>\"\",U16<>\"\"),ort($T16,$U16,$AY$8:$AZ$8),\"\")","v":""},{"$f":"IF(AND($AA16=7,T16<>\"\",U16<>\"\"),ort($T16,$U16,$AY$9:$AZ$9),\"\")","v":""},null,null,null,null,null,null,116,"00:30:00",null,"05:20:00"]
[null,3.75,null,null,null,null,null,null,null,"","",{"$f":"DATE($B$3,$B$4,15)","v":"2018-02-15"},{"$f":"DATE($B$3,$B$4,15)","v":"2018-02-15"},0.39583333333333331,"15:22:30",null,null,null,null,null,null,0.24479166666666669,0.24479166666666669,"","","",{"$f":"IF(ISERROR(IF(NOT(ISERROR(MATCH($M17,Blad2!$A$2:$A$11,0))),7,WEEKDAY($M17,2))),\"\",IF(NOT(ISERROR(MATCH($M17,Blad2!$A$2:$A$11,0))),7,WEEKDAY($M17,2)))","v":4},{"$f":"IF(AND($AA17<6,N17<>\"\",O17<>\"\"),ort($N17,$O17,$AY$3:$AZ$3),\"\")","v":0.24479166666666669},{"$f":"IF(AND($AA17<6,N17<>\"\",O17<>\"\"),ort($N17,$O17,$AY$4:$AZ$5),\"\")","v":""},{"$f":"IF(AND($AA17<6,N17<>\"\",O17<>\"\"),ort($N17,$O17,$AY$6:$AZ$7),\"\")","v":""},{"$f":"IF(AND($AA17=6,N17<>\"\",O17<>\"\"),ort($N17,$O17,$AY$8:$AZ$8),\"\")","v":""},{"$f":"IF(AND($AA17=7,N17<>\"\",O17<>\"\"),ort($N17,$O17,$AY$9:$AZ$9),\"\")","v":""},{"$f":"IF(AND($AA17<6,P17<>\"\",Q17<>\"\"),ort($P17,$Q17,$AY$3:$AZ$3),\"\")","v":""},{"$f":"IF(AND($AA17<6,P17<>\"\",Q17<>\"\"),ort($P17,$Q17,$AY$4:$AZ$5),\"\")","v":""},{"$f":"IF(AND($AA17<6,P17<>\"\",Q17<>\"\"),ort($P17,$Q17,$AY$6:$AZ$7),\"\")","v":""},{"$f":"IF(AND($AA17=6,P17<>\"\",Q17<>\"\"),ort($P17,$Q17,$AY$8:$AZ$8),\"\")","v":""},{"$f":"IF(AND($AA17=7,P17<>\"\",Q17<>\"\"),ort($P17,$Q17,$AY$9:$AZ$9),\"\")","v":""},{"$f":"IF(AND($AA17<6,R17<>\"\",S17<>\"\"),ort($R17,$S17,$AY$3:$AZ$3),\"\")","v":""},{"$f":"IF(AND($AA17<6,R17<>\"\",S17<>\"\"),ort($R17,$S17,$AY$4:$AZ$5),\"\")","v":""},{"$f":"IF(AND($AA17<6,R17<>\"\",S17<>\"\"),ort($R17,$S17,$AY$6:$AZ$7),\"\")","v":""},{"$f":"IF(AND($AA17=6,R17<>\"\",S17<>\"\"),ort($R17,$S17,$AY$8:$AZ$8),\"\")","v":""},{"$f":"IF(AND($AA17=7,R17<>\"\",S17<>\"\"),ort($R17,$S17,$AY$9:$AZ$9),\"\")","v":""},{"$f":"IF(AND($AA17<6,T17<>\"\",U17<>\"\"),ort($T17,$U17,$AY$3:$AZ$3),\"\")","v":""},{"$f":"IF(AND($AA17<6,T17<>\"\",U17<>\"\"),ort($T17,$U17,$AY$4:$AZ$5),\"\")","v":""},{"$f":"IF(AND($AA17<6,T17<>\"\",U17<>\"\"),ort($T17,$U17,$AY$6:$AZ$7),\"\")","v":""},{"$f":"IF(AND($AA17=6,T17<>\"\",U17<>\"\"),ort($T17,$U17,$AY$8:$AZ$8),\"\")","v":""},{"$f":"IF(AND($AA17=7,T17<>\"\",U17<>\"\"),ort($T17,$U17,$AY$9:$AZ$9),\"\")","v":""},null,null,null,null,null,null,129,"00:30:00",null,"05:52:30"]
[null,null,null,null,null,null,null,null,null,"","",{"$f":"DATE($B$3,$B$4,16)","v":"2018-02-16"},{"$f":"DATE($B$3,$B$4,16)","v":"2018-02-16"},0.45833333333333331,"15:40:00",null,null,null,null,null,null,0.19444444444444448,0.19444444444444448,"","","",{"$f":"IF(ISERROR(IF(NOT(ISERROR(MATCH($M18,Blad2!$A$2:$A$11,0))),7,WEEKDAY($M18,2))),\"\",IF(NOT(ISERROR(MATCH($M18,Blad2!$A$2:$A$11,0))),7,WEEKDAY($M18,2)))","v":5},{"$f":"IF(AND($AA18<6,N18<>\"\",O18<>\"\"),ort($N18,$O18,$AY$3:$AZ$3),\"\")","v":0.19444444444444448},{"$f":"IF(AND($AA18<6,N18<>\"\",O18<>\"\"),ort($N18,$O18,$AY$4:$AZ$5),\"\")","v":""},{"$f":"IF(AND($AA18<6,N18<>\"\",O18<>\"\"),ort($N18,$O18,$AY$6:$AZ$7),\"\")","v":""},{"$f":"IF(AND($AA18=6,N18<>\"\",O18<>\"\"),ort($N18,$O18,$AY$8:$AZ$8),\"\")","v":""},{"$f":"IF(AND($AA18=7,N18<>\"\",O18<>\"\"),ort($N18,$O18,$AY$9:$AZ$9),\"\")","v":""},{"$f":"IF(AND($AA18<6,P18<>\"\",Q18<>\"\"),ort($P18,$Q18,$AY$3:$AZ$3),\"\")","v":""},{"$f":"IF(AND($AA18<6,P18<>\"\",Q18<>\"\"),ort($P18,$Q18,$AY$4:$AZ$5),\"\")","v":""},{"$f":"IF(AND($AA18<6,P18<>\"\",Q18<>\"\"),ort($P18,$Q18,$AY$6:$AZ$7),\"\")","v":""},{"$f":"IF(AND($AA18=6,P18<>\"\",Q18<>\"\"),ort($P18,$Q18,$AY$8:$AZ$8),\"\")","v":""},{"$f":"IF(AND($AA18=7,P18<>\"\",Q18<>\"\"),ort($P18,$Q18,$AY$9:$AZ$9),\"\")","v":""},{"$f":"IF(AND($AA18<6,R18<>\"\",S18<>\"\"),ort($R18,$S18,$AY$3:$AZ$3),\"\")","v":""},{"$f":"IF(AND($AA18<6,R18<>\"\",S18<>\"\"),ort($R18,$S18,$AY$4:$AZ$5),\"\")","v":""},{"$f":"IF(AND($AA18<6,R18<>\"\",S18<>\"\"),ort($R18,$S18,$AY$6:$AZ$7),\"\")","v":""},{"$f":"IF(AND($AA18=6,R18<>\"\",S18<>\"\"),ort($R18,$S18,$AY$8:$AZ$8),\"\")","v":""},{"$f":"IF(AND($AA18=7,R18<>\"\",S18<>\"\"),ort($R18,$S18,$AY$9:$AZ$9),\"\")","v":""},{"$f":"IF(AND($AA18<6,T18<>\"\",U18<>\"\"),ort($T18,$U18,$AY$3:$AZ$3),\"\")","v":""},{"$f":"IF(AND($AA18<6,T18<>\"\",U18<>\"\"),ort($T18,$U18,$AY$4:$AZ$5),\"\")","v":""},{"$f":"IF(AND($AA18<6,T18<>\"\",U18<>\"\"),ort($T18,$U18,$AY$6:$AZ$7),\"\")","v":""},{"$f":"IF(AND($AA18=6,T18<>\"\",U18<>\"\"),ort($T18,$U18,$AY$8:$AZ$8),\"\")","v":""},{"$f":"IF(AND($AA18=7,T18<>\"\",U18<>\"\"),ort($T18,$U18,$AY$9:$AZ$9),\"\")","v":""},null,null,null,null,null,null,100,"00:30:00",null,"04:40:00"]
[null,"Gewerkte uren deze maand",null,null,null,null,null,null,null,"","",{"$f":"DATE($B$3,$B$4,17)","v":"2018-02-17"},{"$f":"DATE($B$3,$B$4,17)","v":"2018-02-17"},null,"00:00:00",null,null,null,null,null,null,"","","","","",{"$f":"IF(ISERROR(IF(NOT(ISERROR(MATCH($M19,Blad2!$A$2:$A$11,0))),7,WEEKDAY($M19,2))),\"\",IF(NOT(ISERROR(MATCH($M19,Blad2!$A$2:$A$11,0))),7,WEEKDAY($M19,2)))","v":6},{"$f":"IF(AND($AA19<6,N19<>\"\",O19<>\"\"),ort($N19,$O19,$AY$3:$AZ$3),\"\")","v":""},{"$f":"IF(AND($AA19<6,N19<>\"\",O19<>\"\"),ort($N19,$O19,$AY$4:$AZ$5),\"\")","v":""},{"$f":"IF(AND($AA19<6,N19<>\"\",O19<>\"\"),ort($N19,$O19,$AY$6:$AZ$7),\"\")","v":""},{"$f":"IF(AND($AA19=6,N19<>\"\",O19<>\"\"),ort($N19,$O19,$AY$8:$AZ$8),\"\")","v":""},{"$f":"IF(AND($AA19=7,N19<>\"\",O19<>\"\"),ort($N19,$O19,$AY$9:$AZ$9),\"\")","v":""},{"$f":"IF(AND($AA19<6,P19<>\"\",Q19<>\"\"),ort($P19,$Q19,$AY$3:$AZ$3),\"\")","v":""},{"$f":"IF(AND($AA19<6,P19<>\"\",Q19<>\"\"),ort($P19,$Q19,$AY$4:$AZ$5),\"\")","v":""},{"$f":"IF(AND($AA19<6,P19<>\"\",Q19<>\"\"),ort($P19,$Q19,$AY$6:$AZ$7),\"\")","v":""},{"$f":"IF(AND($AA19=6,P19<>\"\",Q19<>\"\"),ort($P19,$Q19,$AY$8:$AZ$8),\"\")","v":""},{"$f":"IF(AND($AA19=7,P19<>\"\",Q19<>\"\"),ort($P19,$Q19,$AY$9:$AZ$9),\"\")","v":""},{"$f":"IF(AND($AA19<6,R19<>\"\",S19<>\"\"),ort($R19,$S19,$AY$3:$AZ$3),\"\")","v":""},{"$f":"IF(AND($AA19<6,R19<>\"\",S19<>\"\"),ort($R19,$S19,$AY$4:$AZ$5),\"\")","v":""},{"$f":"IF(AND($AA19<6,R19<>\"\",S19<>\"\"),ort($R19,$S19,$AY$6:$AZ$7),\"\")","v":""},{"$f":"IF(AND($AA19=6,R19<>\"\",S19<>\"\"),ort($R19,$S19,$AY$8:$AZ$8),\"\")","v":""},{"$f":"IF(AND($AA19=7,R19<>\"\",S19<>\"\"),ort($R19,$S19,$AY$9:$AZ$9),\"\")","v":""},{"$f":"IF(AND($AA19<6,T19<>\"\",U19<>\"\"),ort($T19,$U19,$AY$3:$AZ$3),\"\")","v":""},{"$f":"IF(AND($AA19<6,T19<>\"\",U19<>\"\"),ort($T19,$U19,$AY$4:$AZ$5),\"\")","v":""},{"$f":"IF(AND($AA19<6,T19<>\"\",U19<>\"\"),ort($T19,$U19,$AY$6:$AZ$7),\"\")","v":""},{"$f":"IF(AND($AA19=6,T19<>\"\",U19<>\"\"),ort($T19,$U19,$AY$8:$AZ$8),\"\")","v":""},{"$f":"IF(AND($AA19=7,T19<>\"\",U19<>\"\"),ort($T19,$U19,$AY$9:$AZ$9),\"\")","v":""},null,null,null,null,null,null,null,null,null,"00:00:00"]
[null,{"$f":"SUM($V$3:$V$33)","v":3.9809027777777777},null,null,null,null,null,null,null,"","",{"$f":"DATE($B$3,$B$4,18)","v":"2018-02-18"},{"$f":"DATE($B$3,$B$4,18)","v":"2018-02-18"},null,"00:00:00",null,null,null,null,null,null,"","","","","",{"$f":"IF(ISERROR(IF(NOT(ISERROR(MATCH($M20,Blad2!$A$2:$A$11,0))),7,WEEKDAY($M20,2))),\"\",IF(NOT(ISERROR(MATCH($M20,Blad2!$A$2:$A$11,0))),7,WEEKDAY($M20,2)))","v":7},{"$f":"IF(AND($AA20<6,N20<>\"\",O20<>\"\"),ort($N20,$O20,$AY$3:$AZ$3),\"\")","v":""},{"$f":"IF(AND($AA20<6,N20<>\"\",O20<>\"\"),ort($N20,$O20,$AY$4:$AZ$5),\"\")","v":""},{"$f":"IF(AND($AA20<6,N20<>\"\",O20<>\"\"),ort($N20,$O20,$AY$6:$AZ$7),\"\")","v":""},{"$f":"IF(AND($AA20=6,N20<>\"\",O20<>\"\"),ort($N20,$O20,$AY$8:$AZ$8),\"\")","v":""},{"$f":"IF(AND($AA20=7,N20<>\"\",O20<>\"\"),ort($N20,$O20,$AY$9:$AZ$9),\"\")","v":""},{"$f":"IF(AND($AA20<6,P20<>\"\",Q20<>\"\"),ort($P20,$Q20,$AY$3:$AZ$3),\"\")","v":""},{"$f":"IF(AND($AA20<6,P20<>\"\",Q20<>\"\"),ort($P20,$Q20,$AY$4:$AZ$5),\"\")","v":""},{"$f":"IF(AND($AA20<6,P20<>\"\",Q20<>\"\"),ort($P20,$Q20,$AY$6:$AZ$7),\"\")","v":""},{"$f":"IF(AND($AA20=6,P20<>\"\",Q20<>\"\"),ort($P20,$Q20,$AY$8:$AZ$8),\"\")","v":""},{"$f":"IF(AND($AA20=7,P20<>\"\",Q20<>\"\"),ort($P20,$Q20,$AY$9:$AZ$9),\"\")","v":""},{"$f":"IF(AND($AA20<6,R20<>\"\",S20<>\"\"),ort($R20,$S20,$AY$3:$AZ$3),\"\")","v":""},{"$f":"IF(AND($AA20<6,R20<>\"\",S20<>\"\"),ort($R20,$S20,$AY$4:$AZ$5),\"\")","v":""},{"$f":"IF(AND($AA20<6,R20<>\"\",S20<>\"\"),ort($R20,$S20,$AY$6:$AZ$7),\"\")","v":""},{"$f":"IF(AND($AA20=6,R20<>\"\",S20<>\"\"),ort($R20,$S20,$AY$8:$AZ$8),\"\")","v":""},{"$f":"IF(AND($AA20=7,R20<>\"\",S20<>\"\"),ort($R20,$S20,$AY$9:$AZ$9),\"\")","v":""},{"$f":"IF(AND($AA20<6,T20<>\"\",U20<>\"\"),ort($T20,$U20,$AY$3:$AZ$3),\"\")","v":""},{"$f":"IF(AND($AA20<6,T20<>\"\",U20<>\"\"),ort($T20,$U20,$AY$4:$AZ$5),\"\")","v":""},{"$f":"IF(AND($AA20<6,T20<>\"\",U20<>\"\"),ort($T20,$U20,$AY$6:$AZ$7),\"\")","v":""},{"$f":"IF(AND($AA20=6,T20<>\"\",U20<>\"\"),ort($T20,$U20,$AY$8:$AZ$8),\"\")","v":""},{"$f":"IF(AND($AA20=7,T20<>\"\",U20<>\"\"),ort($T20,$U20,$AY$9:$AZ$9),\"\")","v":""},null,{"$f":"COUNTA(Blad2!B12:B100)-COUNTIF(Blad2!B12:B100,\"Verlof\")","v":0},"  Aantal opgenomen ATV-dagen",null,null,null,null,null,null,"00:00:00"]
[null,null,null,null,null,null,null,null,null,"",8,{"$f":"DATE($B$3,$B$4,19)","v":"2018-02-19"},{"$f":"DATE($B$3,$B$4,19)","v":"2018-02-19"},0.39583333333333331,"09:30:00",null,null,null,null,null,null,"","","","","",{"$f":"IF(ISERROR(IF(NOT(ISERROR(MATCH($M21,Blad2!$A$2:$A$11,0))),7,WEEKDAY($M21,2))),\"\",IF(NOT(ISERROR(MATCH($M21,Blad2!$A$2:$A$11,0))),7,WEEKDAY($M21,2)))","v":1},{"$f":"IF(AND($AA21<6,N21<>\"\",O21<>\"\"),ort($N21,$O21,$AY$3:$AZ$3),\"\")","v":""},{"$f":"IF(AND($AA21<6,N21<>\"\",O21<>\"\"),ort($N21,$O21,$AY$4:$AZ$5),\"\")","v":""},{"$f":"IF(AND($AA21<6,N21<>\"\",O21<>\"\"),ort($N21,$O21,$AY$6:$AZ$7),\"\")","v":""},{"$f":"IF(AND($AA21=6,N21<>\"\",O21<>\"\"),ort($N21,$O21,$AY$8:$AZ$8),\"\")","v":""},{"$f":"IF(AND($AA21=7,N21<>\"\",O21<>\"\"),ort($N21,$O21,$AY$9:$AZ$9),\"\")","v":""},{"$f":"IF(AND($AA21<6,P21<>\"\",Q21<>\"\"),ort($P21,$Q21,$AY$3:$AZ$3),\"\")","v":""},{"$f":"IF(AND($AA21<6,P21<>\"\",Q21<>\"\"),ort($P21,$Q21,$AY$4:$AZ$5),\"\")","v":""},{"$f":"IF(AND($AA21<6,P21<>\"\",Q21<>\"\"),ort($P21,$Q21,$AY$6:$AZ$7),\"\")","v":""},{"$f":"IF(AND($AA21=6,P21<>\"\",Q21<>\"\"),ort($P21,$Q21,$AY$8:$AZ$8),\"\")","v":""},{"$f":"IF(AND($AA21=7,P21<>\"\",Q21<>\"\"),ort($P21,$Q21,$AY$9:$AZ$9),\"\")","v":""},{"$f":"IF(AND($AA21<6,R21<>\"\",S21<>\"\"),ort($R21,$S21,$AY$3:$AZ$3),\"\")","v":""},{"$f":"IF(AND($AA21<6,R21<>\"\",S21<>\"\"),ort($R21,$S21,$AY$4:$AZ$5),\"\")","v":""},{"$f":"IF(AND($AA21<6,R21<>\"\",S21<>\"\"),ort($R21,$S21,$AY$6:$AZ$7),\"\")","v":""},{"$f":"IF(AND($AA21=6,R21<>\"\",S21<>\"\"),ort($R21,$S21,$AY$8:$AZ$8),\"\")","v":""},{"$f":"IF(AND($AA21=7,R21<>\"\",S21<>\"\"),ort($R21,$S21,$AY$9:$AZ$9),\"\")","v":""},{"$f":"IF(AND($AA21<6,T21<>\"\",U21<>\"\"),ort($T21,$U21,$AY$3:$AZ$3),\"\")","v":""},{"$f":"IF(AND($AA21<6,T21<>\"\",U21<>\"\"),ort($T21,$U21,$AY$4:$AZ$5),\"\")","v":""},{"$f":"IF(AND($AA21<6,T21<>\"\",U21<>\"\"),ort($T21,$U21,$AY$6:$AZ$7),\"\")","v":""},{"$f":"IF(AND($AA21=6,T21<>\"\",U21<>\"\"),ort($T21,$U21,$AY$8:$AZ$8),\"\")","v":""},{"$f":"IF(AND($AA21=7,T21<>\"\",U21<>\"\"),ort($T21,$U21,$AY$9:$AZ$9),\"\")","v":""},null,{"$f":"COUNTA(Blad2!B12:B100)-COUNTIF(Blad2!B12:B100,\"ATV\")","v":2},"  Aantal opgenomen verlofdagen",null,null,null,null,null,null,"00:00:00"]
[null,null,null,null,null,null,null,null,null,"","",{"$f":"DATE($B$3,$B$4,20)","v":"2018-02-20"},{"$f":"DATE($B$3,$B$4,20)","v":"2018-02-20"},0.39583333333333331,"14:57:30",null,null,null,null,null,null,0.22743055555555552,0.22743055555555552,"","","",{"$f":"IF(ISERROR(IF(NOT(ISERROR(MATCH($M22,Blad2!$A$2:$A$11,0))),7,WEEKDAY($M22,2))),\"\",IF(NOT(ISERROR(MATCH($M22,Blad2!$A$2:$A$11,0))),7,WEEKDAY($M22,2)))","v":2},{"$f":"IF(AND($AA22<6,N22<>\"\",O22<>\"\"),ort($N22,$O22,$AY$3:$AZ$3),\"\")","v":0.22743055555555552},{"$f":"IF(AND($AA22<6,N22<>\"\",O22<>\"\"),ort($N22,$O22,$AY$4:$AZ$5),\"\")","v":""},{"$f":"IF(AND($AA22<6,N22<>\"\",O22<>\"\"),ort($N22,$O22,$AY$6:$AZ$7),\"\")","v":""},{"$f":"IF(AND($AA22=6,N22<>\"\",O22<>\"\"),ort($N22,$O22,$AY$8:$AZ$8),\"\")","v":""},{"$f":"IF(AND($AA22=7,N22<>\"\",O22<>\"\"),ort($N22,$O22,$AY$9:$AZ$9),\"\")","v":""},{"$f":"IF(AND($AA22<6,P22<>\"\",Q22<>\"\"),ort($P22,$Q22,$AY$3:$AZ$3),\"\")","v":""},{"$f":"IF(AND($AA22<6,P22<>\"\",Q22<>\"\"),ort($P22,$Q22,$AY$4:$AZ$5),\"\")","v":""},{"$f":"IF(AND($AA22<6,P22<>\"\",Q22<>\"\"),ort($P22,$Q22,$AY$6:$AZ$7),\"\")","v":""},{"$f":"IF(AND($AA22=6,P22<>\"\",Q22<>\"\"),ort($P22,$Q22,$AY$8:$AZ$8),\"\")","v":""},{"$f":"IF(AND($AA22=7,P22<>\"\",Q22<>\"\"),ort($P22,$Q22,$AY$9:$AZ$9),\"\")","v":""},{"$f":"IF(AND($AA22<6,R22<>\"\",S22<>\"\"),ort($R22,$S22,$AY$3:$AZ$3),\"\")","v":""},{"$f":"IF(AND($AA22<6,R22<>\"\",S22<>\"\"),ort($R22,$S22,$AY$4:$AZ$5),\"\")","v":""},{"$f":"IF(AND($AA22<6,R22<>\"\",S22<>\"\"),ort($R22,$S22,$AY$6:$AZ$7),\"\")","v":""},{"$f":"IF(AND($AA22=6,R22<>\"\",S22<>\"\"),ort($R22,$S22,$AY$8:$AZ$8),\"\")","v":""},{"$f":"IF(AND($AA22=7,R22<>\"\",S22<>\"\"),ort($R22,$S22,$AY$9:$AZ$9),\"\")","v":""},{"$f":"IF(AND($AA22<6,T22<>\"\",U22<>\"\"),ort($T22,$U22,$AY$3:$AZ$3),\"\")","v":""},{"$f":"IF(AND($AA22<6,T22<>\"\",U22<>\"\"),ort($T22,$U22,$AY$4:$AZ$5),\"\")","v":""},{"$f":"IF(AND($AA22<6,T22<>\"\",U22<>\"\"),ort($T22,$U22,$AY$6:$AZ$7),\"\")","v":""},{"$f":"IF(AND($AA22=6,T22<>\"\",U22<>\"\"),ort($T22,$U22,$AY$8:$AZ$8),\"\")","v":""},{"$f":"IF(AND($AA22=7,T22<>\"\",U22<>\"\"),ort($T22,$U22,$AY$9:$AZ$9),\"\")","v":""},null,null,null,null,null,null,119,"00:30:00",null,"05:27:30"]
[null,null,null,null,null,null,null,null,null,"","",{"$f":"DATE($B$3,$B$4,21)","v":"2018-02-21"},{"$f":"DATE($B$3,$B$4,21)","v":"2018-02-21"},0.39583333333333331,"16:12:30",null,null,null,null,null,null,0.27951388888888878,0.27951388888888878,"","","",{"$f":"IF(ISERROR(IF(NOT(ISERROR(MATCH($M23,Blad2!$A$2:$A$11,0))),7,WEEKDAY($M23,2))),\"\",IF(NOT(ISERROR(MATCH($M23,Blad2!$A$2:$A$11,0))),7,WEEKDAY($M23,2)))","v":3},{"$f":"IF(AND($AA23<6,N23<>\"\",O23<>\"\"),ort($N23,$O23,$AY$3:$AZ$3),\"\")","v":0.27951388888888878},{"$f":"IF(AND($AA23<6,N23<>\"\",O23<>\"\"),ort($N23,$O23,$AY$4:$AZ$5),\"\")","v":""},{"$f":"IF(AND($AA23<6,N23<>\"\",O23<>\"\"),ort($N23,$O23,$AY$6:$AZ$7),\"\")","v":""},{"$f":"IF(AND($AA23=6,N23<>\"\",O23<>\"\"),ort($N23,$O23,$AY$8:$AZ$8),\"\")","v":""},{"$f":"IF(AND($AA23=7,N23<>\"\",O23<>\"\"),ort($N23,$O23,$AY$9:$AZ$9),\"\")","v":""},{"$f":"IF(AND($AA23<6,P23<>\"\",Q23<>\"\"),ort($P23,$Q23,$AY$3:$AZ$3),\"\")","v":""},{"$f":"IF(AND($AA23<6,P23<>\"\",Q23<>\"\"),ort($P23,$Q23,$AY$4:$AZ$5),\"\")","v":""},{"$f":"IF(AND($AA23<6,P23<>\"\",Q23<>\"\"),ort($P23,$Q23,$AY$6:$AZ$7),\"\")","v":""},{"$f":"IF(AND($AA23=6,P23<>\"\",Q23<>\"\"),ort($P23,$Q23,$AY$8:$AZ$8),\"\")","v":""},{"$f":"IF(AND($AA23=7,P23<>\"\",Q23<>\"\"),ort($P23,$Q23,$AY$9:$AZ$9),\"\")","v":""},{"$f":"IF(AND($AA23<6,R23<>\"\",S23<>\"\"),ort($R23,$S23,$AY$3:$AZ$3),\"\")","v":""},{"$f":"IF(AND($AA23<6,R23<>\"\",S23<>\"\"),ort($R23,$S23,$AY$4:$AZ$5),\"\")","v":""},{"$f":"IF(AND($AA23<6,R23<>\"\",S23<>\"\"),ort($R23,$S23,$AY$6:$AZ$7),\"\")","v":""},{"$f":"IF(AND($AA23=6,R23<>\"\",S23<>\"\"),ort($R23,$S23,$AY$8:$AZ$8),\"\")","v":""},{"$f":"IF(AND($AA23=7,R23<>\"\",S23<>\"\"),ort($R23,$S23,$AY$9:$AZ$9),\"\")","v":""},{"$f":"IF(AND($AA23<6,T23<>\"\",U23<>\"\"),ort($T23,$U23,$AY$3:$AZ$3),\"\")","v":""},{"$f":"IF(AND($AA23<6,T23<>\"\",U23<>\"\"),ort($T23,$U23,$AY$4:$AZ$5),\"\")","v":""},{"$f":"IF(AND($AA23<6,T23<>\"\",U23<>\"\"),ort($T23,$U23,$AY$6:$AZ$7),\"\")","v":""},{"$f":"IF(AND($AA23=6,T23<>\"\",U23<>\"\"),ort($T23,$U23,$AY$8:$AZ$8),\"\")","v":""},{"$f":"IF(AND($AA23=7,T23<>\"\",U23<>\"\"),ort($T23,$U23,$AY$9:$AZ$9),\"\")","v":""},null,null,null,null,null,null,149,"00:30:00",null,"06:42:30"]
[null,null,null,null,null,null,null,null,null,"","",{"$f":"DATE($B$3,$B$4,22)","v":"2018-02-22"},{"$f":"DATE($B$3,$B$4,22)","v":"2018-02-22"},0.39583333333333331,"15:42:30",null,null,null,null,null,null,0.25868055555555552,0.25868055555555552,"","","",{"$f":"IF(ISERROR(IF(NOT(ISERROR(MATCH($M24,Blad2!$A$2:$A$11,0))),7,WEEKDAY($M24,2))),\"\",IF(NOT(ISERROR(MATCH($M24,Blad2!$A$2:$A$11,0))),7,WEEKDAY($M24,2)))","v":4},{"$f":"IF(AND($AA24<6,N24<>\"\",O24<>\"\"),ort($N24,$O24,$AY$3:$AZ$3),\"\")","v":0.25868055555555552},{"$f":"IF(AND($AA24<6,N24<>\"\",O24<>\"\"),ort($N24,$O24,$AY$4:$AZ$5),\"\")","v":""},{"$f":"IF(AND($AA24<6,N24<>\"\",O24<>\"\"),ort($N24,$O24,$AY$6:$AZ$7),\"\")","v":""},{"$f":"IF(AND($AA24=6,N24<>\"\",O24<>\"\"),ort($N24,$O24,$AY$8:$AZ$8),\"\")","v":""},{"$f":"IF(AND($AA24=7,N24<>\"\",O24<>\"\"),ort($N24,$O24,$AY$9:$AZ$9),\"\")","v":""},{"$f":"IF(AND($AA24<6,P24<>\"\",Q24<>\"\"),ort($P24,$Q24,$AY$3:$AZ$3),\"\")","v":""},{"$f":"IF(AND($AA24<6,P24<>\"\",Q24<>\"\"),ort($P24,$Q24,$AY$4:$AZ$5),\"\")","v":""},{"$f":"IF(AND($AA24<6,P24<>\"\",Q24<>\"\"),ort($P24,$Q24,$AY$6:$AZ$7),\"\")","v":""},{"$f":"IF(AND($AA24=6,P24<>\"\",Q24<>\"\"),ort($P24,$Q24,$AY$8:$AZ$8),\"\")","v":""},{"$f":"IF(AND($AA24=7,P24<>\"\",Q24<>\"\"),ort($P24,$Q24,$AY$9:$AZ$9),\"\")","v":""},{"$f":"IF(AND($AA24<6,R24<>\"\",S24<>\"\"),ort($R24,$S24,$AY$3:$AZ$3),\"\")","v":""},{"$f":"IF(AND($AA24<6,R24<>\"\",S24<>\"\"),ort($R24,$S24,$AY$4:$AZ$5),\"\")","v":""},{"$f":"IF(AND($AA24<6,R24<>\"\",S24<>\"\"),ort($R24,$S24,$AY$6:$AZ$7),\"\")","v":""},{"$f":"IF(AND($AA24=6,R24<>\"\",S24<>\"\"),ort($R24,$S24,$AY$8:$AZ$8),\"\")","v":""},{"$f":"IF(AND($AA24=7,R24<>\"\",S24<>\"\"),ort($R24,$S24,$AY$9:$AZ$9),\"\")","v":""},{"$f":"IF(AND($AA24<6,T24<>\"\",U24<>\"\"),ort($T24,$U24,$AY$3:$AZ$3),\"\")","v":""},{"$f":"IF(AND($AA24<6,T24<>\"\",U24<>\"\"),ort($T24,$U24,$AY$4:$AZ$5),\"\")","v":""},{"$f":"IF(AND($AA24<6,T24<>\"\",U24<>\"\"),ort($T24,$U24,$AY$6:$AZ$7),\"\")","v":""},{"$f":"IF(AND($AA24=6,T24<>\"\",U24<>\"\"),ort($T24,$U24,$AY$8:$AZ$8),\"\")","v":""},{"$f":"IF(AND($AA24=7,T24<>\"\",U24<>\"\"),ort($T24,$U24,$AY$9:$AZ$9),\"\")","v":""},null,null,null,null,null,null,137,"00:30:00",null,"06:12:30"]
[null,null,null,null,null,null,null,null,null,"","",{"$f":"DATE($B$3,$B$4,23)","v":"2018-02-23"},{"$f":"DATE($B$3,$B$4,23)","v":"2018-02-23"},0.39583333333333331,"15:07:30",null,null,null,null,null,null,0.23437499999999994,0.23437499999999994,"","","",{"$f":"IF(ISERROR(IF(NOT(ISERROR(MATCH($M25,Blad2!$A$2:$A$11,0))),7,WEEKDAY($M25,2))),\"\",IF(NOT(ISERROR(MATCH($M25,Blad2!$A$2:$A$11,0))),7,WEEKDAY($M25,2)))","v":5},{"$f":"IF(AND($AA25<6,N25<>\"\",O25<>\"\"),ort($N25,$O25,$AY$3:$AZ$3),\"\")","v":0.23437499999999994},{"$f":"IF(AND($AA25<6,N25<>\"\",O25<>\"\"),ort($N25,$O25,$AY$4:$AZ$5),\"\")","v":""},{"$f":"IF(AND($AA25<6,N25<>\"\",O25<>\"\"),ort($N25,$O25,$AY$6:$AZ$7),\"\")","v":""},{"$f":"IF(AND($AA25=6,N25<>\"\",O25<>\"\"),ort($N25,$O25,$AY$8:$AZ$8),\"\")","v":""},{"$f":"IF(AND($AA25=7,N25<>\"\",O25<>\"\"),ort($N25,$O25,$AY$9:$AZ$9),\"\")","v":""},{"$f":"IF(AND($AA25<6,P25<>\"\",Q25<>\"\"),ort($P25,$Q25,$AY$3:$AZ$3),\"\")","v":""},{"$f":"IF(AND($AA25<6,P25<>\"\",Q25<>\"\"),ort($P25,$Q25,$AY$4:$AZ$5),\"\")","v":""},{"$f":"IF(AND($AA25<6,P25<>\"\",Q25<>\"\"),ort($P25,$Q25,$AY$6:$AZ$7),\"\")","v":""},{"$f":"IF(AND($AA25=6,P25<>\"\",Q25<>\"\"),ort($P25,$Q25,$AY$8:$AZ$8),\"\")","v":""},{"$f":"IF(AND($AA25=7,P25<>\"\",Q25<>\"\"),ort($P25,$Q25,$AY$9:$AZ$9),\"\")","v":""},{"$f":"IF(AND($AA25<6,R25<>\"\",S25<>\"\"),ort($R25,$S25,$AY$3:$AZ$3),\"\")","v":""},{"$f":"IF(AND($AA25<6,R25<>\"\",S25<>\"\"),ort($R25,$S25,$AY$4:$AZ$5),\"\")","v":""},{"$f":"IF(AND($AA25<6,R25<>\"\",S25<>\"\"),ort($R25,$S25,$AY$6:$AZ$7),\"\")","v":""},{"$f":"IF(AND($AA25=6,R25<>\"\",S25<>\"\"),ort($R25,$S25,$AY$8:$AZ$8),\"\")","v":""},{"$f":"IF(AND($AA25=7,R25<>\"\",S25<>\"\"),ort($R25,$S25,$AY$9:$AZ$9),\"\")","v":""},{"$f":"IF(AND($AA25<6,T25<>\"\",U25<>\"\"),ort($T25,$U25,$AY$3:$AZ$3),\"\")","v":""},{"$f":"IF(AND($AA25<6,T25<>\"\",U25<>\"\"),ort($T25,$U25,$AY$4:$AZ$5),\"\")","v":""},{"$f":"IF(AND($AA25<6,T25<>\"\",U25<>\"\"),ort($T25,$U25,$AY$6:$AZ$7),\"\")","v":""},{"$f":"IF(AND($AA25=6,T25<>\"\",U25<>\"\"),ort($T25,$U25,$AY$8:$AZ$8),\"\")","v":""},{"$f":"IF(AND($AA25=7,T25<>\"\",U25<>\"\"),ort($T25,$U25,$AY$9:$AZ$9),\"\")","v":""},null,null,null,null,null,null,123,"00:30:00",null,"05:37:30"]
[null,null,null,null,null,null,null,null,null,"","",{"$f":"DATE($B$3,$B$4,24)","v":"2018-02-24"},{"$f":"DATE($B$3,$B$4,24)","v":"2018-02-24"},null,"00:00:00",null,null,null,null,null,null,"","","","","",{"$f":"IF(ISERROR(IF(NOT(ISERROR(MATCH($M26,Blad2!$A$2:$A$11,0))),7,WEEKDAY($M26,2))),\"\",IF(NOT(ISERROR(MATCH($M26,Blad2!$A$2:$A$11,0))),7,WEEKDAY($M26,2)))","v":6},{"$f":"IF(AND($AA26<6,N26<>\"\",O26<>\"\"),ort($N26,$O26,$AY$3:$AZ$3),\"\")","v":""},{"$f":"IF(AND($AA26<6,N26<>\"\",O26<>\"\"),ort($N26,$O26,$AY$4:$AZ$5),\"\")","v":""},{"$f":"IF(AND($AA26<6,N26<>\"\",O26<>\"\"),ort($N26,$O26,$AY$6:$AZ$7),\"\")","v":""},{"$f":"IF(AND($AA26=6,N26<>\"\",O26<>\"\"),ort($N26,$O26,$AY$8:$AZ$8),\"\")","v":""},{"$f":"IF(AND($AA26=7,N26<>\"\",O26<>\"\"),ort($N26,$O26,$AY$9:$AZ$9),\"\")","v":""},{"$f":"IF(AND($AA26<6,P26<>\"\",Q26<>\"\"),ort($P26,$Q26,$AY$3:$AZ$3),\"\")","v":""},{"$f":"IF(AND($AA26<6,P26<>\"\",Q26<>\"\"),ort($P26,$Q26,$AY$4:$AZ$5),\"\")","v":""},{"$f":"IF(AND($AA26<6,P26<>\"\",Q26<>\"\"),ort($P26,$Q26,$AY$6:$AZ$7),\"\")","v":""},{"$f":"IF(AND($AA26=6,P26<>\"\",Q26<>\"\"),ort($P26,$Q26,$AY$8:$AZ$8),\"\")","v":""},{"$f":"IF(AND($AA26=7,P26<>\"\",Q26<>\"\"),ort($P26,$Q26,$AY$9:$AZ$9),\"\")","v":""},{"$f":"IF(AND($AA26<6,R26<>\"\",S26<>\"\"),ort($R26,$S26,$AY$3:$AZ$3),\"\")","v":""},{"$f":"IF(AND($AA26<6,R26<>\"\",S26<>\"\"),ort($R26,$S26,$AY$4:$AZ$5),\"\")","v":""},{"$f":"IF(AND($AA26<6,R26<>\"\",S26<>\"\"),ort($R26,$S26,$AY$6:$AZ$7),\"\")","v":""},{"$f":"IF(AND($AA26=6,R26<>\"\",S26<>\"\"),ort($R26,$S26,$AY$8:$AZ$8),\"\")","v":""},{"$f":"IF(AND($AA26=7,R26<>\"\",S26<>\"\"),ort($R26,$S26,$AY$9:$AZ$9),\"\")","v":""},{"$f":"IF(AND($AA26<6,T26<>\"\",U26<>\"\"),ort($T26,$U26,$AY$3:$AZ$3),\"\")","v":""},{"$f":"IF(AND($AA26<6,T26<>\"\",U26<>\"\"),ort($T26,$U26,$AY$4:$AZ$5),\"\")","v":""},{"$f":"IF(AND($AA26<6,T26<>\"\",U26<>\"\"),ort($T26,$U26,$AY$6:$AZ$7),\"\")","v":""},{"$f":"IF(AND($AA26=6,T26<>\"\",U26<>\"\"),ort($T26,$U26,$AY$8:$AZ$8),\"\")","v":""},{"$f":"IF(AND($AA26=7,T26<>\"\",U26<>\"\"),ort($T26,$U26,$AY$9:$AZ$9),\"\")","v":""},null,null,null,null,null,null,null,null,null,"00:00:00"]
[null,null,null,null,null,null,null,null,null,"","",{"$f":"DATE($B$3,$B$4,25)","v":"2018-02-25"},{"$f":"DATE($B$3,$B$4,25)","v":"2018-02-25"},null,"00:00:00",null,null,null,null,null,null,"","","","","",{"$f":"IF(ISERROR(IF(NOT(ISERROR(MATCH($M27,Blad2!$A$2:$A$11,0))),7,WEEKDAY($M27,2))),\"\",IF(NOT(ISERROR(MATCH($M27,Blad2!$A$2:$A$11,0))),7,WEEKDAY($M27,2)))","v":7},{"$f":"IF(AND($AA27<6,N27<>\"\",O27<>\"\"),ort($N27,$O27,$AY$3:$AZ$3),\"\")","v":""},{"$f":"IF(AND($AA27<6,N27<>\"\",O27<>\"\"),ort($N27,$O27,$AY$4:$AZ$5),\"\")","v":""},{"$f":"IF(AND($AA27<6,N27<>\"\",O27<>\"\"),ort($N27,$O27,$AY$6:$AZ$7),\"\")","v":""},{"$f":"IF(AND($AA27=6,N27<>\"\",O27<>\"\"),ort($N27,$O27,$AY$8:$AZ$8),\"\")","v":""},{"$f":"IF(AND($AA27=7,N27<>\"\",O27<>\"\"),ort($N27,$O27,$AY$9:$AZ$9),\"\")","v":""},{"$f":"IF(AND($AA27<6,P27<>\"\",Q27<>\"\"),ort($P27,$Q27,$AY$3:$AZ$3),\"\")","v":""},{"$f":"IF(AND($AA27<6,P27<>\"\",Q27<>\"\"),ort($P27,$Q27,$AY$4:$AZ$5),\"\")","v":""},{"$f":"IF(AND($AA27<6,P27<>\"\",Q27<>\"\"),ort($P27,$Q27,$AY$6:$AZ$7),\"\")","v":""},{"$f":"IF(AND($AA27=6,P27<>\"\",Q27<>\"\"),ort($P27,$Q27,$AY$8:$AZ$8),\"\")","v":""},{"$f":"IF(AND($AA27=7,P27<>\"\",Q27<>\"\"),ort($P27,$Q27,$AY$9:$AZ$9),\"\")","v":""},{"$f":"IF(AND($AA27<6,R27<>\"\",S27<>\"\"),ort($R27,$S27,$AY$3:$AZ$3),\"\")","v":""},{"$f":"IF(AND($AA27<6,R27<>\"\",S27<>\"\"),ort($R27,$S27,$AY$4:$AZ$5),\"\")","v":""},{"$f":"IF(AND($AA27<6,R27<>\"\",S27<>\"\"),ort($R27,$S27,$AY$6:$AZ$7),\"\")","v":""},{"$f":"IF(AND($AA27=6,R27<>\"\",S27<>\"\"),ort($R27,$S27,$AY$8:$AZ$8),\"\")","v":""},{"$f":"IF(AND($AA27=7,R27<>\"\",S27<>\"\"),ort($R27,$S27,$AY$9:$AZ$9),\"\")","v":""},{"$f":"IF(AND($AA27<6,T27<>\"\",U27<>\"\"),ort($T27,$U27,$AY$3:$AZ$3),\"\")","v":""},{"$f":"IF(AND($AA27<6,T27<>\"\",U27<>\"\"),ort($T27,$U27,$AY$4:$AZ$5),\"\")","v":""},{"$f":"IF(AND($AA27<6,T27<>\"\",U27<>\"\"),ort($T27,$U27,$AY$6:$AZ$7),\"\")","v":""},{"$f":"IF(AND($AA27=6,T27<>\"\",U27<>\"\"),ort($T27,$U27,$AY$8:$AZ$8),\"\")","v":""},{"$f":"IF(AND($AA27=7,T27<>\"\",U27<>\"\"),ort($T27,$U27,$AY$9:$AZ$9),\"\")","v":""},null,null,null,null,null,null,null,null,null,"00:00:00"]
[null,null,null,null,null,null,null,null,null,"",9,{"$f":"DATE($B$3,$B$4,26)","v":"2018-02-26"},{"$f":"DATE($B$3,$B$4,26)","v":"2018-02-26"},0.39583333333333331,"09:30:00",null,null,null,null,null,null,"","","","","",{"$f":"IF(ISERROR(IF(NOT(ISERROR(MATCH($M28,Blad2!$A$2:$A$11,0))),7,WEEKDAY($M28,2))),\"\",IF(NOT(ISERROR(MATCH($M28,Blad2!$A$2:$A$11,0))),7,WEEKDAY($M28,2)))","v":1},{"$f":"IF(AND($AA28<6,N28<>\"\",O28<>\"\"),ort($N28,$O28,$AY$3:$AZ$3),\"\")","v":""},{"$f":"IF(AND($AA28<6,N28<>\"\",O28<>\"\"),ort($N28,$O28,$AY$4:$AZ$5),\"\")","v":""},{"$f":"IF(AND($AA28<6,N28<>\"\",O28<>\"\"),ort($N28,$O28,$AY$6:$AZ$7),\"\")","v":""},{"$f":"IF(AND($AA28=6,N28<>\"\",O28<>\"\"),ort($N28,$O28,$AY$8:$AZ$8),\"\")","v":""},{"$f":"IF(AND($AA28=7,N28<>\"\",O28<>\"\"),ort($N28,$O28,$AY$9:$AZ$9),\"\")","v":""},{"$f":"IF(AND($AA28<6,P28<>\"\",Q28<>\"\"),ort($P28,$Q28,$AY$3:$AZ$3),\"\")","v":""},{"$f":"IF(AND($AA28<6,P28<>\"\",Q28<>\"\"),ort($P28,$Q28,$AY$4:$AZ$5),\"\")","v":""},{"$f":"IF(AND($AA28<6,P28<>\"\",Q28<>\"\"),ort($P28,$Q28,$AY$6:$AZ$7),\"\")","v":""},{"$f":"IF(AND($AA28=6,P28<>\"\",Q28<>\"\"),ort($P28,$Q28,$AY$8:$AZ$8),\"\")","v":""},{"$f":"IF(AND($AA28=7,P28<>\"\",Q28<>\"\"),ort($P28,$Q28,$AY$9:$AZ$9),\"\")","v":""},{"$f":"IF(AND($AA28<6,R28<>\"\",S28<>\"\"),ort($R28,$S28,$AY$3:$AZ$3),\"\")","v":""},{"$f":"IF(AND($AA28<6,R28<>\"\",S28<>\"\"),ort($R28,$S28,$AY$4:$AZ$5),\"\")","v":""},{"$f":"IF(AND($AA28<6,R28<>\"\",S28<>\"\"),ort($R28,$S28,$AY$6:$AZ$7),\"\")","v":""},{"$f":"IF(AND($AA28=6,R28<>\"\",S28<>\"\"),ort($R28,$S28,$AY$8:$AZ$8),\"\")","v":""},{"$f":"IF(AND($AA28=7,R28<>\"\",S28<>\"\"),ort($R28,$S28,$AY$9:$AZ$9),\"\")","v":""},{"$f":"IF(AND($AA28<6,T28<>\"\",U28<>\"\"),ort($T28,$U28,$AY$3:$AZ$3),\"\")","v":""},{"$f":"IF(AND($AA28<6,T28<>\"\",U28<>\"\"),ort($T28,$U28,$AY$4:$AZ$5),\"\")","v":""},{"$f":"IF(AND($AA28<6,T28<>\"\",U28<>\"\"),ort($T28,$U28,$AY$6:$AZ$7),\"\")","v":""},{"$f":"IF(AND($AA28=6,T28<>\"\",U28<>\"\"),ort($T28,$U28,$AY$8:$AZ$8),\"\")","v":""},{"$f":"IF(AND($AA28=7,T28<>\"\",U28<>\"\"),ort($T28,$U28,$AY$9:$AZ$9),\"\")","v":""},null,null,null,null,null,null,null,null,null,"00:00:00"]
[null,null,null,null,null,null,null,null,null,"","",{"$f":"DATE($B$3,$B$4,27)","v":"2018-02-27"},{"$f":"DATE($B$3,$B$4,27)","v":"2018-02-27"},0.39583333333333331,"16:12:30",null,null,null,null,null,null,0.27951388888888878,0.27951388888888878,"","","",{"$f":"IF(ISERROR(IF(NOT(ISERROR(MATCH($M29,Blad2!$A$2:$A$11,0))),7,WEEKDAY($M29,2))),\"\",IF(NOT(ISERROR(MATCH($M29,Blad2!$A$2:$A$11,0))),7,WEEKDAY($M29,2)))","v":2},{"$f":"IF(AND($AA29<6,N29<>\"\",O29<>\"\"),ort($N29,$O29,$AY$3:$AZ$3),\"\")","v":0.27951388888888878},{"$f":"IF(AND($AA29<6,N29<>\"\",O29<>\"\"),ort($N29,$O29,$AY$4:$AZ$5),\"\")","v":""},{"$f":"IF(AND($AA29<6,N29<>\"\",O29<>\"\"),ort($N29,$O29,$AY$6:$AZ$7),\"\")","v":""},{"$f":"IF(AND($AA29=6,N29<>\"\",O29<>\"\"),ort($N29,$O29,$AY$8:$AZ$8),\"\")","v":""},{"$f":"IF(AND($AA29=7,N29<>\"\",O29<>\"\"),ort($N29,$O29,$AY$9:$AZ$9),\"\")","v":""},{"$f":"IF(AND($AA29<6,P29<>\"\",Q29<>\"\"),ort($P29,$Q29,$AY$3:$AZ$3),\"\")","v":""},{"$f":"IF(AND($AA29<6,P29<>\"\",Q29<>\"\"),ort($P29,$Q29,$AY$4:$AZ$5),\"\")","v":""},{"$f":"IF(AND($AA29<6,P29<>\"\",Q29<>\"\"),ort($P29,$Q29,$AY$6:$AZ$7),\"\")","v":""},{"$f":"IF(AND($AA29=6,P29<>\"\",Q29<>\"\"),ort($P29,$Q29,$AY$8:$AZ$8),\"\")","v":""},{"$f":"IF(AND($AA29=7,P29<>\"\",Q29<>\"\"),ort($P29,$Q29,$AY$9:$AZ$9),\"\")","v":""},{"$f":"IF(AND($AA29<6,R29<>\"\",S29<>\"\"),ort($R29,$S29,$AY$3:$AZ$3),\"\")","v":""},{"$f":"IF(AND($AA29<6,R29<>\"\",S29<>\"\"),ort($R29,$S29,$AY$4:$AZ$5),\"\")","v":""},{"$f":"IF(AND($AA29<6,R29<>\"\",S29<>\"\"),ort($R29,$S29,$AY$6:$AZ$7),\"\")","v":""},{"$f":"IF(AND($AA29=6,R29<>\"\",S29<>\"\"),ort($R29,$S29,$AY$8:$AZ$8),\"\")","v":""},{"$f":"IF(AND($AA29=7,R29<>\"\",S29<>\"\"),ort($R29,$S29,$AY$9:$AZ$9),\"\")","v":""},{"$f":"IF(AND($AA29<6,T29<>\"\",U29<>\"\"),ort($T29,$U29,$AY$3:$AZ$3),\"\")","v":""},{"$f":"IF(AND($AA29<6,T29<>\"\",U29<>\"\"),ort($T29,$U29,$AY$4:$AZ$5),\"\")","v":""},{"$f":"IF(AND($AA29<6,T29<>\"\",U29<>\"\"),ort($T29,$U29,$AY$6:$AZ$7),\"\")","v":""},{"$f":"IF(AND($AA29=6,T29<>\"\",U29<>\"\"),ort($T29,$U29,$AY$8:$AZ$8),\"\")","v":""},{"$f":"IF(AND($AA29=7,T29<>\"\",U29<>\"\"),ort($T29,$U29,$AY$9:$AZ$9),\"\")","v":""},null,null,null,null,null,null,149,"00:30:00",null,"06:42:30"]
[null,null,null,null,null,null,null,null,null,"","",{"$f":"DATE($B$3,$B$4,28)","v":"2018-02-28"},{"$f":"DATE($B$3,$B$4,28)","v":"2018-02-28"},0.39583333333333331,"16:40:00",null,null,null,null,null,null,0.2986111111111111,0.2986111111111111,"","","",{"$f":"IF(ISERROR(IF(NOT(ISERROR(MATCH($M30,Blad2!$A$2:$A$11,0))),7,WEEKDAY($M30,2))),\"\",IF(NOT(ISERROR(MATCH($M30,Blad2!$A$2:$A$11,0))),7,WEEKDAY($M30,2)))","v":3},{"$f":"IF(AND($AA30<6,N30<>\"\",O30<>\"\"),ort($N30,$O30,$AY$3:$AZ$3),\"\")","v":0.2986111111111111},{"$f":"IF(AND($AA30<6,N30<>\"\",O30<>\"\"),ort($N30,$O30,$AY$4:$AZ$5),\"\")","v":""},{"$f":"IF(AND($AA30<6,N30<>\"\",O30<>\"\"),ort($N30,$O30,$AY$6:$AZ$7),\"\")","v":""},{"$f":"IF(AND($AA30=6,N30<>\"\",O30<>\"\"),ort($N30,$O30,$AY$8:$AZ$8),\"\")","v":""},{"$f":"IF(AND($AA30=7,N30<>\"\",O30<>\"\"),ort($N30,$O30,$AY$9:$AZ$9),\"\")","v":""},{"$f":"IF(AND($AA30<6,P30<>\"\",Q30<>\"\"),ort($P30,$Q30,$AY$3:$AZ$3),\"\")","v":""},{"$f":"IF(AND($AA30<6,P30<>\"\",Q30<>\"\"),ort($P30,$Q30,$AY$4:$AZ$5),\"\")","v":""},{"$f":"IF(AND($AA30<6,P30<>\"\",Q30<>\"\"),ort($P30,$Q30,$AY$6:$AZ$7),\"\")","v":""},{"$f":"IF(AND($AA30=6,P30<>\"\",Q30<>\"\"),ort($P30,$Q30,$AY$8:$AZ$8),\"\")","v":""},{"$f":"IF(AND($AA30=7,P30<>\"\",Q30<>\"\"),ort($P30,$Q30,$AY$9:$AZ$9),\"\")","v":""},{"$f":"IF(AND($AA30<6,R30<>\"\",S30<>\"\"),ort($R30,$S30,$AY$3:$AZ$3),\"\")","v":""},{"$f":"IF(AND($AA30<6,R30<>\"\",S30<>\"\"),ort($R30,$S30,$AY$4:$AZ$5),\"\")","v":""},{"$f":"IF(AND($AA30<6,R30<>\"\",S30<>\"\"),ort($R30,$S30,$AY$6:$AZ$7),\"\")","v":""},{"$f":"IF(AND($AA30=6,R30<>\"\",S30<>\"\"),ort($R30,$S30,$AY$8:$AZ$8),\"\")","v":""},{"$f":"IF(AND($AA30=7,R30<>\"\",S30<>\"\"),ort($R30,$S30,$AY$9:$AZ$9),\"\")","v":""},{"$f":"IF(AND($AA30<6,T30<>\"\",U30<>\"\"),ort($T30,$U30,$AY$3:$AZ$3),\"\")","v":""},{"$f":"IF(AND($AA30<6,T30<>\"\",U30<>\"\"),ort($T30,$U30,$AY$4:$AZ$5),\"\")","v":""},{"$f":"IF(AND($AA30<6,T30<>\"\",U30<>\"\"),ort($T30,$U30,$AY$6:$AZ$7),\"\")","v":""},{"$f":"IF(AND($AA30=6,T30<>\"\",U30<>\"\"),ort($T30,$U30,$AY$8:$AZ$8),\"\")","v":""},{"$f":"IF(AND($AA30=7,T30<>\"\",U30<>\"\"),ort($T30,$U30,$AY$9:$AZ$9),\"\")","v":""},null,null,null,null,null,null,160,"00:30:00",null,"07:10:00"]
[null,null,null,null,null,null,null,null,null,"",{"$f":"IF(L31=\"\",\"\",IF(WEEKDAY(L31)=2,1+INT((L31-DATE(YEAR(L31+4-WEEKDAY(L31+6)),1,5)+WEEKDAY(DATE(YEAR(L31+4-WEEKDAY(L31+6)),1,3)))/7),\"\"))","v":""},{"$f":"IF(MONTH(L$30+1)<>MONTH(L$30),\"\",L$30+1)","v":""},{"$f":"IF(MONTH(M$30+1)<>MONTH(M$30),\"\",M$30+1)","v":""},null,"00:00:00",null,null,null,null,null,null,"","","","","",{"$f":"IF(ISERROR(IF(NOT(ISERROR(MATCH($M31,Blad2!$A$2:$A$11,0))),7,WEEKDAY($M31,2))),\"\",IF(NOT(ISERROR(MATCH($M31,Blad2!$A$2:$A$11,0))),7,WEEKDAY($M31,2)))","v":""},{"$f":"IF(AND($AA31<6,N31<>\"\",O31<>\"\"),ort($N31,$O31,$AY$3:$AZ$3),\"\")","v":""},{"$f":"IF(AND($AA31<6,N31<>\"\",O31<>\"\"),ort($N31,$O31,$AY$4:$AZ$5),\"\")","v":""},{"$f":"IF(AND($AA31<6,N31<>\"\",O31<>\"\"),ort($N31,$O31,$AY$6:$AZ$7),\"\")","v":""},{"$f":"IF(AND($AA31=6,N31<>\"\",O31<>\"\"),ort($N31,$O31,$AY$8:$AZ$8),\"\")","v":""},{"$f":"IF(AND($AA31=7,N31<>\"\",O31<>\"\"),ort($N31,$O31,$AY$9:$AZ$9),\"\")","v":""},{"$f":"IF(AND($AA31<6,P31<>\"\",Q31<>\"\"),ort($P31,$Q31,$AY$3:$AZ$3),\"\")","v":""},{"$f":"IF(AND($AA31<6,P31<>\"\",Q31<>\"\"),ort($P31,$Q31,$AY$4:$AZ$5),\"\")","v":""},{"$f":"IF(AND($AA31<6,P31<>\"\",Q31<>\"\"),ort($P31,$Q31,$AY$6:$AZ$7),\"\")","v":""},{"$f":"IF(AND($AA31=6,P31<>\"\",Q31<>\"\"),ort($P31,$Q31,$AY$8:$AZ$8),\"\")","v":""},{"$f":"IF(AND($AA31=7,P31<>\"\",Q31<>\"\"),ort($P31,$Q31,$AY$9:$AZ$9),\"\")","v":""},{"$f":"IF(AND($AA31<6,R31<>\"\",S31<>\"\"),ort($R31,$S31,$AY$3:$AZ$3),\"\")","v":""},{"$f":"IF(AND($AA31<6,R31<>\"\",S31<>\"\"),ort($R31,$S31,$AY$4:$AZ$5),\"\")","v":""},{"$f":"IF(AND($AA31<6,R31<>\"\",S31<>\"\"),ort($R31,$S31,$AY$6:$AZ$7),\"\")","v":""},{"$f":"IF(AND($AA31=6,R31<>\"\",S31<>\"\"),ort($R31,$S31,$AY$8:$AZ$8),\"\")","v":""},{"$f":"IF(AND($AA31=7,R31<>\"\",S31<>\"\"),ort($R31,$S31,$AY$9:$AZ$9),\"\")","v":""},{"$f":"IF(AND($AA31<6,T31<>\"\",U31<>\"\"),ort($T31,$U31,$AY$3:$AZ$3),\"\")","v":""},{"$f":"IF(AND($AA31<6,T31<>\"\",U31<>\"\"),ort($T31,$U31,$AY$4:$AZ$5),\"\")","v":""},{"$f":"IF(AND($AA31<6,T31<>\"\",U31<>\"\"),ort($T31,$U31,$AY$6:$AZ$7),\"\")","v":""},{"$f":"IF(AND($AA31=6,T31<>\"\",U31<>\"\"),ort($T31,$U31,$AY$8:$AZ$8),\"\")","v":""},{"$f":"IF(AND($AA31=7,T31<>\"\",U31<>\"\"),ort($T31,$U31,$AY$9:$AZ$9),\"\")","v":""},null,null,null,null,null,null,null,null,null,"00:00:00"]
[null,"Totaal Uren incl 150 %",null,null,null,null,null,null,null,"","",{"$f":"IF(L31=\"\",\"\",IF(MONTH($M31+1)<>MONTH($M31),\"\",$M31+1))","v":""},{"$f":"IF(M31=\"\",\"\",IF(MONTH($M31+1)<>MONTH($M31),\"\",$M31+1))","v":""},null,"00:00:00",null,null,null,null,null,null,"","","","","",{"$f":"IF(ISERROR(IF(NOT(ISERROR(MATCH($M32,Blad2!$A$2:$A$11,0))),7,WEEKDAY($M32,2))),\"\",IF(NOT(ISERROR(MATCH($M32,Blad2!$A$2:$A$11,0))),7,WEEKDAY($M32,2)))","v":""},{"$f":"IF(AND($AA32<6,N32<>\"\",O32<>\"\"),ort($N32,$O32,$AY$3:$AZ$3),\"\")","v":""},{"$f":"IF(AND($AA32<6,N32<>\"\",O32<>\"\"),ort($N32,$O32,$AY$4:$AZ$5),\"\")","v":""},{"$f":"IF(AND($AA32<6,N32<>\"\",O32<>\"\"),ort($N32,$O32,$AY$6:$AZ$7),\"\")","v":""},{"$f":"IF(AND($AA32=6,N32<>\"\",O32<>\"\"),ort($N32,$O32,$AY$8:$AZ$8),\"\")","v":""},{"$f":"IF(AND($AA32=7,N32<>\"\",O32<>\"\"),ort($N32,$O32,$AY$9:$AZ$9),\"\")","v":""},{"$f":"IF(AND($AA32<6,P32<>\"\",Q32<>\"\"),ort($P32,$Q32,$AY$3:$AZ$3),\"\")","v":""},{"$f":"IF(AND($AA32<6,P32<>\"\",Q32<>\"\"),ort($P32,$Q32,$AY$4:$AZ$5),\"\")","v":""},{"$f":"IF(AND($AA32<6,P32<>\"\",Q32<>\"\"),ort($P32,$Q32,$AY$6:$AZ$7),\"\")","v":""},{"$f":"IF(AND($AA32=6,P32<>\"\",Q32<>\"\"),ort($P32,$Q32,$AY$8:$AZ$8),\"\")","v":""},{"$f":"IF(AND($AA32=7,P32<>\"\",Q32<>\"\"),ort($P32,$Q32,$AY$9:$AZ$9),\"\")","v":""},{"$f":"IF(AND($AA32<6,R32<>\"\",S32<>\"\"),ort($R32,$S32,$AY$3:$AZ$3),\"\")","v":""},{"$f":"IF(AND($AA32<6,R32<>\"\",S32<>\"\"),ort($R32,$S32,$AY$4:$AZ$5),\"\")","v":""},{"$f":"IF(AND($AA32<6,R32<>\"\",S32<>\"\"),ort($R32,$S32,$AY$6:$AZ$7),\"\")","v":""},{"$f":"IF(AND($AA32=6,R32<>\"\",S32<>\"\"),ort($R32,$S32,$AY$8:$AZ$8),\"\")","v":""},{"$f":"IF(AND($AA32=7,R32<>\"\",S32<>\"\"),ort($R32,$S32,$AY$9:$AZ$9),\"\")","v":""},{"$f":"IF(AND($AA32<6,T32<>\"\",U32<>\"\"),ort($T32,$U32,$AY$3:$AZ$3),\"\")","v":""},{"$f":"IF(AND($AA32<6,T32<>\"\",U32<>\"\"),ort($T32,$U32,$AY$4:$AZ$5),\"\")","v":""},{"$f":"IF(AND($AA32<6,T32<>\"\",U32<>\"\"),ort($T32,$U32,$AY$6:$AZ$7),\"\")","v":""},{"$f":"IF(AND($AA32=6,T32<>\"\",U32<>\"\"),ort($T32,$U32,$AY$8:$AZ$8),\"\")","v":""},{"$f":"IF(AND($AA32=7,T32<>\"\",U32<>\"\"),ort($T32,$U32,$AY$9:$AZ$9),\"\")","v":""},null,null,null,null,null,null,null,null,null,"00:00:00"]
[null,{"$f":"SUM(U36,W37)","v":3.9809027777777777},null,null,null,null,null,null,null,"",{"$f":"IF(L33=\"\",\"\",IF(WEEKDAY(L33)=2,1+INT((L33-DATE(YEAR(L33+4-WEEKDAY(L33+6)),1,5)+WEEKDAY(DATE(YEAR(L33+4-WEEKDAY(L33+6)),1,3)))/7),\"\"))","v":""},{"$f":"IF(L32=\"\",\"\",IF(MONTH($M32+1)<>MONTH($M32),\"\",$M32+1))","v":""},{"$f":"IF(M32=\"\",\"\",IF(MONTH($M32+1)<>MONTH($M32),\"\",$M32+1))","v":""},null,"00:00:00",null,null,null,null,null,null,"","","","","",{"$f":"IF(ISERROR(IF(NOT(ISERROR(MATCH($M33,Blad2!$A$2:$A$11,0))),7,WEEKDAY($M33,2))),\"\",IF(NOT(ISERROR(MATCH($M33,Blad2!$A$2:$A$11,0))),7,WEEKDAY($M33,2)))","v":""},{"$f":"IF(AND($AA33<6,N33<>\"\",O33<>\"\"),ort($N33,$O33,$AY$3:$AZ$3),\"\")","v":""},{"$f":"IF(AND($AA33<6,N33<>\"\",O33<>\"\"),ort($N33,$O33,$AY$4:$AZ$5),\"\")","v":""},{"$f":"IF(AND($AA33<6,N33<>\"\",O33<>\"\"),ort($N33,$O33,$AY$6:$AZ$7),\"\")","v":""},{"$f":"IF(AND($AA33=6,N33<>\"\",O33<>\"\"),ort($N33,$O33,$AY$8:$AZ$8),\"\")","v":""},{"$f":"IF(AND($AA33=7,N33<>\"\",O33<>\"\"),ort($N33,$O33,$AY$9:$AZ$9),\"\")","v":""},{"$f":"IF(AND($AA33<6,P33<>\"\",Q33<>\"\"),ort($P33,$Q33,$AY$3:$AZ$3),\"\")","v":""},{"$f":"IF(AND($AA33<6,P33<>\"\",Q33<>\"\"),ort($P33,$Q33,$AY$4:$AZ$5),\"\")","v":""},{"$f":"IF(AND($AA33<6,P33<>\"\",Q33<>\"\"),ort($P33,$Q33,$AY$6:$AZ$7),\"\")","v":""},{"$f":"IF(AND($AA33=6,P33<>\"\",Q33<>\"\"),ort($P33,$Q33,$AY$8:$AZ$8),\"\")","v":""},{"$f":"IF(AND($AA33=7,P33<>\"\",Q33<>\"\"),ort($P33,$Q33,$AY$9:$AZ$9),\"\")","v":""},{"$f":"IF(AND($AA33<6,R33<>\"\",S33<>\"\"),ort($R33,$S33,$AY$3:$AZ$3),\"\")","v":""},{"$f":"IF(AND($AA33<6,R33<>\"\",S33<>\"\"),ort($R33,$S33,$AY$4:$AZ$5),\"\")","v":""},{"$f":"IF(AND($AA33<6,R33<>\"\",S33<>\"\"),ort($R33,$S33,$AY$6:$AZ$7),\"\")","v":""},{"$f":"IF(AND($AA33=6,R33<>\"\",S33<>\"\"),ort($R33,$S33,$AY$8:$AZ$8),\"\")","v":""},{"$f":"IF(AND($AA33=7,R33<>\"\",S33<>\"\"),ort($R33,$S33,$AY$9:$AZ$9),\"\")","v":""},{"$f":"IF(AND($AA33<6,T33<>\"\",U33<>\"\"),ort($T33,$U33,$AY$3:$AZ$3),\"\")","v":""},{"$f":"IF(AND($AA33<6,T33<>\"\",U33<>\"\"),ort($T33,$U33,$AY$4:$AZ$5),\"\")","v":""},{"$f":"IF(AND($AA33<6,T33<>\"\",U33<>\"\"),ort($T33,$U33,$AY$6:$AZ$7),\"\")","v":""},{"$f":"IF(AND($AA33=6,T33<>\"\",U33<>\"\"),ort($T33,$U33,$AY$8:$AZ$8),\"\")","v":""},{"$f":"IF(AND($AA33=7,T33<>\"\",U33<>\"\"),ort($T33,$U33,$AY$9:$AZ$9),\"\")","v":""},null,null,null,null,null,null,null,null,null,"00:00:00"]
[null,null,null,null,null,null,null,null,null,null,null,null,null,null,null,null,null,null,null,null,null,null,{"$f":"SUM(W3:W33)","v":3.9809027777777777},{"$f":"SUM(X3:X33)","v":0},0,0]
[null,null,null,null,null,null,null,null,null,null,null,null,"Plus / Min Uren Incl 150 % Uren",null,null,null,null,null,"Contract Uren",null,{"$f":"SUM(B17)","v":3.75}]
[null,null,null,null,null,null,null,null,null,null,null,null,{"$f":"SUM(B33-B17)","v":0.23090277777777768},null,null,5,null,"Gewerkte Uren 100 %",null,null,{"$f":"SUM(W34:X34)","v":3.9809027777777777}]
[null,null,null,null,null,null,null,null,null,null,null,null,"Uitbetalen / Verlof",null,null,{"$f":"SUM(M36*P36)*24","v":27.708333333333321},null,"Gewerkte Uren 150 %",null,null,{"$f":"SUM(Y34)","v":0},"X 150%",{"$f":"SUM(U37*150%)","v":0}]
[null,null,null,null,null,null,null,null,null,null,null,null,null,null,null,null,null,null,"Plus Uren"]
[null,null,null,null,null,null,null,null,null,null,null,null,null,null,null,null,null,null,"Min Uren"]

{"sheet":"Maart","index":2,"n_rows":39,"n_cols":57,"rows_kept":39,"cut":false,"hidden":false,"merged":[[38,18,38,19],[37,18,37,19],[31,1,31,8],[32,1,32,8],[18,1,18,8],[16,1,16,8],[36,12,36,14],[34,12,34,16],[36,15,36,16],[35,12,35,14],[19,1,19,8],[35,15,35,16],[34,18,34,19],[35,17,35,19],[36,17,36,19],[0,14,0,21],[1,2,1,8],[15,1,15,8],[1,48,1,51],[2,3,2,7],[3,2,3,8],[13,1,13,8],[12,1,12,8]]}
[null,null,null,null,null,null,null,null,null,null,null,null,null,null,"Test"]
[null,null,{"$f":"TODAY()","v":"2018-03-21"},null,null,null,null,null,null,"Feestdag","wknr","dag","datum","tijd in","tijd uit","tijd in","tijd uit","tijd in","tijd uit","tijd in","tijd uit","werk\ntijd",1,1.25,1.5,2,"hulp",1,1.25,1.5,1.5,2,1,1.25,1.5,1.5,2,1,1.25,1.5,1.5,2,1,1.25,1.5,1.5,2,null,"onregelmatigheidstoeslag",null,null,null,null,"Aantal","Laden","Lossen","Werktijd"]
[null,2018," ","Kalender",null,null,null,null,null,{"$f":"IF(ISNA(VLOOKUP(M3,feestdagen,2,0)),\"\",VLOOKUP(M3,feestdagen,2,0))","v":""},{"$f":"WEEKNUM(L3,21)","v":9},{"$f":"DATE($B$3,$B$4,1)","v":"2018-03-01"},{"$f":"DATE($B$3,$B$4,1)","v":"2018-03-01"},null,{"$f":"SUM(N3,BE3)","v":"00:00:00"},null,null,null,null,null,null,{"$f":"IF(AND(W3=\"\",X3=\"\",Y3=\"\",Z3=\"\"),\"\",SUM(W3:Z3))","v":""},{"$f":"IF(AND(AB3=\"\",AG3=\"\",AL3=\"\",AQ3=\"\"),\"\",SUM(AB3,AG3,AL3,AQ3))","v":""},{"$f":"IF(AND(AC3=\"\",AH3=\"\",AM3=\"\",AR3=\"\"),\"\",SUM(AC3,AH3,AM3,AR3))","v":""},{"$f":"IF(AND(AD3=\"\",AE3=\"\",AI3=\"\",AJ3=\"\",AN3=\"\",AO3=\"\",AS3=\"\",AT3=\"\"),\"\",SUM(AD3,AE3,AI3,AJ3,AN3,AO3,AS3,AT3))","v":""},{"$f":"IF(AND(AF3=\"\",AK3=\"\",AP3=\"\",AU3=\"\"),\"\",SUM(AF3,AK3,AP3,AU3))","v":""},{"$f":"IF(ISERROR(IF(NOT(ISERROR(MATCH($M3,Blad2!$A$2:$A$11,0))),7,WEEKDAY($M3,2))),\"\",IF(NOT(ISERROR(MATCH($M3,Blad2!$A$2:$A$11,0))),7,WEEKDAY($M3,2)))","v":4},{"$f":"IF(AND($AA3<6,N3<>\"\",O3<>\"\"),ort($N3,$O3,$AY$3:$AZ$3),\"\")","v":""},{"$f":"IF(AND($AA3<6,N3<>\"\",O3<>\"\"),ort($N3,$O3,$AY$4:$AZ$5),\"\")","v":""},{"$f":"IF(AND($AA3<6,N3<>\"\",O3<>\"\"),ort($N3,$O3,$AY$6:$AZ$7),\"\")","v":""},{"$f":"IF(AND($AA3=6,N3<>\"\",O3<>\"\"),ort($N3,$O3,$AY$8:$AZ$8),\"\")","v":""},{"$f":"IF(AND($AA3=7,N3<>\"\",O3<>\"\"),ort($N3,$O3,$AY$9:$AZ$9),\"\")","v":""},{"$f":"IF(AND($AA3<6,P3<>\"\",Q3<>\"\"),ort($P3,$Q3,$AY$3:$AZ$3),\"\")","v":""},{"$f":"IF(AND($AA3<6,P3<>\"\",Q3<>\"\"),ort($P3,$Q3,$AY$4:$AZ$5),\"\")","v":""},{"$f":"IF(AND($AA3<6,P3<>\"\",Q3<>\"\"),ort($P3,$Q3,$AY$6:$AZ$7),\"\")","v":""},{"$f":"IF(AND($AA3=6,P3<>\"\",Q3<>\"\"),ort($P3,$Q3,$AY$8:$AZ$8),\"\")","v":""},{"$f":"IF(AND($AA3=7,P3<>\"\",Q3<>\"\"),ort($P3,$Q3,$AY$9:$AZ$9),\"\")","v":""},{"$f":"IF(AND($AA3<6,R3<>\"\",S3<>\"\"),ort($R3,$S3,$AY$3:$AZ$3),\"\")","v":""},{"$f":"IF(AND($AA3<6,R3<>\"\",S3<>\"\"),ort($R3,$S3,$AY$4:$AZ$5),\"\")","v":""},{"$f":"IF(AND($AA3<6,R3<>\"\",S3<>\"\"),ort($R3,$S3,$AY$6:$AZ$7),\"\")","v":""},{"$f":"IF(AND($AA3=6,R3<>\"\",S3<>\"\"),ort($R3,$S3,$AY$8:$AZ$8),\"\")","v":""},{"$f":"IF(AND($AA3=7,R3<>\"\",S3<>\"\"),ort($R3,$S3,$AY$9:$AZ$9),\"\")","v":""},{"$f":"IF(AND($AA3<6,T3<>\"\",U3<>\"\"),ort($T3,$U3,$AY$3:$AZ$3),\"\")","v":""},{"$f":"IF(AND($AA3<6,T3<>\"\",U3<>\"\"),ort($T3,$U3,$AY$4:$AZ$5),\"\")","v":""},{"$f":"IF(AND($AA3<6,T3<>\"\",U3<>\"\"),ort($T3,$U3,$AY$6:$AZ$7),\"\")","v":""},{"$f":"IF(AND($AA3=6,T3<>\"\",U3<>\"\"),ort($T3,$U3,$AY$8:$AZ$8),\"\")","v":""},{"$f":"IF(AND($AA3=7,T3<>\"\",U3<>\"\"),ort($T3,$U3,$AY$9:$AZ$9),\"\")","v":""},null,1,"m-vr",0.39583333333333331,0.72916666666666663,null,null,null,null,{"$f":"SUM(BB3/26/24,BC3:BD3)","v":"00:00:00"}]
[null,3,{"$f":"DATE(B3,B4,1)","v":"2018-03-01"},null,null,null,null,null,null,"",{"$f":"IF(WEEKDAY(L4)=2,1+INT((L4-DATE(YEAR(L4+4-WEEKDAY(L4+6)),1,5)+WEEKDAY(DATE(YEAR(L4+4-WEEKDAY(L4+6)),1,3)))/7),\"\")","v":""},{"$f":"DATE($B$3,$B$4,2)","v":"2018-03-02"},{"$f":"DATE($B$3,$B$4,2)","v":"2018-03-02"},null,{"$f":"SUM(N4,BE4)","v":"00:00:00"},null,null,null,null,null,null,{"$f":"IF(AND(W4=\"\",X4=\"\",Y4=\"\",Z4=\"\"),\"\",SUM(W4:Z4))","v":""},{"$f":"IF(AND(AB4=\"\",AG4=\"\",AL4=\"\",AQ4=\"\"),\"\",SUM(AB4,AG4,AL4,AQ4))","v":""},{"$f":"IF(AND(AC4=\"\",AH4=\"\",AM4=\"\",AR4=\"\"),\"\",SUM(AC4,AH4,AM4,AR4))","v":""},{"$f":"IF(AND(AD4=\"\",AE4=\"\",AI4=\"\",AJ4=\"\",AN4=\"\",AO4=\"\",AS4=\"\",AT4=\"\"),\"\",SUM(AD4,AE4,AI4,AJ4,AN4,AO4,AS4,AT4))","v":""},{"$f":"IF(AND(AF4=\"\",AK4=\"\",AP4=\"\",AU4=\"\"),\"\",SUM(AF4,AK4,AP4,AU4))","v":""},{"$f":"IF(ISERROR(IF(NOT(ISERROR(MATCH($M4,Blad2!$A$2:$A$11,0))),7,WEEKDAY($M4,2))),\"\",IF(NOT(ISERROR(MATCH($M4,Blad2!$A$2:$A$11,0))),7,WEEKDAY($M4,2)))","v":5},{"$f":"IF(AND($AA4<6,N4<>\"\",O4<>\"\"),ort($N4,$O4,$AY$3:$AZ$3),\"\")","v":""},{"$f":"IF(AND($AA4<6,N4<>\"\",O4<>\"\"),ort($N4,$O4,$AY$4:$AZ$5),\"\")","v":""},{"$f":"IF(AND($AA4<6,N4<>\"\",O4<>\"\"),ort($N4,$O4,$AY$6:$AZ$7),\"\")","v":""},{"$f":"IF(AND($AA4=6,N4<>\"\",O4<>\"\"),ort($N4,$O4,$AY$8:$AZ$8),\"\")","v":""},{"$f":"IF(AND($AA4=7,N4<>\"\",O4<>\"\"),ort($N4,$O4,$AY$9:$AZ$9),\"\")","v":""},{"$f":"IF(AND($AA4<6,P4<>\"\",Q4<>\"\"),ort($P4,$Q4,$AY$3:$AZ$3),\"\")","v":""},{"$f":"IF(AND($AA4<6,P4<>\"\",Q4<>\"\"),ort($P4,$Q4,$AY$4:$AZ$5),\"\")","v":""},{"$f":"IF(AND($AA4<6,P4<>\"\",Q4<>\"\"),ort($P4,$Q4,$AY$6:$AZ$7),\"\")","v":""},{"$f":"IF(AND($AA4=6,P4<>\"\",Q4<>\"\"),ort($P4,$Q4,$AY$8:$AZ$8),\"\")","v":""},{"$f":"IF(AND($AA4=7,P4<>\"\",Q4<>\"\"),ort($P4,$Q4,$AY$9:$AZ$9),\"\")","v":""},{"$f":"IF(AND($AA4<6,R4<>\"\",S4<>\"\"),ort($R4,$S4,$AY$3:$AZ$3),\"\")","v":""},{"$f":"IF(AND($AA4<6,R4<>\"\",S4<>\"\"),ort($R4,$S4,$AY$4:$AZ$5),\"\")","v":""},{"$f":"IF(AND($AA4<6,R4<>\"\",S4<>\"\"),ort($R4,$S4,$AY$6:$AZ$7),\"\")","v":""},{"$f":"IF(AND($AA4=6,R4<>\"\",S4<>\"\"),ort($R4,$S4,$AY$8:$AZ$8),\"\")","v":""},{"$f":"IF(AND($AA4=7,R4<>\"\",S4<>\"\"),ort($R4,$S4,$AY$9:$AZ$9),\"\")","v":""},{"$f":"IF(AND($AA4<6,T4<>\"\",U4<>\"\"),ort($T4,$U4,$AY$3:$AZ$3),\"\")","v":""},{"$f":"IF(AND($AA4<6,T4<>\"\",U4<>\"\"),ort($T4,$U4,$AY$4:$AZ$5),\"\")","v":""},{"$f":"IF(AND($AA4<6,T4<>\"\",U4<>\"\"),ort($T4,$U4,$AY$6:$AZ$7),\"\")","v":""},{"$f":"IF(AND($AA4=6,T4<>\"\",U4<>\"\"),ort($T4,$U4,$AY$8:$AZ$8),\"\")","v":""},{"$f":"IF(AND($AA4=7,T4<>\"\",U4<>\"\"),ort($T4,$U4,$AY$9:$AZ$9),\"\")","v":""},null,1.25,"m-vr",0.25,0.3125,null,null,null,null,"00:00:00"]
[null,null,"Ma","Di","Wo","Do","Vr","Za","Zo","","",{"$f":"DATE($B$3,$B$4,3)","v":"2018-03-03"},{"$f":"DATE($B$3,$B$4,3)","v":"2018-03-03"},null,"00:00:00",null,null,null,null,null,null,"",{"$f":"IF(AND(AB5=\"\",AG5=\"\",AL5=\"\",AQ5=\"\"),\"\",SUM(AB5,AG5,AL5,AQ5))","v":""},"",{"$f":"IF(AND(AD5=\"\",AE5=\"\",AI5=\"\",AJ5=\"\",AN5=\"\",AO5=\"\",AS5=\"\",AT5=\"\"),\"\",SUM(AD5,AE5,AI5,AJ5,AN5,AO5,AS5,AT5))","v":""},{"$f":"IF(AND(AF5=\"\",AK5=\"\",AP5=\"\",AU5=\"\"),\"\",SUM(AF5,AK5,AP5,AU5))","v":""},{"$f":"IF(ISERROR(IF(NOT(ISERROR(MATCH($M5,Blad2!$A$2:$A$11,0))),7,WEEKDAY($M5,2))),\"\",IF(NOT(ISERROR(MATCH($M5,Blad2!$A$2:$A$11,0))),7,WEEKDAY($M5,2)))","v":6},{"$f":"IF(AND($AA5<6,N5<>\"\",O5<>\"\"),ort($N5,$O5,$AY$3:$AZ$3),\"\")","v":""},{"$f":"IF(AND($AA5<6,N5<>\"\",O5<>\"\"),ort($N5,$O5,$AY$4:$AZ$5),\"\")","v":""},{"$f":"IF(AND($AA5<6,N5<>\"\",O5<>\"\"),ort($N5,$O5,$AY$6:$AZ$7),\"\")","v":""},{"$f":"IF(AND($AA5=6,N5<>\"\",O5<>\"\"),ort($N5,$O5,$AY$8:$AZ$8),\"\")","v":""},{"$f":"IF(AND($AA5=7,N5<>\"\",O5<>\"\"),ort($N5,$O5,$AY$9:$AZ$9),\"\")","v":""},{"$f":"IF(AND($AA5<6,P5<>\"\",Q5<>\"\"),ort($P5,$Q5,$AY$3:$AZ$3),\"\")","v":""},{"$f":"IF(AND($AA5<6,P5<>\"\",Q5<>\"\"),ort($P5,$Q5,$AY$4:$AZ$5),\"\")","v":""},{"$f":"IF(AND($AA5<6,P5<>\"\",Q5<>\"\"),ort($P5,$Q5,$AY$6:$AZ$7),\"\")","v":""},{"$f":"IF(AND($AA5=6,P5<>\"\",Q5<>\"\"),ort($P5,$Q5,$AY$8:$AZ$8),\"\")","v":""},{"$f":"IF(AND($AA5=7,P5<>\"\",Q5<>\"\"),ort($P5,$Q5,$AY$9:$AZ$9),\"\")","v":""},{"$f":"IF(AND($AA5<6,R5<>\"\",S5<>\"\"),ort($R5,$S5,$AY$3:$AZ$3),\"\")","v":""},{"$f":"IF(AND($AA5<6,R5<>\"\",S5<>\"\"),ort($R5,$S5,$AY$4:$AZ$5),\"\")","v":""},{"$f":"IF(AND($AA5<6,R5<>\"\",S5<>\"\"),ort($R5,$S5,$AY$6:$AZ$7),\"\")","v":""},{"$f":"IF(AND($AA5=6,R5<>\"\",S5<>\"\"),ort($R5,$S5,$AY$8:$AZ$8),\"\")","v":""},{"$f":"IF(AND($AA5=7,R5<>\"\",S5<>\"\"),ort($R5,$S5,$AY$9:$AZ$9),\"\")","v":""},{"$f":"IF(AND($AA5<6,T5<>\"\",U5<>\"\"),ort($T5,$U5,$AY$3:$AZ$3),\"\")","v":""},{"$f":"IF(AND($AA5<6,T5<>\"\",U5<>\"\"),ort($T5,$U5,$AY$4:$AZ$5),\"\")","v":""},{"$f":"IF(AND($AA5<6,T5<>\"\",U5<>\"\"),ort($T5,$U5,$AY$6:$AZ$7),\"\")","v":""},{"$f":"IF(AND($AA5=6,T5<>\"\",U5<>\"\"),ort($T5,$U5,$AY$8:$AZ$8),\"\")","v":""},{"$f":"IF(AND($AA5=7,T5<>\"\",U5<>\"\"),ort($T5,$U5,$AY$9:$AZ$9),\"\")","v":""},null,1.25,"m-vr",0.75,0.77083333333333337,null,null,null,null,"00:00:00"]
[null,null,{"$f":"IF(WEEKDAY(C4,2)=1,C4,\"\")","v":""},{"$f":"IF(WEEKDAY(C4,2)=2,C4,IF(C6<>\"\",C6+1,\"\"))","v":""},{"$f":"IF(WEEKDAY(C4,2)=3,C4,IF(D6<>\"\",D6+1,\"\"))","v":""},{"$f":"IF(WEEKDAY(C4,2)=4,C4,IF(E6<>\"\",E6+1,\"\"))","v":"2018-03-01"},{"$f":"IF(WEEKDAY(C4,2)=5,C4,IF(F6<>\"\",F6+1,\"\"))","v":"2018-03-02"},{"$f":"IF(WEEKDAY(C4,2)=6,C4,IF(G6<>\"\",G6+1,\"\"))","v":"2018-03-03"},{"$f":"IF(WEEKDAY(C4,2)=7,C4,IF(H6<>\"\",H6+1,\"\"))","v":"2018-03-04"},"","",{"$f":"DATE($B$3,$B$4,4)","v":"2018-03-04"},{"$f":"DATE($B$3,$B$4,4)","v":"2018-03-04"},null,"00:00:00",null,null,null,null,null,null,"","","","","",{"$f":"IF(ISERROR(IF(NOT(ISERROR(MATCH($M6,Blad2!$A$2:$A$11,0))),7,WEEKDAY($M6,2))),\"\",IF(NOT(ISERROR(MATCH($M6,Blad2!$A$2:$A$11,0))),7,WEEKDAY($M6,2)))","v":7},{"$f":"IF(AND($AA6<6,N6<>\"\",O6<>\"\"),ort($N6,$O6,$AY$3:$AZ$3),\"\")","v":""},{"$f":"IF(AND($AA6<6,N6<>\"\",O6<>\"\"),ort($N6,$O6,$AY$4:$AZ$5),\"\")","v":""},{"$f":"IF(AND($AA6<6,N6<>\"\",O6<>\"\"),ort($N6,$O6,$AY$6:$AZ$7),\"\")","v":""},{"$f":"IF(AND($AA6=6,N6<>\"\",O6<>\"\"),ort($N6,$O6,$AY$8:$AZ$8),\"\")","v":""},{"$f":"IF(AND($AA6=7,N6<>\"\",O6<>\"\"),ort($N6,$O6,$AY$9:$AZ$9),\"\")","v":""},{"$f":"IF(AND($AA6<6,P6<>\"\",Q6<>\"\"),ort($P6,$Q6,$AY$3:$AZ$3),\"\")","v":""},{"$f":"IF(AND($AA6<6,P6<>\"\",Q6<>\"\"),ort($P6,$Q6,$AY$4:$AZ$5),\"\")","v":""},{"$f":"IF(AND($AA6<6,P6<>\"\",Q6<>\"\"),ort($P6,$Q6,$AY$6:$AZ$7),\"\")","v":""},{"$f":"IF(AND($AA6=6,P6<>\"\",Q6<>\"\"),ort($P6,$Q6,$AY$8:$AZ$8),\"\")","v":""},{"$f":"IF(AND($AA6=7,P6<>\"\",Q6<>\"\"),ort($P6,$Q6,$AY$9:$AZ$9),\"\")","v":""},{"$f":"IF(AND($AA6<6,R6<>\"\",S6<>\"\"),ort($R6,$S6,$AY$3:$AZ$3),\"\")","v":""},{"$f":"IF(AND($AA6<6,R6<>\"\",S6<>\"\"),ort($R6,$S6,$AY$4:$AZ$5),\"\")","v":""},{"$f":"IF(AND($AA6<6,R6<>\"\",S6<>\"\"),ort($R6,$S6,$AY$6:$AZ$7),\"\")","v":""},{"$f":"IF(AND($AA6=6,R6<>\"\",S6<>\"\"),ort($R6,$S6,$AY$8:$AZ$8),\"\")","v":""},{"$f":"IF(AND($AA6=7,R6<>\"\",S6<>\"\"),ort($R6,$S6,$AY$9:$AZ$9),\"\")","v":""},{"$f":"IF(AND($AA6<6,T6<>\"\",U6<>\"\"),ort($T6,$U6,$AY$3:$AZ$3),\"\")","v":""},{"$f":"IF(AND($AA6<6,T6<>\"\",U6<>\"\"),ort($T6,$U6,$AY$4:$AZ$5),\"\")","v":""},{"$f":"IF(AND($AA6<6,T6<>\"\",U6<>\"\"),ort($T6,$U6,$AY$6:$AZ$7),\"\")","v":""},{"$f":"IF(AND($AA6=6,T6<>\"\",U6<>\"\"),ort($T6,$U6,$AY$8:$AZ$8),\"\")","v":""},{"$f":"IF(AND($AA6=7,T6<>\"\",U6<>\"\"),ort($T6,$U6,$AY$9:$AZ$9),\"\")","v":""},null,1.5,"m-vr",0,0.25,null,null,null,null,"00:00:00"]
[null,null,{"$f":"I6+1","v":"2018-03-05"},{"$f":"C7+1","v":"2018-03-06"},{"$f":"D7+1","v":"2018-03-07"},"2018-03-08","2018-03-09","2018-03-10","2018-03-11","",10,{"$f":"DATE($B$3,$B$4,5)","v":"2018-03-05"},{"$f":"DATE($B$3,$B$4,5)","v":"2018-03-05"},null,"00:00:00",null,null,null,null,null,null,"","","","","",{"$f":"IF(ISERROR(IF(NOT(ISERROR(MATCH($M7,Blad2!$A$2:$A$11,0))),7,WEEKDAY($M7,2))),\"\",IF(NOT(ISERROR(MATCH($M7,Blad2!$A$2:$A$11,0))),7,WEEKDAY($M7,2)))","v":1},{"$f":"IF(AND($AA7<6,N7<>\"\",O7<>\"\"),ort($N7,$O7,$AY$3:$AZ$3),\"\")","v":""},{"$f":"IF(AND($AA7<6,N7<>\"\",O7<>\"\"),ort($N7,$O7,$AY$4:$AZ$5),\"\")","v":""},{"$f":"IF(AND($AA7<6,N7<>\"\",O7<>\"\"),ort($N7,$O7,$AY$6:$AZ$7),\"\")","v":""},{"$f":"IF(AND($AA7=6,N7<>\"\",O7<>\"\"),ort($N7,$O7,$AY$8:$AZ$8),\"\")","v":""},{"$f":"IF(AND($AA7=7,N7<>\"\",O7<>\"\"),ort($N7,$O7,$AY$9:$AZ$9),\"\")","v":""},{"$f":"IF(AND($AA7<6,P7<>\"\",Q7<>\"\"),ort($P7,$Q7,$AY$3:$AZ$3),\"\")","v":""},{"$f":"IF(AND($AA7<6,P7<>\"\",Q7<>\"\"),ort($P7,$Q7,$AY$4:$AZ$5),\"\")","v":""},{"$f":"IF(AND($AA7<6,P7<>\"\",Q7<>\"\"),ort($P7,$Q7,$AY$6:$AZ$7),\"\")","v":""},{"$f":"IF(AND($AA7=6,P7<>\"\",Q7<>\"\"),ort($P7,$Q7,$AY$8:$AZ$8),\"\")","v":""},{"$f":"IF(AND($AA7=7,P7<>\"\",Q7<>\"\"),ort($P7,$Q7,$AY$9:$AZ$9),\"\")","v":""},{"$f":"IF(AND($AA7<6,R7<>\"\",S7<>\"\"),ort($R7,$S7,$AY$3:$AZ$3),\"\")","v":""},{"$f":"IF(AND($AA7<6,R7<>\"\",S7<>\"\"),ort($R7,$S7,$AY$4:$AZ$5),\"\")","v":""},{"$f":"IF(AND($AA7<6,R7<>\"\",S7<>\"\"),ort($R7,$S7,$AY$6:$AZ$7),\"\")","v":""},{"$f":"IF(AND($AA7=6,R7<>\"\",S7<>\"\"),ort($R7,$S7,$AY$8:$AZ$8),\"\")","v":""},{"$f":"IF(AND($AA7=7,R7<>\"\",S7<>\"\"),ort($R7,$S7,$AY$9:$AZ$9),\"\")","v":""},{"$f":"IF(AND($AA7<6,T7<>\"\",U7<>\"\"),ort($T7,$U7,$AY$3:$AZ$3),\"\")","v":""},{"$f":"IF(AND($AA7<6,T7<>\"\",U7<>\"\"),ort($T7,$U7,$AY$4:$AZ$5),\"\")","v":""},{"$f":"IF(AND($AA7<6,T7<>\"\",U7<>\"\"),ort($T7,$U7,$AY$6:$AZ$7),\"\")","v":""},{"$f":"IF(AND($AA7=6,T7<>\"\",U7<>\"\"),ort($T7,$U7,$AY$8:$AZ$8),\"\")","v":""},{"$f":"IF(AND($AA7=7,T7<>\"\",U7<>\"\"),ort($T7,$U7,$AY$9:$AZ$9),\"\")","v":""},null,1.5,"m-vr",0.77083333333333337,1,null,null,null,null,"00:00:00"]
[null,null,{"$f":"I7+1","v":"2018-03-12"},{"$f":"C8+1","v":"2018-03-13"},"2018-03-14","2018-03-15","2018-03-16","2018-03-17","2018-03-18","","",{"$f":"DATE($B$3,$B$4,6)","v":"2018-03-06"},{"$f":"DATE($B$3,$B$4,6)","v":"2018-03-06"},null,"00:00:00",null,null,null,null,null,null,"","","","","",{"$f":"IF(ISERROR(IF(NOT(ISERROR(MATCH($M8,Blad2!$A$2:$A$11,0))),7,WEEKDAY($M8,2))),\"\",IF(NOT(ISERROR(MATCH($M8,Blad2!$A$2:$A$11,0))),7,WEEKDAY($M8,2)))","v":2},{"$f":"IF(AND($AA8<6,N8<>\"\",O8<>\"\"),ort($N8,$O8,$AY$3:$AZ$3),\"\")","v":""},{"$f":"IF(AND($AA8<6,N8<>\"\",O8<>\"\"),ort($N8,$O8,$AY$4:$AZ$5),\"\")","v":""},{"$f":"IF(AND($AA8<6,N8<>\"\",O8<>\"\"),ort($N8,$O8,$AY$6:$AZ$7),\"\")","v":""},{"$f":"IF(AND($AA8=6,N8<>\"\",O8<>\"\"),ort($N8,$O8,$AY$8:$AZ$8),\"\")","v":""},{"$f":"IF(AND($AA8=7,N8<>\"\",O8<>\"\"),ort($N8,$O8,$AY$9:$AZ$9),\"\")","v":""},{"$f":"IF(AND($AA8<6,P8<>\"\",Q8<>\"\"),ort($P8,$Q8,$AY$3:$AZ$3),\"\")","v":""},{"$f":"IF(AND($AA8<6,P8<>\"\",Q8<>\"\"),ort($P8,$Q8,$AY$4:$AZ$5),\"\")","v":""},{"$f":"IF(AND($AA8<6,P8<>\"\",Q8<>\"\"),ort($P8,$Q8,$AY$6:$AZ$7),\"\")","v":""},{"$f":"IF(AND($AA8=6,P8<>\"\",Q8<>\"\"),ort($P8,$Q8,$AY$8:$AZ$8),\"\")","v":""},{"$f":"IF(AND($AA8=7,P8<>\"\",Q8<>\"\"),ort($P8,$Q8,$AY$9:$AZ$9),\"\")","v":""},{"$f":"IF(AND($AA8<6,R8<>\"\",S8<>\"\"),ort($R8,$S8,$AY$3:$AZ$3),\"\")","v":""},{"$f":"IF(AND($AA8<6,R8<>\"\",S8<>\"\"),ort($R8,$S8,$AY$4:$AZ$5),\"\")","v":""},{"$f":"IF(AND($AA8<6,R8<>\"\",S8<>\"\"),ort($R8,$S8,$AY$6:$AZ$7),\"\")","v":""},{"$f":"IF(AND($AA8=6,R8<>\"\",S8<>\"\"),ort($R8,$S8,$AY$8:$AZ$8),\"\")","v":""},{"$f":"IF(AND($AA8=7,R8<>\"\",S8<>\"\"),ort($R8,$S8,$AY$9:$AZ$9),\"\")","v":""},{"$f":"IF(AND($AA8<6,T8<>\"\",U8<>\"\"),ort($T8,$U8,$AY$3:$AZ$3),\"\")","v":""},{"$f":"IF(AND($AA8<6,T8<>\"\",U8<>\"\"),ort($T8,$U8,$AY$4:$AZ$5),\"\")","v":""},{"$f":"IF(AND($AA8<6,T8<>\"\",U8<>\"\"),ort($T8,$U8,$AY$6:$AZ$7),\"\")","v":""},{"$f":"IF(AND($AA8=6,T8<>\"\",U8<>\"\"),ort($T8,$U8,$AY$8:$AZ$8),\"\")","v":""},{"$f":"IF(AND($AA8=7,T8<>\"\",U8<>\"\"),ort($T8,$U8,$AY$9:$AZ$9),\"\")","v":""},null,1.5,"za",0,1,null,null,null,null,"00:00:00"]
[null,null,{"$f":"I8+1","v":"2018-03-19"},{"$f":"C9+1","v":"2018-03-20"},"2018-03-21","2018-03-22","2018-03-23","2018-03-24","2018-03-25","","",{"$f":"DATE($B$3,$B$4,7)","v":"2018-03-07"},{"$f":"DATE($B$3,$B$4,7)","v":"2018-03-07"},null,"00:00:00",null,null,null,null,null,null,"","","","","",{"$f":"IF(ISERROR(IF(NOT(ISERROR(MATCH($M9,Blad2!$A$2:$A$11,0))),7,WEEKDAY($M9,2))),\"\",IF(NOT(ISERROR(MATCH($M9,Blad2!$A$2:$A$11,0))),7,WEEKDAY($M9,2)))","v":3},{"$f":"IF(AND($AA9<6,N9<>\"\",O9<>\"\"),ort($N9,$O9,$AY$3:$AZ$3),\"\")","v":""},{"$f":"IF(AND($AA9<6,N9<>\"\",O9<>\"\"),ort($N9,$O9,$AY$4:$AZ$5),\"\")","v":""},{"$f":"IF(AND($AA9<6,N9<>\"\",O9<>\"\"),ort($N9,$O9,$AY$6:$AZ$7),\"\")","v":""},{"$f":"IF(AND($AA9=6,N9<>\"\",O9<>\"\"),ort($N9,$O9,$AY$8:$AZ$8),\"\")","v":""},{"$f":"IF(AND($AA9=7,N9<>\"\",O9<>\"\"),ort($N9,$O9,$AY$9:$AZ$9),\"\")","v":""},{"$f":"IF(AND($AA9<6,P9<>\"\",Q9<>\"\"),ort($P9,$Q9,$AY$3:$AZ$3),\"\")","v":""},{"$f":"IF(AND($AA9<6,P9<>\"\",Q9<>\"\"),ort($P9,$Q9,$AY$4:$AZ$5),\"\")","v":""},{"$f":"IF(AND($AA9<6,P9<>\"\",Q9<>\"\"),ort($P9,$Q9,$AY$6:$AZ$7),\"\")","v":""},{"$f":"IF(AND($AA9=6,P9<>\"\",Q9<>\"\"),ort($P9,$Q9,$AY$8:$AZ$8),\"\")","v":""},{"$f":"IF(AND($AA9=7,P9<>\"\",Q9<>\"\"),ort($P9,$Q9,$AY$9:$AZ$9),\"\")","v":""},{"$f":"IF(AND($AA9<6,R9<>\"\",S9<>\"\"),ort($R9,$S9,$AY$3:$AZ$3),\"\")","v":""},{"$f":"IF(AND($AA9<6,R9<>\"\",S9<>\"\"),ort($R9,$S9,$AY$4:$AZ$5),\"\")","v":""},{"$f":"IF(AND($AA9<6,R9<>\"\",S9<>\"\"),ort($R9,$S9,$AY$6:$AZ$7),\"\")","v":""},{"$f":"IF(AND($AA9=6,R9<>\"\",S9<>\"\"),ort($R9,$S9,$AY$8:$AZ$8),\"\")","v":""},{"$f":"IF(AND($AA9=7,R9<>\"\",S9<>\"\"),ort($R9,$S9,$AY$9:$AZ$9),\"\")","v":""},{"$f":"IF(AND($AA9<6,T9<>\"\",U9<>\"\"),ort($T9,$U9,$AY$3:$AZ$3),\"\")","v":""},{"$f":"IF(AND($AA9<6,T9<>\"\",U9<>\"\"),ort($T9,$U9,$AY$4:$AZ$5),\"\")","v":""},{"$f":"IF(AND($AA9<6,T9<>\"\",U9<>\"\"),ort($T9,$U9,$AY$6:$AZ$7),\"\")","v":""},{"$f":"IF(AND($AA9=6,T9<>\"\",U9<>\"\"),ort($T9,$U9,$AY$8:$AZ$8),\"\")","v":""},{"$f":"IF(AND($AA9=7,T9<>\"\",U9<>\"\"),ort($T9,$U9,$AY$9:$AZ$9),\"\")","v":""},null,2,"zo/feest",0,1,null,null,null,null,"00:00:00"]
[null,null,{"$f":"IF(I9=\"\",\"\",IF(MONTH(I9+1)=MONTH(I9),I9+1,\"\"))","v":"2018-03-26"},{"$f":"IF(C10=\"\",\"\",IF(MONTH(C10+1)=MONTH(C10),C10+1,\"\"))","v":"2018-03-27"},{"$f":"IF(D10=\"\",\"\",IF(MONTH(D10+1)=MONTH(D10),D10+1,\"\"))","v":"2018-03-28"},"2018-03-29","2018-03-30","2018-03-31","","","",{"$f":"DATE($B$3,$B$4,8)","v":"2018-03-08"},{"$f":"DATE($B$3,$B$4,8)","v":"2018-03-08"},null,"00:00:00",null,null,null,null,null,null,"","","","","",{"$f":"IF(ISERROR(IF(NOT(ISERROR(MATCH($M10,Blad2!$A$2:$A$11,0))),7,WEEKDAY($M10,2))),\"\",IF(NOT(ISERROR(MATCH($M10,Blad2!$A$2:$A$11,0))),7,WEEKDAY($M10,2)))","v":4},{"$f":"IF(AND($AA10<6,N10<>\"\",O10<>\"\"),ort($N10,$O10,$AY$3:$AZ$3),\"\")","v":""},{"$f":"IF(AND($AA10<6,N10<>\"\",O10<>\"\"),ort($N10,$O10,$AY$4:$AZ$5),\"\")","v":""},{"$f":"IF(AND($AA10<6,N10<>\"\",O10<>\"\"),ort($N10,$O10,$AY$6:$AZ$7),\"\")","v":""},{"$f":"IF(AND($AA10=6,N10<>\"\",O10<>\"\"),ort($N10,$O10,$AY$8:$AZ$8),\"\")","v":""},{"$f":"IF(AND($AA10=7,N10<>\"\",O10<>\"\"),ort($N10,$O10,$AY$9:$AZ$9),\"\")","v":""},{"$f":"IF(AND($AA10<6,P10<>\"\",Q10<>\"\"),ort($P10,$Q10,$AY$3:$AZ$3),\"\")","v":""},{"$f":"IF(AND($AA10<6,P10<>\"\",Q10<>\"\"),ort($P10,$Q10,$AY$4:$AZ$5),\"\")","v":""},{"$f":"IF(AND($AA10<6,P10<>\"\",Q10<>\"\"),ort($P10,$Q10,$AY$6:$AZ$7),\"\")","v":""},{"$f":"IF(AND($AA10=6,P10<>\"\",Q10<>\"\"),ort($P10,$Q10,$AY$8:$AZ$8),\"\")","v":""},{"$f":"IF(AND($AA10=7,P10<>\"\",Q10<>\"\"),ort($P10,$Q10,$AY$9:$AZ$9),\"\")","v":""},{"$f":"IF(AND($AA10<6,R10<>\"\",S10<>\"\"),ort($R10,$S10,$AY$3:$AZ$3),\"\")","v":""},{"$f":"IF(AND($AA10<6,R10<>\"\",S10<>\"\"),ort($R10,$S10,$AY$4:$AZ$5),\"\")","v":""},{"$f":"IF(AND($AA10<6,R10<>\"\",S10<>\"\"),ort($R10,$S10,$AY$6:$AZ$7),\"\")","v":""},{"$f":"IF(AND($AA10=6,R10<>\"\",S10<>\"\"),ort($R10,$S10,$AY$8:$AZ$8),\"\")","v":""},{"$f":"IF(AND($AA10=7,R10<>\"\",S10<>\"\"),ort($R10,$S10,$AY$9:$AZ$9),\"\")","v":""},{"$f":"IF(AND($AA10<6,T10<>\"\",U10<>\"\"),ort($T10,$U10,$AY$3:$AZ$3),\"\")","v":""},{"$f":"IF(AND($AA10<6,T10<>\"\",U10<>\"\"),ort($T10,$U10,$AY$4:$AZ$5),\"\")","v":""},{"$f":"IF(AND($AA10<6,T10<>\"\",U10<>\"\"),ort($T10,$U10,$AY$6:$AZ$7),\"\")","v":""},{"$f":"IF(AND($AA10=6,T10<>\"\",U10<>\"\"),ort($T10,$U10,$AY$8:$AZ$8),\"\")","v":""},{"$f":"IF(AND($AA10=7,T10<>\"\",U10<>\"\"),ort($T10,$U10,$AY$9:$AZ$9),\"\")","v":""},null,null,null,null,null,null,null,null,null,"00:00:00"]
[null,null,{"$f":"IF(I10=\"\",\"\",IF(MONTH(I10+1)=MONTH(I10),I10+1,\"\"))","v":""},{"$f":"IF(C11=\"\",\"\",IF(MONTH(C11+1)=MONTH(C11),C11+1,\"\"))","v":""},"","","","","","","",{"$f":"DATE($B$3,$B$4,9)","v":"2018-03-09"},{"$f":"DATE($B$3,$B$4,9)","v":"2018-03-09"},null,"00:00:00",null,null,null,null,null,null,"","","","","",{"$f":"IF(ISERROR(IF(NOT(ISERROR(MATCH($M11,Blad2!$A$2:$A$11,0))),7,WEEKDAY($M11,2))),\"\",IF(NOT(ISERROR(MATCH($M11,Blad2!$A$2:$A$11,0))),7,WEEKDAY($M11,2)))","v":5},{"$f":"IF(AND($AA11<6,N11<>\"\",O11<>\"\"),ort($N11,$O11,$AY$3:$AZ$3),\"\")","v":""},{"$f":"IF(AND($AA11<6,N11<>\"\",O11<>\"\"),ort($N11,$O11,$AY$4:$AZ$5),\"\")","v":""},{"$f":"IF(AND($AA11<6,N11<>\"\",O11<>\"\"),ort($N11,$O11,$AY$6:$AZ$7),\"\")","v":""},{"$f":"IF(AND($AA11=6,N11<>\"\",O11<>\"\"),ort($N11,$O11,$AY$8:$AZ$8),\"\")","v":""},{"$f":"IF(AND($AA11=7,N11<>\"\",O11<>\"\"),ort($N11,$O11,$AY$9:$AZ$9),\"\")","v":""},{"$f":"IF(AND($AA11<6,P11<>\"\",Q11<>\"\"),ort($P11,$Q11,$AY$3:$AZ$3),\"\")","v":""},{"$f":"IF(AND($AA11<6,P11<>\"\",Q11<>\"\"),ort($P11,$Q11,$AY$4:$AZ$5),\"\")","v":""},{"$f":"IF(AND($AA11<6,P11<>\"\",Q11<>\"\"),ort($P11,$Q11,$AY$6:$AZ$7),\"\")","v":""},{"$f":"IF(AND($AA11=6,P11<>\"\",Q11<>\"\"),ort($P11,$Q11,$AY$8:$AZ$8),\"\")","v":""},{"$f":"IF(AND($AA11=7,P11<>\"\",Q11<>\"\"),ort($P11,$Q11,$AY$9:$AZ$9),\"\")","v":""},{"$f":"IF(AND($AA11<6,R11<>\"\",S11<>\"\"),ort($R11,$S11,$AY$3:$AZ$3),\"\")","v":""},{"$f":"IF(AND($AA11<6,R11<>\"\",S11<>\"\"),ort($R11,$S11,$AY$4:$AZ$5),\"\")","v":""},{"$f":"IF(AND($AA11<6,R11<>\"\",S11<>\"\"),ort($R11,$S11,$AY$6:$AZ$7),\"\")","v":""},{"$f":"IF(AND($AA11=6,R11<>\"\",S11<>\"\"),ort($R11,$S11,$AY$8:$AZ$8),\"\")","v":""},{"$f":"IF(AND($AA11=7,R11<>\"\",S11<>\"\"),ort($R11,$S11,$AY$9:$AZ$9),\"\")","v":""},{"$f":"IF(AND($AA11<6,T11<>\"\",U11<>\"\"),ort($T11,$U11,$AY$3:$AZ$3),\"\")","v":""},{"$f":"IF(AND($AA11<6,T11<>\"\",U11<>\"\"),ort($T11,$U11,$AY$4:$AZ$5),\"\")","v":""},{"$f":"IF(AND($AA11<6,T11<>\"\",U11<>\"\"),ort($T11,$U11,$AY$6:$AZ$7),\"\")","v":""},{"$f":"IF(AND($AA11=6,T11<>\"\",U11<>\"\"),ort($T11,$U11,$AY$8:$AZ$8),\"\")","v":""},{"$f":"IF(AND($AA11=7,T11<>\"\",U11<>\"\"),ort($T11,$U11,$AY$9:$AZ$9),\"\")","v":""},null,null,null,null,null,null,null,null,null,"00:00:00"]
[null,null,null,null,null,null,null,null,null,"","",{"$f":"DATE($B$3,$B$4,10)","v":"2018-03-10"},{"$f":"DATE($B$3,$B$4,10)","v":"2018-03-10"},null,"00:00:00",null,null,null,null,null,null,"","","","","",{"$f":"IF(ISERROR(IF(NOT(ISERROR(MATCH($M12,Blad2!$A$2:$A$11,0))),7,WEEKDAY($M12,2))),\"\",IF(NOT(ISERROR(MATCH($M12,Blad2!$A$2:$A$11,0))),7,WEEKDAY($M12,2)))","v":6},{"$f":"IF(AND($AA12<6,N12<>\"\",O12<>\"\"),ort($N12,$O12,$AY$3:$AZ$3),\"\")","v":""},{"$f":"IF(AND($AA12<6,N12<>\"\",O12<>\"\"),ort($N12,$O12,$AY$4:$AZ$5),\"\")","v":""},{"$f":"IF(AND($AA12<6,N12<>\"\",O12<>\"\"),ort($N12,$O12,$AY$6:$AZ$7),\"\")","v":""},{"$f":"IF(AND($AA12=6,N12<>\"\",O12<>\"\"),ort($N12,$O12,$AY$8:$AZ$8),\"\")","v":""},{"$f":"IF(AND($AA12=7,N12<>\"\",O12<>\"\"),ort($N12,$O12,$AY$9:$AZ$9),\"\")","v":""},{"$f":"IF(AND($AA12<6,P12<>\"\",Q12<>\"\"),ort($P12,$Q12,$AY$3:$AZ$3),\"\")","v":""},{"$f":"IF(AND($AA12<6,P12<>\"\",Q12<>\"\"),ort($P12,$Q12,$AY$4:$AZ$5),\"\")","v":""},{"$f":"IF(AND($AA12<6,P12<>\"\",Q12<>\"\"),ort($P12,$Q12,$AY$6:$AZ$7),\"\")","v":""},{"$f":"IF(AND($AA12=6,P12<>\"\",Q12<>\"\"),ort($P12,$Q12,$AY$8:$AZ$8),\"\")","v":""},{"$f":"IF(AND($AA12=7,P12<>\"\",Q12<>\"\"),ort($P12,$Q12,$AY$9:$AZ$9),\"\")","v":""},{"$f":"IF(AND($AA12<6,R12<>\"\",S12<>\"\"),ort($R12,$S12,$AY$3:$AZ$3),\"\")","v":""},{"$f":"IF(AND($AA12<6,R12<>\"\",S12<>\"\"),ort($R12,$S12,$AY$4:$AZ$5),\"\")","v":""},{"$f":"IF(AND($AA12<6,R12<>\"\",S12<>\"\"),ort($R12,$S12,$AY$6:$AZ$7),\"\")","v":""},{"$f":"IF(AND($AA12=6,R12<>\"\",S12<>\"\"),ort($R12,$S12,$AY$8:$AZ$8),\"\")","v":""},{"$f":"IF(AND($AA12=7,R12<>\"\",S12<>\"\"),ort($R12,$S12,$AY$9:$AZ$9),\"\")","v":""},{"$f":"IF(AND($AA12<6,T12<>\"\",U12<>\"\"),ort($T12,$U12,$AY$3:$AZ$3),\"\")","v":""},{"$f":"IF(AND($AA12<6,T12<>\"\",U12<>\"\"),ort($T12,$U12,$AY$4:$AZ$5),\"\")","v":""},{"$f":"IF(AND($AA12<6,T12<>\"\",U12<>\"\"),ort($T12,$U12,$AY$6:$AZ$7),\"\")","v":""},{"$f":"IF(AND($AA12=6,T12<>\"\",U12<>\"\"),ort($T12,$U12,$AY$8:$AZ$8),\"\")","v":""},{"$f":"IF(AND($AA12=7,T12<>\"\",U12<>\"\"),ort($T12,$U12,$AY$9:$AZ$9),\"\")","v":""},null,null,null,null,null,null,null,null,null,"00:00:00"]
[null,"Werkdagen deze maand",null,null,null,null,null,null,null,"","",{"$f":"DATE($B$3,$B$4,11)","v":"2018-03-11"},{"$f":"DATE($B$3,$B$4,11)","v":"2018-03-11"},null,"00:00:00",null,null,null,null,null,null,"","","","","",{"$f":"IF(ISERROR(IF(NOT(ISERROR(MATCH($M13,Blad2!$A$2:$A$11,0))),7,WEEKDAY($M13,2))),\"\",IF(NOT(ISERROR(MATCH($M13,Blad2!$A$2:$A$11,0))),7,WEEKDAY($M13,2)))","v":7},{"$f":"IF(AND($AA13<6,N13<>\"\",O13<>\"\"),ort($N13,$O13,$AY$3:$AZ$3),\"\")","v":""},{"$f":"IF(AND($AA13<6,N13<>\"\",O13<>\"\"),ort($N13,$O13,$AY$4:$AZ$5),\"\")","v":""},{"$f":"IF(AND($AA13<6,N13<>\"\",O13<>\"\"),ort($N13,$O13,$AY$6:$AZ$7),\"\")","v":""},{"$f":"IF(AND($AA13=6,N13<>\"\",O13<>\"\"),ort($N13,$O13,$AY$8:$AZ$8),\"\")","v":""},{"$f":"IF(AND($AA13=7,N13<>\"\",O13<>\"\"),ort($N13,$O13,$AY$9:$AZ$9),\"\")","v":""},{"$f":"IF(AND($AA13<6,P13<>\"\",Q13<>\"\"),ort($P13,$Q13,$AY$3:$AZ$3),\"\")","v":""},{"$f":"IF(AND($AA13<6,P13<>\"\",Q13<>\"\"),ort($P13,$Q13,$AY$4:$AZ$5),\"\")","v":""},{"$f":"IF(AND($AA13<6,P13<>\"\",Q13<>\"\"),ort($P13,$Q13,$AY$6:$AZ$7),\"\")","v":""},{"$f":"IF(AND($AA13=6,P13<>\"\",Q13<>\"\"),ort($P13,$Q13,$AY$8:$AZ$8),\"\")","v":""},{"$f":"IF(AND($AA13=7,P13<>\"\",Q13<>\"\"),ort($P13,$Q13,$AY$9:$AZ$9),\"\")","v":""},{"$f":"IF(AND($AA13<6,R13<>\"\",S13<>\"\"),ort($R13,$S13,$AY$3:$AZ$3),\"\")","v":""},{"$f":"IF(AND($AA13<6,R13<>\"\",S13<>\"\"),ort($R13,$S13,$AY$4:$AZ$5),\"\")","v":""},{"$f":"IF(AND($AA13<6,R13<>\"\",S13<>\"\"),ort($R13,$S13,$AY$6:$AZ$7),\"\")","v":""},{"$f":"IF(AND($AA13=6,R13<>\"\",S13<>\"\"),ort($R13,$S13,$AY$8:$AZ$8),\"\")","v":""},{"$f":"IF(AND($AA13=7,R13<>\"\",S13<>\"\"),ort($R13,$S13,$AY$9:$AZ$9),\"\")","v":""},{"$f":"IF(AND($AA13<6,T13<>\"\",U13<>\"\"),ort($T13,$U13,$AY$3:$AZ$3),\"\")","v":""},{"$f":"IF(AND($AA13<6,T13<>\"\",U13<>\"\"),ort($T13,$U13,$AY$4:$AZ$5),\"\")","v":""},{"$f":"IF(AND($AA13<6,T13<>\"\",U13<>\"\"),ort($T13,$U13,$AY$6:$AZ$7),\"\")","v":""},{"$f":"IF(AND($AA13=6,T13<>\"\",U13<>\"\"),ort($T13,$U13,$AY$8:$AZ$8),\"\")","v":""},{"$f":"IF(AND($AA13=7,T13<>\"\",U13<>\"\"),ort($T13,$U13,$AY$9:$AZ$9),\"\")","v":""},null,null,null,null,null,null,null,null,null,"00:00:00"]
[null,{"$f":"NETWORKDAYS($L$3,EOMONTH($L$3,0),Blad2!A2:A97)&\" dagen\"","v":"22 dagen"},null,null,null,null,null,null,null,"",11,{"$f":"DATE($B$3,$B$4,12)","v":"2018-03-12"},{"$f":"DATE($B$3,$B$4,12)","v":"2018-03-12"},null,"00:00:00",null,null,null,null,null,null,"","","","","",{"$f":"IF(ISERROR(IF(NOT(ISERROR(MATCH($M14,Blad2!$A$2:$A$11,0))),7,WEEKDAY($M14,2))),\"\",IF(NOT(ISERROR(MATCH($M14,Blad2!$A$2:$A$11,0))),7,WEEKDAY($M14,2)))","v":1},{"$f":"IF(AND($AA14<6,N14<>\"\",O14<>\"\"),ort($N14,$O14,$AY$3:$AZ$3),\"\")","v":""},{"$f":"IF(AND($AA14<6,N14<>\"\",O14<>\"\"),ort($N14,$O14,$AY$4:$AZ$5),\"\")","v":""},{"$f":"IF(AND($AA14<6,N14<>\"\",O14<>\"\"),ort($N14,$O14,$AY$6:$AZ$7),\"\")","v":""},{"$f":"IF(AND($AA14=6,N14<>\"\",O14<>\"\"),ort($N14,$O14,$AY$8:$AZ$8),\"\")","v":""},{"$f":"IF(AND($AA14=7,N14<>\"\",O14<>\"\"),ort($N14,$O14,$AY$9:$AZ$9),\"\")","v":""},{"$f":"IF(AND($AA14<6,P14<>\"\",Q14<>\"\"),ort($P14,$Q14,$AY$3:$AZ$3),\"\")","v":""},{"$f":"IF(AND($AA14<6,P14<>\"\",Q14<>\"\"),ort($P14,$Q14,$AY$4:$AZ$5),\"\")","v":""},{"$f":"IF(AND($AA14<6,P14<>\"\",Q14<>\"\"),ort($P14,$Q14,$AY$6:$AZ$7),\"\")","v":""},{"$f":"IF(AND($AA14=6,P14<>\"\",Q14<>\"\"),ort($P14,$Q14,$AY$8:$AZ$8),\"\")","v":""},{"$f":"IF(AND($AA14=7,P14<>\"\",Q14<>\"\"),ort($P14,$Q14,$AY$9:$AZ$9),\"\")","v":""},{"$f":"IF(AND($AA14<6,R14<>\"\",S14<>\"\"),ort($R14,$S14,$AY$3:$AZ$3),\"\")","v":""},{"$f":"IF(AND($AA14<6,R14<>\"\",S14<>\"\"),ort($R14,$S14,$AY$4:$AZ$5),\"\")","v":""},{"$f":"IF(AND($AA14<6,R14<>\"\",S14<>\"\"),ort($R14,$S14,$AY$6:$AZ$7),\"\")","v":""},{"$f":"IF(AND($AA14=6,R14<>\"\",S14<>\"\"),ort($R14,$S14,$AY$8:$AZ$8),\"\")","v":""},{"$f":"IF(AND($AA14=7,R14<>\"\",S14<>\"\"),ort($R14,$S14,$AY$9:$AZ$9),\"\")","v":""},{"$f":"IF(AND($AA14<6,T14<>\"\",U14<>\"\"),ort($T14,$U14,$AY$3:$AZ$3),\"\")","v":""},{"$f":"IF(AND($AA14<6,T14<>\"\",U14<>\"\"),ort($T14,$U14,$AY$4:$AZ$5),\"\")","v":""},{"$f":"IF(AND($AA14<6,T14<>\"\",U14<>\"\"),ort($T14,$U14,$AY$6:$AZ$7),\"\")","v":""},{"$f":"IF(AND($AA14=6,T14<>\"\",U14<>\"\"),ort($T14,$U14,$AY$8:$AZ$8),\"\")","v":""},{"$f":"IF(AND($AA14=7,T14<>\"\",U14<>\"\"),ort($T14,$U14,$AY$9:$AZ$9),\"\")","v":""},null,null,null,null,null,null,null,null,null,"00:00:00"]
[null,null,null,null,null,null,null,null,null,"","",{"$f":"DATE($B$3,$B$4,13)","v":"2018-03-13"},{"$f":"DATE($B$3,$B$4,13)","v":"2018-03-13"},null,"00:00:00",null,null,null,null,null,null,"","","","","",{"$f":"IF(ISERROR(IF(NOT(ISERROR(MATCH($M15,Blad2!$A$2:$A$11,0))),7,WEEKDAY($M15,2))),\"\",IF(NOT(ISERROR(MATCH($M15,Blad2!$A$2:$A$11,0))),7,WEEKDAY($M15,2)))","v":2},{"$f":"IF(AND($AA15<6,N15<>\"\",O15<>\"\"),ort($N15,$O15,$AY$3:$AZ$3),\"\")","v":""},{"$f":"IF(AND($AA15<6,N15<>\"\",O15<>\"\"),ort($N15,$O15,$AY$4:$AZ$5),\"\")","v":""},{"$f":"IF(AND($AA15<6,N15<>\"\",O15<>\"\"),ort($N15,$O15,$AY$6:$AZ$7),\"\")","v":""},{"$f":"IF(AND($AA15=6,N15<>\"\",O15<>\"\"),ort($N15,$O15,$AY$8:$AZ$8),\"\")","v":""},{"$f":"IF(AND($AA15=7,N15<>\"\",O15<>\"\"),ort($N15,$O15,$AY$9:$AZ$9),\"\")","v":""},{"$f":"IF(AND($AA15<6,P15<>\"\",Q15<>\"\"),ort($P15,$Q15,$AY$3:$AZ$3),\"\")","v":""},{"$f":"IF(AND($AA15<6,P15<>\"\",Q15<>\"\"),ort($P15,$Q15,$AY$4:$AZ$5),\"\")","v":""},{"$f":"IF(AND($AA15<6,P15<>\"\",Q15<>\"\"),ort($P15,$Q15,$AY$6:$AZ$7),\"\")","v":""},{"$f":"IF(AND($AA15=6,P15<>\"\",Q15<>\"\"),ort($P15,$Q15,$AY$8:$AZ$8),\"\")","v":""},{"$f":"IF(AND($AA15=7,P15<>\"\",Q15<>\"\"),ort($P15,$Q15,$AY$9:$AZ$9),\"\")","v":""},{"$f":"IF(AND($AA15<6,R15<>\"\",S15<>\"\"),ort($R15,$S15,$AY$3:$AZ$3),\"\")","v":""},{"$f":"IF(AND($AA15<6,R15<>\"\",S15<>\"\"),ort($R15,$S15,$AY$4:$AZ$5),\"\")","v":""},{"$f":"IF(AND($AA15<6,R15<>\"\",S15<>\"\"),ort($R15,$S15,$AY$6:$AZ$7),\"\")","v":""},{"$f":"IF(AND($AA15=6,R15<>\"\",S15<>\"\"),ort($R15,$S15,$AY$8:$AZ$8),\"\")","v":""},{"$f":"IF(AND($AA15=7,R15<>\"\",S15<>\"\"),ort($R15,$S15,$AY$9:$AZ$9),\"\")","v":""},{"$f":"IF(AND($AA15<6,T15<>\"\",U15<>\"\"),ort($T15,$U15,$AY$3:$AZ$3),\"\")","v":""},{"$f":"IF(AND($AA15<6,T15<>\"\",U15<>\"\"),ort($T15,$U15,$AY$4:$AZ$5),\"\")","v":""},{"$f":"IF(AND($AA15<6,T15<>\"\",U15<>\"\"),ort($T15,$U15,$AY$6:$AZ$7),\"\")","v":""},{"$f":"IF(AND($AA15=6,T15<>\"\",U15<>\"\"),ort($T15,$U15,$AY$8:$AZ$8),\"\")","v":""},{"$f":"IF(AND($AA15=7,T15<>\"\",U15<>\"\"),ort($T15,$U15,$AY$9:$AZ$9),\"\")","v":""},null,null,null,null,null,null,null,null,null,{"$f":"SUM(BB15/26/24,BC15:BD15)","v":"00:00:00"}]
[null,"Contract Uren",null,null,null,null,null,null,null,"","",{"$f":"DATE($B$3,$B$4,14)","v":"2018-03-14"},{"$f":"DATE($B$3,$B$4,14)","v":"2018-03-14"},null,"00:00:00",null,null,null,null,null,null,"","","","","",{"$f":"IF(ISERROR(IF(NOT(ISERROR(MATCH($M16,Blad2!$A$2:$A$11,0))),7,WEEKDAY($M16,2))),\"\",IF(NOT(ISERROR(MATCH($M16,Blad2!$A$2:$A$11,0))),7,WEEKDAY($M16,2)))","v":3},{"$f":"IF(AND($AA16<6,N16<>\"\",O16<>\"\"),ort($N16,$O16,$AY$3:$AZ$3),\"\")","v":""},{"$f":"IF(AND($AA16<6,N16<>\"\",O16<>\"\"),ort($N16,$O16,$AY$4:$AZ$5),\"\")","v":""},{"$f":"IF(AND($AA16<6,N16<>\"\",O16<>\"\"),ort($N16,$O16,$AY$6:$AZ$7),\"\")","v":""},{"$f":"IF(AND($AA16=6,N16<>\"\",O16<>\"\"),ort($N16,$O16,$AY$8:$AZ$8),\"\")","v":""},{"$f":"IF(AND($AA16=7,N16<>\"\",O16<>\"\"),ort($N16,$O16,$AY$9:$AZ$9),\"\")","v":""},{"$f":"IF(AND($AA16<6,P16<>\"\",Q16<>\"\"),ort($P16,$Q16,$AY$3:$AZ$3),\"\")","v":""},{"$f":"IF(AND($AA16<6,P16<>\"\",Q16<>\"\"),ort($P16,$Q16,$AY$4:$AZ$5),\"\")","v":""},{"$f":"IF(AND($AA16<6,P16<>\"\",Q16<>\"\"),ort($P16,$Q16,$AY$6:$AZ$7),\"\")","v":""},{"$f":"IF(AND($AA16=6,P16<>\"\",Q16<>\"\"),ort($P16,$Q16,$AY$8:$AZ$8),\"\")","v":""},{"$f":"IF(AND($AA16=7,P16<>\"\",Q16<>\"\"),ort($P16,$Q16,$AY$9:$AZ$9),\"\")","v":""},{"$f":"IF(AND($AA16<6,R16<>\"\",S16<>\"\"),ort($R16,$S16,$AY$3:$AZ$3),\"\")","v":""},{"$f":"IF(AND($AA16<6,R16<>\"\",S16<>\"\"),ort($R16,$S16,$AY$4:$AZ$5),\"\")","v":""},{"$f":"IF(AND($AA16<6,R16<>\"\",S16<>\"\"),ort($R16,$S16,$AY$6:$AZ$7),\"\")","v":""},{"$f":"IF(AND($AA16=6,R16<>\"\",S16<>\"\"),ort($R16,$S16,$AY$8:$AZ$8),\"\")","v":""},{"$f":"IF(AND($AA16=7,R16<>\"\",S16<>\"\"),ort($R16,$S16,$AY$9:$AZ$9),\"\")","v":""},{"$f":"IF(AND($AA16<6,T16<>\"\",U16<>\"\"),ort($T16,$U16,$AY$3:$AZ$3),\"\")","v":""},{"$f":"IF(AND($AA16<6,T16<>\"\",U16<>\"\"),ort($T16,$U16,$AY$4:$AZ$5),\"\")","v":""},{"$f":"IF(AND($AA16<6,T16<>\"\",U16<>\"\"),ort($T16,$U16,$AY$6:$AZ$7),\"\")","v":""},{"$f":"IF(AND($AA16=6,T16<>\"\",U16<>\"\"),ort($T16,$U16,$AY$8:$AZ$8),\"\")","v":""},{"$f":"IF(AND($AA16=7,T16<>\"\",U16<>\"\"),ort($T16,$U16,$AY$9:$AZ$9),\"\")","v":""},null,null,null,null,null,null,null,null,null,{"$f":"SUM(BB16/26/24,BC16:BD16)","v":"00:00:00"}]
[null,3.75,null,null,null,null,null,null,null,"","",{"$f":"DATE($B$3,$B$4,15)","v":"2018-03-15"},{"$f":"DATE($B$3,$B$4,15)","v":"2018-03-15"},null,"00:00:00",null,null,null,null,null,null,"","","","","",{"$f":"IF(ISERROR(IF(NOT(ISERROR(MATCH($M17,Blad2!$A$2:$A$11,0))),7,WEEKDAY($M17,2))),\"\",IF(NOT(ISERROR(MATCH($M17,Blad2!$A$2:$A$11,0))),7,WEEKDAY($M17,2)))","v":4},{"$f":"IF(AND($AA17<6,N17<>\"\",O17<>\"\"),ort($N17,$O17,$AY$3:$AZ$3),\"\")","v":""},{"$f":"IF(AND($AA17<6,N17<>\"\",O17<>\"\"),ort($N17,$O17,$AY$4:$AZ$5),\"\")","v":""},{"$f":"IF(AND($AA17<6,N17<>\"\",O17<>\"\"),ort($N17,$O17,$AY$6:$AZ$7),\"\")","v":""},{"$f":"IF(AND($AA17=6,N17<>\"\",O17<>\"\"),ort($N17,$O17,$AY$8:$AZ$8),\"\")","v":""},{"$f":"IF(AND($AA17=7,N17<>\"\",O17<>\"\"),ort($N17,$O17,$AY$9:$AZ$9),\"\")","v":""},{"$f":"IF(AND($AA17<6,P17<>\"\",Q17<>\"\"),ort($P17,$Q17,$AY$3:$AZ$3),\"\")","v":""},{"$f":"IF(AND($AA17<6,P17<>\"\",Q17<>\"\"),ort($P17,$Q17,$AY$4:$AZ$5),\"\")","v":""},{"$f":"IF(AND($AA17<6,P17<>\"\",Q17<>\"\"),ort($P17,$Q17,$AY$6:$AZ$7),\"\")","v":""},{"$f":"IF(AND($AA17=6,P17<>\"\",Q17<>\"\"),ort($P17,$Q17,$AY$8:$AZ$8),\"\")","v":""},{"$f":"IF(AND($AA17=7,P17<>\"\",Q17<>\"\"),ort($P17,$Q17,$AY$9:$AZ$9),\"\")","v":""},{"$f":"IF(AND($AA17<6,R17<>\"\",S17<>\"\"),ort($R17,$S17,$AY$3:$AZ$3),\"\")","v":""},{"$f":"IF(AND($AA17<6,R17<>\"\",S17<>\"\"),ort($R17,$S17,$AY$4:$AZ$5),\"\")","v":""},{"$f":"IF(AND($AA17<6,R17<>\"\",S17<>\"\"),ort($R17,$S17,$AY$6:$AZ$7),\"\")","v":""},{"$f":"IF(AND($AA17=6,R17<>\"\",S17<>\"\"),ort($R17,$S17,$AY$8:$AZ$8),\"\")","v":""},{"$f":"IF(AND($AA17=7,R17<>\"\",S17<>\"\"),ort($R17,$S17,$AY$9:$AZ$9),\"\")","v":""},{"$f":"IF(AND($AA17<6,T17<>\"\",U17<>\"\"),ort($T17,$U17,$AY$3:$AZ$3),\"\")","v":""},{"$f":"IF(AND($AA17<6,T17<>\"\",U17<>\"\"),ort($T17,$U17,$AY$4:$AZ$5),\"\")","v":""},{"$f":"IF(AND($AA17<6,T17<>\"\",U17<>\"\"),ort($T17,$U17,$AY$6:$AZ$7),\"\")","v":""},{"$f":"IF(AND($AA17=6,T17<>\"\",U17<>\"\"),ort($T17,$U17,$AY$8:$AZ$8),\"\")","v":""},{"$f":"IF(AND($AA17=7,T17<>\"\",U17<>\"\"),ort($T17,$U17,$AY$9:$AZ$9),\"\")","v":""},null,null,null,null,null,null,null,null,null,"00:00:00"]
[null,null,null,null,null,null,null,null,null,"","",{"$f":"DATE($B$3,$B$4,16)","v":"2018-03-16"},{"$f":"DATE($B$3,$B$4,16)","v":"2018-03-16"},null,"00:00:00",null,null,null,null,null,null,"","","","","",{"$f":"IF(ISERROR(IF(NOT(ISERROR(MATCH($M18,Blad2!$A$2:$A$11,0))),7,WEEKDAY($M18,2))),\"\",IF(NOT(ISERROR(MATCH($M18,Blad2!$A$2:$A$11,0))),7,WEEKDAY($M18,2)))","v":5},{"$f":"IF(AND($AA18<6,N18<>\"\",O18<>\"\"),ort($N18,$O18,$AY$3:$AZ$3),\"\")","v":""},{"$f":"IF(AND($AA18<6,N18<>\"\",O18<>\"\"),ort($N18,$O18,$AY$4:$AZ$5),\"\")","v":""},{"$f":"IF(AND($AA18<6,N18<>\"\",O18<>\"\"),ort($N18,$O18,$AY$6:$AZ$7),\"\")","v":""},{"$f":"IF(AND($AA18=6,N18<>\"\",O18<>\"\"),ort($N18,$O18,$AY$8:$AZ$8),\"\")","v":""},{"$f":"IF(AND($AA18=7,N18<>\"\",O18<>\"\"),ort($N18,$O18,$AY$9:$AZ$9),\"\")","v":""},{"$f":"IF(AND($AA18<6,P18<>\"\",Q18<>\"\"),ort($P18,$Q18,$AY$3:$AZ$3),\"\")","v":""},{"$f":"IF(AND($AA18<6,P18<>\"\",Q18<>\"\"),ort($P18,$Q18,$AY$4:$AZ$5),\"\")","v":""},{"$f":"IF(AND($AA18<6,P18<>\"\",Q18<>\"\"),ort($P18,$Q18,$AY$6:$AZ$7),\"\")","v":""},{"$f":"IF(AND($AA18=6,P18<>\"\",Q18<>\"\"),ort($P18,$Q18,$AY$8:$AZ$8),\"\")","v":""},{"$f":"IF(AND($AA18=7,P18<>\"\",Q18<>\"\"),ort($P18,$Q18,$AY$9:$AZ$9),\"\")","v":""},{"$f":"IF(AND($AA18<6,R18<>\"\",S18<>\"\"),ort($R18,$S18,$AY$3:$AZ$3),\"\")","v":""},{"$f":"IF(AND($AA18<6,R18<>\"\",S18<>\"\"),ort($R18,$S18,$AY$4:$AZ$5),\"\")","v":""},{"$f":"IF(AND($AA18<6,R18<>\"\",S18<>\"\"),ort($R18,$S18,$AY$6:$AZ$7),\"\")","v":""},{"$f":"IF(AND($AA18=6,R18<>\"\",S18<>\"\"),ort($R18,$S18,$AY$8:$AZ$8),\"\")","v":""},{"$f":"IF(AND($AA18=7,R18<>\"\",S18<>\"\"),ort($R18,$S18,$AY$9:$AZ$9),\"\")","v":""},{"$f":"IF(AND($AA18<6,T18<>\"\",U18<>\"\"),ort($T18,$U18,$AY$3:$AZ$3),\"\")","v":""},{"$f":"IF(AND($AA18<6,T18<>\"\",U18<>\"\"),ort($T18,$U18,$AY$4:$AZ$5),\"\")","v":""},{"$f":"IF(AND($AA18<6,T18<>\"\",U18<>\"\"),ort($T18,$U18,$AY$6:$AZ$7),\"\")","v":""},{"$f":"IF(AND($AA18=6,T18<>\"\",U18<>\"\"),ort($T18,$U18,$AY$8:$AZ$8),\"\")","v":""},{"$f":"IF(AND($AA18=7,T18<>\"\",U18<>\"\"),ort($T18,$U18,$AY$9:$AZ$9),\"\")","v":""},null,null,null,null,null,null,null,null,null,"00:00:00"]
[null,"Gewerkte uren deze maand",null,null,null,null,null,null,null,"","",{"$f":"DATE($B$3,$B$4,17)","v":"2018-03-17"},{"$f":"DATE($B$3,$B$4,17)","v":"2018-03-17"},null,"00:00:00",null,null,null,null,null,null,"","","","","",{"$f":"IF(ISERROR(IF(NOT(ISERROR(MATCH($M19,Blad2!$A$2:$A$11,0))),7,WEEKDAY($M19,2))),\"\",IF(NOT(ISERROR(MATCH($M19,Blad2!$A$2:$A$11,0))),7,WEEKDAY($M19,2)))","v":6},{"$f":"IF(AND($AA19<6,N19<>\"\",O19<>\"\"),ort($N19,$O19,$AY$3:$AZ$3),\"\")","v":""},{"$f":"IF(AND($AA19<6,N19<>\"\",O19<>\"\"),ort($N19,$O19,$AY$4:$AZ$5),\"\")","v":""},{"$f":"IF(AND($AA19<6,N19<>\"\",O19<>\"\"),ort($N19,$O19,$AY$6:$AZ$7),\"\")","v":""},{"$f":"IF(AND($AA19=6,N19<>\"\",O19<>\"\"),ort($N19,$O19,$AY$8:$AZ$8),\"\")","v":""},{"$f":"IF(AND($AA19=7,N19<>\"\",O19<>\"\"),ort($N19,$O19,$AY$9:$AZ$9),\"\")","v":""},{"$f":"IF(AND($AA19<6,P19<>\"\",Q19<>\"\"),ort($P19,$Q19,$AY$3:$AZ$3),\"\")","v":""},{"$f":"IF(AND($AA19<6,P19<>\"\",Q19<>\"\"),ort($P19,$Q19,$AY$4:$AZ$5),\"\")","v":""},{"$f":"IF(AND($AA19<6,P19<>\"\",Q19<>\"\"),ort($P19,$Q19,$AY$6:$AZ$7),\"\")","v":""},{"$f":"IF(AND($AA19=6,P19<>\"\",Q19<>\"\"),ort($P19,$Q19,$AY$8:$AZ$8),\"\")","v":""},{"$f":"IF(AND($AA19=7,P19<>\"\",Q19<>\"\"),ort($P19,$Q19,$AY$9:$AZ$9),\"\")","v":""},{"$f":"IF(AND($AA19<6,R19<>\"\",S19<>\"\"),ort($R19,$S19,$AY$3:$AZ$3),\"\")","v":""},{"$f":"IF(AND($AA19<6,R19<>\"\",S19<>\"\"),ort($R19,$S19,$AY$4:$AZ$5),\"\")","v":""},{"$f":"IF(AND($AA19<6,R19<>\"\",S19<>\"\"),ort($R19,$S19,$AY$6:$AZ$7),\"\")","v":""},{"$f":"IF(AND($AA19=6,R19<>\"\",S19<>\"\"),ort($R19,$S19,$AY$8:$AZ$8),\"\")","v":""},{"$f":"IF(AND($AA19=7,R19<>\"\",S19<>\"\"),ort($R19,$S19,$AY$9:$AZ$9),\"\")","v":""},{"$f":"IF(AND($AA19<6,T19<>\"\",U19<>\"\"),ort($T19,$U19,$AY$3:$AZ$3),\"\")","v":""},{"$f":"IF(AND($AA19<6,T19<>\"\",U19<>\"\"),ort($T19,$U19,$AY$4:$AZ$5),\"\")","v":""},{"$f":"IF(AND($AA19<6,T19<>\"\",U19<>\"\"),ort($T19,$U19,$AY$6:$AZ$7),\"\")","v":""},{"$f":"IF(AND($AA19=6,T19<>\"\",U19<>\"\"),ort($T19,$U19,$AY$8:$AZ$8),\"\")","v":""},{"$f":"IF(AND($AA19=7,T19<>\"\",U19<>\"\"),ort($T19,$U19,$AY$9:$AZ$9),\"\")","v":""},null,null,null,null,null,null,null,null,null,"00:00:00"]
[null,{"$f":"SUM($V$3:$V$33)","v":0},null,null,null,null,null,null,null,"","",{"$f":"DATE($B$3,$B$4,18)","v":"2018-03-18"},{"$f":"DATE($B$3,$B$4,18)","v":"2018-03-18"},null,"00:00:00",null,null,null,null,null,null,"","","","","",{"$f":"IF(ISERROR(IF(NOT(ISERROR(MATCH($M20,Blad2!$A$2:$A$11,0))),7,WEEKDAY($M20,2))),\"\",IF(NOT(ISERROR(MATCH($M20,Blad2!$A$2:$A$11,0))),7,WEEKDAY($M20,2)))","v":7},{"$f":"IF(AND($AA20<6,N20<>\"\",O20<>\"\"),ort($N20,$O20,$AY$3:$AZ$3),\"\")","v":""},{"$f":"IF(AND($AA20<6,N20<>\"\",O20<>\"\"),ort($N20,$O20,$AY$4:$AZ$5),\"\")","v":""},{"$f":"IF(AND($AA20<6,N20<>\"\",O20<>\"\"),ort($N20,$O20,$AY$6:$AZ$7),\"\")","v":""},{"$f":"IF(AND($AA20=6,N20<>\"\",O20<>\"\"),ort($N20,$O20,$AY$8:$AZ$8),\"\")","v":""},{"$f":"IF(AND($AA20=7,N20<>\"\",O20<>\"\"),ort($N20,$O20,$AY$9:$AZ$9),\"\")","v":""},{"$f":"IF(AND($AA20<6,P20<>\"\",Q20<>\"\"),ort($P20,$Q20,$AY$3:$AZ$3),\"\")","v":""},{"$f":"IF(AND($AA20<6,P20<>\"\",Q20<>\"\"),ort($P20,$Q20,$AY$4:$AZ$5),\"\")","v":""},{"$f":"IF(AND($AA20<6,P20<>\"\",Q20<>\"\"),ort($P20,$Q20,$AY$6:$AZ$7),\"\")","v":""},{"$f":"IF(AND($AA20=6,P20<>\"\",Q20<>\"\"),ort($P20,$Q20,$AY$8:$AZ$8),\"\")","v":""},{"$f":"IF(AND($AA20=7,P20<>\"\",Q20<>\"\"),ort($P20,$Q20,$AY$9:$AZ$9),\"\")","v":""},{"$f":"IF(AND($AA20<6,R20<>\"\",S20<>\"\"),ort($R20,$S20,$AY$3:$AZ$3),\"\")","v":""},{"$f":"IF(AND($AA20<6,R20<>\"\",S20<>\"\"),ort($R20,$S20,$AY$4:$AZ$5),\"\")","v":""},{"$f":"IF(AND($AA20<6,R20<>\"\",S20<>\"\"),ort($R20,$S20,$AY$6:$AZ$7),\"\")","v":""},{"$f":"IF(AND($AA20=6,R20<>\"\",S20<>\"\"),ort($R20,$S20,$AY$8:$AZ$8),\"\")","v":""},{"$f":"IF(AND($AA20=7,R20<>\"\",S20<>\"\"),ort($R20,$S20,$AY$9:$AZ$9),\"\")","v":""},{"$f":"IF(AND($AA20<6,T20<>\"\",U20<>\"\"),ort($T20,$U20,$AY$3:$AZ$3),\"\")","v":""},{"$f":"IF(AND($AA20<6,T20<>\"\",U20<>\"\"),ort($T20,$U20,$AY$4:$AZ$5),\"\")","v":""},{"$f":"IF(AND($AA20<6,T20<>\"\",U20<>\"\"),ort($T20,$U20,$AY$6:$AZ$7),\"\")","v":""},{"$f":"IF(AND($AA20=6,T20<>\"\",U20<>\"\"),ort($T20,$U20,$AY$8:$AZ$8),\"\")","v":""},{"$f":"IF(AND($AA20=7,T20<>\"\",U20<>\"\"),ort($T20,$U20,$AY$9:$AZ$9),\"\")","v":""},null,{"$f":"COUNTA(Blad2!B12:B100)-COUNTIF(Blad2!B12:B100,\"Verlof\")","v":0},"  Aantal opgenomen ATV-dagen",null,null,null,null,null,null,"00:00:00"]
[null,null,null,null,null,null,null,null,null,"",12,{"$f":"DATE($B$3,$B$4,19)","v":"2018-03-19"},{"$f":"DATE($B$3,$B$4,19)","v":"2018-03-19"},null,"00:00:00",null,null,null,null,null,null,"","","","","",{"$f":"IF(ISERROR(IF(NOT(ISERROR(MATCH($M21,Blad2!$A$2:$A$11,0))),7,WEEKDAY($M21,2))),\"\",IF(NOT(ISERROR(MATCH($M21,Blad2!$A$2:$A$11,0))),7,WEEKDAY($M21,2)))","v":1},{"$f":"IF(AND($AA21<6,N21<>\"\",O21<>\"\"),ort($N21,$O21,$AY$3:$AZ$3),\"\")","v":""},{"$f":"IF(AND($AA21<6,N21<>\"\",O21<>\"\"),ort($N21,$O21,$AY$4:$AZ$5),\"\")","v":""},{"$f":"IF(AND($AA21<6,N21<>\"\",O21<>\"\"),ort($N21,$O21,$AY$6:$AZ$7),\"\")","v":""},{"$f":"IF(AND($AA21=6,N21<>\"\",O21<>\"\"),ort($N21,$O21,$AY$8:$AZ$8),\"\")","v":""},{"$f":"IF(AND($AA21=7,N21<>\"\",O21<>\"\"),ort($N21,$O21,$AY$9:$AZ$9),\"\")","v":""},{"$f":"IF(AND($AA21<6,P21<>\"\",Q21<>\"\"),ort($P21,$Q21,$AY$3:$AZ$3),\"\")","v":""},{"$f":"IF(AND($AA21<6,P21<>\"\",Q21<>\"\"),ort($P21,$Q21,$AY$4:$AZ$5),\"\")","v":""},{"$f":"IF(AND($AA21<6,P21<>\"\",Q21<>\"\"),ort($P21,$Q21,$AY$6:$AZ$7),\"\")","v":""},{"$f":"IF(AND($AA21=6,P21<>\"\",Q21<>\"\"),ort($P21,$Q21,$AY$8:$AZ$8),\"\")","v":""},{"$f":"IF(AND($AA21=7,P21<>\"\",Q21<>\"\"),ort($P21,$Q21,$AY$9:$AZ$9),\"\")","v":""},{"$f":"IF(AND($AA21<6,R21<>\"\",S21<>\"\"),ort($R21,$S21,$AY$3:$AZ$3),\"\")","v":""},{"$f":"IF(AND($AA21<6,R21<>\"\",S21<>\"\"),ort($R21,$S21,$AY$4:$AZ$5),\"\")","v":""},{"$f":"IF(AND($AA21<6,R21<>\"\",S21<>\"\"),ort($R21,$S21,$AY$6:$AZ$7),\"\")","v":""},{"$f":"IF(AND($AA21=6,R21<>\"\",S21<>\"\"),ort($R21,$S21,$AY$8:$AZ$8),\"\")","v":""},{"$f":"IF(AND($AA21=7,R21<>\"\",S21<>\"\"),ort($R21,$S21,$AY$9:$AZ$9),\"\")","v":""},{"$f":"IF(AND($AA21<6,T21<>\"\",U21<>\"\"),ort($T21,$U21,$AY$3:$AZ$3),\"\")","v":""},{"$f":"IF(AND($AA21<6,T21<>\"\",U21<>\"\"),ort($T21,$U21,$AY$4:$AZ$5),\"\")","v":""},{"$f":"IF(AND($AA21<6,T21<>\"\",U21<>\"\"),ort($T21,$U21,$AY$6:$AZ$7),\"\")","v":""},{"$f":"IF(AND($AA21=6,T21<>\"\",U21<>\"\"),ort($T21,$U21,$AY$8:$AZ$8),\"\")","v":""},{"$f":"IF(AND($AA21=7,T21<>\"\",U21<>\"\"),ort($T21,$U21,$AY$9:$AZ$9),\"\")","v":""},null,0,"  Aantal opgenomen verlofdagen",null,null,null,null,null,null,"00:00:00"]
[null,null,null,null,null,null,null,null,null,"","",{"$f":"DATE($B$3,$B$4,20)","v":"2018-03-20"},{"$f":"DATE($B$3,$B$4,20)","v":"2018-03-20"},null,"00:00:00",null,null,null,null,null,null,"","","","","",{"$f":"IF(ISERROR(IF(NOT(ISERROR(MATCH($M22,Blad2!$A$2:$A$11,0))),7,WEEKDAY($M22,2))),\"\",IF(NOT(ISERROR(MATCH($M22,Blad2!$A$2:$A$11,0))),7,WEEKDAY($M22,2)))","v":2},{"$f":"IF(AND($AA22<6,N22<>\"\",O22<>\"\"),ort($N22,$O22,$AY$3:$AZ$3),\"\")","v":""},{"$f":"IF(AND($AA22<6,N22<>\"\",O22<>\"\"),ort($N22,$O22,$AY$4:$AZ$5),\"\")","v":""},{"$f":"IF(AND($AA22<6,N22<>\"\",O22<>\"\"),ort($N22,$O22,$AY$6:$AZ$7),\"\")","v":""},{"$f":"IF(AND($AA22=6,N22<>\"\",O22<>\"\"),ort($N22,$O22,$AY$8:$AZ$8),\"\")","v":""},{"$f":"IF(AND($AA22=7,N22<>\"\",O22<>\"\"),ort($N22,$O22,$AY$9:$AZ$9),\"\")","v":""},{"$f":"IF(AND($AA22<6,P22<>\"\",Q22<>\"\"),ort($P22,$Q22,$AY$3:$AZ$3),\"\")","v":""},{"$f":"IF(AND($AA22<6,P22<>\"\",Q22<>\"\"),ort($P22,$Q22,$AY$4:$AZ$5),\"\")","v":""},{"$f":"IF(AND($AA22<6,P22<>\"\",Q22<>\"\"),ort($P22,$Q22,$AY$6:$AZ$7),\"\")","v":""},{"$f":"IF(AND($AA22=6,P22<>\"\",Q22<>\"\"),ort($P22,$Q22,$AY$8:$AZ$8),\"\")","v":""},{"$f":"IF(AND($AA22=7,P22<>\"\",Q22<>\"\"),ort($P22,$Q22,$AY$9:$AZ$9),\"\")","v":""},{"$f":"IF(AND($AA22<6,R22<>\"\",S22<>\"\"),ort($R22,$S22,$AY$3:$AZ$3),\"\")","v":""},{"$f":"IF(AND($AA22<6,R22<>\"\",S22<>\"\"),ort($R22,$S22,$AY$4:$AZ$5),\"\")","v":""},{"$f":"IF(AND($AA22<6,R22<>\"\",S22<>\"\"),ort($R22,$S22,$AY$6:$AZ$7),\"\")","v":""},{"$f":"IF(AND($AA22=6,R22<>\"\",S22<>\"\"),ort($R22,$S22,$AY$8:$AZ$8),\"\")","v":""},{"$f":"IF(AND($AA22=7,R22<>\"\",S22<>\"\"),ort($R22,$S22,$AY$9:$AZ$9),\"\")","v":""},{"$f":"IF(AND($AA22<6,T22<>\"\",U22<>\"\"),ort($T22,$U22,$AY$3:$AZ$3),\"\")","v":""},{"$f":"IF(AND($AA22<6,T22<>\"\",U22<>\"\"),ort($T22,$U22,$AY$4:$AZ$5),\"\")","v":""},{"$f":"IF(AND($AA22<6,T22<>\"\",U22<>\"\"),ort($T22,$U22,$AY$6:$AZ$7),\"\")","v":""},{"$f":"IF(AND($AA22=6,T22<>\"\",U22<>\"\"),ort($T22,$U22,$AY$8:$AZ$8),\"\")","v":""},{"$f":"IF(AND($AA22=7,T22<>\"\",U22<>\"\"),ort($T22,$U22,$AY$9:$AZ$9),\"\")","v":""},null,null,null,null,null,null,null,null,null,"00:00:00"]
[null,null,null,null,null,null,null,null,null,"","",{"$f":"DATE($B$3,$B$4,21)","v":"2018-03-21"},{"$f":"DATE($B$3,$B$4,21)","v":"2018-03-21"},null,"00:00:00",null,null,null,null,null,null,"","","","","",{"$f":"IF(ISERROR(IF(NOT(ISERROR(MATCH($M23,Blad2!$A$2:$A$11,0))),7,WEEKDAY($M23,2))),\"\",IF(NOT(ISERROR(MATCH($M23,Blad2!$A$2:$A$11,0))),7,WEEKDAY($M23,2)))","v":3},{"$f":"IF(AND($AA23<6,N23<>\"\",O23<>\"\"),ort($N23,$O23,$AY$3:$AZ$3),\"\")","v":""},{"$f":"IF(AND($AA23<6,N23<>\"\",O23<>\"\"),ort($N23,$O23,$AY$4:$AZ$5),\"\")","v":""},{"$f":"IF(AND($AA23<6,N23<>\"\",O23<>\"\"),ort($N23,$O23,$AY$6:$AZ$7),\"\")","v":""},{"$f":"IF(AND($AA23=6,N23<>\"\",O23<>\"\"),ort($N23,$O23,$AY$8:$AZ$8),\"\")","v":""},{"$f":"IF(AND($AA23=7,N23<>\"\",O23<>\"\"),ort($N23,$O23,$AY$9:$AZ$9),\"\")","v":""},{"$f":"IF(AND($AA23<6,P23<>\"\",Q23<>\"\"),ort($P23,$Q23,$AY$3:$AZ$3),\"\")","v":""},{"$f":"IF(AND($AA23<6,P23<>\"\",Q23<>\"\"),ort($P23,$Q23,$AY$4:$AZ$5),\"\")","v":""},{"$f":"IF(AND($AA23<6,P23<>\"\",Q23<>\"\"),ort($P23,$Q23,$AY$6:$AZ$7),\"\")","v":""},{"$f":"IF(AND($AA23=6,P23<>\"\",Q23<>\"\"),ort($P23,$Q23,$AY$8:$AZ$8),\"\")","v":""},{"$f":"IF(AND($AA23=7,P23<>\"\",Q23<>\"\"),ort($P23,$Q23,$AY$9:$AZ$9),\"\")","v":""},{"$f":"IF(AND($AA23<6,R23<>\"\",S23<>\"\"),ort($R23,$S23,$AY$3:$AZ$3),\"\")","v":""},{"$f":"IF(AND($AA23<6,R23<>\"\",S23<>\"\"),ort($R23,$S23,$AY$4:$AZ$5),\"\")","v":""},{"$f":"IF(AND($AA23<6,R23<>\"\",S23<>\"\"),ort($R23,$S23,$AY$6:$AZ$7),\"\")","v":""},{"$f":"IF(AND($AA23=6,R23<>\"\",S23<>\"\"),ort($R23,$S23,$AY$8:$AZ$8),\"\")","v":""},{"$f":"IF(AND($AA23=7,R23<>\"\",S23<>\"\"),ort($R23,$S23,$AY$9:$AZ$9),\"\")","v":""},{"$f":"IF(AND($AA23<6,T23<>\"\",U23<>\"\"),ort($T23,$U23,$AY$3:$AZ$3),\"\")","v":""},{"$f":"IF(AND($AA23<6,T23<>\"\",U23<>\"\"),ort($T23,$U23,$AY$4:$AZ$5),\"\")","v":""},{"$f":"IF(AND($AA23<6,T23<>\"\",U23<>\"\"),ort($T23,$U23,$AY$6:$AZ$7),\"\")","v":""},{"$f":"IF(AND($AA23=6,T23<>\"\",U23<>\"\"),ort($T23,$U23,$AY$8:$AZ$8),\"\")","v":""},{"$f":"IF(AND($AA23=7,T23<>\"\",U23<>\"\"),ort($T23,$U23,$AY$9:$AZ$9),\"\")","v":""},null,null,null,null,null,null,null,null,null,"00:00:00"]
[null,null,null,null,null,null,null,null,null,"","",{"$f":"DATE($B$3,$B$4,22)","v":"2018-03-22"},{"$f":"DATE($B$3,$B$4,22)","v":"2018-03-22"},null,"00:00:00",null,null,null,null,null,null,"","","","","",{"$f":"IF(ISERROR(IF(NOT(ISERROR(MATCH($M24,Blad2!$A$2:$A$11,0))),7,WEEKDAY($M24,2))),\"\",IF(NOT(ISERROR(MATCH($M24,Blad2!$A$2:$A$11,0))),7,WEEKDAY($M24,2)))","v":4},{"$f":"IF(AND($AA24<6,N24<>\"\",O24<>\"\"),ort($N24,$O24,$AY$3:$AZ$3),\"\")","v":""},{"$f":"IF(AND($AA24<6,N24<>\"\",O24<>\"\"),ort($N24,$O24,$AY$4:$AZ$5),\"\")","v":""},{"$f":"IF(AND($AA24<6,N24<>\"\",O24<>\"\"),ort($N24,$O24,$AY$6:$AZ$7),\"\")","v":""},{"$f":"IF(AND($AA24=6,N24<>\"\",O24<>\"\"),ort($N24,$O24,$AY$8:$AZ$8),\"\")","v":""},{"$f":"IF(AND($AA24=7,N24<>\"\",O24<>\"\"),ort($N24,$O24,$AY$9:$AZ$9),\"\")","v":""},{"$f":"IF(AND($AA24<6,P24<>\"\",Q24<>\"\"),ort($P24,$Q24,$AY$3:$AZ$3),\"\")","v":""},{"$f":"IF(AND($AA24<6,P24<>\"\",Q24<>\"\"),ort($P24,$Q24,$AY$4:$AZ$5),\"\")","v":""},{"$f":"IF(AND($AA24<6,P24<>\"\",Q24<>\"\"),ort($P24,$Q24,$AY$6:$AZ$7),\"\")","v":""},{"$f":"IF(AND($AA24=6,P24<>\"\",Q24<>\"\"),ort($P24,$Q24,$AY$8:$AZ$8),\"\")","v":""},{"$f":"IF(AND($AA24=7,P24<>\"\",Q24<>\"\"),ort($P24,$Q24,$AY$9:$AZ$9),\"\")","v":""},{"$f":"IF(AND($AA24<6,R24<>\"\",S24<>\"\"),ort($R24,$S24,$AY$3:$AZ$3),\"\")","v":""},{"$f":"IF(AND($AA24<6,R24<>\"\",S24<>\"\"),ort($R24,$S24,$AY$4:$AZ$5),\"\")","v":""},{"$f":"IF(AND($AA24<6,R24<>\"\",S24<>\"\"),ort($R24,$S24,$AY$6:$AZ$7),\"\")","v":""},{"$f":"IF(AND($AA24=6,R24<>\"\",S24<>\"\"),ort($R24,$S24,$AY$8:$AZ$8),\"\")","v":""},{"$f":"IF(AND($AA24=7,R24<>\"\",S24<>\"\"),ort($R24,$S24,$AY$9:$AZ$9),\"\")","v":""},{"$f":"IF(AND($AA24<6,T24<>\"\",U24<>\"\"),ort($T24,$U24,$AY$3:$AZ$3),\"\")","v":""},{"$f":"IF(AND($AA24<6,T24<>\"\",U24<>\"\"),ort($T24,$U24,$AY$4:$AZ$5),\"\")","v":""},{"$f":"IF(AND($AA24<6,T24<>\"\",U24<>\"\"),ort($T24,$U24,$AY$6:$AZ$7),\"\")","v":""},{"$f":"IF(AND($AA24=6,T24<>\"\",U24<>\"\"),ort($T24,$U24,$AY$8:$AZ$8),\"\")","v":""},{"$f":"IF(AND($AA24=7,T24<>\"\",U24<>\"\"),ort($T24,$U24,$AY$9:$AZ$9),\"\")","v":""},null,null,null,null,null,null,null,null,null,"00:00:00"]
[null,null,null,null,null,null,null,null,null,"","",{"$f":"DATE($B$3,$B$4,23)","v":"2018-03-23"},{"$f":"DATE($B$3,$B$4,23)","v":"2018-03-23"},null,"00:00:00",null,null,null,null,null,null,"","","","","",{"$f":"IF(ISERROR(IF(NOT(ISERROR(MATCH($M25,Blad2!$A$2:$A$11,0))),7,WEEKDAY($M25,2))),\"\",IF(NOT(ISERROR(MATCH($M25,Blad2!$A$2:$A$11,0))),7,WEEKDAY($M25,2)))","v":5},{"$f":"IF(AND($AA25<6,N25<>\"\",O25<>\"\"),ort($N25,$O25,$AY$3:$AZ$3),\"\")","v":""},{"$f":"IF(AND($AA25<6,N25<>\"\",O25<>\"\"),ort($N25,$O25,$AY$4:$AZ$5),\"\")","v":""},{"$f":"IF(AND($AA25<6,N25<>\"\",O25<>\"\"),ort($N25,$O25,$AY$6:$AZ$7),\"\")","v":""},{"$f":"IF(AND($AA25=6,N25<>\"\",O25<>\"\"),ort($N25,$O25,$AY$8:$AZ$8),\"\")","v":""},{"$f":"IF(AND($AA25=7,N25<>\"\",O25<>\"\"),ort($N25,$O25,$AY$9:$AZ$9),\"\")","v":""},{"$f":"IF(AND($AA25<6,P25<>\"\",Q25<>\"\"),ort($P25,$Q25,$AY$3:$AZ$3),\"\")","v":""},{"$f":"IF(AND($AA25<6,P25<>\"\",Q25<>\"\"),ort($P25,$Q25,$AY$4:$AZ$5),\"\")","v":""},{"$f":"IF(AND($AA25<6,P25<>\"\",Q25<>\"\"),ort($P25,$Q25,$AY$6:$AZ$7),\"\")","v":""},{"$f":"IF(AND($AA25=6,P25<>\"\",Q25<>\"\"),ort($P25,$Q25,$AY$8:$AZ$8),\"\")","v":""},{"$f":"IF(AND($AA25=7,P25<>\"\",Q25<>\"\"),ort($P25,$Q25,$AY$9:$AZ$9),\"\")","v":""},{"$f":"IF(AND($AA25<6,R25<>\"\",S25<>\"\"),ort($R25,$S25,$AY$3:$AZ$3),\"\")","v":""},{"$f":"IF(AND($AA25<6,R25<>\"\",S25<>\"\"),ort($R25,$S25,$AY$4:$AZ$5),\"\")","v":""},{"$f":"IF(AND($AA25<6,R25<>\"\",S25<>\"\"),ort($R25,$S25,$AY$6:$AZ$7),\"\")","v":""},{"$f":"IF(AND($AA25=6,R25<>\"\",S25<>\"\"),ort($R25,$S25,$AY$8:$AZ$8),\"\")","v":""},{"$f":"IF(AND($AA25=7,R25<>\"\",S25<>\"\"),ort($R25,$S25,$AY$9:$AZ$9),\"\")","v":""},{"$f":"IF(AND($AA25<6,T25<>\"\",U25<>\"\"),ort($T25,$U25,$AY$3:$AZ$3),\"\")","v":""},{"$f":"IF(AND($AA25<6,T25<>\"\",U25<>\"\"),ort($T25,$U25,$AY$4:$AZ$5),\"\")","v":""},{"$f":"IF(AND($AA25<6,T25<>\"\",U25<>\"\"),ort($T25,$U25,$AY$6:$AZ$7),\"\")","v":""},{"$f":"IF(AND($AA25=6,T25<>\"\",U25<>\"\"),ort($T25,$U25,$AY$8:$AZ$8),\"\")","v":""},{"$f":"IF(AND($AA25=7,T25<>\"\",U25<>\"\"),ort($T25,$U25,$AY$9:$AZ$9),\"\")","v":""},null,null,null,null,null,null,null,null,null,"00:00:00"]
[null,null,null,null,null,null,null,null,null,"","",{"$f":"DATE($B$3,$B$4,24)","v":"2018-03-24"},{"$f":"DATE($B$3,$B$4,24)","v":"2018-03-24"},null,"00:00:00",null,null,null,null,null,null,"","","","","",{"$f":"IF(ISERROR(IF(NOT(ISERROR(MATCH($M26,Blad2!$A$2:$A$11,0))),7,WEEKDAY($M26,2))),\"\",IF(NOT(ISERROR(MATCH($M26,Blad2!$A$2:$A$11,0))),7,WEEKDAY($M26,2)))","v":6},{"$f":"IF(AND($AA26<6,N26<>\"\",O26<>\"\"),ort($N26,$O26,$AY$3:$AZ$3),\"\")","v":""},{"$f":"IF(AND($AA26<6,N26<>\"\",O26<>\"\"),ort($N26,$O26,$AY$4:$AZ$5),\"\")","v":""},{"$f":"IF(AND($AA26<6,N26<>\"\",O26<>\"\"),ort($N26,$O26,$AY$6:$AZ$7),\"\")","v":""},{"$f":"IF(AND($AA26=6,N26<>\"\",O26<>\"\"),ort($N26,$O26,$AY$8:$AZ$8),\"\")","v":""},{"$f":"IF(AND($AA26=7,N26<>\"\",O26<>\"\"),ort($N26,$O26,$AY$9:$AZ$9),\"\")","v":""},{"$f":"IF(AND($AA26<6,P26<>\"\",Q26<>\"\"),ort($P26,$Q26,$AY$3:$AZ$3),\"\")","v":""},{"$f":"IF(AND($AA26<6,P26<>\"\",Q26<>\"\"),ort($P26,$Q26,$AY$4:$AZ$5),\"\")","v":""},{"$f":"IF(AND($AA26<6,P26<>\"\",Q26<>\"\"),ort($P26,$Q26,$AY$6:$AZ$7),\"\")","v":""},{"$f":"IF(AND($AA26=6,P26<>\"\",Q26<>\"\"),ort($P26,$Q26,$AY$8:$AZ$8),\"\")","v":""},{"$f":"IF(AND($AA26=7,P26<>\"\",Q26<>\"\"),ort($P26,$Q26,$AY$9:$AZ$9),\"\")","v":""},{"$f":"IF(AND($AA26<6,R26<>\"\",S26<>\"\"),ort($R26,$S26,$AY$3:$AZ$3),\"\")","v":""},{"$f":"IF(AND($AA26<6,R26<>\"\",S26<>\"\"),ort($R26,$S26,$AY$4:$AZ$5),\"\")","v":""},{"$f":"IF(AND($AA26<6,R26<>\"\",S26<>\"\"),ort($R26,$S26,$AY$6:$AZ$7),\"\")","v":""},{"$f":"IF(AND($AA26=6,R26<>\"\",S26<>\"\"),ort($R26,$S26,$AY$8:$AZ$8),\"\")","v":""},{"$f":"IF(AND($AA26=7,R26<>\"\",S26<>\"\"),ort($R26,$S26,$AY$9:$AZ$9),\"\")","v":""},{"$f":"IF(AND($AA26<6,T26<>\"\",U26<>\"\"),ort($T26,$U26,$AY$3:$AZ$3),\"\")","v":""},{"$f":"IF(AND($AA26<6,T26<>\"\",U26<>\"\"),ort($T26,$U26,$AY$4:$AZ$5),\"\")","v":""},{"$f":"IF(AND($AA26<6,T26<>\"\",U26<>\"\"),ort($T26,$U26,$AY$6:$AZ$7),\"\")","v":""},{"$f":"IF(AND($AA26=6,T26<>\"\",U26<>\"\"),ort($T26,$U26,$AY$8:$AZ$8),\"\")","v":""},{"$f":"IF(AND($AA26=7,T26<>\"\",U26<>\"\"),ort($T26,$U26,$AY$9:$AZ$9),\"\")","v":""},null,null,null,null,null,null,null,null,null,"00:00:00"]
[null,null,null,null,null,null,null,null,null,"","",{"$f":"DATE($B$3,$B$4,25)","v":"2018-03-25"},{"$f":"DATE($B$3,$B$4,25)","v":"2018-03-25"},null,"00:00:00",null,null,null,null,null,null,"","","","","",{"$f":"IF(ISERROR(IF(NOT(ISERROR(MATCH($M27,Blad2!$A$2:$A$11,0))),7,WEEKDAY($M27,2))),\"\",IF(NOT(ISERROR(MATCH($M27,Blad2!$A$2:$A$11,0))),7,WEEKDAY($M27,2)))","v":7},{"$f":"IF(AND($AA27<6,N27<>\"\",O27<>\"\"),ort($N27,$O27,$AY$3:$AZ$3),\"\")","v":""},{"$f":"IF(AND($AA27<6,N27<>\"\",O27<>\"\"),ort($N27,$O27,$AY$4:$AZ$5),\"\")","v":""},{"$f":"IF(AND($AA27<6,N27<>\"\",O27<>\"\"),ort($N27,$O27,$AY$6:$AZ$7),\"\")","v":""},{"$f":"IF(AND($AA27=6,N27<>\"\",O27<>\"\"),ort($N27,$O27,$AY$8:$AZ$8),\"\")","v":""},{"$f":"IF(AND($AA27=7,N27<>\"\",O27<>\"\"),ort($N27,$O27,$AY$9:$AZ$9),\"\")","v":""},{"$f":"IF(AND($AA27<6,P27<>\"\",Q27<>\"\"),ort($P27,$Q27,$AY$3:$AZ$3),\"\")","v":""},{"$f":"IF(AND($AA27<6,P27<>\"\",Q27<>\"\"),ort($P27,$Q27,$AY$4:$AZ$5),\"\")","v":""},{"$f":"IF(AND($AA27<6,P27<>\"\",Q27<>\"\"),ort($P27,$Q27,$AY$6:$AZ$7),\"\")","v":""},{"$f":"IF(AND($AA27=6,P27<>\"\",Q27<>\"\"),ort($P27,$Q27,$AY$8:$AZ$8),\"\")","v":""},{"$f":"IF(AND($AA27=7,P27<>\"\",Q27<>\"\"),ort($P27,$Q27,$AY$9:$AZ$9),\"\")","v":""},{"$f":"IF(AND($AA27<6,R27<>\"\",S27<>\"\"),ort($R27,$S27,$AY$3:$AZ$3),\"\")","v":""},{"$f":"IF(AND($AA27<6,R27<>\"\",S27<>\"\"),ort($R27,$S27,$AY$4:$AZ$5),\"\")","v":""},{"$f":"IF(AND($AA27<6,R27<>\"\",S27<>\"\"),ort($R27,$S27,$AY$6:$AZ$7),\"\")","v":""},{"$f":"IF(AND($AA27=6,R27<>\"\",S27<>\"\"),ort($R27,$S27,$AY$8:$AZ$8),\"\")","v":""},{"$f":"IF(AND($AA27=7,R27<>\"\",S27<>\"\"),ort($R27,$S27,$AY$9:$AZ$9),\"\")","v":""},{"$f":"IF(AND($AA27<6,T27<>\"\",U27<>\"\"),ort($T27,$U27,$AY$3:$AZ$3),\"\")","v":""},{"$f":"IF(AND($AA27<6,T27<>\"\",U27<>\"\"),ort($T27,$U27,$AY$4:$AZ$5),\"\")","v":""},{"$f":"IF(AND($AA27<6,T27<>\"\",U27<>\"\"),ort($T27,$U27,$AY$6:$AZ$7),\"\")","v":""},{"$f":"IF(AND($AA27=6,T27<>\"\",U27<>\"\"),ort($T27,$U27,$AY$8:$AZ$8),\"\")","v":""},{"$f":"IF(AND($AA27=7,T27<>\"\",U27<>\"\"),ort($T27,$U27,$AY$9:$AZ$9),\"\")","v":""},null,null,null,null,null,null,null,null,null,"00:00:00"]
[null,null,null,null,null,null,null,null,null,"",13,{"$f":"DATE($B$3,$B$4,26)","v":"2018-03-26"},{"$f":"DATE($B$3,$B$4,26)","v":"2018-03-26"},null,"00:00:00",null,null,null,null,null,null,"","","","","",{"$f":"IF(ISERROR(IF(NOT(ISERROR(MATCH($M28,Blad2!$A$2:$A$11,0))),7,WEEKDAY($M28,2))),\"\",IF(NOT(ISERROR(MATCH($M28,Blad2!$A$2:$A$11,0))),7,WEEKDAY($M28,2)))","v":1},{"$f":"IF(AND($AA28<6,N28<>\"\",O28<>\"\"),ort($N28,$O28,$AY$3:$AZ$3),\"\")","v":""},{"$f":"IF(AND($AA28<6,N28<>\"\",O28<>\"\"),ort($N28,$O28,$AY$4:$AZ$5),\"\")","v":""},{"$f":"IF(AND($AA28<6,N28<>\"\",O28<>\"\"),ort($N28,$O28,$AY$6:$AZ$7),\"\")","v":""},{"$f":"IF(AND($AA28=6,N28<>\"\",O28<>\"\"),ort($N28,$O28,$AY$8:$AZ$8),\"\")","v":""},{"$f":"IF(AND($AA28=7,N28<>\"\",O28<>\"\"),ort($N28,$O28,$AY$9:$AZ$9),\"\")","v":""},{"$f":"IF(AND($AA28<6,P28<>\"\",Q28<>\"\"),ort($P28,$Q28,$AY$3:$AZ$3),\"\")","v":""},{"$f":"IF(AND($AA28<6,P28<>\"\",Q28<>\"\"),ort($P28,$Q28,$AY$4:$AZ$5),\"\")","v":""},{"$f":"IF(AND($AA28<6,P28<>\"\",Q28<>\"\"),ort($P28,$Q28,$AY$6:$AZ$7),\"\")","v":""},{"$f":"IF(AND($AA28=6,P28<>\"\",Q28<>\"\"),ort($P28,$Q28,$AY$8:$AZ$8),\"\")","v":""},{"$f":"IF(AND($AA28=7,P28<>\"\",Q28<>\"\"),ort($P28,$Q28,$AY$9:$AZ$9),\"\")","v":""},{"$f":"IF(AND($AA28<6,R28<>\"\",S28<>\"\"),ort($R28,$S28,$AY$3:$AZ$3),\"\")","v":""},{"$f":"IF(AND($AA28<6,R28<>\"\",S28<>\"\"),ort($R28,$S28,$AY$4:$AZ$5),\"\")","v":""},{"$f":"IF(AND($AA28<6,R28<>\"\",S28<>\"\"),ort($R28,$S28,$AY$6:$AZ$7),\"\")","v":""},{"$f":"IF(AND($AA28=6,R28<>\"\",S28<>\"\"),ort($R28,$S28,$AY$8:$AZ$8),\"\")","v":""},{"$f":"IF(AND($AA28=7,R28<>\"\",S28<>\"\"),ort($R28,$S28,$AY$9:$AZ$9),\"\")","v":""},{"$f":"IF(AND($AA28<6,T28<>\"\",U28<>\"\"),ort($T28,$U28,$AY$3:$AZ$3),\"\")","v":""},{"$f":"IF(AND($AA28<6,T28<>\"\",U28<>\"\"),ort($T28,$U28,$AY$4:$AZ$5),\"\")","v":""},{"$f":"IF(AND($AA28<6,T28<>\"\",U28<>\"\"),ort($T28,$U28,$AY$6:$AZ$7),\"\")","v":""},{"$f":"IF(AND($AA28=6,T28<>\"\",U28<>\"\"),ort($T28,$U28,$AY$8:$AZ$8),\"\")","v":""},{"$f":"IF(AND($AA28=7,T28<>\"\",U28<>\"\"),ort($T28,$U28,$AY$9:$AZ$9),\"\")","v":""},null,null,null,null,null,null,null,null,null,"00:00:00"]
[null,null,null,null,null,null,null,null,null,"","",{"$f":"DATE($B$3,$B$4,27)","v":"2018-03-27"},{"$f":"DATE($B$3,$B$4,27)","v":"2018-03-27"},null,"00:00:00",null,null,null,null,null,null,"","","","","",{"$f":"IF(ISERROR(IF(NOT(ISERROR(MATCH($M29,Blad2!$A$2:$A$11,0))),7,WEEKDAY($M29,2))),\"\",IF(NOT(ISERROR(MATCH($M29,Blad2!$A$2:$A$11,0))),7,WEEKDAY($M29,2)))","v":2},{"$f":"IF(AND($AA29<6,N29<>\"\",O29<>\"\"),ort($N29,$O29,$AY$3:$AZ$3),\"\")","v":""},{"$f":"IF(AND($AA29<6,N29<>\"\",O29<>\"\"),ort($N29,$O29,$AY$4:$AZ$5),\"\")","v":""},{"$f":"IF(AND($AA29<6,N29<>\"\",O29<>\"\"),ort($N29,$O29,$AY$6:$AZ$7),\"\")","v":""},{"$f":"IF(AND($AA29=6,N29<>\"\",O29<>\"\"),ort($N29,$O29,$AY$8:$AZ$8),\"\")","v":""},{"$f":"IF(AND($AA29=7,N29<>\"\",O29<>\"\"),ort($N29,$O29,$AY$9:$AZ$9),\"\")","v":""},{"$f":"IF(AND($AA29<6,P29<>\"\",Q29<>\"\"),ort($P29,$Q29,$AY$3:$AZ$3),\"\")","v":""},{"$f":"IF(AND($AA29<6,P29<>\"\",Q29<>\"\"),ort($P29,$Q29,$AY$4:$AZ$5),\"\")","v":""},{"$f":"IF(AND($AA29<6,P29<>\"\",Q29<>\"\"),ort($P29,$Q29,$AY$6:$AZ$7),\"\")","v":""},{"$f":"IF(AND($AA29=6,P29<>\"\",Q29<>\"\"),ort($P29,$Q29,$AY$8:$AZ$8),\"\")","v":""},{"$f":"IF(AND($AA29=7,P29<>\"\",Q29<>\"\"),ort($P29,$Q29,$AY$9:$AZ$9),\"\")","v":""},{"$f":"IF(AND($AA29<6,R29<>\"\",S29<>\"\"),ort($R29,$S29,$AY$3:$AZ$3),\"\")","v":""},{"$f":"IF(AND($AA29<6,R29<>\"\",S29<>\"\"),ort($R29,$S29,$AY$4:$AZ$5),\"\")","v":""},{"$f":"IF(AND($AA29<6,R29<>\"\",S29<>\"\"),ort($R29,$S29,$AY$6:$AZ$7),\"\")","v":""},{"$f":"IF(AND($AA29=6,R29<>\"\",S29<>\"\"),ort($R29,$S29,$AY$8:$AZ$8),\"\")","v":""},{"$f":"IF(AND($AA29=7,R29<>\"\",S29<>\"\"),ort($R29,$S29,$AY$9:$AZ$9),\"\")","v":""},{"$f":"IF(AND($AA29<6,T29<>\"\",U29<>\"\"),ort($T29,$U29,$AY$3:$AZ$3),\"\")","v":""},{"$f":"IF(AND($AA29<6,T29<>\"\",U29<>\"\"),ort($T29,$U29,$AY$4:$AZ$5),\"\")","v":""},{"$f":"IF(AND($AA29<6,T29<>\"\",U29<>\"\"),ort($T29,$U29,$AY$6:$AZ$7),\"\")","v":""},{"$f":"IF(AND($AA29=6,T29<>\"\",U29<>\"\"),ort($T29,$U29,$AY$8:$AZ$8),\"\")","v":""},{"$f":"IF(AND($AA29=7,T29<>\"\",U29<>\"\"),ort($T29,$U29,$AY$9:$AZ$9),\"\")","v":""},null,null,null,null,null,null,null,null,null,"00:00:00"]
[null,null,null,null,null,null,null,null,null,"","",{"$f":"DATE($B$3,$B$4,28)","v":"2018-03-28"},{"$f":"DATE($B$3,$B$4,28)","v":"2018-03-28"},null,"00:00:00",null,null,null,null,null,null,"","","","","",{"$f":"IF(ISERROR(IF(NOT(ISERROR(MATCH($M30,Blad2!$A$2:$A$11,0))),7,WEEKDAY($M30,2))),\"\",IF(NOT(ISERROR(MATCH($M30,Blad2!$A$2:$A$11,0))),7,WEEKDAY($M30,2)))","v":3},{"$f":"IF(AND($AA30<6,N30<>\"\",O30<>\"\"),ort($N30,$O30,$AY$3:$AZ$3),\"\")","v":""},{"$f":"IF(AND($AA30<6,N30<>\"\",O30<>\"\"),ort($N30,$O30,$AY$4:$AZ$5),\"\")","v":""},{"$f":"IF(AND($AA30<6,N30<>\"\",O30<>\"\"),ort($N30,$O30,$AY$6:$AZ$7),\"\")","v":""},{"$f":"IF(AND($AA30=6,N30<>\"\",O30<>\"\"),ort($N30,$O30,$AY$8:$AZ$8),\"\")","v":""},{"$f":"IF(AND($AA30=7,N30<>\"\",O30<>\"\"),ort($N30,$O30,$AY$9:$AZ$9),\"\")","v":""},{"$f":"IF(AND($AA30<6,P30<>\"\",Q30<>\"\"),ort($P30,$Q30,$AY$3:$AZ$3),\"\")","v":""},{"$f":"IF(AND($AA30<6,P30<>\"\",Q30<>\"\"),ort($P30,$Q30,$AY$4:$AZ$5),\"\")","v":""},{"$f":"IF(AND($AA30<6,P30<>\"\",Q30<>\"\"),ort($P30,$Q30,$AY$6:$AZ$7),\"\")","v":""},{"$f":"IF(AND($AA30=6,P30<>\"\",Q30<>\"\"),ort($P30,$Q30,$AY$8:$AZ$8),\"\")","v":""},{"$f":"IF(AND($AA30=7,P30<>\"\",Q30<>\"\"),ort($P30,$Q30,$AY$9:$AZ$9),\"\")","v":""},{"$f":"IF(AND($AA30<6,R30<>\"\",S30<>\"\"),ort($R30,$S30,$AY$3:$AZ$3),\"\")","v":""},{"$f":"IF(AND($AA30<6,R30<>\"\",S30<>\"\"),ort($R30,$S30,$AY$4:$AZ$5),\"\")","v":""},{"$f":"IF(AND($AA30<6,R30<>\"\",S30<>\"\"),ort($R30,$S30,$AY$6:$AZ$7),\"\")","v":""},{"$f":"IF(AND($AA30=6,R30<>\"\",S30<>\"\"),ort($R30,$S30,$AY$8:$AZ$8),\"\")","v":""},{"$f":"IF(AND($AA30=7,R30<>\"\",S30<>\"\"),ort($R30,$S30,$AY$9:$AZ$9),\"\")","v":""},{"$f":"IF(AND($AA30<6,T30<>\"\",U30<>\"\"),ort($T30,$U30,$AY$3:$AZ$3),\"\")","v":""},{"$f":"IF(AND($AA30<6,T30<>\"\",U30<>\"\"),ort($T30,$U30,$AY$4:$AZ$5),\"\")","v":""},{"$f":"IF(AND($AA30<6,T30<>\"\",U30<>\"\"),ort($T30,$U30,$AY$6:$AZ$7),\"\")","v":""},{"$f":"IF(AND($AA30=6,T30<>\"\",U30<>\"\"),ort($T30,$U30,$AY$8:$AZ$8),\"\")","v":""},{"$f":"IF(AND($AA30=7,T30<>\"\",U30<>\"\"),ort($T30,$U30,$AY$9:$AZ$9),\"\")","v":""},null,null,null,null,null,null,null,null,null,"00:00:00"]
[null,null,null,null,null,null,null,null,null,"",{"$f":"IF(L31=\"\",\"\",IF(WEEKDAY(L31)=2,1+INT((L31-DATE(YEAR(L31+4-WEEKDAY(L31+6)),1,5)+WEEKDAY(DATE(YEAR(L31+4-WEEKDAY(L31+6)),1,3)))/7),\"\"))","v":""},{"$f":"IF(MONTH(L$30+1)<>MONTH(L$30),\"\",L$30+1)","v":"2018-03-29"},{"$f":"IF(MONTH(M$30+1)<>MONTH(M$30),\"\",M$30+1)","v":"2018-03-29"},null,"00:00:00",null,null,null,null,null,null,"","","","","",{"$f":"IF(ISERROR(IF(NOT(ISERROR(MATCH($M31,Blad2!$A$2:$A$11,0))),7,WEEKDAY($M31,2))),\"\",IF(NOT(ISERROR(MATCH($M31,Blad2!$A$2:$A$11,0))),7,WEEKDAY($M31,2)))","v":4},{"$f":"IF(AND($AA31<6,N31<>\"\",O31<>\"\"),ort($N31,$O31,$AY$3:$AZ$3),\"\")","v":""},{"$f":"IF(AND($AA31<6,N31<>\"\",O31<>\"\"),ort($N31,$O31,$AY$4:$AZ$5),\"\")","v":""},{"$f":"IF(AND($AA31<6,N31<>\"\",O31<>\"\"),ort($N31,$O31,$AY$6:$AZ$7),\"\")","v":""},{"$f":"IF(AND($AA31=6,N31<>\"\",O31<>\"\"),ort($N31,$O31,$AY$8:$AZ$8),\"\")","v":""},{"$f":"IF(AND($AA31=7,N31<>\"\",O31<>\"\"),ort($N31,$O31,$AY$9:$AZ$9),\"\")","v":""},{"$f":"IF(AND($AA31<6,P31<>\"\",Q31<>\"\"),ort($P31,$Q31,$AY$3:$AZ$3),\"\")","v":""},{"$f":"IF(AND($AA31<6,P31<>\"\",Q31<>\"\"),ort($P31,$Q31,$AY$4:$AZ$5),\"\")","v":""},{"$f":"IF(AND($AA31<6,P31<>\"\",Q31<>\"\"),ort($P31,$Q31,$AY$6:$AZ$7),\"\")","v":""},{"$f":"IF(AND($AA31=6,P31<>\"\",Q31<>\"\"),ort($P31,$Q31,$AY$8:$AZ$8),\"\")","v":""},{"$f":"IF(AND($AA31=7,P31<>\"\",Q31<>\"\"),ort($P31,$Q31,$AY$9:$AZ$9),\"\")","v":""},{"$f":"IF(AND($AA31<6,R31<>\"\",S31<>\"\"),ort($R31,$S31,$AY$3:$AZ$3),\"\")","v":""},{"$f":"IF(AND($AA31<6,R31<>\"\",S31<>\"\"),ort($R31,$S31,$AY$4:$AZ$5),\"\")","v":""},{"$f":"IF(AND($AA31<6,R31<>\"\",S31<>\"\"),ort($R31,$S31,$AY$6:$AZ$7),\"\")","v":""},{"$f":"IF(AND($AA31=6,R31<>\"\",S31<>\"\"),ort($R31,$S31,$AY$8:$AZ$8),\"\")","v":""},{"$f":"IF(AND($AA31=7,R31<>\"\",S31<>\"\"),ort($R31,$S31,$AY$9:$AZ$9),\"\")","v":""},{"$f":"IF(AND($AA31<6,T31<>\"\",U31<>\"\"),ort($T31,$U31,$AY$3:$AZ$3),\"\")","v":""},{"$f":"IF(AND($AA31<6,T31<>\"\",U31<>\"\"),ort($T31,$U31,$AY$4:$AZ$5),\"\")","v":""},{"$f":"IF(AND($AA31<6,T31<>\"\",U31<>\"\"),ort($T31,$U31,$AY$6:$AZ$7),\"\")","v":""},{"$f":"IF(AND($AA31=6,T31<>\"\",U31<>\"\"),ort($T31,$U31,$AY$8:$AZ$8),\"\")","v":""},{"$f":"IF(AND($AA31=7,T31<>\"\",U31<>\"\"),ort($T31,$U31,$AY$9:$AZ$9),\"\")","v":""},null,null,null,null,null,null,null,null,null,"00:00:00"]
[null,"Totaal Uren incl 150 %",null,null,null,null,null,null,null,"","",{"$f":"IF(L31=\"\",\"\",IF(MONTH($M31+1)<>MONTH($M31),\"\",$M31+1))","v":"2018-03-30"},{"$f":"IF(M31=\"\",\"\",IF(MONTH($M31+1)<>MONTH($M31),\"\",$M31+1))","v":"2018-03-30"},null,"00:00:00",null,null,null,null,null,null,"","","","","",{"$f":"IF(ISERROR(IF(NOT(ISERROR(MATCH($M32,Blad2!$A$2:$A$11,0))),7,WEEKDAY($M32,2))),\"\",IF(NOT(ISERROR(MATCH($M32,Blad2!$A$2:$A$11,0))),7,WEEKDAY($M32,2)))","v":5},{"$f":"IF(AND($AA32<6,N32<>\"\",O32<>\"\"),ort($N32,$O32,$AY$3:$AZ$3),\"\")","v":""},{"$f":"IF(AND($AA32<6,N32<>\"\",O32<>\"\"),ort($N32,$O32,$AY$4:$AZ$5),\"\")","v":""},{"$f":"IF(AND($AA32<6,N32<>\"\",O32<>\"\"),ort($N32,$O32,$AY$6:$AZ$7),\"\")","v":""},{"$f":"IF(AND($AA32=6,N32<>\"\",O32<>\"\"),ort($N32,$O32,$AY$8:$AZ$8),\"\")","v":""},{"$f":"IF(AND($AA32=7,N32<>\"\",O32<>\"\"),ort($N32,$O32,$AY$9:$AZ$9),\"\")","v":""},{"$f":"IF(AND($AA32<6,P32<>\"\",Q32<>\"\"),ort($P32,$Q32,$AY$3:$AZ$3),\"\")","v":""},{"$f":"IF(AND($AA32<6,P32<>\"\",Q32<>\"\"),ort($P32,$Q32,$AY$4:$AZ$5),\"\")","v":""},{"$f":"IF(AND($AA32<6,P32<>\"\",Q32<>\"\"),ort($P32,$Q32,$AY$6:$AZ$7),\"\")","v":""},{"$f":"IF(AND($AA32=6,P32<>\"\",Q32<>\"\"),ort($P32,$Q32,$AY$8:$AZ$8),\"\")","v":""},{"$f":"IF(AND($AA32=7,P32<>\"\",Q32<>\"\"),ort($P32,$Q32,$AY$9:$AZ$9),\"\")","v":""},{"$f":"IF(AND($AA32<6,R32<>\"\",S32<>\"\"),ort($R32,$S32,$AY$3:$AZ$3),\"\")","v":""},{"$f":"IF(AND($AA32<6,R32<>\"\",S32<>\"\"),ort($R32,$S32,$AY$4:$AZ$5),\"\")","v":""},{"$f":"IF(AND($AA32<6,R32<>\"\",S32<>\"\"),ort($R32,$S32,$AY$6:$AZ$7),\"\")","v":""},{"$f":"IF(AND($AA32=6,R32<>\"\",S32<>\"\"),ort($R32,$S32,$AY$8:$AZ$8),\"\")","v":""},{"$f":"IF(AND($AA32=7,R32<>\"\",S32<>\"\"),ort($R32,$S32,$AY$9:$AZ$9),\"\")","v":""},{"$f":"IF(AND($AA32<6,T32<>\"\",U32<>\"\"),ort($T32,$U32,$AY$3:$AZ$3),\"\")","v":""},{"$f":"IF(AND($AA32<6,T32<>\"\",U32<>\"\"),ort($T32,$U32,$AY$4:$AZ$5),\"\")","v":""},{"$f":"IF(AND($AA32<6,T32<>\"\",U32<>\"\"),ort($T32,$U32,$AY$6:$AZ$7),\"\")","v":""},{"$f":"IF(AND($AA32=6,T32<>\"\",U32<>\"\"),ort($T32,$U32,$AY$8:$AZ$8),\"\")","v":""},{"$f":"IF(AND($AA32=7,T32<>\"\",U32<>\"\"),ort($T32,$U32,$AY$9:$AZ$9),\"\")","v":""},null,null,null,null,null,null,null,null,null,"00:00:00"]
[null,{"$f":"SUM(U36,W37)","v":0},null,null,null,null,null,null,null,"",{"$f":"IF(L33=\"\",\"\",IF(WEEKDAY(L33)=2,1+INT((L33-DATE(YEAR(L33+4-WEEKDAY(L33+6)),1,5)+WEEKDAY(DATE(YEAR(L33+4-WEEKDAY(L33+6)),1,3)))/7),\"\"))","v":""},{"$f":"IF(L32=\"\",\"\",IF(MONTH($M32+1)<>MONTH($M32),\"\",$M32+1))","v":"2018-03-31"},{"$f":"IF(M32=\"\",\"\",IF(MONTH($M32+1)<>MONTH($M32),\"\",$M32+1))","v":"2018-03-31"},null,"00:00:00",null,null,null,null,null,null,"","","","","",{"$f":"IF(ISERROR(IF(NOT(ISERROR(MATCH($M33,Blad2!$A$2:$A$11,0))),7,WEEKDAY($M33,2))),\"\",IF(NOT(ISERROR(MATCH($M33,Blad2!$A$2:$A$11,0))),7,WEEKDAY($M33,2)))","v":6},{"$f":"IF(AND($AA33<6,N33<>\"\",O33<>\"\"),ort($N33,$O33,$AY$3:$AZ$3),\"\")","v":""},{"$f":"IF(AND($AA33<6,N33<>\"\",O33<>\"\"),ort($N33,$O33,$AY$4:$AZ$5),\"\")","v":""},{"$f":"IF(AND($AA33<6,N33<>\"\",O33<>\"\"),ort($N33,$O33,$AY$6:$AZ$7),\"\")","v":""},{"$f":"IF(AND($AA33=6,N33<>\"\",O33<>\"\"),ort($N33,$O33,$AY$8:$AZ$8),\"\")","v":""},{"$f":"IF(AND($AA33=7,N33<>\"\",O33<>\"\"),ort($N33,$O33,$AY$9:$AZ$9),\"\")","v":""},{"$f":"IF(AND($AA33<6,P33<>\"\",Q33<>\"\"),ort($P33,$Q33,$AY$3:$AZ$3),\"\")","v":""},{"$f":"IF(AND($AA33<6,P33<>\"\",Q33<>\"\"),ort($P33,$Q33,$AY$4:$AZ$5),\"\")","v":""},{"$f":"IF(AND($AA33<6,P33<>\"\",Q33<>\"\"),ort($P33,$Q33,$AY$6:$AZ$7),\"\")","v":""},{"$f":"IF(AND($AA33=6,P33<>\"\",Q33<>\"\"),ort($P33,$Q33,$AY$8:$AZ$8),\"\")","v":""},{"$f":"IF(AND($AA33=7,P33<>\"\",Q33<>\"\"),ort($P33,$Q33,$AY$9:$AZ$9),\"\")","v":""},{"$f":"IF(AND($AA33<6,R33<>\"\",S33<>\"\"),ort($R33,$S33,$AY$3:$AZ$3),\"\")","v":""},{"$f":"IF(AND($AA33<6,R33<>\"\",S33<>\"\"),ort($R33,$S33,$AY$4:$AZ$5),\"\")","v":""},{"$f":"IF(AND($AA33<6,R33<>\"\",S33<>\"\"),ort($R33,$S33,$AY$6:$AZ$7),\"\")","v":""},{"$f":"IF(AND($AA33=6,R33<>\"\",S33<>\"\"),ort($R33,$S33,$AY$8:$AZ$8),\"\")","v":""},{"$f":"IF(AND($AA33=7,R33<>\"\",S33<>\"\"),ort($R33,$S33,$AY$9:$AZ$9),\"\")","v":""},{"$f":"IF(AND($AA33<6,T33<>\"\",U33<>\"\"),ort($T33,$U33,$AY$3:$AZ$3),\"\")","v":""},{"$f":"IF(AND($AA33<6,T33<>\"\",U33<>\"\"),ort($T33,$U33,$AY$4:$AZ$5),\"\")","v":""},{"$f":"IF(AND($AA33<6,T33<>\"\",U33<>\"\"),ort($T33,$U33,$AY$6:$AZ$7),\"\")","v":""},{"$f":"IF(AND($AA33=6,T33<>\"\",U33<>\"\"),ort($T33,$U33,$AY$8:$AZ$8),\"\")","v":""},{"$f":"IF(AND($AA33=7,T33<>\"\",U33<>\"\"),ort($T33,$U33,$AY$9:$AZ$9),\"\")","v":""},null,null,null,null,null,null,null,null,null,"00:00:00"]
[null,null,null,null,null,null,null,null,null,null,null,null,null,null,null,null,null,null,null,null,null,null,{"$f":"SUM(W3:W33)","v":0},{"$f":"SUM(X3:X33)","v":0},0,0]
[null,null,null,null,null,null,null,null,null,null,null,null,"Plus / Min Uren Incl 150 % Uren",null,null,null,null,null,"Contract Uren",null,{"$f":"SUM(B17)","v":3.75}]
[null,null,null,null,null,null,null,null,null,null,null,null,{"$f":"SUM(B33-B17)","v":-3.75},null,null,5,null,"Gewerkte Uren 100 %",null,null,{"$f":"SUM(W34:X34)","v":0}]
[null,null,null,null,null,null,null,null,null,null,null,null,"Uitbetalen / Verlof",null,null,{"$f":"SUM(M36*P36)*24","v":-450},null,"Gewerkte Uren 150 %",null,null,{"$f":"SUM(Y34)","v":0},"X 150%",{"$f":"SUM(U37*150%)","v":0}]
[null,null,null,null,null,null,null,null,null,null,null,null,null,null,null,null,null,null,"Plus Uren"]
[null,null,null,null,null,null,null,null,null,null,null,null,null,null,null,null,null,null,"Min Uren"]

{"sheet":"April","index":3,"n_rows":39,"n_cols":57,"rows_kept":39,"cut":false,"hidden":false,"merged":[[38,18,38,19],[37,18,37,19],[1,48,1,51],[2,3,2,7],[3,2,3,8],[19,1,19,8],[13,1,13,8],[15,1,15,8],[16,1,16,8],[18,1,18,8],[12,1,12,8],[0,14,0,21],[1,2,1,8],[35,9,35,10],[36,9,36,10],[34,12,34,16],[35,12,35,14],[35,15,35,16],[36,12,36,14],[36,15,36,16],[31,1,31,8],[32,1,32,8],[34,18,34,19],[35,17,35,19],[36,17,36,19]]}
[null,null,null,null,null,null,null,null,null,null,null,null,null,null,"Test"]
[null,null,{"$f":"TODAY()","v":"2018-03-21"},null,null,null,null,null,null,"Feestdag","wknr","dag","datum","tijd in","tijd uit","tijd in","tijd uit","tijd in","tijd uit","tijd in","tijd uit","werk\ntijd",1,1.25,1.5,2,"hulp",1,1.25,1.5,1.5,2,1,1.25,1.5,1.5,2,1,1.25,1.5,1.5,2,1,1.25,1.5,1.5,2,null,"onregelmatigheidstoeslag",null,null,null,null,"Stops","Laden","Lossen","Werktijd"]
[null,2018," ","Kalender",null,null,null,null,null,{"$f":"IF(ISNA(VLOOKUP(M3,feestdagen,2,0)),\"\",VLOOKUP(M3,feestdagen,2,0))","v":""},{"$f":"WEEKNUM(L3,21)","v":13},{"$f":"DATE($B$3,$B$4,1)","v":"2018-04-01"},{"$f":"DATE($B$3,$B$4,1)","v":"2018-04-01"},null,{"$f":"SUM(N3,BE3)","v":"00:00:00"},null,null,null,null,null,null,{"$f":"IF(AND(W3=\"\",X3=\"\",Y3=\"\",Z3=\"\"),\"\",SUM(W3:Z3))","v":""},{"$f":"IF(AND(AB3=\"\",AG3=\"\",AL3=\"\",AQ3=\"\"),\"\",SUM(AB3,AG3,AL3,AQ3))","v":""},{"$f":"IF(AND(AC3=\"\",AH3=\"\",AM3=\"\",AR3=\"\"),\"\",SUM(AC3,AH3,AM3,AR3))","v":""},{"$f":"IF(AND(AD3=\"\",AE3=\"\",AI3=\"\",AJ3=\"\",AN3=\"\",AO3=\"\",AS3=\"\",AT3=\"\"),\"\",SUM(AD3,AE3,AI3,AJ3,AN3,AO3,AS3,AT3))","v":""},{"$f":"IF(AND(AF3=\"\",AK3=\"\",AP3=\"\",AU3=\"\"),\"\",SUM(AF3,AK3,AP3,AU3))","v":""},{"$f":"IF(ISERROR(IF(NOT(ISERROR(MATCH($M3,Blad2!$A$2:$A$11,0))),7,WEEKDAY($M3,2))),\"\",IF(NOT(ISERROR(MATCH($M3,Blad2!$A$2:$A$11,0))),7,WEEKDAY($M3,2)))","v":7},{"$f":"IF(AND($AA3<6,N3<>\"\",O3<>\"\"),ort($N3,$O3,$AY$3:$AZ$3),\"\")","v":""},{"$f":"IF(AND($AA3<6,N3<>\"\",O3<>\"\"),ort($N3,$O3,$AY$4:$AZ$5),\"\")","v":""},{"$f":"IF(AND($AA3<6,N3<>\"\",O3<>\"\"),ort($N3,$O3,$AY$6:$AZ$7),\"\")","v":""},{"$f":"IF(AND($AA3=6,N3<>\"\",O3<>\"\"),ort($N3,$O3,$AY$8:$AZ$8),\"\")","v":""},{"$f":"IF(AND($AA3=7,N3<>\"\",O3<>\"\"),ort($N3,$O3,$AY$9:$AZ$9),\"\")","v":""},{"$f":"IF(AND($AA3<6,P3<>\"\",Q3<>\"\"),ort($P3,$Q3,$AY$3:$AZ$3),\"\")","v":""},{"$f":"IF(AND($AA3<6,P3<>\"\",Q3<>\"\"),ort($P3,$Q3,$AY$4:$AZ$5),\"\")","v":""},{"$f":"IF(AND($AA3<6,P3<>\"\",Q3<>\"\"),ort($P3,$Q3,$AY$6:$AZ$7),\"\")","v":""},{"$f":"IF(AND($AA3=6,P3<>\"\",Q3<>\"\"),ort($P3,$Q3,$AY$8:$AZ$8),\"\")","v":""},{"$f":"IF(AND($AA3=7,P3<>\"\",Q3<>\"\"),ort($P3,$Q3,$AY$9:$AZ$9),\"\")","v":""},{"$f":"IF(AND($AA3<6,R3<>\"\",S3<>\"\"),ort($R3,$S3,$AY$3:$AZ$3),\"\")","v":""},{"$f":"IF(AND($AA3<6,R3<>\"\",S3<>\"\"),ort($R3,$S3,$AY$4:$AZ$5),\"\")","v":""},{"$f":"IF(AND($AA3<6,R3<>\"\",S3<>\"\"),ort($R3,$S3,$AY$6:$AZ$7),\"\")","v":""},{"$f":"IF(AND($AA3=6,R3<>\"\",S3<>\"\"),ort($R3,$S3,$AY$8:$AZ$8),\"\")","v":""},{"$f":"IF(AND($AA3=7,R3<>\"\",S3<>\"\"),ort($R3,$S3,$AY$9:$AZ$9),\"\")","v":""},{"$f":"IF(AND($AA3<6,T3<>\"\",U3<>\"\"),ort($T3,$U3,$AY$3:$AZ$3),\"\")","v":""},{"$f":"IF(AND($AA3<6,T3<>\"\",U3<>\"\"),ort($T3,$U3,$AY$4:$AZ$5),\"\")","v":""},{"$f":"IF(AND($AA3<6,T3<>\"\",U3<>\"\"),ort($T3,$U3,$AY$6:$AZ$7),\"\")","v":""},{"$f":"IF(AND($AA3=6,T3<>\"\",U3<>\"\"),ort($T3,$U3,$AY$8:$AZ$8),\"\")","v":""},{"$f":"IF(AND($AA3=7,T3<>\"\",U3<>\"\"),ort($T3,$U3,$AY$9:$AZ$9),\"\")","v":""},null,1,"m-vr",0.39583333333333331,0.72916666666666663,null,null,null,null,{"$f":"SUM(BB3/20/24,BC3:BD3)","v":"00:00:00"}]
[null,4,{"$f":"DATE(B3,B4,1)","v":"2018-04-01"},null,null,null,null,null,null,"",{"$f":"IF(WEEKDAY(L4)=2,1+INT((L4-DATE(YEAR(L4+4-WEEKDAY(L4+6)),1,5)+WEEKDAY(DATE(YEAR(L4+4-WEEKDAY(L4+6)),1,3)))/7),\"\")","v":14},{"$f":"DATE($B$3,$B$4,2)","v":"2018-04-02"},{"$f":"DATE($B$3,$B$4,2)","v":"2018-04-02"},null,{"$f":"SUM(N4,BE4)","v":"00:00:00"},null,null,null,null,null,null,{"$f":"IF(AND(W4=\"\",X4=\"\",Y4=\"\",Z4=\"\"),\"\",SUM(W4:Z4))","v":""},{"$f":"IF(AND(AB4=\"\",AG4=\"\",AL4=\"\",AQ4=\"\"),\"\",SUM(AB4,AG4,AL4,AQ4))","v":""},{"$f":"IF(AND(AC4=\"\",AH4=\"\",AM4=\"\",AR4=\"\"),\"\",SUM(AC4,AH4,AM4,AR4))","v":""},{"$f":"IF(AND(AD4=\"\",AE4=\"\",AI4=\"\",AJ4=\"\",AN4=\"\",AO4=\"\",AS4=\"\",AT4=\"\"),\"\",SUM(AD4,AE4,AI4,AJ4,AN4,AO4,AS4,AT4))","v":""},{"$f":"IF(AND(AF4=\"\",AK4=\"\",AP4=\"\",AU4=\"\"),\"\",SUM(AF4,AK4,AP4,AU4))","v":""},{"$f":"IF(ISERROR(IF(NOT(ISERROR(MATCH($M4,Blad2!$A$2:$A$11,0))),7,WEEKDAY($M4,2))),\"\",IF(NOT(ISERROR(MATCH($M4,Blad2!$A$2:$A$11,0))),7,WEEKDAY($M4,2)))","v":1},{"$f":"IF(AND($AA4<6,N4<>\"\",O4<>\"\"),ort($N4,$O4,$AY$3:$AZ$3),\"\")","v":""},{"$f":"IF(AND($AA4<6,N4<>\"\",O4<>\"\"),ort($N4,$O4,$AY$4:$AZ$5),\"\")","v":""},{"$f":"IF(AND($AA4<6,N4<>\"\",O4<>\"\"),ort($N4,$O4,$AY$6:$AZ$7),\"\")","v":""},{"$f":"IF(AND($AA4=6,N4<>\"\",O4<>\"\"),ort($N4,$O4,$AY$8:$AZ$8),\"\")","v":""},{"$f":"IF(AND($AA4=7,N4<>\"\",O4<>\"\"),ort($N4,$O4,$AY$9:$AZ$9),\"\")","v":""},{"$f":"IF(AND($AA4<6,P4<>\"\",Q4<>\"\"),ort($P4,$Q4,$AY$3:$AZ$3),\"\")","v":""},{"$f":"IF(AND($AA4<6,P4<>\"\",Q4<>\"\"),ort($P4,$Q4,$AY$4:$AZ$5),\"\")","v":""},{"$f":"IF(AND($AA4<6,P4<>\"\",Q4<>\"\"),ort($P4,$Q4,$AY$6:$AZ$7),\"\")","v":""},{"$f":"IF(AND($AA4=6,P4<>\"\",Q4<>\"\"),ort($P4,$Q4,$AY$8:$AZ$8),\"\")","v":""},{"$f":"IF(AND($AA4=7,P4<>\"\",Q4<>\"\"),ort($P4,$Q4,$AY$9:$AZ$9),\"\")","v":""},{"$f":"IF(AND($AA4<6,R4<>\"\",S4<>\"\"),ort($R4,$S4,$AY$3:$AZ$3),\"\")","v":""},{"$f":"IF(AND($AA4<6,R4<>\"\",S4<>\"\"),ort($R4,$S4,$AY$4:$AZ$5),\"\")","v":""},{"$f":"IF(AND($AA4<6,R4<>\"\",S4<>\"\"),ort($R4,$S4,$AY$6:$AZ$7),\"\")","v":""},{"$f":"IF(AND($AA4=6,R4<>\"\",S4<>\"\"),ort($R4,$S4,$AY$8:$AZ$8),\"\")","v":""},{"$f":"IF(AND($AA4=7,R4<>\"\",S4<>\"\"),ort($R4,$S4,$AY$9:$AZ$9),\"\")","v":""},{"$f":"IF(AND($AA4<6,T4<>\"\",U4<>\"\"),ort($T4,$U4,$AY$3:$AZ$3),\"\")","v":""},{"$f":"IF(AND($AA4<6,T4<>\"\",U4<>\"\"),ort($T4,$U4,$AY$4:$AZ$5),\"\")","v":""},{"$f":"IF(AND($AA4<6,T4<>\"\",U4<>\"\"),ort($T4,$U4,$AY$6:$AZ$7),\"\")","v":""},{"$f":"IF(AND($AA4=6,T4<>\"\",U4<>\"\"),ort($T4,$U4,$AY$8:$AZ$8),\"\")","v":""},{"$f":"IF(AND($AA4=7,T4<>\"\",U4<>\"\"),ort($T4,$U4,$AY$9:$AZ$9),\"\")","v":""},null,1.25,"m-vr",0.25,0.3125,null,null,null,null,{"$f":"SUM(BB4/20/24,BC4:BD4)","v":"00:00:00"}]
[null,null,"Ma","Di","Wo","Do","Vr","Za","Zo","","",{"$f":"DATE($B$3,$B$4,3)","v":"2018-04-03"},{"$f":"DATE($B$3,$B$4,3)","v":"2018-04-03"},null,"00:00:00",null,null,null,null,null,null,"",{"$f":"IF(AND(AB5=\"\",AG5=\"\",AL5=\"\",AQ5=\"\"),\"\",SUM(AB5,AG5,AL5,AQ5))","v":""},"",{"$f":"IF(AND(AD5=\"\",AE5=\"\",AI5=\"\",AJ5=\"\",AN5=\"\",AO5=\"\",AS5=\"\",AT5=\"\"),\"\",SUM(AD5,AE5,AI5,AJ5,AN5,AO5,AS5,AT5))","v":""},{"$f":"IF(AND(AF5=\"\",AK5=\"\",AP5=\"\",AU5=\"\"),\"\",SUM(AF5,AK5,AP5,AU5))","v":""},{"$f":"IF(ISERROR(IF(NOT(ISERROR(MATCH($M5,Blad2!$A$2:$A$11,0))),7,WEEKDAY($M5,2))),\"\",IF(NOT(ISERROR(MATCH($M5,Blad2!$A$2:$A$11,0))),7,WEEKDAY($M5,2)))","v":2},{"$f":"IF(AND($AA5<6,N5<>\"\",O5<>\"\"),ort($N5,$O5,$AY$3:$AZ$3),\"\")","v":""},{"$f":"IF(AND($AA5<6,N5<>\"\",O5<>\"\"),ort($N5,$O5,$AY$4:$AZ$5),\"\")","v":""},{"$f":"IF(AND($AA5<6,N5<>\"\",O5<>\"\"),ort($N5,$O5,$AY$6:$AZ$7),\"\")","v":""},{"$f":"IF(AND($AA5=6,N5<>\"\",O5<>\"\"),ort($N5,$O5,$AY$8:$AZ$8),\"\")","v":""},{"$f":"IF(AND($AA5=7,N5<>\"\",O5<>\"\"),ort($N5,$O5,$AY$9:$AZ$9),\"\")","v":""},{"$f":"IF(AND($AA5<6,P5<>\"\",Q5<>\"\"),ort($P5,$Q5,$AY$3:$AZ$3),\"\")","v":""},{"$f":"IF(AND($AA5<6,P5<>\"\",Q5<>\"\"),ort($P5,$Q5,$AY$4:$AZ$5),\"\")","v":""},{"$f":"IF(AND($AA5<6,P5<>\"\",Q5<>\"\"),ort($P5,$Q5,$AY$6:$AZ$7),\"\")","v":""},{"$f":"IF(AND($AA5=6,P5<>\"\",Q5<>\"\"),ort($P5,$Q5,$AY$8:$AZ$8),\"\")","v":""},{"$f":"IF(AND($AA5=7,P5<>\"\",Q5<>\"\"),ort($P5,$Q5,$AY$9:$AZ$9),\"\")","v":""},{"$f":"IF(AND($AA5<6,R5<>\"\",S5<>\"\"),ort($R5,$S5,$AY$3:$AZ$3),\"\")","v":""},{"$f":"IF(AND($AA5<6,R5<>\"\",S5<>\"\"),ort($R5,$S5,$AY$4:$AZ$5),\"\")","v":""},{"$f":"IF(AND($AA5<6,R5<>\"\",S5<>\"\"),ort($R5,$S5,$AY$6:$AZ$7),\"\")","v":""},{"$f":"IF(AND($AA5=6,R5<>\"\",S5<>\"\"),ort($R5,$S5,$AY$8:$AZ$8),\"\")","v":""},{"$f":"IF(AND($AA5=7,R5<>\"\",S5<>\"\"),ort($R5,$S5,$AY$9:$AZ$9),\"\")","v":""},{"$f":"IF(AND($AA5<6,T5<>\"\",U5<>\"\"),ort($T5,$U5,$AY$3:$AZ$3),\"\")","v":""},{"$f":"IF(AND($AA5<6,T5<>\"\",U5<>\"\"),ort($T5,$U5,$AY$4:$AZ$5),\"\")","v":""},{"$f":"IF(AND($AA5<6,T5<>\"\",U5<>\"\"),ort($T5,$U5,$AY$6:$AZ$7),\"\")","v":""},{"$f":"IF(AND($AA5=6,T5<>\"\",U5<>\"\"),ort($T5,$U5,$AY$8:$AZ$8),\"\")","v":""},{"$f":"IF(AND($AA5=7,T5<>\"\",U5<>\"\"),ort($T5,$U5,$AY$9:$AZ$9),\"\")","v":""},null,1.25,"m-vr",0.72916666666666663,0.77083333333333337,null,null,null,null,"00:00:00"]
[null,null,{"$f":"IF(WEEKDAY(C4,2)=1,C4,\"\")","v":""},{"$f":"IF(WEEKDAY(C4,2)=2,C4,IF(C6<>\"\",C6+1,\"\"))","v":""},{"$f":"IF(WEEKDAY(C4,2)=3,C4,IF(D6<>\"\",D6+1,\"\"))","v":""},{"$f":"IF(WEEKDAY(C4,2)=4,C4,IF(E6<>\"\",E6+1,\"\"))","v":""},{"$f":"IF(WEEKDAY(C4,2)=5,C4,IF(F6<>\"\",F6+1,\"\"))","v":""},{"$f":"IF(WEEKDAY(C4,2)=6,C4,IF(G6<>\"\",G6+1,\"\"))","v":""},{"$f":"IF(WEEKDAY(C4,2)=7,C4,IF(H6<>\"\",H6+1,\"\"))","v":"2018-04-01"},"","",{"$f":"DATE($B$3,$B$4,4)","v":"2018-04-04"},{"$f":"DATE($B$3,$B$4,4)","v":"2018-04-04"},null,"00:00:00",null,null,null,null,null,null,"","","","","",{"$f":"IF(ISERROR(IF(NOT(ISERROR(MATCH($M6,Blad2!$A$2:$A$11,0))),7,WEEKDAY($M6,2))),\"\",IF(NOT(ISERROR(MATCH($M6,Blad2!$A$2:$A$11,0))),7,WEEKDAY($M6,2)))","v":3},{"$f":"IF(AND($AA6<6,N6<>\"\",O6<>\"\"),ort($N6,$O6,$AY$3:$AZ$3),\"\")","v":""},{"$f":"IF(AND($AA6<6,N6<>\"\",O6<>\"\"),ort($N6,$O6,$AY$4:$AZ$5),\"\")","v":""},{"$f":"IF(AND($AA6<6,N6<>\"\",O6<>\"\"),ort($N6,$O6,$AY$6:$AZ$7),\"\")","v":""},{"$f":"IF(AND($AA6=6,N6<>\"\",O6<>\"\"),ort($N6,$O6,$AY$8:$AZ$8),\"\")","v":""},{"$f":"IF(AND($AA6=7,N6<>\"\",O6<>\"\"),ort($N6,$O6,$AY$9:$AZ$9),\"\")","v":""},{"$f":"IF(AND($AA6<6,P6<>\"\",Q6<>\"\"),ort($P6,$Q6,$AY$3:$AZ$3),\"\")","v":""},{"$f":"IF(AND($AA6<6,P6<>\"\",Q6<>\"\"),ort($P6,$Q6,$AY$4:$AZ$5),\"\")","v":""},{"$f":"IF(AND($AA6<6,P6<>\"\",Q6<>\"\"),ort($P6,$Q6,$AY$6:$AZ$7),\"\")","v":""},{"$f":"IF(AND($AA6=6,P6<>\"\",Q6<>\"\"),ort($P6,$Q6,$AY$8:$AZ$8),\"\")","v":""},{"$f":"IF(AND($AA6=7,P6<>\"\",Q6<>\"\"),ort($P6,$Q6,$AY$9:$AZ$9),\"\")","v":""},{"$f":"IF(AND($AA6<6,R6<>\"\",S6<>\"\"),ort($R6,$S6,$AY$3:$AZ$3),\"\")","v":""},{"$f":"IF(AND($AA6<6,R6<>\"\",S6<>\"\"),ort($R6,$S6,$AY$4:$AZ$5),\"\")","v":""},{"$f":"IF(AND($AA6<6,R6<>\"\",S6<>\"\"),ort($R6,$S6,$AY$6:$AZ$7),\"\")","v":""},{"$f":"IF(AND($AA6=6,R6<>\"\",S6<>\"\"),ort($R6,$S6,$AY$8:$AZ$8),\"\")","v":""},{"$f":"IF(AND($AA6=7,R6<>\"\",S6<>\"\"),ort($R6,$S6,$AY$9:$AZ$9),\"\")","v":""},{"$f":"IF(AND($AA6<6,T6<>\"\",U6<>\"\"),ort($T6,$U6,$AY$3:$AZ$3),\"\")","v":""},{"$f":"IF(AND($AA6<6,T6<>\"\",U6<>\"\"),ort($T6,$U6,$AY$4:$AZ$5),\"\")","v":""},{"$f":"IF(AND($AA6<6,T6<>\"\",U6<>\"\"),ort($T6,$U6,$AY$6:$AZ$7),\"\")","v":""},{"$f":"IF(AND($AA6=6,T6<>\"\",U6<>\"\"),ort($T6,$U6,$AY$8:$AZ$8),\"\")","v":""},{"$f":"IF(AND($AA6=7,T6<>\"\",U6<>\"\"),ort($T6,$U6,$AY$9:$AZ$9),\"\")","v":""},null,1.5,"m-vr",0,0.25,null,null,null,null,"00:00:00"]
[null,null,{"$f":"I6+1","v":"2018-04-02"},{"$f":"C7+1","v":"2018-04-03"},{"$f":"D7+1","v":"2018-04-04"},"2018-04-05","2018-04-06","2018-04-07","2018-04-08","","",{"$f":"DATE($B$3,$B$4,5)","v":"2018-04-05"},{"$f":"DATE($B$3,$B$4,5)","v":"2018-04-05"},null,"00:00:00",null,null,null,null,null,null,"","","","","",{"$f":"IF(ISERROR(IF(NOT(ISERROR(MATCH($M7,Blad2!$A$2:$A$11,0))),7,WEEKDAY($M7,2))),\"\",IF(NOT(ISERROR(MATCH($M7,Blad2!$A$2:$A$11,0))),7,WEEKDAY($M7,2)))","v":4},{"$f":"IF(AND($AA7<6,N7<>\"\",O7<>\"\"),ort($N7,$O7,$AY$3:$AZ$3),\"\")","v":""},{"$f":"IF(AND($AA7<6,N7<>\"\",O7<>\"\"),ort($N7,$O7,$AY$4:$AZ$5),\"\")","v":""},{"$f":"IF(AND($AA7<6,N7<>\"\",O7<>\"\"),ort($N7,$O7,$AY$6:$AZ$7),\"\")","v":""},{"$f":"IF(AND($AA7=6,N7<>\"\",O7<>\"\"),ort($N7,$O7,$AY$8:$AZ$8),\"\")","v":""},{"$f":"IF(AND($AA7=7,N7<>\"\",O7<>\"\"),ort($N7,$O7,$AY$9:$AZ$9),\"\")","v":""},{"$f":"IF(AND($AA7<6,P7<>\"\",Q7<>\"\"),ort($P7,$Q7,$AY$3:$AZ$3),\"\")","v":""},{"$f":"IF(AND($AA7<6,P7<>\"\",Q7<>\"\"),ort($P7,$Q7,$AY$4:$AZ$5),\"\")","v":""},{"$f":"IF(AND($AA7<6,P7<>\"\",Q7<>\"\"),ort($P7,$Q7,$AY$6:$AZ$7),\"\")","v":""},{"$f":"IF(AND($AA7=6,P7<>\"\",Q7<>\"\"),ort($P7,$Q7,$AY$8:$AZ$8),\"\")","v":""},{"$f":"IF(AND($AA7=7,P7<>\"\",Q7<>\"\"),ort($P7,$Q7,$AY$9:$AZ$9),\"\")","v":""},{"$f":"IF(AND($AA7<6,R7<>\"\",S7<>\"\"),ort($R7,$S7,$AY$3:$AZ$3),\"\")","v":""},{"$f":"IF(AND($AA7<6,R7<>\"\",S7<>\"\"),ort($R7,$S7,$AY$4:$AZ$5),\"\")","v":""},{"$f":"IF(AND($AA7<6,R7<>\"\",S7<>\"\"),ort($R7,$S7,$AY$6:$AZ$7),\"\")","v":""},{"$f":"IF(AND($AA7=6,R7<>\"\",S7<>\"\"),ort($R7,$S7,$AY$8:$AZ$8),\"\")","v":""},{"$f":"IF(AND($AA7=7,R7<>\"\",S7<>\"\"),ort($R7,$S7,$AY$9:$AZ$9),\"\")","v":""},{"$f":"IF(AND($AA7<6,T7<>\"\",U7<>\"\"),ort($T7,$U7,$AY$3:$AZ$3),\"\")","v":""},{"$f":"IF(AND($AA7<6,T7<>\"\",U7<>\"\"),ort($T7,$U7,$AY$4:$AZ$5),\"\")","v":""},{"$f":"IF(AND($AA7<6,T7<>\"\",U7<>\"\"),ort($T7,$U7,$AY$6:$AZ$7),\"\")","v":""},{"$f":"IF(AND($AA7=6,T7<>\"\",U7<>\"\"),ort($T7,$U7,$AY$8:$AZ$8),\"\")","v":""},{"$f":"IF(AND($AA7=7,T7<>\"\",U7<>\"\"),ort($T7,$U7,$AY$9:$AZ$9),\"\")","v":""},null,1.5,"m-vr",0.77083333333333337,1,null,null,null,null,{"$f":"SUM(BB7/18/24,BC7:BD7)","v":"00:00:00"}]
[null,null,{"$f":"I7+1","v":"2018-04-09"},{"$f":"C8+1","v":"2018-04-10"},"2018-04-11","2018-04-12","2018-04-13","2018-04-14","2018-04-15","","",{"$f":"DATE($B$3,$B$4,6)","v":"2018-04-06"},{"$f":"DATE($B$3,$B$4,6)","v":"2018-04-06"},null,"00:00:00",null,null,null,null,null,null,"","","","","",{"$f":"IF(ISERROR(IF(NOT(ISERROR(MATCH($M8,Blad2!$A$2:$A$11,0))),7,WEEKDAY($M8,2))),\"\",IF(NOT(ISERROR(MATCH($M8,Blad2!$A$2:$A$11,0))),7,WEEKDAY($M8,2)))","v":5},{"$f":"IF(AND($AA8<6,N8<>\"\",O8<>\"\"),ort($N8,$O8,$AY$3:$AZ$3),\"\")","v":""},{"$f":"IF(AND($AA8<6,N8<>\"\",O8<>\"\"),ort($N8,$O8,$AY$4:$AZ$5),\"\")","v":""},{"$f":"IF(AND($AA8<6,N8<>\"\",O8<>\"\"),ort($N8,$O8,$AY$6:$AZ$7),\"\")","v":""},{"$f":"IF(AND($AA8=6,N8<>\"\",O8<>\"\"),ort($N8,$O8,$AY$8:$AZ$8),\"\")","v":""},{"$f":"IF(AND($AA8=7,N8<>\"\",O8<>\"\"),ort($N8,$O8,$AY$9:$AZ$9),\"\")","v":""},{"$f":"IF(AND($AA8<6,P8<>\"\",Q8<>\"\"),ort($P8,$Q8,$AY$3:$AZ$3),\"\")","v":""},{"$f":"IF(AND($AA8<6,P8<>\"\",Q8<>\"\"),ort($P8,$Q8,$AY$4:$AZ$5),\"\")","v":""},{"$f":"IF(AND($AA8<6,P8<>\"\",Q8<>\"\"),ort($P8,$Q8,$AY$6:$AZ$7),\"\")","v":""},{"$f":"IF(AND($AA8=6,P8<>\"\",Q8<>\"\"),ort($P8,$Q8,$AY$8:$AZ$8),\"\")","v":""},{"$f":"IF(AND($AA8=7,P8<>\"\",Q8<>\"\"),ort($P8,$Q8,$AY$9:$AZ$9),\"\")","v":""},{"$f":"IF(AND($AA8<6,R8<>\"\",S8<>\"\"),ort($R8,$S8,$AY$3:$AZ$3),\"\")","v":""},{"$f":"IF(AND($AA8<6,R8<>\"\",S8<>\"\"),ort($R8,$S8,$AY$4:$AZ$5),\"\")","v":""},{"$f":"IF(AND($AA8<6,R8<>\"\",S8<>\"\"),ort($R8,$S8,$AY$6:$AZ$7),\"\")","v":""},{"$f":"IF(AND($AA8=6,R8<>\"\",S8<>\"\"),ort($R8,$S8,$AY$8:$AZ$8),\"\")","v":""},{"$f":"IF(AND($AA8=7,R8<>\"\",S8<>\"\"),ort($R8,$S8,$AY$9:$AZ$9),\"\")","v":""},{"$f":"IF(AND($AA8<6,T8<>\"\",U8<>\"\"),ort($T8,$U8,$AY$3:$AZ$3),\"\")","v":""},{"$f":"IF(AND($AA8<6,T8<>\"\",U8<>\"\"),ort($T8,$U8,$AY$4:$AZ$5),\"\")","v":""},{"$f":"IF(AND($AA8<6,T8<>\"\",U8<>\"\"),ort($T8,$U8,$AY$6:$AZ$7),\"\")","v":""},{"$f":"IF(AND($AA8=6,T8<>\"\",U8<>\"\"),ort($T8,$U8,$AY$8:$AZ$8),\"\")","v":""},{"$f":"IF(AND($AA8=7,T8<>\"\",U8<>\"\"),ort($T8,$U8,$AY$9:$AZ$9),\"\")","v":""},null,1.5,"za",0,1,null,null,null,null,{"$f":"SUM(BB8/19/24,BC8:BD8)","v":"00:00:00"}]
[null,null,{"$f":"I8+1","v":"2018-04-16"},{"$f":"C9+1","v":"2018-04-17"},"2018-04-18","2018-04-19","2018-04-20","2018-04-21","2018-04-22",null,"",{"$f":"DATE($B$3,$B$4,7)","v":"2018-04-07"},{"$f":"DATE($B$3,$B$4,7)","v":"2018-04-07"},null,"00:00:00",null,null,null,null,null,null,"","","","","",{"$f":"IF(ISERROR(IF(NOT(ISERROR(MATCH($M9,Blad2!$A$2:$A$11,0))),7,WEEKDAY($M9,2))),\"\",IF(NOT(ISERROR(MATCH($M9,Blad2!$A$2:$A$11,0))),7,WEEKDAY($M9,2)))","v":7},{"$f":"IF(AND($AA9<6,N9<>\"\",O9<>\"\"),ort($N9,$O9,$AY$3:$AZ$3),\"\")","v":""},{"$f":"IF(AND($AA9<6,N9<>\"\",O9<>\"\"),ort($N9,$O9,$AY$4:$AZ$5),\"\")","v":""},{"$f":"IF(AND($AA9<6,N9<>\"\",O9<>\"\"),ort($N9,$O9,$AY$6:$AZ$7),\"\")","v":""},{"$f":"IF(AND($AA9=6,N9<>\"\",O9<>\"\"),ort($N9,$O9,$AY$8:$AZ$8),\"\")","v":""},{"$f":"IF(AND($AA9=7,N9<>\"\",O9<>\"\"),ort($N9,$O9,$AY$9:$AZ$9),\"\")","v":""},{"$f":"IF(AND($AA9<6,P9<>\"\",Q9<>\"\"),ort($P9,$Q9,$AY$3:$AZ$3),\"\")","v":""},{"$f":"IF(AND($AA9<6,P9<>\"\",Q9<>\"\"),ort($P9,$Q9,$AY$4:$AZ$5),\"\")","v":""},{"$f":"IF(AND($AA9<6,P9<>\"\",Q9<>\"\"),ort($P9,$Q9,$AY$6:$AZ$7),\"\")","v":""},{"$f":"IF(AND($AA9=6,P9<>\"\",Q9<>\"\"),ort($P9,$Q9,$AY$8:$AZ$8),\"\")","v":""},{"$f":"IF(AND($AA9=7,P9<>\"\",Q9<>\"\"),ort($P9,$Q9,$AY$9:$AZ$9),\"\")","v":""},{"$f":"IF(AND($AA9<6,R9<>\"\",S9<>\"\"),ort($R9,$S9,$AY$3:$AZ$3),\"\")","v":""},{"$f":"IF(AND($AA9<6,R9<>\"\",S9<>\"\"),ort($R9,$S9,$AY$4:$AZ$5),\"\")","v":""},{"$f":"IF(AND($AA9<6,R9<>\"\",S9<>\"\"),ort($R9,$S9,$AY$6:$AZ$7),\"\")","v":""},{"$f":"IF(AND($AA9=6,R9<>\"\",S9<>\"\"),ort($R9,$S9,$AY$8:$AZ$8),\"\")","v":""},{"$f":"IF(AND($AA9=7,R9<>\"\",S9<>\"\"),ort($R9,$S9,$AY$9:$AZ$9),\"\")","v":""},{"$f":"IF(AND($AA9<6,T9<>\"\",U9<>\"\"),ort($T9,$U9,$AY$3:$AZ$3),\"\")","v":""},{"$f":"IF(AND($AA9<6,T9<>\"\",U9<>\"\"),ort($T9,$U9,$AY$4:$AZ$5),\"\")","v":""},{"$f":"IF(AND($AA9<6,T9<>\"\",U9<>\"\"),ort($T9,$U9,$AY$6:$AZ$7),\"\")","v":""},{"$f":"IF(AND($AA9=6,T9<>\"\",U9<>\"\"),ort($T9,$U9,$AY$8:$AZ$8),\"\")","v":""},{"$f":"IF(AND($AA9=7,T9<>\"\",U9<>\"\"),ort($T9,$U9,$AY$9:$AZ$9),\"\")","v":""},null,2,"zo/feest",0,1,null,null,null,null,{"$f":"SUM(BB9/19/24,BC9:BD9)","v":"00:00:00"}]
[null,null,{"$f":"IF(I9=\"\",\"\",IF(MONTH(I9+1)=MONTH(I9),I9+1,\"\"))","v":"2018-04-23"},{"$f":"IF(C10=\"\",\"\",IF(MONTH(C10+1)=MONTH(C10),C10+1,\"\"))","v":"2018-04-24"},{"$f":"IF(D10=\"\",\"\",IF(MONTH(D10+1)=MONTH(D10),D10+1,\"\"))","v":"2018-04-25"},"2018-04-26","2018-04-27","2018-04-28","2018-04-29",{"$f":"IF(ISNA(VLOOKUP(M9,feestdagen,2,0)),\"\",VLOOKUP(M9,feestdagen,2,0))","v":"Paasdag"},"",{"$f":"DATE($B$3,$B$4,8)","v":"2018-04-08"},{"$f":"DATE($B$3,$B$4,8)","v":"2018-04-08"},null,"00:00:00",null,null,null,null,null,null,"","","","","",{"$f":"IF(ISERROR(IF(NOT(ISERROR(MATCH($M10,Blad2!$A$2:$A$11,0))),7,WEEKDAY($M10,2))),\"\",IF(NOT(ISERROR(MATCH($M10,Blad2!$A$2:$A$11,0))),7,WEEKDAY($M10,2)))","v":7},{"$f":"IF(AND($AA10<6,N10<>\"\",O10<>\"\"),ort($N10,$O10,$AY$3:$AZ$3),\"\")","v":""},{"$f":"IF(AND($AA10<6,N10<>\"\",O10<>\"\"),ort($N10,$O10,$AY$4:$AZ$5),\"\")","v":""},{"$f":"IF(AND($AA10<6,N10<>\"\",O10<>\"\"),ort($N10,$O10,$AY$6:$AZ$7),\"\")","v":""},{"$f":"IF(AND($AA10=6,N10<>\"\",O10<>\"\"),ort($N10,$O10,$AY$8:$AZ$8),\"\")","v":""},{"$f":"IF(AND($AA10=7,N10<>\"\",O10<>\"\"),ort($N10,$O10,$AY$9:$AZ$9),\"\")","v":""},{"$f":"IF(AND($AA10<6,P10<>\"\",Q10<>\"\"),ort($P10,$Q10,$AY$3:$AZ$3),\"\")","v":""},{"$f":"IF(AND($AA10<6,P10<>\"\",Q10<>\"\"),ort($P10,$Q10,$AY$4:$AZ$5),\"\")","v":""},{"$f":"IF(AND($AA10<6,P10<>\"\",Q10<>\"\"),ort($P10,$Q10,$AY$6:$AZ$7),\"\")","v":""},{"$f":"IF(AND($AA10=6,P10<>\"\",Q10<>\"\"),ort($P10,$Q10,$AY$8:$AZ$8),\"\")","v":""},{"$f":"IF(AND($AA10=7,P10<>\"\",Q10<>\"\"),ort($P10,$Q10,$AY$9:$AZ$9),\"\")","v":""},{"$f":"IF(AND($AA10<6,R10<>\"\",S10<>\"\"),ort($R10,$S10,$AY$3:$AZ$3),\"\")","v":""},{"$f":"IF(AND($AA10<6,R10<>\"\",S10<>\"\"),ort($R10,$S10,$AY$4:$AZ$5),\"\")","v":""},{"$f":"IF(AND($AA10<6,R10<>\"\",S10<>\"\"),ort($R10,$S10,$AY$6:$AZ$7),\"\")","v":""},{"$f":"IF(AND($AA10=6,R10<>\"\",S10<>\"\"),ort($R10,$S10,$AY$8:$AZ$8),\"\")","v":""},{"$f":"IF(AND($AA10=7,R10<>\"\",S10<>\"\"),ort($R10,$S10,$AY$9:$AZ$9),\"\")","v":""},{"$f":"IF(AND($AA10<6,T10<>\"\",U10<>\"\"),ort($T10,$U10,$AY$3:$AZ$3),\"\")","v":""},{"$f":"IF(AND($AA10<6,T10<>\"\",U10<>\"\"),ort($T10,$U10,$AY$4:$AZ$5),\"\")","v":""},{"$f":"IF(AND($AA10<6,T10<>\"\",U10<>\"\"),ort($T10,$U10,$AY$6:$AZ$7),\"\")","v":""},{"$f":"IF(AND($AA10=6,T10<>\"\",U10<>\"\"),ort($T10,$U10,$AY$8:$AZ$8),\"\")","v":""},{"$f":"IF(AND($AA10=7,T10<>\"\",U10<>\"\"),ort($T10,$U10,$AY$9:$AZ$9),\"\")","v":""},null,null,null,null,null,null,null,null,null,{"$f":"SUM(BB10/18/24,BC10:BD10)","v":"00:00:00"}]
[null,null,{"$f":"IF(I10=\"\",\"\",IF(MONTH(I10+1)=MONTH(I10),I10+1,\"\"))","v":"2018-04-30"},{"$f":"IF(C11=\"\",\"\",IF(MONTH(C11+1)=MONTH(C11),C11+1,\"\"))","v":""},"","","","","",{"$f":"IF(ISNA(VLOOKUP(M10,feestdagen,2,0)),\"\",VLOOKUP(M10,feestdagen,2,0))","v":"Paasmaandag"},15,{"$f":"DATE($B$3,$B$4,9)","v":"2018-04-09"},{"$f":"DATE($B$3,$B$4,9)","v":"2018-04-09"},null,"00:00:00",null,null,null,null,null,null,"","","","","",{"$f":"IF(ISERROR(IF(NOT(ISERROR(MATCH($M11,Blad2!$A$2:$A$11,0))),7,WEEKDAY($M11,2))),\"\",IF(NOT(ISERROR(MATCH($M11,Blad2!$A$2:$A$11,0))),7,WEEKDAY($M11,2)))","v":1},{"$f":"IF(AND($AA11<6,N11<>\"\",O11<>\"\"),ort($N11,$O11,$AY$3:$AZ$3),\"\")","v":""},{"$f":"IF(AND($AA11<6,N11<>\"\",O11<>\"\"),ort($N11,$O11,$AY$4:$AZ$5),\"\")","v":""},{"$f":"IF(AND($AA11<6,N11<>\"\",O11<>\"\"),ort($N11,$O11,$AY$6:$AZ$7),\"\")","v":""},{"$f":"IF(AND($AA11=6,N11<>\"\",O11<>\"\"),ort($N11,$O11,$AY$8:$AZ$8),\"\")","v":""},{"$f":"IF(AND($AA11=7,N11<>\"\",O11<>\"\"),ort($N11,$O11,$AY$9:$AZ$9),\"\")","v":""},{"$f":"IF(AND($AA11<6,P11<>\"\",Q11<>\"\"),ort($P11,$Q11,$AY$3:$AZ$3),\"\")","v":""},{"$f":"IF(AND($AA11<6,P11<>\"\",Q11<>\"\"),ort($P11,$Q11,$AY$4:$AZ$5),\"\")","v":""},{"$f":"IF(AND($AA11<6,P11<>\"\",Q11<>\"\"),ort($P11,$Q11,$AY$6:$AZ$7),\"\")","v":""},{"$f":"IF(AND($AA11=6,P11<>\"\",Q11<>\"\"),ort($P11,$Q11,$AY$8:$AZ$8),\"\")","v":""},{"$f":"IF(AND($AA11=7,P11<>\"\",Q11<>\"\"),ort($P11,$Q11,$AY$9:$AZ$9),\"\")","v":""},{"$f":"IF(AND($AA11<6,R11<>\"\",S11<>\"\"),ort($R11,$S11,$AY$3:$AZ$3),\"\")","v":""},{"$f":"IF(AND($AA11<6,R11<>\"\",S11<>\"\"),ort($R11,$S11,$AY$4:$AZ$5),\"\")","v":""},{"$f":"IF(AND($AA11<6,R11<>\"\",S11<>\"\"),ort($R11,$S11,$AY$6:$AZ$7),\"\")","v":""},{"$f":"IF(AND($AA11=6,R11<>\"\",S11<>\"\"),ort($R11,$S11,$AY$8:$AZ$8),\"\")","v":""},{"$f":"IF(AND($AA11=7,R11<>\"\",S11<>\"\"),ort($R11,$S11,$AY$9:$AZ$9),\"\")","v":""},{"$f":"IF(AND($AA11<6,T11<>\"\",U11<>\"\"),ort($T11,$U11,$AY$3:$AZ$3),\"\")","v":""},{"$f":"IF(AND($AA11<6,T11<>\"\",U11<>\"\"),ort($T11,$U11,$AY$4:$AZ$5),\"\")","v":""},{"$f":"IF(AND($AA11<6,T11<>\"\",U11<>\"\"),ort($T11,$U11,$AY$6:$AZ$7),\"\")","v":""},{"$f":"IF(AND($AA11=6,T11<>\"\",U11<>\"\"),ort($T11,$U11,$AY$8:$AZ$8),\"\")","v":""},{"$f":"IF(AND($AA11=7,T11<>\"\",U11<>\"\"),ort($T11,$U11,$AY$9:$AZ$9),\"\")","v":""},null,null,null,null,null,null,null,null,null,"00:00:00"]
[null,null,null,null,null,null,null,null,null,"","",{"$f":"DATE($B$3,$B$4,10)","v":"2018-04-10"},{"$f":"DATE($B$3,$B$4,10)","v":"2018-04-10"},null,"00:00:00",null,null,null,null,null,null,"","","","","",{"$f":"IF(ISERROR(IF(NOT(ISERROR(MATCH($M12,Blad2!$A$2:$A$11,0))),7,WEEKDAY($M12,2))),\"\",IF(NOT(ISERROR(MATCH($M12,Blad2!$A$2:$A$11,0))),7,WEEKDAY($M12,2)))","v":2},{"$f":"IF(AND($AA12<6,N12<>\"\",O12<>\"\"),ort($N12,$O12,$AY$3:$AZ$3),\"\")","v":""},{"$f":"IF(AND($AA12<6,N12<>\"\",O12<>\"\"),ort($N12,$O12,$AY$4:$AZ$5),\"\")","v":""},{"$f":"IF(AND($AA12<6,N12<>\"\",O12<>\"\"),ort($N12,$O12,$AY$6:$AZ$7),\"\")","v":""},{"$f":"IF(AND($AA12=6,N12<>\"\",O12<>\"\"),ort($N12,$O12,$AY$8:$AZ$8),\"\")","v":""},{"$f":"IF(AND($AA12=7,N12<>\"\",O12<>\"\"),ort($N12,$O12,$AY$9:$AZ$9),\"\")","v":""},{"$f":"IF(AND($AA12<6,P12<>\"\",Q12<>\"\"),ort($P12,$Q12,$AY$3:$AZ$3),\"\")","v":""},{"$f":"IF(AND($AA12<6,P12<>\"\",Q12<>\"\"),ort($P12,$Q12,$AY$4:$AZ$5),\"\")","v":""},{"$f":"IF(AND($AA12<6,P12<>\"\",Q12<>\"\"),ort($P12,$Q12,$AY$6:$AZ$7),\"\")","v":""},{"$f":"IF(AND($AA12=6,P12<>\"\",Q12<>\"\"),ort($P12,$Q12,$AY$8:$AZ$8),\"\")","v":""},{"$f":"IF(AND($AA12=7,P12<>\"\",Q12<>\"\"),ort($P12,$Q12,$AY$9:$AZ$9),\"\")","v":""},{"$f":"IF(AND($AA12<6,R12<>\"\",S12<>\"\"),ort($R12,$S12,$AY$3:$AZ$3),\"\")","v":""},{"$f":"IF(AND($AA12<6,R12<>\"\",S12<>\"\"),ort($R12,$S12,$AY$4:$AZ$5),\"\")","v":""},{"$f":"IF(AND($AA12<6,R12<>\"\",S12<>\"\"),ort($R12,$S12,$AY$6:$AZ$7),\"\")","v":""},{"$f":"IF(AND($AA12=6,R12<>\"\",S12<>\"\"),ort($R12,$S12,$AY$8:$AZ$8),\"\")","v":""},{"$f":"IF(AND($AA12=7,R12<>\"\",S12<>\"\"),ort($R12,$S12,$AY$9:$AZ$9),\"\")","v":""},{"$f":"IF(AND($AA12<6,T12<>\"\",U12<>\"\"),ort($T12,$U12,$AY$3:$AZ$3),\"\")","v":""},{"$f":"IF(AND($AA12<6,T12<>\"\",U12<>\"\"),ort($T12,$U12,$AY$4:$AZ$5),\"\")","v":""},{"$f":"IF(AND($AA12<6,T12<>\"\",U12<>\"\"),ort($T12,$U12,$AY$6:$AZ$7),\"\")","v":""},{"$f":"IF(AND($AA12=6,T12<>\"\",U12<>\"\"),ort($T12,$U12,$AY$8:$AZ$8),\"\")","v":""},{"$f":"IF(AND($AA12=7,T12<>\"\",U12<>\"\"),ort($T12,$U12,$AY$9:$AZ$9),\"\")","v":""},null,null,null,null,null,null,null,null,null,"00:00:00"]
[null,"Werkdagen deze maand",null,null,null,null,null,null,null,"","",{"$f":"DATE($B$3,$B$4,11)","v":"2018-04-11"},{"$f":"DATE($B$3,$B$4,11)","v":"2018-04-11"},null,"00:00:00",null,null,null,null,null,null,"","","","","",{"$f":"IF(ISERROR(IF(NOT(ISERROR(MATCH($M13,Blad2!$A$2:$A$11,0))),7,WEEKDAY($M13,2))),\"\",IF(NOT(ISERROR(MATCH($M13,Blad2!$A$2:$A$11,0))),7,WEEKDAY($M13,2)))","v":3},{"$f":"IF(AND($AA13<6,N13<>\"\",O13<>\"\"),ort($N13,$O13,$AY$3:$AZ$3),\"\")","v":""},{"$f":"IF(AND($AA13<6,N13<>\"\",O13<>\"\"),ort($N13,$O13,$AY$4:$AZ$5),\"\")","v":""},{"$f":"IF(AND($AA13<6,N13<>\"\",O13<>\"\"),ort($N13,$O13,$AY$6:$AZ$7),\"\")","v":""},{"$f":"IF(AND($AA13=6,N13<>\"\",O13<>\"\"),ort($N13,$O13,$AY$8:$AZ$8),\"\")","v":""},{"$f":"IF(AND($AA13=7,N13<>\"\",O13<>\"\"),ort($N13,$O13,$AY$9:$AZ$9),\"\")","v":""},{"$f":"IF(AND($AA13<6,P13<>\"\",Q13<>\"\"),ort($P13,$Q13,$AY$3:$AZ$3),\"\")","v":""},{"$f":"IF(AND($AA13<6,P13<>\"\",Q13<>\"\"),ort($P13,$Q13,$AY$4:$AZ$5),\"\")","v":""},{"$f":"IF(AND($AA13<6,P13<>\"\",Q13<>\"\"),ort($P13,$Q13,$AY$6:$AZ$7),\"\")","v":""},{"$f":"IF(AND($AA13=6,P13<>\"\",Q13<>\"\"),ort($P13,$Q13,$AY$8:$AZ$8),\"\")","v":""},{"$f":"IF(AND($AA13=7,P13<>\"\",Q13<>\"\"),ort($P13,$Q13,$AY$9:$AZ$9),\"\")","v":""},{"$f":"IF(AND($AA13<6,R13<>\"\",S13<>\"\"),ort($R13,$S13,$AY$3:$AZ$3),\"\")","v":""},{"$f":"IF(AND($AA13<6,R13<>\"\",S13<>\"\"),ort($R13,$S13,$AY$4:$AZ$5),\"\")","v":""},{"$f":"IF(AND($AA13<6,R13<>\"\",S13<>\"\"),ort($R13,$S13,$AY$6:$AZ$7),\"\")","v":""},{"$f":"IF(AND($AA13=6,R13<>\"\",S13<>\"\"),ort($R13,$S13,$AY$8:$AZ$8),\"\")","v":""},{"$f":"IF(AND($AA13=7,R13<>\"\",S13<>\"\"),ort($R13,$S13,$AY$9:$AZ$9),\"\")","v":""},{"$f":"IF(AND($AA13<6,T13<>\"\",U13<>\"\"),ort($T13,$U13,$AY$3:$AZ$3),\"\")","v":""},{"$f":"IF(AND($AA13<6,T13<>\"\",U13<>\"\"),ort($T13,$U13,$AY$4:$AZ$5),\"\")","v":""},{"$f":"IF(AND($AA13<6,T13<>\"\",U13<>\"\"),ort($T13,$U13,$AY$6:$AZ$7),\"\")","v":""},{"$f":"IF(AND($AA13=6,T13<>\"\",U13<>\"\"),ort($T13,$U13,$AY$8:$AZ$8),\"\")","v":""},{"$f":"IF(AND($AA13=7,T13<>\"\",U13<>\"\"),ort($T13,$U13,$AY$9:$AZ$9),\"\")","v":""},null,null,null,null,null,null,null,null,null,"00:00:00"]
[null,{"$f":"NETWORKDAYS($L$3,EOMONTH($L$3,0),Blad2!A2:A97)&\" dagen\"","v":"20 dagen"},null,null,null,null,null,null,null,"","",{"$f":"DATE($B$3,$B$4,12)","v":"2018-04-12"},{"$f":"DATE($B$3,$B$4,12)","v":"2018-04-12"},null,"00:00:00",null,null,null,null,null,null,"","","","","",{"$f":"IF(ISERROR(IF(NOT(ISERROR(MATCH($M14,Blad2!$A$2:$A$11,0))),7,WEEKDAY($M14,2))),\"\",IF(NOT(ISERROR(MATCH($M14,Blad2!$A$2:$A$11,0))),7,WEEKDAY($M14,2)))","v":4},{"$f":"IF(AND($AA14<6,N14<>\"\",O14<>\"\"),ort($N14,$O14,$AY$3:$AZ$3),\"\")","v":""},{"$f":"IF(AND($AA14<6,N14<>\"\",O14<>\"\"),ort($N14,$O14,$AY$4:$AZ$5),\"\")","v":""},{"$f":"IF(AND($AA14<6,N14<>\"\",O14<>\"\"),ort($N14,$O14,$AY$6:$AZ$7),\"\")","v":""},{"$f":"IF(AND($AA14=6,N14<>\"\",O14<>\"\"),ort($N14,$O14,$AY$8:$AZ$8),\"\")","v":""},{"$f":"IF(AND($AA14=7,N14<>\"\",O14<>\"\"),ort($N14,$O14,$AY$9:$AZ$9),\"\")","v":""},{"$f":"IF(AND($AA14<6,P14<>\"\",Q14<>\"\"),ort($P14,$Q14,$AY$3:$AZ$3),\"\")","v":""},{"$f":"IF(AND($AA14<6,P14<>\"\",Q14<>\"\"),ort($P14,$Q14,$AY$4:$AZ$5),\"\")","v":""},{"$f":"IF(AND($AA14<6,P14<>\"\",Q14<>\"\"),ort($P14,$Q14,$AY$6:$AZ$7),\"\")","v":""},{"$f":"IF(AND($AA14=6,P14<>\"\",Q14<>\"\"),ort($P14,$Q14,$AY$8:$AZ$8),\"\")","v":""},{"$f":"IF(AND($AA14=7,P14<>\"\",Q14<>\"\"),ort($P14,$Q14,$AY$9:$AZ$9),\"\")","v":""},{"$f":"IF(AND($AA14<6,R14<>\"\",S14<>\"\"),ort($R14,$S14,$AY$3:$AZ$3),\"\")","v":""},{"$f":"IF(AND($AA14<6,R14<>\"\",S14<>\"\"),ort($R14,$S14,$AY$4:$AZ$5),\"\")","v":""},{"$f":"IF(AND($AA14<6,R14<>\"\",S14<>\"\"),ort($R14,$S14,$AY$6:$AZ$7),\"\")","v":""},{"$f":"IF(AND($AA14=6,R14<>\"\",S14<>\"\"),ort($R14,$S14,$AY$8:$AZ$8),\"\")","v":""},{"$f":"IF(AND($AA14=7,R14<>\"\",S14<>\"\"),ort($R14,$S14,$AY$9:$AZ$9),\"\")","v":""},{"$f":"IF(AND($AA14<6,T14<>\"\",U14<>\"\"),ort($T14,$U14,$AY$3:$AZ$3),\"\")","v":""},{"$f":"IF(AND($AA14<6,T14<>\"\",U14<>\"\"),ort($T14,$U14,$AY$4:$AZ$5),\"\")","v":""},{"$f":"IF(AND($AA14<6,T14<>\"\",U14<>\"\"),ort($T14,$U14,$AY$6:$AZ$7),\"\")","v":""},{"$f":"IF(AND($AA14=6,T14<>\"\",U14<>\"\"),ort($T14,$U14,$AY$8:$AZ$8),\"\")","v":""},{"$f":"IF(AND($AA14=7,T14<>\"\",U14<>\"\"),ort($T14,$U14,$AY$9:$AZ$9),\"\")","v":""},null,null,null,null,null,null,null,null,null,"00:00:00"]
[null,null,null,null,null,null,null,null,null,"","",{"$f":"DATE($B$3,$B$4,13)","v":"2018-04-13"},{"$f":"DATE($B$3,$B$4,13)","v":"2018-04-13"},null,"00:00:00",null,null,null,null,null,null,"","","","","",{"$f":"IF(ISERROR(IF(NOT(ISERROR(MATCH($M15,Blad2!$A$2:$A$11,0))),7,WEEKDAY($M15,2))),\"\",IF(NOT(ISERROR(MATCH($M15,Blad2!$A$2:$A$11,0))),7,WEEKDAY($M15,2)))","v":5},{"$f":"IF(AND($AA15<6,N15<>\"\",O15<>\"\"),ort($N15,$O15,$AY$3:$AZ$3),\"\")","v":""},{"$f":"IF(AND($AA15<6,N15<>\"\",O15<>\"\"),ort($N15,$O15,$AY$4:$AZ$5),\"\")","v":""},{"$f":"IF(AND($AA15<6,N15<>\"\",O15<>\"\"),ort($N15,$O15,$AY$6:$AZ$7),\"\")","v":""},{"$f":"IF(AND($AA15=6,N15<>\"\",O15<>\"\"),ort($N15,$O15,$AY$8:$AZ$8),\"\")","v":""},{"$f":"IF(AND($AA15=7,N15<>\"\",O15<>\"\"),ort($N15,$O15,$AY$9:$AZ$9),\"\")","v":""},{"$f":"IF(AND($AA15<6,P15<>\"\",Q15<>\"\"),ort($P15,$Q15,$AY$3:$AZ$3),\"\")","v":""},{"$f":"IF(AND($AA15<6,P15<>\"\",Q15<>\"\"),ort($P15,$Q15,$AY$4:$AZ$5),\"\")","v":""},{"$f":"IF(AND($AA15<6,P15<>\"\",Q15<>\"\"),ort($P15,$Q15,$AY$6:$AZ$7),\"\")","v":""},{"$f":"IF(AND($AA15=6,P15<>\"\",Q15<>\"\"),ort($P15,$Q15,$AY$8:$AZ$8),\"\")","v":""},{"$f":"IF(AND($AA15=7,P15<>\"\",Q15<>\"\"),ort($P15,$Q15,$AY$9:$AZ$9),\"\")","v":""},{"$f":"IF(AND($AA15<6,R15<>\"\",S15<>\"\"),ort($R15,$S15,$AY$3:$AZ$3),\"\")","v":""},{"$f":"IF(AND($AA15<6,R15<>\"\",S15<>\"\"),ort($R15,$S15,$AY$4:$AZ$5),\"\")","v":""},{"$f":"IF(AND($AA15<6,R15<>\"\",S15<>\"\"),ort($R15,$S15,$AY$6:$AZ$7),\"\")","v":""},{"$f":"IF(AND($AA15=6,R15<>\"\",S15<>\"\"),ort($R15,$S15,$AY$8:$AZ$8),\"\")","v":""},{"$f":"IF(AND($AA15=7,R15<>\"\",S15<>\"\"),ort($R15,$S15,$AY$9:$AZ$9),\"\")","v":""},{"$f":"IF(AND($AA15<6,T15<>\"\",U15<>\"\"),ort($T15,$U15,$AY$3:$AZ$3),\"\")","v":""},{"$f":"IF(AND($AA15<6,T15<>\"\",U15<>\"\"),ort($T15,$U15,$AY$4:$AZ$5),\"\")","v":""},{"$f":"IF(AND($AA15<6,T15<>\"\",U15<>\"\"),ort($T15,$U15,$AY$6:$AZ$7),\"\")","v":""},{"$f":"IF(AND($AA15=6,T15<>\"\",U15<>\"\"),ort($T15,$U15,$AY$8:$AZ$8),\"\")","v":""},{"$f":"IF(AND($AA15=7,T15<>\"\",U15<>\"\"),ort($T15,$U15,$AY$9:$AZ$9),\"\")","v":""},null,null,null,null,null,null,null,null,null,"00:00:00"]
[null,"Contract Uren",null,null,null,null,null,null,null,"","",{"$f":"DATE($B$3,$B$4,14)","v":"2018-04-14"},{"$f":"DATE($B$3,$B$4,14)","v":"2018-04-14"},null,"00:00:00",null,null,null,null,null,null,"","","","","",{"$f":"IF(ISERROR(IF(NOT(ISERROR(MATCH($M16,Blad2!$A$2:$A$11,0))),7,WEEKDAY($M16,2))),\"\",IF(NOT(ISERROR(MATCH($M16,Blad2!$A$2:$A$11,0))),7,WEEKDAY($M16,2)))","v":6},{"$f":"IF(AND($AA16<6,N16<>\"\",O16<>\"\"),ort($N16,$O16,$AY$3:$AZ$3),\"\")","v":""},{"$f":"IF(AND($AA16<6,N16<>\"\",O16<>\"\"),ort($N16,$O16,$AY$4:$AZ$5),\"\")","v":""},{"$f":"IF(AND($AA16<6,N16<>\"\",O16<>\"\"),ort($N16,$O16,$AY$6:$AZ$7),\"\")","v":""},{"$f":"IF(AND($AA16=6,N16<>\"\",O16<>\"\"),ort($N16,$O16,$AY$8:$AZ$8),\"\")","v":""},{"$f":"IF(AND($AA16=7,N16<>\"\",O16<>\"\"),ort($N16,$O16,$AY$9:$AZ$9),\"\")","v":""},{"$f":"IF(AND($AA16<6,P16<>\"\",Q16<>\"\"),ort($P16,$Q16,$AY$3:$AZ$3),\"\")","v":""},{"$f":"IF(AND($AA16<6,P16<>\"\",Q16<>\"\"),ort($P16,$Q16,$AY$4:$AZ$5),\"\")","v":""},{"$f":"IF(AND($AA16<6,P16<>\"\",Q16<>\"\"),ort($P16,$Q16,$AY$6:$AZ$7),\"\")","v":""},{"$f":"IF(AND($AA16=6,P16<>\"\",Q16<>\"\"),ort($P16,$Q16,$AY$8:$AZ$8),\"\")","v":""},{"$f":"IF(AND($AA16=7,P16<>\"\",Q16<>\"\"),ort($P16,$Q16,$AY$9:$AZ$9),\"\")","v":""},{"$f":"IF(AND($AA16<6,R16<>\"\",S16<>\"\"),ort($R16,$S16,$AY$3:$AZ$3),\"\")","v":""},{"$f":"IF(AND($AA16<6,R16<>\"\",S16<>\"\"),ort($R16,$S16,$AY$4:$AZ$5),\"\")","v":""},{"$f":"IF(AND($AA16<6,R16<>\"\",S16<>\"\"),ort($R16,$S16,$AY$6:$AZ$7),\"\")","v":""},{"$f":"IF(AND($AA16=6,R16<>\"\",S16<>\"\"),ort($R16,$S16,$AY$8:$AZ$8),\"\")","v":""},{"$f":"IF(AND($AA16=7,R16<>\"\",S16<>\"\"),ort($R16,$S16,$AY$9:$AZ$9),\"\")","v":""},{"$f":"IF(AND($AA16<6,T16<>\"\",U16<>\"\"),ort($T16,$U16,$AY$3:$AZ$3),\"\")","v":""},{"$f":"IF(AND($AA16<6,T16<>\"\",U16<>\"\"),ort($T16,$U16,$AY$4:$AZ$5),\"\")","v":""},{"$f":"IF(AND($AA16<6,T16<>\"\",U16<>\"\"),ort($T16,$U16,$AY$6:$AZ$7),\"\")","v":""},{"$f":"IF(AND($AA16=6,T16<>\"\",U16<>\"\"),ort($T16,$U16,$AY$8:$AZ$8),\"\")","v":""},{"$f":"IF(AND($AA16=7,T16<>\"\",U16<>\"\"),ort($T16,$U16,$AY$9:$AZ$9),\"\")","v":""},null,null,null,null,null,null,null,null,null,"00:00:00"]
[null,3.75,null,null,null,null,null,null,null,"","",{"$f":"DATE($B$3,$B$4,15)","v":"2018-04-15"},{"$f":"DATE($B$3,$B$4,15)","v":"2018-04-15"},null,"00:00:00",null,null,null,null,null,null,"","","","","",{"$f":"IF(ISERROR(IF(NOT(ISERROR(MATCH($M17,Blad2!$A$2:$A$11,0))),7,WEEKDAY($M17,2))),\"\",IF(NOT(ISERROR(MATCH($M17,Blad2!$A$2:$A$11,0))),7,WEEKDAY($M17,2)))","v":7},{"$f":"IF(AND($AA17<6,N17<>\"\",O17<>\"\"),ort($N17,$O17,$AY$3:$AZ$3),\"\")","v":""},{"$f":"IF(AND($AA17<6,N17<>\"\",O17<>\"\"),ort($N17,$O17,$AY$4:$AZ$5),\"\")","v":""},{"$f":"IF(AND($AA17<6,N17<>\"\",O17<>\"\"),ort($N17,$O17,$AY$6:$AZ$7),\"\")","v":""},{"$f":"IF(AND($AA17=6,N17<>\"\",O17<>\"\"),ort($N17,$O17,$AY$8:$AZ$8),\"\")","v":""},{"$f":"IF(AND($AA17=7,N17<>\"\",O17<>\"\"),ort($N17,$O17,$AY$9:$AZ$9),\"\")","v":""},{"$f":"IF(AND($AA17<6,P17<>\"\",Q17<>\"\"),ort($P17,$Q17,$AY$3:$AZ$3),\"\")","v":""},{"$f":"IF(AND($AA17<6,P17<>\"\",Q17<>\"\"),ort($P17,$Q17,$AY$4:$AZ$5),\"\")","v":""},{"$f":"IF(AND($AA17<6,P17<>\"\",Q17<>\"\"),ort($P17,$Q17,$AY$6:$AZ$7),\"\")","v":""},{"$f":"IF(AND($AA17=6,P17<>\"\",Q17<>\"\"),ort($P17,$Q17,$AY$8:$AZ$8),\"\")","v":""},{"$f":"IF(AND($AA17=7,P17<>\"\",Q17<>\"\"),ort($P17,$Q17,$AY$9:$AZ$9),\"\")","v":""},{"$f":"IF(AND($AA17<6,R17<>\"\",S17<>\"\"),ort($R17,$S17,$AY$3:$AZ$3),\"\")","v":""},{"$f":"IF(AND($AA17<6,R17<>\"\",S17<>\"\"),ort($R17,$S17,$AY$4:$AZ$5),\"\")","v":""},{"$f":"IF(AND($AA17<6,R17<>\"\",S17<>\"\"),ort($R17,$S17,$AY$6:$AZ$7),\"\")","v":""},{"$f":"IF(AND($AA17=6,R17<>\"\",S17<>\"\"),ort($R17,$S17,$AY$8:$AZ$8),\"\")","v":""},{"$f":"IF(AND($AA17=7,R17<>\"\",S17<>\"\"),ort($R17,$S17,$AY$9:$AZ$9),\"\")","v":""},{"$f":"IF(AND($AA17<6,T17<>\"\",U17<>\"\"),ort($T17,$U17,$AY$3:$AZ$3),\"\")","v":""},{"$f":"IF(AND($AA17<6,T17<>\"\",U17<>\"\"),ort($T17,$U17,$AY$4:$AZ$5),\"\")","v":""},{"$f":"IF(AND($AA17<6,T17<>\"\",U17<>\"\"),ort($T17,$U17,$AY$6:$AZ$7),\"\")","v":""},{"$f":"IF(AND($AA17=6,T17<>\"\",U17<>\"\"),ort($T17,$U17,$AY$8:$AZ$8),\"\")","v":""},{"$f":"IF(AND($AA17=7,T17<>\"\",U17<>\"\"),ort($T17,$U17,$AY$9:$AZ$9),\"\")","v":""},null,null,null,null,null,null,null,null,null,"00:00:00"]
[null,null,null,null,null,null,null,null,null,"",16,{"$f":"DATE($B$3,$B$4,16)","v":"2018-04-16"},{"$f":"DATE($B$3,$B$4,16)","v":"2018-04-16"},null,"00:00:00",null,null,null,null,null,null,"","","","","",{"$f":"IF(ISERROR(IF(NOT(ISERROR(MATCH($M18,Blad2!$A$2:$A$11,0))),7,WEEKDAY($M18,2))),\"\",IF(NOT(ISERROR(MATCH($M18,Blad2!$A$2:$A$11,0))),7,WEEKDAY($M18,2)))","v":1},{"$f":"IF(AND($AA18<6,N18<>\"\",O18<>\"\"),ort($N18,$O18,$AY$3:$AZ$3),\"\")","v":""},{"$f":"IF(AND($AA18<6,N18<>\"\",O18<>\"\"),ort($N18,$O18,$AY$4:$AZ$5),\"\")","v":""},{"$f":"IF(AND($AA18<6,N18<>\"\",O18<>\"\"),ort($N18,$O18,$AY$6:$AZ$7),\"\")","v":""},{"$f":"IF(AND($AA18=6,N18<>\"\",O18<>\"\"),ort($N18,$O18,$AY$8:$AZ$8),\"\")","v":""},{"$f":"IF(AND($AA18=7,N18<>\"\",O18<>\"\"),ort($N18,$O18,$AY$9:$AZ$9),\"\")","v":""},{"$f":"IF(AND($AA18<6,P18<>\"\",Q18<>\"\"),ort($P18,$Q18,$AY$3:$AZ$3),\"\")","v":""},{"$f":"IF(AND($AA18<6,P18<>\"\",Q18<>\"\"),ort($P18,$Q18,$AY$4:$AZ$5),\"\")","v":""},{"$f":"IF(AND($AA18<6,P18<>\"\",Q18<>\"\"),ort($P18,$Q18,$AY$6:$AZ$7),\"\")","v":""},{"$f":"IF(AND($AA18=6,P18<>\"\",Q18<>\"\"),ort($P18,$Q18,$AY$8:$AZ$8),\"\")","v":""},{"$f":"IF(AND($AA18=7,P18<>\"\",Q18<>\"\"),ort($P18,$Q18,$AY$9:$AZ$9),\"\")","v":""},{"$f":"IF(AND($AA18<6,R18<>\"\",S18<>\"\"),ort($R18,$S18,$AY$3:$AZ$3),\"\")","v":""},{"$f":"IF(AND($AA18<6,R18<>\"\",S18<>\"\"),ort($R18,$S18,$AY$4:$AZ$5),\"\")","v":""},{"$f":"IF(AND($AA18<6,R18<>\"\",S18<>\"\"),ort($R18,$S18,$AY$6:$AZ$7),\"\")","v":""},{"$f":"IF(AND($AA18=6,R18<>\"\",S18<>\"\"),ort($R18,$S18,$AY$8:$AZ$8),\"\")","v":""},{"$f":"IF(AND($AA18=7,R18<>\"\",S18<>\"\"),ort($R18,$S18,$AY$9:$AZ$9),\"\")","v":""},{"$f":"IF(AND($AA18<6,T18<>\"\",U18<>\"\"),ort($T18,$U18,$AY$3:$AZ$3),\"\")","v":""},{"$f":"IF(AND($AA18<6,T18<>\"\",U18<>\"\"),ort($T18,$U18,$AY$4:$AZ$5),\"\")","v":""},{"$f":"IF(AND($AA18<6,T18<>\"\",U18<>\"\"),ort($T18,$U18,$AY$6:$AZ$7),\"\")","v":""},{"$f":"IF(AND($AA18=6,T18<>\"\",U18<>\"\"),ort($T18,$U18,$AY$8:$AZ$8),\"\")","v":""},{"$f":"IF(AND($AA18=7,T18<>\"\",U18<>\"\"),ort($T18,$U18,$AY$9:$AZ$9),\"\")","v":""},null,null,null,null,null,null,null,null,null,"00:00:00"]
[null,"Gewerkte uren deze maand",null,null,null,null,null,null,null,"","",{"$f":"DATE($B$3,$B$4,17)","v":"2018-04-17"},{"$f":"DATE($B$3,$B$4,17)","v":"2018-04-17"},null,"00:00:00",null,null,null,null,null,null,"","","","","",{"$f":"IF(ISERROR(IF(NOT(ISERROR(MATCH($M19,Blad2!$A$2:$A$11,0))),7,WEEKDAY($M19,2))),\"\",IF(NOT(ISERROR(MATCH($M19,Blad2!$A$2:$A$11,0))),7,WEEKDAY($M19,2)))","v":2},{"$f":"IF(AND($AA19<6,N19<>\"\",O19<>\"\"),ort($N19,$O19,$AY$3:$AZ$3),\"\")","v":""},{"$f":"IF(AND($AA19<6,N19<>\"\",O19<>\"\"),ort($N19,$O19,$AY$4:$AZ$5),\"\")","v":""},{"$f":"IF(AND($AA19<6,N19<>\"\",O19<>\"\"),ort($N19,$O19,$AY$6:$AZ$7),\"\")","v":""},{"$f":"IF(AND($AA19=6,N19<>\"\",O19<>\"\"),ort($N19,$O19,$AY$8:$AZ$8),\"\")","v":""},{"$f":"IF(AND($AA19=7,N19<>\"\",O19<>\"\"),ort($N19,$O19,$AY$9:$AZ$9),\"\")","v":""},{"$f":"IF(AND($AA19<6,P19<>\"\",Q19<>\"\"),ort($P19,$Q19,$AY$3:$AZ$3),\"\")","v":""},{"$f":"IF(AND($AA19<6,P19<>\"\",Q19<>\"\"),ort($P19,$Q19,$AY$4:$AZ$5),\"\")","v":""},{"$f":"IF(AND($AA19<6,P19<>\"\",Q19<>\"\"),ort($P19,$Q19,$AY$6:$AZ$7),\"\")","v":""},{"$f":"IF(AND($AA19=6,P19<>\"\",Q19<>\"\"),ort($P19,$Q19,$AY$8:$AZ$8),\"\")","v":""},{"$f":"IF(AND($AA19=7,P19<>\"\",Q19<>\"\"),ort($P19,$Q19,$AY$9:$AZ$9),\"\")","v":""},{"$f":"IF(AND($AA19<6,R19<>\"\",S19<>\"\"),ort($R19,$S19,$AY$3:$AZ$3),\"\")","v":""},{"$f":"IF(AND($AA19<6,R19<>\"\",S19<>\"\"),ort($R19,$S19,$AY$4:$AZ$5),\"\")","v":""},{"$f":"IF(AND($AA19<6,R19<>\"\",S19<>\"\"),ort($R19,$S19,$AY$6:$AZ$7),\"\")","v":""},{"$f":"IF(AND($AA19=6,R19<>\"\",S19<>\"\"),ort($R19,$S19,$AY$8:$AZ$8),\"\")","v":""},{"$f":"IF(AND($AA19=7,R19<>\"\",S19<>\"\"),ort($R19,$S19,$AY$9:$AZ$9),\"\")","v":""},{"$f":"IF(AND($AA19<6,T19<>\"\",U19<>\"\"),ort($T19,$U19,$AY$3:$AZ$3),\"\")","v":""},{"$f":"IF(AND($AA19<6,T19<>\"\",U19<>\"\"),ort($T19,$U19,$AY$4:$AZ$5),\"\")","v":""},{"$f":"IF(AND($AA19<6,T19<>\"\",U19<>\"\"),ort($T19,$U19,$AY$6:$AZ$7),\"\")","v":""},{"$f":"IF(AND($AA19=6,T19<>\"\",U19<>\"\"),ort($T19,$U19,$AY$8:$AZ$8),\"\")","v":""},{"$f":"IF(AND($AA19=7,T19<>\"\",U19<>\"\"),ort($T19,$U19,$AY$9:$AZ$9),\"\")","v":""},null,null,null,null,null,null,null,null,null,"00:00:00"]
[null,{"$f":"SUM($V$3:$V$33)","v":0},null,null,null,null,null,null,null,"","",{"$f":"DATE($B$3,$B$4,18)","v":"2018-04-18"},{"$f":"DATE($B$3,$B$4,18)","v":"2018-04-18"},null,"00:00:00",null,null,null,null,null,null,"","","","","",{"$f":"IF(ISERROR(IF(NOT(ISERROR(MATCH($M20,Blad2!$A$2:$A$11,0))),7,WEEKDAY($M20,2))),\"\",IF(NOT(ISERROR(MATCH($M20,Blad2!$A$2:$A$11,0))),7,WEEKDAY($M20,2)))","v":3},{"$f":"IF(AND($AA20<6,N20<>\"\",O20<>\"\"),ort($N20,$O20,$AY$3:$AZ$3),\"\")","v":""},{"$f":"IF(AND($AA20<6,N20<>\"\",O20<>\"\"),ort($N20,$O20,$AY$4:$AZ$5),\"\")","v":""},{"$f":"IF(AND($AA20<6,N20<>\"\",O20<>\"\"),ort($N20,$O20,$AY$6:$AZ$7),\"\")","v":""},{"$f":"IF(AND($AA20=6,N20<>\"\",O20<>\"\"),ort($N20,$O20,$AY$8:$AZ$8),\"\")","v":""},{"$f":"IF(AND($AA20=7,N20<>\"\",O20<>\"\"),ort($N20,$O20,$AY$9:$AZ$9),\"\")","v":""},{"$f":"IF(AND($AA20<6,P20<>\"\",Q20<>\"\"),ort($P20,$Q20,$AY$3:$AZ$3),\"\")","v":""},{"$f":"IF(AND($AA20<6,P20<>\"\",Q20<>\"\"),ort($P20,$Q20,$AY$4:$AZ$5),\"\")","v":""},{"$f":"IF(AND($AA20<6,P20<>\"\",Q20<>\"\"),ort($P20,$Q20,$AY$6:$AZ$7),\"\")","v":""},{"$f":"IF(AND($AA20=6,P20<>\"\",Q20<>\"\"),ort($P20,$Q20,$AY$8:$AZ$8),\"\")","v":""},{"$f":"IF(AND($AA20=7,P20<>\"\",Q20<>\"\"),ort($P20,$Q20,$AY$9:$AZ$9),\"\")","v":""},{"$f":"IF(AND($AA20<6,R20<>\"\",S20<>\"\"),ort($R20,$S20,$AY$3:$AZ$3),\"\")","v":""},{"$f":"IF(AND($AA20<6,R20<>\"\",S20<>\"\"),ort($R20,$S20,$AY$4:$AZ$5),\"\")","v":""},{"$f":"IF(AND($AA20<6,R20<>\"\",S20<>\"\"),ort($R20,$S20,$AY$6:$AZ$7),\"\")","v":""},{"$f":"IF(AND($AA20=6,R20<>\"\",S20<>\"\"),ort($R20,$S20,$AY$8:$AZ$8),\"\")","v":""},{"$f":"IF(AND($AA20=7,R20<>\"\",S20<>\"\"),ort($R20,$S20,$AY$9:$AZ$9),\"\")","v":""},{"$f":"IF(AND($AA20<6,T20<>\"\",U20<>\"\"),ort($T20,$U20,$AY$3:$AZ$3),\"\")","v":""},{"$f":"IF(AND($AA20<6,T20<>\"\",U20<>\"\"),ort($T20,$U20,$AY$4:$AZ$5),\"\")","v":""},{"$f":"IF(AND($AA20<6,T20<>\"\",U20<>\"\"),ort($T20,$U20,$AY$6:$AZ$7),\"\")","v":""},{"$f":"IF(AND($AA20=6,T20<>\"\",U20<>\"\"),ort($T20,$U20,$AY$8:$AZ$8),\"\")","v":""},{"$f":"IF(AND($AA20=7,T20<>\"\",U20<>\"\"),ort($T20,$U20,$AY$9:$AZ$9),\"\")","v":""},null,{"$f":"COUNTA(Blad2!B12:B100)-COUNTIF(Blad2!B12:B100,\"Verlof\")","v":0},"  Aantal opgenomen ATV-dagen",null,null,null,null,null,null,"00:00:00"]
[null,null,null,null,null,null,null,null,null,"","",{"$f":"DATE($B$3,$B$4,19)","v":"2018-04-19"},{"$f":"DATE($B$3,$B$4,19)","v":"2018-04-19"},null,"00:00:00",null,null,null,null,null,null,"","","","","",{"$f":"IF(ISERROR(IF(NOT(ISERROR(MATCH($M21,Blad2!$A$2:$A$11,0))),7,WEEKDAY($M21,2))),\"\",IF(NOT(ISERROR(MATCH($M21,Blad2!$A$2:$A$11,0))),7,WEEKDAY($M21,2)))","v":4},{"$f":"IF(AND($AA21<6,N21<>\"\",O21<>\"\"),ort($N21,$O21,$AY$3:$AZ$3),\"\")","v":""},{"$f":"IF(AND($AA21<6,N21<>\"\",O21<>\"\"),ort($N21,$O21,$AY$4:$AZ$5),\"\")","v":""},{"$f":"IF(AND($AA21<6,N21<>\"\",O21<>\"\"),ort($N21,$O21,$AY$6:$AZ$7),\"\")","v":""},{"$f":"IF(AND($AA21=6,N21<>\"\",O21<>\"\"),ort($N21,$O21,$AY$8:$AZ$8),\"\")","v":""},{"$f":"IF(AND($AA21=7,N21<>\"\",O21<>\"\"),ort($N21,$O21,$AY$9:$AZ$9),\"\")","v":""},{"$f":"IF(AND($AA21<6,P21<>\"\",Q21<>\"\"),ort($P21,$Q21,$AY$3:$AZ$3),\"\")","v":""},{"$f":"IF(AND($AA21<6,P21<>\"\",Q21<>\"\"),ort($P21,$Q21,$AY$4:$AZ$5),\"\")","v":""},{"$f":"IF(AND($AA21<6,P21<>\"\",Q21<>\"\"),ort($P21,$Q21,$AY$6:$AZ$7),\"\")","v":""},{"$f":"IF(AND($AA21=6,P21<>\"\",Q21<>\"\"),ort($P21,$Q21,$AY$8:$AZ$8),\"\")","v":""},{"$f":"IF(AND($AA21=7,P21<>\"\",Q21<>\"\"),ort($P21,$Q21,$AY$9:$AZ$9),\"\")","v":""},{"$f":"IF(AND($AA21<6,R21<>\"\",S21<>\"\"),ort($R21,$S21,$AY$3:$AZ$3),\"\")","v":""},{"$f":"IF(AND($AA21<6,R21<>\"\",S21<>\"\"),ort($R21,$S21,$AY$4:$AZ$5),\"\")","v":""},{"$f":"IF(AND($AA21<6,R21<>\"\",S21<>\"\"),ort($R21,$S21,$AY$6:$AZ$7),\"\")","v":""},{"$f":"IF(AND($AA21=6,R21<>\"\",S21<>\"\"),ort($R21,$S21,$AY$8:$AZ$8),\"\")","v":""},{"$f":"IF(AND($AA21=7,R21<>\"\",S21<>\"\"),ort($R21,$S21,$AY$9:$AZ$9),\"\")","v":""},{"$f":"IF(AND($AA21<6,T21<>\"\",U21<>\"\"),ort($T21,$U21,$AY$3:$AZ$3),\"\")","v":""},{"$f":"IF(AND($AA21<6,T21<>\"\",U21<>\"\"),ort($T21,$U21,$AY$4:$AZ$5),\"\")","v":""},{"$f":"IF(AND($AA21<6,T21<>\"\",U21<>\"\"),ort($T21,$U21,$AY$6:$AZ$7),\"\")","v":""},{"$f":"IF(AND($AA21=6,T21<>\"\",U21<>\"\"),ort($T21,$U21,$AY$8:$AZ$8),\"\")","v":""},{"$f":"IF(AND($AA21=7,T21<>\"\",U21<>\"\"),ort($T21,$U21,$AY$9:$AZ$9),\"\")","v":""},null,{"$f":"COUNTA(Blad2!B12:B100)-COUNTIF(Blad2!B12:B100,\"ATV\")","v":2},"  Aantal opgenomen verlofdagen",null,null,null,null,null,null,"00:00:00"]
[null,null,null,null,null,null,null,null,null,"","",{"$f":"DATE($B$3,$B$4,20)","v":"2018-04-20"},{"$f":"DATE($B$3,$B$4,20)","v":"2018-04-20"},null,"00:00:00",null,null,null,null,null,null,"","","","","",{"$f":"IF(ISERROR(IF(NOT(ISERROR(MATCH($M22,Blad2!$A$2:$A$11,0))),7,WEEKDAY($M22,2))),\"\",IF(NOT(ISERROR(MATCH($M22,Blad2!$A$2:$A$11,0))),7,WEEKDAY($M22,2)))","v":5},{"$f":"IF(AND($AA22<6,N22<>\"\",O22<>\"\"),ort($N22,$O22,$AY$3:$AZ$3),\"\")","v":""},{"$f":"IF(AND($AA22<6,N22<>\"\",O22<>\"\"),ort($N22,$O22,$AY$4:$AZ$5),\"\")","v":""},{"$f":"IF(AND($AA22<6,N22<>\"\",O22<>\"\"),ort($N22,$O22,$AY$6:$AZ$7),\"\")","v":""},{"$f":"IF(AND($AA22=6,N22<>\"\",O22<>\"\"),ort($N22,$O22,$AY$8:$AZ$8),\"\")","v":""},{"$f":"IF(AND($AA22=7,N22<>\"\",O22<>\"\"),ort($N22,$O22,$AY$9:$AZ$9),\"\")","v":""},{"$f":"IF(AND($AA22<6,P22<>\"\",Q22<>\"\"),ort($P22,$Q22,$AY$3:$AZ$3),\"\")","v":""},{"$f":"IF(AND($AA22<6,P22<>\"\",Q22<>\"\"),ort($P22,$Q22,$AY$4:$AZ$5),\"\")","v":""},{"$f":"IF(AND($AA22<6,P22<>\"\",Q22<>\"\"),ort($P22,$Q22,$AY$6:$AZ$7),\"\")","v":""},{"$f":"IF(AND($AA22=6,P22<>\"\",Q22<>\"\"),ort($P22,$Q22,$AY$8:$AZ$8),\"\")","v":""},{"$f":"IF(AND($AA22=7,P22<>\"\",Q22<>\"\"),ort($P22,$Q22,$AY$9:$AZ$9),\"\")","v":""},{"$f":"IF(AND($AA22<6,R22<>\"\",S22<>\"\"),ort($R22,$S22,$AY$3:$AZ$3),\"\")","v":""},{"$f":"IF(AND($AA22<6,R22<>\"\",S22<>\"\"),ort($R22,$S22,$AY$4:$AZ$5),\"\")","v":""},{"$f":"IF(AND($AA22<6,R22<>\"\",S22<>\"\"),ort($R22,$S22,$AY$6:$AZ$7),\"\")","v":""},{"$f":"IF(AND($AA22=6,R22<>\"\",S22<>\"\"),ort($R22,$S22,$AY$8:$AZ$8),\"\")","v":""},{"$f":"IF(AND($AA22=7,R22<>\"\",S22<>\"\"),ort($R22,$S22,$AY$9:$AZ$9),\"\")","v":""},{"$f":"IF(AND($AA22<6,T22<>\"\",U22<>\"\"),ort($T22,$U22,$AY$3:$AZ$3),\"\")","v":""},{"$f":"IF(AND($AA22<6,T22<>\"\",U22<>\"\"),ort($T22,$U22,$AY$4:$AZ$5),\"\")","v":""},{"$f":"IF(AND($AA22<6,T22<>\"\",U22<>\"\"),ort($T22,$U22,$AY$6:$AZ$7),\"\")","v":""},{"$f":"IF(AND($AA22=6,T22<>\"\",U22<>\"\"),ort($T22,$U22,$AY$8:$AZ$8),\"\")","v":""},{"$f":"IF(AND($AA22=7,T22<>\"\",U22<>\"\"),ort($T22,$U22,$AY$9:$AZ$9),\"\")","v":""},null,null,null,null,null,null,null,null,null,"00:00:00"]
[null,null,null,null,null,null,null,null,null,"","",{"$f":"DATE($B$3,$B$4,21)","v":"2018-04-21"},{"$f":"DATE($B$3,$B$4,21)","v":"2018-04-21"},null,"00:00:00",null,null,null,null,null,null,"","","","","",{"$f":"IF(ISERROR(IF(NOT(ISERROR(MATCH($M23,Blad2!$A$2:$A$11,0))),7,WEEKDAY($M23,2))),\"\",IF(NOT(ISERROR(MATCH($M23,Blad2!$A$2:$A$11,0))),7,WEEKDAY($M23,2)))","v":6},{"$f":"IF(AND($AA23<6,N23<>\"\",O23<>\"\"),ort($N23,$O23,$AY$3:$AZ$3),\"\")","v":""},{"$f":"IF(AND($AA23<6,N23<>\"\",O23<>\"\"),ort($N23,$O23,$AY$4:$AZ$5),\"\")","v":""},{"$f":"IF(AND($AA23<6,N23<>\"\",O23<>\"\"),ort($N23,$O23,$AY$6:$AZ$7),\"\")","v":""},{"$f":"IF(AND($AA23=6,N23<>\"\",O23<>\"\"),ort($N23,$O23,$AY$8:$AZ$8),\"\")","v":""},{"$f":"IF(AND($AA23=7,N23<>\"\",O23<>\"\"),ort($N23,$O23,$AY$9:$AZ$9),\"\")","v":""},{"$f":"IF(AND($AA23<6,P23<>\"\",Q23<>\"\"),ort($P23,$Q23,$AY$3:$AZ$3),\"\")","v":""},{"$f":"IF(AND($AA23<6,P23<>\"\",Q23<>\"\"),ort($P23,$Q23,$AY$4:$AZ$5),\"\")","v":""},{"$f":"IF(AND($AA23<6,P23<>\"\",Q23<>\"\"),ort($P23,$Q23,$AY$6:$AZ$7),\"\")","v":""},{"$f":"IF(AND($AA23=6,P23<>\"\",Q23<>\"\"),ort($P23,$Q23,$AY$8:$AZ$8),\"\")","v":""},{"$f":"IF(AND($AA23=7,P23<>\"\",Q23<>\"\"),ort($P23,$Q23,$AY$9:$AZ$9),\"\")","v":""},{"$f":"IF(AND($AA23<6,R23<>\"\",S23<>\"\"),ort($R23,$S23,$AY$3:$AZ$3),\"\")","v":""},{"$f":"IF(AND($AA23<6,R23<>\"\",S23<>\"\"),ort($R23,$S23,$AY$4:$AZ$5),\"\")","v":""},{"$f":"IF(AND($AA23<6,R23<>\"\",S23<>\"\"),ort($R23,$S23,$AY$6:$AZ$7),\"\")","v":""},{"$f":"IF(AND($AA23=6,R23<>\"\",S23<>\"\"),ort($R23,$S23,$AY$8:$AZ$8),\"\")","v":""},{"$f":"IF(AND($AA23=7,R23<>\"\",S23<>\"\"),ort($R23,$S23,$AY$9:$AZ$9),\"\")","v":""},{"$f":"IF(AND($AA23<6,T23<>\"\",U23<>\"\"),ort($T23,$U23,$AY$3:$AZ$3),\"\")","v":""},{"$f":"IF(AND($AA23<6,T23<>\"\",U23<>\"\"),ort($T23,$U23,$AY$4:$AZ$5),\"\")","v":""},{"$f":"IF(AND($AA23<6,T23<>\"\",U23<>\"\"),ort($T23,$U23,$AY$6:$AZ$7),\"\")","v":""},{"$f":"IF(AND($AA23=6,T23<>\"\",U23<>\"\"),ort($T23,$U23,$AY$8:$AZ$8),\"\")","v":""},{"$f":"IF(AND($AA23=7,T23<>\"\",U23<>\"\"),ort($T23,$U23,$AY$9:$AZ$9),\"\")","v":""},null,null,null,null,null,null,null,null,null,"00:00:00"]
[null,null,null,null,null,null,null,null,null,"","",{"$f":"DATE($B$3,$B$4,22)","v":"2018-04-22"},{"$f":"DATE($B$3,$B$4,22)","v":"2018-04-22"},null,"00:00:00",null,null,null,null,null,null,"","","","","",{"$f":"IF(ISERROR(IF(NOT(ISERROR(MATCH($M24,Blad2!$A$2:$A$11,0))),7,WEEKDAY($M24,2))),\"\",IF(NOT(ISERROR(MATCH($M24,Blad2!$A$2:$A$11,0))),7,WEEKDAY($M24,2)))","v":7},{"$f":"IF(AND($AA24<6,N24<>\"\",O24<>\"\"),ort($N24,$O24,$AY$3:$AZ$3),\"\")","v":""},{"$f":"IF(AND($AA24<6,N24<>\"\",O24<>\"\"),ort($N24,$O24,$AY$4:$AZ$5),\"\")","v":""},{"$f":"IF(AND($AA24<6,N24<>\"\",O24<>\"\"),ort($N24,$O24,$AY$6:$AZ$7),\"\")","v":""},{"$f":"IF(AND($AA24=6,N24<>\"\",O24<>\"\"),ort($N24,$O24,$AY$8:$AZ$8),\"\")","v":""},{"$f":"IF(AND($AA24=7,N24<>\"\",O24<>\"\"),ort($N24,$O24,$AY$9:$AZ$9),\"\")","v":""},{"$f":"IF(AND($AA24<6,P24<>\"\",Q24<>\"\"),ort($P24,$Q24,$AY$3:$AZ$3),\"\")","v":""},{"$f":"IF(AND($AA24<6,P24<>\"\",Q24<>\"\"),ort($P24,$Q24,$AY$4:$AZ$5),\"\")","v":""},{"$f":"IF(AND($AA24<6,P24<>\"\",Q24<>\"\"),ort($P24,$Q24,$AY$6:$AZ$7),\"\")","v":""},{"$f":"IF(AND($AA24=6,P24<>\"\",Q24<>\"\"),ort($P24,$Q24,$AY$8:$AZ$8),\"\")","v":""},{"$f":"IF(AND($AA24=7,P24<>\"\",Q24<>\"\"),ort($P24,$Q24,$AY$9:$AZ$9),\"\")","v":""},{"$f":"IF(AND($AA24<6,R24<>\"\",S24<>\"\"),ort($R24,$S24,$AY$3:$AZ$3),\"\")","v":""},{"$f":"IF(AND($AA24<6,R24<>\"\",S24<>\"\"),ort($R24,$S24,$AY$4:$AZ$5),\"\")","v":""},{"$f":"IF(AND($AA24<6,R24<>\"\",S24<>\"\"),ort($R24,$S24,$AY$6:$AZ$7),\"\")","v":""},{"$f":"IF(AND($AA24=6,R24<>\"\",S24<>\"\"),ort($R24,$S24,$AY$8:$AZ$8),\"\")","v":""},{"$f":"IF(AND($AA24=7,R24<>\"\",S24<>\"\"),ort($R24,$S24,$AY$9:$AZ$9),\"\")","v":""},{"$f":"IF(AND($AA24<6,T24<>\"\",U24<>\"\"),ort($T24,$U24,$AY$3:$AZ$3),\"\")","v":""},{"$f":"IF(AND($AA24<6,T24<>\"\",U24<>\"\"),ort($T24,$U24,$AY$4:$AZ$5),\"\")","v":""},{"$f":"IF(AND($AA24<6,T24<>\"\",U24<>\"\"),ort($T24,$U24,$AY$6:$AZ$7),\"\")","v":""},{"$f":"IF(AND($AA24=6,T24<>\"\",U24<>\"\"),ort($T24,$U24,$AY$8:$AZ$8),\"\")","v":""},{"$f":"IF(AND($AA24=7,T24<>\"\",U24<>\"\"),ort($T24,$U24,$AY$9:$AZ$9),\"\")","v":""},null,null,null,null,null,null,null,null,null,"00:00:00"]
[null,null,null,null,null,null,null,null,null,"",17,{"$f":"DATE($B$3,$B$4,23)","v":"2018-04-23"},{"$f":"DATE($B$3,$B$4,23)","v":"2018-04-23"},null,"00:00:00",null,null,null,null,null,null,"","","","","",{"$f":"IF(ISERROR(IF(NOT(ISERROR(MATCH($M25,Blad2!$A$2:$A$11,0))),7,WEEKDAY($M25,2))),\"\",IF(NOT(ISERROR(MATCH($M25,Blad2!$A$2:$A$11,0))),7,WEEKDAY($M25,2)))","v":1},{"$f":"IF(AND($AA25<6,N25<>\"\",O25<>\"\"),ort($N25,$O25,$AY$3:$AZ$3),\"\")","v":""},{"$f":"IF(AND($AA25<6,N25<>\"\",O25<>\"\"),ort($N25,$O25,$AY$4:$AZ$5),\"\")","v":""},{"$f":"IF(AND($AA25<6,N25<>\"\",O25<>\"\"),ort($N25,$O25,$AY$6:$AZ$7),\"\")","v":""},{"$f":"IF(AND($AA25=6,N25<>\"\",O25<>\"\"),ort($N25,$O25,$AY$8:$AZ$8),\"\")","v":""},{"$f":"IF(AND($AA25=7,N25<>\"\",O25<>\"\"),ort($N25,$O25,$AY$9:$AZ$9),\"\")","v":""},{"$f":"IF(AND($AA25<6,P25<>\"\",Q25<>\"\"),ort($P25,$Q25,$AY$3:$AZ$3),\"\")","v":""},{"$f":"IF(AND($AA25<6,P25<>\"\",Q25<>\"\"),ort($P25,$Q25,$AY$4:$AZ$5),\"\")","v":""},{"$f":"IF(AND($AA25<6,P25<>\"\",Q25<>\"\"),ort($P25,$Q25,$AY$6:$AZ$7),\"\")","v":""},{"$f":"IF(AND($AA25=6,P25<>\"\",Q25<>\"\"),ort($P25,$Q25,$AY$8:$AZ$8),\"\")","v":""},{"$f":"IF(AND($AA25=7,P25<>\"\",Q25<>\"\"),ort($P25,$Q25,$AY$9:$AZ$9),\"\")","v":""},{"$f":"IF(AND($AA25<6,R25<>\"\",S25<>\"\"),ort($R25,$S25,$AY$3:$AZ$3),\"\")","v":""},{"$f":"IF(AND($AA25<6,R25<>\"\",S25<>\"\"),ort($R25,$S25,$AY$4:$AZ$5),\"\")","v":""},{"$f":"IF(AND($AA25<6,R25<>\"\",S25<>\"\"),ort($R25,$S25,$AY$6:$AZ$7),\"\")","v":""},{"$f":"IF(AND($AA25=6,R25<>\"\",S25<>\"\"),ort($R25,$S25,$AY$8:$AZ$8),\"\")","v":""},{"$f":"IF(AND($AA25=7,R25<>\"\",S25<>\"\"),ort($R25,$S25,$AY$9:$AZ$9),\"\")","v":""},{"$f":"IF(AND($AA25<6,T25<>\"\",U25<>\"\"),ort($T25,$U25,$AY$3:$AZ$3),\"\")","v":""},{"$f":"IF(AND($AA25<6,T25<>\"\",U25<>\"\"),ort($T25,$U25,$AY$4:$AZ$5),\"\")","v":""},{"$f":"IF(AND($AA25<6,T25<>\"\",U25<>\"\"),ort($T25,$U25,$AY$6:$AZ$7),\"\")","v":""},{"$f":"IF(AND($AA25=6,T25<>\"\",U25<>\"\"),ort($T25,$U25,$AY$8:$AZ$8),\"\")","v":""},{"$f":"IF(AND($AA25=7,T25<>\"\",U25<>\"\"),ort($T25,$U25,$AY$9:$AZ$9),\"\")","v":""},null,null,null,null,null,null,null,null,null,"00:00:00"]
[null,null,null,null,null,null,null,null,null,"","",{"$f":"DATE($B$3,$B$4,24)","v":"2018-04-24"},{"$f":"DATE($B$3,$B$4,24)","v":"2018-04-24"},null,"00:00:00",null,null,null,null,null,null,"","","","","",{"$f":"IF(ISERROR(IF(NOT(ISERROR(MATCH($M26,Blad2!$A$2:$A$11,0))),7,WEEKDAY($M26,2))),\"\",IF(NOT(ISERROR(MATCH($M26,Blad2!$A$2:$A$11,0))),7,WEEKDAY($M26,2)))","v":2},{"$f":"IF(AND($AA26<6,N26<>\"\",O26<>\"\"),ort($N26,$O26,$AY$3:$AZ$3),\"\")","v":""},{"$f":"IF(AND($AA26<6,N26<>\"\",O26<>\"\"),ort($N26,$O26,$AY$4:$AZ$5),\"\")","v":""},{"$f":"IF(AND($AA26<6,N26<>\"\",O26<>\"\"),ort($N26,$O26,$AY$6:$AZ$7),\"\")","v":""},{"$f":"IF(AND($AA26=6,N26<>\"\",O26<>\"\"),ort($N26,$O26,$AY$8:$AZ$8),\"\")","v":""},{"$f":"IF(AND($AA26=7,N26<>\"\",O26<>\"\"),ort($N26,$O26,$AY$9:$AZ$9),\"\")","v":""},{"$f":"IF(AND($AA26<6,P26<>\"\",Q26<>\"\"),ort($P26,$Q26,$AY$3:$AZ$3),\"\")","v":""},{"$f":"IF(AND($AA26<6,P26<>\"\",Q26<>\"\"),ort($P26,$Q26,$AY$4:$AZ$5),\"\")","v":""},{"$f":"IF(AND($AA26<6,P26<>\"\",Q26<>\"\"),ort($P26,$Q26,$AY$6:$AZ$7),\"\")","v":""},{"$f":"IF(AND($AA26=6,P26<>\"\",Q26<>\"\"),ort($P26,$Q26,$AY$8:$AZ$8),\"\")","v":""},{"$f":"IF(AND($AA26=7,P26<>\"\",Q26<>\"\"),ort($P26,$Q26,$AY$9:$AZ$9),\"\")","v":""},{"$f":"IF(AND($AA26<6,R26<>\"\",S26<>\"\"),ort($R26,$S26,$AY$3:$AZ$3),\"\")","v":""},{"$f":"IF(AND($AA26<6,R26<>\"\",S26<>\"\"),ort($R26,$S26,$AY$4:$AZ$5),\"\")","v":""},{"$f":"IF(AND($AA26<6,R26<>\"\",S26<>\"\"),ort($R26,$S26,$AY$6:$AZ$7),\"\")","v":""},{"$f":"IF(AND($AA26=6,R26<>\"\",S26<>\"\"),ort($R26,$S26,$AY$8:$AZ$8),\"\")","v":""},{"$f":"IF(AND($AA26=7,R26<>\"\",S26<>\"\"),ort($R26,$S26,$AY$9:$AZ$9),\"\")","v":""},{"$f":"IF(AND($AA26<6,T26<>\"\",U26<>\"\"),ort($T26,$U26,$AY$3:$AZ$3),\"\")","v":""},{"$f":"IF(AND($AA26<6,T26<>\"\",U26<>\"\"),ort($T26,$U26,$AY$4:$AZ$5),\"\")","v":""},{"$f":"IF(AND($AA26<6,T26<>\"\",U26<>\"\"),ort($T26,$U26,$AY$6:$AZ$7),\"\")","v":""},{"$f":"IF(AND($AA26=6,T26<>\"\",U26<>\"\"),ort($T26,$U26,$AY$8:$AZ$8),\"\")","v":""},{"$f":"IF(AND($AA26=7,T26<>\"\",U26<>\"\"),ort($T26,$U26,$AY$9:$AZ$9),\"\")","v":""},null,null,null,null,null,null,null,null,null,"00:00:00"]
[null,null,null,null,null,null,null,null,null,"","",{"$f":"DATE($B$3,$B$4,25)","v":"2018-04-25"},{"$f":"DATE($B$3,$B$4,25)","v":"2018-04-25"},null,"00:00:00",null,null,null,null,null,null,"","","","","",{"$f":"IF(ISERROR(IF(NOT(ISERROR(MATCH($M27,Blad2!$A$2:$A$11,0))),7,WEEKDAY($M27,2))),\"\",IF(NOT(ISERROR(MATCH($M27,Blad2!$A$2:$A$11,0))),7,WEEKDAY($M27,2)))","v":3},{"$f":"IF(AND($AA27<6,N27<>\"\",O27<>\"\"),ort($N27,$O27,$AY$3:$AZ$3),\"\")","v":""},{"$f":"IF(AND($AA27<6,N27<>\"\",O27<>\"\"),ort($N27,$O27,$AY$4:$AZ$5),\"\")","v":""},{"$f":"IF(AND($AA27<6,N27<>\"\",O27<>\"\"),ort($N27,$O27,$AY$6:$AZ$7),\"\")","v":""},{"$f":"IF(AND($AA27=6,N27<>\"\",O27<>\"\"),ort($N27,$O27,$AY$8:$AZ$8),\"\")","v":""},{"$f":"IF(AND($AA27=7,N27<>\"\",O27<>\"\"),ort($N27,$O27,$AY$9:$AZ$9),\"\")","v":""},{"$f":"IF(AND($AA27<6,P27<>\"\",Q27<>\"\"),ort($P27,$Q27,$AY$3:$AZ$3),\"\")","v":""},{"$f":"IF(AND($AA27<6,P27<>\"\",Q27<>\"\"),ort($P27,$Q27,$AY$4:$AZ$5),\"\")","v":""},{"$f":"IF(AND($AA27<6,P27<>\"\",Q27<>\"\"),ort($P27,$Q27,$AY$6:$AZ$7),\"\")","v":""},{"$f":"IF(AND($AA27=6,P27<>\"\",Q27<>\"\"),ort($P27,$Q27,$AY$8:$AZ$8),\"\")","v":""},{"$f":"IF(AND($AA27=7,P27<>\"\",Q27<>\"\"),ort($P27,$Q27,$AY$9:$AZ$9),\"\")","v":""},{"$f":"IF(AND($AA27<6,R27<>\"\",S27<>\"\"),ort($R27,$S27,$AY$3:$AZ$3),\"\")","v":""},{"$f":"IF(AND($AA27<6,R27<>\"\",S27<>\"\"),ort($R27,$S27,$AY$4:$AZ$5),\"\")","v":""},{"$f":"IF(AND($AA27<6,R27<>\"\",S27<>\"\"),ort($R27,$S27,$AY$6:$AZ$7),\"\")","v":""},{"$f":"IF(AND($AA27=6,R27<>\"\",S27<>\"\"),ort($R27,$S27,$AY$8:$AZ$8),\"\")","v":""},{"$f":"IF(AND($AA27=7,R27<>\"\",S27<>\"\"),ort($R27,$S27,$AY$9:$AZ$9),\"\")","v":""},{"$f":"IF(AND($AA27<6,T27<>\"\",U27<>\"\"),ort($T27,$U27,$AY$3:$AZ$3),\"\")","v":""},{"$f":"IF(AND($AA27<6,T27<>\"\",U27<>\"\"),ort($T27,$U27,$AY$4:$AZ$5),\"\")","v":""},{"$f":"IF(AND($AA27<6,T27<>\"\",U27<>\"\"),ort($T27,$U27,$AY$6:$AZ$7),\"\")","v":""},{"$f":"IF(AND($AA27=6,T27<>\"\",U27<>\"\"),ort($T27,$U27,$AY$8:$AZ$8),\"\")","v":""},{"$f":"IF(AND($AA27=7,T27<>\"\",U27<>\"\"),ort($T27,$U27,$AY$9:$AZ$9),\"\")","v":""},null,null,null,null,null,null,null,null,null,"00:00:00"]
[null,null,null,null,null,null,null,null,null,"","",{"$f":"DATE($B$3,$B$4,26)","v":"2018-04-26"},{"$f":"DATE($B$3,$B$4,26)","v":"2018-04-26"},null,"00:00:00",null,null,null,null,null,null,"","","","","",{"$f":"IF(ISERROR(IF(NOT(ISERROR(MATCH($M28,Blad2!$A$2:$A$11,0))),7,WEEKDAY($M28,2))),\"\",IF(NOT(ISERROR(MATCH($M28,Blad2!$A$2:$A$11,0))),7,WEEKDAY($M28,2)))","v":4},{"$f":"IF(AND($AA28<6,N28<>\"\",O28<>\"\"),ort($N28,$O28,$AY$3:$AZ$3),\"\")","v":""},{"$f":"IF(AND($AA28<6,N28<>\"\",O28<>\"\"),ort($N28,$O28,$AY$4:$AZ$5),\"\")","v":""},{"$f":"IF(AND($AA28<6,N28<>\"\",O28<>\"\"),ort($N28,$O28,$AY$6:$AZ$7),\"\")","v":""},{"$f":"IF(AND($AA28=6,N28<>\"\",O28<>\"\"),ort($N28,$O28,$AY$8:$AZ$8),\"\")","v":""},{"$f":"IF(AND($AA28=7,N28<>\"\",O28<>\"\"),ort($N28,$O28,$AY$9:$AZ$9),\"\")","v":""},{"$f":"IF(AND($AA28<6,P28<>\"\",Q28<>\"\"),ort($P28,$Q28,$AY$3:$AZ$3),\"\")","v":""},{"$f":"IF(AND($AA28<6,P28<>\"\",Q28<>\"\"),ort($P28,$Q28,$AY$4:$AZ$5),\"\")","v":""},{"$f":"IF(AND($AA28<6,P28<>\"\",Q28<>\"\"),ort($P28,$Q28,$AY$6:$AZ$7),\"\")","v":""},{"$f":"IF(AND($AA28=6,P28<>\"\",Q28<>\"\"),ort($P28,$Q28,$AY$8:$AZ$8),\"\")","v":""},{"$f":"IF(AND($AA28=7,P28<>\"\",Q28<>\"\"),ort($P28,$Q28,$AY$9:$AZ$9),\"\")","v":""},{"$f":"IF(AND($AA28<6,R28<>\"\",S28<>\"\"),ort($R28,$S28,$AY$3:$AZ$3),\"\")","v":""},{"$f":"IF(AND($AA28<6,R28<>\"\",S28<>\"\"),ort($R28,$S28,$AY$4:$AZ$5),\"\")","v":""},{"$f":"IF(AND($AA28<6,R28<>\"\",S28<>\"\"),ort($R28,$S28,$AY$6:$AZ$7),\"\")","v":""},{"$f":"IF(AND($AA28=6,R28<>\"\",S28<>\"\"),ort($R28,$S28,$AY$8:$AZ$8),\"\")","v":""},{"$f":"IF(AND($AA28=7,R28<>\"\",S28<>\"\"),ort($R28,$S28,$AY$9:$AZ$9),\"\")","v":""},{"$f":"IF(AND($AA28<6,T28<>\"\",U28<>\"\"),ort($T28,$U28,$AY$3:$AZ$3),\"\")","v":""},{"$f":"IF(AND($AA28<6,T28<>\"\",U28<>\"\"),ort($T28,$U28,$AY$4:$AZ$5),\"\")","v":""},{"$f":"IF(AND($AA28<6,T28<>\"\",U28<>\"\"),ort($T28,$U28,$AY$6:$AZ$7),\"\")","v":""},{"$f":"IF(AND($AA28=6,T28<>\"\",U28<>\"\"),ort($T28,$U28,$AY$8:$AZ$8),\"\")","v":""},{"$f":"IF(AND($AA28=7,T28<>\"\",U28<>\"\"),ort($T28,$U28,$AY$9:$AZ$9),\"\")","v":""},null,null,null,null,null,null,null,null,null,"00:00:00"]
[null,null,null,null,null,null,null,null,null,"Koningsdag","",{"$f":"DATE($B$3,$B$4,27)","v":"2018-04-27"},{"$f":"DATE($B$3,$B$4,27)","v":"2018-04-27"},null,"00:00:00",null,null,null,null,null,null,"","","","","",{"$f":"IF(ISERROR(IF(NOT(ISERROR(MATCH($M29,Blad2!$A$2:$A$11,0))),7,WEEKDAY($M29,2))),\"\",IF(NOT(ISERROR(MATCH($M29,Blad2!$A$2:$A$11,0))),7,WEEKDAY($M29,2)))","v":7},{"$f":"IF(AND($AA29<6,N29<>\"\",O29<>\"\"),ort($N29,$O29,$AY$3:$AZ$3),\"\")","v":""},{"$f":"IF(AND($AA29<6,N29<>\"\",O29<>\"\"),ort($N29,$O29,$AY$4:$AZ$5),\"\")","v":""},{"$f":"IF(AND($AA29<6,N29<>\"\",O29<>\"\"),ort($N29,$O29,$AY$6:$AZ$7),\"\")","v":""},{"$f":"IF(AND($AA29=6,N29<>\"\",O29<>\"\"),ort($N29,$O29,$AY$8:$AZ$8),\"\")","v":""},{"$f":"IF(AND($AA29=7,N29<>\"\",O29<>\"\"),ort($N29,$O29,$AY$9:$AZ$9),\"\")","v":""},{"$f":"IF(AND($AA29<6,P29<>\"\",Q29<>\"\"),ort($P29,$Q29,$AY$3:$AZ$3),\"\")","v":""},{"$f":"IF(AND($AA29<6,P29<>\"\",Q29<>\"\"),ort($P29,$Q29,$AY$4:$AZ$5),\"\")","v":""},{"$f":"IF(AND($AA29<6,P29<>\"\",Q29<>\"\"),ort($P29,$Q29,$AY$6:$AZ$7),\"\")","v":""},{"$f":"IF(AND($AA29=6,P29<>\"\",Q29<>\"\"),ort($P29,$Q29,$AY$8:$AZ$8),\"\")","v":""},{"$f":"IF(AND($AA29=7,P29<>\"\",Q29<>\"\"),ort($P29,$Q29,$AY$9:$AZ$9),\"\")","v":""},{"$f":"IF(AND($AA29<6,R29<>\"\",S29<>\"\"),ort($R29,$S29,$AY$3:$AZ$3),\"\")","v":""},{"$f":"IF(AND($AA29<6,R29<>\"\",S29<>\"\"),ort($R29,$S29,$AY$4:$AZ$5),\"\")","v":""},{"$f":"IF(AND($AA29<6,R29<>\"\",S29<>\"\"),ort($R29,$S29,$AY$6:$AZ$7),\"\")","v":""},{"$f":"IF(AND($AA29=6,R29<>\"\",S29<>\"\"),ort($R29,$S29,$AY$8:$AZ$8),\"\")","v":""},{"$f":"IF(AND($AA29=7,R29<>\"\",S29<>\"\"),ort($R29,$S29,$AY$9:$AZ$9),\"\")","v":""},{"$f":"IF(AND($AA29<6,T29<>\"\",U29<>\"\"),ort($T29,$U29,$AY$3:$AZ$3),\"\")","v":""},{"$f":"IF(AND($AA29<6,T29<>\"\",U29<>\"\"),ort($T29,$U29,$AY$4:$AZ$5),\"\")","v":""},{"$f":"IF(AND($AA29<6,T29<>\"\",U29<>\"\"),ort($T29,$U29,$AY$6:$AZ$7),\"\")","v":""},{"$f":"IF(AND($AA29=6,T29<>\"\",U29<>\"\"),ort($T29,$U29,$AY$8:$AZ$8),\"\")","v":""},{"$f":"IF(AND($AA29=7,T29<>\"\",U29<>\"\"),ort($T29,$U29,$AY$9:$AZ$9),\"\")","v":""},null,null,null,null,null,null,null,null,null,"00:00:00"]
[null,null,null,null,null,null,null,null,null,"","",{"$f":"DATE($B$3,$B$4,28)","v":"2018-04-28"},{"$f":"DATE($B$3,$B$4,28)","v":"2018-04-28"},null,"00:00:00",null,null,null,null,null,null,"","","","","",{"$f":"IF(ISERROR(IF(NOT(ISERROR(MATCH($M30,Blad2!$A$2:$A$11,0))),7,WEEKDAY($M30,2))),\"\",IF(NOT(ISERROR(MATCH($M30,Blad2!$A$2:$A$11,0))),7,WEEKDAY($M30,2)))","v":6},{"$f":"IF(AND($AA30<6,N30<>\"\",O30<>\"\"),ort($N30,$O30,$AY$3:$AZ$3),\"\")","v":""},{"$f":"IF(AND($AA30<6,N30<>\"\",O30<>\"\"),ort($N30,$O30,$AY$4:$AZ$5),\"\")","v":""},{"$f":"IF(AND($AA30<6,N30<>\"\",O30<>\"\"),ort($N30,$O30,$AY$6:$AZ$7),\"\")","v":""},{"$f":"IF(AND($AA30=6,N30<>\"\",O30<>\"\"),ort($N30,$O30,$AY$8:$AZ$8),\"\")","v":""},{"$f":"IF(AND($AA30=7,N30<>\"\",O30<>\"\"),ort($N30,$O30,$AY$9:$AZ$9),\"\")","v":""},{"$f":"IF(AND($AA30<6,P30<>\"\",Q30<>\"\"),ort($P30,$Q30,$AY$3:$AZ$3),\"\")","v":""},{"$f":"IF(AND($AA30<6,P30<>\"\",Q30<>\"\"),ort($P30,$Q30,$AY$4:$AZ$5),\"\")","v":""},{"$f":"IF(AND($AA30<6,P30<>\"\",Q30<>\"\"),ort($P30,$Q30,$AY$6:$AZ$7),\"\")","v":""},{"$f":"IF(AND($AA30=6,P30<>\"\",Q30<>\"\"),ort($P30,$Q30,$AY$8:$AZ$8),\"\")","v":""},{"$f":"IF(AND($AA30=7,P30<>\"\",Q30<>\"\"),ort($P30,$Q30,$AY$9:$AZ$9),\"\")","v":""},{"$f":"IF(AND($AA30<6,R30<>\"\",S30<>\"\"),ort($R30,$S30,$AY$3:$AZ$3),\"\")","v":""},{"$f":"IF(AND($AA30<6,R30<>\"\",S30<>\"\"),ort($R30,$S30,$AY$4:$AZ$5),\"\")","v":""},{"$f":"IF(AND($AA30<6,R30<>\"\",S30<>\"\"),ort($R30,$S30,$AY$6:$AZ$7),\"\")","v":""},{"$f":"IF(AND($AA30=6,R30<>\"\",S30<>\"\"),ort($R30,$S30,$AY$8:$AZ$8),\"\")","v":""},{"$f":"IF(AND($AA30=7,R30<>\"\",S30<>\"\"),ort($R30,$S30,$AY$9:$AZ$9),\"\")","v":""},{"$f":"IF(AND($AA30<6,T30<>\"\",U30<>\"\"),ort($T30,$U30,$AY$3:$AZ$3),\"\")","v":""},{"$f":"IF(AND($AA30<6,T30<>\"\",U30<>\"\"),ort($T30,$U30,$AY$4:$AZ$5),\"\")","v":""},{"$f":"IF(AND($AA30<6,T30<>\"\",U30<>\"\"),ort($T30,$U30,$AY$6:$AZ$7),\"\")","v":""},{"$f":"IF(AND($AA30=6,T30<>\"\",U30<>\"\"),ort($T30,$U30,$AY$8:$AZ$8),\"\")","v":""},{"$f":"IF(AND($AA30=7,T30<>\"\",U30<>\"\"),ort($T30,$U30,$AY$9:$AZ$9),\"\")","v":""},null,null,null,null,null,null,null,null,null,"00:00:00"]
[null,null,null,null,null,null,null,null,null,"",{"$f":"IF(L31=\"\",\"\",IF(WEEKDAY(L31)=2,1+INT((L31-DATE(YEAR(L31+4-WEEKDAY(L31+6)),1,5)+WEEKDAY(DATE(YEAR(L31+4-WEEKDAY(L31+6)),1,3)))/7),\"\"))","v":""},{"$f":"IF(MONTH(L$30+1)<>MONTH(L$30),\"\",L$30+1)","v":"2018-04-29"},{"$f":"IF(MONTH(M$30+1)<>MONTH(M$30),\"\",M$30+1)","v":"2018-04-29"},null,"00:00:00",null,null,null,null,null,null,"","","","","",{"$f":"IF(ISERROR(IF(NOT(ISERROR(MATCH($M31,Blad2!$A$2:$A$11,0))),7,WEEKDAY($M31,2))),\"\",IF(NOT(ISERROR(MATCH($M31,Blad2!$A$2:$A$11,0))),7,WEEKDAY($M31,2)))","v":7},{"$f":"IF(AND($AA31<6,N31<>\"\",O31<>\"\"),ort($N31,$O31,$AY$3:$AZ$3),\"\")","v":""},{"$f":"IF(AND($AA31<6,N31<>\"\",O31<>\"\"),ort($N31,$O31,$AY$4:$AZ$5),\"\")","v":""},{"$f":"IF(AND($AA31<6,N31<>\"\",O31<>\"\"),ort($N31,$O31,$AY$6:$AZ$7),\"\")","v":""},{"$f":"IF(AND($AA31=6,N31<>\"\",O31<>\"\"),ort($N31,$O31,$AY$8:$AZ$8),\"\")","v":""},{"$f":"IF(AND($AA31=7,N31<>\"\",O31<>\"\"),ort($N31,$O31,$AY$9:$AZ$9),\"\")","v":""},{"$f":"IF(AND($AA31<6,P31<>\"\",Q31<>\"\"),ort($P31,$Q31,$AY$3:$AZ$3),\"\")","v":""},{"$f":"IF(AND($AA31<6,P31<>\"\",Q31<>\"\"),ort($P31,$Q31,$AY$4:$AZ$5),\"\")","v":""},{"$f":"IF(AND($AA31<6,P31<>\"\",Q31<>\"\"),ort($P31,$Q31,$AY$6:$AZ$7),\"\")","v":""},{"$f":"IF(AND($AA31=6,P31<>\"\",Q31<>\"\"),ort($P31,$Q31,$AY$8:$AZ$8),\"\")","v":""},{"$f":"IF(AND($AA31=7,P31<>\"\",Q31<>\"\"),ort($P31,$Q31,$AY$9:$AZ$9),\"\")","v":""},{"$f":"IF(AND($AA31<6,R31<>\"\",S31<>\"\"),ort($R31,$S31,$AY$3:$AZ$3),\"\")","v":""},{"$f":"IF(AND($AA31<6,R31<>\"\",S31<>\"\"),ort($R31,$S31,$AY$4:$AZ$5),\"\")","v":""},{"$f":"IF(AND($AA31<6,R31<>\"\",S31<>\"\"),ort($R31,$S31,$AY$6:$AZ$7),\"\")","v":""},{"$f":"IF(AND($AA31=6,R31<>\"\",S31<>\"\"),ort($R31,$S31,$AY$8:$AZ$8),\"\")","v":""},{"$f":"IF(AND($AA31=7,R31<>\"\",S31<>\"\"),ort($R31,$S31,$AY$9:$AZ$9),\"\")","v":""},{"$f":"IF(AND($AA31<6,T31<>\"\",U31<>\"\"),ort($T31,$U31,$AY$3:$AZ$3),\"\")","v":""},{"$f":"IF(AND($AA31<6,T31<>\"\",U31<>\"\"),ort($T31,$U31,$AY$4:$AZ$5),\"\")","v":""},{"$f":"IF(AND($AA31<6,T31<>\"\",U31<>\"\"),ort($T31,$U31,$AY$6:$AZ$7),\"\")","v":""},{"$f":"IF(AND($AA31=6,T31<>\"\",U31<>\"\"),ort($T31,$U31,$AY$8:$AZ$8),\"\")","v":""},{"$f":"IF(AND($AA31=7,T31<>\"\",U31<>\"\"),ort($T31,$U31,$AY$9:$AZ$9),\"\")","v":""},null,null,null,null,null,null,null,null,null,"00:00:00"]
[null,"Totaal Uren incl 150 %",null,null,null,null,null,null,null,"",18,{"$f":"IF(L31=\"\",\"\",IF(MONTH($M31+1)<>MONTH($M31),\"\",$M31+1))","v":"2018-04-30"},{"$f":"IF(M31=\"\",\"\",IF(MONTH($M31+1)<>MONTH($M31),\"\",$M31+1))","v":"2018-04-30"},null,"00:00:00",null,null,null,null,null,null,"","","","","",{"$f":"IF(ISERROR(IF(NOT(ISERROR(MATCH($M32,Blad2!$A$2:$A$11,0))),7,WEEKDAY($M32,2))),\"\",IF(NOT(ISERROR(MATCH($M32,Blad2!$A$2:$A$11,0))),7,WEEKDAY($M32,2)))","v":1},{"$f":"IF(AND($AA32<6,N32<>\"\",O32<>\"\"),ort($N32,$O32,$AY$3:$AZ$3),\"\")","v":""},{"$f":"IF(AND($AA32<6,N32<>\"\",O32<>\"\"),ort($N32,$O32,$AY$4:$AZ$5),\"\")","v":""},{"$f":"IF(AND($AA32<6,N32<>\"\",O32<>\"\"),ort($N32,$O32,$AY$6:$AZ$7),\"\")","v":""},{"$f":"IF(AND($AA32=6,N32<>\"\",O32<>\"\"),ort($N32,$O32,$AY$8:$AZ$8),\"\")","v":""},{"$f":"IF(AND($AA32=7,N32<>\"\",O32<>\"\"),ort($N32,$O32,$AY$9:$AZ$9),\"\")","v":""},{"$f":"IF(AND($AA32<6,P32<>\"\",Q32<>\"\"),ort($P32,$Q32,$AY$3:$AZ$3),\"\")","v":""},{"$f":"IF(AND($AA32<6,P32<>\"\",Q32<>\"\"),ort($P32,$Q32,$AY$4:$AZ$5),\"\")","v":""},{"$f":"IF(AND($AA32<6,P32<>\"\",Q32<>\"\"),ort($P32,$Q32,$AY$6:$AZ$7),\"\")","v":""},{"$f":"IF(AND($AA32=6,P32<>\"\",Q32<>\"\"),ort($P32,$Q32,$AY$8:$AZ$8),\"\")","v":""},{"$f":"IF(AND($AA32=7,P32<>\"\",Q32<>\"\"),ort($P32,$Q32,$AY$9:$AZ$9),\"\")","v":""},{"$f":"IF(AND($AA32<6,R32<>\"\",S32<>\"\"),ort($R32,$S32,$AY$3:$AZ$3),\"\")","v":""},{"$f":"IF(AND($AA32<6,R32<>\"\",S32<>\"\"),ort($R32,$S32,$AY$4:$AZ$5),\"\")","v":""},{"$f":"IF(AND($AA32<6,R32<>\"\",S32<>\"\"),ort($R32,$S32,$AY$6:$AZ$7),\"\")","v":""},{"$f":"IF(AND($AA32=6,R32<>\"\",S32<>\"\"),ort($R32,$S32,$AY$8:$AZ$8),\"\")","v":""},{"$f":"IF(AND($AA32=7,R32<>\"\",S32<>\"\"),ort($R32,$S32,$AY$9:$AZ$9),\"\")","v":""},{"$f":"IF(AND($AA32<6,T32<>\"\",U32<>\"\"),ort($T32,$U32,$AY$3:$AZ$3),\"\")","v":""},{"$f":"IF(AND($AA32<6,T32<>\"\",U32<>\"\"),ort($T32,$U32,$AY$4:$AZ$5),\"\")","v":""},{"$f":"IF(AND($AA32<6,T32<>\"\",U32<>\"\"),ort($T32,$U32,$AY$6:$AZ$7),\"\")","v":""},{"$f":"IF(AND($AA32=6,T32<>\"\",U32<>\"\"),ort($T32,$U32,$AY$8:$AZ$8),\"\")","v":""},{"$f":"IF(AND($AA32=7,T32<>\"\",U32<>\"\"),ort($T32,$U32,$AY$9:$AZ$9),\"\")","v":""},null,null,null,null,null,null,null,null,null,"00:00:00"]
[null,{"$f":"SUM(U36,W37)","v":0},null,null,null,null,null,null,null,"",{"$f":"IF(L33=\"\",\"\",IF(WEEKDAY(L33)=2,1+INT((L33-DATE(YEAR(L33+4-WEEKDAY(L33+6)),1,5)+WEEKDAY(DATE(YEAR(L33+4-WEEKDAY(L33+6)),1,3)))/7),\"\"))","v":""},{"$f":"IF(L32=\"\",\"\",IF(MONTH($M32+1)<>MONTH($M32),\"\",$M32+1))","v":""},{"$f":"IF(M32=\"\",\"\",IF(MONTH($M32+1)<>MONTH($M32),\"\",$M32+1))","v":""},null,"00:00:00",null,null,null,null,null,null,"","","","","",{"$f":"IF(ISERROR(IF(NOT(ISERROR(MATCH($M33,Blad2!$A$2:$A$11,0))),7,WEEKDAY($M33,2))),\"\",IF(NOT(ISERROR(MATCH($M33,Blad2!$A$2:$A$11,0))),7,WEEKDAY($M33,2)))","v":""},{"$f":"IF(AND($AA33<6,N33<>\"\",O33<>\"\"),ort($N33,$O33,$AY$3:$AZ$3),\"\")","v":""},{"$f":"IF(AND($AA33<6,N33<>\"\",O33<>\"\"),ort($N33,$O33,$AY$4:$AZ$5),\"\")","v":""},{"$f":"IF(AND($AA33<6,N33<>\"\",O33<>\"\"),ort($N33,$O33,$AY$6:$AZ$7),\"\")","v":""},{"$f":"IF(AND($AA33=6,N33<>\"\",O33<>\"\"),ort($N33,$O33,$AY$8:$AZ$8),\"\")","v":""},{"$f":"IF(AND($AA33=7,N33<>\"\",O33<>\"\"),ort($N33,$O33,$AY$9:$AZ$9),\"\")","v":""},{"$f":"IF(AND($AA33<6,P33<>\"\",Q33<>\"\"),ort($P33,$Q33,$AY$3:$AZ$3),\"\")","v":""},{"$f":"IF(AND($AA33<6,P33<>\"\",Q33<>\"\"),ort($P33,$Q33,$AY$4:$AZ$5),\"\")","v":""},{"$f":"IF(AND($AA33<6,P33<>\"\",Q33<>\"\"),ort($P33,$Q33,$AY$6:$AZ$7),\"\")","v":""},{"$f":"IF(AND($AA33=6,P33<>\"\",Q33<>\"\"),ort($P33,$Q33,$AY$8:$AZ$8),\"\")","v":""},{"$f":"IF(AND($AA33=7,P33<>\"\",Q33<>\"\"),ort($P33,$Q33,$AY$9:$AZ$9),\"\")","v":""},{"$f":"IF(AND($AA33<6,R33<>\"\",S33<>\"\"),ort($R33,$S33,$AY$3:$AZ$3),\"\")","v":""},{"$f":"IF(AND($AA33<6,R33<>\"\",S33<>\"\"),ort($R33,$S33,$AY$4:$AZ$5),\"\")","v":""},{"$f":"IF(AND($AA33<6,R33<>\"\",S33<>\"\"),ort($R33,$S33,$AY$6:$AZ$7),\"\")","v":""},{"$f":"IF(AND($AA33=6,R33<>\"\",S33<>\"\"),ort($R33,$S33,$AY$8:$AZ$8),\"\")","v":""},{"$f":"IF(AND($AA33=7,R33<>\"\",S33<>\"\"),ort($R33,$S33,$AY$9:$AZ$9),\"\")","v":""},{"$f":"IF(AND($AA33<6,T33<>\"\",U33<>\"\"),ort($T33,$U33,$AY$3:$AZ$3),\"\")","v":""},{"$f":"IF(AND($AA33<6,T33<>\"\",U33<>\"\"),ort($T33,$U33,$AY$4:$AZ$5),\"\")","v":""},{"$f":"IF(AND($AA33<6,T33<>\"\",U33<>\"\"),ort($T33,$U33,$AY$6:$AZ$7),\"\")","v":""},{"$f":"IF(AND($AA33=6,T33<>\"\",U33<>\"\"),ort($T33,$U33,$AY$8:$AZ$8),\"\")","v":""},{"$f":"IF(AND($AA33=7,T33<>\"\",U33<>\"\"),ort($T33,$U33,$AY$9:$AZ$9),\"\")","v":""},null,null,null,null,null,null,null,null,null,"00:00:00"]
[null,null,null,null,null,null,null,null,null,null,null,null,null,null,null,null,null,null,null,null,null,null,{"$f":"SUM(W3:W33)","v":0},{"$f":"SUM(X3:X33)","v":0},0,0]
[null,null,null,null,null,null,null,null,null,null,null,null,"Plus / Min Uren Incl 150 % Uren",null,null,null,null,null,"Contract Uren",null,{"$f":"SUM(B17)","v":3.75}]
[null,null,null,null,null,null,null,null,null,null,null,null,{"$f":"SUM(B33-B17)","v":-3.75},null,null,5,null,"Gewerkte Uren 100 %",null,null,{"$f":"SUM(W34:X34)","v":0}]
[null,null,null,null,null,null,null,null,null,null,null,null,"Uitbetalen / Verlof",null,null,{"$f":"SUM(M36*P36)*24","v":-450},null,"Gewerkte Uren 150 %",null,null,{"$f":"SUM(Y34)","v":0},"X 150%",{"$f":"SUM(U37*150%)","v":0}]
[null,null,null,null,null,null,null,null,null,null,null,null,null,null,null,null,null,null,"Plus Uren"]
[null,null,null,null,null,null,null,null,null,null,null,null,null,null,null,null,null,null,"Min Uren"]

{"sheet":"Mei","index":4,"n_rows":39,"n_cols":57,"rows_kept":39,"cut":false,"hidden":false,"merged":[[38,18,38,19],[37,18,37,19],[1,48,1,51],[2,3,2,7],[3,2,3,8],[19,1,19,8],[13,1,13,8],[15,1,15,8],[16,1,16,8],[18,1,18,8],[12,1,12,8],[36,12,36,14],[36,15,36,16],[36,17,36,19],[0,14,0,21],[1,2,1,8],[34,12,34,16],[35,12,35,14],[35,15,35,16],[31,1,31,8],[32,1,32,8],[34,18,34,19],[35,17,35,19]]}
[null,null,null,null,null,null,null,null,null,null,null,null,null,null,"Test"]
[null,null,{"$f":"TODAY()","v":"2018-03-21"},null,null,null,null,null,null,"Feestdag","wknr","dag","datum","tijd in","tijd uit","tijd in","tijd uit","tijd in","tijd uit","tijd in","tijd uit","werk\ntijd",1,1.25,1.5,2,"hulp",1,1.25,1.5,1.5,2,1,1.25,1.5,1.5,2,1,1.25,1.5,1.5,2,1,1.25,1.5,1.5,2,null,"onregelmatigheidstoeslag",null,null,null,null,"Stops","Laden","Lossen","Werktijd"]
[null,2018," ","Kalender",null,null,null,null,null,{"$f":"IF(ISNA(VLOOKUP(M3,feestdagen,2,0)),\"\",VLOOKUP(M3,feestdagen,2,0))","v":""},{"$f":"WEEKNUM(L3,21)","v":18},{"$f":"DATE($B$3,$B$4,1)","v":"2018-05-01"},{"$f":"DATE($B$3,$B$4,1)","v":"2018-05-01"},null,{"$f":"SUM(N3,BE3)","v":"00:00:00"},null,null,null,null,null,null,{"$f":"IF(AND(W3=\"\",X3=\"\",Y3=\"\",Z3=\"\"),\"\",SUM(W3:Z3))","v":""},{"$f":"IF(AND(AB3=\"\",AG3=\"\",AL3=\"\",AQ3=\"\"),\"\",SUM(AB3,AG3,AL3,AQ3))","v":""},{"$f":"IF(AND(AC3=\"\",AH3=\"\",AM3=\"\",AR3=\"\"),\"\",SUM(AC3,AH3,AM3,AR3))","v":""},{"$f":"IF(AND(AD3=\"\",AE3=\"\",AI3=\"\",AJ3=\"\",AN3=\"\",AO3=\"\",AS3=\"\",AT3=\"\"),\"\",SUM(AD3,AE3,AI3,AJ3,AN3,AO3,AS3,AT3))","v":""},{"$f":"IF(AND(AF3=\"\",AK3=\"\",AP3=\"\",AU3=\"\"),\"\",SUM(AF3,AK3,AP3,AU3))","v":""},{"$f":"IF(ISERROR(IF(NOT(ISERROR(MATCH($M3,Blad2!$A$2:$A$11,0))),7,WEEKDAY($M3,2))),\"\",IF(NOT(ISERROR(MATCH($M3,Blad2!$A$2:$A$11,0))),7,WEEKDAY($M3,2)))","v":2},{"$f":"IF(AND($AA3<6,N3<>\"\",O3<>\"\"),ort($N3,$O3,$AY$3:$AZ$3),\"\")","v":""},{"$f":"IF(AND($AA3<6,N3<>\"\",O3<>\"\"),ort($N3,$O3,$AY$4:$AZ$5),\"\")","v":""},{"$f":"IF(AND($AA3<6,N3<>\"\",O3<>\"\"),ort($N3,$O3,$AY$6:$AZ$7),\"\")","v":""},{"$f":"IF(AND($AA3=6,N3<>\"\",O3<>\"\"),ort($N3,$O3,$AY$8:$AZ$8),\"\")","v":""},{"$f":"IF(AND($AA3=7,N3<>\"\",O3<>\"\"),ort($N3,$O3,$AY$9:$AZ$9),\"\")","v":""},{"$f":"IF(AND($AA3<6,P3<>\"\",Q3<>\"\"),ort($P3,$Q3,$AY$3:$AZ$3),\"\")","v":""},{"$f":"IF(AND($AA3<6,P3<>\"\",Q3<>\"\"),ort($P3,$Q3,$AY$4:$AZ$5),\"\")","v":""},{"$f":"IF(AND($AA3<6,P3<>\"\",Q3<>\"\"),ort($P3,$Q3,$AY$6:$AZ$7),\"\")","v":""},{"$f":"IF(AND($AA3=6,P3<>\"\",Q3<>\"\"),ort($P3,$Q3,$AY$8:$AZ$8),\"\")","v":""},{"$f":"IF(AND($AA3=7,P3<>\"\",Q3<>\"\"),ort($P3,$Q3,$AY$9:$AZ$9),\"\")","v":""},{"$f":"IF(AND($AA3<6,R3<>\"\",S3<>\"\"),ort($R3,$S3,$AY$3:$AZ$3),\"\")","v":""},{"$f":"IF(AND($AA3<6,R3<>\"\",S3<>\"\"),ort($R3,$S3,$AY$4:$AZ$5),\"\")","v":""},{"$f":"IF(AND($AA3<6,R3<>\"\",S3<>\"\"),ort($R3,$S3,$AY$6:$AZ$7),\"\")","v":""},{"$f":"IF(AND($AA3=6,R3<>\"\",S3<>\"\"),ort($R3,$S3,$AY$8:$AZ$8),\"\")","v":""},{"$f":"IF(AND($AA3=7,R3<>\"\",S3<>\"\"),ort($R3,$S3,$AY$9:$AZ$9),\"\")","v":""},{"$f":"IF(AND($AA3<6,T3<>\"\",U3<>\"\"),ort($T3,$U3,$AY$3:$AZ$3),\"\")","v":""},{"$f":"IF(AND($AA3<6,T3<>\"\",U3<>\"\"),ort($T3,$U3,$AY$4:$AZ$5),\"\")","v":""},{"$f":"IF(AND($AA3<6,T3<>\"\",U3<>\"\"),ort($T3,$U3,$AY$6:$AZ$7),\"\")","v":""},{"$f":"IF(AND($AA3=6,T3<>\"\",U3<>\"\"),ort($T3,$U3,$AY$8:$AZ$8),\"\")","v":""},{"$f":"IF(AND($AA3=7,T3<>\"\",U3<>\"\"),ort($T3,$U3,$AY$9:$AZ$9),\"\")","v":""},null,1,"m-vr",0.39583333333333331,0.72916666666666663,null,null,null,null,{"$f":"SUM(BB3/20/24,BC3:BD3)","v":"00:00:00"}]
[null,5,{"$f":"DATE(B3,B4,1)","v":"2018-05-01"},null,null,null,null,null,null,"",{"$f":"IF(WEEKDAY(L4)=2,1+INT((L4-DATE(YEAR(L4+4-WEEKDAY(L4+6)),1,5)+WEEKDAY(DATE(YEAR(L4+4-WEEKDAY(L4+6)),1,3)))/7),\"\")","v":""},{"$f":"DATE($B$3,$B$4,2)","v":"2018-05-02"},{"$f":"DATE($B$3,$B$4,2)","v":"2018-05-02"},null,{"$f":"SUM(N4,BE4)","v":"00:00:00"},null,null,null,null,null,null,{"$f":"IF(AND(W4=\"\",X4=\"\",Y4=\"\",Z4=\"\"),\"\",SUM(W4:Z4))","v":""},{"$f":"IF(AND(AB4=\"\",AG4=\"\",AL4=\"\",AQ4=\"\"),\"\",SUM(AB4,AG4,AL4,AQ4))","v":""},{"$f":"IF(AND(AC4=\"\",AH4=\"\",AM4=\"\",AR4=\"\"),\"\",SUM(AC4,AH4,AM4,AR4))","v":""},{"$f":"IF(AND(AD4=\"\",AE4=\"\",AI4=\"\",AJ4=\"\",AN4=\"\",AO4=\"\",AS4=\"\",AT4=\"\"),\"\",SUM(AD4,AE4,AI4,AJ4,AN4,AO4,AS4,AT4))","v":""},{"$f":"IF(AND(AF4=\"\",AK4=\"\",AP4=\"\",AU4=\"\"),\"\",SUM(AF4,AK4,AP4,AU4))","v":""},{"$f":"IF(ISERROR(IF(NOT(ISERROR(MATCH($M4,Blad2!$A$2:$A$11,0))),7,WEEKDAY($M4,2))),\"\",IF(NOT(ISERROR(MATCH($M4,Blad2!$A$2:$A$11,0))),7,WEEKDAY($M4,2)))","v":3},{"$f":"IF(AND($AA4<6,N4<>\"\",O4<>\"\"),ort($N4,$O4,$AY$3:$AZ$3),\"\")","v":""},{"$f":"IF(AND($AA4<6,N4<>\"\",O4<>\"\"),ort($N4,$O4,$AY$4:$AZ$5),\"\")","v":""},{"$f":"IF(AND($AA4<6,N4<>\"\",O4<>\"\"),ort($N4,$O4,$AY$6:$AZ$7),\"\")","v":""},{"$f":"IF(AND($AA4=6,N4<>\"\",O4<>\"\"),ort($N4,$O4,$AY$8:$AZ$8),\"\")","v":""},{"$f":"IF(AND($AA4=7,N4<>\"\",O4<>\"\"),ort($N4,$O4,$AY$9:$AZ$9),\"\")","v":""},{"$f":"IF(AND($AA4<6,P4<>\"\",Q4<>\"\"),ort($P4,$Q4,$AY$3:$AZ$3),\"\")","v":""},{"$f":"IF(AND($AA4<6,P4<>\"\",Q4<>\"\"),ort($P4,$Q4,$AY$4:$AZ$5),\"\")","v":""},{"$f":"IF(AND($AA4<6,P4<>\"\",Q4<>\"\"),ort($P4,$Q4,$AY$6:$AZ$7),\"\")","v":""},{"$f":"IF(AND($AA4=6,P4<>\"\",Q4<>\"\"),ort($P4,$Q4,$AY$8:$AZ$8),\"\")","v":""},{"$f":"IF(AND($AA4=7,P4<>\"\",Q4<>\"\"),ort($P4,$Q4,$AY$9:$AZ$9),\"\")","v":""},{"$f":"IF(AND($AA4<6,R4<>\"\",S4<>\"\"),ort($R4,$S4,$AY$3:$AZ$3),\"\")","v":""},{"$f":"IF(AND($AA4<6,R4<>\"\",S4<>\"\"),ort($R4,$S4,$AY$4:$AZ$5),\"\")","v":""},{"$f":"IF(AND($AA4<6,R4<>\"\",S4<>\"\"),ort($R4,$S4,$AY$6:$AZ$7),\"\")","v":""},{"$f":"IF(AND($AA4=6,R4<>\"\",S4<>\"\"),ort($R4,$S4,$AY$8:$AZ$8),\"\")","v":""},{"$f":"IF(AND($AA4=7,R4<>\"\",S4<>\"\"),ort($R4,$S4,$AY$9:$AZ$9),\"\")","v":""},{"$f":"IF(AND($AA4<6,T4<>\"\",U4<>\"\"),ort($T4,$U4,$AY$3:$AZ$3),\"\")","v":""},{"$f":"IF(AND($AA4<6,T4<>\"\",U4<>\"\"),ort($T4,$U4,$AY$4:$AZ$5),\"\")","v":""},{"$f":"IF(AND($AA4<6,T4<>\"\",U4<>\"\"),ort($T4,$U4,$AY$6:$AZ$7),\"\")","v":""},{"$f":"IF(AND($AA4=6,T4<>\"\",U4<>\"\"),ort($T4,$U4,$AY$8:$AZ$8),\"\")","v":""},{"$f":"IF(AND($AA4=7,T4<>\"\",U4<>\"\"),ort($T4,$U4,$AY$9:$AZ$9),\"\")","v":""},null,1.25,"m-vr",0.25,0.3125,null,null,null,null,{"$f":"SUM(BB4/20/24,BC4:BD4)","v":"00:00:00"}]
[null,null,"Ma","Di","Wo","Do","Vr","Za","Zo","","",{"$f":"DATE($B$3,$B$4,3)","v":"2018-05-03"},{"$f":"DATE($B$3,$B$4,3)","v":"2018-05-03"},null,"00:00:00",null,null,null,null,null,null,"",{"$f":"IF(AND(AB5=\"\",AG5=\"\",AL5=\"\",AQ5=\"\"),\"\",SUM(AB5,AG5,AL5,AQ5))","v":""},"",{"$f":"IF(AND(AD5=\"\",AE5=\"\",AI5=\"\",AJ5=\"\",AN5=\"\",AO5=\"\",AS5=\"\",AT5=\"\"),\"\",SUM(AD5,AE5,AI5,AJ5,AN5,AO5,AS5,AT5))","v":""},{"$f":"IF(AND(AF5=\"\",AK5=\"\",AP5=\"\",AU5=\"\"),\"\",SUM(AF5,AK5,AP5,AU5))","v":""},{"$f":"IF(ISERROR(IF(NOT(ISERROR(MATCH($M5,Blad2!$A$2:$A$11,0))),7,WEEKDAY($M5,2))),\"\",IF(NOT(ISERROR(MATCH($M5,Blad2!$A$2:$A$11,0))),7,WEEKDAY($M5,2)))","v":4},{"$f":"IF(AND($AA5<6,N5<>\"\",O5<>\"\"),ort($N5,$O5,$AY$3:$AZ$3),\"\")","v":""},{"$f":"IF(AND($AA5<6,N5<>\"\",O5<>\"\"),ort($N5,$O5,$AY$4:$AZ$5),\"\")","v":""},{"$f":"IF(AND($AA5<6,N5<>\"\",O5<>\"\"),ort($N5,$O5,$AY$6:$AZ$7),\"\")","v":""},{"$f":"IF(AND($AA5=6,N5<>\"\",O5<>\"\"),ort($N5,$O5,$AY$8:$AZ$8),\"\")","v":""},{"$f":"IF(AND($AA5=7,N5<>\"\",O5<>\"\"),ort($N5,$O5,$AY$9:$AZ$9),\"\")","v":""},{"$f":"IF(AND($AA5<6,P5<>\"\",Q5<>\"\"),ort($P5,$Q5,$AY$3:$AZ$3),\"\")","v":""},{"$f":"IF(AND($AA5<6,P5<>\"\",Q5<>\"\"),ort($P5,$Q5,$AY$4:$AZ$5),\"\")","v":""},{"$f":"IF(AND($AA5<6,P5<>\"\",Q5<>\"\"),ort($P5,$Q5,$AY$6:$AZ$7),\"\")","v":""},{"$f":"IF(AND($AA5=6,P5<>\"\",Q5<>\"\"),ort($P5,$Q5,$AY$8:$AZ$8),\"\")","v":""},{"$f":"IF(AND($AA5=7,P5<>\"\",Q5<>\"\"),ort($P5,$Q5,$AY$9:$AZ$9),\"\")","v":""},{"$f":"IF(AND($AA5<6,R5<>\"\",S5<>\"\"),ort($R5,$S5,$AY$3:$AZ$3),\"\")","v":""},{"$f":"IF(AND($AA5<6,R5<>\"\",S5<>\"\"),ort($R5,$S5,$AY$4:$AZ$5),\"\")","v":""},{"$f":"IF(AND($AA5<6,R5<>\"\",S5<>\"\"),ort($R5,$S5,$AY$6:$AZ$7),\"\")","v":""},{"$f":"IF(AND($AA5=6,R5<>\"\",S5<>\"\"),ort($R5,$S5,$AY$8:$AZ$8),\"\")","v":""},{"$f":"IF(AND($AA5=7,R5<>\"\",S5<>\"\"),ort($R5,$S5,$AY$9:$AZ$9),\"\")","v":""},{"$f":"IF(AND($AA5<6,T5<>\"\",U5<>\"\"),ort($T5,$U5,$AY$3:$AZ$3),\"\")","v":""},{"$f":"IF(AND($AA5<6,T5<>\"\",U5<>\"\"),ort($T5,$U5,$AY$4:$AZ$5),\"\")","v":""},{"$f":"IF(AND($AA5<6,T5<>\"\",U5<>\"\"),ort($T5,$U5,$AY$6:$AZ$7),\"\")","v":""},{"$f":"IF(AND($AA5=6,T5<>\"\",U5<>\"\"),ort($T5,$U5,$AY$8:$AZ$8),\"\")","v":""},{"$f":"IF(AND($AA5=7,T5<>\"\",U5<>\"\"),ort($T5,$U5,$AY$9:$AZ$9),\"\")","v":""},null,1.25,"m-vr",0.72916666666666663,0.77083333333333337,null,null,null,null,"00:00:00"]
[null,null,{"$f":"IF(WEEKDAY(C4,2)=1,C4,\"\")","v":""},{"$f":"IF(WEEKDAY(C4,2)=2,C4,IF(C6<>\"\",C6+1,\"\"))","v":"2018-05-01"},{"$f":"IF(WEEKDAY(C4,2)=3,C4,IF(D6<>\"\",D6+1,\"\"))","v":"2018-05-02"},{"$f":"IF(WEEKDAY(C4,2)=4,C4,IF(E6<>\"\",E6+1,\"\"))","v":"2018-05-03"},{"$f":"IF(WEEKDAY(C4,2)=5,C4,IF(F6<>\"\",F6+1,\"\"))","v":"2018-05-04"},{"$f":"IF(WEEKDAY(C4,2)=6,C4,IF(G6<>\"\",G6+1,\"\"))","v":"2018-05-05"},{"$f":"IF(WEEKDAY(C4,2)=7,C4,IF(H6<>\"\",H6+1,\"\"))","v":"2018-05-06"},"","",{"$f":"DATE($B$3,$B$4,4)","v":"2018-05-04"},{"$f":"DATE($B$3,$B$4,4)","v":"2018-05-04"},null,"00:00:00",null,null,null,null,null,null,"","","","","",{"$f":"IF(ISERROR(IF(NOT(ISERROR(MATCH($M6,Blad2!$A$2:$A$11,0))),7,WEEKDAY($M6,2))),\"\",IF(NOT(ISERROR(MATCH($M6,Blad2!$A$2:$A$11,0))),7,WEEKDAY($M6,2)))","v":5},{"$f":"IF(AND($AA6<6,N6<>\"\",O6<>\"\"),ort($N6,$O6,$AY$3:$AZ$3),\"\")","v":""},{"$f":"IF(AND($AA6<6,N6<>\"\",O6<>\"\"),ort($N6,$O6,$AY$4:$AZ$5),\"\")","v":""},{"$f":"IF(AND($AA6<6,N6<>\"\",O6<>\"\"),ort($N6,$O6,$AY$6:$AZ$7),\"\")","v":""},{"$f":"IF(AND($AA6=6,N6<>\"\",O6<>\"\"),ort($N6,$O6,$AY$8:$AZ$8),\"\")","v":""},{"$f":"IF(AND($AA6=7,N6<>\"\",O6<>\"\"),ort($N6,$O6,$AY$9:$AZ$9),\"\")","v":""},{"$f":"IF(AND($AA6<6,P6<>\"\",Q6<>\"\"),ort($P6,$Q6,$AY$3:$AZ$3),\"\")","v":""},{"$f":"IF(AND($AA6<6,P6<>\"\",Q6<>\"\"),ort($P6,$Q6,$AY$4:$AZ$5),\"\")","v":""},{"$f":"IF(AND($AA6<6,P6<>\"\",Q6<>\"\"),ort($P6,$Q6,$AY$6:$AZ$7),\"\")","v":""},{"$f":"IF(AND($AA6=6,P6<>\"\",Q6<>\"\"),ort($P6,$Q6,$AY$8:$AZ$8),\"\")","v":""},{"$f":"IF(AND($AA6=7,P6<>\"\",Q6<>\"\"),ort($P6,$Q6,$AY$9:$AZ$9),\"\")","v":""},{"$f":"IF(AND($AA6<6,R6<>\"\",S6<>\"\"),ort($R6,$S6,$AY$3:$AZ$3),\"\")","v":""},{"$f":"IF(AND($AA6<6,R6<>\"\",S6<>\"\"),ort($R6,$S6,$AY$4:$AZ$5),\"\")","v":""},{"$f":"IF(AND($AA6<6,R6<>\"\",S6<>\"\"),ort($R6,$S6,$AY$6:$AZ$7),\"\")","v":""},{"$f":"IF(AND($AA6=6,R6<>\"\",S6<>\"\"),ort($R6,$S6,$AY$8:$AZ$8),\"\")","v":""},{"$f":"IF(AND($AA6=7,R6<>\"\",S6<>\"\"),ort($R6,$S6,$AY$9:$AZ$9),\"\")","v":""},{"$f":"IF(AND($AA6<6,T6<>\"\",U6<>\"\"),ort($T6,$U6,$AY$3:$AZ$3),\"\")","v":""},{"$f":"IF(AND($AA6<6,T6<>\"\",U6<>\"\"),ort($T6,$U6,$AY$4:$AZ$5),\"\")","v":""},{"$f":"IF(AND($AA6<6,T6<>\"\",U6<>\"\"),ort($T6,$U6,$AY$6:$AZ$7),\"\")","v":""},{"$f":"IF(AND($AA6=6,T6<>\"\",U6<>\"\"),ort($T6,$U6,$AY$8:$AZ$8),\"\")","v":""},{"$f":"IF(AND($AA6=7,T6<>\"\",U6<>\"\"),ort($T6,$U6,$AY$9:$AZ$9),\"\")","v":""},null,1.5,"m-vr",0,0.25,null,null,null,null,"00:00:00"]
[null,null,{"$f":"I6+1","v":"2018-05-07"},{"$f":"C7+1","v":"2018-05-08"},{"$f":"D7+1","v":"2018-05-09"},"2018-05-10","2018-05-11","2018-05-12","2018-05-13","","",{"$f":"DATE($B$3,$B$4,5)","v":"2018-05-05"},{"$f":"DATE($B$3,$B$4,5)","v":"2018-05-05"},null,"00:00:00",null,null,null,null,null,null,"","","","","",{"$f":"IF(ISERROR(IF(NOT(ISERROR(MATCH($M7,Blad2!$A$2:$A$11,0))),7,WEEKDAY($M7,2))),\"\",IF(NOT(ISERROR(MATCH($M7,Blad2!$A$2:$A$11,0))),7,WEEKDAY($M7,2)))","v":6},{"$f":"IF(AND($AA7<6,N7<>\"\",O7<>\"\"),ort($N7,$O7,$AY$3:$AZ$3),\"\")","v":""},{"$f":"IF(AND($AA7<6,N7<>\"\",O7<>\"\"),ort($N7,$O7,$AY$4:$AZ$5),\"\")","v":""},{"$f":"IF(AND($AA7<6,N7<>\"\",O7<>\"\"),ort($N7,$O7,$AY$6:$AZ$7),\"\")","v":""},{"$f":"IF(AND($AA7=6,N7<>\"\",O7<>\"\"),ort($N7,$O7,$AY$8:$AZ$8),\"\")","v":""},{"$f":"IF(AND($AA7=7,N7<>\"\",O7<>\"\"),ort($N7,$O7,$AY$9:$AZ$9),\"\")","v":""},{"$f":"IF(AND($AA7<6,P7<>\"\",Q7<>\"\"),ort($P7,$Q7,$AY$3:$AZ$3),\"\")","v":""},{"$f":"IF(AND($AA7<6,P7<>\"\",Q7<>\"\"),ort($P7,$Q7,$AY$4:$AZ$5),\"\")","v":""},{"$f":"IF(AND($AA7<6,P7<>\"\",Q7<>\"\"),ort($P7,$Q7,$AY$6:$AZ$7),\"\")","v":""},{"$f":"IF(AND($AA7=6,P7<>\"\",Q7<>\"\"),ort($P7,$Q7,$AY$8:$AZ$8),\"\")","v":""},{"$f":"IF(AND($AA7=7,P7<>\"\",Q7<>\"\"),ort($P7,$Q7,$AY$9:$AZ$9),\"\")","v":""},{"$f":"IF(AND($AA7<6,R7<>\"\",S7<>\"\"),ort($R7,$S7,$AY$3:$AZ$3),\"\")","v":""},{"$f":"IF(AND($AA7<6,R7<>\"\",S7<>\"\"),ort($R7,$S7,$AY$4:$AZ$5),\"\")","v":""},{"$f":"IF(AND($AA7<6,R7<>\"\",S7<>\"\"),ort($R7,$S7,$AY$6:$AZ$7),\"\")","v":""},{"$f":"IF(AND($AA7=6,R7<>\"\",S7<>\"\"),ort($R7,$S7,$AY$8:$AZ$8),\"\")","v":""},{"$f":"IF(AND($AA7=7,R7<>\"\",S7<>\"\"),ort($R7,$S7,$AY$9:$AZ$9),\"\")","v":""},{"$f":"IF(AND($AA7<6,T7<>\"\",U7<>\"\"),ort($T7,$U7,$AY$3:$AZ$3),\"\")","v":""},{"$f":"IF(AND($AA7<6,T7<>\"\",U7<>\"\"),ort($T7,$U7,$AY$4:$AZ$5),\"\")","v":""},{"$f":"IF(AND($AA7<6,T7<>\"\",U7<>\"\"),ort($T7,$U7,$AY$6:$AZ$7),\"\")","v":""},{"$f":"IF(AND($AA7=6,T7<>\"\",U7<>\"\"),ort($T7,$U7,$AY$8:$AZ$8),\"\")","v":""},{"$f":"IF(AND($AA7=7,T7<>\"\",U7<>\"\"),ort($T7,$U7,$AY$9:$AZ$9),\"\")","v":""},null,1.5,"m-vr",0.77083333333333337,1,null,null,null,null,{"$f":"SUM(BB7/18/24,BC7:BD7)","v":"00:00:00"}]
[null,null,{"$f":"I7+1","v":"2018-05-14"},{"$f":"C8+1","v":"2018-05-15"},"2018-05-16","2018-05-17","2018-05-18","2018-05-19","2018-05-20","","",{"$f":"DATE($B$3,$B$4,6)","v":"2018-05-06"},{"$f":"DATE($B$3,$B$4,6)","v":"2018-05-06"},null,"00:00:00",null,null,null,null,null,null,"","","","","",{"$f":"IF(ISERROR(IF(NOT(ISERROR(MATCH($M8,Blad2!$A$2:$A$11,0))),7,WEEKDAY($M8,2))),\"\",IF(NOT(ISERROR(MATCH($M8,Blad2!$A$2:$A$11,0))),7,WEEKDAY($M8,2)))","v":7},{"$f":"IF(AND($AA8<6,N8<>\"\",O8<>\"\"),ort($N8,$O8,$AY$3:$AZ$3),\"\")","v":""},{"$f":"IF(AND($AA8<6,N8<>\"\",O8<>\"\"),ort($N8,$O8,$AY$4:$AZ$5),\"\")","v":""},{"$f":"IF(AND($AA8<6,N8<>\"\",O8<>\"\"),ort($N8,$O8,$AY$6:$AZ$7),\"\")","v":""},{"$f":"IF(AND($AA8=6,N8<>\"\",O8<>\"\"),ort($N8,$O8,$AY$8:$AZ$8),\"\")","v":""},{"$f":"IF(AND($AA8=7,N8<>\"\",O8<>\"\"),ort($N8,$O8,$AY$9:$AZ$9),\"\")","v":""},{"$f":"IF(AND($AA8<6,P8<>\"\",Q8<>\"\"),ort($P8,$Q8,$AY$3:$AZ$3),\"\")","v":""},{"$f":"IF(AND($AA8<6,P8<>\"\",Q8<>\"\"),ort($P8,$Q8,$AY$4:$AZ$5),\"\")","v":""},{"$f":"IF(AND($AA8<6,P8<>\"\",Q8<>\"\"),ort($P8,$Q8,$AY$6:$AZ$7),\"\")","v":""},{"$f":"IF(AND($AA8=6,P8<>\"\",Q8<>\"\"),ort($P8,$Q8,$AY$8:$AZ$8),\"\")","v":""},{"$f":"IF(AND($AA8=7,P8<>\"\",Q8<>\"\"),ort($P8,$Q8,$AY$9:$AZ$9),\"\")","v":""},{"$f":"IF(AND($AA8<6,R8<>\"\",S8<>\"\"),ort($R8,$S8,$AY$3:$AZ$3),\"\")","v":""},{"$f":"IF(AND($AA8<6,R8<>\"\",S8<>\"\"),ort($R8,$S8,$AY$4:$AZ$5),\"\")","v":""},{"$f":"IF(AND($AA8<6,R8<>\"\",S8<>\"\"),ort($R8,$S8,$AY$6:$AZ$7),\"\")","v":""},{"$f":"IF(AND($AA8=6,R8<>\"\",S8<>\"\"),ort($R8,$S8,$AY$8:$AZ$8),\"\")","v":""},{"$f":"IF(AND($AA8=7,R8<>\"\",S8<>\"\"),ort($R8,$S8,$AY$9:$AZ$9),\"\")","v":""},{"$f":"IF(AND($AA8<6,T8<>\"\",U8<>\"\"),ort($T8,$U8,$AY$3:$AZ$3),\"\")","v":""},{"$f":"IF(AND($AA8<6,T8<>\"\",U8<>\"\"),ort($T8,$U8,$AY$4:$AZ$5),\"\")","v":""},{"$f":"IF(AND($AA8<6,T8<>\"\",U8<>\"\"),ort($T8,$U8,$AY$6:$AZ$7),\"\")","v":""},{"$f":"IF(AND($AA8=6,T8<>\"\",U8<>\"\"),ort($T8,$U8,$AY$8:$AZ$8),\"\")","v":""},{"$f":"IF(AND($AA8=7,T8<>\"\",U8<>\"\"),ort($T8,$U8,$AY$9:$AZ$9),\"\")","v":""},null,1.5,"za",0,1,null,null,null,null,{"$f":"SUM(BB8/19/24,BC8:BD8)","v":"00:00:00"}]
[null,null,{"$f":"I8+1","v":"2018-05-21"},{"$f":"C9+1","v":"2018-05-22"},"2018-05-23","2018-05-24","2018-05-25","2018-05-26","2018-05-27","",19,{"$f":"DATE($B$3,$B$4,7)","v":"2018-05-07"},{"$f":"DATE($B$3,$B$4,7)","v":"2018-05-07"},null,"00:00:00",null,null,null,null,null,null,"","","","","",{"$f":"IF(ISERROR(IF(NOT(ISERROR(MATCH($M9,Blad2!$A$2:$A$11,0))),7,WEEKDAY($M9,2))),\"\",IF(NOT(ISERROR(MATCH($M9,Blad2!$A$2:$A$11,0))),7,WEEKDAY($M9,2)))","v":1},{"$f":"IF(AND($AA9<6,N9<>\"\",O9<>\"\"),ort($N9,$O9,$AY$3:$AZ$3),\"\")","v":""},{"$f":"IF(AND($AA9<6,N9<>\"\",O9<>\"\"),ort($N9,$O9,$AY$4:$AZ$5),\"\")","v":""},{"$f":"IF(AND($AA9<6,N9<>\"\",O9<>\"\"),ort($N9,$O9,$AY$6:$AZ$7),\"\")","v":""},{"$f":"IF(AND($AA9=6,N9<>\"\",O9<>\"\"),ort($N9,$O9,$AY$8:$AZ$8),\"\")","v":""},{"$f":"IF(AND($AA9=7,N9<>\"\",O9<>\"\"),ort($N9,$O9,$AY$9:$AZ$9),\"\")","v":""},{"$f":"IF(AND($AA9<6,P9<>\"\",Q9<>\"\"),ort($P9,$Q9,$AY$3:$AZ$3),\"\")","v":""},{"$f":"IF(AND($AA9<6,P9<>\"\",Q9<>\"\"),ort($P9,$Q9,$AY$4:$AZ$5),\"\")","v":""},{"$f":"IF(AND($AA9<6,P9<>\"\",Q9<>\"\"),ort($P9,$Q9,$AY$6:$AZ$7),\"\")","v":""},{"$f":"IF(AND($AA9=6,P9<>\"\",Q9<>\"\"),ort($P9,$Q9,$AY$8:$AZ$8),\"\")","v":""},{"$f":"IF(AND($AA9=7,P9<>\"\",Q9<>\"\"),ort($P9,$Q9,$AY$9:$AZ$9),\"\")","v":""},{"$f":"IF(AND($AA9<6,R9<>\"\",S9<>\"\"),ort($R9,$S9,$AY$3:$AZ$3),\"\")","v":""},{"$f":"IF(AND($AA9<6,R9<>\"\",S9<>\"\"),ort($R9,$S9,$AY$4:$AZ$5),\"\")","v":""},{"$f":"IF(AND($AA9<6,R9<>\"\",S9<>\"\"),ort($R9,$S9,$AY$6:$AZ$7),\"\")","v":""},{"$f":"IF(AND($AA9=6,R9<>\"\",S9<>\"\"),ort($R9,$S9,$AY$8:$AZ$8),\"\")","v":""},{"$f":"IF(AND($AA9=7,R9<>\"\",S9<>\"\"),ort($R9,$S9,$AY$9:$AZ$9),\"\")","v":""},{"$f":"IF(AND($AA9<6,T9<>\"\",U9<>\"\"),ort($T9,$U9,$AY$3:$AZ$3),\"\")","v":""},{"$f":"IF(AND($AA9<6,T9<>\"\",U9<>\"\"),ort($T9,$U9,$AY$4:$AZ$5),\"\")","v":""},{"$f":"IF(AND($AA9<6,T9<>\"\",U9<>\"\"),ort($T9,$U9,$AY$6:$AZ$7),\"\")","v":""},{"$f":"IF(AND($AA9=6,T9<>\"\",U9<>\"\"),ort($T9,$U9,$AY$8:$AZ$8),\"\")","v":""},{"$f":"IF(AND($AA9=7,T9<>\"\",U9<>\"\"),ort($T9,$U9,$AY$9:$AZ$9),\"\")","v":""},null,2,"zo/feest",0,1,null,null,null,null,{"$f":"SUM(BB9/19/24,BC9:BD9)","v":"00:00:00"}]
[null,null,{"$f":"IF(I9=\"\",\"\",IF(MONTH(I9+1)=MONTH(I9),I9+1,\"\"))","v":"2018-05-28"},{"$f":"IF(C10=\"\",\"\",IF(MONTH(C10+1)=MONTH(C10),C10+1,\"\"))","v":"2018-05-29"},{"$f":"IF(D10=\"\",\"\",IF(MONTH(D10+1)=MONTH(D10),D10+1,\"\"))","v":"2018-05-30"},"2018-05-31","","","","","",{"$f":"DATE($B$3,$B$4,8)","v":"2018-05-08"},{"$f":"DATE($B$3,$B$4,8)","v":"2018-05-08"},null,"00:00:00",null,null,null,null,null,null,"","","","","",{"$f":"IF(ISERROR(IF(NOT(ISERROR(MATCH($M10,Blad2!$A$2:$A$11,0))),7,WEEKDAY($M10,2))),\"\",IF(NOT(ISERROR(MATCH($M10,Blad2!$A$2:$A$11,0))),7,WEEKDAY($M10,2)))","v":2},{"$f":"IF(AND($AA10<6,N10<>\"\",O10<>\"\"),ort($N10,$O10,$AY$3:$AZ$3),\"\")","v":""},{"$f":"IF(AND($AA10<6,N10<>\"\",O10<>\"\"),ort($N10,$O10,$AY$4:$AZ$5),\"\")","v":""},{"$f":"IF(AND($AA10<6,N10<>\"\",O10<>\"\"),ort($N10,$O10,$AY$6:$AZ$7),\"\")","v":""},{"$f":"IF(AND($AA10=6,N10<>\"\",O10<>\"\"),ort($N10,$O10,$AY$8:$AZ$8),\"\")","v":""},{"$f":"IF(AND($AA10=7,N10<>\"\",O10<>\"\"),ort($N10,$O10,$AY$9:$AZ$9),\"\")","v":""},{"$f":"IF(AND($AA10<6,P10<>\"\",Q10<>\"\"),ort($P10,$Q10,$AY$3:$AZ$3),\"\")","v":""},{"$f":"IF(AND($AA10<6,P10<>\"\",Q10<>\"\"),ort($P10,$Q10,$AY$4:$AZ$5),\"\")","v":""},{"$f":"IF(AND($AA10<6,P10<>\"\",Q10<>\"\"),ort($P10,$Q10,$AY$6:$AZ$7),\"\")","v":""},{"$f":"IF(AND($AA10=6,P10<>\"\",Q10<>\"\"),ort($P10,$Q10,$AY$8:$AZ$8),\"\")","v":""},{"$f":"IF(AND($AA10=7,P10<>\"\",Q10<>\"\"),ort($P10,$Q10,$AY$9:$AZ$9),\"\")","v":""},{"$f":"IF(AND($AA10<6,R10<>\"\",S10<>\"\"),ort($R10,$S10,$AY$3:$AZ$3),\"\")","v":""},{"$f":"IF(AND($AA10<6,R10<>\"\",S10<>\"\"),ort($R10,$S10,$AY$4:$AZ$5),\"\")","v":""},{"$f":"IF(AND($AA10<6,R10<>\"\",S10<>\"\"),ort($R10,$S10,$AY$6:$AZ$7),\"\")","v":""},{"$f":"IF(AND($AA10=6,R10<>\"\",S10<>\"\"),ort($R10,$S10,$AY$8:$AZ$8),\"\")","v":""},{"$f":"IF(AND($AA10=7,R10<>\"\",S10<>\"\"),ort($R10,$S10,$AY$9:$AZ$9),\"\")","v":""},{"$f":"IF(AND($AA10<6,T10<>\"\",U10<>\"\"),ort($T10,$U10,$AY$3:$AZ$3),\"\")","v":""},{"$f":"IF(AND($AA10<6,T10<>\"\",U10<>\"\"),ort($T10,$U10,$AY$4:$AZ$5),\"\")","v":""},{"$f":"IF(AND($AA10<6,T10<>\"\",U10<>\"\"),ort($T10,$U10,$AY$6:$AZ$7),\"\")","v":""},{"$f":"IF(AND($AA10=6,T10<>\"\",U10<>\"\"),ort($T10,$U10,$AY$8:$AZ$8),\"\")","v":""},{"$f":"IF(AND($AA10=7,T10<>\"\",U10<>\"\"),ort($T10,$U10,$AY$9:$AZ$9),\"\")","v":""},null,null,null,null,null,null,null,null,null,{"$f":"SUM(BB10/18/24,BC10:BD10)","v":"00:00:00"}]
[null,null,{"$f":"IF(I10=\"\",\"\",IF(MONTH(I10+1)=MONTH(I10),I10+1,\"\"))","v":""},{"$f":"IF(C11=\"\",\"\",IF(MONTH(C11+1)=MONTH(C11),C11+1,\"\"))","v":""},"","","","","","","",{"$f":"DATE($B$3,$B$4,9)","v":"2018-05-09"},{"$f":"DATE($B$3,$B$4,9)","v":"2018-05-09"},null,"00:00:00",null,null,null,null,null,null,"","","","","",{"$f":"IF(ISERROR(IF(NOT(ISERROR(MATCH($M11,Blad2!$A$2:$A$11,0))),7,WEEKDAY($M11,2))),\"\",IF(NOT(ISERROR(MATCH($M11,Blad2!$A$2:$A$11,0))),7,WEEKDAY($M11,2)))","v":3},{"$f":"IF(AND($AA11<6,N11<>\"\",O11<>\"\"),ort($N11,$O11,$AY$3:$AZ$3),\"\")","v":""},{"$f":"IF(AND($AA11<6,N11<>\"\",O11<>\"\"),ort($N11,$O11,$AY$4:$AZ$5),\"\")","v":""},{"$f":"IF(AND($AA11<6,N11<>\"\",O11<>\"\"),ort($N11,$O11,$AY$6:$AZ$7),\"\")","v":""},{"$f":"IF(AND($AA11=6,N11<>\"\",O11<>\"\"),ort($N11,$O11,$AY$8:$AZ$8),\"\")","v":""},{"$f":"IF(AND($AA11=7,N11<>\"\",O11<>\"\"),ort($N11,$O11,$AY$9:$AZ$9),\"\")","v":""},{"$f":"IF(AND($AA11<6,P11<>\"\",Q11<>\"\"),ort($P11,$Q11,$AY$3:$AZ$3),\"\")","v":""},{"$f":"IF(AND($AA11<6,P11<>\"\",Q11<>\"\"),ort($P11,$Q11,$AY$4:$AZ$5),\"\")","v":""},{"$f":"IF(AND($AA11<6,P11<>\"\",Q11<>\"\"),ort($P11,$Q11,$AY$6:$AZ$7),\"\")","v":""},{"$f":"IF(AND($AA11=6,P11<>\"\",Q11<>\"\"),ort($P11,$Q11,$AY$8:$AZ$8),\"\")","v":""},{"$f":"IF(AND($AA11=7,P11<>\"\",Q11<>\"\"),ort($P11,$Q11,$AY$9:$AZ$9),\"\")","v":""},{"$f":"IF(AND($AA11<6,R11<>\"\",S11<>\"\"),ort($R11,$S11,$AY$3:$AZ$3),\"\")","v":""},{"$f":"IF(AND($AA11<6,R11<>\"\",S11<>\"\"),ort($R11,$S11,$AY$4:$AZ$5),\"\")","v":""},{"$f":"IF(AND($AA11<6,R11<>\"\",S11<>\"\"),ort($R11,$S11,$AY$6:$AZ$7),\"\")","v":""},{"$f":"IF(AND($AA11=6,R11<>\"\",S11<>\"\"),ort($R11,$S11,$AY$8:$AZ$8),\"\")","v":""},{"$f":"IF(AND($AA11=7,R11<>\"\",S11<>\"\"),ort($R11,$S11,$AY$9:$AZ$9),\"\")","v":""},{"$f":"IF(AND($AA11<6,T11<>\"\",U11<>\"\"),ort($T11,$U11,$AY$3:$AZ$3),\"\")","v":""},{"$f":"IF(AND($AA11<6,T11<>\"\",U11<>\"\"),ort($T11,$U11,$AY$4:$AZ$5),\"\")","v":""},{"$f":"IF(AND($AA11<6,T11<>\"\",U11<>\"\"),ort($T11,$U11,$AY$6:$AZ$7),\"\")","v":""},{"$f":"IF(AND($AA11=6,T11<>\"\",U11<>\"\"),ort($T11,$U11,$AY$8:$AZ$8),\"\")","v":""},{"$f":"IF(AND($AA11=7,T11<>\"\",U11<>\"\"),ort($T11,$U11,$AY$9:$AZ$9),\"\")","v":""},null,null,null,null,null,null,null,null,null,"00:00:00"]
[null,null,null,null,null,null,null,null,null,"","",{"$f":"DATE($B$3,$B$4,10)","v":"2018-05-10"},{"$f":"DATE($B$3,$B$4,10)","v":"2018-05-10"},null,"00:00:00",null,null,null,null,null,null,"","","","","",{"$f":"IF(ISERROR(IF(NOT(ISERROR(MATCH($M12,Blad2!$A$2:$A$11,0))),7,WEEKDAY($M12,2))),\"\",IF(NOT(ISERROR(MATCH($M12,Blad2!$A$2:$A$11,0))),7,WEEKDAY($M12,2)))","v":4},{"$f":"IF(AND($AA12<6,N12<>\"\",O12<>\"\"),ort($N12,$O12,$AY$3:$AZ$3),\"\")","v":""},{"$f":"IF(AND($AA12<6,N12<>\"\",O12<>\"\"),ort($N12,$O12,$AY$4:$AZ$5),\"\")","v":""},{"$f":"IF(AND($AA12<6,N12<>\"\",O12<>\"\"),ort($N12,$O12,$AY$6:$AZ$7),\"\")","v":""},{"$f":"IF(AND($AA12=6,N12<>\"\",O12<>\"\"),ort($N12,$O12,$AY$8:$AZ$8),\"\")","v":""},{"$f":"IF(AND($AA12=7,N12<>\"\",O12<>\"\"),ort($N12,$O12,$AY$9:$AZ$9),\"\")","v":""},{"$f":"IF(AND($AA12<6,P12<>\"\",Q12<>\"\"),ort($P12,$Q12,$AY$3:$AZ$3),\"\")","v":""},{"$f":"IF(AND($AA12<6,P12<>\"\",Q12<>\"\"),ort($P12,$Q12,$AY$4:$AZ$5),\"\")","v":""},{"$f":"IF(AND($AA12<6,P12<>\"\",Q12<>\"\"),ort($P12,$Q12,$AY$6:$AZ$7),\"\")","v":""},{"$f":"IF(AND($AA12=6,P12<>\"\",Q12<>\"\"),ort($P12,$Q12,$AY$8:$AZ$8),\"\")","v":""},{"$f":"IF(AND($AA12=7,P12<>\"\",Q12<>\"\"),ort($P12,$Q12,$AY$9:$AZ$9),\"\")","v":""},{"$f":"IF(AND($AA12<6,R12<>\"\",S12<>\"\"),ort($R12,$S12,$AY$3:$AZ$3),\"\")","v":""},{"$f":"IF(AND($AA12<6,R12<>\"\",S12<>\"\"),ort($R12,$S12,$AY$4:$AZ$5),\"\")","v":""},{"$f":"IF(AND($AA12<6,R12<>\"\",S12<>\"\"),ort($R12,$S12,$AY$6:$AZ$7),\"\")","v":""},{"$f":"IF(AND($AA12=6,R12<>\"\",S12<>\"\"),ort($R12,$S12,$AY$8:$AZ$8),\"\")","v":""},{"$f":"IF(AND($AA12=7,R12<>\"\",S12<>\"\"),ort($R12,$S12,$AY$9:$AZ$9),\"\")","v":""},{"$f":"IF(AND($AA12<6,T12<>\"\",U12<>\"\"),ort($T12,$U12,$AY$3:$AZ$3),\"\")","v":""},{"$f":"IF(AND($AA12<6,T12<>\"\",U12<>\"\"),ort($T12,$U12,$AY$4:$AZ$5),\"\")","v":""},{"$f":"IF(AND($AA12<6,T12<>\"\",U12<>\"\"),ort($T12,$U12,$AY$6:$AZ$7),\"\")","v":""},{"$f":"IF(AND($AA12=6,T12<>\"\",U12<>\"\"),ort($T12,$U12,$AY$8:$AZ$8),\"\")","v":""},{"$f":"IF(AND($AA12=7,T12<>\"\",U12<>\"\"),ort($T12,$U12,$AY$9:$AZ$9),\"\")","v":""},null,null,null,null,null,null,null,null,null,"00:00:00"]
[null,"Werkdagen deze maand",null,null,null,null,null,null,null,"","",{"$f":"DATE($B$3,$B$4,11)","v":"2018-05-11"},{"$f":"DATE($B$3,$B$4,11)","v":"2018-05-11"},null,"00:00:00",null,null,null,null,null,null,"","","","","",{"$f":"IF(ISERROR(IF(NOT(ISERROR(MATCH($M13,Blad2!$A$2:$A$11,0))),7,WEEKDAY($M13,2))),\"\",IF(NOT(ISERROR(MATCH($M13,Blad2!$A$2:$A$11,0))),7,WEEKDAY($M13,2)))","v":5},{"$f":"IF(AND($AA13<6,N13<>\"\",O13<>\"\"),ort($N13,$O13,$AY$3:$AZ$3),\"\")","v":""},{"$f":"IF(AND($AA13<6,N13<>\"\",O13<>\"\"),ort($N13,$O13,$AY$4:$AZ$5),\"\")","v":""},{"$f":"IF(AND($AA13<6,N13<>\"\",O13<>\"\"),ort($N13,$O13,$AY$6:$AZ$7),\"\")","v":""},{"$f":"IF(AND($AA13=6,N13<>\"\",O13<>\"\"),ort($N13,$O13,$AY$8:$AZ$8),\"\")","v":""},{"$f":"IF(AND($AA13=7,N13<>\"\",O13<>\"\"),ort($N13,$O13,$AY$9:$AZ$9),\"\")","v":""},{"$f":"IF(AND($AA13<6,P13<>\"\",Q13<>\"\"),ort($P13,$Q13,$AY$3:$AZ$3),\"\")","v":""},{"$f":"IF(AND($AA13<6,P13<>\"\",Q13<>\"\"),ort($P13,$Q13,$AY$4:$AZ$5),\"\")","v":""},{"$f":"IF(AND($AA13<6,P13<>\"\",Q13<>\"\"),ort($P13,$Q13,$AY$6:$AZ$7),\"\")","v":""},{"$f":"IF(AND($AA13=6,P13<>\"\",Q13<>\"\"),ort($P13,$Q13,$AY$8:$AZ$8),\"\")","v":""},{"$f":"IF(AND($AA13=7,P13<>\"\",Q13<>\"\"),ort($P13,$Q13,$AY$9:$AZ$9),\"\")","v":""},{"$f":"IF(AND($AA13<6,R13<>\"\",S13<>\"\"),ort($R13,$S13,$AY$3:$AZ$3),\"\")","v":""},{"$f":"IF(AND($AA13<6,R13<>\"\",S13<>\"\"),ort($R13,$S13,$AY$4:$AZ$5),\"\")","v":""},{"$f":"IF(AND($AA13<6,R13<>\"\",S13<>\"\"),ort($R13,$S13,$AY$6:$AZ$7),\"\")","v":""},{"$f":"IF(AND($AA13=6,R13<>\"\",S13<>\"\"),ort($R13,$S13,$AY$8:$AZ$8),\"\")","v":""},{"$f":"IF(AND($AA13=7,R13<>\"\",S13<>\"\"),ort($R13,$S13,$AY$9:$AZ$9),\"\")","v":""},{"$f":"IF(AND($AA13<6,T13<>\"\",U13<>\"\"),ort($T13,$U13,$AY$3:$AZ$3),\"\")","v":""},{"$f":"IF(AND($AA13<6,T13<>\"\",U13<>\"\"),ort($T13,$U13,$AY$4:$AZ$5),\"\")","v":""},{"$f":"IF(AND($AA13<6,T13<>\"\",U13<>\"\"),ort($T13,$U13,$AY$6:$AZ$7),\"\")","v":""},{"$f":"IF(AND($AA13=6,T13<>\"\",U13<>\"\"),ort($T13,$U13,$AY$8:$AZ$8),\"\")","v":""},{"$f":"IF(AND($AA13=7,T13<>\"\",U13<>\"\"),ort($T13,$U13,$AY$9:$AZ$9),\"\")","v":""},null,null,null,null,null,null,null,null,null,"00:00:00"]
[null,{"$f":"NETWORKDAYS($L$3,EOMONTH($L$3,0),Blad2!A2:A97)&\" dagen\"","v":"22 dagen"},null,null,null,null,null,null,null,"","",{"$f":"DATE($B$3,$B$4,12)","v":"2018-05-12"},{"$f":"DATE($B$3,$B$4,12)","v":"2018-05-12"},null,"00:00:00",null,null,null,null,null,null,"","","","","",{"$f":"IF(ISERROR(IF(NOT(ISERROR(MATCH($M14,Blad2!$A$2:$A$11,0))),7,WEEKDAY($M14,2))),\"\",IF(NOT(ISERROR(MATCH($M14,Blad2!$A$2:$A$11,0))),7,WEEKDAY($M14,2)))","v":6},{"$f":"IF(AND($AA14<6,N14<>\"\",O14<>\"\"),ort($N14,$O14,$AY$3:$AZ$3),\"\")","v":""},{"$f":"IF(AND($AA14<6,N14<>\"\",O14<>\"\"),ort($N14,$O14,$AY$4:$AZ$5),\"\")","v":""},{"$f":"IF(AND($AA14<6,N14<>\"\",O14<>\"\"),ort($N14,$O14,$AY$6:$AZ$7),\"\")","v":""},{"$f":"IF(AND($AA14=6,N14<>\"\",O14<>\"\"),ort($N14,$O14,$AY$8:$AZ$8),\"\")","v":""},{"$f":"IF(AND($AA14=7,N14<>\"\",O14<>\"\"),ort($N14,$O14,$AY$9:$AZ$9),\"\")","v":""},{"$f":"IF(AND($AA14<6,P14<>\"\",Q14<>\"\"),ort($P14,$Q14,$AY$3:$AZ$3),\"\")","v":""},{"$f":"IF(AND($AA14<6,P14<>\"\",Q14<>\"\"),ort($P14,$Q14,$AY$4:$AZ$5),\"\")","v":""},{"$f":"IF(AND($AA14<6,P14<>\"\",Q14<>\"\"),ort($P14,$Q14,$AY$6:$AZ$7),\"\")","v":""},{"$f":"IF(AND($AA14=6,P14<>\"\",Q14<>\"\"),ort($P14,$Q14,$AY$8:$AZ$8),\"\")","v":""},{"$f":"IF(AND($AA14=7,P14<>\"\",Q14<>\"\"),ort($P14,$Q14,$AY$9:$AZ$9),\"\")","v":""},{"$f":"IF(AND($AA14<6,R14<>\"\",S14<>\"\"),ort($R14,$S14,$AY$3:$AZ$3),\"\")","v":""},{"$f":"IF(AND($AA14<6,R14<>\"\",S14<>\"\"),ort($R14,$S14,$AY$4:$AZ$5),\"\")","v":""},{"$f":"IF(AND($AA14<6,R14<>\"\",S14<>\"\"),ort($R14,$S14,$AY$6:$AZ$7),\"\")","v":""},{"$f":"IF(AND($AA14=6,R14<>\"\",S14<>\"\"),ort($R14,$S14,$AY$8:$AZ$8),\"\")","v":""},{"$f":"IF(AND($AA14=7,R14<>\"\",S14<>\"\"),ort($R14,$S14,$AY$9:$AZ$9),\"\")","v":""},{"$f":"IF(AND($AA14<6,T14<>\"\",U14<>\"\"),ort($T14,$U14,$AY$3:$AZ$3),\"\")","v":""},{"$f":"IF(AND($AA14<6,T14<>\"\",U14<>\"\"),ort($T14,$U14,$AY$4:$AZ$5),\"\")","v":""},{"$f":"IF(AND($AA14<6,T14<>\"\",U14<>\"\"),ort($T14,$U14,$AY$6:$AZ$7),\"\")","v":""},{"$f":"IF(AND($AA14=6,T14<>\"\",U14<>\"\"),ort($T14,$U14,$AY$8:$AZ$8),\"\")","v":""},{"$f":"IF(AND($AA14=7,T14<>\"\",U14<>\"\"),ort($T14,$U14,$AY$9:$AZ$9),\"\")","v":""},null,null,null,null,null,null,null,null,null,"00:00:00"]
[null,null,null,null,null,null,null,null,null,"","",{"$f":"DATE($B$3,$B$4,13)","v":"2018-05-13"},{"$f":"DATE($B$3,$B$4,13)","v":"2018-05-13"},null,"00:00:00",null,null,null,null,null,null,"","","","","",{"$f":"IF(ISERROR(IF(NOT(ISERROR(MATCH($M15,Blad2!$A$2:$A$11,0))),7,WEEKDAY($M15,2))),\"\",IF(NOT(ISERROR(MATCH($M15,Blad2!$A$2:$A$11,0))),7,WEEKDAY($M15,2)))","v":7},{"$f":"IF(AND($AA15<6,N15<>\"\",O15<>\"\"),ort($N15,$O15,$AY$3:$AZ$3),\"\")","v":""},{"$f":"IF(AND($AA15<6,N15<>\"\",O15<>\"\"),ort($N15,$O15,$AY$4:$AZ$5),\"\")","v":""},{"$f":"IF(AND($AA15<6,N15<>\"\",O15<>\"\"),ort($N15,$O15,$AY$6:$AZ$7),\"\")","v":""},{"$f":"IF(AND($AA15=6,N15<>\"\",O15<>\"\"),ort($N15,$O15,$AY$8:$AZ$8),\"\")","v":""},{"$f":"IF(AND($AA15=7,N15<>\"\",O15<>\"\"),ort($N15,$O15,$AY$9:$AZ$9),\"\")","v":""},{"$f":"IF(AND($AA15<6,P15<>\"\",Q15<>\"\"),ort($P15,$Q15,$AY$3:$AZ$3),\"\")","v":""},{"$f":"IF(AND($AA15<6,P15<>\"\",Q15<>\"\"),ort($P15,$Q15,$AY$4:$AZ$5),\"\")","v":""},{"$f":"IF(AND($AA15<6,P15<>\"\",Q15<>\"\"),ort($P15,$Q15,$AY$6:$AZ$7),\"\")","v":""},{"$f":"IF(AND($AA15=6,P15<>\"\",Q15<>\"\"),ort($P15,$Q15,$AY$8:$AZ$8),\"\")","v":""},{"$f":"IF(AND($AA15=7,P15<>\"\",Q15<>\"\"),ort($P15,$Q15,$AY$9:$AZ$9),\"\")","v":""},{"$f":"IF(AND($AA15<6,R15<>\"\",S15<>\"\"),ort($R15,$S15,$AY$3:$AZ$3),\"\")","v":""},{"$f":"IF(AND($AA15<6,R15<>\"\",S15<>\"\"),ort($R15,$S15,$AY$4:$AZ$5),\"\")","v":""},{"$f":"IF(AND($AA15<6,R15<>\"\",S15<>\"\"),ort($R15,$S15,$AY$6:$AZ$7),\"\")","v":""},{"$f":"IF(AND($AA15=6,R15<>\"\",S15<>\"\"),ort($R15,$S15,$AY$8:$AZ$8),\"\")","v":""},{"$f":"IF(AND($AA15=7,R15<>\"\",S15<>\"\"),ort($R15,$S15,$AY$9:$AZ$9),\"\")","v":""},{"$f":"IF(AND($AA15<6,T15<>\"\",U15<>\"\"),ort($T15,$U15,$AY$3:$AZ$3),\"\")","v":""},{"$f":"IF(AND($AA15<6,T15<>\"\",U15<>\"\"),ort($T15,$U15,$AY$4:$AZ$5),\"\")","v":""},{"$f":"IF(AND($AA15<6,T15<>\"\",U15<>\"\"),ort($T15,$U15,$AY$6:$AZ$7),\"\")","v":""},{"$f":"IF(AND($AA15=6,T15<>\"\",U15<>\"\"),ort($T15,$U15,$AY$8:$AZ$8),\"\")","v":""},{"$f":"IF(AND($AA15=7,T15<>\"\",U15<>\"\"),ort($T15,$U15,$AY$9:$AZ$9),\"\")","v":""},null,null,null,null,null,null,null,null,null,"00:00:00"]
[null,"Contract Uren",null,null,null,null,null,null,null,"",20,{"$f":"DATE($B$3,$B$4,14)","v":"2018-05-14"},{"$f":"DATE($B$3,$B$4,14)","v":"2018-05-14"},null,"00:00:00",null,null,null,null,null,null,"","","","","",{"$f":"IF(ISERROR(IF(NOT(ISERROR(MATCH($M16,Blad2!$A$2:$A$11,0))),7,WEEKDAY($M16,2))),\"\",IF(NOT(ISERROR(MATCH($M16,Blad2!$A$2:$A$11,0))),7,WEEKDAY($M16,2)))","v":1},{"$f":"IF(AND($AA16<6,N16<>\"\",O16<>\"\"),ort($N16,$O16,$AY$3:$AZ$3),\"\")","v":""},{"$f":"IF(AND($AA16<6,N16<>\"\",O16<>\"\"),ort($N16,$O16,$AY$4:$AZ$5),\"\")","v":""},{"$f":"IF(AND($AA16<6,N16<>\"\",O16<>\"\"),ort($N16,$O16,$AY$6:$AZ$7),\"\")","v":""},{"$f":"IF(AND($AA16=6,N16<>\"\",O16<>\"\"),ort($N16,$O16,$AY$8:$AZ$8),\"\")","v":""},{"$f":"IF(AND($AA16=7,N16<>\"\",O16<>\"\"),ort($N16,$O16,$AY$9:$AZ$9),\"\")","v":""},{"$f":"IF(AND($AA16<6,P16<>\"\",Q16<>\"\"),ort($P16,$Q16,$AY$3:$AZ$3),\"\")","v":""},{"$f":"IF(AND($AA16<6,P16<>\"\",Q16<>\"\"),ort($P16,$Q16,$AY$4:$AZ$5),\"\")","v":""},{"$f":"IF(AND($AA16<6,P16<>\"\",Q16<>\"\"),ort($P16,$Q16,$AY$6:$AZ$7),\"\")","v":""},{"$f":"IF(AND($AA16=6,P16<>\"\",Q16<>\"\"),ort($P16,$Q16,$AY$8:$AZ$8),\"\")","v":""},{"$f":"IF(AND($AA16=7,P16<>\"\",Q16<>\"\"),ort($P16,$Q16,$AY$9:$AZ$9),\"\")","v":""},{"$f":"IF(AND($AA16<6,R16<>\"\",S16<>\"\"),ort($R16,$S16,$AY$3:$AZ$3),\"\")","v":""},{"$f":"IF(AND($AA16<6,R16<>\"\",S16<>\"\"),ort($R16,$S16,$AY$4:$AZ$5),\"\")","v":""},{"$f":"IF(AND($AA16<6,R16<>\"\",S16<>\"\"),ort($R16,$S16,$AY$6:$AZ$7),\"\")","v":""},{"$f":"IF(AND($AA16=6,R16<>\"\",S16<>\"\"),ort($R16,$S16,$AY$8:$AZ$8),\"\")","v":""},{"$f":"IF(AND($AA16=7,R16<>\"\",S16<>\"\"),ort($R16,$S16,$AY$9:$AZ$9),\"\")","v":""},{"$f":"IF(AND($AA16<6,T16<>\"\",U16<>\"\"),ort($T16,$U16,$AY$3:$AZ$3),\"\")","v":""},{"$f":"IF(AND($AA16<6,T16<>\"\",U16<>\"\"),ort($T16,$U16,$AY$4:$AZ$5),\"\")","v":""},{"$f":"IF(AND($AA16<6,T16<>\"\",U16<>\"\"),ort($T16,$U16,$AY$6:$AZ$7),\"\")","v":""},{"$f":"IF(AND($AA16=6,T16<>\"\",U16<>\"\"),ort($T16,$U16,$AY$8:$AZ$8),\"\")","v":""},{"$f":"IF(AND($AA16=7,T16<>\"\",U16<>\"\"),ort($T16,$U16,$AY$9:$AZ$9),\"\")","v":""},null,null,null,null,null,null,null,null,null,"00:00:00"]
[null,3.75,null,null,null,null,null,null,null,"","",{"$f":"DATE($B$3,$B$4,15)","v":"2018-05-15"},{"$f":"DATE($B$3,$B$4,15)","v":"2018-05-15"},null,"00:00:00",null,null,null,null,null,null,"","","","","",{"$f":"IF(ISERROR(IF(NOT(ISERROR(MATCH($M17,Blad2!$A$2:$A$11,0))),7,WEEKDAY($M17,2))),\"\",IF(NOT(ISERROR(MATCH($M17,Blad2!$A$2:$A$11,0))),7,WEEKDAY($M17,2)))","v":2},{"$f":"IF(AND($AA17<6,N17<>\"\",O17<>\"\"),ort($N17,$O17,$AY$3:$AZ$3),\"\")","v":""},{"$f":"IF(AND($AA17<6,N17<>\"\",O17<>\"\"),ort($N17,$O17,$AY$4:$AZ$5),\"\")","v":""},{"$f":"IF(AND($AA17<6,N17<>\"\",O17<>\"\"),ort($N17,$O17,$AY$6:$AZ$7),\"\")","v":""},{"$f":"IF(AND($AA17=6,N17<>\"\",O17<>\"\"),ort($N17,$O17,$AY$8:$AZ$8),\"\")","v":""},{"$f":"IF(AND($AA17=7,N17<>\"\",O17<>\"\"),ort($N17,$O17,$AY$9:$AZ$9),\"\")","v":""},{"$f":"IF(AND($AA17<6,P17<>\"\",Q17<>\"\"),ort($P17,$Q17,$AY$3:$AZ$3),\"\")","v":""},{"$f":"IF(AND($AA17<6,P17<>\"\",Q17<>\"\"),ort($P17,$Q17,$AY$4:$AZ$5),\"\")","v":""},{"$f":"IF(AND($AA17<6,P17<>\"\",Q17<>\"\"),ort($P17,$Q17,$AY$6:$AZ$7),\"\")","v":""},{"$f":"IF(AND($AA17=6,P17<>\"\",Q17<>\"\"),ort($P17,$Q17,$AY$8:$AZ$8),\"\")","v":""},{"$f":"IF(AND($AA17=7,P17<>\"\",Q17<>\"\"),ort($P17,$Q17,$AY$9:$AZ$9),\"\")","v":""},{"$f":"IF(AND($AA17<6,R17<>\"\",S17<>\"\"),ort($R17,$S17,$AY$3:$AZ$3),\"\")","v":""},{"$f":"IF(AND($AA17<6,R17<>\"\",S17<>\"\"),ort($R17,$S17,$AY$4:$AZ$5),\"\")","v":""},{"$f":"IF(AND($AA17<6,R17<>\"\",S17<>\"\"),ort($R17,$S17,$AY$6:$AZ$7),\"\")","v":""},{"$f":"IF(AND($AA17=6,R17<>\"\",S17<>\"\"),ort($R17,$S17,$AY$8:$AZ$8),\"\")","v":""},{"$f":"IF(AND($AA17=7,R17<>\"\",S17<>\"\"),ort($R17,$S17,$AY$9:$AZ$9),\"\")","v":""},{"$f":"IF(AND($AA17<6,T17<>\"\",U17<>\"\"),ort($T17,$U17,$AY$3:$AZ$3),\"\")","v":""},{"$f":"IF(AND($AA17<6,T17<>\"\",U17<>\"\"),ort($T17,$U17,$AY$4:$AZ$5),\"\")","v":""},{"$f":"IF(AND($AA17<6,T17<>\"\",U17<>\"\"),ort($T17,$U17,$AY$6:$AZ$7),\"\")","v":""},{"$f":"IF(AND($AA17=6,T17<>\"\",U17<>\"\"),ort($T17,$U17,$AY$8:$AZ$8),\"\")","v":""},{"$f":"IF(AND($AA17=7,T17<>\"\",U17<>\"\"),ort($T17,$U17,$AY$9:$AZ$9),\"\")","v":""},null,null,null,null,null,null,null,null,null,"00:00:00"]
[null,null,null,null,null,null,null,null,null,"Hemelvaartsdag","",{"$f":"DATE($B$3,$B$4,16)","v":"2018-05-16"},{"$f":"DATE($B$3,$B$4,16)","v":"2018-05-16"},null,"00:00:00",null,null,null,null,null,null,"","","","","",{"$f":"IF(ISERROR(IF(NOT(ISERROR(MATCH($M18,Blad2!$A$2:$A$11,0))),7,WEEKDAY($M18,2))),\"\",IF(NOT(ISERROR(MATCH($M18,Blad2!$A$2:$A$11,0))),7,WEEKDAY($M18,2)))","v":7},{"$f":"IF(AND($AA18<6,N18<>\"\",O18<>\"\"),ort($N18,$O18,$AY$3:$AZ$3),\"\")","v":""},{"$f":"IF(AND($AA18<6,N18<>\"\",O18<>\"\"),ort($N18,$O18,$AY$4:$AZ$5),\"\")","v":""},{"$f":"IF(AND($AA18<6,N18<>\"\",O18<>\"\"),ort($N18,$O18,$AY$6:$AZ$7),\"\")","v":""},{"$f":"IF(AND($AA18=6,N18<>\"\",O18<>\"\"),ort($N18,$O18,$AY$8:$AZ$8),\"\")","v":""},{"$f":"IF(AND($AA18=7,N18<>\"\",O18<>\"\"),ort($N18,$O18,$AY$9:$AZ$9),\"\")","v":""},{"$f":"IF(AND($AA18<6,P18<>\"\",Q18<>\"\"),ort($P18,$Q18,$AY$3:$AZ$3),\"\")","v":""},{"$f":"IF(AND($AA18<6,P18<>\"\",Q18<>\"\"),ort($P18,$Q18,$AY$4:$AZ$5),\"\")","v":""},{"$f":"IF(AND($AA18<6,P18<>\"\",Q18<>\"\"),ort($P18,$Q18,$AY$6:$AZ$7),\"\")","v":""},{"$f":"IF(AND($AA18=6,P18<>\"\",Q18<>\"\"),ort($P18,$Q18,$AY$8:$AZ$8),\"\")","v":""},{"$f":"IF(AND($AA18=7,P18<>\"\",Q18<>\"\"),ort($P18,$Q18,$AY$9:$AZ$9),\"\")","v":""},{"$f":"IF(AND($AA18<6,R18<>\"\",S18<>\"\"),ort($R18,$S18,$AY$3:$AZ$3),\"\")","v":""},{"$f":"IF(AND($AA18<6,R18<>\"\",S18<>\"\"),ort($R18,$S18,$AY$4:$AZ$5),\"\")","v":""},{"$f":"IF(AND($AA18<6,R18<>\"\",S18<>\"\"),ort($R18,$S18,$AY$6:$AZ$7),\"\")","v":""},{"$f":"IF(AND($AA18=6,R18<>\"\",S18<>\"\"),ort($R18,$S18,$AY$8:$AZ$8),\"\")","v":""},{"$f":"IF(AND($AA18=7,R18<>\"\",S18<>\"\"),ort($R18,$S18,$AY$9:$AZ$9),\"\")","v":""},{"$f":"IF(AND($AA18<6,T18<>\"\",U18<>\"\"),ort($T18,$U18,$AY$3:$AZ$3),\"\")","v":""},{"$f":"IF(AND($AA18<6,T18<>\"\",U18<>\"\"),ort($T18,$U18,$AY$4:$AZ$5),\"\")","v":""},{"$f":"IF(AND($AA18<6,T18<>\"\",U18<>\"\"),ort($T18,$U18,$AY$6:$AZ$7),\"\")","v":""},{"$f":"IF(AND($AA18=6,T18<>\"\",U18<>\"\"),ort($T18,$U18,$AY$8:$AZ$8),\"\")","v":""},{"$f":"IF(AND($AA18=7,T18<>\"\",U18<>\"\"),ort($T18,$U18,$AY$9:$AZ$9),\"\")","v":""},null,null,null,null,null,null,null,null,null,"00:00:00"]
[null,"Gewerkte uren deze maand",null,null,null,null,null,null,null,"","",{"$f":"DATE($B$3,$B$4,17)","v":"2018-05-17"},{"$f":"DATE($B$3,$B$4,17)","v":"2018-05-17"},null,"00:00:00",null,null,null,null,null,null,"","","","","",{"$f":"IF(ISERROR(IF(NOT(ISERROR(MATCH($M19,Blad2!$A$2:$A$11,0))),7,WEEKDAY($M19,2))),\"\",IF(NOT(ISERROR(MATCH($M19,Blad2!$A$2:$A$11,0))),7,WEEKDAY($M19,2)))","v":4},{"$f":"IF(AND($AA19<6,N19<>\"\",O19<>\"\"),ort($N19,$O19,$AY$3:$AZ$3),\"\")","v":""},{"$f":"IF(AND($AA19<6,N19<>\"\",O19<>\"\"),ort($N19,$O19,$AY$4:$AZ$5),\"\")","v":""},{"$f":"IF(AND($AA19<6,N19<>\"\",O19<>\"\"),ort($N19,$O19,$AY$6:$AZ$7),\"\")","v":""},{"$f":"IF(AND($AA19=6,N19<>\"\",O19<>\"\"),ort($N19,$O19,$AY$8:$AZ$8),\"\")","v":""},{"$f":"IF(AND($AA19=7,N19<>\"\",O19<>\"\"),ort($N19,$O19,$AY$9:$AZ$9),\"\")","v":""},{"$f":"IF(AND($AA19<6,P19<>\"\",Q19<>\"\"),ort($P19,$Q19,$AY$3:$AZ$3),\"\")","v":""},{"$f":"IF(AND($AA19<6,P19<>\"\",Q19<>\"\"),ort($P19,$Q19,$AY$4:$AZ$5),\"\")","v":""},{"$f":"IF(AND($AA19<6,P19<>\"\",Q19<>\"\"),ort($P19,$Q19,$AY$6:$AZ$7),\"\")","v":""},{"$f":"IF(AND($AA19=6,P19<>\"\",Q19<>\"\"),ort($P19,$Q19,$AY$8:$AZ$8),\"\")","v":""},{"$f":"IF(AND($AA19=7,P19<>\"\",Q19<>\"\"),ort($P19,$Q19,$AY$9:$AZ$9),\"\")","v":""},{"$f":"IF(AND($AA19<6,R19<>\"\",S19<>\"\"),ort($R19,$S19,$AY$3:$AZ$3),\"\")","v":""},{"$f":"IF(AND($AA19<6,R19<>\"\",S19<>\"\"),ort($R19,$S19,$AY$4:$AZ$5),\"\")","v":""},{"$f":"IF(AND($AA19<6,R19<>\"\",S19<>\"\"),ort($R19,$S19,$AY$6:$AZ$7),\"\")","v":""},{"$f":"IF(AND($AA19=6,R19<>\"\",S19<>\"\"),ort($R19,$S19,$AY$8:$AZ$8),\"\")","v":""},{"$f":"IF(AND($AA19=7,R19<>\"\",S19<>\"\"),ort($R19,$S19,$AY$9:$AZ$9),\"\")","v":""},{"$f":"IF(AND($AA19<6,T19<>\"\",U19<>\"\"),ort($T19,$U19,$AY$3:$AZ$3),\"\")","v":""},{"$f":"IF(AND($AA19<6,T19<>\"\",U19<>\"\"),ort($T19,$U19,$AY$4:$AZ$5),\"\")","v":""},{"$f":"IF(AND($AA19<6,T19<>\"\",U19<>\"\"),ort($T19,$U19,$AY$6:$AZ$7),\"\")","v":""},{"$f":"IF(AND($AA19=6,T19<>\"\",U19<>\"\"),ort($T19,$U19,$AY$8:$AZ$8),\"\")","v":""},{"$f":"IF(AND($AA19=7,T19<>\"\",U19<>\"\"),ort($T19,$U19,$AY$9:$AZ$9),\"\")","v":""},null,null,null,null,null,null,null,null,null,"00:00:00"]
[null,{"$f":"SUM($V$3:$V$33)","v":0},null,null,null,null,null,null,null,"","",{"$f":"DATE($B$3,$B$4,18)","v":"2018-05-18"},{"$f":"DATE($B$3,$B$4,18)","v":"2018-05-18"},null,"00:00:00",null,null,null,null,null,null,"","","","","",{"$f":"IF(ISERROR(IF(NOT(ISERROR(MATCH($M20,Blad2!$A$2:$A$11,0))),7,WEEKDAY($M20,2))),\"\",IF(NOT(ISERROR(MATCH($M20,Blad2!$A$2:$A$11,0))),7,WEEKDAY($M20,2)))","v":5},{"$f":"IF(AND($AA20<6,N20<>\"\",O20<>\"\"),ort($N20,$O20,$AY$3:$AZ$3),\"\")","v":""},{"$f":"IF(AND($AA20<6,N20<>\"\",O20<>\"\"),ort($N20,$O20,$AY$4:$AZ$5),\"\")","v":""},{"$f":"IF(AND($AA20<6,N20<>\"\",O20<>\"\"),ort($N20,$O20,$AY$6:$AZ$7),\"\")","v":""},{"$f":"IF(AND($AA20=6,N20<>\"\",O20<>\"\"),ort($N20,$O20,$AY$8:$AZ$8),\"\")","v":""},{"$f":"IF(AND($AA20=7,N20<>\"\",O20<>\"\"),ort($N20,$O20,$AY$9:$AZ$9),\"\")","v":""},{"$f":"IF(AND($AA20<6,P20<>\"\",Q20<>\"\"),ort($P20,$Q20,$AY$3:$AZ$3),\"\")","v":""},{"$f":"IF(AND($AA20<6,P20<>\"\",Q20<>\"\"),ort($P20,$Q20,$AY$4:$AZ$5),\"\")","v":""},{"$f":"IF(AND($AA20<6,P20<>\"\",Q20<>\"\"),ort($P20,$Q20,$AY$6:$AZ$7),\"\")","v":""},{"$f":"IF(AND($AA20=6,P20<>\"\",Q20<>\"\"),ort($P20,$Q20,$AY$8:$AZ$8),\"\")","v":""},{"$f":"IF(AND($AA20=7,P20<>\"\",Q20<>\"\"),ort($P20,$Q20,$AY$9:$AZ$9),\"\")","v":""},{"$f":"IF(AND($AA20<6,R20<>\"\",S20<>\"\"),ort($R20,$S20,$AY$3:$AZ$3),\"\")","v":""},{"$f":"IF(AND($AA20<6,R20<>\"\",S20<>\"\"),ort($R20,$S20,$AY$4:$AZ$5),\"\")","v":""},{"$f":"IF(AND($AA20<6,R20<>\"\",S20<>\"\"),ort($R20,$S20,$AY$6:$AZ$7),\"\")","v":""},{"$f":"IF(AND($AA20=6,R20<>\"\",S20<>\"\"),ort($R20,$S20,$AY$8:$AZ$8),\"\")","v":""},{"$f":"IF(AND($AA20=7,R20<>\"\",S20<>\"\"),ort($R20,$S20,$AY$9:$AZ$9),\"\")","v":""},{"$f":"IF(AND($AA20<6,T20<>\"\",U20<>\"\"),ort($T20,$U20,$AY$3:$AZ$3),\"\")","v":""},{"$f":"IF(AND($AA20<6,T20<>\"\",U20<>\"\"),ort($T20,$U20,$AY$4:$AZ$5),\"\")","v":""},{"$f":"IF(AND($AA20<6,T20<>\"\",U20<>\"\"),ort($T20,$U20,$AY$6:$AZ$7),\"\")","v":""},{"$f":"IF(AND($AA20=6,T20<>\"\",U20<>\"\"),ort($T20,$U20,$AY$8:$AZ$8),\"\")","v":""},{"$f":"IF(AND($AA20=7,T20<>\"\",U20<>\"\"),ort($T20,$U20,$AY$9:$AZ$9),\"\")","v":""},null,{"$f":"COUNTA(Blad2!B12:B100)-COUNTIF(Blad2!B12:B100,\"Verlof\")","v":0},"  Aantal opgenomen ATV-dagen",null,null,null,null,null,null,"00:00:00"]
[null,null,null,null,null,null,null,null,null,"","",{"$f":"DATE($B$3,$B$4,19)","v":"2018-05-19"},{"$f":"DATE($B$3,$B$4,19)","v":"2018-05-19"},null,"00:00:00",null,null,null,null,null,null,"","","","","",{"$f":"IF(ISERROR(IF(NOT(ISERROR(MATCH($M21,Blad2!$A$2:$A$11,0))),7,WEEKDAY($M21,2))),\"\",IF(NOT(ISERROR(MATCH($M21,Blad2!$A$2:$A$11,0))),7,WEEKDAY($M21,2)))","v":6},{"$f":"IF(AND($AA21<6,N21<>\"\",O21<>\"\"),ort($N21,$O21,$AY$3:$AZ$3),\"\")","v":""},{"$f":"IF(AND($AA21<6,N21<>\"\",O21<>\"\"),ort($N21,$O21,$AY$4:$AZ$5),\"\")","v":""},{"$f":"IF(AND($AA21<6,N21<>\"\",O21<>\"\"),ort($N21,$O21,$AY$6:$AZ$7),\"\")","v":""},{"$f":"IF(AND($AA21=6,N21<>\"\",O21<>\"\"),ort($N21,$O21,$AY$8:$AZ$8),\"\")","v":""},{"$f":"IF(AND($AA21=7,N21<>\"\",O21<>\"\"),ort($N21,$O21,$AY$9:$AZ$9),\"\")","v":""},{"$f":"IF(AND($AA21<6,P21<>\"\",Q21<>\"\"),ort($P21,$Q21,$AY$3:$AZ$3),\"\")","v":""},{"$f":"IF(AND($AA21<6,P21<>\"\",Q21<>\"\"),ort($P21,$Q21,$AY$4:$AZ$5),\"\")","v":""},{"$f":"IF(AND($AA21<6,P21<>\"\",Q21<>\"\"),ort($P21,$Q21,$AY$6:$AZ$7),\"\")","v":""},{"$f":"IF(AND($AA21=6,P21<>\"\",Q21<>\"\"),ort($P21,$Q21,$AY$8:$AZ$8),\"\")","v":""},{"$f":"IF(AND($AA21=7,P21<>\"\",Q21<>\"\"),ort($P21,$Q21,$AY$9:$AZ$9),\"\")","v":""},{"$f":"IF(AND($AA21<6,R21<>\"\",S21<>\"\"),ort($R21,$S21,$AY$3:$AZ$3),\"\")","v":""},{"$f":"IF(AND($AA21<6,R21<>\"\",S21<>\"\"),ort($R21,$S21,$AY$4:$AZ$5),\"\")","v":""},{"$f":"IF(AND($AA21<6,R21<>\"\",S21<>\"\"),ort($R21,$S21,$AY$6:$AZ$7),\"\")","v":""},{"$f":"IF(AND($AA21=6,R21<>\"\",S21<>\"\"),ort($R21,$S21,$AY$8:$AZ$8),\"\")","v":""},{"$f":"IF(AND($AA21=7,R21<>\"\",S21<>\"\"),ort($R21,$S21,$AY$9:$AZ$9),\"\")","v":""},{"$f":"IF(AND($AA21<6,T21<>\"\",U21<>\"\"),ort($T21,$U21,$AY$3:$AZ$3),\"\")","v":""},{"$f":"IF(AND($AA21<6,T21<>\"\",U21<>\"\"),ort($T21,$U21,$AY$4:$AZ$5),\"\")","v":""},{"$f":"IF(AND($AA21<6,T21<>\"\",U21<>\"\"),ort($T21,$U21,$AY$6:$AZ$7),\"\")","v":""},{"$f":"IF(AND($AA21=6,T21<>\"\",U21<>\"\"),ort($T21,$U21,$AY$8:$AZ$8),\"\")","v":""},{"$f":"IF(AND($AA21=7,T21<>\"\",U21<>\"\"),ort($T21,$U21,$AY$9:$AZ$9),\"\")","v":""},null,{"$f":"COUNTA(Blad2!B12:B100)-COUNTIF(Blad2!B12:B100,\"ATV\")","v":2},"  Aantal opgenomen verlofdagen",null,null,null,null,null,null,"00:00:00"]
[null,null,null,null,null,null,null,null,null,"","",{"$f":"DATE($B$3,$B$4,20)","v":"2018-05-20"},{"$f":"DATE($B$3,$B$4,20)","v":"2018-05-20"},null,"00:00:00",null,null,null,null,null,null,"","","","","",{"$f":"IF(ISERROR(IF(NOT(ISERROR(MATCH($M22,Blad2!$A$2:$A$11,0))),7,WEEKDAY($M22,2))),\"\",IF(NOT(ISERROR(MATCH($M22,Blad2!$A$2:$A$11,0))),7,WEEKDAY($M22,2)))","v":7},{"$f":"IF(AND($AA22<6,N22<>\"\",O22<>\"\"),ort($N22,$O22,$AY$3:$AZ$3),\"\")","v":""},{"$f":"IF(AND($AA22<6,N22<>\"\",O22<>\"\"),ort($N22,$O22,$AY$4:$AZ$5),\"\")","v":""},{"$f":"IF(AND($AA22<6,N22<>\"\",O22<>\"\"),ort($N22,$O22,$AY$6:$AZ$7),\"\")","v":""},{"$f":"IF(AND($AA22=6,N22<>\"\",O22<>\"\"),ort($N22,$O22,$AY$8:$AZ$8),\"\")","v":""},{"$f":"IF(AND($AA22=7,N22<>\"\",O22<>\"\"),ort($N22,$O22,$AY$9:$AZ$9),\"\")","v":""},{"$f":"IF(AND($AA22<6,P22<>\"\",Q22<>\"\"),ort($P22,$Q22,$AY$3:$AZ$3),\"\")","v":""},{"$f":"IF(AND($AA22<6,P22<>\"\",Q22<>\"\"),ort($P22,$Q22,$AY$4:$AZ$5),\"\")","v":""},{"$f":"IF(AND($AA22<6,P22<>\"\",Q22<>\"\"),ort($P22,$Q22,$AY$6:$AZ$7),\"\")","v":""},{"$f":"IF(AND($AA22=6,P22<>\"\",Q22<>\"\"),ort($P22,$Q22,$AY$8:$AZ$8),\"\")","v":""},{"$f":"IF(AND($AA22=7,P22<>\"\",Q22<>\"\"),ort($P22,$Q22,$AY$9:$AZ$9),\"\")","v":""},{"$f":"IF(AND($AA22<6,R22<>\"\",S22<>\"\"),ort($R22,$S22,$AY$3:$AZ$3),\"\")","v":""},{"$f":"IF(AND($AA22<6,R22<>\"\",S22<>\"\"),ort($R22,$S22,$AY$4:$AZ$5),\"\")","v":""},{"$f":"IF(AND($AA22<6,R22<>\"\",S22<>\"\"),ort($R22,$S22,$AY$6:$AZ$7),\"\")","v":""},{"$f":"IF(AND($AA22=6,R22<>\"\",S22<>\"\"),ort($R22,$S22,$AY$8:$AZ$8),\"\")","v":""},{"$f":"IF(AND($AA22=7,R22<>\"\",S22<>\"\"),ort($R22,$S22,$AY$9:$AZ$9),\"\")","v":""},{"$f":"IF(AND($AA22<6,T22<>\"\",U22<>\"\"),ort($T22,$U22,$AY$3:$AZ$3),\"\")","v":""},{"$f":"IF(AND($AA22<6,T22<>\"\",U22<>\"\"),ort($T22,$U22,$AY$4:$AZ$5),\"\")","v":""},{"$f":"IF(AND($AA22<6,T22<>\"\",U22<>\"\"),ort($T22,$U22,$AY$6:$AZ$7),\"\")","v":""},{"$f":"IF(AND($AA22=6,T22<>\"\",U22<>\"\"),ort($T22,$U22,$AY$8:$AZ$8),\"\")","v":""},{"$f":"IF(AND($AA22=7,T22<>\"\",U22<>\"\"),ort($T22,$U22,$AY$9:$AZ$9),\"\")","v":""},null,null,null,null,null,null,null,null,null,"00:00:00"]
[null,null,null,null,null,null,null,null,null,"",21,{"$f":"DATE($B$3,$B$4,21)","v":"2018-05-21"},{"$f":"DATE($B$3,$B$4,21)","v":"2018-05-21"},null,"00:00:00",null,null,null,null,null,null,"","","","","",{"$f":"IF(ISERROR(IF(NOT(ISERROR(MATCH($M23,Blad2!$A$2:$A$11,0))),7,WEEKDAY($M23,2))),\"\",IF(NOT(ISERROR(MATCH($M23,Blad2!$A$2:$A$11,0))),7,WEEKDAY($M23,2)))","v":1},{"$f":"IF(AND($AA23<6,N23<>\"\",O23<>\"\"),ort($N23,$O23,$AY$3:$AZ$3),\"\")","v":""},{"$f":"IF(AND($AA23<6,N23<>\"\",O23<>\"\"),ort($N23,$O23,$AY$4:$AZ$5),\"\")","v":""},{"$f":"IF(AND($AA23<6,N23<>\"\",O23<>\"\"),ort($N23,$O23,$AY$6:$AZ$7),\"\")","v":""},{"$f":"IF(AND($AA23=6,N23<>\"\",O23<>\"\"),ort($N23,$O23,$AY$8:$AZ$8),\"\")","v":""},{"$f":"IF(AND($AA23=7,N23<>\"\",O23<>\"\"),ort($N23,$O23,$AY$9:$AZ$9),\"\")","v":""},{"$f":"IF(AND($AA23<6,P23<>\"\",Q23<>\"\"),ort($P23,$Q23,$AY$3:$AZ$3),\"\")","v":""},{"$f":"IF(AND($AA23<6,P23<>\"\",Q23<>\"\"),ort($P23,$Q23,$AY$4:$AZ$5),\"\")","v":""},{"$f":"IF(AND($AA23<6,P23<>\"\",Q23<>\"\"),ort($P23,$Q23,$AY$6:$AZ$7),\"\")","v":""},{"$f":"IF(AND($AA23=6,P23<>\"\",Q23<>\"\"),ort($P23,$Q23,$AY$8:$AZ$8),\"\")","v":""},{"$f":"IF(AND($AA23=7,P23<>\"\",Q23<>\"\"),ort($P23,$Q23,$AY$9:$AZ$9),\"\")","v":""},{"$f":"IF(AND($AA23<6,R23<>\"\",S23<>\"\"),ort($R23,$S23,$AY$3:$AZ$3),\"\")","v":""},{"$f":"IF(AND($AA23<6,R23<>\"\",S23<>\"\"),ort($R23,$S23,$AY$4:$AZ$5),\"\")","v":""},{"$f":"IF(AND($AA23<6,R23<>\"\",S23<>\"\"),ort($R23,$S23,$AY$6:$AZ$7),\"\")","v":""},{"$f":"IF(AND($AA23=6,R23<>\"\",S23<>\"\"),ort($R23,$S23,$AY$8:$AZ$8),\"\")","v":""},{"$f":"IF(AND($AA23=7,R23<>\"\",S23<>\"\"),ort($R23,$S23,$AY$9:$AZ$9),\"\")","v":""},{"$f":"IF(AND($AA23<6,T23<>\"\",U23<>\"\"),ort($T23,$U23,$AY$3:$AZ$3),\"\")","v":""},{"$f":"IF(AND($AA23<6,T23<>\"\",U23<>\"\"),ort($T23,$U23,$AY$4:$AZ$5),\"\")","v":""},{"$f":"IF(AND($AA23<6,T23<>\"\",U23<>\"\"),ort($T23,$U23,$AY$6:$AZ$7),\"\")","v":""},{"$f":"IF(AND($AA23=6,T23<>\"\",U23<>\"\"),ort($T23,$U23,$AY$8:$AZ$8),\"\")","v":""},{"$f":"IF(AND($AA23=7,T23<>\"\",U23<>\"\"),ort($T23,$U23,$AY$9:$AZ$9),\"\")","v":""},null,null,null,null,null,null,null,null,null,"00:00:00"]
[null,null,null,null,null,null,null,null,null,"","",{"$f":"DATE($B$3,$B$4,22)","v":"2018-05-22"},{"$f":"DATE($B$3,$B$4,22)","v":"2018-05-22"},null,"00:00:00",null,null,null,null,null,null,"","","","","",{"$f":"IF(ISERROR(IF(NOT(ISERROR(MATCH($M24,Blad2!$A$2:$A$11,0))),7,WEEKDAY($M24,2))),\"\",IF(NOT(ISERROR(MATCH($M24,Blad2!$A$2:$A$11,0))),7,WEEKDAY($M24,2)))","v":2},{"$f":"IF(AND($AA24<6,N24<>\"\",O24<>\"\"),ort($N24,$O24,$AY$3:$AZ$3),\"\")","v":""},{"$f":"IF(AND($AA24<6,N24<>\"\",O24<>\"\"),ort($N24,$O24,$AY$4:$AZ$5),\"\")","v":""},{"$f":"IF(AND($AA24<6,N24<>\"\",O24<>\"\"),ort($N24,$O24,$AY$6:$AZ$7),\"\")","v":""},{"$f":"IF(AND($AA24=6,N24<>\"\",O24<>\"\"),ort($N24,$O24,$AY$8:$AZ$8),\"\")","v":""},{"$f":"IF(AND($AA24=7,N24<>\"\",O24<>\"\"),ort($N24,$O24,$AY$9:$AZ$9),\"\")","v":""},{"$f":"IF(AND($AA24<6,P24<>\"\",Q24<>\"\"),ort($P24,$Q24,$AY$3:$AZ$3),\"\")","v":""},{"$f":"IF(AND($AA24<6,P24<>\"\",Q24<>\"\"),ort($P24,$Q24,$AY$4:$AZ$5),\"\")","v":""},{"$f":"IF(AND($AA24<6,P24<>\"\",Q24<>\"\"),ort($P24,$Q24,$AY$6:$AZ$7),\"\")","v":""},{"$f":"IF(AND($AA24=6,P24<>\"\",Q24<>\"\"),ort($P24,$Q24,$AY$8:$AZ$8),\"\")","v":""},{"$f":"IF(AND($AA24=7,P24<>\"\",Q24<>\"\"),ort($P24,$Q24,$AY$9:$AZ$9),\"\")","v":""},{"$f":"IF(AND($AA24<6,R24<>\"\",S24<>\"\"),ort($R24,$S24,$AY$3:$AZ$3),\"\")","v":""},{"$f":"IF(AND($AA24<6,R24<>\"\",S24<>\"\"),ort($R24,$S24,$AY$4:$AZ$5),\"\")","v":""},{"$f":"IF(AND($AA24<6,R24<>\"\",S24<>\"\"),ort($R24,$S24,$AY$6:$AZ$7),\"\")","v":""},{"$f":"IF(AND($AA24=6,R24<>\"\",S24<>\"\"),ort($R24,$S24,$AY$8:$AZ$8),\"\")","v":""},{"$f":"IF(AND($AA24=7,R24<>\"\",S24<>\"\"),ort($R24,$S24,$AY$9:$AZ$9),\"\")","v":""},{"$f":"IF(AND($AA24<6,T24<>\"\",U24<>\"\"),ort($T24,$U24,$AY$3:$AZ$3),\"\")","v":""},{"$f":"IF(AND($AA24<6,T24<>\"\",U24<>\"\"),ort($T24,$U24,$AY$4:$AZ$5),\"\")","v":""},{"$f":"IF(AND($AA24<6,T24<>\"\",U24<>\"\"),ort($T24,$U24,$AY$6:$AZ$7),\"\")","v":""},{"$f":"IF(AND($AA24=6,T24<>\"\",U24<>\"\"),ort($T24,$U24,$AY$8:$AZ$8),\"\")","v":""},{"$f":"IF(AND($AA24=7,T24<>\"\",U24<>\"\"),ort($T24,$U24,$AY$9:$AZ$9),\"\")","v":""},null,null,null,null,null,null,null,null,null,"00:00:00"]
[null,null,null,null,null,null,null,null,null,"","",{"$f":"DATE($B$3,$B$4,23)","v":"2018-05-23"},{"$f":"DATE($B$3,$B$4,23)","v":"2018-05-23"},null,"00:00:00",null,null,null,null,null,null,"","","","","",{"$f":"IF(ISERROR(IF(NOT(ISERROR(MATCH($M25,Blad2!$A$2:$A$11,0))),7,WEEKDAY($M25,2))),\"\",IF(NOT(ISERROR(MATCH($M25,Blad2!$A$2:$A$11,0))),7,WEEKDAY($M25,2)))","v":3},{"$f":"IF(AND($AA25<6,N25<>\"\",O25<>\"\"),ort($N25,$O25,$AY$3:$AZ$3),\"\")","v":""},{"$f":"IF(AND($AA25<6,N25<>\"\",O25<>\"\"),ort($N25,$O25,$AY$4:$AZ$5),\"\")","v":""},{"$f":"IF(AND($AA25<6,N25<>\"\",O25<>\"\"),ort($N25,$O25,$AY$6:$AZ$7),\"\")","v":""},{"$f":"IF(AND($AA25=6,N25<>\"\",O25<>\"\"),ort($N25,$O25,$AY$8:$AZ$8),\"\")","v":""},{"$f":"IF(AND($AA25=7,N25<>\"\",O25<>\"\"),ort($N25,$O25,$AY$9:$AZ$9),\"\")","v":""},{"$f":"IF(AND($AA25<6,P25<>\"\",Q25<>\"\"),ort($P25,$Q25,$AY$3:$AZ$3),\"\")","v":""},{"$f":"IF(AND($AA25<6,P25<>\"\",Q25<>\"\"),ort($P25,$Q25,$AY$4:$AZ$5),\"\")","v":""},{"$f":"IF(AND($AA25<6,P25<>\"\",Q25<>\"\"),ort($P25,$Q25,$AY$6:$AZ$7),\"\")","v":""},{"$f":"IF(AND($AA25=6,P25<>\"\",Q25<>\"\"),ort($P25,$Q25,$AY$8:$AZ$8),\"\")","v":""},{"$f":"IF(AND($AA25=7,P25<>\"\",Q25<>\"\"),ort($P25,$Q25,$AY$9:$AZ$9),\"\")","v":""},{"$f":"IF(AND($AA25<6,R25<>\"\",S25<>\"\"),ort($R25,$S25,$AY$3:$AZ$3),\"\")","v":""},{"$f":"IF(AND($AA25<6,R25<>\"\",S25<>\"\"),ort($R25,$S25,$AY$4:$AZ$5),\"\")","v":""},{"$f":"IF(AND($AA25<6,R25<>\"\",S25<>\"\"),ort($R25,$S25,$AY$6:$AZ$7),\"\")","v":""},{"$f":"IF(AND($AA25=6,R25<>\"\",S25<>\"\"),ort($R25,$S25,$AY$8:$AZ$8),\"\")","v":""},{"$f":"IF(AND($AA25=7,R25<>\"\",S25<>\"\"),ort($R25,$S25,$AY$9:$AZ$9),\"\")","v":""},{"$f":"IF(AND($AA25<6,T25<>\"\",U25<>\"\"),ort($T25,$U25,$AY$3:$AZ$3),\"\")","v":""},{"$f":"IF(AND($AA25<6,T25<>\"\",U25<>\"\"),ort($T25,$U25,$AY$4:$AZ$5),\"\")","v":""},{"$f":"IF(AND($AA25<6,T25<>\"\",U25<>\"\"),ort($T25,$U25,$AY$6:$AZ$7),\"\")","v":""},{"$f":"IF(AND($AA25=6,T25<>\"\",U25<>\"\"),ort($T25,$U25,$AY$8:$AZ$8),\"\")","v":""},{"$f":"IF(AND($AA25=7,T25<>\"\",U25<>\"\"),ort($T25,$U25,$AY$9:$AZ$9),\"\")","v":""},null,null,null,null,null,null,null,null,null,"00:00:00"]
[null,null,null,null,null,null,null,null,null,"","",{"$f":"DATE($B$3,$B$4,24)","v":"2018-05-24"},{"$f":"DATE($B$3,$B$4,24)","v":"2018-05-24"},null,"00:00:00",null,null,null,null,null,null,"","","","","",{"$f":"IF(ISERROR(IF(NOT(ISERROR(MATCH($M26,Blad2!$A$2:$A$11,0))),7,WEEKDAY($M26,2))),\"\",IF(NOT(ISERROR(MATCH($M26,Blad2!$A$2:$A$11,0))),7,WEEKDAY($M26,2)))","v":4},{"$f":"IF(AND($AA26<6,N26<>\"\",O26<>\"\"),ort($N26,$O26,$AY$3:$AZ$3),\"\")","v":""},{"$f":"IF(AND($AA26<6,N26<>\"\",O26<>\"\"),ort($N26,$O26,$AY$4:$AZ$5),\"\")","v":""},{"$f":"IF(AND($AA26<6,N26<>\"\",O26<>\"\"),ort($N26,$O26,$AY$6:$AZ$7),\"\")","v":""},{"$f":"IF(AND($AA26=6,N26<>\"\",O26<>\"\"),ort($N26,$O26,$AY$8:$AZ$8),\"\")","v":""},{"$f":"IF(AND($AA26=7,N26<>\"\",O26<>\"\"),ort($N26,$O26,$AY$9:$AZ$9),\"\")","v":""},{"$f":"IF(AND($AA26<6,P26<>\"\",Q26<>\"\"),ort($P26,$Q26,$AY$3:$AZ$3),\"\")","v":""},{"$f":"IF(AND($AA26<6,P26<>\"\",Q26<>\"\"),ort($P26,$Q26,$AY$4:$AZ$5),\"\")","v":""},{"$f":"IF(AND($AA26<6,P26<>\"\",Q26<>\"\"),ort($P26,$Q26,$AY$6:$AZ$7),\"\")","v":""},{"$f":"IF(AND($AA26=6,P26<>\"\",Q26<>\"\"),ort($P26,$Q26,$AY$8:$AZ$8),\"\")","v":""},{"$f":"IF(AND($AA26=7,P26<>\"\",Q26<>\"\"),ort($P26,$Q26,$AY$9:$AZ$9),\"\")","v":""},{"$f":"IF(AND($AA26<6,R26<>\"\",S26<>\"\"),ort($R26,$S26,$AY$3:$AZ$3),\"\")","v":""},{"$f":"IF(AND($AA26<6,R26<>\"\",S26<>\"\"),ort($R26,$S26,$AY$4:$AZ$5),\"\")","v":""},{"$f":"IF(AND($AA26<6,R26<>\"\",S26<>\"\"),ort($R26,$S26,$AY$6:$AZ$7),\"\")","v":""},{"$f":"IF(AND($AA26=6,R26<>\"\",S26<>\"\"),ort($R26,$S26,$AY$8:$AZ$8),\"\")","v":""},{"$f":"IF(AND($AA26=7,R26<>\"\",S26<>\"\"),ort($R26,$S26,$AY$9:$AZ$9),\"\")","v":""},{"$f":"IF(AND($AA26<6,T26<>\"\",U26<>\"\"),ort($T26,$U26,$AY$3:$AZ$3),\"\")","v":""},{"$f":"IF(AND($AA26<6,T26<>\"\",U26<>\"\"),ort($T26,$U26,$AY$4:$AZ$5),\"\")","v":""},{"$f":"IF(AND($AA26<6,T26<>\"\",U26<>\"\"),ort($T26,$U26,$AY$6:$AZ$7),\"\")","v":""},{"$f":"IF(AND($AA26=6,T26<>\"\",U26<>\"\"),ort($T26,$U26,$AY$8:$AZ$8),\"\")","v":""},{"$f":"IF(AND($AA26=7,T26<>\"\",U26<>\"\"),ort($T26,$U26,$AY$9:$AZ$9),\"\")","v":""},null,null,null,null,null,null,null,null,null,"00:00:00"]
[null,null,null,null,null,null,null,null,null,"","",{"$f":"DATE($B$3,$B$4,25)","v":"2018-05-25"},{"$f":"DATE($B$3,$B$4,25)","v":"2018-05-25"},null,"00:00:00",null,null,null,null,null,null,"","","","","",{"$f":"IF(ISERROR(IF(NOT(ISERROR(MATCH($M27,Blad2!$A$2:$A$11,0))),7,WEEKDAY($M27,2))),\"\",IF(NOT(ISERROR(MATCH($M27,Blad2!$A$2:$A$11,0))),7,WEEKDAY($M27,2)))","v":5},{"$f":"IF(AND($AA27<6,N27<>\"\",O27<>\"\"),ort($N27,$O27,$AY$3:$AZ$3),\"\")","v":""},{"$f":"IF(AND($AA27<6,N27<>\"\",O27<>\"\"),ort($N27,$O27,$AY$4:$AZ$5),\"\")","v":""},{"$f":"IF(AND($AA27<6,N27<>\"\",O27<>\"\"),ort($N27,$O27,$AY$6:$AZ$7),\"\")","v":""},{"$f":"IF(AND($AA27=6,N27<>\"\",O27<>\"\"),ort($N27,$O27,$AY$8:$AZ$8),\"\")","v":""},{"$f":"IF(AND($AA27=7,N27<>\"\",O27<>\"\"),ort($N27,$O27,$AY$9:$AZ$9),\"\")","v":""},{"$f":"IF(AND($AA27<6,P27<>\"\",Q27<>\"\"),ort($P27,$Q27,$AY$3:$AZ$3),\"\")","v":""},{"$f":"IF(AND($AA27<6,P27<>\"\",Q27<>\"\"),ort($P27,$Q27,$AY$4:$AZ$5),\"\")","v":""},{"$f":"IF(AND($AA27<6,P27<>\"\",Q27<>\"\"),ort($P27,$Q27,$AY$6:$AZ$7),\"\")","v":""},{"$f":"IF(AND($AA27=6,P27<>\"\",Q27<>\"\"),ort($P27,$Q27,$AY$8:$AZ$8),\"\")","v":""},{"$f":"IF(AND($AA27=7,P27<>\"\",Q27<>\"\"),ort($P27,$Q27,$AY$9:$AZ$9),\"\")","v":""},{"$f":"IF(AND($AA27<6,R27<>\"\",S27<>\"\"),ort($R27,$S27,$AY$3:$AZ$3),\"\")","v":""},{"$f":"IF(AND($AA27<6,R27<>\"\",S27<>\"\"),ort($R27,$S27,$AY$4:$AZ$5),\"\")","v":""},{"$f":"IF(AND($AA27<6,R27<>\"\",S27<>\"\"),ort($R27,$S27,$AY$6:$AZ$7),\"\")","v":""},{"$f":"IF(AND($AA27=6,R27<>\"\",S27<>\"\"),ort($R27,$S27,$AY$8:$AZ$8),\"\")","v":""},{"$f":"IF(AND($AA27=7,R27<>\"\",S27<>\"\"),ort($R27,$S27,$AY$9:$AZ$9),\"\")","v":""},{"$f":"IF(AND($AA27<6,T27<>\"\",U27<>\"\"),ort($T27,$U27,$AY$3:$AZ$3),\"\")","v":""},{"$f":"IF(AND($AA27<6,T27<>\"\",U27<>\"\"),ort($T27,$U27,$AY$4:$AZ$5),\"\")","v":""},{"$f":"IF(AND($AA27<6,T27<>\"\",U27<>\"\"),ort($T27,$U27,$AY$6:$AZ$7),\"\")","v":""},{"$f":"IF(AND($AA27=6,T27<>\"\",U27<>\"\"),ort($T27,$U27,$AY$8:$AZ$8),\"\")","v":""},{"$f":"IF(AND($AA27=7,T27<>\"\",U27<>\"\"),ort($T27,$U27,$AY$9:$AZ$9),\"\")","v":""},null,null,null,null,null,null,null,null,null,"00:00:00"]
[null,null,null,null,null,null,null,null,null,"Pinksteren","",{"$f":"DATE($B$3,$B$4,26)","v":"2018-05-26"},{"$f":"DATE($B$3,$B$4,26)","v":"2018-05-26"},null,"00:00:00",null,null,null,null,null,null,"","","","","",{"$f":"IF(ISERROR(IF(NOT(ISERROR(MATCH($M28,Blad2!$A$2:$A$11,0))),7,WEEKDAY($M28,2))),\"\",IF(NOT(ISERROR(MATCH($M28,Blad2!$A$2:$A$11,0))),7,WEEKDAY($M28,2)))","v":7},{"$f":"IF(AND($AA28<6,N28<>\"\",O28<>\"\"),ort($N28,$O28,$AY$3:$AZ$3),\"\")","v":""},{"$f":"IF(AND($AA28<6,N28<>\"\",O28<>\"\"),ort($N28,$O28,$AY$4:$AZ$5),\"\")","v":""},{"$f":"IF(AND($AA28<6,N28<>\"\",O28<>\"\"),ort($N28,$O28,$AY$6:$AZ$7),\"\")","v":""},{"$f":"IF(AND($AA28=6,N28<>\"\",O28<>\"\"),ort($N28,$O28,$AY$8:$AZ$8),\"\")","v":""},{"$f":"IF(AND($AA28=7,N28<>\"\",O28<>\"\"),ort($N28,$O28,$AY$9:$AZ$9),\"\")","v":""},{"$f":"IF(AND($AA28<6,P28<>\"\",Q28<>\"\"),ort($P28,$Q28,$AY$3:$AZ$3),\"\")","v":""},{"$f":"IF(AND($AA28<6,P28<>\"\",Q28<>\"\"),ort($P28,$Q28,$AY$4:$AZ$5),\"\")","v":""},{"$f":"IF(AND($AA28<6,P28<>\"\",Q28<>\"\"),ort($P28,$Q28,$AY$6:$AZ$7),\"\")","v":""},{"$f":"IF(AND($AA28=6,P28<>\"\",Q28<>\"\"),ort($P28,$Q28,$AY$8:$AZ$8),\"\")","v":""},{"$f":"IF(AND($AA28=7,P28<>\"\",Q28<>\"\"),ort($P28,$Q28,$AY$9:$AZ$9),\"\")","v":""},{"$f":"IF(AND($AA28<6,R28<>\"\",S28<>\"\"),ort($R28,$S28,$AY$3:$AZ$3),\"\")","v":""},{"$f":"IF(AND($AA28<6,R28<>\"\",S28<>\"\"),ort($R28,$S28,$AY$4:$AZ$5),\"\")","v":""},{"$f":"IF(AND($AA28<6,R28<>\"\",S28<>\"\"),ort($R28,$S28,$AY$6:$AZ$7),\"\")","v":""},{"$f":"IF(AND($AA28=6,R28<>\"\",S28<>\"\"),ort($R28,$S28,$AY$8:$AZ$8),\"\")","v":""},{"$f":"IF(AND($AA28=7,R28<>\"\",S28<>\"\"),ort($R28,$S28,$AY$9:$AZ$9),\"\")","v":""},{"$f":"IF(AND($AA28<6,T28<>\"\",U28<>\"\"),ort($T28,$U28,$AY$3:$AZ$3),\"\")","v":""},{"$f":"IF(AND($AA28<6,T28<>\"\",U28<>\"\"),ort($T28,$U28,$AY$4:$AZ$5),\"\")","v":""},{"$f":"IF(AND($AA28<6,T28<>\"\",U28<>\"\"),ort($T28,$U28,$AY$6:$AZ$7),\"\")","v":""},{"$f":"IF(AND($AA28=6,T28<>\"\",U28<>\"\"),ort($T28,$U28,$AY$8:$AZ$8),\"\")","v":""},{"$f":"IF(AND($AA28=7,T28<>\"\",U28<>\"\"),ort($T28,$U28,$AY$9:$AZ$9),\"\")","v":""},null,null,null,null,null,null,null,null,null,"00:00:00"]
[null,null,null,null,null,null,null,null,null,"Pinkstermaandag","",{"$f":"DATE($B$3,$B$4,27)","v":"2018-05-27"},{"$f":"DATE($B$3,$B$4,27)","v":"2018-05-27"},null,"00:00:00",null,null,null,null,null,null,"","","","","",{"$f":"IF(ISERROR(IF(NOT(ISERROR(MATCH($M29,Blad2!$A$2:$A$11,0))),7,WEEKDAY($M29,2))),\"\",IF(NOT(ISERROR(MATCH($M29,Blad2!$A$2:$A$11,0))),7,WEEKDAY($M29,2)))","v":7},{"$f":"IF(AND($AA29<6,N29<>\"\",O29<>\"\"),ort($N29,$O29,$AY$3:$AZ$3),\"\")","v":""},{"$f":"IF(AND($AA29<6,N29<>\"\",O29<>\"\"),ort($N29,$O29,$AY$4:$AZ$5),\"\")","v":""},{"$f":"IF(AND($AA29<6,N29<>\"\",O29<>\"\"),ort($N29,$O29,$AY$6:$AZ$7),\"\")","v":""},{"$f":"IF(AND($AA29=6,N29<>\"\",O29<>\"\"),ort($N29,$O29,$AY$8:$AZ$8),\"\")","v":""},{"$f":"IF(AND($AA29=7,N29<>\"\",O29<>\"\"),ort($N29,$O29,$AY$9:$AZ$9),\"\")","v":""},{"$f":"IF(AND($AA29<6,P29<>\"\",Q29<>\"\"),ort($P29,$Q29,$AY$3:$AZ$3),\"\")","v":""},{"$f":"IF(AND($AA29<6,P29<>\"\",Q29<>\"\"),ort($P29,$Q29,$AY$4:$AZ$5),\"\")","v":""},{"$f":"IF(AND($AA29<6,P29<>\"\",Q29<>\"\"),ort($P29,$Q29,$AY$6:$AZ$7),\"\")","v":""},{"$f":"IF(AND($AA29=6,P29<>\"\",Q29<>\"\"),ort($P29,$Q29,$AY$8:$AZ$8),\"\")","v":""},{"$f":"IF(AND($AA29=7,P29<>\"\",Q29<>\"\"),ort($P29,$Q29,$AY$9:$AZ$9),\"\")","v":""},{"$f":"IF(AND($AA29<6,R29<>\"\",S29<>\"\"),ort($R29,$S29,$AY$3:$AZ$3),\"\")","v":""},{"$f":"IF(AND($AA29<6,R29<>\"\",S29<>\"\"),ort($R29,$S29,$AY$4:$AZ$5),\"\")","v":""},{"$f":"IF(AND($AA29<6,R29<>\"\",S29<>\"\"),ort($R29,$S29,$AY$6:$AZ$7),\"\")","v":""},{"$f":"IF(AND($AA29=6,R29<>\"\",S29<>\"\"),ort($R29,$S29,$AY$8:$AZ$8),\"\")","v":""},{"$f":"IF(AND($AA29=7,R29<>\"\",S29<>\"\"),ort($R29,$S29,$AY$9:$AZ$9),\"\")","v":""},{"$f":"IF(AND($AA29<6,T29<>\"\",U29<>\"\"),ort($T29,$U29,$AY$3:$AZ$3),\"\")","v":""},{"$f":"IF(AND($AA29<6,T29<>\"\",U29<>\"\"),ort($T29,$U29,$AY$4:$AZ$5),\"\")","v":""},{"$f":"IF(AND($AA29<6,T29<>\"\",U29<>\"\"),ort($T29,$U29,$AY$6:$AZ$7),\"\")","v":""},{"$f":"IF(AND($AA29=6,T29<>\"\",U29<>\"\"),ort($T29,$U29,$AY$8:$AZ$8),\"\")","v":""},{"$f":"IF(AND($AA29=7,T29<>\"\",U29<>\"\"),ort($T29,$U29,$AY$9:$AZ$9),\"\")","v":""},null,null,null,null,null,null,null,null,null,"00:00:00"]
[null,null,null,null,null,null,null,null,null,"",22,{"$f":"DATE($B$3,$B$4,28)","v":"2018-05-28"},{"$f":"DATE($B$3,$B$4,28)","v":"2018-05-28"},null,"00:00:00",null,null,null,null,null,null,"","","","","",{"$f":"IF(ISERROR(IF(NOT(ISERROR(MATCH($M30,Blad2!$A$2:$A$11,0))),7,WEEKDAY($M30,2))),\"\",IF(NOT(ISERROR(MATCH($M30,Blad2!$A$2:$A$11,0))),7,WEEKDAY($M30,2)))","v":1},{"$f":"IF(AND($AA30<6,N30<>\"\",O30<>\"\"),ort($N30,$O30,$AY$3:$AZ$3),\"\")","v":""},{"$f":"IF(AND($AA30<6,N30<>\"\",O30<>\"\"),ort($N30,$O30,$AY$4:$AZ$5),\"\")","v":""},{"$f":"IF(AND($AA30<6,N30<>\"\",O30<>\"\"),ort($N30,$O30,$AY$6:$AZ$7),\"\")","v":""},{"$f":"IF(AND($AA30=6,N30<>\"\",O30<>\"\"),ort($N30,$O30,$AY$8:$AZ$8),\"\")","v":""},{"$f":"IF(AND($AA30=7,N30<>\"\",O30<>\"\"),ort($N30,$O30,$AY$9:$AZ$9),\"\")","v":""},{"$f":"IF(AND($AA30<6,P30<>\"\",Q30<>\"\"),ort($P30,$Q30,$AY$3:$AZ$3),\"\")","v":""},{"$f":"IF(AND($AA30<6,P30<>\"\",Q30<>\"\"),ort($P30,$Q30,$AY$4:$AZ$5),\"\")","v":""},{"$f":"IF(AND($AA30<6,P30<>\"\",Q30<>\"\"),ort($P30,$Q30,$AY$6:$AZ$7),\"\")","v":""},{"$f":"IF(AND($AA30=6,P30<>\"\",Q30<>\"\"),ort($P30,$Q30,$AY$8:$AZ$8),\"\")","v":""},{"$f":"IF(AND($AA30=7,P30<>\"\",Q30<>\"\"),ort($P30,$Q30,$AY$9:$AZ$9),\"\")","v":""},{"$f":"IF(AND($AA30<6,R30<>\"\",S30<>\"\"),ort($R30,$S30,$AY$3:$AZ$3),\"\")","v":""},{"$f":"IF(AND($AA30<6,R30<>\"\",S30<>\"\"),ort($R30,$S30,$AY$4:$AZ$5),\"\")","v":""},{"$f":"IF(AND($AA30<6,R30<>\"\",S30<>\"\"),ort($R30,$S30,$AY$6:$AZ$7),\"\")","v":""},{"$f":"IF(AND($AA30=6,R30<>\"\",S30<>\"\"),ort($R30,$S30,$AY$8:$AZ$8),\"\")","v":""},{"$f":"IF(AND($AA30=7,R30<>\"\",S30<>\"\"),ort($R30,$S30,$AY$9:$AZ$9),\"\")","v":""},{"$f":"IF(AND($AA30<6,T30<>\"\",U30<>\"\"),ort($T30,$U30,$AY$3:$AZ$3),\"\")","v":""},{"$f":"IF(AND($AA30<6,T30<>\"\",U30<>\"\"),ort($T30,$U30,$AY$4:$AZ$5),\"\")","v":""},{"$f":"IF(AND($AA30<6,T30<>\"\",U30<>\"\"),ort($T30,$U30,$AY$6:$AZ$7),\"\")","v":""},{"$f":"IF(AND($AA30=6,T30<>\"\",U30<>\"\"),ort($T30,$U30,$AY$8:$AZ$8),\"\")","v":""},{"$f":"IF(AND($AA30=7,T30<>\"\",U30<>\"\"),ort($T30,$U30,$AY$9:$AZ$9),\"\")","v":""},null,null,null,null,null,null,null,null,null,"00:00:00"]
[null,null,null,null,null,null,null,null,null,"",{"$f":"IF(L31=\"\",\"\",IF(WEEKDAY(L31)=2,1+INT((L31-DATE(YEAR(L31+4-WEEKDAY(L31+6)),1,5)+WEEKDAY(DATE(YEAR(L31+4-WEEKDAY(L31+6)),1,3)))/7),\"\"))","v":""},{"$f":"IF(MONTH(L$30+1)<>MONTH(L$30),\"\",L$30+1)","v":"2018-05-29"},{"$f":"IF(MONTH(M$30+1)<>MONTH(M$30),\"\",M$30+1)","v":"2018-05-29"},null,"00:00:00",null,null,null,null,null,null,"","","","","",{"$f":"IF(ISERROR(IF(NOT(ISERROR(MATCH($M31,Blad2!$A$2:$A$11,0))),7,WEEKDAY($M31,2))),\"\",IF(NOT(ISERROR(MATCH($M31,Blad2!$A$2:$A$11,0))),7,WEEKDAY($M31,2)))","v":2},{"$f":"IF(AND($AA31<6,N31<>\"\",O31<>\"\"),ort($N31,$O31,$AY$3:$AZ$3),\"\")","v":""},{"$f":"IF(AND($AA31<6,N31<>\"\",O31<>\"\"),ort($N31,$O31,$AY$4:$AZ$5),\"\")","v":""},{"$f":"IF(AND($AA31<6,N31<>\"\",O31<>\"\"),ort($N31,$O31,$AY$6:$AZ$7),\"\")","v":""},{"$f":"IF(AND($AA31=6,N31<>\"\",O31<>\"\"),ort($N31,$O31,$AY$8:$AZ$8),\"\")","v":""},{"$f":"IF(AND($AA31=7,N31<>\"\",O31<>\"\"),ort($N31,$O31,$AY$9:$AZ$9),\"\")","v":""},{"$f":"IF(AND($AA31<6,P31<>\"\",Q31<>\"\"),ort($P31,$Q31,$AY$3:$AZ$3),\"\")","v":""},{"$f":"IF(AND($AA31<6,P31<>\"\",Q31<>\"\"),ort($P31,$Q31,$AY$4:$AZ$5),\"\")","v":""},{"$f":"IF(AND($AA31<6,P31<>\"\",Q31<>\"\"),ort($P31,$Q31,$AY$6:$AZ$7),\"\")","v":""},{"$f":"IF(AND($AA31=6,P31<>\"\",Q31<>\"\"),ort($P31,$Q31,$AY$8:$AZ$8),\"\")","v":""},{"$f":"IF(AND($AA31=7,P31<>\"\",Q31<>\"\"),ort($P31,$Q31,$AY$9:$AZ$9),\"\")","v":""},{"$f":"IF(AND($AA31<6,R31<>\"\",S31<>\"\"),ort($R31,$S31,$AY$3:$AZ$3),\"\")","v":""},{"$f":"IF(AND($AA31<6,R31<>\"\",S31<>\"\"),ort($R31,$S31,$AY$4:$AZ$5),\"\")","v":""},{"$f":"IF(AND($AA31<6,R31<>\"\",S31<>\"\"),ort($R31,$S31,$AY$6:$AZ$7),\"\")","v":""},{"$f":"IF(AND($AA31=6,R31<>\"\",S31<>\"\"),ort($R31,$S31,$AY$8:$AZ$8),\"\")","v":""},{"$f":"IF(AND($AA31=7,R31<>\"\",S31<>\"\"),ort($R31,$S31,$AY$9:$AZ$9),\"\")","v":""},{"$f":"IF(AND($AA31<6,T31<>\"\",U31<>\"\"),ort($T31,$U31,$AY$3:$AZ$3),\"\")","v":""},{"$f":"IF(AND($AA31<6,T31<>\"\",U31<>\"\"),ort($T31,$U31,$AY$4:$AZ$5),\"\")","v":""},{"$f":"IF(AND($AA31<6,T31<>\"\",U31<>\"\"),ort($T31,$U31,$AY$6:$AZ$7),\"\")","v":""},{"$f":"IF(AND($AA31=6,T31<>\"\",U31<>\"\"),ort($T31,$U31,$AY$8:$AZ$8),\"\")","v":""},{"$f":"IF(AND($AA31=7,T31<>\"\",U31<>\"\"),ort($T31,$U31,$AY$9:$AZ$9),\"\")","v":""},null,null,null,null,null,null,null,null,null,"00:00:00"]
[null,"Totaal Uren incl 150 %",null,null,null,null,null,null,null,"","",{"$f":"IF(L31=\"\",\"\",IF(MONTH($M31+1)<>MONTH($M31),\"\",$M31+1))","v":"2018-05-30"},{"$f":"IF(M31=\"\",\"\",IF(MONTH($M31+1)<>MONTH($M31),\"\",$M31+1))","v":"2018-05-30"},null,"00:00:00",null,null,null,null,null,null,"","","","","",{"$f":"IF(ISERROR(IF(NOT(ISERROR(MATCH($M32,Blad2!$A$2:$A$11,0))),7,WEEKDAY($M32,2))),\"\",IF(NOT(ISERROR(MATCH($M32,Blad2!$A$2:$A$11,0))),7,WEEKDAY($M32,2)))","v":3},{"$f":"IF(AND($AA32<6,N32<>\"\",O32<>\"\"),ort($N32,$O32,$AY$3:$AZ$3),\"\")","v":""},{"$f":"IF(AND($AA32<6,N32<>\"\",O32<>\"\"),ort($N32,$O32,$AY$4:$AZ$5),\"\")","v":""},{"$f":"IF(AND($AA32<6,N32<>\"\",O32<>\"\"),ort($N32,$O32,$AY$6:$AZ$7),\"\")","v":""},{"$f":"IF(AND($AA32=6,N32<>\"\",O32<>\"\"),ort($N32,$O32,$AY$8:$AZ$8),\"\")","v":""},{"$f":"IF(AND($AA32=7,N32<>\"\",O32<>\"\"),ort($N32,$O32,$AY$9:$AZ$9),\"\")","v":""},{"$f":"IF(AND($AA32<6,P32<>\"\",Q32<>\"\"),ort($P32,$Q32,$AY$3:$AZ$3),\"\")","v":""},{"$f":"IF(AND($AA32<6,P32<>\"\",Q32<>\"\"),ort($P32,$Q32,$AY$4:$AZ$5),\"\")","v":""},{"$f":"IF(AND($AA32<6,P32<>\"\",Q32<>\"\"),ort($P32,$Q32,$AY$6:$AZ$7),\"\")","v":""},{"$f":"IF(AND($AA32=6,P32<>\"\",Q32<>\"\"),ort($P32,$Q32,$AY$8:$AZ$8),\"\")","v":""},{"$f":"IF(AND($AA32=7,P32<>\"\",Q32<>\"\"),ort($P32,$Q32,$AY$9:$AZ$9),\"\")","v":""},{"$f":"IF(AND($AA32<6,R32<>\"\",S32<>\"\"),ort($R32,$S32,$AY$3:$AZ$3),\"\")","v":""},{"$f":"IF(AND($AA32<6,R32<>\"\",S32<>\"\"),ort($R32,$S32,$AY$4:$AZ$5),\"\")","v":""},{"$f":"IF(AND($AA32<6,R32<>\"\",S32<>\"\"),ort($R32,$S32,$AY$6:$AZ$7),\"\")","v":""},{"$f":"IF(AND($AA32=6,R32<>\"\",S32<>\"\"),ort($R32,$S32,$AY$8:$AZ$8),\"\")","v":""},{"$f":"IF(AND($AA32=7,R32<>\"\",S32<>\"\"),ort($R32,$S32,$AY$9:$AZ$9),\"\")","v":""},{"$f":"IF(AND($AA32<6,T32<>\"\",U32<>\"\"),ort($T32,$U32,$AY$3:$AZ$3),\"\")","v":""},{"$f":"IF(AND($AA32<6,T32<>\"\",U32<>\"\"),ort($T32,$U32,$AY$4:$AZ$5),\"\")","v":""},{"$f":"IF(AND($AA32<6,T32<>\"\",U32<>\"\"),ort($T32,$U32,$AY$6:$AZ$7),\"\")","v":""},{"$f":"IF(AND($AA32=6,T32<>\"\",U32<>\"\"),ort($T32,$U32,$AY$8:$AZ$8),\"\")","v":""},{"$f":"IF(AND($AA32=7,T32<>\"\",U32<>\"\"),ort($T32,$U32,$AY$9:$AZ$9),\"\")","v":""},null,null,null,null,null,null,null,null,null,"00:00:00"]
[null,{"$f":"SUM(U36,W37)","v":0},null,null,null,null,null,null,null,"",{"$f":"IF(L33=\"\",\"\",IF(WEEKDAY(L33)=2,1+INT((L33-DATE(YEAR(L33+4-WEEKDAY(L33+6)),1,5)+WEEKDAY(DATE(YEAR(L33+4-WEEKDAY(L33+6)),1,3)))/7),\"\"))","v":""},{"$f":"IF(L32=\"\",\"\",IF(MONTH($M32+1)<>MONTH($M32),\"\",$M32+1))","v":"2018-05-31"},{"$f":"IF(M32=\"\",\"\",IF(MONTH($M32+1)<>MONTH($M32),\"\",$M32+1))","v":"2018-05-31"},null,"00:00:00",null,null,null,null,null,null,"","","","","",{"$f":"IF(ISERROR(IF(NOT(ISERROR(MATCH($M33,Blad2!$A$2:$A$11,0))),7,WEEKDAY($M33,2))),\"\",IF(NOT(ISERROR(MATCH($M33,Blad2!$A$2:$A$11,0))),7,WEEKDAY($M33,2)))","v":4},{"$f":"IF(AND($AA33<6,N33<>\"\",O33<>\"\"),ort($N33,$O33,$AY$3:$AZ$3),\"\")","v":""},{"$f":"IF(AND($AA33<6,N33<>\"\",O33<>\"\"),ort($N33,$O33,$AY$4:$AZ$5),\"\")","v":""},{"$f":"IF(AND($AA33<6,N33<>\"\",O33<>\"\"),ort($N33,$O33,$AY$6:$AZ$7),\"\")","v":""},{"$f":"IF(AND($AA33=6,N33<>\"\",O33<>\"\"),ort($N33,$O33,$AY$8:$AZ$8),\"\")","v":""},{"$f":"IF(AND($AA33=7,N33<>\"\",O33<>\"\"),ort($N33,$O33,$AY$9:$AZ$9),\"\")","v":""},{"$f":"IF(AND($AA33<6,P33<>\"\",Q33<>\"\"),ort($P33,$Q33,$AY$3:$AZ$3),\"\")","v":""},{"$f":"IF(AND($AA33<6,P33<>\"\",Q33<>\"\"),ort($P33,$Q33,$AY$4:$AZ$5),\"\")","v":""},{"$f":"IF(AND($AA33<6,P33<>\"\",Q33<>\"\"),ort($P33,$Q33,$AY$6:$AZ$7),\"\")","v":""},{"$f":"IF(AND($AA33=6,P33<>\"\",Q33<>\"\"),ort($P33,$Q33,$AY$8:$AZ$8),\"\")","v":""},{"$f":"IF(AND($AA33=7,P33<>\"\",Q33<>\"\"),ort($P33,$Q33,$AY$9:$AZ$9),\"\")","v":""},{"$f":"IF(AND($AA33<6,R33<>\"\",S33<>\"\"),ort($R33,$S33,$AY$3:$AZ$3),\"\")","v":""},{"$f":"IF(AND($AA33<6,R33<>\"\",S33<>\"\"),ort($R33,$S33,$AY$4:$AZ$5),\"\")","v":""},{"$f":"IF(AND($AA33<6,R33<>\"\",S33<>\"\"),ort($R33,$S33,$AY$6:$AZ$7),\"\")","v":""},{"$f":"IF(AND($AA33=6,R33<>\"\",S33<>\"\"),ort($R33,$S33,$AY$8:$AZ$8),\"\")","v":""},{"$f":"IF(AND($AA33=7,R33<>\"\",S33<>\"\"),ort($R33,$S33,$AY$9:$AZ$9),\"\")","v":""},{"$f":"IF(AND($AA33<6,T33<>\"\",U33<>\"\"),ort($T33,$U33,$AY$3:$AZ$3),\"\")","v":""},{"$f":"IF(AND($AA33<6,T33<>\"\",U33<>\"\"),ort($T33,$U33,$AY$4:$AZ$5),\"\")","v":""},{"$f":"IF(AND($AA33<6,T33<>\"\",U33<>\"\"),ort($T33,$U33,$AY$6:$AZ$7),\"\")","v":""},{"$f":"IF(AND($AA33=6,T33<>\"\",U33<>\"\"),ort($T33,$U33,$AY$8:$AZ$8),\"\")","v":""},{"$f":"IF(AND($AA33=7,T33<>\"\",U33<>\"\"),ort($T33,$U33,$AY$9:$AZ$9),\"\")","v":""},null,null,null,null,null,null,null,null,null,"00:00:00"]
[null,null,null,null,null,null,null,null,null,null,null,null,null,null,null,null,null,null,null,null,null,null,{"$f":"SUM(W3:W33)","v":0},{"$f":"SUM(X3:X33)","v":0},0,0]
[null,null,null,null,null,null,null,null,null,null,null,null,"Plus / Min Uren Incl 150 % Uren",null,null,null,null,null,"Contract Uren",null,{"$f":"SUM(B17)","v":3.75}]
[null,null,null,null,null,null,null,null,null,null,null,null,{"$f":"SUM(B33-B17)","v":-3.75},null,null,5,null,"Gewerkte Uren 100 %",null,null,{"$f":"SUM(W34:X34)","v":0}]
[null,null,null,null,null,null,null,null,null,null,null,null,"Uitbetalen / Verlof",null,null,{"$f":"SUM(M36*P36)*24","v":-450},null,"Gewerkte Uren 150 %",null,null,{"$f":"SUM(Y34)","v":0},"X 150%",{"$f":"SUM(U37*150%)","v":0}]
[null,null,null,null,null,null,null,null,null,null,null,null,null,null,null,null,null,null,"Plus Uren"]
[null,null,null,null,null,null,null,null,null,null,null,null,null,null,null,null,null,null,"Min Uren"]

{"sheet":"Juni","index":5,"n_rows":39,"n_cols":57,"rows_kept":39,"cut":false,"hidden":false,"merged":[[38,18,38,19],[37,18,37,19],[1,48,1,51],[2,3,2,7],[3,2,3,8],[19,1,19,8],[13,1,13,8],[15,1,15,8],[16,1,16,8],[18,1,18,8],[12,1,12,8],[36,12,36,14],[36,15,36,16],[36,17,36,19],[0,14,0,21],[1,2,1,8],[34,12,34,16],[35,12,35,14],[35,15,35,16],[31,1,31,8],[32,1,32,8],[34,18,34,19],[35,17,35,19]]}
[null,null,null,null,null,null,null,null,null,null,null,null,null,null,"Test"]
[null,null,{"$f":"TODAY()","v":"2018-03-21"},null,null,null,null,null,null,"Feestdag","wknr","dag","datum","tijd in","tijd uit","tijd in","tijd uit","tijd in","tijd uit","tijd in","tijd uit","werk\ntijd",1,1.25,1.5,2,"hulp",1,1.25,1.5,1.5,2,1,1.25,1.5,1.5,2,1,1.25,1.5,1.5,2,1,1.25,1.5,1.5,2,null,"onregelmatigheidstoeslag",null,null,null,null,"Stops","Laden","Lossen","Werktijd"]
[null,2018," ","Kalender",null,null,null,null,null,{"$f":"IF(ISNA(VLOOKUP(M3,feestdagen,2,0)),\"\",VLOOKUP(M3,feestdagen,2,0))","v":""},{"$f":"WEEKNUM(L3,21)","v":22},{"$f":"DATE($B$3,$B$4,1)","v":"2018-06-01"},{"$f":"DATE($B$3,$B$4,1)","v":"2018-06-01"},null,{"$f":"SUM(N3,BE3)","v":"00:00:00"},null,null,null,null,null,null,{"$f":"IF(AND(W3=\"\",X3=\"\",Y3=\"\",Z3=\"\"),\"\",SUM(W3:Z3))","v":""},{"$f":"IF(AND(AB3=\"\",AG3=\"\",AL3=\"\",AQ3=\"\"),\"\",SUM(AB3,AG3,AL3,AQ3))","v":""},{"$f":"IF(AND(AC3=\"\",AH3=\"\",AM3=\"\",AR3=\"\"),\"\",SUM(AC3,AH3,AM3,AR3))","v":""},{"$f":"IF(AND(AD3=\"\",AE3=\"\",AI3=\"\",AJ3=\"\",AN3=\"\",AO3=\"\",AS3=\"\",AT3=\"\"),\"\",SUM(AD3,AE3,AI3,AJ3,AN3,AO3,AS3,AT3))","v":""},{"$f":"IF(AND(AF3=\"\",AK3=\"\",AP3=\"\",AU3=\"\"),\"\",SUM(AF3,AK3,AP3,AU3))","v":""},{"$f":"IF(ISERROR(IF(NOT(ISERROR(MATCH($M3,Blad2!$A$2:$A$11,0))),7,WEEKDAY($M3,2))),\"\",IF(NOT(ISERROR(MATCH($M3,Blad2!$A$2:$A$11,0))),7,WEEKDAY($M3,2)))","v":5},{"$f":"IF(AND($AA3<6,N3<>\"\",O3<>\"\"),ort($N3,$O3,$AY$3:$AZ$3),\"\")","v":""},{"$f":"IF(AND($AA3<6,N3<>\"\",O3<>\"\"),ort($N3,$O3,$AY$4:$AZ$5),\"\")","v":""},{"$f":"IF(AND($AA3<6,N3<>\"\",O3<>\"\"),ort($N3,$O3,$AY$6:$AZ$7),\"\")","v":""},{"$f":"IF(AND($AA3=6,N3<>\"\",O3<>\"\"),ort($N3,$O3,$AY$8:$AZ$8),\"\")","v":""},{"$f":"IF(AND($AA3=7,N3<>\"\",O3<>\"\"),ort($N3,$O3,$AY$9:$AZ$9),\"\")","v":""},{"$f":"IF(AND($AA3<6,P3<>\"\",Q3<>\"\"),ort($P3,$Q3,$AY$3:$AZ$3),\"\")","v":""},{"$f":"IF(AND($AA3<6,P3<>\"\",Q3<>\"\"),ort($P3,$Q3,$AY$4:$AZ$5),\"\")","v":""},{"$f":"IF(AND($AA3<6,P3<>\"\",Q3<>\"\"),ort($P3,$Q3,$AY$6:$AZ$7),\"\")","v":""},{"$f":"IF(AND($AA3=6,P3<>\"\",Q3<>\"\"),ort($P3,$Q3,$AY$8:$AZ$8),\"\")","v":""},{"$f":"IF(AND($AA3=7,P3<>\"\",Q3<>\"\"),ort($P3,$Q3,$AY$9:$AZ$9),\"\")","v":""},{"$f":"IF(AND($AA3<6,R3<>\"\",S3<>\"\"),ort($R3,$S3,$AY$3:$AZ$3),\"\")","v":""},{"$f":"IF(AND($AA3<6,R3<>\"\",S3<>\"\"),ort($R3,$S3,$AY$4:$AZ$5),\"\")","v":""},{"$f":"IF(AND($AA3<6,R3<>\"\",S3<>\"\"),ort($R3,$S3,$AY$6:$AZ$7),\"\")","v":""},{"$f":"IF(AND($AA3=6,R3<>\"\",S3<>\"\"),ort($R3,$S3,$AY$8:$AZ$8),\"\")","v":""},{"$f":"IF(AND($AA3=7,R3<>\"\",S3<>\"\"),ort($R3,$S3,$AY$9:$AZ$9),\"\")","v":""},{"$f":"IF(AND($AA3<6,T3<>\"\",U3<>\"\"),ort($T3,$U3,$AY$3:$AZ$3),\"\")","v":""},{"$f":"IF(AND($AA3<6,T3<>\"\",U3<>\"\"),ort($T3,$U3,$AY$4:$AZ$5),\"\")","v":""},{"$f":"IF(AND($AA3<6,T3<>\"\",U3<>\"\"),ort($T3,$U3,$AY$6:$AZ$7),\"\")","v":""},{"$f":"IF(AND($AA3=6,T3<>\"\",U3<>\"\"),ort($T3,$U3,$AY$8:$AZ$8),\"\")","v":""},{"$f":"IF(AND($AA3=7,T3<>\"\",U3<>\"\"),ort($T3,$U3,$AY$9:$AZ$9),\"\")","v":""},null,1,"m-vr",0.39583333333333331,0.72916666666666663,null,null,null,null,{"$f":"SUM(BB3/20/24,BC3:BD3)","v":"00:00:00"}]
[null,6,{"$f":"DATE(B3,B4,1)","v":"2018-06-01"},null,null,null,null,null,null,"",{"$f":"IF(WEEKDAY(L4)=2,1+INT((L4-DATE(YEAR(L4+4-WEEKDAY(L4+6)),1,5)+WEEKDAY(DATE(YEAR(L4+4-WEEKDAY(L4+6)),1,3)))/7),\"\")","v":""},{"$f":"DATE($B$3,$B$4,2)","v":"2018-06-02"},{"$f":"DATE($B$3,$B$4,2)","v":"2018-06-02"},null,{"$f":"SUM(N4,BE4)","v":"00:00:00"},null,null,null,null,null,null,{"$f":"IF(AND(W4=\"\",X4=\"\",Y4=\"\",Z4=\"\"),\"\",SUM(W4:Z4))","v":""},{"$f":"IF(AND(AB4=\"\",AG4=\"\",AL4=\"\",AQ4=\"\"),\"\",SUM(AB4,AG4,AL4,AQ4))","v":""},{"$f":"IF(AND(AC4=\"\",AH4=\"\",AM4=\"\",AR4=\"\"),\"\",SUM(AC4,AH4,AM4,AR4))","v":""},{"$f":"IF(AND(AD4=\"\",AE4=\"\",AI4=\"\",AJ4=\"\",AN4=\"\",AO4=\"\",AS4=\"\",AT4=\"\"),\"\",SUM(AD4,AE4,AI4,AJ4,AN4,AO4,AS4,AT4))","v":""},{"$f":"IF(AND(AF4=\"\",AK4=\"\",AP4=\"\",AU4=\"\"),\"\",SUM(AF4,AK4,AP4,AU4))","v":""},{"$f":"IF(ISERROR(IF(NOT(ISERROR(MATCH($M4,Blad2!$A$2:$A$11,0))),7,WEEKDAY($M4,2))),\"\",IF(NOT(ISERROR(MATCH($M4,Blad2!$A$2:$A$11,0))),7,WEEKDAY($M4,2)))","v":6},{"$f":"IF(AND($AA4<6,N4<>\"\",O4<>\"\"),ort($N4,$O4,$AY$3:$AZ$3),\"\")","v":""},{"$f":"IF(AND($AA4<6,N4<>\"\",O4<>\"\"),ort($N4,$O4,$AY$4:$AZ$5),\"\")","v":""},{"$f":"IF(AND($AA4<6,N4<>\"\",O4<>\"\"),ort($N4,$O4,$AY$6:$AZ$7),\"\")","v":""},{"$f":"IF(AND($AA4=6,N4<>\"\",O4<>\"\"),ort($N4,$O4,$AY$8:$AZ$8),\"\")","v":""},{"$f":"IF(AND($AA4=7,N4<>\"\",O4<>\"\"),ort($N4,$O4,$AY$9:$AZ$9),\"\")","v":""},{"$f":"IF(AND($AA4<6,P4<>\"\",Q4<>\"\"),ort($P4,$Q4,$AY$3:$AZ$3),\"\")","v":""},{"$f":"IF(AND($AA4<6,P4<>\"\",Q4<>\"\"),ort($P4,$Q4,$AY$4:$AZ$5),\"\")","v":""},{"$f":"IF(AND($AA4<6,P4<>\"\",Q4<>\"\"),ort($P4,$Q4,$AY$6:$AZ$7),\"\")","v":""},{"$f":"IF(AND($AA4=6,P4<>\"\",Q4<>\"\"),ort($P4,$Q4,$AY$8:$AZ$8),\"\")","v":""},{"$f":"IF(AND($AA4=7,P4<>\"\",Q4<>\"\"),ort($P4,$Q4,$AY$9:$AZ$9),\"\")","v":""},{"$f":"IF(AND($AA4<6,R4<>\"\",S4<>\"\"),ort($R4,$S4,$AY$3:$AZ$3),\"\")","v":""},{"$f":"IF(AND($AA4<6,R4<>\"\",S4<>\"\"),ort($R4,$S4,$AY$4:$AZ$5),\"\")","v":""},{"$f":"IF(AND($AA4<6,R4<>\"\",S4<>\"\"),ort($R4,$S4,$AY$6:$AZ$7),\"\")","v":""},{"$f":"IF(AND($AA4=6,R4<>\"\",S4<>\"\"),ort($R4,$S4,$AY$8:$AZ$8),\"\")","v":""},{"$f":"IF(AND($AA4=7,R4<>\"\",S4<>\"\"),ort($R4,$S4,$AY$9:$AZ$9),\"\")","v":""},{"$f":"IF(AND($AA4<6,T4<>\"\",U4<>\"\"),ort($T4,$U4,$AY$3:$AZ$3),\"\")","v":""},{"$f":"IF(AND($AA4<6,T4<>\"\",U4<>\"\"),ort($T4,$U4,$AY$4:$AZ$5),\"\")","v":""},{"$f":"IF(AND($AA4<6,T4<>\"\",U4<>\"\"),ort($T4,$U4,$AY$6:$AZ$7),\"\")","v":""},{"$f":"IF(AND($AA4=6,T4<>\"\",U4<>\"\"),ort($T4,$U4,$AY$8:$AZ$8),\"\")","v":""},{"$f":"IF(AND($AA4=7,T4<>\"\",U4<>\"\"),ort($T4,$U4,$AY$9:$AZ$9),\"\")","v":""},null,1.25,"m-vr",0.25,0.3125,null,null,null,null,{"$f":"SUM(BB4/20/24,BC4:BD4)","v":"00:00:00"}]
[null,null,"Ma","Di","Wo","Do","Vr","Za","Zo","","",{"$f":"DATE($B$3,$B$4,3)","v":"2018-06-03"},{"$f":"DATE($B$3,$B$4,3)","v":"2018-06-03"},null,"00:00:00",null,null,null,null,null,null,"",{"$f":"IF(AND(AB5=\"\",AG5=\"\",AL5=\"\",AQ5=\"\"),\"\",SUM(AB5,AG5,AL5,AQ5))","v":""},"",{"$f":"IF(AND(AD5=\"\",AE5=\"\",AI5=\"\",AJ5=\"\",AN5=\"\",AO5=\"\",AS5=\"\",AT5=\"\"),\"\",SUM(AD5,AE5,AI5,AJ5,AN5,AO5,AS5,AT5))","v":""},{"$f":"IF(AND(AF5=\"\",AK5=\"\",AP5=\"\",AU5=\"\"),\"\",SUM(AF5,AK5,AP5,AU5))","v":""},{"$f":"IF(ISERROR(IF(NOT(ISERROR(MATCH($M5,Blad2!$A$2:$A$11,0))),7,WEEKDAY($M5,2))),\"\",IF(NOT(ISERROR(MATCH($M5,Blad2!$A$2:$A$11,0))),7,WEEKDAY($M5,2)))","v":7},{"$f":"IF(AND($AA5<6,N5<>\"\",O5<>\"\"),ort($N5,$O5,$AY$3:$AZ$3),\"\")","v":""},{"$f":"IF(AND($AA5<6,N5<>\"\",O5<>\"\"),ort($N5,$O5,$AY$4:$AZ$5),\"\")","v":""},{"$f":"IF(AND($AA5<6,N5<>\"\",O5<>\"\"),ort($N5,$O5,$AY$6:$AZ$7),\"\")","v":""},{"$f":"IF(AND($AA5=6,N5<>\"\",O5<>\"\"),ort($N5,$O5,$AY$8:$AZ$8),\"\")","v":""},{"$f":"IF(AND($AA5=7,N5<>\"\",O5<>\"\"),ort($N5,$O5,$AY$9:$AZ$9),\"\")","v":""},{"$f":"IF(AND($AA5<6,P5<>\"\",Q5<>\"\"),ort($P5,$Q5,$AY$3:$AZ$3),\"\")","v":""},{"$f":"IF(AND($AA5<6,P5<>\"\",Q5<>\"\"),ort($P5,$Q5,$AY$4:$AZ$5),\"\")","v":""},{"$f":"IF(AND($AA5<6,P5<>\"\",Q5<>\"\"),ort($P5,$Q5,$AY$6:$AZ$7),\"\")","v":""},{"$f":"IF(AND($AA5=6,P5<>\"\",Q5<>\"\"),ort($P5,$Q5,$AY$8:$AZ$8),\"\")","v":""},{"$f":"IF(AND($AA5=7,P5<>\"\",Q5<>\"\"),ort($P5,$Q5,$AY$9:$AZ$9),\"\")","v":""},{"$f":"IF(AND($AA5<6,R5<>\"\",S5<>\"\"),ort($R5,$S5,$AY$3:$AZ$3),\"\")","v":""},{"$f":"IF(AND($AA5<6,R5<>\"\",S5<>\"\"),ort($R5,$S5,$AY$4:$AZ$5),\"\")","v":""},{"$f":"IF(AND($AA5<6,R5<>\"\",S5<>\"\"),ort($R5,$S5,$AY$6:$AZ$7),\"\")","v":""},{"$f":"IF(AND($AA5=6,R5<>\"\",S5<>\"\"),ort($R5,$S5,$AY$8:$AZ$8),\"\")","v":""},{"$f":"IF(AND($AA5=7,R5<>\"\",S5<>\"\"),ort($R5,$S5,$AY$9:$AZ$9),\"\")","v":""},{"$f":"IF(AND($AA5<6,T5<>\"\",U5<>\"\"),ort($T5,$U5,$AY$3:$AZ$3),\"\")","v":""},{"$f":"IF(AND($AA5<6,T5<>\"\",U5<>\"\"),ort($T5,$U5,$AY$4:$AZ$5),\"\")","v":""},{"$f":"IF(AND($AA5<6,T5<>\"\",U5<>\"\"),ort($T5,$U5,$AY$6:$AZ$7),\"\")","v":""},{"$f":"IF(AND($AA5=6,T5<>\"\",U5<>\"\"),ort($T5,$U5,$AY$8:$AZ$8),\"\")","v":""},{"$f":"IF(AND($AA5=7,T5<>\"\",U5<>\"\"),ort($T5,$U5,$AY$9:$AZ$9),\"\")","v":""},null,1.25,"m-vr",0.72916666666666663,0.77083333333333337,null,null,null,null,"00:00:00"]
[null,null,{"$f":"IF(WEEKDAY(C4,2)=1,C4,\"\")","v":""},{"$f":"IF(WEEKDAY(C4,2)=2,C4,IF(C6<>\"\",C6+1,\"\"))","v":""},{"$f":"IF(WEEKDAY(C4,2)=3,C4,IF(D6<>\"\",D6+1,\"\"))","v":""},{"$f":"IF(WEEKDAY(C4,2)=4,C4,IF(E6<>\"\",E6+1,\"\"))","v":""},{"$f":"IF(WEEKDAY(C4,2)=5,C4,IF(F6<>\"\",F6+1,\"\"))","v":"2018-06-01"},{"$f":"IF(WEEKDAY(C4,2)=6,C4,IF(G6<>\"\",G6+1,\"\"))","v":"2018-06-02"},{"$f":"IF(WEEKDAY(C4,2)=7,C4,IF(H6<>\"\",H6+1,\"\"))","v":"2018-06-03"},"",23,{"$f":"DATE($B$3,$B$4,4)","v":"2018-06-04"},{"$f":"DATE($B$3,$B$4,4)","v":"2018-06-04"},null,"00:00:00",null,null,null,null,null,null,"","","","","",{"$f":"IF(ISERROR(IF(NOT(ISERROR(MATCH($M6,Blad2!$A$2:$A$11,0))),7,WEEKDAY($M6,2))),\"\",IF(NOT(ISERROR(MATCH($M6,Blad2!$A$2:$A$11,0))),7,WEEKDAY($M6,2)))","v":1},{"$f":"IF(AND($AA6<6,N6<>\"\",O6<>\"\"),ort($N6,$O6,$AY$3:$AZ$3),\"\")","v":""},{"$f":"IF(AND($AA6<6,N6<>\"\",O6<>\"\"),ort($N6,$O6,$AY$4:$AZ$5),\"\")","v":""},{"$f":"IF(AND($AA6<6,N6<>\"\",O6<>\"\"),ort($N6,$O6,$AY$6:$AZ$7),\"\")","v":""},{"$f":"IF(AND($AA6=6,N6<>\"\",O6<>\"\"),ort($N6,$O6,$AY$8:$AZ$8),\"\")","v":""},{"$f":"IF(AND($AA6=7,N6<>\"\",O6<>\"\"),ort($N6,$O6,$AY$9:$AZ$9),\"\")","v":""},{"$f":"IF(AND($AA6<6,P6<>\"\",Q6<>\"\"),ort($P6,$Q6,$AY$3:$AZ$3),\"\")","v":""},{"$f":"IF(AND($AA6<6,P6<>\"\",Q6<>\"\"),ort($P6,$Q6,$AY$4:$AZ$5),\"\")","v":""},{"$f":"IF(AND($AA6<6,P6<>\"\",Q6<>\"\"),ort($P6,$Q6,$AY$6:$AZ$7),\"\")","v":""},{"$f":"IF(AND($AA6=6,P6<>\"\",Q6<>\"\"),ort($P6,$Q6,$AY$8:$AZ$8),\"\")","v":""},{"$f":"IF(AND($AA6=7,P6<>\"\",Q6<>\"\"),ort($P6,$Q6,$AY$9:$AZ$9),\"\")","v":""},{"$f":"IF(AND($AA6<6,R6<>\"\",S6<>\"\"),ort($R6,$S6,$AY$3:$AZ$3),\"\")","v":""},{"$f":"IF(AND($AA6<6,R6<>\"\",S6<>\"\"),ort($R6,$S6,$AY$4:$AZ$5),\"\")","v":""},{"$f":"IF(AND($AA6<6,R6<>\"\",S6<>\"\"),ort($R6,$S6,$AY$6:$AZ$7),\"\")","v":""},{"$f":"IF(AND($AA6=6,R6<>\"\",S6<>\"\"),ort($R6,$S6,$AY$8:$AZ$8),\"\")","v":""},{"$f":"IF(AND($AA6=7,R6<>\"\",S6<>\"\"),ort($R6,$S6,$AY$9:$AZ$9),\"\")","v":""},{"$f":"IF(AND($AA6<6,T6<>\"\",U6<>\"\"),ort($T6,$U6,$AY$3:$AZ$3),\"\")","v":""},{"$f":"IF(AND($AA6<6,T6<>\"\",U6<>\"\"),ort($T6,$U6,$AY$4:$AZ$5),\"\")","v":""},{"$f":"IF(AND($AA6<6,T6<>\"\",U6<>\"\"),ort($T6,$U6,$AY$6:$AZ$7),\"\")","v":""},{"$f":"IF(AND($AA6=6,T6<>\"\",U6<>\"\"),ort($T6,$U6,$AY$8:$AZ$8),\"\")","v":""},{"$f":"IF(AND($AA6=7,T6<>\"\",U6<>\"\"),ort($T6,$U6,$AY$9:$AZ$9),\"\")","v":""},null,1.5,"m-vr",0,0.25,null,null,null,null,"00:00:00"]
[null,null,{"$f":"I6+1","v":"2018-06-04"},{"$f":"C7+1","v":"2018-06-05"},{"$f":"D7+1","v":"2018-06-06"},"2018-06-07","2018-06-08","2018-06-09","2018-06-10","","",{"$f":"DATE($B$3,$B$4,5)","v":"2018-06-05"},{"$f":"DATE($B$3,$B$4,5)","v":"2018-06-05"},null,"00:00:00",null,null,null,null,null,null,"","","","","",{"$f":"IF(ISERROR(IF(NOT(ISERROR(MATCH($M7,Blad2!$A$2:$A$11,0))),7,WEEKDAY($M7,2))),\"\",IF(NOT(ISERROR(MATCH($M7,Blad2!$A$2:$A$11,0))),7,WEEKDAY($M7,2)))","v":2},{"$f":"IF(AND($AA7<6,N7<>\"\",O7<>\"\"),ort($N7,$O7,$AY$3:$AZ$3),\"\")","v":""},{"$f":"IF(AND($AA7<6,N7<>\"\",O7<>\"\"),ort($N7,$O7,$AY$4:$AZ$5),\"\")","v":""},{"$f":"IF(AND($AA7<6,N7<>\"\",O7<>\"\"),ort($N7,$O7,$AY$6:$AZ$7),\"\")","v":""},{"$f":"IF(AND($AA7=6,N7<>\"\",O7<>\"\"),ort($N7,$O7,$AY$8:$AZ$8),\"\")","v":""},{"$f":"IF(AND($AA7=7,N7<>\"\",O7<>\"\"),ort($N7,$O7,$AY$9:$AZ$9),\"\")","v":""},{"$f":"IF(AND($AA7<6,P7<>\"\",Q7<>\"\"),ort($P7,$Q7,$AY$3:$AZ$3),\"\")","v":""},{"$f":"IF(AND($AA7<6,P7<>\"\",Q7<>\"\"),ort($P7,$Q7,$AY$4:$AZ$5),\"\")","v":""},{"$f":"IF(AND($AA7<6,P7<>\"\",Q7<>\"\"),ort($P7,$Q7,$AY$6:$AZ$7),\"\")","v":""},{"$f":"IF(AND($AA7=6,P7<>\"\",Q7<>\"\"),ort($P7,$Q7,$AY$8:$AZ$8),\"\")","v":""},{"$f":"IF(AND($AA7=7,P7<>\"\",Q7<>\"\"),ort($P7,$Q7,$AY$9:$AZ$9),\"\")","v":""},{"$f":"IF(AND($AA7<6,R7<>\"\",S7<>\"\"),ort($R7,$S7,$AY$3:$AZ$3),\"\")","v":""},{"$f":"IF(AND($AA7<6,R7<>\"\",S7<>\"\"),ort($R7,$S7,$AY$4:$AZ$5),\"\")","v":""},{"$f":"IF(AND($AA7<6,R7<>\"\",S7<>\"\"),ort($R7,$S7,$AY$6:$AZ$7),\"\")","v":""},{"$f":"IF(AND($AA7=6,R7<>\"\",S7<>\"\"),ort($R7,$S7,$AY$8:$AZ$8),\"\")","v":""},{"$f":"IF(AND($AA7=7,R7<>\"\",S7<>\"\"),ort($R7,$S7,$AY$9:$AZ$9),\"\")","v":""},{"$f":"IF(AND($AA7<6,T7<>\"\",U7<>\"\"),ort($T7,$U7,$AY$3:$AZ$3),\"\")","v":""},{"$f":"IF(AND($AA7<6,T7<>\"\",U7<>\"\"),ort($T7,$U7,$AY$4:$AZ$5),\"\")","v":""},{"$f":"IF(AND($AA7<6,T7<>\"\",U7<>\"\"),ort($T7,$U7,$AY$6:$AZ$7),\"\")","v":""},{"$f":"IF(AND($AA7=6,T7<>\"\",U7<>\"\"),ort($T7,$U7,$AY$8:$AZ$8),\"\")","v":""},{"$f":"IF(AND($AA7=7,T7<>\"\",U7<>\"\"),ort($T7,$U7,$AY$9:$AZ$9),\"\")","v":""},null,1.5,"m-vr",0.77083333333333337,1,null,null,null,null,{"$f":"SUM(BB7/18/24,BC7:BD7)","v":"00:00:00"}]
[null,null,{"$f":"I7+1","v":"2018-06-11"},{"$f":"C8+1","v":"2018-06-12"},"2018-06-13","2018-06-14","2018-06-15","2018-06-16","2018-06-17","","",{"$f":"DATE($B$3,$B$4,6)","v":"2018-06-06"},{"$f":"DATE($B$3,$B$4,6)","v":"2018-06-06"},null,"00:00:00",null,null,null,null,null,null,"","","","","",{"$f":"IF(ISERROR(IF(NOT(ISERROR(MATCH($M8,Blad2!$A$2:$A$11,0))),7,WEEKDAY($M8,2))),\"\",IF(NOT(ISERROR(MATCH($M8,Blad2!$A$2:$A$11,0))),7,WEEKDAY($M8,2)))","v":3},{"$f":"IF(AND($AA8<6,N8<>\"\",O8<>\"\"),ort($N8,$O8,$AY$3:$AZ$3),\"\")","v":""},{"$f":"IF(AND($AA8<6,N8<>\"\",O8<>\"\"),ort($N8,$O8,$AY$4:$AZ$5),\"\")","v":""},{"$f":"IF(AND($AA8<6,N8<>\"\",O8<>\"\"),ort($N8,$O8,$AY$6:$AZ$7),\"\")","v":""},{"$f":"IF(AND($AA8=6,N8<>\"\",O8<>\"\"),ort($N8,$O8,$AY$8:$AZ$8),\"\")","v":""},{"$f":"IF(AND($AA8=7,N8<>\"\",O8<>\"\"),ort($N8,$O8,$AY$9:$AZ$9),\"\")","v":""},{"$f":"IF(AND($AA8<6,P8<>\"\",Q8<>\"\"),ort($P8,$Q8,$AY$3:$AZ$3),\"\")","v":""},{"$f":"IF(AND($AA8<6,P8<>\"\",Q8<>\"\"),ort($P8,$Q8,$AY$4:$AZ$5),\"\")","v":""},{"$f":"IF(AND($AA8<6,P8<>\"\",Q8<>\"\"),ort($P8,$Q8,$AY$6:$AZ$7),\"\")","v":""},{"$f":"IF(AND($AA8=6,P8<>\"\",Q8<>\"\"),ort($P8,$Q8,$AY$8:$AZ$8),\"\")","v":""},{"$f":"IF(AND($AA8=7,P8<>\"\",Q8<>\"\"),ort($P8,$Q8,$AY$9:$AZ$9),\"\")","v":""},{"$f":"IF(AND($AA8<6,R8<>\"\",S8<>\"\"),ort($R8,$S8,$AY$3:$AZ$3),\"\")","v":""},{"$f":"IF(AND($AA8<6,R8<>\"\",S8<>\"\"),ort($R8,$S8,$AY$4:$AZ$5),\"\")","v":""},{"$f":"IF(AND($AA8<6,R8<>\"\",S8<>\"\"),ort($R8,$S8,$AY$6:$AZ$7),\"\")","v":""},{"$f":"IF(AND($AA8=6,R8<>\"\",S8<>\"\"),ort($R8,$S8,$AY$8:$AZ$8),\"\")","v":""},{"$f":"IF(AND($AA8=7,R8<>\"\",S8<>\"\"),ort($R8,$S8,$AY$9:$AZ$9),\"\")","v":""},{"$f":"IF(AND($AA8<6,T8<>\"\",U8<>\"\"),ort($T8,$U8,$AY$3:$AZ$3),\"\")","v":""},{"$f":"IF(AND($AA8<6,T8<>\"\",U8<>\"\"),ort($T8,$U8,$AY$4:$AZ$5),\"\")","v":""},{"$f":"IF(AND($AA8<6,T8<>\"\",U8<>\"\"),ort($T8,$U8,$AY$6:$AZ$7),\"\")","v":""},{"$f":"IF(AND($AA8=6,T8<>\"\",U8<>\"\"),ort($T8,$U8,$AY$8:$AZ$8),\"\")","v":""},{"$f":"IF(AND($AA8=7,T8<>\"\",U8<>\"\"),ort($T8,$U8,$AY$9:$AZ$9),\"\")","v":""},null,1.5,"za",0,1,null,null,null,null,{"$f":"SUM(BB8/19/24,BC8:BD8)","v":"00:00:00"}]
[null,null,{"$f":"I8+1","v":"2018-06-18"},{"$f":"C9+1","v":"2018-06-19"},"2018-06-20","2018-06-21","2018-06-22","2018-06-23","2018-06-24","","",{"$f":"DATE($B$3,$B$4,7)","v":"2018-06-07"},{"$f":"DATE($B$3,$B$4,7)","v":"2018-06-07"},null,"00:00:00",null,null,null,null,null,null,"","","","","",{"$f":"IF(ISERROR(IF(NOT(ISERROR(MATCH($M9,Blad2!$A$2:$A$11,0))),7,WEEKDAY($M9,2))),\"\",IF(NOT(ISERROR(MATCH($M9,Blad2!$A$2:$A$11,0))),7,WEEKDAY($M9,2)))","v":4},{"$f":"IF(AND($AA9<6,N9<>\"\",O9<>\"\"),ort($N9,$O9,$AY$3:$AZ$3),\"\")","v":""},{"$f":"IF(AND($AA9<6,N9<>\"\",O9<>\"\"),ort($N9,$O9,$AY$4:$AZ$5),\"\")","v":""},{"$f":"IF(AND($AA9<6,N9<>\"\",O9<>\"\"),ort($N9,$O9,$AY$6:$AZ$7),\"\")","v":""},{"$f":"IF(AND($AA9=6,N9<>\"\",O9<>\"\"),ort($N9,$O9,$AY$8:$AZ$8),\"\")","v":""},{"$f":"IF(AND($AA9=7,N9<>\"\",O9<>\"\"),ort($N9,$O9,$AY$9:$AZ$9),\"\")","v":""},{"$f":"IF(AND($AA9<6,P9<>\"\",Q9<>\"\"),ort($P9,$Q9,$AY$3:$AZ$3),\"\")","v":""},{"$f":"IF(AND($AA9<6,P9<>\"\",Q9<>\"\"),ort($P9,$Q9,$AY$4:$AZ$5),\"\")","v":""},{"$f":"IF(AND($AA9<6,P9<>\"\",Q9<>\"\"),ort($P9,$Q9,$AY$6:$AZ$7),\"\")","v":""},{"$f":"IF(AND($AA9=6,P9<>\"\",Q9<>\"\"),ort($P9,$Q9,$AY$8:$AZ$8),\"\")","v":""},{"$f":"IF(AND($AA9=7,P9<>\"\",Q9<>\"\"),ort($P9,$Q9,$AY$9:$AZ$9),\"\")","v":""},{"$f":"IF(AND($AA9<6,R9<>\"\",S9<>\"\"),ort($R9,$S9,$AY$3:$AZ$3),\"\")","v":""},{"$f":"IF(AND($AA9<6,R9<>\"\",S9<>\"\"),ort($R9,$S9,$AY$4:$AZ$5),\"\")","v":""},{"$f":"IF(AND($AA9<6,R9<>\"\",S9<>\"\"),ort($R9,$S9,$AY$6:$AZ$7),\"\")","v":""},{"$f":"IF(AND($AA9=6,R9<>\"\",S9<>\"\"),ort($R9,$S9,$AY$8:$AZ$8),\"\")","v":""},{"$f":"IF(AND($AA9=7,R9<>\"\",S9<>\"\"),ort($R9,$S9,$AY$9:$AZ$9),\"\")","v":""},{"$f":"IF(AND($AA9<6,T9<>\"\",U9<>\"\"),ort($T9,$U9,$AY$3:$AZ$3),\"\")","v":""},{"$f":"IF(AND($AA9<6,T9<>\"\",U9<>\"\"),ort($T9,$U9,$AY$4:$AZ$5),\"\")","v":""},{"$f":"IF(AND($AA9<6,T9<>\"\",U9<>\"\"),ort($T9,$U9,$AY$6:$AZ$7),\"\")","v":""},{"$f":"IF(AND($AA9=6,T9<>\"\",U9<>\"\"),ort($T9,$U9,$AY$8:$AZ$8),\"\")","v":""},{"$f":"IF(AND($AA9=7,T9<>\"\",U9<>\"\"),ort($T9,$U9,$AY$9:$AZ$9),\"\")","v":""},null,2,"zo/feest",0,1,null,null,null,null,{"$f":"SUM(BB9/19/24,BC9:BD9)","v":"00:00:00"}]
[null,null,{"$f":"IF(I9=\"\",\"\",IF(MONTH(I9+1)=MONTH(I9),I9+1,\"\"))","v":"2018-06-25"},{"$f":"IF(C10=\"\",\"\",IF(MONTH(C10+1)=MONTH(C10),C10+1,\"\"))","v":"2018-06-26"},{"$f":"IF(D10=\"\",\"\",IF(MONTH(D10+1)=MONTH(D10),D10+1,\"\"))","v":"2018-06-27"},"2018-06-28","2018-06-29","2018-06-30","","","",{"$f":"DATE($B$3,$B$4,8)","v":"2018-06-08"},{"$f":"DATE($B$3,$B$4,8)","v":"2018-06-08"},null,"00:00:00",null,null,null,null,null,null,"","","","","",{"$f":"IF(ISERROR(IF(NOT(ISERROR(MATCH($M10,Blad2!$A$2:$A$11,0))),7,WEEKDAY($M10,2))),\"\",IF(NOT(ISERROR(MATCH($M10,Blad2!$A$2:$A$11,0))),7,WEEKDAY($M10,2)))","v":5},{"$f":"IF(AND($AA10<6,N10<>\"\",O10<>\"\"),ort($N10,$O10,$AY$3:$AZ$3),\"\")","v":""},{"$f":"IF(AND($AA10<6,N10<>\"\",O10<>\"\"),ort($N10,$O10,$AY$4:$AZ$5),\"\")","v":""},{"$f":"IF(AND($AA10<6,N10<>\"\",O10<>\"\"),ort($N10,$O10,$AY$6:$AZ$7),\"\")","v":""},{"$f":"IF(AND($AA10=6,N10<>\"\",O10<>\"\"),ort($N10,$O10,$AY$8:$AZ$8),\"\")","v":""},{"$f":"IF(AND($AA10=7,N10<>\"\",O10<>\"\"),ort($N10,$O10,$AY$9:$AZ$9),\"\")","v":""},{"$f":"IF(AND($AA10<6,P10<>\"\",Q10<>\"\"),ort($P10,$Q10,$AY$3:$AZ$3),\"\")","v":""},{"$f":"IF(AND($AA10<6,P10<>\"\",Q10<>\"\"),ort($P10,$Q10,$AY$4:$AZ$5),\"\")","v":""},{"$f":"IF(AND($AA10<6,P10<>\"\",Q10<>\"\"),ort($P10,$Q10,$AY$6:$AZ$7),\"\")","v":""},{"$f":"IF(AND($AA10=6,P10<>\"\",Q10<>\"\"),ort($P10,$Q10,$AY$8:$AZ$8),\"\")","v":""},{"$f":"IF(AND($AA10=7,P10<>\"\",Q10<>\"\"),ort($P10,$Q10,$AY$9:$AZ$9),\"\")","v":""},{"$f":"IF(AND($AA10<6,R10<>\"\",S10<>\"\"),ort($R10,$S10,$AY$3:$AZ$3),\"\")","v":""},{"$f":"IF(AND($AA10<6,R10<>\"\",S10<>\"\"),ort($R10,$S10,$AY$4:$AZ$5),\"\")","v":""},{"$f":"IF(AND($AA10<6,R10<>\"\",S10<>\"\"),ort($R10,$S10,$AY$6:$AZ$7),\"\")","v":""},{"$f":"IF(AND($AA10=6,R10<>\"\",S10<>\"\"),ort($R10,$S10,$AY$8:$AZ$8),\"\")","v":""},{"$f":"IF(AND($AA10=7,R10<>\"\",S10<>\"\"),ort($R10,$S10,$AY$9:$AZ$9),\"\")","v":""},{"$f":"IF(AND($AA10<6,T10<>\"\",U10<>\"\"),ort($T10,$U10,$AY$3:$AZ$3),\"\")","v":""},{"$f":"IF(AND($AA10<6,T10<>\"\",U10<>\"\"),ort($T10,$U10,$AY$4:$AZ$5),\"\")","v":""},{"$f":"IF(AND($AA10<6,T10<>\"\",U10<>\"\"),ort($T10,$U10,$AY$6:$AZ$7),\"\")","v":""},{"$f":"IF(AND($AA10=6,T10<>\"\",U10<>\"\"),ort($T10,$U10,$AY$8:$AZ$8),\"\")","v":""},{"$f":"IF(AND($AA10=7,T10<>\"\",U10<>\"\"),ort($T10,$U10,$AY$9:$AZ$9),\"\")","v":""},null,null,null,null,null,null,null,null,null,{"$f":"SUM(BB10/18/24,BC10:BD10)","v":"00:00:00"}]
[null,null,{"$f":"IF(I10=\"\",\"\",IF(MONTH(I10+1)=MONTH(I10),I10+1,\"\"))","v":""},{"$f":"IF(C11=\"\",\"\",IF(MONTH(C11+1)=MONTH(C11),C11+1,\"\"))","v":""},"","","","","","","",{"$f":"DATE($B$3,$B$4,9)","v":"2018-06-09"},{"$f":"DATE($B$3,$B$4,9)","v":"2018-06-09"},null,"00:00:00",null,null,null,null,null,null,"","","","","",{"$f":"IF(ISERROR(IF(NOT(ISERROR(MATCH($M11,Blad2!$A$2:$A$11,0))),7,WEEKDAY($M11,2))),\"\",IF(NOT(ISERROR(MATCH($M11,Blad2!$A$2:$A$11,0))),7,WEEKDAY($M11,2)))","v":6},{"$f":"IF(AND($AA11<6,N11<>\"\",O11<>\"\"),ort($N11,$O11,$AY$3:$AZ$3),\"\")","v":""},{"$f":"IF(AND($AA11<6,N11<>\"\",O11<>\"\"),ort($N11,$O11,$AY$4:$AZ$5),\"\")","v":""},{"$f":"IF(AND($AA11<6,N11<>\"\",O11<>\"\"),ort($N11,$O11,$AY$6:$AZ$7),\"\")","v":""},{"$f":"IF(AND($AA11=6,N11<>\"\",O11<>\"\"),ort($N11,$O11,$AY$8:$AZ$8),\"\")","v":""},{"$f":"IF(AND($AA11=7,N11<>\"\",O11<>\"\"),ort($N11,$O11,$AY$9:$AZ$9),\"\")","v":""},{"$f":"IF(AND($AA11<6,P11<>\"\",Q11<>\"\"),ort($P11,$Q11,$AY$3:$AZ$3),\"\")","v":""},{"$f":"IF(AND($AA11<6,P11<>\"\",Q11<>\"\"),ort($P11,$Q11,$AY$4:$AZ$5),\"\")","v":""},{"$f":"IF(AND($AA11<6,P11<>\"\",Q11<>\"\"),ort($P11,$Q11,$AY$6:$AZ$7),\"\")","v":""},{"$f":"IF(AND($AA11=6,P11<>\"\",Q11<>\"\"),ort($P11,$Q11,$AY$8:$AZ$8),\"\")","v":""},{"$f":"IF(AND($AA11=7,P11<>\"\",Q11<>\"\"),ort($P11,$Q11,$AY$9:$AZ$9),\"\")","v":""},{"$f":"IF(AND($AA11<6,R11<>\"\",S11<>\"\"),ort($R11,$S11,$AY$3:$AZ$3),\"\")","v":""},{"$f":"IF(AND($AA11<6,R11<>\"\",S11<>\"\"),ort($R11,$S11,$AY$4:$AZ$5),\"\")","v":""},{"$f":"IF(AND($AA11<6,R11<>\"\",S11<>\"\"),ort($R11,$S11,$AY$6:$AZ$7),\"\")","v":""},{"$f":"IF(AND($AA11=6,R11<>\"\",S11<>\"\"),ort($R11,$S11,$AY$8:$AZ$8),\"\")","v":""},{"$f":"IF(AND($AA11=7,R11<>\"\",S11<>\"\"),ort($R11,$S11,$AY$9:$AZ$9),\"\")","v":""},{"$f":"IF(AND($AA11<6,T11<>\"\",U11<>\"\"),ort($T11,$U11,$AY$3:$AZ$3),\"\")","v":""},{"$f":"IF(AND($AA11<6,T11<>\"\",U11<>\"\"),ort($T11,$U11,$AY$4:$AZ$5),\"\")","v":""},{"$f":"IF(AND($AA11<6,T11<>\"\",U11<>\"\"),ort($T11,$U11,$AY$6:$AZ$7),\"\")","v":""},{"$f":"IF(AND($AA11=6,T11<>\"\",U11<>\"\"),ort($T11,$U11,$AY$8:$AZ$8),\"\")","v":""},{"$f":"IF(AND($AA11=7,T11<>\"\",U11<>\"\"),ort($T11,$U11,$AY$9:$AZ$9),\"\")","v":""},null,null,null,null,null,null,null,null,null,"00:00:00"]
[null,null,null,null,null,null,null,null,null,"","",{"$f":"DATE($B$3,$B$4,10)","v":"2018-06-10"},{"$f":"DATE($B$3,$B$4,10)","v":"2018-06-10"},null,"00:00:00",null,null,null,null,null,null,"","","","","",{"$f":"IF(ISERROR(IF(NOT(ISERROR(MATCH($M12,Blad2!$A$2:$A$11,0))),7,WEEKDAY($M12,2))),\"\",IF(NOT(ISERROR(MATCH($M12,Blad2!$A$2:$A$11,0))),7,WEEKDAY($M12,2)))","v":7},{"$f":"IF(AND($AA12<6,N12<>\"\",O12<>\"\"),ort($N12,$O12,$AY$3:$AZ$3),\"\")","v":""},{"$f":"IF(AND($AA12<6,N12<>\"\",O12<>\"\"),ort($N12,$O12,$AY$4:$AZ$5),\"\")","v":""},{"$f":"IF(AND($AA12<6,N12<>\"\",O12<>\"\"),ort($N12,$O12,$AY$6:$AZ$7),\"\")","v":""},{"$f":"IF(AND($AA12=6,N12<>\"\",O12<>\"\"),ort($N12,$O12,$AY$8:$AZ$8),\"\")","v":""},{"$f":"IF(AND($AA12=7,N12<>\"\",O12<>\"\"),ort($N12,$O12,$AY$9:$AZ$9),\"\")","v":""},{"$f":"IF(AND($AA12<6,P12<>\"\",Q12<>\"\"),ort($P12,$Q12,$AY$3:$AZ$3),\"\")","v":""},{"$f":"IF(AND($AA12<6,P12<>\"\",Q12<>\"\"),ort($P12,$Q12,$AY$4:$AZ$5),\"\")","v":""},{"$f":"IF(AND($AA12<6,P12<>\"\",Q12<>\"\"),ort($P12,$Q12,$AY$6:$AZ$7),\"\")","v":""},{"$f":"IF(AND($AA12=6,P12<>\"\",Q12<>\"\"),ort($P12,$Q12,$AY$8:$AZ$8),\"\")","v":""},{"$f":"IF(AND($AA12=7,P12<>\"\",Q12<>\"\"),ort($P12,$Q12,$AY$9:$AZ$9),\"\")","v":""},{"$f":"IF(AND($AA12<6,R12<>\"\",S12<>\"\"),ort($R12,$S12,$AY$3:$AZ$3),\"\")","v":""},{"$f":"IF(AND($AA12<6,R12<>\"\",S12<>\"\"),ort($R12,$S12,$AY$4:$AZ$5),\"\")","v":""},{"$f":"IF(AND($AA12<6,R12<>\"\",S12<>\"\"),ort($R12,$S12,$AY$6:$AZ$7),\"\")","v":""},{"$f":"IF(AND($AA12=6,R12<>\"\",S12<>\"\"),ort($R12,$S12,$AY$8:$AZ$8),\"\")","v":""},{"$f":"IF(AND($AA12=7,R12<>\"\",S12<>\"\"),ort($R12,$S12,$AY$9:$AZ$9),\"\")","v":""},{"$f":"IF(AND($AA12<6,T12<>\"\",U12<>\"\"),ort($T12,$U12,$AY$3:$AZ$3),\"\")","v":""},{"$f":"IF(AND($AA12<6,T12<>\"\",U12<>\"\"),ort($T12,$U12,$AY$4:$AZ$5),\"\")","v":""},{"$f":"IF(AND($AA12<6,T12<>\"\",U12<>\"\"),ort($T12,$U12,$AY$6:$AZ$7),\"\")","v":""},{"$f":"IF(AND($AA12=6,T12<>\"\",U12<>\"\"),ort($T12,$U12,$AY$8:$AZ$8),\"\")","v":""},{"$f":"IF(AND($AA12=7,T12<>\"\",U12<>\"\"),ort($T12,$U12,$AY$9:$AZ$9),\"\")","v":""},null,null,null,null,null,null,null,null,null,"00:00:00"]
[null,"Werkdagen deze maand",null,null,null,null,null,null,null,"",24,{"$f":"DATE($B$3,$B$4,11)","v":"2018-06-11"},{"$f":"DATE($B$3,$B$4,11)","v":"2018-06-11"},null,"00:00:00",null,null,null,null,null,null,"","","","","",{"$f":"IF(ISERROR(IF(NOT(ISERROR(MATCH($M13,Blad2!$A$2:$A$11,0))),7,WEEKDAY($M13,2))),\"\",IF(NOT(ISERROR(MATCH($M13,Blad2!$A$2:$A$11,0))),7,WEEKDAY($M13,2)))","v":1},{"$f":"IF(AND($AA13<6,N13<>\"\",O13<>\"\"),ort($N13,$O13,$AY$3:$AZ$3),\"\")","v":""},{"$f":"IF(AND($AA13<6,N13<>\"\",O13<>\"\"),ort($N13,$O13,$AY$4:$AZ$5),\"\")","v":""},{"$f":"IF(AND($AA13<6,N13<>\"\",O13<>\"\"),ort($N13,$O13,$AY$6:$AZ$7),\"\")","v":""},{"$f":"IF(AND($AA13=6,N13<>\"\",O13<>\"\"),ort($N13,$O13,$AY$8:$AZ$8),\"\")","v":""},{"$f":"IF(AND($AA13=7,N13<>\"\",O13<>\"\"),ort($N13,$O13,$AY$9:$AZ$9),\"\")","v":""},{"$f":"IF(AND($AA13<6,P13<>\"\",Q13<>\"\"),ort($P13,$Q13,$AY$3:$AZ$3),\"\")","v":""},{"$f":"IF(AND($AA13<6,P13<>\"\",Q13<>\"\"),ort($P13,$Q13,$AY$4:$AZ$5),\"\")","v":""},{"$f":"IF(AND($AA13<6,P13<>\"\",Q13<>\"\"),ort($P13,$Q13,$AY$6:$AZ$7),\"\")","v":""},{"$f":"IF(AND($AA13=6,P13<>\"\",Q13<>\"\"),ort($P13,$Q13,$AY$8:$AZ$8),\"\")","v":""},{"$f":"IF(AND($AA13=7,P13<>\"\",Q13<>\"\"),ort($P13,$Q13,$AY$9:$AZ$9),\"\")","v":""},{"$f":"IF(AND($AA13<6,R13<>\"\",S13<>\"\"),ort($R13,$S13,$AY$3:$AZ$3),\"\")","v":""},{"$f":"IF(AND($AA13<6,R13<>\"\",S13<>\"\"),ort($R13,$S13,$AY$4:$AZ$5),\"\")","v":""},{"$f":"IF(AND($AA13<6,R13<>\"\",S13<>\"\"),ort($R13,$S13,$AY$6:$AZ$7),\"\")","v":""},{"$f":"IF(AND($AA13=6,R13<>\"\",S13<>\"\"),ort($R13,$S13,$AY$8:$AZ$8),\"\")","v":""},{"$f":"IF(AND($AA13=7,R13<>\"\",S13<>\"\"),ort($R13,$S13,$AY$9:$AZ$9),\"\")","v":""},{"$f":"IF(AND($AA13<6,T13<>\"\",U13<>\"\"),ort($T13,$U13,$AY$3:$AZ$3),\"\")","v":""},{"$f":"IF(AND($AA13<6,T13<>\"\",U13<>\"\"),ort($T13,$U13,$AY$4:$AZ$5),\"\")","v":""},{"$f":"IF(AND($AA13<6,T13<>\"\",U13<>\"\"),ort($T13,$U13,$AY$6:$AZ$7),\"\")","v":""},{"$f":"IF(AND($AA13=6,T13<>\"\",U13<>\"\"),ort($T13,$U13,$AY$8:$AZ$8),\"\")","v":""},{"$f":"IF(AND($AA13=7,T13<>\"\",U13<>\"\"),ort($T13,$U13,$AY$9:$AZ$9),\"\")","v":""},null,null,null,null,null,null,null,null,null,"00:00:00"]
[null,{"$f":"NETWORKDAYS($L$3,EOMONTH($L$3,0),Blad2!A2:A97)&\" dagen\"","v":"21 dagen"},null,null,null,null,null,null,null,"","",{"$f":"DATE($B$3,$B$4,12)","v":"2018-06-12"},{"$f":"DATE($B$3,$B$4,12)","v":"2018-06-12"},null,"00:00:00",null,null,null,null,null,null,"","","","","",{"$f":"IF(ISERROR(IF(NOT(ISERROR(MATCH($M14,Blad2!$A$2:$A$11,0))),7,WEEKDAY($M14,2))),\"\",IF(NOT(ISERROR(MATCH($M14,Blad2!$A$2:$A$11,0))),7,WEEKDAY($M14,2)))","v":2},{"$f":"IF(AND($AA14<6,N14<>\"\",O14<>\"\"),ort($N14,$O14,$AY$3:$AZ$3),\"\")","v":""},{"$f":"IF(AND($AA14<6,N14<>\"\",O14<>\"\"),ort($N14,$O14,$AY$4:$AZ$5),\"\")","v":""},{"$f":"IF(AND($AA14<6,N14<>\"\",O14<>\"\"),ort($N14,$O14,$AY$6:$AZ$7),\"\")","v":""},{"$f":"IF(AND($AA14=6,N14<>\"\",O14<>\"\"),ort($N14,$O14,$AY$8:$AZ$8),\"\")","v":""},{"$f":"IF(AND($AA14=7,N14<>\"\",O14<>\"\"),ort($N14,$O14,$AY$9:$AZ$9),\"\")","v":""},{"$f":"IF(AND($AA14<6,P14<>\"\",Q14<>\"\"),ort($P14,$Q14,$AY$3:$AZ$3),\"\")","v":""},{"$f":"IF(AND($AA14<6,P14<>\"\",Q14<>\"\"),ort($P14,$Q14,$AY$4:$AZ$5),\"\")","v":""},{"$f":"IF(AND($AA14<6,P14<>\"\",Q14<>\"\"),ort($P14,$Q14,$AY$6:$AZ$7),\"\")","v":""},{"$f":"IF(AND($AA14=6,P14<>\"\",Q14<>\"\"),ort($P14,$Q14,$AY$8:$AZ$8),\"\")","v":""},{"$f":"IF(AND($AA14=7,P14<>\"\",Q14<>\"\"),ort($P14,$Q14,$AY$9:$AZ$9),\"\")","v":""},{"$f":"IF(AND($AA14<6,R14<>\"\",S14<>\"\"),ort($R14,$S14,$AY$3:$AZ$3),\"\")","v":""},{"$f":"IF(AND($AA14<6,R14<>\"\",S14<>\"\"),ort($R14,$S14,$AY$4:$AZ$5),\"\")","v":""},{"$f":"IF(AND($AA14<6,R14<>\"\",S14<>\"\"),ort($R14,$S14,$AY$6:$AZ$7),\"\")","v":""},{"$f":"IF(AND($AA14=6,R14<>\"\",S14<>\"\"),ort($R14,$S14,$AY$8:$AZ$8),\"\")","v":""},{"$f":"IF(AND($AA14=7,R14<>\"\",S14<>\"\"),ort($R14,$S14,$AY$9:$AZ$9),\"\")","v":""},{"$f":"IF(AND($AA14<6,T14<>\"\",U14<>\"\"),ort($T14,$U14,$AY$3:$AZ$3),\"\")","v":""},{"$f":"IF(AND($AA14<6,T14<>\"\",U14<>\"\"),ort($T14,$U14,$AY$4:$AZ$5),\"\")","v":""},{"$f":"IF(AND($AA14<6,T14<>\"\",U14<>\"\"),ort($T14,$U14,$AY$6:$AZ$7),\"\")","v":""},{"$f":"IF(AND($AA14=6,T14<>\"\",U14<>\"\"),ort($T14,$U14,$AY$8:$AZ$8),\"\")","v":""},{"$f":"IF(AND($AA14=7,T14<>\"\",U14<>\"\"),ort($T14,$U14,$AY$9:$AZ$9),\"\")","v":""},null,null,null,null,null,null,null,null,null,"00:00:00"]
[null,null,null,null,null,null,null,null,null,"","",{"$f":"DATE($B$3,$B$4,13)","v":"2018-06-13"},{"$f":"DATE($B$3,$B$4,13)","v":"2018-06-13"},null,"00:00:00",null,null,null,null,null,null,"","","","","",{"$f":"IF(ISERROR(IF(NOT(ISERROR(MATCH($M15,Blad2!$A$2:$A$11,0))),7,WEEKDAY($M15,2))),\"\",IF(NOT(ISERROR(MATCH($M15,Blad2!$A$2:$A$11,0))),7,WEEKDAY($M15,2)))","v":3},{"$f":"IF(AND($AA15<6,N15<>\"\",O15<>\"\"),ort($N15,$O15,$AY$3:$AZ$3),\"\")","v":""},{"$f":"IF(AND($AA15<6,N15<>\"\",O15<>\"\"),ort($N15,$O15,$AY$4:$AZ$5),\"\")","v":""},{"$f":"IF(AND($AA15<6,N15<>\"\",O15<>\"\"),ort($N15,$O15,$AY$6:$AZ$7),\"\")","v":""},{"$f":"IF(AND($AA15=6,N15<>\"\",O15<>\"\"),ort($N15,$O15,$AY$8:$AZ$8),\"\")","v":""},{"$f":"IF(AND($AA15=7,N15<>\"\",O15<>\"\"),ort($N15,$O15,$AY$9:$AZ$9),\"\")","v":""},{"$f":"IF(AND($AA15<6,P15<>\"\",Q15<>\"\"),ort($P15,$Q15,$AY$3:$AZ$3),\"\")","v":""},{"$f":"IF(AND($AA15<6,P15<>\"\",Q15<>\"\"),ort($P15,$Q15,$AY$4:$AZ$5),\"\")","v":""},{"$f":"IF(AND($AA15<6,P15<>\"\",Q15<>\"\"),ort($P15,$Q15,$AY$6:$AZ$7),\"\")","v":""},{"$f":"IF(AND($AA15=6,P15<>\"\",Q15<>\"\"),ort($P15,$Q15,$AY$8:$AZ$8),\"\")","v":""},{"$f":"IF(AND($AA15=7,P15<>\"\",Q15<>\"\"),ort($P15,$Q15,$AY$9:$AZ$9),\"\")","v":""},{"$f":"IF(AND($AA15<6,R15<>\"\",S15<>\"\"),ort($R15,$S15,$AY$3:$AZ$3),\"\")","v":""},{"$f":"IF(AND($AA15<6,R15<>\"\",S15<>\"\"),ort($R15,$S15,$AY$4:$AZ$5),\"\")","v":""},{"$f":"IF(AND($AA15<6,R15<>\"\",S15<>\"\"),ort($R15,$S15,$AY$6:$AZ$7),\"\")","v":""},{"$f":"IF(AND($AA15=6,R15<>\"\",S15<>\"\"),ort($R15,$S15,$AY$8:$AZ$8),\"\")","v":""},{"$f":"IF(AND($AA15=7,R15<>\"\",S15<>\"\"),ort($R15,$S15,$AY$9:$AZ$9),\"\")","v":""},{"$f":"IF(AND($AA15<6,T15<>\"\",U15<>\"\"),ort($T15,$U15,$AY$3:$AZ$3),\"\")","v":""},{"$f":"IF(AND($AA15<6,T15<>\"\",U15<>\"\"),ort($T15,$U15,$AY$4:$AZ$5),\"\")","v":""},{"$f":"IF(AND($AA15<6,T15<>\"\",U15<>\"\"),ort($T15,$U15,$AY$6:$AZ$7),\"\")","v":""},{"$f":"IF(AND($AA15=6,T15<>\"\",U15<>\"\"),ort($T15,$U15,$AY$8:$AZ$8),\"\")","v":""},{"$f":"IF(AND($AA15=7,T15<>\"\",U15<>\"\"),ort($T15,$U15,$AY$9:$AZ$9),\"\")","v":""},null,null,null,null,null,null,null,null,null,"00:00:00"]
[null,"Contract Uren",null,null,null,null,null,null,null,"","",{"$f":"DATE($B$3,$B$4,14)","v":"2018-06-14"},{"$f":"DATE($B$3,$B$4,14)","v":"2018-06-14"},null,"00:00:00",null,null,null,null,null,null,"","","","","",{"$f":"IF(ISERROR(IF(NOT(ISERROR(MATCH($M16,Blad2!$A$2:$A$11,0))),7,WEEKDAY($M16,2))),\"\",IF(NOT(ISERROR(MATCH($M16,Blad2!$A$2:$A$11,0))),7,WEEKDAY($M16,2)))","v":4},{"$f":"IF(AND($AA16<6,N16<>\"\",O16<>\"\"),ort($N16,$O16,$AY$3:$AZ$3),\"\")","v":""},{"$f":"IF(AND($AA16<6,N16<>\"\",O16<>\"\"),ort($N16,$O16,$AY$4:$AZ$5),\"\")","v":""},{"$f":"IF(AND($AA16<6,N16<>\"\",O16<>\"\"),ort($N16,$O16,$AY$6:$AZ$7),\"\")","v":""},{"$f":"IF(AND($AA16=6,N16<>\"\",O16<>\"\"),ort($N16,$O16,$AY$8:$AZ$8),\"\")","v":""},{"$f":"IF(AND($AA16=7,N16<>\"\",O16<>\"\"),ort($N16,$O16,$AY$9:$AZ$9),\"\")","v":""},{"$f":"IF(AND($AA16<6,P16<>\"\",Q16<>\"\"),ort($P16,$Q16,$AY$3:$AZ$3),\"\")","v":""},{"$f":"IF(AND($AA16<6,P16<>\"\",Q16<>\"\"),ort($P16,$Q16,$AY$4:$AZ$5),\"\")","v":""},{"$f":"IF(AND($AA16<6,P16<>\"\",Q16<>\"\"),ort($P16,$Q16,$AY$6:$AZ$7),\"\")","v":""},{"$f":"IF(AND($AA16=6,P16<>\"\",Q16<>\"\"),ort($P16,$Q16,$AY$8:$AZ$8),\"\")","v":""},{"$f":"IF(AND($AA16=7,P16<>\"\",Q16<>\"\"),ort($P16,$Q16,$AY$9:$AZ$9),\"\")","v":""},{"$f":"IF(AND($AA16<6,R16<>\"\",S16<>\"\"),ort($R16,$S16,$AY$3:$AZ$3),\"\")","v":""},{"$f":"IF(AND($AA16<6,R16<>\"\",S16<>\"\"),ort($R16,$S16,$AY$4:$AZ$5),\"\")","v":""},{"$f":"IF(AND($AA16<6,R16<>\"\",S16<>\"\"),ort($R16,$S16,$AY$6:$AZ$7),\"\")","v":""},{"$f":"IF(AND($AA16=6,R16<>\"\",S16<>\"\"),ort($R16,$S16,$AY$8:$AZ$8),\"\")","v":""},{"$f":"IF(AND($AA16=7,R16<>\"\",S16<>\"\"),ort($R16,$S16,$AY$9:$AZ$9),\"\")","v":""},{"$f":"IF(AND($AA16<6,T16<>\"\",U16<>\"\"),ort($T16,$U16,$AY$3:$AZ$3),\"\")","v":""},{"$f":"IF(AND($AA16<6,T16<>\"\",U16<>\"\"),ort($T16,$U16,$AY$4:$AZ$5),\"\")","v":""},{"$f":"IF(AND($AA16<6,T16<>\"\",U16<>\"\"),ort($T16,$U16,$AY$6:$AZ$7),\"\")","v":""},{"$f":"IF(AND($AA16=6,T16<>\"\",U16<>\"\"),ort($T16,$U16,$AY$8:$AZ$8),\"\")","v":""},{"$f":"IF(AND($AA16=7,T16<>\"\",U16<>\"\"),ort($T16,$U16,$AY$9:$AZ$9),\"\")","v":""},null,null,null,null,null,null,null,null,null,"00:00:00"]
[null,3.75,null,null,null,null,null,null,null,"","",{"$f":"DATE($B$3,$B$4,15)","v":"2018-06-15"},{"$f":"DATE($B$3,$B$4,15)","v":"2018-06-15"},null,"00:00:00",null,null,null,null,null,null,"","","","","",{"$f":"IF(ISERROR(IF(NOT(ISERROR(MATCH($M17,Blad2!$A$2:$A$11,0))),7,WEEKDAY($M17,2))),\"\",IF(NOT(ISERROR(MATCH($M17,Blad2!$A$2:$A$11,0))),7,WEEKDAY($M17,2)))","v":5},{"$f":"IF(AND($AA17<6,N17<>\"\",O17<>\"\"),ort($N17,$O17,$AY$3:$AZ$3),\"\")","v":""},{"$f":"IF(AND($AA17<6,N17<>\"\",O17<>\"\"),ort($N17,$O17,$AY$4:$AZ$5),\"\")","v":""},{"$f":"IF(AND($AA17<6,N17<>\"\",O17<>\"\"),ort($N17,$O17,$AY$6:$AZ$7),\"\")","v":""},{"$f":"IF(AND($AA17=6,N17<>\"\",O17<>\"\"),ort($N17,$O17,$AY$8:$AZ$8),\"\")","v":""},{"$f":"IF(AND($AA17=7,N17<>\"\",O17<>\"\"),ort($N17,$O17,$AY$9:$AZ$9),\"\")","v":""},{"$f":"IF(AND($AA17<6,P17<>\"\",Q17<>\"\"),ort($P17,$Q17,$AY$3:$AZ$3),\"\")","v":""},{"$f":"IF(AND($AA17<6,P17<>\"\",Q17<>\"\"),ort($P17,$Q17,$AY$4:$AZ$5),\"\")","v":""},{"$f":"IF(AND($AA17<6,P17<>\"\",Q17<>\"\"),ort($P17,$Q17,$AY$6:$AZ$7),\"\")","v":""},{"$f":"IF(AND($AA17=6,P17<>\"\",Q17<>\"\"),ort($P17,$Q17,$AY$8:$AZ$8),\"\")","v":""},{"$f":"IF(AND($AA17=7,P17<>\"\",Q17<>\"\"),ort($P17,$Q17,$AY$9:$AZ$9),\"\")","v":""},{"$f":"IF(AND($AA17<6,R17<>\"\",S17<>\"\"),ort($R17,$S17,$AY$3:$AZ$3),\"\")","v":""},{"$f":"IF(AND($AA17<6,R17<>\"\",S17<>\"\"),ort($R17,$S17,$AY$4:$AZ$5),\"\")","v":""},{"$f":"IF(AND($AA17<6,R17<>\"\",S17<>\"\"),ort($R17,$S17,$AY$6:$AZ$7),\"\")","v":""},{"$f":"IF(AND($AA17=6,R17<>\"\",S17<>\"\"),ort($R17,$S17,$AY$8:$AZ$8),\"\")","v":""},{"$f":"IF(AND($AA17=7,R17<>\"\",S17<>\"\"),ort($R17,$S17,$AY$9:$AZ$9),\"\")","v":""},{"$f":"IF(AND($AA17<6,T17<>\"\",U17<>\"\"),ort($T17,$U17,$AY$3:$AZ$3),\"\")","v":""},{"$f":"IF(AND($AA17<6,T17<>\"\",U17<>\"\"),ort($T17,$U17,$AY$4:$AZ$5),\"\")","v":""},{"$f":"IF(AND($AA17<6,T17<>\"\",U17<>\"\"),ort($T17,$U17,$AY$6:$AZ$7),\"\")","v":""},{"$f":"IF(AND($AA17=6,T17<>\"\",U17<>\"\"),ort($T17,$U17,$AY$8:$AZ$8),\"\")","v":""},{"$f":"IF(AND($AA17=7,T17<>\"\",U17<>\"\"),ort($T17,$U17,$AY$9:$AZ$9),\"\")","v":""},null,null,null,null,null,null,null,null,null,"00:00:00"]
[null,null,null,null,null,null,null,null,null,"","",{"$f":"DATE($B$3,$B$4,16)","v":"2018-06-16"},{"$f":"DATE($B$3,$B$4,16)","v":"2018-06-16"},null,"00:00:00",null,null,null,null,null,null,"","","","","",{"$f":"IF(ISERROR(IF(NOT(ISERROR(MATCH($M18,Blad2!$A$2:$A$11,0))),7,WEEKDAY($M18,2))),\"\",IF(NOT(ISERROR(MATCH($M18,Blad2!$A$2:$A$11,0))),7,WEEKDAY($M18,2)))","v":6},{"$f":"IF(AND($AA18<6,N18<>\"\",O18<>\"\"),ort($N18,$O18,$AY$3:$AZ$3),\"\")","v":""},{"$f":"IF(AND($AA18<6,N18<>\"\",O18<>\"\"),ort($N18,$O18,$AY$4:$AZ$5),\"\")","v":""},{"$f":"IF(AND($AA18<6,N18<>\"\",O18<>\"\"),ort($N18,$O18,$AY$6:$AZ$7),\"\")","v":""},{"$f":"IF(AND($AA18=6,N18<>\"\",O18<>\"\"),ort($N18,$O18,$AY$8:$AZ$8),\"\")","v":""},{"$f":"IF(AND($AA18=7,N18<>\"\",O18<>\"\"),ort($N18,$O18,$AY$9:$AZ$9),\"\")","v":""},{"$f":"IF(AND($AA18<6,P18<>\"\",Q18<>\"\"),ort($P18,$Q18,$AY$3:$AZ$3),\"\")","v":""},{"$f":"IF(AND($AA18<6,P18<>\"\",Q18<>\"\"),ort($P18,$Q18,$AY$4:$AZ$5),\"\")","v":""},{"$f":"IF(AND($AA18<6,P18<>\"\",Q18<>\"\"),ort($P18,$Q18,$AY$6:$AZ$7),\"\")","v":""},{"$f":"IF(AND($AA18=6,P18<>\"\",Q18<>\"\"),ort($P18,$Q18,$AY$8:$AZ$8),\"\")","v":""},{"$f":"IF(AND($AA18=7,P18<>\"\",Q18<>\"\"),ort($P18,$Q18,$AY$9:$AZ$9),\"\")","v":""},{"$f":"IF(AND($AA18<6,R18<>\"\",S18<>\"\"),ort($R18,$S18,$AY$3:$AZ$3),\"\")","v":""},{"$f":"IF(AND($AA18<6,R18<>\"\",S18<>\"\"),ort($R18,$S18,$AY$4:$AZ$5),\"\")","v":""},{"$f":"IF(AND($AA18<6,R18<>\"\",S18<>\"\"),ort($R18,$S18,$AY$6:$AZ$7),\"\")","v":""},{"$f":"IF(AND($AA18=6,R18<>\"\",S18<>\"\"),ort($R18,$S18,$AY$8:$AZ$8),\"\")","v":""},{"$f":"IF(AND($AA18=7,R18<>\"\",S18<>\"\"),ort($R18,$S18,$AY$9:$AZ$9),\"\")","v":""},{"$f":"IF(AND($AA18<6,T18<>\"\",U18<>\"\"),ort($T18,$U18,$AY$3:$AZ$3),\"\")","v":""},{"$f":"IF(AND($AA18<6,T18<>\"\",U18<>\"\"),ort($T18,$U18,$AY$4:$AZ$5),\"\")","v":""},{"$f":"IF(AND($AA18<6,T18<>\"\",U18<>\"\"),ort($T18,$U18,$AY$6:$AZ$7),\"\")","v":""},{"$f":"IF(AND($AA18=6,T18<>\"\",U18<>\"\"),ort($T18,$U18,$AY$8:$AZ$8),\"\")","v":""},{"$f":"IF(AND($AA18=7,T18<>\"\",U18<>\"\"),ort($T18,$U18,$AY$9:$AZ$9),\"\")","v":""},null,null,null,null,null,null,null,null,null,"00:00:00"]
[null,"Gewerkte uren deze maand",null,null,null,null,null,null,null,"","",{"$f":"DATE($B$3,$B$4,17)","v":"2018-06-17"},{"$f":"DATE($B$3,$B$4,17)","v":"2018-06-17"},null,"00:00:00",null,null,null,null,null,null,"","","","","",{"$f":"IF(ISERROR(IF(NOT(ISERROR(MATCH($M19,Blad2!$A$2:$A$11,0))),7,WEEKDAY($M19,2))),\"\",IF(NOT(ISERROR(MATCH($M19,Blad2!$A$2:$A$11,0))),7,WEEKDAY($M19,2)))","v":7},{"$f":"IF(AND($AA19<6,N19<>\"\",O19<>\"\"),ort($N19,$O19,$AY$3:$AZ$3),\"\")","v":""},{"$f":"IF(AND($AA19<6,N19<>\"\",O19<>\"\"),ort($N19,$O19,$AY$4:$AZ$5),\"\")","v":""},{"$f":"IF(AND($AA19<6,N19<>\"\",O19<>\"\"),ort($N19,$O19,$AY$6:$AZ$7),\"\")","v":""},{"$f":"IF(AND($AA19=6,N19<>\"\",O19<>\"\"),ort($N19,$O19,$AY$8:$AZ$8),\"\")","v":""},{"$f":"IF(AND($AA19=7,N19<>\"\",O19<>\"\"),ort($N19,$O19,$AY$9:$AZ$9),\"\")","v":""},{"$f":"IF(AND($AA19<6,P19<>\"\",Q19<>\"\"),ort($P19,$Q19,$AY$3:$AZ$3),\"\")","v":""},{"$f":"IF(AND($AA19<6,P19<>\"\",Q19<>\"\"),ort($P19,$Q19,$AY$4:$AZ$5),\"\")","v":""},{"$f":"IF(AND($AA19<6,P19<>\"\",Q19<>\"\"),ort($P19,$Q19,$AY$6:$AZ$7),\"\")","v":""},{"$f":"IF(AND($AA19=6,P19<>\"\",Q19<>\"\"),ort($P19,$Q19,$AY$8:$AZ$8),\"\")","v":""},{"$f":"IF(AND($AA19=7,P19<>\"\",Q19<>\"\"),ort($P19,$Q19,$AY$9:$AZ$9),\"\")","v":""},{"$f":"IF(AND($AA19<6,R19<>\"\",S19<>\"\"),ort($R19,$S19,$AY$3:$AZ$3),\"\")","v":""},{"$f":"IF(AND($AA19<6,R19<>\"\",S19<>\"\"),ort($R19,$S19,$AY$4:$AZ$5),\"\")","v":""},{"$f":"IF(AND($AA19<6,R19<>\"\",S19<>\"\"),ort($R19,$S19,$AY$6:$AZ$7),\"\")","v":""},{"$f":"IF(AND($AA19=6,R19<>\"\",S19<>\"\"),ort($R19,$S19,$AY$8:$AZ$8),\"\")","v":""},{"$f":"IF(AND($AA19=7,R19<>\"\",S19<>\"\"),ort($R19,$S19,$AY$9:$AZ$9),\"\")","v":""},{"$f":"IF(AND($AA19<6,T19<>\"\",U19<>\"\"),ort($T19,$U19,$AY$3:$AZ$3),\"\")","v":""},{"$f":"IF(AND($AA19<6,T19<>\"\",U19<>\"\"),ort($T19,$U19,$AY$4:$AZ$5),\"\")","v":""},{"$f":"IF(AND($AA19<6,T19<>\"\",U19<>\"\"),ort($T19,$U19,$AY$6:$AZ$7),\"\")","v":""},{"$f":"IF(AND($AA19=6,T19<>\"\",U19<>\"\"),ort($T19,$U19,$AY$8:$AZ$8),\"\")","v":""},{"$f":"IF(AND($AA19=7,T19<>\"\",U19<>\"\"),ort($T19,$U19,$AY$9:$AZ$9),\"\")","v":""},null,null,null,null,null,null,null,null,null,"00:00:00"]
[null,{"$f":"SUM($V$3:$V$33)","v":0},null,null,null,null,null,null,null,"",25,{"$f":"DATE($B$3,$B$4,18)","v":"2018-06-18"},{"$f":"DATE($B$3,$B$4,18)","v":"2018-06-18"},null,"00:00:00",null,null,null,null,null,null,"","","","","",{"$f":"IF(ISERROR(IF(NOT(ISERROR(MATCH($M20,Blad2!$A$2:$A$11,0))),7,WEEKDAY($M20,2))),\"\",IF(NOT(ISERROR(MATCH($M20,Blad2!$A$2:$A$11,0))),7,WEEKDAY($M20,2)))","v":1},{"$f":"IF(AND($AA20<6,N20<>\"\",O20<>\"\"),ort($N20,$O20,$AY$3:$AZ$3),\"\")","v":""},{"$f":"IF(AND($AA20<6,N20<>\"\",O20<>\"\"),ort($N20,$O20,$AY$4:$AZ$5),\"\")","v":""},{"$f":"IF(AND($AA20<6,N20<>\"\",O20<>\"\"),ort($N20,$O20,$AY$6:$AZ$7),\"\")","v":""},{"$f":"IF(AND($AA20=6,N20<>\"\",O20<>\"\"),ort($N20,$O20,$AY$8:$AZ$8),\"\")","v":""},{"$f":"IF(AND($AA20=7,N20<>\"\",O20<>\"\"),ort($N20,$O20,$AY$9:$AZ$9),\"\")","v":""},{"$f":"IF(AND($AA20<6,P20<>\"\",Q20<>\"\"),ort($P20,$Q20,$AY$3:$AZ$3),\"\")","v":""},{"$f":"IF(AND($AA20<6,P20<>\"\",Q20<>\"\"),ort($P20,$Q20,$AY$4:$AZ$5),\"\")","v":""},{"$f":"IF(AND($AA20<6,P20<>\"\",Q20<>\"\"),ort($P20,$Q20,$AY$6:$AZ$7),\"\")","v":""},{"$f":"IF(AND($AA20=6,P20<>\"\",Q20<>\"\"),ort($P20,$Q20,$AY$8:$AZ$8),\"\")","v":""},{"$f":"IF(AND($AA20=7,P20<>\"\",Q20<>\"\"),ort($P20,$Q20,$AY$9:$AZ$9),\"\")","v":""},{"$f":"IF(AND($AA20<6,R20<>\"\",S20<>\"\"),ort($R20,$S20,$AY$3:$AZ$3),\"\")","v":""},{"$f":"IF(AND($AA20<6,R20<>\"\",S20<>\"\"),ort($R20,$S20,$AY$4:$AZ$5),\"\")","v":""},{"$f":"IF(AND($AA20<6,R20<>\"\",S20<>\"\"),ort($R20,$S20,$AY$6:$AZ$7),\"\")","v":""},{"$f":"IF(AND($AA20=6,R20<>\"\",S20<>\"\"),ort($R20,$S20,$AY$8:$AZ$8),\"\")","v":""},{"$f":"IF(AND($AA20=7,R20<>\"\",S20<>\"\"),ort($R20,$S20,$AY$9:$AZ$9),\"\")","v":""},{"$f":"IF(AND($AA20<6,T20<>\"\",U20<>\"\"),ort($T20,$U20,$AY$3:$AZ$3),\"\")","v":""},{"$f":"IF(AND($AA20<6,T20<>\"\",U20<>\"\"),ort($T20,$U20,$AY$4:$AZ$5),\"\")","v":""},{"$f":"IF(AND($AA20<6,T20<>\"\",U20<>\"\"),ort($T20,$U20,$AY$6:$AZ$7),\"\")","v":""},{"$f":"IF(AND($AA20=6,T20<>\"\",U20<>\"\"),ort($T20,$U20,$AY$8:$AZ$8),\"\")","v":""},{"$f":"IF(AND($AA20=7,T20<>\"\",U20<>\"\"),ort($T20,$U20,$AY$9:$AZ$9),\"\")","v":""},null,{"$f":"COUNTA(Blad2!B12:B100)-COUNTIF(Blad2!B12:B100,\"Verlof\")","v":0},"  Aantal opgenomen ATV-dagen",null,null,null,null,null,null,"00:00:00"]
[null,null,null,null,null,null,null,null,null,"","",{"$f":"DATE($B$3,$B$4,19)","v":"2018-06-19"},{"$f":"DATE($B$3,$B$4,19)","v":"2018-06-19"},null,"00:00:00",null,null,null,null,null,null,"","","","","",{"$f":"IF(ISERROR(IF(NOT(ISERROR(MATCH($M21,Blad2!$A$2:$A$11,0))),7,WEEKDAY($M21,2))),\"\",IF(NOT(ISERROR(MATCH($M21,Blad2!$A$2:$A$11,0))),7,WEEKDAY($M21,2)))","v":2},{"$f":"IF(AND($AA21<6,N21<>\"\",O21<>\"\"),ort($N21,$O21,$AY$3:$AZ$3),\"\")","v":""},{"$f":"IF(AND($AA21<6,N21<>\"\",O21<>\"\"),ort($N21,$O21,$AY$4:$AZ$5),\"\")","v":""},{"$f":"IF(AND($AA21<6,N21<>\"\",O21<>\"\"),ort($N21,$O21,$AY$6:$AZ$7),\"\")","v":""},{"$f":"IF(AND($AA21=6,N21<>\"\",O21<>\"\"),ort($N21,$O21,$AY$8:$AZ$8),\"\")","v":""},{"$f":"IF(AND($AA21=7,N21<>\"\",O21<>\"\"),ort($N21,$O21,$AY$9:$AZ$9),\"\")","v":""},{"$f":"IF(AND($AA21<6,P21<>\"\",Q21<>\"\"),ort($P21,$Q21,$AY$3:$AZ$3),\"\")","v":""},{"$f":"IF(AND($AA21<6,P21<>\"\",Q21<>\"\"),ort($P21,$Q21,$AY$4:$AZ$5),\"\")","v":""},{"$f":"IF(AND($AA21<6,P21<>\"\",Q21<>\"\"),ort($P21,$Q21,$AY$6:$AZ$7),\"\")","v":""},{"$f":"IF(AND($AA21=6,P21<>\"\",Q21<>\"\"),ort($P21,$Q21,$AY$8:$AZ$8),\"\")","v":""},{"$f":"IF(AND($AA21=7,P21<>\"\",Q21<>\"\"),ort($P21,$Q21,$AY$9:$AZ$9),\"\")","v":""},{"$f":"IF(AND($AA21<6,R21<>\"\",S21<>\"\"),ort($R21,$S21,$AY$3:$AZ$3),\"\")","v":""},{"$f":"IF(AND($AA21<6,R21<>\"\",S21<>\"\"),ort($R21,$S21,$AY$4:$AZ$5),\"\")","v":""},{"$f":"IF(AND($AA21<6,R21<>\"\",S21<>\"\"),ort($R21,$S21,$AY$6:$AZ$7),\"\")","v":""},{"$f":"IF(AND($AA21=6,R21<>\"\",S21<>\"\"),ort($R21,$S21,$AY$8:$AZ$8),\"\")","v":""},{"$f":"IF(AND($AA21=7,R21<>\"\",S21<>\"\"),ort($R21,$S21,$AY$9:$AZ$9),\"\")","v":""},{"$f":"IF(AND($AA21<6,T21<>\"\",U21<>\"\"),ort($T21,$U21,$AY$3:$AZ$3),\"\")","v":""},{"$f":"IF(AND($AA21<6,T21<>\"\",U21<>\"\"),ort($T21,$U21,$AY$4:$AZ$5),\"\")","v":""},{"$f":"IF(AND($AA21<6,T21<>\"\",U21<>\"\"),ort($T21,$U21,$AY$6:$AZ$7),\"\")","v":""},{"$f":"IF(AND($AA21=6,T21<>\"\",U21<>\"\"),ort($T21,$U21,$AY$8:$AZ$8),\"\")","v":""},{"$f":"IF(AND($AA21=7,T21<>\"\",U21<>\"\"),ort($T21,$U21,$AY$9:$AZ$9),\"\")","v":""},null,{"$f":"COUNTA(Blad2!B12:B100)-COUNTIF(Blad2!B12:B100,\"ATV\")","v":2},"  Aantal opgenomen verlofdagen",null,null,null,null,null,null,"00:00:00"]
[null,null,null,null,null,null,null,null,null,"","",{"$f":"DATE($B$3,$B$4,20)","v":"2018-06-20"},{"$f":"DATE($B$3,$B$4,20)","v":"2018-06-20"},null,"00:00:00",null,null,null,null,null,null,"","","","","",{"$f":"IF(ISERROR(IF(NOT(ISERROR(MATCH($M22,Blad2!$A$2:$A$11,0))),7,WEEKDAY($M22,2))),\"\",IF(NOT(ISERROR(MATCH($M22,Blad2!$A$2:$A$11,0))),7,WEEKDAY($M22,2)))","v":3},{"$f":"IF(AND($AA22<6,N22<>\"\",O22<>\"\"),ort($N22,$O22,$AY$3:$AZ$3),\"\")","v":""},{"$f":"IF(AND($AA22<6,N22<>\"\",O22<>\"\"),ort($N22,$O22,$AY$4:$AZ$5),\"\")","v":""},{"$f":"IF(AND($AA22<6,N22<>\"\",O22<>\"\"),ort($N22,$O22,$AY$6:$AZ$7),\"\")","v":""},{"$f":"IF(AND($AA22=6,N22<>\"\",O22<>\"\"),ort($N22,$O22,$AY$8:$AZ$8),\"\")","v":""},{"$f":"IF(AND($AA22=7,N22<>\"\",O22<>\"\"),ort($N22,$O22,$AY$9:$AZ$9),\"\")","v":""},{"$f":"IF(AND($AA22<6,P22<>\"\",Q22<>\"\"),ort($P22,$Q22,$AY$3:$AZ$3),\"\")","v":""},{"$f":"IF(AND($AA22<6,P22<>\"\",Q22<>\"\"),ort($P22,$Q22,$AY$4:$AZ$5),\"\")","v":""},{"$f":"IF(AND($AA22<6,P22<>\"\",Q22<>\"\"),ort($P22,$Q22,$AY$6:$AZ$7),\"\")","v":""},{"$f":"IF(AND($AA22=6,P22<>\"\",Q22<>\"\"),ort($P22,$Q22,$AY$8:$AZ$8),\"\")","v":""},{"$f":"IF(AND($AA22=7,P22<>\"\",Q22<>\"\"),ort($P22,$Q22,$AY$9:$AZ$9),\"\")","v":""},{"$f":"IF(AND($AA22<6,R22<>\"\",S22<>\"\"),ort($R22,$S22,$AY$3:$AZ$3),\"\")","v":""},{"$f":"IF(AND($AA22<6,R22<>\"\",S22<>\"\"),ort($R22,$S22,$AY$4:$AZ$5),\"\")","v":""},{"$f":"IF(AND($AA22<6,R22<>\"\",S22<>\"\"),ort($R22,$S22,$AY$6:$AZ$7),\"\")","v":""},{"$f":"IF(AND($AA22=6,R22<>\"\",S22<>\"\"),ort($R22,$S22,$AY$8:$AZ$8),\"\")","v":""},{"$f":"IF(AND($AA22=7,R22<>\"\",S22<>\"\"),ort($R22,$S22,$AY$9:$AZ$9),\"\")","v":""},{"$f":"IF(AND($AA22<6,T22<>\"\",U22<>\"\"),ort($T22,$U22,$AY$3:$AZ$3),\"\")","v":""},{"$f":"IF(AND($AA22<6,T22<>\"\",U22<>\"\"),ort($T22,$U22,$AY$4:$AZ$5),\"\")","v":""},{"$f":"IF(AND($AA22<6,T22<>\"\",U22<>\"\"),ort($T22,$U22,$AY$6:$AZ$7),\"\")","v":""},{"$f":"IF(AND($AA22=6,T22<>\"\",U22<>\"\"),ort($T22,$U22,$AY$8:$AZ$8),\"\")","v":""},{"$f":"IF(AND($AA22=7,T22<>\"\",U22<>\"\"),ort($T22,$U22,$AY$9:$AZ$9),\"\")","v":""},null,null,null,null,null,null,null,null,null,"00:00:00"]
[null,null,null,null,null,null,null,null,null,"","",{"$f":"DATE($B$3,$B$4,21)","v":"2018-06-21"},{"$f":"DATE($B$3,$B$4,21)","v":"2018-06-21"},null,"00:00:00",null,null,null,null,null,null,"","","","","",{"$f":"IF(ISERROR(IF(NOT(ISERROR(MATCH($M23,Blad2!$A$2:$A$11,0))),7,WEEKDAY($M23,2))),\"\",IF(NOT(ISERROR(MATCH($M23,Blad2!$A$2:$A$11,0))),7,WEEKDAY($M23,2)))","v":4},{"$f":"IF(AND($AA23<6,N23<>\"\",O23<>\"\"),ort($N23,$O23,$AY$3:$AZ$3),\"\")","v":""},{"$f":"IF(AND($AA23<6,N23<>\"\",O23<>\"\"),ort($N23,$O23,$AY$4:$AZ$5),\"\")","v":""},{"$f":"IF(AND($AA23<6,N23<>\"\",O23<>\"\"),ort($N23,$O23,$AY$6:$AZ$7),\"\")","v":""},{"$f":"IF(AND($AA23=6,N23<>\"\",O23<>\"\"),ort($N23,$O23,$AY$8:$AZ$8),\"\")","v":""},{"$f":"IF(AND($AA23=7,N23<>\"\",O23<>\"\"),ort($N23,$O23,$AY$9:$AZ$9),\"\")","v":""},{"$f":"IF(AND($AA23<6,P23<>\"\",Q23<>\"\"),ort($P23,$Q23,$AY$3:$AZ$3),\"\")","v":""},{"$f":"IF(AND($AA23<6,P23<>\"\",Q23<>\"\"),ort($P23,$Q23,$AY$4:$AZ$5),\"\")","v":""},{"$f":"IF(AND($AA23<6,P23<>\"\",Q23<>\"\"),ort($P23,$Q23,$AY$6:$AZ$7),\"\")","v":""},{"$f":"IF(AND($AA23=6,P23<>\"\",Q23<>\"\"),ort($P23,$Q23,$AY$8:$AZ$8),\"\")","v":""},{"$f":"IF(AND($AA23=7,P23<>\"\",Q23<>\"\"),ort($P23,$Q23,$AY$9:$AZ$9),\"\")","v":""},{"$f":"IF(AND($AA23<6,R23<>\"\",S23<>\"\"),ort($R23,$S23,$AY$3:$AZ$3),\"\")","v":""},{"$f":"IF(AND($AA23<6,R23<>\"\",S23<>\"\"),ort($R23,$S23,$AY$4:$AZ$5),\"\")","v":""},{"$f":"IF(AND($AA23<6,R23<>\"\",S23<>\"\"),ort($R23,$S23,$AY$6:$AZ$7),\"\")","v":""},{"$f":"IF(AND($AA23=6,R23<>\"\",S23<>\"\"),ort($R23,$S23,$AY$8:$AZ$8),\"\")","v":""},{"$f":"IF(AND($AA23=7,R23<>\"\",S23<>\"\"),ort($R23,$S23,$AY$9:$AZ$9),\"\")","v":""},{"$f":"IF(AND($AA23<6,T23<>\"\",U23<>\"\"),ort($T23,$U23,$AY$3:$AZ$3),\"\")","v":""},{"$f":"IF(AND($AA23<6,T23<>\"\",U23<>\"\"),ort($T23,$U23,$AY$4:$AZ$5),\"\")","v":""},{"$f":"IF(AND($AA23<6,T23<>\"\",U23<>\"\"),ort($T23,$U23,$AY$6:$AZ$7),\"\")","v":""},{"$f":"IF(AND($AA23=6,T23<>\"\",U23<>\"\"),ort($T23,$U23,$AY$8:$AZ$8),\"\")","v":""},{"$f":"IF(AND($AA23=7,T23<>\"\",U23<>\"\"),ort($T23,$U23,$AY$9:$AZ$9),\"\")","v":""},null,null,null,null,null,null,null,null,null,"00:00:00"]
[null,null,null,null,null,null,null,null,null,"","",{"$f":"DATE($B$3,$B$4,22)","v":"2018-06-22"},{"$f":"DATE($B$3,$B$4,22)","v":"2018-06-22"},null,"00:00:00",null,null,null,null,null,null,"","","","","",{"$f":"IF(ISERROR(IF(NOT(ISERROR(MATCH($M24,Blad2!$A$2:$A$11,0))),7,WEEKDAY($M24,2))),\"\",IF(NOT(ISERROR(MATCH($M24,Blad2!$A$2:$A$11,0))),7,WEEKDAY($M24,2)))","v":5},{"$f":"IF(AND($AA24<6,N24<>\"\",O24<>\"\"),ort($N24,$O24,$AY$3:$AZ$3),\"\")","v":""},{"$f":"IF(AND($AA24<6,N24<>\"\",O24<>\"\"),ort($N24,$O24,$AY$4:$AZ$5),\"\")","v":""},{"$f":"IF(AND($AA24<6,N24<>\"\",O24<>\"\"),ort($N24,$O24,$AY$6:$AZ$7),\"\")","v":""},{"$f":"IF(AND($AA24=6,N24<>\"\",O24<>\"\"),ort($N24,$O24,$AY$8:$AZ$8),\"\")","v":""},{"$f":"IF(AND($AA24=7,N24<>\"\",O24<>\"\"),ort($N24,$O24,$AY$9:$AZ$9),\"\")","v":""},{"$f":"IF(AND($AA24<6,P24<>\"\",Q24<>\"\"),ort($P24,$Q24,$AY$3:$AZ$3),\"\")","v":""},{"$f":"IF(AND($AA24<6,P24<>\"\",Q24<>\"\"),ort($P24,$Q24,$AY$4:$AZ$5),\"\")","v":""},{"$f":"IF(AND($AA24<6,P24<>\"\",Q24<>\"\"),ort($P24,$Q24,$AY$6:$AZ$7),\"\")","v":""},{"$f":"IF(AND($AA24=6,P24<>\"\",Q24<>\"\"),ort($P24,$Q24,$AY$8:$AZ$8),\"\")","v":""},{"$f":"IF(AND($AA24=7,P24<>\"\",Q24<>\"\"),ort($P24,$Q24,$AY$9:$AZ$9),\"\")","v":""},{"$f":"IF(AND($AA24<6,R24<>\"\",S24<>\"\"),ort($R24,$S24,$AY$3:$AZ$3),\"\")","v":""},{"$f":"IF(AND($AA24<6,R24<>\"\",S24<>\"\"),ort($R24,$S24,$AY$4:$AZ$5),\"\")","v":""},{"$f":"IF(AND($AA24<6,R24<>\"\",S24<>\"\"),ort($R24,$S24,$AY$6:$AZ$7),\"\")","v":""},{"$f":"IF(AND($AA24=6,R24<>\"\",S24<>\"\"),ort($R24,$S24,$AY$8:$AZ$8),\"\")","v":""},{"$f":"IF(AND($AA24=7,R24<>\"\",S24<>\"\"),ort($R24,$S24,$AY$9:$AZ$9),\"\")","v":""},{"$f":"IF(AND($AA24<6,T24<>\"\",U24<>\"\"),ort($T24,$U24,$AY$3:$AZ$3),\"\")","v":""},{"$f":"IF(AND($AA24<6,T24<>\"\",U24<>\"\"),ort($T24,$U24,$AY$4:$AZ$5),\"\")","v":""},{"$f":"IF(AND($AA24<6,T24<>\"\",U24<>\"\"),ort($T24,$U24,$AY$6:$AZ$7),\"\")","v":""},{"$f":"IF(AND($AA24=6,T24<>\"\",U24<>\"\"),ort($T24,$U24,$AY$8:$AZ$8),\"\")","v":""},{"$f":"IF(AND($AA24=7,T24<>\"\",U24<>\"\"),ort($T24,$U24,$AY$9:$AZ$9),\"\")","v":""},null,null,null,null,null,null,null,null,null,"00:00:00"]
[null,null,null,null,null,null,null,null,null,"","",{"$f":"DATE($B$3,$B$4,23)","v":"2018-06-23"},{"$f":"DATE($B$3,$B$4,23)","v":"2018-06-23"},null,"00:00:00",null,null,null,null,null,null,"","","","","",{"$f":"IF(ISERROR(IF(NOT(ISERROR(MATCH($M25,Blad2!$A$2:$A$11,0))),7,WEEKDAY($M25,2))),\"\",IF(NOT(ISERROR(MATCH($M25,Blad2!$A$2:$A$11,0))),7,WEEKDAY($M25,2)))","v":6},{"$f":"IF(AND($AA25<6,N25<>\"\",O25<>\"\"),ort($N25,$O25,$AY$3:$AZ$3),\"\")","v":""},{"$f":"IF(AND($AA25<6,N25<>\"\",O25<>\"\"),ort($N25,$O25,$AY$4:$AZ$5),\"\")","v":""},{"$f":"IF(AND($AA25<6,N25<>\"\",O25<>\"\"),ort($N25,$O25,$AY$6:$AZ$7),\"\")","v":""},{"$f":"IF(AND($AA25=6,N25<>\"\",O25<>\"\"),ort($N25,$O25,$AY$8:$AZ$8),\"\")","v":""},{"$f":"IF(AND($AA25=7,N25<>\"\",O25<>\"\"),ort($N25,$O25,$AY$9:$AZ$9),\"\")","v":""},{"$f":"IF(AND($AA25<6,P25<>\"\",Q25<>\"\"),ort($P25,$Q25,$AY$3:$AZ$3),\"\")","v":""},{"$f":"IF(AND($AA25<6,P25<>\"\",Q25<>\"\"),ort($P25,$Q25,$AY$4:$AZ$5),\"\")","v":""},{"$f":"IF(AND($AA25<6,P25<>\"\",Q25<>\"\"),ort($P25,$Q25,$AY$6:$AZ$7),\"\")","v":""},{"$f":"IF(AND($AA25=6,P25<>\"\",Q25<>\"\"),ort($P25,$Q25,$AY$8:$AZ$8),\"\")","v":""},{"$f":"IF(AND($AA25=7,P25<>\"\",Q25<>\"\"),ort($P25,$Q25,$AY$9:$AZ$9),\"\")","v":""},{"$f":"IF(AND($AA25<6,R25<>\"\",S25<>\"\"),ort($R25,$S25,$AY$3:$AZ$3),\"\")","v":""},{"$f":"IF(AND($AA25<6,R25<>\"\",S25<>\"\"),ort($R25,$S25,$AY$4:$AZ$5),\"\")","v":""},{"$f":"IF(AND($AA25<6,R25<>\"\",S25<>\"\"),ort($R25,$S25,$AY$6:$AZ$7),\"\")","v":""},{"$f":"IF(AND($AA25=6,R25<>\"\",S25<>\"\"),ort($R25,$S25,$AY$8:$AZ$8),\"\")","v":""},{"$f":"IF(AND($AA25=7,R25<>\"\",S25<>\"\"),ort($R25,$S25,$AY$9:$AZ$9),\"\")","v":""},{"$f":"IF(AND($AA25<6,T25<>\"\",U25<>\"\"),ort($T25,$U25,$AY$3:$AZ$3),\"\")","v":""},{"$f":"IF(AND($AA25<6,T25<>\"\",U25<>\"\"),ort($T25,$U25,$AY$4:$AZ$5),\"\")","v":""},{"$f":"IF(AND($AA25<6,T25<>\"\",U25<>\"\"),ort($T25,$U25,$AY$6:$AZ$7),\"\")","v":""},{"$f":"IF(AND($AA25=6,T25<>\"\",U25<>\"\"),ort($T25,$U25,$AY$8:$AZ$8),\"\")","v":""},{"$f":"IF(AND($AA25=7,T25<>\"\",U25<>\"\"),ort($T25,$U25,$AY$9:$AZ$9),\"\")","v":""},null,null,null,null,null,null,null,null,null,"00:00:00"]
[null,null,null,null,null,null,null,null,null,"","",{"$f":"DATE($B$3,$B$4,24)","v":"2018-06-24"},{"$f":"DATE($B$3,$B$4,24)","v":"2018-06-24"},null,"00:00:00",null,null,null,null,null,null,"","","","","",{"$f":"IF(ISERROR(IF(NOT(ISERROR(MATCH($M26,Blad2!$A$2:$A$11,0))),7,WEEKDAY($M26,2))),\"\",IF(NOT(ISERROR(MATCH($M26,Blad2!$A$2:$A$11,0))),7,WEEKDAY($M26,2)))","v":7},{"$f":"IF(AND($AA26<6,N26<>\"\",O26<>\"\"),ort($N26,$O26,$AY$3:$AZ$3),\"\")","v":""},{"$f":"IF(AND($AA26<6,N26<>\"\",O26<>\"\"),ort($N26,$O26,$AY$4:$AZ$5),\"\")","v":""},{"$f":"IF(AND($AA26<6,N26<>\"\",O26<>\"\"),ort($N26,$O26,$AY$6:$AZ$7),\"\")","v":""},{"$f":"IF(AND($AA26=6,N26<>\"\",O26<>\"\"),ort($N26,$O26,$AY$8:$AZ$8),\"\")","v":""},{"$f":"IF(AND($AA26=7,N26<>\"\",O26<>\"\"),ort($N26,$O26,$AY$9:$AZ$9),\"\")","v":""},{"$f":"IF(AND($AA26<6,P26<>\"\",Q26<>\"\"),ort($P26,$Q26,$AY$3:$AZ$3),\"\")","v":""},{"$f":"IF(AND($AA26<6,P26<>\"\",Q26<>\"\"),ort($P26,$Q26,$AY$4:$AZ$5),\"\")","v":""},{"$f":"IF(AND($AA26<6,P26<>\"\",Q26<>\"\"),ort($P26,$Q26,$AY$6:$AZ$7),\"\")","v":""},{"$f":"IF(AND($AA26=6,P26<>\"\",Q26<>\"\"),ort($P26,$Q26,$AY$8:$AZ$8),\"\")","v":""},{"$f":"IF(AND($AA26=7,P26<>\"\",Q26<>\"\"),ort($P26,$Q26,$AY$9:$AZ$9),\"\")","v":""},{"$f":"IF(AND($AA26<6,R26<>\"\",S26<>\"\"),ort($R26,$S26,$AY$3:$AZ$3),\"\")","v":""},{"$f":"IF(AND($AA26<6,R26<>\"\",S26<>\"\"),ort($R26,$S26,$AY$4:$AZ$5),\"\")","v":""},{"$f":"IF(AND($AA26<6,R26<>\"\",S26<>\"\"),ort($R26,$S26,$AY$6:$AZ$7),\"\")","v":""},{"$f":"IF(AND($AA26=6,R26<>\"\",S26<>\"\"),ort($R26,$S26,$AY$8:$AZ$8),\"\")","v":""},{"$f":"IF(AND($AA26=7,R26<>\"\",S26<>\"\"),ort($R26,$S26,$AY$9:$AZ$9),\"\")","v":""},{"$f":"IF(AND($AA26<6,T26<>\"\",U26<>\"\"),ort($T26,$U26,$AY$3:$AZ$3),\"\")","v":""},{"$f":"IF(AND($AA26<6,T26<>\"\",U26<>\"\"),ort($T26,$U26,$AY$4:$AZ$5),\"\")","v":""},{"$f":"IF(AND($AA26<6,T26<>\"\",U26<>\"\"),ort($T26,$U26,$AY$6:$AZ$7),\"\")","v":""},{"$f":"IF(AND($AA26=6,T26<>\"\",U26<>\"\"),ort($T26,$U26,$AY$8:$AZ$8),\"\")","v":""},{"$f":"IF(AND($AA26=7,T26<>\"\",U26<>\"\"),ort($T26,$U26,$AY$9:$AZ$9),\"\")","v":""},null,null,null,null,null,null,null,null,null,"00:00:00"]
[null,null,null,null,null,null,null,null,null,"",26,{"$f":"DATE($B$3,$B$4,25)","v":"2018-06-25"},{"$f":"DATE($B$3,$B$4,25)","v":"2018-06-25"},null,"00:00:00",null,null,null,null,null,null,"","","","","",{"$f":"IF(ISERROR(IF(NOT(ISERROR(MATCH($M27,Blad2!$A$2:$A$11,0))),7,WEEKDAY($M27,2))),\"\",IF(NOT(ISERROR(MATCH($M27,Blad2!$A$2:$A$11,0))),7,WEEKDAY($M27,2)))","v":1},{"$f":"IF(AND($AA27<6,N27<>\"\",O27<>\"\"),ort($N27,$O27,$AY$3:$AZ$3),\"\")","v":""},{"$f":"IF(AND($AA27<6,N27<>\"\",O27<>\"\"),ort($N27,$O27,$AY$4:$AZ$5),\"\")","v":""},{"$f":"IF(AND($AA27<6,N27<>\"\",O27<>\"\"),ort($N27,$O27,$AY$6:$AZ$7),\"\")","v":""},{"$f":"IF(AND($AA27=6,N27<>\"\",O27<>\"\"),ort($N27,$O27,$AY$8:$AZ$8),\"\")","v":""},{"$f":"IF(AND($AA27=7,N27<>\"\",O27<>\"\"),ort($N27,$O27,$AY$9:$AZ$9),\"\")","v":""},{"$f":"IF(AND($AA27<6,P27<>\"\",Q27<>\"\"),ort($P27,$Q27,$AY$3:$AZ$3),\"\")","v":""},{"$f":"IF(AND($AA27<6,P27<>\"\",Q27<>\"\"),ort($P27,$Q27,$AY$4:$AZ$5),\"\")","v":""},{"$f":"IF(AND($AA27<6,P27<>\"\",Q27<>\"\"),ort($P27,$Q27,$AY$6:$AZ$7),\"\")","v":""},{"$f":"IF(AND($AA27=6,P27<>\"\",Q27<>\"\"),ort($P27,$Q27,$AY$8:$AZ$8),\"\")","v":""},{"$f":"IF(AND($AA27=7,P27<>\"\",Q27<>\"\"),ort($P27,$Q27,$AY$9:$AZ$9),\"\")","v":""},{"$f":"IF(AND($AA27<6,R27<>\"\",S27<>\"\"),ort($R27,$S27,$AY$3:$AZ$3),\"\")","v":""},{"$f":"IF(AND($AA27<6,R27<>\"\",S27<>\"\"),ort($R27,$S27,$AY$4:$AZ$5),\"\")","v":""},{"$f":"IF(AND($AA27<6,R27<>\"\",S27<>\"\"),ort($R27,$S27,$AY$6:$AZ$7),\"\")","v":""},{"$f":"IF(AND($AA27=6,R27<>\"\",S27<>\"\"),ort($R27,$S27,$AY$8:$AZ$8),\"\")","v":""},{"$f":"IF(AND($AA27=7,R27<>\"\",S27<>\"\"),ort($R27,$S27,$AY$9:$AZ$9),\"\")","v":""},{"$f":"IF(AND($AA27<6,T27<>\"\",U27<>\"\"),ort($T27,$U27,$AY$3:$AZ$3),\"\")","v":""},{"$f":"IF(AND($AA27<6,T27<>\"\",U27<>\"\"),ort($T27,$U27,$AY$4:$AZ$5),\"\")","v":""},{"$f":"IF(AND($AA27<6,T27<>\"\",U27<>\"\"),ort($T27,$U27,$AY$6:$AZ$7),\"\")","v":""},{"$f":"IF(AND($AA27=6,T27<>\"\",U27<>\"\"),ort($T27,$U27,$AY$8:$AZ$8),\"\")","v":""},{"$f":"IF(AND($AA27=7,T27<>\"\",U27<>\"\"),ort($T27,$U27,$AY$9:$AZ$9),\"\")","v":""},null,null,null,null,null,null,null,null,null,"00:00:00"]
[null,null,null,null,null,null,null,null,null,"","",{"$f":"DATE($B$3,$B$4,26)","v":"2018-06-26"},{"$f":"DATE($B$3,$B$4,26)","v":"2018-06-26"},null,"00:00:00",null,null,null,null,null,null,"","","","","",{"$f":"IF(ISERROR(IF(NOT(ISERROR(MATCH($M28,Blad2!$A$2:$A$11,0))),7,WEEKDAY($M28,2))),\"\",IF(NOT(ISERROR(MATCH($M28,Blad2!$A$2:$A$11,0))),7,WEEKDAY($M28,2)))","v":2},{"$f":"IF(AND($AA28<6,N28<>\"\",O28<>\"\"),ort($N28,$O28,$AY$3:$AZ$3),\"\")","v":""},{"$f":"IF(AND($AA28<6,N28<>\"\",O28<>\"\"),ort($N28,$O28,$AY$4:$AZ$5),\"\")","v":""},{"$f":"IF(AND($AA28<6,N28<>\"\",O28<>\"\"),ort($N28,$O28,$AY$6:$AZ$7),\"\")","v":""},{"$f":"IF(AND($AA28=6,N28<>\"\",O28<>\"\"),ort($N28,$O28,$AY$8:$AZ$8),\"\")","v":""},{"$f":"IF(AND($AA28=7,N28<>\"\",O28<>\"\"),ort($N28,$O28,$AY$9:$AZ$9),\"\")","v":""},{"$f":"IF(AND($AA28<6,P28<>\"\",Q28<>\"\"),ort($P28,$Q28,$AY$3:$AZ$3),\"\")","v":""},{"$f":"IF(AND($AA28<6,P28<>\"\",Q28<>\"\"),ort($P28,$Q28,$AY$4:$AZ$5),\"\")","v":""},{"$f":"IF(AND($AA28<6,P28<>\"\",Q28<>\"\"),ort($P28,$Q28,$AY$6:$AZ$7),\"\")","v":""},{"$f":"IF(AND($AA28=6,P28<>\"\",Q28<>\"\"),ort($P28,$Q28,$AY$8:$AZ$8),\"\")","v":""},{"$f":"IF(AND($AA28=7,P28<>\"\",Q28<>\"\"),ort($P28,$Q28,$AY$9:$AZ$9),\"\")","v":""},{"$f":"IF(AND($AA28<6,R28<>\"\",S28<>\"\"),ort($R28,$S28,$AY$3:$AZ$3),\"\")","v":""},{"$f":"IF(AND($AA28<6,R28<>\"\",S28<>\"\"),ort($R28,$S28,$AY$4:$AZ$5),\"\")","v":""},{"$f":"IF(AND($AA28<6,R28<>\"\",S28<>\"\"),ort($R28,$S28,$AY$6:$AZ$7),\"\")","v":""},{"$f":"IF(AND($AA28=6,R28<>\"\",S28<>\"\"),ort($R28,$S28,$AY$8:$AZ$8),\"\")","v":""},{"$f":"IF(AND($AA28=7,R28<>\"\",S28<>\"\"),ort($R28,$S28,$AY$9:$AZ$9),\"\")","v":""},{"$f":"IF(AND($AA28<6,T28<>\"\",U28<>\"\"),ort($T28,$U28,$AY$3:$AZ$3),\"\")","v":""},{"$f":"IF(AND($AA28<6,T28<>\"\",U28<>\"\"),ort($T28,$U28,$AY$4:$AZ$5),\"\")","v":""},{"$f":"IF(AND($AA28<6,T28<>\"\",U28<>\"\"),ort($T28,$U28,$AY$6:$AZ$7),\"\")","v":""},{"$f":"IF(AND($AA28=6,T28<>\"\",U28<>\"\"),ort($T28,$U28,$AY$8:$AZ$8),\"\")","v":""},{"$f":"IF(AND($AA28=7,T28<>\"\",U28<>\"\"),ort($T28,$U28,$AY$9:$AZ$9),\"\")","v":""},null,null,null,null,null,null,null,null,null,"00:00:00"]
[null,null,null,null,null,null,null,null,null,"","",{"$f":"DATE($B$3,$B$4,27)","v":"2018-06-27"},{"$f":"DATE($B$3,$B$4,27)","v":"2018-06-27"},null,"00:00:00",null,null,null,null,null,null,"","","","","",{"$f":"IF(ISERROR(IF(NOT(ISERROR(MATCH($M29,Blad2!$A$2:$A$11,0))),7,WEEKDAY($M29,2))),\"\",IF(NOT(ISERROR(MATCH($M29,Blad2!$A$2:$A$11,0))),7,WEEKDAY($M29,2)))","v":3},{"$f":"IF(AND($AA29<6,N29<>\"\",O29<>\"\"),ort($N29,$O29,$AY$3:$AZ$3),\"\")","v":""},{"$f":"IF(AND($AA29<6,N29<>\"\",O29<>\"\"),ort($N29,$O29,$AY$4:$AZ$5),\"\")","v":""},{"$f":"IF(AND($AA29<6,N29<>\"\",O29<>\"\"),ort($N29,$O29,$AY$6:$AZ$7),\"\")","v":""},{"$f":"IF(AND($AA29=6,N29<>\"\",O29<>\"\"),ort($N29,$O29,$AY$8:$AZ$8),\"\")","v":""},{"$f":"IF(AND($AA29=7,N29<>\"\",O29<>\"\"),ort($N29,$O29,$AY$9:$AZ$9),\"\")","v":""},{"$f":"IF(AND($AA29<6,P29<>\"\",Q29<>\"\"),ort($P29,$Q29,$AY$3:$AZ$3),\"\")","v":""},{"$f":"IF(AND($AA29<6,P29<>\"\",Q29<>\"\"),ort($P29,$Q29,$AY$4:$AZ$5),\"\")","v":""},{"$f":"IF(AND($AA29<6,P29<>\"\",Q29<>\"\"),ort($P29,$Q29,$AY$6:$AZ$7),\"\")","v":""},{"$f":"IF(AND($AA29=6,P29<>\"\",Q29<>\"\"),ort($P29,$Q29,$AY$8:$AZ$8),\"\")","v":""},{"$f":"IF(AND($AA29=7,P29<>\"\",Q29<>\"\"),ort($P29,$Q29,$AY$9:$AZ$9),\"\")","v":""},{"$f":"IF(AND($AA29<6,R29<>\"\",S29<>\"\"),ort($R29,$S29,$AY$3:$AZ$3),\"\")","v":""},{"$f":"IF(AND($AA29<6,R29<>\"\",S29<>\"\"),ort($R29,$S29,$AY$4:$AZ$5),\"\")","v":""},{"$f":"IF(AND($AA29<6,R29<>\"\",S29<>\"\"),ort($R29,$S29,$AY$6:$AZ$7),\"\")","v":""},{"$f":"IF(AND($AA29=6,R29<>\"\",S29<>\"\"),ort($R29,$S29,$AY$8:$AZ$8),\"\")","v":""},{"$f":"IF(AND($AA29=7,R29<>\"\",S29<>\"\"),ort($R29,$S29,$AY$9:$AZ$9),\"\")","v":""},{"$f":"IF(AND($AA29<6,T29<>\"\",U29<>\"\"),ort($T29,$U29,$AY$3:$AZ$3),\"\")","v":""},{"$f":"IF(AND($AA29<6,T29<>\"\",U29<>\"\"),ort($T29,$U29,$AY$4:$AZ$5),\"\")","v":""},{"$f":"IF(AND($AA29<6,T29<>\"\",U29<>\"\"),ort($T29,$U29,$AY$6:$AZ$7),\"\")","v":""},{"$f":"IF(AND($AA29=6,T29<>\"\",U29<>\"\"),ort($T29,$U29,$AY$8:$AZ$8),\"\")","v":""},{"$f":"IF(AND($AA29=7,T29<>\"\",U29<>\"\"),ort($T29,$U29,$AY$9:$AZ$9),\"\")","v":""},null,null,null,null,null,null,null,null,null,"00:00:00"]
[null,null,null,null,null,null,null,null,null,"","",{"$f":"DATE($B$3,$B$4,28)","v":"2018-06-28"},{"$f":"DATE($B$3,$B$4,28)","v":"2018-06-28"},null,"00:00:00",null,null,null,null,null,null,"","","","","",{"$f":"IF(ISERROR(IF(NOT(ISERROR(MATCH($M30,Blad2!$A$2:$A$11,0))),7,WEEKDAY($M30,2))),\"\",IF(NOT(ISERROR(MATCH($M30,Blad2!$A$2:$A$11,0))),7,WEEKDAY($M30,2)))","v":4},{"$f":"IF(AND($AA30<6,N30<>\"\",O30<>\"\"),ort($N30,$O30,$AY$3:$AZ$3),\"\")","v":""},{"$f":"IF(AND($AA30<6,N30<>\"\",O30<>\"\"),ort($N30,$O30,$AY$4:$AZ$5),\"\")","v":""},{"$f":"IF(AND($AA30<6,N30<>\"\",O30<>\"\"),ort($N30,$O30,$AY$6:$AZ$7),\"\")","v":""},{"$f":"IF(AND($AA30=6,N30<>\"\",O30<>\"\"),ort($N30,$O30,$AY$8:$AZ$8),\"\")","v":""},{"$f":"IF(AND($AA30=7,N30<>\"\",O30<>\"\"),ort($N30,$O30,$AY$9:$AZ$9),\"\")","v":""},{"$f":"IF(AND($AA30<6,P30<>\"\",Q30<>\"\"),ort($P30,$Q30,$AY$3:$AZ$3),\"\")","v":""},{"$f":"IF(AND($AA30<6,P30<>\"\",Q30<>\"\"),ort($P30,$Q30,$AY$4:$AZ$5),\"\")","v":""},{"$f":"IF(AND($AA30<6,P30<>\"\",Q30<>\"\"),ort($P30,$Q30,$AY$6:$AZ$7),\"\")","v":""},{"$f":"IF(AND($AA30=6,P30<>\"\",Q30<>\"\"),ort($P30,$Q30,$AY$8:$AZ$8),\"\")","v":""},{"$f":"IF(AND($AA30=7,P30<>\"\",Q30<>\"\"),ort($P30,$Q30,$AY$9:$AZ$9),\"\")","v":""},{"$f":"IF(AND($AA30<6,R30<>\"\",S30<>\"\"),ort($R30,$S30,$AY$3:$AZ$3),\"\")","v":""},{"$f":"IF(AND($AA30<6,R30<>\"\",S30<>\"\"),ort($R30,$S30,$AY$4:$AZ$5),\"\")","v":""},{"$f":"IF(AND($AA30<6,R30<>\"\",S30<>\"\"),ort($R30,$S30,$AY$6:$AZ$7),\"\")","v":""},{"$f":"IF(AND($AA30=6,R30<>\"\",S30<>\"\"),ort($R30,$S30,$AY$8:$AZ$8),\"\")","v":""},{"$f":"IF(AND($AA30=7,R30<>\"\",S30<>\"\"),ort($R30,$S30,$AY$9:$AZ$9),\"\")","v":""},{"$f":"IF(AND($AA30<6,T30<>\"\",U30<>\"\"),ort($T30,$U30,$AY$3:$AZ$3),\"\")","v":""},{"$f":"IF(AND($AA30<6,T30<>\"\",U30<>\"\"),ort($T30,$U30,$AY$4:$AZ$5),\"\")","v":""},{"$f":"IF(AND($AA30<6,T30<>\"\",U30<>\"\"),ort($T30,$U30,$AY$6:$AZ$7),\"\")","v":""},{"$f":"IF(AND($AA30=6,T30<>\"\",U30<>\"\"),ort($T30,$U30,$AY$8:$AZ$8),\"\")","v":""},{"$f":"IF(AND($AA30=7,T30<>\"\",U30<>\"\"),ort($T30,$U30,$AY$9:$AZ$9),\"\")","v":""},null,null,null,null,null,null,null,null,null,"00:00:00"]
[null,null,null,null,null,null,null,null,null,"",{"$f":"IF(L31=\"\",\"\",IF(WEEKDAY(L31)=2,1+INT((L31-DATE(YEAR(L31+4-WEEKDAY(L31+6)),1,5)+WEEKDAY(DATE(YEAR(L31+4-WEEKDAY(L31+6)),1,3)))/7),\"\"))","v":""},{"$f":"IF(MONTH(L$30+1)<>MONTH(L$30),\"\",L$30+1)","v":"2018-06-29"},{"$f":"IF(MONTH(M$30+1)<>MONTH(M$30),\"\",M$30+1)","v":"2018-06-29"},null,"00:00:00",null,null,null,null,null,null,"","","","","",{"$f":"IF(ISERROR(IF(NOT(ISERROR(MATCH($M31,Blad2!$A$2:$A$11,0))),7,WEEKDAY($M31,2))),\"\",IF(NOT(ISERROR(MATCH($M31,Blad2!$A$2:$A$11,0))),7,WEEKDAY($M31,2)))","v":5},{"$f":"IF(AND($AA31<6,N31<>\"\",O31<>\"\"),ort($N31,$O31,$AY$3:$AZ$3),\"\")","v":""},{"$f":"IF(AND($AA31<6,N31<>\"\",O31<>\"\"),ort($N31,$O31,$AY$4:$AZ$5),\"\")","v":""},{"$f":"IF(AND($AA31<6,N31<>\"\",O31<>\"\"),ort($N31,$O31,$AY$6:$AZ$7),\"\")","v":""},{"$f":"IF(AND($AA31=6,N31<>\"\",O31<>\"\"),ort($N31,$O31,$AY$8:$AZ$8),\"\")","v":""},{"$f":"IF(AND($AA31=7,N31<>\"\",O31<>\"\"),ort($N31,$O31,$AY$9:$AZ$9),\"\")","v":""},{"$f":"IF(AND($AA31<6,P31<>\"\",Q31<>\"\"),ort($P31,$Q31,$AY$3:$AZ$3),\"\")","v":""},{"$f":"IF(AND($AA31<6,P31<>\"\",Q31<>\"\"),ort($P31,$Q31,$AY$4:$AZ$5),\"\")","v":""},{"$f":"IF(AND($AA31<6,P31<>\"\",Q31<>\"\"),ort($P31,$Q31,$AY$6:$AZ$7),\"\")","v":""},{"$f":"IF(AND($AA31=6,P31<>\"\",Q31<>\"\"),ort($P31,$Q31,$AY$8:$AZ$8),\"\")","v":""},{"$f":"IF(AND($AA31=7,P31<>\"\",Q31<>\"\"),ort($P31,$Q31,$AY$9:$AZ$9),\"\")","v":""},{"$f":"IF(AND($AA31<6,R31<>\"\",S31<>\"\"),ort($R31,$S31,$AY$3:$AZ$3),\"\")","v":""},{"$f":"IF(AND($AA31<6,R31<>\"\",S31<>\"\"),ort($R31,$S31,$AY$4:$AZ$5),\"\")","v":""},{"$f":"IF(AND($AA31<6,R31<>\"\",S31<>\"\"),ort($R31,$S31,$AY$6:$AZ$7),\"\")","v":""},{"$f":"IF(AND($AA31=6,R31<>\"\",S31<>\"\"),ort($R31,$S31,$AY$8:$AZ$8),\"\")","v":""},{"$f":"IF(AND($AA31=7,R31<>\"\",S31<>\"\"),ort($R31,$S31,$AY$9:$AZ$9),\"\")","v":""},{"$f":"IF(AND($AA31<6,T31<>\"\",U31<>\"\"),ort($T31,$U31,$AY$3:$AZ$3),\"\")","v":""},{"$f":"IF(AND($AA31<6,T31<>\"\",U31<>\"\"),ort($T31,$U31,$AY$4:$AZ$5),\"\")","v":""},{"$f":"IF(AND($AA31<6,T31<>\"\",U31<>\"\"),ort($T31,$U31,$AY$6:$AZ$7),\"\")","v":""},{"$f":"IF(AND($AA31=6,T31<>\"\",U31<>\"\"),ort($T31,$U31,$AY$8:$AZ$8),\"\")","v":""},{"$f":"IF(AND($AA31=7,T31<>\"\",U31<>\"\"),ort($T31,$U31,$AY$9:$AZ$9),\"\")","v":""},null,null,null,null,null,null,null,null,null,"00:00:00"]
[null,"Totaal Uren incl 150 %",null,null,null,null,null,null,null,"","",{"$f":"IF(L31=\"\",\"\",IF(MONTH($M31+1)<>MONTH($M31),\"\",$M31+1))","v":"2018-06-30"},{"$f":"IF(M31=\"\",\"\",IF(MONTH($M31+1)<>MONTH($M31),\"\",$M31+1))","v":"2018-06-30"},null,"00:00:00",null,null,null,null,null,null,"","","","","",{"$f":"IF(ISERROR(IF(NOT(ISERROR(MATCH($M32,Blad2!$A$2:$A$11,0))),7,WEEKDAY($M32,2))),\"\",IF(NOT(ISERROR(MATCH($M32,Blad2!$A$2:$A$11,0))),7,WEEKDAY($M32,2)))","v":6},{"$f":"IF(AND($AA32<6,N32<>\"\",O32<>\"\"),ort($N32,$O32,$AY$3:$AZ$3),\"\")","v":""},{"$f":"IF(AND($AA32<6,N32<>\"\",O32<>\"\"),ort($N32,$O32,$AY$4:$AZ$5),\"\")","v":""},{"$f":"IF(AND($AA32<6,N32<>\"\",O32<>\"\"),ort($N32,$O32,$AY$6:$AZ$7),\"\")","v":""},{"$f":"IF(AND($AA32=6,N32<>\"\",O32<>\"\"),ort($N32,$O32,$AY$8:$AZ$8),\"\")","v":""},{"$f":"IF(AND($AA32=7,N32<>\"\",O32<>\"\"),ort($N32,$O32,$AY$9:$AZ$9),\"\")","v":""},{"$f":"IF(AND($AA32<6,P32<>\"\",Q32<>\"\"),ort($P32,$Q32,$AY$3:$AZ$3),\"\")","v":""},{"$f":"IF(AND($AA32<6,P32<>\"\",Q32<>\"\"),ort($P32,$Q32,$AY$4:$AZ$5),\"\")","v":""},{"$f":"IF(AND($AA32<6,P32<>\"\",Q32<>\"\"),ort($P32,$Q32,$AY$6:$AZ$7),\"\")","v":""},{"$f":"IF(AND($AA32=6,P32<>\"\",Q32<>\"\"),ort($P32,$Q32,$AY$8:$AZ$8),\"\")","v":""},{"$f":"IF(AND($AA32=7,P32<>\"\",Q32<>\"\"),ort($P32,$Q32,$AY$9:$AZ$9),\"\")","v":""},{"$f":"IF(AND($AA32<6,R32<>\"\",S32<>\"\"),ort($R32,$S32,$AY$3:$AZ$3),\"\")","v":""},{"$f":"IF(AND($AA32<6,R32<>\"\",S32<>\"\"),ort($R32,$S32,$AY$4:$AZ$5),\"\")","v":""},{"$f":"IF(AND($AA32<6,R32<>\"\",S32<>\"\"),ort($R32,$S32,$AY$6:$AZ$7),\"\")","v":""},{"$f":"IF(AND($AA32=6,R32<>\"\",S32<>\"\"),ort($R32,$S32,$AY$8:$AZ$8),\"\")","v":""},{"$f":"IF(AND($AA32=7,R32<>\"\",S32<>\"\"),ort($R32,$S32,$AY$9:$AZ$9),\"\")","v":""},{"$f":"IF(AND($AA32<6,T32<>\"\",U32<>\"\"),ort($T32,$U32,$AY$3:$AZ$3),\"\")","v":""},{"$f":"IF(AND($AA32<6,T32<>\"\",U32<>\"\"),ort($T32,$U32,$AY$4:$AZ$5),\"\")","v":""},{"$f":"IF(AND($AA32<6,T32<>\"\",U32<>\"\"),ort($T32,$U32,$AY$6:$AZ$7),\"\")","v":""},{"$f":"IF(AND($AA32=6,T32<>\"\",U32<>\"\"),ort($T32,$U32,$AY$8:$AZ$8),\"\")","v":""},{"$f":"IF(AND($AA32=7,T32<>\"\",U32<>\"\"),ort($T32,$U32,$AY$9:$AZ$9),\"\")","v":""},null,null,null,null,null,null,null,null,null,"00:00:00"]
[null,{"$f":"SUM(U36,W37)","v":0},null,null,null,null,null,null,null,"",{"$f":"IF(L33=\"\",\"\",IF(WEEKDAY(L33)=2,1+INT((L33-DATE(YEAR(L33+4-WEEKDAY(L33+6)),1,5)+WEEKDAY(DATE(YEAR(L33+4-WEEKDAY(L33+6)),1,3)))/7),\"\"))","v":""},{"$f":"IF(L32=\"\",\"\",IF(MONTH($M32+1)<>MONTH($M32),\"\",$M32+1))","v":""},{"$f":"IF(M32=\"\",\"\",IF(MONTH($M32+1)<>MONTH($M32),\"\",$M32+1))","v":""},null,"00:00:00",null,null,null,null,null,null,"","","","","",{"$f":"IF(ISERROR(IF(NOT(ISERROR(MATCH($M33,Blad2!$A$2:$A$11,0))),7,WEEKDAY($M33,2))),\"\",IF(NOT(ISERROR(MATCH($M33,Blad2!$A$2:$A$11,0))),7,WEEKDAY($M33,2)))","v":""},{"$f":"IF(AND($AA33<6,N33<>\"\",O33<>\"\"),ort($N33,$O33,$AY$3:$AZ$3),\"\")","v":""},{"$f":"IF(AND($AA33<6,N33<>\"\",O33<>\"\"),ort($N33,$O33,$AY$4:$AZ$5),\"\")","v":""},{"$f":"IF(AND($AA33<6,N33<>\"\",O33<>\"\"),ort($N33,$O33,$AY$6:$AZ$7),\"\")","v":""},{"$f":"IF(AND($AA33=6,N33<>\"\",O33<>\"\"),ort($N33,$O33,$AY$8:$AZ$8),\"\")","v":""},{"$f":"IF(AND($AA33=7,N33<>\"\",O33<>\"\"),ort($N33,$O33,$AY$9:$AZ$9),\"\")","v":""},{"$f":"IF(AND($AA33<6,P33<>\"\",Q33<>\"\"),ort($P33,$Q33,$AY$3:$AZ$3),\"\")","v":""},{"$f":"IF(AND($AA33<6,P33<>\"\",Q33<>\"\"),ort($P33,$Q33,$AY$4:$AZ$5),\"\")","v":""},{"$f":"IF(AND($AA33<6,P33<>\"\",Q33<>\"\"),ort($P33,$Q33,$AY$6:$AZ$7),\"\")","v":""},{"$f":"IF(AND($AA33=6,P33<>\"\",Q33<>\"\"),ort($P33,$Q33,$AY$8:$AZ$8),\"\")","v":""},{"$f":"IF(AND($AA33=7,P33<>\"\",Q33<>\"\"),ort($P33,$Q33,$AY$9:$AZ$9),\"\")","v":""},{"$f":"IF(AND($AA33<6,R33<>\"\",S33<>\"\"),ort($R33,$S33,$AY$3:$AZ$3),\"\")","v":""},{"$f":"IF(AND($AA33<6,R33<>\"\",S33<>\"\"),ort($R33,$S33,$AY$4:$AZ$5),\"\")","v":""},{"$f":"IF(AND($AA33<6,R33<>\"\",S33<>\"\"),ort($R33,$S33,$AY$6:$AZ$7),\"\")","v":""},{"$f":"IF(AND($AA33=6,R33<>\"\",S33<>\"\"),ort($R33,$S33,$AY$8:$AZ$8),\"\")","v":""},{"$f":"IF(AND($AA33=7,R33<>\"\",S33<>\"\"),ort($R33,$S33,$AY$9:$AZ$9),\"\")","v":""},{"$f":"IF(AND($AA33<6,T33<>\"\",U33<>\"\"),ort($T33,$U33,$AY$3:$AZ$3),\"\")","v":""},{"$f":"IF(AND($AA33<6,T33<>\"\",U33<>\"\"),ort($T33,$U33,$AY$4:$AZ$5),\"\")","v":""},{"$f":"IF(AND($AA33<6,T33<>\"\",U33<>\"\"),ort($T33,$U33,$AY$6:$AZ$7),\"\")","v":""},{"$f":"IF(AND($AA33=6,T33<>\"\",U33<>\"\"),ort($T33,$U33,$AY$8:$AZ$8),\"\")","v":""},{"$f":"IF(AND($AA33=7,T33<>\"\",U33<>\"\"),ort($T33,$U33,$AY$9:$AZ$9),\"\")","v":""},null,null,null,null,null,null,null,null,null,"00:00:00"]
[null,null,null,null,null,null,null,null,null,null,null,null,null,null,null,null,null,null,null,null,null,null,{"$f":"SUM(W3:W33)","v":0},{"$f":"SUM(X3:X33)","v":0},0,0]
[null,null,null,null,null,null,null,null,null,null,null,null,"Plus / Min Uren Incl 150 % Uren",null,null,null,null,null,"Contract Uren",null,{"$f":"SUM(B17)","v":3.75}]
[null,null,null,null,null,null,null,null,null,null,null,null,{"$f":"SUM(B33-B17)","v":-3.75},null,null,5,null,"Gewerkte Uren 100 %",null,null,{"$f":"SUM(W34:X34)","v":0}]
[null,null,null,null,null,null,null,null,null,null,null,null,"Uitbetalen / Verlof",null,null,{"$f":"SUM(M36*P36)*24","v":-450},null,"Gewerkte Uren 150 %",null,null,{"$f":"SUM(Y34)","v":0},"X 150%",{"$f":"SUM(U37*150%)","v":0}]
[null,null,null,null,null,null,null,null,null,null,null,null,null,null,null,null,null,null,"Plus Uren"]
[null,null,null,null,null,null,null,null,null,null,null,null,null,null,null,null,null,null,"Min Uren"]

{"sheet":"Juli","index":6,"n_rows":39,"n_cols":57,"rows_kept":39,"cut":false,"hidden":false,"merged":[[38,18,38,19],[37,18,37,19],[1,48,1,51],[2,3,2,7],[3,2,3,8],[19,1,19,8],[13,1,13,8],[15,1,15,8],[16,1,16,8],[18,1,18,8],[12,1,12,8],[36,12,36,14],[36,15,36,16],[36,17,36,19],[0,14,0,21],[1,2,1,8],[34,12,34,16],[35,12,35,14],[35,15,35,16],[31,1,31,8],[32,1,32,8],[34,18,34,19],[35,17,35,19]]}
[null,null,null,null,null,null,null,null,null,null,null,null,null,null,"Test"]
[null,null,{"$f":"TODAY()","v":"2018-03-21"},null,null,null,null,null,null,"Feestdag","wknr","dag","datum","tijd in","tijd uit","tijd in","tijd uit","tijd in","tijd uit","tijd in","tijd uit","werk\ntijd",1,1.25,1.5,2,"hulp",1,1.25,1.5,1.5,2,1,1.25,1.5,1.5,2,1,1.25,1.5,1.5,2,1,1.25,1.5,1.5,2,null,"onregelmatigheidstoeslag",null,null,null,null,"Stops","Laden","Lossen","Werktijd"]
[null,2018," ","Kalender",null,null,null,null,null,{"$f":"IF(ISNA(VLOOKUP(M3,feestdagen,2,0)),\"\",VLOOKUP(M3,feestdagen,2,0))","v":""},{"$f":"WEEKNUM(L3,21)","v":26},{"$f":"DATE($B$3,$B$4,1)","v":"2018-07-01"},{"$f":"DATE($B$3,$B$4,1)","v":"2018-07-01"},null,{"$f":"SUM(N3,BE3)","v":"00:00:00"},null,null,null,null,null,null,{"$f":"IF(AND(W3=\"\",X3=\"\",Y3=\"\",Z3=\"\"),\"\",SUM(W3:Z3))","v":""},{"$f":"IF(AND(AB3=\"\",AG3=\"\",AL3=\"\",AQ3=\"\"),\"\",SUM(AB3,AG3,AL3,AQ3))","v":""},{"$f":"IF(AND(AC3=\"\",AH3=\"\",AM3=\"\",AR3=\"\"),\"\",SUM(AC3,AH3,AM3,AR3))","v":""},{"$f":"IF(AND(AD3=\"\",AE3=\"\",AI3=\"\",AJ3=\"\",AN3=\"\",AO3=\"\",AS3=\"\",AT3=\"\"),\"\",SUM(AD3,AE3,AI3,AJ3,AN3,AO3,AS3,AT3))","v":""},{"$f":"IF(AND(AF3=\"\",AK3=\"\",AP3=\"\",AU3=\"\"),\"\",SUM(AF3,AK3,AP3,AU3))","v":""},{"$f":"IF(ISERROR(IF(NOT(ISERROR(MATCH($M3,Blad2!$A$2:$A$11,0))),7,WEEKDAY($M3,2))),\"\",IF(NOT(ISERROR(MATCH($M3,Blad2!$A$2:$A$11,0))),7,WEEKDAY($M3,2)))","v":7},{"$f":"IF(AND($AA3<6,N3<>\"\",O3<>\"\"),ort($N3,$O3,$AY$3:$AZ$3),\"\")","v":""},{"$f":"IF(AND($AA3<6,N3<>\"\",O3<>\"\"),ort($N3,$O3,$AY$4:$AZ$5),\"\")","v":""},{"$f":"IF(AND($AA3<6,N3<>\"\",O3<>\"\"),ort($N3,$O3,$AY$6:$AZ$7),\"\")","v":""},{"$f":"IF(AND($AA3=6,N3<>\"\",O3<>\"\"),ort($N3,$O3,$AY$8:$AZ$8),\"\")","v":""},{"$f":"IF(AND($AA3=7,N3<>\"\",O3<>\"\"),ort($N3,$O3,$AY$9:$AZ$9),\"\")","v":""},{"$f":"IF(AND($AA3<6,P3<>\"\",Q3<>\"\"),ort($P3,$Q3,$AY$3:$AZ$3),\"\")","v":""},{"$f":"IF(AND($AA3<6,P3<>\"\",Q3<>\"\"),ort($P3,$Q3,$AY$4:$AZ$5),\"\")","v":""},{"$f":"IF(AND($AA3<6,P3<>\"\",Q3<>\"\"),ort($P3,$Q3,$AY$6:$AZ$7),\"\")","v":""},{"$f":"IF(AND($AA3=6,P3<>\"\",Q3<>\"\"),ort($P3,$Q3,$AY$8:$AZ$8),\"\")","v":""},{"$f":"IF(AND($AA3=7,P3<>\"\",Q3<>\"\"),ort($P3,$Q3,$AY$9:$AZ$9),\"\")","v":""},{"$f":"IF(AND($AA3<6,R3<>\"\",S3<>\"\"),ort($R3,$S3,$AY$3:$AZ$3),\"\")","v":""},{"$f":"IF(AND($AA3<6,R3<>\"\",S3<>\"\"),ort($R3,$S3,$AY$4:$AZ$5),\"\")","v":""},{"$f":"IF(AND($AA3<6,R3<>\"\",S3<>\"\"),ort($R3,$S3,$AY$6:$AZ$7),\"\")","v":""},{"$f":"IF(AND($AA3=6,R3<>\"\",S3<>\"\"),ort($R3,$S3,$AY$8:$AZ$8),\"\")","v":""},{"$f":"IF(AND($AA3=7,R3<>\"\",S3<>\"\"),ort($R3,$S3,$AY$9:$AZ$9),\"\")","v":""},{"$f":"IF(AND($AA3<6,T3<>\"\",U3<>\"\"),ort($T3,$U3,$AY$3:$AZ$3),\"\")","v":""},{"$f":"IF(AND($AA3<6,T3<>\"\",U3<>\"\"),ort($T3,$U3,$AY$4:$AZ$5),\"\")","v":""},{"$f":"IF(AND($AA3<6,T3<>\"\",U3<>\"\"),ort($T3,$U3,$AY$6:$AZ$7),\"\")","v":""},{"$f":"IF(AND($AA3=6,T3<>\"\",U3<>\"\"),ort($T3,$U3,$AY$8:$AZ$8),\"\")","v":""},{"$f":"IF(AND($AA3=7,T3<>\"\",U3<>\"\"),ort($T3,$U3,$AY$9:$AZ$9),\"\")","v":""},null,1,"m-vr",0.39583333333333331,0.72916666666666663,null,null,null,null,{"$f":"SUM(BB3/20/24,BC3:BD3)","v":"00:00:00"}]
[null,7,{"$f":"DATE(B3,B4,1)","v":"2018-07-01"},null,null,null,null,null,null,"",{"$f":"IF(WEEKDAY(L4)=2,1+INT((L4-DATE(YEAR(L4+4-WEEKDAY(L4+6)),1,5)+WEEKDAY(DATE(YEAR(L4+4-WEEKDAY(L4+6)),1,3)))/7),\"\")","v":27},{"$f":"DATE($B$3,$B$4,2)","v":"2018-07-02"},{"$f":"DATE($B$3,$B$4,2)","v":"2018-07-02"},null,{"$f":"SUM(N4,BE4)","v":"00:00:00"},null,null,null,null,null,null,{"$f":"IF(AND(W4=\"\",X4=\"\",Y4=\"\",Z4=\"\"),\"\",SUM(W4:Z4))","v":""},{"$f":"IF(AND(AB4=\"\",AG4=\"\",AL4=\"\",AQ4=\"\"),\"\",SUM(AB4,AG4,AL4,AQ4))","v":""},{"$f":"IF(AND(AC4=\"\",AH4=\"\",AM4=\"\",AR4=\"\"),\"\",SUM(AC4,AH4,AM4,AR4))","v":""},{"$f":"IF(AND(AD4=\"\",AE4=\"\",AI4=\"\",AJ4=\"\",AN4=\"\",AO4=\"\",AS4=\"\",AT4=\"\"),\"\",SUM(AD4,AE4,AI4,AJ4,AN4,AO4,AS4,AT4))","v":""},{"$f":"IF(AND(AF4=\"\",AK4=\"\",AP4=\"\",AU4=\"\"),\"\",SUM(AF4,AK4,AP4,AU4))","v":""},{"$f":"IF(ISERROR(IF(NOT(ISERROR(MATCH($M4,Blad2!$A$2:$A$11,0))),7,WEEKDAY($M4,2))),\"\",IF(NOT(ISERROR(MATCH($M4,Blad2!$A$2:$A$11,0))),7,WEEKDAY($M4,2)))","v":1},{"$f":"IF(AND($AA4<6,N4<>\"\",O4<>\"\"),ort($N4,$O4,$AY$3:$AZ$3),\"\")","v":""},{"$f":"IF(AND($AA4<6,N4<>\"\",O4<>\"\"),ort($N4,$O4,$AY$4:$AZ$5),\"\")","v":""},{"$f":"IF(AND($AA4<6,N4<>\"\",O4<>\"\"),ort($N4,$O4,$AY$6:$AZ$7),\"\")","v":""},{"$f":"IF(AND($AA4=6,N4<>\"\",O4<>\"\"),ort($N4,$O4,$AY$8:$AZ$8),\"\")","v":""},{"$f":"IF(AND($AA4=7,N4<>\"\",O4<>\"\"),ort($N4,$O4,$AY$9:$AZ$9),\"\")","v":""},{"$f":"IF(AND($AA4<6,P4<>\"\",Q4<>\"\"),ort($P4,$Q4,$AY$3:$AZ$3),\"\")","v":""},{"$f":"IF(AND($AA4<6,P4<>\"\",Q4<>\"\"),ort($P4,$Q4,$AY$4:$AZ$5),\"\")","v":""},{"$f":"IF(AND($AA4<6,P4<>\"\",Q4<>\"\"),ort($P4,$Q4,$AY$6:$AZ$7),\"\")","v":""},{"$f":"IF(AND($AA4=6,P4<>\"\",Q4<>\"\"),ort($P4,$Q4,$AY$8:$AZ$8),\"\")","v":""},{"$f":"IF(AND($AA4=7,P4<>\"\",Q4<>\"\"),ort($P4,$Q4,$AY$9:$AZ$9),\"\")","v":""},{"$f":"IF(AND($AA4<6,R4<>\"\",S4<>\"\"),ort($R4,$S4,$AY$3:$AZ$3),\"\")","v":""},{"$f":"IF(AND($AA4<6,R4<>\"\",S4<>\"\"),ort($R4,$S4,$AY$4:$AZ$5),\"\")","v":""},{"$f":"IF(AND($AA4<6,R4<>\"\",S4<>\"\"),ort($R4,$S4,$AY$6:$AZ$7),\"\")","v":""},{"$f":"IF(AND($AA4=6,R4<>\"\",S4<>\"\"),ort($R4,$S4,$AY$8:$AZ$8),\"\")","v":""},{"$f":"IF(AND($AA4=7,R4<>\"\",S4<>\"\"),ort($R4,$S4,$AY$9:$AZ$9),\"\")","v":""},{"$f":"IF(AND($AA4<6,T4<>\"\",U4<>\"\"),ort($T4,$U4,$AY$3:$AZ$3),\"\")","v":""},{"$f":"IF(AND($AA4<6,T4<>\"\",U4<>\"\"),ort($T4,$U4,$AY$4:$AZ$5),\"\")","v":""},{"$f":"IF(AND($AA4<6,T4<>\"\",U4<>\"\"),ort($T4,$U4,$AY$6:$AZ$7),\"\")","v":""},{"$f":"IF(AND($AA4=6,T4<>\"\",U4<>\"\"),ort($T4,$U4,$AY$8:$AZ$8),\"\")","v":""},{"$f":"IF(AND($AA4=7,T4<>\"\",U4<>\"\"),ort($T4,$U4,$AY$9:$AZ$9),\"\")","v":""},null,1.25,"m-vr",0.25,0.3125,null,null,null,null,{"$f":"SUM(BB4/20/24,BC4:BD4)","v":"00:00:00"}]
[null,null,"Ma","Di","Wo","Do","Vr","Za","Zo","","",{"$f":"DATE($B$3,$B$4,3)","v":"2018-07-03"},{"$f":"DATE($B$3,$B$4,3)","v":"2018-07-03"},null,"00:00:00",null,null,null,null,null,null,"",{"$f":"IF(AND(AB5=\"\",AG5=\"\",AL5=\"\",AQ5=\"\"),\"\",SUM(AB5,AG5,AL5,AQ5))","v":""},"",{"$f":"IF(AND(AD5=\"\",AE5=\"\",AI5=\"\",AJ5=\"\",AN5=\"\",AO5=\"\",AS5=\"\",AT5=\"\"),\"\",SUM(AD5,AE5,AI5,AJ5,AN5,AO5,AS5,AT5))","v":""},{"$f":"IF(AND(AF5=\"\",AK5=\"\",AP5=\"\",AU5=\"\"),\"\",SUM(AF5,AK5,AP5,AU5))","v":""},{"$f":"IF(ISERROR(IF(NOT(ISERROR(MATCH($M5,Blad2!$A$2:$A$11,0))),7,WEEKDAY($M5,2))),\"\",IF(NOT(ISERROR(MATCH($M5,Blad2!$A$2:$A$11,0))),7,WEEKDAY($M5,2)))","v":2},{"$f":"IF(AND($AA5<6,N5<>\"\",O5<>\"\"),ort($N5,$O5,$AY$3:$AZ$3),\"\")","v":""},{"$f":"IF(AND($AA5<6,N5<>\"\",O5<>\"\"),ort($N5,$O5,$AY$4:$AZ$5),\"\")","v":""},{"$f":"IF(AND($AA5<6,N5<>\"\",O5<>\"\"),ort($N5,$O5,$AY$6:$AZ$7),\"\")","v":""},{"$f":"IF(AND($AA5=6,N5<>\"\",O5<>\"\"),ort($N5,$O5,$AY$8:$AZ$8),\"\")","v":""},{"$f":"IF(AND($AA5=7,N5<>\"\",O5<>\"\"),ort($N5,$O5,$AY$9:$AZ$9),\"\")","v":""},{"$f":"IF(AND($AA5<6,P5<>\"\",Q5<>\"\"),ort($P5,$Q5,$AY$3:$AZ$3),\"\")","v":""},{"$f":"IF(AND($AA5<6,P5<>\"\",Q5<>\"\"),ort($P5,$Q5,$AY$4:$AZ$5),\"\")","v":""},{"$f":"IF(AND($AA5<6,P5<>\"\",Q5<>\"\"),ort($P5,$Q5,$AY$6:$AZ$7),\"\")","v":""},{"$f":"IF(AND($AA5=6,P5<>\"\",Q5<>\"\"),ort($P5,$Q5,$AY$8:$AZ$8),\"\")","v":""},{"$f":"IF(AND($AA5=7,P5<>\"\",Q5<>\"\"),ort($P5,$Q5,$AY$9:$AZ$9),\"\")","v":""},{"$f":"IF(AND($AA5<6,R5<>\"\",S5<>\"\"),ort($R5,$S5,$AY$3:$AZ$3),\"\")","v":""},{"$f":"IF(AND($AA5<6,R5<>\"\",S5<>\"\"),ort($R5,$S5,$AY$4:$AZ$5),\"\")","v":""},{"$f":"IF(AND($AA5<6,R5<>\"\",S5<>\"\"),ort($R5,$S5,$AY$6:$AZ$7),\"\")","v":""},{"$f":"IF(AND($AA5=6,R5<>\"\",S5<>\"\"),ort($R5,$S5,$AY$8:$AZ$8),\"\")","v":""},{"$f":"IF(AND($AA5=7,R5<>\"\",S5<>\"\"),ort($R5,$S5,$AY$9:$AZ$9),\"\")","v":""},{"$f":"IF(AND($AA5<6,T5<>\"\",U5<>\"\"),ort($T5,$U5,$AY$3:$AZ$3),\"\")","v":""},{"$f":"IF(AND($AA5<6,T5<>\"\",U5<>\"\"),ort($T5,$U5,$AY$4:$AZ$5),\"\")","v":""},{"$f":"IF(AND($AA5<6,T5<>\"\",U5<>\"\"),ort($T5,$U5,$AY$6:$AZ$7),\"\")","v":""},{"$f":"IF(AND($AA5=6,T5<>\"\",U5<>\"\"),ort($T5,$U5,$AY$8:$AZ$8),\"\")","v":""},{"$f":"IF(AND($AA5=7,T5<>\"\",U5<>\"\"),ort($T5,$U5,$AY$9:$AZ$9),\"\")","v":""},null,1.25,"m-vr",0.72916666666666663,0.77083333333333337,null,null,null,null,"00:00:00"]
[null,null,{"$f":"IF(WEEKDAY(C4,2)=1,C4,\"\")","v":""},{"$f":"IF(WEEKDAY(C4,2)=2,C4,IF(C6<>\"\",C6+1,\"\"))","v":""},{"$f":"IF(WEEKDAY(C4,2)=3,C4,IF(D6<>\"\",D6+1,\"\"))","v":""},{"$f":"IF(WEEKDAY(C4,2)=4,C4,IF(E6<>\"\",E6+1,\"\"))","v":""},{"$f":"IF(WEEKDAY(C4,2)=5,C4,IF(F6<>\"\",F6+1,\"\"))","v":""},{"$f":"IF(WEEKDAY(C4,2)=6,C4,IF(G6<>\"\",G6+1,\"\"))","v":""},{"$f":"IF(WEEKDAY(C4,2)=7,C4,IF(H6<>\"\",H6+1,\"\"))","v":"2018-07-01"},"","",{"$f":"DATE($B$3,$B$4,4)","v":"2018-07-04"},{"$f":"DATE($B$3,$B$4,4)","v":"2018-07-04"},null,"00:00:00",null,null,null,null,null,null,"","","","","",{"$f":"IF(ISERROR(IF(NOT(ISERROR(MATCH($M6,Blad2!$A$2:$A$11,0))),7,WEEKDAY($M6,2))),\"\",IF(NOT(ISERROR(MATCH($M6,Blad2!$A$2:$A$11,0))),7,WEEKDAY($M6,2)))","v":3},{"$f":"IF(AND($AA6<6,N6<>\"\",O6<>\"\"),ort($N6,$O6,$AY$3:$AZ$3),\"\")","v":""},{"$f":"IF(AND($AA6<6,N6<>\"\",O6<>\"\"),ort($N6,$O6,$AY$4:$AZ$5),\"\")","v":""},{"$f":"IF(AND($AA6<6,N6<>\"\",O6<>\"\"),ort($N6,$O6,$AY$6:$AZ$7),\"\")","v":""},{"$f":"IF(AND($AA6=6,N6<>\"\",O6<>\"\"),ort($N6,$O6,$AY$8:$AZ$8),\"\")","v":""},{"$f":"IF(AND($AA6=7,N6<>\"\",O6<>\"\"),ort($N6,$O6,$AY$9:$AZ$9),\"\")","v":""},{"$f":"IF(AND($AA6<6,P6<>\"\",Q6<>\"\"),ort($P6,$Q6,$AY$3:$AZ$3),\"\")","v":""},{"$f":"IF(AND($AA6<6,P6<>\"\",Q6<>\"\"),ort($P6,$Q6,$AY$4:$AZ$5),\"\")","v":""},{"$f":"IF(AND($AA6<6,P6<>\"\",Q6<>\"\"),ort($P6,$Q6,$AY$6:$AZ$7),\"\")","v":""},{"$f":"IF(AND($AA6=6,P6<>\"\",Q6<>\"\"),ort($P6,$Q6,$AY$8:$AZ$8),\"\")","v":""},{"$f":"IF(AND($AA6=7,P6<>\"\",Q6<>\"\"),ort($P6,$Q6,$AY$9:$AZ$9),\"\")","v":""},{"$f":"IF(AND($AA6<6,R6<>\"\",S6<>\"\"),ort($R6,$S6,$AY$3:$AZ$3),\"\")","v":""},{"$f":"IF(AND($AA6<6,R6<>\"\",S6<>\"\"),ort($R6,$S6,$AY$4:$AZ$5),\"\")","v":""},{"$f":"IF(AND($AA6<6,R6<>\"\",S6<>\"\"),ort($R6,$S6,$AY$6:$AZ$7),\"\")","v":""},{"$f":"IF(AND($AA6=6,R6<>\"\",S6<>\"\"),ort($R6,$S6,$AY$8:$AZ$8),\"\")","v":""},{"$f":"IF(AND($AA6=7,R6<>\"\",S6<>\"\"),ort($R6,$S6,$AY$9:$AZ$9),\"\")","v":""},{"$f":"IF(AND($AA6<6,T6<>\"\",U6<>\"\"),ort($T6,$U6,$AY$3:$AZ$3),\"\")","v":""},{"$f":"IF(AND($AA6<6,T6<>\"\",U6<>\"\"),ort($T6,$U6,$AY$4:$AZ$5),\"\")","v":""},{"$f":"IF(AND($AA6<6,T6<>\"\",U6<>\"\"),ort($T6,$U6,$AY$6:$AZ$7),\"\")","v":""},{"$f":"IF(AND($AA6=6,T6<>\"\",U6<>\"\"),ort($T6,$U6,$AY$8:$AZ$8),\"\")","v":""},{"$f":"IF(AND($AA6=7,T6<>\"\",U6<>\"\"),ort($T6,$U6,$AY$9:$AZ$9),\"\")","v":""},null,1.5,"m-vr",0,0.25,null,null,null,null,"00:00:00"]
[null,null,{"$f":"I6+1","v":"2018-07-02"},{"$f":"C7+1","v":"2018-07-03"},{"$f":"D7+1","v":"2018-07-04"},"2018-07-05","2018-07-06","2018-07-07","2018-07-08","","",{"$f":"DATE($B$3,$B$4,5)","v":"2018-07-05"},{"$f":"DATE($B$3,$B$4,5)","v":"2018-07-05"},null,"00:00:00",null,null,null,null,null,null,"","","","","",{"$f":"IF(ISERROR(IF(NOT(ISERROR(MATCH($M7,Blad2!$A$2:$A$11,0))),7,WEEKDAY($M7,2))),\"\",IF(NOT(ISERROR(MATCH($M7,Blad2!$A$2:$A$11,0))),7,WEEKDAY($M7,2)))","v":4},{"$f":"IF(AND($AA7<6,N7<>\"\",O7<>\"\"),ort($N7,$O7,$AY$3:$AZ$3),\"\")","v":""},{"$f":"IF(AND($AA7<6,N7<>\"\",O7<>\"\"),ort($N7,$O7,$AY$4:$AZ$5),\"\")","v":""},{"$f":"IF(AND($AA7<6,N7<>\"\",O7<>\"\"),ort($N7,$O7,$AY$6:$AZ$7),\"\")","v":""},{"$f":"IF(AND($AA7=6,N7<>\"\",O7<>\"\"),ort($N7,$O7,$AY$8:$AZ$8),\"\")","v":""},{"$f":"IF(AND($AA7=7,N7<>\"\",O7<>\"\"),ort($N7,$O7,$AY$9:$AZ$9),\"\")","v":""},{"$f":"IF(AND($AA7<6,P7<>\"\",Q7<>\"\"),ort($P7,$Q7,$AY$3:$AZ$3),\"\")","v":""},{"$f":"IF(AND($AA7<6,P7<>\"\",Q7<>\"\"),ort($P7,$Q7,$AY$4:$AZ$5),\"\")","v":""},{"$f":"IF(AND($AA7<6,P7<>\"\",Q7<>\"\"),ort($P7,$Q7,$AY$6:$AZ$7),\"\")","v":""},{"$f":"IF(AND($AA7=6,P7<>\"\",Q7<>\"\"),ort($P7,$Q7,$AY$8:$AZ$8),\"\")","v":""},{"$f":"IF(AND($AA7=7,P7<>\"\",Q7<>\"\"),ort($P7,$Q7,$AY$9:$AZ$9),\"\")","v":""},{"$f":"IF(AND($AA7<6,R7<>\"\",S7<>\"\"),ort($R7,$S7,$AY$3:$AZ$3),\"\")","v":""},{"$f":"IF(AND($AA7<6,R7<>\"\",S7<>\"\"),ort($R7,$S7,$AY$4:$AZ$5),\"\")","v":""},{"$f":"IF(AND($AA7<6,R7<>\"\",S7<>\"\"),ort($R7,$S7,$AY$6:$AZ$7),\"\")","v":""},{"$f":"IF(AND($AA7=6,R7<>\"\",S7<>\"\"),ort($R7,$S7,$AY$8:$AZ$8),\"\")","v":""},{"$f":"IF(AND($AA7=7,R7<>\"\",S7<>\"\"),ort($R7,$S7,$AY$9:$AZ$9),\"\")","v":""},{"$f":"IF(AND($AA7<6,T7<>\"\",U7<>\"\"),ort($T7,$U7,$AY$3:$AZ$3),\"\")","v":""},{"$f":"IF(AND($AA7<6,T7<>\"\",U7<>\"\"),ort($T7,$U7,$AY$4:$AZ$5),\"\")","v":""},{"$f":"IF(AND($AA7<6,T7<>\"\",U7<>\"\"),ort($T7,$U7,$AY$6:$AZ$7),\"\")","v":""},{"$f":"IF(AND($AA7=6,T7<>\"\",U7<>\"\"),ort($T7,$U7,$AY$8:$AZ$8),\"\")","v":""},{"$f":"IF(AND($AA7=7,T7<>\"\",U7<>\"\"),ort($T7,$U7,$AY$9:$AZ$9),\"\")","v":""},null,1.5,"m-vr",0.77083333333333337,1,null,null,null,null,{"$f":"SUM(BB7/18/24,BC7:BD7)","v":"00:00:00"}]
[null,null,{"$f":"I7+1","v":"2018-07-09"},{"$f":"C8+1","v":"2018-07-10"},"2018-07-11","2018-07-12","2018-07-13","2018-07-14","2018-07-15","","",{"$f":"DATE($B$3,$B$4,6)","v":"2018-07-06"},{"$f":"DATE($B$3,$B$4,6)","v":"2018-07-06"},null,"00:00:00",null,null,null,null,null,null,"","","","","",{"$f":"IF(ISERROR(IF(NOT(ISERROR(MATCH($M8,Blad2!$A$2:$A$11,0))),7,WEEKDAY($M8,2))),\"\",IF(NOT(ISERROR(MATCH($M8,Blad2!$A$2:$A$11,0))),7,WEEKDAY($M8,2)))","v":5},{"$f":"IF(AND($AA8<6,N8<>\"\",O8<>\"\"),ort($N8,$O8,$AY$3:$AZ$3),\"\")","v":""},{"$f":"IF(AND($AA8<6,N8<>\"\",O8<>\"\"),ort($N8,$O8,$AY$4:$AZ$5),\"\")","v":""},{"$f":"IF(AND($AA8<6,N8<>\"\",O8<>\"\"),ort($N8,$O8,$AY$6:$AZ$7),\"\")","v":""},{"$f":"IF(AND($AA8=6,N8<>\"\",O8<>\"\"),ort($N8,$O8,$AY$8:$AZ$8),\"\")","v":""},{"$f":"IF(AND($AA8=7,N8<>\"\",O8<>\"\"),ort($N8,$O8,$AY$9:$AZ$9),\"\")","v":""},{"$f":"IF(AND($AA8<6,P8<>\"\",Q8<>\"\"),ort($P8,$Q8,$AY$3:$AZ$3),\"\")","v":""},{"$f":"IF(AND($AA8<6,P8<>\"\",Q8<>\"\"),ort($P8,$Q8,$AY$4:$AZ$5),\"\")","v":""},{"$f":"IF(AND($AA8<6,P8<>\"\",Q8<>\"\"),ort($P8,$Q8,$AY$6:$AZ$7),\"\")","v":""},{"$f":"IF(AND($AA8=6,P8<>\"\",Q8<>\"\"),ort($P8,$Q8,$AY$8:$AZ$8),\"\")","v":""},{"$f":"IF(AND($AA8=7,P8<>\"\",Q8<>\"\"),ort($P8,$Q8,$AY$9:$AZ$9),\"\")","v":""},{"$f":"IF(AND($AA8<6,R8<>\"\",S8<>\"\"),ort($R8,$S8,$AY$3:$AZ$3),\"\")","v":""},{"$f":"IF(AND($AA8<6,R8<>\"\",S8<>\"\"),ort($R8,$S8,$AY$4:$AZ$5),\"\")","v":""},{"$f":"IF(AND($AA8<6,R8<>\"\",S8<>\"\"),ort($R8,$S8,$AY$6:$AZ$7),\"\")","v":""},{"$f":"IF(AND($AA8=6,R8<>\"\",S8<>\"\"),ort($R8,$S8,$AY$8:$AZ$8),\"\")","v":""},{"$f":"IF(AND($AA8=7,R8<>\"\",S8<>\"\"),ort($R8,$S8,$AY$9:$AZ$9),\"\")","v":""},{"$f":"IF(AND($AA8<6,T8<>\"\",U8<>\"\"),ort($T8,$U8,$AY$3:$AZ$3),\"\")","v":""},{"$f":"IF(AND($AA8<6,T8<>\"\",U8<>\"\"),ort($T8,$U8,$AY$4:$AZ$5),\"\")","v":""},{"$f":"IF(AND($AA8<6,T8<>\"\",U8<>\"\"),ort($T8,$U8,$AY$6:$AZ$7),\"\")","v":""},{"$f":"IF(AND($AA8=6,T8<>\"\",U8<>\"\"),ort($T8,$U8,$AY$8:$AZ$8),\"\")","v":""},{"$f":"IF(AND($AA8=7,T8<>\"\",U8<>\"\"),ort($T8,$U8,$AY$9:$AZ$9),\"\")","v":""},null,1.5,"za",0,1,null,null,null,null,{"$f":"SUM(BB8/19/24,BC8:BD8)","v":"00:00:00"}]
[null,null,{"$f":"I8+1","v":"2018-07-16"},{"$f":"C9+1","v":"2018-07-17"},"2018-07-18","2018-07-19","2018-07-20","2018-07-21","2018-07-22","","",{"$f":"DATE($B$3,$B$4,7)","v":"2018-07-07"},{"$f":"DATE($B$3,$B$4,7)","v":"2018-07-07"},null,"00:00:00",null,null,null,null,null,null,"","","","","",{"$f":"IF(ISERROR(IF(NOT(ISERROR(MATCH($M9,Blad2!$A$2:$A$11,0))),7,WEEKDAY($M9,2))),\"\",IF(NOT(ISERROR(MATCH($M9,Blad2!$A$2:$A$11,0))),7,WEEKDAY($M9,2)))","v":6},{"$f":"IF(AND($AA9<6,N9<>\"\",O9<>\"\"),ort($N9,$O9,$AY$3:$AZ$3),\"\")","v":""},{"$f":"IF(AND($AA9<6,N9<>\"\",O9<>\"\"),ort($N9,$O9,$AY$4:$AZ$5),\"\")","v":""},{"$f":"IF(AND($AA9<6,N9<>\"\",O9<>\"\"),ort($N9,$O9,$AY$6:$AZ$7),\"\")","v":""},{"$f":"IF(AND($AA9=6,N9<>\"\",O9<>\"\"),ort($N9,$O9,$AY$8:$AZ$8),\"\")","v":""},{"$f":"IF(AND($AA9=7,N9<>\"\",O9<>\"\"),ort($N9,$O9,$AY$9:$AZ$9),\"\")","v":""},{"$f":"IF(AND($AA9<6,P9<>\"\",Q9<>\"\"),ort($P9,$Q9,$AY$3:$AZ$3),\"\")","v":""},{"$f":"IF(AND($AA9<6,P9<>\"\",Q9<>\"\"),ort($P9,$Q9,$AY$4:$AZ$5),\"\")","v":""},{"$f":"IF(AND($AA9<6,P9<>\"\",Q9<>\"\"),ort($P9,$Q9,$AY$6:$AZ$7),\"\")","v":""},{"$f":"IF(AND($AA9=6,P9<>\"\",Q9<>\"\"),ort($P9,$Q9,$AY$8:$AZ$8),\"\")","v":""},{"$f":"IF(AND($AA9=7,P9<>\"\",Q9<>\"\"),ort($P9,$Q9,$AY$9:$AZ$9),\"\")","v":""},{"$f":"IF(AND($AA9<6,R9<>\"\",S9<>\"\"),ort($R9,$S9,$AY$3:$AZ$3),\"\")","v":""},{"$f":"IF(AND($AA9<6,R9<>\"\",S9<>\"\"),ort($R9,$S9,$AY$4:$AZ$5),\"\")","v":""},{"$f":"IF(AND($AA9<6,R9<>\"\",S9<>\"\"),ort($R9,$S9,$AY$6:$AZ$7),\"\")","v":""},{"$f":"IF(AND($AA9=6,R9<>\"\",S9<>\"\"),ort($R9,$S9,$AY$8:$AZ$8),\"\")","v":""},{"$f":"IF(AND($AA9=7,R9<>\"\",S9<>\"\"),ort($R9,$S9,$AY$9:$AZ$9),\"\")","v":""},{"$f":"IF(AND($AA9<6,T9<>\"\",U9<>\"\"),ort($T9,$U9,$AY$3:$AZ$3),\"\")","v":""},{"$f":"IF(AND($AA9<6,T9<>\"\",U9<>\"\"),ort($T9,$U9,$AY$4:$AZ$5),\"\")","v":""},{"$f":"IF(AND($AA9<6,T9<>\"\",U9<>\"\"),ort($T9,$U9,$AY$6:$AZ$7),\"\")","v":""},{"$f":"IF(AND($AA9=6,T9<>\"\",U9<>\"\"),ort($T9,$U9,$AY$8:$AZ$8),\"\")","v":""},{"$f":"IF(AND($AA9=7,T9<>\"\",U9<>\"\"),ort($T9,$U9,$AY$9:$AZ$9),\"\")","v":""},null,2,"zo/feest",0,1,null,null,null,null,{"$f":"SUM(BB9/19/24,BC9:BD9)","v":"00:00:00"}]
[null,null,{"$f":"IF(I9=\"\",\"\",IF(MONTH(I9+1)=MONTH(I9),I9+1,\"\"))","v":"2018-07-23"},{"$f":"IF(C10=\"\",\"\",IF(MONTH(C10+1)=MONTH(C10),C10+1,\"\"))","v":"2018-07-24"},{"$f":"IF(D10=\"\",\"\",IF(MONTH(D10+1)=MONTH(D10),D10+1,\"\"))","v":"2018-07-25"},"2018-07-26","2018-07-27","2018-07-28","2018-07-29","","",{"$f":"DATE($B$3,$B$4,8)","v":"2018-07-08"},{"$f":"DATE($B$3,$B$4,8)","v":"2018-07-08"},null,"00:00:00",null,null,null,null,null,null,"","","","","",{"$f":"IF(ISERROR(IF(NOT(ISERROR(MATCH($M10,Blad2!$A$2:$A$11,0))),7,WEEKDAY($M10,2))),\"\",IF(NOT(ISERROR(MATCH($M10,Blad2!$A$2:$A$11,0))),7,WEEKDAY($M10,2)))","v":7},{"$f":"IF(AND($AA10<6,N10<>\"\",O10<>\"\"),ort($N10,$O10,$AY$3:$AZ$3),\"\")","v":""},{"$f":"IF(AND($AA10<6,N10<>\"\",O10<>\"\"),ort($N10,$O10,$AY$4:$AZ$5),\"\")","v":""},{"$f":"IF(AND($AA10<6,N10<>\"\",O10<>\"\"),ort($N10,$O10,$AY$6:$AZ$7),\"\")","v":""},{"$f":"IF(AND($AA10=6,N10<>\"\",O10<>\"\"),ort($N10,$O10,$AY$8:$AZ$8),\"\")","v":""},{"$f":"IF(AND($AA10=7,N10<>\"\",O10<>\"\"),ort($N10,$O10,$AY$9:$AZ$9),\"\")","v":""},{"$f":"IF(AND($AA10<6,P10<>\"\",Q10<>\"\"),ort($P10,$Q10,$AY$3:$AZ$3),\"\")","v":""},{"$f":"IF(AND($AA10<6,P10<>\"\",Q10<>\"\"),ort($P10,$Q10,$AY$4:$AZ$5),\"\")","v":""},{"$f":"IF(AND($AA10<6,P10<>\"\",Q10<>\"\"),ort($P10,$Q10,$AY$6:$AZ$7),\"\")","v":""},{"$f":"IF(AND($AA10=6,P10<>\"\",Q10<>\"\"),ort($P10,$Q10,$AY$8:$AZ$8),\"\")","v":""},{"$f":"IF(AND($AA10=7,P10<>\"\",Q10<>\"\"),ort($P10,$Q10,$AY$9:$AZ$9),\"\")","v":""},{"$f":"IF(AND($AA10<6,R10<>\"\",S10<>\"\"),ort($R10,$S10,$AY$3:$AZ$3),\"\")","v":""},{"$f":"IF(AND($AA10<6,R10<>\"\",S10<>\"\"),ort($R10,$S10,$AY$4:$AZ$5),\"\")","v":""},{"$f":"IF(AND($AA10<6,R10<>\"\",S10<>\"\"),ort($R10,$S10,$AY$6:$AZ$7),\"\")","v":""},{"$f":"IF(AND($AA10=6,R10<>\"\",S10<>\"\"),ort($R10,$S10,$AY$8:$AZ$8),\"\")","v":""},{"$f":"IF(AND($AA10=7,R10<>\"\",S10<>\"\"),ort($R10,$S10,$AY$9:$AZ$9),\"\")","v":""},{"$f":"IF(AND($AA10<6,T10<>\"\",U10<>\"\"),ort($T10,$U10,$AY$3:$AZ$3),\"\")","v":""},{"$f":"IF(AND($AA10<6,T10<>\"\",U10<>\"\"),ort($T10,$U10,$AY$4:$AZ$5),\"\")","v":""},{"$f":"IF(AND($AA10<6,T10<>\"\",U10<>\"\"),ort($T10,$U10,$AY$6:$AZ$7),\"\")","v":""},{"$f":"IF(AND($AA10=6,T10<>\"\",U10<>\"\"),ort($T10,$U10,$AY$8:$AZ$8),\"\")","v":""},{"$f":"IF(AND($AA10=7,T10<>\"\",U10<>\"\"),ort($T10,$U10,$AY$9:$AZ$9),\"\")","v":""},null,null,null,null,null,null,null,null,null,{"$f":"SUM(BB10/18/24,BC10:BD10)","v":"00:00:00"}]
[null,null,{"$f":"IF(I10=\"\",\"\",IF(MONTH(I10+1)=MONTH(I10),I10+1,\"\"))","v":"2018-07-30"},{"$f":"IF(C11=\"\",\"\",IF(MONTH(C11+1)=MONTH(C11),C11+1,\"\"))","v":"2018-07-31"},"","","","","","",28,{"$f":"DATE($B$3,$B$4,9)","v":"2018-07-09"},{"$f":"DATE($B$3,$B$4,9)","v":"2018-07-09"},null,"00:00:00",null,null,null,null,null,null,"","","","","",{"$f":"IF(ISERROR(IF(NOT(ISERROR(MATCH($M11,Blad2!$A$2:$A$11,0))),7,WEEKDAY($M11,2))),\"\",IF(NOT(ISERROR(MATCH($M11,Blad2!$A$2:$A$11,0))),7,WEEKDAY($M11,2)))","v":1},{"$f":"IF(AND($AA11<6,N11<>\"\",O11<>\"\"),ort($N11,$O11,$AY$3:$AZ$3),\"\")","v":""},{"$f":"IF(AND($AA11<6,N11<>\"\",O11<>\"\"),ort($N11,$O11,$AY$4:$AZ$5),\"\")","v":""},{"$f":"IF(AND($AA11<6,N11<>\"\",O11<>\"\"),ort($N11,$O11,$AY$6:$AZ$7),\"\")","v":""},{"$f":"IF(AND($AA11=6,N11<>\"\",O11<>\"\"),ort($N11,$O11,$AY$8:$AZ$8),\"\")","v":""},{"$f":"IF(AND($AA11=7,N11<>\"\",O11<>\"\"),ort($N11,$O11,$AY$9:$AZ$9),\"\")","v":""},{"$f":"IF(AND($AA11<6,P11<>\"\",Q11<>\"\"),ort($P11,$Q11,$AY$3:$AZ$3),\"\")","v":""},{"$f":"IF(AND($AA11<6,P11<>\"\",Q11<>\"\"),ort($P11,$Q11,$AY$4:$AZ$5),\"\")","v":""},{"$f":"IF(AND($AA11<6,P11<>\"\",Q11<>\"\"),ort($P11,$Q11,$AY$6:$AZ$7),\"\")","v":""},{"$f":"IF(AND($AA11=6,P11<>\"\",Q11<>\"\"),ort($P11,$Q11,$AY$8:$AZ$8),\"\")","v":""},{"$f":"IF(AND($AA11=7,P11<>\"\",Q11<>\"\"),ort($P11,$Q11,$AY$9:$AZ$9),\"\")","v":""},{"$f":"IF(AND($AA11<6,R11<>\"\",S11<>\"\"),ort($R11,$S11,$AY$3:$AZ$3),\"\")","v":""},{"$f":"IF(AND($AA11<6,R11<>\"\",S11<>\"\"),ort($R11,$S11,$AY$4:$AZ$5),\"\")","v":""},{"$f":"IF(AND($AA11<6,R11<>\"\",S11<>\"\"),ort($R11,$S11,$AY$6:$AZ$7),\"\")","v":""},{"$f":"IF(AND($AA11=6,R11<>\"\",S11<>\"\"),ort($R11,$S11,$AY$8:$AZ$8),\"\")","v":""},{"$f":"IF(AND($AA11=7,R11<>\"\",S11<>\"\"),ort($R11,$S11,$AY$9:$AZ$9),\"\")","v":""},{"$f":"IF(AND($AA11<6,T11<>\"\",U11<>\"\"),ort($T11,$U11,$AY$3:$AZ$3),\"\")","v":""},{"$f":"IF(AND($AA11<6,T11<>\"\",U11<>\"\"),ort($T11,$U11,$AY$4:$AZ$5),\"\")","v":""},{"$f":"IF(AND($AA11<6,T11<>\"\",U11<>\"\"),ort($T11,$U11,$AY$6:$AZ$7),\"\")","v":""},{"$f":"IF(AND($AA11=6,T11<>\"\",U11<>\"\"),ort($T11,$U11,$AY$8:$AZ$8),\"\")","v":""},{"$f":"IF(AND($AA11=7,T11<>\"\",U11<>\"\"),ort($T11,$U11,$AY$9:$AZ$9),\"\")","v":""},null,null,null,null,null,null,null,null,null,"00:00:00"]
[null,null,null,null,null,null,null,null,null,"","",{"$f":"DATE($B$3,$B$4,10)","v":"2018-07-10"},{"$f":"DATE($B$3,$B$4,10)","v":"2018-07-10"},null,"00:00:00",null,null,null,null,null,null,"","","","","",{"$f":"IF(ISERROR(IF(NOT(ISERROR(MATCH($M12,Blad2!$A$2:$A$11,0))),7,WEEKDAY($M12,2))),\"\",IF(NOT(ISERROR(MATCH($M12,Blad2!$A$2:$A$11,0))),7,WEEKDAY($M12,2)))","v":2},{"$f":"IF(AND($AA12<6,N12<>\"\",O12<>\"\"),ort($N12,$O12,$AY$3:$AZ$3),\"\")","v":""},{"$f":"IF(AND($AA12<6,N12<>\"\",O12<>\"\"),ort($N12,$O12,$AY$4:$AZ$5),\"\")","v":""},{"$f":"IF(AND($AA12<6,N12<>\"\",O12<>\"\"),ort($N12,$O12,$AY$6:$AZ$7),\"\")","v":""},{"$f":"IF(AND($AA12=6,N12<>\"\",O12<>\"\"),ort($N12,$O12,$AY$8:$AZ$8),\"\")","v":""},{"$f":"IF(AND($AA12=7,N12<>\"\",O12<>\"\"),ort($N12,$O12,$AY$9:$AZ$9),\"\")","v":""},{"$f":"IF(AND($AA12<6,P12<>\"\",Q12<>\"\"),ort($P12,$Q12,$AY$3:$AZ$3),\"\")","v":""},{"$f":"IF(AND($AA12<6,P12<>\"\",Q12<>\"\"),ort($P12,$Q12,$AY$4:$AZ$5),\"\")","v":""},{"$f":"IF(AND($AA12<6,P12<>\"\",Q12<>\"\"),ort($P12,$Q12,$AY$6:$AZ$7),\"\")","v":""},{"$f":"IF(AND($AA12=6,P12<>\"\",Q12<>\"\"),ort($P12,$Q12,$AY$8:$AZ$8),\"\")","v":""},{"$f":"IF(AND($AA12=7,P12<>\"\",Q12<>\"\"),ort($P12,$Q12,$AY$9:$AZ$9),\"\")","v":""},{"$f":"IF(AND($AA12<6,R12<>\"\",S12<>\"\"),ort($R12,$S12,$AY$3:$AZ$3),\"\")","v":""},{"$f":"IF(AND($AA12<6,R12<>\"\",S12<>\"\"),ort($R12,$S12,$AY$4:$AZ$5),\"\")","v":""},{"$f":"IF(AND($AA12<6,R12<>\"\",S12<>\"\"),ort($R12,$S12,$AY$6:$AZ$7),\"\")","v":""},{"$f":"IF(AND($AA12=6,R12<>\"\",S12<>\"\"),ort($R12,$S12,$AY$8:$AZ$8),\"\")","v":""},{"$f":"IF(AND($AA12=7,R12<>\"\",S12<>\"\"),ort($R12,$S12,$AY$9:$AZ$9),\"\")","v":""},{"$f":"IF(AND($AA12<6,T12<>\"\",U12<>\"\"),ort($T12,$U12,$AY$3:$AZ$3),\"\")","v":""},{"$f":"IF(AND($AA12<6,T12<>\"\",U12<>\"\"),ort($T12,$U12,$AY$4:$AZ$5),\"\")","v":""},{"$f":"IF(AND($AA12<6,T12<>\"\",U12<>\"\"),ort($T12,$U12,$AY$6:$AZ$7),\"\")","v":""},{"$f":"IF(AND($AA12=6,T12<>\"\",U12<>\"\"),ort($T12,$U12,$AY$8:$AZ$8),\"\")","v":""},{"$f":"IF(AND($AA12=7,T12<>\"\",U12<>\"\"),ort($T12,$U12,$AY$9:$AZ$9),\"\")","v":""},null,null,null,null,null,null,null,null,null,"00:00:00"]
[null,"Werkdagen deze maand",null,null,null,null,null,null,null,"","",{"$f":"DATE($B$3,$B$4,11)","v":"2018-07-11"},{"$f":"DATE($B$3,$B$4,11)","v":"2018-07-11"},null,"00:00:00",null,null,null,null,null,null,"","","","","",{"$f":"IF(ISERROR(IF(NOT(ISERROR(MATCH($M13,Blad2!$A$2:$A$11,0))),7,WEEKDAY($M13,2))),\"\",IF(NOT(ISERROR(MATCH($M13,Blad2!$A$2:$A$11,0))),7,WEEKDAY($M13,2)))","v":3},{"$f":"IF(AND($AA13<6,N13<>\"\",O13<>\"\"),ort($N13,$O13,$AY$3:$AZ$3),\"\")","v":""},{"$f":"IF(AND($AA13<6,N13<>\"\",O13<>\"\"),ort($N13,$O13,$AY$4:$AZ$5),\"\")","v":""},{"$f":"IF(AND($AA13<6,N13<>\"\",O13<>\"\"),ort($N13,$O13,$AY$6:$AZ$7),\"\")","v":""},{"$f":"IF(AND($AA13=6,N13<>\"\",O13<>\"\"),ort($N13,$O13,$AY$8:$AZ$8),\"\")","v":""},{"$f":"IF(AND($AA13=7,N13<>\"\",O13<>\"\"),ort($N13,$O13,$AY$9:$AZ$9),\"\")","v":""},{"$f":"IF(AND($AA13<6,P13<>\"\",Q13<>\"\"),ort($P13,$Q13,$AY$3:$AZ$3),\"\")","v":""},{"$f":"IF(AND($AA13<6,P13<>\"\",Q13<>\"\"),ort($P13,$Q13,$AY$4:$AZ$5),\"\")","v":""},{"$f":"IF(AND($AA13<6,P13<>\"\",Q13<>\"\"),ort($P13,$Q13,$AY$6:$AZ$7),\"\")","v":""},{"$f":"IF(AND($AA13=6,P13<>\"\",Q13<>\"\"),ort($P13,$Q13,$AY$8:$AZ$8),\"\")","v":""},{"$f":"IF(AND($AA13=7,P13<>\"\",Q13<>\"\"),ort($P13,$Q13,$AY$9:$AZ$9),\"\")","v":""},{"$f":"IF(AND($AA13<6,R13<>\"\",S13<>\"\"),ort($R13,$S13,$AY$3:$AZ$3),\"\")","v":""},{"$f":"IF(AND($AA13<6,R13<>\"\",S13<>\"\"),ort($R13,$S13,$AY$4:$AZ$5),\"\")","v":""},{"$f":"IF(AND($AA13<6,R13<>\"\",S13<>\"\"),ort($R13,$S13,$AY$6:$AZ$7),\"\")","v":""},{"$f":"IF(AND($AA13=6,R13<>\"\",S13<>\"\"),ort($R13,$S13,$AY$8:$AZ$8),\"\")","v":""},{"$f":"IF(AND($AA13=7,R13<>\"\",S13<>\"\"),ort($R13,$S13,$AY$9:$AZ$9),\"\")","v":""},{"$f":"IF(AND($AA13<6,T13<>\"\",U13<>\"\"),ort($T13,$U13,$AY$3:$AZ$3),\"\")","v":""},{"$f":"IF(AND($AA13<6,T13<>\"\",U13<>\"\"),ort($T13,$U13,$AY$4:$AZ$5),\"\")","v":""},{"$f":"IF(AND($AA13<6,T13<>\"\",U13<>\"\"),ort($T13,$U13,$AY$6:$AZ$7),\"\")","v":""},{"$f":"IF(AND($AA13=6,T13<>\"\",U13<>\"\"),ort($T13,$U13,$AY$8:$AZ$8),\"\")","v":""},{"$f":"IF(AND($AA13=7,T13<>\"\",U13<>\"\"),ort($T13,$U13,$AY$9:$AZ$9),\"\")","v":""},null,null,null,null,null,null,null,null,null,"00:00:00"]
[null,{"$f":"NETWORKDAYS($L$3,EOMONTH($L$3,0),Blad2!A2:A97)&\" dagen\"","v":"22 dagen"},null,null,null,null,null,null,null,"","",{"$f":"DATE($B$3,$B$4,12)","v":"2018-07-12"},{"$f":"DATE($B$3,$B$4,12)","v":"2018-07-12"},null,"00:00:00",null,null,null,null,null,null,"","","","","",{"$f":"IF(ISERROR(IF(NOT(ISERROR(MATCH($M14,Blad2!$A$2:$A$11,0))),7,WEEKDAY($M14,2))),\"\",IF(NOT(ISERROR(MATCH($M14,Blad2!$A$2:$A$11,0))),7,WEEKDAY($M14,2)))","v":4},{"$f":"IF(AND($AA14<6,N14<>\"\",O14<>\"\"),ort($N14,$O14,$AY$3:$AZ$3),\"\")","v":""},{"$f":"IF(AND($AA14<6,N14<>\"\",O14<>\"\"),ort($N14,$O14,$AY$4:$AZ$5),\"\")","v":""},{"$f":"IF(AND($AA14<6,N14<>\"\",O14<>\"\"),ort($N14,$O14,$AY$6:$AZ$7),\"\")","v":""},{"$f":"IF(AND($AA14=6,N14<>\"\",O14<>\"\"),ort($N14,$O14,$AY$8:$AZ$8),\"\")","v":""},{"$f":"IF(AND($AA14=7,N14<>\"\",O14<>\"\"),ort($N14,$O14,$AY$9:$AZ$9),\"\")","v":""},{"$f":"IF(AND($AA14<6,P14<>\"\",Q14<>\"\"),ort($P14,$Q14,$AY$3:$AZ$3),\"\")","v":""},{"$f":"IF(AND($AA14<6,P14<>\"\",Q14<>\"\"),ort($P14,$Q14,$AY$4:$AZ$5),\"\")","v":""},{"$f":"IF(AND($AA14<6,P14<>\"\",Q14<>\"\"),ort($P14,$Q14,$AY$6:$AZ$7),\"\")","v":""},{"$f":"IF(AND($AA14=6,P14<>\"\",Q14<>\"\"),ort($P14,$Q14,$AY$8:$AZ$8),\"\")","v":""},{"$f":"IF(AND($AA14=7,P14<>\"\",Q14<>\"\"),ort($P14,$Q14,$AY$9:$AZ$9),\"\")","v":""},{"$f":"IF(AND($AA14<6,R14<>\"\",S14<>\"\"),ort($R14,$S14,$AY$3:$AZ$3),\"\")","v":""},{"$f":"IF(AND($AA14<6,R14<>\"\",S14<>\"\"),ort($R14,$S14,$AY$4:$AZ$5),\"\")","v":""},{"$f":"IF(AND($AA14<6,R14<>\"\",S14<>\"\"),ort($R14,$S14,$AY$6:$AZ$7),\"\")","v":""},{"$f":"IF(AND($AA14=6,R14<>\"\",S14<>\"\"),ort($R14,$S14,$AY$8:$AZ$8),\"\")","v":""},{"$f":"IF(AND($AA14=7,R14<>\"\",S14<>\"\"),ort($R14,$S14,$AY$9:$AZ$9),\"\")","v":""},{"$f":"IF(AND($AA14<6,T14<>\"\",U14<>\"\"),ort($T14,$U14,$AY$3:$AZ$3),\"\")","v":""},{"$f":"IF(AND($AA14<6,T14<>\"\",U14<>\"\"),ort($T14,$U14,$AY$4:$AZ$5),\"\")","v":""},{"$f":"IF(AND($AA14<6,T14<>\"\",U14<>\"\"),ort($T14,$U14,$AY$6:$AZ$7),\"\")","v":""},{"$f":"IF(AND($AA14=6,T14<>\"\",U14<>\"\"),ort($T14,$U14,$AY$8:$AZ$8),\"\")","v":""},{"$f":"IF(AND($AA14=7,T14<>\"\",U14<>\"\"),ort($T14,$U14,$AY$9:$AZ$9),\"\")","v":""},null,null,null,null,null,null,null,null,null,"00:00:00"]
[null,null,null,null,null,null,null,null,null,"","",{"$f":"DATE($B$3,$B$4,13)","v":"2018-07-13"},{"$f":"DATE($B$3,$B$4,13)","v":"2018-07-13"},null,"00:00:00",null,null,null,null,null,null,"","","","","",{"$f":"IF(ISERROR(IF(NOT(ISERROR(MATCH($M15,Blad2!$A$2:$A$11,0))),7,WEEKDAY($M15,2))),\"\",IF(NOT(ISERROR(MATCH($M15,Blad2!$A$2:$A$11,0))),7,WEEKDAY($M15,2)))","v":5},{"$f":"IF(AND($AA15<6,N15<>\"\",O15<>\"\"),ort($N15,$O15,$AY$3:$AZ$3),\"\")","v":""},{"$f":"IF(AND($AA15<6,N15<>\"\",O15<>\"\"),ort($N15,$O15,$AY$4:$AZ$5),\"\")","v":""},{"$f":"IF(AND($AA15<6,N15<>\"\",O15<>\"\"),ort($N15,$O15,$AY$6:$AZ$7),\"\")","v":""},{"$f":"IF(AND($AA15=6,N15<>\"\",O15<>\"\"),ort($N15,$O15,$AY$8:$AZ$8),\"\")","v":""},{"$f":"IF(AND($AA15=7,N15<>\"\",O15<>\"\"),ort($N15,$O15,$AY$9:$AZ$9),\"\")","v":""},{"$f":"IF(AND($AA15<6,P15<>\"\",Q15<>\"\"),ort($P15,$Q15,$AY$3:$AZ$3),\"\")","v":""},{"$f":"IF(AND($AA15<6,P15<>\"\",Q15<>\"\"),ort($P15,$Q15,$AY$4:$AZ$5),\"\")","v":""},{"$f":"IF(AND($AA15<6,P15<>\"\",Q15<>\"\"),ort($P15,$Q15,$AY$6:$AZ$7),\"\")","v":""},{"$f":"IF(AND($AA15=6,P15<>\"\",Q15<>\"\"),ort($P15,$Q15,$AY$8:$AZ$8),\"\")","v":""},{"$f":"IF(AND($AA15=7,P15<>\"\",Q15<>\"\"),ort($P15,$Q15,$AY$9:$AZ$9),\"\")","v":""},{"$f":"IF(AND($AA15<6,R15<>\"\",S15<>\"\"),ort($R15,$S15,$AY$3:$AZ$3),\"\")","v":""},{"$f":"IF(AND($AA15<6,R15<>\"\",S15<>\"\"),ort($R15,$S15,$AY$4:$AZ$5),\"\")","v":""},{"$f":"IF(AND($AA15<6,R15<>\"\",S15<>\"\"),ort($R15,$S15,$AY$6:$AZ$7),\"\")","v":""},{"$f":"IF(AND($AA15=6,R15<>\"\",S15<>\"\"),ort($R15,$S15,$AY$8:$AZ$8),\"\")","v":""},{"$f":"IF(AND($AA15=7,R15<>\"\",S15<>\"\"),ort($R15,$S15,$AY$9:$AZ$9),\"\")","v":""},{"$f":"IF(AND($AA15<6,T15<>\"\",U15<>\"\"),ort($T15,$U15,$AY$3:$AZ$3),\"\")","v":""},{"$f":"IF(AND($AA15<6,T15<>\"\",U15<>\"\"),ort($T15,$U15,$AY$4:$AZ$5),\"\")","v":""},{"$f":"IF(AND($AA15<6,T15<>\"\",U15<>\"\"),ort($T15,$U15,$AY$6:$AZ$7),\"\")","v":""},{"$f":"IF(AND($AA15=6,T15<>\"\",U15<>\"\"),ort($T15,$U15,$AY$8:$AZ$8),\"\")","v":""},{"$f":"IF(AND($AA15=7,T15<>\"\",U15<>\"\"),ort($T15,$U15,$AY$9:$AZ$9),\"\")","v":""},null,null,null,null,null,null,null,null,null,"00:00:00"]
[null,"Contract Uren",null,null,null,null,null,null,null,"","",{"$f":"DATE($B$3,$B$4,14)","v":"2018-07-14"},{"$f":"DATE($B$3,$B$4,14)","v":"2018-07-14"},null,"00:00:00",null,null,null,null,null,null,"","","","","",{"$f":"IF(ISERROR(IF(NOT(ISERROR(MATCH($M16,Blad2!$A$2:$A$11,0))),7,WEEKDAY($M16,2))),\"\",IF(NOT(ISERROR(MATCH($M16,Blad2!$A$2:$A$11,0))),7,WEEKDAY($M16,2)))","v":6},{"$f":"IF(AND($AA16<6,N16<>\"\",O16<>\"\"),ort($N16,$O16,$AY$3:$AZ$3),\"\")","v":""},{"$f":"IF(AND($AA16<6,N16<>\"\",O16<>\"\"),ort($N16,$O16,$AY$4:$AZ$5),\"\")","v":""},{"$f":"IF(AND($AA16<6,N16<>\"\",O16<>\"\"),ort($N16,$O16,$AY$6:$AZ$7),\"\")","v":""},{"$f":"IF(AND($AA16=6,N16<>\"\",O16<>\"\"),ort($N16,$O16,$AY$8:$AZ$8),\"\")","v":""},{"$f":"IF(AND($AA16=7,N16<>\"\",O16<>\"\"),ort($N16,$O16,$AY$9:$AZ$9),\"\")","v":""},{"$f":"IF(AND($AA16<6,P16<>\"\",Q16<>\"\"),ort($P16,$Q16,$AY$3:$AZ$3),\"\")","v":""},{"$f":"IF(AND($AA16<6,P16<>\"\",Q16<>\"\"),ort($P16,$Q16,$AY$4:$AZ$5),\"\")","v":""},{"$f":"IF(AND($AA16<6,P16<>\"\",Q16<>\"\"),ort($P16,$Q16,$AY$6:$AZ$7),\"\")","v":""},{"$f":"IF(AND($AA16=6,P16<>\"\",Q16<>\"\"),ort($P16,$Q16,$AY$8:$AZ$8),\"\")","v":""},{"$f":"IF(AND($AA16=7,P16<>\"\",Q16<>\"\"),ort($P16,$Q16,$AY$9:$AZ$9),\"\")","v":""},{"$f":"IF(AND($AA16<6,R16<>\"\",S16<>\"\"),ort($R16,$S16,$AY$3:$AZ$3),\"\")","v":""},{"$f":"IF(AND($AA16<6,R16<>\"\",S16<>\"\"),ort($R16,$S16,$AY$4:$AZ$5),\"\")","v":""},{"$f":"IF(AND($AA16<6,R16<>\"\",S16<>\"\"),ort($R16,$S16,$AY$6:$AZ$7),\"\")","v":""},{"$f":"IF(AND($AA16=6,R16<>\"\",S16<>\"\"),ort($R16,$S16,$AY$8:$AZ$8),\"\")","v":""},{"$f":"IF(AND($AA16=7,R16<>\"\",S16<>\"\"),ort($R16,$S16,$AY$9:$AZ$9),\"\")","v":""},{"$f":"IF(AND($AA16<6,T16<>\"\",U16<>\"\"),ort($T16,$U16,$AY$3:$AZ$3),\"\")","v":""},{"$f":"IF(AND($AA16<6,T16<>\"\",U16<>\"\"),ort($T16,$U16,$AY$4:$AZ$5),\"\")","v":""},{"$f":"IF(AND($AA16<6,T16<>\"\",U16<>\"\"),ort($T16,$U16,$AY$6:$AZ$7),\"\")","v":""},{"$f":"IF(AND($AA16=6,T16<>\"\",U16<>\"\"),ort($T16,$U16,$AY$8:$AZ$8),\"\")","v":""},{"$f":"IF(AND($AA16=7,T16<>\"\",U16<>\"\"),ort($T16,$U16,$AY$9:$AZ$9),\"\")","v":""},null,null,null,null,null,null,null,null,null,"00:00:00"]
[null,3.75,null,null,null,null,null,null,null,"","",{"$f":"DATE($B$3,$B$4,15)","v":"2018-07-15"},{"$f":"DATE($B$3,$B$4,15)","v":"2018-07-15"},null,"00:00:00",null,null,null,null,null,null,"","","","","",{"$f":"IF(ISERROR(IF(NOT(ISERROR(MATCH($M17,Blad2!$A$2:$A$11,0))),7,WEEKDAY($M17,2))),\"\",IF(NOT(ISERROR(MATCH($M17,Blad2!$A$2:$A$11,0))),7,WEEKDAY($M17,2)))","v":7},{"$f":"IF(AND($AA17<6,N17<>\"\",O17<>\"\"),ort($N17,$O17,$AY$3:$AZ$3),\"\")","v":""},{"$f":"IF(AND($AA17<6,N17<>\"\",O17<>\"\"),ort($N17,$O17,$AY$4:$AZ$5),\"\")","v":""},{"$f":"IF(AND($AA17<6,N17<>\"\",O17<>\"\"),ort($N17,$O17,$AY$6:$AZ$7),\"\")","v":""},{"$f":"IF(AND($AA17=6,N17<>\"\",O17<>\"\"),ort($N17,$O17,$AY$8:$AZ$8),\"\")","v":""},{"$f":"IF(AND($AA17=7,N17<>\"\",O17<>\"\"),ort($N17,$O17,$AY$9:$AZ$9),\"\")","v":""},{"$f":"IF(AND($AA17<6,P17<>\"\",Q17<>\"\"),ort($P17,$Q17,$AY$3:$AZ$3),\"\")","v":""},{"$f":"IF(AND($AA17<6,P17<>\"\",Q17<>\"\"),ort($P17,$Q17,$AY$4:$AZ$5),\"\")","v":""},{"$f":"IF(AND($AA17<6,P17<>\"\",Q17<>\"\"),ort($P17,$Q17,$AY$6:$AZ$7),\"\")","v":""},{"$f":"IF(AND($AA17=6,P17<>\"\",Q17<>\"\"),ort($P17,$Q17,$AY$8:$AZ$8),\"\")","v":""},{"$f":"IF(AND($AA17=7,P17<>\"\",Q17<>\"\"),ort($P17,$Q17,$AY$9:$AZ$9),\"\")","v":""},{"$f":"IF(AND($AA17<6,R17<>\"\",S17<>\"\"),ort($R17,$S17,$AY$3:$AZ$3),\"\")","v":""},{"$f":"IF(AND($AA17<6,R17<>\"\",S17<>\"\"),ort($R17,$S17,$AY$4:$AZ$5),\"\")","v":""},{"$f":"IF(AND($AA17<6,R17<>\"\",S17<>\"\"),ort($R17,$S17,$AY$6:$AZ$7),\"\")","v":""},{"$f":"IF(AND($AA17=6,R17<>\"\",S17<>\"\"),ort($R17,$S17,$AY$8:$AZ$8),\"\")","v":""},{"$f":"IF(AND($AA17=7,R17<>\"\",S17<>\"\"),ort($R17,$S17,$AY$9:$AZ$9),\"\")","v":""},{"$f":"IF(AND($AA17<6,T17<>\"\",U17<>\"\"),ort($T17,$U17,$AY$3:$AZ$3),\"\")","v":""},{"$f":"IF(AND($AA17<6,T17<>\"\",U17<>\"\"),ort($T17,$U17,$AY$4:$AZ$5),\"\")","v":""},{"$f":"IF(AND($AA17<6,T17<>\"\",U17<>\"\"),ort($T17,$U17,$AY$6:$AZ$7),\"\")","v":""},{"$f":"IF(AND($AA17=6,T17<>\"\",U17<>\"\"),ort($T17,$U17,$AY$8:$AZ$8),\"\")","v":""},{"$f":"IF(AND($AA17=7,T17<>\"\",U17<>\"\"),ort($T17,$U17,$AY$9:$AZ$9),\"\")","v":""},null,null,null,null,null,null,null,null,null,"00:00:00"]
[null,null,null,null,null,null,null,null,null,"",29,{"$f":"DATE($B$3,$B$4,16)","v":"2018-07-16"},{"$f":"DATE($B$3,$B$4,16)","v":"2018-07-16"},null,"00:00:00",null,null,null,null,null,null,"","","","","",{"$f":"IF(ISERROR(IF(NOT(ISERROR(MATCH($M18,Blad2!$A$2:$A$11,0))),7,WEEKDAY($M18,2))),\"\",IF(NOT(ISERROR(MATCH($M18,Blad2!$A$2:$A$11,0))),7,WEEKDAY($M18,2)))","v":1},{"$f":"IF(AND($AA18<6,N18<>\"\",O18<>\"\"),ort($N18,$O18,$AY$3:$AZ$3),\"\")","v":""},{"$f":"IF(AND($AA18<6,N18<>\"\",O18<>\"\"),ort($N18,$O18,$AY$4:$AZ$5),\"\")","v":""},{"$f":"IF(AND($AA18<6,N18<>\"\",O18<>\"\"),ort($N18,$O18,$AY$6:$AZ$7),\"\")","v":""},{"$f":"IF(AND($AA18=6,N18<>\"\",O18<>\"\"),ort($N18,$O18,$AY$8:$AZ$8),\"\")","v":""},{"$f":"IF(AND($AA18=7,N18<>\"\",O18<>\"\"),ort($N18,$O18,$AY$9:$AZ$9),\"\")","v":""},{"$f":"IF(AND($AA18<6,P18<>\"\",Q18<>\"\"),ort($P18,$Q18,$AY$3:$AZ$3),\"\")","v":""},{"$f":"IF(AND($AA18<6,P18<>\"\",Q18<>\"\"),ort($P18,$Q18,$AY$4:$AZ$5),\"\")","v":""},{"$f":"IF(AND($AA18<6,P18<>\"\",Q18<>\"\"),ort($P18,$Q18,$AY$6:$AZ$7),\"\")","v":""},{"$f":"IF(AND($AA18=6,P18<>\"\",Q18<>\"\"),ort($P18,$Q18,$AY$8:$AZ$8),\"\")","v":""},{"$f":"IF(AND($AA18=7,P18<>\"\",Q18<>\"\"),ort($P18,$Q18,$AY$9:$AZ$9),\"\")","v":""},{"$f":"IF(AND($AA18<6,R18<>\"\",S18<>\"\"),ort($R18,$S18,$AY$3:$AZ$3),\"\")","v":""},{"$f":"IF(AND($AA18<6,R18<>\"\",S18<>\"\"),ort($R18,$S18,$AY$4:$AZ$5),\"\")","v":""},{"$f":"IF(AND($AA18<6,R18<>\"\",S18<>\"\"),ort($R18,$S18,$AY$6:$AZ$7),\"\")","v":""},{"$f":"IF(AND($AA18=6,R18<>\"\",S18<>\"\"),ort($R18,$S18,$AY$8:$AZ$8),\"\")","v":""},{"$f":"IF(AND($AA18=7,R18<>\"\",S18<>\"\"),ort($R18,$S18,$AY$9:$AZ$9),\"\")","v":""},{"$f":"IF(AND($AA18<6,T18<>\"\",U18<>\"\"),ort($T18,$U18,$AY$3:$AZ$3),\"\")","v":""},{"$f":"IF(AND($AA18<6,T18<>\"\",U18<>\"\"),ort($T18,$U18,$AY$4:$AZ$5),\"\")","v":""},{"$f":"IF(AND($AA18<6,T18<>\"\",U18<>\"\"),ort($T18,$U18,$AY$6:$AZ$7),\"\")","v":""},{"$f":"IF(AND($AA18=6,T18<>\"\",U18<>\"\"),ort($T18,$U18,$AY$8:$AZ$8),\"\")","v":""},{"$f":"IF(AND($AA18=7,T18<>\"\",U18<>\"\"),ort($T18,$U18,$AY$9:$AZ$9),\"\")","v":""},null,null,null,null,null,null,null,null,null,"00:00:00"]
[null,"Gewerkte uren deze maand",null,null,null,null,null,null,null,"","",{"$f":"DATE($B$3,$B$4,17)","v":"2018-07-17"},{"$f":"DATE($B$3,$B$4,17)","v":"2018-07-17"},null,"00:00:00",null,null,null,null,null,null,"","","","","",{"$f":"IF(ISERROR(IF(NOT(ISERROR(MATCH($M19,Blad2!$A$2:$A$11,0))),7,WEEKDAY($M19,2))),\"\",IF(NOT(ISERROR(MATCH($M19,Blad2!$A$2:$A$11,0))),7,WEEKDAY($M19,2)))","v":2},{"$f":"IF(AND($AA19<6,N19<>\"\",O19<>\"\"),ort($N19,$O19,$AY$3:$AZ$3),\"\")","v":""},{"$f":"IF(AND($AA19<6,N19<>\"\",O19<>\"\"),ort($N19,$O19,$AY$4:$AZ$5),\"\")","v":""},{"$f":"IF(AND($AA19<6,N19<>\"\",O19<>\"\"),ort($N19,$O19,$AY$6:$AZ$7),\"\")","v":""},{"$f":"IF(AND($AA19=6,N19<>\"\",O19<>\"\"),ort($N19,$O19,$AY$8:$AZ$8),\"\")","v":""},{"$f":"IF(AND($AA19=7,N19<>\"\",O19<>\"\"),ort($N19,$O19,$AY$9:$AZ$9),\"\")","v":""},{"$f":"IF(AND($AA19<6,P19<>\"\",Q19<>\"\"),ort($P19,$Q19,$AY$3:$AZ$3),\"\")","v":""},{"$f":"IF(AND($AA19<6,P19<>\"\",Q19<>\"\"),ort($P19,$Q19,$AY$4:$AZ$5),\"\")","v":""},{"$f":"IF(AND($AA19<6,P19<>\"\",Q19<>\"\"),ort($P19,$Q19,$AY$6:$AZ$7),\"\")","v":""},{"$f":"IF(AND($AA19=6,P19<>\"\",Q19<>\"\"),ort($P19,$Q19,$AY$8:$AZ$8),\"\")","v":""},{"$f":"IF(AND($AA19=7,P19<>\"\",Q19<>\"\"),ort($P19,$Q19,$AY$9:$AZ$9),\"\")","v":""},{"$f":"IF(AND($AA19<6,R19<>\"\",S19<>\"\"),ort($R19,$S19,$AY$3:$AZ$3),\"\")","v":""},{"$f":"IF(AND($AA19<6,R19<>\"\",S19<>\"\"),ort($R19,$S19,$AY$4:$AZ$5),\"\")","v":""},{"$f":"IF(AND($AA19<6,R19<>\"\",S19<>\"\"),ort($R19,$S19,$AY$6:$AZ$7),\"\")","v":""},{"$f":"IF(AND($AA19=6,R19<>\"\",S19<>\"\"),ort($R19,$S19,$AY$8:$AZ$8),\"\")","v":""},{"$f":"IF(AND($AA19=7,R19<>\"\",S19<>\"\"),ort($R19,$S19,$AY$9:$AZ$9),\"\")","v":""},{"$f":"IF(AND($AA19<6,T19<>\"\",U19<>\"\"),ort($T19,$U19,$AY$3:$AZ$3),\"\")","v":""},{"$f":"IF(AND($AA19<6,T19<>\"\",U19<>\"\"),ort($T19,$U19,$AY$4:$AZ$5),\"\")","v":""},{"$f":"IF(AND($AA19<6,T19<>\"\",U19<>\"\"),ort($T19,$U19,$AY$6:$AZ$7),\"\")","v":""},{"$f":"IF(AND($AA19=6,T19<>\"\",U19<>\"\"),ort($T19,$U19,$AY$8:$AZ$8),\"\")","v":""},{"$f":"IF(AND($AA19=7,T19<>\"\",U19<>\"\"),ort($T19,$U19,$AY$9:$AZ$9),\"\")","v":""},null,null,null,null,null,null,null,null,null,"00:00:00"]
[null,{"$f":"SUM($V$3:$V$33)","v":0},null,null,null,null,null,null,null,"","",{"$f":"DATE($B$3,$B$4,18)","v":"2018-07-18"},{"$f":"DATE($B$3,$B$4,18)","v":"2018-07-18"},null,"00:00:00",null,null,null,null,null,null,"","","","","",{"$f":"IF(ISERROR(IF(NOT(ISERROR(MATCH($M20,Blad2!$A$2:$A$11,0))),7,WEEKDAY($M20,2))),\"\",IF(NOT(ISERROR(MATCH($M20,Blad2!$A$2:$A$11,0))),7,WEEKDAY($M20,2)))","v":3},{"$f":"IF(AND($AA20<6,N20<>\"\",O20<>\"\"),ort($N20,$O20,$AY$3:$AZ$3),\"\")","v":""},{"$f":"IF(AND($AA20<6,N20<>\"\",O20<>\"\"),ort($N20,$O20,$AY$4:$AZ$5),\"\")","v":""},{"$f":"IF(AND($AA20<6,N20<>\"\",O20<>\"\"),ort($N20,$O20,$AY$6:$AZ$7),\"\")","v":""},{"$f":"IF(AND($AA20=6,N20<>\"\",O20<>\"\"),ort($N20,$O20,$AY$8:$AZ$8),\"\")","v":""},{"$f":"IF(AND($AA20=7,N20<>\"\",O20<>\"\"),ort($N20,$O20,$AY$9:$AZ$9),\"\")","v":""},{"$f":"IF(AND($AA20<6,P20<>\"\",Q20<>\"\"),ort($P20,$Q20,$AY$3:$AZ$3),\"\")","v":""},{"$f":"IF(AND($AA20<6,P20<>\"\",Q20<>\"\"),ort($P20,$Q20,$AY$4:$AZ$5),\"\")","v":""},{"$f":"IF(AND($AA20<6,P20<>\"\",Q20<>\"\"),ort($P20,$Q20,$AY$6:$AZ$7),\"\")","v":""},{"$f":"IF(AND($AA20=6,P20<>\"\",Q20<>\"\"),ort($P20,$Q20,$AY$8:$AZ$8),\"\")","v":""},{"$f":"IF(AND($AA20=7,P20<>\"\",Q20<>\"\"),ort($P20,$Q20,$AY$9:$AZ$9),\"\")","v":""},{"$f":"IF(AND($AA20<6,R20<>\"\",S20<>\"\"),ort($R20,$S20,$AY$3:$AZ$3),\"\")","v":""},{"$f":"IF(AND($AA20<6,R20<>\"\",S20<>\"\"),ort($R20,$S20,$AY$4:$AZ$5),\"\")","v":""},{"$f":"IF(AND($AA20<6,R20<>\"\",S20<>\"\"),ort($R20,$S20,$AY$6:$AZ$7),\"\")","v":""},{"$f":"IF(AND($AA20=6,R20<>\"\",S20<>\"\"),ort($R20,$S20,$AY$8:$AZ$8),\"\")","v":""},{"$f":"IF(AND($AA20=7,R20<>\"\",S20<>\"\"),ort($R20,$S20,$AY$9:$AZ$9),\"\")","v":""},{"$f":"IF(AND($AA20<6,T20<>\"\",U20<>\"\"),ort($T20,$U20,$AY$3:$AZ$3),\"\")","v":""},{"$f":"IF(AND($AA20<6,T20<>\"\",U20<>\"\"),ort($T20,$U20,$AY$4:$AZ$5),\"\")","v":""},{"$f":"IF(AND($AA20<6,T20<>\"\",U20<>\"\"),ort($T20,$U20,$AY$6:$AZ$7),\"\")","v":""},{"$f":"IF(AND($AA20=6,T20<>\"\",U20<>\"\"),ort($T20,$U20,$AY$8:$AZ$8),\"\")","v":""},{"$f":"IF(AND($AA20=7,T20<>\"\",U20<>\"\"),ort($T20,$U20,$AY$9:$AZ$9),\"\")","v":""},null,{"$f":"COUNTA(Blad2!B12:B100)-COUNTIF(Blad2!B12:B100,\"Verlof\")","v":0},"  Aantal opgenomen ATV-dagen",null,null,null,null,null,null,"00:00:00"]
[null,null,null,null,null,null,null,null,null,"","",{"$f":"DATE($B$3,$B$4,19)","v":"2018-07-19"},{"$f":"DATE($B$3,$B$4,19)","v":"2018-07-19"},null,"00:00:00",null,null,null,null,null,null,"","","","","",{"$f":"IF(ISERROR(IF(NOT(ISERROR(MATCH($M21,Blad2!$A$2:$A$11,0))),7,WEEKDAY($M21,2))),\"\",IF(NOT(ISERROR(MATCH($M21,Blad2!$A$2:$A$11,0))),7,WEEKDAY($M21,2)))","v":4},{"$f":"IF(AND($AA21<6,N21<>\"\",O21<>\"\"),ort($N21,$O21,$AY$3:$AZ$3),\"\")","v":""},{"$f":"IF(AND($AA21<6,N21<>\"\",O21<>\"\"),ort($N21,$O21,$AY$4:$AZ$5),\"\")","v":""},{"$f":"IF(AND($AA21<6,N21<>\"\",O21<>\"\"),ort($N21,$O21,$AY$6:$AZ$7),\"\")","v":""},{"$f":"IF(AND($AA21=6,N21<>\"\",O21<>\"\"),ort($N21,$O21,$AY$8:$AZ$8),\"\")","v":""},{"$f":"IF(AND($AA21=7,N21<>\"\",O21<>\"\"),ort($N21,$O21,$AY$9:$AZ$9),\"\")","v":""},{"$f":"IF(AND($AA21<6,P21<>\"\",Q21<>\"\"),ort($P21,$Q21,$AY$3:$AZ$3),\"\")","v":""},{"$f":"IF(AND($AA21<6,P21<>\"\",Q21<>\"\"),ort($P21,$Q21,$AY$4:$AZ$5),\"\")","v":""},{"$f":"IF(AND($AA21<6,P21<>\"\",Q21<>\"\"),ort($P21,$Q21,$AY$6:$AZ$7),\"\")","v":""},{"$f":"IF(AND($AA21=6,P21<>\"\",Q21<>\"\"),ort($P21,$Q21,$AY$8:$AZ$8),\"\")","v":""},{"$f":"IF(AND($AA21=7,P21<>\"\",Q21<>\"\"),ort($P21,$Q21,$AY$9:$AZ$9),\"\")","v":""},{"$f":"IF(AND($AA21<6,R21<>\"\",S21<>\"\"),ort($R21,$S21,$AY$3:$AZ$3),\"\")","v":""},{"$f":"IF(AND($AA21<6,R21<>\"\",S21<>\"\"),ort($R21,$S21,$AY$4:$AZ$5),\"\")","v":""},{"$f":"IF(AND($AA21<6,R21<>\"\",S21<>\"\"),ort($R21,$S21,$AY$6:$AZ$7),\"\")","v":""},{"$f":"IF(AND($AA21=6,R21<>\"\",S21<>\"\"),ort($R21,$S21,$AY$8:$AZ$8),\"\")","v":""},{"$f":"IF(AND($AA21=7,R21<>\"\",S21<>\"\"),ort($R21,$S21,$AY$9:$AZ$9),\"\")","v":""},{"$f":"IF(AND($AA21<6,T21<>\"\",U21<>\"\"),ort($T21,$U21,$AY$3:$AZ$3),\"\")","v":""},{"$f":"IF(AND($AA21<6,T21<>\"\",U21<>\"\"),ort($T21,$U21,$AY$4:$AZ$5),\"\")","v":""},{"$f":"IF(AND($AA21<6,T21<>\"\",U21<>\"\"),ort($T21,$U21,$AY$6:$AZ$7),\"\")","v":""},{"$f":"IF(AND($AA21=6,T21<>\"\",U21<>\"\"),ort($T21,$U21,$AY$8:$AZ$8),\"\")","v":""},{"$f":"IF(AND($AA21=7,T21<>\"\",U21<>\"\"),ort($T21,$U21,$AY$9:$AZ$9),\"\")","v":""},null,{"$f":"COUNTA(Blad2!B12:B100)-COUNTIF(Blad2!B12:B100,\"ATV\")","v":2},"  Aantal opgenomen verlofdagen",null,null,null,null,null,null,"00:00:00"]
[null,null,null,null,null,null,null,null,null,"","",{"$f":"DATE($B$3,$B$4,20)","v":"2018-07-20"},{"$f":"DATE($B$3,$B$4,20)","v":"2018-07-20"},null,"00:00:00",null,null,null,null,null,null,"","","","","",{"$f":"IF(ISERROR(IF(NOT(ISERROR(MATCH($M22,Blad2!$A$2:$A$11,0))),7,WEEKDAY($M22,2))),\"\",IF(NOT(ISERROR(MATCH($M22,Blad2!$A$2:$A$11,0))),7,WEEKDAY($M22,2)))","v":5},{"$f":"IF(AND($AA22<6,N22<>\"\",O22<>\"\"),ort($N22,$O22,$AY$3:$AZ$3),\"\")","v":""},{"$f":"IF(AND($AA22<6,N22<>\"\",O22<>\"\"),ort($N22,$O22,$AY$4:$AZ$5),\"\")","v":""},{"$f":"IF(AND($AA22<6,N22<>\"\",O22<>\"\"),ort($N22,$O22,$AY$6:$AZ$7),\"\")","v":""},{"$f":"IF(AND($AA22=6,N22<>\"\",O22<>\"\"),ort($N22,$O22,$AY$8:$AZ$8),\"\")","v":""},{"$f":"IF(AND($AA22=7,N22<>\"\",O22<>\"\"),ort($N22,$O22,$AY$9:$AZ$9),\"\")","v":""},{"$f":"IF(AND($AA22<6,P22<>\"\",Q22<>\"\"),ort($P22,$Q22,$AY$3:$AZ$3),\"\")","v":""},{"$f":"IF(AND($AA22<6,P22<>\"\",Q22<>\"\"),ort($P22,$Q22,$AY$4:$AZ$5),\"\")","v":""},{"$f":"IF(AND($AA22<6,P22<>\"\",Q22<>\"\"),ort($P22,$Q22,$AY$6:$AZ$7),\"\")","v":""},{"$f":"IF(AND($AA22=6,P22<>\"\",Q22<>\"\"),ort($P22,$Q22,$AY$8:$AZ$8),\"\")","v":""},{"$f":"IF(AND($AA22=7,P22<>\"\",Q22<>\"\"),ort($P22,$Q22,$AY$9:$AZ$9),\"\")","v":""},{"$f":"IF(AND($AA22<6,R22<>\"\",S22<>\"\"),ort($R22,$S22,$AY$3:$AZ$3),\"\")","v":""},{"$f":"IF(AND($AA22<6,R22<>\"\",S22<>\"\"),ort($R22,$S22,$AY$4:$AZ$5),\"\")","v":""},{"$f":"IF(AND($AA22<6,R22<>\"\",S22<>\"\"),ort($R22,$S22,$AY$6:$AZ$7),\"\")","v":""},{"$f":"IF(AND($AA22=6,R22<>\"\",S22<>\"\"),ort($R22,$S22,$AY$8:$AZ$8),\"\")","v":""},{"$f":"IF(AND($AA22=7,R22<>\"\",S22<>\"\"),ort($R22,$S22,$AY$9:$AZ$9),\"\")","v":""},{"$f":"IF(AND($AA22<6,T22<>\"\",U22<>\"\"),ort($T22,$U22,$AY$3:$AZ$3),\"\")","v":""},{"$f":"IF(AND($AA22<6,T22<>\"\",U22<>\"\"),ort($T22,$U22,$AY$4:$AZ$5),\"\")","v":""},{"$f":"IF(AND($AA22<6,T22<>\"\",U22<>\"\"),ort($T22,$U22,$AY$6:$AZ$7),\"\")","v":""},{"$f":"IF(AND($AA22=6,T22<>\"\",U22<>\"\"),ort($T22,$U22,$AY$8:$AZ$8),\"\")","v":""},{"$f":"IF(AND($AA22=7,T22<>\"\",U22<>\"\"),ort($T22,$U22,$AY$9:$AZ$9),\"\")","v":""},null,null,null,null,null,null,null,null,null,"00:00:00"]
[null,null,null,null,null,null,null,null,null,"","",{"$f":"DATE($B$3,$B$4,21)","v":"2018-07-21"},{"$f":"DATE($B$3,$B$4,21)","v":"2018-07-21"},null,"00:00:00",null,null,null,null,null,null,"","","","","",{"$f":"IF(ISERROR(IF(NOT(ISERROR(MATCH($M23,Blad2!$A$2:$A$11,0))),7,WEEKDAY($M23,2))),\"\",IF(NOT(ISERROR(MATCH($M23,Blad2!$A$2:$A$11,0))),7,WEEKDAY($M23,2)))","v":6},{"$f":"IF(AND($AA23<6,N23<>\"\",O23<>\"\"),ort($N23,$O23,$AY$3:$AZ$3),\"\")","v":""},{"$f":"IF(AND($AA23<6,N23<>\"\",O23<>\"\"),ort($N23,$O23,$AY$4:$AZ$5),\"\")","v":""},{"$f":"IF(AND($AA23<6,N23<>\"\",O23<>\"\"),ort($N23,$O23,$AY$6:$AZ$7),\"\")","v":""},{"$f":"IF(AND($AA23=6,N23<>\"\",O23<>\"\"),ort($N23,$O23,$AY$8:$AZ$8),\"\")","v":""},{"$f":"IF(AND($AA23=7,N23<>\"\",O23<>\"\"),ort($N23,$O23,$AY$9:$AZ$9),\"\")","v":""},{"$f":"IF(AND($AA23<6,P23<>\"\",Q23<>\"\"),ort($P23,$Q23,$AY$3:$AZ$3),\"\")","v":""},{"$f":"IF(AND($AA23<6,P23<>\"\",Q23<>\"\"),ort($P23,$Q23,$AY$4:$AZ$5),\"\")","v":""},{"$f":"IF(AND($AA23<6,P23<>\"\",Q23<>\"\"),ort($P23,$Q23,$AY$6:$AZ$7),\"\")","v":""},{"$f":"IF(AND($AA23=6,P23<>\"\",Q23<>\"\"),ort($P23,$Q23,$AY$8:$AZ$8),\"\")","v":""},{"$f":"IF(AND($AA23=7,P23<>\"\",Q23<>\"\"),ort($P23,$Q23,$AY$9:$AZ$9),\"\")","v":""},{"$f":"IF(AND($AA23<6,R23<>\"\",S23<>\"\"),ort($R23,$S23,$AY$3:$AZ$3),\"\")","v":""},{"$f":"IF(AND($AA23<6,R23<>\"\",S23<>\"\"),ort($R23,$S23,$AY$4:$AZ$5),\"\")","v":""},{"$f":"IF(AND($AA23<6,R23<>\"\",S23<>\"\"),ort($R23,$S23,$AY$6:$AZ$7),\"\")","v":""},{"$f":"IF(AND($AA23=6,R23<>\"\",S23<>\"\"),ort($R23,$S23,$AY$8:$AZ$8),\"\")","v":""},{"$f":"IF(AND($AA23=7,R23<>\"\",S23<>\"\"),ort($R23,$S23,$AY$9:$AZ$9),\"\")","v":""},{"$f":"IF(AND($AA23<6,T23<>\"\",U23<>\"\"),ort($T23,$U23,$AY$3:$AZ$3),\"\")","v":""},{"$f":"IF(AND($AA23<6,T23<>\"\",U23<>\"\"),ort($T23,$U23,$AY$4:$AZ$5),\"\")","v":""},{"$f":"IF(AND($AA23<6,T23<>\"\",U23<>\"\"),ort($T23,$U23,$AY$6:$AZ$7),\"\")","v":""},{"$f":"IF(AND($AA23=6,T23<>\"\",U23<>\"\"),ort($T23,$U23,$AY$8:$AZ$8),\"\")","v":""},{"$f":"IF(AND($AA23=7,T23<>\"\",U23<>\"\"),ort($T23,$U23,$AY$9:$AZ$9),\"\")","v":""},null,null,null,null,null,null,null,null,null,"00:00:00"]
[null,null,null,null,null,null,null,null,null,"","",{"$f":"DATE($B$3,$B$4,22)","v":"2018-07-22"},{"$f":"DATE($B$3,$B$4,22)","v":"2018-07-22"},null,"00:00:00",null,null,null,null,null,null,"","","","","",{"$f":"IF(ISERROR(IF(NOT(ISERROR(MATCH($M24,Blad2!$A$2:$A$11,0))),7,WEEKDAY($M24,2))),\"\",IF(NOT(ISERROR(MATCH($M24,Blad2!$A$2:$A$11,0))),7,WEEKDAY($M24,2)))","v":7},{"$f":"IF(AND($AA24<6,N24<>\"\",O24<>\"\"),ort($N24,$O24,$AY$3:$AZ$3),\"\")","v":""},{"$f":"IF(AND($AA24<6,N24<>\"\",O24<>\"\"),ort($N24,$O24,$AY$4:$AZ$5),\"\")","v":""},{"$f":"IF(AND($AA24<6,N24<>\"\",O24<>\"\"),ort($N24,$O24,$AY$6:$AZ$7),\"\")","v":""},{"$f":"IF(AND($AA24=6,N24<>\"\",O24<>\"\"),ort($N24,$O24,$AY$8:$AZ$8),\"\")","v":""},{"$f":"IF(AND($AA24=7,N24<>\"\",O24<>\"\"),ort($N24,$O24,$AY$9:$AZ$9),\"\")","v":""},{"$f":"IF(AND($AA24<6,P24<>\"\",Q24<>\"\"),ort($P24,$Q24,$AY$3:$AZ$3),\"\")","v":""},{"$f":"IF(AND($AA24<6,P24<>\"\",Q24<>\"\"),ort($P24,$Q24,$AY$4:$AZ$5),\"\")","v":""},{"$f":"IF(AND($AA24<6,P24<>\"\",Q24<>\"\"),ort($P24,$Q24,$AY$6:$AZ$7),\"\")","v":""},{"$f":"IF(AND($AA24=6,P24<>\"\",Q24<>\"\"),ort($P24,$Q24,$AY$8:$AZ$8),\"\")","v":""},{"$f":"IF(AND($AA24=7,P24<>\"\",Q24<>\"\"),ort($P24,$Q24,$AY$9:$AZ$9),\"\")","v":""},{"$f":"IF(AND($AA24<6,R24<>\"\",S24<>\"\"),ort($R24,$S24,$AY$3:$AZ$3),\"\")","v":""},{"$f":"IF(AND($AA24<6,R24<>\"\",S24<>\"\"),ort($R24,$S24,$AY$4:$AZ$5),\"\")","v":""},{"$f":"IF(AND($AA24<6,R24<>\"\",S24<>\"\"),ort($R24,$S24,$AY$6:$AZ$7),\"\")","v":""},{"$f":"IF(AND($AA24=6,R24<>\"\",S24<>\"\"),ort($R24,$S24,$AY$8:$AZ$8),\"\")","v":""},{"$f":"IF(AND($AA24=7,R24<>\"\",S24<>\"\"),ort($R24,$S24,$AY$9:$AZ$9),\"\")","v":""},{"$f":"IF(AND($AA24<6,T24<>\"\",U24<>\"\"),ort($T24,$U24,$AY$3:$AZ$3),\"\")","v":""},{"$f":"IF(AND($AA24<6,T24<>\"\",U24<>\"\"),ort($T24,$U24,$AY$4:$AZ$5),\"\")","v":""},{"$f":"IF(AND($AA24<6,T24<>\"\",U24<>\"\"),ort($T24,$U24,$AY$6:$AZ$7),\"\")","v":""},{"$f":"IF(AND($AA24=6,T24<>\"\",U24<>\"\"),ort($T24,$U24,$AY$8:$AZ$8),\"\")","v":""},{"$f":"IF(AND($AA24=7,T24<>\"\",U24<>\"\"),ort($T24,$U24,$AY$9:$AZ$9),\"\")","v":""},null,null,null,null,null,null,null,null,null,"00:00:00"]
[null,null,null,null,null,null,null,null,null,"",30,{"$f":"DATE($B$3,$B$4,23)","v":"2018-07-23"},{"$f":"DATE($B$3,$B$4,23)","v":"2018-07-23"},null,"00:00:00",null,null,null,null,null,null,"","","","","",{"$f":"IF(ISERROR(IF(NOT(ISERROR(MATCH($M25,Blad2!$A$2:$A$11,0))),7,WEEKDAY($M25,2))),\"\",IF(NOT(ISERROR(MATCH($M25,Blad2!$A$2:$A$11,0))),7,WEEKDAY($M25,2)))","v":1},{"$f":"IF(AND($AA25<6,N25<>\"\",O25<>\"\"),ort($N25,$O25,$AY$3:$AZ$3),\"\")","v":""},{"$f":"IF(AND($AA25<6,N25<>\"\",O25<>\"\"),ort($N25,$O25,$AY$4:$AZ$5),\"\")","v":""},{"$f":"IF(AND($AA25<6,N25<>\"\",O25<>\"\"),ort($N25,$O25,$AY$6:$AZ$7),\"\")","v":""},{"$f":"IF(AND($AA25=6,N25<>\"\",O25<>\"\"),ort($N25,$O25,$AY$8:$AZ$8),\"\")","v":""},{"$f":"IF(AND($AA25=7,N25<>\"\",O25<>\"\"),ort($N25,$O25,$AY$9:$AZ$9),\"\")","v":""},{"$f":"IF(AND($AA25<6,P25<>\"\",Q25<>\"\"),ort($P25,$Q25,$AY$3:$AZ$3),\"\")","v":""},{"$f":"IF(AND($AA25<6,P25<>\"\",Q25<>\"\"),ort($P25,$Q25,$AY$4:$AZ$5),\"\")","v":""},{"$f":"IF(AND($AA25<6,P25<>\"\",Q25<>\"\"),ort($P25,$Q25,$AY$6:$AZ$7),\"\")","v":""},{"$f":"IF(AND($AA25=6,P25<>\"\",Q25<>\"\"),ort($P25,$Q25,$AY$8:$AZ$8),\"\")","v":""},{"$f":"IF(AND($AA25=7,P25<>\"\",Q25<>\"\"),ort($P25,$Q25,$AY$9:$AZ$9),\"\")","v":""},{"$f":"IF(AND($AA25<6,R25<>\"\",S25<>\"\"),ort($R25,$S25,$AY$3:$AZ$3),\"\")","v":""},{"$f":"IF(AND($AA25<6,R25<>\"\",S25<>\"\"),ort($R25,$S25,$AY$4:$AZ$5),\"\")","v":""},{"$f":"IF(AND($AA25<6,R25<>\"\",S25<>\"\"),ort($R25,$S25,$AY$6:$AZ$7),\"\")","v":""},{"$f":"IF(AND($AA25=6,R25<>\"\",S25<>\"\"),ort($R25,$S25,$AY$8:$AZ$8),\"\")","v":""},{"$f":"IF(AND($AA25=7,R25<>\"\",S25<>\"\"),ort($R25,$S25,$AY$9:$AZ$9),\"\")","v":""},{"$f":"IF(AND($AA25<6,T25<>\"\",U25<>\"\"),ort($T25,$U25,$AY$3:$AZ$3),\"\")","v":""},{"$f":"IF(AND($AA25<6,T25<>\"\",U25<>\"\"),ort($T25,$U25,$AY$4:$AZ$5),\"\")","v":""},{"$f":"IF(AND($AA25<6,T25<>\"\",U25<>\"\"),ort($T25,$U25,$AY$6:$AZ$7),\"\")","v":""},{"$f":"IF(AND($AA25=6,T25<>\"\",U25<>\"\"),ort($T25,$U25,$AY$8:$AZ$8),\"\")","v":""},{"$f":"IF(AND($AA25=7,T25<>\"\",U25<>\"\"),ort($T25,$U25,$AY$9:$AZ$9),\"\")","v":""},null,null,null,null,null,null,null,null,null,"00:00:00"]
[null,null,null,null,null,null,null,null,null,"","",{"$f":"DATE($B$3,$B$4,24)","v":"2018-07-24"},{"$f":"DATE($B$3,$B$4,24)","v":"2018-07-24"},null,"00:00:00",null,null,null,null,null,null,"","","","","",{"$f":"IF(ISERROR(IF(NOT(ISERROR(MATCH($M26,Blad2!$A$2:$A$11,0))),7,WEEKDAY($M26,2))),\"\",IF(NOT(ISERROR(MATCH($M26,Blad2!$A$2:$A$11,0))),7,WEEKDAY($M26,2)))","v":2},{"$f":"IF(AND($AA26<6,N26<>\"\",O26<>\"\"),ort($N26,$O26,$AY$3:$AZ$3),\"\")","v":""},{"$f":"IF(AND($AA26<6,N26<>\"\",O26<>\"\"),ort($N26,$O26,$AY$4:$AZ$5),\"\")","v":""},{"$f":"IF(AND($AA26<6,N26<>\"\",O26<>\"\"),ort($N26,$O26,$AY$6:$AZ$7),\"\")","v":""},{"$f":"IF(AND($AA26=6,N26<>\"\",O26<>\"\"),ort($N26,$O26,$AY$8:$AZ$8),\"\")","v":""},{"$f":"IF(AND($AA26=7,N26<>\"\",O26<>\"\"),ort($N26,$O26,$AY$9:$AZ$9),\"\")","v":""},{"$f":"IF(AND($AA26<6,P26<>\"\",Q26<>\"\"),ort($P26,$Q26,$AY$3:$AZ$3),\"\")","v":""},{"$f":"IF(AND($AA26<6,P26<>\"\",Q26<>\"\"),ort($P26,$Q26,$AY$4:$AZ$5),\"\")","v":""},{"$f":"IF(AND($AA26<6,P26<>\"\",Q26<>\"\"),ort($P26,$Q26,$AY$6:$AZ$7),\"\")","v":""},{"$f":"IF(AND($AA26=6,P26<>\"\",Q26<>\"\"),ort($P26,$Q26,$AY$8:$AZ$8),\"\")","v":""},{"$f":"IF(AND($AA26=7,P26<>\"\",Q26<>\"\"),ort($P26,$Q26,$AY$9:$AZ$9),\"\")","v":""},{"$f":"IF(AND($AA26<6,R26<>\"\",S26<>\"\"),ort($R26,$S26,$AY$3:$AZ$3),\"\")","v":""},{"$f":"IF(AND($AA26<6,R26<>\"\",S26<>\"\"),ort($R26,$S26,$AY$4:$AZ$5),\"\")","v":""},{"$f":"IF(AND($AA26<6,R26<>\"\",S26<>\"\"),ort($R26,$S26,$AY$6:$AZ$7),\"\")","v":""},{"$f":"IF(AND($AA26=6,R26<>\"\",S26<>\"\"),ort($R26,$S26,$AY$8:$AZ$8),\"\")","v":""},{"$f":"IF(AND($AA26=7,R26<>\"\",S26<>\"\"),ort($R26,$S26,$AY$9:$AZ$9),\"\")","v":""},{"$f":"IF(AND($AA26<6,T26<>\"\",U26<>\"\"),ort($T26,$U26,$AY$3:$AZ$3),\"\")","v":""},{"$f":"IF(AND($AA26<6,T26<>\"\",U26<>\"\"),ort($T26,$U26,$AY$4:$AZ$5),\"\")","v":""},{"$f":"IF(AND($AA26<6,T26<>\"\",U26<>\"\"),ort($T26,$U26,$AY$6:$AZ$7),\"\")","v":""},{"$f":"IF(AND($AA26=6,T26<>\"\",U26<>\"\"),ort($T26,$U26,$AY$8:$AZ$8),\"\")","v":""},{"$f":"IF(AND($AA26=7,T26<>\"\",U26<>\"\"),ort($T26,$U26,$AY$9:$AZ$9),\"\")","v":""},null,null,null,null,null,null,null,null,null,"00:00:00"]
[null,null,null,null,null,null,null,null,null,"","",{"$f":"DATE($B$3,$B$4,25)","v":"2018-07-25"},{"$f":"DATE($B$3,$B$4,25)","v":"2018-07-25"},null,"00:00:00",null,null,null,null,null,null,"","","","","",{"$f":"IF(ISERROR(IF(NOT(ISERROR(MATCH($M27,Blad2!$A$2:$A$11,0))),7,WEEKDAY($M27,2))),\"\",IF(NOT(ISERROR(MATCH($M27,Blad2!$A$2:$A$11,0))),7,WEEKDAY($M27,2)))","v":3},{"$f":"IF(AND($AA27<6,N27<>\"\",O27<>\"\"),ort($N27,$O27,$AY$3:$AZ$3),\"\")","v":""},{"$f":"IF(AND($AA27<6,N27<>\"\",O27<>\"\"),ort($N27,$O27,$AY$4:$AZ$5),\"\")","v":""},{"$f":"IF(AND($AA27<6,N27<>\"\",O27<>\"\"),ort($N27,$O27,$AY$6:$AZ$7),\"\")","v":""},{"$f":"IF(AND($AA27=6,N27<>\"\",O27<>\"\"),ort($N27,$O27,$AY$8:$AZ$8),\"\")","v":""},{"$f":"IF(AND($AA27=7,N27<>\"\",O27<>\"\"),ort($N27,$O27,$AY$9:$AZ$9),\"\")","v":""},{"$f":"IF(AND($AA27<6,P27<>\"\",Q27<>\"\"),ort($P27,$Q27,$AY$3:$AZ$3),\"\")","v":""},{"$f":"IF(AND($AA27<6,P27<>\"\",Q27<>\"\"),ort($P27,$Q27,$AY$4:$AZ$5),\"\")","v":""},{"$f":"IF(AND($AA27<6,P27<>\"\",Q27<>\"\"),ort($P27,$Q27,$AY$6:$AZ$7),\"\")","v":""},{"$f":"IF(AND($AA27=6,P27<>\"\",Q27<>\"\"),ort($P27,$Q27,$AY$8:$AZ$8),\"\")","v":""},{"$f":"IF(AND($AA27=7,P27<>\"\",Q27<>\"\"),ort($P27,$Q27,$AY$9:$AZ$9),\"\")","v":""},{"$f":"IF(AND($AA27<6,R27<>\"\",S27<>\"\"),ort($R27,$S27,$AY$3:$AZ$3),\"\")","v":""},{"$f":"IF(AND($AA27<6,R27<>\"\",S27<>\"\"),ort($R27,$S27,$AY$4:$AZ$5),\"\")","v":""},{"$f":"IF(AND($AA27<6,R27<>\"\",S27<>\"\"),ort($R27,$S27,$AY$6:$AZ$7),\"\")","v":""},{"$f":"IF(AND($AA27=6,R27<>\"\",S27<>\"\"),ort($R27,$S27,$AY$8:$AZ$8),\"\")","v":""},{"$f":"IF(AND($AA27=7,R27<>\"\",S27<>\"\"),ort($R27,$S27,$AY$9:$AZ$9),\"\")","v":""},{"$f":"IF(AND($AA27<6,T27<>\"\",U27<>\"\"),ort($T27,$U27,$AY$3:$AZ$3),\"\")","v":""},{"$f":"IF(AND($AA27<6,T27<>\"\",U27<>\"\"),ort($T27,$U27,$AY$4:$AZ$5),\"\")","v":""},{"$f":"IF(AND($AA27<6,T27<>\"\",U27<>\"\"),ort($T27,$U27,$AY$6:$AZ$7),\"\")","v":""},{"$f":"IF(AND($AA27=6,T27<>\"\",U27<>\"\"),ort($T27,$U27,$AY$8:$AZ$8),\"\")","v":""},{"$f":"IF(AND($AA27=7,T27<>\"\",U27<>\"\"),ort($T27,$U27,$AY$9:$AZ$9),\"\")","v":""},null,null,null,null,null,null,null,null,null,"00:00:00"]
[null,null,null,null,null,null,null,null,null,"","",{"$f":"DATE($B$3,$B$4,26)","v":"2018-07-26"},{"$f":"DATE($B$3,$B$4,26)","v":"2018-07-26"},null,"00:00:00",null,null,null,null,null,null,"","","","","",{"$f":"IF(ISERROR(IF(NOT(ISERROR(MATCH($M28,Blad2!$A$2:$A$11,0))),7,WEEKDAY($M28,2))),\"\",IF(NOT(ISERROR(MATCH($M28,Blad2!$A$2:$A$11,0))),7,WEEKDAY($M28,2)))","v":4},{"$f":"IF(AND($AA28<6,N28<>\"\",O28<>\"\"),ort($N28,$O28,$AY$3:$AZ$3),\"\")","v":""},{"$f":"IF(AND($AA28<6,N28<>\"\",O28<>\"\"),ort($N28,$O28,$AY$4:$AZ$5),\"\")","v":""},{"$f":"IF(AND($AA28<6,N28<>\"\",O28<>\"\"),ort($N28,$O28,$AY$6:$AZ$7),\"\")","v":""},{"$f":"IF(AND($AA28=6,N28<>\"\",O28<>\"\"),ort($N28,$O28,$AY$8:$AZ$8),\"\")","v":""},{"$f":"IF(AND($AA28=7,N28<>\"\",O28<>\"\"),ort($N28,$O28,$AY$9:$AZ$9),\"\")","v":""},{"$f":"IF(AND($AA28<6,P28<>\"\",Q28<>\"\"),ort($P28,$Q28,$AY$3:$AZ$3),\"\")","v":""},{"$f":"IF(AND($AA28<6,P28<>\"\",Q28<>\"\"),ort($P28,$Q28,$AY$4:$AZ$5),\"\")","v":""},{"$f":"IF(AND($AA28<6,P28<>\"\",Q28<>\"\"),ort($P28,$Q28,$AY$6:$AZ$7),\"\")","v":""},{"$f":"IF(AND($AA28=6,P28<>\"\",Q28<>\"\"),ort($P28,$Q28,$AY$8:$AZ$8),\"\")","v":""},{"$f":"IF(AND($AA28=7,P28<>\"\",Q28<>\"\"),ort($P28,$Q28,$AY$9:$AZ$9),\"\")","v":""},{"$f":"IF(AND($AA28<6,R28<>\"\",S28<>\"\"),ort($R28,$S28,$AY$3:$AZ$3),\"\")","v":""},{"$f":"IF(AND($AA28<6,R28<>\"\",S28<>\"\"),ort($R28,$S28,$AY$4:$AZ$5),\"\")","v":""},{"$f":"IF(AND($AA28<6,R28<>\"\",S28<>\"\"),ort($R28,$S28,$AY$6:$AZ$7),\"\")","v":""},{"$f":"IF(AND($AA28=6,R28<>\"\",S28<>\"\"),ort($R28,$S28,$AY$8:$AZ$8),\"\")","v":""},{"$f":"IF(AND($AA28=7,R28<>\"\",S28<>\"\"),ort($R28,$S28,$AY$9:$AZ$9),\"\")","v":""},{"$f":"IF(AND($AA28<6,T28<>\"\",U28<>\"\"),ort($T28,$U28,$AY$3:$AZ$3),\"\")","v":""},{"$f":"IF(AND($AA28<6,T28<>\"\",U28<>\"\"),ort($T28,$U28,$AY$4:$AZ$5),\"\")","v":""},{"$f":"IF(AND($AA28<6,T28<>\"\",U28<>\"\"),ort($T28,$U28,$AY$6:$AZ$7),\"\")","v":""},{"$f":"IF(AND($AA28=6,T28<>\"\",U28<>\"\"),ort($T28,$U28,$AY$8:$AZ$8),\"\")","v":""},{"$f":"IF(AND($AA28=7,T28<>\"\",U28<>\"\"),ort($T28,$U28,$AY$9:$AZ$9),\"\")","v":""},null,null,null,null,null,null,null,null,null,"00:00:00"]
[null,null,null,null,null,null,null,null,null,"","",{"$f":"DATE($B$3,$B$4,27)","v":"2018-07-27"},{"$f":"DATE($B$3,$B$4,27)","v":"2018-07-27"},null,"00:00:00",null,null,null,null,null,null,"","","","","",{"$f":"IF(ISERROR(IF(NOT(ISERROR(MATCH($M29,Blad2!$A$2:$A$11,0))),7,WEEKDAY($M29,2))),\"\",IF(NOT(ISERROR(MATCH($M29,Blad2!$A$2:$A$11,0))),7,WEEKDAY($M29,2)))","v":5},{"$f":"IF(AND($AA29<6,N29<>\"\",O29<>\"\"),ort($N29,$O29,$AY$3:$AZ$3),\"\")","v":""},{"$f":"IF(AND($AA29<6,N29<>\"\",O29<>\"\"),ort($N29,$O29,$AY$4:$AZ$5),\"\")","v":""},{"$f":"IF(AND($AA29<6,N29<>\"\",O29<>\"\"),ort($N29,$O29,$AY$6:$AZ$7),\"\")","v":""},{"$f":"IF(AND($AA29=6,N29<>\"\",O29<>\"\"),ort($N29,$O29,$AY$8:$AZ$8),\"\")","v":""},{"$f":"IF(AND($AA29=7,N29<>\"\",O29<>\"\"),ort($N29,$O29,$AY$9:$AZ$9),\"\")","v":""},{"$f":"IF(AND($AA29<6,P29<>\"\",Q29<>\"\"),ort($P29,$Q29,$AY$3:$AZ$3),\"\")","v":""},{"$f":"IF(AND($AA29<6,P29<>\"\",Q29<>\"\"),ort($P29,$Q29,$AY$4:$AZ$5),\"\")","v":""},{"$f":"IF(AND($AA29<6,P29<>\"\",Q29<>\"\"),ort($P29,$Q29,$AY$6:$AZ$7),\"\")","v":""},{"$f":"IF(AND($AA29=6,P29<>\"\",Q29<>\"\"),ort($P29,$Q29,$AY$8:$AZ$8),\"\")","v":""},{"$f":"IF(AND($AA29=7,P29<>\"\",Q29<>\"\"),ort($P29,$Q29,$AY$9:$AZ$9),\"\")","v":""},{"$f":"IF(AND($AA29<6,R29<>\"\",S29<>\"\"),ort($R29,$S29,$AY$3:$AZ$3),\"\")","v":""},{"$f":"IF(AND($AA29<6,R29<>\"\",S29<>\"\"),ort($R29,$S29,$AY$4:$AZ$5),\"\")","v":""},{"$f":"IF(AND($AA29<6,R29<>\"\",S29<>\"\"),ort($R29,$S29,$AY$6:$AZ$7),\"\")","v":""},{"$f":"IF(AND($AA29=6,R29<>\"\",S29<>\"\"),ort($R29,$S29,$AY$8:$AZ$8),\"\")","v":""},{"$f":"IF(AND($AA29=7,R29<>\"\",S29<>\"\"),ort($R29,$S29,$AY$9:$AZ$9),\"\")","v":""},{"$f":"IF(AND($AA29<6,T29<>\"\",U29<>\"\"),ort($T29,$U29,$AY$3:$AZ$3),\"\")","v":""},{"$f":"IF(AND($AA29<6,T29<>\"\",U29<>\"\"),ort($T29,$U29,$AY$4:$AZ$5),\"\")","v":""},{"$f":"IF(AND($AA29<6,T29<>\"\",U29<>\"\"),ort($T29,$U29,$AY$6:$AZ$7),\"\")","v":""},{"$f":"IF(AND($AA29=6,T29<>\"\",U29<>\"\"),ort($T29,$U29,$AY$8:$AZ$8),\"\")","v":""},{"$f":"IF(AND($AA29=7,T29<>\"\",U29<>\"\"),ort($T29,$U29,$AY$9:$AZ$9),\"\")","v":""},null,null,null,null,null,null,null,null,null,"00:00:00"]
[null,null,null,null,null,null,null,null,null,"","",{"$f":"DATE($B$3,$B$4,28)","v":"2018-07-28"},{"$f":"DATE($B$3,$B$4,28)","v":"2018-07-28"},null,"00:00:00",null,null,null,null,null,null,"","","","","",{"$f":"IF(ISERROR(IF(NOT(ISERROR(MATCH($M30,Blad2!$A$2:$A$11,0))),7,WEEKDAY($M30,2))),\"\",IF(NOT(ISERROR(MATCH($M30,Blad2!$A$2:$A$11,0))),7,WEEKDAY($M30,2)))","v":6},{"$f":"IF(AND($AA30<6,N30<>\"\",O30<>\"\"),ort($N30,$O30,$AY$3:$AZ$3),\"\")","v":""},{"$f":"IF(AND($AA30<6,N30<>\"\",O30<>\"\"),ort($N30,$O30,$AY$4:$AZ$5),\"\")","v":""},{"$f":"IF(AND($AA30<6,N30<>\"\",O30<>\"\"),ort($N30,$O30,$AY$6:$AZ$7),\"\")","v":""},{"$f":"IF(AND($AA30=6,N30<>\"\",O30<>\"\"),ort($N30,$O30,$AY$8:$AZ$8),\"\")","v":""},{"$f":"IF(AND($AA30=7,N30<>\"\",O30<>\"\"),ort($N30,$O30,$AY$9:$AZ$9),\"\")","v":""},{"$f":"IF(AND($AA30<6,P30<>\"\",Q30<>\"\"),ort($P30,$Q30,$AY$3:$AZ$3),\"\")","v":""},{"$f":"IF(AND($AA30<6,P30<>\"\",Q30<>\"\"),ort($P30,$Q30,$AY$4:$AZ$5),\"\")","v":""},{"$f":"IF(AND($AA30<6,P30<>\"\",Q30<>\"\"),ort($P30,$Q30,$AY$6:$AZ$7),\"\")","v":""},{"$f":"IF(AND($AA30=6,P30<>\"\",Q30<>\"\"),ort($P30,$Q30,$AY$8:$AZ$8),\"\")","v":""},{"$f":"IF(AND($AA30=7,P30<>\"\",Q30<>\"\"),ort($P30,$Q30,$AY$9:$AZ$9),\"\")","v":""},{"$f":"IF(AND($AA30<6,R30<>\"\",S30<>\"\"),ort($R30,$S30,$AY$3:$AZ$3),\"\")","v":""},{"$f":"IF(AND($AA30<6,R30<>\"\",S30<>\"\"),ort($R30,$S30,$AY$4:$AZ$5),\"\")","v":""},{"$f":"IF(AND($AA30<6,R30<>\"\",S30<>\"\"),ort($R30,$S30,$AY$6:$AZ$7),\"\")","v":""},{"$f":"IF(AND($AA30=6,R30<>\"\",S30<>\"\"),ort($R30,$S30,$AY$8:$AZ$8),\"\")","v":""},{"$f":"IF(AND($AA30=7,R30<>\"\",S30<>\"\"),ort($R30,$S30,$AY$9:$AZ$9),\"\")","v":""},{"$f":"IF(AND($AA30<6,T30<>\"\",U30<>\"\"),ort($T30,$U30,$AY$3:$AZ$3),\"\")","v":""},{"$f":"IF(AND($AA30<6,T30<>\"\",U30<>\"\"),ort($T30,$U30,$AY$4:$AZ$5),\"\")","v":""},{"$f":"IF(AND($AA30<6,T30<>\"\",U30<>\"\"),ort($T30,$U30,$AY$6:$AZ$7),\"\")","v":""},{"$f":"IF(AND($AA30=6,T30<>\"\",U30<>\"\"),ort($T30,$U30,$AY$8:$AZ$8),\"\")","v":""},{"$f":"IF(AND($AA30=7,T30<>\"\",U30<>\"\"),ort($T30,$U30,$AY$9:$AZ$9),\"\")","v":""},null,null,null,null,null,null,null,null,null,"00:00:00"]
[null,null,null,null,null,null,null,null,null,"",{"$f":"IF(L31=\"\",\"\",IF(WEEKDAY(L31)=2,1+INT((L31-DATE(YEAR(L31+4-WEEKDAY(L31+6)),1,5)+WEEKDAY(DATE(YEAR(L31+4-WEEKDAY(L31+6)),1,3)))/7),\"\"))","v":""},{"$f":"IF(MONTH(L$30+1)<>MONTH(L$30),\"\",L$30+1)","v":"2018-07-29"},{"$f":"IF(MONTH(M$30+1)<>MONTH(M$30),\"\",M$30+1)","v":"2018-07-29"},null,"00:00:00",null,null,null,null,null,null,"","","","","",{"$f":"IF(ISERROR(IF(NOT(ISERROR(MATCH($M31,Blad2!$A$2:$A$11,0))),7,WEEKDAY($M31,2))),\"\",IF(NOT(ISERROR(MATCH($M31,Blad2!$A$2:$A$11,0))),7,WEEKDAY($M31,2)))","v":7},{"$f":"IF(AND($AA31<6,N31<>\"\",O31<>\"\"),ort($N31,$O31,$AY$3:$AZ$3),\"\")","v":""},{"$f":"IF(AND($AA31<6,N31<>\"\",O31<>\"\"),ort($N31,$O31,$AY$4:$AZ$5),\"\")","v":""},{"$f":"IF(AND($AA31<6,N31<>\"\",O31<>\"\"),ort($N31,$O31,$AY$6:$AZ$7),\"\")","v":""},{"$f":"IF(AND($AA31=6,N31<>\"\",O31<>\"\"),ort($N31,$O31,$AY$8:$AZ$8),\"\")","v":""},{"$f":"IF(AND($AA31=7,N31<>\"\",O31<>\"\"),ort($N31,$O31,$AY$9:$AZ$9),\"\")","v":""},{"$f":"IF(AND($AA31<6,P31<>\"\",Q31<>\"\"),ort($P31,$Q31,$AY$3:$AZ$3),\"\")","v":""},{"$f":"IF(AND($AA31<6,P31<>\"\",Q31<>\"\"),ort($P31,$Q31,$AY$4:$AZ$5),\"\")","v":""},{"$f":"IF(AND($AA31<6,P31<>\"\",Q31<>\"\"),ort($P31,$Q31,$AY$6:$AZ$7),\"\")","v":""},{"$f":"IF(AND($AA31=6,P31<>\"\",Q31<>\"\"),ort($P31,$Q31,$AY$8:$AZ$8),\"\")","v":""},{"$f":"IF(AND($AA31=7,P31<>\"\",Q31<>\"\"),ort($P31,$Q31,$AY$9:$AZ$9),\"\")","v":""},{"$f":"IF(AND($AA31<6,R31<>\"\",S31<>\"\"),ort($R31,$S31,$AY$3:$AZ$3),\"\")","v":""},{"$f":"IF(AND($AA31<6,R31<>\"\",S31<>\"\"),ort($R31,$S31,$AY$4:$AZ$5),\"\")","v":""},{"$f":"IF(AND($AA31<6,R31<>\"\",S31<>\"\"),ort($R31,$S31,$AY$6:$AZ$7),\"\")","v":""},{"$f":"IF(AND($AA31=6,R31<>\"\",S31<>\"\"),ort($R31,$S31,$AY$8:$AZ$8),\"\")","v":""},{"$f":"IF(AND($AA31=7,R31<>\"\",S31<>\"\"),ort($R31,$S31,$AY$9:$AZ$9),\"\")","v":""},{"$f":"IF(AND($AA31<6,T31<>\"\",U31<>\"\"),ort($T31,$U31,$AY$3:$AZ$3),\"\")","v":""},{"$f":"IF(AND($AA31<6,T31<>\"\",U31<>\"\"),ort($T31,$U31,$AY$4:$AZ$5),\"\")","v":""},{"$f":"IF(AND($AA31<6,T31<>\"\",U31<>\"\"),ort($T31,$U31,$AY$6:$AZ$7),\"\")","v":""},{"$f":"IF(AND($AA31=6,T31<>\"\",U31<>\"\"),ort($T31,$U31,$AY$8:$AZ$8),\"\")","v":""},{"$f":"IF(AND($AA31=7,T31<>\"\",U31<>\"\"),ort($T31,$U31,$AY$9:$AZ$9),\"\")","v":""},null,null,null,null,null,null,null,null,null,"00:00:00"]
[null,"Totaal Uren incl 150 %",null,null,null,null,null,null,null,"",31,{"$f":"IF(L31=\"\",\"\",IF(MONTH($M31+1)<>MONTH($M31),\"\",$M31+1))","v":"2018-07-30"},{"$f":"IF(M31=\"\",\"\",IF(MONTH($M31+1)<>MONTH($M31),\"\",$M31+1))","v":"2018-07-30"},null,"00:00:00",null,null,null,null,null,null,"","","","","",{"$f":"IF(ISERROR(IF(NOT(ISERROR(MATCH($M32,Blad2!$A$2:$A$11,0))),7,WEEKDAY($M32,2))),\"\",IF(NOT(ISERROR(MATCH($M32,Blad2!$A$2:$A$11,0))),7,WEEKDAY($M32,2)))","v":1},{"$f":"IF(AND($AA32<6,N32<>\"\",O32<>\"\"),ort($N32,$O32,$AY$3:$AZ$3),\"\")","v":""},{"$f":"IF(AND($AA32<6,N32<>\"\",O32<>\"\"),ort($N32,$O32,$AY$4:$AZ$5),\"\")","v":""},{"$f":"IF(AND($AA32<6,N32<>\"\",O32<>\"\"),ort($N32,$O32,$AY$6:$AZ$7),\"\")","v":""},{"$f":"IF(AND($AA32=6,N32<>\"\",O32<>\"\"),ort($N32,$O32,$AY$8:$AZ$8),\"\")","v":""},{"$f":"IF(AND($AA32=7,N32<>\"\",O32<>\"\"),ort($N32,$O32,$AY$9:$AZ$9),\"\")","v":""},{"$f":"IF(AND($AA32<6,P32<>\"\",Q32<>\"\"),ort($P32,$Q32,$AY$3:$AZ$3),\"\")","v":""},{"$f":"IF(AND($AA32<6,P32<>\"\",Q32<>\"\"),ort($P32,$Q32,$AY$4:$AZ$5),\"\")","v":""},{"$f":"IF(AND($AA32<6,P32<>\"\",Q32<>\"\"),ort($P32,$Q32,$AY$6:$AZ$7),\"\")","v":""},{"$f":"IF(AND($AA32=6,P32<>\"\",Q32<>\"\"),ort($P32,$Q32,$AY$8:$AZ$8),\"\")","v":""},{"$f":"IF(AND($AA32=7,P32<>\"\",Q32<>\"\"),ort($P32,$Q32,$AY$9:$AZ$9),\"\")","v":""},{"$f":"IF(AND($AA32<6,R32<>\"\",S32<>\"\"),ort($R32,$S32,$AY$3:$AZ$3),\"\")","v":""},{"$f":"IF(AND($AA32<6,R32<>\"\",S32<>\"\"),ort($R32,$S32,$AY$4:$AZ$5),\"\")","v":""},{"$f":"IF(AND($AA32<6,R32<>\"\",S32<>\"\"),ort($R32,$S32,$AY$6:$AZ$7),\"\")","v":""},{"$f":"IF(AND($AA32=6,R32<>\"\",S32<>\"\"),ort($R32,$S32,$AY$8:$AZ$8),\"\")","v":""},{"$f":"IF(AND($AA32=7,R32<>\"\",S32<>\"\"),ort($R32,$S32,$AY$9:$AZ$9),\"\")","v":""},{"$f":"IF(AND($AA32<6,T32<>\"\",U32<>\"\"),ort($T32,$U32,$AY$3:$AZ$3),\"\")","v":""},{"$f":"IF(AND($AA32<6,T32<>\"\",U32<>\"\"),ort($T32,$U32,$AY$4:$AZ$5),\"\")","v":""},{"$f":"IF(AND($AA32<6,T32<>\"\",U32<>\"\"),ort($T32,$U32,$AY$6:$AZ$7),\"\")","v":""},{"$f":"IF(AND($AA32=6,T32<>\"\",U32<>\"\"),ort($T32,$U32,$AY$8:$AZ$8),\"\")","v":""},{"$f":"IF(AND($AA32=7,T32<>\"\",U32<>\"\"),ort($T32,$U32,$AY$9:$AZ$9),\"\")","v":""},null,null,null,null,null,null,null,null,null,"00:00:00"]
[null,{"$f":"SUM(U36,W37)","v":0},null,null,null,null,null,null,null,"",{"$f":"IF(L33=\"\",\"\",IF(WEEKDAY(L33)=2,1+INT((L33-DATE(YEAR(L33+4-WEEKDAY(L33+6)),1,5)+WEEKDAY(DATE(YEAR(L33+4-WEEKDAY(L33+6)),1,3)))/7),\"\"))","v":""},{"$f":"IF(L32=\"\",\"\",IF(MONTH($M32+1)<>MONTH($M32),\"\",$M32+1))","v":"2018-07-31"},{"$f":"IF(M32=\"\",\"\",IF(MONTH($M32+1)<>MONTH($M32),\"\",$M32+1))","v":"2018-07-31"},null,"00:00:00",null,null,null,null,null,null,"","","","","",{"$f":"IF(ISERROR(IF(NOT(ISERROR(MATCH($M33,Blad2!$A$2:$A$11,0))),7,WEEKDAY($M33,2))),\"\",IF(NOT(ISERROR(MATCH($M33,Blad2!$A$2:$A$11,0))),7,WEEKDAY($M33,2)))","v":2},{"$f":"IF(AND($AA33<6,N33<>\"\",O33<>\"\"),ort($N33,$O33,$AY$3:$AZ$3),\"\")","v":""},{"$f":"IF(AND($AA33<6,N33<>\"\",O33<>\"\"),ort($N33,$O33,$AY$4:$AZ$5),\"\")","v":""},{"$f":"IF(AND($AA33<6,N33<>\"\",O33<>\"\"),ort($N33,$O33,$AY$6:$AZ$7),\"\")","v":""},{"$f":"IF(AND($AA33=6,N33<>\"\",O33<>\"\"),ort($N33,$O33,$AY$8:$AZ$8),\"\")","v":""},{"$f":"IF(AND($AA33=7,N33<>\"\",O33<>\"\"),ort($N33,$O33,$AY$9:$AZ$9),\"\")","v":""},{"$f":"IF(AND($AA33<6,P33<>\"\",Q33<>\"\"),ort($P33,$Q33,$AY$3:$AZ$3),\"\")","v":""},{"$f":"IF(AND($AA33<6,P33<>\"\",Q33<>\"\"),ort($P33,$Q33,$AY$4:$AZ$5),\"\")","v":""},{"$f":"IF(AND($AA33<6,P33<>\"\",Q33<>\"\"),ort($P33,$Q33,$AY$6:$AZ$7),\"\")","v":""},{"$f":"IF(AND($AA33=6,P33<>\"\",Q33<>\"\"),ort($P33,$Q33,$AY$8:$AZ$8),\"\")","v":""},{"$f":"IF(AND($AA33=7,P33<>\"\",Q33<>\"\"),ort($P33,$Q33,$AY$9:$AZ$9),\"\")","v":""},{"$f":"IF(AND($AA33<6,R33<>\"\",S33<>\"\"),ort($R33,$S33,$AY$3:$AZ$3),\"\")","v":""},{"$f":"IF(AND($AA33<6,R33<>\"\",S33<>\"\"),ort($R33,$S33,$AY$4:$AZ$5),\"\")","v":""},{"$f":"IF(AND($AA33<6,R33<>\"\",S33<>\"\"),ort($R33,$S33,$AY$6:$AZ$7),\"\")","v":""},{"$f":"IF(AND($AA33=6,R33<>\"\",S33<>\"\"),ort($R33,$S33,$AY$8:$AZ$8),\"\")","v":""},{"$f":"IF(AND($AA33=7,R33<>\"\",S33<>\"\"),ort($R33,$S33,$AY$9:$AZ$9),\"\")","v":""},{"$f":"IF(AND($AA33<6,T33<>\"\",U33<>\"\"),ort($T33,$U33,$AY$3:$AZ$3),\"\")","v":""},{"$f":"IF(AND($AA33<6,T33<>\"\",U33<>\"\"),ort($T33,$U33,$AY$4:$AZ$5),\"\")","v":""},{"$f":"IF(AND($AA33<6,T33<>\"\",U33<>\"\"),ort($T33,$U33,$AY$6:$AZ$7),\"\")","v":""},{"$f":"IF(AND($AA33=6,T33<>\"\",U33<>\"\"),ort($T33,$U33,$AY$8:$AZ$8),\"\")","v":""},{"$f":"IF(AND($AA33=7,T33<>\"\",U33<>\"\"),ort($T33,$U33,$AY$9:$AZ$9),\"\")","v":""},null,null,null,null,null,null,null,null,null,"00:00:00"]
[null,null,null,null,null,null,null,null,null,null,null,null,null,null,null,null,null,null,null,null,null,null,{"$f":"SUM(W3:W33)","v":0},{"$f":"SUM(X3:X33)","v":0},0,0]
[null,null,null,null,null,null,null,null,null,null,null,null,"Plus / Min Uren Incl 150 % Uren",null,null,null,null,null,"Contract Uren",null,{"$f":"SUM(B17)","v":3.75}]
[null,null,null,null,null,null,null,null,null,null,null,null,{"$f":"SUM(B33-B17)","v":-3.75},null,null,5,null,"Gewerkte Uren 100 %",null,null,{"$f":"SUM(W34:X34)","v":0}]
[null,null,null,null,null,null,null,null,null,null,null,null,"Uitbetalen / Verlof",null,null,{"$f":"SUM(M36*P36)*24","v":-450},null,"Gewerkte Uren 150 %",null,null,{"$f":"SUM(Y34)","v":0},"X 150%",{"$f":"SUM(U37*150%)","v":0}]
[null,null,null,null,null,null,null,null,null,null,null,null,null,null,null,null,null,null,"Plus Uren"]
[null,null,null,null,null,null,null,null,null,null,null,null,null,null,null,null,null,null,"Min Uren"]

{"sheet":"Augustus","index":7,"n_rows":39,"n_cols":57,"rows_kept":39,"cut":false,"hidden":false,"merged":[[38,18,38,19],[37,18,37,19],[1,48,1,51],[2,3,2,7],[3,2,3,8],[19,1,19,8],[13,1,13,8],[15,1,15,8],[16,1,16,8],[18,1,18,8],[12,1,12,8],[36,12,36,14],[36,15,36,16],[36,17,36,19],[0,14,0,21],[1,2,1,8],[34,12,34,16],[35,12,35,14],[35,15,35,16],[31,1,31,8],[32,1,32,8],[34,18,34,19],[35,17,35,19]]}
[null,null,null,null,null,null,null,null,null,null,null,null,null,null,"Test"]
[null,null,{"$f":"TODAY()","v":"2018-03-21"},null,null,null,null,null,null,"Feestdag","wknr","dag","datum","tijd in","tijd uit","tijd in","tijd uit","tijd in","tijd uit","tijd in","tijd uit","werk\ntijd",1,1.25,1.5,2,"hulp",1,1.25,1.5,1.5,2,1,1.25,1.5,1.5,2,1,1.25,1.5,1.5,2,1,1.25,1.5,1.5,2,null,"onregelmatigheidstoeslag",null,null,null,null,"Stops","Laden","Lossen","Werktijd"]
[null,2018," ","Kalender",null,null,null,null,null,{"$f":"IF(ISNA(VLOOKUP(M3,feestdagen,2,0)),\"\",VLOOKUP(M3,feestdagen,2,0))","v":""},{"$f":"WEEKNUM(L3,21)","v":31},{"$f":"DATE($B$3,$B$4,1)","v":"2018-08-01"},{"$f":"DATE($B$3,$B$4,1)","v":"2018-08-01"},null,{"$f":"SUM(N3,BE3)","v":"00:00:00"},null,null,null,null,null,null,{"$f":"IF(AND(W3=\"\",X3=\"\",Y3=\"\",Z3=\"\"),\"\",SUM(W3:Z3))","v":""},{"$f":"IF(AND(AB3=\"\",AG3=\"\",AL3=\"\",AQ3=\"\"),\"\",SUM(AB3,AG3,AL3,AQ3))","v":""},{"$f":"IF(AND(AC3=\"\",AH3=\"\",AM3=\"\",AR3=\"\"),\"\",SUM(AC3,AH3,AM3,AR3))","v":""},{"$f":"IF(AND(AD3=\"\",AE3=\"\",AI3=\"\",AJ3=\"\",AN3=\"\",AO3=\"\",AS3=\"\",AT3=\"\"),\"\",SUM(AD3,AE3,AI3,AJ3,AN3,AO3,AS3,AT3))","v":""},{"$f":"IF(AND(AF3=\"\",AK3=\"\",AP3=\"\",AU3=\"\"),\"\",SUM(AF3,AK3,AP3,AU3))","v":""},{"$f":"IF(ISERROR(IF(NOT(ISERROR(MATCH($M3,Blad2!$A$2:$A$11,0))),7,WEEKDAY($M3,2))),\"\",IF(NOT(ISERROR(MATCH($M3,Blad2!$A$2:$A$11,0))),7,WEEKDAY($M3,2)))","v":3},{"$f":"IF(AND($AA3<6,N3<>\"\",O3<>\"\"),ort($N3,$O3,$AY$3:$AZ$3),\"\")","v":""},{"$f":"IF(AND($AA3<6,N3<>\"\",O3<>\"\"),ort($N3,$O3,$AY$4:$AZ$5),\"\")","v":""},{"$f":"IF(AND($AA3<6,N3<>\"\",O3<>\"\"),ort($N3,$O3,$AY$6:$AZ$7),\"\")","v":""},{"$f":"IF(AND($AA3=6,N3<>\"\",O3<>\"\"),ort($N3,$O3,$AY$8:$AZ$8),\"\")","v":""},{"$f":"IF(AND($AA3=7,N3<>\"\",O3<>\"\"),ort($N3,$O3,$AY$9:$AZ$9),\"\")","v":""},{"$f":"IF(AND($AA3<6,P3<>\"\",Q3<>\"\"),ort($P3,$Q3,$AY$3:$AZ$3),\"\")","v":""},{"$f":"IF(AND($AA3<6,P3<>\"\",Q3<>\"\"),ort($P3,$Q3,$AY$4:$AZ$5),\"\")","v":""},{"$f":"IF(AND($AA3<6,P3<>\"\",Q3<>\"\"),ort($P3,$Q3,$AY$6:$AZ$7),\"\")","v":""},{"$f":"IF(AND($AA3=6,P3<>\"\",Q3<>\"\"),ort($P3,$Q3,$AY$8:$AZ$8),\"\")","v":""},{"$f":"IF(AND($AA3=7,P3<>\"\",Q3<>\"\"),ort($P3,$Q3,$AY$9:$AZ$9),\"\")","v":""},{"$f":"IF(AND($AA3<6,R3<>\"\",S3<>\"\"),ort($R3,$S3,$AY$3:$AZ$3),\"\")","v":""},{"$f":"IF(AND($AA3<6,R3<>\"\",S3<>\"\"),ort($R3,$S3,$AY$4:$AZ$5),\"\")","v":""},{"$f":"IF(AND($AA3<6,R3<>\"\",S3<>\"\"),ort($R3,$S3,$AY$6:$AZ$7),\"\")","v":""},{"$f":"IF(AND($AA3=6,R3<>\"\",S3<>\"\"),ort($R3,$S3,$AY$8:$AZ$8),\"\")","v":""},{"$f":"IF(AND($AA3=7,R3<>\"\",S3<>\"\"),ort($R3,$S3,$AY$9:$AZ$9),\"\")","v":""},{"$f":"IF(AND($AA3<6,T3<>\"\",U3<>\"\"),ort($T3,$U3,$AY$3:$AZ$3),\"\")","v":""},{"$f":"IF(AND($AA3<6,T3<>\"\",U3<>\"\"),ort($T3,$U3,$AY$4:$AZ$5),\"\")","v":""},{"$f":"IF(AND($AA3<6,T3<>\"\",U3<>\"\"),ort($T3,$U3,$AY$6:$AZ$7),\"\")","v":""},{"$f":"IF(AND($AA3=6,T3<>\"\",U3<>\"\"),ort($T3,$U3,$AY$8:$AZ$8),\"\")","v":""},{"$f":"IF(AND($AA3=7,T3<>\"\",U3<>\"\"),ort($T3,$U3,$AY$9:$AZ$9),\"\")","v":""},null,1,"m-vr",0.39583333333333331,0.72916666666666663,null,null,null,null,{"$f":"SUM(BB3/20/24,BC3:BD3)","v":"00:00:00"}]
[null,8,{"$f":"DATE(B3,B4,1)","v":"2018-08-01"},null,null,null,null,null,null,"",{"$f":"IF(WEEKDAY(L4)=2,1+INT((L4-DATE(YEAR(L4+4-WEEKDAY(L4+6)),1,5)+WEEKDAY(DATE(YEAR(L4+4-WEEKDAY(L4+6)),1,3)))/7),\"\")","v":""},{"$f":"DATE($B$3,$B$4,2)","v":"2018-08-02"},{"$f":"DATE($B$3,$B$4,2)","v":"2018-08-02"},null,{"$f":"SUM(N4,BE4)","v":"00:00:00"},null,null,null,null,null,null,{"$f":"IF(AND(W4=\"\",X4=\"\",Y4=\"\",Z4=\"\"),\"\",SUM(W4:Z4))","v":""},{"$f":"IF(AND(AB4=\"\",AG4=\"\",AL4=\"\",AQ4=\"\"),\"\",SUM(AB4,AG4,AL4,AQ4))","v":""},{"$f":"IF(AND(AC4=\"\",AH4=\"\",AM4=\"\",AR4=\"\"),\"\",SUM(AC4,AH4,AM4,AR4))","v":""},{"$f":"IF(AND(AD4=\"\",AE4=\"\",AI4=\"\",AJ4=\"\",AN4=\"\",AO4=\"\",AS4=\"\",AT4=\"\"),\"\",SUM(AD4,AE4,AI4,AJ4,AN4,AO4,AS4,AT4))","v":""},{"$f":"IF(AND(AF4=\"\",AK4=\"\",AP4=\"\",AU4=\"\"),\"\",SUM(AF4,AK4,AP4,AU4))","v":""},{"$f":"IF(ISERROR(IF(NOT(ISERROR(MATCH($M4,Blad2!$A$2:$A$11,0))),7,WEEKDAY($M4,2))),\"\",IF(NOT(ISERROR(MATCH($M4,Blad2!$A$2:$A$11,0))),7,WEEKDAY($M4,2)))","v":4},{"$f":"IF(AND($AA4<6,N4<>\"\",O4<>\"\"),ort($N4,$O4,$AY$3:$AZ$3),\"\")","v":""},{"$f":"IF(AND($AA4<6,N4<>\"\",O4<>\"\"),ort($N4,$O4,$AY$4:$AZ$5),\"\")","v":""},{"$f":"IF(AND($AA4<6,N4<>\"\",O4<>\"\"),ort($N4,$O4,$AY$6:$AZ$7),\"\")","v":""},{"$f":"IF(AND($AA4=6,N4<>\"\",O4<>\"\"),ort($N4,$O4,$AY$8:$AZ$8),\"\")","v":""},{"$f":"IF(AND($AA4=7,N4<>\"\",O4<>\"\"),ort($N4,$O4,$AY$9:$AZ$9),\"\")","v":""},{"$f":"IF(AND($AA4<6,P4<>\"\",Q4<>\"\"),ort($P4,$Q4,$AY$3:$AZ$3),\"\")","v":""},{"$f":"IF(AND($AA4<6,P4<>\"\",Q4<>\"\"),ort($P4,$Q4,$AY$4:$AZ$5),\"\")","v":""},{"$f":"IF(AND($AA4<6,P4<>\"\",Q4<>\"\"),ort($P4,$Q4,$AY$6:$AZ$7),\"\")","v":""},{"$f":"IF(AND($AA4=6,P4<>\"\",Q4<>\"\"),ort($P4,$Q4,$AY$8:$AZ$8),\"\")","v":""},{"$f":"IF(AND($AA4=7,P4<>\"\",Q4<>\"\"),ort($P4,$Q4,$AY$9:$AZ$9),\"\")","v":""},{"$f":"IF(AND($AA4<6,R4<>\"\",S4<>\"\"),ort($R4,$S4,$AY$3:$AZ$3),\"\")","v":""},{"$f":"IF(AND($AA4<6,R4<>\"\",S4<>\"\"),ort($R4,$S4,$AY$4:$AZ$5),\"\")","v":""},{"$f":"IF(AND($AA4<6,R4<>\"\",S4<>\"\"),ort($R4,$S4,$AY$6:$AZ$7),\"\")","v":""},{"$f":"IF(AND($AA4=6,R4<>\"\",S4<>\"\"),ort($R4,$S4,$AY$8:$AZ$8),\"\")","v":""},{"$f":"IF(AND($AA4=7,R4<>\"\",S4<>\"\"),ort($R4,$S4,$AY$9:$AZ$9),\"\")","v":""},{"$f":"IF(AND($AA4<6,T4<>\"\",U4<>\"\"),ort($T4,$U4,$AY$3:$AZ$3),\"\")","v":""},{"$f":"IF(AND($AA4<6,T4<>\"\",U4<>\"\"),ort($T4,$U4,$AY$4:$AZ$5),\"\")","v":""},{"$f":"IF(AND($AA4<6,T4<>\"\",U4<>\"\"),ort($T4,$U4,$AY$6:$AZ$7),\"\")","v":""},{"$f":"IF(AND($AA4=6,T4<>\"\",U4<>\"\"),ort($T4,$U4,$AY$8:$AZ$8),\"\")","v":""},{"$f":"IF(AND($AA4=7,T4<>\"\",U4<>\"\"),ort($T4,$U4,$AY$9:$AZ$9),\"\")","v":""},null,1.25,"m-vr",0.25,0.3125,null,null,null,null,{"$f":"SUM(BB4/20/24,BC4:BD4)","v":"00:00:00"}]
[null,null,"Ma","Di","Wo","Do","Vr","Za","Zo","","",{"$f":"DATE($B$3,$B$4,3)","v":"2018-08-03"},{"$f":"DATE($B$3,$B$4,3)","v":"2018-08-03"},null,"00:00:00",null,null,null,null,null,null,"",{"$f":"IF(AND(AB5=\"\",AG5=\"\",AL5=\"\",AQ5=\"\"),\"\",SUM(AB5,AG5,AL5,AQ5))","v":""},"",{"$f":"IF(AND(AD5=\"\",AE5=\"\",AI5=\"\",AJ5=\"\",AN5=\"\",AO5=\"\",AS5=\"\",AT5=\"\"),\"\",SUM(AD5,AE5,AI5,AJ5,AN5,AO5,AS5,AT5))","v":""},{"$f":"IF(AND(AF5=\"\",AK5=\"\",AP5=\"\",AU5=\"\"),\"\",SUM(AF5,AK5,AP5,AU5))","v":""},{"$f":"IF(ISERROR(IF(NOT(ISERROR(MATCH($M5,Blad2!$A$2:$A$11,0))),7,WEEKDAY($M5,2))),\"\",IF(NOT(ISERROR(MATCH($M5,Blad2!$A$2:$A$11,0))),7,WEEKDAY($M5,2)))","v":5},{"$f":"IF(AND($AA5<6,N5<>\"\",O5<>\"\"),ort($N5,$O5,$AY$3:$AZ$3),\"\")","v":""},{"$f":"IF(AND($AA5<6,N5<>\"\",O5<>\"\"),ort($N5,$O5,$AY$4:$AZ$5),\"\")","v":""},{"$f":"IF(AND($AA5<6,N5<>\"\",O5<>\"\"),ort($N5,$O5,$AY$6:$AZ$7),\"\")","v":""},{"$f":"IF(AND($AA5=6,N5<>\"\",O5<>\"\"),ort($N5,$O5,$AY$8:$AZ$8),\"\")","v":""},{"$f":"IF(AND($AA5=7,N5<>\"\",O5<>\"\"),ort($N5,$O5,$AY$9:$AZ$9),\"\")","v":""},{"$f":"IF(AND($AA5<6,P5<>\"\",Q5<>\"\"),ort($P5,$Q5,$AY$3:$AZ$3),\"\")","v":""},{"$f":"IF(AND($AA5<6,P5<>\"\",Q5<>\"\"),ort($P5,$Q5,$AY$4:$AZ$5),\"\")","v":""},{"$f":"IF(AND($AA5<6,P5<>\"\",Q5<>\"\"),ort($P5,$Q5,$AY$6:$AZ$7),\"\")","v":""},{"$f":"IF(AND($AA5=6,P5<>\"\",Q5<>\"\"),ort($P5,$Q5,$AY$8:$AZ$8),\"\")","v":""},{"$f":"IF(AND($AA5=7,P5<>\"\",Q5<>\"\"),ort($P5,$Q5,$AY$9:$AZ$9),\"\")","v":""},{"$f":"IF(AND($AA5<6,R5<>\"\",S5<>\"\"),ort($R5,$S5,$AY$3:$AZ$3),\"\")","v":""},{"$f":"IF(AND($AA5<6,R5<>\"\",S5<>\"\"),ort($R5,$S5,$AY$4:$AZ$5),\"\")","v":""},{"$f":"IF(AND($AA5<6,R5<>\"\",S5<>\"\"),ort($R5,$S5,$AY$6:$AZ$7),\"\")","v":""},{"$f":"IF(AND($AA5=6,R5<>\"\",S5<>\"\"),ort($R5,$S5,$AY$8:$AZ$8),\"\")","v":""},{"$f":"IF(AND($AA5=7,R5<>\"\",S5<>\"\"),ort($R5,$S5,$AY$9:$AZ$9),\"\")","v":""},{"$f":"IF(AND($AA5<6,T5<>\"\",U5<>\"\"),ort($T5,$U5,$AY$3:$AZ$3),\"\")","v":""},{"$f":"IF(AND($AA5<6,T5<>\"\",U5<>\"\"),ort($T5,$U5,$AY$4:$AZ$5),\"\")","v":""},{"$f":"IF(AND($AA5<6,T5<>\"\",U5<>\"\"),ort($T5,$U5,$AY$6:$AZ$7),\"\")","v":""},{"$f":"IF(AND($AA5=6,T5<>\"\",U5<>\"\"),ort($T5,$U5,$AY$8:$AZ$8),\"\")","v":""},{"$f":"IF(AND($AA5=7,T5<>\"\",U5<>\"\"),ort($T5,$U5,$AY$9:$AZ$9),\"\")","v":""},null,1.25,"m-vr",0.72916666666666663,0.77083333333333337,null,null,null,null,"00:00:00"]
[null,null,{"$f":"IF(WEEKDAY(C4,2)=1,C4,\"\")","v":""},{"$f":"IF(WEEKDAY(C4,2)=2,C4,IF(C6<>\"\",C6+1,\"\"))","v":""},{"$f":"IF(WEEKDAY(C4,2)=3,C4,IF(D6<>\"\",D6+1,\"\"))","v":"2018-08-01"},{"$f":"IF(WEEKDAY(C4,2)=4,C4,IF(E6<>\"\",E6+1,\"\"))","v":"2018-08-02"},{"$f":"IF(WEEKDAY(C4,2)=5,C4,IF(F6<>\"\",F6+1,\"\"))","v":"2018-08-03"},{"$f":"IF(WEEKDAY(C4,2)=6,C4,IF(G6<>\"\",G6+1,\"\"))","v":"2018-08-04"},{"$f":"IF(WEEKDAY(C4,2)=7,C4,IF(H6<>\"\",H6+1,\"\"))","v":"2018-08-05"},"","",{"$f":"DATE($B$3,$B$4,4)","v":"2018-08-04"},{"$f":"DATE($B$3,$B$4,4)","v":"2018-08-04"},null,"00:00:00",null,null,null,null,null,null,"","","","","",{"$f":"IF(ISERROR(IF(NOT(ISERROR(MATCH($M6,Blad2!$A$2:$A$11,0))),7,WEEKDAY($M6,2))),\"\",IF(NOT(ISERROR(MATCH($M6,Blad2!$A$2:$A$11,0))),7,WEEKDAY($M6,2)))","v":6},{"$f":"IF(AND($AA6<6,N6<>\"\",O6<>\"\"),ort($N6,$O6,$AY$3:$AZ$3),\"\")","v":""},{"$f":"IF(AND($AA6<6,N6<>\"\",O6<>\"\"),ort($N6,$O6,$AY$4:$AZ$5),\"\")","v":""},{"$f":"IF(AND($AA6<6,N6<>\"\",O6<>\"\"),ort($N6,$O6,$AY$6:$AZ$7),\"\")","v":""},{"$f":"IF(AND($AA6=6,N6<>\"\",O6<>\"\"),ort($N6,$O6,$AY$8:$AZ$8),\"\")","v":""},{"$f":"IF(AND($AA6=7,N6<>\"\",O6<>\"\"),ort($N6,$O6,$AY$9:$AZ$9),\"\")","v":""},{"$f":"IF(AND($AA6<6,P6<>\"\",Q6<>\"\"),ort($P6,$Q6,$AY$3:$AZ$3),\"\")","v":""},{"$f":"IF(AND($AA6<6,P6<>\"\",Q6<>\"\"),ort($P6,$Q6,$AY$4:$AZ$5),\"\")","v":""},{"$f":"IF(AND($AA6<6,P6<>\"\",Q6<>\"\"),ort($P6,$Q6,$AY$6:$AZ$7),\"\")","v":""},{"$f":"IF(AND($AA6=6,P6<>\"\",Q6<>\"\"),ort($P6,$Q6,$AY$8:$AZ$8),\"\")","v":""},{"$f":"IF(AND($AA6=7,P6<>\"\",Q6<>\"\"),ort($P6,$Q6,$AY$9:$AZ$9),\"\")","v":""},{"$f":"IF(AND($AA6<6,R6<>\"\",S6<>\"\"),ort($R6,$S6,$AY$3:$AZ$3),\"\")","v":""},{"$f":"IF(AND($AA6<6,R6<>\"\",S6<>\"\"),ort($R6,$S6,$AY$4:$AZ$5),\"\")","v":""},{"$f":"IF(AND($AA6<6,R6<>\"\",S6<>\"\"),ort($R6,$S6,$AY$6:$AZ$7),\"\")","v":""},{"$f":"IF(AND($AA6=6,R6<>\"\",S6<>\"\"),ort($R6,$S6,$AY$8:$AZ$8),\"\")","v":""},{"$f":"IF(AND($AA6=7,R6<>\"\",S6<>\"\"),ort($R6,$S6,$AY$9:$AZ$9),\"\")","v":""},{"$f":"IF(AND($AA6<6,T6<>\"\",U6<>\"\"),ort($T6,$U6,$AY$3:$AZ$3),\"\")","v":""},{"$f":"IF(AND($AA6<6,T6<>\"\",U6<>\"\"),ort($T6,$U6,$AY$4:$AZ$5),\"\")","v":""},{"$f":"IF(AND($AA6<6,T6<>\"\",U6<>\"\"),ort($T6,$U6,$AY$6:$AZ$7),\"\")","v":""},{"$f":"IF(AND($AA6=6,T6<>\"\",U6<>\"\"),ort($T6,$U6,$AY$8:$AZ$8),\"\")","v":""},{"$f":"IF(AND($AA6=7,T6<>\"\",U6<>\"\"),ort($T6,$U6,$AY$9:$AZ$9),\"\")","v":""},null,1.5,"m-vr",0,0.25,null,null,null,null,"00:00:00"]
[null,null,{"$f":"I6+1","v":"2018-08-06"},{"$f":"C7+1","v":"2018-08-07"},{"$f":"D7+1","v":"2018-08-08"},"2018-08-09","2018-08-10","2018-08-11","2018-08-12","","",{"$f":"DATE($B$3,$B$4,5)","v":"2018-08-05"},{"$f":"DATE($B$3,$B$4,5)","v":"2018-08-05"},null,"00:00:00",null,null,null,null,null,null,"","","","","",{"$f":"IF(ISERROR(IF(NOT(ISERROR(MATCH($M7,Blad2!$A$2:$A$11,0))),7,WEEKDAY($M7,2))),\"\",IF(NOT(ISERROR(MATCH($M7,Blad2!$A$2:$A$11,0))),7,WEEKDAY($M7,2)))","v":7},{"$f":"IF(AND($AA7<6,N7<>\"\",O7<>\"\"),ort($N7,$O7,$AY$3:$AZ$3),\"\")","v":""},{"$f":"IF(AND($AA7<6,N7<>\"\",O7<>\"\"),ort($N7,$O7,$AY$4:$AZ$5),\"\")","v":""},{"$f":"IF(AND($AA7<6,N7<>\"\",O7<>\"\"),ort($N7,$O7,$AY$6:$AZ$7),\"\")","v":""},{"$f":"IF(AND($AA7=6,N7<>\"\",O7<>\"\"),ort($N7,$O7,$AY$8:$AZ$8),\"\")","v":""},{"$f":"IF(AND($AA7=7,N7<>\"\",O7<>\"\"),ort($N7,$O7,$AY$9:$AZ$9),\"\")","v":""},{"$f":"IF(AND($AA7<6,P7<>\"\",Q7<>\"\"),ort($P7,$Q7,$AY$3:$AZ$3),\"\")","v":""},{"$f":"IF(AND($AA7<6,P7<>\"\",Q7<>\"\"),ort($P7,$Q7,$AY$4:$AZ$5),\"\")","v":""},{"$f":"IF(AND($AA7<6,P7<>\"\",Q7<>\"\"),ort($P7,$Q7,$AY$6:$AZ$7),\"\")","v":""},{"$f":"IF(AND($AA7=6,P7<>\"\",Q7<>\"\"),ort($P7,$Q7,$AY$8:$AZ$8),\"\")","v":""},{"$f":"IF(AND($AA7=7,P7<>\"\",Q7<>\"\"),ort($P7,$Q7,$AY$9:$AZ$9),\"\")","v":""},{"$f":"IF(AND($AA7<6,R7<>\"\",S7<>\"\"),ort($R7,$S7,$AY$3:$AZ$3),\"\")","v":""},{"$f":"IF(AND($AA7<6,R7<>\"\",S7<>\"\"),ort($R7,$S7,$AY$4:$AZ$5),\"\")","v":""},{"$f":"IF(AND($AA7<6,R7<>\"\",S7<>\"\"),ort($R7,$S7,$AY$6:$AZ$7),\"\")","v":""},{"$f":"IF(AND($AA7=6,R7<>\"\",S7<>\"\"),ort($R7,$S7,$AY$8:$AZ$8),\"\")","v":""},{"$f":"IF(AND($AA7=7,R7<>\"\",S7<>\"\"),ort($R7,$S7,$AY$9:$AZ$9),\"\")","v":""},{"$f":"IF(AND($AA7<6,T7<>\"\",U7<>\"\"),ort($T7,$U7,$AY$3:$AZ$3),\"\")","v":""},{"$f":"IF(AND($AA7<6,T7<>\"\",U7<>\"\"),ort($T7,$U7,$AY$4:$AZ$5),\"\")","v":""},{"$f":"IF(AND($AA7<6,T7<>\"\",U7<>\"\"),ort($T7,$U7,$AY$6:$AZ$7),\"\")","v":""},{"$f":"IF(AND($AA7=6,T7<>\"\",U7<>\"\"),ort($T7,$U7,$AY$8:$AZ$8),\"\")","v":""},{"$f":"IF(AND($AA7=7,T7<>\"\",U7<>\"\"),ort($T7,$U7,$AY$9:$AZ$9),\"\")","v":""},null,1.5,"m-vr",0.77083333333333337,1,null,null,null,null,{"$f":"SUM(BB7/18/24,BC7:BD7)","v":"00:00:00"}]
[null,null,{"$f":"I7+1","v":"2018-08-13"},{"$f":"C8+1","v":"2018-08-14"},"2018-08-15","2018-08-16","2018-08-17","2018-08-18","2018-08-19","",32,{"$f":"DATE($B$3,$B$4,6)","v":"2018-08-06"},{"$f":"DATE($B$3,$B$4,6)","v":"2018-08-06"},null,"00:00:00",null,null,null,null,null,null,"","","","","",{"$f":"IF(ISERROR(IF(NOT(ISERROR(MATCH($M8,Blad2!$A$2:$A$11,0))),7,WEEKDAY($M8,2))),\"\",IF(NOT(ISERROR(MATCH($M8,Blad2!$A$2:$A$11,0))),7,WEEKDAY($M8,2)))","v":1},{"$f":"IF(AND($AA8<6,N8<>\"\",O8<>\"\"),ort($N8,$O8,$AY$3:$AZ$3),\"\")","v":""},{"$f":"IF(AND($AA8<6,N8<>\"\",O8<>\"\"),ort($N8,$O8,$AY$4:$AZ$5),\"\")","v":""},{"$f":"IF(AND($AA8<6,N8<>\"\",O8<>\"\"),ort($N8,$O8,$AY$6:$AZ$7),\"\")","v":""},{"$f":"IF(AND($AA8=6,N8<>\"\",O8<>\"\"),ort($N8,$O8,$AY$8:$AZ$8),\"\")","v":""},{"$f":"IF(AND($AA8=7,N8<>\"\",O8<>\"\"),ort($N8,$O8,$AY$9:$AZ$9),\"\")","v":""},{"$f":"IF(AND($AA8<6,P8<>\"\",Q8<>\"\"),ort($P8,$Q8,$AY$3:$AZ$3),\"\")","v":""},{"$f":"IF(AND($AA8<6,P8<>\"\",Q8<>\"\"),ort($P8,$Q8,$AY$4:$AZ$5),\"\")","v":""},{"$f":"IF(AND($AA8<6,P8<>\"\",Q8<>\"\"),ort($P8,$Q8,$AY$6:$AZ$7),\"\")","v":""},{"$f":"IF(AND($AA8=6,P8<>\"\",Q8<>\"\"),ort($P8,$Q8,$AY$8:$AZ$8),\"\")","v":""},{"$f":"IF(AND($AA8=7,P8<>\"\",Q8<>\"\"),ort($P8,$Q8,$AY$9:$AZ$9),\"\")","v":""},{"$f":"IF(AND($AA8<6,R8<>\"\",S8<>\"\"),ort($R8,$S8,$AY$3:$AZ$3),\"\")","v":""},{"$f":"IF(AND($AA8<6,R8<>\"\",S8<>\"\"),ort($R8,$S8,$AY$4:$AZ$5),\"\")","v":""},{"$f":"IF(AND($AA8<6,R8<>\"\",S8<>\"\"),ort($R8,$S8,$AY$6:$AZ$7),\"\")","v":""},{"$f":"IF(AND($AA8=6,R8<>\"\",S8<>\"\"),ort($R8,$S8,$AY$8:$AZ$8),\"\")","v":""},{"$f":"IF(AND($AA8=7,R8<>\"\",S8<>\"\"),ort($R8,$S8,$AY$9:$AZ$9),\"\")","v":""},{"$f":"IF(AND($AA8<6,T8<>\"\",U8<>\"\"),ort($T8,$U8,$AY$3:$AZ$3),\"\")","v":""},{"$f":"IF(AND($AA8<6,T8<>\"\",U8<>\"\"),ort($T8,$U8,$AY$4:$AZ$5),\"\")","v":""},{"$f":"IF(AND($AA8<6,T8<>\"\",U8<>\"\"),ort($T8,$U8,$AY$6:$AZ$7),\"\")","v":""},{"$f":"IF(AND($AA8=6,T8<>\"\",U8<>\"\"),ort($T8,$U8,$AY$8:$AZ$8),\"\")","v":""},{"$f":"IF(AND($AA8=7,T8<>\"\",U8<>\"\"),ort($T8,$U8,$AY$9:$AZ$9),\"\")","v":""},null,1.5,"za",0,1,null,null,null,null,{"$f":"SUM(BB8/19/24,BC8:BD8)","v":"00:00:00"}]
[null,null,{"$f":"I8+1","v":"2018-08-20"},{"$f":"C9+1","v":"2018-08-21"},"2018-08-22","2018-08-23","2018-08-24","2018-08-25","2018-08-26","","",{"$f":"DATE($B$3,$B$4,7)","v":"2018-08-07"},{"$f":"DATE($B$3,$B$4,7)","v":"2018-08-07"},null,"00:00:00",null,null,null,null,null,null,"","","","","",{"$f":"IF(ISERROR(IF(NOT(ISERROR(MATCH($M9,Blad2!$A$2:$A$11,0))),7,WEEKDAY($M9,2))),\"\",IF(NOT(ISERROR(MATCH($M9,Blad2!$A$2:$A$11,0))),7,WEEKDAY($M9,2)))","v":2},{"$f":"IF(AND($AA9<6,N9<>\"\",O9<>\"\"),ort($N9,$O9,$AY$3:$AZ$3),\"\")","v":""},{"$f":"IF(AND($AA9<6,N9<>\"\",O9<>\"\"),ort($N9,$O9,$AY$4:$AZ$5),\"\")","v":""},{"$f":"IF(AND($AA9<6,N9<>\"\",O9<>\"\"),ort($N9,$O9,$AY$6:$AZ$7),\"\")","v":""},{"$f":"IF(AND($AA9=6,N9<>\"\",O9<>\"\"),ort($N9,$O9,$AY$8:$AZ$8),\"\")","v":""},{"$f":"IF(AND($AA9=7,N9<>\"\",O9<>\"\"),ort($N9,$O9,$AY$9:$AZ$9),\"\")","v":""},{"$f":"IF(AND($AA9<6,P9<>\"\",Q9<>\"\"),ort($P9,$Q9,$AY$3:$AZ$3),\"\")","v":""},{"$f":"IF(AND($AA9<6,P9<>\"\",Q9<>\"\"),ort($P9,$Q9,$AY$4:$AZ$5),\"\")","v":""},{"$f":"IF(AND($AA9<6,P9<>\"\",Q9<>\"\"),ort($P9,$Q9,$AY$6:$AZ$7),\"\")","v":""},{"$f":"IF(AND($AA9=6,P9<>\"\",Q9<>\"\"),ort($P9,$Q9,$AY$8:$AZ$8),\"\")","v":""},{"$f":"IF(AND($AA9=7,P9<>\"\",Q9<>\"\"),ort($P9,$Q9,$AY$9:$AZ$9),\"\")","v":""},{"$f":"IF(AND($AA9<6,R9<>\"\",S9<>\"\"),ort($R9,$S9,$AY$3:$AZ$3),\"\")","v":""},{"$f":"IF(AND($AA9<6,R9<>\"\",S9<>\"\"),ort($R9,$S9,$AY$4:$AZ$5),\"\")","v":""},{"$f":"IF(AND($AA9<6,R9<>\"\",S9<>\"\"),ort($R9,$S9,$AY$6:$AZ$7),\"\")","v":""},{"$f":"IF(AND($AA9=6,R9<>\"\",S9<>\"\"),ort($R9,$S9,$AY$8:$AZ$8),\"\")","v":""},{"$f":"IF(AND($AA9=7,R9<>\"\",S9<>\"\"),ort($R9,$S9,$AY$9:$AZ$9),\"\")","v":""},{"$f":"IF(AND($AA9<6,T9<>\"\",U9<>\"\"),ort($T9,$U9,$AY$3:$AZ$3),\"\")","v":""},{"$f":"IF(AND($AA9<6,T9<>\"\",U9<>\"\"),ort($T9,$U9,$AY$4:$AZ$5),\"\")","v":""},{"$f":"IF(AND($AA9<6,T9<>\"\",U9<>\"\"),ort($T9,$U9,$AY$6:$AZ$7),\"\")","v":""},{"$f":"IF(AND($AA9=6,T9<>\"\",U9<>\"\"),ort($T9,$U9,$AY$8:$AZ$8),\"\")","v":""},{"$f":"IF(AND($AA9=7,T9<>\"\",U9<>\"\"),ort($T9,$U9,$AY$9:$AZ$9),\"\")","v":""},null,2,"zo/feest",0,1,null,null,null,null,{"$f":"SUM(BB9/19/24,BC9:BD9)","v":"00:00:00"}]
[null,null,{"$f":"IF(I9=\"\",\"\",IF(MONTH(I9+1)=MONTH(I9),I9+1,\"\"))","v":"2018-08-27"},{"$f":"IF(C10=\"\",\"\",IF(MONTH(C10+1)=MONTH(C10),C10+1,\"\"))","v":"2018-08-28"},{"$f":"IF(D10=\"\",\"\",IF(MONTH(D10+1)=MONTH(D10),D10+1,\"\"))","v":"2018-08-29"},"2018-08-30","2018-08-31","","","","",{"$f":"DATE($B$3,$B$4,8)","v":"2018-08-08"},{"$f":"DATE($B$3,$B$4,8)","v":"2018-08-08"},null,"00:00:00",null,null,null,null,null,null,"","","","","",{"$f":"IF(ISERROR(IF(NOT(ISERROR(MATCH($M10,Blad2!$A$2:$A$11,0))),7,WEEKDAY($M10,2))),\"\",IF(NOT(ISERROR(MATCH($M10,Blad2!$A$2:$A$11,0))),7,WEEKDAY($M10,2)))","v":3},{"$f":"IF(AND($AA10<6,N10<>\"\",O10<>\"\"),ort($N10,$O10,$AY$3:$AZ$3),\"\")","v":""},{"$f":"IF(AND($AA10<6,N10<>\"\",O10<>\"\"),ort($N10,$O10,$AY$4:$AZ$5),\"\")","v":""},{"$f":"IF(AND($AA10<6,N10<>\"\",O10<>\"\"),ort($N10,$O10,$AY$6:$AZ$7),\"\")","v":""},{"$f":"IF(AND($AA10=6,N10<>\"\",O10<>\"\"),ort($N10,$O10,$AY$8:$AZ$8),\"\")","v":""},{"$f":"IF(AND($AA10=7,N10<>\"\",O10<>\"\"),ort($N10,$O10,$AY$9:$AZ$9),\"\")","v":""},{"$f":"IF(AND($AA10<6,P10<>\"\",Q10<>\"\"),ort($P10,$Q10,$AY$3:$AZ$3),\"\")","v":""},{"$f":"IF(AND($AA10<6,P10<>\"\",Q10<>\"\"),ort($P10,$Q10,$AY$4:$AZ$5),\"\")","v":""},{"$f":"IF(AND($AA10<6,P10<>\"\",Q10<>\"\"),ort($P10,$Q10,$AY$6:$AZ$7),\"\")","v":""},{"$f":"IF(AND($AA10=6,P10<>\"\",Q10<>\"\"),ort($P10,$Q10,$AY$8:$AZ$8),\"\")","v":""},{"$f":"IF(AND($AA10=7,P10<>\"\",Q10<>\"\"),ort($P10,$Q10,$AY$9:$AZ$9),\"\")","v":""},{"$f":"IF(AND($AA10<6,R10<>\"\",S10<>\"\"),ort($R10,$S10,$AY$3:$AZ$3),\"\")","v":""},{"$f":"IF(AND($AA10<6,R10<>\"\",S10<>\"\"),ort($R10,$S10,$AY$4:$AZ$5),\"\")","v":""},{"$f":"IF(AND($AA10<6,R10<>\"\",S10<>\"\"),ort($R10,$S10,$AY$6:$AZ$7),\"\")","v":""},{"$f":"IF(AND($AA10=6,R10<>\"\",S10<>\"\"),ort($R10,$S10,$AY$8:$AZ$8),\"\")","v":""},{"$f":"IF(AND($AA10=7,R10<>\"\",S10<>\"\"),ort($R10,$S10,$AY$9:$AZ$9),\"\")","v":""},{"$f":"IF(AND($AA10<6,T10<>\"\",U10<>\"\"),ort($T10,$U10,$AY$3:$AZ$3),\"\")","v":""},{"$f":"IF(AND($AA10<6,T10<>\"\",U10<>\"\"),ort($T10,$U10,$AY$4:$AZ$5),\"\")","v":""},{"$f":"IF(AND($AA10<6,T10<>\"\",U10<>\"\"),ort($T10,$U10,$AY$6:$AZ$7),\"\")","v":""},{"$f":"IF(AND($AA10=6,T10<>\"\",U10<>\"\"),ort($T10,$U10,$AY$8:$AZ$8),\"\")","v":""},{"$f":"IF(AND($AA10=7,T10<>\"\",U10<>\"\"),ort($T10,$U10,$AY$9:$AZ$9),\"\")","v":""},null,null,null,null,null,null,null,null,null,{"$f":"SUM(BB10/18/24,BC10:BD10)","v":"00:00:00"}]
[null,null,{"$f":"IF(I10=\"\",\"\",IF(MONTH(I10+1)=MONTH(I10),I10+1,\"\"))","v":""},{"$f":"IF(C11=\"\",\"\",IF(MONTH(C11+1)=MONTH(C11),C11+1,\"\"))","v":""},"","","","","","","",{"$f":"DATE($B$3,$B$4,9)","v":"2018-08-09"},{"$f":"DATE($B$3,$B$4,9)","v":"2018-08-09"},null,"00:00:00",null,null,null,null,null,null,"","","","","",{"$f":"IF(ISERROR(IF(NOT(ISERROR(MATCH($M11,Blad2!$A$2:$A$11,0))),7,WEEKDAY($M11,2))),\"\",IF(NOT(ISERROR(MATCH($M11,Blad2!$A$2:$A$11,0))),7,WEEKDAY($M11,2)))","v":4},{"$f":"IF(AND($AA11<6,N11<>\"\",O11<>\"\"),ort($N11,$O11,$AY$3:$AZ$3),\"\")","v":""},{"$f":"IF(AND($AA11<6,N11<>\"\",O11<>\"\"),ort($N11,$O11,$AY$4:$AZ$5),\"\")","v":""},{"$f":"IF(AND($AA11<6,N11<>\"\",O11<>\"\"),ort($N11,$O11,$AY$6:$AZ$7),\"\")","v":""},{"$f":"IF(AND($AA11=6,N11<>\"\",O11<>\"\"),ort($N11,$O11,$AY$8:$AZ$8),\"\")","v":""},{"$f":"IF(AND($AA11=7,N11<>\"\",O11<>\"\"),ort($N11,$O11,$AY$9:$AZ$9),\"\")","v":""},{"$f":"IF(AND($AA11<6,P11<>\"\",Q11<>\"\"),ort($P11,$Q11,$AY$3:$AZ$3),\"\")","v":""},{"$f":"IF(AND($AA11<6,P11<>\"\",Q11<>\"\"),ort($P11,$Q11,$AY$4:$AZ$5),\"\")","v":""},{"$f":"IF(AND($AA11<6,P11<>\"\",Q11<>\"\"),ort($P11,$Q11,$AY$6:$AZ$7),\"\")","v":""},{"$f":"IF(AND($AA11=6,P11<>\"\",Q11<>\"\"),ort($P11,$Q11,$AY$8:$AZ$8),\"\")","v":""},{"$f":"IF(AND($AA11=7,P11<>\"\",Q11<>\"\"),ort($P11,$Q11,$AY$9:$AZ$9),\"\")","v":""},{"$f":"IF(AND($AA11<6,R11<>\"\",S11<>\"\"),ort($R11,$S11,$AY$3:$AZ$3),\"\")","v":""},{"$f":"IF(AND($AA11<6,R11<>\"\",S11<>\"\"),ort($R11,$S11,$AY$4:$AZ$5),\"\")","v":""},{"$f":"IF(AND($AA11<6,R11<>\"\",S11<>\"\"),ort($R11,$S11,$AY$6:$AZ$7),\"\")","v":""},{"$f":"IF(AND($AA11=6,R11<>\"\",S11<>\"\"),ort($R11,$S11,$AY$8:$AZ$8),\"\")","v":""},{"$f":"IF(AND($AA11=7,R11<>\"\",S11<>\"\"),ort($R11,$S11,$AY$9:$AZ$9),\"\")","v":""},{"$f":"IF(AND($AA11<6,T11<>\"\",U11<>\"\"),ort($T11,$U11,$AY$3:$AZ$3),\"\")","v":""},{"$f":"IF(AND($AA11<6,T11<>\"\",U11<>\"\"),ort($T11,$U11,$AY$4:$AZ$5),\"\")","v":""},{"$f":"IF(AND($AA11<6,T11<>\"\",U11<>\"\"),ort($T11,$U11,$AY$6:$AZ$7),\"\")","v":""},{"$f":"IF(AND($AA11=6,T11<>\"\",U11<>\"\"),ort($T11,$U11,$AY$8:$AZ$8),\"\")","v":""},{"$f":"IF(AND($AA11=7,T11<>\"\",U11<>\"\"),ort($T11,$U11,$AY$9:$AZ$9),\"\")","v":""},null,null,null,null,null,null,null,null,null,"00:00:00"]
[null,null,null,null,null,null,null,null,null,"","",{"$f":"DATE($B$3,$B$4,10)","v":"2018-08-10"},{"$f":"DATE($B$3,$B$4,10)","v":"2018-08-10"},null,"00:00:00",null,null,null,null,null,null,"","","","","",{"$f":"IF(ISERROR(IF(NOT(ISERROR(MATCH($M12,Blad2!$A$2:$A$11,0))),7,WEEKDAY($M12,2))),\"\",IF(NOT(ISERROR(MATCH($M12,Blad2!$A$2:$A$11,0))),7,WEEKDAY($M12,2)))","v":5},{"$f":"IF(AND($AA12<6,N12<>\"\",O12<>\"\"),ort($N12,$O12,$AY$3:$AZ$3),\"\")","v":""},{"$f":"IF(AND($AA12<6,N12<>\"\",O12<>\"\"),ort($N12,$O12,$AY$4:$AZ$5),\"\")","v":""},{"$f":"IF(AND($AA12<6,N12<>\"\",O12<>\"\"),ort($N12,$O12,$AY$6:$AZ$7),\"\")","v":""},{"$f":"IF(AND($AA12=6,N12<>\"\",O12<>\"\"),ort($N12,$O12,$AY$8:$AZ$8),\"\")","v":""},{"$f":"IF(AND($AA12=7,N12<>\"\",O12<>\"\"),ort($N12,$O12,$AY$9:$AZ$9),\"\")","v":""},{"$f":"IF(AND($AA12<6,P12<>\"\",Q12<>\"\"),ort($P12,$Q12,$AY$3:$AZ$3),\"\")","v":""},{"$f":"IF(AND($AA12<6,P12<>\"\",Q12<>\"\"),ort($P12,$Q12,$AY$4:$AZ$5),\"\")","v":""},{"$f":"IF(AND($AA12<6,P12<>\"\",Q12<>\"\"),ort($P12,$Q12,$AY$6:$AZ$7),\"\")","v":""},{"$f":"IF(AND($AA12=6,P12<>\"\",Q12<>\"\"),ort($P12,$Q12,$AY$8:$AZ$8),\"\")","v":""},{"$f":"IF(AND($AA12=7,P12<>\"\",Q12<>\"\"),ort($P12,$Q12,$AY$9:$AZ$9),\"\")","v":""},{"$f":"IF(AND($AA12<6,R12<>\"\",S12<>\"\"),ort($R12,$S12,$AY$3:$AZ$3),\"\")","v":""},{"$f":"IF(AND($AA12<6,R12<>\"\",S12<>\"\"),ort($R12,$S12,$AY$4:$AZ$5),\"\")","v":""},{"$f":"IF(AND($AA12<6,R12<>\"\",S12<>\"\"),ort($R12,$S12,$AY$6:$AZ$7),\"\")","v":""},{"$f":"IF(AND($AA12=6,R12<>\"\",S12<>\"\"),ort($R12,$S12,$AY$8:$AZ$8),\"\")","v":""},{"$f":"IF(AND($AA12=7,R12<>\"\",S12<>\"\"),ort($R12,$S12,$AY$9:$AZ$9),\"\")","v":""},{"$f":"IF(AND($AA12<6,T12<>\"\",U12<>\"\"),ort($T12,$U12,$AY$3:$AZ$3),\"\")","v":""},{"$f":"IF(AND($AA12<6,T12<>\"\",U12<>\"\"),ort($T12,$U12,$AY$4:$AZ$5),\"\")","v":""},{"$f":"IF(AND($AA12<6,T12<>\"\",U12<>\"\"),ort($T12,$U12,$AY$6:$AZ$7),\"\")","v":""},{"$f":"IF(AND($AA12=6,T12<>\"\",U12<>\"\"),ort($T12,$U12,$AY$8:$AZ$8),\"\")","v":""},{"$f":"IF(AND($AA12=7,T12<>\"\",U12<>\"\"),ort($T12,$U12,$AY$9:$AZ$9),\"\")","v":""},null,null,null,null,null,null,null,null,null,"00:00:00"]
[null,"Werkdagen deze maand",null,null,null,null,null,null,null,"","",{"$f":"DATE($B$3,$B$4,11)","v":"2018-08-11"},{"$f":"DATE($B$3,$B$4,11)","v":"2018-08-11"},null,"00:00:00",null,null,null,null,null,null,"","","","","",{"$f":"IF(ISERROR(IF(NOT(ISERROR(MATCH($M13,Blad2!$A$2:$A$11,0))),7,WEEKDAY($M13,2))),\"\",IF(NOT(ISERROR(MATCH($M13,Blad2!$A$2:$A$11,0))),7,WEEKDAY($M13,2)))","v":6},{"$f":"IF(AND($AA13<6,N13<>\"\",O13<>\"\"),ort($N13,$O13,$AY$3:$AZ$3),\"\")","v":""},{"$f":"IF(AND($AA13<6,N13<>\"\",O13<>\"\"),ort($N13,$O13,$AY$4:$AZ$5),\"\")","v":""},{"$f":"IF(AND($AA13<6,N13<>\"\",O13<>\"\"),ort($N13,$O13,$AY$6:$AZ$7),\"\")","v":""},{"$f":"IF(AND($AA13=6,N13<>\"\",O13<>\"\"),ort($N13,$O13,$AY$8:$AZ$8),\"\")","v":""},{"$f":"IF(AND($AA13=7,N13<>\"\",O13<>\"\"),ort($N13,$O13,$AY$9:$AZ$9),\"\")","v":""},{"$f":"IF(AND($AA13<6,P13<>\"\",Q13<>\"\"),ort($P13,$Q13,$AY$3:$AZ$3),\"\")","v":""},{"$f":"IF(AND($AA13<6,P13<>\"\",Q13<>\"\"),ort($P13,$Q13,$AY$4:$AZ$5),\"\")","v":""},{"$f":"IF(AND($AA13<6,P13<>\"\",Q13<>\"\"),ort($P13,$Q13,$AY$6:$AZ$7),\"\")","v":""},{"$f":"IF(AND($AA13=6,P13<>\"\",Q13<>\"\"),ort($P13,$Q13,$AY$8:$AZ$8),\"\")","v":""},{"$f":"IF(AND($AA13=7,P13<>\"\",Q13<>\"\"),ort($P13,$Q13,$AY$9:$AZ$9),\"\")","v":""},{"$f":"IF(AND($AA13<6,R13<>\"\",S13<>\"\"),ort($R13,$S13,$AY$3:$AZ$3),\"\")","v":""},{"$f":"IF(AND($AA13<6,R13<>\"\",S13<>\"\"),ort($R13,$S13,$AY$4:$AZ$5),\"\")","v":""},{"$f":"IF(AND($AA13<6,R13<>\"\",S13<>\"\"),ort($R13,$S13,$AY$6:$AZ$7),\"\")","v":""},{"$f":"IF(AND($AA13=6,R13<>\"\",S13<>\"\"),ort($R13,$S13,$AY$8:$AZ$8),\"\")","v":""},{"$f":"IF(AND($AA13=7,R13<>\"\",S13<>\"\"),ort($R13,$S13,$AY$9:$AZ$9),\"\")","v":""},{"$f":"IF(AND($AA13<6,T13<>\"\",U13<>\"\"),ort($T13,$U13,$AY$3:$AZ$3),\"\")","v":""},{"$f":"IF(AND($AA13<6,T13<>\"\",U13<>\"\"),ort($T13,$U13,$AY$4:$AZ$5),\"\")","v":""},{"$f":"IF(AND($AA13<6,T13<>\"\",U13<>\"\"),ort($T13,$U13,$AY$6:$AZ$7),\"\")","v":""},{"$f":"IF(AND($AA13=6,T13<>\"\",U13<>\"\"),ort($T13,$U13,$AY$8:$AZ$8),\"\")","v":""},{"$f":"IF(AND($AA13=7,T13<>\"\",U13<>\"\"),ort($T13,$U13,$AY$9:$AZ$9),\"\")","v":""},null,null,null,null,null,null,null,null,null,"00:00:00"]
[null,{"$f":"NETWORKDAYS($L$3,EOMONTH($L$3,0),Blad2!A2:A97)&\" dagen\"","v":"23 dagen"},null,null,null,null,null,null,null,"","",{"$f":"DATE($B$3,$B$4,12)","v":"2018-08-12"},{"$f":"DATE($B$3,$B$4,12)","v":"2018-08-12"},null,"00:00:00",null,null,null,null,null,null,"","","","","",{"$f":"IF(ISERROR(IF(NOT(ISERROR(MATCH($M14,Blad2!$A$2:$A$11,0))),7,WEEKDAY($M14,2))),\"\",IF(NOT(ISERROR(MATCH($M14,Blad2!$A$2:$A$11,0))),7,WEEKDAY($M14,2)))","v":7},{"$f":"IF(AND($AA14<6,N14<>\"\",O14<>\"\"),ort($N14,$O14,$AY$3:$AZ$3),\"\")","v":""},{"$f":"IF(AND($AA14<6,N14<>\"\",O14<>\"\"),ort($N14,$O14,$AY$4:$AZ$5),\"\")","v":""},{"$f":"IF(AND($AA14<6,N14<>\"\",O14<>\"\"),ort($N14,$O14,$AY$6:$AZ$7),\"\")","v":""},{"$f":"IF(AND($AA14=6,N14<>\"\",O14<>\"\"),ort($N14,$O14,$AY$8:$AZ$8),\"\")","v":""},{"$f":"IF(AND($AA14=7,N14<>\"\",O14<>\"\"),ort($N14,$O14,$AY$9:$AZ$9),\"\")","v":""},{"$f":"IF(AND($AA14<6,P14<>\"\",Q14<>\"\"),ort($P14,$Q14,$AY$3:$AZ$3),\"\")","v":""},{"$f":"IF(AND($AA14<6,P14<>\"\",Q14<>\"\"),ort($P14,$Q14,$AY$4:$AZ$5),\"\")","v":""},{"$f":"IF(AND($AA14<6,P14<>\"\",Q14<>\"\"),ort($P14,$Q14,$AY$6:$AZ$7),\"\")","v":""},{"$f":"IF(AND($AA14=6,P14<>\"\",Q14<>\"\"),ort($P14,$Q14,$AY$8:$AZ$8),\"\")","v":""},{"$f":"IF(AND($AA14=7,P14<>\"\",Q14<>\"\"),ort($P14,$Q14,$AY$9:$AZ$9),\"\")","v":""},{"$f":"IF(AND($AA14<6,R14<>\"\",S14<>\"\"),ort($R14,$S14,$AY$3:$AZ$3),\"\")","v":""},{"$f":"IF(AND($AA14<6,R14<>\"\",S14<>\"\"),ort($R14,$S14,$AY$4:$AZ$5),\"\")","v":""},{"$f":"IF(AND($AA14<6,R14<>\"\",S14<>\"\"),ort($R14,$S14,$AY$6:$AZ$7),\"\")","v":""},{"$f":"IF(AND($AA14=6,R14<>\"\",S14<>\"\"),ort($R14,$S14,$AY$8:$AZ$8),\"\")","v":""},{"$f":"IF(AND($AA14=7,R14<>\"\",S14<>\"\"),ort($R14,$S14,$AY$9:$AZ$9),\"\")","v":""},{"$f":"IF(AND($AA14<6,T14<>\"\",U14<>\"\"),ort($T14,$U14,$AY$3:$AZ$3),\"\")","v":""},{"$f":"IF(AND($AA14<6,T14<>\"\",U14<>\"\"),ort($T14,$U14,$AY$4:$AZ$5),\"\")","v":""},{"$f":"IF(AND($AA14<6,T14<>\"\",U14<>\"\"),ort($T14,$U14,$AY$6:$AZ$7),\"\")","v":""},{"$f":"IF(AND($AA14=6,T14<>\"\",U14<>\"\"),ort($T14,$U14,$AY$8:$AZ$8),\"\")","v":""},{"$f":"IF(AND($AA14=7,T14<>\"\",U14<>\"\"),ort($T14,$U14,$AY$9:$AZ$9),\"\")","v":""},null,null,null,null,null,null,null,null,null,"00:00:00"]
[null,null,null,null,null,null,null,null,null,"",33,{"$f":"DATE($B$3,$B$4,13)","v":"2018-08-13"},{"$f":"DATE($B$3,$B$4,13)","v":"2018-08-13"},null,"00:00:00",null,null,null,null,null,null,"","","","","",{"$f":"IF(ISERROR(IF(NOT(ISERROR(MATCH($M15,Blad2!$A$2:$A$11,0))),7,WEEKDAY($M15,2))),\"\",IF(NOT(ISERROR(MATCH($M15,Blad2!$A$2:$A$11,0))),7,WEEKDAY($M15,2)))","v":1},{"$f":"IF(AND($AA15<6,N15<>\"\",O15<>\"\"),ort($N15,$O15,$AY$3:$AZ$3),\"\")","v":""},{"$f":"IF(AND($AA15<6,N15<>\"\",O15<>\"\"),ort($N15,$O15,$AY$4:$AZ$5),\"\")","v":""},{"$f":"IF(AND($AA15<6,N15<>\"\",O15<>\"\"),ort($N15,$O15,$AY$6:$AZ$7),\"\")","v":""},{"$f":"IF(AND($AA15=6,N15<>\"\",O15<>\"\"),ort($N15,$O15,$AY$8:$AZ$8),\"\")","v":""},{"$f":"IF(AND($AA15=7,N15<>\"\",O15<>\"\"),ort($N15,$O15,$AY$9:$AZ$9),\"\")","v":""},{"$f":"IF(AND($AA15<6,P15<>\"\",Q15<>\"\"),ort($P15,$Q15,$AY$3:$AZ$3),\"\")","v":""},{"$f":"IF(AND($AA15<6,P15<>\"\",Q15<>\"\"),ort($P15,$Q15,$AY$4:$AZ$5),\"\")","v":""},{"$f":"IF(AND($AA15<6,P15<>\"\",Q15<>\"\"),ort($P15,$Q15,$AY$6:$AZ$7),\"\")","v":""},{"$f":"IF(AND($AA15=6,P15<>\"\",Q15<>\"\"),ort($P15,$Q15,$AY$8:$AZ$8),\"\")","v":""},{"$f":"IF(AND($AA15=7,P15<>\"\",Q15<>\"\"),ort($P15,$Q15,$AY$9:$AZ$9),\"\")","v":""},{"$f":"IF(AND($AA15<6,R15<>\"\",S15<>\"\"),ort($R15,$S15,$AY$3:$AZ$3),\"\")","v":""},{"$f":"IF(AND($AA15<6,R15<>\"\",S15<>\"\"),ort($R15,$S15,$AY$4:$AZ$5),\"\")","v":""},{"$f":"IF(AND($AA15<6,R15<>\"\",S15<>\"\"),ort($R15,$S15,$AY$6:$AZ$7),\"\")","v":""},{"$f":"IF(AND($AA15=6,R15<>\"\",S15<>\"\"),ort($R15,$S15,$AY$8:$AZ$8),\"\")","v":""},{"$f":"IF(AND($AA15=7,R15<>\"\",S15<>\"\"),ort($R15,$S15,$AY$9:$AZ$9),\"\")","v":""},{"$f":"IF(AND($AA15<6,T15<>\"\",U15<>\"\"),ort($T15,$U15,$AY$3:$AZ$3),\"\")","v":""},{"$f":"IF(AND($AA15<6,T15<>\"\",U15<>\"\"),ort($T15,$U15,$AY$4:$AZ$5),\"\")","v":""},{"$f":"IF(AND($AA15<6,T15<>\"\",U15<>\"\"),ort($T15,$U15,$AY$6:$AZ$7),\"\")","v":""},{"$f":"IF(AND($AA15=6,T15<>\"\",U15<>\"\"),ort($T15,$U15,$AY$8:$AZ$8),\"\")","v":""},{"$f":"IF(AND($AA15=7,T15<>\"\",U15<>\"\"),ort($T15,$U15,$AY$9:$AZ$9),\"\")","v":""},null,null,null,null,null,null,null,null,null,"00:00:00"]
[null,"Contract Uren",null,null,null,null,null,null,null,"","",{"$f":"DATE($B$3,$B$4,14)","v":"2018-08-14"},{"$f":"DATE($B$3,$B$4,14)","v":"2018-08-14"},null,"00:00:00",null,null,null,null,null,null,"","","","","",{"$f":"IF(ISERROR(IF(NOT(ISERROR(MATCH($M16,Blad2!$A$2:$A$11,0))),7,WEEKDAY($M16,2))),\"\",IF(NOT(ISERROR(MATCH($M16,Blad2!$A$2:$A$11,0))),7,WEEKDAY($M16,2)))","v":2},{"$f":"IF(AND($AA16<6,N16<>\"\",O16<>\"\"),ort($N16,$O16,$AY$3:$AZ$3),\"\")","v":""},{"$f":"IF(AND($AA16<6,N16<>\"\",O16<>\"\"),ort($N16,$O16,$AY$4:$AZ$5),\"\")","v":""},{"$f":"IF(AND($AA16<6,N16<>\"\",O16<>\"\"),ort($N16,$O16,$AY$6:$AZ$7),\"\")","v":""},{"$f":"IF(AND($AA16=6,N16<>\"\",O16<>\"\"),ort($N16,$O16,$AY$8:$AZ$8),\"\")","v":""},{"$f":"IF(AND($AA16=7,N16<>\"\",O16<>\"\"),ort($N16,$O16,$AY$9:$AZ$9),\"\")","v":""},{"$f":"IF(AND($AA16<6,P16<>\"\",Q16<>\"\"),ort($P16,$Q16,$AY$3:$AZ$3),\"\")","v":""},{"$f":"IF(AND($AA16<6,P16<>\"\",Q16<>\"\"),ort($P16,$Q16,$AY$4:$AZ$5),\"\")","v":""},{"$f":"IF(AND($AA16<6,P16<>\"\",Q16<>\"\"),ort($P16,$Q16,$AY$6:$AZ$7),\"\")","v":""},{"$f":"IF(AND($AA16=6,P16<>\"\",Q16<>\"\"),ort($P16,$Q16,$AY$8:$AZ$8),\"\")","v":""},{"$f":"IF(AND($AA16=7,P16<>\"\",Q16<>\"\"),ort($P16,$Q16,$AY$9:$AZ$9),\"\")","v":""},{"$f":"IF(AND($AA16<6,R16<>\"\",S16<>\"\"),ort($R16,$S16,$AY$3:$AZ$3),\"\")","v":""},{"$f":"IF(AND($AA16<6,R16<>\"\",S16<>\"\"),ort($R16,$S16,$AY$4:$AZ$5),\"\")","v":""},{"$f":"IF(AND($AA16<6,R16<>\"\",S16<>\"\"),ort($R16,$S16,$AY$6:$AZ$7),\"\")","v":""},{"$f":"IF(AND($AA16=6,R16<>\"\",S16<>\"\"),ort($R16,$S16,$AY$8:$AZ$8),\"\")","v":""},{"$f":"IF(AND($AA16=7,R16<>\"\",S16<>\"\"),ort($R16,$S16,$AY$9:$AZ$9),\"\")","v":""},{"$f":"IF(AND($AA16<6,T16<>\"\",U16<>\"\"),ort($T16,$U16,$AY$3:$AZ$3),\"\")","v":""},{"$f":"IF(AND($AA16<6,T16<>\"\",U16<>\"\"),ort($T16,$U16,$AY$4:$AZ$5),\"\")","v":""},{"$f":"IF(AND($AA16<6,T16<>\"\",U16<>\"\"),ort($T16,$U16,$AY$6:$AZ$7),\"\")","v":""},{"$f":"IF(AND($AA16=6,T16<>\"\",U16<>\"\"),ort($T16,$U16,$AY$8:$AZ$8),\"\")","v":""},{"$f":"IF(AND($AA16=7,T16<>\"\",U16<>\"\"),ort($T16,$U16,$AY$9:$AZ$9),\"\")","v":""},null,null,null,null,null,null,null,null,null,"00:00:00"]
[null,3.75,null,null,null,null,null,null,null,"","",{"$f":"DATE($B$3,$B$4,15)","v":"2018-08-15"},{"$f":"DATE($B$3,$B$4,15)","v":"2018-08-15"},null,"00:00:00",null,null,null,null,null,null,"","","","","",{"$f":"IF(ISERROR(IF(NOT(ISERROR(MATCH($M17,Blad2!$A$2:$A$11,0))),7,WEEKDAY($M17,2))),\"\",IF(NOT(ISERROR(MATCH($M17,Blad2!$A$2:$A$11,0))),7,WEEKDAY($M17,2)))","v":3},{"$f":"IF(AND($AA17<6,N17<>\"\",O17<>\"\"),ort($N17,$O17,$AY$3:$AZ$3),\"\")","v":""},{"$f":"IF(AND($AA17<6,N17<>\"\",O17<>\"\"),ort($N17,$O17,$AY$4:$AZ$5),\"\")","v":""},{"$f":"IF(AND($AA17<6,N17<>\"\",O17<>\"\"),ort($N17,$O17,$AY$6:$AZ$7),\"\")","v":""},{"$f":"IF(AND($AA17=6,N17<>\"\",O17<>\"\"),ort($N17,$O17,$AY$8:$AZ$8),\"\")","v":""},{"$f":"IF(AND($AA17=7,N17<>\"\",O17<>\"\"),ort($N17,$O17,$AY$9:$AZ$9),\"\")","v":""},{"$f":"IF(AND($AA17<6,P17<>\"\",Q17<>\"\"),ort($P17,$Q17,$AY$3:$AZ$3),\"\")","v":""},{"$f":"IF(AND($AA17<6,P17<>\"\",Q17<>\"\"),ort($P17,$Q17,$AY$4:$AZ$5),\"\")","v":""},{"$f":"IF(AND($AA17<6,P17<>\"\",Q17<>\"\"),ort($P17,$Q17,$AY$6:$AZ$7),\"\")","v":""},{"$f":"IF(AND($AA17=6,P17<>\"\",Q17<>\"\"),ort($P17,$Q17,$AY$8:$AZ$8),\"\")","v":""},{"$f":"IF(AND($AA17=7,P17<>\"\",Q17<>\"\"),ort($P17,$Q17,$AY$9:$AZ$9),\"\")","v":""},{"$f":"IF(AND($AA17<6,R17<>\"\",S17<>\"\"),ort($R17,$S17,$AY$3:$AZ$3),\"\")","v":""},{"$f":"IF(AND($AA17<6,R17<>\"\",S17<>\"\"),ort($R17,$S17,$AY$4:$AZ$5),\"\")","v":""},{"$f":"IF(AND($AA17<6,R17<>\"\",S17<>\"\"),ort($R17,$S17,$AY$6:$AZ$7),\"\")","v":""},{"$f":"IF(AND($AA17=6,R17<>\"\",S17<>\"\"),ort($R17,$S17,$AY$8:$AZ$8),\"\")","v":""},{"$f":"IF(AND($AA17=7,R17<>\"\",S17<>\"\"),ort($R17,$S17,$AY$9:$AZ$9),\"\")","v":""},{"$f":"IF(AND($AA17<6,T17<>\"\",U17<>\"\"),ort($T17,$U17,$AY$3:$AZ$3),\"\")","v":""},{"$f":"IF(AND($AA17<6,T17<>\"\",U17<>\"\"),ort($T17,$U17,$AY$4:$AZ$5),\"\")","v":""},{"$f":"IF(AND($AA17<6,T17<>\"\",U17<>\"\"),ort($T17,$U17,$AY$6:$AZ$7),\"\")","v":""},{"$f":"IF(AND($AA17=6,T17<>\"\",U17<>\"\"),ort($T17,$U17,$AY$8:$AZ$8),\"\")","v":""},{"$f":"IF(AND($AA17=7,T17<>\"\",U17<>\"\"),ort($T17,$U17,$AY$9:$AZ$9),\"\")","v":""},null,null,null,null,null,null,null,null,null,"00:00:00"]
[null,null,null,null,null,null,null,null,null,"","",{"$f":"DATE($B$3,$B$4,16)","v":"2018-08-16"},{"$f":"DATE($B$3,$B$4,16)","v":"2018-08-16"},null,"00:00:00",null,null,null,null,null,null,"","","","","",{"$f":"IF(ISERROR(IF(NOT(ISERROR(MATCH($M18,Blad2!$A$2:$A$11,0))),7,WEEKDAY($M18,2))),\"\",IF(NOT(ISERROR(MATCH($M18,Blad2!$A$2:$A$11,0))),7,WEEKDAY($M18,2)))","v":4},{"$f":"IF(AND($AA18<6,N18<>\"\",O18<>\"\"),ort($N18,$O18,$AY$3:$AZ$3),\"\")","v":""},{"$f":"IF(AND($AA18<6,N18<>\"\",O18<>\"\"),ort($N18,$O18,$AY$4:$AZ$5),\"\")","v":""},{"$f":"IF(AND($AA18<6,N18<>\"\",O18<>\"\"),ort($N18,$O18,$AY$6:$AZ$7),\"\")","v":""},{"$f":"IF(AND($AA18=6,N18<>\"\",O18<>\"\"),ort($N18,$O18,$AY$8:$AZ$8),\"\")","v":""},{"$f":"IF(AND($AA18=7,N18<>\"\",O18<>\"\"),ort($N18,$O18,$AY$9:$AZ$9),\"\")","v":""},{"$f":"IF(AND($AA18<6,P18<>\"\",Q18<>\"\"),ort($P18,$Q18,$AY$3:$AZ$3),\"\")","v":""},{"$f":"IF(AND($AA18<6,P18<>\"\",Q18<>\"\"),ort($P18,$Q18,$AY$4:$AZ$5),\"\")","v":""},{"$f":"IF(AND($AA18<6,P18<>\"\",Q18<>\"\"),ort($P18,$Q18,$AY$6:$AZ$7),\"\")","v":""},{"$f":"IF(AND($AA18=6,P18<>\"\",Q18<>\"\"),ort($P18,$Q18,$AY$8:$AZ$8),\"\")","v":""},{"$f":"IF(AND($AA18=7,P18<>\"\",Q18<>\"\"),ort($P18,$Q18,$AY$9:$AZ$9),\"\")","v":""},{"$f":"IF(AND($AA18<6,R18<>\"\",S18<>\"\"),ort($R18,$S18,$AY$3:$AZ$3),\"\")","v":""},{"$f":"IF(AND($AA18<6,R18<>\"\",S18<>\"\"),ort($R18,$S18,$AY$4:$AZ$5),\"\")","v":""},{"$f":"IF(AND($AA18<6,R18<>\"\",S18<>\"\"),ort($R18,$S18,$AY$6:$AZ$7),\"\")","v":""},{"$f":"IF(AND($AA18=6,R18<>\"\",S18<>\"\"),ort($R18,$S18,$AY$8:$AZ$8),\"\")","v":""},{"$f":"IF(AND($AA18=7,R18<>\"\",S18<>\"\"),ort($R18,$S18,$AY$9:$AZ$9),\"\")","v":""},{"$f":"IF(AND($AA18<6,T18<>\"\",U18<>\"\"),ort($T18,$U18,$AY$3:$AZ$3),\"\")","v":""},{"$f":"IF(AND($AA18<6,T18<>\"\",U18<>\"\"),ort($T18,$U18,$AY$4:$AZ$5),\"\")","v":""},{"$f":"IF(AND($AA18<6,T18<>\"\",U18<>\"\"),ort($T18,$U18,$AY$6:$AZ$7),\"\")","v":""},{"$f":"IF(AND($AA18=6,T18<>\"\",U18<>\"\"),ort($T18,$U18,$AY$8:$AZ$8),\"\")","v":""},{"$f":"IF(AND($AA18=7,T18<>\"\",U18<>\"\"),ort($T18,$U18,$AY$9:$AZ$9),\"\")","v":""},null,null,null,null,null,null,null,null,null,"00:00:00"]
[null,"Gewerkte uren deze maand",null,null,null,null,null,null,null,"","",{"$f":"DATE($B$3,$B$4,17)","v":"2018-08-17"},{"$f":"DATE($B$3,$B$4,17)","v":"2018-08-17"},null,"00:00:00",null,null,null,null,null,null,"","","","","",{"$f":"IF(ISERROR(IF(NOT(ISERROR(MATCH($M19,Blad2!$A$2:$A$11,0))),7,WEEKDAY($M19,2))),\"\",IF(NOT(ISERROR(MATCH($M19,Blad2!$A$2:$A$11,0))),7,WEEKDAY($M19,2)))","v":5},{"$f":"IF(AND($AA19<6,N19<>\"\",O19<>\"\"),ort($N19,$O19,$AY$3:$AZ$3),\"\")","v":""},{"$f":"IF(AND($AA19<6,N19<>\"\",O19<>\"\"),ort($N19,$O19,$AY$4:$AZ$5),\"\")","v":""},{"$f":"IF(AND($AA19<6,N19<>\"\",O19<>\"\"),ort($N19,$O19,$AY$6:$AZ$7),\"\")","v":""},{"$f":"IF(AND($AA19=6,N19<>\"\",O19<>\"\"),ort($N19,$O19,$AY$8:$AZ$8),\"\")","v":""},{"$f":"IF(AND($AA19=7,N19<>\"\",O19<>\"\"),ort($N19,$O19,$AY$9:$AZ$9),\"\")","v":""},{"$f":"IF(AND($AA19<6,P19<>\"\",Q19<>\"\"),ort($P19,$Q19,$AY$3:$AZ$3),\"\")","v":""},{"$f":"IF(AND($AA19<6,P19<>\"\",Q19<>\"\"),ort($P19,$Q19,$AY$4:$AZ$5),\"\")","v":""},{"$f":"IF(AND($AA19<6,P19<>\"\",Q19<>\"\"),ort($P19,$Q19,$AY$6:$AZ$7),\"\")","v":""},{"$f":"IF(AND($AA19=6,P19<>\"\",Q19<>\"\"),ort($P19,$Q19,$AY$8:$AZ$8),\"\")","v":""},{"$f":"IF(AND($AA19=7,P19<>\"\",Q19<>\"\"),ort($P19,$Q19,$AY$9:$AZ$9),\"\")","v":""},{"$f":"IF(AND($AA19<6,R19<>\"\",S19<>\"\"),ort($R19,$S19,$AY$3:$AZ$3),\"\")","v":""},{"$f":"IF(AND($AA19<6,R19<>\"\",S19<>\"\"),ort($R19,$S19,$AY$4:$AZ$5),\"\")","v":""},{"$f":"IF(AND($AA19<6,R19<>\"\",S19<>\"\"),ort($R19,$S19,$AY$6:$AZ$7),\"\")","v":""},{"$f":"IF(AND($AA19=6,R19<>\"\",S19<>\"\"),ort($R19,$S19,$AY$8:$AZ$8),\"\")","v":""},{"$f":"IF(AND($AA19=7,R19<>\"\",S19<>\"\"),ort($R19,$S19,$AY$9:$AZ$9),\"\")","v":""},{"$f":"IF(AND($AA19<6,T19<>\"\",U19<>\"\"),ort($T19,$U19,$AY$3:$AZ$3),\"\")","v":""},{"$f":"IF(AND($AA19<6,T19<>\"\",U19<>\"\"),ort($T19,$U19,$AY$4:$AZ$5),\"\")","v":""},{"$f":"IF(AND($AA19<6,T19<>\"\",U19<>\"\"),ort($T19,$U19,$AY$6:$AZ$7),\"\")","v":""},{"$f":"IF(AND($AA19=6,T19<>\"\",U19<>\"\"),ort($T19,$U19,$AY$8:$AZ$8),\"\")","v":""},{"$f":"IF(AND($AA19=7,T19<>\"\",U19<>\"\"),ort($T19,$U19,$AY$9:$AZ$9),\"\")","v":""},null,null,null,null,null,null,null,null,null,"00:00:00"]
[null,{"$f":"SUM($V$3:$V$33)","v":0},null,null,null,null,null,null,null,"","",{"$f":"DATE($B$3,$B$4,18)","v":"2018-08-18"},{"$f":"DATE($B$3,$B$4,18)","v":"2018-08-18"},null,"00:00:00",null,null,null,null,null,null,"","","","","",{"$f":"IF(ISERROR(IF(NOT(ISERROR(MATCH($M20,Blad2!$A$2:$A$11,0))),7,WEEKDAY($M20,2))),\"\",IF(NOT(ISERROR(MATCH($M20,Blad2!$A$2:$A$11,0))),7,WEEKDAY($M20,2)))","v":6},{"$f":"IF(AND($AA20<6,N20<>\"\",O20<>\"\"),ort($N20,$O20,$AY$3:$AZ$3),\"\")","v":""},{"$f":"IF(AND($AA20<6,N20<>\"\",O20<>\"\"),ort($N20,$O20,$AY$4:$AZ$5),\"\")","v":""},{"$f":"IF(AND($AA20<6,N20<>\"\",O20<>\"\"),ort($N20,$O20,$AY$6:$AZ$7),\"\")","v":""},{"$f":"IF(AND($AA20=6,N20<>\"\",O20<>\"\"),ort($N20,$O20,$AY$8:$AZ$8),\"\")","v":""},{"$f":"IF(AND($AA20=7,N20<>\"\",O20<>\"\"),ort($N20,$O20,$AY$9:$AZ$9),\"\")","v":""},{"$f":"IF(AND($AA20<6,P20<>\"\",Q20<>\"\"),ort($P20,$Q20,$AY$3:$AZ$3),\"\")","v":""},{"$f":"IF(AND($AA20<6,P20<>\"\",Q20<>\"\"),ort($P20,$Q20,$AY$4:$AZ$5),\"\")","v":""},{"$f":"IF(AND($AA20<6,P20<>\"\",Q20<>\"\"),ort($P20,$Q20,$AY$6:$AZ$7),\"\")","v":""},{"$f":"IF(AND($AA20=6,P20<>\"\",Q20<>\"\"),ort($P20,$Q20,$AY$8:$AZ$8),\"\")","v":""},{"$f":"IF(AND($AA20=7,P20<>\"\",Q20<>\"\"),ort($P20,$Q20,$AY$9:$AZ$9),\"\")","v":""},{"$f":"IF(AND($AA20<6,R20<>\"\",S20<>\"\"),ort($R20,$S20,$AY$3:$AZ$3),\"\")","v":""},{"$f":"IF(AND($AA20<6,R20<>\"\",S20<>\"\"),ort($R20,$S20,$AY$4:$AZ$5),\"\")","v":""},{"$f":"IF(AND($AA20<6,R20<>\"\",S20<>\"\"),ort($R20,$S20,$AY$6:$AZ$7),\"\")","v":""},{"$f":"IF(AND($AA20=6,R20<>\"\",S20<>\"\"),ort($R20,$S20,$AY$8:$AZ$8),\"\")","v":""},{"$f":"IF(AND($AA20=7,R20<>\"\",S20<>\"\"),ort($R20,$S20,$AY$9:$AZ$9),\"\")","v":""},{"$f":"IF(AND($AA20<6,T20<>\"\",U20<>\"\"),ort($T20,$U20,$AY$3:$AZ$3),\"\")","v":""},{"$f":"IF(AND($AA20<6,T20<>\"\",U20<>\"\"),ort($T20,$U20,$AY$4:$AZ$5),\"\")","v":""},{"$f":"IF(AND($AA20<6,T20<>\"\",U20<>\"\"),ort($T20,$U20,$AY$6:$AZ$7),\"\")","v":""},{"$f":"IF(AND($AA20=6,T20<>\"\",U20<>\"\"),ort($T20,$U20,$AY$8:$AZ$8),\"\")","v":""},{"$f":"IF(AND($AA20=7,T20<>\"\",U20<>\"\"),ort($T20,$U20,$AY$9:$AZ$9),\"\")","v":""},null,{"$f":"COUNTA(Blad2!B12:B100)-COUNTIF(Blad2!B12:B100,\"Verlof\")","v":0},"  Aantal opgenomen ATV-dagen",null,null,null,null,null,null,"00:00:00"]
[null,null,null,null,null,null,null,null,null,"","",{"$f":"DATE($B$3,$B$4,19)","v":"2018-08-19"},{"$f":"DATE($B$3,$B$4,19)","v":"2018-08-19"},null,"00:00:00",null,null,null,null,null,null,"","","","","",{"$f":"IF(ISERROR(IF(NOT(ISERROR(MATCH($M21,Blad2!$A$2:$A$11,0))),7,WEEKDAY($M21,2))),\"\",IF(NOT(ISERROR(MATCH($M21,Blad2!$A$2:$A$11,0))),7,WEEKDAY($M21,2)))","v":7},{"$f":"IF(AND($AA21<6,N21<>\"\",O21<>\"\"),ort($N21,$O21,$AY$3:$AZ$3),\"\")","v":""},{"$f":"IF(AND($AA21<6,N21<>\"\",O21<>\"\"),ort($N21,$O21,$AY$4:$AZ$5),\"\")","v":""},{"$f":"IF(AND($AA21<6,N21<>\"\",O21<>\"\"),ort($N21,$O21,$AY$6:$AZ$7),\"\")","v":""},{"$f":"IF(AND($AA21=6,N21<>\"\",O21<>\"\"),ort($N21,$O21,$AY$8:$AZ$8),\"\")","v":""},{"$f":"IF(AND($AA21=7,N21<>\"\",O21<>\"\"),ort($N21,$O21,$AY$9:$AZ$9),\"\")","v":""},{"$f":"IF(AND($AA21<6,P21<>\"\",Q21<>\"\"),ort($P21,$Q21,$AY$3:$AZ$3),\"\")","v":""},{"$f":"IF(AND($AA21<6,P21<>\"\",Q21<>\"\"),ort($P21,$Q21,$AY$4:$AZ$5),\"\")","v":""},{"$f":"IF(AND($AA21<6,P21<>\"\",Q21<>\"\"),ort($P21,$Q21,$AY$6:$AZ$7),\"\")","v":""},{"$f":"IF(AND($AA21=6,P21<>\"\",Q21<>\"\"),ort($P21,$Q21,$AY$8:$AZ$8),\"\")","v":""},{"$f":"IF(AND($AA21=7,P21<>\"\",Q21<>\"\"),ort($P21,$Q21,$AY$9:$AZ$9),\"\")","v":""},{"$f":"IF(AND($AA21<6,R21<>\"\",S21<>\"\"),ort($R21,$S21,$AY$3:$AZ$3),\"\")","v":""},{"$f":"IF(AND($AA21<6,R21<>\"\",S21<>\"\"),ort($R21,$S21,$AY$4:$AZ$5),\"\")","v":""},{"$f":"IF(AND($AA21<6,R21<>\"\",S21<>\"\"),ort($R21,$S21,$AY$6:$AZ$7),\"\")","v":""},{"$f":"IF(AND($AA21=6,R21<>\"\",S21<>\"\"),ort($R21,$S21,$AY$8:$AZ$8),\"\")","v":""},{"$f":"IF(AND($AA21=7,R21<>\"\",S21<>\"\"),ort($R21,$S21,$AY$9:$AZ$9),\"\")","v":""},{"$f":"IF(AND($AA21<6,T21<>\"\",U21<>\"\"),ort($T21,$U21,$AY$3:$AZ$3),\"\")","v":""},{"$f":"IF(AND($AA21<6,T21<>\"\",U21<>\"\"),ort($T21,$U21,$AY$4:$AZ$5),\"\")","v":""},{"$f":"IF(AND($AA21<6,T21<>\"\",U21<>\"\"),ort($T21,$U21,$AY$6:$AZ$7),\"\")","v":""},{"$f":"IF(AND($AA21=6,T21<>\"\",U21<>\"\"),ort($T21,$U21,$AY$8:$AZ$8),\"\")","v":""},{"$f":"IF(AND($AA21=7,T21<>\"\",U21<>\"\"),ort($T21,$U21,$AY$9:$AZ$9),\"\")","v":""},null,{"$f":"COUNTA(Blad2!B12:B100)-COUNTIF(Blad2!B12:B100,\"ATV\")","v":2},"  Aantal opgenomen verlofdagen",null,null,null,null,null,null,"00:00:00"]
[null,null,null,null,null,null,null,null,null,"",34,{"$f":"DATE($B$3,$B$4,20)","v":"2018-08-20"},{"$f":"DATE($B$3,$B$4,20)","v":"2018-08-20"},null,"00:00:00",null,null,null,null,null,null,"","","","","",{"$f":"IF(ISERROR(IF(NOT(ISERROR(MATCH($M22,Blad2!$A$2:$A$11,0))),7,WEEKDAY($M22,2))),\"\",IF(NOT(ISERROR(MATCH($M22,Blad2!$A$2:$A$11,0))),7,WEEKDAY($M22,2)))","v":1},{"$f":"IF(AND($AA22<6,N22<>\"\",O22<>\"\"),ort($N22,$O22,$AY$3:$AZ$3),\"\")","v":""},{"$f":"IF(AND($AA22<6,N22<>\"\",O22<>\"\"),ort($N22,$O22,$AY$4:$AZ$5),\"\")","v":""},{"$f":"IF(AND($AA22<6,N22<>\"\",O22<>\"\"),ort($N22,$O22,$AY$6:$AZ$7),\"\")","v":""},{"$f":"IF(AND($AA22=6,N22<>\"\",O22<>\"\"),ort($N22,$O22,$AY$8:$AZ$8),\"\")","v":""},{"$f":"IF(AND($AA22=7,N22<>\"\",O22<>\"\"),ort($N22,$O22,$AY$9:$AZ$9),\"\")","v":""},{"$f":"IF(AND($AA22<6,P22<>\"\",Q22<>\"\"),ort($P22,$Q22,$AY$3:$AZ$3),\"\")","v":""},{"$f":"IF(AND($AA22<6,P22<>\"\",Q22<>\"\"),ort($P22,$Q22,$AY$4:$AZ$5),\"\")","v":""},{"$f":"IF(AND($AA22<6,P22<>\"\",Q22<>\"\"),ort($P22,$Q22,$AY$6:$AZ$7),\"\")","v":""},{"$f":"IF(AND($AA22=6,P22<>\"\",Q22<>\"\"),ort($P22,$Q22,$AY$8:$AZ$8),\"\")","v":""},{"$f":"IF(AND($AA22=7,P22<>\"\",Q22<>\"\"),ort($P22,$Q22,$AY$9:$AZ$9),\"\")","v":""},{"$f":"IF(AND($AA22<6,R22<>\"\",S22<>\"\"),ort($R22,$S22,$AY$3:$AZ$3),\"\")","v":""},{"$f":"IF(AND($AA22<6,R22<>\"\",S22<>\"\"),ort($R22,$S22,$AY$4:$AZ$5),\"\")","v":""},{"$f":"IF(AND($AA22<6,R22<>\"\",S22<>\"\"),ort($R22,$S22,$AY$6:$AZ$7),\"\")","v":""},{"$f":"IF(AND($AA22=6,R22<>\"\",S22<>\"\"),ort($R22,$S22,$AY$8:$AZ$8),\"\")","v":""},{"$f":"IF(AND($AA22=7,R22<>\"\",S22<>\"\"),ort($R22,$S22,$AY$9:$AZ$9),\"\")","v":""},{"$f":"IF(AND($AA22<6,T22<>\"\",U22<>\"\"),ort($T22,$U22,$AY$3:$AZ$3),\"\")","v":""},{"$f":"IF(AND($AA22<6,T22<>\"\",U22<>\"\"),ort($T22,$U22,$AY$4:$AZ$5),\"\")","v":""},{"$f":"IF(AND($AA22<6,T22<>\"\",U22<>\"\"),ort($T22,$U22,$AY$6:$AZ$7),\"\")","v":""},{"$f":"IF(AND($AA22=6,T22<>\"\",U22<>\"\"),ort($T22,$U22,$AY$8:$AZ$8),\"\")","v":""},{"$f":"IF(AND($AA22=7,T22<>\"\",U22<>\"\"),ort($T22,$U22,$AY$9:$AZ$9),\"\")","v":""},null,null,null,null,null,null,null,null,null,"00:00:00"]
[null,null,null,null,null,null,null,null,null,"","",{"$f":"DATE($B$3,$B$4,21)","v":"2018-08-21"},{"$f":"DATE($B$3,$B$4,21)","v":"2018-08-21"},null,"00:00:00",null,null,null,null,null,null,"","","","","",{"$f":"IF(ISERROR(IF(NOT(ISERROR(MATCH($M23,Blad2!$A$2:$A$11,0))),7,WEEKDAY($M23,2))),\"\",IF(NOT(ISERROR(MATCH($M23,Blad2!$A$2:$A$11,0))),7,WEEKDAY($M23,2)))","v":2},{"$f":"IF(AND($AA23<6,N23<>\"\",O23<>\"\"),ort($N23,$O23,$AY$3:$AZ$3),\"\")","v":""},{"$f":"IF(AND($AA23<6,N23<>\"\",O23<>\"\"),ort($N23,$O23,$AY$4:$AZ$5),\"\")","v":""},{"$f":"IF(AND($AA23<6,N23<>\"\",O23<>\"\"),ort($N23,$O23,$AY$6:$AZ$7),\"\")","v":""},{"$f":"IF(AND($AA23=6,N23<>\"\",O23<>\"\"),ort($N23,$O23,$AY$8:$AZ$8),\"\")","v":""},{"$f":"IF(AND($AA23=7,N23<>\"\",O23<>\"\"),ort($N23,$O23,$AY$9:$AZ$9),\"\")","v":""},{"$f":"IF(AND($AA23<6,P23<>\"\",Q23<>\"\"),ort($P23,$Q23,$AY$3:$AZ$3),\"\")","v":""},{"$f":"IF(AND($AA23<6,P23<>\"\",Q23<>\"\"),ort($P23,$Q23,$AY$4:$AZ$5),\"\")","v":""},{"$f":"IF(AND($AA23<6,P23<>\"\",Q23<>\"\"),ort($P23,$Q23,$AY$6:$AZ$7),\"\")","v":""},{"$f":"IF(AND($AA23=6,P23<>\"\",Q23<>\"\"),ort($P23,$Q23,$AY$8:$AZ$8),\"\")","v":""},{"$f":"IF(AND($AA23=7,P23<>\"\",Q23<>\"\"),ort($P23,$Q23,$AY$9:$AZ$9),\"\")","v":""},{"$f":"IF(AND($AA23<6,R23<>\"\",S23<>\"\"),ort($R23,$S23,$AY$3:$AZ$3),\"\")","v":""},{"$f":"IF(AND($AA23<6,R23<>\"\",S23<>\"\"),ort($R23,$S23,$AY$4:$AZ$5),\"\")","v":""},{"$f":"IF(AND($AA23<6,R23<>\"\",S23<>\"\"),ort($R23,$S23,$AY$6:$AZ$7),\"\")","v":""},{"$f":"IF(AND($AA23=6,R23<>\"\",S23<>\"\"),ort($R23,$S23,$AY$8:$AZ$8),\"\")","v":""},{"$f":"IF(AND($AA23=7,R23<>\"\",S23<>\"\"),ort($R23,$S23,$AY$9:$AZ$9),\"\")","v":""},{"$f":"IF(AND($AA23<6,T23<>\"\",U23<>\"\"),ort($T23,$U23,$AY$3:$AZ$3),\"\")","v":""},{"$f":"IF(AND($AA23<6,T23<>\"\",U23<>\"\"),ort($T23,$U23,$AY$4:$AZ$5),\"\")","v":""},{"$f":"IF(AND($AA23<6,T23<>\"\",U23<>\"\"),ort($T23,$U23,$AY$6:$AZ$7),\"\")","v":""},{"$f":"IF(AND($AA23=6,T23<>\"\",U23<>\"\"),ort($T23,$U23,$AY$8:$AZ$8),\"\")","v":""},{"$f":"IF(AND($AA23=7,T23<>\"\",U23<>\"\"),ort($T23,$U23,$AY$9:$AZ$9),\"\")","v":""},null,null,null,null,null,null,null,null,null,"00:00:00"]
[null,null,null,null,null,null,null,null,null,"","",{"$f":"DATE($B$3,$B$4,22)","v":"2018-08-22"},{"$f":"DATE($B$3,$B$4,22)","v":"2018-08-22"},null,"00:00:00",null,null,null,null,null,null,"","","","","",{"$f":"IF(ISERROR(IF(NOT(ISERROR(MATCH($M24,Blad2!$A$2:$A$11,0))),7,WEEKDAY($M24,2))),\"\",IF(NOT(ISERROR(MATCH($M24,Blad2!$A$2:$A$11,0))),7,WEEKDAY($M24,2)))","v":3},{"$f":"IF(AND($AA24<6,N24<>\"\",O24<>\"\"),ort($N24,$O24,$AY$3:$AZ$3),\"\")","v":""},{"$f":"IF(AND($AA24<6,N24<>\"\",O24<>\"\"),ort($N24,$O24,$AY$4:$AZ$5),\"\")","v":""},{"$f":"IF(AND($AA24<6,N24<>\"\",O24<>\"\"),ort($N24,$O24,$AY$6:$AZ$7),\"\")","v":""},{"$f":"IF(AND($AA24=6,N24<>\"\",O24<>\"\"),ort($N24,$O24,$AY$8:$AZ$8),\"\")","v":""},{"$f":"IF(AND($AA24=7,N24<>\"\",O24<>\"\"),ort($N24,$O24,$AY$9:$AZ$9),\"\")","v":""},{"$f":"IF(AND($AA24<6,P24<>\"\",Q24<>\"\"),ort($P24,$Q24,$AY$3:$AZ$3),\"\")","v":""},{"$f":"IF(AND($AA24<6,P24<>\"\",Q24<>\"\"),ort($P24,$Q24,$AY$4:$AZ$5),\"\")","v":""},{"$f":"IF(AND($AA24<6,P24<>\"\",Q24<>\"\"),ort($P24,$Q24,$AY$6:$AZ$7),\"\")","v":""},{"$f":"IF(AND($AA24=6,P24<>\"\",Q24<>\"\"),ort($P24,$Q24,$AY$8:$AZ$8),\"\")","v":""},{"$f":"IF(AND($AA24=7,P24<>\"\",Q24<>\"\"),ort($P24,$Q24,$AY$9:$AZ$9),\"\")","v":""},{"$f":"IF(AND($AA24<6,R24<>\"\",S24<>\"\"),ort($R24,$S24,$AY$3:$AZ$3),\"\")","v":""},{"$f":"IF(AND($AA24<6,R24<>\"\",S24<>\"\"),ort($R24,$S24,$AY$4:$AZ$5),\"\")","v":""},{"$f":"IF(AND($AA24<6,R24<>\"\",S24<>\"\"),ort($R24,$S24,$AY$6:$AZ$7),\"\")","v":""},{"$f":"IF(AND($AA24=6,R24<>\"\",S24<>\"\"),ort($R24,$S24,$AY$8:$AZ$8),\"\")","v":""},{"$f":"IF(AND($AA24=7,R24<>\"\",S24<>\"\"),ort($R24,$S24,$AY$9:$AZ$9),\"\")","v":""},{"$f":"IF(AND($AA24<6,T24<>\"\",U24<>\"\"),ort($T24,$U24,$AY$3:$AZ$3),\"\")","v":""},{"$f":"IF(AND($AA24<6,T24<>\"\",U24<>\"\"),ort($T24,$U24,$AY$4:$AZ$5),\"\")","v":""},{"$f":"IF(AND($AA24<6,T24<>\"\",U24<>\"\"),ort($T24,$U24,$AY$6:$AZ$7),\"\")","v":""},{"$f":"IF(AND($AA24=6,T24<>\"\",U24<>\"\"),ort($T24,$U24,$AY$8:$AZ$8),\"\")","v":""},{"$f":"IF(AND($AA24=7,T24<>\"\",U24<>\"\"),ort($T24,$U24,$AY$9:$AZ$9),\"\")","v":""},null,null,null,null,null,null,null,null,null,"00:00:00"]
[null,null,null,null,null,null,null,null,null,"","",{"$f":"DATE($B$3,$B$4,23)","v":"2018-08-23"},{"$f":"DATE($B$3,$B$4,23)","v":"2018-08-23"},null,"00:00:00",null,null,null,null,null,null,"","","","","",{"$f":"IF(ISERROR(IF(NOT(ISERROR(MATCH($M25,Blad2!$A$2:$A$11,0))),7,WEEKDAY($M25,2))),\"\",IF(NOT(ISERROR(MATCH($M25,Blad2!$A$2:$A$11,0))),7,WEEKDAY($M25,2)))","v":4},{"$f":"IF(AND($AA25<6,N25<>\"\",O25<>\"\"),ort($N25,$O25,$AY$3:$AZ$3),\"\")","v":""},{"$f":"IF(AND($AA25<6,N25<>\"\",O25<>\"\"),ort($N25,$O25,$AY$4:$AZ$5),\"\")","v":""},{"$f":"IF(AND($AA25<6,N25<>\"\",O25<>\"\"),ort($N25,$O25,$AY$6:$AZ$7),\"\")","v":""},{"$f":"IF(AND($AA25=6,N25<>\"\",O25<>\"\"),ort($N25,$O25,$AY$8:$AZ$8),\"\")","v":""},{"$f":"IF(AND($AA25=7,N25<>\"\",O25<>\"\"),ort($N25,$O25,$AY$9:$AZ$9),\"\")","v":""},{"$f":"IF(AND($AA25<6,P25<>\"\",Q25<>\"\"),ort($P25,$Q25,$AY$3:$AZ$3),\"\")","v":""},{"$f":"IF(AND($AA25<6,P25<>\"\",Q25<>\"\"),ort($P25,$Q25,$AY$4:$AZ$5),\"\")","v":""},{"$f":"IF(AND($AA25<6,P25<>\"\",Q25<>\"\"),ort($P25,$Q25,$AY$6:$AZ$7),\"\")","v":""},{"$f":"IF(AND($AA25=6,P25<>\"\",Q25<>\"\"),ort($P25,$Q25,$AY$8:$AZ$8),\"\")","v":""},{"$f":"IF(AND($AA25=7,P25<>\"\",Q25<>\"\"),ort($P25,$Q25,$AY$9:$AZ$9),\"\")","v":""},{"$f":"IF(AND($AA25<6,R25<>\"\",S25<>\"\"),ort($R25,$S25,$AY$3:$AZ$3),\"\")","v":""},{"$f":"IF(AND($AA25<6,R25<>\"\",S25<>\"\"),ort($R25,$S25,$AY$4:$AZ$5),\"\")","v":""},{"$f":"IF(AND($AA25<6,R25<>\"\",S25<>\"\"),ort($R25,$S25,$AY$6:$AZ$7),\"\")","v":""},{"$f":"IF(AND($AA25=6,R25<>\"\",S25<>\"\"),ort($R25,$S25,$AY$8:$AZ$8),\"\")","v":""},{"$f":"IF(AND($AA25=7,R25<>\"\",S25<>\"\"),ort($R25,$S25,$AY$9:$AZ$9),\"\")","v":""},{"$f":"IF(AND($AA25<6,T25<>\"\",U25<>\"\"),ort($T25,$U25,$AY$3:$AZ$3),\"\")","v":""},{"$f":"IF(AND($AA25<6,T25<>\"\",U25<>\"\"),ort($T25,$U25,$AY$4:$AZ$5),\"\")","v":""},{"$f":"IF(AND($AA25<6,T25<>\"\",U25<>\"\"),ort($T25,$U25,$AY$6:$AZ$7),\"\")","v":""},{"$f":"IF(AND($AA25=6,T25<>\"\",U25<>\"\"),ort($T25,$U25,$AY$8:$AZ$8),\"\")","v":""},{"$f":"IF(AND($AA25=7,T25<>\"\",U25<>\"\"),ort($T25,$U25,$AY$9:$AZ$9),\"\")","v":""},null,null,null,null,null,null,null,null,null,"00:00:00"]
[null,null,null,null,null,null,null,null,null,"","",{"$f":"DATE($B$3,$B$4,24)","v":"2018-08-24"},{"$f":"DATE($B$3,$B$4,24)","v":"2018-08-24"},null,"00:00:00",null,null,null,null,null,null,"","","","","",{"$f":"IF(ISERROR(IF(NOT(ISERROR(MATCH($M26,Blad2!$A$2:$A$11,0))),7,WEEKDAY($M26,2))),\"\",IF(NOT(ISERROR(MATCH($M26,Blad2!$A$2:$A$11,0))),7,WEEKDAY($M26,2)))","v":5},{"$f":"IF(AND($AA26<6,N26<>\"\",O26<>\"\"),ort($N26,$O26,$AY$3:$AZ$3),\"\")","v":""},{"$f":"IF(AND($AA26<6,N26<>\"\",O26<>\"\"),ort($N26,$O26,$AY$4:$AZ$5),\"\")","v":""},{"$f":"IF(AND($AA26<6,N26<>\"\",O26<>\"\"),ort($N26,$O26,$AY$6:$AZ$7),\"\")","v":""},{"$f":"IF(AND($AA26=6,N26<>\"\",O26<>\"\"),ort($N26,$O26,$AY$8:$AZ$8),\"\")","v":""},{"$f":"IF(AND($AA26=7,N26<>\"\",O26<>\"\"),ort($N26,$O26,$AY$9:$AZ$9),\"\")","v":""},{"$f":"IF(AND($AA26<6,P26<>\"\",Q26<>\"\"),ort($P26,$Q26,$AY$3:$AZ$3),\"\")","v":""},{"$f":"IF(AND($AA26<6,P26<>\"\",Q26<>\"\"),ort($P26,$Q26,$AY$4:$AZ$5),\"\")","v":""},{"$f":"IF(AND($AA26<6,P26<>\"\",Q26<>\"\"),ort($P26,$Q26,$AY$6:$AZ$7),\"\")","v":""},{"$f":"IF(AND($AA26=6,P26<>\"\",Q26<>\"\"),ort($P26,$Q26,$AY$8:$AZ$8),\"\")","v":""},{"$f":"IF(AND($AA26=7,P26<>\"\",Q26<>\"\"),ort($P26,$Q26,$AY$9:$AZ$9),\"\")","v":""},{"$f":"IF(AND($AA26<6,R26<>\"\",S26<>\"\"),ort($R26,$S26,$AY$3:$AZ$3),\"\")","v":""},{"$f":"IF(AND($AA26<6,R26<>\"\",S26<>\"\"),ort($R26,$S26,$AY$4:$AZ$5),\"\")","v":""},{"$f":"IF(AND($AA26<6,R26<>\"\",S26<>\"\"),ort($R26,$S26,$AY$6:$AZ$7),\"\")","v":""},{"$f":"IF(AND($AA26=6,R26<>\"\",S26<>\"\"),ort($R26,$S26,$AY$8:$AZ$8),\"\")","v":""},{"$f":"IF(AND($AA26=7,R26<>\"\",S26<>\"\"),ort($R26,$S26,$AY$9:$AZ$9),\"\")","v":""},{"$f":"IF(AND($AA26<6,T26<>\"\",U26<>\"\"),ort($T26,$U26,$AY$3:$AZ$3),\"\")","v":""},{"$f":"IF(AND($AA26<6,T26<>\"\",U26<>\"\"),ort($T26,$U26,$AY$4:$AZ$5),\"\")","v":""},{"$f":"IF(AND($AA26<6,T26<>\"\",U26<>\"\"),ort($T26,$U26,$AY$6:$AZ$7),\"\")","v":""},{"$f":"IF(AND($AA26=6,T26<>\"\",U26<>\"\"),ort($T26,$U26,$AY$8:$AZ$8),\"\")","v":""},{"$f":"IF(AND($AA26=7,T26<>\"\",U26<>\"\"),ort($T26,$U26,$AY$9:$AZ$9),\"\")","v":""},null,null,null,null,null,null,null,null,null,"00:00:00"]
[null,null,null,null,null,null,null,null,null,"","",{"$f":"DATE($B$3,$B$4,25)","v":"2018-08-25"},{"$f":"DATE($B$3,$B$4,25)","v":"2018-08-25"},null,"00:00:00",null,null,null,null,null,null,"","","","","",{"$f":"IF(ISERROR(IF(NOT(ISERROR(MATCH($M27,Blad2!$A$2:$A$11,0))),7,WEEKDAY($M27,2))),\"\",IF(NOT(ISERROR(MATCH($M27,Blad2!$A$2:$A$11,0))),7,WEEKDAY($M27,2)))","v":6},{"$f":"IF(AND($AA27<6,N27<>\"\",O27<>\"\"),ort($N27,$O27,$AY$3:$AZ$3),\"\")","v":""},{"$f":"IF(AND($AA27<6,N27<>\"\",O27<>\"\"),ort($N27,$O27,$AY$4:$AZ$5),\"\")","v":""},{"$f":"IF(AND($AA27<6,N27<>\"\",O27<>\"\"),ort($N27,$O27,$AY$6:$AZ$7),\"\")","v":""},{"$f":"IF(AND($AA27=6,N27<>\"\",O27<>\"\"),ort($N27,$O27,$AY$8:$AZ$8),\"\")","v":""},{"$f":"IF(AND($AA27=7,N27<>\"\",O27<>\"\"),ort($N27,$O27,$AY$9:$AZ$9),\"\")","v":""},{"$f":"IF(AND($AA27<6,P27<>\"\",Q27<>\"\"),ort($P27,$Q27,$AY$3:$AZ$3),\"\")","v":""},{"$f":"IF(AND($AA27<6,P27<>\"\",Q27<>\"\"),ort($P27,$Q27,$AY$4:$AZ$5),\"\")","v":""},{"$f":"IF(AND($AA27<6,P27<>\"\",Q27<>\"\"),ort($P27,$Q27,$AY$6:$AZ$7),\"\")","v":""},{"$f":"IF(AND($AA27=6,P27<>\"\",Q27<>\"\"),ort($P27,$Q27,$AY$8:$AZ$8),\"\")","v":""},{"$f":"IF(AND($AA27=7,P27<>\"\",Q27<>\"\"),ort($P27,$Q27,$AY$9:$AZ$9),\"\")","v":""},{"$f":"IF(AND($AA27<6,R27<>\"\",S27<>\"\"),ort($R27,$S27,$AY$3:$AZ$3),\"\")","v":""},{"$f":"IF(AND($AA27<6,R27<>\"\",S27<>\"\"),ort($R27,$S27,$AY$4:$AZ$5),\"\")","v":""},{"$f":"IF(AND($AA27<6,R27<>\"\",S27<>\"\"),ort($R27,$S27,$AY$6:$AZ$7),\"\")","v":""},{"$f":"IF(AND($AA27=6,R27<>\"\",S27<>\"\"),ort($R27,$S27,$AY$8:$AZ$8),\"\")","v":""},{"$f":"IF(AND($AA27=7,R27<>\"\",S27<>\"\"),ort($R27,$S27,$AY$9:$AZ$9),\"\")","v":""},{"$f":"IF(AND($AA27<6,T27<>\"\",U27<>\"\"),ort($T27,$U27,$AY$3:$AZ$3),\"\")","v":""},{"$f":"IF(AND($AA27<6,T27<>\"\",U27<>\"\"),ort($T27,$U27,$AY$4:$AZ$5),\"\")","v":""},{"$f":"IF(AND($AA27<6,T27<>\"\",U27<>\"\"),ort($T27,$U27,$AY$6:$AZ$7),\"\")","v":""},{"$f":"IF(AND($AA27=6,T27<>\"\",U27<>\"\"),ort($T27,$U27,$AY$8:$AZ$8),\"\")","v":""},{"$f":"IF(AND($AA27=7,T27<>\"\",U27<>\"\"),ort($T27,$U27,$AY$9:$AZ$9),\"\")","v":""},null,null,null,null,null,null,null,null,null,"00:00:00"]
[null,null,null,null,null,null,null,null,null,"","",{"$f":"DATE($B$3,$B$4,26)","v":"2018-08-26"},{"$f":"DATE($B$3,$B$4,26)","v":"2018-08-26"},null,"00:00:00",null,null,null,null,null,null,"","","","","",{"$f":"IF(ISERROR(IF(NOT(ISERROR(MATCH($M28,Blad2!$A$2:$A$11,0))),7,WEEKDAY($M28,2))),\"\",IF(NOT(ISERROR(MATCH($M28,Blad2!$A$2:$A$11,0))),7,WEEKDAY($M28,2)))","v":7},{"$f":"IF(AND($AA28<6,N28<>\"\",O28<>\"\"),ort($N28,$O28,$AY$3:$AZ$3),\"\")","v":""},{"$f":"IF(AND($AA28<6,N28<>\"\",O28<>\"\"),ort($N28,$O28,$AY$4:$AZ$5),\"\")","v":""},{"$f":"IF(AND($AA28<6,N28<>\"\",O28<>\"\"),ort($N28,$O28,$AY$6:$AZ$7),\"\")","v":""},{"$f":"IF(AND($AA28=6,N28<>\"\",O28<>\"\"),ort($N28,$O28,$AY$8:$AZ$8),\"\")","v":""},{"$f":"IF(AND($AA28=7,N28<>\"\",O28<>\"\"),ort($N28,$O28,$AY$9:$AZ$9),\"\")","v":""},{"$f":"IF(AND($AA28<6,P28<>\"\",Q28<>\"\"),ort($P28,$Q28,$AY$3:$AZ$3),\"\")","v":""},{"$f":"IF(AND($AA28<6,P28<>\"\",Q28<>\"\"),ort($P28,$Q28,$AY$4:$AZ$5),\"\")","v":""},{"$f":"IF(AND($AA28<6,P28<>\"\",Q28<>\"\"),ort($P28,$Q28,$AY$6:$AZ$7),\"\")","v":""},{"$f":"IF(AND($AA28=6,P28<>\"\",Q28<>\"\"),ort($P28,$Q28,$AY$8:$AZ$8),\"\")","v":""},{"$f":"IF(AND($AA28=7,P28<>\"\",Q28<>\"\"),ort($P28,$Q28,$AY$9:$AZ$9),\"\")","v":""},{"$f":"IF(AND($AA28<6,R28<>\"\",S28<>\"\"),ort($R28,$S28,$AY$3:$AZ$3),\"\")","v":""},{"$f":"IF(AND($AA28<6,R28<>\"\",S28<>\"\"),ort($R28,$S28,$AY$4:$AZ$5),\"\")","v":""},{"$f":"IF(AND($AA28<6,R28<>\"\",S28<>\"\"),ort($R28,$S28,$AY$6:$AZ$7),\"\")","v":""},{"$f":"IF(AND($AA28=6,R28<>\"\",S28<>\"\"),ort($R28,$S28,$AY$8:$AZ$8),\"\")","v":""},{"$f":"IF(AND($AA28=7,R28<>\"\",S28<>\"\"),ort($R28,$S28,$AY$9:$AZ$9),\"\")","v":""},{"$f":"IF(AND($AA28<6,T28<>\"\",U28<>\"\"),ort($T28,$U28,$AY$3:$AZ$3),\"\")","v":""},{"$f":"IF(AND($AA28<6,T28<>\"\",U28<>\"\"),ort($T28,$U28,$AY$4:$AZ$5),\"\")","v":""},{"$f":"IF(AND($AA28<6,T28<>\"\",U28<>\"\"),ort($T28,$U28,$AY$6:$AZ$7),\"\")","v":""},{"$f":"IF(AND($AA28=6,T28<>\"\",U28<>\"\"),ort($T28,$U28,$AY$8:$AZ$8),\"\")","v":""},{"$f":"IF(AND($AA28=7,T28<>\"\",U28<>\"\"),ort($T28,$U28,$AY$9:$AZ$9),\"\")","v":""},null,null,null,null,null,null,null,null,null,"00:00:00"]
[null,null,null,null,null,null,null,null,null,"",35,{"$f":"DATE($B$3,$B$4,27)","v":"2018-08-27"},{"$f":"DATE($B$3,$B$4,27)","v":"2018-08-27"},null,"00:00:00",null,null,null,null,null,null,"","","","","",{"$f":"IF(ISERROR(IF(NOT(ISERROR(MATCH($M29,Blad2!$A$2:$A$11,0))),7,WEEKDAY($M29,2))),\"\",IF(NOT(ISERROR(MATCH($M29,Blad2!$A$2:$A$11,0))),7,WEEKDAY($M29,2)))","v":1},{"$f":"IF(AND($AA29<6,N29<>\"\",O29<>\"\"),ort($N29,$O29,$AY$3:$AZ$3),\"\")","v":""},{"$f":"IF(AND($AA29<6,N29<>\"\",O29<>\"\"),ort($N29,$O29,$AY$4:$AZ$5),\"\")","v":""},{"$f":"IF(AND($AA29<6,N29<>\"\",O29<>\"\"),ort($N29,$O29,$AY$6:$AZ$7),\"\")","v":""},{"$f":"IF(AND($AA29=6,N29<>\"\",O29<>\"\"),ort($N29,$O29,$AY$8:$AZ$8),\"\")","v":""},{"$f":"IF(AND($AA29=7,N29<>\"\",O29<>\"\"),ort($N29,$O29,$AY$9:$AZ$9),\"\")","v":""},{"$f":"IF(AND($AA29<6,P29<>\"\",Q29<>\"\"),ort($P29,$Q29,$AY$3:$AZ$3),\"\")","v":""},{"$f":"IF(AND($AA29<6,P29<>\"\",Q29<>\"\"),ort($P29,$Q29,$AY$4:$AZ$5),\"\")","v":""},{"$f":"IF(AND($AA29<6,P29<>\"\",Q29<>\"\"),ort($P29,$Q29,$AY$6:$AZ$7),\"\")","v":""},{"$f":"IF(AND($AA29=6,P29<>\"\",Q29<>\"\"),ort($P29,$Q29,$AY$8:$AZ$8),\"\")","v":""},{"$f":"IF(AND($AA29=7,P29<>\"\",Q29<>\"\"),ort($P29,$Q29,$AY$9:$AZ$9),\"\")","v":""},{"$f":"IF(AND($AA29<6,R29<>\"\",S29<>\"\"),ort($R29,$S29,$AY$3:$AZ$3),\"\")","v":""},{"$f":"IF(AND($AA29<6,R29<>\"\",S29<>\"\"),ort($R29,$S29,$AY$4:$AZ$5),\"\")","v":""},{"$f":"IF(AND($AA29<6,R29<>\"\",S29<>\"\"),ort($R29,$S29,$AY$6:$AZ$7),\"\")","v":""},{"$f":"IF(AND($AA29=6,R29<>\"\",S29<>\"\"),ort($R29,$S29,$AY$8:$AZ$8),\"\")","v":""},{"$f":"IF(AND($AA29=7,R29<>\"\",S29<>\"\"),ort($R29,$S29,$AY$9:$AZ$9),\"\")","v":""},{"$f":"IF(AND($AA29<6,T29<>\"\",U29<>\"\"),ort($T29,$U29,$AY$3:$AZ$3),\"\")","v":""},{"$f":"IF(AND($AA29<6,T29<>\"\",U29<>\"\"),ort($T29,$U29,$AY$4:$AZ$5),\"\")","v":""},{"$f":"IF(AND($AA29<6,T29<>\"\",U29<>\"\"),ort($T29,$U29,$AY$6:$AZ$7),\"\")","v":""},{"$f":"IF(AND($AA29=6,T29<>\"\",U29<>\"\"),ort($T29,$U29,$AY$8:$AZ$8),\"\")","v":""},{"$f":"IF(AND($AA29=7,T29<>\"\",U29<>\"\"),ort($T29,$U29,$AY$9:$AZ$9),\"\")","v":""},null,null,null,null,null,null,null,null,null,"00:00:00"]
[null,null,null,null,null,null,null,null,null,"","",{"$f":"DATE($B$3,$B$4,28)","v":"2018-08-28"},{"$f":"DATE($B$3,$B$4,28)","v":"2018-08-28"},null,"00:00:00",null,null,null,null,null,null,"","","","","",{"$f":"IF(ISERROR(IF(NOT(ISERROR(MATCH($M30,Blad2!$A$2:$A$11,0))),7,WEEKDAY($M30,2))),\"\",IF(NOT(ISERROR(MATCH($M30,Blad2!$A$2:$A$11,0))),7,WEEKDAY($M30,2)))","v":2},{"$f":"IF(AND($AA30<6,N30<>\"\",O30<>\"\"),ort($N30,$O30,$AY$3:$AZ$3),\"\")","v":""},{"$f":"IF(AND($AA30<6,N30<>\"\",O30<>\"\"),ort($N30,$O30,$AY$4:$AZ$5),\"\")","v":""},{"$f":"IF(AND($AA30<6,N30<>\"\",O30<>\"\"),ort($N30,$O30,$AY$6:$AZ$7),\"\")","v":""},{"$f":"IF(AND($AA30=6,N30<>\"\",O30<>\"\"),ort($N30,$O30,$AY$8:$AZ$8),\"\")","v":""},{"$f":"IF(AND($AA30=7,N30<>\"\",O30<>\"\"),ort($N30,$O30,$AY$9:$AZ$9),\"\")","v":""},{"$f":"IF(AND($AA30<6,P30<>\"\",Q30<>\"\"),ort($P30,$Q30,$AY$3:$AZ$3),\"\")","v":""},{"$f":"IF(AND($AA30<6,P30<>\"\",Q30<>\"\"),ort($P30,$Q30,$AY$4:$AZ$5),\"\")","v":""},{"$f":"IF(AND($AA30<6,P30<>\"\",Q30<>\"\"),ort($P30,$Q30,$AY$6:$AZ$7),\"\")","v":""},{"$f":"IF(AND($AA30=6,P30<>\"\",Q30<>\"\"),ort($P30,$Q30,$AY$8:$AZ$8),\"\")","v":""},{"$f":"IF(AND($AA30=7,P30<>\"\",Q30<>\"\"),ort($P30,$Q30,$AY$9:$AZ$9),\"\")","v":""},{"$f":"IF(AND($AA30<6,R30<>\"\",S30<>\"\"),ort($R30,$S30,$AY$3:$AZ$3),\"\")","v":""},{"$f":"IF(AND($AA30<6,R30<>\"\",S30<>\"\"),ort($R30,$S30,$AY$4:$AZ$5),\"\")","v":""},{"$f":"IF(AND($AA30<6,R30<>\"\",S30<>\"\"),ort($R30,$S30,$AY$6:$AZ$7),\"\")","v":""},{"$f":"IF(AND($AA30=6,R30<>\"\",S30<>\"\"),ort($R30,$S30,$AY$8:$AZ$8),\"\")","v":""},{"$f":"IF(AND($AA30=7,R30<>\"\",S30<>\"\"),ort($R30,$S30,$AY$9:$AZ$9),\"\")","v":""},{"$f":"IF(AND($AA30<6,T30<>\"\",U30<>\"\"),ort($T30,$U30,$AY$3:$AZ$3),\"\")","v":""},{"$f":"IF(AND($AA30<6,T30<>\"\",U30<>\"\"),ort($T30,$U30,$AY$4:$AZ$5),\"\")","v":""},{"$f":"IF(AND($AA30<6,T30<>\"\",U30<>\"\"),ort($T30,$U30,$AY$6:$AZ$7),\"\")","v":""},{"$f":"IF(AND($AA30=6,T30<>\"\",U30<>\"\"),ort($T30,$U30,$AY$8:$AZ$8),\"\")","v":""},{"$f":"IF(AND($AA30=7,T30<>\"\",U30<>\"\"),ort($T30,$U30,$AY$9:$AZ$9),\"\")","v":""},null,null,null,null,null,null,null,null,null,"00:00:00"]
[null,null,null,null,null,null,null,null,null,"",{"$f":"IF(L31=\"\",\"\",IF(WEEKDAY(L31)=2,1+INT((L31-DATE(YEAR(L31+4-WEEKDAY(L31+6)),1,5)+WEEKDAY(DATE(YEAR(L31+4-WEEKDAY(L31+6)),1,3)))/7),\"\"))","v":""},{"$f":"IF(MONTH(L$30+1)<>MONTH(L$30),\"\",L$30+1)","v":"2018-08-29"},{"$f":"IF(MONTH(M$30+1)<>MONTH(M$30),\"\",M$30+1)","v":"2018-08-29"},null,"00:00:00",null,null,null,null,null,null,"","","","","",{"$f":"IF(ISERROR(IF(NOT(ISERROR(MATCH($M31,Blad2!$A$2:$A$11,0))),7,WEEKDAY($M31,2))),\"\",IF(NOT(ISERROR(MATCH($M31,Blad2!$A$2:$A$11,0))),7,WEEKDAY($M31,2)))","v":3},{"$f":"IF(AND($AA31<6,N31<>\"\",O31<>\"\"),ort($N31,$O31,$AY$3:$AZ$3),\"\")","v":""},{"$f":"IF(AND($AA31<6,N31<>\"\",O31<>\"\"),ort($N31,$O31,$AY$4:$AZ$5),\"\")","v":""},{"$f":"IF(AND($AA31<6,N31<>\"\",O31<>\"\"),ort($N31,$O31,$AY$6:$AZ$7),\"\")","v":""},{"$f":"IF(AND($AA31=6,N31<>\"\",O31<>\"\"),ort($N31,$O31,$AY$8:$AZ$8),\"\")","v":""},{"$f":"IF(AND($AA31=7,N31<>\"\",O31<>\"\"),ort($N31,$O31,$AY$9:$AZ$9),\"\")","v":""},{"$f":"IF(AND($AA31<6,P31<>\"\",Q31<>\"\"),ort($P31,$Q31,$AY$3:$AZ$3),\"\")","v":""},{"$f":"IF(AND($AA31<6,P31<>\"\",Q31<>\"\"),ort($P31,$Q31,$AY$4:$AZ$5),\"\")","v":""},{"$f":"IF(AND($AA31<6,P31<>\"\",Q31<>\"\"),ort($P31,$Q31,$AY$6:$AZ$7),\"\")","v":""},{"$f":"IF(AND($AA31=6,P31<>\"\",Q31<>\"\"),ort($P31,$Q31,$AY$8:$AZ$8),\"\")","v":""},{"$f":"IF(AND($AA31=7,P31<>\"\",Q31<>\"\"),ort($P31,$Q31,$AY$9:$AZ$9),\"\")","v":""},{"$f":"IF(AND($AA31<6,R31<>\"\",S31<>\"\"),ort($R31,$S31,$AY$3:$AZ$3),\"\")","v":""},{"$f":"IF(AND($AA31<6,R31<>\"\",S31<>\"\"),ort($R31,$S31,$AY$4:$AZ$5),\"\")","v":""},{"$f":"IF(AND($AA31<6,R31<>\"\",S31<>\"\"),ort($R31,$S31,$AY$6:$AZ$7),\"\")","v":""},{"$f":"IF(AND($AA31=6,R31<>\"\",S31<>\"\"),ort($R31,$S31,$AY$8:$AZ$8),\"\")","v":""},{"$f":"IF(AND($AA31=7,R31<>\"\",S31<>\"\"),ort($R31,$S31,$AY$9:$AZ$9),\"\")","v":""},{"$f":"IF(AND($AA31<6,T31<>\"\",U31<>\"\"),ort($T31,$U31,$AY$3:$AZ$3),\"\")","v":""},{"$f":"IF(AND($AA31<6,T31<>\"\",U31<>\"\"),ort($T31,$U31,$AY$4:$AZ$5),\"\")","v":""},{"$f":"IF(AND($AA31<6,T31<>\"\",U31<>\"\"),ort($T31,$U31,$AY$6:$AZ$7),\"\")","v":""},{"$f":"IF(AND($AA31=6,T31<>\"\",U31<>\"\"),ort($T31,$U31,$AY$8:$AZ$8),\"\")","v":""},{"$f":"IF(AND($AA31=7,T31<>\"\",U31<>\"\"),ort($T31,$U31,$AY$9:$AZ$9),\"\")","v":""},null,null,null,null,null,null,null,null,null,"00:00:00"]
[null,"Totaal Uren incl 150 %",null,null,null,null,null,null,null,"","",{"$f":"IF(L31=\"\",\"\",IF(MONTH($M31+1)<>MONTH($M31),\"\",$M31+1))","v":"2018-08-30"},{"$f":"IF(M31=\"\",\"\",IF(MONTH($M31+1)<>MONTH($M31),\"\",$M31+1))","v":"2018-08-30"},null,"00:00:00",null,null,null,null,null,null,"","","","","",{"$f":"IF(ISERROR(IF(NOT(ISERROR(MATCH($M32,Blad2!$A$2:$A$11,0))),7,WEEKDAY($M32,2))),\"\",IF(NOT(ISERROR(MATCH($M32,Blad2!$A$2:$A$11,0))),7,WEEKDAY($M32,2)))","v":4},{"$f":"IF(AND($AA32<6,N32<>\"\",O32<>\"\"),ort($N32,$O32,$AY$3:$AZ$3),\"\")","v":""},{"$f":"IF(AND($AA32<6,N32<>\"\",O32<>\"\"),ort($N32,$O32,$AY$4:$AZ$5),\"\")","v":""},{"$f":"IF(AND($AA32<6,N32<>\"\",O32<>\"\"),ort($N32,$O32,$AY$6:$AZ$7),\"\")","v":""},{"$f":"IF(AND($AA32=6,N32<>\"\",O32<>\"\"),ort($N32,$O32,$AY$8:$AZ$8),\"\")","v":""},{"$f":"IF(AND($AA32=7,N32<>\"\",O32<>\"\"),ort($N32,$O32,$AY$9:$AZ$9),\"\")","v":""},{"$f":"IF(AND($AA32<6,P32<>\"\",Q32<>\"\"),ort($P32,$Q32,$AY$3:$AZ$3),\"\")","v":""},{"$f":"IF(AND($AA32<6,P32<>\"\",Q32<>\"\"),ort($P32,$Q32,$AY$4:$AZ$5),\"\")","v":""},{"$f":"IF(AND($AA32<6,P32<>\"\",Q32<>\"\"),ort($P32,$Q32,$AY$6:$AZ$7),\"\")","v":""},{"$f":"IF(AND($AA32=6,P32<>\"\",Q32<>\"\"),ort($P32,$Q32,$AY$8:$AZ$8),\"\")","v":""},{"$f":"IF(AND($AA32=7,P32<>\"\",Q32<>\"\"),ort($P32,$Q32,$AY$9:$AZ$9),\"\")","v":""},{"$f":"IF(AND($AA32<6,R32<>\"\",S32<>\"\"),ort($R32,$S32,$AY$3:$AZ$3),\"\")","v":""},{"$f":"IF(AND($AA32<6,R32<>\"\",S32<>\"\"),ort($R32,$S32,$AY$4:$AZ$5),\"\")","v":""},{"$f":"IF(AND($AA32<6,R32<>\"\",S32<>\"\"),ort($R32,$S32,$AY$6:$AZ$7),\"\")","v":""},{"$f":"IF(AND($AA32=6,R32<>\"\",S32<>\"\"),ort($R32,$S32,$AY$8:$AZ$8),\"\")","v":""},{"$f":"IF(AND($AA32=7,R32<>\"\",S32<>\"\"),ort($R32,$S32,$AY$9:$AZ$9),\"\")","v":""},{"$f":"IF(AND($AA32<6,T32<>\"\",U32<>\"\"),ort($T32,$U32,$AY$3:$AZ$3),\"\")","v":""},{"$f":"IF(AND($AA32<6,T32<>\"\",U32<>\"\"),ort($T32,$U32,$AY$4:$AZ$5),\"\")","v":""},{"$f":"IF(AND($AA32<6,T32<>\"\",U32<>\"\"),ort($T32,$U32,$AY$6:$AZ$7),\"\")","v":""},{"$f":"IF(AND($AA32=6,T32<>\"\",U32<>\"\"),ort($T32,$U32,$AY$8:$AZ$8),\"\")","v":""},{"$f":"IF(AND($AA32=7,T32<>\"\",U32<>\"\"),ort($T32,$U32,$AY$9:$AZ$9),\"\")","v":""},null,null,null,null,null,null,null,null,null,"00:00:00"]
[null,{"$f":"SUM(U36,W37)","v":0},null,null,null,null,null,null,null,"",{"$f":"IF(L33=\"\",\"\",IF(WEEKDAY(L33)=2,1+INT((L33-DATE(YEAR(L33+4-WEEKDAY(L33+6)),1,5)+WEEKDAY(DATE(YEAR(L33+4-WEEKDAY(L33+6)),1,3)))/7),\"\"))","v":""},{"$f":"IF(L32=\"\",\"\",IF(MONTH($M32+1)<>MONTH($M32),\"\",$M32+1))","v":"2018-08-31"},{"$f":"IF(M32=\"\",\"\",IF(MONTH($M32+1)<>MONTH($M32),\"\",$M32+1))","v":"2018-08-31"},null,"00:00:00",null,null,null,null,null,null,"","","","","",{"$f":"IF(ISERROR(IF(NOT(ISERROR(MATCH($M33,Blad2!$A$2:$A$11,0))),7,WEEKDAY($M33,2))),\"\",IF(NOT(ISERROR(MATCH($M33,Blad2!$A$2:$A$11,0))),7,WEEKDAY($M33,2)))","v":5},{"$f":"IF(AND($AA33<6,N33<>\"\",O33<>\"\"),ort($N33,$O33,$AY$3:$AZ$3),\"\")","v":""},{"$f":"IF(AND($AA33<6,N33<>\"\",O33<>\"\"),ort($N33,$O33,$AY$4:$AZ$5),\"\")","v":""},{"$f":"IF(AND($AA33<6,N33<>\"\",O33<>\"\"),ort($N33,$O33,$AY$6:$AZ$7),\"\")","v":""},{"$f":"IF(AND($AA33=6,N33<>\"\",O33<>\"\"),ort($N33,$O33,$AY$8:$AZ$8),\"\")","v":""},{"$f":"IF(AND($AA33=7,N33<>\"\",O33<>\"\"),ort($N33,$O33,$AY$9:$AZ$9),\"\")","v":""},{"$f":"IF(AND($AA33<6,P33<>\"\",Q33<>\"\"),ort($P33,$Q33,$AY$3:$AZ$3),\"\")","v":""},{"$f":"IF(AND($AA33<6,P33<>\"\",Q33<>\"\"),ort($P33,$Q33,$AY$4:$AZ$5),\"\")","v":""},{"$f":"IF(AND($AA33<6,P33<>\"\",Q33<>\"\"),ort($P33,$Q33,$AY$6:$AZ$7),\"\")","v":""},{"$f":"IF(AND($AA33=6,P33<>\"\",Q33<>\"\"),ort($P33,$Q33,$AY$8:$AZ$8),\"\")","v":""},{"$f":"IF(AND($AA33=7,P33<>\"\",Q33<>\"\"),ort($P33,$Q33,$AY$9:$AZ$9),\"\")","v":""},{"$f":"IF(AND($AA33<6,R33<>\"\",S33<>\"\"),ort($R33,$S33,$AY$3:$AZ$3),\"\")","v":""},{"$f":"IF(AND($AA33<6,R33<>\"\",S33<>\"\"),ort($R33,$S33,$AY$4:$AZ$5),\"\")","v":""},{"$f":"IF(AND($AA33<6,R33<>\"\",S33<>\"\"),ort($R33,$S33,$AY$6:$AZ$7),\"\")","v":""},{"$f":"IF(AND($AA33=6,R33<>\"\",S33<>\"\"),ort($R33,$S33,$AY$8:$AZ$8),\"\")","v":""},{"$f":"IF(AND($AA33=7,R33<>\"\",S33<>\"\"),ort($R33,$S33,$AY$9:$AZ$9),\"\")","v":""},{"$f":"IF(AND($AA33<6,T33<>\"\",U33<>\"\"),ort($T33,$U33,$AY$3:$AZ$3),\"\")","v":""},{"$f":"IF(AND($AA33<6,T33<>\"\",U33<>\"\"),ort($T33,$U33,$AY$4:$AZ$5),\"\")","v":""},{"$f":"IF(AND($AA33<6,T33<>\"\",U33<>\"\"),ort($T33,$U33,$AY$6:$AZ$7),\"\")","v":""},{"$f":"IF(AND($AA33=6,T33<>\"\",U33<>\"\"),ort($T33,$U33,$AY$8:$AZ$8),\"\")","v":""},{"$f":"IF(AND($AA33=7,T33<>\"\",U33<>\"\"),ort($T33,$U33,$AY$9:$AZ$9),\"\")","v":""},null,null,null,null,null,null,null,null,null,"00:00:00"]
[null,null,null,null,null,null,null,null,null,null,null,null,null,null,null,null,null,null,null,null,null,null,{"$f":"SUM(W3:W33)","v":0},{"$f":"SUM(X3:X33)","v":0},0,0]
[null,null,null,null,null,null,null,null,null,null,null,null,"Plus / Min Uren Incl 150 % Uren",null,null,null,null,null,"Contract Uren",null,{"$f":"SUM(B17)","v":3.75}]
[null,null,null,null,null,null,null,null,null,null,null,null,{"$f":"SUM(B33-B17)","v":-3.75},null,null,5,null,"Gewerkte Uren 100 %",null,null,{"$f":"SUM(W34:X34)","v":0}]
[null,null,null,null,null,null,null,null,null,null,null,null,"Uitbetalen / Verlof",null,null,{"$f":"SUM(M36*P36)*24","v":-450},null,"Gewerkte Uren 150 %",null,null,{"$f":"SUM(Y34)","v":0},"X 150%",{"$f":"SUM(U37*150%)","v":0}]
[null,null,null,null,null,null,null,null,null,null,null,null,null,null,null,null,null,null,"Plus Uren"]
[null,null,null,null,null,null,null,null,null,null,null,null,null,null,null,null,null,null,"Min Uren"]

{"sheet":"September","index":8,"n_rows":39,"n_cols":57,"rows_kept":39,"cut":false,"hidden":false,"merged":[[38,18,38,19],[37,18,37,19],[1,48,1,51],[2,3,2,7],[3,2,3,8],[19,1,19,8],[13,1,13,8],[15,1,15,8],[16,1,16,8],[18,1,18,8],[12,1,12,8],[36,12,36,14],[36,15,36,16],[36,17,36,19],[0,14,0,21],[1,2,1,8],[34,12,34,16],[35,12,35,14],[35,15,35,16],[31,1,31,8],[32,1,32,8],[34,18,34,19],[35,17,35,19]]}
[null,null,null,null,null,null,null,null,null,null,null,null,null,null,"Test"]
[null,null,{"$f":"TODAY()","v":"2018-03-21"},null,null,null,null,null,null,"Feestdag","wknr","dag","datum","tijd in","tijd uit","tijd in","tijd uit","tijd in","tijd uit","tijd in","tijd uit","werk\ntijd",1,1.25,1.5,2,"hulp",1,1.25,1.5,1.5,2,1,1.25,1.5,1.5,2,1,1.25,1.5,1.5,2,1,1.25,1.5,1.5,2,null,"onregelmatigheidstoeslag",null,null,null,null,"Stops","Laden","Lossen","Werktijd"]
[null,2018," ","Kalender",null,null,null,null,null,{"$f":"IF(ISNA(VLOOKUP(M3,feestdagen,2,0)),\"\",VLOOKUP(M3,feestdagen,2,0))","v":""},{"$f":"WEEKNUM(L3,21)","v":35},{"$f":"DATE($B$3,$B$4,1)","v":"2018-09-01"},{"$f":"DATE($B$3,$B$4,1)","v":"2018-09-01"},null,{"$f":"SUM(N3,BE3)","v":"00:00:00"},null,null,null,null,null,null,{"$f":"IF(AND(W3=\"\",X3=\"\",Y3=\"\",Z3=\"\"),\"\",SUM(W3:Z3))","v":""},{"$f":"IF(AND(AB3=\"\",AG3=\"\",AL3=\"\",AQ3=\"\"),\"\",SUM(AB3,AG3,AL3,AQ3))","v":""},{"$f":"IF(AND(AC3=\"\",AH3=\"\",AM3=\"\",AR3=\"\"),\"\",SUM(AC3,AH3,AM3,AR3))","v":""},{"$f":"IF(AND(AD3=\"\",AE3=\"\",AI3=\"\",AJ3=\"\",AN3=\"\",AO3=\"\",AS3=\"\",AT3=\"\"),\"\",SUM(AD3,AE3,AI3,AJ3,AN3,AO3,AS3,AT3))","v":""},{"$f":"IF(AND(AF3=\"\",AK3=\"\",AP3=\"\",AU3=\"\"),\"\",SUM(AF3,AK3,AP3,AU3))","v":""},{"$f":"IF(ISERROR(IF(NOT(ISERROR(MATCH($M3,Blad2!$A$2:$A$11,0))),7,WEEKDAY($M3,2))),\"\",IF(NOT(ISERROR(MATCH($M3,Blad2!$A$2:$A$11,0))),7,WEEKDAY($M3,2)))","v":6},{"$f":"IF(AND($AA3<6,N3<>\"\",O3<>\"\"),ort($N3,$O3,$AY$3:$AZ$3),\"\")","v":""},{"$f":"IF(AND($AA3<6,N3<>\"\",O3<>\"\"),ort($N3,$O3,$AY$4:$AZ$5),\"\")","v":""},{"$f":"IF(AND($AA3<6,N3<>\"\",O3<>\"\"),ort($N3,$O3,$AY$6:$AZ$7),\"\")","v":""},{"$f":"IF(AND($AA3=6,N3<>\"\",O3<>\"\"),ort($N3,$O3,$AY$8:$AZ$8),\"\")","v":""},{"$f":"IF(AND($AA3=7,N3<>\"\",O3<>\"\"),ort($N3,$O3,$AY$9:$AZ$9),\"\")","v":""},{"$f":"IF(AND($AA3<6,P3<>\"\",Q3<>\"\"),ort($P3,$Q3,$AY$3:$AZ$3),\"\")","v":""},{"$f":"IF(AND($AA3<6,P3<>\"\",Q3<>\"\"),ort($P3,$Q3,$AY$4:$AZ$5),\"\")","v":""},{"$f":"IF(AND($AA3<6,P3<>\"\",Q3<>\"\"),ort($P3,$Q3,$AY$6:$AZ$7),\"\")","v":""},{"$f":"IF(AND($AA3=6,P3<>\"\",Q3<>\"\"),ort($P3,$Q3,$AY$8:$AZ$8),\"\")","v":""},{"$f":"IF(AND($AA3=7,P3<>\"\",Q3<>\"\"),ort($P3,$Q3,$AY$9:$AZ$9),\"\")","v":""},{"$f":"IF(AND($AA3<6,R3<>\"\",S3<>\"\"),ort($R3,$S3,$AY$3:$AZ$3),\"\")","v":""},{"$f":"IF(AND($AA3<6,R3<>\"\",S3<>\"\"),ort($R3,$S3,$AY$4:$AZ$5),\"\")","v":""},{"$f":"IF(AND($AA3<6,R3<>\"\",S3<>\"\"),ort($R3,$S3,$AY$6:$AZ$7),\"\")","v":""},{"$f":"IF(AND($AA3=6,R3<>\"\",S3<>\"\"),ort($R3,$S3,$AY$8:$AZ$8),\"\")","v":""},{"$f":"IF(AND($AA3=7,R3<>\"\",S3<>\"\"),ort($R3,$S3,$AY$9:$AZ$9),\"\")","v":""},{"$f":"IF(AND($AA3<6,T3<>\"\",U3<>\"\"),ort($T3,$U3,$AY$3:$AZ$3),\"\")","v":""},{"$f":"IF(AND($AA3<6,T3<>\"\",U3<>\"\"),ort($T3,$U3,$AY$4:$AZ$5),\"\")","v":""},{"$f":"IF(AND($AA3<6,T3<>\"\",U3<>\"\"),ort($T3,$U3,$AY$6:$AZ$7),\"\")","v":""},{"$f":"IF(AND($AA3=6,T3<>\"\",U3<>\"\"),ort($T3,$U3,$AY$8:$AZ$8),\"\")","v":""},{"$f":"IF(AND($AA3=7,T3<>\"\",U3<>\"\"),ort($T3,$U3,$AY$9:$AZ$9),\"\")","v":""},null,1,"m-vr",0.39583333333333331,0.72916666666666663,null,null,null,null,{"$f":"SUM(BB3/20/24,BC3:BD3)","v":"00:00:00"}]
[null,9,{"$f":"DATE(B3,B4,1)","v":"2018-09-01"},null,null,null,null,null,null,"",{"$f":"IF(WEEKDAY(L4)=2,1+INT((L4-DATE(YEAR(L4+4-WEEKDAY(L4+6)),1,5)+WEEKDAY(DATE(YEAR(L4+4-WEEKDAY(L4+6)),1,3)))/7),\"\")","v":""},{"$f":"DATE($B$3,$B$4,2)","v":"2018-09-02"},{"$f":"DATE($B$3,$B$4,2)","v":"2018-09-02"},null,{"$f":"SUM(N4,BE4)","v":"00:00:00"},null,null,null,null,null,null,{"$f":"IF(AND(W4=\"\",X4=\"\",Y4=\"\",Z4=\"\"),\"\",SUM(W4:Z4))","v":""},{"$f":"IF(AND(AB4=\"\",AG4=\"\",AL4=\"\",AQ4=\"\"),\"\",SUM(AB4,AG4,AL4,AQ4))","v":""},{"$f":"IF(AND(AC4=\"\",AH4=\"\",AM4=\"\",AR4=\"\"),\"\",SUM(AC4,AH4,AM4,AR4))","v":""},{"$f":"IF(AND(AD4=\"\",AE4=\"\",AI4=\"\",AJ4=\"\",AN4=\"\",AO4=\"\",AS4=\"\",AT4=\"\"),\"\",SUM(AD4,AE4,AI4,AJ4,AN4,AO4,AS4,AT4))","v":""},{"$f":"IF(AND(AF4=\"\",AK4=\"\",AP4=\"\",AU4=\"\"),\"\",SUM(AF4,AK4,AP4,AU4))","v":""},{"$f":"IF(ISERROR(IF(NOT(ISERROR(MATCH($M4,Blad2!$A$2:$A$11,0))),7,WEEKDAY($M4,2))),\"\",IF(NOT(ISERROR(MATCH($M4,Blad2!$A$2:$A$11,0))),7,WEEKDAY($M4,2)))","v":7},{"$f":"IF(AND($AA4<6,N4<>\"\",O4<>\"\"),ort($N4,$O4,$AY$3:$AZ$3),\"\")","v":""},{"$f":"IF(AND($AA4<6,N4<>\"\",O4<>\"\"),ort($N4,$O4,$AY$4:$AZ$5),\"\")","v":""},{"$f":"IF(AND($AA4<6,N4<>\"\",O4<>\"\"),ort($N4,$O4,$AY$6:$AZ$7),\"\")","v":""},{"$f":"IF(AND($AA4=6,N4<>\"\",O4<>\"\"),ort($N4,$O4,$AY$8:$AZ$8),\"\")","v":""},{"$f":"IF(AND($AA4=7,N4<>\"\",O4<>\"\"),ort($N4,$O4,$AY$9:$AZ$9),\"\")","v":""},{"$f":"IF(AND($AA4<6,P4<>\"\",Q4<>\"\"),ort($P4,$Q4,$AY$3:$AZ$3),\"\")","v":""},{"$f":"IF(AND($AA4<6,P4<>\"\",Q4<>\"\"),ort($P4,$Q4,$AY$4:$AZ$5),\"\")","v":""},{"$f":"IF(AND($AA4<6,P4<>\"\",Q4<>\"\"),ort($P4,$Q4,$AY$6:$AZ$7),\"\")","v":""},{"$f":"IF(AND($AA4=6,P4<>\"\",Q4<>\"\"),ort($P4,$Q4,$AY$8:$AZ$8),\"\")","v":""},{"$f":"IF(AND($AA4=7,P4<>\"\",Q4<>\"\"),ort($P4,$Q4,$AY$9:$AZ$9),\"\")","v":""},{"$f":"IF(AND($AA4<6,R4<>\"\",S4<>\"\"),ort($R4,$S4,$AY$3:$AZ$3),\"\")","v":""},{"$f":"IF(AND($AA4<6,R4<>\"\",S4<>\"\"),ort($R4,$S4,$AY$4:$AZ$5),\"\")","v":""},{"$f":"IF(AND($AA4<6,R4<>\"\",S4<>\"\"),ort($R4,$S4,$AY$6:$AZ$7),\"\")","v":""},{"$f":"IF(AND($AA4=6,R4<>\"\",S4<>\"\"),ort($R4,$S4,$AY$8:$AZ$8),\"\")","v":""},{"$f":"IF(AND($AA4=7,R4<>\"\",S4<>\"\"),ort($R4,$S4,$AY$9:$AZ$9),\"\")","v":""},{"$f":"IF(AND($AA4<6,T4<>\"\",U4<>\"\"),ort($T4,$U4,$AY$3:$AZ$3),\"\")","v":""},{"$f":"IF(AND($AA4<6,T4<>\"\",U4<>\"\"),ort($T4,$U4,$AY$4:$AZ$5),\"\")","v":""},{"$f":"IF(AND($AA4<6,T4<>\"\",U4<>\"\"),ort($T4,$U4,$AY$6:$AZ$7),\"\")","v":""},{"$f":"IF(AND($AA4=6,T4<>\"\",U4<>\"\"),ort($T4,$U4,$AY$8:$AZ$8),\"\")","v":""},{"$f":"IF(AND($AA4=7,T4<>\"\",U4<>\"\"),ort($T4,$U4,$AY$9:$AZ$9),\"\")","v":""},null,1.25,"m-vr",0.25,0.3125,null,null,null,null,{"$f":"SUM(BB4/20/24,BC4:BD4)","v":"00:00:00"}]
[null,null,"Ma","Di","Wo","Do","Vr","Za","Zo","",36,{"$f":"DATE($B$3,$B$4,3)","v":"2018-09-03"},{"$f":"DATE($B$3,$B$4,3)","v":"2018-09-03"},null,"00:00:00",null,null,null,null,null,null,"",{"$f":"IF(AND(AB5=\"\",AG5=\"\",AL5=\"\",AQ5=\"\"),\"\",SUM(AB5,AG5,AL5,AQ5))","v":""},"",{"$f":"IF(AND(AD5=\"\",AE5=\"\",AI5=\"\",AJ5=\"\",AN5=\"\",AO5=\"\",AS5=\"\",AT5=\"\"),\"\",SUM(AD5,AE5,AI5,AJ5,AN5,AO5,AS5,AT5))","v":""},{"$f":"IF(AND(AF5=\"\",AK5=\"\",AP5=\"\",AU5=\"\"),\"\",SUM(AF5,AK5,AP5,AU5))","v":""},{"$f":"IF(ISERROR(IF(NOT(ISERROR(MATCH($M5,Blad2!$A$2:$A$11,0))),7,WEEKDAY($M5,2))),\"\",IF(NOT(ISERROR(MATCH($M5,Blad2!$A$2:$A$11,0))),7,WEEKDAY($M5,2)))","v":1},{"$f":"IF(AND($AA5<6,N5<>\"\",O5<>\"\"),ort($N5,$O5,$AY$3:$AZ$3),\"\")","v":""},{"$f":"IF(AND($AA5<6,N5<>\"\",O5<>\"\"),ort($N5,$O5,$AY$4:$AZ$5),\"\")","v":""},{"$f":"IF(AND($AA5<6,N5<>\"\",O5<>\"\"),ort($N5,$O5,$AY$6:$AZ$7),\"\")","v":""},{"$f":"IF(AND($AA5=6,N5<>\"\",O5<>\"\"),ort($N5,$O5,$AY$8:$AZ$8),\"\")","v":""},{"$f":"IF(AND($AA5=7,N5<>\"\",O5<>\"\"),ort($N5,$O5,$AY$9:$AZ$9),\"\")","v":""},{"$f":"IF(AND($AA5<6,P5<>\"\",Q5<>\"\"),ort($P5,$Q5,$AY$3:$AZ$3),\"\")","v":""},{"$f":"IF(AND($AA5<6,P5<>\"\",Q5<>\"\"),ort($P5,$Q5,$AY$4:$AZ$5),\"\")","v":""},{"$f":"IF(AND($AA5<6,P5<>\"\",Q5<>\"\"),ort($P5,$Q5,$AY$6:$AZ$7),\"\")","v":""},{"$f":"IF(AND($AA5=6,P5<>\"\",Q5<>\"\"),ort($P5,$Q5,$AY$8:$AZ$8),\"\")","v":""},{"$f":"IF(AND($AA5=7,P5<>\"\",Q5<>\"\"),ort($P5,$Q5,$AY$9:$AZ$9),\"\")","v":""},{"$f":"IF(AND($AA5<6,R5<>\"\",S5<>\"\"),ort($R5,$S5,$AY$3:$AZ$3),\"\")","v":""},{"$f":"IF(AND($AA5<6,R5<>\"\",S5<>\"\"),ort($R5,$S5,$AY$4:$AZ$5),\"\")","v":""},{"$f":"IF(AND($AA5<6,R5<>\"\",S5<>\"\"),ort($R5,$S5,$AY$6:$AZ$7),\"\")","v":""},{"$f":"IF(AND($AA5=6,R5<>\"\",S5<>\"\"),ort($R5,$S5,$AY$8:$AZ$8),\"\")","v":""},{"$f":"IF(AND($AA5=7,R5<>\"\",S5<>\"\"),ort($R5,$S5,$AY$9:$AZ$9),\"\")","v":""},{"$f":"IF(AND($AA5<6,T5<>\"\",U5<>\"\"),ort($T5,$U5,$AY$3:$AZ$3),\"\")","v":""},{"$f":"IF(AND($AA5<6,T5<>\"\",U5<>\"\"),ort($T5,$U5,$AY$4:$AZ$5),\"\")","v":""},{"$f":"IF(AND($AA5<6,T5<>\"\",U5<>\"\"),ort($T5,$U5,$AY$6:$AZ$7),\"\")","v":""},{"$f":"IF(AND($AA5=6,T5<>\"\",U5<>\"\"),ort($T5,$U5,$AY$8:$AZ$8),\"\")","v":""},{"$f":"IF(AND($AA5=7,T5<>\"\",U5<>\"\"),ort($T5,$U5,$AY$9:$AZ$9),\"\")","v":""},null,1.25,"m-vr",0.72916666666666663,0.77083333333333337,null,null,null,null,"00:00:00"]
[null,null,{"$f":"IF(WEEKDAY(C4,2)=1,C4,\"\")","v":""},{"$f":"IF(WEEKDAY(C4,2)=2,C4,IF(C6<>\"\",C6+1,\"\"))","v":""},{"$f":"IF(WEEKDAY(C4,2)=3,C4,IF(D6<>\"\",D6+1,\"\"))","v":""},{"$f":"IF(WEEKDAY(C4,2)=4,C4,IF(E6<>\"\",E6+1,\"\"))","v":""},{"$f":"IF(WEEKDAY(C4,2)=5,C4,IF(F6<>\"\",F6+1,\"\"))","v":""},{"$f":"IF(WEEKDAY(C4,2)=6,C4,IF(G6<>\"\",G6+1,\"\"))","v":"2018-09-01"},{"$f":"IF(WEEKDAY(C4,2)=7,C4,IF(H6<>\"\",H6+1,\"\"))","v":"2018-09-02"},"","",{"$f":"DATE($B$3,$B$4,4)","v":"2018-09-04"},{"$f":"DATE($B$3,$B$4,4)","v":"2018-09-04"},null,"00:00:00",null,null,null,null,null,null,"","","","","",{"$f":"IF(ISERROR(IF(NOT(ISERROR(MATCH($M6,Blad2!$A$2:$A$11,0))),7,WEEKDAY($M6,2))),\"\",IF(NOT(ISERROR(MATCH($M6,Blad2!$A$2:$A$11,0))),7,WEEKDAY($M6,2)))","v":2},{"$f":"IF(AND($AA6<6,N6<>\"\",O6<>\"\"),ort($N6,$O6,$AY$3:$AZ$3),\"\")","v":""},{"$f":"IF(AND($AA6<6,N6<>\"\",O6<>\"\"),ort($N6,$O6,$AY$4:$AZ$5),\"\")","v":""},{"$f":"IF(AND($AA6<6,N6<>\"\",O6<>\"\"),ort($N6,$O6,$AY$6:$AZ$7),\"\")","v":""},{"$f":"IF(AND($AA6=6,N6<>\"\",O6<>\"\"),ort($N6,$O6,$AY$8:$AZ$8),\"\")","v":""},{"$f":"IF(AND($AA6=7,N6<>\"\",O6<>\"\"),ort($N6,$O6,$AY$9:$AZ$9),\"\")","v":""},{"$f":"IF(AND($AA6<6,P6<>\"\",Q6<>\"\"),ort($P6,$Q6,$AY$3:$AZ$3),\"\")","v":""},{"$f":"IF(AND($AA6<6,P6<>\"\",Q6<>\"\"),ort($P6,$Q6,$AY$4:$AZ$5),\"\")","v":""},{"$f":"IF(AND($AA6<6,P6<>\"\",Q6<>\"\"),ort($P6,$Q6,$AY$6:$AZ$7),\"\")","v":""},{"$f":"IF(AND($AA6=6,P6<>\"\",Q6<>\"\"),ort($P6,$Q6,$AY$8:$AZ$8),\"\")","v":""},{"$f":"IF(AND($AA6=7,P6<>\"\",Q6<>\"\"),ort($P6,$Q6,$AY$9:$AZ$9),\"\")","v":""},{"$f":"IF(AND($AA6<6,R6<>\"\",S6<>\"\"),ort($R6,$S6,$AY$3:$AZ$3),\"\")","v":""},{"$f":"IF(AND($AA6<6,R6<>\"\",S6<>\"\"),ort($R6,$S6,$AY$4:$AZ$5),\"\")","v":""},{"$f":"IF(AND($AA6<6,R6<>\"\",S6<>\"\"),ort($R6,$S6,$AY$6:$AZ$7),\"\")","v":""},{"$f":"IF(AND($AA6=6,R6<>\"\",S6<>\"\"),ort($R6,$S6,$AY$8:$AZ$8),\"\")","v":""},{"$f":"IF(AND($AA6=7,R6<>\"\",S6<>\"\"),ort($R6,$S6,$AY$9:$AZ$9),\"\")","v":""},{"$f":"IF(AND($AA6<6,T6<>\"\",U6<>\"\"),ort($T6,$U6,$AY$3:$AZ$3),\"\")","v":""},{"$f":"IF(AND($AA6<6,T6<>\"\",U6<>\"\"),ort($T6,$U6,$AY$4:$AZ$5),\"\")","v":""},{"$f":"IF(AND($AA6<6,T6<>\"\",U6<>\"\"),ort($T6,$U6,$AY$6:$AZ$7),\"\")","v":""},{"$f":"IF(AND($AA6=6,T6<>\"\",U6<>\"\"),ort($T6,$U6,$AY$8:$AZ$8),\"\")","v":""},{"$f":"IF(AND($AA6=7,T6<>\"\",U6<>\"\"),ort($T6,$U6,$AY$9:$AZ$9),\"\")","v":""},null,1.5,"m-vr",0,0.25,null,null,null,null,"00:00:00"]
[null,null,{"$f":"I6+1","v":"2018-09-03"},{"$f":"C7+1","v":"2018-09-04"},{"$f":"D7+1","v":"2018-09-05"},"2018-09-06","2018-09-07","2018-09-08","2018-09-09","","",{"$f":"DATE($B$3,$B$4,5)","v":"2018-09-05"},{"$f":"DATE($B$3,$B$4,5)","v":"2018-09-05"},null,"00:00:00",null,null,null,null,null,null,"","","","","",{"$f":"IF(ISERROR(IF(NOT(ISERROR(MATCH($M7,Blad2!$A$2:$A$11,0))),7,WEEKDAY($M7,2))),\"\",IF(NOT(ISERROR(MATCH($M7,Blad2!$A$2:$A$11,0))),7,WEEKDAY($M7,2)))","v":3},{"$f":"IF(AND($AA7<6,N7<>\"\",O7<>\"\"),ort($N7,$O7,$AY$3:$AZ$3),\"\")","v":""},{"$f":"IF(AND($AA7<6,N7<>\"\",O7<>\"\"),ort($N7,$O7,$AY$4:$AZ$5),\"\")","v":""},{"$f":"IF(AND($AA7<6,N7<>\"\",O7<>\"\"),ort($N7,$O7,$AY$6:$AZ$7),\"\")","v":""},{"$f":"IF(AND($AA7=6,N7<>\"\",O7<>\"\"),ort($N7,$O7,$AY$8:$AZ$8),\"\")","v":""},{"$f":"IF(AND($AA7=7,N7<>\"\",O7<>\"\"),ort($N7,$O7,$AY$9:$AZ$9),\"\")","v":""},{"$f":"IF(AND($AA7<6,P7<>\"\",Q7<>\"\"),ort($P7,$Q7,$AY$3:$AZ$3),\"\")","v":""},{"$f":"IF(AND($AA7<6,P7<>\"\",Q7<>\"\"),ort($P7,$Q7,$AY$4:$AZ$5),\"\")","v":""},{"$f":"IF(AND($AA7<6,P7<>\"\",Q7<>\"\"),ort($P7,$Q7,$AY$6:$AZ$7),\"\")","v":""},{"$f":"IF(AND($AA7=6,P7<>\"\",Q7<>\"\"),ort($P7,$Q7,$AY$8:$AZ$8),\"\")","v":""},{"$f":"IF(AND($AA7=7,P7<>\"\",Q7<>\"\"),ort($P7,$Q7,$AY$9:$AZ$9),\"\")","v":""},{"$f":"IF(AND($AA7<6,R7<>\"\",S7<>\"\"),ort($R7,$S7,$AY$3:$AZ$3),\"\")","v":""},{"$f":"IF(AND($AA7<6,R7<>\"\",S7<>\"\"),ort($R7,$S7,$AY$4:$AZ$5),\"\")","v":""},{"$f":"IF(AND($AA7<6,R7<>\"\",S7<>\"\"),ort($R7,$S7,$AY$6:$AZ$7),\"\")","v":""},{"$f":"IF(AND($AA7=6,R7<>\"\",S7<>\"\"),ort($R7,$S7,$AY$8:$AZ$8),\"\")","v":""},{"$f":"IF(AND($AA7=7,R7<>\"\",S7<>\"\"),ort($R7,$S7,$AY$9:$AZ$9),\"\")","v":""},{"$f":"IF(AND($AA7<6,T7<>\"\",U7<>\"\"),ort($T7,$U7,$AY$3:$AZ$3),\"\")","v":""},{"$f":"IF(AND($AA7<6,T7<>\"\",U7<>\"\"),ort($T7,$U7,$AY$4:$AZ$5),\"\")","v":""},{"$f":"IF(AND($AA7<6,T7<>\"\",U7<>\"\"),ort($T7,$U7,$AY$6:$AZ$7),\"\")","v":""},{"$f":"IF(AND($AA7=6,T7<>\"\",U7<>\"\"),ort($T7,$U7,$AY$8:$AZ$8),\"\")","v":""},{"$f":"IF(AND($AA7=7,T7<>\"\",U7<>\"\"),ort($T7,$U7,$AY$9:$AZ$9),\"\")","v":""},null,1.5,"m-vr",0.77083333333333337,1,null,null,null,null,{"$f":"SUM(BB7/18/24,BC7:BD7)","v":"00:00:00"}]
[null,null,{"$f":"I7+1","v":"2018-09-10"},{"$f":"C8+1","v":"2018-09-11"},"2018-09-12","2018-09-13","2018-09-14","2018-09-15","2018-09-16","","",{"$f":"DATE($B$3,$B$4,6)","v":"2018-09-06"},{"$f":"DATE($B$3,$B$4,6)","v":"2018-09-06"},null,"00:00:00",null,null,null,null,null,null,"","","","","",{"$f":"IF(ISERROR(IF(NOT(ISERROR(MATCH($M8,Blad2!$A$2:$A$11,0))),7,WEEKDAY($M8,2))),\"\",IF(NOT(ISERROR(MATCH($M8,Blad2!$A$2:$A$11,0))),7,WEEKDAY($M8,2)))","v":4},{"$f":"IF(AND($AA8<6,N8<>\"\",O8<>\"\"),ort($N8,$O8,$AY$3:$AZ$3),\"\")","v":""},{"$f":"IF(AND($AA8<6,N8<>\"\",O8<>\"\"),ort($N8,$O8,$AY$4:$AZ$5),\"\")","v":""},{"$f":"IF(AND($AA8<6,N8<>\"\",O8<>\"\"),ort($N8,$O8,$AY$6:$AZ$7),\"\")","v":""},{"$f":"IF(AND($AA8=6,N8<>\"\",O8<>\"\"),ort($N8,$O8,$AY$8:$AZ$8),\"\")","v":""},{"$f":"IF(AND($AA8=7,N8<>\"\",O8<>\"\"),ort($N8,$O8,$AY$9:$AZ$9),\"\")","v":""},{"$f":"IF(AND($AA8<6,P8<>\"\",Q8<>\"\"),ort($P8,$Q8,$AY$3:$AZ$3),\"\")","v":""},{"$f":"IF(AND($AA8<6,P8<>\"\",Q8<>\"\"),ort($P8,$Q8,$AY$4:$AZ$5),\"\")","v":""},{"$f":"IF(AND($AA8<6,P8<>\"\",Q8<>\"\"),ort($P8,$Q8,$AY$6:$AZ$7),\"\")","v":""},{"$f":"IF(AND($AA8=6,P8<>\"\",Q8<>\"\"),ort($P8,$Q8,$AY$8:$AZ$8),\"\")","v":""},{"$f":"IF(AND($AA8=7,P8<>\"\",Q8<>\"\"),ort($P8,$Q8,$AY$9:$AZ$9),\"\")","v":""},{"$f":"IF(AND($AA8<6,R8<>\"\",S8<>\"\"),ort($R8,$S8,$AY$3:$AZ$3),\"\")","v":""},{"$f":"IF(AND($AA8<6,R8<>\"\",S8<>\"\"),ort($R8,$S8,$AY$4:$AZ$5),\"\")","v":""},{"$f":"IF(AND($AA8<6,R8<>\"\",S8<>\"\"),ort($R8,$S8,$AY$6:$AZ$7),\"\")","v":""},{"$f":"IF(AND($AA8=6,R8<>\"\",S8<>\"\"),ort($R8,$S8,$AY$8:$AZ$8),\"\")","v":""},{"$f":"IF(AND($AA8=7,R8<>\"\",S8<>\"\"),ort($R8,$S8,$AY$9:$AZ$9),\"\")","v":""},{"$f":"IF(AND($AA8<6,T8<>\"\",U8<>\"\"),ort($T8,$U8,$AY$3:$AZ$3),\"\")","v":""},{"$f":"IF(AND($AA8<6,T8<>\"\",U8<>\"\"),ort($T8,$U8,$AY$4:$AZ$5),\"\")","v":""},{"$f":"IF(AND($AA8<6,T8<>\"\",U8<>\"\"),ort($T8,$U8,$AY$6:$AZ$7),\"\")","v":""},{"$f":"IF(AND($AA8=6,T8<>\"\",U8<>\"\"),ort($T8,$U8,$AY$8:$AZ$8),\"\")","v":""},{"$f":"IF(AND($AA8=7,T8<>\"\",U8<>\"\"),ort($T8,$U8,$AY$9:$AZ$9),\"\")","v":""},null,1.5,"za",0,1,null,null,null,null,{"$f":"SUM(BB8/19/24,BC8:BD8)","v":"00:00:00"}]
[null,null,{"$f":"I8+1","v":"2018-09-17"},{"$f":"C9+1","v":"2018-09-18"},"2018-09-19","2018-09-20","2018-09-21","2018-09-22","2018-09-23","","",{"$f":"DATE($B$3,$B$4,7)","v":"2018-09-07"},{"$f":"DATE($B$3,$B$4,7)","v":"2018-09-07"},null,"00:00:00",null,null,null,null,null,null,"","","","","",{"$f":"IF(ISERROR(IF(NOT(ISERROR(MATCH($M9,Blad2!$A$2:$A$11,0))),7,WEEKDAY($M9,2))),\"\",IF(NOT(ISERROR(MATCH($M9,Blad2!$A$2:$A$11,0))),7,WEEKDAY($M9,2)))","v":5},{"$f":"IF(AND($AA9<6,N9<>\"\",O9<>\"\"),ort($N9,$O9,$AY$3:$AZ$3),\"\")","v":""},{"$f":"IF(AND($AA9<6,N9<>\"\",O9<>\"\"),ort($N9,$O9,$AY$4:$AZ$5),\"\")","v":""},{"$f":"IF(AND($AA9<6,N9<>\"\",O9<>\"\"),ort($N9,$O9,$AY$6:$AZ$7),\"\")","v":""},{"$f":"IF(AND($AA9=6,N9<>\"\",O9<>\"\"),ort($N9,$O9,$AY$8:$AZ$8),\"\")","v":""},{"$f":"IF(AND($AA9=7,N9<>\"\",O9<>\"\"),ort($N9,$O9,$AY$9:$AZ$9),\"\")","v":""},{"$f":"IF(AND($AA9<6,P9<>\"\",Q9<>\"\"),ort($P9,$Q9,$AY$3:$AZ$3),\"\")","v":""},{"$f":"IF(AND($AA9<6,P9<>\"\",Q9<>\"\"),ort($P9,$Q9,$AY$4:$AZ$5),\"\")","v":""},{"$f":"IF(AND($AA9<6,P9<>\"\",Q9<>\"\"),ort($P9,$Q9,$AY$6:$AZ$7),\"\")","v":""},{"$f":"IF(AND($AA9=6,P9<>\"\",Q9<>\"\"),ort($P9,$Q9,$AY$8:$AZ$8),\"\")","v":""},{"$f":"IF(AND($AA9=7,P9<>\"\",Q9<>\"\"),ort($P9,$Q9,$AY$9:$AZ$9),\"\")","v":""},{"$f":"IF(AND($AA9<6,R9<>\"\",S9<>\"\"),ort($R9,$S9,$AY$3:$AZ$3),\"\")","v":""},{"$f":"IF(AND($AA9<6,R9<>\"\",S9<>\"\"),ort($R9,$S9,$AY$4:$AZ$5),\"\")","v":""},{"$f":"IF(AND($AA9<6,R9<>\"\",S9<>\"\"),ort($R9,$S9,$AY$6:$AZ$7),\"\")","v":""},{"$f":"IF(AND($AA9=6,R9<>\"\",S9<>\"\"),ort($R9,$S9,$AY$8:$AZ$8),\"\")","v":""},{"$f":"IF(AND($AA9=7,R9<>\"\",S9<>\"\"),ort($R9,$S9,$AY$9:$AZ$9),\"\")","v":""},{"$f":"IF(AND($AA9<6,T9<>\"\",U9<>\"\"),ort($T9,$U9,$AY$3:$AZ$3),\"\")","v":""},{"$f":"IF(AND($AA9<6,T9<>\"\",U9<>\"\"),ort($T9,$U9,$AY$4:$AZ$5),\"\")","v":""},{"$f":"IF(AND($AA9<6,T9<>\"\",U9<>\"\"),ort($T9,$U9,$AY$6:$AZ$7),\"\")","v":""},{"$f":"IF(AND($AA9=6,T9<>\"\",U9<>\"\"),ort($T9,$U9,$AY$8:$AZ$8),\"\")","v":""},{"$f":"IF(AND($AA9=7,T9<>\"\",U9<>\"\"),ort($T9,$U9,$AY$9:$AZ$9),\"\")","v":""},null,2,"zo/feest",0,1,null,null,null,null,{"$f":"SUM(BB9/19/24,BC9:BD9)","v":"00:00:00"}]
[null,null,{"$f":"IF(I9=\"\",\"\",IF(MONTH(I9+1)=MONTH(I9),I9+1,\"\"))","v":"2018-09-24"},{"$f":"IF(C10=\"\",\"\",IF(MONTH(C10+1)=MONTH(C10),C10+1,\"\"))","v":"2018-09-25"},{"$f":"IF(D10=\"\",\"\",IF(MONTH(D10+1)=MONTH(D10),D10+1,\"\"))","v":"2018-09-26"},"2018-09-27","2018-09-28","2018-09-29","2018-09-30","","",{"$f":"DATE($B$3,$B$4,8)","v":"2018-09-08"},{"$f":"DATE($B$3,$B$4,8)","v":"2018-09-08"},null,"00:00:00",null,null,null,null,null,null,"","","","","",{"$f":"IF(ISERROR(IF(NOT(ISERROR(MATCH($M10,Blad2!$A$2:$A$11,0))),7,WEEKDAY($M10,2))),\"\",IF(NOT(ISERROR(MATCH($M10,Blad2!$A$2:$A$11,0))),7,WEEKDAY($M10,2)))","v":6},{"$f":"IF(AND($AA10<6,N10<>\"\",O10<>\"\"),ort($N10,$O10,$AY$3:$AZ$3),\"\")","v":""},{"$f":"IF(AND($AA10<6,N10<>\"\",O10<>\"\"),ort($N10,$O10,$AY$4:$AZ$5),\"\")","v":""},{"$f":"IF(AND($AA10<6,N10<>\"\",O10<>\"\"),ort($N10,$O10,$AY$6:$AZ$7),\"\")","v":""},{"$f":"IF(AND($AA10=6,N10<>\"\",O10<>\"\"),ort($N10,$O10,$AY$8:$AZ$8),\"\")","v":""},{"$f":"IF(AND($AA10=7,N10<>\"\",O10<>\"\"),ort($N10,$O10,$AY$9:$AZ$9),\"\")","v":""},{"$f":"IF(AND($AA10<6,P10<>\"\",Q10<>\"\"),ort($P10,$Q10,$AY$3:$AZ$3),\"\")","v":""},{"$f":"IF(AND($AA10<6,P10<>\"\",Q10<>\"\"),ort($P10,$Q10,$AY$4:$AZ$5),\"\")","v":""},{"$f":"IF(AND($AA10<6,P10<>\"\",Q10<>\"\"),ort($P10,$Q10,$AY$6:$AZ$7),\"\")","v":""},{"$f":"IF(AND($AA10=6,P10<>\"\",Q10<>\"\"),ort($P10,$Q10,$AY$8:$AZ$8),\"\")","v":""},{"$f":"IF(AND($AA10=7,P10<>\"\",Q10<>\"\"),ort($P10,$Q10,$AY$9:$AZ$9),\"\")","v":""},{"$f":"IF(AND($AA10<6,R10<>\"\",S10<>\"\"),ort($R10,$S10,$AY$3:$AZ$3),\"\")","v":""},{"$f":"IF(AND($AA10<6,R10<>\"\",S10<>\"\"),ort($R10,$S10,$AY$4:$AZ$5),\"\")","v":""},{"$f":"IF(AND($AA10<6,R10<>\"\",S10<>\"\"),ort($R10,$S10,$AY$6:$AZ$7),\"\")","v":""},{"$f":"IF(AND($AA10=6,R10<>\"\",S10<>\"\"),ort($R10,$S10,$AY$8:$AZ$8),\"\")","v":""},{"$f":"IF(AND($AA10=7,R10<>\"\",S10<>\"\"),ort($R10,$S10,$AY$9:$AZ$9),\"\")","v":""},{"$f":"IF(AND($AA10<6,T10<>\"\",U10<>\"\"),ort($T10,$U10,$AY$3:$AZ$3),\"\")","v":""},{"$f":"IF(AND($AA10<6,T10<>\"\",U10<>\"\"),ort($T10,$U10,$AY$4:$AZ$5),\"\")","v":""},{"$f":"IF(AND($AA10<6,T10<>\"\",U10<>\"\"),ort($T10,$U10,$AY$6:$AZ$7),\"\")","v":""},{"$f":"IF(AND($AA10=6,T10<>\"\",U10<>\"\"),ort($T10,$U10,$AY$8:$AZ$8),\"\")","v":""},{"$f":"IF(AND($AA10=7,T10<>\"\",U10<>\"\"),ort($T10,$U10,$AY$9:$AZ$9),\"\")","v":""},null,null,null,null,null,null,null,null,null,{"$f":"SUM(BB10/18/24,BC10:BD10)","v":"00:00:00"}]
[null,null,{"$f":"IF(I10=\"\",\"\",IF(MONTH(I10+1)=MONTH(I10),I10+1,\"\"))","v":""},{"$f":"IF(C11=\"\",\"\",IF(MONTH(C11+1)=MONTH(C11),C11+1,\"\"))","v":""},"","","","","","","",{"$f":"DATE($B$3,$B$4,9)","v":"2018-09-09"},{"$f":"DATE($B$3,$B$4,9)","v":"2018-09-09"},null,"00:00:00",null,null,null,null,null,null,"","","","","",{"$f":"IF(ISERROR(IF(NOT(ISERROR(MATCH($M11,Blad2!$A$2:$A$11,0))),7,WEEKDAY($M11,2))),\"\",IF(NOT(ISERROR(MATCH($M11,Blad2!$A$2:$A$11,0))),7,WEEKDAY($M11,2)))","v":7},{"$f":"IF(AND($AA11<6,N11<>\"\",O11<>\"\"),ort($N11,$O11,$AY$3:$AZ$3),\"\")","v":""},{"$f":"IF(AND($AA11<6,N11<>\"\",O11<>\"\"),ort($N11,$O11,$AY$4:$AZ$5),\"\")","v":""},{"$f":"IF(AND($AA11<6,N11<>\"\",O11<>\"\"),ort($N11,$O11,$AY$6:$AZ$7),\"\")","v":""},{"$f":"IF(AND($AA11=6,N11<>\"\",O11<>\"\"),ort($N11,$O11,$AY$8:$AZ$8),\"\")","v":""},{"$f":"IF(AND($AA11=7,N11<>\"\",O11<>\"\"),ort($N11,$O11,$AY$9:$AZ$9),\"\")","v":""},{"$f":"IF(AND($AA11<6,P11<>\"\",Q11<>\"\"),ort($P11,$Q11,$AY$3:$AZ$3),\"\")","v":""},{"$f":"IF(AND($AA11<6,P11<>\"\",Q11<>\"\"),ort($P11,$Q11,$AY$4:$AZ$5),\"\")","v":""},{"$f":"IF(AND($AA11<6,P11<>\"\",Q11<>\"\"),ort($P11,$Q11,$AY$6:$AZ$7),\"\")","v":""},{"$f":"IF(AND($AA11=6,P11<>\"\",Q11<>\"\"),ort($P11,$Q11,$AY$8:$AZ$8),\"\")","v":""},{"$f":"IF(AND($AA11=7,P11<>\"\",Q11<>\"\"),ort($P11,$Q11,$AY$9:$AZ$9),\"\")","v":""},{"$f":"IF(AND($AA11<6,R11<>\"\",S11<>\"\"),ort($R11,$S11,$AY$3:$AZ$3),\"\")","v":""},{"$f":"IF(AND($AA11<6,R11<>\"\",S11<>\"\"),ort($R11,$S11,$AY$4:$AZ$5),\"\")","v":""},{"$f":"IF(AND($AA11<6,R11<>\"\",S11<>\"\"),ort($R11,$S11,$AY$6:$AZ$7),\"\")","v":""},{"$f":"IF(AND($AA11=6,R11<>\"\",S11<>\"\"),ort($R11,$S11,$AY$8:$AZ$8),\"\")","v":""},{"$f":"IF(AND($AA11=7,R11<>\"\",S11<>\"\"),ort($R11,$S11,$AY$9:$AZ$9),\"\")","v":""},{"$f":"IF(AND($AA11<6,T11<>\"\",U11<>\"\"),ort($T11,$U11,$AY$3:$AZ$3),\"\")","v":""},{"$f":"IF(AND($AA11<6,T11<>\"\",U11<>\"\"),ort($T11,$U11,$AY$4:$AZ$5),\"\")","v":""},{"$f":"IF(AND($AA11<6,T11<>\"\",U11<>\"\"),ort($T11,$U11,$AY$6:$AZ$7),\"\")","v":""},{"$f":"IF(AND($AA11=6,T11<>\"\",U11<>\"\"),ort($T11,$U11,$AY$8:$AZ$8),\"\")","v":""},{"$f":"IF(AND($AA11=7,T11<>\"\",U11<>\"\"),ort($T11,$U11,$AY$9:$AZ$9),\"\")","v":""},null,null,null,null,null,null,null,null,null,"00:00:00"]
[null,null,null,null,null,null,null,null,null,"",37,{"$f":"DATE($B$3,$B$4,10)","v":"2018-09-10"},{"$f":"DATE($B$3,$B$4,10)","v":"2018-09-10"},null,"00:00:00",null,null,null,null,null,null,"","","","","",{"$f":"IF(ISERROR(IF(NOT(ISERROR(MATCH($M12,Blad2!$A$2:$A$11,0))),7,WEEKDAY($M12,2))),\"\",IF(NOT(ISERROR(MATCH($M12,Blad2!$A$2:$A$11,0))),7,WEEKDAY($M12,2)))","v":1},{"$f":"IF(AND($AA12<6,N12<>\"\",O12<>\"\"),ort($N12,$O12,$AY$3:$AZ$3),\"\")","v":""},{"$f":"IF(AND($AA12<6,N12<>\"\",O12<>\"\"),ort($N12,$O12,$AY$4:$AZ$5),\"\")","v":""},{"$f":"IF(AND($AA12<6,N12<>\"\",O12<>\"\"),ort($N12,$O12,$AY$6:$AZ$7),\"\")","v":""},{"$f":"IF(AND($AA12=6,N12<>\"\",O12<>\"\"),ort($N12,$O12,$AY$8:$AZ$8),\"\")","v":""},{"$f":"IF(AND($AA12=7,N12<>\"\",O12<>\"\"),ort($N12,$O12,$AY$9:$AZ$9),\"\")","v":""},{"$f":"IF(AND($AA12<6,P12<>\"\",Q12<>\"\"),ort($P12,$Q12,$AY$3:$AZ$3),\"\")","v":""},{"$f":"IF(AND($AA12<6,P12<>\"\",Q12<>\"\"),ort($P12,$Q12,$AY$4:$AZ$5),\"\")","v":""},{"$f":"IF(AND($AA12<6,P12<>\"\",Q12<>\"\"),ort($P12,$Q12,$AY$6:$AZ$7),\"\")","v":""},{"$f":"IF(AND($AA12=6,P12<>\"\",Q12<>\"\"),ort($P12,$Q12,$AY$8:$AZ$8),\"\")","v":""},{"$f":"IF(AND($AA12=7,P12<>\"\",Q12<>\"\"),ort($P12,$Q12,$AY$9:$AZ$9),\"\")","v":""},{"$f":"IF(AND($AA12<6,R12<>\"\",S12<>\"\"),ort($R12,$S12,$AY$3:$AZ$3),\"\")","v":""},{"$f":"IF(AND($AA12<6,R12<>\"\",S12<>\"\"),ort($R12,$S12,$AY$4:$AZ$5),\"\")","v":""},{"$f":"IF(AND($AA12<6,R12<>\"\",S12<>\"\"),ort($R12,$S12,$AY$6:$AZ$7),\"\")","v":""},{"$f":"IF(AND($AA12=6,R12<>\"\",S12<>\"\"),ort($R12,$S12,$AY$8:$AZ$8),\"\")","v":""},{"$f":"IF(AND($AA12=7,R12<>\"\",S12<>\"\"),ort($R12,$S12,$AY$9:$AZ$9),\"\")","v":""},{"$f":"IF(AND($AA12<6,T12<>\"\",U12<>\"\"),ort($T12,$U12,$AY$3:$AZ$3),\"\")","v":""},{"$f":"IF(AND($AA12<6,T12<>\"\",U12<>\"\"),ort($T12,$U12,$AY$4:$AZ$5),\"\")","v":""},{"$f":"IF(AND($AA12<6,T12<>\"\",U12<>\"\"),ort($T12,$U12,$AY$6:$AZ$7),\"\")","v":""},{"$f":"IF(AND($AA12=6,T12<>\"\",U12<>\"\"),ort($T12,$U12,$AY$8:$AZ$8),\"\")","v":""},{"$f":"IF(AND($AA12=7,T12<>\"\",U12<>\"\"),ort($T12,$U12,$AY$9:$AZ$9),\"\")","v":""},null,null,null,null,null,null,null,null,null,"00:00:00"]
[null,"Werkdagen deze maand",null,null,null,null,null,null,null,"","",{"$f":"DATE($B$3,$B$4,11)","v":"2018-09-11"},{"$f":"DATE($B$3,$B$4,11)","v":"2018-09-11"},null,"00:00:00",null,null,null,null,null,null,"","","","","",{"$f":"IF(ISERROR(IF(NOT(ISERROR(MATCH($M13,Blad2!$A$2:$A$11,0))),7,WEEKDAY($M13,2))),\"\",IF(NOT(ISERROR(MATCH($M13,Blad2!$A$2:$A$11,0))),7,WEEKDAY($M13,2)))","v":2},{"$f":"IF(AND($AA13<6,N13<>\"\",O13<>\"\"),ort($N13,$O13,$AY$3:$AZ$3),\"\")","v":""},{"$f":"IF(AND($AA13<6,N13<>\"\",O13<>\"\"),ort($N13,$O13,$AY$4:$AZ$5),\"\")","v":""},{"$f":"IF(AND($AA13<6,N13<>\"\",O13<>\"\"),ort($N13,$O13,$AY$6:$AZ$7),\"\")","v":""},{"$f":"IF(AND($AA13=6,N13<>\"\",O13<>\"\"),ort($N13,$O13,$AY$8:$AZ$8),\"\")","v":""},{"$f":"IF(AND($AA13=7,N13<>\"\",O13<>\"\"),ort($N13,$O13,$AY$9:$AZ$9),\"\")","v":""},{"$f":"IF(AND($AA13<6,P13<>\"\",Q13<>\"\"),ort($P13,$Q13,$AY$3:$AZ$3),\"\")","v":""},{"$f":"IF(AND($AA13<6,P13<>\"\",Q13<>\"\"),ort($P13,$Q13,$AY$4:$AZ$5),\"\")","v":""},{"$f":"IF(AND($AA13<6,P13<>\"\",Q13<>\"\"),ort($P13,$Q13,$AY$6:$AZ$7),\"\")","v":""},{"$f":"IF(AND($AA13=6,P13<>\"\",Q13<>\"\"),ort($P13,$Q13,$AY$8:$AZ$8),\"\")","v":""},{"$f":"IF(AND($AA13=7,P13<>\"\",Q13<>\"\"),ort($P13,$Q13,$AY$9:$AZ$9),\"\")","v":""},{"$f":"IF(AND($AA13<6,R13<>\"\",S13<>\"\"),ort($R13,$S13,$AY$3:$AZ$3),\"\")","v":""},{"$f":"IF(AND($AA13<6,R13<>\"\",S13<>\"\"),ort($R13,$S13,$AY$4:$AZ$5),\"\")","v":""},{"$f":"IF(AND($AA13<6,R13<>\"\",S13<>\"\"),ort($R13,$S13,$AY$6:$AZ$7),\"\")","v":""},{"$f":"IF(AND($AA13=6,R13<>\"\",S13<>\"\"),ort($R13,$S13,$AY$8:$AZ$8),\"\")","v":""},{"$f":"IF(AND($AA13=7,R13<>\"\",S13<>\"\"),ort($R13,$S13,$AY$9:$AZ$9),\"\")","v":""},{"$f":"IF(AND($AA13<6,T13<>\"\",U13<>\"\"),ort($T13,$U13,$AY$3:$AZ$3),\"\")","v":""},{"$f":"IF(AND($AA13<6,T13<>\"\",U13<>\"\"),ort($T13,$U13,$AY$4:$AZ$5),\"\")","v":""},{"$f":"IF(AND($AA13<6,T13<>\"\",U13<>\"\"),ort($T13,$U13,$AY$6:$AZ$7),\"\")","v":""},{"$f":"IF(AND($AA13=6,T13<>\"\",U13<>\"\"),ort($T13,$U13,$AY$8:$AZ$8),\"\")","v":""},{"$f":"IF(AND($AA13=7,T13<>\"\",U13<>\"\"),ort($T13,$U13,$AY$9:$AZ$9),\"\")","v":""},null,null,null,null,null,null,null,null,null,"00:00:00"]
[null,{"$f":"NETWORKDAYS($L$3,EOMONTH($L$3,0),Blad2!A2:A97)&\" dagen\"","v":"20 dagen"},null,null,null,null,null,null,null,"","",{"$f":"DATE($B$3,$B$4,12)","v":"2018-09-12"},{"$f":"DATE($B$3,$B$4,12)","v":"2018-09-12"},null,"00:00:00",null,null,null,null,null,null,"","","","","",{"$f":"IF(ISERROR(IF(NOT(ISERROR(MATCH($M14,Blad2!$A$2:$A$11,0))),7,WEEKDAY($M14,2))),\"\",IF(NOT(ISERROR(MATCH($M14,Blad2!$A$2:$A$11,0))),7,WEEKDAY($M14,2)))","v":3},{"$f":"IF(AND($AA14<6,N14<>\"\",O14<>\"\"),ort($N14,$O14,$AY$3:$AZ$3),\"\")","v":""},{"$f":"IF(AND($AA14<6,N14<>\"\",O14<>\"\"),ort($N14,$O14,$AY$4:$AZ$5),\"\")","v":""},{"$f":"IF(AND($AA14<6,N14<>\"\",O14<>\"\"),ort($N14,$O14,$AY$6:$AZ$7),\"\")","v":""},{"$f":"IF(AND($AA14=6,N14<>\"\",O14<>\"\"),ort($N14,$O14,$AY$8:$AZ$8),\"\")","v":""},{"$f":"IF(AND($AA14=7,N14<>\"\",O14<>\"\"),ort($N14,$O14,$AY$9:$AZ$9),\"\")","v":""},{"$f":"IF(AND($AA14<6,P14<>\"\",Q14<>\"\"),ort($P14,$Q14,$AY$3:$AZ$3),\"\")","v":""},{"$f":"IF(AND($AA14<6,P14<>\"\",Q14<>\"\"),ort($P14,$Q14,$AY$4:$AZ$5),\"\")","v":""},{"$f":"IF(AND($AA14<6,P14<>\"\",Q14<>\"\"),ort($P14,$Q14,$AY$6:$AZ$7),\"\")","v":""},{"$f":"IF(AND($AA14=6,P14<>\"\",Q14<>\"\"),ort($P14,$Q14,$AY$8:$AZ$8),\"\")","v":""},{"$f":"IF(AND($AA14=7,P14<>\"\",Q14<>\"\"),ort($P14,$Q14,$AY$9:$AZ$9),\"\")","v":""},{"$f":"IF(AND($AA14<6,R14<>\"\",S14<>\"\"),ort($R14,$S14,$AY$3:$AZ$3),\"\")","v":""},{"$f":"IF(AND($AA14<6,R14<>\"\",S14<>\"\"),ort($R14,$S14,$AY$4:$AZ$5),\"\")","v":""},{"$f":"IF(AND($AA14<6,R14<>\"\",S14<>\"\"),ort($R14,$S14,$AY$6:$AZ$7),\"\")","v":""},{"$f":"IF(AND($AA14=6,R14<>\"\",S14<>\"\"),ort($R14,$S14,$AY$8:$AZ$8),\"\")","v":""},{"$f":"IF(AND($AA14=7,R14<>\"\",S14<>\"\"),ort($R14,$S14,$AY$9:$AZ$9),\"\")","v":""},{"$f":"IF(AND($AA14<6,T14<>\"\",U14<>\"\"),ort($T14,$U14,$AY$3:$AZ$3),\"\")","v":""},{"$f":"IF(AND($AA14<6,T14<>\"\",U14<>\"\"),ort($T14,$U14,$AY$4:$AZ$5),\"\")","v":""},{"$f":"IF(AND($AA14<6,T14<>\"\",U14<>\"\"),ort($T14,$U14,$AY$6:$AZ$7),\"\")","v":""},{"$f":"IF(AND($AA14=6,T14<>\"\",U14<>\"\"),ort($T14,$U14,$AY$8:$AZ$8),\"\")","v":""},{"$f":"IF(AND($AA14=7,T14<>\"\",U14<>\"\"),ort($T14,$U14,$AY$9:$AZ$9),\"\")","v":""},null,null,null,null,null,null,null,null,null,"00:00:00"]
[null,null,null,null,null,null,null,null,null,"","",{"$f":"DATE($B$3,$B$4,13)","v":"2018-09-13"},{"$f":"DATE($B$3,$B$4,13)","v":"2018-09-13"},null,"00:00:00",null,null,null,null,null,null,"","","","","",{"$f":"IF(ISERROR(IF(NOT(ISERROR(MATCH($M15,Blad2!$A$2:$A$11,0))),7,WEEKDAY($M15,2))),\"\",IF(NOT(ISERROR(MATCH($M15,Blad2!$A$2:$A$11,0))),7,WEEKDAY($M15,2)))","v":4},{"$f":"IF(AND($AA15<6,N15<>\"\",O15<>\"\"),ort($N15,$O15,$AY$3:$AZ$3),\"\")","v":""},{"$f":"IF(AND($AA15<6,N15<>\"\",O15<>\"\"),ort($N15,$O15,$AY$4:$AZ$5),\"\")","v":""},{"$f":"IF(AND($AA15<6,N15<>\"\",O15<>\"\"),ort($N15,$O15,$AY$6:$AZ$7),\"\")","v":""},{"$f":"IF(AND($AA15=6,N15<>\"\",O15<>\"\"),ort($N15,$O15,$AY$8:$AZ$8),\"\")","v":""},{"$f":"IF(AND($AA15=7,N15<>\"\",O15<>\"\"),ort($N15,$O15,$AY$9:$AZ$9),\"\")","v":""},{"$f":"IF(AND($AA15<6,P15<>\"\",Q15<>\"\"),ort($P15,$Q15,$AY$3:$AZ$3),\"\")","v":""},{"$f":"IF(AND($AA15<6,P15<>\"\",Q15<>\"\"),ort($P15,$Q15,$AY$4:$AZ$5),\"\")","v":""},{"$f":"IF(AND($AA15<6,P15<>\"\",Q15<>\"\"),ort($P15,$Q15,$AY$6:$AZ$7),\"\")","v":""},{"$f":"IF(AND($AA15=6,P15<>\"\",Q15<>\"\"),ort($P15,$Q15,$AY$8:$AZ$8),\"\")","v":""},{"$f":"IF(AND($AA15=7,P15<>\"\",Q15<>\"\"),ort($P15,$Q15,$AY$9:$AZ$9),\"\")","v":""},{"$f":"IF(AND($AA15<6,R15<>\"\",S15<>\"\"),ort($R15,$S15,$AY$3:$AZ$3),\"\")","v":""},{"$f":"IF(AND($AA15<6,R15<>\"\",S15<>\"\"),ort($R15,$S15,$AY$4:$AZ$5),\"\")","v":""},{"$f":"IF(AND($AA15<6,R15<>\"\",S15<>\"\"),ort($R15,$S15,$AY$6:$AZ$7),\"\")","v":""},{"$f":"IF(AND($AA15=6,R15<>\"\",S15<>\"\"),ort($R15,$S15,$AY$8:$AZ$8),\"\")","v":""},{"$f":"IF(AND($AA15=7,R15<>\"\",S15<>\"\"),ort($R15,$S15,$AY$9:$AZ$9),\"\")","v":""},{"$f":"IF(AND($AA15<6,T15<>\"\",U15<>\"\"),ort($T15,$U15,$AY$3:$AZ$3),\"\")","v":""},{"$f":"IF(AND($AA15<6,T15<>\"\",U15<>\"\"),ort($T15,$U15,$AY$4:$AZ$5),\"\")","v":""},{"$f":"IF(AND($AA15<6,T15<>\"\",U15<>\"\"),ort($T15,$U15,$AY$6:$AZ$7),\"\")","v":""},{"$f":"IF(AND($AA15=6,T15<>\"\",U15<>\"\"),ort($T15,$U15,$AY$8:$AZ$8),\"\")","v":""},{"$f":"IF(AND($AA15=7,T15<>\"\",U15<>\"\"),ort($T15,$U15,$AY$9:$AZ$9),\"\")","v":""},null,null,null,null,null,null,null,null,null,"00:00:00"]
[null,"Contract Uren",null,null,null,null,null,null,null,"","",{"$f":"DATE($B$3,$B$4,14)","v":"2018-09-14"},{"$f":"DATE($B$3,$B$4,14)","v":"2018-09-14"},null,"00:00:00",null,null,null,null,null,null,"","","","","",{"$f":"IF(ISERROR(IF(NOT(ISERROR(MATCH($M16,Blad2!$A$2:$A$11,0))),7,WEEKDAY($M16,2))),\"\",IF(NOT(ISERROR(MATCH($M16,Blad2!$A$2:$A$11,0))),7,WEEKDAY($M16,2)))","v":5},{"$f":"IF(AND($AA16<6,N16<>\"\",O16<>\"\"),ort($N16,$O16,$AY$3:$AZ$3),\"\")","v":""},{"$f":"IF(AND($AA16<6,N16<>\"\",O16<>\"\"),ort($N16,$O16,$AY$4:$AZ$5),\"\")","v":""},{"$f":"IF(AND($AA16<6,N16<>\"\",O16<>\"\"),ort($N16,$O16,$AY$6:$AZ$7),\"\")","v":""},{"$f":"IF(AND($AA16=6,N16<>\"\",O16<>\"\"),ort($N16,$O16,$AY$8:$AZ$8),\"\")","v":""},{"$f":"IF(AND($AA16=7,N16<>\"\",O16<>\"\"),ort($N16,$O16,$AY$9:$AZ$9),\"\")","v":""},{"$f":"IF(AND($AA16<6,P16<>\"\",Q16<>\"\"),ort($P16,$Q16,$AY$3:$AZ$3),\"\")","v":""},{"$f":"IF(AND($AA16<6,P16<>\"\",Q16<>\"\"),ort($P16,$Q16,$AY$4:$AZ$5),\"\")","v":""},{"$f":"IF(AND($AA16<6,P16<>\"\",Q16<>\"\"),ort($P16,$Q16,$AY$6:$AZ$7),\"\")","v":""},{"$f":"IF(AND($AA16=6,P16<>\"\",Q16<>\"\"),ort($P16,$Q16,$AY$8:$AZ$8),\"\")","v":""},{"$f":"IF(AND($AA16=7,P16<>\"\",Q16<>\"\"),ort($P16,$Q16,$AY$9:$AZ$9),\"\")","v":""},{"$f":"IF(AND($AA16<6,R16<>\"\",S16<>\"\"),ort($R16,$S16,$AY$3:$AZ$3),\"\")","v":""},{"$f":"IF(AND($AA16<6,R16<>\"\",S16<>\"\"),ort($R16,$S16,$AY$4:$AZ$5),\"\")","v":""},{"$f":"IF(AND($AA16<6,R16<>\"\",S16<>\"\"),ort($R16,$S16,$AY$6:$AZ$7),\"\")","v":""},{"$f":"IF(AND($AA16=6,R16<>\"\",S16<>\"\"),ort($R16,$S16,$AY$8:$AZ$8),\"\")","v":""},{"$f":"IF(AND($AA16=7,R16<>\"\",S16<>\"\"),ort($R16,$S16,$AY$9:$AZ$9),\"\")","v":""},{"$f":"IF(AND($AA16<6,T16<>\"\",U16<>\"\"),ort($T16,$U16,$AY$3:$AZ$3),\"\")","v":""},{"$f":"IF(AND($AA16<6,T16<>\"\",U16<>\"\"),ort($T16,$U16,$AY$4:$AZ$5),\"\")","v":""},{"$f":"IF(AND($AA16<6,T16<>\"\",U16<>\"\"),ort($T16,$U16,$AY$6:$AZ$7),\"\")","v":""},{"$f":"IF(AND($AA16=6,T16<>\"\",U16<>\"\"),ort($T16,$U16,$AY$8:$AZ$8),\"\")","v":""},{"$f":"IF(AND($AA16=7,T16<>\"\",U16<>\"\"),ort($T16,$U16,$AY$9:$AZ$9),\"\")","v":""},null,null,null,null,null,null,null,null,null,"00:00:00"]
[null,3.75,null,null,null,null,null,null,null,"","",{"$f":"DATE($B$3,$B$4,15)","v":"2018-09-15"},{"$f":"DATE($B$3,$B$4,15)","v":"2018-09-15"},null,"00:00:00",null,null,null,null,null,null,"","","","","",{"$f":"IF(ISERROR(IF(NOT(ISERROR(MATCH($M17,Blad2!$A$2:$A$11,0))),7,WEEKDAY($M17,2))),\"\",IF(NOT(ISERROR(MATCH($M17,Blad2!$A$2:$A$11,0))),7,WEEKDAY($M17,2)))","v":6},{"$f":"IF(AND($AA17<6,N17<>\"\",O17<>\"\"),ort($N17,$O17,$AY$3:$AZ$3),\"\")","v":""},{"$f":"IF(AND($AA17<6,N17<>\"\",O17<>\"\"),ort($N17,$O17,$AY$4:$AZ$5),\"\")","v":""},{"$f":"IF(AND($AA17<6,N17<>\"\",O17<>\"\"),ort($N17,$O17,$AY$6:$AZ$7),\"\")","v":""},{"$f":"IF(AND($AA17=6,N17<>\"\",O17<>\"\"),ort($N17,$O17,$AY$8:$AZ$8),\"\")","v":""},{"$f":"IF(AND($AA17=7,N17<>\"\",O17<>\"\"),ort($N17,$O17,$AY$9:$AZ$9),\"\")","v":""},{"$f":"IF(AND($AA17<6,P17<>\"\",Q17<>\"\"),ort($P17,$Q17,$AY$3:$AZ$3),\"\")","v":""},{"$f":"IF(AND($AA17<6,P17<>\"\",Q17<>\"\"),ort($P17,$Q17,$AY$4:$AZ$5),\"\")","v":""},{"$f":"IF(AND($AA17<6,P17<>\"\",Q17<>\"\"),ort($P17,$Q17,$AY$6:$AZ$7),\"\")","v":""},{"$f":"IF(AND($AA17=6,P17<>\"\",Q17<>\"\"),ort($P17,$Q17,$AY$8:$AZ$8),\"\")","v":""},{"$f":"IF(AND($AA17=7,P17<>\"\",Q17<>\"\"),ort($P17,$Q17,$AY$9:$AZ$9),\"\")","v":""},{"$f":"IF(AND($AA17<6,R17<>\"\",S17<>\"\"),ort($R17,$S17,$AY$3:$AZ$3),\"\")","v":""},{"$f":"IF(AND($AA17<6,R17<>\"\",S17<>\"\"),ort($R17,$S17,$AY$4:$AZ$5),\"\")","v":""},{"$f":"IF(AND($AA17<6,R17<>\"\",S17<>\"\"),ort($R17,$S17,$AY$6:$AZ$7),\"\")","v":""},{"$f":"IF(AND($AA17=6,R17<>\"\",S17<>\"\"),ort($R17,$S17,$AY$8:$AZ$8),\"\")","v":""},{"$f":"IF(AND($AA17=7,R17<>\"\",S17<>\"\"),ort($R17,$S17,$AY$9:$AZ$9),\"\")","v":""},{"$f":"IF(AND($AA17<6,T17<>\"\",U17<>\"\"),ort($T17,$U17,$AY$3:$AZ$3),\"\")","v":""},{"$f":"IF(AND($AA17<6,T17<>\"\",U17<>\"\"),ort($T17,$U17,$AY$4:$AZ$5),\"\")","v":""},{"$f":"IF(AND($AA17<6,T17<>\"\",U17<>\"\"),ort($T17,$U17,$AY$6:$AZ$7),\"\")","v":""},{"$f":"IF(AND($AA17=6,T17<>\"\",U17<>\"\"),ort($T17,$U17,$AY$8:$AZ$8),\"\")","v":""},{"$f":"IF(AND($AA17=7,T17<>\"\",U17<>\"\"),ort($T17,$U17,$AY$9:$AZ$9),\"\")","v":""},null,null,null,null,null,null,null,null,null,"00:00:00"]
[null,null,null,null,null,null,null,null,null,"","",{"$f":"DATE($B$3,$B$4,16)","v":"2018-09-16"},{"$f":"DATE($B$3,$B$4,16)","v":"2018-09-16"},null,"00:00:00",null,null,null,null,null,null,"","","","","",{"$f":"IF(ISERROR(IF(NOT(ISERROR(MATCH($M18,Blad2!$A$2:$A$11,0))),7,WEEKDAY($M18,2))),\"\",IF(NOT(ISERROR(MATCH($M18,Blad2!$A$2:$A$11,0))),7,WEEKDAY($M18,2)))","v":7},{"$f":"IF(AND($AA18<6,N18<>\"\",O18<>\"\"),ort($N18,$O18,$AY$3:$AZ$3),\"\")","v":""},{"$f":"IF(AND($AA18<6,N18<>\"\",O18<>\"\"),ort($N18,$O18,$AY$4:$AZ$5),\"\")","v":""},{"$f":"IF(AND($AA18<6,N18<>\"\",O18<>\"\"),ort($N18,$O18,$AY$6:$AZ$7),\"\")","v":""},{"$f":"IF(AND($AA18=6,N18<>\"\",O18<>\"\"),ort($N18,$O18,$AY$8:$AZ$8),\"\")","v":""},{"$f":"IF(AND($AA18=7,N18<>\"\",O18<>\"\"),ort($N18,$O18,$AY$9:$AZ$9),\"\")","v":""},{"$f":"IF(AND($AA18<6,P18<>\"\",Q18<>\"\"),ort($P18,$Q18,$AY$3:$AZ$3),\"\")","v":""},{"$f":"IF(AND($AA18<6,P18<>\"\",Q18<>\"\"),ort($P18,$Q18,$AY$4:$AZ$5),\"\")","v":""},{"$f":"IF(AND($AA18<6,P18<>\"\",Q18<>\"\"),ort($P18,$Q18,$AY$6:$AZ$7),\"\")","v":""},{"$f":"IF(AND($AA18=6,P18<>\"\",Q18<>\"\"),ort($P18,$Q18,$AY$8:$AZ$8),\"\")","v":""},{"$f":"IF(AND($AA18=7,P18<>\"\",Q18<>\"\"),ort($P18,$Q18,$AY$9:$AZ$9),\"\")","v":""},{"$f":"IF(AND($AA18<6,R18<>\"\",S18<>\"\"),ort($R18,$S18,$AY$3:$AZ$3),\"\")","v":""},{"$f":"IF(AND($AA18<6,R18<>\"\",S18<>\"\"),ort($R18,$S18,$AY$4:$AZ$5),\"\")","v":""},{"$f":"IF(AND($AA18<6,R18<>\"\",S18<>\"\"),ort($R18,$S18,$AY$6:$AZ$7),\"\")","v":""},{"$f":"IF(AND($AA18=6,R18<>\"\",S18<>\"\"),ort($R18,$S18,$AY$8:$AZ$8),\"\")","v":""},{"$f":"IF(AND($AA18=7,R18<>\"\",S18<>\"\"),ort($R18,$S18,$AY$9:$AZ$9),\"\")","v":""},{"$f":"IF(AND($AA18<6,T18<>\"\",U18<>\"\"),ort($T18,$U18,$AY$3:$AZ$3),\"\")","v":""},{"$f":"IF(AND($AA18<6,T18<>\"\",U18<>\"\"),ort($T18,$U18,$AY$4:$AZ$5),\"\")","v":""},{"$f":"IF(AND($AA18<6,T18<>\"\",U18<>\"\"),ort($T18,$U18,$AY$6:$AZ$7),\"\")","v":""},{"$f":"IF(AND($AA18=6,T18<>\"\",U18<>\"\"),ort($T18,$U18,$AY$8:$AZ$8),\"\")","v":""},{"$f":"IF(AND($AA18=7,T18<>\"\",U18<>\"\"),ort($T18,$U18,$AY$9:$AZ$9),\"\")","v":""},null,null,null,null,null,null,null,null,null,"00:00:00"]
[null,"Gewerkte uren deze maand",null,null,null,null,null,null,null,"",38,{"$f":"DATE($B$3,$B$4,17)","v":"2018-09-17"},{"$f":"DATE($B$3,$B$4,17)","v":"2018-09-17"},null,"00:00:00",null,null,null,null,null,null,"","","","","",{"$f":"IF(ISERROR(IF(NOT(ISERROR(MATCH($M19,Blad2!$A$2:$A$11,0))),7,WEEKDAY($M19,2))),\"\",IF(NOT(ISERROR(MATCH($M19,Blad2!$A$2:$A$11,0))),7,WEEKDAY($M19,2)))","v":1},{"$f":"IF(AND($AA19<6,N19<>\"\",O19<>\"\"),ort($N19,$O19,$AY$3:$AZ$3),\"\")","v":""},{"$f":"IF(AND($AA19<6,N19<>\"\",O19<>\"\"),ort($N19,$O19,$AY$4:$AZ$5),\"\")","v":""},{"$f":"IF(AND($AA19<6,N19<>\"\",O19<>\"\"),ort($N19,$O19,$AY$6:$AZ$7),\"\")","v":""},{"$f":"IF(AND($AA19=6,N19<>\"\",O19<>\"\"),ort($N19,$O19,$AY$8:$AZ$8),\"\")","v":""},{"$f":"IF(AND($AA19=7,N19<>\"\",O19<>\"\"),ort($N19,$O19,$AY$9:$AZ$9),\"\")","v":""},{"$f":"IF(AND($AA19<6,P19<>\"\",Q19<>\"\"),ort($P19,$Q19,$AY$3:$AZ$3),\"\")","v":""},{"$f":"IF(AND($AA19<6,P19<>\"\",Q19<>\"\"),ort($P19,$Q19,$AY$4:$AZ$5),\"\")","v":""},{"$f":"IF(AND($AA19<6,P19<>\"\",Q19<>\"\"),ort($P19,$Q19,$AY$6:$AZ$7),\"\")","v":""},{"$f":"IF(AND($AA19=6,P19<>\"\",Q19<>\"\"),ort($P19,$Q19,$AY$8:$AZ$8),\"\")","v":""},{"$f":"IF(AND($AA19=7,P19<>\"\",Q19<>\"\"),ort($P19,$Q19,$AY$9:$AZ$9),\"\")","v":""},{"$f":"IF(AND($AA19<6,R19<>\"\",S19<>\"\"),ort($R19,$S19,$AY$3:$AZ$3),\"\")","v":""},{"$f":"IF(AND($AA19<6,R19<>\"\",S19<>\"\"),ort($R19,$S19,$AY$4:$AZ$5),\"\")","v":""},{"$f":"IF(AND($AA19<6,R19<>\"\",S19<>\"\"),ort($R19,$S19,$AY$6:$AZ$7),\"\")","v":""},{"$f":"IF(AND($AA19=6,R19<>\"\",S19<>\"\"),ort($R19,$S19,$AY$8:$AZ$8),\"\")","v":""},{"$f":"IF(AND($AA19=7,R19<>\"\",S19<>\"\"),ort($R19,$S19,$AY$9:$AZ$9),\"\")","v":""},{"$f":"IF(AND($AA19<6,T19<>\"\",U19<>\"\"),ort($T19,$U19,$AY$3:$AZ$3),\"\")","v":""},{"$f":"IF(AND($AA19<6,T19<>\"\",U19<>\"\"),ort($T19,$U19,$AY$4:$AZ$5),\"\")","v":""},{"$f":"IF(AND($AA19<6,T19<>\"\",U19<>\"\"),ort($T19,$U19,$AY$6:$AZ$7),\"\")","v":""},{"$f":"IF(AND($AA19=6,T19<>\"\",U19<>\"\"),ort($T19,$U19,$AY$8:$AZ$8),\"\")","v":""},{"$f":"IF(AND($AA19=7,T19<>\"\",U19<>\"\"),ort($T19,$U19,$AY$9:$AZ$9),\"\")","v":""},null,null,null,null,null,null,null,null,null,"00:00:00"]
[null,{"$f":"SUM($V$3:$V$33)","v":0},null,null,null,null,null,null,null,"","",{"$f":"DATE($B$3,$B$4,18)","v":"2018-09-18"},{"$f":"DATE($B$3,$B$4,18)","v":"2018-09-18"},null,"00:00:00",null,null,null,null,null,null,"","","","","",{"$f":"IF(ISERROR(IF(NOT(ISERROR(MATCH($M20,Blad2!$A$2:$A$11,0))),7,WEEKDAY($M20,2))),\"\",IF(NOT(ISERROR(MATCH($M20,Blad2!$A$2:$A$11,0))),7,WEEKDAY($M20,2)))","v":2},{"$f":"IF(AND($AA20<6,N20<>\"\",O20<>\"\"),ort($N20,$O20,$AY$3:$AZ$3),\"\")","v":""},{"$f":"IF(AND($AA20<6,N20<>\"\",O20<>\"\"),ort($N20,$O20,$AY$4:$AZ$5),\"\")","v":""},{"$f":"IF(AND($AA20<6,N20<>\"\",O20<>\"\"),ort($N20,$O20,$AY$6:$AZ$7),\"\")","v":""},{"$f":"IF(AND($AA20=6,N20<>\"\",O20<>\"\"),ort($N20,$O20,$AY$8:$AZ$8),\"\")","v":""},{"$f":"IF(AND($AA20=7,N20<>\"\",O20<>\"\"),ort($N20,$O20,$AY$9:$AZ$9),\"\")","v":""},{"$f":"IF(AND($AA20<6,P20<>\"\",Q20<>\"\"),ort($P20,$Q20,$AY$3:$AZ$3),\"\")","v":""},{"$f":"IF(AND($AA20<6,P20<>\"\",Q20<>\"\"),ort($P20,$Q20,$AY$4:$AZ$5),\"\")","v":""},{"$f":"IF(AND($AA20<6,P20<>\"\",Q20<>\"\"),ort($P20,$Q20,$AY$6:$AZ$7),\"\")","v":""},{"$f":"IF(AND($AA20=6,P20<>\"\",Q20<>\"\"),ort($P20,$Q20,$AY$8:$AZ$8),\"\")","v":""},{"$f":"IF(AND($AA20=7,P20<>\"\",Q20<>\"\"),ort($P20,$Q20,$AY$9:$AZ$9),\"\")","v":""},{"$f":"IF(AND($AA20<6,R20<>\"\",S20<>\"\"),ort($R20,$S20,$AY$3:$AZ$3),\"\")","v":""},{"$f":"IF(AND($AA20<6,R20<>\"\",S20<>\"\"),ort($R20,$S20,$AY$4:$AZ$5),\"\")","v":""},{"$f":"IF(AND($AA20<6,R20<>\"\",S20<>\"\"),ort($R20,$S20,$AY$6:$AZ$7),\"\")","v":""},{"$f":"IF(AND($AA20=6,R20<>\"\",S20<>\"\"),ort($R20,$S20,$AY$8:$AZ$8),\"\")","v":""},{"$f":"IF(AND($AA20=7,R20<>\"\",S20<>\"\"),ort($R20,$S20,$AY$9:$AZ$9),\"\")","v":""},{"$f":"IF(AND($AA20<6,T20<>\"\",U20<>\"\"),ort($T20,$U20,$AY$3:$AZ$3),\"\")","v":""},{"$f":"IF(AND($AA20<6,T20<>\"\",U20<>\"\"),ort($T20,$U20,$AY$4:$AZ$5),\"\")","v":""},{"$f":"IF(AND($AA20<6,T20<>\"\",U20<>\"\"),ort($T20,$U20,$AY$6:$AZ$7),\"\")","v":""},{"$f":"IF(AND($AA20=6,T20<>\"\",U20<>\"\"),ort($T20,$U20,$AY$8:$AZ$8),\"\")","v":""},{"$f":"IF(AND($AA20=7,T20<>\"\",U20<>\"\"),ort($T20,$U20,$AY$9:$AZ$9),\"\")","v":""},null,{"$f":"COUNTA(Blad2!B12:B100)-COUNTIF(Blad2!B12:B100,\"Verlof\")","v":0},"  Aantal opgenomen ATV-dagen",null,null,null,null,null,null,"00:00:00"]
[null,null,null,null,null,null,null,null,null,"","",{"$f":"DATE($B$3,$B$4,19)","v":"2018-09-19"},{"$f":"DATE($B$3,$B$4,19)","v":"2018-09-19"},null,"00:00:00",null,null,null,null,null,null,"","","","","",{"$f":"IF(ISERROR(IF(NOT(ISERROR(MATCH($M21,Blad2!$A$2:$A$11,0))),7,WEEKDAY($M21,2))),\"\",IF(NOT(ISERROR(MATCH($M21,Blad2!$A$2:$A$11,0))),7,WEEKDAY($M21,2)))","v":3},{"$f":"IF(AND($AA21<6,N21<>\"\",O21<>\"\"),ort($N21,$O21,$AY$3:$AZ$3),\"\")","v":""},{"$f":"IF(AND($AA21<6,N21<>\"\",O21<>\"\"),ort($N21,$O21,$AY$4:$AZ$5),\"\")","v":""},{"$f":"IF(AND($AA21<6,N21<>\"\",O21<>\"\"),ort($N21,$O21,$AY$6:$AZ$7),\"\")","v":""},{"$f":"IF(AND($AA21=6,N21<>\"\",O21<>\"\"),ort($N21,$O21,$AY$8:$AZ$8),\"\")","v":""},{"$f":"IF(AND($AA21=7,N21<>\"\",O21<>\"\"),ort($N21,$O21,$AY$9:$AZ$9),\"\")","v":""},{"$f":"IF(AND($AA21<6,P21<>\"\",Q21<>\"\"),ort($P21,$Q21,$AY$3:$AZ$3),\"\")","v":""},{"$f":"IF(AND($AA21<6,P21<>\"\",Q21<>\"\"),ort($P21,$Q21,$AY$4:$AZ$5),\"\")","v":""},{"$f":"IF(AND($AA21<6,P21<>\"\",Q21<>\"\"),ort($P21,$Q21,$AY$6:$AZ$7),\"\")","v":""},{"$f":"IF(AND($AA21=6,P21<>\"\",Q21<>\"\"),ort($P21,$Q21,$AY$8:$AZ$8),\"\")","v":""},{"$f":"IF(AND($AA21=7,P21<>\"\",Q21<>\"\"),ort($P21,$Q21,$AY$9:$AZ$9),\"\")","v":""},{"$f":"IF(AND($AA21<6,R21<>\"\",S21<>\"\"),ort($R21,$S21,$AY$3:$AZ$3),\"\")","v":""},{"$f":"IF(AND($AA21<6,R21<>\"\",S21<>\"\"),ort($R21,$S21,$AY$4:$AZ$5),\"\")","v":""},{"$f":"IF(AND($AA21<6,R21<>\"\",S21<>\"\"),ort($R21,$S21,$AY$6:$AZ$7),\"\")","v":""},{"$f":"IF(AND($AA21=6,R21<>\"\",S21<>\"\"),ort($R21,$S21,$AY$8:$AZ$8),\"\")","v":""},{"$f":"IF(AND($AA21=7,R21<>\"\",S21<>\"\"),ort($R21,$S21,$AY$9:$AZ$9),\"\")","v":""},{"$f":"IF(AND($AA21<6,T21<>\"\",U21<>\"\"),ort($T21,$U21,$AY$3:$AZ$3),\"\")","v":""},{"$f":"IF(AND($AA21<6,T21<>\"\",U21<>\"\"),ort($T21,$U21,$AY$4:$AZ$5),\"\")","v":""},{"$f":"IF(AND($AA21<6,T21<>\"\",U21<>\"\"),ort($T21,$U21,$AY$6:$AZ$7),\"\")","v":""},{"$f":"IF(AND($AA21=6,T21<>\"\",U21<>\"\"),ort($T21,$U21,$AY$8:$AZ$8),\"\")","v":""},{"$f":"IF(AND($AA21=7,T21<>\"\",U21<>\"\"),ort($T21,$U21,$AY$9:$AZ$9),\"\")","v":""},null,{"$f":"COUNTA(Blad2!B12:B100)-COUNTIF(Blad2!B12:B100,\"ATV\")","v":2},"  Aantal opgenomen verlofdagen",null,null,null,null,null,null,"00:00:00"]
[null,null,null,null,null,null,null,null,null,"","",{"$f":"DATE($B$3,$B$4,20)","v":"2018-09-20"},{"$f":"DATE($B$3,$B$4,20)","v":"2018-09-20"},null,"00:00:00",null,null,null,null,null,null,"","","","","",{"$f":"IF(ISERROR(IF(NOT(ISERROR(MATCH($M22,Blad2!$A$2:$A$11,0))),7,WEEKDAY($M22,2))),\"\",IF(NOT(ISERROR(MATCH($M22,Blad2!$A$2:$A$11,0))),7,WEEKDAY($M22,2)))","v":4},{"$f":"IF(AND($AA22<6,N22<>\"\",O22<>\"\"),ort($N22,$O22,$AY$3:$AZ$3),\"\")","v":""},{"$f":"IF(AND($AA22<6,N22<>\"\",O22<>\"\"),ort($N22,$O22,$AY$4:$AZ$5),\"\")","v":""},{"$f":"IF(AND($AA22<6,N22<>\"\",O22<>\"\"),ort($N22,$O22,$AY$6:$AZ$7),\"\")","v":""},{"$f":"IF(AND($AA22=6,N22<>\"\",O22<>\"\"),ort($N22,$O22,$AY$8:$AZ$8),\"\")","v":""},{"$f":"IF(AND($AA22=7,N22<>\"\",O22<>\"\"),ort($N22,$O22,$AY$9:$AZ$9),\"\")","v":""},{"$f":"IF(AND($AA22<6,P22<>\"\",Q22<>\"\"),ort($P22,$Q22,$AY$3:$AZ$3),\"\")","v":""},{"$f":"IF(AND($AA22<6,P22<>\"\",Q22<>\"\"),ort($P22,$Q22,$AY$4:$AZ$5),\"\")","v":""},{"$f":"IF(AND($AA22<6,P22<>\"\",Q22<>\"\"),ort($P22,$Q22,$AY$6:$AZ$7),\"\")","v":""},{"$f":"IF(AND($AA22=6,P22<>\"\",Q22<>\"\"),ort($P22,$Q22,$AY$8:$AZ$8),\"\")","v":""},{"$f":"IF(AND($AA22=7,P22<>\"\",Q22<>\"\"),ort($P22,$Q22,$AY$9:$AZ$9),\"\")","v":""},{"$f":"IF(AND($AA22<6,R22<>\"\",S22<>\"\"),ort($R22,$S22,$AY$3:$AZ$3),\"\")","v":""},{"$f":"IF(AND($AA22<6,R22<>\"\",S22<>\"\"),ort($R22,$S22,$AY$4:$AZ$5),\"\")","v":""},{"$f":"IF(AND($AA22<6,R22<>\"\",S22<>\"\"),ort($R22,$S22,$AY$6:$AZ$7),\"\")","v":""},{"$f":"IF(AND($AA22=6,R22<>\"\",S22<>\"\"),ort($R22,$S22,$AY$8:$AZ$8),\"\")","v":""},{"$f":"IF(AND($AA22=7,R22<>\"\",S22<>\"\"),ort($R22,$S22,$AY$9:$AZ$9),\"\")","v":""},{"$f":"IF(AND($AA22<6,T22<>\"\",U22<>\"\"),ort($T22,$U22,$AY$3:$AZ$3),\"\")","v":""},{"$f":"IF(AND($AA22<6,T22<>\"\",U22<>\"\"),ort($T22,$U22,$AY$4:$AZ$5),\"\")","v":""},{"$f":"IF(AND($AA22<6,T22<>\"\",U22<>\"\"),ort($T22,$U22,$AY$6:$AZ$7),\"\")","v":""},{"$f":"IF(AND($AA22=6,T22<>\"\",U22<>\"\"),ort($T22,$U22,$AY$8:$AZ$8),\"\")","v":""},{"$f":"IF(AND($AA22=7,T22<>\"\",U22<>\"\"),ort($T22,$U22,$AY$9:$AZ$9),\"\")","v":""},null,null,null,null,null,null,null,null,null,"00:00:00"]
[null,null,null,null,null,null,null,null,null,"","",{"$f":"DATE($B$3,$B$4,21)","v":"2018-09-21"},{"$f":"DATE($B$3,$B$4,21)","v":"2018-09-21"},null,"00:00:00",null,null,null,null,null,null,"","","","","",{"$f":"IF(ISERROR(IF(NOT(ISERROR(MATCH($M23,Blad2!$A$2:$A$11,0))),7,WEEKDAY($M23,2))),\"\",IF(NOT(ISERROR(MATCH($M23,Blad2!$A$2:$A$11,0))),7,WEEKDAY($M23,2)))","v":5},{"$f":"IF(AND($AA23<6,N23<>\"\",O23<>\"\"),ort($N23,$O23,$AY$3:$AZ$3),\"\")","v":""},{"$f":"IF(AND($AA23<6,N23<>\"\",O23<>\"\"),ort($N23,$O23,$AY$4:$AZ$5),\"\")","v":""},{"$f":"IF(AND($AA23<6,N23<>\"\",O23<>\"\"),ort($N23,$O23,$AY$6:$AZ$7),\"\")","v":""},{"$f":"IF(AND($AA23=6,N23<>\"\",O23<>\"\"),ort($N23,$O23,$AY$8:$AZ$8),\"\")","v":""},{"$f":"IF(AND($AA23=7,N23<>\"\",O23<>\"\"),ort($N23,$O23,$AY$9:$AZ$9),\"\")","v":""},{"$f":"IF(AND($AA23<6,P23<>\"\",Q23<>\"\"),ort($P23,$Q23,$AY$3:$AZ$3),\"\")","v":""},{"$f":"IF(AND($AA23<6,P23<>\"\",Q23<>\"\"),ort($P23,$Q23,$AY$4:$AZ$5),\"\")","v":""},{"$f":"IF(AND($AA23<6,P23<>\"\",Q23<>\"\"),ort($P23,$Q23,$AY$6:$AZ$7),\"\")","v":""},{"$f":"IF(AND($AA23=6,P23<>\"\",Q23<>\"\"),ort($P23,$Q23,$AY$8:$AZ$8),\"\")","v":""},{"$f":"IF(AND($AA23=7,P23<>\"\",Q23<>\"\"),ort($P23,$Q23,$AY$9:$AZ$9),\"\")","v":""},{"$f":"IF(AND($AA23<6,R23<>\"\",S23<>\"\"),ort($R23,$S23,$AY$3:$AZ$3),\"\")","v":""},{"$f":"IF(AND($AA23<6,R23<>\"\",S23<>\"\"),ort($R23,$S23,$AY$4:$AZ$5),\"\")","v":""},{"$f":"IF(AND($AA23<6,R23<>\"\",S23<>\"\"),ort($R23,$S23,$AY$6:$AZ$7),\"\")","v":""},{"$f":"IF(AND($AA23=6,R23<>\"\",S23<>\"\"),ort($R23,$S23,$AY$8:$AZ$8),\"\")","v":""},{"$f":"IF(AND($AA23=7,R23<>\"\",S23<>\"\"),ort($R23,$S23,$AY$9:$AZ$9),\"\")","v":""},{"$f":"IF(AND($AA23<6,T23<>\"\",U23<>\"\"),ort($T23,$U23,$AY$3:$AZ$3),\"\")","v":""},{"$f":"IF(AND($AA23<6,T23<>\"\",U23<>\"\"),ort($T23,$U23,$AY$4:$AZ$5),\"\")","v":""},{"$f":"IF(AND($AA23<6,T23<>\"\",U23<>\"\"),ort($T23,$U23,$AY$6:$AZ$7),\"\")","v":""},{"$f":"IF(AND($AA23=6,T23<>\"\",U23<>\"\"),ort($T23,$U23,$AY$8:$AZ$8),\"\")","v":""},{"$f":"IF(AND($AA23=7,T23<>\"\",U23<>\"\"),ort($T23,$U23,$AY$9:$AZ$9),\"\")","v":""},null,null,null,null,null,null,null,null,null,"00:00:00"]
[null,null,null,null,null,null,null,null,null,"","",{"$f":"DATE($B$3,$B$4,22)","v":"2018-09-22"},{"$f":"DATE($B$3,$B$4,22)","v":"2018-09-22"},null,"00:00:00",null,null,null,null,null,null,"","","","","",{"$f":"IF(ISERROR(IF(NOT(ISERROR(MATCH($M24,Blad2!$A$2:$A$11,0))),7,WEEKDAY($M24,2))),\"\",IF(NOT(ISERROR(MATCH($M24,Blad2!$A$2:$A$11,0))),7,WEEKDAY($M24,2)))","v":6},{"$f":"IF(AND($AA24<6,N24<>\"\",O24<>\"\"),ort($N24,$O24,$AY$3:$AZ$3),\"\")","v":""},{"$f":"IF(AND($AA24<6,N24<>\"\",O24<>\"\"),ort($N24,$O24,$AY$4:$AZ$5),\"\")","v":""},{"$f":"IF(AND($AA24<6,N24<>\"\",O24<>\"\"),ort($N24,$O24,$AY$6:$AZ$7),\"\")","v":""},{"$f":"IF(AND($AA24=6,N24<>\"\",O24<>\"\"),ort($N24,$O24,$AY$8:$AZ$8),\"\")","v":""},{"$f":"IF(AND($AA24=7,N24<>\"\",O24<>\"\"),ort($N24,$O24,$AY$9:$AZ$9),\"\")","v":""},{"$f":"IF(AND($AA24<6,P24<>\"\",Q24<>\"\"),ort($P24,$Q24,$AY$3:$AZ$3),\"\")","v":""},{"$f":"IF(AND($AA24<6,P24<>\"\",Q24<>\"\"),ort($P24,$Q24,$AY$4:$AZ$5),\"\")","v":""},{"$f":"IF(AND($AA24<6,P24<>\"\",Q24<>\"\"),ort($P24,$Q24,$AY$6:$AZ$7),\"\")","v":""},{"$f":"IF(AND($AA24=6,P24<>\"\",Q24<>\"\"),ort($P24,$Q24,$AY$8:$AZ$8),\"\")","v":""},{"$f":"IF(AND($AA24=7,P24<>\"\",Q24<>\"\"),ort($P24,$Q24,$AY$9:$AZ$9),\"\")","v":""},{"$f":"IF(AND($AA24<6,R24<>\"\",S24<>\"\"),ort($R24,$S24,$AY$3:$AZ$3),\"\")","v":""},{"$f":"IF(AND($AA24<6,R24<>\"\",S24<>\"\"),ort($R24,$S24,$AY$4:$AZ$5),\"\")","v":""},{"$f":"IF(AND($AA24<6,R24<>\"\",S24<>\"\"),ort($R24,$S24,$AY$6:$AZ$7),\"\")","v":""},{"$f":"IF(AND($AA24=6,R24<>\"\",S24<>\"\"),ort($R24,$S24,$AY$8:$AZ$8),\"\")","v":""},{"$f":"IF(AND($AA24=7,R24<>\"\",S24<>\"\"),ort($R24,$S24,$AY$9:$AZ$9),\"\")","v":""},{"$f":"IF(AND($AA24<6,T24<>\"\",U24<>\"\"),ort($T24,$U24,$AY$3:$AZ$3),\"\")","v":""},{"$f":"IF(AND($AA24<6,T24<>\"\",U24<>\"\"),ort($T24,$U24,$AY$4:$AZ$5),\"\")","v":""},{"$f":"IF(AND($AA24<6,T24<>\"\",U24<>\"\"),ort($T24,$U24,$AY$6:$AZ$7),\"\")","v":""},{"$f":"IF(AND($AA24=6,T24<>\"\",U24<>\"\"),ort($T24,$U24,$AY$8:$AZ$8),\"\")","v":""},{"$f":"IF(AND($AA24=7,T24<>\"\",U24<>\"\"),ort($T24,$U24,$AY$9:$AZ$9),\"\")","v":""},null,null,null,null,null,null,null,null,null,"00:00:00"]
[null,null,null,null,null,null,null,null,null,"","",{"$f":"DATE($B$3,$B$4,23)","v":"2018-09-23"},{"$f":"DATE($B$3,$B$4,23)","v":"2018-09-23"},null,"00:00:00",null,null,null,null,null,null,"","","","","",{"$f":"IF(ISERROR(IF(NOT(ISERROR(MATCH($M25,Blad2!$A$2:$A$11,0))),7,WEEKDAY($M25,2))),\"\",IF(NOT(ISERROR(MATCH($M25,Blad2!$A$2:$A$11,0))),7,WEEKDAY($M25,2)))","v":7},{"$f":"IF(AND($AA25<6,N25<>\"\",O25<>\"\"),ort($N25,$O25,$AY$3:$AZ$3),\"\")","v":""},{"$f":"IF(AND($AA25<6,N25<>\"\",O25<>\"\"),ort($N25,$O25,$AY$4:$AZ$5),\"\")","v":""},{"$f":"IF(AND($AA25<6,N25<>\"\",O25<>\"\"),ort($N25,$O25,$AY$6:$AZ$7),\"\")","v":""},{"$f":"IF(AND($AA25=6,N25<>\"\",O25<>\"\"),ort($N25,$O25,$AY$8:$AZ$8),\"\")","v":""},{"$f":"IF(AND($AA25=7,N25<>\"\",O25<>\"\"),ort($N25,$O25,$AY$9:$AZ$9),\"\")","v":""},{"$f":"IF(AND($AA25<6,P25<>\"\",Q25<>\"\"),ort($P25,$Q25,$AY$3:$AZ$3),\"\")","v":""},{"$f":"IF(AND($AA25<6,P25<>\"\",Q25<>\"\"),ort($P25,$Q25,$AY$4:$AZ$5),\"\")","v":""},{"$f":"IF(AND($AA25<6,P25<>\"\",Q25<>\"\"),ort($P25,$Q25,$AY$6:$AZ$7),\"\")","v":""},{"$f":"IF(AND($AA25=6,P25<>\"\",Q25<>\"\"),ort($P25,$Q25,$AY$8:$AZ$8),\"\")","v":""},{"$f":"IF(AND($AA25=7,P25<>\"\",Q25<>\"\"),ort($P25,$Q25,$AY$9:$AZ$9),\"\")","v":""},{"$f":"IF(AND($AA25<6,R25<>\"\",S25<>\"\"),ort($R25,$S25,$AY$3:$AZ$3),\"\")","v":""},{"$f":"IF(AND($AA25<6,R25<>\"\",S25<>\"\"),ort($R25,$S25,$AY$4:$AZ$5),\"\")","v":""},{"$f":"IF(AND($AA25<6,R25<>\"\",S25<>\"\"),ort($R25,$S25,$AY$6:$AZ$7),\"\")","v":""},{"$f":"IF(AND($AA25=6,R25<>\"\",S25<>\"\"),ort($R25,$S25,$AY$8:$AZ$8),\"\")","v":""},{"$f":"IF(AND($AA25=7,R25<>\"\",S25<>\"\"),ort($R25,$S25,$AY$9:$AZ$9),\"\")","v":""},{"$f":"IF(AND($AA25<6,T25<>\"\",U25<>\"\"),ort($T25,$U25,$AY$3:$AZ$3),\"\")","v":""},{"$f":"IF(AND($AA25<6,T25<>\"\",U25<>\"\"),ort($T25,$U25,$AY$4:$AZ$5),\"\")","v":""},{"$f":"IF(AND($AA25<6,T25<>\"\",U25<>\"\"),ort($T25,$U25,$AY$6:$AZ$7),\"\")","v":""},{"$f":"IF(AND($AA25=6,T25<>\"\",U25<>\"\"),ort($T25,$U25,$AY$8:$AZ$8),\"\")","v":""},{"$f":"IF(AND($AA25=7,T25<>\"\",U25<>\"\"),ort($T25,$U25,$AY$9:$AZ$9),\"\")","v":""},null,null,null,null,null,null,null,null,null,"00:00:00"]
[null,null,null,null,null,null,null,null,null,"",39,{"$f":"DATE($B$3,$B$4,24)","v":"2018-09-24"},{"$f":"DATE($B$3,$B$4,24)","v":"2018-09-24"},null,"00:00:00",null,null,null,null,null,null,"","","","","",{"$f":"IF(ISERROR(IF(NOT(ISERROR(MATCH($M26,Blad2!$A$2:$A$11,0))),7,WEEKDAY($M26,2))),\"\",IF(NOT(ISERROR(MATCH($M26,Blad2!$A$2:$A$11,0))),7,WEEKDAY($M26,2)))","v":1},{"$f":"IF(AND($AA26<6,N26<>\"\",O26<>\"\"),ort($N26,$O26,$AY$3:$AZ$3),\"\")","v":""},{"$f":"IF(AND($AA26<6,N26<>\"\",O26<>\"\"),ort($N26,$O26,$AY$4:$AZ$5),\"\")","v":""},{"$f":"IF(AND($AA26<6,N26<>\"\",O26<>\"\"),ort($N26,$O26,$AY$6:$AZ$7),\"\")","v":""},{"$f":"IF(AND($AA26=6,N26<>\"\",O26<>\"\"),ort($N26,$O26,$AY$8:$AZ$8),\"\")","v":""},{"$f":"IF(AND($AA26=7,N26<>\"\",O26<>\"\"),ort($N26,$O26,$AY$9:$AZ$9),\"\")","v":""},{"$f":"IF(AND($AA26<6,P26<>\"\",Q26<>\"\"),ort($P26,$Q26,$AY$3:$AZ$3),\"\")","v":""},{"$f":"IF(AND($AA26<6,P26<>\"\",Q26<>\"\"),ort($P26,$Q26,$AY$4:$AZ$5),\"\")","v":""},{"$f":"IF(AND($AA26<6,P26<>\"\",Q26<>\"\"),ort($P26,$Q26,$AY$6:$AZ$7),\"\")","v":""},{"$f":"IF(AND($AA26=6,P26<>\"\",Q26<>\"\"),ort($P26,$Q26,$AY$8:$AZ$8),\"\")","v":""},{"$f":"IF(AND($AA26=7,P26<>\"\",Q26<>\"\"),ort($P26,$Q26,$AY$9:$AZ$9),\"\")","v":""},{"$f":"IF(AND($AA26<6,R26<>\"\",S26<>\"\"),ort($R26,$S26,$AY$3:$AZ$3),\"\")","v":""},{"$f":"IF(AND($AA26<6,R26<>\"\",S26<>\"\"),ort($R26,$S26,$AY$4:$AZ$5),\"\")","v":""},{"$f":"IF(AND($AA26<6,R26<>\"\",S26<>\"\"),ort($R26,$S26,$AY$6:$AZ$7),\"\")","v":""},{"$f":"IF(AND($AA26=6,R26<>\"\",S26<>\"\"),ort($R26,$S26,$AY$8:$AZ$8),\"\")","v":""},{"$f":"IF(AND($AA26=7,R26<>\"\",S26<>\"\"),ort($R26,$S26,$AY$9:$AZ$9),\"\")","v":""},{"$f":"IF(AND($AA26<6,T26<>\"\",U26<>\"\"),ort($T26,$U26,$AY$3:$AZ$3),\"\")","v":""},{"$f":"IF(AND($AA26<6,T26<>\"\",U26<>\"\"),ort($T26,$U26,$AY$4:$AZ$5),\"\")","v":""},{"$f":"IF(AND($AA26<6,T26<>\"\",U26<>\"\"),ort($T26,$U26,$AY$6:$AZ$7),\"\")","v":""},{"$f":"IF(AND($AA26=6,T26<>\"\",U26<>\"\"),ort($T26,$U26,$AY$8:$AZ$8),\"\")","v":""},{"$f":"IF(AND($AA26=7,T26<>\"\",U26<>\"\"),ort($T26,$U26,$AY$9:$AZ$9),\"\")","v":""},null,null,null,null,null,null,null,null,null,"00:00:00"]
[null,null,null,null,null,null,null,null,null,"","",{"$f":"DATE($B$3,$B$4,25)","v":"2018-09-25"},{"$f":"DATE($B$3,$B$4,25)","v":"2018-09-25"},null,"00:00:00",null,null,null,null,null,null,"","","","","",{"$f":"IF(ISERROR(IF(NOT(ISERROR(MATCH($M27,Blad2!$A$2:$A$11,0))),7,WEEKDAY($M27,2))),\"\",IF(NOT(ISERROR(MATCH($M27,Blad2!$A$2:$A$11,0))),7,WEEKDAY($M27,2)))","v":2},{"$f":"IF(AND($AA27<6,N27<>\"\",O27<>\"\"),ort($N27,$O27,$AY$3:$AZ$3),\"\")","v":""},{"$f":"IF(AND($AA27<6,N27<>\"\",O27<>\"\"),ort($N27,$O27,$AY$4:$AZ$5),\"\")","v":""},{"$f":"IF(AND($AA27<6,N27<>\"\",O27<>\"\"),ort($N27,$O27,$AY$6:$AZ$7),\"\")","v":""},{"$f":"IF(AND($AA27=6,N27<>\"\",O27<>\"\"),ort($N27,$O27,$AY$8:$AZ$8),\"\")","v":""},{"$f":"IF(AND($AA27=7,N27<>\"\",O27<>\"\"),ort($N27,$O27,$AY$9:$AZ$9),\"\")","v":""},{"$f":"IF(AND($AA27<6,P27<>\"\",Q27<>\"\"),ort($P27,$Q27,$AY$3:$AZ$3),\"\")","v":""},{"$f":"IF(AND($AA27<6,P27<>\"\",Q27<>\"\"),ort($P27,$Q27,$AY$4:$AZ$5),\"\")","v":""},{"$f":"IF(AND($AA27<6,P27<>\"\",Q27<>\"\"),ort($P27,$Q27,$AY$6:$AZ$7),\"\")","v":""},{"$f":"IF(AND($AA27=6,P27<>\"\",Q27<>\"\"),ort($P27,$Q27,$AY$8:$AZ$8),\"\")","v":""},{"$f":"IF(AND($AA27=7,P27<>\"\",Q27<>\"\"),ort($P27,$Q27,$AY$9:$AZ$9),\"\")","v":""},{"$f":"IF(AND($AA27<6,R27<>\"\",S27<>\"\"),ort($R27,$S27,$AY$3:$AZ$3),\"\")","v":""},{"$f":"IF(AND($AA27<6,R27<>\"\",S27<>\"\"),ort($R27,$S27,$AY$4:$AZ$5),\"\")","v":""},{"$f":"IF(AND($AA27<6,R27<>\"\",S27<>\"\"),ort($R27,$S27,$AY$6:$AZ$7),\"\")","v":""},{"$f":"IF(AND($AA27=6,R27<>\"\",S27<>\"\"),ort($R27,$S27,$AY$8:$AZ$8),\"\")","v":""},{"$f":"IF(AND($AA27=7,R27<>\"\",S27<>\"\"),ort($R27,$S27,$AY$9:$AZ$9),\"\")","v":""},{"$f":"IF(AND($AA27<6,T27<>\"\",U27<>\"\"),ort($T27,$U27,$AY$3:$AZ$3),\"\")","v":""},{"$f":"IF(AND($AA27<6,T27<>\"\",U27<>\"\"),ort($T27,$U27,$AY$4:$AZ$5),\"\")","v":""},{"$f":"IF(AND($AA27<6,T27<>\"\",U27<>\"\"),ort($T27,$U27,$AY$6:$AZ$7),\"\")","v":""},{"$f":"IF(AND($AA27=6,T27<>\"\",U27<>\"\"),ort($T27,$U27,$AY$8:$AZ$8),\"\")","v":""},{"$f":"IF(AND($AA27=7,T27<>\"\",U27<>\"\"),ort($T27,$U27,$AY$9:$AZ$9),\"\")","v":""},null,null,null,null,null,null,null,null,null,"00:00:00"]
[null,null,null,null,null,null,null,null,null,"","",{"$f":"DATE($B$3,$B$4,26)","v":"2018-09-26"},{"$f":"DATE($B$3,$B$4,26)","v":"2018-09-26"},null,"00:00:00",null,null,null,null,null,null,"","","","","",{"$f":"IF(ISERROR(IF(NOT(ISERROR(MATCH($M28,Blad2!$A$2:$A$11,0))),7,WEEKDAY($M28,2))),\"\",IF(NOT(ISERROR(MATCH($M28,Blad2!$A$2:$A$11,0))),7,WEEKDAY($M28,2)))","v":3},{"$f":"IF(AND($AA28<6,N28<>\"\",O28<>\"\"),ort($N28,$O28,$AY$3:$AZ$3),\"\")","v":""},{"$f":"IF(AND($AA28<6,N28<>\"\",O28<>\"\"),ort($N28,$O28,$AY$4:$AZ$5),\"\")","v":""},{"$f":"IF(AND($AA28<6,N28<>\"\",O28<>\"\"),ort($N28,$O28,$AY$6:$AZ$7),\"\")","v":""},{"$f":"IF(AND($AA28=6,N28<>\"\",O28<>\"\"),ort($N28,$O28,$AY$8:$AZ$8),\"\")","v":""},{"$f":"IF(AND($AA28=7,N28<>\"\",O28<>\"\"),ort($N28,$O28,$AY$9:$AZ$9),\"\")","v":""},{"$f":"IF(AND($AA28<6,P28<>\"\",Q28<>\"\"),ort($P28,$Q28,$AY$3:$AZ$3),\"\")","v":""},{"$f":"IF(AND($AA28<6,P28<>\"\",Q28<>\"\"),ort($P28,$Q28,$AY$4:$AZ$5),\"\")","v":""},{"$f":"IF(AND($AA28<6,P28<>\"\",Q28<>\"\"),ort($P28,$Q28,$AY$6:$AZ$7),\"\")","v":""},{"$f":"IF(AND($AA28=6,P28<>\"\",Q28<>\"\"),ort($P28,$Q28,$AY$8:$AZ$8),\"\")","v":""},{"$f":"IF(AND($AA28=7,P28<>\"\",Q28<>\"\"),ort($P28,$Q28,$AY$9:$AZ$9),\"\")","v":""},{"$f":"IF(AND($AA28<6,R28<>\"\",S28<>\"\"),ort($R28,$S28,$AY$3:$AZ$3),\"\")","v":""},{"$f":"IF(AND($AA28<6,R28<>\"\",S28<>\"\"),ort($R28,$S28,$AY$4:$AZ$5),\"\")","v":""},{"$f":"IF(AND($AA28<6,R28<>\"\",S28<>\"\"),ort($R28,$S28,$AY$6:$AZ$7),\"\")","v":""},{"$f":"IF(AND($AA28=6,R28<>\"\",S28<>\"\"),ort($R28,$S28,$AY$8:$AZ$8),\"\")","v":""},{"$f":"IF(AND($AA28=7,R28<>\"\",S28<>\"\"),ort($R28,$S28,$AY$9:$AZ$9),\"\")","v":""},{"$f":"IF(AND($AA28<6,T28<>\"\",U28<>\"\"),ort($T28,$U28,$AY$3:$AZ$3),\"\")","v":""},{"$f":"IF(AND($AA28<6,T28<>\"\",U28<>\"\"),ort($T28,$U28,$AY$4:$AZ$5),\"\")","v":""},{"$f":"IF(AND($AA28<6,T28<>\"\",U28<>\"\"),ort($T28,$U28,$AY$6:$AZ$7),\"\")","v":""},{"$f":"IF(AND($AA28=6,T28<>\"\",U28<>\"\"),ort($T28,$U28,$AY$8:$AZ$8),\"\")","v":""},{"$f":"IF(AND($AA28=7,T28<>\"\",U28<>\"\"),ort($T28,$U28,$AY$9:$AZ$9),\"\")","v":""},null,null,null,null,null,null,null,null,null,"00:00:00"]
[null,null,null,null,null,null,null,null,null,"","",{"$f":"DATE($B$3,$B$4,27)","v":"2018-09-27"},{"$f":"DATE($B$3,$B$4,27)","v":"2018-09-27"},null,"00:00:00",null,null,null,null,null,null,"","","","","",{"$f":"IF(ISERROR(IF(NOT(ISERROR(MATCH($M29,Blad2!$A$2:$A$11,0))),7,WEEKDAY($M29,2))),\"\",IF(NOT(ISERROR(MATCH($M29,Blad2!$A$2:$A$11,0))),7,WEEKDAY($M29,2)))","v":4},{"$f":"IF(AND($AA29<6,N29<>\"\",O29<>\"\"),ort($N29,$O29,$AY$3:$AZ$3),\"\")","v":""},{"$f":"IF(AND($AA29<6,N29<>\"\",O29<>\"\"),ort($N29,$O29,$AY$4:$AZ$5),\"\")","v":""},{"$f":"IF(AND($AA29<6,N29<>\"\",O29<>\"\"),ort($N29,$O29,$AY$6:$AZ$7),\"\")","v":""},{"$f":"IF(AND($AA29=6,N29<>\"\",O29<>\"\"),ort($N29,$O29,$AY$8:$AZ$8),\"\")","v":""},{"$f":"IF(AND($AA29=7,N29<>\"\",O29<>\"\"),ort($N29,$O29,$AY$9:$AZ$9),\"\")","v":""},{"$f":"IF(AND($AA29<6,P29<>\"\",Q29<>\"\"),ort($P29,$Q29,$AY$3:$AZ$3),\"\")","v":""},{"$f":"IF(AND($AA29<6,P29<>\"\",Q29<>\"\"),ort($P29,$Q29,$AY$4:$AZ$5),\"\")","v":""},{"$f":"IF(AND($AA29<6,P29<>\"\",Q29<>\"\"),ort($P29,$Q29,$AY$6:$AZ$7),\"\")","v":""},{"$f":"IF(AND($AA29=6,P29<>\"\",Q29<>\"\"),ort($P29,$Q29,$AY$8:$AZ$8),\"\")","v":""},{"$f":"IF(AND($AA29=7,P29<>\"\",Q29<>\"\"),ort($P29,$Q29,$AY$9:$AZ$9),\"\")","v":""},{"$f":"IF(AND($AA29<6,R29<>\"\",S29<>\"\"),ort($R29,$S29,$AY$3:$AZ$3),\"\")","v":""},{"$f":"IF(AND($AA29<6,R29<>\"\",S29<>\"\"),ort($R29,$S29,$AY$4:$AZ$5),\"\")","v":""},{"$f":"IF(AND($AA29<6,R29<>\"\",S29<>\"\"),ort($R29,$S29,$AY$6:$AZ$7),\"\")","v":""},{"$f":"IF(AND($AA29=6,R29<>\"\",S29<>\"\"),ort($R29,$S29,$AY$8:$AZ$8),\"\")","v":""},{"$f":"IF(AND($AA29=7,R29<>\"\",S29<>\"\"),ort($R29,$S29,$AY$9:$AZ$9),\"\")","v":""},{"$f":"IF(AND($AA29<6,T29<>\"\",U29<>\"\"),ort($T29,$U29,$AY$3:$AZ$3),\"\")","v":""},{"$f":"IF(AND($AA29<6,T29<>\"\",U29<>\"\"),ort($T29,$U29,$AY$4:$AZ$5),\"\")","v":""},{"$f":"IF(AND($AA29<6,T29<>\"\",U29<>\"\"),ort($T29,$U29,$AY$6:$AZ$7),\"\")","v":""},{"$f":"IF(AND($AA29=6,T29<>\"\",U29<>\"\"),ort($T29,$U29,$AY$8:$AZ$8),\"\")","v":""},{"$f":"IF(AND($AA29=7,T29<>\"\",U29<>\"\"),ort($T29,$U29,$AY$9:$AZ$9),\"\")","v":""},null,null,null,null,null,null,null,null,null,"00:00:00"]
[null,null,null,null,null,null,null,null,null,"","",{"$f":"DATE($B$3,$B$4,28)","v":"2018-09-28"},{"$f":"DATE($B$3,$B$4,28)","v":"2018-09-28"},null,"00:00:00",null,null,null,null,null,null,"","","","","",{"$f":"IF(ISERROR(IF(NOT(ISERROR(MATCH($M30,Blad2!$A$2:$A$11,0))),7,WEEKDAY($M30,2))),\"\",IF(NOT(ISERROR(MATCH($M30,Blad2!$A$2:$A$11,0))),7,WEEKDAY($M30,2)))","v":5},{"$f":"IF(AND($AA30<6,N30<>\"\",O30<>\"\"),ort($N30,$O30,$AY$3:$AZ$3),\"\")","v":""},{"$f":"IF(AND($AA30<6,N30<>\"\",O30<>\"\"),ort($N30,$O30,$AY$4:$AZ$5),\"\")","v":""},{"$f":"IF(AND($AA30<6,N30<>\"\",O30<>\"\"),ort($N30,$O30,$AY$6:$AZ$7),\"\")","v":""},{"$f":"IF(AND($AA30=6,N30<>\"\",O30<>\"\"),ort($N30,$O30,$AY$8:$AZ$8),\"\")","v":""},{"$f":"IF(AND($AA30=7,N30<>\"\",O30<>\"\"),ort($N30,$O30,$AY$9:$AZ$9),\"\")","v":""},{"$f":"IF(AND($AA30<6,P30<>\"\",Q30<>\"\"),ort($P30,$Q30,$AY$3:$AZ$3),\"\")","v":""},{"$f":"IF(AND($AA30<6,P30<>\"\",Q30<>\"\"),ort($P30,$Q30,$AY$4:$AZ$5),\"\")","v":""},{"$f":"IF(AND($AA30<6,P30<>\"\",Q30<>\"\"),ort($P30,$Q30,$AY$6:$AZ$7),\"\")","v":""},{"$f":"IF(AND($AA30=6,P30<>\"\",Q30<>\"\"),ort($P30,$Q30,$AY$8:$AZ$8),\"\")","v":""},{"$f":"IF(AND($AA30=7,P30<>\"\",Q30<>\"\"),ort($P30,$Q30,$AY$9:$AZ$9),\"\")","v":""},{"$f":"IF(AND($AA30<6,R30<>\"\",S30<>\"\"),ort($R30,$S30,$AY$3:$AZ$3),\"\")","v":""},{"$f":"IF(AND($AA30<6,R30<>\"\",S30<>\"\"),ort($R30,$S30,$AY$4:$AZ$5),\"\")","v":""},{"$f":"IF(AND($AA30<6,R30<>\"\",S30<>\"\"),ort($R30,$S30,$AY$6:$AZ$7),\"\")","v":""},{"$f":"IF(AND($AA30=6,R30<>\"\",S30<>\"\"),ort($R30,$S30,$AY$8:$AZ$8),\"\")","v":""},{"$f":"IF(AND($AA30=7,R30<>\"\",S30<>\"\"),ort($R30,$S30,$AY$9:$AZ$9),\"\")","v":""},{"$f":"IF(AND($AA30<6,T30<>\"\",U30<>\"\"),ort($T30,$U30,$AY$3:$AZ$3),\"\")","v":""},{"$f":"IF(AND($AA30<6,T30<>\"\",U30<>\"\"),ort($T30,$U30,$AY$4:$AZ$5),\"\")","v":""},{"$f":"IF(AND($AA30<6,T30<>\"\",U30<>\"\"),ort($T30,$U30,$AY$6:$AZ$7),\"\")","v":""},{"$f":"IF(AND($AA30=6,T30<>\"\",U30<>\"\"),ort($T30,$U30,$AY$8:$AZ$8),\"\")","v":""},{"$f":"IF(AND($AA30=7,T30<>\"\",U30<>\"\"),ort($T30,$U30,$AY$9:$AZ$9),\"\")","v":""},null,null,null,null,null,null,null,null,null,"00:00:00"]
[null,null,null,null,null,null,null,null,null,"",{"$f":"IF(L31=\"\",\"\",IF(WEEKDAY(L31)=2,1+INT((L31-DATE(YEAR(L31+4-WEEKDAY(L31+6)),1,5)+WEEKDAY(DATE(YEAR(L31+4-WEEKDAY(L31+6)),1,3)))/7),\"\"))","v":""},{"$f":"IF(MONTH(L$30+1)<>MONTH(L$30),\"\",L$30+1)","v":"2018-09-29"},{"$f":"IF(MONTH(M$30+1)<>MONTH(M$30),\"\",M$30+1)","v":"2018-09-29"},null,"00:00:00",null,null,null,null,null,null,"","","","","",{"$f":"IF(ISERROR(IF(NOT(ISERROR(MATCH($M31,Blad2!$A$2:$A$11,0))),7,WEEKDAY($M31,2))),\"\",IF(NOT(ISERROR(MATCH($M31,Blad2!$A$2:$A$11,0))),7,WEEKDAY($M31,2)))","v":6},{"$f":"IF(AND($AA31<6,N31<>\"\",O31<>\"\"),ort($N31,$O31,$AY$3:$AZ$3),\"\")","v":""},{"$f":"IF(AND($AA31<6,N31<>\"\",O31<>\"\"),ort($N31,$O31,$AY$4:$AZ$5),\"\")","v":""},{"$f":"IF(AND($AA31<6,N31<>\"\",O31<>\"\"),ort($N31,$O31,$AY$6:$AZ$7),\"\")","v":""},{"$f":"IF(AND($AA31=6,N31<>\"\",O31<>\"\"),ort($N31,$O31,$AY$8:$AZ$8),\"\")","v":""},{"$f":"IF(AND($AA31=7,N31<>\"\",O31<>\"\"),ort($N31,$O31,$AY$9:$AZ$9),\"\")","v":""},{"$f":"IF(AND($AA31<6,P31<>\"\",Q31<>\"\"),ort($P31,$Q31,$AY$3:$AZ$3),\"\")","v":""},{"$f":"IF(AND($AA31<6,P31<>\"\",Q31<>\"\"),ort($P31,$Q31,$AY$4:$AZ$5),\"\")","v":""},{"$f":"IF(AND($AA31<6,P31<>\"\",Q31<>\"\"),ort($P31,$Q31,$AY$6:$AZ$7),\"\")","v":""},{"$f":"IF(AND($AA31=6,P31<>\"\",Q31<>\"\"),ort($P31,$Q31,$AY$8:$AZ$8),\"\")","v":""},{"$f":"IF(AND($AA31=7,P31<>\"\",Q31<>\"\"),ort($P31,$Q31,$AY$9:$AZ$9),\"\")","v":""},{"$f":"IF(AND($AA31<6,R31<>\"\",S31<>\"\"),ort($R31,$S31,$AY$3:$AZ$3),\"\")","v":""},{"$f":"IF(AND($AA31<6,R31<>\"\",S31<>\"\"),ort($R31,$S31,$AY$4:$AZ$5),\"\")","v":""},{"$f":"IF(AND($AA31<6,R31<>\"\",S31<>\"\"),ort($R31,$S31,$AY$6:$AZ$7),\"\")","v":""},{"$f":"IF(AND($AA31=6,R31<>\"\",S31<>\"\"),ort($R31,$S31,$AY$8:$AZ$8),\"\")","v":""},{"$f":"IF(AND($AA31=7,R31<>\"\",S31<>\"\"),ort($R31,$S31,$AY$9:$AZ$9),\"\")","v":""},{"$f":"IF(AND($AA31<6,T31<>\"\",U31<>\"\"),ort($T31,$U31,$AY$3:$AZ$3),\"\")","v":""},{"$f":"IF(AND($AA31<6,T31<>\"\",U31<>\"\"),ort($T31,$U31,$AY$4:$AZ$5),\"\")","v":""},{"$f":"IF(AND($AA31<6,T31<>\"\",U31<>\"\"),ort($T31,$U31,$AY$6:$AZ$7),\"\")","v":""},{"$f":"IF(AND($AA31=6,T31<>\"\",U31<>\"\"),ort($T31,$U31,$AY$8:$AZ$8),\"\")","v":""},{"$f":"IF(AND($AA31=7,T31<>\"\",U31<>\"\"),ort($T31,$U31,$AY$9:$AZ$9),\"\")","v":""},null,null,null,null,null,null,null,null,null,"00:00:00"]
[null,"Totaal Uren incl 150 %",null,null,null,null,null,null,null,"","",{"$f":"IF(L31=\"\",\"\",IF(MONTH($M31+1)<>MONTH($M31),\"\",$M31+1))","v":"2018-09-30"},{"$f":"IF(M31=\"\",\"\",IF(MONTH($M31+1)<>MONTH($M31),\"\",$M31+1))","v":"2018-09-30"},null,"00:00:00",null,null,null,null,null,null,"","","","","",{"$f":"IF(ISERROR(IF(NOT(ISERROR(MATCH($M32,Blad2!$A$2:$A$11,0))),7,WEEKDAY($M32,2))),\"\",IF(NOT(ISERROR(MATCH($M32,Blad2!$A$2:$A$11,0))),7,WEEKDAY($M32,2)))","v":7},{"$f":"IF(AND($AA32<6,N32<>\"\",O32<>\"\"),ort($N32,$O32,$AY$3:$AZ$3),\"\")","v":""},{"$f":"IF(AND($AA32<6,N32<>\"\",O32<>\"\"),ort($N32,$O32,$AY$4:$AZ$5),\"\")","v":""},{"$f":"IF(AND($AA32<6,N32<>\"\",O32<>\"\"),ort($N32,$O32,$AY$6:$AZ$7),\"\")","v":""},{"$f":"IF(AND($AA32=6,N32<>\"\",O32<>\"\"),ort($N32,$O32,$AY$8:$AZ$8),\"\")","v":""},{"$f":"IF(AND($AA32=7,N32<>\"\",O32<>\"\"),ort($N32,$O32,$AY$9:$AZ$9),\"\")","v":""},{"$f":"IF(AND($AA32<6,P32<>\"\",Q32<>\"\"),ort($P32,$Q32,$AY$3:$AZ$3),\"\")","v":""},{"$f":"IF(AND($AA32<6,P32<>\"\",Q32<>\"\"),ort($P32,$Q32,$AY$4:$AZ$5),\"\")","v":""},{"$f":"IF(AND($AA32<6,P32<>\"\",Q32<>\"\"),ort($P32,$Q32,$AY$6:$AZ$7),\"\")","v":""},{"$f":"IF(AND($AA32=6,P32<>\"\",Q32<>\"\"),ort($P32,$Q32,$AY$8:$AZ$8),\"\")","v":""},{"$f":"IF(AND($AA32=7,P32<>\"\",Q32<>\"\"),ort($P32,$Q32,$AY$9:$AZ$9),\"\")","v":""},{"$f":"IF(AND($AA32<6,R32<>\"\",S32<>\"\"),ort($R32,$S32,$AY$3:$AZ$3),\"\")","v":""},{"$f":"IF(AND($AA32<6,R32<>\"\",S32<>\"\"),ort($R32,$S32,$AY$4:$AZ$5),\"\")","v":""},{"$f":"IF(AND($AA32<6,R32<>\"\",S32<>\"\"),ort($R32,$S32,$AY$6:$AZ$7),\"\")","v":""},{"$f":"IF(AND($AA32=6,R32<>\"\",S32<>\"\"),ort($R32,$S32,$AY$8:$AZ$8),\"\")","v":""},{"$f":"IF(AND($AA32=7,R32<>\"\",S32<>\"\"),ort($R32,$S32,$AY$9:$AZ$9),\"\")","v":""},{"$f":"IF(AND($AA32<6,T32<>\"\",U32<>\"\"),ort($T32,$U32,$AY$3:$AZ$3),\"\")","v":""},{"$f":"IF(AND($AA32<6,T32<>\"\",U32<>\"\"),ort($T32,$U32,$AY$4:$AZ$5),\"\")","v":""},{"$f":"IF(AND($AA32<6,T32<>\"\",U32<>\"\"),ort($T32,$U32,$AY$6:$AZ$7),\"\")","v":""},{"$f":"IF(AND($AA32=6,T32<>\"\",U32<>\"\"),ort($T32,$U32,$AY$8:$AZ$8),\"\")","v":""},{"$f":"IF(AND($AA32=7,T32<>\"\",U32<>\"\"),ort($T32,$U32,$AY$9:$AZ$9),\"\")","v":""},null,null,null,null,null,null,null,null,null,"00:00:00"]
[null,{"$f":"SUM(U36,W37)","v":0},null,null,null,null,null,null,null,"",{"$f":"IF(L33=\"\",\"\",IF(WEEKDAY(L33)=2,1+INT((L33-DATE(YEAR(L33+4-WEEKDAY(L33+6)),1,5)+WEEKDAY(DATE(YEAR(L33+4-WEEKDAY(L33+6)),1,3)))/7),\"\"))","v":""},{"$f":"IF(L32=\"\",\"\",IF(MONTH($M32+1)<>MONTH($M32),\"\",$M32+1))","v":""},{"$f":"IF(M32=\"\",\"\",IF(MONTH($M32+1)<>MONTH($M32),\"\",$M32+1))","v":""},null,"00:00:00",null,null,null,null,null,null,"","","","","",{"$f":"IF(ISERROR(IF(NOT(ISERROR(MATCH($M33,Blad2!$A$2:$A$11,0))),7,WEEKDAY($M33,2))),\"\",IF(NOT(ISERROR(MATCH($M33,Blad2!$A$2:$A$11,0))),7,WEEKDAY($M33,2)))","v":""},{"$f":"IF(AND($AA33<6,N33<>\"\",O33<>\"\"),ort($N33,$O33,$AY$3:$AZ$3),\"\")","v":""},{"$f":"IF(AND($AA33<6,N33<>\"\",O33<>\"\"),ort($N33,$O33,$AY$4:$AZ$5),\"\")","v":""},{"$f":"IF(AND($AA33<6,N33<>\"\",O33<>\"\"),ort($N33,$O33,$AY$6:$AZ$7),\"\")","v":""},{"$f":"IF(AND($AA33=6,N33<>\"\",O33<>\"\"),ort($N33,$O33,$AY$8:$AZ$8),\"\")","v":""},{"$f":"IF(AND($AA33=7,N33<>\"\",O33<>\"\"),ort($N33,$O33,$AY$9:$AZ$9),\"\")","v":""},{"$f":"IF(AND($AA33<6,P33<>\"\",Q33<>\"\"),ort($P33,$Q33,$AY$3:$AZ$3),\"\")","v":""},{"$f":"IF(AND($AA33<6,P33<>\"\",Q33<>\"\"),ort($P33,$Q33,$AY$4:$AZ$5),\"\")","v":""},{"$f":"IF(AND($AA33<6,P33<>\"\",Q33<>\"\"),ort($P33,$Q33,$AY$6:$AZ$7),\"\")","v":""},{"$f":"IF(AND($AA33=6,P33<>\"\",Q33<>\"\"),ort($P33,$Q33,$AY$8:$AZ$8),\"\")","v":""},{"$f":"IF(AND($AA33=7,P33<>\"\",Q33<>\"\"),ort($P33,$Q33,$AY$9:$AZ$9),\"\")","v":""},{"$f":"IF(AND($AA33<6,R33<>\"\",S33<>\"\"),ort($R33,$S33,$AY$3:$AZ$3),\"\")","v":""},{"$f":"IF(AND($AA33<6,R33<>\"\",S33<>\"\"),ort($R33,$S33,$AY$4:$AZ$5),\"\")","v":""},{"$f":"IF(AND($AA33<6,R33<>\"\",S33<>\"\"),ort($R33,$S33,$AY$6:$AZ$7),\"\")","v":""},{"$f":"IF(AND($AA33=6,R33<>\"\",S33<>\"\"),ort($R33,$S33,$AY$8:$AZ$8),\"\")","v":""},{"$f":"IF(AND($AA33=7,R33<>\"\",S33<>\"\"),ort($R33,$S33,$AY$9:$AZ$9),\"\")","v":""},{"$f":"IF(AND($AA33<6,T33<>\"\",U33<>\"\"),ort($T33,$U33,$AY$3:$AZ$3),\"\")","v":""},{"$f":"IF(AND($AA33<6,T33<>\"\",U33<>\"\"),ort($T33,$U33,$AY$4:$AZ$5),\"\")","v":""},{"$f":"IF(AND($AA33<6,T33<>\"\",U33<>\"\"),ort($T33,$U33,$AY$6:$AZ$7),\"\")","v":""},{"$f":"IF(AND($AA33=6,T33<>\"\",U33<>\"\"),ort($T33,$U33,$AY$8:$AZ$8),\"\")","v":""},{"$f":"IF(AND($AA33=7,T33<>\"\",U33<>\"\"),ort($T33,$U33,$AY$9:$AZ$9),\"\")","v":""},null,null,null,null,null,null,null,null,null,"00:00:00"]
[null,null,null,null,null,null,null,null,null,null,null,null,null,null,null,null,null,null,null,null,null,null,{"$f":"SUM(W3:W33)","v":0},{"$f":"SUM(X3:X33)","v":0},0,0]
[null,null,null,null,null,null,null,null,null,null,null,null,"Plus / Min Uren Incl 150 % Uren",null,null,null,null,null,"Contract Uren",null,{"$f":"SUM(B17)","v":3.75}]
[null,null,null,null,null,null,null,null,null,null,null,null,{"$f":"SUM(B33-B17)","v":-3.75},null,null,5,null,"Gewerkte Uren 100 %",null,null,{"$f":"SUM(W34:X34)","v":0}]
[null,null,null,null,null,null,null,null,null,null,null,null,"Uitbetalen / Verlof",null,null,{"$f":"SUM(M36*P36)*24","v":-450},null,"Gewerkte Uren 150 %",null,null,{"$f":"SUM(Y34)","v":0},"X 150%",{"$f":"SUM(U37*150%)","v":0}]
[null,null,null,null,null,null,null,null,null,null,null,null,null,null,null,null,null,null,"Plus Uren"]
[null,null,null,null,null,null,null,null,null,null,null,null,null,null,null,null,null,null,"Min Uren"]

{"sheet":"Oktober","index":9,"n_rows":39,"n_cols":57,"rows_kept":39,"cut":false,"hidden":false,"merged":[[38,18,38,19],[37,18,37,19],[1,48,1,51],[2,3,2,7],[3,2,3,8],[19,1,19,8],[13,1,13,8],[15,1,15,8],[16,1,16,8],[18,1,18,8],[12,1,12,8],[36,12,36,14],[36,15,36,16],[36,17,36,19],[0,14,0,21],[1,2,1,8],[34,12,34,16],[35,12,35,14],[35,15,35,16],[31,1,31,8],[32,1,32,8],[34,18,34,19],[35,17,35,19]]}
[null,null,null,null,null,null,null,null,null,null,null,null,null,null,"Test"]
[null,null,{"$f":"TODAY()","v":"2018-03-21"},null,null,null,null,null,null,"Feestdag","wknr","dag","datum","tijd in","tijd uit","tijd in","tijd uit","tijd in","tijd uit","tijd in","tijd uit","werk\ntijd",1,1.25,1.5,2,"hulp",1,1.25,1.5,1.5,2,1,1.25,1.5,1.5,2,1,1.25,1.5,1.5,2,1,1.25,1.5,1.5,2,null,"onregelmatigheidstoeslag",null,null,null,null,"Stops","Laden","Lossen","Werktijd"]
[null,2018," ","Kalender",null,null,null,null,null,{"$f":"IF(ISNA(VLOOKUP(M3,feestdagen,2,0)),\"\",VLOOKUP(M3,feestdagen,2,0))","v":""},{"$f":"WEEKNUM(L3,21)","v":40},{"$f":"DATE($B$3,$B$4,1)","v":"2018-10-01"},{"$f":"DATE($B$3,$B$4,1)","v":"2018-10-01"},null,{"$f":"SUM(N3,BE3)","v":"00:00:00"},null,null,null,null,null,null,{"$f":"IF(AND(W3=\"\",X3=\"\",Y3=\"\",Z3=\"\"),\"\",SUM(W3:Z3))","v":""},{"$f":"IF(AND(AB3=\"\",AG3=\"\",AL3=\"\",AQ3=\"\"),\"\",SUM(AB3,AG3,AL3,AQ3))","v":""},{"$f":"IF(AND(AC3=\"\",AH3=\"\",AM3=\"\",AR3=\"\"),\"\",SUM(AC3,AH3,AM3,AR3))","v":""},{"$f":"IF(AND(AD3=\"\",AE3=\"\",AI3=\"\",AJ3=\"\",AN3=\"\",AO3=\"\",AS3=\"\",AT3=\"\"),\"\",SUM(AD3,AE3,AI3,AJ3,AN3,AO3,AS3,AT3))","v":""},{"$f":"IF(AND(AF3=\"\",AK3=\"\",AP3=\"\",AU3=\"\"),\"\",SUM(AF3,AK3,AP3,AU3))","v":""},{"$f":"IF(ISERROR(IF(NOT(ISERROR(MATCH($M3,Blad2!$A$2:$A$11,0))),7,WEEKDAY($M3,2))),\"\",IF(NOT(ISERROR(MATCH($M3,Blad2!$A$2:$A$11,0))),7,WEEKDAY($M3,2)))","v":1},{"$f":"IF(AND($AA3<6,N3<>\"\",O3<>\"\"),ort($N3,$O3,$AY$3:$AZ$3),\"\")","v":""},{"$f":"IF(AND($AA3<6,N3<>\"\",O3<>\"\"),ort($N3,$O3,$AY$4:$AZ$5),\"\")","v":""},{"$f":"IF(AND($AA3<6,N3<>\"\",O3<>\"\"),ort($N3,$O3,$AY$6:$AZ$7),\"\")","v":""},{"$f":"IF(AND($AA3=6,N3<>\"\",O3<>\"\"),ort($N3,$O3,$AY$8:$AZ$8),\"\")","v":""},{"$f":"IF(AND($AA3=7,N3<>\"\",O3<>\"\"),ort($N3,$O3,$AY$9:$AZ$9),\"\")","v":""},{"$f":"IF(AND($AA3<6,P3<>\"\",Q3<>\"\"),ort($P3,$Q3,$AY$3:$AZ$3),\"\")","v":""},{"$f":"IF(AND($AA3<6,P3<>\"\",Q3<>\"\"),ort($P3,$Q3,$AY$4:$AZ$5),\"\")","v":""},{"$f":"IF(AND($AA3<6,P3<>\"\",Q3<>\"\"),ort($P3,$Q3,$AY$6:$AZ$7),\"\")","v":""},{"$f":"IF(AND($AA3=6,P3<>\"\",Q3<>\"\"),ort($P3,$Q3,$AY$8:$AZ$8),\"\")","v":""},{"$f":"IF(AND($AA3=7,P3<>\"\",Q3<>\"\"),ort($P3,$Q3,$AY$9:$AZ$9),\"\")","v":""},{"$f":"IF(AND($AA3<6,R3<>\"\",S3<>\"\"),ort($R3,$S3,$AY$3:$AZ$3),\"\")","v":""},{"$f":"IF(AND($AA3<6,R3<>\"\",S3<>\"\"),ort($R3,$S3,$AY$4:$AZ$5),\"\")","v":""},{"$f":"IF(AND($AA3<6,R3<>\"\",S3<>\"\"),ort($R3,$S3,$AY$6:$AZ$7),\"\")","v":""},{"$f":"IF(AND($AA3=6,R3<>\"\",S3<>\"\"),ort($R3,$S3,$AY$8:$AZ$8),\"\")","v":""},{"$f":"IF(AND($AA3=7,R3<>\"\",S3<>\"\"),ort($R3,$S3,$AY$9:$AZ$9),\"\")","v":""},{"$f":"IF(AND($AA3<6,T3<>\"\",U3<>\"\"),ort($T3,$U3,$AY$3:$AZ$3),\"\")","v":""},{"$f":"IF(AND($AA3<6,T3<>\"\",U3<>\"\"),ort($T3,$U3,$AY$4:$AZ$5),\"\")","v":""},{"$f":"IF(AND($AA3<6,T3<>\"\",U3<>\"\"),ort($T3,$U3,$AY$6:$AZ$7),\"\")","v":""},{"$f":"IF(AND($AA3=6,T3<>\"\",U3<>\"\"),ort($T3,$U3,$AY$8:$AZ$8),\"\")","v":""},{"$f":"IF(AND($AA3=7,T3<>\"\",U3<>\"\"),ort($T3,$U3,$AY$9:$AZ$9),\"\")","v":""},null,1,"m-vr",0.39583333333333331,0.72916666666666663,null,null,null,null,{"$f":"SUM(BB3/20/24,BC3:BD3)","v":"00:00:00"}]
[null,10,{"$f":"DATE(B3,B4,1)","v":"2018-10-01"},null,null,null,null,null,null,"",{"$f":"IF(WEEKDAY(L4)=2,1+INT((L4-DATE(YEAR(L4+4-WEEKDAY(L4+6)),1,5)+WEEKDAY(DATE(YEAR(L4+4-WEEKDAY(L4+6)),1,3)))/7),\"\")","v":""},{"$f":"DATE($B$3,$B$4,2)","v":"2018-10-02"},{"$f":"DATE($B$3,$B$4,2)","v":"2018-10-02"},null,{"$f":"SUM(N4,BE4)","v":"00:00:00"},null,null,null,null,null,null,{"$f":"IF(AND(W4=\"\",X4=\"\",Y4=\"\",Z4=\"\"),\"\",SUM(W4:Z4))","v":""},{"$f":"IF(AND(AB4=\"\",AG4=\"\",AL4=\"\",AQ4=\"\"),\"\",SUM(AB4,AG4,AL4,AQ4))","v":""},{"$f":"IF(AND(AC4=\"\",AH4=\"\",AM4=\"\",AR4=\"\"),\"\",SUM(AC4,AH4,AM4,AR4))","v":""},{"$f":"IF(AND(AD4=\"\",AE4=\"\",AI4=\"\",AJ4=\"\",AN4=\"\",AO4=\"\",AS4=\"\",AT4=\"\"),\"\",SUM(AD4,AE4,AI4,AJ4,AN4,AO4,AS4,AT4))","v":""},{"$f":"IF(AND(AF4=\"\",AK4=\"\",AP4=\"\",AU4=\"\"),\"\",SUM(AF4,AK4,AP4,AU4))","v":""},{"$f":"IF(ISERROR(IF(NOT(ISERROR(MATCH($M4,Blad2!$A$2:$A$11,0))),7,WEEKDAY($M4,2))),\"\",IF(NOT(ISERROR(MATCH($M4,Blad2!$A$2:$A$11,0))),7,WEEKDAY($M4,2)))","v":2},{"$f":"IF(AND($AA4<6,N4<>\"\",O4<>\"\"),ort($N4,$O4,$AY$3:$AZ$3),\"\")","v":""},{"$f":"IF(AND($AA4<6,N4<>\"\",O4<>\"\"),ort($N4,$O4,$AY$4:$AZ$5),\"\")","v":""},{"$f":"IF(AND($AA4<6,N4<>\"\",O4<>\"\"),ort($N4,$O4,$AY$6:$AZ$7),\"\")","v":""},{"$f":"IF(AND($AA4=6,N4<>\"\",O4<>\"\"),ort($N4,$O4,$AY$8:$AZ$8),\"\")","v":""},{"$f":"IF(AND($AA4=7,N4<>\"\",O4<>\"\"),ort($N4,$O4,$AY$9:$AZ$9),\"\")","v":""},{"$f":"IF(AND($AA4<6,P4<>\"\",Q4<>\"\"),ort($P4,$Q4,$AY$3:$AZ$3),\"\")","v":""},{"$f":"IF(AND($AA4<6,P4<>\"\",Q4<>\"\"),ort($P4,$Q4,$AY$4:$AZ$5),\"\")","v":""},{"$f":"IF(AND($AA4<6,P4<>\"\",Q4<>\"\"),ort($P4,$Q4,$AY$6:$AZ$7),\"\")","v":""},{"$f":"IF(AND($AA4=6,P4<>\"\",Q4<>\"\"),ort($P4,$Q4,$AY$8:$AZ$8),\"\")","v":""},{"$f":"IF(AND($AA4=7,P4<>\"\",Q4<>\"\"),ort($P4,$Q4,$AY$9:$AZ$9),\"\")","v":""},{"$f":"IF(AND($AA4<6,R4<>\"\",S4<>\"\"),ort($R4,$S4,$AY$3:$AZ$3),\"\")","v":""},{"$f":"IF(AND($AA4<6,R4<>\"\",S4<>\"\"),ort($R4,$S4,$AY$4:$AZ$5),\"\")","v":""},{"$f":"IF(AND($AA4<6,R4<>\"\",S4<>\"\"),ort($R4,$S4,$AY$6:$AZ$7),\"\")","v":""},{"$f":"IF(AND($AA4=6,R4<>\"\",S4<>\"\"),ort($R4,$S4,$AY$8:$AZ$8),\"\")","v":""},{"$f":"IF(AND($AA4=7,R4<>\"\",S4<>\"\"),ort($R4,$S4,$AY$9:$AZ$9),\"\")","v":""},{"$f":"IF(AND($AA4<6,T4<>\"\",U4<>\"\"),ort($T4,$U4,$AY$3:$AZ$3),\"\")","v":""},{"$f":"IF(AND($AA4<6,T4<>\"\",U4<>\"\"),ort($T4,$U4,$AY$4:$AZ$5),\"\")","v":""},{"$f":"IF(AND($AA4<6,T4<>\"\",U4<>\"\"),ort($T4,$U4,$AY$6:$AZ$7),\"\")","v":""},{"$f":"IF(AND($AA4=6,T4<>\"\",U4<>\"\"),ort($T4,$U4,$AY$8:$AZ$8),\"\")","v":""},{"$f":"IF(AND($AA4=7,T4<>\"\",U4<>\"\"),ort($T4,$U4,$AY$9:$AZ$9),\"\")","v":""},null,1.25,"m-vr",0.25,0.3125,null,null,null,null,{"$f":"SUM(BB4/20/24,BC4:BD4)","v":"00:00:00"}]
[null,null,"Ma","Di","Wo","Do","Vr","Za","Zo","","",{"$f":"DATE($B$3,$B$4,3)","v":"2018-10-03"},{"$f":"DATE($B$3,$B$4,3)","v":"2018-10-03"},null,"00:00:00",null,null,null,null,null,null,"",{"$f":"IF(AND(AB5=\"\",AG5=\"\",AL5=\"\",AQ5=\"\"),\"\",SUM(AB5,AG5,AL5,AQ5))","v":""},"",{"$f":"IF(AND(AD5=\"\",AE5=\"\",AI5=\"\",AJ5=\"\",AN5=\"\",AO5=\"\",AS5=\"\",AT5=\"\"),\"\",SUM(AD5,AE5,AI5,AJ5,AN5,AO5,AS5,AT5))","v":""},{"$f":"IF(AND(AF5=\"\",AK5=\"\",AP5=\"\",AU5=\"\"),\"\",SUM(AF5,AK5,AP5,AU5))","v":""},{"$f":"IF(ISERROR(IF(NOT(ISERROR(MATCH($M5,Blad2!$A$2:$A$11,0))),7,WEEKDAY($M5,2))),\"\",IF(NOT(ISERROR(MATCH($M5,Blad2!$A$2:$A$11,0))),7,WEEKDAY($M5,2)))","v":3},{"$f":"IF(AND($AA5<6,N5<>\"\",O5<>\"\"),ort($N5,$O5,$AY$3:$AZ$3),\"\")","v":""},{"$f":"IF(AND($AA5<6,N5<>\"\",O5<>\"\"),ort($N5,$O5,$AY$4:$AZ$5),\"\")","v":""},{"$f":"IF(AND($AA5<6,N5<>\"\",O5<>\"\"),ort($N5,$O5,$AY$6:$AZ$7),\"\")","v":""},{"$f":"IF(AND($AA5=6,N5<>\"\",O5<>\"\"),ort($N5,$O5,$AY$8:$AZ$8),\"\")","v":""},{"$f":"IF(AND($AA5=7,N5<>\"\",O5<>\"\"),ort($N5,$O5,$AY$9:$AZ$9),\"\")","v":""},{"$f":"IF(AND($AA5<6,P5<>\"\",Q5<>\"\"),ort($P5,$Q5,$AY$3:$AZ$3),\"\")","v":""},{"$f":"IF(AND($AA5<6,P5<>\"\",Q5<>\"\"),ort($P5,$Q5,$AY$4:$AZ$5),\"\")","v":""},{"$f":"IF(AND($AA5<6,P5<>\"\",Q5<>\"\"),ort($P5,$Q5,$AY$6:$AZ$7),\"\")","v":""},{"$f":"IF(AND($AA5=6,P5<>\"\",Q5<>\"\"),ort($P5,$Q5,$AY$8:$AZ$8),\"\")","v":""},{"$f":"IF(AND($AA5=7,P5<>\"\",Q5<>\"\"),ort($P5,$Q5,$AY$9:$AZ$9),\"\")","v":""},{"$f":"IF(AND($AA5<6,R5<>\"\",S5<>\"\"),ort($R5,$S5,$AY$3:$AZ$3),\"\")","v":""},{"$f":"IF(AND($AA5<6,R5<>\"\",S5<>\"\"),ort($R5,$S5,$AY$4:$AZ$5),\"\")","v":""},{"$f":"IF(AND($AA5<6,R5<>\"\",S5<>\"\"),ort($R5,$S5,$AY$6:$AZ$7),\"\")","v":""},{"$f":"IF(AND($AA5=6,R5<>\"\",S5<>\"\"),ort($R5,$S5,$AY$8:$AZ$8),\"\")","v":""},{"$f":"IF(AND($AA5=7,R5<>\"\",S5<>\"\"),ort($R5,$S5,$AY$9:$AZ$9),\"\")","v":""},{"$f":"IF(AND($AA5<6,T5<>\"\",U5<>\"\"),ort($T5,$U5,$AY$3:$AZ$3),\"\")","v":""},{"$f":"IF(AND($AA5<6,T5<>\"\",U5<>\"\"),ort($T5,$U5,$AY$4:$AZ$5),\"\")","v":""},{"$f":"IF(AND($AA5<6,T5<>\"\",U5<>\"\"),ort($T5,$U5,$AY$6:$AZ$7),\"\")","v":""},{"$f":"IF(AND($AA5=6,T5<>\"\",U5<>\"\"),ort($T5,$U5,$AY$8:$AZ$8),\"\")","v":""},{"$f":"IF(AND($AA5=7,T5<>\"\",U5<>\"\"),ort($T5,$U5,$AY$9:$AZ$9),\"\")","v":""},null,1.25,"m-vr",0.72916666666666663,0.77083333333333337,null,null,null,null,"00:00:00"]
[null,null,{"$f":"IF(WEEKDAY(C4,2)=1,C4,\"\")","v":"2018-10-01"},{"$f":"IF(WEEKDAY(C4,2)=2,C4,IF(C6<>\"\",C6+1,\"\"))","v":"2018-10-02"},{"$f":"IF(WEEKDAY(C4,2)=3,C4,IF(D6<>\"\",D6+1,\"\"))","v":"2018-10-03"},{"$f":"IF(WEEKDAY(C4,2)=4,C4,IF(E6<>\"\",E6+1,\"\"))","v":"2018-10-04"},{"$f":"IF(WEEKDAY(C4,2)=5,C4,IF(F6<>\"\",F6+1,\"\"))","v":"2018-10-05"},{"$f":"IF(WEEKDAY(C4,2)=6,C4,IF(G6<>\"\",G6+1,\"\"))","v":"2018-10-06"},{"$f":"IF(WEEKDAY(C4,2)=7,C4,IF(H6<>\"\",H6+1,\"\"))","v":"2018-10-07"},"","",{"$f":"DATE($B$3,$B$4,4)","v":"2018-10-04"},{"$f":"DATE($B$3,$B$4,4)","v":"2018-10-04"},null,"00:00:00",null,null,null,null,null,null,"","","","","",{"$f":"IF(ISERROR(IF(NOT(ISERROR(MATCH($M6,Blad2!$A$2:$A$11,0))),7,WEEKDAY($M6,2))),\"\",IF(NOT(ISERROR(MATCH($M6,Blad2!$A$2:$A$11,0))),7,WEEKDAY($M6,2)))","v":4},{"$f":"IF(AND($AA6<6,N6<>\"\",O6<>\"\"),ort($N6,$O6,$AY$3:$AZ$3),\"\")","v":""},{"$f":"IF(AND($AA6<6,N6<>\"\",O6<>\"\"),ort($N6,$O6,$AY$4:$AZ$5),\"\")","v":""},{"$f":"IF(AND($AA6<6,N6<>\"\",O6<>\"\"),ort($N6,$O6,$AY$6:$AZ$7),\"\")","v":""},{"$f":"IF(AND($AA6=6,N6<>\"\",O6<>\"\"),ort($N6,$O6,$AY$8:$AZ$8),\"\")","v":""},{"$f":"IF(AND($AA6=7,N6<>\"\",O6<>\"\"),ort($N6,$O6,$AY$9:$AZ$9),\"\")","v":""},{"$f":"IF(AND($AA6<6,P6<>\"\",Q6<>\"\"),ort($P6,$Q6,$AY$3:$AZ$3),\"\")","v":""},{"$f":"IF(AND($AA6<6,P6<>\"\",Q6<>\"\"),ort($P6,$Q6,$AY$4:$AZ$5),\"\")","v":""},{"$f":"IF(AND($AA6<6,P6<>\"\",Q6<>\"\"),ort($P6,$Q6,$AY$6:$AZ$7),\"\")","v":""},{"$f":"IF(AND($AA6=6,P6<>\"\",Q6<>\"\"),ort($P6,$Q6,$AY$8:$AZ$8),\"\")","v":""},{"$f":"IF(AND($AA6=7,P6<>\"\",Q6<>\"\"),ort($P6,$Q6,$AY$9:$AZ$9),\"\")","v":""},{"$f":"IF(AND($AA6<6,R6<>\"\",S6<>\"\"),ort($R6,$S6,$AY$3:$AZ$3),\"\")","v":""},{"$f":"IF(AND($AA6<6,R6<>\"\",S6<>\"\"),ort($R6,$S6,$AY$4:$AZ$5),\"\")","v":""},{"$f":"IF(AND($AA6<6,R6<>\"\",S6<>\"\"),ort($R6,$S6,$AY$6:$AZ$7),\"\")","v":""},{"$f":"IF(AND($AA6=6,R6<>\"\",S6<>\"\"),ort($R6,$S6,$AY$8:$AZ$8),\"\")","v":""},{"$f":"IF(AND($AA6=7,R6<>\"\",S6<>\"\"),ort($R6,$S6,$AY$9:$AZ$9),\"\")","v":""},{"$f":"IF(AND($AA6<6,T6<>\"\",U6<>\"\"),ort($T6,$U6,$AY$3:$AZ$3),\"\")","v":""},{"$f":"IF(AND($AA6<6,T6<>\"\",U6<>\"\"),ort($T6,$U6,$AY$4:$AZ$5),\"\")","v":""},{"$f":"IF(AND($AA6<6,T6<>\"\",U6<>\"\"),ort($T6,$U6,$AY$6:$AZ$7),\"\")","v":""},{"$f":"IF(AND($AA6=6,T6<>\"\",U6<>\"\"),ort($T6,$U6,$AY$8:$AZ$8),\"\")","v":""},{"$f":"IF(AND($AA6=7,T6<>\"\",U6<>\"\"),ort($T6,$U6,$AY$9:$AZ$9),\"\")","v":""},null,1.5,"m-vr",0,0.25,null,null,null,null,"00:00:00"]
[null,null,{"$f":"I6+1","v":"2018-10-08"},{"$f":"C7+1","v":"2018-10-09"},{"$f":"D7+1","v":"2018-10-10"},"2018-10-11","2018-10-12","2018-10-13","2018-10-14","","",{"$f":"DATE($B$3,$B$4,5)","v":"2018-10-05"},{"$f":"DATE($B$3,$B$4,5)","v":"2018-10-05"},null,"00:00:00",null,null,null,null,null,null,"","","","","",{"$f":"IF(ISERROR(IF(NOT(ISERROR(MATCH($M7,Blad2!$A$2:$A$11,0))),7,WEEKDAY($M7,2))),\"\",IF(NOT(ISERROR(MATCH($M7,Blad2!$A$2:$A$11,0))),7,WEEKDAY($M7,2)))","v":5},{"$f":"IF(AND($AA7<6,N7<>\"\",O7<>\"\"),ort($N7,$O7,$AY$3:$AZ$3),\"\")","v":""},{"$f":"IF(AND($AA7<6,N7<>\"\",O7<>\"\"),ort($N7,$O7,$AY$4:$AZ$5),\"\")","v":""},{"$f":"IF(AND($AA7<6,N7<>\"\",O7<>\"\"),ort($N7,$O7,$AY$6:$AZ$7),\"\")","v":""},{"$f":"IF(AND($AA7=6,N7<>\"\",O7<>\"\"),ort($N7,$O7,$AY$8:$AZ$8),\"\")","v":""},{"$f":"IF(AND($AA7=7,N7<>\"\",O7<>\"\"),ort($N7,$O7,$AY$9:$AZ$9),\"\")","v":""},{"$f":"IF(AND($AA7<6,P7<>\"\",Q7<>\"\"),ort($P7,$Q7,$AY$3:$AZ$3),\"\")","v":""},{"$f":"IF(AND($AA7<6,P7<>\"\",Q7<>\"\"),ort($P7,$Q7,$AY$4:$AZ$5),\"\")","v":""},{"$f":"IF(AND($AA7<6,P7<>\"\",Q7<>\"\"),ort($P7,$Q7,$AY$6:$AZ$7),\"\")","v":""},{"$f":"IF(AND($AA7=6,P7<>\"\",Q7<>\"\"),ort($P7,$Q7,$AY$8:$AZ$8),\"\")","v":""},{"$f":"IF(AND($AA7=7,P7<>\"\",Q7<>\"\"),ort($P7,$Q7,$AY$9:$AZ$9),\"\")","v":""},{"$f":"IF(AND($AA7<6,R7<>\"\",S7<>\"\"),ort($R7,$S7,$AY$3:$AZ$3),\"\")","v":""},{"$f":"IF(AND($AA7<6,R7<>\"\",S7<>\"\"),ort($R7,$S7,$AY$4:$AZ$5),\"\")","v":""},{"$f":"IF(AND($AA7<6,R7<>\"\",S7<>\"\"),ort($R7,$S7,$AY$6:$AZ$7),\"\")","v":""},{"$f":"IF(AND($AA7=6,R7<>\"\",S7<>\"\"),ort($R7,$S7,$AY$8:$AZ$8),\"\")","v":""},{"$f":"IF(AND($AA7=7,R7<>\"\",S7<>\"\"),ort($R7,$S7,$AY$9:$AZ$9),\"\")","v":""},{"$f":"IF(AND($AA7<6,T7<>\"\",U7<>\"\"),ort($T7,$U7,$AY$3:$AZ$3),\"\")","v":""},{"$f":"IF(AND($AA7<6,T7<>\"\",U7<>\"\"),ort($T7,$U7,$AY$4:$AZ$5),\"\")","v":""},{"$f":"IF(AND($AA7<6,T7<>\"\",U7<>\"\"),ort($T7,$U7,$AY$6:$AZ$7),\"\")","v":""},{"$f":"IF(AND($AA7=6,T7<>\"\",U7<>\"\"),ort($T7,$U7,$AY$8:$AZ$8),\"\")","v":""},{"$f":"IF(AND($AA7=7,T7<>\"\",U7<>\"\"),ort($T7,$U7,$AY$9:$AZ$9),\"\")","v":""},null,1.5,"m-vr",0.77083333333333337,1,null,null,null,null,{"$f":"SUM(BB7/18/24,BC7:BD7)","v":"00:00:00"}]
[null,null,{"$f":"I7+1","v":"2018-10-15"},{"$f":"C8+1","v":"2018-10-16"},"2018-10-17","2018-10-18","2018-10-19","2018-10-20","2018-10-21","","",{"$f":"DATE($B$3,$B$4,6)","v":"2018-10-06"},{"$f":"DATE($B$3,$B$4,6)","v":"2018-10-06"},null,"00:00:00",null,null,null,null,null,null,"","","","","",{"$f":"IF(ISERROR(IF(NOT(ISERROR(MATCH($M8,Blad2!$A$2:$A$11,0))),7,WEEKDAY($M8,2))),\"\",IF(NOT(ISERROR(MATCH($M8,Blad2!$A$2:$A$11,0))),7,WEEKDAY($M8,2)))","v":6},{"$f":"IF(AND($AA8<6,N8<>\"\",O8<>\"\"),ort($N8,$O8,$AY$3:$AZ$3),\"\")","v":""},{"$f":"IF(AND($AA8<6,N8<>\"\",O8<>\"\"),ort($N8,$O8,$AY$4:$AZ$5),\"\")","v":""},{"$f":"IF(AND($AA8<6,N8<>\"\",O8<>\"\"),ort($N8,$O8,$AY$6:$AZ$7),\"\")","v":""},{"$f":"IF(AND($AA8=6,N8<>\"\",O8<>\"\"),ort($N8,$O8,$AY$8:$AZ$8),\"\")","v":""},{"$f":"IF(AND($AA8=7,N8<>\"\",O8<>\"\"),ort($N8,$O8,$AY$9:$AZ$9),\"\")","v":""},{"$f":"IF(AND($AA8<6,P8<>\"\",Q8<>\"\"),ort($P8,$Q8,$AY$3:$AZ$3),\"\")","v":""},{"$f":"IF(AND($AA8<6,P8<>\"\",Q8<>\"\"),ort($P8,$Q8,$AY$4:$AZ$5),\"\")","v":""},{"$f":"IF(AND($AA8<6,P8<>\"\",Q8<>\"\"),ort($P8,$Q8,$AY$6:$AZ$7),\"\")","v":""},{"$f":"IF(AND($AA8=6,P8<>\"\",Q8<>\"\"),ort($P8,$Q8,$AY$8:$AZ$8),\"\")","v":""},{"$f":"IF(AND($AA8=7,P8<>\"\",Q8<>\"\"),ort($P8,$Q8,$AY$9:$AZ$9),\"\")","v":""},{"$f":"IF(AND($AA8<6,R8<>\"\",S8<>\"\"),ort($R8,$S8,$AY$3:$AZ$3),\"\")","v":""},{"$f":"IF(AND($AA8<6,R8<>\"\",S8<>\"\"),ort($R8,$S8,$AY$4:$AZ$5),\"\")","v":""},{"$f":"IF(AND($AA8<6,R8<>\"\",S8<>\"\"),ort($R8,$S8,$AY$6:$AZ$7),\"\")","v":""},{"$f":"IF(AND($AA8=6,R8<>\"\",S8<>\"\"),ort($R8,$S8,$AY$8:$AZ$8),\"\")","v":""},{"$f":"IF(AND($AA8=7,R8<>\"\",S8<>\"\"),ort($R8,$S8,$AY$9:$AZ$9),\"\")","v":""},{"$f":"IF(AND($AA8<6,T8<>\"\",U8<>\"\"),ort($T8,$U8,$AY$3:$AZ$3),\"\")","v":""},{"$f":"IF(AND($AA8<6,T8<>\"\",U8<>\"\"),ort($T8,$U8,$AY$4:$AZ$5),\"\")","v":""},{"$f":"IF(AND($AA8<6,T8<>\"\",U8<>\"\"),ort($T8,$U8,$AY$6:$AZ$7),\"\")","v":""},{"$f":"IF(AND($AA8=6,T8<>\"\",U8<>\"\"),ort($T8,$U8,$AY$8:$AZ$8),\"\")","v":""},{"$f":"IF(AND($AA8=7,T8<>\"\",U8<>\"\"),ort($T8,$U8,$AY$9:$AZ$9),\"\")","v":""},null,1.5,"za",0,1,null,null,null,null,{"$f":"SUM(BB8/19/24,BC8:BD8)","v":"00:00:00"}]
[null,null,{"$f":"I8+1","v":"2018-10-22"},{"$f":"C9+1","v":"2018-10-23"},"2018-10-24","2018-10-25","2018-10-26","2018-10-27","2018-10-28","","",{"$f":"DATE($B$3,$B$4,7)","v":"2018-10-07"},{"$f":"DATE($B$3,$B$4,7)","v":"2018-10-07"},null,"00:00:00",null,null,null,null,null,null,"","","","","",{"$f":"IF(ISERROR(IF(NOT(ISERROR(MATCH($M9,Blad2!$A$2:$A$11,0))),7,WEEKDAY($M9,2))),\"\",IF(NOT(ISERROR(MATCH($M9,Blad2!$A$2:$A$11,0))),7,WEEKDAY($M9,2)))","v":7},{"$f":"IF(AND($AA9<6,N9<>\"\",O9<>\"\"),ort($N9,$O9,$AY$3:$AZ$3),\"\")","v":""},{"$f":"IF(AND($AA9<6,N9<>\"\",O9<>\"\"),ort($N9,$O9,$AY$4:$AZ$5),\"\")","v":""},{"$f":"IF(AND($AA9<6,N9<>\"\",O9<>\"\"),ort($N9,$O9,$AY$6:$AZ$7),\"\")","v":""},{"$f":"IF(AND($AA9=6,N9<>\"\",O9<>\"\"),ort($N9,$O9,$AY$8:$AZ$8),\"\")","v":""},{"$f":"IF(AND($AA9=7,N9<>\"\",O9<>\"\"),ort($N9,$O9,$AY$9:$AZ$9),\"\")","v":""},{"$f":"IF(AND($AA9<6,P9<>\"\",Q9<>\"\"),ort($P9,$Q9,$AY$3:$AZ$3),\"\")","v":""},{"$f":"IF(AND($AA9<6,P9<>\"\",Q9<>\"\"),ort($P9,$Q9,$AY$4:$AZ$5),\"\")","v":""},{"$f":"IF(AND($AA9<6,P9<>\"\",Q9<>\"\"),ort($P9,$Q9,$AY$6:$AZ$7),\"\")","v":""},{"$f":"IF(AND($AA9=6,P9<>\"\",Q9<>\"\"),ort($P9,$Q9,$AY$8:$AZ$8),\"\")","v":""},{"$f":"IF(AND($AA9=7,P9<>\"\",Q9<>\"\"),ort($P9,$Q9,$AY$9:$AZ$9),\"\")","v":""},{"$f":"IF(AND($AA9<6,R9<>\"\",S9<>\"\"),ort($R9,$S9,$AY$3:$AZ$3),\"\")","v":""},{"$f":"IF(AND($AA9<6,R9<>\"\",S9<>\"\"),ort($R9,$S9,$AY$4:$AZ$5),\"\")","v":""},{"$f":"IF(AND($AA9<6,R9<>\"\",S9<>\"\"),ort($R9,$S9,$AY$6:$AZ$7),\"\")","v":""},{"$f":"IF(AND($AA9=6,R9<>\"\",S9<>\"\"),ort($R9,$S9,$AY$8:$AZ$8),\"\")","v":""},{"$f":"IF(AND($AA9=7,R9<>\"\",S9<>\"\"),ort($R9,$S9,$AY$9:$AZ$9),\"\")","v":""},{"$f":"IF(AND($AA9<6,T9<>\"\",U9<>\"\"),ort($T9,$U9,$AY$3:$AZ$3),\"\")","v":""},{"$f":"IF(AND($AA9<6,T9<>\"\",U9<>\"\"),ort($T9,$U9,$AY$4:$AZ$5),\"\")","v":""},{"$f":"IF(AND($AA9<6,T9<>\"\",U9<>\"\"),ort($T9,$U9,$AY$6:$AZ$7),\"\")","v":""},{"$f":"IF(AND($AA9=6,T9<>\"\",U9<>\"\"),ort($T9,$U9,$AY$8:$AZ$8),\"\")","v":""},{"$f":"IF(AND($AA9=7,T9<>\"\",U9<>\"\"),ort($T9,$U9,$AY$9:$AZ$9),\"\")","v":""},null,2,"zo/feest",0,1,null,null,null,null,{"$f":"SUM(BB9/19/24,BC9:BD9)","v":"00:00:00"}]
[null,null,{"$f":"IF(I9=\"\",\"\",IF(MONTH(I9+1)=MONTH(I9),I9+1,\"\"))","v":"2018-10-29"},{"$f":"IF(C10=\"\",\"\",IF(MONTH(C10+1)=MONTH(C10),C10+1,\"\"))","v":"2018-10-30"},{"$f":"IF(D10=\"\",\"\",IF(MONTH(D10+1)=MONTH(D10),D10+1,\"\"))","v":"2018-10-31"},"","","","","",41,{"$f":"DATE($B$3,$B$4,8)","v":"2018-10-08"},{"$f":"DATE($B$3,$B$4,8)","v":"2018-10-08"},null,"00:00:00",null,null,null,null,null,null,"","","","","",{"$f":"IF(ISERROR(IF(NOT(ISERROR(MATCH($M10,Blad2!$A$2:$A$11,0))),7,WEEKDAY($M10,2))),\"\",IF(NOT(ISERROR(MATCH($M10,Blad2!$A$2:$A$11,0))),7,WEEKDAY($M10,2)))","v":1},{"$f":"IF(AND($AA10<6,N10<>\"\",O10<>\"\"),ort($N10,$O10,$AY$3:$AZ$3),\"\")","v":""},{"$f":"IF(AND($AA10<6,N10<>\"\",O10<>\"\"),ort($N10,$O10,$AY$4:$AZ$5),\"\")","v":""},{"$f":"IF(AND($AA10<6,N10<>\"\",O10<>\"\"),ort($N10,$O10,$AY$6:$AZ$7),\"\")","v":""},{"$f":"IF(AND($AA10=6,N10<>\"\",O10<>\"\"),ort($N10,$O10,$AY$8:$AZ$8),\"\")","v":""},{"$f":"IF(AND($AA10=7,N10<>\"\",O10<>\"\"),ort($N10,$O10,$AY$9:$AZ$9),\"\")","v":""},{"$f":"IF(AND($AA10<6,P10<>\"\",Q10<>\"\"),ort($P10,$Q10,$AY$3:$AZ$3),\"\")","v":""},{"$f":"IF(AND($AA10<6,P10<>\"\",Q10<>\"\"),ort($P10,$Q10,$AY$4:$AZ$5),\"\")","v":""},{"$f":"IF(AND($AA10<6,P10<>\"\",Q10<>\"\"),ort($P10,$Q10,$AY$6:$AZ$7),\"\")","v":""},{"$f":"IF(AND($AA10=6,P10<>\"\",Q10<>\"\"),ort($P10,$Q10,$AY$8:$AZ$8),\"\")","v":""},{"$f":"IF(AND($AA10=7,P10<>\"\",Q10<>\"\"),ort($P10,$Q10,$AY$9:$AZ$9),\"\")","v":""},{"$f":"IF(AND($AA10<6,R10<>\"\",S10<>\"\"),ort($R10,$S10,$AY$3:$AZ$3),\"\")","v":""},{"$f":"IF(AND($AA10<6,R10<>\"\",S10<>\"\"),ort($R10,$S10,$AY$4:$AZ$5),\"\")","v":""},{"$f":"IF(AND($AA10<6,R10<>\"\",S10<>\"\"),ort($R10,$S10,$AY$6:$AZ$7),\"\")","v":""},{"$f":"IF(AND($AA10=6,R10<>\"\",S10<>\"\"),ort($R10,$S10,$AY$8:$AZ$8),\"\")","v":""},{"$f":"IF(AND($AA10=7,R10<>\"\",S10<>\"\"),ort($R10,$S10,$AY$9:$AZ$9),\"\")","v":""},{"$f":"IF(AND($AA10<6,T10<>\"\",U10<>\"\"),ort($T10,$U10,$AY$3:$AZ$3),\"\")","v":""},{"$f":"IF(AND($AA10<6,T10<>\"\",U10<>\"\"),ort($T10,$U10,$AY$4:$AZ$5),\"\")","v":""},{"$f":"IF(AND($AA10<6,T10<>\"\",U10<>\"\"),ort($T10,$U10,$AY$6:$AZ$7),\"\")","v":""},{"$f":"IF(AND($AA10=6,T10<>\"\",U10<>\"\"),ort($T10,$U10,$AY$8:$AZ$8),\"\")","v":""},{"$f":"IF(AND($AA10=7,T10<>\"\",U10<>\"\"),ort($T10,$U10,$AY$9:$AZ$9),\"\")","v":""},null,null,null,null,null,null,null,null,null,{"$f":"SUM(BB10/18/24,BC10:BD10)","v":"00:00:00"}]
[null,null,{"$f":"IF(I10=\"\",\"\",IF(MONTH(I10+1)=MONTH(I10),I10+1,\"\"))","v":""},{"$f":"IF(C11=\"\",\"\",IF(MONTH(C11+1)=MONTH(C11),C11+1,\"\"))","v":""},"","","","","","","",{"$f":"DATE($B$3,$B$4,9)","v":"2018-10-09"},{"$f":"DATE($B$3,$B$4,9)","v":"2018-10-09"},null,"00:00:00",null,null,null,null,null,null,"","","","","",{"$f":"IF(ISERROR(IF(NOT(ISERROR(MATCH($M11,Blad2!$A$2:$A$11,0))),7,WEEKDAY($M11,2))),\"\",IF(NOT(ISERROR(MATCH($M11,Blad2!$A$2:$A$11,0))),7,WEEKDAY($M11,2)))","v":2},{"$f":"IF(AND($AA11<6,N11<>\"\",O11<>\"\"),ort($N11,$O11,$AY$3:$AZ$3),\"\")","v":""},{"$f":"IF(AND($AA11<6,N11<>\"\",O11<>\"\"),ort($N11,$O11,$AY$4:$AZ$5),\"\")","v":""},{"$f":"IF(AND($AA11<6,N11<>\"\",O11<>\"\"),ort($N11,$O11,$AY$6:$AZ$7),\"\")","v":""},{"$f":"IF(AND($AA11=6,N11<>\"\",O11<>\"\"),ort($N11,$O11,$AY$8:$AZ$8),\"\")","v":""},{"$f":"IF(AND($AA11=7,N11<>\"\",O11<>\"\"),ort($N11,$O11,$AY$9:$AZ$9),\"\")","v":""},{"$f":"IF(AND($AA11<6,P11<>\"\",Q11<>\"\"),ort($P11,$Q11,$AY$3:$AZ$3),\"\")","v":""},{"$f":"IF(AND($AA11<6,P11<>\"\",Q11<>\"\"),ort($P11,$Q11,$AY$4:$AZ$5),\"\")","v":""},{"$f":"IF(AND($AA11<6,P11<>\"\",Q11<>\"\"),ort($P11,$Q11,$AY$6:$AZ$7),\"\")","v":""},{"$f":"IF(AND($AA11=6,P11<>\"\",Q11<>\"\"),ort($P11,$Q11,$AY$8:$AZ$8),\"\")","v":""},{"$f":"IF(AND($AA11=7,P11<>\"\",Q11<>\"\"),ort($P11,$Q11,$AY$9:$AZ$9),\"\")","v":""},{"$f":"IF(AND($AA11<6,R11<>\"\",S11<>\"\"),ort($R11,$S11,$AY$3:$AZ$3),\"\")","v":""},{"$f":"IF(AND($AA11<6,R11<>\"\",S11<>\"\"),ort($R11,$S11,$AY$4:$AZ$5),\"\")","v":""},{"$f":"IF(AND($AA11<6,R11<>\"\",S11<>\"\"),ort($R11,$S11,$AY$6:$AZ$7),\"\")","v":""},{"$f":"IF(AND($AA11=6,R11<>\"\",S11<>\"\"),ort($R11,$S11,$AY$8:$AZ$8),\"\")","v":""},{"$f":"IF(AND($AA11=7,R11<>\"\",S11<>\"\"),ort($R11,$S11,$AY$9:$AZ$9),\"\")","v":""},{"$f":"IF(AND($AA11<6,T11<>\"\",U11<>\"\"),ort($T11,$U11,$AY$3:$AZ$3),\"\")","v":""},{"$f":"IF(AND($AA11<6,T11<>\"\",U11<>\"\"),ort($T11,$U11,$AY$4:$AZ$5),\"\")","v":""},{"$f":"IF(AND($AA11<6,T11<>\"\",U11<>\"\"),ort($T11,$U11,$AY$6:$AZ$7),\"\")","v":""},{"$f":"IF(AND($AA11=6,T11<>\"\",U11<>\"\"),ort($T11,$U11,$AY$8:$AZ$8),\"\")","v":""},{"$f":"IF(AND($AA11=7,T11<>\"\",U11<>\"\"),ort($T11,$U11,$AY$9:$AZ$9),\"\")","v":""},null,null,null,null,null,null,null,null,null,"00:00:00"]
[null,null,null,null,null,null,null,null,null,"","",{"$f":"DATE($B$3,$B$4,10)","v":"2018-10-10"},{"$f":"DATE($B$3,$B$4,10)","v":"2018-10-10"},null,"00:00:00",null,null,null,null,null,null,"","","","","",{"$f":"IF(ISERROR(IF(NOT(ISERROR(MATCH($M12,Blad2!$A$2:$A$11,0))),7,WEEKDAY($M12,2))),\"\",IF(NOT(ISERROR(MATCH($M12,Blad2!$A$2:$A$11,0))),7,WEEKDAY($M12,2)))","v":3},{"$f":"IF(AND($AA12<6,N12<>\"\",O12<>\"\"),ort($N12,$O12,$AY$3:$AZ$3),\"\")","v":""},{"$f":"IF(AND($AA12<6,N12<>\"\",O12<>\"\"),ort($N12,$O12,$AY$4:$AZ$5),\"\")","v":""},{"$f":"IF(AND($AA12<6,N12<>\"\",O12<>\"\"),ort($N12,$O12,$AY$6:$AZ$7),\"\")","v":""},{"$f":"IF(AND($AA12=6,N12<>\"\",O12<>\"\"),ort($N12,$O12,$AY$8:$AZ$8),\"\")","v":""},{"$f":"IF(AND($AA12=7,N12<>\"\",O12<>\"\"),ort($N12,$O12,$AY$9:$AZ$9),\"\")","v":""},{"$f":"IF(AND($AA12<6,P12<>\"\",Q12<>\"\"),ort($P12,$Q12,$AY$3:$AZ$3),\"\")","v":""},{"$f":"IF(AND($AA12<6,P12<>\"\",Q12<>\"\"),ort($P12,$Q12,$AY$4:$AZ$5),\"\")","v":""},{"$f":"IF(AND($AA12<6,P12<>\"\",Q12<>\"\"),ort($P12,$Q12,$AY$6:$AZ$7),\"\")","v":""},{"$f":"IF(AND($AA12=6,P12<>\"\",Q12<>\"\"),ort($P12,$Q12,$AY$8:$AZ$8),\"\")","v":""},{"$f":"IF(AND($AA12=7,P12<>\"\",Q12<>\"\"),ort($P12,$Q12,$AY$9:$AZ$9),\"\")","v":""},{"$f":"IF(AND($AA12<6,R12<>\"\",S12<>\"\"),ort($R12,$S12,$AY$3:$AZ$3),\"\")","v":""},{"$f":"IF(AND($AA12<6,R12<>\"\",S12<>\"\"),ort($R12,$S12,$AY$4:$AZ$5),\"\")","v":""},{"$f":"IF(AND($AA12<6,R12<>\"\",S12<>\"\"),ort($R12,$S12,$AY$6:$AZ$7),\"\")","v":""},{"$f":"IF(AND($AA12=6,R12<>\"\",S12<>\"\"),ort($R12,$S12,$AY$8:$AZ$8),\"\")","v":""},{"$f":"IF(AND($AA12=7,R12<>\"\",S12<>\"\"),ort($R12,$S12,$AY$9:$AZ$9),\"\")","v":""},{"$f":"IF(AND($AA12<6,T12<>\"\",U12<>\"\"),ort($T12,$U12,$AY$3:$AZ$3),\"\")","v":""},{"$f":"IF(AND($AA12<6,T12<>\"\",U12<>\"\"),ort($T12,$U12,$AY$4:$AZ$5),\"\")","v":""},{"$f":"IF(AND($AA12<6,T12<>\"\",U12<>\"\"),ort($T12,$U12,$AY$6:$AZ$7),\"\")","v":""},{"$f":"IF(AND($AA12=6,T12<>\"\",U12<>\"\"),ort($T12,$U12,$AY$8:$AZ$8),\"\")","v":""},{"$f":"IF(AND($AA12=7,T12<>\"\",U12<>\"\"),ort($T12,$U12,$AY$9:$AZ$9),\"\")","v":""},null,null,null,null,null,null,null,null,null,"00:00:00"]
[null,"Werkdagen deze maand",null,null,null,null,null,null,null,"","",{"$f":"DATE($B$3,$B$4,11)","v":"2018-10-11"},{"$f":"DATE($B$3,$B$4,11)","v":"2018-10-11"},null,"00:00:00",null,null,null,null,null,null,"","","","","",{"$f":"IF(ISERROR(IF(NOT(ISERROR(MATCH($M13,Blad2!$A$2:$A$11,0))),7,WEEKDAY($M13,2))),\"\",IF(NOT(ISERROR(MATCH($M13,Blad2!$A$2:$A$11,0))),7,WEEKDAY($M13,2)))","v":4},{"$f":"IF(AND($AA13<6,N13<>\"\",O13<>\"\"),ort($N13,$O13,$AY$3:$AZ$3),\"\")","v":""},{"$f":"IF(AND($AA13<6,N13<>\"\",O13<>\"\"),ort($N13,$O13,$AY$4:$AZ$5),\"\")","v":""},{"$f":"IF(AND($AA13<6,N13<>\"\",O13<>\"\"),ort($N13,$O13,$AY$6:$AZ$7),\"\")","v":""},{"$f":"IF(AND($AA13=6,N13<>\"\",O13<>\"\"),ort($N13,$O13,$AY$8:$AZ$8),\"\")","v":""},{"$f":"IF(AND($AA13=7,N13<>\"\",O13<>\"\"),ort($N13,$O13,$AY$9:$AZ$9),\"\")","v":""},{"$f":"IF(AND($AA13<6,P13<>\"\",Q13<>\"\"),ort($P13,$Q13,$AY$3:$AZ$3),\"\")","v":""},{"$f":"IF(AND($AA13<6,P13<>\"\",Q13<>\"\"),ort($P13,$Q13,$AY$4:$AZ$5),\"\")","v":""},{"$f":"IF(AND($AA13<6,P13<>\"\",Q13<>\"\"),ort($P13,$Q13,$AY$6:$AZ$7),\"\")","v":""},{"$f":"IF(AND($AA13=6,P13<>\"\",Q13<>\"\"),ort($P13,$Q13,$AY$8:$AZ$8),\"\")","v":""},{"$f":"IF(AND($AA13=7,P13<>\"\",Q13<>\"\"),ort($P13,$Q13,$AY$9:$AZ$9),\"\")","v":""},{"$f":"IF(AND($AA13<6,R13<>\"\",S13<>\"\"),ort($R13,$S13,$AY$3:$AZ$3),\"\")","v":""},{"$f":"IF(AND($AA13<6,R13<>\"\",S13<>\"\"),ort($R13,$S13,$AY$4:$AZ$5),\"\")","v":""},{"$f":"IF(AND($AA13<6,R13<>\"\",S13<>\"\"),ort($R13,$S13,$AY$6:$AZ$7),\"\")","v":""},{"$f":"IF(AND($AA13=6,R13<>\"\",S13<>\"\"),ort($R13,$S13,$AY$8:$AZ$8),\"\")","v":""},{"$f":"IF(AND($AA13=7,R13<>\"\",S13<>\"\"),ort($R13,$S13,$AY$9:$AZ$9),\"\")","v":""},{"$f":"IF(AND($AA13<6,T13<>\"\",U13<>\"\"),ort($T13,$U13,$AY$3:$AZ$3),\"\")","v":""},{"$f":"IF(AND($AA13<6,T13<>\"\",U13<>\"\"),ort($T13,$U13,$AY$4:$AZ$5),\"\")","v":""},{"$f":"IF(AND($AA13<6,T13<>\"\",U13<>\"\"),ort($T13,$U13,$AY$6:$AZ$7),\"\")","v":""},{"$f":"IF(AND($AA13=6,T13<>\"\",U13<>\"\"),ort($T13,$U13,$AY$8:$AZ$8),\"\")","v":""},{"$f":"IF(AND($AA13=7,T13<>\"\",U13<>\"\"),ort($T13,$U13,$AY$9:$AZ$9),\"\")","v":""},null,null,null,null,null,null,null,null,null,"00:00:00"]
[null,{"$f":"NETWORKDAYS($L$3,EOMONTH($L$3,0),Blad2!A2:A97)&\" dagen\"","v":"23 dagen"},null,null,null,null,null,null,null,"","",{"$f":"DATE($B$3,$B$4,12)","v":"2018-10-12"},{"$f":"DATE($B$3,$B$4,12)","v":"2018-10-12"},null,"00:00:00",null,null,null,null,null,null,"","","","","",{"$f":"IF(ISERROR(IF(NOT(ISERROR(MATCH($M14,Blad2!$A$2:$A$11,0))),7,WEEKDAY($M14,2))),\"\",IF(NOT(ISERROR(MATCH($M14,Blad2!$A$2:$A$11,0))),7,WEEKDAY($M14,2)))","v":5},{"$f":"IF(AND($AA14<6,N14<>\"\",O14<>\"\"),ort($N14,$O14,$AY$3:$AZ$3),\"\")","v":""},{"$f":"IF(AND($AA14<6,N14<>\"\",O14<>\"\"),ort($N14,$O14,$AY$4:$AZ$5),\"\")","v":""},{"$f":"IF(AND($AA14<6,N14<>\"\",O14<>\"\"),ort($N14,$O14,$AY$6:$AZ$7),\"\")","v":""},{"$f":"IF(AND($AA14=6,N14<>\"\",O14<>\"\"),ort($N14,$O14,$AY$8:$AZ$8),\"\")","v":""},{"$f":"IF(AND($AA14=7,N14<>\"\",O14<>\"\"),ort($N14,$O14,$AY$9:$AZ$9),\"\")","v":""},{"$f":"IF(AND($AA14<6,P14<>\"\",Q14<>\"\"),ort($P14,$Q14,$AY$3:$AZ$3),\"\")","v":""},{"$f":"IF(AND($AA14<6,P14<>\"\",Q14<>\"\"),ort($P14,$Q14,$AY$4:$AZ$5),\"\")","v":""},{"$f":"IF(AND($AA14<6,P14<>\"\",Q14<>\"\"),ort($P14,$Q14,$AY$6:$AZ$7),\"\")","v":""},{"$f":"IF(AND($AA14=6,P14<>\"\",Q14<>\"\"),ort($P14,$Q14,$AY$8:$AZ$8),\"\")","v":""},{"$f":"IF(AND($AA14=7,P14<>\"\",Q14<>\"\"),ort($P14,$Q14,$AY$9:$AZ$9),\"\")","v":""},{"$f":"IF(AND($AA14<6,R14<>\"\",S14<>\"\"),ort($R14,$S14,$AY$3:$AZ$3),\"\")","v":""},{"$f":"IF(AND($AA14<6,R14<>\"\",S14<>\"\"),ort($R14,$S14,$AY$4:$AZ$5),\"\")","v":""},{"$f":"IF(AND($AA14<6,R14<>\"\",S14<>\"\"),ort($R14,$S14,$AY$6:$AZ$7),\"\")","v":""},{"$f":"IF(AND($AA14=6,R14<>\"\",S14<>\"\"),ort($R14,$S14,$AY$8:$AZ$8),\"\")","v":""},{"$f":"IF(AND($AA14=7,R14<>\"\",S14<>\"\"),ort($R14,$S14,$AY$9:$AZ$9),\"\")","v":""},{"$f":"IF(AND($AA14<6,T14<>\"\",U14<>\"\"),ort($T14,$U14,$AY$3:$AZ$3),\"\")","v":""},{"$f":"IF(AND($AA14<6,T14<>\"\",U14<>\"\"),ort($T14,$U14,$AY$4:$AZ$5),\"\")","v":""},{"$f":"IF(AND($AA14<6,T14<>\"\",U14<>\"\"),ort($T14,$U14,$AY$6:$AZ$7),\"\")","v":""},{"$f":"IF(AND($AA14=6,T14<>\"\",U14<>\"\"),ort($T14,$U14,$AY$8:$AZ$8),\"\")","v":""},{"$f":"IF(AND($AA14=7,T14<>\"\",U14<>\"\"),ort($T14,$U14,$AY$9:$AZ$9),\"\")","v":""},null,null,null,null,null,null,null,null,null,"00:00:00"]
[null,null,null,null,null,null,null,null,null,"","",{"$f":"DATE($B$3,$B$4,13)","v":"2018-10-13"},{"$f":"DATE($B$3,$B$4,13)","v":"2018-10-13"},null,"00:00:00",null,null,null,null,null,null,"","","","","",{"$f":"IF(ISERROR(IF(NOT(ISERROR(MATCH($M15,Blad2!$A$2:$A$11,0))),7,WEEKDAY($M15,2))),\"\",IF(NOT(ISERROR(MATCH($M15,Blad2!$A$2:$A$11,0))),7,WEEKDAY($M15,2)))","v":6},{"$f":"IF(AND($AA15<6,N15<>\"\",O15<>\"\"),ort($N15,$O15,$AY$3:$AZ$3),\"\")","v":""},{"$f":"IF(AND($AA15<6,N15<>\"\",O15<>\"\"),ort($N15,$O15,$AY$4:$AZ$5),\"\")","v":""},{"$f":"IF(AND($AA15<6,N15<>\"\",O15<>\"\"),ort($N15,$O15,$AY$6:$AZ$7),\"\")","v":""},{"$f":"IF(AND($AA15=6,N15<>\"\",O15<>\"\"),ort($N15,$O15,$AY$8:$AZ$8),\"\")","v":""},{"$f":"IF(AND($AA15=7,N15<>\"\",O15<>\"\"),ort($N15,$O15,$AY$9:$AZ$9),\"\")","v":""},{"$f":"IF(AND($AA15<6,P15<>\"\",Q15<>\"\"),ort($P15,$Q15,$AY$3:$AZ$3),\"\")","v":""},{"$f":"IF(AND($AA15<6,P15<>\"\",Q15<>\"\"),ort($P15,$Q15,$AY$4:$AZ$5),\"\")","v":""},{"$f":"IF(AND($AA15<6,P15<>\"\",Q15<>\"\"),ort($P15,$Q15,$AY$6:$AZ$7),\"\")","v":""},{"$f":"IF(AND($AA15=6,P15<>\"\",Q15<>\"\"),ort($P15,$Q15,$AY$8:$AZ$8),\"\")","v":""},{"$f":"IF(AND($AA15=7,P15<>\"\",Q15<>\"\"),ort($P15,$Q15,$AY$9:$AZ$9),\"\")","v":""},{"$f":"IF(AND($AA15<6,R15<>\"\",S15<>\"\"),ort($R15,$S15,$AY$3:$AZ$3),\"\")","v":""},{"$f":"IF(AND($AA15<6,R15<>\"\",S15<>\"\"),ort($R15,$S15,$AY$4:$AZ$5),\"\")","v":""},{"$f":"IF(AND($AA15<6,R15<>\"\",S15<>\"\"),ort($R15,$S15,$AY$6:$AZ$7),\"\")","v":""},{"$f":"IF(AND($AA15=6,R15<>\"\",S15<>\"\"),ort($R15,$S15,$AY$8:$AZ$8),\"\")","v":""},{"$f":"IF(AND($AA15=7,R15<>\"\",S15<>\"\"),ort($R15,$S15,$AY$9:$AZ$9),\"\")","v":""},{"$f":"IF(AND($AA15<6,T15<>\"\",U15<>\"\"),ort($T15,$U15,$AY$3:$AZ$3),\"\")","v":""},{"$f":"IF(AND($AA15<6,T15<>\"\",U15<>\"\"),ort($T15,$U15,$AY$4:$AZ$5),\"\")","v":""},{"$f":"IF(AND($AA15<6,T15<>\"\",U15<>\"\"),ort($T15,$U15,$AY$6:$AZ$7),\"\")","v":""},{"$f":"IF(AND($AA15=6,T15<>\"\",U15<>\"\"),ort($T15,$U15,$AY$8:$AZ$8),\"\")","v":""},{"$f":"IF(AND($AA15=7,T15<>\"\",U15<>\"\"),ort($T15,$U15,$AY$9:$AZ$9),\"\")","v":""},null,null,null,null,null,null,null,null,null,"00:00:00"]
[null,"Contract Uren",null,null,null,null,null,null,null,"","",{"$f":"DATE($B$3,$B$4,14)","v":"2018-10-14"},{"$f":"DATE($B$3,$B$4,14)","v":"2018-10-14"},null,"00:00:00",null,null,null,null,null,null,"","","","","",{"$f":"IF(ISERROR(IF(NOT(ISERROR(MATCH($M16,Blad2!$A$2:$A$11,0))),7,WEEKDAY($M16,2))),\"\",IF(NOT(ISERROR(MATCH($M16,Blad2!$A$2:$A$11,0))),7,WEEKDAY($M16,2)))","v":7},{"$f":"IF(AND($AA16<6,N16<>\"\",O16<>\"\"),ort($N16,$O16,$AY$3:$AZ$3),\"\")","v":""},{"$f":"IF(AND($AA16<6,N16<>\"\",O16<>\"\"),ort($N16,$O16,$AY$4:$AZ$5),\"\")","v":""},{"$f":"IF(AND($AA16<6,N16<>\"\",O16<>\"\"),ort($N16,$O16,$AY$6:$AZ$7),\"\")","v":""},{"$f":"IF(AND($AA16=6,N16<>\"\",O16<>\"\"),ort($N16,$O16,$AY$8:$AZ$8),\"\")","v":""},{"$f":"IF(AND($AA16=7,N16<>\"\",O16<>\"\"),ort($N16,$O16,$AY$9:$AZ$9),\"\")","v":""},{"$f":"IF(AND($AA16<6,P16<>\"\",Q16<>\"\"),ort($P16,$Q16,$AY$3:$AZ$3),\"\")","v":""},{"$f":"IF(AND($AA16<6,P16<>\"\",Q16<>\"\"),ort($P16,$Q16,$AY$4:$AZ$5),\"\")","v":""},{"$f":"IF(AND($AA16<6,P16<>\"\",Q16<>\"\"),ort($P16,$Q16,$AY$6:$AZ$7),\"\")","v":""},{"$f":"IF(AND($AA16=6,P16<>\"\",Q16<>\"\"),ort($P16,$Q16,$AY$8:$AZ$8),\"\")","v":""},{"$f":"IF(AND($AA16=7,P16<>\"\",Q16<>\"\"),ort($P16,$Q16,$AY$9:$AZ$9),\"\")","v":""},{"$f":"IF(AND($AA16<6,R16<>\"\",S16<>\"\"),ort($R16,$S16,$AY$3:$AZ$3),\"\")","v":""},{"$f":"IF(AND($AA16<6,R16<>\"\",S16<>\"\"),ort($R16,$S16,$AY$4:$AZ$5),\"\")","v":""},{"$f":"IF(AND($AA16<6,R16<>\"\",S16<>\"\"),ort($R16,$S16,$AY$6:$AZ$7),\"\")","v":""},{"$f":"IF(AND($AA16=6,R16<>\"\",S16<>\"\"),ort($R16,$S16,$AY$8:$AZ$8),\"\")","v":""},{"$f":"IF(AND($AA16=7,R16<>\"\",S16<>\"\"),ort($R16,$S16,$AY$9:$AZ$9),\"\")","v":""},{"$f":"IF(AND($AA16<6,T16<>\"\",U16<>\"\"),ort($T16,$U16,$AY$3:$AZ$3),\"\")","v":""},{"$f":"IF(AND($AA16<6,T16<>\"\",U16<>\"\"),ort($T16,$U16,$AY$4:$AZ$5),\"\")","v":""},{"$f":"IF(AND($AA16<6,T16<>\"\",U16<>\"\"),ort($T16,$U16,$AY$6:$AZ$7),\"\")","v":""},{"$f":"IF(AND($AA16=6,T16<>\"\",U16<>\"\"),ort($T16,$U16,$AY$8:$AZ$8),\"\")","v":""},{"$f":"IF(AND($AA16=7,T16<>\"\",U16<>\"\"),ort($T16,$U16,$AY$9:$AZ$9),\"\")","v":""},null,null,null,null,null,null,null,null,null,"00:00:00"]
[null,3.75,null,null,null,null,null,null,null,"",42,{"$f":"DATE($B$3,$B$4,15)","v":"2018-10-15"},{"$f":"DATE($B$3,$B$4,15)","v":"2018-10-15"},null,"00:00:00",null,null,null,null,null,null,"","","","","",{"$f":"IF(ISERROR(IF(NOT(ISERROR(MATCH($M17,Blad2!$A$2:$A$11,0))),7,WEEKDAY($M17,2))),\"\",IF(NOT(ISERROR(MATCH($M17,Blad2!$A$2:$A$11,0))),7,WEEKDAY($M17,2)))","v":1},{"$f":"IF(AND($AA17<6,N17<>\"\",O17<>\"\"),ort($N17,$O17,$AY$3:$AZ$3),\"\")","v":""},{"$f":"IF(AND($AA17<6,N17<>\"\",O17<>\"\"),ort($N17,$O17,$AY$4:$AZ$5),\"\")","v":""},{"$f":"IF(AND($AA17<6,N17<>\"\",O17<>\"\"),ort($N17,$O17,$AY$6:$AZ$7),\"\")","v":""},{"$f":"IF(AND($AA17=6,N17<>\"\",O17<>\"\"),ort($N17,$O17,$AY$8:$AZ$8),\"\")","v":""},{"$f":"IF(AND($AA17=7,N17<>\"\",O17<>\"\"),ort($N17,$O17,$AY$9:$AZ$9),\"\")","v":""},{"$f":"IF(AND($AA17<6,P17<>\"\",Q17<>\"\"),ort($P17,$Q17,$AY$3:$AZ$3),\"\")","v":""},{"$f":"IF(AND($AA17<6,P17<>\"\",Q17<>\"\"),ort($P17,$Q17,$AY$4:$AZ$5),\"\")","v":""},{"$f":"IF(AND($AA17<6,P17<>\"\",Q17<>\"\"),ort($P17,$Q17,$AY$6:$AZ$7),\"\")","v":""},{"$f":"IF(AND($AA17=6,P17<>\"\",Q17<>\"\"),ort($P17,$Q17,$AY$8:$AZ$8),\"\")","v":""},{"$f":"IF(AND($AA17=7,P17<>\"\",Q17<>\"\"),ort($P17,$Q17,$AY$9:$AZ$9),\"\")","v":""},{"$f":"IF(AND($AA17<6,R17<>\"\",S17<>\"\"),ort($R17,$S17,$AY$3:$AZ$3),\"\")","v":""},{"$f":"IF(AND($AA17<6,R17<>\"\",S17<>\"\"),ort($R17,$S17,$AY$4:$AZ$5),\"\")","v":""},{"$f":"IF(AND($AA17<6,R17<>\"\",S17<>\"\"),ort($R17,$S17,$AY$6:$AZ$7),\"\")","v":""},{"$f":"IF(AND($AA17=6,R17<>\"\",S17<>\"\"),ort($R17,$S17,$AY$8:$AZ$8),\"\")","v":""},{"$f":"IF(AND($AA17=7,R17<>\"\",S17<>\"\"),ort($R17,$S17,$AY$9:$AZ$9),\"\")","v":""},{"$f":"IF(AND($AA17<6,T17<>\"\",U17<>\"\"),ort($T17,$U17,$AY$3:$AZ$3),\"\")","v":""},{"$f":"IF(AND($AA17<6,T17<>\"\",U17<>\"\"),ort($T17,$U17,$AY$4:$AZ$5),\"\")","v":""},{"$f":"IF(AND($AA17<6,T17<>\"\",U17<>\"\"),ort($T17,$U17,$AY$6:$AZ$7),\"\")","v":""},{"$f":"IF(AND($AA17=6,T17<>\"\",U17<>\"\"),ort($T17,$U17,$AY$8:$AZ$8),\"\")","v":""},{"$f":"IF(AND($AA17=7,T17<>\"\",U17<>\"\"),ort($T17,$U17,$AY$9:$AZ$9),\"\")","v":""},null,null,null,null,null,null,null,null,null,"00:00:00"]
[null,null,null,null,null,null,null,null,null,"","",{"$f":"DATE($B$3,$B$4,16)","v":"2018-10-16"},{"$f":"DATE($B$3,$B$4,16)","v":"2018-10-16"},null,"00:00:00",null,null,null,null,null,null,"","","","","",{"$f":"IF(ISERROR(IF(NOT(ISERROR(MATCH($M18,Blad2!$A$2:$A$11,0))),7,WEEKDAY($M18,2))),\"\",IF(NOT(ISERROR(MATCH($M18,Blad2!$A$2:$A$11,0))),7,WEEKDAY($M18,2)))","v":2},{"$f":"IF(AND($AA18<6,N18<>\"\",O18<>\"\"),ort($N18,$O18,$AY$3:$AZ$3),\"\")","v":""},{"$f":"IF(AND($AA18<6,N18<>\"\",O18<>\"\"),ort($N18,$O18,$AY$4:$AZ$5),\"\")","v":""},{"$f":"IF(AND($AA18<6,N18<>\"\",O18<>\"\"),ort($N18,$O18,$AY$6:$AZ$7),\"\")","v":""},{"$f":"IF(AND($AA18=6,N18<>\"\",O18<>\"\"),ort($N18,$O18,$AY$8:$AZ$8),\"\")","v":""},{"$f":"IF(AND($AA18=7,N18<>\"\",O18<>\"\"),ort($N18,$O18,$AY$9:$AZ$9),\"\")","v":""},{"$f":"IF(AND($AA18<6,P18<>\"\",Q18<>\"\"),ort($P18,$Q18,$AY$3:$AZ$3),\"\")","v":""},{"$f":"IF(AND($AA18<6,P18<>\"\",Q18<>\"\"),ort($P18,$Q18,$AY$4:$AZ$5),\"\")","v":""},{"$f":"IF(AND($AA18<6,P18<>\"\",Q18<>\"\"),ort($P18,$Q18,$AY$6:$AZ$7),\"\")","v":""},{"$f":"IF(AND($AA18=6,P18<>\"\",Q18<>\"\"),ort($P18,$Q18,$AY$8:$AZ$8),\"\")","v":""},{"$f":"IF(AND($AA18=7,P18<>\"\",Q18<>\"\"),ort($P18,$Q18,$AY$9:$AZ$9),\"\")","v":""},{"$f":"IF(AND($AA18<6,R18<>\"\",S18<>\"\"),ort($R18,$S18,$AY$3:$AZ$3),\"\")","v":""},{"$f":"IF(AND($AA18<6,R18<>\"\",S18<>\"\"),ort($R18,$S18,$AY$4:$AZ$5),\"\")","v":""},{"$f":"IF(AND($AA18<6,R18<>\"\",S18<>\"\"),ort($R18,$S18,$AY$6:$AZ$7),\"\")","v":""},{"$f":"IF(AND($AA18=6,R18<>\"\",S18<>\"\"),ort($R18,$S18,$AY$8:$AZ$8),\"\")","v":""},{"$f":"IF(AND($AA18=7,R18<>\"\",S18<>\"\"),ort($R18,$S18,$AY$9:$AZ$9),\"\")","v":""},{"$f":"IF(AND($AA18<6,T18<>\"\",U18<>\"\"),ort($T18,$U18,$AY$3:$AZ$3),\"\")","v":""},{"$f":"IF(AND($AA18<6,T18<>\"\",U18<>\"\"),ort($T18,$U18,$AY$4:$AZ$5),\"\")","v":""},{"$f":"IF(AND($AA18<6,T18<>\"\",U18<>\"\"),ort($T18,$U18,$AY$6:$AZ$7),\"\")","v":""},{"$f":"IF(AND($AA18=6,T18<>\"\",U18<>\"\"),ort($T18,$U18,$AY$8:$AZ$8),\"\")","v":""},{"$f":"IF(AND($AA18=7,T18<>\"\",U18<>\"\"),ort($T18,$U18,$AY$9:$AZ$9),\"\")","v":""},null,null,null,null,null,null,null,null,null,"00:00:00"]
[null,"Gewerkte uren deze maand",null,null,null,null,null,null,null,"","",{"$f":"DATE($B$3,$B$4,17)","v":"2018-10-17"},{"$f":"DATE($B$3,$B$4,17)","v":"2018-10-17"},null,"00:00:00",null,null,null,null,null,null,"","","","","",{"$f":"IF(ISERROR(IF(NOT(ISERROR(MATCH($M19,Blad2!$A$2:$A$11,0))),7,WEEKDAY($M19,2))),\"\",IF(NOT(ISERROR(MATCH($M19,Blad2!$A$2:$A$11,0))),7,WEEKDAY($M19,2)))","v":3},{"$f":"IF(AND($AA19<6,N19<>\"\",O19<>\"\"),ort($N19,$O19,$AY$3:$AZ$3),\"\")","v":""},{"$f":"IF(AND($AA19<6,N19<>\"\",O19<>\"\"),ort($N19,$O19,$AY$4:$AZ$5),\"\")","v":""},{"$f":"IF(AND($AA19<6,N19<>\"\",O19<>\"\"),ort($N19,$O19,$AY$6:$AZ$7),\"\")","v":""},{"$f":"IF(AND($AA19=6,N19<>\"\",O19<>\"\"),ort($N19,$O19,$AY$8:$AZ$8),\"\")","v":""},{"$f":"IF(AND($AA19=7,N19<>\"\",O19<>\"\"),ort($N19,$O19,$AY$9:$AZ$9),\"\")","v":""},{"$f":"IF(AND($AA19<6,P19<>\"\",Q19<>\"\"),ort($P19,$Q19,$AY$3:$AZ$3),\"\")","v":""},{"$f":"IF(AND($AA19<6,P19<>\"\",Q19<>\"\"),ort($P19,$Q19,$AY$4:$AZ$5),\"\")","v":""},{"$f":"IF(AND($AA19<6,P19<>\"\",Q19<>\"\"),ort($P19,$Q19,$AY$6:$AZ$7),\"\")","v":""},{"$f":"IF(AND($AA19=6,P19<>\"\",Q19<>\"\"),ort($P19,$Q19,$AY$8:$AZ$8),\"\")","v":""},{"$f":"IF(AND($AA19=7,P19<>\"\",Q19<>\"\"),ort($P19,$Q19,$AY$9:$AZ$9),\"\")","v":""},{"$f":"IF(AND($AA19<6,R19<>\"\",S19<>\"\"),ort($R19,$S19,$AY$3:$AZ$3),\"\")","v":""},{"$f":"IF(AND($AA19<6,R19<>\"\",S19<>\"\"),ort($R19,$S19,$AY$4:$AZ$5),\"\")","v":""},{"$f":"IF(AND($AA19<6,R19<>\"\",S19<>\"\"),ort($R19,$S19,$AY$6:$AZ$7),\"\")","v":""},{"$f":"IF(AND($AA19=6,R19<>\"\",S19<>\"\"),ort($R19,$S19,$AY$8:$AZ$8),\"\")","v":""},{"$f":"IF(AND($AA19=7,R19<>\"\",S19<>\"\"),ort($R19,$S19,$AY$9:$AZ$9),\"\")","v":""},{"$f":"IF(AND($AA19<6,T19<>\"\",U19<>\"\"),ort($T19,$U19,$AY$3:$AZ$3),\"\")","v":""},{"$f":"IF(AND($AA19<6,T19<>\"\",U19<>\"\"),ort($T19,$U19,$AY$4:$AZ$5),\"\")","v":""},{"$f":"IF(AND($AA19<6,T19<>\"\",U19<>\"\"),ort($T19,$U19,$AY$6:$AZ$7),\"\")","v":""},{"$f":"IF(AND($AA19=6,T19<>\"\",U19<>\"\"),ort($T19,$U19,$AY$8:$AZ$8),\"\")","v":""},{"$f":"IF(AND($AA19=7,T19<>\"\",U19<>\"\"),ort($T19,$U19,$AY$9:$AZ$9),\"\")","v":""},null,null,null,null,null,null,null,null,null,"00:00:00"]
[null,{"$f":"SUM($V$3:$V$33)","v":0},null,null,null,null,null,null,null,"","",{"$f":"DATE($B$3,$B$4,18)","v":"2018-10-18"},{"$f":"DATE($B$3,$B$4,18)","v":"2018-10-18"},null,"00:00:00",null,null,null,null,null,null,"","","","","",{"$f":"IF(ISERROR(IF(NOT(ISERROR(MATCH($M20,Blad2!$A$2:$A$11,0))),7,WEEKDAY($M20,2))),\"\",IF(NOT(ISERROR(MATCH($M20,Blad2!$A$2:$A$11,0))),7,WEEKDAY($M20,2)))","v":4},{"$f":"IF(AND($AA20<6,N20<>\"\",O20<>\"\"),ort($N20,$O20,$AY$3:$AZ$3),\"\")","v":""},{"$f":"IF(AND($AA20<6,N20<>\"\",O20<>\"\"),ort($N20,$O20,$AY$4:$AZ$5),\"\")","v":""},{"$f":"IF(AND($AA20<6,N20<>\"\",O20<>\"\"),ort($N20,$O20,$AY$6:$AZ$7),\"\")","v":""},{"$f":"IF(AND($AA20=6,N20<>\"\",O20<>\"\"),ort($N20,$O20,$AY$8:$AZ$8),\"\")","v":""},{"$f":"IF(AND($AA20=7,N20<>\"\",O20<>\"\"),ort($N20,$O20,$AY$9:$AZ$9),\"\")","v":""},{"$f":"IF(AND($AA20<6,P20<>\"\",Q20<>\"\"),ort($P20,$Q20,$AY$3:$AZ$3),\"\")","v":""},{"$f":"IF(AND($AA20<6,P20<>\"\",Q20<>\"\"),ort($P20,$Q20,$AY$4:$AZ$5),\"\")","v":""},{"$f":"IF(AND($AA20<6,P20<>\"\",Q20<>\"\"),ort($P20,$Q20,$AY$6:$AZ$7),\"\")","v":""},{"$f":"IF(AND($AA20=6,P20<>\"\",Q20<>\"\"),ort($P20,$Q20,$AY$8:$AZ$8),\"\")","v":""},{"$f":"IF(AND($AA20=7,P20<>\"\",Q20<>\"\"),ort($P20,$Q20,$AY$9:$AZ$9),\"\")","v":""},{"$f":"IF(AND($AA20<6,R20<>\"\",S20<>\"\"),ort($R20,$S20,$AY$3:$AZ$3),\"\")","v":""},{"$f":"IF(AND($AA20<6,R20<>\"\",S20<>\"\"),ort($R20,$S20,$AY$4:$AZ$5),\"\")","v":""},{"$f":"IF(AND($AA20<6,R20<>\"\",S20<>\"\"),ort($R20,$S20,$AY$6:$AZ$7),\"\")","v":""},{"$f":"IF(AND($AA20=6,R20<>\"\",S20<>\"\"),ort($R20,$S20,$AY$8:$AZ$8),\"\")","v":""},{"$f":"IF(AND($AA20=7,R20<>\"\",S20<>\"\"),ort($R20,$S20,$AY$9:$AZ$9),\"\")","v":""},{"$f":"IF(AND($AA20<6,T20<>\"\",U20<>\"\"),ort($T20,$U20,$AY$3:$AZ$3),\"\")","v":""},{"$f":"IF(AND($AA20<6,T20<>\"\",U20<>\"\"),ort($T20,$U20,$AY$4:$AZ$5),\"\")","v":""},{"$f":"IF(AND($AA20<6,T20<>\"\",U20<>\"\"),ort($T20,$U20,$AY$6:$AZ$7),\"\")","v":""},{"$f":"IF(AND($AA20=6,T20<>\"\",U20<>\"\"),ort($T20,$U20,$AY$8:$AZ$8),\"\")","v":""},{"$f":"IF(AND($AA20=7,T20<>\"\",U20<>\"\"),ort($T20,$U20,$AY$9:$AZ$9),\"\")","v":""},null,{"$f":"COUNTA(Blad2!B12:B100)-COUNTIF(Blad2!B12:B100,\"Verlof\")","v":0},"  Aantal opgenomen ATV-dagen",null,null,null,null,null,null,"00:00:00"]
[null,null,null,null,null,null,null,null,null,"","",{"$f":"DATE($B$3,$B$4,19)","v":"2018-10-19"},{"$f":"DATE($B$3,$B$4,19)","v":"2018-10-19"},null,"00:00:00",null,null,null,null,null,null,"","","","","",{"$f":"IF(ISERROR(IF(NOT(ISERROR(MATCH($M21,Blad2!$A$2:$A$11,0))),7,WEEKDAY($M21,2))),\"\",IF(NOT(ISERROR(MATCH($M21,Blad2!$A$2:$A$11,0))),7,WEEKDAY($M21,2)))","v":5},{"$f":"IF(AND($AA21<6,N21<>\"\",O21<>\"\"),ort($N21,$O21,$AY$3:$AZ$3),\"\")","v":""},{"$f":"IF(AND($AA21<6,N21<>\"\",O21<>\"\"),ort($N21,$O21,$AY$4:$AZ$5),\"\")","v":""},{"$f":"IF(AND($AA21<6,N21<>\"\",O21<>\"\"),ort($N21,$O21,$AY$6:$AZ$7),\"\")","v":""},{"$f":"IF(AND($AA21=6,N21<>\"\",O21<>\"\"),ort($N21,$O21,$AY$8:$AZ$8),\"\")","v":""},{"$f":"IF(AND($AA21=7,N21<>\"\",O21<>\"\"),ort($N21,$O21,$AY$9:$AZ$9),\"\")","v":""},{"$f":"IF(AND($AA21<6,P21<>\"\",Q21<>\"\"),ort($P21,$Q21,$AY$3:$AZ$3),\"\")","v":""},{"$f":"IF(AND($AA21<6,P21<>\"\",Q21<>\"\"),ort($P21,$Q21,$AY$4:$AZ$5),\"\")","v":""},{"$f":"IF(AND($AA21<6,P21<>\"\",Q21<>\"\"),ort($P21,$Q21,$AY$6:$AZ$7),\"\")","v":""},{"$f":"IF(AND($AA21=6,P21<>\"\",Q21<>\"\"),ort($P21,$Q21,$AY$8:$AZ$8),\"\")","v":""},{"$f":"IF(AND($AA21=7,P21<>\"\",Q21<>\"\"),ort($P21,$Q21,$AY$9:$AZ$9),\"\")","v":""},{"$f":"IF(AND($AA21<6,R21<>\"\",S21<>\"\"),ort($R21,$S21,$AY$3:$AZ$3),\"\")","v":""},{"$f":"IF(AND($AA21<6,R21<>\"\",S21<>\"\"),ort($R21,$S21,$AY$4:$AZ$5),\"\")","v":""},{"$f":"IF(AND($AA21<6,R21<>\"\",S21<>\"\"),ort($R21,$S21,$AY$6:$AZ$7),\"\")","v":""},{"$f":"IF(AND($AA21=6,R21<>\"\",S21<>\"\"),ort($R21,$S21,$AY$8:$AZ$8),\"\")","v":""},{"$f":"IF(AND($AA21=7,R21<>\"\",S21<>\"\"),ort($R21,$S21,$AY$9:$AZ$9),\"\")","v":""},{"$f":"IF(AND($AA21<6,T21<>\"\",U21<>\"\"),ort($T21,$U21,$AY$3:$AZ$3),\"\")","v":""},{"$f":"IF(AND($AA21<6,T21<>\"\",U21<>\"\"),ort($T21,$U21,$AY$4:$AZ$5),\"\")","v":""},{"$f":"IF(AND($AA21<6,T21<>\"\",U21<>\"\"),ort($T21,$U21,$AY$6:$AZ$7),\"\")","v":""},{"$f":"IF(AND($AA21=6,T21<>\"\",U21<>\"\"),ort($T21,$U21,$AY$8:$AZ$8),\"\")","v":""},{"$f":"IF(AND($AA21=7,T21<>\"\",U21<>\"\"),ort($T21,$U21,$AY$9:$AZ$9),\"\")","v":""},null,{"$f":"COUNTA(Blad2!B12:B100)-COUNTIF(Blad2!B12:B100,\"ATV\")","v":2},"  Aantal opgenomen verlofdagen",null,null,null,null,null,null,"00:00:00"]
[null,null,null,null,null,null,null,null,null,"","",{"$f":"DATE($B$3,$B$4,20)","v":"2018-10-20"},{"$f":"DATE($B$3,$B$4,20)","v":"2018-10-20"},null,"00:00:00",null,null,null,null,null,null,"","","","","",{"$f":"IF(ISERROR(IF(NOT(ISERROR(MATCH($M22,Blad2!$A$2:$A$11,0))),7,WEEKDAY($M22,2))),\"\",IF(NOT(ISERROR(MATCH($M22,Blad2!$A$2:$A$11,0))),7,WEEKDAY($M22,2)))","v":6},{"$f":"IF(AND($AA22<6,N22<>\"\",O22<>\"\"),ort($N22,$O22,$AY$3:$AZ$3),\"\")","v":""},{"$f":"IF(AND($AA22<6,N22<>\"\",O22<>\"\"),ort($N22,$O22,$AY$4:$AZ$5),\"\")","v":""},{"$f":"IF(AND($AA22<6,N22<>\"\",O22<>\"\"),ort($N22,$O22,$AY$6:$AZ$7),\"\")","v":""},{"$f":"IF(AND($AA22=6,N22<>\"\",O22<>\"\"),ort($N22,$O22,$AY$8:$AZ$8),\"\")","v":""},{"$f":"IF(AND($AA22=7,N22<>\"\",O22<>\"\"),ort($N22,$O22,$AY$9:$AZ$9),\"\")","v":""},{"$f":"IF(AND($AA22<6,P22<>\"\",Q22<>\"\"),ort($P22,$Q22,$AY$3:$AZ$3),\"\")","v":""},{"$f":"IF(AND($AA22<6,P22<>\"\",Q22<>\"\"),ort($P22,$Q22,$AY$4:$AZ$5),\"\")","v":""},{"$f":"IF(AND($AA22<6,P22<>\"\",Q22<>\"\"),ort($P22,$Q22,$AY$6:$AZ$7),\"\")","v":""},{"$f":"IF(AND($AA22=6,P22<>\"\",Q22<>\"\"),ort($P22,$Q22,$AY$8:$AZ$8),\"\")","v":""},{"$f":"IF(AND($AA22=7,P22<>\"\",Q22<>\"\"),ort($P22,$Q22,$AY$9:$AZ$9),\"\")","v":""},{"$f":"IF(AND($AA22<6,R22<>\"\",S22<>\"\"),ort($R22,$S22,$AY$3:$AZ$3),\"\")","v":""},{"$f":"IF(AND($AA22<6,R22<>\"\",S22<>\"\"),ort($R22,$S22,$AY$4:$AZ$5),\"\")","v":""},{"$f":"IF(AND($AA22<6,R22<>\"\",S22<>\"\"),ort($R22,$S22,$AY$6:$AZ$7),\"\")","v":""},{"$f":"IF(AND($AA22=6,R22<>\"\",S22<>\"\"),ort($R22,$S22,$AY$8:$AZ$8),\"\")","v":""},{"$f":"IF(AND($AA22=7,R22<>\"\",S22<>\"\"),ort($R22,$S22,$AY$9:$AZ$9),\"\")","v":""},{"$f":"IF(AND($AA22<6,T22<>\"\",U22<>\"\"),ort($T22,$U22,$AY$3:$AZ$3),\"\")","v":""},{"$f":"IF(AND($AA22<6,T22<>\"\",U22<>\"\"),ort($T22,$U22,$AY$4:$AZ$5),\"\")","v":""},{"$f":"IF(AND($AA22<6,T22<>\"\",U22<>\"\"),ort($T22,$U22,$AY$6:$AZ$7),\"\")","v":""},{"$f":"IF(AND($AA22=6,T22<>\"\",U22<>\"\"),ort($T22,$U22,$AY$8:$AZ$8),\"\")","v":""},{"$f":"IF(AND($AA22=7,T22<>\"\",U22<>\"\"),ort($T22,$U22,$AY$9:$AZ$9),\"\")","v":""},null,null,null,null,null,null,null,null,null,"00:00:00"]
[null,null,null,null,null,null,null,null,null,"","",{"$f":"DATE($B$3,$B$4,21)","v":"2018-10-21"},{"$f":"DATE($B$3,$B$4,21)","v":"2018-10-21"},null,"00:00:00",null,null,null,null,null,null,"","","","","",{"$f":"IF(ISERROR(IF(NOT(ISERROR(MATCH($M23,Blad2!$A$2:$A$11,0))),7,WEEKDAY($M23,2))),\"\",IF(NOT(ISERROR(MATCH($M23,Blad2!$A$2:$A$11,0))),7,WEEKDAY($M23,2)))","v":7},{"$f":"IF(AND($AA23<6,N23<>\"\",O23<>\"\"),ort($N23,$O23,$AY$3:$AZ$3),\"\")","v":""},{"$f":"IF(AND($AA23<6,N23<>\"\",O23<>\"\"),ort($N23,$O23,$AY$4:$AZ$5),\"\")","v":""},{"$f":"IF(AND($AA23<6,N23<>\"\",O23<>\"\"),ort($N23,$O23,$AY$6:$AZ$7),\"\")","v":""},{"$f":"IF(AND($AA23=6,N23<>\"\",O23<>\"\"),ort($N23,$O23,$AY$8:$AZ$8),\"\")","v":""},{"$f":"IF(AND($AA23=7,N23<>\"\",O23<>\"\"),ort($N23,$O23,$AY$9:$AZ$9),\"\")","v":""},{"$f":"IF(AND($AA23<6,P23<>\"\",Q23<>\"\"),ort($P23,$Q23,$AY$3:$AZ$3),\"\")","v":""},{"$f":"IF(AND($AA23<6,P23<>\"\",Q23<>\"\"),ort($P23,$Q23,$AY$4:$AZ$5),\"\")","v":""},{"$f":"IF(AND($AA23<6,P23<>\"\",Q23<>\"\"),ort($P23,$Q23,$AY$6:$AZ$7),\"\")","v":""},{"$f":"IF(AND($AA23=6,P23<>\"\",Q23<>\"\"),ort($P23,$Q23,$AY$8:$AZ$8),\"\")","v":""},{"$f":"IF(AND($AA23=7,P23<>\"\",Q23<>\"\"),ort($P23,$Q23,$AY$9:$AZ$9),\"\")","v":""},{"$f":"IF(AND($AA23<6,R23<>\"\",S23<>\"\"),ort($R23,$S23,$AY$3:$AZ$3),\"\")","v":""},{"$f":"IF(AND($AA23<6,R23<>\"\",S23<>\"\"),ort($R23,$S23,$AY$4:$AZ$5),\"\")","v":""},{"$f":"IF(AND($AA23<6,R23<>\"\",S23<>\"\"),ort($R23,$S23,$AY$6:$AZ$7),\"\")","v":""},{"$f":"IF(AND($AA23=6,R23<>\"\",S23<>\"\"),ort($R23,$S23,$AY$8:$AZ$8),\"\")","v":""},{"$f":"IF(AND($AA23=7,R23<>\"\",S23<>\"\"),ort($R23,$S23,$AY$9:$AZ$9),\"\")","v":""},{"$f":"IF(AND($AA23<6,T23<>\"\",U23<>\"\"),ort($T23,$U23,$AY$3:$AZ$3),\"\")","v":""},{"$f":"IF(AND($AA23<6,T23<>\"\",U23<>\"\"),ort($T23,$U23,$AY$4:$AZ$5),\"\")","v":""},{"$f":"IF(AND($AA23<6,T23<>\"\",U23<>\"\"),ort($T23,$U23,$AY$6:$AZ$7),\"\")","v":""},{"$f":"IF(AND($AA23=6,T23<>\"\",U23<>\"\"),ort($T23,$U23,$AY$8:$AZ$8),\"\")","v":""},{"$f":"IF(AND($AA23=7,T23<>\"\",U23<>\"\"),ort($T23,$U23,$AY$9:$AZ$9),\"\")","v":""},null,null,null,null,null,null,null,null,null,"00:00:00"]
[null,null,null,null,null,null,null,null,null,"",43,{"$f":"DATE($B$3,$B$4,22)","v":"2018-10-22"},{"$f":"DATE($B$3,$B$4,22)","v":"2018-10-22"},null,"00:00:00",null,null,null,null,null,null,"","","","","",{"$f":"IF(ISERROR(IF(NOT(ISERROR(MATCH($M24,Blad2!$A$2:$A$11,0))),7,WEEKDAY($M24,2))),\"\",IF(NOT(ISERROR(MATCH($M24,Blad2!$A$2:$A$11,0))),7,WEEKDAY($M24,2)))","v":1},{"$f":"IF(AND($AA24<6,N24<>\"\",O24<>\"\"),ort($N24,$O24,$AY$3:$AZ$3),\"\")","v":""},{"$f":"IF(AND($AA24<6,N24<>\"\",O24<>\"\"),ort($N24,$O24,$AY$4:$AZ$5),\"\")","v":""},{"$f":"IF(AND($AA24<6,N24<>\"\",O24<>\"\"),ort($N24,$O24,$AY$6:$AZ$7),\"\")","v":""},{"$f":"IF(AND($AA24=6,N24<>\"\",O24<>\"\"),ort($N24,$O24,$AY$8:$AZ$8),\"\")","v":""},{"$f":"IF(AND($AA24=7,N24<>\"\",O24<>\"\"),ort($N24,$O24,$AY$9:$AZ$9),\"\")","v":""},{"$f":"IF(AND($AA24<6,P24<>\"\",Q24<>\"\"),ort($P24,$Q24,$AY$3:$AZ$3),\"\")","v":""},{"$f":"IF(AND($AA24<6,P24<>\"\",Q24<>\"\"),ort($P24,$Q24,$AY$4:$AZ$5),\"\")","v":""},{"$f":"IF(AND($AA24<6,P24<>\"\",Q24<>\"\"),ort($P24,$Q24,$AY$6:$AZ$7),\"\")","v":""},{"$f":"IF(AND($AA24=6,P24<>\"\",Q24<>\"\"),ort($P24,$Q24,$AY$8:$AZ$8),\"\")","v":""},{"$f":"IF(AND($AA24=7,P24<>\"\",Q24<>\"\"),ort($P24,$Q24,$AY$9:$AZ$9),\"\")","v":""},{"$f":"IF(AND($AA24<6,R24<>\"\",S24<>\"\"),ort($R24,$S24,$AY$3:$AZ$3),\"\")","v":""},{"$f":"IF(AND($AA24<6,R24<>\"\",S24<>\"\"),ort($R24,$S24,$AY$4:$AZ$5),\"\")","v":""},{"$f":"IF(AND($AA24<6,R24<>\"\",S24<>\"\"),ort($R24,$S24,$AY$6:$AZ$7),\"\")","v":""},{"$f":"IF(AND($AA24=6,R24<>\"\",S24<>\"\"),ort($R24,$S24,$AY$8:$AZ$8),\"\")","v":""},{"$f":"IF(AND($AA24=7,R24<>\"\",S24<>\"\"),ort($R24,$S24,$AY$9:$AZ$9),\"\")","v":""},{"$f":"IF(AND($AA24<6,T24<>\"\",U24<>\"\"),ort($T24,$U24,$AY$3:$AZ$3),\"\")","v":""},{"$f":"IF(AND($AA24<6,T24<>\"\",U24<>\"\"),ort($T24,$U24,$AY$4:$AZ$5),\"\")","v":""},{"$f":"IF(AND($AA24<6,T24<>\"\",U24<>\"\"),ort($T24,$U24,$AY$6:$AZ$7),\"\")","v":""},{"$f":"IF(AND($AA24=6,T24<>\"\",U24<>\"\"),ort($T24,$U24,$AY$8:$AZ$8),\"\")","v":""},{"$f":"IF(AND($AA24=7,T24<>\"\",U24<>\"\"),ort($T24,$U24,$AY$9:$AZ$9),\"\")","v":""},null,null,null,null,null,null,null,null,null,"00:00:00"]
[null,null,null,null,null,null,null,null,null,"","",{"$f":"DATE($B$3,$B$4,23)","v":"2018-10-23"},{"$f":"DATE($B$3,$B$4,23)","v":"2018-10-23"},null,"00:00:00",null,null,null,null,null,null,"","","","","",{"$f":"IF(ISERROR(IF(NOT(ISERROR(MATCH($M25,Blad2!$A$2:$A$11,0))),7,WEEKDAY($M25,2))),\"\",IF(NOT(ISERROR(MATCH($M25,Blad2!$A$2:$A$11,0))),7,WEEKDAY($M25,2)))","v":2},{"$f":"IF(AND($AA25<6,N25<>\"\",O25<>\"\"),ort($N25,$O25,$AY$3:$AZ$3),\"\")","v":""},{"$f":"IF(AND($AA25<6,N25<>\"\",O25<>\"\"),ort($N25,$O25,$AY$4:$AZ$5),\"\")","v":""},{"$f":"IF(AND($AA25<6,N25<>\"\",O25<>\"\"),ort($N25,$O25,$AY$6:$AZ$7),\"\")","v":""},{"$f":"IF(AND($AA25=6,N25<>\"\",O25<>\"\"),ort($N25,$O25,$AY$8:$AZ$8),\"\")","v":""},{"$f":"IF(AND($AA25=7,N25<>\"\",O25<>\"\"),ort($N25,$O25,$AY$9:$AZ$9),\"\")","v":""},{"$f":"IF(AND($AA25<6,P25<>\"\",Q25<>\"\"),ort($P25,$Q25,$AY$3:$AZ$3),\"\")","v":""},{"$f":"IF(AND($AA25<6,P25<>\"\",Q25<>\"\"),ort($P25,$Q25,$AY$4:$AZ$5),\"\")","v":""},{"$f":"IF(AND($AA25<6,P25<>\"\",Q25<>\"\"),ort($P25,$Q25,$AY$6:$AZ$7),\"\")","v":""},{"$f":"IF(AND($AA25=6,P25<>\"\",Q25<>\"\"),ort($P25,$Q25,$AY$8:$AZ$8),\"\")","v":""},{"$f":"IF(AND($AA25=7,P25<>\"\",Q25<>\"\"),ort($P25,$Q25,$AY$9:$AZ$9),\"\")","v":""},{"$f":"IF(AND($AA25<6,R25<>\"\",S25<>\"\"),ort($R25,$S25,$AY$3:$AZ$3),\"\")","v":""},{"$f":"IF(AND($AA25<6,R25<>\"\",S25<>\"\"),ort($R25,$S25,$AY$4:$AZ$5),\"\")","v":""},{"$f":"IF(AND($AA25<6,R25<>\"\",S25<>\"\"),ort($R25,$S25,$AY$6:$AZ$7),\"\")","v":""},{"$f":"IF(AND($AA25=6,R25<>\"\",S25<>\"\"),ort($R25,$S25,$AY$8:$AZ$8),\"\")","v":""},{"$f":"IF(AND($AA25=7,R25<>\"\",S25<>\"\"),ort($R25,$S25,$AY$9:$AZ$9),\"\")","v":""},{"$f":"IF(AND($AA25<6,T25<>\"\",U25<>\"\"),ort($T25,$U25,$AY$3:$AZ$3),\"\")","v":""},{"$f":"IF(AND($AA25<6,T25<>\"\",U25<>\"\"),ort($T25,$U25,$AY$4:$AZ$5),\"\")","v":""},{"$f":"IF(AND($AA25<6,T25<>\"\",U25<>\"\"),ort($T25,$U25,$AY$6:$AZ$7),\"\")","v":""},{"$f":"IF(AND($AA25=6,T25<>\"\",U25<>\"\"),ort($T25,$U25,$AY$8:$AZ$8),\"\")","v":""},{"$f":"IF(AND($AA25=7,T25<>\"\",U25<>\"\"),ort($T25,$U25,$AY$9:$AZ$9),\"\")","v":""},null,null,null,null,null,null,null,null,null,"00:00:00"]
[null,null,null,null,null,null,null,null,null,"","",{"$f":"DATE($B$3,$B$4,24)","v":"2018-10-24"},{"$f":"DATE($B$3,$B$4,24)","v":"2018-10-24"},null,"00:00:00",null,null,null,null,null,null,"","","","","",{"$f":"IF(ISERROR(IF(NOT(ISERROR(MATCH($M26,Blad2!$A$2:$A$11,0))),7,WEEKDAY($M26,2))),\"\",IF(NOT(ISERROR(MATCH($M26,Blad2!$A$2:$A$11,0))),7,WEEKDAY($M26,2)))","v":3},{"$f":"IF(AND($AA26<6,N26<>\"\",O26<>\"\"),ort($N26,$O26,$AY$3:$AZ$3),\"\")","v":""},{"$f":"IF(AND($AA26<6,N26<>\"\",O26<>\"\"),ort($N26,$O26,$AY$4:$AZ$5),\"\")","v":""},{"$f":"IF(AND($AA26<6,N26<>\"\",O26<>\"\"),ort($N26,$O26,$AY$6:$AZ$7),\"\")","v":""},{"$f":"IF(AND($AA26=6,N26<>\"\",O26<>\"\"),ort($N26,$O26,$AY$8:$AZ$8),\"\")","v":""},{"$f":"IF(AND($AA26=7,N26<>\"\",O26<>\"\"),ort($N26,$O26,$AY$9:$AZ$9),\"\")","v":""},{"$f":"IF(AND($AA26<6,P26<>\"\",Q26<>\"\"),ort($P26,$Q26,$AY$3:$AZ$3),\"\")","v":""},{"$f":"IF(AND($AA26<6,P26<>\"\",Q26<>\"\"),ort($P26,$Q26,$AY$4:$AZ$5),\"\")","v":""},{"$f":"IF(AND($AA26<6,P26<>\"\",Q26<>\"\"),ort($P26,$Q26,$AY$6:$AZ$7),\"\")","v":""},{"$f":"IF(AND($AA26=6,P26<>\"\",Q26<>\"\"),ort($P26,$Q26,$AY$8:$AZ$8),\"\")","v":""},{"$f":"IF(AND($AA26=7,P26<>\"\",Q26<>\"\"),ort($P26,$Q26,$AY$9:$AZ$9),\"\")","v":""},{"$f":"IF(AND($AA26<6,R26<>\"\",S26<>\"\"),ort($R26,$S26,$AY$3:$AZ$3),\"\")","v":""},{"$f":"IF(AND($AA26<6,R26<>\"\",S26<>\"\"),ort($R26,$S26,$AY$4:$AZ$5),\"\")","v":""},{"$f":"IF(AND($AA26<6,R26<>\"\",S26<>\"\"),ort($R26,$S26,$AY$6:$AZ$7),\"\")","v":""},{"$f":"IF(AND($AA26=6,R26<>\"\",S26<>\"\"),ort($R26,$S26,$AY$8:$AZ$8),\"\")","v":""},{"$f":"IF(AND($AA26=7,R26<>\"\",S26<>\"\"),ort($R26,$S26,$AY$9:$AZ$9),\"\")","v":""},{"$f":"IF(AND($AA26<6,T26<>\"\",U26<>\"\"),ort($T26,$U26,$AY$3:$AZ$3),\"\")","v":""},{"$f":"IF(AND($AA26<6,T26<>\"\",U26<>\"\"),ort($T26,$U26,$AY$4:$AZ$5),\"\")","v":""},{"$f":"IF(AND($AA26<6,T26<>\"\",U26<>\"\"),ort($T26,$U26,$AY$6:$AZ$7),\"\")","v":""},{"$f":"IF(AND($AA26=6,T26<>\"\",U26<>\"\"),ort($T26,$U26,$AY$8:$AZ$8),\"\")","v":""},{"$f":"IF(AND($AA26=7,T26<>\"\",U26<>\"\"),ort($T26,$U26,$AY$9:$AZ$9),\"\")","v":""},null,null,null,null,null,null,null,null,null,"00:00:00"]
[null,null,null,null,null,null,null,null,null,"","",{"$f":"DATE($B$3,$B$4,25)","v":"2018-10-25"},{"$f":"DATE($B$3,$B$4,25)","v":"2018-10-25"},null,"00:00:00",null,null,null,null,null,null,"","","","","",{"$f":"IF(ISERROR(IF(NOT(ISERROR(MATCH($M27,Blad2!$A$2:$A$11,0))),7,WEEKDAY($M27,2))),\"\",IF(NOT(ISERROR(MATCH($M27,Blad2!$A$2:$A$11,0))),7,WEEKDAY($M27,2)))","v":4},{"$f":"IF(AND($AA27<6,N27<>\"\",O27<>\"\"),ort($N27,$O27,$AY$3:$AZ$3),\"\")","v":""},{"$f":"IF(AND($AA27<6,N27<>\"\",O27<>\"\"),ort($N27,$O27,$AY$4:$AZ$5),\"\")","v":""},{"$f":"IF(AND($AA27<6,N27<>\"\",O27<>\"\"),ort($N27,$O27,$AY$6:$AZ$7),\"\")","v":""},{"$f":"IF(AND($AA27=6,N27<>\"\",O27<>\"\"),ort($N27,$O27,$AY$8:$AZ$8),\"\")","v":""},{"$f":"IF(AND($AA27=7,N27<>\"\",O27<>\"\"),ort($N27,$O27,$AY$9:$AZ$9),\"\")","v":""},{"$f":"IF(AND($AA27<6,P27<>\"\",Q27<>\"\"),ort($P27,$Q27,$AY$3:$AZ$3),\"\")","v":""},{"$f":"IF(AND($AA27<6,P27<>\"\",Q27<>\"\"),ort($P27,$Q27,$AY$4:$AZ$5),\"\")","v":""},{"$f":"IF(AND($AA27<6,P27<>\"\",Q27<>\"\"),ort($P27,$Q27,$AY$6:$AZ$7),\"\")","v":""},{"$f":"IF(AND($AA27=6,P27<>\"\",Q27<>\"\"),ort($P27,$Q27,$AY$8:$AZ$8),\"\")","v":""},{"$f":"IF(AND($AA27=7,P27<>\"\",Q27<>\"\"),ort($P27,$Q27,$AY$9:$AZ$9),\"\")","v":""},{"$f":"IF(AND($AA27<6,R27<>\"\",S27<>\"\"),ort($R27,$S27,$AY$3:$AZ$3),\"\")","v":""},{"$f":"IF(AND($AA27<6,R27<>\"\",S27<>\"\"),ort($R27,$S27,$AY$4:$AZ$5),\"\")","v":""},{"$f":"IF(AND($AA27<6,R27<>\"\",S27<>\"\"),ort($R27,$S27,$AY$6:$AZ$7),\"\")","v":""},{"$f":"IF(AND($AA27=6,R27<>\"\",S27<>\"\"),ort($R27,$S27,$AY$8:$AZ$8),\"\")","v":""},{"$f":"IF(AND($AA27=7,R27<>\"\",S27<>\"\"),ort($R27,$S27,$AY$9:$AZ$9),\"\")","v":""},{"$f":"IF(AND($AA27<6,T27<>\"\",U27<>\"\"),ort($T27,$U27,$AY$3:$AZ$3),\"\")","v":""},{"$f":"IF(AND($AA27<6,T27<>\"\",U27<>\"\"),ort($T27,$U27,$AY$4:$AZ$5),\"\")","v":""},{"$f":"IF(AND($AA27<6,T27<>\"\",U27<>\"\"),ort($T27,$U27,$AY$6:$AZ$7),\"\")","v":""},{"$f":"IF(AND($AA27=6,T27<>\"\",U27<>\"\"),ort($T27,$U27,$AY$8:$AZ$8),\"\")","v":""},{"$f":"IF(AND($AA27=7,T27<>\"\",U27<>\"\"),ort($T27,$U27,$AY$9:$AZ$9),\"\")","v":""},null,null,null,null,null,null,null,null,null,"00:00:00"]
[null,null,null,null,null,null,null,null,null,"","",{"$f":"DATE($B$3,$B$4,26)","v":"2018-10-26"},{"$f":"DATE($B$3,$B$4,26)","v":"2018-10-26"},null,"00:00:00",null,null,null,null,null,null,"","","","","",{"$f":"IF(ISERROR(IF(NOT(ISERROR(MATCH($M28,Blad2!$A$2:$A$11,0))),7,WEEKDAY($M28,2))),\"\",IF(NOT(ISERROR(MATCH($M28,Blad2!$A$2:$A$11,0))),7,WEEKDAY($M28,2)))","v":5},{"$f":"IF(AND($AA28<6,N28<>\"\",O28<>\"\"),ort($N28,$O28,$AY$3:$AZ$3),\"\")","v":""},{"$f":"IF(AND($AA28<6,N28<>\"\",O28<>\"\"),ort($N28,$O28,$AY$4:$AZ$5),\"\")","v":""},{"$f":"IF(AND($AA28<6,N28<>\"\",O28<>\"\"),ort($N28,$O28,$AY$6:$AZ$7),\"\")","v":""},{"$f":"IF(AND($AA28=6,N28<>\"\",O28<>\"\"),ort($N28,$O28,$AY$8:$AZ$8),\"\")","v":""},{"$f":"IF(AND($AA28=7,N28<>\"\",O28<>\"\"),ort($N28,$O28,$AY$9:$AZ$9),\"\")","v":""},{"$f":"IF(AND($AA28<6,P28<>\"\",Q28<>\"\"),ort($P28,$Q28,$AY$3:$AZ$3),\"\")","v":""},{"$f":"IF(AND($AA28<6,P28<>\"\",Q28<>\"\"),ort($P28,$Q28,$AY$4:$AZ$5),\"\")","v":""},{"$f":"IF(AND($AA28<6,P28<>\"\",Q28<>\"\"),ort($P28,$Q28,$AY$6:$AZ$7),\"\")","v":""},{"$f":"IF(AND($AA28=6,P28<>\"\",Q28<>\"\"),ort($P28,$Q28,$AY$8:$AZ$8),\"\")","v":""},{"$f":"IF(AND($AA28=7,P28<>\"\",Q28<>\"\"),ort($P28,$Q28,$AY$9:$AZ$9),\"\")","v":""},{"$f":"IF(AND($AA28<6,R28<>\"\",S28<>\"\"),ort($R28,$S28,$AY$3:$AZ$3),\"\")","v":""},{"$f":"IF(AND($AA28<6,R28<>\"\",S28<>\"\"),ort($R28,$S28,$AY$4:$AZ$5),\"\")","v":""},{"$f":"IF(AND($AA28<6,R28<>\"\",S28<>\"\"),ort($R28,$S28,$AY$6:$AZ$7),\"\")","v":""},{"$f":"IF(AND($AA28=6,R28<>\"\",S28<>\"\"),ort($R28,$S28,$AY$8:$AZ$8),\"\")","v":""},{"$f":"IF(AND($AA28=7,R28<>\"\",S28<>\"\"),ort($R28,$S28,$AY$9:$AZ$9),\"\")","v":""},{"$f":"IF(AND($AA28<6,T28<>\"\",U28<>\"\"),ort($T28,$U28,$AY$3:$AZ$3),\"\")","v":""},{"$f":"IF(AND($AA28<6,T28<>\"\",U28<>\"\"),ort($T28,$U28,$AY$4:$AZ$5),\"\")","v":""},{"$f":"IF(AND($AA28<6,T28<>\"\",U28<>\"\"),ort($T28,$U28,$AY$6:$AZ$7),\"\")","v":""},{"$f":"IF(AND($AA28=6,T28<>\"\",U28<>\"\"),ort($T28,$U28,$AY$8:$AZ$8),\"\")","v":""},{"$f":"IF(AND($AA28=7,T28<>\"\",U28<>\"\"),ort($T28,$U28,$AY$9:$AZ$9),\"\")","v":""},null,null,null,null,null,null,null,null,null,"00:00:00"]
[null,null,null,null,null,null,null,null,null,"","",{"$f":"DATE($B$3,$B$4,27)","v":"2018-10-27"},{"$f":"DATE($B$3,$B$4,27)","v":"2018-10-27"},null,"00:00:00",null,null,null,null,null,null,"","","","","",{"$f":"IF(ISERROR(IF(NOT(ISERROR(MATCH($M29,Blad2!$A$2:$A$11,0))),7,WEEKDAY($M29,2))),\"\",IF(NOT(ISERROR(MATCH($M29,Blad2!$A$2:$A$11,0))),7,WEEKDAY($M29,2)))","v":6},{"$f":"IF(AND($AA29<6,N29<>\"\",O29<>\"\"),ort($N29,$O29,$AY$3:$AZ$3),\"\")","v":""},{"$f":"IF(AND($AA29<6,N29<>\"\",O29<>\"\"),ort($N29,$O29,$AY$4:$AZ$5),\"\")","v":""},{"$f":"IF(AND($AA29<6,N29<>\"\",O29<>\"\"),ort($N29,$O29,$AY$6:$AZ$7),\"\")","v":""},{"$f":"IF(AND($AA29=6,N29<>\"\",O29<>\"\"),ort($N29,$O29,$AY$8:$AZ$8),\"\")","v":""},{"$f":"IF(AND($AA29=7,N29<>\"\",O29<>\"\"),ort($N29,$O29,$AY$9:$AZ$9),\"\")","v":""},{"$f":"IF(AND($AA29<6,P29<>\"\",Q29<>\"\"),ort($P29,$Q29,$AY$3:$AZ$3),\"\")","v":""},{"$f":"IF(AND($AA29<6,P29<>\"\",Q29<>\"\"),ort($P29,$Q29,$AY$4:$AZ$5),\"\")","v":""},{"$f":"IF(AND($AA29<6,P29<>\"\",Q29<>\"\"),ort($P29,$Q29,$AY$6:$AZ$7),\"\")","v":""},{"$f":"IF(AND($AA29=6,P29<>\"\",Q29<>\"\"),ort($P29,$Q29,$AY$8:$AZ$8),\"\")","v":""},{"$f":"IF(AND($AA29=7,P29<>\"\",Q29<>\"\"),ort($P29,$Q29,$AY$9:$AZ$9),\"\")","v":""},{"$f":"IF(AND($AA29<6,R29<>\"\",S29<>\"\"),ort($R29,$S29,$AY$3:$AZ$3),\"\")","v":""},{"$f":"IF(AND($AA29<6,R29<>\"\",S29<>\"\"),ort($R29,$S29,$AY$4:$AZ$5),\"\")","v":""},{"$f":"IF(AND($AA29<6,R29<>\"\",S29<>\"\"),ort($R29,$S29,$AY$6:$AZ$7),\"\")","v":""},{"$f":"IF(AND($AA29=6,R29<>\"\",S29<>\"\"),ort($R29,$S29,$AY$8:$AZ$8),\"\")","v":""},{"$f":"IF(AND($AA29=7,R29<>\"\",S29<>\"\"),ort($R29,$S29,$AY$9:$AZ$9),\"\")","v":""},{"$f":"IF(AND($AA29<6,T29<>\"\",U29<>\"\"),ort($T29,$U29,$AY$3:$AZ$3),\"\")","v":""},{"$f":"IF(AND($AA29<6,T29<>\"\",U29<>\"\"),ort($T29,$U29,$AY$4:$AZ$5),\"\")","v":""},{"$f":"IF(AND($AA29<6,T29<>\"\",U29<>\"\"),ort($T29,$U29,$AY$6:$AZ$7),\"\")","v":""},{"$f":"IF(AND($AA29=6,T29<>\"\",U29<>\"\"),ort($T29,$U29,$AY$8:$AZ$8),\"\")","v":""},{"$f":"IF(AND($AA29=7,T29<>\"\",U29<>\"\"),ort($T29,$U29,$AY$9:$AZ$9),\"\")","v":""},null,null,null,null,null,null,null,null,null,"00:00:00"]
[null,null,null,null,null,null,null,null,null,"","",{"$f":"DATE($B$3,$B$4,28)","v":"2018-10-28"},{"$f":"DATE($B$3,$B$4,28)","v":"2018-10-28"},null,"00:00:00",null,null,null,null,null,null,"","","","","",{"$f":"IF(ISERROR(IF(NOT(ISERROR(MATCH($M30,Blad2!$A$2:$A$11,0))),7,WEEKDAY($M30,2))),\"\",IF(NOT(ISERROR(MATCH($M30,Blad2!$A$2:$A$11,0))),7,WEEKDAY($M30,2)))","v":7},{"$f":"IF(AND($AA30<6,N30<>\"\",O30<>\"\"),ort($N30,$O30,$AY$3:$AZ$3),\"\")","v":""},{"$f":"IF(AND($AA30<6,N30<>\"\",O30<>\"\"),ort($N30,$O30,$AY$4:$AZ$5),\"\")","v":""},{"$f":"IF(AND($AA30<6,N30<>\"\",O30<>\"\"),ort($N30,$O30,$AY$6:$AZ$7),\"\")","v":""},{"$f":"IF(AND($AA30=6,N30<>\"\",O30<>\"\"),ort($N30,$O30,$AY$8:$AZ$8),\"\")","v":""},{"$f":"IF(AND($AA30=7,N30<>\"\",O30<>\"\"),ort($N30,$O30,$AY$9:$AZ$9),\"\")","v":""},{"$f":"IF(AND($AA30<6,P30<>\"\",Q30<>\"\"),ort($P30,$Q30,$AY$3:$AZ$3),\"\")","v":""},{"$f":"IF(AND($AA30<6,P30<>\"\",Q30<>\"\"),ort($P30,$Q30,$AY$4:$AZ$5),\"\")","v":""},{"$f":"IF(AND($AA30<6,P30<>\"\",Q30<>\"\"),ort($P30,$Q30,$AY$6:$AZ$7),\"\")","v":""},{"$f":"IF(AND($AA30=6,P30<>\"\",Q30<>\"\"),ort($P30,$Q30,$AY$8:$AZ$8),\"\")","v":""},{"$f":"IF(AND($AA30=7,P30<>\"\",Q30<>\"\"),ort($P30,$Q30,$AY$9:$AZ$9),\"\")","v":""},{"$f":"IF(AND($AA30<6,R30<>\"\",S30<>\"\"),ort($R30,$S30,$AY$3:$AZ$3),\"\")","v":""},{"$f":"IF(AND($AA30<6,R30<>\"\",S30<>\"\"),ort($R30,$S30,$AY$4:$AZ$5),\"\")","v":""},{"$f":"IF(AND($AA30<6,R30<>\"\",S30<>\"\"),ort($R30,$S30,$AY$6:$AZ$7),\"\")","v":""},{"$f":"IF(AND($AA30=6,R30<>\"\",S30<>\"\"),ort($R30,$S30,$AY$8:$AZ$8),\"\")","v":""},{"$f":"IF(AND($AA30=7,R30<>\"\",S30<>\"\"),ort($R30,$S30,$AY$9:$AZ$9),\"\")","v":""},{"$f":"IF(AND($AA30<6,T30<>\"\",U30<>\"\"),ort($T30,$U30,$AY$3:$AZ$3),\"\")","v":""},{"$f":"IF(AND($AA30<6,T30<>\"\",U30<>\"\"),ort($T30,$U30,$AY$4:$AZ$5),\"\")","v":""},{"$f":"IF(AND($AA30<6,T30<>\"\",U30<>\"\"),ort($T30,$U30,$AY$6:$AZ$7),\"\")","v":""},{"$f":"IF(AND($AA30=6,T30<>\"\",U30<>\"\"),ort($T30,$U30,$AY$8:$AZ$8),\"\")","v":""},{"$f":"IF(AND($AA30=7,T30<>\"\",U30<>\"\"),ort($T30,$U30,$AY$9:$AZ$9),\"\")","v":""},null,null,null,null,null,null,null,null,null,"00:00:00"]
[null,null,null,null,null,null,null,null,null,"",{"$f":"IF(L31=\"\",\"\",IF(WEEKDAY(L31)=2,1+INT((L31-DATE(YEAR(L31+4-WEEKDAY(L31+6)),1,5)+WEEKDAY(DATE(YEAR(L31+4-WEEKDAY(L31+6)),1,3)))/7),\"\"))","v":44},{"$f":"IF(MONTH(L$30+1)<>MONTH(L$30),\"\",L$30+1)","v":"2018-10-29"},{"$f":"IF(MONTH(M$30+1)<>MONTH(M$30),\"\",M$30+1)","v":"2018-10-29"},null,"00:00:00",null,null,null,null,null,null,"","","","","",{"$f":"IF(ISERROR(IF(NOT(ISERROR(MATCH($M31,Blad2!$A$2:$A$11,0))),7,WEEKDAY($M31,2))),\"\",IF(NOT(ISERROR(MATCH($M31,Blad2!$A$2:$A$11,0))),7,WEEKDAY($M31,2)))","v":1},{"$f":"IF(AND($AA31<6,N31<>\"\",O31<>\"\"),ort($N31,$O31,$AY$3:$AZ$3),\"\")","v":""},{"$f":"IF(AND($AA31<6,N31<>\"\",O31<>\"\"),ort($N31,$O31,$AY$4:$AZ$5),\"\")","v":""},{"$f":"IF(AND($AA31<6,N31<>\"\",O31<>\"\"),ort($N31,$O31,$AY$6:$AZ$7),\"\")","v":""},{"$f":"IF(AND($AA31=6,N31<>\"\",O31<>\"\"),ort($N31,$O31,$AY$8:$AZ$8),\"\")","v":""},{"$f":"IF(AND($AA31=7,N31<>\"\",O31<>\"\"),ort($N31,$O31,$AY$9:$AZ$9),\"\")","v":""},{"$f":"IF(AND($AA31<6,P31<>\"\",Q31<>\"\"),ort($P31,$Q31,$AY$3:$AZ$3),\"\")","v":""},{"$f":"IF(AND($AA31<6,P31<>\"\",Q31<>\"\"),ort($P31,$Q31,$AY$4:$AZ$5),\"\")","v":""},{"$f":"IF(AND($AA31<6,P31<>\"\",Q31<>\"\"),ort($P31,$Q31,$AY$6:$AZ$7),\"\")","v":""},{"$f":"IF(AND($AA31=6,P31<>\"\",Q31<>\"\"),ort($P31,$Q31,$AY$8:$AZ$8),\"\")","v":""},{"$f":"IF(AND($AA31=7,P31<>\"\",Q31<>\"\"),ort($P31,$Q31,$AY$9:$AZ$9),\"\")","v":""},{"$f":"IF(AND($AA31<6,R31<>\"\",S31<>\"\"),ort($R31,$S31,$AY$3:$AZ$3),\"\")","v":""},{"$f":"IF(AND($AA31<6,R31<>\"\",S31<>\"\"),ort($R31,$S31,$AY$4:$AZ$5),\"\")","v":""},{"$f":"IF(AND($AA31<6,R31<>\"\",S31<>\"\"),ort($R31,$S31,$AY$6:$AZ$7),\"\")","v":""},{"$f":"IF(AND($AA31=6,R31<>\"\",S31<>\"\"),ort($R31,$S31,$AY$8:$AZ$8),\"\")","v":""},{"$f":"IF(AND($AA31=7,R31<>\"\",S31<>\"\"),ort($R31,$S31,$AY$9:$AZ$9),\"\")","v":""},{"$f":"IF(AND($AA31<6,T31<>\"\",U31<>\"\"),ort($T31,$U31,$AY$3:$AZ$3),\"\")","v":""},{"$f":"IF(AND($AA31<6,T31<>\"\",U31<>\"\"),ort($T31,$U31,$AY$4:$AZ$5),\"\")","v":""},{"$f":"IF(AND($AA31<6,T31<>\"\",U31<>\"\"),ort($T31,$U31,$AY$6:$AZ$7),\"\")","v":""},{"$f":"IF(AND($AA31=6,T31<>\"\",U31<>\"\"),ort($T31,$U31,$AY$8:$AZ$8),\"\")","v":""},{"$f":"IF(AND($AA31=7,T31<>\"\",U31<>\"\"),ort($T31,$U31,$AY$9:$AZ$9),\"\")","v":""},null,null,null,null,null,null,null,null,null,"00:00:00"]
[null,"Totaal Uren incl 150 %",null,null,null,null,null,null,null,"","",{"$f":"IF(L31=\"\",\"\",IF(MONTH($M31+1)<>MONTH($M31),\"\",$M31+1))","v":"2018-10-30"},{"$f":"IF(M31=\"\",\"\",IF(MONTH($M31+1)<>MONTH($M31),\"\",$M31+1))","v":"2018-10-30"},null,"00:00:00",null,null,null,null,null,null,"","","","","",{"$f":"IF(ISERROR(IF(NOT(ISERROR(MATCH($M32,Blad2!$A$2:$A$11,0))),7,WEEKDAY($M32,2))),\"\",IF(NOT(ISERROR(MATCH($M32,Blad2!$A$2:$A$11,0))),7,WEEKDAY($M32,2)))","v":2},{"$f":"IF(AND($AA32<6,N32<>\"\",O32<>\"\"),ort($N32,$O32,$AY$3:$AZ$3),\"\")","v":""},{"$f":"IF(AND($AA32<6,N32<>\"\",O32<>\"\"),ort($N32,$O32,$AY$4:$AZ$5),\"\")","v":""},{"$f":"IF(AND($AA32<6,N32<>\"\",O32<>\"\"),ort($N32,$O32,$AY$6:$AZ$7),\"\")","v":""},{"$f":"IF(AND($AA32=6,N32<>\"\",O32<>\"\"),ort($N32,$O32,$AY$8:$AZ$8),\"\")","v":""},{"$f":"IF(AND($AA32=7,N32<>\"\",O32<>\"\"),ort($N32,$O32,$AY$9:$AZ$9),\"\")","v":""},{"$f":"IF(AND($AA32<6,P32<>\"\",Q32<>\"\"),ort($P32,$Q32,$AY$3:$AZ$3),\"\")","v":""},{"$f":"IF(AND($AA32<6,P32<>\"\",Q32<>\"\"),ort($P32,$Q32,$AY$4:$AZ$5),\"\")","v":""},{"$f":"IF(AND($AA32<6,P32<>\"\",Q32<>\"\"),ort($P32,$Q32,$AY$6:$AZ$7),\"\")","v":""},{"$f":"IF(AND($AA32=6,P32<>\"\",Q32<>\"\"),ort($P32,$Q32,$AY$8:$AZ$8),\"\")","v":""},{"$f":"IF(AND($AA32=7,P32<>\"\",Q32<>\"\"),ort($P32,$Q32,$AY$9:$AZ$9),\"\")","v":""},{"$f":"IF(AND($AA32<6,R32<>\"\",S32<>\"\"),ort($R32,$S32,$AY$3:$AZ$3),\"\")","v":""},{"$f":"IF(AND($AA32<6,R32<>\"\",S32<>\"\"),ort($R32,$S32,$AY$4:$AZ$5),\"\")","v":""},{"$f":"IF(AND($AA32<6,R32<>\"\",S32<>\"\"),ort($R32,$S32,$AY$6:$AZ$7),\"\")","v":""},{"$f":"IF(AND($AA32=6,R32<>\"\",S32<>\"\"),ort($R32,$S32,$AY$8:$AZ$8),\"\")","v":""},{"$f":"IF(AND($AA32=7,R32<>\"\",S32<>\"\"),ort($R32,$S32,$AY$9:$AZ$9),\"\")","v":""},{"$f":"IF(AND($AA32<6,T32<>\"\",U32<>\"\"),ort($T32,$U32,$AY$3:$AZ$3),\"\")","v":""},{"$f":"IF(AND($AA32<6,T32<>\"\",U32<>\"\"),ort($T32,$U32,$AY$4:$AZ$5),\"\")","v":""},{"$f":"IF(AND($AA32<6,T32<>\"\",U32<>\"\"),ort($T32,$U32,$AY$6:$AZ$7),\"\")","v":""},{"$f":"IF(AND($AA32=6,T32<>\"\",U32<>\"\"),ort($T32,$U32,$AY$8:$AZ$8),\"\")","v":""},{"$f":"IF(AND($AA32=7,T32<>\"\",U32<>\"\"),ort($T32,$U32,$AY$9:$AZ$9),\"\")","v":""},null,null,null,null,null,null,null,null,null,"00:00:00"]
[null,{"$f":"SUM(U36,W37)","v":0},null,null,null,null,null,null,null,"",{"$f":"IF(L33=\"\",\"\",IF(WEEKDAY(L33)=2,1+INT((L33-DATE(YEAR(L33+4-WEEKDAY(L33+6)),1,5)+WEEKDAY(DATE(YEAR(L33+4-WEEKDAY(L33+6)),1,3)))/7),\"\"))","v":""},{"$f":"IF(L32=\"\",\"\",IF(MONTH($M32+1)<>MONTH($M32),\"\",$M32+1))","v":"2018-10-31"},{"$f":"IF(M32=\"\",\"\",IF(MONTH($M32+1)<>MONTH($M32),\"\",$M32+1))","v":"2018-10-31"},null,"00:00:00",null,null,null,null,null,null,"","","","","",{"$f":"IF(ISERROR(IF(NOT(ISERROR(MATCH($M33,Blad2!$A$2:$A$11,0))),7,WEEKDAY($M33,2))),\"\",IF(NOT(ISERROR(MATCH($M33,Blad2!$A$2:$A$11,0))),7,WEEKDAY($M33,2)))","v":3},{"$f":"IF(AND($AA33<6,N33<>\"\",O33<>\"\"),ort($N33,$O33,$AY$3:$AZ$3),\"\")","v":""},{"$f":"IF(AND($AA33<6,N33<>\"\",O33<>\"\"),ort($N33,$O33,$AY$4:$AZ$5),\"\")","v":""},{"$f":"IF(AND($AA33<6,N33<>\"\",O33<>\"\"),ort($N33,$O33,$AY$6:$AZ$7),\"\")","v":""},{"$f":"IF(AND($AA33=6,N33<>\"\",O33<>\"\"),ort($N33,$O33,$AY$8:$AZ$8),\"\")","v":""},{"$f":"IF(AND($AA33=7,N33<>\"\",O33<>\"\"),ort($N33,$O33,$AY$9:$AZ$9),\"\")","v":""},{"$f":"IF(AND($AA33<6,P33<>\"\",Q33<>\"\"),ort($P33,$Q33,$AY$3:$AZ$3),\"\")","v":""},{"$f":"IF(AND($AA33<6,P33<>\"\",Q33<>\"\"),ort($P33,$Q33,$AY$4:$AZ$5),\"\")","v":""},{"$f":"IF(AND($AA33<6,P33<>\"\",Q33<>\"\"),ort($P33,$Q33,$AY$6:$AZ$7),\"\")","v":""},{"$f":"IF(AND($AA33=6,P33<>\"\",Q33<>\"\"),ort($P33,$Q33,$AY$8:$AZ$8),\"\")","v":""},{"$f":"IF(AND($AA33=7,P33<>\"\",Q33<>\"\"),ort($P33,$Q33,$AY$9:$AZ$9),\"\")","v":""},{"$f":"IF(AND($AA33<6,R33<>\"\",S33<>\"\"),ort($R33,$S33,$AY$3:$AZ$3),\"\")","v":""},{"$f":"IF(AND($AA33<6,R33<>\"\",S33<>\"\"),ort($R33,$S33,$AY$4:$AZ$5),\"\")","v":""},{"$f":"IF(AND($AA33<6,R33<>\"\",S33<>\"\"),ort($R33,$S33,$AY$6:$AZ$7),\"\")","v":""},{"$f":"IF(AND($AA33=6,R33<>\"\",S33<>\"\"),ort($R33,$S33,$AY$8:$AZ$8),\"\")","v":""},{"$f":"IF(AND($AA33=7,R33<>\"\",S33<>\"\"),ort($R33,$S33,$AY$9:$AZ$9),\"\")","v":""},{"$f":"IF(AND($AA33<6,T33<>\"\",U33<>\"\"),ort($T33,$U33,$AY$3:$AZ$3),\"\")","v":""},{"$f":"IF(AND($AA33<6,T33<>\"\",U33<>\"\"),ort($T33,$U33,$AY$4:$AZ$5),\"\")","v":""},{"$f":"IF(AND($AA33<6,T33<>\"\",U33<>\"\"),ort($T33,$U33,$AY$6:$AZ$7),\"\")","v":""},{"$f":"IF(AND($AA33=6,T33<>\"\",U33<>\"\"),ort($T33,$U33,$AY$8:$AZ$8),\"\")","v":""},{"$f":"IF(AND($AA33=7,T33<>\"\",U33<>\"\"),ort($T33,$U33,$AY$9:$AZ$9),\"\")","v":""},null,null,null,null,null,null,null,null,null,"00:00:00"]
[null,null,null,null,null,null,null,null,null,null,null,null,null,null,null,null,null,null,null,null,null,null,{"$f":"SUM(W3:W33)","v":0},{"$f":"SUM(X3:X33)","v":0},0,0]
[null,null,null,null,null,null,null,null,null,null,null,null,"Plus / Min Uren Incl 150 % Uren",null,null,null,null,null,"Contract Uren",null,{"$f":"SUM(B17)","v":3.75}]
[null,null,null,null,null,null,null,null,null,null,null,null,{"$f":"SUM(B33-B17)","v":-3.75},null,null,5,null,"Gewerkte Uren 100 %",null,null,{"$f":"SUM(W34:X34)","v":0}]
[null,null,null,null,null,null,null,null,null,null,null,null,"Uitbetalen / Verlof",null,null,{"$f":"SUM(M36*P36)*24","v":-450},null,"Gewerkte Uren 150 %",null,null,{"$f":"SUM(Y34)","v":0},"X 150%",{"$f":"SUM(U37*150%)","v":0}]
[null,null,null,null,null,null,null,null,null,null,null,null,null,null,null,null,null,null,"Plus Uren"]
[null,null,null,null,null,null,null,null,null,null,null,null,null,null,null,null,null,null,"Min Uren"]

{"sheet":"November","index":10,"n_rows":39,"n_cols":57,"rows_kept":39,"cut":false,"hidden":false,"merged":[[38,18,38,19],[37,18,37,19],[1,48,1,51],[2,3,2,7],[3,2,3,8],[19,1,19,8],[13,1,13,8],[15,1,15,8],[16,1,16,8],[18,1,18,8],[12,1,12,8],[36,12,36,14],[36,15,36,16],[36,17,36,19],[0,14,0,21],[1,2,1,8],[34,12,34,16],[35,12,35,14],[35,15,35,16],[31,1,31,8],[32,1,32,8],[34,18,34,19],[35,17,35,19]]}
[null,null,null,null,null,null,null,null,null,null,null,null,null,null,"Test"]
[null,null,{"$f":"TODAY()","v":"2018-03-21"},null,null,null,null,null,null,"Feestdag","wknr","dag","datum","tijd in","tijd uit","tijd in","tijd uit","tijd in","tijd uit","tijd in","tijd uit","werk\ntijd",1,1.25,1.5,2,"hulp",1,1.25,1.5,1.5,2,1,1.25,1.5,1.5,2,1,1.25,1.5,1.5,2,1,1.25,1.5,1.5,2,null,"onregelmatigheidstoeslag",null,null,null,null,"Stops","Laden","Lossen","Werktijd"]
[null,2018," ","Kalender",null,null,null,null,null,{"$f":"IF(ISNA(VLOOKUP(M3,feestdagen,2,0)),\"\",VLOOKUP(M3,feestdagen,2,0))","v":""},{"$f":"WEEKNUM(L3,21)","v":44},{"$f":"DATE($B$3,$B$4,1)","v":"2018-11-01"},{"$f":"DATE($B$3,$B$4,1)","v":"2018-11-01"},null,{"$f":"SUM(N3,BE3)","v":"00:00:00"},null,null,null,null,null,null,{"$f":"IF(AND(W3=\"\",X3=\"\",Y3=\"\",Z3=\"\"),\"\",SUM(W3:Z3))","v":""},{"$f":"IF(AND(AB3=\"\",AG3=\"\",AL3=\"\",AQ3=\"\"),\"\",SUM(AB3,AG3,AL3,AQ3))","v":""},{"$f":"IF(AND(AC3=\"\",AH3=\"\",AM3=\"\",AR3=\"\"),\"\",SUM(AC3,AH3,AM3,AR3))","v":""},{"$f":"IF(AND(AD3=\"\",AE3=\"\",AI3=\"\",AJ3=\"\",AN3=\"\",AO3=\"\",AS3=\"\",AT3=\"\"),\"\",SUM(AD3,AE3,AI3,AJ3,AN3,AO3,AS3,AT3))","v":""},{"$f":"IF(AND(AF3=\"\",AK3=\"\",AP3=\"\",AU3=\"\"),\"\",SUM(AF3,AK3,AP3,AU3))","v":""},{"$f":"IF(ISERROR(IF(NOT(ISERROR(MATCH($M3,Blad2!$A$2:$A$11,0))),7,WEEKDAY($M3,2))),\"\",IF(NOT(ISERROR(MATCH($M3,Blad2!$A$2:$A$11,0))),7,WEEKDAY($M3,2)))","v":4},{"$f":"IF(AND($AA3<6,N3<>\"\",O3<>\"\"),ort($N3,$O3,$AY$3:$AZ$3),\"\")","v":""},{"$f":"IF(AND($AA3<6,N3<>\"\",O3<>\"\"),ort($N3,$O3,$AY$4:$AZ$5),\"\")","v":""},{"$f":"IF(AND($AA3<6,N3<>\"\",O3<>\"\"),ort($N3,$O3,$AY$6:$AZ$7),\"\")","v":""},{"$f":"IF(AND($AA3=6,N3<>\"\",O3<>\"\"),ort($N3,$O3,$AY$8:$AZ$8),\"\")","v":""},{"$f":"IF(AND($AA3=7,N3<>\"\",O3<>\"\"),ort($N3,$O3,$AY$9:$AZ$9),\"\")","v":""},{"$f":"IF(AND($AA3<6,P3<>\"\",Q3<>\"\"),ort($P3,$Q3,$AY$3:$AZ$3),\"\")","v":""},{"$f":"IF(AND($AA3<6,P3<>\"\",Q3<>\"\"),ort($P3,$Q3,$AY$4:$AZ$5),\"\")","v":""},{"$f":"IF(AND($AA3<6,P3<>\"\",Q3<>\"\"),ort($P3,$Q3,$AY$6:$AZ$7),\"\")","v":""},{"$f":"IF(AND($AA3=6,P3<>\"\",Q3<>\"\"),ort($P3,$Q3,$AY$8:$AZ$8),\"\")","v":""},{"$f":"IF(AND($AA3=7,P3<>\"\",Q3<>\"\"),ort($P3,$Q3,$AY$9:$AZ$9),\"\")","v":""},{"$f":"IF(AND($AA3<6,R3<>\"\",S3<>\"\"),ort($R3,$S3,$AY$3:$AZ$3),\"\")","v":""},{"$f":"IF(AND($AA3<6,R3<>\"\",S3<>\"\"),ort($R3,$S3,$AY$4:$AZ$5),\"\")","v":""},{"$f":"IF(AND($AA3<6,R3<>\"\",S3<>\"\"),ort($R3,$S3,$AY$6:$AZ$7),\"\")","v":""},{"$f":"IF(AND($AA3=6,R3<>\"\",S3<>\"\"),ort($R3,$S3,$AY$8:$AZ$8),\"\")","v":""},{"$f":"IF(AND($AA3=7,R3<>\"\",S3<>\"\"),ort($R3,$S3,$AY$9:$AZ$9),\"\")","v":""},{"$f":"IF(AND($AA3<6,T3<>\"\",U3<>\"\"),ort($T3,$U3,$AY$3:$AZ$3),\"\")","v":""},{"$f":"IF(AND($AA3<6,T3<>\"\",U3<>\"\"),ort($T3,$U3,$AY$4:$AZ$5),\"\")","v":""},{"$f":"IF(AND($AA3<6,T3<>\"\",U3<>\"\"),ort($T3,$U3,$AY$6:$AZ$7),\"\")","v":""},{"$f":"IF(AND($AA3=6,T3<>\"\",U3<>\"\"),ort($T3,$U3,$AY$8:$AZ$8),\"\")","v":""},{"$f":"IF(AND($AA3=7,T3<>\"\",U3<>\"\"),ort($T3,$U3,$AY$9:$AZ$9),\"\")","v":""},null,1,"m-vr",0.39583333333333331,0.72916666666666663,null,null,null,null,{"$f":"SUM(BB3/20/24,BC3:BD3)","v":"00:00:00"}]
[null,11,{"$f":"DATE(B3,B4,1)","v":"2018-11-01"},null,null,null,null,null,null,"",{"$f":"IF(WEEKDAY(L4)=2,1+INT((L4-DATE(YEAR(L4+4-WEEKDAY(L4+6)),1,5)+WEEKDAY(DATE(YEAR(L4+4-WEEKDAY(L4+6)),1,3)))/7),\"\")","v":""},{"$f":"DATE($B$3,$B$4,2)","v":"2018-11-02"},{"$f":"DATE($B$3,$B$4,2)","v":"2018-11-02"},null,{"$f":"SUM(N4,BE4)","v":"00:00:00"},null,null,null,null,null,null,{"$f":"IF(AND(W4=\"\",X4=\"\",Y4=\"\",Z4=\"\"),\"\",SUM(W4:Z4))","v":""},{"$f":"IF(AND(AB4=\"\",AG4=\"\",AL4=\"\",AQ4=\"\"),\"\",SUM(AB4,AG4,AL4,AQ4))","v":""},{"$f":"IF(AND(AC4=\"\",AH4=\"\",AM4=\"\",AR4=\"\"),\"\",SUM(AC4,AH4,AM4,AR4))","v":""},{"$f":"IF(AND(AD4=\"\",AE4=\"\",AI4=\"\",AJ4=\"\",AN4=\"\",AO4=\"\",AS4=\"\",AT4=\"\"),\"\",SUM(AD4,AE4,AI4,AJ4,AN4,AO4,AS4,AT4))","v":""},{"$f":"IF(AND(AF4=\"\",AK4=\"\",AP4=\"\",AU4=\"\"),\"\",SUM(AF4,AK4,AP4,AU4))","v":""},{"$f":"IF(ISERROR(IF(NOT(ISERROR(MATCH($M4,Blad2!$A$2:$A$11,0))),7,WEEKDAY($M4,2))),\"\",IF(NOT(ISERROR(MATCH($M4,Blad2!$A$2:$A$11,0))),7,WEEKDAY($M4,2)))","v":5},{"$f":"IF(AND($AA4<6,N4<>\"\",O4<>\"\"),ort($N4,$O4,$AY$3:$AZ$3),\"\")","v":""},{"$f":"IF(AND($AA4<6,N4<>\"\",O4<>\"\"),ort($N4,$O4,$AY$4:$AZ$5),\"\")","v":""},{"$f":"IF(AND($AA4<6,N4<>\"\",O4<>\"\"),ort($N4,$O4,$AY$6:$AZ$7),\"\")","v":""},{"$f":"IF(AND($AA4=6,N4<>\"\",O4<>\"\"),ort($N4,$O4,$AY$8:$AZ$8),\"\")","v":""},{"$f":"IF(AND($AA4=7,N4<>\"\",O4<>\"\"),ort($N4,$O4,$AY$9:$AZ$9),\"\")","v":""},{"$f":"IF(AND($AA4<6,P4<>\"\",Q4<>\"\"),ort($P4,$Q4,$AY$3:$AZ$3),\"\")","v":""},{"$f":"IF(AND($AA4<6,P4<>\"\",Q4<>\"\"),ort($P4,$Q4,$AY$4:$AZ$5),\"\")","v":""},{"$f":"IF(AND($AA4<6,P4<>\"\",Q4<>\"\"),ort($P4,$Q4,$AY$6:$AZ$7),\"\")","v":""},{"$f":"IF(AND($AA4=6,P4<>\"\",Q4<>\"\"),ort($P4,$Q4,$AY$8:$AZ$8),\"\")","v":""},{"$f":"IF(AND($AA4=7,P4<>\"\",Q4<>\"\"),ort($P4,$Q4,$AY$9:$AZ$9),\"\")","v":""},{"$f":"IF(AND($AA4<6,R4<>\"\",S4<>\"\"),ort($R4,$S4,$AY$3:$AZ$3),\"\")","v":""},{"$f":"IF(AND($AA4<6,R4<>\"\",S4<>\"\"),ort($R4,$S4,$AY$4:$AZ$5),\"\")","v":""},{"$f":"IF(AND($AA4<6,R4<>\"\",S4<>\"\"),ort($R4,$S4,$AY$6:$AZ$7),\"\")","v":""},{"$f":"IF(AND($AA4=6,R4<>\"\",S4<>\"\"),ort($R4,$S4,$AY$8:$AZ$8),\"\")","v":""},{"$f":"IF(AND($AA4=7,R4<>\"\",S4<>\"\"),ort($R4,$S4,$AY$9:$AZ$9),\"\")","v":""},{"$f":"IF(AND($AA4<6,T4<>\"\",U4<>\"\"),ort($T4,$U4,$AY$3:$AZ$3),\"\")","v":""},{"$f":"IF(AND($AA4<6,T4<>\"\",U4<>\"\"),ort($T4,$U4,$AY$4:$AZ$5),\"\")","v":""},{"$f":"IF(AND($AA4<6,T4<>\"\",U4<>\"\"),ort($T4,$U4,$AY$6:$AZ$7),\"\")","v":""},{"$f":"IF(AND($AA4=6,T4<>\"\",U4<>\"\"),ort($T4,$U4,$AY$8:$AZ$8),\"\")","v":""},{"$f":"IF(AND($AA4=7,T4<>\"\",U4<>\"\"),ort($T4,$U4,$AY$9:$AZ$9),\"\")","v":""},null,1.25,"m-vr",0.25,0.3125,null,null,null,null,{"$f":"SUM(BB4/20/24,BC4:BD4)","v":"00:00:00"}]
[null,null,"Ma","Di","Wo","Do","Vr","Za","Zo","","",{"$f":"DATE($B$3,$B$4,3)","v":"2018-11-03"},{"$f":"DATE($B$3,$B$4,3)","v":"2018-11-03"},null,"00:00:00",null,null,null,null,null,null,"",{"$f":"IF(AND(AB5=\"\",AG5=\"\",AL5=\"\",AQ5=\"\"),\"\",SUM(AB5,AG5,AL5,AQ5))","v":""},"",{"$f":"IF(AND(AD5=\"\",AE5=\"\",AI5=\"\",AJ5=\"\",AN5=\"\",AO5=\"\",AS5=\"\",AT5=\"\"),\"\",SUM(AD5,AE5,AI5,AJ5,AN5,AO5,AS5,AT5))","v":""},{"$f":"IF(AND(AF5=\"\",AK5=\"\",AP5=\"\",AU5=\"\"),\"\",SUM(AF5,AK5,AP5,AU5))","v":""},{"$f":"IF(ISERROR(IF(NOT(ISERROR(MATCH($M5,Blad2!$A$2:$A$11,0))),7,WEEKDAY($M5,2))),\"\",IF(NOT(ISERROR(MATCH($M5,Blad2!$A$2:$A$11,0))),7,WEEKDAY($M5,2)))","v":6},{"$f":"IF(AND($AA5<6,N5<>\"\",O5<>\"\"),ort($N5,$O5,$AY$3:$AZ$3),\"\")","v":""},{"$f":"IF(AND($AA5<6,N5<>\"\",O5<>\"\"),ort($N5,$O5,$AY$4:$AZ$5),\"\")","v":""},{"$f":"IF(AND($AA5<6,N5<>\"\",O5<>\"\"),ort($N5,$O5,$AY$6:$AZ$7),\"\")","v":""},{"$f":"IF(AND($AA5=6,N5<>\"\",O5<>\"\"),ort($N5,$O5,$AY$8:$AZ$8),\"\")","v":""},{"$f":"IF(AND($AA5=7,N5<>\"\",O5<>\"\"),ort($N5,$O5,$AY$9:$AZ$9),\"\")","v":""},{"$f":"IF(AND($AA5<6,P5<>\"\",Q5<>\"\"),ort($P5,$Q5,$AY$3:$AZ$3),\"\")","v":""},{"$f":"IF(AND($AA5<6,P5<>\"\",Q5<>\"\"),ort($P5,$Q5,$AY$4:$AZ$5),\"\")","v":""},{"$f":"IF(AND($AA5<6,P5<>\"\",Q5<>\"\"),ort($P5,$Q5,$AY$6:$AZ$7),\"\")","v":""},{"$f":"IF(AND($AA5=6,P5<>\"\",Q5<>\"\"),ort($P5,$Q5,$AY$8:$AZ$8),\"\")","v":""},{"$f":"IF(AND($AA5=7,P5<>\"\",Q5<>\"\"),ort($P5,$Q5,$AY$9:$AZ$9),\"\")","v":""},{"$f":"IF(AND($AA5<6,R5<>\"\",S5<>\"\"),ort($R5,$S5,$AY$3:$AZ$3),\"\")","v":""},{"$f":"IF(AND($AA5<6,R5<>\"\",S5<>\"\"),ort($R5,$S5,$AY$4:$AZ$5),\"\")","v":""},{"$f":"IF(AND($AA5<6,R5<>\"\",S5<>\"\"),ort($R5,$S5,$AY$6:$AZ$7),\"\")","v":""},{"$f":"IF(AND($AA5=6,R5<>\"\",S5<>\"\"),ort($R5,$S5,$AY$8:$AZ$8),\"\")","v":""},{"$f":"IF(AND($AA5=7,R5<>\"\",S5<>\"\"),ort($R5,$S5,$AY$9:$AZ$9),\"\")","v":""},{"$f":"IF(AND($AA5<6,T5<>\"\",U5<>\"\"),ort($T5,$U5,$AY$3:$AZ$3),\"\")","v":""},{"$f":"IF(AND($AA5<6,T5<>\"\",U5<>\"\"),ort($T5,$U5,$AY$4:$AZ$5),\"\")","v":""},{"$f":"IF(AND($AA5<6,T5<>\"\",U5<>\"\"),ort($T5,$U5,$AY$6:$AZ$7),\"\")","v":""},{"$f":"IF(AND($AA5=6,T5<>\"\",U5<>\"\"),ort($T5,$U5,$AY$8:$AZ$8),\"\")","v":""},{"$f":"IF(AND($AA5=7,T5<>\"\",U5<>\"\"),ort($T5,$U5,$AY$9:$AZ$9),\"\")","v":""},null,1.25,"m-vr",0.72916666666666663,0.77083333333333337,null,null,null,null,"00:00:00"]
[null,null,{"$f":"IF(WEEKDAY(C4,2)=1,C4,\"\")","v":""},{"$f":"IF(WEEKDAY(C4,2)=2,C4,IF(C6<>\"\",C6+1,\"\"))","v":""},{"$f":"IF(WEEKDAY(C4,2)=3,C4,IF(D6<>\"\",D6+1,\"\"))","v":""},{"$f":"IF(WEEKDAY(C4,2)=4,C4,IF(E6<>\"\",E6+1,\"\"))","v":"2018-11-01"},{"$f":"IF(WEEKDAY(C4,2)=5,C4,IF(F6<>\"\",F6+1,\"\"))","v":"2018-11-02"},{"$f":"IF(WEEKDAY(C4,2)=6,C4,IF(G6<>\"\",G6+1,\"\"))","v":"2018-11-03"},{"$f":"IF(WEEKDAY(C4,2)=7,C4,IF(H6<>\"\",H6+1,\"\"))","v":"2018-11-04"},"","",{"$f":"DATE($B$3,$B$4,4)","v":"2018-11-04"},{"$f":"DATE($B$3,$B$4,4)","v":"2018-11-04"},null,"00:00:00",null,null,null,null,null,null,"","","","","",{"$f":"IF(ISERROR(IF(NOT(ISERROR(MATCH($M6,Blad2!$A$2:$A$11,0))),7,WEEKDAY($M6,2))),\"\",IF(NOT(ISERROR(MATCH($M6,Blad2!$A$2:$A$11,0))),7,WEEKDAY($M6,2)))","v":7},{"$f":"IF(AND($AA6<6,N6<>\"\",O6<>\"\"),ort($N6,$O6,$AY$3:$AZ$3),\"\")","v":""},{"$f":"IF(AND($AA6<6,N6<>\"\",O6<>\"\"),ort($N6,$O6,$AY$4:$AZ$5),\"\")","v":""},{"$f":"IF(AND($AA6<6,N6<>\"\",O6<>\"\"),ort($N6,$O6,$AY$6:$AZ$7),\"\")","v":""},{"$f":"IF(AND($AA6=6,N6<>\"\",O6<>\"\"),ort($N6,$O6,$AY$8:$AZ$8),\"\")","v":""},{"$f":"IF(AND($AA6=7,N6<>\"\",O6<>\"\"),ort($N6,$O6,$AY$9:$AZ$9),\"\")","v":""},{"$f":"IF(AND($AA6<6,P6<>\"\",Q6<>\"\"),ort($P6,$Q6,$AY$3:$AZ$3),\"\")","v":""},{"$f":"IF(AND($AA6<6,P6<>\"\",Q6<>\"\"),ort($P6,$Q6,$AY$4:$AZ$5),\"\")","v":""},{"$f":"IF(AND($AA6<6,P6<>\"\",Q6<>\"\"),ort($P6,$Q6,$AY$6:$AZ$7),\"\")","v":""},{"$f":"IF(AND($AA6=6,P6<>\"\",Q6<>\"\"),ort($P6,$Q6,$AY$8:$AZ$8),\"\")","v":""},{"$f":"IF(AND($AA6=7,P6<>\"\",Q6<>\"\"),ort($P6,$Q6,$AY$9:$AZ$9),\"\")","v":""},{"$f":"IF(AND($AA6<6,R6<>\"\",S6<>\"\"),ort($R6,$S6,$AY$3:$AZ$3),\"\")","v":""},{"$f":"IF(AND($AA6<6,R6<>\"\",S6<>\"\"),ort($R6,$S6,$AY$4:$AZ$5),\"\")","v":""},{"$f":"IF(AND($AA6<6,R6<>\"\",S6<>\"\"),ort($R6,$S6,$AY$6:$AZ$7),\"\")","v":""},{"$f":"IF(AND($AA6=6,R6<>\"\",S6<>\"\"),ort($R6,$S6,$AY$8:$AZ$8),\"\")","v":""},{"$f":"IF(AND($AA6=7,R6<>\"\",S6<>\"\"),ort($R6,$S6,$AY$9:$AZ$9),\"\")","v":""},{"$f":"IF(AND($AA6<6,T6<>\"\",U6<>\"\"),ort($T6,$U6,$AY$3:$AZ$3),\"\")","v":""},{"$f":"IF(AND($AA6<6,T6<>\"\",U6<>\"\"),ort($T6,$U6,$AY$4:$AZ$5),\"\")","v":""},{"$f":"IF(AND($AA6<6,T6<>\"\",U6<>\"\"),ort($T6,$U6,$AY$6:$AZ$7),\"\")","v":""},{"$f":"IF(AND($AA6=6,T6<>\"\",U6<>\"\"),ort($T6,$U6,$AY$8:$AZ$8),\"\")","v":""},{"$f":"IF(AND($AA6=7,T6<>\"\",U6<>\"\"),ort($T6,$U6,$AY$9:$AZ$9),\"\")","v":""},null,1.5,"m-vr",0,0.25,null,null,null,null,"00:00:00"]
[null,null,{"$f":"I6+1","v":"2018-11-05"},{"$f":"C7+1","v":"2018-11-06"},{"$f":"D7+1","v":"2018-11-07"},"2018-11-08","2018-11-09","2018-11-10","2018-11-11","",45,{"$f":"DATE($B$3,$B$4,5)","v":"2018-11-05"},{"$f":"DATE($B$3,$B$4,5)","v":"2018-11-05"},null,"00:00:00",null,null,null,null,null,null,"","","","","",{"$f":"IF(ISERROR(IF(NOT(ISERROR(MATCH($M7,Blad2!$A$2:$A$11,0))),7,WEEKDAY($M7,2))),\"\",IF(NOT(ISERROR(MATCH($M7,Blad2!$A$2:$A$11,0))),7,WEEKDAY($M7,2)))","v":1},{"$f":"IF(AND($AA7<6,N7<>\"\",O7<>\"\"),ort($N7,$O7,$AY$3:$AZ$3),\"\")","v":""},{"$f":"IF(AND($AA7<6,N7<>\"\",O7<>\"\"),ort($N7,$O7,$AY$4:$AZ$5),\"\")","v":""},{"$f":"IF(AND($AA7<6,N7<>\"\",O7<>\"\"),ort($N7,$O7,$AY$6:$AZ$7),\"\")","v":""},{"$f":"IF(AND($AA7=6,N7<>\"\",O7<>\"\"),ort($N7,$O7,$AY$8:$AZ$8),\"\")","v":""},{"$f":"IF(AND($AA7=7,N7<>\"\",O7<>\"\"),ort($N7,$O7,$AY$9:$AZ$9),\"\")","v":""},{"$f":"IF(AND($AA7<6,P7<>\"\",Q7<>\"\"),ort($P7,$Q7,$AY$3:$AZ$3),\"\")","v":""},{"$f":"IF(AND($AA7<6,P7<>\"\",Q7<>\"\"),ort($P7,$Q7,$AY$4:$AZ$5),\"\")","v":""},{"$f":"IF(AND($AA7<6,P7<>\"\",Q7<>\"\"),ort($P7,$Q7,$AY$6:$AZ$7),\"\")","v":""},{"$f":"IF(AND($AA7=6,P7<>\"\",Q7<>\"\"),ort($P7,$Q7,$AY$8:$AZ$8),\"\")","v":""},{"$f":"IF(AND($AA7=7,P7<>\"\",Q7<>\"\"),ort($P7,$Q7,$AY$9:$AZ$9),\"\")","v":""},{"$f":"IF(AND($AA7<6,R7<>\"\",S7<>\"\"),ort($R7,$S7,$AY$3:$AZ$3),\"\")","v":""},{"$f":"IF(AND($AA7<6,R7<>\"\",S7<>\"\"),ort($R7,$S7,$AY$4:$AZ$5),\"\")","v":""},{"$f":"IF(AND($AA7<6,R7<>\"\",S7<>\"\"),ort($R7,$S7,$AY$6:$AZ$7),\"\")","v":""},{"$f":"IF(AND($AA7=6,R7<>\"\",S7<>\"\"),ort($R7,$S7,$AY$8:$AZ$8),\"\")","v":""},{"$f":"IF(AND($AA7=7,R7<>\"\",S7<>\"\"),ort($R7,$S7,$AY$9:$AZ$9),\"\")","v":""},{"$f":"IF(AND($AA7<6,T7<>\"\",U7<>\"\"),ort($T7,$U7,$AY$3:$AZ$3),\"\")","v":""},{"$f":"IF(AND($AA7<6,T7<>\"\",U7<>\"\"),ort($T7,$U7,$AY$4:$AZ$5),\"\")","v":""},{"$f":"IF(AND($AA7<6,T7<>\"\",U7<>\"\"),ort($T7,$U7,$AY$6:$AZ$7),\"\")","v":""},{"$f":"IF(AND($AA7=6,T7<>\"\",U7<>\"\"),ort($T7,$U7,$AY$8:$AZ$8),\"\")","v":""},{"$f":"IF(AND($AA7=7,T7<>\"\",U7<>\"\"),ort($T7,$U7,$AY$9:$AZ$9),\"\")","v":""},null,1.5,"m-vr",0.77083333333333337,1,null,null,null,null,{"$f":"SUM(BB7/18/24,BC7:BD7)","v":"00:00:00"}]
[null,null,{"$f":"I7+1","v":"2018-11-12"},{"$f":"C8+1","v":"2018-11-13"},"2018-11-14","2018-11-15","2018-11-16","2018-11-17","2018-11-18","","",{"$f":"DATE($B$3,$B$4,6)","v":"2018-11-06"},{"$f":"DATE($B$3,$B$4,6)","v":"2018-11-06"},null,"00:00:00",null,null,null,null,null,null,"","","","","",{"$f":"IF(ISERROR(IF(NOT(ISERROR(MATCH($M8,Blad2!$A$2:$A$11,0))),7,WEEKDAY($M8,2))),\"\",IF(NOT(ISERROR(MATCH($M8,Blad2!$A$2:$A$11,0))),7,WEEKDAY($M8,2)))","v":2},{"$f":"IF(AND($AA8<6,N8<>\"\",O8<>\"\"),ort($N8,$O8,$AY$3:$AZ$3),\"\")","v":""},{"$f":"IF(AND($AA8<6,N8<>\"\",O8<>\"\"),ort($N8,$O8,$AY$4:$AZ$5),\"\")","v":""},{"$f":"IF(AND($AA8<6,N8<>\"\",O8<>\"\"),ort($N8,$O8,$AY$6:$AZ$7),\"\")","v":""},{"$f":"IF(AND($AA8=6,N8<>\"\",O8<>\"\"),ort($N8,$O8,$AY$8:$AZ$8),\"\")","v":""},{"$f":"IF(AND($AA8=7,N8<>\"\",O8<>\"\"),ort($N8,$O8,$AY$9:$AZ$9),\"\")","v":""},{"$f":"IF(AND($AA8<6,P8<>\"\",Q8<>\"\"),ort($P8,$Q8,$AY$3:$AZ$3),\"\")","v":""},{"$f":"IF(AND($AA8<6,P8<>\"\",Q8<>\"\"),ort($P8,$Q8,$AY$4:$AZ$5),\"\")","v":""},{"$f":"IF(AND($AA8<6,P8<>\"\",Q8<>\"\"),ort($P8,$Q8,$AY$6:$AZ$7),\"\")","v":""},{"$f":"IF(AND($AA8=6,P8<>\"\",Q8<>\"\"),ort($P8,$Q8,$AY$8:$AZ$8),\"\")","v":""},{"$f":"IF(AND($AA8=7,P8<>\"\",Q8<>\"\"),ort($P8,$Q8,$AY$9:$AZ$9),\"\")","v":""},{"$f":"IF(AND($AA8<6,R8<>\"\",S8<>\"\"),ort($R8,$S8,$AY$3:$AZ$3),\"\")","v":""},{"$f":"IF(AND($AA8<6,R8<>\"\",S8<>\"\"),ort($R8,$S8,$AY$4:$AZ$5),\"\")","v":""},{"$f":"IF(AND($AA8<6,R8<>\"\",S8<>\"\"),ort($R8,$S8,$AY$6:$AZ$7),\"\")","v":""},{"$f":"IF(AND($AA8=6,R8<>\"\",S8<>\"\"),ort($R8,$S8,$AY$8:$AZ$8),\"\")","v":""},{"$f":"IF(AND($AA8=7,R8<>\"\",S8<>\"\"),ort($R8,$S8,$AY$9:$AZ$9),\"\")","v":""},{"$f":"IF(AND($AA8<6,T8<>\"\",U8<>\"\"),ort($T8,$U8,$AY$3:$AZ$3),\"\")","v":""},{"$f":"IF(AND($AA8<6,T8<>\"\",U8<>\"\"),ort($T8,$U8,$AY$4:$AZ$5),\"\")","v":""},{"$f":"IF(AND($AA8<6,T8<>\"\",U8<>\"\"),ort($T8,$U8,$AY$6:$AZ$7),\"\")","v":""},{"$f":"IF(AND($AA8=6,T8<>\"\",U8<>\"\"),ort($T8,$U8,$AY$8:$AZ$8),\"\")","v":""},{"$f":"IF(AND($AA8=7,T8<>\"\",U8<>\"\"),ort($T8,$U8,$AY$9:$AZ$9),\"\")","v":""},null,1.5,"za",0,1,null,null,null,null,{"$f":"SUM(BB8/19/24,BC8:BD8)","v":"00:00:00"}]
[null,null,{"$f":"I8+1","v":"2018-11-19"},{"$f":"C9+1","v":"2018-11-20"},"2018-11-21","2018-11-22","2018-11-23","2018-11-24","2018-11-25","","",{"$f":"DATE($B$3,$B$4,7)","v":"2018-11-07"},{"$f":"DATE($B$3,$B$4,7)","v":"2018-11-07"},null,"00:00:00",null,null,null,null,null,null,"","","","","",{"$f":"IF(ISERROR(IF(NOT(ISERROR(MATCH($M9,Blad2!$A$2:$A$11,0))),7,WEEKDAY($M9,2))),\"\",IF(NOT(ISERROR(MATCH($M9,Blad2!$A$2:$A$11,0))),7,WEEKDAY($M9,2)))","v":3},{"$f":"IF(AND($AA9<6,N9<>\"\",O9<>\"\"),ort($N9,$O9,$AY$3:$AZ$3),\"\")","v":""},{"$f":"IF(AND($AA9<6,N9<>\"\",O9<>\"\"),ort($N9,$O9,$AY$4:$AZ$5),\"\")","v":""},{"$f":"IF(AND($AA9<6,N9<>\"\",O9<>\"\"),ort($N9,$O9,$AY$6:$AZ$7),\"\")","v":""},{"$f":"IF(AND($AA9=6,N9<>\"\",O9<>\"\"),ort($N9,$O9,$AY$8:$AZ$8),\"\")","v":""},{"$f":"IF(AND($AA9=7,N9<>\"\",O9<>\"\"),ort($N9,$O9,$AY$9:$AZ$9),\"\")","v":""},{"$f":"IF(AND($AA9<6,P9<>\"\",Q9<>\"\"),ort($P9,$Q9,$AY$3:$AZ$3),\"\")","v":""},{"$f":"IF(AND($AA9<6,P9<>\"\",Q9<>\"\"),ort($P9,$Q9,$AY$4:$AZ$5),\"\")","v":""},{"$f":"IF(AND($AA9<6,P9<>\"\",Q9<>\"\"),ort($P9,$Q9,$AY$6:$AZ$7),\"\")","v":""},{"$f":"IF(AND($AA9=6,P9<>\"\",Q9<>\"\"),ort($P9,$Q9,$AY$8:$AZ$8),\"\")","v":""},{"$f":"IF(AND($AA9=7,P9<>\"\",Q9<>\"\"),ort($P9,$Q9,$AY$9:$AZ$9),\"\")","v":""},{"$f":"IF(AND($AA9<6,R9<>\"\",S9<>\"\"),ort($R9,$S9,$AY$3:$AZ$3),\"\")","v":""},{"$f":"IF(AND($AA9<6,R9<>\"\",S9<>\"\"),ort($R9,$S9,$AY$4:$AZ$5),\"\")","v":""},{"$f":"IF(AND($AA9<6,R9<>\"\",S9<>\"\"),ort($R9,$S9,$AY$6:$AZ$7),\"\")","v":""},{"$f":"IF(AND($AA9=6,R9<>\"\",S9<>\"\"),ort($R9,$S9,$AY$8:$AZ$8),\"\")","v":""},{"$f":"IF(AND($AA9=7,R9<>\"\",S9<>\"\"),ort($R9,$S9,$AY$9:$AZ$9),\"\")","v":""},{"$f":"IF(AND($AA9<6,T9<>\"\",U9<>\"\"),ort($T9,$U9,$AY$3:$AZ$3),\"\")","v":""},{"$f":"IF(AND($AA9<6,T9<>\"\",U9<>\"\"),ort($T9,$U9,$AY$4:$AZ$5),\"\")","v":""},{"$f":"IF(AND($AA9<6,T9<>\"\",U9<>\"\"),ort($T9,$U9,$AY$6:$AZ$7),\"\")","v":""},{"$f":"IF(AND($AA9=6,T9<>\"\",U9<>\"\"),ort($T9,$U9,$AY$8:$AZ$8),\"\")","v":""},{"$f":"IF(AND($AA9=7,T9<>\"\",U9<>\"\"),ort($T9,$U9,$AY$9:$AZ$9),\"\")","v":""},null,2,"zo/feest",0,1,null,null,null,null,{"$f":"SUM(BB9/19/24,BC9:BD9)","v":"00:00:00"}]
[null,null,{"$f":"IF(I9=\"\",\"\",IF(MONTH(I9+1)=MONTH(I9),I9+1,\"\"))","v":"2018-11-26"},{"$f":"IF(C10=\"\",\"\",IF(MONTH(C10+1)=MONTH(C10),C10+1,\"\"))","v":"2018-11-27"},{"$f":"IF(D10=\"\",\"\",IF(MONTH(D10+1)=MONTH(D10),D10+1,\"\"))","v":"2018-11-28"},"2018-11-29","2018-11-30","","","","",{"$f":"DATE($B$3,$B$4,8)","v":"2018-11-08"},{"$f":"DATE($B$3,$B$4,8)","v":"2018-11-08"},null,"00:00:00",null,null,null,null,null,null,"","","","","",{"$f":"IF(ISERROR(IF(NOT(ISERROR(MATCH($M10,Blad2!$A$2:$A$11,0))),7,WEEKDAY($M10,2))),\"\",IF(NOT(ISERROR(MATCH($M10,Blad2!$A$2:$A$11,0))),7,WEEKDAY($M10,2)))","v":4},{"$f":"IF(AND($AA10<6,N10<>\"\",O10<>\"\"),ort($N10,$O10,$AY$3:$AZ$3),\"\")","v":""},{"$f":"IF(AND($AA10<6,N10<>\"\",O10<>\"\"),ort($N10,$O10,$AY$4:$AZ$5),\"\")","v":""},{"$f":"IF(AND($AA10<6,N10<>\"\",O10<>\"\"),ort($N10,$O10,$AY$6:$AZ$7),\"\")","v":""},{"$f":"IF(AND($AA10=6,N10<>\"\",O10<>\"\"),ort($N10,$O10,$AY$8:$AZ$8),\"\")","v":""},{"$f":"IF(AND($AA10=7,N10<>\"\",O10<>\"\"),ort($N10,$O10,$AY$9:$AZ$9),\"\")","v":""},{"$f":"IF(AND($AA10<6,P10<>\"\",Q10<>\"\"),ort($P10,$Q10,$AY$3:$AZ$3),\"\")","v":""},{"$f":"IF(AND($AA10<6,P10<>\"\",Q10<>\"\"),ort($P10,$Q10,$AY$4:$AZ$5),\"\")","v":""},{"$f":"IF(AND($AA10<6,P10<>\"\",Q10<>\"\"),ort($P10,$Q10,$AY$6:$AZ$7),\"\")","v":""},{"$f":"IF(AND($AA10=6,P10<>\"\",Q10<>\"\"),ort($P10,$Q10,$AY$8:$AZ$8),\"\")","v":""},{"$f":"IF(AND($AA10=7,P10<>\"\",Q10<>\"\"),ort($P10,$Q10,$AY$9:$AZ$9),\"\")","v":""},{"$f":"IF(AND($AA10<6,R10<>\"\",S10<>\"\"),ort($R10,$S10,$AY$3:$AZ$3),\"\")","v":""},{"$f":"IF(AND($AA10<6,R10<>\"\",S10<>\"\"),ort($R10,$S10,$AY$4:$AZ$5),\"\")","v":""},{"$f":"IF(AND($AA10<6,R10<>\"\",S10<>\"\"),ort($R10,$S10,$AY$6:$AZ$7),\"\")","v":""},{"$f":"IF(AND($AA10=6,R10<>\"\",S10<>\"\"),ort($R10,$S10,$AY$8:$AZ$8),\"\")","v":""},{"$f":"IF(AND($AA10=7,R10<>\"\",S10<>\"\"),ort($R10,$S10,$AY$9:$AZ$9),\"\")","v":""},{"$f":"IF(AND($AA10<6,T10<>\"\",U10<>\"\"),ort($T10,$U10,$AY$3:$AZ$3),\"\")","v":""},{"$f":"IF(AND($AA10<6,T10<>\"\",U10<>\"\"),ort($T10,$U10,$AY$4:$AZ$5),\"\")","v":""},{"$f":"IF(AND($AA10<6,T10<>\"\",U10<>\"\"),ort($T10,$U10,$AY$6:$AZ$7),\"\")","v":""},{"$f":"IF(AND($AA10=6,T10<>\"\",U10<>\"\"),ort($T10,$U10,$AY$8:$AZ$8),\"\")","v":""},{"$f":"IF(AND($AA10=7,T10<>\"\",U10<>\"\"),ort($T10,$U10,$AY$9:$AZ$9),\"\")","v":""},null,null,null,null,null,null,null,null,null,{"$f":"SUM(BB10/18/24,BC10:BD10)","v":"00:00:00"}]
[null,null,{"$f":"IF(I10=\"\",\"\",IF(MONTH(I10+1)=MONTH(I10),I10+1,\"\"))","v":""},{"$f":"IF(C11=\"\",\"\",IF(MONTH(C11+1)=MONTH(C11),C11+1,\"\"))","v":""},"","","","","","","",{"$f":"DATE($B$3,$B$4,9)","v":"2018-11-09"},{"$f":"DATE($B$3,$B$4,9)","v":"2018-11-09"},null,"00:00:00",null,null,null,null,null,null,"","","","","",{"$f":"IF(ISERROR(IF(NOT(ISERROR(MATCH($M11,Blad2!$A$2:$A$11,0))),7,WEEKDAY($M11,2))),\"\",IF(NOT(ISERROR(MATCH($M11,Blad2!$A$2:$A$11,0))),7,WEEKDAY($M11,2)))","v":5},{"$f":"IF(AND($AA11<6,N11<>\"\",O11<>\"\"),ort($N11,$O11,$AY$3:$AZ$3),\"\")","v":""},{"$f":"IF(AND($AA11<6,N11<>\"\",O11<>\"\"),ort($N11,$O11,$AY$4:$AZ$5),\"\")","v":""},{"$f":"IF(AND($AA11<6,N11<>\"\",O11<>\"\"),ort($N11,$O11,$AY$6:$AZ$7),\"\")","v":""},{"$f":"IF(AND($AA11=6,N11<>\"\",O11<>\"\"),ort($N11,$O11,$AY$8:$AZ$8),\"\")","v":""},{"$f":"IF(AND($AA11=7,N11<>\"\",O11<>\"\"),ort($N11,$O11,$AY$9:$AZ$9),\"\")","v":""},{"$f":"IF(AND($AA11<6,P11<>\"\",Q11<>\"\"),ort($P11,$Q11,$AY$3:$AZ$3),\"\")","v":""},{"$f":"IF(AND($AA11<6,P11<>\"\",Q11<>\"\"),ort($P11,$Q11,$AY$4:$AZ$5),\"\")","v":""},{"$f":"IF(AND($AA11<6,P11<>\"\",Q11<>\"\"),ort($P11,$Q11,$AY$6:$AZ$7),\"\")","v":""},{"$f":"IF(AND($AA11=6,P11<>\"\",Q11<>\"\"),ort($P11,$Q11,$AY$8:$AZ$8),\"\")","v":""},{"$f":"IF(AND($AA11=7,P11<>\"\",Q11<>\"\"),ort($P11,$Q11,$AY$9:$AZ$9),\"\")","v":""},{"$f":"IF(AND($AA11<6,R11<>\"\",S11<>\"\"),ort($R11,$S11,$AY$3:$AZ$3),\"\")","v":""},{"$f":"IF(AND($AA11<6,R11<>\"\",S11<>\"\"),ort($R11,$S11,$AY$4:$AZ$5),\"\")","v":""},{"$f":"IF(AND($AA11<6,R11<>\"\",S11<>\"\"),ort($R11,$S11,$AY$6:$AZ$7),\"\")","v":""},{"$f":"IF(AND($AA11=6,R11<>\"\",S11<>\"\"),ort($R11,$S11,$AY$8:$AZ$8),\"\")","v":""},{"$f":"IF(AND($AA11=7,R11<>\"\",S11<>\"\"),ort($R11,$S11,$AY$9:$AZ$9),\"\")","v":""},{"$f":"IF(AND($AA11<6,T11<>\"\",U11<>\"\"),ort($T11,$U11,$AY$3:$AZ$3),\"\")","v":""},{"$f":"IF(AND($AA11<6,T11<>\"\",U11<>\"\"),ort($T11,$U11,$AY$4:$AZ$5),\"\")","v":""},{"$f":"IF(AND($AA11<6,T11<>\"\",U11<>\"\"),ort($T11,$U11,$AY$6:$AZ$7),\"\")","v":""},{"$f":"IF(AND($AA11=6,T11<>\"\",U11<>\"\"),ort($T11,$U11,$AY$8:$AZ$8),\"\")","v":""},{"$f":"IF(AND($AA11=7,T11<>\"\",U11<>\"\"),ort($T11,$U11,$AY$9:$AZ$9),\"\")","v":""},null,null,null,null,null,null,null,null,null,"00:00:00"]
[null,null,null,null,null,null,null,null,null,"","",{"$f":"DATE($B$3,$B$4,10)","v":"2018-11-10"},{"$f":"DATE($B$3,$B$4,10)","v":"2018-11-10"},null,"00:00:00",null,null,null,null,null,null,"","","","","",{"$f":"IF(ISERROR(IF(NOT(ISERROR(MATCH($M12,Blad2!$A$2:$A$11,0))),7,WEEKDAY($M12,2))),\"\",IF(NOT(ISERROR(MATCH($M12,Blad2!$A$2:$A$11,0))),7,WEEKDAY($M12,2)))","v":6},{"$f":"IF(AND($AA12<6,N12<>\"\",O12<>\"\"),ort($N12,$O12,$AY$3:$AZ$3),\"\")","v":""},{"$f":"IF(AND($AA12<6,N12<>\"\",O12<>\"\"),ort($N12,$O12,$AY$4:$AZ$5),\"\")","v":""},{"$f":"IF(AND($AA12<6,N12<>\"\",O12<>\"\"),ort($N12,$O12,$AY$6:$AZ$7),\"\")","v":""},{"$f":"IF(AND($AA12=6,N12<>\"\",O12<>\"\"),ort($N12,$O12,$AY$8:$AZ$8),\"\")","v":""},{"$f":"IF(AND($AA12=7,N12<>\"\",O12<>\"\"),ort($N12,$O12,$AY$9:$AZ$9),\"\")","v":""},{"$f":"IF(AND($AA12<6,P12<>\"\",Q12<>\"\"),ort($P12,$Q12,$AY$3:$AZ$3),\"\")","v":""},{"$f":"IF(AND($AA12<6,P12<>\"\",Q12<>\"\"),ort($P12,$Q12,$AY$4:$AZ$5),\"\")","v":""},{"$f":"IF(AND($AA12<6,P12<>\"\",Q12<>\"\"),ort($P12,$Q12,$AY$6:$AZ$7),\"\")","v":""},{"$f":"IF(AND($AA12=6,P12<>\"\",Q12<>\"\"),ort($P12,$Q12,$AY$8:$AZ$8),\"\")","v":""},{"$f":"IF(AND($AA12=7,P12<>\"\",Q12<>\"\"),ort($P12,$Q12,$AY$9:$AZ$9),\"\")","v":""},{"$f":"IF(AND($AA12<6,R12<>\"\",S12<>\"\"),ort($R12,$S12,$AY$3:$AZ$3),\"\")","v":""},{"$f":"IF(AND($AA12<6,R12<>\"\",S12<>\"\"),ort($R12,$S12,$AY$4:$AZ$5),\"\")","v":""},{"$f":"IF(AND($AA12<6,R12<>\"\",S12<>\"\"),ort($R12,$S12,$AY$6:$AZ$7),\"\")","v":""},{"$f":"IF(AND($AA12=6,R12<>\"\",S12<>\"\"),ort($R12,$S12,$AY$8:$AZ$8),\"\")","v":""},{"$f":"IF(AND($AA12=7,R12<>\"\",S12<>\"\"),ort($R12,$S12,$AY$9:$AZ$9),\"\")","v":""},{"$f":"IF(AND($AA12<6,T12<>\"\",U12<>\"\"),ort($T12,$U12,$AY$3:$AZ$3),\"\")","v":""},{"$f":"IF(AND($AA12<6,T12<>\"\",U12<>\"\"),ort($T12,$U12,$AY$4:$AZ$5),\"\")","v":""},{"$f":"IF(AND($AA12<6,T12<>\"\",U12<>\"\"),ort($T12,$U12,$AY$6:$AZ$7),\"\")","v":""},{"$f":"IF(AND($AA12=6,T12<>\"\",U12<>\"\"),ort($T12,$U12,$AY$8:$AZ$8),\"\")","v":""},{"$f":"IF(AND($AA12=7,T12<>\"\",U12<>\"\"),ort($T12,$U12,$AY$9:$AZ$9),\"\")","v":""},null,null,null,null,null,null,null,null,null,"00:00:00"]
[null,"Werkdagen deze maand",null,null,null,null,null,null,null,"","",{"$f":"DATE($B$3,$B$4,11)","v":"2018-11-11"},{"$f":"DATE($B$3,$B$4,11)","v":"2018-11-11"},null,"00:00:00",null,null,null,null,null,null,"","","","","",{"$f":"IF(ISERROR(IF(NOT(ISERROR(MATCH($M13,Blad2!$A$2:$A$11,0))),7,WEEKDAY($M13,2))),\"\",IF(NOT(ISERROR(MATCH($M13,Blad2!$A$2:$A$11,0))),7,WEEKDAY($M13,2)))","v":7},{"$f":"IF(AND($AA13<6,N13<>\"\",O13<>\"\"),ort($N13,$O13,$AY$3:$AZ$3),\"\")","v":""},{"$f":"IF(AND($AA13<6,N13<>\"\",O13<>\"\"),ort($N13,$O13,$AY$4:$AZ$5),\"\")","v":""},{"$f":"IF(AND($AA13<6,N13<>\"\",O13<>\"\"),ort($N13,$O13,$AY$6:$AZ$7),\"\")","v":""},{"$f":"IF(AND($AA13=6,N13<>\"\",O13<>\"\"),ort($N13,$O13,$AY$8:$AZ$8),\"\")","v":""},{"$f":"IF(AND($AA13=7,N13<>\"\",O13<>\"\"),ort($N13,$O13,$AY$9:$AZ$9),\"\")","v":""},{"$f":"IF(AND($AA13<6,P13<>\"\",Q13<>\"\"),ort($P13,$Q13,$AY$3:$AZ$3),\"\")","v":""},{"$f":"IF(AND($AA13<6,P13<>\"\",Q13<>\"\"),ort($P13,$Q13,$AY$4:$AZ$5),\"\")","v":""},{"$f":"IF(AND($AA13<6,P13<>\"\",Q13<>\"\"),ort($P13,$Q13,$AY$6:$AZ$7),\"\")","v":""},{"$f":"IF(AND($AA13=6,P13<>\"\",Q13<>\"\"),ort($P13,$Q13,$AY$8:$AZ$8),\"\")","v":""},{"$f":"IF(AND($AA13=7,P13<>\"\",Q13<>\"\"),ort($P13,$Q13,$AY$9:$AZ$9),\"\")","v":""},{"$f":"IF(AND($AA13<6,R13<>\"\",S13<>\"\"),ort($R13,$S13,$AY$3:$AZ$3),\"\")","v":""},{"$f":"IF(AND($AA13<6,R13<>\"\",S13<>\"\"),ort($R13,$S13,$AY$4:$AZ$5),\"\")","v":""},{"$f":"IF(AND($AA13<6,R13<>\"\",S13<>\"\"),ort($R13,$S13,$AY$6:$AZ$7),\"\")","v":""},{"$f":"IF(AND($AA13=6,R13<>\"\",S13<>\"\"),ort($R13,$S13,$AY$8:$AZ$8),\"\")","v":""},{"$f":"IF(AND($AA13=7,R13<>\"\",S13<>\"\"),ort($R13,$S13,$AY$9:$AZ$9),\"\")","v":""},{"$f":"IF(AND($AA13<6,T13<>\"\",U13<>\"\"),ort($T13,$U13,$AY$3:$AZ$3),\"\")","v":""},{"$f":"IF(AND($AA13<6,T13<>\"\",U13<>\"\"),ort($T13,$U13,$AY$4:$AZ$5),\"\")","v":""},{"$f":"IF(AND($AA13<6,T13<>\"\",U13<>\"\"),ort($T13,$U13,$AY$6:$AZ$7),\"\")","v":""},{"$f":"IF(AND($AA13=6,T13<>\"\",U13<>\"\"),ort($T13,$U13,$AY$8:$AZ$8),\"\")","v":""},{"$f":"IF(AND($AA13=7,T13<>\"\",U13<>\"\"),ort($T13,$U13,$AY$9:$AZ$9),\"\")","v":""},null,null,null,null,null,null,null,null,null,"00:00:00"]
[null,{"$f":"NETWORKDAYS($L$3,EOMONTH($L$3,0),Blad2!A2:A97)&\" dagen\"","v":"22 dagen"},null,null,null,null,null,null,null,"",46,{"$f":"DATE($B$3,$B$4,12)","v":"2018-11-12"},{"$f":"DATE($B$3,$B$4,12)","v":"2018-11-12"},null,"00:00:00",null,null,null,null,null,null,"","","","","",{"$f":"IF(ISERROR(IF(NOT(ISERROR(MATCH($M14,Blad2!$A$2:$A$11,0))),7,WEEKDAY($M14,2))),\"\",IF(NOT(ISERROR(MATCH($M14,Blad2!$A$2:$A$11,0))),7,WEEKDAY($M14,2)))","v":1},{"$f":"IF(AND($AA14<6,N14<>\"\",O14<>\"\"),ort($N14,$O14,$AY$3:$AZ$3),\"\")","v":""},{"$f":"IF(AND($AA14<6,N14<>\"\",O14<>\"\"),ort($N14,$O14,$AY$4:$AZ$5),\"\")","v":""},{"$f":"IF(AND($AA14<6,N14<>\"\",O14<>\"\"),ort($N14,$O14,$AY$6:$AZ$7),\"\")","v":""},{"$f":"IF(AND($AA14=6,N14<>\"\",O14<>\"\"),ort($N14,$O14,$AY$8:$AZ$8),\"\")","v":""},{"$f":"IF(AND($AA14=7,N14<>\"\",O14<>\"\"),ort($N14,$O14,$AY$9:$AZ$9),\"\")","v":""},{"$f":"IF(AND($AA14<6,P14<>\"\",Q14<>\"\"),ort($P14,$Q14,$AY$3:$AZ$3),\"\")","v":""},{"$f":"IF(AND($AA14<6,P14<>\"\",Q14<>\"\"),ort($P14,$Q14,$AY$4:$AZ$5),\"\")","v":""},{"$f":"IF(AND($AA14<6,P14<>\"\",Q14<>\"\"),ort($P14,$Q14,$AY$6:$AZ$7),\"\")","v":""},{"$f":"IF(AND($AA14=6,P14<>\"\",Q14<>\"\"),ort($P14,$Q14,$AY$8:$AZ$8),\"\")","v":""},{"$f":"IF(AND($AA14=7,P14<>\"\",Q14<>\"\"),ort($P14,$Q14,$AY$9:$AZ$9),\"\")","v":""},{"$f":"IF(AND($AA14<6,R14<>\"\",S14<>\"\"),ort($R14,$S14,$AY$3:$AZ$3),\"\")","v":""},{"$f":"IF(AND($AA14<6,R14<>\"\",S14<>\"\"),ort($R14,$S14,$AY$4:$AZ$5),\"\")","v":""},{"$f":"IF(AND($AA14<6,R14<>\"\",S14<>\"\"),ort($R14,$S14,$AY$6:$AZ$7),\"\")","v":""},{"$f":"IF(AND($AA14=6,R14<>\"\",S14<>\"\"),ort($R14,$S14,$AY$8:$AZ$8),\"\")","v":""},{"$f":"IF(AND($AA14=7,R14<>\"\",S14<>\"\"),ort($R14,$S14,$AY$9:$AZ$9),\"\")","v":""},{"$f":"IF(AND($AA14<6,T14<>\"\",U14<>\"\"),ort($T14,$U14,$AY$3:$AZ$3),\"\")","v":""},{"$f":"IF(AND($AA14<6,T14<>\"\",U14<>\"\"),ort($T14,$U14,$AY$4:$AZ$5),\"\")","v":""},{"$f":"IF(AND($AA14<6,T14<>\"\",U14<>\"\"),ort($T14,$U14,$AY$6:$AZ$7),\"\")","v":""},{"$f":"IF(AND($AA14=6,T14<>\"\",U14<>\"\"),ort($T14,$U14,$AY$8:$AZ$8),\"\")","v":""},{"$f":"IF(AND($AA14=7,T14<>\"\",U14<>\"\"),ort($T14,$U14,$AY$9:$AZ$9),\"\")","v":""},null,null,null,null,null,null,null,null,null,"00:00:00"]
[null,null,null,null,null,null,null,null,null,"","",{"$f":"DATE($B$3,$B$4,13)","v":"2018-11-13"},{"$f":"DATE($B$3,$B$4,13)","v":"2018-11-13"},null,"00:00:00",null,null,null,null,null,null,"","","","","",{"$f":"IF(ISERROR(IF(NOT(ISERROR(MATCH($M15,Blad2!$A$2:$A$11,0))),7,WEEKDAY($M15,2))),\"\",IF(NOT(ISERROR(MATCH($M15,Blad2!$A$2:$A$11,0))),7,WEEKDAY($M15,2)))","v":2},{"$f":"IF(AND($AA15<6,N15<>\"\",O15<>\"\"),ort($N15,$O15,$AY$3:$AZ$3),\"\")","v":""},{"$f":"IF(AND($AA15<6,N15<>\"\",O15<>\"\"),ort($N15,$O15,$AY$4:$AZ$5),\"\")","v":""},{"$f":"IF(AND($AA15<6,N15<>\"\",O15<>\"\"),ort($N15,$O15,$AY$6:$AZ$7),\"\")","v":""},{"$f":"IF(AND($AA15=6,N15<>\"\",O15<>\"\"),ort($N15,$O15,$AY$8:$AZ$8),\"\")","v":""},{"$f":"IF(AND($AA15=7,N15<>\"\",O15<>\"\"),ort($N15,$O15,$AY$9:$AZ$9),\"\")","v":""},{"$f":"IF(AND($AA15<6,P15<>\"\",Q15<>\"\"),ort($P15,$Q15,$AY$3:$AZ$3),\"\")","v":""},{"$f":"IF(AND($AA15<6,P15<>\"\",Q15<>\"\"),ort($P15,$Q15,$AY$4:$AZ$5),\"\")","v":""},{"$f":"IF(AND($AA15<6,P15<>\"\",Q15<>\"\"),ort($P15,$Q15,$AY$6:$AZ$7),\"\")","v":""},{"$f":"IF(AND($AA15=6,P15<>\"\",Q15<>\"\"),ort($P15,$Q15,$AY$8:$AZ$8),\"\")","v":""},{"$f":"IF(AND($AA15=7,P15<>\"\",Q15<>\"\"),ort($P15,$Q15,$AY$9:$AZ$9),\"\")","v":""},{"$f":"IF(AND($AA15<6,R15<>\"\",S15<>\"\"),ort($R15,$S15,$AY$3:$AZ$3),\"\")","v":""},{"$f":"IF(AND($AA15<6,R15<>\"\",S15<>\"\"),ort($R15,$S15,$AY$4:$AZ$5),\"\")","v":""},{"$f":"IF(AND($AA15<6,R15<>\"\",S15<>\"\"),ort($R15,$S15,$AY$6:$AZ$7),\"\")","v":""},{"$f":"IF(AND($AA15=6,R15<>\"\",S15<>\"\"),ort($R15,$S15,$AY$8:$AZ$8),\"\")","v":""},{"$f":"IF(AND($AA15=7,R15<>\"\",S15<>\"\"),ort($R15,$S15,$AY$9:$AZ$9),\"\")","v":""},{"$f":"IF(AND($AA15<6,T15<>\"\",U15<>\"\"),ort($T15,$U15,$AY$3:$AZ$3),\"\")","v":""},{"$f":"IF(AND($AA15<6,T15<>\"\",U15<>\"\"),ort($T15,$U15,$AY$4:$AZ$5),\"\")","v":""},{"$f":"IF(AND($AA15<6,T15<>\"\",U15<>\"\"),ort($T15,$U15,$AY$6:$AZ$7),\"\")","v":""},{"$f":"IF(AND($AA15=6,T15<>\"\",U15<>\"\"),ort($T15,$U15,$AY$8:$AZ$8),\"\")","v":""},{"$f":"IF(AND($AA15=7,T15<>\"\",U15<>\"\"),ort($T15,$U15,$AY$9:$AZ$9),\"\")","v":""},null,null,null,null,null,null,null,null,null,"00:00:00"]
[null,"Contract Uren",null,null,null,null,null,null,null,"","",{"$f":"DATE($B$3,$B$4,14)","v":"2018-11-14"},{"$f":"DATE($B$3,$B$4,14)","v":"2018-11-14"},null,"00:00:00",null,null,null,null,null,null,"","","","","",{"$f":"IF(ISERROR(IF(NOT(ISERROR(MATCH($M16,Blad2!$A$2:$A$11,0))),7,WEEKDAY($M16,2))),\"\",IF(NOT(ISERROR(MATCH($M16,Blad2!$A$2:$A$11,0))),7,WEEKDAY($M16,2)))","v":3},{"$f":"IF(AND($AA16<6,N16<>\"\",O16<>\"\"),ort($N16,$O16,$AY$3:$AZ$3),\"\")","v":""},{"$f":"IF(AND($AA16<6,N16<>\"\",O16<>\"\"),ort($N16,$O16,$AY$4:$AZ$5),\"\")","v":""},{"$f":"IF(AND($AA16<6,N16<>\"\",O16<>\"\"),ort($N16,$O16,$AY$6:$AZ$7),\"\")","v":""},{"$f":"IF(AND($AA16=6,N16<>\"\",O16<>\"\"),ort($N16,$O16,$AY$8:$AZ$8),\"\")","v":""},{"$f":"IF(AND($AA16=7,N16<>\"\",O16<>\"\"),ort($N16,$O16,$AY$9:$AZ$9),\"\")","v":""},{"$f":"IF(AND($AA16<6,P16<>\"\",Q16<>\"\"),ort($P16,$Q16,$AY$3:$AZ$3),\"\")","v":""},{"$f":"IF(AND($AA16<6,P16<>\"\",Q16<>\"\"),ort($P16,$Q16,$AY$4:$AZ$5),\"\")","v":""},{"$f":"IF(AND($AA16<6,P16<>\"\",Q16<>\"\"),ort($P16,$Q16,$AY$6:$AZ$7),\"\")","v":""},{"$f":"IF(AND($AA16=6,P16<>\"\",Q16<>\"\"),ort($P16,$Q16,$AY$8:$AZ$8),\"\")","v":""},{"$f":"IF(AND($AA16=7,P16<>\"\",Q16<>\"\"),ort($P16,$Q16,$AY$9:$AZ$9),\"\")","v":""},{"$f":"IF(AND($AA16<6,R16<>\"\",S16<>\"\"),ort($R16,$S16,$AY$3:$AZ$3),\"\")","v":""},{"$f":"IF(AND($AA16<6,R16<>\"\",S16<>\"\"),ort($R16,$S16,$AY$4:$AZ$5),\"\")","v":""},{"$f":"IF(AND($AA16<6,R16<>\"\",S16<>\"\"),ort($R16,$S16,$AY$6:$AZ$7),\"\")","v":""},{"$f":"IF(AND($AA16=6,R16<>\"\",S16<>\"\"),ort($R16,$S16,$AY$8:$AZ$8),\"\")","v":""},{"$f":"IF(AND($AA16=7,R16<>\"\",S16<>\"\"),ort($R16,$S16,$AY$9:$AZ$9),\"\")","v":""},{"$f":"IF(AND($AA16<6,T16<>\"\",U16<>\"\"),ort($T16,$U16,$AY$3:$AZ$3),\"\")","v":""},{"$f":"IF(AND($AA16<6,T16<>\"\",U16<>\"\"),ort($T16,$U16,$AY$4:$AZ$5),\"\")","v":""},{"$f":"IF(AND($AA16<6,T16<>\"\",U16<>\"\"),ort($T16,$U16,$AY$6:$AZ$7),\"\")","v":""},{"$f":"IF(AND($AA16=6,T16<>\"\",U16<>\"\"),ort($T16,$U16,$AY$8:$AZ$8),\"\")","v":""},{"$f":"IF(AND($AA16=7,T16<>\"\",U16<>\"\"),ort($T16,$U16,$AY$9:$AZ$9),\"\")","v":""},null,null,null,null,null,null,null,null,null,"00:00:00"]
[null,3.75,null,null,null,null,null,null,null,"","",{"$f":"DATE($B$3,$B$4,15)","v":"2018-11-15"},{"$f":"DATE($B$3,$B$4,15)","v":"2018-11-15"},null,"00:00:00",null,null,null,null,null,null,"","","","","",{"$f":"IF(ISERROR(IF(NOT(ISERROR(MATCH($M17,Blad2!$A$2:$A$11,0))),7,WEEKDAY($M17,2))),\"\",IF(NOT(ISERROR(MATCH($M17,Blad2!$A$2:$A$11,0))),7,WEEKDAY($M17,2)))","v":4},{"$f":"IF(AND($AA17<6,N17<>\"\",O17<>\"\"),ort($N17,$O17,$AY$3:$AZ$3),\"\")","v":""},{"$f":"IF(AND($AA17<6,N17<>\"\",O17<>\"\"),ort($N17,$O17,$AY$4:$AZ$5),\"\")","v":""},{"$f":"IF(AND($AA17<6,N17<>\"\",O17<>\"\"),ort($N17,$O17,$AY$6:$AZ$7),\"\")","v":""},{"$f":"IF(AND($AA17=6,N17<>\"\",O17<>\"\"),ort($N17,$O17,$AY$8:$AZ$8),\"\")","v":""},{"$f":"IF(AND($AA17=7,N17<>\"\",O17<>\"\"),ort($N17,$O17,$AY$9:$AZ$9),\"\")","v":""},{"$f":"IF(AND($AA17<6,P17<>\"\",Q17<>\"\"),ort($P17,$Q17,$AY$3:$AZ$3),\"\")","v":""},{"$f":"IF(AND($AA17<6,P17<>\"\",Q17<>\"\"),ort($P17,$Q17,$AY$4:$AZ$5),\"\")","v":""},{"$f":"IF(AND($AA17<6,P17<>\"\",Q17<>\"\"),ort($P17,$Q17,$AY$6:$AZ$7),\"\")","v":""},{"$f":"IF(AND($AA17=6,P17<>\"\",Q17<>\"\"),ort($P17,$Q17,$AY$8:$AZ$8),\"\")","v":""},{"$f":"IF(AND($AA17=7,P17<>\"\",Q17<>\"\"),ort($P17,$Q17,$AY$9:$AZ$9),\"\")","v":""},{"$f":"IF(AND($AA17<6,R17<>\"\",S17<>\"\"),ort($R17,$S17,$AY$3:$AZ$3),\"\")","v":""},{"$f":"IF(AND($AA17<6,R17<>\"\",S17<>\"\"),ort($R17,$S17,$AY$4:$AZ$5),\"\")","v":""},{"$f":"IF(AND($AA17<6,R17<>\"\",S17<>\"\"),ort($R17,$S17,$AY$6:$AZ$7),\"\")","v":""},{"$f":"IF(AND($AA17=6,R17<>\"\",S17<>\"\"),ort($R17,$S17,$AY$8:$AZ$8),\"\")","v":""},{"$f":"IF(AND($AA17=7,R17<>\"\",S17<>\"\"),ort($R17,$S17,$AY$9:$AZ$9),\"\")","v":""},{"$f":"IF(AND($AA17<6,T17<>\"\",U17<>\"\"),ort($T17,$U17,$AY$3:$AZ$3),\"\")","v":""},{"$f":"IF(AND($AA17<6,T17<>\"\",U17<>\"\"),ort($T17,$U17,$AY$4:$AZ$5),\"\")","v":""},{"$f":"IF(AND($AA17<6,T17<>\"\",U17<>\"\"),ort($T17,$U17,$AY$6:$AZ$7),\"\")","v":""},{"$f":"IF(AND($AA17=6,T17<>\"\",U17<>\"\"),ort($T17,$U17,$AY$8:$AZ$8),\"\")","v":""},{"$f":"IF(AND($AA17=7,T17<>\"\",U17<>\"\"),ort($T17,$U17,$AY$9:$AZ$9),\"\")","v":""},null,null,null,null,null,null,null,null,null,"00:00:00"]
[null,null,null,null,null,null,null,null,null,"","",{"$f":"DATE($B$3,$B$4,16)","v":"2018-11-16"},{"$f":"DATE($B$3,$B$4,16)","v":"2018-11-16"},null,"00:00:00",null,null,null,null,null,null,"","","","","",{"$f":"IF(ISERROR(IF(NOT(ISERROR(MATCH($M18,Blad2!$A$2:$A$11,0))),7,WEEKDAY($M18,2))),\"\",IF(NOT(ISERROR(MATCH($M18,Blad2!$A$2:$A$11,0))),7,WEEKDAY($M18,2)))","v":5},{"$f":"IF(AND($AA18<6,N18<>\"\",O18<>\"\"),ort($N18,$O18,$AY$3:$AZ$3),\"\")","v":""},{"$f":"IF(AND($AA18<6,N18<>\"\",O18<>\"\"),ort($N18,$O18,$AY$4:$AZ$5),\"\")","v":""},{"$f":"IF(AND($AA18<6,N18<>\"\",O18<>\"\"),ort($N18,$O18,$AY$6:$AZ$7),\"\")","v":""},{"$f":"IF(AND($AA18=6,N18<>\"\",O18<>\"\"),ort($N18,$O18,$AY$8:$AZ$8),\"\")","v":""},{"$f":"IF(AND($AA18=7,N18<>\"\",O18<>\"\"),ort($N18,$O18,$AY$9:$AZ$9),\"\")","v":""},{"$f":"IF(AND($AA18<6,P18<>\"\",Q18<>\"\"),ort($P18,$Q18,$AY$3:$AZ$3),\"\")","v":""},{"$f":"IF(AND($AA18<6,P18<>\"\",Q18<>\"\"),ort($P18,$Q18,$AY$4:$AZ$5),\"\")","v":""},{"$f":"IF(AND($AA18<6,P18<>\"\",Q18<>\"\"),ort($P18,$Q18,$AY$6:$AZ$7),\"\")","v":""},{"$f":"IF(AND($AA18=6,P18<>\"\",Q18<>\"\"),ort($P18,$Q18,$AY$8:$AZ$8),\"\")","v":""},{"$f":"IF(AND($AA18=7,P18<>\"\",Q18<>\"\"),ort($P18,$Q18,$AY$9:$AZ$9),\"\")","v":""},{"$f":"IF(AND($AA18<6,R18<>\"\",S18<>\"\"),ort($R18,$S18,$AY$3:$AZ$3),\"\")","v":""},{"$f":"IF(AND($AA18<6,R18<>\"\",S18<>\"\"),ort($R18,$S18,$AY$4:$AZ$5),\"\")","v":""},{"$f":"IF(AND($AA18<6,R18<>\"\",S18<>\"\"),ort($R18,$S18,$AY$6:$AZ$7),\"\")","v":""},{"$f":"IF(AND($AA18=6,R18<>\"\",S18<>\"\"),ort($R18,$S18,$AY$8:$AZ$8),\"\")","v":""},{"$f":"IF(AND($AA18=7,R18<>\"\",S18<>\"\"),ort($R18,$S18,$AY$9:$AZ$9),\"\")","v":""},{"$f":"IF(AND($AA18<6,T18<>\"\",U18<>\"\"),ort($T18,$U18,$AY$3:$AZ$3),\"\")","v":""},{"$f":"IF(AND($AA18<6,T18<>\"\",U18<>\"\"),ort($T18,$U18,$AY$4:$AZ$5),\"\")","v":""},{"$f":"IF(AND($AA18<6,T18<>\"\",U18<>\"\"),ort($T18,$U18,$AY$6:$AZ$7),\"\")","v":""},{"$f":"IF(AND($AA18=6,T18<>\"\",U18<>\"\"),ort($T18,$U18,$AY$8:$AZ$8),\"\")","v":""},{"$f":"IF(AND($AA18=7,T18<>\"\",U18<>\"\"),ort($T18,$U18,$AY$9:$AZ$9),\"\")","v":""},null,null,null,null,null,null,null,null,null,"00:00:00"]
[null,"Gewerkte uren deze maand",null,null,null,null,null,null,null,"","",{"$f":"DATE($B$3,$B$4,17)","v":"2018-11-17"},{"$f":"DATE($B$3,$B$4,17)","v":"2018-11-17"},null,"00:00:00",null,null,null,null,null,null,"","","","","",{"$f":"IF(ISERROR(IF(NOT(ISERROR(MATCH($M19,Blad2!$A$2:$A$11,0))),7,WEEKDAY($M19,2))),\"\",IF(NOT(ISERROR(MATCH($M19,Blad2!$A$2:$A$11,0))),7,WEEKDAY($M19,2)))","v":6},{"$f":"IF(AND($AA19<6,N19<>\"\",O19<>\"\"),ort($N19,$O19,$AY$3:$AZ$3),\"\")","v":""},{"$f":"IF(AND($AA19<6,N19<>\"\",O19<>\"\"),ort($N19,$O19,$AY$4:$AZ$5),\"\")","v":""},{"$f":"IF(AND($AA19<6,N19<>\"\",O19<>\"\"),ort($N19,$O19,$AY$6:$AZ$7),\"\")","v":""},{"$f":"IF(AND($AA19=6,N19<>\"\",O19<>\"\"),ort($N19,$O19,$AY$8:$AZ$8),\"\")","v":""},{"$f":"IF(AND($AA19=7,N19<>\"\",O19<>\"\"),ort($N19,$O19,$AY$9:$AZ$9),\"\")","v":""},{"$f":"IF(AND($AA19<6,P19<>\"\",Q19<>\"\"),ort($P19,$Q19,$AY$3:$AZ$3),\"\")","v":""},{"$f":"IF(AND($AA19<6,P19<>\"\",Q19<>\"\"),ort($P19,$Q19,$AY$4:$AZ$5),\"\")","v":""},{"$f":"IF(AND($AA19<6,P19<>\"\",Q19<>\"\"),ort($P19,$Q19,$AY$6:$AZ$7),\"\")","v":""},{"$f":"IF(AND($AA19=6,P19<>\"\",Q19<>\"\"),ort($P19,$Q19,$AY$8:$AZ$8),\"\")","v":""},{"$f":"IF(AND($AA19=7,P19<>\"\",Q19<>\"\"),ort($P19,$Q19,$AY$9:$AZ$9),\"\")","v":""},{"$f":"IF(AND($AA19<6,R19<>\"\",S19<>\"\"),ort($R19,$S19,$AY$3:$AZ$3),\"\")","v":""},{"$f":"IF(AND($AA19<6,R19<>\"\",S19<>\"\"),ort($R19,$S19,$AY$4:$AZ$5),\"\")","v":""},{"$f":"IF(AND($AA19<6,R19<>\"\",S19<>\"\"),ort($R19,$S19,$AY$6:$AZ$7),\"\")","v":""},{"$f":"IF(AND($AA19=6,R19<>\"\",S19<>\"\"),ort($R19,$S19,$AY$8:$AZ$8),\"\")","v":""},{"$f":"IF(AND($AA19=7,R19<>\"\",S19<>\"\"),ort($R19,$S19,$AY$9:$AZ$9),\"\")","v":""},{"$f":"IF(AND($AA19<6,T19<>\"\",U19<>\"\"),ort($T19,$U19,$AY$3:$AZ$3),\"\")","v":""},{"$f":"IF(AND($AA19<6,T19<>\"\",U19<>\"\"),ort($T19,$U19,$AY$4:$AZ$5),\"\")","v":""},{"$f":"IF(AND($AA19<6,T19<>\"\",U19<>\"\"),ort($T19,$U19,$AY$6:$AZ$7),\"\")","v":""},{"$f":"IF(AND($AA19=6,T19<>\"\",U19<>\"\"),ort($T19,$U19,$AY$8:$AZ$8),\"\")","v":""},{"$f":"IF(AND($AA19=7,T19<>\"\",U19<>\"\"),ort($T19,$U19,$AY$9:$AZ$9),\"\")","v":""},null,null,null,null,null,null,null,null,null,"00:00:00"]
[null,{"$f":"SUM($V$3:$V$33)","v":0},null,null,null,null,null,null,null,"","",{"$f":"DATE($B$3,$B$4,18)","v":"2018-11-18"},{"$f":"DATE($B$3,$B$4,18)","v":"2018-11-18"},null,"00:00:00",null,null,null,null,null,null,"","","","","",{"$f":"IF(ISERROR(IF(NOT(ISERROR(MATCH($M20,Blad2!$A$2:$A$11,0))),7,WEEKDAY($M20,2))),\"\",IF(NOT(ISERROR(MATCH($M20,Blad2!$A$2:$A$11,0))),7,WEEKDAY($M20,2)))","v":7},{"$f":"IF(AND($AA20<6,N20<>\"\",O20<>\"\"),ort($N20,$O20,$AY$3:$AZ$3),\"\")","v":""},{"$f":"IF(AND($AA20<6,N20<>\"\",O20<>\"\"),ort($N20,$O20,$AY$4:$AZ$5),\"\")","v":""},{"$f":"IF(AND($AA20<6,N20<>\"\",O20<>\"\"),ort($N20,$O20,$AY$6:$AZ$7),\"\")","v":""},{"$f":"IF(AND($AA20=6,N20<>\"\",O20<>\"\"),ort($N20,$O20,$AY$8:$AZ$8),\"\")","v":""},{"$f":"IF(AND($AA20=7,N20<>\"\",O20<>\"\"),ort($N20,$O20,$AY$9:$AZ$9),\"\")","v":""},{"$f":"IF(AND($AA20<6,P20<>\"\",Q20<>\"\"),ort($P20,$Q20,$AY$3:$AZ$3),\"\")","v":""},{"$f":"IF(AND($AA20<6,P20<>\"\",Q20<>\"\"),ort($P20,$Q20,$AY$4:$AZ$5),\"\")","v":""},{"$f":"IF(AND($AA20<6,P20<>\"\",Q20<>\"\"),ort($P20,$Q20,$AY$6:$AZ$7),\"\")","v":""},{"$f":"IF(AND($AA20=6,P20<>\"\",Q20<>\"\"),ort($P20,$Q20,$AY$8:$AZ$8),\"\")","v":""},{"$f":"IF(AND($AA20=7,P20<>\"\",Q20<>\"\"),ort($P20,$Q20,$AY$9:$AZ$9),\"\")","v":""},{"$f":"IF(AND($AA20<6,R20<>\"\",S20<>\"\"),ort($R20,$S20,$AY$3:$AZ$3),\"\")","v":""},{"$f":"IF(AND($AA20<6,R20<>\"\",S20<>\"\"),ort($R20,$S20,$AY$4:$AZ$5),\"\")","v":""},{"$f":"IF(AND($AA20<6,R20<>\"\",S20<>\"\"),ort($R20,$S20,$AY$6:$AZ$7),\"\")","v":""},{"$f":"IF(AND($AA20=6,R20<>\"\",S20<>\"\"),ort($R20,$S20,$AY$8:$AZ$8),\"\")","v":""},{"$f":"IF(AND($AA20=7,R20<>\"\",S20<>\"\"),ort($R20,$S20,$AY$9:$AZ$9),\"\")","v":""},{"$f":"IF(AND($AA20<6,T20<>\"\",U20<>\"\"),ort($T20,$U20,$AY$3:$AZ$3),\"\")","v":""},{"$f":"IF(AND($AA20<6,T20<>\"\",U20<>\"\"),ort($T20,$U20,$AY$4:$AZ$5),\"\")","v":""},{"$f":"IF(AND($AA20<6,T20<>\"\",U20<>\"\"),ort($T20,$U20,$AY$6:$AZ$7),\"\")","v":""},{"$f":"IF(AND($AA20=6,T20<>\"\",U20<>\"\"),ort($T20,$U20,$AY$8:$AZ$8),\"\")","v":""},{"$f":"IF(AND($AA20=7,T20<>\"\",U20<>\"\"),ort($T20,$U20,$AY$9:$AZ$9),\"\")","v":""},null,{"$f":"COUNTA(Blad2!B12:B100)-COUNTIF(Blad2!B12:B100,\"Verlof\")","v":0},"  Aantal opgenomen ATV-dagen",null,null,null,null,null,null,"00:00:00"]
[null,null,null,null,null,null,null,null,null,"",47,{"$f":"DATE($B$3,$B$4,19)","v":"2018-11-19"},{"$f":"DATE($B$3,$B$4,19)","v":"2018-11-19"},null,"00:00:00",null,null,null,null,null,null,"","","","","",{"$f":"IF(ISERROR(IF(NOT(ISERROR(MATCH($M21,Blad2!$A$2:$A$11,0))),7,WEEKDAY($M21,2))),\"\",IF(NOT(ISERROR(MATCH($M21,Blad2!$A$2:$A$11,0))),7,WEEKDAY($M21,2)))","v":1},{"$f":"IF(AND($AA21<6,N21<>\"\",O21<>\"\"),ort($N21,$O21,$AY$3:$AZ$3),\"\")","v":""},{"$f":"IF(AND($AA21<6,N21<>\"\",O21<>\"\"),ort($N21,$O21,$AY$4:$AZ$5),\"\")","v":""},{"$f":"IF(AND($AA21<6,N21<>\"\",O21<>\"\"),ort($N21,$O21,$AY$6:$AZ$7),\"\")","v":""},{"$f":"IF(AND($AA21=6,N21<>\"\",O21<>\"\"),ort($N21,$O21,$AY$8:$AZ$8),\"\")","v":""},{"$f":"IF(AND($AA21=7,N21<>\"\",O21<>\"\"),ort($N21,$O21,$AY$9:$AZ$9),\"\")","v":""},{"$f":"IF(AND($AA21<6,P21<>\"\",Q21<>\"\"),ort($P21,$Q21,$AY$3:$AZ$3),\"\")","v":""},{"$f":"IF(AND($AA21<6,P21<>\"\",Q21<>\"\"),ort($P21,$Q21,$AY$4:$AZ$5),\"\")","v":""},{"$f":"IF(AND($AA21<6,P21<>\"\",Q21<>\"\"),ort($P21,$Q21,$AY$6:$AZ$7),\"\")","v":""},{"$f":"IF(AND($AA21=6,P21<>\"\",Q21<>\"\"),ort($P21,$Q21,$AY$8:$AZ$8),\"\")","v":""},{"$f":"IF(AND($AA21=7,P21<>\"\",Q21<>\"\"),ort($P21,$Q21,$AY$9:$AZ$9),\"\")","v":""},{"$f":"IF(AND($AA21<6,R21<>\"\",S21<>\"\"),ort($R21,$S21,$AY$3:$AZ$3),\"\")","v":""},{"$f":"IF(AND($AA21<6,R21<>\"\",S21<>\"\"),ort($R21,$S21,$AY$4:$AZ$5),\"\")","v":""},{"$f":"IF(AND($AA21<6,R21<>\"\",S21<>\"\"),ort($R21,$S21,$AY$6:$AZ$7),\"\")","v":""},{"$f":"IF(AND($AA21=6,R21<>\"\",S21<>\"\"),ort($R21,$S21,$AY$8:$AZ$8),\"\")","v":""},{"$f":"IF(AND($AA21=7,R21<>\"\",S21<>\"\"),ort($R21,$S21,$AY$9:$AZ$9),\"\")","v":""},{"$f":"IF(AND($AA21<6,T21<>\"\",U21<>\"\"),ort($T21,$U21,$AY$3:$AZ$3),\"\")","v":""},{"$f":"IF(AND($AA21<6,T21<>\"\",U21<>\"\"),ort($T21,$U21,$AY$4:$AZ$5),\"\")","v":""},{"$f":"IF(AND($AA21<6,T21<>\"\",U21<>\"\"),ort($T21,$U21,$AY$6:$AZ$7),\"\")","v":""},{"$f":"IF(AND($AA21=6,T21<>\"\",U21<>\"\"),ort($T21,$U21,$AY$8:$AZ$8),\"\")","v":""},{"$f":"IF(AND($AA21=7,T21<>\"\",U21<>\"\"),ort($T21,$U21,$AY$9:$AZ$9),\"\")","v":""},null,{"$f":"COUNTA(Blad2!B12:B100)-COUNTIF(Blad2!B12:B100,\"ATV\")","v":2},"  Aantal opgenomen verlofdagen",null,null,null,null,null,null,"00:00:00"]
[null,null,null,null,null,null,null,null,null,"","",{"$f":"DATE($B$3,$B$4,20)","v":"2018-11-20"},{"$f":"DATE($B$3,$B$4,20)","v":"2018-11-20"},null,"00:00:00",null,null,null,null,null,null,"","","","","",{"$f":"IF(ISERROR(IF(NOT(ISERROR(MATCH($M22,Blad2!$A$2:$A$11,0))),7,WEEKDAY($M22,2))),\"\",IF(NOT(ISERROR(MATCH($M22,Blad2!$A$2:$A$11,0))),7,WEEKDAY($M22,2)))","v":2},{"$f":"IF(AND($AA22<6,N22<>\"\",O22<>\"\"),ort($N22,$O22,$AY$3:$AZ$3),\"\")","v":""},{"$f":"IF(AND($AA22<6,N22<>\"\",O22<>\"\"),ort($N22,$O22,$AY$4:$AZ$5),\"\")","v":""},{"$f":"IF(AND($AA22<6,N22<>\"\",O22<>\"\"),ort($N22,$O22,$AY$6:$AZ$7),\"\")","v":""},{"$f":"IF(AND($AA22=6,N22<>\"\",O22<>\"\"),ort($N22,$O22,$AY$8:$AZ$8),\"\")","v":""},{"$f":"IF(AND($AA22=7,N22<>\"\",O22<>\"\"),ort($N22,$O22,$AY$9:$AZ$9),\"\")","v":""},{"$f":"IF(AND($AA22<6,P22<>\"\",Q22<>\"\"),ort($P22,$Q22,$AY$3:$AZ$3),\"\")","v":""},{"$f":"IF(AND($AA22<6,P22<>\"\",Q22<>\"\"),ort($P22,$Q22,$AY$4:$AZ$5),\"\")","v":""},{"$f":"IF(AND($AA22<6,P22<>\"\",Q22<>\"\"),ort($P22,$Q22,$AY$6:$AZ$7),\"\")","v":""},{"$f":"IF(AND($AA22=6,P22<>\"\",Q22<>\"\"),ort($P22,$Q22,$AY$8:$AZ$8),\"\")","v":""},{"$f":"IF(AND($AA22=7,P22<>\"\",Q22<>\"\"),ort($P22,$Q22,$AY$9:$AZ$9),\"\")","v":""},{"$f":"IF(AND($AA22<6,R22<>\"\",S22<>\"\"),ort($R22,$S22,$AY$3:$AZ$3),\"\")","v":""},{"$f":"IF(AND($AA22<6,R22<>\"\",S22<>\"\"),ort($R22,$S22,$AY$4:$AZ$5),\"\")","v":""},{"$f":"IF(AND($AA22<6,R22<>\"\",S22<>\"\"),ort($R22,$S22,$AY$6:$AZ$7),\"\")","v":""},{"$f":"IF(AND($AA22=6,R22<>\"\",S22<>\"\"),ort($R22,$S22,$AY$8:$AZ$8),\"\")","v":""},{"$f":"IF(AND($AA22=7,R22<>\"\",S22<>\"\"),ort($R22,$S22,$AY$9:$AZ$9),\"\")","v":""},{"$f":"IF(AND($AA22<6,T22<>\"\",U22<>\"\"),ort($T22,$U22,$AY$3:$AZ$3),\"\")","v":""},{"$f":"IF(AND($AA22<6,T22<>\"\",U22<>\"\"),ort($T22,$U22,$AY$4:$AZ$5),\"\")","v":""},{"$f":"IF(AND($AA22<6,T22<>\"\",U22<>\"\"),ort($T22,$U22,$AY$6:$AZ$7),\"\")","v":""},{"$f":"IF(AND($AA22=6,T22<>\"\",U22<>\"\"),ort($T22,$U22,$AY$8:$AZ$8),\"\")","v":""},{"$f":"IF(AND($AA22=7,T22<>\"\",U22<>\"\"),ort($T22,$U22,$AY$9:$AZ$9),\"\")","v":""},null,null,null,null,null,null,null,null,null,"00:00:00"]
[null,null,null,null,null,null,null,null,null,"","",{"$f":"DATE($B$3,$B$4,21)","v":"2018-11-21"},{"$f":"DATE($B$3,$B$4,21)","v":"2018-11-21"},null,"00:00:00",null,null,null,null,null,null,"","","","","",{"$f":"IF(ISERROR(IF(NOT(ISERROR(MATCH($M23,Blad2!$A$2:$A$11,0))),7,WEEKDAY($M23,2))),\"\",IF(NOT(ISERROR(MATCH($M23,Blad2!$A$2:$A$11,0))),7,WEEKDAY($M23,2)))","v":3},{"$f":"IF(AND($AA23<6,N23<>\"\",O23<>\"\"),ort($N23,$O23,$AY$3:$AZ$3),\"\")","v":""},{"$f":"IF(AND($AA23<6,N23<>\"\",O23<>\"\"),ort($N23,$O23,$AY$4:$AZ$5),\"\")","v":""},{"$f":"IF(AND($AA23<6,N23<>\"\",O23<>\"\"),ort($N23,$O23,$AY$6:$AZ$7),\"\")","v":""},{"$f":"IF(AND($AA23=6,N23<>\"\",O23<>\"\"),ort($N23,$O23,$AY$8:$AZ$8),\"\")","v":""},{"$f":"IF(AND($AA23=7,N23<>\"\",O23<>\"\"),ort($N23,$O23,$AY$9:$AZ$9),\"\")","v":""},{"$f":"IF(AND($AA23<6,P23<>\"\",Q23<>\"\"),ort($P23,$Q23,$AY$3:$AZ$3),\"\")","v":""},{"$f":"IF(AND($AA23<6,P23<>\"\",Q23<>\"\"),ort($P23,$Q23,$AY$4:$AZ$5),\"\")","v":""},{"$f":"IF(AND($AA23<6,P23<>\"\",Q23<>\"\"),ort($P23,$Q23,$AY$6:$AZ$7),\"\")","v":""},{"$f":"IF(AND($AA23=6,P23<>\"\",Q23<>\"\"),ort($P23,$Q23,$AY$8:$AZ$8),\"\")","v":""},{"$f":"IF(AND($AA23=7,P23<>\"\",Q23<>\"\"),ort($P23,$Q23,$AY$9:$AZ$9),\"\")","v":""},{"$f":"IF(AND($AA23<6,R23<>\"\",S23<>\"\"),ort($R23,$S23,$AY$3:$AZ$3),\"\")","v":""},{"$f":"IF(AND($AA23<6,R23<>\"\",S23<>\"\"),ort($R23,$S23,$AY$4:$AZ$5),\"\")","v":""},{"$f":"IF(AND($AA23<6,R23<>\"\",S23<>\"\"),ort($R23,$S23,$AY$6:$AZ$7),\"\")","v":""},{"$f":"IF(AND($AA23=6,R23<>\"\",S23<>\"\"),ort($R23,$S23,$AY$8:$AZ$8),\"\")","v":""},{"$f":"IF(AND($AA23=7,R23<>\"\",S23<>\"\"),ort($R23,$S23,$AY$9:$AZ$9),\"\")","v":""},{"$f":"IF(AND($AA23<6,T23<>\"\",U23<>\"\"),ort($T23,$U23,$AY$3:$AZ$3),\"\")","v":""},{"$f":"IF(AND($AA23<6,T23<>\"\",U23<>\"\"),ort($T23,$U23,$AY$4:$AZ$5),\"\")","v":""},{"$f":"IF(AND($AA23<6,T23<>\"\",U23<>\"\"),ort($T23,$U23,$AY$6:$AZ$7),\"\")","v":""},{"$f":"IF(AND($AA23=6,T23<>\"\",U23<>\"\"),ort($T23,$U23,$AY$8:$AZ$8),\"\")","v":""},{"$f":"IF(AND($AA23=7,T23<>\"\",U23<>\"\"),ort($T23,$U23,$AY$9:$AZ$9),\"\")","v":""},null,null,null,null,null,null,null,null,null,"00:00:00"]
[null,null,null,null,null,null,null,null,null,"","",{"$f":"DATE($B$3,$B$4,22)","v":"2018-11-22"},{"$f":"DATE($B$3,$B$4,22)","v":"2018-11-22"},null,"00:00:00",null,null,null,null,null,null,"","","","","",{"$f":"IF(ISERROR(IF(NOT(ISERROR(MATCH($M24,Blad2!$A$2:$A$11,0))),7,WEEKDAY($M24,2))),\"\",IF(NOT(ISERROR(MATCH($M24,Blad2!$A$2:$A$11,0))),7,WEEKDAY($M24,2)))","v":4},{"$f":"IF(AND($AA24<6,N24<>\"\",O24<>\"\"),ort($N24,$O24,$AY$3:$AZ$3),\"\")","v":""},{"$f":"IF(AND($AA24<6,N24<>\"\",O24<>\"\"),ort($N24,$O24,$AY$4:$AZ$5),\"\")","v":""},{"$f":"IF(AND($AA24<6,N24<>\"\",O24<>\"\"),ort($N24,$O24,$AY$6:$AZ$7),\"\")","v":""},{"$f":"IF(AND($AA24=6,N24<>\"\",O24<>\"\"),ort($N24,$O24,$AY$8:$AZ$8),\"\")","v":""},{"$f":"IF(AND($AA24=7,N24<>\"\",O24<>\"\"),ort($N24,$O24,$AY$9:$AZ$9),\"\")","v":""},{"$f":"IF(AND($AA24<6,P24<>\"\",Q24<>\"\"),ort($P24,$Q24,$AY$3:$AZ$3),\"\")","v":""},{"$f":"IF(AND($AA24<6,P24<>\"\",Q24<>\"\"),ort($P24,$Q24,$AY$4:$AZ$5),\"\")","v":""},{"$f":"IF(AND($AA24<6,P24<>\"\",Q24<>\"\"),ort($P24,$Q24,$AY$6:$AZ$7),\"\")","v":""},{"$f":"IF(AND($AA24=6,P24<>\"\",Q24<>\"\"),ort($P24,$Q24,$AY$8:$AZ$8),\"\")","v":""},{"$f":"IF(AND($AA24=7,P24<>\"\",Q24<>\"\"),ort($P24,$Q24,$AY$9:$AZ$9),\"\")","v":""},{"$f":"IF(AND($AA24<6,R24<>\"\",S24<>\"\"),ort($R24,$S24,$AY$3:$AZ$3),\"\")","v":""},{"$f":"IF(AND($AA24<6,R24<>\"\",S24<>\"\"),ort($R24,$S24,$AY$4:$AZ$5),\"\")","v":""},{"$f":"IF(AND($AA24<6,R24<>\"\",S24<>\"\"),ort($R24,$S24,$AY$6:$AZ$7),\"\")","v":""},{"$f":"IF(AND($AA24=6,R24<>\"\",S24<>\"\"),ort($R24,$S24,$AY$8:$AZ$8),\"\")","v":""},{"$f":"IF(AND($AA24=7,R24<>\"\",S24<>\"\"),ort($R24,$S24,$AY$9:$AZ$9),\"\")","v":""},{"$f":"IF(AND($AA24<6,T24<>\"\",U24<>\"\"),ort($T24,$U24,$AY$3:$AZ$3),\"\")","v":""},{"$f":"IF(AND($AA24<6,T24<>\"\",U24<>\"\"),ort($T24,$U24,$AY$4:$AZ$5),\"\")","v":""},{"$f":"IF(AND($AA24<6,T24<>\"\",U24<>\"\"),ort($T24,$U24,$AY$6:$AZ$7),\"\")","v":""},{"$f":"IF(AND($AA24=6,T24<>\"\",U24<>\"\"),ort($T24,$U24,$AY$8:$AZ$8),\"\")","v":""},{"$f":"IF(AND($AA24=7,T24<>\"\",U24<>\"\"),ort($T24,$U24,$AY$9:$AZ$9),\"\")","v":""},null,null,null,null,null,null,null,null,null,"00:00:00"]
[null,null,null,null,null,null,null,null,null,"","",{"$f":"DATE($B$3,$B$4,23)","v":"2018-11-23"},{"$f":"DATE($B$3,$B$4,23)","v":"2018-11-23"},null,"00:00:00",null,null,null,null,null,null,"","","","","",{"$f":"IF(ISERROR(IF(NOT(ISERROR(MATCH($M25,Blad2!$A$2:$A$11,0))),7,WEEKDAY($M25,2))),\"\",IF(NOT(ISERROR(MATCH($M25,Blad2!$A$2:$A$11,0))),7,WEEKDAY($M25,2)))","v":5},{"$f":"IF(AND($AA25<6,N25<>\"\",O25<>\"\"),ort($N25,$O25,$AY$3:$AZ$3),\"\")","v":""},{"$f":"IF(AND($AA25<6,N25<>\"\",O25<>\"\"),ort($N25,$O25,$AY$4:$AZ$5),\"\")","v":""},{"$f":"IF(AND($AA25<6,N25<>\"\",O25<>\"\"),ort($N25,$O25,$AY$6:$AZ$7),\"\")","v":""},{"$f":"IF(AND($AA25=6,N25<>\"\",O25<>\"\"),ort($N25,$O25,$AY$8:$AZ$8),\"\")","v":""},{"$f":"IF(AND($AA25=7,N25<>\"\",O25<>\"\"),ort($N25,$O25,$AY$9:$AZ$9),\"\")","v":""},{"$f":"IF(AND($AA25<6,P25<>\"\",Q25<>\"\"),ort($P25,$Q25,$AY$3:$AZ$3),\"\")","v":""},{"$f":"IF(AND($AA25<6,P25<>\"\",Q25<>\"\"),ort($P25,$Q25,$AY$4:$AZ$5),\"\")","v":""},{"$f":"IF(AND($AA25<6,P25<>\"\",Q25<>\"\"),ort($P25,$Q25,$AY$6:$AZ$7),\"\")","v":""},{"$f":"IF(AND($AA25=6,P25<>\"\",Q25<>\"\"),ort($P25,$Q25,$AY$8:$AZ$8),\"\")","v":""},{"$f":"IF(AND($AA25=7,P25<>\"\",Q25<>\"\"),ort($P25,$Q25,$AY$9:$AZ$9),\"\")","v":""},{"$f":"IF(AND($AA25<6,R25<>\"\",S25<>\"\"),ort($R25,$S25,$AY$3:$AZ$3),\"\")","v":""},{"$f":"IF(AND($AA25<6,R25<>\"\",S25<>\"\"),ort($R25,$S25,$AY$4:$AZ$5),\"\")","v":""},{"$f":"IF(AND($AA25<6,R25<>\"\",S25<>\"\"),ort($R25,$S25,$AY$6:$AZ$7),\"\")","v":""},{"$f":"IF(AND($AA25=6,R25<>\"\",S25<>\"\"),ort($R25,$S25,$AY$8:$AZ$8),\"\")","v":""},{"$f":"IF(AND($AA25=7,R25<>\"\",S25<>\"\"),ort($R25,$S25,$AY$9:$AZ$9),\"\")","v":""},{"$f":"IF(AND($AA25<6,T25<>\"\",U25<>\"\"),ort($T25,$U25,$AY$3:$AZ$3),\"\")","v":""},{"$f":"IF(AND($AA25<6,T25<>\"\",U25<>\"\"),ort($T25,$U25,$AY$4:$AZ$5),\"\")","v":""},{"$f":"IF(AND($AA25<6,T25<>\"\",U25<>\"\"),ort($T25,$U25,$AY$6:$AZ$7),\"\")","v":""},{"$f":"IF(AND($AA25=6,T25<>\"\",U25<>\"\"),ort($T25,$U25,$AY$8:$AZ$8),\"\")","v":""},{"$f":"IF(AND($AA25=7,T25<>\"\",U25<>\"\"),ort($T25,$U25,$AY$9:$AZ$9),\"\")","v":""},null,null,null,null,null,null,null,null,null,"00:00:00"]
[null,null,null,null,null,null,null,null,null,"","",{"$f":"DATE($B$3,$B$4,24)","v":"2018-11-24"},{"$f":"DATE($B$3,$B$4,24)","v":"2018-11-24"},null,"00:00:00",null,null,null,null,null,null,"","","","","",{"$f":"IF(ISERROR(IF(NOT(ISERROR(MATCH($M26,Blad2!$A$2:$A$11,0))),7,WEEKDAY($M26,2))),\"\",IF(NOT(ISERROR(MATCH($M26,Blad2!$A$2:$A$11,0))),7,WEEKDAY($M26,2)))","v":6},{"$f":"IF(AND($AA26<6,N26<>\"\",O26<>\"\"),ort($N26,$O26,$AY$3:$AZ$3),\"\")","v":""},{"$f":"IF(AND($AA26<6,N26<>\"\",O26<>\"\"),ort($N26,$O26,$AY$4:$AZ$5),\"\")","v":""},{"$f":"IF(AND($AA26<6,N26<>\"\",O26<>\"\"),ort($N26,$O26,$AY$6:$AZ$7),\"\")","v":""},{"$f":"IF(AND($AA26=6,N26<>\"\",O26<>\"\"),ort($N26,$O26,$AY$8:$AZ$8),\"\")","v":""},{"$f":"IF(AND($AA26=7,N26<>\"\",O26<>\"\"),ort($N26,$O26,$AY$9:$AZ$9),\"\")","v":""},{"$f":"IF(AND($AA26<6,P26<>\"\",Q26<>\"\"),ort($P26,$Q26,$AY$3:$AZ$3),\"\")","v":""},{"$f":"IF(AND($AA26<6,P26<>\"\",Q26<>\"\"),ort($P26,$Q26,$AY$4:$AZ$5),\"\")","v":""},{"$f":"IF(AND($AA26<6,P26<>\"\",Q26<>\"\"),ort($P26,$Q26,$AY$6:$AZ$7),\"\")","v":""},{"$f":"IF(AND($AA26=6,P26<>\"\",Q26<>\"\"),ort($P26,$Q26,$AY$8:$AZ$8),\"\")","v":""},{"$f":"IF(AND($AA26=7,P26<>\"\",Q26<>\"\"),ort($P26,$Q26,$AY$9:$AZ$9),\"\")","v":""},{"$f":"IF(AND($AA26<6,R26<>\"\",S26<>\"\"),ort($R26,$S26,$AY$3:$AZ$3),\"\")","v":""},{"$f":"IF(AND($AA26<6,R26<>\"\",S26<>\"\"),ort($R26,$S26,$AY$4:$AZ$5),\"\")","v":""},{"$f":"IF(AND($AA26<6,R26<>\"\",S26<>\"\"),ort($R26,$S26,$AY$6:$AZ$7),\"\")","v":""},{"$f":"IF(AND($AA26=6,R26<>\"\",S26<>\"\"),ort($R26,$S26,$AY$8:$AZ$8),\"\")","v":""},{"$f":"IF(AND($AA26=7,R26<>\"\",S26<>\"\"),ort($R26,$S26,$AY$9:$AZ$9),\"\")","v":""},{"$f":"IF(AND($AA26<6,T26<>\"\",U26<>\"\"),ort($T26,$U26,$AY$3:$AZ$3),\"\")","v":""},{"$f":"IF(AND($AA26<6,T26<>\"\",U26<>\"\"),ort($T26,$U26,$AY$4:$AZ$5),\"\")","v":""},{"$f":"IF(AND($AA26<6,T26<>\"\",U26<>\"\"),ort($T26,$U26,$AY$6:$AZ$7),\"\")","v":""},{"$f":"IF(AND($AA26=6,T26<>\"\",U26<>\"\"),ort($T26,$U26,$AY$8:$AZ$8),\"\")","v":""},{"$f":"IF(AND($AA26=7,T26<>\"\",U26<>\"\"),ort($T26,$U26,$AY$9:$AZ$9),\"\")","v":""},null,null,null,null,null,null,null,null,null,"00:00:00"]
[null,null,null,null,null,null,null,null,null,"","",{"$f":"DATE($B$3,$B$4,25)","v":"2018-11-25"},{"$f":"DATE($B$3,$B$4,25)","v":"2018-11-25"},null,"00:00:00",null,null,null,null,null,null,"","","","","",{"$f":"IF(ISERROR(IF(NOT(ISERROR(MATCH($M27,Blad2!$A$2:$A$11,0))),7,WEEKDAY($M27,2))),\"\",IF(NOT(ISERROR(MATCH($M27,Blad2!$A$2:$A$11,0))),7,WEEKDAY($M27,2)))","v":7},{"$f":"IF(AND($AA27<6,N27<>\"\",O27<>\"\"),ort($N27,$O27,$AY$3:$AZ$3),\"\")","v":""},{"$f":"IF(AND($AA27<6,N27<>\"\",O27<>\"\"),ort($N27,$O27,$AY$4:$AZ$5),\"\")","v":""},{"$f":"IF(AND($AA27<6,N27<>\"\",O27<>\"\"),ort($N27,$O27,$AY$6:$AZ$7),\"\")","v":""},{"$f":"IF(AND($AA27=6,N27<>\"\",O27<>\"\"),ort($N27,$O27,$AY$8:$AZ$8),\"\")","v":""},{"$f":"IF(AND($AA27=7,N27<>\"\",O27<>\"\"),ort($N27,$O27,$AY$9:$AZ$9),\"\")","v":""},{"$f":"IF(AND($AA27<6,P27<>\"\",Q27<>\"\"),ort($P27,$Q27,$AY$3:$AZ$3),\"\")","v":""},{"$f":"IF(AND($AA27<6,P27<>\"\",Q27<>\"\"),ort($P27,$Q27,$AY$4:$AZ$5),\"\")","v":""},{"$f":"IF(AND($AA27<6,P27<>\"\",Q27<>\"\"),ort($P27,$Q27,$AY$6:$AZ$7),\"\")","v":""},{"$f":"IF(AND($AA27=6,P27<>\"\",Q27<>\"\"),ort($P27,$Q27,$AY$8:$AZ$8),\"\")","v":""},{"$f":"IF(AND($AA27=7,P27<>\"\",Q27<>\"\"),ort($P27,$Q27,$AY$9:$AZ$9),\"\")","v":""},{"$f":"IF(AND($AA27<6,R27<>\"\",S27<>\"\"),ort($R27,$S27,$AY$3:$AZ$3),\"\")","v":""},{"$f":"IF(AND($AA27<6,R27<>\"\",S27<>\"\"),ort($R27,$S27,$AY$4:$AZ$5),\"\")","v":""},{"$f":"IF(AND($AA27<6,R27<>\"\",S27<>\"\"),ort($R27,$S27,$AY$6:$AZ$7),\"\")","v":""},{"$f":"IF(AND($AA27=6,R27<>\"\",S27<>\"\"),ort($R27,$S27,$AY$8:$AZ$8),\"\")","v":""},{"$f":"IF(AND($AA27=7,R27<>\"\",S27<>\"\"),ort($R27,$S27,$AY$9:$AZ$9),\"\")","v":""},{"$f":"IF(AND($AA27<6,T27<>\"\",U27<>\"\"),ort($T27,$U27,$AY$3:$AZ$3),\"\")","v":""},{"$f":"IF(AND($AA27<6,T27<>\"\",U27<>\"\"),ort($T27,$U27,$AY$4:$AZ$5),\"\")","v":""},{"$f":"IF(AND($AA27<6,T27<>\"\",U27<>\"\"),ort($T27,$U27,$AY$6:$AZ$7),\"\")","v":""},{"$f":"IF(AND($AA27=6,T27<>\"\",U27<>\"\"),ort($T27,$U27,$AY$8:$AZ$8),\"\")","v":""},{"$f":"IF(AND($AA27=7,T27<>\"\",U27<>\"\"),ort($T27,$U27,$AY$9:$AZ$9),\"\")","v":""},null,null,null,null,null,null,null,null,null,"00:00:00"]
[null,null,null,null,null,null,null,null,null,"",48,{"$f":"DATE($B$3,$B$4,26)","v":"2018-11-26"},{"$f":"DATE($B$3,$B$4,26)","v":"2018-11-26"},null,"00:00:00",null,null,null,null,null,null,"","","","","",{"$f":"IF(ISERROR(IF(NOT(ISERROR(MATCH($M28,Blad2!$A$2:$A$11,0))),7,WEEKDAY($M28,2))),\"\",IF(NOT(ISERROR(MATCH($M28,Blad2!$A$2:$A$11,0))),7,WEEKDAY($M28,2)))","v":1},{"$f":"IF(AND($AA28<6,N28<>\"\",O28<>\"\"),ort($N28,$O28,$AY$3:$AZ$3),\"\")","v":""},{"$f":"IF(AND($AA28<6,N28<>\"\",O28<>\"\"),ort($N28,$O28,$AY$4:$AZ$5),\"\")","v":""},{"$f":"IF(AND($AA28<6,N28<>\"\",O28<>\"\"),ort($N28,$O28,$AY$6:$AZ$7),\"\")","v":""},{"$f":"IF(AND($AA28=6,N28<>\"\",O28<>\"\"),ort($N28,$O28,$AY$8:$AZ$8),\"\")","v":""},{"$f":"IF(AND($AA28=7,N28<>\"\",O28<>\"\"),ort($N28,$O28,$AY$9:$AZ$9),\"\")","v":""},{"$f":"IF(AND($AA28<6,P28<>\"\",Q28<>\"\"),ort($P28,$Q28,$AY$3:$AZ$3),\"\")","v":""},{"$f":"IF(AND($AA28<6,P28<>\"\",Q28<>\"\"),ort($P28,$Q28,$AY$4:$AZ$5),\"\")","v":""},{"$f":"IF(AND($AA28<6,P28<>\"\",Q28<>\"\"),ort($P28,$Q28,$AY$6:$AZ$7),\"\")","v":""},{"$f":"IF(AND($AA28=6,P28<>\"\",Q28<>\"\"),ort($P28,$Q28,$AY$8:$AZ$8),\"\")","v":""},{"$f":"IF(AND($AA28=7,P28<>\"\",Q28<>\"\"),ort($P28,$Q28,$AY$9:$AZ$9),\"\")","v":""},{"$f":"IF(AND($AA28<6,R28<>\"\",S28<>\"\"),ort($R28,$S28,$AY$3:$AZ$3),\"\")","v":""},{"$f":"IF(AND($AA28<6,R28<>\"\",S28<>\"\"),ort($R28,$S28,$AY$4:$AZ$5),\"\")","v":""},{"$f":"IF(AND($AA28<6,R28<>\"\",S28<>\"\"),ort($R28,$S28,$AY$6:$AZ$7),\"\")","v":""},{"$f":"IF(AND($AA28=6,R28<>\"\",S28<>\"\"),ort($R28,$S28,$AY$8:$AZ$8),\"\")","v":""},{"$f":"IF(AND($AA28=7,R28<>\"\",S28<>\"\"),ort($R28,$S28,$AY$9:$AZ$9),\"\")","v":""},{"$f":"IF(AND($AA28<6,T28<>\"\",U28<>\"\"),ort($T28,$U28,$AY$3:$AZ$3),\"\")","v":""},{"$f":"IF(AND($AA28<6,T28<>\"\",U28<>\"\"),ort($T28,$U28,$AY$4:$AZ$5),\"\")","v":""},{"$f":"IF(AND($AA28<6,T28<>\"\",U28<>\"\"),ort($T28,$U28,$AY$6:$AZ$7),\"\")","v":""},{"$f":"IF(AND($AA28=6,T28<>\"\",U28<>\"\"),ort($T28,$U28,$AY$8:$AZ$8),\"\")","v":""},{"$f":"IF(AND($AA28=7,T28<>\"\",U28<>\"\"),ort($T28,$U28,$AY$9:$AZ$9),\"\")","v":""},null,null,null,null,null,null,null,null,null,"00:00:00"]
[null,null,null,null,null,null,null,null,null,"","",{"$f":"DATE($B$3,$B$4,27)","v":"2018-11-27"},{"$f":"DATE($B$3,$B$4,27)","v":"2018-11-27"},null,"00:00:00",null,null,null,null,null,null,"","","","","",{"$f":"IF(ISERROR(IF(NOT(ISERROR(MATCH($M29,Blad2!$A$2:$A$11,0))),7,WEEKDAY($M29,2))),\"\",IF(NOT(ISERROR(MATCH($M29,Blad2!$A$2:$A$11,0))),7,WEEKDAY($M29,2)))","v":2},{"$f":"IF(AND($AA29<6,N29<>\"\",O29<>\"\"),ort($N29,$O29,$AY$3:$AZ$3),\"\")","v":""},{"$f":"IF(AND($AA29<6,N29<>\"\",O29<>\"\"),ort($N29,$O29,$AY$4:$AZ$5),\"\")","v":""},{"$f":"IF(AND($AA29<6,N29<>\"\",O29<>\"\"),ort($N29,$O29,$AY$6:$AZ$7),\"\")","v":""},{"$f":"IF(AND($AA29=6,N29<>\"\",O29<>\"\"),ort($N29,$O29,$AY$8:$AZ$8),\"\")","v":""},{"$f":"IF(AND($AA29=7,N29<>\"\",O29<>\"\"),ort($N29,$O29,$AY$9:$AZ$9),\"\")","v":""},{"$f":"IF(AND($AA29<6,P29<>\"\",Q29<>\"\"),ort($P29,$Q29,$AY$3:$AZ$3),\"\")","v":""},{"$f":"IF(AND($AA29<6,P29<>\"\",Q29<>\"\"),ort($P29,$Q29,$AY$4:$AZ$5),\"\")","v":""},{"$f":"IF(AND($AA29<6,P29<>\"\",Q29<>\"\"),ort($P29,$Q29,$AY$6:$AZ$7),\"\")","v":""},{"$f":"IF(AND($AA29=6,P29<>\"\",Q29<>\"\"),ort($P29,$Q29,$AY$8:$AZ$8),\"\")","v":""},{"$f":"IF(AND($AA29=7,P29<>\"\",Q29<>\"\"),ort($P29,$Q29,$AY$9:$AZ$9),\"\")","v":""},{"$f":"IF(AND($AA29<6,R29<>\"\",S29<>\"\"),ort($R29,$S29,$AY$3:$AZ$3),\"\")","v":""},{"$f":"IF(AND($AA29<6,R29<>\"\",S29<>\"\"),ort($R29,$S29,$AY$4:$AZ$5),\"\")","v":""},{"$f":"IF(AND($AA29<6,R29<>\"\",S29<>\"\"),ort($R29,$S29,$AY$6:$AZ$7),\"\")","v":""},{"$f":"IF(AND($AA29=6,R29<>\"\",S29<>\"\"),ort($R29,$S29,$AY$8:$AZ$8),\"\")","v":""},{"$f":"IF(AND($AA29=7,R29<>\"\",S29<>\"\"),ort($R29,$S29,$AY$9:$AZ$9),\"\")","v":""},{"$f":"IF(AND($AA29<6,T29<>\"\",U29<>\"\"),ort($T29,$U29,$AY$3:$AZ$3),\"\")","v":""},{"$f":"IF(AND($AA29<6,T29<>\"\",U29<>\"\"),ort($T29,$U29,$AY$4:$AZ$5),\"\")","v":""},{"$f":"IF(AND($AA29<6,T29<>\"\",U29<>\"\"),ort($T29,$U29,$AY$6:$AZ$7),\"\")","v":""},{"$f":"IF(AND($AA29=6,T29<>\"\",U29<>\"\"),ort($T29,$U29,$AY$8:$AZ$8),\"\")","v":""},{"$f":"IF(AND($AA29=7,T29<>\"\",U29<>\"\"),ort($T29,$U29,$AY$9:$AZ$9),\"\")","v":""},null,null,null,null,null,null,null,null,null,"00:00:00"]
[null,null,null,null,null,null,null,null,null,"","",{"$f":"DATE($B$3,$B$4,28)","v":"2018-11-28"},{"$f":"DATE($B$3,$B$4,28)","v":"2018-11-28"},null,"00:00:00",null,null,null,null,null,null,"","","","","",{"$f":"IF(ISERROR(IF(NOT(ISERROR(MATCH($M30,Blad2!$A$2:$A$11,0))),7,WEEKDAY($M30,2))),\"\",IF(NOT(ISERROR(MATCH($M30,Blad2!$A$2:$A$11,0))),7,WEEKDAY($M30,2)))","v":3},{"$f":"IF(AND($AA30<6,N30<>\"\",O30<>\"\"),ort($N30,$O30,$AY$3:$AZ$3),\"\")","v":""},{"$f":"IF(AND($AA30<6,N30<>\"\",O30<>\"\"),ort($N30,$O30,$AY$4:$AZ$5),\"\")","v":""},{"$f":"IF(AND($AA30<6,N30<>\"\",O30<>\"\"),ort($N30,$O30,$AY$6:$AZ$7),\"\")","v":""},{"$f":"IF(AND($AA30=6,N30<>\"\",O30<>\"\"),ort($N30,$O30,$AY$8:$AZ$8),\"\")","v":""},{"$f":"IF(AND($AA30=7,N30<>\"\",O30<>\"\"),ort($N30,$O30,$AY$9:$AZ$9),\"\")","v":""},{"$f":"IF(AND($AA30<6,P30<>\"\",Q30<>\"\"),ort($P30,$Q30,$AY$3:$AZ$3),\"\")","v":""},{"$f":"IF(AND($AA30<6,P30<>\"\",Q30<>\"\"),ort($P30,$Q30,$AY$4:$AZ$5),\"\")","v":""},{"$f":"IF(AND($AA30<6,P30<>\"\",Q30<>\"\"),ort($P30,$Q30,$AY$6:$AZ$7),\"\")","v":""},{"$f":"IF(AND($AA30=6,P30<>\"\",Q30<>\"\"),ort($P30,$Q30,$AY$8:$AZ$8),\"\")","v":""},{"$f":"IF(AND($AA30=7,P30<>\"\",Q30<>\"\"),ort($P30,$Q30,$AY$9:$AZ$9),\"\")","v":""},{"$f":"IF(AND($AA30<6,R30<>\"\",S30<>\"\"),ort($R30,$S30,$AY$3:$AZ$3),\"\")","v":""},{"$f":"IF(AND($AA30<6,R30<>\"\",S30<>\"\"),ort($R30,$S30,$AY$4:$AZ$5),\"\")","v":""},{"$f":"IF(AND($AA30<6,R30<>\"\",S30<>\"\"),ort($R30,$S30,$AY$6:$AZ$7),\"\")","v":""},{"$f":"IF(AND($AA30=6,R30<>\"\",S30<>\"\"),ort($R30,$S30,$AY$8:$AZ$8),\"\")","v":""},{"$f":"IF(AND($AA30=7,R30<>\"\",S30<>\"\"),ort($R30,$S30,$AY$9:$AZ$9),\"\")","v":""},{"$f":"IF(AND($AA30<6,T30<>\"\",U30<>\"\"),ort($T30,$U30,$AY$3:$AZ$3),\"\")","v":""},{"$f":"IF(AND($AA30<6,T30<>\"\",U30<>\"\"),ort($T30,$U30,$AY$4:$AZ$5),\"\")","v":""},{"$f":"IF(AND($AA30<6,T30<>\"\",U30<>\"\"),ort($T30,$U30,$AY$6:$AZ$7),\"\")","v":""},{"$f":"IF(AND($AA30=6,T30<>\"\",U30<>\"\"),ort($T30,$U30,$AY$8:$AZ$8),\"\")","v":""},{"$f":"IF(AND($AA30=7,T30<>\"\",U30<>\"\"),ort($T30,$U30,$AY$9:$AZ$9),\"\")","v":""},null,null,null,null,null,null,null,null,null,"00:00:00"]
[null,null,null,null,null,null,null,null,null,"",{"$f":"IF(L31=\"\",\"\",IF(WEEKDAY(L31)=2,1+INT((L31-DATE(YEAR(L31+4-WEEKDAY(L31+6)),1,5)+WEEKDAY(DATE(YEAR(L31+4-WEEKDAY(L31+6)),1,3)))/7),\"\"))","v":""},{"$f":"IF(MONTH(L$30+1)<>MONTH(L$30),\"\",L$30+1)","v":"2018-11-29"},{"$f":"IF(MONTH(M$30+1)<>MONTH(M$30),\"\",M$30+1)","v":"2018-11-29"},null,"00:00:00",null,null,null,null,null,null,"","","","","",{"$f":"IF(ISERROR(IF(NOT(ISERROR(MATCH($M31,Blad2!$A$2:$A$11,0))),7,WEEKDAY($M31,2))),\"\",IF(NOT(ISERROR(MATCH($M31,Blad2!$A$2:$A$11,0))),7,WEEKDAY($M31,2)))","v":4},{"$f":"IF(AND($AA31<6,N31<>\"\",O31<>\"\"),ort($N31,$O31,$AY$3:$AZ$3),\"\")","v":""},{"$f":"IF(AND($AA31<6,N31<>\"\",O31<>\"\"),ort($N31,$O31,$AY$4:$AZ$5),\"\")","v":""},{"$f":"IF(AND($AA31<6,N31<>\"\",O31<>\"\"),ort($N31,$O31,$AY$6:$AZ$7),\"\")","v":""},{"$f":"IF(AND($AA31=6,N31<>\"\",O31<>\"\"),ort($N31,$O31,$AY$8:$AZ$8),\"\")","v":""},{"$f":"IF(AND($AA31=7,N31<>\"\",O31<>\"\"),ort($N31,$O31,$AY$9:$AZ$9),\"\")","v":""},{"$f":"IF(AND($AA31<6,P31<>\"\",Q31<>\"\"),ort($P31,$Q31,$AY$3:$AZ$3),\"\")","v":""},{"$f":"IF(AND($AA31<6,P31<>\"\",Q31<>\"\"),ort($P31,$Q31,$AY$4:$AZ$5),\"\")","v":""},{"$f":"IF(AND($AA31<6,P31<>\"\",Q31<>\"\"),ort($P31,$Q31,$AY$6:$AZ$7),\"\")","v":""},{"$f":"IF(AND($AA31=6,P31<>\"\",Q31<>\"\"),ort($P31,$Q31,$AY$8:$AZ$8),\"\")","v":""},{"$f":"IF(AND($AA31=7,P31<>\"\",Q31<>\"\"),ort($P31,$Q31,$AY$9:$AZ$9),\"\")","v":""},{"$f":"IF(AND($AA31<6,R31<>\"\",S31<>\"\"),ort($R31,$S31,$AY$3:$AZ$3),\"\")","v":""},{"$f":"IF(AND($AA31<6,R31<>\"\",S31<>\"\"),ort($R31,$S31,$AY$4:$AZ$5),\"\")","v":""},{"$f":"IF(AND($AA31<6,R31<>\"\",S31<>\"\"),ort($R31,$S31,$AY$6:$AZ$7),\"\")","v":""},{"$f":"IF(AND($AA31=6,R31<>\"\",S31<>\"\"),ort($R31,$S31,$AY$8:$AZ$8),\"\")","v":""},{"$f":"IF(AND($AA31=7,R31<>\"\",S31<>\"\"),ort($R31,$S31,$AY$9:$AZ$9),\"\")","v":""},{"$f":"IF(AND($AA31<6,T31<>\"\",U31<>\"\"),ort($T31,$U31,$AY$3:$AZ$3),\"\")","v":""},{"$f":"IF(AND($AA31<6,T31<>\"\",U31<>\"\"),ort($T31,$U31,$AY$4:$AZ$5),\"\")","v":""},{"$f":"IF(AND($AA31<6,T31<>\"\",U31<>\"\"),ort($T31,$U31,$AY$6:$AZ$7),\"\")","v":""},{"$f":"IF(AND($AA31=6,T31<>\"\",U31<>\"\"),ort($T31,$U31,$AY$8:$AZ$8),\"\")","v":""},{"$f":"IF(AND($AA31=7,T31<>\"\",U31<>\"\"),ort($T31,$U31,$AY$9:$AZ$9),\"\")","v":""},null,null,null,null,null,null,null,null,null,"00:00:00"]
[null,"Totaal Uren incl 150 %",null,null,null,null,null,null,null,"","",{"$f":"IF(L31=\"\",\"\",IF(MONTH($M31+1)<>MONTH($M31),\"\",$M31+1))","v":"2018-11-30"},{"$f":"IF(M31=\"\",\"\",IF(MONTH($M31+1)<>MONTH($M31),\"\",$M31+1))","v":"2018-11-30"},null,"00:00:00",null,null,null,null,null,null,"","","","","",{"$f":"IF(ISERROR(IF(NOT(ISERROR(MATCH($M32,Blad2!$A$2:$A$11,0))),7,WEEKDAY($M32,2))),\"\",IF(NOT(ISERROR(MATCH($M32,Blad2!$A$2:$A$11,0))),7,WEEKDAY($M32,2)))","v":5},{"$f":"IF(AND($AA32<6,N32<>\"\",O32<>\"\"),ort($N32,$O32,$AY$3:$AZ$3),\"\")","v":""},{"$f":"IF(AND($AA32<6,N32<>\"\",O32<>\"\"),ort($N32,$O32,$AY$4:$AZ$5),\"\")","v":""},{"$f":"IF(AND($AA32<6,N32<>\"\",O32<>\"\"),ort($N32,$O32,$AY$6:$AZ$7),\"\")","v":""},{"$f":"IF(AND($AA32=6,N32<>\"\",O32<>\"\"),ort($N32,$O32,$AY$8:$AZ$8),\"\")","v":""},{"$f":"IF(AND($AA32=7,N32<>\"\",O32<>\"\"),ort($N32,$O32,$AY$9:$AZ$9),\"\")","v":""},{"$f":"IF(AND($AA32<6,P32<>\"\",Q32<>\"\"),ort($P32,$Q32,$AY$3:$AZ$3),\"\")","v":""},{"$f":"IF(AND($AA32<6,P32<>\"\",Q32<>\"\"),ort($P32,$Q32,$AY$4:$AZ$5),\"\")","v":""},{"$f":"IF(AND($AA32<6,P32<>\"\",Q32<>\"\"),ort($P32,$Q32,$AY$6:$AZ$7),\"\")","v":""},{"$f":"IF(AND($AA32=6,P32<>\"\",Q32<>\"\"),ort($P32,$Q32,$AY$8:$AZ$8),\"\")","v":""},{"$f":"IF(AND($AA32=7,P32<>\"\",Q32<>\"\"),ort($P32,$Q32,$AY$9:$AZ$9),\"\")","v":""},{"$f":"IF(AND($AA32<6,R32<>\"\",S32<>\"\"),ort($R32,$S32,$AY$3:$AZ$3),\"\")","v":""},{"$f":"IF(AND($AA32<6,R32<>\"\",S32<>\"\"),ort($R32,$S32,$AY$4:$AZ$5),\"\")","v":""},{"$f":"IF(AND($AA32<6,R32<>\"\",S32<>\"\"),ort($R32,$S32,$AY$6:$AZ$7),\"\")","v":""},{"$f":"IF(AND($AA32=6,R32<>\"\",S32<>\"\"),ort($R32,$S32,$AY$8:$AZ$8),\"\")","v":""},{"$f":"IF(AND($AA32=7,R32<>\"\",S32<>\"\"),ort($R32,$S32,$AY$9:$AZ$9),\"\")","v":""},{"$f":"IF(AND($AA32<6,T32<>\"\",U32<>\"\"),ort($T32,$U32,$AY$3:$AZ$3),\"\")","v":""},{"$f":"IF(AND($AA32<6,T32<>\"\",U32<>\"\"),ort($T32,$U32,$AY$4:$AZ$5),\"\")","v":""},{"$f":"IF(AND($AA32<6,T32<>\"\",U32<>\"\"),ort($T32,$U32,$AY$6:$AZ$7),\"\")","v":""},{"$f":"IF(AND($AA32=6,T32<>\"\",U32<>\"\"),ort($T32,$U32,$AY$8:$AZ$8),\"\")","v":""},{"$f":"IF(AND($AA32=7,T32<>\"\",U32<>\"\"),ort($T32,$U32,$AY$9:$AZ$9),\"\")","v":""},null,null,null,null,null,null,null,null,null,"00:00:00"]
[null,{"$f":"SUM(U36,W37)","v":0},null,null,null,null,null,null,null,"",{"$f":"IF(L33=\"\",\"\",IF(WEEKDAY(L33)=2,1+INT((L33-DATE(YEAR(L33+4-WEEKDAY(L33+6)),1,5)+WEEKDAY(DATE(YEAR(L33+4-WEEKDAY(L33+6)),1,3)))/7),\"\"))","v":""},{"$f":"IF(L32=\"\",\"\",IF(MONTH($M32+1)<>MONTH($M32),\"\",$M32+1))","v":""},{"$f":"IF(M32=\"\",\"\",IF(MONTH($M32+1)<>MONTH($M32),\"\",$M32+1))","v":""},null,"00:00:00",null,null,null,null,null,null,"","","","","",{"$f":"IF(ISERROR(IF(NOT(ISERROR(MATCH($M33,Blad2!$A$2:$A$11,0))),7,WEEKDAY($M33,2))),\"\",IF(NOT(ISERROR(MATCH($M33,Blad2!$A$2:$A$11,0))),7,WEEKDAY($M33,2)))","v":""},{"$f":"IF(AND($AA33<6,N33<>\"\",O33<>\"\"),ort($N33,$O33,$AY$3:$AZ$3),\"\")","v":""},{"$f":"IF(AND($AA33<6,N33<>\"\",O33<>\"\"),ort($N33,$O33,$AY$4:$AZ$5),\"\")","v":""},{"$f":"IF(AND($AA33<6,N33<>\"\",O33<>\"\"),ort($N33,$O33,$AY$6:$AZ$7),\"\")","v":""},{"$f":"IF(AND($AA33=6,N33<>\"\",O33<>\"\"),ort($N33,$O33,$AY$8:$AZ$8),\"\")","v":""},{"$f":"IF(AND($AA33=7,N33<>\"\",O33<>\"\"),ort($N33,$O33,$AY$9:$AZ$9),\"\")","v":""},{"$f":"IF(AND($AA33<6,P33<>\"\",Q33<>\"\"),ort($P33,$Q33,$AY$3:$AZ$3),\"\")","v":""},{"$f":"IF(AND($AA33<6,P33<>\"\",Q33<>\"\"),ort($P33,$Q33,$AY$4:$AZ$5),\"\")","v":""},{"$f":"IF(AND($AA33<6,P33<>\"\",Q33<>\"\"),ort($P33,$Q33,$AY$6:$AZ$7),\"\")","v":""},{"$f":"IF(AND($AA33=6,P33<>\"\",Q33<>\"\"),ort($P33,$Q33,$AY$8:$AZ$8),\"\")","v":""},{"$f":"IF(AND($AA33=7,P33<>\"\",Q33<>\"\"),ort($P33,$Q33,$AY$9:$AZ$9),\"\")","v":""},{"$f":"IF(AND($AA33<6,R33<>\"\",S33<>\"\"),ort($R33,$S33,$AY$3:$AZ$3),\"\")","v":""},{"$f":"IF(AND($AA33<6,R33<>\"\",S33<>\"\"),ort($R33,$S33,$AY$4:$AZ$5),\"\")","v":""},{"$f":"IF(AND($AA33<6,R33<>\"\",S33<>\"\"),ort($R33,$S33,$AY$6:$AZ$7),\"\")","v":""},{"$f":"IF(AND($AA33=6,R33<>\"\",S33<>\"\"),ort($R33,$S33,$AY$8:$AZ$8),\"\")","v":""},{"$f":"IF(AND($AA33=7,R33<>\"\",S33<>\"\"),ort($R33,$S33,$AY$9:$AZ$9),\"\")","v":""},{"$f":"IF(AND($AA33<6,T33<>\"\",U33<>\"\"),ort($T33,$U33,$AY$3:$AZ$3),\"\")","v":""},{"$f":"IF(AND($AA33<6,T33<>\"\",U33<>\"\"),ort($T33,$U33,$AY$4:$AZ$5),\"\")","v":""},{"$f":"IF(AND($AA33<6,T33<>\"\",U33<>\"\"),ort($T33,$U33,$AY$6:$AZ$7),\"\")","v":""},{"$f":"IF(AND($AA33=6,T33<>\"\",U33<>\"\"),ort($T33,$U33,$AY$8:$AZ$8),\"\")","v":""},{"$f":"IF(AND($AA33=7,T33<>\"\",U33<>\"\"),ort($T33,$U33,$AY$9:$AZ$9),\"\")","v":""},null,null,null,null,null,null,null,null,null,"00:00:00"]
[null,null,null,null,null,null,null,null,null,null,null,null,null,null,null,null,null,null,null,null,null,null,{"$f":"SUM(W3:W33)","v":0},{"$f":"SUM(X3:X33)","v":0},0,0]
[null,null,null,null,null,null,null,null,null,null,null,null,"Plus / Min Uren Incl 150 % Uren",null,null,null,null,null,"Contract Uren",null,{"$f":"SUM(B17)","v":3.75}]
[null,null,null,null,null,null,null,null,null,null,null,null,{"$f":"SUM(B33-B17)","v":-3.75},null,null,5,null,"Gewerkte Uren 100 %",null,null,{"$f":"SUM(W34:X34)","v":0}]
[null,null,null,null,null,null,null,null,null,null,null,null,"Uitbetalen / Verlof",null,null,{"$f":"SUM(M36*P36)*24","v":-450},null,"Gewerkte Uren 150 %",null,null,{"$f":"SUM(Y34)","v":0},"X 150%",{"$f":"SUM(U37*150%)","v":0}]
[null,null,null,null,null,null,null,null,null,null,null,null,null,null,null,null,null,null,"Plus Uren"]
[null,null,null,null,null,null,null,null,null,null,null,null,null,null,null,null,null,null,"Min Uren"]

{"sheet":"December","index":11,"n_rows":39,"n_cols":57,"rows_kept":39,"cut":false,"hidden":false,"merged":[[38,18,38,19],[37,18,37,19],[1,48,1,51],[2,3,2,7],[3,2,3,8],[19,1,19,8],[13,1,13,8],[15,1,15,8],[16,1,16,8],[18,1,18,8],[12,1,12,8],[36,12,36,14],[36,15,36,16],[36,17,36,19],[0,14,0,21],[1,2,1,8],[34,12,34,16],[35,12,35,14],[35,15,35,16],[31,1,31,8],[32,1,32,8],[34,18,34,19],[35,17,35,19]]}
[null,null,null,null,null,null,null,null,null,null,null,null,null,null,"Test"]
[null,null,{"$f":"TODAY()","v":"2018-03-21"},null,null,null,null,null,null,"Feestdag","wknr","dag","datum","tijd in","tijd uit","tijd in","tijd uit","tijd in","tijd uit","tijd in","tijd uit","werk\ntijd",1,1.25,1.5,2,"hulp",1,1.25,1.5,1.5,2,1,1.25,1.5,1.5,2,1,1.25,1.5,1.5,2,1,1.25,1.5,1.5,2,null,"onregelmatigheidstoeslag",null,null,null,null,"Stops","Laden","Lossen","Werktijd"]
[null,2018," ","Kalender",null,null,null,null,null,{"$f":"IF(ISNA(VLOOKUP(M3,feestdagen,2,0)),\"\",VLOOKUP(M3,feestdagen,2,0))","v":""},{"$f":"WEEKNUM(L3,21)","v":48},{"$f":"DATE($B$3,$B$4,1)","v":"2018-12-01"},{"$f":"DATE($B$3,$B$4,1)","v":"2018-12-01"},null,{"$f":"SUM(N3,BE3)","v":"00:00:00"},null,null,null,null,null,null,{"$f":"IF(AND(W3=\"\",X3=\"\",Y3=\"\",Z3=\"\"),\"\",SUM(W3:Z3))","v":""},{"$f":"IF(AND(AB3=\"\",AG3=\"\",AL3=\"\",AQ3=\"\"),\"\",SUM(AB3,AG3,AL3,AQ3))","v":""},{"$f":"IF(AND(AC3=\"\",AH3=\"\",AM3=\"\",AR3=\"\"),\"\",SUM(AC3,AH3,AM3,AR3))","v":""},{"$f":"IF(AND(AD3=\"\",AE3=\"\",AI3=\"\",AJ3=\"\",AN3=\"\",AO3=\"\",AS3=\"\",AT3=\"\"),\"\",SUM(AD3,AE3,AI3,AJ3,AN3,AO3,AS3,AT3))","v":""},{"$f":"IF(AND(AF3=\"\",AK3=\"\",AP3=\"\",AU3=\"\"),\"\",SUM(AF3,AK3,AP3,AU3))","v":""},{"$f":"IF(ISERROR(IF(NOT(ISERROR(MATCH($M3,Blad2!$A$2:$A$11,0))),7,WEEKDAY($M3,2))),\"\",IF(NOT(ISERROR(MATCH($M3,Blad2!$A$2:$A$11,0))),7,WEEKDAY($M3,2)))","v":6},{"$f":"IF(AND($AA3<6,N3<>\"\",O3<>\"\"),ort($N3,$O3,$AY$3:$AZ$3),\"\")","v":""},{"$f":"IF(AND($AA3<6,N3<>\"\",O3<>\"\"),ort($N3,$O3,$AY$4:$AZ$5),\"\")","v":""},{"$f":"IF(AND($AA3<6,N3<>\"\",O3<>\"\"),ort($N3,$O3,$AY$6:$AZ$7),\"\")","v":""},{"$f":"IF(AND($AA3=6,N3<>\"\",O3<>\"\"),ort($N3,$O3,$AY$8:$AZ$8),\"\")","v":""},{"$f":"IF(AND($AA3=7,N3<>\"\",O3<>\"\"),ort($N3,$O3,$AY$9:$AZ$9),\"\")","v":""},{"$f":"IF(AND($AA3<6,P3<>\"\",Q3<>\"\"),ort($P3,$Q3,$AY$3:$AZ$3),\"\")","v":""},{"$f":"IF(AND($AA3<6,P3<>\"\",Q3<>\"\"),ort($P3,$Q3,$AY$4:$AZ$5),\"\")","v":""},{"$f":"IF(AND($AA3<6,P3<>\"\",Q3<>\"\"),ort($P3,$Q3,$AY$6:$AZ$7),\"\")","v":""},{"$f":"IF(AND($AA3=6,P3<>\"\",Q3<>\"\"),ort($P3,$Q3,$AY$8:$AZ$8),\"\")","v":""},{"$f":"IF(AND($AA3=7,P3<>\"\",Q3<>\"\"),ort($P3,$Q3,$AY$9:$AZ$9),\"\")","v":""},{"$f":"IF(AND($AA3<6,R3<>\"\",S3<>\"\"),ort($R3,$S3,$AY$3:$AZ$3),\"\")","v":""},{"$f":"IF(AND($AA3<6,R3<>\"\",S3<>\"\"),ort($R3,$S3,$AY$4:$AZ$5),\"\")","v":""},{"$f":"IF(AND($AA3<6,R3<>\"\",S3<>\"\"),ort($R3,$S3,$AY$6:$AZ$7),\"\")","v":""},{"$f":"IF(AND($AA3=6,R3<>\"\",S3<>\"\"),ort($R3,$S3,$AY$8:$AZ$8),\"\")","v":""},{"$f":"IF(AND($AA3=7,R3<>\"\",S3<>\"\"),ort($R3,$S3,$AY$9:$AZ$9),\"\")","v":""},{"$f":"IF(AND($AA3<6,T3<>\"\",U3<>\"\"),ort($T3,$U3,$AY$3:$AZ$3),\"\")","v":""},{"$f":"IF(AND($AA3<6,T3<>\"\",U3<>\"\"),ort($T3,$U3,$AY$4:$AZ$5),\"\")","v":""},{"$f":"IF(AND($AA3<6,T3<>\"\",U3<>\"\"),ort($T3,$U3,$AY$6:$AZ$7),\"\")","v":""},{"$f":"IF(AND($AA3=6,T3<>\"\",U3<>\"\"),ort($T3,$U3,$AY$8:$AZ$8),\"\")","v":""},{"$f":"IF(AND($AA3=7,T3<>\"\",U3<>\"\"),ort($T3,$U3,$AY$9:$AZ$9),\"\")","v":""},null,1,"m-vr",0.39583333333333331,0.72916666666666663,null,null,null,null,{"$f":"SUM(BB3/20/24,BC3:BD3)","v":"00:00:00"}]
[null,12,{"$f":"DATE(B3,B4,1)","v":"2018-12-01"},null,null,null,null,null,null,"",{"$f":"IF(WEEKDAY(L4)=2,1+INT((L4-DATE(YEAR(L4+4-WEEKDAY(L4+6)),1,5)+WEEKDAY(DATE(YEAR(L4+4-WEEKDAY(L4+6)),1,3)))/7),\"\")","v":""},{"$f":"DATE($B$3,$B$4,2)","v":"2018-12-02"},{"$f":"DATE($B$3,$B$4,2)","v":"2018-12-02"},null,{"$f":"SUM(N4,BE4)","v":"00:00:00"},null,null,null,null,null,null,{"$f":"IF(AND(W4=\"\",X4=\"\",Y4=\"\",Z4=\"\"),\"\",SUM(W4:Z4))","v":""},{"$f":"IF(AND(AB4=\"\",AG4=\"\",AL4=\"\",AQ4=\"\"),\"\",SUM(AB4,AG4,AL4,AQ4))","v":""},{"$f":"IF(AND(AC4=\"\",AH4=\"\",AM4=\"\",AR4=\"\"),\"\",SUM(AC4,AH4,AM4,AR4))","v":""},{"$f":"IF(AND(AD4=\"\",AE4=\"\",AI4=\"\",AJ4=\"\",AN4=\"\",AO4=\"\",AS4=\"\",AT4=\"\"),\"\",SUM(AD4,AE4,AI4,AJ4,AN4,AO4,AS4,AT4))","v":""},{"$f":"IF(AND(AF4=\"\",AK4=\"\",AP4=\"\",AU4=\"\"),\"\",SUM(AF4,AK4,AP4,AU4))","v":""},{"$f":"IF(ISERROR(IF(NOT(ISERROR(MATCH($M4,Blad2!$A$2:$A$11,0))),7,WEEKDAY($M4,2))),\"\",IF(NOT(ISERROR(MATCH($M4,Blad2!$A$2:$A$11,0))),7,WEEKDAY($M4,2)))","v":7},{"$f":"IF(AND($AA4<6,N4<>\"\",O4<>\"\"),ort($N4,$O4,$AY$3:$AZ$3),\"\")","v":""},{"$f":"IF(AND($AA4<6,N4<>\"\",O4<>\"\"),ort($N4,$O4,$AY$4:$AZ$5),\"\")","v":""},{"$f":"IF(AND($AA4<6,N4<>\"\",O4<>\"\"),ort($N4,$O4,$AY$6:$AZ$7),\"\")","v":""},{"$f":"IF(AND($AA4=6,N4<>\"\",O4<>\"\"),ort($N4,$O4,$AY$8:$AZ$8),\"\")","v":""},{"$f":"IF(AND($AA4=7,N4<>\"\",O4<>\"\"),ort($N4,$O4,$AY$9:$AZ$9),\"\")","v":""},{"$f":"IF(AND($AA4<6,P4<>\"\",Q4<>\"\"),ort($P4,$Q4,$AY$3:$AZ$3),\"\")","v":""},{"$f":"IF(AND($AA4<6,P4<>\"\",Q4<>\"\"),ort($P4,$Q4,$AY$4:$AZ$5),\"\")","v":""},{"$f":"IF(AND($AA4<6,P4<>\"\",Q4<>\"\"),ort($P4,$Q4,$AY$6:$AZ$7),\"\")","v":""},{"$f":"IF(AND($AA4=6,P4<>\"\",Q4<>\"\"),ort($P4,$Q4,$AY$8:$AZ$8),\"\")","v":""},{"$f":"IF(AND($AA4=7,P4<>\"\",Q4<>\"\"),ort($P4,$Q4,$AY$9:$AZ$9),\"\")","v":""},{"$f":"IF(AND($AA4<6,R4<>\"\",S4<>\"\"),ort($R4,$S4,$AY$3:$AZ$3),\"\")","v":""},{"$f":"IF(AND($AA4<6,R4<>\"\",S4<>\"\"),ort($R4,$S4,$AY$4:$AZ$5),\"\")","v":""},{"$f":"IF(AND($AA4<6,R4<>\"\",S4<>\"\"),ort($R4,$S4,$AY$6:$AZ$7),\"\")","v":""},{"$f":"IF(AND($AA4=6,R4<>\"\",S4<>\"\"),ort($R4,$S4,$AY$8:$AZ$8),\"\")","v":""},{"$f":"IF(AND($AA4=7,R4<>\"\",S4<>\"\"),ort($R4,$S4,$AY$9:$AZ$9),\"\")","v":""},{"$f":"IF(AND($AA4<6,T4<>\"\",U4<>\"\"),ort($T4,$U4,$AY$3:$AZ$3),\"\")","v":""},{"$f":"IF(AND($AA4<6,T4<>\"\",U4<>\"\"),ort($T4,$U4,$AY$4:$AZ$5),\"\")","v":""},{"$f":"IF(AND($AA4<6,T4<>\"\",U4<>\"\"),ort($T4,$U4,$AY$6:$AZ$7),\"\")","v":""},{"$f":"IF(AND($AA4=6,T4<>\"\",U4<>\"\"),ort($T4,$U4,$AY$8:$AZ$8),\"\")","v":""},{"$f":"IF(AND($AA4=7,T4<>\"\",U4<>\"\"),ort($T4,$U4,$AY$9:$AZ$9),\"\")","v":""},null,1.25,"m-vr",0.25,0.3125,null,null,null,null,{"$f":"SUM(BB4/20/24,BC4:BD4)","v":"00:00:00"}]
[null,null,"Ma","Di","Wo","Do","Vr","Za","Zo","",49,{"$f":"DATE($B$3,$B$4,3)","v":"2018-12-03"},{"$f":"DATE($B$3,$B$4,3)","v":"2018-12-03"},null,"00:00:00",null,null,null,null,null,null,"",{"$f":"IF(AND(AB5=\"\",AG5=\"\",AL5=\"\",AQ5=\"\"),\"\",SUM(AB5,AG5,AL5,AQ5))","v":""},"",{"$f":"IF(AND(AD5=\"\",AE5=\"\",AI5=\"\",AJ5=\"\",AN5=\"\",AO5=\"\",AS5=\"\",AT5=\"\"),\"\",SUM(AD5,AE5,AI5,AJ5,AN5,AO5,AS5,AT5))","v":""},{"$f":"IF(AND(AF5=\"\",AK5=\"\",AP5=\"\",AU5=\"\"),\"\",SUM(AF5,AK5,AP5,AU5))","v":""},{"$f":"IF(ISERROR(IF(NOT(ISERROR(MATCH($M5,Blad2!$A$2:$A$11,0))),7,WEEKDAY($M5,2))),\"\",IF(NOT(ISERROR(MATCH($M5,Blad2!$A$2:$A$11,0))),7,WEEKDAY($M5,2)))","v":1},{"$f":"IF(AND($AA5<6,N5<>\"\",O5<>\"\"),ort($N5,$O5,$AY$3:$AZ$3),\"\")","v":""},{"$f":"IF(AND($AA5<6,N5<>\"\",O5<>\"\"),ort($N5,$O5,$AY$4:$AZ$5),\"\")","v":""},{"$f":"IF(AND($AA5<6,N5<>\"\",O5<>\"\"),ort($N5,$O5,$AY$6:$AZ$7),\"\")","v":""},{"$f":"IF(AND($AA5=6,N5<>\"\",O5<>\"\"),ort($N5,$O5,$AY$8:$AZ$8),\"\")","v":""},{"$f":"IF(AND($AA5=7,N5<>\"\",O5<>\"\"),ort($N5,$O5,$AY$9:$AZ$9),\"\")","v":""},{"$f":"IF(AND($AA5<6,P5<>\"\",Q5<>\"\"),ort($P5,$Q5,$AY$3:$AZ$3),\"\")","v":""},{"$f":"IF(AND($AA5<6,P5<>\"\",Q5<>\"\"),ort($P5,$Q5,$AY$4:$AZ$5),\"\")","v":""},{"$f":"IF(AND($AA5<6,P5<>\"\",Q5<>\"\"),ort($P5,$Q5,$AY$6:$AZ$7),\"\")","v":""},{"$f":"IF(AND($AA5=6,P5<>\"\",Q5<>\"\"),ort($P5,$Q5,$AY$8:$AZ$8),\"\")","v":""},{"$f":"IF(AND($AA5=7,P5<>\"\",Q5<>\"\"),ort($P5,$Q5,$AY$9:$AZ$9),\"\")","v":""},{"$f":"IF(AND($AA5<6,R5<>\"\",S5<>\"\"),ort($R5,$S5,$AY$3:$AZ$3),\"\")","v":""},{"$f":"IF(AND($AA5<6,R5<>\"\",S5<>\"\"),ort($R5,$S5,$AY$4:$AZ$5),\"\")","v":""},{"$f":"IF(AND($AA5<6,R5<>\"\",S5<>\"\"),ort($R5,$S5,$AY$6:$AZ$7),\"\")","v":""},{"$f":"IF(AND($AA5=6,R5<>\"\",S5<>\"\"),ort($R5,$S5,$AY$8:$AZ$8),\"\")","v":""},{"$f":"IF(AND($AA5=7,R5<>\"\",S5<>\"\"),ort($R5,$S5,$AY$9:$AZ$9),\"\")","v":""},{"$f":"IF(AND($AA5<6,T5<>\"\",U5<>\"\"),ort($T5,$U5,$AY$3:$AZ$3),\"\")","v":""},{"$f":"IF(AND($AA5<6,T5<>\"\",U5<>\"\"),ort($T5,$U5,$AY$4:$AZ$5),\"\")","v":""},{"$f":"IF(AND($AA5<6,T5<>\"\",U5<>\"\"),ort($T5,$U5,$AY$6:$AZ$7),\"\")","v":""},{"$f":"IF(AND($AA5=6,T5<>\"\",U5<>\"\"),ort($T5,$U5,$AY$8:$AZ$8),\"\")","v":""},{"$f":"IF(AND($AA5=7,T5<>\"\",U5<>\"\"),ort($T5,$U5,$AY$9:$AZ$9),\"\")","v":""},null,1.25,"m-vr",0.72916666666666663,0.77083333333333337,null,null,null,null,"00:00:00"]
[null,null,{"$f":"IF(WEEKDAY(C4,2)=1,C4,\"\")","v":""},{"$f":"IF(WEEKDAY(C4,2)=2,C4,IF(C6<>\"\",C6+1,\"\"))","v":""},{"$f":"IF(WEEKDAY(C4,2)=3,C4,IF(D6<>\"\",D6+1,\"\"))","v":""},{"$f":"IF(WEEKDAY(C4,2)=4,C4,IF(E6<>\"\",E6+1,\"\"))","v":""},{"$f":"IF(WEEKDAY(C4,2)=5,C4,IF(F6<>\"\",F6+1,\"\"))","v":""},{"$f":"IF(WEEKDAY(C4,2)=6,C4,IF(G6<>\"\",G6+1,\"\"))","v":"2018-12-01"},{"$f":"IF(WEEKDAY(C4,2)=7,C4,IF(H6<>\"\",H6+1,\"\"))","v":"2018-12-02"},"","",{"$f":"DATE($B$3,$B$4,4)","v":"2018-12-04"},{"$f":"DATE($B$3,$B$4,4)","v":"2018-12-04"},null,"00:00:00",null,null,null,null,null,null,"","","","","",{"$f":"IF(ISERROR(IF(NOT(ISERROR(MATCH($M6,Blad2!$A$2:$A$11,0))),7,WEEKDAY($M6,2))),\"\",IF(NOT(ISERROR(MATCH($M6,Blad2!$A$2:$A$11,0))),7,WEEKDAY($M6,2)))","v":2},{"$f":"IF(AND($AA6<6,N6<>\"\",O6<>\"\"),ort($N6,$O6,$AY$3:$AZ$3),\"\")","v":""},{"$f":"IF(AND($AA6<6,N6<>\"\",O6<>\"\"),ort($N6,$O6,$AY$4:$AZ$5),\"\")","v":""},{"$f":"IF(AND($AA6<6,N6<>\"\",O6<>\"\"),ort($N6,$O6,$AY$6:$AZ$7),\"\")","v":""},{"$f":"IF(AND($AA6=6,N6<>\"\",O6<>\"\"),ort($N6,$O6,$AY$8:$AZ$8),\"\")","v":""},{"$f":"IF(AND($AA6=7,N6<>\"\",O6<>\"\"),ort($N6,$O6,$AY$9:$AZ$9),\"\")","v":""},{"$f":"IF(AND($AA6<6,P6<>\"\",Q6<>\"\"),ort($P6,$Q6,$AY$3:$AZ$3),\"\")","v":""},{"$f":"IF(AND($AA6<6,P6<>\"\",Q6<>\"\"),ort($P6,$Q6,$AY$4:$AZ$5),\"\")","v":""},{"$f":"IF(AND($AA6<6,P6<>\"\",Q6<>\"\"),ort($P6,$Q6,$AY$6:$AZ$7),\"\")","v":""},{"$f":"IF(AND($AA6=6,P6<>\"\",Q6<>\"\"),ort($P6,$Q6,$AY$8:$AZ$8),\"\")","v":""},{"$f":"IF(AND($AA6=7,P6<>\"\",Q6<>\"\"),ort($P6,$Q6,$AY$9:$AZ$9),\"\")","v":""},{"$f":"IF(AND($AA6<6,R6<>\"\",S6<>\"\"),ort($R6,$S6,$AY$3:$AZ$3),\"\")","v":""},{"$f":"IF(AND($AA6<6,R6<>\"\",S6<>\"\"),ort($R6,$S6,$AY$4:$AZ$5),\"\")","v":""},{"$f":"IF(AND($AA6<6,R6<>\"\",S6<>\"\"),ort($R6,$S6,$AY$6:$AZ$7),\"\")","v":""},{"$f":"IF(AND($AA6=6,R6<>\"\",S6<>\"\"),ort($R6,$S6,$AY$8:$AZ$8),\"\")","v":""},{"$f":"IF(AND($AA6=7,R6<>\"\",S6<>\"\"),ort($R6,$S6,$AY$9:$AZ$9),\"\")","v":""},{"$f":"IF(AND($AA6<6,T6<>\"\",U6<>\"\"),ort($T6,$U6,$AY$3:$AZ$3),\"\")","v":""},{"$f":"IF(AND($AA6<6,T6<>\"\",U6<>\"\"),ort($T6,$U6,$AY$4:$AZ$5),\"\")","v":""},{"$f":"IF(AND($AA6<6,T6<>\"\",U6<>\"\"),ort($T6,$U6,$AY$6:$AZ$7),\"\")","v":""},{"$f":"IF(AND($AA6=6,T6<>\"\",U6<>\"\"),ort($T6,$U6,$AY$8:$AZ$8),\"\")","v":""},{"$f":"IF(AND($AA6=7,T6<>\"\",U6<>\"\"),ort($T6,$U6,$AY$9:$AZ$9),\"\")","v":""},null,1.5,"m-vr",0,0.25,null,null,null,null,"00:00:00"]
[null,null,{"$f":"I6+1","v":"2018-12-03"},{"$f":"C7+1","v":"2018-12-04"},{"$f":"D7+1","v":"2018-12-05"},"2018-12-06","2018-12-07","2018-12-08","2018-12-09","","",{"$f":"DATE($B$3,$B$4,5)","v":"2018-12-05"},{"$f":"DATE($B$3,$B$4,5)","v":"2018-12-05"},null,"00:00:00",null,null,null,null,null,null,"","","","","",{"$f":"IF(ISERROR(IF(NOT(ISERROR(MATCH($M7,Blad2!$A$2:$A$11,0))),7,WEEKDAY($M7,2))),\"\",IF(NOT(ISERROR(MATCH($M7,Blad2!$A$2:$A$11,0))),7,WEEKDAY($M7,2)))","v":3},{"$f":"IF(AND($AA7<6,N7<>\"\",O7<>\"\"),ort($N7,$O7,$AY$3:$AZ$3),\"\")","v":""},{"$f":"IF(AND($AA7<6,N7<>\"\",O7<>\"\"),ort($N7,$O7,$AY$4:$AZ$5),\"\")","v":""},{"$f":"IF(AND($AA7<6,N7<>\"\",O7<>\"\"),ort($N7,$O7,$AY$6:$AZ$7),\"\")","v":""},{"$f":"IF(AND($AA7=6,N7<>\"\",O7<>\"\"),ort($N7,$O7,$AY$8:$AZ$8),\"\")","v":""},{"$f":"IF(AND($AA7=7,N7<>\"\",O7<>\"\"),ort($N7,$O7,$AY$9:$AZ$9),\"\")","v":""},{"$f":"IF(AND($AA7<6,P7<>\"\",Q7<>\"\"),ort($P7,$Q7,$AY$3:$AZ$3),\"\")","v":""},{"$f":"IF(AND($AA7<6,P7<>\"\",Q7<>\"\"),ort($P7,$Q7,$AY$4:$AZ$5),\"\")","v":""},{"$f":"IF(AND($AA7<6,P7<>\"\",Q7<>\"\"),ort($P7,$Q7,$AY$6:$AZ$7),\"\")","v":""},{"$f":"IF(AND($AA7=6,P7<>\"\",Q7<>\"\"),ort($P7,$Q7,$AY$8:$AZ$8),\"\")","v":""},{"$f":"IF(AND($AA7=7,P7<>\"\",Q7<>\"\"),ort($P7,$Q7,$AY$9:$AZ$9),\"\")","v":""},{"$f":"IF(AND($AA7<6,R7<>\"\",S7<>\"\"),ort($R7,$S7,$AY$3:$AZ$3),\"\")","v":""},{"$f":"IF(AND($AA7<6,R7<>\"\",S7<>\"\"),ort($R7,$S7,$AY$4:$AZ$5),\"\")","v":""},{"$f":"IF(AND($AA7<6,R7<>\"\",S7<>\"\"),ort($R7,$S7,$AY$6:$AZ$7),\"\")","v":""},{"$f":"IF(AND($AA7=6,R7<>\"\",S7<>\"\"),ort($R7,$S7,$AY$8:$AZ$8),\"\")","v":""},{"$f":"IF(AND($AA7=7,R7<>\"\",S7<>\"\"),ort($R7,$S7,$AY$9:$AZ$9),\"\")","v":""},{"$f":"IF(AND($AA7<6,T7<>\"\",U7<>\"\"),ort($T7,$U7,$AY$3:$AZ$3),\"\")","v":""},{"$f":"IF(AND($AA7<6,T7<>\"\",U7<>\"\"),ort($T7,$U7,$AY$4:$AZ$5),\"\")","v":""},{"$f":"IF(AND($AA7<6,T7<>\"\",U7<>\"\"),ort($T7,$U7,$AY$6:$AZ$7),\"\")","v":""},{"$f":"IF(AND($AA7=6,T7<>\"\",U7<>\"\"),ort($T7,$U7,$AY$8:$AZ$8),\"\")","v":""},{"$f":"IF(AND($AA7=7,T7<>\"\",U7<>\"\"),ort($T7,$U7,$AY$9:$AZ$9),\"\")","v":""},null,1.5,"m-vr",0.77083333333333337,1,null,null,null,null,{"$f":"SUM(BB7/18/24,BC7:BD7)","v":"00:00:00"}]
[null,null,{"$f":"I7+1","v":"2018-12-10"},{"$f":"C8+1","v":"2018-12-11"},"2018-12-12","2018-12-13","2018-12-14","2018-12-15","2018-12-16","","",{"$f":"DATE($B$3,$B$4,6)","v":"2018-12-06"},{"$f":"DATE($B$3,$B$4,6)","v":"2018-12-06"},null,"00:00:00",null,null,null,null,null,null,"","","","","",{"$f":"IF(ISERROR(IF(NOT(ISERROR(MATCH($M8,Blad2!$A$2:$A$11,0))),7,WEEKDAY($M8,2))),\"\",IF(NOT(ISERROR(MATCH($M8,Blad2!$A$2:$A$11,0))),7,WEEKDAY($M8,2)))","v":4},{"$f":"IF(AND($AA8<6,N8<>\"\",O8<>\"\"),ort($N8,$O8,$AY$3:$AZ$3),\"\")","v":""},{"$f":"IF(AND($AA8<6,N8<>\"\",O8<>\"\"),ort($N8,$O8,$AY$4:$AZ$5),\"\")","v":""},{"$f":"IF(AND($AA8<6,N8<>\"\",O8<>\"\"),ort($N8,$O8,$AY$6:$AZ$7),\"\")","v":""},{"$f":"IF(AND($AA8=6,N8<>\"\",O8<>\"\"),ort($N8,$O8,$AY$8:$AZ$8),\"\")","v":""},{"$f":"IF(AND($AA8=7,N8<>\"\",O8<>\"\"),ort($N8,$O8,$AY$9:$AZ$9),\"\")","v":""},{"$f":"IF(AND($AA8<6,P8<>\"\",Q8<>\"\"),ort($P8,$Q8,$AY$3:$AZ$3),\"\")","v":""},{"$f":"IF(AND($AA8<6,P8<>\"\",Q8<>\"\"),ort($P8,$Q8,$AY$4:$AZ$5),\"\")","v":""},{"$f":"IF(AND($AA8<6,P8<>\"\",Q8<>\"\"),ort($P8,$Q8,$AY$6:$AZ$7),\"\")","v":""},{"$f":"IF(AND($AA8=6,P8<>\"\",Q8<>\"\"),ort($P8,$Q8,$AY$8:$AZ$8),\"\")","v":""},{"$f":"IF(AND($AA8=7,P8<>\"\",Q8<>\"\"),ort($P8,$Q8,$AY$9:$AZ$9),\"\")","v":""},{"$f":"IF(AND($AA8<6,R8<>\"\",S8<>\"\"),ort($R8,$S8,$AY$3:$AZ$3),\"\")","v":""},{"$f":"IF(AND($AA8<6,R8<>\"\",S8<>\"\"),ort($R8,$S8,$AY$4:$AZ$5),\"\")","v":""},{"$f":"IF(AND($AA8<6,R8<>\"\",S8<>\"\"),ort($R8,$S8,$AY$6:$AZ$7),\"\")","v":""},{"$f":"IF(AND($AA8=6,R8<>\"\",S8<>\"\"),ort($R8,$S8,$AY$8:$AZ$8),\"\")","v":""},{"$f":"IF(AND($AA8=7,R8<>\"\",S8<>\"\"),ort($R8,$S8,$AY$9:$AZ$9),\"\")","v":""},{"$f":"IF(AND($AA8<6,T8<>\"\",U8<>\"\"),ort($T8,$U8,$AY$3:$AZ$3),\"\")","v":""},{"$f":"IF(AND($AA8<6,T8<>\"\",U8<>\"\"),ort($T8,$U8,$AY$4:$AZ$5),\"\")","v":""},{"$f":"IF(AND($AA8<6,T8<>\"\",U8<>\"\"),ort($T8,$U8,$AY$6:$AZ$7),\"\")","v":""},{"$f":"IF(AND($AA8=6,T8<>\"\",U8<>\"\"),ort($T8,$U8,$AY$8:$AZ$8),\"\")","v":""},{"$f":"IF(AND($AA8=7,T8<>\"\",U8<>\"\"),ort($T8,$U8,$AY$9:$AZ$9),\"\")","v":""},null,1.5,"za",0,1,null,null,null,null,{"$f":"SUM(BB8/19/24,BC8:BD8)","v":"00:00:00"}]
[null,null,{"$f":"I8+1","v":"2018-12-17"},{"$f":"C9+1","v":"2018-12-18"},"2018-12-19","2018-12-20","2018-12-21","2018-12-22","2018-12-23","","",{"$f":"DATE($B$3,$B$4,7)","v":"2018-12-07"},{"$f":"DATE($B$3,$B$4,7)","v":"2018-12-07"},null,"00:00:00",null,null,null,null,null,null,"","","","","",{"$f":"IF(ISERROR(IF(NOT(ISERROR(MATCH($M9,Blad2!$A$2:$A$11,0))),7,WEEKDAY($M9,2))),\"\",IF(NOT(ISERROR(MATCH($M9,Blad2!$A$2:$A$11,0))),7,WEEKDAY($M9,2)))","v":5},{"$f":"IF(AND($AA9<6,N9<>\"\",O9<>\"\"),ort($N9,$O9,$AY$3:$AZ$3),\"\")","v":""},{"$f":"IF(AND($AA9<6,N9<>\"\",O9<>\"\"),ort($N9,$O9,$AY$4:$AZ$5),\"\")","v":""},{"$f":"IF(AND($AA9<6,N9<>\"\",O9<>\"\"),ort($N9,$O9,$AY$6:$AZ$7),\"\")","v":""},{"$f":"IF(AND($AA9=6,N9<>\"\",O9<>\"\"),ort($N9,$O9,$AY$8:$AZ$8),\"\")","v":""},{"$f":"IF(AND($AA9=7,N9<>\"\",O9<>\"\"),ort($N9,$O9,$AY$9:$AZ$9),\"\")","v":""},{"$f":"IF(AND($AA9<6,P9<>\"\",Q9<>\"\"),ort($P9,$Q9,$AY$3:$AZ$3),\"\")","v":""},{"$f":"IF(AND($AA9<6,P9<>\"\",Q9<>\"\"),ort($P9,$Q9,$AY$4:$AZ$5),\"\")","v":""},{"$f":"IF(AND($AA9<6,P9<>\"\",Q9<>\"\"),ort($P9,$Q9,$AY$6:$AZ$7),\"\")","v":""},{"$f":"IF(AND($AA9=6,P9<>\"\",Q9<>\"\"),ort($P9,$Q9,$AY$8:$AZ$8),\"\")","v":""},{"$f":"IF(AND($AA9=7,P9<>\"\",Q9<>\"\"),ort($P9,$Q9,$AY$9:$AZ$9),\"\")","v":""},{"$f":"IF(AND($AA9<6,R9<>\"\",S9<>\"\"),ort($R9,$S9,$AY$3:$AZ$3),\"\")","v":""},{"$f":"IF(AND($AA9<6,R9<>\"\",S9<>\"\"),ort($R9,$S9,$AY$4:$AZ$5),\"\")","v":""},{"$f":"IF(AND($AA9<6,R9<>\"\",S9<>\"\"),ort($R9,$S9,$AY$6:$AZ$7),\"\")","v":""},{"$f":"IF(AND($AA9=6,R9<>\"\",S9<>\"\"),ort($R9,$S9,$AY$8:$AZ$8),\"\")","v":""},{"$f":"IF(AND($AA9=7,R9<>\"\",S9<>\"\"),ort($R9,$S9,$AY$9:$AZ$9),\"\")","v":""},{"$f":"IF(AND($AA9<6,T9<>\"\",U9<>\"\"),ort($T9,$U9,$AY$3:$AZ$3),\"\")","v":""},{"$f":"IF(AND($AA9<6,T9<>\"\",U9<>\"\"),ort($T9,$U9,$AY$4:$AZ$5),\"\")","v":""},{"$f":"IF(AND($AA9<6,T9<>\"\",U9<>\"\"),ort($T9,$U9,$AY$6:$AZ$7),\"\")","v":""},{"$f":"IF(AND($AA9=6,T9<>\"\",U9<>\"\"),ort($T9,$U9,$AY$8:$AZ$8),\"\")","v":""},{"$f":"IF(AND($AA9=7,T9<>\"\",U9<>\"\"),ort($T9,$U9,$AY$9:$AZ$9),\"\")","v":""},null,2,"zo/feest",0,1,null,null,null,null,{"$f":"SUM(BB9/19/24,BC9:BD9)","v":"00:00:00"}]
[null,null,{"$f":"IF(I9=\"\",\"\",IF(MONTH(I9+1)=MONTH(I9),I9+1,\"\"))","v":"2018-12-24"},{"$f":"IF(C10=\"\",\"\",IF(MONTH(C10+1)=MONTH(C10),C10+1,\"\"))","v":"2018-12-25"},{"$f":"IF(D10=\"\",\"\",IF(MONTH(D10+1)=MONTH(D10),D10+1,\"\"))","v":"2018-12-26"},"2018-12-27","2018-12-28","2018-12-29","2018-12-30","","",{"$f":"DATE($B$3,$B$4,8)","v":"2018-12-08"},{"$f":"DATE($B$3,$B$4,8)","v":"2018-12-08"},null,"00:00:00",null,null,null,null,null,null,"","","","","",{"$f":"IF(ISERROR(IF(NOT(ISERROR(MATCH($M10,Blad2!$A$2:$A$11,0))),7,WEEKDAY($M10,2))),\"\",IF(NOT(ISERROR(MATCH($M10,Blad2!$A$2:$A$11,0))),7,WEEKDAY($M10,2)))","v":6},{"$f":"IF(AND($AA10<6,N10<>\"\",O10<>\"\"),ort($N10,$O10,$AY$3:$AZ$3),\"\")","v":""},{"$f":"IF(AND($AA10<6,N10<>\"\",O10<>\"\"),ort($N10,$O10,$AY$4:$AZ$5),\"\")","v":""},{"$f":"IF(AND($AA10<6,N10<>\"\",O10<>\"\"),ort($N10,$O10,$AY$6:$AZ$7),\"\")","v":""},{"$f":"IF(AND($AA10=6,N10<>\"\",O10<>\"\"),ort($N10,$O10,$AY$8:$AZ$8),\"\")","v":""},{"$f":"IF(AND($AA10=7,N10<>\"\",O10<>\"\"),ort($N10,$O10,$AY$9:$AZ$9),\"\")","v":""},{"$f":"IF(AND($AA10<6,P10<>\"\",Q10<>\"\"),ort($P10,$Q10,$AY$3:$AZ$3),\"\")","v":""},{"$f":"IF(AND($AA10<6,P10<>\"\",Q10<>\"\"),ort($P10,$Q10,$AY$4:$AZ$5),\"\")","v":""},{"$f":"IF(AND($AA10<6,P10<>\"\",Q10<>\"\"),ort($P10,$Q10,$AY$6:$AZ$7),\"\")","v":""},{"$f":"IF(AND($AA10=6,P10<>\"\",Q10<>\"\"),ort($P10,$Q10,$AY$8:$AZ$8),\"\")","v":""},{"$f":"IF(AND($AA10=7,P10<>\"\",Q10<>\"\"),ort($P10,$Q10,$AY$9:$AZ$9),\"\")","v":""},{"$f":"IF(AND($AA10<6,R10<>\"\",S10<>\"\"),ort($R10,$S10,$AY$3:$AZ$3),\"\")","v":""},{"$f":"IF(AND($AA10<6,R10<>\"\",S10<>\"\"),ort($R10,$S10,$AY$4:$AZ$5),\"\")","v":""},{"$f":"IF(AND($AA10<6,R10<>\"\",S10<>\"\"),ort($R10,$S10,$AY$6:$AZ$7),\"\")","v":""},{"$f":"IF(AND($AA10=6,R10<>\"\",S10<>\"\"),ort($R10,$S10,$AY$8:$AZ$8),\"\")","v":""},{"$f":"IF(AND($AA10=7,R10<>\"\",S10<>\"\"),ort($R10,$S10,$AY$9:$AZ$9),\"\")","v":""},{"$f":"IF(AND($AA10<6,T10<>\"\",U10<>\"\"),ort($T10,$U10,$AY$3:$AZ$3),\"\")","v":""},{"$f":"IF(AND($AA10<6,T10<>\"\",U10<>\"\"),ort($T10,$U10,$AY$4:$AZ$5),\"\")","v":""},{"$f":"IF(AND($AA10<6,T10<>\"\",U10<>\"\"),ort($T10,$U10,$AY$6:$AZ$7),\"\")","v":""},{"$f":"IF(AND($AA10=6,T10<>\"\",U10<>\"\"),ort($T10,$U10,$AY$8:$AZ$8),\"\")","v":""},{"$f":"IF(AND($AA10=7,T10<>\"\",U10<>\"\"),ort($T10,$U10,$AY$9:$AZ$9),\"\")","v":""},null,null,null,null,null,null,null,null,null,{"$f":"SUM(BB10/18/24,BC10:BD10)","v":"00:00:00"}]
[null,null,{"$f":"IF(I10=\"\",\"\",IF(MONTH(I10+1)=MONTH(I10),I10+1,\"\"))","v":"2018-12-31"},{"$f":"IF(C11=\"\",\"\",IF(MONTH(C11+1)=MONTH(C11),C11+1,\"\"))","v":""},"","","","","","","",{"$f":"DATE($B$3,$B$4,9)","v":"2018-12-09"},{"$f":"DATE($B$3,$B$4,9)","v":"2018-12-09"},null,"00:00:00",null,null,null,null,null,null,"","","","","",{"$f":"IF(ISERROR(IF(NOT(ISERROR(MATCH($M11,Blad2!$A$2:$A$11,0))),7,WEEKDAY($M11,2))),\"\",IF(NOT(ISERROR(MATCH($M11,Blad2!$A$2:$A$11,0))),7,WEEKDAY($M11,2)))","v":7},{"$f":"IF(AND($AA11<6,N11<>\"\",O11<>\"\"),ort($N11,$O11,$AY$3:$AZ$3),\"\")","v":""},{"$f":"IF(AND($AA11<6,N11<>\"\",O11<>\"\"),ort($N11,$O11,$AY$4:$AZ$5),\"\")","v":""},{"$f":"IF(AND($AA11<6,N11<>\"\",O11<>\"\"),ort($N11,$O11,$AY$6:$AZ$7),\"\")","v":""},{"$f":"IF(AND($AA11=6,N11<>\"\",O11<>\"\"),ort($N11,$O11,$AY$8:$AZ$8),\"\")","v":""},{"$f":"IF(AND($AA11=7,N11<>\"\",O11<>\"\"),ort($N11,$O11,$AY$9:$AZ$9),\"\")","v":""},{"$f":"IF(AND($AA11<6,P11<>\"\",Q11<>\"\"),ort($P11,$Q11,$AY$3:$AZ$3),\"\")","v":""},{"$f":"IF(AND($AA11<6,P11<>\"\",Q11<>\"\"),ort($P11,$Q11,$AY$4:$AZ$5),\"\")","v":""},{"$f":"IF(AND($AA11<6,P11<>\"\",Q11<>\"\"),ort($P11,$Q11,$AY$6:$AZ$7),\"\")","v":""},{"$f":"IF(AND($AA11=6,P11<>\"\",Q11<>\"\"),ort($P11,$Q11,$AY$8:$AZ$8),\"\")","v":""},{"$f":"IF(AND($AA11=7,P11<>\"\",Q11<>\"\"),ort($P11,$Q11,$AY$9:$AZ$9),\"\")","v":""},{"$f":"IF(AND($AA11<6,R11<>\"\",S11<>\"\"),ort($R11,$S11,$AY$3:$AZ$3),\"\")","v":""},{"$f":"IF(AND($AA11<6,R11<>\"\",S11<>\"\"),ort($R11,$S11,$AY$4:$AZ$5),\"\")","v":""},{"$f":"IF(AND($AA11<6,R11<>\"\",S11<>\"\"),ort($R11,$S11,$AY$6:$AZ$7),\"\")","v":""},{"$f":"IF(AND($AA11=6,R11<>\"\",S11<>\"\"),ort($R11,$S11,$AY$8:$AZ$8),\"\")","v":""},{"$f":"IF(AND($AA11=7,R11<>\"\",S11<>\"\"),ort($R11,$S11,$AY$9:$AZ$9),\"\")","v":""},{"$f":"IF(AND($AA11<6,T11<>\"\",U11<>\"\"),ort($T11,$U11,$AY$3:$AZ$3),\"\")","v":""},{"$f":"IF(AND($AA11<6,T11<>\"\",U11<>\"\"),ort($T11,$U11,$AY$4:$AZ$5),\"\")","v":""},{"$f":"IF(AND($AA11<6,T11<>\"\",U11<>\"\"),ort($T11,$U11,$AY$6:$AZ$7),\"\")","v":""},{"$f":"IF(AND($AA11=6,T11<>\"\",U11<>\"\"),ort($T11,$U11,$AY$8:$AZ$8),\"\")","v":""},{"$f":"IF(AND($AA11=7,T11<>\"\",U11<>\"\"),ort($T11,$U11,$AY$9:$AZ$9),\"\")","v":""},null,null,null,null,null,null,null,null,null,"00:00:00"]
[null,null,null,null,null,null,null,null,null,"",50,{"$f":"DATE($B$3,$B$4,10)","v":"2018-12-10"},{"$f":"DATE($B$3,$B$4,10)","v":"2018-12-10"},null,"00:00:00",null,null,null,null,null,null,"","","","","",{"$f":"IF(ISERROR(IF(NOT(ISERROR(MATCH($M12,Blad2!$A$2:$A$11,0))),7,WEEKDAY($M12,2))),\"\",IF(NOT(ISERROR(MATCH($M12,Blad2!$A$2:$A$11,0))),7,WEEKDAY($M12,2)))","v":1},{"$f":"IF(AND($AA12<6,N12<>\"\",O12<>\"\"),ort($N12,$O12,$AY$3:$AZ$3),\"\")","v":""},{"$f":"IF(AND($AA12<6,N12<>\"\",O12<>\"\"),ort($N12,$O12,$AY$4:$AZ$5),\"\")","v":""},{"$f":"IF(AND($AA12<6,N12<>\"\",O12<>\"\"),ort($N12,$O12,$AY$6:$AZ$7),\"\")","v":""},{"$f":"IF(AND($AA12=6,N12<>\"\",O12<>\"\"),ort($N12,$O12,$AY$8:$AZ$8),\"\")","v":""},{"$f":"IF(AND($AA12=7,N12<>\"\",O12<>\"\"),ort($N12,$O12,$AY$9:$AZ$9),\"\")","v":""},{"$f":"IF(AND($AA12<6,P12<>\"\",Q12<>\"\"),ort($P12,$Q12,$AY$3:$AZ$3),\"\")","v":""},{"$f":"IF(AND($AA12<6,P12<>\"\",Q12<>\"\"),ort($P12,$Q12,$AY$4:$AZ$5),\"\")","v":""},{"$f":"IF(AND($AA12<6,P12<>\"\",Q12<>\"\"),ort($P12,$Q12,$AY$6:$AZ$7),\"\")","v":""},{"$f":"IF(AND($AA12=6,P12<>\"\",Q12<>\"\"),ort($P12,$Q12,$AY$8:$AZ$8),\"\")","v":""},{"$f":"IF(AND($AA12=7,P12<>\"\",Q12<>\"\"),ort($P12,$Q12,$AY$9:$AZ$9),\"\")","v":""},{"$f":"IF(AND($AA12<6,R12<>\"\",S12<>\"\"),ort($R12,$S12,$AY$3:$AZ$3),\"\")","v":""},{"$f":"IF(AND($AA12<6,R12<>\"\",S12<>\"\"),ort($R12,$S12,$AY$4:$AZ$5),\"\")","v":""},{"$f":"IF(AND($AA12<6,R12<>\"\",S12<>\"\"),ort($R12,$S12,$AY$6:$AZ$7),\"\")","v":""},{"$f":"IF(AND($AA12=6,R12<>\"\",S12<>\"\"),ort($R12,$S12,$AY$8:$AZ$8),\"\")","v":""},{"$f":"IF(AND($AA12=7,R12<>\"\",S12<>\"\"),ort($R12,$S12,$AY$9:$AZ$9),\"\")","v":""},{"$f":"IF(AND($AA12<6,T12<>\"\",U12<>\"\"),ort($T12,$U12,$AY$3:$AZ$3),\"\")","v":""},{"$f":"IF(AND($AA12<6,T12<>\"\",U12<>\"\"),ort($T12,$U12,$AY$4:$AZ$5),\"\")","v":""},{"$f":"IF(AND($AA12<6,T12<>\"\",U12<>\"\"),ort($T12,$U12,$AY$6:$AZ$7),\"\")","v":""},{"$f":"IF(AND($AA12=6,T12<>\"\",U12<>\"\"),ort($T12,$U12,$AY$8:$AZ$8),\"\")","v":""},{"$f":"IF(AND($AA12=7,T12<>\"\",U12<>\"\"),ort($T12,$U12,$AY$9:$AZ$9),\"\")","v":""},null,null,null,null,null,null,null,null,null,"00:00:00"]
[null,"Werkdagen deze maand",null,null,null,null,null,null,null,"","",{"$f":"DATE($B$3,$B$4,11)","v":"2018-12-11"},{"$f":"DATE($B$3,$B$4,11)","v":"2018-12-11"},null,"00:00:00",null,null,null,null,null,null,"","","","","",{"$f":"IF(ISERROR(IF(NOT(ISERROR(MATCH($M13,Blad2!$A$2:$A$11,0))),7,WEEKDAY($M13,2))),\"\",IF(NOT(ISERROR(MATCH($M13,Blad2!$A$2:$A$11,0))),7,WEEKDAY($M13,2)))","v":2},{"$f":"IF(AND($AA13<6,N13<>\"\",O13<>\"\"),ort($N13,$O13,$AY$3:$AZ$3),\"\")","v":""},{"$f":"IF(AND($AA13<6,N13<>\"\",O13<>\"\"),ort($N13,$O13,$AY$4:$AZ$5),\"\")","v":""},{"$f":"IF(AND($AA13<6,N13<>\"\",O13<>\"\"),ort($N13,$O13,$AY$6:$AZ$7),\"\")","v":""},{"$f":"IF(AND($AA13=6,N13<>\"\",O13<>\"\"),ort($N13,$O13,$AY$8:$AZ$8),\"\")","v":""},{"$f":"IF(AND($AA13=7,N13<>\"\",O13<>\"\"),ort($N13,$O13,$AY$9:$AZ$9),\"\")","v":""},{"$f":"IF(AND($AA13<6,P13<>\"\",Q13<>\"\"),ort($P13,$Q13,$AY$3:$AZ$3),\"\")","v":""},{"$f":"IF(AND($AA13<6,P13<>\"\",Q13<>\"\"),ort($P13,$Q13,$AY$4:$AZ$5),\"\")","v":""},{"$f":"IF(AND($AA13<6,P13<>\"\",Q13<>\"\"),ort($P13,$Q13,$AY$6:$AZ$7),\"\")","v":""},{"$f":"IF(AND($AA13=6,P13<>\"\",Q13<>\"\"),ort($P13,$Q13,$AY$8:$AZ$8),\"\")","v":""},{"$f":"IF(AND($AA13=7,P13<>\"\",Q13<>\"\"),ort($P13,$Q13,$AY$9:$AZ$9),\"\")","v":""},{"$f":"IF(AND($AA13<6,R13<>\"\",S13<>\"\"),ort($R13,$S13,$AY$3:$AZ$3),\"\")","v":""},{"$f":"IF(AND($AA13<6,R13<>\"\",S13<>\"\"),ort($R13,$S13,$AY$4:$AZ$5),\"\")","v":""},{"$f":"IF(AND($AA13<6,R13<>\"\",S13<>\"\"),ort($R13,$S13,$AY$6:$AZ$7),\"\")","v":""},{"$f":"IF(AND($AA13=6,R13<>\"\",S13<>\"\"),ort($R13,$S13,$AY$8:$AZ$8),\"\")","v":""},{"$f":"IF(AND($AA13=7,R13<>\"\",S13<>\"\"),ort($R13,$S13,$AY$9:$AZ$9),\"\")","v":""},{"$f":"IF(AND($AA13<6,T13<>\"\",U13<>\"\"),ort($T13,$U13,$AY$3:$AZ$3),\"\")","v":""},{"$f":"IF(AND($AA13<6,T13<>\"\",U13<>\"\"),ort($T13,$U13,$AY$4:$AZ$5),\"\")","v":""},{"$f":"IF(AND($AA13<6,T13<>\"\",U13<>\"\"),ort($T13,$U13,$AY$6:$AZ$7),\"\")","v":""},{"$f":"IF(AND($AA13=6,T13<>\"\",U13<>\"\"),ort($T13,$U13,$AY$8:$AZ$8),\"\")","v":""},{"$f":"IF(AND($AA13=7,T13<>\"\",U13<>\"\"),ort($T13,$U13,$AY$9:$AZ$9),\"\")","v":""},null,null,null,null,null,null,null,null,null,"00:00:00"]
[null,{"$f":"NETWORKDAYS($L$3,EOMONTH($L$3,0),Blad2!A2:A97)&\" dagen\"","v":"20 dagen"},null,null,null,null,null,null,null,"","",{"$f":"DATE($B$3,$B$4,12)","v":"2018-12-12"},{"$f":"DATE($B$3,$B$4,12)","v":"2018-12-12"},null,"00:00:00",null,null,null,null,null,null,"","","","","",{"$f":"IF(ISERROR(IF(NOT(ISERROR(MATCH($M14,Blad2!$A$2:$A$11,0))),7,WEEKDAY($M14,2))),\"\",IF(NOT(ISERROR(MATCH($M14,Blad2!$A$2:$A$11,0))),7,WEEKDAY($M14,2)))","v":3},{"$f":"IF(AND($AA14<6,N14<>\"\",O14<>\"\"),ort($N14,$O14,$AY$3:$AZ$3),\"\")","v":""},{"$f":"IF(AND($AA14<6,N14<>\"\",O14<>\"\"),ort($N14,$O14,$AY$4:$AZ$5),\"\")","v":""},{"$f":"IF(AND($AA14<6,N14<>\"\",O14<>\"\"),ort($N14,$O14,$AY$6:$AZ$7),\"\")","v":""},{"$f":"IF(AND($AA14=6,N14<>\"\",O14<>\"\"),ort($N14,$O14,$AY$8:$AZ$8),\"\")","v":""},{"$f":"IF(AND($AA14=7,N14<>\"\",O14<>\"\"),ort($N14,$O14,$AY$9:$AZ$9),\"\")","v":""},{"$f":"IF(AND($AA14<6,P14<>\"\",Q14<>\"\"),ort($P14,$Q14,$AY$3:$AZ$3),\"\")","v":""},{"$f":"IF(AND($AA14<6,P14<>\"\",Q14<>\"\"),ort($P14,$Q14,$AY$4:$AZ$5),\"\")","v":""},{"$f":"IF(AND($AA14<6,P14<>\"\",Q14<>\"\"),ort($P14,$Q14,$AY$6:$AZ$7),\"\")","v":""},{"$f":"IF(AND($AA14=6,P14<>\"\",Q14<>\"\"),ort($P14,$Q14,$AY$8:$AZ$8),\"\")","v":""},{"$f":"IF(AND($AA14=7,P14<>\"\",Q14<>\"\"),ort($P14,$Q14,$AY$9:$AZ$9),\"\")","v":""},{"$f":"IF(AND($AA14<6,R14<>\"\",S14<>\"\"),ort($R14,$S14,$AY$3:$AZ$3),\"\")","v":""},{"$f":"IF(AND($AA14<6,R14<>\"\",S14<>\"\"),ort($R14,$S14,$AY$4:$AZ$5),\"\")","v":""},{"$f":"IF(AND($AA14<6,R14<>\"\",S14<>\"\"),ort($R14,$S14,$AY$6:$AZ$7),\"\")","v":""},{"$f":"IF(AND($AA14=6,R14<>\"\",S14<>\"\"),ort($R14,$S14,$AY$8:$AZ$8),\"\")","v":""},{"$f":"IF(AND($AA14=7,R14<>\"\",S14<>\"\"),ort($R14,$S14,$AY$9:$AZ$9),\"\")","v":""},{"$f":"IF(AND($AA14<6,T14<>\"\",U14<>\"\"),ort($T14,$U14,$AY$3:$AZ$3),\"\")","v":""},{"$f":"IF(AND($AA14<6,T14<>\"\",U14<>\"\"),ort($T14,$U14,$AY$4:$AZ$5),\"\")","v":""},{"$f":"IF(AND($AA14<6,T14<>\"\",U14<>\"\"),ort($T14,$U14,$AY$6:$AZ$7),\"\")","v":""},{"$f":"IF(AND($AA14=6,T14<>\"\",U14<>\"\"),ort($T14,$U14,$AY$8:$AZ$8),\"\")","v":""},{"$f":"IF(AND($AA14=7,T14<>\"\",U14<>\"\"),ort($T14,$U14,$AY$9:$AZ$9),\"\")","v":""},null,null,null,null,null,null,null,null,null,"00:00:00"]
[null,null,null,null,null,null,null,null,null,"","",{"$f":"DATE($B$3,$B$4,13)","v":"2018-12-13"},{"$f":"DATE($B$3,$B$4,13)","v":"2018-12-13"},null,"00:00:00",null,null,null,null,null,null,"","","","","",{"$f":"IF(ISERROR(IF(NOT(ISERROR(MATCH($M15,Blad2!$A$2:$A$11,0))),7,WEEKDAY($M15,2))),\"\",IF(NOT(ISERROR(MATCH($M15,Blad2!$A$2:$A$11,0))),7,WEEKDAY($M15,2)))","v":4},{"$f":"IF(AND($AA15<6,N15<>\"\",O15<>\"\"),ort($N15,$O15,$AY$3:$AZ$3),\"\")","v":""},{"$f":"IF(AND($AA15<6,N15<>\"\",O15<>\"\"),ort($N15,$O15,$AY$4:$AZ$5),\"\")","v":""},{"$f":"IF(AND($AA15<6,N15<>\"\",O15<>\"\"),ort($N15,$O15,$AY$6:$AZ$7),\"\")","v":""},{"$f":"IF(AND($AA15=6,N15<>\"\",O15<>\"\"),ort($N15,$O15,$AY$8:$AZ$8),\"\")","v":""},{"$f":"IF(AND($AA15=7,N15<>\"\",O15<>\"\"),ort($N15,$O15,$AY$9:$AZ$9),\"\")","v":""},{"$f":"IF(AND($AA15<6,P15<>\"\",Q15<>\"\"),ort($P15,$Q15,$AY$3:$AZ$3),\"\")","v":""},{"$f":"IF(AND($AA15<6,P15<>\"\",Q15<>\"\"),ort($P15,$Q15,$AY$4:$AZ$5),\"\")","v":""},{"$f":"IF(AND($AA15<6,P15<>\"\",Q15<>\"\"),ort($P15,$Q15,$AY$6:$AZ$7),\"\")","v":""},{"$f":"IF(AND($AA15=6,P15<>\"\",Q15<>\"\"),ort($P15,$Q15,$AY$8:$AZ$8),\"\")","v":""},{"$f":"IF(AND($AA15=7,P15<>\"\",Q15<>\"\"),ort($P15,$Q15,$AY$9:$AZ$9),\"\")","v":""},{"$f":"IF(AND($AA15<6,R15<>\"\",S15<>\"\"),ort($R15,$S15,$AY$3:$AZ$3),\"\")","v":""},{"$f":"IF(AND($AA15<6,R15<>\"\",S15<>\"\"),ort($R15,$S15,$AY$4:$AZ$5),\"\")","v":""},{"$f":"IF(AND($AA15<6,R15<>\"\",S15<>\"\"),ort($R15,$S15,$AY$6:$AZ$7),\"\")","v":""},{"$f":"IF(AND($AA15=6,R15<>\"\",S15<>\"\"),ort($R15,$S15,$AY$8:$AZ$8),\"\")","v":""},{"$f":"IF(AND($AA15=7,R15<>\"\",S15<>\"\"),ort($R15,$S15,$AY$9:$AZ$9),\"\")","v":""},{"$f":"IF(AND($AA15<6,T15<>\"\",U15<>\"\"),ort($T15,$U15,$AY$3:$AZ$3),\"\")","v":""},{"$f":"IF(AND($AA15<6,T15<>\"\",U15<>\"\"),ort($T15,$U15,$AY$4:$AZ$5),\"\")","v":""},{"$f":"IF(AND($AA15<6,T15<>\"\",U15<>\"\"),ort($T15,$U15,$AY$6:$AZ$7),\"\")","v":""},{"$f":"IF(AND($AA15=6,T15<>\"\",U15<>\"\"),ort($T15,$U15,$AY$8:$AZ$8),\"\")","v":""},{"$f":"IF(AND($AA15=7,T15<>\"\",U15<>\"\"),ort($T15,$U15,$AY$9:$AZ$9),\"\")","v":""},null,null,null,null,null,null,null,null,null,"00:00:00"]
[null,"Contract Uren",null,null,null,null,null,null,null,"","",{"$f":"DATE($B$3,$B$4,14)","v":"2018-12-14"},{"$f":"DATE($B$3,$B$4,14)","v":"2018-12-14"},null,"00:00:00",null,null,null,null,null,null,"","","","","",{"$f":"IF(ISERROR(IF(NOT(ISERROR(MATCH($M16,Blad2!$A$2:$A$11,0))),7,WEEKDAY($M16,2))),\"\",IF(NOT(ISERROR(MATCH($M16,Blad2!$A$2:$A$11,0))),7,WEEKDAY($M16,2)))","v":5},{"$f":"IF(AND($AA16<6,N16<>\"\",O16<>\"\"),ort($N16,$O16,$AY$3:$AZ$3),\"\")","v":""},{"$f":"IF(AND($AA16<6,N16<>\"\",O16<>\"\"),ort($N16,$O16,$AY$4:$AZ$5),\"\")","v":""},{"$f":"IF(AND($AA16<6,N16<>\"\",O16<>\"\"),ort($N16,$O16,$AY$6:$AZ$7),\"\")","v":""},{"$f":"IF(AND($AA16=6,N16<>\"\",O16<>\"\"),ort($N16,$O16,$AY$8:$AZ$8),\"\")","v":""},{"$f":"IF(AND($AA16=7,N16<>\"\",O16<>\"\"),ort($N16,$O16,$AY$9:$AZ$9),\"\")","v":""},{"$f":"IF(AND($AA16<6,P16<>\"\",Q16<>\"\"),ort($P16,$Q16,$AY$3:$AZ$3),\"\")","v":""},{"$f":"IF(AND($AA16<6,P16<>\"\",Q16<>\"\"),ort($P16,$Q16,$AY$4:$AZ$5),\"\")","v":""},{"$f":"IF(AND($AA16<6,P16<>\"\",Q16<>\"\"),ort($P16,$Q16,$AY$6:$AZ$7),\"\")","v":""},{"$f":"IF(AND($AA16=6,P16<>\"\",Q16<>\"\"),ort($P16,$Q16,$AY$8:$AZ$8),\"\")","v":""},{"$f":"IF(AND($AA16=7,P16<>\"\",Q16<>\"\"),ort($P16,$Q16,$AY$9:$AZ$9),\"\")","v":""},{"$f":"IF(AND($AA16<6,R16<>\"\",S16<>\"\"),ort($R16,$S16,$AY$3:$AZ$3),\"\")","v":""},{"$f":"IF(AND($AA16<6,R16<>\"\",S16<>\"\"),ort($R16,$S16,$AY$4:$AZ$5),\"\")","v":""},{"$f":"IF(AND($AA16<6,R16<>\"\",S16<>\"\"),ort($R16,$S16,$AY$6:$AZ$7),\"\")","v":""},{"$f":"IF(AND($AA16=6,R16<>\"\",S16<>\"\"),ort($R16,$S16,$AY$8:$AZ$8),\"\")","v":""},{"$f":"IF(AND($AA16=7,R16<>\"\",S16<>\"\"),ort($R16,$S16,$AY$9:$AZ$9),\"\")","v":""},{"$f":"IF(AND($AA16<6,T16<>\"\",U16<>\"\"),ort($T16,$U16,$AY$3:$AZ$3),\"\")","v":""},{"$f":"IF(AND($AA16<6,T16<>\"\",U16<>\"\"),ort($T16,$U16,$AY$4:$AZ$5),\"\")","v":""},{"$f":"IF(AND($AA16<6,T16<>\"\",U16<>\"\"),ort($T16,$U16,$AY$6:$AZ$7),\"\")","v":""},{"$f":"IF(AND($AA16=6,T16<>\"\",U16<>\"\"),ort($T16,$U16,$AY$8:$AZ$8),\"\")","v":""},{"$f":"IF(AND($AA16=7,T16<>\"\",U16<>\"\"),ort($T16,$U16,$AY$9:$AZ$9),\"\")","v":""},null,null,null,null,null,null,null,null,null,"00:00:00"]
[null,3.75,null,null,null,null,null,null,null,"","",{"$f":"DATE($B$3,$B$4,15)","v":"2018-12-15"},{"$f":"DATE($B$3,$B$4,15)","v":"2018-12-15"},null,"00:00:00",null,null,null,null,null,null,"","","","","",{"$f":"IF(ISERROR(IF(NOT(ISERROR(MATCH($M17,Blad2!$A$2:$A$11,0))),7,WEEKDAY($M17,2))),\"\",IF(NOT(ISERROR(MATCH($M17,Blad2!$A$2:$A$11,0))),7,WEEKDAY($M17,2)))","v":6},{"$f":"IF(AND($AA17<6,N17<>\"\",O17<>\"\"),ort($N17,$O17,$AY$3:$AZ$3),\"\")","v":""},{"$f":"IF(AND($AA17<6,N17<>\"\",O17<>\"\"),ort($N17,$O17,$AY$4:$AZ$5),\"\")","v":""},{"$f":"IF(AND($AA17<6,N17<>\"\",O17<>\"\"),ort($N17,$O17,$AY$6:$AZ$7),\"\")","v":""},{"$f":"IF(AND($AA17=6,N17<>\"\",O17<>\"\"),ort($N17,$O17,$AY$8:$AZ$8),\"\")","v":""},{"$f":"IF(AND($AA17=7,N17<>\"\",O17<>\"\"),ort($N17,$O17,$AY$9:$AZ$9),\"\")","v":""},{"$f":"IF(AND($AA17<6,P17<>\"\",Q17<>\"\"),ort($P17,$Q17,$AY$3:$AZ$3),\"\")","v":""},{"$f":"IF(AND($AA17<6,P17<>\"\",Q17<>\"\"),ort($P17,$Q17,$AY$4:$AZ$5),\"\")","v":""},{"$f":"IF(AND($AA17<6,P17<>\"\",Q17<>\"\"),ort($P17,$Q17,$AY$6:$AZ$7),\"\")","v":""},{"$f":"IF(AND($AA17=6,P17<>\"\",Q17<>\"\"),ort($P17,$Q17,$AY$8:$AZ$8),\"\")","v":""},{"$f":"IF(AND($AA17=7,P17<>\"\",Q17<>\"\"),ort($P17,$Q17,$AY$9:$AZ$9),\"\")","v":""},{"$f":"IF(AND($AA17<6,R17<>\"\",S17<>\"\"),ort($R17,$S17,$AY$3:$AZ$3),\"\")","v":""},{"$f":"IF(AND($AA17<6,R17<>\"\",S17<>\"\"),ort($R17,$S17,$AY$4:$AZ$5),\"\")","v":""},{"$f":"IF(AND($AA17<6,R17<>\"\",S17<>\"\"),ort($R17,$S17,$AY$6:$AZ$7),\"\")","v":""},{"$f":"IF(AND($AA17=6,R17<>\"\",S17<>\"\"),ort($R17,$S17,$AY$8:$AZ$8),\"\")","v":""},{"$f":"IF(AND($AA17=7,R17<>\"\",S17<>\"\"),ort($R17,$S17,$AY$9:$AZ$9),\"\")","v":""},{"$f":"IF(AND($AA17<6,T17<>\"\",U17<>\"\"),ort($T17,$U17,$AY$3:$AZ$3),\"\")","v":""},{"$f":"IF(AND($AA17<6,T17<>\"\",U17<>\"\"),ort($T17,$U17,$AY$4:$AZ$5),\"\")","v":""},{"$f":"IF(AND($AA17<6,T17<>\"\",U17<>\"\"),ort($T17,$U17,$AY$6:$AZ$7),\"\")","v":""},{"$f":"IF(AND($AA17=6,T17<>\"\",U17<>\"\"),ort($T17,$U17,$AY$8:$AZ$8),\"\")","v":""},{"$f":"IF(AND($AA17=7,T17<>\"\",U17<>\"\"),ort($T17,$U17,$AY$9:$AZ$9),\"\")","v":""},null,null,null,null,null,null,null,null,null,"00:00:00"]
[null,null,null,null,null,null,null,null,null,"","",{"$f":"DATE($B$3,$B$4,16)","v":"2018-12-16"},{"$f":"DATE($B$3,$B$4,16)","v":"2018-12-16"},null,"00:00:00",null,null,null,null,null,null,"","","","","",{"$f":"IF(ISERROR(IF(NOT(ISERROR(MATCH($M18,Blad2!$A$2:$A$11,0))),7,WEEKDAY($M18,2))),\"\",IF(NOT(ISERROR(MATCH($M18,Blad2!$A$2:$A$11,0))),7,WEEKDAY($M18,2)))","v":7},{"$f":"IF(AND($AA18<6,N18<>\"\",O18<>\"\"),ort($N18,$O18,$AY$3:$AZ$3),\"\")","v":""},{"$f":"IF(AND($AA18<6,N18<>\"\",O18<>\"\"),ort($N18,$O18,$AY$4:$AZ$5),\"\")","v":""},{"$f":"IF(AND($AA18<6,N18<>\"\",O18<>\"\"),ort($N18,$O18,$AY$6:$AZ$7),\"\")","v":""},{"$f":"IF(AND($AA18=6,N18<>\"\",O18<>\"\"),ort($N18,$O18,$AY$8:$AZ$8),\"\")","v":""},{"$f":"IF(AND($AA18=7,N18<>\"\",O18<>\"\"),ort($N18,$O18,$AY$9:$AZ$9),\"\")","v":""},{"$f":"IF(AND($AA18<6,P18<>\"\",Q18<>\"\"),ort($P18,$Q18,$AY$3:$AZ$3),\"\")","v":""},{"$f":"IF(AND($AA18<6,P18<>\"\",Q18<>\"\"),ort($P18,$Q18,$AY$4:$AZ$5),\"\")","v":""},{"$f":"IF(AND($AA18<6,P18<>\"\",Q18<>\"\"),ort($P18,$Q18,$AY$6:$AZ$7),\"\")","v":""},{"$f":"IF(AND($AA18=6,P18<>\"\",Q18<>\"\"),ort($P18,$Q18,$AY$8:$AZ$8),\"\")","v":""},{"$f":"IF(AND($AA18=7,P18<>\"\",Q18<>\"\"),ort($P18,$Q18,$AY$9:$AZ$9),\"\")","v":""},{"$f":"IF(AND($AA18<6,R18<>\"\",S18<>\"\"),ort($R18,$S18,$AY$3:$AZ$3),\"\")","v":""},{"$f":"IF(AND($AA18<6,R18<>\"\",S18<>\"\"),ort($R18,$S18,$AY$4:$AZ$5),\"\")","v":""},{"$f":"IF(AND($AA18<6,R18<>\"\",S18<>\"\"),ort($R18,$S18,$AY$6:$AZ$7),\"\")","v":""},{"$f":"IF(AND($AA18=6,R18<>\"\",S18<>\"\"),ort($R18,$S18,$AY$8:$AZ$8),\"\")","v":""},{"$f":"IF(AND($AA18=7,R18<>\"\",S18<>\"\"),ort($R18,$S18,$AY$9:$AZ$9),\"\")","v":""},{"$f":"IF(AND($AA18<6,T18<>\"\",U18<>\"\"),ort($T18,$U18,$AY$3:$AZ$3),\"\")","v":""},{"$f":"IF(AND($AA18<6,T18<>\"\",U18<>\"\"),ort($T18,$U18,$AY$4:$AZ$5),\"\")","v":""},{"$f":"IF(AND($AA18<6,T18<>\"\",U18<>\"\"),ort($T18,$U18,$AY$6:$AZ$7),\"\")","v":""},{"$f":"IF(AND($AA18=6,T18<>\"\",U18<>\"\"),ort($T18,$U18,$AY$8:$AZ$8),\"\")","v":""},{"$f":"IF(AND($AA18=7,T18<>\"\",U18<>\"\"),ort($T18,$U18,$AY$9:$AZ$9),\"\")","v":""},null,null,null,null,null,null,null,null,null,"00:00:00"]
[null,"Gewerkte uren deze maand",null,null,null,null,null,null,null,"",51,{"$f":"DATE($B$3,$B$4,17)","v":"2018-12-17"},{"$f":"DATE($B$3,$B$4,17)","v":"2018-12-17"},null,"00:00:00",null,null,null,null,null,null,"","","","","",{"$f":"IF(ISERROR(IF(NOT(ISERROR(MATCH($M19,Blad2!$A$2:$A$11,0))),7,WEEKDAY($M19,2))),\"\",IF(NOT(ISERROR(MATCH($M19,Blad2!$A$2:$A$11,0))),7,WEEKDAY($M19,2)))","v":1},{"$f":"IF(AND($AA19<6,N19<>\"\",O19<>\"\"),ort($N19,$O19,$AY$3:$AZ$3),\"\")","v":""},{"$f":"IF(AND($AA19<6,N19<>\"\",O19<>\"\"),ort($N19,$O19,$AY$4:$AZ$5),\"\")","v":""},{"$f":"IF(AND($AA19<6,N19<>\"\",O19<>\"\"),ort($N19,$O19,$AY$6:$AZ$7),\"\")","v":""},{"$f":"IF(AND($AA19=6,N19<>\"\",O19<>\"\"),ort($N19,$O19,$AY$8:$AZ$8),\"\")","v":""},{"$f":"IF(AND($AA19=7,N19<>\"\",O19<>\"\"),ort($N19,$O19,$AY$9:$AZ$9),\"\")","v":""},{"$f":"IF(AND($AA19<6,P19<>\"\",Q19<>\"\"),ort($P19,$Q19,$AY$3:$AZ$3),\"\")","v":""},{"$f":"IF(AND($AA19<6,P19<>\"\",Q19<>\"\"),ort($P19,$Q19,$AY$4:$AZ$5),\"\")","v":""},{"$f":"IF(AND($AA19<6,P19<>\"\",Q19<>\"\"),ort($P19,$Q19,$AY$6:$AZ$7),\"\")","v":""},{"$f":"IF(AND($AA19=6,P19<>\"\",Q19<>\"\"),ort($P19,$Q19,$AY$8:$AZ$8),\"\")","v":""},{"$f":"IF(AND($AA19=7,P19<>\"\",Q19<>\"\"),ort($P19,$Q19,$AY$9:$AZ$9),\"\")","v":""},{"$f":"IF(AND($AA19<6,R19<>\"\",S19<>\"\"),ort($R19,$S19,$AY$3:$AZ$3),\"\")","v":""},{"$f":"IF(AND($AA19<6,R19<>\"\",S19<>\"\"),ort($R19,$S19,$AY$4:$AZ$5),\"\")","v":""},{"$f":"IF(AND($AA19<6,R19<>\"\",S19<>\"\"),ort($R19,$S19,$AY$6:$AZ$7),\"\")","v":""},{"$f":"IF(AND($AA19=6,R19<>\"\",S19<>\"\"),ort($R19,$S19,$AY$8:$AZ$8),\"\")","v":""},{"$f":"IF(AND($AA19=7,R19<>\"\",S19<>\"\"),ort($R19,$S19,$AY$9:$AZ$9),\"\")","v":""},{"$f":"IF(AND($AA19<6,T19<>\"\",U19<>\"\"),ort($T19,$U19,$AY$3:$AZ$3),\"\")","v":""},{"$f":"IF(AND($AA19<6,T19<>\"\",U19<>\"\"),ort($T19,$U19,$AY$4:$AZ$5),\"\")","v":""},{"$f":"IF(AND($AA19<6,T19<>\"\",U19<>\"\"),ort($T19,$U19,$AY$6:$AZ$7),\"\")","v":""},{"$f":"IF(AND($AA19=6,T19<>\"\",U19<>\"\"),ort($T19,$U19,$AY$8:$AZ$8),\"\")","v":""},{"$f":"IF(AND($AA19=7,T19<>\"\",U19<>\"\"),ort($T19,$U19,$AY$9:$AZ$9),\"\")","v":""},null,null,null,null,null,null,null,null,null,"00:00:00"]
[null,{"$f":"SUM($V$3:$V$33)","v":0},null,null,null,null,null,null,null,"","",{"$f":"DATE($B$3,$B$4,18)","v":"2018-12-18"},{"$f":"DATE($B$3,$B$4,18)","v":"2018-12-18"},null,"00:00:00",null,null,null,null,null,null,"","","","","",{"$f":"IF(ISERROR(IF(NOT(ISERROR(MATCH($M20,Blad2!$A$2:$A$11,0))),7,WEEKDAY($M20,2))),\"\",IF(NOT(ISERROR(MATCH($M20,Blad2!$A$2:$A$11,0))),7,WEEKDAY($M20,2)))","v":2},{"$f":"IF(AND($AA20<6,N20<>\"\",O20<>\"\"),ort($N20,$O20,$AY$3:$AZ$3),\"\")","v":""},{"$f":"IF(AND($AA20<6,N20<>\"\",O20<>\"\"),ort($N20,$O20,$AY$4:$AZ$5),\"\")","v":""},{"$f":"IF(AND($AA20<6,N20<>\"\",O20<>\"\"),ort($N20,$O20,$AY$6:$AZ$7),\"\")","v":""},{"$f":"IF(AND($AA20=6,N20<>\"\",O20<>\"\"),ort($N20,$O20,$AY$8:$AZ$8),\"\")","v":""},{"$f":"IF(AND($AA20=7,N20<>\"\",O20<>\"\"),ort($N20,$O20,$AY$9:$AZ$9),\"\")","v":""},{"$f":"IF(AND($AA20<6,P20<>\"\",Q20<>\"\"),ort($P20,$Q20,$AY$3:$AZ$3),\"\")","v":""},{"$f":"IF(AND($AA20<6,P20<>\"\",Q20<>\"\"),ort($P20,$Q20,$AY$4:$AZ$5),\"\")","v":""},{"$f":"IF(AND($AA20<6,P20<>\"\",Q20<>\"\"),ort($P20,$Q20,$AY$6:$AZ$7),\"\")","v":""},{"$f":"IF(AND($AA20=6,P20<>\"\",Q20<>\"\"),ort($P20,$Q20,$AY$8:$AZ$8),\"\")","v":""},{"$f":"IF(AND($AA20=7,P20<>\"\",Q20<>\"\"),ort($P20,$Q20,$AY$9:$AZ$9),\"\")","v":""},{"$f":"IF(AND($AA20<6,R20<>\"\",S20<>\"\"),ort($R20,$S20,$AY$3:$AZ$3),\"\")","v":""},{"$f":"IF(AND($AA20<6,R20<>\"\",S20<>\"\"),ort($R20,$S20,$AY$4:$AZ$5),\"\")","v":""},{"$f":"IF(AND($AA20<6,R20<>\"\",S20<>\"\"),ort($R20,$S20,$AY$6:$AZ$7),\"\")","v":""},{"$f":"IF(AND($AA20=6,R20<>\"\",S20<>\"\"),ort($R20,$S20,$AY$8:$AZ$8),\"\")","v":""},{"$f":"IF(AND($AA20=7,R20<>\"\",S20<>\"\"),ort($R20,$S20,$AY$9:$AZ$9),\"\")","v":""},{"$f":"IF(AND($AA20<6,T20<>\"\",U20<>\"\"),ort($T20,$U20,$AY$3:$AZ$3),\"\")","v":""},{"$f":"IF(AND($AA20<6,T20<>\"\",U20<>\"\"),ort($T20,$U20,$AY$4:$AZ$5),\"\")","v":""},{"$f":"IF(AND($AA20<6,T20<>\"\",U20<>\"\"),ort($T20,$U20,$AY$6:$AZ$7),\"\")","v":""},{"$f":"IF(AND($AA20=6,T20<>\"\",U20<>\"\"),ort($T20,$U20,$AY$8:$AZ$8),\"\")","v":""},{"$f":"IF(AND($AA20=7,T20<>\"\",U20<>\"\"),ort($T20,$U20,$AY$9:$AZ$9),\"\")","v":""},null,{"$f":"COUNTA(Blad2!B12:B100)-COUNTIF(Blad2!B12:B100,\"Verlof\")","v":0},"  Aantal opgenomen ATV-dagen",null,null,null,null,null,null,"00:00:00"]
[null,null,null,null,null,null,null,null,null,"","",{"$f":"DATE($B$3,$B$4,19)","v":"2018-12-19"},{"$f":"DATE($B$3,$B$4,19)","v":"2018-12-19"},null,"00:00:00",null,null,null,null,null,null,"","","","","",{"$f":"IF(ISERROR(IF(NOT(ISERROR(MATCH($M21,Blad2!$A$2:$A$11,0))),7,WEEKDAY($M21,2))),\"\",IF(NOT(ISERROR(MATCH($M21,Blad2!$A$2:$A$11,0))),7,WEEKDAY($M21,2)))","v":3},{"$f":"IF(AND($AA21<6,N21<>\"\",O21<>\"\"),ort($N21,$O21,$AY$3:$AZ$3),\"\")","v":""},{"$f":"IF(AND($AA21<6,N21<>\"\",O21<>\"\"),ort($N21,$O21,$AY$4:$AZ$5),\"\")","v":""},{"$f":"IF(AND($AA21<6,N21<>\"\",O21<>\"\"),ort($N21,$O21,$AY$6:$AZ$7),\"\")","v":""},{"$f":"IF(AND($AA21=6,N21<>\"\",O21<>\"\"),ort($N21,$O21,$AY$8:$AZ$8),\"\")","v":""},{"$f":"IF(AND($AA21=7,N21<>\"\",O21<>\"\"),ort($N21,$O21,$AY$9:$AZ$9),\"\")","v":""},{"$f":"IF(AND($AA21<6,P21<>\"\",Q21<>\"\"),ort($P21,$Q21,$AY$3:$AZ$3),\"\")","v":""},{"$f":"IF(AND($AA21<6,P21<>\"\",Q21<>\"\"),ort($P21,$Q21,$AY$4:$AZ$5),\"\")","v":""},{"$f":"IF(AND($AA21<6,P21<>\"\",Q21<>\"\"),ort($P21,$Q21,$AY$6:$AZ$7),\"\")","v":""},{"$f":"IF(AND($AA21=6,P21<>\"\",Q21<>\"\"),ort($P21,$Q21,$AY$8:$AZ$8),\"\")","v":""},{"$f":"IF(AND($AA21=7,P21<>\"\",Q21<>\"\"),ort($P21,$Q21,$AY$9:$AZ$9),\"\")","v":""},{"$f":"IF(AND($AA21<6,R21<>\"\",S21<>\"\"),ort($R21,$S21,$AY$3:$AZ$3),\"\")","v":""},{"$f":"IF(AND($AA21<6,R21<>\"\",S21<>\"\"),ort($R21,$S21,$AY$4:$AZ$5),\"\")","v":""},{"$f":"IF(AND($AA21<6,R21<>\"\",S21<>\"\"),ort($R21,$S21,$AY$6:$AZ$7),\"\")","v":""},{"$f":"IF(AND($AA21=6,R21<>\"\",S21<>\"\"),ort($R21,$S21,$AY$8:$AZ$8),\"\")","v":""},{"$f":"IF(AND($AA21=7,R21<>\"\",S21<>\"\"),ort($R21,$S21,$AY$9:$AZ$9),\"\")","v":""},{"$f":"IF(AND($AA21<6,T21<>\"\",U21<>\"\"),ort($T21,$U21,$AY$3:$AZ$3),\"\")","v":""},{"$f":"IF(AND($AA21<6,T21<>\"\",U21<>\"\"),ort($T21,$U21,$AY$4:$AZ$5),\"\")","v":""},{"$f":"IF(AND($AA21<6,T21<>\"\",U21<>\"\"),ort($T21,$U21,$AY$6:$AZ$7),\"\")","v":""},{"$f":"IF(AND($AA21=6,T21<>\"\",U21<>\"\"),ort($T21,$U21,$AY$8:$AZ$8),\"\")","v":""},{"$f":"IF(AND($AA21=7,T21<>\"\",U21<>\"\"),ort($T21,$U21,$AY$9:$AZ$9),\"\")","v":""},null,{"$f":"COUNTA(Blad2!B12:B100)-COUNTIF(Blad2!B12:B100,\"ATV\")","v":2},"  Aantal opgenomen verlofdagen",null,null,null,null,null,null,"00:00:00"]
[null,null,null,null,null,null,null,null,null,"","",{"$f":"DATE($B$3,$B$4,20)","v":"2018-12-20"},{"$f":"DATE($B$3,$B$4,20)","v":"2018-12-20"},null,"00:00:00",null,null,null,null,null,null,"","","","","",{"$f":"IF(ISERROR(IF(NOT(ISERROR(MATCH($M22,Blad2!$A$2:$A$11,0))),7,WEEKDAY($M22,2))),\"\",IF(NOT(ISERROR(MATCH($M22,Blad2!$A$2:$A$11,0))),7,WEEKDAY($M22,2)))","v":4},{"$f":"IF(AND($AA22<6,N22<>\"\",O22<>\"\"),ort($N22,$O22,$AY$3:$AZ$3),\"\")","v":""},{"$f":"IF(AND($AA22<6,N22<>\"\",O22<>\"\"),ort($N22,$O22,$AY$4:$AZ$5),\"\")","v":""},{"$f":"IF(AND($AA22<6,N22<>\"\",O22<>\"\"),ort($N22,$O22,$AY$6:$AZ$7),\"\")","v":""},{"$f":"IF(AND($AA22=6,N22<>\"\",O22<>\"\"),ort($N22,$O22,$AY$8:$AZ$8),\"\")","v":""},{"$f":"IF(AND($AA22=7,N22<>\"\",O22<>\"\"),ort($N22,$O22,$AY$9:$AZ$9),\"\")","v":""},{"$f":"IF(AND($AA22<6,P22<>\"\",Q22<>\"\"),ort($P22,$Q22,$AY$3:$AZ$3),\"\")","v":""},{"$f":"IF(AND($AA22<6,P22<>\"\",Q22<>\"\"),ort($P22,$Q22,$AY$4:$AZ$5),\"\")","v":""},{"$f":"IF(AND($AA22<6,P22<>\"\",Q22<>\"\"),ort($P22,$Q22,$AY$6:$AZ$7),\"\")","v":""},{"$f":"IF(AND($AA22=6,P22<>\"\",Q22<>\"\"),ort($P22,$Q22,$AY$8:$AZ$8),\"\")","v":""},{"$f":"IF(AND($AA22=7,P22<>\"\",Q22<>\"\"),ort($P22,$Q22,$AY$9:$AZ$9),\"\")","v":""},{"$f":"IF(AND($AA22<6,R22<>\"\",S22<>\"\"),ort($R22,$S22,$AY$3:$AZ$3),\"\")","v":""},{"$f":"IF(AND($AA22<6,R22<>\"\",S22<>\"\"),ort($R22,$S22,$AY$4:$AZ$5),\"\")","v":""},{"$f":"IF(AND($AA22<6,R22<>\"\",S22<>\"\"),ort($R22,$S22,$AY$6:$AZ$7),\"\")","v":""},{"$f":"IF(AND($AA22=6,R22<>\"\",S22<>\"\"),ort($R22,$S22,$AY$8:$AZ$8),\"\")","v":""},{"$f":"IF(AND($AA22=7,R22<>\"\",S22<>\"\"),ort($R22,$S22,$AY$9:$AZ$9),\"\")","v":""},{"$f":"IF(AND($AA22<6,T22<>\"\",U22<>\"\"),ort($T22,$U22,$AY$3:$AZ$3),\"\")","v":""},{"$f":"IF(AND($AA22<6,T22<>\"\",U22<>\"\"),ort($T22,$U22,$AY$4:$AZ$5),\"\")","v":""},{"$f":"IF(AND($AA22<6,T22<>\"\",U22<>\"\"),ort($T22,$U22,$AY$6:$AZ$7),\"\")","v":""},{"$f":"IF(AND($AA22=6,T22<>\"\",U22<>\"\"),ort($T22,$U22,$AY$8:$AZ$8),\"\")","v":""},{"$f":"IF(AND($AA22=7,T22<>\"\",U22<>\"\"),ort($T22,$U22,$AY$9:$AZ$9),\"\")","v":""},null,null,null,null,null,null,null,null,null,"00:00:00"]
[null,null,null,null,null,null,null,null,null,"","",{"$f":"DATE($B$3,$B$4,21)","v":"2018-12-21"},{"$f":"DATE($B$3,$B$4,21)","v":"2018-12-21"},null,"00:00:00",null,null,null,null,null,null,"","","","","",{"$f":"IF(ISERROR(IF(NOT(ISERROR(MATCH($M23,Blad2!$A$2:$A$11,0))),7,WEEKDAY($M23,2))),\"\",IF(NOT(ISERROR(MATCH($M23,Blad2!$A$2:$A$11,0))),7,WEEKDAY($M23,2)))","v":5},{"$f":"IF(AND($AA23<6,N23<>\"\",O23<>\"\"),ort($N23,$O23,$AY$3:$AZ$3),\"\")","v":""},{"$f":"IF(AND($AA23<6,N23<>\"\",O23<>\"\"),ort($N23,$O23,$AY$4:$AZ$5),\"\")","v":""},{"$f":"IF(AND($AA23<6,N23<>\"\",O23<>\"\"),ort($N23,$O23,$AY$6:$AZ$7),\"\")","v":""},{"$f":"IF(AND($AA23=6,N23<>\"\",O23<>\"\"),ort($N23,$O23,$AY$8:$AZ$8),\"\")","v":""},{"$f":"IF(AND($AA23=7,N23<>\"\",O23<>\"\"),ort($N23,$O23,$AY$9:$AZ$9),\"\")","v":""},{"$f":"IF(AND($AA23<6,P23<>\"\",Q23<>\"\"),ort($P23,$Q23,$AY$3:$AZ$3),\"\")","v":""},{"$f":"IF(AND($AA23<6,P23<>\"\",Q23<>\"\"),ort($P23,$Q23,$AY$4:$AZ$5),\"\")","v":""},{"$f":"IF(AND($AA23<6,P23<>\"\",Q23<>\"\"),ort($P23,$Q23,$AY$6:$AZ$7),\"\")","v":""},{"$f":"IF(AND($AA23=6,P23<>\"\",Q23<>\"\"),ort($P23,$Q23,$AY$8:$AZ$8),\"\")","v":""},{"$f":"IF(AND($AA23=7,P23<>\"\",Q23<>\"\"),ort($P23,$Q23,$AY$9:$AZ$9),\"\")","v":""},{"$f":"IF(AND($AA23<6,R23<>\"\",S23<>\"\"),ort($R23,$S23,$AY$3:$AZ$3),\"\")","v":""},{"$f":"IF(AND($AA23<6,R23<>\"\",S23<>\"\"),ort($R23,$S23,$AY$4:$AZ$5),\"\")","v":""},{"$f":"IF(AND($AA23<6,R23<>\"\",S23<>\"\"),ort($R23,$S23,$AY$6:$AZ$7),\"\")","v":""},{"$f":"IF(AND($AA23=6,R23<>\"\",S23<>\"\"),ort($R23,$S23,$AY$8:$AZ$8),\"\")","v":""},{"$f":"IF(AND($AA23=7,R23<>\"\",S23<>\"\"),ort($R23,$S23,$AY$9:$AZ$9),\"\")","v":""},{"$f":"IF(AND($AA23<6,T23<>\"\",U23<>\"\"),ort($T23,$U23,$AY$3:$AZ$3),\"\")","v":""},{"$f":"IF(AND($AA23<6,T23<>\"\",U23<>\"\"),ort($T23,$U23,$AY$4:$AZ$5),\"\")","v":""},{"$f":"IF(AND($AA23<6,T23<>\"\",U23<>\"\"),ort($T23,$U23,$AY$6:$AZ$7),\"\")","v":""},{"$f":"IF(AND($AA23=6,T23<>\"\",U23<>\"\"),ort($T23,$U23,$AY$8:$AZ$8),\"\")","v":""},{"$f":"IF(AND($AA23=7,T23<>\"\",U23<>\"\"),ort($T23,$U23,$AY$9:$AZ$9),\"\")","v":""},null,null,null,null,null,null,null,null,null,"00:00:00"]
[null,null,null,null,null,null,null,null,null,"","",{"$f":"DATE($B$3,$B$4,22)","v":"2018-12-22"},{"$f":"DATE($B$3,$B$4,22)","v":"2018-12-22"},null,"00:00:00",null,null,null,null,null,null,"","","","","",{"$f":"IF(ISERROR(IF(NOT(ISERROR(MATCH($M24,Blad2!$A$2:$A$11,0))),7,WEEKDAY($M24,2))),\"\",IF(NOT(ISERROR(MATCH($M24,Blad2!$A$2:$A$11,0))),7,WEEKDAY($M24,2)))","v":6},{"$f":"IF(AND($AA24<6,N24<>\"\",O24<>\"\"),ort($N24,$O24,$AY$3:$AZ$3),\"\")","v":""},{"$f":"IF(AND($AA24<6,N24<>\"\",O24<>\"\"),ort($N24,$O24,$AY$4:$AZ$5),\"\")","v":""},{"$f":"IF(AND($AA24<6,N24<>\"\",O24<>\"\"),ort($N24,$O24,$AY$6:$AZ$7),\"\")","v":""},{"$f":"IF(AND($AA24=6,N24<>\"\",O24<>\"\"),ort($N24,$O24,$AY$8:$AZ$8),\"\")","v":""},{"$f":"IF(AND($AA24=7,N24<>\"\",O24<>\"\"),ort($N24,$O24,$AY$9:$AZ$9),\"\")","v":""},{"$f":"IF(AND($AA24<6,P24<>\"\",Q24<>\"\"),ort($P24,$Q24,$AY$3:$AZ$3),\"\")","v":""},{"$f":"IF(AND($AA24<6,P24<>\"\",Q24<>\"\"),ort($P24,$Q24,$AY$4:$AZ$5),\"\")","v":""},{"$f":"IF(AND($AA24<6,P24<>\"\",Q24<>\"\"),ort($P24,$Q24,$AY$6:$AZ$7),\"\")","v":""},{"$f":"IF(AND($AA24=6,P24<>\"\",Q24<>\"\"),ort($P24,$Q24,$AY$8:$AZ$8),\"\")","v":""},{"$f":"IF(AND($AA24=7,P24<>\"\",Q24<>\"\"),ort($P24,$Q24,$AY$9:$AZ$9),\"\")","v":""},{"$f":"IF(AND($AA24<6,R24<>\"\",S24<>\"\"),ort($R24,$S24,$AY$3:$AZ$3),\"\")","v":""},{"$f":"IF(AND($AA24<6,R24<>\"\",S24<>\"\"),ort($R24,$S24,$AY$4:$AZ$5),\"\")","v":""},{"$f":"IF(AND($AA24<6,R24<>\"\",S24<>\"\"),ort($R24,$S24,$AY$6:$AZ$7),\"\")","v":""},{"$f":"IF(AND($AA24=6,R24<>\"\",S24<>\"\"),ort($R24,$S24,$AY$8:$AZ$8),\"\")","v":""},{"$f":"IF(AND($AA24=7,R24<>\"\",S24<>\"\"),ort($R24,$S24,$AY$9:$AZ$9),\"\")","v":""},{"$f":"IF(AND($AA24<6,T24<>\"\",U24<>\"\"),ort($T24,$U24,$AY$3:$AZ$3),\"\")","v":""},{"$f":"IF(AND($AA24<6,T24<>\"\",U24<>\"\"),ort($T24,$U24,$AY$4:$AZ$5),\"\")","v":""},{"$f":"IF(AND($AA24<6,T24<>\"\",U24<>\"\"),ort($T24,$U24,$AY$6:$AZ$7),\"\")","v":""},{"$f":"IF(AND($AA24=6,T24<>\"\",U24<>\"\"),ort($T24,$U24,$AY$8:$AZ$8),\"\")","v":""},{"$f":"IF(AND($AA24=7,T24<>\"\",U24<>\"\"),ort($T24,$U24,$AY$9:$AZ$9),\"\")","v":""},null,null,null,null,null,null,null,null,null,"00:00:00"]
[null,null,null,null,null,null,null,null,null,"","",{"$f":"DATE($B$3,$B$4,23)","v":"2018-12-23"},{"$f":"DATE($B$3,$B$4,23)","v":"2018-12-23"},null,"00:00:00",null,null,null,null,null,null,"","","","","",{"$f":"IF(ISERROR(IF(NOT(ISERROR(MATCH($M25,Blad2!$A$2:$A$11,0))),7,WEEKDAY($M25,2))),\"\",IF(NOT(ISERROR(MATCH($M25,Blad2!$A$2:$A$11,0))),7,WEEKDAY($M25,2)))","v":7},{"$f":"IF(AND($AA25<6,N25<>\"\",O25<>\"\"),ort($N25,$O25,$AY$3:$AZ$3),\"\")","v":""},{"$f":"IF(AND($AA25<6,N25<>\"\",O25<>\"\"),ort($N25,$O25,$AY$4:$AZ$5),\"\")","v":""},{"$f":"IF(AND($AA25<6,N25<>\"\",O25<>\"\"),ort($N25,$O25,$AY$6:$AZ$7),\"\")","v":""},{"$f":"IF(AND($AA25=6,N25<>\"\",O25<>\"\"),ort($N25,$O25,$AY$8:$AZ$8),\"\")","v":""},{"$f":"IF(AND($AA25=7,N25<>\"\",O25<>\"\"),ort($N25,$O25,$AY$9:$AZ$9),\"\")","v":""},{"$f":"IF(AND($AA25<6,P25<>\"\",Q25<>\"\"),ort($P25,$Q25,$AY$3:$AZ$3),\"\")","v":""},{"$f":"IF(AND($AA25<6,P25<>\"\",Q25<>\"\"),ort($P25,$Q25,$AY$4:$AZ$5),\"\")","v":""},{"$f":"IF(AND($AA25<6,P25<>\"\",Q25<>\"\"),ort($P25,$Q25,$AY$6:$AZ$7),\"\")","v":""},{"$f":"IF(AND($AA25=6,P25<>\"\",Q25<>\"\"),ort($P25,$Q25,$AY$8:$AZ$8),\"\")","v":""},{"$f":"IF(AND($AA25=7,P25<>\"\",Q25<>\"\"),ort($P25,$Q25,$AY$9:$AZ$9),\"\")","v":""},{"$f":"IF(AND($AA25<6,R25<>\"\",S25<>\"\"),ort($R25,$S25,$AY$3:$AZ$3),\"\")","v":""},{"$f":"IF(AND($AA25<6,R25<>\"\",S25<>\"\"),ort($R25,$S25,$AY$4:$AZ$5),\"\")","v":""},{"$f":"IF(AND($AA25<6,R25<>\"\",S25<>\"\"),ort($R25,$S25,$AY$6:$AZ$7),\"\")","v":""},{"$f":"IF(AND($AA25=6,R25<>\"\",S25<>\"\"),ort($R25,$S25,$AY$8:$AZ$8),\"\")","v":""},{"$f":"IF(AND($AA25=7,R25<>\"\",S25<>\"\"),ort($R25,$S25,$AY$9:$AZ$9),\"\")","v":""},{"$f":"IF(AND($AA25<6,T25<>\"\",U25<>\"\"),ort($T25,$U25,$AY$3:$AZ$3),\"\")","v":""},{"$f":"IF(AND($AA25<6,T25<>\"\",U25<>\"\"),ort($T25,$U25,$AY$4:$AZ$5),\"\")","v":""},{"$f":"IF(AND($AA25<6,T25<>\"\",U25<>\"\"),ort($T25,$U25,$AY$6:$AZ$7),\"\")","v":""},{"$f":"IF(AND($AA25=6,T25<>\"\",U25<>\"\"),ort($T25,$U25,$AY$8:$AZ$8),\"\")","v":""},{"$f":"IF(AND($AA25=7,T25<>\"\",U25<>\"\"),ort($T25,$U25,$AY$9:$AZ$9),\"\")","v":""},null,null,null,null,null,null,null,null,null,"00:00:00"]
[null,null,null,null,null,null,null,null,null,"",52,{"$f":"DATE($B$3,$B$4,24)","v":"2018-12-24"},{"$f":"DATE($B$3,$B$4,24)","v":"2018-12-24"},null,"00:00:00",null,null,null,null,null,null,"","","","","",{"$f":"IF(ISERROR(IF(NOT(ISERROR(MATCH($M26,Blad2!$A$2:$A$11,0))),7,WEEKDAY($M26,2))),\"\",IF(NOT(ISERROR(MATCH($M26,Blad2!$A$2:$A$11,0))),7,WEEKDAY($M26,2)))","v":1},{"$f":"IF(AND($AA26<6,N26<>\"\",O26<>\"\"),ort($N26,$O26,$AY$3:$AZ$3),\"\")","v":""},{"$f":"IF(AND($AA26<6,N26<>\"\",O26<>\"\"),ort($N26,$O26,$AY$4:$AZ$5),\"\")","v":""},{"$f":"IF(AND($AA26<6,N26<>\"\",O26<>\"\"),ort($N26,$O26,$AY$6:$AZ$7),\"\")","v":""},{"$f":"IF(AND($AA26=6,N26<>\"\",O26<>\"\"),ort($N26,$O26,$AY$8:$AZ$8),\"\")","v":""},{"$f":"IF(AND($AA26=7,N26<>\"\",O26<>\"\"),ort($N26,$O26,$AY$9:$AZ$9),\"\")","v":""},{"$f":"IF(AND($AA26<6,P26<>\"\",Q26<>\"\"),ort($P26,$Q26,$AY$3:$AZ$3),\"\")","v":""},{"$f":"IF(AND($AA26<6,P26<>\"\",Q26<>\"\"),ort($P26,$Q26,$AY$4:$AZ$5),\"\")","v":""},{"$f":"IF(AND($AA26<6,P26<>\"\",Q26<>\"\"),ort($P26,$Q26,$AY$6:$AZ$7),\"\")","v":""},{"$f":"IF(AND($AA26=6,P26<>\"\",Q26<>\"\"),ort($P26,$Q26,$AY$8:$AZ$8),\"\")","v":""},{"$f":"IF(AND($AA26=7,P26<>\"\",Q26<>\"\"),ort($P26,$Q26,$AY$9:$AZ$9),\"\")","v":""},{"$f":"IF(AND($AA26<6,R26<>\"\",S26<>\"\"),ort($R26,$S26,$AY$3:$AZ$3),\"\")","v":""},{"$f":"IF(AND($AA26<6,R26<>\"\",S26<>\"\"),ort($R26,$S26,$AY$4:$AZ$5),\"\")","v":""},{"$f":"IF(AND($AA26<6,R26<>\"\",S26<>\"\"),ort($R26,$S26,$AY$6:$AZ$7),\"\")","v":""},{"$f":"IF(AND($AA26=6,R26<>\"\",S26<>\"\"),ort($R26,$S26,$AY$8:$AZ$8),\"\")","v":""},{"$f":"IF(AND($AA26=7,R26<>\"\",S26<>\"\"),ort($R26,$S26,$AY$9:$AZ$9),\"\")","v":""},{"$f":"IF(AND($AA26<6,T26<>\"\",U26<>\"\"),ort($T26,$U26,$AY$3:$AZ$3),\"\")","v":""},{"$f":"IF(AND($AA26<6,T26<>\"\",U26<>\"\"),ort($T26,$U26,$AY$4:$AZ$5),\"\")","v":""},{"$f":"IF(AND($AA26<6,T26<>\"\",U26<>\"\"),ort($T26,$U26,$AY$6:$AZ$7),\"\")","v":""},{"$f":"IF(AND($AA26=6,T26<>\"\",U26<>\"\"),ort($T26,$U26,$AY$8:$AZ$8),\"\")","v":""},{"$f":"IF(AND($AA26=7,T26<>\"\",U26<>\"\"),ort($T26,$U26,$AY$9:$AZ$9),\"\")","v":""},null,null,null,null,null,null,null,null,null,"00:00:00"]
[null,null,null,null,null,null,null,null,null,"","",{"$f":"DATE($B$3,$B$4,25)","v":"2018-12-25"},{"$f":"DATE($B$3,$B$4,25)","v":"2018-12-25"},null,"00:00:00",null,null,null,null,null,null,"","","","","",{"$f":"IF(ISERROR(IF(NOT(ISERROR(MATCH($M27,Blad2!$A$2:$A$11,0))),7,WEEKDAY($M27,2))),\"\",IF(NOT(ISERROR(MATCH($M27,Blad2!$A$2:$A$11,0))),7,WEEKDAY($M27,2)))","v":2},{"$f":"IF(AND($AA27<6,N27<>\"\",O27<>\"\"),ort($N27,$O27,$AY$3:$AZ$3),\"\")","v":""},{"$f":"IF(AND($AA27<6,N27<>\"\",O27<>\"\"),ort($N27,$O27,$AY$4:$AZ$5),\"\")","v":""},{"$f":"IF(AND($AA27<6,N27<>\"\",O27<>\"\"),ort($N27,$O27,$AY$6:$AZ$7),\"\")","v":""},{"$f":"IF(AND($AA27=6,N27<>\"\",O27<>\"\"),ort($N27,$O27,$AY$8:$AZ$8),\"\")","v":""},{"$f":"IF(AND($AA27=7,N27<>\"\",O27<>\"\"),ort($N27,$O27,$AY$9:$AZ$9),\"\")","v":""},{"$f":"IF(AND($AA27<6,P27<>\"\",Q27<>\"\"),ort($P27,$Q27,$AY$3:$AZ$3),\"\")","v":""},{"$f":"IF(AND($AA27<6,P27<>\"\",Q27<>\"\"),ort($P27,$Q27,$AY$4:$AZ$5),\"\")","v":""},{"$f":"IF(AND($AA27<6,P27<>\"\",Q27<>\"\"),ort($P27,$Q27,$AY$6:$AZ$7),\"\")","v":""},{"$f":"IF(AND($AA27=6,P27<>\"\",Q27<>\"\"),ort($P27,$Q27,$AY$8:$AZ$8),\"\")","v":""},{"$f":"IF(AND($AA27=7,P27<>\"\",Q27<>\"\"),ort($P27,$Q27,$AY$9:$AZ$9),\"\")","v":""},{"$f":"IF(AND($AA27<6,R27<>\"\",S27<>\"\"),ort($R27,$S27,$AY$3:$AZ$3),\"\")","v":""},{"$f":"IF(AND($AA27<6,R27<>\"\",S27<>\"\"),ort($R27,$S27,$AY$4:$AZ$5),\"\")","v":""},{"$f":"IF(AND($AA27<6,R27<>\"\",S27<>\"\"),ort($R27,$S27,$AY$6:$AZ$7),\"\")","v":""},{"$f":"IF(AND($AA27=6,R27<>\"\",S27<>\"\"),ort($R27,$S27,$AY$8:$AZ$8),\"\")","v":""},{"$f":"IF(AND($AA27=7,R27<>\"\",S27<>\"\"),ort($R27,$S27,$AY$9:$AZ$9),\"\")","v":""},{"$f":"IF(AND($AA27<6,T27<>\"\",U27<>\"\"),ort($T27,$U27,$AY$3:$AZ$3),\"\")","v":""},{"$f":"IF(AND($AA27<6,T27<>\"\",U27<>\"\"),ort($T27,$U27,$AY$4:$AZ$5),\"\")","v":""},{"$f":"IF(AND($AA27<6,T27<>\"\",U27<>\"\"),ort($T27,$U27,$AY$6:$AZ$7),\"\")","v":""},{"$f":"IF(AND($AA27=6,T27<>\"\",U27<>\"\"),ort($T27,$U27,$AY$8:$AZ$8),\"\")","v":""},{"$f":"IF(AND($AA27=7,T27<>\"\",U27<>\"\"),ort($T27,$U27,$AY$9:$AZ$9),\"\")","v":""},null,null,null,null,null,null,null,null,null,"00:00:00"]
[null,null,null,null,null,null,null,null,null,"Kerstdag","",{"$f":"DATE($B$3,$B$4,26)","v":"2018-12-26"},{"$f":"DATE($B$3,$B$4,26)","v":"2018-12-26"},null,"00:00:00",null,null,null,null,null,null,"","","","","",{"$f":"IF(ISERROR(IF(NOT(ISERROR(MATCH($M28,Blad2!$A$2:$A$11,0))),7,WEEKDAY($M28,2))),\"\",IF(NOT(ISERROR(MATCH($M28,Blad2!$A$2:$A$11,0))),7,WEEKDAY($M28,2)))","v":7},{"$f":"IF(AND($AA28<6,N28<>\"\",O28<>\"\"),ort($N28,$O28,$AY$3:$AZ$3),\"\")","v":""},{"$f":"IF(AND($AA28<6,N28<>\"\",O28<>\"\"),ort($N28,$O28,$AY$4:$AZ$5),\"\")","v":""},{"$f":"IF(AND($AA28<6,N28<>\"\",O28<>\"\"),ort($N28,$O28,$AY$6:$AZ$7),\"\")","v":""},{"$f":"IF(AND($AA28=6,N28<>\"\",O28<>\"\"),ort($N28,$O28,$AY$8:$AZ$8),\"\")","v":""},{"$f":"IF(AND($AA28=7,N28<>\"\",O28<>\"\"),ort($N28,$O28,$AY$9:$AZ$9),\"\")","v":""},{"$f":"IF(AND($AA28<6,P28<>\"\",Q28<>\"\"),ort($P28,$Q28,$AY$3:$AZ$3),\"\")","v":""},{"$f":"IF(AND($AA28<6,P28<>\"\",Q28<>\"\"),ort($P28,$Q28,$AY$4:$AZ$5),\"\")","v":""},{"$f":"IF(AND($AA28<6,P28<>\"\",Q28<>\"\"),ort($P28,$Q28,$AY$6:$AZ$7),\"\")","v":""},{"$f":"IF(AND($AA28=6,P28<>\"\",Q28<>\"\"),ort($P28,$Q28,$AY$8:$AZ$8),\"\")","v":""},{"$f":"IF(AND($AA28=7,P28<>\"\",Q28<>\"\"),ort($P28,$Q28,$AY$9:$AZ$9),\"\")","v":""},{"$f":"IF(AND($AA28<6,R28<>\"\",S28<>\"\"),ort($R28,$S28,$AY$3:$AZ$3),\"\")","v":""},{"$f":"IF(AND($AA28<6,R28<>\"\",S28<>\"\"),ort($R28,$S28,$AY$4:$AZ$5),\"\")","v":""},{"$f":"IF(AND($AA28<6,R28<>\"\",S28<>\"\"),ort($R28,$S28,$AY$6:$AZ$7),\"\")","v":""},{"$f":"IF(AND($AA28=6,R28<>\"\",S28<>\"\"),ort($R28,$S28,$AY$8:$AZ$8),\"\")","v":""},{"$f":"IF(AND($AA28=7,R28<>\"\",S28<>\"\"),ort($R28,$S28,$AY$9:$AZ$9),\"\")","v":""},{"$f":"IF(AND($AA28<6,T28<>\"\",U28<>\"\"),ort($T28,$U28,$AY$3:$AZ$3),\"\")","v":""},{"$f":"IF(AND($AA28<6,T28<>\"\",U28<>\"\"),ort($T28,$U28,$AY$4:$AZ$5),\"\")","v":""},{"$f":"IF(AND($AA28<6,T28<>\"\",U28<>\"\"),ort($T28,$U28,$AY$6:$AZ$7),\"\")","v":""},{"$f":"IF(AND($AA28=6,T28<>\"\",U28<>\"\"),ort($T28,$U28,$AY$8:$AZ$8),\"\")","v":""},{"$f":"IF(AND($AA28=7,T28<>\"\",U28<>\"\"),ort($T28,$U28,$AY$9:$AZ$9),\"\")","v":""},null,null,null,null,null,null,null,null,null,"00:00:00"]
[null,null,null,null,null,null,null,null,null,"","",{"$f":"DATE($B$3,$B$4,27)","v":"2018-12-27"},{"$f":"DATE($B$3,$B$4,27)","v":"2018-12-27"},null,"00:00:00",null,null,null,null,null,null,"","","","","",{"$f":"IF(ISERROR(IF(NOT(ISERROR(MATCH($M29,Blad2!$A$2:$A$11,0))),7,WEEKDAY($M29,2))),\"\",IF(NOT(ISERROR(MATCH($M29,Blad2!$A$2:$A$11,0))),7,WEEKDAY($M29,2)))","v":4},{"$f":"IF(AND($AA29<6,N29<>\"\",O29<>\"\"),ort($N29,$O29,$AY$3:$AZ$3),\"\")","v":""},{"$f":"IF(AND($AA29<6,N29<>\"\",O29<>\"\"),ort($N29,$O29,$AY$4:$AZ$5),\"\")","v":""},{"$f":"IF(AND($AA29<6,N29<>\"\",O29<>\"\"),ort($N29,$O29,$AY$6:$AZ$7),\"\")","v":""},{"$f":"IF(AND($AA29=6,N29<>\"\",O29<>\"\"),ort($N29,$O29,$AY$8:$AZ$8),\"\")","v":""},{"$f":"IF(AND($AA29=7,N29<>\"\",O29<>\"\"),ort($N29,$O29,$AY$9:$AZ$9),\"\")","v":""},{"$f":"IF(AND($AA29<6,P29<>\"\",Q29<>\"\"),ort($P29,$Q29,$AY$3:$AZ$3),\"\")","v":""},{"$f":"IF(AND($AA29<6,P29<>\"\",Q29<>\"\"),ort($P29,$Q29,$AY$4:$AZ$5),\"\")","v":""},{"$f":"IF(AND($AA29<6,P29<>\"\",Q29<>\"\"),ort($P29,$Q29,$AY$6:$AZ$7),\"\")","v":""},{"$f":"IF(AND($AA29=6,P29<>\"\",Q29<>\"\"),ort($P29,$Q29,$AY$8:$AZ$8),\"\")","v":""},{"$f":"IF(AND($AA29=7,P29<>\"\",Q29<>\"\"),ort($P29,$Q29,$AY$9:$AZ$9),\"\")","v":""},{"$f":"IF(AND($AA29<6,R29<>\"\",S29<>\"\"),ort($R29,$S29,$AY$3:$AZ$3),\"\")","v":""},{"$f":"IF(AND($AA29<6,R29<>\"\",S29<>\"\"),ort($R29,$S29,$AY$4:$AZ$5),\"\")","v":""},{"$f":"IF(AND($AA29<6,R29<>\"\",S29<>\"\"),ort($R29,$S29,$AY$6:$AZ$7),\"\")","v":""},{"$f":"IF(AND($AA29=6,R29<>\"\",S29<>\"\"),ort($R29,$S29,$AY$8:$AZ$8),\"\")","v":""},{"$f":"IF(AND($AA29=7,R29<>\"\",S29<>\"\"),ort($R29,$S29,$AY$9:$AZ$9),\"\")","v":""},{"$f":"IF(AND($AA29<6,T29<>\"\",U29<>\"\"),ort($T29,$U29,$AY$3:$AZ$3),\"\")","v":""},{"$f":"IF(AND($AA29<6,T29<>\"\",U29<>\"\"),ort($T29,$U29,$AY$4:$AZ$5),\"\")","v":""},{"$f":"IF(AND($AA29<6,T29<>\"\",U29<>\"\"),ort($T29,$U29,$AY$6:$AZ$7),\"\")","v":""},{"$f":"IF(AND($AA29=6,T29<>\"\",U29<>\"\"),ort($T29,$U29,$AY$8:$AZ$8),\"\")","v":""},{"$f":"IF(AND($AA29=7,T29<>\"\",U29<>\"\"),ort($T29,$U29,$AY$9:$AZ$9),\"\")","v":""},null,null,null,null,null,null,null,null,null,"00:00:00"]
[null,null,null,null,null,null,null,null,null,"","",{"$f":"DATE($B$3,$B$4,28)","v":"2018-12-28"},{"$f":"DATE($B$3,$B$4,28)","v":"2018-12-28"},null,"00:00:00",null,null,null,null,null,null,"","","","","",{"$f":"IF(ISERROR(IF(NOT(ISERROR(MATCH($M30,Blad2!$A$2:$A$11,0))),7,WEEKDAY($M30,2))),\"\",IF(NOT(ISERROR(MATCH($M30,Blad2!$A$2:$A$11,0))),7,WEEKDAY($M30,2)))","v":5},{"$f":"IF(AND($AA30<6,N30<>\"\",O30<>\"\"),ort($N30,$O30,$AY$3:$AZ$3),\"\")","v":""},{"$f":"IF(AND($AA30<6,N30<>\"\",O30<>\"\"),ort($N30,$O30,$AY$4:$AZ$5),\"\")","v":""},{"$f":"IF(AND($AA30<6,N30<>\"\",O30<>\"\"),ort($N30,$O30,$AY$6:$AZ$7),\"\")","v":""},{"$f":"IF(AND($AA30=6,N30<>\"\",O30<>\"\"),ort($N30,$O30,$AY$8:$AZ$8),\"\")","v":""},{"$f":"IF(AND($AA30=7,N30<>\"\",O30<>\"\"),ort($N30,$O30,$AY$9:$AZ$9),\"\")","v":""},{"$f":"IF(AND($AA30<6,P30<>\"\",Q30<>\"\"),ort($P30,$Q30,$AY$3:$AZ$3),\"\")","v":""},{"$f":"IF(AND($AA30<6,P30<>\"\",Q30<>\"\"),ort($P30,$Q30,$AY$4:$AZ$5),\"\")","v":""},{"$f":"IF(AND($AA30<6,P30<>\"\",Q30<>\"\"),ort($P30,$Q30,$AY$6:$AZ$7),\"\")","v":""},{"$f":"IF(AND($AA30=6,P30<>\"\",Q30<>\"\"),ort($P30,$Q30,$AY$8:$AZ$8),\"\")","v":""},{"$f":"IF(AND($AA30=7,P30<>\"\",Q30<>\"\"),ort($P30,$Q30,$AY$9:$AZ$9),\"\")","v":""},{"$f":"IF(AND($AA30<6,R30<>\"\",S30<>\"\"),ort($R30,$S30,$AY$3:$AZ$3),\"\")","v":""},{"$f":"IF(AND($AA30<6,R30<>\"\",S30<>\"\"),ort($R30,$S30,$AY$4:$AZ$5),\"\")","v":""},{"$f":"IF(AND($AA30<6,R30<>\"\",S30<>\"\"),ort($R30,$S30,$AY$6:$AZ$7),\"\")","v":""},{"$f":"IF(AND($AA30=6,R30<>\"\",S30<>\"\"),ort($R30,$S30,$AY$8:$AZ$8),\"\")","v":""},{"$f":"IF(AND($AA30=7,R30<>\"\",S30<>\"\"),ort($R30,$S30,$AY$9:$AZ$9),\"\")","v":""},{"$f":"IF(AND($AA30<6,T30<>\"\",U30<>\"\"),ort($T30,$U30,$AY$3:$AZ$3),\"\")","v":""},{"$f":"IF(AND($AA30<6,T30<>\"\",U30<>\"\"),ort($T30,$U30,$AY$4:$AZ$5),\"\")","v":""},{"$f":"IF(AND($AA30<6,T30<>\"\",U30<>\"\"),ort($T30,$U30,$AY$6:$AZ$7),\"\")","v":""},{"$f":"IF(AND($AA30=6,T30<>\"\",U30<>\"\"),ort($T30,$U30,$AY$8:$AZ$8),\"\")","v":""},{"$f":"IF(AND($AA30=7,T30<>\"\",U30<>\"\"),ort($T30,$U30,$AY$9:$AZ$9),\"\")","v":""},null,null,null,null,null,null,null,null,null,"00:00:00"]
[null,null,null,null,null,null,null,null,null,"",{"$f":"IF(L31=\"\",\"\",IF(WEEKDAY(L31)=2,1+INT((L31-DATE(YEAR(L31+4-WEEKDAY(L31+6)),1,5)+WEEKDAY(DATE(YEAR(L31+4-WEEKDAY(L31+6)),1,3)))/7),\"\"))","v":""},{"$f":"IF(MONTH(L$30+1)<>MONTH(L$30),\"\",L$30+1)","v":"2018-12-29"},{"$f":"IF(MONTH(M$30+1)<>MONTH(M$30),\"\",M$30+1)","v":"2018-12-29"},null,"00:00:00",null,null,null,null,null,null,"","","","","",{"$f":"IF(ISERROR(IF(NOT(ISERROR(MATCH($M31,Blad2!$A$2:$A$11,0))),7,WEEKDAY($M31,2))),\"\",IF(NOT(ISERROR(MATCH($M31,Blad2!$A$2:$A$11,0))),7,WEEKDAY($M31,2)))","v":6},{"$f":"IF(AND($AA31<6,N31<>\"\",O31<>\"\"),ort($N31,$O31,$AY$3:$AZ$3),\"\")","v":""},{"$f":"IF(AND($AA31<6,N31<>\"\",O31<>\"\"),ort($N31,$O31,$AY$4:$AZ$5),\"\")","v":""},{"$f":"IF(AND($AA31<6,N31<>\"\",O31<>\"\"),ort($N31,$O31,$AY$6:$AZ$7),\"\")","v":""},{"$f":"IF(AND($AA31=6,N31<>\"\",O31<>\"\"),ort($N31,$O31,$AY$8:$AZ$8),\"\")","v":""},{"$f":"IF(AND($AA31=7,N31<>\"\",O31<>\"\"),ort($N31,$O31,$AY$9:$AZ$9),\"\")","v":""},{"$f":"IF(AND($AA31<6,P31<>\"\",Q31<>\"\"),ort($P31,$Q31,$AY$3:$AZ$3),\"\")","v":""},{"$f":"IF(AND($AA31<6,P31<>\"\",Q31<>\"\"),ort($P31,$Q31,$AY$4:$AZ$5),\"\")","v":""},{"$f":"IF(AND($AA31<6,P31<>\"\",Q31<>\"\"),ort($P31,$Q31,$AY$6:$AZ$7),\"\")","v":""},{"$f":"IF(AND($AA31=6,P31<>\"\",Q31<>\"\"),ort($P31,$Q31,$AY$8:$AZ$8),\"\")","v":""},{"$f":"IF(AND($AA31=7,P31<>\"\",Q31<>\"\"),ort($P31,$Q31,$AY$9:$AZ$9),\"\")","v":""},{"$f":"IF(AND($AA31<6,R31<>\"\",S31<>\"\"),ort($R31,$S31,$AY$3:$AZ$3),\"\")","v":""},{"$f":"IF(AND($AA31<6,R31<>\"\",S31<>\"\"),ort($R31,$S31,$AY$4:$AZ$5),\"\")","v":""},{"$f":"IF(AND($AA31<6,R31<>\"\",S31<>\"\"),ort($R31,$S31,$AY$6:$AZ$7),\"\")","v":""},{"$f":"IF(AND($AA31=6,R31<>\"\",S31<>\"\"),ort($R31,$S31,$AY$8:$AZ$8),\"\")","v":""},{"$f":"IF(AND($AA31=7,R31<>\"\",S31<>\"\"),ort($R31,$S31,$AY$9:$AZ$9),\"\")","v":""},{"$f":"IF(AND($AA31<6,T31<>\"\",U31<>\"\"),ort($T31,$U31,$AY$3:$AZ$3),\"\")","v":""},{"$f":"IF(AND($AA31<6,T31<>\"\",U31<>\"\"),ort($T31,$U31,$AY$4:$AZ$5),\"\")","v":""},{"$f":"IF(AND($AA31<6,T31<>\"\",U31<>\"\"),ort($T31,$U31,$AY$6:$AZ$7),\"\")","v":""},{"$f":"IF(AND($AA31=6,T31<>\"\",U31<>\"\"),ort($T31,$U31,$AY$8:$AZ$8),\"\")","v":""},{"$f":"IF(AND($AA31=7,T31<>\"\",U31<>\"\"),ort($T31,$U31,$AY$9:$AZ$9),\"\")","v":""},null,null,null,null,null,null,null,null,null,"00:00:00"]
[null,"Totaal Uren incl 150 %",null,null,null,null,null,null,null,"","",{"$f":"IF(L31=\"\",\"\",IF(MONTH($M31+1)<>MONTH($M31),\"\",$M31+1))","v":"2018-12-30"},{"$f":"IF(M31=\"\",\"\",IF(MONTH($M31+1)<>MONTH($M31),\"\",$M31+1))","v":"2018-12-30"},null,"00:00:00",null,null,null,null,null,null,"","","","","",{"$f":"IF(ISERROR(IF(NOT(ISERROR(MATCH($M32,Blad2!$A$2:$A$11,0))),7,WEEKDAY($M32,2))),\"\",IF(NOT(ISERROR(MATCH($M32,Blad2!$A$2:$A$11,0))),7,WEEKDAY($M32,2)))","v":7},{"$f":"IF(AND($AA32<6,N32<>\"\",O32<>\"\"),ort($N32,$O32,$AY$3:$AZ$3),\"\")","v":""},{"$f":"IF(AND($AA32<6,N32<>\"\",O32<>\"\"),ort($N32,$O32,$AY$4:$AZ$5),\"\")","v":""},{"$f":"IF(AND($AA32<6,N32<>\"\",O32<>\"\"),ort($N32,$O32,$AY$6:$AZ$7),\"\")","v":""},{"$f":"IF(AND($AA32=6,N32<>\"\",O32<>\"\"),ort($N32,$O32,$AY$8:$AZ$8),\"\")","v":""},{"$f":"IF(AND($AA32=7,N32<>\"\",O32<>\"\"),ort($N32,$O32,$AY$9:$AZ$9),\"\")","v":""},{"$f":"IF(AND($AA32<6,P32<>\"\",Q32<>\"\"),ort($P32,$Q32,$AY$3:$AZ$3),\"\")","v":""},{"$f":"IF(AND($AA32<6,P32<>\"\",Q32<>\"\"),ort($P32,$Q32,$AY$4:$AZ$5),\"\")","v":""},{"$f":"IF(AND($AA32<6,P32<>\"\",Q32<>\"\"),ort($P32,$Q32,$AY$6:$AZ$7),\"\")","v":""},{"$f":"IF(AND($AA32=6,P32<>\"\",Q32<>\"\"),ort($P32,$Q32,$AY$8:$AZ$8),\"\")","v":""},{"$f":"IF(AND($AA32=7,P32<>\"\",Q32<>\"\"),ort($P32,$Q32,$AY$9:$AZ$9),\"\")","v":""},{"$f":"IF(AND($AA32<6,R32<>\"\",S32<>\"\"),ort($R32,$S32,$AY$3:$AZ$3),\"\")","v":""},{"$f":"IF(AND($AA32<6,R32<>\"\",S32<>\"\"),ort($R32,$S32,$AY$4:$AZ$5),\"\")","v":""},{"$f":"IF(AND($AA32<6,R32<>\"\",S32<>\"\"),ort($R32,$S32,$AY$6:$AZ$7),\"\")","v":""},{"$f":"IF(AND($AA32=6,R32<>\"\",S32<>\"\"),ort($R32,$S32,$AY$8:$AZ$8),\"\")","v":""},{"$f":"IF(AND($AA32=7,R32<>\"\",S32<>\"\"),ort($R32,$S32,$AY$9:$AZ$9),\"\")","v":""},{"$f":"IF(AND($AA32<6,T32<>\"\",U32<>\"\"),ort($T32,$U32,$AY$3:$AZ$3),\"\")","v":""},{"$f":"IF(AND($AA32<6,T32<>\"\",U32<>\"\"),ort($T32,$U32,$AY$4:$AZ$5),\"\")","v":""},{"$f":"IF(AND($AA32<6,T32<>\"\",U32<>\"\"),ort($T32,$U32,$AY$6:$AZ$7),\"\")","v":""},{"$f":"IF(AND($AA32=6,T32<>\"\",U32<>\"\"),ort($T32,$U32,$AY$8:$AZ$8),\"\")","v":""},{"$f":"IF(AND($AA32=7,T32<>\"\",U32<>\"\"),ort($T32,$U32,$AY$9:$AZ$9),\"\")","v":""},null,null,null,null,null,null,null,null,null,"00:00:00"]
[null,{"$f":"SUM(U36,W37)","v":0},null,null,null,null,null,null,null,"",{"$f":"IF(L33=\"\",\"\",IF(WEEKDAY(L33)=2,1+INT((L33-DATE(YEAR(L33+4-WEEKDAY(L33+6)),1,5)+WEEKDAY(DATE(YEAR(L33+4-WEEKDAY(L33+6)),1,3)))/7),\"\"))","v":1},{"$f":"IF(L32=\"\",\"\",IF(MONTH($M32+1)<>MONTH($M32),\"\",$M32+1))","v":"2018-12-31"},{"$f":"IF(M32=\"\",\"\",IF(MONTH($M32+1)<>MONTH($M32),\"\",$M32+1))","v":"2018-12-31"},null,"00:00:00",null,null,null,null,null,null,"","","","","",{"$f":"IF(ISERROR(IF(NOT(ISERROR(MATCH($M33,Blad2!$A$2:$A$11,0))),7,WEEKDAY($M33,2))),\"\",IF(NOT(ISERROR(MATCH($M33,Blad2!$A$2:$A$11,0))),7,WEEKDAY($M33,2)))","v":1},{"$f":"IF(AND($AA33<6,N33<>\"\",O33<>\"\"),ort($N33,$O33,$AY$3:$AZ$3),\"\")","v":""},{"$f":"IF(AND($AA33<6,N33<>\"\",O33<>\"\"),ort($N33,$O33,$AY$4:$AZ$5),\"\")","v":""},{"$f":"IF(AND($AA33<6,N33<>\"\",O33<>\"\"),ort($N33,$O33,$AY$6:$AZ$7),\"\")","v":""},{"$f":"IF(AND($AA33=6,N33<>\"\",O33<>\"\"),ort($N33,$O33,$AY$8:$AZ$8),\"\")","v":""},{"$f":"IF(AND($AA33=7,N33<>\"\",O33<>\"\"),ort($N33,$O33,$AY$9:$AZ$9),\"\")","v":""},{"$f":"IF(AND($AA33<6,P33<>\"\",Q33<>\"\"),ort($P33,$Q33,$AY$3:$AZ$3),\"\")","v":""},{"$f":"IF(AND($AA33<6,P33<>\"\",Q33<>\"\"),ort($P33,$Q33,$AY$4:$AZ$5),\"\")","v":""},{"$f":"IF(AND($AA33<6,P33<>\"\",Q33<>\"\"),ort($P33,$Q33,$AY$6:$AZ$7),\"\")","v":""},{"$f":"IF(AND($AA33=6,P33<>\"\",Q33<>\"\"),ort($P33,$Q33,$AY$8:$AZ$8),\"\")","v":""},{"$f":"IF(AND($AA33=7,P33<>\"\",Q33<>\"\"),ort($P33,$Q33,$AY$9:$AZ$9),\"\")","v":""},{"$f":"IF(AND($AA33<6,R33<>\"\",S33<>\"\"),ort($R33,$S33,$AY$3:$AZ$3),\"\")","v":""},{"$f":"IF(AND($AA33<6,R33<>\"\",S33<>\"\"),ort($R33,$S33,$AY$4:$AZ$5),\"\")","v":""},{"$f":"IF(AND($AA33<6,R33<>\"\",S33<>\"\"),ort($R33,$S33,$AY$6:$AZ$7),\"\")","v":""},{"$f":"IF(AND($AA33=6,R33<>\"\",S33<>\"\"),ort($R33,$S33,$AY$8:$AZ$8),\"\")","v":""},{"$f":"IF(AND($AA33=7,R33<>\"\",S33<>\"\"),ort($R33,$S33,$AY$9:$AZ$9),\"\")","v":""},{"$f":"IF(AND($AA33<6,T33<>\"\",U33<>\"\"),ort($T33,$U33,$AY$3:$AZ$3),\"\")","v":""},{"$f":"IF(AND($AA33<6,T33<>\"\",U33<>\"\"),ort($T33,$U33,$AY$4:$AZ$5),\"\")","v":""},{"$f":"IF(AND($AA33<6,T33<>\"\",U33<>\"\"),ort($T33,$U33,$AY$6:$AZ$7),\"\")","v":""},{"$f":"IF(AND($AA33=6,T33<>\"\",U33<>\"\"),ort($T33,$U33,$AY$8:$AZ$8),\"\")","v":""},{"$f":"IF(AND($AA33=7,T33<>\"\",U33<>\"\"),ort($T33,$U33,$AY$9:$AZ$9),\"\")","v":""}," ",null,null,null,null,null,null,null,null,"00:00:00"]
[null,null,null,null,null,null,null,null,null,null,null,null,null,null,null,null,null,null,null,null,null,null,{"$f":"SUM(W3:W33)","v":0},{"$f":"SUM(X3:X33)","v":0},0,0]
[null,null,null,null,null,null,null,null,null,null,null,null,"Plus / Min Uren Incl 150 % Uren",null,null,null,null,null,"Contract Uren",null,{"$f":"SUM(B17)","v":3.75}]
[null,null,null,null,null,null,null,null,null,null,null,null,{"$f":"SUM(B33-B17)","v":-3.75},null,null,5,null,"Gewerkte Uren 100 %",null,null,{"$f":"SUM(W34:X34)","v":0}]
[null,null,null,null,null,null,null,null,null,null,null,null,"Uitbetalen / Verlof",null,null,{"$f":"SUM(M36*P36)*24","v":-450},null,"Gewerkte Uren 150 %",null,null,{"$f":"SUM(Y34)","v":0},"X 150%",{"$f":"SUM(U37*150%)","v":0}]
[null,null,null,null,null,null,null,null,null,null,null,null,null,null,null,null,null,null,"Plus Uren"]
[null,null,null,null,null,null,null,null,null,null,null,null,null,null,null,null,null,null,"Min Uren"]

{"sheet":"Blad2","index":12,"n_rows":13,"n_cols":7,"rows_kept":13,"cut":false,"hidden":false,"merged":[]}
[null,null,null,"Verlof","Moet blijven staan"]
[{"$f":"DATE(jaar,1,1)","v":"2018-01-01"},"Nieuwjaarsdag",null,"ATV","Moet blijven staan"]
[{"$f":"FLOOR(DAY(MINUTE(jaar/38)/2+56)&\"/5/\"&jaar,7)-34","v":"2018-04-07"},"Paasdag"]
[{"$f":"FLOOR(DAY(MINUTE(jaar/38)/2+56)&\"/5/\"&jaar,7)-33","v":"2018-04-08"},"Paasmaandag"]
[{"$f":"IF(WEEKDAY(DATE(jaar,4,27),11)=7,DATE(jaar,4,26),DATE(jaar,4,27))","v":"2018-04-27"},"Koningsdag"]
[{"$f":"IF(OR(RIGHT(Januari!B3,1)*1=0,RIGHT(Januari!B3,1)*1=5),DATE(jaar,5,5),\"0\")","v":"0"},"Bevrijdingsdag"]
[{"$f":"FLOOR(DAY(MINUTE(jaar/38)/2+56)&\"/5/\"&jaar,7)+5","v":"2018-05-16"},"Hemelvaartsdag"]
[{"$f":"FLOOR(DAY(MINUTE(jaar/38)/2+56)&\"/5/\"&jaar,7)+15","v":"2018-05-26"},"Pinksteren",null,null,"Standaardwerktijden ingeven"]
[{"$f":"FLOOR(DAY(MINUTE(jaar/38)/2+56)&\"/5/\"&jaar,7)+16","v":"2018-05-27"},"Pinkstermaandag",null,null,null,"Tijd in","Tijd uit"]
["2018-12-26","Kerstdag",null,null,"1st werkperiode","07:30:00","09:30:00"]
[{"$f":"DATE(jaar,12,26)","v":"2018-12-26"},"2de Kerstdag",null,null,"2de werkperiode","10:00:00","12:30:00"]
["2022-01-16","Verlof",null,null,"3de werkperiode","13:00:00","16:30:00"]
["2022-01-09","Verlof",null,null,"4de werkperiode"]