{"text_format":"1","workbook":"xlsx","n_sheets":2,"sheets":["Data","Weken 2018"],"not_rendered":{"charts":0,"images":0,"macros":1,"external_links":0,"defined_names":0,"comments":0,"pivot_tables":0},"unopened":[],"bounds":{"document_bytes":16777216,"sheet_cells":100000,"rows_first":2000,"rows_last":500,"rows_between":2000,"halvings":0,"cell_chars":16384,"cell_head_chars":4096},"cells_cut":0,"cells_raw":0,"read":"whole","date_system":"1900"}

{"sheet":"Data","index":0,"n_rows":19,"n_cols":37,"rows_kept":19,"cut":false,"hidden":false,"merged":[[0,8,0,9]]}
["Document","Week","Dag","Uur","Samenvoegen","Even week of niet","Weekend of niet","Datum","documenten opgemaakt tussen vb tussen 07u tot 15u",null,"Stapelnummer in de even week","stapelnummer in de oneven week",null,"Stappelnummer(JP)"]
["A",23,6,"09:35:00",{"$f":"CONCATENATE(B2,\"\",C2,\"\")","v":"236"},{"$f":"ISEVEN(B2)","v":false},{"$f":" IF(WEEKDAY('Weken 2018'!A1:F366,2)>5,\"TRUE\",\"FALSE\")","v":"TRUE"},{"$f":"MijnDatum(B2,C2)","v":"2018-06-06"},7,15,1,2,null,{"$f":"VLOOKUP(D2,OFFSET($Z$4:$AK$7,,MATCH((MOD(B2,2)+1&IF(WEEKDAY(H2,2)>5,2,1))*1,$AA$3:$AK$3,0)),2,1)","v":2}]
["B",23,4,"13:06:00","234",false,{"$f":" IF(WEEKDAY('Weken 2018'!A2:F367,2)>5,\"TRUE\",\"FALSE\")","v":"FALSE"},{"$f":"MijnDatum(B3,C3)","v":"2018-06-04"},15,23,2,1,null,{"$f":"VLOOKUP(D3,OFFSET($Z$4:$AK$7,,MATCH((MOD(B3,2)+1&IF(WEEKDAY(H3,2)>5,2,1))*1,$AA$3:$AK$3,0)),2,1)","v":2},null,null,null,null,null,null,null,null,null,null,null,null,11,null,null,21,null,null,12,null,null,22]
["C",22,4,"14:48:00","224",true,{"$f":" IF(WEEKDAY('Weken 2018'!A3:F368,2)>5,\"TRUE\",\"FALSE\")","v":"FALSE"},"",23,8,3,3,null,{"$error":"#VALUE!"},null,null,null,null,null,null,null,null,null,null,null,null,"00:00:00",3,null,"00:00:00",3,null,"00:00:00",5,null,"00:00:00",4]
["D",23,7,"08:47:00","237",false,{"$f":" IF(WEEKDAY('Weken 2018'!A4:F369,2)>5,\"TRUE\",\"FALSE\")","v":"FALSE"},"2018-06-07",8,20,4,5,null,2,null,null,null,null,null,null,null,null,null,null,null,null,"07:00:00",1,null,"07:00:00",2,null,"08:00:00",4,null,"08:00:00",5]
["E",23,7,"08:45:00","237",false,{"$f":" IF(WEEKDAY('Weken 2018'!A5:F370,2)>5,\"TRUE\",\"FALSE\")","v":"FALSE"},"2018-06-07",20,8,5,4,null,2,null,null,null,null,null,null,null,null,null,null,null,null,"15:00:00",2,null,"15:00:00",1,null,"20:00:00",5,null,"20:00:00",4]
["F",25,18,"16:50:00","2518",false,{"$f":" IF(WEEKDAY('Weken 2018'!A6:F371,2)>5,\"TRUE\",\"FALSE\")","v":"TRUE"},"2018-06-18",null,null,null,null,null,1,null,null,null,null,null,null,null,null,null,null,null,null,"23:59:00",3,null,"23:59:00",3,null,"23:59:00",5,null,"23:59:00",4]
["G",23,5,"14:48:00","235",false,{"$f":" IF(WEEKDAY('Weken 2018'!A7:F372,2)>5,\"TRUE\",\"FALSE\")","v":"TRUE"},"2018-06-05",null,null,null,null,null,2]
["H",20,19,"11:10:00","2019",true,{"$f":" IF(WEEKDAY('Weken 2018'!A8:F373,2)>5,\"TRUE\",\"FALSE\")","v":"FALSE"},"2018-05-19",null,null,null,null,null,4]
["I",23,5,"14:30:00","235",false,{"$f":" IF(WEEKDAY('Weken 2018'!A9:F374,2)>5,\"TRUE\",\"FALSE\")","v":"FALSE"},"2018-06-05",null,null,null,null,null,2]
["J",23,7,"08:30:00","237",false,{"$f":" IF(WEEKDAY('Weken 2018'!A10:F375,2)>5,\"TRUE\",\"FALSE\")","v":"FALSE"},"2018-06-07",null,null,null,null,null,2]
["K",23,7,"08:55:00","237",false,{"$f":" IF(WEEKDAY('Weken 2018'!A11:F376,2)>5,\"TRUE\",\"FALSE\")","v":"TRUE"},"2018-06-07",null,null,null,null,null,2]
[null,null,null,null,null,true]
[]
[]
[null,"Iedere week worden stapels met documenten gecontroleerd. Ieder document heeft een registratie van de week waarin dit werd opgemaakt, de dag en het uur. "]
[null,"De documenten moeten verdeeld worden in 5 stapels, naargelang het uur het document werd opgemaakt en of het in een even week of oneven week werd opgemaakt"]
[]
[null,"Document A werd opgemaakt in week 23 op dag 6 om 09:35. In welke stapelnummer moet dit document terecht komen? --> dit werd in een oneven week opgemaakt, tussen 8u en 20u op een weekenddag --> in Stapel 5"]

{"sheet":"Weken 2018","index":1,"n_rows":366,"n_cols":13,"rows_kept":366,"cut":false,"hidden":false,"merged":[]}
[null,"Week uit datum gehaald","Dag ","Datum","Dag","Weeknummer"]
[{"$f":"(B2&C2)*1","v":101},{"$f":"Tabel1[[#This Row],[Weeknummer]]","v":1},{"$f":"TEXT(Tabel1[[#This Row],[Datum]],\"dd\")","v":"01"},"2018-01-01",{"$f":"CHOOSE(WEEKDAY(D2,2),\"maandag\",\"dinsdag\",\"woensdag\",\"donderdag\",\"vrijdag\",\"zaterdag\",\"zondag\")","v":"maandag"},{"$f":"WEEKNUM(D2,21)","v":1},null,null,null,"2018-01-01",null,null,"=TODAY()-WEEKDAY(TODAY(),2)+1"]
[{"$f":"(B3&C3)*1","v":102},{"$f":"Tabel1[[#This Row],[Weeknummer]]","v":1},{"$f":"TEXT(Tabel1[[#This Row],[Datum]],\"dd\")","v":"02"},"2018-01-02","dinsdag",1,null,null,null,null,null,null,{"$f":"TODAY()-WEEKDAY(TODAY(),2)+1","v":"2018-07-09"}]
[103,{"$f":"Tabel1[[#This Row],[Weeknummer]]","v":1},{"$f":"TEXT(Tabel1[[#This Row],[Datum]],\"dd\")","v":"03"},"2018-01-03","woensdag",1]
[104,{"$f":"Tabel1[[#This Row],[Weeknummer]]","v":1},{"$f":"TEXT(Tabel1[[#This Row],[Datum]],\"dd\")","v":"04"},"2018-01-04","donderdag",1,null,null,null,"=DATE(A2, 1, -2) - WEEKDAY(DATE(A2, 1, 3)) + B2 * 7"]
[105,{"$f":"Tabel1[[#This Row],[Weeknummer]]","v":1},{"$f":"TEXT(Tabel1[[#This Row],[Datum]],\"dd\")","v":"05"},"2018-01-05","vrijdag",1]
[106,{"$f":"Tabel1[[#This Row],[Weeknummer]]","v":1},{"$f":"TEXT(Tabel1[[#This Row],[Datum]],\"dd\")","v":"06"},"2018-01-06","zaterdag",1,null,null,null,{"$f":"(DATE(2018,1,-2)-WEEKDAY(DATE(2018,1,3))+B6*7)+1","v":43102},{"$f":"J7","v":"2018-01-02"}]
[107,{"$f":"Tabel1[[#This Row],[Weeknummer]]","v":1},{"$f":"TEXT(Tabel1[[#This Row],[Datum]],\"dd\")","v":"07"},"2018-01-07","zondag",1,null,null,null,{"$f":"(DATE(2018,1,-2)-WEEKDAY(DATE(2018,1,3))+B7*7)+1","v":43102}]
[208,{"$f":"Tabel1[[#This Row],[Weeknummer]]","v":2},{"$f":"TEXT(Tabel1[[#This Row],[Datum]],\"dd\")","v":"08"},"2018-01-08","maandag",2]
[209,{"$f":"Tabel1[[#This Row],[Weeknummer]]","v":2},{"$f":"TEXT(Tabel1[[#This Row],[Datum]],\"dd\")","v":"09"},"2018-01-09","dinsdag",2]
[210,{"$f":"Tabel1[[#This Row],[Weeknummer]]","v":2},{"$f":"TEXT(Tabel1[[#This Row],[Datum]],\"dd\")","v":"10"},"2018-01-10","woensdag",2]
[211,{"$f":"Tabel1[[#This Row],[Weeknummer]]","v":2},{"$f":"TEXT(Tabel1[[#This Row],[Datum]],\"dd\")","v":"11"},"2018-01-11","donderdag",2]
[212,{"$f":"Tabel1[[#This Row],[Weeknummer]]","v":2},{"$f":"TEXT(Tabel1[[#This Row],[Datum]],\"dd\")","v":"12"},"2018-01-12","vrijdag",2]
[213,{"$f":"Tabel1[[#This Row],[Weeknummer]]","v":2},{"$f":"TEXT(Tabel1[[#This Row],[Datum]],\"dd\")","v":"13"},"2018-01-13","zaterdag",2]
[214,{"$f":"Tabel1[[#This Row],[Weeknummer]]","v":2},{"$f":"TEXT(Tabel1[[#This Row],[Datum]],\"dd\")","v":"14"},"2018-01-14","zondag",2]
[315,{"$f":"Tabel1[[#This Row],[Weeknummer]]","v":3},{"$f":"TEXT(Tabel1[[#This Row],[Datum]],\"dd\")","v":"15"},"2018-01-15","maandag",3]
[316,{"$f":"Tabel1[[#This Row],[Weeknummer]]","v":3},{"$f":"TEXT(Tabel1[[#This Row],[Datum]],\"dd\")","v":"16"},"2018-01-16","dinsdag",3]
[317,{"$f":"Tabel1[[#This Row],[Weeknummer]]","v":3},{"$f":"TEXT(Tabel1[[#This Row],[Datum]],\"dd\")","v":"17"},"2018-01-17","woensdag",3]
[318,{"$f":"Tabel1[[#This Row],[Weeknummer]]","v":3},{"$f":"TEXT(Tabel1[[#This Row],[Datum]],\"dd\")","v":"18"},"2018-01-18","donderdag",3]
[319,{"$f":"Tabel1[[#This Row],[Weeknummer]]","v":3},{"$f":"TEXT(Tabel1[[#This Row],[Datum]],\"dd\")","v":"19"},"2018-01-19","vrijdag",3]
[320,{"$f":"Tabel1[[#This Row],[Weeknummer]]","v":3},{"$f":"TEXT(Tabel1[[#This Row],[Datum]],\"dd\")","v":"20"},"2018-01-20","zaterdag",3]
[321,{"$f":"Tabel1[[#This Row],[Weeknummer]]","v":3},{"$f":"TEXT(Tabel1[[#This Row],[Datum]],\"dd\")","v":"21"},"2018-01-21","zondag",3]
[422,{"$f":"Tabel1[[#This Row],[Weeknummer]]","v":4},{"$f":"TEXT(Tabel1[[#This Row],[Datum]],\"dd\")","v":"22"},"2018-01-22","maandag",4]
[423,{"$f":"Tabel1[[#This Row],[Weeknummer]]","v":4},{"$f":"TEXT(Tabel1[[#This Row],[Datum]],\"dd\")","v":"23"},"2018-01-23","dinsdag",4]
[424,{"$f":"Tabel1[[#This Row],[Weeknummer]]","v":4},{"$f":"TEXT(Tabel1[[#This Row],[Datum]],\"dd\")","v":"24"},"2018-01-24","woensdag",4]
[425,{"$f":"Tabel1[[#This Row],[Weeknummer]]","v":4},{"$f":"TEXT(Tabel1[[#This Row],[Datum]],\"dd\")","v":"25"},"2018-01-25","donderdag",4]
[426,{"$f":"Tabel1[[#This Row],[Weeknummer]]","v":4},{"$f":"TEXT(Tabel1[[#This Row],[Datum]],\"dd\")","v":"26"},"2018-01-26","vrijdag",4]
[427,{"$f":"Tabel1[[#This Row],[Weeknummer]]","v":4},{"$f":"TEXT(Tabel1[[#This Row],[Datum]],\"dd\")","v":"27"},"2018-01-27","zaterdag",4]
[428,{"$f":"Tabel1[[#This Row],[Weeknummer]]","v":4},{"$f":"TEXT(Tabel1[[#This Row],[Datum]],\"dd\")","v":"28"},"2018-01-28","zondag",4]
[529,{"$f":"Tabel1[[#This Row],[Weeknummer]]","v":5},{"$f":"TEXT(Tabel1[[#This Row],[Datum]],\"dd\")","v":"29"},"2018-01-29","maandag",5]
[530,{"$f":"Tabel1[[#This Row],[Weeknummer]]","v":5},{"$f":"TEXT(Tabel1[[#This Row],[Datum]],\"dd\")","v":"30"},"2018-01-30","dinsdag",5]
[531,{"$f":"Tabel1[[#This Row],[Weeknummer]]","v":5},{"$f":"TEXT(Tabel1[[#This Row],[Datum]],\"dd\")","v":"31"},"2018-01-31","woensdag",5]
[501,{"$f":"Tabel1[[#This Row],[Weeknummer]]","v":5},{"$f":"TEXT(Tabel1[[#This Row],[Datum]],\"dd\")","v":"01"},"2018-02-01","donderdag",5]
[502,{"$f":"Tabel1[[#This Row],[Weeknummer]]","v":5},{"$f":"TEXT(Tabel1[[#This Row],[Datum]],\"dd\")","v":"02"},"2018-02-02","vrijdag",5]
[503,{"$f":"Tabel1[[#This Row],[Weeknummer]]","v":5},{"$f":"TEXT(Tabel1[[#This Row],[Datum]],\"dd\")","v":"03"},"2018-02-03","zaterdag",5]
[504,{"$f":"Tabel1[[#This Row],[Weeknummer]]","v":5},{"$f":"TEXT(Tabel1[[#This Row],[Datum]],\"dd\")","v":"04"},"2018-02-04","zondag",5]
[605,{"$f":"Tabel1[[#This Row],[Weeknummer]]","v":6},{"$f":"TEXT(Tabel1[[#This Row],[Datum]],\"dd\")","v":"05"},"2018-02-05","maandag",6]
[606,{"$f":"Tabel1[[#This Row],[Weeknummer]]","v":6},{"$f":"TEXT(Tabel1[[#This Row],[Datum]],\"dd\")","v":"06"},"2018-02-06","dinsdag",6]
[607,{"$f":"Tabel1[[#This Row],[Weeknummer]]","v":6},{"$f":"TEXT(Tabel1[[#This Row],[Datum]],\"dd\")","v":"07"},"2018-02-07","woensdag",6]
[608,{"$f":"Tabel1[[#This Row],[Weeknummer]]","v":6},{"$f":"TEXT(Tabel1[[#This Row],[Datum]],\"dd\")","v":"08"},"2018-02-08","donderdag",6]
[609,{"$f":"Tabel1[[#This Row],[Weeknummer]]","v":6},{"$f":"TEXT(Tabel1[[#This Row],[Datum]],\"dd\")","v":"09"},"2018-02-09","vrijdag",6]
[610,{"$f":"Tabel1[[#This Row],[Weeknummer]]","v":6},{"$f":"TEXT(Tabel1[[#This Row],[Datum]],\"dd\")","v":"10"},"2018-02-10","zaterdag",6]
[611,{"$f":"Tabel1[[#This Row],[Weeknummer]]","v":6},{"$f":"TEXT(Tabel1[[#This Row],[Datum]],\"dd\")","v":"11"},"2018-02-11","zondag",6]
[712,{"$f":"Tabel1[[#This Row],[Weeknummer]]","v":7},{"$f":"TEXT(Tabel1[[#This Row],[Datum]],\"dd\")","v":"12"},"2018-02-12","maandag",7]
[713,{"$f":"Tabel1[[#This Row],[Weeknummer]]","v":7},{"$f":"TEXT(Tabel1[[#This Row],[Datum]],\"dd\")","v":"13"},"2018-02-13","dinsdag",7]
[714,{"$f":"Tabel1[[#This Row],[Weeknummer]]","v":7},{"$f":"TEXT(Tabel1[[#This Row],[Datum]],\"dd\")","v":"14"},"2018-02-14","woensdag",7]
[715,{"$f":"Tabel1[[#This Row],[Weeknummer]]","v":7},{"$f":"TEXT(Tabel1[[#This Row],[Datum]],\"dd\")","v":"15"},"2018-02-15","donderdag",7]
[716,{"$f":"Tabel1[[#This Row],[Weeknummer]]","v":7},{"$f":"TEXT(Tabel1[[#This Row],[Datum]],\"dd\")","v":"16"},"2018-02-16","vrijdag",7]
[717,{"$f":"Tabel1[[#This Row],[Weeknummer]]","v":7},{"$f":"TEXT(Tabel1[[#This Row],[Datum]],\"dd\")","v":"17"},"2018-02-17","zaterdag",7]
[718,{"$f":"Tabel1[[#This Row],[Weeknummer]]","v":7},{"$f":"TEXT(Tabel1[[#This Row],[Datum]],\"dd\")","v":"18"},"2018-02-18","zondag",7]
[819,{"$f":"Tabel1[[#This Row],[Weeknummer]]","v":8},{"$f":"TEXT(Tabel1[[#This Row],[Datum]],\"dd\")","v":"19"},"2018-02-19","maandag",8]
[820,{"$f":"Tabel1[[#This Row],[Weeknummer]]","v":8},{"$f":"TEXT(Tabel1[[#This Row],[Datum]],\"dd\")","v":"20"},"2018-02-20","dinsdag",8]
[821,{"$f":"Tabel1[[#This Row],[Weeknummer]]","v":8},{"$f":"TEXT(Tabel1[[#This Row],[Datum]],\"dd\")","v":"21"},"2018-02-21","woensdag",8]
[822,{"$f":"Tabel1[[#This Row],[Weeknummer]]","v":8},{"$f":"TEXT(Tabel1[[#This Row],[Datum]],\"dd\")","v":"22"},"2018-02-22","donderdag",8]
[823,{"$f":"Tabel1[[#This Row],[Weeknummer]]","v":8},{"$f":"TEXT(Tabel1[[#This Row],[Datum]],\"dd\")","v":"23"},"2018-02-23","vrijdag",8]
[824,{"$f":"Tabel1[[#This Row],[Weeknummer]]","v":8},{"$f":"TEXT(Tabel1[[#This Row],[Datum]],\"dd\")","v":"24"},"2018-02-24","zaterdag",8]
[825,{"$f":"Tabel1[[#This Row],[Weeknummer]]","v":8},{"$f":"TEXT(Tabel1[[#This Row],[Datum]],\"dd\")","v":"25"},"2018-02-25","zondag",8]
[926,{"$f":"Tabel1[[#This Row],[Weeknummer]]","v":9},{"$f":"TEXT(Tabel1[[#This Row],[Datum]],\"dd\")","v":"26"},"2018-02-26","maandag",9]
[927,{"$f":"Tabel1[[#This Row],[Weeknummer]]","v":9},{"$f":"TEXT(Tabel1[[#This Row],[Datum]],\"dd\")","v":"27"},"2018-02-27","dinsdag",9]
[928,{"$f":"Tabel1[[#This Row],[Weeknummer]]","v":9},{"$f":"TEXT(Tabel1[[#This Row],[Datum]],\"dd\")","v":"28"},"2018-02-28","woensdag",9]
[901,{"$f":"Tabel1[[#This Row],[Weeknummer]]","v":9},{"$f":"TEXT(Tabel1[[#This Row],[Datum]],\"dd\")","v":"01"},"2018-03-01","donderdag",9]
[902,{"$f":"Tabel1[[#This Row],[Weeknummer]]","v":9},{"$f":"TEXT(Tabel1[[#This Row],[Datum]],\"dd\")","v":"02"},"2018-03-02","vrijdag",9]
[903,{"$f":"Tabel1[[#This Row],[Weeknummer]]","v":9},{"$f":"TEXT(Tabel1[[#This Row],[Datum]],\"dd\")","v":"03"},"2018-03-03","zaterdag",9]
[904,{"$f":"Tabel1[[#This Row],[Weeknummer]]","v":9},{"$f":"TEXT(Tabel1[[#This Row],[Datum]],\"dd\")","v":"04"},"2018-03-04","zondag",9]
[1005,{"$f":"Tabel1[[#This Row],[Weeknummer]]","v":10},{"$f":"TEXT(Tabel1[[#This Row],[Datum]],\"dd\")","v":"05"},"2018-03-05","maandag",10]
[1006,{"$f":"Tabel1[[#This Row],[Weeknummer]]","v":10},{"$f":"TEXT(Tabel1[[#This Row],[Datum]],\"dd\")","v":"06"},"2018-03-06",{"$f":"CHOOSE(WEEKDAY(D66,2),\"maandag\",\"dinsdag\",\"woensdag\",\"donderdag\",\"vrijdag\",\"zaterdag\",\"zondag\")","v":"dinsdag"},{"$f":"WEEKNUM(D66,21)","v":10}]
[{"$f":"(B67&C67)*1","v":1007},{"$f":"Tabel1[[#This Row],[Weeknummer]]","v":10},{"$f":"TEXT(Tabel1[[#This Row],[Datum]],\"dd\")","v":"07"},"2018-03-07","woensdag",10]
[1008,{"$f":"Tabel1[[#This Row],[Weeknummer]]","v":10},{"$f":"TEXT(Tabel1[[#This Row],[Datum]],\"dd\")","v":"08"},"2018-03-08","donderdag",10]
[1009,{"$f":"Tabel1[[#This Row],[Weeknummer]]","v":10},{"$f":"TEXT(Tabel1[[#This Row],[Datum]],\"dd\")","v":"09"},"2018-03-09","vrijdag",10]
[1010,{"$f":"Tabel1[[#This Row],[Weeknummer]]","v":10},{"$f":"TEXT(Tabel1[[#This Row],[Datum]],\"dd\")","v":"10"},"2018-03-10","zaterdag",10]
[1011,{"$f":"Tabel1[[#This Row],[Weeknummer]]","v":10},{"$f":"TEXT(Tabel1[[#This Row],[Datum]],\"dd\")","v":"11"},"2018-03-11","zondag",10]
[1112,{"$f":"Tabel1[[#This Row],[Weeknummer]]","v":11},{"$f":"TEXT(Tabel1[[#This Row],[Datum]],\"dd\")","v":"12"},"2018-03-12","maandag",11]
[1113,{"$f":"Tabel1[[#This Row],[Weeknummer]]","v":11},{"$f":"TEXT(Tabel1[[#This Row],[Datum]],\"dd\")","v":"13"},"2018-03-13","dinsdag",11]
[1114,{"$f":"Tabel1[[#This Row],[Weeknummer]]","v":11},{"$f":"TEXT(Tabel1[[#This Row],[Datum]],\"dd\")","v":"14"},"2018-03-14","woensdag",11]
[1115,{"$f":"Tabel1[[#This Row],[Weeknummer]]","v":11},{"$f":"TEXT(Tabel1[[#This Row],[Datum]],\"dd\")","v":"15"},"2018-03-15","donderdag",11]
[1116,{"$f":"Tabel1[[#This Row],[Weeknummer]]","v":11},{"$f":"TEXT(Tabel1[[#This Row],[Datum]],\"dd\")","v":"16"},"2018-03-16","vrijdag",11]
[1117,{"$f":"Tabel1[[#This Row],[Weeknummer]]","v":11},{"$f":"TEXT(Tabel1[[#This Row],[Datum]],\"dd\")","v":"17"},"2018-03-17","zaterdag",11]
[1118,{"$f":"Tabel1[[#This Row],[Weeknummer]]","v":11},{"$f":"TEXT(Tabel1[[#This Row],[Datum]],\"dd\")","v":"18"},"2018-03-18","zondag",11]
[1219,{"$f":"Tabel1[[#This Row],[Weeknummer]]","v":12},{"$f":"TEXT(Tabel1[[#This Row],[Datum]],\"dd\")","v":"19"},"2018-03-19","maandag",12]
[1220,{"$f":"Tabel1[[#This Row],[Weeknummer]]","v":12},{"$f":"TEXT(Tabel1[[#This Row],[Datum]],\"dd\")","v":"20"},"2018-03-20","dinsdag",12]
[1221,{"$f":"Tabel1[[#This Row],[Weeknummer]]","v":12},{"$f":"TEXT(Tabel1[[#This Row],[Datum]],\"dd\")","v":"21"},"2018-03-21","woensdag",12]
[1222,{"$f":"Tabel1[[#This Row],[Weeknummer]]","v":12},{"$f":"TEXT(Tabel1[[#This Row],[Datum]],\"dd\")","v":"22"},"2018-03-22","donderdag",12]
[1223,{"$f":"Tabel1[[#This Row],[Weeknummer]]","v":12},{"$f":"TEXT(Tabel1[[#This Row],[Datum]],\"dd\")","v":"23"},"2018-03-23","vrijdag",12]
[1224,{"$f":"Tabel1[[#This Row],[Weeknummer]]","v":12},{"$f":"TEXT(Tabel1[[#This Row],[Datum]],\"dd\")","v":"24"},"2018-03-24","zaterdag",12]
[1225,{"$f":"Tabel1[[#This Row],[Weeknummer]]","v":12},{"$f":"TEXT(Tabel1[[#This Row],[Datum]],\"dd\")","v":"25"},"2018-03-25","zondag",12]
[1326,{"$f":"Tabel1[[#This Row],[Weeknummer]]","v":13},{"$f":"TEXT(Tabel1[[#This Row],[Datum]],\"dd\")","v":"26"},"2018-03-26","maandag",13]
[1327,{"$f":"Tabel1[[#This Row],[Weeknummer]]","v":13},{"$f":"TEXT(Tabel1[[#This Row],[Datum]],\"dd\")","v":"27"},"2018-03-27","dinsdag",13]
[1328,{"$f":"Tabel1[[#This Row],[Weeknummer]]","v":13},{"$f":"TEXT(Tabel1[[#This Row],[Datum]],\"dd\")","v":"28"},"2018-03-28","woensdag",13]
[1329,{"$f":"Tabel1[[#This Row],[Weeknummer]]","v":13},{"$f":"TEXT(Tabel1[[#This Row],[Datum]],\"dd\")","v":"29"},"2018-03-29","donderdag",13]
[1330,{"$f":"Tabel1[[#This Row],[Weeknummer]]","v":13},{"$f":"TEXT(Tabel1[[#This Row],[Datum]],\"dd\")","v":"30"},"2018-03-30","vrijdag",13]
[1331,{"$f":"Tabel1[[#This Row],[Weeknummer]]","v":13},{"$f":"TEXT(Tabel1[[#This Row],[Datum]],\"dd\")","v":"31"},"2018-03-31","zaterdag",13]
[1301,{"$f":"Tabel1[[#This Row],[Weeknummer]]","v":13},{"$f":"TEXT(Tabel1[[#This Row],[Datum]],\"dd\")","v":"01"},"2018-04-01","zondag",13]
[1402,{"$f":"Tabel1[[#This Row],[Weeknummer]]","v":14},{"$f":"TEXT(Tabel1[[#This Row],[Datum]],\"dd\")","v":"02"},"2018-04-02","maandag",14]
[1403,{"$f":"Tabel1[[#This Row],[Weeknummer]]","v":14},{"$f":"TEXT(Tabel1[[#This Row],[Datum]],\"dd\")","v":"03"},"2018-04-03","dinsdag",14]
[1404,{"$f":"Tabel1[[#This Row],[Weeknummer]]","v":14},{"$f":"TEXT(Tabel1[[#This Row],[Datum]],\"dd\")","v":"04"},"2018-04-04","woensdag",14]
[1405,{"$f":"Tabel1[[#This Row],[Weeknummer]]","v":14},{"$f":"TEXT(Tabel1[[#This Row],[Datum]],\"dd\")","v":"05"},"2018-04-05","donderdag",14]
[1406,{"$f":"Tabel1[[#This Row],[Weeknummer]]","v":14},{"$f":"TEXT(Tabel1[[#This Row],[Datum]],\"dd\")","v":"06"},"2018-04-06","vrijdag",14]
[1407,{"$f":"Tabel1[[#This Row],[Weeknummer]]","v":14},{"$f":"TEXT(Tabel1[[#This Row],[Datum]],\"dd\")","v":"07"},"2018-04-07","zaterdag",14]
[1408,{"$f":"Tabel1[[#This Row],[Weeknummer]]","v":14},{"$f":"TEXT(Tabel1[[#This Row],[Datum]],\"dd\")","v":"08"},"2018-04-08","zondag",14]
[1509,{"$f":"Tabel1[[#This Row],[Weeknummer]]","v":15},{"$f":"TEXT(Tabel1[[#This Row],[Datum]],\"dd\")","v":"09"},"2018-04-09","maandag",15]
[1510,{"$f":"Tabel1[[#This Row],[Weeknummer]]","v":15},{"$f":"TEXT(Tabel1[[#This Row],[Datum]],\"dd\")","v":"10"},"2018-04-10","dinsdag",15]
[1511,{"$f":"Tabel1[[#This Row],[Weeknummer]]","v":15},{"$f":"TEXT(Tabel1[[#This Row],[Datum]],\"dd\")","v":"11"},"2018-04-11","woensdag",15]
[1512,{"$f":"Tabel1[[#This Row],[Weeknummer]]","v":15},{"$f":"TEXT(Tabel1[[#This Row],[Datum]],\"dd\")","v":"12"},"2018-04-12","donderdag",15]
[1513,{"$f":"Tabel1[[#This Row],[Weeknummer]]","v":15},{"$f":"TEXT(Tabel1[[#This Row],[Datum]],\"dd\")","v":"13"},"2018-04-13","vrijdag",15]
[1514,{"$f":"Tabel1[[#This Row],[Weeknummer]]","v":15},{"$f":"TEXT(Tabel1[[#This Row],[Datum]],\"dd\")","v":"14"},"2018-04-14","zaterdag",15]
[1515,{"$f":"Tabel1[[#This Row],[Weeknummer]]","v":15},{"$f":"TEXT(Tabel1[[#This Row],[Datum]],\"dd\")","v":"15"},"2018-04-15","zondag",15]
[1616,{"$f":"Tabel1[[#This Row],[Weeknummer]]","v":16},{"$f":"TEXT(Tabel1[[#This Row],[Datum]],\"dd\")","v":"16"},"2018-04-16","maandag",16]
[1617,{"$f":"Tabel1[[#This Row],[Weeknummer]]","v":16},{"$f":"TEXT(Tabel1[[#This Row],[Datum]],\"dd\")","v":"17"},"2018-04-17","dinsdag",16]
[1618,{"$f":"Tabel1[[#This Row],[Weeknummer]]","v":16},{"$f":"TEXT(Tabel1[[#This Row],[Datum]],\"dd\")","v":"18"},"2018-04-18","woensdag",16]
[1619,{"$f":"Tabel1[[#This Row],[Weeknummer]]","v":16},{"$f":"TEXT(Tabel1[[#This Row],[Datum]],\"dd\")","v":"19"},"2018-04-19","donderdag",16]
[1620,{"$f":"Tabel1[[#This Row],[Weeknummer]]","v":16},{"$f":"TEXT(Tabel1[[#This Row],[Datum]],\"dd\")","v":"20"},"2018-04-20","vrijdag",16]
[1621,{"$f":"Tabel1[[#This Row],[Weeknummer]]","v":16},{"$f":"TEXT(Tabel1[[#This Row],[Datum]],\"dd\")","v":"21"},"2018-04-21","zaterdag",16]
[1622,{"$f":"Tabel1[[#This Row],[Weeknummer]]","v":16},{"$f":"TEXT(Tabel1[[#This Row],[Datum]],\"dd\")","v":"22"},"2018-04-22","zondag",16]
[1723,{"$f":"Tabel1[[#This Row],[Weeknummer]]","v":17},{"$f":"TEXT(Tabel1[[#This Row],[Datum]],\"dd\")","v":"23"},"2018-04-23","maandag",17]
[1724,{"$f":"Tabel1[[#This Row],[Weeknummer]]","v":17},{"$f":"TEXT(Tabel1[[#This Row],[Datum]],\"dd\")","v":"24"},"2018-04-24","dinsdag",17]
[1725,{"$f":"Tabel1[[#This Row],[Weeknummer]]","v":17},{"$f":"TEXT(Tabel1[[#This Row],[Datum]],\"dd\")","v":"25"},"2018-04-25","woensdag",17]
[1726,{"$f":"Tabel1[[#This Row],[Weeknummer]]","v":17},{"$f":"TEXT(Tabel1[[#This Row],[Datum]],\"dd\")","v":"26"},"2018-04-26","donderdag",17]
[1727,{"$f":"Tabel1[[#This Row],[Weeknummer]]","v":17},{"$f":"TEXT(Tabel1[[#This Row],[Datum]],\"dd\")","v":"27"},"2018-04-27","vrijdag",17]
[1728,{"$f":"Tabel1[[#This Row],[Weeknummer]]","v":17},{"$f":"TEXT(Tabel1[[#This Row],[Datum]],\"dd\")","v":"28"},"2018-04-28","zaterdag",17]
[1729,{"$f":"Tabel1[[#This Row],[Weeknummer]]","v":17},{"$f":"TEXT(Tabel1[[#This Row],[Datum]],\"dd\")","v":"29"},"2018-04-29","zondag",17]
[1830,{"$f":"Tabel1[[#This Row],[Weeknummer]]","v":18},{"$f":"TEXT(Tabel1[[#This Row],[Datum]],\"dd\")","v":"30"},"2018-04-30","maandag",18]
[1801,{"$f":"Tabel1[[#This Row],[Weeknummer]]","v":18},{"$f":"TEXT(Tabel1[[#This Row],[Datum]],\"dd\")","v":"01"},"2018-05-01","dinsdag",18]
[1802,{"$f":"Tabel1[[#This Row],[Weeknummer]]","v":18},{"$f":"TEXT(Tabel1[[#This Row],[Datum]],\"dd\")","v":"02"},"2018-05-02","woensdag",18]
[1803,{"$f":"Tabel1[[#This Row],[Weeknummer]]","v":18},{"$f":"TEXT(Tabel1[[#This Row],[Datum]],\"dd\")","v":"03"},"2018-05-03","donderdag",18]
[1804,{"$f":"Tabel1[[#This Row],[Weeknummer]]","v":18},{"$f":"TEXT(Tabel1[[#This Row],[Datum]],\"dd\")","v":"04"},"2018-05-04","vrijdag",18]
[1805,{"$f":"Tabel1[[#This Row],[Weeknummer]]","v":18},{"$f":"TEXT(Tabel1[[#This Row],[Datum]],\"dd\")","v":"05"},"2018-05-05","zaterdag",18]
[1806,{"$f":"Tabel1[[#This Row],[Weeknummer]]","v":18},{"$f":"TEXT(Tabel1[[#This Row],[Datum]],\"dd\")","v":"06"},"2018-05-06","zondag",18]
[1907,{"$f":"Tabel1[[#This Row],[Weeknummer]]","v":19},{"$f":"TEXT(Tabel1[[#This Row],[Datum]],\"dd\")","v":"07"},"2018-05-07","maandag",19]
[1908,{"$f":"Tabel1[[#This Row],[Weeknummer]]","v":19},{"$f":"TEXT(Tabel1[[#This Row],[Datum]],\"dd\")","v":"08"},"2018-05-08","dinsdag",19]
[1909,{"$f":"Tabel1[[#This Row],[Weeknummer]]","v":19},{"$f":"TEXT(Tabel1[[#This Row],[Datum]],\"dd\")","v":"09"},"2018-05-09",{"$f":"CHOOSE(WEEKDAY(D130,2),\"maandag\",\"dinsdag\",\"woensdag\",\"donderdag\",\"vrijdag\",\"zaterdag\",\"zondag\")","v":"woensdag"},{"$f":"WEEKNUM(D130,21)","v":19}]
[{"$f":"(B131&C131)*1","v":1910},{"$f":"Tabel1[[#This Row],[Weeknummer]]","v":19},{"$f":"TEXT(Tabel1[[#This Row],[Datum]],\"dd\")","v":"10"},"2018-05-10","donderdag",19]
[1911,{"$f":"Tabel1[[#This Row],[Weeknummer]]","v":19},{"$f":"TEXT(Tabel1[[#This Row],[Datum]],\"dd\")","v":"11"},"2018-05-11","vrijdag",19]
[1912,{"$f":"Tabel1[[#This Row],[Weeknummer]]","v":19},{"$f":"TEXT(Tabel1[[#This Row],[Datum]],\"dd\")","v":"12"},"2018-05-12","zaterdag",19]
[1913,{"$f":"Tabel1[[#This Row],[Weeknummer]]","v":19},{"$f":"TEXT(Tabel1[[#This Row],[Datum]],\"dd\")","v":"13"},"2018-05-13","zondag",19]
[2014,{"$f":"Tabel1[[#This Row],[Weeknummer]]","v":20},{"$f":"TEXT(Tabel1[[#This Row],[Datum]],\"dd\")","v":"14"},"2018-05-14","maandag",20]
[2015,{"$f":"Tabel1[[#This Row],[Weeknummer]]","v":20},{"$f":"TEXT(Tabel1[[#This Row],[Datum]],\"dd\")","v":"15"},"2018-05-15","dinsdag",20]
[2016,{"$f":"Tabel1[[#This Row],[Weeknummer]]","v":20},{"$f":"TEXT(Tabel1[[#This Row],[Datum]],\"dd\")","v":"16"},"2018-05-16","woensdag",20]
[2017,{"$f":"Tabel1[[#This Row],[Weeknummer]]","v":20},{"$f":"TEXT(Tabel1[[#This Row],[Datum]],\"dd\")","v":"17"},"2018-05-17","donderdag",20]
[2018,{"$f":"Tabel1[[#This Row],[Weeknummer]]","v":20},{"$f":"TEXT(Tabel1[[#This Row],[Datum]],\"dd\")","v":"18"},"2018-05-18","vrijdag",20]
[2019,{"$f":"Tabel1[[#This Row],[Weeknummer]]","v":20},{"$f":"TEXT(Tabel1[[#This Row],[Datum]],\"dd\")","v":"19"},"2018-05-19","zaterdag",20]
[2020,{"$f":"Tabel1[[#This Row],[Weeknummer]]","v":20},{"$f":"TEXT(Tabel1[[#This Row],[Datum]],\"dd\")","v":"20"},"2018-05-20","zondag",20]
[2121,{"$f":"Tabel1[[#This Row],[Weeknummer]]","v":21},{"$f":"TEXT(Tabel1[[#This Row],[Datum]],\"dd\")","v":"21"},"2018-05-21","maandag",21]
[2122,{"$f":"Tabel1[[#This Row],[Weeknummer]]","v":21},{"$f":"TEXT(Tabel1[[#This Row],[Datum]],\"dd\")","v":"22"},"2018-05-22","dinsdag",21]
[2123,{"$f":"Tabel1[[#This Row],[Weeknummer]]","v":21},{"$f":"TEXT(Tabel1[[#This Row],[Datum]],\"dd\")","v":"23"},"2018-05-23","woensdag",21]
[2124,{"$f":"Tabel1[[#This Row],[Weeknummer]]","v":21},{"$f":"TEXT(Tabel1[[#This Row],[Datum]],\"dd\")","v":"24"},"2018-05-24","donderdag",21]
[2125,{"$f":"Tabel1[[#This Row],[Weeknummer]]","v":21},{"$f":"TEXT(Tabel1[[#This Row],[Datum]],\"dd\")","v":"25"},"2018-05-25","vrijdag",21]
[2126,{"$f":"Tabel1[[#This Row],[Weeknummer]]","v":21},{"$f":"TEXT(Tabel1[[#This Row],[Datum]],\"dd\")","v":"26"},"2018-05-26","zaterdag",21]
[2127,{"$f":"Tabel1[[#This Row],[Weeknummer]]","v":21},{"$f":"TEXT(Tabel1[[#This Row],[Datum]],\"dd\")","v":"27"},"2018-05-27","zondag",21]
[2228,{"$f":"Tabel1[[#This Row],[Weeknummer]]","v":22},{"$f":"TEXT(Tabel1[[#This Row],[Datum]],\"dd\")","v":"28"},"2018-05-28","maandag",22]
[2229,{"$f":"Tabel1[[#This Row],[Weeknummer]]","v":22},{"$f":"TEXT(Tabel1[[#This Row],[Datum]],\"dd\")","v":"29"},"2018-05-29","dinsdag",22]
[2230,{"$f":"Tabel1[[#This Row],[Weeknummer]]","v":22},{"$f":"TEXT(Tabel1[[#This Row],[Datum]],\"dd\")","v":"30"},"2018-05-30","woensdag",22]
[2231,{"$f":"Tabel1[[#This Row],[Weeknummer]]","v":22},{"$f":"TEXT(Tabel1[[#This Row],[Datum]],\"dd\")","v":"31"},"2018-05-31","donderdag",22]
[2201,{"$f":"Tabel1[[#This Row],[Weeknummer]]","v":22},{"$f":"TEXT(Tabel1[[#This Row],[Datum]],\"dd\")","v":"01"},"2018-06-01","vrijdag",22]
[2202,{"$f":"Tabel1[[#This Row],[Weeknummer]]","v":22},{"$f":"TEXT(Tabel1[[#This Row],[Datum]],\"dd\")","v":"02"},"2018-06-02","zaterdag",22]
[2203,{"$f":"Tabel1[[#This Row],[Weeknummer]]","v":22},{"$f":"TEXT(Tabel1[[#This Row],[Datum]],\"dd\")","v":"03"},"2018-06-03","zondag",22]
[2304,{"$f":"Tabel1[[#This Row],[Weeknummer]]","v":23},{"$f":"TEXT(Tabel1[[#This Row],[Datum]],\"dd\")","v":"04"},"2018-06-04","maandag",23]
[2305,{"$f":"Tabel1[[#This Row],[Weeknummer]]","v":23},{"$f":"TEXT(Tabel1[[#This Row],[Datum]],\"dd\")","v":"05"},"2018-06-05","dinsdag",23]
[2306,{"$f":"Tabel1[[#This Row],[Weeknummer]]","v":23},{"$f":"TEXT(Tabel1[[#This Row],[Datum]],\"dd\")","v":"06"},"2018-06-06","woensdag",23]
[2307,{"$f":"Tabel1[[#This Row],[Weeknummer]]","v":23},{"$f":"TEXT(Tabel1[[#This Row],[Datum]],\"dd\")","v":"07"},"2018-06-07","donderdag",23]
[2308,{"$f":"Tabel1[[#This Row],[Weeknummer]]","v":23},{"$f":"TEXT(Tabel1[[#This Row],[Datum]],\"dd\")","v":"08"},"2018-06-08","vrijdag",23]
[2309,{"$f":"Tabel1[[#This Row],[Weeknummer]]","v":23},{"$f":"TEXT(Tabel1[[#This Row],[Datum]],\"dd\")","v":"09"},"2018-06-09","zaterdag",23]
[2310,{"$f":"Tabel1[[#This Row],[Weeknummer]]","v":23},{"$f":"TEXT(Tabel1[[#This Row],[Datum]],\"dd\")","v":"10"},"2018-06-10","zondag",23]
[2411,{"$f":"Tabel1[[#This Row],[Weeknummer]]","v":24},{"$f":"TEXT(Tabel1[[#This Row],[Datum]],\"dd\")","v":"11"},"2018-06-11","maandag",24]
[2412,{"$f":"Tabel1[[#This Row],[Weeknummer]]","v":24},{"$f":"TEXT(Tabel1[[#This Row],[Datum]],\"dd\")","v":"12"},"2018-06-12","dinsdag",24]
[2413,{"$f":"Tabel1[[#This Row],[Weeknummer]]","v":24},{"$f":"TEXT(Tabel1[[#This Row],[Datum]],\"dd\")","v":"13"},"2018-06-13","woensdag",24]
[2414,{"$f":"Tabel1[[#This Row],[Weeknummer]]","v":24},{"$f":"TEXT(Tabel1[[#This Row],[Datum]],\"dd\")","v":"14"},"2018-06-14","donderdag",24]
[2415,{"$f":"Tabel1[[#This Row],[Weeknummer]]","v":24},{"$f":"TEXT(Tabel1[[#This Row],[Datum]],\"dd\")","v":"15"},"2018-06-15","vrijdag",24]
[2416,{"$f":"Tabel1[[#This Row],[Weeknummer]]","v":24},{"$f":"TEXT(Tabel1[[#This Row],[Datum]],\"dd\")","v":"16"},"2018-06-16","zaterdag",24]
[2417,{"$f":"Tabel1[[#This Row],[Weeknummer]]","v":24},{"$f":"TEXT(Tabel1[[#This Row],[Datum]],\"dd\")","v":"17"},"2018-06-17","zondag",24]
[2518,{"$f":"Tabel1[[#This Row],[Weeknummer]]","v":25},{"$f":"TEXT(Tabel1[[#This Row],[Datum]],\"dd\")","v":"18"},"2018-06-18","maandag",25]
[2519,{"$f":"Tabel1[[#This Row],[Weeknummer]]","v":25},{"$f":"TEXT(Tabel1[[#This Row],[Datum]],\"dd\")","v":"19"},"2018-06-19","dinsdag",25]
[2520,{"$f":"Tabel1[[#This Row],[Weeknummer]]","v":25},{"$f":"TEXT(Tabel1[[#This Row],[Datum]],\"dd\")","v":"20"},"2018-06-20","woensdag",25]
[2521,{"$f":"Tabel1[[#This Row],[Weeknummer]]","v":25},{"$f":"TEXT(Tabel1[[#This Row],[Datum]],\"dd\")","v":"21"},"2018-06-21","donderdag",25]
[2522,{"$f":"Tabel1[[#This Row],[Weeknummer]]","v":25},{"$f":"TEXT(Tabel1[[#This Row],[Datum]],\"dd\")","v":"22"},"2018-06-22","vrijdag",25]
[2523,{"$f":"Tabel1[[#This Row],[Weeknummer]]","v":25},{"$f":"TEXT(Tabel1[[#This Row],[Datum]],\"dd\")","v":"23"},"2018-06-23","zaterdag",25]
[2524,{"$f":"Tabel1[[#This Row],[Weeknummer]]","v":25},{"$f":"TEXT(Tabel1[[#This Row],[Datum]],\"dd\")","v":"24"},"2018-06-24","zondag",25]
[2625,{"$f":"Tabel1[[#This Row],[Weeknummer]]","v":26},{"$f":"TEXT(Tabel1[[#This Row],[Datum]],\"dd\")","v":"25"},"2018-06-25","maandag",26]
[2626,{"$f":"Tabel1[[#This Row],[Weeknummer]]","v":26},{"$f":"TEXT(Tabel1[[#This Row],[Datum]],\"dd\")","v":"26"},"2018-06-26","dinsdag",26]
[2627,{"$f":"Tabel1[[#This Row],[Weeknummer]]","v":26},{"$f":"TEXT(Tabel1[[#This Row],[Datum]],\"dd\")","v":"27"},"2018-06-27","woensdag",26]
[2628,{"$f":"Tabel1[[#This Row],[Weeknummer]]","v":26},{"$f":"TEXT(Tabel1[[#This Row],[Datum]],\"dd\")","v":"28"},"2018-06-28","donderdag",26]
[2629,{"$f":"Tabel1[[#This Row],[Weeknummer]]","v":26},{"$f":"TEXT(Tabel1[[#This Row],[Datum]],\"dd\")","v":"29"},"2018-06-29","vrijdag",26]
[2630,{"$f":"Tabel1[[#This Row],[Weeknummer]]","v":26},{"$f":"TEXT(Tabel1[[#This Row],[Datum]],\"dd\")","v":"30"},"2018-06-30","zaterdag",26]
[2601,{"$f":"Tabel1[[#This Row],[Weeknummer]]","v":26},{"$f":"TEXT(Tabel1[[#This Row],[Datum]],\"dd\")","v":"01"},"2018-07-01","zondag",26]
[2702,{"$f":"Tabel1[[#This Row],[Weeknummer]]","v":27},{"$f":"TEXT(Tabel1[[#This Row],[Datum]],\"dd\")","v":"02"},"2018-07-02","maandag",27]
[2703,{"$f":"Tabel1[[#This Row],[Weeknummer]]","v":27},{"$f":"TEXT(Tabel1[[#This Row],[Datum]],\"dd\")","v":"03"},"2018-07-03","dinsdag",27]
[2704,{"$f":"Tabel1[[#This Row],[Weeknummer]]","v":27},{"$f":"TEXT(Tabel1[[#This Row],[Datum]],\"dd\")","v":"04"},"2018-07-04","woensdag",27]
[2705,{"$f":"Tabel1[[#This Row],[Weeknummer]]","v":27},{"$f":"TEXT(Tabel1[[#This Row],[Datum]],\"dd\")","v":"05"},"2018-07-05","donderdag",27]
[2706,{"$f":"Tabel1[[#This Row],[Weeknummer]]","v":27},{"$f":"TEXT(Tabel1[[#This Row],[Datum]],\"dd\")","v":"06"},"2018-07-06","vrijdag",27]
[2707,{"$f":"Tabel1[[#This Row],[Weeknummer]]","v":27},{"$f":"TEXT(Tabel1[[#This Row],[Datum]],\"dd\")","v":"07"},"2018-07-07","zaterdag",27]
[2708,{"$f":"Tabel1[[#This Row],[Weeknummer]]","v":27},{"$f":"TEXT(Tabel1[[#This Row],[Datum]],\"dd\")","v":"08"},"2018-07-08","zondag",27]
[2809,{"$f":"Tabel1[[#This Row],[Weeknummer]]","v":28},{"$f":"TEXT(Tabel1[[#This Row],[Datum]],\"dd\")","v":"09"},"2018-07-09","maandag",28]
[2810,{"$f":"Tabel1[[#This Row],[Weeknummer]]","v":28},{"$f":"TEXT(Tabel1[[#This Row],[Datum]],\"dd\")","v":"10"},"2018-07-10","dinsdag",28]
[2811,{"$f":"Tabel1[[#This Row],[Weeknummer]]","v":28},{"$f":"TEXT(Tabel1[[#This Row],[Datum]],\"dd\")","v":"11"},"2018-07-11","woensdag",28]
[2812,{"$f":"Tabel1[[#This Row],[Weeknummer]]","v":28},{"$f":"TEXT(Tabel1[[#This Row],[Datum]],\"dd\")","v":"12"},"2018-07-12",{"$f":"CHOOSE(WEEKDAY(D194,2),\"maandag\",\"dinsdag\",\"woensdag\",\"donderdag\",\"vrijdag\",\"zaterdag\",\"zondag\")","v":"donderdag"},{"$f":"WEEKNUM(D194,21)","v":28}]
[{"$f":"(B195&C195)*1","v":2813},{"$f":"Tabel1[[#This Row],[Weeknummer]]","v":28},{"$f":"TEXT(Tabel1[[#This Row],[Datum]],\"dd\")","v":"13"},"2018-07-13","vrijdag",28]
[2814,{"$f":"Tabel1[[#This Row],[Weeknummer]]","v":28},{"$f":"TEXT(Tabel1[[#This Row],[Datum]],\"dd\")","v":"14"},"2018-07-14","zaterdag",28]
[2815,{"$f":"Tabel1[[#This Row],[Weeknummer]]","v":28},{"$f":"TEXT(Tabel1[[#This Row],[Datum]],\"dd\")","v":"15"},"2018-07-15","zondag",28]
[2916,{"$f":"Tabel1[[#This Row],[Weeknummer]]","v":29},{"$f":"TEXT(Tabel1[[#This Row],[Datum]],\"dd\")","v":"16"},"2018-07-16","maandag",29]
[2917,{"$f":"Tabel1[[#This Row],[Weeknummer]]","v":29},{"$f":"TEXT(Tabel1[[#This Row],[Datum]],\"dd\")","v":"17"},"2018-07-17","dinsdag",29]
[2918,{"$f":"Tabel1[[#This Row],[Weeknummer]]","v":29},{"$f":"TEXT(Tabel1[[#This Row],[Datum]],\"dd\")","v":"18"},"2018-07-18","woensdag",29]
[2919,{"$f":"Tabel1[[#This Row],[Weeknummer]]","v":29},{"$f":"TEXT(Tabel1[[#This Row],[Datum]],\"dd\")","v":"19"},"2018-07-19","donderdag",29]
[2920,{"$f":"Tabel1[[#This Row],[Weeknummer]]","v":29},{"$f":"TEXT(Tabel1[[#This Row],[Datum]],\"dd\")","v":"20"},"2018-07-20","vrijdag",29]
[2921,{"$f":"Tabel1[[#This Row],[Weeknummer]]","v":29},{"$f":"TEXT(Tabel1[[#This Row],[Datum]],\"dd\")","v":"21"},"2018-07-21","zaterdag",29]
[2922,{"$f":"Tabel1[[#This Row],[Weeknummer]]","v":29},{"$f":"TEXT(Tabel1[[#This Row],[Datum]],\"dd\")","v":"22"},"2018-07-22","zondag",29]
[3023,{"$f":"Tabel1[[#This Row],[Weeknummer]]","v":30},{"$f":"TEXT(Tabel1[[#This Row],[Datum]],\"dd\")","v":"23"},"2018-07-23","maandag",30]
[3024,{"$f":"Tabel1[[#This Row],[Weeknummer]]","v":30},{"$f":"TEXT(Tabel1[[#This Row],[Datum]],\"dd\")","v":"24"},"2018-07-24","dinsdag",30]
[3025,{"$f":"Tabel1[[#This Row],[Weeknummer]]","v":30},{"$f":"TEXT(Tabel1[[#This Row],[Datum]],\"dd\")","v":"25"},"2018-07-25","woensdag",30]
[3026,{"$f":"Tabel1[[#This Row],[Weeknummer]]","v":30},{"$f":"TEXT(Tabel1[[#This Row],[Datum]],\"dd\")","v":"26"},"2018-07-26","donderdag",30]
[3027,{"$f":"Tabel1[[#This Row],[Weeknummer]]","v":30},{"$f":"TEXT(Tabel1[[#This Row],[Datum]],\"dd\")","v":"27"},"2018-07-27","vrijdag",30]
[3028,{"$f":"Tabel1[[#This Row],[Weeknummer]]","v":30},{"$f":"TEXT(Tabel1[[#This Row],[Datum]],\"dd\")","v":"28"},"2018-07-28","zaterdag",30]
[3029,{"$f":"Tabel1[[#This Row],[Weeknummer]]","v":30},{"$f":"TEXT(Tabel1[[#This Row],[Datum]],\"dd\")","v":"29"},"2018-07-29","zondag",30]
[3130,{"$f":"Tabel1[[#This Row],[Weeknummer]]","v":31},{"$f":"TEXT(Tabel1[[#This Row],[Datum]],\"dd\")","v":"30"},"2018-07-30","maandag",31]
[3131,{"$f":"Tabel1[[#This Row],[Weeknummer]]","v":31},{"$f":"TEXT(Tabel1[[#This Row],[Datum]],\"dd\")","v":"31"},"2018-07-31","dinsdag",31]
[3101,{"$f":"Tabel1[[#This Row],[Weeknummer]]","v":31},{"$f":"TEXT(Tabel1[[#This Row],[Datum]],\"dd\")","v":"01"},"2018-08-01","woensdag",31]
[3102,{"$f":"Tabel1[[#This Row],[Weeknummer]]","v":31},{"$f":"TEXT(Tabel1[[#This Row],[Datum]],\"dd\")","v":"02"},"2018-08-02","donderdag",31]
[3103,{"$f":"Tabel1[[#This Row],[Weeknummer]]","v":31},{"$f":"TEXT(Tabel1[[#This Row],[Datum]],\"dd\")","v":"03"},"2018-08-03","vrijdag",31]
[3104,{"$f":"Tabel1[[#This Row],[Weeknummer]]","v":31},{"$f":"TEXT(Tabel1[[#This Row],[Datum]],\"dd\")","v":"04"},"2018-08-04","zaterdag",31]
[3105,{"$f":"Tabel1[[#This Row],[Weeknummer]]","v":31},{"$f":"TEXT(Tabel1[[#This Row],[Datum]],\"dd\")","v":"05"},"2018-08-05","zondag",31]
[3206,{"$f":"Tabel1[[#This Row],[Weeknummer]]","v":32},{"$f":"TEXT(Tabel1[[#This Row],[Datum]],\"dd\")","v":"06"},"2018-08-06","maandag",32]
[3207,{"$f":"Tabel1[[#This Row],[Weeknummer]]","v":32},{"$f":"TEXT(Tabel1[[#This Row],[Datum]],\"dd\")","v":"07"},"2018-08-07","dinsdag",32]
[3208,{"$f":"Tabel1[[#This Row],[Weeknummer]]","v":32},{"$f":"TEXT(Tabel1[[#This Row],[Datum]],\"dd\")","v":"08"},"2018-08-08","woensdag",32]
[3209,{"$f":"Tabel1[[#This Row],[Weeknummer]]","v":32},{"$f":"TEXT(Tabel1[[#This Row],[Datum]],\"dd\")","v":"09"},"2018-08-09","donderdag",32]
[3210,{"$f":"Tabel1[[#This Row],[Weeknummer]]","v":32},{"$f":"TEXT(Tabel1[[#This Row],[Datum]],\"dd\")","v":"10"},"2018-08-10","vrijdag",32]
[3211,{"$f":"Tabel1[[#This Row],[Weeknummer]]","v":32},{"$f":"TEXT(Tabel1[[#This Row],[Datum]],\"dd\")","v":"11"},"2018-08-11","zaterdag",32]
[3212,{"$f":"Tabel1[[#This Row],[Weeknummer]]","v":32},{"$f":"TEXT(Tabel1[[#This Row],[Datum]],\"dd\")","v":"12"},"2018-08-12","zondag",32]
[3313,{"$f":"Tabel1[[#This Row],[Weeknummer]]","v":33},{"$f":"TEXT(Tabel1[[#This Row],[Datum]],\"dd\")","v":"13"},"2018-08-13","maandag",33]
[3314,{"$f":"Tabel1[[#This Row],[Weeknummer]]","v":33},{"$f":"TEXT(Tabel1[[#This Row],[Datum]],\"dd\")","v":"14"},"2018-08-14","dinsdag",33]
[3315,{"$f":"Tabel1[[#This Row],[Weeknummer]]","v":33},{"$f":"TEXT(Tabel1[[#This Row],[Datum]],\"dd\")","v":"15"},"2018-08-15","woensdag",33]
[3316,{"$f":"Tabel1[[#This Row],[Weeknummer]]","v":33},{"$f":"TEXT(Tabel1[[#This Row],[Datum]],\"dd\")","v":"16"},"2018-08-16","donderdag",33]
[3317,{"$f":"Tabel1[[#This Row],[Weeknummer]]","v":33},{"$f":"TEXT(Tabel1[[#This Row],[Datum]],\"dd\")","v":"17"},"2018-08-17","vrijdag",33]
[3318,{"$f":"Tabel1[[#This Row],[Weeknummer]]","v":33},{"$f":"TEXT(Tabel1[[#This Row],[Datum]],\"dd\")","v":"18"},"2018-08-18","zaterdag",33]
[3319,{"$f":"Tabel1[[#This Row],[Weeknummer]]","v":33},{"$f":"TEXT(Tabel1[[#This Row],[Datum]],\"dd\")","v":"19"},"2018-08-19","zondag",33]
[3420,{"$f":"Tabel1[[#This Row],[Weeknummer]]","v":34},{"$f":"TEXT(Tabel1[[#This Row],[Datum]],\"dd\")","v":"20"},"2018-08-20","maandag",34]
[3421,{"$f":"Tabel1[[#This Row],[Weeknummer]]","v":34},{"$f":"TEXT(Tabel1[[#This Row],[Datum]],\"dd\")","v":"21"},"2018-08-21","dinsdag",34]
[3422,{"$f":"Tabel1[[#This Row],[Weeknummer]]","v":34},{"$f":"TEXT(Tabel1[[#This Row],[Datum]],\"dd\")","v":"22"},"2018-08-22","woensdag",34]
[3423,{"$f":"Tabel1[[#This Row],[Weeknummer]]","v":34},{"$f":"TEXT(Tabel1[[#This Row],[Datum]],\"dd\")","v":"23"},"2018-08-23","donderdag",34]
[3424,{"$f":"Tabel1[[#This Row],[Weeknummer]]","v":34},{"$f":"TEXT(Tabel1[[#This Row],[Datum]],\"dd\")","v":"24"},"2018-08-24","vrijdag",34]
[3425,{"$f":"Tabel1[[#This Row],[Weeknummer]]","v":34},{"$f":"TEXT(Tabel1[[#This Row],[Datum]],\"dd\")","v":"25"},"2018-08-25","zaterdag",34]
[3426,{"$f":"Tabel1[[#This Row],[Weeknummer]]","v":34},{"$f":"TEXT(Tabel1[[#This Row],[Datum]],\"dd\")","v":"26"},"2018-08-26","zondag",34]
[3527,{"$f":"Tabel1[[#This Row],[Weeknummer]]","v":35},{"$f":"TEXT(Tabel1[[#This Row],[Datum]],\"dd\")","v":"27"},"2018-08-27","maandag",35]
[3528,{"$f":"Tabel1[[#This Row],[Weeknummer]]","v":35},{"$f":"TEXT(Tabel1[[#This Row],[Datum]],\"dd\")","v":"28"},"2018-08-28","dinsdag",35]
[3529,{"$f":"Tabel1[[#This Row],[Weeknummer]]","v":35},{"$f":"TEXT(Tabel1[[#This Row],[Datum]],\"dd\")","v":"29"},"2018-08-29","woensdag",35]
[3530,{"$f":"Tabel1[[#This Row],[Weeknummer]]","v":35},{"$f":"TEXT(Tabel1[[#This Row],[Datum]],\"dd\")","v":"30"},"2018-08-30","donderdag",35]
[3531,{"$f":"Tabel1[[#This Row],[Weeknummer]]","v":35},{"$f":"TEXT(Tabel1[[#This Row],[Datum]],\"dd\")","v":"31"},"2018-08-31","vrijdag",35]
[3501,{"$f":"Tabel1[[#This Row],[Weeknummer]]","v":35},{"$f":"TEXT(Tabel1[[#This Row],[Datum]],\"dd\")","v":"01"},"2018-09-01","zaterdag",35]
[3502,{"$f":"Tabel1[[#This Row],[Weeknummer]]","v":35},{"$f":"TEXT(Tabel1[[#This Row],[Datum]],\"dd\")","v":"02"},"2018-09-02","zondag",35]
[3603,{"$f":"Tabel1[[#This Row],[Weeknummer]]","v":36},{"$f":"TEXT(Tabel1[[#This Row],[Datum]],\"dd\")","v":"03"},"2018-09-03","maandag",36]
[3604,{"$f":"Tabel1[[#This Row],[Weeknummer]]","v":36},{"$f":"TEXT(Tabel1[[#This Row],[Datum]],\"dd\")","v":"04"},"2018-09-04","dinsdag",36]
[3605,{"$f":"Tabel1[[#This Row],[Weeknummer]]","v":36},{"$f":"TEXT(Tabel1[[#This Row],[Datum]],\"dd\")","v":"05"},"2018-09-05","woensdag",36]
[3606,{"$f":"Tabel1[[#This Row],[Weeknummer]]","v":36},{"$f":"TEXT(Tabel1[[#This Row],[Datum]],\"dd\")","v":"06"},"2018-09-06","donderdag",36]
[3607,{"$f":"Tabel1[[#This Row],[Weeknummer]]","v":36},{"$f":"TEXT(Tabel1[[#This Row],[Datum]],\"dd\")","v":"07"},"2018-09-07","vrijdag",36]
[3608,{"$f":"Tabel1[[#This Row],[Weeknummer]]","v":36},{"$f":"TEXT(Tabel1[[#This Row],[Datum]],\"dd\")","v":"08"},"2018-09-08","zaterdag",36]
[3609,{"$f":"Tabel1[[#This Row],[Weeknummer]]","v":36},{"$f":"TEXT(Tabel1[[#This Row],[Datum]],\"dd\")","v":"09"},"2018-09-09","zondag",36]
[3710,{"$f":"Tabel1[[#This Row],[Weeknummer]]","v":37},{"$f":"TEXT(Tabel1[[#This Row],[Datum]],\"dd\")","v":"10"},"2018-09-10","maandag",37]
[3711,{"$f":"Tabel1[[#This Row],[Weeknummer]]","v":37},{"$f":"TEXT(Tabel1[[#This Row],[Datum]],\"dd\")","v":"11"},"2018-09-11","dinsdag",37]
[3712,{"$f":"Tabel1[[#This Row],[Weeknummer]]","v":37},{"$f":"TEXT(Tabel1[[#This Row],[Datum]],\"dd\")","v":"12"},"2018-09-12","woensdag",37]
[3713,{"$f":"Tabel1[[#This Row],[Weeknummer]]","v":37},{"$f":"TEXT(Tabel1[[#This Row],[Datum]],\"dd\")","v":"13"},"2018-09-13","donderdag",37]
[3714,{"$f":"Tabel1[[#This Row],[Weeknummer]]","v":37},{"$f":"TEXT(Tabel1[[#This Row],[Datum]],\"dd\")","v":"14"},"2018-09-14",{"$f":"CHOOSE(WEEKDAY(D258,2),\"maandag\",\"dinsdag\",\"woensdag\",\"donderdag\",\"vrijdag\",\"zaterdag\",\"zondag\")","v":"vrijdag"},{"$f":"WEEKNUM(D258,21)","v":37}]
[{"$f":"(B259&C259)*1","v":3715},{"$f":"Tabel1[[#This Row],[Weeknummer]]","v":37},{"$f":"TEXT(Tabel1[[#This Row],[Datum]],\"dd\")","v":"15"},"2018-09-15","zaterdag",37]
[3716,{"$f":"Tabel1[[#This Row],[Weeknummer]]","v":37},{"$f":"TEXT(Tabel1[[#This Row],[Datum]],\"dd\")","v":"16"},"2018-09-16","zondag",37]
[3817,{"$f":"Tabel1[[#This Row],[Weeknummer]]","v":38},{"$f":"TEXT(Tabel1[[#This Row],[Datum]],\"dd\")","v":"17"},"2018-09-17","maandag",38]
[3818,{"$f":"Tabel1[[#This Row],[Weeknummer]]","v":38},{"$f":"TEXT(Tabel1[[#This Row],[Datum]],\"dd\")","v":"18"},"2018-09-18","dinsdag",38]
[3819,{"$f":"Tabel1[[#This Row],[Weeknummer]]","v":38},{"$f":"TEXT(Tabel1[[#This Row],[Datum]],\"dd\")","v":"19"},"2018-09-19","woensdag",38]
[3820,{"$f":"Tabel1[[#This Row],[Weeknummer]]","v":38},{"$f":"TEXT(Tabel1[[#This Row],[Datum]],\"dd\")","v":"20"},"2018-09-20","donderdag",38]
[3821,{"$f":"Tabel1[[#This Row],[Weeknummer]]","v":38},{"$f":"TEXT(Tabel1[[#This Row],[Datum]],\"dd\")","v":"21"},"2018-09-21","vrijdag",38]
[3822,{"$f":"Tabel1[[#This Row],[Weeknummer]]","v":38},{"$f":"TEXT(Tabel1[[#This Row],[Datum]],\"dd\")","v":"22"},"2018-09-22","zaterdag",38]
[3823,{"$f":"Tabel1[[#This Row],[Weeknummer]]","v":38},{"$f":"TEXT(Tabel1[[#This Row],[Datum]],\"dd\")","v":"23"},"2018-09-23","zondag",38]
[3924,{"$f":"Tabel1[[#This Row],[Weeknummer]]","v":39},{"$f":"TEXT(Tabel1[[#This Row],[Datum]],\"dd\")","v":"24"},"2018-09-24","maandag",39]
[3925,{"$f":"Tabel1[[#This Row],[Weeknummer]]","v":39},{"$f":"TEXT(Tabel1[[#This Row],[Datum]],\"dd\")","v":"25"},"2018-09-25","dinsdag",39]
[3926,{"$f":"Tabel1[[#This Row],[Weeknummer]]","v":39},{"$f":"TEXT(Tabel1[[#This Row],[Datum]],\"dd\")","v":"26"},"2018-09-26","woensdag",39]
[3927,{"$f":"Tabel1[[#This Row],[Weeknummer]]","v":39},{"$f":"TEXT(Tabel1[[#This Row],[Datum]],\"dd\")","v":"27"},"2018-09-27","donderdag",39]
[3928,{"$f":"Tabel1[[#This Row],[Weeknummer]]","v":39},{"$f":"TEXT(Tabel1[[#This Row],[Datum]],\"dd\")","v":"28"},"2018-09-28","vrijdag",39]
[3929,{"$f":"Tabel1[[#This Row],[Weeknummer]]","v":39},{"$f":"TEXT(Tabel1[[#This Row],[Datum]],\"dd\")","v":"29"},"2018-09-29","zaterdag",39]
[3930,{"$f":"Tabel1[[#This Row],[Weeknummer]]","v":39},{"$f":"TEXT(Tabel1[[#This Row],[Datum]],\"dd\")","v":"30"},"2018-09-30","zondag",39]
[4001,{"$f":"Tabel1[[#This Row],[Weeknummer]]","v":40},{"$f":"TEXT(Tabel1[[#This Row],[Datum]],\"dd\")","v":"01"},"2018-10-01","maandag",40]
[4002,{"$f":"Tabel1[[#This Row],[Weeknummer]]","v":40},{"$f":"TEXT(Tabel1[[#This Row],[Datum]],\"dd\")","v":"02"},"2018-10-02","dinsdag",40]
[4003,{"$f":"Tabel1[[#This Row],[Weeknummer]]","v":40},{"$f":"TEXT(Tabel1[[#This Row],[Datum]],\"dd\")","v":"03"},"2018-10-03","woensdag",40]
[4004,{"$f":"Tabel1[[#This Row],[Weeknummer]]","v":40},{"$f":"TEXT(Tabel1[[#This Row],[Datum]],\"dd\")","v":"04"},"2018-10-04","donderdag",40]
[4005,{"$f":"Tabel1[[#This Row],[Weeknummer]]","v":40},{"$f":"TEXT(Tabel1[[#This Row],[Datum]],\"dd\")","v":"05"},"2018-10-05","vrijdag",40]
[4006,{"$f":"Tabel1[[#This Row],[Weeknummer]]","v":40},{"$f":"TEXT(Tabel1[[#This Row],[Datum]],\"dd\")","v":"06"},"2018-10-06","zaterdag",40]
[4007,{"$f":"Tabel1[[#This Row],[Weeknummer]]","v":40},{"$f":"TEXT(Tabel1[[#This Row],[Datum]],\"dd\")","v":"07"},"2018-10-07","zondag",40]
[4108,{"$f":"Tabel1[[#This Row],[Weeknummer]]","v":41},{"$f":"TEXT(Tabel1[[#This Row],[Datum]],\"dd\")","v":"08"},"2018-10-08","maandag",41]
[4109,{"$f":"Tabel1[[#This Row],[Weeknummer]]","v":41},{"$f":"TEXT(Tabel1[[#This Row],[Datum]],\"dd\")","v":"09"},"2018-10-09","dinsdag",41]
[4110,{"$f":"Tabel1[[#This Row],[Weeknummer]]","v":41},{"$f":"TEXT(Tabel1[[#This Row],[Datum]],\"dd\")","v":"10"},"2018-10-10","woensdag",41]
[4111,{"$f":"Tabel1[[#This Row],[Weeknummer]]","v":41},{"$f":"TEXT(Tabel1[[#This Row],[Datum]],\"dd\")","v":"11"},"2018-10-11","donderdag",41]
[4112,{"$f":"Tabel1[[#This Row],[Weeknummer]]","v":41},{"$f":"TEXT(Tabel1[[#This Row],[Datum]],\"dd\")","v":"12"},"2018-10-12","vrijdag",41]
[4113,{"$f":"Tabel1[[#This Row],[Weeknummer]]","v":41},{"$f":"TEXT(Tabel1[[#This Row],[Datum]],\"dd\")","v":"13"},"2018-10-13","zaterdag",41]
[4114,{"$f":"Tabel1[[#This Row],[Weeknummer]]","v":41},{"$f":"TEXT(Tabel1[[#This Row],[Datum]],\"dd\")","v":"14"},"2018-10-14","zondag",41]
[4215,{"$f":"Tabel1[[#This Row],[Weeknummer]]","v":42},{"$f":"TEXT(Tabel1[[#This Row],[Datum]],\"dd\")","v":"15"},"2018-10-15","maandag",42]
[4216,{"$f":"Tabel1[[#This Row],[Weeknummer]]","v":42},{"$f":"TEXT(Tabel1[[#This Row],[Datum]],\"dd\")","v":"16"},"2018-10-16","dinsdag",42]
[4217,{"$f":"Tabel1[[#This Row],[Weeknummer]]","v":42},{"$f":"TEXT(Tabel1[[#This Row],[Datum]],\"dd\")","v":"17"},"2018-10-17","woensdag",42]
[4218,{"$f":"Tabel1[[#This Row],[Weeknummer]]","v":42},{"$f":"TEXT(Tabel1[[#This Row],[Datum]],\"dd\")","v":"18"},"2018-10-18","donderdag",42]
[4219,{"$f":"Tabel1[[#This Row],[Weeknummer]]","v":42},{"$f":"TEXT(Tabel1[[#This Row],[Datum]],\"dd\")","v":"19"},"2018-10-19","vrijdag",42]
[4220,{"$f":"Tabel1[[#This Row],[Weeknummer]]","v":42},{"$f":"TEXT(Tabel1[[#This Row],[Datum]],\"dd\")","v":"20"},"2018-10-20","zaterdag",42]
[4221,{"$f":"Tabel1[[#This Row],[Weeknummer]]","v":42},{"$f":"TEXT(Tabel1[[#This Row],[Datum]],\"dd\")","v":"21"},"2018-10-21","zondag",42]
[4322,{"$f":"Tabel1[[#This Row],[Weeknummer]]","v":43},{"$f":"TEXT(Tabel1[[#This Row],[Datum]],\"dd\")","v":"22"},"2018-10-22","maandag",43]
[4323,{"$f":"Tabel1[[#This Row],[Weeknummer]]","v":43},{"$f":"TEXT(Tabel1[[#This Row],[Datum]],\"dd\")","v":"23"},"2018-10-23","dinsdag",43]
[4324,{"$f":"Tabel1[[#This Row],[Weeknummer]]","v":43},{"$f":"TEXT(Tabel1[[#This Row],[Datum]],\"dd\")","v":"24"},"2018-10-24","woensdag",43]
[4325,{"$f":"Tabel1[[#This Row],[Weeknummer]]","v":43},{"$f":"TEXT(Tabel1[[#This Row],[Datum]],\"dd\")","v":"25"},"2018-10-25","donderdag",43]
[4326,{"$f":"Tabel1[[#This Row],[Weeknummer]]","v":43},{"$f":"TEXT(Tabel1[[#This Row],[Datum]],\"dd\")","v":"26"},"2018-10-26","vrijdag",43]
[4327,{"$f":"Tabel1[[#This Row],[Weeknummer]]","v":43},{"$f":"TEXT(Tabel1[[#This Row],[Datum]],\"dd\")","v":"27"},"2018-10-27","zaterdag",43]
[4328,{"$f":"Tabel1[[#This Row],[Weeknummer]]","v":43},{"$f":"TEXT(Tabel1[[#This Row],[Datum]],\"dd\")","v":"28"},"2018-10-28","zondag",43]
[4429,{"$f":"Tabel1[[#This Row],[Weeknummer]]","v":44},{"$f":"TEXT(Tabel1[[#This Row],[Datum]],\"dd\")","v":"29"},"2018-10-29","maandag",44]
[4430,{"$f":"Tabel1[[#This Row],[Weeknummer]]","v":44},{"$f":"TEXT(Tabel1[[#This Row],[Datum]],\"dd\")","v":"30"},"2018-10-30","dinsdag",44]
[4431,{"$f":"Tabel1[[#This Row],[Weeknummer]]","v":44},{"$f":"TEXT(Tabel1[[#This Row],[Datum]],\"dd\")","v":"31"},"2018-10-31","woensdag",44]
[4401,{"$f":"Tabel1[[#This Row],[Weeknummer]]","v":44},{"$f":"TEXT(Tabel1[[#This Row],[Datum]],\"dd\")","v":"01"},"2018-11-01","donderdag",44]
[4402,{"$f":"Tabel1[[#This Row],[Weeknummer]]","v":44},{"$f":"TEXT(Tabel1[[#This Row],[Datum]],\"dd\")","v":"02"},"2018-11-02","vrijdag",44]
[4403,{"$f":"Tabel1[[#This Row],[Weeknummer]]","v":44},{"$f":"TEXT(Tabel1[[#This Row],[Datum]],\"dd\")","v":"03"},"2018-11-03","zaterdag",44]
[4404,{"$f":"Tabel1[[#This Row],[Weeknummer]]","v":44},{"$f":"TEXT(Tabel1[[#This Row],[Datum]],\"dd\")","v":"04"},"2018-11-04","zondag",44]
[4505,{"$f":"Tabel1[[#This Row],[Weeknummer]]","v":45},{"$f":"TEXT(Tabel1[[#This Row],[Datum]],\"dd\")","v":"05"},"2018-11-05","maandag",45]
[4506,{"$f":"Tabel1[[#This Row],[Weeknummer]]","v":45},{"$f":"TEXT(Tabel1[[#This Row],[Datum]],\"dd\")","v":"06"},"2018-11-06","dinsdag",45]
[4507,{"$f":"Tabel1[[#This Row],[Weeknummer]]","v":45},{"$f":"TEXT(Tabel1[[#This Row],[Datum]],\"dd\")","v":"07"},"2018-11-07","woensdag",45]
[4508,{"$f":"Tabel1[[#This Row],[Weeknummer]]","v":45},{"$f":"TEXT(Tabel1[[#This Row],[Datum]],\"dd\")","v":"08"},"2018-11-08","donderdag",45]
[4509,{"$f":"Tabel1[[#This Row],[Weeknummer]]","v":45},{"$f":"TEXT(Tabel1[[#This Row],[Datum]],\"dd\")","v":"09"},"2018-11-09","vrijdag",45]
[4510,{"$f":"Tabel1[[#This Row],[Weeknummer]]","v":45},{"$f":"TEXT(Tabel1[[#This Row],[Datum]],\"dd\")","v":"10"},"2018-11-10","zaterdag",45]
[4511,{"$f":"Tabel1[[#This Row],[Weeknummer]]","v":45},{"$f":"TEXT(Tabel1[[#This Row],[Datum]],\"dd\")","v":"11"},"2018-11-11","zondag",45]
[4612,{"$f":"Tabel1[[#This Row],[Weeknummer]]","v":46},{"$f":"TEXT(Tabel1[[#This Row],[Datum]],\"dd\")","v":"12"},"2018-11-12","maandag",46]
[4613,{"$f":"Tabel1[[#This Row],[Weeknummer]]","v":46},{"$f":"TEXT(Tabel1[[#This Row],[Datum]],\"dd\")","v":"13"},"2018-11-13","dinsdag",46]
[4614,{"$f":"Tabel1[[#This Row],[Weeknummer]]","v":46},{"$f":"TEXT(Tabel1[[#This Row],[Datum]],\"dd\")","v":"14"},"2018-11-14","woensdag",46]
[4615,{"$f":"Tabel1[[#This Row],[Weeknummer]]","v":46},{"$f":"TEXT(Tabel1[[#This Row],[Datum]],\"dd\")","v":"15"},"2018-11-15","donderdag",46]
[4616,{"$f":"Tabel1[[#This Row],[Weeknummer]]","v":46},{"$f":"TEXT(Tabel1[[#This Row],[Datum]],\"dd\")","v":"16"},"2018-11-16","vrijdag",46]
[4617,{"$f":"Tabel1[[#This Row],[Weeknummer]]","v":46},{"$f":"TEXT(Tabel1[[#This Row],[Datum]],\"dd\")","v":"17"},"2018-11-17",{"$f":"CHOOSE(WEEKDAY(D322,2),\"maandag\",\"dinsdag\",\"woensdag\",\"donderdag\",\"vrijdag\",\"zaterdag\",\"zondag\")","v":"zaterdag"},{"$f":"WEEKNUM(D322,21)","v":46}]
[{"$f":"(B323&C323)*1","v":4618},{"$f":"Tabel1[[#This Row],[Weeknummer]]","v":46},{"$f":"TEXT(Tabel1[[#This Row],[Datum]],\"dd\")","v":"18"},"2018-11-18","zondag",46]
[4719,{"$f":"Tabel1[[#This Row],[Weeknummer]]","v":47},{"$f":"TEXT(Tabel1[[#This Row],[Datum]],\"dd\")","v":"19"},"2018-11-19","maandag",47]
[4720,{"$f":"Tabel1[[#This Row],[Weeknummer]]","v":47},{"$f":"TEXT(Tabel1[[#This Row],[Datum]],\"dd\")","v":"20"},"2018-11-20","dinsdag",47]
[4721,{"$f":"Tabel1[[#This Row],[Weeknummer]]","v":47},{"$f":"TEXT(Tabel1[[#This Row],[Datum]],\"dd\")","v":"21"},"2018-11-21","woensdag",47]
[4722,{"$f":"Tabel1[[#This Row],[Weeknummer]]","v":47},{"$f":"TEXT(Tabel1[[#This Row],[Datum]],\"dd\")","v":"22"},"2018-11-22","donderdag",47]
[4723,{"$f":"Tabel1[[#This Row],[Weeknummer]]","v":47},{"$f":"TEXT(Tabel1[[#This Row],[Datum]],\"dd\")","v":"23"},"2018-11-23","vrijdag",47]
[4724,{"$f":"Tabel1[[#This Row],[Weeknummer]]","v":47},{"$f":"TEXT(Tabel1[[#This Row],[Datum]],\"dd\")","v":"24"},"2018-11-24","zaterdag",47]
[4725,{"$f":"Tabel1[[#This Row],[Weeknummer]]","v":47},{"$f":"TEXT(Tabel1[[#This Row],[Datum]],\"dd\")","v":"25"},"2018-11-25","zondag",47]
[4826,{"$f":"Tabel1[[#This Row],[Weeknummer]]","v":48},{"$f":"TEXT(Tabel1[[#This Row],[Datum]],\"dd\")","v":"26"},"2018-11-26","maandag",48]
[4827,{"$f":"Tabel1[[#This Row],[Weeknummer]]","v":48},{"$f":"TEXT(Tabel1[[#This Row],[Datum]],\"dd\")","v":"27"},"2018-11-27","dinsdag",48]
[4828,{"$f":"Tabel1[[#This Row],[Weeknummer]]","v":48},{"$f":"TEXT(Tabel1[[#This Row],[Datum]],\"dd\")","v":"28"},"2018-11-28","woensdag",48]
[4829,{"$f":"Tabel1[[#This Row],[Weeknummer]]","v":48},{"$f":"TEXT(Tabel1[[#This Row],[Datum]],\"dd\")","v":"29"},"2018-11-29","donderdag",48]
[4830,{"$f":"Tabel1[[#This Row],[Weeknummer]]","v":48},{"$f":"TEXT(Tabel1[[#This Row],[Datum]],\"dd\")","v":"30"},"2018-11-30","vrijdag",48]
[4801,{"$f":"Tabel1[[#This Row],[Weeknummer]]","v":48},{"$f":"TEXT(Tabel1[[#This Row],[Datum]],\"dd\")","v":"01"},"2018-12-01","zaterdag",48]
[4802,{"$f":"Tabel1[[#This Row],[Weeknummer]]","v":48},{"$f":"TEXT(Tabel1[[#This Row],[Datum]],\"dd\")","v":"02"},"2018-12-02","zondag",48]
[4903,{"$f":"Tabel1[[#This Row],[Weeknummer]]","v":49},{"$f":"TEXT(Tabel1[[#This Row],[Datum]],\"dd\")","v":"03"},"2018-12-03","maandag",49]
[4904,{"$f":"Tabel1[[#This Row],[Weeknummer]]","v":49},{"$f":"TEXT(Tabel1[[#This Row],[Datum]],\"dd\")","v":"04"},"2018-12-04","dinsdag",49]
[4905,{"$f":"Tabel1[[#This Row],[Weeknummer]]","v":49},{"$f":"TEXT(Tabel1[[#This Row],[Datum]],\"dd\")","v":"05"},"2018-12-05","woensdag",49]
[4906,{"$f":"Tabel1[[#This Row],[Weeknummer]]","v":49},{"$f":"TEXT(Tabel1[[#This Row],[Datum]],\"dd\")","v":"06"},"2018-12-06","donderdag",49]
[4907,{"$f":"Tabel1[[#This Row],[Weeknummer]]","v":49},{"$f":"TEXT(Tabel1[[#This Row],[Datum]],\"dd\")","v":"07"},"2018-12-07","vrijdag",49]
[4908,{"$f":"Tabel1[[#This Row],[Weeknummer]]","v":49},{"$f":"TEXT(Tabel1[[#This Row],[Datum]],\"dd\")","v":"08"},"2018-12-08","zaterdag",49]
[4909,{"$f":"Tabel1[[#This Row],[Weeknummer]]","v":49},{"$f":"TEXT(Tabel1[[#This Row],[Datum]],\"dd\")","v":"09"},"2018-12-09","zondag",49]
[5010,{"$f":"Tabel1[[#This Row],[Weeknummer]]","v":50},{"$f":"TEXT(Tabel1[[#This Row],[Datum]],\"dd\")","v":"10"},"2018-12-10","maandag",50]
[5011,{"$f":"Tabel1[[#This Row],[Weeknummer]]","v":50},{"$f":"TEXT(Tabel1[[#This Row],[Datum]],\"dd\")","v":"11"},"2018-12-11","dinsdag",50]
[5012,{"$f":"Tabel1[[#This Row],[Weeknummer]]","v":50},{"$f":"TEXT(Tabel1[[#This Row],[Datum]],\"dd\")","v":"12"},"2018-12-12","woensdag",50]
[5013,{"$f":"Tabel1[[#This Row],[Weeknummer]]","v":50},{"$f":"TEXT(Tabel1[[#This Row],[Datum]],\"dd\")","v":"13"},"2018-12-13","donderdag",50]
[5014,{"$f":"Tabel1[[#This Row],[Weeknummer]]","v":50},{"$f":"TEXT(Tabel1[[#This Row],[Datum]],\"dd\")","v":"14"},"2018-12-14","vrijdag",50]
[5015,{"$f":"Tabel1[[#This Row],[Weeknummer]]","v":50},{"$f":"TEXT(Tabel1[[#This Row],[Datum]],\"dd\")","v":"15"},"2018-12-15","zaterdag",50]
[5016,{"$f":"Tabel1[[#This Row],[Weeknummer]]","v":50},{"$f":"TEXT(Tabel1[[#This Row],[Datum]],\"dd\")","v":"16"},"2018-12-16","zondag",50]
[5117,{"$f":"Tabel1[[#This Row],[Weeknummer]]","v":51},{"$f":"TEXT(Tabel1[[#This Row],[Datum]],\"dd\")","v":"17"},"2018-12-17","maandag",51]
[5118,{"$f":"Tabel1[[#This Row],[Weeknummer]]","v":51},{"$f":"TEXT(Tabel1[[#This Row],[Datum]],\"dd\")","v":"18"},"2018-12-18","dinsdag",51]
[5119,{"$f":"Tabel1[[#This Row],[Weeknummer]]","v":51},{"$f":"TEXT(Tabel1[[#This Row],[Datum]],\"dd\")","v":"19"},"2018-12-19","woensdag",51]
[5120,{"$f":"Tabel1[[#This Row],[Weeknummer]]","v":51},{"$f":"TEXT(Tabel1[[#This Row],[Datum]],\"dd\")","v":"20"},"2018-12-20","donderdag",51]
[5121,{"$f":"Tabel1[[#This Row],[Weeknummer]]","v":51},{"$f":"TEXT(Tabel1[[#This Row],[Datum]],\"dd\")","v":"21"},"2018-12-21","vrijdag",51]
[5122,{"$f":"Tabel1[[#This Row],[Weeknummer]]","v":51},{"$f":"TEXT(Tabel1[[#This Row],[Datum]],\"dd\")","v":"22"},"2018-12-22","zaterdag",51]
[5123,{"$f":"Tabel1[[#This Row],[Weeknummer]]","v":51},{"$f":"TEXT(Tabel1[[#This Row],[Datum]],\"dd\")","v":"23"},"2018-12-23","zondag",51]
[5224,{"$f":"Tabel1[[#This Row],[Weeknummer]]","v":52},{"$f":"TEXT(Tabel1[[#This Row],[Datum]],\"dd\")","v":"24"},"2018-12-24","maandag",52]
[5225,{"$f":"Tabel1[[#This Row],[Weeknummer]]","v":52},{"$f":"TEXT(Tabel1[[#This Row],[Datum]],\"dd\")","v":"25"},"2018-12-25","dinsdag",52]
[5226,{"$f":"Tabel1[[#This Row],[Weeknummer]]","v":52},{"$f":"TEXT(Tabel1[[#This Row],[Datum]],\"dd\")","v":"26"},"2018-12-26","woensdag",52]
[5227,{"$f":"Tabel1[[#This Row],[Weeknummer]]","v":52},{"$f":"TEXT(Tabel1[[#This Row],[Datum]],\"dd\")","v":"27"},"2018-12-27","donderdag",52]
[5228,{"$f":"Tabel1[[#This Row],[Weeknummer]]","v":52},{"$f":"TEXT(Tabel1[[#This Row],[Datum]],\"dd\")","v":"28"},"2018-12-28","vrijdag",52]
[5229,{"$f":"Tabel1[[#This Row],[Weeknummer]]","v":52},{"$f":"TEXT(Tabel1[[#This Row],[Datum]],\"dd\")","v":"29"},"2018-12-29","zaterdag",52]
[5230,{"$f":"Tabel1[[#This Row],[Weeknummer]]","v":52},{"$f":"TEXT(Tabel1[[#This Row],[Datum]],\"dd\")","v":"30"},"2018-12-30","zondag",52]
[131,{"$f":"Tabel1[[#This Row],[Weeknummer]]","v":1},{"$f":"TEXT(Tabel1[[#This Row],[Datum]],\"dd\")","v":"31"},"2018-12-31","maandag",1]