{"text_format":"1","workbook":"xlsx","n_sheets":2,"sheets":["rooster","invoer"],"not_rendered":{"charts":0,"images":0,"macros":1,"external_links":0,"defined_names":1,"comments":0,"pivot_tables":0},"unopened":[],"bounds":{"document_bytes":16777216,"sheet_cells":100000,"rows_first":2000,"rows_last":500,"rows_between":2000,"halvings":0,"cell_chars":16384,"cell_head_chars":4096},"cells_cut":0,"cells_raw":0,"read":"whole","date_system":"1900"}

{"sheet":"rooster","index":0,"n_rows":20,"n_cols":390,"rows_kept":20,"cut":false,"hidden":false,"merged":[]}
[null,null,"2017-12-09","2017-12-10","2017-12-11","2017-12-12","2017-12-13","2017-12-14","2017-12-15","2017-12-16","2017-12-17","2017-12-18","2017-12-19","2017-12-20","2017-12-21","2017-12-22","2017-12-23","2017-12-24","2017-12-25","2017-12-26","2017-12-27","2017-12-28","2017-12-29","2017-12-30","2017-12-31","2018-01-01","2018-01-02","2018-01-03","2018-01-04","2018-01-05","2018-01-06","2018-01-07","2018-01-08","2018-01-09","2018-01-10","2018-01-11","2018-01-12","2018-01-13","2018-01-14","2018-01-15","2018-01-16","2018-01-17","2018-01-18","2018-01-19","2018-01-20","2018-01-21","2018-01-22","2018-01-23","2018-01-24","2018-01-25","2018-01-26","2018-01-27","2018-01-28","2018-01-29","2018-01-30","2018-01-31","2018-02-01","2018-02-02","2018-02-03","2018-02-04","2018-02-05","2018-02-06","2018-02-07","2018-02-08","2018-02-09","2018-02-10","2018-02-11","2018-02-12","2018-02-13","2018-02-14","2018-02-15","2018-02-16","2018-02-17","2018-02-18","2018-02-19","2018-02-20","2018-02-21","2018-02-22","2018-02-23","2018-02-24","2018-02-25","2018-02-26","2018-02-27","2018-02-28","2018-03-01","2018-03-02","2018-03-03","2018-03-04","2018-03-05","2018-03-06","2018-03-07","2018-03-08","2018-03-09","2018-03-10","2018-03-11","2018-03-12","2018-03-13","2018-03-14","2018-03-15","2018-03-16","2018-03-17","2018-03-18","2018-03-19","2018-03-20","2018-03-21","2018-03-22","2018-03-23","2018-03-24","2018-03-25","2018-03-26","2018-03-27","2018-03-28","2018-03-29","2018-03-30","2018-03-31","2018-04-01","2018-04-02","2018-04-03","2018-04-04","2018-04-05","2018-04-06","2018-04-07","2018-04-08","2018-04-09","2018-04-10","2018-04-11","2018-04-12","2018-04-13","2018-04-14","2018-04-15","2018-04-16","2018-04-17","2018-04-18","2018-04-19","2018-04-20","2018-04-21","2018-04-22","2018-04-23","2018-04-24","2018-04-25","2018-04-26","2018-04-27","2018-04-28","2018-04-29","2018-04-30","2018-05-01","2018-05-02","2018-05-03","2018-05-04","2018-05-05","2018-05-06","2018-05-07","2018-05-08","2018-05-09","2018-05-10","2018-05-11","2018-05-12","2018-05-13","2018-05-14","2018-05-15","2018-05-16","2018-05-17","2018-05-18","2018-05-19","2018-05-20","2018-05-21","2018-05-22","2018-05-23","2018-05-24","2018-05-25","2018-05-26","2018-05-27","2018-05-28","2018-05-29","2018-05-30","2018-05-31","2018-06-01","2018-06-02","2018-06-03","2018-06-04","2018-06-05","2018-06-06","2018-06-07","2018-06-08","2018-06-09","2018-06-10","2018-06-11","2018-06-12","2018-06-13","2018-06-14","2018-06-15","2018-06-16","2018-06-17","2018-06-18","2018-06-19","2018-06-20","2018-06-21","2018-06-22","2018-06-23","2018-06-24","2018-06-25","2018-06-26","2018-06-27","2018-06-28","2018-06-29","2018-06-30","2018-07-01","2018-07-02","2018-07-03","2018-07-04","2018-07-05","2018-07-06","2018-07-07","2018-07-08","2018-07-09","2018-07-10","2018-07-11","2018-07-12","2018-07-13","2018-07-14","2018-07-15","2018-07-16","2018-07-17","2018-07-18","2018-07-19","2018-07-20","2018-07-21","2018-07-22","2018-07-23","2018-07-24","2018-07-25","2018-07-26","2018-07-27","2018-07-28","2018-07-29","2018-07-30","2018-07-31","2018-08-01","2018-08-02","2018-08-03","2018-08-04","2018-08-05","2018-08-06","2018-08-07","2018-08-08","2018-08-09","2018-08-10","2018-08-11","2018-08-12","2018-08-13","2018-08-14","2018-08-15","2018-08-16","2018-08-17","2018-08-18","2018-08-19","2018-08-20","2018-08-21","2018-08-22","2018-08-23","2018-08-24","2018-08-25","2018-08-26","2018-08-27","2018-08-28","2018-08-29","2018-08-30","2018-08-31","2018-09-01","2018-09-02","2018-09-03","2018-09-04","2018-09-05","2018-09-06","2018-09-07","2018-09-08","2018-09-09","2018-09-10","2018-09-11","2018-09-12","2018-09-13","2018-09-14","2018-09-15","2018-09-16","2018-09-17","2018-09-18","2018-09-19","2018-09-20","2018-09-21","2018-09-22","2018-09-23","2018-09-24","2018-09-25","2018-09-26","2018-09-27","2018-09-28","2018-09-29","2018-09-30","2018-10-01","2018-10-02","2018-10-03","2018-10-04","2018-10-05","2018-10-06","2018-10-07","2018-10-08","2018-10-09","2018-10-10","2018-10-11","2018-10-12","2018-10-13","2018-10-14","2018-10-15","2018-10-16","2018-10-17","2018-10-18","2018-10-19","2018-10-20","2018-10-21","2018-10-22","2018-10-23","2018-10-24","2018-10-25","2018-10-26","2018-10-27","2018-10-28","2018-10-29","2018-10-30","2018-10-31","2018-11-01","2018-11-02","2018-11-03","2018-11-04","2018-11-05","2018-11-06","2018-11-07","2018-11-08","2018-11-09","2018-11-10","2018-11-11","2018-11-12","2018-11-13","2018-11-14","2018-11-15","2018-11-16","2018-11-17","2018-11-18","2018-11-19","2018-11-20","2018-11-21","2018-11-22","2018-11-23","2018-11-24","2018-11-25","2018-11-26","2018-11-27","2018-11-28","2018-11-29","2018-11-30","2018-12-01","2018-12-02","2018-12-03","2018-12-04","2018-12-05","2018-12-06","2018-12-07","2018-12-08","2018-12-09","2018-12-10","2018-12-11","2018-12-12","2018-12-13","2018-12-14","2018-12-15","2018-12-16","2018-12-17","2018-12-18","2018-12-19","2018-12-20","2018-12-21","2018-12-22","2018-12-23","2018-12-24","2018-12-25","2018-12-26","2018-12-27","2018-12-28","2018-12-29","2018-12-30","2018-12-31"]
["Chauffeurs",null,"zondag","maandag","dinsdag","woensdag","donderdag","vrijdag","zaterdag","zondag","maandag","dinsdag","woensdag","donderdag","vrijdag","zaterdag","zondag","maandag","dinsdag","woensdag","donderdag","vrijdag","zaterdag","zondag","maandag","dinsdag","woensdag","donderdag","vrijdag","zaterdag","zondag","maandag","dinsdag","woensdag","donderdag","vrijdag","zaterdag","zondag","maandag","dinsdag","woensdag","donderdag","vrijdag","zaterdag","zondag","maandag","dinsdag","woensdag","donderdag","vrijdag","zaterdag","zondag","maandag","dinsdag","woensdag","donderdag","vrijdag","zaterdag","zondag","maandag","dinsdag","woensdag","donderdag","vrijdag","zaterdag","zondag","maandag","dinsdag","woensdag","donderdag","vrijdag","zaterdag","zondag","maandag","dinsdag","woensdag","donderdag","vrijdag","zaterdag","zondag","maandag","dinsdag","woensdag","donderdag","vrijdag","zaterdag","zondag","maandag","dinsdag","woensdag","donderdag","vrijdag","zaterdag","zondag","maandag","dinsdag","woensdag","donderdag","vrijdag","zaterdag","zondag","maandag","dinsdag","woensdag","donderdag","vrijdag","zaterdag","zondag","maandag","dinsdag","woensdag","donderdag","vrijdag","zaterdag","zondag","maandag","dinsdag","woensdag","donderdag","vrijdag","zaterdag","zondag","maandag","dinsdag","woensdag","donderdag","vrijdag","zaterdag","zondag","maandag","dinsdag","woensdag","donderdag","vrijdag","zaterdag","zondag","maandag","dinsdag","woensdag","donderdag","vrijdag","zaterdag","zondag","maandag","dinsdag","woensdag","donderdag","vrijdag","zaterdag","zondag","maandag","dinsdag","woensdag","donderdag","vrijdag","zaterdag","zondag","maandag","dinsdag","woensdag","donderdag","vrijdag","zaterdag","zondag","maandag","dinsdag","woensdag","donderdag","vrijdag","zaterdag","zondag","maandag","dinsdag","woensdag","donderdag","vrijdag","zaterdag","zondag","maandag","dinsdag","woensdag","donderdag","vrijdag","zaterdag","zondag","maandag","dinsdag","woensdag","donderdag","vrijdag","zaterdag","zondag","maandag","dinsdag","woensdag","donderdag","vrijdag","zaterdag","zondag","maandag","dinsdag","woensdag","donderdag","vrijdag","zaterdag","zondag","maandag","dinsdag","woensdag","donderdag","vrijdag","zaterdag","zondag","maandag","dinsdag","woensdag","donderdag","vrijdag","zaterdag","zondag","maandag","dinsdag","woensdag","donderdag","vrijdag","zaterdag","zondag","maandag","dinsdag","woensdag","donderdag","vrijdag","zaterdag","zondag","maandag","dinsdag","woensdag","donderdag","vrijdag","zaterdag","zondag","maandag","dinsdag","woensdag","donderdag","vrijdag","zaterdag","zondag","maandag","dinsdag","woensdag","donderdag","vrijdag","zaterdag","zondag","maandag","dinsdag","woensdag","donderdag","vrijdag","zaterdag","zondag","maandag","dinsdag","woensdag","donderdag","vrijdag","zaterdag","zondag","maandag","dinsdag","woensdag","donderdag","vrijdag","zaterdag","zondag","maandag","dinsdag","woensdag","donderdag","vrijdag","zaterdag","zondag","maandag","dinsdag","woensdag","donderdag","vrijdag","zaterdag","zondag","maandag","dinsdag","woensdag","donderdag","vrijdag","zaterdag","zondag","maandag","dinsdag","woensdag","donderdag","vrijdag","zaterdag","zondag","maandag","dinsdag","woensdag","donderdag","vrijdag","zaterdag","zondag","maandag","dinsdag","woensdag","donderdag","vrijdag","zaterdag","zondag","maandag","dinsdag","woensdag","donderdag","vrijdag","zaterdag","zondag","maandag","dinsdag","woensdag","donderdag","vrijdag","zaterdag","zondag","maandag","dinsdag","woensdag","donderdag","vrijdag","zaterdag","zondag","maandag","dinsdag","woensdag","donderdag","vrijdag","zaterdag","zondag","maandag","dinsdag","woensdag","donderdag","vrijdag","zaterdag","zondag","maandag","dinsdag","woensdag","donderdag","vrijdag","zaterdag","zondag","maandag","dinsdag","woensdag","donderdag","vrijdag","zaterdag","zondag","maandag","dinsdag","woensdag","donderdag","vrijdag","zaterdag","zondag","maandag","dinsdag","woensdag","donderdag","vrijdag","zaterdag","zondag","maandag","dinsdag","woensdag","donderdag","vrijdag","zaterdag","zondag","maandag","dinsdag"]
["Piet","50+",{"$f":"invoer!C3","v":"G"},"AATV",{"$f":"invoer!E3","v":"L"},{"$f":"invoer!F3","v":0},{"$f":"invoer!G3","v":0},{"$f":"invoer!H3","v":0},{"$f":"invoer!I3","v":0},{"$f":"invoer!C4","v":0},{"$f":"invoer!D4","v":0},"AATV",{"$f":"invoer!F4","v":0},{"$f":"invoer!G4","v":0},{"$f":"invoer!H4","v":0},{"$f":"invoer!I4","v":0},{"$f":"invoer!C5","v":0},{"$f":"invoer!D5","v":0},{"$f":"invoer!E5","v":0},"AATV",{"$f":"invoer!G5","v":0},{"$f":"invoer!H5","v":0},{"$f":"invoer!I5","v":0},{"$f":"invoer!C6","v":0},{"$f":"invoer!D6","v":0},{"$f":"invoer!E6","v":0},{"$f":"invoer!F6","v":0},"AATV",{"$f":"invoer!H6","v":0},{"$f":"invoer!I6","v":0},{"$f":"invoer!C7","v":0},{"$f":"invoer!D7","v":0},{"$f":"invoer!E7","v":0},{"$f":"invoer!F7","v":0},{"$f":"invoer!G7","v":0},"AATV",{"$f":"invoer!I7","v":0},{"$f":"invoer!C8","v":0},{"$f":"invoer!D8","v":0},{"$f":"invoer!E8","v":0},{"$f":"invoer!F8","v":0},{"$f":"invoer!G8","v":0},{"$f":"invoer!H8","v":0},"AATV",{"$f":"invoer!C9","v":0},"AATV",{"$f":"invoer!E9","v":0},{"$f":"invoer!F9","v":0},{"$f":"invoer!G9","v":0},{"$f":"invoer!H9","v":0},{"$f":"invoer!I9","v":0},{"$f":"invoer!C10","v":0},{"$f":"invoer!D10","v":0},"AATV",{"$f":"invoer!F10","v":0},{"$f":"invoer!G10","v":0},{"$f":"invoer!H10","v":0},{"$f":"invoer!I10","v":0},{"$f":"invoer!C11","v":0},{"$f":"invoer!D11","v":0},{"$f":"invoer!E11","v":0},"AATV",{"$f":"invoer!G11","v":0},{"$f":"invoer!H11","v":0},{"$f":"invoer!I11","v":0},{"$f":"invoer!C12","v":0},{"$f":"invoer!D12","v":0},{"$f":"invoer!E12","v":0},{"$f":"invoer!F12","v":0},"AATV",{"$f":"invoer!H12","v":0},{"$f":"invoer!I12","v":0},{"$f":"invoer!C13","v":0},{"$f":"invoer!D13","v":0},{"$f":"invoer!E13","v":0},{"$f":"invoer!F13","v":0},{"$f":"invoer!G13","v":0},"AATV",{"$f":"invoer!I13","v":0},{"$f":"invoer!C14","v":0},{"$f":"invoer!D14","v":0},{"$f":"invoer!E14","v":0},{"$f":"invoer!F14","v":0},{"$f":"invoer!G14","v":0},{"$f":"invoer!H14","v":0},"AATV",{"$f":"invoer!C15","v":0},"AATV",{"$f":"invoer!E15","v":0},{"$f":"invoer!F15","v":0},{"$f":"invoer!G15","v":0},{"$f":"invoer!H15","v":0},{"$f":"invoer!I15","v":0},{"$f":"invoer!C16","v":0},{"$f":"invoer!D16","v":0},"AATV",{"$f":"invoer!F16","v":0},{"$f":"invoer!G16","v":0},{"$f":"invoer!H16","v":0},{"$f":"invoer!I16","v":0},{"$f":"invoer!C17","v":0},{"$f":"invoer!D17","v":0},{"$f":"invoer!E17","v":0},"AATV",{"$f":"invoer!G17","v":0},{"$f":"invoer!H17","v":0},{"$f":"invoer!I17","v":0},{"$f":"invoer!C18","v":0},{"$f":"invoer!D18","v":0},{"$f":"invoer!E18","v":0},{"$f":"invoer!F18","v":0},"AATV",{"$f":"invoer!H18","v":0},{"$f":"invoer!I18","v":0},{"$f":"invoer!C19","v":0},{"$f":"invoer!D19","v":0},{"$f":"invoer!E19","v":0},{"$f":"invoer!F19","v":0},{"$f":"invoer!G19","v":0},"AATV",{"$f":"invoer!I19","v":0},{"$f":"invoer!C20","v":0},{"$f":"invoer!D20","v":0},{"$f":"invoer!E20","v":0},{"$f":"invoer!F20","v":0},{"$f":"invoer!G20","v":0},{"$f":"invoer!H20","v":0},"AATV",{"$f":"invoer!C21","v":0},"AATV",{"$f":"invoer!E21","v":0},{"$f":"invoer!F21","v":0},{"$f":"invoer!G21","v":0},{"$f":"invoer!H21","v":0},{"$f":"invoer!I21","v":0},{"$f":"invoer!C22","v":0},{"$f":"invoer!D22","v":0},"AATV",{"$f":"invoer!F22","v":0},{"$f":"invoer!G22","v":0},{"$f":"invoer!H22","v":0},{"$f":"invoer!I22","v":0},{"$f":"invoer!C23","v":0},{"$f":"invoer!D23","v":0},{"$f":"invoer!E23","v":0},"AATV",{"$f":"invoer!G23","v":0},{"$f":"invoer!H23","v":0},{"$f":"invoer!I23","v":0},{"$f":"invoer!C24","v":0},{"$f":"invoer!D24","v":0},{"$f":"invoer!E24","v":0},{"$f":"invoer!F24","v":0},"AATV",{"$f":"invoer!H24","v":0},{"$f":"invoer!I24","v":0},{"$f":"invoer!C25","v":0},{"$f":"invoer!D25","v":0},{"$f":"invoer!E25","v":0},{"$f":"invoer!F25","v":0},{"$f":"invoer!G25","v":0},"AATV",{"$f":"invoer!I25","v":0},{"$f":"invoer!C26","v":0},{"$f":"invoer!D26","v":0},{"$f":"invoer!E26","v":0},{"$f":"invoer!F26","v":0},{"$f":"invoer!G26","v":0},{"$f":"invoer!H26","v":0},"AATV",{"$f":"invoer!C27","v":0},"AATV",{"$f":"invoer!E27","v":0},{"$f":"invoer!F27","v":0},{"$f":"invoer!G27","v":0},{"$f":"invoer!H27","v":0},{"$f":"invoer!I27","v":0},{"$f":"invoer!C28","v":0},{"$f":"invoer!D28","v":0},"AATV",{"$f":"invoer!F28","v":0},{"$f":"invoer!G28","v":0},{"$f":"invoer!H28","v":0},{"$f":"invoer!I28","v":0},{"$f":"invoer!C29","v":0},{"$f":"invoer!D29","v":0},{"$f":"invoer!E29","v":0},"AATV",{"$f":"invoer!G29","v":0},{"$f":"invoer!H29","v":0},{"$f":"invoer!I29","v":0},{"$f":"invoer!C30","v":0},{"$f":"invoer!D30","v":0},{"$f":"invoer!E30","v":0},{"$f":"invoer!F30","v":0},"AATV",{"$f":"invoer!H30","v":0},{"$f":"invoer!I30","v":0},{"$f":"invoer!C31","v":0},{"$f":"invoer!D31","v":0},{"$f":"invoer!E31","v":0},{"$f":"invoer!F31","v":0},{"$f":"invoer!G31","v":0},"AATV",{"$f":"invoer!I31","v":0},{"$f":"invoer!C32","v":0},{"$f":"invoer!D32","v":0},{"$f":"invoer!E32","v":0},{"$f":"invoer!F32","v":0},{"$f":"invoer!G32","v":0},{"$f":"invoer!H32","v":0},"AATV",{"$f":"invoer!C33","v":0},"AATV",{"$f":"invoer!E33","v":0},{"$f":"invoer!F33","v":0},{"$f":"invoer!G33","v":0},{"$f":"invoer!H33","v":0},{"$f":"invoer!I33","v":0},{"$f":"invoer!C34","v":0},{"$f":"invoer!D34","v":0},"AATV",{"$f":"invoer!F34","v":0},{"$f":"invoer!G34","v":0},{"$f":"invoer!H34","v":0},{"$f":"invoer!I34","v":0},{"$f":"invoer!C35","v":0},{"$f":"invoer!D35","v":0},{"$f":"invoer!E35","v":0},"AATV",{"$f":"invoer!G35","v":0},{"$f":"invoer!H35","v":0},{"$f":"invoer!I35","v":0},{"$f":"invoer!C36","v":0},{"$f":"invoer!D36","v":0},{"$f":"invoer!E36","v":0},{"$f":"invoer!F36","v":0},"AATV",{"$f":"invoer!H36","v":0},{"$f":"invoer!I36","v":0},{"$f":"invoer!C37","v":0},{"$f":"invoer!D37","v":0},{"$f":"invoer!E37","v":0},{"$f":"invoer!F37","v":0},{"$f":"invoer!G37","v":0},"AATV",{"$f":"invoer!I37","v":0},{"$f":"invoer!C38","v":0},{"$f":"invoer!D38","v":0},{"$f":"invoer!E38","v":0},{"$f":"invoer!F38","v":0},{"$f":"invoer!G38","v":0},{"$f":"invoer!H38","v":0},"AATV",{"$f":"invoer!C39","v":0},"AATV",{"$f":"invoer!E39","v":0},{"$f":"invoer!F39","v":0},{"$f":"invoer!G39","v":0},{"$f":"invoer!H39","v":0},{"$f":"invoer!I39","v":0},{"$f":"invoer!C40","v":0},{"$f":"invoer!D40","v":0},"AATV",{"$f":"invoer!F40","v":0},{"$f":"invoer!G40","v":0},{"$f":"invoer!H40","v":0},{"$f":"invoer!I40","v":0},{"$f":"invoer!C41","v":0},{"$f":"invoer!D41","v":0},{"$f":"invoer!E41","v":0},"AATV",{"$f":"invoer!G41","v":0},{"$f":"invoer!H41","v":0},{"$f":"invoer!I41","v":0},{"$f":"invoer!C42","v":0},{"$f":"invoer!D42","v":0},{"$f":"invoer!E42","v":0},{"$f":"invoer!F42","v":0},"AATV",{"$f":"invoer!H42","v":0},{"$f":"invoer!I42","v":0},{"$f":"invoer!C43","v":0},{"$f":"invoer!D43","v":0},{"$f":"invoer!E43","v":0},{"$f":"invoer!F43","v":0},{"$f":"invoer!G43","v":0},"AATV",{"$f":"invoer!I43","v":0},{"$f":"invoer!C44","v":0},{"$f":"invoer!D44","v":0},{"$f":"invoer!E44","v":0},{"$f":"invoer!F44","v":0},{"$f":"invoer!G44","v":0},{"$f":"invoer!H44","v":0},"AATV",{"$f":"invoer!C45","v":0},"AATV",{"$f":"invoer!E45","v":0},{"$f":"invoer!F45","v":0},{"$f":"invoer!G45","v":0},{"$f":"invoer!H45","v":0},{"$f":"invoer!I45","v":0},{"$f":"+invoer!C46","v":0},{"$f":"+invoer!D46","v":0},"AATV",{"$f":"+invoer!F46","v":0},{"$f":"+invoer!G46","v":0},{"$f":"+invoer!H46","v":0},{"$f":"+invoer!I46","v":0},{"$f":"invoer!C47","v":0},{"$f":"invoer!D47","v":0},{"$f":"invoer!E47","v":0},"AATV",{"$f":"invoer!G47","v":0},{"$f":"invoer!H47","v":0},{"$f":"invoer!I47","v":0},{"$f":"invoer!C48","v":0},{"$f":"invoer!D48","v":0},{"$f":"invoer!E48","v":0},{"$f":"invoer!F48","v":0},"AATV",{"$f":"invoer!H48","v":0},{"$f":"invoer!I48","v":0},{"$f":"invoer!C49","v":0},{"$f":"invoer!D49","v":0},{"$f":"invoer!E49","v":0},{"$f":"invoer!F49","v":0},{"$f":"invoer!G49","v":0},"AATV",{"$f":"invoer!I49","v":0},{"$f":"invoer!C50","v":0},{"$f":"invoer!D50","v":0},{"$f":"invoer!E50","v":0},{"$f":"invoer!F50","v":0},{"$f":"invoer!G50","v":0},{"$f":"invoer!H50","v":0},"AATV",{"$f":"invoer!C51","v":0},"AATV",{"$f":"invoer!E51","v":0},{"$f":"invoer!F51","v":0},{"$f":"invoer!G51","v":0},{"$f":"invoer!H51","v":0},{"$f":"invoer!I51","v":0},{"$f":"invoer!C52","v":0},{"$f":"invoer!D52","v":0},"AATV",{"$f":"invoer!F52","v":0},{"$f":"invoer!G52","v":0},{"$f":"invoer!H52","v":0},{"$f":"invoer!I52","v":0},{"$f":"invoer!C53","v":0},{"$f":"invoer!D53","v":0},{"$f":"invoer!E53","v":0},"AATV",{"$f":"invoer!G53","v":0},{"$f":"invoer!H53","v":0},{"$f":"invoer!I53","v":0},{"$f":"invoer!C54","v":0},{"$f":"invoer!D54","v":0},{"$f":"invoer!E54","v":0},{"$f":"invoer!F54","v":0},"AATV",{"$f":"invoer!H54","v":0},{"$f":"invoer!I54","v":0},{"$f":"invoer!C55","v":0},{"$f":"invoer!D55","v":0},{"$f":"invoer!E55","v":0},{"$f":"invoer!F55","v":0},{"$f":"invoer!G55","v":0},"AATV",{"$f":"invoer!I55","v":0},{"$f":"invoer!C56","v":0},{"$f":"invoer!D56","v":0},{"$f":"invoer!E56","v":0},{"$f":"invoer!F56","v":0},{"$f":"invoer!G56","v":0},{"$f":"invoer!H56","v":0},"AATV",{"$f":"invoer!C57","v":0},"AATV",{"$f":"invoer!E57","v":0},{"$f":"invoer!F57","v":0},{"$f":"invoer!G57","v":0},{"$f":"invoer!H57","v":0},{"$f":"invoer!I57","v":0},{"$f":"invoer!C58","v":0},{"$f":"invoer!D58","v":0},"AATV"]
["Klaas",null,{"$f":"invoer!$C4","v":0},{"$f":"invoer!D4","v":0},{"$f":"invoer!E4","v":"R7380"},{"$f":"invoer!F4","v":0},{"$f":"invoer!G4","v":0},{"$f":"invoer!H4","v":0},{"$f":"invoer!I4","v":0},{"$f":"invoer!C5","v":0},{"$f":"invoer!D5","v":0},{"$f":"invoer!E5","v":0},{"$f":"invoer!F5","v":"R7380"},{"$f":"invoer!G5","v":0},{"$f":"invoer!H5","v":0},{"$f":"invoer!I5","v":0},{"$f":"invoer!C6","v":0},{"$f":"invoer!D6","v":0},{"$f":"invoer!E6","v":0},{"$f":"invoer!F6","v":0},{"$f":"invoer!G6","v":"R7380"},{"$f":"invoer!H6","v":0},{"$f":"invoer!I6","v":0},{"$f":"invoer!C7","v":0},{"$f":"invoer!D7","v":0},{"$f":"invoer!E7","v":0},{"$f":"invoer!F7","v":0},{"$f":"invoer!G7","v":0},{"$f":"invoer!H7","v":"R7380"},{"$f":"invoer!I7","v":0},{"$f":"invoer!C8","v":0},{"$f":"invoer!D8","v":0},{"$f":"invoer!E8","v":0},{"$f":"invoer!F8","v":0},{"$f":"invoer!G8","v":0},{"$f":"invoer!H8","v":0},{"$f":"invoer!I8","v":"R7380"},{"$f":"invoer!C9","v":0},{"$f":"invoer!D9","v":"R7380"},{"$f":"invoer!E9","v":0},{"$f":"invoer!F9","v":0},{"$f":"invoer!G9","v":0},{"$f":"invoer!H9","v":0},{"$f":"invoer!I9","v":0},{"$f":"invoer!C10","v":0},{"$f":"invoer!D10","v":0},{"$f":"invoer!E10","v":"R7380"},{"$f":"invoer!F10","v":0},{"$f":"invoer!G10","v":0},{"$f":"invoer!H10","v":0},{"$f":"invoer!I10","v":0},{"$f":"invoer!C11","v":0},{"$f":"invoer!D11","v":0},{"$f":"invoer!E11","v":0},{"$f":"invoer!F11","v":"R7380"},{"$f":"invoer!G11","v":0},{"$f":"invoer!H11","v":0},{"$f":"invoer!I11","v":0},{"$f":"invoer!C12","v":0},{"$f":"invoer!D12","v":0},{"$f":"invoer!E12","v":0},{"$f":"invoer!F12","v":0},{"$f":"invoer!G12","v":"R7380"},{"$f":"invoer!H12","v":0},{"$f":"invoer!I12","v":0},{"$f":"invoer!C13","v":0},{"$f":"invoer!D13","v":0},{"$f":"invoer!E13","v":0},{"$f":"invoer!F13","v":0},{"$f":"invoer!G13","v":0},{"$f":"invoer!H13","v":"R7380"},{"$f":"invoer!I13","v":0},{"$f":"invoer!C14","v":0},{"$f":"invoer!D14","v":0},{"$f":"invoer!E14","v":0},{"$f":"invoer!F14","v":0},{"$f":"invoer!G14","v":0},{"$f":"invoer!H14","v":0},{"$f":"invoer!I14","v":"R7380"},{"$f":"invoer!C15","v":0},{"$f":"invoer!D15","v":"R7380"},{"$f":"invoer!E15","v":0},{"$f":"invoer!F15","v":0},{"$f":"invoer!G15","v":0},{"$f":"invoer!H15","v":0},{"$f":"invoer!I15","v":0},{"$f":"invoer!C16","v":0},{"$f":"invoer!D16","v":0},{"$f":"invoer!E16","v":"R7380"},{"$f":"invoer!F16","v":0},{"$f":"invoer!G16","v":0},{"$f":"invoer!H16","v":0},{"$f":"invoer!I16","v":0},{"$f":"invoer!C17","v":0},{"$f":"invoer!D17","v":0},{"$f":"invoer!E17","v":0},{"$f":"invoer!F17","v":"R7380"},{"$f":"invoer!G17","v":0},{"$f":"invoer!H17","v":0},{"$f":"invoer!I17","v":0},{"$f":"invoer!C18","v":0},{"$f":"invoer!D18","v":0},{"$f":"invoer!E18","v":0},{"$f":"invoer!F18","v":0},{"$f":"invoer!G18","v":"R7380"},{"$f":"invoer!H18","v":0},{"$f":"invoer!I18","v":0},{"$f":"invoer!C19","v":0},{"$f":"invoer!D19","v":0},{"$f":"invoer!E19","v":0},{"$f":"invoer!F19","v":0},{"$f":"invoer!G19","v":0},{"$f":"invoer!H19","v":"R7380"},{"$f":"invoer!I19","v":0},{"$f":"invoer!C20","v":0},{"$f":"invoer!D20","v":0},{"$f":"invoer!E20","v":0},{"$f":"invoer!F20","v":0},{"$f":"invoer!G20","v":0},{"$f":"invoer!H20","v":0},{"$f":"invoer!I20","v":"R7380"},{"$f":"invoer!C21","v":0},{"$f":"invoer!D21","v":"R7380"},{"$f":"invoer!E21","v":0},{"$f":"invoer!F21","v":0},{"$f":"invoer!G21","v":0},{"$f":"invoer!H21","v":0},{"$f":"invoer!I21","v":0},{"$f":"invoer!C22","v":0},{"$f":"invoer!D22","v":0},{"$f":"invoer!E22","v":"R7380"},{"$f":"invoer!F22","v":0},{"$f":"invoer!G22","v":0},{"$f":"invoer!H22","v":0},{"$f":"invoer!I22","v":0},{"$f":"invoer!C23","v":0},{"$f":"invoer!D23","v":0},{"$f":"invoer!E23","v":0},{"$f":"invoer!F23","v":"R7380"},{"$f":"invoer!G23","v":0},{"$f":"invoer!H23","v":0},{"$f":"invoer!I23","v":0},{"$f":"invoer!C24","v":0},{"$f":"invoer!D24","v":0},{"$f":"invoer!E24","v":0},{"$f":"invoer!F24","v":0},{"$f":"invoer!G24","v":"R7380"},{"$f":"invoer!H24","v":0},{"$f":"invoer!I24","v":0},{"$f":"invoer!C25","v":0},{"$f":"invoer!D25","v":0},{"$f":"invoer!E25","v":0},{"$f":"invoer!F25","v":0},{"$f":"invoer!G25","v":0},{"$f":"invoer!H25","v":"R7380"},{"$f":"invoer!I25","v":0},{"$f":"invoer!C26","v":0},{"$f":"invoer!D26","v":0},{"$f":"invoer!E26","v":0},{"$f":"invoer!F26","v":0},{"$f":"invoer!G26","v":0},{"$f":"invoer!H26","v":0},{"$f":"invoer!I26","v":"R7380"},{"$f":"invoer!C27","v":0},{"$f":"invoer!D27","v":"R7380"},{"$f":"invoer!E27","v":0},{"$f":"invoer!F27","v":0},{"$f":"invoer!G27","v":0},{"$f":"invoer!H27","v":0},{"$f":"invoer!I27","v":0},{"$f":"invoer!C28","v":0},{"$f":"invoer!D28","v":0},{"$f":"invoer!E28","v":"R7380"},{"$f":"invoer!F28","v":0},{"$f":"invoer!G28","v":0},{"$f":"invoer!H28","v":0},{"$f":"invoer!I28","v":0},{"$f":"invoer!C29","v":0},{"$f":"invoer!D29","v":0},{"$f":"invoer!E29","v":0},{"$f":"invoer!F29","v":"R7380"},{"$f":"invoer!G29","v":0},{"$f":"invoer!H29","v":0},{"$f":"invoer!I29","v":0},{"$f":"invoer!C30","v":0},{"$f":"invoer!D30","v":0},{"$f":"invoer!E30","v":0},{"$f":"invoer!F30","v":0},{"$f":"invoer!G30","v":"R7380"},{"$f":"invoer!H30","v":0},{"$f":"invoer!I30","v":0},{"$f":"invoer!C31","v":0},{"$f":"invoer!D31","v":0},{"$f":"invoer!E31","v":0},{"$f":"invoer!F31","v":0},{"$f":"invoer!G31","v":0},{"$f":"invoer!H31","v":"R7380"},{"$f":"invoer!I31","v":0},{"$f":"invoer!C32","v":0},{"$f":"invoer!D32","v":0},{"$f":"invoer!E32","v":0},{"$f":"invoer!F32","v":0},{"$f":"invoer!G32","v":0},{"$f":"invoer!H32","v":0},{"$f":"invoer!I32","v":"R7380"},{"$f":"invoer!C33","v":0},{"$f":"invoer!D33","v":"R7380"},{"$f":"invoer!E33","v":0},{"$f":"invoer!F33","v":0},{"$f":"invoer!G33","v":0},{"$f":"invoer!H33","v":0},{"$f":"invoer!I33","v":0},{"$f":"invoer!C34","v":0},{"$f":"invoer!D34","v":0},{"$f":"invoer!E34","v":"R7380"},{"$f":"invoer!F34","v":0},{"$f":"invoer!G34","v":0},{"$f":"invoer!H34","v":0},{"$f":"invoer!I34","v":0},{"$f":"invoer!C35","v":0},{"$f":"invoer!D35","v":0},{"$f":"invoer!E35","v":0},{"$f":"invoer!F35","v":"R7380"},{"$f":"invoer!G35","v":0},{"$f":"invoer!H35","v":0},{"$f":"invoer!I35","v":0},{"$f":"invoer!C36","v":0},{"$f":"invoer!D36","v":0},{"$f":"invoer!E36","v":0},{"$f":"invoer!F36","v":0},{"$f":"invoer!G36","v":"R7380"},{"$f":"invoer!H36","v":0},{"$f":"invoer!I36","v":0},{"$f":"invoer!C37","v":0},{"$f":"invoer!D37","v":0},{"$f":"invoer!E37","v":0},{"$f":"invoer!F37","v":0},{"$f":"invoer!G37","v":0},{"$f":"invoer!H37","v":"R7380"},{"$f":"invoer!I37","v":0},{"$f":"invoer!C38","v":0},{"$f":"invoer!D38","v":0},{"$f":"invoer!E38","v":0},{"$f":"invoer!F38","v":0},{"$f":"invoer!G38","v":0},{"$f":"invoer!H38","v":0},{"$f":"invoer!I38","v":"R7380"},{"$f":"invoer!C39","v":0},{"$f":"invoer!D39","v":"R7380"},{"$f":"invoer!E39","v":0},{"$f":"invoer!F39","v":0},{"$f":"invoer!G39","v":0},{"$f":"invoer!H39","v":0},{"$f":"invoer!I39","v":0},{"$f":"invoer!C40","v":0},{"$f":"invoer!D40","v":0},{"$f":"invoer!E40","v":"R7380"},{"$f":"invoer!F40","v":0},{"$f":"invoer!G40","v":0},{"$f":"invoer!H40","v":0},{"$f":"invoer!I40","v":0},{"$f":"invoer!C41","v":0},{"$f":"invoer!D41","v":0},{"$f":"invoer!E41","v":0},{"$f":"invoer!F41","v":"R7380"},{"$f":"invoer!G41","v":0},{"$f":"invoer!H41","v":0},{"$f":"invoer!I41","v":0},{"$f":"invoer!C42","v":0},{"$f":"invoer!D42","v":0},{"$f":"invoer!E42","v":0},{"$f":"invoer!F42","v":0},{"$f":"invoer!G42","v":"R7380"},{"$f":"invoer!H42","v":0},{"$f":"invoer!I42","v":0},{"$f":"invoer!C43","v":0},{"$f":"invoer!D43","v":0},{"$f":"invoer!E43","v":0},{"$f":"invoer!F43","v":0},{"$f":"invoer!G43","v":0},{"$f":"invoer!H43","v":"R7380"},{"$f":"invoer!I43","v":0},{"$f":"invoer!C44","v":0},{"$f":"invoer!D44","v":0},{"$f":"invoer!E44","v":0},{"$f":"invoer!F44","v":0},{"$f":"invoer!G44","v":0},{"$f":"invoer!H44","v":0},{"$f":"invoer!I44","v":"R7380"},{"$f":"invoer!C45","v":0},{"$f":"invoer!D45","v":"R7380"},{"$f":"invoer!E45","v":0},{"$f":"invoer!F45","v":0},{"$f":"invoer!G45","v":0},{"$f":"invoer!H45","v":0},{"$f":"invoer!I45","v":0},{"$f":"invoer!C46","v":0},{"$f":"invoer!D46","v":0},{"$f":"invoer!E46","v":"R7380"},{"$f":"invoer!F46","v":0},{"$f":"invoer!G46","v":0},{"$f":"invoer!H46","v":0},{"$f":"invoer!I46","v":0},{"$f":"+invoer!C47","v":0},{"$f":"+invoer!D47","v":0},{"$f":"+invoer!E47","v":0},{"$f":"+invoer!F47","v":"R7380"},{"$f":"+invoer!G47","v":0},{"$f":"+invoer!H47","v":0},{"$f":"+invoer!I47","v":0},{"$f":"invoer!C48","v":0},{"$f":"invoer!D48","v":0},{"$f":"invoer!E48","v":0},{"$f":"invoer!F48","v":0},{"$f":"invoer!G48","v":"R7380"},{"$f":"invoer!H48","v":0},{"$f":"invoer!I48","v":0},{"$f":"invoer!C49","v":0},{"$f":"invoer!D49","v":0},{"$f":"invoer!E49","v":0},{"$f":"invoer!F49","v":0},{"$f":"invoer!G49","v":0},{"$f":"invoer!H49","v":"R7380"},{"$f":"invoer!I49","v":0},{"$f":"invoer!C50","v":0},{"$f":"invoer!D50","v":0},{"$f":"invoer!E50","v":0},{"$f":"invoer!F50","v":0},{"$f":"invoer!G50","v":0},{"$f":"invoer!H50","v":0},{"$f":"invoer!I50","v":"R7380"},{"$f":"invoer!C51","v":0},{"$f":"invoer!D51","v":"R7380"},{"$f":"invoer!E51","v":0},{"$f":"invoer!F51","v":0},{"$f":"invoer!G51","v":0},{"$f":"invoer!H51","v":0},{"$f":"invoer!I51","v":0},{"$f":"invoer!C52","v":0},{"$f":"invoer!D52","v":0},{"$f":"invoer!E52","v":"R7380"},{"$f":"invoer!F52","v":0},{"$f":"invoer!G52","v":0},{"$f":"invoer!H52","v":0},{"$f":"invoer!I52","v":0},{"$f":"invoer!C53","v":0},{"$f":"invoer!D53","v":0},{"$f":"invoer!E53","v":0},{"$f":"invoer!F53","v":"R7380"},{"$f":"invoer!G53","v":0},{"$f":"invoer!H53","v":0},{"$f":"invoer!I53","v":0},{"$f":"invoer!C54","v":0},{"$f":"invoer!D54","v":0},{"$f":"invoer!E54","v":0},{"$f":"invoer!F54","v":0},{"$f":"invoer!G54","v":"R7380"},{"$f":"invoer!H54","v":0},{"$f":"invoer!I54","v":0},{"$f":"invoer!C55","v":0},{"$f":"invoer!D55","v":0},{"$f":"invoer!E55","v":0},{"$f":"invoer!F55","v":0},{"$f":"invoer!G55","v":0},{"$f":"invoer!H55","v":"R7380"},{"$f":"invoer!I55","v":0},{"$f":"invoer!C56","v":0},{"$f":"invoer!D56","v":0},{"$f":"invoer!E56","v":0},{"$f":"invoer!F56","v":0},{"$f":"invoer!G56","v":0},{"$f":"invoer!H56","v":0},{"$f":"invoer!I56","v":"R7380"},{"$f":"invoer!C57","v":0},{"$f":"invoer!D57","v":"R7380"},{"$f":"invoer!E57","v":0},{"$f":"invoer!F57","v":0},{"$f":"invoer!G57","v":0},{"$f":"invoer!H57","v":0},{"$f":"invoer!I57","v":0},{"$f":"invoer!C58","v":0},{"$f":"invoer!D58","v":0},{"$f":"invoer!E58","v":"R7380"},{"$f":"invoer!F58","v":0},{"$f":"invoer!G58","v":0},{"$f":"invoer!H58","v":0},{"$f":"invoer!I58","v":0},{"$f":"invoer!C3","v":"G"},{"$f":"invoer!D3","v":"R7380"},{"$f":"invoer!E3","v":"L"}]
["Dirk","50+",{"$f":"invoer!$C5","v":0},{"$f":"invoer!D5","v":0},{"$f":"invoer!E5","v":0},"AATV",{"$f":"invoer!G5","v":0},{"$f":"invoer!H5","v":0},{"$f":"invoer!I5","v":0},{"$f":"invoer!C6","v":0},{"$f":"invoer!D6","v":0},{"$f":"invoer!E6","v":0},{"$f":"invoer!F6","v":0},"AATV",{"$f":"invoer!H6","v":0},{"$f":"invoer!I6","v":0},{"$f":"invoer!C7","v":0},{"$f":"invoer!D7","v":0},{"$f":"invoer!E7","v":0},{"$f":"invoer!F7","v":0},{"$f":"invoer!G7","v":0},"AATV",{"$f":"invoer!I7","v":0},{"$f":"invoer!C8","v":0},{"$f":"invoer!D8","v":0},{"$f":"invoer!E8","v":0},{"$f":"invoer!F8","v":0},{"$f":"invoer!G8","v":0},{"$f":"invoer!H8","v":0},"AATV",{"$f":"invoer!C9","v":0},"AATV",{"$f":"invoer!E9","v":0},{"$f":"invoer!F9","v":0},{"$f":"invoer!G9","v":0},{"$f":"invoer!H9","v":0},{"$f":"invoer!I9","v":0},{"$f":"invoer!C10","v":0},{"$f":"invoer!D10","v":0},"AATV",{"$f":"invoer!F10","v":0},{"$f":"invoer!G10","v":0},{"$f":"invoer!H10","v":0},{"$f":"invoer!I10","v":0},{"$f":"invoer!C11","v":0},{"$f":"invoer!D11","v":0},{"$f":"invoer!E11","v":0},"AATV",{"$f":"invoer!G11","v":0},{"$f":"invoer!H11","v":0},{"$f":"invoer!I11","v":0},{"$f":"invoer!C12","v":0},{"$f":"invoer!D12","v":0},{"$f":"invoer!E12","v":0},{"$f":"invoer!F12","v":0},"AATV",{"$f":"invoer!H12","v":0},{"$f":"invoer!I12","v":0},{"$f":"invoer!C13","v":0},{"$f":"invoer!D13","v":0},{"$f":"invoer!E13","v":0},{"$f":"invoer!F13","v":0},{"$f":"invoer!G13","v":0},"AATV",{"$f":"invoer!I13","v":0},{"$f":"invoer!C14","v":0},{"$f":"invoer!D14","v":0},{"$f":"invoer!E14","v":0},{"$f":"invoer!F14","v":0},{"$f":"invoer!G14","v":0},{"$f":"invoer!H14","v":0},"AATV",{"$f":"invoer!C15","v":0},"AATV",{"$f":"invoer!E15","v":0},{"$f":"invoer!F15","v":0},{"$f":"invoer!G15","v":0},{"$f":"invoer!H15","v":0},{"$f":"invoer!I15","v":0},{"$f":"invoer!C16","v":0},{"$f":"invoer!D16","v":0},"AATV",{"$f":"invoer!F16","v":0},{"$f":"invoer!G16","v":0},{"$f":"invoer!H16","v":0},{"$f":"invoer!I16","v":0},{"$f":"invoer!C17","v":0},{"$f":"invoer!D17","v":0},{"$f":"invoer!E17","v":0},"AATV",{"$f":"invoer!G17","v":0},{"$f":"invoer!H17","v":0},{"$f":"invoer!I17","v":0},{"$f":"invoer!C18","v":0},{"$f":"invoer!D18","v":0},{"$f":"invoer!E18","v":0},{"$f":"invoer!F18","v":0},"AATV",{"$f":"invoer!H18","v":0},{"$f":"invoer!I18","v":0},{"$f":"invoer!C19","v":0},{"$f":"invoer!D19","v":0},{"$f":"invoer!E19","v":0},{"$f":"invoer!F19","v":0},{"$f":"invoer!G19","v":0},"AATV",{"$f":"invoer!I19","v":0},{"$f":"invoer!C20","v":0},{"$f":"invoer!D20","v":0},{"$f":"invoer!E20","v":0},{"$f":"invoer!F20","v":0},{"$f":"invoer!G20","v":0},{"$f":"invoer!H20","v":0},"AATV",{"$f":"invoer!C21","v":0},"AATV",{"$f":"invoer!E21","v":0},{"$f":"invoer!F21","v":0},{"$f":"invoer!G21","v":0},{"$f":"invoer!H21","v":0},{"$f":"invoer!I21","v":0},{"$f":"invoer!C22","v":0},{"$f":"invoer!D22","v":0},"AATV",{"$f":"invoer!F22","v":0},{"$f":"invoer!G22","v":0},{"$f":"invoer!H22","v":0},{"$f":"invoer!I22","v":0},{"$f":"invoer!C23","v":0},{"$f":"invoer!D23","v":0},{"$f":"invoer!E23","v":0},"AATV",{"$f":"invoer!G23","v":0},{"$f":"invoer!H23","v":0},{"$f":"invoer!I23","v":0},{"$f":"invoer!C24","v":0},{"$f":"invoer!D24","v":0},{"$f":"invoer!E24","v":0},{"$f":"invoer!F24","v":0},"AATV",{"$f":"invoer!H24","v":0},{"$f":"invoer!I24","v":0},{"$f":"invoer!C25","v":0},{"$f":"invoer!D25","v":0},{"$f":"invoer!E25","v":0},{"$f":"invoer!F25","v":0},{"$f":"invoer!G25","v":0},"AATV",{"$f":"invoer!I25","v":0},{"$f":"invoer!C26","v":0},{"$f":"invoer!D26","v":0},{"$f":"invoer!E26","v":0},{"$f":"invoer!F26","v":0},{"$f":"invoer!G26","v":0},{"$f":"invoer!H26","v":0},"AATV",{"$f":"invoer!C27","v":0},"AATV",{"$f":"invoer!E27","v":0},{"$f":"invoer!F27","v":0},{"$f":"invoer!G27","v":0},{"$f":"invoer!H27","v":0},{"$f":"invoer!I27","v":0},{"$f":"invoer!C28","v":0},{"$f":"invoer!D28","v":0},"AATV",{"$f":"invoer!F28","v":0},{"$f":"invoer!G28","v":0},{"$f":"invoer!H28","v":0},{"$f":"invoer!I28","v":0},{"$f":"invoer!C29","v":0},{"$f":"invoer!D29","v":0},{"$f":"invoer!E29","v":0},"AATV",{"$f":"invoer!G29","v":0},{"$f":"invoer!H29","v":0},{"$f":"invoer!I29","v":0},{"$f":"invoer!C30","v":0},{"$f":"invoer!D30","v":0},{"$f":"invoer!E30","v":0},{"$f":"invoer!F30","v":0},"AATV",{"$f":"invoer!H30","v":0},{"$f":"invoer!I30","v":0},{"$f":"invoer!C31","v":0},{"$f":"invoer!D31","v":0},{"$f":"invoer!E31","v":0},{"$f":"invoer!F31","v":0},{"$f":"invoer!G31","v":0},"AATV",{"$f":"invoer!I31","v":0},{"$f":"invoer!C32","v":0},{"$f":"invoer!D32","v":0},{"$f":"invoer!E32","v":0},{"$f":"invoer!F32","v":0},{"$f":"invoer!G32","v":0},{"$f":"invoer!H32","v":0},"AATV",{"$f":"invoer!C33","v":0},"AATV",{"$f":"invoer!E33","v":0},{"$f":"invoer!F33","v":0},{"$f":"invoer!G33","v":0},{"$f":"invoer!H33","v":0},{"$f":"invoer!I33","v":0},{"$f":"invoer!C34","v":0},{"$f":"invoer!D34","v":0},"AATV",{"$f":"invoer!F34","v":0},{"$f":"invoer!G34","v":0},{"$f":"invoer!H34","v":0},{"$f":"invoer!I34","v":0},{"$f":"invoer!C35","v":0},{"$f":"invoer!D35","v":0},{"$f":"invoer!E35","v":0},"AATV",{"$f":"invoer!G35","v":0},{"$f":"invoer!H35","v":0},{"$f":"invoer!I35","v":0},{"$f":"invoer!C36","v":0},{"$f":"invoer!D36","v":0},{"$f":"invoer!E36","v":0},{"$f":"invoer!F36","v":0},"AATV",{"$f":"invoer!H36","v":0},{"$f":"invoer!I36","v":0},{"$f":"invoer!C37","v":0},{"$f":"invoer!D37","v":0},{"$f":"invoer!E37","v":0},{"$f":"invoer!F37","v":0},{"$f":"invoer!G37","v":0},"AATV",{"$f":"invoer!I37","v":0},{"$f":"invoer!C38","v":0},{"$f":"invoer!D38","v":0},{"$f":"invoer!E38","v":0},{"$f":"invoer!F38","v":0},{"$f":"invoer!G38","v":0},{"$f":"invoer!H38","v":0},"AATV",{"$f":"invoer!C39","v":0},"AATV",{"$f":"invoer!E39","v":0},{"$f":"invoer!F39","v":0},{"$f":"invoer!G39","v":0},{"$f":"invoer!H39","v":0},{"$f":"invoer!I39","v":0},{"$f":"invoer!C40","v":0},{"$f":"invoer!D40","v":0},"AATV",{"$f":"invoer!F40","v":0},{"$f":"invoer!G40","v":0},{"$f":"invoer!H40","v":0},{"$f":"invoer!I40","v":0},{"$f":"invoer!C41","v":0},{"$f":"invoer!D41","v":0},{"$f":"invoer!E41","v":0},"AATV",{"$f":"invoer!G41","v":0},{"$f":"invoer!H41","v":0},{"$f":"invoer!I41","v":0},{"$f":"invoer!C42","v":0},{"$f":"invoer!D42","v":0},{"$f":"invoer!E42","v":0},{"$f":"invoer!F42","v":0},"AATV",{"$f":"invoer!H42","v":0},{"$f":"invoer!I42","v":0},{"$f":"invoer!C43","v":0},{"$f":"invoer!D43","v":0},{"$f":"invoer!E43","v":0},{"$f":"invoer!F43","v":0},{"$f":"invoer!G43","v":0},"AATV",{"$f":"invoer!I43","v":0},{"$f":"invoer!C44","v":0},{"$f":"invoer!D44","v":0},{"$f":"invoer!E44","v":0},{"$f":"invoer!F44","v":0},{"$f":"invoer!G44","v":0},{"$f":"invoer!H44","v":0},"AATV",{"$f":"invoer!C45","v":0},"AATV",{"$f":"invoer!E45","v":0},{"$f":"invoer!F45","v":0},{"$f":"invoer!G45","v":0},{"$f":"invoer!H45","v":0},{"$f":"invoer!I45","v":0},{"$f":"invoer!C46","v":0},{"$f":"invoer!D46","v":0},"AATV",{"$f":"invoer!F46","v":0},{"$f":"invoer!G46","v":0},{"$f":"invoer!H46","v":0},{"$f":"invoer!I46","v":0},{"$f":"invoer!C47","v":0},{"$f":"invoer!D47","v":0},{"$f":"invoer!E47","v":0},"AATV",{"$f":"invoer!G47","v":0},{"$f":"invoer!H47","v":0},{"$f":"invoer!I47","v":0},{"$f":"+invoer!C48","v":0},{"$f":"+invoer!D48","v":0},{"$f":"+invoer!E48","v":0},{"$f":"+invoer!F48","v":0},"AATV",{"$f":"+invoer!H48","v":0},{"$f":"+invoer!I48","v":0},{"$f":"invoer!C49","v":0},{"$f":"invoer!D49","v":0},{"$f":"invoer!E49","v":0},{"$f":"invoer!F49","v":0},{"$f":"invoer!G49","v":0},"AATV",{"$f":"invoer!I49","v":0},{"$f":"invoer!C50","v":0},{"$f":"invoer!D50","v":0},{"$f":"invoer!E50","v":0},{"$f":"invoer!F50","v":0},{"$f":"invoer!G50","v":0},{"$f":"invoer!H50","v":0},"AATV",{"$f":"invoer!C51","v":0},"AATV",{"$f":"invoer!E51","v":0},{"$f":"invoer!F51","v":0},{"$f":"invoer!G51","v":0},{"$f":"invoer!H51","v":0},{"$f":"invoer!I51","v":0},{"$f":"invoer!C52","v":0},{"$f":"invoer!D52","v":0},"AATV",{"$f":"invoer!F52","v":0},{"$f":"invoer!G52","v":0},{"$f":"invoer!H52","v":0},{"$f":"invoer!I52","v":0},{"$f":"invoer!C53","v":0},{"$f":"invoer!D53","v":0},{"$f":"invoer!E53","v":0},"AATV",{"$f":"invoer!G53","v":0},{"$f":"invoer!H53","v":0},{"$f":"invoer!I53","v":0},{"$f":"invoer!C54","v":0},{"$f":"invoer!D54","v":0},{"$f":"invoer!E54","v":0},{"$f":"invoer!F54","v":0},"AATV",{"$f":"invoer!H54","v":0},{"$f":"invoer!I54","v":0},{"$f":"invoer!C55","v":0},{"$f":"invoer!D55","v":0},{"$f":"invoer!E55","v":0},{"$f":"invoer!F55","v":0},{"$f":"invoer!G55","v":0},"AATV",{"$f":"invoer!I55","v":0},{"$f":"invoer!C56","v":0},{"$f":"invoer!D56","v":0},{"$f":"invoer!E56","v":0},{"$f":"invoer!F56","v":0},{"$f":"invoer!G56","v":0},{"$f":"invoer!H56","v":0},"AATV",{"$f":"invoer!C57","v":0},"AATV",{"$f":"invoer!E57","v":0},{"$f":"invoer!F57","v":0},{"$f":"invoer!G57","v":0},{"$f":"invoer!H57","v":0},{"$f":"invoer!I57","v":0},{"$f":"invoer!C58","v":0},{"$f":"invoer!D58","v":0},"AATV",{"$f":"invoer!F58","v":0},{"$f":"invoer!G58","v":0},{"$f":"invoer!H58","v":0},{"$f":"invoer!I58","v":0},{"$f":"invoer!C3","v":"G"},"AATV",{"$f":"invoer!E3","v":"L"},{"$f":"invoer!F3","v":0},{"$f":"invoer!G3","v":0},{"$f":"invoer!H3","v":0},{"$f":"invoer!I3","v":0},{"$f":"invoer!C4","v":0},{"$f":"invoer!D4","v":0},"AATV"]
[null,null,{"$f":"invoer!$C6","v":0},{"$f":"invoer!D6","v":0},{"$f":"invoer!E6","v":0},{"$f":"invoer!F6","v":0},{"$f":"invoer!G6","v":"R7380"},{"$f":"invoer!H6","v":0},{"$f":"invoer!I6","v":0},{"$f":"invoer!C7","v":0},{"$f":"invoer!D7","v":0},{"$f":"invoer!E7","v":0},{"$f":"invoer!F7","v":0},{"$f":"invoer!G7","v":0},{"$f":"invoer!H7","v":"R7380"},{"$f":"invoer!I7","v":0},{"$f":"invoer!C8","v":0},{"$f":"invoer!D8","v":0},{"$f":"invoer!E8","v":0},{"$f":"invoer!F8","v":0},{"$f":"invoer!G8","v":0},{"$f":"invoer!H8","v":0},{"$f":"invoer!I8","v":"R7380"},{"$f":"invoer!C9","v":0},{"$f":"invoer!D9","v":"R7380"},{"$f":"invoer!E9","v":0},{"$f":"invoer!F9","v":0},{"$f":"invoer!G9","v":0},{"$f":"invoer!H9","v":0},{"$f":"invoer!I9","v":0},{"$f":"invoer!C10","v":0},{"$f":"invoer!D10","v":0},{"$f":"invoer!E10","v":"R7380"},{"$f":"invoer!F10","v":0},{"$f":"invoer!G10","v":0},{"$f":"invoer!H10","v":0},{"$f":"invoer!I10","v":0},{"$f":"invoer!C11","v":0},{"$f":"invoer!D11","v":0},{"$f":"invoer!E11","v":0},{"$f":"invoer!F11","v":"R7380"},{"$f":"invoer!G11","v":0},{"$f":"invoer!H11","v":0},{"$f":"invoer!I11","v":0},{"$f":"invoer!C12","v":0},{"$f":"invoer!D12","v":0},{"$f":"invoer!E12","v":0},{"$f":"invoer!F12","v":0},{"$f":"invoer!G12","v":"R7380"},{"$f":"invoer!H12","v":0},{"$f":"invoer!I12","v":0},{"$f":"invoer!C13","v":0},{"$f":"invoer!D13","v":0},{"$f":"invoer!E13","v":0},{"$f":"invoer!F13","v":0},{"$f":"invoer!G13","v":0},{"$f":"invoer!H13","v":"R7380"},{"$f":"invoer!I13","v":0},{"$f":"invoer!C14","v":0},{"$f":"invoer!D14","v":0},{"$f":"invoer!E14","v":0},{"$f":"invoer!F14","v":0},{"$f":"invoer!G14","v":0},{"$f":"invoer!H14","v":0},{"$f":"invoer!I14","v":"R7380"},{"$f":"invoer!C15","v":0},{"$f":"invoer!D15","v":"R7380"},{"$f":"invoer!E15","v":0},{"$f":"invoer!F15","v":0},{"$f":"invoer!G15","v":0},{"$f":"invoer!H15","v":0},{"$f":"invoer!I15","v":0},{"$f":"invoer!C16","v":0},{"$f":"invoer!D16","v":0},{"$f":"invoer!E16","v":"R7380"},{"$f":"invoer!F16","v":0},{"$f":"invoer!G16","v":0},{"$f":"invoer!H16","v":0},{"$f":"invoer!I16","v":0},{"$f":"invoer!C17","v":0},{"$f":"invoer!D17","v":0},{"$f":"invoer!E17","v":0},{"$f":"invoer!F17","v":"R7380"},{"$f":"invoer!G17","v":0},{"$f":"invoer!H17","v":0},{"$f":"invoer!I17","v":0},{"$f":"invoer!C18","v":0},{"$f":"invoer!D18","v":0},{"$f":"invoer!E18","v":0},{"$f":"invoer!F18","v":0},{"$f":"invoer!G18","v":"R7380"},{"$f":"invoer!H18","v":0},{"$f":"invoer!I18","v":0},{"$f":"invoer!C19","v":0},{"$f":"invoer!D19","v":0},{"$f":"invoer!E19","v":0},{"$f":"invoer!F19","v":0},{"$f":"invoer!G19","v":0},{"$f":"invoer!H19","v":"R7380"},{"$f":"invoer!I19","v":0},{"$f":"invoer!C20","v":0},{"$f":"invoer!D20","v":0},{"$f":"invoer!E20","v":0},{"$f":"invoer!F20","v":0},{"$f":"invoer!G20","v":0},{"$f":"invoer!H20","v":0},{"$f":"invoer!I20","v":"R7380"},{"$f":"invoer!C21","v":0},{"$f":"invoer!D21","v":"R7380"},{"$f":"invoer!E21","v":0},{"$f":"invoer!F21","v":0},{"$f":"invoer!G21","v":0},{"$f":"invoer!H21","v":0},{"$f":"invoer!I21","v":0},{"$f":"invoer!C22","v":0},{"$f":"invoer!D22","v":0},{"$f":"invoer!E22","v":"R7380"},{"$f":"invoer!F22","v":0},{"$f":"invoer!G22","v":0},{"$f":"invoer!H22","v":0},{"$f":"invoer!I22","v":0},{"$f":"invoer!C23","v":0},{"$f":"invoer!D23","v":0},{"$f":"invoer!E23","v":0},{"$f":"invoer!F23","v":"R7380"},{"$f":"invoer!G23","v":0},{"$f":"invoer!H23","v":0},{"$f":"invoer!I23","v":0},{"$f":"invoer!C24","v":0},{"$f":"invoer!D24","v":0},{"$f":"invoer!E24","v":0},{"$f":"invoer!F24","v":0},{"$f":"invoer!G24","v":"R7380"},{"$f":"invoer!H24","v":0},{"$f":"invoer!I24","v":0},{"$f":"invoer!C25","v":0},{"$f":"invoer!D25","v":0},{"$f":"invoer!E25","v":0},{"$f":"invoer!F25","v":0},{"$f":"invoer!G25","v":0},{"$f":"invoer!H25","v":"R7380"},{"$f":"invoer!I25","v":0},{"$f":"invoer!C26","v":0},{"$f":"invoer!D26","v":0},{"$f":"invoer!E26","v":0},{"$f":"invoer!F26","v":0},{"$f":"invoer!G26","v":0},{"$f":"invoer!H26","v":0},{"$f":"invoer!I26","v":"R7380"},{"$f":"invoer!C27","v":0},{"$f":"invoer!D27","v":"R7380"},{"$f":"invoer!E27","v":0},{"$f":"invoer!F27","v":0},{"$f":"invoer!G27","v":0},{"$f":"invoer!H27","v":0},{"$f":"invoer!I27","v":0},{"$f":"invoer!C28","v":0},{"$f":"invoer!D28","v":0},{"$f":"invoer!E28","v":"R7380"},{"$f":"invoer!F28","v":0},{"$f":"invoer!G28","v":0},{"$f":"invoer!H28","v":0},{"$f":"invoer!I28","v":0},{"$f":"invoer!C29","v":0},{"$f":"invoer!D29","v":0},{"$f":"invoer!E29","v":0},{"$f":"invoer!F29","v":"R7380"},{"$f":"invoer!G29","v":0},{"$f":"invoer!H29","v":0},{"$f":"invoer!I29","v":0},{"$f":"invoer!C30","v":0},{"$f":"invoer!D30","v":0},{"$f":"invoer!E30","v":0},{"$f":"invoer!F30","v":0},{"$f":"invoer!G30","v":"R7380"},{"$f":"invoer!H30","v":0},{"$f":"invoer!I30","v":0},{"$f":"invoer!C31","v":0},{"$f":"invoer!D31","v":0},{"$f":"invoer!E31","v":0},{"$f":"invoer!F31","v":0},{"$f":"invoer!G31","v":0},{"$f":"invoer!H31","v":"R7380"},{"$f":"invoer!I31","v":0},{"$f":"invoer!C32","v":0},{"$f":"invoer!D32","v":0},{"$f":"invoer!E32","v":0},{"$f":"invoer!F32","v":0},{"$f":"invoer!G32","v":0},{"$f":"invoer!H32","v":0},{"$f":"invoer!I32","v":"R7380"},{"$f":"invoer!C33","v":0},{"$f":"invoer!D33","v":"R7380"},{"$f":"invoer!E33","v":0},{"$f":"invoer!F33","v":0},{"$f":"invoer!G33","v":0},{"$f":"invoer!H33","v":0},{"$f":"invoer!I33","v":0},{"$f":"invoer!C34","v":0},{"$f":"invoer!D34","v":0},{"$f":"invoer!E34","v":"R7380"},{"$f":"invoer!F34","v":0},{"$f":"invoer!G34","v":0},{"$f":"invoer!H34","v":0},{"$f":"invoer!I34","v":0},{"$f":"invoer!C35","v":0},{"$f":"invoer!D35","v":0},{"$f":"invoer!E35","v":0},{"$f":"invoer!F35","v":"R7380"},{"$f":"invoer!G35","v":0},{"$f":"invoer!H35","v":0},{"$f":"invoer!I35","v":0},{"$f":"invoer!C36","v":0},{"$f":"invoer!D36","v":0},{"$f":"invoer!E36","v":0},{"$f":"invoer!F36","v":0},{"$f":"invoer!G36","v":"R7380"},{"$f":"invoer!H36","v":0},{"$f":"invoer!I36","v":0},{"$f":"invoer!C37","v":0},{"$f":"invoer!D37","v":0},{"$f":"invoer!E37","v":0},{"$f":"invoer!F37","v":0},{"$f":"invoer!G37","v":0},{"$f":"invoer!H37","v":"R7380"},{"$f":"invoer!I37","v":0},{"$f":"invoer!C38","v":0},{"$f":"invoer!D38","v":0},{"$f":"invoer!E38","v":0},{"$f":"invoer!F38","v":0},{"$f":"invoer!G38","v":0},{"$f":"invoer!H38","v":0},{"$f":"invoer!I38","v":"R7380"},{"$f":"invoer!C39","v":0},{"$f":"invoer!D39","v":"R7380"},{"$f":"invoer!E39","v":0},{"$f":"invoer!F39","v":0},{"$f":"invoer!G39","v":0},{"$f":"invoer!H39","v":0},{"$f":"invoer!I39","v":0},{"$f":"invoer!C40","v":0},{"$f":"invoer!D40","v":0},{"$f":"invoer!E40","v":"R7380"},{"$f":"invoer!F40","v":0},{"$f":"invoer!G40","v":0},{"$f":"invoer!H40","v":0},{"$f":"invoer!I40","v":0},{"$f":"invoer!C41","v":0},{"$f":"invoer!D41","v":0},{"$f":"invoer!E41","v":0},{"$f":"invoer!F41","v":"R7380"},{"$f":"invoer!G41","v":0},{"$f":"invoer!H41","v":0},{"$f":"invoer!I41","v":0},{"$f":"invoer!C42","v":0},{"$f":"invoer!D42","v":0},{"$f":"invoer!E42","v":0},{"$f":"invoer!F42","v":0},{"$f":"invoer!G42","v":"R7380"},{"$f":"invoer!H42","v":0},{"$f":"invoer!I42","v":0},{"$f":"invoer!C43","v":0},{"$f":"invoer!D43","v":0},{"$f":"invoer!E43","v":0},{"$f":"invoer!F43","v":0},{"$f":"invoer!G43","v":0},{"$f":"invoer!H43","v":"R7380"},{"$f":"invoer!I43","v":0},{"$f":"invoer!C44","v":0},{"$f":"invoer!D44","v":0},{"$f":"invoer!E44","v":0},{"$f":"invoer!F44","v":0},{"$f":"invoer!G44","v":0},{"$f":"invoer!H44","v":0},{"$f":"invoer!I44","v":"R7380"},{"$f":"invoer!C45","v":0},{"$f":"invoer!D45","v":"R7380"},{"$f":"invoer!E45","v":0},{"$f":"invoer!F45","v":0},{"$f":"invoer!G45","v":0},{"$f":"invoer!H45","v":0},{"$f":"invoer!I45","v":0},{"$f":"invoer!C46","v":0},{"$f":"invoer!D46","v":0},{"$f":"invoer!E46","v":"R7380"},{"$f":"invoer!F46","v":0},{"$f":"invoer!G46","v":0},{"$f":"invoer!H46","v":0},{"$f":"invoer!I46","v":0},{"$f":"invoer!C47","v":0},{"$f":"invoer!D47","v":0},{"$f":"invoer!E47","v":0},{"$f":"invoer!F47","v":"R7380"},{"$f":"invoer!G47","v":0},{"$f":"invoer!H47","v":0},{"$f":"invoer!I47","v":0},{"$f":"invoer!C48","v":0},{"$f":"invoer!D48","v":0},{"$f":"invoer!E48","v":0},{"$f":"invoer!F48","v":0},{"$f":"invoer!G48","v":"R7380"},{"$f":"invoer!H48","v":0},{"$f":"invoer!I48","v":0},{"$f":"+invoer!C49","v":0},{"$f":"+invoer!D49","v":0},{"$f":"+invoer!E49","v":0},{"$f":"+invoer!F49","v":0},{"$f":"+invoer!G49","v":0},{"$f":"+invoer!H49","v":"R7380"},{"$f":"+invoer!I49","v":0},{"$f":"invoer!C50","v":0},{"$f":"invoer!D50","v":0},{"$f":"invoer!E50","v":0},{"$f":"invoer!F50","v":0},{"$f":"invoer!G50","v":0},{"$f":"invoer!H50","v":0},{"$f":"invoer!I50","v":"R7380"},{"$f":"invoer!C51","v":0},{"$f":"invoer!D51","v":"R7380"},{"$f":"invoer!E51","v":0},{"$f":"invoer!F51","v":0},{"$f":"invoer!G51","v":0},{"$f":"invoer!H51","v":0},{"$f":"invoer!I51","v":0},{"$f":"invoer!C52","v":0},{"$f":"invoer!D52","v":0},{"$f":"invoer!E52","v":"R7380"},{"$f":"invoer!F52","v":0},{"$f":"invoer!G52","v":0},{"$f":"invoer!H52","v":0},{"$f":"invoer!I52","v":0},{"$f":"invoer!C53","v":0},{"$f":"invoer!D53","v":0},{"$f":"invoer!E53","v":0},{"$f":"invoer!F53","v":"R7380"},{"$f":"invoer!G53","v":0},{"$f":"invoer!H53","v":0},{"$f":"invoer!I53","v":0},{"$f":"invoer!C54","v":0},{"$f":"invoer!D54","v":0},{"$f":"invoer!E54","v":0},{"$f":"invoer!F54","v":0},{"$f":"invoer!G54","v":"R7380"},{"$f":"invoer!H54","v":0},{"$f":"invoer!I54","v":0},{"$f":"invoer!C55","v":0},{"$f":"invoer!D55","v":0},{"$f":"invoer!E55","v":0},{"$f":"invoer!F55","v":0},{"$f":"invoer!G55","v":0},{"$f":"invoer!H55","v":"R7380"},{"$f":"invoer!I55","v":0},{"$f":"invoer!C56","v":0},{"$f":"invoer!D56","v":0},{"$f":"invoer!E56","v":0},{"$f":"invoer!F56","v":0},{"$f":"invoer!G56","v":0},{"$f":"invoer!H56","v":0},{"$f":"invoer!I56","v":"R7380"},{"$f":"invoer!C57","v":0},{"$f":"invoer!D57","v":"R7380"},{"$f":"invoer!E57","v":0},{"$f":"invoer!F57","v":0},{"$f":"invoer!G57","v":0},{"$f":"invoer!H57","v":0},{"$f":"invoer!I57","v":0},{"$f":"invoer!C58","v":0},{"$f":"invoer!D58","v":0},{"$f":"invoer!E58","v":"R7380"},{"$f":"invoer!F58","v":0},{"$f":"invoer!G58","v":0},{"$f":"invoer!H58","v":0},{"$f":"invoer!I58","v":0},{"$f":"invoer!C3","v":"G"},{"$f":"invoer!D3","v":"R7380"},{"$f":"invoer!E3","v":"L"},{"$f":"invoer!F3","v":0},{"$f":"invoer!G3","v":0},{"$f":"invoer!H3","v":0},{"$f":"invoer!I3","v":0},{"$f":"invoer!C4","v":0},{"$f":"invoer!D4","v":0},{"$f":"invoer!E4","v":"R7380"},{"$f":"invoer!F4","v":0},{"$f":"invoer!G4","v":0},{"$f":"invoer!H4","v":0},{"$f":"invoer!I4","v":0},{"$f":"invoer!C5","v":0},{"$f":"invoer!D5","v":0},{"$f":"invoer!E5","v":0}]
[null,null,{"$f":"invoer!$C7","v":0},{"$f":"invoer!D7","v":0},{"$f":"invoer!E7","v":0},{"$f":"invoer!F7","v":0},{"$f":"invoer!G7","v":0},"R7380",{"$f":"invoer!I7","v":0},{"$f":"invoer!C8","v":0},{"$f":"invoer!D8","v":0},{"$f":"invoer!E8","v":0},{"$f":"invoer!F8","v":0},{"$f":"invoer!G8","v":0},{"$f":"invoer!H8","v":0},"R7380",{"$f":"invoer!C9","v":0},"R7380",{"$f":"invoer!E9","v":0},{"$f":"invoer!F9","v":0},{"$f":"invoer!G9","v":0},{"$f":"invoer!H9","v":0},{"$f":"invoer!I9","v":0},{"$f":"invoer!C10","v":0},{"$f":"invoer!D10","v":0},"R7380",{"$f":"invoer!F10","v":0},{"$f":"invoer!G10","v":0},{"$f":"invoer!H10","v":0},{"$f":"invoer!I10","v":0},{"$f":"invoer!C11","v":0},{"$f":"invoer!D11","v":0},{"$f":"invoer!E11","v":0},"R7380",{"$f":"invoer!G11","v":0},{"$f":"invoer!H11","v":0},{"$f":"invoer!I11","v":0},{"$f":"invoer!C12","v":0},{"$f":"invoer!D12","v":0},{"$f":"invoer!E12","v":0},{"$f":"invoer!F12","v":0},"R7380",{"$f":"invoer!H12","v":0},{"$f":"invoer!I12","v":0},{"$f":"invoer!C13","v":0},{"$f":"invoer!D13","v":0},{"$f":"invoer!E13","v":0},{"$f":"invoer!F13","v":0},{"$f":"invoer!G13","v":0},"R7380",{"$f":"invoer!I13","v":0},{"$f":"invoer!C14","v":0},{"$f":"invoer!D14","v":0},{"$f":"invoer!E14","v":0},{"$f":"invoer!F14","v":0},{"$f":"invoer!G14","v":0},{"$f":"invoer!H14","v":0},"R7380",{"$f":"invoer!C15","v":0},"R7380",{"$f":"invoer!E15","v":0},{"$f":"invoer!F15","v":0},{"$f":"invoer!G15","v":0},{"$f":"invoer!H15","v":0},{"$f":"invoer!I15","v":0},{"$f":"invoer!C16","v":0},{"$f":"invoer!D16","v":0},"R7380",{"$f":"invoer!F16","v":0},{"$f":"invoer!G16","v":0},{"$f":"invoer!H16","v":0},{"$f":"invoer!I16","v":0},{"$f":"invoer!C17","v":0},{"$f":"invoer!D17","v":0},{"$f":"invoer!E17","v":0},"R7380",{"$f":"invoer!G17","v":0},{"$f":"invoer!H17","v":0},{"$f":"invoer!I17","v":0},{"$f":"invoer!C18","v":0},{"$f":"invoer!D18","v":0},{"$f":"invoer!E18","v":0},{"$f":"invoer!F18","v":0},"R7380",{"$f":"invoer!H18","v":0},{"$f":"invoer!I18","v":0},{"$f":"invoer!C19","v":0},{"$f":"invoer!D19","v":0},{"$f":"invoer!E19","v":0},{"$f":"invoer!F19","v":0},{"$f":"invoer!G19","v":0},"R7380",{"$f":"invoer!I19","v":0},{"$f":"invoer!C20","v":0},{"$f":"invoer!D20","v":0},{"$f":"invoer!E20","v":0},{"$f":"invoer!F20","v":0},{"$f":"invoer!G20","v":0},{"$f":"invoer!H20","v":0},"R7380",{"$f":"invoer!C21","v":0},"R7380",{"$f":"invoer!E21","v":0},{"$f":"invoer!F21","v":0},{"$f":"invoer!G21","v":0},{"$f":"invoer!H21","v":0},{"$f":"invoer!I21","v":0},{"$f":"invoer!C22","v":0},{"$f":"invoer!D22","v":0},"R7380",{"$f":"invoer!F22","v":0},{"$f":"invoer!G22","v":0},{"$f":"invoer!H22","v":0},{"$f":"invoer!I22","v":0},{"$f":"invoer!C23","v":0},{"$f":"invoer!D23","v":0},{"$f":"invoer!E23","v":0},"R7380",{"$f":"invoer!G23","v":0},{"$f":"invoer!H23","v":0},{"$f":"invoer!I23","v":0},{"$f":"invoer!C24","v":0},{"$f":"invoer!D24","v":0},{"$f":"invoer!E24","v":0},{"$f":"invoer!F24","v":0},"R7380",{"$f":"invoer!H24","v":0},{"$f":"invoer!I24","v":0},{"$f":"invoer!C25","v":0},{"$f":"invoer!D25","v":0},{"$f":"invoer!E25","v":0},{"$f":"invoer!F25","v":0},{"$f":"invoer!G25","v":0},"R7380",{"$f":"invoer!I25","v":0},{"$f":"invoer!C26","v":0},{"$f":"invoer!D26","v":0},{"$f":"invoer!E26","v":0},{"$f":"invoer!F26","v":0},{"$f":"invoer!G26","v":0},{"$f":"invoer!H26","v":0},"R7380",{"$f":"invoer!C27","v":0},"R7380",{"$f":"invoer!E27","v":0},{"$f":"invoer!F27","v":0},{"$f":"invoer!G27","v":0},{"$f":"invoer!H27","v":0},{"$f":"invoer!I27","v":0},{"$f":"invoer!C28","v":0},{"$f":"invoer!D28","v":0},"R7380",{"$f":"invoer!F28","v":0},{"$f":"invoer!G28","v":0},{"$f":"invoer!H28","v":0},{"$f":"invoer!I28","v":0},{"$f":"invoer!C29","v":0},{"$f":"invoer!D29","v":0},{"$f":"invoer!E29","v":0},"R7380",{"$f":"invoer!G29","v":0},{"$f":"invoer!H29","v":0},{"$f":"invoer!I29","v":0},{"$f":"invoer!C30","v":0},{"$f":"invoer!D30","v":0},{"$f":"invoer!E30","v":0},{"$f":"invoer!F30","v":0},"R7380",{"$f":"invoer!H30","v":0},{"$f":"invoer!I30","v":0},{"$f":"invoer!C31","v":0},{"$f":"invoer!D31","v":0},{"$f":"invoer!E31","v":0},{"$f":"invoer!F31","v":0},{"$f":"invoer!G31","v":0},"R7380",{"$f":"invoer!I31","v":0},{"$f":"invoer!C32","v":0},{"$f":"invoer!D32","v":0},{"$f":"invoer!E32","v":0},{"$f":"invoer!F32","v":0},{"$f":"invoer!G32","v":0},{"$f":"invoer!H32","v":0},"R7380",{"$f":"invoer!C33","v":0},"R7380",{"$f":"invoer!E33","v":0},{"$f":"invoer!F33","v":0},{"$f":"invoer!G33","v":0},{"$f":"invoer!H33","v":0},{"$f":"invoer!I33","v":0},{"$f":"invoer!C34","v":0},{"$f":"invoer!D34","v":0},"R7380",{"$f":"invoer!F34","v":0},{"$f":"invoer!G34","v":0},{"$f":"invoer!H34","v":0},{"$f":"invoer!I34","v":0},{"$f":"invoer!C35","v":0},{"$f":"invoer!D35","v":0},{"$f":"invoer!E35","v":0},"R7380",{"$f":"invoer!G35","v":0},{"$f":"invoer!H35","v":0},{"$f":"invoer!I35","v":0},{"$f":"invoer!C36","v":0},{"$f":"invoer!D36","v":0},{"$f":"invoer!E36","v":0},{"$f":"invoer!F36","v":0},"R7380",{"$f":"invoer!H36","v":0},{"$f":"invoer!I36","v":0},{"$f":"invoer!C37","v":0},{"$f":"invoer!D37","v":0},{"$f":"invoer!E37","v":0},{"$f":"invoer!F37","v":0},{"$f":"invoer!G37","v":0},"R7380",{"$f":"invoer!I37","v":0},{"$f":"invoer!C38","v":0},{"$f":"invoer!D38","v":0},{"$f":"invoer!E38","v":0},{"$f":"invoer!F38","v":0},{"$f":"invoer!G38","v":0},{"$f":"invoer!H38","v":0},"R7380",{"$f":"invoer!C39","v":0},"R7380",{"$f":"invoer!E39","v":0},{"$f":"invoer!F39","v":0},{"$f":"invoer!G39","v":0},{"$f":"invoer!H39","v":0},{"$f":"invoer!I39","v":0},{"$f":"invoer!C40","v":0},{"$f":"invoer!D40","v":0},"R7380",{"$f":"invoer!F40","v":0},{"$f":"invoer!G40","v":0},{"$f":"invoer!H40","v":0},{"$f":"invoer!I40","v":0},{"$f":"invoer!C41","v":0},{"$f":"invoer!D41","v":0},{"$f":"invoer!E41","v":0},"R7380",{"$f":"invoer!G41","v":0},{"$f":"invoer!H41","v":0},{"$f":"invoer!I41","v":0},{"$f":"invoer!C42","v":0},{"$f":"invoer!D42","v":0},{"$f":"invoer!E42","v":0},{"$f":"invoer!F42","v":0},"R7380",{"$f":"invoer!H42","v":0},{"$f":"invoer!I42","v":0},{"$f":"invoer!C43","v":0},{"$f":"invoer!D43","v":0},{"$f":"invoer!E43","v":0},{"$f":"invoer!F43","v":0},{"$f":"invoer!G43","v":0},"R7380",{"$f":"invoer!I43","v":0},{"$f":"invoer!C44","v":0},{"$f":"invoer!D44","v":0},{"$f":"invoer!E44","v":0},{"$f":"invoer!F44","v":0},{"$f":"invoer!G44","v":0},{"$f":"invoer!H44","v":0},"R7380",{"$f":"invoer!C45","v":0},"R7380",{"$f":"invoer!E45","v":0},{"$f":"invoer!F45","v":0},{"$f":"invoer!G45","v":0},{"$f":"invoer!H45","v":0},{"$f":"invoer!I45","v":0},{"$f":"invoer!C46","v":0},{"$f":"invoer!D46","v":0},"R7380",{"$f":"invoer!F46","v":0},{"$f":"invoer!G46","v":0},{"$f":"invoer!H46","v":0},{"$f":"invoer!I46","v":0},{"$f":"invoer!C47","v":0},{"$f":"invoer!D47","v":0},{"$f":"invoer!E47","v":0},"R7380",{"$f":"invoer!G47","v":0},{"$f":"invoer!H47","v":0},{"$f":"invoer!I47","v":0},{"$f":"invoer!C48","v":0},{"$f":"invoer!D48","v":0},{"$f":"invoer!E48","v":0},{"$f":"invoer!F48","v":0},"R7380",{"$f":"invoer!H48","v":0},{"$f":"invoer!I48","v":0},{"$f":"invoer!C49","v":0},{"$f":"invoer!D49","v":0},{"$f":"invoer!E49","v":0},{"$f":"invoer!F49","v":0},{"$f":"invoer!G49","v":0},"R7380",{"$f":"invoer!I49","v":0},{"$f":"+invoer!C50","v":0},{"$f":"+invoer!D50","v":0},{"$f":"+invoer!E50","v":0},{"$f":"+invoer!F50","v":0},{"$f":"+invoer!G50","v":0},{"$f":"+invoer!H50","v":0},"R7380",{"$f":"invoer!C51","v":0},"R7380",{"$f":"invoer!E51","v":0},{"$f":"invoer!F51","v":0},{"$f":"invoer!G51","v":0},{"$f":"invoer!H51","v":0},{"$f":"invoer!I51","v":0},{"$f":"invoer!C52","v":0},{"$f":"invoer!D52","v":0},"R7380",{"$f":"invoer!F52","v":0},{"$f":"invoer!G52","v":0},{"$f":"invoer!H52","v":0},{"$f":"invoer!I52","v":0},{"$f":"invoer!C53","v":0},{"$f":"invoer!D53","v":0},{"$f":"invoer!E53","v":0},"R7380",{"$f":"invoer!G53","v":0},{"$f":"invoer!H53","v":0},{"$f":"invoer!I53","v":0},{"$f":"invoer!C54","v":0},{"$f":"invoer!D54","v":0},{"$f":"invoer!E54","v":0},{"$f":"invoer!F54","v":0},"R7380",{"$f":"invoer!H54","v":0},{"$f":"invoer!I54","v":0},{"$f":"invoer!C55","v":0},{"$f":"invoer!D55","v":0},{"$f":"invoer!E55","v":0},{"$f":"invoer!F55","v":0},{"$f":"invoer!G55","v":0},"R7380",{"$f":"invoer!I55","v":0},{"$f":"invoer!C56","v":0},{"$f":"invoer!D56","v":0},{"$f":"invoer!E56","v":0},{"$f":"invoer!F56","v":0},{"$f":"invoer!G56","v":0},{"$f":"invoer!H56","v":0},"R7380",{"$f":"invoer!C57","v":0},"R7380",{"$f":"invoer!E57","v":0},{"$f":"invoer!F57","v":0},{"$f":"invoer!G57","v":0},{"$f":"invoer!H57","v":0},{"$f":"invoer!I57","v":0},{"$f":"invoer!C58","v":0},{"$f":"invoer!D58","v":0},"R7380",{"$f":"invoer!F58","v":0},{"$f":"invoer!G58","v":0},{"$f":"invoer!H58","v":0},{"$f":"invoer!I58","v":0},{"$f":"invoer!C3","v":"G"},"R7380",{"$f":"invoer!E3","v":"L"},{"$f":"invoer!F3","v":0},{"$f":"invoer!G3","v":0},{"$f":"invoer!H3","v":0},{"$f":"invoer!I3","v":0},{"$f":"invoer!C4","v":0},{"$f":"invoer!D4","v":0},"R7380",{"$f":"invoer!F4","v":0},{"$f":"invoer!G4","v":0},{"$f":"invoer!H4","v":0},{"$f":"invoer!I4","v":0},{"$f":"invoer!C5","v":0},{"$f":"invoer!D5","v":0},{"$f":"invoer!E5","v":0},"R7380",{"$f":"invoer!G5","v":0},{"$f":"invoer!H5","v":0},{"$f":"invoer!I5","v":0},{"$f":"invoer!C6","v":0},{"$f":"invoer!D6","v":0},{"$f":"invoer!E6","v":0}]
[null,null,{"$f":"invoer!$C8","v":0},{"$f":"invoer!D8","v":0},{"$f":"invoer!E8","v":0},{"$f":"invoer!F8","v":0},{"$f":"invoer!G8","v":0},{"$f":"invoer!H8","v":0},"R7380",{"$f":"invoer!C9","v":0},"R7380",{"$f":"invoer!E9","v":0},{"$f":"invoer!F9","v":0},{"$f":"invoer!G9","v":0},{"$f":"invoer!H9","v":0},{"$f":"invoer!I9","v":0},{"$f":"invoer!C10","v":0},{"$f":"invoer!D10","v":0},"R7380",{"$f":"invoer!F10","v":0},{"$f":"invoer!G10","v":0},{"$f":"invoer!H10","v":0},{"$f":"invoer!I10","v":0},{"$f":"invoer!C11","v":0},{"$f":"invoer!D11","v":0},{"$f":"invoer!E11","v":0},"R7380",{"$f":"invoer!G11","v":0},{"$f":"invoer!H11","v":0},{"$f":"invoer!I11","v":0},{"$f":"invoer!C12","v":0},{"$f":"invoer!D12","v":0},{"$f":"invoer!E12","v":0},{"$f":"invoer!F12","v":0},"R7380",{"$f":"invoer!H12","v":0},{"$f":"invoer!I12","v":0},{"$f":"invoer!C13","v":0},{"$f":"invoer!D13","v":0},{"$f":"invoer!E13","v":0},{"$f":"invoer!F13","v":0},{"$f":"invoer!G13","v":0},"R7380",{"$f":"invoer!I13","v":0},{"$f":"invoer!C14","v":0},{"$f":"invoer!D14","v":0},{"$f":"invoer!E14","v":0},{"$f":"invoer!F14","v":0},{"$f":"invoer!G14","v":0},{"$f":"invoer!H14","v":0},"R7380",{"$f":"invoer!C15","v":0},"R7380",{"$f":"invoer!E15","v":0},{"$f":"invoer!F15","v":0},{"$f":"invoer!G15","v":0},{"$f":"invoer!H15","v":0},{"$f":"invoer!I15","v":0},{"$f":"invoer!C16","v":0},{"$f":"invoer!D16","v":0},"R7380",{"$f":"invoer!F16","v":0},{"$f":"invoer!G16","v":0},{"$f":"invoer!H16","v":0},{"$f":"invoer!I16","v":0},{"$f":"invoer!C17","v":0},{"$f":"invoer!D17","v":0},{"$f":"invoer!E17","v":0},"R7380",{"$f":"invoer!G17","v":0},{"$f":"invoer!H17","v":0},{"$f":"invoer!I17","v":0},{"$f":"invoer!C18","v":0},{"$f":"invoer!D18","v":0},{"$f":"invoer!E18","v":0},{"$f":"invoer!F18","v":0},"R7380",{"$f":"invoer!H18","v":0},{"$f":"invoer!I18","v":0},{"$f":"invoer!C19","v":0},{"$f":"invoer!D19","v":0},{"$f":"invoer!E19","v":0},{"$f":"invoer!F19","v":0},{"$f":"invoer!G19","v":0},"R7380",{"$f":"invoer!I19","v":0},{"$f":"invoer!C20","v":0},{"$f":"invoer!D20","v":0},{"$f":"invoer!E20","v":0},{"$f":"invoer!F20","v":0},{"$f":"invoer!G20","v":0},{"$f":"invoer!H20","v":0},"R7380",{"$f":"invoer!C21","v":0},"R7380",{"$f":"invoer!E21","v":0},{"$f":"invoer!F21","v":0},{"$f":"invoer!G21","v":0},{"$f":"invoer!H21","v":0},{"$f":"invoer!I21","v":0},{"$f":"invoer!C22","v":0},{"$f":"invoer!D22","v":0},"R7380",{"$f":"invoer!F22","v":0},{"$f":"invoer!G22","v":0},{"$f":"invoer!H22","v":0},{"$f":"invoer!I22","v":0},{"$f":"invoer!C23","v":0},{"$f":"invoer!D23","v":0},{"$f":"invoer!E23","v":0},"R7380",{"$f":"invoer!G23","v":0},{"$f":"invoer!H23","v":0},{"$f":"invoer!I23","v":0},{"$f":"invoer!C24","v":0},{"$f":"invoer!D24","v":0},{"$f":"invoer!E24","v":0},{"$f":"invoer!F24","v":0},"R7380",{"$f":"invoer!H24","v":0},{"$f":"invoer!I24","v":0},{"$f":"invoer!C25","v":0},{"$f":"invoer!D25","v":0},{"$f":"invoer!E25","v":0},{"$f":"invoer!F25","v":0},{"$f":"invoer!G25","v":0},"R7380",{"$f":"invoer!I25","v":0},{"$f":"invoer!C26","v":0},{"$f":"invoer!D26","v":0},{"$f":"invoer!E26","v":0},{"$f":"invoer!F26","v":0},{"$f":"invoer!G26","v":0},{"$f":"invoer!H26","v":0},"R7380",{"$f":"invoer!C27","v":0},"R7380",{"$f":"invoer!E27","v":0},{"$f":"invoer!F27","v":0},{"$f":"invoer!G27","v":0},{"$f":"invoer!H27","v":0},{"$f":"invoer!I27","v":0},{"$f":"invoer!C28","v":0},{"$f":"invoer!D28","v":0},"R7380",{"$f":"invoer!F28","v":0},{"$f":"invoer!G28","v":0},{"$f":"invoer!H28","v":0},{"$f":"invoer!I28","v":0},{"$f":"invoer!C29","v":0},{"$f":"invoer!D29","v":0},{"$f":"invoer!E29","v":0},"R7380",{"$f":"invoer!G29","v":0},{"$f":"invoer!H29","v":0},{"$f":"invoer!I29","v":0},{"$f":"invoer!C30","v":0},{"$f":"invoer!D30","v":0},{"$f":"invoer!E30","v":0},{"$f":"invoer!F30","v":0},"R7380",{"$f":"invoer!H30","v":0},{"$f":"invoer!I30","v":0},{"$f":"invoer!C31","v":0},{"$f":"invoer!D31","v":0},{"$f":"invoer!E31","v":0},{"$f":"invoer!F31","v":0},{"$f":"invoer!G31","v":0},"R7380",{"$f":"invoer!I31","v":0},{"$f":"invoer!C32","v":0},{"$f":"invoer!D32","v":0},{"$f":"invoer!E32","v":0},{"$f":"invoer!F32","v":0},{"$f":"invoer!G32","v":0},{"$f":"invoer!H32","v":0},"R7380",{"$f":"invoer!C33","v":0},"R7380",{"$f":"invoer!E33","v":0},{"$f":"invoer!F33","v":0},{"$f":"invoer!G33","v":0},{"$f":"invoer!H33","v":0},{"$f":"invoer!I33","v":0},{"$f":"invoer!C34","v":0},{"$f":"invoer!D34","v":0},"R7380",{"$f":"invoer!F34","v":0},{"$f":"invoer!G34","v":0},{"$f":"invoer!H34","v":0},{"$f":"invoer!I34","v":0},{"$f":"invoer!C35","v":0},{"$f":"invoer!D35","v":0},{"$f":"invoer!E35","v":0},"R7380",{"$f":"invoer!G35","v":0},{"$f":"invoer!H35","v":0},{"$f":"invoer!I35","v":0},{"$f":"invoer!C36","v":0},{"$f":"invoer!D36","v":0},{"$f":"invoer!E36","v":0},{"$f":"invoer!F36","v":0},"R7380",{"$f":"invoer!H36","v":0},{"$f":"invoer!I36","v":0},{"$f":"invoer!C37","v":0},{"$f":"invoer!D37","v":0},{"$f":"invoer!E37","v":0},{"$f":"invoer!F37","v":0},{"$f":"invoer!G37","v":0},"R7380",{"$f":"invoer!I37","v":0},{"$f":"invoer!C38","v":0},{"$f":"invoer!D38","v":0},{"$f":"invoer!E38","v":0},{"$f":"invoer!F38","v":0},{"$f":"invoer!G38","v":0},{"$f":"invoer!H38","v":0},"R7380",{"$f":"invoer!C39","v":0},"R7380",{"$f":"invoer!E39","v":0},{"$f":"invoer!F39","v":0},{"$f":"invoer!G39","v":0},{"$f":"invoer!H39","v":0},{"$f":"invoer!I39","v":0},{"$f":"invoer!C40","v":0},{"$f":"invoer!D40","v":0},"R7380",{"$f":"invoer!F40","v":0},{"$f":"invoer!G40","v":0},{"$f":"invoer!H40","v":0},{"$f":"invoer!I40","v":0},{"$f":"invoer!C41","v":0},{"$f":"invoer!D41","v":0},{"$f":"invoer!E41","v":0},"R7380",{"$f":"invoer!G41","v":0},{"$f":"invoer!H41","v":0},{"$f":"invoer!I41","v":0},{"$f":"invoer!C42","v":0},{"$f":"invoer!D42","v":0},{"$f":"invoer!E42","v":0},{"$f":"invoer!F42","v":0},"R7380",{"$f":"invoer!H42","v":0},{"$f":"invoer!I42","v":0},{"$f":"invoer!C43","v":0},{"$f":"invoer!D43","v":0},{"$f":"invoer!E43","v":0},{"$f":"invoer!F43","v":0},{"$f":"invoer!G43","v":0},"R7380",{"$f":"invoer!I43","v":0},{"$f":"invoer!C44","v":0},{"$f":"invoer!D44","v":0},{"$f":"invoer!E44","v":0},{"$f":"invoer!F44","v":0},{"$f":"invoer!G44","v":0},{"$f":"invoer!H44","v":0},"R7380",{"$f":"invoer!C45","v":0},"R7380",{"$f":"invoer!E45","v":0},{"$f":"invoer!F45","v":0},{"$f":"invoer!G45","v":0},{"$f":"invoer!H45","v":0},{"$f":"invoer!I45","v":0},{"$f":"invoer!C46","v":0},{"$f":"invoer!D46","v":0},"R7380",{"$f":"invoer!F46","v":0},{"$f":"invoer!G46","v":0},{"$f":"invoer!H46","v":0},{"$f":"invoer!I46","v":0},{"$f":"invoer!C47","v":0},{"$f":"invoer!D47","v":0},{"$f":"invoer!E47","v":0},"R7380",{"$f":"invoer!G47","v":0},{"$f":"invoer!H47","v":0},{"$f":"invoer!I47","v":0},{"$f":"invoer!C48","v":0},{"$f":"invoer!D48","v":0},{"$f":"invoer!E48","v":0},{"$f":"invoer!F48","v":0},"R7380",{"$f":"invoer!H48","v":0},{"$f":"invoer!I48","v":0},{"$f":"invoer!C49","v":0},{"$f":"invoer!D49","v":0},{"$f":"invoer!E49","v":0},{"$f":"invoer!F49","v":0},{"$f":"invoer!G49","v":0},"R7380",{"$f":"invoer!I49","v":0},{"$f":"invoer!C50","v":0},{"$f":"invoer!D50","v":0},{"$f":"invoer!E50","v":0},{"$f":"invoer!F50","v":0},{"$f":"invoer!G50","v":0},{"$f":"invoer!H50","v":0},"R7380",{"$f":"+invoer!C51","v":0},"R7380",{"$f":"+invoer!E51","v":0},{"$f":"+invoer!F51","v":0},{"$f":"+invoer!G51","v":0},{"$f":"+invoer!H51","v":0},{"$f":"+invoer!I51","v":0},{"$f":"invoer!C52","v":0},{"$f":"invoer!D52","v":0},"R7380",{"$f":"invoer!F52","v":0},{"$f":"invoer!G52","v":0},{"$f":"invoer!H52","v":0},{"$f":"invoer!I52","v":0},{"$f":"invoer!C53","v":0},{"$f":"invoer!D53","v":0},{"$f":"invoer!E53","v":0},"R7380",{"$f":"invoer!G53","v":0},{"$f":"invoer!H53","v":0},{"$f":"invoer!I53","v":0},{"$f":"invoer!C54","v":0},{"$f":"invoer!D54","v":0},{"$f":"invoer!E54","v":0},{"$f":"invoer!F54","v":0},"R7380",{"$f":"invoer!H54","v":0},{"$f":"invoer!I54","v":0},{"$f":"invoer!C55","v":0},{"$f":"invoer!D55","v":0},{"$f":"invoer!E55","v":0},{"$f":"invoer!F55","v":0},{"$f":"invoer!G55","v":0},"R7380",{"$f":"invoer!I55","v":0},{"$f":"invoer!C56","v":0},{"$f":"invoer!D56","v":0},{"$f":"invoer!E56","v":0},{"$f":"invoer!F56","v":0},{"$f":"invoer!G56","v":0},{"$f":"invoer!H56","v":0},"R7380",{"$f":"invoer!C57","v":0},"R7380",{"$f":"invoer!E57","v":0},{"$f":"invoer!F57","v":0},{"$f":"invoer!G57","v":0},{"$f":"invoer!H57","v":0},{"$f":"invoer!I57","v":0},{"$f":"invoer!C58","v":0},{"$f":"invoer!D58","v":0},"R7380",{"$f":"invoer!F58","v":0},{"$f":"invoer!G58","v":0},{"$f":"invoer!H58","v":0},{"$f":"invoer!I58","v":0},{"$f":"invoer!C3","v":"G"},"R7380",{"$f":"invoer!E3","v":"L"},{"$f":"invoer!F3","v":0},{"$f":"invoer!G3","v":0},{"$f":"invoer!H3","v":0},{"$f":"invoer!I3","v":0},{"$f":"invoer!C4","v":0},{"$f":"invoer!D4","v":0},"R7380",{"$f":"invoer!F4","v":0},{"$f":"invoer!G4","v":0},{"$f":"invoer!H4","v":0},{"$f":"invoer!I4","v":0},{"$f":"invoer!C5","v":0},{"$f":"invoer!D5","v":0},{"$f":"invoer!E5","v":0},"R7380",{"$f":"invoer!G5","v":0},{"$f":"invoer!H5","v":0},{"$f":"invoer!I5","v":0},{"$f":"invoer!C6","v":0},{"$f":"invoer!D6","v":0},{"$f":"invoer!E6","v":0},{"$f":"invoer!F6","v":0},"R7380",{"$f":"invoer!H6","v":0},{"$f":"invoer!I6","v":0},{"$f":"invoer!C7","v":0},{"$f":"invoer!D7","v":0},{"$f":"invoer!E7","v":0}]
[null,null,{"$f":"invoer!$C9","v":0},"R7380",{"$f":"invoer!E9","v":0},{"$f":"invoer!F9","v":0},{"$f":"invoer!G9","v":0},{"$f":"invoer!H9","v":0},{"$f":"invoer!I9","v":0},{"$f":"invoer!C10","v":0},{"$f":"invoer!D10","v":0},"R7380",{"$f":"invoer!F10","v":0},{"$f":"invoer!G10","v":0},{"$f":"invoer!H10","v":0},{"$f":"invoer!I10","v":0},{"$f":"invoer!C11","v":0},{"$f":"invoer!D11","v":0},{"$f":"invoer!E11","v":0},"R7380",{"$f":"invoer!G11","v":0},{"$f":"invoer!H11","v":0},{"$f":"invoer!I11","v":0},{"$f":"invoer!C12","v":0},{"$f":"invoer!D12","v":0},{"$f":"invoer!E12","v":0},{"$f":"invoer!F12","v":0},"R7380",{"$f":"invoer!H12","v":0},{"$f":"invoer!I12","v":0},{"$f":"invoer!C13","v":0},{"$f":"invoer!D13","v":0},{"$f":"invoer!E13","v":0},{"$f":"invoer!F13","v":0},{"$f":"invoer!G13","v":0},"R7380",{"$f":"invoer!I13","v":0},{"$f":"invoer!C14","v":0},{"$f":"invoer!D14","v":0},{"$f":"invoer!E14","v":0},{"$f":"invoer!F14","v":0},{"$f":"invoer!G14","v":0},{"$f":"invoer!H14","v":0},"R7380",{"$f":"invoer!C15","v":0},"R7380",{"$f":"invoer!E15","v":0},{"$f":"invoer!F15","v":0},{"$f":"invoer!G15","v":0},{"$f":"invoer!H15","v":0},{"$f":"invoer!I15","v":0},{"$f":"invoer!C16","v":0},{"$f":"invoer!D16","v":0},"R7380",{"$f":"invoer!F16","v":0},{"$f":"invoer!G16","v":0},{"$f":"invoer!H16","v":0},{"$f":"invoer!I16","v":0},{"$f":"invoer!C17","v":0},{"$f":"invoer!D17","v":0},{"$f":"invoer!E17","v":0},"R7380",{"$f":"invoer!G17","v":0},{"$f":"invoer!H17","v":0},{"$f":"invoer!I17","v":0},{"$f":"invoer!C18","v":0},{"$f":"invoer!D18","v":0},{"$f":"invoer!E18","v":0},{"$f":"invoer!F18","v":0},"R7380",{"$f":"invoer!H18","v":0},{"$f":"invoer!I18","v":0},{"$f":"invoer!C19","v":0},{"$f":"invoer!D19","v":0},{"$f":"invoer!E19","v":0},{"$f":"invoer!F19","v":0},{"$f":"invoer!G19","v":0},"R7380",{"$f":"invoer!I19","v":0},{"$f":"invoer!C20","v":0},{"$f":"invoer!D20","v":0},{"$f":"invoer!E20","v":0},{"$f":"invoer!F20","v":0},{"$f":"invoer!G20","v":0},{"$f":"invoer!H20","v":0},"R7380",{"$f":"invoer!C21","v":0},"R7380",{"$f":"invoer!E21","v":0},{"$f":"invoer!F21","v":0},{"$f":"invoer!G21","v":0},{"$f":"invoer!H21","v":0},{"$f":"invoer!I21","v":0},{"$f":"invoer!C22","v":0},{"$f":"invoer!D22","v":0},"R7380",{"$f":"invoer!F22","v":0},{"$f":"invoer!G22","v":0},{"$f":"invoer!H22","v":0},{"$f":"invoer!I22","v":0},{"$f":"invoer!C23","v":0},{"$f":"invoer!D23","v":0},{"$f":"invoer!E23","v":0},"R7380",{"$f":"invoer!G23","v":0},{"$f":"invoer!H23","v":0},{"$f":"invoer!I23","v":0},{"$f":"invoer!C24","v":0},{"$f":"invoer!D24","v":0},{"$f":"invoer!E24","v":0},{"$f":"invoer!F24","v":0},"R7380",{"$f":"invoer!H24","v":0},{"$f":"invoer!I24","v":0},{"$f":"invoer!C25","v":0},{"$f":"invoer!D25","v":0},{"$f":"invoer!E25","v":0},{"$f":"invoer!F25","v":0},{"$f":"invoer!G25","v":0},"R7380",{"$f":"invoer!I25","v":0},{"$f":"invoer!C26","v":0},{"$f":"invoer!D26","v":0},{"$f":"invoer!E26","v":0},{"$f":"invoer!F26","v":0},{"$f":"invoer!G26","v":0},{"$f":"invoer!H26","v":0},"R7380",{"$f":"invoer!C27","v":0},"R7380",{"$f":"invoer!E27","v":0},{"$f":"invoer!F27","v":0},{"$f":"invoer!G27","v":0},{"$f":"invoer!H27","v":0},{"$f":"invoer!I27","v":0},{"$f":"invoer!C28","v":0},{"$f":"invoer!D28","v":0},"R7380",{"$f":"invoer!F28","v":0},{"$f":"invoer!G28","v":0},{"$f":"invoer!H28","v":0},{"$f":"invoer!I28","v":0},{"$f":"invoer!C29","v":0},{"$f":"invoer!D29","v":0},{"$f":"invoer!E29","v":0},"R7380",{"$f":"invoer!G29","v":0},{"$f":"invoer!H29","v":0},{"$f":"invoer!I29","v":0},{"$f":"invoer!C30","v":0},{"$f":"invoer!D30","v":0},{"$f":"invoer!E30","v":0},{"$f":"invoer!F30","v":0},"R7380",{"$f":"invoer!H30","v":0},{"$f":"invoer!I30","v":0},{"$f":"invoer!C31","v":0},{"$f":"invoer!D31","v":0},{"$f":"invoer!E31","v":0},{"$f":"invoer!F31","v":0},{"$f":"invoer!G31","v":0},"R7380",{"$f":"invoer!I31","v":0},{"$f":"invoer!C32","v":0},{"$f":"invoer!D32","v":0},{"$f":"invoer!E32","v":0},{"$f":"invoer!F32","v":0},{"$f":"invoer!G32","v":0},{"$f":"invoer!H32","v":0},"R7380",{"$f":"invoer!C33","v":0},"R7380",{"$f":"invoer!E33","v":0},{"$f":"invoer!F33","v":0},{"$f":"invoer!G33","v":0},{"$f":"invoer!H33","v":0},{"$f":"invoer!I33","v":0},{"$f":"invoer!C34","v":0},{"$f":"invoer!D34","v":0},"R7380",{"$f":"invoer!F34","v":0},{"$f":"invoer!G34","v":0},{"$f":"invoer!H34","v":0},{"$f":"invoer!I34","v":0},{"$f":"invoer!C35","v":0},{"$f":"invoer!D35","v":0},{"$f":"invoer!E35","v":0},"R7380",{"$f":"invoer!G35","v":0},{"$f":"invoer!H35","v":0},{"$f":"invoer!I35","v":0},{"$f":"invoer!C36","v":0},{"$f":"invoer!D36","v":0},{"$f":"invoer!E36","v":0},{"$f":"invoer!F36","v":0},"R7380",{"$f":"invoer!H36","v":0},{"$f":"invoer!I36","v":0},{"$f":"invoer!C37","v":0},{"$f":"invoer!D37","v":0},{"$f":"invoer!E37","v":0},{"$f":"invoer!F37","v":0},{"$f":"invoer!G37","v":0},"R7380",{"$f":"invoer!I37","v":0},{"$f":"invoer!C38","v":0},{"$f":"invoer!D38","v":0},{"$f":"invoer!E38","v":0},{"$f":"invoer!F38","v":0},{"$f":"invoer!G38","v":0},{"$f":"invoer!H38","v":0},"R7380",{"$f":"invoer!C39","v":0},"R7380",{"$f":"invoer!E39","v":0},{"$f":"invoer!F39","v":0},{"$f":"invoer!G39","v":0},{"$f":"invoer!H39","v":0},{"$f":"invoer!I39","v":0},{"$f":"invoer!C40","v":0},{"$f":"invoer!D40","v":0},"R7380",{"$f":"invoer!F40","v":0},{"$f":"invoer!G40","v":0},{"$f":"invoer!H40","v":0},{"$f":"invoer!I40","v":0},{"$f":"invoer!C41","v":0},{"$f":"invoer!D41","v":0},{"$f":"invoer!E41","v":0},"R7380",{"$f":"invoer!G41","v":0},{"$f":"invoer!H41","v":0},{"$f":"invoer!I41","v":0},{"$f":"invoer!C42","v":0},{"$f":"invoer!D42","v":0},{"$f":"invoer!E42","v":0},{"$f":"invoer!F42","v":0},"R7380",{"$f":"invoer!H42","v":0},{"$f":"invoer!I42","v":0},{"$f":"invoer!C43","v":0},{"$f":"invoer!D43","v":0},{"$f":"invoer!E43","v":0},{"$f":"invoer!F43","v":0},{"$f":"invoer!G43","v":0},"R7380",{"$f":"invoer!I43","v":0},{"$f":"invoer!C44","v":0},{"$f":"invoer!D44","v":0},{"$f":"invoer!E44","v":0},{"$f":"invoer!F44","v":0},{"$f":"invoer!G44","v":0},{"$f":"invoer!H44","v":0},"R7380",{"$f":"invoer!C45","v":0},"R7380",{"$f":"invoer!E45","v":0},{"$f":"invoer!F45","v":0},{"$f":"invoer!G45","v":0},{"$f":"invoer!H45","v":0},{"$f":"invoer!I45","v":0},{"$f":"invoer!C46","v":0},{"$f":"invoer!D46","v":0},"R7380",{"$f":"invoer!F46","v":0},{"$f":"invoer!G46","v":0},{"$f":"invoer!H46","v":0},{"$f":"invoer!I46","v":0},{"$f":"invoer!C47","v":0},{"$f":"invoer!D47","v":0},{"$f":"invoer!E47","v":0},"R7380",{"$f":"invoer!G47","v":0},{"$f":"invoer!H47","v":0},{"$f":"invoer!I47","v":0},{"$f":"invoer!C48","v":0},{"$f":"invoer!D48","v":0},{"$f":"invoer!E48","v":0},{"$f":"invoer!F48","v":0},"R7380",{"$f":"invoer!H48","v":0},{"$f":"invoer!I48","v":0},{"$f":"invoer!C49","v":0},{"$f":"invoer!D49","v":0},{"$f":"invoer!E49","v":0},{"$f":"invoer!F49","v":0},{"$f":"invoer!G49","v":0},"R7380",{"$f":"invoer!I49","v":0},{"$f":"invoer!C50","v":0},{"$f":"invoer!D50","v":0},{"$f":"invoer!E50","v":0},{"$f":"invoer!F50","v":0},{"$f":"invoer!G50","v":0},{"$f":"invoer!H50","v":0},"R7380",{"$f":"invoer!C51","v":0},"R7380",{"$f":"invoer!E51","v":0},{"$f":"invoer!F51","v":0},{"$f":"invoer!G51","v":0},{"$f":"invoer!H51","v":0},{"$f":"invoer!I51","v":0},{"$f":"+invoer!C52","v":0},{"$f":"+invoer!D52","v":0},"R7380",{"$f":"+invoer!F52","v":0},{"$f":"+invoer!G52","v":0},{"$f":"+invoer!H52","v":0},{"$f":"+invoer!I52","v":0},{"$f":"invoer!C53","v":0},{"$f":"invoer!D53","v":0},{"$f":"invoer!E53","v":0},"R7380",{"$f":"invoer!G53","v":0},{"$f":"invoer!H53","v":0},{"$f":"invoer!I53","v":0},{"$f":"invoer!C54","v":0},{"$f":"invoer!D54","v":0},{"$f":"invoer!E54","v":0},{"$f":"invoer!F54","v":0},"R7380",{"$f":"invoer!H54","v":0},{"$f":"invoer!I54","v":0},{"$f":"invoer!C55","v":0},{"$f":"invoer!D55","v":0},{"$f":"invoer!E55","v":0},{"$f":"invoer!F55","v":0},{"$f":"invoer!G55","v":0},"R7380",{"$f":"invoer!I55","v":0},{"$f":"invoer!C56","v":0},{"$f":"invoer!D56","v":0},{"$f":"invoer!E56","v":0},{"$f":"invoer!F56","v":0},{"$f":"invoer!G56","v":0},{"$f":"invoer!H56","v":0},"R7380",{"$f":"invoer!C57","v":0},"R7380",{"$f":"invoer!E57","v":0},{"$f":"invoer!F57","v":0},{"$f":"invoer!G57","v":0},{"$f":"invoer!H57","v":0},{"$f":"invoer!I57","v":0},{"$f":"invoer!C58","v":0},{"$f":"invoer!D58","v":0},"R7380",{"$f":"invoer!F58","v":0},{"$f":"invoer!G58","v":0},{"$f":"invoer!H58","v":0},{"$f":"invoer!I58","v":0},{"$f":"invoer!C3","v":"G"},"R7380",{"$f":"invoer!E3","v":"L"},{"$f":"invoer!F3","v":0},{"$f":"invoer!G3","v":0},{"$f":"invoer!H3","v":0},{"$f":"invoer!I3","v":0},{"$f":"invoer!C4","v":0},{"$f":"invoer!D4","v":0},"R7380",{"$f":"invoer!F4","v":0},{"$f":"invoer!G4","v":0},{"$f":"invoer!H4","v":0},{"$f":"invoer!I4","v":0},{"$f":"invoer!C5","v":0},{"$f":"invoer!D5","v":0},{"$f":"invoer!E5","v":0},"R7380",{"$f":"invoer!G5","v":0},{"$f":"invoer!H5","v":0},{"$f":"invoer!I5","v":0},{"$f":"invoer!C6","v":0},{"$f":"invoer!D6","v":0},{"$f":"invoer!E6","v":0},{"$f":"invoer!F6","v":0},"R7380",{"$f":"invoer!H6","v":0},{"$f":"invoer!I6","v":0},{"$f":"invoer!C7","v":0},{"$f":"invoer!D7","v":0},{"$f":"invoer!E7","v":0},{"$f":"invoer!F7","v":0},{"$f":"invoer!G7","v":0},"R7380",{"$f":"invoer!I7","v":0},{"$f":"invoer!C8","v":0},{"$f":"invoer!D8","v":0},{"$f":"invoer!E8","v":0}]
[null,null,{"$f":"invoer!$C10","v":0},{"$f":"invoer!D10","v":0},{"$f":"invoer!E10","v":"R7380"},{"$f":"invoer!F10","v":0},{"$f":"invoer!G10","v":0},{"$f":"invoer!H10","v":0},{"$f":"invoer!I10","v":0},{"$f":"invoer!C11","v":0},{"$f":"invoer!D11","v":0},{"$f":"invoer!E11","v":0},{"$f":"invoer!F11","v":"R7380"},{"$f":"invoer!G11","v":0},{"$f":"invoer!H11","v":0},{"$f":"invoer!I11","v":0},{"$f":"invoer!C12","v":0},{"$f":"invoer!D12","v":0},{"$f":"invoer!E12","v":0},{"$f":"invoer!F12","v":0},{"$f":"invoer!G12","v":"R7380"},{"$f":"invoer!H12","v":0},{"$f":"invoer!I12","v":0},{"$f":"invoer!C13","v":0},{"$f":"invoer!D13","v":0},{"$f":"invoer!E13","v":0},{"$f":"invoer!F13","v":0},{"$f":"invoer!G13","v":0},{"$f":"invoer!H13","v":"R7380"},{"$f":"invoer!I13","v":0},{"$f":"invoer!C14","v":0},{"$f":"invoer!D14","v":0},{"$f":"invoer!E14","v":0},{"$f":"invoer!F14","v":0},{"$f":"invoer!G14","v":0},{"$f":"invoer!H14","v":0},{"$f":"invoer!I14","v":"R7380"},{"$f":"invoer!C15","v":0},{"$f":"invoer!D15","v":"R7380"},{"$f":"invoer!E15","v":0},{"$f":"invoer!F15","v":0},{"$f":"invoer!G15","v":0},{"$f":"invoer!H15","v":0},{"$f":"invoer!I15","v":0},{"$f":"invoer!C16","v":0},{"$f":"invoer!D16","v":0},{"$f":"invoer!E16","v":"R7380"},{"$f":"invoer!F16","v":0},{"$f":"invoer!G16","v":0},{"$f":"invoer!H16","v":0},{"$f":"invoer!I16","v":0},{"$f":"invoer!C17","v":0},{"$f":"invoer!D17","v":0},{"$f":"invoer!E17","v":0},{"$f":"invoer!F17","v":"R7380"},{"$f":"invoer!G17","v":0},{"$f":"invoer!H17","v":0},{"$f":"invoer!I17","v":0},{"$f":"invoer!C18","v":0},{"$f":"invoer!D18","v":0},{"$f":"invoer!E18","v":0},{"$f":"invoer!F18","v":0},{"$f":"invoer!G18","v":"R7380"},{"$f":"invoer!H18","v":0},{"$f":"invoer!I18","v":0},{"$f":"invoer!C19","v":0},{"$f":"invoer!D19","v":0},{"$f":"invoer!E19","v":0},{"$f":"invoer!F19","v":0},{"$f":"invoer!G19","v":0},{"$f":"invoer!H19","v":"R7380"},{"$f":"invoer!I19","v":0},{"$f":"invoer!C20","v":0},{"$f":"invoer!D20","v":0},{"$f":"invoer!E20","v":0},{"$f":"invoer!F20","v":0},{"$f":"invoer!G20","v":0},{"$f":"invoer!H20","v":0},{"$f":"invoer!I20","v":"R7380"},{"$f":"invoer!C21","v":0},{"$f":"invoer!D21","v":"R7380"},{"$f":"invoer!E21","v":0},{"$f":"invoer!F21","v":0},{"$f":"invoer!G21","v":0},{"$f":"invoer!H21","v":0},{"$f":"invoer!I21","v":0},{"$f":"invoer!C22","v":0},{"$f":"invoer!D22","v":0},{"$f":"invoer!E22","v":"R7380"},{"$f":"invoer!F22","v":0},{"$f":"invoer!G22","v":0},{"$f":"invoer!H22","v":0},{"$f":"invoer!I22","v":0},{"$f":"invoer!C23","v":0},{"$f":"invoer!D23","v":0},{"$f":"invoer!E23","v":0},{"$f":"invoer!F23","v":"R7380"},{"$f":"invoer!G23","v":0},{"$f":"invoer!H23","v":0},{"$f":"invoer!I23","v":0},{"$f":"invoer!C24","v":0},{"$f":"invoer!D24","v":0},{"$f":"invoer!E24","v":0},{"$f":"invoer!F24","v":0},{"$f":"invoer!G24","v":"R7380"},{"$f":"invoer!H24","v":0},{"$f":"invoer!I24","v":0},{"$f":"invoer!C25","v":0},{"$f":"invoer!D25","v":0},{"$f":"invoer!E25","v":0},{"$f":"invoer!F25","v":0},{"$f":"invoer!G25","v":0},{"$f":"invoer!H25","v":"R7380"},{"$f":"invoer!I25","v":0},{"$f":"invoer!C26","v":0},{"$f":"invoer!D26","v":0},{"$f":"invoer!E26","v":0},{"$f":"invoer!F26","v":0},{"$f":"invoer!G26","v":0},{"$f":"invoer!H26","v":0},{"$f":"invoer!I26","v":"R7380"},{"$f":"invoer!C27","v":0},{"$f":"invoer!D27","v":"R7380"},{"$f":"invoer!E27","v":0},{"$f":"invoer!F27","v":0},{"$f":"invoer!G27","v":0},{"$f":"invoer!H27","v":0},{"$f":"invoer!I27","v":0},{"$f":"invoer!C28","v":0},{"$f":"invoer!D28","v":0},{"$f":"invoer!E28","v":"R7380"},{"$f":"invoer!F28","v":0},{"$f":"invoer!G28","v":0},{"$f":"invoer!H28","v":0},{"$f":"invoer!I28","v":0},{"$f":"invoer!C29","v":0},{"$f":"invoer!D29","v":0},{"$f":"invoer!E29","v":0},{"$f":"invoer!F29","v":"R7380"},{"$f":"invoer!G29","v":0},{"$f":"invoer!H29","v":0},{"$f":"invoer!I29","v":0},{"$f":"invoer!C30","v":0},{"$f":"invoer!D30","v":0},{"$f":"invoer!E30","v":0},{"$f":"invoer!F30","v":0},{"$f":"invoer!G30","v":"R7380"},{"$f":"invoer!H30","v":0},{"$f":"invoer!I30","v":0},{"$f":"invoer!C31","v":0},{"$f":"invoer!D31","v":0},{"$f":"invoer!E31","v":0},{"$f":"invoer!F31","v":0},{"$f":"invoer!G31","v":0},{"$f":"invoer!H31","v":"R7380"},{"$f":"invoer!I31","v":0},{"$f":"invoer!C32","v":0},{"$f":"invoer!D32","v":0},{"$f":"invoer!E32","v":0},{"$f":"invoer!F32","v":0},{"$f":"invoer!G32","v":0},{"$f":"invoer!H32","v":0},{"$f":"invoer!I32","v":"R7380"},{"$f":"invoer!C33","v":0},{"$f":"invoer!D33","v":"R7380"},{"$f":"invoer!E33","v":0},{"$f":"invoer!F33","v":0},{"$f":"invoer!G33","v":0},{"$f":"invoer!H33","v":0},{"$f":"invoer!I33","v":0},{"$f":"invoer!C34","v":0},{"$f":"invoer!D34","v":0},{"$f":"invoer!E34","v":"R7380"},{"$f":"invoer!F34","v":0},{"$f":"invoer!G34","v":0},{"$f":"invoer!H34","v":0},{"$f":"invoer!I34","v":0},{"$f":"invoer!C35","v":0},{"$f":"invoer!D35","v":0},{"$f":"invoer!E35","v":0},{"$f":"invoer!F35","v":"R7380"},{"$f":"invoer!G35","v":0},{"$f":"invoer!H35","v":0},{"$f":"invoer!I35","v":0},{"$f":"invoer!C36","v":0},{"$f":"invoer!D36","v":0},{"$f":"invoer!E36","v":0},{"$f":"invoer!F36","v":0},{"$f":"invoer!G36","v":"R7380"},{"$f":"invoer!H36","v":0},{"$f":"invoer!I36","v":0},{"$f":"invoer!C37","v":0},{"$f":"invoer!D37","v":0},{"$f":"invoer!E37","v":0},{"$f":"invoer!F37","v":0},{"$f":"invoer!G37","v":0},{"$f":"invoer!H37","v":"R7380"},{"$f":"invoer!I37","v":0},{"$f":"invoer!C38","v":0},{"$f":"invoer!D38","v":0},{"$f":"invoer!E38","v":0},{"$f":"invoer!F38","v":0},{"$f":"invoer!G38","v":0},{"$f":"invoer!H38","v":0},{"$f":"invoer!I38","v":"R7380"},{"$f":"invoer!C39","v":0},{"$f":"invoer!D39","v":"R7380"},{"$f":"invoer!E39","v":0},{"$f":"invoer!F39","v":0},{"$f":"invoer!G39","v":0},{"$f":"invoer!H39","v":0},{"$f":"invoer!I39","v":0},{"$f":"invoer!C40","v":0},{"$f":"invoer!D40","v":0},{"$f":"invoer!E40","v":"R7380"},{"$f":"invoer!F40","v":0},{"$f":"invoer!G40","v":0},{"$f":"invoer!H40","v":0},{"$f":"invoer!I40","v":0},{"$f":"invoer!C41","v":0},{"$f":"invoer!D41","v":0},{"$f":"invoer!E41","v":0},{"$f":"invoer!F41","v":"R7380"},{"$f":"invoer!G41","v":0},{"$f":"invoer!H41","v":0},{"$f":"invoer!I41","v":0},{"$f":"invoer!C42","v":0},{"$f":"invoer!D42","v":0},{"$f":"invoer!E42","v":0},{"$f":"invoer!F42","v":0},{"$f":"invoer!G42","v":"R7380"},{"$f":"invoer!H42","v":0},{"$f":"invoer!I42","v":0},{"$f":"invoer!C43","v":0},{"$f":"invoer!D43","v":0},{"$f":"invoer!E43","v":0},{"$f":"invoer!F43","v":0},{"$f":"invoer!G43","v":0},{"$f":"invoer!H43","v":"R7380"},{"$f":"invoer!I43","v":0},{"$f":"invoer!C44","v":0},{"$f":"invoer!D44","v":0},{"$f":"invoer!E44","v":0},{"$f":"invoer!F44","v":0},{"$f":"invoer!G44","v":0},{"$f":"invoer!H44","v":0},{"$f":"invoer!I44","v":"R7380"},{"$f":"invoer!C45","v":0},{"$f":"invoer!D45","v":"R7380"},{"$f":"invoer!E45","v":0},{"$f":"invoer!F45","v":0},{"$f":"invoer!G45","v":0},{"$f":"invoer!H45","v":0},{"$f":"invoer!I45","v":0},{"$f":"invoer!C46","v":0},{"$f":"invoer!D46","v":0},{"$f":"invoer!E46","v":"R7380"},{"$f":"invoer!F46","v":0},{"$f":"invoer!G46","v":0},{"$f":"invoer!H46","v":0},{"$f":"invoer!I46","v":0},{"$f":"invoer!C47","v":0},{"$f":"invoer!D47","v":0},{"$f":"invoer!E47","v":0},{"$f":"invoer!F47","v":"R7380"},{"$f":"invoer!G47","v":0},{"$f":"invoer!H47","v":0},{"$f":"invoer!I47","v":0},{"$f":"invoer!C48","v":0},{"$f":"invoer!D48","v":0},{"$f":"invoer!E48","v":0},{"$f":"invoer!F48","v":0},{"$f":"invoer!G48","v":"R7380"},{"$f":"invoer!H48","v":0},{"$f":"invoer!I48","v":0},{"$f":"invoer!C49","v":0},{"$f":"invoer!D49","v":0},{"$f":"invoer!E49","v":0},{"$f":"invoer!F49","v":0},{"$f":"invoer!G49","v":0},{"$f":"invoer!H49","v":"R7380"},{"$f":"invoer!I49","v":0},{"$f":"invoer!C50","v":0},{"$f":"invoer!D50","v":0},{"$f":"invoer!E50","v":0},{"$f":"invoer!F50","v":0},{"$f":"invoer!G50","v":0},{"$f":"invoer!H50","v":0},{"$f":"invoer!I50","v":"R7380"},{"$f":"invoer!C51","v":0},{"$f":"invoer!D51","v":"R7380"},{"$f":"invoer!E51","v":0},{"$f":"invoer!F51","v":0},{"$f":"invoer!G51","v":0},{"$f":"invoer!H51","v":0},{"$f":"invoer!I51","v":0},{"$f":"invoer!C52","v":0},{"$f":"invoer!D52","v":0},{"$f":"invoer!E52","v":"R7380"},{"$f":"invoer!F52","v":0},{"$f":"invoer!G52","v":0},{"$f":"invoer!H52","v":0},{"$f":"invoer!I52","v":0},{"$f":"+invoer!C53","v":0},{"$f":"+invoer!D53","v":0},{"$f":"+invoer!E53","v":0},{"$f":"+invoer!F53","v":"R7380"},{"$f":"+invoer!G53","v":0},{"$f":"+invoer!H53","v":0},{"$f":"+invoer!I53","v":0},{"$f":"invoer!C54","v":0},{"$f":"invoer!D54","v":0},{"$f":"invoer!E54","v":0},{"$f":"invoer!F54","v":0},{"$f":"invoer!G54","v":"R7380"},{"$f":"invoer!H54","v":0},{"$f":"invoer!I54","v":0},{"$f":"invoer!C55","v":0},{"$f":"invoer!D55","v":0},{"$f":"invoer!E55","v":0},{"$f":"invoer!F55","v":0},{"$f":"invoer!G55","v":0},{"$f":"invoer!H55","v":"R7380"},{"$f":"invoer!I55","v":0},{"$f":"invoer!C56","v":0},{"$f":"invoer!D56","v":0},{"$f":"invoer!E56","v":0},{"$f":"invoer!F56","v":0},{"$f":"invoer!G56","v":0},{"$f":"invoer!H56","v":0},{"$f":"invoer!I56","v":"R7380"},{"$f":"invoer!C57","v":0},{"$f":"invoer!D57","v":"R7380"},{"$f":"invoer!E57","v":0},{"$f":"invoer!F57","v":0},{"$f":"invoer!G57","v":0},{"$f":"invoer!H57","v":0},{"$f":"invoer!I57","v":0},{"$f":"invoer!C58","v":0},{"$f":"invoer!D58","v":0},{"$f":"invoer!E58","v":"R7380"},{"$f":"invoer!F58","v":0},{"$f":"invoer!G58","v":0},{"$f":"invoer!H58","v":0},{"$f":"invoer!I58","v":0},{"$f":"invoer!C3","v":"G"},{"$f":"invoer!D3","v":"R7380"},{"$f":"invoer!E3","v":"L"},{"$f":"invoer!F3","v":0},{"$f":"invoer!G3","v":0},{"$f":"invoer!H3","v":0},{"$f":"invoer!I3","v":0},{"$f":"invoer!C4","v":0},{"$f":"invoer!D4","v":0},{"$f":"invoer!E4","v":"R7380"},{"$f":"invoer!F4","v":0},{"$f":"invoer!G4","v":0},{"$f":"invoer!H4","v":0},{"$f":"invoer!I4","v":0},{"$f":"invoer!C5","v":0},{"$f":"invoer!D5","v":0},{"$f":"invoer!E5","v":0},{"$f":"invoer!F5","v":"R7380"},{"$f":"invoer!G5","v":0},{"$f":"invoer!H5","v":0},{"$f":"invoer!I5","v":0},{"$f":"invoer!C6","v":0},{"$f":"invoer!D6","v":0},{"$f":"invoer!E6","v":0},{"$f":"invoer!F6","v":0},{"$f":"invoer!G6","v":"R7380"},{"$f":"invoer!H6","v":0},{"$f":"invoer!I6","v":0},{"$f":"invoer!C7","v":0},{"$f":"invoer!D7","v":0},{"$f":"invoer!E7","v":0},{"$f":"invoer!F7","v":0},{"$f":"invoer!G7","v":0},{"$f":"invoer!H7","v":"R7380"},{"$f":"invoer!I7","v":0},{"$f":"invoer!C8","v":0},{"$f":"invoer!D8","v":0},{"$f":"invoer!E8","v":0},{"$f":"invoer!F8","v":0},{"$f":"invoer!G8","v":0},{"$f":"invoer!H8","v":0},{"$f":"invoer!I8","v":"R7380"},{"$f":"invoer!C9","v":0},{"$f":"invoer!D9","v":"R7380"},{"$f":"invoer!E9","v":0}]
[null,null,{"$f":"invoer!$C11","v":0},{"$f":"invoer!D11","v":0},{"$f":"invoer!E11","v":0},"R7380",{"$f":"invoer!G11","v":0},{"$f":"invoer!H11","v":0},{"$f":"invoer!I11","v":0},{"$f":"invoer!C12","v":0},{"$f":"invoer!D12","v":0},{"$f":"invoer!E12","v":0},{"$f":"invoer!F12","v":0},"R7380",{"$f":"invoer!H12","v":0},{"$f":"invoer!I12","v":0},{"$f":"invoer!C13","v":0},{"$f":"invoer!D13","v":0},{"$f":"invoer!E13","v":0},{"$f":"invoer!F13","v":0},{"$f":"invoer!G13","v":0},"R7380",{"$f":"invoer!I13","v":0},{"$f":"invoer!C14","v":0},{"$f":"invoer!D14","v":0},{"$f":"invoer!E14","v":0},{"$f":"invoer!F14","v":0},{"$f":"invoer!G14","v":0},{"$f":"invoer!H14","v":0},"R7380",{"$f":"invoer!C15","v":0},"R7380",{"$f":"invoer!E15","v":0},{"$f":"invoer!F15","v":0},{"$f":"invoer!G15","v":0},{"$f":"invoer!H15","v":0},{"$f":"invoer!I15","v":0},{"$f":"invoer!C16","v":0},{"$f":"invoer!D16","v":0},"R7380",{"$f":"invoer!F16","v":0},{"$f":"invoer!G16","v":0},{"$f":"invoer!H16","v":0},{"$f":"invoer!I16","v":0},{"$f":"invoer!C17","v":0},{"$f":"invoer!D17","v":0},{"$f":"invoer!E17","v":0},"R7380",{"$f":"invoer!G17","v":0},{"$f":"invoer!H17","v":0},{"$f":"invoer!I17","v":0},{"$f":"invoer!C18","v":0},{"$f":"invoer!D18","v":0},{"$f":"invoer!E18","v":0},{"$f":"invoer!F18","v":0},"R7380",{"$f":"invoer!H18","v":0},{"$f":"invoer!I18","v":0},{"$f":"invoer!C19","v":0},{"$f":"invoer!D19","v":0},{"$f":"invoer!E19","v":0},{"$f":"invoer!F19","v":0},{"$f":"invoer!G19","v":0},"R7380",{"$f":"invoer!I19","v":0},{"$f":"invoer!C20","v":0},{"$f":"invoer!D20","v":0},{"$f":"invoer!E20","v":0},{"$f":"invoer!F20","v":0},{"$f":"invoer!G20","v":0},{"$f":"invoer!H20","v":0},"R7380",{"$f":"invoer!C21","v":0},"R7380",{"$f":"invoer!E21","v":0},{"$f":"invoer!F21","v":0},{"$f":"invoer!G21","v":0},{"$f":"invoer!H21","v":0},{"$f":"invoer!I21","v":0},{"$f":"invoer!C22","v":0},{"$f":"invoer!D22","v":0},"R7380",{"$f":"invoer!F22","v":0},{"$f":"invoer!G22","v":0},{"$f":"invoer!H22","v":0},{"$f":"invoer!I22","v":0},{"$f":"invoer!C23","v":0},{"$f":"invoer!D23","v":0},{"$f":"invoer!E23","v":0},"R7380",{"$f":"invoer!G23","v":0},{"$f":"invoer!H23","v":0},{"$f":"invoer!I23","v":0},{"$f":"invoer!C24","v":0},{"$f":"invoer!D24","v":0},{"$f":"invoer!E24","v":0},{"$f":"invoer!F24","v":0},"R7380",{"$f":"invoer!H24","v":0},{"$f":"invoer!I24","v":0},{"$f":"invoer!C25","v":0},{"$f":"invoer!D25","v":0},{"$f":"invoer!E25","v":0},{"$f":"invoer!F25","v":0},{"$f":"invoer!G25","v":0},"R7380",{"$f":"invoer!I25","v":0},{"$f":"invoer!C26","v":0},{"$f":"invoer!D26","v":0},{"$f":"invoer!E26","v":0},{"$f":"invoer!F26","v":0},{"$f":"invoer!G26","v":0},{"$f":"invoer!H26","v":0},"R7380",{"$f":"invoer!C27","v":0},"R7380",{"$f":"invoer!E27","v":0},{"$f":"invoer!F27","v":0},{"$f":"invoer!G27","v":0},{"$f":"invoer!H27","v":0},{"$f":"invoer!I27","v":0},{"$f":"invoer!C28","v":0},{"$f":"invoer!D28","v":0},"R7380",{"$f":"invoer!F28","v":0},{"$f":"invoer!G28","v":0},{"$f":"invoer!H28","v":0},{"$f":"invoer!I28","v":0},{"$f":"invoer!C29","v":0},{"$f":"invoer!D29","v":0},{"$f":"invoer!E29","v":0},"R7380",{"$f":"invoer!G29","v":0},{"$f":"invoer!H29","v":0},{"$f":"invoer!I29","v":0},{"$f":"invoer!C30","v":0},{"$f":"invoer!D30","v":0},{"$f":"invoer!E30","v":0},{"$f":"invoer!F30","v":0},"R7380",{"$f":"invoer!H30","v":0},{"$f":"invoer!I30","v":0},{"$f":"invoer!C31","v":0},{"$f":"invoer!D31","v":0},{"$f":"invoer!E31","v":0},{"$f":"invoer!F31","v":0},{"$f":"invoer!G31","v":0},"R7380",{"$f":"invoer!I31","v":0},{"$f":"invoer!C32","v":0},{"$f":"invoer!D32","v":0},{"$f":"invoer!E32","v":0},{"$f":"invoer!F32","v":0},{"$f":"invoer!G32","v":0},{"$f":"invoer!H32","v":0},"R7380",{"$f":"invoer!C33","v":0},"R7380",{"$f":"invoer!E33","v":0},{"$f":"invoer!F33","v":0},{"$f":"invoer!G33","v":0},{"$f":"invoer!H33","v":0},{"$f":"invoer!I33","v":0},{"$f":"invoer!C34","v":0},{"$f":"invoer!D34","v":0},"R7380",{"$f":"invoer!F34","v":0},{"$f":"invoer!G34","v":0},{"$f":"invoer!H34","v":0},{"$f":"invoer!I34","v":0},{"$f":"invoer!C35","v":0},{"$f":"invoer!D35","v":0},{"$f":"invoer!E35","v":0},"R7380",{"$f":"invoer!G35","v":0},{"$f":"invoer!H35","v":0},{"$f":"invoer!I35","v":0},{"$f":"invoer!C36","v":0},{"$f":"invoer!D36","v":0},{"$f":"invoer!E36","v":0},{"$f":"invoer!F36","v":0},"R7380",{"$f":"invoer!H36","v":0},{"$f":"invoer!I36","v":0},{"$f":"invoer!C37","v":0},{"$f":"invoer!D37","v":0},{"$f":"invoer!E37","v":0},{"$f":"invoer!F37","v":0},{"$f":"invoer!G37","v":0},"R7380",{"$f":"invoer!I37","v":0},{"$f":"invoer!C38","v":0},{"$f":"invoer!D38","v":0},{"$f":"invoer!E38","v":0},{"$f":"invoer!F38","v":0},{"$f":"invoer!G38","v":0},{"$f":"invoer!H38","v":0},"R7380",{"$f":"invoer!C39","v":0},"R7380",{"$f":"invoer!E39","v":0},{"$f":"invoer!F39","v":0},{"$f":"invoer!G39","v":0},{"$f":"invoer!H39","v":0},{"$f":"invoer!I39","v":0},{"$f":"invoer!C40","v":0},{"$f":"invoer!D40","v":0},"R7380",{"$f":"invoer!F40","v":0},{"$f":"invoer!G40","v":0},{"$f":"invoer!H40","v":0},{"$f":"invoer!I40","v":0},{"$f":"invoer!C41","v":0},{"$f":"invoer!D41","v":0},{"$f":"invoer!E41","v":0},"R7380",{"$f":"invoer!G41","v":0},{"$f":"invoer!H41","v":0},{"$f":"invoer!I41","v":0},{"$f":"invoer!C42","v":0},{"$f":"invoer!D42","v":0},{"$f":"invoer!E42","v":0},{"$f":"invoer!F42","v":0},"R7380",{"$f":"invoer!H42","v":0},{"$f":"invoer!I42","v":0},{"$f":"invoer!C43","v":0},{"$f":"invoer!D43","v":0},{"$f":"invoer!E43","v":0},{"$f":"invoer!F43","v":0},{"$f":"invoer!G43","v":0},"R7380",{"$f":"invoer!I43","v":0},{"$f":"invoer!C44","v":0},{"$f":"invoer!D44","v":0},{"$f":"invoer!E44","v":0},{"$f":"invoer!F44","v":0},{"$f":"invoer!G44","v":0},{"$f":"invoer!H44","v":0},"R7380",{"$f":"invoer!C45","v":0},"R7380",{"$f":"invoer!E45","v":0},{"$f":"invoer!F45","v":0},{"$f":"invoer!G45","v":0},{"$f":"invoer!H45","v":0},{"$f":"invoer!I45","v":0},{"$f":"invoer!C46","v":0},{"$f":"invoer!D46","v":0},"R7380",{"$f":"invoer!F46","v":0},{"$f":"invoer!G46","v":0},{"$f":"invoer!H46","v":0},{"$f":"invoer!I46","v":0},{"$f":"invoer!C47","v":0},{"$f":"invoer!D47","v":0},{"$f":"invoer!E47","v":0},"R7380",{"$f":"invoer!G47","v":0},{"$f":"invoer!H47","v":0},{"$f":"invoer!I47","v":0},{"$f":"invoer!C48","v":0},{"$f":"invoer!D48","v":0},{"$f":"invoer!E48","v":0},{"$f":"invoer!F48","v":0},"R7380",{"$f":"invoer!H48","v":0},{"$f":"invoer!I48","v":0},{"$f":"invoer!C49","v":0},{"$f":"invoer!D49","v":0},{"$f":"invoer!E49","v":0},{"$f":"invoer!F49","v":0},{"$f":"invoer!G49","v":0},"R7380",{"$f":"invoer!I49","v":0},{"$f":"invoer!C50","v":0},{"$f":"invoer!D50","v":0},{"$f":"invoer!E50","v":0},{"$f":"invoer!F50","v":0},{"$f":"invoer!G50","v":0},{"$f":"invoer!H50","v":0},"R7380",{"$f":"invoer!C51","v":0},"R7380",{"$f":"invoer!E51","v":0},{"$f":"invoer!F51","v":0},{"$f":"invoer!G51","v":0},{"$f":"invoer!H51","v":0},{"$f":"invoer!I51","v":0},{"$f":"invoer!C52","v":0},{"$f":"invoer!D52","v":0},"R7380",{"$f":"invoer!F52","v":0},{"$f":"invoer!G52","v":0},{"$f":"invoer!H52","v":0},{"$f":"invoer!I52","v":0},{"$f":"invoer!C53","v":0},{"$f":"invoer!D53","v":0},{"$f":"invoer!E53","v":0},"R7380",{"$f":"invoer!G53","v":0},{"$f":"invoer!H53","v":0},{"$f":"invoer!I53","v":0},{"$f":"+invoer!C54","v":0},{"$f":"+invoer!D54","v":0},{"$f":"+invoer!E54","v":0},{"$f":"+invoer!F54","v":0},"R7380",{"$f":"+invoer!H54","v":0},{"$f":"+invoer!I54","v":0},{"$f":"invoer!C55","v":0},{"$f":"invoer!D55","v":0},{"$f":"invoer!E55","v":0},{"$f":"invoer!F55","v":0},{"$f":"invoer!G55","v":0},"R7380",{"$f":"invoer!I55","v":0},{"$f":"invoer!C56","v":0},{"$f":"invoer!D56","v":0},{"$f":"invoer!E56","v":0},{"$f":"invoer!F56","v":0},{"$f":"invoer!G56","v":0},{"$f":"invoer!H56","v":0},"R7380",{"$f":"invoer!C57","v":0},"R7380",{"$f":"invoer!E57","v":0},{"$f":"invoer!F57","v":0},{"$f":"invoer!G57","v":0},{"$f":"invoer!H57","v":0},{"$f":"invoer!I57","v":0},{"$f":"invoer!C58","v":0},{"$f":"invoer!D58","v":0},"R7380",{"$f":"invoer!F58","v":0},{"$f":"invoer!G58","v":0},{"$f":"invoer!H58","v":0},{"$f":"invoer!I58","v":0},{"$f":"invoer!C3","v":"G"},"R7380",{"$f":"invoer!E3","v":"L"},{"$f":"invoer!F3","v":0},{"$f":"invoer!G3","v":0},{"$f":"invoer!H3","v":0},{"$f":"invoer!I3","v":0},{"$f":"invoer!C4","v":0},{"$f":"invoer!D4","v":0},"R7380",{"$f":"invoer!F4","v":0},{"$f":"invoer!G4","v":0},{"$f":"invoer!H4","v":0},{"$f":"invoer!I4","v":0},{"$f":"invoer!C5","v":0},{"$f":"invoer!D5","v":0},{"$f":"invoer!E5","v":0},"R7380",{"$f":"invoer!G5","v":0},{"$f":"invoer!H5","v":0},{"$f":"invoer!I5","v":0},{"$f":"invoer!C6","v":0},{"$f":"invoer!D6","v":0},{"$f":"invoer!E6","v":0},{"$f":"invoer!F6","v":0},"R7380",{"$f":"invoer!H6","v":0},{"$f":"invoer!I6","v":0},{"$f":"invoer!C7","v":0},{"$f":"invoer!D7","v":0},{"$f":"invoer!E7","v":0},{"$f":"invoer!F7","v":0},{"$f":"invoer!G7","v":0},"R7380",{"$f":"invoer!I7","v":0},{"$f":"invoer!C8","v":0},{"$f":"invoer!D8","v":0},{"$f":"invoer!E8","v":0},{"$f":"invoer!F8","v":0},{"$f":"invoer!G8","v":0},{"$f":"invoer!H8","v":0},"R7380",{"$f":"invoer!C9","v":0},"R7380",{"$f":"invoer!E9","v":0},{"$f":"invoer!F9","v":0},{"$f":"invoer!G9","v":0},{"$f":"invoer!H9","v":0},{"$f":"invoer!I9","v":0},{"$f":"invoer!C10","v":0},{"$f":"invoer!D10","v":0},"R7380"]
[null,null,{"$f":"invoer!$C12","v":0},{"$f":"invoer!D12","v":0},{"$f":"invoer!E12","v":0},{"$f":"invoer!F12","v":0},{"$f":"invoer!G12","v":"R7380"},{"$f":"invoer!H12","v":0},{"$f":"invoer!I12","v":0},{"$f":"invoer!C13","v":0},{"$f":"invoer!D13","v":0},{"$f":"invoer!E13","v":0},{"$f":"invoer!F13","v":0},{"$f":"invoer!G13","v":0},{"$f":"invoer!H13","v":"R7380"},{"$f":"invoer!I13","v":0},{"$f":"invoer!C14","v":0},{"$f":"invoer!D14","v":0},{"$f":"invoer!E14","v":0},{"$f":"invoer!F14","v":0},{"$f":"invoer!G14","v":0},{"$f":"invoer!H14","v":0},{"$f":"invoer!I14","v":"R7380"},{"$f":"invoer!C15","v":0},{"$f":"invoer!D15","v":"R7380"},{"$f":"invoer!E15","v":0},{"$f":"invoer!F15","v":0},{"$f":"invoer!G15","v":0},{"$f":"invoer!H15","v":0},{"$f":"invoer!I15","v":0},{"$f":"invoer!C16","v":0},{"$f":"invoer!D16","v":0},{"$f":"invoer!E16","v":"R7380"},{"$f":"invoer!F16","v":0},{"$f":"invoer!G16","v":0},{"$f":"invoer!H16","v":0},{"$f":"invoer!I16","v":0},{"$f":"invoer!C17","v":0},{"$f":"invoer!D17","v":0},{"$f":"invoer!E17","v":0},{"$f":"invoer!F17","v":"R7380"},{"$f":"invoer!G17","v":0},{"$f":"invoer!H17","v":0},{"$f":"invoer!I17","v":0},{"$f":"invoer!C18","v":0},{"$f":"invoer!D18","v":0},{"$f":"invoer!E18","v":0},{"$f":"invoer!F18","v":0},{"$f":"invoer!G18","v":"R7380"},{"$f":"invoer!H18","v":0},{"$f":"invoer!I18","v":0},{"$f":"invoer!C19","v":0},{"$f":"invoer!D19","v":0},{"$f":"invoer!E19","v":0},{"$f":"invoer!F19","v":0},{"$f":"invoer!G19","v":0},{"$f":"invoer!H19","v":"R7380"},{"$f":"invoer!I19","v":0},{"$f":"invoer!C20","v":0},{"$f":"invoer!D20","v":0},{"$f":"invoer!E20","v":0},{"$f":"invoer!F20","v":0},{"$f":"invoer!G20","v":0},{"$f":"invoer!H20","v":0},{"$f":"invoer!I20","v":"R7380"},{"$f":"invoer!C21","v":0},{"$f":"invoer!D21","v":"R7380"},{"$f":"invoer!E21","v":0},{"$f":"invoer!F21","v":0},{"$f":"invoer!G21","v":0},{"$f":"invoer!H21","v":0},{"$f":"invoer!I21","v":0},{"$f":"invoer!C22","v":0},{"$f":"invoer!D22","v":0},{"$f":"invoer!E22","v":"R7380"},{"$f":"invoer!F22","v":0},{"$f":"invoer!G22","v":0},{"$f":"invoer!H22","v":0},{"$f":"invoer!I22","v":0},{"$f":"invoer!C23","v":0},{"$f":"invoer!D23","v":0},{"$f":"invoer!E23","v":0},{"$f":"invoer!F23","v":"R7380"},{"$f":"invoer!G23","v":0},{"$f":"invoer!H23","v":0},{"$f":"invoer!I23","v":0},{"$f":"invoer!C24","v":0},{"$f":"invoer!D24","v":0},{"$f":"invoer!E24","v":0},{"$f":"invoer!F24","v":0},{"$f":"invoer!G24","v":"R7380"},{"$f":"invoer!H24","v":0},{"$f":"invoer!I24","v":0},{"$f":"invoer!C25","v":0},{"$f":"invoer!D25","v":0},{"$f":"invoer!E25","v":0},{"$f":"invoer!F25","v":0},{"$f":"invoer!G25","v":0},{"$f":"invoer!H25","v":"R7380"},{"$f":"invoer!I25","v":0},{"$f":"invoer!C26","v":0},{"$f":"invoer!D26","v":0},{"$f":"invoer!E26","v":0},{"$f":"invoer!F26","v":0},{"$f":"invoer!G26","v":0},{"$f":"invoer!H26","v":0},{"$f":"invoer!I26","v":"R7380"},{"$f":"invoer!C27","v":0},{"$f":"invoer!D27","v":"R7380"},{"$f":"invoer!E27","v":0},{"$f":"invoer!F27","v":0},{"$f":"invoer!G27","v":0},{"$f":"invoer!H27","v":0},{"$f":"invoer!I27","v":0},{"$f":"invoer!C28","v":0},{"$f":"invoer!D28","v":0},{"$f":"invoer!E28","v":"R7380"},{"$f":"invoer!F28","v":0},{"$f":"invoer!G28","v":0},{"$f":"invoer!H28","v":0},{"$f":"invoer!I28","v":0},{"$f":"invoer!C29","v":0},{"$f":"invoer!D29","v":0},{"$f":"invoer!E29","v":0},{"$f":"invoer!F29","v":"R7380"},{"$f":"invoer!G29","v":0},{"$f":"invoer!H29","v":0},{"$f":"invoer!I29","v":0},{"$f":"invoer!C30","v":0},{"$f":"invoer!D30","v":0},{"$f":"invoer!E30","v":0},{"$f":"invoer!F30","v":0},{"$f":"invoer!G30","v":"R7380"},{"$f":"invoer!H30","v":0},{"$f":"invoer!I30","v":0},{"$f":"invoer!C31","v":0},{"$f":"invoer!D31","v":0},{"$f":"invoer!E31","v":0},{"$f":"invoer!F31","v":0},{"$f":"invoer!G31","v":0},{"$f":"invoer!H31","v":"R7380"},{"$f":"invoer!I31","v":0},{"$f":"invoer!C32","v":0},{"$f":"invoer!D32","v":0},{"$f":"invoer!E32","v":0},{"$f":"invoer!F32","v":0},{"$f":"invoer!G32","v":0},{"$f":"invoer!H32","v":0},{"$f":"invoer!I32","v":"R7380"},{"$f":"invoer!C33","v":0},{"$f":"invoer!D33","v":"R7380"},{"$f":"invoer!E33","v":0},{"$f":"invoer!F33","v":0},{"$f":"invoer!G33","v":0},{"$f":"invoer!H33","v":0},{"$f":"invoer!I33","v":0},{"$f":"invoer!C34","v":0},{"$f":"invoer!D34","v":0},{"$f":"invoer!E34","v":"R7380"},{"$f":"invoer!F34","v":0},{"$f":"invoer!G34","v":0},{"$f":"invoer!H34","v":0},{"$f":"invoer!I34","v":0},{"$f":"invoer!C35","v":0},{"$f":"invoer!D35","v":0},{"$f":"invoer!E35","v":0},{"$f":"invoer!F35","v":"R7380"},{"$f":"invoer!G35","v":0},{"$f":"invoer!H35","v":0},{"$f":"invoer!I35","v":0},{"$f":"invoer!C36","v":0},{"$f":"invoer!D36","v":0},{"$f":"invoer!E36","v":0},{"$f":"invoer!F36","v":0},{"$f":"invoer!G36","v":"R7380"},{"$f":"invoer!H36","v":0},{"$f":"invoer!I36","v":0},{"$f":"invoer!C37","v":0},{"$f":"invoer!D37","v":0},{"$f":"invoer!E37","v":0},{"$f":"invoer!F37","v":0},{"$f":"invoer!G37","v":0},{"$f":"invoer!H37","v":"R7380"},{"$f":"invoer!I37","v":0},{"$f":"invoer!C38","v":0},{"$f":"invoer!D38","v":0},{"$f":"invoer!E38","v":0},{"$f":"invoer!F38","v":0},{"$f":"invoer!G38","v":0},{"$f":"invoer!H38","v":0},{"$f":"invoer!I38","v":"R7380"},{"$f":"invoer!C39","v":0},{"$f":"invoer!D39","v":"R7380"},{"$f":"invoer!E39","v":0},{"$f":"invoer!F39","v":0},{"$f":"invoer!G39","v":0},{"$f":"invoer!H39","v":0},{"$f":"invoer!I39","v":0},{"$f":"invoer!C40","v":0},{"$f":"invoer!D40","v":0},{"$f":"invoer!E40","v":"R7380"},{"$f":"invoer!F40","v":0},{"$f":"invoer!G40","v":0},{"$f":"invoer!H40","v":0},{"$f":"invoer!I40","v":0},{"$f":"invoer!C41","v":0},{"$f":"invoer!D41","v":0},{"$f":"invoer!E41","v":0},{"$f":"invoer!F41","v":"R7380"},{"$f":"invoer!G41","v":0},{"$f":"invoer!H41","v":0},{"$f":"invoer!I41","v":0},{"$f":"invoer!C42","v":0},{"$f":"invoer!D42","v":0},{"$f":"invoer!E42","v":0},{"$f":"invoer!F42","v":0},{"$f":"invoer!G42","v":"R7380"},{"$f":"invoer!H42","v":0},{"$f":"invoer!I42","v":0},{"$f":"invoer!C43","v":0},{"$f":"invoer!D43","v":0},{"$f":"invoer!E43","v":0},{"$f":"invoer!F43","v":0},{"$f":"invoer!G43","v":0},{"$f":"invoer!H43","v":"R7380"},{"$f":"invoer!I43","v":0},{"$f":"invoer!C44","v":0},{"$f":"invoer!D44","v":0},{"$f":"invoer!E44","v":0},{"$f":"invoer!F44","v":0},{"$f":"invoer!G44","v":0},{"$f":"invoer!H44","v":0},{"$f":"invoer!I44","v":"R7380"},{"$f":"invoer!C45","v":0},{"$f":"invoer!D45","v":"R7380"},{"$f":"invoer!E45","v":0},{"$f":"invoer!F45","v":0},{"$f":"invoer!G45","v":0},{"$f":"invoer!H45","v":0},{"$f":"invoer!I45","v":0},{"$f":"invoer!C46","v":0},{"$f":"invoer!D46","v":0},{"$f":"invoer!E46","v":"R7380"},{"$f":"invoer!F46","v":0},{"$f":"invoer!G46","v":0},{"$f":"invoer!H46","v":0},{"$f":"invoer!I46","v":0},{"$f":"invoer!C47","v":0},{"$f":"invoer!D47","v":0},{"$f":"invoer!E47","v":0},{"$f":"invoer!F47","v":"R7380"},{"$f":"invoer!G47","v":0},{"$f":"invoer!H47","v":0},{"$f":"invoer!I47","v":0},{"$f":"invoer!C48","v":0},{"$f":"invoer!D48","v":0},{"$f":"invoer!E48","v":0},{"$f":"invoer!F48","v":0},{"$f":"invoer!G48","v":"R7380"},{"$f":"invoer!H48","v":0},{"$f":"invoer!I48","v":0},{"$f":"invoer!C49","v":0},{"$f":"invoer!D49","v":0},{"$f":"invoer!E49","v":0},{"$f":"invoer!F49","v":0},{"$f":"invoer!G49","v":0},{"$f":"invoer!H49","v":"R7380"},{"$f":"invoer!I49","v":0},{"$f":"invoer!C50","v":0},{"$f":"invoer!D50","v":0},{"$f":"invoer!E50","v":0},{"$f":"invoer!F50","v":0},{"$f":"invoer!G50","v":0},{"$f":"invoer!H50","v":0},{"$f":"invoer!I50","v":"R7380"},{"$f":"invoer!C51","v":0},{"$f":"invoer!D51","v":"R7380"},{"$f":"invoer!E51","v":0},{"$f":"invoer!F51","v":0},{"$f":"invoer!G51","v":0},{"$f":"invoer!H51","v":0},{"$f":"invoer!I51","v":0},{"$f":"invoer!C52","v":0},{"$f":"invoer!D52","v":0},{"$f":"invoer!E52","v":"R7380"},{"$f":"invoer!F52","v":0},{"$f":"invoer!G52","v":0},{"$f":"invoer!H52","v":0},{"$f":"invoer!I52","v":0},{"$f":"invoer!C53","v":0},{"$f":"invoer!D53","v":0},{"$f":"invoer!E53","v":0},{"$f":"invoer!F53","v":"R7380"},{"$f":"invoer!G53","v":0},{"$f":"invoer!H53","v":0},{"$f":"invoer!I53","v":0},{"$f":"invoer!C54","v":0},{"$f":"invoer!D54","v":0},{"$f":"invoer!E54","v":0},{"$f":"invoer!F54","v":0},{"$f":"invoer!G54","v":"R7380"},{"$f":"invoer!H54","v":0},{"$f":"invoer!I54","v":0},{"$f":"+invoer!C55","v":0},{"$f":"+invoer!D55","v":0},{"$f":"+invoer!E55","v":0},{"$f":"+invoer!F55","v":0},{"$f":"+invoer!G55","v":0},{"$f":"+invoer!H55","v":"R7380"},{"$f":"+invoer!I55","v":0},{"$f":"invoer!C56","v":0},{"$f":"invoer!D56","v":0},{"$f":"invoer!E56","v":0},{"$f":"invoer!F56","v":0},{"$f":"invoer!G56","v":0},{"$f":"invoer!H56","v":0},{"$f":"invoer!I56","v":"R7380"},{"$f":"invoer!C57","v":0},{"$f":"invoer!D57","v":"R7380"},{"$f":"invoer!E57","v":0},{"$f":"invoer!F57","v":0},{"$f":"invoer!G57","v":0},{"$f":"invoer!H57","v":0},{"$f":"invoer!I57","v":0},{"$f":"invoer!C58","v":0},{"$f":"invoer!D58","v":0},{"$f":"invoer!E58","v":"R7380"},{"$f":"invoer!F58","v":0},{"$f":"invoer!G58","v":0},{"$f":"invoer!H58","v":0},{"$f":"invoer!I58","v":0},{"$f":"invoer!C3","v":"G"},{"$f":"invoer!D3","v":"R7380"},{"$f":"invoer!E3","v":"L"},{"$f":"invoer!F3","v":0},{"$f":"invoer!G3","v":0},{"$f":"invoer!H3","v":0},{"$f":"invoer!I3","v":0},{"$f":"invoer!C4","v":0},{"$f":"invoer!D4","v":0},{"$f":"invoer!E4","v":"R7380"},{"$f":"invoer!F4","v":0},{"$f":"invoer!G4","v":0},{"$f":"invoer!H4","v":0},{"$f":"invoer!I4","v":0},{"$f":"invoer!C5","v":0},{"$f":"invoer!D5","v":0},{"$f":"invoer!E5","v":0},{"$f":"invoer!F5","v":"R7380"},{"$f":"invoer!G5","v":0},{"$f":"invoer!H5","v":0},{"$f":"invoer!I5","v":0},{"$f":"invoer!C6","v":0},{"$f":"invoer!D6","v":0},{"$f":"invoer!E6","v":0},{"$f":"invoer!F6","v":0},{"$f":"invoer!G6","v":"R7380"},{"$f":"invoer!H6","v":0},{"$f":"invoer!I6","v":0},{"$f":"invoer!C7","v":0},{"$f":"invoer!D7","v":0},{"$f":"invoer!E7","v":0},{"$f":"invoer!F7","v":0},{"$f":"invoer!G7","v":0},{"$f":"invoer!H7","v":"R7380"},{"$f":"invoer!I7","v":0},{"$f":"invoer!C8","v":0},{"$f":"invoer!D8","v":0},{"$f":"invoer!E8","v":0},{"$f":"invoer!F8","v":0},{"$f":"invoer!G8","v":0},{"$f":"invoer!H8","v":0},{"$f":"invoer!I8","v":"R7380"},{"$f":"invoer!C9","v":0},{"$f":"invoer!D9","v":"R7380"},{"$f":"invoer!E9","v":0},{"$f":"invoer!F9","v":0},{"$f":"invoer!G9","v":0},{"$f":"invoer!H9","v":0},{"$f":"invoer!I9","v":0},{"$f":"invoer!C10","v":0},{"$f":"invoer!D10","v":0},{"$f":"invoer!E10","v":"R7380"},{"$f":"invoer!F10","v":0},{"$f":"invoer!G10","v":0},{"$f":"invoer!H10","v":0},{"$f":"invoer!I10","v":0},{"$f":"invoer!C11","v":0},{"$f":"invoer!D11","v":0},{"$f":"invoer!E11","v":0}]
[null,null,{"$f":"invoer!$C13","v":0},{"$f":"invoer!D13","v":0},{"$f":"invoer!E13","v":0},{"$f":"invoer!F13","v":0},{"$f":"invoer!G13","v":0},{"$f":"invoer!H13","v":"R7380"},{"$f":"invoer!I13","v":0},{"$f":"invoer!C14","v":0},{"$f":"invoer!D14","v":0},{"$f":"invoer!E14","v":0},{"$f":"invoer!F14","v":0},{"$f":"invoer!G14","v":0},{"$f":"invoer!H14","v":0},{"$f":"invoer!I14","v":"R7380"},{"$f":"invoer!C15","v":0},{"$f":"invoer!D15","v":"R7380"},{"$f":"invoer!E15","v":0},{"$f":"invoer!F15","v":0},{"$f":"invoer!G15","v":0},{"$f":"invoer!H15","v":0},{"$f":"invoer!I15","v":0},{"$f":"invoer!C16","v":0},{"$f":"invoer!D16","v":0},{"$f":"invoer!E16","v":"R7380"},{"$f":"invoer!F16","v":0},{"$f":"invoer!G16","v":0},{"$f":"invoer!H16","v":0},{"$f":"invoer!I16","v":0},{"$f":"invoer!C17","v":0},{"$f":"invoer!D17","v":0},{"$f":"invoer!E17","v":0},{"$f":"invoer!F17","v":"R7380"},{"$f":"invoer!G17","v":0},{"$f":"invoer!H17","v":0},{"$f":"invoer!I17","v":0},{"$f":"invoer!C18","v":0},{"$f":"invoer!D18","v":0},{"$f":"invoer!E18","v":0},{"$f":"invoer!F18","v":0},{"$f":"invoer!G18","v":"R7380"},{"$f":"invoer!H18","v":0},{"$f":"invoer!I18","v":0},{"$f":"invoer!C19","v":0},{"$f":"invoer!D19","v":0},{"$f":"invoer!E19","v":0},{"$f":"invoer!F19","v":0},{"$f":"invoer!G19","v":0},{"$f":"invoer!H19","v":"R7380"},{"$f":"invoer!I19","v":0},{"$f":"invoer!C20","v":0},{"$f":"invoer!D20","v":0},{"$f":"invoer!E20","v":0},{"$f":"invoer!F20","v":0},{"$f":"invoer!G20","v":0},{"$f":"invoer!H20","v":0},{"$f":"invoer!I20","v":"R7380"},{"$f":"invoer!C21","v":0},{"$f":"invoer!D21","v":"R7380"},{"$f":"invoer!E21","v":0},{"$f":"invoer!F21","v":0},{"$f":"invoer!G21","v":0},{"$f":"invoer!H21","v":0},{"$f":"invoer!I21","v":0},{"$f":"invoer!C22","v":0},{"$f":"invoer!D22","v":0},{"$f":"invoer!E22","v":"R7380"},{"$f":"invoer!F22","v":0},{"$f":"invoer!G22","v":0},{"$f":"invoer!H22","v":0},{"$f":"invoer!I22","v":0},{"$f":"invoer!C23","v":0},{"$f":"invoer!D23","v":0},{"$f":"invoer!E23","v":0},{"$f":"invoer!F23","v":"R7380"},{"$f":"invoer!G23","v":0},{"$f":"invoer!H23","v":0},{"$f":"invoer!I23","v":0},{"$f":"invoer!C24","v":0},{"$f":"invoer!D24","v":0},{"$f":"invoer!E24","v":0},{"$f":"invoer!F24","v":0},{"$f":"invoer!G24","v":"R7380"},{"$f":"invoer!H24","v":0},{"$f":"invoer!I24","v":0},{"$f":"invoer!C25","v":0},{"$f":"invoer!D25","v":0},{"$f":"invoer!E25","v":0},{"$f":"invoer!F25","v":0},{"$f":"invoer!G25","v":0},{"$f":"invoer!H25","v":"R7380"},{"$f":"invoer!I25","v":0},{"$f":"invoer!C26","v":0},{"$f":"invoer!D26","v":0},{"$f":"invoer!E26","v":0},{"$f":"invoer!F26","v":0},{"$f":"invoer!G26","v":0},{"$f":"invoer!H26","v":0},{"$f":"invoer!I26","v":"R7380"},{"$f":"invoer!C27","v":0},{"$f":"invoer!D27","v":"R7380"},{"$f":"invoer!E27","v":0},{"$f":"invoer!F27","v":0},{"$f":"invoer!G27","v":0},{"$f":"invoer!H27","v":0},{"$f":"invoer!I27","v":0},{"$f":"invoer!C28","v":0},{"$f":"invoer!D28","v":0},{"$f":"invoer!E28","v":"R7380"},{"$f":"invoer!F28","v":0},{"$f":"invoer!G28","v":0},{"$f":"invoer!H28","v":0},{"$f":"invoer!I28","v":0},{"$f":"invoer!C29","v":0},{"$f":"invoer!D29","v":0},{"$f":"invoer!E29","v":0},{"$f":"invoer!F29","v":"R7380"},{"$f":"invoer!G29","v":0},{"$f":"invoer!H29","v":0},{"$f":"invoer!I29","v":0},{"$f":"invoer!C30","v":0},{"$f":"invoer!D30","v":0},{"$f":"invoer!E30","v":0},{"$f":"invoer!F30","v":0},{"$f":"invoer!G30","v":"R7380"},{"$f":"invoer!H30","v":0},{"$f":"invoer!I30","v":0},{"$f":"invoer!C31","v":0},{"$f":"invoer!D31","v":0},{"$f":"invoer!E31","v":0},{"$f":"invoer!F31","v":0},{"$f":"invoer!G31","v":0},{"$f":"invoer!H31","v":"R7380"},{"$f":"invoer!I31","v":0},{"$f":"invoer!C32","v":0},{"$f":"invoer!D32","v":0},{"$f":"invoer!E32","v":0},{"$f":"invoer!F32","v":0},{"$f":"invoer!G32","v":0},{"$f":"invoer!H32","v":0},{"$f":"invoer!I32","v":"R7380"},{"$f":"invoer!C33","v":0},{"$f":"invoer!D33","v":"R7380"},{"$f":"invoer!E33","v":0},{"$f":"invoer!F33","v":0},{"$f":"invoer!G33","v":0},{"$f":"invoer!H33","v":0},{"$f":"invoer!I33","v":0},{"$f":"invoer!C34","v":0},{"$f":"invoer!D34","v":0},{"$f":"invoer!E34","v":"R7380"},{"$f":"invoer!F34","v":0},{"$f":"invoer!G34","v":0},{"$f":"invoer!H34","v":0},{"$f":"invoer!I34","v":0},{"$f":"invoer!C35","v":0},{"$f":"invoer!D35","v":0},{"$f":"invoer!E35","v":0},{"$f":"invoer!F35","v":"R7380"},{"$f":"invoer!G35","v":0},{"$f":"invoer!H35","v":0},{"$f":"invoer!I35","v":0},{"$f":"invoer!C36","v":0},{"$f":"invoer!D36","v":0},{"$f":"invoer!E36","v":0},{"$f":"invoer!F36","v":0},{"$f":"invoer!G36","v":"R7380"},{"$f":"invoer!H36","v":0},{"$f":"invoer!I36","v":0},{"$f":"invoer!C37","v":0},{"$f":"invoer!D37","v":0},{"$f":"invoer!E37","v":0},{"$f":"invoer!F37","v":0},{"$f":"invoer!G37","v":0},{"$f":"invoer!H37","v":"R7380"},{"$f":"invoer!I37","v":0},{"$f":"invoer!C38","v":0},{"$f":"invoer!D38","v":0},{"$f":"invoer!E38","v":0},{"$f":"invoer!F38","v":0},{"$f":"invoer!G38","v":0},{"$f":"invoer!H38","v":0},{"$f":"invoer!I38","v":"R7380"},{"$f":"invoer!C39","v":0},{"$f":"invoer!D39","v":"R7380"},{"$f":"invoer!E39","v":0},{"$f":"invoer!F39","v":0},{"$f":"invoer!G39","v":0},{"$f":"invoer!H39","v":0},{"$f":"invoer!I39","v":0},{"$f":"invoer!C40","v":0},{"$f":"invoer!D40","v":0},{"$f":"invoer!E40","v":"R7380"},{"$f":"invoer!F40","v":0},{"$f":"invoer!G40","v":0},{"$f":"invoer!H40","v":0},{"$f":"invoer!I40","v":0},{"$f":"invoer!C41","v":0},{"$f":"invoer!D41","v":0},{"$f":"invoer!E41","v":0},{"$f":"invoer!F41","v":"R7380"},{"$f":"invoer!G41","v":0},{"$f":"invoer!H41","v":0},{"$f":"invoer!I41","v":0},{"$f":"invoer!C42","v":0},{"$f":"invoer!D42","v":0},{"$f":"invoer!E42","v":0},{"$f":"invoer!F42","v":0},{"$f":"invoer!G42","v":"R7380"},{"$f":"invoer!H42","v":0},{"$f":"invoer!I42","v":0},{"$f":"invoer!C43","v":0},{"$f":"invoer!D43","v":0},{"$f":"invoer!E43","v":0},{"$f":"invoer!F43","v":0},{"$f":"invoer!G43","v":0},{"$f":"invoer!H43","v":"R7380"},{"$f":"invoer!I43","v":0},{"$f":"invoer!C44","v":0},{"$f":"invoer!D44","v":0},{"$f":"invoer!E44","v":0},{"$f":"invoer!F44","v":0},{"$f":"invoer!G44","v":0},{"$f":"invoer!H44","v":0},{"$f":"invoer!I44","v":"R7380"},{"$f":"invoer!C45","v":0},{"$f":"invoer!D45","v":"R7380"},{"$f":"invoer!E45","v":0},{"$f":"invoer!F45","v":0},{"$f":"invoer!G45","v":0},{"$f":"invoer!H45","v":0},{"$f":"invoer!I45","v":0},{"$f":"invoer!C46","v":0},{"$f":"invoer!D46","v":0},{"$f":"invoer!E46","v":"R7380"},{"$f":"invoer!F46","v":0},{"$f":"invoer!G46","v":0},{"$f":"invoer!H46","v":0},{"$f":"invoer!I46","v":0},{"$f":"invoer!C47","v":0},{"$f":"invoer!D47","v":0},{"$f":"invoer!E47","v":0},{"$f":"invoer!F47","v":"R7380"},{"$f":"invoer!G47","v":0},{"$f":"invoer!H47","v":0},{"$f":"invoer!I47","v":0},{"$f":"invoer!C48","v":0},{"$f":"invoer!D48","v":0},{"$f":"invoer!E48","v":0},{"$f":"invoer!F48","v":0},{"$f":"invoer!G48","v":"R7380"},{"$f":"invoer!H48","v":0},{"$f":"invoer!I48","v":0},{"$f":"invoer!C49","v":0},{"$f":"invoer!D49","v":0},{"$f":"invoer!E49","v":0},{"$f":"invoer!F49","v":0},{"$f":"invoer!G49","v":0},{"$f":"invoer!H49","v":"R7380"},{"$f":"invoer!I49","v":0},{"$f":"invoer!C50","v":0},{"$f":"invoer!D50","v":0},{"$f":"invoer!E50","v":0},{"$f":"invoer!F50","v":0},{"$f":"invoer!G50","v":0},{"$f":"invoer!H50","v":0},{"$f":"invoer!I50","v":"R7380"},{"$f":"invoer!C51","v":0},{"$f":"invoer!D51","v":"R7380"},{"$f":"invoer!E51","v":0},{"$f":"invoer!F51","v":0},{"$f":"invoer!G51","v":0},{"$f":"invoer!H51","v":0},{"$f":"invoer!I51","v":0},{"$f":"invoer!C52","v":0},{"$f":"invoer!D52","v":0},{"$f":"invoer!E52","v":"R7380"},{"$f":"invoer!F52","v":0},{"$f":"invoer!G52","v":0},{"$f":"invoer!H52","v":0},{"$f":"invoer!I52","v":0},{"$f":"invoer!C53","v":0},{"$f":"invoer!D53","v":0},{"$f":"invoer!E53","v":0},{"$f":"invoer!F53","v":"R7380"},{"$f":"invoer!G53","v":0},{"$f":"invoer!H53","v":0},{"$f":"invoer!I53","v":0},{"$f":"invoer!C54","v":0},{"$f":"invoer!D54","v":0},{"$f":"invoer!E54","v":0},{"$f":"invoer!F54","v":0},{"$f":"invoer!G54","v":"R7380"},{"$f":"invoer!H54","v":0},{"$f":"invoer!I54","v":0},{"$f":"invoer!C55","v":0},{"$f":"invoer!D55","v":0},{"$f":"invoer!E55","v":0},{"$f":"invoer!F55","v":0},{"$f":"invoer!G55","v":0},{"$f":"invoer!H55","v":"R7380"},{"$f":"invoer!I55","v":0},{"$f":"+invoer!C56","v":0},{"$f":"+invoer!D56","v":0},{"$f":"+invoer!E56","v":0},{"$f":"+invoer!F56","v":0},{"$f":"+invoer!G56","v":0},{"$f":"+invoer!H56","v":0},{"$f":"+invoer!I56","v":"R7380"},{"$f":"invoer!C57","v":0},{"$f":"invoer!D57","v":"R7380"},{"$f":"invoer!E57","v":0},{"$f":"invoer!F57","v":0},{"$f":"invoer!G57","v":0},{"$f":"invoer!H57","v":0},{"$f":"invoer!I57","v":0},{"$f":"invoer!C58","v":0},{"$f":"invoer!D58","v":0},{"$f":"invoer!E58","v":"R7380"},{"$f":"invoer!F58","v":0},{"$f":"invoer!G58","v":0},{"$f":"invoer!H58","v":0},{"$f":"invoer!I58","v":0},{"$f":"invoer!C3","v":"G"},{"$f":"invoer!D3","v":"R7380"},{"$f":"invoer!E3","v":"L"},{"$f":"invoer!F3","v":0},{"$f":"invoer!G3","v":0},{"$f":"invoer!H3","v":0},{"$f":"invoer!I3","v":0},{"$f":"invoer!C4","v":0},{"$f":"invoer!D4","v":0},{"$f":"invoer!E4","v":"R7380"},{"$f":"invoer!F4","v":0},{"$f":"invoer!G4","v":0},{"$f":"invoer!H4","v":0},{"$f":"invoer!I4","v":0},{"$f":"invoer!C5","v":0},{"$f":"invoer!D5","v":0},{"$f":"invoer!E5","v":0},{"$f":"invoer!F5","v":"R7380"},{"$f":"invoer!G5","v":0},{"$f":"invoer!H5","v":0},{"$f":"invoer!I5","v":0},{"$f":"invoer!C6","v":0},{"$f":"invoer!D6","v":0},{"$f":"invoer!E6","v":0},{"$f":"invoer!F6","v":0},{"$f":"invoer!G6","v":"R7380"},{"$f":"invoer!H6","v":0},{"$f":"invoer!I6","v":0},{"$f":"invoer!C7","v":0},{"$f":"invoer!D7","v":0},{"$f":"invoer!E7","v":0},{"$f":"invoer!F7","v":0},{"$f":"invoer!G7","v":0},{"$f":"invoer!H7","v":"R7380"},{"$f":"invoer!I7","v":0},{"$f":"invoer!C8","v":0},{"$f":"invoer!D8","v":0},{"$f":"invoer!E8","v":0},{"$f":"invoer!F8","v":0},{"$f":"invoer!G8","v":0},{"$f":"invoer!H8","v":0},{"$f":"invoer!I8","v":"R7380"},{"$f":"invoer!C9","v":0},{"$f":"invoer!D9","v":"R7380"},{"$f":"invoer!E9","v":0},{"$f":"invoer!F9","v":0},{"$f":"invoer!G9","v":0},{"$f":"invoer!H9","v":0},{"$f":"invoer!I9","v":0},{"$f":"invoer!C10","v":0},{"$f":"invoer!D10","v":0},{"$f":"invoer!E10","v":"R7380"},{"$f":"invoer!F10","v":0},{"$f":"invoer!G10","v":0},{"$f":"invoer!H10","v":0},{"$f":"invoer!I10","v":0},{"$f":"invoer!C11","v":0},{"$f":"invoer!D11","v":0},{"$f":"invoer!E11","v":0},{"$f":"invoer!F11","v":"R7380"},{"$f":"invoer!G11","v":0},{"$f":"invoer!H11","v":0},{"$f":"invoer!I11","v":0},{"$f":"invoer!C12","v":0},{"$f":"invoer!D12","v":0},{"$f":"invoer!E12","v":0}]
[null,null,{"$f":"invoer!$C14","v":0},{"$f":"invoer!D14","v":0},{"$f":"invoer!E14","v":0},{"$f":"invoer!F14","v":0},{"$f":"invoer!G14","v":0},{"$f":"invoer!H14","v":0},{"$f":"invoer!I14","v":"R7380"},{"$f":"invoer!C15","v":0},{"$f":"invoer!D15","v":"R7380"},{"$f":"invoer!E15","v":0},{"$f":"invoer!F15","v":0},{"$f":"invoer!G15","v":0},{"$f":"invoer!H15","v":0},{"$f":"invoer!I15","v":0},{"$f":"invoer!C16","v":0},{"$f":"invoer!D16","v":0},{"$f":"invoer!E16","v":"R7380"},{"$f":"invoer!F16","v":0},{"$f":"invoer!G16","v":0},{"$f":"invoer!H16","v":0},{"$f":"invoer!I16","v":0},{"$f":"invoer!C17","v":0},{"$f":"invoer!D17","v":0},{"$f":"invoer!E17","v":0},{"$f":"invoer!F17","v":"R7380"},{"$f":"invoer!G17","v":0},{"$f":"invoer!H17","v":0},{"$f":"invoer!I17","v":0},{"$f":"invoer!C18","v":0},{"$f":"invoer!D18","v":0},{"$f":"invoer!E18","v":0},{"$f":"invoer!F18","v":0},{"$f":"invoer!G18","v":"R7380"},{"$f":"invoer!H18","v":0},{"$f":"invoer!I18","v":0},{"$f":"invoer!C19","v":0},{"$f":"invoer!D19","v":0},{"$f":"invoer!E19","v":0},{"$f":"invoer!F19","v":0},{"$f":"invoer!G19","v":0},{"$f":"invoer!H19","v":"R7380"},{"$f":"invoer!I19","v":0},{"$f":"invoer!C20","v":0},{"$f":"invoer!D20","v":0},{"$f":"invoer!E20","v":0},{"$f":"invoer!F20","v":0},{"$f":"invoer!G20","v":0},{"$f":"invoer!H20","v":0},{"$f":"invoer!I20","v":"R7380"},{"$f":"invoer!C21","v":0},{"$f":"invoer!D21","v":"R7380"},{"$f":"invoer!E21","v":0},{"$f":"invoer!F21","v":0},{"$f":"invoer!G21","v":0},{"$f":"invoer!H21","v":0},{"$f":"invoer!I21","v":0},{"$f":"invoer!C22","v":0},{"$f":"invoer!D22","v":0},{"$f":"invoer!E22","v":"R7380"},{"$f":"invoer!F22","v":0},{"$f":"invoer!G22","v":0},{"$f":"invoer!H22","v":0},{"$f":"invoer!I22","v":0},{"$f":"invoer!C23","v":0},{"$f":"invoer!D23","v":0},{"$f":"invoer!E23","v":0},{"$f":"invoer!F23","v":"R7380"},{"$f":"invoer!G23","v":0},{"$f":"invoer!H23","v":0},{"$f":"invoer!I23","v":0},{"$f":"invoer!C24","v":0},{"$f":"invoer!D24","v":0},{"$f":"invoer!E24","v":0},{"$f":"invoer!F24","v":0},{"$f":"invoer!G24","v":"R7380"},{"$f":"invoer!H24","v":0},{"$f":"invoer!I24","v":0},{"$f":"invoer!C25","v":0},{"$f":"invoer!D25","v":0},{"$f":"invoer!E25","v":0},{"$f":"invoer!F25","v":0},{"$f":"invoer!G25","v":0},{"$f":"invoer!H25","v":"R7380"},{"$f":"invoer!I25","v":0},{"$f":"invoer!C26","v":0},{"$f":"invoer!D26","v":0},{"$f":"invoer!E26","v":0},{"$f":"invoer!F26","v":0},{"$f":"invoer!G26","v":0},{"$f":"invoer!H26","v":0},{"$f":"invoer!I26","v":"R7380"},{"$f":"invoer!C27","v":0},{"$f":"invoer!D27","v":"R7380"},{"$f":"invoer!E27","v":0},{"$f":"invoer!F27","v":0},{"$f":"invoer!G27","v":0},{"$f":"invoer!H27","v":0},{"$f":"invoer!I27","v":0},{"$f":"invoer!C28","v":0},{"$f":"invoer!D28","v":0},{"$f":"invoer!E28","v":"R7380"},{"$f":"invoer!F28","v":0},{"$f":"invoer!G28","v":0},{"$f":"invoer!H28","v":0},{"$f":"invoer!I28","v":0},{"$f":"invoer!C29","v":0},{"$f":"invoer!D29","v":0},{"$f":"invoer!E29","v":0},{"$f":"invoer!F29","v":"R7380"},{"$f":"invoer!G29","v":0},{"$f":"invoer!H29","v":0},{"$f":"invoer!I29","v":0},{"$f":"invoer!C30","v":0},{"$f":"invoer!D30","v":0},{"$f":"invoer!E30","v":0},{"$f":"invoer!F30","v":0},{"$f":"invoer!G30","v":"R7380"},{"$f":"invoer!H30","v":0},{"$f":"invoer!I30","v":0},{"$f":"invoer!C31","v":0},{"$f":"invoer!D31","v":0},{"$f":"invoer!E31","v":0},{"$f":"invoer!F31","v":0},{"$f":"invoer!G31","v":0},{"$f":"invoer!H31","v":"R7380"},{"$f":"invoer!I31","v":0},{"$f":"invoer!C32","v":0},{"$f":"invoer!D32","v":0},{"$f":"invoer!E32","v":0},{"$f":"invoer!F32","v":0},{"$f":"invoer!G32","v":0},{"$f":"invoer!H32","v":0},{"$f":"invoer!I32","v":"R7380"},{"$f":"invoer!C33","v":0},{"$f":"invoer!D33","v":"R7380"},{"$f":"invoer!E33","v":0},{"$f":"invoer!F33","v":0},{"$f":"invoer!G33","v":0},{"$f":"invoer!H33","v":0},{"$f":"invoer!I33","v":0},{"$f":"invoer!C34","v":0},{"$f":"invoer!D34","v":0},{"$f":"invoer!E34","v":"R7380"},{"$f":"invoer!F34","v":0},{"$f":"invoer!G34","v":0},{"$f":"invoer!H34","v":0},{"$f":"invoer!I34","v":0},{"$f":"invoer!C35","v":0},{"$f":"invoer!D35","v":0},{"$f":"invoer!E35","v":0},{"$f":"invoer!F35","v":"R7380"},{"$f":"invoer!G35","v":0},{"$f":"invoer!H35","v":0},{"$f":"invoer!I35","v":0},{"$f":"invoer!C36","v":0},{"$f":"invoer!D36","v":0},{"$f":"invoer!E36","v":0},{"$f":"invoer!F36","v":0},{"$f":"invoer!G36","v":"R7380"},{"$f":"invoer!H36","v":0},{"$f":"invoer!I36","v":0},{"$f":"invoer!C37","v":0},{"$f":"invoer!D37","v":0},{"$f":"invoer!E37","v":0},{"$f":"invoer!F37","v":0},{"$f":"invoer!G37","v":0},{"$f":"invoer!H37","v":"R7380"},{"$f":"invoer!I37","v":0},{"$f":"invoer!C38","v":0},{"$f":"invoer!D38","v":0},{"$f":"invoer!E38","v":0},{"$f":"invoer!F38","v":0},{"$f":"invoer!G38","v":0},{"$f":"invoer!H38","v":0},{"$f":"invoer!I38","v":"R7380"},{"$f":"invoer!C39","v":0},{"$f":"invoer!D39","v":"R7380"},{"$f":"invoer!E39","v":0},{"$f":"invoer!F39","v":0},{"$f":"invoer!G39","v":0},{"$f":"invoer!H39","v":0},{"$f":"invoer!I39","v":0},{"$f":"invoer!C40","v":0},{"$f":"invoer!D40","v":0},{"$f":"invoer!E40","v":"R7380"},{"$f":"invoer!F40","v":0},{"$f":"invoer!G40","v":0},{"$f":"invoer!H40","v":0},{"$f":"invoer!I40","v":0},{"$f":"invoer!C41","v":0},{"$f":"invoer!D41","v":0},{"$f":"invoer!E41","v":0},{"$f":"invoer!F41","v":"R7380"},{"$f":"invoer!G41","v":0},{"$f":"invoer!H41","v":0},{"$f":"invoer!I41","v":0},{"$f":"invoer!C42","v":0},{"$f":"invoer!D42","v":0},{"$f":"invoer!E42","v":0},{"$f":"invoer!F42","v":0},{"$f":"invoer!G42","v":"R7380"},{"$f":"invoer!H42","v":0},{"$f":"invoer!I42","v":0},{"$f":"invoer!C43","v":0},{"$f":"invoer!D43","v":0},{"$f":"invoer!E43","v":0},{"$f":"invoer!F43","v":0},{"$f":"invoer!G43","v":0},{"$f":"invoer!H43","v":"R7380"},{"$f":"invoer!I43","v":0},{"$f":"invoer!C44","v":0},{"$f":"invoer!D44","v":0},{"$f":"invoer!E44","v":0},{"$f":"invoer!F44","v":0},{"$f":"invoer!G44","v":0},{"$f":"invoer!H44","v":0},{"$f":"invoer!I44","v":"R7380"},{"$f":"invoer!C45","v":0},{"$f":"invoer!D45","v":"R7380"},{"$f":"invoer!E45","v":0},{"$f":"invoer!F45","v":0},{"$f":"invoer!G45","v":0},{"$f":"invoer!H45","v":0},{"$f":"invoer!I45","v":0},{"$f":"invoer!C46","v":0},{"$f":"invoer!D46","v":0},{"$f":"invoer!E46","v":"R7380"},{"$f":"invoer!F46","v":0},{"$f":"invoer!G46","v":0},{"$f":"invoer!H46","v":0},{"$f":"invoer!I46","v":0},{"$f":"invoer!C47","v":0},{"$f":"invoer!D47","v":0},{"$f":"invoer!E47","v":0},{"$f":"invoer!F47","v":"R7380"},{"$f":"invoer!G47","v":0},{"$f":"invoer!H47","v":0},{"$f":"invoer!I47","v":0},{"$f":"invoer!C48","v":0},{"$f":"invoer!D48","v":0},{"$f":"invoer!E48","v":0},{"$f":"invoer!F48","v":0},{"$f":"invoer!G48","v":"R7380"},{"$f":"invoer!H48","v":0},{"$f":"invoer!I48","v":0},{"$f":"invoer!C49","v":0},{"$f":"invoer!D49","v":0},{"$f":"invoer!E49","v":0},{"$f":"invoer!F49","v":0},{"$f":"invoer!G49","v":0},{"$f":"invoer!H49","v":"R7380"},{"$f":"invoer!I49","v":0},{"$f":"invoer!C50","v":0},{"$f":"invoer!D50","v":0},{"$f":"invoer!E50","v":0},{"$f":"invoer!F50","v":0},{"$f":"invoer!G50","v":0},{"$f":"invoer!H50","v":0},{"$f":"invoer!I50","v":"R7380"},{"$f":"invoer!C51","v":0},{"$f":"invoer!D51","v":"R7380"},{"$f":"invoer!E51","v":0},{"$f":"invoer!F51","v":0},{"$f":"invoer!G51","v":0},{"$f":"invoer!H51","v":0},{"$f":"invoer!I51","v":0},{"$f":"invoer!C52","v":0},{"$f":"invoer!D52","v":0},{"$f":"invoer!E52","v":"R7380"},{"$f":"invoer!F52","v":0},{"$f":"invoer!G52","v":0},{"$f":"invoer!H52","v":0},{"$f":"invoer!I52","v":0},{"$f":"invoer!C53","v":0},{"$f":"invoer!D53","v":0},{"$f":"invoer!E53","v":0},{"$f":"invoer!F53","v":"R7380"},{"$f":"invoer!G53","v":0},{"$f":"invoer!H53","v":0},{"$f":"invoer!I53","v":0},{"$f":"invoer!C54","v":0},{"$f":"invoer!D54","v":0},{"$f":"invoer!E54","v":0},{"$f":"invoer!F54","v":0},{"$f":"invoer!G54","v":"R7380"},{"$f":"invoer!H54","v":0},{"$f":"invoer!I54","v":0},{"$f":"invoer!C55","v":0},{"$f":"invoer!D55","v":0},{"$f":"invoer!E55","v":0},{"$f":"invoer!F55","v":0},{"$f":"invoer!G55","v":0},{"$f":"invoer!H55","v":"R7380"},{"$f":"invoer!I55","v":0},{"$f":"invoer!C56","v":0},{"$f":"invoer!D56","v":0},{"$f":"invoer!E56","v":0},{"$f":"invoer!F56","v":0},{"$f":"invoer!G56","v":0},{"$f":"invoer!H56","v":0},{"$f":"invoer!I56","v":"R7380"},{"$f":"+invoer!C57","v":0},{"$f":"+invoer!D57","v":"R7380"},{"$f":"+invoer!E57","v":0},{"$f":"+invoer!F57","v":0},{"$f":"+invoer!G57","v":0},{"$f":"+invoer!H57","v":0},{"$f":"+invoer!I57","v":0},{"$f":"invoer!C58","v":0},{"$f":"invoer!D58","v":0},{"$f":"invoer!E58","v":"R7380"},{"$f":"invoer!F58","v":0},{"$f":"invoer!G58","v":0},{"$f":"invoer!H58","v":0},{"$f":"invoer!I58","v":0},{"$f":"invoer!C3","v":"G"},{"$f":"invoer!D3","v":"R7380"},{"$f":"invoer!E3","v":"L"},{"$f":"invoer!F3","v":0},{"$f":"invoer!G3","v":0},{"$f":"invoer!H3","v":0},{"$f":"invoer!I3","v":0},{"$f":"invoer!C4","v":0},{"$f":"invoer!D4","v":0},{"$f":"invoer!E4","v":"R7380"},{"$f":"invoer!F4","v":0},{"$f":"invoer!G4","v":0},{"$f":"invoer!H4","v":0},{"$f":"invoer!I4","v":0},{"$f":"invoer!C5","v":0},{"$f":"invoer!D5","v":0},{"$f":"invoer!E5","v":0},{"$f":"invoer!F5","v":"R7380"},{"$f":"invoer!G5","v":0},{"$f":"invoer!H5","v":0},{"$f":"invoer!I5","v":0},{"$f":"invoer!C6","v":0},{"$f":"invoer!D6","v":0},{"$f":"invoer!E6","v":0},{"$f":"invoer!F6","v":0},{"$f":"invoer!G6","v":"R7380"},{"$f":"invoer!H6","v":0},{"$f":"invoer!I6","v":0},{"$f":"invoer!C7","v":0},{"$f":"invoer!D7","v":0},{"$f":"invoer!E7","v":0},{"$f":"invoer!F7","v":0},{"$f":"invoer!G7","v":0},{"$f":"invoer!H7","v":"R7380"},{"$f":"invoer!I7","v":0},{"$f":"invoer!C8","v":0},{"$f":"invoer!D8","v":0},{"$f":"invoer!E8","v":0},{"$f":"invoer!F8","v":0},{"$f":"invoer!G8","v":0},{"$f":"invoer!H8","v":0},{"$f":"invoer!I8","v":"R7380"},{"$f":"invoer!C9","v":0},{"$f":"invoer!D9","v":"R7380"},{"$f":"invoer!E9","v":0},{"$f":"invoer!F9","v":0},{"$f":"invoer!G9","v":0},{"$f":"invoer!H9","v":0},{"$f":"invoer!I9","v":0},{"$f":"invoer!C10","v":0},{"$f":"invoer!D10","v":0},{"$f":"invoer!E10","v":"R7380"},{"$f":"invoer!F10","v":0},{"$f":"invoer!G10","v":0},{"$f":"invoer!H10","v":0},{"$f":"invoer!I10","v":0},{"$f":"invoer!C11","v":0},{"$f":"invoer!D11","v":0},{"$f":"invoer!E11","v":0},{"$f":"invoer!F11","v":"R7380"},{"$f":"invoer!G11","v":0},{"$f":"invoer!H11","v":0},{"$f":"invoer!I11","v":0},{"$f":"invoer!C12","v":0},{"$f":"invoer!D12","v":0},{"$f":"invoer!E12","v":0},{"$f":"invoer!F12","v":0},{"$f":"invoer!G12","v":"R7380"},{"$f":"invoer!H12","v":0},{"$f":"invoer!I12","v":0},{"$f":"invoer!C13","v":0},{"$f":"invoer!D13","v":0},{"$f":"invoer!E13","v":0}]
[null,null,{"$f":"invoer!$C15","v":0},{"$f":"invoer!D15","v":"R7380"},{"$f":"invoer!E15","v":0},{"$f":"invoer!F15","v":0},{"$f":"invoer!G15","v":0},{"$f":"invoer!H15","v":0},{"$f":"invoer!I15","v":0},{"$f":"invoer!C16","v":0},{"$f":"invoer!D16","v":0},{"$f":"invoer!E16","v":"R7380"},{"$f":"invoer!F16","v":0},{"$f":"invoer!G16","v":0},{"$f":"invoer!H16","v":0},{"$f":"invoer!I16","v":0},{"$f":"invoer!C17","v":0},{"$f":"invoer!D17","v":0},{"$f":"invoer!E17","v":0},{"$f":"invoer!F17","v":"R7380"},{"$f":"invoer!G17","v":0},{"$f":"invoer!H17","v":0},{"$f":"invoer!I17","v":0},{"$f":"invoer!C18","v":0},{"$f":"invoer!D18","v":0},{"$f":"invoer!E18","v":0},{"$f":"invoer!F18","v":0},{"$f":"invoer!G18","v":"R7380"},{"$f":"invoer!H18","v":0},{"$f":"invoer!I18","v":0},{"$f":"invoer!C19","v":0},{"$f":"invoer!D19","v":0},{"$f":"invoer!E19","v":0},{"$f":"invoer!F19","v":0},{"$f":"invoer!G19","v":0},{"$f":"invoer!H19","v":"R7380"},{"$f":"invoer!I19","v":0},{"$f":"invoer!C20","v":0},{"$f":"invoer!D20","v":0},{"$f":"invoer!E20","v":0},{"$f":"invoer!F20","v":0},{"$f":"invoer!G20","v":0},{"$f":"invoer!H20","v":0},{"$f":"invoer!I20","v":"R7380"},{"$f":"invoer!C21","v":0},{"$f":"invoer!D21","v":"R7380"},{"$f":"invoer!E21","v":0},{"$f":"invoer!F21","v":0},{"$f":"invoer!G21","v":0},{"$f":"invoer!H21","v":0},{"$f":"invoer!I21","v":0},{"$f":"invoer!C22","v":0},{"$f":"invoer!D22","v":0},{"$f":"invoer!E22","v":"R7380"},{"$f":"invoer!F22","v":0},{"$f":"invoer!G22","v":0},{"$f":"invoer!H22","v":0},{"$f":"invoer!I22","v":0},{"$f":"invoer!C23","v":0},{"$f":"invoer!D23","v":0},{"$f":"invoer!E23","v":0},{"$f":"invoer!F23","v":"R7380"},{"$f":"invoer!G23","v":0},{"$f":"invoer!H23","v":0},{"$f":"invoer!I23","v":0},{"$f":"invoer!C24","v":0},{"$f":"invoer!D24","v":0},{"$f":"invoer!E24","v":0},{"$f":"invoer!F24","v":0},{"$f":"invoer!G24","v":"R7380"},{"$f":"invoer!H24","v":0},{"$f":"invoer!I24","v":0},{"$f":"invoer!C25","v":0},{"$f":"invoer!D25","v":0},{"$f":"invoer!E25","v":0},{"$f":"invoer!F25","v":0},{"$f":"invoer!G25","v":0},{"$f":"invoer!H25","v":"R7380"},{"$f":"invoer!I25","v":0},{"$f":"invoer!C26","v":0},{"$f":"invoer!D26","v":0},{"$f":"invoer!E26","v":0},{"$f":"invoer!F26","v":0},{"$f":"invoer!G26","v":0},{"$f":"invoer!H26","v":0},{"$f":"invoer!I26","v":"R7380"},{"$f":"invoer!C27","v":0},{"$f":"invoer!D27","v":"R7380"},{"$f":"invoer!E27","v":0},{"$f":"invoer!F27","v":0},{"$f":"invoer!G27","v":0},{"$f":"invoer!H27","v":0},{"$f":"invoer!I27","v":0},{"$f":"invoer!C28","v":0},{"$f":"invoer!D28","v":0},{"$f":"invoer!E28","v":"R7380"},{"$f":"invoer!F28","v":0},{"$f":"invoer!G28","v":0},{"$f":"invoer!H28","v":0},{"$f":"invoer!I28","v":0},{"$f":"invoer!C29","v":0},{"$f":"invoer!D29","v":0},{"$f":"invoer!E29","v":0},{"$f":"invoer!F29","v":"R7380"},{"$f":"invoer!G29","v":0},{"$f":"invoer!H29","v":0},{"$f":"invoer!I29","v":0},{"$f":"invoer!C30","v":0},{"$f":"invoer!D30","v":0},{"$f":"invoer!E30","v":0},{"$f":"invoer!F30","v":0},{"$f":"invoer!G30","v":"R7380"},{"$f":"invoer!H30","v":0},{"$f":"invoer!I30","v":0},{"$f":"invoer!C31","v":0},{"$f":"invoer!D31","v":0},{"$f":"invoer!E31","v":0},{"$f":"invoer!F31","v":0},{"$f":"invoer!G31","v":0},{"$f":"invoer!H31","v":"R7380"},{"$f":"invoer!I31","v":0},{"$f":"invoer!C32","v":0},{"$f":"invoer!D32","v":0},{"$f":"invoer!E32","v":0},{"$f":"invoer!F32","v":0},{"$f":"invoer!G32","v":0},{"$f":"invoer!H32","v":0},{"$f":"invoer!I32","v":"R7380"},{"$f":"invoer!C33","v":0},{"$f":"invoer!D33","v":"R7380"},{"$f":"invoer!E33","v":0},{"$f":"invoer!F33","v":0},{"$f":"invoer!G33","v":0},{"$f":"invoer!H33","v":0},{"$f":"invoer!I33","v":0},{"$f":"invoer!C34","v":0},{"$f":"invoer!D34","v":0},{"$f":"invoer!E34","v":"R7380"},{"$f":"invoer!F34","v":0},{"$f":"invoer!G34","v":0},{"$f":"invoer!H34","v":0},{"$f":"invoer!I34","v":0},{"$f":"invoer!C35","v":0},{"$f":"invoer!D35","v":0},{"$f":"invoer!E35","v":0},{"$f":"invoer!F35","v":"R7380"},{"$f":"invoer!G35","v":0},{"$f":"invoer!H35","v":0},{"$f":"invoer!I35","v":0},{"$f":"invoer!C36","v":0},{"$f":"invoer!D36","v":0},{"$f":"invoer!E36","v":0},{"$f":"invoer!F36","v":0},{"$f":"invoer!G36","v":"R7380"},{"$f":"invoer!H36","v":0},{"$f":"invoer!I36","v":0},{"$f":"invoer!C37","v":0},{"$f":"invoer!D37","v":0},{"$f":"invoer!E37","v":0},{"$f":"invoer!F37","v":0},{"$f":"invoer!G37","v":0},{"$f":"invoer!H37","v":"R7380"},{"$f":"invoer!I37","v":0},{"$f":"invoer!C38","v":0},{"$f":"invoer!D38","v":0},{"$f":"invoer!E38","v":0},{"$f":"invoer!F38","v":0},{"$f":"invoer!G38","v":0},{"$f":"invoer!H38","v":0},{"$f":"invoer!I38","v":"R7380"},{"$f":"invoer!C39","v":0},{"$f":"invoer!D39","v":"R7380"},{"$f":"invoer!E39","v":0},{"$f":"invoer!F39","v":0},{"$f":"invoer!G39","v":0},{"$f":"invoer!H39","v":0},{"$f":"invoer!I39","v":0},{"$f":"invoer!C40","v":0},{"$f":"invoer!D40","v":0},{"$f":"invoer!E40","v":"R7380"},{"$f":"invoer!F40","v":0},{"$f":"invoer!G40","v":0},{"$f":"invoer!H40","v":0},{"$f":"invoer!I40","v":0},{"$f":"invoer!C41","v":0},{"$f":"invoer!D41","v":0},{"$f":"invoer!E41","v":0},{"$f":"invoer!F41","v":"R7380"},{"$f":"invoer!G41","v":0},{"$f":"invoer!H41","v":0},{"$f":"invoer!I41","v":0},{"$f":"invoer!C42","v":0},{"$f":"invoer!D42","v":0},{"$f":"invoer!E42","v":0},{"$f":"invoer!F42","v":0},{"$f":"invoer!G42","v":"R7380"},{"$f":"invoer!H42","v":0},{"$f":"invoer!I42","v":0},{"$f":"invoer!C43","v":0},{"$f":"invoer!D43","v":0},{"$f":"invoer!E43","v":0},{"$f":"invoer!F43","v":0},{"$f":"invoer!G43","v":0},{"$f":"invoer!H43","v":"R7380"},{"$f":"invoer!I43","v":0},{"$f":"invoer!C44","v":0},{"$f":"invoer!D44","v":0},{"$f":"invoer!E44","v":0},{"$f":"invoer!F44","v":0},{"$f":"invoer!G44","v":0},{"$f":"invoer!H44","v":0},{"$f":"invoer!I44","v":"R7380"},{"$f":"invoer!C45","v":0},{"$f":"invoer!D45","v":"R7380"},{"$f":"invoer!E45","v":0},{"$f":"invoer!F45","v":0},{"$f":"invoer!G45","v":0},{"$f":"invoer!H45","v":0},{"$f":"invoer!I45","v":0},{"$f":"invoer!C46","v":0},{"$f":"invoer!D46","v":0},{"$f":"invoer!E46","v":"R7380"},{"$f":"invoer!F46","v":0},{"$f":"invoer!G46","v":0},{"$f":"invoer!H46","v":0},{"$f":"invoer!I46","v":0},{"$f":"invoer!C47","v":0},{"$f":"invoer!D47","v":0},{"$f":"invoer!E47","v":0},{"$f":"invoer!F47","v":"R7380"},{"$f":"invoer!G47","v":0},{"$f":"invoer!H47","v":0},{"$f":"invoer!I47","v":0},{"$f":"invoer!C48","v":0},{"$f":"invoer!D48","v":0},{"$f":"invoer!E48","v":0},{"$f":"invoer!F48","v":0},{"$f":"invoer!G48","v":"R7380"},{"$f":"invoer!H48","v":0},{"$f":"invoer!I48","v":0},{"$f":"invoer!C49","v":0},{"$f":"invoer!D49","v":0},{"$f":"invoer!E49","v":0},{"$f":"invoer!F49","v":0},{"$f":"invoer!G49","v":0},{"$f":"invoer!H49","v":"R7380"},{"$f":"invoer!I49","v":0},{"$f":"invoer!C50","v":0},{"$f":"invoer!D50","v":0},{"$f":"invoer!E50","v":0},{"$f":"invoer!F50","v":0},{"$f":"invoer!G50","v":0},{"$f":"invoer!H50","v":0},{"$f":"invoer!I50","v":"R7380"},{"$f":"invoer!C51","v":0},{"$f":"invoer!D51","v":"R7380"},{"$f":"invoer!E51","v":0},{"$f":"invoer!F51","v":0},{"$f":"invoer!G51","v":0},{"$f":"invoer!H51","v":0},{"$f":"invoer!I51","v":0},{"$f":"invoer!C52","v":0},{"$f":"invoer!D52","v":0},{"$f":"invoer!E52","v":"R7380"},{"$f":"invoer!F52","v":0},{"$f":"invoer!G52","v":0},{"$f":"invoer!H52","v":0},{"$f":"invoer!I52","v":0},{"$f":"invoer!C53","v":0},{"$f":"invoer!D53","v":0},{"$f":"invoer!E53","v":0},{"$f":"invoer!F53","v":"R7380"},{"$f":"invoer!G53","v":0},{"$f":"invoer!H53","v":0},{"$f":"invoer!I53","v":0},{"$f":"invoer!C54","v":0},{"$f":"invoer!D54","v":0},{"$f":"invoer!E54","v":0},{"$f":"invoer!F54","v":0},{"$f":"invoer!G54","v":"R7380"},{"$f":"invoer!H54","v":0},{"$f":"invoer!I54","v":0},{"$f":"invoer!C55","v":0},{"$f":"invoer!D55","v":0},{"$f":"invoer!E55","v":0},{"$f":"invoer!F55","v":0},{"$f":"invoer!G55","v":0},{"$f":"invoer!H55","v":"R7380"},{"$f":"invoer!I55","v":0},{"$f":"invoer!C56","v":0},{"$f":"invoer!D56","v":0},{"$f":"invoer!E56","v":0},{"$f":"invoer!F56","v":0},{"$f":"invoer!G56","v":0},{"$f":"invoer!H56","v":0},{"$f":"invoer!I56","v":"R7380"},{"$f":"invoer!C57","v":0},{"$f":"invoer!D57","v":"R7380"},{"$f":"invoer!E57","v":0},{"$f":"invoer!F57","v":0},{"$f":"invoer!G57","v":0},{"$f":"invoer!H57","v":0},{"$f":"invoer!I57","v":0},{"$f":"+invoer!C58","v":0},{"$f":"+invoer!D58","v":0},{"$f":"+invoer!E58","v":"R7380"},{"$f":"+invoer!F58","v":0},{"$f":"+invoer!G58","v":0},{"$f":"+invoer!H58","v":0},{"$f":"+invoer!I58","v":0},{"$f":"invoer!C3","v":"G"},{"$f":"invoer!D3","v":"R7380"},{"$f":"invoer!E3","v":"L"},{"$f":"invoer!F3","v":0},{"$f":"invoer!G3","v":0},{"$f":"invoer!H3","v":0},{"$f":"invoer!I3","v":0},{"$f":"invoer!C4","v":0},{"$f":"invoer!D4","v":0},{"$f":"invoer!E4","v":"R7380"},{"$f":"invoer!F4","v":0},{"$f":"invoer!G4","v":0},{"$f":"invoer!H4","v":0},{"$f":"invoer!I4","v":0},{"$f":"invoer!C5","v":0},{"$f":"invoer!D5","v":0},{"$f":"invoer!E5","v":0},{"$f":"invoer!F5","v":"R7380"},{"$f":"invoer!G5","v":0},{"$f":"invoer!H5","v":0},{"$f":"invoer!I5","v":0},{"$f":"invoer!C6","v":0},{"$f":"invoer!D6","v":0},{"$f":"invoer!E6","v":0},{"$f":"invoer!F6","v":0},{"$f":"invoer!G6","v":"R7380"},{"$f":"invoer!H6","v":0},{"$f":"invoer!I6","v":0},{"$f":"invoer!C7","v":0},{"$f":"invoer!D7","v":0},{"$f":"invoer!E7","v":0},{"$f":"invoer!F7","v":0},{"$f":"invoer!G7","v":0},{"$f":"invoer!H7","v":"R7380"},{"$f":"invoer!I7","v":0},{"$f":"invoer!C8","v":0},{"$f":"invoer!D8","v":0},{"$f":"invoer!E8","v":0},{"$f":"invoer!F8","v":0},{"$f":"invoer!G8","v":0},{"$f":"invoer!H8","v":0},{"$f":"invoer!I8","v":"R7380"},{"$f":"invoer!C9","v":0},{"$f":"invoer!D9","v":"R7380"},{"$f":"invoer!E9","v":0},{"$f":"invoer!F9","v":0},{"$f":"invoer!G9","v":0},{"$f":"invoer!H9","v":0},{"$f":"invoer!I9","v":0},{"$f":"invoer!C10","v":0},{"$f":"invoer!D10","v":0},{"$f":"invoer!E10","v":"R7380"},{"$f":"invoer!F10","v":0},{"$f":"invoer!G10","v":0},{"$f":"invoer!H10","v":0},{"$f":"invoer!I10","v":0},{"$f":"invoer!C11","v":0},{"$f":"invoer!D11","v":0},{"$f":"invoer!E11","v":0},{"$f":"invoer!F11","v":"R7380"},{"$f":"invoer!G11","v":0},{"$f":"invoer!H11","v":0},{"$f":"invoer!I11","v":0},{"$f":"invoer!C12","v":0},{"$f":"invoer!D12","v":0},{"$f":"invoer!E12","v":0},{"$f":"invoer!F12","v":0},{"$f":"invoer!G12","v":"R7380"},{"$f":"invoer!H12","v":0},{"$f":"invoer!I12","v":0},{"$f":"invoer!C13","v":0},{"$f":"invoer!D13","v":0},{"$f":"invoer!E13","v":0},{"$f":"invoer!F13","v":0},{"$f":"invoer!G13","v":0},{"$f":"invoer!H13","v":"R7380"},{"$f":"invoer!I13","v":0},{"$f":"invoer!C14","v":0},{"$f":"invoer!D14","v":0},{"$f":"invoer!E14","v":0}]
[null,null,{"$f":"invoer!$C16","v":0},{"$f":"invoer!D16","v":0},{"$f":"invoer!E16","v":"R7380"},{"$f":"invoer!F16","v":0},{"$f":"invoer!G16","v":0},{"$f":"invoer!H16","v":0},{"$f":"invoer!I16","v":0},{"$f":"invoer!C17","v":0},{"$f":"invoer!D17","v":0},{"$f":"invoer!E17","v":0},{"$f":"invoer!F17","v":"R7380"},{"$f":"invoer!G17","v":0},{"$f":"invoer!H17","v":0},{"$f":"invoer!I17","v":0},{"$f":"invoer!C18","v":0},{"$f":"invoer!D18","v":0},{"$f":"invoer!E18","v":0},{"$f":"invoer!F18","v":0},{"$f":"invoer!G18","v":"R7380"},{"$f":"invoer!H18","v":0},{"$f":"invoer!I18","v":0},{"$f":"invoer!C19","v":0},{"$f":"invoer!D19","v":0},{"$f":"invoer!E19","v":0},{"$f":"invoer!F19","v":0},{"$f":"invoer!G19","v":0},{"$f":"invoer!H19","v":"R7380"},{"$f":"invoer!I19","v":0},{"$f":"invoer!C20","v":0},{"$f":"invoer!D20","v":0},{"$f":"invoer!E20","v":0},{"$f":"invoer!F20","v":0},{"$f":"invoer!G20","v":0},{"$f":"invoer!H20","v":0},{"$f":"invoer!I20","v":"R7380"},{"$f":"invoer!C21","v":0},{"$f":"invoer!D21","v":"R7380"},{"$f":"invoer!E21","v":0},{"$f":"invoer!F21","v":0},{"$f":"invoer!G21","v":0},{"$f":"invoer!H21","v":0},{"$f":"invoer!I21","v":0},{"$f":"invoer!C22","v":0},{"$f":"invoer!D22","v":0},{"$f":"invoer!E22","v":"R7380"},{"$f":"invoer!F22","v":0},{"$f":"invoer!G22","v":0},{"$f":"invoer!H22","v":0},{"$f":"invoer!I22","v":0},{"$f":"invoer!C23","v":0},{"$f":"invoer!D23","v":0},{"$f":"invoer!E23","v":0},{"$f":"invoer!F23","v":"R7380"},{"$f":"invoer!G23","v":0},{"$f":"invoer!H23","v":0},{"$f":"invoer!I23","v":0},{"$f":"invoer!C24","v":0},{"$f":"invoer!D24","v":0},{"$f":"invoer!E24","v":0},{"$f":"invoer!F24","v":0},{"$f":"invoer!G24","v":"R7380"},{"$f":"invoer!H24","v":0},{"$f":"invoer!I24","v":0},{"$f":"invoer!C25","v":0},{"$f":"invoer!D25","v":0},{"$f":"invoer!E25","v":0},{"$f":"invoer!F25","v":0},{"$f":"invoer!G25","v":0},{"$f":"invoer!H25","v":"R7380"},{"$f":"invoer!I25","v":0},{"$f":"invoer!C26","v":0},{"$f":"invoer!D26","v":0},{"$f":"invoer!E26","v":0},{"$f":"invoer!F26","v":0},{"$f":"invoer!G26","v":0},{"$f":"invoer!H26","v":0},{"$f":"invoer!I26","v":"R7380"},{"$f":"invoer!C27","v":0},{"$f":"invoer!D27","v":"R7380"},{"$f":"invoer!E27","v":0},{"$f":"invoer!F27","v":0},{"$f":"invoer!G27","v":0},{"$f":"invoer!H27","v":0},{"$f":"invoer!I27","v":0},{"$f":"invoer!C28","v":0},{"$f":"invoer!D28","v":0},{"$f":"invoer!E28","v":"R7380"},{"$f":"invoer!F28","v":0},{"$f":"invoer!G28","v":0},{"$f":"invoer!H28","v":0},{"$f":"invoer!I28","v":0},{"$f":"invoer!C29","v":0},{"$f":"invoer!D29","v":0},{"$f":"invoer!E29","v":0},{"$f":"invoer!F29","v":"R7380"},{"$f":"invoer!G29","v":0},{"$f":"invoer!H29","v":0},{"$f":"invoer!I29","v":0},{"$f":"invoer!C30","v":0},{"$f":"invoer!D30","v":0},{"$f":"invoer!E30","v":0},{"$f":"invoer!F30","v":0},{"$f":"invoer!G30","v":"R7380"},{"$f":"invoer!H30","v":0},{"$f":"invoer!I30","v":0},{"$f":"invoer!C31","v":0},{"$f":"invoer!D31","v":0},{"$f":"invoer!E31","v":0},{"$f":"invoer!F31","v":0},{"$f":"invoer!G31","v":0},{"$f":"invoer!H31","v":"R7380"},{"$f":"invoer!I31","v":0},{"$f":"invoer!C32","v":0},{"$f":"invoer!D32","v":0},{"$f":"invoer!E32","v":0},{"$f":"invoer!F32","v":0},{"$f":"invoer!G32","v":0},{"$f":"invoer!H32","v":0},{"$f":"invoer!I32","v":"R7380"},{"$f":"invoer!C33","v":0},{"$f":"invoer!D33","v":"R7380"},{"$f":"invoer!E33","v":0},{"$f":"invoer!F33","v":0},{"$f":"invoer!G33","v":0},{"$f":"invoer!H33","v":0},{"$f":"invoer!I33","v":0},{"$f":"invoer!C34","v":0},{"$f":"invoer!D34","v":0},{"$f":"invoer!E34","v":"R7380"},{"$f":"invoer!F34","v":0},{"$f":"invoer!G34","v":0},{"$f":"invoer!H34","v":0},{"$f":"invoer!I34","v":0},{"$f":"invoer!C35","v":0},{"$f":"invoer!D35","v":0},{"$f":"invoer!E35","v":0},{"$f":"invoer!F35","v":"R7380"},{"$f":"invoer!G35","v":0},{"$f":"invoer!H35","v":0},{"$f":"invoer!I35","v":0},{"$f":"invoer!C36","v":0},{"$f":"invoer!D36","v":0},{"$f":"invoer!E36","v":0},{"$f":"invoer!F36","v":0},{"$f":"invoer!G36","v":"R7380"},{"$f":"invoer!H36","v":0},{"$f":"invoer!I36","v":0},{"$f":"invoer!C37","v":0},{"$f":"invoer!D37","v":0},{"$f":"invoer!E37","v":0},{"$f":"invoer!F37","v":0},{"$f":"invoer!G37","v":0},{"$f":"invoer!H37","v":"R7380"},{"$f":"invoer!I37","v":0},{"$f":"invoer!C38","v":0},{"$f":"invoer!D38","v":0},{"$f":"invoer!E38","v":0},{"$f":"invoer!F38","v":0},{"$f":"invoer!G38","v":0},{"$f":"invoer!H38","v":0},{"$f":"invoer!I38","v":"R7380"},{"$f":"invoer!C39","v":0},{"$f":"invoer!D39","v":"R7380"},{"$f":"invoer!E39","v":0},{"$f":"invoer!F39","v":0},{"$f":"invoer!G39","v":0},{"$f":"invoer!H39","v":0},{"$f":"invoer!I39","v":0},{"$f":"invoer!C40","v":0},{"$f":"invoer!D40","v":0},{"$f":"invoer!E40","v":"R7380"},{"$f":"invoer!F40","v":0},{"$f":"invoer!G40","v":0},{"$f":"invoer!H40","v":0},{"$f":"invoer!I40","v":0},{"$f":"invoer!C41","v":0},{"$f":"invoer!D41","v":0},{"$f":"invoer!E41","v":0},{"$f":"invoer!F41","v":"R7380"},{"$f":"invoer!G41","v":0},{"$f":"invoer!H41","v":0},{"$f":"invoer!I41","v":0},{"$f":"invoer!C42","v":0},{"$f":"invoer!D42","v":0},{"$f":"invoer!E42","v":0},{"$f":"invoer!F42","v":0},{"$f":"invoer!G42","v":"R7380"},{"$f":"invoer!H42","v":0},{"$f":"invoer!I42","v":0},{"$f":"invoer!C43","v":0},{"$f":"invoer!D43","v":0},{"$f":"invoer!E43","v":0},{"$f":"invoer!F43","v":0},{"$f":"invoer!G43","v":0},{"$f":"invoer!H43","v":"R7380"},{"$f":"invoer!I43","v":0},{"$f":"invoer!C44","v":0},{"$f":"invoer!D44","v":0},{"$f":"invoer!E44","v":0},{"$f":"invoer!F44","v":0},{"$f":"invoer!G44","v":0},{"$f":"invoer!H44","v":0},{"$f":"invoer!I44","v":"R7380"},{"$f":"invoer!C45","v":0},{"$f":"invoer!D45","v":"R7380"},{"$f":"invoer!E45","v":0},{"$f":"invoer!F45","v":0},{"$f":"invoer!G45","v":0},{"$f":"invoer!H45","v":0},{"$f":"invoer!I45","v":0},{"$f":"invoer!C46","v":0},{"$f":"invoer!D46","v":0},{"$f":"invoer!E46","v":"R7380"},{"$f":"invoer!F46","v":0},{"$f":"invoer!G46","v":0},{"$f":"invoer!H46","v":0},{"$f":"invoer!I46","v":0},{"$f":"invoer!C47","v":0},{"$f":"invoer!D47","v":0},{"$f":"invoer!E47","v":0},{"$f":"invoer!F47","v":"R7380"},{"$f":"invoer!G47","v":0},{"$f":"invoer!H47","v":0},{"$f":"invoer!I47","v":0},{"$f":"invoer!C48","v":0},{"$f":"invoer!D48","v":0},{"$f":"invoer!E48","v":0},{"$f":"invoer!F48","v":0},{"$f":"invoer!G48","v":"R7380"},{"$f":"invoer!H48","v":0},{"$f":"invoer!I48","v":0},{"$f":"invoer!C49","v":0},{"$f":"invoer!D49","v":0},{"$f":"invoer!E49","v":0},{"$f":"invoer!F49","v":0},{"$f":"invoer!G49","v":0},{"$f":"invoer!H49","v":"R7380"},{"$f":"invoer!I49","v":0},{"$f":"invoer!C50","v":0},{"$f":"invoer!D50","v":0},{"$f":"invoer!E50","v":0},{"$f":"invoer!F50","v":0},{"$f":"invoer!G50","v":0},{"$f":"invoer!H50","v":0},{"$f":"invoer!I50","v":"R7380"},{"$f":"invoer!C51","v":0},{"$f":"invoer!D51","v":"R7380"},{"$f":"invoer!E51","v":0},{"$f":"invoer!F51","v":0},{"$f":"invoer!G51","v":0},{"$f":"invoer!H51","v":0},{"$f":"invoer!I51","v":0},{"$f":"invoer!C52","v":0},{"$f":"invoer!D52","v":0},{"$f":"invoer!E52","v":"R7380"},{"$f":"invoer!F52","v":0},{"$f":"invoer!G52","v":0},{"$f":"invoer!H52","v":0},{"$f":"invoer!I52","v":0},{"$f":"invoer!C53","v":0},{"$f":"invoer!D53","v":0},{"$f":"invoer!E53","v":0},{"$f":"invoer!F53","v":"R7380"},{"$f":"invoer!G53","v":0},{"$f":"invoer!H53","v":0},{"$f":"invoer!I53","v":0},{"$f":"invoer!C54","v":0},{"$f":"invoer!D54","v":0},{"$f":"invoer!E54","v":0},{"$f":"invoer!F54","v":0},{"$f":"invoer!G54","v":"R7380"},{"$f":"invoer!H54","v":0},{"$f":"invoer!I54","v":0},{"$f":"invoer!C55","v":0},{"$f":"invoer!D55","v":0},{"$f":"invoer!E55","v":0},{"$f":"invoer!F55","v":0},{"$f":"invoer!G55","v":0},{"$f":"invoer!H55","v":"R7380"},{"$f":"invoer!I55","v":0},{"$f":"invoer!C56","v":0},{"$f":"invoer!D56","v":0},{"$f":"invoer!E56","v":0},{"$f":"invoer!F56","v":0},{"$f":"invoer!G56","v":0},{"$f":"invoer!H56","v":0},{"$f":"invoer!I56","v":"R7380"},{"$f":"invoer!C57","v":0},{"$f":"invoer!D57","v":"R7380"},{"$f":"invoer!E57","v":0},{"$f":"invoer!F57","v":0},{"$f":"invoer!G57","v":0},{"$f":"invoer!H57","v":0},{"$f":"invoer!I57","v":0},{"$f":"invoer!C58","v":0},{"$f":"invoer!D58","v":0},{"$f":"invoer!E58","v":"R7380"},{"$f":"invoer!F58","v":0},{"$f":"invoer!G58","v":0},{"$f":"invoer!H58","v":0},{"$f":"invoer!I58","v":0},{"$f":"+invoer!C3","v":"G"},{"$f":"+invoer!D3","v":"R7380"},{"$f":"+invoer!E3","v":"L"},{"$f":"+invoer!F3","v":0},{"$f":"+invoer!G3","v":0},{"$f":"+invoer!H3","v":0},{"$f":"+invoer!I3","v":0},{"$f":"invoer!C4","v":0},{"$f":"invoer!D4","v":0},{"$f":"invoer!E4","v":"R7380"},{"$f":"invoer!F4","v":0},{"$f":"invoer!G4","v":0},{"$f":"invoer!H4","v":0},{"$f":"invoer!I4","v":0},{"$f":"invoer!C5","v":0},{"$f":"invoer!D5","v":0},{"$f":"invoer!E5","v":0},{"$f":"invoer!F5","v":"R7380"},{"$f":"invoer!G5","v":0},{"$f":"invoer!H5","v":0},{"$f":"invoer!I5","v":0},{"$f":"invoer!C6","v":0},{"$f":"invoer!D6","v":0},{"$f":"invoer!E6","v":0},{"$f":"invoer!F6","v":0},{"$f":"invoer!G6","v":"R7380"},{"$f":"invoer!H6","v":0},{"$f":"invoer!I6","v":0},{"$f":"invoer!C7","v":0},{"$f":"invoer!D7","v":0},{"$f":"invoer!E7","v":0},{"$f":"invoer!F7","v":0},{"$f":"invoer!G7","v":0},{"$f":"invoer!H7","v":"R7380"},{"$f":"invoer!I7","v":0},{"$f":"invoer!C8","v":0},{"$f":"invoer!D8","v":0},{"$f":"invoer!E8","v":0},{"$f":"invoer!F8","v":0},{"$f":"invoer!G8","v":0},{"$f":"invoer!H8","v":0},{"$f":"invoer!I8","v":"R7380"},{"$f":"invoer!C9","v":0},{"$f":"invoer!D9","v":"R7380"},{"$f":"invoer!E9","v":0},{"$f":"invoer!F9","v":0},{"$f":"invoer!G9","v":0},{"$f":"invoer!H9","v":0},{"$f":"invoer!I9","v":0},{"$f":"invoer!C10","v":0},{"$f":"invoer!D10","v":0},{"$f":"invoer!E10","v":"R7380"},{"$f":"invoer!F10","v":0},{"$f":"invoer!G10","v":0},{"$f":"invoer!H10","v":0},{"$f":"invoer!I10","v":0},{"$f":"invoer!C11","v":0},{"$f":"invoer!D11","v":0},{"$f":"invoer!E11","v":0},{"$f":"invoer!F11","v":"R7380"},{"$f":"invoer!G11","v":0},{"$f":"invoer!H11","v":0},{"$f":"invoer!I11","v":0},{"$f":"invoer!C12","v":0},{"$f":"invoer!D12","v":0},{"$f":"invoer!E12","v":0},{"$f":"invoer!F12","v":0},{"$f":"invoer!G12","v":"R7380"},{"$f":"invoer!H12","v":0},{"$f":"invoer!I12","v":0},{"$f":"invoer!C13","v":0},{"$f":"invoer!D13","v":0},{"$f":"invoer!E13","v":0},{"$f":"invoer!F13","v":0},{"$f":"invoer!G13","v":0},{"$f":"invoer!H13","v":"R7380"},{"$f":"invoer!I13","v":0},{"$f":"invoer!C14","v":0},{"$f":"invoer!D14","v":0},{"$f":"invoer!E14","v":0},{"$f":"invoer!F14","v":0},{"$f":"invoer!G14","v":0},{"$f":"invoer!H14","v":0},{"$f":"invoer!I14","v":"R7380"},{"$f":"invoer!C15","v":0},{"$f":"invoer!D15","v":"R7380"},{"$f":"invoer!E15","v":0}]
[null,null,{"$f":"invoer!$C17","v":0},{"$f":"invoer!D17","v":0},{"$f":"invoer!E17","v":0},{"$f":"invoer!F17","v":"R7380"},{"$f":"invoer!G17","v":0},{"$f":"invoer!H17","v":0},{"$f":"invoer!I17","v":0},{"$f":"invoer!C18","v":0},{"$f":"invoer!D18","v":0},{"$f":"invoer!E18","v":0},{"$f":"invoer!F18","v":0},{"$f":"invoer!G18","v":"R7380"},{"$f":"invoer!H18","v":0},{"$f":"invoer!I18","v":0},{"$f":"invoer!C19","v":0},{"$f":"invoer!D19","v":0},{"$f":"invoer!E19","v":0},{"$f":"invoer!F19","v":0},{"$f":"invoer!G19","v":0},{"$f":"invoer!H19","v":"R7380"},{"$f":"invoer!I19","v":0},{"$f":"invoer!C20","v":0},{"$f":"invoer!D20","v":0},{"$f":"invoer!E20","v":0},{"$f":"invoer!F20","v":0},{"$f":"invoer!G20","v":0},{"$f":"invoer!H20","v":0},{"$f":"invoer!I20","v":"R7380"},{"$f":"invoer!C21","v":0},{"$f":"invoer!D21","v":"R7380"},{"$f":"invoer!E21","v":0},{"$f":"invoer!F21","v":0},{"$f":"invoer!G21","v":0},{"$f":"invoer!H21","v":0},{"$f":"invoer!I21","v":0},{"$f":"invoer!C22","v":0},{"$f":"invoer!D22","v":0},{"$f":"invoer!E22","v":"R7380"},{"$f":"invoer!F22","v":0},{"$f":"invoer!G22","v":0},{"$f":"invoer!H22","v":0},{"$f":"invoer!I22","v":0},{"$f":"invoer!C23","v":0},{"$f":"invoer!D23","v":0},{"$f":"invoer!E23","v":0},{"$f":"invoer!F23","v":"R7380"},{"$f":"invoer!G23","v":0},{"$f":"invoer!H23","v":0},{"$f":"invoer!I23","v":0},{"$f":"invoer!C24","v":0},{"$f":"invoer!D24","v":0},{"$f":"invoer!E24","v":0},{"$f":"invoer!F24","v":0},{"$f":"invoer!G24","v":"R7380"},{"$f":"invoer!H24","v":0},{"$f":"invoer!I24","v":0},{"$f":"invoer!C25","v":0},{"$f":"invoer!D25","v":0},{"$f":"invoer!E25","v":0},{"$f":"invoer!F25","v":0},{"$f":"invoer!G25","v":0},{"$f":"invoer!H25","v":"R7380"},{"$f":"invoer!I25","v":0},{"$f":"invoer!C26","v":0},{"$f":"invoer!D26","v":0},{"$f":"invoer!E26","v":0},{"$f":"invoer!F26","v":0},{"$f":"invoer!G26","v":0},{"$f":"invoer!H26","v":0},{"$f":"invoer!I26","v":"R7380"},{"$f":"invoer!C27","v":0},{"$f":"invoer!D27","v":"R7380"},{"$f":"invoer!E27","v":0},{"$f":"invoer!F27","v":0},{"$f":"invoer!G27","v":0},{"$f":"invoer!H27","v":0},{"$f":"invoer!I27","v":0},{"$f":"invoer!C28","v":0},{"$f":"invoer!D28","v":0},{"$f":"invoer!E28","v":"R7380"},{"$f":"invoer!F28","v":0},{"$f":"invoer!G28","v":0},{"$f":"invoer!H28","v":0},{"$f":"invoer!I28","v":0},{"$f":"invoer!C29","v":0},{"$f":"invoer!D29","v":0},{"$f":"invoer!E29","v":0},{"$f":"invoer!F29","v":"R7380"},{"$f":"invoer!G29","v":0},{"$f":"invoer!H29","v":0},{"$f":"invoer!I29","v":0},{"$f":"invoer!C30","v":0},{"$f":"invoer!D30","v":0},{"$f":"invoer!E30","v":0},{"$f":"invoer!F30","v":0},{"$f":"invoer!G30","v":"R7380"},{"$f":"invoer!H30","v":0},{"$f":"invoer!I30","v":0},{"$f":"invoer!C31","v":0},{"$f":"invoer!D31","v":0},{"$f":"invoer!E31","v":0},{"$f":"invoer!F31","v":0},{"$f":"invoer!G31","v":0},{"$f":"invoer!H31","v":"R7380"},{"$f":"invoer!I31","v":0},{"$f":"invoer!C32","v":0},{"$f":"invoer!D32","v":0},{"$f":"invoer!E32","v":0},{"$f":"invoer!F32","v":0},{"$f":"invoer!G32","v":0},{"$f":"invoer!H32","v":0},{"$f":"invoer!I32","v":"R7380"},{"$f":"invoer!C33","v":0},{"$f":"invoer!D33","v":"R7380"},{"$f":"invoer!E33","v":0},{"$f":"invoer!F33","v":0},{"$f":"invoer!G33","v":0},{"$f":"invoer!H33","v":0},{"$f":"invoer!I33","v":0},{"$f":"invoer!C34","v":0},{"$f":"invoer!D34","v":0},{"$f":"invoer!E34","v":"R7380"},{"$f":"invoer!F34","v":0},{"$f":"invoer!G34","v":0},{"$f":"invoer!H34","v":0},{"$f":"invoer!I34","v":0},{"$f":"invoer!C35","v":0},{"$f":"invoer!D35","v":0},{"$f":"invoer!E35","v":0},{"$f":"invoer!F35","v":"R7380"},{"$f":"invoer!G35","v":0},{"$f":"invoer!H35","v":0},{"$f":"invoer!I35","v":0},{"$f":"invoer!C36","v":0},{"$f":"invoer!D36","v":0},{"$f":"invoer!E36","v":0},{"$f":"invoer!F36","v":0},{"$f":"invoer!G36","v":"R7380"},{"$f":"invoer!H36","v":0},{"$f":"invoer!I36","v":0},{"$f":"invoer!C37","v":0},{"$f":"invoer!D37","v":0},{"$f":"invoer!E37","v":0},{"$f":"invoer!F37","v":0},{"$f":"invoer!G37","v":0},{"$f":"invoer!H37","v":"R7380"},{"$f":"invoer!I37","v":0},{"$f":"invoer!C38","v":0},{"$f":"invoer!D38","v":0},{"$f":"invoer!E38","v":0},{"$f":"invoer!F38","v":0},{"$f":"invoer!G38","v":0},{"$f":"invoer!H38","v":0},{"$f":"invoer!I38","v":"R7380"},{"$f":"invoer!C39","v":0},{"$f":"invoer!D39","v":"R7380"},{"$f":"invoer!E39","v":0},{"$f":"invoer!F39","v":0},{"$f":"invoer!G39","v":0},{"$f":"invoer!H39","v":0},{"$f":"invoer!I39","v":0},{"$f":"invoer!C40","v":0},{"$f":"invoer!D40","v":0},{"$f":"invoer!E40","v":"R7380"},{"$f":"invoer!F40","v":0},{"$f":"invoer!G40","v":0},{"$f":"invoer!H40","v":0},{"$f":"invoer!I40","v":0},{"$f":"invoer!C41","v":0},{"$f":"invoer!D41","v":0},{"$f":"invoer!E41","v":0},{"$f":"invoer!F41","v":"R7380"},{"$f":"invoer!G41","v":0},{"$f":"invoer!H41","v":0},{"$f":"invoer!I41","v":0},{"$f":"invoer!C42","v":0},{"$f":"invoer!D42","v":0},{"$f":"invoer!E42","v":0},{"$f":"invoer!F42","v":0},{"$f":"invoer!G42","v":"R7380"},{"$f":"invoer!H42","v":0},{"$f":"invoer!I42","v":0},{"$f":"invoer!C43","v":0},{"$f":"invoer!D43","v":0},{"$f":"invoer!E43","v":0},{"$f":"invoer!F43","v":0},{"$f":"invoer!G43","v":0},{"$f":"invoer!H43","v":"R7380"},{"$f":"invoer!I43","v":0},{"$f":"invoer!C44","v":0},{"$f":"invoer!D44","v":0},{"$f":"invoer!E44","v":0},{"$f":"invoer!F44","v":0},{"$f":"invoer!G44","v":0},{"$f":"invoer!H44","v":0},{"$f":"invoer!I44","v":"R7380"},{"$f":"invoer!C45","v":0},{"$f":"invoer!D45","v":"R7380"},{"$f":"invoer!E45","v":0},{"$f":"invoer!F45","v":0},{"$f":"invoer!G45","v":0},{"$f":"invoer!H45","v":0},{"$f":"invoer!I45","v":0},{"$f":"invoer!C46","v":0},{"$f":"invoer!D46","v":0},{"$f":"invoer!E46","v":"R7380"},{"$f":"invoer!F46","v":0},{"$f":"invoer!G46","v":0},{"$f":"invoer!H46","v":0},{"$f":"invoer!I46","v":0},{"$f":"invoer!C47","v":0},{"$f":"invoer!D47","v":0},{"$f":"invoer!E47","v":0},{"$f":"invoer!F47","v":"R7380"},{"$f":"invoer!G47","v":0},{"$f":"invoer!H47","v":0},{"$f":"invoer!I47","v":0},{"$f":"invoer!C48","v":0},{"$f":"invoer!D48","v":0},{"$f":"invoer!E48","v":0},{"$f":"invoer!F48","v":0},{"$f":"invoer!G48","v":"R7380"},{"$f":"invoer!H48","v":0},{"$f":"invoer!I48","v":0},{"$f":"invoer!C49","v":0},{"$f":"invoer!D49","v":0},{"$f":"invoer!E49","v":0},{"$f":"invoer!F49","v":0},{"$f":"invoer!G49","v":0},{"$f":"invoer!H49","v":"R7380"},{"$f":"invoer!I49","v":0},{"$f":"invoer!C50","v":0},{"$f":"invoer!D50","v":0},{"$f":"invoer!E50","v":0},{"$f":"invoer!F50","v":0},{"$f":"invoer!G50","v":0},{"$f":"invoer!H50","v":0},{"$f":"invoer!I50","v":"R7380"},{"$f":"invoer!C51","v":0},{"$f":"invoer!D51","v":"R7380"},{"$f":"invoer!E51","v":0},{"$f":"invoer!F51","v":0},{"$f":"invoer!G51","v":0},{"$f":"invoer!H51","v":0},{"$f":"invoer!I51","v":0},{"$f":"invoer!C52","v":0},{"$f":"invoer!D52","v":0},{"$f":"invoer!E52","v":"R7380"},{"$f":"invoer!F52","v":0},{"$f":"invoer!G52","v":0},{"$f":"invoer!H52","v":0},{"$f":"invoer!I52","v":0},{"$f":"invoer!C53","v":0},{"$f":"invoer!D53","v":0},{"$f":"invoer!E53","v":0},{"$f":"invoer!F53","v":"R7380"},{"$f":"invoer!G53","v":0},{"$f":"invoer!H53","v":0},{"$f":"invoer!I53","v":0},{"$f":"invoer!C54","v":0},{"$f":"invoer!D54","v":0},{"$f":"invoer!E54","v":0},{"$f":"invoer!F54","v":0},{"$f":"invoer!G54","v":"R7380"},{"$f":"invoer!H54","v":0},{"$f":"invoer!I54","v":0},{"$f":"invoer!C55","v":0},{"$f":"invoer!D55","v":0},{"$f":"invoer!E55","v":0},{"$f":"invoer!F55","v":0},{"$f":"invoer!G55","v":0},{"$f":"invoer!H55","v":"R7380"},{"$f":"invoer!I55","v":0},{"$f":"invoer!C56","v":0},{"$f":"invoer!D56","v":0},{"$f":"invoer!E56","v":0},{"$f":"invoer!F56","v":0},{"$f":"invoer!G56","v":0},{"$f":"invoer!H56","v":0},{"$f":"invoer!I56","v":"R7380"},{"$f":"invoer!C57","v":0},{"$f":"invoer!D57","v":"R7380"},{"$f":"invoer!E57","v":0},{"$f":"invoer!F57","v":0},{"$f":"invoer!G57","v":0},{"$f":"invoer!H57","v":0},{"$f":"invoer!I57","v":0},{"$f":"invoer!C58","v":0},{"$f":"invoer!D58","v":0},{"$f":"invoer!E58","v":"R7380"},{"$f":"invoer!F58","v":0},{"$f":"invoer!G58","v":0},{"$f":"invoer!H58","v":0},{"$f":"invoer!I58","v":0},{"$f":"invoer!C3","v":"G"},{"$f":"invoer!D3","v":"R7380"},{"$f":"invoer!E3","v":"L"},{"$f":"invoer!F3","v":0},{"$f":"invoer!G3","v":0},{"$f":"invoer!H3","v":0},{"$f":"invoer!I3","v":0},{"$f":"+invoer!C4","v":0},{"$f":"+invoer!D4","v":0},{"$f":"+invoer!E4","v":"R7380"},{"$f":"+invoer!F4","v":0},{"$f":"+invoer!G4","v":0},{"$f":"+invoer!H4","v":0},{"$f":"+invoer!I4","v":0},{"$f":"invoer!C5","v":0},{"$f":"invoer!D5","v":0},{"$f":"invoer!E5","v":0},{"$f":"invoer!F5","v":"R7380"},{"$f":"invoer!G5","v":0},{"$f":"invoer!H5","v":0},{"$f":"invoer!I5","v":0},{"$f":"invoer!C6","v":0},{"$f":"invoer!D6","v":0},{"$f":"invoer!E6","v":0},{"$f":"invoer!F6","v":0},{"$f":"invoer!G6","v":"R7380"},{"$f":"invoer!H6","v":0},{"$f":"invoer!I6","v":0},{"$f":"invoer!C7","v":0},{"$f":"invoer!D7","v":0},{"$f":"invoer!E7","v":0},{"$f":"invoer!F7","v":0},{"$f":"invoer!G7","v":0},{"$f":"invoer!H7","v":"R7380"},{"$f":"invoer!I7","v":0},{"$f":"invoer!C8","v":0},{"$f":"invoer!D8","v":0},{"$f":"invoer!E8","v":0},{"$f":"invoer!F8","v":0},{"$f":"invoer!G8","v":0},{"$f":"invoer!H8","v":0},{"$f":"invoer!I8","v":"R7380"},{"$f":"invoer!C9","v":0},{"$f":"invoer!D9","v":"R7380"},{"$f":"invoer!E9","v":0},{"$f":"invoer!F9","v":0},{"$f":"invoer!G9","v":0},{"$f":"invoer!H9","v":0},{"$f":"invoer!I9","v":0},{"$f":"invoer!C10","v":0},{"$f":"invoer!D10","v":0},{"$f":"invoer!E10","v":"R7380"},{"$f":"invoer!F10","v":0},{"$f":"invoer!G10","v":0},{"$f":"invoer!H10","v":0},{"$f":"invoer!I10","v":0},{"$f":"invoer!C11","v":0},{"$f":"invoer!D11","v":0},{"$f":"invoer!E11","v":0},{"$f":"invoer!F11","v":"R7380"},{"$f":"invoer!G11","v":0},{"$f":"invoer!H11","v":0},{"$f":"invoer!I11","v":0},{"$f":"invoer!C12","v":0},{"$f":"invoer!D12","v":0},{"$f":"invoer!E12","v":0},{"$f":"invoer!F12","v":0},{"$f":"invoer!G12","v":"R7380"},{"$f":"invoer!H12","v":0},{"$f":"invoer!I12","v":0},{"$f":"invoer!C13","v":0},{"$f":"invoer!D13","v":0},{"$f":"invoer!E13","v":0},{"$f":"invoer!F13","v":0},{"$f":"invoer!G13","v":0},{"$f":"invoer!H13","v":"R7380"},{"$f":"invoer!I13","v":0},{"$f":"invoer!C14","v":0},{"$f":"invoer!D14","v":0},{"$f":"invoer!E14","v":0},{"$f":"invoer!F14","v":0},{"$f":"invoer!G14","v":0},{"$f":"invoer!H14","v":0},{"$f":"invoer!I14","v":"R7380"},{"$f":"invoer!C15","v":0},{"$f":"invoer!D15","v":"R7380"},{"$f":"invoer!E15","v":0},{"$f":"invoer!F15","v":0},{"$f":"invoer!G15","v":0},{"$f":"invoer!H15","v":0},{"$f":"invoer!I15","v":0},{"$f":"invoer!C16","v":0},{"$f":"invoer!D16","v":0},{"$f":"invoer!E16","v":"R7380"}]
[null,null,{"$f":"invoer!$C18","v":0},{"$f":"invoer!D18","v":0},{"$f":"invoer!E18","v":0},{"$f":"invoer!F18","v":0},{"$f":"invoer!G18","v":"R7380"},{"$f":"invoer!H18","v":0},{"$f":"invoer!I18","v":0},{"$f":"invoer!C19","v":0},{"$f":"invoer!D19","v":0},{"$f":"invoer!E19","v":0},{"$f":"invoer!F19","v":0},{"$f":"invoer!G19","v":0},{"$f":"invoer!H19","v":"R7380"},{"$f":"invoer!I19","v":0},{"$f":"invoer!C20","v":0},{"$f":"invoer!D20","v":0},{"$f":"invoer!E20","v":0},{"$f":"invoer!F20","v":0},{"$f":"invoer!G20","v":0},{"$f":"invoer!H20","v":0},{"$f":"invoer!I20","v":"R7380"},{"$f":"invoer!C21","v":0},{"$f":"invoer!D21","v":"R7380"},{"$f":"invoer!E21","v":0},{"$f":"invoer!F21","v":0},{"$f":"invoer!G21","v":0},{"$f":"invoer!H21","v":0},{"$f":"invoer!I21","v":0},{"$f":"invoer!C22","v":0},{"$f":"invoer!D22","v":0},{"$f":"invoer!E22","v":"R7380"},{"$f":"invoer!F22","v":0},{"$f":"invoer!G22","v":0},{"$f":"invoer!H22","v":0},{"$f":"invoer!I22","v":0},{"$f":"invoer!C23","v":0},{"$f":"invoer!D23","v":0},{"$f":"invoer!E23","v":0},{"$f":"invoer!F23","v":"R7380"},{"$f":"invoer!G23","v":0},{"$f":"invoer!H23","v":0},{"$f":"invoer!I23","v":0},{"$f":"invoer!C24","v":0},{"$f":"invoer!D24","v":0},{"$f":"invoer!E24","v":0},{"$f":"invoer!F24","v":0},{"$f":"invoer!G24","v":"R7380"},{"$f":"invoer!H24","v":0},{"$f":"invoer!I24","v":0},{"$f":"invoer!C25","v":0},{"$f":"invoer!D25","v":0},{"$f":"invoer!E25","v":0},{"$f":"invoer!F25","v":0},{"$f":"invoer!G25","v":0},{"$f":"invoer!H25","v":"R7380"},{"$f":"invoer!I25","v":0},{"$f":"invoer!C26","v":0},{"$f":"invoer!D26","v":0},{"$f":"invoer!E26","v":0},{"$f":"invoer!F26","v":0},{"$f":"invoer!G26","v":0},{"$f":"invoer!H26","v":0},{"$f":"invoer!I26","v":"R7380"},{"$f":"invoer!C27","v":0},{"$f":"invoer!D27","v":"R7380"},{"$f":"invoer!E27","v":0},{"$f":"invoer!F27","v":0},{"$f":"invoer!G27","v":0},{"$f":"invoer!H27","v":0},{"$f":"invoer!I27","v":0},{"$f":"invoer!C28","v":0},{"$f":"invoer!D28","v":0},{"$f":"invoer!E28","v":"R7380"},{"$f":"invoer!F28","v":0},{"$f":"invoer!G28","v":0},{"$f":"invoer!H28","v":0},{"$f":"invoer!I28","v":0},{"$f":"invoer!C29","v":0},{"$f":"invoer!D29","v":0},{"$f":"invoer!E29","v":0},{"$f":"invoer!F29","v":"R7380"},{"$f":"invoer!G29","v":0},{"$f":"invoer!H29","v":0},{"$f":"invoer!I29","v":0},{"$f":"invoer!C30","v":0},{"$f":"invoer!D30","v":0},{"$f":"invoer!E30","v":0},{"$f":"invoer!F30","v":0},{"$f":"invoer!G30","v":"R7380"},{"$f":"invoer!H30","v":0},{"$f":"invoer!I30","v":0},{"$f":"invoer!C31","v":0},{"$f":"invoer!D31","v":0},{"$f":"invoer!E31","v":0},{"$f":"invoer!F31","v":0},{"$f":"invoer!G31","v":0},{"$f":"invoer!H31","v":"R7380"},{"$f":"invoer!I31","v":0},{"$f":"invoer!C32","v":0},{"$f":"invoer!D32","v":0},{"$f":"invoer!E32","v":0},{"$f":"invoer!F32","v":0},{"$f":"invoer!G32","v":0},{"$f":"invoer!H32","v":0},{"$f":"invoer!I32","v":"R7380"},{"$f":"invoer!C33","v":0},{"$f":"invoer!D33","v":"R7380"},{"$f":"invoer!E33","v":0},{"$f":"invoer!F33","v":0},{"$f":"invoer!G33","v":0},{"$f":"invoer!H33","v":0},{"$f":"invoer!I33","v":0},{"$f":"invoer!C34","v":0},{"$f":"invoer!D34","v":0},{"$f":"invoer!E34","v":"R7380"},{"$f":"invoer!F34","v":0},{"$f":"invoer!G34","v":0},{"$f":"invoer!H34","v":0},{"$f":"invoer!I34","v":0},{"$f":"invoer!C35","v":0},{"$f":"invoer!D35","v":0},{"$f":"invoer!E35","v":0},{"$f":"invoer!F35","v":"R7380"},{"$f":"invoer!G35","v":0},{"$f":"invoer!H35","v":0},{"$f":"invoer!I35","v":0},{"$f":"invoer!C36","v":0},{"$f":"invoer!D36","v":0},{"$f":"invoer!E36","v":0},{"$f":"invoer!F36","v":0},{"$f":"invoer!G36","v":"R7380"},{"$f":"invoer!H36","v":0},{"$f":"invoer!I36","v":0},{"$f":"invoer!C37","v":0},{"$f":"invoer!D37","v":0},{"$f":"invoer!E37","v":0},{"$f":"invoer!F37","v":0},{"$f":"invoer!G37","v":0},{"$f":"invoer!H37","v":"R7380"},{"$f":"invoer!I37","v":0},{"$f":"invoer!C38","v":0},{"$f":"invoer!D38","v":0},{"$f":"invoer!E38","v":0},{"$f":"invoer!F38","v":0},{"$f":"invoer!G38","v":0},{"$f":"invoer!H38","v":0},{"$f":"invoer!I38","v":"R7380"},{"$f":"invoer!C39","v":0},{"$f":"invoer!D39","v":"R7380"},{"$f":"invoer!E39","v":0},{"$f":"invoer!F39","v":0},{"$f":"invoer!G39","v":0},{"$f":"invoer!H39","v":0},{"$f":"invoer!I39","v":0},{"$f":"invoer!C40","v":0},{"$f":"invoer!D40","v":0},{"$f":"invoer!E40","v":"R7380"},{"$f":"invoer!F40","v":0},{"$f":"invoer!G40","v":0},{"$f":"invoer!H40","v":0},{"$f":"invoer!I40","v":0},{"$f":"invoer!C41","v":0},{"$f":"invoer!D41","v":0},{"$f":"invoer!E41","v":0},{"$f":"invoer!F41","v":"R7380"},{"$f":"invoer!G41","v":0},{"$f":"invoer!H41","v":0},{"$f":"invoer!I41","v":0},{"$f":"invoer!C42","v":0},{"$f":"invoer!D42","v":0},{"$f":"invoer!E42","v":0},{"$f":"invoer!F42","v":0},{"$f":"invoer!G42","v":"R7380"},{"$f":"invoer!H42","v":0},{"$f":"invoer!I42","v":0},{"$f":"invoer!C43","v":0},{"$f":"invoer!D43","v":0},{"$f":"invoer!E43","v":0},{"$f":"invoer!F43","v":0},{"$f":"invoer!G43","v":0},{"$f":"invoer!H43","v":"R7380"},{"$f":"invoer!I43","v":0},{"$f":"invoer!C44","v":0},{"$f":"invoer!D44","v":0},{"$f":"invoer!E44","v":0},{"$f":"invoer!F44","v":0},{"$f":"invoer!G44","v":0},{"$f":"invoer!H44","v":0},{"$f":"invoer!I44","v":"R7380"},{"$f":"invoer!C45","v":0},{"$f":"invoer!D45","v":"R7380"},{"$f":"invoer!E45","v":0},{"$f":"invoer!F45","v":0},{"$f":"invoer!G45","v":0},{"$f":"invoer!H45","v":0},{"$f":"invoer!I45","v":0},{"$f":"invoer!C46","v":0},{"$f":"invoer!D46","v":0},{"$f":"invoer!E46","v":"R7380"},{"$f":"invoer!F46","v":0},{"$f":"invoer!G46","v":0},{"$f":"invoer!H46","v":0},{"$f":"invoer!I46","v":0},{"$f":"invoer!C47","v":0},{"$f":"invoer!D47","v":0},{"$f":"invoer!E47","v":0},{"$f":"invoer!F47","v":"R7380"},{"$f":"invoer!G47","v":0},{"$f":"invoer!H47","v":0},{"$f":"invoer!I47","v":0},{"$f":"invoer!C48","v":0},{"$f":"invoer!D48","v":0},{"$f":"invoer!E48","v":0},{"$f":"invoer!F48","v":0},{"$f":"invoer!G48","v":"R7380"},{"$f":"invoer!H48","v":0},{"$f":"invoer!I48","v":0},{"$f":"invoer!C49","v":0},{"$f":"invoer!D49","v":0},{"$f":"invoer!E49","v":0},{"$f":"invoer!F49","v":0},{"$f":"invoer!G49","v":0},{"$f":"invoer!H49","v":"R7380"},{"$f":"invoer!I49","v":0},{"$f":"invoer!C50","v":0},{"$f":"invoer!D50","v":0},{"$f":"invoer!E50","v":0},{"$f":"invoer!F50","v":0},{"$f":"invoer!G50","v":0},{"$f":"invoer!H50","v":0},{"$f":"invoer!I50","v":"R7380"},{"$f":"invoer!C51","v":0},{"$f":"invoer!D51","v":"R7380"},{"$f":"invoer!E51","v":0},{"$f":"invoer!F51","v":0},{"$f":"invoer!G51","v":0},{"$f":"invoer!H51","v":0},{"$f":"invoer!I51","v":0},{"$f":"invoer!C52","v":0},{"$f":"invoer!D52","v":0},{"$f":"invoer!E52","v":"R7380"},{"$f":"invoer!F52","v":0},{"$f":"invoer!G52","v":0},{"$f":"invoer!H52","v":0},{"$f":"invoer!I52","v":0},{"$f":"invoer!C53","v":0},{"$f":"invoer!D53","v":0},{"$f":"invoer!E53","v":0},{"$f":"invoer!F53","v":"R7380"},{"$f":"invoer!G53","v":0},{"$f":"invoer!H53","v":0},{"$f":"invoer!I53","v":0},{"$f":"invoer!C54","v":0},{"$f":"invoer!D54","v":0},{"$f":"invoer!E54","v":0},{"$f":"invoer!F54","v":0},{"$f":"invoer!G54","v":"R7380"},{"$f":"invoer!H54","v":0},{"$f":"invoer!I54","v":0},{"$f":"invoer!C55","v":0},{"$f":"invoer!D55","v":0},{"$f":"invoer!E55","v":0},{"$f":"invoer!F55","v":0},{"$f":"invoer!G55","v":0},{"$f":"invoer!H55","v":"R7380"},{"$f":"invoer!I55","v":0},{"$f":"invoer!C56","v":0},{"$f":"invoer!D56","v":0},{"$f":"invoer!E56","v":0},{"$f":"invoer!F56","v":0},{"$f":"invoer!G56","v":0},{"$f":"invoer!H56","v":0},{"$f":"invoer!I56","v":"R7380"},{"$f":"invoer!C57","v":0},{"$f":"invoer!D57","v":"R7380"},{"$f":"invoer!E57","v":0},{"$f":"invoer!F57","v":0},{"$f":"invoer!G57","v":0},{"$f":"invoer!H57","v":0},{"$f":"invoer!I57","v":0},{"$f":"invoer!C58","v":0},{"$f":"invoer!D58","v":0},{"$f":"invoer!E58","v":"R7380"},{"$f":"invoer!F58","v":0},{"$f":"invoer!G58","v":0},{"$f":"invoer!H58","v":0},{"$f":"invoer!I58","v":0},{"$f":"invoer!C3","v":"G"},{"$f":"invoer!D3","v":"R7380"},{"$f":"invoer!E3","v":"L"},{"$f":"invoer!F3","v":0},{"$f":"invoer!G3","v":0},{"$f":"invoer!H3","v":0},{"$f":"invoer!I3","v":0},{"$f":"invoer!C4","v":0},{"$f":"invoer!D4","v":0},{"$f":"invoer!E4","v":"R7380"},{"$f":"invoer!F4","v":0},{"$f":"invoer!G4","v":0},{"$f":"invoer!H4","v":0},{"$f":"invoer!I4","v":0},{"$f":"+invoer!C5","v":0},{"$f":"+invoer!D5","v":0},{"$f":"+invoer!E5","v":0},{"$f":"+invoer!F5","v":"R7380"},{"$f":"+invoer!G5","v":0},{"$f":"+invoer!H5","v":0},{"$f":"+invoer!I5","v":0},{"$f":"invoer!C6","v":0},{"$f":"invoer!D6","v":0},{"$f":"invoer!E6","v":0},{"$f":"invoer!F6","v":0},{"$f":"invoer!G6","v":"R7380"},{"$f":"invoer!H6","v":0},{"$f":"invoer!I6","v":0},{"$f":"invoer!C7","v":0},{"$f":"invoer!D7","v":0},{"$f":"invoer!E7","v":0},{"$f":"invoer!F7","v":0},{"$f":"invoer!G7","v":0},{"$f":"invoer!H7","v":"R7380"},{"$f":"invoer!I7","v":0},{"$f":"invoer!C8","v":0},{"$f":"invoer!D8","v":0},{"$f":"invoer!E8","v":0},{"$f":"invoer!F8","v":0},{"$f":"invoer!G8","v":0},{"$f":"invoer!H8","v":0},{"$f":"invoer!I8","v":"R7380"},{"$f":"invoer!C9","v":0},{"$f":"invoer!D9","v":"R7380"},{"$f":"invoer!E9","v":0},{"$f":"invoer!F9","v":0},{"$f":"invoer!G9","v":0},{"$f":"invoer!H9","v":0},{"$f":"invoer!I9","v":0},{"$f":"invoer!C10","v":0},{"$f":"invoer!D10","v":0},{"$f":"invoer!E10","v":"R7380"},{"$f":"invoer!F10","v":0},{"$f":"invoer!G10","v":0},{"$f":"invoer!H10","v":0},{"$f":"invoer!I10","v":0},{"$f":"invoer!C11","v":0},{"$f":"invoer!D11","v":0},{"$f":"invoer!E11","v":0},{"$f":"invoer!F11","v":"R7380"},{"$f":"invoer!G11","v":0},{"$f":"invoer!H11","v":0},{"$f":"invoer!I11","v":0},{"$f":"invoer!C12","v":0},{"$f":"invoer!D12","v":0},{"$f":"invoer!E12","v":0},{"$f":"invoer!F12","v":0},{"$f":"invoer!G12","v":"R7380"},{"$f":"invoer!H12","v":0},{"$f":"invoer!I12","v":0},{"$f":"invoer!C13","v":0},{"$f":"invoer!D13","v":0},{"$f":"invoer!E13","v":0},{"$f":"invoer!F13","v":0},{"$f":"invoer!G13","v":0},{"$f":"invoer!H13","v":"R7380"},{"$f":"invoer!I13","v":0},{"$f":"invoer!C14","v":0},{"$f":"invoer!D14","v":0},{"$f":"invoer!E14","v":0},{"$f":"invoer!F14","v":0},{"$f":"invoer!G14","v":0},{"$f":"invoer!H14","v":0},{"$f":"invoer!I14","v":"R7380"},{"$f":"invoer!C15","v":0},{"$f":"invoer!D15","v":"R7380"},{"$f":"invoer!E15","v":0},{"$f":"invoer!F15","v":0},{"$f":"invoer!G15","v":0},{"$f":"invoer!H15","v":0},{"$f":"invoer!I15","v":0},{"$f":"invoer!C16","v":0},{"$f":"invoer!D16","v":0},{"$f":"invoer!E16","v":"R7380"},{"$f":"invoer!F16","v":0},{"$f":"invoer!G16","v":0},{"$f":"invoer!H16","v":0},{"$f":"invoer!I16","v":0},{"$f":"invoer!C17","v":0},{"$f":"invoer!D17","v":0},{"$f":"invoer!E17","v":0}]
[null,null,{"$f":"invoer!$C19","v":0},{"$f":"invoer!D19","v":0},{"$f":"invoer!E19","v":0},{"$f":"invoer!F19","v":0},{"$f":"invoer!G19","v":0},{"$f":"invoer!H19","v":"R7380"},{"$f":"invoer!I19","v":0},{"$f":"invoer!C20","v":0},{"$f":"invoer!D20","v":0},{"$f":"invoer!E20","v":0},{"$f":"invoer!F20","v":0},{"$f":"invoer!G20","v":0},{"$f":"invoer!H20","v":0},{"$f":"invoer!I20","v":"R7380"},{"$f":"invoer!C21","v":0},{"$f":"invoer!D21","v":"R7380"},{"$f":"invoer!E21","v":0},{"$f":"invoer!F21","v":0},{"$f":"invoer!G21","v":0},{"$f":"invoer!H21","v":0},{"$f":"invoer!I21","v":0},{"$f":"invoer!C22","v":0},{"$f":"invoer!D22","v":0},{"$f":"invoer!E22","v":"R7380"},{"$f":"invoer!F22","v":0},{"$f":"invoer!G22","v":0},{"$f":"invoer!H22","v":0},{"$f":"invoer!I22","v":0},{"$f":"invoer!C23","v":0},{"$f":"invoer!D23","v":0},{"$f":"invoer!E23","v":0},{"$f":"invoer!F23","v":"R7380"},{"$f":"invoer!G23","v":0},{"$f":"invoer!H23","v":0},{"$f":"invoer!I23","v":0},{"$f":"invoer!C24","v":0},{"$f":"invoer!D24","v":0},{"$f":"invoer!E24","v":0},{"$f":"invoer!F24","v":0},{"$f":"invoer!G24","v":"R7380"},{"$f":"invoer!H24","v":0},{"$f":"invoer!I24","v":0},{"$f":"invoer!C25","v":0},{"$f":"invoer!D25","v":0},{"$f":"invoer!E25","v":0},{"$f":"invoer!F25","v":0},{"$f":"invoer!G25","v":0},{"$f":"invoer!H25","v":"R7380"},{"$f":"invoer!I25","v":0},{"$f":"invoer!C26","v":0},{"$f":"invoer!D26","v":0},{"$f":"invoer!E26","v":0},{"$f":"invoer!F26","v":0},{"$f":"invoer!G26","v":0},{"$f":"invoer!H26","v":0},{"$f":"invoer!I26","v":"R7380"},{"$f":"invoer!C27","v":0},{"$f":"invoer!D27","v":"R7380"},{"$f":"invoer!E27","v":0},{"$f":"invoer!F27","v":0},{"$f":"invoer!G27","v":0},{"$f":"invoer!H27","v":0},{"$f":"invoer!I27","v":0},{"$f":"invoer!C28","v":0},{"$f":"invoer!D28","v":0},{"$f":"invoer!E28","v":"R7380"},{"$f":"invoer!F28","v":0},{"$f":"invoer!G28","v":0},{"$f":"invoer!H28","v":0},{"$f":"invoer!I28","v":0},{"$f":"invoer!C29","v":0},{"$f":"invoer!D29","v":0},{"$f":"invoer!E29","v":0},{"$f":"invoer!F29","v":"R7380"},{"$f":"invoer!G29","v":0},{"$f":"invoer!H29","v":0},{"$f":"invoer!I29","v":0},{"$f":"invoer!C30","v":0},{"$f":"invoer!D30","v":0},{"$f":"invoer!E30","v":0},{"$f":"invoer!F30","v":0},{"$f":"invoer!G30","v":"R7380"},{"$f":"invoer!H30","v":0},{"$f":"invoer!I30","v":0},{"$f":"invoer!C31","v":0},{"$f":"invoer!D31","v":0},{"$f":"invoer!E31","v":0},{"$f":"invoer!F31","v":0},{"$f":"invoer!G31","v":0},{"$f":"invoer!H31","v":"R7380"},{"$f":"invoer!I31","v":0},{"$f":"invoer!C32","v":0},{"$f":"invoer!D32","v":0},{"$f":"invoer!E32","v":0},{"$f":"invoer!F32","v":0},{"$f":"invoer!G32","v":0},{"$f":"invoer!H32","v":0},{"$f":"invoer!I32","v":"R7380"},{"$f":"invoer!C33","v":0},{"$f":"invoer!D33","v":"R7380"},{"$f":"invoer!E33","v":0},{"$f":"invoer!F33","v":0},{"$f":"invoer!G33","v":0},{"$f":"invoer!H33","v":0},{"$f":"invoer!I33","v":0},{"$f":"invoer!C34","v":0},{"$f":"invoer!D34","v":0},{"$f":"invoer!E34","v":"R7380"},{"$f":"invoer!F34","v":0},{"$f":"invoer!G34","v":0},{"$f":"invoer!H34","v":0},{"$f":"invoer!I34","v":0},{"$f":"invoer!C35","v":0},{"$f":"invoer!D35","v":0},{"$f":"invoer!E35","v":0},{"$f":"invoer!F35","v":"R7380"},{"$f":"invoer!G35","v":0},{"$f":"invoer!H35","v":0},{"$f":"invoer!I35","v":0},{"$f":"invoer!C36","v":0},{"$f":"invoer!D36","v":0},{"$f":"invoer!E36","v":0},{"$f":"invoer!F36","v":0},{"$f":"invoer!G36","v":"R7380"},{"$f":"invoer!H36","v":0},{"$f":"invoer!I36","v":0},{"$f":"invoer!C37","v":0},{"$f":"invoer!D37","v":0},{"$f":"invoer!E37","v":0},{"$f":"invoer!F37","v":0},{"$f":"invoer!G37","v":0},{"$f":"invoer!H37","v":"R7380"},{"$f":"invoer!I37","v":0},{"$f":"invoer!C38","v":0},{"$f":"invoer!D38","v":0},{"$f":"invoer!E38","v":0},{"$f":"invoer!F38","v":0},{"$f":"invoer!G38","v":0},{"$f":"invoer!H38","v":0},{"$f":"invoer!I38","v":"R7380"},{"$f":"invoer!C39","v":0},{"$f":"invoer!D39","v":"R7380"},{"$f":"invoer!E39","v":0},{"$f":"invoer!F39","v":0},{"$f":"invoer!G39","v":0},{"$f":"invoer!H39","v":0},{"$f":"invoer!I39","v":0},{"$f":"invoer!C40","v":0},{"$f":"invoer!D40","v":0},{"$f":"invoer!E40","v":"R7380"},{"$f":"invoer!F40","v":0},{"$f":"invoer!G40","v":0},{"$f":"invoer!H40","v":0},{"$f":"invoer!I40","v":0},{"$f":"invoer!C41","v":0},{"$f":"invoer!D41","v":0},{"$f":"invoer!E41","v":0},{"$f":"invoer!F41","v":"R7380"},{"$f":"invoer!G41","v":0},{"$f":"invoer!H41","v":0},{"$f":"invoer!I41","v":0},{"$f":"invoer!C42","v":0},{"$f":"invoer!D42","v":0},{"$f":"invoer!E42","v":0},{"$f":"invoer!F42","v":0},{"$f":"invoer!G42","v":"R7380"},{"$f":"invoer!H42","v":0},{"$f":"invoer!I42","v":0},{"$f":"invoer!C43","v":0},{"$f":"invoer!D43","v":0},{"$f":"invoer!E43","v":0},{"$f":"invoer!F43","v":0},{"$f":"invoer!G43","v":0},{"$f":"invoer!H43","v":"R7380"},{"$f":"invoer!I43","v":0},{"$f":"invoer!C44","v":0},{"$f":"invoer!D44","v":0},{"$f":"invoer!E44","v":0},{"$f":"invoer!F44","v":0},{"$f":"invoer!G44","v":0},{"$f":"invoer!H44","v":0},{"$f":"invoer!I44","v":"R7380"},{"$f":"invoer!C45","v":0},{"$f":"invoer!D45","v":"R7380"},{"$f":"invoer!E45","v":0},{"$f":"invoer!F45","v":0},{"$f":"invoer!G45","v":0},{"$f":"invoer!H45","v":0},{"$f":"invoer!I45","v":0},{"$f":"invoer!C46","v":0},{"$f":"invoer!D46","v":0},{"$f":"invoer!E46","v":"R7380"},{"$f":"invoer!F46","v":0},{"$f":"invoer!G46","v":0},{"$f":"invoer!H46","v":0},{"$f":"invoer!I46","v":0},{"$f":"invoer!C47","v":0},{"$f":"invoer!D47","v":0},{"$f":"invoer!E47","v":0},{"$f":"invoer!F47","v":"R7380"},{"$f":"invoer!G47","v":0},{"$f":"invoer!H47","v":0},{"$f":"invoer!I47","v":0},{"$f":"invoer!C48","v":0},{"$f":"invoer!D48","v":0},{"$f":"invoer!E48","v":0},{"$f":"invoer!F48","v":0},{"$f":"invoer!G48","v":"R7380"},{"$f":"invoer!H48","v":0},{"$f":"invoer!I48","v":0},{"$f":"invoer!C49","v":0},{"$f":"invoer!D49","v":0},{"$f":"invoer!E49","v":0},{"$f":"invoer!F49","v":0},{"$f":"invoer!G49","v":0},{"$f":"invoer!H49","v":"R7380"},{"$f":"invoer!I49","v":0},{"$f":"invoer!C50","v":0},{"$f":"invoer!D50","v":0},{"$f":"invoer!E50","v":0},{"$f":"invoer!F50","v":0},{"$f":"invoer!G50","v":0},{"$f":"invoer!H50","v":0},{"$f":"invoer!I50","v":"R7380"},{"$f":"invoer!C51","v":0},{"$f":"invoer!D51","v":"R7380"},{"$f":"invoer!E51","v":0},{"$f":"invoer!F51","v":0},{"$f":"invoer!G51","v":0},{"$f":"invoer!H51","v":0},{"$f":"invoer!I51","v":0},{"$f":"invoer!C52","v":0},{"$f":"invoer!D52","v":0},{"$f":"invoer!E52","v":"R7380"},{"$f":"invoer!F52","v":0},{"$f":"invoer!G52","v":0},{"$f":"invoer!H52","v":0},{"$f":"invoer!I52","v":0},{"$f":"invoer!C53","v":0},{"$f":"invoer!D53","v":0},{"$f":"invoer!E53","v":0},{"$f":"invoer!F53","v":"R7380"},{"$f":"invoer!G53","v":0},{"$f":"invoer!H53","v":0},{"$f":"invoer!I53","v":0},{"$f":"invoer!C54","v":0},{"$f":"invoer!D54","v":0},{"$f":"invoer!E54","v":0},{"$f":"invoer!F54","v":0},{"$f":"invoer!G54","v":"R7380"},{"$f":"invoer!H54","v":0},{"$f":"invoer!I54","v":0},{"$f":"invoer!C55","v":0},{"$f":"invoer!D55","v":0},{"$f":"invoer!E55","v":0},{"$f":"invoer!F55","v":0},{"$f":"invoer!G55","v":0},{"$f":"invoer!H55","v":"R7380"},{"$f":"invoer!I55","v":0},{"$f":"invoer!C56","v":0},{"$f":"invoer!D56","v":0},{"$f":"invoer!E56","v":0},{"$f":"invoer!F56","v":0},{"$f":"invoer!G56","v":0},{"$f":"invoer!H56","v":0},{"$f":"invoer!I56","v":"R7380"},{"$f":"invoer!C57","v":0},{"$f":"invoer!D57","v":"R7380"},{"$f":"invoer!E57","v":0},{"$f":"invoer!F57","v":0},{"$f":"invoer!G57","v":0},{"$f":"invoer!H57","v":0},{"$f":"invoer!I57","v":0},{"$f":"invoer!C58","v":0},{"$f":"invoer!D58","v":0},{"$f":"invoer!E58","v":"R7380"},{"$f":"invoer!F58","v":0},{"$f":"invoer!G58","v":0},{"$f":"invoer!H58","v":0},{"$f":"invoer!I58","v":0},{"$f":"invoer!C3","v":"G"},{"$f":"invoer!D3","v":"R7380"},{"$f":"invoer!E3","v":"L"},{"$f":"invoer!F3","v":0},{"$f":"invoer!G3","v":0},{"$f":"invoer!H3","v":0},{"$f":"invoer!I3","v":0},{"$f":"invoer!C4","v":0},{"$f":"invoer!D4","v":0},{"$f":"invoer!E4","v":"R7380"},{"$f":"invoer!F4","v":0},{"$f":"invoer!G4","v":0},{"$f":"invoer!H4","v":0},{"$f":"invoer!I4","v":0},{"$f":"invoer!C5","v":0},{"$f":"invoer!D5","v":0},{"$f":"invoer!E5","v":0},{"$f":"invoer!F5","v":"R7380"},{"$f":"invoer!G5","v":0},{"$f":"invoer!H5","v":0},{"$f":"invoer!I5","v":0},{"$f":"+invoer!C6","v":0},{"$f":"+invoer!D6","v":0},{"$f":"+invoer!E6","v":0},{"$f":"+invoer!F6","v":0},{"$f":"+invoer!G6","v":"R7380"},{"$f":"+invoer!H6","v":0},{"$f":"+invoer!I6","v":0},{"$f":"invoer!C7","v":0},{"$f":"invoer!D7","v":0},{"$f":"invoer!E7","v":0},{"$f":"invoer!F7","v":0},{"$f":"invoer!G7","v":0},{"$f":"invoer!H7","v":"R7380"},{"$f":"invoer!I7","v":0},{"$f":"invoer!C8","v":0},{"$f":"invoer!D8","v":0},{"$f":"invoer!E8","v":0},{"$f":"invoer!F8","v":0},{"$f":"invoer!G8","v":0},{"$f":"invoer!H8","v":0},{"$f":"invoer!I8","v":"R7380"},{"$f":"invoer!C9","v":0},{"$f":"invoer!D9","v":"R7380"},{"$f":"invoer!E9","v":0},{"$f":"invoer!F9","v":0},{"$f":"invoer!G9","v":0},{"$f":"invoer!H9","v":0},{"$f":"invoer!I9","v":0},{"$f":"invoer!C10","v":0},{"$f":"invoer!D10","v":0},{"$f":"invoer!E10","v":"R7380"},{"$f":"invoer!F10","v":0},{"$f":"invoer!G10","v":0},{"$f":"invoer!H10","v":0},{"$f":"invoer!I10","v":0},{"$f":"invoer!C11","v":0},{"$f":"invoer!D11","v":0},{"$f":"invoer!E11","v":0},{"$f":"invoer!F11","v":"R7380"},{"$f":"invoer!G11","v":0},{"$f":"invoer!H11","v":0},{"$f":"invoer!I11","v":0},{"$f":"invoer!C12","v":0},{"$f":"invoer!D12","v":0},{"$f":"invoer!E12","v":0},{"$f":"invoer!F12","v":0},{"$f":"invoer!G12","v":"R7380"},{"$f":"invoer!H12","v":0},{"$f":"invoer!I12","v":0},{"$f":"invoer!C13","v":0},{"$f":"invoer!D13","v":0},{"$f":"invoer!E13","v":0},{"$f":"invoer!F13","v":0},{"$f":"invoer!G13","v":0},{"$f":"invoer!H13","v":"R7380"},{"$f":"invoer!I13","v":0},{"$f":"invoer!C14","v":0},{"$f":"invoer!D14","v":0},{"$f":"invoer!E14","v":0},{"$f":"invoer!F14","v":0},{"$f":"invoer!G14","v":0},{"$f":"invoer!H14","v":0},{"$f":"invoer!I14","v":"R7380"},{"$f":"invoer!C15","v":0},{"$f":"invoer!D15","v":"R7380"},{"$f":"invoer!E15","v":0},{"$f":"invoer!F15","v":0},{"$f":"invoer!G15","v":0},{"$f":"invoer!H15","v":0},{"$f":"invoer!I15","v":0},{"$f":"invoer!C16","v":0},{"$f":"invoer!D16","v":0},{"$f":"invoer!E16","v":"R7380"},{"$f":"invoer!F16","v":0},{"$f":"invoer!G16","v":0},{"$f":"invoer!H16","v":0},{"$f":"invoer!I16","v":0},{"$f":"invoer!C17","v":0},{"$f":"invoer!D17","v":0},{"$f":"invoer!E17","v":0},{"$f":"invoer!F17","v":"R7380"},{"$f":"invoer!G17","v":0},{"$f":"invoer!H17","v":0},{"$f":"invoer!I17","v":0},{"$f":"invoer!C18","v":0},{"$f":"invoer!D18","v":0},{"$f":"invoer!E18","v":0}]
[null,null,{"$f":"invoer!$C20","v":0},{"$f":"invoer!D20","v":0},{"$f":"invoer!E20","v":0},{"$f":"invoer!F20","v":0},{"$f":"invoer!G20","v":0},{"$f":"invoer!H20","v":0},{"$f":"invoer!I20","v":"R7380"},{"$f":"invoer!C21","v":0},{"$f":"invoer!D21","v":"R7380"},{"$f":"invoer!E21","v":0},{"$f":"invoer!F21","v":0},{"$f":"invoer!G21","v":0},{"$f":"invoer!H21","v":0},{"$f":"invoer!I21","v":0},{"$f":"invoer!C22","v":0},{"$f":"invoer!D22","v":0},{"$f":"invoer!E22","v":"R7380"},{"$f":"invoer!F22","v":0},{"$f":"invoer!G22","v":0},{"$f":"invoer!H22","v":0},{"$f":"invoer!I22","v":0},{"$f":"invoer!C23","v":0},{"$f":"invoer!D23","v":0},{"$f":"invoer!E23","v":0},{"$f":"invoer!F23","v":"R7380"},{"$f":"invoer!G23","v":0},{"$f":"invoer!H23","v":0},{"$f":"invoer!I23","v":0},{"$f":"invoer!C24","v":0},{"$f":"invoer!D24","v":0},{"$f":"invoer!E24","v":0},{"$f":"invoer!F24","v":0},{"$f":"invoer!G24","v":"R7380"},{"$f":"invoer!H24","v":0},{"$f":"invoer!I24","v":0},{"$f":"invoer!C25","v":0},{"$f":"invoer!D25","v":0},{"$f":"invoer!E25","v":0},{"$f":"invoer!F25","v":0},{"$f":"invoer!G25","v":0},{"$f":"invoer!H25","v":"R7380"},{"$f":"invoer!I25","v":0},{"$f":"invoer!C26","v":0},{"$f":"invoer!D26","v":0},{"$f":"invoer!E26","v":0},{"$f":"invoer!F26","v":0},{"$f":"invoer!G26","v":0},{"$f":"invoer!H26","v":0},{"$f":"invoer!I26","v":"R7380"},{"$f":"invoer!C27","v":0},{"$f":"invoer!D27","v":"R7380"},{"$f":"invoer!E27","v":0},{"$f":"invoer!F27","v":0},{"$f":"invoer!G27","v":0},{"$f":"invoer!H27","v":0},{"$f":"invoer!I27","v":0},{"$f":"invoer!C28","v":0},{"$f":"invoer!D28","v":0},{"$f":"invoer!E28","v":"R7380"},{"$f":"invoer!F28","v":0},{"$f":"invoer!G28","v":0},{"$f":"invoer!H28","v":0},{"$f":"invoer!I28","v":0},{"$f":"invoer!C29","v":0},{"$f":"invoer!D29","v":0},{"$f":"invoer!E29","v":0},{"$f":"invoer!F29","v":"R7380"},{"$f":"invoer!G29","v":0},{"$f":"invoer!H29","v":0},{"$f":"invoer!I29","v":0},{"$f":"invoer!C30","v":0},{"$f":"invoer!D30","v":0},{"$f":"invoer!E30","v":0},{"$f":"invoer!F30","v":0},{"$f":"invoer!G30","v":"R7380"},{"$f":"invoer!H30","v":0},{"$f":"invoer!I30","v":0},{"$f":"invoer!C31","v":0},{"$f":"invoer!D31","v":0},{"$f":"invoer!E31","v":0},{"$f":"invoer!F31","v":0},{"$f":"invoer!G31","v":0},{"$f":"invoer!H31","v":"R7380"},{"$f":"invoer!I31","v":0},{"$f":"invoer!C32","v":0},{"$f":"invoer!D32","v":0},{"$f":"invoer!E32","v":0},{"$f":"invoer!F32","v":0},{"$f":"invoer!G32","v":0},{"$f":"invoer!H32","v":0},{"$f":"invoer!I32","v":"R7380"},{"$f":"invoer!C33","v":0},{"$f":"invoer!D33","v":"R7380"},{"$f":"invoer!E33","v":0},{"$f":"invoer!F33","v":0},{"$f":"invoer!G33","v":0},{"$f":"invoer!H33","v":0},{"$f":"invoer!I33","v":0},{"$f":"invoer!C34","v":0},{"$f":"invoer!D34","v":0},{"$f":"invoer!E34","v":"R7380"},{"$f":"invoer!F34","v":0},{"$f":"invoer!G34","v":0},{"$f":"invoer!H34","v":0},{"$f":"invoer!I34","v":0},{"$f":"invoer!C35","v":0},{"$f":"invoer!D35","v":0},{"$f":"invoer!E35","v":0},{"$f":"invoer!F35","v":"R7380"},{"$f":"invoer!G35","v":0},{"$f":"invoer!H35","v":0},{"$f":"invoer!I35","v":0},{"$f":"invoer!C36","v":0},{"$f":"invoer!D36","v":0},{"$f":"invoer!E36","v":0},{"$f":"invoer!F36","v":0},{"$f":"invoer!G36","v":"R7380"},{"$f":"invoer!H36","v":0},{"$f":"invoer!I36","v":0},{"$f":"invoer!C37","v":0},{"$f":"invoer!D37","v":0},{"$f":"invoer!E37","v":0},{"$f":"invoer!F37","v":0},{"$f":"invoer!G37","v":0},{"$f":"invoer!H37","v":"R7380"},{"$f":"invoer!I37","v":0},{"$f":"invoer!C38","v":0},{"$f":"invoer!D38","v":0},{"$f":"invoer!E38","v":0},{"$f":"invoer!F38","v":0},{"$f":"invoer!G38","v":0},{"$f":"invoer!H38","v":0},{"$f":"invoer!I38","v":"R7380"},{"$f":"invoer!C39","v":0},{"$f":"invoer!D39","v":"R7380"},{"$f":"invoer!E39","v":0},{"$f":"invoer!F39","v":0},{"$f":"invoer!G39","v":0},{"$f":"invoer!H39","v":0},{"$f":"invoer!I39","v":0},{"$f":"invoer!C40","v":0},{"$f":"invoer!D40","v":0},{"$f":"invoer!E40","v":"R7380"},{"$f":"invoer!F40","v":0},{"$f":"invoer!G40","v":0},{"$f":"invoer!H40","v":0},{"$f":"invoer!I40","v":0},{"$f":"invoer!C41","v":0},{"$f":"invoer!D41","v":0},{"$f":"invoer!E41","v":0},{"$f":"invoer!F41","v":"R7380"},{"$f":"invoer!G41","v":0},{"$f":"invoer!H41","v":0},{"$f":"invoer!I41","v":0},{"$f":"invoer!C42","v":0},{"$f":"invoer!D42","v":0},{"$f":"invoer!E42","v":0},{"$f":"invoer!F42","v":0},{"$f":"invoer!G42","v":"R7380"},{"$f":"invoer!H42","v":0},{"$f":"invoer!I42","v":0},{"$f":"invoer!C43","v":0},{"$f":"invoer!D43","v":0},{"$f":"invoer!E43","v":0},{"$f":"invoer!F43","v":0},{"$f":"invoer!G43","v":0},{"$f":"invoer!H43","v":"R7380"},{"$f":"invoer!I43","v":0},{"$f":"invoer!C44","v":0},{"$f":"invoer!D44","v":0},{"$f":"invoer!E44","v":0},{"$f":"invoer!F44","v":0},{"$f":"invoer!G44","v":0},{"$f":"invoer!H44","v":0},{"$f":"invoer!I44","v":"R7380"},{"$f":"invoer!C45","v":0},{"$f":"invoer!D45","v":"R7380"},{"$f":"invoer!E45","v":0},{"$f":"invoer!F45","v":0},{"$f":"invoer!G45","v":0},{"$f":"invoer!H45","v":0},{"$f":"invoer!I45","v":0},{"$f":"invoer!C46","v":0},{"$f":"invoer!D46","v":0},{"$f":"invoer!E46","v":"R7380"},{"$f":"invoer!F46","v":0},{"$f":"invoer!G46","v":0},{"$f":"invoer!H46","v":0},{"$f":"invoer!I46","v":0},{"$f":"invoer!C47","v":0},{"$f":"invoer!D47","v":0},{"$f":"invoer!E47","v":0},{"$f":"invoer!F47","v":"R7380"},{"$f":"invoer!G47","v":0},{"$f":"invoer!H47","v":0},{"$f":"invoer!I47","v":0},{"$f":"invoer!C48","v":0},{"$f":"invoer!D48","v":0},{"$f":"invoer!E48","v":0},{"$f":"invoer!F48","v":0},{"$f":"invoer!G48","v":"R7380"},{"$f":"invoer!H48","v":0},{"$f":"invoer!I48","v":0},{"$f":"invoer!C49","v":0},{"$f":"invoer!D49","v":0},{"$f":"invoer!E49","v":0},{"$f":"invoer!F49","v":0},{"$f":"invoer!G49","v":0},{"$f":"invoer!H49","v":"R7380"},{"$f":"invoer!I49","v":0},{"$f":"invoer!C50","v":0},{"$f":"invoer!D50","v":0},{"$f":"invoer!E50","v":0},{"$f":"invoer!F50","v":0},{"$f":"invoer!G50","v":0},{"$f":"invoer!H50","v":0},{"$f":"invoer!I50","v":"R7380"},{"$f":"invoer!C51","v":0},{"$f":"invoer!D51","v":"R7380"},{"$f":"invoer!E51","v":0},{"$f":"invoer!F51","v":0},{"$f":"invoer!G51","v":0},{"$f":"invoer!H51","v":0},{"$f":"invoer!I51","v":0},{"$f":"invoer!C52","v":0},{"$f":"invoer!D52","v":0},{"$f":"invoer!E52","v":"R7380"},{"$f":"invoer!F52","v":0},{"$f":"invoer!G52","v":0},{"$f":"invoer!H52","v":0},{"$f":"invoer!I52","v":0},{"$f":"invoer!C53","v":0},{"$f":"invoer!D53","v":0},{"$f":"invoer!E53","v":0},{"$f":"invoer!F53","v":"R7380"},{"$f":"invoer!G53","v":0},{"$f":"invoer!H53","v":0},{"$f":"invoer!I53","v":0},{"$f":"invoer!C54","v":0},{"$f":"invoer!D54","v":0},{"$f":"invoer!E54","v":0},{"$f":"invoer!F54","v":0},{"$f":"invoer!G54","v":"R7380"},{"$f":"invoer!H54","v":0},{"$f":"invoer!I54","v":0},{"$f":"invoer!C55","v":0},{"$f":"invoer!D55","v":0},{"$f":"invoer!E55","v":0},{"$f":"invoer!F55","v":0},{"$f":"invoer!G55","v":0},{"$f":"invoer!H55","v":"R7380"},{"$f":"invoer!I55","v":0},{"$f":"invoer!C56","v":0},{"$f":"invoer!D56","v":0},{"$f":"invoer!E56","v":0},{"$f":"invoer!F56","v":0},{"$f":"invoer!G56","v":0},{"$f":"invoer!H56","v":0},{"$f":"invoer!I56","v":"R7380"},{"$f":"invoer!C57","v":0},{"$f":"invoer!D57","v":"R7380"},{"$f":"invoer!E57","v":0},{"$f":"invoer!F57","v":0},{"$f":"invoer!G57","v":0},{"$f":"invoer!H57","v":0},{"$f":"invoer!I57","v":0},{"$f":"invoer!C58","v":0},{"$f":"invoer!D58","v":0},{"$f":"invoer!E58","v":"R7380"},{"$f":"invoer!F58","v":0},{"$f":"invoer!G58","v":0},{"$f":"invoer!H58","v":0},{"$f":"invoer!I58","v":0},{"$f":"invoer!C3","v":"G"},{"$f":"invoer!D3","v":"R7380"},{"$f":"invoer!E3","v":"L"},{"$f":"invoer!F3","v":0},{"$f":"invoer!G3","v":0},{"$f":"invoer!H3","v":0},{"$f":"invoer!I3","v":0},{"$f":"invoer!C4","v":0},{"$f":"invoer!D4","v":0},{"$f":"invoer!E4","v":"R7380"},{"$f":"invoer!F4","v":0},{"$f":"invoer!G4","v":0},{"$f":"invoer!H4","v":0},{"$f":"invoer!I4","v":0},{"$f":"invoer!C5","v":0},{"$f":"invoer!D5","v":0},{"$f":"invoer!E5","v":0},{"$f":"invoer!F5","v":"R7380"},{"$f":"invoer!G5","v":0},{"$f":"invoer!H5","v":0},{"$f":"invoer!I5","v":0},{"$f":"invoer!C6","v":0},{"$f":"invoer!D6","v":0},{"$f":"invoer!E6","v":0},{"$f":"invoer!F6","v":0},{"$f":"invoer!G6","v":"R7380"},{"$f":"invoer!H6","v":0},{"$f":"invoer!I6","v":0},{"$f":"+invoer!C7","v":0},{"$f":"+invoer!D7","v":0},{"$f":"+invoer!E7","v":0},{"$f":"+invoer!F7","v":0},{"$f":"+invoer!G7","v":0},{"$f":"+invoer!H7","v":"R7380"},{"$f":"+invoer!I7","v":0},{"$f":"invoer!C8","v":0},{"$f":"invoer!D8","v":0},{"$f":"invoer!E8","v":0},{"$f":"invoer!F8","v":0},{"$f":"invoer!G8","v":0},{"$f":"invoer!H8","v":0},{"$f":"invoer!I8","v":"R7380"},{"$f":"invoer!C9","v":0},{"$f":"invoer!D9","v":"R7380"},{"$f":"invoer!E9","v":0},{"$f":"invoer!F9","v":0},{"$f":"invoer!G9","v":0},{"$f":"invoer!H9","v":0},{"$f":"invoer!I9","v":0},{"$f":"invoer!C10","v":0},{"$f":"invoer!D10","v":0},{"$f":"invoer!E10","v":"R7380"},{"$f":"invoer!F10","v":0},{"$f":"invoer!G10","v":0},{"$f":"invoer!H10","v":0},{"$f":"invoer!I10","v":0},{"$f":"invoer!C11","v":0},{"$f":"invoer!D11","v":0},{"$f":"invoer!E11","v":0},{"$f":"invoer!F11","v":"R7380"},{"$f":"invoer!G11","v":0},{"$f":"invoer!H11","v":0},{"$f":"invoer!I11","v":0},{"$f":"invoer!C12","v":0},{"$f":"invoer!D12","v":0},{"$f":"invoer!E12","v":0},{"$f":"invoer!F12","v":0},{"$f":"invoer!G12","v":"R7380"},{"$f":"invoer!H12","v":0},{"$f":"invoer!I12","v":0},{"$f":"invoer!C13","v":0},{"$f":"invoer!D13","v":0},{"$f":"invoer!E13","v":0},{"$f":"invoer!F13","v":0},{"$f":"invoer!G13","v":0},{"$f":"invoer!H13","v":"R7380"},{"$f":"invoer!I13","v":0},{"$f":"invoer!C14","v":0},{"$f":"invoer!D14","v":0},{"$f":"invoer!E14","v":0},{"$f":"invoer!F14","v":0},{"$f":"invoer!G14","v":0},{"$f":"invoer!H14","v":0},{"$f":"invoer!I14","v":"R7380"},{"$f":"invoer!C15","v":0},{"$f":"invoer!D15","v":"R7380"},{"$f":"invoer!E15","v":0},{"$f":"invoer!F15","v":0},{"$f":"invoer!G15","v":0},{"$f":"invoer!H15","v":0},{"$f":"invoer!I15","v":0},{"$f":"invoer!C16","v":0},{"$f":"invoer!D16","v":0},{"$f":"invoer!E16","v":"R7380"},{"$f":"invoer!F16","v":0},{"$f":"invoer!G16","v":0},{"$f":"invoer!H16","v":0},{"$f":"invoer!I16","v":0},{"$f":"invoer!C17","v":0},{"$f":"invoer!D17","v":0},{"$f":"invoer!E17","v":0},{"$f":"invoer!F17","v":"R7380"},{"$f":"invoer!G17","v":0},{"$f":"invoer!H17","v":0},{"$f":"invoer!I17","v":0},{"$f":"invoer!C18","v":0},{"$f":"invoer!D18","v":0},{"$f":"invoer!E18","v":0},{"$f":"invoer!F18","v":0},{"$f":"invoer!G18","v":"R7380"},{"$f":"invoer!H18","v":0},{"$f":"invoer!I18","v":0},{"$f":"invoer!C19","v":0},{"$f":"invoer!D19","v":0},{"$f":"invoer!E19","v":0}]

{"sheet":"invoer","index":1,"n_rows":62,"n_cols":9,"rows_kept":62,"cut":false,"hidden":false,"merged":[]}
["INVOER ROOSTER 01",null,"2017-12-09","2017-12-10","2017-12-11","2017-12-12","2017-12-13","2017-12-14","2017-12-15"]
[null,null,"zondag","maandag","dinsdag","woensdag","donderdag","vrijdag","zaterdag"]
["week 1",null,"G","R7380","L"]
["week 2",null,null,null,"R7380"]
["week 3",null,null,null,null,"R7380"]
["week 4",null,null,null,null,null,"R7380"]
["week 5",null,null,null,null,null,null,"R7380"]
["week 6",null,null,null,null,null,null,null,"R7380"]
["week 7",null,null,"R7380"]
["week 8",null,null,null,"R7380"]
["week 9",null,null,null,null,"R7380"]
["week 10",null,null,null,null,null,"R7380"]
["week 11",null,null,null,null,null,null,"R7380"]
["week 12",null,null,null,null,null,null,null,"R7380"]
["week 13",null,null,"R7380"]
["week 14",null,null,null,"R7380"]
["week 15",null,null,null,null,"R7380"]
["week 16",null,null,null,null,null,"R7380"]
["week 17",null,null,null,null,null,null,"R7380"]
["week 18",null,null,null,null,null,null,null,"R7380"]
["week 19",null,null,"R7380"]
["week 20",null,null,null,"R7380"]
["week 21",null,null,null,null,"R7380"]
["week 22",null,null,null,null,null,"R7380"]
["week 23",null,null,null,null,null,null,"R7380"]
["week 24",null,null,null,null,null,null,null,"R7380"]
["week 25",null,null,"R7380"]
["week 26",null,null,null,"R7380"]
["week 27",null,null,null,null,"R7380"]
["week 28",null,null,null,null,null,"R7380"]
["week 29",null,null,null,null,null,null,"R7380"]
["week 30",null,null,null,null,null,null,null,"R7380"]
["week 31",null,null,"R7380"]
["week 32",null,null,null,"R7380"]
["week 33",null,null,null,null,"R7380"]
["week 34",null,null,null,null,null,"R7380"]
["week 35",null,null,null,null,null,null,"R7380"]
["week 36",null,null,null,null,null,null,null,"R7380"]
["week 37",null,null,"R7380"]
["week 38",null,null,null,"R7380"]
["week 39",null,null,null,null,"R7380"]
["week 40",null,null,null,null,null,"R7380"]
["week 41",null,null,null,null,null,null,"R7380"]
["week 42",null,null,null,null,null,null,null,"R7380"]
["week 43",null,null,"R7380"]
["week 44",null,null,null,"R7380"]
["week 45",null,null,null,null,"R7380"]
["week 46",null,null,null,null,null,"R7380"]
["week 47",null,null,null,null,null,null,"R7380"]
["week 48",null,null,null,null,null,null,null,"R7380"]
["week 49",null,null,"R7380"]
["week 50",null,null,null,"R7380"]
["week 51",null,null,null,null,"R7380"]
["week 52",null,null,null,null,null,"R7380"]
["week 53",null,null,null,null,null,null,"R7380"]
["week 54",null,null,null,null,null,null,null,"R7380"]
["week 55",null,null,"R7380"]
["week 56",null,null,null,"R7380"]
[null,null,null,null,null,"R7380"]
[null,null,null,null,null,null,"R7380"]
[null,null,null,null,null,null,null,"R7380"]
[null,null,null,null,null,null,null,null,"R7380"]