{"text_format":"1","workbook":"xlsx","n_sheets":5,"sheets":["Input E2","Balanced Scorecard","Actual Week E2","Rekenblad","DATA"],"not_rendered":{"charts":0,"images":0,"macros":1,"external_links":2,"defined_names":2,"comments":1,"pivot_tables":0},"unopened":[],"bounds":{"document_bytes":16777216,"sheet_cells":100000,"rows_first":2000,"rows_last":500,"rows_between":2000,"halvings":0,"cell_chars":16384,"cell_head_chars":4096},"cells_cut":0,"cells_raw":0,"read":"whole","date_system":"1900"}

{"sheet":"Input E2","index":0,"n_rows":83,"n_cols":368,"rows_kept":83,"cut":false,"hidden":false,"merged":[[7,109,8,109],[7,65,8,65],[7,66,8,66],[7,67,8,67],[7,68,8,68],[7,59,8,59],[7,60,8,60],[7,61,8,61],[7,62,8,62],[7,63,8,63],[7,74,8,74],[7,75,8,75],[7,76,8,76],[7,77,8,77],[7,78,8,78],[7,69,8,69],[7,64,8,64],[7,73,8,73],[7,84,8,84],[7,85,8,85],[7,86,8,86],[7,87,8,87],[7,88,8,88],[7,79,8,79],[3,0,3,1],[26,2,27,2],[4,0,4,1],[7,2,8,2],[5,0,5,1],[7,46,8,46],[7,47,8,47],[7,48,8,48],[7,39,8,39],[7,40,8,40],[7,41,8,41],[7,42,8,42],[7,43,8,43],[7,32,8,32],[7,33,8,33],[7,44,8,44],[7,45,8,45],[7,81,8,81],[7,82,8,82],[7,83,8,83],[7,108,8,108],[7,103,8,103],[7,94,8,94],[7,95,8,95],[7,96,8,96],[7,97,8,97],[7,98,8,98],[7,89,8,89],[7,90,8,90],[7,91,8,91],[7,92,8,92],[7,93,8,93],[7,99,8,99],[7,100,8,100],[7,101,8,101],[7,102,8,102],[7,112,8,112],[7,113,8,113],[9,3,24,3],[58,3,85,3],[7,9,8,9],[7,10,8,10],[7,11,8,11],[7,12,8,12],[7,13,8,13],[7,38,8,38],[7,29,8,29],[7,30,8,30],[7,31,8,31],[7,110,8,110],[7,80,8,80],[7,104,8,104],[7,105,8,105],[7,106,8,106],[7,107,8,107],[7,111,8,111],[7,70,8,70],[7,71,8,71],[7,72,8,72],[7,55,8,55],[56,0,57,1],[56,2,57,2],[73,0,73,1],[82,0,82,1],[7,4,8,4],[7,5,8,5],[7,6,8,6],[7,7,8,7],[7,8,8,8],[28,3,54,3],[7,1,8,1],[26,1,27,1],[7,0,8,0],[7,119,8,119],[7,120,8,120],[7,121,8,121],[7,122,8,122],[7,123,8,123],[7,114,8,114],[7,115,8,115],[7,116,8,116],[7,117,8,117],[7,118,8,118],[7,129,8,129],[7,130,8,130],[7,131,8,131],[7,132,8,132],[7,133,8,133],[7,124,8,124],[7,125,8,125],[7,126,8,126],[7,127,8,127],[7,128,8,128],[7,139,8,139],[7,140,8,140],[7,141,8,141],[7,142,8,142],[7,143,8,143],[7,134,8,134],[7,135,8,135],[7,136,8,136],[7,137,8,137],[7,138,8,138],[7,149,8,149],[7,150,8,150],[7,151,8,151],[7,152,8,152],[7,153,8,153],[7,144,8,144],[7,145,8,145],[7,146,8,146],[7,147,8,147],[7,148,8,148],[7,159,8,159],[7,160,8,160],[7,161,8,161],[7,162,8,162],[7,163,8,163],[7,154,8,154],[7,155,8,155],[7,156,8,156],[7,157,8,157],[7,158,8,158],[7,169,8,169],[7,170,8,170],[7,171,8,171],[7,172,8,172],[7,173,8,173],[7,164,8,164],[7,165,8,165],[7,166,8,166],[7,167,8,167],[7,168,8,168],[7,179,8,179],[7,180,8,180],[7,181,8,181],[7,182,8,182],[7,183,8,183],[7,174,8,174],[7,175,8,175],[7,176,8,176],[7,177,8,177],[7,178,8,178],[7,189,8,189],[7,190,8,190],[7,191,8,191],[7,192,8,192],[7,193,8,193],[7,184,8,184],[7,185,8,185],[7,186,8,186],[7,187,8,187],[7,188,8,188],[7,199,8,199],[7,200,8,200],[7,201,8,201],[7,202,8,202],[7,203,8,203],[7,194,8,194],[7,195,8,195],[7,196,8,196],[7,197,8,197],[7,198,8,198],[7,209,8,209],[7,210,8,210],[7,211,8,211],[7,212,8,212],[7,213,8,213],[7,204,8,204],[7,205,8,205],[7,206,8,206],[7,207,8,207],[7,208,8,208],[7,219,8,219],[7,220,8,220],[7,221,8,221],[7,222,8,222],[7,223,8,223],[7,214,8,214],[7,215,8,215],[7,216,8,216],[7,217,8,217],[7,218,8,218],[7,229,8,229],[7,230,8,230],[7,231,8,231],[7,232,8,232],[7,233,8,233],[7,224,8,224],[7,225,8,225],[7,226,8,226],[7,227,8,227],[7,228,8,228],[7,239,8,239],[7,240,8,240],[7,241,8,241],[7,242,8,242],[7,243,8,243],[7,234,8,234],[7,235,8,235],[7,236,8,236],[7,237,8,237],[7,238,8,238],[7,249,8,249],[7,250,8,250],[7,251,8,251],[7,252,8,252],[7,253,8,253],[7,244,8,244],[7,245,8,245],[7,246,8,246],[7,247,8,247],[7,248,8,248],[7,259,8,259],[7,260,8,260],[7,261,8,261],[7,262,8,262],[7,263,8,263],[7,254,8,254],[7,255,8,255],[7,256,8,256],[7,257,8,257],[7,258,8,258],[7,269,8,269],[7,270,8,270],[7,271,8,271],[7,272,8,272],[7,273,8,273],[7,264,8,264],[7,265,8,265],[7,266,8,266],[7,267,8,267],[7,268,8,268],[7,279,8,279],[7,280,8,280],[7,281,8,281],[7,282,8,282],[7,283,8,283],[7,274,8,274],[7,275,8,275],[7,276,8,276],[7,277,8,277],[7,278,8,278],[7,289,8,289],[7,290,8,290],[7,291,8,291],[7,292,8,292],[7,293,8,293],[7,284,8,284],[7,285,8,285],[7,286,8,286],[7,287,8,287],[7,288,8,288],[7,299,8,299],[7,300,8,300],[7,301,8,301],[7,302,8,302],[7,303,8,303],[7,294,8,294],[7,295,8,295],[7,296,8,296],[7,297,8,297],[7,298,8,298],[7,309,8,309],[7,310,8,310],[7,311,8,311],[7,312,8,312],[7,313,8,313],[7,304,8,304],[7,305,8,305],[7,306,8,306],[7,307,8,307],[7,308,8,308],[7,319,8,319],[7,320,8,320],[7,321,8,321],[7,322,8,322],[7,323,8,323],[7,314,8,314],[7,315,8,315],[7,316,8,316],[7,317,8,317],[7,318,8,318],[7,329,8,329],[7,330,8,330],[7,331,8,331],[7,332,8,332],[7,333,8,333],[7,324,8,324],[7,325,8,325],[7,326,8,326],[7,327,8,327],[7,328,8,328],[7,339,8,339],[7,340,8,340],[7,341,8,341],[7,342,8,342],[7,343,8,343],[7,334,8,334],[7,335,8,335],[7,336,8,336],[7,337,8,337],[7,338,8,338],[7,364,8,364],[7,365,8,365],[7,366,8,366],[7,367,8,367],[7,359,8,359],[7,360,8,360],[7,361,8,361],[7,362,8,362],[7,363,8,363],[7,354,8,354],[7,355,8,355],[7,356,8,356],[7,357,8,357],[7,358,8,358],[7,349,8,349],[7,350,8,350],[7,351,8,351],[7,352,8,352],[7,353,8,353],[7,344,8,344],[7,345,8,345],[7,346,8,346],[7,347,8,347],[7,348,8,348],[7,14,8,14],[7,15,8,15],[7,16,8,16],[7,17,8,17],[7,18,8,18],[7,24,8,24],[7,25,8,25],[7,26,8,26],[7,27,8,27],[7,28,8,28],[7,19,8,19],[7,20,8,20],[7,21,8,21],[7,22,8,22],[7,23,8,23],[7,34,8,34],[7,35,8,35],[7,36,8,36],[7,37,8,37],[7,56,8,56],[7,57,8,57],[7,58,8,58],[7,49,8,49],[7,50,8,50],[7,51,8,51],[7,54,8,54],[7,53,8,53],[7,52,8,52]]}
[null,null,null,null,{"$f":"E$3&E$5&$C$4","v":"1maE2"},{"$f":"F$3&F$5&$C$4","v":"1diE2"},"1woE2","1doE2","1vrE2","1zaE2","1zoE2","2maE2","2diE2","2woE2","2doE2","2vrE2","2zaE2","2zoE2","3maE2","3diE2","3woE2","3doE2","3vrE2","3zaE2","3zoE2","4maE2","4diE2","4woE2","4doE2","4vrE2","4zaE2","4zoE2","5maE2","5diE2","5woE2","5doE2","5vrE2","5zaE2","5zoE2","6maE2","6diE2","6woE2","6doE2","6vrE2","6zaE2","6zoE2","7maE2","7diE2","7woE2","7doE2","7vrE2","7zaE2","7zoE2","8maE2","8diE2","8woE2","8doE2","8vrE2","8zaE2","8zoE2","9maE2","9diE2","9woE2","9doE2","9vrE2","9zaE2","9zoE2","10maE2","10diE2",{"$f":"BR$3&BR$5&$C$4","v":"10woE2"},"10doE2","10vrE2","10zaE2","10zoE2","11maE2","11diE2","11woE2","11doE2","11vrE2","11zaE2","11zoE2","12maE2","12diE2","12woE2","12doE2","12vrE2","12zaE2","12zoE2","13maE2","13diE2","13woE2","13doE2","13vrE2","13zaE2","13zoE2","14maE2","14diE2","14woE2","14doE2","14vrE2","14zaE2","14zoE2","15maE2","15diE2","15woE2","15doE2","15vrE2","15zaE2","15zoE2","16maE2","16diE2","16woE2","16doE2","16vrE2","16zaE2","16zoE2","17maE2","17diE2","17woE2","17doE2","17vrE2","17zaE2","17zoE2","18maE2","18diE2","18woE2","18doE2","18vrE2","18zaE2","18zoE2","19maE2","19diE2","19woE2",{"$f":"ED$3&ED$5&$C$4","v":"19doE2"},"19vrE2","19zaE2","19zoE2","20maE2","20diE2","20woE2","20doE2","20vrE2","20zaE2","20zoE2","21maE2","21diE2","21woE2","21doE2","21vrE2","21zaE2","21zoE2","22maE2","22diE2","22woE2","22doE2","22vrE2","22zaE2","22zoE2","23maE2","23diE2","23woE2","23doE2","23vrE2","23zaE2","23zoE2","24maE2","24diE2","24woE2","24doE2","24vrE2","24zaE2","24zoE2","25maE2","25diE2","25woE2","25doE2","25vrE2","25zaE2","25zoE2","26maE2","26diE2","26woE2","26doE2","26vrE2","26zaE2","26zoE2","27maE2","27diE2","27woE2","27doE2","27vrE2","27zaE2","27zoE2","28maE2","28diE2","28woE2","28doE2",{"$f":"GP$3&GP$5&$C$4","v":"28vrE2"},"28zaE2","28zoE2","29maE2","29diE2","29woE2","29doE2","29vrE2","29zaE2","29zoE2","30maE2","30diE2","30woE2","30doE2","30vrE2","30zaE2","30zoE2","31maE2","31diE2","31woE2","31doE2","31vrE2","31zaE2","31zoE2","32maE2","32diE2","32woE2","32doE2","32vrE2","32zaE2","32zoE2","33maE2","33diE2","33woE2","33doE2","33vrE2","33zaE2","33zoE2","34maE2","34diE2","34woE2","34doE2","34vrE2","34zaE2","34zoE2","35maE2","35diE2","35woE2","35doE2","35vrE2","35zaE2","35zoE2","36maE2","36diE2","36woE2","36doE2","36vrE2","36zaE2","36zoE2","37maE2","37diE2","37woE2","37doE2","37vrE2",{"$f":"JB$3&JB$5&$C$4","v":"37zaE2"},"37zoE2","38maE2","38diE2","38woE2","38doE2","38vrE2","38zaE2","38zoE2","39maE2","39diE2","39woE2","39doE2","39vrE2","39zaE2","39zoE2","40maE2","40diE2","40woE2","40doE2","40vrE2","40zaE2","40zoE2","41maE2","41diE2","41woE2","41doE2","41vrE2","41zaE2","41zoE2","42maE2","42diE2","42woE2","42doE2","42vrE2","42zaE2","42zoE2","43maE2","43diE2","43woE2","43doE2","43vrE2","43zaE2","43zoE2","44maE2","44diE2","44woE2","44doE2","44vrE2","44zaE2","44zoE2","45maE2","45diE2","45woE2","45doE2","45vrE2","45zaE2","45zoE2","46maE2","46diE2","46woE2","46doE2","46vrE2","46zaE2",{"$f":"LN$3&LN$5&$C$4","v":"46zoE2"},"47maE2","47diE2","47woE2","47doE2","47vrE2","47zaE2","47zoE2","48maE2","48diE2","48woE2","48doE2","48vrE2","48zaE2","48zoE2","49maE2","49diE2","49woE2","49doE2","49vrE2","49zaE2","49zoE2","50maE2","50diE2","50woE2","50doE2","50vrE2","50zaE2","50zoE2","51maE2","51diE2","51woE2","51doE2","51vrE2","51zaE2","51zoE2","52maE2","52diE2","52woE2","52doE2","52vrE2","52zaE2","52zoE2"]
[null,null,null,"Month",{"$f":"MONTH(E4)","v":1},{"$f":"MONTH(F4)","v":1},1,1,1,1,1,1,1,1,1,1,1,1,1,1,1,1,1,1,1,1,1,1,1,1,1,1,1,1,1,2,2,2,2,2,2,2,2,2,2,2,2,2,2,2,2,2,2,2,2,2,2,2,2,2,2,2,2,3,3,3,3,3,3,{"$f":"MONTH(BR4)","v":3},3,3,3,3,3,3,3,3,3,3,3,3,3,3,3,3,3,3,3,3,3,3,3,3,4,4,4,4,4,4,4,4,4,4,4,4,4,4,4,4,4,4,4,4,4,4,4,4,4,4,4,4,4,4,5,5,5,5,5,5,5,5,5,{"$f":"MONTH(ED4)","v":5},5,5,5,5,5,5,5,5,5,5,5,5,5,5,5,5,5,5,5,5,5,6,6,6,6,6,6,6,6,6,6,6,6,6,6,6,6,6,{"$f":"MONTH(FQ4)","v":6},6,6,6,6,6,6,6,6,6,6,6,6,7,7,7,7,7,7,7,7,7,7,7,7,{"$f":"MONTH(GP4)","v":7},7,7,7,7,7,7,7,7,7,7,7,7,7,7,7,7,7,7,8,8,8,8,8,8,8,8,8,8,8,8,8,8,8,8,8,8,8,8,8,8,8,8,8,8,8,8,8,8,8,9,9,9,9,9,9,9,9,9,9,9,9,9,9,{"$f":"MONTH(JB4)","v":9},9,9,9,9,9,9,9,9,9,9,9,9,9,9,9,10,10,10,10,10,10,10,10,10,10,10,10,10,10,10,10,10,10,10,10,10,10,10,10,10,10,10,10,10,10,10,11,11,11,11,11,11,11,11,11,11,11,11,11,11,11,11,11,{"$f":"MONTH(LN4)","v":11},11,11,11,11,11,11,11,11,11,11,11,11,12,12,12,12,12,12,12,12,12,12,12,12,12,12,12,12,12,12,12,12,12,12,12,12,12,12,12,12,12,12]
[null,null,null,"Week",{"$f":"WEEKNUM(E4,21)","v":1},{"$f":"WEEKNUM(F4,21)","v":1},1,1,1,1,1,2,2,2,2,2,2,2,3,3,3,3,3,3,3,4,4,4,4,4,4,4,5,5,5,5,5,5,5,6,6,6,6,6,6,6,7,7,7,7,7,7,7,8,8,8,8,8,8,8,9,9,9,9,9,9,9,10,10,{"$f":"WEEKNUM(BR4,21)","v":10},10,10,10,10,11,11,11,11,11,11,11,12,12,12,12,12,12,12,13,13,13,13,13,13,13,14,14,14,14,14,14,14,15,15,15,15,15,15,15,16,16,16,16,16,16,16,17,17,17,17,17,17,17,18,18,18,18,18,18,18,19,19,19,{"$f":"WEEKNUM(ED4,21)","v":19},19,19,19,20,20,20,20,20,20,20,21,21,21,21,21,21,21,22,22,22,22,22,22,22,23,23,23,23,23,23,23,24,24,24,24,24,24,24,25,25,25,25,25,25,25,26,26,26,26,26,26,26,27,27,27,27,27,27,27,28,28,28,28,{"$f":"WEEKNUM(GP4,21)","v":28},28,28,29,29,29,29,29,29,29,30,30,30,30,30,30,30,31,31,31,31,31,31,31,32,32,32,32,32,32,32,33,33,33,33,33,33,33,34,34,34,34,34,34,34,35,35,35,35,35,35,35,36,36,36,36,36,36,36,37,37,37,37,37,{"$f":"WEEKNUM(JB4,21)","v":37},37,38,38,38,38,38,38,38,39,39,39,39,39,39,39,40,40,40,40,40,40,40,41,41,41,41,41,41,41,42,42,42,42,42,42,42,43,43,43,43,43,43,43,44,44,44,44,44,44,44,45,45,45,45,45,45,45,46,46,46,46,46,46,{"$f":"WEEKNUM(LN4,21)","v":46},47,47,47,47,47,47,47,48,48,48,48,48,48,48,49,49,49,49,49,49,49,50,50,50,50,50,50,50,51,51,51,51,51,51,51,52,52,52,52,52,52,52]
["Taakgroep 286",null,"E2",null,"2018-01-01",{"$f":"E4+1","v":"2018-01-02"},{"$f":"F4+1","v":"2018-01-03"},"2018-01-04","2018-01-05","2018-01-06","2018-01-07","2018-01-08","2018-01-09","2018-01-10","2018-01-11","2018-01-12","2018-01-13","2018-01-14","2018-01-15","2018-01-16","2018-01-17","2018-01-18","2018-01-19","2018-01-20","2018-01-21","2018-01-22","2018-01-23","2018-01-24","2018-01-25","2018-01-26","2018-01-27","2018-01-28","2018-01-29","2018-01-30","2018-01-31","2018-02-01","2018-02-02","2018-02-03","2018-02-04","2018-02-05","2018-02-06","2018-02-07","2018-02-08","2018-02-09","2018-02-10","2018-02-11","2018-02-12","2018-02-13","2018-02-14","2018-02-15","2018-02-16","2018-02-17","2018-02-18","2018-02-19","2018-02-20","2018-02-21","2018-02-22","2018-02-23","2018-02-24","2018-02-25","2018-02-26","2018-02-27","2018-02-28","2018-03-01","2018-03-02","2018-03-03","2018-03-04","2018-03-05","2018-03-06","2018-03-07",{"$f":"BR4+1","v":"2018-03-08"},"2018-03-09","2018-03-10","2018-03-11","2018-03-12","2018-03-13","2018-03-14","2018-03-15","2018-03-16","2018-03-17","2018-03-18","2018-03-19","2018-03-20","2018-03-21","2018-03-22","2018-03-23","2018-03-24","2018-03-25","2018-03-26","2018-03-27","2018-03-28","2018-03-29","2018-03-30","2018-03-31","2018-04-01","2018-04-02","2018-04-03","2018-04-04","2018-04-05","2018-04-06","2018-04-07","2018-04-08","2018-04-09","2018-04-10","2018-04-11","2018-04-12","2018-04-13","2018-04-14","2018-04-15","2018-04-16","2018-04-17","2018-04-18","2018-04-19","2018-04-20","2018-04-21","2018-04-22","2018-04-23","2018-04-24","2018-04-25","2018-04-26","2018-04-27","2018-04-28","2018-04-29","2018-04-30","2018-05-01","2018-05-02","2018-05-03","2018-05-04","2018-05-05","2018-05-06","2018-05-07","2018-05-08","2018-05-09","2018-05-10",{"$f":"ED4+1","v":"2018-05-11"},"2018-05-12","2018-05-13","2018-05-14","2018-05-15","2018-05-16","2018-05-17","2018-05-18","2018-05-19","2018-05-20","2018-05-21","2018-05-22","2018-05-23","2018-05-24","2018-05-25","2018-05-26","2018-05-27","2018-05-28","2018-05-29","2018-05-30","2018-05-31","2018-06-01","2018-06-02","2018-06-03","2018-06-04","2018-06-05","2018-06-06","2018-06-07","2018-06-08","2018-06-09","2018-06-10","2018-06-11","2018-06-12","2018-06-13","2018-06-14","2018-06-15","2018-06-16","2018-06-17","2018-06-18","2018-06-19","2018-06-20","2018-06-21","2018-06-22","2018-06-23","2018-06-24","2018-06-25","2018-06-26","2018-06-27","2018-06-28","2018-06-29","2018-06-30","2018-07-01","2018-07-02","2018-07-03","2018-07-04","2018-07-05","2018-07-06","2018-07-07","2018-07-08","2018-07-09","2018-07-10","2018-07-11","2018-07-12","2018-07-13",{"$f":"GP4+1","v":"2018-07-14"},"2018-07-15","2018-07-16","2018-07-17","2018-07-18","2018-07-19","2018-07-20","2018-07-21","2018-07-22","2018-07-23","2018-07-24","2018-07-25","2018-07-26","2018-07-27","2018-07-28","2018-07-29","2018-07-30","2018-07-31","2018-08-01","2018-08-02","2018-08-03","2018-08-04","2018-08-05","2018-08-06","2018-08-07","2018-08-08","2018-08-09","2018-08-10","2018-08-11","2018-08-12","2018-08-13","2018-08-14","2018-08-15","2018-08-16","2018-08-17","2018-08-18","2018-08-19","2018-08-20","2018-08-21","2018-08-22","2018-08-23","2018-08-24","2018-08-25","2018-08-26","2018-08-27","2018-08-28","2018-08-29","2018-08-30","2018-08-31","2018-09-01","2018-09-02","2018-09-03","2018-09-04","2018-09-05","2018-09-06","2018-09-07","2018-09-08","2018-09-09","2018-09-10","2018-09-11","2018-09-12","2018-09-13","2018-09-14","2018-09-15",{"$f":"JB4+1","v":"2018-09-16"},"2018-09-17","2018-09-18","2018-09-19","2018-09-20","2018-09-21","2018-09-22","2018-09-23","2018-09-24","2018-09-25","2018-09-26","2018-09-27","2018-09-28","2018-09-29","2018-09-30","2018-10-01","2018-10-02","2018-10-03","2018-10-04","2018-10-05","2018-10-06","2018-10-07","2018-10-08","2018-10-09","2018-10-10","2018-10-11","2018-10-12","2018-10-13","2018-10-14","2018-10-15","2018-10-16","2018-10-17","2018-10-18","2018-10-19","2018-10-20","2018-10-21","2018-10-22","2018-10-23","2018-10-24","2018-10-25","2018-10-26","2018-10-27","2018-10-28","2018-10-29","2018-10-30","2018-10-31","2018-11-01","2018-11-02","2018-11-03","2018-11-04","2018-11-05","2018-11-06","2018-11-07","2018-11-08","2018-11-09","2018-11-10","2018-11-11","2018-11-12","2018-11-13","2018-11-14","2018-11-15","2018-11-16","2018-11-17","2018-11-18",{"$f":"LN4+1","v":"2018-11-19"},"2018-11-20","2018-11-21","2018-11-22","2018-11-23","2018-11-24","2018-11-25","2018-11-26","2018-11-27","2018-11-28","2018-11-29","2018-11-30","2018-12-01","2018-12-02","2018-12-03","2018-12-04","2018-12-05","2018-12-06","2018-12-07","2018-12-08","2018-12-09","2018-12-10","2018-12-11","2018-12-12","2018-12-13","2018-12-14","2018-12-15","2018-12-16","2018-12-17","2018-12-18","2018-12-19","2018-12-20","2018-12-21","2018-12-22","2018-12-23","2018-12-24","2018-12-25","2018-12-26","2018-12-27","2018-12-28","2018-12-29","2018-12-30"]
["Rayonleider:",null,"J. op het Veld",null,{"$f":"TEXT(E4,\"DDD\")","v":"ma"},{"$f":"TEXT(F4,\"DDD\")","v":"di"},"wo","do","vr","za","zo","ma","di","wo","do","vr","za","zo","ma","di","wo","do","vr","za","zo","ma","di","wo","do","vr","za","zo","ma","di","wo","do","vr","za","zo","ma","di","wo","do","vr","za","zo","ma","di","wo","do","vr","za","zo","ma","di","wo","do","vr","za","zo","ma","di","wo","do","vr","za","zo","ma","di",{"$f":"TEXT(BR4,\"DDD\")","v":"wo"},"do","vr","za","zo","ma","di","wo","do","vr","za","zo","ma","di","wo","do","vr","za","zo","ma","di","wo","do","vr","za","zo","ma","di","wo","do","vr","za","zo","ma","di","wo","do","vr","za","zo","ma","di","wo","do","vr","za","zo",{"$f":"TEXT(DM4,\"DDD\")","v":"ma"},{"$f":"TEXT(DN4,\"DDD\")","v":"di"},{"$f":"TEXT(DO4,\"DDD\")","v":"wo"},{"$f":"TEXT(DP4,\"DDD\")","v":"do"},{"$f":"TEXT(DQ4,\"DDD\")","v":"vr"},{"$f":"TEXT(DR4,\"DDD\")","v":"za"},{"$f":"TEXT(DS4,\"DDD\")","v":"zo"},{"$f":"TEXT(DT4,\"DDD\")","v":"ma"},{"$f":"TEXT(DU4,\"DDD\")","v":"di"},{"$f":"TEXT(DV4,\"DDD\")","v":"wo"},{"$f":"TEXT(DW4,\"DDD\")","v":"do"},{"$f":"TEXT(DX4,\"DDD\")","v":"vr"},{"$f":"TEXT(DY4,\"DDD\")","v":"za"},{"$f":"TEXT(DZ4,\"DDD\")","v":"zo"},{"$f":"TEXT(EA4,\"DDD\")","v":"ma"},{"$f":"TEXT(EB4,\"DDD\")","v":"di"},{"$f":"TEXT(EC4,\"DDD\")","v":"wo"},{"$f":"TEXT(ED4,\"DDD\")","v":"do"},{"$f":"TEXT(EE4,\"DDD\")","v":"vr"},{"$f":"TEXT(EF4,\"DDD\")","v":"za"},{"$f":"TEXT(EG4,\"DDD\")","v":"zo"},{"$f":"TEXT(EH4,\"DDD\")","v":"ma"},{"$f":"TEXT(EI4,\"DDD\")","v":"di"},{"$f":"TEXT(EJ4,\"DDD\")","v":"wo"},{"$f":"TEXT(EK4,\"DDD\")","v":"do"},{"$f":"TEXT(EL4,\"DDD\")","v":"vr"},{"$f":"TEXT(EM4,\"DDD\")","v":"za"},{"$f":"TEXT(EN4,\"DDD\")","v":"zo"},{"$f":"TEXT(EO4,\"DDD\")","v":"ma"},{"$f":"TEXT(EP4,\"DDD\")","v":"di"},{"$f":"TEXT(EQ4,\"DDD\")","v":"wo"},{"$f":"TEXT(ER4,\"DDD\")","v":"do"},{"$f":"TEXT(ES4,\"DDD\")","v":"vr"},{"$f":"TEXT(ET4,\"DDD\")","v":"za"},{"$f":"TEXT(EU4,\"DDD\")","v":"zo"},{"$f":"TEXT(EV4,\"DDD\")","v":"ma"},{"$f":"TEXT(EW4,\"DDD\")","v":"di"},{"$f":"TEXT(EX4,\"DDD\")","v":"wo"},{"$f":"TEXT(EY4,\"DDD\")","v":"do"},{"$f":"TEXT(EZ4,\"DDD\")","v":"vr"},{"$f":"TEXT(FA4,\"DDD\")","v":"za"},{"$f":"TEXT(FB4,\"DDD\")","v":"zo"},{"$f":"TEXT(FC4,\"DDD\")","v":"ma"},{"$f":"TEXT(FD4,\"DDD\")","v":"di"},{"$f":"TEXT(FE4,\"DDD\")","v":"wo"},{"$f":"TEXT(FF4,\"DDD\")","v":"do"},{"$f":"TEXT(FG4,\"DDD\")","v":"vr"},{"$f":"TEXT(FH4,\"DDD\")","v":"za"},{"$f":"TEXT(FI4,\"DDD\")","v":"zo"},{"$f":"TEXT(FJ4,\"DDD\")","v":"ma"},{"$f":"TEXT(FK4,\"DDD\")","v":"di"},{"$f":"TEXT(FL4,\"DDD\")","v":"wo"},{"$f":"TEXT(FM4,\"DDD\")","v":"do"},{"$f":"TEXT(FN4,\"DDD\")","v":"vr"},{"$f":"TEXT(FO4,\"DDD\")","v":"za"},{"$f":"TEXT(FP4,\"DDD\")","v":"zo"},{"$f":"TEXT(FQ4,\"DDD\")","v":"ma"},{"$f":"TEXT(FR4,\"DDD\")","v":"di"},{"$f":"TEXT(FS4,\"DDD\")","v":"wo"},{"$f":"TEXT(FT4,\"DDD\")","v":"do"},{"$f":"TEXT(FU4,\"DDD\")","v":"vr"},{"$f":"TEXT(FV4,\"DDD\")","v":"za"},{"$f":"TEXT(FW4,\"DDD\")","v":"zo"},{"$f":"TEXT(FX4,\"DDD\")","v":"ma"},{"$f":"TEXT(FY4,\"DDD\")","v":"di"},{"$f":"TEXT(FZ4,\"DDD\")","v":"wo"},{"$f":"TEXT(GA4,\"DDD\")","v":"do"},{"$f":"TEXT(GB4,\"DDD\")","v":"vr"},{"$f":"TEXT(GC4,\"DDD\")","v":"za"},{"$f":"TEXT(GD4,\"DDD\")","v":"zo"},{"$f":"TEXT(GE4,\"DDD\")","v":"ma"},{"$f":"TEXT(GF4,\"DDD\")","v":"di"},{"$f":"TEXT(GG4,\"DDD\")","v":"wo"},{"$f":"TEXT(GH4,\"DDD\")","v":"do"},{"$f":"TEXT(GI4,\"DDD\")","v":"vr"},{"$f":"TEXT(GJ4,\"DDD\")","v":"za"},{"$f":"TEXT(GK4,\"DDD\")","v":"zo"},{"$f":"TEXT(GL4,\"DDD\")","v":"ma"},{"$f":"TEXT(GM4,\"DDD\")","v":"di"},{"$f":"TEXT(GN4,\"DDD\")","v":"wo"},{"$f":"TEXT(GO4,\"DDD\")","v":"do"},{"$f":"TEXT(GP4,\"DDD\")","v":"vr"},{"$f":"TEXT(GQ4,\"DDD\")","v":"za"},{"$f":"TEXT(GR4,\"DDD\")","v":"zo"},{"$f":"TEXT(GS4,\"DDD\")","v":"ma"},{"$f":"TEXT(GT4,\"DDD\")","v":"di"},{"$f":"TEXT(GU4,\"DDD\")","v":"wo"},{"$f":"TEXT(GV4,\"DDD\")","v":"do"},{"$f":"TEXT(GW4,\"DDD\")","v":"vr"},{"$f":"TEXT(GX4,\"DDD\")","v":"za"},{"$f":"TEXT(GY4,\"DDD\")","v":"zo"},{"$f":"TEXT(GZ4,\"DDD\")","v":"ma"},{"$f":"TEXT(HA4,\"DDD\")","v":"di"},{"$f":"TEXT(HB4,\"DDD\")","v":"wo"},{"$f":"TEXT(HC4,\"DDD\")","v":"do"},{"$f":"TEXT(HD4,\"DDD\")","v":"vr"},{"$f":"TEXT(HE4,\"DDD\")","v":"za"},{"$f":"TEXT(HF4,\"DDD\")","v":"zo"},{"$f":"TEXT(HG4,\"DDD\")","v":"ma"},{"$f":"TEXT(HH4,\"DDD\")","v":"di"},{"$f":"TEXT(HI4,\"DDD\")","v":"wo"},{"$f":"TEXT(HJ4,\"DDD\")","v":"do"},{"$f":"TEXT(HK4,\"DDD\")","v":"vr"},{"$f":"TEXT(HL4,\"DDD\")","v":"za"},{"$f":"TEXT(HM4,\"DDD\")","v":"zo"},{"$f":"TEXT(HN4,\"DDD\")","v":"ma"},{"$f":"TEXT(HO4,\"DDD\")","v":"di"},{"$f":"TEXT(HP4,\"DDD\")","v":"wo"},{"$f":"TEXT(HQ4,\"DDD\")","v":"do"},{"$f":"TEXT(HR4,\"DDD\")","v":"vr"},{"$f":"TEXT(HS4,\"DDD\")","v":"za"},{"$f":"TEXT(HT4,\"DDD\")","v":"zo"},{"$f":"TEXT(HU4,\"DDD\")","v":"ma"},{"$f":"TEXT(HV4,\"DDD\")","v":"di"},{"$f":"TEXT(HW4,\"DDD\")","v":"wo"},{"$f":"TEXT(HX4,\"DDD\")","v":"do"},{"$f":"TEXT(HY4,\"DDD\")","v":"vr"},{"$f":"TEXT(HZ4,\"DDD\")","v":"za"},{"$f":"TEXT(IA4,\"DDD\")","v":"zo"},{"$f":"TEXT(IB4,\"DDD\")","v":"ma"},{"$f":"TEXT(IC4,\"DDD\")","v":"di"},{"$f":"TEXT(ID4,\"DDD\")","v":"wo"},{"$f":"TEXT(IE4,\"DDD\")","v":"do"},{"$f":"TEXT(IF4,\"DDD\")","v":"vr"},{"$f":"TEXT(IG4,\"DDD\")","v":"za"},{"$f":"TEXT(IH4,\"DDD\")","v":"zo"},{"$f":"TEXT(II4,\"DDD\")","v":"ma"},{"$f":"TEXT(IJ4,\"DDD\")","v":"di"},{"$f":"TEXT(IK4,\"DDD\")","v":"wo"},{"$f":"TEXT(IL4,\"DDD\")","v":"do"},{"$f":"TEXT(IM4,\"DDD\")","v":"vr"},{"$f":"TEXT(IN4,\"DDD\")","v":"za"},{"$f":"TEXT(IO4,\"DDD\")","v":"zo"},{"$f":"TEXT(IP4,\"DDD\")","v":"ma"},{"$f":"TEXT(IQ4,\"DDD\")","v":"di"},{"$f":"TEXT(IR4,\"DDD\")","v":"wo"},{"$f":"TEXT(IS4,\"DDD\")","v":"do"},{"$f":"TEXT(IT4,\"DDD\")","v":"vr"},{"$f":"TEXT(IU4,\"DDD\")","v":"za"},{"$f":"TEXT(IV4,\"DDD\")","v":"zo"},{"$f":"TEXT(IW4,\"DDD\")","v":"ma"},{"$f":"TEXT(IX4,\"DDD\")","v":"di"},{"$f":"TEXT(IY4,\"DDD\")","v":"wo"},{"$f":"TEXT(IZ4,\"DDD\")","v":"do"},{"$f":"TEXT(JA4,\"DDD\")","v":"vr"},{"$f":"TEXT(JB4,\"DDD\")","v":"za"},{"$f":"TEXT(JC4,\"DDD\")","v":"zo"},{"$f":"TEXT(JD4,\"DDD\")","v":"ma"},{"$f":"TEXT(JE4,\"DDD\")","v":"di"},{"$f":"TEXT(JF4,\"DDD\")","v":"wo"},{"$f":"TEXT(JG4,\"DDD\")","v":"do"},{"$f":"TEXT(JH4,\"DDD\")","v":"vr"},{"$f":"TEXT(JI4,\"DDD\")","v":"za"},{"$f":"TEXT(JJ4,\"DDD\")","v":"zo"},{"$f":"TEXT(JK4,\"DDD\")","v":"ma"},{"$f":"TEXT(JL4,\"DDD\")","v":"di"},{"$f":"TEXT(JM4,\"DDD\")","v":"wo"},{"$f":"TEXT(JN4,\"DDD\")","v":"do"},{"$f":"TEXT(JO4,\"DDD\")","v":"vr"},{"$f":"TEXT(JP4,\"DDD\")","v":"za"},{"$f":"TEXT(JQ4,\"DDD\")","v":"zo"},{"$f":"TEXT(JR4,\"DDD\")","v":"ma"},{"$f":"TEXT(JS4,\"DDD\")","v":"di"},{"$f":"TEXT(JT4,\"DDD\")","v":"wo"},{"$f":"TEXT(JU4,\"DDD\")","v":"do"},{"$f":"TEXT(JV4,\"DDD\")","v":"vr"},{"$f":"TEXT(JW4,\"DDD\")","v":"za"},{"$f":"TEXT(JX4,\"DDD\")","v":"zo"},{"$f":"TEXT(JY4,\"DDD\")","v":"ma"},{"$f":"TEXT(JZ4,\"DDD\")","v":"di"},{"$f":"TEXT(KA4,\"DDD\")","v":"wo"},{"$f":"TEXT(KB4,\"DDD\")","v":"do"},{"$f":"TEXT(KC4,\"DDD\")","v":"vr"},{"$f":"TEXT(KD4,\"DDD\")","v":"za"},{"$f":"TEXT(KE4,\"DDD\")","v":"zo"},{"$f":"TEXT(KF4,\"DDD\")","v":"ma"},{"$f":"TEXT(KG4,\"DDD\")","v":"di"},{"$f":"TEXT(KH4,\"DDD\")","v":"wo"},{"$f":"TEXT(KI4,\"DDD\")","v":"do"},{"$f":"TEXT(KJ4,\"DDD\")","v":"vr"},{"$f":"TEXT(KK4,\"DDD\")","v":"za"},{"$f":"TEXT(KL4,\"DDD\")","v":"zo"},{"$f":"TEXT(KM4,\"DDD\")","v":"ma"},{"$f":"TEXT(KN4,\"DDD\")","v":"di"},{"$f":"TEXT(KO4,\"DDD\")","v":"wo"},{"$f":"TEXT(KP4,\"DDD\")","v":"do"},{"$f":"TEXT(KQ4,\"DDD\")","v":"vr"},{"$f":"TEXT(KR4,\"DDD\")","v":"za"},{"$f":"TEXT(KS4,\"DDD\")","v":"zo"},{"$f":"TEXT(KT4,\"DDD\")","v":"ma"},{"$f":"TEXT(KU4,\"DDD\")","v":"di"},{"$f":"TEXT(KV4,\"DDD\")","v":"wo"},{"$f":"TEXT(KW4,\"DDD\")","v":"do"},{"$f":"TEXT(KX4,\"DDD\")","v":"vr"},{"$f":"TEXT(KY4,\"DDD\")","v":"za"},{"$f":"TEXT(KZ4,\"DDD\")","v":"zo"},{"$f":"TEXT(LA4,\"DDD\")","v":"ma"},{"$f":"TEXT(LB4,\"DDD\")","v":"di"},{"$f":"TEXT(LC4,\"DDD\")","v":"wo"},{"$f":"TEXT(LD4,\"DDD\")","v":"do"},{"$f":"TEXT(LE4,\"DDD\")","v":"vr"},{"$f":"TEXT(LF4,\"DDD\")","v":"za"},{"$f":"TEXT(LG4,\"DDD\")","v":"zo"},{"$f":"TEXT(LH4,\"DDD\")","v":"ma"},{"$f":"TEXT(LI4,\"DDD\")","v":"di"},{"$f":"TEXT(LJ4,\"DDD\")","v":"wo"},{"$f":"TEXT(LK4,\"DDD\")","v":"do"},{"$f":"TEXT(LL4,\"DDD\")","v":"vr"},{"$f":"TEXT(LM4,\"DDD\")","v":"za"},{"$f":"TEXT(LN4,\"DDD\")","v":"zo"},{"$f":"TEXT(LO4,\"DDD\")","v":"ma"},{"$f":"TEXT(LP4,\"DDD\")","v":"di"},{"$f":"TEXT(LQ4,\"DDD\")","v":"wo"},{"$f":"TEXT(LR4,\"DDD\")","v":"do"},{"$f":"TEXT(LS4,\"DDD\")","v":"vr"},{"$f":"TEXT(LT4,\"DDD\")","v":"za"},{"$f":"TEXT(LU4,\"DDD\")","v":"zo"},{"$f":"TEXT(LV4,\"DDD\")","v":"ma"},{"$f":"TEXT(LW4,\"DDD\")","v":"di"},{"$f":"TEXT(LX4,\"DDD\")","v":"wo"},{"$f":"TEXT(LY4,\"DDD\")","v":"do"},{"$f":"TEXT(LZ4,\"DDD\")","v":"vr"},{"$f":"TEXT(MA4,\"DDD\")","v":"za"},{"$f":"TEXT(MB4,\"DDD\")","v":"zo"},{"$f":"TEXT(MC4,\"DDD\")","v":"ma"},{"$f":"TEXT(MD4,\"DDD\")","v":"di"},{"$f":"TEXT(ME4,\"DDD\")","v":"wo"},{"$f":"TEXT(MF4,\"DDD\")","v":"do"},{"$f":"TEXT(MG4,\"DDD\")","v":"vr"},{"$f":"TEXT(MH4,\"DDD\")","v":"za"},{"$f":"TEXT(MI4,\"DDD\")","v":"zo"},{"$f":"TEXT(MJ4,\"DDD\")","v":"ma"},{"$f":"TEXT(MK4,\"DDD\")","v":"di"},{"$f":"TEXT(ML4,\"DDD\")","v":"wo"},{"$f":"TEXT(MM4,\"DDD\")","v":"do"},{"$f":"TEXT(MN4,\"DDD\")","v":"vr"},{"$f":"TEXT(MO4,\"DDD\")","v":"za"},{"$f":"TEXT(MP4,\"DDD\")","v":"zo"},{"$f":"TEXT(MQ4,\"DDD\")","v":"ma"},{"$f":"TEXT(MR4,\"DDD\")","v":"di"},{"$f":"TEXT(MS4,\"DDD\")","v":"wo"},{"$f":"TEXT(MT4,\"DDD\")","v":"do"},{"$f":"TEXT(MU4,\"DDD\")","v":"vr"},{"$f":"TEXT(MV4,\"DDD\")","v":"za"},{"$f":"TEXT(MW4,\"DDD\")","v":"zo"},{"$f":"TEXT(MX4,\"DDD\")","v":"ma"},{"$f":"TEXT(MY4,\"DDD\")","v":"di"},{"$f":"TEXT(MZ4,\"DDD\")","v":"wo"},{"$f":"TEXT(NA4,\"DDD\")","v":"do"},{"$f":"TEXT(NB4,\"DDD\")","v":"vr"},{"$f":"TEXT(NC4,\"DDD\")","v":"za"},{"$f":"TEXT(ND4,\"DDD\")","v":"zo"}]
["Coördinator:",null,"E. Kamphuis",null,{"$f":"IFERROR(INDEX(DATA!$A$1:$NI$21,MATCH($C4,DATA!$A$1:$A$21,0),MATCH(E$4,DATA!$A$1:$NJ$1,0)),\"\")","v":"ND"},{"$f":"IFERROR(INDEX(DATA!$A$1:$NI$21,MATCH($C4,DATA!$A$1:$A$21,0),MATCH(F$4,DATA!$A$1:$NJ$1,0)),\"\")","v":"ND"},{"$f":"IFERROR(INDEX(DATA!$A$1:$NI$21,MATCH($C4,DATA!$A$1:$A$21,0),MATCH(G$4,DATA!$A$1:$NJ$1,0)),\"\")","v":"ND"},{"$f":"IFERROR(INDEX(DATA!$A$1:$NI$21,MATCH($C4,DATA!$A$1:$A$21,0),MATCH(H$4,DATA!$A$1:$NJ$1,0)),\"\")","v":"ND"},{"$f":"IFERROR(INDEX(DATA!$A$1:$NI$21,MATCH($C4,DATA!$A$1:$A$21,0),MATCH(I$4,DATA!$A$1:$NJ$1,0)),\"\")","v":"ND"},{"$f":"IFERROR(INDEX(DATA!$A$1:$NI$21,MATCH($C4,DATA!$A$1:$A$21,0),MATCH(J$4,DATA!$A$1:$NJ$1,0)),\"\")","v":"Za"},{"$f":"IFERROR(INDEX(DATA!$A$1:$NI$21,MATCH($C4,DATA!$A$1:$A$21,0),MATCH(K$4,DATA!$A$1:$NJ$1,0)),\"\")","v":"Zo"},{"$f":"IFERROR(INDEX(DATA!$A$1:$NI$21,MATCH($C4,DATA!$A$1:$A$21,0),MATCH(L$4,DATA!$A$1:$NJ$1,0)),\"\")","v":"MD"},{"$f":"IFERROR(INDEX(DATA!$A$1:$NI$21,MATCH($C4,DATA!$A$1:$A$21,0),MATCH(M$4,DATA!$A$1:$NJ$1,0)),\"\")","v":"MD"},{"$f":"IFERROR(INDEX(DATA!$A$1:$NI$21,MATCH($C4,DATA!$A$1:$A$21,0),MATCH(N$4,DATA!$A$1:$NJ$1,0)),\"\")","v":"MD"},{"$f":"IFERROR(INDEX(DATA!$A$1:$NI$21,MATCH($C4,DATA!$A$1:$A$21,0),MATCH(O$4,DATA!$A$1:$NJ$1,0)),\"\")","v":"MD"},{"$f":"IFERROR(INDEX(DATA!$A$1:$NI$21,MATCH($C4,DATA!$A$1:$A$21,0),MATCH(P$4,DATA!$A$1:$NJ$1,0)),\"\")","v":"MD"},{"$f":"IFERROR(INDEX(DATA!$A$1:$NI$21,MATCH($C4,DATA!$A$1:$A$21,0),MATCH(Q$4,DATA!$A$1:$NJ$1,0)),\"\")","v":"Za"},{"$f":"IFERROR(INDEX(DATA!$A$1:$NI$21,MATCH($C4,DATA!$A$1:$A$21,0),MATCH(R$4,DATA!$A$1:$NJ$1,0)),\"\")","v":"Zo"},{"$f":"IFERROR(INDEX(DATA!$A$1:$NI$21,MATCH($C4,DATA!$A$1:$A$21,0),MATCH(S$4,DATA!$A$1:$NJ$1,0)),\"\")","v":"DD"},{"$f":"IFERROR(INDEX(DATA!$A$1:$NI$21,MATCH($C4,DATA!$A$1:$A$21,0),MATCH(T$4,DATA!$A$1:$NJ$1,0)),\"\")","v":"DD"},{"$f":"IFERROR(INDEX(DATA!$A$1:$NI$21,MATCH($C4,DATA!$A$1:$A$21,0),MATCH(U$4,DATA!$A$1:$NJ$1,0)),\"\")","v":"DD"},{"$f":"IFERROR(INDEX(DATA!$A$1:$NI$21,MATCH($C4,DATA!$A$1:$A$21,0),MATCH(V$4,DATA!$A$1:$NJ$1,0)),\"\")","v":"DD"},{"$f":"IFERROR(INDEX(DATA!$A$1:$NI$21,MATCH($C4,DATA!$A$1:$A$21,0),MATCH(W$4,DATA!$A$1:$NJ$1,0)),\"\")","v":"DD"},{"$f":"IFERROR(INDEX(DATA!$A$1:$NI$21,MATCH($C4,DATA!$A$1:$A$21,0),MATCH(X$4,DATA!$A$1:$NJ$1,0)),\"\")","v":"DD"},{"$f":"IFERROR(INDEX(DATA!$A$1:$NI$21,MATCH($C4,DATA!$A$1:$A$21,0),MATCH(Y$4,DATA!$A$1:$NJ$1,0)),\"\")","v":"Zo"},{"$f":"IFERROR(INDEX(DATA!$A$1:$NI$21,MATCH($C4,DATA!$A$1:$A$21,0),MATCH(Z$4,DATA!$A$1:$NJ$1,0)),\"\")","v":"ND"},{"$f":"IFERROR(INDEX(DATA!$A$1:$NI$21,MATCH($C4,DATA!$A$1:$A$21,0),MATCH(AA$4,DATA!$A$1:$NJ$1,0)),\"\")","v":"ND"},{"$f":"IFERROR(INDEX(DATA!$A$1:$NI$21,MATCH($C4,DATA!$A$1:$A$21,0),MATCH(AB$4,DATA!$A$1:$NJ$1,0)),\"\")","v":"ND"},{"$f":"IFERROR(INDEX(DATA!$A$1:$NI$21,MATCH($C4,DATA!$A$1:$A$21,0),MATCH(AC$4,DATA!$A$1:$NJ$1,0)),\"\")","v":"ND"},{"$f":"IFERROR(INDEX(DATA!$A$1:$NI$21,MATCH($C4,DATA!$A$1:$A$21,0),MATCH(AD$4,DATA!$A$1:$NJ$1,0)),\"\")","v":"ND"},{"$f":"IFERROR(INDEX(DATA!$A$1:$NI$21,MATCH($C4,DATA!$A$1:$A$21,0),MATCH(AE$4,DATA!$A$1:$NJ$1,0)),\"\")","v":"Za"},{"$f":"IFERROR(INDEX(DATA!$A$1:$NI$21,MATCH($C4,DATA!$A$1:$A$21,0),MATCH(AF$4,DATA!$A$1:$NJ$1,0)),\"\")","v":"Zo"},{"$f":"IFERROR(INDEX(DATA!$A$1:$NI$21,MATCH($C4,DATA!$A$1:$A$21,0),MATCH(AG$4,DATA!$A$1:$NJ$1,0)),\"\")","v":"MD"},{"$f":"IFERROR(INDEX(DATA!$A$1:$NI$21,MATCH($C4,DATA!$A$1:$A$21,0),MATCH(AH$4,DATA!$A$1:$NJ$1,0)),\"\")","v":"MD"},{"$f":"IFERROR(INDEX(DATA!$A$1:$NI$21,MATCH($C4,DATA!$A$1:$A$21,0),MATCH(AI$4,DATA!$A$1:$NJ$1,0)),\"\")","v":"MD"},{"$f":"IFERROR(INDEX(DATA!$A$1:$NI$21,MATCH($C4,DATA!$A$1:$A$21,0),MATCH(AJ$4,DATA!$A$1:$NJ$1,0)),\"\")","v":"MD"},{"$f":"IFERROR(INDEX(DATA!$A$1:$NI$21,MATCH($C4,DATA!$A$1:$A$21,0),MATCH(AK$4,DATA!$A$1:$NJ$1,0)),\"\")","v":"MD"},{"$f":"IFERROR(INDEX(DATA!$A$1:$NI$21,MATCH($C4,DATA!$A$1:$A$21,0),MATCH(AL$4,DATA!$A$1:$NJ$1,0)),\"\")","v":"Za"},{"$f":"IFERROR(INDEX(DATA!$A$1:$NI$21,MATCH($C4,DATA!$A$1:$A$21,0),MATCH(AM$4,DATA!$A$1:$NJ$1,0)),\"\")","v":"Zo"},{"$f":"IFERROR(INDEX(DATA!$A$1:$NI$21,MATCH($C4,DATA!$A$1:$A$21,0),MATCH(AN$4,DATA!$A$1:$NJ$1,0)),\"\")","v":"DD"},{"$f":"IFERROR(INDEX(DATA!$A$1:$NI$21,MATCH($C4,DATA!$A$1:$A$21,0),MATCH(AO$4,DATA!$A$1:$NJ$1,0)),\"\")","v":"DD"},{"$f":"IFERROR(INDEX(DATA!$A$1:$NI$21,MATCH($C4,DATA!$A$1:$A$21,0),MATCH(AP$4,DATA!$A$1:$NJ$1,0)),\"\")","v":"DD"},{"$f":"IFERROR(INDEX(DATA!$A$1:$NI$21,MATCH($C4,DATA!$A$1:$A$21,0),MATCH(AQ$4,DATA!$A$1:$NJ$1,0)),\"\")","v":"DD"},{"$f":"IFERROR(INDEX(DATA!$A$1:$NI$21,MATCH($C4,DATA!$A$1:$A$21,0),MATCH(AR$4,DATA!$A$1:$NJ$1,0)),\"\")","v":"DD"},{"$f":"IFERROR(INDEX(DATA!$A$1:$NI$21,MATCH($C4,DATA!$A$1:$A$21,0),MATCH(AS$4,DATA!$A$1:$NJ$1,0)),\"\")","v":"DD"},{"$f":"IFERROR(INDEX(DATA!$A$1:$NI$21,MATCH($C4,DATA!$A$1:$A$21,0),MATCH(AT$4,DATA!$A$1:$NJ$1,0)),\"\")","v":"Zo"},{"$f":"IFERROR(INDEX(DATA!$A$1:$NI$21,MATCH($C4,DATA!$A$1:$A$21,0),MATCH(AU$4,DATA!$A$1:$NJ$1,0)),\"\")","v":"ND"},{"$f":"IFERROR(INDEX(DATA!$A$1:$NI$21,MATCH($C4,DATA!$A$1:$A$21,0),MATCH(AV$4,DATA!$A$1:$NJ$1,0)),\"\")","v":"ND"},{"$f":"IFERROR(INDEX(DATA!$A$1:$NI$21,MATCH($C4,DATA!$A$1:$A$21,0),MATCH(AW$4,DATA!$A$1:$NJ$1,0)),\"\")","v":"ND"},{"$f":"IFERROR(INDEX(DATA!$A$1:$NI$21,MATCH($C4,DATA!$A$1:$A$21,0),MATCH(AX$4,DATA!$A$1:$NJ$1,0)),\"\")","v":"ND"},{"$f":"IFERROR(INDEX(DATA!$A$1:$NI$21,MATCH($C4,DATA!$A$1:$A$21,0),MATCH(AY$4,DATA!$A$1:$NJ$1,0)),\"\")","v":"ND"},{"$f":"IFERROR(INDEX(DATA!$A$1:$NI$21,MATCH($C4,DATA!$A$1:$A$21,0),MATCH(AZ$4,DATA!$A$1:$NJ$1,0)),\"\")","v":"Za"},{"$f":"IFERROR(INDEX(DATA!$A$1:$NI$21,MATCH($C4,DATA!$A$1:$A$21,0),MATCH(BA$4,DATA!$A$1:$NJ$1,0)),\"\")","v":"Zo"},{"$f":"IFERROR(INDEX(DATA!$A$1:$NI$21,MATCH($C4,DATA!$A$1:$A$21,0),MATCH(BB$4,DATA!$A$1:$NJ$1,0)),\"\")","v":"MD"},{"$f":"IFERROR(INDEX(DATA!$A$1:$NI$21,MATCH($C4,DATA!$A$1:$A$21,0),MATCH(BC$4,DATA!$A$1:$NJ$1,0)),\"\")","v":"MD"},{"$f":"IFERROR(INDEX(DATA!$A$1:$NI$21,MATCH($C4,DATA!$A$1:$A$21,0),MATCH(BD$4,DATA!$A$1:$NJ$1,0)),\"\")","v":"MD"},{"$f":"IFERROR(INDEX(DATA!$A$1:$NI$21,MATCH($C4,DATA!$A$1:$A$21,0),MATCH(BE$4,DATA!$A$1:$NJ$1,0)),\"\")","v":"MD"},{"$f":"IFERROR(INDEX(DATA!$A$1:$NI$21,MATCH($C4,DATA!$A$1:$A$21,0),MATCH(BF$4,DATA!$A$1:$NJ$1,0)),\"\")","v":"MD"},{"$f":"IFERROR(INDEX(DATA!$A$1:$NI$21,MATCH($C4,DATA!$A$1:$A$21,0),MATCH(BG$4,DATA!$A$1:$NJ$1,0)),\"\")","v":"Za"},{"$f":"IFERROR(INDEX(DATA!$A$1:$NI$21,MATCH($C4,DATA!$A$1:$A$21,0),MATCH(BH$4,DATA!$A$1:$NJ$1,0)),\"\")","v":"Zo"},{"$f":"IFERROR(INDEX(DATA!$A$1:$NI$21,MATCH($C4,DATA!$A$1:$A$21,0),MATCH(BI$4,DATA!$A$1:$NJ$1,0)),\"\")","v":"DD"},{"$f":"IFERROR(INDEX(DATA!$A$1:$NI$21,MATCH($C4,DATA!$A$1:$A$21,0),MATCH(BJ$4,DATA!$A$1:$NJ$1,0)),\"\")","v":"DD"},{"$f":"IFERROR(INDEX(DATA!$A$1:$NI$21,MATCH($C4,DATA!$A$1:$A$21,0),MATCH(BK$4,DATA!$A$1:$NJ$1,0)),\"\")","v":"DD"},{"$f":"IFERROR(INDEX(DATA!$A$1:$NI$21,MATCH($C4,DATA!$A$1:$A$21,0),MATCH(BL$4,DATA!$A$1:$NJ$1,0)),\"\")","v":"DD"},{"$f":"IFERROR(INDEX(DATA!$A$1:$NI$21,MATCH($C4,DATA!$A$1:$A$21,0),MATCH(BM$4,DATA!$A$1:$NJ$1,0)),\"\")","v":"DD"},{"$f":"IFERROR(INDEX(DATA!$A$1:$NI$21,MATCH($C4,DATA!$A$1:$A$21,0),MATCH(BN$4,DATA!$A$1:$NJ$1,0)),\"\")","v":"DD"},{"$f":"IFERROR(INDEX(DATA!$A$1:$NI$21,MATCH($C4,DATA!$A$1:$A$21,0),MATCH(BO$4,DATA!$A$1:$NJ$1,0)),\"\")","v":"Zo"},{"$f":"IFERROR(INDEX(DATA!$A$1:$NI$21,MATCH($C4,DATA!$A$1:$A$21,0),MATCH(BP$4,DATA!$A$1:$NJ$1,0)),\"\")","v":"ND"},{"$f":"IFERROR(INDEX(DATA!$A$1:$NI$21,MATCH($C4,DATA!$A$1:$A$21,0),MATCH(BQ$4,DATA!$A$1:$NJ$1,0)),\"\")","v":"ND"},{"$f":"IFERROR(INDEX(DATA!$A$1:$NI$21,MATCH($C4,DATA!$A$1:$A$21,0),MATCH(BR$4,DATA!$A$1:$NJ$1,0)),\"\")","v":"ND"},{"$f":"IFERROR(INDEX(DATA!$A$1:$NI$21,MATCH($C4,DATA!$A$1:$A$21,0),MATCH(BS$4,DATA!$A$1:$NJ$1,0)),\"\")","v":"ND"},{"$f":"IFERROR(INDEX(DATA!$A$1:$NI$21,MATCH($C4,DATA!$A$1:$A$21,0),MATCH(BT$4,DATA!$A$1:$NJ$1,0)),\"\")","v":"ND"},{"$f":"IFERROR(INDEX(DATA!$A$1:$NI$21,MATCH($C4,DATA!$A$1:$A$21,0),MATCH(BU$4,DATA!$A$1:$NJ$1,0)),\"\")","v":"Za"},{"$f":"IFERROR(INDEX(DATA!$A$1:$NI$21,MATCH($C4,DATA!$A$1:$A$21,0),MATCH(BV$4,DATA!$A$1:$NJ$1,0)),\"\")","v":"Zo"},{"$f":"IFERROR(INDEX(DATA!$A$1:$NI$21,MATCH($C4,DATA!$A$1:$A$21,0),MATCH(BW$4,DATA!$A$1:$NJ$1,0)),\"\")","v":"MD"},{"$f":"IFERROR(INDEX(DATA!$A$1:$NI$21,MATCH($C4,DATA!$A$1:$A$21,0),MATCH(BX$4,DATA!$A$1:$NJ$1,0)),\"\")","v":"MD"},{"$f":"IFERROR(INDEX(DATA!$A$1:$NI$21,MATCH($C4,DATA!$A$1:$A$21,0),MATCH(BY$4,DATA!$A$1:$NJ$1,0)),\"\")","v":"MD"},{"$f":"IFERROR(INDEX(DATA!$A$1:$NI$21,MATCH($C4,DATA!$A$1:$A$21,0),MATCH(BZ$4,DATA!$A$1:$NJ$1,0)),\"\")","v":"MD"},{"$f":"IFERROR(INDEX(DATA!$A$1:$NI$21,MATCH($C4,DATA!$A$1:$A$21,0),MATCH(CA$4,DATA!$A$1:$NJ$1,0)),\"\")","v":"MD"},{"$f":"IFERROR(INDEX(DATA!$A$1:$NI$21,MATCH($C4,DATA!$A$1:$A$21,0),MATCH(CB$4,DATA!$A$1:$NJ$1,0)),\"\")","v":"Za"},{"$f":"IFERROR(INDEX(DATA!$A$1:$NI$21,MATCH($C4,DATA!$A$1:$A$21,0),MATCH(CC$4,DATA!$A$1:$NJ$1,0)),\"\")","v":"Zo"},{"$f":"IFERROR(INDEX(DATA!$A$1:$NI$21,MATCH($C4,DATA!$A$1:$A$21,0),MATCH(CD$4,DATA!$A$1:$NJ$1,0)),\"\")","v":"DD"},{"$f":"IFERROR(INDEX(DATA!$A$1:$NI$21,MATCH($C4,DATA!$A$1:$A$21,0),MATCH(CE$4,DATA!$A$1:$NJ$1,0)),\"\")","v":"DD"},{"$f":"IFERROR(INDEX(DATA!$A$1:$NI$21,MATCH($C4,DATA!$A$1:$A$21,0),MATCH(CF$4,DATA!$A$1:$NJ$1,0)),\"\")","v":"DD"},{"$f":"IFERROR(INDEX(DATA!$A$1:$NI$21,MATCH($C4,DATA!$A$1:$A$21,0),MATCH(CG$4,DATA!$A$1:$NJ$1,0)),\"\")","v":"DD"},{"$f":"IFERROR(INDEX(DATA!$A$1:$NI$21,MATCH($C4,DATA!$A$1:$A$21,0),MATCH(CH$4,DATA!$A$1:$NJ$1,0)),\"\")","v":"DD"},{"$f":"IFERROR(INDEX(DATA!$A$1:$NI$21,MATCH($C4,DATA!$A$1:$A$21,0),MATCH(CI$4,DATA!$A$1:$NJ$1,0)),\"\")","v":"DD"},{"$f":"IFERROR(INDEX(DATA!$A$1:$NI$21,MATCH($C4,DATA!$A$1:$A$21,0),MATCH(CJ$4,DATA!$A$1:$NJ$1,0)),\"\")","v":"Zo"},{"$f":"IFERROR(INDEX(DATA!$A$1:$NI$21,MATCH($C4,DATA!$A$1:$A$21,0),MATCH(CK$4,DATA!$A$1:$NJ$1,0)),\"\")","v":"ND"},{"$f":"IFERROR(INDEX(DATA!$A$1:$NI$21,MATCH($C4,DATA!$A$1:$A$21,0),MATCH(CL$4,DATA!$A$1:$NJ$1,0)),\"\")","v":"ND"},{"$f":"IFERROR(INDEX(DATA!$A$1:$NI$21,MATCH($C4,DATA!$A$1:$A$21,0),MATCH(CM$4,DATA!$A$1:$NJ$1,0)),\"\")","v":"ND"},{"$f":"IFERROR(INDEX(DATA!$A$1:$NI$21,MATCH($C4,DATA!$A$1:$A$21,0),MATCH(CN$4,DATA!$A$1:$NJ$1,0)),\"\")","v":"ND"},{"$f":"IFERROR(INDEX(DATA!$A$1:$NI$21,MATCH($C4,DATA!$A$1:$A$21,0),MATCH(CO$4,DATA!$A$1:$NJ$1,0)),\"\")","v":"ND"},{"$f":"IFERROR(INDEX(DATA!$A$1:$NI$21,MATCH($C4,DATA!$A$1:$A$21,0),MATCH(CP$4,DATA!$A$1:$NJ$1,0)),\"\")","v":"Za"},{"$f":"IFERROR(INDEX(DATA!$A$1:$NI$21,MATCH($C4,DATA!$A$1:$A$21,0),MATCH(CQ$4,DATA!$A$1:$NJ$1,0)),\"\")","v":"Zo"},{"$f":"IFERROR(INDEX(DATA!$A$1:$NI$21,MATCH($C4,DATA!$A$1:$A$21,0),MATCH(CR$4,DATA!$A$1:$NJ$1,0)),\"\")","v":"MD"},{"$f":"IFERROR(INDEX(DATA!$A$1:$NI$21,MATCH($C4,DATA!$A$1:$A$21,0),MATCH(CS$4,DATA!$A$1:$NJ$1,0)),\"\")","v":"MD"},{"$f":"IFERROR(INDEX(DATA!$A$1:$NI$21,MATCH($C4,DATA!$A$1:$A$21,0),MATCH(CT$4,DATA!$A$1:$NJ$1,0)),\"\")","v":"MD"},{"$f":"IFERROR(INDEX(DATA!$A$1:$NI$21,MATCH($C4,DATA!$A$1:$A$21,0),MATCH(CU$4,DATA!$A$1:$NJ$1,0)),\"\")","v":"MD"},{"$f":"IFERROR(INDEX(DATA!$A$1:$NI$21,MATCH($C4,DATA!$A$1:$A$21,0),MATCH(CV$4,DATA!$A$1:$NJ$1,0)),\"\")","v":"MD"},{"$f":"IFERROR(INDEX(DATA!$A$1:$NI$21,MATCH($C4,DATA!$A$1:$A$21,0),MATCH(CW$4,DATA!$A$1:$NJ$1,0)),\"\")","v":"Za"},{"$f":"IFERROR(INDEX(DATA!$A$1:$NI$21,MATCH($C4,DATA!$A$1:$A$21,0),MATCH(CX$4,DATA!$A$1:$NJ$1,0)),\"\")","v":"Zo"},{"$f":"IFERROR(INDEX(DATA!$A$1:$NI$21,MATCH($C4,DATA!$A$1:$A$21,0),MATCH(CY$4,DATA!$A$1:$NJ$1,0)),\"\")","v":"DD"},{"$f":"IFERROR(INDEX(DATA!$A$1:$NI$21,MATCH($C4,DATA!$A$1:$A$21,0),MATCH(CZ$4,DATA!$A$1:$NJ$1,0)),\"\")","v":"DD"},{"$f":"IFERROR(INDEX(DATA!$A$1:$NI$21,MATCH($C4,DATA!$A$1:$A$21,0),MATCH(DA$4,DATA!$A$1:$NJ$1,0)),\"\")","v":"DD"},{"$f":"IFERROR(INDEX(DATA!$A$1:$NI$21,MATCH($C4,DATA!$A$1:$A$21,0),MATCH(DB$4,DATA!$A$1:$NJ$1,0)),\"\")","v":"DD"},{"$f":"IFERROR(INDEX(DATA!$A$1:$NI$21,MATCH($C4,DATA!$A$1:$A$21,0),MATCH(DC$4,DATA!$A$1:$NJ$1,0)),\"\")","v":"DD"},{"$f":"IFERROR(INDEX(DATA!$A$1:$NI$21,MATCH($C4,DATA!$A$1:$A$21,0),MATCH(DD$4,DATA!$A$1:$NJ$1,0)),\"\")","v":"DD"},{"$f":"IFERROR(INDEX(DATA!$A$1:$NI$21,MATCH($C4,DATA!$A$1:$A$21,0),MATCH(DE$4,DATA!$A$1:$NJ$1,0)),\"\")","v":"Zo"},{"$f":"IFERROR(INDEX(DATA!$A$1:$NI$21,MATCH($C4,DATA!$A$1:$A$21,0),MATCH(DF$4,DATA!$A$1:$NJ$1,0)),\"\")","v":"ND"},{"$f":"IFERROR(INDEX(DATA!$A$1:$NI$21,MATCH($C4,DATA!$A$1:$A$21,0),MATCH(DG$4,DATA!$A$1:$NJ$1,0)),\"\")","v":"ND"},{"$f":"IFERROR(INDEX(DATA!$A$1:$NI$21,MATCH($C4,DATA!$A$1:$A$21,0),MATCH(DH$4,DATA!$A$1:$NJ$1,0)),\"\")","v":"ND"},{"$f":"IFERROR(INDEX(DATA!$A$1:$NI$21,MATCH($C4,DATA!$A$1:$A$21,0),MATCH(DI$4,DATA!$A$1:$NJ$1,0)),\"\")","v":"ND"},{"$f":"IFERROR(INDEX(DATA!$A$1:$NI$21,MATCH($C4,DATA!$A$1:$A$21,0),MATCH(DJ$4,DATA!$A$1:$NJ$1,0)),\"\")","v":"ND"},{"$f":"IFERROR(INDEX(DATA!$A$1:$NI$21,MATCH($C4,DATA!$A$1:$A$21,0),MATCH(DK$4,DATA!$A$1:$NJ$1,0)),\"\")","v":"Za"},{"$f":"IFERROR(INDEX(DATA!$A$1:$NI$21,MATCH($C4,DATA!$A$1:$A$21,0),MATCH(DL$4,DATA!$A$1:$NJ$1,0)),\"\")","v":"Zo"},{"$f":"IFERROR(INDEX(DATA!$A$1:$NI$21,MATCH($C4,DATA!$A$1:$A$21,0),MATCH(DM$4,DATA!$A$1:$NJ$1,0)),\"\")","v":"MD"},{"$f":"IFERROR(INDEX(DATA!$A$1:$NI$21,MATCH($C4,DATA!$A$1:$A$21,0),MATCH(DN$4,DATA!$A$1:$NJ$1,0)),\"\")","v":"MD"},{"$f":"IFERROR(INDEX(DATA!$A$1:$NI$21,MATCH($C4,DATA!$A$1:$A$21,0),MATCH(DO$4,DATA!$A$1:$NJ$1,0)),\"\")","v":"MD"},{"$f":"IFERROR(INDEX(DATA!$A$1:$NI$21,MATCH($C4,DATA!$A$1:$A$21,0),MATCH(DP$4,DATA!$A$1:$NJ$1,0)),\"\")","v":"MD"},{"$f":"IFERROR(INDEX(DATA!$A$1:$NI$21,MATCH($C4,DATA!$A$1:$A$21,0),MATCH(DQ$4,DATA!$A$1:$NJ$1,0)),\"\")","v":"MD"},{"$f":"IFERROR(INDEX(DATA!$A$1:$NI$21,MATCH($C4,DATA!$A$1:$A$21,0),MATCH(DR$4,DATA!$A$1:$NJ$1,0)),\"\")","v":"Za"},{"$f":"IFERROR(INDEX(DATA!$A$1:$NI$21,MATCH($C4,DATA!$A$1:$A$21,0),MATCH(DS$4,DATA!$A$1:$NJ$1,0)),\"\")","v":"Zo"},{"$f":"IFERROR(INDEX(DATA!$A$1:$NI$21,MATCH($C4,DATA!$A$1:$A$21,0),MATCH(DT$4,DATA!$A$1:$NJ$1,0)),\"\")","v":"DD"},{"$f":"IFERROR(INDEX(DATA!$A$1:$NI$21,MATCH($C4,DATA!$A$1:$A$21,0),MATCH(DU$4,DATA!$A$1:$NJ$1,0)),\"\")","v":"DD"},{"$f":"IFERROR(INDEX(DATA!$A$1:$NI$21,MATCH($C4,DATA!$A$1:$A$21,0),MATCH(DV$4,DATA!$A$1:$NJ$1,0)),\"\")","v":"DD"},{"$f":"IFERROR(INDEX(DATA!$A$1:$NI$21,MATCH($C4,DATA!$A$1:$A$21,0),MATCH(DW$4,DATA!$A$1:$NJ$1,0)),\"\")","v":"DD"},{"$f":"IFERROR(INDEX(DATA!$A$1:$NI$21,MATCH($C4,DATA!$A$1:$A$21,0),MATCH(DX$4,DATA!$A$1:$NJ$1,0)),\"\")","v":"DD"},{"$f":"IFERROR(INDEX(DATA!$A$1:$NI$21,MATCH($C4,DATA!$A$1:$A$21,0),MATCH(DY$4,DATA!$A$1:$NJ$1,0)),\"\")","v":"DD"},{"$f":"IFERROR(INDEX(DATA!$A$1:$NI$21,MATCH($C4,DATA!$A$1:$A$21,0),MATCH(DZ$4,DATA!$A$1:$NJ$1,0)),\"\")","v":"Zo"},{"$f":"IFERROR(INDEX(DATA!$A$1:$NI$21,MATCH($C4,DATA!$A$1:$A$21,0),MATCH(EA$4,DATA!$A$1:$NJ$1,0)),\"\")","v":"ND"},{"$f":"IFERROR(INDEX(DATA!$A$1:$NI$21,MATCH($C4,DATA!$A$1:$A$21,0),MATCH(EB$4,DATA!$A$1:$NJ$1,0)),\"\")","v":"ND"},{"$f":"IFERROR(INDEX(DATA!$A$1:$NI$21,MATCH($C4,DATA!$A$1:$A$21,0),MATCH(EC$4,DATA!$A$1:$NJ$1,0)),\"\")","v":"ND"},{"$f":"IFERROR(INDEX(DATA!$A$1:$NI$21,MATCH($C4,DATA!$A$1:$A$21,0),MATCH(ED$4,DATA!$A$1:$NJ$1,0)),\"\")","v":"ND"},{"$f":"IFERROR(INDEX(DATA!$A$1:$NI$21,MATCH($C4,DATA!$A$1:$A$21,0),MATCH(EE$4,DATA!$A$1:$NJ$1,0)),\"\")","v":"ND"},{"$f":"IFERROR(INDEX(DATA!$A$1:$NI$21,MATCH($C4,DATA!$A$1:$A$21,0),MATCH(EF$4,DATA!$A$1:$NJ$1,0)),\"\")","v":"Za"},{"$f":"IFERROR(INDEX(DATA!$A$1:$NI$21,MATCH($C4,DATA!$A$1:$A$21,0),MATCH(EG$4,DATA!$A$1:$NJ$1,0)),\"\")","v":"Zo"},{"$f":"IFERROR(INDEX(DATA!$A$1:$NI$21,MATCH($C4,DATA!$A$1:$A$21,0),MATCH(EH$4,DATA!$A$1:$NJ$1,0)),\"\")","v":"MD"},{"$f":"IFERROR(INDEX(DATA!$A$1:$NI$21,MATCH($C4,DATA!$A$1:$A$21,0),MATCH(EI$4,DATA!$A$1:$NJ$1,0)),\"\")","v":"MD"},{"$f":"IFERROR(INDEX(DATA!$A$1:$NI$21,MATCH($C4,DATA!$A$1:$A$21,0),MATCH(EJ$4,DATA!$A$1:$NJ$1,0)),\"\")","v":"MD"},{"$f":"IFERROR(INDEX(DATA!$A$1:$NI$21,MATCH($C4,DATA!$A$1:$A$21,0),MATCH(EK$4,DATA!$A$1:$NJ$1,0)),\"\")","v":"MD"},{"$f":"IFERROR(INDEX(DATA!$A$1:$NI$21,MATCH($C4,DATA!$A$1:$A$21,0),MATCH(EL$4,DATA!$A$1:$NJ$1,0)),\"\")","v":"MD"},{"$f":"IFERROR(INDEX(DATA!$A$1:$NI$21,MATCH($C4,DATA!$A$1:$A$21,0),MATCH(EM$4,DATA!$A$1:$NJ$1,0)),\"\")","v":"Za"},{"$f":"IFERROR(INDEX(DATA!$A$1:$NI$21,MATCH($C4,DATA!$A$1:$A$21,0),MATCH(EN$4,DATA!$A$1:$NJ$1,0)),\"\")","v":"Zo"},{"$f":"IFERROR(INDEX(DATA!$A$1:$NI$21,MATCH($C4,DATA!$A$1:$A$21,0),MATCH(EO$4,DATA!$A$1:$NJ$1,0)),\"\")","v":"DD"},{"$f":"IFERROR(INDEX(DATA!$A$1:$NI$21,MATCH($C4,DATA!$A$1:$A$21,0),MATCH(EP$4,DATA!$A$1:$NJ$1,0)),\"\")","v":"DD"},{"$f":"IFERROR(INDEX(DATA!$A$1:$NI$21,MATCH($C4,DATA!$A$1:$A$21,0),MATCH(EQ$4,DATA!$A$1:$NJ$1,0)),\"\")","v":"DD"},{"$f":"IFERROR(INDEX(DATA!$A$1:$NI$21,MATCH($C4,DATA!$A$1:$A$21,0),MATCH(ER$4,DATA!$A$1:$NJ$1,0)),\"\")","v":"DD"},{"$f":"IFERROR(INDEX(DATA!$A$1:$NI$21,MATCH($C4,DATA!$A$1:$A$21,0),MATCH(ES$4,DATA!$A$1:$NJ$1,0)),\"\")","v":"DD"},{"$f":"IFERROR(INDEX(DATA!$A$1:$NI$21,MATCH($C4,DATA!$A$1:$A$21,0),MATCH(ET$4,DATA!$A$1:$NJ$1,0)),\"\")","v":"DD"},{"$f":"IFERROR(INDEX(DATA!$A$1:$NI$21,MATCH($C4,DATA!$A$1:$A$21,0),MATCH(EU$4,DATA!$A$1:$NJ$1,0)),\"\")","v":"Zo"},{"$f":"IFERROR(INDEX(DATA!$A$1:$NI$21,MATCH($C4,DATA!$A$1:$A$21,0),MATCH(EV$4,DATA!$A$1:$NJ$1,0)),\"\")","v":"ND"},{"$f":"IFERROR(INDEX(DATA!$A$1:$NI$21,MATCH($C4,DATA!$A$1:$A$21,0),MATCH(EW$4,DATA!$A$1:$NJ$1,0)),\"\")","v":"ND"},{"$f":"IFERROR(INDEX(DATA!$A$1:$NI$21,MATCH($C4,DATA!$A$1:$A$21,0),MATCH(EX$4,DATA!$A$1:$NJ$1,0)),\"\")","v":"ND"},{"$f":"IFERROR(INDEX(DATA!$A$1:$NI$21,MATCH($C4,DATA!$A$1:$A$21,0),MATCH(EY$4,DATA!$A$1:$NJ$1,0)),\"\")","v":"ND"},{"$f":"IFERROR(INDEX(DATA!$A$1:$NI$21,MATCH($C4,DATA!$A$1:$A$21,0),MATCH(EZ$4,DATA!$A$1:$NJ$1,0)),\"\")","v":"ND"},{"$f":"IFERROR(INDEX(DATA!$A$1:$NI$21,MATCH($C4,DATA!$A$1:$A$21,0),MATCH(FA$4,DATA!$A$1:$NJ$1,0)),\"\")","v":"Za"},{"$f":"IFERROR(INDEX(DATA!$A$1:$NI$21,MATCH($C4,DATA!$A$1:$A$21,0),MATCH(FB$4,DATA!$A$1:$NJ$1,0)),\"\")","v":"Zo"},{"$f":"IFERROR(INDEX(DATA!$A$1:$NI$21,MATCH($C4,DATA!$A$1:$A$21,0),MATCH(FC$4,DATA!$A$1:$NJ$1,0)),\"\")","v":"MD"},{"$f":"IFERROR(INDEX(DATA!$A$1:$NI$21,MATCH($C4,DATA!$A$1:$A$21,0),MATCH(FD$4,DATA!$A$1:$NJ$1,0)),\"\")","v":"MD"},{"$f":"IFERROR(INDEX(DATA!$A$1:$NI$21,MATCH($C4,DATA!$A$1:$A$21,0),MATCH(FE$4,DATA!$A$1:$NJ$1,0)),\"\")","v":"MD"},{"$f":"IFERROR(INDEX(DATA!$A$1:$NI$21,MATCH($C4,DATA!$A$1:$A$21,0),MATCH(FF$4,DATA!$A$1:$NJ$1,0)),\"\")","v":"MD"},{"$f":"IFERROR(INDEX(DATA!$A$1:$NI$21,MATCH($C4,DATA!$A$1:$A$21,0),MATCH(FG$4,DATA!$A$1:$NJ$1,0)),\"\")","v":"MD"},{"$f":"IFERROR(INDEX(DATA!$A$1:$NI$21,MATCH($C4,DATA!$A$1:$A$21,0),MATCH(FH$4,DATA!$A$1:$NJ$1,0)),\"\")","v":"Za"},{"$f":"IFERROR(INDEX(DATA!$A$1:$NI$21,MATCH($C4,DATA!$A$1:$A$21,0),MATCH(FI$4,DATA!$A$1:$NJ$1,0)),\"\")","v":"Zo"},{"$f":"IFERROR(INDEX(DATA!$A$1:$NI$21,MATCH($C4,DATA!$A$1:$A$21,0),MATCH(FJ$4,DATA!$A$1:$NJ$1,0)),\"\")","v":"DD"},{"$f":"IFERROR(INDEX(DATA!$A$1:$NI$21,MATCH($C4,DATA!$A$1:$A$21,0),MATCH(FK$4,DATA!$A$1:$NJ$1,0)),\"\")","v":"DD"},{"$f":"IFERROR(INDEX(DATA!$A$1:$NI$21,MATCH($C4,DATA!$A$1:$A$21,0),MATCH(FL$4,DATA!$A$1:$NJ$1,0)),\"\")","v":"DD"},{"$f":"IFERROR(INDEX(DATA!$A$1:$NI$21,MATCH($C4,DATA!$A$1:$A$21,0),MATCH(FM$4,DATA!$A$1:$NJ$1,0)),\"\")","v":"DD"},{"$f":"IFERROR(INDEX(DATA!$A$1:$NI$21,MATCH($C4,DATA!$A$1:$A$21,0),MATCH(FN$4,DATA!$A$1:$NJ$1,0)),\"\")","v":"DD"},{"$f":"IFERROR(INDEX(DATA!$A$1:$NI$21,MATCH($C4,DATA!$A$1:$A$21,0),MATCH(FO$4,DATA!$A$1:$NJ$1,0)),\"\")","v":"DD"},{"$f":"IFERROR(INDEX(DATA!$A$1:$NI$21,MATCH($C4,DATA!$A$1:$A$21,0),MATCH(FP$4,DATA!$A$1:$NJ$1,0)),\"\")","v":"Zo"},{"$f":"IFERROR(INDEX(DATA!$A$1:$NI$21,MATCH($C4,DATA!$A$1:$A$21,0),MATCH(FQ$4,DATA!$A$1:$NJ$1,0)),\"\")","v":"ND"},{"$f":"IFERROR(INDEX(DATA!$A$1:$NI$21,MATCH($C4,DATA!$A$1:$A$21,0),MATCH(FR$4,DATA!$A$1:$NJ$1,0)),\"\")","v":"ND"},{"$f":"IFERROR(INDEX(DATA!$A$1:$NI$21,MATCH($C4,DATA!$A$1:$A$21,0),MATCH(FS$4,DATA!$A$1:$NJ$1,0)),\"\")","v":"ND"},{"$f":"IFERROR(INDEX(DATA!$A$1:$NI$21,MATCH($C4,DATA!$A$1:$A$21,0),MATCH(FT$4,DATA!$A$1:$NJ$1,0)),\"\")","v":"ND"},{"$f":"IFERROR(INDEX(DATA!$A$1:$NI$21,MATCH($C4,DATA!$A$1:$A$21,0),MATCH(FU$4,DATA!$A$1:$NJ$1,0)),\"\")","v":"ND"},{"$f":"IFERROR(INDEX(DATA!$A$1:$NI$21,MATCH($C4,DATA!$A$1:$A$21,0),MATCH(FV$4,DATA!$A$1:$NJ$1,0)),\"\")","v":"Za"},{"$f":"IFERROR(INDEX(DATA!$A$1:$NI$21,MATCH($C4,DATA!$A$1:$A$21,0),MATCH(FW$4,DATA!$A$1:$NJ$1,0)),\"\")","v":"Zo"},{"$f":"IFERROR(INDEX(DATA!$A$1:$NI$21,MATCH($C4,DATA!$A$1:$A$21,0),MATCH(FX$4,DATA!$A$1:$NJ$1,0)),\"\")","v":"MD"},{"$f":"IFERROR(INDEX(DATA!$A$1:$NI$21,MATCH($C4,DATA!$A$1:$A$21,0),MATCH(FY$4,DATA!$A$1:$NJ$1,0)),\"\")","v":"MD"},{"$f":"IFERROR(INDEX(DATA!$A$1:$NI$21,MATCH($C4,DATA!$A$1:$A$21,0),MATCH(FZ$4,DATA!$A$1:$NJ$1,0)),\"\")","v":"MD"},{"$f":"IFERROR(INDEX(DATA!$A$1:$NI$21,MATCH($C4,DATA!$A$1:$A$21,0),MATCH(GA$4,DATA!$A$1:$NJ$1,0)),\"\")","v":"MD"},{"$f":"IFERROR(INDEX(DATA!$A$1:$NI$21,MATCH($C4,DATA!$A$1:$A$21,0),MATCH(GB$4,DATA!$A$1:$NJ$1,0)),\"\")","v":"MD"},{"$f":"IFERROR(INDEX(DATA!$A$1:$NI$21,MATCH($C4,DATA!$A$1:$A$21,0),MATCH(GC$4,DATA!$A$1:$NJ$1,0)),\"\")","v":"Za"},{"$f":"IFERROR(INDEX(DATA!$A$1:$NI$21,MATCH($C4,DATA!$A$1:$A$21,0),MATCH(GD$4,DATA!$A$1:$NJ$1,0)),\"\")","v":"Zo"},{"$f":"IFERROR(INDEX(DATA!$A$1:$NI$21,MATCH($C4,DATA!$A$1:$A$21,0),MATCH(GE$4,DATA!$A$1:$NJ$1,0)),\"\")","v":"DD"},{"$f":"IFERROR(INDEX(DATA!$A$1:$NI$21,MATCH($C4,DATA!$A$1:$A$21,0),MATCH(GF$4,DATA!$A$1:$NJ$1,0)),\"\")","v":"DD"},{"$f":"IFERROR(INDEX(DATA!$A$1:$NI$21,MATCH($C4,DATA!$A$1:$A$21,0),MATCH(GG$4,DATA!$A$1:$NJ$1,0)),\"\")","v":"DD"},{"$f":"IFERROR(INDEX(DATA!$A$1:$NI$21,MATCH($C4,DATA!$A$1:$A$21,0),MATCH(GH$4,DATA!$A$1:$NJ$1,0)),\"\")","v":"DD"},{"$f":"IFERROR(INDEX(DATA!$A$1:$NI$21,MATCH($C4,DATA!$A$1:$A$21,0),MATCH(GI$4,DATA!$A$1:$NJ$1,0)),\"\")","v":"DD"},{"$f":"IFERROR(INDEX(DATA!$A$1:$NI$21,MATCH($C4,DATA!$A$1:$A$21,0),MATCH(GJ$4,DATA!$A$1:$NJ$1,0)),\"\")","v":"DD"},{"$f":"IFERROR(INDEX(DATA!$A$1:$NI$21,MATCH($C4,DATA!$A$1:$A$21,0),MATCH(GK$4,DATA!$A$1:$NJ$1,0)),\"\")","v":"Zo"},{"$f":"IFERROR(INDEX(DATA!$A$1:$NI$21,MATCH($C4,DATA!$A$1:$A$21,0),MATCH(GL$4,DATA!$A$1:$NJ$1,0)),\"\")","v":"ND"},{"$f":"IFERROR(INDEX(DATA!$A$1:$NI$21,MATCH($C4,DATA!$A$1:$A$21,0),MATCH(GM$4,DATA!$A$1:$NJ$1,0)),\"\")","v":"ND"},{"$f":"IFERROR(INDEX(DATA!$A$1:$NI$21,MATCH($C4,DATA!$A$1:$A$21,0),MATCH(GN$4,DATA!$A$1:$NJ$1,0)),\"\")","v":"ND"},{"$f":"IFERROR(INDEX(DATA!$A$1:$NI$21,MATCH($C4,DATA!$A$1:$A$21,0),MATCH(GO$4,DATA!$A$1:$NJ$1,0)),\"\")","v":"ND"},{"$f":"IFERROR(INDEX(DATA!$A$1:$NI$21,MATCH($C4,DATA!$A$1:$A$21,0),MATCH(GP$4,DATA!$A$1:$NJ$1,0)),\"\")","v":"ND"},{"$f":"IFERROR(INDEX(DATA!$A$1:$NI$21,MATCH($C4,DATA!$A$1:$A$21,0),MATCH(GQ$4,DATA!$A$1:$NJ$1,0)),\"\")","v":"Za"},{"$f":"IFERROR(INDEX(DATA!$A$1:$NI$21,MATCH($C4,DATA!$A$1:$A$21,0),MATCH(GR$4,DATA!$A$1:$NJ$1,0)),\"\")","v":"Zo"},{"$f":"IFERROR(INDEX(DATA!$A$1:$NI$21,MATCH($C4,DATA!$A$1:$A$21,0),MATCH(GS$4,DATA!$A$1:$NJ$1,0)),\"\")","v":"MD"},{"$f":"IFERROR(INDEX(DATA!$A$1:$NI$21,MATCH($C4,DATA!$A$1:$A$21,0),MATCH(GT$4,DATA!$A$1:$NJ$1,0)),\"\")","v":"MD"},{"$f":"IFERROR(INDEX(DATA!$A$1:$NI$21,MATCH($C4,DATA!$A$1:$A$21,0),MATCH(GU$4,DATA!$A$1:$NJ$1,0)),\"\")","v":"MD"},{"$f":"IFERROR(INDEX(DATA!$A$1:$NI$21,MATCH($C4,DATA!$A$1:$A$21,0),MATCH(GV$4,DATA!$A$1:$NJ$1,0)),\"\")","v":"MD"},{"$f":"IFERROR(INDEX(DATA!$A$1:$NI$21,MATCH($C4,DATA!$A$1:$A$21,0),MATCH(GW$4,DATA!$A$1:$NJ$1,0)),\"\")","v":"MD"},{"$f":"IFERROR(INDEX(DATA!$A$1:$NI$21,MATCH($C4,DATA!$A$1:$A$21,0),MATCH(GX$4,DATA!$A$1:$NJ$1,0)),\"\")","v":"Za"},{"$f":"IFERROR(INDEX(DATA!$A$1:$NI$21,MATCH($C4,DATA!$A$1:$A$21,0),MATCH(GY$4,DATA!$A$1:$NJ$1,0)),\"\")","v":"Zo"},{"$f":"IFERROR(INDEX(DATA!$A$1:$NI$21,MATCH($C4,DATA!$A$1:$A$21,0),MATCH(GZ$4,DATA!$A$1:$NJ$1,0)),\"\")","v":"DD"},{"$f":"IFERROR(INDEX(DATA!$A$1:$NI$21,MATCH($C4,DATA!$A$1:$A$21,0),MATCH(HA$4,DATA!$A$1:$NJ$1,0)),\"\")","v":"DD"},{"$f":"IFERROR(INDEX(DATA!$A$1:$NI$21,MATCH($C4,DATA!$A$1:$A$21,0),MATCH(HB$4,DATA!$A$1:$NJ$1,0)),\"\")","v":"DD"},{"$f":"IFERROR(INDEX(DATA!$A$1:$NI$21,MATCH($C4,DATA!$A$1:$A$21,0),MATCH(HC$4,DATA!$A$1:$NJ$1,0)),\"\")","v":"DD"},{"$f":"IFERROR(INDEX(DATA!$A$1:$NI$21,MATCH($C4,DATA!$A$1:$A$21,0),MATCH(HD$4,DATA!$A$1:$NJ$1,0)),\"\")","v":"DD"},{"$f":"IFERROR(INDEX(DATA!$A$1:$NI$21,MATCH($C4,DATA!$A$1:$A$21,0),MATCH(HE$4,DATA!$A$1:$NJ$1,0)),\"\")","v":"DD"},{"$f":"IFERROR(INDEX(DATA!$A$1:$NI$21,MATCH($C4,DATA!$A$1:$A$21,0),MATCH(HF$4,DATA!$A$1:$NJ$1,0)),\"\")","v":"Zo"},{"$f":"IFERROR(INDEX(DATA!$A$1:$NI$21,MATCH($C4,DATA!$A$1:$A$21,0),MATCH(HG$4,DATA!$A$1:$NJ$1,0)),\"\")","v":"ND"},{"$f":"IFERROR(INDEX(DATA!$A$1:$NI$21,MATCH($C4,DATA!$A$1:$A$21,0),MATCH(HH$4,DATA!$A$1:$NJ$1,0)),\"\")","v":"ND"},{"$f":"IFERROR(INDEX(DATA!$A$1:$NI$21,MATCH($C4,DATA!$A$1:$A$21,0),MATCH(HI$4,DATA!$A$1:$NJ$1,0)),\"\")","v":"ND"},{"$f":"IFERROR(INDEX(DATA!$A$1:$NI$21,MATCH($C4,DATA!$A$1:$A$21,0),MATCH(HJ$4,DATA!$A$1:$NJ$1,0)),\"\")","v":"ND"},{"$f":"IFERROR(INDEX(DATA!$A$1:$NI$21,MATCH($C4,DATA!$A$1:$A$21,0),MATCH(HK$4,DATA!$A$1:$NJ$1,0)),\"\")","v":"ND"},{"$f":"IFERROR(INDEX(DATA!$A$1:$NI$21,MATCH($C4,DATA!$A$1:$A$21,0),MATCH(HL$4,DATA!$A$1:$NJ$1,0)),\"\")","v":"Za"},{"$f":"IFERROR(INDEX(DATA!$A$1:$NI$21,MATCH($C4,DATA!$A$1:$A$21,0),MATCH(HM$4,DATA!$A$1:$NJ$1,0)),\"\")","v":"Zo"},{"$f":"IFERROR(INDEX(DATA!$A$1:$NI$21,MATCH($C4,DATA!$A$1:$A$21,0),MATCH(HN$4,DATA!$A$1:$NJ$1,0)),\"\")","v":"MD"},{"$f":"IFERROR(INDEX(DATA!$A$1:$NI$21,MATCH($C4,DATA!$A$1:$A$21,0),MATCH(HO$4,DATA!$A$1:$NJ$1,0)),\"\")","v":"MD"},{"$f":"IFERROR(INDEX(DATA!$A$1:$NI$21,MATCH($C4,DATA!$A$1:$A$21,0),MATCH(HP$4,DATA!$A$1:$NJ$1,0)),\"\")","v":"MD"},{"$f":"IFERROR(INDEX(DATA!$A$1:$NI$21,MATCH($C4,DATA!$A$1:$A$21,0),MATCH(HQ$4,DATA!$A$1:$NJ$1,0)),\"\")","v":"MD"},{"$f":"IFERROR(INDEX(DATA!$A$1:$NI$21,MATCH($C4,DATA!$A$1:$A$21,0),MATCH(HR$4,DATA!$A$1:$NJ$1,0)),\"\")","v":"MD"},{"$f":"IFERROR(INDEX(DATA!$A$1:$NI$21,MATCH($C4,DATA!$A$1:$A$21,0),MATCH(HS$4,DATA!$A$1:$NJ$1,0)),\"\")","v":"Za"},{"$f":"IFERROR(INDEX(DATA!$A$1:$NI$21,MATCH($C4,DATA!$A$1:$A$21,0),MATCH(HT$4,DATA!$A$1:$NJ$1,0)),\"\")","v":"Zo"},{"$f":"IFERROR(INDEX(DATA!$A$1:$NI$21,MATCH($C4,DATA!$A$1:$A$21,0),MATCH(HU$4,DATA!$A$1:$NJ$1,0)),\"\")","v":"DD"},{"$f":"IFERROR(INDEX(DATA!$A$1:$NI$21,MATCH($C4,DATA!$A$1:$A$21,0),MATCH(HV$4,DATA!$A$1:$NJ$1,0)),\"\")","v":"DD"},{"$f":"IFERROR(INDEX(DATA!$A$1:$NI$21,MATCH($C4,DATA!$A$1:$A$21,0),MATCH(HW$4,DATA!$A$1:$NJ$1,0)),\"\")","v":"DD"},{"$f":"IFERROR(INDEX(DATA!$A$1:$NI$21,MATCH($C4,DATA!$A$1:$A$21,0),MATCH(HX$4,DATA!$A$1:$NJ$1,0)),\"\")","v":"DD"},{"$f":"IFERROR(INDEX(DATA!$A$1:$NI$21,MATCH($C4,DATA!$A$1:$A$21,0),MATCH(HY$4,DATA!$A$1:$NJ$1,0)),\"\")","v":"DD"},{"$f":"IFERROR(INDEX(DATA!$A$1:$NI$21,MATCH($C4,DATA!$A$1:$A$21,0),MATCH(HZ$4,DATA!$A$1:$NJ$1,0)),\"\")","v":"DD"},{"$f":"IFERROR(INDEX(DATA!$A$1:$NI$21,MATCH($C4,DATA!$A$1:$A$21,0),MATCH(IA$4,DATA!$A$1:$NJ$1,0)),\"\")","v":"Zo"},{"$f":"IFERROR(INDEX(DATA!$A$1:$NI$21,MATCH($C4,DATA!$A$1:$A$21,0),MATCH(IB$4,DATA!$A$1:$NJ$1,0)),\"\")","v":"ND"},{"$f":"IFERROR(INDEX(DATA!$A$1:$NI$21,MATCH($C4,DATA!$A$1:$A$21,0),MATCH(IC$4,DATA!$A$1:$NJ$1,0)),\"\")","v":"ND"},{"$f":"IFERROR(INDEX(DATA!$A$1:$NI$21,MATCH($C4,DATA!$A$1:$A$21,0),MATCH(ID$4,DATA!$A$1:$NJ$1,0)),\"\")","v":"ND"},{"$f":"IFERROR(INDEX(DATA!$A$1:$NI$21,MATCH($C4,DATA!$A$1:$A$21,0),MATCH(IE$4,DATA!$A$1:$NJ$1,0)),\"\")","v":"ND"},{"$f":"IFERROR(INDEX(DATA!$A$1:$NI$21,MATCH($C4,DATA!$A$1:$A$21,0),MATCH(IF$4,DATA!$A$1:$NJ$1,0)),\"\")","v":"ND"},{"$f":"IFERROR(INDEX(DATA!$A$1:$NI$21,MATCH($C4,DATA!$A$1:$A$21,0),MATCH(IG$4,DATA!$A$1:$NJ$1,0)),\"\")","v":"Za"},{"$f":"IFERROR(INDEX(DATA!$A$1:$NI$21,MATCH($C4,DATA!$A$1:$A$21,0),MATCH(IH$4,DATA!$A$1:$NJ$1,0)),\"\")","v":"Zo"},{"$f":"IFERROR(INDEX(DATA!$A$1:$NI$21,MATCH($C4,DATA!$A$1:$A$21,0),MATCH(II$4,DATA!$A$1:$NJ$1,0)),\"\")","v":"MD"},{"$f":"IFERROR(INDEX(DATA!$A$1:$NI$21,MATCH($C4,DATA!$A$1:$A$21,0),MATCH(IJ$4,DATA!$A$1:$NJ$1,0)),\"\")","v":"MD"},{"$f":"IFERROR(INDEX(DATA!$A$1:$NI$21,MATCH($C4,DATA!$A$1:$A$21,0),MATCH(IK$4,DATA!$A$1:$NJ$1,0)),\"\")","v":"MD"},{"$f":"IFERROR(INDEX(DATA!$A$1:$NI$21,MATCH($C4,DATA!$A$1:$A$21,0),MATCH(IL$4,DATA!$A$1:$NJ$1,0)),\"\")","v":"MD"},{"$f":"IFERROR(INDEX(DATA!$A$1:$NI$21,MATCH($C4,DATA!$A$1:$A$21,0),MATCH(IM$4,DATA!$A$1:$NJ$1,0)),\"\")","v":"MD"},{"$f":"IFERROR(INDEX(DATA!$A$1:$NI$21,MATCH($C4,DATA!$A$1:$A$21,0),MATCH(IN$4,DATA!$A$1:$NJ$1,0)),\"\")","v":"Za"},{"$f":"IFERROR(INDEX(DATA!$A$1:$NI$21,MATCH($C4,DATA!$A$1:$A$21,0),MATCH(IO$4,DATA!$A$1:$NJ$1,0)),\"\")","v":"Zo"},{"$f":"IFERROR(INDEX(DATA!$A$1:$NI$21,MATCH($C4,DATA!$A$1:$A$21,0),MATCH(IP$4,DATA!$A$1:$NJ$1,0)),\"\")","v":"DD"},{"$f":"IFERROR(INDEX(DATA!$A$1:$NI$21,MATCH($C4,DATA!$A$1:$A$21,0),MATCH(IQ$4,DATA!$A$1:$NJ$1,0)),\"\")","v":"DD"},{"$f":"IFERROR(INDEX(DATA!$A$1:$NI$21,MATCH($C4,DATA!$A$1:$A$21,0),MATCH(IR$4,DATA!$A$1:$NJ$1,0)),\"\")","v":"DD"},{"$f":"IFERROR(INDEX(DATA!$A$1:$NI$21,MATCH($C4,DATA!$A$1:$A$21,0),MATCH(IS$4,DATA!$A$1:$NJ$1,0)),\"\")","v":"DD"},{"$f":"IFERROR(INDEX(DATA!$A$1:$NI$21,MATCH($C4,DATA!$A$1:$A$21,0),MATCH(IT$4,DATA!$A$1:$NJ$1,0)),\"\")","v":"DD"},{"$f":"IFERROR(INDEX(DATA!$A$1:$NI$21,MATCH($C4,DATA!$A$1:$A$21,0),MATCH(IU$4,DATA!$A$1:$NJ$1,0)),\"\")","v":"DD"},{"$f":"IFERROR(INDEX(DATA!$A$1:$NI$21,MATCH($C4,DATA!$A$1:$A$21,0),MATCH(IV$4,DATA!$A$1:$NJ$1,0)),\"\")","v":"Zo"},{"$f":"IFERROR(INDEX(DATA!$A$1:$NI$21,MATCH($C4,DATA!$A$1:$A$21,0),MATCH(IW$4,DATA!$A$1:$NJ$1,0)),\"\")","v":"ND"},{"$f":"IFERROR(INDEX(DATA!$A$1:$NI$21,MATCH($C4,DATA!$A$1:$A$21,0),MATCH(IX$4,DATA!$A$1:$NJ$1,0)),\"\")","v":"ND"},{"$f":"IFERROR(INDEX(DATA!$A$1:$NI$21,MATCH($C4,DATA!$A$1:$A$21,0),MATCH(IY$4,DATA!$A$1:$NJ$1,0)),\"\")","v":"ND"},{"$f":"IFERROR(INDEX(DATA!$A$1:$NI$21,MATCH($C4,DATA!$A$1:$A$21,0),MATCH(IZ$4,DATA!$A$1:$NJ$1,0)),\"\")","v":"ND"},{"$f":"IFERROR(INDEX(DATA!$A$1:$NI$21,MATCH($C4,DATA!$A$1:$A$21,0),MATCH(JA$4,DATA!$A$1:$NJ$1,0)),\"\")","v":"ND"},{"$f":"IFERROR(INDEX(DATA!$A$1:$NI$21,MATCH($C4,DATA!$A$1:$A$21,0),MATCH(JB$4,DATA!$A$1:$NJ$1,0)),\"\")","v":"Za"},{"$f":"IFERROR(INDEX(DATA!$A$1:$NI$21,MATCH($C4,DATA!$A$1:$A$21,0),MATCH(JC$4,DATA!$A$1:$NJ$1,0)),\"\")","v":"Zo"},{"$f":"IFERROR(INDEX(DATA!$A$1:$NI$21,MATCH($C4,DATA!$A$1:$A$21,0),MATCH(JD$4,DATA!$A$1:$NJ$1,0)),\"\")","v":"MD"},{"$f":"IFERROR(INDEX(DATA!$A$1:$NI$21,MATCH($C4,DATA!$A$1:$A$21,0),MATCH(JE$4,DATA!$A$1:$NJ$1,0)),\"\")","v":"MD"},{"$f":"IFERROR(INDEX(DATA!$A$1:$NI$21,MATCH($C4,DATA!$A$1:$A$21,0),MATCH(JF$4,DATA!$A$1:$NJ$1,0)),\"\")","v":"MD"},{"$f":"IFERROR(INDEX(DATA!$A$1:$NI$21,MATCH($C4,DATA!$A$1:$A$21,0),MATCH(JG$4,DATA!$A$1:$NJ$1,0)),\"\")","v":"MD"},{"$f":"IFERROR(INDEX(DATA!$A$1:$NI$21,MATCH($C4,DATA!$A$1:$A$21,0),MATCH(JH$4,DATA!$A$1:$NJ$1,0)),\"\")","v":"MD"},{"$f":"IFERROR(INDEX(DATA!$A$1:$NI$21,MATCH($C4,DATA!$A$1:$A$21,0),MATCH(JI$4,DATA!$A$1:$NJ$1,0)),\"\")","v":"Za"},{"$f":"IFERROR(INDEX(DATA!$A$1:$NI$21,MATCH($C4,DATA!$A$1:$A$21,0),MATCH(JJ$4,DATA!$A$1:$NJ$1,0)),\"\")","v":"Zo"},{"$f":"IFERROR(INDEX(DATA!$A$1:$NI$21,MATCH($C4,DATA!$A$1:$A$21,0),MATCH(JK$4,DATA!$A$1:$NJ$1,0)),\"\")","v":"DD"},{"$f":"IFERROR(INDEX(DATA!$A$1:$NI$21,MATCH($C4,DATA!$A$1:$A$21,0),MATCH(JL$4,DATA!$A$1:$NJ$1,0)),\"\")","v":"DD"},{"$f":"IFERROR(INDEX(DATA!$A$1:$NI$21,MATCH($C4,DATA!$A$1:$A$21,0),MATCH(JM$4,DATA!$A$1:$NJ$1,0)),\"\")","v":"DD"},{"$f":"IFERROR(INDEX(DATA!$A$1:$NI$21,MATCH($C4,DATA!$A$1:$A$21,0),MATCH(JN$4,DATA!$A$1:$NJ$1,0)),\"\")","v":"DD"},{"$f":"IFERROR(INDEX(DATA!$A$1:$NI$21,MATCH($C4,DATA!$A$1:$A$21,0),MATCH(JO$4,DATA!$A$1:$NJ$1,0)),\"\")","v":"DD"},{"$f":"IFERROR(INDEX(DATA!$A$1:$NI$21,MATCH($C4,DATA!$A$1:$A$21,0),MATCH(JP$4,DATA!$A$1:$NJ$1,0)),\"\")","v":"DD"},{"$f":"IFERROR(INDEX(DATA!$A$1:$NI$21,MATCH($C4,DATA!$A$1:$A$21,0),MATCH(JQ$4,DATA!$A$1:$NJ$1,0)),\"\")","v":"Zo"},{"$f":"IFERROR(INDEX(DATA!$A$1:$NI$21,MATCH($C4,DATA!$A$1:$A$21,0),MATCH(JR$4,DATA!$A$1:$NJ$1,0)),\"\")","v":"ND"},{"$f":"IFERROR(INDEX(DATA!$A$1:$NI$21,MATCH($C4,DATA!$A$1:$A$21,0),MATCH(JS$4,DATA!$A$1:$NJ$1,0)),\"\")","v":"ND"},{"$f":"IFERROR(INDEX(DATA!$A$1:$NI$21,MATCH($C4,DATA!$A$1:$A$21,0),MATCH(JT$4,DATA!$A$1:$NJ$1,0)),\"\")","v":"ND"},{"$f":"IFERROR(INDEX(DATA!$A$1:$NI$21,MATCH($C4,DATA!$A$1:$A$21,0),MATCH(JU$4,DATA!$A$1:$NJ$1,0)),\"\")","v":"ND"},{"$f":"IFERROR(INDEX(DATA!$A$1:$NI$21,MATCH($C4,DATA!$A$1:$A$21,0),MATCH(JV$4,DATA!$A$1:$NJ$1,0)),\"\")","v":"ND"},{"$f":"IFERROR(INDEX(DATA!$A$1:$NI$21,MATCH($C4,DATA!$A$1:$A$21,0),MATCH(JW$4,DATA!$A$1:$NJ$1,0)),\"\")","v":"Za"},{"$f":"IFERROR(INDEX(DATA!$A$1:$NI$21,MATCH($C4,DATA!$A$1:$A$21,0),MATCH(JX$4,DATA!$A$1:$NJ$1,0)),\"\")","v":"Zo"},{"$f":"IFERROR(INDEX(DATA!$A$1:$NI$21,MATCH($C4,DATA!$A$1:$A$21,0),MATCH(JY$4,DATA!$A$1:$NJ$1,0)),\"\")","v":"MD"},{"$f":"IFERROR(INDEX(DATA!$A$1:$NI$21,MATCH($C4,DATA!$A$1:$A$21,0),MATCH(JZ$4,DATA!$A$1:$NJ$1,0)),\"\")","v":"MD"},{"$f":"IFERROR(INDEX(DATA!$A$1:$NI$21,MATCH($C4,DATA!$A$1:$A$21,0),MATCH(KA$4,DATA!$A$1:$NJ$1,0)),\"\")","v":"MD"},{"$f":"IFERROR(INDEX(DATA!$A$1:$NI$21,MATCH($C4,DATA!$A$1:$A$21,0),MATCH(KB$4,DATA!$A$1:$NJ$1,0)),\"\")","v":"MD"},{"$f":"IFERROR(INDEX(DATA!$A$1:$NI$21,MATCH($C4,DATA!$A$1:$A$21,0),MATCH(KC$4,DATA!$A$1:$NJ$1,0)),\"\")","v":"MD"},{"$f":"IFERROR(INDEX(DATA!$A$1:$NI$21,MATCH($C4,DATA!$A$1:$A$21,0),MATCH(KD$4,DATA!$A$1:$NJ$1,0)),\"\")","v":"Za"},{"$f":"IFERROR(INDEX(DATA!$A$1:$NI$21,MATCH($C4,DATA!$A$1:$A$21,0),MATCH(KE$4,DATA!$A$1:$NJ$1,0)),\"\")","v":"Zo"},{"$f":"IFERROR(INDEX(DATA!$A$1:$NI$21,MATCH($C4,DATA!$A$1:$A$21,0),MATCH(KF$4,DATA!$A$1:$NJ$1,0)),\"\")","v":"DD"},{"$f":"IFERROR(INDEX(DATA!$A$1:$NI$21,MATCH($C4,DATA!$A$1:$A$21,0),MATCH(KG$4,DATA!$A$1:$NJ$1,0)),\"\")","v":"DD"},{"$f":"IFERROR(INDEX(DATA!$A$1:$NI$21,MATCH($C4,DATA!$A$1:$A$21,0),MATCH(KH$4,DATA!$A$1:$NJ$1,0)),\"\")","v":"DD"},{"$f":"IFERROR(INDEX(DATA!$A$1:$NI$21,MATCH($C4,DATA!$A$1:$A$21,0),MATCH(KI$4,DATA!$A$1:$NJ$1,0)),\"\")","v":"DD"},{"$f":"IFERROR(INDEX(DATA!$A$1:$NI$21,MATCH($C4,DATA!$A$1:$A$21,0),MATCH(KJ$4,DATA!$A$1:$NJ$1,0)),\"\")","v":"DD"},{"$f":"IFERROR(INDEX(DATA!$A$1:$NI$21,MATCH($C4,DATA!$A$1:$A$21,0),MATCH(KK$4,DATA!$A$1:$NJ$1,0)),\"\")","v":"DD"},{"$f":"IFERROR(INDEX(DATA!$A$1:$NI$21,MATCH($C4,DATA!$A$1:$A$21,0),MATCH(KL$4,DATA!$A$1:$NJ$1,0)),\"\")","v":"Zo"},{"$f":"IFERROR(INDEX(DATA!$A$1:$NI$21,MATCH($C4,DATA!$A$1:$A$21,0),MATCH(KM$4,DATA!$A$1:$NJ$1,0)),\"\")","v":"ND"},{"$f":"IFERROR(INDEX(DATA!$A$1:$NI$21,MATCH($C4,DATA!$A$1:$A$21,0),MATCH(KN$4,DATA!$A$1:$NJ$1,0)),\"\")","v":"ND"},{"$f":"IFERROR(INDEX(DATA!$A$1:$NI$21,MATCH($C4,DATA!$A$1:$A$21,0),MATCH(KO$4,DATA!$A$1:$NJ$1,0)),\"\")","v":"ND"},{"$f":"IFERROR(INDEX(DATA!$A$1:$NI$21,MATCH($C4,DATA!$A$1:$A$21,0),MATCH(KP$4,DATA!$A$1:$NJ$1,0)),\"\")","v":"ND"},{"$f":"IFERROR(INDEX(DATA!$A$1:$NI$21,MATCH($C4,DATA!$A$1:$A$21,0),MATCH(KQ$4,DATA!$A$1:$NJ$1,0)),\"\")","v":"ND"},{"$f":"IFERROR(INDEX(DATA!$A$1:$NI$21,MATCH($C4,DATA!$A$1:$A$21,0),MATCH(KR$4,DATA!$A$1:$NJ$1,0)),\"\")","v":"Za"},{"$f":"IFERROR(INDEX(DATA!$A$1:$NI$21,MATCH($C4,DATA!$A$1:$A$21,0),MATCH(KS$4,DATA!$A$1:$NJ$1,0)),\"\")","v":"Zo"},{"$f":"IFERROR(INDEX(DATA!$A$1:$NI$21,MATCH($C4,DATA!$A$1:$A$21,0),MATCH(KT$4,DATA!$A$1:$NJ$1,0)),\"\")","v":"MD"},{"$f":"IFERROR(INDEX(DATA!$A$1:$NI$21,MATCH($C4,DATA!$A$1:$A$21,0),MATCH(KU$4,DATA!$A$1:$NJ$1,0)),\"\")","v":"MD"},{"$f":"IFERROR(INDEX(DATA!$A$1:$NI$21,MATCH($C4,DATA!$A$1:$A$21,0),MATCH(KV$4,DATA!$A$1:$NJ$1,0)),\"\")","v":"MD"},{"$f":"IFERROR(INDEX(DATA!$A$1:$NI$21,MATCH($C4,DATA!$A$1:$A$21,0),MATCH(KW$4,DATA!$A$1:$NJ$1,0)),\"\")","v":"MD"},{"$f":"IFERROR(INDEX(DATA!$A$1:$NI$21,MATCH($C4,DATA!$A$1:$A$21,0),MATCH(KX$4,DATA!$A$1:$NJ$1,0)),\"\")","v":"MD"},{"$f":"IFERROR(INDEX(DATA!$A$1:$NI$21,MATCH($C4,DATA!$A$1:$A$21,0),MATCH(KY$4,DATA!$A$1:$NJ$1,0)),\"\")","v":"Za"},{"$f":"IFERROR(INDEX(DATA!$A$1:$NI$21,MATCH($C4,DATA!$A$1:$A$21,0),MATCH(KZ$4,DATA!$A$1:$NJ$1,0)),\"\")","v":"Zo"},{"$f":"IFERROR(INDEX(DATA!$A$1:$NI$21,MATCH($C4,DATA!$A$1:$A$21,0),MATCH(LA$4,DATA!$A$1:$NJ$1,0)),\"\")","v":"DD"},{"$f":"IFERROR(INDEX(DATA!$A$1:$NI$21,MATCH($C4,DATA!$A$1:$A$21,0),MATCH(LB$4,DATA!$A$1:$NJ$1,0)),\"\")","v":"DD"},{"$f":"IFERROR(INDEX(DATA!$A$1:$NI$21,MATCH($C4,DATA!$A$1:$A$21,0),MATCH(LC$4,DATA!$A$1:$NJ$1,0)),\"\")","v":"DD"},{"$f":"IFERROR(INDEX(DATA!$A$1:$NI$21,MATCH($C4,DATA!$A$1:$A$21,0),MATCH(LD$4,DATA!$A$1:$NJ$1,0)),\"\")","v":"DD"},{"$f":"IFERROR(INDEX(DATA!$A$1:$NI$21,MATCH($C4,DATA!$A$1:$A$21,0),MATCH(LE$4,DATA!$A$1:$NJ$1,0)),\"\")","v":"DD"},{"$f":"IFERROR(INDEX(DATA!$A$1:$NI$21,MATCH($C4,DATA!$A$1:$A$21,0),MATCH(LF$4,DATA!$A$1:$NJ$1,0)),\"\")","v":"DD"},{"$f":"IFERROR(INDEX(DATA!$A$1:$NI$21,MATCH($C4,DATA!$A$1:$A$21,0),MATCH(LG$4,DATA!$A$1:$NJ$1,0)),\"\")","v":"Zo"},{"$f":"IFERROR(INDEX(DATA!$A$1:$NI$21,MATCH($C4,DATA!$A$1:$A$21,0),MATCH(LH$4,DATA!$A$1:$NJ$1,0)),\"\")","v":"ND"},{"$f":"IFERROR(INDEX(DATA!$A$1:$NI$21,MATCH($C4,DATA!$A$1:$A$21,0),MATCH(LI$4,DATA!$A$1:$NJ$1,0)),\"\")","v":"ND"},{"$f":"IFERROR(INDEX(DATA!$A$1:$NI$21,MATCH($C4,DATA!$A$1:$A$21,0),MATCH(LJ$4,DATA!$A$1:$NJ$1,0)),\"\")","v":"ND"},{"$f":"IFERROR(INDEX(DATA!$A$1:$NI$21,MATCH($C4,DATA!$A$1:$A$21,0),MATCH(LK$4,DATA!$A$1:$NJ$1,0)),\"\")","v":"ND"},{"$f":"IFERROR(INDEX(DATA!$A$1:$NI$21,MATCH($C4,DATA!$A$1:$A$21,0),MATCH(LL$4,DATA!$A$1:$NJ$1,0)),\"\")","v":"ND"},{"$f":"IFERROR(INDEX(DATA!$A$1:$NI$21,MATCH($C4,DATA!$A$1:$A$21,0),MATCH(LM$4,DATA!$A$1:$NJ$1,0)),\"\")","v":"Za"},{"$f":"IFERROR(INDEX(DATA!$A$1:$NI$21,MATCH($C4,DATA!$A$1:$A$21,0),MATCH(LN$4,DATA!$A$1:$NJ$1,0)),\"\")","v":"Zo"},{"$f":"IFERROR(INDEX(DATA!$A$1:$NI$21,MATCH($C4,DATA!$A$1:$A$21,0),MATCH(LO$4,DATA!$A$1:$NJ$1,0)),\"\")","v":"MD"},{"$f":"IFERROR(INDEX(DATA!$A$1:$NI$21,MATCH($C4,DATA!$A$1:$A$21,0),MATCH(LP$4,DATA!$A$1:$NJ$1,0)),\"\")","v":"MD"},{"$f":"IFERROR(INDEX(DATA!$A$1:$NI$21,MATCH($C4,DATA!$A$1:$A$21,0),MATCH(LQ$4,DATA!$A$1:$NJ$1,0)),\"\")","v":"MD"},{"$f":"IFERROR(INDEX(DATA!$A$1:$NI$21,MATCH($C4,DATA!$A$1:$A$21,0),MATCH(LR$4,DATA!$A$1:$NJ$1,0)),\"\")","v":"MD"},{"$f":"IFERROR(INDEX(DATA!$A$1:$NI$21,MATCH($C4,DATA!$A$1:$A$21,0),MATCH(LS$4,DATA!$A$1:$NJ$1,0)),\"\")","v":"MD"},{"$f":"IFERROR(INDEX(DATA!$A$1:$NI$21,MATCH($C4,DATA!$A$1:$A$21,0),MATCH(LT$4,DATA!$A$1:$NJ$1,0)),\"\")","v":"Za"},{"$f":"IFERROR(INDEX(DATA!$A$1:$NI$21,MATCH($C4,DATA!$A$1:$A$21,0),MATCH(LU$4,DATA!$A$1:$NJ$1,0)),\"\")","v":"Zo"},{"$f":"IFERROR(INDEX(DATA!$A$1:$NI$21,MATCH($C4,DATA!$A$1:$A$21,0),MATCH(LV$4,DATA!$A$1:$NJ$1,0)),\"\")","v":"DD"},{"$f":"IFERROR(INDEX(DATA!$A$1:$NI$21,MATCH($C4,DATA!$A$1:$A$21,0),MATCH(LW$4,DATA!$A$1:$NJ$1,0)),\"\")","v":"DD"},{"$f":"IFERROR(INDEX(DATA!$A$1:$NI$21,MATCH($C4,DATA!$A$1:$A$21,0),MATCH(LX$4,DATA!$A$1:$NJ$1,0)),\"\")","v":"DD"},{"$f":"IFERROR(INDEX(DATA!$A$1:$NI$21,MATCH($C4,DATA!$A$1:$A$21,0),MATCH(LY$4,DATA!$A$1:$NJ$1,0)),\"\")","v":"DD"},{"$f":"IFERROR(INDEX(DATA!$A$1:$NI$21,MATCH($C4,DATA!$A$1:$A$21,0),MATCH(LZ$4,DATA!$A$1:$NJ$1,0)),\"\")","v":"DD"},{"$f":"IFERROR(INDEX(DATA!$A$1:$NI$21,MATCH($C4,DATA!$A$1:$A$21,0),MATCH(MA$4,DATA!$A$1:$NJ$1,0)),\"\")","v":"DD"},{"$f":"IFERROR(INDEX(DATA!$A$1:$NI$21,MATCH($C4,DATA!$A$1:$A$21,0),MATCH(MB$4,DATA!$A$1:$NJ$1,0)),\"\")","v":"Zo"},{"$f":"IFERROR(INDEX(DATA!$A$1:$NI$21,MATCH($C4,DATA!$A$1:$A$21,0),MATCH(MC$4,DATA!$A$1:$NJ$1,0)),\"\")","v":"ND"},{"$f":"IFERROR(INDEX(DATA!$A$1:$NI$21,MATCH($C4,DATA!$A$1:$A$21,0),MATCH(MD$4,DATA!$A$1:$NJ$1,0)),\"\")","v":"ND"},{"$f":"IFERROR(INDEX(DATA!$A$1:$NI$21,MATCH($C4,DATA!$A$1:$A$21,0),MATCH(ME$4,DATA!$A$1:$NJ$1,0)),\"\")","v":"ND"},{"$f":"IFERROR(INDEX(DATA!$A$1:$NI$21,MATCH($C4,DATA!$A$1:$A$21,0),MATCH(MF$4,DATA!$A$1:$NJ$1,0)),\"\")","v":"ND"},{"$f":"IFERROR(INDEX(DATA!$A$1:$NI$21,MATCH($C4,DATA!$A$1:$A$21,0),MATCH(MG$4,DATA!$A$1:$NJ$1,0)),\"\")","v":"ND"},{"$f":"IFERROR(INDEX(DATA!$A$1:$NI$21,MATCH($C4,DATA!$A$1:$A$21,0),MATCH(MH$4,DATA!$A$1:$NJ$1,0)),\"\")","v":"Za"},{"$f":"IFERROR(INDEX(DATA!$A$1:$NI$21,MATCH($C4,DATA!$A$1:$A$21,0),MATCH(MI$4,DATA!$A$1:$NJ$1,0)),\"\")","v":"Zo"},{"$f":"IFERROR(INDEX(DATA!$A$1:$NI$21,MATCH($C4,DATA!$A$1:$A$21,0),MATCH(MJ$4,DATA!$A$1:$NJ$1,0)),\"\")","v":"MD"},{"$f":"IFERROR(INDEX(DATA!$A$1:$NI$21,MATCH($C4,DATA!$A$1:$A$21,0),MATCH(MK$4,DATA!$A$1:$NJ$1,0)),\"\")","v":"MD"},{"$f":"IFERROR(INDEX(DATA!$A$1:$NI$21,MATCH($C4,DATA!$A$1:$A$21,0),MATCH(ML$4,DATA!$A$1:$NJ$1,0)),\"\")","v":"MD"},{"$f":"IFERROR(INDEX(DATA!$A$1:$NI$21,MATCH($C4,DATA!$A$1:$A$21,0),MATCH(MM$4,DATA!$A$1:$NJ$1,0)),\"\")","v":"MD"},{"$f":"IFERROR(INDEX(DATA!$A$1:$NI$21,MATCH($C4,DATA!$A$1:$A$21,0),MATCH(MN$4,DATA!$A$1:$NJ$1,0)),\"\")","v":"MD"},{"$f":"IFERROR(INDEX(DATA!$A$1:$NI$21,MATCH($C4,DATA!$A$1:$A$21,0),MATCH(MO$4,DATA!$A$1:$NJ$1,0)),\"\")","v":"Za"},{"$f":"IFERROR(INDEX(DATA!$A$1:$NI$21,MATCH($C4,DATA!$A$1:$A$21,0),MATCH(MP$4,DATA!$A$1:$NJ$1,0)),\"\")","v":"Zo"},{"$f":"IFERROR(INDEX(DATA!$A$1:$NI$21,MATCH($C4,DATA!$A$1:$A$21,0),MATCH(MQ$4,DATA!$A$1:$NJ$1,0)),\"\")","v":"DD"},{"$f":"IFERROR(INDEX(DATA!$A$1:$NI$21,MATCH($C4,DATA!$A$1:$A$21,0),MATCH(MR$4,DATA!$A$1:$NJ$1,0)),\"\")","v":"DD"},{"$f":"IFERROR(INDEX(DATA!$A$1:$NI$21,MATCH($C4,DATA!$A$1:$A$21,0),MATCH(MS$4,DATA!$A$1:$NJ$1,0)),\"\")","v":"DD"},{"$f":"IFERROR(INDEX(DATA!$A$1:$NI$21,MATCH($C4,DATA!$A$1:$A$21,0),MATCH(MT$4,DATA!$A$1:$NJ$1,0)),\"\")","v":"DD"},{"$f":"IFERROR(INDEX(DATA!$A$1:$NI$21,MATCH($C4,DATA!$A$1:$A$21,0),MATCH(MU$4,DATA!$A$1:$NJ$1,0)),\"\")","v":"DD"},{"$f":"IFERROR(INDEX(DATA!$A$1:$NI$21,MATCH($C4,DATA!$A$1:$A$21,0),MATCH(MV$4,DATA!$A$1:$NJ$1,0)),\"\")","v":"DD"},{"$f":"IFERROR(INDEX(DATA!$A$1:$NI$21,MATCH($C4,DATA!$A$1:$A$21,0),MATCH(MW$4,DATA!$A$1:$NJ$1,0)),\"\")","v":"Zo"},{"$f":"IFERROR(INDEX(DATA!$A$1:$NI$21,MATCH($C4,DATA!$A$1:$A$21,0),MATCH(MX$4,DATA!$A$1:$NJ$1,0)),\"\")","v":"ND"},{"$f":"IFERROR(INDEX(DATA!$A$1:$NI$21,MATCH($C4,DATA!$A$1:$A$21,0),MATCH(MY$4,DATA!$A$1:$NJ$1,0)),\"\")","v":"ND"},{"$f":"IFERROR(INDEX(DATA!$A$1:$NI$21,MATCH($C4,DATA!$A$1:$A$21,0),MATCH(MZ$4,DATA!$A$1:$NJ$1,0)),\"\")","v":"ND"},{"$f":"IFERROR(INDEX(DATA!$A$1:$NI$21,MATCH($C4,DATA!$A$1:$A$21,0),MATCH(NA$4,DATA!$A$1:$NJ$1,0)),\"\")","v":"ND"},{"$f":"IFERROR(INDEX(DATA!$A$1:$NI$21,MATCH($C4,DATA!$A$1:$A$21,0),MATCH(NB$4,DATA!$A$1:$NJ$1,0)),\"\")","v":"ND"},{"$f":"IFERROR(INDEX(DATA!$A$1:$NI$21,MATCH($C4,DATA!$A$1:$A$21,0),MATCH(NC$4,DATA!$A$1:$NJ$1,0)),\"\")","v":"Za"},{"$f":"IFERROR(INDEX(DATA!$A$1:$NI$21,MATCH($C4,DATA!$A$1:$A$21,0),MATCH(ND$4,DATA!$A$1:$NJ$1,0)),\"\")","v":"Zo"}]
[1,"People (P)","Status: Ready",null,{"$f":"COUNTIF(E10:J10,\">0\")","v":0},{"$f":"COUNTIF(E10:J10,\">0\")","v":0},{"$f":"COUNTIF(E10:J10,\">0\")","v":0},{"$f":"COUNTIF(E10:J10,\">0\")","v":0},{"$f":"COUNTIF(E10:J10,\">0\")","v":0},{"$f":"COUNTIF(E10:J10,\">0\")","v":0},{"$f":"COUNTIF(E10:J10,\">0\")","v":0},{"$f":"COUNTIF(L10:Q10,\">0\")","v":0},{"$f":"COUNTIF(L10:Q10,\">0\")","v":0},{"$f":"COUNTIF(L10:Q10,\">0\")","v":0},{"$f":"COUNTIF(L10:Q10,\">0\")","v":0},{"$f":"COUNTIF(L10:Q10,\">0\")","v":0},{"$f":"COUNTIF(L10:Q10,\">0\")","v":0},{"$f":"COUNTIF(L10:Q10,\">0\")","v":0},{"$f":"COUNTIF(S10:X10,\">0\")","v":0},{"$f":"COUNTIF(S10:X10,\">0\")","v":0},{"$f":"COUNTIF(S10:X10,\">0\")","v":0},{"$f":"COUNTIF(S10:X10,\">0\")","v":0},{"$f":"COUNTIF(S10:X10,\">0\")","v":0},{"$f":"COUNTIF(S10:X10,\">0\")","v":0},{"$f":"COUNTIF(S10:X10,\">0\")","v":0},{"$f":"COUNTIF(Z10:AE10,\">0\")","v":0},{"$f":"COUNTIF(Z10:AE10,\">0\")","v":0},{"$f":"COUNTIF(Z10:AE10,\">0\")","v":0},{"$f":"COUNTIF(Z10:AE10,\">0\")","v":0},{"$f":"COUNTIF(Z10:AE10,\">0\")","v":0},{"$f":"COUNTIF(Z10:AE10,\">0\")","v":0},{"$f":"COUNTIF(Z10:AE10,\">0\")","v":0},{"$f":"COUNTIF(AG10:AL10,\">0\")","v":0},{"$f":"COUNTIF(AG10:AL10,\">0\")","v":0},{"$f":"COUNTIF(AG10:AL10,\">0\")","v":0},{"$f":"COUNTIF(AG10:AL10,\">0\")","v":0},{"$f":"COUNTIF(AG10:AL10,\">0\")","v":0},{"$f":"COUNTIF(AG10:AL10,\">0\")","v":0},{"$f":"COUNTIF(AG10:AL10,\">0\")","v":0},{"$f":"COUNTIF(AN10:AS10,\">0\")","v":0},{"$f":"COUNTIF(AN10:AS10,\">0\")","v":0},{"$f":"COUNTIF(AN10:AS10,\">0\")","v":0},{"$f":"COUNTIF(AN10:AS10,\">0\")","v":0},{"$f":"COUNTIF(AN10:AS10,\">0\")","v":0},{"$f":"COUNTIF(AN10:AS10,\">0\")","v":0},{"$f":"COUNTIF(AN10:AS10,\">0\")","v":0},{"$f":"COUNTIF(AU10:AZ10,\">0\")","v":0},{"$f":"COUNTIF(AU10:AZ10,\">0\")","v":0},{"$f":"COUNTIF(AU10:AZ10,\">0\")","v":0},{"$f":"COUNTIF(AU10:AZ10,\">0\")","v":0},{"$f":"COUNTIF(AU10:AZ10,\">0\")","v":0},{"$f":"COUNTIF(AU10:AZ10,\">0\")","v":0},{"$f":"COUNTIF(AU10:AZ10,\">0\")","v":0},{"$f":"COUNTIF(BB10:BG10,\">0\")","v":0},{"$f":"COUNTIF(BB10:BG10,\">0\")","v":0},{"$f":"COUNTIF(BB10:BG10,\">0\")","v":0},{"$f":"COUNTIF(BB10:BG10,\">0\")","v":0},{"$f":"COUNTIF(BB10:BG10,\">0\")","v":0},{"$f":"COUNTIF(BB10:BG10,\">0\")","v":0},{"$f":"COUNTIF(BB10:BG10,\">0\")","v":0},{"$f":"COUNTIF(BI10:BN10,\">0\")","v":0},{"$f":"COUNTIF(BI10:BN10,\">0\")","v":0},{"$f":"COUNTIF(BI10:BN10,\">0\")","v":0},{"$f":"COUNTIF(BI10:BN10,\">0\")","v":0},{"$f":"COUNTIF(BI10:BN10,\">0\")","v":0},{"$f":"COUNTIF(BI10:BN10,\">0\")","v":0},{"$f":"COUNTIF(BI10:BN10,\">0\")","v":0},{"$f":"COUNTIF(BP10:BU10,\">0\")","v":0},{"$f":"COUNTIF(BP10:BU10,\">0\")","v":0},{"$f":"COUNTIF(BP10:BU10,\">0\")","v":0},{"$f":"COUNTIF(BP10:BU10,\">0\")","v":0},{"$f":"COUNTIF(BP10:BU10,\">0\")","v":0},{"$f":"COUNTIF(BP10:BU10,\">0\")","v":0},{"$f":"COUNTIF(BP10:BU10,\">0\")","v":0},{"$f":"COUNTIF(BW10:CB10,\">0\")","v":0},{"$f":"COUNTIF(BW10:CB10,\">0\")","v":0},{"$f":"COUNTIF(BW10:CB10,\">0\")","v":0},{"$f":"COUNTIF(BW10:CB10,\">0\")","v":0},{"$f":"COUNTIF(BW10:CB10,\">0\")","v":0},{"$f":"COUNTIF(BW10:CB10,\">0\")","v":0},{"$f":"COUNTIF(BW10:CB10,\">0\")","v":0},{"$f":"COUNTIF(CD10:CI10,\">0\")","v":0},{"$f":"COUNTIF(CD10:CI10,\">0\")","v":0},{"$f":"COUNTIF(CD10:CI10,\">0\")","v":0},{"$f":"COUNTIF(CD10:CI10,\">0\")","v":0},{"$f":"COUNTIF(CD10:CI10,\">0\")","v":0},{"$f":"COUNTIF(CD10:CI10,\">0\")","v":0},{"$f":"COUNTIF(CD10:CI10,\">0\")","v":0},{"$f":"COUNTIF(CK10:CP10,\">0\")","v":0},{"$f":"COUNTIF(CK10:CP10,\">0\")","v":0},{"$f":"COUNTIF(CK10:CP10,\">0\")","v":0},{"$f":"COUNTIF(CK10:CP10,\">0\")","v":0},{"$f":"COUNTIF(CK10:CP10,\">0\")","v":0},{"$f":"COUNTIF(CK10:CP10,\">0\")","v":0},{"$f":"COUNTIF(CK10:CP10,\">0\")","v":0},{"$f":"COUNTIF(CR10:CW10,\">0\")","v":0},{"$f":"COUNTIF(CR10:CW10,\">0\")","v":0},{"$f":"COUNTIF(CR10:CW10,\">0\")","v":0},{"$f":"COUNTIF(CR10:CW10,\">0\")","v":0},{"$f":"COUNTIF(CR10:CW10,\">0\")","v":0},{"$f":"COUNTIF(CR10:CW10,\">0\")","v":0},{"$f":"COUNTIF(CR10:CW10,\">0\")","v":0},{"$f":"COUNTIF(CY10:DD10,\">0\")","v":0},{"$f":"COUNTIF(CY10:DD10,\">0\")","v":0},{"$f":"COUNTIF(CY10:DD10,\">0\")","v":0},{"$f":"COUNTIF(CY10:DD10,\">0\")","v":0},{"$f":"COUNTIF(CY10:DD10,\">0\")","v":0},{"$f":"COUNTIF(CY10:DD10,\">0\")","v":0},{"$f":"COUNTIF(CY10:DD10,\">0\")","v":0},{"$f":"COUNTIF(DF10:DK10,\">0\")","v":0},{"$f":"COUNTIF(DF10:DK10,\">0\")","v":0},{"$f":"COUNTIF(DF10:DK10,\">0\")","v":0},{"$f":"COUNTIF(DF10:DK10,\">0\")","v":0},{"$f":"COUNTIF(DF10:DK10,\">0\")","v":0},{"$f":"COUNTIF(DF10:DK10,\">0\")","v":0},{"$f":"COUNTIF(DF10:DK10,\">0\")","v":0},{"$f":"COUNTIF(DM10:DR10,\">0\")","v":0},{"$f":"COUNTIF(DM10:DR10,\">0\")","v":0},{"$f":"COUNTIF(DM10:DR10,\">0\")","v":0},{"$f":"COUNTIF(DM10:DR10,\">0\")","v":0},{"$f":"COUNTIF(DM10:DR10,\">0\")","v":0},{"$f":"COUNTIF(DM10:DR10,\">0\")","v":0},{"$f":"COUNTIF(DM10:DR10,\">0\")","v":0},{"$f":"COUNTIF(DT10:DY10,\">0\")","v":0},{"$f":"COUNTIF(DT10:DY10,\">0\")","v":0},{"$f":"COUNTIF(DT10:DY10,\">0\")","v":0},{"$f":"COUNTIF(DT10:DY10,\">0\")","v":0},{"$f":"COUNTIF(DT10:DY10,\">0\")","v":0},{"$f":"COUNTIF(DT10:DY10,\">0\")","v":0},{"$f":"COUNTIF(DT10:DY10,\">0\")","v":0},{"$f":"COUNTIF(EA10:EF10,\">0\")","v":0},{"$f":"COUNTIF(EA10:EF10,\">0\")","v":0},{"$f":"COUNTIF(EA10:EF10,\">0\")","v":0},{"$f":"COUNTIF(EA10:EF10,\">0\")","v":0},{"$f":"COUNTIF(EA10:EF10,\">0\")","v":0},{"$f":"COUNTIF(EA10:EF10,\">0\")","v":0},{"$f":"COUNTIF(EA10:EF10,\">0\")","v":0},{"$f":"COUNTIF(EH10:EM10,\">0\")","v":5},{"$f":"COUNTIF(EH10:EM10,\">0\")","v":5},{"$f":"COUNTIF(EH10:EM10,\">0\")","v":5},{"$f":"COUNTIF(EH10:EM10,\">0\")","v":5},{"$f":"COUNTIF(EH10:EM10,\">0\")","v":5},{"$f":"COUNTIF(EH10:EM10,\">0\")","v":5},{"$f":"COUNTIF(EH10:EM10,\">0\")","v":5},{"$f":"COUNTIF(EO10:ET10,\">0\")","v":5},{"$f":"COUNTIF(EO10:ET10,\">0\")","v":5},{"$f":"COUNTIF(EO10:ET10,\">0\")","v":5},{"$f":"COUNTIF(EO10:ET10,\">0\")","v":5},{"$f":"COUNTIF(EO10:ET10,\">0\")","v":5},{"$f":"COUNTIF(EO10:ET10,\">0\")","v":5},{"$f":"COUNTIF(EO10:ET10,\">0\")","v":5},{"$f":"COUNTIF(EV10:FA10,\">0\")","v":5},{"$f":"COUNTIF(EV10:FA10,\">0\")","v":5},{"$f":"COUNTIF(EV10:FA10,\">0\")","v":5},{"$f":"COUNTIF(EV10:FA10,\">0\")","v":5},{"$f":"COUNTIF(EV10:FA10,\">0\")","v":5},{"$f":"COUNTIF(EV10:FA10,\">0\")","v":5},{"$f":"COUNTIF(EV10:FA10,\">0\")","v":5},{"$f":"COUNTIF(FC10:FH10,\">0\")","v":5},{"$f":"COUNTIF(FC10:FH10,\">0\")","v":5},{"$f":"COUNTIF(FC10:FH10,\">0\")","v":5},{"$f":"COUNTIF(FC10:FH10,\">0\")","v":5},{"$f":"COUNTIF(FC10:FH10,\">0\")","v":5},{"$f":"COUNTIF(FC10:FH10,\">0\")","v":5},{"$f":"COUNTIF(FC10:FH10,\">0\")","v":5},{"$f":"COUNTIF(FJ10:FO10,\">0\")","v":6},{"$f":"COUNTIF(FJ10:FO10,\">0\")","v":6},{"$f":"COUNTIF(FJ10:FO10,\">0\")","v":6},{"$f":"COUNTIF(FJ10:FO10,\">0\")","v":6},{"$f":"COUNTIF(FJ10:FO10,\">0\")","v":6},{"$f":"COUNTIF(FJ10:FO10,\">0\")","v":6},{"$f":"COUNTIF(FJ10:FO10,\">0\")","v":6},{"$f":"COUNTIF(FQ10:FV10,\">0\")","v":5},{"$f":"COUNTIF(FQ10:FV10,\">0\")","v":5},{"$f":"COUNTIF(FQ10:FV10,\">0\")","v":5},{"$f":"COUNTIF(FQ10:FV10,\">0\")","v":5},{"$f":"COUNTIF(FQ10:FV10,\">0\")","v":5},{"$f":"COUNTIF(FQ10:FV10,\">0\")","v":5},{"$f":"COUNTIF(FQ10:FV10,\">0\")","v":5},{"$f":"COUNTIF(FX10:GC10,\">0\")","v":5},{"$f":"COUNTIF(FX10:GC10,\">0\")","v":5},{"$f":"COUNTIF(FX10:GC10,\">0\")","v":5},{"$f":"COUNTIF(FX10:GC10,\">0\")","v":5},{"$f":"COUNTIF(FX10:GC10,\">0\")","v":5},{"$f":"COUNTIF(FX10:GC10,\">0\")","v":5},{"$f":"COUNTIF(FX10:GC10,\">0\")","v":5},{"$f":"COUNTIF(GE10:GJ10,\">0\")","v":6},{"$f":"COUNTIF(GE10:GJ10,\">0\")","v":6},{"$f":"COUNTIF(GE10:GJ10,\">0\")","v":6},{"$f":"COUNTIF(GE10:GJ10,\">0\")","v":6},{"$f":"COUNTIF(GE10:GJ10,\">0\")","v":6},{"$f":"COUNTIF(GE10:GJ10,\">0\")","v":6},{"$f":"COUNTIF(GE10:GJ10,\">0\")","v":6},{"$f":"COUNTIF(GL10:GQ10,\">0\")","v":5},{"$f":"COUNTIF(GL10:GQ10,\">0\")","v":5},{"$f":"COUNTIF(GL10:GQ10,\">0\")","v":5},{"$f":"COUNTIF(GL10:GQ10,\">0\")","v":5},{"$f":"COUNTIF(GL10:GQ10,\">0\")","v":5},{"$f":"COUNTIF(GL10:GQ10,\">0\")","v":5},{"$f":"COUNTIF(GL10:GQ10,\">0\")","v":5},{"$f":"COUNTIF(GS10:GX10,\">0\")","v":5},{"$f":"COUNTIF(GS10:GX10,\">0\")","v":5},{"$f":"COUNTIF(GS10:GX10,\">0\")","v":5},{"$f":"COUNTIF(GS10:GX10,\">0\")","v":5},{"$f":"COUNTIF(GS10:GX10,\">0\")","v":5},{"$f":"COUNTIF(GS10:GX10,\">0\")","v":5},{"$f":"COUNTIF(GS10:GX10,\">0\")","v":5},{"$f":"COUNTIF(GZ10:HE10,\">0\")","v":0},{"$f":"COUNTIF(GZ10:HE10,\">0\")","v":0},{"$f":"COUNTIF(GZ10:HE10,\">0\")","v":0},{"$f":"COUNTIF(GZ10:HE10,\">0\")","v":0},{"$f":"COUNTIF(GZ10:HE10,\">0\")","v":0},{"$f":"COUNTIF(GZ10:HE10,\">0\")","v":0},{"$f":"COUNTIF(GZ10:HE10,\">0\")","v":0},{"$f":"COUNTIF(HG10:HL10,\">0\")","v":0},{"$f":"COUNTIF(HG10:HL10,\">0\")","v":0},{"$f":"COUNTIF(HG10:HL10,\">0\")","v":0},{"$f":"COUNTIF(HG10:HL10,\">0\")","v":0},{"$f":"COUNTIF(HG10:HL10,\">0\")","v":0},{"$f":"COUNTIF(HG10:HL10,\">0\")","v":0},{"$f":"COUNTIF(HG10:HL10,\">0\")","v":0},{"$f":"COUNTIF(HN10:HS10,\">0\")","v":0},{"$f":"COUNTIF(HN10:HS10,\">0\")","v":0},{"$f":"COUNTIF(HN10:HS10,\">0\")","v":0},{"$f":"COUNTIF(HN10:HS10,\">0\")","v":0},{"$f":"COUNTIF(HN10:HS10,\">0\")","v":0},{"$f":"COUNTIF(HN10:HS10,\">0\")","v":0},{"$f":"COUNTIF(HN10:HS10,\">0\")","v":0},{"$f":"COUNTIF(HU10:HZ10,\">0\")","v":6},{"$f":"COUNTIF(HU10:HZ10,\">0\")","v":6},{"$f":"COUNTIF(HU10:HZ10,\">0\")","v":6},{"$f":"COUNTIF(HU10:HZ10,\">0\")","v":6},{"$f":"COUNTIF(HU10:HZ10,\">0\")","v":6},{"$f":"COUNTIF(HU10:HZ10,\">0\")","v":6},{"$f":"COUNTIF(HU10:HZ10,\">0\")","v":6},{"$f":"COUNTIF(IB10:IG10,\">0\")","v":5},{"$f":"COUNTIF(IB10:IG10,\">0\")","v":5},{"$f":"COUNTIF(IB10:IG10,\">0\")","v":5},{"$f":"COUNTIF(IB10:IG10,\">0\")","v":5},{"$f":"COUNTIF(IB10:IG10,\">0\")","v":5},{"$f":"COUNTIF(IB10:IG10,\">0\")","v":5},{"$f":"COUNTIF(IB10:IG10,\">0\")","v":5},{"$f":"COUNTIF(II10:IN10,\">0\")","v":5},{"$f":"COUNTIF(II10:IN10,\">0\")","v":5},{"$f":"COUNTIF(II10:IN10,\">0\")","v":5},{"$f":"COUNTIF(II10:IN10,\">0\")","v":5},{"$f":"COUNTIF(II10:IN10,\">0\")","v":5},{"$f":"COUNTIF(II10:IN10,\">0\")","v":5},{"$f":"COUNTIF(II10:IN10,\">0\")","v":5},{"$f":"COUNTIF(IP10:IU10,\">0\")","v":6},{"$f":"COUNTIF(IP10:IU10,\">0\")","v":6},{"$f":"COUNTIF(IP10:IU10,\">0\")","v":6},{"$f":"COUNTIF(IP10:IU10,\">0\")","v":6},{"$f":"COUNTIF(IP10:IU10,\">0\")","v":6},{"$f":"COUNTIF(IP10:IU10,\">0\")","v":6},{"$f":"COUNTIF(IP10:IU10,\">0\")","v":6},{"$f":"COUNTIF(IW10:JB10,\">0\")","v":5},{"$f":"COUNTIF(IW10:JB10,\">0\")","v":5},{"$f":"COUNTIF(IW10:JB10,\">0\")","v":5},{"$f":"COUNTIF(IW10:JB10,\">0\")","v":5},{"$f":"COUNTIF(IW10:JB10,\">0\")","v":5},{"$f":"COUNTIF(IW10:JB10,\">0\")","v":5},{"$f":"COUNTIF(IW10:JB10,\">0\")","v":5},{"$f":"COUNTIF(JD10:JI10,\">0\")","v":5},{"$f":"COUNTIF(JD10:JI10,\">0\")","v":5},{"$f":"COUNTIF(JD10:JI10,\">0\")","v":5},{"$f":"COUNTIF(JD10:JI10,\">0\")","v":5},{"$f":"COUNTIF(JD10:JI10,\">0\")","v":5},{"$f":"COUNTIF(JD10:JI10,\">0\")","v":5},{"$f":"COUNTIF(JD10:JI10,\">0\")","v":5},{"$f":"COUNTIF(JK10:JP10,\">0\")","v":6},{"$f":"COUNTIF(JK10:JP10,\">0\")","v":6},{"$f":"COUNTIF(JK10:JP10,\">0\")","v":6},{"$f":"COUNTIF(JK10:JP10,\">0\")","v":6},{"$f":"COUNTIF(JK10:JP10,\">0\")","v":6},{"$f":"COUNTIF(JK10:JP10,\">0\")","v":6},{"$f":"COUNTIF(JK10:JP10,\">0\")","v":6},{"$f":"COUNTIF(JR10:JW10,\">0\")","v":5},{"$f":"COUNTIF(JR10:JW10,\">0\")","v":5},{"$f":"COUNTIF(JR10:JW10,\">0\")","v":5},{"$f":"COUNTIF(JR10:JW10,\">0\")","v":5},{"$f":"COUNTIF(JR10:JW10,\">0\")","v":5},{"$f":"COUNTIF(JR10:JW10,\">0\")","v":5},{"$f":"COUNTIF(JR10:JW10,\">0\")","v":5},{"$f":"COUNTIF(JY10:KD10,\">0\")","v":0},{"$f":"COUNTIF(JY10:KD10,\">0\")","v":0},{"$f":"COUNTIF(JY10:KD10,\">0\")","v":0},{"$f":"COUNTIF(JY10:KD10,\">0\")","v":0},{"$f":"COUNTIF(JY10:KD10,\">0\")","v":0},{"$f":"COUNTIF(JY10:KD10,\">0\")","v":0},{"$f":"COUNTIF(JY10:KD10,\">0\")","v":0},{"$f":"COUNTIF(KF10:KK10,\">0\")","v":0},{"$f":"COUNTIF(KF10:KK10,\">0\")","v":0},{"$f":"COUNTIF(KF10:KK10,\">0\")","v":0},{"$f":"COUNTIF(KF10:KK10,\">0\")","v":0},{"$f":"COUNTIF(KF10:KK10,\">0\")","v":0},{"$f":"COUNTIF(KF10:KK10,\">0\")","v":0},{"$f":"COUNTIF(KF10:KK10,\">0\")","v":0},{"$f":"COUNTIF(KM10:KR10,\">0\")","v":0},{"$f":"COUNTIF(KM10:KR10,\">0\")","v":0},{"$f":"COUNTIF(KM10:KR10,\">0\")","v":0},{"$f":"COUNTIF(KM10:KR10,\">0\")","v":0},{"$f":"COUNTIF(KM10:KR10,\">0\")","v":0},{"$f":"COUNTIF(KM10:KR10,\">0\")","v":0},{"$f":"COUNTIF(KM10:KR10,\">0\")","v":0},{"$f":"COUNTIF(KT10:KY10,\">0\")","v":0},{"$f":"COUNTIF(KT10:KY10,\">0\")","v":0},{"$f":"COUNTIF(KT10:KY10,\">0\")","v":0},{"$f":"COUNTIF(KT10:KY10,\">0\")","v":0},{"$f":"COUNTIF(KT10:KY10,\">0\")","v":0},{"$f":"COUNTIF(KT10:KY10,\">0\")","v":0},{"$f":"COUNTIF(KT10:KY10,\">0\")","v":0},{"$f":"COUNTIF(LA10:LF10,\">0\")","v":0},{"$f":"COUNTIF(LA10:LF10,\">0\")","v":0},{"$f":"COUNTIF(LA10:LF10,\">0\")","v":0},{"$f":"COUNTIF(LA10:LF10,\">0\")","v":0},{"$f":"COUNTIF(LA10:LF10,\">0\")","v":0},{"$f":"COUNTIF(LA10:LF10,\">0\")","v":0},{"$f":"COUNTIF(LA10:LF10,\">0\")","v":0},{"$f":"COUNTIF(LH10:LM10,\">0\")","v":0},{"$f":"COUNTIF(LH10:LM10,\">0\")","v":0},{"$f":"COUNTIF(LH10:LM10,\">0\")","v":0},{"$f":"COUNTIF(LH10:LM10,\">0\")","v":0},{"$f":"COUNTIF(LH10:LM10,\">0\")","v":0},{"$f":"COUNTIF(LH10:LM10,\">0\")","v":0},{"$f":"COUNTIF(LH10:LM10,\">0\")","v":0},{"$f":"COUNTIF(LO10:LT10,\">0\")","v":0},{"$f":"COUNTIF(LO10:LT10,\">0\")","v":0},{"$f":"COUNTIF(LO10:LT10,\">0\")","v":0},{"$f":"COUNTIF(LO10:LT10,\">0\")","v":0},{"$f":"COUNTIF(LO10:LT10,\">0\")","v":0},{"$f":"COUNTIF(LO10:LT10,\">0\")","v":0},{"$f":"COUNTIF(LO10:LT10,\">0\")","v":0},{"$f":"COUNTIF(LV10:MA10,\">0\")","v":0},{"$f":"COUNTIF(LV10:MA10,\">0\")","v":0},{"$f":"COUNTIF(LV10:MA10,\">0\")","v":0},{"$f":"COUNTIF(LV10:MA10,\">0\")","v":0},{"$f":"COUNTIF(LV10:MA10,\">0\")","v":0},{"$f":"COUNTIF(LV10:MA10,\">0\")","v":0},{"$f":"COUNTIF(LV10:MA10,\">0\")","v":0},{"$f":"COUNTIF(MC10:MH10,\">0\")","v":0},{"$f":"COUNTIF(MC10:MH10,\">0\")","v":0},{"$f":"COUNTIF(MC10:MH10,\">0\")","v":0},{"$f":"COUNTIF(MC10:MH10,\">0\")","v":0},{"$f":"COUNTIF(MC10:MH10,\">0\")","v":0},{"$f":"COUNTIF(MC10:MH10,\">0\")","v":0},{"$f":"COUNTIF(MC10:MH10,\">0\")","v":0},{"$f":"COUNTIF(MJ10:MO10,\">0\")","v":0},{"$f":"COUNTIF(MJ10:MO10,\">0\")","v":0},{"$f":"COUNTIF(MJ10:MO10,\">0\")","v":0},{"$f":"COUNTIF(MJ10:MO10,\">0\")","v":0},{"$f":"COUNTIF(MJ10:MO10,\">0\")","v":0},{"$f":"COUNTIF(MJ10:MO10,\">0\")","v":0},{"$f":"COUNTIF(MJ10:MO10,\">0\")","v":0},{"$f":"COUNTIF(MQ10:MV10,\">0\")","v":0},{"$f":"COUNTIF(MQ10:MV10,\">0\")","v":0},{"$f":"COUNTIF(MQ10:MV10,\">0\")","v":0},{"$f":"COUNTIF(MQ10:MV10,\">0\")","v":0},{"$f":"COUNTIF(MQ10:MV10,\">0\")","v":0},{"$f":"COUNTIF(MQ10:MV10,\">0\")","v":0},{"$f":"COUNTIF(MQ10:MV10,\">0\")","v":0},{"$f":"COUNTIF(MX10:NC10,\">0\")","v":0},{"$f":"COUNTIF(MX10:NC10,\">0\")","v":0},{"$f":"COUNTIF(MX10:NC10,\">0\")","v":0},{"$f":"COUNTIF(MX10:NC10,\">0\")","v":0},{"$f":"COUNTIF(MX10:NC10,\">0\")","v":0},{"$f":"COUNTIF(MX10:NC10,\">0\")","v":0},{"$f":"COUNTIF(MX10:NC10,\">0\")","v":0}]
["Value","Goal","K.P.I.",{"$f":"TODAY()","v":"2018-10-06"},{"$f":"IF(E5=\"Ma\",WEEKNUM(E4,21),\"\")","v":1},"","","","","","",2,"","","","","","",3,"","","","","","",4,"","","","","","",5,"","","","","","",6,"","","","","","",7,"","","","","","",8,"","","","","","",9,"","","","","","",10,{"$f":"IF(BQ5=\"Ma\",WEEKNUM(BQ4,21),\"\")","v":""},"","","","","",11,"","","","","","",12,"","","","","","",13,"","","","","","",14,"","","","","","",15,"","","","","","",{"$f":"IF(DF5=\"Ma\",WEEKNUM(DF4,21),\"\")","v":16},{"$f":"IF(DG5=\"Ma\",WEEKNUM(DG4,21),\"\")","v":""},"","","","","",17,"","","","","","",18,"","","","","","",19,"","","","","","",20,"","","","","","",21,"","","","","","",22,"","","","","","",23,"","","","","","",24,"","","","","","",25,"",{"$f":"IF(FS5=\"Ma\",WEEKNUM(FS4,21),\"\")","v":""},"","","","",26,"","","","","","",27,"","","","","","",28,"","","","","","",29,"","","","","","",30,"","","","","","",31,"","","","","","",32,"","","","","","",33,"","","","","","",34,"","",{"$f":"IF(IE5=\"Ma\",WEEKNUM(IE4,21),\"\")","v":""},"","","",35,"","","","","","",36,"","","","","","",37,"","","","","","",38,"","","","","","",39,"","","","","","",40,"","","","","","",41,"","","","","","",42,"","","","","","",43,"","","",{"$f":"IF(KQ5=\"Ma\",WEEKNUM(KQ4,21),\"\")","v":""},"","",44,"","","","","","",45,"","","","","","",46,"","","","","","",47,"","","","","","",48,"","","","","","",49,"","","","","","",50,"","","","","","",51,"","","","","","",52,"","","","",{"$f":"IF(NC5=\"Ma\",WEEKNUM(NC4,21),\"\")","v":""},""]
[null,null,null,{"$f":"WEEKNUM(D8,21)","v":40}]
[18,18,"FTE SAP [#]","RAYONLEIDER",null,null,null,null,null,null,null,null,null,null,null,null,null,null,null,null,null,null,null,null,null,null,null,null,null,null,null,null,null,null,null,null,null,null,null,null,null,null,null,null,null,null,null,null,null,null,null,null,null,null,null,null,null,null,null,null,null,null,null,null,null,null,null,null,null,null,null,null,null,null,null,null,null,null,null,null,null,null,null,null,null,null,null,null,null,null,null,null,null,null,null,null,null,null,null,null,null,null,null,null,null,null,null,null,null,null,null,null,null,null,null,null,null,null,null,null,null,null,null,null,null,null,null,null,null,null,null,null,null,null,null,null,null,18,18,18,18,18,null,null,null,18,18,18,18,18,null,18,18,18,18,18,null,null,18,18,18,18,18,null,null,18,18,18,18,18,18,null,18,18,18,18,18,null,null,18,18,18,18,18,null,null,18,18,18,18,18,18,null,18,18,18,18,18,null,null,18,18,18,18,18,null,null,null,null,null,null,null,null,null,null,null,null,null,null,null,null,null,null,null,null,null,null,null,18,18,18,18,18,18,null,18,18,18,18,18,null,null,18,18,18,18,18,null,null,18,18,18,18,18,18,null,18,18,18,18,18,null,null,18,18,18,18,18,null,null,18,18,18,18,18,18,null,18,18,18,18,18]
[16,16,"Functions required [#l]",null,null,null,null,null,null,null,null,null,null,null,null,null,null,null,null,null,null,null,null,null,null,null,null,null,null,null,null,null,null,null,null,null,null,null,null,null,null,null,null,null,null,null,null,null,null,null,null,null,null,null,null,null,null,null,null,null,null,null,null,null,null,null,null,null,null,null,null,null,null,null,null,null,null,null,null,null,null,null,null,null,null,null,null,null,null,null,null,null,null,null,null,null,null,null,null,null,null,null,null,null,null,null,null,null,null,null,null,null,null,null,null,null,null,null,null,null,null,null,null,null,null,null,null,null,null,null,null,null,null,null,null,null,null,16,16,16,16,16,null,null,null,16,16,16,16,16,null,16,16,16,16,16,null,null,16,16,16,16,16,null,null,16,16,16,16,16,16,null,16,16,16,16,16,null,null,16,16,16,16,16,null,null,16,16,16,16,16,16,null,16,16,16,16,16,null,null,16,16,16,16,16,null,null,null,null,null,null,null,null,null,null,null,null,null,null,null,null,null,null,null,null,null,null,null,16,16,16,16,16,16,null,16,16,16,16,16,null,null,16,16,16,16,16,null,null,16,16,16,16,16,16,null,16,16,16,16,16,null,null,16,16,16,16,16,null,null,16,16,16,16,16,16,null,16,16,16,16,16]
[20,20,"Direct blue collar present [#]",null,null,null,null,null,null,null,null,null,null,null,null,null,null,null,null,null,null,null,null,null,null,null,null,null,null,null,null,null,null,null,null,null,null,null,null,null,null,null,null,null,null,null,null,null,null,null,null,null,null,null,null,null,null,null,null,null,null,null,null,null,null,null,null,null,null,null,null,null,null,null,null,null,null,null,null,null,null,null,null,null,null,null,null,null,null,null,null,null,null,null,null,null,null,null,null,null,null,null,null,null,null,null,null,null,null,null,null,null,null,null,null,null,null,null,null,null,null,null,null,null,null,null,null,null,null,null,null,null,null,null,null,null,null,17,15,16,14,13,null,null,null,15,18,16,15,15,null,17,15,16,15,15,null,null,18,17,16,17,16,null,null,15,17,15,15,15,12,null,14,17,17,16,17,null,null,13.5,14.5,14.5,16,11,null,null,14,17,16,17,16,15,null,17,17,16,15,13.5,null,null,16,16,17,18,null,null,null,null,null,null,null,null,null,null,null,null,null,null,null,null,null,null,null,null,null,null,null,null,16,15,16,16,16,12,null,13,13,14,14,14,null,null,17,17,16,17,15,null,null,17,18,16,17,12,12,null,14,14,14,14,15,null,null,15,15,15,15,17,null,null,15,17,15,17,17,14,null,17,17,17,16,15]
[0,">=0","Idle capacity",null,{"$f":"IF(E10=\"\",\"\",E12-E11)","v":""},"","","","","","","","","","","","","","","","","","","","","","","","","","","","","","","","","","","","","","","","","","","","","","","","","","","","","","","","","","","","","","","",{"$f":"IF(BQ10=\"\",\"\",BQ12-BQ11)","v":""},"","","","","","","","","","","","","","","","","","","","","","","","","","","","","","","","","","","","","","","","",{"$f":"IF(DF10=\"\",\"\",DF12-DF11)","v":""},{"$f":"IF(DG10=\"\",\"\",DG12-DG11)","v":""},"","","","","","","","","","","","","","","","","","","","","","","","","","",1,-1,0,-2,-3,"","","",-1,2,0,-1,-1,"",1,-1,0,-1,-1,"","",2,1,0,1,0,"","",-1,1,-1,-1,-1,-4,"",-2,1,{"$f":"IF(FS10=\"\",\"\",FS12-FS11)","v":1},0,1,"","",-2.5,-1.5,-1.5,0,-5,"","",-2,1,0,1,0,-1,"",1,1,0,-1,-2.5,"","",0,0,1,2,-16,"","","","","","","","","","","","","","","","","","","","","","","",0,-1,0,0,0,-4,"",-3,-3,-2,{"$f":"IF(IE10=\"\",\"\",IE12-IE11)","v":-2},-2,"","",1,1,0,1,-1,"","",1,2,0,1,-4,-4,"",-2,-2,-2,-2,-1,"","",-1,-1,-1,-1,1,"","",-1,1,-1,1,1,-2,"",1,1,1,0,-1,"","","","","","","","","","","","","","","","","","","","",{"$f":"IF(KQ10=\"\",\"\",KQ12-KQ11)","v":""},"","","","","","","","","","","","","","","","","","","","","","","","","","","","","","","","","","","","","","","","","","","","","","","","","","","","","","","","","","","","","","","",{"$f":"IF(NC10=\"\",\"\",NC12-NC11)","v":""},""]
[null,"Max","Idle (aantal Medewerkers uitleen/ Opleiding)",null,null,null,null,null,null,null,null,null,null,null,null,null,null,null,null,null,null,null,null,null,null,null,null,null,null,null,null,null,null,null,null,null,null,null,null,null,null,null,null,null,null,null,null,null,null,null,null,null,null,null,null,null,null,null,null,null,null,null,null,null,null,null,null,null,null,null,null,null,null,null,null,null,null,null,null,null,null,null,null,null,null,null,null,null,null,null,null,null,null,null,null,null,null,null,null,null,null,null,null,null,null,null,null,null,null,null,null,null,null,null,null,null,null,null,null,null,null,null,null,null,null,null,null,null,null,null,null,null,null,null,null,null,null,1,0,0,0,0,null,null,null,0,0,0,0,0,null,0,0,0,0,0,null,null,2,1,0,1,1,null,null,1,1,1,1,1,0,null,1,1,0,0,0,null,null,0,0,0,0,0,null,null,0,1,0,0,0,0,null,1,1,0,0,0.5,null,null,0,0,1,2,null,null,null,null,null,null,null,null,null,null,null,null,null,null,null,null,null,null,null,null,null,null,null,null,0,0,1,1,1,0,null,1,1,1,1,1,null,null,0,0,0,1,0,null,null,1,1,2,1,1,1,null,0,1,1,0,0,null,null,0,0,0,0,0,null,null,0,1,0,1,1,0,null,0,0,0,0,0]
[null,"Max","Eigen Onderhoud",null,null,null,null,null,null,null,null,null,null,null,null,null,null,null,null,null,null,null,null,null,null,null,null,null,null,null,null,null,null,null,null,null,null,null,null,null,null,null,null,null,null,null,null,null,null,null,null,null,null,null,null,null,null,null,null,null,null,null,null,null,null,null,null,null,null,null,null,null,null,null,null,null,null,null,null,null,null,null,null,null,null,null,null,null,null,null,null,null,null,null,null,null,null,null,null,null,null,null,null,null,null,null,null,null,null,null,null,null,null,null,null,null,null,null,null,null,null,null,null,null,null,null,null,null,null,null,null,null,null,null,null,null,null,0,0,0,0,0,null,null,null,0,2,0,0,0,null,0,0,0,0,0,null,null,0,0,0,0,0,null,null,0,0,0,0,0,0,null,0,0,0,0,0,null,null,0,0,0,0,0,null,null,0,0,0,0,0,0,null,0,0,0,0,0,null,null,0,0,0,0,null,null,null,null,null,null,null,null,null,null,null,null,null,null,null,null,null,null,null,null,null,null,null,null,0,0,0,1,0,0,null,0,0,0,0,0,null,null,0,0,0,0,0,null,null,0,0,0,0,0,0,null,0,0,0,0,0,null,null,0,0,0,0,0,null,null,0,0,0,0,0,0,null,0,0,0,1,0]
[0,0,"Injury (F.g.p.) Zonder verzuim",null,null,null,null,null,null,null,null,null,null,null,null,null,null,null,null,null,null,null,null,null,null,null,null,null,null,null,null,null,null,null,null,null,null,null,null,null,null,null,null,null,null,null,null,null,null,null,null,null,null,null,null,null,null,null,null,null,null,null,null,null,null,null,null,null,null,null,null,null,null,null,null,null,null,null,null,null,null,null,null,null,null,null,null,null,null,null,null,null,null,null,null,null,null,null,null,null,null,null,null,null,null,null,null,null,null,null,null,null,null,null,null,null,null,null,null,null,null,null,null,null,null,null,null,null,null,null,null,null,null,null,null,null,null,0,0,0,0,0,null,null,null,0,0,0,0,0,null,0,0,0,0,0,null,null,0,0,0,0,0,null,null,0,0,0,0,0,0,null,0,0,0,0,0,null,null,0,0,0,0,0,null,null,0,0,0,0,0,0,null,0,0,0,0,0,null,null,0,0,0,0,null,null,null,null,null,null,null,null,null,null,null,null,null,null,null,null,null,null,null,null,null,null,null,null,0,0,0,0,0,0,null,0,0,0,0,0,null,null,0,0,0,0,0,null,null,0,0,0,0,0,0,null,0,0,0,0,0,null,null,0,0,0,0,0,null,null,0,0,0,0,0,0,null,0,0,0,0,0]
[0,0,"Injury (E.g.p.) Met verzuim",null,null,null,null,null,null,null,null,null,null,null,null,null,null,null,null,null,null,null,null,null,null,null,null,null,null,null,null,null,null,null,null,null,null,null,null,null,null,null,null,null,null,null,null,null,null,null,null,null,null,null,null,null,null,null,null,null,null,null,null,null,null,null,null,null,null,null,null,null,null,null,null,null,null,null,null,null,null,null,null,null,null,null,null,null,null,null,null,null,null,null,null,null,null,null,null,null,null,null,null,null,null,null,null,null,null,null,null,null,null,null,null,null,null,null,null,null,null,null,null,null,null,null,null,null,null,null,null,null,null,null,null,null,null,0,0,0,0,0,null,null,null,0,0,0,0,0,null,0,0,0,0,0,null,null,0,0,0,0,0,null,null,0,0,0,0,0,0,null,0,0,0,0,0,null,null,0,0,0,0,0,null,null,0,0,0,0,0,0,null,0,0,0,0,0,null,null,0,0,0,0,null,null,null,null,null,null,null,null,null,null,null,null,null,null,null,null,null,null,null,null,null,null,null,null,0,0,1,0,0,0,null,0,0,0,0,0,null,null,0,0,0,0,0,null,null,0,0,0,0,0,0,null,0,0,0,0,0,null,null,0,0,0,0,0,null,null,0,0,0,0,0,0,null,0,0,0,0,0]
[1,"<=1","Illness direct blue collar",null,null,null,null,null,null,null,null,null,null,null,null,null,null,null,null,null,null,null,null,null,null,null,null,null,null,null,null,null,null,null,null,null,null,null,null,null,null,null,null,null,null,null,null,null,null,null,null,null,null,null,null,null,null,null,null,null,null,null,null,null,null,null,null,null,null,null,null,null,null,null,null,null,null,null,null,null,null,null,null,null,null,null,null,null,null,null,null,null,null,null,null,null,null,null,null,null,null,null,null,null,null,null,null,null,null,null,null,null,null,null,null,null,null,null,null,null,null,null,null,null,null,null,null,null,null,null,null,null,null,null,null,null,null,1,1.5,2,3,2,null,null,null,1,1,1,0,0,null,0,0,0,1,1,null,null,0,0,0,0,0,null,null,1,1,1,0,0,0,null,1,1,1,1,1,null,null,2.5,2.5,2.5,2.5,2.5,null,null,3,2,2,2,2,2,null,2,2,2,2,3,null,null,1,1,1,1,1,null,null,null,null,null,null,null,null,null,null,null,null,null,null,null,null,null,null,null,null,null,null,null,2,2,2.25,3,3,3,null,2,2,2,2,2,null,null,2,2,2,2,3,null,null,3,3,4,4,4,4,null,4,4,3,3,3,null,null,4,3,3,3,3,null,null,3,3,3,3,2,2,null,2,2,2,3,3]
[4.4999999999999998E-2,"<4,50%","Percentage Illness per day",null,{"$f":"IFERROR((E17+E18)/E$10,0%)","v":0},0,0,0,0,0,0,0,0,0,0,0,0,0,0,0,0,0,0,0,0,0,0,0,0,0,0,0,0,0,0,0,0,0,0,0,0,0,0,0,0,0,0,0,0,0,0,0,0,0,0,0,0,0,0,0,0,0,0,0,0,0,0,0,{"$f":"IFERROR((BQ17+BQ18)/BQ$10,0%)","v":0},0,0,0,0,0,0,0,0,0,0,0,0,0,0,0,0,0,0,0,0,0,0,0,0,0,0,0,0,0,0,0,0,0,0,0,0,0,0,0,0,0,0,0,0,0,0,0,0,0,0,0,0,0,0,0,0,0,0,0,0,0,0,0,{"$f":"IFERROR((EC17+EC18)/EC$10,0%)","v":0},0,0,0,0,5.5555555555555552E-2,8.3333333333333329E-2,0.1111111111111111,0.16666666666666666,0.1111111111111111,0,0,0,5.5555555555555552E-2,5.5555555555555552E-2,5.5555555555555552E-2,0,0,0,0,0,0,5.5555555555555552E-2,5.5555555555555552E-2,0,0,0,0,0,0,0,0,0,5.5555555555555552E-2,5.5555555555555552E-2,5.5555555555555552E-2,0,0,0,0,5.5555555555555552E-2,5.5555555555555552E-2,5.5555555555555552E-2,5.5555555555555552E-2,5.5555555555555552E-2,0,0,0.1388888888888889,0.1388888888888889,0.1388888888888889,0.1388888888888889,0.1388888888888889,0,0,0.16666666666666666,0.1111111111111111,0.1111111111111111,0.1111111111111111,0.1111111111111111,0.1111111111111111,0,0.1111111111111111,0.1111111111111111,0.1111111111111111,{"$f":"IFERROR((GO17+GO18)/GO$10,0%)","v":0.1111111111111111},0.16666666666666666,0,0,5.5555555555555552E-2,5.5555555555555552E-2,5.5555555555555552E-2,5.5555555555555552E-2,5.5555555555555552E-2,0,0,0,0,0,0,0,0,0,0,0,0,0,0,0,0,0,0,0,0,0,0,0,0.1111111111111111,0.1111111111111111,0.18055555555555555,0.16666666666666666,0.16666666666666666,0.16666666666666666,0,0.1111111111111111,0.1111111111111111,0.1111111111111111,0.1111111111111111,0.1111111111111111,0,0,0.1111111111111111,0.1111111111111111,0.1111111111111111,0.1111111111111111,0.16666666666666666,0,0,0.16666666666666666,0.16666666666666666,0.22222222222222221,0.22222222222222221,0.22222222222222221,0.22222222222222221,0,0.22222222222222221,0.22222222222222221,0.16666666666666666,0.16666666666666666,{"$f":"IFERROR((JA17+JA18)/JA$10,0%)","v":0.16666666666666666},0,0,0.22222222222222221,0.16666666666666666,0.16666666666666666,0.16666666666666666,0.16666666666666666,0,0,0.16666666666666666,0.16666666666666666,0.16666666666666666,0.16666666666666666,0.1111111111111111,0.1111111111111111,0,0.1111111111111111,0.1111111111111111,0.1111111111111111,0.16666666666666666,0.16666666666666666,0,0,0,0,0,0,0,0,0,0,0,0,0,0,0,0,0,0,0,0,0,0,0,0,0,0,0,0,0,0,0,0,0,0,0,0,0,0,0,0,0,0,{"$f":"IFERROR((LM17+LM18)/LM$10,0%)","v":0},0,0,0,0,0,0,0,0,0,0,0,0,0,0,0,0,0,0,0,0,0,0,0,0,0,0,0,0,0,0,0,0,0,0,0,0,0,0,0,0,0,0,0]
[2,"2/Week","Individual small improvements",null,null,null,null,null,null,null,null,null,null,null,null,null,null,null,null,null,null,null,null,null,null,null,null,null,null,null,null,null,null,null,null,null,null,null,null,null,null,null,null,null,null,null,null,null,null,null,null,null,null,null,null,null,null,null,null,null,null,null,null,null,null,null,null,null,null,null,null,null,null,null,null,null,null,null,null,null,null,null,null,null,null,null,null,null,null,null,null,null,null,null,null,null,null,null,null,null,null,null,null,null,null,null,null,null,null,null,null,null,null,null,null,null,null,null,null,null,null,null,null,null,null,null,null,null,null,null,null,null,null,null,null,null,null,0,0,0,0,0,null,null,null,0,0,0,0,0,null,0,0,0,0,0,null,null,0,0,0,0,0,null,null,0,0,0,0,0,0,null,0,0,0,0,0,null,null,0,0,0,0,0,null,null,0,0,0,0,0,0,null,0,0,0,0,0,null,null,0,0,0,0,null,null,null,null,null,null,null,null,null,null,null,null,null,null,null,null,null,null,null,null,null,null,null,null,0,0,0,0,0,0,null,0,0,0,0,0,null,null,0,0,0,0,0,null,null,0,0,0,0,0,0,null,0,0,0,0,0,null,null,0,0,0,0,0,null,null,0,0,0,0,0,0,null,0,0,0,0,0]
[null,"-","Workshop Action Implementation",null,null,null,null,null,null,null,null,null,null,null,null,null,null,null,null,null,null,null,null,null,null,null,null,null,null,null,null,null,null,null,null,null,null,null,null,null,null,null,null,null,null,null,null,null,null,null,null,null,null,null,null,null,null,null,null,null,null,null,null,null,null,null,null,null,null,null,null,null,null,null,null,null,null,null,null,null,null,null,null,null,null,null,null,null,null,null,null,null,null,null,null,null,null,null,null,null,null,null,null,null,null,null,null,null,null,null,null,null,null,null,null,null,null,null,null,null,null,null,null,null,null,null,null,null,null,null,null,null,null,null,null,null,null,0,0,0,0,0,null,null,null,0,0,0,0,0,null,0,0,0,0,0,null,null,0,0,0,0,0,null,null,0,0,0,0,0,0,null,0,0,0,0,0,null,null,0,0,0,0,0,null,null,0,0,0,0,0,0,null,0,0,0,0,0,null,null,0,0,0,0,null,null,null,null,null,null,null,null,null,null,null,null,null,null,null,null,null,null,null,null,null,null,null,null,0,0,0,0,0,0,null,0,0,0,0,0,null,null,0,0,0,0,0,null,null,0,0,0,0,0,0,null,0,0,0,0,0,null,null,0,0,0,0,0,null,null,0,0,0,0,0,0,null,0,0,0,0,0]
[0.8,0.8,"FCOM score borging",null,null,null,null,null,null,null,null,null,null,null,null,null,null,null,null,null,null,null,null,null,null,null,null,null,null,null,null,null,null,null,null,null,null,null,null,null,null,null,null,null,null,null,null,null,null,null,null,null,null,null,null,null,null,null,null,null,null,null,null,null,null,null,null,null,null,null,null,null,null,null,null,null,null,null,null,null,null,null,null,null,null,null,null,null,null,null,null,null,null,null,null,null,null,null,null,null,null,null,null,null,null,null,null,null,null,null,null,null,null,null,null,null,null,null,null,null,null,null,null,null,null,null,null,null,null,null,null,null,null,null,null,null,null,0,0,0,0,0,null,null,null,0,0,0,0,0,null,0,0,0,0,0,null,null,0,0,0,0,0,null,null,0.6,0.6,0.6,0.6,0.6,0.6,null,0.6,0.6,0.6,0.6,0.6,null,null,0.6,0.6,0.6,0.6,0.6,null,null,0.6,0.6,0.6,0.6,0.6,0.6,null,0.6,0.6,0.6,0.6,0.6,null,null,0.6,0.6,0.6,0.6,null,null,null,null,null,null,null,null,null,null,null,null,null,null,null,null,null,null,null,null,null,null,null,null,0.6,0.6,0.6,0.6,0.6,0.6,null,0.6,0.6,0.6,0.6,0.6,null,null,0.6,0.6,0.6,0.6,0.6,null,null,0.6,0.6,0.6,0.6,0.6,0.6,null,0.6,0.6,0.6,0.6,0.6,null,null,0.6,0.6,0.6,0.6,0.6,null,null,0.6,0.6,0.6,0.6,0.6,0.6,null,0.6,0.6,0.6,0.6,0.6]
[0.9,0.9,"FCOM score milieu",null,null,null,null,null,null,null,null,null,null,null,null,null,null,null,null,null,null,null,null,null,null,null,null,null,null,null,null,null,null,null,null,null,null,null,null,null,null,null,null,null,null,null,null,null,null,null,null,null,null,null,null,null,null,null,null,null,null,null,null,null,null,null,null,null,null,null,null,null,null,null,null,null,null,null,null,null,null,null,null,null,null,null,null,null,null,null,null,null,null,null,null,null,null,null,null,null,null,null,null,null,null,null,null,null,null,null,null,null,null,null,null,null,null,null,null,null,null,null,null,null,null,null,null,null,null,null,null,null,null,null,null,null,null,0,0,0,0,0,null,null,null,0,0,0,0,0,null,0,0,0,0,0,null,null,0,0,0,0,0,null,null,0.9,0.9,0.9,0.9,0.9,0.9,null,0.9,0.9,0.9,0.9,0.9,null,null,0.9,0.9,0.9,0.9,0.9,null,null,0.9,0.9,0.9,0.9,0.9,0.9,null,0.9,0.9,0.9,0.9,0.9,null,null,0.9,0.9,0.9,0.9,null,null,null,null,null,null,null,null,null,null,null,null,null,null,null,null,null,null,null,null,null,null,null,null,0.9,0.9,0.9,0.9,0.9,0.9,null,0.9,0.9,0.9,0.9,0.9,null,null,0.9,0.9,0.9,0.9,0.9,null,null,0.9,0.9,0.9,0.9,0.9,0.9,null,0.9,0.9,0.9,0.9,0.9,null,null,0.9,0.9,0.9,0.9,0.9,null,null,0.9,0.9,0.9,0.9,0.9,0.9,null,0.9,0.9,0.9,0.9,0.9]
[1,"1/Week","Number of HR-Conversations",null,null,null,null,null,null,null,null,null,null,null,null,null,null,null,null,null,null,null,null,null,null,null,null,null,null,null,null,null,null,null,null,null,null,null,null,null,null,null,null,null,null,null,null,null,null,null,null,null,null,null,null,null,null,null,null,null,null,null,null,null,null,null,null,null,null,null,null,null,null,null,null,null,null,null,null,null,null,null,null,null,null,null,null,null,null,null,null,null,null,null,null,null,null,null,null,null,null,null,null,null,null,null,null,null,null,null,null,null,null,null,null,null,null,null,null,null,null,null,null,null,null,null,null,null,null,null,null,null,null,null,null,null,null,0,0,0,0,0,null,null,null,0,0,0,0,0,null,0,0,0,0,0,null,null,0,0,0,0,0,null,null,0,0,0,0,0,0,null,0,0,0,0,0,null,null,0,0,0,0,0,null,null,0,0,0,0,0,0,null,0,0,0,0,0,null,null,0,0,0,0,null,null,null,null,null,null,null,null,null,null,null,null,null,null,null,null,null,null,null,null,null,null,null,null,0,0,0,0,0,0,null,0,0,0,0,0,null,null,0,0,1,0,0,null,null,0,0,0,0,0,0,null,0,0,0,0,0,null,null,0,0,0,0,0,null,null,0,0,0,0,1,0,null,0,0,0,0,0]
[1,"1/Dayshift","Number of Taskgroupmeetings",null,null,null,null,null,null,null,null,null,null,null,null,null,null,null,null,null,null,null,null,null,null,null,null,null,null,null,null,null,null,null,null,null,null,null,null,null,null,null,null,null,null,null,null,null,null,null,null,null,null,null,null,null,null,null,null,null,null,null,null,null,null,null,null,null,null,null,null,null,null,null,null,null,null,null,null,null,null,null,null,null,null,null,null,null,null,null,null,null,null,null,null,null,null,null,null,null,null,null,null,null,null,null,null,null,null,null,null,null,null,null,null,null,null,null,null,null,null,null,null,null,null,null,null,null,null,null,null,null,null,null,null,null,null,0,0,0,0,0,null,null,null,0,0,0,0,0,null,0,0,0,0,0,null,null,0,0,0,0,0,null,null,0,0,0,0,0,1,null,0,0,0,0,0,null,null,0,0,0,0,0,null,null,0,0,0,0,0,0,null,0,0,0,0,0,null,null,0,0,0,0,null,null,null,null,null,null,null,null,null,null,null,null,null,null,null,null,null,null,null,null,null,null,null,null,0,0,0,0,0,0,null,0,0,0,0,0,null,null,0,0,0,0,0,null,null,0,0,0,0,0,0,null,0,0,0,0,0,null,null,0,0,0,0,0,null,null,0,0,0,0,1,0,null,0,0,0,0,0]
[2,"Delivery (D)",null,null,"    ","    ","    ","    ","    ","    ","    ","    ","    ","    ","    ","    ","    ","    ","    ","    ","    ","    ","    ","    ","    ","    ","    ","    ","    ","    ","    ","    ","    ","    ","    ","    ","    ","    ","    ","    ","    ","    ","    ","    ","    ","    ","    ","    ","    ","    ","    ","    ","    ","    ","    ","    ","    ","    ","    ","    ","    ","    ","    ","    ","    ","    ","    ","    ","    ","    ","    ","    ","    ","    ","    ","    ","    ","    ","    ","    ","    ","    ","    ","    ","    ","    ","    ","    ","    ","    ","    ","    ","    ","    ","    ","    ",null,"    ",null,"    ",null,"    ",null,"    ",null,"    ",null,"    "]
[null,"Goal","K.P.I."]
[]
["Plan","Plan","Realized SRM LH","OPERATOR / STERSPELER",null,null,null,null,null,null,null,null,null,null,null,null,null,null,null,null,null,null,null,null,null,null,null,null,null,null,null,null,null,null,null,null,null,null,null,null,null,null,null,null,null,null,null,null,null,null,null,null,null,null,null,null,null,null,null,null,null,null,null,null,null,null,null,null,null,null,null,null,null,null,null,null,null,null,null,null,null,null,null,null,null,null,null,null,null,null,null,null,null,null,null,null,null,null,null,null,null,null,null,null,null,null,null,null,null,null,null,null,null,null,null,null,null,null,null,null,null,null,null,null,null,null,null,null,null,null,null,null,null,null,null,null,null,320,340,342,291,291,null,null,null,264,303,297,291,298,null,279,280,325,326,334,null,null,267,295,285,311,366,null,null,290,321,385,305,282,87,null,235,94,338,327,287,null,null,341,356,352,341,0,null,null,290,344,336,295,291,149,null,320,381,334,253,347,null,null,313,236,376,108,null,null,null,null,null,null,null,null,null,null,null,null,null,null,null,null,null,null,null,null,null,null,null,null,283,291,256,216,338,383,null,212,335,252,355,340,null,null,369,345,321,365,374,null,null,284,288,366,337,263,183,null,333,334,346,347,379,null,null,242,312,298,370,328,null,null,355,383,380,307,237,282,null,367,310,343,323,298]
[40,"t.b.d.","Downtime Technical SRM LH [Min]",null,{"$f":"VLOOKUP(E$4,[1]SRM!$S$4:$Z$368,4,0)","v":0},{"$f":"VLOOKUP(F$4,[1]SRM!$S$4:$Z$368,4,0)","v":0},{"$f":"VLOOKUP(G$4,[1]SRM!$S$4:$Z$368,4,0)","v":0},{"$f":"VLOOKUP(H$4,[1]SRM!$S$4:$Z$368,4,0)","v":0},{"$f":"VLOOKUP(I$4,[1]SRM!$S$4:$Z$368,4,0)","v":0},{"$f":"VLOOKUP(J$4,[1]SRM!$S$4:$Z$368,4,0)","v":0},{"$f":"VLOOKUP(K$4,[1]SRM!$S$4:$Z$368,4,0)","v":0},{"$f":"VLOOKUP(L$4,[1]SRM!$S$4:$Z$368,3,0)","v":10},{"$f":"VLOOKUP(M$4,[1]SRM!$S$4:$Z$368,3,0)","v":24},{"$f":"VLOOKUP(N$4,[1]SRM!$S$4:$Z$368,3,0)","v":37},{"$f":"VLOOKUP(O$4,[1]SRM!$S$4:$Z$368,3,0)","v":60},{"$f":"VLOOKUP(P$4,[1]SRM!$S$4:$Z$368,3,0)","v":32},{"$f":"VLOOKUP(Q$4,[1]SRM!$S$4:$Z$368,3,0)","v":0},{"$f":"VLOOKUP(R$4,[1]SRM!$S$4:$Z$368,3,0)","v":0},{"$f":"VLOOKUP(S$4,[1]SRM!$S$4:$Z$368,2,0)","v":54},{"$f":"VLOOKUP(T$4,[1]SRM!$S$4:$Z$368,2,0)","v":13},{"$f":"VLOOKUP(U$4,[1]SRM!$S$4:$Z$368,2,0)","v":55},{"$f":"VLOOKUP(V$4,[1]SRM!$S$4:$Z$368,2,0)","v":33},{"$f":"VLOOKUP(W$4,[1]SRM!$S$4:$Z$368,2,0)","v":54},{"$f":"VLOOKUP(X$4,[1]SRM!$S$4:$Z$368,2,0)","v":0},{"$f":"VLOOKUP(Y$4,[1]SRM!$S$4:$Z$368,2,0)","v":0},{"$f":"VLOOKUP(Z$4,[1]SRM!$S$4:$Z$368,4,0)","v":0},{"$f":"VLOOKUP(AA$4,[1]SRM!$S$4:$Z$368,4,0)","v":0},{"$f":"VLOOKUP(AB$4,[1]SRM!$S$4:$Z$368,4,0)","v":0},{"$f":"VLOOKUP(AC$4,[1]SRM!$S$4:$Z$368,4,0)","v":0},{"$f":"VLOOKUP(AD$4,[1]SRM!$S$4:$Z$368,4,0)","v":0},{"$f":"VLOOKUP(AE$4,[1]SRM!$S$4:$Z$368,4,0)","v":0},{"$f":"VLOOKUP(AF$4,[1]SRM!$S$4:$Z$368,4,0)","v":0},{"$f":"VLOOKUP(AG$4,[1]SRM!$S$4:$Z$368,3,0)","v":30},{"$f":"VLOOKUP(AH$4,[1]SRM!$S$4:$Z$368,3,0)","v":44},{"$f":"VLOOKUP(AI$4,[1]SRM!$S$4:$Z$368,3,0)","v":10},{"$f":"VLOOKUP(AJ$4,[1]SRM!$S$4:$Z$368,3,0)","v":11},{"$f":"VLOOKUP(AK$4,[1]SRM!$S$4:$Z$368,3,0)","v":26},{"$f":"VLOOKUP(AL$4,[1]SRM!$S$4:$Z$368,3,0)","v":0},{"$f":"VLOOKUP(AM$4,[1]SRM!$S$4:$Z$368,3,0)","v":0},{"$f":"VLOOKUP(AN$4,[1]SRM!$S$4:$Z$368,2,0)","v":23},{"$f":"VLOOKUP(AO$4,[1]SRM!$S$4:$Z$368,2,0)","v":37},{"$f":"VLOOKUP(AP$4,[1]SRM!$S$4:$Z$368,2,0)","v":60},{"$f":"VLOOKUP(AQ$4,[1]SRM!$S$4:$Z$368,2,0)","v":15},{"$f":"VLOOKUP(AR$4,[1]SRM!$S$4:$Z$368,2,0)","v":33},{"$f":"VLOOKUP(AS$4,[1]SRM!$S$4:$Z$368,2,0)","v":0},{"$f":"VLOOKUP(AT$4,[1]SRM!$S$4:$Z$368,2,0)","v":0},{"$f":"VLOOKUP(AU$4,[1]SRM!$S$4:$Z$368,4,0)","v":0},{"$f":"VLOOKUP(AV$4,[1]SRM!$S$4:$Z$368,4,0)","v":0},{"$f":"VLOOKUP(AW$4,[1]SRM!$S$4:$Z$368,4,0)","v":0},{"$f":"VLOOKUP(AX$4,[1]SRM!$S$4:$Z$368,4,0)","v":0},{"$f":"VLOOKUP(AY$4,[1]SRM!$S$4:$Z$368,4,0)","v":10},{"$f":"VLOOKUP(AZ$4,[1]SRM!$S$4:$Z$368,4,0)","v":0},{"$f":"VLOOKUP(BA$4,[1]SRM!$S$4:$Z$368,4,0)","v":0},{"$f":"VLOOKUP(BB$4,[1]SRM!$S$4:$Z$368,3,0)","v":50},{"$f":"VLOOKUP(BC$4,[1]SRM!$S$4:$Z$368,3,0)","v":22},{"$f":"VLOOKUP(BD$4,[1]SRM!$S$4:$Z$368,3,0)","v":22},{"$f":"VLOOKUP(BE$4,[1]SRM!$S$4:$Z$368,3,0)","v":13},{"$f":"VLOOKUP(BF$4,[1]SRM!$S$4:$Z$368,3,0)","v":26},{"$f":"VLOOKUP(BG$4,[1]SRM!$S$4:$Z$368,3,0)","v":0},{"$f":"VLOOKUP(BH$4,[1]SRM!$S$4:$Z$368,3,0)","v":0},{"$f":"VLOOKUP(BI$4,[1]SRM!$S$4:$Z$368,2,0)","v":0},{"$f":"VLOOKUP(BJ$4,[1]SRM!$S$4:$Z$368,2,0)","v":19},{"$f":"VLOOKUP(BK$4,[1]SRM!$S$4:$Z$368,2,0)","v":20},{"$f":"VLOOKUP(BL$4,[1]SRM!$S$4:$Z$368,2,0)","v":30},{"$f":"VLOOKUP(BM$4,[1]SRM!$S$4:$Z$368,2,0)","v":49},{"$f":"VLOOKUP(BN$4,[1]SRM!$S$4:$Z$368,2,0)","v":0},{"$f":"VLOOKUP(BO$4,[1]SRM!$S$4:$Z$368,2,0)","v":0},{"$f":"VLOOKUP(BP$4,[1]SRM!$S$4:$Z$368,4,0)","v":0},{"$f":"VLOOKUP(BQ$4,[1]SRM!$S$4:$Z$368,4,0)","v":0},{"$f":"VLOOKUP(BR$4,[1]SRM!$S$4:$Z$368,4,0)","v":0},{"$f":"VLOOKUP(BS$4,[1]SRM!$S$4:$Z$368,4,0)","v":0},{"$f":"VLOOKUP(BT$4,[1]SRM!$S$4:$Z$368,4,0)","v":0},{"$f":"VLOOKUP(BU$4,[1]SRM!$S$4:$Z$368,4,0)","v":0},{"$f":"VLOOKUP(BV$4,[1]SRM!$S$4:$Z$368,4,0)","v":0},{"$f":"VLOOKUP(BW$4,[1]SRM!$S$4:$Z$368,3,0)","v":32},{"$f":"VLOOKUP(BX$4,[1]SRM!$S$4:$Z$368,3,0)","v":40},{"$f":"VLOOKUP(BY$4,[1]SRM!$S$4:$Z$368,3,0)","v":41},{"$f":"VLOOKUP(BZ$4,[1]SRM!$S$4:$Z$368,3,0)","v":25},{"$f":"VLOOKUP(CA$4,[1]SRM!$S$4:$Z$368,3,0)","v":40},{"$f":"VLOOKUP(CB$4,[1]SRM!$S$4:$Z$368,3,0)","v":0},{"$f":"VLOOKUP(CC$4,[1]SRM!$S$4:$Z$368,3,0)","v":0},{"$f":"VLOOKUP(CD$4,[1]SRM!$S$4:$Z$368,2,0)","v":30},{"$f":"VLOOKUP(CE$4,[1]SRM!$S$4:$Z$368,2,0)","v":10},{"$f":"VLOOKUP(CF$4,[1]SRM!$S$4:$Z$368,2,0)","v":8},{"$f":"VLOOKUP(CG$4,[1]SRM!$S$4:$Z$368,2,0)","v":11},{"$f":"VLOOKUP(CH$4,[1]SRM!$S$4:$Z$368,2,0)","v":46},{"$f":"VLOOKUP(CI$4,[1]SRM!$S$4:$Z$368,2,0)","v":0},{"$f":"VLOOKUP(CJ$4,[1]SRM!$S$4:$Z$368,2,0)","v":0},{"$f":"VLOOKUP(CK$4,[1]SRM!$S$4:$Z$368,4,0)","v":0},{"$f":"VLOOKUP(CL$4,[1]SRM!$S$4:$Z$368,4,0)","v":0},{"$f":"VLOOKUP(CM$4,[1]SRM!$S$4:$Z$368,4,0)","v":0},{"$f":"VLOOKUP(CN$4,[1]SRM!$S$4:$Z$368,4,0)","v":0},{"$f":"VLOOKUP(CO$4,[1]SRM!$S$4:$Z$368,4,0)","v":0},{"$f":"VLOOKUP(CP$4,[1]SRM!$S$4:$Z$368,4,0)","v":0},{"$f":"VLOOKUP(CQ$4,[1]SRM!$S$4:$Z$368,4,0)","v":0},{"$f":"VLOOKUP(CR$4,[1]SRM!$S$4:$Z$368,3,0)","v":0},{"$f":"VLOOKUP(CS$4,[1]SRM!$S$4:$Z$368,3,0)","v":30},{"$f":"VLOOKUP(CT$4,[1]SRM!$S$4:$Z$368,3,0)","v":87},{"$f":"VLOOKUP(CU$4,[1]SRM!$S$4:$Z$368,3,0)","v":37},{"$f":"VLOOKUP(CV$4,[1]SRM!$S$4:$Z$368,3,0)","v":33},{"$f":"VLOOKUP(CW$4,[1]SRM!$S$4:$Z$368,3,0)","v":0},{"$f":"VLOOKUP(CX$4,[1]SRM!$S$4:$Z$368,3,0)","v":0},{"$f":"VLOOKUP(CY$4,[1]SRM!$S$4:$Z$368,2,0)","v":113},{"$f":"VLOOKUP(CZ$4,[1]SRM!$S$4:$Z$368,2,0)","v":48},{"$f":"VLOOKUP(DA$4,[1]SRM!$S$4:$Z$368,2,0)","v":44},{"$f":"VLOOKUP(DB$4,[1]SRM!$S$4:$Z$368,2,0)","v":30},{"$f":"VLOOKUP(DC$4,[1]SRM!$S$4:$Z$368,2,0)","v":48},{"$f":"VLOOKUP(DD$4,[1]SRM!$S$4:$Z$368,2,0)","v":0},{"$f":"VLOOKUP(DE$4,[1]SRM!$S$4:$Z$368,2,0)","v":0},{"$f":"VLOOKUP(DF$4,[1]SRM!$S$4:$Z$368,4,0)","v":33},{"$f":"VLOOKUP(DG$4,[1]SRM!$S$4:$Z$368,4,0)","v":70},{"$f":"VLOOKUP(DH$4,[1]SRM!$S$4:$Z$368,4,0)","v":170},{"$f":"VLOOKUP(DI$4,[1]SRM!$S$4:$Z$368,4,0)","v":19},{"$f":"VLOOKUP(DJ$4,[1]SRM!$S$4:$Z$368,4,0)","v":41},{"$f":"VLOOKUP(DK$4,[1]SRM!$S$4:$Z$368,4,0)","v":0},{"$f":"VLOOKUP(DL$4,[1]SRM!$S$4:$Z$368,4,0)","v":0},{"$f":"VLOOKUP(DM$4,[1]SRM!$S$4:$Z$368,3,0)","v":67},{"$f":"VLOOKUP(DN$4,[1]SRM!$S$4:$Z$368,3,0)","v":39},{"$f":"VLOOKUP(DO$4,[1]SRM!$S$4:$Z$368,3,0)","v":32},{"$f":"VLOOKUP(DP$4,[1]SRM!$S$4:$Z$368,3,0)","v":32},{"$f":"VLOOKUP(DQ$4,[1]SRM!$S$4:$Z$368,3,0)","v":0},{"$f":"VLOOKUP(DR$4,[1]SRM!$S$4:$Z$368,3,0)","v":0},{"$f":"VLOOKUP(DS$4,[1]SRM!$S$4:$Z$368,3,0)","v":0},{"$f":"VLOOKUP(DT$4,[1]SRM!$S$4:$Z$368,2,0)","v":24},{"$f":"VLOOKUP(DU$4,[1]SRM!$S$4:$Z$368,2,0)","v":107},{"$f":"VLOOKUP(DV$4,[1]SRM!$S$4:$Z$368,2,0)","v":115},{"$f":"VLOOKUP(DW$4,[1]SRM!$S$4:$Z$368,2,0)","v":16},{"$f":"VLOOKUP(DX$4,[1]SRM!$S$4:$Z$368,2,0)","v":44},{"$f":"VLOOKUP(DY$4,[1]SRM!$S$4:$Z$368,2,0)","v":87},{"$f":"VLOOKUP(DZ$4,[1]SRM!$S$4:$Z$368,2,0)","v":0},{"$f":"VLOOKUP(EA$4,[1]SRM!$S$4:$Z$368,4,0)","v":41},{"$f":"VLOOKUP(EB$4,[1]SRM!$S$4:$Z$368,4,0)","v":16},{"$f":"VLOOKUP(EC$4,[1]SRM!$S$4:$Z$368,4,0)","v":58},{"$f":"VLOOKUP(ED$4,[1]SRM!$S$4:$Z$368,4,0)","v":0},{"$f":"VLOOKUP(EE$4,[1]SRM!$S$4:$Z$368,4,0)","v":0},{"$f":"VLOOKUP(EF$4,[1]SRM!$S$4:$Z$368,4,0)","v":0},{"$f":"VLOOKUP(EG$4,[1]SRM!$S$4:$Z$368,4,0)","v":0},{"$f":"VLOOKUP(EH$4,[1]SRM!$S$4:$Z$368,3,0)","v":34},{"$f":"VLOOKUP(EI$4,[1]SRM!$S$4:$Z$368,3,0)","v":15},{"$f":"VLOOKUP(EJ$4,[1]SRM!$S$4:$Z$368,3,0)","v":61},{"$f":"VLOOKUP(EK$4,[1]SRM!$S$4:$Z$368,3,0)","v":46},{"$f":"VLOOKUP(EL$4,[1]SRM!$S$4:$Z$368,3,0)","v":48},{"$f":"VLOOKUP(EM$4,[1]SRM!$S$4:$Z$368,3,0)","v":0},{"$f":"VLOOKUP(EN$4,[1]SRM!$S$4:$Z$368,3,0)","v":0},{"$f":"VLOOKUP(EO$4,[1]SRM!$S$4:$Z$368,2,0)","v":0},{"$f":"VLOOKUP(EP$4,[1]SRM!$S$4:$Z$368,2,0)","v":22},{"$f":"VLOOKUP(EQ$4,[1]SRM!$S$4:$Z$368,2,0)","v":50},{"$f":"VLOOKUP(ER$4,[1]SRM!$S$4:$Z$368,2,0)","v":50},{"$f":"VLOOKUP(ES$4,[1]SRM!$S$4:$Z$368,2,0)","v":8},{"$f":"VLOOKUP(ET$4,[1]SRM!$S$4:$Z$368,2,0)","v":60},{"$f":"VLOOKUP(EU$4,[1]SRM!$S$4:$Z$368,2,0)","v":0},{"$f":"VLOOKUP(EV$4,[1]SRM!$S$4:$Z$368,4,0)","v":6},{"$f":"VLOOKUP(EW$4,[1]SRM!$S$4:$Z$368,4,0)","v":80},{"$f":"VLOOKUP(EX$4,[1]SRM!$S$4:$Z$368,4,0)","v":10},{"$f":"VLOOKUP(EY$4,[1]SRM!$S$4:$Z$368,4,0)","v":39},{"$f":"VLOOKUP(EZ$4,[1]SRM!$S$4:$Z$368,4,0)","v":6},{"$f":"VLOOKUP(FA$4,[1]SRM!$S$4:$Z$368,4,0)","v":0},{"$f":"VLOOKUP(FB$4,[1]SRM!$S$4:$Z$368,4,0)","v":0},{"$f":"VLOOKUP(FC$4,[1]SRM!$S$4:$Z$368,3,0)","v":38},{"$f":"VLOOKUP(FD$4,[1]SRM!$S$4:$Z$368,3,0)","v":3},{"$f":"VLOOKUP(FE$4,[1]SRM!$S$4:$Z$368,3,0)","v":11},{"$f":"VLOOKUP(FF$4,[1]SRM!$S$4:$Z$368,3,0)","v":47},{"$f":"VLOOKUP(FG$4,[1]SRM!$S$4:$Z$368,3,0)","v":46},{"$f":"VLOOKUP(FH$4,[1]SRM!$S$4:$Z$368,3,0)","v":0},{"$f":"VLOOKUP(FI$4,[1]SRM!$S$4:$Z$368,3,0)","v":0},{"$f":"VLOOKUP(FJ$4,[1]SRM!$S$4:$Z$368,2,0)","v":73},{"$f":"VLOOKUP(FK$4,[1]SRM!$S$4:$Z$368,2,0)","v":34},{"$f":"VLOOKUP(FL$4,[1]SRM!$S$4:$Z$368,2,0)","v":69},{"$f":"VLOOKUP(FM$4,[1]SRM!$S$4:$Z$368,2,0)","v":6},{"$f":"VLOOKUP(FN$4,[1]SRM!$S$4:$Z$368,2,0)","v":24},{"$f":"VLOOKUP(FO$4,[1]SRM!$S$4:$Z$368,2,0)","v":0},{"$f":"VLOOKUP(FP$4,[1]SRM!$S$4:$Z$368,2,0)","v":0},{"$f":"VLOOKUP(FQ$4,[1]SRM!$S$4:$Z$368,4,0)","v":0},{"$f":"VLOOKUP(FR$4,[1]SRM!$S$4:$Z$368,4,0)","v":0},{"$f":"VLOOKUP(FS$4,[1]SRM!$S$4:$Z$368,4,0)","v":20},{"$f":"VLOOKUP(FT$4,[1]SRM!$S$4:$Z$368,4,0)","v":26},{"$f":"VLOOKUP(FU$4,[1]SRM!$S$4:$Z$368,4,0)","v":0},{"$f":"VLOOKUP(FV$4,[1]SRM!$S$4:$Z$368,4,0)","v":0},{"$f":"VLOOKUP(FW$4,[1]SRM!$S$4:$Z$368,4,0)","v":0},{"$f":"VLOOKUP(FX$4,[1]SRM!$S$4:$Z$368,3,0)","v":14},{"$f":"VLOOKUP(FY$4,[1]SRM!$S$4:$Z$368,3,0)","v":28},{"$f":"VLOOKUP(FZ$4,[1]SRM!$S$4:$Z$368,3,0)","v":0},{"$f":"VLOOKUP(GA$4,[1]SRM!$S$4:$Z$368,3,0)","v":5},{"$f":"VLOOKUP(GB$4,[1]SRM!$S$4:$Z$368,3,0)","v":0},{"$f":"VLOOKUP(GC$4,[1]SRM!$S$4:$Z$368,3,0)","v":0},{"$f":"VLOOKUP(GD$4,[1]SRM!$S$4:$Z$368,3,0)","v":0},{"$f":"VLOOKUP(GE$4,[1]SRM!$S$4:$Z$368,2,0)","v":27},{"$f":"VLOOKUP(GF$4,[1]SRM!$S$4:$Z$368,2,0)","v":24},{"$f":"VLOOKUP(GG$4,[1]SRM!$S$4:$Z$368,2,0)","v":31},{"$f":"VLOOKUP(GH$4,[1]SRM!$S$4:$Z$368,2,0)","v":12},{"$f":"VLOOKUP(GI$4,[1]SRM!$S$4:$Z$368,2,0)","v":73},{"$f":"VLOOKUP(GJ$4,[1]SRM!$S$4:$Z$368,2,0)","v":0},{"$f":"VLOOKUP(GK$4,[1]SRM!$S$4:$Z$368,2,0)","v":0},{"$f":"VLOOKUP(GL$4,[1]SRM!$S$4:$Z$368,4,0)","v":95},{"$f":"VLOOKUP(GM$4,[1]SRM!$S$4:$Z$368,4,0)","v":7},{"$f":"VLOOKUP(GN$4,[1]SRM!$S$4:$Z$368,4,0)","v":4},{"$f":"VLOOKUP(GO$4,[1]SRM!$S$4:$Z$368,4,0)","v":0},{"$f":"VLOOKUP(GP$4,[1]SRM!$S$4:$Z$368,4,0)","v":0},{"$f":"VLOOKUP(GQ$4,[1]SRM!$S$4:$Z$368,4,0)","v":0},{"$f":"VLOOKUP(GR$4,[1]SRM!$S$4:$Z$368,4,0)","v":0},{"$f":"VLOOKUP(GS$4,[1]SRM!$S$4:$Z$368,3,0)","v":17},{"$f":"VLOOKUP(GT$4,[1]SRM!$S$4:$Z$368,3,0)","v":108},{"$f":"VLOOKUP(GU$4,[1]SRM!$S$4:$Z$368,3,0)","v":15},{"$f":"VLOOKUP(GV$4,[1]SRM!$S$4:$Z$368,3,0)","v":0},{"$f":"VLOOKUP(GW$4,[1]SRM!$S$4:$Z$368,3,0)","v":0},{"$f":"VLOOKUP(GX$4,[1]SRM!$S$4:$Z$368,3,0)","v":0},{"$f":"VLOOKUP(GY$4,[1]SRM!$S$4:$Z$368,3,0)","v":0},{"$f":"VLOOKUP(GZ$4,[1]SRM!$S$4:$Z$368,2,0)","v":0},{"$f":"VLOOKUP(HA$4,[1]SRM!$S$4:$Z$368,2,0)","v":0},{"$f":"VLOOKUP(HB$4,[1]SRM!$S$4:$Z$368,2,0)","v":0},{"$f":"VLOOKUP(HC$4,[1]SRM!$S$4:$Z$368,2,0)","v":0},{"$f":"VLOOKUP(HD$4,[1]SRM!$S$4:$Z$368,2,0)","v":0},{"$f":"VLOOKUP(HE$4,[1]SRM!$S$4:$Z$368,2,0)","v":0},{"$f":"VLOOKUP(HF$4,[1]SRM!$S$4:$Z$368,2,0)","v":0},{"$f":"VLOOKUP(HG$4,[1]SRM!$S$4:$Z$368,4,0)","v":0},{"$f":"VLOOKUP(HH$4,[1]SRM!$S$4:$Z$368,4,0)","v":0},{"$f":"VLOOKUP(HI$4,[1]SRM!$S$4:$Z$368,4,0)","v":0},{"$f":"VLOOKUP(HJ$4,[1]SRM!$S$4:$Z$368,4,0)","v":0},{"$f":"VLOOKUP(HK$4,[1]SRM!$S$4:$Z$368,4,0)","v":0},{"$f":"VLOOKUP(HL$4,[1]SRM!$S$4:$Z$368,4,0)","v":0},{"$f":"VLOOKUP(HM$4,[1]SRM!$S$4:$Z$368,4,0)","v":0},{"$f":"VLOOKUP(HN$4,[1]SRM!$S$4:$Z$368,3,0)","v":0},{"$f":"VLOOKUP(HO$4,[1]SRM!$S$4:$Z$368,3,0)","v":0},{"$f":"VLOOKUP(HP$4,[1]SRM!$S$4:$Z$368,3,0)","v":0},{"$f":"VLOOKUP(HQ$4,[1]SRM!$S$4:$Z$368,3,0)","v":0},{"$f":"VLOOKUP(HR$4,[1]SRM!$S$4:$Z$368,3,0)","v":0},{"$f":"VLOOKUP(HS$4,[1]SRM!$S$4:$Z$368,3,0)","v":0},{"$f":"VLOOKUP(HT$4,[1]SRM!$S$4:$Z$368,3,0)","v":0},{"$f":"VLOOKUP(HU$4,[1]SRM!$S$4:$Z$368,2,0)","v":53},{"$f":"VLOOKUP(HV$4,[1]SRM!$S$4:$Z$368,2,0)","v":44},{"$f":"VLOOKUP(HW$4,[1]SRM!$S$4:$Z$368,2,0)","v":17},{"$f":"VLOOKUP(HX$4,[1]SRM!$S$4:$Z$368,2,0)","v":4},{"$f":"VLOOKUP(HY$4,[1]SRM!$S$4:$Z$368,2,0)","v":19},{"$f":"VLOOKUP(HZ$4,[1]SRM!$S$4:$Z$368,2,0)","v":0},{"$f":"VLOOKUP(IA$4,[1]SRM!$S$4:$Z$368,2,0)","v":0},{"$f":"VLOOKUP(IB$4,[1]SRM!$S$4:$Z$368,4,0)","v":43},{"$f":"VLOOKUP(IC$4,[1]SRM!$S$4:$Z$368,4,0)","v":12},{"$f":"VLOOKUP(ID$4,[1]SRM!$S$4:$Z$368,4,0)","v":48},{"$f":"VLOOKUP(IE$4,[1]SRM!$S$4:$Z$368,4,0)","v":33},{"$f":"VLOOKUP(IF$4,[1]SRM!$S$4:$Z$368,4,0)","v":0},{"$f":"VLOOKUP(IG$4,[1]SRM!$S$4:$Z$368,4,0)","v":0},{"$f":"VLOOKUP(IH$4,[1]SRM!$S$4:$Z$368,4,0)","v":0},{"$f":"VLOOKUP(II$4,[1]SRM!$S$4:$Z$368,3,0)","v":23},{"$f":"VLOOKUP(IJ$4,[1]SRM!$S$4:$Z$368,3,0)","v":33},{"$f":"VLOOKUP(IK$4,[1]SRM!$S$4:$Z$368,3,0)","v":85},{"$f":"VLOOKUP(IL$4,[1]SRM!$S$4:$Z$368,3,0)","v":12},{"$f":"VLOOKUP(IM$4,[1]SRM!$S$4:$Z$368,3,0)","v":72},{"$f":"VLOOKUP(IN$4,[1]SRM!$S$4:$Z$368,3,0)","v":0},{"$f":"VLOOKUP(IO$4,[1]SRM!$S$4:$Z$368,3,0)","v":0},{"$f":"VLOOKUP(IP$4,[1]SRM!$S$4:$Z$368,2,0)","v":47},{"$f":"VLOOKUP(IQ$4,[1]SRM!$S$4:$Z$368,2,0)","v":47},{"$f":"VLOOKUP(IR$4,[1]SRM!$S$4:$Z$368,2,0)","v":101},{"$f":"VLOOKUP(IS$4,[1]SRM!$S$4:$Z$368,2,0)","v":18},{"$f":"VLOOKUP(IT$4,[1]SRM!$S$4:$Z$368,2,0)","v":30},{"$f":"VLOOKUP(IU$4,[1]SRM!$S$4:$Z$368,2,0)","v":0},{"$f":"VLOOKUP(IV$4,[1]SRM!$S$4:$Z$368,2,0)","v":0},{"$f":"VLOOKUP(IW$4,[1]SRM!$S$4:$Z$368,4,0)","v":66},{"$f":"VLOOKUP(IX$4,[1]SRM!$S$4:$Z$368,4,0)","v":22},{"$f":"VLOOKUP(IY$4,[1]SRM!$S$4:$Z$368,4,0)","v":26},{"$f":"VLOOKUP(IZ$4,[1]SRM!$S$4:$Z$368,4,0)","v":10},{"$f":"VLOOKUP(JA$4,[1]SRM!$S$4:$Z$368,4,0)","v":0},{"$f":"VLOOKUP(JB$4,[1]SRM!$S$4:$Z$368,4,0)","v":0},{"$f":"VLOOKUP(JC$4,[1]SRM!$S$4:$Z$368,4,0)","v":0},{"$f":"VLOOKUP(JD$4,[1]SRM!$S$4:$Z$368,3,0)","v":108},{"$f":"VLOOKUP(JE$4,[1]SRM!$S$4:$Z$368,3,0)","v":63},{"$f":"VLOOKUP(JF$4,[1]SRM!$S$4:$Z$368,3,0)","v":86},{"$f":"VLOOKUP(JG$4,[1]SRM!$S$4:$Z$368,3,0)","v":3},{"$f":"VLOOKUP(JH$4,[1]SRM!$S$4:$Z$368,3,0)","v":18},{"$f":"VLOOKUP(JI$4,[1]SRM!$S$4:$Z$368,3,0)","v":0},{"$f":"VLOOKUP(JJ$4,[1]SRM!$S$4:$Z$368,3,0)","v":0},{"$f":"VLOOKUP(JK$4,[1]SRM!$S$4:$Z$368,2,0)","v":49},{"$f":"VLOOKUP(JL$4,[1]SRM!$S$4:$Z$368,2,0)","v":24},{"$f":"VLOOKUP(JM$4,[1]SRM!$S$4:$Z$368,2,0)","v":58},{"$f":"VLOOKUP(JN$4,[1]SRM!$S$4:$Z$368,2,0)","v":47},{"$f":"VLOOKUP(JO$4,[1]SRM!$S$4:$Z$368,2,0)","v":0},{"$f":"VLOOKUP(JP$4,[1]SRM!$S$4:$Z$368,2,0)","v":0},{"$f":"VLOOKUP(JQ$4,[1]SRM!$S$4:$Z$368,2,0)","v":0},{"$f":"VLOOKUP(JR$4,[1]SRM!$S$4:$Z$368,4,0)","v":33},{"$f":"VLOOKUP(JS$4,[1]SRM!$S$4:$Z$368,4,0)","v":25},{"$f":"VLOOKUP(JT$4,[1]SRM!$S$4:$Z$368,4,0)","v":20},{"$f":"VLOOKUP(JU$4,[1]SRM!$S$4:$Z$368,4,0)","v":0},{"$f":"VLOOKUP(JV$4,[1]SRM!$S$4:$Z$368,4,0)","v":0},{"$f":"VLOOKUP(JW$4,[1]SRM!$S$4:$Z$368,4,0)","v":0},{"$f":"VLOOKUP(JX$4,[1]SRM!$S$4:$Z$368,4,0)","v":0},{"$f":"VLOOKUP(JY$4,[1]SRM!$S$4:$Z$368,3,0)","v":0},{"$f":"VLOOKUP(JZ$4,[1]SRM!$S$4:$Z$368,3,0)","v":0},{"$f":"VLOOKUP(KA$4,[1]SRM!$S$4:$Z$368,3,0)","v":0},{"$f":"VLOOKUP(KB$4,[1]SRM!$S$4:$Z$368,3,0)","v":0},{"$f":"VLOOKUP(KC$4,[1]SRM!$S$4:$Z$368,3,0)","v":0},{"$f":"VLOOKUP(KD$4,[1]SRM!$S$4:$Z$368,3,0)","v":0},{"$f":"VLOOKUP(KE$4,[1]SRM!$S$4:$Z$368,3,0)","v":0},{"$f":"VLOOKUP(KF$4,[1]SRM!$S$4:$Z$368,2,0)","v":0},{"$f":"VLOOKUP(KG$4,[1]SRM!$S$4:$Z$368,2,0)","v":0},{"$f":"VLOOKUP(KH$4,[1]SRM!$S$4:$Z$368,2,0)","v":0},{"$f":"VLOOKUP(KI$4,[1]SRM!$S$4:$Z$368,2,0)","v":0},{"$f":"VLOOKUP(KJ$4,[1]SRM!$S$4:$Z$368,2,0)","v":0},{"$f":"VLOOKUP(KK$4,[1]SRM!$S$4:$Z$368,2,0)","v":0},{"$f":"VLOOKUP(KL$4,[1]SRM!$S$4:$Z$368,2,0)","v":0},{"$f":"VLOOKUP(KM$4,[1]SRM!$S$4:$Z$368,4,0)","v":0},{"$f":"VLOOKUP(KN$4,[1]SRM!$S$4:$Z$368,4,0)","v":0},{"$f":"VLOOKUP(KO$4,[1]SRM!$S$4:$Z$368,4,0)","v":0},{"$f":"VLOOKUP(KP$4,[1]SRM!$S$4:$Z$368,4,0)","v":0},{"$f":"VLOOKUP(KQ$4,[1]SRM!$S$4:$Z$368,4,0)","v":0},{"$f":"VLOOKUP(KR$4,[1]SRM!$S$4:$Z$368,4,0)","v":0},{"$f":"VLOOKUP(KS$4,[1]SRM!$S$4:$Z$368,4,0)","v":0},{"$f":"VLOOKUP(KT$4,[1]SRM!$S$4:$Z$368,3,0)","v":0},{"$f":"VLOOKUP(KU$4,[1]SRM!$S$4:$Z$368,3,0)","v":0},{"$f":"VLOOKUP(KV$4,[1]SRM!$S$4:$Z$368,3,0)","v":0},{"$f":"VLOOKUP(KW$4,[1]SRM!$S$4:$Z$368,3,0)","v":0},{"$f":"VLOOKUP(KX$4,[1]SRM!$S$4:$Z$368,3,0)","v":0},{"$f":"VLOOKUP(KY$4,[1]SRM!$S$4:$Z$368,3,0)","v":0},{"$f":"VLOOKUP(KZ$4,[1]SRM!$S$4:$Z$368,3,0)","v":0},{"$f":"VLOOKUP(LA$4,[1]SRM!$S$4:$Z$368,2,0)","v":0},{"$f":"VLOOKUP(LB$4,[1]SRM!$S$4:$Z$368,2,0)","v":0},{"$f":"VLOOKUP(LC$4,[1]SRM!$S$4:$Z$368,2,0)","v":0},{"$f":"VLOOKUP(LD$4,[1]SRM!$S$4:$Z$368,2,0)","v":0},{"$f":"VLOOKUP(LE$4,[1]SRM!$S$4:$Z$368,2,0)","v":0},{"$f":"VLOOKUP(LF$4,[1]SRM!$S$4:$Z$368,2,0)","v":0},{"$f":"VLOOKUP(LG$4,[1]SRM!$S$4:$Z$368,2,0)","v":0},{"$f":"VLOOKUP(LH$4,[1]SRM!$S$4:$Z$368,4,0)","v":0},{"$f":"VLOOKUP(LI$4,[1]SRM!$S$4:$Z$368,4,0)","v":0},{"$f":"VLOOKUP(LJ$4,[1]SRM!$S$4:$Z$368,4,0)","v":0},{"$f":"VLOOKUP(LK$4,[1]SRM!$S$4:$Z$368,4,0)","v":0},{"$f":"VLOOKUP(LL$4,[1]SRM!$S$4:$Z$368,4,0)","v":0},{"$f":"VLOOKUP(LM$4,[1]SRM!$S$4:$Z$368,4,0)","v":0},{"$f":"VLOOKUP(LN$4,[1]SRM!$S$4:$Z$368,4,0)","v":0},{"$f":"VLOOKUP(LO$4,[1]SRM!$S$4:$Z$368,3,0)","v":0},{"$f":"VLOOKUP(LP$4,[1]SRM!$S$4:$Z$368,3,0)","v":0},{"$f":"VLOOKUP(LQ$4,[1]SRM!$S$4:$Z$368,3,0)","v":0},{"$f":"VLOOKUP(LR$4,[1]SRM!$S$4:$Z$368,3,0)","v":0},{"$f":"VLOOKUP(LS$4,[1]SRM!$S$4:$Z$368,3,0)","v":0},{"$f":"VLOOKUP(LT$4,[1]SRM!$S$4:$Z$368,3,0)","v":0},{"$f":"VLOOKUP(LU$4,[1]SRM!$S$4:$Z$368,3,0)","v":0},{"$f":"VLOOKUP(LV$4,[1]SRM!$S$4:$Z$368,2,0)","v":0},{"$f":"VLOOKUP(LW$4,[1]SRM!$S$4:$Z$368,2,0)","v":0},{"$f":"VLOOKUP(LX$4,[1]SRM!$S$4:$Z$368,2,0)","v":0},{"$f":"VLOOKUP(LY$4,[1]SRM!$S$4:$Z$368,2,0)","v":0},{"$f":"VLOOKUP(LZ$4,[1]SRM!$S$4:$Z$368,2,0)","v":0},{"$f":"VLOOKUP(MA$4,[1]SRM!$S$4:$Z$368,2,0)","v":0},{"$f":"VLOOKUP(MB$4,[1]SRM!$S$4:$Z$368,2,0)","v":0},{"$f":"VLOOKUP(MC$4,[1]SRM!$S$4:$Z$368,4,0)","v":0},{"$f":"VLOOKUP(MD$4,[1]SRM!$S$4:$Z$368,4,0)","v":0},{"$f":"VLOOKUP(ME$4,[1]SRM!$S$4:$Z$368,4,0)","v":0},{"$f":"VLOOKUP(MF$4,[1]SRM!$S$4:$Z$368,4,0)","v":0},{"$f":"VLOOKUP(MG$4,[1]SRM!$S$4:$Z$368,4,0)","v":0},{"$f":"VLOOKUP(MH$4,[1]SRM!$S$4:$Z$368,4,0)","v":0},{"$f":"VLOOKUP(MI$4,[1]SRM!$S$4:$Z$368,4,0)","v":0},{"$f":"VLOOKUP(MJ$4,[1]SRM!$S$4:$Z$368,3,0)","v":0},{"$f":"VLOOKUP(MK$4,[1]SRM!$S$4:$Z$368,3,0)","v":0},{"$f":"VLOOKUP(ML$4,[1]SRM!$S$4:$Z$368,3,0)","v":0},{"$f":"VLOOKUP(MM$4,[1]SRM!$S$4:$Z$368,3,0)","v":0},{"$f":"VLOOKUP(MN$4,[1]SRM!$S$4:$Z$368,3,0)","v":0},{"$f":"VLOOKUP(MO$4,[1]SRM!$S$4:$Z$368,3,0)","v":0},{"$f":"VLOOKUP(MP$4,[1]SRM!$S$4:$Z$368,3,0)","v":0},{"$f":"VLOOKUP(MQ$4,[1]SRM!$S$4:$Z$368,2,0)","v":0},{"$f":"VLOOKUP(MR$4,[1]SRM!$S$4:$Z$368,2,0)","v":0},{"$f":"VLOOKUP(MS$4,[1]SRM!$S$4:$Z$368,2,0)","v":0},{"$f":"VLOOKUP(MT$4,[1]SRM!$S$4:$Z$368,2,0)","v":0},{"$f":"VLOOKUP(MU$4,[1]SRM!$S$4:$Z$368,2,0)","v":0},{"$f":"VLOOKUP(MV$4,[1]SRM!$S$4:$Z$368,2,0)","v":0},{"$f":"VLOOKUP(MW$4,[1]SRM!$S$4:$Z$368,2,0)","v":0},{"$f":"VLOOKUP(MX$4,[1]SRM!$S$4:$Z$368,4,0)","v":0},{"$f":"VLOOKUP(MY$4,[1]SRM!$S$4:$Z$368,4,0)","v":0},{"$f":"VLOOKUP(MZ$4,[1]SRM!$S$4:$Z$368,4,0)","v":0},{"$f":"VLOOKUP(NA$4,[1]SRM!$S$4:$Z$368,4,0)","v":0},{"$f":"VLOOKUP(NB$4,[1]SRM!$S$4:$Z$368,4,0)","v":0},{"$f":"VLOOKUP(NC$4,[1]SRM!$S$4:$Z$368,4,0)","v":0},{"$f":"VLOOKUP(ND$4,[1]SRM!$S$4:$Z$368,4,0)","v":0}]
[8.8999999999999996E-2,"t.b.d.","Downtime Technical SRM LH [%]",null,{"$f":"IF(E29=\"\",0%,(E30*60)/((E29*62)+(E30*60)))","v":0},{"$f":"IF(F29=\"\",0%,(F30*60)/((F29*62)+(F30*60)))","v":0},0,0,0,0,0,0,0,0,0,0,0,0,0,0,0,0,0,0,0,0,0,0,0,0,0,0,0,0,0,0,0,0,0,0,0,0,0,0,0,0,0,0,0,0,0,0,0,0,0,0,0,0,0,0,0,0,0,0,0,0,0,0,0,{"$f":"IF(BR29=\"\",0%,(BR30*60)/((BR29*62)+(BR30*60)))","v":0},0,0,0,0,0,0,0,0,0,0,0,0,0,0,0,0,0,0,0,0,0,0,0,0,0,0,0,0,0,0,0,0,0,0,0,0,0,0,0,0,0,0,0,0,0,0,0,0,0,0,0,0,0,0,0,0,0,0,0,0,0,0,0,{"$f":"IF(ED29=\"\",0%,(ED30*60)/((ED29*62)+(ED30*60)))","v":0},0,0,0,9.3235831809872036E-2,4.0946314831665151E-2,0.14720077220077221,0.13267955004326507,0.13765414396329223,0,0,0,7.4626865671641784E-2,0.13770311209033323,0.14009526478005044,2.5915127955944282E-2,0.16307302047472369,0,2.0387359836901122E-2,0.21660649819494585,2.891566265060241E-2,0.10376019865200425,1.7087526105942663E-2,0,0,0.1210576616756929,9.7455332972387655E-3,3.6006546644844518E-2,0.12759026332458601,0.10843941537010844,0,0,0.19588550983899822,9.2972381733661472E-2,0.14780435558729024,1.8681888946549041E-2,7.6093849080532655E-2,0,0,0,0,5.4161400974905217E-2,7.1448200054960151E-2,0,0,0,3.8213083431898824E-2,7.0730885820141462E-2,0,1.3991232161178995E-2,{"$error":"#DIV/0!"},0,0,8.2653061224489802E-2,6.3246661981728736E-2,8.1967213114754092E-2,3.7874802735402419E-2,0.19534385871019536,0,0,0.22317932654659359,1.7469428500124781E-2,1.1456940996753867E-2,0,{"$f":"IF(GP29=\"\",0%,(GP30*60)/((GP29*62)+(GP30*60)))","v":0},0,0,4.9936355625183587E-2,0.30693444486547933,3.7171650421278707E-2,0,0,0,0,0,0,0,0,0,0,0,0,0,0,0,0,0,0,0,0,0,0,0,0,0,0.15343047380102287,0.12764722947490573,6.0383613544873316E-2,1.7605633802816902E-2,5.1593048515568431E-2,0,0,0.1640803866700585,3.3503955328059561E-2,0.1556420233463035,8.2534389328887042E-2,0,0,0,5.6888449171407368E-2,8.4724005134788186E-2,0.20398368130549557,3.0835117773019272E-2,0.1570452232077941,0,0,0.13804581946348149,0.13639001741149159,0.21076794657762937,4.9148994265950666E-2,9.9414558709819953E-2,0,0,0.16093635698610095,5.9923733430179774E-2,6.7790717886320184E-2,2.7132133490096771E-2,0,{"$f":"IF(JB29=\"\",0%,(JB30*60)/((JB29*62)+(JB30*60)))","v":0},0,0.30161981009123068,0.1634665282823041,0.21831105093924522,7.7854671280276812E-3,5.0429585356742621E-2,0,0,0.11783567134268537,5.7174620821091079E-2,0.128698224852071,0.12903816235014184,0,0,0,8.005175062666775E-2,7.2393822393822388E-2,5.3414047894596278E-2,0,0,0,0,0,0,0,0,0,0,0,0,0,0,0,0,0,0,0,0,0,0,0,0,0,0,0,0,0,0,0,0,0,0,0,0,0,0,0,0,0,0,0,0,0,{"$f":"IF(LN29=\"\",0%,(LN30*60)/((LN29*62)+(LN30*60)))","v":0},0,0,0,0,0,0,0,0,0,0,0,0,0,0,0,0,0,0,0,0,0,0,0,0,0,0,0,0,0,0,0,0,0,0,0,0,0,0,0,0,0,0]
[0,"t.b.d.","Blocked Starved [Min]",null,null,null,null,null,null,null,null,null,null,null,null,null,null,null,null,null,null,null,null,null,null,null,null,null,null,null,null,null,null,null,null,null,null,null,null,null,null,null,null,null,null,null,null,null,null,null,null,null,null,null,null,null,null,null,null,null,null,null,null,null,null,null,null,null,null,null,null,null,null,null,null,null,null,null,null,null,null,null,null,null,null,null,null,null,null,null,null,null,null,null,null,null,null,null,null,null,null,null,null,null,null,null,null,null,null,null,null,null,null,null,null,null,null,null,null,null,null,null,null,null,null,null,null,null,null,null,null,null,null,null,null,null,null,24,94,4,34,37,null,null,null,52,29,44,44,31,null,43,69,44,40,41,null,null,55,56,39,43,11,null,null,0,77,28,60,35,0,null,74,11,79,111,71,null,null,37,51,62,101,0,null,null,44,55,11,81,11,32,null,11,3,52,41,66,null,null,37,72,32,0,null,null,null,null,null,null,null,null,null,null,null,null,null,null,null,null,null,null,null,null,null,null,null,null,47,41,58,32,59,43,null,59,63,57,32,34,null,null,63,43,46,41,24,null,null,57,29,8,60,68,34,null,70,42,19,44,37,null,null,20,78,53,46,71,null,null,67,63,36,68,40,41,null,53,57,13,43,77]
[0,"t.b.d.","Parts at Break [Aantal]",null,null,null,null,null,null,null,null,null,null,null,null,null,null,null,null,null,null,null,null,null,null,null,null,null,null,null,null,null,null,null,null,null,null,null,null,null,null,null,null,null,null,null,null,null,null,null,null,null,null,null,null,null,null,null,null,null,null,null,null,null,null,null,null,null,null,null,null,null,null,null,null,null,null,null,null,null,null,null,null,null,null,null,null,null,null,null,null,null,null,null,null,null,null,null,null,null,null,null,null,null,null,null,null,null,null,null,null,null,null,null,null,null,null,null,null,null,null,null,null,null,null,null,null,null,null,null,null,null,null,null,null,null,null,41,30,35,37,25,null,null,null,19,22,27,23,16,null,23,30,5,27,19,null,null,36,39,15,34,44,null,null,24,30,38,31,16,6,null,3,5,46,30,11,null,null,19,28,29,24,0,null,null,27,22,27,24,17,6,null,32,39,33,11,31,null,null,32,20,31,0,null,null,null,null,null,null,null,null,null,null,null,null,null,null,null,null,null,null,null,null,null,null,null,null,27,21,12,9,27,26,null,30,35,27,27,21,null,null,38,36,18,42,39,null,null,12,5,31,22,18,16,null,24,21,23,22,32,null,null,18,21,31,31,12,null,null,39,30,41,30,17,40,null,26,38,32,25,19]
[0,"t.b.d.","Planned Stop [Min]",null,null,null,null,null,null,null,null,null,null,null,null,null,null,null,null,null,null,null,null,null,null,null,null,null,null,null,null,null,null,null,null,null,null,null,null,null,null,null,null,null,null,null,null,null,null,null,null,null,null,null,null,null,null,null,null,null,null,null,null,null,null,null,null,null,null,null,null,null,null,null,null,null,null,null,null,null,null,null,null,null,null,null,null,null,null,null,null,null,null,null,null,null,null,null,null,null,null,null,null,null,null,null,null,null,null,null,null,null,null,null,null,null,null,null,null,null,null,null,null,null,null,null,null,null,null,null,null,null,null,null,null,null,null,0,0,0,0,0,null,null,null,0,0,0,0,0,null,0,0,0,0,0,null,null,0,0,0,0,0,null,null,0,0,0,0,0,0,null,0,0,0,0,0,null,null,0,0,0,0,0,null,null,0,0,0,0,35,0,null,0,0,30,60,0,null,null,0,30,0,0,null,null,null,null,null,null,null,null,null,null,null,null,null,null,null,null,null,null,null,null,null,null,null,null,0,0,0,60,0,0,null,0,0,0,0,0,null,null,0,0,30,0,0,null,null,0,0,0,0,0,0,null,0,0,0,0,0,null,null,0,0,0,0,0,null,null,0,0,0,0,35,0,null,0,0,0,0,0]
["Plan","Plan","Realized SRM RH",null,null,null,null,null,null,null,null,null,null,null,null,null,null,null,null,null,null,null,null,null,null,null,null,null,null,null,null,null,null,null,null,null,null,null,null,null,null,null,null,null,null,null,null,null,null,null,null,null,null,null,null,null,null,null,null,null,null,null,null,null,null,null,null,null,null,null,null,null,null,null,null,null,null,null,null,null,null,null,null,null,null,null,null,null,null,null,null,null,null,null,null,null,null,null,null,null,null,null,null,null,null,null,null,null,null,null,null,null,null,null,null,null,null,null,null,null,null,null,null,null,null,null,null,null,null,null,null,null,null,null,null,null,null,324,343,324,286,291,null,null,null,287,315,296,283,298,null,283,296,304,315,338,null,null,262,304,280,314,367,null,null,296,322,395,292,265,84,null,239,94,342,323,203,null,null,347,355,345,358,0,null,null,291,345,340,297,307,149,null,321,362,322,261,359,null,null,317,248,367,106,null,null,null,null,null,null,null,null,null,null,null,null,null,null,null,null,null,null,null,null,null,null,null,null,277,288,257,217,339,413,null,212,331,269,353,326,null,null,373,358,341,367,370,null,null,286,290,360,318,275,176,null,339,341,357,347,363,null,null,252,314,305,347,326,null,null,377,389,394,309,238,285,null,362,301,324,335,298]
[40,"t.b.d.","Downtime Technical SRM RH [Min]",null,{"$f":"VLOOKUP(E4,[1]SRM!$S$4:$Z$368,8,0)","v":0},{"$f":"VLOOKUP(F4,[1]SRM!$S$4:$Z$368,8,0)","v":0},{"$f":"VLOOKUP(G4,[1]SRM!$S$4:$Z$368,8,0)","v":0},{"$f":"VLOOKUP(H4,[1]SRM!$S$4:$Z$368,8,0)","v":0},{"$f":"VLOOKUP(I4,[1]SRM!$S$4:$Z$368,8,0)","v":0},{"$f":"VLOOKUP(J4,[1]SRM!$S$4:$Z$368,8,0)","v":0},{"$f":"VLOOKUP(K4,[1]SRM!$S$4:$Z$368,8,0)","v":0},{"$f":"VLOOKUP(L4,[1]SRM!$S$4:$Z$368,7,0)","v":43},{"$f":"VLOOKUP(M4,[1]SRM!$S$4:$Z$368,7,0)","v":6},{"$f":"VLOOKUP(N4,[1]SRM!$S$4:$Z$368,7,0)","v":43},{"$f":"VLOOKUP(O4,[1]SRM!$S$4:$Z$368,7,0)","v":31},{"$f":"VLOOKUP(P4,[1]SRM!$S$4:$Z$368,7,0)","v":20},{"$f":"VLOOKUP(Q4,[1]SRM!$S$4:$Z$368,7,0)","v":0},{"$f":"VLOOKUP(R4,[1]SRM!$S$4:$Z$368,7,0)","v":0},{"$f":"VLOOKUP(S4,[1]SRM!$S$4:$Z$368,6,0)","v":10},{"$f":"VLOOKUP(T4,[1]SRM!$S$4:$Z$368,6,0)","v":55},{"$f":"VLOOKUP(U4,[1]SRM!$S$4:$Z$368,6,0)","v":15},{"$f":"VLOOKUP(V4,[1]SRM!$S$4:$Z$368,6,0)","v":22},{"$f":"VLOOKUP(W4,[1]SRM!$S$4:$Z$368,6,0)","v":18},{"$f":"VLOOKUP(X4,[1]SRM!$S$4:$Z$368,6,0)","v":0},{"$f":"VLOOKUP(Y4,[1]SRM!$S$4:$Z$368,6,0)","v":0},{"$f":"VLOOKUP(Z4,[1]SRM!$S$4:$Z$368,8,0)","v":0},{"$f":"VLOOKUP(AA4,[1]SRM!$S$4:$Z$368,8,0)","v":0},{"$f":"VLOOKUP(AB4,[1]SRM!$S$4:$Z$368,8,0)","v":0},{"$f":"VLOOKUP(AC4,[1]SRM!$S$4:$Z$368,8,0)","v":0},{"$f":"VLOOKUP(AD4,[1]SRM!$S$4:$Z$368,8,0)","v":0},{"$f":"VLOOKUP(AE4,[1]SRM!$S$4:$Z$368,8,0)","v":0},{"$f":"VLOOKUP(AF4,[1]SRM!$S$4:$Z$368,8,0)","v":0},{"$f":"VLOOKUP(AG4,[1]SRM!$S$4:$Z$368,7,0)","v":15},{"$f":"VLOOKUP(AH4,[1]SRM!$S$4:$Z$368,7,0)","v":12},{"$f":"VLOOKUP(AI4,[1]SRM!$S$4:$Z$368,7,0)","v":31},{"$f":"VLOOKUP(AJ4,[1]SRM!$S$4:$Z$368,7,0)","v":24},{"$f":"VLOOKUP(AK4,[1]SRM!$S$4:$Z$368,7,0)","v":20},{"$f":"VLOOKUP(AL4,[1]SRM!$S$4:$Z$368,7,0)","v":0},{"$f":"VLOOKUP(AM4,[1]SRM!$S$4:$Z$368,7,0)","v":0},{"$f":"VLOOKUP(AN4,[1]SRM!$S$4:$Z$368,6,0)","v":25},{"$f":"VLOOKUP(AO4,[1]SRM!$S$4:$Z$368,6,0)","v":35},{"$f":"VLOOKUP(AP4,[1]SRM!$S$4:$Z$368,6,0)","v":63},{"$f":"VLOOKUP(AQ4,[1]SRM!$S$4:$Z$368,6,0)","v":62},{"$f":"VLOOKUP(AR4,[1]SRM!$S$4:$Z$368,6,0)","v":46},{"$f":"VLOOKUP(AS4,[1]SRM!$S$4:$Z$368,6,0)","v":0},{"$f":"VLOOKUP(AT4,[1]SRM!$S$4:$Z$368,6,0)","v":0},{"$f":"VLOOKUP(AU4,[1]SRM!$S$4:$Z$368,8,0)","v":0},{"$f":"VLOOKUP(AV4,[1]SRM!$S$4:$Z$368,8,0)","v":0},{"$f":"VLOOKUP(AW4,[1]SRM!$S$4:$Z$368,8,0)","v":0},{"$f":"VLOOKUP(AX4,[1]SRM!$S$4:$Z$368,8,0)","v":0},{"$f":"VLOOKUP(AY4,[1]SRM!$S$4:$Z$368,8,0)","v":15},{"$f":"VLOOKUP(AZ4,[1]SRM!$S$4:$Z$368,8,0)","v":0},{"$f":"VLOOKUP(BA4,[1]SRM!$S$4:$Z$368,8,0)","v":0},{"$f":"VLOOKUP(BB4,[1]SRM!$S$4:$Z$368,7,0)","v":22},{"$f":"VLOOKUP(BC4,[1]SRM!$S$4:$Z$368,7,0)","v":24},{"$f":"VLOOKUP(BD4,[1]SRM!$S$4:$Z$368,7,0)","v":58},{"$f":"VLOOKUP(BE4,[1]SRM!$S$4:$Z$368,7,0)","v":32},{"$f":"VLOOKUP(BF4,[1]SRM!$S$4:$Z$368,7,0)","v":10},{"$f":"VLOOKUP(BG4,[1]SRM!$S$4:$Z$368,7,0)","v":0},{"$f":"VLOOKUP(BH4,[1]SRM!$S$4:$Z$368,7,0)","v":0},{"$f":"VLOOKUP(BI4,[1]SRM!$S$4:$Z$368,6,0)","v":0},{"$f":"VLOOKUP(BJ4,[1]SRM!$S$4:$Z$368,6,0)","v":22},{"$f":"VLOOKUP(BK4,[1]SRM!$S$4:$Z$368,6,0)","v":21},{"$f":"VLOOKUP(BL4,[1]SRM!$S$4:$Z$368,6,0)","v":39},{"$f":"VLOOKUP(BM4,[1]SRM!$S$4:$Z$368,6,0)","v":25},{"$f":"VLOOKUP(BN4,[1]SRM!$S$4:$Z$368,6,0)","v":0},{"$f":"VLOOKUP(BO4,[1]SRM!$S$4:$Z$368,6,0)","v":0},{"$f":"VLOOKUP(BP4,[1]SRM!$S$4:$Z$368,8,0)","v":0},{"$f":"VLOOKUP(BQ4,[1]SRM!$S$4:$Z$368,8,0)","v":0},{"$f":"VLOOKUP(BR4,[1]SRM!$S$4:$Z$368,8,0)","v":0},{"$f":"VLOOKUP(BS4,[1]SRM!$S$4:$Z$368,8,0)","v":0},{"$f":"VLOOKUP(BT4,[1]SRM!$S$4:$Z$368,8,0)","v":0},{"$f":"VLOOKUP(BU4,[1]SRM!$S$4:$Z$368,8,0)","v":0},{"$f":"VLOOKUP(BV4,[1]SRM!$S$4:$Z$368,8,0)","v":0},{"$f":"VLOOKUP(BW4,[1]SRM!$S$4:$Z$368,7,0)","v":89},{"$f":"VLOOKUP(BX4,[1]SRM!$S$4:$Z$368,7,0)","v":27},{"$f":"VLOOKUP(BY4,[1]SRM!$S$4:$Z$368,7,0)","v":9},{"$f":"VLOOKUP(BZ4,[1]SRM!$S$4:$Z$368,7,0)","v":4},{"$f":"VLOOKUP(CA4,[1]SRM!$S$4:$Z$368,7,0)","v":80},{"$f":"VLOOKUP(CB4,[1]SRM!$S$4:$Z$368,7,0)","v":0},{"$f":"VLOOKUP(CC4,[1]SRM!$S$4:$Z$368,7,0)","v":0},{"$f":"VLOOKUP(CD4,[1]SRM!$S$4:$Z$368,6,0)","v":19},{"$f":"VLOOKUP(CE4,[1]SRM!$S$4:$Z$368,6,0)","v":23},{"$f":"VLOOKUP(CF4,[1]SRM!$S$4:$Z$368,6,0)","v":43},{"$f":"VLOOKUP(CG4,[1]SRM!$S$4:$Z$368,6,0)","v":26},{"$f":"VLOOKUP(CH4,[1]SRM!$S$4:$Z$368,6,0)","v":45},{"$f":"VLOOKUP(CI4,[1]SRM!$S$4:$Z$368,6,0)","v":0},{"$f":"VLOOKUP(CJ4,[1]SRM!$S$4:$Z$368,6,0)","v":0},{"$f":"VLOOKUP(CK4,[1]SRM!$S$4:$Z$368,8,0)","v":0},{"$f":"VLOOKUP(CL4,[1]SRM!$S$4:$Z$368,8,0)","v":0},{"$f":"VLOOKUP(CM4,[1]SRM!$S$4:$Z$368,8,0)","v":0},{"$f":"VLOOKUP(CN4,[1]SRM!$S$4:$Z$368,8,0)","v":0},{"$f":"VLOOKUP(CO4,[1]SRM!$S$4:$Z$368,8,0)","v":0},{"$f":"VLOOKUP(CP4,[1]SRM!$S$4:$Z$368,8,0)","v":0},{"$f":"VLOOKUP(CQ4,[1]SRM!$S$4:$Z$368,8,0)","v":0},{"$f":"VLOOKUP(CR4,[1]SRM!$S$4:$Z$368,7,0)","v":0},{"$f":"VLOOKUP(CS4,[1]SRM!$S$4:$Z$368,7,0)","v":49},{"$f":"VLOOKUP(CT4,[1]SRM!$S$4:$Z$368,7,0)","v":9},{"$f":"VLOOKUP(CU4,[1]SRM!$S$4:$Z$368,7,0)","v":21},{"$f":"VLOOKUP(CV4,[1]SRM!$S$4:$Z$368,7,0)","v":20},{"$f":"VLOOKUP(CW4,[1]SRM!$S$4:$Z$368,7,0)","v":0},{"$f":"VLOOKUP(CX4,[1]SRM!$S$4:$Z$368,7,0)","v":0},{"$f":"VLOOKUP(CY4,[1]SRM!$S$4:$Z$368,6,0)","v":22},{"$f":"VLOOKUP(CZ4,[1]SRM!$S$4:$Z$368,6,0)","v":49},{"$f":"VLOOKUP(DA4,[1]SRM!$S$4:$Z$368,6,0)","v":35},{"$f":"VLOOKUP(DB4,[1]SRM!$S$4:$Z$368,6,0)","v":51},{"$f":"VLOOKUP(DC4,[1]SRM!$S$4:$Z$368,6,0)","v":57},{"$f":"VLOOKUP(DD4,[1]SRM!$S$4:$Z$368,6,0)","v":0},{"$f":"VLOOKUP(DE4,[1]SRM!$S$4:$Z$368,6,0)","v":0},{"$f":"VLOOKUP(DF4,[1]SRM!$S$4:$Z$368,8,0)","v":23},{"$f":"VLOOKUP(DG4,[1]SRM!$S$4:$Z$368,8,0)","v":5},{"$f":"VLOOKUP(DH4,[1]SRM!$S$4:$Z$368,8,0)","v":0},{"$f":"VLOOKUP(DI4,[1]SRM!$S$4:$Z$368,8,0)","v":13},{"$f":"VLOOKUP(DJ4,[1]SRM!$S$4:$Z$368,8,0)","v":10},{"$f":"VLOOKUP(DK4,[1]SRM!$S$4:$Z$368,8,0)","v":0},{"$f":"VLOOKUP(DL4,[1]SRM!$S$4:$Z$368,8,0)","v":0},{"$f":"VLOOKUP(DM4,[1]SRM!$S$4:$Z$368,7,0)","v":11},{"$f":"VLOOKUP(DN4,[1]SRM!$S$4:$Z$368,7,0)","v":143},{"$f":"VLOOKUP(DO4,[1]SRM!$S$4:$Z$368,7,0)","v":56},{"$f":"VLOOKUP(DP4,[1]SRM!$S$4:$Z$368,7,0)","v":31},{"$f":"VLOOKUP(DQ4,[1]SRM!$S$4:$Z$368,7,0)","v":0},{"$f":"VLOOKUP(DR4,[1]SRM!$S$4:$Z$368,7,0)","v":0},{"$f":"VLOOKUP(DS4,[1]SRM!$S$4:$Z$368,7,0)","v":0},{"$f":"VLOOKUP(DT4,[1]SRM!$S$4:$Z$368,6,0)","v":42},{"$f":"VLOOKUP(DU4,[1]SRM!$S$4:$Z$368,6,0)","v":11},{"$f":"VLOOKUP(DV4,[1]SRM!$S$4:$Z$368,6,0)","v":101},{"$f":"VLOOKUP(DW4,[1]SRM!$S$4:$Z$368,6,0)","v":83},{"$f":"VLOOKUP(DX4,[1]SRM!$S$4:$Z$368,6,0)","v":18},{"$f":"VLOOKUP(DY4,[1]SRM!$S$4:$Z$368,6,0)","v":50},{"$f":"VLOOKUP(DZ4,[1]SRM!$S$4:$Z$368,6,0)","v":0},{"$f":"VLOOKUP(EA4,[1]SRM!$S$4:$Z$368,8,0)","v":20},{"$f":"VLOOKUP(EB4,[1]SRM!$S$4:$Z$368,8,0)","v":76},{"$f":"VLOOKUP(EC4,[1]SRM!$S$4:$Z$368,8,0)","v":71},{"$f":"VLOOKUP(ED4,[1]SRM!$S$4:$Z$368,8,0)","v":0},{"$f":"VLOOKUP(EE4,[1]SRM!$S$4:$Z$368,8,0)","v":50},{"$f":"VLOOKUP(EF4,[1]SRM!$S$4:$Z$368,8,0)","v":0},{"$f":"VLOOKUP(EG4,[1]SRM!$S$4:$Z$368,8,0)","v":0},{"$f":"VLOOKUP(EH4,[1]SRM!$S$4:$Z$368,7,0)","v":30},{"$f":"VLOOKUP(EI4,[1]SRM!$S$4:$Z$368,7,0)","v":37},{"$f":"VLOOKUP(EJ4,[1]SRM!$S$4:$Z$368,7,0)","v":55},{"$f":"VLOOKUP(EK4,[1]SRM!$S$4:$Z$368,7,0)","v":19},{"$f":"VLOOKUP(EL4,[1]SRM!$S$4:$Z$368,7,0)","v":15},{"$f":"VLOOKUP(EM4,[1]SRM!$S$4:$Z$368,7,0)","v":0},{"$f":"VLOOKUP(EN4,[1]SRM!$S$4:$Z$368,7,0)","v":0},{"$f":"VLOOKUP(EO4,[1]SRM!$S$4:$Z$368,6,0)","v":0},{"$f":"VLOOKUP(EP4,[1]SRM!$S$4:$Z$368,6,0)","v":26},{"$f":"VLOOKUP(EQ4,[1]SRM!$S$4:$Z$368,6,0)","v":3},{"$f":"VLOOKUP(ER4,[1]SRM!$S$4:$Z$368,6,0)","v":15},{"$f":"VLOOKUP(ES4,[1]SRM!$S$4:$Z$368,6,0)","v":33},{"$f":"VLOOKUP(ET4,[1]SRM!$S$4:$Z$368,6,0)","v":16},{"$f":"VLOOKUP(EU4,[1]SRM!$S$4:$Z$368,6,0)","v":0},{"$f":"VLOOKUP(EV4,[1]SRM!$S$4:$Z$368,8,0)","v":18},{"$f":"VLOOKUP(EW4,[1]SRM!$S$4:$Z$368,8,0)","v":17},{"$f":"VLOOKUP(EX4,[1]SRM!$S$4:$Z$368,8,0)","v":50},{"$f":"VLOOKUP(EY4,[1]SRM!$S$4:$Z$368,8,0)","v":5},{"$f":"VLOOKUP(EZ4,[1]SRM!$S$4:$Z$368,8,0)","v":0},{"$f":"VLOOKUP(FA4,[1]SRM!$S$4:$Z$368,8,0)","v":0},{"$f":"VLOOKUP(FB4,[1]SRM!$S$4:$Z$368,8,0)","v":0},{"$f":"VLOOKUP(FC4,[1]SRM!$S$4:$Z$368,7,0)","v":11},{"$f":"VLOOKUP(FD4,[1]SRM!$S$4:$Z$368,7,0)","v":24},{"$f":"VLOOKUP(FE4,[1]SRM!$S$4:$Z$368,7,0)","v":75},{"$f":"VLOOKUP(FF4,[1]SRM!$S$4:$Z$368,7,0)","v":100},{"$f":"VLOOKUP(FG4,[1]SRM!$S$4:$Z$368,7,0)","v":69},{"$f":"VLOOKUP(FH4,[1]SRM!$S$4:$Z$368,7,0)","v":0},{"$f":"VLOOKUP(FI4,[1]SRM!$S$4:$Z$368,7,0)","v":0},{"$f":"VLOOKUP(FJ4,[1]SRM!$S$4:$Z$368,6,0)","v":35},{"$f":"VLOOKUP(FK4,[1]SRM!$S$4:$Z$368,6,0)","v":19},{"$f":"VLOOKUP(FL4,[1]SRM!$S$4:$Z$368,6,0)","v":9},{"$f":"VLOOKUP(FM4,[1]SRM!$S$4:$Z$368,6,0)","v":35},{"$f":"VLOOKUP(FN4,[1]SRM!$S$4:$Z$368,6,0)","v":0},{"$f":"VLOOKUP(FO4,[1]SRM!$S$4:$Z$368,6,0)","v":0},{"$f":"VLOOKUP(FP4,[1]SRM!$S$4:$Z$368,6,0)","v":0},{"$f":"VLOOKUP(FQ4,[1]SRM!$S$4:$Z$368,8,0)","v":56},{"$f":"VLOOKUP(FR4,[1]SRM!$S$4:$Z$368,8,0)","v":0},{"$f":"VLOOKUP(FS4,[1]SRM!$S$4:$Z$368,8,0)","v":70},{"$f":"VLOOKUP(FT4,[1]SRM!$S$4:$Z$368,8,0)","v":86},{"$f":"VLOOKUP(FU4,[1]SRM!$S$4:$Z$368,8,0)","v":0},{"$f":"VLOOKUP(FV4,[1]SRM!$S$4:$Z$368,8,0)","v":0},{"$f":"VLOOKUP(FW4,[1]SRM!$S$4:$Z$368,8,0)","v":0},{"$f":"VLOOKUP(FX4,[1]SRM!$S$4:$Z$368,7,0)","v":70},{"$f":"VLOOKUP(FY4,[1]SRM!$S$4:$Z$368,7,0)","v":101},{"$f":"VLOOKUP(FZ4,[1]SRM!$S$4:$Z$368,7,0)","v":56},{"$f":"VLOOKUP(GA4,[1]SRM!$S$4:$Z$368,7,0)","v":35},{"$f":"VLOOKUP(GB4,[1]SRM!$S$4:$Z$368,7,0)","v":0},{"$f":"VLOOKUP(GC4,[1]SRM!$S$4:$Z$368,7,0)","v":0},{"$f":"VLOOKUP(GD4,[1]SRM!$S$4:$Z$368,7,0)","v":0},{"$f":"VLOOKUP(GE4,[1]SRM!$S$4:$Z$368,6,0)","v":24},{"$f":"VLOOKUP(GF4,[1]SRM!$S$4:$Z$368,6,0)","v":21},{"$f":"VLOOKUP(GG4,[1]SRM!$S$4:$Z$368,6,0)","v":32},{"$f":"VLOOKUP(GH4,[1]SRM!$S$4:$Z$368,6,0)","v":33},{"$f":"VLOOKUP(GI4,[1]SRM!$S$4:$Z$368,6,0)","v":38},{"$f":"VLOOKUP(GJ4,[1]SRM!$S$4:$Z$368,6,0)","v":0},{"$f":"VLOOKUP(GK4,[1]SRM!$S$4:$Z$368,6,0)","v":0},{"$f":"VLOOKUP(GL4,[1]SRM!$S$4:$Z$368,8,0)","v":30},{"$f":"VLOOKUP(GM4,[1]SRM!$S$4:$Z$368,8,0)","v":49},{"$f":"VLOOKUP(GN4,[1]SRM!$S$4:$Z$368,8,0)","v":28},{"$f":"VLOOKUP(GO4,[1]SRM!$S$4:$Z$368,8,0)","v":0},{"$f":"VLOOKUP(GP4,[1]SRM!$S$4:$Z$368,8,0)","v":0},{"$f":"VLOOKUP(GQ4,[1]SRM!$S$4:$Z$368,8,0)","v":0},{"$f":"VLOOKUP(GR4,[1]SRM!$S$4:$Z$368,8,0)","v":0},{"$f":"VLOOKUP(GS4,[1]SRM!$S$4:$Z$368,7,0)","v":54},{"$f":"VLOOKUP(GT4,[1]SRM!$S$4:$Z$368,7,0)","v":75},{"$f":"VLOOKUP(GU4,[1]SRM!$S$4:$Z$368,7,0)","v":40},{"$f":"VLOOKUP(GV4,[1]SRM!$S$4:$Z$368,7,0)","v":0},{"$f":"VLOOKUP(GW4,[1]SRM!$S$4:$Z$368,7,0)","v":0},{"$f":"VLOOKUP(GX4,[1]SRM!$S$4:$Z$368,7,0)","v":0},{"$f":"VLOOKUP(GY4,[1]SRM!$S$4:$Z$368,7,0)","v":0},{"$f":"VLOOKUP(GZ4,[1]SRM!$S$4:$Z$368,6,0)","v":0},{"$f":"VLOOKUP(HA4,[1]SRM!$S$4:$Z$368,6,0)","v":0},{"$f":"VLOOKUP(HB4,[1]SRM!$S$4:$Z$368,6,0)","v":0},{"$f":"VLOOKUP(HC4,[1]SRM!$S$4:$Z$368,6,0)","v":0},{"$f":"VLOOKUP(HD4,[1]SRM!$S$4:$Z$368,6,0)","v":0},{"$f":"VLOOKUP(HE4,[1]SRM!$S$4:$Z$368,6,0)","v":0},{"$f":"VLOOKUP(HF4,[1]SRM!$S$4:$Z$368,6,0)","v":0},{"$f":"VLOOKUP(HG4,[1]SRM!$S$4:$Z$368,8,0)","v":0},{"$f":"VLOOKUP(HH4,[1]SRM!$S$4:$Z$368,8,0)","v":0},{"$f":"VLOOKUP(HI4,[1]SRM!$S$4:$Z$368,8,0)","v":0},{"$f":"VLOOKUP(HJ4,[1]SRM!$S$4:$Z$368,8,0)","v":0},{"$f":"VLOOKUP(HK4,[1]SRM!$S$4:$Z$368,8,0)","v":0},{"$f":"VLOOKUP(HL4,[1]SRM!$S$4:$Z$368,8,0)","v":0},{"$f":"VLOOKUP(HM4,[1]SRM!$S$4:$Z$368,8,0)","v":0},{"$f":"VLOOKUP(HN4,[1]SRM!$S$4:$Z$368,7,0)","v":0},{"$f":"VLOOKUP(HO4,[1]SRM!$S$4:$Z$368,7,0)","v":0},{"$f":"VLOOKUP(HP4,[1]SRM!$S$4:$Z$368,7,0)","v":0},{"$f":"VLOOKUP(HQ4,[1]SRM!$S$4:$Z$368,7,0)","v":0},{"$f":"VLOOKUP(HR4,[1]SRM!$S$4:$Z$368,7,0)","v":0},{"$f":"VLOOKUP(HS4,[1]SRM!$S$4:$Z$368,7,0)","v":0},{"$f":"VLOOKUP(HT4,[1]SRM!$S$4:$Z$368,7,0)","v":0},{"$f":"VLOOKUP(HU4,[1]SRM!$S$4:$Z$368,6,0)","v":60},{"$f":"VLOOKUP(HV4,[1]SRM!$S$4:$Z$368,6,0)","v":17},{"$f":"VLOOKUP(HW4,[1]SRM!$S$4:$Z$368,6,0)","v":13},{"$f":"VLOOKUP(HX4,[1]SRM!$S$4:$Z$368,6,0)","v":8},{"$f":"VLOOKUP(HY4,[1]SRM!$S$4:$Z$368,6,0)","v":32},{"$f":"VLOOKUP(HZ4,[1]SRM!$S$4:$Z$368,6,0)","v":0},{"$f":"VLOOKUP(IA4,[1]SRM!$S$4:$Z$368,6,0)","v":0},{"$f":"VLOOKUP(IB4,[1]SRM!$S$4:$Z$368,8,0)","v":45},{"$f":"VLOOKUP(IC4,[1]SRM!$S$4:$Z$368,8,0)","v":13},{"$f":"VLOOKUP(ID4,[1]SRM!$S$4:$Z$368,8,0)","v":8},{"$f":"VLOOKUP(IE4,[1]SRM!$S$4:$Z$368,8,0)","v":62},{"$f":"VLOOKUP(IF4,[1]SRM!$S$4:$Z$368,8,0)","v":0},{"$f":"VLOOKUP(IG4,[1]SRM!$S$4:$Z$368,8,0)","v":0},{"$f":"VLOOKUP(IH4,[1]SRM!$S$4:$Z$368,8,0)","v":0},{"$f":"VLOOKUP(II4,[1]SRM!$S$4:$Z$368,7,0)","v":43},{"$f":"VLOOKUP(IJ4,[1]SRM!$S$4:$Z$368,7,0)","v":127},{"$f":"VLOOKUP(IK4,[1]SRM!$S$4:$Z$368,7,0)","v":83},{"$f":"VLOOKUP(IL4,[1]SRM!$S$4:$Z$368,7,0)","v":69},{"$f":"VLOOKUP(IM4,[1]SRM!$S$4:$Z$368,7,0)","v":98},{"$f":"VLOOKUP(IN4,[1]SRM!$S$4:$Z$368,7,0)","v":0},{"$f":"VLOOKUP(IO4,[1]SRM!$S$4:$Z$368,7,0)","v":0},{"$f":"VLOOKUP(IP4,[1]SRM!$S$4:$Z$368,6,0)","v":40},{"$f":"VLOOKUP(IQ4,[1]SRM!$S$4:$Z$368,6,0)","v":136},{"$f":"VLOOKUP(IR4,[1]SRM!$S$4:$Z$368,6,0)","v":37},{"$f":"VLOOKUP(IS4,[1]SRM!$S$4:$Z$368,6,0)","v":61},{"$f":"VLOOKUP(IT4,[1]SRM!$S$4:$Z$368,6,0)","v":9},{"$f":"VLOOKUP(IU4,[1]SRM!$S$4:$Z$368,6,0)","v":0},{"$f":"VLOOKUP(IV4,[1]SRM!$S$4:$Z$368,6,0)","v":0},{"$f":"VLOOKUP(IW4,[1]SRM!$S$4:$Z$368,8,0)","v":73},{"$f":"VLOOKUP(IX4,[1]SRM!$S$4:$Z$368,8,0)","v":44},{"$f":"VLOOKUP(IY4,[1]SRM!$S$4:$Z$368,8,0)","v":6},{"$f":"VLOOKUP(IZ4,[1]SRM!$S$4:$Z$368,8,0)","v":6},{"$f":"VLOOKUP(JA4,[1]SRM!$S$4:$Z$368,8,0)","v":0},{"$f":"VLOOKUP(JB4,[1]SRM!$S$4:$Z$368,8,0)","v":0},{"$f":"VLOOKUP(JC4,[1]SRM!$S$4:$Z$368,8,0)","v":0},{"$f":"VLOOKUP(JD4,[1]SRM!$S$4:$Z$368,7,0)","v":11},{"$f":"VLOOKUP(JE4,[1]SRM!$S$4:$Z$368,7,0)","v":8},{"$f":"VLOOKUP(JF4,[1]SRM!$S$4:$Z$368,7,0)","v":37},{"$f":"VLOOKUP(JG4,[1]SRM!$S$4:$Z$368,7,0)","v":74},{"$f":"VLOOKUP(JH4,[1]SRM!$S$4:$Z$368,7,0)","v":26},{"$f":"VLOOKUP(JI4,[1]SRM!$S$4:$Z$368,7,0)","v":0},{"$f":"VLOOKUP(JJ4,[1]SRM!$S$4:$Z$368,7,0)","v":0},{"$f":"VLOOKUP(JK4,[1]SRM!$S$4:$Z$368,6,0)","v":21},{"$f":"VLOOKUP(JL4,[1]SRM!$S$4:$Z$368,6,0)","v":26},{"$f":"VLOOKUP(JM4,[1]SRM!$S$4:$Z$368,6,0)","v":91},{"$f":"VLOOKUP(JN4,[1]SRM!$S$4:$Z$368,6,0)","v":40},{"$f":"VLOOKUP(JO4,[1]SRM!$S$4:$Z$368,6,0)","v":0},{"$f":"VLOOKUP(JP4,[1]SRM!$S$4:$Z$368,6,0)","v":0},{"$f":"VLOOKUP(JQ4,[1]SRM!$S$4:$Z$368,6,0)","v":0},{"$f":"VLOOKUP(JR4,[1]SRM!$S$4:$Z$368,8,0)","v":57},{"$f":"VLOOKUP(JS4,[1]SRM!$S$4:$Z$368,8,0)","v":11},{"$f":"VLOOKUP(JT4,[1]SRM!$S$4:$Z$368,8,0)","v":18},{"$f":"VLOOKUP(JU4,[1]SRM!$S$4:$Z$368,8,0)","v":0},{"$f":"VLOOKUP(JV4,[1]SRM!$S$4:$Z$368,8,0)","v":0},{"$f":"VLOOKUP(JW4,[1]SRM!$S$4:$Z$368,8,0)","v":0},{"$f":"VLOOKUP(JX4,[1]SRM!$S$4:$Z$368,8,0)","v":0},{"$f":"VLOOKUP(JY4,[1]SRM!$S$4:$Z$368,7,0)","v":0},{"$f":"VLOOKUP(JZ4,[1]SRM!$S$4:$Z$368,7,0)","v":0},{"$f":"VLOOKUP(KA4,[1]SRM!$S$4:$Z$368,7,0)","v":0},{"$f":"VLOOKUP(KB4,[1]SRM!$S$4:$Z$368,7,0)","v":0},{"$f":"VLOOKUP(KC4,[1]SRM!$S$4:$Z$368,7,0)","v":0},{"$f":"VLOOKUP(KD4,[1]SRM!$S$4:$Z$368,7,0)","v":0},{"$f":"VLOOKUP(KE4,[1]SRM!$S$4:$Z$368,7,0)","v":0},{"$f":"VLOOKUP(KF4,[1]SRM!$S$4:$Z$368,6,0)","v":0},{"$f":"VLOOKUP(KG4,[1]SRM!$S$4:$Z$368,6,0)","v":0},{"$f":"VLOOKUP(KH4,[1]SRM!$S$4:$Z$368,6,0)","v":0},{"$f":"VLOOKUP(KI4,[1]SRM!$S$4:$Z$368,6,0)","v":0},{"$f":"VLOOKUP(KJ4,[1]SRM!$S$4:$Z$368,6,0)","v":0},{"$f":"VLOOKUP(KK4,[1]SRM!$S$4:$Z$368,6,0)","v":0},{"$f":"VLOOKUP(KL4,[1]SRM!$S$4:$Z$368,6,0)","v":0},{"$f":"VLOOKUP(KM4,[1]SRM!$S$4:$Z$368,8,0)","v":0},{"$f":"VLOOKUP(KN4,[1]SRM!$S$4:$Z$368,8,0)","v":0},{"$f":"VLOOKUP(KO4,[1]SRM!$S$4:$Z$368,8,0)","v":0},{"$f":"VLOOKUP(KP4,[1]SRM!$S$4:$Z$368,8,0)","v":0},{"$f":"VLOOKUP(KQ4,[1]SRM!$S$4:$Z$368,8,0)","v":0},{"$f":"VLOOKUP(KR4,[1]SRM!$S$4:$Z$368,8,0)","v":0},{"$f":"VLOOKUP(KS4,[1]SRM!$S$4:$Z$368,8,0)","v":0},{"$f":"VLOOKUP(KT4,[1]SRM!$S$4:$Z$368,7,0)","v":0},{"$f":"VLOOKUP(KU4,[1]SRM!$S$4:$Z$368,7,0)","v":0},{"$f":"VLOOKUP(KV4,[1]SRM!$S$4:$Z$368,7,0)","v":0},{"$f":"VLOOKUP(KW4,[1]SRM!$S$4:$Z$368,7,0)","v":0},{"$f":"VLOOKUP(KX4,[1]SRM!$S$4:$Z$368,7,0)","v":0},{"$f":"VLOOKUP(KY4,[1]SRM!$S$4:$Z$368,7,0)","v":0},{"$f":"VLOOKUP(KZ4,[1]SRM!$S$4:$Z$368,7,0)","v":0},{"$f":"VLOOKUP(LA4,[1]SRM!$S$4:$Z$368,6,0)","v":0},{"$f":"VLOOKUP(LB4,[1]SRM!$S$4:$Z$368,6,0)","v":0},{"$f":"VLOOKUP(LC4,[1]SRM!$S$4:$Z$368,6,0)","v":0},{"$f":"VLOOKUP(LD4,[1]SRM!$S$4:$Z$368,6,0)","v":0},{"$f":"VLOOKUP(LE4,[1]SRM!$S$4:$Z$368,6,0)","v":0},{"$f":"VLOOKUP(LF4,[1]SRM!$S$4:$Z$368,6,0)","v":0},{"$f":"VLOOKUP(LG4,[1]SRM!$S$4:$Z$368,6,0)","v":0},{"$f":"VLOOKUP(LH4,[1]SRM!$S$4:$Z$368,8,0)","v":0},{"$f":"VLOOKUP(LI4,[1]SRM!$S$4:$Z$368,8,0)","v":0},{"$f":"VLOOKUP(LJ4,[1]SRM!$S$4:$Z$368,8,0)","v":0},{"$f":"VLOOKUP(LK4,[1]SRM!$S$4:$Z$368,8,0)","v":0},{"$f":"VLOOKUP(LL4,[1]SRM!$S$4:$Z$368,8,0)","v":0},{"$f":"VLOOKUP(LM4,[1]SRM!$S$4:$Z$368,8,0)","v":0},{"$f":"VLOOKUP(LN4,[1]SRM!$S$4:$Z$368,8,0)","v":0},{"$f":"VLOOKUP(LO4,[1]SRM!$S$4:$Z$368,7,0)","v":0},{"$f":"VLOOKUP(LP4,[1]SRM!$S$4:$Z$368,7,0)","v":0},{"$f":"VLOOKUP(LQ4,[1]SRM!$S$4:$Z$368,7,0)","v":0},{"$f":"VLOOKUP(LR4,[1]SRM!$S$4:$Z$368,7,0)","v":0},{"$f":"VLOOKUP(LS4,[1]SRM!$S$4:$Z$368,7,0)","v":0},{"$f":"VLOOKUP(LT4,[1]SRM!$S$4:$Z$368,7,0)","v":0},{"$f":"VLOOKUP(LU4,[1]SRM!$S$4:$Z$368,7,0)","v":0},{"$f":"VLOOKUP(LV4,[1]SRM!$S$4:$Z$368,6,0)","v":0},{"$f":"VLOOKUP(LW4,[1]SRM!$S$4:$Z$368,6,0)","v":0},{"$f":"VLOOKUP(LX4,[1]SRM!$S$4:$Z$368,6,0)","v":0},{"$f":"VLOOKUP(LY4,[1]SRM!$S$4:$Z$368,6,0)","v":0},{"$f":"VLOOKUP(LZ4,[1]SRM!$S$4:$Z$368,6,0)","v":0},{"$f":"VLOOKUP(MA4,[1]SRM!$S$4:$Z$368,6,0)","v":0},{"$f":"VLOOKUP(MB4,[1]SRM!$S$4:$Z$368,6,0)","v":0},{"$f":"VLOOKUP(MC4,[1]SRM!$S$4:$Z$368,8,0)","v":0},{"$f":"VLOOKUP(MD4,[1]SRM!$S$4:$Z$368,8,0)","v":0},{"$f":"VLOOKUP(ME4,[1]SRM!$S$4:$Z$368,8,0)","v":0},{"$f":"VLOOKUP(MF4,[1]SRM!$S$4:$Z$368,8,0)","v":0},{"$f":"VLOOKUP(MG4,[1]SRM!$S$4:$Z$368,8,0)","v":0},{"$f":"VLOOKUP(MH4,[1]SRM!$S$4:$Z$368,8,0)","v":0},{"$f":"VLOOKUP(MI4,[1]SRM!$S$4:$Z$368,8,0)","v":0},{"$f":"VLOOKUP(MJ4,[1]SRM!$S$4:$Z$368,7,0)","v":0},{"$f":"VLOOKUP(MK4,[1]SRM!$S$4:$Z$368,7,0)","v":0},{"$f":"VLOOKUP(ML4,[1]SRM!$S$4:$Z$368,7,0)","v":0},{"$f":"VLOOKUP(MM4,[1]SRM!$S$4:$Z$368,7,0)","v":0},{"$f":"VLOOKUP(MN4,[1]SRM!$S$4:$Z$368,7,0)","v":0},{"$f":"VLOOKUP(MO4,[1]SRM!$S$4:$Z$368,7,0)","v":0},{"$f":"VLOOKUP(MP4,[1]SRM!$S$4:$Z$368,7,0)","v":0},{"$f":"VLOOKUP(MQ4,[1]SRM!$S$4:$Z$368,6,0)","v":0},{"$f":"VLOOKUP(MR4,[1]SRM!$S$4:$Z$368,6,0)","v":0},{"$f":"VLOOKUP(MS4,[1]SRM!$S$4:$Z$368,6,0)","v":0},{"$f":"VLOOKUP(MT4,[1]SRM!$S$4:$Z$368,6,0)","v":0},{"$f":"VLOOKUP(MU4,[1]SRM!$S$4:$Z$368,6,0)","v":0},{"$f":"VLOOKUP(MV4,[1]SRM!$S$4:$Z$368,6,0)","v":0},{"$f":"VLOOKUP(MW4,[1]SRM!$S$4:$Z$368,6,0)","v":0},{"$f":"VLOOKUP(MX4,[1]SRM!$S$4:$Z$368,8,0)","v":0},{"$f":"VLOOKUP(MY4,[1]SRM!$S$4:$Z$368,8,0)","v":0},{"$f":"VLOOKUP(MZ4,[1]SRM!$S$4:$Z$368,8,0)","v":0},{"$f":"VLOOKUP(NA4,[1]SRM!$S$4:$Z$368,8,0)","v":0},{"$f":"VLOOKUP(NB4,[1]SRM!$S$4:$Z$368,8,0)","v":0},{"$f":"VLOOKUP(NC4,[1]SRM!$S$4:$Z$368,8,0)","v":0},{"$f":"VLOOKUP(ND4,[1]SRM!$S$4:$Z$368,8,0)","v":0}]
[8.8999999999999996E-2,"t.b.d.","Downtime Technical SRM RH [%]",null,{"$f":"IF(E35=\"\",0%,(E36*60)/((E35*62)+(E36*60)))","v":0},{"$f":"IF(F35=\"\",0%,(F36*60)/((F35*62)+(F36*60)))","v":0},0,0,0,0,0,0,0,0,0,0,0,0,0,0,0,0,0,0,0,0,0,0,0,0,0,0,0,0,0,0,0,0,0,0,0,0,0,0,0,0,0,0,0,0,0,0,0,0,0,0,0,0,0,0,0,0,0,0,0,0,0,0,0,{"$f":"IF(BR35=\"\",0%,(BR36*60)/((BR35*62)+(BR36*60)))","v":0},0,0,0,0,0,0,0,0,0,0,0,0,0,0,0,0,0,0,0,0,0,0,0,0,0,0,0,0,0,0,0,0,0,0,0,0,0,0,0,0,0,0,0,0,0,0,0,0,0,0,0,0,0,0,0,0,0,0,0,0,0,0,0,{"$f":"IF(ED35=\"\",0%,(ED36*60)/((ED35*62)+(ED36*60)))","v":0},0,0,0,8.2236842105263164E-2,9.4524397513412239E-2,0.14109799897383274,6.0406952098346754E-2,4.7513462147608487E-2,0,0,0,8.0603492818022121E-2,9.1324200913242004E-3,4.6748389777685438E-2,0.10140325719553415,4.9392879193249639E-2,0,5.7983463975088585E-2,5.2653314061532105E-2,0.13731233980227023,1.5128593040847202E-2,0,0,0,3.9044013251301468E-2,7.0977917981072558E-2,0.20585544373284537,0.23558975969844512,0.15393768126719715,0,0,0.10267944455309994,5.4018195602729344E-2,2.1574111066719935E-2,0.10393981389823798,0,0,0,0.1848388161513918,0,0.16532829475673122,0.20487572460890971,0,0,0,0.16333514816831299,0.21588884930530816,0.13575757575757577,8.6433980902206123E-2,{"$error":"#DIV/0!"},0,0,7.3914382506929471E-2,5.562913907284768E-2,8.3478260869565224E-2,9.7087378640776698E-2,0.10697194332363705,0,0,8.2941664362731551E-2,0.11582098959974788,7.7619663648124185E-2,0,{"$f":"IF(GP35=\"\",0%,(GP36*60)/((GP35*62)+(GP36*60)))","v":0},0,0,0.14152179610378265,0.22640370295834172,9.5412260475471092E-2,0,0,0,0,0,0,0,0,0,0,0,0,0,0,0,0,0,0,0,0,0,0,0,0,0,0.17329354000192548,5.4036872218690399E-2,4.6667464401100874E-2,3.4448112530500931E-2,8.3703897462725607E-2,0,0,0.17041151224438272,3.6616280161487186E-2,2.7975288495162606E-2,0.14527845036319612,0,0,0,0.10036567338364584,0.25556748054735712,0.19064390169206033,0.15393768126719715,0.20402498265093685,0,0,0.11921319292668389,0.31216526396327465,9.0464547677261614E-2,0.15657084188911705,3.0699260943718023E-2,0,0,0.17245452397826599,0.11100832562442182,1.6004267804747934E-2,1.6457895218067113E-2,0,{"$f":"IF(JB35=\"\",0%,(JB36*60)/((JB35*62)+(JB36*60)))","v":0},0,4.0530582166543844E-2,2.4062562662923601E-2,0.10506389020350212,0.17107189643214918,7.1651662686018733E-2,0,0,5.1148818705853701E-2,6.0752395046343173E-2,0.18268201284796573,0.11132758140829391,0,0,0,0.13223012681719765,3.4157954663078353E-2,5.1020408163265307E-2,0,0,0,0,0,0,0,0,0,0,0,0,0,0,0,0,0,0,0,0,0,0,0,0,0,0,0,0,0,0,0,0,0,0,0,0,0,0,0,0,0,0,0,0,0,{"$f":"IF(LN35=\"\",0%,(LN36*60)/((LN35*62)+(LN36*60)))","v":0},0,0,0,0,0,0,0,0,0,0,0,0,0,0,0,0,0,0,0,0,0,0,0,0,0,0,0,0,0,0,0,0,0,0,0,0,0,0,0,0,0,0]
[0,"t.b.d.","Blocked Starved [Min]",null,null,null,null,null,null,null,null,null,null,null,null,null,null,null,null,null,null,null,null,null,null,null,null,null,null,null,null,null,null,null,null,null,null,null,null,null,null,null,null,null,null,null,null,null,null,null,null,null,null,null,null,null,null,null,null,null,null,null,null,null,null,null,null,null,null,null,null,null,null,null,null,null,null,null,null,null,null,null,null,null,null,null,null,null,null,null,null,null,null,null,null,null,null,null,null,null,null,null,null,null,null,null,null,null,null,null,null,null,null,null,null,null,null,null,null,null,null,null,null,null,null,null,null,null,null,null,null,null,null,null,null,null,null,28,40,12,22,7,null,null,null,43,22,29,28,21,null,23,20,13,20,12,null,null,24,19,26,19,31,null,null,1,47,27,31,67,2,null,48,0,16,2,0,null,null,12,18,21,36,0,null,null,6,56,17,61,14,20,null,13,9,32,30,70,null,null,56,11,25,0,null,null,null,null,null,null,null,null,null,null,null,null,null,null,null,null,null,null,null,null,null,null,null,null,60,52,56,21,6,58,null,63,77,110,9,26,null,null,48,31,0,36,26,null,null,42,16,23,27,60,21,null,40,21,44,35,7,null,null,18,54,33,22,36,null,null,36,0,1,30,28,0,null,33,19,39,5,61]
[0,"t.b.d.","Parts at Break [Aantal]",null,null,null,null,null,null,null,null,null,null,null,null,null,null,null,null,null,null,null,null,null,null,null,null,null,null,null,null,null,null,null,null,null,null,null,null,null,null,null,null,null,null,null,null,null,null,null,null,null,null,null,null,null,null,null,null,null,null,null,null,null,null,null,null,null,null,null,null,null,null,null,null,null,null,null,null,null,null,null,null,null,null,null,null,null,null,null,null,null,null,null,null,null,null,null,null,null,null,null,null,null,null,null,null,null,null,null,null,null,null,null,null,null,null,null,null,null,null,null,null,null,null,null,null,null,null,null,null,null,null,null,null,null,null,27,26,36,25,24,null,null,null,18,30,25,24,26,null,20,21,12,84,25,null,null,38,29,13,22,36,null,null,23,18,43,5,15,0,null,2,5,32,6,6,null,null,18,23,34,31,0,null,null,38,19,21,23,26,6,null,30,29,36,12,23,null,null,32,20,18,0,null,null,null,null,null,null,null,null,null,null,null,null,null,null,null,null,null,null,null,null,null,null,null,null,29,14,13,11,33,38,null,27,28,32,34,20,null,null,38,30,19,40,29,null,null,12,12,37,14,24,10,null,14,40,16,23,41,null,null,20,18,32,20,12,null,null,27,31,42,33,14,26,null,17,40,32,24,10]
[0,"t.b.d.","Planned Stop [Min]",null,null,null,null,null,null,null,null,null,null,null,null,null,null,null,null,null,null,null,null,null,null,null,null,null,null,null,null,null,null,null,null,null,null,null,null,null,null,null,null,null,null,null,null,null,null,null,null,null,null,null,null,null,null,null,null,null,null,null,null,null,null,null,null,null,null,null,null,null,null,null,null,null,null,null,null,null,null,null,null,null,null,null,null,null,null,null,null,null,null,null,null,null,null,null,null,null,null,null,null,null,null,null,null,null,null,null,null,null,null,null,null,null,null,null,null,null,null,null,null,null,null,null,null,null,null,null,null,null,null,null,null,null,null,0,0,0,0,0,null,null,null,0,0,0,0,0,null,0,0,0,0,0,null,null,0,0,0,0,0,null,null,0,0,0,0,0,0,null,0,0,0,0,0,null,null,0,0,0,0,0,null,null,0,0,0,0,35,0,null,0,0,30,60,0,null,null,0,30,0,0,null,null,null,null,null,null,null,null,null,null,null,null,null,null,null,null,null,null,null,null,null,null,null,null,0,0,0,0,0,0,null,0,0,0,0,0,null,null,0,0,30,0,0,null,null,0,0,0,0,0,0,null,0,0,0,0,0,null,null,0,0,0,0,0,null,null,0,0,0,0,35,0,null,0,0,0,0,0]
["Plan","Plan","SILL1 LH",null,null,null,null,null,null,null,null,null,null,null,null,null,null,null,null,null,null,null,null,null,null,null,null,null,null,null,null,null,null,null,null,null,null,null,null,null,null,null,null,null,null,null,null,null,null,null,null,null,null,null,null,null,null,null,null,null,null,null,null,null,null,null,null,null,null,null,null,null,null,null,null,null,null,null,null,null,null,null,null,null,null,null,null,null,null,null,null,null,null,null,null,null,null,null,null,null,null,null,null,null,null,null,null,null,null,null,null,null,null,null,null,null,null,null,null,null,null,null,null,null,null,null,null,null,null,null,null,null,null,null,null,null,null,250,171,215,243,211,null,null,null,265,269,250,226,170,null,209,241,282,279,199,null,null,218,250,279,278,269,null,null,238,295,279,206,233,108,null,230,153,209,270,154,null,null,234,270,242,273,0,null,null,203,293,255,241,218,201,null,213,271,286,306,266,null,null,218,203,200,13,null,null,null,null,null,null,null,null,null,null,null,null,null,null,null,null,null,null,null,null,null,null,null,null,216,297,230,156,267,322,null,215,233,232,164,183,null,null,257,268,258,305,311,null,null,307,287,239,224,154,258,null,200,213,269,290,255,null,null,214,240,354,313,277,null,null,297,310,325,264,324,243,null,308,231,274,295,283]
[40,"t.b.d.","Downtime Technical SILL1 LH [Min]",null,{"$f":"VLOOKUP(E$4,[1]SILL1!$S$4:$Z$368,4,0)","v":0},{"$f":"VLOOKUP(F$4,[1]SILL1!$S$4:$Z$368,4,0)","v":0},{"$f":"VLOOKUP(G$4,[1]SILL1!$S$4:$Z$368,4,0)","v":0},{"$f":"VLOOKUP(H$4,[1]SILL1!$S$4:$Z$368,4,0)","v":0},{"$f":"VLOOKUP(I$4,[1]SILL1!$S$4:$Z$368,4,0)","v":0},{"$f":"VLOOKUP(J$4,[1]SILL1!$S$4:$Z$368,4,0)","v":0},{"$f":"VLOOKUP(K$4,[1]SILL1!$S$4:$Z$368,4,0)","v":0},{"$f":"VLOOKUP(L$4,[1]SILL1!$S$4:$Z$368,3,0)","v":4},{"$f":"VLOOKUP(M$4,[1]SILL1!$S$4:$Z$368,3,0)","v":0},{"$f":"VLOOKUP(N$4,[1]SILL1!$S$4:$Z$368,3,0)","v":0},{"$f":"VLOOKUP(O$4,[1]SILL1!$S$4:$Z$368,3,0)","v":4},{"$f":"VLOOKUP(P$4,[1]SILL1!$S$4:$Z$368,3,0)","v":21},{"$f":"VLOOKUP(Q$4,[1]SILL1!$S$4:$Z$368,3,0)","v":0},{"$f":"VLOOKUP(R$4,[1]SILL1!$S$4:$Z$368,3,0)","v":0},{"$f":"VLOOKUP(S$4,[1]SILL1!$S$4:$Z$368,2,0)","v":105},{"$f":"VLOOKUP(T$4,[1]SILL1!$S$4:$Z$368,2,0)","v":8},{"$f":"VLOOKUP(U$4,[1]SILL1!$S$4:$Z$368,2,0)","v":0},{"$f":"VLOOKUP(V$4,[1]SILL1!$S$4:$Z$368,2,0)","v":0},{"$f":"VLOOKUP(W$4,[1]SILL1!$S$4:$Z$368,2,0)","v":0},{"$f":"VLOOKUP(X$4,[1]SILL1!$S$4:$Z$368,2,0)","v":0},{"$f":"VLOOKUP(Y$4,[1]SILL1!$S$4:$Z$368,2,0)","v":0},{"$f":"VLOOKUP(Z$4,[1]SILL1!$S$4:$Z$368,4,0)","v":0},{"$f":"VLOOKUP(AA$4,[1]SILL1!$S$4:$Z$368,4,0)","v":0},{"$f":"VLOOKUP(AB$4,[1]SILL1!$S$4:$Z$368,4,0)","v":0},{"$f":"VLOOKUP(AC$4,[1]SILL1!$S$4:$Z$368,4,0)","v":0},{"$f":"VLOOKUP(AD$4,[1]SILL1!$S$4:$Z$368,4,0)","v":0},{"$f":"VLOOKUP(AE$4,[1]SILL1!$S$4:$Z$368,4,0)","v":0},{"$f":"VLOOKUP(AF$4,[1]SILL1!$S$4:$Z$368,4,0)","v":0},{"$f":"VLOOKUP(AG$4,[1]SILL1!$S$4:$Z$368,3,0)","v":0},{"$f":"VLOOKUP(AH$4,[1]SILL1!$S$4:$Z$368,3,0)","v":0},{"$f":"VLOOKUP(AI$4,[1]SILL1!$S$4:$Z$368,3,0)","v":4},{"$f":"VLOOKUP(AJ$4,[1]SILL1!$S$4:$Z$368,3,0)","v":0},{"$f":"VLOOKUP(AK$4,[1]SILL1!$S$4:$Z$368,3,0)","v":0},{"$f":"VLOOKUP(AL$4,[1]SILL1!$S$4:$Z$368,3,0)","v":0},{"$f":"VLOOKUP(AM$4,[1]SILL1!$S$4:$Z$368,3,0)","v":0},{"$f":"VLOOKUP(AN$4,[1]SILL1!$S$4:$Z$368,2,0)","v":0},{"$f":"VLOOKUP(AO$4,[1]SILL1!$S$4:$Z$368,2,0)","v":4},{"$f":"VLOOKUP(AP$4,[1]SILL1!$S$4:$Z$368,2,0)","v":6},{"$f":"VLOOKUP(AQ$4,[1]SILL1!$S$4:$Z$368,2,0)","v":0},{"$f":"VLOOKUP(AR$4,[1]SILL1!$S$4:$Z$368,2,0)","v":11},{"$f":"VLOOKUP(AS$4,[1]SILL1!$S$4:$Z$368,2,0)","v":0},{"$f":"VLOOKUP(AT$4,[1]SILL1!$S$4:$Z$368,2,0)","v":0},{"$f":"VLOOKUP(AU$4,[1]SILL1!$S$4:$Z$368,4,0)","v":0},{"$f":"VLOOKUP(AV$4,[1]SILL1!$S$4:$Z$368,4,0)","v":0},{"$f":"VLOOKUP(AW$4,[1]SILL1!$S$4:$Z$368,4,0)","v":0},{"$f":"VLOOKUP(AX$4,[1]SILL1!$S$4:$Z$368,4,0)","v":0},{"$f":"VLOOKUP(AY$4,[1]SILL1!$S$4:$Z$368,4,0)","v":0},{"$f":"VLOOKUP(AZ$4,[1]SILL1!$S$4:$Z$368,4,0)","v":0},{"$f":"VLOOKUP(BA$4,[1]SILL1!$S$4:$Z$368,4,0)","v":0},{"$f":"VLOOKUP(BB$4,[1]SILL1!$S$4:$Z$368,3,0)","v":6},{"$f":"VLOOKUP(BC$4,[1]SILL1!$S$4:$Z$368,3,0)","v":7},{"$f":"VLOOKUP(BD$4,[1]SILL1!$S$4:$Z$368,3,0)","v":6},{"$f":"VLOOKUP(BE$4,[1]SILL1!$S$4:$Z$368,3,0)","v":11},{"$f":"VLOOKUP(BF$4,[1]SILL1!$S$4:$Z$368,3,0)","v":8},{"$f":"VLOOKUP(BG$4,[1]SILL1!$S$4:$Z$368,3,0)","v":0},{"$f":"VLOOKUP(BH$4,[1]SILL1!$S$4:$Z$368,3,0)","v":0},{"$f":"VLOOKUP(BI$4,[1]SILL1!$S$4:$Z$368,2,0)","v":0},{"$f":"VLOOKUP(BJ$4,[1]SILL1!$S$4:$Z$368,2,0)","v":0},{"$f":"VLOOKUP(BK$4,[1]SILL1!$S$4:$Z$368,2,0)","v":0},{"$f":"VLOOKUP(BL$4,[1]SILL1!$S$4:$Z$368,2,0)","v":5},{"$f":"VLOOKUP(BM$4,[1]SILL1!$S$4:$Z$368,2,0)","v":4},{"$f":"VLOOKUP(BN$4,[1]SILL1!$S$4:$Z$368,2,0)","v":0},{"$f":"VLOOKUP(BO$4,[1]SILL1!$S$4:$Z$368,2,0)","v":0},{"$f":"VLOOKUP(BP$4,[1]SILL1!$S$4:$Z$368,4,0)","v":0},{"$f":"VLOOKUP(BQ$4,[1]SILL1!$S$4:$Z$368,4,0)","v":0},{"$f":"VLOOKUP(BR$4,[1]SILL1!$S$4:$Z$368,4,0)","v":0},{"$f":"VLOOKUP(BS$4,[1]SILL1!$S$4:$Z$368,4,0)","v":0},{"$f":"VLOOKUP(BT$4,[1]SILL1!$S$4:$Z$368,4,0)","v":0},{"$f":"VLOOKUP(BU$4,[1]SILL1!$S$4:$Z$368,4,0)","v":0},{"$f":"VLOOKUP(BV$4,[1]SILL1!$S$4:$Z$368,4,0)","v":0},{"$f":"VLOOKUP(BW$4,[1]SILL1!$S$4:$Z$368,3,0)","v":3},{"$f":"VLOOKUP(BX$4,[1]SILL1!$S$4:$Z$368,3,0)","v":3},{"$f":"VLOOKUP(BY$4,[1]SILL1!$S$4:$Z$368,3,0)","v":7},{"$f":"VLOOKUP(BZ$4,[1]SILL1!$S$4:$Z$368,3,0)","v":6},{"$f":"VLOOKUP(CA$4,[1]SILL1!$S$4:$Z$368,3,0)","v":5},{"$f":"VLOOKUP(CB$4,[1]SILL1!$S$4:$Z$368,3,0)","v":0},{"$f":"VLOOKUP(CC$4,[1]SILL1!$S$4:$Z$368,3,0)","v":0},{"$f":"VLOOKUP(CD$4,[1]SILL1!$S$4:$Z$368,2,0)","v":0},{"$f":"VLOOKUP(CE$4,[1]SILL1!$S$4:$Z$368,2,0)","v":4},{"$f":"VLOOKUP(CF$4,[1]SILL1!$S$4:$Z$368,2,0)","v":0},{"$f":"VLOOKUP(CG$4,[1]SILL1!$S$4:$Z$368,2,0)","v":3},{"$f":"VLOOKUP(CH$4,[1]SILL1!$S$4:$Z$368,2,0)","v":0},{"$f":"VLOOKUP(CI$4,[1]SILL1!$S$4:$Z$368,2,0)","v":0},{"$f":"VLOOKUP(CJ$4,[1]SILL1!$S$4:$Z$368,2,0)","v":0},{"$f":"VLOOKUP(CK$4,[1]SILL1!$S$4:$Z$368,4,0)","v":0},{"$f":"VLOOKUP(CL$4,[1]SILL1!$S$4:$Z$368,4,0)","v":0},{"$f":"VLOOKUP(CM$4,[1]SILL1!$S$4:$Z$368,4,0)","v":0},{"$f":"VLOOKUP(CN$4,[1]SILL1!$S$4:$Z$368,4,0)","v":0},{"$f":"VLOOKUP(CO$4,[1]SILL1!$S$4:$Z$368,4,0)","v":0},{"$f":"VLOOKUP(CP$4,[1]SILL1!$S$4:$Z$368,4,0)","v":0},{"$f":"VLOOKUP(CQ$4,[1]SILL1!$S$4:$Z$368,4,0)","v":0},{"$f":"VLOOKUP(CR$4,[1]SILL1!$S$4:$Z$368,3,0)","v":0},{"$f":"VLOOKUP(CS$4,[1]SILL1!$S$4:$Z$368,3,0)","v":6},{"$f":"VLOOKUP(CT$4,[1]SILL1!$S$4:$Z$368,3,0)","v":5},{"$f":"VLOOKUP(CU$4,[1]SILL1!$S$4:$Z$368,3,0)","v":0},{"$f":"VLOOKUP(CV$4,[1]SILL1!$S$4:$Z$368,3,0)","v":30},{"$f":"VLOOKUP(CW$4,[1]SILL1!$S$4:$Z$368,3,0)","v":0},{"$f":"VLOOKUP(CX$4,[1]SILL1!$S$4:$Z$368,3,0)","v":0},{"$f":"VLOOKUP(CY$4,[1]SILL1!$S$4:$Z$368,2,0)","v":6},{"$f":"VLOOKUP(CZ$4,[1]SILL1!$S$4:$Z$368,2,0)","v":0},{"$f":"VLOOKUP(DA$4,[1]SILL1!$S$4:$Z$368,2,0)","v":8},{"$f":"VLOOKUP(DB$4,[1]SILL1!$S$4:$Z$368,2,0)","v":3},{"$f":"VLOOKUP(DC$4,[1]SILL1!$S$4:$Z$368,2,0)","v":10},{"$f":"VLOOKUP(DD$4,[1]SILL1!$S$4:$Z$368,2,0)","v":0},{"$f":"VLOOKUP(DE$4,[1]SILL1!$S$4:$Z$368,2,0)","v":0},{"$f":"VLOOKUP(DF$4,[1]SILL1!$S$4:$Z$368,4,0)","v":0},{"$f":"VLOOKUP(DG$4,[1]SILL1!$S$4:$Z$368,4,0)","v":0},{"$f":"VLOOKUP(DH$4,[1]SILL1!$S$4:$Z$368,4,0)","v":0},{"$f":"VLOOKUP(DI$4,[1]SILL1!$S$4:$Z$368,4,0)","v":0},{"$f":"VLOOKUP(DJ$4,[1]SILL1!$S$4:$Z$368,4,0)","v":30},{"$f":"VLOOKUP(DK$4,[1]SILL1!$S$4:$Z$368,4,0)","v":0},{"$f":"VLOOKUP(DL$4,[1]SILL1!$S$4:$Z$368,4,0)","v":0},{"$f":"VLOOKUP(DM$4,[1]SILL1!$S$4:$Z$368,3,0)","v":6},{"$f":"VLOOKUP(DN$4,[1]SILL1!$S$4:$Z$368,3,0)","v":5},{"$f":"VLOOKUP(DO$4,[1]SILL1!$S$4:$Z$368,3,0)","v":0},{"$f":"VLOOKUP(DP$4,[1]SILL1!$S$4:$Z$368,3,0)","v":5},{"$f":"VLOOKUP(DQ$4,[1]SILL1!$S$4:$Z$368,3,0)","v":0},{"$f":"VLOOKUP(DR$4,[1]SILL1!$S$4:$Z$368,3,0)","v":0},{"$f":"VLOOKUP(DS$4,[1]SILL1!$S$4:$Z$368,3,0)","v":0},{"$f":"VLOOKUP(DT$4,[1]SILL1!$S$4:$Z$368,2,0)","v":4},{"$f":"VLOOKUP(DU$4,[1]SILL1!$S$4:$Z$368,2,0)","v":0},{"$f":"VLOOKUP(DV$4,[1]SILL1!$S$4:$Z$368,2,0)","v":8},{"$f":"VLOOKUP(DW$4,[1]SILL1!$S$4:$Z$368,2,0)","v":6},{"$f":"VLOOKUP(DX$4,[1]SILL1!$S$4:$Z$368,2,0)","v":25},{"$f":"VLOOKUP(DY$4,[1]SILL1!$S$4:$Z$368,2,0)","v":5},{"$f":"VLOOKUP(DZ$4,[1]SILL1!$S$4:$Z$368,2,0)","v":0},{"$f":"VLOOKUP(EA$4,[1]SILL1!$S$4:$Z$368,4,0)","v":0},{"$f":"VLOOKUP(EB$4,[1]SILL1!$S$4:$Z$368,4,0)","v":30},{"$f":"VLOOKUP(EC$4,[1]SILL1!$S$4:$Z$368,4,0)","v":16},{"$f":"VLOOKUP(ED$4,[1]SILL1!$S$4:$Z$368,4,0)","v":0},{"$f":"VLOOKUP(EE$4,[1]SILL1!$S$4:$Z$368,4,0)","v":0},{"$f":"VLOOKUP(EF$4,[1]SILL1!$S$4:$Z$368,4,0)","v":0},{"$f":"VLOOKUP(EG$4,[1]SILL1!$S$4:$Z$368,4,0)","v":0},{"$f":"VLOOKUP(EH$4,[1]SILL1!$S$4:$Z$368,3,0)","v":90},{"$f":"VLOOKUP(EI$4,[1]SILL1!$S$4:$Z$368,3,0)","v":60},{"$f":"VLOOKUP(EJ$4,[1]SILL1!$S$4:$Z$368,3,0)","v":0},{"$f":"VLOOKUP(EK$4,[1]SILL1!$S$4:$Z$368,3,0)","v":0},{"$f":"VLOOKUP(EL$4,[1]SILL1!$S$4:$Z$368,3,0)","v":45},{"$f":"VLOOKUP(EM$4,[1]SILL1!$S$4:$Z$368,3,0)","v":0},{"$f":"VLOOKUP(EN$4,[1]SILL1!$S$4:$Z$368,3,0)","v":0},{"$f":"VLOOKUP(EO$4,[1]SILL1!$S$4:$Z$368,2,0)","v":0},{"$f":"VLOOKUP(EP$4,[1]SILL1!$S$4:$Z$368,2,0)","v":45},{"$f":"VLOOKUP(EQ$4,[1]SILL1!$S$4:$Z$368,2,0)","v":0},{"$f":"VLOOKUP(ER$4,[1]SILL1!$S$4:$Z$368,2,0)","v":38},{"$f":"VLOOKUP(ES$4,[1]SILL1!$S$4:$Z$368,2,0)","v":0},{"$f":"VLOOKUP(ET$4,[1]SILL1!$S$4:$Z$368,2,0)","v":0},{"$f":"VLOOKUP(EU$4,[1]SILL1!$S$4:$Z$368,2,0)","v":0},{"$f":"VLOOKUP(EV$4,[1]SILL1!$S$4:$Z$368,4,0)","v":0},{"$f":"VLOOKUP(EW$4,[1]SILL1!$S$4:$Z$368,4,0)","v":10},{"$f":"VLOOKUP(EX$4,[1]SILL1!$S$4:$Z$368,4,0)","v":20},{"$f":"VLOOKUP(EY$4,[1]SILL1!$S$4:$Z$368,4,0)","v":40},{"$f":"VLOOKUP(EZ$4,[1]SILL1!$S$4:$Z$368,4,0)","v":0},{"$f":"VLOOKUP(FA$4,[1]SILL1!$S$4:$Z$368,4,0)","v":0},{"$f":"VLOOKUP(FB$4,[1]SILL1!$S$4:$Z$368,4,0)","v":0},{"$f":"VLOOKUP(FC$4,[1]SILL1!$S$4:$Z$368,3,0)","v":4},{"$f":"VLOOKUP(FD$4,[1]SILL1!$S$4:$Z$368,3,0)","v":0},{"$f":"VLOOKUP(FE$4,[1]SILL1!$S$4:$Z$368,3,0)","v":0},{"$f":"VLOOKUP(FF$4,[1]SILL1!$S$4:$Z$368,3,0)","v":15},{"$f":"VLOOKUP(FG$4,[1]SILL1!$S$4:$Z$368,3,0)","v":9},{"$f":"VLOOKUP(FH$4,[1]SILL1!$S$4:$Z$368,3,0)","v":0},{"$f":"VLOOKUP(FI$4,[1]SILL1!$S$4:$Z$368,3,0)","v":0},{"$f":"VLOOKUP(FJ$4,[1]SILL1!$S$4:$Z$368,2,0)","v":50},{"$f":"VLOOKUP(FK$4,[1]SILL1!$S$4:$Z$368,2,0)","v":4},{"$f":"VLOOKUP(FL$4,[1]SILL1!$S$4:$Z$368,2,0)","v":3},{"$f":"VLOOKUP(FM$4,[1]SILL1!$S$4:$Z$368,2,0)","v":4},{"$f":"VLOOKUP(FN$4,[1]SILL1!$S$4:$Z$368,2,0)","v":0},{"$f":"VLOOKUP(FO$4,[1]SILL1!$S$4:$Z$368,2,0)","v":0},{"$f":"VLOOKUP(FP$4,[1]SILL1!$S$4:$Z$368,2,0)","v":0},{"$f":"VLOOKUP(FQ$4,[1]SILL1!$S$4:$Z$368,4,0)","v":0},{"$f":"VLOOKUP(FR$4,[1]SILL1!$S$4:$Z$368,4,0)","v":0},{"$f":"VLOOKUP(FS$4,[1]SILL1!$S$4:$Z$368,4,0)","v":0},{"$f":"VLOOKUP(FT$4,[1]SILL1!$S$4:$Z$368,4,0)","v":0},{"$f":"VLOOKUP(FU$4,[1]SILL1!$S$4:$Z$368,4,0)","v":0},{"$f":"VLOOKUP(FV$4,[1]SILL1!$S$4:$Z$368,4,0)","v":0},{"$f":"VLOOKUP(FW$4,[1]SILL1!$S$4:$Z$368,4,0)","v":0},{"$f":"VLOOKUP(FX$4,[1]SILL1!$S$4:$Z$368,3,0)","v":30},{"$f":"VLOOKUP(FY$4,[1]SILL1!$S$4:$Z$368,3,0)","v":4},{"$f":"VLOOKUP(FZ$4,[1]SILL1!$S$4:$Z$368,3,0)","v":40},{"$f":"VLOOKUP(GA$4,[1]SILL1!$S$4:$Z$368,3,0)","v":0},{"$f":"VLOOKUP(GB$4,[1]SILL1!$S$4:$Z$368,3,0)","v":0},{"$f":"VLOOKUP(GC$4,[1]SILL1!$S$4:$Z$368,3,0)","v":0},{"$f":"VLOOKUP(GD$4,[1]SILL1!$S$4:$Z$368,3,0)","v":0},{"$f":"VLOOKUP(GE$4,[1]SILL1!$S$4:$Z$368,2,0)","v":25},{"$f":"VLOOKUP(GF$4,[1]SILL1!$S$4:$Z$368,2,0)","v":5},{"$f":"VLOOKUP(GG$4,[1]SILL1!$S$4:$Z$368,2,0)","v":3},{"$f":"VLOOKUP(GH$4,[1]SILL1!$S$4:$Z$368,2,0)","v":0},{"$f":"VLOOKUP(GI$4,[1]SILL1!$S$4:$Z$368,2,0)","v":0},{"$f":"VLOOKUP(GJ$4,[1]SILL1!$S$4:$Z$368,2,0)","v":0},{"$f":"VLOOKUP(GK$4,[1]SILL1!$S$4:$Z$368,2,0)","v":0},{"$f":"VLOOKUP(GL$4,[1]SILL1!$S$4:$Z$368,4,0)","v":40},{"$f":"VLOOKUP(GM$4,[1]SILL1!$S$4:$Z$368,4,0)","v":48},{"$f":"VLOOKUP(GN$4,[1]SILL1!$S$4:$Z$368,4,0)","v":10},{"$f":"VLOOKUP(GO$4,[1]SILL1!$S$4:$Z$368,4,0)","v":0},{"$f":"VLOOKUP(GP$4,[1]SILL1!$S$4:$Z$368,4,0)","v":0},{"$f":"VLOOKUP(GQ$4,[1]SILL1!$S$4:$Z$368,4,0)","v":0},{"$f":"VLOOKUP(GR$4,[1]SILL1!$S$4:$Z$368,4,0)","v":0},{"$f":"VLOOKUP(GS$4,[1]SILL1!$S$4:$Z$368,3,0)","v":50},{"$f":"VLOOKUP(GT$4,[1]SILL1!$S$4:$Z$368,3,0)","v":9},{"$f":"VLOOKUP(GU$4,[1]SILL1!$S$4:$Z$368,3,0)","v":48},{"$f":"VLOOKUP(GV$4,[1]SILL1!$S$4:$Z$368,3,0)","v":0},{"$f":"VLOOKUP(GW$4,[1]SILL1!$S$4:$Z$368,3,0)","v":0},{"$f":"VLOOKUP(GX$4,[1]SILL1!$S$4:$Z$368,3,0)","v":0},{"$f":"VLOOKUP(GY$4,[1]SILL1!$S$4:$Z$368,3,0)","v":0},{"$f":"VLOOKUP(GZ$4,[1]SILL1!$S$4:$Z$368,2,0)","v":0},{"$f":"VLOOKUP(HA$4,[1]SILL1!$S$4:$Z$368,2,0)","v":0},{"$f":"VLOOKUP(HB$4,[1]SILL1!$S$4:$Z$368,2,0)","v":0},{"$f":"VLOOKUP(HC$4,[1]SILL1!$S$4:$Z$368,2,0)","v":0},{"$f":"VLOOKUP(HD$4,[1]SILL1!$S$4:$Z$368,2,0)","v":0},{"$f":"VLOOKUP(HE$4,[1]SILL1!$S$4:$Z$368,2,0)","v":0},{"$f":"VLOOKUP(HF$4,[1]SILL1!$S$4:$Z$368,2,0)","v":0},{"$f":"VLOOKUP(HG$4,[1]SILL1!$S$4:$Z$368,4,0)","v":0},{"$f":"VLOOKUP(HH$4,[1]SILL1!$S$4:$Z$368,4,0)","v":0},{"$f":"VLOOKUP(HI$4,[1]SILL1!$S$4:$Z$368,4,0)","v":0},{"$f":"VLOOKUP(HJ$4,[1]SILL1!$S$4:$Z$368,4,0)","v":0},{"$f":"VLOOKUP(HK$4,[1]SILL1!$S$4:$Z$368,4,0)","v":0},{"$f":"VLOOKUP(HL$4,[1]SILL1!$S$4:$Z$368,4,0)","v":0},{"$f":"VLOOKUP(HM$4,[1]SILL1!$S$4:$Z$368,4,0)","v":0},{"$f":"VLOOKUP(HN$4,[1]SILL1!$S$4:$Z$368,3,0)","v":0},{"$f":"VLOOKUP(HO$4,[1]SILL1!$S$4:$Z$368,3,0)","v":0},{"$f":"VLOOKUP(HP$4,[1]SILL1!$S$4:$Z$368,3,0)","v":0},{"$f":"VLOOKUP(HQ$4,[1]SILL1!$S$4:$Z$368,3,0)","v":0},{"$f":"VLOOKUP(HR$4,[1]SILL1!$S$4:$Z$368,3,0)","v":0},{"$f":"VLOOKUP(HS$4,[1]SILL1!$S$4:$Z$368,3,0)","v":0},{"$f":"VLOOKUP(HT$4,[1]SILL1!$S$4:$Z$368,3,0)","v":0},{"$f":"VLOOKUP(HU$4,[1]SILL1!$S$4:$Z$368,2,0)","v":10},{"$f":"VLOOKUP(HV$4,[1]SILL1!$S$4:$Z$368,2,0)","v":10},{"$f":"VLOOKUP(HW$4,[1]SILL1!$S$4:$Z$368,2,0)","v":0},{"$f":"VLOOKUP(HX$4,[1]SILL1!$S$4:$Z$368,2,0)","v":43},{"$f":"VLOOKUP(HY$4,[1]SILL1!$S$4:$Z$368,2,0)","v":0},{"$f":"VLOOKUP(HZ$4,[1]SILL1!$S$4:$Z$368,2,0)","v":0},{"$f":"VLOOKUP(IA$4,[1]SILL1!$S$4:$Z$368,2,0)","v":0},{"$f":"VLOOKUP(IB$4,[1]SILL1!$S$4:$Z$368,4,0)","v":15},{"$f":"VLOOKUP(IC$4,[1]SILL1!$S$4:$Z$368,4,0)","v":0},{"$f":"VLOOKUP(ID$4,[1]SILL1!$S$4:$Z$368,4,0)","v":0},{"$f":"VLOOKUP(IE$4,[1]SILL1!$S$4:$Z$368,4,0)","v":0},{"$f":"VLOOKUP(IF$4,[1]SILL1!$S$4:$Z$368,4,0)","v":0},{"$f":"VLOOKUP(IG$4,[1]SILL1!$S$4:$Z$368,4,0)","v":0},{"$f":"VLOOKUP(IH$4,[1]SILL1!$S$4:$Z$368,4,0)","v":0},{"$f":"VLOOKUP(II$4,[1]SILL1!$S$4:$Z$368,3,0)","v":9},{"$f":"VLOOKUP(IJ$4,[1]SILL1!$S$4:$Z$368,3,0)","v":12},{"$f":"VLOOKUP(IK$4,[1]SILL1!$S$4:$Z$368,3,0)","v":0},{"$f":"VLOOKUP(IL$4,[1]SILL1!$S$4:$Z$368,3,0)","v":0},{"$f":"VLOOKUP(IM$4,[1]SILL1!$S$4:$Z$368,3,0)","v":0},{"$f":"VLOOKUP(IN$4,[1]SILL1!$S$4:$Z$368,3,0)","v":0},{"$f":"VLOOKUP(IO$4,[1]SILL1!$S$4:$Z$368,3,0)","v":0},{"$f":"VLOOKUP(IP$4,[1]SILL1!$S$4:$Z$368,2,0)","v":0},{"$f":"VLOOKUP(IQ$4,[1]SILL1!$S$4:$Z$368,2,0)","v":5},{"$f":"VLOOKUP(IR$4,[1]SILL1!$S$4:$Z$368,2,0)","v":0},{"$f":"VLOOKUP(IS$4,[1]SILL1!$S$4:$Z$368,2,0)","v":0},{"$f":"VLOOKUP(IT$4,[1]SILL1!$S$4:$Z$368,2,0)","v":0},{"$f":"VLOOKUP(IU$4,[1]SILL1!$S$4:$Z$368,2,0)","v":0},{"$f":"VLOOKUP(IV$4,[1]SILL1!$S$4:$Z$368,2,0)","v":0},{"$f":"VLOOKUP(IW$4,[1]SILL1!$S$4:$Z$368,4,0)","v":0},{"$f":"VLOOKUP(IX$4,[1]SILL1!$S$4:$Z$368,4,0)","v":15},{"$f":"VLOOKUP(IY$4,[1]SILL1!$S$4:$Z$368,4,0)","v":0},{"$f":"VLOOKUP(IZ$4,[1]SILL1!$S$4:$Z$368,4,0)","v":0},{"$f":"VLOOKUP(JA$4,[1]SILL1!$S$4:$Z$368,4,0)","v":0},{"$f":"VLOOKUP(JB$4,[1]SILL1!$S$4:$Z$368,4,0)","v":0},{"$f":"VLOOKUP(JC$4,[1]SILL1!$S$4:$Z$368,4,0)","v":0},{"$f":"VLOOKUP(JD$4,[1]SILL1!$S$4:$Z$368,3,0)","v":0},{"$f":"VLOOKUP(JE$4,[1]SILL1!$S$4:$Z$368,3,0)","v":0},{"$f":"VLOOKUP(JF$4,[1]SILL1!$S$4:$Z$368,3,0)","v":0},{"$f":"VLOOKUP(JG$4,[1]SILL1!$S$4:$Z$368,3,0)","v":10},{"$f":"VLOOKUP(JH$4,[1]SILL1!$S$4:$Z$368,3,0)","v":4},{"$f":"VLOOKUP(JI$4,[1]SILL1!$S$4:$Z$368,3,0)","v":0},{"$f":"VLOOKUP(JJ$4,[1]SILL1!$S$4:$Z$368,3,0)","v":0},{"$f":"VLOOKUP(JK$4,[1]SILL1!$S$4:$Z$368,2,0)","v":0},{"$f":"VLOOKUP(JL$4,[1]SILL1!$S$4:$Z$368,2,0)","v":0},{"$f":"VLOOKUP(JM$4,[1]SILL1!$S$4:$Z$368,2,0)","v":0},{"$f":"VLOOKUP(JN$4,[1]SILL1!$S$4:$Z$368,2,0)","v":0},{"$f":"VLOOKUP(JO$4,[1]SILL1!$S$4:$Z$368,2,0)","v":0},{"$f":"VLOOKUP(JP$4,[1]SILL1!$S$4:$Z$368,2,0)","v":0},{"$f":"VLOOKUP(JQ$4,[1]SILL1!$S$4:$Z$368,2,0)","v":0},{"$f":"VLOOKUP(JR$4,[1]SILL1!$S$4:$Z$368,4,0)","v":0},{"$f":"VLOOKUP(JS$4,[1]SILL1!$S$4:$Z$368,4,0)","v":0},{"$f":"VLOOKUP(JT$4,[1]SILL1!$S$4:$Z$368,4,0)","v":0},{"$f":"VLOOKUP(JU$4,[1]SILL1!$S$4:$Z$368,4,0)","v":0},{"$f":"VLOOKUP(JV$4,[1]SILL1!$S$4:$Z$368,4,0)","v":0},{"$f":"VLOOKUP(JW$4,[1]SILL1!$S$4:$Z$368,4,0)","v":0},{"$f":"VLOOKUP(JX$4,[1]SILL1!$S$4:$Z$368,4,0)","v":0},{"$f":"VLOOKUP(JY$4,[1]SILL1!$S$4:$Z$368,3,0)","v":0},{"$f":"VLOOKUP(JZ$4,[1]SILL1!$S$4:$Z$368,3,0)","v":0},{"$f":"VLOOKUP(KA$4,[1]SILL1!$S$4:$Z$368,3,0)","v":0},{"$f":"VLOOKUP(KB$4,[1]SILL1!$S$4:$Z$368,3,0)","v":0},{"$f":"VLOOKUP(KC$4,[1]SILL1!$S$4:$Z$368,3,0)","v":0},{"$f":"VLOOKUP(KD$4,[1]SILL1!$S$4:$Z$368,3,0)","v":0},{"$f":"VLOOKUP(KE$4,[1]SILL1!$S$4:$Z$368,3,0)","v":0},{"$f":"VLOOKUP(KF$4,[1]SILL1!$S$4:$Z$368,2,0)","v":0},{"$f":"VLOOKUP(KG$4,[1]SILL1!$S$4:$Z$368,2,0)","v":0},{"$f":"VLOOKUP(KH$4,[1]SILL1!$S$4:$Z$368,2,0)","v":0},{"$f":"VLOOKUP(KI$4,[1]SILL1!$S$4:$Z$368,2,0)","v":0},{"$f":"VLOOKUP(KJ$4,[1]SILL1!$S$4:$Z$368,2,0)","v":0},{"$f":"VLOOKUP(KK$4,[1]SILL1!$S$4:$Z$368,2,0)","v":0},{"$f":"VLOOKUP(KL$4,[1]SILL1!$S$4:$Z$368,2,0)","v":0},{"$f":"VLOOKUP(KM$4,[1]SILL1!$S$4:$Z$368,4,0)","v":0},{"$f":"VLOOKUP(KN$4,[1]SILL1!$S$4:$Z$368,4,0)","v":0},{"$f":"VLOOKUP(KO$4,[1]SILL1!$S$4:$Z$368,4,0)","v":0},{"$f":"VLOOKUP(KP$4,[1]SILL1!$S$4:$Z$368,4,0)","v":0},{"$f":"VLOOKUP(KQ$4,[1]SILL1!$S$4:$Z$368,4,0)","v":0},{"$f":"VLOOKUP(KR$4,[1]SILL1!$S$4:$Z$368,4,0)","v":0},{"$f":"VLOOKUP(KS$4,[1]SILL1!$S$4:$Z$368,4,0)","v":0},{"$f":"VLOOKUP(KT$4,[1]SILL1!$S$4:$Z$368,3,0)","v":0},{"$f":"VLOOKUP(KU$4,[1]SILL1!$S$4:$Z$368,3,0)","v":0},{"$f":"VLOOKUP(KV$4,[1]SILL1!$S$4:$Z$368,3,0)","v":0},{"$f":"VLOOKUP(KW$4,[1]SILL1!$S$4:$Z$368,3,0)","v":0},{"$f":"VLOOKUP(KX$4,[1]SILL1!$S$4:$Z$368,3,0)","v":0},{"$f":"VLOOKUP(KY$4,[1]SILL1!$S$4:$Z$368,3,0)","v":0},{"$f":"VLOOKUP(KZ$4,[1]SILL1!$S$4:$Z$368,3,0)","v":0},{"$f":"VLOOKUP(LA$4,[1]SILL1!$S$4:$Z$368,2,0)","v":0},{"$f":"VLOOKUP(LB$4,[1]SILL1!$S$4:$Z$368,2,0)","v":0},{"$f":"VLOOKUP(LC$4,[1]SILL1!$S$4:$Z$368,2,0)","v":0},{"$f":"VLOOKUP(LD$4,[1]SILL1!$S$4:$Z$368,2,0)","v":0},{"$f":"VLOOKUP(LE$4,[1]SILL1!$S$4:$Z$368,2,0)","v":0},{"$f":"VLOOKUP(LF$4,[1]SILL1!$S$4:$Z$368,2,0)","v":0},{"$f":"VLOOKUP(LG$4,[1]SILL1!$S$4:$Z$368,2,0)","v":0},{"$f":"VLOOKUP(LH$4,[1]SILL1!$S$4:$Z$368,4,0)","v":0},{"$f":"VLOOKUP(LI$4,[1]SILL1!$S$4:$Z$368,4,0)","v":0},{"$f":"VLOOKUP(LJ$4,[1]SILL1!$S$4:$Z$368,4,0)","v":0},{"$f":"VLOOKUP(LK$4,[1]SILL1!$S$4:$Z$368,4,0)","v":0},{"$f":"VLOOKUP(LL$4,[1]SILL1!$S$4:$Z$368,4,0)","v":0},{"$f":"VLOOKUP(LM$4,[1]SILL1!$S$4:$Z$368,4,0)","v":0},{"$f":"VLOOKUP(LN$4,[1]SILL1!$S$4:$Z$368,4,0)","v":0},{"$f":"VLOOKUP(LO$4,[1]SILL1!$S$4:$Z$368,3,0)","v":0},{"$f":"VLOOKUP(LP$4,[1]SILL1!$S$4:$Z$368,3,0)","v":0},{"$f":"VLOOKUP(LQ$4,[1]SILL1!$S$4:$Z$368,3,0)","v":0},{"$f":"VLOOKUP(LR$4,[1]SILL1!$S$4:$Z$368,3,0)","v":0},{"$f":"VLOOKUP(LS$4,[1]SILL1!$S$4:$Z$368,3,0)","v":0},{"$f":"VLOOKUP(LT$4,[1]SILL1!$S$4:$Z$368,3,0)","v":0},{"$f":"VLOOKUP(LU$4,[1]SILL1!$S$4:$Z$368,3,0)","v":0},{"$f":"VLOOKUP(LV$4,[1]SILL1!$S$4:$Z$368,2,0)","v":0},{"$f":"VLOOKUP(LW$4,[1]SILL1!$S$4:$Z$368,2,0)","v":0},{"$f":"VLOOKUP(LX$4,[1]SILL1!$S$4:$Z$368,2,0)","v":0},{"$f":"VLOOKUP(LY$4,[1]SILL1!$S$4:$Z$368,2,0)","v":0},{"$f":"VLOOKUP(LZ$4,[1]SILL1!$S$4:$Z$368,2,0)","v":0},{"$f":"VLOOKUP(MA$4,[1]SILL1!$S$4:$Z$368,2,0)","v":0},{"$f":"VLOOKUP(MB$4,[1]SILL1!$S$4:$Z$368,2,0)","v":0},{"$f":"VLOOKUP(MC$4,[1]SILL1!$S$4:$Z$368,4,0)","v":0},{"$f":"VLOOKUP(MD$4,[1]SILL1!$S$4:$Z$368,4,0)","v":0},{"$f":"VLOOKUP(ME$4,[1]SILL1!$S$4:$Z$368,4,0)","v":0},{"$f":"VLOOKUP(MF$4,[1]SILL1!$S$4:$Z$368,4,0)","v":0},{"$f":"VLOOKUP(MG$4,[1]SILL1!$S$4:$Z$368,4,0)","v":0},{"$f":"VLOOKUP(MH$4,[1]SILL1!$S$4:$Z$368,4,0)","v":0},{"$f":"VLOOKUP(MI$4,[1]SILL1!$S$4:$Z$368,4,0)","v":0},{"$f":"VLOOKUP(MJ$4,[1]SILL1!$S$4:$Z$368,3,0)","v":0},{"$f":"VLOOKUP(MK$4,[1]SILL1!$S$4:$Z$368,3,0)","v":0},{"$f":"VLOOKUP(ML$4,[1]SILL1!$S$4:$Z$368,3,0)","v":0},{"$f":"VLOOKUP(MM$4,[1]SILL1!$S$4:$Z$368,3,0)","v":0},{"$f":"VLOOKUP(MN$4,[1]SILL1!$S$4:$Z$368,3,0)","v":0},{"$f":"VLOOKUP(MO$4,[1]SILL1!$S$4:$Z$368,3,0)","v":0},{"$f":"VLOOKUP(MP$4,[1]SILL1!$S$4:$Z$368,3,0)","v":0},{"$f":"VLOOKUP(MQ$4,[1]SILL1!$S$4:$Z$368,2,0)","v":0},{"$f":"VLOOKUP(MR$4,[1]SILL1!$S$4:$Z$368,2,0)","v":0},{"$f":"VLOOKUP(MS$4,[1]SILL1!$S$4:$Z$368,2,0)","v":0},{"$f":"VLOOKUP(MT$4,[1]SILL1!$S$4:$Z$368,2,0)","v":0},{"$f":"VLOOKUP(MU$4,[1]SILL1!$S$4:$Z$368,2,0)","v":0},{"$f":"VLOOKUP(MV$4,[1]SILL1!$S$4:$Z$368,2,0)","v":0},{"$f":"VLOOKUP(MW$4,[1]SILL1!$S$4:$Z$368,2,0)","v":0},{"$f":"VLOOKUP(MX$4,[1]SILL1!$S$4:$Z$368,4,0)","v":0},{"$f":"VLOOKUP(MY$4,[1]SILL1!$S$4:$Z$368,4,0)","v":0},{"$f":"VLOOKUP(MZ$4,[1]SILL1!$S$4:$Z$368,4,0)","v":0},{"$f":"VLOOKUP(NA$4,[1]SILL1!$S$4:$Z$368,4,0)","v":0},{"$f":"VLOOKUP(NB$4,[1]SILL1!$S$4:$Z$368,4,0)","v":0},{"$f":"VLOOKUP(NC$4,[1]SILL1!$S$4:$Z$368,4,0)","v":0},{"$f":"VLOOKUP(ND$4,[1]SILL1!$S$4:$Z$368,4,0)","v":0}]
[8.8999999999999996E-2,"t.b.d.","Downtime Technical SILL1 LH [%]",null,{"$f":"IF(E41=\"\",0%,(E42*60)/((E41*62)+(E42*60)))","v":0},{"$f":"IF(F41=\"\",0%,(F42*60)/((F41*62)+(F42*60)))","v":0},0,0,0,0,0,0,0,0,0,0,0,0,0,0,0,0,0,0,0,0,0,0,0,0,0,0,0,0,0,0,0,0,0,0,0,0,0,0,0,0,0,0,0,0,0,0,0,0,0,0,0,0,0,0,0,0,0,0,0,0,0,0,0,{"$f":"IF(BR41=\"\",0%,(BR42*60)/((BR41*62)+(BR42*60)))","v":0},0,0,0,0,0,0,0,0,0,0,0,0,0,0,0,0,0,0,0,0,0,0,0,0,0,0,0,0,0,0,0,0,0,0,0,0,0,0,0,0,0,0,0,0,0,0,0,0,0,0,0,0,0,0,0,0,0,0,0,0,0,0,0,{"$f":"IF(ED41=\"\",0%,(ED42*60)/((ED41*62)+(ED42*60)))","v":0},0,0,0,0.25837320574162681,0.25348542458808621,0,0,0.17108097832974276,0,0,0,0.14113957135389441,0,0.12823397075365578,0,0,0,0,3.8605070132544071E-2,6.4226075786769435E-2,0.12183978068839477,0,0,0,1.7446932247746436E-2,0,0,4.9625055138950151E-2,3.1362527587408526E-2,0,0,0.16895697229105655,1.2951969778737183E-2,1.0298661174047374E-2,1.8444512757454658E-2,0,0,0,0,0,0,0,0,0,0,0.11037527593818984,1.4134275618374558E-2,0.13789933348655481,0,{"$error":"#DIV/0!"},0,0,0.10648871219650717,1.6246073865482508E-2,1.125703564727955E-2,0,0,0,0,0.15378700499807765,0.14632659282593233,3.2729653065677503E-2,0,{"$f":"IF(GP41=\"\",0%,(GP42*60)/((GP41*62)+(GP42*60)))","v":0},0,0,0.18164204407846937,4.1139722687795213E-2,0.18848167539267016,0,0,0,0,0,0,0,0,0,0,0,0,0,0,0,0,0,0,0,0,0,0,0,0,0,4.2881646655231559E-2,3.1555695803092455E-2,0,0.21057786483839372,0,0,0,6.3246661981728736E-2,0,0,0,0,0,0,3.2778924365667109E-2,4.1532071988924779E-2,0,0,0,0,0,0,1.658008179507019E-2,0,0,0,0,0,0,6.3802637175669932E-2,0,0,0,{"$f":"IF(JB41=\"\",0%,(JB42*60)/((JB41*62)+(JB42*60)))","v":0},0,0,0,0,2.9991002699190243E-2,1.3782014471115194E-2,0,0,0,0,0,0,0,0,0,0,0,0,0,0,0,0,0,0,0,0,0,0,0,0,0,0,0,0,0,0,0,0,0,0,0,0,0,0,0,0,0,0,0,0,0,0,0,0,0,0,0,0,0,0,0,0,0,{"$f":"IF(LN41=\"\",0%,(LN42*60)/((LN41*62)+(LN42*60)))","v":0},0,0,0,0,0,0,0,0,0,0,0,0,0,0,0,0,0,0,0,0,0,0,0,0,0,0,0,0,0,0,0,0,0,0,0,0,0,0,0,0,0,0]
[0,"t.b.d.","Blocked Starved [Min]",null,null,null,null,null,null,null,null,null,null,null,null,null,null,null,null,null,null,null,null,null,null,null,null,null,null,null,null,null,null,null,null,null,null,null,null,null,null,null,null,null,null,null,null,null,null,null,null,null,null,null,null,null,null,null,null,null,null,null,null,null,null,null,null,null,null,null,null,null,null,null,null,null,null,null,null,null,null,null,null,null,null,null,null,null,null,null,null,null,null,null,null,null,null,null,null,null,null,null,null,null,null,null,null,null,null,null,null,null,null,null,null,null,null,null,null,null,null,null,null,null,null,null,null,null,null,null,null,null,null,null,null,null,null,0,0,0,0,0,null,null,null,0,0,0,0,0,null,0,0,0,0,0,null,null,0,0,0,0,0,null,null,0,0,0,0,0,0,null,0,0,0,0,0,null,null,0,0,0,0,0,null,null,0,0,0,0,0,0,null,0,0,0,0,0,null,null,0,0,0,0,null,null,null,null,null,null,null,null,null,null,null,null,null,null,null,null,null,null,null,null,null,null,null,null,0,0,0,0,0,0,null,0,0,0,0,0,null,null,0,0,0,0,0,null,null,0,0,0,0,0,0,null,0,0,0,0,0,null,null,0,0,0,0,0,null,null,0,0,0,0,0,0,null,0,0,0,0,0]
[0,"t.b.d.","Parts at Break [Aantal]",null,null,null,null,null,null,null,null,null,null,null,null,null,null,null,null,null,null,null,null,null,null,null,null,null,null,null,null,null,null,null,null,null,null,null,null,null,null,null,null,null,null,null,null,null,null,null,null,null,null,null,null,null,null,null,null,null,null,null,null,null,null,null,null,null,null,null,null,null,null,null,null,null,null,null,null,null,null,null,null,null,null,null,null,null,null,null,null,null,null,null,null,null,null,null,null,null,null,null,null,null,null,null,null,null,null,null,null,null,null,null,null,null,null,null,null,null,null,null,null,null,null,null,null,null,null,null,null,null,null,null,null,null,null,23,1,2,4,6,null,null,null,2,2,4,4,5,null,0,4,23,6,7,null,null,0,0,0,4,12,null,null,2,4,0,0,0,1,null,10,6,2,8,4,null,null,3,4,3,1,0,null,null,4,2,3,12,1,2,null,3,7,1,3,1,null,null,4,0,0,0,null,null,null,null,null,null,null,null,null,null,null,null,null,null,null,null,null,null,null,null,null,null,null,null,5,5,4,5,5,7,null,4,5,10,0,4,null,null,2,3,0,7,0,null,null,0,0,0,2,3,13,null,3,4,7,2,5,null,null,2,0,0,5,0,null,null,2,3,1,4,1,0,null,2,1,0,13,2]
[0,"t.b.d.","Planned Stop [Min]",null,null,null,null,null,null,null,null,null,null,null,null,null,null,null,null,null,null,null,null,null,null,null,null,null,null,null,null,null,null,null,null,null,null,null,null,null,null,null,null,null,null,null,null,null,null,null,null,null,null,null,null,null,null,null,null,null,null,null,null,null,null,null,null,null,null,null,null,null,null,null,null,null,null,null,null,null,null,null,null,null,null,null,null,null,null,null,null,null,null,null,null,null,null,null,null,null,null,null,null,null,null,null,null,null,null,null,null,null,null,null,null,null,null,null,null,null,null,null,null,null,null,null,null,null,null,null,null,null,null,null,null,null,null,0,0,0,0,0,null,null,null,0,0,0,0,0,null,0,0,0,0,0,null,null,0,0,0,0,0,null,null,0,0,0,0,0,0,null,0,0,0,0,0,null,null,0,0,0,0,0,null,null,0,0,0,0,35,0,null,0,0,0,0,0,null,null,0,30,0,0,null,null,null,null,null,null,null,null,null,null,null,null,null,null,null,null,null,null,null,null,null,null,null,null,0,0,0,60,0,0,null,0,0,0,0,0,null,null,0,0,30,0,0,null,null,0,0,0,0,0,0,null,0,0,0,0,0,null,null,0,0,0,0,0,null,null,0,0,0,0,35,0,null,0,0,0,0,0]
["Plan","Plan","Realized SILL1 RH",null,null,null,null,null,null,null,null,null,null,null,null,null,null,null,null,null,null,null,null,null,null,null,null,null,null,null,null,null,null,null,null,null,null,null,null,null,null,null,null,null,null,null,null,null,null,null,null,null,null,null,null,null,null,null,null,null,null,null,null,null,null,null,null,null,null,null,null,null,null,null,null,null,null,null,null,null,null,null,null,null,null,null,null,null,null,null,null,null,null,null,null,null,null,null,null,null,null,null,null,null,null,null,null,null,null,null,null,null,null,null,null,null,null,null,null,null,null,null,null,null,null,null,null,null,null,null,null,null,null,null,null,null,null,309,200,242,281,144,null,null,null,278,249,257,227,116,null,209,194,271,332,212,null,null,244,231,291,287,258,null,null,287,273,211,238,202,175,null,238,160,269,253,175,null,null,259,247,275,254,79,null,null,174,303,267,297,213,220,null,232,278,239,189,216,null,null,214,184,253,30,null,null,null,null,null,null,null,null,null,null,null,null,null,null,null,null,null,null,null,null,null,null,null,null,200,256,239,229,245,367,null,206,201,153,173,198,null,null,311,252,223,298,284,null,null,314,269,233,198,139,234,null,184,231,200,254,207,null,null,245,261,297,322,314,null,null,276,291,308,295,286,207,null,307,259,278,312,244]
[40,"t.b.d.","Downtime Technical SILL1 RH [Min]",null,{"$f":"VLOOKUP(E4,[1]SILL1!$S$4:$Z$368,8,0)","v":0},{"$f":"VLOOKUP(F4,[1]SILL1!$S$4:$Z$368,8,0)","v":0},{"$f":"VLOOKUP(G4,[1]SILL1!$S$4:$Z$368,8,0)","v":0},{"$f":"VLOOKUP(H4,[1]SILL1!$S$4:$Z$368,8,0)","v":0},{"$f":"VLOOKUP(I4,[1]SILL1!$S$4:$Z$368,8,0)","v":0},{"$f":"VLOOKUP(J4,[1]SILL1!$S$4:$Z$368,8,0)","v":0},{"$f":"VLOOKUP(K4,[1]SILL1!$S$4:$Z$368,8,0)","v":0},{"$f":"VLOOKUP(L4,[1]SILL1!$S$4:$Z$368,7,0)","v":0},{"$f":"VLOOKUP(M4,[1]SILL1!$S$4:$Z$368,7,0)","v":0},{"$f":"VLOOKUP(N4,[1]SILL1!$S$4:$Z$368,7,0)","v":10},{"$f":"VLOOKUP(O4,[1]SILL1!$S$4:$Z$368,7,0)","v":15},{"$f":"VLOOKUP(P4,[1]SILL1!$S$4:$Z$368,7,0)","v":3},{"$f":"VLOOKUP(Q4,[1]SILL1!$S$4:$Z$368,7,0)","v":0},{"$f":"VLOOKUP(R4,[1]SILL1!$S$4:$Z$368,7,0)","v":0},{"$f":"VLOOKUP(S4,[1]SILL1!$S$4:$Z$368,6,0)","v":0},{"$f":"VLOOKUP(T4,[1]SILL1!$S$4:$Z$368,6,0)","v":0},{"$f":"VLOOKUP(U4,[1]SILL1!$S$4:$Z$368,6,0)","v":0},{"$f":"VLOOKUP(V4,[1]SILL1!$S$4:$Z$368,6,0)","v":15},{"$f":"VLOOKUP(W4,[1]SILL1!$S$4:$Z$368,6,0)","v":0},{"$f":"VLOOKUP(X4,[1]SILL1!$S$4:$Z$368,6,0)","v":0},{"$f":"VLOOKUP(Y4,[1]SILL1!$S$4:$Z$368,6,0)","v":0},{"$f":"VLOOKUP(Z4,[1]SILL1!$S$4:$Z$368,8,0)","v":0},{"$f":"VLOOKUP(AA4,[1]SILL1!$S$4:$Z$368,8,0)","v":0},{"$f":"VLOOKUP(AB4,[1]SILL1!$S$4:$Z$368,8,0)","v":0},{"$f":"VLOOKUP(AC4,[1]SILL1!$S$4:$Z$368,8,0)","v":0},{"$f":"VLOOKUP(AD4,[1]SILL1!$S$4:$Z$368,8,0)","v":0},{"$f":"VLOOKUP(AE4,[1]SILL1!$S$4:$Z$368,8,0)","v":0},{"$f":"VLOOKUP(AF4,[1]SILL1!$S$4:$Z$368,8,0)","v":0},{"$f":"VLOOKUP(AG4,[1]SILL1!$S$4:$Z$368,7,0)","v":0},{"$f":"VLOOKUP(AH4,[1]SILL1!$S$4:$Z$368,7,0)","v":0},{"$f":"VLOOKUP(AI4,[1]SILL1!$S$4:$Z$368,7,0)","v":0},{"$f":"VLOOKUP(AJ4,[1]SILL1!$S$4:$Z$368,7,0)","v":0},{"$f":"VLOOKUP(AK4,[1]SILL1!$S$4:$Z$368,7,0)","v":0},{"$f":"VLOOKUP(AL4,[1]SILL1!$S$4:$Z$368,7,0)","v":0},{"$f":"VLOOKUP(AM4,[1]SILL1!$S$4:$Z$368,7,0)","v":0},{"$f":"VLOOKUP(AN4,[1]SILL1!$S$4:$Z$368,6,0)","v":0},{"$f":"VLOOKUP(AO4,[1]SILL1!$S$4:$Z$368,6,0)","v":0},{"$f":"VLOOKUP(AP4,[1]SILL1!$S$4:$Z$368,6,0)","v":180},{"$f":"VLOOKUP(AQ4,[1]SILL1!$S$4:$Z$368,6,0)","v":0},{"$f":"VLOOKUP(AR4,[1]SILL1!$S$4:$Z$368,6,0)","v":0},{"$f":"VLOOKUP(AS4,[1]SILL1!$S$4:$Z$368,6,0)","v":0},{"$f":"VLOOKUP(AT4,[1]SILL1!$S$4:$Z$368,6,0)","v":0},{"$f":"VLOOKUP(AU4,[1]SILL1!$S$4:$Z$368,8,0)","v":0},{"$f":"VLOOKUP(AV4,[1]SILL1!$S$4:$Z$368,8,0)","v":0},{"$f":"VLOOKUP(AW4,[1]SILL1!$S$4:$Z$368,8,0)","v":0},{"$f":"VLOOKUP(AX4,[1]SILL1!$S$4:$Z$368,8,0)","v":0},{"$f":"VLOOKUP(AY4,[1]SILL1!$S$4:$Z$368,8,0)","v":10},{"$f":"VLOOKUP(AZ4,[1]SILL1!$S$4:$Z$368,8,0)","v":0},{"$f":"VLOOKUP(BA4,[1]SILL1!$S$4:$Z$368,8,0)","v":0},{"$f":"VLOOKUP(BB4,[1]SILL1!$S$4:$Z$368,7,0)","v":0},{"$f":"VLOOKUP(BC4,[1]SILL1!$S$4:$Z$368,7,0)","v":0},{"$f":"VLOOKUP(BD4,[1]SILL1!$S$4:$Z$368,7,0)","v":10},{"$f":"VLOOKUP(BE4,[1]SILL1!$S$4:$Z$368,7,0)","v":0},{"$f":"VLOOKUP(BF4,[1]SILL1!$S$4:$Z$368,7,0)","v":0},{"$f":"VLOOKUP(BG4,[1]SILL1!$S$4:$Z$368,7,0)","v":0},{"$f":"VLOOKUP(BH4,[1]SILL1!$S$4:$Z$368,7,0)","v":0},{"$f":"VLOOKUP(BI4,[1]SILL1!$S$4:$Z$368,6,0)","v":3},{"$f":"VLOOKUP(BJ4,[1]SILL1!$S$4:$Z$368,6,0)","v":0},{"$f":"VLOOKUP(BK4,[1]SILL1!$S$4:$Z$368,6,0)","v":0},{"$f":"VLOOKUP(BL4,[1]SILL1!$S$4:$Z$368,6,0)","v":0},{"$f":"VLOOKUP(BM4,[1]SILL1!$S$4:$Z$368,6,0)","v":6},{"$f":"VLOOKUP(BN4,[1]SILL1!$S$4:$Z$368,6,0)","v":0},{"$f":"VLOOKUP(BO4,[1]SILL1!$S$4:$Z$368,6,0)","v":0},{"$f":"VLOOKUP(BP4,[1]SILL1!$S$4:$Z$368,8,0)","v":0},{"$f":"VLOOKUP(BQ4,[1]SILL1!$S$4:$Z$368,8,0)","v":0},{"$f":"VLOOKUP(BR4,[1]SILL1!$S$4:$Z$368,8,0)","v":0},{"$f":"VLOOKUP(BS4,[1]SILL1!$S$4:$Z$368,8,0)","v":0},{"$f":"VLOOKUP(BT4,[1]SILL1!$S$4:$Z$368,8,0)","v":0},{"$f":"VLOOKUP(BU4,[1]SILL1!$S$4:$Z$368,8,0)","v":0},{"$f":"VLOOKUP(BV4,[1]SILL1!$S$4:$Z$368,8,0)","v":0},{"$f":"VLOOKUP(BW4,[1]SILL1!$S$4:$Z$368,7,0)","v":0},{"$f":"VLOOKUP(BX4,[1]SILL1!$S$4:$Z$368,7,0)","v":0},{"$f":"VLOOKUP(BY4,[1]SILL1!$S$4:$Z$368,7,0)","v":0},{"$f":"VLOOKUP(BZ4,[1]SILL1!$S$4:$Z$368,7,0)","v":0},{"$f":"VLOOKUP(CA4,[1]SILL1!$S$4:$Z$368,7,0)","v":20},{"$f":"VLOOKUP(CB4,[1]SILL1!$S$4:$Z$368,7,0)","v":0},{"$f":"VLOOKUP(CC4,[1]SILL1!$S$4:$Z$368,7,0)","v":0},{"$f":"VLOOKUP(CD4,[1]SILL1!$S$4:$Z$368,6,0)","v":0},{"$f":"VLOOKUP(CE4,[1]SILL1!$S$4:$Z$368,6,0)","v":10},{"$f":"VLOOKUP(CF4,[1]SILL1!$S$4:$Z$368,6,0)","v":0},{"$f":"VLOOKUP(CG4,[1]SILL1!$S$4:$Z$368,6,0)","v":0},{"$f":"VLOOKUP(CH4,[1]SILL1!$S$4:$Z$368,6,0)","v":0},{"$f":"VLOOKUP(CI4,[1]SILL1!$S$4:$Z$368,6,0)","v":0},{"$f":"VLOOKUP(CJ4,[1]SILL1!$S$4:$Z$368,6,0)","v":0},{"$f":"VLOOKUP(CK4,[1]SILL1!$S$4:$Z$368,8,0)","v":0},{"$f":"VLOOKUP(CL4,[1]SILL1!$S$4:$Z$368,8,0)","v":0},{"$f":"VLOOKUP(CM4,[1]SILL1!$S$4:$Z$368,8,0)","v":0},{"$f":"VLOOKUP(CN4,[1]SILL1!$S$4:$Z$368,8,0)","v":0},{"$f":"VLOOKUP(CO4,[1]SILL1!$S$4:$Z$368,8,0)","v":0},{"$f":"VLOOKUP(CP4,[1]SILL1!$S$4:$Z$368,8,0)","v":0},{"$f":"VLOOKUP(CQ4,[1]SILL1!$S$4:$Z$368,8,0)","v":0},{"$f":"VLOOKUP(CR4,[1]SILL1!$S$4:$Z$368,7,0)","v":0},{"$f":"VLOOKUP(CS4,[1]SILL1!$S$4:$Z$368,7,0)","v":6},{"$f":"VLOOKUP(CT4,[1]SILL1!$S$4:$Z$368,7,0)","v":4},{"$f":"VLOOKUP(CU4,[1]SILL1!$S$4:$Z$368,7,0)","v":4},{"$f":"VLOOKUP(CV4,[1]SILL1!$S$4:$Z$368,7,0)","v":5},{"$f":"VLOOKUP(CW4,[1]SILL1!$S$4:$Z$368,7,0)","v":0},{"$f":"VLOOKUP(CX4,[1]SILL1!$S$4:$Z$368,7,0)","v":0},{"$f":"VLOOKUP(CY4,[1]SILL1!$S$4:$Z$368,6,0)","v":0},{"$f":"VLOOKUP(CZ4,[1]SILL1!$S$4:$Z$368,6,0)","v":0},{"$f":"VLOOKUP(DA4,[1]SILL1!$S$4:$Z$368,6,0)","v":0},{"$f":"VLOOKUP(DB4,[1]SILL1!$S$4:$Z$368,6,0)","v":4},{"$f":"VLOOKUP(DC4,[1]SILL1!$S$4:$Z$368,6,0)","v":4},{"$f":"VLOOKUP(DD4,[1]SILL1!$S$4:$Z$368,6,0)","v":0},{"$f":"VLOOKUP(DE4,[1]SILL1!$S$4:$Z$368,6,0)","v":0},{"$f":"VLOOKUP(DF4,[1]SILL1!$S$4:$Z$368,8,0)","v":0},{"$f":"VLOOKUP(DG4,[1]SILL1!$S$4:$Z$368,8,0)","v":0},{"$f":"VLOOKUP(DH4,[1]SILL1!$S$4:$Z$368,8,0)","v":0},{"$f":"VLOOKUP(DI4,[1]SILL1!$S$4:$Z$368,8,0)","v":0},{"$f":"VLOOKUP(DJ4,[1]SILL1!$S$4:$Z$368,8,0)","v":0},{"$f":"VLOOKUP(DK4,[1]SILL1!$S$4:$Z$368,8,0)","v":0},{"$f":"VLOOKUP(DL4,[1]SILL1!$S$4:$Z$368,8,0)","v":0},{"$f":"VLOOKUP(DM4,[1]SILL1!$S$4:$Z$368,7,0)","v":0},{"$f":"VLOOKUP(DN4,[1]SILL1!$S$4:$Z$368,7,0)","v":0},{"$f":"VLOOKUP(DO4,[1]SILL1!$S$4:$Z$368,7,0)","v":0},{"$f":"VLOOKUP(DP4,[1]SILL1!$S$4:$Z$368,7,0)","v":0},{"$f":"VLOOKUP(DQ4,[1]SILL1!$S$4:$Z$368,7,0)","v":0},{"$f":"VLOOKUP(DR4,[1]SILL1!$S$4:$Z$368,7,0)","v":0},{"$f":"VLOOKUP(DS4,[1]SILL1!$S$4:$Z$368,7,0)","v":0},{"$f":"VLOOKUP(DT4,[1]SILL1!$S$4:$Z$368,6,0)","v":0},{"$f":"VLOOKUP(DU4,[1]SILL1!$S$4:$Z$368,6,0)","v":0},{"$f":"VLOOKUP(DV4,[1]SILL1!$S$4:$Z$368,6,0)","v":0},{"$f":"VLOOKUP(DW4,[1]SILL1!$S$4:$Z$368,6,0)","v":0},{"$f":"VLOOKUP(DX4,[1]SILL1!$S$4:$Z$368,6,0)","v":135},{"$f":"VLOOKUP(DY4,[1]SILL1!$S$4:$Z$368,6,0)","v":16},{"$f":"VLOOKUP(DZ4,[1]SILL1!$S$4:$Z$368,6,0)","v":0},{"$f":"VLOOKUP(EA4,[1]SILL1!$S$4:$Z$368,8,0)","v":10},{"$f":"VLOOKUP(EB4,[1]SILL1!$S$4:$Z$368,8,0)","v":12},{"$f":"VLOOKUP(EC4,[1]SILL1!$S$4:$Z$368,8,0)","v":15},{"$f":"VLOOKUP(ED4,[1]SILL1!$S$4:$Z$368,8,0)","v":0},{"$f":"VLOOKUP(EE4,[1]SILL1!$S$4:$Z$368,8,0)","v":0},{"$f":"VLOOKUP(EF4,[1]SILL1!$S$4:$Z$368,8,0)","v":0},{"$f":"VLOOKUP(EG4,[1]SILL1!$S$4:$Z$368,8,0)","v":0},{"$f":"VLOOKUP(EH4,[1]SILL1!$S$4:$Z$368,7,0)","v":0},{"$f":"VLOOKUP(EI4,[1]SILL1!$S$4:$Z$368,7,0)","v":0},{"$f":"VLOOKUP(EJ4,[1]SILL1!$S$4:$Z$368,7,0)","v":13},{"$f":"VLOOKUP(EK4,[1]SILL1!$S$4:$Z$368,7,0)","v":0},{"$f":"VLOOKUP(EL4,[1]SILL1!$S$4:$Z$368,7,0)","v":10},{"$f":"VLOOKUP(EM4,[1]SILL1!$S$4:$Z$368,7,0)","v":0},{"$f":"VLOOKUP(EN4,[1]SILL1!$S$4:$Z$368,7,0)","v":0},{"$f":"VLOOKUP(EO4,[1]SILL1!$S$4:$Z$368,6,0)","v":0},{"$f":"VLOOKUP(EP4,[1]SILL1!$S$4:$Z$368,6,0)","v":49},{"$f":"VLOOKUP(EQ4,[1]SILL1!$S$4:$Z$368,6,0)","v":0},{"$f":"VLOOKUP(ER4,[1]SILL1!$S$4:$Z$368,6,0)","v":4},{"$f":"VLOOKUP(ES4,[1]SILL1!$S$4:$Z$368,6,0)","v":0},{"$f":"VLOOKUP(ET4,[1]SILL1!$S$4:$Z$368,6,0)","v":0},{"$f":"VLOOKUP(EU4,[1]SILL1!$S$4:$Z$368,6,0)","v":0},{"$f":"VLOOKUP(EV4,[1]SILL1!$S$4:$Z$368,8,0)","v":0},{"$f":"VLOOKUP(EW4,[1]SILL1!$S$4:$Z$368,8,0)","v":0},{"$f":"VLOOKUP(EX4,[1]SILL1!$S$4:$Z$368,8,0)","v":0},{"$f":"VLOOKUP(EY4,[1]SILL1!$S$4:$Z$368,8,0)","v":0},{"$f":"VLOOKUP(EZ4,[1]SILL1!$S$4:$Z$368,8,0)","v":0},{"$f":"VLOOKUP(FA4,[1]SILL1!$S$4:$Z$368,8,0)","v":0},{"$f":"VLOOKUP(FB4,[1]SILL1!$S$4:$Z$368,8,0)","v":0},{"$f":"VLOOKUP(FC4,[1]SILL1!$S$4:$Z$368,7,0)","v":9},{"$f":"VLOOKUP(FD4,[1]SILL1!$S$4:$Z$368,7,0)","v":0},{"$f":"VLOOKUP(FE4,[1]SILL1!$S$4:$Z$368,7,0)","v":15},{"$f":"VLOOKUP(FF4,[1]SILL1!$S$4:$Z$368,7,0)","v":15},{"$f":"VLOOKUP(FG4,[1]SILL1!$S$4:$Z$368,7,0)","v":12},{"$f":"VLOOKUP(FH4,[1]SILL1!$S$4:$Z$368,7,0)","v":0},{"$f":"VLOOKUP(FI4,[1]SILL1!$S$4:$Z$368,7,0)","v":0},{"$f":"VLOOKUP(FJ4,[1]SILL1!$S$4:$Z$368,6,0)","v":4},{"$f":"VLOOKUP(FK4,[1]SILL1!$S$4:$Z$368,6,0)","v":4},{"$f":"VLOOKUP(FL4,[1]SILL1!$S$4:$Z$368,6,0)","v":33},{"$f":"VLOOKUP(FM4,[1]SILL1!$S$4:$Z$368,6,0)","v":0},{"$f":"VLOOKUP(FN4,[1]SILL1!$S$4:$Z$368,6,0)","v":10},{"$f":"VLOOKUP(FO4,[1]SILL1!$S$4:$Z$368,6,0)","v":0},{"$f":"VLOOKUP(FP4,[1]SILL1!$S$4:$Z$368,6,0)","v":0},{"$f":"VLOOKUP(FQ4,[1]SILL1!$S$4:$Z$368,8,0)","v":4},{"$f":"VLOOKUP(FR4,[1]SILL1!$S$4:$Z$368,8,0)","v":0},{"$f":"VLOOKUP(FS4,[1]SILL1!$S$4:$Z$368,8,0)","v":0},{"$f":"VLOOKUP(FT4,[1]SILL1!$S$4:$Z$368,8,0)","v":0},{"$f":"VLOOKUP(FU4,[1]SILL1!$S$4:$Z$368,8,0)","v":0},{"$f":"VLOOKUP(FV4,[1]SILL1!$S$4:$Z$368,8,0)","v":0},{"$f":"VLOOKUP(FW4,[1]SILL1!$S$4:$Z$368,8,0)","v":0},{"$f":"VLOOKUP(FX4,[1]SILL1!$S$4:$Z$368,7,0)","v":0},{"$f":"VLOOKUP(FY4,[1]SILL1!$S$4:$Z$368,7,0)","v":0},{"$f":"VLOOKUP(FZ4,[1]SILL1!$S$4:$Z$368,7,0)","v":0},{"$f":"VLOOKUP(GA4,[1]SILL1!$S$4:$Z$368,7,0)","v":0},{"$f":"VLOOKUP(GB4,[1]SILL1!$S$4:$Z$368,7,0)","v":0},{"$f":"VLOOKUP(GC4,[1]SILL1!$S$4:$Z$368,7,0)","v":0},{"$f":"VLOOKUP(GD4,[1]SILL1!$S$4:$Z$368,7,0)","v":0},{"$f":"VLOOKUP(GE4,[1]SILL1!$S$4:$Z$368,6,0)","v":0},{"$f":"VLOOKUP(GF4,[1]SILL1!$S$4:$Z$368,6,0)","v":3},{"$f":"VLOOKUP(GG4,[1]SILL1!$S$4:$Z$368,6,0)","v":9},{"$f":"VLOOKUP(GH4,[1]SILL1!$S$4:$Z$368,6,0)","v":0},{"$f":"VLOOKUP(GI4,[1]SILL1!$S$4:$Z$368,6,0)","v":0},{"$f":"VLOOKUP(GJ4,[1]SILL1!$S$4:$Z$368,6,0)","v":0},{"$f":"VLOOKUP(GK4,[1]SILL1!$S$4:$Z$368,6,0)","v":0},{"$f":"VLOOKUP(GL4,[1]SILL1!$S$4:$Z$368,8,0)","v":5},{"$f":"VLOOKUP(GM4,[1]SILL1!$S$4:$Z$368,8,0)","v":30},{"$f":"VLOOKUP(GN4,[1]SILL1!$S$4:$Z$368,8,0)","v":15},{"$f":"VLOOKUP(GO4,[1]SILL1!$S$4:$Z$368,8,0)","v":0},{"$f":"VLOOKUP(GP4,[1]SILL1!$S$4:$Z$368,8,0)","v":0},{"$f":"VLOOKUP(GQ4,[1]SILL1!$S$4:$Z$368,8,0)","v":0},{"$f":"VLOOKUP(GR4,[1]SILL1!$S$4:$Z$368,8,0)","v":0},{"$f":"VLOOKUP(GS4,[1]SILL1!$S$4:$Z$368,7,0)","v":0},{"$f":"VLOOKUP(GT4,[1]SILL1!$S$4:$Z$368,7,0)","v":0},{"$f":"VLOOKUP(GU4,[1]SILL1!$S$4:$Z$368,7,0)","v":0},{"$f":"VLOOKUP(GV4,[1]SILL1!$S$4:$Z$368,7,0)","v":0},{"$f":"VLOOKUP(GW4,[1]SILL1!$S$4:$Z$368,7,0)","v":0},{"$f":"VLOOKUP(GX4,[1]SILL1!$S$4:$Z$368,7,0)","v":0},{"$f":"VLOOKUP(GY4,[1]SILL1!$S$4:$Z$368,7,0)","v":0},{"$f":"VLOOKUP(GZ4,[1]SILL1!$S$4:$Z$368,6,0)","v":0},{"$f":"VLOOKUP(HA4,[1]SILL1!$S$4:$Z$368,6,0)","v":0},{"$f":"VLOOKUP(HB4,[1]SILL1!$S$4:$Z$368,6,0)","v":0},{"$f":"VLOOKUP(HC4,[1]SILL1!$S$4:$Z$368,6,0)","v":0},{"$f":"VLOOKUP(HD4,[1]SILL1!$S$4:$Z$368,6,0)","v":0},{"$f":"VLOOKUP(HE4,[1]SILL1!$S$4:$Z$368,6,0)","v":0},{"$f":"VLOOKUP(HF4,[1]SILL1!$S$4:$Z$368,6,0)","v":0},{"$f":"VLOOKUP(HG4,[1]SILL1!$S$4:$Z$368,8,0)","v":0},{"$f":"VLOOKUP(HH4,[1]SILL1!$S$4:$Z$368,8,0)","v":0},{"$f":"VLOOKUP(HI4,[1]SILL1!$S$4:$Z$368,8,0)","v":0},{"$f":"VLOOKUP(HJ4,[1]SILL1!$S$4:$Z$368,8,0)","v":0},{"$f":"VLOOKUP(HK4,[1]SILL1!$S$4:$Z$368,8,0)","v":0},{"$f":"VLOOKUP(HL4,[1]SILL1!$S$4:$Z$368,8,0)","v":0},{"$f":"VLOOKUP(HM4,[1]SILL1!$S$4:$Z$368,8,0)","v":0},{"$f":"VLOOKUP(HN4,[1]SILL1!$S$4:$Z$368,7,0)","v":0},{"$f":"VLOOKUP(HO4,[1]SILL1!$S$4:$Z$368,7,0)","v":0},{"$f":"VLOOKUP(HP4,[1]SILL1!$S$4:$Z$368,7,0)","v":0},{"$f":"VLOOKUP(HQ4,[1]SILL1!$S$4:$Z$368,7,0)","v":0},{"$f":"VLOOKUP(HR4,[1]SILL1!$S$4:$Z$368,7,0)","v":0},{"$f":"VLOOKUP(HS4,[1]SILL1!$S$4:$Z$368,7,0)","v":0},{"$f":"VLOOKUP(HT4,[1]SILL1!$S$4:$Z$368,7,0)","v":0},{"$f":"VLOOKUP(HU4,[1]SILL1!$S$4:$Z$368,6,0)","v":0},{"$f":"VLOOKUP(HV4,[1]SILL1!$S$4:$Z$368,6,0)","v":0},{"$f":"VLOOKUP(HW4,[1]SILL1!$S$4:$Z$368,6,0)","v":0},{"$f":"VLOOKUP(HX4,[1]SILL1!$S$4:$Z$368,6,0)","v":35},{"$f":"VLOOKUP(HY4,[1]SILL1!$S$4:$Z$368,6,0)","v":20},{"$f":"VLOOKUP(HZ4,[1]SILL1!$S$4:$Z$368,6,0)","v":0},{"$f":"VLOOKUP(IA4,[1]SILL1!$S$4:$Z$368,6,0)","v":0},{"$f":"VLOOKUP(IB4,[1]SILL1!$S$4:$Z$368,8,0)","v":0},{"$f":"VLOOKUP(IC4,[1]SILL1!$S$4:$Z$368,8,0)","v":0},{"$f":"VLOOKUP(ID4,[1]SILL1!$S$4:$Z$368,8,0)","v":0},{"$f":"VLOOKUP(IE4,[1]SILL1!$S$4:$Z$368,8,0)","v":0},{"$f":"VLOOKUP(IF4,[1]SILL1!$S$4:$Z$368,8,0)","v":0},{"$f":"VLOOKUP(IG4,[1]SILL1!$S$4:$Z$368,8,0)","v":0},{"$f":"VLOOKUP(IH4,[1]SILL1!$S$4:$Z$368,8,0)","v":0},{"$f":"VLOOKUP(II4,[1]SILL1!$S$4:$Z$368,7,0)","v":0},{"$f":"VLOOKUP(IJ4,[1]SILL1!$S$4:$Z$368,7,0)","v":0},{"$f":"VLOOKUP(IK4,[1]SILL1!$S$4:$Z$368,7,0)","v":9},{"$f":"VLOOKUP(IL4,[1]SILL1!$S$4:$Z$368,7,0)","v":35},{"$f":"VLOOKUP(IM4,[1]SILL1!$S$4:$Z$368,7,0)","v":0},{"$f":"VLOOKUP(IN4,[1]SILL1!$S$4:$Z$368,7,0)","v":0},{"$f":"VLOOKUP(IO4,[1]SILL1!$S$4:$Z$368,7,0)","v":0},{"$f":"VLOOKUP(IP4,[1]SILL1!$S$4:$Z$368,6,0)","v":0},{"$f":"VLOOKUP(IQ4,[1]SILL1!$S$4:$Z$368,6,0)","v":1},{"$f":"VLOOKUP(IR4,[1]SILL1!$S$4:$Z$368,6,0)","v":0},{"$f":"VLOOKUP(IS4,[1]SILL1!$S$4:$Z$368,6,0)","v":0},{"$f":"VLOOKUP(IT4,[1]SILL1!$S$4:$Z$368,6,0)","v":0},{"$f":"VLOOKUP(IU4,[1]SILL1!$S$4:$Z$368,6,0)","v":0},{"$f":"VLOOKUP(IV4,[1]SILL1!$S$4:$Z$368,6,0)","v":0},{"$f":"VLOOKUP(IW4,[1]SILL1!$S$4:$Z$368,8,0)","v":0},{"$f":"VLOOKUP(IX4,[1]SILL1!$S$4:$Z$368,8,0)","v":0},{"$f":"VLOOKUP(IY4,[1]SILL1!$S$4:$Z$368,8,0)","v":0},{"$f":"VLOOKUP(IZ4,[1]SILL1!$S$4:$Z$368,8,0)","v":30},{"$f":"VLOOKUP(JA4,[1]SILL1!$S$4:$Z$368,8,0)","v":0},{"$f":"VLOOKUP(JB4,[1]SILL1!$S$4:$Z$368,8,0)","v":0},{"$f":"VLOOKUP(JC4,[1]SILL1!$S$4:$Z$368,8,0)","v":0},{"$f":"VLOOKUP(JD4,[1]SILL1!$S$4:$Z$368,7,0)","v":0},{"$f":"VLOOKUP(JE4,[1]SILL1!$S$4:$Z$368,7,0)","v":4},{"$f":"VLOOKUP(JF4,[1]SILL1!$S$4:$Z$368,7,0)","v":0},{"$f":"VLOOKUP(JG4,[1]SILL1!$S$4:$Z$368,7,0)","v":10},{"$f":"VLOOKUP(JH4,[1]SILL1!$S$4:$Z$368,7,0)","v":10},{"$f":"VLOOKUP(JI4,[1]SILL1!$S$4:$Z$368,7,0)","v":0},{"$f":"VLOOKUP(JJ4,[1]SILL1!$S$4:$Z$368,7,0)","v":0},{"$f":"VLOOKUP(JK4,[1]SILL1!$S$4:$Z$368,6,0)","v":0},{"$f":"VLOOKUP(JL4,[1]SILL1!$S$4:$Z$368,6,0)","v":10},{"$f":"VLOOKUP(JM4,[1]SILL1!$S$4:$Z$368,6,0)","v":0},{"$f":"VLOOKUP(JN4,[1]SILL1!$S$4:$Z$368,6,0)","v":0},{"$f":"VLOOKUP(JO4,[1]SILL1!$S$4:$Z$368,6,0)","v":0},{"$f":"VLOOKUP(JP4,[1]SILL1!$S$4:$Z$368,6,0)","v":0},{"$f":"VLOOKUP(JQ4,[1]SILL1!$S$4:$Z$368,6,0)","v":0},{"$f":"VLOOKUP(JR4,[1]SILL1!$S$4:$Z$368,8,0)","v":7},{"$f":"VLOOKUP(JS4,[1]SILL1!$S$4:$Z$368,8,0)","v":0},{"$f":"VLOOKUP(JT4,[1]SILL1!$S$4:$Z$368,8,0)","v":0},{"$f":"VLOOKUP(JU4,[1]SILL1!$S$4:$Z$368,8,0)","v":0},{"$f":"VLOOKUP(JV4,[1]SILL1!$S$4:$Z$368,8,0)","v":0},{"$f":"VLOOKUP(JW4,[1]SILL1!$S$4:$Z$368,8,0)","v":0},{"$f":"VLOOKUP(JX4,[1]SILL1!$S$4:$Z$368,8,0)","v":0},{"$f":"VLOOKUP(JY4,[1]SILL1!$S$4:$Z$368,7,0)","v":0},{"$f":"VLOOKUP(JZ4,[1]SILL1!$S$4:$Z$368,7,0)","v":0},{"$f":"VLOOKUP(KA4,[1]SILL1!$S$4:$Z$368,7,0)","v":0},{"$f":"VLOOKUP(KB4,[1]SILL1!$S$4:$Z$368,7,0)","v":0},{"$f":"VLOOKUP(KC4,[1]SILL1!$S$4:$Z$368,7,0)","v":0},{"$f":"VLOOKUP(KD4,[1]SILL1!$S$4:$Z$368,7,0)","v":0},{"$f":"VLOOKUP(KE4,[1]SILL1!$S$4:$Z$368,7,0)","v":0},{"$f":"VLOOKUP(KF4,[1]SILL1!$S$4:$Z$368,6,0)","v":0},{"$f":"VLOOKUP(KG4,[1]SILL1!$S$4:$Z$368,6,0)","v":0},{"$f":"VLOOKUP(KH4,[1]SILL1!$S$4:$Z$368,6,0)","v":0},{"$f":"VLOOKUP(KI4,[1]SILL1!$S$4:$Z$368,6,0)","v":0},{"$f":"VLOOKUP(KJ4,[1]SILL1!$S$4:$Z$368,6,0)","v":0},{"$f":"VLOOKUP(KK4,[1]SILL1!$S$4:$Z$368,6,0)","v":0},{"$f":"VLOOKUP(KL4,[1]SILL1!$S$4:$Z$368,6,0)","v":0},{"$f":"VLOOKUP(KM4,[1]SILL1!$S$4:$Z$368,8,0)","v":0},{"$f":"VLOOKUP(KN4,[1]SILL1!$S$4:$Z$368,8,0)","v":0},{"$f":"VLOOKUP(KO4,[1]SILL1!$S$4:$Z$368,8,0)","v":0},{"$f":"VLOOKUP(KP4,[1]SILL1!$S$4:$Z$368,8,0)","v":0},{"$f":"VLOOKUP(KQ4,[1]SILL1!$S$4:$Z$368,8,0)","v":0},{"$f":"VLOOKUP(KR4,[1]SILL1!$S$4:$Z$368,8,0)","v":0},{"$f":"VLOOKUP(KS4,[1]SILL1!$S$4:$Z$368,8,0)","v":0},{"$f":"VLOOKUP(KT4,[1]SILL1!$S$4:$Z$368,7,0)","v":0},{"$f":"VLOOKUP(KU4,[1]SILL1!$S$4:$Z$368,7,0)","v":0},{"$f":"VLOOKUP(KV4,[1]SILL1!$S$4:$Z$368,7,0)","v":0},{"$f":"VLOOKUP(KW4,[1]SILL1!$S$4:$Z$368,7,0)","v":0},{"$f":"VLOOKUP(KX4,[1]SILL1!$S$4:$Z$368,7,0)","v":0},{"$f":"VLOOKUP(KY4,[1]SILL1!$S$4:$Z$368,7,0)","v":0},{"$f":"VLOOKUP(KZ4,[1]SILL1!$S$4:$Z$368,7,0)","v":0},{"$f":"VLOOKUP(LA4,[1]SILL1!$S$4:$Z$368,6,0)","v":0},{"$f":"VLOOKUP(LB4,[1]SILL1!$S$4:$Z$368,6,0)","v":0},{"$f":"VLOOKUP(LC4,[1]SILL1!$S$4:$Z$368,6,0)","v":0},{"$f":"VLOOKUP(LD4,[1]SILL1!$S$4:$Z$368,6,0)","v":0},{"$f":"VLOOKUP(LE4,[1]SILL1!$S$4:$Z$368,6,0)","v":0},{"$f":"VLOOKUP(LF4,[1]SILL1!$S$4:$Z$368,6,0)","v":0},{"$f":"VLOOKUP(LG4,[1]SILL1!$S$4:$Z$368,6,0)","v":0},{"$f":"VLOOKUP(LH4,[1]SILL1!$S$4:$Z$368,8,0)","v":0},{"$f":"VLOOKUP(LI4,[1]SILL1!$S$4:$Z$368,8,0)","v":0},{"$f":"VLOOKUP(LJ4,[1]SILL1!$S$4:$Z$368,8,0)","v":0},{"$f":"VLOOKUP(LK4,[1]SILL1!$S$4:$Z$368,8,0)","v":0},{"$f":"VLOOKUP(LL4,[1]SILL1!$S$4:$Z$368,8,0)","v":0},{"$f":"VLOOKUP(LM4,[1]SILL1!$S$4:$Z$368,8,0)","v":0},{"$f":"VLOOKUP(LN4,[1]SILL1!$S$4:$Z$368,8,0)","v":0},{"$f":"VLOOKUP(LO4,[1]SILL1!$S$4:$Z$368,7,0)","v":0},{"$f":"VLOOKUP(LP4,[1]SILL1!$S$4:$Z$368,7,0)","v":0},{"$f":"VLOOKUP(LQ4,[1]SILL1!$S$4:$Z$368,7,0)","v":0},{"$f":"VLOOKUP(LR4,[1]SILL1!$S$4:$Z$368,7,0)","v":0},{"$f":"VLOOKUP(LS4,[1]SILL1!$S$4:$Z$368,7,0)","v":0},{"$f":"VLOOKUP(LT4,[1]SILL1!$S$4:$Z$368,7,0)","v":0},{"$f":"VLOOKUP(LU4,[1]SILL1!$S$4:$Z$368,7,0)","v":0},{"$f":"VLOOKUP(LV4,[1]SILL1!$S$4:$Z$368,6,0)","v":0},{"$f":"VLOOKUP(LW4,[1]SILL1!$S$4:$Z$368,6,0)","v":0},{"$f":"VLOOKUP(LX4,[1]SILL1!$S$4:$Z$368,6,0)","v":0},{"$f":"VLOOKUP(LY4,[1]SILL1!$S$4:$Z$368,6,0)","v":0},{"$f":"VLOOKUP(LZ4,[1]SILL1!$S$4:$Z$368,6,0)","v":0},{"$f":"VLOOKUP(MA4,[1]SILL1!$S$4:$Z$368,6,0)","v":0},{"$f":"VLOOKUP(MB4,[1]SILL1!$S$4:$Z$368,6,0)","v":0},{"$f":"VLOOKUP(MC4,[1]SILL1!$S$4:$Z$368,8,0)","v":0},{"$f":"VLOOKUP(MD4,[1]SILL1!$S$4:$Z$368,8,0)","v":0},{"$f":"VLOOKUP(ME4,[1]SILL1!$S$4:$Z$368,8,0)","v":0},{"$f":"VLOOKUP(MF4,[1]SILL1!$S$4:$Z$368,8,0)","v":0},{"$f":"VLOOKUP(MG4,[1]SILL1!$S$4:$Z$368,8,0)","v":0},{"$f":"VLOOKUP(MH4,[1]SILL1!$S$4:$Z$368,8,0)","v":0},{"$f":"VLOOKUP(MI4,[1]SILL1!$S$4:$Z$368,8,0)","v":0},{"$f":"VLOOKUP(MJ4,[1]SILL1!$S$4:$Z$368,7,0)","v":0},{"$f":"VLOOKUP(MK4,[1]SILL1!$S$4:$Z$368,7,0)","v":0},{"$f":"VLOOKUP(ML4,[1]SILL1!$S$4:$Z$368,7,0)","v":0},{"$f":"VLOOKUP(MM4,[1]SILL1!$S$4:$Z$368,7,0)","v":0},{"$f":"VLOOKUP(MN4,[1]SILL1!$S$4:$Z$368,7,0)","v":0},{"$f":"VLOOKUP(MO4,[1]SILL1!$S$4:$Z$368,7,0)","v":0},{"$f":"VLOOKUP(MP4,[1]SILL1!$S$4:$Z$368,7,0)","v":0},{"$f":"VLOOKUP(MQ4,[1]SILL1!$S$4:$Z$368,6,0)","v":0},{"$f":"VLOOKUP(MR4,[1]SILL1!$S$4:$Z$368,6,0)","v":0},{"$f":"VLOOKUP(MS4,[1]SILL1!$S$4:$Z$368,6,0)","v":0},{"$f":"VLOOKUP(MT4,[1]SILL1!$S$4:$Z$368,6,0)","v":0},{"$f":"VLOOKUP(MU4,[1]SILL1!$S$4:$Z$368,6,0)","v":0},{"$f":"VLOOKUP(MV4,[1]SILL1!$S$4:$Z$368,6,0)","v":0},{"$f":"VLOOKUP(MW4,[1]SILL1!$S$4:$Z$368,6,0)","v":0},{"$f":"VLOOKUP(MX4,[1]SILL1!$S$4:$Z$368,8,0)","v":0},{"$f":"VLOOKUP(MY4,[1]SILL1!$S$4:$Z$368,8,0)","v":0},{"$f":"VLOOKUP(MZ4,[1]SILL1!$S$4:$Z$368,8,0)","v":0},{"$f":"VLOOKUP(NA4,[1]SILL1!$S$4:$Z$368,8,0)","v":0},{"$f":"VLOOKUP(NB4,[1]SILL1!$S$4:$Z$368,8,0)","v":0},{"$f":"VLOOKUP(NC4,[1]SILL1!$S$4:$Z$368,8,0)","v":0},{"$f":"VLOOKUP(ND4,[1]SILL1!$S$4:$Z$368,8,0)","v":0}]
[8.8999999999999996E-2,"t.b.d.","Downtime Technical SILL1 RH [%]",null,{"$f":"IF(E47=\"\",0%,(E48*60)/((E47*62)+(E48*60)))","v":0},{"$f":"IF(F47=\"\",0%,(F48*60)/((F47*62)+(F48*60)))","v":0},0,0,0,0,0,0,0,0,0,0,0,0,0,0,0,0,0,0,0,0,0,0,0,0,0,0,0,0,0,0,0,0,0,0,0,0,0,0,0,0,0,0,0,0,0,0,0,0,0,0,0,0,0,0,0,0,0,0,0,0,0,0,0,{"$f":"IF(BR47=\"\",0%,(BR48*60)/((BR47*62)+(BR48*60)))","v":0},0,0,0,0,0,0,0,0,0,0,0,0,0,0,0,0,0,0,0,0,0,0,0,0,0,0,0,0,0,0,0,0,0,0,0,0,0,0,0,0,0,0,0,0,0,0,0,0,0,0,0,0,0,0,0,0,0,0,0,0,0,0,0,{"$f":"IF(ED47=\"\",0%,(ED48*60)/((ED47*62)+(ED48*60)))","v":0},0,0,0,0,0,4.9417131272174356E-2,0,6.2972292191435769E-2,0,0,0,0.1457176843774782,0,1.4838629899839249E-2,0,0,0,0,0,0,0,0,0,0,3.4465151901965793E-2,0,4.7513462147608487E-2,4.8143789451160802E-2,4.3072505384063174E-2,0,0,1.3308195630475767E-2,1.3981125480601188E-2,0.1314566458637631,0,4.571776897287412E-2,0,0,1.6004267804747934E-2,0,0,0,0,0,0,0,0,0,0,0,0,0,0,9.4906675102815561E-3,3.1590031590031591E-2,0,0,0,0,2.0430400435848543E-2,9.4557680184912798E-2,5.7259193281587989E-2,0,{"$f":"IF(GP47=\"\",0%,(GP48*60)/((GP47*62)+(GP48*60)))","v":0},0,0,0,0,0,0,0,0,0,0,0,0,0,0,0,0,0,0,0,0,0,0,0,0,0,0,0,0,0,0,0,0,0,0.12885016566449872,7.3215375228798049E-2,0,0,0,0,0,0,0,0,0,0,0,3.7588751218153978E-2,0.1020606531881804,0,0,0,0,3.5846576651929743E-3,0,0,0,0,0,0,0,0,0.10257579211306132,0,{"$f":"IF(JB47=\"\",0%,(JB48*60)/((JB47*62)+(JB48*60)))","v":0},0,0,1.4614541468761417E-2,0,2.9177202878817352E-2,2.9898345624875422E-2,0,0,0,3.2185387833923398E-2,0,0,0,0,0,2.1589390356738975E-2,0,0,0,0,0,0,0,0,0,0,0,0,0,0,0,0,0,0,0,0,0,0,0,0,0,0,0,0,0,0,0,0,0,0,0,0,0,0,0,0,0,0,0,0,0,0,0,{"$f":"IF(LN47=\"\",0%,(LN48*60)/((LN47*62)+(LN48*60)))","v":0},0,0,0,0,0,0,0,0,0,0,0,0,0,0,0,0,0,0,0,0,0,0,0,0,0,0,0,0,0,0,0,0,0,0,0,0,0,0,0,0,0,0]
[0,"t.b.d.","Blocked Starved [Min]",null,null,null,null,null,null,null,null,null,null,null,null,null,null,null,null,null,null,null,null,null,null,null,null,null,null,null,null,null,null,null,null,null,null,null,null,null,null,null,null,null,null,null,null,null,null,null,null,null,null,null,null,null,null,null,null,null,null,null,null,null,null,null,null,null,null,null,null,null,null,null,null,null,null,null,null,null,null,null,null,null,null,null,null,null,null,null,null,null,null,null,null,null,null,null,null,null,null,null,null,null,null,null,null,null,null,null,null,null,null,null,null,null,null,null,null,null,null,null,null,null,null,null,null,null,null,null,null,null,null,null,null,null,null,0,0,0,0,0,null,null,null,0,0,0,0,0,null,0,0,0,0,0,null,null,0,0,0,0,0,null,null,0,0,0,0,0,0,null,0,0,0,0,0,null,null,0,0,0,0,0,null,null,0,0,0,0,0,0,null,0,0,0,0,0,null,null,0,0,0,0,null,null,null,null,null,null,null,null,null,null,null,null,null,null,null,null,null,null,null,null,null,null,null,null,0,0,0,0,0,8,null,0,0,0,0,0,null,null,0,0,0,0,0,null,null,0,0,0,0,0,0,null,0,0,0,34,0,null,null,0,0,0,0,0,null,null,0,0,0,0,0,0,null,0,0,0,0,0]
[0,"t.b.d.","Parts at Break [Aantal]",null,null,null,null,null,null,null,null,null,null,null,null,null,null,null,null,null,null,null,null,null,null,null,null,null,null,null,null,null,null,null,null,null,null,null,null,null,null,null,null,null,null,null,null,null,null,null,null,null,null,null,null,null,null,null,null,null,null,null,null,null,null,null,null,null,null,null,null,null,null,null,null,null,null,null,null,null,null,null,null,null,null,null,null,null,null,null,null,null,null,null,null,null,null,null,null,null,null,null,null,null,null,null,null,null,null,null,null,null,null,null,null,null,null,null,null,null,null,null,null,null,null,null,null,null,null,null,null,null,null,null,null,null,null,0,2,8,10,3,null,null,null,10,6,2,4,0,null,0,2,25,5,6,null,null,1,2,1,3,3,null,null,1,3,0,0,0,4,null,10,0,9,7,0,null,null,4,5,2,1,4,null,null,1,7,2,0,1,5,null,5,3,2,4,6,null,null,3,0,0,0,null,null,null,null,null,null,null,null,null,null,null,null,null,null,null,null,null,null,null,null,null,null,null,null,9,4,1,9,25,0,null,6,7,0,3,0,null,null,0,3,0,6,0,null,null,1,0,0,3,1,4,null,5,8,1,23,4,null,null,2,4,1,7,0,null,null,1,3,1,5,4,1,null,0,0,5,6,4]
[0,"t.b.d.","Planned Stop [Min]",null,null,null,null,null,null,null,null,null,null,null,null,null,null,null,null,null,null,null,null,null,null,null,null,null,null,null,null,null,null,null,null,null,null,null,null,null,null,null,null,null,null,null,null,null,null,null,null,null,null,null,null,null,null,null,null,null,null,null,null,null,null,null,null,null,null,null,null,null,null,null,null,null,null,null,null,null,null,null,null,null,null,null,null,null,null,null,null,null,null,null,null,null,null,null,null,null,null,null,null,null,null,null,null,null,null,null,null,null,null,null,null,null,null,null,null,null,null,null,null,null,null,null,null,null,null,null,null,null,null,null,null,null,null,0,0,0,0,0,null,null,null,0,0,0,0,0,null,0,0,0,0,0,null,null,0,0,0,0,0,null,null,0,0,0,0,0,0,null,0,0,0,0,0,null,null,0,0,0,0,0,null,null,0,0,0,0,35,0,null,0,0,0,0,0,null,null,0,30,0,0,null,null,null,null,null,null,null,null,null,null,null,null,null,null,null,null,null,null,null,null,null,null,null,null,0,0,0,0,0,0,null,0,0,0,0,0,null,null,0,0,30,0,0,null,null,0,0,0,0,0,0,null,0,0,0,0,0,null,null,0,0,0,0,0,null,null,0,0,0,0,35,0,null,0,0,0,0,0]
["Plan","Plan","Realized Average",null,{"$f":"IFERROR((E29+E35+E41+E47)/4,\"-\")","v":0},0,0,0,0,0,0,0,0,0,0,0,0,0,0,0,0,0,0,0,0,0,0,0,0,0,0,0,0,0,0,0,0,0,0,0,0,0,0,0,0,0,0,0,0,0,0,0,0,0,0,0,0,0,0,0,0,0,0,0,0,0,0,0,{"$f":"IFERROR((BQ29+BQ35+BQ41+BQ47)/4,\"-\")","v":0},0,0,0,0,0,0,0,0,0,0,0,0,0,0,0,0,0,0,0,0,0,0,0,0,0,0,{"$f":"IFERROR((CR29+CR35+CR41+CR47)/4,\"-\")","v":0},{"$f":"IFERROR((CS29+CS35+CS41+CS47)/4,\"-\")","v":0},0,0,0,{"$f":"IFERROR((CW29+CW35+CW41+CW47)/4,\"-\")","v":0},{"$f":"IFERROR((CX29+CX35+CX41+CX47)/4,\"-\")","v":0},0,0,0,0,0,{"$f":"IFERROR((DD29+DD35+DD41+DD47)/4,\"-\")","v":0},0,{"$f":"IFERROR((DF29+DF35+DF41+DF47)/4,\"-\")","v":0},0,0,0,0,0,0,0,0,0,0,0,0,0,0,0,0,0,0,0,0,0,0,0,0,0,0,0,300.75,263.5,280.75,275.25,234.25,0,0,0,273.5,284,275,256.75,220.5,0,245,252.75,295.5,313,270.75,0,0,247.75,270,283.75,297.5,315,0,0,277.75,302.75,317.5,260.25,245.5,113.5,0,235.5,{"$f":"IFERROR((FR29+FR35+FR41+FR47)/4,\"-\")","v":125.25},289.5,293.25,204.75,0,0,295.25,307,303.5,306.5,19.75,0,0,239.5,321.25,299.5,282.5,257.25,179.75,0,271.5,323,295.25,252.25,297,0,0,265.5,217.75,299,64.25,0,0,0,0,0,0,0,0,0,0,0,0,0,0,0,0,0,0,0,0,0,0,0,0,244,283,245.5,204.5,297.25,371.25,0,211.25,275,{"$f":"IFERROR((ID29+ID35+ID41+ID47)/4,\"-\")","v":226.5},261.25,261.75,0,0,327.5,305.75,285.75,333.75,334.75,0,0,297.75,283.5,299.5,269.25,207.75,212.75,0,264,279.75,293,309.5,301,0,0,238.25,281.75,313.5,338,311.25,0,0,326.25,343.25,351.75,293.75,271.25,254.25,0,336,275.25,304.75,316.25,280.75,0,0,0,0,0,0,0,0,0,0,0,0,0,0,0,0,0,0,0,{"$f":"IFERROR((KP29+KP35+KP41+KP47)/4,\"-\")","v":0},0,0,0,0,0,0,0,0,0,0,0,0,0,0,0,0,0,0,0,0,0,0,0,0,0,0,0,0,0,0,0,0,0,0,0,0,0,0,0,0,0,0,0,0,0,0,0,0,0,0,0,0,0,0,0,0,0,0,0,0,0,0,0,{"$f":"IFERROR((NB29+NB35+NB41+NB47)/4,\"-\")","v":0},0,0]
[8.8999999999999996E-2,"t.b.d.","Downtime Technical Gemiddeld [Min]",null,{"$f":"SUM(E30,E36,E42,E48)/4","v":0},{"$f":"SUM(F30,F36,F42,F48)/4","v":0},{"$f":"SUM(G30,G36,G42,G48)/4","v":0},0,0,0,0,14.25,7.5,22.5,27.5,19,0,0,42.25,19,17.5,17.5,18,0,0,0,0,0,0,0,0,0,11.25,14,11.25,8.75,11.5,0,0,12,19,77.25,19.25,22.5,0,0,0,0,0,0,8.75,0,0,19.5,13.25,24,14,11,0,0,0.75,10.25,10.25,18.5,21,0,0,0,0,0,{"$f":"SUM(BS30,BS36,BS42,BS48)/4","v":0},0,0,0,31,17.5,14.25,8.75,36.25,0,0,12.25,11.75,12.75,10,22.75,0,0,0,0,0,0,0,0,0,0,22.75,26.25,15.5,22,0,0,35.25,24.25,21.75,22,29.75,0,0,14,18.75,42.5,8,20.25,0,0,21,46.75,22,17,0,0,0,17.5,29.5,56,26.25,55.5,39.5,0,17.75,33.5,40,0,{"$f":"SUM(EE30,EE36,EE42,EE48)/4","v":12.5},0,0,38.5,28,32.25,16.25,29.5,0,0,0,35.5,13.25,26.75,10.25,19,0,6,26.75,20,21,1.5,0,0,15.5,6.75,25.25,44.25,34,0,0,40.5,15.25,28.5,11.25,8.5,0,0,15,0,22.5,28,0,0,0,28.5,33.25,24,10,0,0,0,19,13.25,18.75,11.25,27.75,0,0,42.5,33.5,14.25,0,0,{"$f":"SUM(GQ30,GQ36,GQ42,GQ48)/4","v":0},0,30.25,48,25.75,0,0,0,0,0,0,0,0,0,0,0,0,0,0,0,0,0,0,0,0,0,0,0,0,0,30.75,17.75,7.5,22.5,17.75,0,0,25.75,6.25,14,23.75,0,0,0,18.75,43,44.25,29,42.5,0,0,21.75,47.25,34.5,19.75,9.75,0,0,34.75,20.25,8,11.5,0,0,{"$f":"SUM(JC30,JC36,JC42,JC48)/4","v":0},29.75,18.75,30.75,24.25,14.5,0,0,17.5,15,37.25,21.75,0,0,0,24.25,9,9.5,0,0,0,0,0,0,0,0,0,0,0,0,0,0,0,0,0,0,0,0,0,0,0,0,0,0,0,0,0,0,0,0,0,0,0,0,0,0,0,0,0,0,0,0,0,0,{"$f":"SUM(LO30,LO36,LO42,LO48)/4","v":0},0,0,0,0,0,0,0,0,0,0,0,0,0,0,0,0,0,0,0,0,0,0,0,0,0,0,0,0,0,0,0,0,0,0,0,0,0,0,0,0,0]
[8.8999999999999996E-2,"t.b.d.","Downtime Technical Gemiddeld [%]",null,{"$f":"SUM(E31,E37,E43,E49)/4","v":0},{"$f":"SUM(F31,F37,F43,F49)/4","v":0},0,0,0,0,0,0,0,0,0,0,0,0,0,0,0,0,0,0,0,0,0,0,0,0,0,0,0,0,0,0,0,0,0,0,0,0,0,0,0,0,0,0,0,0,0,0,0,0,0,0,0,0,0,0,0,0,0,0,0,0,0,0,0,{"$f":"SUM(BR31,BR37,BR43,BR49)/4","v":0},0,0,0,0,0,0,0,0,0,0,0,0,0,0,0,0,0,0,0,0,0,0,0,0,0,0,0,0,0,0,0,0,0,0,0,0,0,0,0,0,0,0,0,0,0,0,0,0,0,0,0,0,0,0,0,0,0,0,0,0,0,0,0,{"$f":"SUM(ED31,ED37,ED43,ED49)/4","v":0},0,0,0,0.10846146991419051,9.7239034233290902E-2,8.4428975611694823E-2,4.8271625535402957E-2,0.1048052191580198,0,0,0,0.11052190355525912,3.6708883045414357E-2,8.2479063802807728E-2,3.1829596287869612E-2,5.3116474916993332E-2,0,1.9592705952997426E-2,7.6966220597255497E-2,5.7613519559910523E-2,6.0182143095311558E-2,4.2718815264856658E-3,0,0,5.3003439769176652E-2,2.018086281957783E-2,7.2343863131324598E-2,0.11523721690328552,8.4203032402194317E-2,0,0,0.12020753057840762,4.3480918148932297E-2,7.7783443422955165E-2,3.5266553900560417E-2,3.0452904513351694E-2,0,0,5.0210770989034932E-2,0,5.4872423932909108E-2,6.9080981165967462E-2,0,0,0,7.7980876884600411E-2,7.5188502685956046E-2,6.8414227311032638E-2,2.5106303265846279E-2,{"$error":"#DIV/0!"},0,0,6.5764038981981618E-2,3.6153135607585117E-2,5.2073135305407615E-2,3.3740545344044776E-2,7.5578950508458101E-2,0,0,0.12008459908581284,9.3543672777679443E-2,4.4766362748035887E-2,0,{"$f":"SUM(GP31,GP37,GP43,GP49)/4","v":0},0,0,9.3275048951858897E-2,0.14361946762790406,8.0266396572354987E-2,0,0,0,0,0,0,0,0,0,0,0,0,0,0,0,0,0,0,0,0,0,0,0,0,0,9.2401415114544971E-2,5.330994937417214E-2,2.6762769486493546E-2,9.7870444209052554E-2,5.2128080301773017E-2,0,0,9.9434640224042484E-2,1.7530058872386685E-2,4.5904327960366531E-2,5.6953209923020789E-2,0,0,0,4.7508261730180079E-2,9.5455889417767517E-2,0.10805408355392747,7.1708363057099211E-2,9.0267551464682738E-2,0,0,6.4314753097541338E-2,0.11718000520875735,7.530812356372274E-2,5.1429959038766931E-2,3.2528454913384491E-2,0,0,8.3347720241091744E-2,5.8683674057567886E-2,2.094874642276703E-2,3.65414552053063E-2,0,{"$f":"SUM(JB31,JB37,JB43,JB49)/4","v":0},0,8.5537598064443637E-2,5.0535908103497278E-2,8.0843735285686835E-2,5.9506392284546114E-2,4.144040203468799E-2,0,0,4.2246122512134769E-2,3.7528100925339411E-2,7.7845059425009189E-2,6.0091435939608938E-2,0,0,0,5.8467816950151096E-2,2.6637944264225187E-2,2.6108614014465396E-2,0,0,0,0,0,0,0,0,0,0,0,0,0,0,0,0,0,0,0,0,0,0,0,0,0,0,0,0,0,0,0,0,0,0,0,0,0,0,0,0,0,0,0,0,0,{"$f":"SUM(LN31,LN37,LN43,LN49)/4","v":0},0,0,0,0,0,0,0,0,0,0,0,0,0,0,0,0,0,0,0,0,0,0,0,0,0,0,0,0,0,0,0,0,0,0,0,0,0,0,0,0,0,0]
[3,"Quality (Q)",null,null,null," "," "," "," "," "," "," "," "," "," "," "," "," "," "," "," "," "," "," "," "," "," "," "," "," "," "," "," "," "," "," "," "," "," "," "," "," "," "," "," "," "," "," "," "," "," "," "," "," "," "," "," "," "," "," "," "," "," "," "," "," "," "," "," "," "," "," "," "," "," "," "," "," "," "," "," "," "," "," "," "," "," "," "," "," "," "," "," "," "," ",null,null," ",null," ",null," ",null," ",null," ",null," "]
["Goal",null,"K.P.I."]
[]
[0,0,"Q-Remarks","COÖRDINATOR / STERSPELER",null,null,null,null,null,null,null,null,null,null,null,null,null,null,null,null,null,null,null,null,null,null,null,null,null,null,null,null,null,null,null,null,null,null,null,null,null,null,null,null,null,null,null,null,null,null,null,null,null,null,null,null,null,null,null,null,null,null,null,null,null,null,null,null,null,null,null,null,null,null,null,null,null,null,null,null,null,null,null,null,null,null,null,null,null,null,null,null,null,null,null,null,null,null,null,null,null,null,null,null,null,null,null,null,null,null,null,null,null,null,null,null,null,null,null,null,null,null,null,null,null,null,null,null,null,null,null,null,null,null,null,null,null,0,0,0,0,0,null,null,null,0,0,0,0,0,null,0,0,0,0,0,null,null,0,0,0,0,0,null,null,0,0,0,0,0,0,null,0,0,0,0,0,null,null,0,0,0,0,0,null,null,0,0,0,0,0,0,null,0,0,0,0,0,null,null,0,0,0,0,null,null,null,null,null,null,null,null,null,null,null,null,null,null,null,null,null,null,null,null,null,null,null,null,0,0,0,0,0,0,null,0,0,0,0,0,null,null,0,0,0,0,0,null,null,0,0,0,0,0,0,null,0,0,0,0,0,null,null,0,0,0,0,0,null,null,0,0,0,0,0,0,null,0,0,0,0,0]
[1,1,"SQA Reports",null,null,null,null,null,null,null,null,null,null,null,null,null,null,null,null,null,null,null,null,null,null,null,null,null,null,null,null,null,null,null,null,null,null,null,null,null,null,null,null,null,null,null,null,null,null,null,null,null,null,null,null,null,null,null,null,null,null,null,null,null,null,null,null,null,null,null,null,null,null,null,null,null,null,null,null,null,null,null,null,null,null,null,null,null,null,null,null,null,null,null,null,null,null,null,null,null,null,null,null,null,null,null,null,null,null,null,null,null,null,null,null,null,null,null,null,null,null,null,null,null,null,null,null,null,null,null,null,null,null,null,null,null,null,0,0,0,0,0,null,null,null,0,0,0,0,0,null,0,0,0,0,0,null,null,0,0,0,0,0,null,null,0,0,0,0,0,0,null,0,0,0,0,0,null,null,0,0,0,0,0,null,null,0,0,0,0,0,0,null,0,0,0,0,0,null,null,0,0,0,0,null,null,null,null,null,null,null,null,null,null,null,null,null,null,null,null,null,null,null,null,null,null,null,null,0,0,0,0,0,0,null,0,0,0,0,0,null,null,0,0,0,0,0,null,null,0,0,0,0,0,0,null,0,0,0,0,0,null,null,0,0,0,0,0,null,null,0,0,0,0,0,0,null,1,0,0,0,0]
[0.995,"t.b.d.","No Touch",null,null,null,null,null,null,null,null,null,null,null,null,null,null,null,null,null,null,null,null,null,null,null,null,null,null,null,null,null,null,null,null,null,null,null,null,null,null,null,null,null,null,null,null,null,null,null,null,null,null,null,null,null,null,null,null,null,null,null,null,null,null,null,null,null,null,null,null,null,null,null,null,null,null,null,null,null,null,null,null,null,null,null,null,null,null,null,null,null,null,null,null,null,null,null,null,null,null,null,null,null,null,null,null,null,null,null,null,null,null,null,null,null,null,null,null,null,null,null,null,null,null,null,null,null,null,null,null,null,null,null,null,null,null,0.99519999999999997,0.99709999999999999,0.98740000000000006,0.99929999999999997,0.99339999999999995,null,null,null,0.9879,0.98729999999999996,0.99209999999999998,0.91110000000000002,0.98729999999999996,null,0.97550000000000003,0.98160000000000003,0.99250000000000005,0.99080000000000001,0.98760000000000003,null,null,0.98419999999999996,0.98980000000000001,0.98770000000000002,0.99,0.98319999999999996,null,null,0.99609999999999999,0.98650000000000004,0.99239999999999995,0.98719999999999997,0.99170000000000003,1,null,0.99670000000000003,0.99,0.98399999999999999,0.99370000000000003,0.98309999999999997,null,null,0.9869,0.98819999999999997,0.98799999999999999,0.98919999999999997,0.98970000000000002,null,null,0.9919,0.98760000000000003,0.99419999999999997,0.98670000000000002,0.98970000000000002,0.98370000000000002,null,0.9879,0.98240000000000005,0.98970000000000002,0.98970000000000002,0.98980000000000001,null,null,0.98719999999999997,0.98760000000000003,0.99219999999999997,0.98929999999999996,null,null,null,null,null,null,null,null,null,null,null,null,null,null,null,null,null,null,null,null,null,0.97929999999999995,null,null,0.99270000000000003,0.99180000000000001,0.995,0.99029999999999996,0.99029999999999996,0.99399999999999999,null,0.99219999999999997,0.99660000000000004,0.99099999999999999,0.99339999999999995,0.99099999999999999,null,null,0.99239999999999995,0.98880000000000001,0.98650000000000004,0.98509999999999998,0.98970000000000002,null,null,0.99639999999999995,0.98540000000000005,0.99370000000000003,0.96960000000000002,0.96779999999999999,0.97209999999999996,null,0.97929999999999995,0.9667,0.97650000000000003,0.99050000000000005,0.98809999999999998,null,null,0.99219999999999997,0.99099999999999999,0.99,0.98929999999999996,"98.41%",null,null,"98.76%","98.71%",0.98309999999999997,"98.23%","98.37%","98.52%",null,"99.38%",0.97760000000000002,"98.88%",0.99490000000000001,"97.24%"]
[0,"t.b.d."]
[0,"t.b.d."]
[0,"t.b.d."]
[0,"t.b.d."]
[1,0,"FTC Finishline [#]",null,null,null,null,null,null,null,null,null,null,null,null,null,null,null,null,null,null,null,null,null,null,null,null,null,null,null,null,null,null,null,null,null,null,null,null,null,null,null,null,null,null,null,null,null,null,null,null,null,null,null,null,null,null,null,null,null,null,null,null,null,null,null,null,null,null,null,null,null,null,null,null,null,null,null,null,null,null,null,null,null,null,null,null,null,null,null,null,null,null,null,null,null,null,null,null,null,null,null,null,null,null,null,null,null,null,null,null,null,null,null,null,null,null,null,null,null,null,null,null,null,null,null,null,null,null,null,null,null,null,null,null,null,null,0,0,0,0,0,null,null,null,0,0,0,0,0,null,0,0,0,0,0,null,null,0,0,0,0,0,null,null,0,0,0,0,0,0,null,0,0,0,0,0,null,null,0,0,0,0,0,null,null,0,null,null,null,0,null,null,0,0,0,0,0,null,null,0,0,0,0,null,null,null,null,null,null,null,null,null,null,null,null,null,null,null,null,null,null,null,null,null,null,null,null,0,0,0,0,null,0,null,0,0,0,0,0,null,null,0,0,0,0,0,null,null,0,0,0,0,null,null,null,0,0,0,0,0,null,null,0,0,0,0,0,null,null,0,0,0,0,0,0,null,0,0,0,0,0]
[0,0,"FTC Big Panel [#]",null,null,null,null,null,null,null,null,null,null,null,null,null,null,null,null,null,null,null,null,null,null,null,null,null,null,null,null,null,null,null,null,null,null,null,null,null,null,null,null,null,null,null,null,null,null,null,null,null,null,null,null,null,null,null,null,null,null,null,null,null,null,null,null,null,null,null,null,null,null,null,null,null,null,null,null,null,null,null,null,null,null,null,null,null,null,null,null,null,null,null,null,null,null,null,null,null,null,null,null,null,null,null,null,null,null,null,null,null,null,null,null,null,null,null,null,null,null,null,null,null,null,null,null,null,null,null,null,null,null,null,null,null,null,0,0,0,0,0,null,null,null,0,0,0,0,0,null,0,0,0,0,0,null,null,0,0,0,0,0,null,null,0,0,0,0,0,0,null,0,0,0,0,0,null,null,0,0,0,0,0,null,null,0,null,null,null,0,null,null,0,0,0,0,0,null,null,0,0,0,0,null,null,null,null,null,null,null,null,null,null,null,null,null,null,null,null,null,null,null,null,null,null,null,null,0,0,0,0,null,0,null,0,0,0,0,0,null,null,0,0,0,0,0,null,null,0,0,0,0,null,null,null,0,0,0,0,0,null,null,0,0,0,0,0,null,null,0,0,0,0,0,0,null,0,0,0,0,0]
[0,0,"FTC FAS [#]",null,null,null,null,null,null,null,null,null,null,null,null,null,null,null,null,null,null,null,null,null,null,null,null,null,null,null,null,null,null,null,null,null,null,null,null,null,null,null,null,null,null,null,null,null,null,null,null,null,null,null,null,null,null,null,null,null,null,null,null,null,null,null,null,null,null,null,null,null,null,null,null,null,null,null,null,null,null,null,null,null,null,null,null,null,null,null,null,null,null,null,null,null,null,null,null,null,null,null,null,null,null,null,null,null,null,null,null,null,null,null,null,null,null,null,null,null,null,null,null,null,null,null,null,null,null,null,null,null,null,null,null,null,null,0,0,0,0,0,null,null,null,0,0,0,0,0,null,0,0,0,0,0,null,null,0,0,0,0,0,null,null,0,0,0,0,0,0,null,0,0,0,0,0,null,null,0,0,0,0,0,null,null,0,null,null,null,0,null,null,0,0,0,0,0,null,null,0,0,0,0,null,null,null,null,null,null,null,null,null,null,null,null,null,null,null,null,null,null,null,null,null,null,null,null,0,0,0,0,null,0,null,0,0,0,0,0,null,null,0,0,0,0,0,null,null,0,0,0,0,null,null,null,0,0,0,0,0,null,null,0,0,0,0,1,null,null,0,0,0,0,0,0,null,0,0,0,0,0]
[0.95,"t.b.d.","FTC [%]",null,{"$f":"IFERROR((1-(E66+E67+E68)/E53),0%)","v":0},{"$f":"IFERROR((1-(F66+F67+F68)/F53),0%)","v":0},{"$f":"IFERROR((1-(G66+G67+G68)/G53),0%)","v":0},{"$f":"IFERROR((1-(H66+H67+H68)/H53),0%)","v":0},{"$f":"IFERROR((1-(I66+I67+I68)/I53),0%)","v":0},{"$f":"IFERROR((1-(J66+J67+J68)/J53),0%)","v":0},{"$f":"IFERROR((1-(K66+K67+K68)/K53),0%)","v":0},{"$f":"IFERROR((1-(L66+L67+L68)/L53),0%)","v":0},{"$f":"IFERROR((1-(M66+M67+M68)/M53),0%)","v":0},{"$f":"IFERROR((1-(N66+N67+N68)/N53),0%)","v":0},{"$f":"IFERROR((1-(O66+O67+O68)/O53),0%)","v":0},{"$f":"IFERROR((1-(P66+P67+P68)/P53),0%)","v":0},{"$f":"IFERROR((1-(Q66+Q67+Q68)/Q53),0%)","v":0},{"$f":"IFERROR((1-(R66+R67+R68)/R53),0%)","v":0},{"$f":"IFERROR((1-(S66+S67+S68)/S53),0%)","v":0},{"$f":"IFERROR((1-(T66+T67+T68)/T53),0%)","v":0},{"$f":"IFERROR((1-(U66+U67+U68)/U53),0%)","v":0},{"$f":"IFERROR((1-(V66+V67+V68)/V53),0%)","v":0},{"$f":"IFERROR((1-(W66+W67+W68)/W53),0%)","v":0},{"$f":"IFERROR((1-(X66+X67+X68)/X53),0%)","v":0},{"$f":"IFERROR((1-(Y66+Y67+Y68)/Y53),0%)","v":0},{"$f":"IFERROR((1-(Z66+Z67+Z68)/Z53),0%)","v":0},{"$f":"IFERROR((1-(AA66+AA67+AA68)/AA53),0%)","v":0},{"$f":"IFERROR((1-(AB66+AB67+AB68)/AB53),0%)","v":0},{"$f":"IFERROR((1-(AC66+AC67+AC68)/AC53),0%)","v":0},{"$f":"IFERROR((1-(AD66+AD67+AD68)/AD53),0%)","v":0},{"$f":"IFERROR((1-(AE66+AE67+AE68)/AE53),0%)","v":0},{"$f":"IFERROR((1-(AF66+AF67+AF68)/AF53),0%)","v":0},{"$f":"IFERROR((1-(AG66+AG67+AG68)/AG53),0%)","v":0},{"$f":"IFERROR((1-(AH66+AH67+AH68)/AH53),0%)","v":0},{"$f":"IFERROR((1-(AI66+AI67+AI68)/AI53),0%)","v":0},{"$f":"IFERROR((1-(AJ66+AJ67+AJ68)/AJ53),0%)","v":0},{"$f":"IFERROR((1-(AK66+AK67+AK68)/AK53),0%)","v":0},{"$f":"IFERROR((1-(AL66+AL67+AL68)/AL53),0%)","v":0},{"$f":"IFERROR((1-(AM66+AM67+AM68)/AM53),0%)","v":0},{"$f":"IFERROR((1-(AN66+AN67+AN68)/AN53),0%)","v":0},{"$f":"IFERROR((1-(AO66+AO67+AO68)/AO53),0%)","v":0},{"$f":"IFERROR((1-(AP66+AP67+AP68)/AP53),0%)","v":0},{"$f":"IFERROR((1-(AQ66+AQ67+AQ68)/AQ53),0%)","v":0},{"$f":"IFERROR((1-(AR66+AR67+AR68)/AR53),0%)","v":0},{"$f":"IFERROR((1-(AS66+AS67+AS68)/AS53),0%)","v":0},{"$f":"IFERROR((1-(AT66+AT67+AT68)/AT53),0%)","v":0},{"$f":"IFERROR((1-(AU66+AU67+AU68)/AU53),0%)","v":0},{"$f":"IFERROR((1-(AV66+AV67+AV68)/AV53),0%)","v":0},{"$f":"IFERROR((1-(AW66+AW67+AW68)/AW53),0%)","v":0},{"$f":"IFERROR((1-(AX66+AX67+AX68)/AX53),0%)","v":0},{"$f":"IFERROR((1-(AY66+AY67+AY68)/AY53),0%)","v":0},{"$f":"IFERROR((1-(AZ66+AZ67+AZ68)/AZ53),0%)","v":0},{"$f":"IFERROR((1-(BA66+BA67+BA68)/BA53),0%)","v":0},{"$f":"IFERROR((1-(BB66+BB67+BB68)/BB53),0%)","v":0},{"$f":"IFERROR((1-(BC66+BC67+BC68)/BC53),0%)","v":0},{"$f":"IFERROR((1-(BD66+BD67+BD68)/BD53),0%)","v":0},{"$f":"IFERROR((1-(BE66+BE67+BE68)/BE53),0%)","v":0},{"$f":"IFERROR((1-(BF66+BF67+BF68)/BF53),0%)","v":0},{"$f":"IFERROR((1-(BG66+BG67+BG68)/BG53),0%)","v":0},{"$f":"IFERROR((1-(BH66+BH67+BH68)/BH53),0%)","v":0},{"$f":"IFERROR((1-(BI66+BI67+BI68)/BI53),0%)","v":0},{"$f":"IFERROR((1-(BJ66+BJ67+BJ68)/BJ53),0%)","v":0},{"$f":"IFERROR((1-(BK66+BK67+BK68)/BK53),0%)","v":0},{"$f":"IFERROR((1-(BL66+BL67+BL68)/BL53),0%)","v":0},{"$f":"IFERROR((1-(BM66+BM67+BM68)/BM53),0%)","v":0},{"$f":"IFERROR((1-(BN66+BN67+BN68)/BN53),0%)","v":0},{"$f":"IFERROR((1-(BO66+BO67+BO68)/BO53),0%)","v":0},{"$f":"IFERROR((1-(BP66+BP67+BP68)/BP53),0%)","v":0},{"$f":"IFERROR((1-(BQ66+BQ67+BQ68)/BQ53),0%)","v":0},{"$f":"IFERROR((1-(BR66+BR67+BR68)/BR53),0%)","v":0},{"$f":"IFERROR((1-(BS66+BS67+BS68)/BS53),0%)","v":0},{"$f":"IFERROR((1-(BT66+BT67+BT68)/BT53),0%)","v":0},{"$f":"IFERROR((1-(BU66+BU67+BU68)/BU53),0%)","v":0},{"$f":"IFERROR((1-(BV66+BV67+BV68)/BV53),0%)","v":0},{"$f":"IFERROR((1-(BW66+BW67+BW68)/BW53),0%)","v":0},{"$f":"IFERROR((1-(BX66+BX67+BX68)/BX53),0%)","v":0},{"$f":"IFERROR((1-(BY66+BY67+BY68)/BY53),0%)","v":0},{"$f":"IFERROR((1-(BZ66+BZ67+BZ68)/BZ53),0%)","v":0},{"$f":"IFERROR((1-(CA66+CA67+CA68)/CA53),0%)","v":0},{"$f":"IFERROR((1-(CB66+CB67+CB68)/CB53),0%)","v":0},{"$f":"IFERROR((1-(CC66+CC67+CC68)/CC53),0%)","v":0},{"$f":"IFERROR((1-(CD66+CD67+CD68)/CD53),0%)","v":0},{"$f":"IFERROR((1-(CE66+CE67+CE68)/CE53),0%)","v":0},{"$f":"IFERROR((1-(CF66+CF67+CF68)/CF53),0%)","v":0},{"$f":"IFERROR((1-(CG66+CG67+CG68)/CG53),0%)","v":0},{"$f":"IFERROR((1-(CH66+CH67+CH68)/CH53),0%)","v":0},{"$f":"IFERROR((1-(CI66+CI67+CI68)/CI53),0%)","v":0},{"$f":"IFERROR((1-(CJ66+CJ67+CJ68)/CJ53),0%)","v":0},{"$f":"IFERROR((1-(CK66+CK67+CK68)/CK53),0%)","v":0},{"$f":"IFERROR((1-(CL66+CL67+CL68)/CL53),0%)","v":0},{"$f":"IFERROR((1-(CM66+CM67+CM68)/CM53),0%)","v":0},{"$f":"IFERROR((1-(CN66+CN67+CN68)/CN53),0%)","v":0},{"$f":"IFERROR((1-(CO66+CO67+CO68)/CO53),0%)","v":0},{"$f":"IFERROR((1-(CP66+CP67+CP68)/CP53),0%)","v":0},{"$f":"IFERROR((1-(CQ66+CQ67+CQ68)/CQ53),0%)","v":0},{"$f":"IFERROR((1-(CR66+CR67+CR68)/CR53),0%)","v":0},{"$f":"IFERROR((1-(CS66+CS67+CS68)/CS53),0%)","v":0},{"$f":"IFERROR((1-(CT66+CT67+CT68)/CT53),0%)","v":0},{"$f":"IFERROR((1-(CU66+CU67+CU68)/CU53),0%)","v":0},{"$f":"IFERROR((1-(CV66+CV67+CV68)/CV53),0%)","v":0},{"$f":"IFERROR((1-(CW66+CW67+CW68)/CW53),0%)","v":0},{"$f":"IFERROR((1-(CX66+CX67+CX68)/CX53),0%)","v":0},{"$f":"IFERROR((1-(CY66+CY67+CY68)/CY53),0%)","v":0},{"$f":"IFERROR((1-(CZ66+CZ67+CZ68)/CZ53),0%)","v":0},{"$f":"IFERROR((1-(DA66+DA67+DA68)/DA53),0%)","v":0},{"$f":"IFERROR((1-(DB66+DB67+DB68)/DB53),0%)","v":0},{"$f":"IFERROR((1-(DC66+DC67+DC68)/DC53),0%)","v":0},{"$f":"IFERROR((1-(DD66+DD67+DD68)/DD53),0%)","v":0},{"$f":"IFERROR((1-(DE66+DE67+DE68)/DE53),0%)","v":0},{"$f":"IFERROR((1-(DF66+DF67+DF68)/DF53),0%)","v":0},{"$f":"IFERROR((1-(DG66+DG67+DG68)/DG53),0%)","v":0},{"$f":"IFERROR((1-(DH66+DH67+DH68)/DH53),0%)","v":0},{"$f":"IFERROR((1-(DI66+DI67+DI68)/DI53),0%)","v":0},{"$f":"IFERROR((1-(DJ66+DJ67+DJ68)/DJ53),0%)","v":0},{"$f":"IFERROR((1-(DK66+DK67+DK68)/DK53),0%)","v":0},{"$f":"IFERROR((1-(DL66+DL67+DL68)/DL53),0%)","v":0},{"$f":"IFERROR((1-(DM66+DM67+DM68)/DM53),0%)","v":0},{"$f":"IFERROR((1-(DN66+DN67+DN68)/DN53),0%)","v":0},{"$f":"IFERROR((1-(DO66+DO67+DO68)/DO53),0%)","v":0},{"$f":"IFERROR((1-(DP66+DP67+DP68)/DP53),0%)","v":0},{"$f":"IFERROR((1-(DQ66+DQ67+DQ68)/DQ53),0%)","v":0},{"$f":"IFERROR((1-(DR66+DR67+DR68)/DR53),0%)","v":0},{"$f":"IFERROR((1-(DS66+DS67+DS68)/DS53),0%)","v":0},{"$f":"IFERROR((1-(DT66+DT67+DT68)/DT53),0%)","v":0},{"$f":"IFERROR((1-(DU66+DU67+DU68)/DU53),0%)","v":0},{"$f":"IFERROR((1-(DV66+DV67+DV68)/DV53),0%)","v":0},{"$f":"IFERROR((1-(DW66+DW67+DW68)/DW53),0%)","v":0},{"$f":"IFERROR((1-(DX66+DX67+DX68)/DX53),0%)","v":0},{"$f":"IFERROR((1-(DY66+DY67+DY68)/DY53),0%)","v":0},{"$f":"IFERROR((1-(DZ66+DZ67+DZ68)/DZ53),0%)","v":0},{"$f":"IFERROR((1-(EA66+EA67+EA68)/EA53),0%)","v":0},{"$f":"IFERROR((1-(EB66+EB67+EB68)/EB53),0%)","v":0},{"$f":"IFERROR((1-(EC66+EC67+EC68)/EC53),0%)","v":0},{"$f":"IFERROR((1-(ED66+ED67+ED68)/ED53),0%)","v":0},{"$f":"IFERROR((1-(EE66+EE67+EE68)/EE53),0%)","v":0},{"$f":"IFERROR((1-(EF66+EF67+EF68)/EF53),0%)","v":0},{"$f":"IFERROR((1-(EG66+EG67+EG68)/EG53),0%)","v":0},{"$f":"IFERROR((1-(EH66+EH67+EH68)/EH53),0%)","v":1},{"$f":"IFERROR((1-(EI66+EI67+EI68)/EI53),0%)","v":1},{"$f":"IFERROR((1-(EJ66+EJ67+EJ68)/EJ53),0%)","v":1},{"$f":"IFERROR((1-(EK66+EK67+EK68)/EK53),0%)","v":1},{"$f":"IFERROR((1-(EL66+EL67+EL68)/EL53),0%)","v":1},{"$f":"IFERROR((1-(EM66+EM67+EM68)/EM53),0%)","v":0},{"$f":"IFERROR((1-(EN66+EN67+EN68)/EN53),0%)","v":0},{"$f":"IFERROR((1-(EO66+EO67+EO68)/EO53),0%)","v":0},{"$f":"IFERROR((1-(EP66+EP67+EP68)/EP53),0%)","v":1},{"$f":"IFERROR((1-(EQ66+EQ67+EQ68)/EQ53),0%)","v":1},{"$f":"IFERROR((1-(ER66+ER67+ER68)/ER53),0%)","v":1},{"$f":"IFERROR((1-(ES66+ES67+ES68)/ES53),0%)","v":1},{"$f":"IFERROR((1-(ET66+ET67+ET68)/ET53),0%)","v":1},{"$f":"IFERROR((1-(EU66+EU67+EU68)/EU53),0%)","v":0},{"$f":"IFERROR((1-(EV66+EV67+EV68)/EV53),0%)","v":1},{"$f":"IFERROR((1-(EW66+EW67+EW68)/EW53),0%)","v":1},{"$f":"IFERROR((1-(EX66+EX67+EX68)/EX53),0%)","v":1},{"$f":"IFERROR((1-(EY66+EY67+EY68)/EY53),0%)","v":1},{"$f":"IFERROR((1-(EZ66+EZ67+EZ68)/EZ53),0%)","v":1},{"$f":"IFERROR((1-(FA66+FA67+FA68)/FA53),0%)","v":0},{"$f":"IFERROR((1-(FB66+FB67+FB68)/FB53),0%)","v":0},{"$f":"IFERROR((1-(FC66+FC67+FC68)/FC53),0%)","v":1},{"$f":"IFERROR((1-(FD66+FD67+FD68)/FD53),0%)","v":1},{"$f":"IFERROR((1-(FE66+FE67+FE68)/FE53),0%)","v":1},{"$f":"IFERROR((1-(FF66+FF67+FF68)/FF53),0%)","v":1},{"$f":"IFERROR((1-(FG66+FG67+FG68)/FG53),0%)","v":1},{"$f":"IFERROR((1-(FH66+FH67+FH68)/FH53),0%)","v":0},{"$f":"IFERROR((1-(FI66+FI67+FI68)/FI53),0%)","v":0},{"$f":"IFERROR((1-(FJ66+FJ67+FJ68)/FJ53),0%)","v":1},{"$f":"IFERROR((1-(FK66+FK67+FK68)/FK53),0%)","v":1},{"$f":"IFERROR((1-(FL66+FL67+FL68)/FL53),0%)","v":1},{"$f":"IFERROR((1-(FM66+FM67+FM68)/FM53),0%)","v":1},{"$f":"IFERROR((1-(FN66+FN67+FN68)/FN53),0%)","v":1},{"$f":"IFERROR((1-(FO66+FO67+FO68)/FO53),0%)","v":1},{"$f":"IFERROR((1-(FP66+FP67+FP68)/FP53),0%)","v":0},{"$f":"IFERROR((1-(FQ66+FQ67+FQ68)/FQ53),0%)","v":1},{"$f":"IFERROR((1-(FR66+FR67+FR68)/FR53),0%)","v":1},{"$f":"IFERROR((1-(FS66+FS67+FS68)/FS53),0%)","v":1},{"$f":"IFERROR((1-(FT66+FT67+FT68)/FT53),0%)","v":1},{"$f":"IFERROR((1-(FU66+FU67+FU68)/FU53),0%)","v":1},0,0,1,1,1,1,1,0,0,1,1,1,1,1,1,0,1,1,1,1,1,0,0,1,1,1,1,0,0,0,0,0,0,0,0,0,0,0,0,0,0,0,0,0,0,0,0,0,0,0,0,1,1,1,1,1,1,{"$f":"IFERROR((1-(IA66+IA67+IA68)/IA53),0%)","v":0},1,1,1,1,1,0,0,1,1,1,1,1,0,0,1,1,1,1,1,1,0,1,1,1,1,1,0,0,1,1,1,1,0.99678714859437756,0,0,1,1,1,1,1,1,0,1,1,1,1,1,0,0,0,0,0,0,0,0,0,0,0,0,0,0,0,0,{"$f":"IFERROR((1-(KM66+KM67+KM68)/KM53),0%)","v":0},0,0,0,0,0,0,0,0,0,0,0,0,0,0,0,0,0,0,0,0,0,0,0,0,0,0,0,0,0,0,0,0,0,0,0,0,0,0,0,0,0,0,0,0,0,0,0,0,0,0,0,0,0,0,0,0,0,0,0,0,0,0,0,{"$f":"IFERROR((1-(MY66+MY67+MY68)/MY53),0%)","v":0},0,0,0,0,0]
[0,"t.b.d.","Loose Spotwelds ICAF",null,null,null,null,null,null,null,null,null,null,null,null,null,null,null,null,null,null,null,null,null,null,null,null,null,null,null,null,null,null,null,null,null,null,null,null,null,null,null,null,null,null,null,null,null,null,null,null,null,null,null,null,null,null,null,null,null,null,null,null,null,null,null,null,null,null,null,null,null,null,null,null,null,null,null,null,null,null,null,null,null,null,null,null,null,null,null,null,null,null,null,null,null,null,null,null,null,null,null,null,null,null,null,null,null,null,null,null,null,null,null,null,null,null,null,null,null,null,null,null,null,null,null,null,null,null,null,null,null,null,null,null,null,null,null,null,null,null,null,null,null,null,null,null,null,null,null,null,null,null,null,null,null,null,null,null,null,null,null,null,null,null,null,null,null,null,null,null,null,null,null,null,null,null,null,null,null,null,null,null,null,null,null,null,null,null,null,null,null,null,null,null,null,null,null,null,null,null,null,null,null,null,null,null,null,null,null,null,null,null,null,null,null,null,null,null,null,null,null,null,null,null,null,null,null,null,null,null,null,null,null,null,0,0,0,0,0,null,null,0,0,0,0,0,null,null,0,0,0,0,null,null,null,0,0,0,0]
[0,"t.b.d.",null,null,null,null,null,null,null,null,null,null,null,null,null,null,null,null,null,null,null,null,null,null,null,null,null,null,null,null,null,null,null,null,null,null,null,null,null,null,null,null,null,null,null,null,null,null,null,null,null,null,null,null,null,null,null,null,null,null,null,null,null,null,null,null,null,null,null,null,null,null,null,null,null,null,null,null,null,null,null,null,null,null,null,null,null,null,null,null,null,null,null,null,null,null,null,null,null,null,null,null,null,null,null,null,null,null,null,null,null,null,null,null,null,null,null,null,null,null,null,null,null,null,null,null,null,null,null,null,null,null,null,null,null,null,null,null,null,null,null,null,null,null,null,null,null,null,null,null,null,null,null,null,null,null,null,null,null,null,null,null,null,null,null,null,null,null,null,null,null,null,null,null,null,null,null,null,null,null,null,null,null,null,null,null,null,null,null,null,null,null,null,null,null,null,null,null,null,null,null,null,null,null,null,null,null,null,null,null,null,null,null,null,null,null,null,null,null,null,null,null,null,null,null,null,null,null,null,null,null,null,null,null,null,null,null,null,null," ",null,null,null," "]
[0,"t.b.d."]
[4,"Cost  (C)",null,null,"   ","   ","   ","   ","   ","   ","   ","   ","   ","   ","   ","   ","   ","   ","   ","   ","   ","   ","   ","   ","   ","   ","   ","   ","   ","   ","   ","   ","   ","   ","   ","   ","   ","   ","   ","   ","   ","   ","   ","   ","   ","   ","   ","   ","   ","   ","   ","   ","   ","   ","   ","   ","   ","   ","   ","   ","   ","   ","   ","   ","   ","   ","   ","   ","   ","   ","   ","   ","   ","   ","   ","   ","   ","   ","   ","   ","   ","   ","   ","   ","   ","   ","   ","   ","   ","   ","   ","   ","   ","   ","   ",null,null,"   ",null,"   ",null,"   ",null,"   ",null,"   ",null,"   "]
["Goal",null,"K.P.I."]
[]
["t.b.d.","t.b.d.","Consumables",null,null,null,null,null,null,null,null,null,null,null,null,null,null,null,null,null,null,null,null,null,null,null,null,null,null,null,null,null,null,null,null,null,null,null,null,null,null,null,null,null,null,null,null,null,null,null,null,null,null,null,null,null,null,null,null,null,null,null,null,null,null,null,null,null,null,null,null,null,null,null,null,null,null,null,null,null,null,null,null,null,null,null,null,null,null,null,null,null,null,null,null,null,null,null,null,null,null,null,null,null,null,null,null,null,null,null,null,null,null,null,null,null,null,null,null,null,null,null,null,null,null,null,null,null,null,null,null,null,null,null,null,null,null,0,0,0,0,0,null,null,null,0,0,0,0,0,null,0,0,0,0,0,null,null,0,0,0,9.8000000000000007,0,null,null,62.84,0,0,26.07,271.16000000000003,0,null,0,null,null,null,null,null,null,null,null,null,null,null,null,null,0,0,0,179.68,0,0,null,0,0,199.25,0,0,null,null,null,null,null,null,null,null,null,null,null,null,null,null,null,null,null,null,null,null,null,null,null,null,null,null,null,null,null,null,0,0,0,0,0,0,null,0,15.13,0,27.51,0,null,null,null,0,78,null,null,null,null,null,78,null,null,null,null,null,null,null,null,null,151.13999999999999,null,null,521.45000000000005,null,null,60.67,null,null,null,null,null,null,null,null,null,null,null,569.58000000000004]
["t.b.d.","t.b.d.","Consumables / (Body)",null,{"$f":"IFERROR(E76/E53,\"\")","v":""},"","","","","","","","","","","","","","","","","","","","","","","","","","","","","","","","","","","","","","","","","","","","","","","","","","","","","","","","","","","","","","","",{"$f":"IFERROR(BQ76/BQ53,\"\")","v":""},"","","","","","","","","","","","","","","","","","","","","","","","","","","","","","","","","","","","","","","","",{"$f":"IFERROR(DF76/DF53,\"\")","v":""},{"$f":"IFERROR(DG76/DG53,\"\")","v":""},"","","","","","","","","","","","","","","","","","","","","","","","","","",0,0,0,0,0,"","","",0,0,0,0,0,"",0,0,0,0,0,"","",0,0,0,3.2941176470588238E-2,0,"","",0.22624662466246626,0,0,0.1001729106628242,1.104521384928717,0,"",0,0,{"$f":"IFERROR(FS76/FS53,\"\")","v":0},0,0,"","",0,0,0,0,0,"","",0,0,0,0.63603539823008848,0,0,"",0,0,0.67485182049110926,0,0,"","",0,0,0,0,"","","","","","","","","","","","","","","","","","","","","","","","",0,0,0,0,0,0,"",0,5.501818181818182E-2,0,{"$f":"IFERROR(IE76/IE53,\"\")","v":0.10530143540669858},0,"","",0,0,0.27296587926509186,0,0,"","",0,0.27513227513227512,0,0,0,0,"",0,0,0,0,0.50212624584717602,"","",2.1886673662119622,0,0,0.17949704142011835,0,"","",0,0,0,0,0,0,"",0,2.0693188010899184,0,0,0,"","","","","","","","","","","","","","","","","","","","",{"$f":"IFERROR(KQ76/KQ53,\"\")","v":""},"","","","","","","","","","","","","","","","","","","","","","","","","","","","","","","","","","","","","","","","","","","","","","","","","","","","","","","","","","","","","","","",{"$f":"IFERROR(NC76/NC53,\"\")","v":""},""]
[150,150,"Scrap cost",null,{"$f":"IF(E10<>\"\",(HLOOKUP(E$3,Rekenblad!$E$3:$BE$123,118,0))/E$7,\"\")","v":""},{"$f":"IF(F10<>\"\",(HLOOKUP(F$3,Rekenblad!$E$3:$BE$123,118,0))/F$7,\"\")","v":""},{"$f":"IF(G10<>\"\",(HLOOKUP(G$3,Rekenblad!$E$3:$BE$123,118,0))/G$7,\"\")","v":""},{"$f":"IF(H10<>\"\",(HLOOKUP(H$3,Rekenblad!$E$3:$BE$123,118,0))/H$7,\"\")","v":""},{"$f":"IF(I10<>\"\",(HLOOKUP(I$3,Rekenblad!$E$3:$BE$123,118,0))/I$7,\"\")","v":""},{"$f":"IF(J10<>\"\",(HLOOKUP(J$3,Rekenblad!$E$3:$BE$123,118,0))/J$7,\"\")","v":""},{"$f":"IF(K10<>\"\",(HLOOKUP(K$3,Rekenblad!$E$3:$BE$123,118,0))/K$7,\"\")","v":""},{"$f":"IF(L10<>\"\",(HLOOKUP(L$3,Rekenblad!$E$3:$BE$123,118,0))/L$7,\"\")","v":""},{"$f":"IF(M10<>\"\",(HLOOKUP(M$3,Rekenblad!$E$3:$BE$123,118,0))/M$7,\"\")","v":""},{"$f":"IF(N10<>\"\",(HLOOKUP(N$3,Rekenblad!$E$3:$BE$123,118,0))/N$7,\"\")","v":""},{"$f":"IF(O10<>\"\",(HLOOKUP(O$3,Rekenblad!$E$3:$BE$123,118,0))/O$7,\"\")","v":""},{"$f":"IF(P10<>\"\",(HLOOKUP(P$3,Rekenblad!$E$3:$BE$123,118,0))/P$7,\"\")","v":""},{"$f":"IF(Q10<>\"\",(HLOOKUP(Q$3,Rekenblad!$E$3:$BE$123,118,0))/Q$7,\"\")","v":""},{"$f":"IF(R10<>\"\",(HLOOKUP(R$3,Rekenblad!$E$3:$BE$123,118,0))/R$7,\"\")","v":""},{"$f":"IF(S10<>\"\",(HLOOKUP(S$3,Rekenblad!$E$3:$BE$123,118,0))/S$7,\"\")","v":""},{"$f":"IF(T10<>\"\",(HLOOKUP(T$3,Rekenblad!$E$3:$BE$123,118,0))/T$7,\"\")","v":""},{"$f":"IF(U10<>\"\",(HLOOKUP(U$3,Rekenblad!$E$3:$BE$123,118,0))/U$7,\"\")","v":""},{"$f":"IF(V10<>\"\",(HLOOKUP(V$3,Rekenblad!$E$3:$BE$123,118,0))/V$7,\"\")","v":""},{"$f":"IF(W10<>\"\",(HLOOKUP(W$3,Rekenblad!$E$3:$BE$123,118,0))/W$7,\"\")","v":""},{"$f":"IF(X10<>\"\",(HLOOKUP(X$3,Rekenblad!$E$3:$BE$123,118,0))/X$7,\"\")","v":""},{"$f":"IF(Y10<>\"\",(HLOOKUP(Y$3,Rekenblad!$E$3:$BE$123,118,0))/Y$7,\"\")","v":""},{"$f":"IF(Z10<>\"\",(HLOOKUP(Z$3,Rekenblad!$E$3:$BE$123,118,0))/Z$7,\"\")","v":""},{"$f":"IF(AA10<>\"\",(HLOOKUP(AA$3,Rekenblad!$E$3:$BE$123,118,0))/AA$7,\"\")","v":""},{"$f":"IF(AB10<>\"\",(HLOOKUP(AB$3,Rekenblad!$E$3:$BE$123,118,0))/AB$7,\"\")","v":""},{"$f":"IF(AC10<>\"\",(HLOOKUP(AC$3,Rekenblad!$E$3:$BE$123,118,0))/AC$7,\"\")","v":""},{"$f":"IF(AD10<>\"\",(HLOOKUP(AD$3,Rekenblad!$E$3:$BE$123,118,0))/AD$7,\"\")","v":""},{"$f":"IF(AE10<>\"\",(HLOOKUP(AE$3,Rekenblad!$E$3:$BE$123,118,0))/AE$7,\"\")","v":""},{"$f":"IF(AF10<>\"\",(HLOOKUP(AF$3,Rekenblad!$E$3:$BE$123,118,0))/AF$7,\"\")","v":""},{"$f":"IF(AG10<>\"\",(HLOOKUP(AG$3,Rekenblad!$E$3:$BE$123,118,0))/AG$7,\"\")","v":""},{"$f":"IF(AH10<>\"\",(HLOOKUP(AH$3,Rekenblad!$E$3:$BE$123,118,0))/AH$7,\"\")","v":""},{"$f":"IF(AI10<>\"\",(HLOOKUP(AI$3,Rekenblad!$E$3:$BE$123,118,0))/AI$7,\"\")","v":""},{"$f":"IF(AJ10<>\"\",(HLOOKUP(AJ$3,Rekenblad!$E$3:$BE$123,118,0))/AJ$7,\"\")","v":""},{"$f":"IF(AK10<>\"\",(HLOOKUP(AK$3,Rekenblad!$E$3:$BE$123,118,0))/AK$7,\"\")","v":""},{"$f":"IF(AL10<>\"\",(HLOOKUP(AL$3,Rekenblad!$E$3:$BE$123,118,0))/AL$7,\"\")","v":""},{"$f":"IF(AM10<>\"\",(HLOOKUP(AM$3,Rekenblad!$E$3:$BE$123,118,0))/AM$7,\"\")","v":""},{"$f":"IF(AN10<>\"\",(HLOOKUP(AN$3,Rekenblad!$E$3:$BE$123,118,0))/AN$7,\"\")","v":""},{"$f":"IF(AO10<>\"\",(HLOOKUP(AO$3,Rekenblad!$E$3:$BE$123,118,0))/AO$7,\"\")","v":""},{"$f":"IF(AP10<>\"\",(HLOOKUP(AP$3,Rekenblad!$E$3:$BE$123,118,0))/AP$7,\"\")","v":""},{"$f":"IF(AQ10<>\"\",(HLOOKUP(AQ$3,Rekenblad!$E$3:$BE$123,118,0))/AQ$7,\"\")","v":""},{"$f":"IF(AR10<>\"\",(HLOOKUP(AR$3,Rekenblad!$E$3:$BE$123,118,0))/AR$7,\"\")","v":""},{"$f":"IF(AS10<>\"\",(HLOOKUP(AS$3,Rekenblad!$E$3:$BE$123,118,0))/AS$7,\"\")","v":""},{"$f":"IF(AT10<>\"\",(HLOOKUP(AT$3,Rekenblad!$E$3:$BE$123,118,0))/AT$7,\"\")","v":""},{"$f":"IF(AU10<>\"\",(HLOOKUP(AU$3,Rekenblad!$E$3:$BE$123,118,0))/AU$7,\"\")","v":""},{"$f":"IF(AV10<>\"\",(HLOOKUP(AV$3,Rekenblad!$E$3:$BE$123,118,0))/AV$7,\"\")","v":""},{"$f":"IF(AW10<>\"\",(HLOOKUP(AW$3,Rekenblad!$E$3:$BE$123,118,0))/AW$7,\"\")","v":""},{"$f":"IF(AX10<>\"\",(HLOOKUP(AX$3,Rekenblad!$E$3:$BE$123,118,0))/AX$7,\"\")","v":""},{"$f":"IF(AY10<>\"\",(HLOOKUP(AY$3,Rekenblad!$E$3:$BE$123,118,0))/AY$7,\"\")","v":""},{"$f":"IF(AZ10<>\"\",(HLOOKUP(AZ$3,Rekenblad!$E$3:$BE$123,118,0))/AZ$7,\"\")","v":""},{"$f":"IF(BA10<>\"\",(HLOOKUP(BA$3,Rekenblad!$E$3:$BE$123,118,0))/BA$7,\"\")","v":""},{"$f":"IF(BB10<>\"\",(HLOOKUP(BB$3,Rekenblad!$E$3:$BE$123,118,0))/BB$7,\"\")","v":""},{"$f":"IF(BC10<>\"\",(HLOOKUP(BC$3,Rekenblad!$E$3:$BE$123,118,0))/BC$7,\"\")","v":""},{"$f":"IF(BD10<>\"\",(HLOOKUP(BD$3,Rekenblad!$E$3:$BE$123,118,0))/BD$7,\"\")","v":""},{"$f":"IF(BE10<>\"\",(HLOOKUP(BE$3,Rekenblad!$E$3:$BE$123,118,0))/BE$7,\"\")","v":""},{"$f":"IF(BF10<>\"\",(HLOOKUP(BF$3,Rekenblad!$E$3:$BE$123,118,0))/BF$7,\"\")","v":""},{"$f":"IF(BG10<>\"\",(HLOOKUP(BG$3,Rekenblad!$E$3:$BE$123,118,0))/BG$7,\"\")","v":""},{"$f":"IF(BH10<>\"\",(HLOOKUP(BH$3,Rekenblad!$E$3:$BE$123,118,0))/BH$7,\"\")","v":""},{"$f":"IF(BI10<>\"\",(HLOOKUP(BI$3,Rekenblad!$E$3:$BE$123,118,0))/BI$7,\"\")","v":""},{"$f":"IF(BJ10<>\"\",(HLOOKUP(BJ$3,Rekenblad!$E$3:$BE$123,118,0))/BJ$7,\"\")","v":""},{"$f":"IF(BK10<>\"\",(HLOOKUP(BK$3,Rekenblad!$E$3:$BE$123,118,0))/BK$7,\"\")","v":""},{"$f":"IF(BL10<>\"\",(HLOOKUP(BL$3,Rekenblad!$E$3:$BE$123,118,0))/BL$7,\"\")","v":""},{"$f":"IF(BM10<>\"\",(HLOOKUP(BM$3,Rekenblad!$E$3:$BE$123,118,0))/BM$7,\"\")","v":""},{"$f":"IF(BN10<>\"\",(HLOOKUP(BN$3,Rekenblad!$E$3:$BE$123,118,0))/BN$7,\"\")","v":""},{"$f":"IF(BO10<>\"\",(HLOOKUP(BO$3,Rekenblad!$E$3:$BE$123,118,0))/BO$7,\"\")","v":""},{"$f":"IF(BP10<>\"\",(HLOOKUP(BP$3,Rekenblad!$E$3:$BE$123,118,0))/BP$7,\"\")","v":""},{"$f":"IF(BQ10<>\"\",(HLOOKUP(BQ$3,Rekenblad!$E$3:$BE$123,118,0))/BQ$7,\"\")","v":""},{"$f":"IF(BR10<>\"\",(HLOOKUP(BR$3,Rekenblad!$E$3:$BE$123,118,0))/BR$7,\"\")","v":""},{"$f":"IF(BS10<>\"\",(HLOOKUP(BS$3,Rekenblad!$E$3:$BE$123,118,0))/BS$7,\"\")","v":""},{"$f":"IF(BT10<>\"\",(HLOOKUP(BT$3,Rekenblad!$E$3:$BE$123,118,0))/BT$7,\"\")","v":""},{"$f":"IF(BU10<>\"\",(HLOOKUP(BU$3,Rekenblad!$E$3:$BE$123,118,0))/BU$7,\"\")","v":""},{"$f":"IF(BV10<>\"\",(HLOOKUP(BV$3,Rekenblad!$E$3:$BE$123,118,0))/BV$7,\"\")","v":""},{"$f":"IF(BW10<>\"\",(HLOOKUP(BW$3,Rekenblad!$E$3:$BE$123,118,0))/BW$7,\"\")","v":""},{"$f":"IF(BX10<>\"\",(HLOOKUP(BX$3,Rekenblad!$E$3:$BE$123,118,0))/BX$7,\"\")","v":""},{"$f":"IF(BY10<>\"\",(HLOOKUP(BY$3,Rekenblad!$E$3:$BE$123,118,0))/BY$7,\"\")","v":""},{"$f":"IF(BZ10<>\"\",(HLOOKUP(BZ$3,Rekenblad!$E$3:$BE$123,118,0))/BZ$7,\"\")","v":""},{"$f":"IF(CA10<>\"\",(HLOOKUP(CA$3,Rekenblad!$E$3:$BE$123,118,0))/CA$7,\"\")","v":""},{"$f":"IF(CB10<>\"\",(HLOOKUP(CB$3,Rekenblad!$E$3:$BE$123,118,0))/CB$7,\"\")","v":""},{"$f":"IF(CC10<>\"\",(HLOOKUP(CC$3,Rekenblad!$E$3:$BE$123,118,0))/CC$7,\"\")","v":""},{"$f":"IF(CD10<>\"\",(HLOOKUP(CD$3,Rekenblad!$E$3:$BE$123,118,0))/CD$7,\"\")","v":""},{"$f":"IF(CE10<>\"\",(HLOOKUP(CE$3,Rekenblad!$E$3:$BE$123,118,0))/CE$7,\"\")","v":""},{"$f":"IF(CF10<>\"\",(HLOOKUP(CF$3,Rekenblad!$E$3:$BE$123,118,0))/CF$7,\"\")","v":""},{"$f":"IF(CG10<>\"\",(HLOOKUP(CG$3,Rekenblad!$E$3:$BE$123,118,0))/CG$7,\"\")","v":""},{"$f":"IF(CH10<>\"\",(HLOOKUP(CH$3,Rekenblad!$E$3:$BE$123,118,0))/CH$7,\"\")","v":""},{"$f":"IF(CI10<>\"\",(HLOOKUP(CI$3,Rekenblad!$E$3:$BE$123,118,0))/CI$7,\"\")","v":""},{"$f":"IF(CJ10<>\"\",(HLOOKUP(CJ$3,Rekenblad!$E$3:$BE$123,118,0))/CJ$7,\"\")","v":""},{"$f":"IF(CK10<>\"\",(HLOOKUP(CK$3,Rekenblad!$E$3:$BE$123,118,0))/CK$7,\"\")","v":""},{"$f":"IF(CL10<>\"\",(HLOOKUP(CL$3,Rekenblad!$E$3:$BE$123,118,0))/CL$7,\"\")","v":""},{"$f":"IF(CM10<>\"\",(HLOOKUP(CM$3,Rekenblad!$E$3:$BE$123,118,0))/CM$7,\"\")","v":""},{"$f":"IF(CN10<>\"\",(HLOOKUP(CN$3,Rekenblad!$E$3:$BE$123,118,0))/CN$7,\"\")","v":""},{"$f":"IF(CO10<>\"\",(HLOOKUP(CO$3,Rekenblad!$E$3:$BE$123,118,0))/CO$7,\"\")","v":""},{"$f":"IF(CP10<>\"\",(HLOOKUP(CP$3,Rekenblad!$E$3:$BE$123,118,0))/CP$7,\"\")","v":""},{"$f":"IF(CQ10<>\"\",(HLOOKUP(CQ$3,Rekenblad!$E$3:$BE$123,118,0))/CQ$7,\"\")","v":""},{"$f":"IF(CR10<>\"\",(HLOOKUP(CR$3,Rekenblad!$E$3:$BE$123,118,0))/CR$7,\"\")","v":""},{"$f":"IF(CS10<>\"\",(HLOOKUP(CS$3,Rekenblad!$E$3:$BE$123,118,0))/CS$7,\"\")","v":""},{"$f":"IF(CT10<>\"\",(HLOOKUP(CT$3,Rekenblad!$E$3:$BE$123,118,0))/CT$7,\"\")","v":""},{"$f":"IF(CU10<>\"\",(HLOOKUP(CU$3,Rekenblad!$E$3:$BE$123,118,0))/CU$7,\"\")","v":""},{"$f":"IF(CV10<>\"\",(HLOOKUP(CV$3,Rekenblad!$E$3:$BE$123,118,0))/CV$7,\"\")","v":""},{"$f":"IF(CW10<>\"\",(HLOOKUP(CW$3,Rekenblad!$E$3:$BE$123,118,0))/CW$7,\"\")","v":""},{"$f":"IF(CX10<>\"\",(HLOOKUP(CX$3,Rekenblad!$E$3:$BE$123,118,0))/CX$7,\"\")","v":""},{"$f":"IF(CY10<>\"\",(HLOOKUP(CY$3,Rekenblad!$E$3:$BE$123,118,0))/CY$7,\"\")","v":""},{"$f":"IF(CZ10<>\"\",(HLOOKUP(CZ$3,Rekenblad!$E$3:$BE$123,118,0))/CZ$7,\"\")","v":""},{"$f":"IF(DA10<>\"\",(HLOOKUP(DA$3,Rekenblad!$E$3:$BE$123,118,0))/DA$7,\"\")","v":""},{"$f":"IF(DB10<>\"\",(HLOOKUP(DB$3,Rekenblad!$E$3:$BE$123,118,0))/DB$7,\"\")","v":""},{"$f":"IF(DC10<>\"\",(HLOOKUP(DC$3,Rekenblad!$E$3:$BE$123,118,0))/DC$7,\"\")","v":""},{"$f":"IF(DD10<>\"\",(HLOOKUP(DD$3,Rekenblad!$E$3:$BE$123,118,0))/DD$7,\"\")","v":""},{"$f":"IF(DE10<>\"\",(HLOOKUP(DE$3,Rekenblad!$E$3:$BE$123,118,0))/DE$7,\"\")","v":""},{"$f":"IF(DF10<>\"\",(HLOOKUP(DF$3,Rekenblad!$E$3:$BE$123,118,0))/DF$7,\"\")","v":""},{"$f":"IF(DG10<>\"\",(HLOOKUP(DG$3,Rekenblad!$E$3:$BE$123,118,0))/DG$7,\"\")","v":""},{"$f":"IF(DH10<>\"\",(HLOOKUP(DH$3,Rekenblad!$E$3:$BE$123,118,0))/DH$7,\"\")","v":""},{"$f":"IF(DI10<>\"\",(HLOOKUP(DI$3,Rekenblad!$E$3:$BE$123,118,0))/DI$7,\"\")","v":""},{"$f":"IF(DJ10<>\"\",(HLOOKUP(DJ$3,Rekenblad!$E$3:$BE$123,118,0))/DJ$7,\"\")","v":""},{"$f":"IF(DK10<>\"\",(HLOOKUP(DK$3,Rekenblad!$E$3:$BE$123,118,0))/DK$7,\"\")","v":""},{"$f":"IF(DL10<>\"\",(HLOOKUP(DL$3,Rekenblad!$E$3:$BE$123,118,0))/DL$7,\"\")","v":""},{"$f":"IF(DM10<>\"\",(HLOOKUP(DM$3,Rekenblad!$E$3:$BE$123,118,0))/DM$7,\"\")","v":""},{"$f":"IF(DN10<>\"\",(HLOOKUP(DN$3,Rekenblad!$E$3:$BE$123,118,0))/DN$7,\"\")","v":""},{"$f":"IF(DO10<>\"\",(HLOOKUP(DO$3,Rekenblad!$E$3:$BE$123,118,0))/DO$7,\"\")","v":""},{"$f":"IF(DP10<>\"\",(HLOOKUP(DP$3,Rekenblad!$E$3:$BE$123,118,0))/DP$7,\"\")","v":""},{"$f":"IF(DQ10<>\"\",(HLOOKUP(DQ$3,Rekenblad!$E$3:$BE$123,118,0))/DQ$7,\"\")","v":""},{"$f":"IF(DR10<>\"\",(HLOOKUP(DR$3,Rekenblad!$E$3:$BE$123,118,0))/DR$7,\"\")","v":""},{"$f":"IF(DS10<>\"\",(HLOOKUP(DS$3,Rekenblad!$E$3:$BE$123,118,0))/DS$7,\"\")","v":""},{"$f":"IF(DT10<>\"\",(HLOOKUP(DT$3,Rekenblad!$E$3:$BE$123,118,0))/DT$7,\"\")","v":""},{"$f":"IF(DU10<>\"\",(HLOOKUP(DU$3,Rekenblad!$E$3:$BE$123,118,0))/DU$7,\"\")","v":""},{"$f":"IF(DV10<>\"\",(HLOOKUP(DV$3,Rekenblad!$E$3:$BE$123,118,0))/DV$7,\"\")","v":""},{"$f":"IF(DW10<>\"\",(HLOOKUP(DW$3,Rekenblad!$E$3:$BE$123,118,0))/DW$7,\"\")","v":""},{"$f":"IF(DX10<>\"\",(HLOOKUP(DX$3,Rekenblad!$E$3:$BE$123,118,0))/DX$7,\"\")","v":""},{"$f":"IF(DY10<>\"\",(HLOOKUP(DY$3,Rekenblad!$E$3:$BE$123,118,0))/DY$7,\"\")","v":""},{"$f":"IF(DZ10<>\"\",(HLOOKUP(DZ$3,Rekenblad!$E$3:$BE$123,118,0))/DZ$7,\"\")","v":""},{"$f":"IF(EA10<>\"\",(HLOOKUP(EA$3,Rekenblad!$E$3:$BE$123,118,0))/EA$7,\"\")","v":""},{"$f":"IF(EB10<>\"\",(HLOOKUP(EB$3,Rekenblad!$E$3:$BE$123,118,0))/EB$7,\"\")","v":""},{"$f":"IF(EC10<>\"\",(HLOOKUP(EC$3,Rekenblad!$E$3:$BE$123,118,0))/EC$7,\"\")","v":""},{"$f":"IF(ED10<>\"\",(HLOOKUP(ED$3,Rekenblad!$E$3:$BE$123,118,0))/ED$7,\"\")","v":""},{"$f":"IF(EE10<>\"\",(HLOOKUP(EE$3,Rekenblad!$E$3:$BE$123,118,0))/EE$7,\"\")","v":""},{"$f":"IF(EF10<>\"\",(HLOOKUP(EF$3,Rekenblad!$E$3:$BE$123,118,0))/EF$7,\"\")","v":""},{"$f":"IF(EG10<>\"\",(HLOOKUP(EG$3,Rekenblad!$E$3:$BE$123,118,0))/EG$7,\"\")","v":""},{"$f":"IF(EH10<>\"\",(HLOOKUP(EH$3,Rekenblad!$E$3:$BE$123,118,0))/EH$7,\"\")","v":82.643000000000001},{"$f":"IF(EI10<>\"\",(HLOOKUP(EI$3,Rekenblad!$E$3:$BE$123,118,0))/EI$7,\"\")","v":82.643000000000001},{"$f":"IF(EJ10<>\"\",(HLOOKUP(EJ$3,Rekenblad!$E$3:$BE$123,118,0))/EJ$7,\"\")","v":82.643000000000001},{"$f":"IF(EK10<>\"\",(HLOOKUP(EK$3,Rekenblad!$E$3:$BE$123,118,0))/EK$7,\"\")","v":82.643000000000001},{"$f":"IF(EL10<>\"\",(HLOOKUP(EL$3,Rekenblad!$E$3:$BE$123,118,0))/EL$7,\"\")","v":82.643000000000001},{"$f":"IF(EM10<>\"\",(HLOOKUP(EM$3,Rekenblad!$E$3:$BE$123,118,0))/EM$7,\"\")","v":""},{"$f":"IF(EN10<>\"\",(HLOOKUP(EN$3,Rekenblad!$E$3:$BE$123,118,0))/EN$7,\"\")","v":""},{"$f":"IF(EO10<>\"\",(HLOOKUP(EO$3,Rekenblad!$E$3:$BE$123,118,0))/EO$7,\"\")","v":""},{"$f":"IF(EP10<>\"\",(HLOOKUP(EP$3,Rekenblad!$E$3:$BE$123,118,0))/EP$7,\"\")","v":36.961999999999996},{"$f":"IF(EQ10<>\"\",(HLOOKUP(EQ$3,Rekenblad!$E$3:$BE$123,118,0))/EQ$7,\"\")","v":36.961999999999996},{"$f":"IF(ER10<>\"\",(HLOOKUP(ER$3,Rekenblad!$E$3:$BE$123,118,0))/ER$7,\"\")","v":36.961999999999996},{"$f":"IF(ES10<>\"\",(HLOOKUP(ES$3,Rekenblad!$E$3:$BE$123,118,0))/ES$7,\"\")","v":36.961999999999996},{"$f":"IF(ET10<>\"\",(HLOOKUP(ET$3,Rekenblad!$E$3:$BE$123,118,0))/ET$7,\"\")","v":36.961999999999996},{"$f":"IF(EU10<>\"\",(HLOOKUP(EU$3,Rekenblad!$E$3:$BE$123,118,0))/EU$7,\"\")","v":""},{"$f":"IF(EV10<>\"\",(HLOOKUP(EV$3,Rekenblad!$E$3:$BE$123,118,0))/EV$7,\"\")","v":6.7460000000000004},{"$f":"IF(EW10<>\"\",(HLOOKUP(EW$3,Rekenblad!$E$3:$BE$123,118,0))/EW$7,\"\")","v":6.7460000000000004},{"$f":"IF(EX10<>\"\",(HLOOKUP(EX$3,Rekenblad!$E$3:$BE$123,118,0))/EX$7,\"\")","v":6.7460000000000004},{"$f":"IF(EY10<>\"\",(HLOOKUP(EY$3,Rekenblad!$E$3:$BE$123,118,0))/EY$7,\"\")","v":6.7460000000000004},{"$f":"IF(EZ10<>\"\",(HLOOKUP(EZ$3,Rekenblad!$E$3:$BE$123,118,0))/EZ$7,\"\")","v":6.7460000000000004},{"$f":"IF(FA10<>\"\",(HLOOKUP(FA$3,Rekenblad!$E$3:$BE$123,118,0))/FA$7,\"\")","v":""},{"$f":"IF(FB10<>\"\",(HLOOKUP(FB$3,Rekenblad!$E$3:$BE$123,118,0))/FB$7,\"\")","v":""},{"$f":"IF(FC10<>\"\",(HLOOKUP(FC$3,Rekenblad!$E$3:$BE$123,118,0))/FC$7,\"\")","v":45.124000000000009},{"$f":"IF(FD10<>\"\",(HLOOKUP(FD$3,Rekenblad!$E$3:$BE$123,118,0))/FD$7,\"\")","v":45.124000000000009},{"$f":"IF(FE10<>\"\",(HLOOKUP(FE$3,Rekenblad!$E$3:$BE$123,118,0))/FE$7,\"\")","v":45.124000000000009},{"$f":"IF(FF10<>\"\",(HLOOKUP(FF$3,Rekenblad!$E$3:$BE$123,118,0))/FF$7,\"\")","v":45.124000000000009},{"$f":"IF(FG10<>\"\",(HLOOKUP(FG$3,Rekenblad!$E$3:$BE$123,118,0))/FG$7,\"\")","v":45.124000000000009},{"$f":"IF(FH10<>\"\",(HLOOKUP(FH$3,Rekenblad!$E$3:$BE$123,118,0))/FH$7,\"\")","v":""},{"$f":"IF(FI10<>\"\",(HLOOKUP(FI$3,Rekenblad!$E$3:$BE$123,118,0))/FI$7,\"\")","v":""},{"$f":"IF(FJ10<>\"\",(HLOOKUP(FJ$3,Rekenblad!$E$3:$BE$123,118,0))/FJ$7,\"\")","v":23.614999999999998},{"$f":"IF(FK10<>\"\",(HLOOKUP(FK$3,Rekenblad!$E$3:$BE$123,118,0))/FK$7,\"\")","v":23.614999999999998},{"$f":"IF(FL10<>\"\",(HLOOKUP(FL$3,Rekenblad!$E$3:$BE$123,118,0))/FL$7,\"\")","v":23.614999999999998},{"$f":"IF(FM10<>\"\",(HLOOKUP(FM$3,Rekenblad!$E$3:$BE$123,118,0))/FM$7,\"\")","v":23.614999999999998},{"$f":"IF(FN10<>\"\",(HLOOKUP(FN$3,Rekenblad!$E$3:$BE$123,118,0))/FN$7,\"\")","v":23.614999999999998},{"$f":"IF(FO10<>\"\",(HLOOKUP(FO$3,Rekenblad!$E$3:$BE$123,118,0))/FO$7,\"\")","v":23.614999999999998},{"$f":"IF(FP10<>\"\",(HLOOKUP(FP$3,Rekenblad!$E$3:$BE$123,118,0))/FP$7,\"\")","v":""},{"$f":"IF(FQ10<>\"\",(HLOOKUP(FQ$3,Rekenblad!$E$3:$BE$123,118,0))/FQ$7,\"\")","v":27.858000000000004},{"$f":"IF(FR10<>\"\",(HLOOKUP(FR$3,Rekenblad!$E$3:$BE$123,118,0))/FR$7,\"\")","v":27.858000000000004},{"$f":"IF(FS10<>\"\",(HLOOKUP(FS$3,Rekenblad!$E$3:$BE$123,118,0))/FS$7,\"\")","v":27.858000000000004},{"$f":"IF(FT10<>\"\",(HLOOKUP(FT$3,Rekenblad!$E$3:$BE$123,118,0))/FT$7,\"\")","v":27.858000000000004},{"$f":"IF(FU10<>\"\",(HLOOKUP(FU$3,Rekenblad!$E$3:$BE$123,118,0))/FU$7,\"\")","v":27.858000000000004},{"$f":"IF(FV10<>\"\",(HLOOKUP(FV$3,Rekenblad!$E$3:$BE$123,118,0))/FV$7,\"\")","v":""},{"$f":"IF(FW10<>\"\",(HLOOKUP(FW$3,Rekenblad!$E$3:$BE$123,118,0))/FW$7,\"\")","v":""},{"$f":"IF(FX10<>\"\",(HLOOKUP(FX$3,Rekenblad!$E$3:$BE$123,118,0))/FX$7,\"\")","v":11.9},{"$f":"IF(FY10<>\"\",(HLOOKUP(FY$3,Rekenblad!$E$3:$BE$123,118,0))/FY$7,\"\")","v":11.9},{"$f":"IF(FZ10<>\"\",(HLOOKUP(FZ$3,Rekenblad!$E$3:$BE$123,118,0))/FZ$7,\"\")","v":11.9},{"$f":"IF(GA10<>\"\",(HLOOKUP(GA$3,Rekenblad!$E$3:$BE$123,118,0))/GA$7,\"\")","v":11.9},{"$f":"IF(GB10<>\"\",(HLOOKUP(GB$3,Rekenblad!$E$3:$BE$123,118,0))/GB$7,\"\")","v":11.9},{"$f":"IF(GC10<>\"\",(HLOOKUP(GC$3,Rekenblad!$E$3:$BE$123,118,0))/GC$7,\"\")","v":""},{"$f":"IF(GD10<>\"\",(HLOOKUP(GD$3,Rekenblad!$E$3:$BE$123,118,0))/GD$7,\"\")","v":""},{"$f":"IF(GE10<>\"\",(HLOOKUP(GE$3,Rekenblad!$E$3:$BE$123,118,0))/GE$7,\"\")","v":60.335000000000015},{"$f":"IF(GF10<>\"\",(HLOOKUP(GF$3,Rekenblad!$E$3:$BE$123,118,0))/GF$7,\"\")","v":60.335000000000015},{"$f":"IF(GG10<>\"\",(HLOOKUP(GG$3,Rekenblad!$E$3:$BE$123,118,0))/GG$7,\"\")","v":60.335000000000015},{"$f":"IF(GH10<>\"\",(HLOOKUP(GH$3,Rekenblad!$E$3:$BE$123,118,0))/GH$7,\"\")","v":60.335000000000015},{"$f":"IF(GI10<>\"\",(HLOOKUP(GI$3,Rekenblad!$E$3:$BE$123,118,0))/GI$7,\"\")","v":60.335000000000015},{"$f":"IF(GJ10<>\"\",(HLOOKUP(GJ$3,Rekenblad!$E$3:$BE$123,118,0))/GJ$7,\"\")","v":60.335000000000015},{"$f":"IF(GK10<>\"\",(HLOOKUP(GK$3,Rekenblad!$E$3:$BE$123,118,0))/GK$7,\"\")","v":""},{"$f":"IF(GL10<>\"\",(HLOOKUP(GL$3,Rekenblad!$E$3:$BE$123,118,0))/GL$7,\"\")","v":47.456000000000003},{"$f":"IF(GM10<>\"\",(HLOOKUP(GM$3,Rekenblad!$E$3:$BE$123,118,0))/GM$7,\"\")","v":47.456000000000003},{"$f":"IF(GN10<>\"\",(HLOOKUP(GN$3,Rekenblad!$E$3:$BE$123,118,0))/GN$7,\"\")","v":47.456000000000003},{"$f":"IF(GO10<>\"\",(HLOOKUP(GO$3,Rekenblad!$E$3:$BE$123,118,0))/GO$7,\"\")","v":47.456000000000003},{"$f":"IF(GP10<>\"\",(HLOOKUP(GP$3,Rekenblad!$E$3:$BE$123,118,0))/GP$7,\"\")","v":47.456000000000003},{"$f":"IF(GQ10<>\"\",(HLOOKUP(GQ$3,Rekenblad!$E$3:$BE$123,118,0))/GQ$7,\"\")","v":""},{"$f":"IF(GR10<>\"\",(HLOOKUP(GR$3,Rekenblad!$E$3:$BE$123,118,0))/GR$7,\"\")","v":""},{"$f":"IF(GS10<>\"\",(HLOOKUP(GS$3,Rekenblad!$E$3:$BE$123,118,0))/GS$7,\"\")","v":0},{"$f":"IF(GT10<>\"\",(HLOOKUP(GT$3,Rekenblad!$E$3:$BE$123,118,0))/GT$7,\"\")","v":0},{"$f":"IF(GU10<>\"\",(HLOOKUP(GU$3,Rekenblad!$E$3:$BE$123,118,0))/GU$7,\"\")","v":0},{"$f":"IF(GV10<>\"\",(HLOOKUP(GV$3,Rekenblad!$E$3:$BE$123,118,0))/GV$7,\"\")","v":0},{"$f":"IF(GW10<>\"\",(HLOOKUP(GW$3,Rekenblad!$E$3:$BE$123,118,0))/GW$7,\"\")","v":0},{"$f":"IF(GX10<>\"\",(HLOOKUP(GX$3,Rekenblad!$E$3:$BE$123,118,0))/GX$7,\"\")","v":""},{"$f":"IF(GY10<>\"\",(HLOOKUP(GY$3,Rekenblad!$E$3:$BE$123,118,0))/GY$7,\"\")","v":""},{"$f":"IF(GZ10<>\"\",(HLOOKUP(GZ$3,Rekenblad!$E$3:$BE$123,118,0))/GZ$7,\"\")","v":""},{"$f":"IF(HA10<>\"\",(HLOOKUP(HA$3,Rekenblad!$E$3:$BE$123,118,0))/HA$7,\"\")","v":""},{"$f":"IF(HB10<>\"\",(HLOOKUP(HB$3,Rekenblad!$E$3:$BE$123,118,0))/HB$7,\"\")","v":""},{"$f":"IF(HC10<>\"\",(HLOOKUP(HC$3,Rekenblad!$E$3:$BE$123,118,0))/HC$7,\"\")","v":""},{"$f":"IF(HD10<>\"\",(HLOOKUP(HD$3,Rekenblad!$E$3:$BE$123,118,0))/HD$7,\"\")","v":""},{"$f":"IF(HE10<>\"\",(HLOOKUP(HE$3,Rekenblad!$E$3:$BE$123,118,0))/HE$7,\"\")","v":""},{"$f":"IF(HF10<>\"\",(HLOOKUP(HF$3,Rekenblad!$E$3:$BE$123,118,0))/HF$7,\"\")","v":""},{"$f":"IF(HG10<>\"\",(HLOOKUP(HG$3,Rekenblad!$E$3:$BE$123,118,0))/HG$7,\"\")","v":""},{"$f":"IF(HH10<>\"\",(HLOOKUP(HH$3,Rekenblad!$E$3:$BE$123,118,0))/HH$7,\"\")","v":""},{"$f":"IF(HI10<>\"\",(HLOOKUP(HI$3,Rekenblad!$E$3:$BE$123,118,0))/HI$7,\"\")","v":""},{"$f":"IF(HJ10<>\"\",(HLOOKUP(HJ$3,Rekenblad!$E$3:$BE$123,118,0))/HJ$7,\"\")","v":""},{"$f":"IF(HK10<>\"\",(HLOOKUP(HK$3,Rekenblad!$E$3:$BE$123,118,0))/HK$7,\"\")","v":""},{"$f":"IF(HL10<>\"\",(HLOOKUP(HL$3,Rekenblad!$E$3:$BE$123,118,0))/HL$7,\"\")","v":""},{"$f":"IF(HM10<>\"\",(HLOOKUP(HM$3,Rekenblad!$E$3:$BE$123,118,0))/HM$7,\"\")","v":""},{"$f":"IF(HN10<>\"\",(HLOOKUP(HN$3,Rekenblad!$E$3:$BE$123,118,0))/HN$7,\"\")","v":""},{"$f":"IF(HO10<>\"\",(HLOOKUP(HO$3,Rekenblad!$E$3:$BE$123,118,0))/HO$7,\"\")","v":""},{"$f":"IF(HP10<>\"\",(HLOOKUP(HP$3,Rekenblad!$E$3:$BE$123,118,0))/HP$7,\"\")","v":""},{"$f":"IF(HQ10<>\"\",(HLOOKUP(HQ$3,Rekenblad!$E$3:$BE$123,118,0))/HQ$7,\"\")","v":""},{"$f":"IF(HR10<>\"\",(HLOOKUP(HR$3,Rekenblad!$E$3:$BE$123,118,0))/HR$7,\"\")","v":""},{"$f":"IF(HS10<>\"\",(HLOOKUP(HS$3,Rekenblad!$E$3:$BE$123,118,0))/HS$7,\"\")","v":""},{"$f":"IF(HT10<>\"\",(HLOOKUP(HT$3,Rekenblad!$E$3:$BE$123,118,0))/HT$7,\"\")","v":""},{"$f":"IF(HU10<>\"\",(HLOOKUP(HU$3,Rekenblad!$E$3:$BE$123,118,0))/HU$7,\"\")","v":39.340000000000003},{"$f":"IF(HV10<>\"\",(HLOOKUP(HV$3,Rekenblad!$E$3:$BE$123,118,0))/HV$7,\"\")","v":39.340000000000003},{"$f":"IF(HW10<>\"\",(HLOOKUP(HW$3,Rekenblad!$E$3:$BE$123,118,0))/HW$7,\"\")","v":39.340000000000003},{"$f":"IF(HX10<>\"\",(HLOOKUP(HX$3,Rekenblad!$E$3:$BE$123,118,0))/HX$7,\"\")","v":39.340000000000003},{"$f":"IF(HY10<>\"\",(HLOOKUP(HY$3,Rekenblad!$E$3:$BE$123,118,0))/HY$7,\"\")","v":39.340000000000003},{"$f":"IF(HZ10<>\"\",(HLOOKUP(HZ$3,Rekenblad!$E$3:$BE$123,118,0))/HZ$7,\"\")","v":39.340000000000003},{"$f":"IF(IA10<>\"\",(HLOOKUP(IA$3,Rekenblad!$E$3:$BE$123,118,0))/IA$7,\"\")","v":""},{"$f":"IF(IB10<>\"\",(HLOOKUP(IB$3,Rekenblad!$E$3:$BE$123,118,0))/IB$7,\"\")","v":64.201999999999998},{"$f":"IF(IC10<>\"\",(HLOOKUP(IC$3,Rekenblad!$E$3:$BE$123,118,0))/IC$7,\"\")","v":64.201999999999998},{"$f":"IF(ID10<>\"\",(HLOOKUP(ID$3,Rekenblad!$E$3:$BE$123,118,0))/ID$7,\"\")","v":64.201999999999998},{"$f":"IF(IE10<>\"\",(HLOOKUP(IE$3,Rekenblad!$E$3:$BE$123,118,0))/IE$7,\"\")","v":64.201999999999998},{"$f":"IF(IF10<>\"\",(HLOOKUP(IF$3,Rekenblad!$E$3:$BE$123,118,0))/IF$7,\"\")","v":64.201999999999998},{"$f":"IF(IG10<>\"\",(HLOOKUP(IG$3,Rekenblad!$E$3:$BE$123,118,0))/IG$7,\"\")","v":""},{"$f":"IF(IH10<>\"\",(HLOOKUP(IH$3,Rekenblad!$E$3:$BE$123,118,0))/IH$7,\"\")","v":""},{"$f":"IF(II10<>\"\",(HLOOKUP(II$3,Rekenblad!$E$3:$BE$123,118,0))/II$7,\"\")","v":30.736000000000001},{"$f":"IF(IJ10<>\"\",(HLOOKUP(IJ$3,Rekenblad!$E$3:$BE$123,118,0))/IJ$7,\"\")","v":30.736000000000001},{"$f":"IF(IK10<>\"\",(HLOOKUP(IK$3,Rekenblad!$E$3:$BE$123,118,0))/IK$7,\"\")","v":30.736000000000001},{"$f":"IF(IL10<>\"\",(HLOOKUP(IL$3,Rekenblad!$E$3:$BE$123,118,0))/IL$7,\"\")","v":30.736000000000001},{"$f":"IF(IM10<>\"\",(HLOOKUP(IM$3,Rekenblad!$E$3:$BE$123,118,0))/IM$7,\"\")","v":30.736000000000001},{"$f":"IF(IN10<>\"\",(HLOOKUP(IN$3,Rekenblad!$E$3:$BE$123,118,0))/IN$7,\"\")","v":""},{"$f":"IF(IO10<>\"\",(HLOOKUP(IO$3,Rekenblad!$E$3:$BE$123,118,0))/IO$7,\"\")","v":""},{"$f":"IF(IP10<>\"\",(HLOOKUP(IP$3,Rekenblad!$E$3:$BE$123,118,0))/IP$7,\"\")","v":22.198333333333334},{"$f":"IF(IQ10<>\"\",(HLOOKUP(IQ$3,Rekenblad!$E$3:$BE$123,118,0))/IQ$7,\"\")","v":22.198333333333334},{"$f":"IF(IR10<>\"\",(HLOOKUP(IR$3,Rekenblad!$E$3:$BE$123,118,0))/IR$7,\"\")","v":22.198333333333334},{"$f":"IF(IS10<>\"\",(HLOOKUP(IS$3,Rekenblad!$E$3:$BE$123,118,0))/IS$7,\"\")","v":22.198333333333334},{"$f":"IF(IT10<>\"\",(HLOOKUP(IT$3,Rekenblad!$E$3:$BE$123,118,0))/IT$7,\"\")","v":22.198333333333334},{"$f":"IF(IU10<>\"\",(HLOOKUP(IU$3,Rekenblad!$E$3:$BE$123,118,0))/IU$7,\"\")","v":22.198333333333334},{"$f":"IF(IV10<>\"\",(HLOOKUP(IV$3,Rekenblad!$E$3:$BE$123,118,0))/IV$7,\"\")","v":""},{"$f":"IF(IW10<>\"\",(HLOOKUP(IW$3,Rekenblad!$E$3:$BE$123,118,0))/IW$7,\"\")","v":29.216000000000008},{"$f":"IF(IX10<>\"\",(HLOOKUP(IX$3,Rekenblad!$E$3:$BE$123,118,0))/IX$7,\"\")","v":29.216000000000008},{"$f":"IF(IY10<>\"\",(HLOOKUP(IY$3,Rekenblad!$E$3:$BE$123,118,0))/IY$7,\"\")","v":29.216000000000008},{"$f":"IF(IZ10<>\"\",(HLOOKUP(IZ$3,Rekenblad!$E$3:$BE$123,118,0))/IZ$7,\"\")","v":29.216000000000008},{"$f":"IF(JA10<>\"\",(HLOOKUP(JA$3,Rekenblad!$E$3:$BE$123,118,0))/JA$7,\"\")","v":29.216000000000008},{"$f":"IF(JB10<>\"\",(HLOOKUP(JB$3,Rekenblad!$E$3:$BE$123,118,0))/JB$7,\"\")","v":""},{"$f":"IF(JC10<>\"\",(HLOOKUP(JC$3,Rekenblad!$E$3:$BE$123,118,0))/JC$7,\"\")","v":""},{"$f":"IF(JD10<>\"\",(HLOOKUP(JD$3,Rekenblad!$E$3:$BE$123,118,0))/JD$7,\"\")","v":97.018999999999991},{"$f":"IF(JE10<>\"\",(HLOOKUP(JE$3,Rekenblad!$E$3:$BE$123,118,0))/JE$7,\"\")","v":97.018999999999991},{"$f":"IF(JF10<>\"\",(HLOOKUP(JF$3,Rekenblad!$E$3:$BE$123,118,0))/JF$7,\"\")","v":97.018999999999991},{"$f":"IF(JG10<>\"\",(HLOOKUP(JG$3,Rekenblad!$E$3:$BE$123,118,0))/JG$7,\"\")","v":97.018999999999991},{"$f":"IF(JH10<>\"\",(HLOOKUP(JH$3,Rekenblad!$E$3:$BE$123,118,0))/JH$7,\"\")","v":97.018999999999991},{"$f":"IF(JI10<>\"\",(HLOOKUP(JI$3,Rekenblad!$E$3:$BE$123,118,0))/JI$7,\"\")","v":""},{"$f":"IF(JJ10<>\"\",(HLOOKUP(JJ$3,Rekenblad!$E$3:$BE$123,118,0))/JJ$7,\"\")","v":""},{"$f":"IF(JK10<>\"\",(HLOOKUP(JK$3,Rekenblad!$E$3:$BE$123,118,0))/JK$7,\"\")","v":27.783333333333331},{"$f":"IF(JL10<>\"\",(HLOOKUP(JL$3,Rekenblad!$E$3:$BE$123,118,0))/JL$7,\"\")","v":27.783333333333331},{"$f":"IF(JM10<>\"\",(HLOOKUP(JM$3,Rekenblad!$E$3:$BE$123,118,0))/JM$7,\"\")","v":27.783333333333331},{"$f":"IF(JN10<>\"\",(HLOOKUP(JN$3,Rekenblad!$E$3:$BE$123,118,0))/JN$7,\"\")","v":27.783333333333331},{"$f":"IF(JO10<>\"\",(HLOOKUP(JO$3,Rekenblad!$E$3:$BE$123,118,0))/JO$7,\"\")","v":27.783333333333331},{"$f":"IF(JP10<>\"\",(HLOOKUP(JP$3,Rekenblad!$E$3:$BE$123,118,0))/JP$7,\"\")","v":27.783333333333331},{"$f":"IF(JQ10<>\"\",(HLOOKUP(JQ$3,Rekenblad!$E$3:$BE$123,118,0))/JQ$7,\"\")","v":""},{"$f":"IF(JR10<>\"\",(HLOOKUP(JR$3,Rekenblad!$E$3:$BE$123,118,0))/JR$7,\"\")","v":57.383000000000003},{"$f":"IF(JS10<>\"\",(HLOOKUP(JS$3,Rekenblad!$E$3:$BE$123,118,0))/JS$7,\"\")","v":57.383000000000003},{"$f":"IF(JT10<>\"\",(HLOOKUP(JT$3,Rekenblad!$E$3:$BE$123,118,0))/JT$7,\"\")","v":57.383000000000003},{"$f":"IF(JU10<>\"\",(HLOOKUP(JU$3,Rekenblad!$E$3:$BE$123,118,0))/JU$7,\"\")","v":57.383000000000003},{"$f":"IF(JV10<>\"\",(HLOOKUP(JV$3,Rekenblad!$E$3:$BE$123,118,0))/JV$7,\"\")","v":57.383000000000003},{"$f":"IF(JW10<>\"\",(HLOOKUP(JW$3,Rekenblad!$E$3:$BE$123,118,0))/JW$7,\"\")","v":""},{"$f":"IF(JX10<>\"\",(HLOOKUP(JX$3,Rekenblad!$E$3:$BE$123,118,0))/JX$7,\"\")","v":""},{"$f":"IF(JY10<>\"\",(HLOOKUP(JY$3,Rekenblad!$E$3:$BE$123,118,0))/JY$7,\"\")","v":""},{"$f":"IF(JZ10<>\"\",(HLOOKUP(JZ$3,Rekenblad!$E$3:$BE$123,118,0))/JZ$7,\"\")","v":""},{"$f":"IF(KA10<>\"\",(HLOOKUP(KA$3,Rekenblad!$E$3:$BE$123,118,0))/KA$7,\"\")","v":""},{"$f":"IF(KB10<>\"\",(HLOOKUP(KB$3,Rekenblad!$E$3:$BE$123,118,0))/KB$7,\"\")","v":""},{"$f":"IF(KC10<>\"\",(HLOOKUP(KC$3,Rekenblad!$E$3:$BE$123,118,0))/KC$7,\"\")","v":""},{"$f":"IF(KD10<>\"\",(HLOOKUP(KD$3,Rekenblad!$E$3:$BE$123,118,0))/KD$7,\"\")","v":""},{"$f":"IF(KE10<>\"\",(HLOOKUP(KE$3,Rekenblad!$E$3:$BE$123,118,0))/KE$7,\"\")","v":""},{"$f":"IF(KF10<>\"\",(HLOOKUP(KF$3,Rekenblad!$E$3:$BE$123,118,0))/KF$7,\"\")","v":""},{"$f":"IF(KG10<>\"\",(HLOOKUP(KG$3,Rekenblad!$E$3:$BE$123,118,0))/KG$7,\"\")","v":""},{"$f":"IF(KH10<>\"\",(HLOOKUP(KH$3,Rekenblad!$E$3:$BE$123,118,0))/KH$7,\"\")","v":""},{"$f":"IF(KI10<>\"\",(HLOOKUP(KI$3,Rekenblad!$E$3:$BE$123,118,0))/KI$7,\"\")","v":""},{"$f":"IF(KJ10<>\"\",(HLOOKUP(KJ$3,Rekenblad!$E$3:$BE$123,118,0))/KJ$7,\"\")","v":""},{"$f":"IF(KK10<>\"\",(HLOOKUP(KK$3,Rekenblad!$E$3:$BE$123,118,0))/KK$7,\"\")","v":""},{"$f":"IF(KL10<>\"\",(HLOOKUP(KL$3,Rekenblad!$E$3:$BE$123,118,0))/KL$7,\"\")","v":""},{"$f":"IF(KM10<>\"\",(HLOOKUP(KM$3,Rekenblad!$E$3:$BE$123,118,0))/KM$7,\"\")","v":""},{"$f":"IF(KN10<>\"\",(HLOOKUP(KN$3,Rekenblad!$E$3:$BE$123,118,0))/KN$7,\"\")","v":""},{"$f":"IF(KO10<>\"\",(HLOOKUP(KO$3,Rekenblad!$E$3:$BE$123,118,0))/KO$7,\"\")","v":""},{"$f":"IF(KP10<>\"\",(HLOOKUP(KP$3,Rekenblad!$E$3:$BE$123,118,0))/KP$7,\"\")","v":""},{"$f":"IF(KQ10<>\"\",(HLOOKUP(KQ$3,Rekenblad!$E$3:$BE$123,118,0))/KQ$7,\"\")","v":""},{"$f":"IF(KR10<>\"\",(HLOOKUP(KR$3,Rekenblad!$E$3:$BE$123,118,0))/KR$7,\"\")","v":""},{"$f":"IF(KS10<>\"\",(HLOOKUP(KS$3,Rekenblad!$E$3:$BE$123,118,0))/KS$7,\"\")","v":""},{"$f":"IF(KT10<>\"\",(HLOOKUP(KT$3,Rekenblad!$E$3:$BE$123,118,0))/KT$7,\"\")","v":""},{"$f":"IF(KU10<>\"\",(HLOOKUP(KU$3,Rekenblad!$E$3:$BE$123,118,0))/KU$7,\"\")","v":""},{"$f":"IF(KV10<>\"\",(HLOOKUP(KV$3,Rekenblad!$E$3:$BE$123,118,0))/KV$7,\"\")","v":""},{"$f":"IF(KW10<>\"\",(HLOOKUP(KW$3,Rekenblad!$E$3:$BE$123,118,0))/KW$7,\"\")","v":""},{"$f":"IF(KX10<>\"\",(HLOOKUP(KX$3,Rekenblad!$E$3:$BE$123,118,0))/KX$7,\"\")","v":""},{"$f":"IF(KY10<>\"\",(HLOOKUP(KY$3,Rekenblad!$E$3:$BE$123,118,0))/KY$7,\"\")","v":""},{"$f":"IF(KZ10<>\"\",(HLOOKUP(KZ$3,Rekenblad!$E$3:$BE$123,118,0))/KZ$7,\"\")","v":""},{"$f":"IF(LA10<>\"\",(HLOOKUP(LA$3,Rekenblad!$E$3:$BE$123,118,0))/LA$7,\"\")","v":""},{"$f":"IF(LB10<>\"\",(HLOOKUP(LB$3,Rekenblad!$E$3:$BE$123,118,0))/LB$7,\"\")","v":""},{"$f":"IF(LC10<>\"\",(HLOOKUP(LC$3,Rekenblad!$E$3:$BE$123,118,0))/LC$7,\"\")","v":""},{"$f":"IF(LD10<>\"\",(HLOOKUP(LD$3,Rekenblad!$E$3:$BE$123,118,0))/LD$7,\"\")","v":""},{"$f":"IF(LE10<>\"\",(HLOOKUP(LE$3,Rekenblad!$E$3:$BE$123,118,0))/LE$7,\"\")","v":""},{"$f":"IF(LF10<>\"\",(HLOOKUP(LF$3,Rekenblad!$E$3:$BE$123,118,0))/LF$7,\"\")","v":""},{"$f":"IF(LG10<>\"\",(HLOOKUP(LG$3,Rekenblad!$E$3:$BE$123,118,0))/LG$7,\"\")","v":""},{"$f":"IF(LH10<>\"\",(HLOOKUP(LH$3,Rekenblad!$E$3:$BE$123,118,0))/LH$7,\"\")","v":""},{"$f":"IF(LI10<>\"\",(HLOOKUP(LI$3,Rekenblad!$E$3:$BE$123,118,0))/LI$7,\"\")","v":""},{"$f":"IF(LJ10<>\"\",(HLOOKUP(LJ$3,Rekenblad!$E$3:$BE$123,118,0))/LJ$7,\"\")","v":""},{"$f":"IF(LK10<>\"\",(HLOOKUP(LK$3,Rekenblad!$E$3:$BE$123,118,0))/LK$7,\"\")","v":""},{"$f":"IF(LL10<>\"\",(HLOOKUP(LL$3,Rekenblad!$E$3:$BE$123,118,0))/LL$7,\"\")","v":""},{"$f":"IF(LM10<>\"\",(HLOOKUP(LM$3,Rekenblad!$E$3:$BE$123,118,0))/LM$7,\"\")","v":""},{"$f":"IF(LN10<>\"\",(HLOOKUP(LN$3,Rekenblad!$E$3:$BE$123,118,0))/LN$7,\"\")","v":""},{"$f":"IF(LO10<>\"\",(HLOOKUP(LO$3,Rekenblad!$E$3:$BE$123,118,0))/LO$7,\"\")","v":""},{"$f":"IF(LP10<>\"\",(HLOOKUP(LP$3,Rekenblad!$E$3:$BE$123,118,0))/LP$7,\"\")","v":""},{"$f":"IF(LQ10<>\"\",(HLOOKUP(LQ$3,Rekenblad!$E$3:$BE$123,118,0))/LQ$7,\"\")","v":""},{"$f":"IF(LR10<>\"\",(HLOOKUP(LR$3,Rekenblad!$E$3:$BE$123,118,0))/LR$7,\"\")","v":""},{"$f":"IF(LS10<>\"\",(HLOOKUP(LS$3,Rekenblad!$E$3:$BE$123,118,0))/LS$7,\"\")","v":""},{"$f":"IF(LT10<>\"\",(HLOOKUP(LT$3,Rekenblad!$E$3:$BE$123,118,0))/LT$7,\"\")","v":""},{"$f":"IF(LU10<>\"\",(HLOOKUP(LU$3,Rekenblad!$E$3:$BE$123,118,0))/LU$7,\"\")","v":""},{"$f":"IF(LV10<>\"\",(HLOOKUP(LV$3,Rekenblad!$E$3:$BE$123,118,0))/LV$7,\"\")","v":""},{"$f":"IF(LW10<>\"\",(HLOOKUP(LW$3,Rekenblad!$E$3:$BE$123,118,0))/LW$7,\"\")","v":""},{"$f":"IF(LX10<>\"\",(HLOOKUP(LX$3,Rekenblad!$E$3:$BE$123,118,0))/LX$7,\"\")","v":""},{"$f":"IF(LY10<>\"\",(HLOOKUP(LY$3,Rekenblad!$E$3:$BE$123,118,0))/LY$7,\"\")","v":""},{"$f":"IF(LZ10<>\"\",(HLOOKUP(LZ$3,Rekenblad!$E$3:$BE$123,118,0))/LZ$7,\"\")","v":""},{"$f":"IF(MA10<>\"\",(HLOOKUP(MA$3,Rekenblad!$E$3:$BE$123,118,0))/MA$7,\"\")","v":""},{"$f":"IF(MB10<>\"\",(HLOOKUP(MB$3,Rekenblad!$E$3:$BE$123,118,0))/MB$7,\"\")","v":""},{"$f":"IF(MC10<>\"\",(HLOOKUP(MC$3,Rekenblad!$E$3:$BE$123,118,0))/MC$7,\"\")","v":""},{"$f":"IF(MD10<>\"\",(HLOOKUP(MD$3,Rekenblad!$E$3:$BE$123,118,0))/MD$7,\"\")","v":""},{"$f":"IF(ME10<>\"\",(HLOOKUP(ME$3,Rekenblad!$E$3:$BE$123,118,0))/ME$7,\"\")","v":""},{"$f":"IF(MF10<>\"\",(HLOOKUP(MF$3,Rekenblad!$E$3:$BE$123,118,0))/MF$7,\"\")","v":""},{"$f":"IF(MG10<>\"\",(HLOOKUP(MG$3,Rekenblad!$E$3:$BE$123,118,0))/MG$7,\"\")","v":""},{"$f":"IF(MH10<>\"\",(HLOOKUP(MH$3,Rekenblad!$E$3:$BE$123,118,0))/MH$7,\"\")","v":""},{"$f":"IF(MI10<>\"\",(HLOOKUP(MI$3,Rekenblad!$E$3:$BE$123,118,0))/MI$7,\"\")","v":""},{"$f":"IF(MJ10<>\"\",(HLOOKUP(MJ$3,Rekenblad!$E$3:$BE$123,118,0))/MJ$7,\"\")","v":""},{"$f":"IF(MK10<>\"\",(HLOOKUP(MK$3,Rekenblad!$E$3:$BE$123,118,0))/MK$7,\"\")","v":""},{"$f":"IF(ML10<>\"\",(HLOOKUP(ML$3,Rekenblad!$E$3:$BE$123,118,0))/ML$7,\"\")","v":""},{"$f":"IF(MM10<>\"\",(HLOOKUP(MM$3,Rekenblad!$E$3:$BE$123,118,0))/MM$7,\"\")","v":""},{"$f":"IF(MN10<>\"\",(HLOOKUP(MN$3,Rekenblad!$E$3:$BE$123,118,0))/MN$7,\"\")","v":""},{"$f":"IF(MO10<>\"\",(HLOOKUP(MO$3,Rekenblad!$E$3:$BE$123,118,0))/MO$7,\"\")","v":""},{"$f":"IF(MP10<>\"\",(HLOOKUP(MP$3,Rekenblad!$E$3:$BE$123,118,0))/MP$7,\"\")","v":""},{"$f":"IF(MQ10<>\"\",(HLOOKUP(MQ$3,Rekenblad!$E$3:$BE$123,118,0))/MQ$7,\"\")","v":""},{"$f":"IF(MR10<>\"\",(HLOOKUP(MR$3,Rekenblad!$E$3:$BE$123,118,0))/MR$7,\"\")","v":""},{"$f":"IF(MS10<>\"\",(HLOOKUP(MS$3,Rekenblad!$E$3:$BE$123,118,0))/MS$7,\"\")","v":""},{"$f":"IF(MT10<>\"\",(HLOOKUP(MT$3,Rekenblad!$E$3:$BE$123,118,0))/MT$7,\"\")","v":""},{"$f":"IF(MU10<>\"\",(HLOOKUP(MU$3,Rekenblad!$E$3:$BE$123,118,0))/MU$7,\"\")","v":""},{"$f":"IF(MV10<>\"\",(HLOOKUP(MV$3,Rekenblad!$E$3:$BE$123,118,0))/MV$7,\"\")","v":""},{"$f":"IF(MW10<>\"\",(HLOOKUP(MW$3,Rekenblad!$E$3:$BE$123,118,0))/MW$7,\"\")","v":""},{"$f":"IF(MX10<>\"\",(HLOOKUP(MX$3,Rekenblad!$E$3:$BE$123,118,0))/MX$7,\"\")","v":""},{"$f":"IF(MY10<>\"\",(HLOOKUP(MY$3,Rekenblad!$E$3:$BE$123,118,0))/MY$7,\"\")","v":""},{"$f":"IF(MZ10<>\"\",(HLOOKUP(MZ$3,Rekenblad!$E$3:$BE$123,118,0))/MZ$7,\"\")","v":""},{"$f":"IF(NA10<>\"\",(HLOOKUP(NA$3,Rekenblad!$E$3:$BE$123,118,0))/NA$7,\"\")","v":""},{"$f":"IF(NB10<>\"\",(HLOOKUP(NB$3,Rekenblad!$E$3:$BE$123,118,0))/NB$7,\"\")","v":""},{"$f":"IF(NC10<>\"\",(HLOOKUP(NC$3,Rekenblad!$E$3:$BE$123,118,0))/NC$7,\"\")","v":""},{"$f":"IF(ND10<>\"\",(HLOOKUP(ND$3,Rekenblad!$E$3:$BE$123,118,0))/ND$7,\"\")","v":""}]
["t.b.d.","t.b.d.","Scrap cost / (Body)",null,{"$f":"IFERROR(E78/E53,\"\")","v":""},"","","","","","","","","","","","","","","","","","","","","","","","","","","","","","","","","","","","","","","","","","","","","","","","","","","","","","","","","","","","","","","",{"$f":"IFERROR(BQ78/BQ53,\"\")","v":""},"","","","","","","","","","","","","","","","","","","","","","","","","","","","","","","","","","","","","","","","",{"$f":"IFERROR(DF78/DF53,\"\")","v":""},{"$f":"IFERROR(DG78/DG53,\"\")","v":""},"","","","","","","","","","","","","","","","","","","","","","","","","","",0.27478969243557771,0.3136356736242884,0.29436509349955475,0.3002470481380563,0.35279829242262539,"","","",0.13514442413162706,0.13014788732394364,0.13440727272727271,0.1439610516066212,0.16762811791383217,"",2.7534693877551024E-2,2.669040553907023E-2,2.2829103214890019E-2,2.1552715654952079E-2,2.4915974145891046E-2,"","",0.1821352169525732,0.16712592592592596,0.15902731277533044,0.15167731092436978,0.14325079365079368,"","",8.5022502250225021E-2,7.8001651527663085E-2,7.4377952755905502E-2,9.0739673390970221E-2,9.6191446028513233E-2,0.20806167400881057,"",0.11829299363057326,0.22241916167664674,{"$f":"IFERROR(FS78/FS53,\"\")","v":9.6227979274611408E-2},9.4997442455242984E-2,0.13605860805860809,"","",4.0304826418289585E-2,3.8762214983713357E-2,3.9209225700164746E-2,3.8825448613376834E-2,0.60253164556962024,"","",0.2519206680584552,0.18781322957198449,0.20145242070116867,0.2135752212389381,0.23453838678328481,0.33566063977746879,"",0.17479189686924496,0.14692260061919504,0.16073158340389501,0.18813082259663033,0.15978451178451181,"","",0,0,0,0,"","","","","","","","","","","","","","","","","","","","","","","","",0.16122950819672133,0.13901060070671378,0.16024439918533606,0.1923716381418093,0.1323465096719933,0.10596632996632997,"",0.30391479289940826,0.23346181818181819,0.28345253863134656,{"$f":"IFERROR(IE78/IE53,\"\")","v":0.24574928229665072},0.24527984718242596,"","",9.3850381679389319E-2,0.10052657399836468,0.10756255468066492,9.2092883895131095E-2,9.181777445855116E-2,"","",7.4553596417576265E-2,7.8300999412110522E-2,7.4117974401780751E-2,8.2445063447848965E-2,0.10685118331327718,0.10433999216607913,"",0.11066666666666669,0.10443610366398573,9.97133105802048E-2,9.4397415185783554E-2,9.7063122923588069E-2,"","",0.40721511017838402,0.34434427684117119,0.30947049441786278,0.28703846153846152,0.31170763052208833,"","",8.515964240102171E-2,8.0941976207817429E-2,7.8986022269604356E-2,9.4581560283687943E-2,0.10242703533026112,0.10927564732874466,"",0.17078273809523811,0.20847593097184378,0.18829532403609517,0.18144822134387353,0.20439180765805878,"","","","","","","","","","","","","","","","","","","","",{"$f":"IFERROR(KQ78/KQ53,\"\")","v":""},"","","","","","","","","","","","","","","","","","","","","","","","","","","","","","","","","","","","","","","","","","","","","","","","","","","","","","","","","","","","","","","",{"$f":"IFERROR(NC78/NC53,\"\")","v":""},""]
[167,167,"Electrode & Maintenance mat.Sides",null,null,null,null,null,null,null,null,null,null,null,null,null,null,null,null,null,null,null,null,null,null,null,null,null,null,null,null,null,null,null,null,null,null,null,null,null,null,null,null,null,null,null,null,null,null,null,null,null,null,null,null,null,null,null,null,null,null,null,null,null,null,null,null,null,null,null,null,null,null,null,null,null,null,null,null,null,null,null,null,null,null,null,null,null,null,null,null,null,null,null,null,null,null,null,null,null,null,null,null,null,null,null,null,null,null,null,null,null,null,null,null,null,null,null,null,null,null,null,null,null,null,null,null,null,null,null,null,null,null,null,null,null,null,0,0,0,0,0,null,null,null,0,0,0,0,0,null,0,0,0,0,0,null,null,0,0,0,0,0,null,null,0,0,0,0,0,0,null,0,0,0,0,0,null,null,null,null,null,null,null,null,null,null,null,null,null,null,null,null,0,0,0,0,0,null,null,null,null,null,null,null,null,null,null,null,null,null,null,null,null,null,null,null,null,null,null,null,null,null,null,null,null,null,null,null,null,null,null,null,null,null,250.12]
["t.b.d.","t.b.d.","Electrode & Maintenance mat.Sides / (Body)",null,{"$f":"IFERROR(E80/E53,\"\")","v":""},"","","","","","","","","","","","","","","","","","","","","","","","","","","","","","","","","","","","","","","","","","","","","","","","","","","","","","","","","","","","","","","",{"$f":"IFERROR(BQ80/BQ53,\"\")","v":""},"","","","","","","","","","","","","","","","","","","","","","","","","","","","","","","","","","","","","","","","",{"$f":"IFERROR(DF80/DF53,\"\")","v":""},{"$f":"IFERROR(DG80/DG53,\"\")","v":""},{"$f":"IFERROR(DH80/DH53,\"\")","v":""},{"$f":"IFERROR(DI80/DI53,\"\")","v":""},{"$f":"IFERROR(DJ80/DJ53,\"\")","v":""},{"$f":"IFERROR(DK80/DK53,\"\")","v":""},{"$f":"IFERROR(DL80/DL53,\"\")","v":""},{"$f":"IFERROR(DM80/DM53,\"\")","v":""},{"$f":"IFERROR(DN80/DN53,\"\")","v":""},{"$f":"IFERROR(DO80/DO53,\"\")","v":""},{"$f":"IFERROR(DP80/DP53,\"\")","v":""},{"$f":"IFERROR(DQ80/DQ53,\"\")","v":""},{"$f":"IFERROR(DR80/DR53,\"\")","v":""},{"$f":"IFERROR(DS80/DS53,\"\")","v":""},{"$f":"IFERROR(DT80/DT53,\"\")","v":""},{"$f":"IFERROR(DU80/DU53,\"\")","v":""},{"$f":"IFERROR(DV80/DV53,\"\")","v":""},{"$f":"IFERROR(DW80/DW53,\"\")","v":""},{"$f":"IFERROR(DX80/DX53,\"\")","v":""},{"$f":"IFERROR(DY80/DY53,\"\")","v":""},{"$f":"IFERROR(DZ80/DZ53,\"\")","v":""},{"$f":"IFERROR(EA80/EA53,\"\")","v":""},{"$f":"IFERROR(EB80/EB53,\"\")","v":""},{"$f":"IFERROR(EC80/EC53,\"\")","v":""},{"$f":"IFERROR(ED80/ED53,\"\")","v":""},{"$f":"IFERROR(EE80/EE53,\"\")","v":""},{"$f":"IFERROR(EF80/EF53,\"\")","v":""},{"$f":"IFERROR(EG80/EG53,\"\")","v":""},{"$f":"IFERROR(EH80/EH53,\"\")","v":0},{"$f":"IFERROR(EI80/EI53,\"\")","v":0},{"$f":"IFERROR(EJ80/EJ53,\"\")","v":0},{"$f":"IFERROR(EK80/EK53,\"\")","v":0},{"$f":"IFERROR(EL80/EL53,\"\")","v":0},{"$f":"IFERROR(EM80/EM53,\"\")","v":""},{"$f":"IFERROR(EN80/EN53,\"\")","v":""},{"$f":"IFERROR(EO80/EO53,\"\")","v":""},{"$f":"IFERROR(EP80/EP53,\"\")","v":0},{"$f":"IFERROR(EQ80/EQ53,\"\")","v":0},{"$f":"IFERROR(ER80/ER53,\"\")","v":0},{"$f":"IFERROR(ES80/ES53,\"\")","v":0},{"$f":"IFERROR(ET80/ET53,\"\")","v":0},{"$f":"IFERROR(EU80/EU53,\"\")","v":""},{"$f":"IFERROR(EV80/EV53,\"\")","v":0},{"$f":"IFERROR(EW80/EW53,\"\")","v":0},{"$f":"IFERROR(EX80/EX53,\"\")","v":0},{"$f":"IFERROR(EY80/EY53,\"\")","v":0},{"$f":"IFERROR(EZ80/EZ53,\"\")","v":0},{"$f":"IFERROR(FA80/FA53,\"\")","v":""},{"$f":"IFERROR(FB80/FB53,\"\")","v":""},{"$f":"IFERROR(FC80/FC53,\"\")","v":0},{"$f":"IFERROR(FD80/FD53,\"\")","v":0},{"$f":"IFERROR(FE80/FE53,\"\")","v":0},{"$f":"IFERROR(FF80/FF53,\"\")","v":0},{"$f":"IFERROR(FG80/FG53,\"\")","v":0},{"$f":"IFERROR(FH80/FH53,\"\")","v":""},{"$f":"IFERROR(FI80/FI53,\"\")","v":""},{"$f":"IFERROR(FJ80/FJ53,\"\")","v":0},{"$f":"IFERROR(FK80/FK53,\"\")","v":0},{"$f":"IFERROR(FL80/FL53,\"\")","v":0},{"$f":"IFERROR(FM80/FM53,\"\")","v":0},{"$f":"IFERROR(FN80/FN53,\"\")","v":0},{"$f":"IFERROR(FO80/FO53,\"\")","v":0},{"$f":"IFERROR(FP80/FP53,\"\")","v":""},{"$f":"IFERROR(FQ80/FQ53,\"\")","v":0},{"$f":"IFERROR(FR80/FR53,\"\")","v":0},{"$f":"IFERROR(FS80/FS53,\"\")","v":0},{"$f":"IFERROR(FT80/FT53,\"\")","v":0},{"$f":"IFERROR(FU80/FU53,\"\")","v":0},{"$f":"IFERROR(FV80/FV53,\"\")","v":""},{"$f":"IFERROR(FW80/FW53,\"\")","v":""},{"$f":"IFERROR(FX80/FX53,\"\")","v":0},{"$f":"IFERROR(FY80/FY53,\"\")","v":0},{"$f":"IFERROR(FZ80/FZ53,\"\")","v":0},{"$f":"IFERROR(GA80/GA53,\"\")","v":0},{"$f":"IFERROR(GB80/GB53,\"\")","v":0},{"$f":"IFERROR(GC80/GC53,\"\")","v":""},{"$f":"IFERROR(GD80/GD53,\"\")","v":""},{"$f":"IFERROR(GE80/GE53,\"\")","v":0},{"$f":"IFERROR(GF80/GF53,\"\")","v":0},{"$f":"IFERROR(GG80/GG53,\"\")","v":0},{"$f":"IFERROR(GH80/GH53,\"\")","v":0},{"$f":"IFERROR(GI80/GI53,\"\")","v":0},{"$f":"IFERROR(GJ80/GJ53,\"\")","v":0},{"$f":"IFERROR(GK80/GK53,\"\")","v":""},{"$f":"IFERROR(GL80/GL53,\"\")","v":0},{"$f":"IFERROR(GM80/GM53,\"\")","v":0},{"$f":"IFERROR(GN80/GN53,\"\")","v":0},{"$f":"IFERROR(GO80/GO53,\"\")","v":0},{"$f":"IFERROR(GP80/GP53,\"\")","v":0},{"$f":"IFERROR(GQ80/GQ53,\"\")","v":""},{"$f":"IFERROR(GR80/GR53,\"\")","v":""},{"$f":"IFERROR(GS80/GS53,\"\")","v":0},{"$f":"IFERROR(GT80/GT53,\"\")","v":0},{"$f":"IFERROR(GU80/GU53,\"\")","v":0},{"$f":"IFERROR(GV80/GV53,\"\")","v":0},{"$f":"IFERROR(GW80/GW53,\"\")","v":""},{"$f":"IFERROR(GX80/GX53,\"\")","v":""},{"$f":"IFERROR(GY80/GY53,\"\")","v":""},{"$f":"IFERROR(GZ80/GZ53,\"\")","v":""},{"$f":"IFERROR(HA80/HA53,\"\")","v":""},{"$f":"IFERROR(HB80/HB53,\"\")","v":""},{"$f":"IFERROR(HC80/HC53,\"\")","v":""},{"$f":"IFERROR(HD80/HD53,\"\")","v":""},{"$f":"IFERROR(HE80/HE53,\"\")","v":""},{"$f":"IFERROR(HF80/HF53,\"\")","v":""},{"$f":"IFERROR(HG80/HG53,\"\")","v":""},{"$f":"IFERROR(HH80/HH53,\"\")","v":""},{"$f":"IFERROR(HI80/HI53,\"\")","v":""},{"$f":"IFERROR(HJ80/HJ53,\"\")","v":""},{"$f":"IFERROR(HK80/HK53,\"\")","v":""},{"$f":"IFERROR(HL80/HL53,\"\")","v":""},{"$f":"IFERROR(HM80/HM53,\"\")","v":""},{"$f":"IFERROR(HN80/HN53,\"\")","v":""},{"$f":"IFERROR(HO80/HO53,\"\")","v":""},{"$f":"IFERROR(HP80/HP53,\"\")","v":""},{"$f":"IFERROR(HQ80/HQ53,\"\")","v":""},{"$f":"IFERROR(HR80/HR53,\"\")","v":""},{"$f":"IFERROR(HS80/HS53,\"\")","v":""},{"$f":"IFERROR(HT80/HT53,\"\")","v":""},{"$f":"IFERROR(HU80/HU53,\"\")","v":0},{"$f":"IFERROR(HV80/HV53,\"\")","v":0},{"$f":"IFERROR(HW80/HW53,\"\")","v":0},{"$f":"IFERROR(HX80/HX53,\"\")","v":0},{"$f":"IFERROR(HY80/HY53,\"\")","v":0},{"$f":"IFERROR(HZ80/HZ53,\"\")","v":0},{"$f":"IFERROR(IA80/IA53,\"\")","v":""},{"$f":"IFERROR(IB80/IB53,\"\")","v":1.1839999999999999},{"$f":"IFERROR(IC80/IC53,\"\")","v":0},{"$f":"IFERROR(ID80/ID53,\"\")","v":0},{"$f":"IFERROR(IE80/IE53,\"\")","v":0},{"$f":"IFERROR(IF80/IF53,\"\")","v":0},{"$f":"IFERROR(IG80/IG53,\"\")","v":""},{"$f":"IFERROR(IH80/IH53,\"\")","v":""},{"$f":"IFERROR(II80/II53,\"\")","v":0},{"$f":"IFERROR(IJ80/IJ53,\"\")","v":0},{"$f":"IFERROR(IK80/IK53,\"\")","v":0},{"$f":"IFERROR(IL80/IL53,\"\")","v":0},{"$f":"IFERROR(IM80/IM53,\"\")","v":0},{"$f":"IFERROR(IN80/IN53,\"\")","v":""},{"$f":"IFERROR(IO80/IO53,\"\")","v":""},{"$f":"IFERROR(IP80/IP53,\"\")","v":0},{"$f":"IFERROR(IQ80/IQ53,\"\")","v":0},{"$f":"IFERROR(IR80/IR53,\"\")","v":0},{"$f":"IFERROR(IS80/IS53,\"\")","v":0},{"$f":"IFERROR(IT80/IT53,\"\")","v":0},{"$f":"IFERROR(IU80/IU53,\"\")","v":0},{"$f":"IFERROR(IV80/IV53,\"\")","v":""},{"$f":"IFERROR(IW80/IW53,\"\")","v":0},{"$f":"IFERROR(IX80/IX53,\"\")","v":0},{"$f":"IFERROR(IY80/IY53,\"\")","v":0},{"$f":"IFERROR(IZ80/IZ53,\"\")","v":0},{"$f":"IFERROR(JA80/JA53,\"\")","v":0},{"$f":"IFERROR(JB80/JB53,\"\")","v":""},{"$f":"IFERROR(JC80/JC53,\"\")","v":""},{"$f":"IFERROR(JD80/JD53,\"\")","v":0},{"$f":"IFERROR(JE80/JE53,\"\")","v":0},{"$f":"IFERROR(JF80/JF53,\"\")","v":0},{"$f":"IFERROR(JG80/JG53,\"\")","v":0},{"$f":"IFERROR(JH80/JH53,\"\")","v":0},{"$f":"IFERROR(JI80/JI53,\"\")","v":""},{"$f":"IFERROR(JJ80/JJ53,\"\")","v":""},{"$f":"IFERROR(JK80/JK53,\"\")","v":0},{"$f":"IFERROR(JL80/JL53,\"\")","v":0},{"$f":"IFERROR(JM80/JM53,\"\")","v":0},{"$f":"IFERROR(JN80/JN53,\"\")","v":0},{"$f":"IFERROR(JO80/JO53,\"\")","v":0},{"$f":"IFERROR(JP80/JP53,\"\")","v":0},{"$f":"IFERROR(JQ80/JQ53,\"\")","v":""},{"$f":"IFERROR(JR80/JR53,\"\")","v":0},{"$f":"IFERROR(JS80/JS53,\"\")","v":0},{"$f":"IFERROR(JT80/JT53,\"\")","v":0},{"$f":"IFERROR(JU80/JU53,\"\")","v":0},{"$f":"IFERROR(JV80/JV53,\"\")","v":0},{"$f":"IFERROR(JW80/JW53,\"\")","v":""},{"$f":"IFERROR(JX80/JX53,\"\")","v":""},{"$f":"IFERROR(JY80/JY53,\"\")","v":""},{"$f":"IFERROR(JZ80/JZ53,\"\")","v":""},{"$f":"IFERROR(KA80/KA53,\"\")","v":""},{"$f":"IFERROR(KB80/KB53,\"\")","v":""},{"$f":"IFERROR(KC80/KC53,\"\")","v":""},{"$f":"IFERROR(KD80/KD53,\"\")","v":""},{"$f":"IFERROR(KE80/KE53,\"\")","v":""},{"$f":"IFERROR(KF80/KF53,\"\")","v":""},{"$f":"IFERROR(KG80/KG53,\"\")","v":""},{"$f":"IFERROR(KH80/KH53,\"\")","v":""},{"$f":"IFERROR(KI80/KI53,\"\")","v":""},{"$f":"IFERROR(KJ80/KJ53,\"\")","v":""},{"$f":"IFERROR(KK80/KK53,\"\")","v":""},{"$f":"IFERROR(KL80/KL53,\"\")","v":""},{"$f":"IFERROR(KM80/KM53,\"\")","v":""},{"$f":"IFERROR(KN80/KN53,\"\")","v":""},{"$f":"IFERROR(KO80/KO53,\"\")","v":""},{"$f":"IFERROR(KP80/KP53,\"\")","v":""},{"$f":"IFERROR(KQ80/KQ53,\"\")","v":""},{"$f":"IFERROR(KR80/KR53,\"\")","v":""},{"$f":"IFERROR(KS80/KS53,\"\")","v":""},{"$f":"IFERROR(KT80/KT53,\"\")","v":""},{"$f":"IFERROR(KU80/KU53,\"\")","v":""},{"$f":"IFERROR(KV80/KV53,\"\")","v":""},{"$f":"IFERROR(KW80/KW53,\"\")","v":""},{"$f":"IFERROR(KX80/KX53,\"\")","v":""},{"$f":"IFERROR(KY80/KY53,\"\")","v":""},{"$f":"IFERROR(KZ80/KZ53,\"\")","v":""},{"$f":"IFERROR(LA80/LA53,\"\")","v":""},{"$f":"IFERROR(LB80/LB53,\"\")","v":""},{"$f":"IFERROR(LC80/LC53,\"\")","v":""},{"$f":"IFERROR(LD80/LD53,\"\")","v":""},{"$f":"IFERROR(LE80/LE53,\"\")","v":""},{"$f":"IFERROR(LF80/LF53,\"\")","v":""},{"$f":"IFERROR(LG80/LG53,\"\")","v":""},{"$f":"IFERROR(LH80/LH53,\"\")","v":""},{"$f":"IFERROR(LI80/LI53,\"\")","v":""},{"$f":"IFERROR(LJ80/LJ53,\"\")","v":""},{"$f":"IFERROR(LK80/LK53,\"\")","v":""},{"$f":"IFERROR(LL80/LL53,\"\")","v":""},{"$f":"IFERROR(LM80/LM53,\"\")","v":""},{"$f":"IFERROR(LN80/LN53,\"\")","v":""},{"$f":"IFERROR(LO80/LO53,\"\")","v":""},{"$f":"IFERROR(LP80/LP53,\"\")","v":""},{"$f":"IFERROR(LQ80/LQ53,\"\")","v":""},{"$f":"IFERROR(LR80/LR53,\"\")","v":""},{"$f":"IFERROR(LS80/LS53,\"\")","v":""},{"$f":"IFERROR(LT80/LT53,\"\")","v":""},{"$f":"IFERROR(LU80/LU53,\"\")","v":""},{"$f":"IFERROR(LV80/LV53,\"\")","v":""},{"$f":"IFERROR(LW80/LW53,\"\")","v":""},{"$f":"IFERROR(LX80/LX53,\"\")","v":""},{"$f":"IFERROR(LY80/LY53,\"\")","v":""},{"$f":"IFERROR(LZ80/LZ53,\"\")","v":""},{"$f":"IFERROR(MA80/MA53,\"\")","v":""},{"$f":"IFERROR(MB80/MB53,\"\")","v":""},{"$f":"IFERROR(MC80/MC53,\"\")","v":""},{"$f":"IFERROR(MD80/MD53,\"\")","v":""},{"$f":"IFERROR(ME80/ME53,\"\")","v":""},{"$f":"IFERROR(MF80/MF53,\"\")","v":""},{"$f":"IFERROR(MG80/MG53,\"\")","v":""},{"$f":"IFERROR(MH80/MH53,\"\")","v":""},{"$f":"IFERROR(MI80/MI53,\"\")","v":""},{"$f":"IFERROR(MJ80/MJ53,\"\")","v":""},{"$f":"IFERROR(MK80/MK53,\"\")","v":""},{"$f":"IFERROR(ML80/ML53,\"\")","v":""},{"$f":"IFERROR(MM80/MM53,\"\")","v":""},{"$f":"IFERROR(MN80/MN53,\"\")","v":""},{"$f":"IFERROR(MO80/MO53,\"\")","v":""},{"$f":"IFERROR(MP80/MP53,\"\")","v":""},{"$f":"IFERROR(MQ80/MQ53,\"\")","v":""},{"$f":"IFERROR(MR80/MR53,\"\")","v":""},{"$f":"IFERROR(MS80/MS53,\"\")","v":""},{"$f":"IFERROR(MT80/MT53,\"\")","v":""},{"$f":"IFERROR(MU80/MU53,\"\")","v":""},{"$f":"IFERROR(MV80/MV53,\"\")","v":""},{"$f":"IFERROR(MW80/MW53,\"\")","v":""},{"$f":"IFERROR(MX80/MX53,\"\")","v":""},{"$f":"IFERROR(MY80/MY53,\"\")","v":""},{"$f":"IFERROR(MZ80/MZ53,\"\")","v":""},{"$f":"IFERROR(NA80/NA53,\"\")","v":""},{"$f":"IFERROR(NB80/NB53,\"\")","v":""},{"$f":"IFERROR(NC80/NC53,\"\")","v":""},{"$f":"IFERROR(ND80/ND53,\"\")","v":""}]
[5,"Additional info"]
["Goal",null,"K.P.I."]

{"sheet":"Balanced Scorecard","index":1,"n_rows":82,"n_cols":12,"rows_kept":82,"cut":false,"hidden":false,"merged":[[71,0,71,1],[79,0,79,1],[1,4,1,6],[1,0,1,1],[1,7,1,9],[2,11,3,11],[2,10,3,10],[3,0,3,1],[54,0,55,1],[54,2,55,2],[5,0,6,1],[5,2,6,2],[24,0,25,1],[24,2,25,2]]}
[null,null,null,{"$f":"$C$3&D$4&$D$2","v":"35MaE2"},"35DiE2","35WoE2","35DoE2","35VrE2","35ZaE2","35ZoE2"]
["Balanced Score Card",null,{"$f":"'Input E2'!A4","v":"Taakgroep 286"},{"$f":"'Input E2'!C4","v":"E2"},"Rayonleider:",null,null,{"$f":"'Input E2'!C5","v":"J. op het Veld"},null,null,null,{"$f":"MONTH(G3)","v":8}]
[null,"Week",35,{"$f":"HLOOKUP(D$1,'Input E2'!E1:ND5,4,0)","v":"2018-08-27"},{"$f":"HLOOKUP(E$1,'Input E2'!F1:NE5,4,0)","v":"2018-08-28"},{"$f":"HLOOKUP(F$1,'Input E2'!G1:NF5,4,0)","v":"2018-08-29"},{"$f":"HLOOKUP(G$1,'Input E2'!H1:NG5,4,0)","v":"2018-08-30"},{"$f":"HLOOKUP(H$1,'Input E2'!I1:NH5,4,0)","v":"2018-08-31"},{"$f":"HLOOKUP(I$1,'Input E2'!J1:NI5,4,0)","v":"2018-09-01"},{"$f":"HLOOKUP(J$1,'Input E2'!K1:NJ5,4,0)","v":"2018-09-02"},"Weekresult","Monthresult"]
["FTE Volgens SAP",null,{"$f":"A8","v":18},"Ma","Di","Wo","Do","Vr","Za","Zo"]
[1,"People (P)","Status: Ready",{"$f":"IFERROR(INDEX(DATA!$A$1:$NI$21,MATCH($D2,DATA!$A$1:$A$21,0),MATCH(D$3,DATA!$A$1:$NJ$1,0)),\"\")","v":"MD"},{"$f":"IFERROR(INDEX(DATA!$A$1:$NI$21,MATCH($D2,DATA!$A$1:$A$21,0),MATCH(E$3,DATA!$A$1:$NJ$1,0)),\"\")","v":"MD"},{"$f":"IFERROR(INDEX(DATA!$A$1:$NI$21,MATCH($D2,DATA!$A$1:$A$21,0),MATCH(F$3,DATA!$A$1:$NJ$1,0)),\"\")","v":"MD"},{"$f":"IFERROR(INDEX(DATA!$A$1:$NI$21,MATCH($D2,DATA!$A$1:$A$21,0),MATCH(G$3,DATA!$A$1:$NJ$1,0)),\"\")","v":"MD"},{"$f":"IFERROR(INDEX(DATA!$A$1:$NI$21,MATCH($D2,DATA!$A$1:$A$21,0),MATCH(H$3,DATA!$A$1:$NJ$1,0)),\"\")","v":"MD"},{"$f":"IFERROR(INDEX(DATA!$A$1:$NI$21,MATCH($D2,DATA!$A$1:$A$21,0),MATCH(I$3,DATA!$A$1:$NJ$1,0)),\"\")","v":"Za"},{"$f":"IFERROR(INDEX(DATA!$A$1:$NI$21,MATCH($D2,DATA!$A$1:$A$21,0),MATCH(J$3,DATA!$A$1:$NJ$1,0)),\"\")","v":"Zo"},{"$f":"C3","v":35},{"$f":"TEXT(G3,\"MMM\")","v":"aug"}]
["Goal",null,"K.P.I."]
[]
[{"$f":"'Input E2'!A10","v":18},{"$f":"'Input E2'!B10","v":18},{"$f":"'Input E2'!C10","v":"FTE SAP [#]"},{"$f":"HLOOKUP(D$1,'Input E2'!$E$1:$ND$106,10,0)","v":18},{"$f":"HLOOKUP(E$1,'Input E2'!$E$1:$ND$106,10,0)","v":18},{"$f":"HLOOKUP(F$1,'Input E2'!$E$1:$ND$106,10,0)","v":18},{"$f":"HLOOKUP(G$1,'Input E2'!$E$1:$ND$106,10,0)","v":18},{"$f":"HLOOKUP(H$1,'Input E2'!$E$1:$ND$106,10,0)","v":18},{"$f":"HLOOKUP(I$1,'Input E2'!$E$1:$ND$106,10,0)","v":0},{"$f":"HLOOKUP(J$1,'Input E2'!$E$1:$ND$106,10,0)","v":0},{"$f":"SUM(D8:J8)","v":90},{"$f":"HLOOKUP($L$2,Rekenblad!$BJ$3:$BU$200,2,0)","v":288}]
[{"$f":"'Input E2'!A11","v":16},{"$f":"'Input E2'!B11","v":16},{"$f":"'Input E2'!C11","v":"Functions required [#l]"},{"$f":"HLOOKUP(D$1,'Input E2'!$E$1:$ND$106,11,0)","v":16},{"$f":"HLOOKUP(E$1,'Input E2'!$E$1:$ND$106,11,0)","v":16},{"$f":"HLOOKUP(F$1,'Input E2'!$E$1:$ND$106,11,0)","v":16},{"$f":"HLOOKUP(G$1,'Input E2'!$E$1:$ND$106,11,0)","v":16},{"$f":"HLOOKUP(H$1,'Input E2'!$E$1:$ND$106,11,0)","v":16},{"$f":"HLOOKUP(I$1,'Input E2'!$E$1:$ND$106,11,0)","v":0},{"$f":"HLOOKUP(J$1,'Input E2'!$E$1:$ND$106,11,0)","v":0},{"$f":"SUM(D9:J9)","v":80},{"$f":"HLOOKUP($L$2,Rekenblad!$BJ$3:$BU$200,3,0)","v":256}]
[{"$f":"'Input E2'!A12","v":20},{"$f":"'Input E2'!B12","v":20},{"$f":"'Input E2'!C12","v":"Direct blue collar present [#]"},{"$f":"HLOOKUP(D$1,'Input E2'!$E$1:$ND$106,12,0)","v":17},{"$f":"HLOOKUP(E$1,'Input E2'!$E$1:$ND$106,12,0)","v":17},{"$f":"HLOOKUP(F$1,'Input E2'!$E$1:$ND$106,12,0)","v":16},{"$f":"HLOOKUP(G$1,'Input E2'!$E$1:$ND$106,12,0)","v":17},{"$f":"HLOOKUP(H$1,'Input E2'!$E$1:$ND$106,12,0)","v":15},{"$f":"HLOOKUP(I$1,'Input E2'!$E$1:$ND$106,12,0)","v":0},{"$f":"HLOOKUP(J$1,'Input E2'!$E$1:$ND$106,12,0)","v":0},{"$f":"SUM(D10:J10)","v":82},{"$f":"HLOOKUP($L$2,Rekenblad!$BJ$3:$BU$200,4,0)","v":241}]
[{"$f":"'Input E2'!A13","v":0},{"$f":"'Input E2'!B13","v":">=0"},{"$f":"'Input E2'!C13","v":"Idle capacity"},{"$f":"IFERROR(D10-D9,\"\")","v":1},{"$f":"IFERROR(E10-E9,\"\")","v":1},0,1,-1,0,0,{"$f":"IFERROR(SUM(D11:J11),\"\")","v":2},{"$f":"HLOOKUP($L$2,Rekenblad!$BJ$3:$BU$200,5,0)","v":-15}]
[{"$f":"'Input E2'!A14","v":0},{"$f":"'Input E2'!B14","v":"Max"},{"$f":"'Input E2'!C14","v":"Idle (aantal Medewerkers uitleen/ Opleiding)"},{"$f":"HLOOKUP(D$1,'Input E2'!$E$1:$ND$106,14,0)","v":0},{"$f":"HLOOKUP(E$1,'Input E2'!$E$1:$ND$106,14,0)","v":0},{"$f":"HLOOKUP(F$1,'Input E2'!$E$1:$ND$106,14,0)","v":0},{"$f":"HLOOKUP(G$1,'Input E2'!$E$1:$ND$106,14,0)","v":1},{"$f":"HLOOKUP(H$1,'Input E2'!$E$1:$ND$106,14,0)","v":0},{"$f":"HLOOKUP(I$1,'Input E2'!$E$1:$ND$106,14,0)","v":0},{"$f":"HLOOKUP(J$1,'Input E2'!$E$1:$ND$106,14,0)","v":0},{"$f":"SUM(D12:J12)","v":1},{"$f":"HLOOKUP($L$2,Rekenblad!$BJ$3:$BU$200,6,0)","v":9}]
[{"$f":"'Input E2'!A15","v":0},{"$f":"'Input E2'!B15","v":"Max"},{"$f":"'Input E2'!C15","v":"Eigen Onderhoud"},{"$f":"HLOOKUP(D$1,'Input E2'!$E$1:$ND$106,15,0)","v":0},{"$f":"HLOOKUP(E$1,'Input E2'!$E$1:$ND$106,15,0)","v":0},{"$f":"HLOOKUP(F$1,'Input E2'!$E$1:$ND$106,15,0)","v":0},{"$f":"HLOOKUP(G$1,'Input E2'!$E$1:$ND$106,15,0)","v":0},{"$f":"HLOOKUP(H$1,'Input E2'!$E$1:$ND$106,15,0)","v":0},{"$f":"HLOOKUP(I$1,'Input E2'!$E$1:$ND$106,15,0)","v":0},{"$f":"HLOOKUP(J$1,'Input E2'!$E$1:$ND$106,15,0)","v":0},{"$f":"SUM(D13:J13)","v":0},{"$f":"HLOOKUP($L$2,Rekenblad!$BJ$3:$BU$200,7,0)","v":1}]
[{"$f":"'Input E2'!A16","v":0},{"$f":"'Input E2'!B16","v":0},{"$f":"'Input E2'!C16","v":"Injury (F.g.p.) Zonder verzuim"},{"$f":"HLOOKUP(D$1,'Input E2'!$E$1:$ND$106,16,0)","v":0},{"$f":"HLOOKUP(E$1,'Input E2'!$E$1:$ND$106,16,0)","v":0},{"$f":"HLOOKUP(F$1,'Input E2'!$E$1:$ND$106,16,0)","v":0},{"$f":"HLOOKUP(G$1,'Input E2'!$E$1:$ND$106,16,0)","v":0},{"$f":"HLOOKUP(H$1,'Input E2'!$E$1:$ND$106,16,0)","v":0},{"$f":"HLOOKUP(I$1,'Input E2'!$E$1:$ND$106,16,0)","v":0},{"$f":"HLOOKUP(J$1,'Input E2'!$E$1:$ND$106,16,0)","v":0},{"$f":"SUM(D14:J14)","v":0},{"$f":"HLOOKUP($L$2,Rekenblad!$BJ$3:$BU$200,8,0)","v":0}]
[{"$f":"'Input E2'!A17","v":0},{"$f":"'Input E2'!B17","v":0},{"$f":"'Input E2'!C17","v":"Injury (E.g.p.) Met verzuim"},{"$f":"HLOOKUP(D$1,'Input E2'!$E$1:$ND$106,17,0)","v":0},{"$f":"HLOOKUP(E$1,'Input E2'!$E$1:$ND$106,17,0)","v":0},{"$f":"HLOOKUP(F$1,'Input E2'!$E$1:$ND$106,17,0)","v":0},{"$f":"HLOOKUP(G$1,'Input E2'!$E$1:$ND$106,17,0)","v":0},{"$f":"HLOOKUP(H$1,'Input E2'!$E$1:$ND$106,17,0)","v":0},{"$f":"HLOOKUP(I$1,'Input E2'!$E$1:$ND$106,17,0)","v":0},{"$f":"HLOOKUP(J$1,'Input E2'!$E$1:$ND$106,17,0)","v":0},{"$f":"SUM(D15:J15)","v":0},{"$f":"HLOOKUP($L$2,Rekenblad!$BJ$3:$BU$200,9,0)","v":1}]
[{"$f":"'Input E2'!A18","v":1},{"$f":"'Input E2'!B18","v":"<=1"},{"$f":"'Input E2'!C18","v":"Illness direct blue collar"},{"$f":"HLOOKUP(D$1,'Input E2'!$E$1:$ND$106,18,0)","v":2},{"$f":"HLOOKUP(E$1,'Input E2'!$E$1:$ND$106,18,0)","v":2},{"$f":"HLOOKUP(F$1,'Input E2'!$E$1:$ND$106,18,0)","v":2},{"$f":"HLOOKUP(G$1,'Input E2'!$E$1:$ND$106,18,0)","v":2},{"$f":"HLOOKUP(H$1,'Input E2'!$E$1:$ND$106,18,0)","v":3},{"$f":"HLOOKUP(I$1,'Input E2'!$E$1:$ND$106,18,0)","v":0},{"$f":"HLOOKUP(J$1,'Input E2'!$E$1:$ND$106,18,0)","v":0},{"$f":"SUM(D16:J16)","v":11},{"$f":"HLOOKUP($L$2,Rekenblad!$BJ$3:$BU$200,10,0)","v":36.25}]
[{"$f":"'Input E2'!A19","v":4.4999999999999998E-2},{"$f":"'Input E2'!B19","v":"<4,50%"},{"$f":"'Input E2'!C19","v":"Percentage Illness per day"},{"$f":"HLOOKUP(D$1,'Input E2'!$E$1:$ND$106,19,0)","v":0.1111111111111111},{"$f":"HLOOKUP(E$1,'Input E2'!$E$1:$ND$106,19,0)","v":0.1111111111111111},{"$f":"HLOOKUP(F$1,'Input E2'!$E$1:$ND$106,19,0)","v":0.1111111111111111},{"$f":"HLOOKUP(G$1,'Input E2'!$E$1:$ND$106,19,0)","v":0.1111111111111111},{"$f":"HLOOKUP(H$1,'Input E2'!$E$1:$ND$106,19,0)","v":0.16666666666666666},{"$f":"HLOOKUP(I$1,'Input E2'!$E$1:$ND$106,19,0)","v":0},{"$f":"HLOOKUP(J$1,'Input E2'!$E$1:$ND$106,19,0)","v":0},{"$f":"IFERROR(SUM(D17:J17)/K82,0)","v":0.1222222222222222},{"$f":"HLOOKUP($L$2,Rekenblad!$BJ$3:$BU$200,11,0)","v":0.12586805555555555}]
[{"$f":"'Input E2'!A20","v":2},{"$f":"'Input E2'!B20","v":"2/Week"},{"$f":"'Input E2'!C20","v":"Individual small improvements"},{"$f":"HLOOKUP(D$1,'Input E2'!$E$1:$ND$106,20,0)","v":0},{"$f":"HLOOKUP(E$1,'Input E2'!$E$1:$ND$106,20,0)","v":0},{"$f":"HLOOKUP(F$1,'Input E2'!$E$1:$ND$106,20,0)","v":0},{"$f":"HLOOKUP(G$1,'Input E2'!$E$1:$ND$106,20,0)","v":0},{"$f":"HLOOKUP(H$1,'Input E2'!$E$1:$ND$106,20,0)","v":0},{"$f":"HLOOKUP(I$1,'Input E2'!$E$1:$ND$106,20,0)","v":0},{"$f":"HLOOKUP(J$1,'Input E2'!$E$1:$ND$106,20,0)","v":0},{"$f":"SUM($D$18:$J$18)","v":0},{"$f":"HLOOKUP($L$2,Rekenblad!$BJ$3:$BU$200,12,0)","v":0}]
[{"$f":"'Input E2'!A21","v":0},{"$f":"'Input E2'!B21","v":"-"},{"$f":"'Input E2'!C21","v":"Workshop Action Implementation"},{"$f":"HLOOKUP(D$1,'Input E2'!$E$1:$ND$106,21,0)","v":0},{"$f":"HLOOKUP(E$1,'Input E2'!$E$1:$ND$106,21,0)","v":0},{"$f":"HLOOKUP(F$1,'Input E2'!$E$1:$ND$106,21,0)","v":0},{"$f":"HLOOKUP(G$1,'Input E2'!$E$1:$ND$106,21,0)","v":0},{"$f":"HLOOKUP(H$1,'Input E2'!$E$1:$ND$106,21,0)","v":0},{"$f":"HLOOKUP(I$1,'Input E2'!$E$1:$ND$106,21,0)","v":0},{"$f":"HLOOKUP(J$1,'Input E2'!$E$1:$ND$106,21,0)","v":0},{"$f":"SUM($D$19:$J$19)","v":0},{"$f":"HLOOKUP($L$2,Rekenblad!$BJ$3:$BU$200,13,0)","v":0}]
[{"$f":"'Input E2'!A22","v":0.8},{"$f":"'Input E2'!B22","v":0.8},{"$f":"'Input E2'!C22","v":"FCOM score borging"},{"$f":"HLOOKUP(D$1,'Input E2'!$E$1:$ND$106,22,0)","v":0.6},{"$f":"HLOOKUP(E$1,'Input E2'!$E$1:$ND$106,22,0)","v":0.6},{"$f":"HLOOKUP(F$1,'Input E2'!$E$1:$ND$106,22,0)","v":0.6},{"$f":"HLOOKUP(G$1,'Input E2'!$E$1:$ND$106,22,0)","v":0.6},{"$f":"HLOOKUP(H$1,'Input E2'!$E$1:$ND$106,22,0)","v":0.6},{"$f":"HLOOKUP(I$1,'Input E2'!$E$1:$ND$106,22,0)","v":0},{"$f":"HLOOKUP(J$1,'Input E2'!$E$1:$ND$106,22,0)","v":0},{"$f":"IFERROR(SUM($D$20:$J$20)/K82,0%)","v":0.6},{"$f":"HLOOKUP($L$2,Rekenblad!$BJ$3:$BU$200,14,0)","v":0.59999999999999987}]
[{"$f":"'Input E2'!A23","v":0.9},{"$f":"'Input E2'!B23","v":0.9},{"$f":"'Input E2'!C23","v":"FCOM score milieu"},{"$f":"HLOOKUP(D$1,'Input E2'!$E$1:$ND$106,23,0)","v":0.9},{"$f":"HLOOKUP(E$1,'Input E2'!$E$1:$ND$106,23,0)","v":0.9},{"$f":"HLOOKUP(F$1,'Input E2'!$E$1:$ND$106,23,0)","v":0.9},{"$f":"HLOOKUP(G$1,'Input E2'!$E$1:$ND$106,23,0)","v":0.9},{"$f":"HLOOKUP(H$1,'Input E2'!$E$1:$ND$106,23,0)","v":0.9},{"$f":"HLOOKUP(I$1,'Input E2'!$E$1:$ND$106,23,0)","v":0},{"$f":"HLOOKUP(J$1,'Input E2'!$E$1:$ND$106,23,0)","v":0},{"$f":"IFERROR(SUM($D$21:$J$21)/K82,0%)","v":0.9},{"$f":"HLOOKUP($L$2,Rekenblad!$BJ$3:$BU$200,15,0)","v":0.90000000000000024}]
[{"$f":"'Input E2'!A24","v":1},{"$f":"'Input E2'!B24","v":"1/Week"},{"$f":"'Input E2'!C24","v":"Number of HR-Conversations"},{"$f":"HLOOKUP(D$1,'Input E2'!$E$1:$ND$106,24,0)","v":0},{"$f":"HLOOKUP(E$1,'Input E2'!$E$1:$ND$106,24,0)","v":0},{"$f":"HLOOKUP(F$1,'Input E2'!$E$1:$ND$106,24,0)","v":1},{"$f":"HLOOKUP(G$1,'Input E2'!$E$1:$ND$106,24,0)","v":0},{"$f":"HLOOKUP(H$1,'Input E2'!$E$1:$ND$106,24,0)","v":0},{"$f":"HLOOKUP(I$1,'Input E2'!$E$1:$ND$106,24,0)","v":0},{"$f":"HLOOKUP(J$1,'Input E2'!$E$1:$ND$106,24,0)","v":0},{"$f":"SUM(D22:J22)","v":1},{"$f":"HLOOKUP($L$2,Rekenblad!$BJ$3:$BU$200,16,0)","v":1}]
[{"$f":"'Input E2'!A25","v":1},{"$f":"'Input E2'!B25","v":"1/Dayshift"},"Number of Taskgroupmeetings",{"$f":"HLOOKUP(D$1,'Input E2'!$E$1:$ND$106,25,0)","v":0},{"$f":"HLOOKUP(E$1,'Input E2'!$E$1:$ND$106,25,0)","v":0},{"$f":"HLOOKUP(F$1,'Input E2'!$E$1:$ND$106,25,0)","v":0},{"$f":"HLOOKUP(G$1,'Input E2'!$E$1:$ND$106,25,0)","v":0},{"$f":"HLOOKUP(H$1,'Input E2'!$E$1:$ND$106,25,0)","v":0},{"$f":"HLOOKUP(I$1,'Input E2'!$E$1:$ND$106,25,0)","v":0},{"$f":"HLOOKUP(J$1,'Input E2'!$E$1:$ND$106,25,0)","v":0},{"$f":"SUM(D23:J23)","v":0},{"$f":"HLOOKUP($L$2,Rekenblad!$BJ$3:$BU$200,17,0)","v":0}]
[2,"Delivery (D)",null,null,"    "]
["Goal",null,"K.P.I."]
[]
[{"$f":"'Input E2'!A29","v":"Plan"},{"$f":"'Input E2'!B29","v":"Plan"},{"$f":"'Input E2'!C29","v":"Realized SRM LH"},{"$f":"HLOOKUP(D$1,'Input E2'!$E$1:$ND$106,29,0)","v":369},{"$f":"HLOOKUP(E$1,'Input E2'!$E$1:$ND$106,29,0)","v":345},{"$f":"HLOOKUP(F$1,'Input E2'!$E$1:$ND$106,29,0)","v":321},{"$f":"HLOOKUP(G$1,'Input E2'!$E$1:$ND$106,29,0)","v":365},{"$f":"HLOOKUP(H$1,'Input E2'!$E$1:$ND$106,29,0)","v":374},{"$f":"HLOOKUP(I$1,'Input E2'!$E$1:$ND$106,29,0)","v":0},{"$f":"HLOOKUP(J$1,'Input E2'!$E$1:$ND$106,29,0)","v":0},{"$f":"IFERROR(SUM(D27:J27),\"-\")","v":1774},{"$f":"HLOOKUP($L$2,Rekenblad!$BJ$3:$BU$200,21,0)","v":5035}]
[{"$f":"'Input E2'!A30","v":40},{"$f":"'Input E2'!B30","v":"t.b.d."},{"$f":"'Input E2'!C30","v":"Downtime Technical SRM LH [Min]"},{"$f":"HLOOKUP(D$1,'Input E2'!$E$1:$ND$106,30,0)","v":23},{"$f":"HLOOKUP(E$1,'Input E2'!$E$1:$ND$106,30,0)","v":33},{"$f":"HLOOKUP(F$1,'Input E2'!$E$1:$ND$106,30,0)","v":85},{"$f":"HLOOKUP(G$1,'Input E2'!$E$1:$ND$106,30,0)","v":12},{"$f":"HLOOKUP(H$1,'Input E2'!$E$1:$ND$106,30,0)","v":72},{"$f":"HLOOKUP(I$1,'Input E2'!$E$1:$ND$106,30,0)","v":0},{"$f":"HLOOKUP(J$1,'Input E2'!$E$1:$ND$106,30,0)","v":0},{"$f":"IFERROR(SUM(D28:J28),\"-\")","v":225},{"$f":"HLOOKUP($L$2,Rekenblad!$BJ$3:$BU$200,22,0)","v":498}]
[{"$f":"'Input E2'!A31","v":8.8999999999999996E-2},{"$f":"'Input E2'!B31","v":"t.b.d."},{"$f":"'Input E2'!C31","v":"Downtime Technical SRM LH [%]"},{"$f":"HLOOKUP(D$1,'Input E2'!$E$1:$ND$106,31,0)","v":5.6888449171407368E-2},{"$f":"HLOOKUP(E$1,'Input E2'!$E$1:$ND$106,31,0)","v":8.4724005134788186E-2},{"$f":"HLOOKUP(F$1,'Input E2'!$E$1:$ND$106,31,0)","v":0.20398368130549557},{"$f":"HLOOKUP(G$1,'Input E2'!$E$1:$ND$106,31,0)","v":3.0835117773019272E-2},{"$f":"HLOOKUP(H$1,'Input E2'!$E$1:$ND$106,31,0)","v":0.1570452232077941},{"$f":"HLOOKUP(I$1,'Input E2'!$E$1:$ND$106,31,0)","v":0},{"$f":"HLOOKUP(J$1,'Input E2'!$E$1:$ND$106,31,0)","v":0},{"$f":"IFERROR((K28*60)/((K27*62)+(K28*60)),0%)","v":0.10932236330655611},{"$f":"HLOOKUP($L$2,Rekenblad!$BJ$3:$BU$200,23,0)","v":8.7355649758807191E-2}]
[{"$f":"'Input E2'!A32","v":0},{"$f":"'Input E2'!B32","v":"t.b.d."},{"$f":"'Input E2'!C32","v":"Blocked Starved [Min]"},{"$f":"HLOOKUP(D$1,'Input E2'!$E$1:$ND$106,32,0)","v":63},{"$f":"HLOOKUP(E$1,'Input E2'!$E$1:$ND$106,32,0)","v":43},{"$f":"HLOOKUP(F$1,'Input E2'!$E$1:$ND$106,32,0)","v":46},{"$f":"HLOOKUP(G$1,'Input E2'!$E$1:$ND$106,32,0)","v":41},{"$f":"HLOOKUP(H$1,'Input E2'!$E$1:$ND$106,32,0)","v":24},{"$f":"HLOOKUP(I$1,'Input E2'!$E$1:$ND$106,32,0)","v":0},{"$f":"HLOOKUP(J$1,'Input E2'!$E$1:$ND$106,32,0)","v":0},{"$f":"IFERROR(SUM(D30:J30),\"-\")","v":217},{"$f":"HLOOKUP($L$2,Rekenblad!$BJ$3:$BU$200,24,0)","v":742}]
[{"$f":"'Input E2'!A33","v":0},{"$f":"'Input E2'!B33","v":"t.b.d."},{"$f":"'Input E2'!C33","v":"Parts at Break [Aantal]"},{"$f":"HLOOKUP(D$1,'Input E2'!$E$1:$ND$106,33,0)","v":38},{"$f":"HLOOKUP(E$1,'Input E2'!$E$1:$ND$106,33,0)","v":36},{"$f":"HLOOKUP(F$1,'Input E2'!$E$1:$ND$106,33,0)","v":18},{"$f":"HLOOKUP(G$1,'Input E2'!$E$1:$ND$106,33,0)","v":42},{"$f":"HLOOKUP(H$1,'Input E2'!$E$1:$ND$106,33,0)","v":39},{"$f":"HLOOKUP(I$1,'Input E2'!$E$1:$ND$106,33,0)","v":0},{"$f":"HLOOKUP(J$1,'Input E2'!$E$1:$ND$106,33,0)","v":0},{"$f":"IFERROR(SUM(D31:J31),\"-\")","v":173},{"$f":"HLOOKUP($L$2,Rekenblad!$BJ$3:$BU$200,25,0)","v":435}]
[{"$f":"'Input E2'!A34","v":0},{"$f":"'Input E2'!B34","v":"t.b.d."},{"$f":"'Input E2'!C34","v":"Planned Stop [Min]"},{"$f":"HLOOKUP(D$1,'Input E2'!$E$1:$ND$106,34,0)","v":0},{"$f":"HLOOKUP(E$1,'Input E2'!$E$1:$ND$106,34,0)","v":0},{"$f":"HLOOKUP(F$1,'Input E2'!$E$1:$ND$106,34,0)","v":30},{"$f":"HLOOKUP(G$1,'Input E2'!$E$1:$ND$106,34,0)","v":0},{"$f":"HLOOKUP(H$1,'Input E2'!$E$1:$ND$106,34,0)","v":0},{"$f":"HLOOKUP(I$1,'Input E2'!$E$1:$ND$106,34,0)","v":0},{"$f":"HLOOKUP(J$1,'Input E2'!$E$1:$ND$106,34,0)","v":0},{"$f":"IFERROR(SUM(D32:J32),\"-\")","v":30},{"$f":"HLOOKUP($L$2,Rekenblad!$BJ$3:$BU$200,26,0)","v":90}]
[{"$f":"'Input E2'!A35","v":"Plan"},{"$f":"'Input E2'!B35","v":"Plan"},{"$f":"'Input E2'!C35","v":"Realized SRM RH"},{"$f":"HLOOKUP(D$1,'Input E2'!$E$1:$ND$106,35,0)","v":373},{"$f":"HLOOKUP(E$1,'Input E2'!$E$1:$ND$106,35,0)","v":358},{"$f":"HLOOKUP(F$1,'Input E2'!$E$1:$ND$106,35,0)","v":341},{"$f":"HLOOKUP(G$1,'Input E2'!$E$1:$ND$106,35,0)","v":367},{"$f":"HLOOKUP(H$1,'Input E2'!$E$1:$ND$106,35,0)","v":370},{"$f":"HLOOKUP(I$1,'Input E2'!$E$1:$ND$106,35,0)","v":0},{"$f":"HLOOKUP(J$1,'Input E2'!$E$1:$ND$106,35,0)","v":0},{"$f":"IFERROR(SUM(D33:J33),\"-\")","v":1809},{"$f":"HLOOKUP($L$2,Rekenblad!$BJ$3:$BU$200,28,0)","v":5091}]
[{"$f":"'Input E2'!A36","v":40},{"$f":"'Input E2'!B36","v":"t.b.d."},{"$f":"'Input E2'!C36","v":"Downtime Technical SRM RH [Min]"},{"$f":"HLOOKUP(D$1,'Input E2'!$E$1:$ND$106,36,0)","v":43},{"$f":"HLOOKUP(E$1,'Input E2'!$E$1:$ND$106,36,0)","v":127},{"$f":"HLOOKUP(F$1,'Input E2'!$E$1:$ND$106,36,0)","v":83},{"$f":"HLOOKUP(G$1,'Input E2'!$E$1:$ND$106,36,0)","v":69},{"$f":"HLOOKUP(H$1,'Input E2'!$E$1:$ND$106,36,0)","v":98},{"$f":"HLOOKUP(I$1,'Input E2'!$E$1:$ND$106,36,0)","v":0},{"$f":"HLOOKUP(J$1,'Input E2'!$E$1:$ND$106,36,0)","v":0},{"$f":"IFERROR(SUM(D34:J34),\"-\")","v":420},{"$f":"HLOOKUP($L$2,Rekenblad!$BJ$3:$BU$200,29,0)","v":678}]
[{"$f":"'Input E2'!A37","v":8.8999999999999996E-2},{"$f":"'Input E2'!B37","v":"t.b.d."},{"$f":"'Input E2'!C37","v":"Downtime Technical SRM RH [%]"},{"$f":"HLOOKUP(D$1,'Input E2'!$E$1:$ND$106,37,0)","v":0.10036567338364584},{"$f":"HLOOKUP(E$1,'Input E2'!$E$1:$ND$106,37,0)","v":0.25556748054735712},{"$f":"HLOOKUP(F$1,'Input E2'!$E$1:$ND$106,37,0)","v":0.19064390169206033},{"$f":"HLOOKUP(G$1,'Input E2'!$E$1:$ND$106,37,0)","v":0.15393768126719715},{"$f":"HLOOKUP(H$1,'Input E2'!$E$1:$ND$106,37,0)","v":0.20402498265093685},{"$f":"HLOOKUP(I$1,'Input E2'!$E$1:$ND$106,37,0)","v":0},{"$f":"HLOOKUP(J$1,'Input E2'!$E$1:$ND$106,37,0)","v":0},{"$f":"IFERROR((K34*60)/((K33*62)+(K34*60)),0%)","v":0.18346219368365876},{"$f":"HLOOKUP($L$2,Rekenblad!$BJ$3:$BU$200,30,0)","v":0.11416640005388384}]
[{"$f":"'Input E2'!A38","v":0},{"$f":"'Input E2'!B38","v":"t.b.d."},{"$f":"'Input E2'!C38","v":"Blocked Starved [Min]"},{"$f":"HLOOKUP(D$1,'Input E2'!$E$1:$ND$106,38,0)","v":48},{"$f":"HLOOKUP(E$1,'Input E2'!$E$1:$ND$106,38,0)","v":31},{"$f":"HLOOKUP(F$1,'Input E2'!$E$1:$ND$106,38,0)","v":0},{"$f":"HLOOKUP(G$1,'Input E2'!$E$1:$ND$106,38,0)","v":36},{"$f":"HLOOKUP(H$1,'Input E2'!$E$1:$ND$106,38,0)","v":26},{"$f":"HLOOKUP(I$1,'Input E2'!$E$1:$ND$106,38,0)","v":0},{"$f":"HLOOKUP(J$1,'Input E2'!$E$1:$ND$106,38,0)","v":0},{"$f":"IFERROR(SUM(D36:J36),\"-\")","v":141},{"$f":"HLOOKUP($L$2,Rekenblad!$BJ$3:$BU$200,31,0)","v":679}]
[{"$f":"'Input E2'!A39","v":0},{"$f":"'Input E2'!B39","v":"t.b.d."},{"$f":"'Input E2'!C39","v":"Parts at Break [Aantal]"},{"$f":"HLOOKUP(D$1,'Input E2'!$E$1:$ND$106,39,0)","v":38},{"$f":"HLOOKUP(E$1,'Input E2'!$E$1:$ND$106,39,0)","v":30},{"$f":"HLOOKUP(F$1,'Input E2'!$E$1:$ND$106,39,0)","v":19},{"$f":"HLOOKUP(G$1,'Input E2'!$E$1:$ND$106,39,0)","v":40},{"$f":"HLOOKUP(H$1,'Input E2'!$E$1:$ND$106,39,0)","v":29},{"$f":"HLOOKUP(I$1,'Input E2'!$E$1:$ND$106,39,0)","v":0},{"$f":"HLOOKUP(J$1,'Input E2'!$E$1:$ND$106,39,0)","v":0},{"$f":"IFERROR(SUM(D37:J37),\"-\")","v":156},{"$f":"HLOOKUP($L$2,Rekenblad!$BJ$3:$BU$200,32,0)","v":435}]
[{"$f":"'Input E2'!A40","v":0},{"$f":"'Input E2'!B40","v":"t.b.d."},{"$f":"'Input E2'!C40","v":"Planned Stop [Min]"},{"$f":"HLOOKUP(D$1,'Input E2'!$E$1:$ND$106,40,0)","v":0},{"$f":"HLOOKUP(E$1,'Input E2'!$E$1:$ND$106,40,0)","v":0},{"$f":"HLOOKUP(F$1,'Input E2'!$E$1:$ND$106,40,0)","v":30},{"$f":"HLOOKUP(G$1,'Input E2'!$E$1:$ND$106,40,0)","v":0},{"$f":"HLOOKUP(H$1,'Input E2'!$E$1:$ND$106,40,0)","v":0},{"$f":"HLOOKUP(I$1,'Input E2'!$E$1:$ND$106,40,0)","v":0},{"$f":"HLOOKUP(J$1,'Input E2'!$E$1:$ND$106,40,0)","v":0},{"$f":"IFERROR(SUM(D38:J38),\"-\")","v":30},{"$f":"HLOOKUP($L$2,Rekenblad!$BJ$3:$BU$200,33,0)","v":30}]
[{"$f":"'Input E2'!A41","v":"Plan"},{"$f":"'Input E2'!B41","v":"Plan"},{"$f":"'Input E2'!C41","v":"SILL1 LH"},{"$f":"HLOOKUP(D$1,'Input E2'!$E$1:$ND$106,41,0)","v":257},{"$f":"HLOOKUP(E$1,'Input E2'!$E$1:$ND$106,41,0)","v":268},{"$f":"HLOOKUP(F$1,'Input E2'!$E$1:$ND$106,41,0)","v":258},{"$f":"HLOOKUP(G$1,'Input E2'!$E$1:$ND$106,41,0)","v":305},{"$f":"HLOOKUP(H$1,'Input E2'!$E$1:$ND$106,41,0)","v":311},{"$f":"HLOOKUP(I$1,'Input E2'!$E$1:$ND$106,41,0)","v":0},{"$f":"HLOOKUP(J$1,'Input E2'!$E$1:$ND$106,41,0)","v":0},{"$f":"IFERROR(SUM(D39:J39),\"-\")","v":1399},{"$f":"HLOOKUP($L$2,Rekenblad!$BJ$3:$BU$200,35,0)","v":3914}]
[{"$f":"'Input E2'!A42","v":40},{"$f":"'Input E2'!B42","v":"t.b.d."},{"$f":"'Input E2'!C42","v":"Downtime Technical SILL1 LH [Min]"},{"$f":"HLOOKUP(D$1,'Input E2'!$E$1:$ND$106,42,0)","v":9},{"$f":"HLOOKUP(E$1,'Input E2'!$E$1:$ND$106,42,0)","v":12},{"$f":"HLOOKUP(F$1,'Input E2'!$E$1:$ND$106,42,0)","v":0},{"$f":"HLOOKUP(G$1,'Input E2'!$E$1:$ND$106,42,0)","v":0},{"$f":"HLOOKUP(H$1,'Input E2'!$E$1:$ND$106,42,0)","v":0},{"$f":"HLOOKUP(I$1,'Input E2'!$E$1:$ND$106,42,0)","v":0},{"$f":"HLOOKUP(J$1,'Input E2'!$E$1:$ND$106,42,0)","v":0},{"$f":"IFERROR(SUM(D40:J40),\"-\")","v":21},{"$f":"HLOOKUP($L$2,Rekenblad!$BJ$3:$BU$200,36,0)","v":99}]
[{"$f":"'Input E2'!A43","v":8.8999999999999996E-2},{"$f":"'Input E2'!B43","v":"t.b.d."},{"$f":"'Input E2'!C43","v":"Downtime Technical SILL1 LH [%]"},{"$f":"HLOOKUP(D$1,'Input E2'!$E$1:$ND$106,43,0)","v":3.2778924365667109E-2},{"$f":"HLOOKUP(E$1,'Input E2'!$E$1:$ND$106,43,0)","v":4.1532071988924779E-2},{"$f":"HLOOKUP(F$1,'Input E2'!$E$1:$ND$106,43,0)","v":0},{"$f":"HLOOKUP(G$1,'Input E2'!$E$1:$ND$106,43,0)","v":0},{"$f":"HLOOKUP(H$1,'Input E2'!$E$1:$ND$106,43,0)","v":0},{"$f":"HLOOKUP(I$1,'Input E2'!$E$1:$ND$106,43,0)","v":0},{"$f":"HLOOKUP(J$1,'Input E2'!$E$1:$ND$106,43,0)","v":0},{"$f":"IFERROR((K40*60)/((K39*62)+(K40*60)),0%)","v":1.4318507238800881E-2},{"$f":"HLOOKUP($L$2,Rekenblad!$BJ$3:$BU$200,37,0)","v":2.3893036426824558E-2}]
[{"$f":"'Input E2'!A44","v":0},{"$f":"'Input E2'!B44","v":"t.b.d."},{"$f":"'Input E2'!C44","v":"Blocked Starved [Min]"},{"$f":"HLOOKUP(D$1,'Input E2'!$E$1:$ND$106,44,0)","v":0},{"$f":"HLOOKUP(E$1,'Input E2'!$E$1:$ND$106,44,0)","v":0},{"$f":"HLOOKUP(F$1,'Input E2'!$E$1:$ND$106,44,0)","v":0},{"$f":"HLOOKUP(G$1,'Input E2'!$E$1:$ND$106,44,0)","v":0},{"$f":"HLOOKUP(H$1,'Input E2'!$E$1:$ND$106,44,0)","v":0},{"$f":"HLOOKUP(I$1,'Input E2'!$E$1:$ND$106,44,0)","v":0},{"$f":"HLOOKUP(J$1,'Input E2'!$E$1:$ND$106,44,0)","v":0},{"$f":"IFERROR(SUM(D42:J42),\"-\")","v":0},{"$f":"HLOOKUP($L$2,Rekenblad!$BJ$3:$BU$200,38,0)","v":0}]
[{"$f":"'Input E2'!A45","v":0},{"$f":"'Input E2'!B45","v":"t.b.d."},{"$f":"'Input E2'!C45","v":"Parts at Break [Aantal]"},{"$f":"HLOOKUP(D$1,'Input E2'!$E$1:$ND$106,45,0)","v":2},{"$f":"HLOOKUP(E$1,'Input E2'!$E$1:$ND$106,45,0)","v":3},{"$f":"HLOOKUP(F$1,'Input E2'!$E$1:$ND$106,45,0)","v":0},{"$f":"HLOOKUP(G$1,'Input E2'!$E$1:$ND$106,45,0)","v":7},{"$f":"HLOOKUP(H$1,'Input E2'!$E$1:$ND$106,45,0)","v":0},{"$f":"HLOOKUP(I$1,'Input E2'!$E$1:$ND$106,45,0)","v":0},{"$f":"HLOOKUP(J$1,'Input E2'!$E$1:$ND$106,45,0)","v":0},{"$f":"IFERROR(SUM(D43:J43),\"-\")","v":12},{"$f":"HLOOKUP($L$2,Rekenblad!$BJ$3:$BU$200,39,0)","v":66}]
[{"$f":"'Input E2'!A46","v":0},{"$f":"'Input E2'!B46","v":"t.b.d."},{"$f":"'Input E2'!C46","v":"Planned Stop [Min]"},{"$f":"HLOOKUP(D$1,'Input E2'!$E$1:$ND$106,46,0)","v":0},{"$f":"HLOOKUP(E$1,'Input E2'!$E$1:$ND$106,46,0)","v":0},{"$f":"HLOOKUP(F$1,'Input E2'!$E$1:$ND$106,46,0)","v":30},{"$f":"HLOOKUP(G$1,'Input E2'!$E$1:$ND$106,46,0)","v":0},{"$f":"HLOOKUP(H$1,'Input E2'!$E$1:$ND$106,46,0)","v":0},{"$f":"HLOOKUP(I$1,'Input E2'!$E$1:$ND$106,46,0)","v":0},{"$f":"HLOOKUP(J$1,'Input E2'!$E$1:$ND$106,46,0)","v":0},{"$f":"IFERROR(SUM(D44:J44),\"-\")","v":30},{"$f":"HLOOKUP($L$2,Rekenblad!$BJ$3:$BU$200,40,0)","v":90}]
[{"$f":"'Input E2'!A47","v":"Plan"},{"$f":"'Input E2'!B47","v":"Plan"},{"$f":"'Input E2'!C47","v":"Realized SILL1 RH"},{"$f":"HLOOKUP(D$1,'Input E2'!$E$1:$ND$106,47,0)","v":311},{"$f":"HLOOKUP(E$1,'Input E2'!$E$1:$ND$106,47,0)","v":252},{"$f":"HLOOKUP(F$1,'Input E2'!$E$1:$ND$106,47,0)","v":223},{"$f":"HLOOKUP(G$1,'Input E2'!$E$1:$ND$106,47,0)","v":298},{"$f":"HLOOKUP(H$1,'Input E2'!$E$1:$ND$106,47,0)","v":284},{"$f":"HLOOKUP(I$1,'Input E2'!$E$1:$ND$106,47,0)","v":0},{"$f":"HLOOKUP(J$1,'Input E2'!$E$1:$ND$106,47,0)","v":0},{"$f":"IFERROR(SUM(D45:J45),\"-\")","v":1368},{"$f":"HLOOKUP($L$2,Rekenblad!$BJ$3:$BU$200,42,0)","v":3835}]
[{"$f":"'Input E2'!A48","v":40},{"$f":"'Input E2'!B48","v":"t.b.d."},{"$f":"'Input E2'!C48","v":"Downtime Technical SILL1 RH [Min]"},{"$f":"HLOOKUP(D$1,'Input E2'!$E$1:$ND$106,48,0)","v":0},{"$f":"HLOOKUP(E$1,'Input E2'!$E$1:$ND$106,48,0)","v":0},{"$f":"HLOOKUP(F$1,'Input E2'!$E$1:$ND$106,48,0)","v":9},{"$f":"HLOOKUP(G$1,'Input E2'!$E$1:$ND$106,48,0)","v":35},{"$f":"HLOOKUP(H$1,'Input E2'!$E$1:$ND$106,48,0)","v":0},{"$f":"HLOOKUP(I$1,'Input E2'!$E$1:$ND$106,48,0)","v":0},{"$f":"HLOOKUP(J$1,'Input E2'!$E$1:$ND$106,48,0)","v":0},{"$f":"IFERROR(SUM(D46:J46),\"-\")","v":44},{"$f":"HLOOKUP($L$2,Rekenblad!$BJ$3:$BU$200,43,0)","v":99}]
[{"$f":"'Input E2'!A49","v":8.8999999999999996E-2},{"$f":"'Input E2'!B49","v":"t.b.d."},{"$f":"'Input E2'!C49","v":"Downtime Technical SILL1 RH [%]"},{"$f":"HLOOKUP(D$1,'Input E2'!$E$1:$ND$106,49,0)","v":0},{"$f":"HLOOKUP(E$1,'Input E2'!$E$1:$ND$106,49,0)","v":0},{"$f":"HLOOKUP(F$1,'Input E2'!$E$1:$ND$106,49,0)","v":3.7588751218153978E-2},{"$f":"HLOOKUP(G$1,'Input E2'!$E$1:$ND$106,49,0)","v":0.1020606531881804},{"$f":"HLOOKUP(H$1,'Input E2'!$E$1:$ND$106,49,0)","v":0},{"$f":"HLOOKUP(I$1,'Input E2'!$E$1:$ND$106,49,0)","v":0},{"$f":"HLOOKUP(J$1,'Input E2'!$E$1:$ND$106,49,0)","v":0},{"$f":"IFERROR((K46*60)/((K45*62)+(K46*60)),0%)","v":3.0186608122941824E-2},{"$f":"HLOOKUP($L$2,Rekenblad!$BJ$3:$BU$200,44,0)","v":2.4373230478847811E-2}]
[{"$f":"'Input E2'!A50","v":0},{"$f":"'Input E2'!B50","v":"t.b.d."},{"$f":"'Input E2'!C50","v":"Blocked Starved [Min]"},{"$f":"HLOOKUP(D$1,'Input E2'!$E$1:$ND$106,50,0)","v":0},{"$f":"HLOOKUP(E$1,'Input E2'!$E$1:$ND$106,50,0)","v":0},{"$f":"HLOOKUP(F$1,'Input E2'!$E$1:$ND$106,50,0)","v":0},{"$f":"HLOOKUP(G$1,'Input E2'!$E$1:$ND$106,50,0)","v":0},{"$f":"HLOOKUP(H$1,'Input E2'!$E$1:$ND$106,50,0)","v":0},{"$f":"HLOOKUP(I$1,'Input E2'!$E$1:$ND$106,50,0)","v":0},{"$f":"HLOOKUP(J$1,'Input E2'!$E$1:$ND$106,50,0)","v":0},{"$f":"IFERROR(SUM(D48:J48),\"-\")","v":0},{"$f":"HLOOKUP($L$2,Rekenblad!$BJ$3:$BU$200,45,0)","v":8}]
[{"$f":"'Input E2'!A51","v":0},{"$f":"'Input E2'!B51","v":"t.b.d."},{"$f":"'Input E2'!C51","v":"Parts at Break [Aantal]"},{"$f":"HLOOKUP(D$1,'Input E2'!$E$1:$ND$106,51,0)","v":0},{"$f":"HLOOKUP(E$1,'Input E2'!$E$1:$ND$106,51,0)","v":3},{"$f":"HLOOKUP(F$1,'Input E2'!$E$1:$ND$106,51,0)","v":0},{"$f":"HLOOKUP(G$1,'Input E2'!$E$1:$ND$106,51,0)","v":6},{"$f":"HLOOKUP(H$1,'Input E2'!$E$1:$ND$106,51,0)","v":0},{"$f":"HLOOKUP(I$1,'Input E2'!$E$1:$ND$106,51,0)","v":0},{"$f":"HLOOKUP(J$1,'Input E2'!$E$1:$ND$106,51,0)","v":0},{"$f":"IFERROR(SUM(D49:J49),\"-\")","v":9},{"$f":"HLOOKUP($L$2,Rekenblad!$BJ$3:$BU$200,46,0)","v":73}]
[{"$f":"'Input E2'!A52","v":0},{"$f":"'Input E2'!B52","v":"t.b.d."},{"$f":"'Input E2'!C52","v":"Planned Stop [Min]"},{"$f":"HLOOKUP(D$1,'Input E2'!$E$1:$ND$106,52,0)","v":0},{"$f":"HLOOKUP(E$1,'Input E2'!$E$1:$ND$106,52,0)","v":0},{"$f":"HLOOKUP(F$1,'Input E2'!$E$1:$ND$106,52,0)","v":30},{"$f":"HLOOKUP(G$1,'Input E2'!$E$1:$ND$106,52,0)","v":0},{"$f":"HLOOKUP(H$1,'Input E2'!$E$1:$ND$106,52,0)","v":0},{"$f":"HLOOKUP(I$1,'Input E2'!$E$1:$ND$106,52,0)","v":0},{"$f":"HLOOKUP(J$1,'Input E2'!$E$1:$ND$106,52,0)","v":0},{"$f":"IFERROR(SUM(D50:J50),\"-\")","v":30},{"$f":"HLOOKUP($L$2,Rekenblad!$BJ$3:$BU$200,47,0)","v":30}]
[{"$f":"'Input E2'!A53","v":"Plan"},{"$f":"'Input E2'!B53","v":"Plan"},{"$f":"'Input E2'!C53","v":"Realized Average"},{"$f":"HLOOKUP(D$1,'Input E2'!$E$1:$ND$106,53,0)","v":327.5},{"$f":"HLOOKUP(E$1,'Input E2'!$E$1:$ND$106,53,0)","v":305.75},{"$f":"HLOOKUP(F$1,'Input E2'!$E$1:$ND$106,53,0)","v":285.75},{"$f":"HLOOKUP(G$1,'Input E2'!$E$1:$ND$106,53,0)","v":333.75},{"$f":"HLOOKUP(H$1,'Input E2'!$E$1:$ND$106,53,0)","v":334.75},{"$f":"HLOOKUP(I$1,'Input E2'!$E$1:$ND$106,53,0)","v":0},{"$f":"HLOOKUP(J$1,'Input E2'!$E$1:$ND$106,53,0)","v":0},{"$f":"IFERROR(SUM(K27,K33,K39,K45)/4,0)","v":1587.5},{"$f":"HLOOKUP($L$2,Rekenblad!$BJ$3:$BU$200,49,0)","v":4468.75}]
[{"$f":"'Input E2'!A54","v":8.8999999999999996E-2},{"$f":"'Input E2'!B54","v":"t.b.d."},{"$f":"'Input E2'!C54","v":"Downtime Technical Gemiddeld [Min]"},{"$f":"HLOOKUP(D$1,'Input E2'!$E$1:$ND$106,54,0)","v":18.75},{"$f":"HLOOKUP(E$1,'Input E2'!$E$1:$ND$106,54,0)","v":43},{"$f":"HLOOKUP(F$1,'Input E2'!$E$1:$ND$106,54,0)","v":44.25},{"$f":"HLOOKUP(G$1,'Input E2'!$E$1:$ND$106,54,0)","v":29},{"$f":"HLOOKUP(H$1,'Input E2'!$E$1:$ND$106,54,0)","v":42.5},{"$f":"HLOOKUP(I$1,'Input E2'!$E$1:$ND$106,54,0)","v":0},{"$f":"HLOOKUP(J$1,'Input E2'!$E$1:$ND$106,54,0)","v":0},{"$f":"IFERROR(SUM(D52:J52)/K82,\"0\")","v":35.5},{"$f":"HLOOKUP($L$2,Rekenblad!$BJ$3:$BU$200,50,0)","v":343.5}]
[{"$f":"'Input E2'!A55","v":8.8999999999999996E-2},"t.b.d.",{"$f":"'Input E2'!C55","v":"Downtime Technical Gemiddeld [%]"},{"$f":"HLOOKUP(D$1,'Input E2'!$E$1:$ND$106,55,0)","v":4.7508261730180079E-2},{"$f":"HLOOKUP(E$1,'Input E2'!$E$1:$ND$106,55,0)","v":9.5455889417767517E-2},{"$f":"HLOOKUP(F$1,'Input E2'!$E$1:$ND$106,55,0)","v":0.10805408355392747},{"$f":"HLOOKUP(G$1,'Input E2'!$E$1:$ND$106,55,0)","v":7.1708363057099211E-2},{"$f":"HLOOKUP(H$1,'Input E2'!$E$1:$ND$106,55,0)","v":9.0267551464682738E-2},{"$f":"HLOOKUP(I$1,'Input E2'!$E$1:$ND$106,55,0)","v":0},{"$f":"HLOOKUP(J$1,'Input E2'!$E$1:$ND$106,55,0)","v":0},{"$f":"IFERROR(SUM(D53:J53)/K82,\"0\")","v":8.2598829844731408E-2},{"$f":"HLOOKUP($L$2,Rekenblad!$BJ$3:$BU$200,51,0)","v":6.2447079179590852E-2}]
[3,"Quality (Q)",null,null," "]
["Goal",null,"K.P.I."]
[]
[{"$f":"'Input E2'!A59","v":0},{"$f":"'Input E2'!B59","v":0},{"$f":"'Input E2'!C59","v":"Q-Remarks"},{"$f":"HLOOKUP(D$1,'Input E2'!$E$1:$ND$106,59,0)","v":0},{"$f":"HLOOKUP(E$1,'Input E2'!$E$1:$ND$106,59,0)","v":0},{"$f":"HLOOKUP(F$1,'Input E2'!$E$1:$ND$106,59,0)","v":0},{"$f":"HLOOKUP(G$1,'Input E2'!$E$1:$ND$106,59,0)","v":0},{"$f":"HLOOKUP(H$1,'Input E2'!$E$1:$ND$106,59,0)","v":0},{"$f":"HLOOKUP(I$1,'Input E2'!$E$1:$ND$106,59,0)","v":0},{"$f":"HLOOKUP(J$1,'Input E2'!$E$1:$ND$106,59,0)","v":0},{"$f":"SUM(D57:J57)","v":0},{"$f":"HLOOKUP($L$2,Rekenblad!$BJ$3:$BU$200,54,0)","v":0}]
[{"$f":"'Input E2'!A60","v":1},{"$f":"'Input E2'!B60","v":1},{"$f":"'Input E2'!C60","v":"SQA Reports"},{"$f":"HLOOKUP(D$1,'Input E2'!$E$1:$ND$106,60,0)","v":0},{"$f":"HLOOKUP(E$1,'Input E2'!$E$1:$ND$106,60,0)","v":0},{"$f":"HLOOKUP(F$1,'Input E2'!$E$1:$ND$106,60,0)","v":0},{"$f":"HLOOKUP(G$1,'Input E2'!$E$1:$ND$106,60,0)","v":0},{"$f":"HLOOKUP(H$1,'Input E2'!$E$1:$ND$106,60,0)","v":0},{"$f":"HLOOKUP(I$1,'Input E2'!$E$1:$ND$106,60,0)","v":0},{"$f":"HLOOKUP(J$1,'Input E2'!$E$1:$ND$106,60,0)","v":0},{"$f":"SUM(D58:J58)","v":0},{"$f":"HLOOKUP($L$2,Rekenblad!$BJ$3:$BU$200,55,0)","v":0}]
[{"$f":"'Input E2'!A61","v":0.995},0.995,{"$f":"'Input E2'!C61","v":"No Touch"},{"$f":"HLOOKUP(D$1,'Input E2'!$E$1:$ND$106,61,0)","v":0.99239999999999995},{"$f":"HLOOKUP(E$1,'Input E2'!$E$1:$ND$106,61,0)","v":0.98880000000000001},{"$f":"HLOOKUP(F$1,'Input E2'!$E$1:$ND$106,61,0)","v":0.98650000000000004},{"$f":"HLOOKUP(G$1,'Input E2'!$E$1:$ND$106,61,0)","v":0.98509999999999998},{"$f":"HLOOKUP(H$1,'Input E2'!$E$1:$ND$106,61,0)","v":0.98970000000000002},{"$f":"HLOOKUP(I$1,'Input E2'!$E$1:$ND$106,61,0)","v":0},{"$f":"HLOOKUP(J$1,'Input E2'!$E$1:$ND$106,61,0)","v":0},{"$f":"IFERROR(SUM(D59:J59)/COUNTIF(D59:J59,\">0\"),0%)","v":0.98849999999999993},{"$f":"HLOOKUP($L$2,Rekenblad!$BJ$3:$BU$200,56,0)","v":1.0525062499999998}]
[{"$f":"'Input E2'!A62","v":0},{"$f":"'Input E2'!B62","v":"t.b.d."},null,{"$f":"HLOOKUP(D$1,'Input E2'!$E$1:$ND$106,62,0)","v":0},{"$f":"HLOOKUP(E$1,'Input E2'!$E$1:$ND$106,62,0)","v":0},{"$f":"HLOOKUP(F$1,'Input E2'!$E$1:$ND$106,62,0)","v":0},{"$f":"HLOOKUP(G$1,'Input E2'!$E$1:$ND$106,62,0)","v":0},{"$f":"HLOOKUP(H$1,'Input E2'!$E$1:$ND$106,62,0)","v":0},{"$f":"HLOOKUP(I$1,'Input E2'!$E$1:$ND$106,62,0)","v":0},{"$f":"HLOOKUP(J$1,'Input E2'!$E$1:$ND$106,62,0)","v":0},{"$f":"SUM(D60:J60)","v":0},{"$f":"HLOOKUP($L$2,Rekenblad!$BJ$3:$BU$200,57,0)","v":0}]
[{"$f":"'Input E2'!A63","v":0},{"$f":"'Input E2'!B63","v":"t.b.d."},null,{"$f":"HLOOKUP(D$1,'Input E2'!$E$1:$ND$106,63,0)","v":0},{"$f":"HLOOKUP(E$1,'Input E2'!$E$1:$ND$106,63,0)","v":0},{"$f":"HLOOKUP(F$1,'Input E2'!$E$1:$ND$106,63,0)","v":0},{"$f":"HLOOKUP(G$1,'Input E2'!$E$1:$ND$106,63,0)","v":0},{"$f":"HLOOKUP(H$1,'Input E2'!$E$1:$ND$106,63,0)","v":0},{"$f":"HLOOKUP(I$1,'Input E2'!$E$1:$ND$106,63,0)","v":0},{"$f":"HLOOKUP(J$1,'Input E2'!$E$1:$ND$106,63,0)","v":0},{"$f":"SUM(D61:J61)","v":0},{"$f":"HLOOKUP($L$2,Rekenblad!$BJ$3:$BU$200,58,0)","v":0}]
[{"$f":"'Input E2'!A64","v":0},{"$f":"'Input E2'!B64","v":"t.b.d."},null,{"$f":"HLOOKUP(D$1,'Input E2'!$E$1:$ND$106,64,0)","v":0},{"$f":"HLOOKUP(E$1,'Input E2'!$E$1:$ND$106,64,0)","v":0},{"$f":"HLOOKUP(F$1,'Input E2'!$E$1:$ND$106,64,0)","v":0},{"$f":"HLOOKUP(G$1,'Input E2'!$E$1:$ND$106,64,0)","v":0},{"$f":"HLOOKUP(H$1,'Input E2'!$E$1:$ND$106,64,0)","v":0},{"$f":"HLOOKUP(I$1,'Input E2'!$E$1:$ND$106,64,0)","v":0},{"$f":"HLOOKUP(J$1,'Input E2'!$E$1:$ND$106,64,0)","v":0},0,{"$f":"HLOOKUP($L$2,Rekenblad!$BJ$3:$BU$200,59,0)","v":0}]
[{"$f":"'Input E2'!A65","v":0},{"$f":"'Input E2'!B65","v":"t.b.d."},null,{"$f":"HLOOKUP(D$1,'Input E2'!$E$1:$ND$106,65,0)","v":0},{"$f":"HLOOKUP(E$1,'Input E2'!$E$1:$ND$106,65,0)","v":0},{"$f":"HLOOKUP(F$1,'Input E2'!$E$1:$ND$106,65,0)","v":0},{"$f":"HLOOKUP(G$1,'Input E2'!$E$1:$ND$106,65,0)","v":0},{"$f":"HLOOKUP(H$1,'Input E2'!$E$1:$ND$106,65,0)","v":0},{"$f":"HLOOKUP(I$1,'Input E2'!$E$1:$ND$106,65,0)","v":0},{"$f":"HLOOKUP(J$1,'Input E2'!$E$1:$ND$106,65,0)","v":0},{"$f":"SUM(D63:J63)","v":0},{"$f":"HLOOKUP($L$2,Rekenblad!$BJ$3:$BU$200,60,0)","v":0}]
[{"$f":"'Input E2'!A66","v":1},1,{"$f":"'Input E2'!C66","v":"FTC Finishline [#]"},{"$f":"HLOOKUP(D$1,'Input E2'!$E$1:$ND$106,66,0)","v":0},{"$f":"HLOOKUP(E$1,'Input E2'!$E$1:$ND$106,66,0)","v":0},{"$f":"HLOOKUP(F$1,'Input E2'!$E$1:$ND$106,66,0)","v":0},{"$f":"HLOOKUP(G$1,'Input E2'!$E$1:$ND$106,66,0)","v":0},{"$f":"HLOOKUP(H$1,'Input E2'!$E$1:$ND$106,66,0)","v":0},{"$f":"HLOOKUP(I$1,'Input E2'!$E$1:$ND$106,66,0)","v":0},{"$f":"HLOOKUP(J$1,'Input E2'!$E$1:$ND$106,66,0)","v":0},{"$f":"SUM(D64:J64)","v":0},{"$f":"HLOOKUP($L$2,Rekenblad!$BJ$3:$BU$200,61,0)","v":0}]
[{"$f":"'Input E2'!A67","v":0},{"$f":"'Input E2'!B67","v":0},{"$f":"'Input E2'!C67","v":"FTC Big Panel [#]"},{"$f":"HLOOKUP(D$1,'Input E2'!$E$1:$ND$106,67,0)","v":0},{"$f":"HLOOKUP(E$1,'Input E2'!$E$1:$ND$106,67,0)","v":0},{"$f":"HLOOKUP(F$1,'Input E2'!$E$1:$ND$106,67,0)","v":0},{"$f":"HLOOKUP(G$1,'Input E2'!$E$1:$ND$106,67,0)","v":0},{"$f":"HLOOKUP(H$1,'Input E2'!$E$1:$ND$106,67,0)","v":0},{"$f":"HLOOKUP(I$1,'Input E2'!$E$1:$ND$106,67,0)","v":0},{"$f":"HLOOKUP(J$1,'Input E2'!$E$1:$ND$106,67,0)","v":0},{"$f":"SUM(D65:J65)","v":0},{"$f":"HLOOKUP($L$2,Rekenblad!$BJ$3:$BU$200,62,0)","v":0}]
[{"$f":"'Input E2'!A68","v":0},{"$f":"'Input E2'!B68","v":0},{"$f":"'Input E2'!C68","v":"FTC FAS [#]"},{"$f":"HLOOKUP(D$1,'Input E2'!$E$1:$ND$106,68,0)","v":0},{"$f":"HLOOKUP(E$1,'Input E2'!$E$1:$ND$106,68,0)","v":0},{"$f":"HLOOKUP(F$1,'Input E2'!$E$1:$ND$106,68,0)","v":0},{"$f":"HLOOKUP(G$1,'Input E2'!$E$1:$ND$106,68,0)","v":0},{"$f":"HLOOKUP(H$1,'Input E2'!$E$1:$ND$106,68,0)","v":0},{"$f":"HLOOKUP(I$1,'Input E2'!$E$1:$ND$106,68,0)","v":0},{"$f":"HLOOKUP(J$1,'Input E2'!$E$1:$ND$106,68,0)","v":0},0,{"$f":"HLOOKUP($L$2,Rekenblad!$BJ$3:$BU$200,63,0)","v":0}]
[{"$f":"'Input E2'!A69","v":0.95},{"$f":"'Input E2'!B69","v":"t.b.d."},{"$f":"'Input E2'!C69","v":"FTC [%]"},{"$f":"HLOOKUP(D$1,'Input E2'!$E$1:$ND$106,69,0)","v":1},{"$f":"HLOOKUP(E$1,'Input E2'!$E$1:$ND$106,69,0)","v":1},{"$f":"HLOOKUP(F$1,'Input E2'!$E$1:$ND$106,69,0)","v":1},{"$f":"HLOOKUP(G$1,'Input E2'!$E$1:$ND$106,69,0)","v":1},{"$f":"HLOOKUP(H$1,'Input E2'!$E$1:$ND$106,69,0)","v":1},{"$f":"HLOOKUP(I$1,'Input E2'!$E$1:$ND$106,69,0)","v":0},{"$f":"HLOOKUP(J$1,'Input E2'!$E$1:$ND$106,69,0)","v":0},{"$f":"IFERROR(SUM(D67:J67)/K82,0%)","v":1},{"$f":"HLOOKUP($L$2,Rekenblad!$BJ$3:$BU$200,64,0)","v":1}]
[{"$f":"'Input E2'!A70","v":0},{"$f":"'Input E2'!B70","v":"t.b.d."},{"$f":"'Input E2'!C70","v":"Loose Spotwelds ICAF"},{"$f":"HLOOKUP(D$1,'Input E2'!$E$1:$ND$106,70,0)","v":0},{"$f":"HLOOKUP(E$1,'Input E2'!$E$1:$ND$106,70,0)","v":0},{"$f":"HLOOKUP(F$1,'Input E2'!$E$1:$ND$106,70,0)","v":0},{"$f":"HLOOKUP(G$1,'Input E2'!$E$1:$ND$106,70,0)","v":0},{"$f":"HLOOKUP(H$1,'Input E2'!$E$1:$ND$106,70,0)","v":0},{"$f":"HLOOKUP(I$1,'Input E2'!$E$1:$ND$106,70,0)","v":0},{"$f":"HLOOKUP(J$1,'Input E2'!$E$1:$ND$106,70,0)","v":0},0,{"$f":"HLOOKUP($L$2,Rekenblad!$BJ$3:$BU$200,65,0)","v":0}]
[{"$f":"'Input E2'!A71","v":0},{"$f":"'Input E2'!B71","v":"t.b.d."},null,{"$f":"HLOOKUP(D$1,'Input E2'!$E$1:$ND$106,71,0)","v":0},{"$f":"HLOOKUP(E$1,'Input E2'!$E$1:$ND$106,71,0)","v":" "},{"$f":"HLOOKUP(F$1,'Input E2'!$E$1:$ND$106,71,0)","v":0},{"$f":"HLOOKUP(G$1,'Input E2'!$E$1:$ND$106,71,0)","v":0},{"$f":"HLOOKUP(H$1,'Input E2'!$E$1:$ND$106,71,0)","v":0},{"$f":"HLOOKUP(I$1,'Input E2'!$E$1:$ND$106,71,0)","v":0},{"$f":"HLOOKUP(J$1,'Input E2'!$E$1:$ND$106,71,0)","v":0},{"$f":"SUM(D69:J69)","v":0},{"$f":"HLOOKUP($L$2,Rekenblad!$BJ$3:$BU$200,66,0)","v":0}]
[{"$f":"'Input E2'!A72","v":0},{"$f":"'Input E2'!B72","v":"t.b.d."},null,{"$f":"HLOOKUP(D$1,'Input E2'!$E$1:$ND$106,72,0)","v":0},{"$f":"HLOOKUP(E$1,'Input E2'!$E$1:$ND$106,72,0)","v":0},{"$f":"HLOOKUP(F$1,'Input E2'!$E$1:$ND$106,72,0)","v":0},{"$f":"HLOOKUP(G$1,'Input E2'!$E$1:$ND$106,72,0)","v":0},{"$f":"HLOOKUP(H$1,'Input E2'!$E$1:$ND$106,72,0)","v":0},{"$f":"HLOOKUP(I$1,'Input E2'!$E$1:$ND$106,72,0)","v":0},{"$f":"HLOOKUP(J$1,'Input E2'!$E$1:$ND$106,72,0)","v":0},{"$f":"SUM(D70:J70)","v":0},{"$f":"HLOOKUP($L$2,Rekenblad!$BJ$3:$BU$200,67,0)","v":0}]
[4,"Cost  (C)"]
["Goal",null,"K.P.I."]
[{"$f":"'Input E2'!A76","v":"t.b.d."},{"$f":"'Input E2'!B76","v":"t.b.d."},{"$f":"'Input E2'!C76","v":"Consumables"},{"$f":"HLOOKUP(D$1,'Input E2'!$E$1:$ND$106,76,0)","v":0},{"$f":"HLOOKUP(E$1,'Input E2'!$E$1:$ND$106,76,0)","v":0},{"$f":"HLOOKUP(F$1,'Input E2'!$E$1:$ND$106,76,0)","v":78},{"$f":"HLOOKUP(G$1,'Input E2'!$E$1:$ND$106,76,0)","v":0},{"$f":"HLOOKUP(H$1,'Input E2'!$E$1:$ND$106,76,0)","v":0},{"$f":"HLOOKUP(I$1,'Input E2'!$E$1:$ND$106,76,0)","v":0},{"$f":"HLOOKUP(J$1,'Input E2'!$E$1:$ND$106,76,0)","v":0},{"$f":"SUM(D73:J73)","v":78},{"$f":"HLOOKUP($L$2,Rekenblad!$BJ$3:$BU$200,71,0)","v":120.64}]
[{"$f":"'Input E2'!A77","v":"t.b.d."},{"$f":"'Input E2'!B77","v":"t.b.d."},{"$f":"'Input E2'!C77","v":"Consumables / (Body)"},{"$f":"HLOOKUP(D$1,'Input E2'!$E$1:$ND$106,77,0)","v":0},{"$f":"HLOOKUP(E$1,'Input E2'!$E$1:$ND$106,77,0)","v":0},{"$f":"HLOOKUP(F$1,'Input E2'!$E$1:$ND$106,77,0)","v":0.27296587926509186},{"$f":"HLOOKUP(G$1,'Input E2'!$E$1:$ND$106,77,0)","v":0},{"$f":"HLOOKUP(H$1,'Input E2'!$E$1:$ND$106,77,0)","v":0},{"$f":"HLOOKUP(I$1,'Input E2'!$E$1:$ND$106,77,0)","v":""},{"$f":"HLOOKUP(J$1,'Input E2'!$E$1:$ND$106,77,0)","v":""},{"$f":"IFERROR(SUM(D73:J73)/K51,\"\")","v":4.9133858267716532E-2},{"$f":"HLOOKUP($L$2,Rekenblad!$BJ$3:$BU$200,72,0)","v":2.6996363636363638E-2}]
[{"$f":"'Input E2'!A78","v":150},{"$f":"'Input E2'!B78","v":150},{"$f":"'Input E2'!C78","v":"Scrap cost"},{"$f":"HLOOKUP(D$1,'Input E2'!$E$1:$ND$106,78,0)","v":30.736000000000001},{"$f":"HLOOKUP(E$1,'Input E2'!$E$1:$ND$106,78,0)","v":30.736000000000001},{"$f":"HLOOKUP(F$1,'Input E2'!$E$1:$ND$106,78,0)","v":30.736000000000001},{"$f":"HLOOKUP(G$1,'Input E2'!$E$1:$ND$106,78,0)","v":30.736000000000001},{"$f":"HLOOKUP(H$1,'Input E2'!$E$1:$ND$106,78,0)","v":30.736000000000001},{"$f":"HLOOKUP(I$1,'Input E2'!$E$1:$ND$106,78,0)","v":""},{"$f":"HLOOKUP(J$1,'Input E2'!$E$1:$ND$106,78,0)","v":""},{"$f":"SUM(D75:J75)","v":153.68},{"$f":"HLOOKUP($L$2,Rekenblad!$BJ$3:$BU$200,73,0)","v":710.7299999999999}]
[{"$f":"'Input E2'!A79","v":"t.b.d."},{"$f":"'Input E2'!B79","v":"t.b.d."},{"$f":"'Input E2'!C79","v":"Scrap cost / (Body)"},{"$f":"HLOOKUP(D$1,'Input E2'!$E$1:$ND$106,79,0)","v":9.3850381679389319E-2},{"$f":"HLOOKUP(E$1,'Input E2'!$E$1:$ND$106,79,0)","v":0.10052657399836468},{"$f":"HLOOKUP(F$1,'Input E2'!$E$1:$ND$106,79,0)","v":0.10756255468066492},{"$f":"HLOOKUP(G$1,'Input E2'!$E$1:$ND$106,79,0)","v":9.2092883895131095E-2},{"$f":"HLOOKUP(H$1,'Input E2'!$E$1:$ND$106,79,0)","v":9.181777445855116E-2},{"$f":"HLOOKUP(I$1,'Input E2'!$E$1:$ND$106,79,0)","v":""},{"$f":"HLOOKUP(J$1,'Input E2'!$E$1:$ND$106,79,0)","v":""},{"$f":"IFERROR(SUM(D75:J75)/K51,\"\")","v":9.6806299212598423E-2},{"$f":"HLOOKUP($L$2,Rekenblad!$BJ$3:$BU$200,74,0)","v":0.15904447552447551}]
[{"$f":"'Input E2'!A80","v":167},{"$f":"'Input E2'!B80","v":167},{"$f":"'Input E2'!C80","v":"Electrode & Maintenance mat.Sides"},{"$f":"HLOOKUP(D$1,'Input E2'!$E$1:$ND$106,80,0)","v":0},{"$f":"HLOOKUP(E$1,'Input E2'!$E$1:$ND$106,80,0)","v":0},{"$f":"HLOOKUP(F$1,'Input E2'!$E$1:$ND$106,80,0)","v":0},{"$f":"HLOOKUP(G$1,'Input E2'!$E$1:$ND$106,80,0)","v":0},{"$f":"HLOOKUP(H$1,'Input E2'!$E$1:$ND$106,80,0)","v":0},{"$f":"HLOOKUP(I$1,'Input E2'!$E$1:$ND$106,80,0)","v":0},{"$f":"HLOOKUP(J$1,'Input E2'!$E$1:$ND$106,80,0)","v":0},{"$f":"SUM(D77:J77)","v":0},{"$f":"HLOOKUP($L$2,Rekenblad!$BJ$3:$BU$200,75,0)","v":250.12}]
[{"$f":"'Input E2'!A81","v":"t.b.d."},{"$f":"'Input E2'!B81","v":"t.b.d."},{"$f":"'Input E2'!C81","v":"Electrode & Maintenance mat.Sides / (Body)"},{"$f":"HLOOKUP(D$1,'Input E2'!$E$1:$ND$106,81,0)","v":0},{"$f":"HLOOKUP(E$1,'Input E2'!$E$1:$ND$106,81,0)","v":0},{"$f":"HLOOKUP(F$1,'Input E2'!$E$1:$ND$106,81,0)","v":0},{"$f":"HLOOKUP(G$1,'Input E2'!$E$1:$ND$106,81,0)","v":0},{"$f":"HLOOKUP(H$1,'Input E2'!$E$1:$ND$106,81,0)","v":0},{"$f":"HLOOKUP(I$1,'Input E2'!$E$1:$ND$106,81,0)","v":""},{"$f":"HLOOKUP(J$1,'Input E2'!$E$1:$ND$106,81,0)","v":""},{"$f":"IFERROR(SUM(D77:J77)/K51,\"\")","v":0},{"$f":"HLOOKUP($L$2,Rekenblad!$BJ$3:$BU$200,76,0)","v":5.5970909090909092E-2}]
[5,"Additional info"]
["Goal",null,"K.P.I."]
[]
[null,null,"Working days",null,null,null,null,null,null,null,{"$f":"COUNTIF(D8:J8,\">0\")","v":5},{"$f":"HLOOKUP($L$2,Rekenblad!BJ1:BU2,2,0)","v":16}]

{"sheet":"Actual Week E2","index":2,"n_rows":81,"n_cols":11,"rows_kept":81,"cut":false,"hidden":true,"merged":[[78,0,78,1],[1,0,1,1],[1,4,1,6],[1,7,1,9],[2,10,3,10],[3,0,3,1],[5,0,6,1],[5,2,6,2],[24,0,25,1],[24,2,25,2],[53,0,54,1],[53,2,54,2],[70,0,70,1]]}
[null,{"$f":"TODAY()","v":"2018-10-06"},null,{"$f":"$C$3&D$4&$D$2","v":"40MaE2"},"40DiE2","40WoE2","40DoE2","40VrE2","40ZaE2","40ZoE2"]
["Balanced Score Card",null,{"$f":"'Input E2'!A4","v":"Taakgroep 286"},{"$f":"'Input E2'!C4","v":"E2"},"Rayonleider:",null,null,{"$f":"'Input E2'!C5","v":"J. op het Veld"}]
[null,"Week",{"$f":"WEEKNUM(B1,21)","v":40},{"$f":"HLOOKUP(D$1,'Input E2'!E1:ND5,4,0)","v":"2018-10-01"},{"$f":"HLOOKUP(E$1,'Input E2'!F1:NE5,4,0)","v":"2018-10-02"},{"$f":"HLOOKUP(F$1,'Input E2'!G1:NF5,4,0)","v":"2018-10-03"},{"$f":"HLOOKUP(G$1,'Input E2'!H1:NG5,4,0)","v":"2018-10-04"},{"$f":"HLOOKUP(H$1,'Input E2'!I1:NH5,4,0)","v":"2018-10-05"},{"$f":"HLOOKUP(I$1,'Input E2'!J1:NI5,4,0)","v":"2018-10-06"},{"$f":"HLOOKUP(J$1,'Input E2'!K1:NJ5,4,0)","v":"2018-10-07"},"Weekresult"]
["FTE Volgens SAP",null,{"$f":"HLOOKUP($D$1,'Input E2'!$E$1:$ND$106,10,0)","v":18},"Ma","Di","Wo","Do","Vr","Za","Zo"]
[1,"People (P)","Status: Ready",{"$f":"IFERROR(INDEX(DATA!$A$1:$NI$21,MATCH($D2,DATA!$A$1:$A$21,0),MATCH(D$3,DATA!$A$1:$NJ$1,0)),\"\")","v":"ND"},{"$f":"IFERROR(INDEX(DATA!$A$1:$NI$21,MATCH($D2,DATA!$A$1:$A$21,0),MATCH(E$3,DATA!$A$1:$NJ$1,0)),\"\")","v":"ND"},{"$f":"IFERROR(INDEX(DATA!$A$1:$NI$21,MATCH($D2,DATA!$A$1:$A$21,0),MATCH(F$3,DATA!$A$1:$NJ$1,0)),\"\")","v":"ND"},{"$f":"IFERROR(INDEX(DATA!$A$1:$NI$21,MATCH($D2,DATA!$A$1:$A$21,0),MATCH(G$3,DATA!$A$1:$NJ$1,0)),\"\")","v":"ND"},{"$f":"IFERROR(INDEX(DATA!$A$1:$NI$21,MATCH($D2,DATA!$A$1:$A$21,0),MATCH(H$3,DATA!$A$1:$NJ$1,0)),\"\")","v":"ND"},{"$f":"IFERROR(INDEX(DATA!$A$1:$NI$21,MATCH($D2,DATA!$A$1:$A$21,0),MATCH(I$3,DATA!$A$1:$NJ$1,0)),\"\")","v":"Za"},{"$f":"IFERROR(INDEX(DATA!$A$1:$NI$21,MATCH($D2,DATA!$A$1:$A$21,0),MATCH(J$3,DATA!$A$1:$NJ$1,0)),\"\")","v":"Zo"}]
["Goal",null,"K.P.I."]
[]
[null,{"$f":"'Input E2'!B10","v":18},{"$f":"'Input E2'!C10","v":"FTE SAP [#]"},{"$f":"HLOOKUP(D$1,'Input E2'!$E$1:$ND$106,10,0)","v":18},{"$f":"HLOOKUP(E$1,'Input E2'!$E$1:$ND$106,10,0)","v":18},{"$f":"HLOOKUP(F$1,'Input E2'!$E$1:$ND$106,10,0)","v":18},{"$f":"HLOOKUP(G$1,'Input E2'!$E$1:$ND$106,10,0)","v":18},{"$f":"HLOOKUP(H$1,'Input E2'!$E$1:$ND$106,10,0)","v":18},{"$f":"HLOOKUP(I$1,'Input E2'!$E$1:$ND$106,10,0)","v":0},{"$f":"HLOOKUP(J$1,'Input E2'!$E$1:$ND$106,10,0)","v":0},{"$f":"IFERROR(SUMIF(D8:J8,\">0\")/COUNTIF(D8:J8,\">0\"),\"-\")","v":18}]
[null,{"$f":"('Input E2'!B11)*(COUNTIF(D8:J8,\">0\"))","v":80},{"$f":"'Input E2'!C11","v":"Functions required [#l]"},{"$f":"HLOOKUP(D$1,'Input E2'!$E$1:$ND$106,11,0)","v":16},{"$f":"HLOOKUP(E$1,'Input E2'!$E$1:$ND$106,11,0)","v":16},{"$f":"HLOOKUP(F$1,'Input E2'!$E$1:$ND$106,11,0)","v":16},{"$f":"HLOOKUP(G$1,'Input E2'!$E$1:$ND$106,11,0)","v":16},{"$f":"HLOOKUP(H$1,'Input E2'!$E$1:$ND$106,11,0)","v":16},{"$f":"HLOOKUP(I$1,'Input E2'!$E$1:$ND$106,11,0)","v":0},{"$f":"HLOOKUP(J$1,'Input E2'!$E$1:$ND$106,11,0)","v":0},{"$f":"SUM(D9:J9)","v":80}]
[null,{"$f":"('Input E2'!B12)*(COUNTIF(D8:J8,\">0\"))","v":100},{"$f":"'Input E2'!C12","v":"Direct blue collar present [#]"},{"$f":"HLOOKUP(D$1,'Input E2'!$E$1:$ND$106,12,0)","v":17},{"$f":"HLOOKUP(E$1,'Input E2'!$E$1:$ND$106,12,0)","v":17},{"$f":"HLOOKUP(F$1,'Input E2'!$E$1:$ND$106,12,0)","v":17},{"$f":"HLOOKUP(G$1,'Input E2'!$E$1:$ND$106,12,0)","v":16},{"$f":"HLOOKUP(H$1,'Input E2'!$E$1:$ND$106,12,0)","v":15},{"$f":"HLOOKUP(I$1,'Input E2'!$E$1:$ND$106,12,0)","v":0},{"$f":"HLOOKUP(J$1,'Input E2'!$E$1:$ND$106,12,0)","v":0},{"$f":"SUM(D10:J10)","v":82}]
[null,{"$f":"'Input E2'!B13","v":">=0"},{"$f":"'Input E2'!C13","v":"Idle capacity"},{"$f":"IF(D$8=\"-\",\"-\",HLOOKUP(D$1,'Input E2'!$E$1:$ND$106,13,0))","v":1},{"$f":"IF(E$8=\"-\",\"-\",HLOOKUP(E$1,'Input E2'!$E$1:$ND$106,13,0))","v":1},{"$f":"IF(F$8=\"-\",\"-\",HLOOKUP(F$1,'Input E2'!$E$1:$ND$106,13,0))","v":1},{"$f":"IF(G$8=\"-\",\"-\",HLOOKUP(G$1,'Input E2'!$E$1:$ND$106,13,0))","v":0},{"$f":"IF(H$8=\"-\",\"-\",HLOOKUP(H$1,'Input E2'!$E$1:$ND$106,13,0))","v":-1},{"$f":"IF(I$8=\"-\",\"-\",HLOOKUP(I$1,'Input E2'!$E$1:$ND$106,13,0))","v":""},{"$f":"IF(J$8=\"-\",\"-\",HLOOKUP(J$1,'Input E2'!$E$1:$ND$106,13,0))","v":""},{"$f":"IFERROR(SUMIF(D11:J11,\">=0\",D11:J11)/(COUNTIF(D11:J11,\">=0\")),\"-\")","v":0.75}]
[null,{"$f":"'Input E2'!B14","v":"Max"},{"$f":"'Input E2'!C14","v":"Idle (aantal Medewerkers uitleen/ Opleiding)"},{"$f":"IF(D$8=\"-\",\"-\",HLOOKUP(D$1,'Input E2'!$E$1:$ND$106,14,0))","v":0},{"$f":"IF(E$8=\"-\",\"-\",HLOOKUP(E$1,'Input E2'!$E$1:$ND$106,14,0))","v":0},{"$f":"IF(F$8=\"-\",\"-\",HLOOKUP(F$1,'Input E2'!$E$1:$ND$106,14,0))","v":0},{"$f":"IF(G$8=\"-\",\"-\",HLOOKUP(G$1,'Input E2'!$E$1:$ND$106,14,0))","v":0},{"$f":"IF(H$8=\"-\",\"-\",HLOOKUP(H$1,'Input E2'!$E$1:$ND$106,14,0))","v":0},{"$f":"IF(I$8=\"-\",\"-\",HLOOKUP(I$1,'Input E2'!$E$1:$ND$106,14,0))","v":0},{"$f":"IF(J$8=\"-\",\"-\",HLOOKUP(J$1,'Input E2'!$E$1:$ND$106,14,0))","v":0},{"$f":"SUM(D12:J12)","v":0}]
[null,{"$f":"'Input E2'!B15","v":"Max"},{"$f":"'Input E2'!C15","v":"Eigen Onderhoud"},{"$f":"IF(D$8=\"-\",\"-\",HLOOKUP(D$1,'Input E2'!$E$1:$ND$106,15,0))","v":0},{"$f":"IF(E$8=\"-\",\"-\",HLOOKUP(E$1,'Input E2'!$E$1:$ND$106,15,0))","v":0},{"$f":"IF(F$8=\"-\",\"-\",HLOOKUP(F$1,'Input E2'!$E$1:$ND$106,15,0))","v":0},{"$f":"IF(G$8=\"-\",\"-\",HLOOKUP(G$1,'Input E2'!$E$1:$ND$106,15,0))","v":1},{"$f":"IF(H$8=\"-\",\"-\",HLOOKUP(H$1,'Input E2'!$E$1:$ND$106,15,0))","v":0},{"$f":"IF(I$8=\"-\",\"-\",HLOOKUP(I$1,'Input E2'!$E$1:$ND$106,15,0))","v":0},{"$f":"IF(J$8=\"-\",\"-\",HLOOKUP(J$1,'Input E2'!$E$1:$ND$106,15,0))","v":0},{"$f":"SUM(D13:J13)","v":1}]
[null,{"$f":"'Input E2'!B16","v":0},{"$f":"'Input E2'!C16","v":"Injury (F.g.p.) Zonder verzuim"},{"$f":"IF(D$8=\"-\",\"-\",HLOOKUP(D$1,'Input E2'!$E$1:$ND$106,16,0))","v":0},{"$f":"IF(E$8=\"-\",\"-\",HLOOKUP(E$1,'Input E2'!$E$1:$ND$106,16,0))","v":0},{"$f":"IF(F$8=\"-\",\"-\",HLOOKUP(F$1,'Input E2'!$E$1:$ND$106,16,0))","v":0},{"$f":"IF(G$8=\"-\",\"-\",HLOOKUP(G$1,'Input E2'!$E$1:$ND$106,16,0))","v":0},{"$f":"IF(H$8=\"-\",\"-\",HLOOKUP(H$1,'Input E2'!$E$1:$ND$106,16,0))","v":0},{"$f":"IF(I$8=\"-\",\"-\",HLOOKUP(I$1,'Input E2'!$E$1:$ND$106,16,0))","v":0},{"$f":"IF(J$8=\"-\",\"-\",HLOOKUP(J$1,'Input E2'!$E$1:$ND$106,16,0))","v":0},{"$f":"SUM(D14:J14)","v":0}]
[null,{"$f":"'Input E2'!B17","v":0},{"$f":"'Input E2'!C17","v":"Injury (E.g.p.) Met verzuim"},{"$f":"IF(D$8=\"-\",\"-\",HLOOKUP(D$1,'Input E2'!$E$1:$ND$106,17,0))","v":0},{"$f":"IF(E$8=\"-\",\"-\",HLOOKUP(E$1,'Input E2'!$E$1:$ND$106,17,0))","v":0},{"$f":"IF(F$8=\"-\",\"-\",HLOOKUP(F$1,'Input E2'!$E$1:$ND$106,17,0))","v":0},{"$f":"IF(G$8=\"-\",\"-\",HLOOKUP(G$1,'Input E2'!$E$1:$ND$106,17,0))","v":0},{"$f":"IF(H$8=\"-\",\"-\",HLOOKUP(H$1,'Input E2'!$E$1:$ND$106,17,0))","v":0},{"$f":"IF(I$8=\"-\",\"-\",HLOOKUP(I$1,'Input E2'!$E$1:$ND$106,17,0))","v":0},{"$f":"IF(J$8=\"-\",\"-\",HLOOKUP(J$1,'Input E2'!$E$1:$ND$106,17,0))","v":0},{"$f":"SUM(D15:J15)","v":0}]
[null,{"$f":"'Input E2'!B18","v":"<=1"},{"$f":"'Input E2'!C18","v":"Illness direct blue collar"},{"$f":"IF(D$8=\"-\",\"-\",HLOOKUP(D$1,'Input E2'!$E$1:$ND$106,18,0))","v":2},{"$f":"IF(E$8=\"-\",\"-\",HLOOKUP(E$1,'Input E2'!$E$1:$ND$106,18,0))","v":2},{"$f":"IF(F$8=\"-\",\"-\",HLOOKUP(F$1,'Input E2'!$E$1:$ND$106,18,0))","v":2},{"$f":"IF(G$8=\"-\",\"-\",HLOOKUP(G$1,'Input E2'!$E$1:$ND$106,18,0))","v":3},{"$f":"IF(H$8=\"-\",\"-\",HLOOKUP(H$1,'Input E2'!$E$1:$ND$106,18,0))","v":3},{"$f":"IF(I$8=\"-\",\"-\",HLOOKUP(I$1,'Input E2'!$E$1:$ND$106,18,0))","v":0},{"$f":"IF(J$8=\"-\",\"-\",HLOOKUP(J$1,'Input E2'!$E$1:$ND$106,18,0))","v":0},{"$f":"SUM(D16:J16)","v":12}]
[null,{"$f":"'Input E2'!B19","v":"<4,50%"},{"$f":"'Input E2'!C19","v":"Percentage Illness per day"},{"$f":"IF(D$8=\"-\",\"-\",HLOOKUP(D$1,'Input E2'!$E$1:$ND$106,19,0))","v":0.1111111111111111},{"$f":"IF(E$8=\"-\",\"-\",HLOOKUP(E$1,'Input E2'!$E$1:$ND$106,19,0))","v":0.1111111111111111},{"$f":"IF(F$8=\"-\",\"-\",HLOOKUP(F$1,'Input E2'!$E$1:$ND$106,19,0))","v":0.1111111111111111},{"$f":"IF(G$8=\"-\",\"-\",HLOOKUP(G$1,'Input E2'!$E$1:$ND$106,19,0))","v":0.16666666666666666},{"$f":"IF(H$8=\"-\",\"-\",HLOOKUP(H$1,'Input E2'!$E$1:$ND$106,19,0))","v":0.16666666666666666},{"$f":"IF(I$8=\"-\",\"-\",HLOOKUP(I$1,'Input E2'!$E$1:$ND$106,19,0))","v":0},{"$f":"IF(J$8=\"-\",\"-\",HLOOKUP(J$1,'Input E2'!$E$1:$ND$106,19,0))","v":0},{"$f":"IFERROR(SUM(D17:J17)/COUNTIF(D8:J8,\">0\"),\"-\")","v":0.13333333333333333}]
[null,{"$f":"'Input E2'!B20","v":"2/Week"},{"$f":"'Input E2'!C20","v":"Individual small improvements"},{"$f":"IF(D$8=\"-\",\"-\",HLOOKUP(D$1,'Input E2'!$E$1:$ND$106,20,0))","v":0},{"$f":"IF(E$8=\"-\",\"-\",HLOOKUP(E$1,'Input E2'!$E$1:$ND$106,20,0))","v":0},{"$f":"IF(F$8=\"-\",\"-\",HLOOKUP(F$1,'Input E2'!$E$1:$ND$106,20,0))","v":0},{"$f":"IF(G$8=\"-\",\"-\",HLOOKUP(G$1,'Input E2'!$E$1:$ND$106,20,0))","v":0},{"$f":"IF(H$8=\"-\",\"-\",HLOOKUP(H$1,'Input E2'!$E$1:$ND$106,20,0))","v":0},{"$f":"IF(I$8=\"-\",\"-\",HLOOKUP(I$1,'Input E2'!$E$1:$ND$106,20,0))","v":0},{"$f":"IF(J$8=\"-\",\"-\",HLOOKUP(J$1,'Input E2'!$E$1:$ND$106,20,0))","v":0},{"$f":"SUM($D$18:$J$18)","v":0}]
[null,{"$f":"'Input E2'!B21","v":"-"},{"$f":"'Input E2'!C21","v":"Workshop Action Implementation"},{"$f":"IF(D$8=\"-\",\"-\",HLOOKUP(D$1,'Input E2'!$E$1:$ND$106,21,0))","v":0},{"$f":"IF(E$8=\"-\",\"-\",HLOOKUP(E$1,'Input E2'!$E$1:$ND$106,21,0))","v":0},{"$f":"IF(F$8=\"-\",\"-\",HLOOKUP(F$1,'Input E2'!$E$1:$ND$106,21,0))","v":0},{"$f":"IF(G$8=\"-\",\"-\",HLOOKUP(G$1,'Input E2'!$E$1:$ND$106,21,0))","v":0},{"$f":"IF(H$8=\"-\",\"-\",HLOOKUP(H$1,'Input E2'!$E$1:$ND$106,21,0))","v":0},{"$f":"IF(I$8=\"-\",\"-\",HLOOKUP(I$1,'Input E2'!$E$1:$ND$106,21,0))","v":0},{"$f":"IF(J$8=\"-\",\"-\",HLOOKUP(J$1,'Input E2'!$E$1:$ND$106,21,0))","v":0},{"$f":"SUM($D$19:$J$19)","v":0}]
[null,{"$f":"'Input E2'!B22","v":0.8},{"$f":"'Input E2'!C22","v":"FCOM score borging"},{"$f":"IF(D$8=\"-\",\"-\",HLOOKUP(D$1,'Input E2'!$E$1:$ND$106,22,0))","v":0.6},{"$f":"IF(E$8=\"-\",\"-\",HLOOKUP(E$1,'Input E2'!$E$1:$ND$106,22,0))","v":0.6},{"$f":"IF(F$8=\"-\",\"-\",HLOOKUP(F$1,'Input E2'!$E$1:$ND$106,22,0))","v":0.6},{"$f":"IF(G$8=\"-\",\"-\",HLOOKUP(G$1,'Input E2'!$E$1:$ND$106,22,0))","v":0.6},{"$f":"IF(H$8=\"-\",\"-\",HLOOKUP(H$1,'Input E2'!$E$1:$ND$106,22,0))","v":0.6},{"$f":"IF(I$8=\"-\",\"-\",HLOOKUP(I$1,'Input E2'!$E$1:$ND$106,22,0))","v":0},{"$f":"IF(J$8=\"-\",\"-\",HLOOKUP(J$1,'Input E2'!$E$1:$ND$106,22,0))","v":0},{"$f":"IFERROR(SUM($D$20:$J$20)/K81,\"-\")","v":0.6}]
[null,{"$f":"'Input E2'!B23","v":0.9},{"$f":"'Input E2'!C23","v":"FCOM score milieu"},{"$f":"IF(D$8=\"-\",\"-\",HLOOKUP(D$1,'Input E2'!$E$1:$ND$106,23,0))","v":0.9},{"$f":"IF(E$8=\"-\",\"-\",HLOOKUP(E$1,'Input E2'!$E$1:$ND$106,23,0))","v":0.9},{"$f":"IF(F$8=\"-\",\"-\",HLOOKUP(F$1,'Input E2'!$E$1:$ND$106,23,0))","v":0.9},{"$f":"IF(G$8=\"-\",\"-\",HLOOKUP(G$1,'Input E2'!$E$1:$ND$106,23,0))","v":0.9},{"$f":"IF(H$8=\"-\",\"-\",HLOOKUP(H$1,'Input E2'!$E$1:$ND$106,23,0))","v":0.9},{"$f":"IF(I$8=\"-\",\"-\",HLOOKUP(I$1,'Input E2'!$E$1:$ND$106,23,0))","v":0},{"$f":"IF(J$8=\"-\",\"-\",HLOOKUP(J$1,'Input E2'!$E$1:$ND$106,23,0))","v":0},{"$f":"IFERROR(SUM($D$21:$J$21)/K81,\"-\")","v":0.9}]
[null,{"$f":"'Input E2'!B24","v":"1/Week"},{"$f":"'Input E2'!C24","v":"Number of HR-Conversations"},{"$f":"IF(D$8=\"-\",\"-\",HLOOKUP(D$1,'Input E2'!$E$1:$ND$106,24,0))","v":0},{"$f":"IF(E$8=\"-\",\"-\",HLOOKUP(E$1,'Input E2'!$E$1:$ND$106,24,0))","v":0},{"$f":"IF(F$8=\"-\",\"-\",HLOOKUP(F$1,'Input E2'!$E$1:$ND$106,24,0))","v":0},{"$f":"IF(G$8=\"-\",\"-\",HLOOKUP(G$1,'Input E2'!$E$1:$ND$106,24,0))","v":0},{"$f":"IF(H$8=\"-\",\"-\",HLOOKUP(H$1,'Input E2'!$E$1:$ND$106,24,0))","v":0},{"$f":"IF(I$8=\"-\",\"-\",HLOOKUP(I$1,'Input E2'!$E$1:$ND$106,24,0))","v":0},{"$f":"IF(J$8=\"-\",\"-\",HLOOKUP(J$1,'Input E2'!$E$1:$ND$106,24,0))","v":0},{"$f":"SUM(D22:J22)","v":0}]
[null,{"$f":"'Input E2'!B25","v":"1/Dayshift"},"Number of Taskgroupmeetings",{"$f":"IF(D$8=\"-\",\"-\",HLOOKUP(D$1,'Input E2'!$E$1:$ND$106,25,0))","v":0},{"$f":"IF(E$8=\"-\",\"-\",HLOOKUP(E$1,'Input E2'!$E$1:$ND$106,25,0))","v":0},{"$f":"IF(F$8=\"-\",\"-\",HLOOKUP(F$1,'Input E2'!$E$1:$ND$106,25,0))","v":0},{"$f":"IF(G$8=\"-\",\"-\",HLOOKUP(G$1,'Input E2'!$E$1:$ND$106,25,0))","v":0},{"$f":"IF(H$8=\"-\",\"-\",HLOOKUP(H$1,'Input E2'!$E$1:$ND$106,25,0))","v":0},{"$f":"IF(I$8=\"-\",\"-\",HLOOKUP(I$1,'Input E2'!$E$1:$ND$106,25,0))","v":0},{"$f":"IF(J$8=\"-\",\"-\",HLOOKUP(J$1,'Input E2'!$E$1:$ND$106,25,0))","v":0},{"$f":"SUM(D23:J23)","v":0}]
[2,"Process (P)",null,null,"    "]
["Goal",null,"K.P.I."]
[]
[null,{"$f":"'Input E2'!B29","v":"Plan"},{"$f":"'Input E2'!C29","v":"Realized SRM LH"},{"$f":"IF(D$8=\"-\",\"-\",HLOOKUP(D$1,'Input E2'!$E$1:$ND$106,29,0))","v":367},{"$f":"IF(E$8=\"-\",\"-\",HLOOKUP(E$1,'Input E2'!$E$1:$ND$106,29,0))","v":310},{"$f":"IF(F$8=\"-\",\"-\",HLOOKUP(F$1,'Input E2'!$E$1:$ND$106,29,0))","v":343},{"$f":"IF(G$8=\"-\",\"-\",HLOOKUP(G$1,'Input E2'!$E$1:$ND$106,29,0))","v":323},{"$f":"IF(H$8=\"-\",\"-\",HLOOKUP(H$1,'Input E2'!$E$1:$ND$106,29,0))","v":298},{"$f":"IF(I$8=\"-\",\"-\",HLOOKUP(I$1,'Input E2'!$E$1:$ND$106,29,0))","v":0},{"$f":"IF(J$8=\"-\",\"-\",HLOOKUP(J$1,'Input E2'!$E$1:$ND$106,29,0))","v":0},{"$f":"IFERROR(SUM(D27:J27),\"-\")","v":1641}]
[null,{"$f":"'Input E2'!B30","v":"t.b.d."},{"$f":"'Input E2'!C30","v":"Downtime Technical SRM LH [Min]"},{"$f":"IF(D$8=\"-\",\"-\",HLOOKUP(D$1,'Input E2'!$E$1:$ND$106,30,0))","v":33},{"$f":"IF(E$8=\"-\",\"-\",HLOOKUP(E$1,'Input E2'!$E$1:$ND$106,30,0))","v":25},{"$f":"IF(F$8=\"-\",\"-\",HLOOKUP(F$1,'Input E2'!$E$1:$ND$106,30,0))","v":20},{"$f":"IF(G$8=\"-\",\"-\",HLOOKUP(G$1,'Input E2'!$E$1:$ND$106,30,0))","v":0},{"$f":"IF(H$8=\"-\",\"-\",HLOOKUP(H$1,'Input E2'!$E$1:$ND$106,30,0))","v":0},{"$f":"IF(I$8=\"-\",\"-\",HLOOKUP(I$1,'Input E2'!$E$1:$ND$106,30,0))","v":0},{"$f":"IF(J$8=\"-\",\"-\",HLOOKUP(J$1,'Input E2'!$E$1:$ND$106,30,0))","v":0},{"$f":"IFERROR(SUM(D28:J28),\"-\")","v":78}]
[null,{"$f":"'Input E2'!B31","v":"t.b.d."},{"$f":"'Input E2'!C31","v":"Downtime Technical SRM LH [%]"},{"$f":"IF(D$8=\"-\",\"-\",HLOOKUP(D$1,'Input E2'!$E$1:$ND$106,31,0))","v":8.005175062666775E-2},{"$f":"IF(E$8=\"-\",\"-\",HLOOKUP(E$1,'Input E2'!$E$1:$ND$106,31,0))","v":7.2393822393822388E-2},{"$f":"IF(F$8=\"-\",\"-\",HLOOKUP(F$1,'Input E2'!$E$1:$ND$106,31,0))","v":5.3414047894596278E-2},{"$f":"IF(G$8=\"-\",\"-\",HLOOKUP(G$1,'Input E2'!$E$1:$ND$106,31,0))","v":0},{"$f":"IF(H$8=\"-\",\"-\",HLOOKUP(H$1,'Input E2'!$E$1:$ND$106,31,0))","v":0},{"$f":"IF(I$8=\"-\",\"\",HLOOKUP(I$1,'Input E2'!$E$1:$ND$106,31,0))","v":0},{"$f":"IF(J$8=\"-\",\"\",HLOOKUP(J$1,'Input E2'!$E$1:$ND$106,31,0))","v":0},{"$f":"IFERROR((K28*60)/((K27*62)+(K28*60)),\"-\")","v":4.3975869651012009E-2}]
[null,{"$f":"'Input E2'!B32","v":"t.b.d."},{"$f":"'Input E2'!C32","v":"Blocked Starved [Min]"},{"$f":"IF(D$8=\"-\",\"-\",HLOOKUP(D$1,'Input E2'!$E$1:$ND$106,32,0))","v":53},{"$f":"IF(E$8=\"-\",\"-\",HLOOKUP(E$1,'Input E2'!$E$1:$ND$106,32,0))","v":57},{"$f":"IF(F$8=\"-\",\"-\",HLOOKUP(F$1,'Input E2'!$E$1:$ND$106,32,0))","v":13},{"$f":"IF(G$8=\"-\",\"-\",HLOOKUP(G$1,'Input E2'!$E$1:$ND$106,32,0))","v":43},{"$f":"IF(H$8=\"-\",\"-\",HLOOKUP(H$1,'Input E2'!$E$1:$ND$106,32,0))","v":77},{"$f":"IF(I$8=\"-\",\"-\",HLOOKUP(I$1,'Input E2'!$E$1:$ND$106,32,0))","v":0},{"$f":"IF(J$8=\"-\",\"-\",HLOOKUP(J$1,'Input E2'!$E$1:$ND$106,32,0))","v":0},{"$f":"IFERROR(SUM(D30:J30),\"-\")","v":243}]
[null,{"$f":"'Input E2'!B33","v":"t.b.d."},{"$f":"'Input E2'!C33","v":"Parts at Break [Aantal]"},{"$f":"IF(D$8=\"-\",\"-\",HLOOKUP(D$1,'Input E2'!$E$1:$ND$106,33,0))","v":26},{"$f":"IF(E$8=\"-\",\"-\",HLOOKUP(E$1,'Input E2'!$E$1:$ND$106,33,0))","v":38},{"$f":"IF(F$8=\"-\",\"-\",HLOOKUP(F$1,'Input E2'!$E$1:$ND$106,33,0))","v":32},{"$f":"IF(G$8=\"-\",\"-\",HLOOKUP(G$1,'Input E2'!$E$1:$ND$106,33,0))","v":25},{"$f":"IF(H$8=\"-\",\"-\",HLOOKUP(H$1,'Input E2'!$E$1:$ND$106,33,0))","v":19},{"$f":"IF(I$8=\"-\",\"-\",HLOOKUP(I$1,'Input E2'!$E$1:$ND$106,33,0))","v":0},{"$f":"IF(J$8=\"-\",\"-\",HLOOKUP(J$1,'Input E2'!$E$1:$ND$106,33,0))","v":0},{"$f":"IFERROR(SUM(D31:J31),\"-\")","v":140}]
[null,{"$f":"'Input E2'!B34","v":"t.b.d."},{"$f":"'Input E2'!C34","v":"Planned Stop [Min]"},{"$f":"IF(D$8=\"-\",\"-\",HLOOKUP(D$1,'Input E2'!$E$1:$ND$106,34,0))","v":0},{"$f":"IF(E$8=\"-\",\"-\",HLOOKUP(E$1,'Input E2'!$E$1:$ND$106,34,0))","v":0},{"$f":"IF(F$8=\"-\",\"-\",HLOOKUP(F$1,'Input E2'!$E$1:$ND$106,34,0))","v":0},{"$f":"IF(G$8=\"-\",\"-\",HLOOKUP(G$1,'Input E2'!$E$1:$ND$106,34,0))","v":0},{"$f":"IF(H$8=\"-\",\"-\",HLOOKUP(H$1,'Input E2'!$E$1:$ND$106,34,0))","v":0},{"$f":"IF(I$8=\"-\",\"-\",HLOOKUP(I$1,'Input E2'!$E$1:$ND$106,34,0))","v":0},{"$f":"IF(J$8=\"-\",\"-\",HLOOKUP(J$1,'Input E2'!$E$1:$ND$106,34,0))","v":0},{"$f":"IFERROR(SUM(D32:J32),\"-\")","v":0}]
[null,{"$f":"'Input E2'!B35","v":"Plan"},{"$f":"'Input E2'!C35","v":"Realized SRM RH"},{"$f":"IF(D$8=\"-\",\"-\",HLOOKUP(D$1,'Input E2'!$E$1:$ND$106,35,0))","v":362},{"$f":"IF(E$8=\"-\",\"-\",HLOOKUP(E$1,'Input E2'!$E$1:$ND$106,35,0))","v":301},{"$f":"IF(F$8=\"-\",\"-\",HLOOKUP(F$1,'Input E2'!$E$1:$ND$106,35,0))","v":324},{"$f":"IF(G$8=\"-\",\"-\",HLOOKUP(G$1,'Input E2'!$E$1:$ND$106,35,0))","v":335},{"$f":"IF(H$8=\"-\",\"-\",HLOOKUP(H$1,'Input E2'!$E$1:$ND$106,35,0))","v":298},{"$f":"IF(I$8=\"-\",\"-\",HLOOKUP(I$1,'Input E2'!$E$1:$ND$106,35,0))","v":0},{"$f":"IF(J$8=\"-\",\"-\",HLOOKUP(J$1,'Input E2'!$E$1:$ND$106,35,0))","v":0},{"$f":"IFERROR(SUM(D33:J33),\"-\")","v":1620}]
[null,{"$f":"'Input E2'!B36","v":"t.b.d."},{"$f":"'Input E2'!C36","v":"Downtime Technical SRM RH [Min]"},{"$f":"IF(D$8=\"-\",\"-\",HLOOKUP(D$1,'Input E2'!$E$1:$ND$106,36,0))","v":57},{"$f":"IF(E$8=\"-\",\"-\",HLOOKUP(E$1,'Input E2'!$E$1:$ND$106,36,0))","v":11},{"$f":"IF(F$8=\"-\",\"-\",HLOOKUP(F$1,'Input E2'!$E$1:$ND$106,36,0))","v":18},{"$f":"IF(G$8=\"-\",\"-\",HLOOKUP(G$1,'Input E2'!$E$1:$ND$106,36,0))","v":0},{"$f":"IF(H$8=\"-\",\"-\",HLOOKUP(H$1,'Input E2'!$E$1:$ND$106,36,0))","v":0},{"$f":"IF(I$8=\"-\",\"-\",HLOOKUP(I$1,'Input E2'!$E$1:$ND$106,36,0))","v":0},{"$f":"IF(J$8=\"-\",\"-\",HLOOKUP(J$1,'Input E2'!$E$1:$ND$106,36,0))","v":0},{"$f":"IFERROR(SUM(D34:J34),\"-\")","v":86}]
[null,{"$f":"'Input E2'!B37","v":"t.b.d."},{"$f":"'Input E2'!C37","v":"Downtime Technical SRM RH [%]"},{"$f":"IF(D$8=\"-\",\"-\",HLOOKUP(D$1,'Input E2'!$E$1:$ND$106,37,0))","v":0.13223012681719765},{"$f":"IF(E$8=\"-\",\"-\",HLOOKUP(E$1,'Input E2'!$E$1:$ND$106,37,0))","v":3.4157954663078353E-2},{"$f":"IF(F$8=\"-\",\"-\",HLOOKUP(F$1,'Input E2'!$E$1:$ND$106,37,0))","v":5.1020408163265307E-2},{"$f":"IF(G$8=\"-\",\"-\",HLOOKUP(G$1,'Input E2'!$E$1:$ND$106,37,0))","v":0},{"$f":"IF(H$8=\"-\",\"-\",HLOOKUP(H$1,'Input E2'!$E$1:$ND$106,37,0))","v":0},{"$f":"IF(I$8=\"-\",\"-\",HLOOKUP(I$1,'Input E2'!$E$1:$ND$106,37,0))","v":0},{"$f":"IF(J$8=\"-\",\"-\",HLOOKUP(J$1,'Input E2'!$E$1:$ND$106,37,0))","v":0},{"$f":"IFERROR((K34*60)/((K33*62)+(K34*60)),\"-\")","v":4.8863636363636366E-2}]
[null,{"$f":"'Input E2'!B38","v":"t.b.d."},{"$f":"'Input E2'!C38","v":"Blocked Starved [Min]"},{"$f":"IF(D$8=\"-\",\"-\",HLOOKUP(D$1,'Input E2'!$E$1:$ND$106,38,0))","v":33},{"$f":"IF(E$8=\"-\",\"-\",HLOOKUP(E$1,'Input E2'!$E$1:$ND$106,38,0))","v":19},{"$f":"IF(F$8=\"-\",\"-\",HLOOKUP(F$1,'Input E2'!$E$1:$ND$106,38,0))","v":39},{"$f":"IF(G$8=\"-\",\"-\",HLOOKUP(G$1,'Input E2'!$E$1:$ND$106,38,0))","v":5},{"$f":"IF(H$8=\"-\",\"-\",HLOOKUP(H$1,'Input E2'!$E$1:$ND$106,38,0))","v":61},{"$f":"IF(I$8=\"-\",\"-\",HLOOKUP(I$1,'Input E2'!$E$1:$ND$106,38,0))","v":0},{"$f":"IF(J$8=\"-\",\"-\",HLOOKUP(J$1,'Input E2'!$E$1:$ND$106,38,0))","v":0},{"$f":"IFERROR(SUM(D36:J36),\"-\")","v":157}]
[null,{"$f":"'Input E2'!B39","v":"t.b.d."},{"$f":"'Input E2'!C39","v":"Parts at Break [Aantal]"},{"$f":"IF(D$8=\"-\",\"-\",HLOOKUP(D$1,'Input E2'!$E$1:$ND$106,39,0))","v":17},{"$f":"IF(E$8=\"-\",\"-\",HLOOKUP(E$1,'Input E2'!$E$1:$ND$106,39,0))","v":40},{"$f":"IF(F$8=\"-\",\"-\",HLOOKUP(F$1,'Input E2'!$E$1:$ND$106,39,0))","v":32},{"$f":"IF(G$8=\"-\",\"-\",HLOOKUP(G$1,'Input E2'!$E$1:$ND$106,39,0))","v":24},{"$f":"IF(H$8=\"-\",\"-\",HLOOKUP(H$1,'Input E2'!$E$1:$ND$106,39,0))","v":10},{"$f":"IF(I$8=\"-\",\"-\",HLOOKUP(I$1,'Input E2'!$E$1:$ND$106,39,0))","v":0},{"$f":"IF(J$8=\"-\",\"-\",HLOOKUP(J$1,'Input E2'!$E$1:$ND$106,39,0))","v":0},{"$f":"IFERROR(SUM(D37:J37),\"-\")","v":123}]
[null,{"$f":"'Input E2'!B40","v":"t.b.d."},{"$f":"'Input E2'!C40","v":"Planned Stop [Min]"},{"$f":"IF(D$8=\"-\",\"-\",HLOOKUP(D$1,'Input E2'!$E$1:$ND$106,40,0))","v":0},{"$f":"IF(E$8=\"-\",\"-\",HLOOKUP(E$1,'Input E2'!$E$1:$ND$106,40,0))","v":0},{"$f":"IF(F$8=\"-\",\"-\",HLOOKUP(F$1,'Input E2'!$E$1:$ND$106,40,0))","v":0},{"$f":"IF(G$8=\"-\",\"-\",HLOOKUP(G$1,'Input E2'!$E$1:$ND$106,40,0))","v":0},{"$f":"IF(H$8=\"-\",\"-\",HLOOKUP(H$1,'Input E2'!$E$1:$ND$106,40,0))","v":0},{"$f":"IF(I$8=\"-\",\"-\",HLOOKUP(I$1,'Input E2'!$E$1:$ND$106,40,0))","v":0},{"$f":"IF(J$8=\"-\",\"-\",HLOOKUP(J$1,'Input E2'!$E$1:$ND$106,40,0))","v":0},{"$f":"IFERROR(SUM(D38:J38),\"-\")","v":0}]
[null,{"$f":"'Input E2'!B41","v":"Plan"},{"$f":"'Input E2'!C41","v":"SILL1 LH"},{"$f":"IF(D$8=\"-\",\"-\",HLOOKUP(D$1,'Input E2'!$E$1:$ND$106,41,0))","v":308},{"$f":"IF(E$8=\"-\",\"-\",HLOOKUP(E$1,'Input E2'!$E$1:$ND$106,41,0))","v":231},{"$f":"IF(F$8=\"-\",\"-\",HLOOKUP(F$1,'Input E2'!$E$1:$ND$106,41,0))","v":274},{"$f":"IF(G$8=\"-\",\"-\",HLOOKUP(G$1,'Input E2'!$E$1:$ND$106,41,0))","v":295},{"$f":"IF(H$8=\"-\",\"-\",HLOOKUP(H$1,'Input E2'!$E$1:$ND$106,41,0))","v":283},{"$f":"IF(I$8=\"-\",\"-\",HLOOKUP(I$1,'Input E2'!$E$1:$ND$106,41,0))","v":0},{"$f":"IF(J$8=\"-\",\"-\",HLOOKUP(J$1,'Input E2'!$E$1:$ND$106,41,0))","v":0},{"$f":"IFERROR(SUM(D39:J39),\"-\")","v":1391}]
[null,{"$f":"'Input E2'!B42","v":"t.b.d."},{"$f":"'Input E2'!C42","v":"Downtime Technical SILL1 LH [Min]"},{"$f":"IF(D$8=\"-\",\"-\",HLOOKUP(D$1,'Input E2'!$E$1:$ND$106,42,0))","v":0},{"$f":"IF(E$8=\"-\",\"-\",HLOOKUP(E$1,'Input E2'!$E$1:$ND$106,42,0))","v":0},{"$f":"IF(F$8=\"-\",\"-\",HLOOKUP(F$1,'Input E2'!$E$1:$ND$106,42,0))","v":0},{"$f":"IF(G$8=\"-\",\"-\",HLOOKUP(G$1,'Input E2'!$E$1:$ND$106,42,0))","v":0},{"$f":"IF(H$8=\"-\",\"-\",HLOOKUP(H$1,'Input E2'!$E$1:$ND$106,42,0))","v":0},{"$f":"IF(I$8=\"-\",\"-\",HLOOKUP(I$1,'Input E2'!$E$1:$ND$106,42,0))","v":0},{"$f":"IF(J$8=\"-\",\"-\",HLOOKUP(J$1,'Input E2'!$E$1:$ND$106,42,0))","v":0},{"$f":"IFERROR(SUM(D40:J40),\"-\")","v":0}]
[null,{"$f":"'Input E2'!B43","v":"t.b.d."},{"$f":"'Input E2'!C43","v":"Downtime Technical SILL1 LH [%]"},{"$f":"IF(D$8=\"-\",\"-\",HLOOKUP(D$1,'Input E2'!$E$1:$ND$106,43,0))","v":0},{"$f":"IF(E$8=\"-\",\"-\",HLOOKUP(E$1,'Input E2'!$E$1:$ND$106,43,0))","v":0},{"$f":"IF(F$8=\"-\",\"-\",HLOOKUP(F$1,'Input E2'!$E$1:$ND$106,43,0))","v":0},{"$f":"IF(G$8=\"-\",\"-\",HLOOKUP(G$1,'Input E2'!$E$1:$ND$106,43,0))","v":0},{"$f":"IF(H$8=\"-\",\"-\",HLOOKUP(H$1,'Input E2'!$E$1:$ND$106,43,0))","v":0},{"$f":"IF(I$8=\"-\",\"-\",HLOOKUP(I$1,'Input E2'!$E$1:$ND$106,43,0))","v":0},{"$f":"IF(J$8=\"-\",\"-\",HLOOKUP(J$1,'Input E2'!$E$1:$ND$106,43,0))","v":0},{"$f":"IFERROR((K40*60)/((K39*62)+(K40*60)),\"-\")","v":0}]
[null,{"$f":"'Input E2'!B44","v":"t.b.d."},{"$f":"'Input E2'!C44","v":"Blocked Starved [Min]"},{"$f":"IF(D$8=\"-\",\"-\",HLOOKUP(D$1,'Input E2'!$E$1:$ND$106,44,0))","v":0},{"$f":"IF(E$8=\"-\",\"-\",HLOOKUP(E$1,'Input E2'!$E$1:$ND$106,44,0))","v":0},{"$f":"IF(F$8=\"-\",\"-\",HLOOKUP(F$1,'Input E2'!$E$1:$ND$106,44,0))","v":0},{"$f":"IF(G$8=\"-\",\"-\",HLOOKUP(G$1,'Input E2'!$E$1:$ND$106,44,0))","v":0},{"$f":"IF(H$8=\"-\",\"-\",HLOOKUP(H$1,'Input E2'!$E$1:$ND$106,44,0))","v":0},{"$f":"IF(I$8=\"-\",\"-\",HLOOKUP(I$1,'Input E2'!$E$1:$ND$106,44,0))","v":0},{"$f":"IF(J$8=\"-\",\"-\",HLOOKUP(J$1,'Input E2'!$E$1:$ND$106,44,0))","v":0},{"$f":"IFERROR(SUM(D42:J42),\"-\")","v":0}]
[null,{"$f":"'Input E2'!B45","v":"t.b.d."},{"$f":"'Input E2'!C45","v":"Parts at Break [Aantal]"},{"$f":"IF(D$8=\"-\",\"-\",HLOOKUP(D$1,'Input E2'!$E$1:$ND$106,45,0))","v":2},{"$f":"IF(E$8=\"-\",\"-\",HLOOKUP(E$1,'Input E2'!$E$1:$ND$106,45,0))","v":1},{"$f":"IF(F$8=\"-\",\"-\",HLOOKUP(F$1,'Input E2'!$E$1:$ND$106,45,0))","v":0},{"$f":"IF(G$8=\"-\",\"-\",HLOOKUP(G$1,'Input E2'!$E$1:$ND$106,45,0))","v":13},{"$f":"IF(H$8=\"-\",\"-\",HLOOKUP(H$1,'Input E2'!$E$1:$ND$106,45,0))","v":2},{"$f":"IF(I$8=\"-\",\"-\",HLOOKUP(I$1,'Input E2'!$E$1:$ND$106,45,0))","v":0},{"$f":"IF(J$8=\"-\",\"-\",HLOOKUP(J$1,'Input E2'!$E$1:$ND$106,45,0))","v":0},{"$f":"IFERROR(SUM(D43:J43),\"-\")","v":18}]
[null,{"$f":"'Input E2'!B46","v":"t.b.d."},{"$f":"'Input E2'!C46","v":"Planned Stop [Min]"},{"$f":"IF(D$8=\"-\",\"-\",HLOOKUP(D$1,'Input E2'!$E$1:$ND$106,46,0))","v":0},{"$f":"IF(E$8=\"-\",\"-\",HLOOKUP(E$1,'Input E2'!$E$1:$ND$106,46,0))","v":0},{"$f":"IF(F$8=\"-\",\"-\",HLOOKUP(F$1,'Input E2'!$E$1:$ND$106,46,0))","v":0},{"$f":"IF(G$8=\"-\",\"-\",HLOOKUP(G$1,'Input E2'!$E$1:$ND$106,46,0))","v":0},{"$f":"IF(H$8=\"-\",\"-\",HLOOKUP(H$1,'Input E2'!$E$1:$ND$106,46,0))","v":0},{"$f":"IF(I$8=\"-\",\"-\",HLOOKUP(I$1,'Input E2'!$E$1:$ND$106,46,0))","v":0},{"$f":"IF(J$8=\"-\",\"-\",HLOOKUP(J$1,'Input E2'!$E$1:$ND$106,46,0))","v":0},{"$f":"IFERROR(SUM(D44:J44),\"-\")","v":0}]
[null,{"$f":"'Input E2'!B47","v":"Plan"},{"$f":"'Input E2'!C47","v":"Realized SILL1 RH"},{"$f":"IF(D$8=\"-\",\"-\",HLOOKUP(D$1,'Input E2'!$E$1:$ND$106,47,0))","v":307},{"$f":"IF(E$8=\"-\",\"-\",HLOOKUP(E$1,'Input E2'!$E$1:$ND$106,47,0))","v":259},{"$f":"IF(F$8=\"-\",\"-\",HLOOKUP(F$1,'Input E2'!$E$1:$ND$106,47,0))","v":278},{"$f":"IF(G$8=\"-\",\"-\",HLOOKUP(G$1,'Input E2'!$E$1:$ND$106,47,0))","v":312},{"$f":"IF(H$8=\"-\",\"-\",HLOOKUP(H$1,'Input E2'!$E$1:$ND$106,47,0))","v":244},{"$f":"IF(I$8=\"-\",\"-\",HLOOKUP(I$1,'Input E2'!$E$1:$ND$106,47,0))","v":0},{"$f":"IF(J$8=\"-\",\"-\",HLOOKUP(J$1,'Input E2'!$E$1:$ND$106,47,0))","v":0},{"$f":"IFERROR(SUM(D45:J45),\"-\")","v":1400}]
[null,{"$f":"'Input E2'!B48","v":"t.b.d."},{"$f":"'Input E2'!C48","v":"Downtime Technical SILL1 RH [Min]"},{"$f":"IF(D$8=\"-\",\"-\",HLOOKUP(D$1,'Input E2'!$E$1:$ND$106,48,0))","v":7},{"$f":"IF(E$8=\"-\",\"-\",HLOOKUP(E$1,'Input E2'!$E$1:$ND$106,48,0))","v":0},{"$f":"IF(F$8=\"-\",\"-\",HLOOKUP(F$1,'Input E2'!$E$1:$ND$106,48,0))","v":0},{"$f":"IF(G$8=\"-\",\"-\",HLOOKUP(G$1,'Input E2'!$E$1:$ND$106,48,0))","v":0},{"$f":"IF(H$8=\"-\",\"-\",HLOOKUP(H$1,'Input E2'!$E$1:$ND$106,48,0))","v":0},{"$f":"IF(I$8=\"-\",\"-\",HLOOKUP(I$1,'Input E2'!$E$1:$ND$106,48,0))","v":0},{"$f":"IF(J$8=\"-\",\"-\",HLOOKUP(J$1,'Input E2'!$E$1:$ND$106,48,0))","v":0},{"$f":"IFERROR(SUM(D46:J46),\"-\")","v":7}]
[null,{"$f":"'Input E2'!B49","v":"t.b.d."},{"$f":"'Input E2'!C49","v":"Downtime Technical SILL1 RH [%]"},{"$f":"IF(D$8=\"-\",\"-\",HLOOKUP(D$1,'Input E2'!$E$1:$ND$106,49,0))","v":2.1589390356738975E-2},{"$f":"IF(E$8=\"-\",\"-\",HLOOKUP(E$1,'Input E2'!$E$1:$ND$106,49,0))","v":0},{"$f":"IF(F$8=\"-\",\"-\",HLOOKUP(F$1,'Input E2'!$E$1:$ND$106,49,0))","v":0},{"$f":"IF(G$8=\"-\",\"-\",HLOOKUP(G$1,'Input E2'!$E$1:$ND$106,49,0))","v":0},{"$f":"IF(H$8=\"-\",\"-\",HLOOKUP(H$1,'Input E2'!$E$1:$ND$106,49,0))","v":0},{"$f":"IF(I$8=\"-\",\"-\",HLOOKUP(I$1,'Input E2'!$E$1:$ND$106,49,0))","v":0},{"$f":"IF(J$8=\"-\",\"-\",HLOOKUP(J$1,'Input E2'!$E$1:$ND$106,49,0))","v":0},{"$f":"IFERROR((K46*60)/((K45*62)+(K46*60)),\"-\")","v":4.815409309791332E-3}]
[null,{"$f":"'Input E2'!B50","v":"t.b.d."},{"$f":"'Input E2'!C50","v":"Blocked Starved [Min]"},{"$f":"IF(D$8=\"-\",\"-\",HLOOKUP(D$1,'Input E2'!$E$1:$ND$106,50,0))","v":0},{"$f":"IF(E$8=\"-\",\"-\",HLOOKUP(E$1,'Input E2'!$E$1:$ND$106,50,0))","v":0},{"$f":"IF(F$8=\"-\",\"-\",HLOOKUP(F$1,'Input E2'!$E$1:$ND$106,50,0))","v":0},{"$f":"IF(G$8=\"-\",\"-\",HLOOKUP(G$1,'Input E2'!$E$1:$ND$106,50,0))","v":0},{"$f":"IF(H$8=\"-\",\"-\",HLOOKUP(H$1,'Input E2'!$E$1:$ND$106,50,0))","v":0},{"$f":"IF(I$8=\"-\",\"-\",HLOOKUP(I$1,'Input E2'!$E$1:$ND$106,50,0))","v":0},{"$f":"IF(J$8=\"-\",\"-\",HLOOKUP(J$1,'Input E2'!$E$1:$ND$106,50,0))","v":0},{"$f":"IFERROR(SUM(D48:J48),\"-\")","v":0}]
[null,{"$f":"'Input E2'!B51","v":"t.b.d."},{"$f":"'Input E2'!C51","v":"Parts at Break [Aantal]"},{"$f":"IF(D$8=\"-\",\"-\",HLOOKUP(D$1,'Input E2'!$E$1:$ND$106,51,0))","v":0},{"$f":"IF(E$8=\"-\",\"-\",HLOOKUP(E$1,'Input E2'!$E$1:$ND$106,51,0))","v":0},{"$f":"IF(F$8=\"-\",\"-\",HLOOKUP(F$1,'Input E2'!$E$1:$ND$106,51,0))","v":5},{"$f":"IF(G$8=\"-\",\"-\",HLOOKUP(G$1,'Input E2'!$E$1:$ND$106,51,0))","v":6},{"$f":"IF(H$8=\"-\",\"-\",HLOOKUP(H$1,'Input E2'!$E$1:$ND$106,51,0))","v":4},{"$f":"IF(I$8=\"-\",\"-\",HLOOKUP(I$1,'Input E2'!$E$1:$ND$106,51,0))","v":0},{"$f":"IF(J$8=\"-\",\"-\",HLOOKUP(J$1,'Input E2'!$E$1:$ND$106,51,0))","v":0},{"$f":"IFERROR(SUM(D49:J49),\"-\")","v":15}]
[null,{"$f":"'Input E2'!B52","v":"t.b.d."},{"$f":"'Input E2'!C52","v":"Planned Stop [Min]"},{"$f":"IF(D$8=\"-\",\"-\",HLOOKUP(D$1,'Input E2'!$E$1:$ND$106,52,0))","v":0},{"$f":"IF(E$8=\"-\",\"-\",HLOOKUP(E$1,'Input E2'!$E$1:$ND$106,52,0))","v":0},{"$f":"IF(F$8=\"-\",\"-\",HLOOKUP(F$1,'Input E2'!$E$1:$ND$106,52,0))","v":0},{"$f":"IF(G$8=\"-\",\"-\",HLOOKUP(G$1,'Input E2'!$E$1:$ND$106,52,0))","v":0},{"$f":"IF(H$8=\"-\",\"-\",HLOOKUP(H$1,'Input E2'!$E$1:$ND$106,52,0))","v":0},{"$f":"IF(I$8=\"-\",\"-\",HLOOKUP(I$1,'Input E2'!$E$1:$ND$106,52,0))","v":0},{"$f":"IF(J$8=\"-\",\"-\",HLOOKUP(J$1,'Input E2'!$E$1:$ND$106,52,0))","v":0},{"$f":"IFERROR(SUM(D50:J50),\"-\")","v":0}]
[null,{"$f":"'Input E2'!B53","v":"Plan"},{"$f":"'Input E2'!C53","v":"Realized Average"},{"$f":"IF(D$8=\"-\",\"-\",HLOOKUP(D$1,'Input E2'!$E$1:$ND$106,53,0))","v":336},{"$f":"IF(E$8=\"-\",\"-\",HLOOKUP(E$1,'Input E2'!$E$1:$ND$106,53,0))","v":275.25},{"$f":"IF(F$8=\"-\",\"-\",HLOOKUP(F$1,'Input E2'!$E$1:$ND$106,53,0))","v":304.75},{"$f":"IF(G$8=\"-\",\"-\",HLOOKUP(G$1,'Input E2'!$E$1:$ND$106,53,0))","v":316.25},{"$f":"IF(H$8=\"-\",\"-\",HLOOKUP(H$1,'Input E2'!$E$1:$ND$106,53,0))","v":280.75},{"$f":"IF(I$8=\"-\",\"-\",HLOOKUP(I$1,'Input E2'!$E$1:$ND$106,53,0))","v":0},{"$f":"IF(J$8=\"-\",\"-\",HLOOKUP(J$1,'Input E2'!$E$1:$ND$106,53,0))","v":0},{"$f":"SUM(D51:J51)/K81","v":302.60000000000002}]
[null,{"$f":"'Input E2'!B54","v":"t.b.d."},{"$f":"'Input E2'!C54","v":"Downtime Technical Gemiddeld [Min]"},{"$f":"IF(D$8=\"-\",\"-\",HLOOKUP(D$1,'Input E2'!$E$1:$ND$106,54,0))","v":24.25},{"$f":"IF(E$8=\"-\",\"-\",HLOOKUP(E$1,'Input E2'!$E$1:$ND$106,54,0))","v":9},{"$f":"IF(F$8=\"-\",\"-\",HLOOKUP(F$1,'Input E2'!$E$1:$ND$106,54,0))","v":9.5},{"$f":"IF(G$8=\"-\",\"-\",HLOOKUP(G$1,'Input E2'!$E$1:$ND$106,54,0))","v":0},{"$f":"IF(H$8=\"-\",\"-\",HLOOKUP(H$1,'Input E2'!$E$1:$ND$106,54,0))","v":0},{"$f":"IF(I$8=\"-\",\"-\",HLOOKUP(I$1,'Input E2'!$E$1:$ND$106,54,0))","v":0},{"$f":"IF(J$8=\"-\",\"-\",HLOOKUP(J$1,'Input E2'!$E$1:$ND$106,54,0))","v":0},{"$f":"SUM(D52:J52)/K81","v":8.5500000000000007}]
[3,"Customer (Q & D)",null,null," "]
["Goal",null,"K.P.I."]
[]
[null,{"$f":"'Input E2'!B59","v":0},{"$f":"'Input E2'!C59","v":"Q-Remarks"},{"$f":"IF(D$8=\"-\",\"-\",HLOOKUP(D$1,'Input E2'!$E$1:$ND$106,58,0))","v":0},{"$f":"IF(E$8=\"-\",\"-\",HLOOKUP(E$1,'Input E2'!$E$1:$ND$106,58,0))","v":0},{"$f":"IF(F$8=\"-\",\"-\",HLOOKUP(F$1,'Input E2'!$E$1:$ND$106,58,0))","v":0},{"$f":"IF(G$8=\"-\",\"-\",HLOOKUP(G$1,'Input E2'!$E$1:$ND$106,58,0))","v":0},{"$f":"IF(H$8=\"-\",\"-\",HLOOKUP(H$1,'Input E2'!$E$1:$ND$106,58,0))","v":0},{"$f":"IF(I$8=\"-\",\"-\",HLOOKUP(I$1,'Input E2'!$E$1:$ND$106,58,0))","v":0},{"$f":"IF(J$8=\"-\",\"-\",HLOOKUP(J$1,'Input E2'!$E$1:$ND$106,58,0))","v":0},{"$f":"SUM(D56:J56)","v":0}]
[null,{"$f":"'Input E2'!B60","v":1},{"$f":"'Input E2'!C60","v":"SQA Reports"},{"$f":"IF(D$8=\"-\",\"-\",HLOOKUP(D$1,'Input E2'!$E$1:$ND$106,59,0))","v":0},{"$f":"IF(E$8=\"-\",\"-\",HLOOKUP(E$1,'Input E2'!$E$1:$ND$106,59,0))","v":0},{"$f":"IF(F$8=\"-\",\"-\",HLOOKUP(F$1,'Input E2'!$E$1:$ND$106,59,0))","v":0},{"$f":"IF(G$8=\"-\",\"-\",HLOOKUP(G$1,'Input E2'!$E$1:$ND$106,59,0))","v":0},{"$f":"IF(H$8=\"-\",\"-\",HLOOKUP(H$1,'Input E2'!$E$1:$ND$106,59,0))","v":0},{"$f":"IF(I$8=\"-\",\"-\",HLOOKUP(I$1,'Input E2'!$E$1:$ND$106,59,0))","v":0},{"$f":"IF(J$8=\"-\",\"-\",HLOOKUP(J$1,'Input E2'!$E$1:$ND$106,59,0))","v":0},{"$f":"SUM(D57:J57)","v":0}]
[null,{"$f":"'Input E2'!B61","v":"t.b.d."},{"$f":"'Input E2'!C61","v":"No Touch"},{"$f":"HLOOKUP(D$1,'Input E2'!$E$1:$ND$106,60,0)","v":1},{"$f":"HLOOKUP(E$1,'Input E2'!$E$1:$ND$106,60,0)","v":0},{"$f":"HLOOKUP(F$1,'Input E2'!$E$1:$ND$106,60,0)","v":0},{"$f":"HLOOKUP(G$1,'Input E2'!$E$1:$ND$106,60,0)","v":0},{"$f":"HLOOKUP(H$1,'Input E2'!$E$1:$ND$106,60,0)","v":0},{"$f":"HLOOKUP(I$1,'Input E2'!$E$1:$ND$106,60,0)","v":0},{"$f":"HLOOKUP(J$1,'Input E2'!$E$1:$ND$106,60,0)","v":0},{"$f":"IFERROR(SUM(D58:J58)/COUNTIF(D58:J58,\">0\"),\"-\")","v":1}]
[null,{"$f":"'Input E2'!B62","v":"t.b.d."},{"$f":"'Input E2'!C62","v":0},{"$f":"IF(D$8=\"-\",\"-\",HLOOKUP(D$1,'Input E2'!$E$1:$ND$106,61,0))","v":"99.38%"},{"$f":"IF(E$8=\"-\",\"-\",HLOOKUP(E$1,'Input E2'!$E$1:$ND$106,61,0))","v":0.97760000000000002},{"$f":"IF(F$8=\"-\",\"-\",HLOOKUP(F$1,'Input E2'!$E$1:$ND$106,61,0))","v":"98.88%"},{"$f":"IF(G$8=\"-\",\"-\",HLOOKUP(G$1,'Input E2'!$E$1:$ND$106,61,0))","v":0.99490000000000001},{"$f":"IF(H$8=\"-\",\"-\",HLOOKUP(H$1,'Input E2'!$E$1:$ND$106,61,0))","v":"97.24%"},{"$f":"IF(I$8=\"-\",\"-\",HLOOKUP(I$1,'Input E2'!$E$1:$ND$106,61,0))","v":0},{"$f":"IF(J$8=\"-\",\"-\",HLOOKUP(J$1,'Input E2'!$E$1:$ND$106,61,0))","v":0},{"$f":"SUM(D59:J59)","v":1.9725000000000001}]
[null,{"$f":"'Input E2'!B63","v":"t.b.d."},{"$f":"'Input E2'!C63","v":0},{"$f":"IF(D$8=\"-\",\"-\",HLOOKUP(D$1,'Input E2'!$E$1:$ND$106,62,0))","v":0},{"$f":"IF(E$8=\"-\",\"-\",HLOOKUP(E$1,'Input E2'!$E$1:$ND$106,62,0))","v":0},{"$f":"IF(F$8=\"-\",\"-\",HLOOKUP(F$1,'Input E2'!$E$1:$ND$106,62,0))","v":0},{"$f":"IF(G$8=\"-\",\"-\",HLOOKUP(G$1,'Input E2'!$E$1:$ND$106,62,0))","v":0},{"$f":"IF(H$8=\"-\",\"-\",HLOOKUP(H$1,'Input E2'!$E$1:$ND$106,62,0))","v":0},{"$f":"IF(I$8=\"-\",\"-\",HLOOKUP(I$1,'Input E2'!$E$1:$ND$106,62,0))","v":0},{"$f":"IF(J$8=\"-\",\"-\",HLOOKUP(J$1,'Input E2'!$E$1:$ND$106,62,0))","v":0},{"$f":"SUM(D60:J60)","v":0}]
[null,{"$f":"'Input E2'!B64","v":"t.b.d."},{"$f":"'Input E2'!C64","v":0},{"$f":"IF(D$8=\"-\",\"-\",HLOOKUP(D$1,'Input E2'!$E$1:$ND$106,63,0))","v":0},{"$f":"IF(E$8=\"-\",\"-\",HLOOKUP(E$1,'Input E2'!$E$1:$ND$106,63,0))","v":0},{"$f":"IF(F$8=\"-\",\"-\",HLOOKUP(F$1,'Input E2'!$E$1:$ND$106,63,0))","v":0},{"$f":"IF(G$8=\"-\",\"-\",HLOOKUP(G$1,'Input E2'!$E$1:$ND$106,63,0))","v":0},{"$f":"IF(H$8=\"-\",\"-\",HLOOKUP(H$1,'Input E2'!$E$1:$ND$106,63,0))","v":0},{"$f":"IF(I$8=\"-\",\"-\",HLOOKUP(I$1,'Input E2'!$E$1:$ND$106,63,0))","v":0},{"$f":"IF(J$8=\"-\",\"-\",HLOOKUP(J$1,'Input E2'!$E$1:$ND$106,63,0))","v":0},0]
[null,{"$f":"'Input E2'!B65","v":"t.b.d."},{"$f":"'Input E2'!C65","v":0},{"$f":"IF(D$8=\"-\",\"-\",HLOOKUP(D$1,'Input E2'!$E$1:$ND$106,64,0))","v":0},{"$f":"IF(E$8=\"-\",\"-\",HLOOKUP(E$1,'Input E2'!$E$1:$ND$106,64,0))","v":0},{"$f":"IF(F$8=\"-\",\"-\",HLOOKUP(F$1,'Input E2'!$E$1:$ND$106,64,0))","v":0},{"$f":"IF(G$8=\"-\",\"-\",HLOOKUP(G$1,'Input E2'!$E$1:$ND$106,64,0))","v":0},{"$f":"IF(H$8=\"-\",\"-\",HLOOKUP(H$1,'Input E2'!$E$1:$ND$106,64,0))","v":0},{"$f":"IF(I$8=\"-\",\"-\",HLOOKUP(I$1,'Input E2'!$E$1:$ND$106,64,0))","v":0},{"$f":"IF(J$8=\"-\",\"-\",HLOOKUP(J$1,'Input E2'!$E$1:$ND$106,64,0))","v":0},{"$f":"SUM(D62:J62)","v":0}]
[null,{"$f":"'Input E2'!B66","v":0},{"$f":"'Input E2'!C66","v":"FTC Finishline [#]"},{"$f":"IF(D$8=\"-\",\"-\",HLOOKUP(D$1,'Input E2'!$E$1:$ND$106,65,0))","v":0},{"$f":"IF(E$8=\"-\",\"-\",HLOOKUP(E$1,'Input E2'!$E$1:$ND$106,65,0))","v":0},{"$f":"IF(F$8=\"-\",\"-\",HLOOKUP(F$1,'Input E2'!$E$1:$ND$106,65,0))","v":0},{"$f":"IF(G$8=\"-\",\"-\",HLOOKUP(G$1,'Input E2'!$E$1:$ND$106,65,0))","v":0},{"$f":"IF(H$8=\"-\",\"-\",HLOOKUP(H$1,'Input E2'!$E$1:$ND$106,65,0))","v":0},{"$f":"IF(I$8=\"-\",\"-\",HLOOKUP(I$1,'Input E2'!$E$1:$ND$106,65,0))","v":0},{"$f":"IF(J$8=\"-\",\"-\",HLOOKUP(J$1,'Input E2'!$E$1:$ND$106,65,0))","v":0},{"$f":"SUM(D63:J63)","v":0}]
[null,{"$f":"'Input E2'!B67","v":0},{"$f":"'Input E2'!C67","v":"FTC Big Panel [#]"},{"$f":"IF(D$8=\"-\",\"-\",HLOOKUP(D$1,'Input E2'!$E$1:$ND$106,66,0))","v":0},{"$f":"IF(E$8=\"-\",\"-\",HLOOKUP(E$1,'Input E2'!$E$1:$ND$106,66,0))","v":0},{"$f":"IF(F$8=\"-\",\"-\",HLOOKUP(F$1,'Input E2'!$E$1:$ND$106,66,0))","v":0},{"$f":"IF(G$8=\"-\",\"-\",HLOOKUP(G$1,'Input E2'!$E$1:$ND$106,66,0))","v":0},{"$f":"IF(H$8=\"-\",\"-\",HLOOKUP(H$1,'Input E2'!$E$1:$ND$106,66,0))","v":0},{"$f":"IF(I$8=\"-\",\"-\",HLOOKUP(I$1,'Input E2'!$E$1:$ND$106,66,0))","v":0},{"$f":"IF(J$8=\"-\",\"-\",HLOOKUP(J$1,'Input E2'!$E$1:$ND$106,66,0))","v":0},{"$f":"SUM(D64:J64)","v":0}]
[null,{"$f":"'Input E2'!B68","v":0},{"$f":"'Input E2'!C68","v":"FTC FAS [#]"},{"$f":"IF(D$8=\"-\",\"-\",HLOOKUP(D$1,'Input E2'!$E$1:$ND$106,67,0))","v":0},{"$f":"IF(E$8=\"-\",\"-\",HLOOKUP(E$1,'Input E2'!$E$1:$ND$106,67,0))","v":0},{"$f":"IF(F$8=\"-\",\"-\",HLOOKUP(F$1,'Input E2'!$E$1:$ND$106,67,0))","v":0},{"$f":"IF(G$8=\"-\",\"-\",HLOOKUP(G$1,'Input E2'!$E$1:$ND$106,67,0))","v":0},{"$f":"IF(H$8=\"-\",\"-\",HLOOKUP(H$1,'Input E2'!$E$1:$ND$106,67,0))","v":0},{"$f":"IF(I$8=\"-\",\"-\",HLOOKUP(I$1,'Input E2'!$E$1:$ND$106,67,0))","v":0},{"$f":"IF(J$8=\"-\",\"-\",HLOOKUP(J$1,'Input E2'!$E$1:$ND$106,67,0))","v":0},0]
[null,{"$f":"'Input E2'!B69","v":"t.b.d."},{"$f":"'Input E2'!C69","v":"FTC [%]"},{"$f":"IF(D$8=\"-\",\"-\",HLOOKUP(D$1,'Input E2'!$E$1:$ND$106,68,0))","v":0},{"$f":"IF(E$8=\"-\",\"-\",HLOOKUP(E$1,'Input E2'!$E$1:$ND$106,68,0))","v":0},{"$f":"IF(F$8=\"-\",\"-\",HLOOKUP(F$1,'Input E2'!$E$1:$ND$106,68,0))","v":0},{"$f":"IF(G$8=\"-\",\"-\",HLOOKUP(G$1,'Input E2'!$E$1:$ND$106,68,0))","v":0},{"$f":"IF(H$8=\"-\",\"-\",HLOOKUP(H$1,'Input E2'!$E$1:$ND$106,68,0))","v":0},{"$f":"IF(I$8=\"-\",\"-\",HLOOKUP(I$1,'Input E2'!$E$1:$ND$106,68,0))","v":0},{"$f":"IF(J$8=\"-\",\"-\",HLOOKUP(J$1,'Input E2'!$E$1:$ND$106,68,0))","v":0},{"$f":"IFERROR(SUM(D66:J66)/COUNTIF(D66:J66,\">=0\"),\"-\")","v":0}]
[null,{"$f":"'Input E2'!B70","v":"t.b.d."},{"$f":"'Input E2'!C70","v":"Loose Spotwelds ICAF"},{"$f":"IF(D$8=\"-\",\"-\",HLOOKUP(D$1,'Input E2'!$E$1:$ND$106,69,0))","v":1},{"$f":"IF(E$8=\"-\",\"-\",HLOOKUP(E$1,'Input E2'!$E$1:$ND$106,69,0))","v":1},{"$f":"IF(F$8=\"-\",\"-\",HLOOKUP(F$1,'Input E2'!$E$1:$ND$106,69,0))","v":1},{"$f":"IF(G$8=\"-\",\"-\",HLOOKUP(G$1,'Input E2'!$E$1:$ND$106,69,0))","v":1},{"$f":"IF(H$8=\"-\",\"-\",HLOOKUP(H$1,'Input E2'!$E$1:$ND$106,69,0))","v":1},{"$f":"IF(I$8=\"-\",\"-\",HLOOKUP(I$1,'Input E2'!$E$1:$ND$106,69,0))","v":0},{"$f":"IF(J$8=\"-\",\"-\",HLOOKUP(J$1,'Input E2'!$E$1:$ND$106,69,0))","v":0},5]
[null,{"$f":"'Input E2'!B71","v":"t.b.d."},{"$f":"'Input E2'!C71","v":0},{"$f":"IF(D$8=\"-\",\"-\",HLOOKUP(D$1,'Input E2'!$E$1:$ND$106,70,0))","v":0},{"$f":"IF(E$8=\"-\",\"-\",HLOOKUP(E$1,'Input E2'!$E$1:$ND$106,70,0))","v":0},{"$f":"IF(F$8=\"-\",\"-\",HLOOKUP(F$1,'Input E2'!$E$1:$ND$106,70,0))","v":0},{"$f":"IF(G$8=\"-\",\"-\",HLOOKUP(G$1,'Input E2'!$E$1:$ND$106,70,0))","v":0},{"$f":"IF(H$8=\"-\",\"-\",HLOOKUP(H$1,'Input E2'!$E$1:$ND$106,70,0))","v":0},{"$f":"IF(I$8=\"-\",\"-\",HLOOKUP(I$1,'Input E2'!$E$1:$ND$106,70,0))","v":0},{"$f":"IF(J$8=\"-\",\"-\",HLOOKUP(J$1,'Input E2'!$E$1:$ND$106,70,0))","v":0},{"$f":"SUM(D68:J68)","v":0}]
[null,{"$f":"'Input E2'!B72","v":"t.b.d."},{"$f":"'Input E2'!C72","v":0},{"$f":"IF(D$8=\"-\",\"-\",HLOOKUP(D$1,'Input E2'!$E$1:$ND$106,71,0))","v":0},{"$f":"IF(E$8=\"-\",\"-\",HLOOKUP(E$1,'Input E2'!$E$1:$ND$106,71,0))","v":0},{"$f":"IF(F$8=\"-\",\"-\",HLOOKUP(F$1,'Input E2'!$E$1:$ND$106,71,0))","v":0},{"$f":"IF(G$8=\"-\",\"-\",HLOOKUP(G$1,'Input E2'!$E$1:$ND$106,71,0))","v":0},{"$f":"IF(H$8=\"-\",\"-\",HLOOKUP(H$1,'Input E2'!$E$1:$ND$106,71,0))","v":0},{"$f":"IF(I$8=\"-\",\"-\",HLOOKUP(I$1,'Input E2'!$E$1:$ND$106,71,0))","v":0},{"$f":"IF(J$8=\"-\",\"-\",HLOOKUP(J$1,'Input E2'!$E$1:$ND$106,71,0))","v":0},{"$f":"SUM(D69:J69)","v":0}]
[4,"Cost  (C)"]
["Goal",null,"K.P.I."]
[null,{"$f":"'Input E2'!B76","v":"t.b.d."},{"$f":"'Input E2'!C76","v":"Consumables"},{"$f":"IF(D$8=\"-\",\"-\",HLOOKUP(D$1,'Input E2'!$E$1:$ND$106,75,0))","v":0},{"$f":"IF(E$8=\"-\",\"-\",HLOOKUP(E$1,'Input E2'!$E$1:$ND$106,75,0))","v":0},{"$f":"IF(F$8=\"-\",\"-\",HLOOKUP(F$1,'Input E2'!$E$1:$ND$106,75,0))","v":0},{"$f":"IF(G$8=\"-\",\"-\",HLOOKUP(G$1,'Input E2'!$E$1:$ND$106,75,0))","v":0},{"$f":"IF(H$8=\"-\",\"-\",HLOOKUP(H$1,'Input E2'!$E$1:$ND$106,75,0))","v":0},{"$f":"IF(I$8=\"-\",\"-\",HLOOKUP(I$1,'Input E2'!$E$1:$ND$106,75,0))","v":0},{"$f":"IF(J$8=\"-\",\"-\",HLOOKUP(J$1,'Input E2'!$E$1:$ND$106,75,0))","v":0},{"$f":"SUM(D72:J72)","v":0}]
[null,{"$f":"'Input E2'!B77","v":"t.b.d."},{"$f":"'Input E2'!C77","v":"Consumables / (Body)"},{"$f":"IF(D$8=\"-\",\"-\",HLOOKUP(D$1,'Input E2'!$E$1:$ND$106,76,0))","v":0},{"$f":"IF(E$8=\"-\",\"-\",HLOOKUP(E$1,'Input E2'!$E$1:$ND$106,76,0))","v":569.58000000000004},{"$f":"IF(F$8=\"-\",\"-\",HLOOKUP(F$1,'Input E2'!$E$1:$ND$106,76,0))","v":0},{"$f":"IF(G$8=\"-\",\"-\",HLOOKUP(G$1,'Input E2'!$E$1:$ND$106,76,0))","v":0},{"$f":"IF(H$8=\"-\",\"-\",HLOOKUP(H$1,'Input E2'!$E$1:$ND$106,76,0))","v":0},{"$f":"IF(I$8=\"-\",\"-\",HLOOKUP(I$1,'Input E2'!$E$1:$ND$106,76,0))","v":0},{"$f":"IF(J$8=\"-\",\"-\",HLOOKUP(J$1,'Input E2'!$E$1:$ND$106,76,0))","v":0},{"$f":"IFERROR(SUM(D72:J72)/K51,\"-\")","v":0}]
[null,{"$f":"'Input E2'!B78","v":150},{"$f":"'Input E2'!C78","v":"Scrap cost"},{"$f":"IF(D$8=\"-\",\"-\",HLOOKUP(D$1,'Input E2'!$E$1:$ND$106,77,0))","v":0},{"$f":"IF(E$8=\"-\",\"-\",HLOOKUP(E$1,'Input E2'!$E$1:$ND$106,77,0))","v":2.0693188010899184},{"$f":"IF(F$8=\"-\",\"-\",HLOOKUP(F$1,'Input E2'!$E$1:$ND$106,77,0))","v":0},{"$f":"IF(G$8=\"-\",\"-\",HLOOKUP(G$1,'Input E2'!$E$1:$ND$106,77,0))","v":0},{"$f":"IF(H$8=\"-\",\"-\",HLOOKUP(H$1,'Input E2'!$E$1:$ND$106,77,0))","v":0},{"$f":"IF(I$8=\"-\",\"-\",HLOOKUP(I$1,'Input E2'!$E$1:$ND$106,77,0))","v":""},{"$f":"IF(J$8=\"-\",\"-\",HLOOKUP(J$1,'Input E2'!$E$1:$ND$106,77,0))","v":""},{"$f":"SUM(D74:J74)","v":2.0693188010899184}]
[null,{"$f":"'Input E2'!B79","v":"t.b.d."},{"$f":"'Input E2'!C79","v":"Scrap cost / (Body)"},{"$f":"IF(D$8=\"-\",\"-\",HLOOKUP(D$1,'Input E2'!$E$1:$ND$106,78,0))","v":57.383000000000003},{"$f":"IF(E$8=\"-\",\"-\",HLOOKUP(E$1,'Input E2'!$E$1:$ND$106,78,0))","v":57.383000000000003},{"$f":"IF(F$8=\"-\",\"-\",HLOOKUP(F$1,'Input E2'!$E$1:$ND$106,78,0))","v":57.383000000000003},{"$f":"IF(G$8=\"-\",\"-\",HLOOKUP(G$1,'Input E2'!$E$1:$ND$106,78,0))","v":57.383000000000003},{"$f":"IF(H$8=\"-\",\"-\",HLOOKUP(H$1,'Input E2'!$E$1:$ND$106,78,0))","v":57.383000000000003},{"$f":"IF(I$8=\"-\",\"-\",HLOOKUP(I$1,'Input E2'!$E$1:$ND$106,78,0))","v":""},{"$f":"IF(J$8=\"-\",\"-\",HLOOKUP(J$1,'Input E2'!$E$1:$ND$106,78,0))","v":""},{"$f":"IFERROR(SUM(D74:J74)/K51,\"-\")","v":6.838462660574746E-3}]
[null,{"$f":"'Input E2'!B80","v":167},{"$f":"'Input E2'!C80","v":"Electrode & Maintenance mat.Sides"},{"$f":"IF(D$8=\"-\",\"-\",HLOOKUP(D$1,'Input E2'!$E$1:$ND$106,79,0))","v":0.17078273809523811},{"$f":"IF(E$8=\"-\",\"-\",HLOOKUP(E$1,'Input E2'!$E$1:$ND$106,79,0))","v":0.20847593097184378},{"$f":"IF(F$8=\"-\",\"-\",HLOOKUP(F$1,'Input E2'!$E$1:$ND$106,79,0))","v":0.18829532403609517},{"$f":"IF(G$8=\"-\",\"-\",HLOOKUP(G$1,'Input E2'!$E$1:$ND$106,79,0))","v":0.18144822134387353},{"$f":"IF(H$8=\"-\",\"-\",HLOOKUP(H$1,'Input E2'!$E$1:$ND$106,79,0))","v":0.20439180765805878},{"$f":"IF(I$8=\"-\",\"-\",HLOOKUP(I$1,'Input E2'!$E$1:$ND$106,79,0))","v":""},{"$f":"IF(J$8=\"-\",\"-\",HLOOKUP(J$1,'Input E2'!$E$1:$ND$106,79,0))","v":""},{"$f":"SUM(D76:J76)","v":0.95339402210510926}]
[null,{"$f":"'Input E2'!B81","v":"t.b.d."},{"$f":"'Input E2'!C81","v":"Electrode & Maintenance mat.Sides / (Body)"},{"$f":"IF(D$8=\"-\",\"-\",HLOOKUP(D$1,'Input E2'!$E$1:$ND$106,80,0))","v":0},{"$f":"IF(E$8=\"-\",\"-\",HLOOKUP(E$1,'Input E2'!$E$1:$ND$106,80,0))","v":0},{"$f":"IF(F$8=\"-\",\"-\",HLOOKUP(F$1,'Input E2'!$E$1:$ND$106,80,0))","v":0},{"$f":"IF(G$8=\"-\",\"-\",HLOOKUP(G$1,'Input E2'!$E$1:$ND$106,80,0))","v":0},{"$f":"IF(H$8=\"-\",\"-\",HLOOKUP(H$1,'Input E2'!$E$1:$ND$106,80,0))","v":0},{"$f":"IF(I$8=\"-\",\"-\",HLOOKUP(I$1,'Input E2'!$E$1:$ND$106,80,0))","v":0},{"$f":"IF(J$8=\"-\",\"-\",HLOOKUP(J$1,'Input E2'!$E$1:$ND$106,80,0))","v":0},{"$f":"IFERROR(SUM(D76:J76)/K51,\"-\")","v":3.1506742303539629E-3}]
[5,"Additional info"]
["Goal",null,"K.P.I."]
[]
[null,null,"Working days",null,null,null,null,null,null,null,{"$f":"COUNTIF(D8:J8,\">0\")","v":5}]

{"sheet":"Rekenblad","index":3,"n_rows":123,"n_cols":76,"rows_kept":123,"cut":false,"hidden":true,"merged":[]}
[null,null,null,null,null,null,null,null,null,null,null,null,null,null,null,null,null,null,null,null,null,null,null,null,null,null,null,null,null,null,null,null,null,null,null,null,null,null,null,null,null,null,null,null,null,null,null,null,null,null,null,null,null,null,null,null,null,null,null,null,null,1,2,3,4,5,6,7,8,9,10,11,12,null,{"$f":"MONTH(TODAY())","v":10}]
[null,null,null,"Working Days",{"$f":"HLOOKUP(E3,'Input E2'!E3:ND7,5,0)","v":0},{"$f":"HLOOKUP(F3,'Input E2'!F3:NE7,5,0)","v":0},{"$f":"HLOOKUP(G3,'Input E2'!G3:NF7,5,0)","v":0},{"$f":"HLOOKUP(H3,'Input E2'!H3:NG7,5,0)","v":0},{"$f":"HLOOKUP(I3,'Input E2'!I3:NH7,5,0)","v":0},{"$f":"HLOOKUP(J3,'Input E2'!J3:NI7,5,0)","v":0},{"$f":"HLOOKUP(K3,'Input E2'!K3:NJ7,5,0)","v":0},{"$f":"HLOOKUP(L3,'Input E2'!L3:NK7,5,0)","v":0},{"$f":"HLOOKUP(M3,'Input E2'!M3:NL7,5,0)","v":0},{"$f":"HLOOKUP(N3,'Input E2'!N3:NM7,5,0)","v":0},{"$f":"HLOOKUP(O3,'Input E2'!O3:NN7,5,0)","v":0},{"$f":"HLOOKUP(P3,'Input E2'!P3:NO7,5,0)","v":0},{"$f":"HLOOKUP(Q3,'Input E2'!Q3:NP7,5,0)","v":0},{"$f":"HLOOKUP(R3,'Input E2'!R3:NQ7,5,0)","v":0},{"$f":"HLOOKUP(S3,'Input E2'!S3:NR7,5,0)","v":0},{"$f":"HLOOKUP(T3,'Input E2'!T3:NS7,5,0)","v":0},{"$f":"HLOOKUP(U3,'Input E2'!U3:NT7,5,0)","v":0},{"$f":"HLOOKUP(V3,'Input E2'!V3:NU7,5,0)","v":0},{"$f":"HLOOKUP(W3,'Input E2'!W3:NV7,5,0)","v":0},{"$f":"HLOOKUP(X3,'Input E2'!X3:NW7,5,0)","v":5},{"$f":"HLOOKUP(Y3,'Input E2'!Y3:NX7,5,0)","v":5},{"$f":"HLOOKUP(Z3,'Input E2'!Z3:NY7,5,0)","v":5},{"$f":"HLOOKUP(AA3,'Input E2'!AA3:NZ7,5,0)","v":5},{"$f":"HLOOKUP(AB3,'Input E2'!AB3:OA7,5,0)","v":6},{"$f":"HLOOKUP(AC3,'Input E2'!AC3:OB7,5,0)","v":5},{"$f":"HLOOKUP(AD3,'Input E2'!AD3:OC7,5,0)","v":5},{"$f":"HLOOKUP(AE3,'Input E2'!AE3:OD7,5,0)","v":6},{"$f":"HLOOKUP(AF3,'Input E2'!AF3:OE7,5,0)","v":5},{"$f":"HLOOKUP(AG3,'Input E2'!AG3:OF7,5,0)","v":5},{"$f":"HLOOKUP(AH3,'Input E2'!AH3:OG7,5,0)","v":0},{"$f":"HLOOKUP(AI3,'Input E2'!AI3:OH7,5,0)","v":0},{"$f":"HLOOKUP(AJ3,'Input E2'!AJ3:OI7,5,0)","v":0},{"$f":"HLOOKUP(AK3,'Input E2'!AK3:OJ7,5,0)","v":6},{"$f":"HLOOKUP(AL3,'Input E2'!AL3:OK7,5,0)","v":5},{"$f":"HLOOKUP(AM3,'Input E2'!AM3:OL7,5,0)","v":5},{"$f":"HLOOKUP(AN3,'Input E2'!AN3:OM7,5,0)","v":6},{"$f":"HLOOKUP(AO3,'Input E2'!AO3:ON7,5,0)","v":5},{"$f":"HLOOKUP(AP3,'Input E2'!AP3:OO7,5,0)","v":5},{"$f":"HLOOKUP(AQ3,'Input E2'!AQ3:OP7,5,0)","v":6},{"$f":"HLOOKUP(AR3,'Input E2'!AR3:OQ7,5,0)","v":5},{"$f":"HLOOKUP(AS3,'Input E2'!AS3:OR7,5,0)","v":0},{"$f":"HLOOKUP(AT3,'Input E2'!AT3:OS7,5,0)","v":0},{"$f":"HLOOKUP(AU3,'Input E2'!AU3:OT7,5,0)","v":0},{"$f":"HLOOKUP(AV3,'Input E2'!AV3:OU7,5,0)","v":0},{"$f":"HLOOKUP(AW3,'Input E2'!AW3:OV7,5,0)","v":0},{"$f":"HLOOKUP(AX3,'Input E2'!AX3:OW7,5,0)","v":0},{"$f":"HLOOKUP(AY3,'Input E2'!AY3:OX7,5,0)","v":0},{"$f":"HLOOKUP(AZ3,'Input E2'!AZ3:OY7,5,0)","v":0},{"$f":"HLOOKUP(BA3,'Input E2'!BA3:OZ7,5,0)","v":0},{"$f":"HLOOKUP(BB3,'Input E2'!BB3:PA7,5,0)","v":0},{"$f":"HLOOKUP(BC3,'Input E2'!BC3:PB7,5,0)","v":0},{"$f":"HLOOKUP(BD3,'Input E2'!BD3:PC7,5,0)","v":0},{"$f":"HLOOKUP(BE3,'Input E2'!BE3:PD7,5,0)","v":{"$error":"#N/A"}},null,null,null,null,{"$f":"BJ5/16","v":0},{"$f":"BK5/16","v":0},0,0,14,22,16,16,22,5,0,0]
[null,null,null,"Week",1,2,3,4,5,6,7,8,9,10,11,12,13,14,15,16,17,18,19,20,21,22,23,24,25,26,27,28,29,30,31,32,33,34,35,36,37,38,39,40,41,42,43,44,45,46,47,48,49,50,51,52,53,null,null,null,null,1,2,3,4,5,6,7,8,9,10,11,12,null,"Grandtotal"]
[null,null,null,{"$f":"'Input E2'!C10","v":"FTE SAP [#]"},{"$f":"SUMIF('Input E2'!$E$3:$ND$3,Rekenblad!E$3,'Input E2'!$E10:$ND10)","v":0},{"$f":"SUMIF('Input E2'!$E$3:$ND$3,Rekenblad!F$3,'Input E2'!$E10:$ND10)","v":0},{"$f":"SUMIF('Input E2'!$E$3:$ND$3,Rekenblad!G$3,'Input E2'!$E10:$ND10)","v":0},{"$f":"SUMIF('Input E2'!$E$3:$ND$3,Rekenblad!H$3,'Input E2'!$E10:$ND10)","v":0},{"$f":"SUMIF('Input E2'!$E$3:$ND$3,Rekenblad!I$3,'Input E2'!$E10:$ND10)","v":0},{"$f":"SUMIF('Input E2'!$E$3:$ND$3,Rekenblad!J$3,'Input E2'!$E10:$ND10)","v":0},{"$f":"SUMIF('Input E2'!$E$3:$ND$3,Rekenblad!K$3,'Input E2'!$E10:$ND10)","v":0},{"$f":"SUMIF('Input E2'!$E$3:$ND$3,Rekenblad!L$3,'Input E2'!$E10:$ND10)","v":0},{"$f":"SUMIF('Input E2'!$E$3:$ND$3,Rekenblad!M$3,'Input E2'!$E10:$ND10)","v":0},{"$f":"SUMIF('Input E2'!$E$3:$ND$3,Rekenblad!N$3,'Input E2'!$E10:$ND10)","v":0},{"$f":"SUMIF('Input E2'!$E$3:$ND$3,Rekenblad!O$3,'Input E2'!$E10:$ND10)","v":0},{"$f":"SUMIF('Input E2'!$E$3:$ND$3,Rekenblad!P$3,'Input E2'!$E10:$ND10)","v":0},{"$f":"SUMIF('Input E2'!$E$3:$ND$3,Rekenblad!Q$3,'Input E2'!$E10:$ND10)","v":0},{"$f":"SUMIF('Input E2'!$E$3:$ND$3,Rekenblad!R$3,'Input E2'!$E10:$ND10)","v":0},{"$f":"SUMIF('Input E2'!$E$3:$ND$3,Rekenblad!S$3,'Input E2'!$E10:$ND10)","v":0},{"$f":"SUMIF('Input E2'!$E$3:$ND$3,Rekenblad!T$3,'Input E2'!$E10:$ND10)","v":0},{"$f":"SUMIF('Input E2'!$E$3:$ND$3,Rekenblad!U$3,'Input E2'!$E10:$ND10)","v":0},{"$f":"SUMIF('Input E2'!$E$3:$ND$3,Rekenblad!V$3,'Input E2'!$E10:$ND10)","v":0},{"$f":"SUMIF('Input E2'!$E$3:$ND$3,Rekenblad!W$3,'Input E2'!$E10:$ND10)","v":0},{"$f":"SUMIF('Input E2'!$E$3:$ND$3,Rekenblad!X$3,'Input E2'!$E10:$ND10)","v":90},{"$f":"SUMIF('Input E2'!$E$3:$ND$3,Rekenblad!Y$3,'Input E2'!$E10:$ND10)","v":90},{"$f":"SUMIF('Input E2'!$E$3:$ND$3,Rekenblad!Z$3,'Input E2'!$E10:$ND10)","v":90},{"$f":"SUMIF('Input E2'!$E$3:$ND$3,Rekenblad!AA$3,'Input E2'!$E10:$ND10)","v":90},{"$f":"SUMIF('Input E2'!$E$3:$ND$3,Rekenblad!AB$3,'Input E2'!$E10:$ND10)","v":108},{"$f":"SUMIF('Input E2'!$E$3:$ND$3,Rekenblad!AC$3,'Input E2'!$E10:$ND10)","v":90},{"$f":"SUMIF('Input E2'!$E$3:$ND$3,Rekenblad!AD$3,'Input E2'!$E10:$ND10)","v":90},{"$f":"SUMIF('Input E2'!$E$3:$ND$3,Rekenblad!AE$3,'Input E2'!$E10:$ND10)","v":108},{"$f":"SUMIF('Input E2'!$E$3:$ND$3,Rekenblad!AF$3,'Input E2'!$E10:$ND10)","v":90},{"$f":"SUMIF('Input E2'!$E$3:$ND$3,Rekenblad!AG$3,'Input E2'!$E10:$ND10)","v":90},{"$f":"SUMIF('Input E2'!$E$3:$ND$3,Rekenblad!AH$3,'Input E2'!$E10:$ND10)","v":0},{"$f":"SUMIF('Input E2'!$E$3:$ND$3,Rekenblad!AI$3,'Input E2'!$E10:$ND10)","v":0},{"$f":"SUMIF('Input E2'!$E$3:$ND$3,Rekenblad!AJ$3,'Input E2'!$E10:$ND10)","v":0},{"$f":"SUMIF('Input E2'!$E$3:$ND$3,Rekenblad!AK$3,'Input E2'!$E10:$ND10)","v":108},{"$f":"SUMIF('Input E2'!$E$3:$ND$3,Rekenblad!AL$3,'Input E2'!$E10:$ND10)","v":90},{"$f":"SUMIF('Input E2'!$E$3:$ND$3,Rekenblad!AM$3,'Input E2'!$E10:$ND10)","v":90},{"$f":"SUMIF('Input E2'!$E$3:$ND$3,Rekenblad!AN$3,'Input E2'!$E10:$ND10)","v":108},{"$f":"SUMIF('Input E2'!$E$3:$ND$3,Rekenblad!AO$3,'Input E2'!$E10:$ND10)","v":90},{"$f":"SUMIF('Input E2'!$E$3:$ND$3,Rekenblad!AP$3,'Input E2'!$E10:$ND10)","v":90},{"$f":"SUMIF('Input E2'!$E$3:$ND$3,Rekenblad!AQ$3,'Input E2'!$E10:$ND10)","v":108},{"$f":"SUMIF('Input E2'!$E$3:$ND$3,Rekenblad!AR$3,'Input E2'!$E10:$ND10)","v":90},{"$f":"SUMIF('Input E2'!$E$3:$ND$3,Rekenblad!AS$3,'Input E2'!$E10:$ND10)","v":0},{"$f":"SUMIF('Input E2'!$E$3:$ND$3,Rekenblad!AT$3,'Input E2'!$E10:$ND10)","v":0},{"$f":"SUMIF('Input E2'!$E$3:$ND$3,Rekenblad!AU$3,'Input E2'!$E10:$ND10)","v":0},{"$f":"SUMIF('Input E2'!$E$3:$ND$3,Rekenblad!AV$3,'Input E2'!$E10:$ND10)","v":0},{"$f":"SUMIF('Input E2'!$E$3:$ND$3,Rekenblad!AW$3,'Input E2'!$E10:$ND10)","v":0},{"$f":"SUMIF('Input E2'!$E$3:$ND$3,Rekenblad!AX$3,'Input E2'!$E10:$ND10)","v":0},{"$f":"SUMIF('Input E2'!$E$3:$ND$3,Rekenblad!AY$3,'Input E2'!$E10:$ND10)","v":0},{"$f":"SUMIF('Input E2'!$E$3:$ND$3,Rekenblad!AZ$3,'Input E2'!$E10:$ND10)","v":0},{"$f":"SUMIF('Input E2'!$E$3:$ND$3,Rekenblad!BA$3,'Input E2'!$E10:$ND10)","v":0},{"$f":"SUMIF('Input E2'!$E$3:$ND$3,Rekenblad!BB$3,'Input E2'!$E10:$ND10)","v":0},{"$f":"SUMIF('Input E2'!$E$3:$ND$3,Rekenblad!BC$3,'Input E2'!$E10:$ND10)","v":0},{"$f":"SUMIF('Input E2'!$E$3:$ND$3,Rekenblad!BD$3,'Input E2'!$E10:$ND10)","v":0},{"$f":"SUMIF('Input E2'!$E$3:$ND$3,Rekenblad!BE$3,'Input E2'!$E10:$ND10)","v":0},null,null,null,null,{"$f":"SUMIF('Input E2'!$E$2:$ND$2,Rekenblad!BJ$3,'Input E2'!$E10:$ND10)","v":0},{"$f":"SUMIF('Input E2'!$E$2:$ND$2,Rekenblad!BK$3,'Input E2'!$E10:$ND10)","v":0},{"$f":"SUMIF('Input E2'!$E$2:$ND$2,Rekenblad!BL$3,'Input E2'!$E10:$ND10)","v":0},{"$f":"SUMIF('Input E2'!$E$2:$ND$2,Rekenblad!BM$3,'Input E2'!$E10:$ND10)","v":0},{"$f":"SUMIF('Input E2'!$E$2:$ND$2,Rekenblad!BN$3,'Input E2'!$E10:$ND10)","v":252},{"$f":"SUMIF('Input E2'!$E$2:$ND$2,Rekenblad!BO$3,'Input E2'!$E10:$ND10)","v":396},{"$f":"SUMIF('Input E2'!$E$2:$ND$2,Rekenblad!BP$3,'Input E2'!$E10:$ND10)","v":288},{"$f":"SUMIF('Input E2'!$E$2:$ND$2,Rekenblad!BQ$3,'Input E2'!$E10:$ND10)","v":288},{"$f":"SUMIF('Input E2'!$E$2:$ND$2,Rekenblad!BR$3,'Input E2'!$E10:$ND10)","v":396},{"$f":"SUMIF('Input E2'!$E$2:$ND$2,Rekenblad!BS$3,'Input E2'!$E10:$ND10)","v":90},{"$f":"SUMIF('Input E2'!$E$2:$ND$2,Rekenblad!BT$3,'Input E2'!$E10:$ND10)","v":0},{"$f":"SUMIF('Input E2'!$E$2:$ND$2,Rekenblad!BU$3,'Input E2'!$E10:$ND10)","v":0},null,{"$f":"SUM(BJ4:BU4)","v":1710}]
[null,null,null,{"$f":"'Input E2'!C11","v":"Functions required [#l]"},{"$f":"SUMIF('Input E2'!$E$3:$ND$3,Rekenblad!E$3,'Input E2'!$E11:$ND11)","v":0},{"$f":"SUMIF('Input E2'!$E$3:$ND$3,Rekenblad!F$3,'Input E2'!$E11:$ND11)","v":0},{"$f":"SUMIF('Input E2'!$E$3:$ND$3,Rekenblad!G$3,'Input E2'!$E11:$ND11)","v":0},{"$f":"SUMIF('Input E2'!$E$3:$ND$3,Rekenblad!H$3,'Input E2'!$E11:$ND11)","v":0},{"$f":"SUMIF('Input E2'!$E$3:$ND$3,Rekenblad!I$3,'Input E2'!$E11:$ND11)","v":0},{"$f":"SUMIF('Input E2'!$E$3:$ND$3,Rekenblad!J$3,'Input E2'!$E11:$ND11)","v":0},{"$f":"SUMIF('Input E2'!$E$3:$ND$3,Rekenblad!K$3,'Input E2'!$E11:$ND11)","v":0},{"$f":"SUMIF('Input E2'!$E$3:$ND$3,Rekenblad!L$3,'Input E2'!$E11:$ND11)","v":0},{"$f":"SUMIF('Input E2'!$E$3:$ND$3,Rekenblad!M$3,'Input E2'!$E11:$ND11)","v":0},{"$f":"SUMIF('Input E2'!$E$3:$ND$3,Rekenblad!N$3,'Input E2'!$E11:$ND11)","v":0},{"$f":"SUMIF('Input E2'!$E$3:$ND$3,Rekenblad!O$3,'Input E2'!$E11:$ND11)","v":0},{"$f":"SUMIF('Input E2'!$E$3:$ND$3,Rekenblad!P$3,'Input E2'!$E11:$ND11)","v":0},{"$f":"SUMIF('Input E2'!$E$3:$ND$3,Rekenblad!Q$3,'Input E2'!$E11:$ND11)","v":0},{"$f":"SUMIF('Input E2'!$E$3:$ND$3,Rekenblad!R$3,'Input E2'!$E11:$ND11)","v":0},{"$f":"SUMIF('Input E2'!$E$3:$ND$3,Rekenblad!S$3,'Input E2'!$E11:$ND11)","v":0},{"$f":"SUMIF('Input E2'!$E$3:$ND$3,Rekenblad!T$3,'Input E2'!$E11:$ND11)","v":0},{"$f":"SUMIF('Input E2'!$E$3:$ND$3,Rekenblad!U$3,'Input E2'!$E11:$ND11)","v":0},{"$f":"SUMIF('Input E2'!$E$3:$ND$3,Rekenblad!V$3,'Input E2'!$E11:$ND11)","v":0},{"$f":"SUMIF('Input E2'!$E$3:$ND$3,Rekenblad!W$3,'Input E2'!$E11:$ND11)","v":0},{"$f":"SUMIF('Input E2'!$E$3:$ND$3,Rekenblad!X$3,'Input E2'!$E11:$ND11)","v":80},{"$f":"SUMIF('Input E2'!$E$3:$ND$3,Rekenblad!Y$3,'Input E2'!$E11:$ND11)","v":80},{"$f":"SUMIF('Input E2'!$E$3:$ND$3,Rekenblad!Z$3,'Input E2'!$E11:$ND11)","v":80},{"$f":"SUMIF('Input E2'!$E$3:$ND$3,Rekenblad!AA$3,'Input E2'!$E11:$ND11)","v":80},{"$f":"SUMIF('Input E2'!$E$3:$ND$3,Rekenblad!AB$3,'Input E2'!$E11:$ND11)","v":96},{"$f":"SUMIF('Input E2'!$E$3:$ND$3,Rekenblad!AC$3,'Input E2'!$E11:$ND11)","v":80},{"$f":"SUMIF('Input E2'!$E$3:$ND$3,Rekenblad!AD$3,'Input E2'!$E11:$ND11)","v":80},{"$f":"SUMIF('Input E2'!$E$3:$ND$3,Rekenblad!AE$3,'Input E2'!$E11:$ND11)","v":96},{"$f":"SUMIF('Input E2'!$E$3:$ND$3,Rekenblad!AF$3,'Input E2'!$E11:$ND11)","v":80},{"$f":"SUMIF('Input E2'!$E$3:$ND$3,Rekenblad!AG$3,'Input E2'!$E11:$ND11)","v":80},{"$f":"SUMIF('Input E2'!$E$3:$ND$3,Rekenblad!AH$3,'Input E2'!$E11:$ND11)","v":0},{"$f":"SUMIF('Input E2'!$E$3:$ND$3,Rekenblad!AI$3,'Input E2'!$E11:$ND11)","v":0},{"$f":"SUMIF('Input E2'!$E$3:$ND$3,Rekenblad!AJ$3,'Input E2'!$E11:$ND11)","v":0},{"$f":"SUMIF('Input E2'!$E$3:$ND$3,Rekenblad!AK$3,'Input E2'!$E11:$ND11)","v":96},{"$f":"SUMIF('Input E2'!$E$3:$ND$3,Rekenblad!AL$3,'Input E2'!$E11:$ND11)","v":80},{"$f":"SUMIF('Input E2'!$E$3:$ND$3,Rekenblad!AM$3,'Input E2'!$E11:$ND11)","v":80},{"$f":"SUMIF('Input E2'!$E$3:$ND$3,Rekenblad!AN$3,'Input E2'!$E11:$ND11)","v":96},{"$f":"SUMIF('Input E2'!$E$3:$ND$3,Rekenblad!AO$3,'Input E2'!$E11:$ND11)","v":80},{"$f":"SUMIF('Input E2'!$E$3:$ND$3,Rekenblad!AP$3,'Input E2'!$E11:$ND11)","v":80},{"$f":"SUMIF('Input E2'!$E$3:$ND$3,Rekenblad!AQ$3,'Input E2'!$E11:$ND11)","v":96},{"$f":"SUMIF('Input E2'!$E$3:$ND$3,Rekenblad!AR$3,'Input E2'!$E11:$ND11)","v":80},{"$f":"SUMIF('Input E2'!$E$3:$ND$3,Rekenblad!AS$3,'Input E2'!$E11:$ND11)","v":0},{"$f":"SUMIF('Input E2'!$E$3:$ND$3,Rekenblad!AT$3,'Input E2'!$E11:$ND11)","v":0},{"$f":"SUMIF('Input E2'!$E$3:$ND$3,Rekenblad!AU$3,'Input E2'!$E11:$ND11)","v":0},{"$f":"SUMIF('Input E2'!$E$3:$ND$3,Rekenblad!AV$3,'Input E2'!$E11:$ND11)","v":0},{"$f":"SUMIF('Input E2'!$E$3:$ND$3,Rekenblad!AW$3,'Input E2'!$E11:$ND11)","v":0},{"$f":"SUMIF('Input E2'!$E$3:$ND$3,Rekenblad!AX$3,'Input E2'!$E11:$ND11)","v":0},{"$f":"SUMIF('Input E2'!$E$3:$ND$3,Rekenblad!AY$3,'Input E2'!$E11:$ND11)","v":0},{"$f":"SUMIF('Input E2'!$E$3:$ND$3,Rekenblad!AZ$3,'Input E2'!$E11:$ND11)","v":0},{"$f":"SUMIF('Input E2'!$E$3:$ND$3,Rekenblad!BA$3,'Input E2'!$E11:$ND11)","v":0},{"$f":"SUMIF('Input E2'!$E$3:$ND$3,Rekenblad!BB$3,'Input E2'!$E11:$ND11)","v":0},{"$f":"SUMIF('Input E2'!$E$3:$ND$3,Rekenblad!BC$3,'Input E2'!$E11:$ND11)","v":0},{"$f":"SUMIF('Input E2'!$E$3:$ND$3,Rekenblad!BD$3,'Input E2'!$E11:$ND11)","v":0},{"$f":"SUMIF('Input E2'!$E$3:$ND$3,Rekenblad!BE$3,'Input E2'!$E11:$ND11)","v":0},null,null,null,null,{"$f":"SUMIF('Input E2'!$E$2:$ND$2,Rekenblad!BJ$3,'Input E2'!$E11:$ND11)","v":0},{"$f":"SUMIF('Input E2'!$E$2:$ND$2,Rekenblad!BK$3,'Input E2'!$E11:$ND11)","v":0},{"$f":"SUMIF('Input E2'!$E$2:$ND$2,Rekenblad!BL$3,'Input E2'!$E11:$ND11)","v":0},{"$f":"SUMIF('Input E2'!$E$2:$ND$2,Rekenblad!BM$3,'Input E2'!$E11:$ND11)","v":0},{"$f":"SUMIF('Input E2'!$E$2:$ND$2,Rekenblad!BN$3,'Input E2'!$E11:$ND11)","v":224},{"$f":"SUMIF('Input E2'!$E$2:$ND$2,Rekenblad!BO$3,'Input E2'!$E11:$ND11)","v":352},{"$f":"SUMIF('Input E2'!$E$2:$ND$2,Rekenblad!BP$3,'Input E2'!$E11:$ND11)","v":256},{"$f":"SUMIF('Input E2'!$E$2:$ND$2,Rekenblad!BQ$3,'Input E2'!$E11:$ND11)","v":256},{"$f":"SUMIF('Input E2'!$E$2:$ND$2,Rekenblad!BR$3,'Input E2'!$E11:$ND11)","v":352},{"$f":"SUMIF('Input E2'!$E$2:$ND$2,Rekenblad!BS$3,'Input E2'!$E11:$ND11)","v":80},{"$f":"SUMIF('Input E2'!$E$2:$ND$2,Rekenblad!BT$3,'Input E2'!$E11:$ND11)","v":0},{"$f":"SUMIF('Input E2'!$E$2:$ND$2,Rekenblad!BU$3,'Input E2'!$E11:$ND11)","v":0},null,1520]
[null,null,null,{"$f":"'Input E2'!C12","v":"Direct blue collar present [#]"},{"$f":"SUMIF('Input E2'!$E$3:$ND$3,Rekenblad!E$3,'Input E2'!$E12:$ND12)","v":0},{"$f":"SUMIF('Input E2'!$E$3:$ND$3,Rekenblad!F$3,'Input E2'!$E12:$ND12)","v":0},{"$f":"SUMIF('Input E2'!$E$3:$ND$3,Rekenblad!G$3,'Input E2'!$E12:$ND12)","v":0},{"$f":"SUMIF('Input E2'!$E$3:$ND$3,Rekenblad!H$3,'Input E2'!$E12:$ND12)","v":0},{"$f":"SUMIF('Input E2'!$E$3:$ND$3,Rekenblad!I$3,'Input E2'!$E12:$ND12)","v":0},{"$f":"SUMIF('Input E2'!$E$3:$ND$3,Rekenblad!J$3,'Input E2'!$E12:$ND12)","v":0},{"$f":"SUMIF('Input E2'!$E$3:$ND$3,Rekenblad!K$3,'Input E2'!$E12:$ND12)","v":0},{"$f":"SUMIF('Input E2'!$E$3:$ND$3,Rekenblad!L$3,'Input E2'!$E12:$ND12)","v":0},{"$f":"SUMIF('Input E2'!$E$3:$ND$3,Rekenblad!M$3,'Input E2'!$E12:$ND12)","v":0},{"$f":"SUMIF('Input E2'!$E$3:$ND$3,Rekenblad!N$3,'Input E2'!$E12:$ND12)","v":0},{"$f":"SUMIF('Input E2'!$E$3:$ND$3,Rekenblad!O$3,'Input E2'!$E12:$ND12)","v":0},{"$f":"SUMIF('Input E2'!$E$3:$ND$3,Rekenblad!P$3,'Input E2'!$E12:$ND12)","v":0},{"$f":"SUMIF('Input E2'!$E$3:$ND$3,Rekenblad!Q$3,'Input E2'!$E12:$ND12)","v":0},{"$f":"SUMIF('Input E2'!$E$3:$ND$3,Rekenblad!R$3,'Input E2'!$E12:$ND12)","v":0},{"$f":"SUMIF('Input E2'!$E$3:$ND$3,Rekenblad!S$3,'Input E2'!$E12:$ND12)","v":0},{"$f":"SUMIF('Input E2'!$E$3:$ND$3,Rekenblad!T$3,'Input E2'!$E12:$ND12)","v":0},{"$f":"SUMIF('Input E2'!$E$3:$ND$3,Rekenblad!U$3,'Input E2'!$E12:$ND12)","v":0},{"$f":"SUMIF('Input E2'!$E$3:$ND$3,Rekenblad!V$3,'Input E2'!$E12:$ND12)","v":0},{"$f":"SUMIF('Input E2'!$E$3:$ND$3,Rekenblad!W$3,'Input E2'!$E12:$ND12)","v":0},{"$f":"SUMIF('Input E2'!$E$3:$ND$3,Rekenblad!X$3,'Input E2'!$E12:$ND12)","v":75},{"$f":"SUMIF('Input E2'!$E$3:$ND$3,Rekenblad!Y$3,'Input E2'!$E12:$ND12)","v":79},{"$f":"SUMIF('Input E2'!$E$3:$ND$3,Rekenblad!Z$3,'Input E2'!$E12:$ND12)","v":78},{"$f":"SUMIF('Input E2'!$E$3:$ND$3,Rekenblad!AA$3,'Input E2'!$E12:$ND12)","v":84},{"$f":"SUMIF('Input E2'!$E$3:$ND$3,Rekenblad!AB$3,'Input E2'!$E12:$ND12)","v":89},{"$f":"SUMIF('Input E2'!$E$3:$ND$3,Rekenblad!AC$3,'Input E2'!$E12:$ND12)","v":81},{"$f":"SUMIF('Input E2'!$E$3:$ND$3,Rekenblad!AD$3,'Input E2'!$E12:$ND12)","v":69.5},{"$f":"SUMIF('Input E2'!$E$3:$ND$3,Rekenblad!AE$3,'Input E2'!$E12:$ND12)","v":95},{"$f":"SUMIF('Input E2'!$E$3:$ND$3,Rekenblad!AF$3,'Input E2'!$E12:$ND12)","v":78.5},{"$f":"SUMIF('Input E2'!$E$3:$ND$3,Rekenblad!AG$3,'Input E2'!$E12:$ND12)","v":67},{"$f":"SUMIF('Input E2'!$E$3:$ND$3,Rekenblad!AH$3,'Input E2'!$E12:$ND12)","v":0},{"$f":"SUMIF('Input E2'!$E$3:$ND$3,Rekenblad!AI$3,'Input E2'!$E12:$ND12)","v":0},{"$f":"SUMIF('Input E2'!$E$3:$ND$3,Rekenblad!AJ$3,'Input E2'!$E12:$ND12)","v":0},{"$f":"SUMIF('Input E2'!$E$3:$ND$3,Rekenblad!AK$3,'Input E2'!$E12:$ND12)","v":91},{"$f":"SUMIF('Input E2'!$E$3:$ND$3,Rekenblad!AL$3,'Input E2'!$E12:$ND12)","v":68},{"$f":"SUMIF('Input E2'!$E$3:$ND$3,Rekenblad!AM$3,'Input E2'!$E12:$ND12)","v":82},{"$f":"SUMIF('Input E2'!$E$3:$ND$3,Rekenblad!AN$3,'Input E2'!$E12:$ND12)","v":92},{"$f":"SUMIF('Input E2'!$E$3:$ND$3,Rekenblad!AO$3,'Input E2'!$E12:$ND12)","v":71},{"$f":"SUMIF('Input E2'!$E$3:$ND$3,Rekenblad!AP$3,'Input E2'!$E12:$ND12)","v":77},{"$f":"SUMIF('Input E2'!$E$3:$ND$3,Rekenblad!AQ$3,'Input E2'!$E12:$ND12)","v":95},{"$f":"SUMIF('Input E2'!$E$3:$ND$3,Rekenblad!AR$3,'Input E2'!$E12:$ND12)","v":82},{"$f":"SUMIF('Input E2'!$E$3:$ND$3,Rekenblad!AS$3,'Input E2'!$E12:$ND12)","v":0},{"$f":"SUMIF('Input E2'!$E$3:$ND$3,Rekenblad!AT$3,'Input E2'!$E12:$ND12)","v":0},{"$f":"SUMIF('Input E2'!$E$3:$ND$3,Rekenblad!AU$3,'Input E2'!$E12:$ND12)","v":0},{"$f":"SUMIF('Input E2'!$E$3:$ND$3,Rekenblad!AV$3,'Input E2'!$E12:$ND12)","v":0},{"$f":"SUMIF('Input E2'!$E$3:$ND$3,Rekenblad!AW$3,'Input E2'!$E12:$ND12)","v":0},{"$f":"SUMIF('Input E2'!$E$3:$ND$3,Rekenblad!AX$3,'Input E2'!$E12:$ND12)","v":0},{"$f":"SUMIF('Input E2'!$E$3:$ND$3,Rekenblad!AY$3,'Input E2'!$E12:$ND12)","v":0},{"$f":"SUMIF('Input E2'!$E$3:$ND$3,Rekenblad!AZ$3,'Input E2'!$E12:$ND12)","v":0},{"$f":"SUMIF('Input E2'!$E$3:$ND$3,Rekenblad!BA$3,'Input E2'!$E12:$ND12)","v":0},{"$f":"SUMIF('Input E2'!$E$3:$ND$3,Rekenblad!BB$3,'Input E2'!$E12:$ND12)","v":0},{"$f":"SUMIF('Input E2'!$E$3:$ND$3,Rekenblad!BC$3,'Input E2'!$E12:$ND12)","v":0},{"$f":"SUMIF('Input E2'!$E$3:$ND$3,Rekenblad!BD$3,'Input E2'!$E12:$ND12)","v":0},{"$f":"SUMIF('Input E2'!$E$3:$ND$3,Rekenblad!BE$3,'Input E2'!$E12:$ND12)","v":0},null,null,null,null,{"$f":"SUMIF('Input E2'!$E$2:$ND$2,Rekenblad!BJ$3,'Input E2'!$E12:$ND12)","v":0},{"$f":"SUMIF('Input E2'!$E$2:$ND$2,Rekenblad!BK$3,'Input E2'!$E12:$ND12)","v":0},{"$f":"SUMIF('Input E2'!$E$2:$ND$2,Rekenblad!BL$3,'Input E2'!$E12:$ND12)","v":0},{"$f":"SUMIF('Input E2'!$E$2:$ND$2,Rekenblad!BM$3,'Input E2'!$E12:$ND12)","v":0},{"$f":"SUMIF('Input E2'!$E$2:$ND$2,Rekenblad!BN$3,'Input E2'!$E12:$ND12)","v":217},{"$f":"SUMIF('Input E2'!$E$2:$ND$2,Rekenblad!BO$3,'Input E2'!$E12:$ND12)","v":338.5},{"$f":"SUMIF('Input E2'!$E$2:$ND$2,Rekenblad!BP$3,'Input E2'!$E12:$ND12)","v":240.5},{"$f":"SUMIF('Input E2'!$E$2:$ND$2,Rekenblad!BQ$3,'Input E2'!$E12:$ND12)","v":241},{"$f":"SUMIF('Input E2'!$E$2:$ND$2,Rekenblad!BR$3,'Input E2'!$E12:$ND12)","v":335},{"$f":"SUMIF('Input E2'!$E$2:$ND$2,Rekenblad!BS$3,'Input E2'!$E12:$ND12)","v":82},{"$f":"SUMIF('Input E2'!$E$2:$ND$2,Rekenblad!BT$3,'Input E2'!$E12:$ND12)","v":0},{"$f":"SUMIF('Input E2'!$E$2:$ND$2,Rekenblad!BU$3,'Input E2'!$E12:$ND12)","v":0},null,1454]
[null,null,null,{"$f":"'Input E2'!C13","v":"Idle capacity"},{"$f":"SUMIF('Input E2'!$E$3:$ND$3,Rekenblad!E$3,'Input E2'!$E13:$ND13)","v":0},{"$f":"SUMIF('Input E2'!$E$3:$ND$3,Rekenblad!F$3,'Input E2'!$E13:$ND13)","v":0},{"$f":"SUMIF('Input E2'!$E$3:$ND$3,Rekenblad!G$3,'Input E2'!$E13:$ND13)","v":0},{"$f":"SUMIF('Input E2'!$E$3:$ND$3,Rekenblad!H$3,'Input E2'!$E13:$ND13)","v":0},{"$f":"SUMIF('Input E2'!$E$3:$ND$3,Rekenblad!I$3,'Input E2'!$E13:$ND13)","v":0},{"$f":"SUMIF('Input E2'!$E$3:$ND$3,Rekenblad!J$3,'Input E2'!$E13:$ND13)","v":0},{"$f":"SUMIF('Input E2'!$E$3:$ND$3,Rekenblad!K$3,'Input E2'!$E13:$ND13)","v":0},{"$f":"SUMIF('Input E2'!$E$3:$ND$3,Rekenblad!L$3,'Input E2'!$E13:$ND13)","v":0},{"$f":"SUMIF('Input E2'!$E$3:$ND$3,Rekenblad!M$3,'Input E2'!$E13:$ND13)","v":0},{"$f":"SUMIF('Input E2'!$E$3:$ND$3,Rekenblad!N$3,'Input E2'!$E13:$ND13)","v":0},{"$f":"SUMIF('Input E2'!$E$3:$ND$3,Rekenblad!O$3,'Input E2'!$E13:$ND13)","v":0},{"$f":"SUMIF('Input E2'!$E$3:$ND$3,Rekenblad!P$3,'Input E2'!$E13:$ND13)","v":0},{"$f":"SUMIF('Input E2'!$E$3:$ND$3,Rekenblad!Q$3,'Input E2'!$E13:$ND13)","v":0},{"$f":"SUMIF('Input E2'!$E$3:$ND$3,Rekenblad!R$3,'Input E2'!$E13:$ND13)","v":0},{"$f":"SUMIF('Input E2'!$E$3:$ND$3,Rekenblad!S$3,'Input E2'!$E13:$ND13)","v":0},{"$f":"SUMIF('Input E2'!$E$3:$ND$3,Rekenblad!T$3,'Input E2'!$E13:$ND13)","v":0},{"$f":"SUMIF('Input E2'!$E$3:$ND$3,Rekenblad!U$3,'Input E2'!$E13:$ND13)","v":0},{"$f":"SUMIF('Input E2'!$E$3:$ND$3,Rekenblad!V$3,'Input E2'!$E13:$ND13)","v":0},{"$f":"SUMIF('Input E2'!$E$3:$ND$3,Rekenblad!W$3,'Input E2'!$E13:$ND13)","v":0},{"$f":"SUMIF('Input E2'!$E$3:$ND$3,Rekenblad!X$3,'Input E2'!$E13:$ND13)","v":-5},{"$f":"SUMIF('Input E2'!$E$3:$ND$3,Rekenblad!Y$3,'Input E2'!$E13:$ND13)","v":-1},{"$f":"SUMIF('Input E2'!$E$3:$ND$3,Rekenblad!Z$3,'Input E2'!$E13:$ND13)","v":-2},{"$f":"SUMIF('Input E2'!$E$3:$ND$3,Rekenblad!AA$3,'Input E2'!$E13:$ND13)","v":4},{"$f":"SUMIF('Input E2'!$E$3:$ND$3,Rekenblad!AB$3,'Input E2'!$E13:$ND13)","v":-7},{"$f":"SUMIF('Input E2'!$E$3:$ND$3,Rekenblad!AC$3,'Input E2'!$E13:$ND13)","v":1},{"$f":"SUMIF('Input E2'!$E$3:$ND$3,Rekenblad!AD$3,'Input E2'!$E13:$ND13)","v":-10.5},{"$f":"SUMIF('Input E2'!$E$3:$ND$3,Rekenblad!AE$3,'Input E2'!$E13:$ND13)","v":-1},{"$f":"SUMIF('Input E2'!$E$3:$ND$3,Rekenblad!AF$3,'Input E2'!$E13:$ND13)","v":-1.5},{"$f":"SUMIF('Input E2'!$E$3:$ND$3,Rekenblad!AG$3,'Input E2'!$E13:$ND13)","v":-13},{"$f":"SUMIF('Input E2'!$E$3:$ND$3,Rekenblad!AH$3,'Input E2'!$E13:$ND13)","v":0},{"$f":"SUMIF('Input E2'!$E$3:$ND$3,Rekenblad!AI$3,'Input E2'!$E13:$ND13)","v":0},{"$f":"SUMIF('Input E2'!$E$3:$ND$3,Rekenblad!AJ$3,'Input E2'!$E13:$ND13)","v":0},{"$f":"SUMIF('Input E2'!$E$3:$ND$3,Rekenblad!AK$3,'Input E2'!$E13:$ND13)","v":-5},{"$f":"SUMIF('Input E2'!$E$3:$ND$3,Rekenblad!AL$3,'Input E2'!$E13:$ND13)","v":-12},{"$f":"SUMIF('Input E2'!$E$3:$ND$3,Rekenblad!AM$3,'Input E2'!$E13:$ND13)","v":2},{"$f":"SUMIF('Input E2'!$E$3:$ND$3,Rekenblad!AN$3,'Input E2'!$E13:$ND13)","v":-4},{"$f":"SUMIF('Input E2'!$E$3:$ND$3,Rekenblad!AO$3,'Input E2'!$E13:$ND13)","v":-9},{"$f":"SUMIF('Input E2'!$E$3:$ND$3,Rekenblad!AP$3,'Input E2'!$E13:$ND13)","v":-3},{"$f":"SUMIF('Input E2'!$E$3:$ND$3,Rekenblad!AQ$3,'Input E2'!$E13:$ND13)","v":-1},{"$f":"SUMIF('Input E2'!$E$3:$ND$3,Rekenblad!AR$3,'Input E2'!$E13:$ND13)","v":2},{"$f":"SUMIF('Input E2'!$E$3:$ND$3,Rekenblad!AS$3,'Input E2'!$E13:$ND13)","v":0},{"$f":"SUMIF('Input E2'!$E$3:$ND$3,Rekenblad!AT$3,'Input E2'!$E13:$ND13)","v":0},{"$f":"SUMIF('Input E2'!$E$3:$ND$3,Rekenblad!AU$3,'Input E2'!$E13:$ND13)","v":0},{"$f":"SUMIF('Input E2'!$E$3:$ND$3,Rekenblad!AV$3,'Input E2'!$E13:$ND13)","v":0},{"$f":"SUMIF('Input E2'!$E$3:$ND$3,Rekenblad!AW$3,'Input E2'!$E13:$ND13)","v":0},{"$f":"SUMIF('Input E2'!$E$3:$ND$3,Rekenblad!AX$3,'Input E2'!$E13:$ND13)","v":0},{"$f":"SUMIF('Input E2'!$E$3:$ND$3,Rekenblad!AY$3,'Input E2'!$E13:$ND13)","v":0},{"$f":"SUMIF('Input E2'!$E$3:$ND$3,Rekenblad!AZ$3,'Input E2'!$E13:$ND13)","v":0},{"$f":"SUMIF('Input E2'!$E$3:$ND$3,Rekenblad!BA$3,'Input E2'!$E13:$ND13)","v":0},{"$f":"SUMIF('Input E2'!$E$3:$ND$3,Rekenblad!BB$3,'Input E2'!$E13:$ND13)","v":0},{"$f":"SUMIF('Input E2'!$E$3:$ND$3,Rekenblad!BC$3,'Input E2'!$E13:$ND13)","v":0},{"$f":"SUMIF('Input E2'!$E$3:$ND$3,Rekenblad!BD$3,'Input E2'!$E13:$ND13)","v":0},{"$f":"SUMIF('Input E2'!$E$3:$ND$3,Rekenblad!BE$3,'Input E2'!$E13:$ND13)","v":0},null,null,null,null,{"$f":"SUMIF('Input E2'!$E$2:$ND$2,Rekenblad!BJ$3,'Input E2'!$E13:$ND13)","v":0},{"$f":"SUMIF('Input E2'!$E$2:$ND$2,Rekenblad!BK$3,'Input E2'!$E13:$ND13)","v":0},{"$f":"SUMIF('Input E2'!$E$2:$ND$2,Rekenblad!BL$3,'Input E2'!$E13:$ND13)","v":0},{"$f":"SUMIF('Input E2'!$E$2:$ND$2,Rekenblad!BM$3,'Input E2'!$E13:$ND13)","v":0},{"$f":"SUMIF('Input E2'!$E$2:$ND$2,Rekenblad!BN$3,'Input E2'!$E13:$ND13)","v":-7},{"$f":"SUMIF('Input E2'!$E$2:$ND$2,Rekenblad!BO$3,'Input E2'!$E13:$ND13)","v":-13.5},{"$f":"SUMIF('Input E2'!$E$2:$ND$2,Rekenblad!BP$3,'Input E2'!$E13:$ND13)","v":-15.5},{"$f":"SUMIF('Input E2'!$E$2:$ND$2,Rekenblad!BQ$3,'Input E2'!$E13:$ND13)","v":-15},{"$f":"SUMIF('Input E2'!$E$2:$ND$2,Rekenblad!BR$3,'Input E2'!$E13:$ND13)","v":-17},{"$f":"SUMIF('Input E2'!$E$2:$ND$2,Rekenblad!BS$3,'Input E2'!$E13:$ND13)","v":2},{"$f":"SUMIF('Input E2'!$E$2:$ND$2,Rekenblad!BT$3,'Input E2'!$E13:$ND13)","v":0},{"$f":"SUMIF('Input E2'!$E$2:$ND$2,Rekenblad!BU$3,'Input E2'!$E13:$ND13)","v":0},null,-66]
[null,null,null,{"$f":"'Input E2'!C14","v":"Idle (aantal Medewerkers uitleen/ Opleiding)"},{"$f":"SUMIF('Input E2'!$E$3:$ND$3,Rekenblad!E$3,'Input E2'!$E14:$ND14)","v":0},{"$f":"SUMIF('Input E2'!$E$3:$ND$3,Rekenblad!F$3,'Input E2'!$E14:$ND14)","v":0},{"$f":"SUMIF('Input E2'!$E$3:$ND$3,Rekenblad!G$3,'Input E2'!$E14:$ND14)","v":0},{"$f":"SUMIF('Input E2'!$E$3:$ND$3,Rekenblad!H$3,'Input E2'!$E14:$ND14)","v":0},{"$f":"SUMIF('Input E2'!$E$3:$ND$3,Rekenblad!I$3,'Input E2'!$E14:$ND14)","v":0},{"$f":"SUMIF('Input E2'!$E$3:$ND$3,Rekenblad!J$3,'Input E2'!$E14:$ND14)","v":0},{"$f":"SUMIF('Input E2'!$E$3:$ND$3,Rekenblad!K$3,'Input E2'!$E14:$ND14)","v":0},{"$f":"SUMIF('Input E2'!$E$3:$ND$3,Rekenblad!L$3,'Input E2'!$E14:$ND14)","v":0},{"$f":"SUMIF('Input E2'!$E$3:$ND$3,Rekenblad!M$3,'Input E2'!$E14:$ND14)","v":0},{"$f":"SUMIF('Input E2'!$E$3:$ND$3,Rekenblad!N$3,'Input E2'!$E14:$ND14)","v":0},{"$f":"SUMIF('Input E2'!$E$3:$ND$3,Rekenblad!O$3,'Input E2'!$E14:$ND14)","v":0},{"$f":"SUMIF('Input E2'!$E$3:$ND$3,Rekenblad!P$3,'Input E2'!$E14:$ND14)","v":0},{"$f":"SUMIF('Input E2'!$E$3:$ND$3,Rekenblad!Q$3,'Input E2'!$E14:$ND14)","v":0},{"$f":"SUMIF('Input E2'!$E$3:$ND$3,Rekenblad!R$3,'Input E2'!$E14:$ND14)","v":0},{"$f":"SUMIF('Input E2'!$E$3:$ND$3,Rekenblad!S$3,'Input E2'!$E14:$ND14)","v":0},{"$f":"SUMIF('Input E2'!$E$3:$ND$3,Rekenblad!T$3,'Input E2'!$E14:$ND14)","v":0},{"$f":"SUMIF('Input E2'!$E$3:$ND$3,Rekenblad!U$3,'Input E2'!$E14:$ND14)","v":0},{"$f":"SUMIF('Input E2'!$E$3:$ND$3,Rekenblad!V$3,'Input E2'!$E14:$ND14)","v":0},{"$f":"SUMIF('Input E2'!$E$3:$ND$3,Rekenblad!W$3,'Input E2'!$E14:$ND14)","v":0},{"$f":"SUMIF('Input E2'!$E$3:$ND$3,Rekenblad!X$3,'Input E2'!$E14:$ND14)","v":1},{"$f":"SUMIF('Input E2'!$E$3:$ND$3,Rekenblad!Y$3,'Input E2'!$E14:$ND14)","v":0},{"$f":"SUMIF('Input E2'!$E$3:$ND$3,Rekenblad!Z$3,'Input E2'!$E14:$ND14)","v":0},{"$f":"SUMIF('Input E2'!$E$3:$ND$3,Rekenblad!AA$3,'Input E2'!$E14:$ND14)","v":5},{"$f":"SUMIF('Input E2'!$E$3:$ND$3,Rekenblad!AB$3,'Input E2'!$E14:$ND14)","v":5},{"$f":"SUMIF('Input E2'!$E$3:$ND$3,Rekenblad!AC$3,'Input E2'!$E14:$ND14)","v":2},{"$f":"SUMIF('Input E2'!$E$3:$ND$3,Rekenblad!AD$3,'Input E2'!$E14:$ND14)","v":0},{"$f":"SUMIF('Input E2'!$E$3:$ND$3,Rekenblad!AE$3,'Input E2'!$E14:$ND14)","v":1},{"$f":"SUMIF('Input E2'!$E$3:$ND$3,Rekenblad!AF$3,'Input E2'!$E14:$ND14)","v":2.5},{"$f":"SUMIF('Input E2'!$E$3:$ND$3,Rekenblad!AG$3,'Input E2'!$E14:$ND14)","v":3},{"$f":"SUMIF('Input E2'!$E$3:$ND$3,Rekenblad!AH$3,'Input E2'!$E14:$ND14)","v":0},{"$f":"SUMIF('Input E2'!$E$3:$ND$3,Rekenblad!AI$3,'Input E2'!$E14:$ND14)","v":0},{"$f":"SUMIF('Input E2'!$E$3:$ND$3,Rekenblad!AJ$3,'Input E2'!$E14:$ND14)","v":0},{"$f":"SUMIF('Input E2'!$E$3:$ND$3,Rekenblad!AK$3,'Input E2'!$E14:$ND14)","v":3},{"$f":"SUMIF('Input E2'!$E$3:$ND$3,Rekenblad!AL$3,'Input E2'!$E14:$ND14)","v":5},{"$f":"SUMIF('Input E2'!$E$3:$ND$3,Rekenblad!AM$3,'Input E2'!$E14:$ND14)","v":1},{"$f":"SUMIF('Input E2'!$E$3:$ND$3,Rekenblad!AN$3,'Input E2'!$E14:$ND14)","v":7},{"$f":"SUMIF('Input E2'!$E$3:$ND$3,Rekenblad!AO$3,'Input E2'!$E14:$ND14)","v":2},{"$f":"SUMIF('Input E2'!$E$3:$ND$3,Rekenblad!AP$3,'Input E2'!$E14:$ND14)","v":0},{"$f":"SUMIF('Input E2'!$E$3:$ND$3,Rekenblad!AQ$3,'Input E2'!$E14:$ND14)","v":3},{"$f":"SUMIF('Input E2'!$E$3:$ND$3,Rekenblad!AR$3,'Input E2'!$E14:$ND14)","v":0},{"$f":"SUMIF('Input E2'!$E$3:$ND$3,Rekenblad!AS$3,'Input E2'!$E14:$ND14)","v":0},{"$f":"SUMIF('Input E2'!$E$3:$ND$3,Rekenblad!AT$3,'Input E2'!$E14:$ND14)","v":0},{"$f":"SUMIF('Input E2'!$E$3:$ND$3,Rekenblad!AU$3,'Input E2'!$E14:$ND14)","v":0},{"$f":"SUMIF('Input E2'!$E$3:$ND$3,Rekenblad!AV$3,'Input E2'!$E14:$ND14)","v":0},{"$f":"SUMIF('Input E2'!$E$3:$ND$3,Rekenblad!AW$3,'Input E2'!$E14:$ND14)","v":0},{"$f":"SUMIF('Input E2'!$E$3:$ND$3,Rekenblad!AX$3,'Input E2'!$E14:$ND14)","v":0},{"$f":"SUMIF('Input E2'!$E$3:$ND$3,Rekenblad!AY$3,'Input E2'!$E14:$ND14)","v":0},{"$f":"SUMIF('Input E2'!$E$3:$ND$3,Rekenblad!AZ$3,'Input E2'!$E14:$ND14)","v":0},{"$f":"SUMIF('Input E2'!$E$3:$ND$3,Rekenblad!BA$3,'Input E2'!$E14:$ND14)","v":0},{"$f":"SUMIF('Input E2'!$E$3:$ND$3,Rekenblad!BB$3,'Input E2'!$E14:$ND14)","v":0},{"$f":"SUMIF('Input E2'!$E$3:$ND$3,Rekenblad!BC$3,'Input E2'!$E14:$ND14)","v":0},{"$f":"SUMIF('Input E2'!$E$3:$ND$3,Rekenblad!BD$3,'Input E2'!$E14:$ND14)","v":0},{"$f":"SUMIF('Input E2'!$E$3:$ND$3,Rekenblad!BE$3,'Input E2'!$E14:$ND14)","v":0},null,null,null,null,{"$f":"SUMIF('Input E2'!$E$2:$ND$2,Rekenblad!BJ$3,'Input E2'!$E14:$ND14)","v":0},{"$f":"SUMIF('Input E2'!$E$2:$ND$2,Rekenblad!BK$3,'Input E2'!$E14:$ND14)","v":0},{"$f":"SUMIF('Input E2'!$E$2:$ND$2,Rekenblad!BL$3,'Input E2'!$E14:$ND14)","v":0},{"$f":"SUMIF('Input E2'!$E$2:$ND$2,Rekenblad!BM$3,'Input E2'!$E14:$ND14)","v":0},{"$f":"SUMIF('Input E2'!$E$2:$ND$2,Rekenblad!BN$3,'Input E2'!$E14:$ND14)","v":1},{"$f":"SUMIF('Input E2'!$E$2:$ND$2,Rekenblad!BO$3,'Input E2'!$E14:$ND14)","v":12},{"$f":"SUMIF('Input E2'!$E$2:$ND$2,Rekenblad!BP$3,'Input E2'!$E14:$ND14)","v":6.5},{"$f":"SUMIF('Input E2'!$E$2:$ND$2,Rekenblad!BQ$3,'Input E2'!$E14:$ND14)","v":9},{"$f":"SUMIF('Input E2'!$E$2:$ND$2,Rekenblad!BR$3,'Input E2'!$E14:$ND14)","v":12},{"$f":"SUMIF('Input E2'!$E$2:$ND$2,Rekenblad!BS$3,'Input E2'!$E14:$ND14)","v":0},{"$f":"SUMIF('Input E2'!$E$2:$ND$2,Rekenblad!BT$3,'Input E2'!$E14:$ND14)","v":0},{"$f":"SUMIF('Input E2'!$E$2:$ND$2,Rekenblad!BU$3,'Input E2'!$E14:$ND14)","v":0},null,40.5]
[null,null,null,{"$f":"'Input E2'!C15","v":"Eigen Onderhoud"},{"$f":"SUMIF('Input E2'!$E$3:$ND$3,Rekenblad!E$3,'Input E2'!$E15:$ND15)","v":0},{"$f":"SUMIF('Input E2'!$E$3:$ND$3,Rekenblad!F$3,'Input E2'!$E15:$ND15)","v":0},{"$f":"SUMIF('Input E2'!$E$3:$ND$3,Rekenblad!G$3,'Input E2'!$E15:$ND15)","v":0},{"$f":"SUMIF('Input E2'!$E$3:$ND$3,Rekenblad!H$3,'Input E2'!$E15:$ND15)","v":0},{"$f":"SUMIF('Input E2'!$E$3:$ND$3,Rekenblad!I$3,'Input E2'!$E15:$ND15)","v":0},{"$f":"SUMIF('Input E2'!$E$3:$ND$3,Rekenblad!J$3,'Input E2'!$E15:$ND15)","v":0},{"$f":"SUMIF('Input E2'!$E$3:$ND$3,Rekenblad!K$3,'Input E2'!$E15:$ND15)","v":0},{"$f":"SUMIF('Input E2'!$E$3:$ND$3,Rekenblad!L$3,'Input E2'!$E15:$ND15)","v":0},{"$f":"SUMIF('Input E2'!$E$3:$ND$3,Rekenblad!M$3,'Input E2'!$E15:$ND15)","v":0},{"$f":"SUMIF('Input E2'!$E$3:$ND$3,Rekenblad!N$3,'Input E2'!$E15:$ND15)","v":0},{"$f":"SUMIF('Input E2'!$E$3:$ND$3,Rekenblad!O$3,'Input E2'!$E15:$ND15)","v":0},{"$f":"SUMIF('Input E2'!$E$3:$ND$3,Rekenblad!P$3,'Input E2'!$E15:$ND15)","v":0},{"$f":"SUMIF('Input E2'!$E$3:$ND$3,Rekenblad!Q$3,'Input E2'!$E15:$ND15)","v":0},{"$f":"SUMIF('Input E2'!$E$3:$ND$3,Rekenblad!R$3,'Input E2'!$E15:$ND15)","v":0},{"$f":"SUMIF('Input E2'!$E$3:$ND$3,Rekenblad!S$3,'Input E2'!$E15:$ND15)","v":0},{"$f":"SUMIF('Input E2'!$E$3:$ND$3,Rekenblad!T$3,'Input E2'!$E15:$ND15)","v":0},{"$f":"SUMIF('Input E2'!$E$3:$ND$3,Rekenblad!U$3,'Input E2'!$E15:$ND15)","v":0},{"$f":"SUMIF('Input E2'!$E$3:$ND$3,Rekenblad!V$3,'Input E2'!$E15:$ND15)","v":0},{"$f":"SUMIF('Input E2'!$E$3:$ND$3,Rekenblad!W$3,'Input E2'!$E15:$ND15)","v":0},{"$f":"SUMIF('Input E2'!$E$3:$ND$3,Rekenblad!X$3,'Input E2'!$E15:$ND15)","v":0},{"$f":"SUMIF('Input E2'!$E$3:$ND$3,Rekenblad!Y$3,'Input E2'!$E15:$ND15)","v":2},{"$f":"SUMIF('Input E2'!$E$3:$ND$3,Rekenblad!Z$3,'Input E2'!$E15:$ND15)","v":0},{"$f":"SUMIF('Input E2'!$E$3:$ND$3,Rekenblad!AA$3,'Input E2'!$E15:$ND15)","v":0},{"$f":"SUMIF('Input E2'!$E$3:$ND$3,Rekenblad!AB$3,'Input E2'!$E15:$ND15)","v":0},{"$f":"SUMIF('Input E2'!$E$3:$ND$3,Rekenblad!AC$3,'Input E2'!$E15:$ND15)","v":0},{"$f":"SUMIF('Input E2'!$E$3:$ND$3,Rekenblad!AD$3,'Input E2'!$E15:$ND15)","v":0},{"$f":"SUMIF('Input E2'!$E$3:$ND$3,Rekenblad!AE$3,'Input E2'!$E15:$ND15)","v":0},{"$f":"SUMIF('Input E2'!$E$3:$ND$3,Rekenblad!AF$3,'Input E2'!$E15:$ND15)","v":0},{"$f":"SUMIF('Input E2'!$E$3:$ND$3,Rekenblad!AG$3,'Input E2'!$E15:$ND15)","v":0},{"$f":"SUMIF('Input E2'!$E$3:$ND$3,Rekenblad!AH$3,'Input E2'!$E15:$ND15)","v":0},{"$f":"SUMIF('Input E2'!$E$3:$ND$3,Rekenblad!AI$3,'Input E2'!$E15:$ND15)","v":0},{"$f":"SUMIF('Input E2'!$E$3:$ND$3,Rekenblad!AJ$3,'Input E2'!$E15:$ND15)","v":0},{"$f":"SUMIF('Input E2'!$E$3:$ND$3,Rekenblad!AK$3,'Input E2'!$E15:$ND15)","v":1},{"$f":"SUMIF('Input E2'!$E$3:$ND$3,Rekenblad!AL$3,'Input E2'!$E15:$ND15)","v":0},{"$f":"SUMIF('Input E2'!$E$3:$ND$3,Rekenblad!AM$3,'Input E2'!$E15:$ND15)","v":0},{"$f":"SUMIF('Input E2'!$E$3:$ND$3,Rekenblad!AN$3,'Input E2'!$E15:$ND15)","v":0},{"$f":"SUMIF('Input E2'!$E$3:$ND$3,Rekenblad!AO$3,'Input E2'!$E15:$ND15)","v":0},{"$f":"SUMIF('Input E2'!$E$3:$ND$3,Rekenblad!AP$3,'Input E2'!$E15:$ND15)","v":0},{"$f":"SUMIF('Input E2'!$E$3:$ND$3,Rekenblad!AQ$3,'Input E2'!$E15:$ND15)","v":0},{"$f":"SUMIF('Input E2'!$E$3:$ND$3,Rekenblad!AR$3,'Input E2'!$E15:$ND15)","v":1},{"$f":"SUMIF('Input E2'!$E$3:$ND$3,Rekenblad!AS$3,'Input E2'!$E15:$ND15)","v":0},{"$f":"SUMIF('Input E2'!$E$3:$ND$3,Rekenblad!AT$3,'Input E2'!$E15:$ND15)","v":0},{"$f":"SUMIF('Input E2'!$E$3:$ND$3,Rekenblad!AU$3,'Input E2'!$E15:$ND15)","v":0},{"$f":"SUMIF('Input E2'!$E$3:$ND$3,Rekenblad!AV$3,'Input E2'!$E15:$ND15)","v":0},{"$f":"SUMIF('Input E2'!$E$3:$ND$3,Rekenblad!AW$3,'Input E2'!$E15:$ND15)","v":0},{"$f":"SUMIF('Input E2'!$E$3:$ND$3,Rekenblad!AX$3,'Input E2'!$E15:$ND15)","v":0},{"$f":"SUMIF('Input E2'!$E$3:$ND$3,Rekenblad!AY$3,'Input E2'!$E15:$ND15)","v":0},{"$f":"SUMIF('Input E2'!$E$3:$ND$3,Rekenblad!AZ$3,'Input E2'!$E15:$ND15)","v":0},{"$f":"SUMIF('Input E2'!$E$3:$ND$3,Rekenblad!BA$3,'Input E2'!$E15:$ND15)","v":0},{"$f":"SUMIF('Input E2'!$E$3:$ND$3,Rekenblad!BB$3,'Input E2'!$E15:$ND15)","v":0},{"$f":"SUMIF('Input E2'!$E$3:$ND$3,Rekenblad!BC$3,'Input E2'!$E15:$ND15)","v":0},{"$f":"SUMIF('Input E2'!$E$3:$ND$3,Rekenblad!BD$3,'Input E2'!$E15:$ND15)","v":0},{"$f":"SUMIF('Input E2'!$E$3:$ND$3,Rekenblad!BE$3,'Input E2'!$E15:$ND15)","v":0},null,null,null,null,{"$f":"SUMIF('Input E2'!$E$2:$ND$2,Rekenblad!BJ$3,'Input E2'!$E15:$ND15)","v":0},{"$f":"SUMIF('Input E2'!$E$2:$ND$2,Rekenblad!BK$3,'Input E2'!$E15:$ND15)","v":0},{"$f":"SUMIF('Input E2'!$E$2:$ND$2,Rekenblad!BL$3,'Input E2'!$E15:$ND15)","v":0},{"$f":"SUMIF('Input E2'!$E$2:$ND$2,Rekenblad!BM$3,'Input E2'!$E15:$ND15)","v":0},{"$f":"SUMIF('Input E2'!$E$2:$ND$2,Rekenblad!BN$3,'Input E2'!$E15:$ND15)","v":2},{"$f":"SUMIF('Input E2'!$E$2:$ND$2,Rekenblad!BO$3,'Input E2'!$E15:$ND15)","v":0},{"$f":"SUMIF('Input E2'!$E$2:$ND$2,Rekenblad!BP$3,'Input E2'!$E15:$ND15)","v":0},{"$f":"SUMIF('Input E2'!$E$2:$ND$2,Rekenblad!BQ$3,'Input E2'!$E15:$ND15)","v":1},{"$f":"SUMIF('Input E2'!$E$2:$ND$2,Rekenblad!BR$3,'Input E2'!$E15:$ND15)","v":0},{"$f":"SUMIF('Input E2'!$E$2:$ND$2,Rekenblad!BS$3,'Input E2'!$E15:$ND15)","v":1},{"$f":"SUMIF('Input E2'!$E$2:$ND$2,Rekenblad!BT$3,'Input E2'!$E15:$ND15)","v":0},{"$f":"SUMIF('Input E2'!$E$2:$ND$2,Rekenblad!BU$3,'Input E2'!$E15:$ND15)","v":0},null,4]
[null,null,null,{"$f":"'Input E2'!C16","v":"Injury (F.g.p.) Zonder verzuim"},{"$f":"SUMIF('Input E2'!$E$3:$ND$3,Rekenblad!E$3,'Input E2'!$E16:$ND16)","v":0},{"$f":"SUMIF('Input E2'!$E$3:$ND$3,Rekenblad!F$3,'Input E2'!$E16:$ND16)","v":0},{"$f":"SUMIF('Input E2'!$E$3:$ND$3,Rekenblad!G$3,'Input E2'!$E16:$ND16)","v":0},{"$f":"SUMIF('Input E2'!$E$3:$ND$3,Rekenblad!H$3,'Input E2'!$E16:$ND16)","v":0},{"$f":"SUMIF('Input E2'!$E$3:$ND$3,Rekenblad!I$3,'Input E2'!$E16:$ND16)","v":0},{"$f":"SUMIF('Input E2'!$E$3:$ND$3,Rekenblad!J$3,'Input E2'!$E16:$ND16)","v":0},{"$f":"SUMIF('Input E2'!$E$3:$ND$3,Rekenblad!K$3,'Input E2'!$E16:$ND16)","v":0},{"$f":"SUMIF('Input E2'!$E$3:$ND$3,Rekenblad!L$3,'Input E2'!$E16:$ND16)","v":0},{"$f":"SUMIF('Input E2'!$E$3:$ND$3,Rekenblad!M$3,'Input E2'!$E16:$ND16)","v":0},{"$f":"SUMIF('Input E2'!$E$3:$ND$3,Rekenblad!N$3,'Input E2'!$E16:$ND16)","v":0},{"$f":"SUMIF('Input E2'!$E$3:$ND$3,Rekenblad!O$3,'Input E2'!$E16:$ND16)","v":0},{"$f":"SUMIF('Input E2'!$E$3:$ND$3,Rekenblad!P$3,'Input E2'!$E16:$ND16)","v":0},{"$f":"SUMIF('Input E2'!$E$3:$ND$3,Rekenblad!Q$3,'Input E2'!$E16:$ND16)","v":0},{"$f":"SUMIF('Input E2'!$E$3:$ND$3,Rekenblad!R$3,'Input E2'!$E16:$ND16)","v":0},{"$f":"SUMIF('Input E2'!$E$3:$ND$3,Rekenblad!S$3,'Input E2'!$E16:$ND16)","v":0},{"$f":"SUMIF('Input E2'!$E$3:$ND$3,Rekenblad!T$3,'Input E2'!$E16:$ND16)","v":0},{"$f":"SUMIF('Input E2'!$E$3:$ND$3,Rekenblad!U$3,'Input E2'!$E16:$ND16)","v":0},{"$f":"SUMIF('Input E2'!$E$3:$ND$3,Rekenblad!V$3,'Input E2'!$E16:$ND16)","v":0},{"$f":"SUMIF('Input E2'!$E$3:$ND$3,Rekenblad!W$3,'Input E2'!$E16:$ND16)","v":0},{"$f":"SUMIF('Input E2'!$E$3:$ND$3,Rekenblad!X$3,'Input E2'!$E16:$ND16)","v":0},{"$f":"SUMIF('Input E2'!$E$3:$ND$3,Rekenblad!Y$3,'Input E2'!$E16:$ND16)","v":0},{"$f":"SUMIF('Input E2'!$E$3:$ND$3,Rekenblad!Z$3,'Input E2'!$E16:$ND16)","v":0},{"$f":"SUMIF('Input E2'!$E$3:$ND$3,Rekenblad!AA$3,'Input E2'!$E16:$ND16)","v":0},{"$f":"SUMIF('Input E2'!$E$3:$ND$3,Rekenblad!AB$3,'Input E2'!$E16:$ND16)","v":0},{"$f":"SUMIF('Input E2'!$E$3:$ND$3,Rekenblad!AC$3,'Input E2'!$E16:$ND16)","v":0},{"$f":"SUMIF('Input E2'!$E$3:$ND$3,Rekenblad!AD$3,'Input E2'!$E16:$ND16)","v":0},{"$f":"SUMIF('Input E2'!$E$3:$ND$3,Rekenblad!AE$3,'Input E2'!$E16:$ND16)","v":0},{"$f":"SUMIF('Input E2'!$E$3:$ND$3,Rekenblad!AF$3,'Input E2'!$E16:$ND16)","v":0},{"$f":"SUMIF('Input E2'!$E$3:$ND$3,Rekenblad!AG$3,'Input E2'!$E16:$ND16)","v":0},{"$f":"SUMIF('Input E2'!$E$3:$ND$3,Rekenblad!AH$3,'Input E2'!$E16:$ND16)","v":0},{"$f":"SUMIF('Input E2'!$E$3:$ND$3,Rekenblad!AI$3,'Input E2'!$E16:$ND16)","v":0},{"$f":"SUMIF('Input E2'!$E$3:$ND$3,Rekenblad!AJ$3,'Input E2'!$E16:$ND16)","v":0},{"$f":"SUMIF('Input E2'!$E$3:$ND$3,Rekenblad!AK$3,'Input E2'!$E16:$ND16)","v":0},{"$f":"SUMIF('Input E2'!$E$3:$ND$3,Rekenblad!AL$3,'Input E2'!$E16:$ND16)","v":0},{"$f":"SUMIF('Input E2'!$E$3:$ND$3,Rekenblad!AM$3,'Input E2'!$E16:$ND16)","v":0},{"$f":"SUMIF('Input E2'!$E$3:$ND$3,Rekenblad!AN$3,'Input E2'!$E16:$ND16)","v":0},{"$f":"SUMIF('Input E2'!$E$3:$ND$3,Rekenblad!AO$3,'Input E2'!$E16:$ND16)","v":0},{"$f":"SUMIF('Input E2'!$E$3:$ND$3,Rekenblad!AP$3,'Input E2'!$E16:$ND16)","v":0},{"$f":"SUMIF('Input E2'!$E$3:$ND$3,Rekenblad!AQ$3,'Input E2'!$E16:$ND16)","v":0},{"$f":"SUMIF('Input E2'!$E$3:$ND$3,Rekenblad!AR$3,'Input E2'!$E16:$ND16)","v":0},{"$f":"SUMIF('Input E2'!$E$3:$ND$3,Rekenblad!AS$3,'Input E2'!$E16:$ND16)","v":0},{"$f":"SUMIF('Input E2'!$E$3:$ND$3,Rekenblad!AT$3,'Input E2'!$E16:$ND16)","v":0},{"$f":"SUMIF('Input E2'!$E$3:$ND$3,Rekenblad!AU$3,'Input E2'!$E16:$ND16)","v":0},{"$f":"SUMIF('Input E2'!$E$3:$ND$3,Rekenblad!AV$3,'Input E2'!$E16:$ND16)","v":0},{"$f":"SUMIF('Input E2'!$E$3:$ND$3,Rekenblad!AW$3,'Input E2'!$E16:$ND16)","v":0},{"$f":"SUMIF('Input E2'!$E$3:$ND$3,Rekenblad!AX$3,'Input E2'!$E16:$ND16)","v":0},{"$f":"SUMIF('Input E2'!$E$3:$ND$3,Rekenblad!AY$3,'Input E2'!$E16:$ND16)","v":0},{"$f":"SUMIF('Input E2'!$E$3:$ND$3,Rekenblad!AZ$3,'Input E2'!$E16:$ND16)","v":0},{"$f":"SUMIF('Input E2'!$E$3:$ND$3,Rekenblad!BA$3,'Input E2'!$E16:$ND16)","v":0},{"$f":"SUMIF('Input E2'!$E$3:$ND$3,Rekenblad!BB$3,'Input E2'!$E16:$ND16)","v":0},{"$f":"SUMIF('Input E2'!$E$3:$ND$3,Rekenblad!BC$3,'Input E2'!$E16:$ND16)","v":0},{"$f":"SUMIF('Input E2'!$E$3:$ND$3,Rekenblad!BD$3,'Input E2'!$E16:$ND16)","v":0},{"$f":"SUMIF('Input E2'!$E$3:$ND$3,Rekenblad!BE$3,'Input E2'!$E16:$ND16)","v":0},null,null,null,null,{"$f":"SUMIF('Input E2'!$E$2:$ND$2,Rekenblad!BJ$3,'Input E2'!$E16:$ND16)","v":0},{"$f":"SUMIF('Input E2'!$E$2:$ND$2,Rekenblad!BK$3,'Input E2'!$E16:$ND16)","v":0},{"$f":"SUMIF('Input E2'!$E$2:$ND$2,Rekenblad!BL$3,'Input E2'!$E16:$ND16)","v":0},{"$f":"SUMIF('Input E2'!$E$2:$ND$2,Rekenblad!BM$3,'Input E2'!$E16:$ND16)","v":0},{"$f":"SUMIF('Input E2'!$E$2:$ND$2,Rekenblad!BN$3,'Input E2'!$E16:$ND16)","v":0},{"$f":"SUMIF('Input E2'!$E$2:$ND$2,Rekenblad!BO$3,'Input E2'!$E16:$ND16)","v":0},{"$f":"SUMIF('Input E2'!$E$2:$ND$2,Rekenblad!BP$3,'Input E2'!$E16:$ND16)","v":0},{"$f":"SUMIF('Input E2'!$E$2:$ND$2,Rekenblad!BQ$3,'Input E2'!$E16:$ND16)","v":0},{"$f":"SUMIF('Input E2'!$E$2:$ND$2,Rekenblad!BR$3,'Input E2'!$E16:$ND16)","v":0},{"$f":"SUMIF('Input E2'!$E$2:$ND$2,Rekenblad!BS$3,'Input E2'!$E16:$ND16)","v":0},{"$f":"SUMIF('Input E2'!$E$2:$ND$2,Rekenblad!BT$3,'Input E2'!$E16:$ND16)","v":0},{"$f":"SUMIF('Input E2'!$E$2:$ND$2,Rekenblad!BU$3,'Input E2'!$E16:$ND16)","v":0},null,{"$f":"SUM(BJ10:BU10)","v":0}]
[null,null,null,{"$f":"'Input E2'!C17","v":"Injury (E.g.p.) Met verzuim"},{"$f":"SUMIF('Input E2'!$E$3:$ND$3,Rekenblad!E$3,'Input E2'!$E17:$ND17)","v":0},{"$f":"SUMIF('Input E2'!$E$3:$ND$3,Rekenblad!F$3,'Input E2'!$E17:$ND17)","v":0},{"$f":"SUMIF('Input E2'!$E$3:$ND$3,Rekenblad!G$3,'Input E2'!$E17:$ND17)","v":0},{"$f":"SUMIF('Input E2'!$E$3:$ND$3,Rekenblad!H$3,'Input E2'!$E17:$ND17)","v":0},{"$f":"SUMIF('Input E2'!$E$3:$ND$3,Rekenblad!I$3,'Input E2'!$E17:$ND17)","v":0},{"$f":"SUMIF('Input E2'!$E$3:$ND$3,Rekenblad!J$3,'Input E2'!$E17:$ND17)","v":0},{"$f":"SUMIF('Input E2'!$E$3:$ND$3,Rekenblad!K$3,'Input E2'!$E17:$ND17)","v":0},{"$f":"SUMIF('Input E2'!$E$3:$ND$3,Rekenblad!L$3,'Input E2'!$E17:$ND17)","v":0},{"$f":"SUMIF('Input E2'!$E$3:$ND$3,Rekenblad!M$3,'Input E2'!$E17:$ND17)","v":0},{"$f":"SUMIF('Input E2'!$E$3:$ND$3,Rekenblad!N$3,'Input E2'!$E17:$ND17)","v":0},{"$f":"SUMIF('Input E2'!$E$3:$ND$3,Rekenblad!O$3,'Input E2'!$E17:$ND17)","v":0},{"$f":"SUMIF('Input E2'!$E$3:$ND$3,Rekenblad!P$3,'Input E2'!$E17:$ND17)","v":0},{"$f":"SUMIF('Input E2'!$E$3:$ND$3,Rekenblad!Q$3,'Input E2'!$E17:$ND17)","v":0},{"$f":"SUMIF('Input E2'!$E$3:$ND$3,Rekenblad!R$3,'Input E2'!$E17:$ND17)","v":0},{"$f":"SUMIF('Input E2'!$E$3:$ND$3,Rekenblad!S$3,'Input E2'!$E17:$ND17)","v":0},{"$f":"SUMIF('Input E2'!$E$3:$ND$3,Rekenblad!T$3,'Input E2'!$E17:$ND17)","v":0},{"$f":"SUMIF('Input E2'!$E$3:$ND$3,Rekenblad!U$3,'Input E2'!$E17:$ND17)","v":0},{"$f":"SUMIF('Input E2'!$E$3:$ND$3,Rekenblad!V$3,'Input E2'!$E17:$ND17)","v":0},{"$f":"SUMIF('Input E2'!$E$3:$ND$3,Rekenblad!W$3,'Input E2'!$E17:$ND17)","v":0},{"$f":"SUMIF('Input E2'!$E$3:$ND$3,Rekenblad!X$3,'Input E2'!$E17:$ND17)","v":0},{"$f":"SUMIF('Input E2'!$E$3:$ND$3,Rekenblad!Y$3,'Input E2'!$E17:$ND17)","v":0},{"$f":"SUMIF('Input E2'!$E$3:$ND$3,Rekenblad!Z$3,'Input E2'!$E17:$ND17)","v":0},{"$f":"SUMIF('Input E2'!$E$3:$ND$3,Rekenblad!AA$3,'Input E2'!$E17:$ND17)","v":0},{"$f":"SUMIF('Input E2'!$E$3:$ND$3,Rekenblad!AB$3,'Input E2'!$E17:$ND17)","v":0},{"$f":"SUMIF('Input E2'!$E$3:$ND$3,Rekenblad!AC$3,'Input E2'!$E17:$ND17)","v":0},{"$f":"SUMIF('Input E2'!$E$3:$ND$3,Rekenblad!AD$3,'Input E2'!$E17:$ND17)","v":0},{"$f":"SUMIF('Input E2'!$E$3:$ND$3,Rekenblad!AE$3,'Input E2'!$E17:$ND17)","v":0},{"$f":"SUMIF('Input E2'!$E$3:$ND$3,Rekenblad!AF$3,'Input E2'!$E17:$ND17)","v":0},{"$f":"SUMIF('Input E2'!$E$3:$ND$3,Rekenblad!AG$3,'Input E2'!$E17:$ND17)","v":0},{"$f":"SUMIF('Input E2'!$E$3:$ND$3,Rekenblad!AH$3,'Input E2'!$E17:$ND17)","v":0},{"$f":"SUMIF('Input E2'!$E$3:$ND$3,Rekenblad!AI$3,'Input E2'!$E17:$ND17)","v":0},{"$f":"SUMIF('Input E2'!$E$3:$ND$3,Rekenblad!AJ$3,'Input E2'!$E17:$ND17)","v":0},{"$f":"SUMIF('Input E2'!$E$3:$ND$3,Rekenblad!AK$3,'Input E2'!$E17:$ND17)","v":1},{"$f":"SUMIF('Input E2'!$E$3:$ND$3,Rekenblad!AL$3,'Input E2'!$E17:$ND17)","v":0},{"$f":"SUMIF('Input E2'!$E$3:$ND$3,Rekenblad!AM$3,'Input E2'!$E17:$ND17)","v":0},{"$f":"SUMIF('Input E2'!$E$3:$ND$3,Rekenblad!AN$3,'Input E2'!$E17:$ND17)","v":0},{"$f":"SUMIF('Input E2'!$E$3:$ND$3,Rekenblad!AO$3,'Input E2'!$E17:$ND17)","v":0},{"$f":"SUMIF('Input E2'!$E$3:$ND$3,Rekenblad!AP$3,'Input E2'!$E17:$ND17)","v":0},{"$f":"SUMIF('Input E2'!$E$3:$ND$3,Rekenblad!AQ$3,'Input E2'!$E17:$ND17)","v":0},{"$f":"SUMIF('Input E2'!$E$3:$ND$3,Rekenblad!AR$3,'Input E2'!$E17:$ND17)","v":0},{"$f":"SUMIF('Input E2'!$E$3:$ND$3,Rekenblad!AS$3,'Input E2'!$E17:$ND17)","v":0},{"$f":"SUMIF('Input E2'!$E$3:$ND$3,Rekenblad!AT$3,'Input E2'!$E17:$ND17)","v":0},{"$f":"SUMIF('Input E2'!$E$3:$ND$3,Rekenblad!AU$3,'Input E2'!$E17:$ND17)","v":0},{"$f":"SUMIF('Input E2'!$E$3:$ND$3,Rekenblad!AV$3,'Input E2'!$E17:$ND17)","v":0},{"$f":"SUMIF('Input E2'!$E$3:$ND$3,Rekenblad!AW$3,'Input E2'!$E17:$ND17)","v":0},{"$f":"SUMIF('Input E2'!$E$3:$ND$3,Rekenblad!AX$3,'Input E2'!$E17:$ND17)","v":0},{"$f":"SUMIF('Input E2'!$E$3:$ND$3,Rekenblad!AY$3,'Input E2'!$E17:$ND17)","v":0},{"$f":"SUMIF('Input E2'!$E$3:$ND$3,Rekenblad!AZ$3,'Input E2'!$E17:$ND17)","v":0},{"$f":"SUMIF('Input E2'!$E$3:$ND$3,Rekenblad!BA$3,'Input E2'!$E17:$ND17)","v":0},{"$f":"SUMIF('Input E2'!$E$3:$ND$3,Rekenblad!BB$3,'Input E2'!$E17:$ND17)","v":0},{"$f":"SUMIF('Input E2'!$E$3:$ND$3,Rekenblad!BC$3,'Input E2'!$E17:$ND17)","v":0},{"$f":"SUMIF('Input E2'!$E$3:$ND$3,Rekenblad!BD$3,'Input E2'!$E17:$ND17)","v":0},{"$f":"SUMIF('Input E2'!$E$3:$ND$3,Rekenblad!BE$3,'Input E2'!$E17:$ND17)","v":0},null,null,null,null,{"$f":"SUMIF('Input E2'!$E$2:$ND$2,Rekenblad!BJ$3,'Input E2'!$E17:$ND17)","v":0},{"$f":"SUMIF('Input E2'!$E$2:$ND$2,Rekenblad!BK$3,'Input E2'!$E17:$ND17)","v":0},{"$f":"SUMIF('Input E2'!$E$2:$ND$2,Rekenblad!BL$3,'Input E2'!$E17:$ND17)","v":0},{"$f":"SUMIF('Input E2'!$E$2:$ND$2,Rekenblad!BM$3,'Input E2'!$E17:$ND17)","v":0},{"$f":"SUMIF('Input E2'!$E$2:$ND$2,Rekenblad!BN$3,'Input E2'!$E17:$ND17)","v":0},{"$f":"SUMIF('Input E2'!$E$2:$ND$2,Rekenblad!BO$3,'Input E2'!$E17:$ND17)","v":0},{"$f":"SUMIF('Input E2'!$E$2:$ND$2,Rekenblad!BP$3,'Input E2'!$E17:$ND17)","v":0},{"$f":"SUMIF('Input E2'!$E$2:$ND$2,Rekenblad!BQ$3,'Input E2'!$E17:$ND17)","v":1},{"$f":"SUMIF('Input E2'!$E$2:$ND$2,Rekenblad!BR$3,'Input E2'!$E17:$ND17)","v":0},{"$f":"SUMIF('Input E2'!$E$2:$ND$2,Rekenblad!BS$3,'Input E2'!$E17:$ND17)","v":0},{"$f":"SUMIF('Input E2'!$E$2:$ND$2,Rekenblad!BT$3,'Input E2'!$E17:$ND17)","v":0},{"$f":"SUMIF('Input E2'!$E$2:$ND$2,Rekenblad!BU$3,'Input E2'!$E17:$ND17)","v":0},null,1]
[null,null,null,{"$f":"'Input E2'!C18","v":"Illness direct blue collar"},{"$f":"SUMIF('Input E2'!$E$3:$ND$3,Rekenblad!E$3,'Input E2'!$E18:$ND18)","v":0},{"$f":"SUMIF('Input E2'!$E$3:$ND$3,Rekenblad!F$3,'Input E2'!$E18:$ND18)","v":0},{"$f":"SUMIF('Input E2'!$E$3:$ND$3,Rekenblad!G$3,'Input E2'!$E18:$ND18)","v":0},{"$f":"SUMIF('Input E2'!$E$3:$ND$3,Rekenblad!H$3,'Input E2'!$E18:$ND18)","v":0},{"$f":"SUMIF('Input E2'!$E$3:$ND$3,Rekenblad!I$3,'Input E2'!$E18:$ND18)","v":0},{"$f":"SUMIF('Input E2'!$E$3:$ND$3,Rekenblad!J$3,'Input E2'!$E18:$ND18)","v":0},{"$f":"SUMIF('Input E2'!$E$3:$ND$3,Rekenblad!K$3,'Input E2'!$E18:$ND18)","v":0},{"$f":"SUMIF('Input E2'!$E$3:$ND$3,Rekenblad!L$3,'Input E2'!$E18:$ND18)","v":0},{"$f":"SUMIF('Input E2'!$E$3:$ND$3,Rekenblad!M$3,'Input E2'!$E18:$ND18)","v":0},{"$f":"SUMIF('Input E2'!$E$3:$ND$3,Rekenblad!N$3,'Input E2'!$E18:$ND18)","v":0},{"$f":"SUMIF('Input E2'!$E$3:$ND$3,Rekenblad!O$3,'Input E2'!$E18:$ND18)","v":0},{"$f":"SUMIF('Input E2'!$E$3:$ND$3,Rekenblad!P$3,'Input E2'!$E18:$ND18)","v":0},{"$f":"SUMIF('Input E2'!$E$3:$ND$3,Rekenblad!Q$3,'Input E2'!$E18:$ND18)","v":0},{"$f":"SUMIF('Input E2'!$E$3:$ND$3,Rekenblad!R$3,'Input E2'!$E18:$ND18)","v":0},{"$f":"SUMIF('Input E2'!$E$3:$ND$3,Rekenblad!S$3,'Input E2'!$E18:$ND18)","v":0},{"$f":"SUMIF('Input E2'!$E$3:$ND$3,Rekenblad!T$3,'Input E2'!$E18:$ND18)","v":0},{"$f":"SUMIF('Input E2'!$E$3:$ND$3,Rekenblad!U$3,'Input E2'!$E18:$ND18)","v":0},{"$f":"SUMIF('Input E2'!$E$3:$ND$3,Rekenblad!V$3,'Input E2'!$E18:$ND18)","v":0},{"$f":"SUMIF('Input E2'!$E$3:$ND$3,Rekenblad!W$3,'Input E2'!$E18:$ND18)","v":0},{"$f":"SUMIF('Input E2'!$E$3:$ND$3,Rekenblad!X$3,'Input E2'!$E18:$ND18)","v":9.5},{"$f":"SUMIF('Input E2'!$E$3:$ND$3,Rekenblad!Y$3,'Input E2'!$E18:$ND18)","v":3},{"$f":"SUMIF('Input E2'!$E$3:$ND$3,Rekenblad!Z$3,'Input E2'!$E18:$ND18)","v":2},{"$f":"SUMIF('Input E2'!$E$3:$ND$3,Rekenblad!AA$3,'Input E2'!$E18:$ND18)","v":0},{"$f":"SUMIF('Input E2'!$E$3:$ND$3,Rekenblad!AB$3,'Input E2'!$E18:$ND18)","v":3},{"$f":"SUMIF('Input E2'!$E$3:$ND$3,Rekenblad!AC$3,'Input E2'!$E18:$ND18)","v":5},{"$f":"SUMIF('Input E2'!$E$3:$ND$3,Rekenblad!AD$3,'Input E2'!$E18:$ND18)","v":12.5},{"$f":"SUMIF('Input E2'!$E$3:$ND$3,Rekenblad!AE$3,'Input E2'!$E18:$ND18)","v":13},{"$f":"SUMIF('Input E2'!$E$3:$ND$3,Rekenblad!AF$3,'Input E2'!$E18:$ND18)","v":11},{"$f":"SUMIF('Input E2'!$E$3:$ND$3,Rekenblad!AG$3,'Input E2'!$E18:$ND18)","v":5},{"$f":"SUMIF('Input E2'!$E$3:$ND$3,Rekenblad!AH$3,'Input E2'!$E18:$ND18)","v":0},{"$f":"SUMIF('Input E2'!$E$3:$ND$3,Rekenblad!AI$3,'Input E2'!$E18:$ND18)","v":0},{"$f":"SUMIF('Input E2'!$E$3:$ND$3,Rekenblad!AJ$3,'Input E2'!$E18:$ND18)","v":0},{"$f":"SUMIF('Input E2'!$E$3:$ND$3,Rekenblad!AK$3,'Input E2'!$E18:$ND18)","v":15.25},{"$f":"SUMIF('Input E2'!$E$3:$ND$3,Rekenblad!AL$3,'Input E2'!$E18:$ND18)","v":10},{"$f":"SUMIF('Input E2'!$E$3:$ND$3,Rekenblad!AM$3,'Input E2'!$E18:$ND18)","v":11},{"$f":"SUMIF('Input E2'!$E$3:$ND$3,Rekenblad!AN$3,'Input E2'!$E18:$ND18)","v":22},{"$f":"SUMIF('Input E2'!$E$3:$ND$3,Rekenblad!AO$3,'Input E2'!$E18:$ND18)","v":17},{"$f":"SUMIF('Input E2'!$E$3:$ND$3,Rekenblad!AP$3,'Input E2'!$E18:$ND18)","v":16},{"$f":"SUMIF('Input E2'!$E$3:$ND$3,Rekenblad!AQ$3,'Input E2'!$E18:$ND18)","v":16},{"$f":"SUMIF('Input E2'!$E$3:$ND$3,Rekenblad!AR$3,'Input E2'!$E18:$ND18)","v":12},{"$f":"SUMIF('Input E2'!$E$3:$ND$3,Rekenblad!AS$3,'Input E2'!$E18:$ND18)","v":0},{"$f":"SUMIF('Input E2'!$E$3:$ND$3,Rekenblad!AT$3,'Input E2'!$E18:$ND18)","v":0},{"$f":"SUMIF('Input E2'!$E$3:$ND$3,Rekenblad!AU$3,'Input E2'!$E18:$ND18)","v":0},{"$f":"SUMIF('Input E2'!$E$3:$ND$3,Rekenblad!AV$3,'Input E2'!$E18:$ND18)","v":0},{"$f":"SUMIF('Input E2'!$E$3:$ND$3,Rekenblad!AW$3,'Input E2'!$E18:$ND18)","v":0},{"$f":"SUMIF('Input E2'!$E$3:$ND$3,Rekenblad!AX$3,'Input E2'!$E18:$ND18)","v":0},{"$f":"SUMIF('Input E2'!$E$3:$ND$3,Rekenblad!AY$3,'Input E2'!$E18:$ND18)","v":0},{"$f":"SUMIF('Input E2'!$E$3:$ND$3,Rekenblad!AZ$3,'Input E2'!$E18:$ND18)","v":0},{"$f":"SUMIF('Input E2'!$E$3:$ND$3,Rekenblad!BA$3,'Input E2'!$E18:$ND18)","v":0},{"$f":"SUMIF('Input E2'!$E$3:$ND$3,Rekenblad!BB$3,'Input E2'!$E18:$ND18)","v":0},{"$f":"SUMIF('Input E2'!$E$3:$ND$3,Rekenblad!BC$3,'Input E2'!$E18:$ND18)","v":0},{"$f":"SUMIF('Input E2'!$E$3:$ND$3,Rekenblad!BD$3,'Input E2'!$E18:$ND18)","v":0},{"$f":"SUMIF('Input E2'!$E$3:$ND$3,Rekenblad!BE$3,'Input E2'!$E18:$ND18)","v":0},null,null,null,null,{"$f":"SUMIF('Input E2'!$E$2:$ND$2,Rekenblad!BJ$3,'Input E2'!$E18:$ND18)","v":0},{"$f":"SUMIF('Input E2'!$E$2:$ND$2,Rekenblad!BK$3,'Input E2'!$E18:$ND18)","v":0},{"$f":"SUMIF('Input E2'!$E$2:$ND$2,Rekenblad!BL$3,'Input E2'!$E18:$ND18)","v":0},{"$f":"SUMIF('Input E2'!$E$2:$ND$2,Rekenblad!BM$3,'Input E2'!$E18:$ND18)","v":0},{"$f":"SUMIF('Input E2'!$E$2:$ND$2,Rekenblad!BN$3,'Input E2'!$E18:$ND18)","v":13.5},{"$f":"SUMIF('Input E2'!$E$2:$ND$2,Rekenblad!BO$3,'Input E2'!$E18:$ND18)","v":21.5},{"$f":"SUMIF('Input E2'!$E$2:$ND$2,Rekenblad!BP$3,'Input E2'!$E18:$ND18)","v":29},{"$f":"SUMIF('Input E2'!$E$2:$ND$2,Rekenblad!BQ$3,'Input E2'!$E18:$ND18)","v":36.25},{"$f":"SUMIF('Input E2'!$E$2:$ND$2,Rekenblad!BR$3,'Input E2'!$E18:$ND18)","v":71},{"$f":"SUMIF('Input E2'!$E$2:$ND$2,Rekenblad!BS$3,'Input E2'!$E18:$ND18)","v":12},{"$f":"SUMIF('Input E2'!$E$2:$ND$2,Rekenblad!BT$3,'Input E2'!$E18:$ND18)","v":0},{"$f":"SUMIF('Input E2'!$E$2:$ND$2,Rekenblad!BU$3,'Input E2'!$E18:$ND18)","v":0},null,183.25]
[null,null,null,"Percentage Illness per week",{"$f":"IFERROR(SUMIF('Input E2'!$E$3:$ND$3,Rekenblad!E$3,'Input E2'!$E19:$ND19)/E2,0%)","v":0},{"$f":"IFERROR(SUMIF('Input E2'!$E$3:$ND$3,Rekenblad!F$3,'Input E2'!$E19:$ND19)/F2,\"0,0%\")","v":"0,0%"},{"$f":"IFERROR(SUMIF('Input E2'!$E$3:$ND$3,Rekenblad!G$3,'Input E2'!$E19:$ND19)/G2,\"0,0%\")","v":"0,0%"},{"$f":"IFERROR(SUMIF('Input E2'!$E$3:$ND$3,Rekenblad!H$3,'Input E2'!$E19:$ND19)/H2,\"0,0%\")","v":"0,0%"},{"$f":"IFERROR(SUMIF('Input E2'!$E$3:$ND$3,Rekenblad!I$3,'Input E2'!$E19:$ND19)/I2,\"0,0%\")","v":"0,0%"},{"$f":"IFERROR(SUMIF('Input E2'!$E$3:$ND$3,Rekenblad!J$3,'Input E2'!$E19:$ND19)/J2,\"0,0%\")","v":"0,0%"},{"$f":"IFERROR(SUMIF('Input E2'!$E$3:$ND$3,Rekenblad!K$3,'Input E2'!$E19:$ND19)/K2,\"0,0%\")","v":"0,0%"},{"$f":"IFERROR(SUMIF('Input E2'!$E$3:$ND$3,Rekenblad!L$3,'Input E2'!$E19:$ND19)/L2,\"0,0%\")","v":"0,0%"},{"$f":"IFERROR(SUMIF('Input E2'!$E$3:$ND$3,Rekenblad!M$3,'Input E2'!$E19:$ND19)/M2,\"0,0%\")","v":"0,0%"},{"$f":"IFERROR(SUMIF('Input E2'!$E$3:$ND$3,Rekenblad!N$3,'Input E2'!$E19:$ND19)/N2,\"0,0%\")","v":"0,0%"},{"$f":"IFERROR(SUMIF('Input E2'!$E$3:$ND$3,Rekenblad!O$3,'Input E2'!$E19:$ND19)/O2,\"0,0%\")","v":"0,0%"},{"$f":"IFERROR(SUMIF('Input E2'!$E$3:$ND$3,Rekenblad!P$3,'Input E2'!$E19:$ND19)/P2,\"0,0%\")","v":"0,0%"},{"$f":"IFERROR(SUMIF('Input E2'!$E$3:$ND$3,Rekenblad!Q$3,'Input E2'!$E19:$ND19)/Q2,\"0,0%\")","v":"0,0%"},{"$f":"IFERROR(SUMIF('Input E2'!$E$3:$ND$3,Rekenblad!R$3,'Input E2'!$E19:$ND19)/R2,\"0,0%\")","v":"0,0%"},{"$f":"IFERROR(SUMIF('Input E2'!$E$3:$ND$3,Rekenblad!S$3,'Input E2'!$E19:$ND19)/S2,\"0,0%\")","v":"0,0%"},{"$f":"IFERROR(SUMIF('Input E2'!$E$3:$ND$3,Rekenblad!T$3,'Input E2'!$E19:$ND19)/T2,\"0,0%\")","v":"0,0%"},{"$f":"IFERROR(SUMIF('Input E2'!$E$3:$ND$3,Rekenblad!U$3,'Input E2'!$E19:$ND19)/U2,\"0,0%\")","v":"0,0%"},{"$f":"IFERROR(SUMIF('Input E2'!$E$3:$ND$3,Rekenblad!V$3,'Input E2'!$E19:$ND19)/V2,\"0,0%\")","v":"0,0%"},{"$f":"IFERROR(SUMIF('Input E2'!$E$3:$ND$3,Rekenblad!W$3,'Input E2'!$E19:$ND19)/W2,\"0,0%\")","v":"0,0%"},{"$f":"IFERROR(SUMIF('Input E2'!$E$3:$ND$3,Rekenblad!X$3,'Input E2'!$E19:$ND19)/X2,\"0,0%\")","v":0.10555555555555554},{"$f":"IFERROR(SUMIF('Input E2'!$E$3:$ND$3,Rekenblad!Y$3,'Input E2'!$E19:$ND19)/Y2,\"0,0%\")","v":3.3333333333333333E-2},{"$f":"IFERROR(SUMIF('Input E2'!$E$3:$ND$3,Rekenblad!Z$3,'Input E2'!$E19:$ND19)/Z2,\"0,0%\")","v":2.222222222222222E-2},{"$f":"IFERROR(SUMIF('Input E2'!$E$3:$ND$3,Rekenblad!AA$3,'Input E2'!$E19:$ND19)/AA2,\"0,0%\")","v":0},{"$f":"IFERROR(SUMIF('Input E2'!$E$3:$ND$3,Rekenblad!AB$3,'Input E2'!$E19:$ND19)/AB2,\"0,0%\")","v":2.7777777777777776E-2},{"$f":"IFERROR(SUMIF('Input E2'!$E$3:$ND$3,Rekenblad!AC$3,'Input E2'!$E19:$ND19)/AC2,\"0,0%\")","v":5.5555555555555559E-2},{"$f":"IFERROR(SUMIF('Input E2'!$E$3:$ND$3,Rekenblad!AD$3,'Input E2'!$E19:$ND19)/AD2,\"0,0%\")","v":0.1388888888888889},{"$f":"IFERROR(SUMIF('Input E2'!$E$3:$ND$3,Rekenblad!AE$3,'Input E2'!$E19:$ND19)/AE2,\"0,0%\")","v":0.12037037037037039},{"$f":"IFERROR(SUMIF('Input E2'!$E$3:$ND$3,Rekenblad!AF$3,'Input E2'!$E19:$ND19)/AF2,\"0,0%\")","v":0.1222222222222222},{"$f":"IFERROR(SUMIF('Input E2'!$E$3:$ND$3,Rekenblad!AG$3,'Input E2'!$E19:$ND19)/AG2,\"0,0%\")","v":5.5555555555555559E-2},{"$f":"IFERROR(SUMIF('Input E2'!$E$3:$ND$3,Rekenblad!AH$3,'Input E2'!$E19:$ND19)/AH2,\"0,0%\")","v":"0,0%"},{"$f":"IFERROR(SUMIF('Input E2'!$E$3:$ND$3,Rekenblad!AI$3,'Input E2'!$E19:$ND19)/AI2,\"0,0%\")","v":"0,0%"},{"$f":"IFERROR(SUMIF('Input E2'!$E$3:$ND$3,Rekenblad!AJ$3,'Input E2'!$E19:$ND19)/AJ2,\"0,0%\")","v":"0,0%"},{"$f":"IFERROR(SUMIF('Input E2'!$E$3:$ND$3,Rekenblad!AK$3,'Input E2'!$E19:$ND19)/AK2,\"0,0%\")","v":0.15046296296296294},{"$f":"IFERROR(SUMIF('Input E2'!$E$3:$ND$3,Rekenblad!AL$3,'Input E2'!$E19:$ND19)/AL2,\"0,0%\")","v":0.11111111111111112},{"$f":"IFERROR(SUMIF('Input E2'!$E$3:$ND$3,Rekenblad!AM$3,'Input E2'!$E19:$ND19)/AM2,\"0,0%\")","v":0.1222222222222222},{"$f":"IFERROR(SUMIF('Input E2'!$E$3:$ND$3,Rekenblad!AN$3,'Input E2'!$E19:$ND19)/AN2,\"0,0%\")","v":0.20370370370370372},{"$f":"IFERROR(SUMIF('Input E2'!$E$3:$ND$3,Rekenblad!AO$3,'Input E2'!$E19:$ND19)/AO2,\"0,0%\")","v":0.18888888888888886},{"$f":"IFERROR(SUMIF('Input E2'!$E$3:$ND$3,Rekenblad!AP$3,'Input E2'!$E19:$ND19)/AP2,\"0,0%\")","v":0.17777777777777776},{"$f":"IFERROR(SUMIF('Input E2'!$E$3:$ND$3,Rekenblad!AQ$3,'Input E2'!$E19:$ND19)/AQ2,\"0,0%\")","v":0.14814814814814814},{"$f":"IFERROR(SUMIF('Input E2'!$E$3:$ND$3,Rekenblad!AR$3,'Input E2'!$E19:$ND19)/AR2,\"0,0%\")","v":0.13333333333333333},{"$f":"IFERROR(SUMIF('Input E2'!$E$3:$ND$3,Rekenblad!AS$3,'Input E2'!$E19:$ND19)/AS2,\"0,0%\")","v":"0,0%"},{"$f":"IFERROR(SUMIF('Input E2'!$E$3:$ND$3,Rekenblad!AT$3,'Input E2'!$E19:$ND19)/AT2,\"0,0%\")","v":"0,0%"},{"$f":"IFERROR(SUMIF('Input E2'!$E$3:$ND$3,Rekenblad!AU$3,'Input E2'!$E19:$ND19)/AU2,\"0,0%\")","v":"0,0%"},{"$f":"IFERROR(SUMIF('Input E2'!$E$3:$ND$3,Rekenblad!AV$3,'Input E2'!$E19:$ND19)/AV2,\"0,0%\")","v":"0,0%"},{"$f":"IFERROR(SUMIF('Input E2'!$E$3:$ND$3,Rekenblad!AW$3,'Input E2'!$E19:$ND19)/AW2,\"0,0%\")","v":"0,0%"},{"$f":"IFERROR(SUMIF('Input E2'!$E$3:$ND$3,Rekenblad!AX$3,'Input E2'!$E19:$ND19)/AX2,\"0,0%\")","v":"0,0%"},{"$f":"IFERROR(SUMIF('Input E2'!$E$3:$ND$3,Rekenblad!AY$3,'Input E2'!$E19:$ND19)/AY2,\"0,0%\")","v":"0,0%"},{"$f":"IFERROR(SUMIF('Input E2'!$E$3:$ND$3,Rekenblad!AZ$3,'Input E2'!$E19:$ND19)/AZ2,\"0,0%\")","v":"0,0%"},{"$f":"IFERROR(SUMIF('Input E2'!$E$3:$ND$3,Rekenblad!BA$3,'Input E2'!$E19:$ND19)/BA2,\"0,0%\")","v":"0,0%"},{"$f":"IFERROR(SUMIF('Input E2'!$E$3:$ND$3,Rekenblad!BB$3,'Input E2'!$E19:$ND19)/BB2,\"0,0%\")","v":"0,0%"},{"$f":"IFERROR(SUMIF('Input E2'!$E$3:$ND$3,Rekenblad!BC$3,'Input E2'!$E19:$ND19)/BC2,\"0,0%\")","v":"0,0%"},{"$f":"IFERROR(SUMIF('Input E2'!$E$3:$ND$3,Rekenblad!BD$3,'Input E2'!$E19:$ND19)/BD2,\"0,0%\")","v":"0,0%"},{"$f":"IFERROR(SUMIF('Input E2'!$E$3:$ND$3,Rekenblad!BE$3,'Input E2'!$E19:$ND19)/BE2,\"0,0%\")","v":"0,0%"},null,null,null,null,{"$f":"IFERROR(BJ12/BJ4,0%)","v":0},{"$f":"IFERROR(BK12/BK4,0%)","v":0},0,0,5.3571428571428568E-2,5.4292929292929296E-2,0.10069444444444445,0.12586805555555555,0.17929292929292928,0.13333333333333333,0,0,null,{"$f":"SUM(BJ13:BU13)/BW1","v":6.4705312049062047E-2}]
[null,null,null,{"$f":"'Input E2'!C20","v":"Individual small improvements"},{"$f":"SUMIF('Input E2'!$E$3:$ND$3,Rekenblad!E$3,'Input E2'!$E20:$ND20)","v":0},{"$f":"SUMIF('Input E2'!$E$3:$ND$3,Rekenblad!F$3,'Input E2'!$E20:$ND20)","v":0},{"$f":"SUMIF('Input E2'!$E$3:$ND$3,Rekenblad!G$3,'Input E2'!$E20:$ND20)","v":0},{"$f":"SUMIF('Input E2'!$E$3:$ND$3,Rekenblad!H$3,'Input E2'!$E20:$ND20)","v":0},{"$f":"SUMIF('Input E2'!$E$3:$ND$3,Rekenblad!I$3,'Input E2'!$E20:$ND20)","v":0},{"$f":"SUMIF('Input E2'!$E$3:$ND$3,Rekenblad!J$3,'Input E2'!$E20:$ND20)","v":0},{"$f":"SUMIF('Input E2'!$E$3:$ND$3,Rekenblad!K$3,'Input E2'!$E20:$ND20)","v":0},{"$f":"SUMIF('Input E2'!$E$3:$ND$3,Rekenblad!L$3,'Input E2'!$E20:$ND20)","v":0},{"$f":"SUMIF('Input E2'!$E$3:$ND$3,Rekenblad!M$3,'Input E2'!$E20:$ND20)","v":0},{"$f":"SUMIF('Input E2'!$E$3:$ND$3,Rekenblad!N$3,'Input E2'!$E20:$ND20)","v":0},{"$f":"SUMIF('Input E2'!$E$3:$ND$3,Rekenblad!O$3,'Input E2'!$E20:$ND20)","v":0},{"$f":"SUMIF('Input E2'!$E$3:$ND$3,Rekenblad!P$3,'Input E2'!$E20:$ND20)","v":0},{"$f":"SUMIF('Input E2'!$E$3:$ND$3,Rekenblad!Q$3,'Input E2'!$E20:$ND20)","v":0},{"$f":"SUMIF('Input E2'!$E$3:$ND$3,Rekenblad!R$3,'Input E2'!$E20:$ND20)","v":0},{"$f":"SUMIF('Input E2'!$E$3:$ND$3,Rekenblad!S$3,'Input E2'!$E20:$ND20)","v":0},{"$f":"SUMIF('Input E2'!$E$3:$ND$3,Rekenblad!T$3,'Input E2'!$E20:$ND20)","v":0},{"$f":"SUMIF('Input E2'!$E$3:$ND$3,Rekenblad!U$3,'Input E2'!$E20:$ND20)","v":0},{"$f":"SUMIF('Input E2'!$E$3:$ND$3,Rekenblad!V$3,'Input E2'!$E20:$ND20)","v":0},{"$f":"SUMIF('Input E2'!$E$3:$ND$3,Rekenblad!W$3,'Input E2'!$E20:$ND20)","v":0},{"$f":"SUMIF('Input E2'!$E$3:$ND$3,Rekenblad!X$3,'Input E2'!$E20:$ND20)","v":0},{"$f":"SUMIF('Input E2'!$E$3:$ND$3,Rekenblad!Y$3,'Input E2'!$E20:$ND20)","v":0},{"$f":"SUMIF('Input E2'!$E$3:$ND$3,Rekenblad!Z$3,'Input E2'!$E20:$ND20)","v":0},{"$f":"SUMIF('Input E2'!$E$3:$ND$3,Rekenblad!AA$3,'Input E2'!$E20:$ND20)","v":0},{"$f":"SUMIF('Input E2'!$E$3:$ND$3,Rekenblad!AB$3,'Input E2'!$E20:$ND20)","v":0},{"$f":"SUMIF('Input E2'!$E$3:$ND$3,Rekenblad!AC$3,'Input E2'!$E20:$ND20)","v":0},{"$f":"SUMIF('Input E2'!$E$3:$ND$3,Rekenblad!AD$3,'Input E2'!$E20:$ND20)","v":0},{"$f":"SUMIF('Input E2'!$E$3:$ND$3,Rekenblad!AE$3,'Input E2'!$E20:$ND20)","v":0},{"$f":"SUMIF('Input E2'!$E$3:$ND$3,Rekenblad!AF$3,'Input E2'!$E20:$ND20)","v":0},{"$f":"SUMIF('Input E2'!$E$3:$ND$3,Rekenblad!AG$3,'Input E2'!$E20:$ND20)","v":0},{"$f":"SUMIF('Input E2'!$E$3:$ND$3,Rekenblad!AH$3,'Input E2'!$E20:$ND20)","v":0},{"$f":"SUMIF('Input E2'!$E$3:$ND$3,Rekenblad!AI$3,'Input E2'!$E20:$ND20)","v":0},{"$f":"SUMIF('Input E2'!$E$3:$ND$3,Rekenblad!AJ$3,'Input E2'!$E20:$ND20)","v":0},{"$f":"SUMIF('Input E2'!$E$3:$ND$3,Rekenblad!AK$3,'Input E2'!$E20:$ND20)","v":0},{"$f":"SUMIF('Input E2'!$E$3:$ND$3,Rekenblad!AL$3,'Input E2'!$E20:$ND20)","v":0},{"$f":"SUMIF('Input E2'!$E$3:$ND$3,Rekenblad!AM$3,'Input E2'!$E20:$ND20)","v":0},{"$f":"SUMIF('Input E2'!$E$3:$ND$3,Rekenblad!AN$3,'Input E2'!$E20:$ND20)","v":0},{"$f":"SUMIF('Input E2'!$E$3:$ND$3,Rekenblad!AO$3,'Input E2'!$E20:$ND20)","v":0},{"$f":"SUMIF('Input E2'!$E$3:$ND$3,Rekenblad!AP$3,'Input E2'!$E20:$ND20)","v":0},{"$f":"SUMIF('Input E2'!$E$3:$ND$3,Rekenblad!AQ$3,'Input E2'!$E20:$ND20)","v":0},{"$f":"SUMIF('Input E2'!$E$3:$ND$3,Rekenblad!AR$3,'Input E2'!$E20:$ND20)","v":0},{"$f":"SUMIF('Input E2'!$E$3:$ND$3,Rekenblad!AS$3,'Input E2'!$E20:$ND20)","v":0},{"$f":"SUMIF('Input E2'!$E$3:$ND$3,Rekenblad!AT$3,'Input E2'!$E20:$ND20)","v":0},{"$f":"SUMIF('Input E2'!$E$3:$ND$3,Rekenblad!AU$3,'Input E2'!$E20:$ND20)","v":0},{"$f":"SUMIF('Input E2'!$E$3:$ND$3,Rekenblad!AV$3,'Input E2'!$E20:$ND20)","v":0},{"$f":"SUMIF('Input E2'!$E$3:$ND$3,Rekenblad!AW$3,'Input E2'!$E20:$ND20)","v":0},{"$f":"SUMIF('Input E2'!$E$3:$ND$3,Rekenblad!AX$3,'Input E2'!$E20:$ND20)","v":0},{"$f":"SUMIF('Input E2'!$E$3:$ND$3,Rekenblad!AY$3,'Input E2'!$E20:$ND20)","v":0},{"$f":"SUMIF('Input E2'!$E$3:$ND$3,Rekenblad!AZ$3,'Input E2'!$E20:$ND20)","v":0},{"$f":"SUMIF('Input E2'!$E$3:$ND$3,Rekenblad!BA$3,'Input E2'!$E20:$ND20)","v":0},{"$f":"SUMIF('Input E2'!$E$3:$ND$3,Rekenblad!BB$3,'Input E2'!$E20:$ND20)","v":0},{"$f":"SUMIF('Input E2'!$E$3:$ND$3,Rekenblad!BC$3,'Input E2'!$E20:$ND20)","v":0},{"$f":"SUMIF('Input E2'!$E$3:$ND$3,Rekenblad!BD$3,'Input E2'!$E20:$ND20)","v":0},{"$f":"SUMIF('Input E2'!$E$3:$ND$3,Rekenblad!BE$3,'Input E2'!$E20:$ND20)","v":0},null,null,null,null,{"$f":"SUMIF('Input E2'!$E$2:$ND$2,Rekenblad!BJ$3,'Input E2'!$E20:$ND20)","v":0},{"$f":"SUMIF('Input E2'!$E$2:$ND$2,Rekenblad!BK$3,'Input E2'!$E20:$ND20)","v":0},{"$f":"SUMIF('Input E2'!$E$2:$ND$2,Rekenblad!BL$3,'Input E2'!$E20:$ND20)","v":0},{"$f":"SUMIF('Input E2'!$E$2:$ND$2,Rekenblad!BM$3,'Input E2'!$E20:$ND20)","v":0},{"$f":"SUMIF('Input E2'!$E$2:$ND$2,Rekenblad!BN$3,'Input E2'!$E20:$ND20)","v":0},{"$f":"SUMIF('Input E2'!$E$2:$ND$2,Rekenblad!BO$3,'Input E2'!$E20:$ND20)","v":0},{"$f":"SUMIF('Input E2'!$E$2:$ND$2,Rekenblad!BP$3,'Input E2'!$E20:$ND20)","v":0},{"$f":"SUMIF('Input E2'!$E$2:$ND$2,Rekenblad!BQ$3,'Input E2'!$E20:$ND20)","v":0},{"$f":"SUMIF('Input E2'!$E$2:$ND$2,Rekenblad!BR$3,'Input E2'!$E20:$ND20)","v":0},{"$f":"SUMIF('Input E2'!$E$2:$ND$2,Rekenblad!BS$3,'Input E2'!$E20:$ND20)","v":0},{"$f":"SUMIF('Input E2'!$E$2:$ND$2,Rekenblad!BT$3,'Input E2'!$E20:$ND20)","v":0},{"$f":"SUMIF('Input E2'!$E$2:$ND$2,Rekenblad!BU$3,'Input E2'!$E20:$ND20)","v":0},null,0]
[null,null,null,{"$f":"'Input E2'!C21","v":"Workshop Action Implementation"},{"$f":"SUMIF('Input E2'!$E$3:$ND$3,Rekenblad!E$3,'Input E2'!$E21:$ND21)","v":0},{"$f":"SUMIF('Input E2'!$E$3:$ND$3,Rekenblad!F$3,'Input E2'!$E21:$ND21)","v":0},{"$f":"SUMIF('Input E2'!$E$3:$ND$3,Rekenblad!G$3,'Input E2'!$E21:$ND21)","v":0},{"$f":"SUMIF('Input E2'!$E$3:$ND$3,Rekenblad!H$3,'Input E2'!$E21:$ND21)","v":0},{"$f":"SUMIF('Input E2'!$E$3:$ND$3,Rekenblad!I$3,'Input E2'!$E21:$ND21)","v":0},{"$f":"SUMIF('Input E2'!$E$3:$ND$3,Rekenblad!J$3,'Input E2'!$E21:$ND21)","v":0},{"$f":"SUMIF('Input E2'!$E$3:$ND$3,Rekenblad!K$3,'Input E2'!$E21:$ND21)","v":0},{"$f":"SUMIF('Input E2'!$E$3:$ND$3,Rekenblad!L$3,'Input E2'!$E21:$ND21)","v":0},{"$f":"SUMIF('Input E2'!$E$3:$ND$3,Rekenblad!M$3,'Input E2'!$E21:$ND21)","v":0},{"$f":"SUMIF('Input E2'!$E$3:$ND$3,Rekenblad!N$3,'Input E2'!$E21:$ND21)","v":0},{"$f":"SUMIF('Input E2'!$E$3:$ND$3,Rekenblad!O$3,'Input E2'!$E21:$ND21)","v":0},{"$f":"SUMIF('Input E2'!$E$3:$ND$3,Rekenblad!P$3,'Input E2'!$E21:$ND21)","v":0},{"$f":"SUMIF('Input E2'!$E$3:$ND$3,Rekenblad!Q$3,'Input E2'!$E21:$ND21)","v":0},{"$f":"SUMIF('Input E2'!$E$3:$ND$3,Rekenblad!R$3,'Input E2'!$E21:$ND21)","v":0},{"$f":"SUMIF('Input E2'!$E$3:$ND$3,Rekenblad!S$3,'Input E2'!$E21:$ND21)","v":0},{"$f":"SUMIF('Input E2'!$E$3:$ND$3,Rekenblad!T$3,'Input E2'!$E21:$ND21)","v":0},{"$f":"SUMIF('Input E2'!$E$3:$ND$3,Rekenblad!U$3,'Input E2'!$E21:$ND21)","v":0},{"$f":"SUMIF('Input E2'!$E$3:$ND$3,Rekenblad!V$3,'Input E2'!$E21:$ND21)","v":0},{"$f":"SUMIF('Input E2'!$E$3:$ND$3,Rekenblad!W$3,'Input E2'!$E21:$ND21)","v":0},{"$f":"SUMIF('Input E2'!$E$3:$ND$3,Rekenblad!X$3,'Input E2'!$E21:$ND21)","v":0},{"$f":"SUMIF('Input E2'!$E$3:$ND$3,Rekenblad!Y$3,'Input E2'!$E21:$ND21)","v":0},{"$f":"SUMIF('Input E2'!$E$3:$ND$3,Rekenblad!Z$3,'Input E2'!$E21:$ND21)","v":0},{"$f":"SUMIF('Input E2'!$E$3:$ND$3,Rekenblad!AA$3,'Input E2'!$E21:$ND21)","v":0},{"$f":"SUMIF('Input E2'!$E$3:$ND$3,Rekenblad!AB$3,'Input E2'!$E21:$ND21)","v":0},{"$f":"SUMIF('Input E2'!$E$3:$ND$3,Rekenblad!AC$3,'Input E2'!$E21:$ND21)","v":0},{"$f":"SUMIF('Input E2'!$E$3:$ND$3,Rekenblad!AD$3,'Input E2'!$E21:$ND21)","v":0},{"$f":"SUMIF('Input E2'!$E$3:$ND$3,Rekenblad!AE$3,'Input E2'!$E21:$ND21)","v":0},{"$f":"SUMIF('Input E2'!$E$3:$ND$3,Rekenblad!AF$3,'Input E2'!$E21:$ND21)","v":0},{"$f":"SUMIF('Input E2'!$E$3:$ND$3,Rekenblad!AG$3,'Input E2'!$E21:$ND21)","v":0},{"$f":"SUMIF('Input E2'!$E$3:$ND$3,Rekenblad!AH$3,'Input E2'!$E21:$ND21)","v":0},{"$f":"SUMIF('Input E2'!$E$3:$ND$3,Rekenblad!AI$3,'Input E2'!$E21:$ND21)","v":0},{"$f":"SUMIF('Input E2'!$E$3:$ND$3,Rekenblad!AJ$3,'Input E2'!$E21:$ND21)","v":0},{"$f":"SUMIF('Input E2'!$E$3:$ND$3,Rekenblad!AK$3,'Input E2'!$E21:$ND21)","v":0},{"$f":"SUMIF('Input E2'!$E$3:$ND$3,Rekenblad!AL$3,'Input E2'!$E21:$ND21)","v":0},{"$f":"SUMIF('Input E2'!$E$3:$ND$3,Rekenblad!AM$3,'Input E2'!$E21:$ND21)","v":0},{"$f":"SUMIF('Input E2'!$E$3:$ND$3,Rekenblad!AN$3,'Input E2'!$E21:$ND21)","v":0},{"$f":"SUMIF('Input E2'!$E$3:$ND$3,Rekenblad!AO$3,'Input E2'!$E21:$ND21)","v":0},{"$f":"SUMIF('Input E2'!$E$3:$ND$3,Rekenblad!AP$3,'Input E2'!$E21:$ND21)","v":0},{"$f":"SUMIF('Input E2'!$E$3:$ND$3,Rekenblad!AQ$3,'Input E2'!$E21:$ND21)","v":0},{"$f":"SUMIF('Input E2'!$E$3:$ND$3,Rekenblad!AR$3,'Input E2'!$E21:$ND21)","v":0},{"$f":"SUMIF('Input E2'!$E$3:$ND$3,Rekenblad!AS$3,'Input E2'!$E21:$ND21)","v":0},{"$f":"SUMIF('Input E2'!$E$3:$ND$3,Rekenblad!AT$3,'Input E2'!$E21:$ND21)","v":0},{"$f":"SUMIF('Input E2'!$E$3:$ND$3,Rekenblad!AU$3,'Input E2'!$E21:$ND21)","v":0},{"$f":"SUMIF('Input E2'!$E$3:$ND$3,Rekenblad!AV$3,'Input E2'!$E21:$ND21)","v":0},{"$f":"SUMIF('Input E2'!$E$3:$ND$3,Rekenblad!AW$3,'Input E2'!$E21:$ND21)","v":0},{"$f":"SUMIF('Input E2'!$E$3:$ND$3,Rekenblad!AX$3,'Input E2'!$E21:$ND21)","v":0},{"$f":"SUMIF('Input E2'!$E$3:$ND$3,Rekenblad!AY$3,'Input E2'!$E21:$ND21)","v":0},{"$f":"SUMIF('Input E2'!$E$3:$ND$3,Rekenblad!AZ$3,'Input E2'!$E21:$ND21)","v":0},{"$f":"SUMIF('Input E2'!$E$3:$ND$3,Rekenblad!BA$3,'Input E2'!$E21:$ND21)","v":0},{"$f":"SUMIF('Input E2'!$E$3:$ND$3,Rekenblad!BB$3,'Input E2'!$E21:$ND21)","v":0},{"$f":"SUMIF('Input E2'!$E$3:$ND$3,Rekenblad!BC$3,'Input E2'!$E21:$ND21)","v":0},{"$f":"SUMIF('Input E2'!$E$3:$ND$3,Rekenblad!BD$3,'Input E2'!$E21:$ND21)","v":0},{"$f":"SUMIF('Input E2'!$E$3:$ND$3,Rekenblad!BE$3,'Input E2'!$E21:$ND21)","v":0},null,null,null,null,{"$f":"SUMIF('Input E2'!$E$2:$ND$2,Rekenblad!BJ$3,'Input E2'!$E21:$ND21)","v":0},{"$f":"SUMIF('Input E2'!$E$2:$ND$2,Rekenblad!BK$3,'Input E2'!$E21:$ND21)","v":0},{"$f":"SUMIF('Input E2'!$E$2:$ND$2,Rekenblad!BL$3,'Input E2'!$E21:$ND21)","v":0},{"$f":"SUMIF('Input E2'!$E$2:$ND$2,Rekenblad!BM$3,'Input E2'!$E21:$ND21)","v":0},{"$f":"SUMIF('Input E2'!$E$2:$ND$2,Rekenblad!BN$3,'Input E2'!$E21:$ND21)","v":0},{"$f":"SUMIF('Input E2'!$E$2:$ND$2,Rekenblad!BO$3,'Input E2'!$E21:$ND21)","v":0},{"$f":"SUMIF('Input E2'!$E$2:$ND$2,Rekenblad!BP$3,'Input E2'!$E21:$ND21)","v":0},{"$f":"SUMIF('Input E2'!$E$2:$ND$2,Rekenblad!BQ$3,'Input E2'!$E21:$ND21)","v":0},{"$f":"SUMIF('Input E2'!$E$2:$ND$2,Rekenblad!BR$3,'Input E2'!$E21:$ND21)","v":0},{"$f":"SUMIF('Input E2'!$E$2:$ND$2,Rekenblad!BS$3,'Input E2'!$E21:$ND21)","v":0},{"$f":"SUMIF('Input E2'!$E$2:$ND$2,Rekenblad!BT$3,'Input E2'!$E21:$ND21)","v":0},{"$f":"SUMIF('Input E2'!$E$2:$ND$2,Rekenblad!BU$3,'Input E2'!$E21:$ND21)","v":0},null,0]
[null,null,null,{"$f":"'Input E2'!C22","v":"FCOM score borging"},{"$f":"IFERROR(SUMIF('Input E2'!$E$3:$ND$3,Rekenblad!E$3,'Input E2'!$E22:$ND22)/E2,0%)","v":0},{"$f":"IFERROR(SUMIF('Input E2'!$E$3:$ND$3,Rekenblad!F$3,'Input E2'!$E22:$ND22)/F2,0%)","v":0},{"$f":"IFERROR(SUMIF('Input E2'!$E$3:$ND$3,Rekenblad!G$3,'Input E2'!$E22:$ND22)/G2,0%)","v":0},{"$f":"IFERROR(SUMIF('Input E2'!$E$3:$ND$3,Rekenblad!H$3,'Input E2'!$E22:$ND22)/H2,0%)","v":0},{"$f":"IFERROR(SUMIF('Input E2'!$E$3:$ND$3,Rekenblad!I$3,'Input E2'!$E22:$ND22)/I2,0%)","v":0},{"$f":"IFERROR(SUMIF('Input E2'!$E$3:$ND$3,Rekenblad!J$3,'Input E2'!$E22:$ND22)/J2,0%)","v":0},{"$f":"IFERROR(SUMIF('Input E2'!$E$3:$ND$3,Rekenblad!K$3,'Input E2'!$E22:$ND22)/K2,0%)","v":0},{"$f":"IFERROR(SUMIF('Input E2'!$E$3:$ND$3,Rekenblad!L$3,'Input E2'!$E22:$ND22)/L2,0%)","v":0},{"$f":"IFERROR(SUMIF('Input E2'!$E$3:$ND$3,Rekenblad!M$3,'Input E2'!$E22:$ND22)/M2,0%)","v":0},{"$f":"IFERROR(SUMIF('Input E2'!$E$3:$ND$3,Rekenblad!N$3,'Input E2'!$E22:$ND22)/N2,0%)","v":0},{"$f":"IFERROR(SUMIF('Input E2'!$E$3:$ND$3,Rekenblad!O$3,'Input E2'!$E22:$ND22)/O2,0%)","v":0},{"$f":"IFERROR(SUMIF('Input E2'!$E$3:$ND$3,Rekenblad!P$3,'Input E2'!$E22:$ND22)/P2,0%)","v":0},{"$f":"IFERROR(SUMIF('Input E2'!$E$3:$ND$3,Rekenblad!Q$3,'Input E2'!$E22:$ND22)/Q2,0%)","v":0},{"$f":"IFERROR(SUMIF('Input E2'!$E$3:$ND$3,Rekenblad!R$3,'Input E2'!$E22:$ND22)/R2,0%)","v":0},{"$f":"IFERROR(SUMIF('Input E2'!$E$3:$ND$3,Rekenblad!S$3,'Input E2'!$E22:$ND22)/S2,0%)","v":0},{"$f":"IFERROR(SUMIF('Input E2'!$E$3:$ND$3,Rekenblad!T$3,'Input E2'!$E22:$ND22)/T2,0%)","v":0},{"$f":"IFERROR(SUMIF('Input E2'!$E$3:$ND$3,Rekenblad!U$3,'Input E2'!$E22:$ND22)/U2,0%)","v":0},{"$f":"IFERROR(SUMIF('Input E2'!$E$3:$ND$3,Rekenblad!V$3,'Input E2'!$E22:$ND22)/V2,0%)","v":0},{"$f":"IFERROR(SUMIF('Input E2'!$E$3:$ND$3,Rekenblad!W$3,'Input E2'!$E22:$ND22)/W2,0%)","v":0},{"$f":"IFERROR(SUMIF('Input E2'!$E$3:$ND$3,Rekenblad!X$3,'Input E2'!$E22:$ND22)/X2,0%)","v":0},{"$f":"IFERROR(SUMIF('Input E2'!$E$3:$ND$3,Rekenblad!Y$3,'Input E2'!$E22:$ND22)/Y2,0%)","v":0},{"$f":"IFERROR(SUMIF('Input E2'!$E$3:$ND$3,Rekenblad!Z$3,'Input E2'!$E22:$ND22)/Z2,0%)","v":0},{"$f":"IFERROR(SUMIF('Input E2'!$E$3:$ND$3,Rekenblad!AA$3,'Input E2'!$E22:$ND22)/AA2,0%)","v":0},{"$f":"IFERROR(SUMIF('Input E2'!$E$3:$ND$3,Rekenblad!AB$3,'Input E2'!$E22:$ND22)/AB2,0%)","v":0.6},{"$f":"IFERROR(SUMIF('Input E2'!$E$3:$ND$3,Rekenblad!AC$3,'Input E2'!$E22:$ND22)/AC2,0%)","v":0.6},{"$f":"IFERROR(SUMIF('Input E2'!$E$3:$ND$3,Rekenblad!AD$3,'Input E2'!$E22:$ND22)/AD2,0%)","v":0.6},{"$f":"IFERROR(SUMIF('Input E2'!$E$3:$ND$3,Rekenblad!AE$3,'Input E2'!$E22:$ND22)/AE2,0%)","v":0.6},{"$f":"IFERROR(SUMIF('Input E2'!$E$3:$ND$3,Rekenblad!AF$3,'Input E2'!$E22:$ND22)/AF2,0%)","v":0.6},{"$f":"IFERROR(SUMIF('Input E2'!$E$3:$ND$3,Rekenblad!AG$3,'Input E2'!$E22:$ND22)/AG2,0%)","v":0.48},{"$f":"IFERROR(SUMIF('Input E2'!$E$3:$ND$3,Rekenblad!AH$3,'Input E2'!$E22:$ND22)/AH2,0%)","v":0},{"$f":"IFERROR(SUMIF('Input E2'!$E$3:$ND$3,Rekenblad!AI$3,'Input E2'!$E22:$ND22)/AI2,0%)","v":0},{"$f":"IFERROR(SUMIF('Input E2'!$E$3:$ND$3,Rekenblad!AJ$3,'Input E2'!$E22:$ND22)/AJ2,0%)","v":0},{"$f":"IFERROR(SUMIF('Input E2'!$E$3:$ND$3,Rekenblad!AK$3,'Input E2'!$E22:$ND22)/AK2,0%)","v":0.6},{"$f":"IFERROR(SUMIF('Input E2'!$E$3:$ND$3,Rekenblad!AL$3,'Input E2'!$E22:$ND22)/AL2,0%)","v":0.6},{"$f":"IFERROR(SUMIF('Input E2'!$E$3:$ND$3,Rekenblad!AM$3,'Input E2'!$E22:$ND22)/AM2,0%)","v":0.6},{"$f":"IFERROR(SUMIF('Input E2'!$E$3:$ND$3,Rekenblad!AN$3,'Input E2'!$E22:$ND22)/AN2,0%)","v":0.6},{"$f":"IFERROR(SUMIF('Input E2'!$E$3:$ND$3,Rekenblad!AO$3,'Input E2'!$E22:$ND22)/AO2,0%)","v":0.6},{"$f":"IFERROR(SUMIF('Input E2'!$E$3:$ND$3,Rekenblad!AP$3,'Input E2'!$E22:$ND22)/AP2,0%)","v":0.6},{"$f":"IFERROR(SUMIF('Input E2'!$E$3:$ND$3,Rekenblad!AQ$3,'Input E2'!$E22:$ND22)/AQ2,0%)","v":0.6},{"$f":"IFERROR(SUMIF('Input E2'!$E$3:$ND$3,Rekenblad!AR$3,'Input E2'!$E22:$ND22)/AR2,0%)","v":0.6},{"$f":"IFERROR(SUMIF('Input E2'!$E$3:$ND$3,Rekenblad!AS$3,'Input E2'!$E22:$ND22)/AS2,0%)","v":0},{"$f":"IFERROR(SUMIF('Input E2'!$E$3:$ND$3,Rekenblad!AT$3,'Input E2'!$E22:$ND22)/AT2,0%)","v":0},{"$f":"IFERROR(SUMIF('Input E2'!$E$3:$ND$3,Rekenblad!AU$3,'Input E2'!$E22:$ND22)/AU2,0%)","v":0},{"$f":"IFERROR(SUMIF('Input E2'!$E$3:$ND$3,Rekenblad!AV$3,'Input E2'!$E22:$ND22)/AV2,0%)","v":0},{"$f":"IFERROR(SUMIF('Input E2'!$E$3:$ND$3,Rekenblad!AW$3,'Input E2'!$E22:$ND22)/AW2,0%)","v":0},{"$f":"IFERROR(SUMIF('Input E2'!$E$3:$ND$3,Rekenblad!AX$3,'Input E2'!$E22:$ND22)/AX2,0%)","v":0},{"$f":"IFERROR(SUMIF('Input E2'!$E$3:$ND$3,Rekenblad!AY$3,'Input E2'!$E22:$ND22)/AY2,0%)","v":0},{"$f":"IFERROR(SUMIF('Input E2'!$E$3:$ND$3,Rekenblad!AZ$3,'Input E2'!$E22:$ND22)/AZ2,0%)","v":0},{"$f":"IFERROR(SUMIF('Input E2'!$E$3:$ND$3,Rekenblad!BA$3,'Input E2'!$E22:$ND22)/BA2,0%)","v":0},{"$f":"IFERROR(SUMIF('Input E2'!$E$3:$ND$3,Rekenblad!BB$3,'Input E2'!$E22:$ND22)/BB2,0%)","v":0},{"$f":"IFERROR(SUMIF('Input E2'!$E$3:$ND$3,Rekenblad!BC$3,'Input E2'!$E22:$ND22)/BC2,0%)","v":0},{"$f":"IFERROR(SUMIF('Input E2'!$E$3:$ND$3,Rekenblad!BD$3,'Input E2'!$E22:$ND22)/BD2,0%)","v":0},{"$f":"IFERROR(SUMIF('Input E2'!$E$3:$ND$3,Rekenblad!BE$3,'Input E2'!$E22:$ND22)/BE2,0%)","v":0},null,null,null,null,{"$f":"IFERROR(SUMIF('Input E2'!$E$2:$ND$2,Rekenblad!BJ$3,'Input E2'!$E22:$ND22)/BJ2,0%)","v":0},{"$f":"IFERROR(SUMIF('Input E2'!$E$2:$ND$2,Rekenblad!BK$3,'Input E2'!$E22:$ND22)/BK2,0%)","v":0},{"$f":"IFERROR(SUMIF('Input E2'!$E$2:$ND$2,Rekenblad!BL$3,'Input E2'!$E22:$ND22)/BL2,0%)","v":0},{"$f":"IFERROR(SUMIF('Input E2'!$E$2:$ND$2,Rekenblad!BM$3,'Input E2'!$E22:$ND22)/BM2,0%)","v":0},{"$f":"IFERROR(SUMIF('Input E2'!$E$2:$ND$2,Rekenblad!BN$3,'Input E2'!$E22:$ND22)/BN2,0%)","v":0},{"$f":"IFERROR(SUMIF('Input E2'!$E$2:$ND$2,Rekenblad!BO$3,'Input E2'!$E22:$ND22)/BO2,0%)","v":0.43636363636363629},{"$f":"IFERROR(SUMIF('Input E2'!$E$2:$ND$2,Rekenblad!BP$3,'Input E2'!$E22:$ND22)/BP2,0%)","v":0.56249999999999989},{"$f":"IFERROR(SUMIF('Input E2'!$E$2:$ND$2,Rekenblad!BQ$3,'Input E2'!$E22:$ND22)/BQ2,0%)","v":0.59999999999999987},{"$f":"IFERROR(SUMIF('Input E2'!$E$2:$ND$2,Rekenblad!BR$3,'Input E2'!$E22:$ND22)/BR2,0%)","v":0.59999999999999976},{"$f":"IFERROR(SUMIF('Input E2'!$E$2:$ND$2,Rekenblad!BS$3,'Input E2'!$E22:$ND22)/BS2,0%)","v":0.6},{"$f":"IFERROR(SUMIF('Input E2'!$E$2:$ND$2,Rekenblad!BT$3,'Input E2'!$E22:$ND22)/BT2,0%)","v":0},{"$f":"IFERROR(SUMIF('Input E2'!$E$2:$ND$2,Rekenblad!BU$3,'Input E2'!$E22:$ND22)/BU2,0%)","v":0},null,{"$f":"SUM(BJ16:BU16)/BW1","v":0.2798863636363636}]
[null,null,null,{"$f":"'Input E2'!C23","v":"FCOM score milieu"},{"$f":"IFERROR(SUMIF('Input E2'!$E$3:$ND$3,Rekenblad!E$3,'Input E2'!$E23:$ND23)/E2,0%)","v":0},{"$f":"IFERROR(SUMIF('Input E2'!$E$3:$ND$3,Rekenblad!F$3,'Input E2'!$E23:$ND23)/F2,0%)","v":0},{"$f":"IFERROR(SUMIF('Input E2'!$E$3:$ND$3,Rekenblad!G$3,'Input E2'!$E23:$ND23)/G2,0%)","v":0},{"$f":"IFERROR(SUMIF('Input E2'!$E$3:$ND$3,Rekenblad!H$3,'Input E2'!$E23:$ND23)/H2,0%)","v":0},{"$f":"IFERROR(SUMIF('Input E2'!$E$3:$ND$3,Rekenblad!I$3,'Input E2'!$E23:$ND23)/I2,0%)","v":0},{"$f":"IFERROR(SUMIF('Input E2'!$E$3:$ND$3,Rekenblad!J$3,'Input E2'!$E23:$ND23)/J2,0%)","v":0},{"$f":"IFERROR(SUMIF('Input E2'!$E$3:$ND$3,Rekenblad!K$3,'Input E2'!$E23:$ND23)/K2,0%)","v":0},{"$f":"IFERROR(SUMIF('Input E2'!$E$3:$ND$3,Rekenblad!L$3,'Input E2'!$E23:$ND23)/L2,0%)","v":0},{"$f":"IFERROR(SUMIF('Input E2'!$E$3:$ND$3,Rekenblad!M$3,'Input E2'!$E23:$ND23)/M2,0%)","v":0},{"$f":"IFERROR(SUMIF('Input E2'!$E$3:$ND$3,Rekenblad!N$3,'Input E2'!$E23:$ND23)/N2,0%)","v":0},{"$f":"IFERROR(SUMIF('Input E2'!$E$3:$ND$3,Rekenblad!O$3,'Input E2'!$E23:$ND23)/O2,0%)","v":0},{"$f":"IFERROR(SUMIF('Input E2'!$E$3:$ND$3,Rekenblad!P$3,'Input E2'!$E23:$ND23)/P2,0%)","v":0},{"$f":"IFERROR(SUMIF('Input E2'!$E$3:$ND$3,Rekenblad!Q$3,'Input E2'!$E23:$ND23)/Q2,0%)","v":0},{"$f":"IFERROR(SUMIF('Input E2'!$E$3:$ND$3,Rekenblad!R$3,'Input E2'!$E23:$ND23)/R2,0%)","v":0},{"$f":"IFERROR(SUMIF('Input E2'!$E$3:$ND$3,Rekenblad!S$3,'Input E2'!$E23:$ND23)/S2,0%)","v":0},{"$f":"IFERROR(SUMIF('Input E2'!$E$3:$ND$3,Rekenblad!T$3,'Input E2'!$E23:$ND23)/T2,0%)","v":0},{"$f":"IFERROR(SUMIF('Input E2'!$E$3:$ND$3,Rekenblad!U$3,'Input E2'!$E23:$ND23)/U2,0%)","v":0},{"$f":"IFERROR(SUMIF('Input E2'!$E$3:$ND$3,Rekenblad!V$3,'Input E2'!$E23:$ND23)/V2,0%)","v":0},{"$f":"IFERROR(SUMIF('Input E2'!$E$3:$ND$3,Rekenblad!W$3,'Input E2'!$E23:$ND23)/W2,0%)","v":0},{"$f":"IFERROR(SUMIF('Input E2'!$E$3:$ND$3,Rekenblad!X$3,'Input E2'!$E23:$ND23)/X2,0%)","v":0},{"$f":"IFERROR(SUMIF('Input E2'!$E$3:$ND$3,Rekenblad!Y$3,'Input E2'!$E23:$ND23)/Y2,0%)","v":0},{"$f":"IFERROR(SUMIF('Input E2'!$E$3:$ND$3,Rekenblad!Z$3,'Input E2'!$E23:$ND23)/Z2,0%)","v":0},{"$f":"IFERROR(SUMIF('Input E2'!$E$3:$ND$3,Rekenblad!AA$3,'Input E2'!$E23:$ND23)/AA2,0%)","v":0},{"$f":"IFERROR(SUMIF('Input E2'!$E$3:$ND$3,Rekenblad!AB$3,'Input E2'!$E23:$ND23)/AB2,0%)","v":0.9},{"$f":"IFERROR(SUMIF('Input E2'!$E$3:$ND$3,Rekenblad!AC$3,'Input E2'!$E23:$ND23)/AC2,0%)","v":0.9},{"$f":"IFERROR(SUMIF('Input E2'!$E$3:$ND$3,Rekenblad!AD$3,'Input E2'!$E23:$ND23)/AD2,0%)","v":0.9},{"$f":"IFERROR(SUMIF('Input E2'!$E$3:$ND$3,Rekenblad!AE$3,'Input E2'!$E23:$ND23)/AE2,0%)","v":0.9},{"$f":"IFERROR(SUMIF('Input E2'!$E$3:$ND$3,Rekenblad!AF$3,'Input E2'!$E23:$ND23)/AF2,0%)","v":0.9},{"$f":"IFERROR(SUMIF('Input E2'!$E$3:$ND$3,Rekenblad!AG$3,'Input E2'!$E23:$ND23)/AG2,0%)","v":0.72},{"$f":"IFERROR(SUMIF('Input E2'!$E$3:$ND$3,Rekenblad!AH$3,'Input E2'!$E23:$ND23)/AH2,0%)","v":0},{"$f":"IFERROR(SUMIF('Input E2'!$E$3:$ND$3,Rekenblad!AI$3,'Input E2'!$E23:$ND23)/AI2,0%)","v":0},{"$f":"IFERROR(SUMIF('Input E2'!$E$3:$ND$3,Rekenblad!AJ$3,'Input E2'!$E23:$ND23)/AJ2,0%)","v":0},{"$f":"IFERROR(SUMIF('Input E2'!$E$3:$ND$3,Rekenblad!AK$3,'Input E2'!$E23:$ND23)/AK2,0%)","v":0.9},{"$f":"IFERROR(SUMIF('Input E2'!$E$3:$ND$3,Rekenblad!AL$3,'Input E2'!$E23:$ND23)/AL2,0%)","v":0.9},{"$f":"IFERROR(SUMIF('Input E2'!$E$3:$ND$3,Rekenblad!AM$3,'Input E2'!$E23:$ND23)/AM2,0%)","v":0.9},{"$f":"IFERROR(SUMIF('Input E2'!$E$3:$ND$3,Rekenblad!AN$3,'Input E2'!$E23:$ND23)/AN2,0%)","v":0.9},{"$f":"IFERROR(SUMIF('Input E2'!$E$3:$ND$3,Rekenblad!AO$3,'Input E2'!$E23:$ND23)/AO2,0%)","v":0.9},{"$f":"IFERROR(SUMIF('Input E2'!$E$3:$ND$3,Rekenblad!AP$3,'Input E2'!$E23:$ND23)/AP2,0%)","v":0.9},{"$f":"IFERROR(SUMIF('Input E2'!$E$3:$ND$3,Rekenblad!AQ$3,'Input E2'!$E23:$ND23)/AQ2,0%)","v":0.9},{"$f":"IFERROR(SUMIF('Input E2'!$E$3:$ND$3,Rekenblad!AR$3,'Input E2'!$E23:$ND23)/AR2,0%)","v":0.9},{"$f":"IFERROR(SUMIF('Input E2'!$E$3:$ND$3,Rekenblad!AS$3,'Input E2'!$E23:$ND23)/AS2,0%)","v":0},{"$f":"IFERROR(SUMIF('Input E2'!$E$3:$ND$3,Rekenblad!AT$3,'Input E2'!$E23:$ND23)/AT2,0%)","v":0},{"$f":"IFERROR(SUMIF('Input E2'!$E$3:$ND$3,Rekenblad!AU$3,'Input E2'!$E23:$ND23)/AU2,0%)","v":0},{"$f":"IFERROR(SUMIF('Input E2'!$E$3:$ND$3,Rekenblad!AV$3,'Input E2'!$E23:$ND23)/AV2,0%)","v":0},{"$f":"IFERROR(SUMIF('Input E2'!$E$3:$ND$3,Rekenblad!AW$3,'Input E2'!$E23:$ND23)/AW2,0%)","v":0},{"$f":"IFERROR(SUMIF('Input E2'!$E$3:$ND$3,Rekenblad!AX$3,'Input E2'!$E23:$ND23)/AX2,0%)","v":0},{"$f":"IFERROR(SUMIF('Input E2'!$E$3:$ND$3,Rekenblad!AY$3,'Input E2'!$E23:$ND23)/AY2,0%)","v":0},{"$f":"IFERROR(SUMIF('Input E2'!$E$3:$ND$3,Rekenblad!AZ$3,'Input E2'!$E23:$ND23)/AZ2,0%)","v":0},{"$f":"IFERROR(SUMIF('Input E2'!$E$3:$ND$3,Rekenblad!BA$3,'Input E2'!$E23:$ND23)/BA2,0%)","v":0},{"$f":"IFERROR(SUMIF('Input E2'!$E$3:$ND$3,Rekenblad!BB$3,'Input E2'!$E23:$ND23)/BB2,0%)","v":0},{"$f":"IFERROR(SUMIF('Input E2'!$E$3:$ND$3,Rekenblad!BC$3,'Input E2'!$E23:$ND23)/BC2,0%)","v":0},{"$f":"IFERROR(SUMIF('Input E2'!$E$3:$ND$3,Rekenblad!BD$3,'Input E2'!$E23:$ND23)/BD2,0%)","v":0},{"$f":"IFERROR(SUMIF('Input E2'!$E$3:$ND$3,Rekenblad!BE$3,'Input E2'!$E23:$ND23)/BE2,0%)","v":0},null,null,null,null,{"$f":"IFERROR(SUMIF('Input E2'!$E$2:$ND$2,Rekenblad!BJ$3,'Input E2'!$E23:$ND23)/BJ2,0%)","v":0},{"$f":"IFERROR(SUMIF('Input E2'!$E$2:$ND$2,Rekenblad!BK$3,'Input E2'!$E23:$ND23)/BK2,0%)","v":0},{"$f":"IFERROR(SUMIF('Input E2'!$E$2:$ND$2,Rekenblad!BL$3,'Input E2'!$E23:$ND23)/BL2,0%)","v":0},{"$f":"IFERROR(SUMIF('Input E2'!$E$2:$ND$2,Rekenblad!BM$3,'Input E2'!$E23:$ND23)/BM2,0%)","v":0},{"$f":"IFERROR(SUMIF('Input E2'!$E$2:$ND$2,Rekenblad!BN$3,'Input E2'!$E23:$ND23)/BN2,0%)","v":0},{"$f":"IFERROR(SUMIF('Input E2'!$E$2:$ND$2,Rekenblad!BO$3,'Input E2'!$E23:$ND23)/BO2,0%)","v":0.65454545454545476},{"$f":"IFERROR(SUMIF('Input E2'!$E$2:$ND$2,Rekenblad!BP$3,'Input E2'!$E23:$ND23)/BP2,0%)","v":0.84375000000000022},{"$f":"IFERROR(SUMIF('Input E2'!$E$2:$ND$2,Rekenblad!BQ$3,'Input E2'!$E23:$ND23)/BQ2,0%)","v":0.90000000000000024},{"$f":"IFERROR(SUMIF('Input E2'!$E$2:$ND$2,Rekenblad!BR$3,'Input E2'!$E23:$ND23)/BR2,0%)","v":0.89999999999999991},{"$f":"IFERROR(SUMIF('Input E2'!$E$2:$ND$2,Rekenblad!BS$3,'Input E2'!$E23:$ND23)/BS2,0%)","v":0.9},{"$f":"IFERROR(SUMIF('Input E2'!$E$2:$ND$2,Rekenblad!BT$3,'Input E2'!$E23:$ND23)/BT2,0%)","v":0},{"$f":"IFERROR(SUMIF('Input E2'!$E$2:$ND$2,Rekenblad!BU$3,'Input E2'!$E23:$ND23)/BU2,0%)","v":0},null,{"$f":"SUM(BJ17:BU17)/BW1","v":0.41982954545454554}]
[null,null,null,{"$f":"'Input E2'!C24","v":"Number of HR-Conversations"},{"$f":"SUMIF('Input E2'!$E$3:$ND$3,Rekenblad!E$3,'Input E2'!$E24:$ND24)","v":0},{"$f":"SUMIF('Input E2'!$E$3:$ND$3,Rekenblad!F$3,'Input E2'!$E24:$ND24)","v":0},{"$f":"SUMIF('Input E2'!$E$3:$ND$3,Rekenblad!G$3,'Input E2'!$E24:$ND24)","v":0},{"$f":"SUMIF('Input E2'!$E$3:$ND$3,Rekenblad!H$3,'Input E2'!$E24:$ND24)","v":0},{"$f":"SUMIF('Input E2'!$E$3:$ND$3,Rekenblad!I$3,'Input E2'!$E24:$ND24)","v":0},{"$f":"SUMIF('Input E2'!$E$3:$ND$3,Rekenblad!J$3,'Input E2'!$E24:$ND24)","v":0},{"$f":"SUMIF('Input E2'!$E$3:$ND$3,Rekenblad!K$3,'Input E2'!$E24:$ND24)","v":0},{"$f":"SUMIF('Input E2'!$E$3:$ND$3,Rekenblad!L$3,'Input E2'!$E24:$ND24)","v":0},{"$f":"SUMIF('Input E2'!$E$3:$ND$3,Rekenblad!M$3,'Input E2'!$E24:$ND24)","v":0},{"$f":"SUMIF('Input E2'!$E$3:$ND$3,Rekenblad!N$3,'Input E2'!$E24:$ND24)","v":0},{"$f":"SUMIF('Input E2'!$E$3:$ND$3,Rekenblad!O$3,'Input E2'!$E24:$ND24)","v":0},{"$f":"SUMIF('Input E2'!$E$3:$ND$3,Rekenblad!P$3,'Input E2'!$E24:$ND24)","v":0},{"$f":"SUMIF('Input E2'!$E$3:$ND$3,Rekenblad!Q$3,'Input E2'!$E24:$ND24)","v":0},{"$f":"SUMIF('Input E2'!$E$3:$ND$3,Rekenblad!R$3,'Input E2'!$E24:$ND24)","v":0},{"$f":"SUMIF('Input E2'!$E$3:$ND$3,Rekenblad!S$3,'Input E2'!$E24:$ND24)","v":0},{"$f":"SUMIF('Input E2'!$E$3:$ND$3,Rekenblad!T$3,'Input E2'!$E24:$ND24)","v":0},{"$f":"SUMIF('Input E2'!$E$3:$ND$3,Rekenblad!U$3,'Input E2'!$E24:$ND24)","v":0},{"$f":"SUMIF('Input E2'!$E$3:$ND$3,Rekenblad!V$3,'Input E2'!$E24:$ND24)","v":0},{"$f":"SUMIF('Input E2'!$E$3:$ND$3,Rekenblad!W$3,'Input E2'!$E24:$ND24)","v":0},{"$f":"SUMIF('Input E2'!$E$3:$ND$3,Rekenblad!X$3,'Input E2'!$E24:$ND24)","v":0},{"$f":"SUMIF('Input E2'!$E$3:$ND$3,Rekenblad!Y$3,'Input E2'!$E24:$ND24)","v":0},{"$f":"SUMIF('Input E2'!$E$3:$ND$3,Rekenblad!Z$3,'Input E2'!$E24:$ND24)","v":0},{"$f":"SUMIF('Input E2'!$E$3:$ND$3,Rekenblad!AA$3,'Input E2'!$E24:$ND24)","v":0},{"$f":"SUMIF('Input E2'!$E$3:$ND$3,Rekenblad!AB$3,'Input E2'!$E24:$ND24)","v":0},{"$f":"SUMIF('Input E2'!$E$3:$ND$3,Rekenblad!AC$3,'Input E2'!$E24:$ND24)","v":0},{"$f":"SUMIF('Input E2'!$E$3:$ND$3,Rekenblad!AD$3,'Input E2'!$E24:$ND24)","v":0},{"$f":"SUMIF('Input E2'!$E$3:$ND$3,Rekenblad!AE$3,'Input E2'!$E24:$ND24)","v":0},{"$f":"SUMIF('Input E2'!$E$3:$ND$3,Rekenblad!AF$3,'Input E2'!$E24:$ND24)","v":0},{"$f":"SUMIF('Input E2'!$E$3:$ND$3,Rekenblad!AG$3,'Input E2'!$E24:$ND24)","v":0},{"$f":"SUMIF('Input E2'!$E$3:$ND$3,Rekenblad!AH$3,'Input E2'!$E24:$ND24)","v":0},{"$f":"SUMIF('Input E2'!$E$3:$ND$3,Rekenblad!AI$3,'Input E2'!$E24:$ND24)","v":0},{"$f":"SUMIF('Input E2'!$E$3:$ND$3,Rekenblad!AJ$3,'Input E2'!$E24:$ND24)","v":0},{"$f":"SUMIF('Input E2'!$E$3:$ND$3,Rekenblad!AK$3,'Input E2'!$E24:$ND24)","v":0},{"$f":"SUMIF('Input E2'!$E$3:$ND$3,Rekenblad!AL$3,'Input E2'!$E24:$ND24)","v":0},{"$f":"SUMIF('Input E2'!$E$3:$ND$3,Rekenblad!AM$3,'Input E2'!$E24:$ND24)","v":1},{"$f":"SUMIF('Input E2'!$E$3:$ND$3,Rekenblad!AN$3,'Input E2'!$E24:$ND24)","v":0},{"$f":"SUMIF('Input E2'!$E$3:$ND$3,Rekenblad!AO$3,'Input E2'!$E24:$ND24)","v":0},{"$f":"SUMIF('Input E2'!$E$3:$ND$3,Rekenblad!AP$3,'Input E2'!$E24:$ND24)","v":0},{"$f":"SUMIF('Input E2'!$E$3:$ND$3,Rekenblad!AQ$3,'Input E2'!$E24:$ND24)","v":1},{"$f":"SUMIF('Input E2'!$E$3:$ND$3,Rekenblad!AR$3,'Input E2'!$E24:$ND24)","v":0},{"$f":"SUMIF('Input E2'!$E$3:$ND$3,Rekenblad!AS$3,'Input E2'!$E24:$ND24)","v":0},{"$f":"SUMIF('Input E2'!$E$3:$ND$3,Rekenblad!AT$3,'Input E2'!$E24:$ND24)","v":0},{"$f":"SUMIF('Input E2'!$E$3:$ND$3,Rekenblad!AU$3,'Input E2'!$E24:$ND24)","v":0},{"$f":"SUMIF('Input E2'!$E$3:$ND$3,Rekenblad!AV$3,'Input E2'!$E24:$ND24)","v":0},{"$f":"SUMIF('Input E2'!$E$3:$ND$3,Rekenblad!AW$3,'Input E2'!$E24:$ND24)","v":0},{"$f":"SUMIF('Input E2'!$E$3:$ND$3,Rekenblad!AX$3,'Input E2'!$E24:$ND24)","v":0},{"$f":"SUMIF('Input E2'!$E$3:$ND$3,Rekenblad!AY$3,'Input E2'!$E24:$ND24)","v":0},{"$f":"SUMIF('Input E2'!$E$3:$ND$3,Rekenblad!AZ$3,'Input E2'!$E24:$ND24)","v":0},{"$f":"SUMIF('Input E2'!$E$3:$ND$3,Rekenblad!BA$3,'Input E2'!$E24:$ND24)","v":0},{"$f":"SUMIF('Input E2'!$E$3:$ND$3,Rekenblad!BB$3,'Input E2'!$E24:$ND24)","v":0},{"$f":"SUMIF('Input E2'!$E$3:$ND$3,Rekenblad!BC$3,'Input E2'!$E24:$ND24)","v":0},{"$f":"SUMIF('Input E2'!$E$3:$ND$3,Rekenblad!BD$3,'Input E2'!$E24:$ND24)","v":0},{"$f":"SUMIF('Input E2'!$E$3:$ND$3,Rekenblad!BE$3,'Input E2'!$E24:$ND24)","v":0},null,null,null,null,{"$f":"SUMIF('Input E2'!$E$2:$ND$2,Rekenblad!BJ$3,'Input E2'!$E24:$ND24)","v":0},{"$f":"SUMIF('Input E2'!$E$2:$ND$2,Rekenblad!BK$3,'Input E2'!$E24:$ND24)","v":0},{"$f":"SUMIF('Input E2'!$E$2:$ND$2,Rekenblad!BL$3,'Input E2'!$E24:$ND24)","v":0},{"$f":"SUMIF('Input E2'!$E$2:$ND$2,Rekenblad!BM$3,'Input E2'!$E24:$ND24)","v":0},{"$f":"SUMIF('Input E2'!$E$2:$ND$2,Rekenblad!BN$3,'Input E2'!$E24:$ND24)","v":0},{"$f":"SUMIF('Input E2'!$E$2:$ND$2,Rekenblad!BO$3,'Input E2'!$E24:$ND24)","v":0},{"$f":"SUMIF('Input E2'!$E$2:$ND$2,Rekenblad!BP$3,'Input E2'!$E24:$ND24)","v":0},{"$f":"SUMIF('Input E2'!$E$2:$ND$2,Rekenblad!BQ$3,'Input E2'!$E24:$ND24)","v":1},{"$f":"SUMIF('Input E2'!$E$2:$ND$2,Rekenblad!BR$3,'Input E2'!$E24:$ND24)","v":1},{"$f":"SUMIF('Input E2'!$E$2:$ND$2,Rekenblad!BS$3,'Input E2'!$E24:$ND24)","v":0},{"$f":"SUMIF('Input E2'!$E$2:$ND$2,Rekenblad!BT$3,'Input E2'!$E24:$ND24)","v":0},{"$f":"SUMIF('Input E2'!$E$2:$ND$2,Rekenblad!BU$3,'Input E2'!$E24:$ND24)","v":0},null,2]
[null,null,null,{"$f":"'Input E2'!C25","v":"Number of Taskgroupmeetings"},{"$f":"SUMIF('Input E2'!$E$3:$ND$3,Rekenblad!E$3,'Input E2'!$E25:$ND25)","v":0},{"$f":"SUMIF('Input E2'!$E$3:$ND$3,Rekenblad!F$3,'Input E2'!$E25:$ND25)","v":0},{"$f":"SUMIF('Input E2'!$E$3:$ND$3,Rekenblad!G$3,'Input E2'!$E25:$ND25)","v":0},{"$f":"SUMIF('Input E2'!$E$3:$ND$3,Rekenblad!H$3,'Input E2'!$E25:$ND25)","v":0},{"$f":"SUMIF('Input E2'!$E$3:$ND$3,Rekenblad!I$3,'Input E2'!$E25:$ND25)","v":0},{"$f":"SUMIF('Input E2'!$E$3:$ND$3,Rekenblad!J$3,'Input E2'!$E25:$ND25)","v":0},{"$f":"SUMIF('Input E2'!$E$3:$ND$3,Rekenblad!K$3,'Input E2'!$E25:$ND25)","v":0},{"$f":"SUMIF('Input E2'!$E$3:$ND$3,Rekenblad!L$3,'Input E2'!$E25:$ND25)","v":0},{"$f":"SUMIF('Input E2'!$E$3:$ND$3,Rekenblad!M$3,'Input E2'!$E25:$ND25)","v":0},{"$f":"SUMIF('Input E2'!$E$3:$ND$3,Rekenblad!N$3,'Input E2'!$E25:$ND25)","v":0},{"$f":"SUMIF('Input E2'!$E$3:$ND$3,Rekenblad!O$3,'Input E2'!$E25:$ND25)","v":0},{"$f":"SUMIF('Input E2'!$E$3:$ND$3,Rekenblad!P$3,'Input E2'!$E25:$ND25)","v":0},{"$f":"SUMIF('Input E2'!$E$3:$ND$3,Rekenblad!Q$3,'Input E2'!$E25:$ND25)","v":0},{"$f":"SUMIF('Input E2'!$E$3:$ND$3,Rekenblad!R$3,'Input E2'!$E25:$ND25)","v":0},{"$f":"SUMIF('Input E2'!$E$3:$ND$3,Rekenblad!S$3,'Input E2'!$E25:$ND25)","v":0},{"$f":"SUMIF('Input E2'!$E$3:$ND$3,Rekenblad!T$3,'Input E2'!$E25:$ND25)","v":0},{"$f":"SUMIF('Input E2'!$E$3:$ND$3,Rekenblad!U$3,'Input E2'!$E25:$ND25)","v":0},{"$f":"SUMIF('Input E2'!$E$3:$ND$3,Rekenblad!V$3,'Input E2'!$E25:$ND25)","v":0},{"$f":"SUMIF('Input E2'!$E$3:$ND$3,Rekenblad!W$3,'Input E2'!$E25:$ND25)","v":0},{"$f":"SUMIF('Input E2'!$E$3:$ND$3,Rekenblad!X$3,'Input E2'!$E25:$ND25)","v":0},{"$f":"SUMIF('Input E2'!$E$3:$ND$3,Rekenblad!Y$3,'Input E2'!$E25:$ND25)","v":0},{"$f":"SUMIF('Input E2'!$E$3:$ND$3,Rekenblad!Z$3,'Input E2'!$E25:$ND25)","v":0},{"$f":"SUMIF('Input E2'!$E$3:$ND$3,Rekenblad!AA$3,'Input E2'!$E25:$ND25)","v":0},{"$f":"SUMIF('Input E2'!$E$3:$ND$3,Rekenblad!AB$3,'Input E2'!$E25:$ND25)","v":1},{"$f":"SUMIF('Input E2'!$E$3:$ND$3,Rekenblad!AC$3,'Input E2'!$E25:$ND25)","v":0},{"$f":"SUMIF('Input E2'!$E$3:$ND$3,Rekenblad!AD$3,'Input E2'!$E25:$ND25)","v":0},{"$f":"SUMIF('Input E2'!$E$3:$ND$3,Rekenblad!AE$3,'Input E2'!$E25:$ND25)","v":0},{"$f":"SUMIF('Input E2'!$E$3:$ND$3,Rekenblad!AF$3,'Input E2'!$E25:$ND25)","v":0},{"$f":"SUMIF('Input E2'!$E$3:$ND$3,Rekenblad!AG$3,'Input E2'!$E25:$ND25)","v":0},{"$f":"SUMIF('Input E2'!$E$3:$ND$3,Rekenblad!AH$3,'Input E2'!$E25:$ND25)","v":0},{"$f":"SUMIF('Input E2'!$E$3:$ND$3,Rekenblad!AI$3,'Input E2'!$E25:$ND25)","v":0},{"$f":"SUMIF('Input E2'!$E$3:$ND$3,Rekenblad!AJ$3,'Input E2'!$E25:$ND25)","v":0},{"$f":"SUMIF('Input E2'!$E$3:$ND$3,Rekenblad!AK$3,'Input E2'!$E25:$ND25)","v":0},{"$f":"SUMIF('Input E2'!$E$3:$ND$3,Rekenblad!AL$3,'Input E2'!$E25:$ND25)","v":0},{"$f":"SUMIF('Input E2'!$E$3:$ND$3,Rekenblad!AM$3,'Input E2'!$E25:$ND25)","v":0},{"$f":"SUMIF('Input E2'!$E$3:$ND$3,Rekenblad!AN$3,'Input E2'!$E25:$ND25)","v":0},{"$f":"SUMIF('Input E2'!$E$3:$ND$3,Rekenblad!AO$3,'Input E2'!$E25:$ND25)","v":0},{"$f":"SUMIF('Input E2'!$E$3:$ND$3,Rekenblad!AP$3,'Input E2'!$E25:$ND25)","v":0},{"$f":"SUMIF('Input E2'!$E$3:$ND$3,Rekenblad!AQ$3,'Input E2'!$E25:$ND25)","v":1},{"$f":"SUMIF('Input E2'!$E$3:$ND$3,Rekenblad!AR$3,'Input E2'!$E25:$ND25)","v":0},{"$f":"SUMIF('Input E2'!$E$3:$ND$3,Rekenblad!AS$3,'Input E2'!$E25:$ND25)","v":0},{"$f":"SUMIF('Input E2'!$E$3:$ND$3,Rekenblad!AT$3,'Input E2'!$E25:$ND25)","v":0},{"$f":"SUMIF('Input E2'!$E$3:$ND$3,Rekenblad!AU$3,'Input E2'!$E25:$ND25)","v":0},{"$f":"SUMIF('Input E2'!$E$3:$ND$3,Rekenblad!AV$3,'Input E2'!$E25:$ND25)","v":0},{"$f":"SUMIF('Input E2'!$E$3:$ND$3,Rekenblad!AW$3,'Input E2'!$E25:$ND25)","v":0},{"$f":"SUMIF('Input E2'!$E$3:$ND$3,Rekenblad!AX$3,'Input E2'!$E25:$ND25)","v":0},{"$f":"SUMIF('Input E2'!$E$3:$ND$3,Rekenblad!AY$3,'Input E2'!$E25:$ND25)","v":0},{"$f":"SUMIF('Input E2'!$E$3:$ND$3,Rekenblad!AZ$3,'Input E2'!$E25:$ND25)","v":0},{"$f":"SUMIF('Input E2'!$E$3:$ND$3,Rekenblad!BA$3,'Input E2'!$E25:$ND25)","v":0},{"$f":"SUMIF('Input E2'!$E$3:$ND$3,Rekenblad!BB$3,'Input E2'!$E25:$ND25)","v":0},{"$f":"SUMIF('Input E2'!$E$3:$ND$3,Rekenblad!BC$3,'Input E2'!$E25:$ND25)","v":0},{"$f":"SUMIF('Input E2'!$E$3:$ND$3,Rekenblad!BD$3,'Input E2'!$E25:$ND25)","v":0},{"$f":"SUMIF('Input E2'!$E$3:$ND$3,Rekenblad!BE$3,'Input E2'!$E25:$ND25)","v":0},null,null,null,null,{"$f":"SUMIF('Input E2'!$E$2:$ND$2,Rekenblad!BJ$3,'Input E2'!$E25:$ND25)","v":0},{"$f":"SUMIF('Input E2'!$E$2:$ND$2,Rekenblad!BK$3,'Input E2'!$E25:$ND25)","v":0},{"$f":"SUMIF('Input E2'!$E$2:$ND$2,Rekenblad!BL$3,'Input E2'!$E25:$ND25)","v":0},{"$f":"SUMIF('Input E2'!$E$2:$ND$2,Rekenblad!BM$3,'Input E2'!$E25:$ND25)","v":0},{"$f":"SUMIF('Input E2'!$E$2:$ND$2,Rekenblad!BN$3,'Input E2'!$E25:$ND25)","v":0},{"$f":"SUMIF('Input E2'!$E$2:$ND$2,Rekenblad!BO$3,'Input E2'!$E25:$ND25)","v":1},{"$f":"SUMIF('Input E2'!$E$2:$ND$2,Rekenblad!BP$3,'Input E2'!$E25:$ND25)","v":0},{"$f":"SUMIF('Input E2'!$E$2:$ND$2,Rekenblad!BQ$3,'Input E2'!$E25:$ND25)","v":0},{"$f":"SUMIF('Input E2'!$E$2:$ND$2,Rekenblad!BR$3,'Input E2'!$E25:$ND25)","v":1},{"$f":"SUMIF('Input E2'!$E$2:$ND$2,Rekenblad!BS$3,'Input E2'!$E25:$ND25)","v":0},{"$f":"SUMIF('Input E2'!$E$2:$ND$2,Rekenblad!BT$3,'Input E2'!$E25:$ND25)","v":0},{"$f":"SUMIF('Input E2'!$E$2:$ND$2,Rekenblad!BU$3,'Input E2'!$E25:$ND25)","v":0},null,2]
[]
[]
[]
[null,null,null,{"$f":"'Input E2'!C29","v":"Realized SRM LH"},{"$f":"SUMIF('Input E2'!$E$3:$ND$3,Rekenblad!E$3,'Input E2'!$E29:$ND29)","v":0},{"$f":"SUMIF('Input E2'!$E$3:$ND$3,Rekenblad!F$3,'Input E2'!$E29:$ND29)","v":0},{"$f":"SUMIF('Input E2'!$E$3:$ND$3,Rekenblad!G$3,'Input E2'!$E29:$ND29)","v":0},{"$f":"SUMIF('Input E2'!$E$3:$ND$3,Rekenblad!H$3,'Input E2'!$E29:$ND29)","v":0},{"$f":"SUMIF('Input E2'!$E$3:$ND$3,Rekenblad!I$3,'Input E2'!$E29:$ND29)","v":0},{"$f":"SUMIF('Input E2'!$E$3:$ND$3,Rekenblad!J$3,'Input E2'!$E29:$ND29)","v":0},{"$f":"SUMIF('Input E2'!$E$3:$ND$3,Rekenblad!K$3,'Input E2'!$E29:$ND29)","v":0},{"$f":"SUMIF('Input E2'!$E$3:$ND$3,Rekenblad!L$3,'Input E2'!$E29:$ND29)","v":0},{"$f":"SUMIF('Input E2'!$E$3:$ND$3,Rekenblad!M$3,'Input E2'!$E29:$ND29)","v":0},{"$f":"SUMIF('Input E2'!$E$3:$ND$3,Rekenblad!N$3,'Input E2'!$E29:$ND29)","v":0},{"$f":"SUMIF('Input E2'!$E$3:$ND$3,Rekenblad!O$3,'Input E2'!$E29:$ND29)","v":0},{"$f":"SUMIF('Input E2'!$E$3:$ND$3,Rekenblad!P$3,'Input E2'!$E29:$ND29)","v":0},{"$f":"SUMIF('Input E2'!$E$3:$ND$3,Rekenblad!Q$3,'Input E2'!$E29:$ND29)","v":0},{"$f":"SUMIF('Input E2'!$E$3:$ND$3,Rekenblad!R$3,'Input E2'!$E29:$ND29)","v":0},{"$f":"SUMIF('Input E2'!$E$3:$ND$3,Rekenblad!S$3,'Input E2'!$E29:$ND29)","v":0},{"$f":"SUMIF('Input E2'!$E$3:$ND$3,Rekenblad!T$3,'Input E2'!$E29:$ND29)","v":0},{"$f":"SUMIF('Input E2'!$E$3:$ND$3,Rekenblad!U$3,'Input E2'!$E29:$ND29)","v":0},{"$f":"SUMIF('Input E2'!$E$3:$ND$3,Rekenblad!V$3,'Input E2'!$E29:$ND29)","v":0},{"$f":"SUMIF('Input E2'!$E$3:$ND$3,Rekenblad!W$3,'Input E2'!$E29:$ND29)","v":0},{"$f":"SUMIF('Input E2'!$E$3:$ND$3,Rekenblad!X$3,'Input E2'!$E29:$ND29)","v":1584},{"$f":"SUMIF('Input E2'!$E$3:$ND$3,Rekenblad!Y$3,'Input E2'!$E29:$ND29)","v":1453},{"$f":"SUMIF('Input E2'!$E$3:$ND$3,Rekenblad!Z$3,'Input E2'!$E29:$ND29)","v":1544},{"$f":"SUMIF('Input E2'!$E$3:$ND$3,Rekenblad!AA$3,'Input E2'!$E29:$ND29)","v":1524},{"$f":"SUMIF('Input E2'!$E$3:$ND$3,Rekenblad!AB$3,'Input E2'!$E29:$ND29)","v":1670},{"$f":"SUMIF('Input E2'!$E$3:$ND$3,Rekenblad!AC$3,'Input E2'!$E29:$ND29)","v":1281},{"$f":"SUMIF('Input E2'!$E$3:$ND$3,Rekenblad!AD$3,'Input E2'!$E29:$ND29)","v":1390},{"$f":"SUMIF('Input E2'!$E$3:$ND$3,Rekenblad!AE$3,'Input E2'!$E29:$ND29)","v":1705},{"$f":"SUMIF('Input E2'!$E$3:$ND$3,Rekenblad!AF$3,'Input E2'!$E29:$ND29)","v":1635},{"$f":"SUMIF('Input E2'!$E$3:$ND$3,Rekenblad!AG$3,'Input E2'!$E29:$ND29)","v":1033},{"$f":"SUMIF('Input E2'!$E$3:$ND$3,Rekenblad!AH$3,'Input E2'!$E29:$ND29)","v":0},{"$f":"SUMIF('Input E2'!$E$3:$ND$3,Rekenblad!AI$3,'Input E2'!$E29:$ND29)","v":0},{"$f":"SUMIF('Input E2'!$E$3:$ND$3,Rekenblad!AJ$3,'Input E2'!$E29:$ND29)","v":0},{"$f":"SUMIF('Input E2'!$E$3:$ND$3,Rekenblad!AK$3,'Input E2'!$E29:$ND29)","v":1767},{"$f":"SUMIF('Input E2'!$E$3:$ND$3,Rekenblad!AL$3,'Input E2'!$E29:$ND29)","v":1494},{"$f":"SUMIF('Input E2'!$E$3:$ND$3,Rekenblad!AM$3,'Input E2'!$E29:$ND29)","v":1774},{"$f":"SUMIF('Input E2'!$E$3:$ND$3,Rekenblad!AN$3,'Input E2'!$E29:$ND29)","v":1721},{"$f":"SUMIF('Input E2'!$E$3:$ND$3,Rekenblad!AO$3,'Input E2'!$E29:$ND29)","v":1739},{"$f":"SUMIF('Input E2'!$E$3:$ND$3,Rekenblad!AP$3,'Input E2'!$E29:$ND29)","v":1550},{"$f":"SUMIF('Input E2'!$E$3:$ND$3,Rekenblad!AQ$3,'Input E2'!$E29:$ND29)","v":1944},{"$f":"SUMIF('Input E2'!$E$3:$ND$3,Rekenblad!AR$3,'Input E2'!$E29:$ND29)","v":1641},{"$f":"SUMIF('Input E2'!$E$3:$ND$3,Rekenblad!AS$3,'Input E2'!$E29:$ND29)","v":0},{"$f":"SUMIF('Input E2'!$E$3:$ND$3,Rekenblad!AT$3,'Input E2'!$E29:$ND29)","v":0},{"$f":"SUMIF('Input E2'!$E$3:$ND$3,Rekenblad!AU$3,'Input E2'!$E29:$ND29)","v":0},{"$f":"SUMIF('Input E2'!$E$3:$ND$3,Rekenblad!AV$3,'Input E2'!$E29:$ND29)","v":0},{"$f":"SUMIF('Input E2'!$E$3:$ND$3,Rekenblad!AW$3,'Input E2'!$E29:$ND29)","v":0},{"$f":"SUMIF('Input E2'!$E$3:$ND$3,Rekenblad!AX$3,'Input E2'!$E29:$ND29)","v":0},{"$f":"SUMIF('Input E2'!$E$3:$ND$3,Rekenblad!AY$3,'Input E2'!$E29:$ND29)","v":0},{"$f":"SUMIF('Input E2'!$E$3:$ND$3,Rekenblad!AZ$3,'Input E2'!$E29:$ND29)","v":0},{"$f":"SUMIF('Input E2'!$E$3:$ND$3,Rekenblad!BA$3,'Input E2'!$E29:$ND29)","v":0},{"$f":"SUMIF('Input E2'!$E$3:$ND$3,Rekenblad!BB$3,'Input E2'!$E29:$ND29)","v":0},{"$f":"SUMIF('Input E2'!$E$3:$ND$3,Rekenblad!BC$3,'Input E2'!$E29:$ND29)","v":0},{"$f":"SUMIF('Input E2'!$E$3:$ND$3,Rekenblad!BD$3,'Input E2'!$E29:$ND29)","v":0},{"$f":"SUMIF('Input E2'!$E$3:$ND$3,Rekenblad!BE$3,'Input E2'!$E29:$ND29)","v":0},null,null,null,null,{"$f":"SUMIF('Input E2'!$E$2:$ND$2,Rekenblad!BJ$3,'Input E2'!$E29:$ND29)","v":0},{"$f":"SUMIF('Input E2'!$E$2:$ND$2,Rekenblad!BK$3,'Input E2'!$E29:$ND29)","v":0},{"$f":"SUMIF('Input E2'!$E$2:$ND$2,Rekenblad!BL$3,'Input E2'!$E29:$ND29)","v":0},{"$f":"SUMIF('Input E2'!$E$2:$ND$2,Rekenblad!BM$3,'Input E2'!$E29:$ND29)","v":0},{"$f":"SUMIF('Input E2'!$E$2:$ND$2,Rekenblad!BN$3,'Input E2'!$E29:$ND29)","v":4247},{"$f":"SUMIF('Input E2'!$E$2:$ND$2,Rekenblad!BO$3,'Input E2'!$E29:$ND29)","v":6199},{"$f":"SUMIF('Input E2'!$E$2:$ND$2,Rekenblad!BP$3,'Input E2'!$E29:$ND29)","v":4373},{"$f":"SUMIF('Input E2'!$E$2:$ND$2,Rekenblad!BQ$3,'Input E2'!$E29:$ND29)","v":5035},{"$f":"SUMIF('Input E2'!$E$2:$ND$2,Rekenblad!BR$3,'Input E2'!$E29:$ND29)","v":6954},{"$f":"SUMIF('Input E2'!$E$2:$ND$2,Rekenblad!BS$3,'Input E2'!$E29:$ND29)","v":1641},{"$f":"SUMIF('Input E2'!$E$2:$ND$2,Rekenblad!BT$3,'Input E2'!$E29:$ND29)","v":0},{"$f":"SUMIF('Input E2'!$E$2:$ND$2,Rekenblad!BU$3,'Input E2'!$E29:$ND29)","v":0},null,28449]
[null,null,null,{"$f":"'Input E2'!C30","v":"Downtime Technical SRM LH [Min]"},{"$f":"SUMIF('Input E2'!$E$3:$ND$3,Rekenblad!E$3,'Input E2'!$E30:$ND30)","v":0},{"$f":"SUMIF('Input E2'!$E$3:$ND$3,Rekenblad!F$3,'Input E2'!$E30:$ND30)","v":163},{"$f":"SUMIF('Input E2'!$E$3:$ND$3,Rekenblad!G$3,'Input E2'!$E30:$ND30)","v":209},{"$f":"SUMIF('Input E2'!$E$3:$ND$3,Rekenblad!H$3,'Input E2'!$E30:$ND30)","v":0},{"$f":"SUMIF('Input E2'!$E$3:$ND$3,Rekenblad!I$3,'Input E2'!$E30:$ND30)","v":121},{"$f":"SUMIF('Input E2'!$E$3:$ND$3,Rekenblad!J$3,'Input E2'!$E30:$ND30)","v":168},{"$f":"SUMIF('Input E2'!$E$3:$ND$3,Rekenblad!K$3,'Input E2'!$E30:$ND30)","v":10},{"$f":"SUMIF('Input E2'!$E$3:$ND$3,Rekenblad!L$3,'Input E2'!$E30:$ND30)","v":133},{"$f":"SUMIF('Input E2'!$E$3:$ND$3,Rekenblad!M$3,'Input E2'!$E30:$ND30)","v":118},{"$f":"SUMIF('Input E2'!$E$3:$ND$3,Rekenblad!N$3,'Input E2'!$E30:$ND30)","v":0},{"$f":"SUMIF('Input E2'!$E$3:$ND$3,Rekenblad!O$3,'Input E2'!$E30:$ND30)","v":178},{"$f":"SUMIF('Input E2'!$E$3:$ND$3,Rekenblad!P$3,'Input E2'!$E30:$ND30)","v":105},{"$f":"SUMIF('Input E2'!$E$3:$ND$3,Rekenblad!Q$3,'Input E2'!$E30:$ND30)","v":0},{"$f":"SUMIF('Input E2'!$E$3:$ND$3,Rekenblad!R$3,'Input E2'!$E30:$ND30)","v":187},{"$f":"SUMIF('Input E2'!$E$3:$ND$3,Rekenblad!S$3,'Input E2'!$E30:$ND30)","v":283},{"$f":"SUMIF('Input E2'!$E$3:$ND$3,Rekenblad!T$3,'Input E2'!$E30:$ND30)","v":333},{"$f":"SUMIF('Input E2'!$E$3:$ND$3,Rekenblad!U$3,'Input E2'!$E30:$ND30)","v":170},{"$f":"SUMIF('Input E2'!$E$3:$ND$3,Rekenblad!V$3,'Input E2'!$E30:$ND30)","v":393},{"$f":"SUMIF('Input E2'!$E$3:$ND$3,Rekenblad!W$3,'Input E2'!$E30:$ND30)","v":115},{"$f":"SUMIF('Input E2'!$E$3:$ND$3,Rekenblad!X$3,'Input E2'!$E30:$ND30)","v":204},{"$f":"SUMIF('Input E2'!$E$3:$ND$3,Rekenblad!Y$3,'Input E2'!$E30:$ND30)","v":190},{"$f":"SUMIF('Input E2'!$E$3:$ND$3,Rekenblad!Z$3,'Input E2'!$E30:$ND30)","v":141},{"$f":"SUMIF('Input E2'!$E$3:$ND$3,Rekenblad!AA$3,'Input E2'!$E30:$ND30)","v":145},{"$f":"SUMIF('Input E2'!$E$3:$ND$3,Rekenblad!AB$3,'Input E2'!$E30:$ND30)","v":206},{"$f":"SUMIF('Input E2'!$E$3:$ND$3,Rekenblad!AC$3,'Input E2'!$E30:$ND30)","v":46},{"$f":"SUMIF('Input E2'!$E$3:$ND$3,Rekenblad!AD$3,'Input E2'!$E30:$ND30)","v":47},{"$f":"SUMIF('Input E2'!$E$3:$ND$3,Rekenblad!AE$3,'Input E2'!$E30:$ND30)","v":167},{"$f":"SUMIF('Input E2'!$E$3:$ND$3,Rekenblad!AF$3,'Input E2'!$E30:$ND30)","v":106},{"$f":"SUMIF('Input E2'!$E$3:$ND$3,Rekenblad!AG$3,'Input E2'!$E30:$ND30)","v":140},{"$f":"SUMIF('Input E2'!$E$3:$ND$3,Rekenblad!AH$3,'Input E2'!$E30:$ND30)","v":0},{"$f":"SUMIF('Input E2'!$E$3:$ND$3,Rekenblad!AI$3,'Input E2'!$E30:$ND30)","v":0},{"$f":"SUMIF('Input E2'!$E$3:$ND$3,Rekenblad!AJ$3,'Input E2'!$E30:$ND30)","v":0},{"$f":"SUMIF('Input E2'!$E$3:$ND$3,Rekenblad!AK$3,'Input E2'!$E30:$ND30)","v":137},{"$f":"SUMIF('Input E2'!$E$3:$ND$3,Rekenblad!AL$3,'Input E2'!$E30:$ND30)","v":136},{"$f":"SUMIF('Input E2'!$E$3:$ND$3,Rekenblad!AM$3,'Input E2'!$E30:$ND30)","v":225},{"$f":"SUMIF('Input E2'!$E$3:$ND$3,Rekenblad!AN$3,'Input E2'!$E30:$ND30)","v":243},{"$f":"SUMIF('Input E2'!$E$3:$ND$3,Rekenblad!AO$3,'Input E2'!$E30:$ND30)","v":124},{"$f":"SUMIF('Input E2'!$E$3:$ND$3,Rekenblad!AP$3,'Input E2'!$E30:$ND30)","v":278},{"$f":"SUMIF('Input E2'!$E$3:$ND$3,Rekenblad!AQ$3,'Input E2'!$E30:$ND30)","v":178},{"$f":"SUMIF('Input E2'!$E$3:$ND$3,Rekenblad!AR$3,'Input E2'!$E30:$ND30)","v":78},{"$f":"SUMIF('Input E2'!$E$3:$ND$3,Rekenblad!AS$3,'Input E2'!$E30:$ND30)","v":0},{"$f":"SUMIF('Input E2'!$E$3:$ND$3,Rekenblad!AT$3,'Input E2'!$E30:$ND30)","v":0},{"$f":"SUMIF('Input E2'!$E$3:$ND$3,Rekenblad!AU$3,'Input E2'!$E30:$ND30)","v":0},{"$f":"SUMIF('Input E2'!$E$3:$ND$3,Rekenblad!AV$3,'Input E2'!$E30:$ND30)","v":0},{"$f":"SUMIF('Input E2'!$E$3:$ND$3,Rekenblad!AW$3,'Input E2'!$E30:$ND30)","v":0},{"$f":"SUMIF('Input E2'!$E$3:$ND$3,Rekenblad!AX$3,'Input E2'!$E30:$ND30)","v":0},{"$f":"SUMIF('Input E2'!$E$3:$ND$3,Rekenblad!AY$3,'Input E2'!$E30:$ND30)","v":0},{"$f":"SUMIF('Input E2'!$E$3:$ND$3,Rekenblad!AZ$3,'Input E2'!$E30:$ND30)","v":0},{"$f":"SUMIF('Input E2'!$E$3:$ND$3,Rekenblad!BA$3,'Input E2'!$E30:$ND30)","v":0},{"$f":"SUMIF('Input E2'!$E$3:$ND$3,Rekenblad!BB$3,'Input E2'!$E30:$ND30)","v":0},{"$f":"SUMIF('Input E2'!$E$3:$ND$3,Rekenblad!BC$3,'Input E2'!$E30:$ND30)","v":0},{"$f":"SUMIF('Input E2'!$E$3:$ND$3,Rekenblad!BD$3,'Input E2'!$E30:$ND30)","v":0},{"$f":"SUMIF('Input E2'!$E$3:$ND$3,Rekenblad!BE$3,'Input E2'!$E30:$ND30)","v":0},null,null,null,null,{"$f":"SUMIF('Input E2'!$E$2:$ND$2,Rekenblad!BJ$3,'Input E2'!$E30:$ND30)","v":456},{"$f":"SUMIF('Input E2'!$E$2:$ND$2,Rekenblad!BK$3,'Input E2'!$E30:$ND30)","v":387},{"$f":"SUMIF('Input E2'!$E$2:$ND$2,Rekenblad!BL$3,'Input E2'!$E30:$ND30)","v":362},{"$f":"SUMIF('Input E2'!$E$2:$ND$2,Rekenblad!BM$3,'Input E2'!$E30:$ND30)","v":997},{"$f":"SUMIF('Input E2'!$E$2:$ND$2,Rekenblad!BN$3,'Input E2'!$E30:$ND30)","v":1013},{"$f":"SUMIF('Input E2'!$E$2:$ND$2,Rekenblad!BO$3,'Input E2'!$E30:$ND30)","v":450},{"$f":"SUMIF('Input E2'!$E$2:$ND$2,Rekenblad!BP$3,'Input E2'!$E30:$ND30)","v":413},{"$f":"SUMIF('Input E2'!$E$2:$ND$2,Rekenblad!BQ$3,'Input E2'!$E30:$ND30)","v":498},{"$f":"SUMIF('Input E2'!$E$2:$ND$2,Rekenblad!BR$3,'Input E2'!$E30:$ND30)","v":823},{"$f":"SUMIF('Input E2'!$E$2:$ND$2,Rekenblad!BS$3,'Input E2'!$E30:$ND30)","v":78},{"$f":"SUMIF('Input E2'!$E$2:$ND$2,Rekenblad!BT$3,'Input E2'!$E30:$ND30)","v":0},{"$f":"SUMIF('Input E2'!$E$2:$ND$2,Rekenblad!BU$3,'Input E2'!$E30:$ND30)","v":0},null,5477]
[null,null,null,{"$f":"'Input E2'!C31","v":"Downtime Technical SRM LH [%]"},{"$f":"IF(E23=0,0%,((E24*60)/((E23*62)+(E24*60))))","v":0},{"$f":"IF(F23=0,0%,((F24*60)/((F23*62)+(F24*60))))","v":0},0,0,0,0,0,0,0,0,0,0,0,0,0,0,0,0,0,0.11082138200782268,0.11233076483455846,8.1199370368948434E-2,8.4312129317362483E-2,0.10664365832614323,3.3583996495582975E-2,3.1685393258426967E-2,8.6580834701460302E-2,5.9036480089111665E-2,0.11594843055517212,0,0,0,6.9794691527841457E-2,8.0962019288010473E-2,0.10932236330655611,0.12021569565145694,6.4550833781603006E-2,0.14789856357510198,8.1397475763672941E-2,4.3975869651012009E-2,0,0,0,0,0,0,0,0,0,0,0,0,0,null,null,null,null,{"$f":"IF(BJ23=0,0%,((BJ24*60)/((BJ23*62)+(BJ24*60))))","v":0},{"$f":"IF(BK23=0,0%,((BK24*60)/((BK23*62)+(BK24*60))))","v":0},0,0,0.18753818336655415,6.5639449795545271E-2,8.3742810216758029E-2,8.7355649758807191E-2,0.10276196184197382,4.3975869651012009E-2,0,0,null,{"$f":"SUM(BJ25:BU25)/COUNTIF(BJ25:BU25,\"<>0,00%\")","v":9.5168987438441724E-2},"Aanpassen delen dor bw1"]
[null,null,null,{"$f":"'Input E2'!C32","v":"Blocked Starved [Min]"},{"$f":"SUMIF('Input E2'!$E$3:$ND$3,Rekenblad!E$3,'Input E2'!$E32:$ND32)","v":0},{"$f":"SUMIF('Input E2'!$E$3:$ND$3,Rekenblad!F$3,'Input E2'!$E32:$ND32)","v":0},{"$f":"SUMIF('Input E2'!$E$3:$ND$3,Rekenblad!G$3,'Input E2'!$E32:$ND32)","v":0},{"$f":"SUMIF('Input E2'!$E$3:$ND$3,Rekenblad!H$3,'Input E2'!$E32:$ND32)","v":0},{"$f":"SUMIF('Input E2'!$E$3:$ND$3,Rekenblad!I$3,'Input E2'!$E32:$ND32)","v":0},{"$f":"SUMIF('Input E2'!$E$3:$ND$3,Rekenblad!J$3,'Input E2'!$E32:$ND32)","v":0},{"$f":"SUMIF('Input E2'!$E$3:$ND$3,Rekenblad!K$3,'Input E2'!$E32:$ND32)","v":0},{"$f":"SUMIF('Input E2'!$E$3:$ND$3,Rekenblad!L$3,'Input E2'!$E32:$ND32)","v":0},{"$f":"SUMIF('Input E2'!$E$3:$ND$3,Rekenblad!M$3,'Input E2'!$E32:$ND32)","v":0},{"$f":"SUMIF('Input E2'!$E$3:$ND$3,Rekenblad!N$3,'Input E2'!$E32:$ND32)","v":0},{"$f":"SUMIF('Input E2'!$E$3:$ND$3,Rekenblad!O$3,'Input E2'!$E32:$ND32)","v":0},{"$f":"SUMIF('Input E2'!$E$3:$ND$3,Rekenblad!P$3,'Input E2'!$E32:$ND32)","v":0},{"$f":"SUMIF('Input E2'!$E$3:$ND$3,Rekenblad!Q$3,'Input E2'!$E32:$ND32)","v":0},{"$f":"SUMIF('Input E2'!$E$3:$ND$3,Rekenblad!R$3,'Input E2'!$E32:$ND32)","v":0},{"$f":"SUMIF('Input E2'!$E$3:$ND$3,Rekenblad!S$3,'Input E2'!$E32:$ND32)","v":0},{"$f":"SUMIF('Input E2'!$E$3:$ND$3,Rekenblad!T$3,'Input E2'!$E32:$ND32)","v":0},{"$f":"SUMIF('Input E2'!$E$3:$ND$3,Rekenblad!U$3,'Input E2'!$E32:$ND32)","v":0},{"$f":"SUMIF('Input E2'!$E$3:$ND$3,Rekenblad!V$3,'Input E2'!$E32:$ND32)","v":0},{"$f":"SUMIF('Input E2'!$E$3:$ND$3,Rekenblad!W$3,'Input E2'!$E32:$ND32)","v":0},{"$f":"SUMIF('Input E2'!$E$3:$ND$3,Rekenblad!X$3,'Input E2'!$E32:$ND32)","v":193},{"$f":"SUMIF('Input E2'!$E$3:$ND$3,Rekenblad!Y$3,'Input E2'!$E32:$ND32)","v":200},{"$f":"SUMIF('Input E2'!$E$3:$ND$3,Rekenblad!Z$3,'Input E2'!$E32:$ND32)","v":237},{"$f":"SUMIF('Input E2'!$E$3:$ND$3,Rekenblad!AA$3,'Input E2'!$E32:$ND32)","v":204},{"$f":"SUMIF('Input E2'!$E$3:$ND$3,Rekenblad!AB$3,'Input E2'!$E32:$ND32)","v":200},{"$f":"SUMIF('Input E2'!$E$3:$ND$3,Rekenblad!AC$3,'Input E2'!$E32:$ND32)","v":346},{"$f":"SUMIF('Input E2'!$E$3:$ND$3,Rekenblad!AD$3,'Input E2'!$E32:$ND32)","v":251},{"$f":"SUMIF('Input E2'!$E$3:$ND$3,Rekenblad!AE$3,'Input E2'!$E32:$ND32)","v":234},{"$f":"SUMIF('Input E2'!$E$3:$ND$3,Rekenblad!AF$3,'Input E2'!$E32:$ND32)","v":173},{"$f":"SUMIF('Input E2'!$E$3:$ND$3,Rekenblad!AG$3,'Input E2'!$E32:$ND32)","v":141},{"$f":"SUMIF('Input E2'!$E$3:$ND$3,Rekenblad!AH$3,'Input E2'!$E32:$ND32)","v":0},{"$f":"SUMIF('Input E2'!$E$3:$ND$3,Rekenblad!AI$3,'Input E2'!$E32:$ND32)","v":0},{"$f":"SUMIF('Input E2'!$E$3:$ND$3,Rekenblad!AJ$3,'Input E2'!$E32:$ND32)","v":0},{"$f":"SUMIF('Input E2'!$E$3:$ND$3,Rekenblad!AK$3,'Input E2'!$E32:$ND32)","v":280},{"$f":"SUMIF('Input E2'!$E$3:$ND$3,Rekenblad!AL$3,'Input E2'!$E32:$ND32)","v":245},{"$f":"SUMIF('Input E2'!$E$3:$ND$3,Rekenblad!AM$3,'Input E2'!$E32:$ND32)","v":217},{"$f":"SUMIF('Input E2'!$E$3:$ND$3,Rekenblad!AN$3,'Input E2'!$E32:$ND32)","v":256},{"$f":"SUMIF('Input E2'!$E$3:$ND$3,Rekenblad!AO$3,'Input E2'!$E32:$ND32)","v":212},{"$f":"SUMIF('Input E2'!$E$3:$ND$3,Rekenblad!AP$3,'Input E2'!$E32:$ND32)","v":268},{"$f":"SUMIF('Input E2'!$E$3:$ND$3,Rekenblad!AQ$3,'Input E2'!$E32:$ND32)","v":315},{"$f":"SUMIF('Input E2'!$E$3:$ND$3,Rekenblad!AR$3,'Input E2'!$E32:$ND32)","v":243},{"$f":"SUMIF('Input E2'!$E$3:$ND$3,Rekenblad!AS$3,'Input E2'!$E32:$ND32)","v":0},{"$f":"SUMIF('Input E2'!$E$3:$ND$3,Rekenblad!AT$3,'Input E2'!$E32:$ND32)","v":0},{"$f":"SUMIF('Input E2'!$E$3:$ND$3,Rekenblad!AU$3,'Input E2'!$E32:$ND32)","v":0},{"$f":"SUMIF('Input E2'!$E$3:$ND$3,Rekenblad!AV$3,'Input E2'!$E32:$ND32)","v":0},{"$f":"SUMIF('Input E2'!$E$3:$ND$3,Rekenblad!AW$3,'Input E2'!$E32:$ND32)","v":0},{"$f":"SUMIF('Input E2'!$E$3:$ND$3,Rekenblad!AX$3,'Input E2'!$E32:$ND32)","v":0},{"$f":"SUMIF('Input E2'!$E$3:$ND$3,Rekenblad!AY$3,'Input E2'!$E32:$ND32)","v":0},{"$f":"SUMIF('Input E2'!$E$3:$ND$3,Rekenblad!AZ$3,'Input E2'!$E32:$ND32)","v":0},{"$f":"SUMIF('Input E2'!$E$3:$ND$3,Rekenblad!BA$3,'Input E2'!$E32:$ND32)","v":0},{"$f":"SUMIF('Input E2'!$E$3:$ND$3,Rekenblad!BB$3,'Input E2'!$E32:$ND32)","v":0},{"$f":"SUMIF('Input E2'!$E$3:$ND$3,Rekenblad!BC$3,'Input E2'!$E32:$ND32)","v":0},{"$f":"SUMIF('Input E2'!$E$3:$ND$3,Rekenblad!BD$3,'Input E2'!$E32:$ND32)","v":0},{"$f":"SUMIF('Input E2'!$E$3:$ND$3,Rekenblad!BE$3,'Input E2'!$E32:$ND32)","v":0},null,null,null,null,{"$f":"SUMIF('Input E2'!$E$2:$ND$2,Rekenblad!BJ$3,'Input E2'!$E32:$ND32)","v":0},{"$f":"SUMIF('Input E2'!$E$2:$ND$2,Rekenblad!BK$3,'Input E2'!$E32:$ND32)","v":0},{"$f":"SUMIF('Input E2'!$E$2:$ND$2,Rekenblad!BL$3,'Input E2'!$E32:$ND32)","v":0},{"$f":"SUMIF('Input E2'!$E$2:$ND$2,Rekenblad!BM$3,'Input E2'!$E32:$ND32)","v":0},{"$f":"SUMIF('Input E2'!$E$2:$ND$2,Rekenblad!BN$3,'Input E2'!$E32:$ND32)","v":589},{"$f":"SUMIF('Input E2'!$E$2:$ND$2,Rekenblad!BO$3,'Input E2'!$E32:$ND32)","v":1042},{"$f":"SUMIF('Input E2'!$E$2:$ND$2,Rekenblad!BP$3,'Input E2'!$E32:$ND32)","v":548},{"$f":"SUMIF('Input E2'!$E$2:$ND$2,Rekenblad!BQ$3,'Input E2'!$E32:$ND32)","v":742},{"$f":"SUMIF('Input E2'!$E$2:$ND$2,Rekenblad!BR$3,'Input E2'!$E32:$ND32)","v":1051},{"$f":"SUMIF('Input E2'!$E$2:$ND$2,Rekenblad!BS$3,'Input E2'!$E32:$ND32)","v":243},{"$f":"SUMIF('Input E2'!$E$2:$ND$2,Rekenblad!BT$3,'Input E2'!$E32:$ND32)","v":0},{"$f":"SUMIF('Input E2'!$E$2:$ND$2,Rekenblad!BU$3,'Input E2'!$E32:$ND32)","v":0},null,4215]
[null,null,null,{"$f":"'Input E2'!C33","v":"Parts at Break [Aantal]"},{"$f":"SUMIF('Input E2'!$E$3:$ND$3,Rekenblad!E$3,'Input E2'!$E33:$ND33)","v":0},{"$f":"SUMIF('Input E2'!$E$3:$ND$3,Rekenblad!F$3,'Input E2'!$E33:$ND33)","v":0},{"$f":"SUMIF('Input E2'!$E$3:$ND$3,Rekenblad!G$3,'Input E2'!$E33:$ND33)","v":0},{"$f":"SUMIF('Input E2'!$E$3:$ND$3,Rekenblad!H$3,'Input E2'!$E33:$ND33)","v":0},{"$f":"SUMIF('Input E2'!$E$3:$ND$3,Rekenblad!I$3,'Input E2'!$E33:$ND33)","v":0},{"$f":"SUMIF('Input E2'!$E$3:$ND$3,Rekenblad!J$3,'Input E2'!$E33:$ND33)","v":0},{"$f":"SUMIF('Input E2'!$E$3:$ND$3,Rekenblad!K$3,'Input E2'!$E33:$ND33)","v":0},{"$f":"SUMIF('Input E2'!$E$3:$ND$3,Rekenblad!L$3,'Input E2'!$E33:$ND33)","v":0},{"$f":"SUMIF('Input E2'!$E$3:$ND$3,Rekenblad!M$3,'Input E2'!$E33:$ND33)","v":0},{"$f":"SUMIF('Input E2'!$E$3:$ND$3,Rekenblad!N$3,'Input E2'!$E33:$ND33)","v":0},{"$f":"SUMIF('Input E2'!$E$3:$ND$3,Rekenblad!O$3,'Input E2'!$E33:$ND33)","v":0},{"$f":"SUMIF('Input E2'!$E$3:$ND$3,Rekenblad!P$3,'Input E2'!$E33:$ND33)","v":0},{"$f":"SUMIF('Input E2'!$E$3:$ND$3,Rekenblad!Q$3,'Input E2'!$E33:$ND33)","v":0},{"$f":"SUMIF('Input E2'!$E$3:$ND$3,Rekenblad!R$3,'Input E2'!$E33:$ND33)","v":0},{"$f":"SUMIF('Input E2'!$E$3:$ND$3,Rekenblad!S$3,'Input E2'!$E33:$ND33)","v":0},{"$f":"SUMIF('Input E2'!$E$3:$ND$3,Rekenblad!T$3,'Input E2'!$E33:$ND33)","v":0},{"$f":"SUMIF('Input E2'!$E$3:$ND$3,Rekenblad!U$3,'Input E2'!$E33:$ND33)","v":0},{"$f":"SUMIF('Input E2'!$E$3:$ND$3,Rekenblad!V$3,'Input E2'!$E33:$ND33)","v":0},{"$f":"SUMIF('Input E2'!$E$3:$ND$3,Rekenblad!W$3,'Input E2'!$E33:$ND33)","v":0},{"$f":"SUMIF('Input E2'!$E$3:$ND$3,Rekenblad!X$3,'Input E2'!$E33:$ND33)","v":168},{"$f":"SUMIF('Input E2'!$E$3:$ND$3,Rekenblad!Y$3,'Input E2'!$E33:$ND33)","v":107},{"$f":"SUMIF('Input E2'!$E$3:$ND$3,Rekenblad!Z$3,'Input E2'!$E33:$ND33)","v":104},{"$f":"SUMIF('Input E2'!$E$3:$ND$3,Rekenblad!AA$3,'Input E2'!$E33:$ND33)","v":168},{"$f":"SUMIF('Input E2'!$E$3:$ND$3,Rekenblad!AB$3,'Input E2'!$E33:$ND33)","v":145},{"$f":"SUMIF('Input E2'!$E$3:$ND$3,Rekenblad!AC$3,'Input E2'!$E33:$ND33)","v":95},{"$f":"SUMIF('Input E2'!$E$3:$ND$3,Rekenblad!AD$3,'Input E2'!$E33:$ND33)","v":100},{"$f":"SUMIF('Input E2'!$E$3:$ND$3,Rekenblad!AE$3,'Input E2'!$E33:$ND33)","v":123},{"$f":"SUMIF('Input E2'!$E$3:$ND$3,Rekenblad!AF$3,'Input E2'!$E33:$ND33)","v":146},{"$f":"SUMIF('Input E2'!$E$3:$ND$3,Rekenblad!AG$3,'Input E2'!$E33:$ND33)","v":83},{"$f":"SUMIF('Input E2'!$E$3:$ND$3,Rekenblad!AH$3,'Input E2'!$E33:$ND33)","v":0},{"$f":"SUMIF('Input E2'!$E$3:$ND$3,Rekenblad!AI$3,'Input E2'!$E33:$ND33)","v":0},{"$f":"SUMIF('Input E2'!$E$3:$ND$3,Rekenblad!AJ$3,'Input E2'!$E33:$ND33)","v":0},{"$f":"SUMIF('Input E2'!$E$3:$ND$3,Rekenblad!AK$3,'Input E2'!$E33:$ND33)","v":122},{"$f":"SUMIF('Input E2'!$E$3:$ND$3,Rekenblad!AL$3,'Input E2'!$E33:$ND33)","v":140},{"$f":"SUMIF('Input E2'!$E$3:$ND$3,Rekenblad!AM$3,'Input E2'!$E33:$ND33)","v":173},{"$f":"SUMIF('Input E2'!$E$3:$ND$3,Rekenblad!AN$3,'Input E2'!$E33:$ND33)","v":104},{"$f":"SUMIF('Input E2'!$E$3:$ND$3,Rekenblad!AO$3,'Input E2'!$E33:$ND33)","v":122},{"$f":"SUMIF('Input E2'!$E$3:$ND$3,Rekenblad!AP$3,'Input E2'!$E33:$ND33)","v":113},{"$f":"SUMIF('Input E2'!$E$3:$ND$3,Rekenblad!AQ$3,'Input E2'!$E33:$ND33)","v":197},{"$f":"SUMIF('Input E2'!$E$3:$ND$3,Rekenblad!AR$3,'Input E2'!$E33:$ND33)","v":140},{"$f":"SUMIF('Input E2'!$E$3:$ND$3,Rekenblad!AS$3,'Input E2'!$E33:$ND33)","v":0},{"$f":"SUMIF('Input E2'!$E$3:$ND$3,Rekenblad!AT$3,'Input E2'!$E33:$ND33)","v":0},{"$f":"SUMIF('Input E2'!$E$3:$ND$3,Rekenblad!AU$3,'Input E2'!$E33:$ND33)","v":0},{"$f":"SUMIF('Input E2'!$E$3:$ND$3,Rekenblad!AV$3,'Input E2'!$E33:$ND33)","v":0},{"$f":"SUMIF('Input E2'!$E$3:$ND$3,Rekenblad!AW$3,'Input E2'!$E33:$ND33)","v":0},{"$f":"SUMIF('Input E2'!$E$3:$ND$3,Rekenblad!AX$3,'Input E2'!$E33:$ND33)","v":0},{"$f":"SUMIF('Input E2'!$E$3:$ND$3,Rekenblad!AY$3,'Input E2'!$E33:$ND33)","v":0},{"$f":"SUMIF('Input E2'!$E$3:$ND$3,Rekenblad!AZ$3,'Input E2'!$E33:$ND33)","v":0},{"$f":"SUMIF('Input E2'!$E$3:$ND$3,Rekenblad!BA$3,'Input E2'!$E33:$ND33)","v":0},{"$f":"SUMIF('Input E2'!$E$3:$ND$3,Rekenblad!BB$3,'Input E2'!$E33:$ND33)","v":0},{"$f":"SUMIF('Input E2'!$E$3:$ND$3,Rekenblad!BC$3,'Input E2'!$E33:$ND33)","v":0},{"$f":"SUMIF('Input E2'!$E$3:$ND$3,Rekenblad!BD$3,'Input E2'!$E33:$ND33)","v":0},{"$f":"SUMIF('Input E2'!$E$3:$ND$3,Rekenblad!BE$3,'Input E2'!$E33:$ND33)","v":0},null,null,null,null,{"$f":"SUMIF('Input E2'!$E$2:$ND$2,Rekenblad!BJ$3,'Input E2'!$E33:$ND33)","v":0},{"$f":"SUMIF('Input E2'!$E$2:$ND$2,Rekenblad!BK$3,'Input E2'!$E33:$ND33)","v":0},{"$f":"SUMIF('Input E2'!$E$2:$ND$2,Rekenblad!BL$3,'Input E2'!$E33:$ND33)","v":0},{"$f":"SUMIF('Input E2'!$E$2:$ND$2,Rekenblad!BM$3,'Input E2'!$E33:$ND33)","v":0},{"$f":"SUMIF('Input E2'!$E$2:$ND$2,Rekenblad!BN$3,'Input E2'!$E33:$ND33)","v":360},{"$f":"SUMIF('Input E2'!$E$2:$ND$2,Rekenblad!BO$3,'Input E2'!$E33:$ND33)","v":527},{"$f":"SUMIF('Input E2'!$E$2:$ND$2,Rekenblad!BP$3,'Input E2'!$E33:$ND33)","v":352},{"$f":"SUMIF('Input E2'!$E$2:$ND$2,Rekenblad!BQ$3,'Input E2'!$E33:$ND33)","v":435},{"$f":"SUMIF('Input E2'!$E$2:$ND$2,Rekenblad!BR$3,'Input E2'!$E33:$ND33)","v":536},{"$f":"SUMIF('Input E2'!$E$2:$ND$2,Rekenblad!BS$3,'Input E2'!$E33:$ND33)","v":140},{"$f":"SUMIF('Input E2'!$E$2:$ND$2,Rekenblad!BT$3,'Input E2'!$E33:$ND33)","v":0},{"$f":"SUMIF('Input E2'!$E$2:$ND$2,Rekenblad!BU$3,'Input E2'!$E33:$ND33)","v":0},null,2350]
[null,null,null,{"$f":"'Input E2'!C34","v":"Planned Stop [Min]"},{"$f":"SUMIF('Input E2'!$E$3:$ND$3,Rekenblad!E$3,'Input E2'!$E34:$ND34)","v":0},{"$f":"SUMIF('Input E2'!$E$3:$ND$3,Rekenblad!F$3,'Input E2'!$E34:$ND34)","v":0},{"$f":"SUMIF('Input E2'!$E$3:$ND$3,Rekenblad!G$3,'Input E2'!$E34:$ND34)","v":0},{"$f":"SUMIF('Input E2'!$E$3:$ND$3,Rekenblad!H$3,'Input E2'!$E34:$ND34)","v":0},{"$f":"SUMIF('Input E2'!$E$3:$ND$3,Rekenblad!I$3,'Input E2'!$E34:$ND34)","v":0},{"$f":"SUMIF('Input E2'!$E$3:$ND$3,Rekenblad!J$3,'Input E2'!$E34:$ND34)","v":0},{"$f":"SUMIF('Input E2'!$E$3:$ND$3,Rekenblad!K$3,'Input E2'!$E34:$ND34)","v":0},{"$f":"SUMIF('Input E2'!$E$3:$ND$3,Rekenblad!L$3,'Input E2'!$E34:$ND34)","v":0},{"$f":"SUMIF('Input E2'!$E$3:$ND$3,Rekenblad!M$3,'Input E2'!$E34:$ND34)","v":0},{"$f":"SUMIF('Input E2'!$E$3:$ND$3,Rekenblad!N$3,'Input E2'!$E34:$ND34)","v":0},{"$f":"SUMIF('Input E2'!$E$3:$ND$3,Rekenblad!O$3,'Input E2'!$E34:$ND34)","v":0},{"$f":"SUMIF('Input E2'!$E$3:$ND$3,Rekenblad!P$3,'Input E2'!$E34:$ND34)","v":0},{"$f":"SUMIF('Input E2'!$E$3:$ND$3,Rekenblad!Q$3,'Input E2'!$E34:$ND34)","v":0},{"$f":"SUMIF('Input E2'!$E$3:$ND$3,Rekenblad!R$3,'Input E2'!$E34:$ND34)","v":0},{"$f":"SUMIF('Input E2'!$E$3:$ND$3,Rekenblad!S$3,'Input E2'!$E34:$ND34)","v":0},{"$f":"SUMIF('Input E2'!$E$3:$ND$3,Rekenblad!T$3,'Input E2'!$E34:$ND34)","v":0},{"$f":"SUMIF('Input E2'!$E$3:$ND$3,Rekenblad!U$3,'Input E2'!$E34:$ND34)","v":0},{"$f":"SUMIF('Input E2'!$E$3:$ND$3,Rekenblad!V$3,'Input E2'!$E34:$ND34)","v":0},{"$f":"SUMIF('Input E2'!$E$3:$ND$3,Rekenblad!W$3,'Input E2'!$E34:$ND34)","v":0},{"$f":"SUMIF('Input E2'!$E$3:$ND$3,Rekenblad!X$3,'Input E2'!$E34:$ND34)","v":0},{"$f":"SUMIF('Input E2'!$E$3:$ND$3,Rekenblad!Y$3,'Input E2'!$E34:$ND34)","v":0},{"$f":"SUMIF('Input E2'!$E$3:$ND$3,Rekenblad!Z$3,'Input E2'!$E34:$ND34)","v":0},{"$f":"SUMIF('Input E2'!$E$3:$ND$3,Rekenblad!AA$3,'Input E2'!$E34:$ND34)","v":0},{"$f":"SUMIF('Input E2'!$E$3:$ND$3,Rekenblad!AB$3,'Input E2'!$E34:$ND34)","v":0},{"$f":"SUMIF('Input E2'!$E$3:$ND$3,Rekenblad!AC$3,'Input E2'!$E34:$ND34)","v":0},{"$f":"SUMIF('Input E2'!$E$3:$ND$3,Rekenblad!AD$3,'Input E2'!$E34:$ND34)","v":0},{"$f":"SUMIF('Input E2'!$E$3:$ND$3,Rekenblad!AE$3,'Input E2'!$E34:$ND34)","v":35},{"$f":"SUMIF('Input E2'!$E$3:$ND$3,Rekenblad!AF$3,'Input E2'!$E34:$ND34)","v":90},{"$f":"SUMIF('Input E2'!$E$3:$ND$3,Rekenblad!AG$3,'Input E2'!$E34:$ND34)","v":30},{"$f":"SUMIF('Input E2'!$E$3:$ND$3,Rekenblad!AH$3,'Input E2'!$E34:$ND34)","v":0},{"$f":"SUMIF('Input E2'!$E$3:$ND$3,Rekenblad!AI$3,'Input E2'!$E34:$ND34)","v":0},{"$f":"SUMIF('Input E2'!$E$3:$ND$3,Rekenblad!AJ$3,'Input E2'!$E34:$ND34)","v":0},{"$f":"SUMIF('Input E2'!$E$3:$ND$3,Rekenblad!AK$3,'Input E2'!$E34:$ND34)","v":60},{"$f":"SUMIF('Input E2'!$E$3:$ND$3,Rekenblad!AL$3,'Input E2'!$E34:$ND34)","v":0},{"$f":"SUMIF('Input E2'!$E$3:$ND$3,Rekenblad!AM$3,'Input E2'!$E34:$ND34)","v":30},{"$f":"SUMIF('Input E2'!$E$3:$ND$3,Rekenblad!AN$3,'Input E2'!$E34:$ND34)","v":0},{"$f":"SUMIF('Input E2'!$E$3:$ND$3,Rekenblad!AO$3,'Input E2'!$E34:$ND34)","v":0},{"$f":"SUMIF('Input E2'!$E$3:$ND$3,Rekenblad!AP$3,'Input E2'!$E34:$ND34)","v":0},{"$f":"SUMIF('Input E2'!$E$3:$ND$3,Rekenblad!AQ$3,'Input E2'!$E34:$ND34)","v":35},{"$f":"SUMIF('Input E2'!$E$3:$ND$3,Rekenblad!AR$3,'Input E2'!$E34:$ND34)","v":0},{"$f":"SUMIF('Input E2'!$E$3:$ND$3,Rekenblad!AS$3,'Input E2'!$E34:$ND34)","v":0},{"$f":"SUMIF('Input E2'!$E$3:$ND$3,Rekenblad!AT$3,'Input E2'!$E34:$ND34)","v":0},{"$f":"SUMIF('Input E2'!$E$3:$ND$3,Rekenblad!AU$3,'Input E2'!$E34:$ND34)","v":0},{"$f":"SUMIF('Input E2'!$E$3:$ND$3,Rekenblad!AV$3,'Input E2'!$E34:$ND34)","v":0},{"$f":"SUMIF('Input E2'!$E$3:$ND$3,Rekenblad!AW$3,'Input E2'!$E34:$ND34)","v":0},{"$f":"SUMIF('Input E2'!$E$3:$ND$3,Rekenblad!AX$3,'Input E2'!$E34:$ND34)","v":0},{"$f":"SUMIF('Input E2'!$E$3:$ND$3,Rekenblad!AY$3,'Input E2'!$E34:$ND34)","v":0},{"$f":"SUMIF('Input E2'!$E$3:$ND$3,Rekenblad!AZ$3,'Input E2'!$E34:$ND34)","v":0},{"$f":"SUMIF('Input E2'!$E$3:$ND$3,Rekenblad!BA$3,'Input E2'!$E34:$ND34)","v":0},{"$f":"SUMIF('Input E2'!$E$3:$ND$3,Rekenblad!BB$3,'Input E2'!$E34:$ND34)","v":0},{"$f":"SUMIF('Input E2'!$E$3:$ND$3,Rekenblad!BC$3,'Input E2'!$E34:$ND34)","v":0},{"$f":"SUMIF('Input E2'!$E$3:$ND$3,Rekenblad!BD$3,'Input E2'!$E34:$ND34)","v":0},{"$f":"SUMIF('Input E2'!$E$3:$ND$3,Rekenblad!BE$3,'Input E2'!$E34:$ND34)","v":0},null,null,null,null,{"$f":"SUMIF('Input E2'!$E$2:$ND$2,Rekenblad!BJ$3,'Input E2'!$E34:$ND34)","v":0},{"$f":"SUMIF('Input E2'!$E$2:$ND$2,Rekenblad!BK$3,'Input E2'!$E34:$ND34)","v":0},{"$f":"SUMIF('Input E2'!$E$2:$ND$2,Rekenblad!BL$3,'Input E2'!$E34:$ND34)","v":0},{"$f":"SUMIF('Input E2'!$E$2:$ND$2,Rekenblad!BM$3,'Input E2'!$E34:$ND34)","v":0},{"$f":"SUMIF('Input E2'!$E$2:$ND$2,Rekenblad!BN$3,'Input E2'!$E34:$ND34)","v":0},{"$f":"SUMIF('Input E2'!$E$2:$ND$2,Rekenblad!BO$3,'Input E2'!$E34:$ND34)","v":0},{"$f":"SUMIF('Input E2'!$E$2:$ND$2,Rekenblad!BP$3,'Input E2'!$E34:$ND34)","v":155},{"$f":"SUMIF('Input E2'!$E$2:$ND$2,Rekenblad!BQ$3,'Input E2'!$E34:$ND34)","v":90},{"$f":"SUMIF('Input E2'!$E$2:$ND$2,Rekenblad!BR$3,'Input E2'!$E34:$ND34)","v":35},{"$f":"SUMIF('Input E2'!$E$2:$ND$2,Rekenblad!BS$3,'Input E2'!$E34:$ND34)","v":0},{"$f":"SUMIF('Input E2'!$E$2:$ND$2,Rekenblad!BT$3,'Input E2'!$E34:$ND34)","v":0},{"$f":"SUMIF('Input E2'!$E$2:$ND$2,Rekenblad!BU$3,'Input E2'!$E34:$ND34)","v":0},null,280]
[]
[null,null,null,{"$f":"'Input E2'!C35","v":"Realized SRM RH"},{"$f":"SUMIF('Input E2'!$E$3:$ND$3,Rekenblad!E$3,'Input E2'!$E35:$ND35)","v":0},{"$f":"SUMIF('Input E2'!$E$3:$ND$3,Rekenblad!F$3,'Input E2'!$E35:$ND35)","v":0},{"$f":"SUMIF('Input E2'!$E$3:$ND$3,Rekenblad!G$3,'Input E2'!$E35:$ND35)","v":0},{"$f":"SUMIF('Input E2'!$E$3:$ND$3,Rekenblad!H$3,'Input E2'!$E35:$ND35)","v":0},{"$f":"SUMIF('Input E2'!$E$3:$ND$3,Rekenblad!I$3,'Input E2'!$E35:$ND35)","v":0},{"$f":"SUMIF('Input E2'!$E$3:$ND$3,Rekenblad!J$3,'Input E2'!$E35:$ND35)","v":0},{"$f":"SUMIF('Input E2'!$E$3:$ND$3,Rekenblad!K$3,'Input E2'!$E35:$ND35)","v":0},{"$f":"SUMIF('Input E2'!$E$3:$ND$3,Rekenblad!L$3,'Input E2'!$E35:$ND35)","v":0},{"$f":"SUMIF('Input E2'!$E$3:$ND$3,Rekenblad!M$3,'Input E2'!$E35:$ND35)","v":0},{"$f":"SUMIF('Input E2'!$E$3:$ND$3,Rekenblad!N$3,'Input E2'!$E35:$ND35)","v":0},{"$f":"SUMIF('Input E2'!$E$3:$ND$3,Rekenblad!O$3,'Input E2'!$E35:$ND35)","v":0},{"$f":"SUMIF('Input E2'!$E$3:$ND$3,Rekenblad!P$3,'Input E2'!$E35:$ND35)","v":0},{"$f":"SUMIF('Input E2'!$E$3:$ND$3,Rekenblad!Q$3,'Input E2'!$E35:$ND35)","v":0},{"$f":"SUMIF('Input E2'!$E$3:$ND$3,Rekenblad!R$3,'Input E2'!$E35:$ND35)","v":0},{"$f":"SUMIF('Input E2'!$E$3:$ND$3,Rekenblad!S$3,'Input E2'!$E35:$ND35)","v":0},{"$f":"SUMIF('Input E2'!$E$3:$ND$3,Rekenblad!T$3,'Input E2'!$E35:$ND35)","v":0},{"$f":"SUMIF('Input E2'!$E$3:$ND$3,Rekenblad!U$3,'Input E2'!$E35:$ND35)","v":0},{"$f":"SUMIF('Input E2'!$E$3:$ND$3,Rekenblad!V$3,'Input E2'!$E35:$ND35)","v":0},{"$f":"SUMIF('Input E2'!$E$3:$ND$3,Rekenblad!W$3,'Input E2'!$E35:$ND35)","v":0},{"$f":"SUMIF('Input E2'!$E$3:$ND$3,Rekenblad!X$3,'Input E2'!$E35:$ND35)","v":1568},{"$f":"SUMIF('Input E2'!$E$3:$ND$3,Rekenblad!Y$3,'Input E2'!$E35:$ND35)","v":1479},{"$f":"SUMIF('Input E2'!$E$3:$ND$3,Rekenblad!Z$3,'Input E2'!$E35:$ND35)","v":1536},{"$f":"SUMIF('Input E2'!$E$3:$ND$3,Rekenblad!AA$3,'Input E2'!$E35:$ND35)","v":1527},{"$f":"SUMIF('Input E2'!$E$3:$ND$3,Rekenblad!AB$3,'Input E2'!$E35:$ND35)","v":1654},{"$f":"SUMIF('Input E2'!$E$3:$ND$3,Rekenblad!AC$3,'Input E2'!$E35:$ND35)","v":1201},{"$f":"SUMIF('Input E2'!$E$3:$ND$3,Rekenblad!AD$3,'Input E2'!$E35:$ND35)","v":1405},{"$f":"SUMIF('Input E2'!$E$3:$ND$3,Rekenblad!AE$3,'Input E2'!$E35:$ND35)","v":1729},{"$f":"SUMIF('Input E2'!$E$3:$ND$3,Rekenblad!AF$3,'Input E2'!$E35:$ND35)","v":1625},{"$f":"SUMIF('Input E2'!$E$3:$ND$3,Rekenblad!AG$3,'Input E2'!$E35:$ND35)","v":1038},{"$f":"SUMIF('Input E2'!$E$3:$ND$3,Rekenblad!AH$3,'Input E2'!$E35:$ND35)","v":0},{"$f":"SUMIF('Input E2'!$E$3:$ND$3,Rekenblad!AI$3,'Input E2'!$E35:$ND35)","v":0},{"$f":"SUMIF('Input E2'!$E$3:$ND$3,Rekenblad!AJ$3,'Input E2'!$E35:$ND35)","v":0},{"$f":"SUMIF('Input E2'!$E$3:$ND$3,Rekenblad!AK$3,'Input E2'!$E35:$ND35)","v":1791},{"$f":"SUMIF('Input E2'!$E$3:$ND$3,Rekenblad!AL$3,'Input E2'!$E35:$ND35)","v":1491},{"$f":"SUMIF('Input E2'!$E$3:$ND$3,Rekenblad!AM$3,'Input E2'!$E35:$ND35)","v":1809},{"$f":"SUMIF('Input E2'!$E$3:$ND$3,Rekenblad!AN$3,'Input E2'!$E35:$ND35)","v":1705},{"$f":"SUMIF('Input E2'!$E$3:$ND$3,Rekenblad!AO$3,'Input E2'!$E35:$ND35)","v":1747},{"$f":"SUMIF('Input E2'!$E$3:$ND$3,Rekenblad!AP$3,'Input E2'!$E35:$ND35)","v":1544},{"$f":"SUMIF('Input E2'!$E$3:$ND$3,Rekenblad!AQ$3,'Input E2'!$E35:$ND35)","v":1992},{"$f":"SUMIF('Input E2'!$E$3:$ND$3,Rekenblad!AR$3,'Input E2'!$E35:$ND35)","v":1620},{"$f":"SUMIF('Input E2'!$E$3:$ND$3,Rekenblad!AS$3,'Input E2'!$E35:$ND35)","v":0},{"$f":"SUMIF('Input E2'!$E$3:$ND$3,Rekenblad!AT$3,'Input E2'!$E35:$ND35)","v":0},{"$f":"SUMIF('Input E2'!$E$3:$ND$3,Rekenblad!AU$3,'Input E2'!$E35:$ND35)","v":0},{"$f":"SUMIF('Input E2'!$E$3:$ND$3,Rekenblad!AV$3,'Input E2'!$E35:$ND35)","v":0},{"$f":"SUMIF('Input E2'!$E$3:$ND$3,Rekenblad!AW$3,'Input E2'!$E35:$ND35)","v":0},{"$f":"SUMIF('Input E2'!$E$3:$ND$3,Rekenblad!AX$3,'Input E2'!$E35:$ND35)","v":0},{"$f":"SUMIF('Input E2'!$E$3:$ND$3,Rekenblad!AY$3,'Input E2'!$E35:$ND35)","v":0},{"$f":"SUMIF('Input E2'!$E$3:$ND$3,Rekenblad!AZ$3,'Input E2'!$E35:$ND35)","v":0},{"$f":"SUMIF('Input E2'!$E$3:$ND$3,Rekenblad!BA$3,'Input E2'!$E35:$ND35)","v":0},{"$f":"SUMIF('Input E2'!$E$3:$ND$3,Rekenblad!BB$3,'Input E2'!$E35:$ND35)","v":0},{"$f":"SUMIF('Input E2'!$E$3:$ND$3,Rekenblad!BC$3,'Input E2'!$E35:$ND35)","v":0},{"$f":"SUMIF('Input E2'!$E$3:$ND$3,Rekenblad!BD$3,'Input E2'!$E35:$ND35)","v":0},{"$f":"SUMIF('Input E2'!$E$3:$ND$3,Rekenblad!BE$3,'Input E2'!$E35:$ND35)","v":0},null,null,null,null,{"$f":"SUMIF('Input E2'!$E$2:$ND$2,Rekenblad!BJ$3,'Input E2'!$E35:$ND35)","v":0},{"$f":"SUMIF('Input E2'!$E$2:$ND$2,Rekenblad!BK$3,'Input E2'!$E35:$ND35)","v":0},{"$f":"SUMIF('Input E2'!$E$2:$ND$2,Rekenblad!BL$3,'Input E2'!$E35:$ND35)","v":0},{"$f":"SUMIF('Input E2'!$E$2:$ND$2,Rekenblad!BM$3,'Input E2'!$E35:$ND35)","v":0},{"$f":"SUMIF('Input E2'!$E$2:$ND$2,Rekenblad!BN$3,'Input E2'!$E35:$ND35)","v":4245},{"$f":"SUMIF('Input E2'!$E$2:$ND$2,Rekenblad!BO$3,'Input E2'!$E35:$ND35)","v":6125},{"$f":"SUMIF('Input E2'!$E$2:$ND$2,Rekenblad!BP$3,'Input E2'!$E35:$ND35)","v":4392},{"$f":"SUMIF('Input E2'!$E$2:$ND$2,Rekenblad!BQ$3,'Input E2'!$E35:$ND35)","v":5091},{"$f":"SUMIF('Input E2'!$E$2:$ND$2,Rekenblad!BR$3,'Input E2'!$E35:$ND35)","v":6988},{"$f":"SUMIF('Input E2'!$E$2:$ND$2,Rekenblad!BS$3,'Input E2'!$E35:$ND35)","v":1620},{"$f":"SUMIF('Input E2'!$E$2:$ND$2,Rekenblad!BT$3,'Input E2'!$E35:$ND35)","v":0},{"$f":"SUMIF('Input E2'!$E$2:$ND$2,Rekenblad!BU$3,'Input E2'!$E35:$ND35)","v":0},null,28461]
[null,null,null,{"$f":"'Input E2'!C36","v":"Downtime Technical SRM RH [Min]"},{"$f":"SUMIF('Input E2'!$E$3:$ND$3,Rekenblad!E$3,'Input E2'!$E36:$ND36)","v":0},{"$f":"SUMIF('Input E2'!$E$3:$ND$3,Rekenblad!F$3,'Input E2'!$E36:$ND36)","v":143},{"$f":"SUMIF('Input E2'!$E$3:$ND$3,Rekenblad!G$3,'Input E2'!$E36:$ND36)","v":120},{"$f":"SUMIF('Input E2'!$E$3:$ND$3,Rekenblad!H$3,'Input E2'!$E36:$ND36)","v":0},{"$f":"SUMIF('Input E2'!$E$3:$ND$3,Rekenblad!I$3,'Input E2'!$E36:$ND36)","v":102},{"$f":"SUMIF('Input E2'!$E$3:$ND$3,Rekenblad!J$3,'Input E2'!$E36:$ND36)","v":231},{"$f":"SUMIF('Input E2'!$E$3:$ND$3,Rekenblad!K$3,'Input E2'!$E36:$ND36)","v":15},{"$f":"SUMIF('Input E2'!$E$3:$ND$3,Rekenblad!L$3,'Input E2'!$E36:$ND36)","v":146},{"$f":"SUMIF('Input E2'!$E$3:$ND$3,Rekenblad!M$3,'Input E2'!$E36:$ND36)","v":107},{"$f":"SUMIF('Input E2'!$E$3:$ND$3,Rekenblad!N$3,'Input E2'!$E36:$ND36)","v":0},{"$f":"SUMIF('Input E2'!$E$3:$ND$3,Rekenblad!O$3,'Input E2'!$E36:$ND36)","v":209},{"$f":"SUMIF('Input E2'!$E$3:$ND$3,Rekenblad!P$3,'Input E2'!$E36:$ND36)","v":156},{"$f":"SUMIF('Input E2'!$E$3:$ND$3,Rekenblad!Q$3,'Input E2'!$E36:$ND36)","v":0},{"$f":"SUMIF('Input E2'!$E$3:$ND$3,Rekenblad!R$3,'Input E2'!$E36:$ND36)","v":99},{"$f":"SUMIF('Input E2'!$E$3:$ND$3,Rekenblad!S$3,'Input E2'!$E36:$ND36)","v":214},{"$f":"SUMIF('Input E2'!$E$3:$ND$3,Rekenblad!T$3,'Input E2'!$E36:$ND36)","v":51},{"$f":"SUMIF('Input E2'!$E$3:$ND$3,Rekenblad!U$3,'Input E2'!$E36:$ND36)","v":241},{"$f":"SUMIF('Input E2'!$E$3:$ND$3,Rekenblad!V$3,'Input E2'!$E36:$ND36)","v":305},{"$f":"SUMIF('Input E2'!$E$3:$ND$3,Rekenblad!W$3,'Input E2'!$E36:$ND36)","v":217},{"$f":"SUMIF('Input E2'!$E$3:$ND$3,Rekenblad!X$3,'Input E2'!$E36:$ND36)","v":156},{"$f":"SUMIF('Input E2'!$E$3:$ND$3,Rekenblad!Y$3,'Input E2'!$E36:$ND36)","v":93},{"$f":"SUMIF('Input E2'!$E$3:$ND$3,Rekenblad!Z$3,'Input E2'!$E36:$ND36)","v":90},{"$f":"SUMIF('Input E2'!$E$3:$ND$3,Rekenblad!AA$3,'Input E2'!$E36:$ND36)","v":279},{"$f":"SUMIF('Input E2'!$E$3:$ND$3,Rekenblad!AB$3,'Input E2'!$E36:$ND36)","v":98},{"$f":"SUMIF('Input E2'!$E$3:$ND$3,Rekenblad!AC$3,'Input E2'!$E36:$ND36)","v":212},{"$f":"SUMIF('Input E2'!$E$3:$ND$3,Rekenblad!AD$3,'Input E2'!$E36:$ND36)","v":262},{"$f":"SUMIF('Input E2'!$E$3:$ND$3,Rekenblad!AE$3,'Input E2'!$E36:$ND36)","v":148},{"$f":"SUMIF('Input E2'!$E$3:$ND$3,Rekenblad!AF$3,'Input E2'!$E36:$ND36)","v":107},{"$f":"SUMIF('Input E2'!$E$3:$ND$3,Rekenblad!AG$3,'Input E2'!$E36:$ND36)","v":169},{"$f":"SUMIF('Input E2'!$E$3:$ND$3,Rekenblad!AH$3,'Input E2'!$E36:$ND36)","v":0},{"$f":"SUMIF('Input E2'!$E$3:$ND$3,Rekenblad!AI$3,'Input E2'!$E36:$ND36)","v":0},{"$f":"SUMIF('Input E2'!$E$3:$ND$3,Rekenblad!AJ$3,'Input E2'!$E36:$ND36)","v":0},{"$f":"SUMIF('Input E2'!$E$3:$ND$3,Rekenblad!AK$3,'Input E2'!$E36:$ND36)","v":130},{"$f":"SUMIF('Input E2'!$E$3:$ND$3,Rekenblad!AL$3,'Input E2'!$E36:$ND36)","v":128},{"$f":"SUMIF('Input E2'!$E$3:$ND$3,Rekenblad!AM$3,'Input E2'!$E36:$ND36)","v":420},{"$f":"SUMIF('Input E2'!$E$3:$ND$3,Rekenblad!AN$3,'Input E2'!$E36:$ND36)","v":283},{"$f":"SUMIF('Input E2'!$E$3:$ND$3,Rekenblad!AO$3,'Input E2'!$E36:$ND36)","v":129},{"$f":"SUMIF('Input E2'!$E$3:$ND$3,Rekenblad!AP$3,'Input E2'!$E36:$ND36)","v":156},{"$f":"SUMIF('Input E2'!$E$3:$ND$3,Rekenblad!AQ$3,'Input E2'!$E36:$ND36)","v":178},{"$f":"SUMIF('Input E2'!$E$3:$ND$3,Rekenblad!AR$3,'Input E2'!$E36:$ND36)","v":86},{"$f":"SUMIF('Input E2'!$E$3:$ND$3,Rekenblad!AS$3,'Input E2'!$E36:$ND36)","v":0},{"$f":"SUMIF('Input E2'!$E$3:$ND$3,Rekenblad!AT$3,'Input E2'!$E36:$ND36)","v":0},{"$f":"SUMIF('Input E2'!$E$3:$ND$3,Rekenblad!AU$3,'Input E2'!$E36:$ND36)","v":0},{"$f":"SUMIF('Input E2'!$E$3:$ND$3,Rekenblad!AV$3,'Input E2'!$E36:$ND36)","v":0},{"$f":"SUMIF('Input E2'!$E$3:$ND$3,Rekenblad!AW$3,'Input E2'!$E36:$ND36)","v":0},{"$f":"SUMIF('Input E2'!$E$3:$ND$3,Rekenblad!AX$3,'Input E2'!$E36:$ND36)","v":0},{"$f":"SUMIF('Input E2'!$E$3:$ND$3,Rekenblad!AY$3,'Input E2'!$E36:$ND36)","v":0},{"$f":"SUMIF('Input E2'!$E$3:$ND$3,Rekenblad!AZ$3,'Input E2'!$E36:$ND36)","v":0},{"$f":"SUMIF('Input E2'!$E$3:$ND$3,Rekenblad!BA$3,'Input E2'!$E36:$ND36)","v":0},{"$f":"SUMIF('Input E2'!$E$3:$ND$3,Rekenblad!BB$3,'Input E2'!$E36:$ND36)","v":0},{"$f":"SUMIF('Input E2'!$E$3:$ND$3,Rekenblad!BC$3,'Input E2'!$E36:$ND36)","v":0},{"$f":"SUMIF('Input E2'!$E$3:$ND$3,Rekenblad!BD$3,'Input E2'!$E36:$ND36)","v":0},{"$f":"SUMIF('Input E2'!$E$3:$ND$3,Rekenblad!BE$3,'Input E2'!$E36:$ND36)","v":0},null,null,null,null,{"$f":"SUMIF('Input E2'!$E$2:$ND$2,Rekenblad!BJ$3,'Input E2'!$E36:$ND36)","v":321},{"$f":"SUMIF('Input E2'!$E$2:$ND$2,Rekenblad!BK$3,'Input E2'!$E36:$ND36)","v":479},{"$f":"SUMIF('Input E2'!$E$2:$ND$2,Rekenblad!BL$3,'Input E2'!$E36:$ND36)","v":429},{"$f":"SUMIF('Input E2'!$E$2:$ND$2,Rekenblad!BM$3,'Input E2'!$E36:$ND36)","v":647},{"$f":"SUMIF('Input E2'!$E$2:$ND$2,Rekenblad!BN$3,'Input E2'!$E36:$ND36)","v":819},{"$f":"SUMIF('Input E2'!$E$2:$ND$2,Rekenblad!BO$3,'Input E2'!$E36:$ND36)","v":851},{"$f":"SUMIF('Input E2'!$E$2:$ND$2,Rekenblad!BP$3,'Input E2'!$E36:$ND36)","v":424},{"$f":"SUMIF('Input E2'!$E$2:$ND$2,Rekenblad!BQ$3,'Input E2'!$E36:$ND36)","v":678},{"$f":"SUMIF('Input E2'!$E$2:$ND$2,Rekenblad!BR$3,'Input E2'!$E36:$ND36)","v":746},{"$f":"SUMIF('Input E2'!$E$2:$ND$2,Rekenblad!BS$3,'Input E2'!$E36:$ND36)","v":86},{"$f":"SUMIF('Input E2'!$E$2:$ND$2,Rekenblad!BT$3,'Input E2'!$E36:$ND36)","v":0},{"$f":"SUMIF('Input E2'!$E$2:$ND$2,Rekenblad!BU$3,'Input E2'!$E36:$ND36)","v":0},null,5480]
[null,null,null,{"$f":"'Input E2'!C37","v":"Downtime Technical SRM RH [%]"},{"$f":"IF(E30=0,0%,((E31*60)/((E30*62)+(E31*60))))","v":0},{"$f":"IF(F30=0,0%,((F31*60)/((F30*62)+(F31*60))))","v":0},0,0,0,0,0,0,0,0,0,0,0,0,0,0,0,0,0,8.782465095331031E-2,5.736137667304015E-2,5.3660863343668021E-2,0.15025041736227046,5.4229534806507544E-2,0.14590167695166434,0.15287367499756879,7.6500284291597026E-2,5.9904824111225156E-2,0.13611469072164947,0,0,0,6.563336194274752E-2,7.6706418169832799E-2,0.18346219368365876,0.13839758741543728,6.6693091147224562E-2,8.9068209500609008E-2,7.9592201752817032E-2,4.8863636363636366E-2,0,0,0,0,0,0,0,0,0,0,0,0,0,null,null,null,null,{"$f":"IF(BJ30=0,0%,((BJ31*60)/((BJ30*62)+(BJ31*60))))","v":0},{"$f":"IF(BK30=0,0%,((BK31*60)/((BK30*62)+(BK31*60))))","v":0},0,0,0.15733358947267315,0.11852092569810357,8.5442527809124619E-2,0.11416640005388384,9.363703307002276E-2,4.8863636363636366E-2,0,0,null,{"$f":"SUM(BJ32:BU32)/COUNTIF(BJ32:BU32,\"<>0,00%\")","v":0.10299401874457405}]
[null,null,null,{"$f":"'Input E2'!C38","v":"Blocked Starved [Min]"},{"$f":"SUMIF('Input E2'!$E$3:$ND$3,Rekenblad!E$3,'Input E2'!$E38:$ND38)","v":0},{"$f":"SUMIF('Input E2'!$E$3:$ND$3,Rekenblad!F$3,'Input E2'!$E38:$ND38)","v":0},{"$f":"SUMIF('Input E2'!$E$3:$ND$3,Rekenblad!G$3,'Input E2'!$E38:$ND38)","v":0},{"$f":"SUMIF('Input E2'!$E$3:$ND$3,Rekenblad!H$3,'Input E2'!$E38:$ND38)","v":0},{"$f":"SUMIF('Input E2'!$E$3:$ND$3,Rekenblad!I$3,'Input E2'!$E38:$ND38)","v":0},{"$f":"SUMIF('Input E2'!$E$3:$ND$3,Rekenblad!J$3,'Input E2'!$E38:$ND38)","v":0},{"$f":"SUMIF('Input E2'!$E$3:$ND$3,Rekenblad!K$3,'Input E2'!$E38:$ND38)","v":0},{"$f":"SUMIF('Input E2'!$E$3:$ND$3,Rekenblad!L$3,'Input E2'!$E38:$ND38)","v":0},{"$f":"SUMIF('Input E2'!$E$3:$ND$3,Rekenblad!M$3,'Input E2'!$E38:$ND38)","v":0},{"$f":"SUMIF('Input E2'!$E$3:$ND$3,Rekenblad!N$3,'Input E2'!$E38:$ND38)","v":0},{"$f":"SUMIF('Input E2'!$E$3:$ND$3,Rekenblad!O$3,'Input E2'!$E38:$ND38)","v":0},{"$f":"SUMIF('Input E2'!$E$3:$ND$3,Rekenblad!P$3,'Input E2'!$E38:$ND38)","v":0},{"$f":"SUMIF('Input E2'!$E$3:$ND$3,Rekenblad!Q$3,'Input E2'!$E38:$ND38)","v":0},{"$f":"SUMIF('Input E2'!$E$3:$ND$3,Rekenblad!R$3,'Input E2'!$E38:$ND38)","v":0},{"$f":"SUMIF('Input E2'!$E$3:$ND$3,Rekenblad!S$3,'Input E2'!$E38:$ND38)","v":0},{"$f":"SUMIF('Input E2'!$E$3:$ND$3,Rekenblad!T$3,'Input E2'!$E38:$ND38)","v":0},{"$f":"SUMIF('Input E2'!$E$3:$ND$3,Rekenblad!U$3,'Input E2'!$E38:$ND38)","v":0},{"$f":"SUMIF('Input E2'!$E$3:$ND$3,Rekenblad!V$3,'Input E2'!$E38:$ND38)","v":0},{"$f":"SUMIF('Input E2'!$E$3:$ND$3,Rekenblad!W$3,'Input E2'!$E38:$ND38)","v":0},{"$f":"SUMIF('Input E2'!$E$3:$ND$3,Rekenblad!X$3,'Input E2'!$E38:$ND38)","v":109},{"$f":"SUMIF('Input E2'!$E$3:$ND$3,Rekenblad!Y$3,'Input E2'!$E38:$ND38)","v":143},{"$f":"SUMIF('Input E2'!$E$3:$ND$3,Rekenblad!Z$3,'Input E2'!$E38:$ND38)","v":88},{"$f":"SUMIF('Input E2'!$E$3:$ND$3,Rekenblad!AA$3,'Input E2'!$E38:$ND38)","v":119},{"$f":"SUMIF('Input E2'!$E$3:$ND$3,Rekenblad!AB$3,'Input E2'!$E38:$ND38)","v":175},{"$f":"SUMIF('Input E2'!$E$3:$ND$3,Rekenblad!AC$3,'Input E2'!$E38:$ND38)","v":66},{"$f":"SUMIF('Input E2'!$E$3:$ND$3,Rekenblad!AD$3,'Input E2'!$E38:$ND38)","v":87},{"$f":"SUMIF('Input E2'!$E$3:$ND$3,Rekenblad!AE$3,'Input E2'!$E38:$ND38)","v":174},{"$f":"SUMIF('Input E2'!$E$3:$ND$3,Rekenblad!AF$3,'Input E2'!$E38:$ND38)","v":154},{"$f":"SUMIF('Input E2'!$E$3:$ND$3,Rekenblad!AG$3,'Input E2'!$E38:$ND38)","v":92},{"$f":"SUMIF('Input E2'!$E$3:$ND$3,Rekenblad!AH$3,'Input E2'!$E38:$ND38)","v":0},{"$f":"SUMIF('Input E2'!$E$3:$ND$3,Rekenblad!AI$3,'Input E2'!$E38:$ND38)","v":0},{"$f":"SUMIF('Input E2'!$E$3:$ND$3,Rekenblad!AJ$3,'Input E2'!$E38:$ND38)","v":0},{"$f":"SUMIF('Input E2'!$E$3:$ND$3,Rekenblad!AK$3,'Input E2'!$E38:$ND38)","v":253},{"$f":"SUMIF('Input E2'!$E$3:$ND$3,Rekenblad!AL$3,'Input E2'!$E38:$ND38)","v":285},{"$f":"SUMIF('Input E2'!$E$3:$ND$3,Rekenblad!AM$3,'Input E2'!$E38:$ND38)","v":141},{"$f":"SUMIF('Input E2'!$E$3:$ND$3,Rekenblad!AN$3,'Input E2'!$E38:$ND38)","v":189},{"$f":"SUMIF('Input E2'!$E$3:$ND$3,Rekenblad!AO$3,'Input E2'!$E38:$ND38)","v":147},{"$f":"SUMIF('Input E2'!$E$3:$ND$3,Rekenblad!AP$3,'Input E2'!$E38:$ND38)","v":163},{"$f":"SUMIF('Input E2'!$E$3:$ND$3,Rekenblad!AQ$3,'Input E2'!$E38:$ND38)","v":95},{"$f":"SUMIF('Input E2'!$E$3:$ND$3,Rekenblad!AR$3,'Input E2'!$E38:$ND38)","v":157},{"$f":"SUMIF('Input E2'!$E$3:$ND$3,Rekenblad!AS$3,'Input E2'!$E38:$ND38)","v":0},{"$f":"SUMIF('Input E2'!$E$3:$ND$3,Rekenblad!AT$3,'Input E2'!$E38:$ND38)","v":0},{"$f":"SUMIF('Input E2'!$E$3:$ND$3,Rekenblad!AU$3,'Input E2'!$E38:$ND38)","v":0},{"$f":"SUMIF('Input E2'!$E$3:$ND$3,Rekenblad!AV$3,'Input E2'!$E38:$ND38)","v":0},{"$f":"SUMIF('Input E2'!$E$3:$ND$3,Rekenblad!AW$3,'Input E2'!$E38:$ND38)","v":0},{"$f":"SUMIF('Input E2'!$E$3:$ND$3,Rekenblad!AX$3,'Input E2'!$E38:$ND38)","v":0},{"$f":"SUMIF('Input E2'!$E$3:$ND$3,Rekenblad!AY$3,'Input E2'!$E38:$ND38)","v":0},{"$f":"SUMIF('Input E2'!$E$3:$ND$3,Rekenblad!AZ$3,'Input E2'!$E38:$ND38)","v":0},{"$f":"SUMIF('Input E2'!$E$3:$ND$3,Rekenblad!BA$3,'Input E2'!$E38:$ND38)","v":0},{"$f":"SUMIF('Input E2'!$E$3:$ND$3,Rekenblad!BB$3,'Input E2'!$E38:$ND38)","v":0},{"$f":"SUMIF('Input E2'!$E$3:$ND$3,Rekenblad!BC$3,'Input E2'!$E38:$ND38)","v":0},{"$f":"SUMIF('Input E2'!$E$3:$ND$3,Rekenblad!BD$3,'Input E2'!$E38:$ND38)","v":0},{"$f":"SUMIF('Input E2'!$E$3:$ND$3,Rekenblad!BE$3,'Input E2'!$E38:$ND38)","v":0},null,null,null,null,{"$f":"SUMIF('Input E2'!$E$2:$ND$2,Rekenblad!BJ$3,'Input E2'!$E38:$ND38)","v":0},{"$f":"SUMIF('Input E2'!$E$2:$ND$2,Rekenblad!BK$3,'Input E2'!$E38:$ND38)","v":0},{"$f":"SUMIF('Input E2'!$E$2:$ND$2,Rekenblad!BL$3,'Input E2'!$E38:$ND38)","v":0},{"$f":"SUMIF('Input E2'!$E$2:$ND$2,Rekenblad!BM$3,'Input E2'!$E38:$ND38)","v":0},{"$f":"SUMIF('Input E2'!$E$2:$ND$2,Rekenblad!BN$3,'Input E2'!$E38:$ND38)","v":328},{"$f":"SUMIF('Input E2'!$E$2:$ND$2,Rekenblad!BO$3,'Input E2'!$E38:$ND38)","v":459},{"$f":"SUMIF('Input E2'!$E$2:$ND$2,Rekenblad!BP$3,'Input E2'!$E38:$ND38)","v":420},{"$f":"SUMIF('Input E2'!$E$2:$ND$2,Rekenblad!BQ$3,'Input E2'!$E38:$ND38)","v":679},{"$f":"SUMIF('Input E2'!$E$2:$ND$2,Rekenblad!BR$3,'Input E2'!$E38:$ND38)","v":594},{"$f":"SUMIF('Input E2'!$E$2:$ND$2,Rekenblad!BS$3,'Input E2'!$E38:$ND38)","v":157},{"$f":"SUMIF('Input E2'!$E$2:$ND$2,Rekenblad!BT$3,'Input E2'!$E38:$ND38)","v":0},{"$f":"SUMIF('Input E2'!$E$2:$ND$2,Rekenblad!BU$3,'Input E2'!$E38:$ND38)","v":0},null,2637]
[null,null,null,{"$f":"'Input E2'!C39","v":"Parts at Break [Aantal]"},{"$f":"SUMIF('Input E2'!$E$3:$ND$3,Rekenblad!E$3,'Input E2'!$E39:$ND39)","v":0},{"$f":"SUMIF('Input E2'!$E$3:$ND$3,Rekenblad!F$3,'Input E2'!$E39:$ND39)","v":0},{"$f":"SUMIF('Input E2'!$E$3:$ND$3,Rekenblad!G$3,'Input E2'!$E39:$ND39)","v":0},{"$f":"SUMIF('Input E2'!$E$3:$ND$3,Rekenblad!H$3,'Input E2'!$E39:$ND39)","v":0},{"$f":"SUMIF('Input E2'!$E$3:$ND$3,Rekenblad!I$3,'Input E2'!$E39:$ND39)","v":0},{"$f":"SUMIF('Input E2'!$E$3:$ND$3,Rekenblad!J$3,'Input E2'!$E39:$ND39)","v":0},{"$f":"SUMIF('Input E2'!$E$3:$ND$3,Rekenblad!K$3,'Input E2'!$E39:$ND39)","v":0},{"$f":"SUMIF('Input E2'!$E$3:$ND$3,Rekenblad!L$3,'Input E2'!$E39:$ND39)","v":0},{"$f":"SUMIF('Input E2'!$E$3:$ND$3,Rekenblad!M$3,'Input E2'!$E39:$ND39)","v":0},{"$f":"SUMIF('Input E2'!$E$3:$ND$3,Rekenblad!N$3,'Input E2'!$E39:$ND39)","v":0},{"$f":"SUMIF('Input E2'!$E$3:$ND$3,Rekenblad!O$3,'Input E2'!$E39:$ND39)","v":0},{"$f":"SUMIF('Input E2'!$E$3:$ND$3,Rekenblad!P$3,'Input E2'!$E39:$ND39)","v":0},{"$f":"SUMIF('Input E2'!$E$3:$ND$3,Rekenblad!Q$3,'Input E2'!$E39:$ND39)","v":0},{"$f":"SUMIF('Input E2'!$E$3:$ND$3,Rekenblad!R$3,'Input E2'!$E39:$ND39)","v":0},{"$f":"SUMIF('Input E2'!$E$3:$ND$3,Rekenblad!S$3,'Input E2'!$E39:$ND39)","v":0},{"$f":"SUMIF('Input E2'!$E$3:$ND$3,Rekenblad!T$3,'Input E2'!$E39:$ND39)","v":0},{"$f":"SUMIF('Input E2'!$E$3:$ND$3,Rekenblad!U$3,'Input E2'!$E39:$ND39)","v":0},{"$f":"SUMIF('Input E2'!$E$3:$ND$3,Rekenblad!V$3,'Input E2'!$E39:$ND39)","v":0},{"$f":"SUMIF('Input E2'!$E$3:$ND$3,Rekenblad!W$3,'Input E2'!$E39:$ND39)","v":0},{"$f":"SUMIF('Input E2'!$E$3:$ND$3,Rekenblad!X$3,'Input E2'!$E39:$ND39)","v":138},{"$f":"SUMIF('Input E2'!$E$3:$ND$3,Rekenblad!Y$3,'Input E2'!$E39:$ND39)","v":123},{"$f":"SUMIF('Input E2'!$E$3:$ND$3,Rekenblad!Z$3,'Input E2'!$E39:$ND39)","v":162},{"$f":"SUMIF('Input E2'!$E$3:$ND$3,Rekenblad!AA$3,'Input E2'!$E39:$ND39)","v":138},{"$f":"SUMIF('Input E2'!$E$3:$ND$3,Rekenblad!AB$3,'Input E2'!$E39:$ND39)","v":104},{"$f":"SUMIF('Input E2'!$E$3:$ND$3,Rekenblad!AC$3,'Input E2'!$E39:$ND39)","v":51},{"$f":"SUMIF('Input E2'!$E$3:$ND$3,Rekenblad!AD$3,'Input E2'!$E39:$ND39)","v":106},{"$f":"SUMIF('Input E2'!$E$3:$ND$3,Rekenblad!AE$3,'Input E2'!$E39:$ND39)","v":133},{"$f":"SUMIF('Input E2'!$E$3:$ND$3,Rekenblad!AF$3,'Input E2'!$E39:$ND39)","v":130},{"$f":"SUMIF('Input E2'!$E$3:$ND$3,Rekenblad!AG$3,'Input E2'!$E39:$ND39)","v":70},{"$f":"SUMIF('Input E2'!$E$3:$ND$3,Rekenblad!AH$3,'Input E2'!$E39:$ND39)","v":0},{"$f":"SUMIF('Input E2'!$E$3:$ND$3,Rekenblad!AI$3,'Input E2'!$E39:$ND39)","v":0},{"$f":"SUMIF('Input E2'!$E$3:$ND$3,Rekenblad!AJ$3,'Input E2'!$E39:$ND39)","v":0},{"$f":"SUMIF('Input E2'!$E$3:$ND$3,Rekenblad!AK$3,'Input E2'!$E39:$ND39)","v":138},{"$f":"SUMIF('Input E2'!$E$3:$ND$3,Rekenblad!AL$3,'Input E2'!$E39:$ND39)","v":141},{"$f":"SUMIF('Input E2'!$E$3:$ND$3,Rekenblad!AM$3,'Input E2'!$E39:$ND39)","v":156},{"$f":"SUMIF('Input E2'!$E$3:$ND$3,Rekenblad!AN$3,'Input E2'!$E39:$ND39)","v":109},{"$f":"SUMIF('Input E2'!$E$3:$ND$3,Rekenblad!AO$3,'Input E2'!$E39:$ND39)","v":134},{"$f":"SUMIF('Input E2'!$E$3:$ND$3,Rekenblad!AP$3,'Input E2'!$E39:$ND39)","v":102},{"$f":"SUMIF('Input E2'!$E$3:$ND$3,Rekenblad!AQ$3,'Input E2'!$E39:$ND39)","v":173},{"$f":"SUMIF('Input E2'!$E$3:$ND$3,Rekenblad!AR$3,'Input E2'!$E39:$ND39)","v":123},{"$f":"SUMIF('Input E2'!$E$3:$ND$3,Rekenblad!AS$3,'Input E2'!$E39:$ND39)","v":0},{"$f":"SUMIF('Input E2'!$E$3:$ND$3,Rekenblad!AT$3,'Input E2'!$E39:$ND39)","v":0},{"$f":"SUMIF('Input E2'!$E$3:$ND$3,Rekenblad!AU$3,'Input E2'!$E39:$ND39)","v":0},{"$f":"SUMIF('Input E2'!$E$3:$ND$3,Rekenblad!AV$3,'Input E2'!$E39:$ND39)","v":0},{"$f":"SUMIF('Input E2'!$E$3:$ND$3,Rekenblad!AW$3,'Input E2'!$E39:$ND39)","v":0},{"$f":"SUMIF('Input E2'!$E$3:$ND$3,Rekenblad!AX$3,'Input E2'!$E39:$ND39)","v":0},{"$f":"SUMIF('Input E2'!$E$3:$ND$3,Rekenblad!AY$3,'Input E2'!$E39:$ND39)","v":0},{"$f":"SUMIF('Input E2'!$E$3:$ND$3,Rekenblad!AZ$3,'Input E2'!$E39:$ND39)","v":0},{"$f":"SUMIF('Input E2'!$E$3:$ND$3,Rekenblad!BA$3,'Input E2'!$E39:$ND39)","v":0},{"$f":"SUMIF('Input E2'!$E$3:$ND$3,Rekenblad!BB$3,'Input E2'!$E39:$ND39)","v":0},{"$f":"SUMIF('Input E2'!$E$3:$ND$3,Rekenblad!BC$3,'Input E2'!$E39:$ND39)","v":0},{"$f":"SUMIF('Input E2'!$E$3:$ND$3,Rekenblad!BD$3,'Input E2'!$E39:$ND39)","v":0},{"$f":"SUMIF('Input E2'!$E$3:$ND$3,Rekenblad!BE$3,'Input E2'!$E39:$ND39)","v":0},null,null,null,null,{"$f":"SUMIF('Input E2'!$E$2:$ND$2,Rekenblad!BJ$3,'Input E2'!$E39:$ND39)","v":0},{"$f":"SUMIF('Input E2'!$E$2:$ND$2,Rekenblad!BK$3,'Input E2'!$E39:$ND39)","v":0},{"$f":"SUMIF('Input E2'!$E$2:$ND$2,Rekenblad!BL$3,'Input E2'!$E39:$ND39)","v":0},{"$f":"SUMIF('Input E2'!$E$2:$ND$2,Rekenblad!BM$3,'Input E2'!$E39:$ND39)","v":0},{"$f":"SUMIF('Input E2'!$E$2:$ND$2,Rekenblad!BN$3,'Input E2'!$E39:$ND39)","v":398},{"$f":"SUMIF('Input E2'!$E$2:$ND$2,Rekenblad!BO$3,'Input E2'!$E39:$ND39)","v":424},{"$f":"SUMIF('Input E2'!$E$2:$ND$2,Rekenblad!BP$3,'Input E2'!$E39:$ND39)","v":333},{"$f":"SUMIF('Input E2'!$E$2:$ND$2,Rekenblad!BQ$3,'Input E2'!$E39:$ND39)","v":435},{"$f":"SUMIF('Input E2'!$E$2:$ND$2,Rekenblad!BR$3,'Input E2'!$E39:$ND39)","v":518},{"$f":"SUMIF('Input E2'!$E$2:$ND$2,Rekenblad!BS$3,'Input E2'!$E39:$ND39)","v":123},{"$f":"SUMIF('Input E2'!$E$2:$ND$2,Rekenblad!BT$3,'Input E2'!$E39:$ND39)","v":0},{"$f":"SUMIF('Input E2'!$E$2:$ND$2,Rekenblad!BU$3,'Input E2'!$E39:$ND39)","v":0},null,2231]
[null,null,null,{"$f":"'Input E2'!C40","v":"Planned Stop [Min]"},{"$f":"SUMIF('Input E2'!$E$3:$ND$3,Rekenblad!E$3,'Input E2'!$E40:$ND40)","v":0},{"$f":"SUMIF('Input E2'!$E$3:$ND$3,Rekenblad!F$3,'Input E2'!$E40:$ND40)","v":0},{"$f":"SUMIF('Input E2'!$E$3:$ND$3,Rekenblad!G$3,'Input E2'!$E40:$ND40)","v":0},{"$f":"SUMIF('Input E2'!$E$3:$ND$3,Rekenblad!H$3,'Input E2'!$E40:$ND40)","v":0},{"$f":"SUMIF('Input E2'!$E$3:$ND$3,Rekenblad!I$3,'Input E2'!$E40:$ND40)","v":0},{"$f":"SUMIF('Input E2'!$E$3:$ND$3,Rekenblad!J$3,'Input E2'!$E40:$ND40)","v":0},{"$f":"SUMIF('Input E2'!$E$3:$ND$3,Rekenblad!K$3,'Input E2'!$E40:$ND40)","v":0},{"$f":"SUMIF('Input E2'!$E$3:$ND$3,Rekenblad!L$3,'Input E2'!$E40:$ND40)","v":0},{"$f":"SUMIF('Input E2'!$E$3:$ND$3,Rekenblad!M$3,'Input E2'!$E40:$ND40)","v":0},{"$f":"SUMIF('Input E2'!$E$3:$ND$3,Rekenblad!N$3,'Input E2'!$E40:$ND40)","v":0},{"$f":"SUMIF('Input E2'!$E$3:$ND$3,Rekenblad!O$3,'Input E2'!$E40:$ND40)","v":0},{"$f":"SUMIF('Input E2'!$E$3:$ND$3,Rekenblad!P$3,'Input E2'!$E40:$ND40)","v":0},{"$f":"SUMIF('Input E2'!$E$3:$ND$3,Rekenblad!Q$3,'Input E2'!$E40:$ND40)","v":0},{"$f":"SUMIF('Input E2'!$E$3:$ND$3,Rekenblad!R$3,'Input E2'!$E40:$ND40)","v":0},{"$f":"SUMIF('Input E2'!$E$3:$ND$3,Rekenblad!S$3,'Input E2'!$E40:$ND40)","v":0},{"$f":"SUMIF('Input E2'!$E$3:$ND$3,Rekenblad!T$3,'Input E2'!$E40:$ND40)","v":0},{"$f":"SUMIF('Input E2'!$E$3:$ND$3,Rekenblad!U$3,'Input E2'!$E40:$ND40)","v":0},{"$f":"SUMIF('Input E2'!$E$3:$ND$3,Rekenblad!V$3,'Input E2'!$E40:$ND40)","v":0},{"$f":"SUMIF('Input E2'!$E$3:$ND$3,Rekenblad!W$3,'Input E2'!$E40:$ND40)","v":0},{"$f":"SUMIF('Input E2'!$E$3:$ND$3,Rekenblad!X$3,'Input E2'!$E40:$ND40)","v":0},{"$f":"SUMIF('Input E2'!$E$3:$ND$3,Rekenblad!Y$3,'Input E2'!$E40:$ND40)","v":0},{"$f":"SUMIF('Input E2'!$E$3:$ND$3,Rekenblad!Z$3,'Input E2'!$E40:$ND40)","v":0},{"$f":"SUMIF('Input E2'!$E$3:$ND$3,Rekenblad!AA$3,'Input E2'!$E40:$ND40)","v":0},{"$f":"SUMIF('Input E2'!$E$3:$ND$3,Rekenblad!AB$3,'Input E2'!$E40:$ND40)","v":0},{"$f":"SUMIF('Input E2'!$E$3:$ND$3,Rekenblad!AC$3,'Input E2'!$E40:$ND40)","v":0},{"$f":"SUMIF('Input E2'!$E$3:$ND$3,Rekenblad!AD$3,'Input E2'!$E40:$ND40)","v":0},{"$f":"SUMIF('Input E2'!$E$3:$ND$3,Rekenblad!AE$3,'Input E2'!$E40:$ND40)","v":35},{"$f":"SUMIF('Input E2'!$E$3:$ND$3,Rekenblad!AF$3,'Input E2'!$E40:$ND40)","v":90},{"$f":"SUMIF('Input E2'!$E$3:$ND$3,Rekenblad!AG$3,'Input E2'!$E40:$ND40)","v":30},{"$f":"SUMIF('Input E2'!$E$3:$ND$3,Rekenblad!AH$3,'Input E2'!$E40:$ND40)","v":0},{"$f":"SUMIF('Input E2'!$E$3:$ND$3,Rekenblad!AI$3,'Input E2'!$E40:$ND40)","v":0},{"$f":"SUMIF('Input E2'!$E$3:$ND$3,Rekenblad!AJ$3,'Input E2'!$E40:$ND40)","v":0},{"$f":"SUMIF('Input E2'!$E$3:$ND$3,Rekenblad!AK$3,'Input E2'!$E40:$ND40)","v":0},{"$f":"SUMIF('Input E2'!$E$3:$ND$3,Rekenblad!AL$3,'Input E2'!$E40:$ND40)","v":0},{"$f":"SUMIF('Input E2'!$E$3:$ND$3,Rekenblad!AM$3,'Input E2'!$E40:$ND40)","v":30},{"$f":"SUMIF('Input E2'!$E$3:$ND$3,Rekenblad!AN$3,'Input E2'!$E40:$ND40)","v":0},{"$f":"SUMIF('Input E2'!$E$3:$ND$3,Rekenblad!AO$3,'Input E2'!$E40:$ND40)","v":0},{"$f":"SUMIF('Input E2'!$E$3:$ND$3,Rekenblad!AP$3,'Input E2'!$E40:$ND40)","v":0},{"$f":"SUMIF('Input E2'!$E$3:$ND$3,Rekenblad!AQ$3,'Input E2'!$E40:$ND40)","v":35},{"$f":"SUMIF('Input E2'!$E$3:$ND$3,Rekenblad!AR$3,'Input E2'!$E40:$ND40)","v":0},{"$f":"SUMIF('Input E2'!$E$3:$ND$3,Rekenblad!AS$3,'Input E2'!$E40:$ND40)","v":0},{"$f":"SUMIF('Input E2'!$E$3:$ND$3,Rekenblad!AT$3,'Input E2'!$E40:$ND40)","v":0},{"$f":"SUMIF('Input E2'!$E$3:$ND$3,Rekenblad!AU$3,'Input E2'!$E40:$ND40)","v":0},{"$f":"SUMIF('Input E2'!$E$3:$ND$3,Rekenblad!AV$3,'Input E2'!$E40:$ND40)","v":0},{"$f":"SUMIF('Input E2'!$E$3:$ND$3,Rekenblad!AW$3,'Input E2'!$E40:$ND40)","v":0},{"$f":"SUMIF('Input E2'!$E$3:$ND$3,Rekenblad!AX$3,'Input E2'!$E40:$ND40)","v":0},{"$f":"SUMIF('Input E2'!$E$3:$ND$3,Rekenblad!AY$3,'Input E2'!$E40:$ND40)","v":0},{"$f":"SUMIF('Input E2'!$E$3:$ND$3,Rekenblad!AZ$3,'Input E2'!$E40:$ND40)","v":0},{"$f":"SUMIF('Input E2'!$E$3:$ND$3,Rekenblad!BA$3,'Input E2'!$E40:$ND40)","v":0},{"$f":"SUMIF('Input E2'!$E$3:$ND$3,Rekenblad!BB$3,'Input E2'!$E40:$ND40)","v":0},{"$f":"SUMIF('Input E2'!$E$3:$ND$3,Rekenblad!BC$3,'Input E2'!$E40:$ND40)","v":0},{"$f":"SUMIF('Input E2'!$E$3:$ND$3,Rekenblad!BD$3,'Input E2'!$E40:$ND40)","v":0},{"$f":"SUMIF('Input E2'!$E$3:$ND$3,Rekenblad!BE$3,'Input E2'!$E40:$ND40)","v":0},null,null,null,null,{"$f":"SUMIF('Input E2'!$E$2:$ND$2,Rekenblad!BJ$3,'Input E2'!$E40:$ND40)","v":0},{"$f":"SUMIF('Input E2'!$E$2:$ND$2,Rekenblad!BK$3,'Input E2'!$E40:$ND40)","v":0},{"$f":"SUMIF('Input E2'!$E$2:$ND$2,Rekenblad!BL$3,'Input E2'!$E40:$ND40)","v":0},{"$f":"SUMIF('Input E2'!$E$2:$ND$2,Rekenblad!BM$3,'Input E2'!$E40:$ND40)","v":0},{"$f":"SUMIF('Input E2'!$E$2:$ND$2,Rekenblad!BN$3,'Input E2'!$E40:$ND40)","v":0},{"$f":"SUMIF('Input E2'!$E$2:$ND$2,Rekenblad!BO$3,'Input E2'!$E40:$ND40)","v":0},{"$f":"SUMIF('Input E2'!$E$2:$ND$2,Rekenblad!BP$3,'Input E2'!$E40:$ND40)","v":155},{"$f":"SUMIF('Input E2'!$E$2:$ND$2,Rekenblad!BQ$3,'Input E2'!$E40:$ND40)","v":30},{"$f":"SUMIF('Input E2'!$E$2:$ND$2,Rekenblad!BR$3,'Input E2'!$E40:$ND40)","v":35},{"$f":"SUMIF('Input E2'!$E$2:$ND$2,Rekenblad!BS$3,'Input E2'!$E40:$ND40)","v":0},{"$f":"SUMIF('Input E2'!$E$2:$ND$2,Rekenblad!BT$3,'Input E2'!$E40:$ND40)","v":0},{"$f":"SUMIF('Input E2'!$E$2:$ND$2,Rekenblad!BU$3,'Input E2'!$E40:$ND40)","v":0},null,220]
[]
[null,null,null,{"$f":"'Input E2'!C41","v":"SILL1 LH"},{"$f":"SUMIF('Input E2'!$E$3:$ND$3,Rekenblad!E$3,'Input E2'!$E41:$ND41)","v":0},{"$f":"SUMIF('Input E2'!$E$3:$ND$3,Rekenblad!F$3,'Input E2'!$E41:$ND41)","v":0},{"$f":"SUMIF('Input E2'!$E$3:$ND$3,Rekenblad!G$3,'Input E2'!$E41:$ND41)","v":0},{"$f":"SUMIF('Input E2'!$E$3:$ND$3,Rekenblad!H$3,'Input E2'!$E41:$ND41)","v":0},{"$f":"SUMIF('Input E2'!$E$3:$ND$3,Rekenblad!I$3,'Input E2'!$E41:$ND41)","v":0},{"$f":"SUMIF('Input E2'!$E$3:$ND$3,Rekenblad!J$3,'Input E2'!$E41:$ND41)","v":0},{"$f":"SUMIF('Input E2'!$E$3:$ND$3,Rekenblad!K$3,'Input E2'!$E41:$ND41)","v":0},{"$f":"SUMIF('Input E2'!$E$3:$ND$3,Rekenblad!L$3,'Input E2'!$E41:$ND41)","v":0},{"$f":"SUMIF('Input E2'!$E$3:$ND$3,Rekenblad!M$3,'Input E2'!$E41:$ND41)","v":0},{"$f":"SUMIF('Input E2'!$E$3:$ND$3,Rekenblad!N$3,'Input E2'!$E41:$ND41)","v":0},{"$f":"SUMIF('Input E2'!$E$3:$ND$3,Rekenblad!O$3,'Input E2'!$E41:$ND41)","v":0},{"$f":"SUMIF('Input E2'!$E$3:$ND$3,Rekenblad!P$3,'Input E2'!$E41:$ND41)","v":0},{"$f":"SUMIF('Input E2'!$E$3:$ND$3,Rekenblad!Q$3,'Input E2'!$E41:$ND41)","v":0},{"$f":"SUMIF('Input E2'!$E$3:$ND$3,Rekenblad!R$3,'Input E2'!$E41:$ND41)","v":0},{"$f":"SUMIF('Input E2'!$E$3:$ND$3,Rekenblad!S$3,'Input E2'!$E41:$ND41)","v":0},{"$f":"SUMIF('Input E2'!$E$3:$ND$3,Rekenblad!T$3,'Input E2'!$E41:$ND41)","v":0},{"$f":"SUMIF('Input E2'!$E$3:$ND$3,Rekenblad!U$3,'Input E2'!$E41:$ND41)","v":0},{"$f":"SUMIF('Input E2'!$E$3:$ND$3,Rekenblad!V$3,'Input E2'!$E41:$ND41)","v":0},{"$f":"SUMIF('Input E2'!$E$3:$ND$3,Rekenblad!W$3,'Input E2'!$E41:$ND41)","v":0},{"$f":"SUMIF('Input E2'!$E$3:$ND$3,Rekenblad!X$3,'Input E2'!$E41:$ND41)","v":1090},{"$f":"SUMIF('Input E2'!$E$3:$ND$3,Rekenblad!Y$3,'Input E2'!$E41:$ND41)","v":1180},{"$f":"SUMIF('Input E2'!$E$3:$ND$3,Rekenblad!Z$3,'Input E2'!$E41:$ND41)","v":1210},{"$f":"SUMIF('Input E2'!$E$3:$ND$3,Rekenblad!AA$3,'Input E2'!$E41:$ND41)","v":1294},{"$f":"SUMIF('Input E2'!$E$3:$ND$3,Rekenblad!AB$3,'Input E2'!$E41:$ND41)","v":1359},{"$f":"SUMIF('Input E2'!$E$3:$ND$3,Rekenblad!AC$3,'Input E2'!$E41:$ND41)","v":1016},{"$f":"SUMIF('Input E2'!$E$3:$ND$3,Rekenblad!AD$3,'Input E2'!$E41:$ND41)","v":1019},{"$f":"SUMIF('Input E2'!$E$3:$ND$3,Rekenblad!AE$3,'Input E2'!$E41:$ND41)","v":1411},{"$f":"SUMIF('Input E2'!$E$3:$ND$3,Rekenblad!AF$3,'Input E2'!$E41:$ND41)","v":1342},{"$f":"SUMIF('Input E2'!$E$3:$ND$3,Rekenblad!AG$3,'Input E2'!$E41:$ND41)","v":634},{"$f":"SUMIF('Input E2'!$E$3:$ND$3,Rekenblad!AH$3,'Input E2'!$E41:$ND41)","v":0},{"$f":"SUMIF('Input E2'!$E$3:$ND$3,Rekenblad!AI$3,'Input E2'!$E41:$ND41)","v":0},{"$f":"SUMIF('Input E2'!$E$3:$ND$3,Rekenblad!AJ$3,'Input E2'!$E41:$ND41)","v":0},{"$f":"SUMIF('Input E2'!$E$3:$ND$3,Rekenblad!AK$3,'Input E2'!$E41:$ND41)","v":1488},{"$f":"SUMIF('Input E2'!$E$3:$ND$3,Rekenblad!AL$3,'Input E2'!$E41:$ND41)","v":1027},{"$f":"SUMIF('Input E2'!$E$3:$ND$3,Rekenblad!AM$3,'Input E2'!$E41:$ND41)","v":1399},{"$f":"SUMIF('Input E2'!$E$3:$ND$3,Rekenblad!AN$3,'Input E2'!$E41:$ND41)","v":1469},{"$f":"SUMIF('Input E2'!$E$3:$ND$3,Rekenblad!AO$3,'Input E2'!$E41:$ND41)","v":1227},{"$f":"SUMIF('Input E2'!$E$3:$ND$3,Rekenblad!AP$3,'Input E2'!$E41:$ND41)","v":1398},{"$f":"SUMIF('Input E2'!$E$3:$ND$3,Rekenblad!AQ$3,'Input E2'!$E41:$ND41)","v":1763},{"$f":"SUMIF('Input E2'!$E$3:$ND$3,Rekenblad!AR$3,'Input E2'!$E41:$ND41)","v":1391},{"$f":"SUMIF('Input E2'!$E$3:$ND$3,Rekenblad!AS$3,'Input E2'!$E41:$ND41)","v":0},{"$f":"SUMIF('Input E2'!$E$3:$ND$3,Rekenblad!AT$3,'Input E2'!$E41:$ND41)","v":0},{"$f":"SUMIF('Input E2'!$E$3:$ND$3,Rekenblad!AU$3,'Input E2'!$E41:$ND41)","v":0},{"$f":"SUMIF('Input E2'!$E$3:$ND$3,Rekenblad!AV$3,'Input E2'!$E41:$ND41)","v":0},{"$f":"SUMIF('Input E2'!$E$3:$ND$3,Rekenblad!AW$3,'Input E2'!$E41:$ND41)","v":0},{"$f":"SUMIF('Input E2'!$E$3:$ND$3,Rekenblad!AX$3,'Input E2'!$E41:$ND41)","v":0},{"$f":"SUMIF('Input E2'!$E$3:$ND$3,Rekenblad!AY$3,'Input E2'!$E41:$ND41)","v":0},{"$f":"SUMIF('Input E2'!$E$3:$ND$3,Rekenblad!AZ$3,'Input E2'!$E41:$ND41)","v":0},{"$f":"SUMIF('Input E2'!$E$3:$ND$3,Rekenblad!BA$3,'Input E2'!$E41:$ND41)","v":0},{"$f":"SUMIF('Input E2'!$E$3:$ND$3,Rekenblad!BB$3,'Input E2'!$E41:$ND41)","v":0},{"$f":"SUMIF('Input E2'!$E$3:$ND$3,Rekenblad!BC$3,'Input E2'!$E41:$ND41)","v":0},{"$f":"SUMIF('Input E2'!$E$3:$ND$3,Rekenblad!BD$3,'Input E2'!$E41:$ND41)","v":0},{"$f":"SUMIF('Input E2'!$E$3:$ND$3,Rekenblad!BE$3,'Input E2'!$E41:$ND41)","v":0},null,null,null,null,{"$f":"SUMIF('Input E2'!$E$2:$ND$2,Rekenblad!BJ$3,'Input E2'!$E41:$ND41)","v":0},{"$f":"SUMIF('Input E2'!$E$2:$ND$2,Rekenblad!BK$3,'Input E2'!$E41:$ND41)","v":0},{"$f":"SUMIF('Input E2'!$E$2:$ND$2,Rekenblad!BL$3,'Input E2'!$E41:$ND41)","v":0},{"$f":"SUMIF('Input E2'!$E$2:$ND$2,Rekenblad!BM$3,'Input E2'!$E41:$ND41)","v":0},{"$f":"SUMIF('Input E2'!$E$2:$ND$2,Rekenblad!BN$3,'Input E2'!$E41:$ND41)","v":3281},{"$f":"SUMIF('Input E2'!$E$2:$ND$2,Rekenblad!BO$3,'Input E2'!$E41:$ND41)","v":4887},{"$f":"SUMIF('Input E2'!$E$2:$ND$2,Rekenblad!BP$3,'Input E2'!$E41:$ND41)","v":3387},{"$f":"SUMIF('Input E2'!$E$2:$ND$2,Rekenblad!BQ$3,'Input E2'!$E41:$ND41)","v":3914},{"$f":"SUMIF('Input E2'!$E$2:$ND$2,Rekenblad!BR$3,'Input E2'!$E41:$ND41)","v":5857},{"$f":"SUMIF('Input E2'!$E$2:$ND$2,Rekenblad!BS$3,'Input E2'!$E41:$ND41)","v":1391},{"$f":"SUMIF('Input E2'!$E$2:$ND$2,Rekenblad!BT$3,'Input E2'!$E41:$ND41)","v":0},{"$f":"SUMIF('Input E2'!$E$2:$ND$2,Rekenblad!BU$3,'Input E2'!$E41:$ND41)","v":0},null,22717]
[null,null,null,{"$f":"'Input E2'!C42","v":"Downtime Technical SILL1 LH [Min]"},{"$f":"SUMIF('Input E2'!$E$3:$ND$3,Rekenblad!E$3,'Input E2'!$E42:$ND42)","v":0},{"$f":"SUMIF('Input E2'!$E$3:$ND$3,Rekenblad!F$3,'Input E2'!$E42:$ND42)","v":29},{"$f":"SUMIF('Input E2'!$E$3:$ND$3,Rekenblad!G$3,'Input E2'!$E42:$ND42)","v":113},{"$f":"SUMIF('Input E2'!$E$3:$ND$3,Rekenblad!H$3,'Input E2'!$E42:$ND42)","v":0},{"$f":"SUMIF('Input E2'!$E$3:$ND$3,Rekenblad!I$3,'Input E2'!$E42:$ND42)","v":4},{"$f":"SUMIF('Input E2'!$E$3:$ND$3,Rekenblad!J$3,'Input E2'!$E42:$ND42)","v":21},{"$f":"SUMIF('Input E2'!$E$3:$ND$3,Rekenblad!K$3,'Input E2'!$E42:$ND42)","v":0},{"$f":"SUMIF('Input E2'!$E$3:$ND$3,Rekenblad!L$3,'Input E2'!$E42:$ND42)","v":38},{"$f":"SUMIF('Input E2'!$E$3:$ND$3,Rekenblad!M$3,'Input E2'!$E42:$ND42)","v":9},{"$f":"SUMIF('Input E2'!$E$3:$ND$3,Rekenblad!N$3,'Input E2'!$E42:$ND42)","v":0},{"$f":"SUMIF('Input E2'!$E$3:$ND$3,Rekenblad!O$3,'Input E2'!$E42:$ND42)","v":24},{"$f":"SUMIF('Input E2'!$E$3:$ND$3,Rekenblad!P$3,'Input E2'!$E42:$ND42)","v":7},{"$f":"SUMIF('Input E2'!$E$3:$ND$3,Rekenblad!Q$3,'Input E2'!$E42:$ND42)","v":0},{"$f":"SUMIF('Input E2'!$E$3:$ND$3,Rekenblad!R$3,'Input E2'!$E42:$ND42)","v":41},{"$f":"SUMIF('Input E2'!$E$3:$ND$3,Rekenblad!S$3,'Input E2'!$E42:$ND42)","v":27},{"$f":"SUMIF('Input E2'!$E$3:$ND$3,Rekenblad!T$3,'Input E2'!$E42:$ND42)","v":30},{"$f":"SUMIF('Input E2'!$E$3:$ND$3,Rekenblad!U$3,'Input E2'!$E42:$ND42)","v":16},{"$f":"SUMIF('Input E2'!$E$3:$ND$3,Rekenblad!V$3,'Input E2'!$E42:$ND42)","v":48},{"$f":"SUMIF('Input E2'!$E$3:$ND$3,Rekenblad!W$3,'Input E2'!$E42:$ND42)","v":46},{"$f":"SUMIF('Input E2'!$E$3:$ND$3,Rekenblad!X$3,'Input E2'!$E42:$ND42)","v":195},{"$f":"SUMIF('Input E2'!$E$3:$ND$3,Rekenblad!Y$3,'Input E2'!$E42:$ND42)","v":83},{"$f":"SUMIF('Input E2'!$E$3:$ND$3,Rekenblad!Z$3,'Input E2'!$E42:$ND42)","v":70},{"$f":"SUMIF('Input E2'!$E$3:$ND$3,Rekenblad!AA$3,'Input E2'!$E42:$ND42)","v":28},{"$f":"SUMIF('Input E2'!$E$3:$ND$3,Rekenblad!AB$3,'Input E2'!$E42:$ND42)","v":61},{"$f":"SUMIF('Input E2'!$E$3:$ND$3,Rekenblad!AC$3,'Input E2'!$E42:$ND42)","v":0},{"$f":"SUMIF('Input E2'!$E$3:$ND$3,Rekenblad!AD$3,'Input E2'!$E42:$ND42)","v":74},{"$f":"SUMIF('Input E2'!$E$3:$ND$3,Rekenblad!AE$3,'Input E2'!$E42:$ND42)","v":33},{"$f":"SUMIF('Input E2'!$E$3:$ND$3,Rekenblad!AF$3,'Input E2'!$E42:$ND42)","v":98},{"$f":"SUMIF('Input E2'!$E$3:$ND$3,Rekenblad!AG$3,'Input E2'!$E42:$ND42)","v":107},{"$f":"SUMIF('Input E2'!$E$3:$ND$3,Rekenblad!AH$3,'Input E2'!$E42:$ND42)","v":0},{"$f":"SUMIF('Input E2'!$E$3:$ND$3,Rekenblad!AI$3,'Input E2'!$E42:$ND42)","v":0},{"$f":"SUMIF('Input E2'!$E$3:$ND$3,Rekenblad!AJ$3,'Input E2'!$E42:$ND42)","v":0},{"$f":"SUMIF('Input E2'!$E$3:$ND$3,Rekenblad!AK$3,'Input E2'!$E42:$ND42)","v":63},{"$f":"SUMIF('Input E2'!$E$3:$ND$3,Rekenblad!AL$3,'Input E2'!$E42:$ND42)","v":15},{"$f":"SUMIF('Input E2'!$E$3:$ND$3,Rekenblad!AM$3,'Input E2'!$E42:$ND42)","v":21},{"$f":"SUMIF('Input E2'!$E$3:$ND$3,Rekenblad!AN$3,'Input E2'!$E42:$ND42)","v":5},{"$f":"SUMIF('Input E2'!$E$3:$ND$3,Rekenblad!AO$3,'Input E2'!$E42:$ND42)","v":15},{"$f":"SUMIF('Input E2'!$E$3:$ND$3,Rekenblad!AP$3,'Input E2'!$E42:$ND42)","v":14},{"$f":"SUMIF('Input E2'!$E$3:$ND$3,Rekenblad!AQ$3,'Input E2'!$E42:$ND42)","v":0},{"$f":"SUMIF('Input E2'!$E$3:$ND$3,Rekenblad!AR$3,'Input E2'!$E42:$ND42)","v":0},{"$f":"SUMIF('Input E2'!$E$3:$ND$3,Rekenblad!AS$3,'Input E2'!$E42:$ND42)","v":0},{"$f":"SUMIF('Input E2'!$E$3:$ND$3,Rekenblad!AT$3,'Input E2'!$E42:$ND42)","v":0},{"$f":"SUMIF('Input E2'!$E$3:$ND$3,Rekenblad!AU$3,'Input E2'!$E42:$ND42)","v":0},{"$f":"SUMIF('Input E2'!$E$3:$ND$3,Rekenblad!AV$3,'Input E2'!$E42:$ND42)","v":0},{"$f":"SUMIF('Input E2'!$E$3:$ND$3,Rekenblad!AW$3,'Input E2'!$E42:$ND42)","v":0},{"$f":"SUMIF('Input E2'!$E$3:$ND$3,Rekenblad!AX$3,'Input E2'!$E42:$ND42)","v":0},{"$f":"SUMIF('Input E2'!$E$3:$ND$3,Rekenblad!AY$3,'Input E2'!$E42:$ND42)","v":0},{"$f":"SUMIF('Input E2'!$E$3:$ND$3,Rekenblad!AZ$3,'Input E2'!$E42:$ND42)","v":0},{"$f":"SUMIF('Input E2'!$E$3:$ND$3,Rekenblad!BA$3,'Input E2'!$E42:$ND42)","v":0},{"$f":"SUMIF('Input E2'!$E$3:$ND$3,Rekenblad!BB$3,'Input E2'!$E42:$ND42)","v":0},{"$f":"SUMIF('Input E2'!$E$3:$ND$3,Rekenblad!BC$3,'Input E2'!$E42:$ND42)","v":0},{"$f":"SUMIF('Input E2'!$E$3:$ND$3,Rekenblad!BD$3,'Input E2'!$E42:$ND42)","v":0},{"$f":"SUMIF('Input E2'!$E$3:$ND$3,Rekenblad!BE$3,'Input E2'!$E42:$ND42)","v":0},null,null,null,null,{"$f":"SUMIF('Input E2'!$E$2:$ND$2,Rekenblad!BJ$3,'Input E2'!$E42:$ND42)","v":146},{"$f":"SUMIF('Input E2'!$E$2:$ND$2,Rekenblad!BK$3,'Input E2'!$E42:$ND42)","v":59},{"$f":"SUMIF('Input E2'!$E$2:$ND$2,Rekenblad!BL$3,'Input E2'!$E42:$ND42)","v":40},{"$f":"SUMIF('Input E2'!$E$2:$ND$2,Rekenblad!BM$3,'Input E2'!$E42:$ND42)","v":118},{"$f":"SUMIF('Input E2'!$E$2:$ND$2,Rekenblad!BN$3,'Input E2'!$E42:$ND42)","v":438},{"$f":"SUMIF('Input E2'!$E$2:$ND$2,Rekenblad!BO$3,'Input E2'!$E42:$ND42)","v":163},{"$f":"SUMIF('Input E2'!$E$2:$ND$2,Rekenblad!BP$3,'Input E2'!$E42:$ND42)","v":238},{"$f":"SUMIF('Input E2'!$E$2:$ND$2,Rekenblad!BQ$3,'Input E2'!$E42:$ND42)","v":99},{"$f":"SUMIF('Input E2'!$E$2:$ND$2,Rekenblad!BR$3,'Input E2'!$E42:$ND42)","v":34},{"$f":"SUMIF('Input E2'!$E$2:$ND$2,Rekenblad!BS$3,'Input E2'!$E42:$ND42)","v":0},{"$f":"SUMIF('Input E2'!$E$2:$ND$2,Rekenblad!BT$3,'Input E2'!$E42:$ND42)","v":0},{"$f":"SUMIF('Input E2'!$E$2:$ND$2,Rekenblad!BU$3,'Input E2'!$E42:$ND42)","v":0},null,1335]
[null,null,null,{"$f":"'Input E2'!C43","v":"Downtime Technical SILL1 LH [%]"},{"$f":"IF(E37=0,0%,((E38*60)/((E37*62)+(E38*60))))","v":0},{"$f":"IF(F37=0,0%,((F38*60)/((F37*62)+(F38*60))))","v":0},0,0,0,0,0,0,0,0,0,0,0,0,0,0,0,0,0,0.14757820383451059,6.3731763501407732E-2,5.3016914920474625E-2,2.0510817014211067E-2,4.1629700402647921E-2,0,6.5662989144902248E-2,2.2132301982964835E-2,6.6005118764312337E-2,0.14039538138558433,0,0,0,3.9360239910033734E-2,1.393749806423638E-2,1.4318507238800881E-2,3.2830659458512991E-3,1.1692259724062671E-2,9.5982448923625386E-3,0,0,0,0,0,0,0,0,0,0,0,0,0,0,0,null,null,null,null,{"$f":"IF(BJ37=0,0%,((BJ38*60)/((BJ37*62)+(BJ38*60))))","v":0},{"$f":"IF(BK37=0,0%,((BK38*60)/((BK37*62)+(BK38*60))))","v":0},0,0,0.1144091039694909,3.1268583705806749E-2,6.3672115358891362E-2,2.3893036426824558E-2,5.5863780006243603E-3,0,0,0,null,{"$f":"SUM(BJ39:BU39)/COUNTIF(BJ39:BU39,\"<>0,00%\")","v":4.7765843492327584E-2}]
[null,null,null,{"$f":"'Input E2'!C44","v":"Blocked Starved [Min]"},{"$f":"SUMIF('Input E2'!$E$3:$ND$3,Rekenblad!E$3,'Input E2'!$E44:$ND44)","v":0},{"$f":"SUMIF('Input E2'!$E$3:$ND$3,Rekenblad!F$3,'Input E2'!$E44:$ND44)","v":0},{"$f":"SUMIF('Input E2'!$E$3:$ND$3,Rekenblad!G$3,'Input E2'!$E44:$ND44)","v":0},{"$f":"SUMIF('Input E2'!$E$3:$ND$3,Rekenblad!H$3,'Input E2'!$E44:$ND44)","v":0},{"$f":"SUMIF('Input E2'!$E$3:$ND$3,Rekenblad!I$3,'Input E2'!$E44:$ND44)","v":0},{"$f":"SUMIF('Input E2'!$E$3:$ND$3,Rekenblad!J$3,'Input E2'!$E44:$ND44)","v":0},{"$f":"SUMIF('Input E2'!$E$3:$ND$3,Rekenblad!K$3,'Input E2'!$E44:$ND44)","v":0},{"$f":"SUMIF('Input E2'!$E$3:$ND$3,Rekenblad!L$3,'Input E2'!$E44:$ND44)","v":0},{"$f":"SUMIF('Input E2'!$E$3:$ND$3,Rekenblad!M$3,'Input E2'!$E44:$ND44)","v":0},{"$f":"SUMIF('Input E2'!$E$3:$ND$3,Rekenblad!N$3,'Input E2'!$E44:$ND44)","v":0},{"$f":"SUMIF('Input E2'!$E$3:$ND$3,Rekenblad!O$3,'Input E2'!$E44:$ND44)","v":0},{"$f":"SUMIF('Input E2'!$E$3:$ND$3,Rekenblad!P$3,'Input E2'!$E44:$ND44)","v":0},{"$f":"SUMIF('Input E2'!$E$3:$ND$3,Rekenblad!Q$3,'Input E2'!$E44:$ND44)","v":0},{"$f":"SUMIF('Input E2'!$E$3:$ND$3,Rekenblad!R$3,'Input E2'!$E44:$ND44)","v":0},{"$f":"SUMIF('Input E2'!$E$3:$ND$3,Rekenblad!S$3,'Input E2'!$E44:$ND44)","v":0},{"$f":"SUMIF('Input E2'!$E$3:$ND$3,Rekenblad!T$3,'Input E2'!$E44:$ND44)","v":0},{"$f":"SUMIF('Input E2'!$E$3:$ND$3,Rekenblad!U$3,'Input E2'!$E44:$ND44)","v":0},{"$f":"SUMIF('Input E2'!$E$3:$ND$3,Rekenblad!V$3,'Input E2'!$E44:$ND44)","v":0},{"$f":"SUMIF('Input E2'!$E$3:$ND$3,Rekenblad!W$3,'Input E2'!$E44:$ND44)","v":0},{"$f":"SUMIF('Input E2'!$E$3:$ND$3,Rekenblad!X$3,'Input E2'!$E44:$ND44)","v":0},{"$f":"SUMIF('Input E2'!$E$3:$ND$3,Rekenblad!Y$3,'Input E2'!$E44:$ND44)","v":0},{"$f":"SUMIF('Input E2'!$E$3:$ND$3,Rekenblad!Z$3,'Input E2'!$E44:$ND44)","v":0},{"$f":"SUMIF('Input E2'!$E$3:$ND$3,Rekenblad!AA$3,'Input E2'!$E44:$ND44)","v":0},{"$f":"SUMIF('Input E2'!$E$3:$ND$3,Rekenblad!AB$3,'Input E2'!$E44:$ND44)","v":0},{"$f":"SUMIF('Input E2'!$E$3:$ND$3,Rekenblad!AC$3,'Input E2'!$E44:$ND44)","v":0},{"$f":"SUMIF('Input E2'!$E$3:$ND$3,Rekenblad!AD$3,'Input E2'!$E44:$ND44)","v":0},{"$f":"SUMIF('Input E2'!$E$3:$ND$3,Rekenblad!AE$3,'Input E2'!$E44:$ND44)","v":0},{"$f":"SUMIF('Input E2'!$E$3:$ND$3,Rekenblad!AF$3,'Input E2'!$E44:$ND44)","v":0},{"$f":"SUMIF('Input E2'!$E$3:$ND$3,Rekenblad!AG$3,'Input E2'!$E44:$ND44)","v":0},{"$f":"SUMIF('Input E2'!$E$3:$ND$3,Rekenblad!AH$3,'Input E2'!$E44:$ND44)","v":0},{"$f":"SUMIF('Input E2'!$E$3:$ND$3,Rekenblad!AI$3,'Input E2'!$E44:$ND44)","v":0},{"$f":"SUMIF('Input E2'!$E$3:$ND$3,Rekenblad!AJ$3,'Input E2'!$E44:$ND44)","v":0},{"$f":"SUMIF('Input E2'!$E$3:$ND$3,Rekenblad!AK$3,'Input E2'!$E44:$ND44)","v":0},{"$f":"SUMIF('Input E2'!$E$3:$ND$3,Rekenblad!AL$3,'Input E2'!$E44:$ND44)","v":0},{"$f":"SUMIF('Input E2'!$E$3:$ND$3,Rekenblad!AM$3,'Input E2'!$E44:$ND44)","v":0},{"$f":"SUMIF('Input E2'!$E$3:$ND$3,Rekenblad!AN$3,'Input E2'!$E44:$ND44)","v":0},{"$f":"SUMIF('Input E2'!$E$3:$ND$3,Rekenblad!AO$3,'Input E2'!$E44:$ND44)","v":0},{"$f":"SUMIF('Input E2'!$E$3:$ND$3,Rekenblad!AP$3,'Input E2'!$E44:$ND44)","v":0},{"$f":"SUMIF('Input E2'!$E$3:$ND$3,Rekenblad!AQ$3,'Input E2'!$E44:$ND44)","v":0},{"$f":"SUMIF('Input E2'!$E$3:$ND$3,Rekenblad!AR$3,'Input E2'!$E44:$ND44)","v":0},{"$f":"SUMIF('Input E2'!$E$3:$ND$3,Rekenblad!AS$3,'Input E2'!$E44:$ND44)","v":0},{"$f":"SUMIF('Input E2'!$E$3:$ND$3,Rekenblad!AT$3,'Input E2'!$E44:$ND44)","v":0},{"$f":"SUMIF('Input E2'!$E$3:$ND$3,Rekenblad!AU$3,'Input E2'!$E44:$ND44)","v":0},{"$f":"SUMIF('Input E2'!$E$3:$ND$3,Rekenblad!AV$3,'Input E2'!$E44:$ND44)","v":0},{"$f":"SUMIF('Input E2'!$E$3:$ND$3,Rekenblad!AW$3,'Input E2'!$E44:$ND44)","v":0},{"$f":"SUMIF('Input E2'!$E$3:$ND$3,Rekenblad!AX$3,'Input E2'!$E44:$ND44)","v":0},{"$f":"SUMIF('Input E2'!$E$3:$ND$3,Rekenblad!AY$3,'Input E2'!$E44:$ND44)","v":0},{"$f":"SUMIF('Input E2'!$E$3:$ND$3,Rekenblad!AZ$3,'Input E2'!$E44:$ND44)","v":0},{"$f":"SUMIF('Input E2'!$E$3:$ND$3,Rekenblad!BA$3,'Input E2'!$E44:$ND44)","v":0},{"$f":"SUMIF('Input E2'!$E$3:$ND$3,Rekenblad!BB$3,'Input E2'!$E44:$ND44)","v":0},{"$f":"SUMIF('Input E2'!$E$3:$ND$3,Rekenblad!BC$3,'Input E2'!$E44:$ND44)","v":0},{"$f":"SUMIF('Input E2'!$E$3:$ND$3,Rekenblad!BD$3,'Input E2'!$E44:$ND44)","v":0},{"$f":"SUMIF('Input E2'!$E$3:$ND$3,Rekenblad!BE$3,'Input E2'!$E44:$ND44)","v":0},null,null,null,null,{"$f":"SUMIF('Input E2'!$E$2:$ND$2,Rekenblad!BJ$3,'Input E2'!$E44:$ND44)","v":0},{"$f":"SUMIF('Input E2'!$E$2:$ND$2,Rekenblad!BK$3,'Input E2'!$E44:$ND44)","v":0},{"$f":"SUMIF('Input E2'!$E$2:$ND$2,Rekenblad!BL$3,'Input E2'!$E44:$ND44)","v":0},{"$f":"SUMIF('Input E2'!$E$2:$ND$2,Rekenblad!BM$3,'Input E2'!$E44:$ND44)","v":0},{"$f":"SUMIF('Input E2'!$E$2:$ND$2,Rekenblad!BN$3,'Input E2'!$E44:$ND44)","v":0},{"$f":"SUMIF('Input E2'!$E$2:$ND$2,Rekenblad!BO$3,'Input E2'!$E44:$ND44)","v":0},{"$f":"SUMIF('Input E2'!$E$2:$ND$2,Rekenblad!BP$3,'Input E2'!$E44:$ND44)","v":0},{"$f":"SUMIF('Input E2'!$E$2:$ND$2,Rekenblad!BQ$3,'Input E2'!$E44:$ND44)","v":0},{"$f":"SUMIF('Input E2'!$E$2:$ND$2,Rekenblad!BR$3,'Input E2'!$E44:$ND44)","v":0},{"$f":"SUMIF('Input E2'!$E$2:$ND$2,Rekenblad!BS$3,'Input E2'!$E44:$ND44)","v":0},{"$f":"SUMIF('Input E2'!$E$2:$ND$2,Rekenblad!BT$3,'Input E2'!$E44:$ND44)","v":0},{"$f":"SUMIF('Input E2'!$E$2:$ND$2,Rekenblad!BU$3,'Input E2'!$E44:$ND44)","v":0},null,0]
[null,null,null,{"$f":"'Input E2'!C45","v":"Parts at Break [Aantal]"},{"$f":"SUMIF('Input E2'!$E$3:$ND$3,Rekenblad!E$3,'Input E2'!$E45:$ND45)","v":0},{"$f":"SUMIF('Input E2'!$E$3:$ND$3,Rekenblad!F$3,'Input E2'!$E45:$ND45)","v":0},{"$f":"SUMIF('Input E2'!$E$3:$ND$3,Rekenblad!G$3,'Input E2'!$E45:$ND45)","v":0},{"$f":"SUMIF('Input E2'!$E$3:$ND$3,Rekenblad!H$3,'Input E2'!$E45:$ND45)","v":0},{"$f":"SUMIF('Input E2'!$E$3:$ND$3,Rekenblad!I$3,'Input E2'!$E45:$ND45)","v":0},{"$f":"SUMIF('Input E2'!$E$3:$ND$3,Rekenblad!J$3,'Input E2'!$E45:$ND45)","v":0},{"$f":"SUMIF('Input E2'!$E$3:$ND$3,Rekenblad!K$3,'Input E2'!$E45:$ND45)","v":0},{"$f":"SUMIF('Input E2'!$E$3:$ND$3,Rekenblad!L$3,'Input E2'!$E45:$ND45)","v":0},{"$f":"SUMIF('Input E2'!$E$3:$ND$3,Rekenblad!M$3,'Input E2'!$E45:$ND45)","v":0},{"$f":"SUMIF('Input E2'!$E$3:$ND$3,Rekenblad!N$3,'Input E2'!$E45:$ND45)","v":0},{"$f":"SUMIF('Input E2'!$E$3:$ND$3,Rekenblad!O$3,'Input E2'!$E45:$ND45)","v":0},{"$f":"SUMIF('Input E2'!$E$3:$ND$3,Rekenblad!P$3,'Input E2'!$E45:$ND45)","v":0},{"$f":"SUMIF('Input E2'!$E$3:$ND$3,Rekenblad!Q$3,'Input E2'!$E45:$ND45)","v":0},{"$f":"SUMIF('Input E2'!$E$3:$ND$3,Rekenblad!R$3,'Input E2'!$E45:$ND45)","v":0},{"$f":"SUMIF('Input E2'!$E$3:$ND$3,Rekenblad!S$3,'Input E2'!$E45:$ND45)","v":0},{"$f":"SUMIF('Input E2'!$E$3:$ND$3,Rekenblad!T$3,'Input E2'!$E45:$ND45)","v":0},{"$f":"SUMIF('Input E2'!$E$3:$ND$3,Rekenblad!U$3,'Input E2'!$E45:$ND45)","v":0},{"$f":"SUMIF('Input E2'!$E$3:$ND$3,Rekenblad!V$3,'Input E2'!$E45:$ND45)","v":0},{"$f":"SUMIF('Input E2'!$E$3:$ND$3,Rekenblad!W$3,'Input E2'!$E45:$ND45)","v":0},{"$f":"SUMIF('Input E2'!$E$3:$ND$3,Rekenblad!X$3,'Input E2'!$E45:$ND45)","v":36},{"$f":"SUMIF('Input E2'!$E$3:$ND$3,Rekenblad!Y$3,'Input E2'!$E45:$ND45)","v":17},{"$f":"SUMIF('Input E2'!$E$3:$ND$3,Rekenblad!Z$3,'Input E2'!$E45:$ND45)","v":40},{"$f":"SUMIF('Input E2'!$E$3:$ND$3,Rekenblad!AA$3,'Input E2'!$E45:$ND45)","v":16},{"$f":"SUMIF('Input E2'!$E$3:$ND$3,Rekenblad!AB$3,'Input E2'!$E45:$ND45)","v":7},{"$f":"SUMIF('Input E2'!$E$3:$ND$3,Rekenblad!AC$3,'Input E2'!$E45:$ND45)","v":30},{"$f":"SUMIF('Input E2'!$E$3:$ND$3,Rekenblad!AD$3,'Input E2'!$E45:$ND45)","v":11},{"$f":"SUMIF('Input E2'!$E$3:$ND$3,Rekenblad!AE$3,'Input E2'!$E45:$ND45)","v":24},{"$f":"SUMIF('Input E2'!$E$3:$ND$3,Rekenblad!AF$3,'Input E2'!$E45:$ND45)","v":15},{"$f":"SUMIF('Input E2'!$E$3:$ND$3,Rekenblad!AG$3,'Input E2'!$E45:$ND45)","v":4},{"$f":"SUMIF('Input E2'!$E$3:$ND$3,Rekenblad!AH$3,'Input E2'!$E45:$ND45)","v":0},{"$f":"SUMIF('Input E2'!$E$3:$ND$3,Rekenblad!AI$3,'Input E2'!$E45:$ND45)","v":0},{"$f":"SUMIF('Input E2'!$E$3:$ND$3,Rekenblad!AJ$3,'Input E2'!$E45:$ND45)","v":0},{"$f":"SUMIF('Input E2'!$E$3:$ND$3,Rekenblad!AK$3,'Input E2'!$E45:$ND45)","v":31},{"$f":"SUMIF('Input E2'!$E$3:$ND$3,Rekenblad!AL$3,'Input E2'!$E45:$ND45)","v":23},{"$f":"SUMIF('Input E2'!$E$3:$ND$3,Rekenblad!AM$3,'Input E2'!$E45:$ND45)","v":12},{"$f":"SUMIF('Input E2'!$E$3:$ND$3,Rekenblad!AN$3,'Input E2'!$E45:$ND45)","v":18},{"$f":"SUMIF('Input E2'!$E$3:$ND$3,Rekenblad!AO$3,'Input E2'!$E45:$ND45)","v":21},{"$f":"SUMIF('Input E2'!$E$3:$ND$3,Rekenblad!AP$3,'Input E2'!$E45:$ND45)","v":7},{"$f":"SUMIF('Input E2'!$E$3:$ND$3,Rekenblad!AQ$3,'Input E2'!$E45:$ND45)","v":11},{"$f":"SUMIF('Input E2'!$E$3:$ND$3,Rekenblad!AR$3,'Input E2'!$E45:$ND45)","v":18},{"$f":"SUMIF('Input E2'!$E$3:$ND$3,Rekenblad!AS$3,'Input E2'!$E45:$ND45)","v":0},{"$f":"SUMIF('Input E2'!$E$3:$ND$3,Rekenblad!AT$3,'Input E2'!$E45:$ND45)","v":0},{"$f":"SUMIF('Input E2'!$E$3:$ND$3,Rekenblad!AU$3,'Input E2'!$E45:$ND45)","v":0},{"$f":"SUMIF('Input E2'!$E$3:$ND$3,Rekenblad!AV$3,'Input E2'!$E45:$ND45)","v":0},{"$f":"SUMIF('Input E2'!$E$3:$ND$3,Rekenblad!AW$3,'Input E2'!$E45:$ND45)","v":0},{"$f":"SUMIF('Input E2'!$E$3:$ND$3,Rekenblad!AX$3,'Input E2'!$E45:$ND45)","v":0},{"$f":"SUMIF('Input E2'!$E$3:$ND$3,Rekenblad!AY$3,'Input E2'!$E45:$ND45)","v":0},{"$f":"SUMIF('Input E2'!$E$3:$ND$3,Rekenblad!AZ$3,'Input E2'!$E45:$ND45)","v":0},{"$f":"SUMIF('Input E2'!$E$3:$ND$3,Rekenblad!BA$3,'Input E2'!$E45:$ND45)","v":0},{"$f":"SUMIF('Input E2'!$E$3:$ND$3,Rekenblad!BB$3,'Input E2'!$E45:$ND45)","v":0},{"$f":"SUMIF('Input E2'!$E$3:$ND$3,Rekenblad!BC$3,'Input E2'!$E45:$ND45)","v":0},{"$f":"SUMIF('Input E2'!$E$3:$ND$3,Rekenblad!BD$3,'Input E2'!$E45:$ND45)","v":0},{"$f":"SUMIF('Input E2'!$E$3:$ND$3,Rekenblad!BE$3,'Input E2'!$E45:$ND45)","v":0},null,null,null,null,{"$f":"SUMIF('Input E2'!$E$2:$ND$2,Rekenblad!BJ$3,'Input E2'!$E45:$ND45)","v":0},{"$f":"SUMIF('Input E2'!$E$2:$ND$2,Rekenblad!BK$3,'Input E2'!$E45:$ND45)","v":0},{"$f":"SUMIF('Input E2'!$E$2:$ND$2,Rekenblad!BL$3,'Input E2'!$E45:$ND45)","v":0},{"$f":"SUMIF('Input E2'!$E$2:$ND$2,Rekenblad!BM$3,'Input E2'!$E45:$ND45)","v":0},{"$f":"SUMIF('Input E2'!$E$2:$ND$2,Rekenblad!BN$3,'Input E2'!$E45:$ND45)","v":86},{"$f":"SUMIF('Input E2'!$E$2:$ND$2,Rekenblad!BO$3,'Input E2'!$E45:$ND45)","v":71},{"$f":"SUMIF('Input E2'!$E$2:$ND$2,Rekenblad!BP$3,'Input E2'!$E45:$ND45)","v":43},{"$f":"SUMIF('Input E2'!$E$2:$ND$2,Rekenblad!BQ$3,'Input E2'!$E45:$ND45)","v":66},{"$f":"SUMIF('Input E2'!$E$2:$ND$2,Rekenblad!BR$3,'Input E2'!$E45:$ND45)","v":57},{"$f":"SUMIF('Input E2'!$E$2:$ND$2,Rekenblad!BS$3,'Input E2'!$E45:$ND45)","v":18},{"$f":"SUMIF('Input E2'!$E$2:$ND$2,Rekenblad!BT$3,'Input E2'!$E45:$ND45)","v":0},{"$f":"SUMIF('Input E2'!$E$2:$ND$2,Rekenblad!BU$3,'Input E2'!$E45:$ND45)","v":0},null,341]
[null,null,null,{"$f":"'Input E2'!C46","v":"Planned Stop [Min]"},{"$f":"SUMIF('Input E2'!$E$3:$ND$3,Rekenblad!E$3,'Input E2'!$E46:$ND46)","v":0},{"$f":"SUMIF('Input E2'!$E$3:$ND$3,Rekenblad!F$3,'Input E2'!$E46:$ND46)","v":0},{"$f":"SUMIF('Input E2'!$E$3:$ND$3,Rekenblad!G$3,'Input E2'!$E46:$ND46)","v":0},{"$f":"SUMIF('Input E2'!$E$3:$ND$3,Rekenblad!H$3,'Input E2'!$E46:$ND46)","v":0},{"$f":"SUMIF('Input E2'!$E$3:$ND$3,Rekenblad!I$3,'Input E2'!$E46:$ND46)","v":0},{"$f":"SUMIF('Input E2'!$E$3:$ND$3,Rekenblad!J$3,'Input E2'!$E46:$ND46)","v":0},{"$f":"SUMIF('Input E2'!$E$3:$ND$3,Rekenblad!K$3,'Input E2'!$E46:$ND46)","v":0},{"$f":"SUMIF('Input E2'!$E$3:$ND$3,Rekenblad!L$3,'Input E2'!$E46:$ND46)","v":0},{"$f":"SUMIF('Input E2'!$E$3:$ND$3,Rekenblad!M$3,'Input E2'!$E46:$ND46)","v":0},{"$f":"SUMIF('Input E2'!$E$3:$ND$3,Rekenblad!N$3,'Input E2'!$E46:$ND46)","v":0},{"$f":"SUMIF('Input E2'!$E$3:$ND$3,Rekenblad!O$3,'Input E2'!$E46:$ND46)","v":0},{"$f":"SUMIF('Input E2'!$E$3:$ND$3,Rekenblad!P$3,'Input E2'!$E46:$ND46)","v":0},{"$f":"SUMIF('Input E2'!$E$3:$ND$3,Rekenblad!Q$3,'Input E2'!$E46:$ND46)","v":0},{"$f":"SUMIF('Input E2'!$E$3:$ND$3,Rekenblad!R$3,'Input E2'!$E46:$ND46)","v":0},{"$f":"SUMIF('Input E2'!$E$3:$ND$3,Rekenblad!S$3,'Input E2'!$E46:$ND46)","v":0},{"$f":"SUMIF('Input E2'!$E$3:$ND$3,Rekenblad!T$3,'Input E2'!$E46:$ND46)","v":0},{"$f":"SUMIF('Input E2'!$E$3:$ND$3,Rekenblad!U$3,'Input E2'!$E46:$ND46)","v":0},{"$f":"SUMIF('Input E2'!$E$3:$ND$3,Rekenblad!V$3,'Input E2'!$E46:$ND46)","v":0},{"$f":"SUMIF('Input E2'!$E$3:$ND$3,Rekenblad!W$3,'Input E2'!$E46:$ND46)","v":0},{"$f":"SUMIF('Input E2'!$E$3:$ND$3,Rekenblad!X$3,'Input E2'!$E46:$ND46)","v":0},{"$f":"SUMIF('Input E2'!$E$3:$ND$3,Rekenblad!Y$3,'Input E2'!$E46:$ND46)","v":0},{"$f":"SUMIF('Input E2'!$E$3:$ND$3,Rekenblad!Z$3,'Input E2'!$E46:$ND46)","v":0},{"$f":"SUMIF('Input E2'!$E$3:$ND$3,Rekenblad!AA$3,'Input E2'!$E46:$ND46)","v":0},{"$f":"SUMIF('Input E2'!$E$3:$ND$3,Rekenblad!AB$3,'Input E2'!$E46:$ND46)","v":0},{"$f":"SUMIF('Input E2'!$E$3:$ND$3,Rekenblad!AC$3,'Input E2'!$E46:$ND46)","v":0},{"$f":"SUMIF('Input E2'!$E$3:$ND$3,Rekenblad!AD$3,'Input E2'!$E46:$ND46)","v":0},{"$f":"SUMIF('Input E2'!$E$3:$ND$3,Rekenblad!AE$3,'Input E2'!$E46:$ND46)","v":35},{"$f":"SUMIF('Input E2'!$E$3:$ND$3,Rekenblad!AF$3,'Input E2'!$E46:$ND46)","v":0},{"$f":"SUMIF('Input E2'!$E$3:$ND$3,Rekenblad!AG$3,'Input E2'!$E46:$ND46)","v":30},{"$f":"SUMIF('Input E2'!$E$3:$ND$3,Rekenblad!AH$3,'Input E2'!$E46:$ND46)","v":0},{"$f":"SUMIF('Input E2'!$E$3:$ND$3,Rekenblad!AI$3,'Input E2'!$E46:$ND46)","v":0},{"$f":"SUMIF('Input E2'!$E$3:$ND$3,Rekenblad!AJ$3,'Input E2'!$E46:$ND46)","v":0},{"$f":"SUMIF('Input E2'!$E$3:$ND$3,Rekenblad!AK$3,'Input E2'!$E46:$ND46)","v":60},{"$f":"SUMIF('Input E2'!$E$3:$ND$3,Rekenblad!AL$3,'Input E2'!$E46:$ND46)","v":0},{"$f":"SUMIF('Input E2'!$E$3:$ND$3,Rekenblad!AM$3,'Input E2'!$E46:$ND46)","v":30},{"$f":"SUMIF('Input E2'!$E$3:$ND$3,Rekenblad!AN$3,'Input E2'!$E46:$ND46)","v":0},{"$f":"SUMIF('Input E2'!$E$3:$ND$3,Rekenblad!AO$3,'Input E2'!$E46:$ND46)","v":0},{"$f":"SUMIF('Input E2'!$E$3:$ND$3,Rekenblad!AP$3,'Input E2'!$E46:$ND46)","v":0},{"$f":"SUMIF('Input E2'!$E$3:$ND$3,Rekenblad!AQ$3,'Input E2'!$E46:$ND46)","v":35},{"$f":"SUMIF('Input E2'!$E$3:$ND$3,Rekenblad!AR$3,'Input E2'!$E46:$ND46)","v":0},{"$f":"SUMIF('Input E2'!$E$3:$ND$3,Rekenblad!AS$3,'Input E2'!$E46:$ND46)","v":0},{"$f":"SUMIF('Input E2'!$E$3:$ND$3,Rekenblad!AT$3,'Input E2'!$E46:$ND46)","v":0},{"$f":"SUMIF('Input E2'!$E$3:$ND$3,Rekenblad!AU$3,'Input E2'!$E46:$ND46)","v":0},{"$f":"SUMIF('Input E2'!$E$3:$ND$3,Rekenblad!AV$3,'Input E2'!$E46:$ND46)","v":0},{"$f":"SUMIF('Input E2'!$E$3:$ND$3,Rekenblad!AW$3,'Input E2'!$E46:$ND46)","v":0},{"$f":"SUMIF('Input E2'!$E$3:$ND$3,Rekenblad!AX$3,'Input E2'!$E46:$ND46)","v":0},{"$f":"SUMIF('Input E2'!$E$3:$ND$3,Rekenblad!AY$3,'Input E2'!$E46:$ND46)","v":0},{"$f":"SUMIF('Input E2'!$E$3:$ND$3,Rekenblad!AZ$3,'Input E2'!$E46:$ND46)","v":0},{"$f":"SUMIF('Input E2'!$E$3:$ND$3,Rekenblad!BA$3,'Input E2'!$E46:$ND46)","v":0},{"$f":"SUMIF('Input E2'!$E$3:$ND$3,Rekenblad!BB$3,'Input E2'!$E46:$ND46)","v":0},{"$f":"SUMIF('Input E2'!$E$3:$ND$3,Rekenblad!BC$3,'Input E2'!$E46:$ND46)","v":0},{"$f":"SUMIF('Input E2'!$E$3:$ND$3,Rekenblad!BD$3,'Input E2'!$E46:$ND46)","v":0},{"$f":"SUMIF('Input E2'!$E$3:$ND$3,Rekenblad!BE$3,'Input E2'!$E46:$ND46)","v":0},null,null,null,null,{"$f":"SUMIF('Input E2'!$E$2:$ND$2,Rekenblad!BJ$3,'Input E2'!$E46:$ND46)","v":0},{"$f":"SUMIF('Input E2'!$E$2:$ND$2,Rekenblad!BK$3,'Input E2'!$E46:$ND46)","v":0},{"$f":"SUMIF('Input E2'!$E$2:$ND$2,Rekenblad!BL$3,'Input E2'!$E46:$ND46)","v":0},{"$f":"SUMIF('Input E2'!$E$2:$ND$2,Rekenblad!BM$3,'Input E2'!$E46:$ND46)","v":0},{"$f":"SUMIF('Input E2'!$E$2:$ND$2,Rekenblad!BN$3,'Input E2'!$E46:$ND46)","v":0},{"$f":"SUMIF('Input E2'!$E$2:$ND$2,Rekenblad!BO$3,'Input E2'!$E46:$ND46)","v":0},{"$f":"SUMIF('Input E2'!$E$2:$ND$2,Rekenblad!BP$3,'Input E2'!$E46:$ND46)","v":65},{"$f":"SUMIF('Input E2'!$E$2:$ND$2,Rekenblad!BQ$3,'Input E2'!$E46:$ND46)","v":90},{"$f":"SUMIF('Input E2'!$E$2:$ND$2,Rekenblad!BR$3,'Input E2'!$E46:$ND46)","v":35},{"$f":"SUMIF('Input E2'!$E$2:$ND$2,Rekenblad!BS$3,'Input E2'!$E46:$ND46)","v":0},{"$f":"SUMIF('Input E2'!$E$2:$ND$2,Rekenblad!BT$3,'Input E2'!$E46:$ND46)","v":0},{"$f":"SUMIF('Input E2'!$E$2:$ND$2,Rekenblad!BU$3,'Input E2'!$E46:$ND46)","v":0},null,190]
[null,null,null,null,null,null,null,null,null,null,null,null,null,null,null,null,null,null,null,null,null,null,null,null,null,null,null,null,null,null,null,null,null,null,null,null,null,null,null,null,null,null,null,null,null,null,null,null,null,null,null,null,null,null,null,null,null,null,null,null,null,{"$f":"BJ2","v":0},{"$f":"BK2","v":0},0,0,14,22,16,16,22,5,0,0]
[null,null,null,{"$f":"'Input E2'!C47","v":"Realized SILL1 RH"},{"$f":"SUMIF('Input E2'!$E$3:$ND$3,Rekenblad!E$3,'Input E2'!$E47:$ND47)","v":0},{"$f":"SUMIF('Input E2'!$E$3:$ND$3,Rekenblad!F$3,'Input E2'!$E47:$ND47)","v":0},{"$f":"SUMIF('Input E2'!$E$3:$ND$3,Rekenblad!G$3,'Input E2'!$E47:$ND47)","v":0},{"$f":"SUMIF('Input E2'!$E$3:$ND$3,Rekenblad!H$3,'Input E2'!$E47:$ND47)","v":0},{"$f":"SUMIF('Input E2'!$E$3:$ND$3,Rekenblad!I$3,'Input E2'!$E47:$ND47)","v":0},{"$f":"SUMIF('Input E2'!$E$3:$ND$3,Rekenblad!J$3,'Input E2'!$E47:$ND47)","v":0},{"$f":"SUMIF('Input E2'!$E$3:$ND$3,Rekenblad!K$3,'Input E2'!$E47:$ND47)","v":0},{"$f":"SUMIF('Input E2'!$E$3:$ND$3,Rekenblad!L$3,'Input E2'!$E47:$ND47)","v":0},{"$f":"SUMIF('Input E2'!$E$3:$ND$3,Rekenblad!M$3,'Input E2'!$E47:$ND47)","v":0},{"$f":"SUMIF('Input E2'!$E$3:$ND$3,Rekenblad!N$3,'Input E2'!$E47:$ND47)","v":0},{"$f":"SUMIF('Input E2'!$E$3:$ND$3,Rekenblad!O$3,'Input E2'!$E47:$ND47)","v":0},{"$f":"SUMIF('Input E2'!$E$3:$ND$3,Rekenblad!P$3,'Input E2'!$E47:$ND47)","v":0},{"$f":"SUMIF('Input E2'!$E$3:$ND$3,Rekenblad!Q$3,'Input E2'!$E47:$ND47)","v":0},{"$f":"SUMIF('Input E2'!$E$3:$ND$3,Rekenblad!R$3,'Input E2'!$E47:$ND47)","v":0},{"$f":"SUMIF('Input E2'!$E$3:$ND$3,Rekenblad!S$3,'Input E2'!$E47:$ND47)","v":0},{"$f":"SUMIF('Input E2'!$E$3:$ND$3,Rekenblad!T$3,'Input E2'!$E47:$ND47)","v":0},{"$f":"SUMIF('Input E2'!$E$3:$ND$3,Rekenblad!U$3,'Input E2'!$E47:$ND47)","v":0},{"$f":"SUMIF('Input E2'!$E$3:$ND$3,Rekenblad!V$3,'Input E2'!$E47:$ND47)","v":0},{"$f":"SUMIF('Input E2'!$E$3:$ND$3,Rekenblad!W$3,'Input E2'!$E47:$ND47)","v":0},{"$f":"SUMIF('Input E2'!$E$3:$ND$3,Rekenblad!X$3,'Input E2'!$E47:$ND47)","v":1176},{"$f":"SUMIF('Input E2'!$E$3:$ND$3,Rekenblad!Y$3,'Input E2'!$E47:$ND47)","v":1127},{"$f":"SUMIF('Input E2'!$E$3:$ND$3,Rekenblad!Z$3,'Input E2'!$E47:$ND47)","v":1218},{"$f":"SUMIF('Input E2'!$E$3:$ND$3,Rekenblad!AA$3,'Input E2'!$E47:$ND47)","v":1311},{"$f":"SUMIF('Input E2'!$E$3:$ND$3,Rekenblad!AB$3,'Input E2'!$E47:$ND47)","v":1386},{"$f":"SUMIF('Input E2'!$E$3:$ND$3,Rekenblad!AC$3,'Input E2'!$E47:$ND47)","v":1095},{"$f":"SUMIF('Input E2'!$E$3:$ND$3,Rekenblad!AD$3,'Input E2'!$E47:$ND47)","v":1114},{"$f":"SUMIF('Input E2'!$E$3:$ND$3,Rekenblad!AE$3,'Input E2'!$E47:$ND47)","v":1474},{"$f":"SUMIF('Input E2'!$E$3:$ND$3,Rekenblad!AF$3,'Input E2'!$E47:$ND47)","v":1154},{"$f":"SUMIF('Input E2'!$E$3:$ND$3,Rekenblad!AG$3,'Input E2'!$E47:$ND47)","v":681},{"$f":"SUMIF('Input E2'!$E$3:$ND$3,Rekenblad!AH$3,'Input E2'!$E47:$ND47)","v":0},{"$f":"SUMIF('Input E2'!$E$3:$ND$3,Rekenblad!AI$3,'Input E2'!$E47:$ND47)","v":0},{"$f":"SUMIF('Input E2'!$E$3:$ND$3,Rekenblad!AJ$3,'Input E2'!$E47:$ND47)","v":0},{"$f":"SUMIF('Input E2'!$E$3:$ND$3,Rekenblad!AK$3,'Input E2'!$E47:$ND47)","v":1536},{"$f":"SUMIF('Input E2'!$E$3:$ND$3,Rekenblad!AL$3,'Input E2'!$E47:$ND47)","v":931},{"$f":"SUMIF('Input E2'!$E$3:$ND$3,Rekenblad!AM$3,'Input E2'!$E47:$ND47)","v":1368},{"$f":"SUMIF('Input E2'!$E$3:$ND$3,Rekenblad!AN$3,'Input E2'!$E47:$ND47)","v":1387},{"$f":"SUMIF('Input E2'!$E$3:$ND$3,Rekenblad!AO$3,'Input E2'!$E47:$ND47)","v":1076},{"$f":"SUMIF('Input E2'!$E$3:$ND$3,Rekenblad!AP$3,'Input E2'!$E47:$ND47)","v":1439},{"$f":"SUMIF('Input E2'!$E$3:$ND$3,Rekenblad!AQ$3,'Input E2'!$E47:$ND47)","v":1663},{"$f":"SUMIF('Input E2'!$E$3:$ND$3,Rekenblad!AR$3,'Input E2'!$E47:$ND47)","v":1400},{"$f":"SUMIF('Input E2'!$E$3:$ND$3,Rekenblad!AS$3,'Input E2'!$E47:$ND47)","v":0},{"$f":"SUMIF('Input E2'!$E$3:$ND$3,Rekenblad!AT$3,'Input E2'!$E47:$ND47)","v":0},{"$f":"SUMIF('Input E2'!$E$3:$ND$3,Rekenblad!AU$3,'Input E2'!$E47:$ND47)","v":0},{"$f":"SUMIF('Input E2'!$E$3:$ND$3,Rekenblad!AV$3,'Input E2'!$E47:$ND47)","v":0},{"$f":"SUMIF('Input E2'!$E$3:$ND$3,Rekenblad!AW$3,'Input E2'!$E47:$ND47)","v":0},{"$f":"SUMIF('Input E2'!$E$3:$ND$3,Rekenblad!AX$3,'Input E2'!$E47:$ND47)","v":0},{"$f":"SUMIF('Input E2'!$E$3:$ND$3,Rekenblad!AY$3,'Input E2'!$E47:$ND47)","v":0},{"$f":"SUMIF('Input E2'!$E$3:$ND$3,Rekenblad!AZ$3,'Input E2'!$E47:$ND47)","v":0},{"$f":"SUMIF('Input E2'!$E$3:$ND$3,Rekenblad!BA$3,'Input E2'!$E47:$ND47)","v":0},{"$f":"SUMIF('Input E2'!$E$3:$ND$3,Rekenblad!BB$3,'Input E2'!$E47:$ND47)","v":0},{"$f":"SUMIF('Input E2'!$E$3:$ND$3,Rekenblad!BC$3,'Input E2'!$E47:$ND47)","v":0},{"$f":"SUMIF('Input E2'!$E$3:$ND$3,Rekenblad!BD$3,'Input E2'!$E47:$ND47)","v":0},{"$f":"SUMIF('Input E2'!$E$3:$ND$3,Rekenblad!BE$3,'Input E2'!$E47:$ND47)","v":0},null,null,null,null,{"$f":"SUMIF('Input E2'!$E$2:$ND$2,Rekenblad!BJ$3,'Input E2'!$E47:$ND47)","v":0},{"$f":"SUMIF('Input E2'!$E$2:$ND$2,Rekenblad!BK$3,'Input E2'!$E47:$ND47)","v":0},{"$f":"SUMIF('Input E2'!$E$2:$ND$2,Rekenblad!BL$3,'Input E2'!$E47:$ND47)","v":0},{"$f":"SUMIF('Input E2'!$E$2:$ND$2,Rekenblad!BM$3,'Input E2'!$E47:$ND47)","v":0},{"$f":"SUMIF('Input E2'!$E$2:$ND$2,Rekenblad!BN$3,'Input E2'!$E47:$ND47)","v":3309},{"$f":"SUMIF('Input E2'!$E$2:$ND$2,Rekenblad!BO$3,'Input E2'!$E47:$ND47)","v":5118},{"$f":"SUMIF('Input E2'!$E$2:$ND$2,Rekenblad!BP$3,'Input E2'!$E47:$ND47)","v":3309},{"$f":"SUMIF('Input E2'!$E$2:$ND$2,Rekenblad!BQ$3,'Input E2'!$E47:$ND47)","v":3835},{"$f":"SUMIF('Input E2'!$E$2:$ND$2,Rekenblad!BR$3,'Input E2'!$E47:$ND47)","v":5565},{"$f":"SUMIF('Input E2'!$E$2:$ND$2,Rekenblad!BS$3,'Input E2'!$E47:$ND47)","v":1400},{"$f":"SUMIF('Input E2'!$E$2:$ND$2,Rekenblad!BT$3,'Input E2'!$E47:$ND47)","v":0},{"$f":"SUMIF('Input E2'!$E$2:$ND$2,Rekenblad!BU$3,'Input E2'!$E47:$ND47)","v":0},null,22536]
[null,null,null,{"$f":"'Input E2'!C48","v":"Downtime Technical SILL1 RH [Min]"},{"$f":"SUMIF('Input E2'!$E$3:$ND$3,Rekenblad!E$3,'Input E2'!$E48:$ND48)","v":0},{"$f":"SUMIF('Input E2'!$E$3:$ND$3,Rekenblad!F$3,'Input E2'!$E48:$ND48)","v":28},{"$f":"SUMIF('Input E2'!$E$3:$ND$3,Rekenblad!G$3,'Input E2'!$E48:$ND48)","v":15},{"$f":"SUMIF('Input E2'!$E$3:$ND$3,Rekenblad!H$3,'Input E2'!$E48:$ND48)","v":0},{"$f":"SUMIF('Input E2'!$E$3:$ND$3,Rekenblad!I$3,'Input E2'!$E48:$ND48)","v":0},{"$f":"SUMIF('Input E2'!$E$3:$ND$3,Rekenblad!J$3,'Input E2'!$E48:$ND48)","v":180},{"$f":"SUMIF('Input E2'!$E$3:$ND$3,Rekenblad!K$3,'Input E2'!$E48:$ND48)","v":10},{"$f":"SUMIF('Input E2'!$E$3:$ND$3,Rekenblad!L$3,'Input E2'!$E48:$ND48)","v":10},{"$f":"SUMIF('Input E2'!$E$3:$ND$3,Rekenblad!M$3,'Input E2'!$E48:$ND48)","v":9},{"$f":"SUMIF('Input E2'!$E$3:$ND$3,Rekenblad!N$3,'Input E2'!$E48:$ND48)","v":0},{"$f":"SUMIF('Input E2'!$E$3:$ND$3,Rekenblad!O$3,'Input E2'!$E48:$ND48)","v":20},{"$f":"SUMIF('Input E2'!$E$3:$ND$3,Rekenblad!P$3,'Input E2'!$E48:$ND48)","v":10},{"$f":"SUMIF('Input E2'!$E$3:$ND$3,Rekenblad!Q$3,'Input E2'!$E48:$ND48)","v":0},{"$f":"SUMIF('Input E2'!$E$3:$ND$3,Rekenblad!R$3,'Input E2'!$E48:$ND48)","v":19},{"$f":"SUMIF('Input E2'!$E$3:$ND$3,Rekenblad!S$3,'Input E2'!$E48:$ND48)","v":8},{"$f":"SUMIF('Input E2'!$E$3:$ND$3,Rekenblad!T$3,'Input E2'!$E48:$ND48)","v":0},{"$f":"SUMIF('Input E2'!$E$3:$ND$3,Rekenblad!U$3,'Input E2'!$E48:$ND48)","v":0},{"$f":"SUMIF('Input E2'!$E$3:$ND$3,Rekenblad!V$3,'Input E2'!$E48:$ND48)","v":151},{"$f":"SUMIF('Input E2'!$E$3:$ND$3,Rekenblad!W$3,'Input E2'!$E48:$ND48)","v":37},{"$f":"SUMIF('Input E2'!$E$3:$ND$3,Rekenblad!X$3,'Input E2'!$E48:$ND48)","v":23},{"$f":"SUMIF('Input E2'!$E$3:$ND$3,Rekenblad!Y$3,'Input E2'!$E48:$ND48)","v":53},{"$f":"SUMIF('Input E2'!$E$3:$ND$3,Rekenblad!Z$3,'Input E2'!$E48:$ND48)","v":0},{"$f":"SUMIF('Input E2'!$E$3:$ND$3,Rekenblad!AA$3,'Input E2'!$E48:$ND48)","v":51},{"$f":"SUMIF('Input E2'!$E$3:$ND$3,Rekenblad!AB$3,'Input E2'!$E48:$ND48)","v":51},{"$f":"SUMIF('Input E2'!$E$3:$ND$3,Rekenblad!AC$3,'Input E2'!$E48:$ND48)","v":4},{"$f":"SUMIF('Input E2'!$E$3:$ND$3,Rekenblad!AD$3,'Input E2'!$E48:$ND48)","v":0},{"$f":"SUMIF('Input E2'!$E$3:$ND$3,Rekenblad!AE$3,'Input E2'!$E48:$ND48)","v":12},{"$f":"SUMIF('Input E2'!$E$3:$ND$3,Rekenblad!AF$3,'Input E2'!$E48:$ND48)","v":50},{"$f":"SUMIF('Input E2'!$E$3:$ND$3,Rekenblad!AG$3,'Input E2'!$E48:$ND48)","v":0},{"$f":"SUMIF('Input E2'!$E$3:$ND$3,Rekenblad!AH$3,'Input E2'!$E48:$ND48)","v":0},{"$f":"SUMIF('Input E2'!$E$3:$ND$3,Rekenblad!AI$3,'Input E2'!$E48:$ND48)","v":0},{"$f":"SUMIF('Input E2'!$E$3:$ND$3,Rekenblad!AJ$3,'Input E2'!$E48:$ND48)","v":0},{"$f":"SUMIF('Input E2'!$E$3:$ND$3,Rekenblad!AK$3,'Input E2'!$E48:$ND48)","v":55},{"$f":"SUMIF('Input E2'!$E$3:$ND$3,Rekenblad!AL$3,'Input E2'!$E48:$ND48)","v":0},{"$f":"SUMIF('Input E2'!$E$3:$ND$3,Rekenblad!AM$3,'Input E2'!$E48:$ND48)","v":44},{"$f":"SUMIF('Input E2'!$E$3:$ND$3,Rekenblad!AN$3,'Input E2'!$E48:$ND48)","v":1},{"$f":"SUMIF('Input E2'!$E$3:$ND$3,Rekenblad!AO$3,'Input E2'!$E48:$ND48)","v":30},{"$f":"SUMIF('Input E2'!$E$3:$ND$3,Rekenblad!AP$3,'Input E2'!$E48:$ND48)","v":24},{"$f":"SUMIF('Input E2'!$E$3:$ND$3,Rekenblad!AQ$3,'Input E2'!$E48:$ND48)","v":10},{"$f":"SUMIF('Input E2'!$E$3:$ND$3,Rekenblad!AR$3,'Input E2'!$E48:$ND48)","v":7},{"$f":"SUMIF('Input E2'!$E$3:$ND$3,Rekenblad!AS$3,'Input E2'!$E48:$ND48)","v":0},{"$f":"SUMIF('Input E2'!$E$3:$ND$3,Rekenblad!AT$3,'Input E2'!$E48:$ND48)","v":0},{"$f":"SUMIF('Input E2'!$E$3:$ND$3,Rekenblad!AU$3,'Input E2'!$E48:$ND48)","v":0},{"$f":"SUMIF('Input E2'!$E$3:$ND$3,Rekenblad!AV$3,'Input E2'!$E48:$ND48)","v":0},{"$f":"SUMIF('Input E2'!$E$3:$ND$3,Rekenblad!AW$3,'Input E2'!$E48:$ND48)","v":0},{"$f":"SUMIF('Input E2'!$E$3:$ND$3,Rekenblad!AX$3,'Input E2'!$E48:$ND48)","v":0},{"$f":"SUMIF('Input E2'!$E$3:$ND$3,Rekenblad!AY$3,'Input E2'!$E48:$ND48)","v":0},{"$f":"SUMIF('Input E2'!$E$3:$ND$3,Rekenblad!AZ$3,'Input E2'!$E48:$ND48)","v":0},{"$f":"SUMIF('Input E2'!$E$3:$ND$3,Rekenblad!BA$3,'Input E2'!$E48:$ND48)","v":0},{"$f":"SUMIF('Input E2'!$E$3:$ND$3,Rekenblad!BB$3,'Input E2'!$E48:$ND48)","v":0},{"$f":"SUMIF('Input E2'!$E$3:$ND$3,Rekenblad!BC$3,'Input E2'!$E48:$ND48)","v":0},{"$f":"SUMIF('Input E2'!$E$3:$ND$3,Rekenblad!BD$3,'Input E2'!$E48:$ND48)","v":0},{"$f":"SUMIF('Input E2'!$E$3:$ND$3,Rekenblad!BE$3,'Input E2'!$E48:$ND48)","v":0},null,null,null,null,{"$f":"SUMIF('Input E2'!$E$2:$ND$2,Rekenblad!BJ$3,'Input E2'!$E48:$ND48)","v":43},{"$f":"SUMIF('Input E2'!$E$2:$ND$2,Rekenblad!BK$3,'Input E2'!$E48:$ND48)","v":203},{"$f":"SUMIF('Input E2'!$E$2:$ND$2,Rekenblad!BL$3,'Input E2'!$E48:$ND48)","v":36},{"$f":"SUMIF('Input E2'!$E$2:$ND$2,Rekenblad!BM$3,'Input E2'!$E48:$ND48)","v":27},{"$f":"SUMIF('Input E2'!$E$2:$ND$2,Rekenblad!BN$3,'Input E2'!$E48:$ND48)","v":264},{"$f":"SUMIF('Input E2'!$E$2:$ND$2,Rekenblad!BO$3,'Input E2'!$E48:$ND48)","v":106},{"$f":"SUMIF('Input E2'!$E$2:$ND$2,Rekenblad!BP$3,'Input E2'!$E48:$ND48)","v":62},{"$f":"SUMIF('Input E2'!$E$2:$ND$2,Rekenblad!BQ$3,'Input E2'!$E48:$ND48)","v":99},{"$f":"SUMIF('Input E2'!$E$2:$ND$2,Rekenblad!BR$3,'Input E2'!$E48:$ND48)","v":65},{"$f":"SUMIF('Input E2'!$E$2:$ND$2,Rekenblad!BS$3,'Input E2'!$E48:$ND48)","v":7},{"$f":"SUMIF('Input E2'!$E$2:$ND$2,Rekenblad!BT$3,'Input E2'!$E48:$ND48)","v":0},{"$f":"SUMIF('Input E2'!$E$2:$ND$2,Rekenblad!BU$3,'Input E2'!$E48:$ND48)","v":0},null,912]
[null,null,null,{"$f":"'Input E2'!C49","v":"Downtime Technical SILL1 RH [%]"},{"$f":"IF(E44=0,0%,((E45*60)/((E44*62)+(E45*60))))","v":0},{"$f":"IF(F44=0,0%,((F45*60)/((F44*62)+(F45*60))))","v":0},0,0,0,0,0,0,0,0,0,0,0,0,0,0,0,0,0,1.8575351316427072E-2,4.3529443972951512E-2,0,3.6280856512769438E-2,3.4385113268608415E-2,3.5226772346983706E-3,0,7.8169105832283838E-3,4.0242528303911576E-2,0,0,0,0,3.3491657532578246E-2,0,3.0186608122941824E-2,6.9723661886722293E-4,2.6272769733769265E-2,1.5883871252399127E-2,5.7855861763060961E-3,4.815409309791332E-3,0,0,0,0,0,0,0,0,0,0,0,0,0,null,null,null,null,{"$f":"IF(BJ44=0,0%,((BJ45*60)/((BJ44*62)+(BJ45*60))))","v":0},{"$f":"IF(BK44=0,0%,((BK45*60)/((BK44*62)+(BK45*60))))","v":0},0,0,7.1674856786034261E-2,1.9649278908538167E-2,1.7809439002671415E-2,2.4373230478847811E-2,1.1177026910841716E-2,4.815409309791332E-3,0,0,null,{"$f":"SUM(BJ46:BU46)/COUNTIF(BJ46:BU46,\"<>0,00%\")","v":2.4916540232787446E-2}]
[null,null,null,{"$f":"'Input E2'!C50","v":"Blocked Starved [Min]"},{"$f":"SUMIF('Input E2'!$E$3:$ND$3,Rekenblad!E$3,'Input E2'!$E50:$ND50)","v":0},{"$f":"SUMIF('Input E2'!$E$3:$ND$3,Rekenblad!F$3,'Input E2'!$E50:$ND50)","v":0},{"$f":"SUMIF('Input E2'!$E$3:$ND$3,Rekenblad!G$3,'Input E2'!$E50:$ND50)","v":0},{"$f":"SUMIF('Input E2'!$E$3:$ND$3,Rekenblad!H$3,'Input E2'!$E50:$ND50)","v":0},{"$f":"SUMIF('Input E2'!$E$3:$ND$3,Rekenblad!I$3,'Input E2'!$E50:$ND50)","v":0},{"$f":"SUMIF('Input E2'!$E$3:$ND$3,Rekenblad!J$3,'Input E2'!$E50:$ND50)","v":0},{"$f":"SUMIF('Input E2'!$E$3:$ND$3,Rekenblad!K$3,'Input E2'!$E50:$ND50)","v":0},{"$f":"SUMIF('Input E2'!$E$3:$ND$3,Rekenblad!L$3,'Input E2'!$E50:$ND50)","v":0},{"$f":"SUMIF('Input E2'!$E$3:$ND$3,Rekenblad!M$3,'Input E2'!$E50:$ND50)","v":0},{"$f":"SUMIF('Input E2'!$E$3:$ND$3,Rekenblad!N$3,'Input E2'!$E50:$ND50)","v":0},{"$f":"SUMIF('Input E2'!$E$3:$ND$3,Rekenblad!O$3,'Input E2'!$E50:$ND50)","v":0},{"$f":"SUMIF('Input E2'!$E$3:$ND$3,Rekenblad!P$3,'Input E2'!$E50:$ND50)","v":0},{"$f":"SUMIF('Input E2'!$E$3:$ND$3,Rekenblad!Q$3,'Input E2'!$E50:$ND50)","v":0},{"$f":"SUMIF('Input E2'!$E$3:$ND$3,Rekenblad!R$3,'Input E2'!$E50:$ND50)","v":0},{"$f":"SUMIF('Input E2'!$E$3:$ND$3,Rekenblad!S$3,'Input E2'!$E50:$ND50)","v":0},{"$f":"SUMIF('Input E2'!$E$3:$ND$3,Rekenblad!T$3,'Input E2'!$E50:$ND50)","v":0},{"$f":"SUMIF('Input E2'!$E$3:$ND$3,Rekenblad!U$3,'Input E2'!$E50:$ND50)","v":0},{"$f":"SUMIF('Input E2'!$E$3:$ND$3,Rekenblad!V$3,'Input E2'!$E50:$ND50)","v":0},{"$f":"SUMIF('Input E2'!$E$3:$ND$3,Rekenblad!W$3,'Input E2'!$E50:$ND50)","v":0},{"$f":"SUMIF('Input E2'!$E$3:$ND$3,Rekenblad!X$3,'Input E2'!$E50:$ND50)","v":0},{"$f":"SUMIF('Input E2'!$E$3:$ND$3,Rekenblad!Y$3,'Input E2'!$E50:$ND50)","v":0},{"$f":"SUMIF('Input E2'!$E$3:$ND$3,Rekenblad!Z$3,'Input E2'!$E50:$ND50)","v":0},{"$f":"SUMIF('Input E2'!$E$3:$ND$3,Rekenblad!AA$3,'Input E2'!$E50:$ND50)","v":0},{"$f":"SUMIF('Input E2'!$E$3:$ND$3,Rekenblad!AB$3,'Input E2'!$E50:$ND50)","v":0},{"$f":"SUMIF('Input E2'!$E$3:$ND$3,Rekenblad!AC$3,'Input E2'!$E50:$ND50)","v":0},{"$f":"SUMIF('Input E2'!$E$3:$ND$3,Rekenblad!AD$3,'Input E2'!$E50:$ND50)","v":0},{"$f":"SUMIF('Input E2'!$E$3:$ND$3,Rekenblad!AE$3,'Input E2'!$E50:$ND50)","v":0},{"$f":"SUMIF('Input E2'!$E$3:$ND$3,Rekenblad!AF$3,'Input E2'!$E50:$ND50)","v":0},{"$f":"SUMIF('Input E2'!$E$3:$ND$3,Rekenblad!AG$3,'Input E2'!$E50:$ND50)","v":0},{"$f":"SUMIF('Input E2'!$E$3:$ND$3,Rekenblad!AH$3,'Input E2'!$E50:$ND50)","v":0},{"$f":"SUMIF('Input E2'!$E$3:$ND$3,Rekenblad!AI$3,'Input E2'!$E50:$ND50)","v":0},{"$f":"SUMIF('Input E2'!$E$3:$ND$3,Rekenblad!AJ$3,'Input E2'!$E50:$ND50)","v":0},{"$f":"SUMIF('Input E2'!$E$3:$ND$3,Rekenblad!AK$3,'Input E2'!$E50:$ND50)","v":8},{"$f":"SUMIF('Input E2'!$E$3:$ND$3,Rekenblad!AL$3,'Input E2'!$E50:$ND50)","v":0},{"$f":"SUMIF('Input E2'!$E$3:$ND$3,Rekenblad!AM$3,'Input E2'!$E50:$ND50)","v":0},{"$f":"SUMIF('Input E2'!$E$3:$ND$3,Rekenblad!AN$3,'Input E2'!$E50:$ND50)","v":0},{"$f":"SUMIF('Input E2'!$E$3:$ND$3,Rekenblad!AO$3,'Input E2'!$E50:$ND50)","v":34},{"$f":"SUMIF('Input E2'!$E$3:$ND$3,Rekenblad!AP$3,'Input E2'!$E50:$ND50)","v":0},{"$f":"SUMIF('Input E2'!$E$3:$ND$3,Rekenblad!AQ$3,'Input E2'!$E50:$ND50)","v":0},{"$f":"SUMIF('Input E2'!$E$3:$ND$3,Rekenblad!AR$3,'Input E2'!$E50:$ND50)","v":0},{"$f":"SUMIF('Input E2'!$E$3:$ND$3,Rekenblad!AS$3,'Input E2'!$E50:$ND50)","v":0},{"$f":"SUMIF('Input E2'!$E$3:$ND$3,Rekenblad!AT$3,'Input E2'!$E50:$ND50)","v":0},{"$f":"SUMIF('Input E2'!$E$3:$ND$3,Rekenblad!AU$3,'Input E2'!$E50:$ND50)","v":0},{"$f":"SUMIF('Input E2'!$E$3:$ND$3,Rekenblad!AV$3,'Input E2'!$E50:$ND50)","v":0},{"$f":"SUMIF('Input E2'!$E$3:$ND$3,Rekenblad!AW$3,'Input E2'!$E50:$ND50)","v":0},{"$f":"SUMIF('Input E2'!$E$3:$ND$3,Rekenblad!AX$3,'Input E2'!$E50:$ND50)","v":0},{"$f":"SUMIF('Input E2'!$E$3:$ND$3,Rekenblad!AY$3,'Input E2'!$E50:$ND50)","v":0},{"$f":"SUMIF('Input E2'!$E$3:$ND$3,Rekenblad!AZ$3,'Input E2'!$E50:$ND50)","v":0},{"$f":"SUMIF('Input E2'!$E$3:$ND$3,Rekenblad!BA$3,'Input E2'!$E50:$ND50)","v":0},{"$f":"SUMIF('Input E2'!$E$3:$ND$3,Rekenblad!BB$3,'Input E2'!$E50:$ND50)","v":0},{"$f":"SUMIF('Input E2'!$E$3:$ND$3,Rekenblad!BC$3,'Input E2'!$E50:$ND50)","v":0},{"$f":"SUMIF('Input E2'!$E$3:$ND$3,Rekenblad!BD$3,'Input E2'!$E50:$ND50)","v":0},{"$f":"SUMIF('Input E2'!$E$3:$ND$3,Rekenblad!BE$3,'Input E2'!$E50:$ND50)","v":0},null,null,null,null,{"$f":"SUMIF('Input E2'!$E$2:$ND$2,Rekenblad!BJ$3,'Input E2'!$E50:$ND50)","v":0},{"$f":"SUMIF('Input E2'!$E$2:$ND$2,Rekenblad!BK$3,'Input E2'!$E50:$ND50)","v":0},{"$f":"SUMIF('Input E2'!$E$2:$ND$2,Rekenblad!BL$3,'Input E2'!$E50:$ND50)","v":0},{"$f":"SUMIF('Input E2'!$E$2:$ND$2,Rekenblad!BM$3,'Input E2'!$E50:$ND50)","v":0},{"$f":"SUMIF('Input E2'!$E$2:$ND$2,Rekenblad!BN$3,'Input E2'!$E50:$ND50)","v":0},{"$f":"SUMIF('Input E2'!$E$2:$ND$2,Rekenblad!BO$3,'Input E2'!$E50:$ND50)","v":0},{"$f":"SUMIF('Input E2'!$E$2:$ND$2,Rekenblad!BP$3,'Input E2'!$E50:$ND50)","v":0},{"$f":"SUMIF('Input E2'!$E$2:$ND$2,Rekenblad!BQ$3,'Input E2'!$E50:$ND50)","v":8},{"$f":"SUMIF('Input E2'!$E$2:$ND$2,Rekenblad!BR$3,'Input E2'!$E50:$ND50)","v":34},{"$f":"SUMIF('Input E2'!$E$2:$ND$2,Rekenblad!BS$3,'Input E2'!$E50:$ND50)","v":0},{"$f":"SUMIF('Input E2'!$E$2:$ND$2,Rekenblad!BT$3,'Input E2'!$E50:$ND50)","v":0},{"$f":"SUMIF('Input E2'!$E$2:$ND$2,Rekenblad!BU$3,'Input E2'!$E50:$ND50)","v":0},null,42]
[null,null,null,{"$f":"'Input E2'!C51","v":"Parts at Break [Aantal]"},{"$f":"SUMIF('Input E2'!$E$3:$ND$3,Rekenblad!E$3,'Input E2'!$E51:$ND51)","v":0},{"$f":"SUMIF('Input E2'!$E$3:$ND$3,Rekenblad!F$3,'Input E2'!$E51:$ND51)","v":0},{"$f":"SUMIF('Input E2'!$E$3:$ND$3,Rekenblad!G$3,'Input E2'!$E51:$ND51)","v":0},{"$f":"SUMIF('Input E2'!$E$3:$ND$3,Rekenblad!H$3,'Input E2'!$E51:$ND51)","v":0},{"$f":"SUMIF('Input E2'!$E$3:$ND$3,Rekenblad!I$3,'Input E2'!$E51:$ND51)","v":0},{"$f":"SUMIF('Input E2'!$E$3:$ND$3,Rekenblad!J$3,'Input E2'!$E51:$ND51)","v":0},{"$f":"SUMIF('Input E2'!$E$3:$ND$3,Rekenblad!K$3,'Input E2'!$E51:$ND51)","v":0},{"$f":"SUMIF('Input E2'!$E$3:$ND$3,Rekenblad!L$3,'Input E2'!$E51:$ND51)","v":0},{"$f":"SUMIF('Input E2'!$E$3:$ND$3,Rekenblad!M$3,'Input E2'!$E51:$ND51)","v":0},{"$f":"SUMIF('Input E2'!$E$3:$ND$3,Rekenblad!N$3,'Input E2'!$E51:$ND51)","v":0},{"$f":"SUMIF('Input E2'!$E$3:$ND$3,Rekenblad!O$3,'Input E2'!$E51:$ND51)","v":0},{"$f":"SUMIF('Input E2'!$E$3:$ND$3,Rekenblad!P$3,'Input E2'!$E51:$ND51)","v":0},{"$f":"SUMIF('Input E2'!$E$3:$ND$3,Rekenblad!Q$3,'Input E2'!$E51:$ND51)","v":0},{"$f":"SUMIF('Input E2'!$E$3:$ND$3,Rekenblad!R$3,'Input E2'!$E51:$ND51)","v":0},{"$f":"SUMIF('Input E2'!$E$3:$ND$3,Rekenblad!S$3,'Input E2'!$E51:$ND51)","v":0},{"$f":"SUMIF('Input E2'!$E$3:$ND$3,Rekenblad!T$3,'Input E2'!$E51:$ND51)","v":0},{"$f":"SUMIF('Input E2'!$E$3:$ND$3,Rekenblad!U$3,'Input E2'!$E51:$ND51)","v":0},{"$f":"SUMIF('Input E2'!$E$3:$ND$3,Rekenblad!V$3,'Input E2'!$E51:$ND51)","v":0},{"$f":"SUMIF('Input E2'!$E$3:$ND$3,Rekenblad!W$3,'Input E2'!$E51:$ND51)","v":0},{"$f":"SUMIF('Input E2'!$E$3:$ND$3,Rekenblad!X$3,'Input E2'!$E51:$ND51)","v":23},{"$f":"SUMIF('Input E2'!$E$3:$ND$3,Rekenblad!Y$3,'Input E2'!$E51:$ND51)","v":22},{"$f":"SUMIF('Input E2'!$E$3:$ND$3,Rekenblad!Z$3,'Input E2'!$E51:$ND51)","v":38},{"$f":"SUMIF('Input E2'!$E$3:$ND$3,Rekenblad!AA$3,'Input E2'!$E51:$ND51)","v":10},{"$f":"SUMIF('Input E2'!$E$3:$ND$3,Rekenblad!AB$3,'Input E2'!$E51:$ND51)","v":8},{"$f":"SUMIF('Input E2'!$E$3:$ND$3,Rekenblad!AC$3,'Input E2'!$E51:$ND51)","v":26},{"$f":"SUMIF('Input E2'!$E$3:$ND$3,Rekenblad!AD$3,'Input E2'!$E51:$ND51)","v":16},{"$f":"SUMIF('Input E2'!$E$3:$ND$3,Rekenblad!AE$3,'Input E2'!$E51:$ND51)","v":16},{"$f":"SUMIF('Input E2'!$E$3:$ND$3,Rekenblad!AF$3,'Input E2'!$E51:$ND51)","v":20},{"$f":"SUMIF('Input E2'!$E$3:$ND$3,Rekenblad!AG$3,'Input E2'!$E51:$ND51)","v":3},{"$f":"SUMIF('Input E2'!$E$3:$ND$3,Rekenblad!AH$3,'Input E2'!$E51:$ND51)","v":0},{"$f":"SUMIF('Input E2'!$E$3:$ND$3,Rekenblad!AI$3,'Input E2'!$E51:$ND51)","v":0},{"$f":"SUMIF('Input E2'!$E$3:$ND$3,Rekenblad!AJ$3,'Input E2'!$E51:$ND51)","v":0},{"$f":"SUMIF('Input E2'!$E$3:$ND$3,Rekenblad!AK$3,'Input E2'!$E51:$ND51)","v":48},{"$f":"SUMIF('Input E2'!$E$3:$ND$3,Rekenblad!AL$3,'Input E2'!$E51:$ND51)","v":16},{"$f":"SUMIF('Input E2'!$E$3:$ND$3,Rekenblad!AM$3,'Input E2'!$E51:$ND51)","v":9},{"$f":"SUMIF('Input E2'!$E$3:$ND$3,Rekenblad!AN$3,'Input E2'!$E51:$ND51)","v":9},{"$f":"SUMIF('Input E2'!$E$3:$ND$3,Rekenblad!AO$3,'Input E2'!$E51:$ND51)","v":41},{"$f":"SUMIF('Input E2'!$E$3:$ND$3,Rekenblad!AP$3,'Input E2'!$E51:$ND51)","v":14},{"$f":"SUMIF('Input E2'!$E$3:$ND$3,Rekenblad!AQ$3,'Input E2'!$E51:$ND51)","v":15},{"$f":"SUMIF('Input E2'!$E$3:$ND$3,Rekenblad!AR$3,'Input E2'!$E51:$ND51)","v":15},{"$f":"SUMIF('Input E2'!$E$3:$ND$3,Rekenblad!AS$3,'Input E2'!$E51:$ND51)","v":0},{"$f":"SUMIF('Input E2'!$E$3:$ND$3,Rekenblad!AT$3,'Input E2'!$E51:$ND51)","v":0},{"$f":"SUMIF('Input E2'!$E$3:$ND$3,Rekenblad!AU$3,'Input E2'!$E51:$ND51)","v":0},{"$f":"SUMIF('Input E2'!$E$3:$ND$3,Rekenblad!AV$3,'Input E2'!$E51:$ND51)","v":0},{"$f":"SUMIF('Input E2'!$E$3:$ND$3,Rekenblad!AW$3,'Input E2'!$E51:$ND51)","v":0},{"$f":"SUMIF('Input E2'!$E$3:$ND$3,Rekenblad!AX$3,'Input E2'!$E51:$ND51)","v":0},{"$f":"SUMIF('Input E2'!$E$3:$ND$3,Rekenblad!AY$3,'Input E2'!$E51:$ND51)","v":0},{"$f":"SUMIF('Input E2'!$E$3:$ND$3,Rekenblad!AZ$3,'Input E2'!$E51:$ND51)","v":0},{"$f":"SUMIF('Input E2'!$E$3:$ND$3,Rekenblad!BA$3,'Input E2'!$E51:$ND51)","v":0},{"$f":"SUMIF('Input E2'!$E$3:$ND$3,Rekenblad!BB$3,'Input E2'!$E51:$ND51)","v":0},{"$f":"SUMIF('Input E2'!$E$3:$ND$3,Rekenblad!BC$3,'Input E2'!$E51:$ND51)","v":0},{"$f":"SUMIF('Input E2'!$E$3:$ND$3,Rekenblad!BD$3,'Input E2'!$E51:$ND51)","v":0},{"$f":"SUMIF('Input E2'!$E$3:$ND$3,Rekenblad!BE$3,'Input E2'!$E51:$ND51)","v":0},null,null,null,null,{"$f":"SUMIF('Input E2'!$E$2:$ND$2,Rekenblad!BJ$3,'Input E2'!$E51:$ND51)","v":0},{"$f":"SUMIF('Input E2'!$E$2:$ND$2,Rekenblad!BK$3,'Input E2'!$E51:$ND51)","v":0},{"$f":"SUMIF('Input E2'!$E$2:$ND$2,Rekenblad!BL$3,'Input E2'!$E51:$ND51)","v":0},{"$f":"SUMIF('Input E2'!$E$2:$ND$2,Rekenblad!BM$3,'Input E2'!$E51:$ND51)","v":0},{"$f":"SUMIF('Input E2'!$E$2:$ND$2,Rekenblad!BN$3,'Input E2'!$E51:$ND51)","v":77},{"$f":"SUMIF('Input E2'!$E$2:$ND$2,Rekenblad!BO$3,'Input E2'!$E51:$ND51)","v":66},{"$f":"SUMIF('Input E2'!$E$2:$ND$2,Rekenblad!BP$3,'Input E2'!$E51:$ND51)","v":39},{"$f":"SUMIF('Input E2'!$E$2:$ND$2,Rekenblad!BQ$3,'Input E2'!$E51:$ND51)","v":73},{"$f":"SUMIF('Input E2'!$E$2:$ND$2,Rekenblad!BR$3,'Input E2'!$E51:$ND51)","v":79},{"$f":"SUMIF('Input E2'!$E$2:$ND$2,Rekenblad!BS$3,'Input E2'!$E51:$ND51)","v":15},{"$f":"SUMIF('Input E2'!$E$2:$ND$2,Rekenblad!BT$3,'Input E2'!$E51:$ND51)","v":0},{"$f":"SUMIF('Input E2'!$E$2:$ND$2,Rekenblad!BU$3,'Input E2'!$E51:$ND51)","v":0},null,349]
[null,null,null,{"$f":"'Input E2'!C52","v":"Planned Stop [Min]"},{"$f":"SUMIF('Input E2'!$E$3:$ND$3,Rekenblad!E$3,'Input E2'!$E52:$ND52)","v":0},{"$f":"SUMIF('Input E2'!$E$3:$ND$3,Rekenblad!F$3,'Input E2'!$E52:$ND52)","v":0},{"$f":"SUMIF('Input E2'!$E$3:$ND$3,Rekenblad!G$3,'Input E2'!$E52:$ND52)","v":0},{"$f":"SUMIF('Input E2'!$E$3:$ND$3,Rekenblad!H$3,'Input E2'!$E52:$ND52)","v":0},{"$f":"SUMIF('Input E2'!$E$3:$ND$3,Rekenblad!I$3,'Input E2'!$E52:$ND52)","v":0},{"$f":"SUMIF('Input E2'!$E$3:$ND$3,Rekenblad!J$3,'Input E2'!$E52:$ND52)","v":0},{"$f":"SUMIF('Input E2'!$E$3:$ND$3,Rekenblad!K$3,'Input E2'!$E52:$ND52)","v":0},{"$f":"SUMIF('Input E2'!$E$3:$ND$3,Rekenblad!L$3,'Input E2'!$E52:$ND52)","v":0},{"$f":"SUMIF('Input E2'!$E$3:$ND$3,Rekenblad!M$3,'Input E2'!$E52:$ND52)","v":0},{"$f":"SUMIF('Input E2'!$E$3:$ND$3,Rekenblad!N$3,'Input E2'!$E52:$ND52)","v":0},{"$f":"SUMIF('Input E2'!$E$3:$ND$3,Rekenblad!O$3,'Input E2'!$E52:$ND52)","v":0},{"$f":"SUMIF('Input E2'!$E$3:$ND$3,Rekenblad!P$3,'Input E2'!$E52:$ND52)","v":0},{"$f":"SUMIF('Input E2'!$E$3:$ND$3,Rekenblad!Q$3,'Input E2'!$E52:$ND52)","v":0},{"$f":"SUMIF('Input E2'!$E$3:$ND$3,Rekenblad!R$3,'Input E2'!$E52:$ND52)","v":0},{"$f":"SUMIF('Input E2'!$E$3:$ND$3,Rekenblad!S$3,'Input E2'!$E52:$ND52)","v":0},{"$f":"SUMIF('Input E2'!$E$3:$ND$3,Rekenblad!T$3,'Input E2'!$E52:$ND52)","v":0},{"$f":"SUMIF('Input E2'!$E$3:$ND$3,Rekenblad!U$3,'Input E2'!$E52:$ND52)","v":0},{"$f":"SUMIF('Input E2'!$E$3:$ND$3,Rekenblad!V$3,'Input E2'!$E52:$ND52)","v":0},{"$f":"SUMIF('Input E2'!$E$3:$ND$3,Rekenblad!W$3,'Input E2'!$E52:$ND52)","v":0},{"$f":"SUMIF('Input E2'!$E$3:$ND$3,Rekenblad!X$3,'Input E2'!$E52:$ND52)","v":0},{"$f":"SUMIF('Input E2'!$E$3:$ND$3,Rekenblad!Y$3,'Input E2'!$E52:$ND52)","v":0},{"$f":"SUMIF('Input E2'!$E$3:$ND$3,Rekenblad!Z$3,'Input E2'!$E52:$ND52)","v":0},{"$f":"SUMIF('Input E2'!$E$3:$ND$3,Rekenblad!AA$3,'Input E2'!$E52:$ND52)","v":0},{"$f":"SUMIF('Input E2'!$E$3:$ND$3,Rekenblad!AB$3,'Input E2'!$E52:$ND52)","v":0},{"$f":"SUMIF('Input E2'!$E$3:$ND$3,Rekenblad!AC$3,'Input E2'!$E52:$ND52)","v":0},{"$f":"SUMIF('Input E2'!$E$3:$ND$3,Rekenblad!AD$3,'Input E2'!$E52:$ND52)","v":0},{"$f":"SUMIF('Input E2'!$E$3:$ND$3,Rekenblad!AE$3,'Input E2'!$E52:$ND52)","v":35},{"$f":"SUMIF('Input E2'!$E$3:$ND$3,Rekenblad!AF$3,'Input E2'!$E52:$ND52)","v":0},{"$f":"SUMIF('Input E2'!$E$3:$ND$3,Rekenblad!AG$3,'Input E2'!$E52:$ND52)","v":30},{"$f":"SUMIF('Input E2'!$E$3:$ND$3,Rekenblad!AH$3,'Input E2'!$E52:$ND52)","v":0},{"$f":"SUMIF('Input E2'!$E$3:$ND$3,Rekenblad!AI$3,'Input E2'!$E52:$ND52)","v":0},{"$f":"SUMIF('Input E2'!$E$3:$ND$3,Rekenblad!AJ$3,'Input E2'!$E52:$ND52)","v":0},{"$f":"SUMIF('Input E2'!$E$3:$ND$3,Rekenblad!AK$3,'Input E2'!$E52:$ND52)","v":0},{"$f":"SUMIF('Input E2'!$E$3:$ND$3,Rekenblad!AL$3,'Input E2'!$E52:$ND52)","v":0},{"$f":"SUMIF('Input E2'!$E$3:$ND$3,Rekenblad!AM$3,'Input E2'!$E52:$ND52)","v":30},{"$f":"SUMIF('Input E2'!$E$3:$ND$3,Rekenblad!AN$3,'Input E2'!$E52:$ND52)","v":0},{"$f":"SUMIF('Input E2'!$E$3:$ND$3,Rekenblad!AO$3,'Input E2'!$E52:$ND52)","v":0},{"$f":"SUMIF('Input E2'!$E$3:$ND$3,Rekenblad!AP$3,'Input E2'!$E52:$ND52)","v":0},{"$f":"SUMIF('Input E2'!$E$3:$ND$3,Rekenblad!AQ$3,'Input E2'!$E52:$ND52)","v":35},{"$f":"SUMIF('Input E2'!$E$3:$ND$3,Rekenblad!AR$3,'Input E2'!$E52:$ND52)","v":0},{"$f":"SUMIF('Input E2'!$E$3:$ND$3,Rekenblad!AS$3,'Input E2'!$E52:$ND52)","v":0},{"$f":"SUMIF('Input E2'!$E$3:$ND$3,Rekenblad!AT$3,'Input E2'!$E52:$ND52)","v":0},{"$f":"SUMIF('Input E2'!$E$3:$ND$3,Rekenblad!AU$3,'Input E2'!$E52:$ND52)","v":0},{"$f":"SUMIF('Input E2'!$E$3:$ND$3,Rekenblad!AV$3,'Input E2'!$E52:$ND52)","v":0},{"$f":"SUMIF('Input E2'!$E$3:$ND$3,Rekenblad!AW$3,'Input E2'!$E52:$ND52)","v":0},{"$f":"SUMIF('Input E2'!$E$3:$ND$3,Rekenblad!AX$3,'Input E2'!$E52:$ND52)","v":0},{"$f":"SUMIF('Input E2'!$E$3:$ND$3,Rekenblad!AY$3,'Input E2'!$E52:$ND52)","v":0},{"$f":"SUMIF('Input E2'!$E$3:$ND$3,Rekenblad!AZ$3,'Input E2'!$E52:$ND52)","v":0},{"$f":"SUMIF('Input E2'!$E$3:$ND$3,Rekenblad!BA$3,'Input E2'!$E52:$ND52)","v":0},{"$f":"SUMIF('Input E2'!$E$3:$ND$3,Rekenblad!BB$3,'Input E2'!$E52:$ND52)","v":0},{"$f":"SUMIF('Input E2'!$E$3:$ND$3,Rekenblad!BC$3,'Input E2'!$E52:$ND52)","v":0},{"$f":"SUMIF('Input E2'!$E$3:$ND$3,Rekenblad!BD$3,'Input E2'!$E52:$ND52)","v":0},{"$f":"SUMIF('Input E2'!$E$3:$ND$3,Rekenblad!BE$3,'Input E2'!$E52:$ND52)","v":0},null,null,null,null,{"$f":"SUMIF('Input E2'!$E$2:$ND$2,Rekenblad!BJ$3,'Input E2'!$E52:$ND52)","v":0},{"$f":"SUMIF('Input E2'!$E$2:$ND$2,Rekenblad!BK$3,'Input E2'!$E52:$ND52)","v":0},{"$f":"SUMIF('Input E2'!$E$2:$ND$2,Rekenblad!BL$3,'Input E2'!$E52:$ND52)","v":0},{"$f":"SUMIF('Input E2'!$E$2:$ND$2,Rekenblad!BM$3,'Input E2'!$E52:$ND52)","v":0},{"$f":"SUMIF('Input E2'!$E$2:$ND$2,Rekenblad!BN$3,'Input E2'!$E52:$ND52)","v":0},{"$f":"SUMIF('Input E2'!$E$2:$ND$2,Rekenblad!BO$3,'Input E2'!$E52:$ND52)","v":0},{"$f":"SUMIF('Input E2'!$E$2:$ND$2,Rekenblad!BP$3,'Input E2'!$E52:$ND52)","v":65},{"$f":"SUMIF('Input E2'!$E$2:$ND$2,Rekenblad!BQ$3,'Input E2'!$E52:$ND52)","v":30},{"$f":"SUMIF('Input E2'!$E$2:$ND$2,Rekenblad!BR$3,'Input E2'!$E52:$ND52)","v":35},{"$f":"SUMIF('Input E2'!$E$2:$ND$2,Rekenblad!BS$3,'Input E2'!$E52:$ND52)","v":0},{"$f":"SUMIF('Input E2'!$E$2:$ND$2,Rekenblad!BT$3,'Input E2'!$E52:$ND52)","v":0},{"$f":"SUMIF('Input E2'!$E$2:$ND$2,Rekenblad!BU$3,'Input E2'!$E52:$ND52)","v":0},null,130]
[]
[null,null,null,{"$f":"'Input E2'!C53","v":"Realized Average"},{"$f":"SUMIF('Input E2'!$E$3:$ND$3,Rekenblad!E$3,'Input E2'!$E53:$ND53)","v":0},{"$f":"SUMIF('Input E2'!$E$3:$ND$3,Rekenblad!F$3,'Input E2'!$E53:$ND53)","v":0},{"$f":"SUMIF('Input E2'!$E$3:$ND$3,Rekenblad!G$3,'Input E2'!$E53:$ND53)","v":0},{"$f":"SUMIF('Input E2'!$E$3:$ND$3,Rekenblad!H$3,'Input E2'!$E53:$ND53)","v":0},{"$f":"SUMIF('Input E2'!$E$3:$ND$3,Rekenblad!I$3,'Input E2'!$E53:$ND53)","v":0},{"$f":"SUMIF('Input E2'!$E$3:$ND$3,Rekenblad!J$3,'Input E2'!$E53:$ND53)","v":0},{"$f":"SUMIF('Input E2'!$E$3:$ND$3,Rekenblad!K$3,'Input E2'!$E53:$ND53)","v":0},{"$f":"SUMIF('Input E2'!$E$3:$ND$3,Rekenblad!L$3,'Input E2'!$E53:$ND53)","v":0},{"$f":"SUMIF('Input E2'!$E$3:$ND$3,Rekenblad!M$3,'Input E2'!$E53:$ND53)","v":0},{"$f":"SUMIF('Input E2'!$E$3:$ND$3,Rekenblad!N$3,'Input E2'!$E53:$ND53)","v":0},{"$f":"SUMIF('Input E2'!$E$3:$ND$3,Rekenblad!O$3,'Input E2'!$E53:$ND53)","v":0},{"$f":"SUMIF('Input E2'!$E$3:$ND$3,Rekenblad!P$3,'Input E2'!$E53:$ND53)","v":0},{"$f":"SUMIF('Input E2'!$E$3:$ND$3,Rekenblad!Q$3,'Input E2'!$E53:$ND53)","v":0},{"$f":"SUMIF('Input E2'!$E$3:$ND$3,Rekenblad!R$3,'Input E2'!$E53:$ND53)","v":0},{"$f":"SUMIF('Input E2'!$E$3:$ND$3,Rekenblad!S$3,'Input E2'!$E53:$ND53)","v":0},{"$f":"SUMIF('Input E2'!$E$3:$ND$3,Rekenblad!T$3,'Input E2'!$E53:$ND53)","v":0},{"$f":"SUMIF('Input E2'!$E$3:$ND$3,Rekenblad!U$3,'Input E2'!$E53:$ND53)","v":0},{"$f":"SUMIF('Input E2'!$E$3:$ND$3,Rekenblad!V$3,'Input E2'!$E53:$ND53)","v":0},{"$f":"SUMIF('Input E2'!$E$3:$ND$3,Rekenblad!W$3,'Input E2'!$E53:$ND53)","v":0},{"$f":"SUMIF('Input E2'!$E$3:$ND$3,Rekenblad!X$3,'Input E2'!$E53:$ND53)","v":1354.5},{"$f":"SUMIF('Input E2'!$E$3:$ND$3,Rekenblad!Y$3,'Input E2'!$E53:$ND53)","v":1309.75},{"$f":"SUMIF('Input E2'!$E$3:$ND$3,Rekenblad!Z$3,'Input E2'!$E53:$ND53)","v":1377},{"$f":"SUMIF('Input E2'!$E$3:$ND$3,Rekenblad!AA$3,'Input E2'!$E53:$ND53)","v":1414},{"$f":"SUMIF('Input E2'!$E$3:$ND$3,Rekenblad!AB$3,'Input E2'!$E53:$ND53)","v":1517.25},{"$f":"SUMIF('Input E2'!$E$3:$ND$3,Rekenblad!AC$3,'Input E2'!$E53:$ND53)","v":1148.25},{"$f":"SUMIF('Input E2'!$E$3:$ND$3,Rekenblad!AD$3,'Input E2'!$E53:$ND53)","v":1232},{"$f":"SUMIF('Input E2'!$E$3:$ND$3,Rekenblad!AE$3,'Input E2'!$E53:$ND53)","v":1579.75},{"$f":"SUMIF('Input E2'!$E$3:$ND$3,Rekenblad!AF$3,'Input E2'!$E53:$ND53)","v":1439},{"$f":"SUMIF('Input E2'!$E$3:$ND$3,Rekenblad!AG$3,'Input E2'!$E53:$ND53)","v":846.5},{"$f":"SUMIF('Input E2'!$E$3:$ND$3,Rekenblad!AH$3,'Input E2'!$E53:$ND53)","v":0},{"$f":"SUMIF('Input E2'!$E$3:$ND$3,Rekenblad!AI$3,'Input E2'!$E53:$ND53)","v":0},{"$f":"SUMIF('Input E2'!$E$3:$ND$3,Rekenblad!AJ$3,'Input E2'!$E53:$ND53)","v":0},{"$f":"SUMIF('Input E2'!$E$3:$ND$3,Rekenblad!AK$3,'Input E2'!$E53:$ND53)","v":1645.5},{"$f":"SUMIF('Input E2'!$E$3:$ND$3,Rekenblad!AL$3,'Input E2'!$E53:$ND53)","v":1235.75},{"$f":"SUMIF('Input E2'!$E$3:$ND$3,Rekenblad!AM$3,'Input E2'!$E53:$ND53)","v":1587.5},{"$f":"SUMIF('Input E2'!$E$3:$ND$3,Rekenblad!AN$3,'Input E2'!$E53:$ND53)","v":1570.5},{"$f":"SUMIF('Input E2'!$E$3:$ND$3,Rekenblad!AO$3,'Input E2'!$E53:$ND53)","v":1447.25},{"$f":"SUMIF('Input E2'!$E$3:$ND$3,Rekenblad!AP$3,'Input E2'!$E53:$ND53)","v":1482.75},{"$f":"SUMIF('Input E2'!$E$3:$ND$3,Rekenblad!AQ$3,'Input E2'!$E53:$ND53)","v":1840.5},{"$f":"SUMIF('Input E2'!$E$3:$ND$3,Rekenblad!AR$3,'Input E2'!$E53:$ND53)","v":1513},{"$f":"SUMIF('Input E2'!$E$3:$ND$3,Rekenblad!AS$3,'Input E2'!$E53:$ND53)","v":0},{"$f":"SUMIF('Input E2'!$E$3:$ND$3,Rekenblad!AT$3,'Input E2'!$E53:$ND53)","v":0},{"$f":"SUMIF('Input E2'!$E$3:$ND$3,Rekenblad!AU$3,'Input E2'!$E53:$ND53)","v":0},{"$f":"SUMIF('Input E2'!$E$3:$ND$3,Rekenblad!AV$3,'Input E2'!$E53:$ND53)","v":0},{"$f":"SUMIF('Input E2'!$E$3:$ND$3,Rekenblad!AW$3,'Input E2'!$E53:$ND53)","v":0},{"$f":"SUMIF('Input E2'!$E$3:$ND$3,Rekenblad!AX$3,'Input E2'!$E53:$ND53)","v":0},{"$f":"SUMIF('Input E2'!$E$3:$ND$3,Rekenblad!AY$3,'Input E2'!$E53:$ND53)","v":0},{"$f":"SUMIF('Input E2'!$E$3:$ND$3,Rekenblad!AZ$3,'Input E2'!$E53:$ND53)","v":0},{"$f":"SUMIF('Input E2'!$E$3:$ND$3,Rekenblad!BA$3,'Input E2'!$E53:$ND53)","v":0},{"$f":"SUMIF('Input E2'!$E$3:$ND$3,Rekenblad!BB$3,'Input E2'!$E53:$ND53)","v":0},{"$f":"SUMIF('Input E2'!$E$3:$ND$3,Rekenblad!BC$3,'Input E2'!$E53:$ND53)","v":0},{"$f":"SUMIF('Input E2'!$E$3:$ND$3,Rekenblad!BD$3,'Input E2'!$E53:$ND53)","v":0},{"$f":"SUMIF('Input E2'!$E$3:$ND$3,Rekenblad!BE$3,'Input E2'!$E53:$ND53)","v":0},null,null,null,null,{"$f":"SUMIF('Input E2'!$E$2:$ND$2,Rekenblad!BJ$3,'Input E2'!$E53:$ND53)","v":0},{"$f":"SUMIF('Input E2'!$E$2:$ND$2,Rekenblad!BK$3,'Input E2'!$E53:$ND53)","v":0},{"$f":"SUMIF('Input E2'!$E$2:$ND$2,Rekenblad!BL$3,'Input E2'!$E53:$ND53)","v":0},{"$f":"SUMIF('Input E2'!$E$2:$ND$2,Rekenblad!BM$3,'Input E2'!$E53:$ND53)","v":0},{"$f":"SUMIF('Input E2'!$E$2:$ND$2,Rekenblad!BN$3,'Input E2'!$E53:$ND53)","v":3770.5},{"$f":"SUMIF('Input E2'!$E$2:$ND$2,Rekenblad!BO$3,'Input E2'!$E53:$ND53)","v":5582.25},{"$f":"SUMIF('Input E2'!$E$2:$ND$2,Rekenblad!BP$3,'Input E2'!$E53:$ND53)","v":3865.25},{"$f":"SUMIF('Input E2'!$E$2:$ND$2,Rekenblad!BQ$3,'Input E2'!$E53:$ND53)","v":4468.75},{"$f":"SUMIF('Input E2'!$E$2:$ND$2,Rekenblad!BR$3,'Input E2'!$E53:$ND53)","v":6341},{"$f":"SUMIF('Input E2'!$E$2:$ND$2,Rekenblad!BS$3,'Input E2'!$E53:$ND53)","v":1513},{"$f":"SUMIF('Input E2'!$E$2:$ND$2,Rekenblad!BT$3,'Input E2'!$E53:$ND53)","v":0},{"$f":"SUMIF('Input E2'!$E$2:$ND$2,Rekenblad!BU$3,'Input E2'!$E53:$ND53)","v":0},null,{"$f":"SUM(BJ51:BU51)/COUNTIF(BJ51:BU51,\"<>0\")","v":4256.791666666667}]
[null,null,null,{"$f":"'Input E2'!C54","v":"Downtime Technical Gemiddeld [Min]"},{"$f":"IFERROR((E24+E31+E38+E45)/4,\"-\")","v":0},{"$f":"IFERROR((F24+F31+F38+F45)/4,\"-\")","v":90.75},114.25,0,56.75,150,8.75,81.75,60.75,0,107.75,69.5,0,86.5,133,103.5,106.75,224.25,103.75,144.5,104.75,75.25,125.75,104,65.5,95.75,90,90.25,104,0,0,0,96.25,69.75,177.5,133,74.5,118,91.5,42.75,0,0,0,0,0,0,0,0,0,0,0,0,0,null,null,null,null,{"$f":"IFERROR((BJ24+BJ31+BJ38+BJ45)/4,\"-\")","v":241.5},{"$f":"IFERROR((BK24+BK31+BK38+BK45)/4,\"-\")","v":282},216.75,447.25,633.5,392.5,284.25,343.5,417,42.75,0,0,null,{"$f":"SUM(BJ52:BU52)/COUNTIF(BJ52:BU52,\"<>0\")","v":330.1}]
[null,null,null,"Downtime Technical Gemiddeld [%]",{"$f":"IFERROR((E25+E32+E39+E46)/4,\"-\")","v":0},{"$f":"IFERROR((F25+F32+F39+F46)/4,\"-\")","v":0},0,0,0,0,0,0,0,0,0,0,0,0,0,0,0,0,0,9.119989702801766E-2,6.9238337245489459E-2,4.6969287158272768E-2,7.2838555051653375E-2,5.922200170097678E-2,4.575208767048642E-2,6.2555514350224509E-2,4.825758288981264E-2,5.6297237817140189E-2,9.8114625665601488E-2,0,0,0,5.2069987728300238E-2,4.2901483880519911E-2,8.4322418087989404E-2,6.5648396407903195E-2,4.2302238596664883E-2,6.5612222305118165E-2,4.1693815923199012E-2,2.441372883110993E-2,0,0,0,0,0,0,0,0,0,0,0,0,0,null,null,null,null,{"$f":"IFERROR((BJ25+BJ32+BJ39+BJ46)/4,\"-\")","v":0},{"$f":"IFERROR((BK25+BK32+BK39+BK46)/4,\"-\")","v":0},0,0,0.13273893339868811,5.8769559526998444E-2,6.266672309686136E-2,6.2447079179590852E-2,5.3290599955865665E-2,2.441372883110993E-2,0,0,null,{"$f":"SUM(BJ53:BU53)/COUNTIF(BJ53:BU53,\"<>0,00%\")","v":6.5721103998185718E-2}]
[]
[]
[null,null,null,{"$f":"'Input E2'!C59","v":"Q-Remarks"},{"$f":"SUMIF('Input E2'!$E$3:$ND$3,Rekenblad!E$3,'Input E2'!$E59:$ND59)","v":0},{"$f":"SUMIF('Input E2'!$E$3:$ND$3,Rekenblad!F$3,'Input E2'!$E59:$ND59)","v":0},{"$f":"SUMIF('Input E2'!$E$3:$ND$3,Rekenblad!G$3,'Input E2'!$E59:$ND59)","v":0},{"$f":"SUMIF('Input E2'!$E$3:$ND$3,Rekenblad!H$3,'Input E2'!$E59:$ND59)","v":0},{"$f":"SUMIF('Input E2'!$E$3:$ND$3,Rekenblad!I$3,'Input E2'!$E59:$ND59)","v":0},{"$f":"SUMIF('Input E2'!$E$3:$ND$3,Rekenblad!J$3,'Input E2'!$E59:$ND59)","v":0},{"$f":"SUMIF('Input E2'!$E$3:$ND$3,Rekenblad!K$3,'Input E2'!$E59:$ND59)","v":0},{"$f":"SUMIF('Input E2'!$E$3:$ND$3,Rekenblad!L$3,'Input E2'!$E59:$ND59)","v":0},{"$f":"SUMIF('Input E2'!$E$3:$ND$3,Rekenblad!M$3,'Input E2'!$E59:$ND59)","v":0},{"$f":"SUMIF('Input E2'!$E$3:$ND$3,Rekenblad!N$3,'Input E2'!$E59:$ND59)","v":0},{"$f":"SUMIF('Input E2'!$E$3:$ND$3,Rekenblad!O$3,'Input E2'!$E59:$ND59)","v":0},{"$f":"SUMIF('Input E2'!$E$3:$ND$3,Rekenblad!P$3,'Input E2'!$E59:$ND59)","v":0},{"$f":"SUMIF('Input E2'!$E$3:$ND$3,Rekenblad!Q$3,'Input E2'!$E59:$ND59)","v":0},{"$f":"SUMIF('Input E2'!$E$3:$ND$3,Rekenblad!R$3,'Input E2'!$E59:$ND59)","v":0},{"$f":"SUMIF('Input E2'!$E$3:$ND$3,Rekenblad!S$3,'Input E2'!$E59:$ND59)","v":0},{"$f":"SUMIF('Input E2'!$E$3:$ND$3,Rekenblad!T$3,'Input E2'!$E59:$ND59)","v":0},{"$f":"SUMIF('Input E2'!$E$3:$ND$3,Rekenblad!U$3,'Input E2'!$E59:$ND59)","v":0},{"$f":"SUMIF('Input E2'!$E$3:$ND$3,Rekenblad!V$3,'Input E2'!$E59:$ND59)","v":0},{"$f":"SUMIF('Input E2'!$E$3:$ND$3,Rekenblad!W$3,'Input E2'!$E59:$ND59)","v":0},{"$f":"SUMIF('Input E2'!$E$3:$ND$3,Rekenblad!X$3,'Input E2'!$E59:$ND59)","v":0},{"$f":"SUMIF('Input E2'!$E$3:$ND$3,Rekenblad!Y$3,'Input E2'!$E59:$ND59)","v":0},{"$f":"SUMIF('Input E2'!$E$3:$ND$3,Rekenblad!Z$3,'Input E2'!$E59:$ND59)","v":0},{"$f":"SUMIF('Input E2'!$E$3:$ND$3,Rekenblad!AA$3,'Input E2'!$E59:$ND59)","v":0},{"$f":"SUMIF('Input E2'!$E$3:$ND$3,Rekenblad!AB$3,'Input E2'!$E59:$ND59)","v":0},{"$f":"SUMIF('Input E2'!$E$3:$ND$3,Rekenblad!AC$3,'Input E2'!$E59:$ND59)","v":0},{"$f":"SUMIF('Input E2'!$E$3:$ND$3,Rekenblad!AD$3,'Input E2'!$E59:$ND59)","v":0},{"$f":"SUMIF('Input E2'!$E$3:$ND$3,Rekenblad!AE$3,'Input E2'!$E59:$ND59)","v":0},{"$f":"SUMIF('Input E2'!$E$3:$ND$3,Rekenblad!AF$3,'Input E2'!$E59:$ND59)","v":0},{"$f":"SUMIF('Input E2'!$E$3:$ND$3,Rekenblad!AG$3,'Input E2'!$E59:$ND59)","v":0},{"$f":"SUMIF('Input E2'!$E$3:$ND$3,Rekenblad!AH$3,'Input E2'!$E59:$ND59)","v":0},{"$f":"SUMIF('Input E2'!$E$3:$ND$3,Rekenblad!AI$3,'Input E2'!$E59:$ND59)","v":0},{"$f":"SUMIF('Input E2'!$E$3:$ND$3,Rekenblad!AJ$3,'Input E2'!$E59:$ND59)","v":0},{"$f":"SUMIF('Input E2'!$E$3:$ND$3,Rekenblad!AK$3,'Input E2'!$E59:$ND59)","v":0},{"$f":"SUMIF('Input E2'!$E$3:$ND$3,Rekenblad!AL$3,'Input E2'!$E59:$ND59)","v":0},{"$f":"SUMIF('Input E2'!$E$3:$ND$3,Rekenblad!AM$3,'Input E2'!$E59:$ND59)","v":0},{"$f":"SUMIF('Input E2'!$E$3:$ND$3,Rekenblad!AN$3,'Input E2'!$E59:$ND59)","v":0},{"$f":"SUMIF('Input E2'!$E$3:$ND$3,Rekenblad!AO$3,'Input E2'!$E59:$ND59)","v":0},{"$f":"SUMIF('Input E2'!$E$3:$ND$3,Rekenblad!AP$3,'Input E2'!$E59:$ND59)","v":0},{"$f":"SUMIF('Input E2'!$E$3:$ND$3,Rekenblad!AQ$3,'Input E2'!$E59:$ND59)","v":0},{"$f":"SUMIF('Input E2'!$E$3:$ND$3,Rekenblad!AR$3,'Input E2'!$E59:$ND59)","v":0},{"$f":"SUMIF('Input E2'!$E$3:$ND$3,Rekenblad!AS$3,'Input E2'!$E59:$ND59)","v":0},{"$f":"SUMIF('Input E2'!$E$3:$ND$3,Rekenblad!AT$3,'Input E2'!$E59:$ND59)","v":0},{"$f":"SUMIF('Input E2'!$E$3:$ND$3,Rekenblad!AU$3,'Input E2'!$E59:$ND59)","v":0},{"$f":"SUMIF('Input E2'!$E$3:$ND$3,Rekenblad!AV$3,'Input E2'!$E59:$ND59)","v":0},{"$f":"SUMIF('Input E2'!$E$3:$ND$3,Rekenblad!AW$3,'Input E2'!$E59:$ND59)","v":0},{"$f":"SUMIF('Input E2'!$E$3:$ND$3,Rekenblad!AX$3,'Input E2'!$E59:$ND59)","v":0},{"$f":"SUMIF('Input E2'!$E$3:$ND$3,Rekenblad!AY$3,'Input E2'!$E59:$ND59)","v":0},{"$f":"SUMIF('Input E2'!$E$3:$ND$3,Rekenblad!AZ$3,'Input E2'!$E59:$ND59)","v":0},{"$f":"SUMIF('Input E2'!$E$3:$ND$3,Rekenblad!BA$3,'Input E2'!$E59:$ND59)","v":0},{"$f":"SUMIF('Input E2'!$E$3:$ND$3,Rekenblad!BB$3,'Input E2'!$E59:$ND59)","v":0},{"$f":"SUMIF('Input E2'!$E$3:$ND$3,Rekenblad!BC$3,'Input E2'!$E59:$ND59)","v":0},{"$f":"SUMIF('Input E2'!$E$3:$ND$3,Rekenblad!BD$3,'Input E2'!$E59:$ND59)","v":0},{"$f":"SUMIF('Input E2'!$E$3:$ND$3,Rekenblad!BE$3,'Input E2'!$E59:$ND59)","v":0},null,null,null,null,{"$f":"SUMIF('Input E2'!$E$2:$ND$2,Rekenblad!BJ$3,'Input E2'!$E59:$ND59)","v":0},{"$f":"SUMIF('Input E2'!$E$2:$ND$2,Rekenblad!BK$3,'Input E2'!$E59:$ND59)","v":0},{"$f":"SUMIF('Input E2'!$E$2:$ND$2,Rekenblad!BL$3,'Input E2'!$E59:$ND59)","v":0},{"$f":"SUMIF('Input E2'!$E$2:$ND$2,Rekenblad!BM$3,'Input E2'!$E59:$ND59)","v":0},{"$f":"SUMIF('Input E2'!$E$2:$ND$2,Rekenblad!BN$3,'Input E2'!$E59:$ND59)","v":0},{"$f":"SUMIF('Input E2'!$E$2:$ND$2,Rekenblad!BO$3,'Input E2'!$E59:$ND59)","v":0},{"$f":"SUMIF('Input E2'!$E$2:$ND$2,Rekenblad!BP$3,'Input E2'!$E59:$ND59)","v":0},{"$f":"SUMIF('Input E2'!$E$2:$ND$2,Rekenblad!BQ$3,'Input E2'!$E59:$ND59)","v":0},{"$f":"SUMIF('Input E2'!$E$2:$ND$2,Rekenblad!BR$3,'Input E2'!$E59:$ND59)","v":0},{"$f":"SUMIF('Input E2'!$E$2:$ND$2,Rekenblad!BS$3,'Input E2'!$E59:$ND59)","v":0},{"$f":"SUMIF('Input E2'!$E$2:$ND$2,Rekenblad!BT$3,'Input E2'!$E59:$ND59)","v":0},{"$f":"SUMIF('Input E2'!$E$2:$ND$2,Rekenblad!BU$3,'Input E2'!$E59:$ND59)","v":0},null,{"$f":"SUM(BJ56:BU56)","v":0}]
[null,null,null,{"$f":"'Input E2'!C60","v":"SQA Reports"},{"$f":"SUMIF('Input E2'!$E$3:$ND$3,Rekenblad!E$3,'Input E2'!$E60:$ND60)","v":0},{"$f":"SUMIF('Input E2'!$E$3:$ND$3,Rekenblad!F$3,'Input E2'!$E60:$ND60)","v":0},{"$f":"SUMIF('Input E2'!$E$3:$ND$3,Rekenblad!G$3,'Input E2'!$E60:$ND60)","v":0},{"$f":"SUMIF('Input E2'!$E$3:$ND$3,Rekenblad!H$3,'Input E2'!$E60:$ND60)","v":0},{"$f":"SUMIF('Input E2'!$E$3:$ND$3,Rekenblad!I$3,'Input E2'!$E60:$ND60)","v":0},{"$f":"SUMIF('Input E2'!$E$3:$ND$3,Rekenblad!J$3,'Input E2'!$E60:$ND60)","v":0},{"$f":"SUMIF('Input E2'!$E$3:$ND$3,Rekenblad!K$3,'Input E2'!$E60:$ND60)","v":0},{"$f":"SUMIF('Input E2'!$E$3:$ND$3,Rekenblad!L$3,'Input E2'!$E60:$ND60)","v":0},{"$f":"SUMIF('Input E2'!$E$3:$ND$3,Rekenblad!M$3,'Input E2'!$E60:$ND60)","v":0},{"$f":"SUMIF('Input E2'!$E$3:$ND$3,Rekenblad!N$3,'Input E2'!$E60:$ND60)","v":0},{"$f":"SUMIF('Input E2'!$E$3:$ND$3,Rekenblad!O$3,'Input E2'!$E60:$ND60)","v":0},{"$f":"SUMIF('Input E2'!$E$3:$ND$3,Rekenblad!P$3,'Input E2'!$E60:$ND60)","v":0},{"$f":"SUMIF('Input E2'!$E$3:$ND$3,Rekenblad!Q$3,'Input E2'!$E60:$ND60)","v":0},{"$f":"SUMIF('Input E2'!$E$3:$ND$3,Rekenblad!R$3,'Input E2'!$E60:$ND60)","v":0},{"$f":"SUMIF('Input E2'!$E$3:$ND$3,Rekenblad!S$3,'Input E2'!$E60:$ND60)","v":0},{"$f":"SUMIF('Input E2'!$E$3:$ND$3,Rekenblad!T$3,'Input E2'!$E60:$ND60)","v":0},{"$f":"SUMIF('Input E2'!$E$3:$ND$3,Rekenblad!U$3,'Input E2'!$E60:$ND60)","v":0},{"$f":"SUMIF('Input E2'!$E$3:$ND$3,Rekenblad!V$3,'Input E2'!$E60:$ND60)","v":0},{"$f":"SUMIF('Input E2'!$E$3:$ND$3,Rekenblad!W$3,'Input E2'!$E60:$ND60)","v":0},{"$f":"SUMIF('Input E2'!$E$3:$ND$3,Rekenblad!X$3,'Input E2'!$E60:$ND60)","v":0},{"$f":"SUMIF('Input E2'!$E$3:$ND$3,Rekenblad!Y$3,'Input E2'!$E60:$ND60)","v":0},{"$f":"SUMIF('Input E2'!$E$3:$ND$3,Rekenblad!Z$3,'Input E2'!$E60:$ND60)","v":0},{"$f":"SUMIF('Input E2'!$E$3:$ND$3,Rekenblad!AA$3,'Input E2'!$E60:$ND60)","v":0},{"$f":"SUMIF('Input E2'!$E$3:$ND$3,Rekenblad!AB$3,'Input E2'!$E60:$ND60)","v":0},{"$f":"SUMIF('Input E2'!$E$3:$ND$3,Rekenblad!AC$3,'Input E2'!$E60:$ND60)","v":0},{"$f":"SUMIF('Input E2'!$E$3:$ND$3,Rekenblad!AD$3,'Input E2'!$E60:$ND60)","v":0},{"$f":"SUMIF('Input E2'!$E$3:$ND$3,Rekenblad!AE$3,'Input E2'!$E60:$ND60)","v":0},{"$f":"SUMIF('Input E2'!$E$3:$ND$3,Rekenblad!AF$3,'Input E2'!$E60:$ND60)","v":0},{"$f":"SUMIF('Input E2'!$E$3:$ND$3,Rekenblad!AG$3,'Input E2'!$E60:$ND60)","v":0},{"$f":"SUMIF('Input E2'!$E$3:$ND$3,Rekenblad!AH$3,'Input E2'!$E60:$ND60)","v":0},{"$f":"SUMIF('Input E2'!$E$3:$ND$3,Rekenblad!AI$3,'Input E2'!$E60:$ND60)","v":0},{"$f":"SUMIF('Input E2'!$E$3:$ND$3,Rekenblad!AJ$3,'Input E2'!$E60:$ND60)","v":0},{"$f":"SUMIF('Input E2'!$E$3:$ND$3,Rekenblad!AK$3,'Input E2'!$E60:$ND60)","v":0},{"$f":"SUMIF('Input E2'!$E$3:$ND$3,Rekenblad!AL$3,'Input E2'!$E60:$ND60)","v":0},{"$f":"SUMIF('Input E2'!$E$3:$ND$3,Rekenblad!AM$3,'Input E2'!$E60:$ND60)","v":0},{"$f":"SUMIF('Input E2'!$E$3:$ND$3,Rekenblad!AN$3,'Input E2'!$E60:$ND60)","v":0},{"$f":"SUMIF('Input E2'!$E$3:$ND$3,Rekenblad!AO$3,'Input E2'!$E60:$ND60)","v":0},{"$f":"SUMIF('Input E2'!$E$3:$ND$3,Rekenblad!AP$3,'Input E2'!$E60:$ND60)","v":0},{"$f":"SUMIF('Input E2'!$E$3:$ND$3,Rekenblad!AQ$3,'Input E2'!$E60:$ND60)","v":0},{"$f":"SUMIF('Input E2'!$E$3:$ND$3,Rekenblad!AR$3,'Input E2'!$E60:$ND60)","v":1},{"$f":"SUMIF('Input E2'!$E$3:$ND$3,Rekenblad!AS$3,'Input E2'!$E60:$ND60)","v":0},{"$f":"SUMIF('Input E2'!$E$3:$ND$3,Rekenblad!AT$3,'Input E2'!$E60:$ND60)","v":0},{"$f":"SUMIF('Input E2'!$E$3:$ND$3,Rekenblad!AU$3,'Input E2'!$E60:$ND60)","v":0},{"$f":"SUMIF('Input E2'!$E$3:$ND$3,Rekenblad!AV$3,'Input E2'!$E60:$ND60)","v":0},{"$f":"SUMIF('Input E2'!$E$3:$ND$3,Rekenblad!AW$3,'Input E2'!$E60:$ND60)","v":0},{"$f":"SUMIF('Input E2'!$E$3:$ND$3,Rekenblad!AX$3,'Input E2'!$E60:$ND60)","v":0},{"$f":"SUMIF('Input E2'!$E$3:$ND$3,Rekenblad!AY$3,'Input E2'!$E60:$ND60)","v":0},{"$f":"SUMIF('Input E2'!$E$3:$ND$3,Rekenblad!AZ$3,'Input E2'!$E60:$ND60)","v":0},{"$f":"SUMIF('Input E2'!$E$3:$ND$3,Rekenblad!BA$3,'Input E2'!$E60:$ND60)","v":0},{"$f":"SUMIF('Input E2'!$E$3:$ND$3,Rekenblad!BB$3,'Input E2'!$E60:$ND60)","v":0},{"$f":"SUMIF('Input E2'!$E$3:$ND$3,Rekenblad!BC$3,'Input E2'!$E60:$ND60)","v":0},{"$f":"SUMIF('Input E2'!$E$3:$ND$3,Rekenblad!BD$3,'Input E2'!$E60:$ND60)","v":0},{"$f":"SUMIF('Input E2'!$E$3:$ND$3,Rekenblad!BE$3,'Input E2'!$E60:$ND60)","v":0},null,null,null,null,{"$f":"SUMIF('Input E2'!$E$2:$ND$2,Rekenblad!BJ$3,'Input E2'!$E60:$ND60)","v":0},{"$f":"SUMIF('Input E2'!$E$2:$ND$2,Rekenblad!BK$3,'Input E2'!$E60:$ND60)","v":0},{"$f":"SUMIF('Input E2'!$E$2:$ND$2,Rekenblad!BL$3,'Input E2'!$E60:$ND60)","v":0},{"$f":"SUMIF('Input E2'!$E$2:$ND$2,Rekenblad!BM$3,'Input E2'!$E60:$ND60)","v":0},{"$f":"SUMIF('Input E2'!$E$2:$ND$2,Rekenblad!BN$3,'Input E2'!$E60:$ND60)","v":0},{"$f":"SUMIF('Input E2'!$E$2:$ND$2,Rekenblad!BO$3,'Input E2'!$E60:$ND60)","v":0},{"$f":"SUMIF('Input E2'!$E$2:$ND$2,Rekenblad!BP$3,'Input E2'!$E60:$ND60)","v":0},{"$f":"SUMIF('Input E2'!$E$2:$ND$2,Rekenblad!BQ$3,'Input E2'!$E60:$ND60)","v":0},{"$f":"SUMIF('Input E2'!$E$2:$ND$2,Rekenblad!BR$3,'Input E2'!$E60:$ND60)","v":0},{"$f":"SUMIF('Input E2'!$E$2:$ND$2,Rekenblad!BS$3,'Input E2'!$E60:$ND60)","v":1},{"$f":"SUMIF('Input E2'!$E$2:$ND$2,Rekenblad!BT$3,'Input E2'!$E60:$ND60)","v":0},{"$f":"SUMIF('Input E2'!$E$2:$ND$2,Rekenblad!BU$3,'Input E2'!$E60:$ND60)","v":0},null,1]
[null,null,null,{"$f":"'Input E2'!C61","v":"No Touch"},{"$f":"IFERROR(SUMIF('Input E2'!$E$3:$ND$3,Rekenblad!E$3,'Input E2'!$E61:$ND61)/E2,\"0%\")","v":"0%"},{"$f":"IFERROR(SUMIF('Input E2'!$E$3:$ND$3,Rekenblad!F$3,'Input E2'!$E61:$ND61)/F2,\"0%\")","v":"0%"},{"$f":"IFERROR(SUMIF('Input E2'!$E$3:$ND$3,Rekenblad!G$3,'Input E2'!$E61:$ND61)/G2,\"0%\")","v":"0%"},{"$f":"IFERROR(SUMIF('Input E2'!$E$3:$ND$3,Rekenblad!H$3,'Input E2'!$E61:$ND61)/H2,\"0%\")","v":"0%"},{"$f":"IFERROR(SUMIF('Input E2'!$E$3:$ND$3,Rekenblad!I$3,'Input E2'!$E61:$ND61)/I2,\"0%\")","v":"0%"},{"$f":"IFERROR(SUMIF('Input E2'!$E$3:$ND$3,Rekenblad!J$3,'Input E2'!$E61:$ND61)/J2,\"0%\")","v":"0%"},{"$f":"IFERROR(SUMIF('Input E2'!$E$3:$ND$3,Rekenblad!K$3,'Input E2'!$E61:$ND61)/K2,\"0%\")","v":"0%"},{"$f":"IFERROR(SUMIF('Input E2'!$E$3:$ND$3,Rekenblad!L$3,'Input E2'!$E61:$ND61)/L2,\"0%\")","v":"0%"},{"$f":"IFERROR(SUMIF('Input E2'!$E$3:$ND$3,Rekenblad!M$3,'Input E2'!$E61:$ND61)/M2,\"0%\")","v":"0%"},{"$f":"IFERROR(SUMIF('Input E2'!$E$3:$ND$3,Rekenblad!N$3,'Input E2'!$E61:$ND61)/N2,\"0%\")","v":"0%"},{"$f":"IFERROR(SUMIF('Input E2'!$E$3:$ND$3,Rekenblad!O$3,'Input E2'!$E61:$ND61)/O2,\"0%\")","v":"0%"},{"$f":"IFERROR(SUMIF('Input E2'!$E$3:$ND$3,Rekenblad!P$3,'Input E2'!$E61:$ND61)/P2,\"0%\")","v":"0%"},{"$f":"IFERROR(SUMIF('Input E2'!$E$3:$ND$3,Rekenblad!Q$3,'Input E2'!$E61:$ND61)/Q2,\"0%\")","v":"0%"},{"$f":"IFERROR(SUMIF('Input E2'!$E$3:$ND$3,Rekenblad!R$3,'Input E2'!$E61:$ND61)/R2,\"0%\")","v":"0%"},{"$f":"IFERROR(SUMIF('Input E2'!$E$3:$ND$3,Rekenblad!S$3,'Input E2'!$E61:$ND61)/S2,\"0%\")","v":"0%"},{"$f":"IFERROR(SUMIF('Input E2'!$E$3:$ND$3,Rekenblad!T$3,'Input E2'!$E61:$ND61)/T2,\"0%\")","v":"0%"},{"$f":"IFERROR(SUMIF('Input E2'!$E$3:$ND$3,Rekenblad!U$3,'Input E2'!$E61:$ND61)/U2,\"0%\")","v":"0%"},{"$f":"IFERROR(SUMIF('Input E2'!$E$3:$ND$3,Rekenblad!V$3,'Input E2'!$E61:$ND61)/V2,\"0%\")","v":"0%"},{"$f":"IFERROR(SUMIF('Input E2'!$E$3:$ND$3,Rekenblad!W$3,'Input E2'!$E61:$ND61)/W2,\"0%\")","v":"0%"},{"$f":"IFERROR(SUMIF('Input E2'!$E$3:$ND$3,Rekenblad!X$3,'Input E2'!$E61:$ND61)/X2,\"0%\")","v":0.99448000000000003},{"$f":"IFERROR(SUMIF('Input E2'!$E$3:$ND$3,Rekenblad!Y$3,'Input E2'!$E61:$ND61)/Y2,\"0%\")","v":0.97314000000000012},{"$f":"IFERROR(SUMIF('Input E2'!$E$3:$ND$3,Rekenblad!Z$3,'Input E2'!$E61:$ND61)/Z2,\"0%\")","v":0.98560000000000014},{"$f":"IFERROR(SUMIF('Input E2'!$E$3:$ND$3,Rekenblad!AA$3,'Input E2'!$E61:$ND61)/AA2,\"0%\")","v":0.98697999999999997},{"$f":"IFERROR(SUMIF('Input E2'!$E$3:$ND$3,Rekenblad!AB$3,'Input E2'!$E61:$ND61)/AB2,\"0%\")","v":0.99231666666666662},{"$f":"IFERROR(SUMIF('Input E2'!$E$3:$ND$3,Rekenblad!AC$3,'Input E2'!$E61:$ND61)/AC2,\"0%\")","v":0.98949999999999994},{"$f":"IFERROR(SUMIF('Input E2'!$E$3:$ND$3,Rekenblad!AD$3,'Input E2'!$E61:$ND61)/AD2,\"0%\")","v":0.98840000000000006},{"$f":"IFERROR(SUMIF('Input E2'!$E$3:$ND$3,Rekenblad!AE$3,'Input E2'!$E61:$ND61)/AE2,\"0%\")","v":0.98896666666666666},{"$f":"IFERROR(SUMIF('Input E2'!$E$3:$ND$3,Rekenblad!AF$3,'Input E2'!$E61:$ND61)/AF2,\"0%\")","v":0.9879},{"$f":"IFERROR(SUMIF('Input E2'!$E$3:$ND$3,Rekenblad!AG$3,'Input E2'!$E61:$ND61)/AG2,\"0%\")","v":0.79126000000000007},{"$f":"IFERROR(SUMIF('Input E2'!$E$3:$ND$3,Rekenblad!AH$3,'Input E2'!$E61:$ND61)/AH2,\"0%\")","v":"0%"},{"$f":"IFERROR(SUMIF('Input E2'!$E$3:$ND$3,Rekenblad!AI$3,'Input E2'!$E61:$ND61)/AI2,\"0%\")","v":"0%"},{"$f":"IFERROR(SUMIF('Input E2'!$E$3:$ND$3,Rekenblad!AJ$3,'Input E2'!$E61:$ND61)/AJ2,\"0%\")","v":"0%"},{"$f":"IFERROR(SUMIF('Input E2'!$E$3:$ND$3,Rekenblad!AK$3,'Input E2'!$E61:$ND61)/AK2,\"0%\")","v":0.99235000000000007},{"$f":"IFERROR(SUMIF('Input E2'!$E$3:$ND$3,Rekenblad!AL$3,'Input E2'!$E61:$ND61)/AL2,\"0%\")","v":0.99283999999999994},{"$f":"IFERROR(SUMIF('Input E2'!$E$3:$ND$3,Rekenblad!AM$3,'Input E2'!$E61:$ND61)/AM2,\"0%\")","v":0.98849999999999993},{"$f":"IFERROR(SUMIF('Input E2'!$E$3:$ND$3,Rekenblad!AN$3,'Input E2'!$E61:$ND61)/AN2,\"0%\")","v":0.98083333333333345},{"$f":"IFERROR(SUMIF('Input E2'!$E$3:$ND$3,Rekenblad!AO$3,'Input E2'!$E61:$ND61)/AO2,\"0%\")","v":0.98021999999999987},{"$f":"IFERROR(SUMIF('Input E2'!$E$3:$ND$3,Rekenblad!AP$3,'Input E2'!$E61:$ND61)/AP2,\"0%\")","v":0.79250000000000009},{"$f":"IFERROR(SUMIF('Input E2'!$E$3:$ND$3,Rekenblad!AQ$3,'Input E2'!$E61:$ND61)/AQ2,\"0%\")","v":0.16385},{"$f":"IFERROR(SUMIF('Input E2'!$E$3:$ND$3,Rekenblad!AR$3,'Input E2'!$E61:$ND61)/AR2,\"0%\")","v":0.39450000000000002},{"$f":"IFERROR(SUMIF('Input E2'!$E$3:$ND$3,Rekenblad!AS$3,'Input E2'!$E61:$ND61)/AS2,\"0%\")","v":"0%"},{"$f":"IFERROR(SUMIF('Input E2'!$E$3:$ND$3,Rekenblad!AT$3,'Input E2'!$E61:$ND61)/AT2,\"0%\")","v":"0%"},{"$f":"IFERROR(SUMIF('Input E2'!$E$3:$ND$3,Rekenblad!AU$3,'Input E2'!$E61:$ND61)/AU2,\"0%\")","v":"0%"},{"$f":"IFERROR(SUMIF('Input E2'!$E$3:$ND$3,Rekenblad!AV$3,'Input E2'!$E61:$ND61)/AV2,\"0%\")","v":"0%"},{"$f":"IFERROR(SUMIF('Input E2'!$E$3:$ND$3,Rekenblad!AW$3,'Input E2'!$E61:$ND61)/AW2,\"0%\")","v":"0%"},{"$f":"IFERROR(SUMIF('Input E2'!$E$3:$ND$3,Rekenblad!AX$3,'Input E2'!$E61:$ND61)/AX2,\"0%\")","v":"0%"},{"$f":"IFERROR(SUMIF('Input E2'!$E$3:$ND$3,Rekenblad!AY$3,'Input E2'!$E61:$ND61)/AY2,\"0%\")","v":"0%"},{"$f":"IFERROR(SUMIF('Input E2'!$E$3:$ND$3,Rekenblad!AZ$3,'Input E2'!$E61:$ND61)/AZ2,\"0%\")","v":"0%"},{"$f":"IFERROR(SUMIF('Input E2'!$E$3:$ND$3,Rekenblad!BA$3,'Input E2'!$E61:$ND61)/BA2,\"0%\")","v":"0%"},{"$f":"IFERROR(SUMIF('Input E2'!$E$3:$ND$3,Rekenblad!BB$3,'Input E2'!$E61:$ND61)/BB2,\"0%\")","v":"0%"},{"$f":"IFERROR(SUMIF('Input E2'!$E$3:$ND$3,Rekenblad!BC$3,'Input E2'!$E61:$ND61)/BC2,\"0%\")","v":"0%"},{"$f":"IFERROR(SUMIF('Input E2'!$E$3:$ND$3,Rekenblad!BD$3,'Input E2'!$E61:$ND61)/BD2,\"0%\")","v":"0%"},{"$f":"IFERROR(SUMIF('Input E2'!$E$3:$ND$3,Rekenblad!BE$3,'Input E2'!$E61:$ND61)/BE2,\"0%\")","v":"0%"},null,null,null,null,{"$f":"IFERROR(SUMIF('Input E2'!$E$2:$ND$2,Rekenblad!BJ$3,'Input E2'!$E61:$ND61)/BJ2,0%)","v":0},{"$f":"IFERROR(SUMIF('Input E2'!$E$2:$ND$2,Rekenblad!BK$3,'Input E2'!$E61:$ND61)/BK2,0%)","v":0},{"$f":"IFERROR(SUMIF('Input E2'!$E$2:$ND$2,Rekenblad!BL$3,'Input E2'!$E61:$ND61)/BL2,0%)","v":0},{"$f":"IFERROR(SUMIF('Input E2'!$E$2:$ND$2,Rekenblad!BM$3,'Input E2'!$E61:$ND61)/BM2,0%)","v":0},{"$f":"IFERROR(SUMIF('Input E2'!$E$2:$ND$2,Rekenblad!BN$3,'Input E2'!$E61:$ND61)/BN2,0%)","v":0.98417857142857135},{"$f":"IFERROR(SUMIF('Input E2'!$E$2:$ND$2,Rekenblad!BO$3,'Input E2'!$E61:$ND61)/BO2,0%)","v":0.9893590909090908},{"$f":"IFERROR(SUMIF('Input E2'!$E$2:$ND$2,Rekenblad!BP$3,'Input E2'!$E61:$ND61)/BP2,0%)","v":0.92684999999999995},{"$f":"IFERROR(SUMIF('Input E2'!$E$2:$ND$2,Rekenblad!BQ$3,'Input E2'!$E61:$ND61)/BQ2,0%)","v":1.0525062499999998},{"$f":"IFERROR(SUMIF('Input E2'!$E$2:$ND$2,Rekenblad!BR$3,'Input E2'!$E61:$ND61)/BR2,0%)","v":0.71507727272727284},{"$f":"IFERROR(SUMIF('Input E2'!$E$2:$ND$2,Rekenblad!BS$3,'Input E2'!$E61:$ND61)/BS2,0%)","v":0.39450000000000002},{"$f":"IFERROR(SUMIF('Input E2'!$E$2:$ND$2,Rekenblad!BT$3,'Input E2'!$E61:$ND61)/BT2,0%)","v":0},{"$f":"IFERROR(SUMIF('Input E2'!$E$2:$ND$2,Rekenblad!BU$3,'Input E2'!$E61:$ND61)/BU2,0%)","v":0},null,{"$f":"SUM(BJ58:BU58)/COUNTIF(BJ58:BU58,\"<>0,00%\")","v":0.84374519751082244}]
[null,null,null,{"$f":"'Input E2'!C62","v":0},{"$f":"SUMIF('Input E2'!$E$3:$ND$3,Rekenblad!E$3,'Input E2'!$E62:$ND62)","v":0},{"$f":"SUMIF('Input E2'!$E$3:$ND$3,Rekenblad!F$3,'Input E2'!$E62:$ND62)","v":0},{"$f":"SUMIF('Input E2'!$E$3:$ND$3,Rekenblad!G$3,'Input E2'!$E62:$ND62)","v":0},{"$f":"SUMIF('Input E2'!$E$3:$ND$3,Rekenblad!H$3,'Input E2'!$E62:$ND62)","v":0},{"$f":"SUMIF('Input E2'!$E$3:$ND$3,Rekenblad!I$3,'Input E2'!$E62:$ND62)","v":0},{"$f":"SUMIF('Input E2'!$E$3:$ND$3,Rekenblad!J$3,'Input E2'!$E62:$ND62)","v":0},{"$f":"SUMIF('Input E2'!$E$3:$ND$3,Rekenblad!K$3,'Input E2'!$E62:$ND62)","v":0},{"$f":"SUMIF('Input E2'!$E$3:$ND$3,Rekenblad!L$3,'Input E2'!$E62:$ND62)","v":0},{"$f":"SUMIF('Input E2'!$E$3:$ND$3,Rekenblad!M$3,'Input E2'!$E62:$ND62)","v":0},{"$f":"SUMIF('Input E2'!$E$3:$ND$3,Rekenblad!N$3,'Input E2'!$E62:$ND62)","v":0},{"$f":"SUMIF('Input E2'!$E$3:$ND$3,Rekenblad!O$3,'Input E2'!$E62:$ND62)","v":0},{"$f":"SUMIF('Input E2'!$E$3:$ND$3,Rekenblad!P$3,'Input E2'!$E62:$ND62)","v":0},{"$f":"SUMIF('Input E2'!$E$3:$ND$3,Rekenblad!Q$3,'Input E2'!$E62:$ND62)","v":0},{"$f":"SUMIF('Input E2'!$E$3:$ND$3,Rekenblad!R$3,'Input E2'!$E62:$ND62)","v":0},{"$f":"SUMIF('Input E2'!$E$3:$ND$3,Rekenblad!S$3,'Input E2'!$E62:$ND62)","v":0},{"$f":"SUMIF('Input E2'!$E$3:$ND$3,Rekenblad!T$3,'Input E2'!$E62:$ND62)","v":0},{"$f":"SUMIF('Input E2'!$E$3:$ND$3,Rekenblad!U$3,'Input E2'!$E62:$ND62)","v":0},{"$f":"SUMIF('Input E2'!$E$3:$ND$3,Rekenblad!V$3,'Input E2'!$E62:$ND62)","v":0},{"$f":"SUMIF('Input E2'!$E$3:$ND$3,Rekenblad!W$3,'Input E2'!$E62:$ND62)","v":0},{"$f":"SUMIF('Input E2'!$E$3:$ND$3,Rekenblad!X$3,'Input E2'!$E62:$ND62)","v":0},{"$f":"SUMIF('Input E2'!$E$3:$ND$3,Rekenblad!Y$3,'Input E2'!$E62:$ND62)","v":0},{"$f":"SUMIF('Input E2'!$E$3:$ND$3,Rekenblad!Z$3,'Input E2'!$E62:$ND62)","v":0},{"$f":"SUMIF('Input E2'!$E$3:$ND$3,Rekenblad!AA$3,'Input E2'!$E62:$ND62)","v":0},{"$f":"SUMIF('Input E2'!$E$3:$ND$3,Rekenblad!AB$3,'Input E2'!$E62:$ND62)","v":0},{"$f":"SUMIF('Input E2'!$E$3:$ND$3,Rekenblad!AC$3,'Input E2'!$E62:$ND62)","v":0},{"$f":"SUMIF('Input E2'!$E$3:$ND$3,Rekenblad!AD$3,'Input E2'!$E62:$ND62)","v":0},{"$f":"SUMIF('Input E2'!$E$3:$ND$3,Rekenblad!AE$3,'Input E2'!$E62:$ND62)","v":0},{"$f":"SUMIF('Input E2'!$E$3:$ND$3,Rekenblad!AF$3,'Input E2'!$E62:$ND62)","v":0},{"$f":"SUMIF('Input E2'!$E$3:$ND$3,Rekenblad!AG$3,'Input E2'!$E62:$ND62)","v":0},{"$f":"SUMIF('Input E2'!$E$3:$ND$3,Rekenblad!AH$3,'Input E2'!$E62:$ND62)","v":0},{"$f":"SUMIF('Input E2'!$E$3:$ND$3,Rekenblad!AI$3,'Input E2'!$E62:$ND62)","v":0},{"$f":"SUMIF('Input E2'!$E$3:$ND$3,Rekenblad!AJ$3,'Input E2'!$E62:$ND62)","v":0},{"$f":"SUMIF('Input E2'!$E$3:$ND$3,Rekenblad!AK$3,'Input E2'!$E62:$ND62)","v":0},{"$f":"SUMIF('Input E2'!$E$3:$ND$3,Rekenblad!AL$3,'Input E2'!$E62:$ND62)","v":0},{"$f":"SUMIF('Input E2'!$E$3:$ND$3,Rekenblad!AM$3,'Input E2'!$E62:$ND62)","v":0},{"$f":"SUMIF('Input E2'!$E$3:$ND$3,Rekenblad!AN$3,'Input E2'!$E62:$ND62)","v":0},{"$f":"SUMIF('Input E2'!$E$3:$ND$3,Rekenblad!AO$3,'Input E2'!$E62:$ND62)","v":0},{"$f":"SUMIF('Input E2'!$E$3:$ND$3,Rekenblad!AP$3,'Input E2'!$E62:$ND62)","v":0},{"$f":"SUMIF('Input E2'!$E$3:$ND$3,Rekenblad!AQ$3,'Input E2'!$E62:$ND62)","v":0},{"$f":"SUMIF('Input E2'!$E$3:$ND$3,Rekenblad!AR$3,'Input E2'!$E62:$ND62)","v":0},{"$f":"SUMIF('Input E2'!$E$3:$ND$3,Rekenblad!AS$3,'Input E2'!$E62:$ND62)","v":0},{"$f":"SUMIF('Input E2'!$E$3:$ND$3,Rekenblad!AT$3,'Input E2'!$E62:$ND62)","v":0},{"$f":"SUMIF('Input E2'!$E$3:$ND$3,Rekenblad!AU$3,'Input E2'!$E62:$ND62)","v":0},{"$f":"SUMIF('Input E2'!$E$3:$ND$3,Rekenblad!AV$3,'Input E2'!$E62:$ND62)","v":0},{"$f":"SUMIF('Input E2'!$E$3:$ND$3,Rekenblad!AW$3,'Input E2'!$E62:$ND62)","v":0},{"$f":"SUMIF('Input E2'!$E$3:$ND$3,Rekenblad!AX$3,'Input E2'!$E62:$ND62)","v":0},{"$f":"SUMIF('Input E2'!$E$3:$ND$3,Rekenblad!AY$3,'Input E2'!$E62:$ND62)","v":0},{"$f":"SUMIF('Input E2'!$E$3:$ND$3,Rekenblad!AZ$3,'Input E2'!$E62:$ND62)","v":0},{"$f":"SUMIF('Input E2'!$E$3:$ND$3,Rekenblad!BA$3,'Input E2'!$E62:$ND62)","v":0},{"$f":"SUMIF('Input E2'!$E$3:$ND$3,Rekenblad!BB$3,'Input E2'!$E62:$ND62)","v":0},{"$f":"SUMIF('Input E2'!$E$3:$ND$3,Rekenblad!BC$3,'Input E2'!$E62:$ND62)","v":0},{"$f":"SUMIF('Input E2'!$E$3:$ND$3,Rekenblad!BD$3,'Input E2'!$E62:$ND62)","v":0},{"$f":"SUMIF('Input E2'!$E$3:$ND$3,Rekenblad!BE$3,'Input E2'!$E62:$ND62)","v":0},null,null,null,null,{"$f":"SUMIF('Input E2'!$E$2:$ND$2,Rekenblad!BJ$3,'Input E2'!$E62:$ND62)","v":0},{"$f":"SUMIF('Input E2'!$E$2:$ND$2,Rekenblad!BK$3,'Input E2'!$E62:$ND62)","v":0},{"$f":"SUMIF('Input E2'!$E$2:$ND$2,Rekenblad!BL$3,'Input E2'!$E62:$ND62)","v":0},{"$f":"SUMIF('Input E2'!$E$2:$ND$2,Rekenblad!BM$3,'Input E2'!$E62:$ND62)","v":0},{"$f":"SUMIF('Input E2'!$E$2:$ND$2,Rekenblad!BN$3,'Input E2'!$E62:$ND62)","v":0},{"$f":"SUMIF('Input E2'!$E$2:$ND$2,Rekenblad!BO$3,'Input E2'!$E62:$ND62)","v":0},{"$f":"SUMIF('Input E2'!$E$2:$ND$2,Rekenblad!BP$3,'Input E2'!$E62:$ND62)","v":0},{"$f":"SUMIF('Input E2'!$E$2:$ND$2,Rekenblad!BQ$3,'Input E2'!$E62:$ND62)","v":0},{"$f":"SUMIF('Input E2'!$E$2:$ND$2,Rekenblad!BR$3,'Input E2'!$E62:$ND62)","v":0},{"$f":"SUMIF('Input E2'!$E$2:$ND$2,Rekenblad!BS$3,'Input E2'!$E62:$ND62)","v":0},{"$f":"SUMIF('Input E2'!$E$2:$ND$2,Rekenblad!BT$3,'Input E2'!$E62:$ND62)","v":0},{"$f":"SUMIF('Input E2'!$E$2:$ND$2,Rekenblad!BU$3,'Input E2'!$E62:$ND62)","v":0},null,0]
[null,null,null,{"$f":"'Input E2'!C63","v":0},{"$f":"SUMIF('Input E2'!$E$3:$ND$3,Rekenblad!E$3,'Input E2'!$E63:$ND63)","v":0},{"$f":"SUMIF('Input E2'!$E$3:$ND$3,Rekenblad!F$3,'Input E2'!$E63:$ND63)","v":0},{"$f":"SUMIF('Input E2'!$E$3:$ND$3,Rekenblad!G$3,'Input E2'!$E63:$ND63)","v":0},{"$f":"SUMIF('Input E2'!$E$3:$ND$3,Rekenblad!H$3,'Input E2'!$E63:$ND63)","v":0},{"$f":"SUMIF('Input E2'!$E$3:$ND$3,Rekenblad!I$3,'Input E2'!$E63:$ND63)","v":0},{"$f":"SUMIF('Input E2'!$E$3:$ND$3,Rekenblad!J$3,'Input E2'!$E63:$ND63)","v":0},{"$f":"SUMIF('Input E2'!$E$3:$ND$3,Rekenblad!K$3,'Input E2'!$E63:$ND63)","v":0},{"$f":"SUMIF('Input E2'!$E$3:$ND$3,Rekenblad!L$3,'Input E2'!$E63:$ND63)","v":0},{"$f":"SUMIF('Input E2'!$E$3:$ND$3,Rekenblad!M$3,'Input E2'!$E63:$ND63)","v":0},{"$f":"SUMIF('Input E2'!$E$3:$ND$3,Rekenblad!N$3,'Input E2'!$E63:$ND63)","v":0},{"$f":"SUMIF('Input E2'!$E$3:$ND$3,Rekenblad!O$3,'Input E2'!$E63:$ND63)","v":0},{"$f":"SUMIF('Input E2'!$E$3:$ND$3,Rekenblad!P$3,'Input E2'!$E63:$ND63)","v":0},{"$f":"SUMIF('Input E2'!$E$3:$ND$3,Rekenblad!Q$3,'Input E2'!$E63:$ND63)","v":0},{"$f":"SUMIF('Input E2'!$E$3:$ND$3,Rekenblad!R$3,'Input E2'!$E63:$ND63)","v":0},{"$f":"SUMIF('Input E2'!$E$3:$ND$3,Rekenblad!S$3,'Input E2'!$E63:$ND63)","v":0},{"$f":"SUMIF('Input E2'!$E$3:$ND$3,Rekenblad!T$3,'Input E2'!$E63:$ND63)","v":0},{"$f":"SUMIF('Input E2'!$E$3:$ND$3,Rekenblad!U$3,'Input E2'!$E63:$ND63)","v":0},{"$f":"SUMIF('Input E2'!$E$3:$ND$3,Rekenblad!V$3,'Input E2'!$E63:$ND63)","v":0},{"$f":"SUMIF('Input E2'!$E$3:$ND$3,Rekenblad!W$3,'Input E2'!$E63:$ND63)","v":0},{"$f":"SUMIF('Input E2'!$E$3:$ND$3,Rekenblad!X$3,'Input E2'!$E63:$ND63)","v":0},{"$f":"SUMIF('Input E2'!$E$3:$ND$3,Rekenblad!Y$3,'Input E2'!$E63:$ND63)","v":0},{"$f":"SUMIF('Input E2'!$E$3:$ND$3,Rekenblad!Z$3,'Input E2'!$E63:$ND63)","v":0},{"$f":"SUMIF('Input E2'!$E$3:$ND$3,Rekenblad!AA$3,'Input E2'!$E63:$ND63)","v":0},{"$f":"SUMIF('Input E2'!$E$3:$ND$3,Rekenblad!AB$3,'Input E2'!$E63:$ND63)","v":0},{"$f":"SUMIF('Input E2'!$E$3:$ND$3,Rekenblad!AC$3,'Input E2'!$E63:$ND63)","v":0},{"$f":"SUMIF('Input E2'!$E$3:$ND$3,Rekenblad!AD$3,'Input E2'!$E63:$ND63)","v":0},{"$f":"SUMIF('Input E2'!$E$3:$ND$3,Rekenblad!AE$3,'Input E2'!$E63:$ND63)","v":0},{"$f":"SUMIF('Input E2'!$E$3:$ND$3,Rekenblad!AF$3,'Input E2'!$E63:$ND63)","v":0},{"$f":"SUMIF('Input E2'!$E$3:$ND$3,Rekenblad!AG$3,'Input E2'!$E63:$ND63)","v":0},{"$f":"SUMIF('Input E2'!$E$3:$ND$3,Rekenblad!AH$3,'Input E2'!$E63:$ND63)","v":0},{"$f":"SUMIF('Input E2'!$E$3:$ND$3,Rekenblad!AI$3,'Input E2'!$E63:$ND63)","v":0},{"$f":"SUMIF('Input E2'!$E$3:$ND$3,Rekenblad!AJ$3,'Input E2'!$E63:$ND63)","v":0},{"$f":"SUMIF('Input E2'!$E$3:$ND$3,Rekenblad!AK$3,'Input E2'!$E63:$ND63)","v":0},{"$f":"SUMIF('Input E2'!$E$3:$ND$3,Rekenblad!AL$3,'Input E2'!$E63:$ND63)","v":0},{"$f":"SUMIF('Input E2'!$E$3:$ND$3,Rekenblad!AM$3,'Input E2'!$E63:$ND63)","v":0},{"$f":"SUMIF('Input E2'!$E$3:$ND$3,Rekenblad!AN$3,'Input E2'!$E63:$ND63)","v":0},{"$f":"SUMIF('Input E2'!$E$3:$ND$3,Rekenblad!AO$3,'Input E2'!$E63:$ND63)","v":0},{"$f":"SUMIF('Input E2'!$E$3:$ND$3,Rekenblad!AP$3,'Input E2'!$E63:$ND63)","v":0},{"$f":"SUMIF('Input E2'!$E$3:$ND$3,Rekenblad!AQ$3,'Input E2'!$E63:$ND63)","v":0},{"$f":"SUMIF('Input E2'!$E$3:$ND$3,Rekenblad!AR$3,'Input E2'!$E63:$ND63)","v":0},{"$f":"SUMIF('Input E2'!$E$3:$ND$3,Rekenblad!AS$3,'Input E2'!$E63:$ND63)","v":0},{"$f":"SUMIF('Input E2'!$E$3:$ND$3,Rekenblad!AT$3,'Input E2'!$E63:$ND63)","v":0},{"$f":"SUMIF('Input E2'!$E$3:$ND$3,Rekenblad!AU$3,'Input E2'!$E63:$ND63)","v":0},{"$f":"SUMIF('Input E2'!$E$3:$ND$3,Rekenblad!AV$3,'Input E2'!$E63:$ND63)","v":0},{"$f":"SUMIF('Input E2'!$E$3:$ND$3,Rekenblad!AW$3,'Input E2'!$E63:$ND63)","v":0},{"$f":"SUMIF('Input E2'!$E$3:$ND$3,Rekenblad!AX$3,'Input E2'!$E63:$ND63)","v":0},{"$f":"SUMIF('Input E2'!$E$3:$ND$3,Rekenblad!AY$3,'Input E2'!$E63:$ND63)","v":0},{"$f":"SUMIF('Input E2'!$E$3:$ND$3,Rekenblad!AZ$3,'Input E2'!$E63:$ND63)","v":0},{"$f":"SUMIF('Input E2'!$E$3:$ND$3,Rekenblad!BA$3,'Input E2'!$E63:$ND63)","v":0},{"$f":"SUMIF('Input E2'!$E$3:$ND$3,Rekenblad!BB$3,'Input E2'!$E63:$ND63)","v":0},{"$f":"SUMIF('Input E2'!$E$3:$ND$3,Rekenblad!BC$3,'Input E2'!$E63:$ND63)","v":0},{"$f":"SUMIF('Input E2'!$E$3:$ND$3,Rekenblad!BD$3,'Input E2'!$E63:$ND63)","v":0},{"$f":"SUMIF('Input E2'!$E$3:$ND$3,Rekenblad!BE$3,'Input E2'!$E63:$ND63)","v":0},null,null,null,null,{"$f":"SUMIF('Input E2'!$E$2:$ND$2,Rekenblad!BJ$3,'Input E2'!$E63:$ND63)","v":0},{"$f":"SUMIF('Input E2'!$E$2:$ND$2,Rekenblad!BK$3,'Input E2'!$E63:$ND63)","v":0},{"$f":"SUMIF('Input E2'!$E$2:$ND$2,Rekenblad!BL$3,'Input E2'!$E63:$ND63)","v":0},{"$f":"SUMIF('Input E2'!$E$2:$ND$2,Rekenblad!BM$3,'Input E2'!$E63:$ND63)","v":0},{"$f":"SUMIF('Input E2'!$E$2:$ND$2,Rekenblad!BN$3,'Input E2'!$E63:$ND63)","v":0},{"$f":"SUMIF('Input E2'!$E$2:$ND$2,Rekenblad!BO$3,'Input E2'!$E63:$ND63)","v":0},{"$f":"SUMIF('Input E2'!$E$2:$ND$2,Rekenblad!BP$3,'Input E2'!$E63:$ND63)","v":0},{"$f":"SUMIF('Input E2'!$E$2:$ND$2,Rekenblad!BQ$3,'Input E2'!$E63:$ND63)","v":0},{"$f":"SUMIF('Input E2'!$E$2:$ND$2,Rekenblad!BR$3,'Input E2'!$E63:$ND63)","v":0},{"$f":"SUMIF('Input E2'!$E$2:$ND$2,Rekenblad!BS$3,'Input E2'!$E63:$ND63)","v":0},{"$f":"SUMIF('Input E2'!$E$2:$ND$2,Rekenblad!BT$3,'Input E2'!$E63:$ND63)","v":0},{"$f":"SUMIF('Input E2'!$E$2:$ND$2,Rekenblad!BU$3,'Input E2'!$E63:$ND63)","v":0},null,0]
[null,null,null,{"$f":"'Input E2'!C64","v":0},{"$f":"SUMIF('Input E2'!$E$3:$ND$3,Rekenblad!E$3,'Input E2'!$E64:$ND64)","v":0},{"$f":"SUMIF('Input E2'!$E$3:$ND$3,Rekenblad!F$3,'Input E2'!$E64:$ND64)","v":0},{"$f":"SUMIF('Input E2'!$E$3:$ND$3,Rekenblad!G$3,'Input E2'!$E64:$ND64)","v":0},{"$f":"SUMIF('Input E2'!$E$3:$ND$3,Rekenblad!H$3,'Input E2'!$E64:$ND64)","v":0},{"$f":"SUMIF('Input E2'!$E$3:$ND$3,Rekenblad!I$3,'Input E2'!$E64:$ND64)","v":0},{"$f":"SUMIF('Input E2'!$E$3:$ND$3,Rekenblad!J$3,'Input E2'!$E64:$ND64)","v":0},{"$f":"SUMIF('Input E2'!$E$3:$ND$3,Rekenblad!K$3,'Input E2'!$E64:$ND64)","v":0},{"$f":"SUMIF('Input E2'!$E$3:$ND$3,Rekenblad!L$3,'Input E2'!$E64:$ND64)","v":0},{"$f":"SUMIF('Input E2'!$E$3:$ND$3,Rekenblad!M$3,'Input E2'!$E64:$ND64)","v":0},{"$f":"SUMIF('Input E2'!$E$3:$ND$3,Rekenblad!N$3,'Input E2'!$E64:$ND64)","v":0},{"$f":"SUMIF('Input E2'!$E$3:$ND$3,Rekenblad!O$3,'Input E2'!$E64:$ND64)","v":0},{"$f":"SUMIF('Input E2'!$E$3:$ND$3,Rekenblad!P$3,'Input E2'!$E64:$ND64)","v":0},{"$f":"SUMIF('Input E2'!$E$3:$ND$3,Rekenblad!Q$3,'Input E2'!$E64:$ND64)","v":0},{"$f":"SUMIF('Input E2'!$E$3:$ND$3,Rekenblad!R$3,'Input E2'!$E64:$ND64)","v":0},{"$f":"SUMIF('Input E2'!$E$3:$ND$3,Rekenblad!S$3,'Input E2'!$E64:$ND64)","v":0},{"$f":"SUMIF('Input E2'!$E$3:$ND$3,Rekenblad!T$3,'Input E2'!$E64:$ND64)","v":0},{"$f":"SUMIF('Input E2'!$E$3:$ND$3,Rekenblad!U$3,'Input E2'!$E64:$ND64)","v":0},{"$f":"SUMIF('Input E2'!$E$3:$ND$3,Rekenblad!V$3,'Input E2'!$E64:$ND64)","v":0},{"$f":"SUMIF('Input E2'!$E$3:$ND$3,Rekenblad!W$3,'Input E2'!$E64:$ND64)","v":0},{"$f":"SUMIF('Input E2'!$E$3:$ND$3,Rekenblad!X$3,'Input E2'!$E64:$ND64)","v":0},{"$f":"SUMIF('Input E2'!$E$3:$ND$3,Rekenblad!Y$3,'Input E2'!$E64:$ND64)","v":0},{"$f":"SUMIF('Input E2'!$E$3:$ND$3,Rekenblad!Z$3,'Input E2'!$E64:$ND64)","v":0},{"$f":"SUMIF('Input E2'!$E$3:$ND$3,Rekenblad!AA$3,'Input E2'!$E64:$ND64)","v":0},{"$f":"SUMIF('Input E2'!$E$3:$ND$3,Rekenblad!AB$3,'Input E2'!$E64:$ND64)","v":0},{"$f":"SUMIF('Input E2'!$E$3:$ND$3,Rekenblad!AC$3,'Input E2'!$E64:$ND64)","v":0},{"$f":"SUMIF('Input E2'!$E$3:$ND$3,Rekenblad!AD$3,'Input E2'!$E64:$ND64)","v":0},{"$f":"SUMIF('Input E2'!$E$3:$ND$3,Rekenblad!AE$3,'Input E2'!$E64:$ND64)","v":0},{"$f":"SUMIF('Input E2'!$E$3:$ND$3,Rekenblad!AF$3,'Input E2'!$E64:$ND64)","v":0},{"$f":"SUMIF('Input E2'!$E$3:$ND$3,Rekenblad!AG$3,'Input E2'!$E64:$ND64)","v":0},{"$f":"SUMIF('Input E2'!$E$3:$ND$3,Rekenblad!AH$3,'Input E2'!$E64:$ND64)","v":0},{"$f":"SUMIF('Input E2'!$E$3:$ND$3,Rekenblad!AI$3,'Input E2'!$E64:$ND64)","v":0},{"$f":"SUMIF('Input E2'!$E$3:$ND$3,Rekenblad!AJ$3,'Input E2'!$E64:$ND64)","v":0},{"$f":"SUMIF('Input E2'!$E$3:$ND$3,Rekenblad!AK$3,'Input E2'!$E64:$ND64)","v":0},{"$f":"SUMIF('Input E2'!$E$3:$ND$3,Rekenblad!AL$3,'Input E2'!$E64:$ND64)","v":0},{"$f":"SUMIF('Input E2'!$E$3:$ND$3,Rekenblad!AM$3,'Input E2'!$E64:$ND64)","v":0},{"$f":"SUMIF('Input E2'!$E$3:$ND$3,Rekenblad!AN$3,'Input E2'!$E64:$ND64)","v":0},{"$f":"SUMIF('Input E2'!$E$3:$ND$3,Rekenblad!AO$3,'Input E2'!$E64:$ND64)","v":0},{"$f":"SUMIF('Input E2'!$E$3:$ND$3,Rekenblad!AP$3,'Input E2'!$E64:$ND64)","v":0},{"$f":"SUMIF('Input E2'!$E$3:$ND$3,Rekenblad!AQ$3,'Input E2'!$E64:$ND64)","v":0},{"$f":"SUMIF('Input E2'!$E$3:$ND$3,Rekenblad!AR$3,'Input E2'!$E64:$ND64)","v":0},{"$f":"SUMIF('Input E2'!$E$3:$ND$3,Rekenblad!AS$3,'Input E2'!$E64:$ND64)","v":0},{"$f":"SUMIF('Input E2'!$E$3:$ND$3,Rekenblad!AT$3,'Input E2'!$E64:$ND64)","v":0},{"$f":"SUMIF('Input E2'!$E$3:$ND$3,Rekenblad!AU$3,'Input E2'!$E64:$ND64)","v":0},{"$f":"SUMIF('Input E2'!$E$3:$ND$3,Rekenblad!AV$3,'Input E2'!$E64:$ND64)","v":0},{"$f":"SUMIF('Input E2'!$E$3:$ND$3,Rekenblad!AW$3,'Input E2'!$E64:$ND64)","v":0},{"$f":"SUMIF('Input E2'!$E$3:$ND$3,Rekenblad!AX$3,'Input E2'!$E64:$ND64)","v":0},{"$f":"SUMIF('Input E2'!$E$3:$ND$3,Rekenblad!AY$3,'Input E2'!$E64:$ND64)","v":0},{"$f":"SUMIF('Input E2'!$E$3:$ND$3,Rekenblad!AZ$3,'Input E2'!$E64:$ND64)","v":0},{"$f":"SUMIF('Input E2'!$E$3:$ND$3,Rekenblad!BA$3,'Input E2'!$E64:$ND64)","v":0},{"$f":"SUMIF('Input E2'!$E$3:$ND$3,Rekenblad!BB$3,'Input E2'!$E64:$ND64)","v":0},{"$f":"SUMIF('Input E2'!$E$3:$ND$3,Rekenblad!BC$3,'Input E2'!$E64:$ND64)","v":0},{"$f":"SUMIF('Input E2'!$E$3:$ND$3,Rekenblad!BD$3,'Input E2'!$E64:$ND64)","v":0},{"$f":"SUMIF('Input E2'!$E$3:$ND$3,Rekenblad!BE$3,'Input E2'!$E64:$ND64)","v":0},null,null,null,null,{"$f":"SUMIF('Input E2'!$E$2:$ND$2,Rekenblad!BJ$3,'Input E2'!$E64:$ND64)","v":0},{"$f":"SUMIF('Input E2'!$E$2:$ND$2,Rekenblad!BK$3,'Input E2'!$E64:$ND64)","v":0},{"$f":"SUMIF('Input E2'!$E$2:$ND$2,Rekenblad!BL$3,'Input E2'!$E64:$ND64)","v":0},{"$f":"SUMIF('Input E2'!$E$2:$ND$2,Rekenblad!BM$3,'Input E2'!$E64:$ND64)","v":0},{"$f":"SUMIF('Input E2'!$E$2:$ND$2,Rekenblad!BN$3,'Input E2'!$E64:$ND64)","v":0},{"$f":"SUMIF('Input E2'!$E$2:$ND$2,Rekenblad!BO$3,'Input E2'!$E64:$ND64)","v":0},{"$f":"SUMIF('Input E2'!$E$2:$ND$2,Rekenblad!BP$3,'Input E2'!$E64:$ND64)","v":0},{"$f":"SUMIF('Input E2'!$E$2:$ND$2,Rekenblad!BQ$3,'Input E2'!$E64:$ND64)","v":0},{"$f":"SUMIF('Input E2'!$E$2:$ND$2,Rekenblad!BR$3,'Input E2'!$E64:$ND64)","v":0},{"$f":"SUMIF('Input E2'!$E$2:$ND$2,Rekenblad!BS$3,'Input E2'!$E64:$ND64)","v":0},{"$f":"SUMIF('Input E2'!$E$2:$ND$2,Rekenblad!BT$3,'Input E2'!$E64:$ND64)","v":0},{"$f":"SUMIF('Input E2'!$E$2:$ND$2,Rekenblad!BU$3,'Input E2'!$E64:$ND64)","v":0},null,0]
[null,null,null,{"$f":"'Input E2'!C65","v":0},{"$f":"SUMIF('Input E2'!$E$3:$ND$3,Rekenblad!E$3,'Input E2'!$E65:$ND65)","v":0},{"$f":"SUMIF('Input E2'!$E$3:$ND$3,Rekenblad!F$3,'Input E2'!$E65:$ND65)","v":0},{"$f":"SUMIF('Input E2'!$E$3:$ND$3,Rekenblad!G$3,'Input E2'!$E65:$ND65)","v":0},{"$f":"SUMIF('Input E2'!$E$3:$ND$3,Rekenblad!H$3,'Input E2'!$E65:$ND65)","v":0},{"$f":"SUMIF('Input E2'!$E$3:$ND$3,Rekenblad!I$3,'Input E2'!$E65:$ND65)","v":0},{"$f":"SUMIF('Input E2'!$E$3:$ND$3,Rekenblad!J$3,'Input E2'!$E65:$ND65)","v":0},{"$f":"SUMIF('Input E2'!$E$3:$ND$3,Rekenblad!K$3,'Input E2'!$E65:$ND65)","v":0},{"$f":"SUMIF('Input E2'!$E$3:$ND$3,Rekenblad!L$3,'Input E2'!$E65:$ND65)","v":0},{"$f":"SUMIF('Input E2'!$E$3:$ND$3,Rekenblad!M$3,'Input E2'!$E65:$ND65)","v":0},{"$f":"SUMIF('Input E2'!$E$3:$ND$3,Rekenblad!N$3,'Input E2'!$E65:$ND65)","v":0},{"$f":"SUMIF('Input E2'!$E$3:$ND$3,Rekenblad!O$3,'Input E2'!$E65:$ND65)","v":0},{"$f":"SUMIF('Input E2'!$E$3:$ND$3,Rekenblad!P$3,'Input E2'!$E65:$ND65)","v":0},{"$f":"SUMIF('Input E2'!$E$3:$ND$3,Rekenblad!Q$3,'Input E2'!$E65:$ND65)","v":0},{"$f":"SUMIF('Input E2'!$E$3:$ND$3,Rekenblad!R$3,'Input E2'!$E65:$ND65)","v":0},{"$f":"SUMIF('Input E2'!$E$3:$ND$3,Rekenblad!S$3,'Input E2'!$E65:$ND65)","v":0},{"$f":"SUMIF('Input E2'!$E$3:$ND$3,Rekenblad!T$3,'Input E2'!$E65:$ND65)","v":0},{"$f":"SUMIF('Input E2'!$E$3:$ND$3,Rekenblad!U$3,'Input E2'!$E65:$ND65)","v":0},{"$f":"SUMIF('Input E2'!$E$3:$ND$3,Rekenblad!V$3,'Input E2'!$E65:$ND65)","v":0},{"$f":"SUMIF('Input E2'!$E$3:$ND$3,Rekenblad!W$3,'Input E2'!$E65:$ND65)","v":0},{"$f":"SUMIF('Input E2'!$E$3:$ND$3,Rekenblad!X$3,'Input E2'!$E65:$ND65)","v":0},{"$f":"SUMIF('Input E2'!$E$3:$ND$3,Rekenblad!Y$3,'Input E2'!$E65:$ND65)","v":0},{"$f":"SUMIF('Input E2'!$E$3:$ND$3,Rekenblad!Z$3,'Input E2'!$E65:$ND65)","v":0},{"$f":"SUMIF('Input E2'!$E$3:$ND$3,Rekenblad!AA$3,'Input E2'!$E65:$ND65)","v":0},{"$f":"SUMIF('Input E2'!$E$3:$ND$3,Rekenblad!AB$3,'Input E2'!$E65:$ND65)","v":0},{"$f":"SUMIF('Input E2'!$E$3:$ND$3,Rekenblad!AC$3,'Input E2'!$E65:$ND65)","v":0},{"$f":"SUMIF('Input E2'!$E$3:$ND$3,Rekenblad!AD$3,'Input E2'!$E65:$ND65)","v":0},{"$f":"SUMIF('Input E2'!$E$3:$ND$3,Rekenblad!AE$3,'Input E2'!$E65:$ND65)","v":0},{"$f":"SUMIF('Input E2'!$E$3:$ND$3,Rekenblad!AF$3,'Input E2'!$E65:$ND65)","v":0},{"$f":"SUMIF('Input E2'!$E$3:$ND$3,Rekenblad!AG$3,'Input E2'!$E65:$ND65)","v":0},{"$f":"SUMIF('Input E2'!$E$3:$ND$3,Rekenblad!AH$3,'Input E2'!$E65:$ND65)","v":0},{"$f":"SUMIF('Input E2'!$E$3:$ND$3,Rekenblad!AI$3,'Input E2'!$E65:$ND65)","v":0},{"$f":"SUMIF('Input E2'!$E$3:$ND$3,Rekenblad!AJ$3,'Input E2'!$E65:$ND65)","v":0},{"$f":"SUMIF('Input E2'!$E$3:$ND$3,Rekenblad!AK$3,'Input E2'!$E65:$ND65)","v":0},{"$f":"SUMIF('Input E2'!$E$3:$ND$3,Rekenblad!AL$3,'Input E2'!$E65:$ND65)","v":0},{"$f":"SUMIF('Input E2'!$E$3:$ND$3,Rekenblad!AM$3,'Input E2'!$E65:$ND65)","v":0},{"$f":"SUMIF('Input E2'!$E$3:$ND$3,Rekenblad!AN$3,'Input E2'!$E65:$ND65)","v":0},{"$f":"SUMIF('Input E2'!$E$3:$ND$3,Rekenblad!AO$3,'Input E2'!$E65:$ND65)","v":0},{"$f":"SUMIF('Input E2'!$E$3:$ND$3,Rekenblad!AP$3,'Input E2'!$E65:$ND65)","v":0},{"$f":"SUMIF('Input E2'!$E$3:$ND$3,Rekenblad!AQ$3,'Input E2'!$E65:$ND65)","v":0},{"$f":"SUMIF('Input E2'!$E$3:$ND$3,Rekenblad!AR$3,'Input E2'!$E65:$ND65)","v":0},{"$f":"SUMIF('Input E2'!$E$3:$ND$3,Rekenblad!AS$3,'Input E2'!$E65:$ND65)","v":0},{"$f":"SUMIF('Input E2'!$E$3:$ND$3,Rekenblad!AT$3,'Input E2'!$E65:$ND65)","v":0},{"$f":"SUMIF('Input E2'!$E$3:$ND$3,Rekenblad!AU$3,'Input E2'!$E65:$ND65)","v":0},{"$f":"SUMIF('Input E2'!$E$3:$ND$3,Rekenblad!AV$3,'Input E2'!$E65:$ND65)","v":0},{"$f":"SUMIF('Input E2'!$E$3:$ND$3,Rekenblad!AW$3,'Input E2'!$E65:$ND65)","v":0},{"$f":"SUMIF('Input E2'!$E$3:$ND$3,Rekenblad!AX$3,'Input E2'!$E65:$ND65)","v":0},{"$f":"SUMIF('Input E2'!$E$3:$ND$3,Rekenblad!AY$3,'Input E2'!$E65:$ND65)","v":0},{"$f":"SUMIF('Input E2'!$E$3:$ND$3,Rekenblad!AZ$3,'Input E2'!$E65:$ND65)","v":0},{"$f":"SUMIF('Input E2'!$E$3:$ND$3,Rekenblad!BA$3,'Input E2'!$E65:$ND65)","v":0},{"$f":"SUMIF('Input E2'!$E$3:$ND$3,Rekenblad!BB$3,'Input E2'!$E65:$ND65)","v":0},{"$f":"SUMIF('Input E2'!$E$3:$ND$3,Rekenblad!BC$3,'Input E2'!$E65:$ND65)","v":0},{"$f":"SUMIF('Input E2'!$E$3:$ND$3,Rekenblad!BD$3,'Input E2'!$E65:$ND65)","v":0},{"$f":"SUMIF('Input E2'!$E$3:$ND$3,Rekenblad!BE$3,'Input E2'!$E65:$ND65)","v":0},null,null,null,null,{"$f":"SUMIF('Input E2'!$E$2:$ND$2,Rekenblad!BJ$3,'Input E2'!$E65:$ND65)","v":0},{"$f":"SUMIF('Input E2'!$E$2:$ND$2,Rekenblad!BK$3,'Input E2'!$E65:$ND65)","v":0},{"$f":"SUMIF('Input E2'!$E$2:$ND$2,Rekenblad!BL$3,'Input E2'!$E65:$ND65)","v":0},{"$f":"SUMIF('Input E2'!$E$2:$ND$2,Rekenblad!BM$3,'Input E2'!$E65:$ND65)","v":0},{"$f":"SUMIF('Input E2'!$E$2:$ND$2,Rekenblad!BN$3,'Input E2'!$E65:$ND65)","v":0},{"$f":"SUMIF('Input E2'!$E$2:$ND$2,Rekenblad!BO$3,'Input E2'!$E65:$ND65)","v":0},{"$f":"SUMIF('Input E2'!$E$2:$ND$2,Rekenblad!BP$3,'Input E2'!$E65:$ND65)","v":0},{"$f":"SUMIF('Input E2'!$E$2:$ND$2,Rekenblad!BQ$3,'Input E2'!$E65:$ND65)","v":0},{"$f":"SUMIF('Input E2'!$E$2:$ND$2,Rekenblad!BR$3,'Input E2'!$E65:$ND65)","v":0},{"$f":"SUMIF('Input E2'!$E$2:$ND$2,Rekenblad!BS$3,'Input E2'!$E65:$ND65)","v":0},{"$f":"SUMIF('Input E2'!$E$2:$ND$2,Rekenblad!BT$3,'Input E2'!$E65:$ND65)","v":0},{"$f":"SUMIF('Input E2'!$E$2:$ND$2,Rekenblad!BU$3,'Input E2'!$E65:$ND65)","v":0},null,0]
[null,null,null,{"$f":"'Input E2'!C66","v":"FTC Finishline [#]"},{"$f":"SUMIF('Input E2'!$E$3:$ND$3,Rekenblad!E$3,'Input E2'!$E66:$ND66)","v":0},{"$f":"SUMIF('Input E2'!$E$3:$ND$3,Rekenblad!F$3,'Input E2'!$E66:$ND66)","v":0},{"$f":"SUMIF('Input E2'!$E$3:$ND$3,Rekenblad!G$3,'Input E2'!$E66:$ND66)","v":0},{"$f":"SUMIF('Input E2'!$E$3:$ND$3,Rekenblad!H$3,'Input E2'!$E66:$ND66)","v":0},{"$f":"SUMIF('Input E2'!$E$3:$ND$3,Rekenblad!I$3,'Input E2'!$E66:$ND66)","v":0},{"$f":"SUMIF('Input E2'!$E$3:$ND$3,Rekenblad!J$3,'Input E2'!$E66:$ND66)","v":0},{"$f":"SUMIF('Input E2'!$E$3:$ND$3,Rekenblad!K$3,'Input E2'!$E66:$ND66)","v":0},{"$f":"SUMIF('Input E2'!$E$3:$ND$3,Rekenblad!L$3,'Input E2'!$E66:$ND66)","v":0},{"$f":"SUMIF('Input E2'!$E$3:$ND$3,Rekenblad!M$3,'Input E2'!$E66:$ND66)","v":0},{"$f":"SUMIF('Input E2'!$E$3:$ND$3,Rekenblad!N$3,'Input E2'!$E66:$ND66)","v":0},{"$f":"SUMIF('Input E2'!$E$3:$ND$3,Rekenblad!O$3,'Input E2'!$E66:$ND66)","v":0},{"$f":"SUMIF('Input E2'!$E$3:$ND$3,Rekenblad!P$3,'Input E2'!$E66:$ND66)","v":0},{"$f":"SUMIF('Input E2'!$E$3:$ND$3,Rekenblad!Q$3,'Input E2'!$E66:$ND66)","v":0},{"$f":"SUMIF('Input E2'!$E$3:$ND$3,Rekenblad!R$3,'Input E2'!$E66:$ND66)","v":0},{"$f":"SUMIF('Input E2'!$E$3:$ND$3,Rekenblad!S$3,'Input E2'!$E66:$ND66)","v":0},{"$f":"SUMIF('Input E2'!$E$3:$ND$3,Rekenblad!T$3,'Input E2'!$E66:$ND66)","v":0},{"$f":"SUMIF('Input E2'!$E$3:$ND$3,Rekenblad!U$3,'Input E2'!$E66:$ND66)","v":0},{"$f":"SUMIF('Input E2'!$E$3:$ND$3,Rekenblad!V$3,'Input E2'!$E66:$ND66)","v":0},{"$f":"SUMIF('Input E2'!$E$3:$ND$3,Rekenblad!W$3,'Input E2'!$E66:$ND66)","v":0},{"$f":"SUMIF('Input E2'!$E$3:$ND$3,Rekenblad!X$3,'Input E2'!$E66:$ND66)","v":0},{"$f":"SUMIF('Input E2'!$E$3:$ND$3,Rekenblad!Y$3,'Input E2'!$E66:$ND66)","v":0},{"$f":"SUMIF('Input E2'!$E$3:$ND$3,Rekenblad!Z$3,'Input E2'!$E66:$ND66)","v":0},{"$f":"SUMIF('Input E2'!$E$3:$ND$3,Rekenblad!AA$3,'Input E2'!$E66:$ND66)","v":0},{"$f":"SUMIF('Input E2'!$E$3:$ND$3,Rekenblad!AB$3,'Input E2'!$E66:$ND66)","v":0},{"$f":"SUMIF('Input E2'!$E$3:$ND$3,Rekenblad!AC$3,'Input E2'!$E66:$ND66)","v":0},{"$f":"SUMIF('Input E2'!$E$3:$ND$3,Rekenblad!AD$3,'Input E2'!$E66:$ND66)","v":0},{"$f":"SUMIF('Input E2'!$E$3:$ND$3,Rekenblad!AE$3,'Input E2'!$E66:$ND66)","v":0},{"$f":"SUMIF('Input E2'!$E$3:$ND$3,Rekenblad!AF$3,'Input E2'!$E66:$ND66)","v":0},{"$f":"SUMIF('Input E2'!$E$3:$ND$3,Rekenblad!AG$3,'Input E2'!$E66:$ND66)","v":0},{"$f":"SUMIF('Input E2'!$E$3:$ND$3,Rekenblad!AH$3,'Input E2'!$E66:$ND66)","v":0},{"$f":"SUMIF('Input E2'!$E$3:$ND$3,Rekenblad!AI$3,'Input E2'!$E66:$ND66)","v":0},{"$f":"SUMIF('Input E2'!$E$3:$ND$3,Rekenblad!AJ$3,'Input E2'!$E66:$ND66)","v":0},{"$f":"SUMIF('Input E2'!$E$3:$ND$3,Rekenblad!AK$3,'Input E2'!$E66:$ND66)","v":0},{"$f":"SUMIF('Input E2'!$E$3:$ND$3,Rekenblad!AL$3,'Input E2'!$E66:$ND66)","v":0},{"$f":"SUMIF('Input E2'!$E$3:$ND$3,Rekenblad!AM$3,'Input E2'!$E66:$ND66)","v":0},{"$f":"SUMIF('Input E2'!$E$3:$ND$3,Rekenblad!AN$3,'Input E2'!$E66:$ND66)","v":0},{"$f":"SUMIF('Input E2'!$E$3:$ND$3,Rekenblad!AO$3,'Input E2'!$E66:$ND66)","v":0},{"$f":"SUMIF('Input E2'!$E$3:$ND$3,Rekenblad!AP$3,'Input E2'!$E66:$ND66)","v":0},{"$f":"SUMIF('Input E2'!$E$3:$ND$3,Rekenblad!AQ$3,'Input E2'!$E66:$ND66)","v":0},{"$f":"SUMIF('Input E2'!$E$3:$ND$3,Rekenblad!AR$3,'Input E2'!$E66:$ND66)","v":0},{"$f":"SUMIF('Input E2'!$E$3:$ND$3,Rekenblad!AS$3,'Input E2'!$E66:$ND66)","v":0},{"$f":"SUMIF('Input E2'!$E$3:$ND$3,Rekenblad!AT$3,'Input E2'!$E66:$ND66)","v":0},{"$f":"SUMIF('Input E2'!$E$3:$ND$3,Rekenblad!AU$3,'Input E2'!$E66:$ND66)","v":0},{"$f":"SUMIF('Input E2'!$E$3:$ND$3,Rekenblad!AV$3,'Input E2'!$E66:$ND66)","v":0},{"$f":"SUMIF('Input E2'!$E$3:$ND$3,Rekenblad!AW$3,'Input E2'!$E66:$ND66)","v":0},{"$f":"SUMIF('Input E2'!$E$3:$ND$3,Rekenblad!AX$3,'Input E2'!$E66:$ND66)","v":0},{"$f":"SUMIF('Input E2'!$E$3:$ND$3,Rekenblad!AY$3,'Input E2'!$E66:$ND66)","v":0},{"$f":"SUMIF('Input E2'!$E$3:$ND$3,Rekenblad!AZ$3,'Input E2'!$E66:$ND66)","v":0},{"$f":"SUMIF('Input E2'!$E$3:$ND$3,Rekenblad!BA$3,'Input E2'!$E66:$ND66)","v":0},{"$f":"SUMIF('Input E2'!$E$3:$ND$3,Rekenblad!BB$3,'Input E2'!$E66:$ND66)","v":0},{"$f":"SUMIF('Input E2'!$E$3:$ND$3,Rekenblad!BC$3,'Input E2'!$E66:$ND66)","v":0},{"$f":"SUMIF('Input E2'!$E$3:$ND$3,Rekenblad!BD$3,'Input E2'!$E66:$ND66)","v":0},{"$f":"SUMIF('Input E2'!$E$3:$ND$3,Rekenblad!BE$3,'Input E2'!$E66:$ND66)","v":0},null,null,null,null,{"$f":"SUMIF('Input E2'!$E$2:$ND$2,Rekenblad!BJ$3,'Input E2'!$E66:$ND66)","v":0},{"$f":"SUMIF('Input E2'!$E$2:$ND$2,Rekenblad!BK$3,'Input E2'!$E66:$ND66)","v":0},{"$f":"SUMIF('Input E2'!$E$2:$ND$2,Rekenblad!BL$3,'Input E2'!$E66:$ND66)","v":0},{"$f":"SUMIF('Input E2'!$E$2:$ND$2,Rekenblad!BM$3,'Input E2'!$E66:$ND66)","v":0},{"$f":"SUMIF('Input E2'!$E$2:$ND$2,Rekenblad!BN$3,'Input E2'!$E66:$ND66)","v":0},{"$f":"SUMIF('Input E2'!$E$2:$ND$2,Rekenblad!BO$3,'Input E2'!$E66:$ND66)","v":0},{"$f":"SUMIF('Input E2'!$E$2:$ND$2,Rekenblad!BP$3,'Input E2'!$E66:$ND66)","v":0},{"$f":"SUMIF('Input E2'!$E$2:$ND$2,Rekenblad!BQ$3,'Input E2'!$E66:$ND66)","v":0},{"$f":"SUMIF('Input E2'!$E$2:$ND$2,Rekenblad!BR$3,'Input E2'!$E66:$ND66)","v":0},{"$f":"SUMIF('Input E2'!$E$2:$ND$2,Rekenblad!BS$3,'Input E2'!$E66:$ND66)","v":0},{"$f":"SUMIF('Input E2'!$E$2:$ND$2,Rekenblad!BT$3,'Input E2'!$E66:$ND66)","v":0},{"$f":"SUMIF('Input E2'!$E$2:$ND$2,Rekenblad!BU$3,'Input E2'!$E66:$ND66)","v":0},null,0]
[null,null,null,{"$f":"'Input E2'!C67","v":"FTC Big Panel [#]"},{"$f":"SUMIF('Input E2'!$E$3:$ND$3,Rekenblad!E$3,'Input E2'!$E67:$ND67)","v":0},{"$f":"SUMIF('Input E2'!$E$3:$ND$3,Rekenblad!F$3,'Input E2'!$E67:$ND67)","v":0},{"$f":"SUMIF('Input E2'!$E$3:$ND$3,Rekenblad!G$3,'Input E2'!$E67:$ND67)","v":0},{"$f":"SUMIF('Input E2'!$E$3:$ND$3,Rekenblad!H$3,'Input E2'!$E67:$ND67)","v":0},{"$f":"SUMIF('Input E2'!$E$3:$ND$3,Rekenblad!I$3,'Input E2'!$E67:$ND67)","v":0},{"$f":"SUMIF('Input E2'!$E$3:$ND$3,Rekenblad!J$3,'Input E2'!$E67:$ND67)","v":0},{"$f":"SUMIF('Input E2'!$E$3:$ND$3,Rekenblad!K$3,'Input E2'!$E67:$ND67)","v":0},{"$f":"SUMIF('Input E2'!$E$3:$ND$3,Rekenblad!L$3,'Input E2'!$E67:$ND67)","v":0},{"$f":"SUMIF('Input E2'!$E$3:$ND$3,Rekenblad!M$3,'Input E2'!$E67:$ND67)","v":0},{"$f":"SUMIF('Input E2'!$E$3:$ND$3,Rekenblad!N$3,'Input E2'!$E67:$ND67)","v":0},{"$f":"SUMIF('Input E2'!$E$3:$ND$3,Rekenblad!O$3,'Input E2'!$E67:$ND67)","v":0},{"$f":"SUMIF('Input E2'!$E$3:$ND$3,Rekenblad!P$3,'Input E2'!$E67:$ND67)","v":0},{"$f":"SUMIF('Input E2'!$E$3:$ND$3,Rekenblad!Q$3,'Input E2'!$E67:$ND67)","v":0},{"$f":"SUMIF('Input E2'!$E$3:$ND$3,Rekenblad!R$3,'Input E2'!$E67:$ND67)","v":0},{"$f":"SUMIF('Input E2'!$E$3:$ND$3,Rekenblad!S$3,'Input E2'!$E67:$ND67)","v":0},{"$f":"SUMIF('Input E2'!$E$3:$ND$3,Rekenblad!T$3,'Input E2'!$E67:$ND67)","v":0},{"$f":"SUMIF('Input E2'!$E$3:$ND$3,Rekenblad!U$3,'Input E2'!$E67:$ND67)","v":0},{"$f":"SUMIF('Input E2'!$E$3:$ND$3,Rekenblad!V$3,'Input E2'!$E67:$ND67)","v":0},{"$f":"SUMIF('Input E2'!$E$3:$ND$3,Rekenblad!W$3,'Input E2'!$E67:$ND67)","v":0},{"$f":"SUMIF('Input E2'!$E$3:$ND$3,Rekenblad!X$3,'Input E2'!$E67:$ND67)","v":0},{"$f":"SUMIF('Input E2'!$E$3:$ND$3,Rekenblad!Y$3,'Input E2'!$E67:$ND67)","v":0},{"$f":"SUMIF('Input E2'!$E$3:$ND$3,Rekenblad!Z$3,'Input E2'!$E67:$ND67)","v":0},{"$f":"SUMIF('Input E2'!$E$3:$ND$3,Rekenblad!AA$3,'Input E2'!$E67:$ND67)","v":0},{"$f":"SUMIF('Input E2'!$E$3:$ND$3,Rekenblad!AB$3,'Input E2'!$E67:$ND67)","v":0},{"$f":"SUMIF('Input E2'!$E$3:$ND$3,Rekenblad!AC$3,'Input E2'!$E67:$ND67)","v":0},{"$f":"SUMIF('Input E2'!$E$3:$ND$3,Rekenblad!AD$3,'Input E2'!$E67:$ND67)","v":0},{"$f":"SUMIF('Input E2'!$E$3:$ND$3,Rekenblad!AE$3,'Input E2'!$E67:$ND67)","v":0},{"$f":"SUMIF('Input E2'!$E$3:$ND$3,Rekenblad!AF$3,'Input E2'!$E67:$ND67)","v":0},{"$f":"SUMIF('Input E2'!$E$3:$ND$3,Rekenblad!AG$3,'Input E2'!$E67:$ND67)","v":0},{"$f":"SUMIF('Input E2'!$E$3:$ND$3,Rekenblad!AH$3,'Input E2'!$E67:$ND67)","v":0},{"$f":"SUMIF('Input E2'!$E$3:$ND$3,Rekenblad!AI$3,'Input E2'!$E67:$ND67)","v":0},{"$f":"SUMIF('Input E2'!$E$3:$ND$3,Rekenblad!AJ$3,'Input E2'!$E67:$ND67)","v":0},{"$f":"SUMIF('Input E2'!$E$3:$ND$3,Rekenblad!AK$3,'Input E2'!$E67:$ND67)","v":0},{"$f":"SUMIF('Input E2'!$E$3:$ND$3,Rekenblad!AL$3,'Input E2'!$E67:$ND67)","v":0},{"$f":"SUMIF('Input E2'!$E$3:$ND$3,Rekenblad!AM$3,'Input E2'!$E67:$ND67)","v":0},{"$f":"SUMIF('Input E2'!$E$3:$ND$3,Rekenblad!AN$3,'Input E2'!$E67:$ND67)","v":0},{"$f":"SUMIF('Input E2'!$E$3:$ND$3,Rekenblad!AO$3,'Input E2'!$E67:$ND67)","v":0},{"$f":"SUMIF('Input E2'!$E$3:$ND$3,Rekenblad!AP$3,'Input E2'!$E67:$ND67)","v":0},{"$f":"SUMIF('Input E2'!$E$3:$ND$3,Rekenblad!AQ$3,'Input E2'!$E67:$ND67)","v":0},{"$f":"SUMIF('Input E2'!$E$3:$ND$3,Rekenblad!AR$3,'Input E2'!$E67:$ND67)","v":0},{"$f":"SUMIF('Input E2'!$E$3:$ND$3,Rekenblad!AS$3,'Input E2'!$E67:$ND67)","v":0},{"$f":"SUMIF('Input E2'!$E$3:$ND$3,Rekenblad!AT$3,'Input E2'!$E67:$ND67)","v":0},{"$f":"SUMIF('Input E2'!$E$3:$ND$3,Rekenblad!AU$3,'Input E2'!$E67:$ND67)","v":0},{"$f":"SUMIF('Input E2'!$E$3:$ND$3,Rekenblad!AV$3,'Input E2'!$E67:$ND67)","v":0},{"$f":"SUMIF('Input E2'!$E$3:$ND$3,Rekenblad!AW$3,'Input E2'!$E67:$ND67)","v":0},{"$f":"SUMIF('Input E2'!$E$3:$ND$3,Rekenblad!AX$3,'Input E2'!$E67:$ND67)","v":0},{"$f":"SUMIF('Input E2'!$E$3:$ND$3,Rekenblad!AY$3,'Input E2'!$E67:$ND67)","v":0},{"$f":"SUMIF('Input E2'!$E$3:$ND$3,Rekenblad!AZ$3,'Input E2'!$E67:$ND67)","v":0},{"$f":"SUMIF('Input E2'!$E$3:$ND$3,Rekenblad!BA$3,'Input E2'!$E67:$ND67)","v":0},{"$f":"SUMIF('Input E2'!$E$3:$ND$3,Rekenblad!BB$3,'Input E2'!$E67:$ND67)","v":0},{"$f":"SUMIF('Input E2'!$E$3:$ND$3,Rekenblad!BC$3,'Input E2'!$E67:$ND67)","v":0},{"$f":"SUMIF('Input E2'!$E$3:$ND$3,Rekenblad!BD$3,'Input E2'!$E67:$ND67)","v":0},{"$f":"SUMIF('Input E2'!$E$3:$ND$3,Rekenblad!BE$3,'Input E2'!$E67:$ND67)","v":0},null,null,null,null,{"$f":"SUMIF('Input E2'!$E$2:$ND$2,Rekenblad!BJ$3,'Input E2'!$E67:$ND67)","v":0},{"$f":"SUMIF('Input E2'!$E$2:$ND$2,Rekenblad!BK$3,'Input E2'!$E67:$ND67)","v":0},{"$f":"SUMIF('Input E2'!$E$2:$ND$2,Rekenblad!BL$3,'Input E2'!$E67:$ND67)","v":0},{"$f":"SUMIF('Input E2'!$E$2:$ND$2,Rekenblad!BM$3,'Input E2'!$E67:$ND67)","v":0},{"$f":"SUMIF('Input E2'!$E$2:$ND$2,Rekenblad!BN$3,'Input E2'!$E67:$ND67)","v":0},{"$f":"SUMIF('Input E2'!$E$2:$ND$2,Rekenblad!BO$3,'Input E2'!$E67:$ND67)","v":0},{"$f":"SUMIF('Input E2'!$E$2:$ND$2,Rekenblad!BP$3,'Input E2'!$E67:$ND67)","v":0},{"$f":"SUMIF('Input E2'!$E$2:$ND$2,Rekenblad!BQ$3,'Input E2'!$E67:$ND67)","v":0},{"$f":"SUMIF('Input E2'!$E$2:$ND$2,Rekenblad!BR$3,'Input E2'!$E67:$ND67)","v":0},{"$f":"SUMIF('Input E2'!$E$2:$ND$2,Rekenblad!BS$3,'Input E2'!$E67:$ND67)","v":0},{"$f":"SUMIF('Input E2'!$E$2:$ND$2,Rekenblad!BT$3,'Input E2'!$E67:$ND67)","v":0},{"$f":"SUMIF('Input E2'!$E$2:$ND$2,Rekenblad!BU$3,'Input E2'!$E67:$ND67)","v":0},null,0]
[null,null,null,{"$f":"'Input E2'!C68","v":"FTC FAS [#]"},{"$f":"SUMIF('Input E2'!$E$3:$ND$3,Rekenblad!E$3,'Input E2'!$E68:$ND68)","v":0},{"$f":"SUMIF('Input E2'!$E$3:$ND$3,Rekenblad!F$3,'Input E2'!$E68:$ND68)","v":0},{"$f":"SUMIF('Input E2'!$E$3:$ND$3,Rekenblad!G$3,'Input E2'!$E68:$ND68)","v":0},{"$f":"SUMIF('Input E2'!$E$3:$ND$3,Rekenblad!H$3,'Input E2'!$E68:$ND68)","v":0},{"$f":"SUMIF('Input E2'!$E$3:$ND$3,Rekenblad!I$3,'Input E2'!$E68:$ND68)","v":0},{"$f":"SUMIF('Input E2'!$E$3:$ND$3,Rekenblad!J$3,'Input E2'!$E68:$ND68)","v":0},{"$f":"SUMIF('Input E2'!$E$3:$ND$3,Rekenblad!K$3,'Input E2'!$E68:$ND68)","v":0},{"$f":"SUMIF('Input E2'!$E$3:$ND$3,Rekenblad!L$3,'Input E2'!$E68:$ND68)","v":0},{"$f":"SUMIF('Input E2'!$E$3:$ND$3,Rekenblad!M$3,'Input E2'!$E68:$ND68)","v":0},{"$f":"SUMIF('Input E2'!$E$3:$ND$3,Rekenblad!N$3,'Input E2'!$E68:$ND68)","v":0},{"$f":"SUMIF('Input E2'!$E$3:$ND$3,Rekenblad!O$3,'Input E2'!$E68:$ND68)","v":0},{"$f":"SUMIF('Input E2'!$E$3:$ND$3,Rekenblad!P$3,'Input E2'!$E68:$ND68)","v":0},{"$f":"SUMIF('Input E2'!$E$3:$ND$3,Rekenblad!Q$3,'Input E2'!$E68:$ND68)","v":0},{"$f":"SUMIF('Input E2'!$E$3:$ND$3,Rekenblad!R$3,'Input E2'!$E68:$ND68)","v":0},{"$f":"SUMIF('Input E2'!$E$3:$ND$3,Rekenblad!S$3,'Input E2'!$E68:$ND68)","v":0},{"$f":"SUMIF('Input E2'!$E$3:$ND$3,Rekenblad!T$3,'Input E2'!$E68:$ND68)","v":0},{"$f":"SUMIF('Input E2'!$E$3:$ND$3,Rekenblad!U$3,'Input E2'!$E68:$ND68)","v":0},{"$f":"SUMIF('Input E2'!$E$3:$ND$3,Rekenblad!V$3,'Input E2'!$E68:$ND68)","v":0},{"$f":"SUMIF('Input E2'!$E$3:$ND$3,Rekenblad!W$3,'Input E2'!$E68:$ND68)","v":0},{"$f":"SUMIF('Input E2'!$E$3:$ND$3,Rekenblad!X$3,'Input E2'!$E68:$ND68)","v":0},{"$f":"SUMIF('Input E2'!$E$3:$ND$3,Rekenblad!Y$3,'Input E2'!$E68:$ND68)","v":0},{"$f":"SUMIF('Input E2'!$E$3:$ND$3,Rekenblad!Z$3,'Input E2'!$E68:$ND68)","v":0},{"$f":"SUMIF('Input E2'!$E$3:$ND$3,Rekenblad!AA$3,'Input E2'!$E68:$ND68)","v":0},{"$f":"SUMIF('Input E2'!$E$3:$ND$3,Rekenblad!AB$3,'Input E2'!$E68:$ND68)","v":0},{"$f":"SUMIF('Input E2'!$E$3:$ND$3,Rekenblad!AC$3,'Input E2'!$E68:$ND68)","v":0},{"$f":"SUMIF('Input E2'!$E$3:$ND$3,Rekenblad!AD$3,'Input E2'!$E68:$ND68)","v":0},{"$f":"SUMIF('Input E2'!$E$3:$ND$3,Rekenblad!AE$3,'Input E2'!$E68:$ND68)","v":0},{"$f":"SUMIF('Input E2'!$E$3:$ND$3,Rekenblad!AF$3,'Input E2'!$E68:$ND68)","v":0},{"$f":"SUMIF('Input E2'!$E$3:$ND$3,Rekenblad!AG$3,'Input E2'!$E68:$ND68)","v":0},{"$f":"SUMIF('Input E2'!$E$3:$ND$3,Rekenblad!AH$3,'Input E2'!$E68:$ND68)","v":0},{"$f":"SUMIF('Input E2'!$E$3:$ND$3,Rekenblad!AI$3,'Input E2'!$E68:$ND68)","v":0},{"$f":"SUMIF('Input E2'!$E$3:$ND$3,Rekenblad!AJ$3,'Input E2'!$E68:$ND68)","v":0},{"$f":"SUMIF('Input E2'!$E$3:$ND$3,Rekenblad!AK$3,'Input E2'!$E68:$ND68)","v":0},{"$f":"SUMIF('Input E2'!$E$3:$ND$3,Rekenblad!AL$3,'Input E2'!$E68:$ND68)","v":0},{"$f":"SUMIF('Input E2'!$E$3:$ND$3,Rekenblad!AM$3,'Input E2'!$E68:$ND68)","v":0},{"$f":"SUMIF('Input E2'!$E$3:$ND$3,Rekenblad!AN$3,'Input E2'!$E68:$ND68)","v":0},{"$f":"SUMIF('Input E2'!$E$3:$ND$3,Rekenblad!AO$3,'Input E2'!$E68:$ND68)","v":0},{"$f":"SUMIF('Input E2'!$E$3:$ND$3,Rekenblad!AP$3,'Input E2'!$E68:$ND68)","v":1},{"$f":"SUMIF('Input E2'!$E$3:$ND$3,Rekenblad!AQ$3,'Input E2'!$E68:$ND68)","v":0},{"$f":"SUMIF('Input E2'!$E$3:$ND$3,Rekenblad!AR$3,'Input E2'!$E68:$ND68)","v":0},{"$f":"SUMIF('Input E2'!$E$3:$ND$3,Rekenblad!AS$3,'Input E2'!$E68:$ND68)","v":0},{"$f":"SUMIF('Input E2'!$E$3:$ND$3,Rekenblad!AT$3,'Input E2'!$E68:$ND68)","v":0},{"$f":"SUMIF('Input E2'!$E$3:$ND$3,Rekenblad!AU$3,'Input E2'!$E68:$ND68)","v":0},{"$f":"SUMIF('Input E2'!$E$3:$ND$3,Rekenblad!AV$3,'Input E2'!$E68:$ND68)","v":0},{"$f":"SUMIF('Input E2'!$E$3:$ND$3,Rekenblad!AW$3,'Input E2'!$E68:$ND68)","v":0},{"$f":"SUMIF('Input E2'!$E$3:$ND$3,Rekenblad!AX$3,'Input E2'!$E68:$ND68)","v":0},{"$f":"SUMIF('Input E2'!$E$3:$ND$3,Rekenblad!AY$3,'Input E2'!$E68:$ND68)","v":0},{"$f":"SUMIF('Input E2'!$E$3:$ND$3,Rekenblad!AZ$3,'Input E2'!$E68:$ND68)","v":0},{"$f":"SUMIF('Input E2'!$E$3:$ND$3,Rekenblad!BA$3,'Input E2'!$E68:$ND68)","v":0},{"$f":"SUMIF('Input E2'!$E$3:$ND$3,Rekenblad!BB$3,'Input E2'!$E68:$ND68)","v":0},{"$f":"SUMIF('Input E2'!$E$3:$ND$3,Rekenblad!BC$3,'Input E2'!$E68:$ND68)","v":0},{"$f":"SUMIF('Input E2'!$E$3:$ND$3,Rekenblad!BD$3,'Input E2'!$E68:$ND68)","v":0},{"$f":"SUMIF('Input E2'!$E$3:$ND$3,Rekenblad!BE$3,'Input E2'!$E68:$ND68)","v":0},null,null,null,null,{"$f":"SUMIF('Input E2'!$E$2:$ND$2,Rekenblad!BJ$3,'Input E2'!$E68:$ND68)","v":0},{"$f":"SUMIF('Input E2'!$E$2:$ND$2,Rekenblad!BK$3,'Input E2'!$E68:$ND68)","v":0},{"$f":"SUMIF('Input E2'!$E$2:$ND$2,Rekenblad!BL$3,'Input E2'!$E68:$ND68)","v":0},{"$f":"SUMIF('Input E2'!$E$2:$ND$2,Rekenblad!BM$3,'Input E2'!$E68:$ND68)","v":0},{"$f":"SUMIF('Input E2'!$E$2:$ND$2,Rekenblad!BN$3,'Input E2'!$E68:$ND68)","v":0},{"$f":"SUMIF('Input E2'!$E$2:$ND$2,Rekenblad!BO$3,'Input E2'!$E68:$ND68)","v":0},{"$f":"SUMIF('Input E2'!$E$2:$ND$2,Rekenblad!BP$3,'Input E2'!$E68:$ND68)","v":0},{"$f":"SUMIF('Input E2'!$E$2:$ND$2,Rekenblad!BQ$3,'Input E2'!$E68:$ND68)","v":0},{"$f":"SUMIF('Input E2'!$E$2:$ND$2,Rekenblad!BR$3,'Input E2'!$E68:$ND68)","v":1},{"$f":"SUMIF('Input E2'!$E$2:$ND$2,Rekenblad!BS$3,'Input E2'!$E68:$ND68)","v":0},{"$f":"SUMIF('Input E2'!$E$2:$ND$2,Rekenblad!BT$3,'Input E2'!$E68:$ND68)","v":0},{"$f":"SUMIF('Input E2'!$E$2:$ND$2,Rekenblad!BU$3,'Input E2'!$E68:$ND68)","v":0},null,1]
[null,null,null,{"$f":"'Input E2'!C69","v":"FTC [%]"},{"$f":"IFERROR(SUMIF('Input E2'!$E$3:$ND$3,Rekenblad!E$3,'Input E2'!$E69:$ND69)/E2,0%)","v":0},{"$f":"IFERROR(SUMIF('Input E2'!$E$3:$ND$3,Rekenblad!F$3,'Input E2'!$E69:$ND69)/F2,0%)","v":0},{"$f":"IFERROR(SUMIF('Input E2'!$E$3:$ND$3,Rekenblad!G$3,'Input E2'!$E69:$ND69)/G2,0%)","v":0},{"$f":"IFERROR(SUMIF('Input E2'!$E$3:$ND$3,Rekenblad!H$3,'Input E2'!$E69:$ND69)/H2,0%)","v":0},{"$f":"IFERROR(SUMIF('Input E2'!$E$3:$ND$3,Rekenblad!I$3,'Input E2'!$E69:$ND69)/I2,0%)","v":0},{"$f":"IFERROR(SUMIF('Input E2'!$E$3:$ND$3,Rekenblad!J$3,'Input E2'!$E69:$ND69)/J2,0%)","v":0},{"$f":"IFERROR(SUMIF('Input E2'!$E$3:$ND$3,Rekenblad!K$3,'Input E2'!$E69:$ND69)/K2,0%)","v":0},{"$f":"IFERROR(SUMIF('Input E2'!$E$3:$ND$3,Rekenblad!L$3,'Input E2'!$E69:$ND69)/L2,0%)","v":0},{"$f":"IFERROR(SUMIF('Input E2'!$E$3:$ND$3,Rekenblad!M$3,'Input E2'!$E69:$ND69)/M2,0%)","v":0},{"$f":"IFERROR(SUMIF('Input E2'!$E$3:$ND$3,Rekenblad!N$3,'Input E2'!$E69:$ND69)/N2,0%)","v":0},{"$f":"IFERROR(SUMIF('Input E2'!$E$3:$ND$3,Rekenblad!O$3,'Input E2'!$E69:$ND69)/O2,0%)","v":0},{"$f":"IFERROR(SUMIF('Input E2'!$E$3:$ND$3,Rekenblad!P$3,'Input E2'!$E69:$ND69)/P2,0%)","v":0},{"$f":"IFERROR(SUMIF('Input E2'!$E$3:$ND$3,Rekenblad!Q$3,'Input E2'!$E69:$ND69)/Q2,0%)","v":0},{"$f":"IFERROR(SUMIF('Input E2'!$E$3:$ND$3,Rekenblad!R$3,'Input E2'!$E69:$ND69)/R2,0%)","v":0},{"$f":"IFERROR(SUMIF('Input E2'!$E$3:$ND$3,Rekenblad!S$3,'Input E2'!$E69:$ND69)/S2,0%)","v":0},{"$f":"IFERROR(SUMIF('Input E2'!$E$3:$ND$3,Rekenblad!T$3,'Input E2'!$E69:$ND69)/T2,0%)","v":0},{"$f":"IFERROR(SUMIF('Input E2'!$E$3:$ND$3,Rekenblad!U$3,'Input E2'!$E69:$ND69)/U2,0%)","v":0},{"$f":"IFERROR(SUMIF('Input E2'!$E$3:$ND$3,Rekenblad!V$3,'Input E2'!$E69:$ND69)/V2,0%)","v":0},{"$f":"IFERROR(SUMIF('Input E2'!$E$3:$ND$3,Rekenblad!W$3,'Input E2'!$E69:$ND69)/W2,0%)","v":0},{"$f":"IFERROR(SUMIF('Input E2'!$E$3:$ND$3,Rekenblad!X$3,'Input E2'!$E69:$ND69)/X2,0%)","v":1},{"$f":"IFERROR(SUMIF('Input E2'!$E$3:$ND$3,Rekenblad!Y$3,'Input E2'!$E69:$ND69)/Y2,0%)","v":1},{"$f":"IFERROR(SUMIF('Input E2'!$E$3:$ND$3,Rekenblad!Z$3,'Input E2'!$E69:$ND69)/Z2,0%)","v":1},{"$f":"IFERROR(SUMIF('Input E2'!$E$3:$ND$3,Rekenblad!AA$3,'Input E2'!$E69:$ND69)/AA2,0%)","v":1},{"$f":"IFERROR(SUMIF('Input E2'!$E$3:$ND$3,Rekenblad!AB$3,'Input E2'!$E69:$ND69)/AB2,0%)","v":1},{"$f":"IFERROR(SUMIF('Input E2'!$E$3:$ND$3,Rekenblad!AC$3,'Input E2'!$E69:$ND69)/AC2,0%)","v":1},{"$f":"IFERROR(SUMIF('Input E2'!$E$3:$ND$3,Rekenblad!AD$3,'Input E2'!$E69:$ND69)/AD2,0%)","v":1},{"$f":"IFERROR(SUMIF('Input E2'!$E$3:$ND$3,Rekenblad!AE$3,'Input E2'!$E69:$ND69)/AE2,0%)","v":1},{"$f":"IFERROR(SUMIF('Input E2'!$E$3:$ND$3,Rekenblad!AF$3,'Input E2'!$E69:$ND69)/AF2,0%)","v":1},{"$f":"IFERROR(SUMIF('Input E2'!$E$3:$ND$3,Rekenblad!AG$3,'Input E2'!$E69:$ND69)/AG2,0%)","v":0.8},{"$f":"IFERROR(SUMIF('Input E2'!$E$3:$ND$3,Rekenblad!AH$3,'Input E2'!$E69:$ND69)/AH2,0%)","v":0},{"$f":"IFERROR(SUMIF('Input E2'!$E$3:$ND$3,Rekenblad!AI$3,'Input E2'!$E69:$ND69)/AI2,0%)","v":0},{"$f":"IFERROR(SUMIF('Input E2'!$E$3:$ND$3,Rekenblad!AJ$3,'Input E2'!$E69:$ND69)/AJ2,0%)","v":0},{"$f":"IFERROR(SUMIF('Input E2'!$E$3:$ND$3,Rekenblad!AK$3,'Input E2'!$E69:$ND69)/AK2,0%)","v":1},{"$f":"IFERROR(SUMIF('Input E2'!$E$3:$ND$3,Rekenblad!AL$3,'Input E2'!$E69:$ND69)/AL2,0%)","v":1},{"$f":"IFERROR(SUMIF('Input E2'!$E$3:$ND$3,Rekenblad!AM$3,'Input E2'!$E69:$ND69)/AM2,0%)","v":1},{"$f":"IFERROR(SUMIF('Input E2'!$E$3:$ND$3,Rekenblad!AN$3,'Input E2'!$E69:$ND69)/AN2,0%)","v":1},{"$f":"IFERROR(SUMIF('Input E2'!$E$3:$ND$3,Rekenblad!AO$3,'Input E2'!$E69:$ND69)/AO2,0%)","v":1},{"$f":"IFERROR(SUMIF('Input E2'!$E$3:$ND$3,Rekenblad!AP$3,'Input E2'!$E69:$ND69)/AP2,0%)","v":0.99935742971887542},{"$f":"IFERROR(SUMIF('Input E2'!$E$3:$ND$3,Rekenblad!AQ$3,'Input E2'!$E69:$ND69)/AQ2,0%)","v":1},{"$f":"IFERROR(SUMIF('Input E2'!$E$3:$ND$3,Rekenblad!AR$3,'Input E2'!$E69:$ND69)/AR2,0%)","v":1},{"$f":"IFERROR(SUMIF('Input E2'!$E$3:$ND$3,Rekenblad!AS$3,'Input E2'!$E69:$ND69)/AS2,0%)","v":0},{"$f":"IFERROR(SUMIF('Input E2'!$E$3:$ND$3,Rekenblad!AT$3,'Input E2'!$E69:$ND69)/AT2,0%)","v":0},{"$f":"IFERROR(SUMIF('Input E2'!$E$3:$ND$3,Rekenblad!AU$3,'Input E2'!$E69:$ND69)/AU2,0%)","v":0},{"$f":"IFERROR(SUMIF('Input E2'!$E$3:$ND$3,Rekenblad!AV$3,'Input E2'!$E69:$ND69)/AV2,0%)","v":0},{"$f":"IFERROR(SUMIF('Input E2'!$E$3:$ND$3,Rekenblad!AW$3,'Input E2'!$E69:$ND69)/AW2,0%)","v":0},{"$f":"IFERROR(SUMIF('Input E2'!$E$3:$ND$3,Rekenblad!AX$3,'Input E2'!$E69:$ND69)/AX2,0%)","v":0},{"$f":"IFERROR(SUMIF('Input E2'!$E$3:$ND$3,Rekenblad!AY$3,'Input E2'!$E69:$ND69)/AY2,0%)","v":0},{"$f":"IFERROR(SUMIF('Input E2'!$E$3:$ND$3,Rekenblad!AZ$3,'Input E2'!$E69:$ND69)/AZ2,0%)","v":0},{"$f":"IFERROR(SUMIF('Input E2'!$E$3:$ND$3,Rekenblad!BA$3,'Input E2'!$E69:$ND69)/BA2,0%)","v":0},{"$f":"IFERROR(SUMIF('Input E2'!$E$3:$ND$3,Rekenblad!BB$3,'Input E2'!$E69:$ND69)/BB2,0%)","v":0},{"$f":"IFERROR(SUMIF('Input E2'!$E$3:$ND$3,Rekenblad!BC$3,'Input E2'!$E69:$ND69)/BC2,0%)","v":0},{"$f":"IFERROR(SUMIF('Input E2'!$E$3:$ND$3,Rekenblad!BD$3,'Input E2'!$E69:$ND69)/BD2,0%)","v":0},{"$f":"IFERROR(SUMIF('Input E2'!$E$3:$ND$3,Rekenblad!BE$3,'Input E2'!$E69:$ND69)/BE2,0%)","v":0},null,null,null,null,{"$f":"IFERROR(SUMIF('Input E2'!$E$2:$ND$2,Rekenblad!BJ$3,'Input E2'!$E69:$ND69)/BJ2,0%)","v":0},{"$f":"IFERROR(SUMIF('Input E2'!$E$2:$ND$2,Rekenblad!BK$3,'Input E2'!$E69:$ND69)/BK2,0%)","v":0},{"$f":"IFERROR(SUMIF('Input E2'!$E$2:$ND$2,Rekenblad!BL$3,'Input E2'!$E69:$ND69)/BL2,0%)","v":0},{"$f":"IFERROR(SUMIF('Input E2'!$E$2:$ND$2,Rekenblad!BM$3,'Input E2'!$E69:$ND69)/BM2,0%)","v":0},{"$f":"IFERROR(SUMIF('Input E2'!$E$2:$ND$2,Rekenblad!BN$3,'Input E2'!$E69:$ND69)/BN2,0%)","v":1},{"$f":"IFERROR(SUMIF('Input E2'!$E$2:$ND$2,Rekenblad!BO$3,'Input E2'!$E69:$ND69)/BO2,0%)","v":1},{"$f":"IFERROR(SUMIF('Input E2'!$E$2:$ND$2,Rekenblad!BP$3,'Input E2'!$E69:$ND69)/BP2,0%)","v":0.9375},{"$f":"IFERROR(SUMIF('Input E2'!$E$2:$ND$2,Rekenblad!BQ$3,'Input E2'!$E69:$ND69)/BQ2,0%)","v":1},{"$f":"IFERROR(SUMIF('Input E2'!$E$2:$ND$2,Rekenblad!BR$3,'Input E2'!$E69:$ND69)/BR2,0%)","v":0.99985396129974446},{"$f":"IFERROR(SUMIF('Input E2'!$E$2:$ND$2,Rekenblad!BS$3,'Input E2'!$E69:$ND69)/BS2,0%)","v":1},{"$f":"IFERROR(SUMIF('Input E2'!$E$2:$ND$2,Rekenblad!BT$3,'Input E2'!$E69:$ND69)/BT2,0%)","v":0},{"$f":"IFERROR(SUMIF('Input E2'!$E$2:$ND$2,Rekenblad!BU$3,'Input E2'!$E69:$ND69)/BU2,0%)","v":0},null,{"$f":"SUM(BJ66:BU66)/COUNTIF(BJ66:BU66,\"<>0,00%\")","v":0.98955899354995747}]
[null,null,null,{"$f":"'Input E2'!C70","v":"Loose Spotwelds ICAF"},{"$f":"SUMIF('Input E2'!$E$3:$ND$3,Rekenblad!E$3,'Input E2'!$E70:$ND70)","v":0},{"$f":"SUMIF('Input E2'!$E$3:$ND$3,Rekenblad!F$3,'Input E2'!$E70:$ND70)","v":0},{"$f":"SUMIF('Input E2'!$E$3:$ND$3,Rekenblad!G$3,'Input E2'!$E70:$ND70)","v":0},{"$f":"SUMIF('Input E2'!$E$3:$ND$3,Rekenblad!H$3,'Input E2'!$E70:$ND70)","v":0},{"$f":"SUMIF('Input E2'!$E$3:$ND$3,Rekenblad!I$3,'Input E2'!$E70:$ND70)","v":0},{"$f":"SUMIF('Input E2'!$E$3:$ND$3,Rekenblad!J$3,'Input E2'!$E70:$ND70)","v":0},{"$f":"SUMIF('Input E2'!$E$3:$ND$3,Rekenblad!K$3,'Input E2'!$E70:$ND70)","v":0},{"$f":"SUMIF('Input E2'!$E$3:$ND$3,Rekenblad!L$3,'Input E2'!$E70:$ND70)","v":0},{"$f":"SUMIF('Input E2'!$E$3:$ND$3,Rekenblad!M$3,'Input E2'!$E70:$ND70)","v":0},{"$f":"SUMIF('Input E2'!$E$3:$ND$3,Rekenblad!N$3,'Input E2'!$E70:$ND70)","v":0},{"$f":"SUMIF('Input E2'!$E$3:$ND$3,Rekenblad!O$3,'Input E2'!$E70:$ND70)","v":0},{"$f":"SUMIF('Input E2'!$E$3:$ND$3,Rekenblad!P$3,'Input E2'!$E70:$ND70)","v":0},{"$f":"SUMIF('Input E2'!$E$3:$ND$3,Rekenblad!Q$3,'Input E2'!$E70:$ND70)","v":0},{"$f":"SUMIF('Input E2'!$E$3:$ND$3,Rekenblad!R$3,'Input E2'!$E70:$ND70)","v":0},{"$f":"SUMIF('Input E2'!$E$3:$ND$3,Rekenblad!S$3,'Input E2'!$E70:$ND70)","v":0},{"$f":"SUMIF('Input E2'!$E$3:$ND$3,Rekenblad!T$3,'Input E2'!$E70:$ND70)","v":0},{"$f":"SUMIF('Input E2'!$E$3:$ND$3,Rekenblad!U$3,'Input E2'!$E70:$ND70)","v":0},{"$f":"SUMIF('Input E2'!$E$3:$ND$3,Rekenblad!V$3,'Input E2'!$E70:$ND70)","v":0},{"$f":"SUMIF('Input E2'!$E$3:$ND$3,Rekenblad!W$3,'Input E2'!$E70:$ND70)","v":0},{"$f":"SUMIF('Input E2'!$E$3:$ND$3,Rekenblad!X$3,'Input E2'!$E70:$ND70)","v":0},{"$f":"SUMIF('Input E2'!$E$3:$ND$3,Rekenblad!Y$3,'Input E2'!$E70:$ND70)","v":0},{"$f":"SUMIF('Input E2'!$E$3:$ND$3,Rekenblad!Z$3,'Input E2'!$E70:$ND70)","v":0},{"$f":"SUMIF('Input E2'!$E$3:$ND$3,Rekenblad!AA$3,'Input E2'!$E70:$ND70)","v":0},{"$f":"SUMIF('Input E2'!$E$3:$ND$3,Rekenblad!AB$3,'Input E2'!$E70:$ND70)","v":0},{"$f":"SUMIF('Input E2'!$E$3:$ND$3,Rekenblad!AC$3,'Input E2'!$E70:$ND70)","v":0},{"$f":"SUMIF('Input E2'!$E$3:$ND$3,Rekenblad!AD$3,'Input E2'!$E70:$ND70)","v":0},{"$f":"SUMIF('Input E2'!$E$3:$ND$3,Rekenblad!AE$3,'Input E2'!$E70:$ND70)","v":0},{"$f":"SUMIF('Input E2'!$E$3:$ND$3,Rekenblad!AF$3,'Input E2'!$E70:$ND70)","v":0},{"$f":"SUMIF('Input E2'!$E$3:$ND$3,Rekenblad!AG$3,'Input E2'!$E70:$ND70)","v":0},{"$f":"SUMIF('Input E2'!$E$3:$ND$3,Rekenblad!AH$3,'Input E2'!$E70:$ND70)","v":0},{"$f":"SUMIF('Input E2'!$E$3:$ND$3,Rekenblad!AI$3,'Input E2'!$E70:$ND70)","v":0},{"$f":"SUMIF('Input E2'!$E$3:$ND$3,Rekenblad!AJ$3,'Input E2'!$E70:$ND70)","v":0},{"$f":"SUMIF('Input E2'!$E$3:$ND$3,Rekenblad!AK$3,'Input E2'!$E70:$ND70)","v":0},{"$f":"SUMIF('Input E2'!$E$3:$ND$3,Rekenblad!AL$3,'Input E2'!$E70:$ND70)","v":0},{"$f":"SUMIF('Input E2'!$E$3:$ND$3,Rekenblad!AM$3,'Input E2'!$E70:$ND70)","v":0},{"$f":"SUMIF('Input E2'!$E$3:$ND$3,Rekenblad!AN$3,'Input E2'!$E70:$ND70)","v":0},{"$f":"SUMIF('Input E2'!$E$3:$ND$3,Rekenblad!AO$3,'Input E2'!$E70:$ND70)","v":0},{"$f":"SUMIF('Input E2'!$E$3:$ND$3,Rekenblad!AP$3,'Input E2'!$E70:$ND70)","v":0},{"$f":"SUMIF('Input E2'!$E$3:$ND$3,Rekenblad!AQ$3,'Input E2'!$E70:$ND70)","v":0},{"$f":"SUMIF('Input E2'!$E$3:$ND$3,Rekenblad!AR$3,'Input E2'!$E70:$ND70)","v":0},{"$f":"SUMIF('Input E2'!$E$3:$ND$3,Rekenblad!AS$3,'Input E2'!$E70:$ND70)","v":0},{"$f":"SUMIF('Input E2'!$E$3:$ND$3,Rekenblad!AT$3,'Input E2'!$E70:$ND70)","v":0},{"$f":"SUMIF('Input E2'!$E$3:$ND$3,Rekenblad!AU$3,'Input E2'!$E70:$ND70)","v":0},{"$f":"SUMIF('Input E2'!$E$3:$ND$3,Rekenblad!AV$3,'Input E2'!$E70:$ND70)","v":0},{"$f":"SUMIF('Input E2'!$E$3:$ND$3,Rekenblad!AW$3,'Input E2'!$E70:$ND70)","v":0},{"$f":"SUMIF('Input E2'!$E$3:$ND$3,Rekenblad!AX$3,'Input E2'!$E70:$ND70)","v":0},{"$f":"SUMIF('Input E2'!$E$3:$ND$3,Rekenblad!AY$3,'Input E2'!$E70:$ND70)","v":0},{"$f":"SUMIF('Input E2'!$E$3:$ND$3,Rekenblad!AZ$3,'Input E2'!$E70:$ND70)","v":0},{"$f":"SUMIF('Input E2'!$E$3:$ND$3,Rekenblad!BA$3,'Input E2'!$E70:$ND70)","v":0},{"$f":"SUMIF('Input E2'!$E$3:$ND$3,Rekenblad!BB$3,'Input E2'!$E70:$ND70)","v":0},{"$f":"SUMIF('Input E2'!$E$3:$ND$3,Rekenblad!BC$3,'Input E2'!$E70:$ND70)","v":0},{"$f":"SUMIF('Input E2'!$E$3:$ND$3,Rekenblad!BD$3,'Input E2'!$E70:$ND70)","v":0},{"$f":"SUMIF('Input E2'!$E$3:$ND$3,Rekenblad!BE$3,'Input E2'!$E70:$ND70)","v":0},null,null,null,null,{"$f":"SUMIF('Input E2'!$E$2:$ND$2,Rekenblad!BJ$3,'Input E2'!$E70:$ND70)","v":0},{"$f":"SUMIF('Input E2'!$E$2:$ND$2,Rekenblad!BK$3,'Input E2'!$E70:$ND70)","v":0},{"$f":"SUMIF('Input E2'!$E$2:$ND$2,Rekenblad!BL$3,'Input E2'!$E70:$ND70)","v":0},{"$f":"SUMIF('Input E2'!$E$2:$ND$2,Rekenblad!BM$3,'Input E2'!$E70:$ND70)","v":0},{"$f":"SUMIF('Input E2'!$E$2:$ND$2,Rekenblad!BN$3,'Input E2'!$E70:$ND70)","v":0},{"$f":"SUMIF('Input E2'!$E$2:$ND$2,Rekenblad!BO$3,'Input E2'!$E70:$ND70)","v":0},{"$f":"SUMIF('Input E2'!$E$2:$ND$2,Rekenblad!BP$3,'Input E2'!$E70:$ND70)","v":0},{"$f":"SUMIF('Input E2'!$E$2:$ND$2,Rekenblad!BQ$3,'Input E2'!$E70:$ND70)","v":0},{"$f":"SUMIF('Input E2'!$E$2:$ND$2,Rekenblad!BR$3,'Input E2'!$E70:$ND70)","v":0},{"$f":"SUMIF('Input E2'!$E$2:$ND$2,Rekenblad!BS$3,'Input E2'!$E70:$ND70)","v":0},{"$f":"SUMIF('Input E2'!$E$2:$ND$2,Rekenblad!BT$3,'Input E2'!$E70:$ND70)","v":0},{"$f":"SUMIF('Input E2'!$E$2:$ND$2,Rekenblad!BU$3,'Input E2'!$E70:$ND70)","v":0},null,0]
[null,null,null,{"$f":"'Input E2'!C71","v":0},{"$f":"SUMIF('Input E2'!$E$3:$ND$3,Rekenblad!E$3,'Input E2'!$E71:$ND71)","v":0},{"$f":"SUMIF('Input E2'!$E$3:$ND$3,Rekenblad!F$3,'Input E2'!$E71:$ND71)","v":0},{"$f":"SUMIF('Input E2'!$E$3:$ND$3,Rekenblad!G$3,'Input E2'!$E71:$ND71)","v":0},{"$f":"SUMIF('Input E2'!$E$3:$ND$3,Rekenblad!H$3,'Input E2'!$E71:$ND71)","v":0},{"$f":"SUMIF('Input E2'!$E$3:$ND$3,Rekenblad!I$3,'Input E2'!$E71:$ND71)","v":0},{"$f":"SUMIF('Input E2'!$E$3:$ND$3,Rekenblad!J$3,'Input E2'!$E71:$ND71)","v":0},{"$f":"SUMIF('Input E2'!$E$3:$ND$3,Rekenblad!K$3,'Input E2'!$E71:$ND71)","v":0},{"$f":"SUMIF('Input E2'!$E$3:$ND$3,Rekenblad!L$3,'Input E2'!$E71:$ND71)","v":0},{"$f":"SUMIF('Input E2'!$E$3:$ND$3,Rekenblad!M$3,'Input E2'!$E71:$ND71)","v":0},{"$f":"SUMIF('Input E2'!$E$3:$ND$3,Rekenblad!N$3,'Input E2'!$E71:$ND71)","v":0},{"$f":"SUMIF('Input E2'!$E$3:$ND$3,Rekenblad!O$3,'Input E2'!$E71:$ND71)","v":0},{"$f":"SUMIF('Input E2'!$E$3:$ND$3,Rekenblad!P$3,'Input E2'!$E71:$ND71)","v":0},{"$f":"SUMIF('Input E2'!$E$3:$ND$3,Rekenblad!Q$3,'Input E2'!$E71:$ND71)","v":0},{"$f":"SUMIF('Input E2'!$E$3:$ND$3,Rekenblad!R$3,'Input E2'!$E71:$ND71)","v":0},{"$f":"SUMIF('Input E2'!$E$3:$ND$3,Rekenblad!S$3,'Input E2'!$E71:$ND71)","v":0},{"$f":"SUMIF('Input E2'!$E$3:$ND$3,Rekenblad!T$3,'Input E2'!$E71:$ND71)","v":0},{"$f":"SUMIF('Input E2'!$E$3:$ND$3,Rekenblad!U$3,'Input E2'!$E71:$ND71)","v":0},{"$f":"SUMIF('Input E2'!$E$3:$ND$3,Rekenblad!V$3,'Input E2'!$E71:$ND71)","v":0},{"$f":"SUMIF('Input E2'!$E$3:$ND$3,Rekenblad!W$3,'Input E2'!$E71:$ND71)","v":0},{"$f":"SUMIF('Input E2'!$E$3:$ND$3,Rekenblad!X$3,'Input E2'!$E71:$ND71)","v":0},{"$f":"SUMIF('Input E2'!$E$3:$ND$3,Rekenblad!Y$3,'Input E2'!$E71:$ND71)","v":0},{"$f":"SUMIF('Input E2'!$E$3:$ND$3,Rekenblad!Z$3,'Input E2'!$E71:$ND71)","v":0},{"$f":"SUMIF('Input E2'!$E$3:$ND$3,Rekenblad!AA$3,'Input E2'!$E71:$ND71)","v":0},{"$f":"SUMIF('Input E2'!$E$3:$ND$3,Rekenblad!AB$3,'Input E2'!$E71:$ND71)","v":0},{"$f":"SUMIF('Input E2'!$E$3:$ND$3,Rekenblad!AC$3,'Input E2'!$E71:$ND71)","v":0},{"$f":"SUMIF('Input E2'!$E$3:$ND$3,Rekenblad!AD$3,'Input E2'!$E71:$ND71)","v":0},{"$f":"SUMIF('Input E2'!$E$3:$ND$3,Rekenblad!AE$3,'Input E2'!$E71:$ND71)","v":0},{"$f":"SUMIF('Input E2'!$E$3:$ND$3,Rekenblad!AF$3,'Input E2'!$E71:$ND71)","v":0},{"$f":"SUMIF('Input E2'!$E$3:$ND$3,Rekenblad!AG$3,'Input E2'!$E71:$ND71)","v":0},{"$f":"SUMIF('Input E2'!$E$3:$ND$3,Rekenblad!AH$3,'Input E2'!$E71:$ND71)","v":0},{"$f":"SUMIF('Input E2'!$E$3:$ND$3,Rekenblad!AI$3,'Input E2'!$E71:$ND71)","v":0},{"$f":"SUMIF('Input E2'!$E$3:$ND$3,Rekenblad!AJ$3,'Input E2'!$E71:$ND71)","v":0},{"$f":"SUMIF('Input E2'!$E$3:$ND$3,Rekenblad!AK$3,'Input E2'!$E71:$ND71)","v":0},{"$f":"SUMIF('Input E2'!$E$3:$ND$3,Rekenblad!AL$3,'Input E2'!$E71:$ND71)","v":0},{"$f":"SUMIF('Input E2'!$E$3:$ND$3,Rekenblad!AM$3,'Input E2'!$E71:$ND71)","v":0},{"$f":"SUMIF('Input E2'!$E$3:$ND$3,Rekenblad!AN$3,'Input E2'!$E71:$ND71)","v":0},{"$f":"SUMIF('Input E2'!$E$3:$ND$3,Rekenblad!AO$3,'Input E2'!$E71:$ND71)","v":0},{"$f":"SUMIF('Input E2'!$E$3:$ND$3,Rekenblad!AP$3,'Input E2'!$E71:$ND71)","v":0},{"$f":"SUMIF('Input E2'!$E$3:$ND$3,Rekenblad!AQ$3,'Input E2'!$E71:$ND71)","v":0},{"$f":"SUMIF('Input E2'!$E$3:$ND$3,Rekenblad!AR$3,'Input E2'!$E71:$ND71)","v":0},{"$f":"SUMIF('Input E2'!$E$3:$ND$3,Rekenblad!AS$3,'Input E2'!$E71:$ND71)","v":0},{"$f":"SUMIF('Input E2'!$E$3:$ND$3,Rekenblad!AT$3,'Input E2'!$E71:$ND71)","v":0},{"$f":"SUMIF('Input E2'!$E$3:$ND$3,Rekenblad!AU$3,'Input E2'!$E71:$ND71)","v":0},{"$f":"SUMIF('Input E2'!$E$3:$ND$3,Rekenblad!AV$3,'Input E2'!$E71:$ND71)","v":0},{"$f":"SUMIF('Input E2'!$E$3:$ND$3,Rekenblad!AW$3,'Input E2'!$E71:$ND71)","v":0},{"$f":"SUMIF('Input E2'!$E$3:$ND$3,Rekenblad!AX$3,'Input E2'!$E71:$ND71)","v":0},{"$f":"SUMIF('Input E2'!$E$3:$ND$3,Rekenblad!AY$3,'Input E2'!$E71:$ND71)","v":0},{"$f":"SUMIF('Input E2'!$E$3:$ND$3,Rekenblad!AZ$3,'Input E2'!$E71:$ND71)","v":0},{"$f":"SUMIF('Input E2'!$E$3:$ND$3,Rekenblad!BA$3,'Input E2'!$E71:$ND71)","v":0},{"$f":"SUMIF('Input E2'!$E$3:$ND$3,Rekenblad!BB$3,'Input E2'!$E71:$ND71)","v":0},{"$f":"SUMIF('Input E2'!$E$3:$ND$3,Rekenblad!BC$3,'Input E2'!$E71:$ND71)","v":0},{"$f":"SUMIF('Input E2'!$E$3:$ND$3,Rekenblad!BD$3,'Input E2'!$E71:$ND71)","v":0},{"$f":"SUMIF('Input E2'!$E$3:$ND$3,Rekenblad!BE$3,'Input E2'!$E71:$ND71)","v":0},null,null,null,null,{"$f":"SUMIF('Input E2'!$E$2:$ND$2,Rekenblad!BJ$3,'Input E2'!$E71:$ND71)","v":0},{"$f":"SUMIF('Input E2'!$E$2:$ND$2,Rekenblad!BK$3,'Input E2'!$E71:$ND71)","v":0},{"$f":"SUMIF('Input E2'!$E$2:$ND$2,Rekenblad!BL$3,'Input E2'!$E71:$ND71)","v":0},{"$f":"SUMIF('Input E2'!$E$2:$ND$2,Rekenblad!BM$3,'Input E2'!$E71:$ND71)","v":0},{"$f":"SUMIF('Input E2'!$E$2:$ND$2,Rekenblad!BN$3,'Input E2'!$E71:$ND71)","v":0},{"$f":"SUMIF('Input E2'!$E$2:$ND$2,Rekenblad!BO$3,'Input E2'!$E71:$ND71)","v":0},{"$f":"SUMIF('Input E2'!$E$2:$ND$2,Rekenblad!BP$3,'Input E2'!$E71:$ND71)","v":0},{"$f":"SUMIF('Input E2'!$E$2:$ND$2,Rekenblad!BQ$3,'Input E2'!$E71:$ND71)","v":0},{"$f":"SUMIF('Input E2'!$E$2:$ND$2,Rekenblad!BR$3,'Input E2'!$E71:$ND71)","v":0},{"$f":"SUMIF('Input E2'!$E$2:$ND$2,Rekenblad!BS$3,'Input E2'!$E71:$ND71)","v":0},{"$f":"SUMIF('Input E2'!$E$2:$ND$2,Rekenblad!BT$3,'Input E2'!$E71:$ND71)","v":0},{"$f":"SUMIF('Input E2'!$E$2:$ND$2,Rekenblad!BU$3,'Input E2'!$E71:$ND71)","v":0},null,0]
[null,null,null,{"$f":"'Input E2'!C72","v":0},{"$f":"SUMIF('Input E2'!$E$3:$ND$3,Rekenblad!E$3,'Input E2'!$E72:$ND72)","v":0},{"$f":"SUMIF('Input E2'!$E$3:$ND$3,Rekenblad!F$3,'Input E2'!$E72:$ND72)","v":0},{"$f":"SUMIF('Input E2'!$E$3:$ND$3,Rekenblad!G$3,'Input E2'!$E72:$ND72)","v":0},{"$f":"SUMIF('Input E2'!$E$3:$ND$3,Rekenblad!H$3,'Input E2'!$E72:$ND72)","v":0},{"$f":"SUMIF('Input E2'!$E$3:$ND$3,Rekenblad!I$3,'Input E2'!$E72:$ND72)","v":0},{"$f":"SUMIF('Input E2'!$E$3:$ND$3,Rekenblad!J$3,'Input E2'!$E72:$ND72)","v":0},{"$f":"SUMIF('Input E2'!$E$3:$ND$3,Rekenblad!K$3,'Input E2'!$E72:$ND72)","v":0},{"$f":"SUMIF('Input E2'!$E$3:$ND$3,Rekenblad!L$3,'Input E2'!$E72:$ND72)","v":0},{"$f":"SUMIF('Input E2'!$E$3:$ND$3,Rekenblad!M$3,'Input E2'!$E72:$ND72)","v":0},{"$f":"SUMIF('Input E2'!$E$3:$ND$3,Rekenblad!N$3,'Input E2'!$E72:$ND72)","v":0},{"$f":"SUMIF('Input E2'!$E$3:$ND$3,Rekenblad!O$3,'Input E2'!$E72:$ND72)","v":0},{"$f":"SUMIF('Input E2'!$E$3:$ND$3,Rekenblad!P$3,'Input E2'!$E72:$ND72)","v":0},{"$f":"SUMIF('Input E2'!$E$3:$ND$3,Rekenblad!Q$3,'Input E2'!$E72:$ND72)","v":0},{"$f":"SUMIF('Input E2'!$E$3:$ND$3,Rekenblad!R$3,'Input E2'!$E72:$ND72)","v":0},{"$f":"SUMIF('Input E2'!$E$3:$ND$3,Rekenblad!S$3,'Input E2'!$E72:$ND72)","v":0},{"$f":"SUMIF('Input E2'!$E$3:$ND$3,Rekenblad!T$3,'Input E2'!$E72:$ND72)","v":0},{"$f":"SUMIF('Input E2'!$E$3:$ND$3,Rekenblad!U$3,'Input E2'!$E72:$ND72)","v":0},{"$f":"SUMIF('Input E2'!$E$3:$ND$3,Rekenblad!V$3,'Input E2'!$E72:$ND72)","v":0},{"$f":"SUMIF('Input E2'!$E$3:$ND$3,Rekenblad!W$3,'Input E2'!$E72:$ND72)","v":0},{"$f":"SUMIF('Input E2'!$E$3:$ND$3,Rekenblad!X$3,'Input E2'!$E72:$ND72)","v":0},{"$f":"SUMIF('Input E2'!$E$3:$ND$3,Rekenblad!Y$3,'Input E2'!$E72:$ND72)","v":0},{"$f":"SUMIF('Input E2'!$E$3:$ND$3,Rekenblad!Z$3,'Input E2'!$E72:$ND72)","v":0},{"$f":"SUMIF('Input E2'!$E$3:$ND$3,Rekenblad!AA$3,'Input E2'!$E72:$ND72)","v":0},{"$f":"SUMIF('Input E2'!$E$3:$ND$3,Rekenblad!AB$3,'Input E2'!$E72:$ND72)","v":0},{"$f":"SUMIF('Input E2'!$E$3:$ND$3,Rekenblad!AC$3,'Input E2'!$E72:$ND72)","v":0},{"$f":"SUMIF('Input E2'!$E$3:$ND$3,Rekenblad!AD$3,'Input E2'!$E72:$ND72)","v":0},{"$f":"SUMIF('Input E2'!$E$3:$ND$3,Rekenblad!AE$3,'Input E2'!$E72:$ND72)","v":0},{"$f":"SUMIF('Input E2'!$E$3:$ND$3,Rekenblad!AF$3,'Input E2'!$E72:$ND72)","v":0},{"$f":"SUMIF('Input E2'!$E$3:$ND$3,Rekenblad!AG$3,'Input E2'!$E72:$ND72)","v":0},{"$f":"SUMIF('Input E2'!$E$3:$ND$3,Rekenblad!AH$3,'Input E2'!$E72:$ND72)","v":0},{"$f":"SUMIF('Input E2'!$E$3:$ND$3,Rekenblad!AI$3,'Input E2'!$E72:$ND72)","v":0},{"$f":"SUMIF('Input E2'!$E$3:$ND$3,Rekenblad!AJ$3,'Input E2'!$E72:$ND72)","v":0},{"$f":"SUMIF('Input E2'!$E$3:$ND$3,Rekenblad!AK$3,'Input E2'!$E72:$ND72)","v":0},{"$f":"SUMIF('Input E2'!$E$3:$ND$3,Rekenblad!AL$3,'Input E2'!$E72:$ND72)","v":0},{"$f":"SUMIF('Input E2'!$E$3:$ND$3,Rekenblad!AM$3,'Input E2'!$E72:$ND72)","v":0},{"$f":"SUMIF('Input E2'!$E$3:$ND$3,Rekenblad!AN$3,'Input E2'!$E72:$ND72)","v":0},{"$f":"SUMIF('Input E2'!$E$3:$ND$3,Rekenblad!AO$3,'Input E2'!$E72:$ND72)","v":0},{"$f":"SUMIF('Input E2'!$E$3:$ND$3,Rekenblad!AP$3,'Input E2'!$E72:$ND72)","v":0},{"$f":"SUMIF('Input E2'!$E$3:$ND$3,Rekenblad!AQ$3,'Input E2'!$E72:$ND72)","v":0},{"$f":"SUMIF('Input E2'!$E$3:$ND$3,Rekenblad!AR$3,'Input E2'!$E72:$ND72)","v":0},{"$f":"SUMIF('Input E2'!$E$3:$ND$3,Rekenblad!AS$3,'Input E2'!$E72:$ND72)","v":0},{"$f":"SUMIF('Input E2'!$E$3:$ND$3,Rekenblad!AT$3,'Input E2'!$E72:$ND72)","v":0},{"$f":"SUMIF('Input E2'!$E$3:$ND$3,Rekenblad!AU$3,'Input E2'!$E72:$ND72)","v":0},{"$f":"SUMIF('Input E2'!$E$3:$ND$3,Rekenblad!AV$3,'Input E2'!$E72:$ND72)","v":0},{"$f":"SUMIF('Input E2'!$E$3:$ND$3,Rekenblad!AW$3,'Input E2'!$E72:$ND72)","v":0},{"$f":"SUMIF('Input E2'!$E$3:$ND$3,Rekenblad!AX$3,'Input E2'!$E72:$ND72)","v":0},{"$f":"SUMIF('Input E2'!$E$3:$ND$3,Rekenblad!AY$3,'Input E2'!$E72:$ND72)","v":0},{"$f":"SUMIF('Input E2'!$E$3:$ND$3,Rekenblad!AZ$3,'Input E2'!$E72:$ND72)","v":0},{"$f":"SUMIF('Input E2'!$E$3:$ND$3,Rekenblad!BA$3,'Input E2'!$E72:$ND72)","v":0},{"$f":"SUMIF('Input E2'!$E$3:$ND$3,Rekenblad!BB$3,'Input E2'!$E72:$ND72)","v":0},{"$f":"SUMIF('Input E2'!$E$3:$ND$3,Rekenblad!BC$3,'Input E2'!$E72:$ND72)","v":0},{"$f":"SUMIF('Input E2'!$E$3:$ND$3,Rekenblad!BD$3,'Input E2'!$E72:$ND72)","v":0},{"$f":"SUMIF('Input E2'!$E$3:$ND$3,Rekenblad!BE$3,'Input E2'!$E72:$ND72)","v":0},null,null,null,null,{"$f":"SUMIF('Input E2'!$E$2:$ND$2,Rekenblad!BJ$3,'Input E2'!$E72:$ND72)","v":0},{"$f":"SUMIF('Input E2'!$E$2:$ND$2,Rekenblad!BK$3,'Input E2'!$E72:$ND72)","v":0},{"$f":"SUMIF('Input E2'!$E$2:$ND$2,Rekenblad!BL$3,'Input E2'!$E72:$ND72)","v":0},{"$f":"SUMIF('Input E2'!$E$2:$ND$2,Rekenblad!BM$3,'Input E2'!$E72:$ND72)","v":0},{"$f":"SUMIF('Input E2'!$E$2:$ND$2,Rekenblad!BN$3,'Input E2'!$E72:$ND72)","v":0},{"$f":"SUMIF('Input E2'!$E$2:$ND$2,Rekenblad!BO$3,'Input E2'!$E72:$ND72)","v":0},{"$f":"SUMIF('Input E2'!$E$2:$ND$2,Rekenblad!BP$3,'Input E2'!$E72:$ND72)","v":0},{"$f":"SUMIF('Input E2'!$E$2:$ND$2,Rekenblad!BQ$3,'Input E2'!$E72:$ND72)","v":0},{"$f":"SUMIF('Input E2'!$E$2:$ND$2,Rekenblad!BR$3,'Input E2'!$E72:$ND72)","v":0},{"$f":"SUMIF('Input E2'!$E$2:$ND$2,Rekenblad!BS$3,'Input E2'!$E72:$ND72)","v":0},{"$f":"SUMIF('Input E2'!$E$2:$ND$2,Rekenblad!BT$3,'Input E2'!$E72:$ND72)","v":0},{"$f":"SUMIF('Input E2'!$E$2:$ND$2,Rekenblad!BU$3,'Input E2'!$E72:$ND72)","v":0},null,0]
[]
[]
[]
[null,null,null,{"$f":"'Input E2'!C76","v":"Consumables"},{"$f":"SUMIF('Input E2'!$E$3:$ND$3,Rekenblad!E$3,'Input E2'!$E76:$ND76)","v":0},{"$f":"SUMIF('Input E2'!$E$3:$ND$3,Rekenblad!F$3,'Input E2'!$E76:$ND76)","v":0},{"$f":"SUMIF('Input E2'!$E$3:$ND$3,Rekenblad!G$3,'Input E2'!$E76:$ND76)","v":0},{"$f":"SUMIF('Input E2'!$E$3:$ND$3,Rekenblad!H$3,'Input E2'!$E76:$ND76)","v":0},{"$f":"SUMIF('Input E2'!$E$3:$ND$3,Rekenblad!I$3,'Input E2'!$E76:$ND76)","v":0},{"$f":"SUMIF('Input E2'!$E$3:$ND$3,Rekenblad!J$3,'Input E2'!$E76:$ND76)","v":0},{"$f":"SUMIF('Input E2'!$E$3:$ND$3,Rekenblad!K$3,'Input E2'!$E76:$ND76)","v":0},{"$f":"SUMIF('Input E2'!$E$3:$ND$3,Rekenblad!L$3,'Input E2'!$E76:$ND76)","v":0},{"$f":"SUMIF('Input E2'!$E$3:$ND$3,Rekenblad!M$3,'Input E2'!$E76:$ND76)","v":0},{"$f":"SUMIF('Input E2'!$E$3:$ND$3,Rekenblad!N$3,'Input E2'!$E76:$ND76)","v":0},{"$f":"SUMIF('Input E2'!$E$3:$ND$3,Rekenblad!O$3,'Input E2'!$E76:$ND76)","v":0},{"$f":"SUMIF('Input E2'!$E$3:$ND$3,Rekenblad!P$3,'Input E2'!$E76:$ND76)","v":0},{"$f":"SUMIF('Input E2'!$E$3:$ND$3,Rekenblad!Q$3,'Input E2'!$E76:$ND76)","v":0},{"$f":"SUMIF('Input E2'!$E$3:$ND$3,Rekenblad!R$3,'Input E2'!$E76:$ND76)","v":0},{"$f":"SUMIF('Input E2'!$E$3:$ND$3,Rekenblad!S$3,'Input E2'!$E76:$ND76)","v":0},{"$f":"SUMIF('Input E2'!$E$3:$ND$3,Rekenblad!T$3,'Input E2'!$E76:$ND76)","v":0},{"$f":"SUMIF('Input E2'!$E$3:$ND$3,Rekenblad!U$3,'Input E2'!$E76:$ND76)","v":0},{"$f":"SUMIF('Input E2'!$E$3:$ND$3,Rekenblad!V$3,'Input E2'!$E76:$ND76)","v":0},{"$f":"SUMIF('Input E2'!$E$3:$ND$3,Rekenblad!W$3,'Input E2'!$E76:$ND76)","v":0},{"$f":"SUMIF('Input E2'!$E$3:$ND$3,Rekenblad!X$3,'Input E2'!$E76:$ND76)","v":0},{"$f":"SUMIF('Input E2'!$E$3:$ND$3,Rekenblad!Y$3,'Input E2'!$E76:$ND76)","v":0},{"$f":"SUMIF('Input E2'!$E$3:$ND$3,Rekenblad!Z$3,'Input E2'!$E76:$ND76)","v":0},{"$f":"SUMIF('Input E2'!$E$3:$ND$3,Rekenblad!AA$3,'Input E2'!$E76:$ND76)","v":9.8000000000000007},{"$f":"SUMIF('Input E2'!$E$3:$ND$3,Rekenblad!AB$3,'Input E2'!$E76:$ND76)","v":360.07000000000005},{"$f":"SUMIF('Input E2'!$E$3:$ND$3,Rekenblad!AC$3,'Input E2'!$E76:$ND76)","v":0},{"$f":"SUMIF('Input E2'!$E$3:$ND$3,Rekenblad!AD$3,'Input E2'!$E76:$ND76)","v":0},{"$f":"SUMIF('Input E2'!$E$3:$ND$3,Rekenblad!AE$3,'Input E2'!$E76:$ND76)","v":179.68},{"$f":"SUMIF('Input E2'!$E$3:$ND$3,Rekenblad!AF$3,'Input E2'!$E76:$ND76)","v":199.25},{"$f":"SUMIF('Input E2'!$E$3:$ND$3,Rekenblad!AG$3,'Input E2'!$E76:$ND76)","v":0},{"$f":"SUMIF('Input E2'!$E$3:$ND$3,Rekenblad!AH$3,'Input E2'!$E76:$ND76)","v":0},{"$f":"SUMIF('Input E2'!$E$3:$ND$3,Rekenblad!AI$3,'Input E2'!$E76:$ND76)","v":0},{"$f":"SUMIF('Input E2'!$E$3:$ND$3,Rekenblad!AJ$3,'Input E2'!$E76:$ND76)","v":0},{"$f":"SUMIF('Input E2'!$E$3:$ND$3,Rekenblad!AK$3,'Input E2'!$E76:$ND76)","v":0},{"$f":"SUMIF('Input E2'!$E$3:$ND$3,Rekenblad!AL$3,'Input E2'!$E76:$ND76)","v":42.64},{"$f":"SUMIF('Input E2'!$E$3:$ND$3,Rekenblad!AM$3,'Input E2'!$E76:$ND76)","v":78},{"$f":"SUMIF('Input E2'!$E$3:$ND$3,Rekenblad!AN$3,'Input E2'!$E76:$ND76)","v":78},{"$f":"SUMIF('Input E2'!$E$3:$ND$3,Rekenblad!AO$3,'Input E2'!$E76:$ND76)","v":151.13999999999999},{"$f":"SUMIF('Input E2'!$E$3:$ND$3,Rekenblad!AP$3,'Input E2'!$E76:$ND76)","v":582.12},{"$f":"SUMIF('Input E2'!$E$3:$ND$3,Rekenblad!AQ$3,'Input E2'!$E76:$ND76)","v":0},{"$f":"SUMIF('Input E2'!$E$3:$ND$3,Rekenblad!AR$3,'Input E2'!$E76:$ND76)","v":569.58000000000004},{"$f":"SUMIF('Input E2'!$E$3:$ND$3,Rekenblad!AS$3,'Input E2'!$E76:$ND76)","v":0},{"$f":"SUMIF('Input E2'!$E$3:$ND$3,Rekenblad!AT$3,'Input E2'!$E76:$ND76)","v":0},{"$f":"SUMIF('Input E2'!$E$3:$ND$3,Rekenblad!AU$3,'Input E2'!$E76:$ND76)","v":0},{"$f":"SUMIF('Input E2'!$E$3:$ND$3,Rekenblad!AV$3,'Input E2'!$E76:$ND76)","v":0},{"$f":"SUMIF('Input E2'!$E$3:$ND$3,Rekenblad!AW$3,'Input E2'!$E76:$ND76)","v":0},{"$f":"SUMIF('Input E2'!$E$3:$ND$3,Rekenblad!AX$3,'Input E2'!$E76:$ND76)","v":0},{"$f":"SUMIF('Input E2'!$E$3:$ND$3,Rekenblad!AY$3,'Input E2'!$E76:$ND76)","v":0},{"$f":"SUMIF('Input E2'!$E$3:$ND$3,Rekenblad!AZ$3,'Input E2'!$E76:$ND76)","v":0},{"$f":"SUMIF('Input E2'!$E$3:$ND$3,Rekenblad!BA$3,'Input E2'!$E76:$ND76)","v":0},{"$f":"SUMIF('Input E2'!$E$3:$ND$3,Rekenblad!BB$3,'Input E2'!$E76:$ND76)","v":0},{"$f":"SUMIF('Input E2'!$E$3:$ND$3,Rekenblad!BC$3,'Input E2'!$E76:$ND76)","v":0},{"$f":"SUMIF('Input E2'!$E$3:$ND$3,Rekenblad!BD$3,'Input E2'!$E76:$ND76)","v":0},{"$f":"SUMIF('Input E2'!$E$3:$ND$3,Rekenblad!BE$3,'Input E2'!$E76:$ND76)","v":0},null,null,null,null,{"$f":"SUMIF('Input E2'!$E$2:$ND$2,Rekenblad!BJ$3,'Input E2'!$E76:$ND76)","v":0},{"$f":"SUMIF('Input E2'!$E$2:$ND$2,Rekenblad!BK$3,'Input E2'!$E76:$ND76)","v":0},{"$f":"SUMIF('Input E2'!$E$2:$ND$2,Rekenblad!BL$3,'Input E2'!$E76:$ND76)","v":0},{"$f":"SUMIF('Input E2'!$E$2:$ND$2,Rekenblad!BM$3,'Input E2'!$E76:$ND76)","v":0},{"$f":"SUMIF('Input E2'!$E$2:$ND$2,Rekenblad!BN$3,'Input E2'!$E76:$ND76)","v":0},{"$f":"SUMIF('Input E2'!$E$2:$ND$2,Rekenblad!BO$3,'Input E2'!$E76:$ND76)","v":369.87},{"$f":"SUMIF('Input E2'!$E$2:$ND$2,Rekenblad!BP$3,'Input E2'!$E76:$ND76)","v":378.93},{"$f":"SUMIF('Input E2'!$E$2:$ND$2,Rekenblad!BQ$3,'Input E2'!$E76:$ND76)","v":120.64},{"$f":"SUMIF('Input E2'!$E$2:$ND$2,Rekenblad!BR$3,'Input E2'!$E76:$ND76)","v":811.26},{"$f":"SUMIF('Input E2'!$E$2:$ND$2,Rekenblad!BS$3,'Input E2'!$E76:$ND76)","v":569.58000000000004},{"$f":"SUMIF('Input E2'!$E$2:$ND$2,Rekenblad!BT$3,'Input E2'!$E76:$ND76)","v":0},{"$f":"SUMIF('Input E2'!$E$2:$ND$2,Rekenblad!BU$3,'Input E2'!$E76:$ND76)","v":0},null,{"$f":"SUM(BJ73:BU73)","v":2250.2799999999997}]
[null,null,null,{"$f":"'Input E2'!C77","v":"Consumables / (Body)"},{"$f":"SUMIF('Input E2'!$E$3:$ND$3,Rekenblad!E$3,'Input E2'!$E77:$ND77)","v":0},{"$f":"SUMIF('Input E2'!$E$3:$ND$3,Rekenblad!F$3,'Input E2'!$E77:$ND77)","v":0},{"$f":"SUMIF('Input E2'!$E$3:$ND$3,Rekenblad!G$3,'Input E2'!$E77:$ND77)","v":0},{"$f":"SUMIF('Input E2'!$E$3:$ND$3,Rekenblad!H$3,'Input E2'!$E77:$ND77)","v":0},{"$f":"SUMIF('Input E2'!$E$3:$ND$3,Rekenblad!I$3,'Input E2'!$E77:$ND77)","v":0},{"$f":"SUMIF('Input E2'!$E$3:$ND$3,Rekenblad!J$3,'Input E2'!$E77:$ND77)","v":0},{"$f":"SUMIF('Input E2'!$E$3:$ND$3,Rekenblad!K$3,'Input E2'!$E77:$ND77)","v":0},{"$f":"SUMIF('Input E2'!$E$3:$ND$3,Rekenblad!L$3,'Input E2'!$E77:$ND77)","v":0},{"$f":"SUMIF('Input E2'!$E$3:$ND$3,Rekenblad!M$3,'Input E2'!$E77:$ND77)","v":0},{"$f":"SUMIF('Input E2'!$E$3:$ND$3,Rekenblad!N$3,'Input E2'!$E77:$ND77)","v":0},{"$f":"SUMIF('Input E2'!$E$3:$ND$3,Rekenblad!O$3,'Input E2'!$E77:$ND77)","v":0},{"$f":"SUMIF('Input E2'!$E$3:$ND$3,Rekenblad!P$3,'Input E2'!$E77:$ND77)","v":0},{"$f":"SUMIF('Input E2'!$E$3:$ND$3,Rekenblad!Q$3,'Input E2'!$E77:$ND77)","v":0},{"$f":"SUMIF('Input E2'!$E$3:$ND$3,Rekenblad!R$3,'Input E2'!$E77:$ND77)","v":0},{"$f":"SUMIF('Input E2'!$E$3:$ND$3,Rekenblad!S$3,'Input E2'!$E77:$ND77)","v":0},{"$f":"SUMIF('Input E2'!$E$3:$ND$3,Rekenblad!T$3,'Input E2'!$E77:$ND77)","v":0},{"$f":"SUMIF('Input E2'!$E$3:$ND$3,Rekenblad!U$3,'Input E2'!$E77:$ND77)","v":0},{"$f":"SUMIF('Input E2'!$E$3:$ND$3,Rekenblad!V$3,'Input E2'!$E77:$ND77)","v":0},{"$f":"SUMIF('Input E2'!$E$3:$ND$3,Rekenblad!W$3,'Input E2'!$E77:$ND77)","v":0},{"$f":"SUMIF('Input E2'!$E$3:$ND$3,Rekenblad!X$3,'Input E2'!$E77:$ND77)","v":0},{"$f":"SUMIF('Input E2'!$E$3:$ND$3,Rekenblad!Y$3,'Input E2'!$E77:$ND77)","v":0},{"$f":"SUMIF('Input E2'!$E$3:$ND$3,Rekenblad!Z$3,'Input E2'!$E77:$ND77)","v":0},{"$f":"SUMIF('Input E2'!$E$3:$ND$3,Rekenblad!AA$3,'Input E2'!$E77:$ND77)","v":3.2941176470588238E-2},{"$f":"SUMIF('Input E2'!$E$3:$ND$3,Rekenblad!AB$3,'Input E2'!$E77:$ND77)","v":1.4309409202540073},{"$f":"SUMIF('Input E2'!$E$3:$ND$3,Rekenblad!AC$3,'Input E2'!$E77:$ND77)","v":0},{"$f":"SUMIF('Input E2'!$E$3:$ND$3,Rekenblad!AD$3,'Input E2'!$E77:$ND77)","v":0},{"$f":"SUMIF('Input E2'!$E$3:$ND$3,Rekenblad!AE$3,'Input E2'!$E77:$ND77)","v":0.63603539823008848},{"$f":"SUMIF('Input E2'!$E$3:$ND$3,Rekenblad!AF$3,'Input E2'!$E77:$ND77)","v":0.67485182049110926},{"$f":"SUMIF('Input E2'!$E$3:$ND$3,Rekenblad!AG$3,'Input E2'!$E77:$ND77)","v":0},{"$f":"SUMIF('Input E2'!$E$3:$ND$3,Rekenblad!AH$3,'Input E2'!$E77:$ND77)","v":0},{"$f":"SUMIF('Input E2'!$E$3:$ND$3,Rekenblad!AI$3,'Input E2'!$E77:$ND77)","v":0},{"$f":"SUMIF('Input E2'!$E$3:$ND$3,Rekenblad!AJ$3,'Input E2'!$E77:$ND77)","v":0},{"$f":"SUMIF('Input E2'!$E$3:$ND$3,Rekenblad!AK$3,'Input E2'!$E77:$ND77)","v":0},{"$f":"SUMIF('Input E2'!$E$3:$ND$3,Rekenblad!AL$3,'Input E2'!$E77:$ND77)","v":0.16031961722488039},{"$f":"SUMIF('Input E2'!$E$3:$ND$3,Rekenblad!AM$3,'Input E2'!$E77:$ND77)","v":0.27296587926509186},{"$f":"SUMIF('Input E2'!$E$3:$ND$3,Rekenblad!AN$3,'Input E2'!$E77:$ND77)","v":0.27513227513227512},{"$f":"SUMIF('Input E2'!$E$3:$ND$3,Rekenblad!AO$3,'Input E2'!$E77:$ND77)","v":0.50212624584717602},{"$f":"SUMIF('Input E2'!$E$3:$ND$3,Rekenblad!AP$3,'Input E2'!$E77:$ND77)","v":2.3681644076320807},{"$f":"SUMIF('Input E2'!$E$3:$ND$3,Rekenblad!AQ$3,'Input E2'!$E77:$ND77)","v":0},{"$f":"SUMIF('Input E2'!$E$3:$ND$3,Rekenblad!AR$3,'Input E2'!$E77:$ND77)","v":2.0693188010899184},{"$f":"SUMIF('Input E2'!$E$3:$ND$3,Rekenblad!AS$3,'Input E2'!$E77:$ND77)","v":0},{"$f":"SUMIF('Input E2'!$E$3:$ND$3,Rekenblad!AT$3,'Input E2'!$E77:$ND77)","v":0},{"$f":"SUMIF('Input E2'!$E$3:$ND$3,Rekenblad!AU$3,'Input E2'!$E77:$ND77)","v":0},{"$f":"SUMIF('Input E2'!$E$3:$ND$3,Rekenblad!AV$3,'Input E2'!$E77:$ND77)","v":0},{"$f":"SUMIF('Input E2'!$E$3:$ND$3,Rekenblad!AW$3,'Input E2'!$E77:$ND77)","v":0},{"$f":"SUMIF('Input E2'!$E$3:$ND$3,Rekenblad!AX$3,'Input E2'!$E77:$ND77)","v":0},{"$f":"SUMIF('Input E2'!$E$3:$ND$3,Rekenblad!AY$3,'Input E2'!$E77:$ND77)","v":0},{"$f":"SUMIF('Input E2'!$E$3:$ND$3,Rekenblad!AZ$3,'Input E2'!$E77:$ND77)","v":0},{"$f":"SUMIF('Input E2'!$E$3:$ND$3,Rekenblad!BA$3,'Input E2'!$E77:$ND77)","v":0},{"$f":"SUMIF('Input E2'!$E$3:$ND$3,Rekenblad!BB$3,'Input E2'!$E77:$ND77)","v":0},{"$f":"SUMIF('Input E2'!$E$3:$ND$3,Rekenblad!BC$3,'Input E2'!$E77:$ND77)","v":0},{"$f":"SUMIF('Input E2'!$E$3:$ND$3,Rekenblad!BD$3,'Input E2'!$E77:$ND77)","v":0},{"$f":"SUMIF('Input E2'!$E$3:$ND$3,Rekenblad!BE$3,'Input E2'!$E77:$ND77)","v":0},null,null,null,null,{"$f":"IFERROR(BJ73/BJ$51,\"0,0000\")","v":"0,0000"},"0,0000","0,0000",{"$f":"IFERROR(BM73/BM$51,\"0,0000\")","v":"0,0000"},{"$f":"IFERROR(BN73/BN$51,\"0,0000\")","v":0},6.625822920865243E-2,9.8035055947222047E-2,2.6996363636363638E-2,0.12793881091310519,0.37645736946463981,"0,0000","0,0000",null,0.69568582916998312]
[null,null,null,{"$f":"'Input E2'!C78","v":"Scrap cost"},{"$f":"SUMIF('Input E2'!$E$3:$ND$3,Rekenblad!E$3,'Input E2'!$E78:$ND78)","v":0},{"$f":"SUMIF('Input E2'!$E$3:$ND$3,Rekenblad!F$3,'Input E2'!$E78:$ND78)","v":0},{"$f":"SUMIF('Input E2'!$E$3:$ND$3,Rekenblad!G$3,'Input E2'!$E78:$ND78)","v":0},{"$f":"SUMIF('Input E2'!$E$3:$ND$3,Rekenblad!H$3,'Input E2'!$E78:$ND78)","v":0},{"$f":"SUMIF('Input E2'!$E$3:$ND$3,Rekenblad!I$3,'Input E2'!$E78:$ND78)","v":0},{"$f":"SUMIF('Input E2'!$E$3:$ND$3,Rekenblad!J$3,'Input E2'!$E78:$ND78)","v":0},{"$f":"SUMIF('Input E2'!$E$3:$ND$3,Rekenblad!K$3,'Input E2'!$E78:$ND78)","v":0},{"$f":"SUMIF('Input E2'!$E$3:$ND$3,Rekenblad!L$3,'Input E2'!$E78:$ND78)","v":0},{"$f":"SUMIF('Input E2'!$E$3:$ND$3,Rekenblad!M$3,'Input E2'!$E78:$ND78)","v":0},{"$f":"SUMIF('Input E2'!$E$3:$ND$3,Rekenblad!N$3,'Input E2'!$E78:$ND78)","v":0},{"$f":"SUMIF('Input E2'!$E$3:$ND$3,Rekenblad!O$3,'Input E2'!$E78:$ND78)","v":0},{"$f":"SUMIF('Input E2'!$E$3:$ND$3,Rekenblad!P$3,'Input E2'!$E78:$ND78)","v":0},{"$f":"SUMIF('Input E2'!$E$3:$ND$3,Rekenblad!Q$3,'Input E2'!$E78:$ND78)","v":0},{"$f":"SUMIF('Input E2'!$E$3:$ND$3,Rekenblad!R$3,'Input E2'!$E78:$ND78)","v":0},{"$f":"SUMIF('Input E2'!$E$3:$ND$3,Rekenblad!S$3,'Input E2'!$E78:$ND78)","v":0},{"$f":"SUMIF('Input E2'!$E$3:$ND$3,Rekenblad!T$3,'Input E2'!$E78:$ND78)","v":0},{"$f":"SUMIF('Input E2'!$E$3:$ND$3,Rekenblad!U$3,'Input E2'!$E78:$ND78)","v":0},{"$f":"SUMIF('Input E2'!$E$3:$ND$3,Rekenblad!V$3,'Input E2'!$E78:$ND78)","v":0},{"$f":"SUMIF('Input E2'!$E$3:$ND$3,Rekenblad!W$3,'Input E2'!$E78:$ND78)","v":0},{"$f":"SUMIF('Input E2'!$E$3:$ND$3,Rekenblad!X$3,'Input E2'!$E78:$ND78)","v":413.21500000000003},{"$f":"SUMIF('Input E2'!$E$3:$ND$3,Rekenblad!Y$3,'Input E2'!$E78:$ND78)","v":184.80999999999997},{"$f":"SUMIF('Input E2'!$E$3:$ND$3,Rekenblad!Z$3,'Input E2'!$E78:$ND78)","v":33.730000000000004},{"$f":"SUMIF('Input E2'!$E$3:$ND$3,Rekenblad!AA$3,'Input E2'!$E78:$ND78)","v":225.62000000000006},{"$f":"SUMIF('Input E2'!$E$3:$ND$3,Rekenblad!AB$3,'Input E2'!$E78:$ND78)","v":141.69},{"$f":"SUMIF('Input E2'!$E$3:$ND$3,Rekenblad!AC$3,'Input E2'!$E78:$ND78)","v":139.29000000000002},{"$f":"SUMIF('Input E2'!$E$3:$ND$3,Rekenblad!AD$3,'Input E2'!$E78:$ND78)","v":59.5},{"$f":"SUMIF('Input E2'!$E$3:$ND$3,Rekenblad!AE$3,'Input E2'!$E78:$ND78)","v":362.0100000000001},{"$f":"SUMIF('Input E2'!$E$3:$ND$3,Rekenblad!AF$3,'Input E2'!$E78:$ND78)","v":237.28000000000003},{"$f":"SUMIF('Input E2'!$E$3:$ND$3,Rekenblad!AG$3,'Input E2'!$E78:$ND78)","v":0},{"$f":"SUMIF('Input E2'!$E$3:$ND$3,Rekenblad!AH$3,'Input E2'!$E78:$ND78)","v":0},{"$f":"SUMIF('Input E2'!$E$3:$ND$3,Rekenblad!AI$3,'Input E2'!$E78:$ND78)","v":0},{"$f":"SUMIF('Input E2'!$E$3:$ND$3,Rekenblad!AJ$3,'Input E2'!$E78:$ND78)","v":0},{"$f":"SUMIF('Input E2'!$E$3:$ND$3,Rekenblad!AK$3,'Input E2'!$E78:$ND78)","v":236.04000000000002},{"$f":"SUMIF('Input E2'!$E$3:$ND$3,Rekenblad!AL$3,'Input E2'!$E78:$ND78)","v":321.01},{"$f":"SUMIF('Input E2'!$E$3:$ND$3,Rekenblad!AM$3,'Input E2'!$E78:$ND78)","v":153.68},{"$f":"SUMIF('Input E2'!$E$3:$ND$3,Rekenblad!AN$3,'Input E2'!$E78:$ND78)","v":133.19},{"$f":"SUMIF('Input E2'!$E$3:$ND$3,Rekenblad!AO$3,'Input E2'!$E78:$ND78)","v":146.08000000000004},{"$f":"SUMIF('Input E2'!$E$3:$ND$3,Rekenblad!AP$3,'Input E2'!$E78:$ND78)","v":485.09499999999997},{"$f":"SUMIF('Input E2'!$E$3:$ND$3,Rekenblad!AQ$3,'Input E2'!$E78:$ND78)","v":166.7},{"$f":"SUMIF('Input E2'!$E$3:$ND$3,Rekenblad!AR$3,'Input E2'!$E78:$ND78)","v":286.91500000000002},{"$f":"SUMIF('Input E2'!$E$3:$ND$3,Rekenblad!AS$3,'Input E2'!$E78:$ND78)","v":0},{"$f":"SUMIF('Input E2'!$E$3:$ND$3,Rekenblad!AT$3,'Input E2'!$E78:$ND78)","v":0},{"$f":"SUMIF('Input E2'!$E$3:$ND$3,Rekenblad!AU$3,'Input E2'!$E78:$ND78)","v":0},{"$f":"SUMIF('Input E2'!$E$3:$ND$3,Rekenblad!AV$3,'Input E2'!$E78:$ND78)","v":0},{"$f":"SUMIF('Input E2'!$E$3:$ND$3,Rekenblad!AW$3,'Input E2'!$E78:$ND78)","v":0},{"$f":"SUMIF('Input E2'!$E$3:$ND$3,Rekenblad!AX$3,'Input E2'!$E78:$ND78)","v":0},{"$f":"SUMIF('Input E2'!$E$3:$ND$3,Rekenblad!AY$3,'Input E2'!$E78:$ND78)","v":0},{"$f":"SUMIF('Input E2'!$E$3:$ND$3,Rekenblad!AZ$3,'Input E2'!$E78:$ND78)","v":0},{"$f":"SUMIF('Input E2'!$E$3:$ND$3,Rekenblad!BA$3,'Input E2'!$E78:$ND78)","v":0},{"$f":"SUMIF('Input E2'!$E$3:$ND$3,Rekenblad!BB$3,'Input E2'!$E78:$ND78)","v":0},{"$f":"SUMIF('Input E2'!$E$3:$ND$3,Rekenblad!BC$3,'Input E2'!$E78:$ND78)","v":0},{"$f":"SUMIF('Input E2'!$E$3:$ND$3,Rekenblad!BD$3,'Input E2'!$E78:$ND78)","v":0},{"$f":"SUMIF('Input E2'!$E$3:$ND$3,Rekenblad!BE$3,'Input E2'!$E78:$ND78)","v":0},null,null,null,null,{"$f":"SUMIF('Input E2'!$E$2:$ND$2,Rekenblad!BJ$3,'Input E2'!$E78:$ND78)","v":0},{"$f":"SUMIF('Input E2'!$E$2:$ND$2,Rekenblad!BK$3,'Input E2'!$E78:$ND78)","v":0},{"$f":"SUMIF('Input E2'!$E$2:$ND$2,Rekenblad!BL$3,'Input E2'!$E78:$ND78)","v":0},{"$f":"SUMIF('Input E2'!$E$2:$ND$2,Rekenblad!BM$3,'Input E2'!$E78:$ND78)","v":0},{"$f":"SUMIF('Input E2'!$E$2:$ND$2,Rekenblad!BN$3,'Input E2'!$E78:$ND78)","v":625.0089999999999},{"$f":"SUMIF('Input E2'!$E$2:$ND$2,Rekenblad!BO$3,'Input E2'!$E78:$ND78)","v":572.84600000000012},{"$f":"SUMIF('Input E2'!$E$2:$ND$2,Rekenblad!BP$3,'Input E2'!$E78:$ND78)","v":599.29000000000019},{"$f":"SUMIF('Input E2'!$E$2:$ND$2,Rekenblad!BQ$3,'Input E2'!$E78:$ND78)","v":710.7299999999999},{"$f":"SUMIF('Input E2'!$E$2:$ND$2,Rekenblad!BR$3,'Input E2'!$E78:$ND78)","v":931.06499999999983},{"$f":"SUMIF('Input E2'!$E$2:$ND$2,Rekenblad!BS$3,'Input E2'!$E78:$ND78)","v":286.91500000000002},{"$f":"SUMIF('Input E2'!$E$2:$ND$2,Rekenblad!BT$3,'Input E2'!$E78:$ND78)","v":0},{"$f":"SUMIF('Input E2'!$E$2:$ND$2,Rekenblad!BU$3,'Input E2'!$E78:$ND78)","v":0},null,3725.8549999999996]
[null,null,null,{"$f":"'Input E2'!C79","v":"Scrap cost / (Body)"},{"$f":"SUMIF('Input E2'!$E$3:$ND$3,Rekenblad!E$3,'Input E2'!$E79:$ND79)","v":0},{"$f":"SUMIF('Input E2'!$E$3:$ND$3,Rekenblad!F$3,'Input E2'!$E79:$ND79)","v":0},{"$f":"SUMIF('Input E2'!$E$3:$ND$3,Rekenblad!G$3,'Input E2'!$E79:$ND79)","v":0},{"$f":"SUMIF('Input E2'!$E$3:$ND$3,Rekenblad!H$3,'Input E2'!$E79:$ND79)","v":0},{"$f":"SUMIF('Input E2'!$E$3:$ND$3,Rekenblad!I$3,'Input E2'!$E79:$ND79)","v":0},{"$f":"SUMIF('Input E2'!$E$3:$ND$3,Rekenblad!J$3,'Input E2'!$E79:$ND79)","v":0},{"$f":"SUMIF('Input E2'!$E$3:$ND$3,Rekenblad!K$3,'Input E2'!$E79:$ND79)","v":0},{"$f":"SUMIF('Input E2'!$E$3:$ND$3,Rekenblad!L$3,'Input E2'!$E79:$ND79)","v":0},{"$f":"SUMIF('Input E2'!$E$3:$ND$3,Rekenblad!M$3,'Input E2'!$E79:$ND79)","v":0},{"$f":"SUMIF('Input E2'!$E$3:$ND$3,Rekenblad!N$3,'Input E2'!$E79:$ND79)","v":0},{"$f":"SUMIF('Input E2'!$E$3:$ND$3,Rekenblad!O$3,'Input E2'!$E79:$ND79)","v":0},{"$f":"SUMIF('Input E2'!$E$3:$ND$3,Rekenblad!P$3,'Input E2'!$E79:$ND79)","v":0},{"$f":"SUMIF('Input E2'!$E$3:$ND$3,Rekenblad!Q$3,'Input E2'!$E79:$ND79)","v":0},{"$f":"SUMIF('Input E2'!$E$3:$ND$3,Rekenblad!R$3,'Input E2'!$E79:$ND79)","v":0},{"$f":"SUMIF('Input E2'!$E$3:$ND$3,Rekenblad!S$3,'Input E2'!$E79:$ND79)","v":0},{"$f":"SUMIF('Input E2'!$E$3:$ND$3,Rekenblad!T$3,'Input E2'!$E79:$ND79)","v":0},{"$f":"SUMIF('Input E2'!$E$3:$ND$3,Rekenblad!U$3,'Input E2'!$E79:$ND79)","v":0},{"$f":"SUMIF('Input E2'!$E$3:$ND$3,Rekenblad!V$3,'Input E2'!$E79:$ND79)","v":0},{"$f":"SUMIF('Input E2'!$E$3:$ND$3,Rekenblad!W$3,'Input E2'!$E79:$ND79)","v":0},{"$f":"SUMIF('Input E2'!$E$3:$ND$3,Rekenblad!X$3,'Input E2'!$E79:$ND79)","v":1.5358358001201027},{"$f":"SUMIF('Input E2'!$E$3:$ND$3,Rekenblad!Y$3,'Input E2'!$E79:$ND79)","v":0.71128875370329681},{"$f":"SUMIF('Input E2'!$E$3:$ND$3,Rekenblad!Z$3,'Input E2'!$E79:$ND79)","v":0.1235228924323544},{"$f":"SUMIF('Input E2'!$E$3:$ND$3,Rekenblad!AA$3,'Input E2'!$E79:$ND79)","v":0.80321656022899313},{"$f":"SUMIF('Input E2'!$E$3:$ND$3,Rekenblad!AB$3,'Input E2'!$E79:$ND79)","v":0.63239489996208764},{"$f":"SUMIF('Input E2'!$E$3:$ND$3,Rekenblad!AC$3,'Input E2'!$E79:$ND79)","v":0.66799618509568237},{"$f":"SUMIF('Input E2'!$E$3:$ND$3,Rekenblad!AD$3,'Input E2'!$E79:$ND79)","v":0.75963336128516479},{"$f":"SUMIF('Input E2'!$E$3:$ND$3,Rekenblad!AE$3,'Input E2'!$E79:$ND79)","v":1.4249605661313001},{"$f":"SUMIF('Input E2'!$E$3:$ND$3,Rekenblad!AF$3,'Input E2'!$E79:$ND79)","v":0.83036141527347707},{"$f":"SUMIF('Input E2'!$E$3:$ND$3,Rekenblad!AG$3,'Input E2'!$E79:$ND79)","v":0},{"$f":"SUMIF('Input E2'!$E$3:$ND$3,Rekenblad!AH$3,'Input E2'!$E79:$ND79)","v":0},{"$f":"SUMIF('Input E2'!$E$3:$ND$3,Rekenblad!AI$3,'Input E2'!$E79:$ND79)","v":0},{"$f":"SUMIF('Input E2'!$E$3:$ND$3,Rekenblad!AJ$3,'Input E2'!$E79:$ND79)","v":0},{"$f":"SUMIF('Input E2'!$E$3:$ND$3,Rekenblad!AK$3,'Input E2'!$E79:$ND79)","v":0.8911689858689037},{"$f":"SUMIF('Input E2'!$E$3:$ND$3,Rekenblad!AL$3,'Input E2'!$E79:$ND79)","v":1.3118582791916498},{"$f":"SUMIF('Input E2'!$E$3:$ND$3,Rekenblad!AM$3,'Input E2'!$E79:$ND79)","v":0.48585016871210118},{"$f":"SUMIF('Input E2'!$E$3:$ND$3,Rekenblad!AN$3,'Input E2'!$E79:$ND79)","v":0.5206088091586728},{"$f":"SUMIF('Input E2'!$E$3:$ND$3,Rekenblad!AO$3,'Input E2'!$E79:$ND79)","v":0.5062766190202288},{"$f":"SUMIF('Input E2'!$E$3:$ND$3,Rekenblad!AP$3,'Input E2'!$E79:$ND79)","v":1.6597759734979678},{"$f":"SUMIF('Input E2'!$E$3:$ND$3,Rekenblad!AQ$3,'Input E2'!$E79:$ND79)","v":0.55137188382113722},{"$f":"SUMIF('Input E2'!$E$3:$ND$3,Rekenblad!AR$3,'Input E2'!$E79:$ND79)","v":0.95339402210510926},{"$f":"SUMIF('Input E2'!$E$3:$ND$3,Rekenblad!AS$3,'Input E2'!$E79:$ND79)","v":0},{"$f":"SUMIF('Input E2'!$E$3:$ND$3,Rekenblad!AT$3,'Input E2'!$E79:$ND79)","v":0},{"$f":"SUMIF('Input E2'!$E$3:$ND$3,Rekenblad!AU$3,'Input E2'!$E79:$ND79)","v":0},{"$f":"SUMIF('Input E2'!$E$3:$ND$3,Rekenblad!AV$3,'Input E2'!$E79:$ND79)","v":0},{"$f":"SUMIF('Input E2'!$E$3:$ND$3,Rekenblad!AW$3,'Input E2'!$E79:$ND79)","v":0},{"$f":"SUMIF('Input E2'!$E$3:$ND$3,Rekenblad!AX$3,'Input E2'!$E79:$ND79)","v":0},{"$f":"SUMIF('Input E2'!$E$3:$ND$3,Rekenblad!AY$3,'Input E2'!$E79:$ND79)","v":0},{"$f":"SUMIF('Input E2'!$E$3:$ND$3,Rekenblad!AZ$3,'Input E2'!$E79:$ND79)","v":0},{"$f":"SUMIF('Input E2'!$E$3:$ND$3,Rekenblad!BA$3,'Input E2'!$E79:$ND79)","v":0},{"$f":"SUMIF('Input E2'!$E$3:$ND$3,Rekenblad!BB$3,'Input E2'!$E79:$ND79)","v":0},{"$f":"SUMIF('Input E2'!$E$3:$ND$3,Rekenblad!BC$3,'Input E2'!$E79:$ND79)","v":0},{"$f":"SUMIF('Input E2'!$E$3:$ND$3,Rekenblad!BD$3,'Input E2'!$E79:$ND79)","v":0},{"$f":"SUMIF('Input E2'!$E$3:$ND$3,Rekenblad!BE$3,'Input E2'!$E79:$ND79)","v":0},null,null,null,null,{"$f":"IFERROR(BJ75/BJ$51,\"0,0000\")","v":"0,0000"},"0,0000","0,0000",{"$f":"IFERROR(BM75/BM$51,\"0,0000\")","v":"0,0000"},{"$f":"IFERROR(BN75/BN$51,\"0,0000\")","v":0.165762896167617},0.10261919476913434,0.15504559860293646,0.15904447552447551,0.14683251853020027,0.18963317911434238,"0,0000","0,0000",null,0.91893786270870603]
[null,null,null,{"$f":"'Input E2'!C80","v":"Electrode & Maintenance mat.Sides"},{"$f":"SUMIF('Input E2'!$E$3:$ND$3,Rekenblad!E$3,'Input E2'!$E80:$ND80)","v":0},{"$f":"SUMIF('Input E2'!$E$3:$ND$3,Rekenblad!F$3,'Input E2'!$E80:$ND80)","v":0},{"$f":"SUMIF('Input E2'!$E$3:$ND$3,Rekenblad!G$3,'Input E2'!$E80:$ND80)","v":0},{"$f":"SUMIF('Input E2'!$E$3:$ND$3,Rekenblad!H$3,'Input E2'!$E80:$ND80)","v":0},{"$f":"SUMIF('Input E2'!$E$3:$ND$3,Rekenblad!I$3,'Input E2'!$E80:$ND80)","v":0},{"$f":"SUMIF('Input E2'!$E$3:$ND$3,Rekenblad!J$3,'Input E2'!$E80:$ND80)","v":0},{"$f":"SUMIF('Input E2'!$E$3:$ND$3,Rekenblad!K$3,'Input E2'!$E80:$ND80)","v":0},{"$f":"SUMIF('Input E2'!$E$3:$ND$3,Rekenblad!L$3,'Input E2'!$E80:$ND80)","v":0},{"$f":"SUMIF('Input E2'!$E$3:$ND$3,Rekenblad!M$3,'Input E2'!$E80:$ND80)","v":0},{"$f":"SUMIF('Input E2'!$E$3:$ND$3,Rekenblad!N$3,'Input E2'!$E80:$ND80)","v":0},{"$f":"SUMIF('Input E2'!$E$3:$ND$3,Rekenblad!O$3,'Input E2'!$E80:$ND80)","v":0},{"$f":"SUMIF('Input E2'!$E$3:$ND$3,Rekenblad!P$3,'Input E2'!$E80:$ND80)","v":0},{"$f":"SUMIF('Input E2'!$E$3:$ND$3,Rekenblad!Q$3,'Input E2'!$E80:$ND80)","v":0},{"$f":"SUMIF('Input E2'!$E$3:$ND$3,Rekenblad!R$3,'Input E2'!$E80:$ND80)","v":0},{"$f":"SUMIF('Input E2'!$E$3:$ND$3,Rekenblad!S$3,'Input E2'!$E80:$ND80)","v":0},{"$f":"SUMIF('Input E2'!$E$3:$ND$3,Rekenblad!T$3,'Input E2'!$E80:$ND80)","v":0},{"$f":"SUMIF('Input E2'!$E$3:$ND$3,Rekenblad!U$3,'Input E2'!$E80:$ND80)","v":0},{"$f":"SUMIF('Input E2'!$E$3:$ND$3,Rekenblad!V$3,'Input E2'!$E80:$ND80)","v":0},{"$f":"SUMIF('Input E2'!$E$3:$ND$3,Rekenblad!W$3,'Input E2'!$E80:$ND80)","v":0},{"$f":"SUMIF('Input E2'!$E$3:$ND$3,Rekenblad!X$3,'Input E2'!$E80:$ND80)","v":0},{"$f":"SUMIF('Input E2'!$E$3:$ND$3,Rekenblad!Y$3,'Input E2'!$E80:$ND80)","v":0},{"$f":"SUMIF('Input E2'!$E$3:$ND$3,Rekenblad!Z$3,'Input E2'!$E80:$ND80)","v":0},{"$f":"SUMIF('Input E2'!$E$3:$ND$3,Rekenblad!AA$3,'Input E2'!$E80:$ND80)","v":0},{"$f":"SUMIF('Input E2'!$E$3:$ND$3,Rekenblad!AB$3,'Input E2'!$E80:$ND80)","v":0},{"$f":"SUMIF('Input E2'!$E$3:$ND$3,Rekenblad!AC$3,'Input E2'!$E80:$ND80)","v":0},{"$f":"SUMIF('Input E2'!$E$3:$ND$3,Rekenblad!AD$3,'Input E2'!$E80:$ND80)","v":0},{"$f":"SUMIF('Input E2'!$E$3:$ND$3,Rekenblad!AE$3,'Input E2'!$E80:$ND80)","v":0},{"$f":"SUMIF('Input E2'!$E$3:$ND$3,Rekenblad!AF$3,'Input E2'!$E80:$ND80)","v":0},{"$f":"SUMIF('Input E2'!$E$3:$ND$3,Rekenblad!AG$3,'Input E2'!$E80:$ND80)","v":0},{"$f":"SUMIF('Input E2'!$E$3:$ND$3,Rekenblad!AH$3,'Input E2'!$E80:$ND80)","v":0},{"$f":"SUMIF('Input E2'!$E$3:$ND$3,Rekenblad!AI$3,'Input E2'!$E80:$ND80)","v":0},{"$f":"SUMIF('Input E2'!$E$3:$ND$3,Rekenblad!AJ$3,'Input E2'!$E80:$ND80)","v":0},{"$f":"SUMIF('Input E2'!$E$3:$ND$3,Rekenblad!AK$3,'Input E2'!$E80:$ND80)","v":0},{"$f":"SUMIF('Input E2'!$E$3:$ND$3,Rekenblad!AL$3,'Input E2'!$E80:$ND80)","v":250.12},{"$f":"SUMIF('Input E2'!$E$3:$ND$3,Rekenblad!AM$3,'Input E2'!$E80:$ND80)","v":0},{"$f":"SUMIF('Input E2'!$E$3:$ND$3,Rekenblad!AN$3,'Input E2'!$E80:$ND80)","v":0},{"$f":"SUMIF('Input E2'!$E$3:$ND$3,Rekenblad!AO$3,'Input E2'!$E80:$ND80)","v":0},{"$f":"SUMIF('Input E2'!$E$3:$ND$3,Rekenblad!AP$3,'Input E2'!$E80:$ND80)","v":0},{"$f":"SUMIF('Input E2'!$E$3:$ND$3,Rekenblad!AQ$3,'Input E2'!$E80:$ND80)","v":0},{"$f":"SUMIF('Input E2'!$E$3:$ND$3,Rekenblad!AR$3,'Input E2'!$E80:$ND80)","v":0},{"$f":"SUMIF('Input E2'!$E$3:$ND$3,Rekenblad!AS$3,'Input E2'!$E80:$ND80)","v":0},{"$f":"SUMIF('Input E2'!$E$3:$ND$3,Rekenblad!AT$3,'Input E2'!$E80:$ND80)","v":0},{"$f":"SUMIF('Input E2'!$E$3:$ND$3,Rekenblad!AU$3,'Input E2'!$E80:$ND80)","v":0},{"$f":"SUMIF('Input E2'!$E$3:$ND$3,Rekenblad!AV$3,'Input E2'!$E80:$ND80)","v":0},{"$f":"SUMIF('Input E2'!$E$3:$ND$3,Rekenblad!AW$3,'Input E2'!$E80:$ND80)","v":0},{"$f":"SUMIF('Input E2'!$E$3:$ND$3,Rekenblad!AX$3,'Input E2'!$E80:$ND80)","v":0},{"$f":"SUMIF('Input E2'!$E$3:$ND$3,Rekenblad!AY$3,'Input E2'!$E80:$ND80)","v":0},{"$f":"SUMIF('Input E2'!$E$3:$ND$3,Rekenblad!AZ$3,'Input E2'!$E80:$ND80)","v":0},{"$f":"SUMIF('Input E2'!$E$3:$ND$3,Rekenblad!BA$3,'Input E2'!$E80:$ND80)","v":0},{"$f":"SUMIF('Input E2'!$E$3:$ND$3,Rekenblad!BB$3,'Input E2'!$E80:$ND80)","v":0},{"$f":"SUMIF('Input E2'!$E$3:$ND$3,Rekenblad!BC$3,'Input E2'!$E80:$ND80)","v":0},{"$f":"SUMIF('Input E2'!$E$3:$ND$3,Rekenblad!BD$3,'Input E2'!$E80:$ND80)","v":0},{"$f":"SUMIF('Input E2'!$E$3:$ND$3,Rekenblad!BE$3,'Input E2'!$E80:$ND80)","v":0},null,null,null,null,{"$f":"SUMIF('Input E2'!$E$2:$ND$2,Rekenblad!BJ$3,'Input E2'!$E80:$ND80)","v":0},{"$f":"SUMIF('Input E2'!$E$2:$ND$2,Rekenblad!BK$3,'Input E2'!$E80:$ND80)","v":0},{"$f":"SUMIF('Input E2'!$E$2:$ND$2,Rekenblad!BL$3,'Input E2'!$E80:$ND80)","v":0},{"$f":"SUMIF('Input E2'!$E$2:$ND$2,Rekenblad!BM$3,'Input E2'!$E80:$ND80)","v":0},{"$f":"SUMIF('Input E2'!$E$2:$ND$2,Rekenblad!BN$3,'Input E2'!$E80:$ND80)","v":0},{"$f":"SUMIF('Input E2'!$E$2:$ND$2,Rekenblad!BO$3,'Input E2'!$E80:$ND80)","v":0},{"$f":"SUMIF('Input E2'!$E$2:$ND$2,Rekenblad!BP$3,'Input E2'!$E80:$ND80)","v":0},{"$f":"SUMIF('Input E2'!$E$2:$ND$2,Rekenblad!BQ$3,'Input E2'!$E80:$ND80)","v":250.12},{"$f":"SUMIF('Input E2'!$E$2:$ND$2,Rekenblad!BR$3,'Input E2'!$E80:$ND80)","v":0},{"$f":"SUMIF('Input E2'!$E$2:$ND$2,Rekenblad!BS$3,'Input E2'!$E80:$ND80)","v":0},{"$f":"SUMIF('Input E2'!$E$2:$ND$2,Rekenblad!BT$3,'Input E2'!$E80:$ND80)","v":0},{"$f":"SUMIF('Input E2'!$E$2:$ND$2,Rekenblad!BU$3,'Input E2'!$E80:$ND80)","v":0},null,250.12]
[null,null,null,{"$f":"'Input E2'!C81","v":"Electrode & Maintenance mat.Sides / (Body)"},{"$f":"SUMIF('Input E2'!$E$3:$ND$3,Rekenblad!E$3,'Input E2'!$E81:$ND81)","v":0},{"$f":"SUMIF('Input E2'!$E$3:$ND$3,Rekenblad!F$3,'Input E2'!$E81:$ND81)","v":0},{"$f":"SUMIF('Input E2'!$E$3:$ND$3,Rekenblad!G$3,'Input E2'!$E81:$ND81)","v":0},{"$f":"SUMIF('Input E2'!$E$3:$ND$3,Rekenblad!H$3,'Input E2'!$E81:$ND81)","v":0},{"$f":"SUMIF('Input E2'!$E$3:$ND$3,Rekenblad!I$3,'Input E2'!$E81:$ND81)","v":0},{"$f":"SUMIF('Input E2'!$E$3:$ND$3,Rekenblad!J$3,'Input E2'!$E81:$ND81)","v":0},{"$f":"SUMIF('Input E2'!$E$3:$ND$3,Rekenblad!K$3,'Input E2'!$E81:$ND81)","v":0},{"$f":"SUMIF('Input E2'!$E$3:$ND$3,Rekenblad!L$3,'Input E2'!$E81:$ND81)","v":0},{"$f":"SUMIF('Input E2'!$E$3:$ND$3,Rekenblad!M$3,'Input E2'!$E81:$ND81)","v":0},{"$f":"SUMIF('Input E2'!$E$3:$ND$3,Rekenblad!N$3,'Input E2'!$E81:$ND81)","v":0},{"$f":"SUMIF('Input E2'!$E$3:$ND$3,Rekenblad!O$3,'Input E2'!$E81:$ND81)","v":0},{"$f":"SUMIF('Input E2'!$E$3:$ND$3,Rekenblad!P$3,'Input E2'!$E81:$ND81)","v":0},{"$f":"SUMIF('Input E2'!$E$3:$ND$3,Rekenblad!Q$3,'Input E2'!$E81:$ND81)","v":0},{"$f":"SUMIF('Input E2'!$E$3:$ND$3,Rekenblad!R$3,'Input E2'!$E81:$ND81)","v":0},{"$f":"SUMIF('Input E2'!$E$3:$ND$3,Rekenblad!S$3,'Input E2'!$E81:$ND81)","v":0},{"$f":"SUMIF('Input E2'!$E$3:$ND$3,Rekenblad!T$3,'Input E2'!$E81:$ND81)","v":0},{"$f":"SUMIF('Input E2'!$E$3:$ND$3,Rekenblad!U$3,'Input E2'!$E81:$ND81)","v":0},{"$f":"SUMIF('Input E2'!$E$3:$ND$3,Rekenblad!V$3,'Input E2'!$E81:$ND81)","v":0},{"$f":"SUMIF('Input E2'!$E$3:$ND$3,Rekenblad!W$3,'Input E2'!$E81:$ND81)","v":0},{"$f":"SUMIF('Input E2'!$E$3:$ND$3,Rekenblad!X$3,'Input E2'!$E81:$ND81)","v":0},{"$f":"SUMIF('Input E2'!$E$3:$ND$3,Rekenblad!Y$3,'Input E2'!$E81:$ND81)","v":0},{"$f":"SUMIF('Input E2'!$E$3:$ND$3,Rekenblad!Z$3,'Input E2'!$E81:$ND81)","v":0},{"$f":"SUMIF('Input E2'!$E$3:$ND$3,Rekenblad!AA$3,'Input E2'!$E81:$ND81)","v":0},{"$f":"SUMIF('Input E2'!$E$3:$ND$3,Rekenblad!AB$3,'Input E2'!$E81:$ND81)","v":0},{"$f":"SUMIF('Input E2'!$E$3:$ND$3,Rekenblad!AC$3,'Input E2'!$E81:$ND81)","v":0},{"$f":"SUMIF('Input E2'!$E$3:$ND$3,Rekenblad!AD$3,'Input E2'!$E81:$ND81)","v":0},{"$f":"SUMIF('Input E2'!$E$3:$ND$3,Rekenblad!AE$3,'Input E2'!$E81:$ND81)","v":0},{"$f":"SUMIF('Input E2'!$E$3:$ND$3,Rekenblad!AF$3,'Input E2'!$E81:$ND81)","v":0},{"$f":"SUMIF('Input E2'!$E$3:$ND$3,Rekenblad!AG$3,'Input E2'!$E81:$ND81)","v":0},{"$f":"SUMIF('Input E2'!$E$3:$ND$3,Rekenblad!AH$3,'Input E2'!$E81:$ND81)","v":0},{"$f":"SUMIF('Input E2'!$E$3:$ND$3,Rekenblad!AI$3,'Input E2'!$E81:$ND81)","v":0},{"$f":"SUMIF('Input E2'!$E$3:$ND$3,Rekenblad!AJ$3,'Input E2'!$E81:$ND81)","v":0},{"$f":"SUMIF('Input E2'!$E$3:$ND$3,Rekenblad!AK$3,'Input E2'!$E81:$ND81)","v":0},{"$f":"SUMIF('Input E2'!$E$3:$ND$3,Rekenblad!AL$3,'Input E2'!$E81:$ND81)","v":1.1839999999999999},{"$f":"SUMIF('Input E2'!$E$3:$ND$3,Rekenblad!AM$3,'Input E2'!$E81:$ND81)","v":0},{"$f":"SUMIF('Input E2'!$E$3:$ND$3,Rekenblad!AN$3,'Input E2'!$E81:$ND81)","v":0},{"$f":"SUMIF('Input E2'!$E$3:$ND$3,Rekenblad!AO$3,'Input E2'!$E81:$ND81)","v":0},{"$f":"SUMIF('Input E2'!$E$3:$ND$3,Rekenblad!AP$3,'Input E2'!$E81:$ND81)","v":0},{"$f":"SUMIF('Input E2'!$E$3:$ND$3,Rekenblad!AQ$3,'Input E2'!$E81:$ND81)","v":0},{"$f":"SUMIF('Input E2'!$E$3:$ND$3,Rekenblad!AR$3,'Input E2'!$E81:$ND81)","v":0},{"$f":"SUMIF('Input E2'!$E$3:$ND$3,Rekenblad!AS$3,'Input E2'!$E81:$ND81)","v":0},{"$f":"SUMIF('Input E2'!$E$3:$ND$3,Rekenblad!AT$3,'Input E2'!$E81:$ND81)","v":0},{"$f":"SUMIF('Input E2'!$E$3:$ND$3,Rekenblad!AU$3,'Input E2'!$E81:$ND81)","v":0},{"$f":"SUMIF('Input E2'!$E$3:$ND$3,Rekenblad!AV$3,'Input E2'!$E81:$ND81)","v":0},{"$f":"SUMIF('Input E2'!$E$3:$ND$3,Rekenblad!AW$3,'Input E2'!$E81:$ND81)","v":0},{"$f":"SUMIF('Input E2'!$E$3:$ND$3,Rekenblad!AX$3,'Input E2'!$E81:$ND81)","v":0},{"$f":"SUMIF('Input E2'!$E$3:$ND$3,Rekenblad!AY$3,'Input E2'!$E81:$ND81)","v":0},{"$f":"SUMIF('Input E2'!$E$3:$ND$3,Rekenblad!AZ$3,'Input E2'!$E81:$ND81)","v":0},{"$f":"SUMIF('Input E2'!$E$3:$ND$3,Rekenblad!BA$3,'Input E2'!$E81:$ND81)","v":0},{"$f":"SUMIF('Input E2'!$E$3:$ND$3,Rekenblad!BB$3,'Input E2'!$E81:$ND81)","v":0},{"$f":"SUMIF('Input E2'!$E$3:$ND$3,Rekenblad!BC$3,'Input E2'!$E81:$ND81)","v":0},{"$f":"SUMIF('Input E2'!$E$3:$ND$3,Rekenblad!BD$3,'Input E2'!$E81:$ND81)","v":0},{"$f":"SUMIF('Input E2'!$E$3:$ND$3,Rekenblad!BE$3,'Input E2'!$E81:$ND81)","v":0},null,null,null,null,{"$f":"IFERROR(BJ77/BJ$51,\"0,0000\")","v":"0,0000"},"0,0000","0,0000",{"$f":"IFERROR(BM77/BM$51,\"0,0000\")","v":"0,0000"},{"$f":"IFERROR(BN77/BN$51,\"0,0000\")","v":0},0,0,5.5970909090909092E-2,0,0,"0,0000","0,0000",null,5.5970909090909092E-2]
[]
[]
[]
[]
[]
[]
[]
[]
[]
[]
[]
[]
[]
[]
[]
[]
[]
[]
[]
[]
[]
[]
[]
[]
[]
[]
[]
[]
[]
[]
[]
[]
[]
[]
[]
[]
[]
[]
[]
[]
[]
[null,null,null,"Scrap SRM",{"$f":"HLOOKUP(E3,[2]Overview!$D$1:$BC$17,17,0)","v":40.76},{"$f":"HLOOKUP(F3,[2]Overview!$D$1:$BC$17,17,0)","v":28.204999999999998},{"$f":"HLOOKUP(G3,[2]Overview!$D$1:$BC$17,17,0)","v":162.89000000000004},{"$f":"HLOOKUP(H3,[2]Overview!$D$1:$BC$17,17,0)","v":130.96},{"$f":"HLOOKUP(I3,[2]Overview!$D$1:$BC$17,17,0)","v":91.52000000000001},{"$f":"HLOOKUP(J3,[2]Overview!$D$1:$BC$17,17,0)","v":141.82500000000002},{"$f":"HLOOKUP(K3,[2]Overview!$D$1:$BC$17,17,0)","v":17.98},{"$f":"HLOOKUP(L3,[2]Overview!$D$1:$BC$17,17,0)","v":142.74},{"$f":"HLOOKUP(M3,[2]Overview!$D$1:$BC$17,17,0)","v":209.20000000000002},{"$f":"HLOOKUP(N3,[2]Overview!$D$1:$BC$17,17,0)","v":258.61},{"$f":"HLOOKUP(O3,[2]Overview!$D$1:$BC$17,17,0)","v":43.279999999999994},{"$f":"HLOOKUP(P3,[2]Overview!$D$1:$BC$17,17,0)","v":56.279999999999994},{"$f":"HLOOKUP(Q3,[2]Overview!$D$1:$BC$17,17,0)","v":126.54999999999998},{"$f":"HLOOKUP(R3,[2]Overview!$D$1:$BC$17,17,0)","v":48.06},{"$f":"HLOOKUP(S3,[2]Overview!$D$1:$BC$17,17,0)","v":175.78},{"$f":"HLOOKUP(T3,[2]Overview!$D$1:$BC$17,17,0)","v":217.42000000000002},{"$f":"HLOOKUP(U3,[2]Overview!$D$1:$BC$17,17,0)","v":200.74},{"$f":"HLOOKUP(V3,[2]Overview!$D$1:$BC$17,17,0)","v":99.16},{"$f":"HLOOKUP(W3,[2]Overview!$D$1:$BC$17,17,0)","v":108.31},{"$f":"HLOOKUP(X3,[2]Overview!$D$1:$BC$17,17,0)","v":413.21499999999997},{"$f":"HLOOKUP(Y3,[2]Overview!$D$1:$BC$17,17,0)","v":184.80999999999997},{"$f":"HLOOKUP(Z3,[2]Overview!$D$1:$BC$17,17,0)","v":33.730000000000004},{"$f":"HLOOKUP(AA3,[2]Overview!$D$1:$BC$17,17,0)","v":225.62000000000003},{"$f":"HLOOKUP(AB3,[2]Overview!$D$1:$BC$17,17,0)","v":141.69},{"$f":"HLOOKUP(AC3,[2]Overview!$D$1:$BC$17,17,0)","v":139.29000000000002},{"$f":"HLOOKUP(AD3,[2]Overview!$D$1:$BC$17,17,0)","v":59.5},{"$f":"HLOOKUP(AE3,[2]Overview!$D$1:$BC$17,17,0)","v":362.0100000000001},{"$f":"HLOOKUP(AF3,[2]Overview!$D$1:$BC$17,17,0)","v":237.28},{"$f":"HLOOKUP(AG3,[2]Overview!$D$1:$BC$17,17,0)","v":0},{"$f":"HLOOKUP(AH3,[2]Overview!$D$1:$BC$17,17,0)","v":0},{"$f":"HLOOKUP(AI3,[2]Overview!$D$1:$BC$17,17,0)","v":0},{"$f":"HLOOKUP(AJ3,[2]Overview!$D$1:$BC$17,17,0)","v":0},{"$f":"HLOOKUP(AK3,[2]Overview!$D$1:$BC$17,17,0)","v":236.04000000000002},{"$f":"HLOOKUP(AL3,[2]Overview!$D$1:$BC$17,17,0)","v":321.01},{"$f":"HLOOKUP(AM3,[2]Overview!$D$1:$BC$17,17,0)","v":153.68},{"$f":"HLOOKUP(AN3,[2]Overview!$D$1:$BC$17,17,0)","v":133.19},{"$f":"HLOOKUP(AO3,[2]Overview!$D$1:$BC$17,17,0)","v":146.08000000000004},{"$f":"HLOOKUP(AP3,[2]Overview!$D$1:$BC$17,17,0)","v":485.09499999999997},{"$f":"HLOOKUP(AQ3,[2]Overview!$D$1:$BC$17,17,0)","v":166.7},{"$f":"HLOOKUP(AR3,[2]Overview!$D$1:$BC$17,17,0)","v":286.91500000000002},{"$f":"HLOOKUP(AS3,[2]Overview!$D$1:$BC$17,17,0)","v":0},{"$f":"HLOOKUP(AT3,[2]Overview!$D$1:$BC$17,17,0)","v":0},{"$f":"HLOOKUP(AU3,[2]Overview!$D$1:$BC$17,17,0)","v":0},{"$f":"HLOOKUP(AV3,[2]Overview!$D$1:$BC$17,17,0)","v":0},{"$f":"HLOOKUP(AW3,[2]Overview!$D$1:$BC$17,17,0)","v":0},{"$f":"HLOOKUP(AX3,[2]Overview!$D$1:$BC$17,17,0)","v":0},{"$f":"HLOOKUP(AY3,[2]Overview!$D$1:$BC$17,17,0)","v":0},{"$f":"HLOOKUP(AZ3,[2]Overview!$D$1:$BC$17,17,0)","v":0},{"$f":"HLOOKUP(BA3,[2]Overview!$D$1:$BC$17,17,0)","v":0},{"$f":"HLOOKUP(BB3,[2]Overview!$D$1:$BC$17,17,0)","v":0},{"$f":"HLOOKUP(BC3,[2]Overview!$D$1:$BC$17,17,0)","v":0},{"$f":"HLOOKUP(BD3,[2]Overview!$D$1:$BC$17,17,0)","v":0},{"$f":"HLOOKUP(BE3,[2]Overview!$D$1:$BC$17,17,0)","v":{"$error":"#N/A"}}]
[]
[null,null,null,"Scrap Total",{"$f":"E120+E121","v":40.76},{"$f":"F120+F121","v":28.204999999999998},162.89000000000004,130.96,91.52000000000001,141.82500000000002,17.98,142.74,209.20000000000002,258.61,43.279999999999994,56.279999999999994,126.54999999999998,48.06,175.78,{"$f":"T120+T121","v":217.42000000000002},200.74,99.16,108.31,413.21499999999997,184.80999999999997,33.730000000000004,225.62000000000003,141.69,139.29000000000002,59.5,362.0100000000001,237.28,0,0,0,0,236.04000000000002,321.01,153.68,133.19,146.08000000000004,485.09499999999997,166.7,286.91500000000002,0,0,0,0,0,0,0,0,0,0,0,0,{"$f":"BE120+BE121","v":{"$error":"#N/A"}}]
[null,null,null,"Scrap/Shift",{"$f":"E122/3","v":13.586666666666666},9.4016666666666655,54.296666666666681,43.653333333333336,30.506666666666671,47.275000000000006,5.9933333333333332,47.580000000000005,69.733333333333334,86.203333333333333,14.426666666666664,18.759999999999998,42.18333333333333,16.02,{"$f":"S122/3","v":58.593333333333334},{"$f":"T122/3","v":72.473333333333343},{"$f":"U122/3","v":66.913333333333341},33.053333333333335,36.103333333333332,137.73833333333332,61.603333333333325,11.243333333333334,75.206666666666678,47.23,46.430000000000007,19.833333333333332,120.67000000000003,79.093333333333334,0,0,0,0,78.680000000000007,107.00333333333333,51.226666666666667,44.396666666666668,48.693333333333349,161.69833333333332,55.566666666666663,95.638333333333335,0,0,0,0,0,0,0,0,0,0,0,0,{"$f":"BE122/3","v":{"$error":"#N/A"}}]

{"sheet":"DATA","index":4,"n_rows":22,"n_cols":373,"rows_kept":22,"cut":false,"hidden":true,"merged":[]}
[null,"2018-01-01",{"$f":"B1+1","v":"2018-01-02"},{"$f":"C1+1","v":"2018-01-03"},{"$f":"D1+1","v":"2018-01-04"},"2018-01-05","2018-01-06","2018-01-07","2018-01-08","2018-01-09","2018-01-10","2018-01-11","2018-01-12","2018-01-13","2018-01-14","2018-01-15","2018-01-16","2018-01-17","2018-01-18","2018-01-19","2018-01-20","2018-01-21","2018-01-22","2018-01-23","2018-01-24","2018-01-25","2018-01-26","2018-01-27","2018-01-28","2018-01-29","2018-01-30","2018-01-31","2018-02-01","2018-02-02","2018-02-03","2018-02-04","2018-02-05","2018-02-06","2018-02-07","2018-02-08","2018-02-09","2018-02-10","2018-02-11","2018-02-12","2018-02-13","2018-02-14","2018-02-15","2018-02-16","2018-02-17","2018-02-18","2018-02-19","2018-02-20","2018-02-21","2018-02-22","2018-02-23","2018-02-24","2018-02-25","2018-02-26","2018-02-27","2018-02-28","2018-03-01","2018-03-02","2018-03-03","2018-03-04","2018-03-05","2018-03-06","2018-03-07","2018-03-08",{"$f":"BP1+1","v":"2018-03-09"},"2018-03-10","2018-03-11","2018-03-12","2018-03-13","2018-03-14","2018-03-15","2018-03-16","2018-03-17","2018-03-18","2018-03-19","2018-03-20","2018-03-21","2018-03-22","2018-03-23","2018-03-24","2018-03-25","2018-03-26","2018-03-27","2018-03-28","2018-03-29","2018-03-30","2018-03-31","2018-04-01","2018-04-02","2018-04-03","2018-04-04","2018-04-05","2018-04-06","2018-04-07","2018-04-08","2018-04-09","2018-04-10","2018-04-11","2018-04-12","2018-04-13","2018-04-14","2018-04-15","2018-04-16","2018-04-17","2018-04-18","2018-04-19","2018-04-20","2018-04-21","2018-04-22","2018-04-23","2018-04-24","2018-04-25","2018-04-26","2018-04-27","2018-04-28","2018-04-29","2018-04-30","2018-05-01","2018-05-02","2018-05-03","2018-05-04","2018-05-05","2018-05-06","2018-05-07","2018-05-08","2018-05-09","2018-05-10","2018-05-11",{"$f":"EB1+1","v":"2018-05-12"},"2018-05-13","2018-05-14","2018-05-15","2018-05-16","2018-05-17","2018-05-18","2018-05-19","2018-05-20","2018-05-21","2018-05-22","2018-05-23","2018-05-24","2018-05-25","2018-05-26","2018-05-27","2018-05-28","2018-05-29","2018-05-30","2018-05-31","2018-06-01","2018-06-02","2018-06-03","2018-06-04","2018-06-05","2018-06-06","2018-06-07","2018-06-08","2018-06-09","2018-06-10","2018-06-11","2018-06-12","2018-06-13","2018-06-14","2018-06-15","2018-06-16","2018-06-17","2018-06-18","2018-06-19","2018-06-20","2018-06-21","2018-06-22","2018-06-23","2018-06-24","2018-06-25","2018-06-26","2018-06-27","2018-06-28","2018-06-29","2018-06-30","2018-07-01","2018-07-02","2018-07-03","2018-07-04","2018-07-05","2018-07-06","2018-07-07","2018-07-08","2018-07-09","2018-07-10","2018-07-11","2018-07-12","2018-07-13","2018-07-14",{"$f":"GN1+1","v":"2018-07-15"},"2018-07-16","2018-07-17","2018-07-18","2018-07-19","2018-07-20","2018-07-21","2018-07-22","2018-07-23","2018-07-24","2018-07-25","2018-07-26","2018-07-27","2018-07-28","2018-07-29","2018-07-30","2018-07-31","2018-08-01","2018-08-02","2018-08-03","2018-08-04","2018-08-05","2018-08-06","2018-08-07","2018-08-08","2018-08-09","2018-08-10","2018-08-11","2018-08-12","2018-08-13","2018-08-14","2018-08-15","2018-08-16","2018-08-17","2018-08-18","2018-08-19","2018-08-20","2018-08-21","2018-08-22","2018-08-23","2018-08-24","2018-08-25","2018-08-26","2018-08-27","2018-08-28","2018-08-29","2018-08-30","2018-08-31","2018-09-01","2018-09-02","2018-09-03","2018-09-04","2018-09-05","2018-09-06","2018-09-07","2018-09-08","2018-09-09","2018-09-10","2018-09-11","2018-09-12","2018-09-13","2018-09-14","2018-09-15","2018-09-16",{"$f":"IZ1+1","v":"2018-09-17"},"2018-09-18","2018-09-19","2018-09-20","2018-09-21","2018-09-22","2018-09-23","2018-09-24","2018-09-25","2018-09-26","2018-09-27","2018-09-28","2018-09-29","2018-09-30","2018-10-01","2018-10-02","2018-10-03","2018-10-04","2018-10-05","2018-10-06","2018-10-07","2018-10-08","2018-10-09","2018-10-10","2018-10-11","2018-10-12","2018-10-13","2018-10-14","2018-10-15","2018-10-16","2018-10-17","2018-10-18","2018-10-19","2018-10-20","2018-10-21","2018-10-22","2018-10-23","2018-10-24","2018-10-25","2018-10-26","2018-10-27","2018-10-28","2018-10-29","2018-10-30","2018-10-31","2018-11-01","2018-11-02","2018-11-03","2018-11-04","2018-11-05","2018-11-06","2018-11-07","2018-11-08","2018-11-09","2018-11-10","2018-11-11","2018-11-12","2018-11-13","2018-11-14","2018-11-15","2018-11-16","2018-11-17","2018-11-18","2018-11-19",{"$f":"LL1+1","v":"2018-11-20"},"2018-11-21","2018-11-22","2018-11-23","2018-11-24","2018-11-25","2018-11-26","2018-11-27","2018-11-28","2018-11-29","2018-11-30","2018-12-01","2018-12-02","2018-12-03","2018-12-04","2018-12-05","2018-12-06","2018-12-07","2018-12-08","2018-12-09","2018-12-10","2018-12-11","2018-12-12","2018-12-13","2018-12-14","2018-12-15","2018-12-16","2018-12-17","2018-12-18","2018-12-19","2018-12-20","2018-12-21","2018-12-22","2018-12-23","2018-12-24","2018-12-25","2018-12-26","2018-12-27","2018-12-28","2018-12-29","2018-12-30","2018-12-31","2019-01-01","2019-01-02","2019-01-03","2019-01-04","2019-01-05","2019-01-06","2019-01-07"]
[null,{"$f":"TEXT(B1,\"ddd\")","v":"ma"},{"$f":"TEXT(C1,\"ddd\")","v":"di"},{"$f":"TEXT(D1,\"ddd\")","v":"wo"},{"$f":"TEXT(E1,\"ddd\")","v":"do"},{"$f":"TEXT(F1,\"ddd\")","v":"vr"},"za","zo","ma","di","wo","do","vr","za","zo","ma","di","wo","do","vr","za","zo","ma","di","wo","do","vr","za","zo","ma","di","wo","do","vr","za","zo","ma","di","wo","do","vr","za","zo","ma","di","wo","do","vr","za","zo","ma","di","wo","do","vr","za","zo","ma","di","wo","do","vr","za","zo","ma","di","wo","do","vr",{"$f":"TEXT(BR1,\"ddd\")","v":"za"},"zo","ma","di","wo","do","vr","za","zo","ma","di","wo","do","vr","za","zo","ma","di","wo","do","vr","za","zo","ma","di","wo","do","vr","za","zo","ma","di","wo","do","vr","za","zo","ma","di","wo","do","vr","za","zo","ma","di","wo","do","vr","za","zo","ma","di","wo","do","vr","za","zo","ma","di","wo","do","vr","za",{"$f":"TEXT(ED1,\"ddd\")","v":"zo"},"ma","di","wo","do","vr","za","zo","ma","di","wo","do","vr","za","zo","ma","di","wo","do","vr","za","zo","ma","di","wo","do","vr","za","zo","ma","di","wo","do","vr","za","zo","ma","di","wo","do","vr","za","zo","ma","di","wo","do","vr","za","zo","ma","di","wo","do","vr","za","zo","ma","di","wo","do","vr","za","zo",{"$f":"TEXT(GP1,\"ddd\")","v":"ma"},"di","wo","do","vr","za","zo","ma","di","wo","do","vr","za","zo","ma","di","wo","do","vr","za","zo","ma","di","wo","do","vr","za","zo","ma","di","wo","do","vr","za","zo","ma","di","wo","do","vr","za","zo","ma","di","wo","do","vr","za","zo","ma","di","wo","do","vr","za","zo","ma","di","wo","do","vr","za","zo","ma",{"$f":"TEXT(JB1,\"ddd\")","v":"di"},"wo","do","vr","za","zo","ma","di","wo","do","vr","za","zo","ma","di","wo","do","vr","za","zo","ma","di","wo","do","vr","za","zo","ma","di","wo","do","vr","za","zo","ma","di","wo","do","vr","za","zo","ma","di","wo","do","vr","za","zo","ma","di","wo","do","vr","za","zo","ma","di","wo","do","vr","za","zo","ma","di",{"$f":"TEXT(LN1,\"ddd\")","v":"wo"},"do","vr","za","zo","ma","di","wo","do","vr","za","zo","ma","di","wo","do","vr","za","zo","ma","di","wo","do","vr","za","zo","ma","di","wo","do","vr","za","zo","ma","di","wo","do","vr","za","zo","ma","di","wo","do","vr","za","zo","ma"]
["A",{"$f":"SHIFTA(B1)","v":"DD"},{"$f":"SHIFTA(C1)","v":"DD"},"DD","DD","DD","Za","Zo","MD","MD","MD","MD","MD","Za","Zo","DD","DD","DD","DD","DD","Za","Zo","MD","MD","MD","MD","MD","Za","Zo","DD","DD","DD","DD","DD","Za","Zo","MD","MD","MD","MD","MD","Za","Zo","DD","DD","DD","DD","DD","Za","Zo","MD","MD","MD","MD","MD","Za","Zo","DD","DD","DD","DD","DD","Za","Zo","MD","MD",{"$f":"SHIFTA(BO1)","v":"MD"},"MD","MD","Za","Zo","DD","DD","DD","DD","DD","Za","Zo","MD","MD","MD","MD","MD","Za","Zo","DD","DD","DD","DD","DD","Za","Zo","MD","MD","MD","MD","MD","Za","Zo","DD","DD","DD","DD","DD","Za","Zo","MD","MD","MD","MD","MD","Za","Zo","DD","DD","DD","DD","DD","Za","Zo","MD","MD","MD","MD","MD","Za","Zo","DD","DD","DD",{"$f":"SHIFTA(EA1)","v":"DD"},"DD","Za","Zo","MD","MD","MD","MD","MD","Za","Zo","DD","DD","DD","DD","DD","Za","Zo","MD","MD","MD","MD","MD","Za","Zo","DD","DD","DD","DD","DD","Za","Zo","MD","MD","MD","MD","MD","Za","Zo","DD","DD","DD","DD","DD","Za","Zo","MD","MD","MD","MD","MD","Za","Zo","DD","DD","DD","DD","DD","Za","Zo","MD","MD","MD","MD",{"$f":"SHIFTA(GM1)","v":"MD"},"Za","Zo","DD","DD","DD","DD","DD","Za","Zo","MD","MD","MD","MD","MD","Za","Zo","DD","DD","DD","DD","DD","Za","Zo","MD","MD","MD","MD","MD","Za","Zo","DD","DD","DD","DD","DD","Za","Zo","MD","MD","MD","MD","MD","Za","Zo","DD","DD","DD","DD","DD","Za","Zo","MD","MD","MD","MD","MD","Za","Zo","DD","DD","DD","DD","DD",{"$f":"SHIFTA(IY1)","v":"Za"},"Zo","MD","MD","MD","MD","MD","Za","Zo","DD","DD","DD","DD","DD","Za","Zo","MD","MD","MD","MD","MD","Za","Zo","DD","DD","DD","DD","DD","Za","Zo","MD","MD","MD","MD","MD","Za","Zo","DD","DD","DD","DD","DD","Za","Zo","MD","MD","MD","MD","MD","Za","Zo","DD","DD","DD","DD","DD","Za","Zo","MD","MD","MD","MD","MD","Za",{"$f":"SHIFTA(LK1)","v":"Zo"},"DD","DD","DD","DD","DD","Za","Zo","MD","MD","MD","MD","MD","Za","Zo","DD","DD","DD","DD","DD","Za","Zo","MD","MD","MD","MD","MD","Za","Zo","DD","DD","DD","DD","DD","Za","Zo","MD","MD","MD","MD","MD","Za","Zo","DD","DD","DD","DD","DD","Za","Zo","MD"]
["B",{"$f":"SHIFTB(B1)","v":"MD"},{"$f":"SHIFTB(C1)","v":"MD"},"MD","MD","MD","Za","Zo","DD","DD","DD","DD","DD","Za","Zo","MD","MD","MD","MD","MD","Za","Zo","DD","DD","DD","DD","DD","Za","Zo","MD","MD","MD","MD","MD","Za","Zo","DD","DD","DD","DD","DD","Za","Zo","MD","MD","MD","MD","MD","Za","Zo","DD","DD","DD","DD","DD","Za","Zo","MD","MD","MD","MD","MD","Za","Zo","DD","DD",{"$f":"SHIFTB(BO1)","v":"DD"},"DD","DD","Za","Zo","MD","MD","MD","MD","MD","Za","Zo","DD","DD","DD","DD","DD","Za","Zo","MD","MD","MD","MD","MD","Za","Zo","DD","DD","DD","DD","DD","Za","Zo","MD","MD","MD","MD","MD","Za","Zo","DD","DD","DD","DD","DD","Za","Zo","MD","MD","MD","MD","MD","Za","Zo","DD","DD","DD","DD","DD","Za","Zo","MD","MD","MD",{"$f":"SHIFTB(EA1)","v":"MD"},"MD","Za","Zo","DD","DD","DD","DD","DD","Za","Zo","MD","MD","MD","MD","MD","Za","Zo","DD","DD","DD","DD","DD","Za","Zo","MD","MD","MD","MD","MD","Za","Zo","DD","DD","DD","DD","DD","Za","Zo","MD","MD","MD","MD","MD","Za","Zo","DD","DD","DD","DD","DD","Za","Zo","MD","MD","MD","MD","MD","Za","Zo","DD","DD","DD","DD",{"$f":"SHIFTB(GM1)","v":"DD"},"Za","Zo","MD","MD","MD","MD","MD","Za","Zo","DD","DD","DD","DD","DD","Za","Zo","MD","MD","MD","MD","MD","Za","Zo","DD","DD","DD","DD","DD","Za","Zo","MD","MD","MD","MD","MD","Za","Zo","DD","DD","DD","DD","DD","Za","Zo","MD","MD","MD","MD","MD","Za","Zo","DD","DD","DD","DD","DD","Za","Zo","MD","MD","MD","MD","MD",{"$f":"SHIFTB(IY1)","v":"Za"},"Zo","DD","DD","DD","DD","DD","Za","Zo","MD","MD","MD","MD","MD","Za","Zo","DD","DD","DD","DD","DD","Za","Zo","MD","MD","MD","MD","MD","Za","Zo","DD","DD","DD","DD","DD","Za","Zo","MD","MD","MD","MD","MD","Za","Zo","DD","DD","DD","DD","DD","Za","Zo","MD","MD","MD","MD","MD","Za","Zo","DD","DD","DD","DD","DD","Za",{"$f":"SHIFTB(LK1)","v":"Zo"},"MD","MD","MD","MD","MD","Za","Zo","DD","DD","DD","DD","DD","Za","Zo","MD","MD","MD","MD","MD","Za","Zo","DD","DD","DD","DD","DD","Za","Zo","MD","MD","MD","MD","MD","Za","Zo","DD","DD","DD","DD","DD","Za","Zo","MD","MD","MD","MD","MD","Za","Zo","DD"]
["C1",{"$f":"SHIFTC1(B1)","v":""},{"$f":"SHIFTC1(C1)","v":""},"","","MD","Za","Zo","ND","ND","ND","ND","ND","Za","Zo","DD","","","","MD","Za","Zo","ND","ND","ND","ND","ND","Za","Zo","","","","","MD","Za","Zo","ND","ND","ND","ND","ND","Za","Zo","DD","","","","MD","Za","Zo","ND","ND","ND","ND","ND","Za","Zo","","","","","MD","Za","Zo","ND","ND",{"$f":"SHIFTC1(BO1)","v":"ND"},"ND","ND","Za","Zo","DD","","","","MD","Za","Zo","ND","ND","ND","ND","ND","Za","Zo","","","","","MD","Za","Zo","ND","ND","ND","ND","ND","Za","Zo","DD","","","","MD","Za","Zo","ND","ND","ND","ND","ND","Za","Zo","","","","","MD","Za","Zo","ND","ND","ND","ND","ND","Za","Zo","DD","","",{"$f":"SHIFTC1(EA1)","v":""},"MD","Za","Zo","ND","ND","ND","ND","ND","Za","Zo","","","","","MD","Za","Zo","ND","ND","ND","ND","ND","Za","Zo","DD","","","","MD","Za","Zo","ND","ND","ND","ND","ND","Za","Zo","","","","","MD","Za","Zo","ND","ND","ND","ND","ND","Za","Zo","DD","","","","MD","Za","Zo","ND","ND","ND","ND",{"$f":"SHIFTC1(GM1)","v":"ND"},"Za","Zo","","","","","MD","Za","Zo","ND","ND","ND","ND","ND","Za","Zo","DD","","","","MD","Za","Zo","ND","ND","ND","ND","ND","Za","Zo","","","","","MD","Za","Zo","ND","ND","ND","ND","ND","Za","Zo","DD","","","","MD","Za","Zo","ND","ND","ND","ND","ND","Za","Zo","","","","","MD",{"$f":"SHIFTC1(IY1)","v":"Za"},"Zo","ND","ND","ND","ND","ND","Za","Zo","DD","","","","MD","Za","Zo","ND","ND","ND","ND","ND","Za","Zo","","","","","MD","Za","Zo","ND","ND","ND","ND","ND","Za","Zo","DD","","","","MD","Za","Zo","ND","ND","ND","ND","ND","Za","Zo","","","","","MD","Za","Zo","ND","ND","ND","ND","ND","Za",{"$f":"SHIFTC1(LK1)","v":"Zo"},"DD","","","","MD","Za","Zo","ND","ND","ND","ND","ND","Za","Zo","","","","","MD","Za","Zo","ND","ND","ND","ND","ND","Za","Zo","DD","","","","MD","Za","Zo","ND","ND","ND","ND","ND","Za","Zo","","","","","MD","Za","Zo","ND"]
["C2",{"$f":"SHIFTC2(B1)","v":"DD"},{"$f":"SHIFTC2(C1)","v":""},"","","MD","Za","Zo","ND","ND","ND","ND","ND","Za","Zo","","","","","MD","Za","Zo","ND","ND","ND","ND","ND","Za","Zo","DD","","","","MD","Za","Zo","ND","ND","ND","ND","ND","Za","Zo","","","","","MD","Za","Zo","ND","ND","ND","ND","ND","Za","Zo","DD","","","","MD","Za","Zo","ND","ND",{"$f":"SHIFTC2(BO1)","v":"ND"},"ND","ND","Za","Zo","","","","","MD","Za","Zo","ND","ND","ND","ND","ND","Za","Zo","DD","","","","MD","Za","Zo","ND","ND","ND","ND","ND","Za","Zo","","","","","MD","Za","Zo","ND","ND","ND","ND","ND","Za","Zo","DD","","","","MD","Za","Zo","ND","ND","ND","ND","ND","Za","Zo","","","",{"$f":"SHIFTC2(EA1)","v":""},"MD","Za","Zo","ND","ND","ND","ND","ND","Za","Zo","DD","","","","MD","Za","Zo","ND","ND","ND","ND","ND","Za","Zo","","","","","MD","Za","Zo","ND","ND","ND","ND","ND","Za","Zo","DD","","","","MD","Za","Zo","ND","ND","ND","ND","ND","Za","Zo","","","","","MD","Za","Zo","ND","ND","ND","ND",{"$f":"SHIFTC2(GM1)","v":"ND"},"Za","Zo","DD","","","","MD","Za","Zo","ND","ND","ND","ND","ND","Za","Zo","","","","","MD","Za","Zo","ND","ND","ND","ND","ND","Za","Zo","DD","","","","MD","Za","Zo","ND","ND","ND","ND","ND","Za","Zo","","","","","MD","Za","Zo","ND","ND","ND","ND","ND","Za","Zo","DD","","","","MD",{"$f":"SHIFTC2(IY1)","v":"Za"},"Zo","ND","ND","ND","ND","ND","Za","Zo","","","","","MD","Za","Zo","ND","ND","ND","ND","ND","Za","Zo","DD","","","","MD","Za","Zo","ND","ND","ND","ND","ND","Za","Zo","","","","","MD","Za","Zo","ND","ND","ND","ND","ND","Za","Zo","DD","","","","MD","Za","Zo","ND","ND","ND","ND","ND","Za",{"$f":"SHIFTC2(LK1)","v":"Zo"},"","","","","MD","Za","Zo","ND","ND","ND","ND","ND","Za","Zo","DD","","","","MD","Za","Zo","ND","ND","ND","ND","ND","Za","Zo","","","","","MD","Za","Zo","ND","ND","ND","ND","ND","Za","Zo","DD","","","","MD","Za","Zo","ND"]
["C3",{"$f":"SHIFTC3(B1)","v":"ND"},{"$f":"SHIFTC3(C1)","v":"ND"},"ND","ND","ND","Za","Zo","DD","","","","MD","Za","Zo","ND","ND","ND","ND","ND","Za","Zo","","","","","MD","Za","Zo","ND","ND","ND","ND","ND","Za","Zo","DD","","","","MD","Za","Zo","ND","ND","ND","ND","ND","Za","Zo","","","","","MD","Za","Zo","ND","ND","ND","ND","ND","Za","Zo","DD","",{"$f":"SHIFTC3(BO1)","v":""},"","MD","Za","Zo","ND","ND","ND","ND","ND","Za","Zo","","","","","MD","Za","Zo","ND","ND","ND","ND","ND","Za","Zo","DD","","","","MD","Za","Zo","ND","ND","ND","ND","ND","Za","Zo","","","","","MD","Za","Zo","ND","ND","ND","ND","ND","Za","Zo","DD","","","","MD","Za","Zo","ND","ND","ND",{"$f":"SHIFTC3(EA1)","v":"ND"},"ND","Za","Zo","","","","","MD","Za","Zo","ND","ND","ND","ND","ND","Za","Zo","DD","","","","MD","Za","Zo","ND","ND","ND","ND","ND","Za","Zo","","","","","MD","Za","Zo","ND","ND","ND","ND","ND","Za","Zo","DD","","","","MD","Za","Zo","ND","ND","ND","ND","ND","Za","Zo","","","","",{"$f":"SHIFTC3(GM1)","v":"MD"},"Za","Zo","ND","ND","ND","ND","ND","Za","Zo","DD","","","","MD","Za","Zo","ND","ND","ND","ND","ND","Za","Zo","","","","","MD","Za","Zo","ND","ND","ND","ND","ND","Za","Zo","DD","","","","MD","Za","Zo","ND","ND","ND","ND","ND","Za","Zo","","","","","MD","Za","Zo","ND","ND","ND","ND","ND",{"$f":"SHIFTC3(IY1)","v":"Za"},"Zo","DD","","","","MD","Za","Zo","ND","ND","ND","ND","ND","Za","Zo","","","","","MD","Za","Zo","ND","ND","ND","ND","ND","Za","Zo","DD","","","","MD","Za","Zo","ND","ND","ND","ND","ND","Za","Zo","","","","","MD","Za","Zo","ND","ND","ND","ND","ND","Za","Zo","DD","","","","MD","Za",{"$f":"SHIFTC3(LK1)","v":"Zo"},"ND","ND","ND","ND","ND","Za","Zo","","","","","MD","Za","Zo","ND","ND","ND","ND","ND","Za","Zo","DD","","","","MD","Za","Zo","ND","ND","ND","ND","ND","Za","Zo","","","","","MD","Za","Zo","ND","ND","ND","ND","ND","Za","Zo","DD"]
["C4",{"$f":"SHIFTC4(B1)","v":"ND"},{"$f":"SHIFTC4(C1)","v":"ND"},"ND","ND","ND","Za","Zo","","","","","MD","Za","Zo","ND","ND","ND","ND","ND","Za","Zo","DD","","","","MD","Za","Zo","ND","ND","ND","ND","ND","Za","Zo","","","","","MD","Za","Zo","ND","ND","ND","ND","ND","Za","Zo","DD","","","","MD","Za","Zo","ND","ND","ND","ND","ND","Za","Zo","","",{"$f":"SHIFTC4(BO1)","v":""},"","MD","Za","Zo","ND","ND","ND","ND","ND","Za","Zo","DD","","","","MD","Za","Zo","ND","ND","ND","ND","ND","Za","Zo","","","","","MD","Za","Zo","ND","ND","ND","ND","ND","Za","Zo","DD","","","","MD","Za","Zo","ND","ND","ND","ND","ND","Za","Zo","","","","","MD","Za","Zo","ND","ND","ND",{"$f":"SHIFTC4(EA1)","v":"ND"},"ND","Za","Zo","DD","","","","MD","Za","Zo","ND","ND","ND","ND","ND","Za","Zo","","","","","MD","Za","Zo","ND","ND","ND","ND","ND","Za","Zo","DD","","","","MD","Za","Zo","ND","ND","ND","ND","ND","Za","Zo","","","","","MD","Za","Zo","ND","ND","ND","ND","ND","Za","Zo","DD","","","",{"$f":"SHIFTC4(GM1)","v":"MD"},"Za","Zo","ND","ND","ND","ND","ND","Za","Zo","","","","","MD","Za","Zo","ND","ND","ND","ND","ND","Za","Zo","DD","","","","MD","Za","Zo","ND","ND","ND","ND","ND","Za","Zo","","","","","MD","Za","Zo","ND","ND","ND","ND","ND","Za","Zo","DD","","","","MD","Za","Zo","ND","ND","ND","ND","ND",{"$f":"SHIFTC4(IY1)","v":"Za"},"Zo","","","","","MD","Za","Zo","ND","ND","ND","ND","ND","Za","Zo","DD","","","","MD","Za","Zo","ND","ND","ND","ND","ND","Za","Zo","","","","","MD","Za","Zo","ND","ND","ND","ND","ND","Za","Zo","DD","","","","MD","Za","Zo","ND","ND","ND","ND","ND","Za","Zo","","","","","MD","Za",{"$f":"SHIFTC4(LK1)","v":"Zo"},"ND","ND","ND","ND","ND","Za","Zo","DD","","","","MD","Za","Zo","ND","ND","ND","ND","ND","Za","Zo","","","","","MD","Za","Zo","ND","ND","ND","ND","ND","Za","Zo","DD","","","","MD","Za","Zo","ND","ND","ND","ND","ND","Za","Zo",""]
["C5",{"$f":"SHIFTC5(B1)","v":{"$error":"#NAME?"}},{"$f":"SHIFTC5(C1)","v":{"$error":"#NAME?"}},{"$error":"#NAME?"},{"$error":"#NAME?"},{"$error":"#NAME?"},{"$error":"#NAME?"},{"$error":"#NAME?"},{"$error":"#NAME?"},{"$error":"#NAME?"},{"$error":"#NAME?"},{"$error":"#NAME?"},{"$error":"#NAME?"},{"$error":"#NAME?"},{"$error":"#NAME?"},{"$error":"#NAME?"},{"$error":"#NAME?"},{"$error":"#NAME?"},{"$error":"#NAME?"},{"$error":"#NAME?"},{"$error":"#NAME?"},{"$error":"#NAME?"},{"$error":"#NAME?"},{"$error":"#NAME?"},{"$error":"#NAME?"},{"$error":"#NAME?"},{"$error":"#NAME?"},{"$error":"#NAME?"},{"$error":"#NAME?"},{"$error":"#NAME?"},{"$error":"#NAME?"},{"$error":"#NAME?"},{"$error":"#NAME?"},{"$error":"#NAME?"},{"$error":"#NAME?"},{"$error":"#NAME?"},{"$error":"#NAME?"},{"$error":"#NAME?"},{"$error":"#NAME?"},{"$error":"#NAME?"},{"$error":"#NAME?"},{"$error":"#NAME?"},{"$error":"#NAME?"},{"$error":"#NAME?"},{"$error":"#NAME?"},{"$error":"#NAME?"},{"$error":"#NAME?"},{"$error":"#NAME?"},{"$error":"#NAME?"},{"$error":"#NAME?"},{"$error":"#NAME?"},{"$error":"#NAME?"},{"$error":"#NAME?"},{"$error":"#NAME?"},{"$error":"#NAME?"},{"$error":"#NAME?"},{"$error":"#NAME?"},{"$error":"#NAME?"},{"$error":"#NAME?"},{"$error":"#NAME?"},{"$error":"#NAME?"},{"$error":"#NAME?"},{"$error":"#NAME?"},{"$error":"#NAME?"},{"$error":"#NAME?"},{"$error":"#NAME?"},{"$f":"SHIFTC5(BO1)","v":{"$error":"#NAME?"}},{"$error":"#NAME?"},{"$error":"#NAME?"},{"$error":"#NAME?"},{"$error":"#NAME?"},{"$error":"#NAME?"},{"$error":"#NAME?"},{"$error":"#NAME?"},{"$error":"#NAME?"},{"$error":"#NAME?"},{"$error":"#NAME?"},{"$error":"#NAME?"},{"$error":"#NAME?"},{"$error":"#NAME?"},{"$error":"#NAME?"},{"$error":"#NAME?"},{"$error":"#NAME?"},{"$error":"#NAME?"},{"$error":"#NAME?"},{"$error":"#NAME?"},{"$error":"#NAME?"},{"$error":"#NAME?"},{"$error":"#NAME?"},{"$error":"#NAME?"},{"$error":"#NAME?"},{"$error":"#NAME?"},{"$error":"#NAME?"},{"$error":"#NAME?"},{"$error":"#NAME?"},{"$error":"#NAME?"},{"$error":"#NAME?"},{"$error":"#NAME?"},{"$error":"#NAME?"},{"$error":"#NAME?"},{"$error":"#NAME?"},{"$error":"#NAME?"},{"$error":"#NAME?"},{"$error":"#NAME?"},{"$error":"#NAME?"},{"$error":"#NAME?"},{"$error":"#NAME?"},{"$error":"#NAME?"},{"$error":"#NAME?"},{"$error":"#NAME?"},{"$error":"#NAME?"},{"$error":"#NAME?"},{"$error":"#NAME?"},{"$error":"#NAME?"},{"$error":"#NAME?"},{"$error":"#NAME?"},{"$error":"#NAME?"},{"$error":"#NAME?"},{"$error":"#NAME?"},{"$error":"#NAME?"},{"$error":"#NAME?"},{"$error":"#NAME?"},{"$error":"#NAME?"},{"$error":"#NAME?"},{"$error":"#NAME?"},{"$error":"#NAME?"},{"$error":"#NAME?"},{"$error":"#NAME?"},{"$error":"#NAME?"},{"$error":"#NAME?"},{"$f":"SHIFTC5(EA1)","v":{"$error":"#NAME?"}},{"$error":"#NAME?"},{"$error":"#NAME?"},{"$error":"#NAME?"},{"$error":"#NAME?"},{"$error":"#NAME?"},{"$error":"#NAME?"},{"$error":"#NAME?"},{"$error":"#NAME?"},{"$error":"#NAME?"},{"$error":"#NAME?"},{"$error":"#NAME?"},{"$error":"#NAME?"},{"$error":"#NAME?"},{"$error":"#NAME?"},{"$error":"#NAME?"},{"$error":"#NAME?"},{"$error":"#NAME?"},{"$error":"#NAME?"},{"$error":"#NAME?"},{"$error":"#NAME?"},{"$error":"#NAME?"},{"$error":"#NAME?"},{"$error":"#NAME?"},{"$error":"#NAME?"},{"$error":"#NAME?"},{"$error":"#NAME?"},{"$error":"#NAME?"},{"$error":"#NAME?"},{"$error":"#NAME?"},{"$error":"#NAME?"},{"$error":"#NAME?"},{"$error":"#NAME?"},{"$error":"#NAME?"},{"$error":"#NAME?"},{"$error":"#NAME?"},{"$error":"#NAME?"},{"$error":"#NAME?"},{"$error":"#NAME?"},{"$error":"#NAME?"},{"$error":"#NAME?"},{"$error":"#NAME?"},{"$error":"#NAME?"},{"$error":"#NAME?"},{"$error":"#NAME?"},{"$error":"#NAME?"},{"$error":"#NAME?"},{"$error":"#NAME?"},{"$error":"#NAME?"},{"$error":"#NAME?"},{"$error":"#NAME?"},{"$error":"#NAME?"},{"$error":"#NAME?"},{"$error":"#NAME?"},{"$error":"#NAME?"},{"$error":"#NAME?"},{"$error":"#NAME?"},{"$error":"#NAME?"},{"$error":"#NAME?"},{"$error":"#NAME?"},{"$error":"#NAME?"},{"$error":"#NAME?"},{"$error":"#NAME?"},{"$error":"#NAME?"},{"$f":"SHIFTC5(GM1)","v":{"$error":"#NAME?"}},{"$error":"#NAME?"},{"$error":"#NAME?"},{"$error":"#NAME?"},{"$error":"#NAME?"},{"$error":"#NAME?"},{"$error":"#NAME?"},{"$error":"#NAME?"},{"$error":"#NAME?"},{"$error":"#NAME?"},{"$error":"#NAME?"},{"$error":"#NAME?"},{"$error":"#NAME?"},{"$error":"#NAME?"},{"$error":"#NAME?"},{"$error":"#NAME?"},{"$error":"#NAME?"},{"$error":"#NAME?"},{"$error":"#NAME?"},{"$error":"#NAME?"},{"$error":"#NAME?"},{"$error":"#NAME?"},{"$error":"#NAME?"},{"$error":"#NAME?"},{"$error":"#NAME?"},{"$error":"#NAME?"},{"$error":"#NAME?"},{"$error":"#NAME?"},{"$error":"#NAME?"},{"$error":"#NAME?"},{"$error":"#NAME?"},{"$error":"#NAME?"},{"$error":"#NAME?"},{"$error":"#NAME?"},{"$error":"#NAME?"},{"$error":"#NAME?"},{"$error":"#NAME?"},{"$error":"#NAME?"},{"$error":"#NAME?"},{"$error":"#NAME?"},{"$error":"#NAME?"},{"$error":"#NAME?"},{"$error":"#NAME?"},{"$error":"#NAME?"},{"$error":"#NAME?"},{"$error":"#NAME?"},{"$error":"#NAME?"},{"$error":"#NAME?"},{"$error":"#NAME?"},{"$error":"#NAME?"},{"$error":"#NAME?"},{"$error":"#NAME?"},{"$error":"#NAME?"},{"$error":"#NAME?"},{"$error":"#NAME?"},{"$error":"#NAME?"},{"$error":"#NAME?"},{"$error":"#NAME?"},{"$error":"#NAME?"},{"$error":"#NAME?"},{"$error":"#NAME?"},{"$error":"#NAME?"},{"$error":"#NAME?"},{"$error":"#NAME?"},{"$f":"SHIFTC5(IY1)","v":{"$error":"#NAME?"}},{"$error":"#NAME?"},{"$error":"#NAME?"},{"$error":"#NAME?"},{"$error":"#NAME?"},{"$error":"#NAME?"},{"$error":"#NAME?"},{"$error":"#NAME?"},{"$error":"#NAME?"},{"$error":"#NAME?"},{"$error":"#NAME?"},{"$error":"#NAME?"},{"$error":"#NAME?"},{"$error":"#NAME?"},{"$error":"#NAME?"},{"$error":"#NAME?"},{"$error":"#NAME?"},{"$error":"#NAME?"},{"$error":"#NAME?"},{"$error":"#NAME?"},{"$error":"#NAME?"},{"$error":"#NAME?"},{"$error":"#NAME?"},{"$error":"#NAME?"},{"$error":"#NAME?"},{"$error":"#NAME?"},{"$error":"#NAME?"},{"$error":"#NAME?"},{"$error":"#NAME?"},{"$error":"#NAME?"},{"$error":"#NAME?"},{"$error":"#NAME?"},{"$error":"#NAME?"},{"$error":"#NAME?"},{"$error":"#NAME?"},{"$error":"#NAME?"},{"$error":"#NAME?"},{"$error":"#NAME?"},{"$error":"#NAME?"},{"$error":"#NAME?"},{"$error":"#NAME?"},{"$error":"#NAME?"},{"$error":"#NAME?"},{"$error":"#NAME?"},{"$error":"#NAME?"},{"$error":"#NAME?"},{"$error":"#NAME?"},{"$error":"#NAME?"},{"$error":"#NAME?"},{"$error":"#NAME?"},{"$error":"#NAME?"},{"$error":"#NAME?"},{"$error":"#NAME?"},{"$error":"#NAME?"},{"$error":"#NAME?"},{"$error":"#NAME?"},{"$error":"#NAME?"},{"$error":"#NAME?"},{"$error":"#NAME?"},{"$error":"#NAME?"},{"$error":"#NAME?"},{"$error":"#NAME?"},{"$error":"#NAME?"},{"$error":"#NAME?"},{"$f":"SHIFTC5(LK1)","v":{"$error":"#NAME?"}},{"$error":"#NAME?"},{"$error":"#NAME?"},{"$error":"#NAME?"},{"$error":"#NAME?"},{"$error":"#NAME?"},{"$error":"#NAME?"},{"$error":"#NAME?"},{"$error":"#NAME?"},{"$error":"#NAME?"},{"$error":"#NAME?"},{"$error":"#NAME?"},{"$error":"#NAME?"},{"$error":"#NAME?"},{"$error":"#NAME?"},{"$error":"#NAME?"},{"$error":"#NAME?"},{"$error":"#NAME?"},{"$error":"#NAME?"},{"$error":"#NAME?"},{"$error":"#NAME?"},{"$error":"#NAME?"},{"$error":"#NAME?"},{"$error":"#NAME?"},{"$error":"#NAME?"},{"$error":"#NAME?"},{"$error":"#NAME?"},{"$error":"#NAME?"},{"$error":"#NAME?"},{"$error":"#NAME?"},{"$error":"#NAME?"},{"$error":"#NAME?"},{"$error":"#NAME?"},{"$error":"#NAME?"},{"$error":"#NAME?"},{"$error":"#NAME?"},{"$error":"#NAME?"},{"$error":"#NAME?"},{"$error":"#NAME?"},{"$error":"#NAME?"},{"$error":"#NAME?"},{"$error":"#NAME?"},{"$error":"#NAME?"},{"$error":"#NAME?"},{"$error":"#NAME?"},{"$error":"#NAME?"},{"$error":"#NAME?"},{"$error":"#NAME?"},{"$error":"#NAME?"},{"$error":"#NAME?"},{"$error":"#NAME?"}]
["C6",{"$f":"SHIFTC6(B1)","v":{"$error":"#NAME?"}},{"$f":"SHIFTC6(C1)","v":{"$error":"#NAME?"}},{"$error":"#NAME?"},{"$error":"#NAME?"},{"$error":"#NAME?"},{"$error":"#NAME?"},{"$error":"#NAME?"},{"$error":"#NAME?"},{"$error":"#NAME?"},{"$error":"#NAME?"},{"$error":"#NAME?"},{"$error":"#NAME?"},{"$error":"#NAME?"},{"$error":"#NAME?"},{"$error":"#NAME?"},{"$error":"#NAME?"},{"$error":"#NAME?"},{"$error":"#NAME?"},{"$error":"#NAME?"},{"$error":"#NAME?"},{"$error":"#NAME?"},{"$error":"#NAME?"},{"$error":"#NAME?"},{"$error":"#NAME?"},{"$error":"#NAME?"},{"$error":"#NAME?"},{"$error":"#NAME?"},{"$error":"#NAME?"},{"$error":"#NAME?"},{"$error":"#NAME?"},{"$error":"#NAME?"},{"$error":"#NAME?"},{"$error":"#NAME?"},{"$error":"#NAME?"},{"$error":"#NAME?"},{"$error":"#NAME?"},{"$error":"#NAME?"},{"$error":"#NAME?"},{"$error":"#NAME?"},{"$error":"#NAME?"},{"$error":"#NAME?"},{"$error":"#NAME?"},{"$error":"#NAME?"},{"$error":"#NAME?"},{"$error":"#NAME?"},{"$error":"#NAME?"},{"$error":"#NAME?"},{"$error":"#NAME?"},{"$error":"#NAME?"},{"$error":"#NAME?"},{"$error":"#NAME?"},{"$error":"#NAME?"},{"$error":"#NAME?"},{"$error":"#NAME?"},{"$error":"#NAME?"},{"$error":"#NAME?"},{"$error":"#NAME?"},{"$error":"#NAME?"},{"$error":"#NAME?"},{"$error":"#NAME?"},{"$error":"#NAME?"},{"$error":"#NAME?"},{"$error":"#NAME?"},{"$error":"#NAME?"},{"$error":"#NAME?"},{"$f":"SHIFTC6(BO1)","v":{"$error":"#NAME?"}},{"$error":"#NAME?"},{"$error":"#NAME?"},{"$error":"#NAME?"},{"$error":"#NAME?"},{"$error":"#NAME?"},{"$error":"#NAME?"},{"$error":"#NAME?"},{"$error":"#NAME?"},{"$error":"#NAME?"},{"$error":"#NAME?"},{"$error":"#NAME?"},{"$error":"#NAME?"},{"$error":"#NAME?"},{"$error":"#NAME?"},{"$error":"#NAME?"},{"$error":"#NAME?"},{"$error":"#NAME?"},{"$error":"#NAME?"},{"$error":"#NAME?"},{"$error":"#NAME?"},{"$error":"#NAME?"},{"$error":"#NAME?"},{"$error":"#NAME?"},{"$error":"#NAME?"},{"$error":"#NAME?"},{"$error":"#NAME?"},{"$error":"#NAME?"},{"$error":"#NAME?"},{"$error":"#NAME?"},{"$error":"#NAME?"},{"$error":"#NAME?"},{"$error":"#NAME?"},{"$error":"#NAME?"},{"$error":"#NAME?"},{"$error":"#NAME?"},{"$error":"#NAME?"},{"$error":"#NAME?"},{"$error":"#NAME?"},{"$error":"#NAME?"},{"$error":"#NAME?"},{"$error":"#NAME?"},{"$error":"#NAME?"},{"$error":"#NAME?"},{"$error":"#NAME?"},{"$error":"#NAME?"},{"$error":"#NAME?"},{"$error":"#NAME?"},{"$error":"#NAME?"},{"$error":"#NAME?"},{"$error":"#NAME?"},{"$error":"#NAME?"},{"$error":"#NAME?"},{"$error":"#NAME?"},{"$error":"#NAME?"},{"$error":"#NAME?"},{"$error":"#NAME?"},{"$error":"#NAME?"},{"$error":"#NAME?"},{"$error":"#NAME?"},{"$error":"#NAME?"},{"$error":"#NAME?"},{"$error":"#NAME?"},{"$error":"#NAME?"},{"$f":"SHIFTC6(EA1)","v":{"$error":"#NAME?"}},{"$error":"#NAME?"},{"$error":"#NAME?"},{"$error":"#NAME?"},{"$error":"#NAME?"},{"$error":"#NAME?"},{"$error":"#NAME?"},{"$error":"#NAME?"},{"$error":"#NAME?"},{"$error":"#NAME?"},{"$error":"#NAME?"},{"$error":"#NAME?"},{"$error":"#NAME?"},{"$error":"#NAME?"},{"$error":"#NAME?"},{"$error":"#NAME?"},{"$error":"#NAME?"},{"$error":"#NAME?"},{"$error":"#NAME?"},{"$error":"#NAME?"},{"$error":"#NAME?"},{"$error":"#NAME?"},{"$error":"#NAME?"},{"$error":"#NAME?"},{"$error":"#NAME?"},{"$error":"#NAME?"},{"$error":"#NAME?"},{"$error":"#NAME?"},{"$error":"#NAME?"},{"$error":"#NAME?"},{"$error":"#NAME?"},{"$error":"#NAME?"},{"$error":"#NAME?"},{"$error":"#NAME?"},{"$error":"#NAME?"},{"$error":"#NAME?"},{"$error":"#NAME?"},{"$error":"#NAME?"},{"$error":"#NAME?"},{"$error":"#NAME?"},{"$error":"#NAME?"},{"$error":"#NAME?"},{"$error":"#NAME?"},{"$error":"#NAME?"},{"$error":"#NAME?"},{"$error":"#NAME?"},{"$error":"#NAME?"},{"$error":"#NAME?"},{"$error":"#NAME?"},{"$error":"#NAME?"},{"$error":"#NAME?"},{"$error":"#NAME?"},{"$error":"#NAME?"},{"$error":"#NAME?"},{"$error":"#NAME?"},{"$error":"#NAME?"},{"$error":"#NAME?"},{"$error":"#NAME?"},{"$error":"#NAME?"},{"$error":"#NAME?"},{"$error":"#NAME?"},{"$error":"#NAME?"},{"$error":"#NAME?"},{"$error":"#NAME?"},{"$f":"SHIFTC6(GM1)","v":{"$error":"#NAME?"}},{"$error":"#NAME?"},{"$error":"#NAME?"},{"$error":"#NAME?"},{"$error":"#NAME?"},{"$error":"#NAME?"},{"$error":"#NAME?"},{"$error":"#NAME?"},{"$error":"#NAME?"},{"$error":"#NAME?"},{"$error":"#NAME?"},{"$error":"#NAME?"},{"$error":"#NAME?"},{"$error":"#NAME?"},{"$error":"#NAME?"},{"$error":"#NAME?"},{"$error":"#NAME?"},{"$error":"#NAME?"},{"$error":"#NAME?"},{"$error":"#NAME?"},{"$error":"#NAME?"},{"$error":"#NAME?"},{"$error":"#NAME?"},{"$error":"#NAME?"},{"$error":"#NAME?"},{"$error":"#NAME?"},{"$error":"#NAME?"},{"$error":"#NAME?"},{"$error":"#NAME?"},{"$error":"#NAME?"},{"$error":"#NAME?"},{"$error":"#NAME?"},{"$error":"#NAME?"},{"$error":"#NAME?"},{"$error":"#NAME?"},{"$error":"#NAME?"},{"$error":"#NAME?"},{"$error":"#NAME?"},{"$error":"#NAME?"},{"$error":"#NAME?"},{"$error":"#NAME?"},{"$error":"#NAME?"},{"$error":"#NAME?"},{"$error":"#NAME?"},{"$error":"#NAME?"},{"$error":"#NAME?"},{"$error":"#NAME?"},{"$error":"#NAME?"},{"$error":"#NAME?"},{"$error":"#NAME?"},{"$error":"#NAME?"},{"$error":"#NAME?"},{"$error":"#NAME?"},{"$error":"#NAME?"},{"$error":"#NAME?"},{"$error":"#NAME?"},{"$error":"#NAME?"},{"$error":"#NAME?"},{"$error":"#NAME?"},{"$error":"#NAME?"},{"$error":"#NAME?"},{"$error":"#NAME?"},{"$error":"#NAME?"},{"$error":"#NAME?"},{"$f":"SHIFTC6(IY1)","v":{"$error":"#NAME?"}},{"$error":"#NAME?"},{"$error":"#NAME?"},{"$error":"#NAME?"},{"$error":"#NAME?"},{"$error":"#NAME?"},{"$error":"#NAME?"},{"$error":"#NAME?"},{"$error":"#NAME?"},{"$error":"#NAME?"},{"$error":"#NAME?"},{"$error":"#NAME?"},{"$error":"#NAME?"},{"$error":"#NAME?"},{"$error":"#NAME?"},{"$error":"#NAME?"},{"$error":"#NAME?"},{"$error":"#NAME?"},{"$error":"#NAME?"},{"$error":"#NAME?"},{"$error":"#NAME?"},{"$error":"#NAME?"},{"$error":"#NAME?"},{"$error":"#NAME?"},{"$error":"#NAME?"},{"$error":"#NAME?"},{"$error":"#NAME?"},{"$error":"#NAME?"},{"$error":"#NAME?"},{"$error":"#NAME?"},{"$error":"#NAME?"},{"$error":"#NAME?"},{"$error":"#NAME?"},{"$error":"#NAME?"},{"$error":"#NAME?"},{"$error":"#NAME?"},{"$error":"#NAME?"},{"$error":"#NAME?"},{"$error":"#NAME?"},{"$error":"#NAME?"},{"$error":"#NAME?"},{"$error":"#NAME?"},{"$error":"#NAME?"},{"$error":"#NAME?"},{"$error":"#NAME?"},{"$error":"#NAME?"},{"$error":"#NAME?"},{"$error":"#NAME?"},{"$error":"#NAME?"},{"$error":"#NAME?"},{"$error":"#NAME?"},{"$error":"#NAME?"},{"$error":"#NAME?"},{"$error":"#NAME?"},{"$error":"#NAME?"},{"$error":"#NAME?"},{"$error":"#NAME?"},{"$error":"#NAME?"},{"$error":"#NAME?"},{"$error":"#NAME?"},{"$error":"#NAME?"},{"$error":"#NAME?"},{"$error":"#NAME?"},{"$error":"#NAME?"},{"$f":"SHIFTC6(LK1)","v":{"$error":"#NAME?"}},{"$error":"#NAME?"},{"$error":"#NAME?"},{"$error":"#NAME?"},{"$error":"#NAME?"},{"$error":"#NAME?"},{"$error":"#NAME?"},{"$error":"#NAME?"},{"$error":"#NAME?"},{"$error":"#NAME?"},{"$error":"#NAME?"},{"$error":"#NAME?"},{"$error":"#NAME?"},{"$error":"#NAME?"},{"$error":"#NAME?"},{"$error":"#NAME?"},{"$error":"#NAME?"},{"$error":"#NAME?"},{"$error":"#NAME?"},{"$error":"#NAME?"},{"$error":"#NAME?"},{"$error":"#NAME?"},{"$error":"#NAME?"},{"$error":"#NAME?"},{"$error":"#NAME?"},{"$error":"#NAME?"},{"$error":"#NAME?"},{"$error":"#NAME?"},{"$error":"#NAME?"},{"$error":"#NAME?"},{"$error":"#NAME?"},{"$error":"#NAME?"},{"$error":"#NAME?"},{"$error":"#NAME?"},{"$error":"#NAME?"},{"$error":"#NAME?"},{"$error":"#NAME?"},{"$error":"#NAME?"},{"$error":"#NAME?"},{"$error":"#NAME?"},{"$error":"#NAME?"},{"$error":"#NAME?"},{"$error":"#NAME?"},{"$error":"#NAME?"},{"$error":"#NAME?"},{"$error":"#NAME?"},{"$error":"#NAME?"},{"$error":"#NAME?"},{"$error":"#NAME?"},{"$error":"#NAME?"},{"$error":"#NAME?"}]
["C7",{"$f":"SHIFTC7(B1)","v":{"$error":"#NAME?"}},{"$f":"SHIFTC7(C1)","v":{"$error":"#NAME?"}},{"$error":"#NAME?"},{"$error":"#NAME?"},{"$error":"#NAME?"},{"$error":"#NAME?"},{"$error":"#NAME?"},{"$error":"#NAME?"},{"$error":"#NAME?"},{"$error":"#NAME?"},{"$error":"#NAME?"},{"$error":"#NAME?"},{"$error":"#NAME?"},{"$error":"#NAME?"},{"$error":"#NAME?"},{"$error":"#NAME?"},{"$error":"#NAME?"},{"$error":"#NAME?"},{"$error":"#NAME?"},{"$error":"#NAME?"},{"$error":"#NAME?"},{"$error":"#NAME?"},{"$error":"#NAME?"},{"$error":"#NAME?"},{"$error":"#NAME?"},{"$error":"#NAME?"},{"$error":"#NAME?"},{"$error":"#NAME?"},{"$error":"#NAME?"},{"$error":"#NAME?"},{"$error":"#NAME?"},{"$error":"#NAME?"},{"$error":"#NAME?"},{"$error":"#NAME?"},{"$error":"#NAME?"},{"$error":"#NAME?"},{"$error":"#NAME?"},{"$error":"#NAME?"},{"$error":"#NAME?"},{"$error":"#NAME?"},{"$error":"#NAME?"},{"$error":"#NAME?"},{"$error":"#NAME?"},{"$error":"#NAME?"},{"$error":"#NAME?"},{"$error":"#NAME?"},{"$error":"#NAME?"},{"$error":"#NAME?"},{"$error":"#NAME?"},{"$error":"#NAME?"},{"$error":"#NAME?"},{"$error":"#NAME?"},{"$error":"#NAME?"},{"$error":"#NAME?"},{"$error":"#NAME?"},{"$error":"#NAME?"},{"$error":"#NAME?"},{"$error":"#NAME?"},{"$error":"#NAME?"},{"$error":"#NAME?"},{"$error":"#NAME?"},{"$error":"#NAME?"},{"$error":"#NAME?"},{"$error":"#NAME?"},{"$error":"#NAME?"},{"$f":"SHIFTC7(BO1)","v":{"$error":"#NAME?"}},{"$error":"#NAME?"},{"$error":"#NAME?"},{"$error":"#NAME?"},{"$error":"#NAME?"},{"$error":"#NAME?"},{"$error":"#NAME?"},{"$error":"#NAME?"},{"$error":"#NAME?"},{"$error":"#NAME?"},{"$error":"#NAME?"},{"$error":"#NAME?"},{"$error":"#NAME?"},{"$error":"#NAME?"},{"$error":"#NAME?"},{"$error":"#NAME?"},{"$error":"#NAME?"},{"$error":"#NAME?"},{"$error":"#NAME?"},{"$error":"#NAME?"},{"$error":"#NAME?"},{"$error":"#NAME?"},{"$error":"#NAME?"},{"$error":"#NAME?"},{"$error":"#NAME?"},{"$error":"#NAME?"},{"$error":"#NAME?"},{"$error":"#NAME?"},{"$error":"#NAME?"},{"$error":"#NAME?"},{"$error":"#NAME?"},{"$error":"#NAME?"},{"$error":"#NAME?"},{"$error":"#NAME?"},{"$error":"#NAME?"},{"$error":"#NAME?"},{"$error":"#NAME?"},{"$error":"#NAME?"},{"$error":"#NAME?"},{"$error":"#NAME?"},{"$error":"#NAME?"},{"$error":"#NAME?"},{"$error":"#NAME?"},{"$error":"#NAME?"},{"$error":"#NAME?"},{"$error":"#NAME?"},{"$error":"#NAME?"},{"$error":"#NAME?"},{"$error":"#NAME?"},{"$error":"#NAME?"},{"$error":"#NAME?"},{"$error":"#NAME?"},{"$error":"#NAME?"},{"$error":"#NAME?"},{"$error":"#NAME?"},{"$error":"#NAME?"},{"$error":"#NAME?"},{"$error":"#NAME?"},{"$error":"#NAME?"},{"$error":"#NAME?"},{"$error":"#NAME?"},{"$error":"#NAME?"},{"$error":"#NAME?"},{"$error":"#NAME?"},{"$f":"SHIFTC7(EA1)","v":{"$error":"#NAME?"}},{"$error":"#NAME?"},{"$error":"#NAME?"},{"$error":"#NAME?"},{"$error":"#NAME?"},{"$error":"#NAME?"},{"$error":"#NAME?"},{"$error":"#NAME?"},{"$error":"#NAME?"},{"$error":"#NAME?"},{"$error":"#NAME?"},{"$error":"#NAME?"},{"$error":"#NAME?"},{"$error":"#NAME?"},{"$error":"#NAME?"},{"$error":"#NAME?"},{"$error":"#NAME?"},{"$error":"#NAME?"},{"$error":"#NAME?"},{"$error":"#NAME?"},{"$error":"#NAME?"},{"$error":"#NAME?"},{"$error":"#NAME?"},{"$error":"#NAME?"},{"$error":"#NAME?"},{"$error":"#NAME?"},{"$error":"#NAME?"},{"$error":"#NAME?"},{"$error":"#NAME?"},{"$error":"#NAME?"},{"$error":"#NAME?"},{"$error":"#NAME?"},{"$error":"#NAME?"},{"$error":"#NAME?"},{"$error":"#NAME?"},{"$error":"#NAME?"},{"$error":"#NAME?"},{"$error":"#NAME?"},{"$error":"#NAME?"},{"$error":"#NAME?"},{"$error":"#NAME?"},{"$error":"#NAME?"},{"$error":"#NAME?"},{"$error":"#NAME?"},{"$error":"#NAME?"},{"$error":"#NAME?"},{"$error":"#NAME?"},{"$error":"#NAME?"},{"$error":"#NAME?"},{"$error":"#NAME?"},{"$error":"#NAME?"},{"$error":"#NAME?"},{"$error":"#NAME?"},{"$error":"#NAME?"},{"$error":"#NAME?"},{"$error":"#NAME?"},{"$error":"#NAME?"},{"$error":"#NAME?"},{"$error":"#NAME?"},{"$error":"#NAME?"},{"$error":"#NAME?"},{"$error":"#NAME?"},{"$error":"#NAME?"},{"$error":"#NAME?"},{"$f":"SHIFTC7(GM1)","v":{"$error":"#NAME?"}},{"$error":"#NAME?"},{"$error":"#NAME?"},{"$error":"#NAME?"},{"$error":"#NAME?"},{"$error":"#NAME?"},{"$error":"#NAME?"},{"$error":"#NAME?"},{"$error":"#NAME?"},{"$error":"#NAME?"},{"$error":"#NAME?"},{"$error":"#NAME?"},{"$error":"#NAME?"},{"$error":"#NAME?"},{"$error":"#NAME?"},{"$error":"#NAME?"},{"$error":"#NAME?"},{"$error":"#NAME?"},{"$error":"#NAME?"},{"$error":"#NAME?"},{"$error":"#NAME?"},{"$error":"#NAME?"},{"$error":"#NAME?"},{"$error":"#NAME?"},{"$error":"#NAME?"},{"$error":"#NAME?"},{"$error":"#NAME?"},{"$error":"#NAME?"},{"$error":"#NAME?"},{"$error":"#NAME?"},{"$error":"#NAME?"},{"$error":"#NAME?"},{"$error":"#NAME?"},{"$error":"#NAME?"},{"$error":"#NAME?"},{"$error":"#NAME?"},{"$error":"#NAME?"},{"$error":"#NAME?"},{"$error":"#NAME?"},{"$error":"#NAME?"},{"$error":"#NAME?"},{"$error":"#NAME?"},{"$error":"#NAME?"},{"$error":"#NAME?"},{"$error":"#NAME?"},{"$error":"#NAME?"},{"$error":"#NAME?"},{"$error":"#NAME?"},{"$error":"#NAME?"},{"$error":"#NAME?"},{"$error":"#NAME?"},{"$error":"#NAME?"},{"$error":"#NAME?"},{"$error":"#NAME?"},{"$error":"#NAME?"},{"$error":"#NAME?"},{"$error":"#NAME?"},{"$error":"#NAME?"},{"$error":"#NAME?"},{"$error":"#NAME?"},{"$error":"#NAME?"},{"$error":"#NAME?"},{"$error":"#NAME?"},{"$error":"#NAME?"},{"$f":"SHIFTC7(IY1)","v":{"$error":"#NAME?"}},{"$error":"#NAME?"},{"$error":"#NAME?"},{"$error":"#NAME?"},{"$error":"#NAME?"},{"$error":"#NAME?"},{"$error":"#NAME?"},{"$error":"#NAME?"},{"$error":"#NAME?"},{"$error":"#NAME?"},{"$error":"#NAME?"},{"$error":"#NAME?"},{"$error":"#NAME?"},{"$error":"#NAME?"},{"$error":"#NAME?"},{"$error":"#NAME?"},{"$error":"#NAME?"},{"$error":"#NAME?"},{"$error":"#NAME?"},{"$error":"#NAME?"},{"$error":"#NAME?"},{"$error":"#NAME?"},{"$error":"#NAME?"},{"$error":"#NAME?"},{"$error":"#NAME?"},{"$error":"#NAME?"},{"$error":"#NAME?"},{"$error":"#NAME?"},{"$error":"#NAME?"},{"$error":"#NAME?"},{"$error":"#NAME?"},{"$error":"#NAME?"},{"$error":"#NAME?"},{"$error":"#NAME?"},{"$error":"#NAME?"},{"$error":"#NAME?"},{"$error":"#NAME?"},{"$error":"#NAME?"},{"$error":"#NAME?"},{"$error":"#NAME?"},{"$error":"#NAME?"},{"$error":"#NAME?"},{"$error":"#NAME?"},{"$error":"#NAME?"},{"$error":"#NAME?"},{"$error":"#NAME?"},{"$error":"#NAME?"},{"$error":"#NAME?"},{"$error":"#NAME?"},{"$error":"#NAME?"},{"$error":"#NAME?"},{"$error":"#NAME?"},{"$error":"#NAME?"},{"$error":"#NAME?"},{"$error":"#NAME?"},{"$error":"#NAME?"},{"$error":"#NAME?"},{"$error":"#NAME?"},{"$error":"#NAME?"},{"$error":"#NAME?"},{"$error":"#NAME?"},{"$error":"#NAME?"},{"$error":"#NAME?"},{"$error":"#NAME?"},{"$f":"SHIFTC7(LK1)","v":{"$error":"#NAME?"}},{"$error":"#NAME?"},{"$error":"#NAME?"},{"$error":"#NAME?"},{"$error":"#NAME?"},{"$error":"#NAME?"},{"$error":"#NAME?"},{"$error":"#NAME?"},{"$error":"#NAME?"},{"$error":"#NAME?"},{"$error":"#NAME?"},{"$error":"#NAME?"},{"$error":"#NAME?"},{"$error":"#NAME?"},{"$error":"#NAME?"},{"$error":"#NAME?"},{"$error":"#NAME?"},{"$error":"#NAME?"},{"$error":"#NAME?"},{"$error":"#NAME?"},{"$error":"#NAME?"},{"$error":"#NAME?"},{"$error":"#NAME?"},{"$error":"#NAME?"},{"$error":"#NAME?"},{"$error":"#NAME?"},{"$error":"#NAME?"},{"$error":"#NAME?"},{"$error":"#NAME?"},{"$error":"#NAME?"},{"$error":"#NAME?"},{"$error":"#NAME?"},{"$error":"#NAME?"},{"$error":"#NAME?"},{"$error":"#NAME?"},{"$error":"#NAME?"},{"$error":"#NAME?"},{"$error":"#NAME?"},{"$error":"#NAME?"},{"$error":"#NAME?"},{"$error":"#NAME?"},{"$error":"#NAME?"},{"$error":"#NAME?"},{"$error":"#NAME?"},{"$error":"#NAME?"},{"$error":"#NAME?"},{"$error":"#NAME?"},{"$error":"#NAME?"},{"$error":"#NAME?"},{"$error":"#NAME?"},{"$error":"#NAME?"}]
["C8",{"$f":"SHIFTC8(B1)","v":{"$error":"#NAME?"}},{"$f":"SHIFTC8(C1)","v":{"$error":"#NAME?"}},{"$error":"#NAME?"},{"$error":"#NAME?"},{"$error":"#NAME?"},{"$error":"#NAME?"},{"$error":"#NAME?"},{"$error":"#NAME?"},{"$error":"#NAME?"},{"$error":"#NAME?"},{"$error":"#NAME?"},{"$error":"#NAME?"},{"$error":"#NAME?"},{"$error":"#NAME?"},{"$error":"#NAME?"},{"$error":"#NAME?"},{"$error":"#NAME?"},{"$error":"#NAME?"},{"$error":"#NAME?"},{"$error":"#NAME?"},{"$error":"#NAME?"},{"$error":"#NAME?"},{"$error":"#NAME?"},{"$error":"#NAME?"},{"$error":"#NAME?"},{"$error":"#NAME?"},{"$error":"#NAME?"},{"$error":"#NAME?"},{"$error":"#NAME?"},{"$error":"#NAME?"},{"$error":"#NAME?"},{"$error":"#NAME?"},{"$error":"#NAME?"},{"$error":"#NAME?"},{"$error":"#NAME?"},{"$error":"#NAME?"},{"$error":"#NAME?"},{"$error":"#NAME?"},{"$error":"#NAME?"},{"$error":"#NAME?"},{"$error":"#NAME?"},{"$error":"#NAME?"},{"$error":"#NAME?"},{"$error":"#NAME?"},{"$error":"#NAME?"},{"$error":"#NAME?"},{"$error":"#NAME?"},{"$error":"#NAME?"},{"$error":"#NAME?"},{"$error":"#NAME?"},{"$error":"#NAME?"},{"$error":"#NAME?"},{"$error":"#NAME?"},{"$error":"#NAME?"},{"$error":"#NAME?"},{"$error":"#NAME?"},{"$error":"#NAME?"},{"$error":"#NAME?"},{"$error":"#NAME?"},{"$error":"#NAME?"},{"$error":"#NAME?"},{"$error":"#NAME?"},{"$error":"#NAME?"},{"$error":"#NAME?"},{"$error":"#NAME?"},{"$f":"SHIFTC8(BO1)","v":{"$error":"#NAME?"}},{"$error":"#NAME?"},{"$error":"#NAME?"},{"$error":"#NAME?"},{"$error":"#NAME?"},{"$error":"#NAME?"},{"$error":"#NAME?"},{"$error":"#NAME?"},{"$error":"#NAME?"},{"$error":"#NAME?"},{"$error":"#NAME?"},{"$error":"#NAME?"},{"$error":"#NAME?"},{"$error":"#NAME?"},{"$error":"#NAME?"},{"$error":"#NAME?"},{"$error":"#NAME?"},{"$error":"#NAME?"},{"$error":"#NAME?"},{"$error":"#NAME?"},{"$error":"#NAME?"},{"$error":"#NAME?"},{"$error":"#NAME?"},{"$error":"#NAME?"},{"$error":"#NAME?"},{"$error":"#NAME?"},{"$error":"#NAME?"},{"$error":"#NAME?"},{"$error":"#NAME?"},{"$error":"#NAME?"},{"$error":"#NAME?"},{"$error":"#NAME?"},{"$error":"#NAME?"},{"$error":"#NAME?"},{"$error":"#NAME?"},{"$error":"#NAME?"},{"$error":"#NAME?"},{"$error":"#NAME?"},{"$error":"#NAME?"},{"$error":"#NAME?"},{"$error":"#NAME?"},{"$error":"#NAME?"},{"$error":"#NAME?"},{"$error":"#NAME?"},{"$error":"#NAME?"},{"$error":"#NAME?"},{"$error":"#NAME?"},{"$error":"#NAME?"},{"$error":"#NAME?"},{"$error":"#NAME?"},{"$error":"#NAME?"},{"$error":"#NAME?"},{"$error":"#NAME?"},{"$error":"#NAME?"},{"$error":"#NAME?"},{"$error":"#NAME?"},{"$error":"#NAME?"},{"$error":"#NAME?"},{"$error":"#NAME?"},{"$error":"#NAME?"},{"$error":"#NAME?"},{"$error":"#NAME?"},{"$error":"#NAME?"},{"$error":"#NAME?"},{"$f":"SHIFTC8(EA1)","v":{"$error":"#NAME?"}},{"$error":"#NAME?"},{"$error":"#NAME?"},{"$error":"#NAME?"},{"$error":"#NAME?"},{"$error":"#NAME?"},{"$error":"#NAME?"},{"$error":"#NAME?"},{"$error":"#NAME?"},{"$error":"#NAME?"},{"$error":"#NAME?"},{"$error":"#NAME?"},{"$error":"#NAME?"},{"$error":"#NAME?"},{"$error":"#NAME?"},{"$error":"#NAME?"},{"$error":"#NAME?"},{"$error":"#NAME?"},{"$error":"#NAME?"},{"$error":"#NAME?"},{"$error":"#NAME?"},{"$error":"#NAME?"},{"$error":"#NAME?"},{"$error":"#NAME?"},{"$error":"#NAME?"},{"$error":"#NAME?"},{"$error":"#NAME?"},{"$error":"#NAME?"},{"$error":"#NAME?"},{"$error":"#NAME?"},{"$error":"#NAME?"},{"$error":"#NAME?"},{"$error":"#NAME?"},{"$error":"#NAME?"},{"$error":"#NAME?"},{"$error":"#NAME?"},{"$error":"#NAME?"},{"$error":"#NAME?"},{"$error":"#NAME?"},{"$error":"#NAME?"},{"$error":"#NAME?"},{"$error":"#NAME?"},{"$error":"#NAME?"},{"$error":"#NAME?"},{"$error":"#NAME?"},{"$error":"#NAME?"},{"$error":"#NAME?"},{"$error":"#NAME?"},{"$error":"#NAME?"},{"$error":"#NAME?"},{"$error":"#NAME?"},{"$error":"#NAME?"},{"$error":"#NAME?"},{"$error":"#NAME?"},{"$error":"#NAME?"},{"$error":"#NAME?"},{"$error":"#NAME?"},{"$error":"#NAME?"},{"$error":"#NAME?"},{"$error":"#NAME?"},{"$error":"#NAME?"},{"$error":"#NAME?"},{"$error":"#NAME?"},{"$error":"#NAME?"},{"$f":"SHIFTC8(GM1)","v":{"$error":"#NAME?"}},{"$error":"#NAME?"},{"$error":"#NAME?"},{"$error":"#NAME?"},{"$error":"#NAME?"},{"$error":"#NAME?"},{"$error":"#NAME?"},{"$error":"#NAME?"},{"$error":"#NAME?"},{"$error":"#NAME?"},{"$error":"#NAME?"},{"$error":"#NAME?"},{"$error":"#NAME?"},{"$error":"#NAME?"},{"$error":"#NAME?"},{"$error":"#NAME?"},{"$error":"#NAME?"},{"$error":"#NAME?"},{"$error":"#NAME?"},{"$error":"#NAME?"},{"$error":"#NAME?"},{"$error":"#NAME?"},{"$error":"#NAME?"},{"$error":"#NAME?"},{"$error":"#NAME?"},{"$error":"#NAME?"},{"$error":"#NAME?"},{"$error":"#NAME?"},{"$error":"#NAME?"},{"$error":"#NAME?"},{"$error":"#NAME?"},{"$error":"#NAME?"},{"$error":"#NAME?"},{"$error":"#NAME?"},{"$error":"#NAME?"},{"$error":"#NAME?"},{"$error":"#NAME?"},{"$error":"#NAME?"},{"$error":"#NAME?"},{"$error":"#NAME?"},{"$error":"#NAME?"},{"$error":"#NAME?"},{"$error":"#NAME?"},{"$error":"#NAME?"},{"$error":"#NAME?"},{"$error":"#NAME?"},{"$error":"#NAME?"},{"$error":"#NAME?"},{"$error":"#NAME?"},{"$error":"#NAME?"},{"$error":"#NAME?"},{"$error":"#NAME?"},{"$error":"#NAME?"},{"$error":"#NAME?"},{"$error":"#NAME?"},{"$error":"#NAME?"},{"$error":"#NAME?"},{"$error":"#NAME?"},{"$error":"#NAME?"},{"$error":"#NAME?"},{"$error":"#NAME?"},{"$error":"#NAME?"},{"$error":"#NAME?"},{"$error":"#NAME?"},{"$f":"SHIFTC8(IY1)","v":{"$error":"#NAME?"}},{"$error":"#NAME?"},{"$error":"#NAME?"},{"$error":"#NAME?"},{"$error":"#NAME?"},{"$error":"#NAME?"},{"$error":"#NAME?"},{"$error":"#NAME?"},{"$error":"#NAME?"},{"$error":"#NAME?"},{"$error":"#NAME?"},{"$error":"#NAME?"},{"$error":"#NAME?"},{"$error":"#NAME?"},{"$error":"#NAME?"},{"$error":"#NAME?"},{"$error":"#NAME?"},{"$error":"#NAME?"},{"$error":"#NAME?"},{"$error":"#NAME?"},{"$error":"#NAME?"},{"$error":"#NAME?"},{"$error":"#NAME?"},{"$error":"#NAME?"},{"$error":"#NAME?"},{"$error":"#NAME?"},{"$error":"#NAME?"},{"$error":"#NAME?"},{"$error":"#NAME?"},{"$error":"#NAME?"},{"$error":"#NAME?"},{"$error":"#NAME?"},{"$error":"#NAME?"},{"$error":"#NAME?"},{"$error":"#NAME?"},{"$error":"#NAME?"},{"$error":"#NAME?"},{"$error":"#NAME?"},{"$error":"#NAME?"},{"$error":"#NAME?"},{"$error":"#NAME?"},{"$error":"#NAME?"},{"$error":"#NAME?"},{"$error":"#NAME?"},{"$error":"#NAME?"},{"$error":"#NAME?"},{"$error":"#NAME?"},{"$error":"#NAME?"},{"$error":"#NAME?"},{"$error":"#NAME?"},{"$error":"#NAME?"},{"$error":"#NAME?"},{"$error":"#NAME?"},{"$error":"#NAME?"},{"$error":"#NAME?"},{"$error":"#NAME?"},{"$error":"#NAME?"},{"$error":"#NAME?"},{"$error":"#NAME?"},{"$error":"#NAME?"},{"$error":"#NAME?"},{"$error":"#NAME?"},{"$error":"#NAME?"},{"$error":"#NAME?"},{"$f":"SHIFTC8(LK1)","v":{"$error":"#NAME?"}},{"$error":"#NAME?"},{"$error":"#NAME?"},{"$error":"#NAME?"},{"$error":"#NAME?"},{"$error":"#NAME?"},{"$error":"#NAME?"},{"$error":"#NAME?"},{"$error":"#NAME?"},{"$error":"#NAME?"},{"$error":"#NAME?"},{"$error":"#NAME?"},{"$error":"#NAME?"},{"$error":"#NAME?"},{"$error":"#NAME?"},{"$error":"#NAME?"},{"$error":"#NAME?"},{"$error":"#NAME?"},{"$error":"#NAME?"},{"$error":"#NAME?"},{"$error":"#NAME?"},{"$error":"#NAME?"},{"$error":"#NAME?"},{"$error":"#NAME?"},{"$error":"#NAME?"},{"$error":"#NAME?"},{"$error":"#NAME?"},{"$error":"#NAME?"},{"$error":"#NAME?"},{"$error":"#NAME?"},{"$error":"#NAME?"},{"$error":"#NAME?"},{"$error":"#NAME?"},{"$error":"#NAME?"},{"$error":"#NAME?"},{"$error":"#NAME?"},{"$error":"#NAME?"},{"$error":"#NAME?"},{"$error":"#NAME?"},{"$error":"#NAME?"},{"$error":"#NAME?"},{"$error":"#NAME?"},{"$error":"#NAME?"},{"$error":"#NAME?"},{"$error":"#NAME?"},{"$error":"#NAME?"},{"$error":"#NAME?"},{"$error":"#NAME?"},{"$error":"#NAME?"},{"$error":"#NAME?"},{"$error":"#NAME?"}]
["C9",{"$f":"SHIFTC9(B1)","v":{"$error":"#NAME?"}},{"$f":"SHIFTC9(C1)","v":{"$error":"#NAME?"}},{"$error":"#NAME?"},{"$error":"#NAME?"},{"$error":"#NAME?"},{"$error":"#NAME?"},{"$error":"#NAME?"},{"$error":"#NAME?"},{"$error":"#NAME?"},{"$error":"#NAME?"},{"$error":"#NAME?"},{"$error":"#NAME?"},{"$error":"#NAME?"},{"$error":"#NAME?"},{"$error":"#NAME?"},{"$error":"#NAME?"},{"$error":"#NAME?"},{"$error":"#NAME?"},{"$error":"#NAME?"},{"$error":"#NAME?"},{"$error":"#NAME?"},{"$error":"#NAME?"},{"$error":"#NAME?"},{"$error":"#NAME?"},{"$error":"#NAME?"},{"$error":"#NAME?"},{"$error":"#NAME?"},{"$error":"#NAME?"},{"$error":"#NAME?"},{"$error":"#NAME?"},{"$error":"#NAME?"},{"$error":"#NAME?"},{"$error":"#NAME?"},{"$error":"#NAME?"},{"$error":"#NAME?"},{"$error":"#NAME?"},{"$error":"#NAME?"},{"$error":"#NAME?"},{"$error":"#NAME?"},{"$error":"#NAME?"},{"$error":"#NAME?"},{"$error":"#NAME?"},{"$error":"#NAME?"},{"$error":"#NAME?"},{"$error":"#NAME?"},{"$error":"#NAME?"},{"$error":"#NAME?"},{"$error":"#NAME?"},{"$error":"#NAME?"},{"$error":"#NAME?"},{"$error":"#NAME?"},{"$error":"#NAME?"},{"$error":"#NAME?"},{"$error":"#NAME?"},{"$error":"#NAME?"},{"$error":"#NAME?"},{"$error":"#NAME?"},{"$error":"#NAME?"},{"$error":"#NAME?"},{"$error":"#NAME?"},{"$error":"#NAME?"},{"$error":"#NAME?"},{"$error":"#NAME?"},{"$error":"#NAME?"},{"$error":"#NAME?"},{"$f":"SHIFTC9(BO1)","v":{"$error":"#NAME?"}},{"$error":"#NAME?"},{"$error":"#NAME?"},{"$error":"#NAME?"},{"$error":"#NAME?"},{"$error":"#NAME?"},{"$error":"#NAME?"},{"$error":"#NAME?"},{"$error":"#NAME?"},{"$error":"#NAME?"},{"$error":"#NAME?"},{"$error":"#NAME?"},{"$error":"#NAME?"},{"$error":"#NAME?"},{"$error":"#NAME?"},{"$error":"#NAME?"},{"$error":"#NAME?"},{"$error":"#NAME?"},{"$error":"#NAME?"},{"$error":"#NAME?"},{"$error":"#NAME?"},{"$error":"#NAME?"},{"$error":"#NAME?"},{"$error":"#NAME?"},{"$error":"#NAME?"},{"$error":"#NAME?"},{"$error":"#NAME?"},{"$error":"#NAME?"},{"$error":"#NAME?"},{"$error":"#NAME?"},{"$error":"#NAME?"},{"$error":"#NAME?"},{"$error":"#NAME?"},{"$error":"#NAME?"},{"$error":"#NAME?"},{"$error":"#NAME?"},{"$error":"#NAME?"},{"$error":"#NAME?"},{"$error":"#NAME?"},{"$error":"#NAME?"},{"$error":"#NAME?"},{"$error":"#NAME?"},{"$error":"#NAME?"},{"$error":"#NAME?"},{"$error":"#NAME?"},{"$error":"#NAME?"},{"$error":"#NAME?"},{"$error":"#NAME?"},{"$error":"#NAME?"},{"$error":"#NAME?"},{"$error":"#NAME?"},{"$error":"#NAME?"},{"$error":"#NAME?"},{"$error":"#NAME?"},{"$error":"#NAME?"},{"$error":"#NAME?"},{"$error":"#NAME?"},{"$error":"#NAME?"},{"$error":"#NAME?"},{"$error":"#NAME?"},{"$error":"#NAME?"},{"$error":"#NAME?"},{"$error":"#NAME?"},{"$error":"#NAME?"},{"$f":"SHIFTC9(EA1)","v":{"$error":"#NAME?"}},{"$error":"#NAME?"},{"$error":"#NAME?"},{"$error":"#NAME?"},{"$error":"#NAME?"},{"$error":"#NAME?"},{"$error":"#NAME?"},{"$error":"#NAME?"},{"$error":"#NAME?"},{"$error":"#NAME?"},{"$error":"#NAME?"},{"$error":"#NAME?"},{"$error":"#NAME?"},{"$error":"#NAME?"},{"$error":"#NAME?"},{"$error":"#NAME?"},{"$error":"#NAME?"},{"$error":"#NAME?"},{"$error":"#NAME?"},{"$error":"#NAME?"},{"$error":"#NAME?"},{"$error":"#NAME?"},{"$error":"#NAME?"},{"$error":"#NAME?"},{"$error":"#NAME?"},{"$error":"#NAME?"},{"$error":"#NAME?"},{"$error":"#NAME?"},{"$error":"#NAME?"},{"$error":"#NAME?"},{"$error":"#NAME?"},{"$error":"#NAME?"},{"$error":"#NAME?"},{"$error":"#NAME?"},{"$error":"#NAME?"},{"$error":"#NAME?"},{"$error":"#NAME?"},{"$error":"#NAME?"},{"$error":"#NAME?"},{"$error":"#NAME?"},{"$error":"#NAME?"},{"$error":"#NAME?"},{"$error":"#NAME?"},{"$error":"#NAME?"},{"$error":"#NAME?"},{"$error":"#NAME?"},{"$error":"#NAME?"},{"$error":"#NAME?"},{"$error":"#NAME?"},{"$error":"#NAME?"},{"$error":"#NAME?"},{"$error":"#NAME?"},{"$error":"#NAME?"},{"$error":"#NAME?"},{"$error":"#NAME?"},{"$error":"#NAME?"},{"$error":"#NAME?"},{"$error":"#NAME?"},{"$error":"#NAME?"},{"$error":"#NAME?"},{"$error":"#NAME?"},{"$error":"#NAME?"},{"$error":"#NAME?"},{"$error":"#NAME?"},{"$f":"SHIFTC9(GM1)","v":{"$error":"#NAME?"}},{"$error":"#NAME?"},{"$error":"#NAME?"},{"$error":"#NAME?"},{"$error":"#NAME?"},{"$error":"#NAME?"},{"$error":"#NAME?"},{"$error":"#NAME?"},{"$error":"#NAME?"},{"$error":"#NAME?"},{"$error":"#NAME?"},{"$error":"#NAME?"},{"$error":"#NAME?"},{"$error":"#NAME?"},{"$error":"#NAME?"},{"$error":"#NAME?"},{"$error":"#NAME?"},{"$error":"#NAME?"},{"$error":"#NAME?"},{"$error":"#NAME?"},{"$error":"#NAME?"},{"$error":"#NAME?"},{"$error":"#NAME?"},{"$error":"#NAME?"},{"$error":"#NAME?"},{"$error":"#NAME?"},{"$error":"#NAME?"},{"$error":"#NAME?"},{"$error":"#NAME?"},{"$error":"#NAME?"},{"$error":"#NAME?"},{"$error":"#NAME?"},{"$error":"#NAME?"},{"$error":"#NAME?"},{"$error":"#NAME?"},{"$error":"#NAME?"},{"$error":"#NAME?"},{"$error":"#NAME?"},{"$error":"#NAME?"},{"$error":"#NAME?"},{"$error":"#NAME?"},{"$error":"#NAME?"},{"$error":"#NAME?"},{"$error":"#NAME?"},{"$error":"#NAME?"},{"$error":"#NAME?"},{"$error":"#NAME?"},{"$error":"#NAME?"},{"$error":"#NAME?"},{"$error":"#NAME?"},{"$error":"#NAME?"},{"$error":"#NAME?"},{"$error":"#NAME?"},{"$error":"#NAME?"},{"$error":"#NAME?"},{"$error":"#NAME?"},{"$error":"#NAME?"},{"$error":"#NAME?"},{"$error":"#NAME?"},{"$error":"#NAME?"},{"$error":"#NAME?"},{"$error":"#NAME?"},{"$error":"#NAME?"},{"$error":"#NAME?"},{"$f":"SHIFTC9(IY1)","v":{"$error":"#NAME?"}},{"$error":"#NAME?"},{"$error":"#NAME?"},{"$error":"#NAME?"},{"$error":"#NAME?"},{"$error":"#NAME?"},{"$error":"#NAME?"},{"$error":"#NAME?"},{"$error":"#NAME?"},{"$error":"#NAME?"},{"$error":"#NAME?"},{"$error":"#NAME?"},{"$error":"#NAME?"},{"$error":"#NAME?"},{"$error":"#NAME?"},{"$error":"#NAME?"},{"$error":"#NAME?"},{"$error":"#NAME?"},{"$error":"#NAME?"},{"$error":"#NAME?"},{"$error":"#NAME?"},{"$error":"#NAME?"},{"$error":"#NAME?"},{"$error":"#NAME?"},{"$error":"#NAME?"},{"$error":"#NAME?"},{"$error":"#NAME?"},{"$error":"#NAME?"},{"$error":"#NAME?"},{"$error":"#NAME?"},{"$error":"#NAME?"},{"$error":"#NAME?"},{"$error":"#NAME?"},{"$error":"#NAME?"},{"$error":"#NAME?"},{"$error":"#NAME?"},{"$error":"#NAME?"},{"$error":"#NAME?"},{"$error":"#NAME?"},{"$error":"#NAME?"},{"$error":"#NAME?"},{"$error":"#NAME?"},{"$error":"#NAME?"},{"$error":"#NAME?"},{"$error":"#NAME?"},{"$error":"#NAME?"},{"$error":"#NAME?"},{"$error":"#NAME?"},{"$error":"#NAME?"},{"$error":"#NAME?"},{"$error":"#NAME?"},{"$error":"#NAME?"},{"$error":"#NAME?"},{"$error":"#NAME?"},{"$error":"#NAME?"},{"$error":"#NAME?"},{"$error":"#NAME?"},{"$error":"#NAME?"},{"$error":"#NAME?"},{"$error":"#NAME?"},{"$error":"#NAME?"},{"$error":"#NAME?"},{"$error":"#NAME?"},{"$error":"#NAME?"},{"$f":"SHIFTC9(LK1)","v":{"$error":"#NAME?"}},{"$error":"#NAME?"},{"$error":"#NAME?"},{"$error":"#NAME?"},{"$error":"#NAME?"},{"$error":"#NAME?"},{"$error":"#NAME?"},{"$error":"#NAME?"},{"$error":"#NAME?"},{"$error":"#NAME?"},{"$error":"#NAME?"},{"$error":"#NAME?"},{"$error":"#NAME?"},{"$error":"#NAME?"},{"$error":"#NAME?"},{"$error":"#NAME?"},{"$error":"#NAME?"},{"$error":"#NAME?"},{"$error":"#NAME?"},{"$error":"#NAME?"},{"$error":"#NAME?"},{"$error":"#NAME?"},{"$error":"#NAME?"},{"$error":"#NAME?"},{"$error":"#NAME?"},{"$error":"#NAME?"},{"$error":"#NAME?"},{"$error":"#NAME?"},{"$error":"#NAME?"},{"$error":"#NAME?"},{"$error":"#NAME?"},{"$error":"#NAME?"},{"$error":"#NAME?"},{"$error":"#NAME?"},{"$error":"#NAME?"},{"$error":"#NAME?"},{"$error":"#NAME?"},{"$error":"#NAME?"},{"$error":"#NAME?"},{"$error":"#NAME?"},{"$error":"#NAME?"},{"$error":"#NAME?"},{"$error":"#NAME?"},{"$error":"#NAME?"},{"$error":"#NAME?"},{"$error":"#NAME?"},{"$error":"#NAME?"},{"$error":"#NAME?"},{"$error":"#NAME?"},{"$error":"#NAME?"},{"$error":"#NAME?"}]
["C10",{"$f":"SHIFTC10(B1)","v":{"$error":"#NAME?"}},{"$f":"SHIFTC10(C1)","v":{"$error":"#NAME?"}},{"$error":"#NAME?"},{"$error":"#NAME?"},{"$error":"#NAME?"},{"$error":"#NAME?"},{"$error":"#NAME?"},{"$error":"#NAME?"},{"$error":"#NAME?"},{"$error":"#NAME?"},{"$error":"#NAME?"},{"$error":"#NAME?"},{"$error":"#NAME?"},{"$error":"#NAME?"},{"$error":"#NAME?"},{"$error":"#NAME?"},{"$error":"#NAME?"},{"$error":"#NAME?"},{"$error":"#NAME?"},{"$error":"#NAME?"},{"$error":"#NAME?"},{"$error":"#NAME?"},{"$error":"#NAME?"},{"$error":"#NAME?"},{"$error":"#NAME?"},{"$error":"#NAME?"},{"$error":"#NAME?"},{"$error":"#NAME?"},{"$error":"#NAME?"},{"$error":"#NAME?"},{"$error":"#NAME?"},{"$error":"#NAME?"},{"$error":"#NAME?"},{"$error":"#NAME?"},{"$error":"#NAME?"},{"$error":"#NAME?"},{"$error":"#NAME?"},{"$error":"#NAME?"},{"$error":"#NAME?"},{"$error":"#NAME?"},{"$error":"#NAME?"},{"$error":"#NAME?"},{"$error":"#NAME?"},{"$error":"#NAME?"},{"$error":"#NAME?"},{"$error":"#NAME?"},{"$error":"#NAME?"},{"$error":"#NAME?"},{"$error":"#NAME?"},{"$error":"#NAME?"},{"$error":"#NAME?"},{"$error":"#NAME?"},{"$error":"#NAME?"},{"$error":"#NAME?"},{"$error":"#NAME?"},{"$error":"#NAME?"},{"$error":"#NAME?"},{"$error":"#NAME?"},{"$error":"#NAME?"},{"$error":"#NAME?"},{"$error":"#NAME?"},{"$error":"#NAME?"},{"$error":"#NAME?"},{"$error":"#NAME?"},{"$error":"#NAME?"},{"$f":"SHIFTC10(BO1)","v":{"$error":"#NAME?"}},{"$error":"#NAME?"},{"$error":"#NAME?"},{"$error":"#NAME?"},{"$error":"#NAME?"},{"$error":"#NAME?"},{"$error":"#NAME?"},{"$error":"#NAME?"},{"$error":"#NAME?"},{"$error":"#NAME?"},{"$error":"#NAME?"},{"$error":"#NAME?"},{"$error":"#NAME?"},{"$error":"#NAME?"},{"$error":"#NAME?"},{"$error":"#NAME?"},{"$error":"#NAME?"},{"$error":"#NAME?"},{"$error":"#NAME?"},{"$error":"#NAME?"},{"$error":"#NAME?"},{"$error":"#NAME?"},{"$error":"#NAME?"},{"$error":"#NAME?"},{"$error":"#NAME?"},{"$error":"#NAME?"},{"$error":"#NAME?"},{"$error":"#NAME?"},{"$error":"#NAME?"},{"$error":"#NAME?"},{"$error":"#NAME?"},{"$error":"#NAME?"},{"$error":"#NAME?"},{"$error":"#NAME?"},{"$error":"#NAME?"},{"$error":"#NAME?"},{"$error":"#NAME?"},{"$error":"#NAME?"},{"$error":"#NAME?"},{"$error":"#NAME?"},{"$error":"#NAME?"},{"$error":"#NAME?"},{"$error":"#NAME?"},{"$error":"#NAME?"},{"$error":"#NAME?"},{"$error":"#NAME?"},{"$error":"#NAME?"},{"$error":"#NAME?"},{"$error":"#NAME?"},{"$error":"#NAME?"},{"$error":"#NAME?"},{"$error":"#NAME?"},{"$error":"#NAME?"},{"$error":"#NAME?"},{"$error":"#NAME?"},{"$error":"#NAME?"},{"$error":"#NAME?"},{"$error":"#NAME?"},{"$error":"#NAME?"},{"$error":"#NAME?"},{"$error":"#NAME?"},{"$error":"#NAME?"},{"$error":"#NAME?"},{"$error":"#NAME?"},{"$f":"SHIFTC10(EA1)","v":{"$error":"#NAME?"}},{"$error":"#NAME?"},{"$error":"#NAME?"},{"$error":"#NAME?"},{"$error":"#NAME?"},{"$error":"#NAME?"},{"$error":"#NAME?"},{"$error":"#NAME?"},{"$error":"#NAME?"},{"$error":"#NAME?"},{"$error":"#NAME?"},{"$error":"#NAME?"},{"$error":"#NAME?"},{"$error":"#NAME?"},{"$error":"#NAME?"},{"$error":"#NAME?"},{"$error":"#NAME?"},{"$error":"#NAME?"},{"$error":"#NAME?"},{"$error":"#NAME?"},{"$error":"#NAME?"},{"$error":"#NAME?"},{"$error":"#NAME?"},{"$error":"#NAME?"},{"$error":"#NAME?"},{"$error":"#NAME?"},{"$error":"#NAME?"},{"$error":"#NAME?"},{"$error":"#NAME?"},{"$error":"#NAME?"},{"$error":"#NAME?"},{"$error":"#NAME?"},{"$error":"#NAME?"},{"$error":"#NAME?"},{"$error":"#NAME?"},{"$error":"#NAME?"},{"$error":"#NAME?"},{"$error":"#NAME?"},{"$error":"#NAME?"},{"$error":"#NAME?"},{"$error":"#NAME?"},{"$error":"#NAME?"},{"$error":"#NAME?"},{"$error":"#NAME?"},{"$error":"#NAME?"},{"$error":"#NAME?"},{"$error":"#NAME?"},{"$error":"#NAME?"},{"$error":"#NAME?"},{"$error":"#NAME?"},{"$error":"#NAME?"},{"$error":"#NAME?"},{"$error":"#NAME?"},{"$error":"#NAME?"},{"$error":"#NAME?"},{"$error":"#NAME?"},{"$error":"#NAME?"},{"$error":"#NAME?"},{"$error":"#NAME?"},{"$error":"#NAME?"},{"$error":"#NAME?"},{"$error":"#NAME?"},{"$error":"#NAME?"},{"$error":"#NAME?"},{"$f":"SHIFTC10(GM1)","v":{"$error":"#NAME?"}},{"$error":"#NAME?"},{"$error":"#NAME?"},{"$error":"#NAME?"},{"$error":"#NAME?"},{"$error":"#NAME?"},{"$error":"#NAME?"},{"$error":"#NAME?"},{"$error":"#NAME?"},{"$error":"#NAME?"},{"$error":"#NAME?"},{"$error":"#NAME?"},{"$error":"#NAME?"},{"$error":"#NAME?"},{"$error":"#NAME?"},{"$error":"#NAME?"},{"$error":"#NAME?"},{"$error":"#NAME?"},{"$error":"#NAME?"},{"$error":"#NAME?"},{"$error":"#NAME?"},{"$error":"#NAME?"},{"$error":"#NAME?"},{"$error":"#NAME?"},{"$error":"#NAME?"},{"$error":"#NAME?"},{"$error":"#NAME?"},{"$error":"#NAME?"},{"$error":"#NAME?"},{"$error":"#NAME?"},{"$error":"#NAME?"},{"$error":"#NAME?"},{"$error":"#NAME?"},{"$error":"#NAME?"},{"$error":"#NAME?"},{"$error":"#NAME?"},{"$error":"#NAME?"},{"$error":"#NAME?"},{"$error":"#NAME?"},{"$error":"#NAME?"},{"$error":"#NAME?"},{"$error":"#NAME?"},{"$error":"#NAME?"},{"$error":"#NAME?"},{"$error":"#NAME?"},{"$error":"#NAME?"},{"$error":"#NAME?"},{"$error":"#NAME?"},{"$error":"#NAME?"},{"$error":"#NAME?"},{"$error":"#NAME?"},{"$error":"#NAME?"},{"$error":"#NAME?"},{"$error":"#NAME?"},{"$error":"#NAME?"},{"$error":"#NAME?"},{"$error":"#NAME?"},{"$error":"#NAME?"},{"$error":"#NAME?"},{"$error":"#NAME?"},{"$error":"#NAME?"},{"$error":"#NAME?"},{"$error":"#NAME?"},{"$error":"#NAME?"},{"$f":"SHIFTC10(IY1)","v":{"$error":"#NAME?"}},{"$error":"#NAME?"},{"$error":"#NAME?"},{"$error":"#NAME?"},{"$error":"#NAME?"},{"$error":"#NAME?"},{"$error":"#NAME?"},{"$error":"#NAME?"},{"$error":"#NAME?"},{"$error":"#NAME?"},{"$error":"#NAME?"},{"$error":"#NAME?"},{"$error":"#NAME?"},{"$error":"#NAME?"},{"$error":"#NAME?"},{"$error":"#NAME?"},{"$error":"#NAME?"},{"$error":"#NAME?"},{"$error":"#NAME?"},{"$error":"#NAME?"},{"$error":"#NAME?"},{"$error":"#NAME?"},{"$error":"#NAME?"},{"$error":"#NAME?"},{"$error":"#NAME?"},{"$error":"#NAME?"},{"$error":"#NAME?"},{"$error":"#NAME?"},{"$error":"#NAME?"},{"$error":"#NAME?"},{"$error":"#NAME?"},{"$error":"#NAME?"},{"$error":"#NAME?"},{"$error":"#NAME?"},{"$error":"#NAME?"},{"$error":"#NAME?"},{"$error":"#NAME?"},{"$error":"#NAME?"},{"$error":"#NAME?"},{"$error":"#NAME?"},{"$error":"#NAME?"},{"$error":"#NAME?"},{"$error":"#NAME?"},{"$error":"#NAME?"},{"$error":"#NAME?"},{"$error":"#NAME?"},{"$error":"#NAME?"},{"$error":"#NAME?"},{"$error":"#NAME?"},{"$error":"#NAME?"},{"$error":"#NAME?"},{"$error":"#NAME?"},{"$error":"#NAME?"},{"$error":"#NAME?"},{"$error":"#NAME?"},{"$error":"#NAME?"},{"$error":"#NAME?"},{"$error":"#NAME?"},{"$error":"#NAME?"},{"$error":"#NAME?"},{"$error":"#NAME?"},{"$error":"#NAME?"},{"$error":"#NAME?"},{"$error":"#NAME?"},{"$f":"SHIFTC10(LK1)","v":{"$error":"#NAME?"}},{"$error":"#NAME?"},{"$error":"#NAME?"},{"$error":"#NAME?"},{"$error":"#NAME?"},{"$error":"#NAME?"},{"$error":"#NAME?"},{"$error":"#NAME?"},{"$error":"#NAME?"},{"$error":"#NAME?"},{"$error":"#NAME?"},{"$error":"#NAME?"},{"$error":"#NAME?"},{"$error":"#NAME?"},{"$error":"#NAME?"},{"$error":"#NAME?"},{"$error":"#NAME?"},{"$error":"#NAME?"},{"$error":"#NAME?"},{"$error":"#NAME?"},{"$error":"#NAME?"},{"$error":"#NAME?"},{"$error":"#NAME?"},{"$error":"#NAME?"},{"$error":"#NAME?"},{"$error":"#NAME?"},{"$error":"#NAME?"},{"$error":"#NAME?"},{"$error":"#NAME?"},{"$error":"#NAME?"},{"$error":"#NAME?"},{"$error":"#NAME?"},{"$error":"#NAME?"},{"$error":"#NAME?"},{"$error":"#NAME?"},{"$error":"#NAME?"},{"$error":"#NAME?"},{"$error":"#NAME?"},{"$error":"#NAME?"},{"$error":"#NAME?"},{"$error":"#NAME?"},{"$error":"#NAME?"},{"$error":"#NAME?"},{"$error":"#NAME?"},{"$error":"#NAME?"},{"$error":"#NAME?"},{"$error":"#NAME?"},{"$error":"#NAME?"},{"$error":"#NAME?"},{"$error":"#NAME?"},{"$error":"#NAME?"}]
["D1",{"$f":"SHIFTD1(B1)","v":"DD"},{"$f":"SHIFTD1(C1)","v":"DD"},"DD","DD","DD","Za","Zo","ND","ND","ND","ND","ND","Za","Zo","MD","MD","MD","MD","MD","Za","Zo","DD","DD","DD","DD","DD","Za","Zo","ND","ND","ND","ND","ND","Za","Zo","MD","MD","MD","MD","MD","Za","Zo","DD","DD","DD","DD","DD","Za","Zo","ND","ND","ND","ND","ND","Za","Zo","MD","MD","MD","MD","MD","Za","Zo","DD","DD",{"$f":"SHIFTD1(BO1)","v":"DD"},"DD","DD","Za","Zo","ND","ND","ND","ND","ND","Za","Zo","MD","MD","MD","MD","MD","Za","Zo","DD","DD","DD","DD","DD","Za","Zo","ND","ND","ND","ND","ND","Za","Zo","MD","MD","MD","MD","MD","Za","Zo","DD","DD","DD","DD","DD","Za","Zo","ND","ND","ND","ND","ND","Za","Zo","MD","MD","MD","MD","MD","Za","Zo","DD","DD","DD",{"$f":"SHIFTD1(EA1)","v":"DD"},"DD","Za","Zo","ND","ND","ND","ND","ND","Za","Zo","MD","MD","MD","MD","MD","Za","Zo","DD","DD","DD","DD","DD","Za","Zo","ND","ND","ND","ND","ND","Za","Zo","MD","MD","MD","MD","MD","Za","Zo","DD","DD","DD","DD","DD","Za","Zo","ND","ND","ND","ND","ND","Za","Zo","MD","MD","MD","MD","MD","Za","Zo","DD","DD","DD","DD",{"$f":"SHIFTD1(GM1)","v":"DD"},"Za","Zo","ND","ND","ND","ND","ND","Za","Zo","MD","MD","MD","MD","MD","Za","Zo","DD","DD","DD","DD","DD","Za","Zo","ND","ND","ND","ND","ND","Za","Zo","MD","MD","MD","MD","MD","Za","Zo","DD","DD","DD","DD","DD","Za","Zo","ND","ND","ND","ND","ND","Za","Zo","MD","MD","MD","MD","MD","Za","Zo","DD","DD","DD","DD","DD",{"$f":"SHIFTD1(IY1)","v":"Za"},"Zo","ND","ND","ND","ND","ND","Za","Zo","MD","MD","MD","MD","MD","Za","Zo","DD","DD","DD","DD","DD","Za","Zo","ND","ND","ND","ND","ND","Za","Zo","MD","MD","MD","MD","MD","Za","Zo","DD","DD","DD","DD","DD","Za","Zo","ND","ND","ND","ND","ND","Za","Zo","MD","MD","MD","MD","MD","Za","Zo","DD","DD","DD","DD","DD","Za",{"$f":"SHIFTD1(LK1)","v":"Zo"},"ND","ND","ND","ND","ND","Za","Zo","MD","MD","MD","MD","MD","Za","Zo","DD","DD","DD","DD","DD","Za","Zo","ND","ND","ND","ND","ND","Za","Zo","MD","MD","MD","MD","MD","Za","Zo","DD","DD","DD","DD","DD","Za","Zo","ND","ND","ND","ND","ND","Za","Zo","MD"]
["D2",{"$f":"SHIFTD2(B1)","v":"ND"},{"$f":"SHIFTD2(C1)","v":"ND"},"ND","ND","ND","Za","Zo","MD","MD","MD","MD","MD","Za","Zo","DD","DD","DD","DD","DD","Za","Zo","ND","ND","ND","ND","ND","Za","Zo","MD","MD","MD","MD","MD","Za","Zo","DD","DD","DD","DD","DD","Za","Zo","ND","ND","ND","ND","ND","Za","Zo","MD","MD","MD","MD","MD","Za","Zo","DD","DD","DD","DD","DD","Za","Zo","ND","ND",{"$f":"SHIFTD2(BO1)","v":"ND"},"ND","ND","Za","Zo","MD","MD","MD","MD","MD","Za","Zo","DD","DD","DD","DD","DD","Za","Zo","ND","ND","ND","ND","ND","Za","Zo","MD","MD","MD","MD","MD","Za","Zo","DD","DD","DD","DD","DD","Za","Zo","ND","ND","ND","ND","ND","Za","Zo","MD","MD","MD","MD","MD","Za","Zo","DD","DD","DD","DD","DD","Za","Zo","ND","ND","ND",{"$f":"SHIFTD2(EA1)","v":"ND"},"ND","Za","Zo","MD","MD","MD","MD","MD","Za","Zo","DD","DD","DD","DD","DD","Za","Zo","ND","ND","ND","ND","ND","Za","Zo","MD","MD","MD","MD","MD","Za","Zo","DD","DD","DD","DD","DD","Za","Zo","ND","ND","ND","ND","ND","Za","Zo","MD","MD","MD","MD","MD","Za","Zo","DD","DD","DD","DD","DD","Za","Zo","ND","ND","ND","ND",{"$f":"SHIFTD2(GM1)","v":"ND"},"Za","Zo","MD","MD","MD","MD","MD","Za","Zo","DD","DD","DD","DD","DD","Za","Zo","ND","ND","ND","ND","ND","Za","Zo","MD","MD","MD","MD","MD","Za","Zo","DD","DD","DD","DD","DD","Za","Zo","ND","ND","ND","ND","ND","Za","Zo","MD","MD","MD","MD","MD","Za","Zo","DD","DD","DD","DD","DD","Za","Zo","ND","ND","ND","ND","ND",{"$f":"SHIFTD2(IY1)","v":"Za"},"Zo","MD","MD","MD","MD","MD","Za","Zo","DD","DD","DD","DD","DD","Za","Zo","ND","ND","ND","ND","ND","Za","Zo","MD","MD","MD","MD","MD","Za","Zo","DD","DD","DD","DD","DD","Za","Zo","ND","ND","ND","ND","ND","Za","Zo","MD","MD","MD","MD","MD","Za","Zo","DD","DD","DD","DD","DD","Za","Zo","ND","ND","ND","ND","ND","Za",{"$f":"SHIFTD2(LK1)","v":"Zo"},"MD","MD","MD","MD","MD","Za","Zo","DD","DD","DD","DD","DD","Za","Zo","ND","ND","ND","ND","ND","Za","Zo","MD","MD","MD","MD","MD","Za","Zo","DD","DD","DD","DD","DD","Za","Zo","ND","ND","ND","ND","ND","Za","Zo","MD","MD","MD","MD","MD","Za","Zo","DD"]
["D3",{"$f":"SHIFTD3(B1)","v":"MD"},{"$f":"SHIFTD3(C1)","v":"MD"},"MD","MD","MD","Za","Zo","DD","DD","DD","DD","DD","Za","Zo","ND","ND","ND","ND","ND","Za","Zo","MD","MD","MD","MD","MD","Za","Zo","DD","DD","DD","DD","DD","Za","Zo","ND","ND","ND","ND","ND","Za","Zo","MD","MD","MD","MD","MD","Za","Zo","DD","DD","DD","DD","DD","Za","Zo","ND","ND","ND","ND","ND","Za","Zo","MD","MD",{"$f":"SHIFTD3(BO1)","v":"MD"},"MD","MD","Za","Zo","DD","DD","DD","DD","DD","Za","Zo","ND","ND","ND","ND","ND","Za","Zo","MD","MD","MD","MD","MD","Za","Zo","DD","DD","DD","DD","DD","Za","Zo","ND","ND","ND","ND","ND","Za","Zo","MD","MD","MD","MD","MD","Za","Zo","DD","DD","DD","DD","DD","Za","Zo","ND","ND","ND","ND","ND","Za","Zo","MD","MD","MD",{"$f":"SHIFTD3(EA1)","v":"MD"},"MD","Za","Zo","DD","DD","DD","DD","DD","Za","Zo","ND","ND","ND","ND","ND","Za","Zo","MD","MD","MD","MD","MD","Za","Zo","DD","DD","DD","DD","DD","Za","Zo","ND","ND","ND","ND","ND","Za","Zo","MD","MD","MD","MD","MD","Za","Zo","DD","DD","DD","DD","DD","Za","Zo","ND","ND","ND","ND","ND","Za","Zo","MD","MD","MD","MD",{"$f":"SHIFTD3(GM1)","v":"MD"},"Za","Zo","DD","DD","DD","DD","DD","Za","Zo","ND","ND","ND","ND","ND","Za","Zo","MD","MD","MD","MD","MD","Za","Zo","DD","DD","DD","DD","DD","Za","Zo","ND","ND","ND","ND","ND","Za","Zo","MD","MD","MD","MD","MD","Za","Zo","DD","DD","DD","DD","DD","Za","Zo","ND","ND","ND","ND","ND","Za","Zo","MD","MD","MD","MD","MD",{"$f":"SHIFTD3(IY1)","v":"Za"},"Zo","DD","DD","DD","DD","DD","Za","Zo","ND","ND","ND","ND","ND","Za","Zo","MD","MD","MD","MD","MD","Za","Zo","DD","DD","DD","DD","DD","Za","Zo","ND","ND","ND","ND","ND","Za","Zo","MD","MD","MD","MD","MD","Za","Zo","DD","DD","DD","DD","DD","Za","Zo","ND","ND","ND","ND","ND","Za","Zo","MD","MD","MD","MD","MD","Za",{"$f":"SHIFTD3(LK1)","v":"Zo"},"DD","DD","DD","DD","DD","Za","Zo","ND","ND","ND","ND","ND","Za","Zo","MD","MD","MD","MD","MD","Za","Zo","DD","DD","DD","DD","DD","Za","Zo","ND","ND","ND","ND","ND","Za","Zo","MD","MD","MD","MD","MD","Za","Zo","DD","DD","DD","DD","DD","Za","Zo","ND"]
["E1",{"$f":"SHIFTE1(B1)","v":"DD"},{"$f":"SHIFTE1(C1)","v":"DD"},"DD","DD","DD","DD","Zo","ND","ND","ND","ND","ND","Za","Zo","MD","MD","MD","MD","MD","Za","Zo","DD","DD","DD","DD","DD","DD","Zo","ND","ND","ND","ND","ND","Za","Zo","MD","MD","MD","MD","MD","Za","Zo","DD","DD","DD","DD","DD","DD","Zo","ND","ND","ND","ND","ND","Za","Zo","MD","MD","MD","MD","MD","Za","Zo","DD","DD",{"$f":"SHIFTE1(BO1)","v":"DD"},"DD","DD","DD","Zo","ND","ND","ND","ND","ND","Za","Zo","MD","MD","MD","MD","MD","Za","Zo","DD","DD","DD","DD","DD","DD","Zo","ND","ND","ND","ND","ND","Za","Zo","MD","MD","MD","MD","MD","Za","Zo","DD","DD","DD","DD","DD","DD","Zo","ND","ND","ND","ND","ND","Za","Zo","MD","MD","MD","MD","MD","Za","Zo","DD","DD","DD",{"$f":"SHIFTE1(EA1)","v":"DD"},"DD","DD","Zo","ND","ND","ND","ND","ND","Za","Zo","MD","MD","MD","MD","MD","Za","Zo","DD","DD","DD","DD","DD","DD","Zo","ND","ND","ND","ND","ND","Za","Zo","MD","MD","MD","MD","MD","Za","Zo","DD","DD","DD","DD","DD","DD","Zo","ND","ND","ND","ND","ND","Za","Zo","MD","MD","MD","MD","MD","Za","Zo","DD","DD","DD","DD",{"$f":"SHIFTE1(GM1)","v":"DD"},"DD","Zo","ND","ND","ND","ND","ND","Za","Zo","MD","MD","MD","MD","MD","Za","Zo","DD","DD","DD","DD","DD","DD","Zo","ND","ND","ND","ND","ND","Za","Zo","MD","MD","MD","MD","MD","Za","Zo","DD","DD","DD","DD","DD","DD","Zo","ND","ND","ND","ND","ND","Za","Zo","MD","MD","MD","MD","MD","Za","Zo","DD","DD","DD","DD","DD",{"$f":"SHIFTE1(IY1)","v":"DD"},"Zo","ND","ND","ND","ND","ND","Za","Zo","MD","MD","MD","MD","MD","Za","Zo","DD","DD","DD","DD","DD","DD","Zo","ND","ND","ND","ND","ND","Za","Zo","MD","MD","MD","MD","MD","Za","Zo","DD","DD","DD","DD","DD","DD","Zo","ND","ND","ND","ND","ND","Za","Zo","MD","MD","MD","MD","MD","Za","Zo","DD","DD","DD","DD","DD","DD",{"$f":"SHIFTE1(LK1)","v":"Zo"},"ND","ND","ND","ND","ND","Za","Zo","MD","MD","MD","MD","MD","Za","Zo","DD","DD","DD","DD","DD","DD","Zo","ND","ND","ND","ND","ND","Za","Zo","MD","MD","MD","MD","MD","Za","Zo","DD","DD","DD","DD","DD","DD","Zo","ND","ND","ND","ND","ND","Za","Zo","MD"]
["E2",{"$f":"SHIFTE2(B1)","v":"ND"},{"$f":"SHIFTE2(C1)","v":"ND"},"ND","ND","ND","Za","Zo","MD","MD","MD","MD","MD","Za","Zo","DD","DD","DD","DD","DD","DD","Zo","ND","ND","ND","ND","ND","Za","Zo","MD","MD","MD","MD","MD","Za","Zo","DD","DD","DD","DD","DD","DD","Zo","ND","ND","ND","ND","ND","Za","Zo","MD","MD","MD","MD","MD","Za","Zo","DD","DD","DD","DD","DD","DD","Zo","ND","ND",{"$f":"SHIFTE2(BO1)","v":"ND"},"ND","ND","Za","Zo","MD","MD","MD","MD","MD","Za","Zo","DD","DD","DD","DD","DD","DD","Zo","ND","ND","ND","ND","ND","Za","Zo","MD","MD","MD","MD","MD","Za","Zo","DD","DD","DD","DD","DD","DD","Zo","ND","ND","ND","ND","ND","Za","Zo","MD","MD","MD","MD","MD","Za","Zo","DD","DD","DD","DD","DD","DD","Zo","ND","ND","ND",{"$f":"SHIFTE2(EA1)","v":"ND"},"ND","Za","Zo","MD","MD","MD","MD","MD","Za","Zo","DD","DD","DD","DD","DD","DD","Zo","ND","ND","ND","ND","ND","Za","Zo","MD","MD","MD","MD","MD","Za","Zo","DD","DD","DD","DD","DD","DD","Zo","ND","ND","ND","ND","ND","Za","Zo","MD","MD","MD","MD","MD","Za","Zo","DD","DD","DD","DD","DD","DD","Zo","ND","ND","ND","ND",{"$f":"SHIFTE2(GM1)","v":"ND"},"Za","Zo","MD","MD","MD","MD","MD","Za","Zo","DD","DD","DD","DD","DD","DD","Zo","ND","ND","ND","ND","ND","Za","Zo","MD","MD","MD","MD","MD","Za","Zo","DD","DD","DD","DD","DD","DD","Zo","ND","ND","ND","ND","ND","Za","Zo","MD","MD","MD","MD","MD","Za","Zo","DD","DD","DD","DD","DD","DD","Zo","ND","ND","ND","ND","ND",{"$f":"SHIFTE2(IY1)","v":"Za"},"Zo","MD","MD","MD","MD","MD","Za","Zo","DD","DD","DD","DD","DD","DD","Zo","ND","ND","ND","ND","ND","Za","Zo","MD","MD","MD","MD","MD","Za","Zo","DD","DD","DD","DD","DD","DD","Zo","ND","ND","ND","ND","ND","Za","Zo","MD","MD","MD","MD","MD","Za","Zo","DD","DD","DD","DD","DD","DD","Zo","ND","ND","ND","ND","ND","Za",{"$f":"SHIFTE2(LK1)","v":"Zo"},"MD","MD","MD","MD","MD","Za","Zo","DD","DD","DD","DD","DD","DD","Zo","ND","ND","ND","ND","ND","Za","Zo","MD","MD","MD","MD","MD","Za","Zo","DD","DD","DD","DD","DD","DD","Zo","ND","ND","ND","ND","ND","Za","Zo","MD","MD","MD","MD","MD","Za","Zo","DD"]
["E3",{"$f":"SHIFTE3(B1)","v":"MD"},{"$f":"SHIFTE3(C1)","v":"MD"},"MD","MD","MD","Za","Zo","DD","DD","DD","DD","DD","DD","Zo","ND","ND","ND","ND","ND","Za","Zo","MD","MD","MD","MD","MD","Za","Zo","DD","DD","DD","DD","DD","DD","Zo","ND","ND","ND","ND","ND","Za","Zo","MD","MD","MD","MD","MD","Za","Zo","DD","DD","DD","DD","DD","DD","Zo","ND","ND","ND","ND","ND","Za","Zo","MD","MD",{"$f":"SHIFTE3(BO1)","v":"MD"},"MD","MD","Za","Zo","DD","DD","DD","DD","DD","DD","Zo","ND","ND","ND","ND","ND","Za","Zo","MD","MD","MD","MD","MD","Za","Zo","DD","DD","DD","DD","DD","DD","Zo","ND","ND","ND","ND","ND","Za","Zo","MD","MD","MD","MD","MD","Za","Zo","DD","DD","DD","DD","DD","DD","Zo","ND","ND","ND","ND","ND","Za","Zo","MD","MD","MD",{"$f":"SHIFTE3(EA1)","v":"MD"},"MD","Za","Zo","DD","DD","DD","DD","DD","DD","Zo","ND","ND","ND","ND","ND","Za","Zo","MD","MD","MD","MD","MD","Za","Zo","DD","DD","DD","DD","DD","DD","Zo","ND","ND","ND","ND","ND","Za","Zo","MD","MD","MD","MD","MD","Za","Zo","DD","DD","DD","DD","DD","DD","Zo","ND","ND","ND","ND","ND","Za","Zo","MD","MD","MD","MD",{"$f":"SHIFTE3(GM1)","v":"MD"},"Za","Zo","DD","DD","DD","DD","DD","DD","Zo","ND","ND","ND","ND","ND","Za","Zo","MD","MD","MD","MD","MD","Za","Zo","DD","DD","DD","DD","DD","DD","Zo","ND","ND","ND","ND","ND","Za","Zo","MD","MD","MD","MD","MD","Za","Zo","DD","DD","DD","DD","DD","DD","Zo","ND","ND","ND","ND","ND","Za","Zo","MD","MD","MD","MD","MD",{"$f":"SHIFTE3(IY1)","v":"Za"},"Zo","DD","DD","DD","DD","DD","DD","Zo","ND","ND","ND","ND","ND","Za","Zo","MD","MD","MD","MD","MD","Za","Zo","DD","DD","DD","DD","DD","DD","Zo","ND","ND","ND","ND","ND","Za","Zo","MD","MD","MD","MD","MD","Za","Zo","DD","DD","DD","DD","DD","DD","Zo","ND","ND","ND","ND","ND","Za","Zo","MD","MD","MD","MD","MD","Za",{"$f":"SHIFTE3(LK1)","v":"Zo"},"DD","DD","DD","DD","DD","DD","Zo","ND","ND","ND","ND","ND","Za","Zo","MD","MD","MD","MD","MD","Za","Zo","DD","DD","DD","DD","DD","DD","Zo","ND","ND","ND","ND","ND","Za","Zo","MD","MD","MD","MD","MD","Za","Zo","DD","DD","DD","DD","DD","DD","Zo","ND"]
["AvD",{"$f":"SHIFTAvD(B1)","v":"DD"},{"$f":"SHIFTAvD(C1)","v":"DD"},"DD","DD","DD","Za","Zo","DD","DD","DD","DD","DD","Za","Zo","DD","DD","DD","DD","DD","Za","Zo","DD","DD","DD","DD","DD","Za","Zo","DD","DD","DD","DD","DD","Za","Zo","DD","DD","DD","DD","DD","Za","Zo","DD","DD","DD","DD","DD","Za","Zo","DD","DD","DD","DD","DD","Za","Zo","DD","DD","DD","DD","DD","Za","Zo","DD","DD",{"$f":"SHIFTAvD(BO1)","v":"DD"},"DD","DD","Za","Zo","DD","DD","DD","DD","DD","Za","Zo","DD","DD","DD","DD","DD","Za","Zo","DD","DD","DD","DD","DD","Za","Zo","DD","DD","DD","DD","DD","Za","Zo","DD","DD","DD","DD","DD","Za","Zo","DD","DD","DD","DD","DD","Za","Zo","DD","DD","DD","DD","DD","Za","Zo","DD","DD","DD","DD","DD","Za","Zo","DD","DD","DD",{"$f":"SHIFTAvD(EA1)","v":"DD"},"DD","Za","Zo","DD","DD","DD","DD","DD","Za","Zo","DD","DD","DD","DD","DD","Za","Zo","DD","DD","DD","DD","DD","Za","Zo","DD","DD","DD","DD","DD","Za","Zo","DD","DD","DD","DD","DD","Za","Zo","DD","DD","DD","DD","DD","Za","Zo","DD","DD","DD","DD","DD","Za","Zo","DD","DD","DD","DD","DD","Za","Zo","DD","DD","DD","DD",{"$f":"SHIFTAvD(GM1)","v":"DD"},"Za","Zo","DD","DD","DD","DD","DD","Za","Zo","DD","DD","DD","DD","DD","Za","Zo","DD","DD","DD","DD","DD","Za","Zo","DD","DD","DD","DD","DD","Za","Zo","DD","DD","DD","DD","DD","Za","Zo","DD","DD","DD","DD","DD","Za","Zo","DD","DD","DD","DD","DD","Za","Zo","DD","DD","DD","DD","DD","Za","Zo","DD","DD","DD","DD","DD",{"$f":"SHIFTAvD(IY1)","v":"Za"},"Zo","DD","DD","DD","DD","DD","Za","Zo","DD","DD","DD","DD","DD","Za","Zo","DD","DD","DD","DD","DD","Za","Zo","DD","DD","DD","DD","DD","Za","Zo","DD","DD","DD","DD","DD","Za","Zo","DD","DD","DD","DD","DD","Za","Zo","DD","DD","DD","DD","DD","Za","Zo","DD","DD","DD","DD","DD","Za","Zo","DD","DD","DD","DD","DD","Za",{"$f":"SHIFTAvD(LK1)","v":"Zo"},"DD","DD","DD","DD","DD","Za","Zo","DD","DD","DD","DD","DD","Za","Zo","DD","DD","DD","DD","DD","Za","Zo","DD","DD","DD","DD","DD","Za","Zo","DD","DD","DD","DD","DD","Za","Zo","DD","DD","DD","DD","DD","Za","Zo","DD","DD","DD","DD","DD","Za","Zo","DD"]
["BvM",{"$f":"SHIFTBvM(B1)","v":"MD"},{"$f":"SHIFTBvM(C1)","v":"MD"},"MD","MD","MD","Za","Zo","MD","MD","MD","MD","MD","Za","Zo","MD","MD","MD","MD","MD","Za","Zo","MD","MD","MD","MD","MD","Za","Zo","MD","MD","MD","MD","MD","Za","Zo","MD","MD","MD","MD","MD","Za","Zo","MD","MD","MD","MD","MD","Za","Zo","MD","MD","MD","MD","MD","Za","Zo","MD","MD","MD","MD","MD","Za","Zo","MD","MD",{"$f":"SHIFTBvM(BO1)","v":"MD"},"MD","MD","Za","Zo","MD","MD","MD","MD","MD","Za","Zo","MD","MD","MD","MD","MD","Za","Zo","MD","MD","MD","MD","MD","Za","Zo","MD","MD","MD","MD","MD","Za","Zo","MD","MD","MD","MD","MD","Za","Zo","MD","MD","MD","MD","MD","Za","Zo","MD","MD","MD","MD","MD","Za","Zo","MD","MD","MD","MD","MD","Za","Zo","MD","MD","MD",{"$f":"SHIFTBvM(EA1)","v":"MD"},"MD","Za","Zo","MD","MD","MD","MD","MD","Za","Zo","MD","MD","MD","MD","MD","Za","Zo","MD","MD","MD","MD","MD","Za","Zo","MD","MD","MD","MD","MD","Za","Zo","MD","MD","MD","MD","MD","Za","Zo","MD","MD","MD","MD","MD","Za","Zo","MD","MD","MD","MD","MD","Za","Zo","MD","MD","MD","MD","MD","Za","Zo","MD","MD","MD","MD",{"$f":"SHIFTBvM(GM1)","v":"MD"},"Za","Zo","MD","MD","MD","MD","MD","Za","Zo","MD","MD","MD","MD","MD","Za","Zo","MD","MD","MD","MD","MD","Za","Zo","MD","MD","MD","MD","MD","Za","Zo","MD","MD","MD","MD","MD","Za","Zo","MD","MD","MD","MD","MD","Za","Zo","MD","MD","MD","MD","MD","Za","Zo","MD","MD","MD","MD","MD","Za","Zo","MD","MD","MD","MD","MD",{"$f":"SHIFTBvM(IY1)","v":"Za"},"Zo","MD","MD","MD","MD","MD","Za","Zo","MD","MD","MD","MD","MD","Za","Zo","MD","MD","MD","MD","MD","Za","Zo","MD","MD","MD","MD","MD","Za","Zo","MD","MD","MD","MD","MD","Za","Zo","MD","MD","MD","MD","MD","Za","Zo","MD","MD","MD","MD","MD","Za","Zo","MD","MD","MD","MD","MD","Za","Zo","MD","MD","MD","MD","MD","Za",{"$f":"SHIFTBvM(LK1)","v":"Zo"},"MD","MD","MD","MD","MD","Za","Zo","MD","MD","MD","MD","MD","Za","Zo","MD","MD","MD","MD","MD","Za","Zo","MD","MD","MD","MD","MD","Za","Zo","MD","MD","MD","MD","MD","Za","Zo","MD","MD","MD","MD","MD","Za","Zo","MD","MD","MD","MD","MD","Za","Zo","MD"]