{"text_format":"1","workbook":"xlsx","n_sheets":6,"sheets":["BSC Master ","TA SRA LH","TA SRA RH","Grafieken","Data voor grafieken","DATA"],"not_rendered":{"charts":19,"images":3,"macros":1,"external_links":1,"defined_names":4,"comments":0,"pivot_tables":0},"unopened":[],"bounds":{"document_bytes":16777216,"sheet_cells":100000,"rows_first":2000,"rows_last":500,"rows_between":2000,"halvings":0,"cell_chars":16384,"cell_head_chars":4096},"cells_cut":0,"cells_raw":0,"read":"whole","date_system":"1900"}

{"sheet":"BSC Master ","index":0,"n_rows":61,"n_cols":15,"rows_kept":61,"cut":false,"hidden":false,"merged":[[40,0,49,0],[50,0,59,0],[60,0,69,0],[20,0,29,0],[30,0,39,0],[11,1,12,11],[1,1,2,2],[1,3,2,3],[1,5,1,6],[1,8,1,14],[2,5,8,6],[3,1,5,2],[3,3,5,3],[6,1,8,2],[6,3,8,3]]}
[]
[null,"Document Owner",null,"E. Berghmans",null,"Subject",null,null,"Status Overview Actionlog"]
[null,null,null,null,null,"SRA LH/RH",null,null,"Date:",{"$f":"TODAY()","v":"2018-10-02"}]
[null,"Revision",null,"1.1"]
[null,null,null,null,null,null,null,null,null,"Status","Count"]
[null,null,null,null,null,null,null,null,null,"Ready",{"$f":"COUNTIF($M$21:$M$50,\"=Ready\")","v":0}]
[null,"Revision date",null,"2014-10-23",null,null,null,null,null,"Late",{"$f":"COUNTIF($M$21:$M$50,\"=Late\")","v":0}]
[null,null,null,null,null,null,null,null,null,"Pending",{"$f":"COUNTIF($M$21:$M$50,\"=Pending\")","v":1}]
[]
[]
[]
[]
[]
[]
[]
[]
[]
[]
[]
[null,"Nr.","Type","Station","Probleem","TAF ","Oorzaak","Actie","Resp.","Date\nAssigned","Target \nCompletion Date","Actual Completion Date","Status","Beheerder","Prio"]
[1,null,"ALL",21,"Uitval Pallethouse door diverse oorzaken",null,"Delen niet goed in kooi, nieuwe chauffeurs","Diverse keren MH aangesproken, Camera geplaatst, maar HD weggehaald i.v.m. prioriteiten elders"]
[null,null,null,null,null,null,"Kooien sluitbalk niet open"]
[]
[]
[]
[]
[]
[]
[]
[]
[2,"pfu","ALL","10CT01","CT's veel pickproblemen op de gripper bij het picken van het deel uit de CT",80416535,"Door extra gewicht klemmen en tooling F48, CT-Tafel niet meer is gefixeerde positie. Enige speling.","Paal met opnamepen maken waar CT altijd in gefixeerde toestand op staat.\nUpdate 7-11-2017: nog geen vorderingen.\nUpdate 8-11-2017: Will Kroonen pakt thema op.\nUpdate 16-11-2017: verdere acties?\nUpdate 20-11-2017: thema nogmaals besproken met Will Kroonen.\nUpdate 22-11-2017: ordernr toegevoegd.\nUpdate: 7-12-2017: Engelbert as vrijdag 8-12-17 testen.","Will Kroonen","2017-11-03","2018-01-28",null,"pending","Will Kroonen"]
[]
[]
[]
[]
[]
[]
[]
[]
[]
[3]
[]
[]
[]
[null,null,"Outer RH","67FX01","B029PP valt uit aan de laszijde.",null,"Constructie moet worden nagekeken en aangepast","Will Kroonen heeft order aangemaakt 80496141","Will Krooenen","2018-09-10","2018-09-24",null,"Open"]
[]
[]
[]
[]
[]
[4]
[]
[]
[]
[]
[]
[]
[]
[]
[]
[5]

{"sheet":"TA SRA LH","index":1,"n_rows":1118,"n_cols":52,"rows_kept":1118,"cut":false,"hidden":false,"merged":[[0,23,2,27],[5,24,7,24],[5,36,25,36],[2,28,2,31],[5,50,25,50],[8,24,10,24],[11,24,13,24],[14,24,16,24],[17,24,19,24],[20,24,22,24],[23,24,25,24],[5,43,25,43],[5,44,25,44],[5,45,25,45],[5,46,25,46],[5,47,25,47],[5,48,25,48],[5,37,25,37],[5,38,25,38],[5,39,25,39],[5,40,25,40],[5,41,25,41],[5,42,25,42],[0,38,2,38],[0,37,2,37],[4,41,4,42],[4,39,4,40],[4,37,4,38],[0,43,1,46],[2,43,2,46],[0,41,2,41],[5,49,25,49],[35,24,37,24],[38,24,40,24],[41,24,43,24],[44,24,46,24],[26,41,46,41],[26,42,46,42],[26,43,46,43],[26,44,46,44],[26,45,46,45],[26,46,46,46],[26,24,28,24],[26,36,46,36],[26,37,46,37],[26,38,46,38],[26,39,46,39],[26,40,46,40],[26,49,46,49],[0,42,2,42],[0,28,0,29],[1,28,1,29],[0,30,0,31],[1,30,1,31],[47,47,67,47],[47,48,67,48],[47,50,67,50],[50,24,52,24],[53,24,55,24],[56,24,58,24],[59,24,61,24],[62,24,64,24],[65,24,67,24],[47,41,67,41],[47,42,67,42],[47,43,67,43],[47,44,67,44],[47,45,67,45],[47,46,67,46],[47,24,49,24],[47,36,67,36],[47,37,67,37],[47,38,67,38],[47,39,67,39],[47,40,67,40],[47,49,67,49],[26,47,46,47],[26,48,46,48],[26,50,46,50],[29,24,31,24],[32,24,34,24],[68,47,88,47],[68,48,88,48],[68,50,88,50],[71,24,73,24],[74,24,76,24],[77,24,79,24],[80,24,82,24],[83,24,85,24],[86,24,88,24],[68,41,88,41],[68,42,88,42],[68,43,88,43],[68,44,88,44],[68,45,88,45],[68,46,88,46],[68,24,70,24],[68,36,88,36],[68,37,88,37],[68,38,88,38],[68,39,88,39],[68,40,88,40],[68,49,88,49],[89,47,109,47],[89,48,109,48],[89,50,109,50],[92,24,94,24],[95,24,97,24],[98,24,100,24],[101,24,103,24],[104,24,106,24],[107,24,109,24],[89,41,109,41],[89,42,109,42],[89,43,109,43],[89,44,109,44],[89,45,109,45],[89,46,109,46],[89,24,91,24],[89,36,109,36],[89,37,109,37],[89,38,109,38],[89,39,109,39],[89,40,109,40],[89,49,109,49],[110,47,130,47],[110,48,130,48],[110,50,130,50],[113,24,115,24],[116,24,118,24],[119,24,121,24],[122,24,124,24],[125,24,127,24],[128,24,130,24],[110,41,130,41],[110,42,130,42],[110,43,130,43],[110,44,130,44],[110,45,130,45],[110,46,130,46],[110,24,112,24],[110,36,130,36],[110,37,130,37],[110,38,130,38],[110,39,130,39],[110,40,130,40],[110,49,130,49],[131,47,151,47],[131,48,151,48],[131,50,151,50],[134,24,136,24],[137,24,139,24],[140,24,142,24],[143,24,145,24],[146,24,148,24],[149,24,151,24],[131,41,151,41],[131,42,151,42],[131,43,151,43],[131,44,151,44],[131,45,151,45],[131,46,151,46],[131,24,133,24],[131,36,151,36],[131,37,151,37],[131,38,151,38],[131,39,151,39],[131,40,151,40],[131,49,151,49],[152,47,172,47],[152,48,172,48],[152,50,172,50],[155,24,157,24],[158,24,160,24],[161,24,163,24],[164,24,166,24],[167,24,169,24],[170,24,172,24],[152,41,172,41],[152,42,172,42],[152,43,172,43],[152,44,172,44],[152,45,172,45],[152,46,172,46],[152,24,154,24],[152,36,172,36],[152,37,172,37],[152,38,172,38],[152,39,172,39],[152,40,172,40],[152,49,172,49],[173,47,193,47],[173,48,193,48],[173,50,193,50],[176,24,178,24],[179,24,181,24],[182,24,184,24],[185,24,187,24],[188,24,190,24],[191,24,193,24],[173,41,193,41],[173,42,193,42],[173,43,193,43],[173,44,193,44],[173,45,193,45],[173,46,193,46],[173,24,175,24],[173,36,193,36],[173,37,193,37],[173,38,193,38],[173,39,193,39],[173,40,193,40],[173,49,193,49],[194,47,214,47],[194,48,214,48],[194,50,214,50],[197,24,199,24],[200,24,202,24],[203,24,205,24],[206,24,208,24],[209,24,211,24],[212,24,214,24],[194,41,214,41],[194,42,214,42],[194,43,214,43],[194,44,214,44],[194,45,214,45],[194,46,214,46],[194,24,196,24],[194,36,214,36],[194,37,214,37],[194,38,214,38],[194,39,214,39],[194,40,214,40],[194,49,214,49],[215,47,235,47],[215,48,235,48],[215,50,235,50],[218,24,220,24],[221,24,223,24],[224,24,226,24],[227,24,229,24],[230,24,232,24],[233,24,235,24],[215,41,235,41],[215,42,235,42],[215,43,235,43],[215,44,235,44],[215,45,235,45],[215,46,235,46],[215,24,217,24],[215,36,235,36],[215,37,235,37],[215,38,235,38],[215,39,235,39],[215,40,235,40],[215,49,235,49],[236,47,256,47],[236,48,256,48],[236,50,256,50],[239,24,241,24],[242,24,244,24],[245,24,247,24],[248,24,250,24],[251,24,253,24],[254,24,256,24],[236,41,256,41],[236,42,256,42],[236,43,256,43],[236,44,256,44],[236,45,256,45],[236,46,256,46],[236,24,238,24],[236,36,256,36],[236,37,256,37],[236,38,256,38],[236,39,256,39],[236,40,256,40],[236,49,256,49],[257,47,277,47],[257,48,277,48],[257,50,277,50],[260,24,262,24],[263,24,265,24],[266,24,268,24],[269,24,271,24],[272,24,274,24],[275,24,277,24],[257,41,277,41],[257,42,277,42],[257,43,277,43],[257,44,277,44],[257,45,277,45],[257,46,277,46],[257,24,259,24],[257,36,277,36],[257,37,277,37],[257,38,277,38],[257,39,277,39],[257,40,277,40],[257,49,277,49],[278,47,298,47],[278,48,298,48],[278,50,298,50],[281,24,283,24],[284,24,286,24],[287,24,289,24],[290,24,292,24],[293,24,295,24],[296,24,298,24],[278,41,298,41],[278,42,298,42],[278,43,298,43],[278,44,298,44],[278,45,298,45],[278,46,298,46],[278,24,280,24],[278,36,298,36],[278,37,298,37],[278,38,298,38],[278,39,298,39],[278,40,298,40],[278,49,298,49],[299,47,319,47],[299,48,319,48],[299,50,319,50],[302,24,304,24],[305,24,307,24],[308,24,310,24],[311,24,313,24],[314,24,316,24],[317,24,319,24],[299,41,319,41],[299,42,319,42],[299,43,319,43],[299,44,319,44],[299,45,319,45],[299,46,319,46],[299,24,301,24],[299,36,319,36],[299,37,319,37],[299,38,319,38],[299,39,319,39],[299,40,319,40],[299,49,319,49],[320,47,340,47],[320,48,340,48],[320,50,340,50],[323,24,325,24],[326,24,328,24],[329,24,331,24],[332,24,334,24],[335,24,337,24],[338,24,340,24],[320,41,340,41],[320,42,340,42],[320,43,340,43],[320,44,340,44],[320,45,340,45],[320,46,340,46],[320,24,322,24],[320,36,340,36],[320,37,340,37],[320,38,340,38],[320,39,340,39],[320,40,340,40],[320,49,340,49],[341,47,361,47],[341,48,361,48],[341,50,361,50],[344,24,346,24],[347,24,349,24],[350,24,352,24],[353,24,355,24],[356,24,358,24],[359,24,361,24],[341,41,361,41],[341,42,361,42],[341,43,361,43],[341,44,361,44],[341,45,361,45],[341,46,361,46],[341,24,343,24],[341,36,361,36],[341,37,361,37],[341,38,361,38],[341,39,361,39],[341,40,361,40],[341,49,361,49],[362,47,382,47],[362,48,382,48],[362,50,382,50],[365,24,367,24],[368,24,370,24],[371,24,373,24],[374,24,376,24],[377,24,379,24],[380,24,382,24],[362,41,382,41],[362,42,382,42],[362,43,382,43],[362,44,382,44],[362,45,382,45],[362,46,382,46],[362,24,364,24],[362,36,382,36],[362,37,382,37],[362,38,382,38],[362,39,382,39],[362,40,382,40],[362,49,382,49],[383,47,403,47],[383,48,403,48],[383,50,403,50],[386,24,388,24],[389,24,391,24],[392,24,394,24],[395,24,397,24],[398,24,400,24],[401,24,403,24],[383,41,403,41],[383,42,403,42],[383,43,403,43],[383,44,403,44],[383,45,403,45],[383,46,403,46],[383,24,385,24],[383,36,403,36],[383,37,403,37],[383,38,403,38],[383,39,403,39],[383,40,403,40],[383,49,403,49],[404,47,424,47],[404,48,424,48],[404,50,424,50],[407,24,409,24],[410,24,412,24],[413,24,415,24],[416,24,418,24],[419,24,421,24],[422,24,424,24],[404,41,424,41],[404,42,424,42],[404,43,424,43],[404,44,424,44],[404,45,424,45],[404,46,424,46],[404,24,406,24],[404,36,424,36],[404,37,424,37],[404,38,424,38],[404,39,424,39],[404,40,424,40],[404,49,424,49],[425,47,445,47],[425,48,445,48],[425,50,445,50],[428,24,430,24],[431,24,433,24],[434,24,436,24],[437,24,439,24],[440,24,442,24],[443,24,445,24],[425,41,445,41],[425,42,445,42],[425,43,445,43],[425,44,445,44],[425,45,445,45],[425,46,445,46],[425,24,427,24],[425,36,445,36],[425,37,445,37],[425,38,445,38],[425,39,445,39],[425,40,445,40],[425,49,445,49],[446,47,466,47],[446,48,466,48],[446,50,466,50],[449,24,451,24],[452,24,454,24],[455,24,457,24],[458,24,460,24],[461,24,463,24],[464,24,466,24],[446,41,466,41],[446,42,466,42],[446,43,466,43],[446,44,466,44],[446,45,466,45],[446,46,466,46],[446,24,448,24],[446,36,466,36],[446,37,466,37],[446,38,466,38],[446,39,466,39],[446,40,466,40],[446,49,466,49],[467,47,487,47],[467,48,487,48],[467,50,487,50],[470,24,472,24],[473,24,475,24],[476,24,478,24],[479,24,481,24],[482,24,484,24],[485,24,487,24],[467,41,487,41],[467,42,487,42],[467,43,487,43],[467,44,487,44],[467,45,487,45],[467,46,487,46],[467,24,469,24],[467,36,487,36],[467,37,487,37],[467,38,487,38],[467,39,487,39],[467,40,487,40],[467,49,487,49],[488,46,508,46],[488,47,508,47],[488,48,508,48],[488,50,508,50],[491,24,493,24],[494,24,496,24],[497,24,499,24],[500,24,502,24],[503,24,505,24],[506,24,508,24],[488,40,508,40],[488,41,508,41],[488,42,508,42],[488,43,508,43],[488,44,508,44],[488,45,508,45],[488,24,490,24],[488,36,508,36],[488,37,508,37],[488,38,508,38],[488,39,508,39],[488,49,508,49],[509,46,529,46],[509,47,529,47],[509,48,529,48],[509,50,529,50],[512,24,514,24],[515,24,517,24],[518,24,520,24],[521,24,523,24],[524,24,526,24],[527,24,529,24],[509,40,529,40],[509,41,529,41],[509,42,529,42],[509,43,529,43],[509,44,529,44],[509,45,529,45],[509,24,511,24],[509,36,529,36],[509,37,529,37],[509,38,529,38],[509,39,529,39],[509,49,529,49],[530,46,550,46],[530,47,550,47],[530,48,550,48],[530,50,550,50],[533,24,535,24],[536,24,538,24],[539,24,541,24],[542,24,544,24],[545,24,547,24],[548,24,550,24],[530,40,550,40],[530,41,550,41],[530,42,550,42],[530,43,550,43],[530,44,550,44],[530,45,550,45],[530,24,532,24],[530,36,550,36],[530,37,550,37],[530,38,550,38],[530,39,550,39],[530,49,550,49],[551,46,571,46],[551,47,571,47],[551,48,571,48],[551,50,571,50],[554,24,556,24],[557,24,559,24],[560,24,562,24],[563,24,565,24],[566,24,568,24],[569,24,571,24],[551,40,571,40],[551,41,571,41],[551,42,571,42],[551,43,571,43],[551,44,571,44],[551,45,571,45],[551,24,553,24],[551,36,571,36],[551,37,571,37],[551,38,571,38],[551,39,571,39],[551,49,571,49],[572,46,592,46],[572,47,592,47],[572,48,592,48],[572,50,592,50],[575,24,577,24],[578,24,580,24],[581,24,583,24],[584,24,586,24],[587,24,589,24],[590,24,592,24],[572,40,592,40],[572,41,592,41],[572,42,592,42],[572,43,592,43],[572,44,592,44],[572,45,592,45],[572,24,574,24],[572,36,592,36],[572,37,592,37],[572,38,592,38],[572,39,592,39],[572,49,592,49],[593,46,613,46],[593,47,613,47],[593,48,613,48],[593,50,613,50],[596,24,598,24],[599,24,601,24],[602,24,604,24],[605,24,607,24],[608,24,610,24],[611,24,613,24],[593,40,613,40],[593,41,613,41],[593,42,613,42],[593,43,613,43],[593,44,613,44],[593,45,613,45],[593,24,595,24],[593,36,613,36],[593,37,613,37],[593,38,613,38],[593,39,613,39],[593,49,613,49],[614,46,634,46],[614,47,634,47],[614,48,634,48],[614,50,634,50],[617,24,619,24],[620,24,622,24],[623,24,625,24],[626,24,628,24],[629,24,631,24],[632,24,634,24],[614,40,634,40],[614,41,634,41],[614,42,634,42],[614,43,634,43],[614,44,634,44],[614,45,634,45],[614,24,616,24],[614,36,634,36],[614,37,634,37],[614,38,634,38],[614,39,634,39],[614,49,634,49],[635,46,655,46],[635,47,655,47],[635,48,655,48],[635,50,655,50],[638,24,640,24],[641,24,643,24],[644,24,646,24],[647,24,649,24],[650,24,652,24],[653,24,655,24],[635,40,655,40],[635,41,655,41],[635,42,655,42],[635,43,655,43],[635,44,655,44],[635,45,655,45],[635,24,637,24],[635,36,655,36],[635,37,655,37],[635,38,655,38],[635,39,655,39],[635,49,655,49],[656,46,676,46],[656,47,676,47],[656,48,676,48],[656,50,676,50],[659,24,661,24],[662,24,664,24],[665,24,667,24],[668,24,670,24],[671,24,673,24],[674,24,676,24],[656,40,676,40],[656,41,676,41],[656,42,676,42],[656,43,676,43],[656,44,676,44],[656,45,676,45],[656,24,658,24],[656,36,676,36],[656,37,676,37],[656,38,676,38],[656,39,676,39],[656,49,676,49],[677,46,697,46],[677,47,697,47],[677,48,697,48],[677,50,697,50],[680,24,682,24],[683,24,685,24],[686,24,688,24],[689,24,691,24],[692,24,694,24],[695,24,697,24],[677,40,697,40],[677,41,697,41],[677,42,697,42],[677,43,697,43],[677,44,697,44],[677,45,697,45],[677,24,679,24],[677,36,697,36],[677,37,697,37],[677,38,697,38],[677,39,697,39],[677,49,697,49],[698,46,718,46],[698,47,718,47],[698,48,718,48],[698,50,718,50],[701,24,703,24],[704,24,706,24],[707,24,709,24],[710,24,712,24],[713,24,715,24],[716,24,718,24],[698,40,718,40],[698,41,718,41],[698,42,718,42],[698,43,718,43],[698,44,718,44],[698,45,718,45],[698,24,700,24],[698,36,718,36],[698,37,718,37],[698,38,718,38],[698,39,718,39],[698,49,718,49],[719,46,739,46],[719,47,739,47],[719,48,739,48],[719,50,739,50],[722,24,724,24],[725,24,727,24],[728,24,730,24],[731,24,733,24],[734,24,736,24],[737,24,739,24],[719,40,739,40],[719,41,739,41],[719,42,739,42],[719,43,739,43],[719,44,739,44],[719,45,739,45],[719,24,721,24],[719,36,739,36],[719,37,739,37],[719,38,739,38],[719,39,739,39],[719,49,739,49],[740,46,760,46],[740,47,760,47],[740,48,760,48],[740,50,760,50],[743,24,745,24],[746,24,748,24],[749,24,751,24],[752,24,754,24],[755,24,757,24],[758,24,760,24],[740,40,760,40],[740,41,760,41],[740,42,760,42],[740,43,760,43],[740,44,760,44],[740,45,760,45],[740,24,742,24],[740,36,760,36],[740,37,760,37],[740,38,760,38],[740,39,760,39],[740,49,760,49],[761,46,781,46],[761,47,781,47],[761,48,781,48],[761,50,781,50],[764,24,766,24],[767,24,769,24],[770,24,772,24],[773,24,775,24],[776,24,778,24],[779,24,781,24],[761,40,781,40],[761,41,781,41],[761,42,781,42],[761,43,781,43],[761,44,781,44],[761,45,781,45],[761,24,763,24],[761,36,781,36],[761,37,781,37],[761,38,781,38],[761,39,781,39],[761,49,781,49],[782,46,802,46],[782,47,802,47],[782,48,802,48],[782,50,802,50],[785,24,787,24],[788,24,790,24],[791,24,793,24],[794,24,796,24],[797,24,799,24],[800,24,802,24],[782,40,802,40],[782,41,802,41],[782,42,802,42],[782,43,802,43],[782,44,802,44],[782,45,802,45],[782,24,784,24],[782,36,802,36],[782,37,802,37],[782,38,802,38],[782,39,802,39],[782,49,802,49],[803,46,823,46],[803,47,823,47],[803,48,823,48],[803,50,823,50],[806,24,808,24],[809,24,811,24],[812,24,814,24],[815,24,817,24],[818,24,820,24],[821,24,823,24],[803,40,823,40],[803,41,823,41],[803,42,823,42],[803,43,823,43],[803,44,823,44],[803,45,823,45],[803,24,805,24],[803,36,823,36],[803,37,823,37],[803,38,823,38],[803,39,823,39],[803,49,823,49],[824,46,844,46],[824,47,844,47],[824,48,844,48],[824,50,844,50],[827,24,829,24],[830,24,832,24],[833,24,835,24],[836,24,838,24],[839,24,841,24],[842,24,844,24],[824,40,844,40],[824,41,844,41],[824,42,844,42],[824,43,844,43],[824,44,844,44],[824,45,844,45],[824,24,826,24],[824,36,844,36],[824,37,844,37],[824,38,844,38],[824,39,844,39],[824,49,844,49],[845,46,865,46],[845,47,865,47],[845,48,865,48],[845,50,865,50],[848,24,850,24],[851,24,853,24],[854,24,856,24],[857,24,859,24],[860,24,862,24],[863,24,865,24],[845,40,865,40],[845,41,865,41],[845,42,865,42],[845,43,865,43],[845,44,865,44],[845,45,865,45],[845,24,847,24],[845,36,865,36],[845,37,865,37],[845,38,865,38],[845,39,865,39],[845,49,865,49],[866,46,886,46],[866,47,886,47],[866,48,886,48],[866,50,886,50],[869,24,871,24],[872,24,874,24],[875,24,877,24],[878,24,880,24],[881,24,883,24],[884,24,886,24],[866,40,886,40],[866,41,886,41],[866,42,886,42],[866,43,886,43],[866,44,886,44],[866,45,886,45],[866,24,868,24],[866,36,886,36],[866,37,886,37],[866,38,886,38],[866,39,886,39],[866,49,886,49],[887,46,907,46],[887,47,907,47],[887,48,907,48],[887,50,907,50],[890,24,892,24],[893,24,895,24],[896,24,898,24],[899,24,901,24],[902,24,904,24],[905,24,907,24],[887,40,907,40],[887,41,907,41],[887,42,907,42],[887,43,907,43],[887,44,907,44],[887,45,907,45],[887,24,889,24],[887,36,907,36],[887,37,907,37],[887,38,907,38],[887,39,907,39],[887,49,907,49],[908,46,928,46],[908,47,928,47],[908,48,928,48],[908,50,928,50],[911,24,913,24],[914,24,916,24],[917,24,919,24],[920,24,922,24],[923,24,925,24],[926,24,928,24],[908,40,928,40],[908,41,928,41],[908,42,928,42],[908,43,928,43],[908,44,928,44],[908,45,928,45],[908,24,910,24],[908,36,928,36],[908,37,928,37],[908,38,928,38],[908,39,928,39],[908,49,928,49],[929,46,949,46],[929,47,949,47],[929,48,949,48],[929,50,949,50],[932,24,934,24],[935,24,937,24],[938,24,940,24],[941,24,943,24],[944,24,946,24],[947,24,949,24],[929,40,949,40],[929,41,949,41],[929,42,949,42],[929,43,949,43],[929,44,949,44],[929,45,949,45],[929,24,931,24]],"merged_total":1181,"flags":["merged_cut"]}
[null,null,null,null,null,null,null,null,null,null,null,null,null,null,null,null,null,null,null,null,null,null,null,{"$f":"DATA!$C$15","v":"SRA LH"},null,null,null,null,"TA Target",null,{"$f":"DATA!$C$9","v":0.89},null,null,null,null,null,null,null,null,null,null,"TA","=","[ A ]"]
[null,null,null,null,null,null,null,null,null,null,null,null,null,null,null,null,null,null,null,null,null,null,null,null,null,null,null,null,"Cycle Time",null,{"$f":"DATA!$C$10","v":64},null,{"$f":"AE2/60","v":1.0666666666666667}]
[null,null,null,null,null,null,null,null,null,null,null,null,null,null,null,null,null,null,null,null,null,null,null,null,null,null,null,null,"Enter Data",null,null,null,null,null,null,null,null,null,null,null,null,null,null,"[ T ] - [ BS ] - [ PS ]"]
["ID","Shift\n Start Time","Shift \nEnd Time","Break Time","Total \nShift time [Hour]","Available\nProduction Time [Hour]","Target [%]","Cycle time [s]","Target Ouput [56/H]","Parts Target \n[56/H]","Parts Target\n[100% Availability]","Blocked / Starved\n[Hour]","Loss Blocked/ Starved [Parts]","Loss Blocked/ Starved [%]","Planned Stop/ Early Finish\n[Hour]","Loss Planned Stop/ Early Finish [Parts]","Loss \nPlanned Stop/ Early Finish\n[%]","Rekenkolom Benodigde tijd ","Produced Parts Actual","Produced Parts Shift D1","Produced Parts Shift D2","Produced Parts Shift D3",null,"Week ","Date","Day","Shift","Shift","Blocked / Starved [Min]","Planned Stop / Early Finish\n[Min]","Parts during break","Produced Parts Total","Downtime Technical SAP[min]","Delta [Parts]","Availability (Total Time)\n[%]","Technical Availabilty SRI LH\n[%]","Parts Target\n[100% Availability]  ","Parts Actual                        ","Availability (Total Time)\n[%]","Loss Blocked/ Starved [Parts]","Loss Blocked/ Starved [%] ","Loss \nPlanned Stop/ Early Finish [Parts]","Loss \nPlanned Stop/ Early Finish\n[%]","Technical Availability Total LH\n[%]","Technical Availability \nShift D1\n[%]","Technical Availability Shift D2\n[%]","Technical Availability Shift D3\n[%]","Total Downtime [Parts]","Total Downtime\n[%]","Total Downtime [Min]","Geregistreerd SAP Technical Downtime [Min]","Major Items Downtime"]
[null,null,null,null,null,null,null,null,null,null,null,null,null,null,null,null,null,null,null,null,null,null,null,null,null,null,null,null,null,null,null,null,null,null,null,null,"[T]","[A]",null,"[BS]",null,"[PS]",null,null,"D1","D2","D3"]
[{"$f":"X6&Z6&AA6","v":"1maDD"},{"$f":"VLOOKUP($AA6,DATA!$B$3:$E$6,2,0)","v":"06:30:00"},{"$f":"VLOOKUP($AA6,DATA!$B$3:$E$6,3,0)","v":"14:30:00"},{"$f":"VLOOKUP($AA6,DATA!$B$3:$E$6,4,0)","v":3.125E-2},{"$f":"(C6-B6+(B6>C6))-D6","v":0.30208333333333331},{"$f":"E6-O6-L6","v":0.30208333333333331},{"$f":"DATA!$C$9","v":0.89},{"$f":"DATA!$C$10","v":64},1,{"$f":"F6*86400/H6*I6","v":407.8125},{"$f":"E6*86400/H6","v":407.8125},{"$f":"TIME(INT($AC6/60),INT(MOD($AC6,60)/1),0)","v":0},{"$f":"IF($L6*86400/$H6=0,\"\",$L6*86400/$H6)","v":""},{"$f":"IFERROR($M6/$K6,\"\")","v":""},{"$f":"TIME(INT($AD6/60),INT(MOD($AD6,60)/1),0)","v":0},{"$f":"IF($O6*86400/$H6=0,\"\",$O6*86400/$H6)","v":""},{"$f":"IFERROR($P6/$K6,\"\")","v":""},{"$f":"AF6*AG$2","v":0},{"$f":"IF(AF6-AE6=0,\"\",AF6-AE6)","v":""},{"$f":"IF(IF($AB123=\"D1\",$S6,\"\")=0,\"\",IF($AB123=\"D1\",$S6,\"\"))","v":""},{"$f":"IF(IF($AB123=\"D2\",$S6,\"\")=0,\"\",IF($AB123=\"D2\",$S6,\"\"))","v":""},{"$f":"IF(IF($AB123=\"D3\",$S6,\"\")=0,\"\",IF($AB123=\"D3\",$S6,\"\"))","v":""},null,{"$f":"X16","v":1},"2018-01-01",{"$f":"TEXT(Y6,\"ddd\")","v":"ma"},"DD",{"$f":"IFERROR(HLOOKUP(Y6,[1]DATA!$A$1:$NB$5,3,0),\"\")","v":"D1"},null,null,null,null,0,"","","",3487.5,2325,0.66666666666666663,837.1875,0.24005376344086021,165.9375,4.7580645161290319E-2,0.96515747459817358,0.96261712017502821,"",0.96769782902131896,159.375,4.5698924731182838E-2,170,96]
["1maMD",{"$f":"VLOOKUP($AA7,DATA!$B$3:$E$6,2,0)","v":"14:30:00"},{"$f":"VLOOKUP($AA7,DATA!$B$3:$E$6,3,0)","v":"22:30:00"},{"$f":"VLOOKUP($AA7,DATA!$B$3:$E$6,4,0)","v":3.125E-2},{"$f":"(C7-B7+(B7>C7))-D7","v":0.30208333333333337},{"$f":"E7-O7-L7","v":0.30208333333333337},{"$f":"DATA!$C$9","v":0.89},{"$f":"DATA!$C$10","v":64},1,{"$f":"F7*86400/H7*I7","v":407.81250000000006},{"$f":"E7*86400/H7","v":407.81250000000006},{"$f":"TIME(INT($AC7/60),INT(MOD($AC7,60)/1),0)","v":0},{"$f":"IF($L7*86400/$H7=0,\"\",$L7*86400/$H7)","v":""},{"$f":"IFERROR($M7/$K7,\"\")","v":""},{"$f":"TIME(INT(AD7/60),INT(MOD(AD7,60)/1),0)","v":0},"",{"$f":"IFERROR($P7/$K7,\"\")","v":""},{"$f":"AF7*AG$2","v":0},{"$f":"IF(AF7-AE7=0,\"\",AF7-AE7)","v":""},{"$f":"IF(IF($AB7=\"D1\",$S7,\"\")=0,\"\",IF($AB7=\"D1\",$S7,\"\"))","v":""},{"$f":"IF(IF($AB7=\"D2\",$S7,\"\")=0,\"\",IF($AB7=\"D2\",$S7,\"\"))","v":""},{"$f":"IF(IF($AB7=\"D3\",$S7,\"\")=0,\"\",IF($AB7=\"D3\",$S7,\"\"))","v":""},null,{"$f":"X16","v":1},null,{"$f":"TEXT(Y6,\"ddd\")","v":"ma"},"MD",{"$f":"IFERROR(HLOOKUP(Y6,[1]DATA!$A$1:$NB$5,4,0),\"\")","v":"D3"},null,null,null,null,0,"","",""]
["1maND",{"$f":"VLOOKUP($AA8,DATA!$B$3:$E$6,2,0)","v":"22:30:00"},{"$f":"VLOOKUP($AA8,DATA!$B$3:$E$6,3,0)","v":"06:30:00"},{"$f":"VLOOKUP($AA8,DATA!$B$3:$E$6,4,0)","v":3.125E-2},0.30208333333333326,0.30208333333333326,{"$f":"DATA!$C$9","v":0.89},{"$f":"DATA!$C$10","v":64},1,407.81249999999989,407.81249999999989,0,"","",0,"","",0,"","","","",null,{"$f":"X16","v":1},null,{"$f":"TEXT(Y6,\"ddd\")","v":"ma"},"ND",{"$f":"IFERROR(HLOOKUP(Y6,[1]DATA!$A$1:$NB$5,5,0),\"\")","v":"D2"},null,null,null,null,0,"","",""]
["1diDD",{"$f":"VLOOKUP($AA9,DATA!$B$3:$E$6,2,0)","v":"06:30:00"},{"$f":"VLOOKUP($AA9,DATA!$B$3:$E$6,3,0)","v":"14:30:00"},{"$f":"VLOOKUP($AA9,DATA!$B$3:$E$6,4,0)","v":3.125E-2},0.30208333333333331,0.17013888888888887,{"$f":"DATA!$C$9","v":0.89},{"$f":"DATA!$C$10","v":64},1,229.68749999999997,407.8125,5.4166666666666669E-2,73.125,0.1793103448275862,7.7777777777777779E-2,105,0.25747126436781609,298.66666666666669,259,259,"","",null,{"$f":"X16","v":1},{"$f":"Y6+1","v":"2018-01-02"},{"$f":"TEXT(Y9,\"ddd\")","v":"di"},"DD",{"$f":"IFERROR(HLOOKUP(Y9,[1]DATA!$A$1:$NB$5,3,0),\"\")","v":"D1"},78,112,21,280,14,1.1875,0.59412186379928311,0.95522388059701491]
["1diMD",{"$f":"VLOOKUP($AA10,DATA!$B$3:$E$6,2,0)","v":"14:30:00"},{"$f":"VLOOKUP($AA10,DATA!$B$3:$E$6,3,0)","v":"22:30:00"},{"$f":"VLOOKUP($AA10,DATA!$B$3:$E$6,4,0)","v":3.125E-2},0.30208333333333337,0.25972222222222224,{"$f":"DATA!$C$9","v":0.89},{"$f":"DATA!$C$10","v":64},1,350.625,407.81250000000006,4.2361111111111106E-2,57.187499999999993,0.14022988505747122,0,"","",358.4,327,"","",327,null,{"$f":"X16","v":1},null,{"$f":"TEXT(Y9,\"ddd\")","v":"di"},"MD",{"$f":"IFERROR(HLOOKUP(Y9,[1]DATA!$A$1:$NB$5,4,0),\"\")","v":"D3"},61,null,9,336,19,-51.749999999999943,0.75010752688172055,0.94965553789083201]
["1diND",{"$f":"VLOOKUP($AA11,DATA!$B$3:$E$6,2,0)","v":"22:30:00"},{"$f":"VLOOKUP($AA11,DATA!$B$3:$E$6,3,0)","v":"06:30:00"},{"$f":"VLOOKUP($AA11,DATA!$B$3:$E$6,4,0)","v":3.125E-2},0.30208333333333326,0.30208333333333326,{"$f":"DATA!$C$9","v":0.89},{"$f":"DATA!$C$10","v":64},1,407.81249999999989,407.81249999999989,0,"","",0,"","",0,"","","","",null,{"$f":"X16","v":1},null,{"$f":"TEXT(Y9,\"ddd\")","v":"di"},"ND",{"$f":"IFERROR(HLOOKUP(Y9,[1]DATA!$A$1:$NB$5,5,0),\"\")","v":"D2"},null,null,null,null,0,"","",""]
["1woDD",{"$f":"VLOOKUP($AA12,DATA!$B$3:$E$6,2,0)","v":"06:30:00"},{"$f":"VLOOKUP($AA12,DATA!$B$3:$E$6,3,0)","v":"14:30:00"},{"$f":"VLOOKUP($AA12,DATA!$B$3:$E$6,4,0)","v":3.125E-2},0.30208333333333331,0.25277777777777777,{"$f":"DATA!$C$9","v":0.89},{"$f":"DATA!$C$10","v":64},1,341.25,407.8125,4.9305555555555554E-2,66.5625,0.16321839080459771,0,"","",370.13333333333333,334,334,"","",null,{"$f":"X16","v":1},{"$f":"Y9+1","v":"2018-01-03"},{"$f":"TEXT(Y12,\"ddd\")","v":"wo"},"DD",{"$f":"IFERROR(HLOOKUP(Y12,[1]DATA!$A$1:$NB$5,3,0),\"\")","v":"D1"},71,null,13,347,17,-35.375000000000057,0.76616487455197135,0.95608748062682969]
["1woMD",{"$f":"VLOOKUP($AA13,DATA!$B$3:$E$6,2,0)","v":"14:30:00"},{"$f":"VLOOKUP($AA13,DATA!$B$3:$E$6,3,0)","v":"22:30:00"},{"$f":"VLOOKUP($AA13,DATA!$B$3:$E$6,4,0)","v":3.125E-2},0.30208333333333337,0.2194444444444445,{"$f":"DATA!$C$9","v":0.89},{"$f":"DATA!$C$10","v":64},1,296.25000000000006,407.81250000000006,8.2638888888888887E-2,111.5625,0.27356321839080455,0,"","",325.33333333333331,291,"","",291,null,{"$f":"X16","v":1},null,{"$f":"TEXT(Y12,\"ddd\")","v":"wo"},"MD",{"$f":"IFERROR(HLOOKUP(Y12,[1]DATA!$A$1:$NB$5,4,0),\"\")","v":"D3"},119,null,14,305,6,-33.375,0.66752688172043018,0.98189134808853118]
["1woND",{"$f":"VLOOKUP($AA14,DATA!$B$3:$E$6,2,0)","v":"22:30:00"},{"$f":"VLOOKUP($AA14,DATA!$B$3:$E$6,3,0)","v":"06:30:00"},{"$f":"VLOOKUP($AA14,DATA!$B$3:$E$6,4,0)","v":3.125E-2},0.30208333333333326,0.30208333333333326,{"$f":"DATA!$C$9","v":0.89},{"$f":"DATA!$C$10","v":64},1,407.81249999999989,407.81249999999989,0,"","",0,"","",0,"","","","",null,{"$f":"X16","v":1},null,{"$f":"TEXT(Y12,\"ddd\")","v":"wo"},"ND",{"$f":"IFERROR(HLOOKUP(Y12,[1]DATA!$A$1:$NB$5,5,0),\"\")","v":"D2"},null,null,null,null,0,"","",""]
["1doDD",{"$f":"VLOOKUP($AA15,DATA!$B$3:$E$6,2,0)","v":"06:30:00"},{"$f":"VLOOKUP($AA15,DATA!$B$3:$E$6,3,0)","v":"14:30:00"},{"$f":"VLOOKUP($AA15,DATA!$B$3:$E$6,4,0)","v":3.125E-2},0.30208333333333331,0.18472222222222223,{"$f":"DATA!$C$9","v":0.89},{"$f":"DATA!$C$10","v":64},1,249.375,407.8125,0.1173611111111111,158.43749999999997,0.38850574712643671,0,"","",309.33333333333331,263,263,"","",null,{"$f":"X16","v":1},{"$f":"Y12+1","v":"2018-01-04"},{"$f":"TEXT(Y15,\"ddd\")","v":"do"},"DD",{"$f":"IFERROR(HLOOKUP(Y15,[1]DATA!$A$1:$NB$5,3,0),\"\")","v":"D1"},169,null,27,290,4,-14.500000000000057,0.60329749103942654,0.98723404255319147]
["1doMD",{"$f":"VLOOKUP($AA16,DATA!$B$3:$E$6,2,0)","v":"14:30:00"},{"$f":"VLOOKUP($AA16,DATA!$B$3:$E$6,3,0)","v":"22:30:00"},{"$f":"VLOOKUP($AA16,DATA!$B$3:$E$6,4,0)","v":3.125E-2},0.30208333333333337,0.22638888888888892,{"$f":"DATA!$C$9","v":0.89},{"$f":"DATA!$C$10","v":64},1,305.62500000000006,407.81250000000006,7.5694444444444439E-2,102.1875,0.25057471264367814,0,"","",343.46666666666664,302,"","",302,null,{"$f":"WEEKNUM($Y6)","v":1},null,{"$f":"TEXT(Y15,\"ddd\")","v":"do"},"MD",{"$f":"IFERROR(HLOOKUP(Y15,[1]DATA!$A$1:$NB$5,4,0),\"\")","v":"D3"},109,null,20,322,6,-31.749999999999943,0.69275985663082451,0.98283098054177798]
["1doND",{"$f":"VLOOKUP($AA17,DATA!$B$3:$E$6,2,0)","v":"22:30:00"},{"$f":"VLOOKUP($AA17,DATA!$B$3:$E$6,3,0)","v":"06:30:00"},{"$f":"VLOOKUP($AA17,DATA!$B$3:$E$6,4,0)","v":3.125E-2},0.30208333333333326,0.30208333333333326,{"$f":"DATA!$C$9","v":0.89},{"$f":"DATA!$C$10","v":64},1,407.81249999999989,407.81249999999989,0,"","",0,"","",0,"","","","",null,{"$f":"X16","v":1},null,{"$f":"TEXT(Y15,\"ddd\")","v":"do"},"ND",{"$f":"IFERROR(HLOOKUP(Y15,[1]DATA!$A$1:$NB$5,5,0),\"\")","v":"D2"},null,null,null,null,0,"","",""]
["1vrDD",{"$f":"VLOOKUP($AA18,DATA!$B$3:$E$6,2,0)","v":"06:30:00"},{"$f":"VLOOKUP($AA18,DATA!$B$3:$E$6,3,0)","v":"14:30:00"},{"$f":"VLOOKUP($AA18,DATA!$B$3:$E$6,4,0)","v":3.125E-2},0.30208333333333331,0.18402777777777779,{"$f":"DATA!$C$9","v":0.89},{"$f":"DATA!$C$10","v":64},1,248.43750000000003,407.8125,9.7222222222222224E-2,131.25,0.32183908045977011,2.0833333333333332E-2,28.125,6.8965517241379309E-2,316.8,279,279,"","",null,{"$f":"X16","v":1},{"$f":"Y15+1","v":"2018-01-05"},{"$f":"TEXT(Y18,\"ddd\")","v":"vr"},"DD",{"$f":"IFERROR(HLOOKUP(Y18,[1]DATA!$A$1:$NB$5,3,0),\"\")","v":"D1"},140,30,18,297,16,2.4374999999999432,0.64,0.95192307692307687]
["1vrMD",{"$f":"VLOOKUP($AA19,DATA!$B$3:$E$6,2,0)","v":"14:30:00"},{"$f":"VLOOKUP($AA19,DATA!$B$3:$E$6,3,0)","v":"22:30:00"},{"$f":"VLOOKUP($AA19,DATA!$B$3:$E$6,4,0)","v":3.125E-2},0.30208333333333337,0.17638888888888887,{"$f":"DATA!$C$9","v":0.89},{"$f":"DATA!$C$10","v":64},1,238.12499999999997,407.81250000000006,0.1013888888888889,136.87500000000003,0.335632183908046,2.4305555555555556E-2,32.8125,8.0459770114942514E-2,307.2,270,"","",270,null,{"$f":"X16","v":1},null,{"$f":"TEXT(Y18,\"ddd\")","v":"vr"},"MD",{"$f":"IFERROR(HLOOKUP(Y18,[1]DATA!$A$1:$NB$5,4,0),\"\")","v":"D3"},146,35,18,288,14,3.7500000000001137,0.61935483870967745,0.95641344956413454]
["1vrND",{"$f":"VLOOKUP($AA20,DATA!$B$3:$E$6,2,0)","v":"22:30:00"},{"$f":"VLOOKUP($AA20,DATA!$B$3:$E$6,3,0)","v":"06:30:00"},{"$f":"VLOOKUP($AA20,DATA!$B$3:$E$6,4,0)","v":3.125E-2},0.30208333333333326,0.30208333333333326,{"$f":"DATA!$C$9","v":0.89},{"$f":"DATA!$C$10","v":64},1,407.81249999999989,407.81249999999989,0,"","",0,"","",0,"","","","",null,{"$f":"X16","v":1},null,{"$f":"TEXT(Y18,\"ddd\")","v":"vr"},"ND",{"$f":"IFERROR(HLOOKUP(Y18,[1]DATA!$A$1:$NB$5,5,0),\"\")","v":"-"},null,null,null,null,0,"","",""]
["1zaDD",{"$f":"VLOOKUP($AA21,DATA!$B$3:$E$6,2,0)","v":"06:30:00"},{"$f":"VLOOKUP($AA21,DATA!$B$3:$E$6,3,0)","v":"14:30:00"},{"$f":"VLOOKUP($AA21,DATA!$B$3:$E$6,4,0)","v":3.125E-2},0.30208333333333331,0.30208333333333331,{"$f":"DATA!$C$9","v":0.89},{"$f":"DATA!$C$10","v":64},1,407.8125,407.8125,0,"","",0,"","",0,"","","","",null,{"$f":"X16","v":1},{"$f":"Y18+1","v":"2018-01-06"},{"$f":"TEXT(Y21,\"ddd\")","v":"za"},"DD",{"$f":"IFERROR(HLOOKUP(Y21,[1]DATA!$A$1:$NB$5,3,0),\"\")","v":"-"},null,null,null,null,0,"","",""]
["1zaMD",{"$f":"VLOOKUP($AA22,DATA!$B$3:$E$6,2,0)","v":"14:30:00"},{"$f":"VLOOKUP($AA22,DATA!$B$3:$E$6,3,0)","v":"22:30:00"},{"$f":"VLOOKUP($AA22,DATA!$B$3:$E$6,4,0)","v":3.125E-2},0.30208333333333337,0.30208333333333337,{"$f":"DATA!$C$9","v":0.89},{"$f":"DATA!$C$10","v":64},1,407.81250000000006,407.81250000000006,0,"","",0,"","",0,"","","","",null,{"$f":"X16","v":1},null,{"$f":"TEXT(Y21,\"ddd\")","v":"za"},"MD",{"$f":"IFERROR(HLOOKUP(Y21,[1]DATA!$A$1:$NB$5,4,0),\"\")","v":"-"},null,null,null,null,0,"","",""]
["1zaND",{"$f":"VLOOKUP($AA23,DATA!$B$3:$E$6,2,0)","v":"22:30:00"},{"$f":"VLOOKUP($AA23,DATA!$B$3:$E$6,3,0)","v":"06:30:00"},{"$f":"VLOOKUP($AA23,DATA!$B$3:$E$6,4,0)","v":3.125E-2},0.30208333333333326,0.30208333333333326,{"$f":"DATA!$C$9","v":0.89},{"$f":"DATA!$C$10","v":64},1,407.81249999999989,407.81249999999989,0,"","",0,"","",0,"","","","",null,{"$f":"X16","v":1},null,{"$f":"TEXT(Y21,\"ddd\")","v":"za"},"ND",{"$f":"IFERROR(HLOOKUP(Y21,[1]DATA!$A$1:$NB$5,5,0),\"\")","v":"-"},null,null,null,null,0,"","",""]
["1zoDD",{"$f":"VLOOKUP($AA24,DATA!$B$3:$E$6,2,0)","v":"06:30:00"},{"$f":"VLOOKUP($AA24,DATA!$B$3:$E$6,3,0)","v":"14:30:00"},{"$f":"VLOOKUP($AA24,DATA!$B$3:$E$6,4,0)","v":3.125E-2},0.30208333333333331,0.30208333333333331,{"$f":"DATA!$C$9","v":0.89},{"$f":"DATA!$C$10","v":64},1,407.8125,407.8125,0,"","",0,"","",0,"","","","",null,{"$f":"X16","v":1},{"$f":"Y21+1","v":"2018-01-07"},{"$f":"TEXT(Y24,\"ddd\")","v":"zo"},"DD",{"$f":"IFERROR(HLOOKUP(Y24,[1]DATA!$A$1:$NB$5,3,0),\"\")","v":"-"},null,null,null,null,0,"","",""]
["1zoMD",{"$f":"VLOOKUP($AA25,DATA!$B$3:$E$6,2,0)","v":"14:30:00"},{"$f":"VLOOKUP($AA25,DATA!$B$3:$E$6,3,0)","v":"22:30:00"},{"$f":"VLOOKUP($AA25,DATA!$B$3:$E$6,4,0)","v":3.125E-2},0.30208333333333337,0.30208333333333337,{"$f":"DATA!$C$9","v":0.89},{"$f":"DATA!$C$10","v":64},1,407.81250000000006,407.81250000000006,0,"","",0,"","",0,"","","","",null,{"$f":"X16","v":1},null,{"$f":"TEXT(Y24,\"ddd\")","v":"zo"},"MD",{"$f":"IFERROR(HLOOKUP(Y24,[1]DATA!$A$1:$NB$5,4,0),\"\")","v":"-"},null,null,null,null,0,"","",""]
["1zoZND",{"$f":"VLOOKUP($AA26,DATA!$B$3:$E$6,2,0)","v":"00:00:00"},{"$f":"VLOOKUP($AA26,DATA!$B$3:$E$6,3,0)","v":"00:00:00"},{"$f":"VLOOKUP($AA26,DATA!$B$3:$E$6,4,0)","v":0},0,0,{"$f":"DATA!$C$9","v":0.89},{"$f":"DATA!$C$10","v":64},1,0,0,0,"","",0,"","",0,"","","","",null,{"$f":"X16","v":1},null,{"$f":"TEXT(Y24,\"ddd\")","v":"zo"},"ZND",{"$f":"IFERROR(HLOOKUP(Y24,[1]DATA!$A$1:$NB$5,5,0),\"\")","v":"D1"},null,null,null,null,0,"","",""]
["2maDD",{"$f":"VLOOKUP($AA27,DATA!$B$3:$E$6,2,0)","v":"06:30:00"},{"$f":"VLOOKUP($AA27,DATA!$B$3:$E$6,3,0)","v":"14:30:00"},{"$f":"VLOOKUP($AA27,DATA!$B$3:$E$6,4,0)","v":3.125E-2},0.30208333333333331,9.652777777777774E-2,{"$f":"DATA!$C$9","v":0.89},{"$f":"DATA!$C$10","v":64},1,{"$f":"F27*86400/H27*I27","v":130.31249999999994},{"$f":"E27*86400/H27","v":407.8125},{"$f":"TIME(INT($AC27/60),INT(MOD($AC27,60)/1),0)","v":0.13055555555555556},{"$f":"IF($L27*86400/$H27=0,\"\",$L27*86400/$H27)","v":176.25},{"$f":"IFERROR($M27/$K27,\"\")","v":0.43218390804597701},{"$f":"TIME(INT($AD27/60),INT(MOD($AD27,60)/1),0)","v":7.4999999999999997E-2},101.25,{"$f":"IFERROR($P27/$K27,\"\")","v":0.24827586206896551},{"$f":"AF27*AG$2","v":182.4},{"$f":"IF(AF27-AE27=0,\"\",AF27-AE27)","v":158},{"$f":"IF(IF($AB27=\"D1\",$S27,\"\")=0,\"\",IF($AB27=\"D1\",$S27,\"\"))","v":""},{"$f":"IF(IF($AB27=\"D2\",$S27,\"\")=0,\"\",IF($AB27=\"D2\",$S27,\"\"))","v":""},{"$f":"IF(IF($AB27=\"D3\",$S27,\"\")=0,\"\",IF($AB27=\"D3\",$S27,\"\"))","v":158},null,{"$f":"X37","v":2},{"$f":"Y24+1","v":"2018-01-08"},{"$f":"TEXT(Y27,\"ddd\")","v":"ma"},"DD",{"$f":"IFERROR(HLOOKUP(Y27,[1]DATA!$A$1:$NB$5,3,0),\"\")","v":"D3"},188,108,13,171,3,-0.4375,0.36243727598566311,0.98381877022653719,4359.375,2955,0.6778494623655914,877.5,0.20129032258064516,129.375,2.9677419354838711E-2,0.97103735446060813,"",0.96363912501916382,0.97843558390205276,397.5,9.1182795698924721E-2,424,107]
["2maMD",{"$f":"VLOOKUP($AA28,DATA!$B$3:$E$6,2,0)","v":"14:30:00"},{"$f":"VLOOKUP($AA28,DATA!$B$3:$E$6,3,0)","v":"22:30:00"},{"$f":"VLOOKUP($AA28,DATA!$B$3:$E$6,4,0)","v":3.125E-2},{"$f":"(C28-B28+(B28>C28))-D28","v":0.30208333333333337},{"$f":"E28-O28-L28","v":0.26597222222222228},{"$f":"DATA!$C$9","v":0.89},{"$f":"DATA!$C$10","v":64},1,{"$f":"F28*86400/H28*I28","v":359.06250000000006},{"$f":"E28*86400/H28","v":407.81250000000006},3.6111111111111115E-2,48.750000000000007,0.11954022988505747,{"$f":"TIME(INT(AD28/60),INT(MOD(AD28,60)/1),0)","v":0},"","",{"$f":"AF28*AG$2","v":355.2},{"$f":"IF(AF28-AE28=0,\"\",AF28-AE28)","v":309},"",309,"",null,{"$f":"X37","v":2},null,{"$f":"TEXT(Y27,\"ddd\")","v":"ma"},"MD",{"$f":"IFERROR(HLOOKUP(Y27,[1]DATA!$A$1:$NB$5,4,0),\"\")","v":"D2"},52,null,24,333,23,-78.1875,0.70881720430107531,0.93918561607615014]
["2maND",{"$f":"VLOOKUP($AA29,DATA!$B$3:$E$6,2,0)","v":"22:30:00"},{"$f":"VLOOKUP($AA29,DATA!$B$3:$E$6,3,0)","v":"06:30:00"},{"$f":"VLOOKUP($AA29,DATA!$B$3:$E$6,4,0)","v":3.125E-2},0.30208333333333326,0.30208333333333326,{"$f":"DATA!$C$9","v":0.89},{"$f":"DATA!$C$10","v":64},1,407.81249999999989,407.81249999999989,0,"","",0,"","",0,"","","","",null,{"$f":"X37","v":2},null,{"$f":"TEXT(Y27,\"ddd\")","v":"ma"},"ND",{"$f":"IFERROR(HLOOKUP(Y27,[1]DATA!$A$1:$NB$5,5,0),\"\")","v":"D1"},null,null,null,null,0,"","",""]
["2diDD",{"$f":"VLOOKUP($AA30,DATA!$B$3:$E$6,2,0)","v":"06:30:00"},{"$f":"VLOOKUP($AA30,DATA!$B$3:$E$6,3,0)","v":"14:30:00"},{"$f":"VLOOKUP($AA30,DATA!$B$3:$E$6,4,0)","v":3.125E-2},0.30208333333333331,0.21319444444444441,{"$f":"DATA!$C$9","v":0.89},{"$f":"DATA!$C$10","v":64},1,287.81249999999994,407.8125,8.8888888888888892E-2,120,0.29425287356321839,0,"","",324.26666666666665,277,"","",277,null,{"$f":"X37","v":2},{"$f":"Y27+1","v":"2018-01-09"},{"$f":"TEXT(Y30,\"ddd\")","v":"di"},"DD",{"$f":"IFERROR(HLOOKUP(Y30,[1]DATA!$A$1:$NB$5,3,0),\"\")","v":"D3"},128,null,27,304,9,-38.9375,0.63541218637992836,0.9729945989197839]
["2diMD",{"$f":"VLOOKUP($AA31,DATA!$B$3:$E$6,2,0)","v":"14:30:00"},{"$f":"VLOOKUP($AA31,DATA!$B$3:$E$6,3,0)","v":"22:30:00"},{"$f":"VLOOKUP($AA31,DATA!$B$3:$E$6,4,0)","v":3.125E-2},0.30208333333333337,0.2104166666666667,{"$f":"DATA!$C$9","v":0.89},{"$f":"DATA!$C$10","v":64},1,284.06250000000006,407.81250000000006,9.1666666666666674E-2,123.75000000000001,0.30344827586206896,0,"","",343.46666666666664,296,"",296,"",null,{"$f":"X37","v":2},null,{"$f":"TEXT(Y30,\"ddd\")","v":"di"},"MD",{"$f":"IFERROR(HLOOKUP(Y30,[1]DATA!$A$1:$NB$5,4,0),\"\")","v":"D2"},132,null,26,322,7,-16.187499999999943,0.67899641577060943,0.98002663115845534]
["2diND",{"$f":"VLOOKUP($AA32,DATA!$B$3:$E$6,2,0)","v":"22:30:00"},{"$f":"VLOOKUP($AA32,DATA!$B$3:$E$6,3,0)","v":"06:30:00"},{"$f":"VLOOKUP($AA32,DATA!$B$3:$E$6,4,0)","v":3.125E-2},0.30208333333333326,0.30208333333333326,{"$f":"DATA!$C$9","v":0.89},{"$f":"DATA!$C$10","v":64},1,407.81249999999989,407.81249999999989,0,"","",0,"","",0,"","","","",null,{"$f":"X37","v":2},null,{"$f":"TEXT(Y30,\"ddd\")","v":"di"},"ND",{"$f":"IFERROR(HLOOKUP(Y30,[1]DATA!$A$1:$NB$5,5,0),\"\")","v":"D1"},null,null,null,null,0,"","",""]
["2woDD",{"$f":"VLOOKUP($AA33,DATA!$B$3:$E$6,2,0)","v":"06:30:00"},{"$f":"VLOOKUP($AA33,DATA!$B$3:$E$6,3,0)","v":"14:30:00"},{"$f":"VLOOKUP($AA33,DATA!$B$3:$E$6,4,0)","v":3.125E-2},0.30208333333333331,0.25486111111111109,{"$f":"DATA!$C$9","v":0.89},{"$f":"DATA!$C$10","v":64},1,344.0625,407.8125,4.7222222222222221E-2,63.75,0.15632183908045977,0,"","",386.13333333333333,335,"","",335,null,{"$f":"X37","v":2},{"$f":"Y30+1","v":"2018-01-10"},{"$f":"TEXT(Y33,\"ddd\")","v":"wo"},"DD",{"$f":"IFERROR(HLOOKUP(Y33,[1]DATA!$A$1:$NB$5,3,0),\"\")","v":"D3"},68,null,27,362,18,-37.1875,0.76845878136200718,0.95546024414384689]
["2woMD",{"$f":"VLOOKUP($AA34,DATA!$B$3:$E$6,2,0)","v":"14:30:00"},{"$f":"VLOOKUP($AA34,DATA!$B$3:$E$6,3,0)","v":"22:30:00"},{"$f":"VLOOKUP($AA34,DATA!$B$3:$E$6,4,0)","v":3.125E-2},0.30208333333333337,0.22291666666666674,{"$f":"DATA!$C$9","v":0.89},{"$f":"DATA!$C$10","v":64},1,300.93750000000011,407.81250000000006,5.8333333333333327E-2,78.749999999999986,0.19310344827586201,2.0833333333333332E-2,28.125,6.8965517241379296E-2,357.33333333333331,307,"",307,"",null,{"$f":"X37","v":2},null,{"$f":"TEXT(Y33,\"ddd\")","v":"wo"},"MD",{"$f":"IFERROR(HLOOKUP(Y33,[1]DATA!$A$1:$NB$5,4,0),\"\")","v":"D2"},84,30,28,335,13,-22.0625,0.70422939068100365,0.96489648964896491]
["2woND",{"$f":"VLOOKUP($AA35,DATA!$B$3:$E$6,2,0)","v":"22:30:00"},{"$f":"VLOOKUP($AA35,DATA!$B$3:$E$6,3,0)","v":"06:30:00"},{"$f":"VLOOKUP($AA35,DATA!$B$3:$E$6,4,0)","v":3.125E-2},0.30208333333333326,0.30208333333333326,{"$f":"DATA!$C$9","v":0.89},{"$f":"DATA!$C$10","v":64},1,407.81249999999989,407.81249999999989,0,"","",0,"","",0,"","","","",null,{"$f":"X37","v":2},null,{"$f":"TEXT(Y33,\"ddd\")","v":"wo"},"ND",{"$f":"IFERROR(HLOOKUP(Y33,[1]DATA!$A$1:$NB$5,5,0),\"\")","v":"D1"},null,null,null,null,0,"","",""]
["2doDD",{"$f":"VLOOKUP($AA36,DATA!$B$3:$E$6,2,0)","v":"06:30:00"},{"$f":"VLOOKUP($AA36,DATA!$B$3:$E$6,3,0)","v":"14:30:00"},{"$f":"VLOOKUP($AA36,DATA!$B$3:$E$6,4,0)","v":3.125E-2},0.30208333333333331,0.24999999999999997,{"$f":"DATA!$C$9","v":0.89},{"$f":"DATA!$C$10","v":64},1,337.49999999999994,407.8125,5.2083333333333336E-2,70.3125,0.17241379310344829,0,"","",341.33333333333331,298,"","",298,null,{"$f":"X37","v":2},{"$f":"Y33+1","v":"2018-01-11"},{"$f":"TEXT(Y36,\"ddd\")","v":"do"},"DD",{"$f":"IFERROR(HLOOKUP(Y36,[1]DATA!$A$1:$NB$5,3,0),\"\")","v":"D3"},75,null,22,320,7,-67.625000000000057,0.68358422939068098,0.97990430622009572]
["2doMD",{"$f":"VLOOKUP($AA37,DATA!$B$3:$E$6,2,0)","v":"14:30:00"},{"$f":"VLOOKUP($AA37,DATA!$B$3:$E$6,3,0)","v":"22:30:00"},{"$f":"VLOOKUP($AA37,DATA!$B$3:$E$6,4,0)","v":3.125E-2},0.30208333333333337,0.28680555555555559,{"$f":"DATA!$C$9","v":0.89},{"$f":"DATA!$C$10","v":64},1,387.18750000000006,407.81250000000006,1.5277777777777777E-2,20.625,5.0574712643678153E-2,0,"","",409.6,346,"",346,"",null,{"$f":"WEEKNUM($Y27)","v":2},null,{"$f":"TEXT(Y36,\"ddd\")","v":"do"},"MD",{"$f":"IFERROR(HLOOKUP(Y36,[1]DATA!$A$1:$NB$5,4,0),\"\")","v":"D2"},22,null,38,384,19,-69.312499999999943,0.79369175627240152,0.95566962202519834]
["2doND",{"$f":"VLOOKUP($AA38,DATA!$B$3:$E$6,2,0)","v":"22:30:00"},{"$f":"VLOOKUP($AA38,DATA!$B$3:$E$6,3,0)","v":"06:30:00"},{"$f":"VLOOKUP($AA38,DATA!$B$3:$E$6,4,0)","v":3.125E-2},0.30208333333333326,0.30208333333333326,{"$f":"DATA!$C$9","v":0.89},{"$f":"DATA!$C$10","v":64},1,407.81249999999989,407.81249999999989,0,"","",0,"","",0,"","","","",null,{"$f":"X37","v":2},null,{"$f":"TEXT(Y36,\"ddd\")","v":"do"},"ND",{"$f":"IFERROR(HLOOKUP(Y36,[1]DATA!$A$1:$NB$5,5,0),\"\")","v":"D1"},null,null,null,null,0,"","",""]
["2vrDD",{"$f":"VLOOKUP($AA39,DATA!$B$3:$E$6,2,0)","v":"06:30:00"},{"$f":"VLOOKUP($AA39,DATA!$B$3:$E$6,3,0)","v":"14:30:00"},{"$f":"VLOOKUP($AA39,DATA!$B$3:$E$6,4,0)","v":3.125E-2},0.30208333333333331,0.25347222222222221,{"$f":"DATA!$C$9","v":0.89},{"$f":"DATA!$C$10","v":64},1,342.1875,407.8125,4.8611111111111112E-2,65.625,0.16091954022988506,0,"","",349.86666666666667,309,"","",309,null,{"$f":"X37","v":2},{"$f":"Y36+1","v":"2018-01-12"},{"$f":"TEXT(Y39,\"ddd\")","v":"vr"},"DD",{"$f":"IFERROR(HLOOKUP(Y39,[1]DATA!$A$1:$NB$5,3,0),\"\")","v":"D3"},70,null,19,328,0,-61.312500000000057,0.70881720430107531,1]
["2vrMD",{"$f":"VLOOKUP($AA40,DATA!$B$3:$E$6,2,0)","v":"14:30:00"},{"$f":"VLOOKUP($AA40,DATA!$B$3:$E$6,3,0)","v":"22:30:00"},{"$f":"VLOOKUP($AA40,DATA!$B$3:$E$6,4,0)","v":3.125E-2},0.30208333333333337,0.22083333333333338,{"$f":"DATA!$C$9","v":0.89},{"$f":"DATA!$C$10","v":64},1,298.12500000000006,407.81250000000006,8.1250000000000003E-2,109.6875,0.26896551724137929,0,"","",362.66666666666669,320,"",320,"",null,{"$f":"X37","v":2},null,{"$f":"TEXT(Y39,\"ddd\")","v":"vr"},"MD",{"$f":"IFERROR(HLOOKUP(Y39,[1]DATA!$A$1:$NB$5,4,0),\"\")","v":"D2"},117,null,20,340,8,-6.2499999999999432,0.73405017921146964,0.97841726618705038]
["2vrND",{"$f":"VLOOKUP($AA41,DATA!$B$3:$E$6,2,0)","v":"22:30:00"},{"$f":"VLOOKUP($AA41,DATA!$B$3:$E$6,3,0)","v":"06:30:00"},{"$f":"VLOOKUP($AA41,DATA!$B$3:$E$6,4,0)","v":3.125E-2},0.30208333333333326,0.30208333333333326,{"$f":"DATA!$C$9","v":0.89},{"$f":"DATA!$C$10","v":64},1,407.81249999999989,407.81249999999989,0,"","",0,"","",0,"","","","",null,{"$f":"X37","v":2},null,{"$f":"TEXT(Y39,\"ddd\")","v":"vr"},"ND",{"$f":"IFERROR(HLOOKUP(Y39,[1]DATA!$A$1:$NB$5,5,0),\"\")","v":"-"},null,null,null,null,0,"","",""]
["2zaDD",{"$f":"VLOOKUP($AA42,DATA!$B$3:$E$6,2,0)","v":"06:30:00"},{"$f":"VLOOKUP($AA42,DATA!$B$3:$E$6,3,0)","v":"14:30:00"},{"$f":"VLOOKUP($AA42,DATA!$B$3:$E$6,4,0)","v":3.125E-2},0.30208333333333331,0.30208333333333331,{"$f":"DATA!$C$9","v":0.89},{"$f":"DATA!$C$10","v":64},1,407.8125,407.8125,0,"","",0,"","",0,"","","","",null,{"$f":"X37","v":2},{"$f":"Y39+1","v":"2018-01-13"},{"$f":"TEXT(Y42,\"ddd\")","v":"za"},"DD",{"$f":"IFERROR(HLOOKUP(Y42,[1]DATA!$A$1:$NB$5,3,0),\"\")","v":"-"},null,null,null,null,0,"","",""]
["2zaMD",{"$f":"VLOOKUP($AA43,DATA!$B$3:$E$6,2,0)","v":"14:30:00"},{"$f":"VLOOKUP($AA43,DATA!$B$3:$E$6,3,0)","v":"22:30:00"},{"$f":"VLOOKUP($AA43,DATA!$B$3:$E$6,4,0)","v":3.125E-2},0.30208333333333337,0.30208333333333337,{"$f":"DATA!$C$9","v":0.89},{"$f":"DATA!$C$10","v":64},1,407.81250000000006,407.81250000000006,0,"","",0,"","",0,"","","","",null,{"$f":"X37","v":2},null,{"$f":"TEXT(Y42,\"ddd\")","v":"za"},"MD",{"$f":"IFERROR(HLOOKUP(Y42,[1]DATA!$A$1:$NB$5,4,0),\"\")","v":"-"},null,null,null,null,0,"","",""]
["2zaND",{"$f":"VLOOKUP($AA44,DATA!$B$3:$E$6,2,0)","v":"22:30:00"},{"$f":"VLOOKUP($AA44,DATA!$B$3:$E$6,3,0)","v":"06:30:00"},{"$f":"VLOOKUP($AA44,DATA!$B$3:$E$6,4,0)","v":3.125E-2},0.30208333333333326,0.30208333333333326,{"$f":"DATA!$C$9","v":0.89},{"$f":"DATA!$C$10","v":64},1,407.81249999999989,407.81249999999989,0,"","",0,"","",0,"","","","",null,{"$f":"X37","v":2},null,{"$f":"TEXT(Y42,\"ddd\")","v":"za"},"ND",{"$f":"IFERROR(HLOOKUP(Y42,[1]DATA!$A$1:$NB$5,5,0),\"\")","v":"-"},null,null,null,null,0,"","",""]
["2zoDD",{"$f":"VLOOKUP($AA45,DATA!$B$3:$E$6,2,0)","v":"06:30:00"},{"$f":"VLOOKUP($AA45,DATA!$B$3:$E$6,3,0)","v":"14:30:00"},{"$f":"VLOOKUP($AA45,DATA!$B$3:$E$6,4,0)","v":3.125E-2},0.30208333333333331,0.30208333333333331,{"$f":"DATA!$C$9","v":0.89},{"$f":"DATA!$C$10","v":64},1,407.8125,407.8125,0,"","",0,"","",0,"","","","",null,{"$f":"X37","v":2},{"$f":"Y42+1","v":"2018-01-14"},{"$f":"TEXT(Y45,\"ddd\")","v":"zo"},"DD",{"$f":"IFERROR(HLOOKUP(Y45,[1]DATA!$A$1:$NB$5,3,0),\"\")","v":"-"},null,null,null,null,0,"","",""]
["2zoMD",{"$f":"VLOOKUP($AA46,DATA!$B$3:$E$6,2,0)","v":"14:30:00"},{"$f":"VLOOKUP($AA46,DATA!$B$3:$E$6,3,0)","v":"22:30:00"},{"$f":"VLOOKUP($AA46,DATA!$B$3:$E$6,4,0)","v":3.125E-2},0.30208333333333337,0.30208333333333337,{"$f":"DATA!$C$9","v":0.89},{"$f":"DATA!$C$10","v":64},1,407.81250000000006,407.81250000000006,0,"","",0,"","",0,"","","","",null,{"$f":"X37","v":2},null,{"$f":"TEXT(Y45,\"ddd\")","v":"zo"},"MD",{"$f":"IFERROR(HLOOKUP(Y45,[1]DATA!$A$1:$NB$5,4,0),\"\")","v":"-"},null,null,null,null,0,"","",""]
["2zoZND",{"$f":"VLOOKUP($AA47,DATA!$B$3:$E$6,2,0)","v":"00:00:00"},{"$f":"VLOOKUP($AA47,DATA!$B$3:$E$6,3,0)","v":"00:00:00"},{"$f":"VLOOKUP($AA47,DATA!$B$3:$E$6,4,0)","v":0},0,0,{"$f":"DATA!$C$9","v":0.89},{"$f":"DATA!$C$10","v":64},1,0,0,0,"","",0,"","",0,"","","","",null,{"$f":"X37","v":2},null,{"$f":"TEXT(Y45,\"ddd\")","v":"zo"},"ZND",{"$f":"IFERROR(HLOOKUP(Y45,[1]DATA!$A$1:$NB$5,5,0),\"\")","v":"D3"},null,null,null,null,0,"","",""]
[{"$f":"X48&Z48&AA48","v":"3maDD"},{"$f":"VLOOKUP($AA48,DATA!$B$3:$E$6,2,0)","v":"06:30:00"},{"$f":"VLOOKUP($AA48,DATA!$B$3:$E$6,3,0)","v":"14:30:00"},{"$f":"VLOOKUP($AA48,DATA!$B$3:$E$6,4,0)","v":3.125E-2},0.30208333333333331,0.20277777777777778,{"$f":"DATA!$C$9","v":0.89},{"$f":"DATA!$C$10","v":64},1,273.75,407.8125,9.930555555555555E-2,134.0625,0.32873563218390806,{"$f":"TIME(INT($AD48/60),INT(MOD($AD48,60)/1),0)","v":0},{"$f":"IF($O48*86400/$H48=0,\"\",$O48*86400/$H48)","v":""},"",350.93333333333334,307,"",307,"",null,{"$f":"X58","v":3},{"$f":"Y45+1","v":"2018-01-15"},{"$f":"TEXT(Y48,\"ddd\")","v":"ma"},"DD",{"$f":"IFERROR(HLOOKUP(Y48,[1]DATA!$A$1:$NB$5,3,0),\"\")","v":"D2"},143,null,22,329,18,5.1249999999999432,0.70422939068100354,0.95121069750632459,4359.375,3013,0.69115412186379932,945,0.21677419354838709,112.5,2.5806451612903226E-2,0.95796346347939365,0.94733292844279138,0.96859399851599615,"",288.875,6.6265232974910368E-2,308.13333333333333,157]
["3maMD",{"$f":"VLOOKUP($AA49,DATA!$B$3:$E$6,2,0)","v":"14:30:00"},{"$f":"VLOOKUP($AA49,DATA!$B$3:$E$6,3,0)","v":"22:30:00"},{"$f":"VLOOKUP($AA49,DATA!$B$3:$E$6,4,0)","v":3.125E-2},0.30208333333333337,0.19444444444444448,{"$f":"DATA!$C$9","v":0.89},{"$f":"DATA!$C$10","v":64},1,262.50000000000006,407.81250000000006,0.1076388888888889,145.3125,0.35632183908045972,{"$f":"TIME(INT(AD49/60),INT(MOD(AD49,60)/1),0)","v":0},"","",330.66666666666669,295,295,"","",null,{"$f":"X58","v":3},null,{"$f":"TEXT(Y48,\"ddd\")","v":"ma"},"MD",{"$f":"IFERROR(HLOOKUP(Y48,[1]DATA!$A$1:$NB$5,4,0),\"\")","v":"D1"},155,null,15,310,8,4.3750000000000568,0.6767025089605736,0.97637795275590555]
["3maND",{"$f":"VLOOKUP($AA50,DATA!$B$3:$E$6,2,0)","v":"22:30:00"},{"$f":"VLOOKUP($AA50,DATA!$B$3:$E$6,3,0)","v":"06:30:00"},{"$f":"VLOOKUP($AA50,DATA!$B$3:$E$6,4,0)","v":3.125E-2},0.30208333333333326,0.30208333333333326,{"$f":"DATA!$C$9","v":0.89},{"$f":"DATA!$C$10","v":64},1,407.81249999999989,407.81249999999989,0,"","",0,"","",0,"","","","",null,{"$f":"X58","v":3},null,{"$f":"TEXT(Y48,\"ddd\")","v":"ma"},"ND",{"$f":"IFERROR(HLOOKUP(Y48,[1]DATA!$A$1:$NB$5,5,0),\"\")","v":"D3"},null,null,null,null,0,"","",""]
["3diDD",{"$f":"VLOOKUP($AA51,DATA!$B$3:$E$6,2,0)","v":"06:30:00"},{"$f":"VLOOKUP($AA51,DATA!$B$3:$E$6,3,0)","v":"14:30:00"},{"$f":"VLOOKUP($AA51,DATA!$B$3:$E$6,4,0)","v":3.125E-2},0.30208333333333331,0.21249999999999997,{"$f":"DATA!$C$9","v":0.89},{"$f":"DATA!$C$10","v":64},1,286.87499999999994,407.8125,8.9583333333333334E-2,120.9375,0.29655172413793102,0,"","",331.73333333333335,300,"",300,"",null,{"$f":"X58","v":3},{"$f":"Y48+1","v":"2018-01-16"},{"$f":"TEXT(Y51,\"ddd\")","v":"di"},"DD",{"$f":"IFERROR(HLOOKUP(Y51,[1]DATA!$A$1:$NB$5,3,0),\"\")","v":"D2"},129,null,11,311,9,-15,0.68817204301075274,0.97358638231265893]
["3diMD",{"$f":"VLOOKUP($AA52,DATA!$B$3:$E$6,2,0)","v":"14:30:00"},{"$f":"VLOOKUP($AA52,DATA!$B$3:$E$6,3,0)","v":"22:30:00"},{"$f":"VLOOKUP($AA52,DATA!$B$3:$E$6,4,0)","v":3.125E-2},0.30208333333333337,0.22847222222222224,{"$f":"DATA!$C$9","v":0.89},{"$f":"DATA!$C$10","v":64},1,308.4375,407.81250000000006,7.3611111111111113E-2,99.375,0.2436781609195402,0,"","",405.33333333333331,354,354,"","",null,{"$f":"X58","v":3},null,{"$f":"TEXT(Y51,\"ddd\")","v":"di"},"MD",{"$f":"IFERROR(HLOOKUP(Y51,[1]DATA!$A$1:$NB$5,4,0),\"\")","v":"D1"},106,null,26,380,25,17.437500000000057,0.81204301075268825,0.94190549961270331]
["3diND",{"$f":"VLOOKUP($AA53,DATA!$B$3:$E$6,2,0)","v":"22:30:00"},{"$f":"VLOOKUP($AA53,DATA!$B$3:$E$6,3,0)","v":"06:30:00"},{"$f":"VLOOKUP($AA53,DATA!$B$3:$E$6,4,0)","v":3.125E-2},0.30208333333333326,0.30208333333333326,{"$f":"DATA!$C$9","v":0.89},{"$f":"DATA!$C$10","v":64},1,407.81249999999989,407.81249999999989,0,"","",0,"","",0,"","","","",null,{"$f":"X58","v":3},null,{"$f":"TEXT(Y51,\"ddd\")","v":"di"},"ND",{"$f":"IFERROR(HLOOKUP(Y51,[1]DATA!$A$1:$NB$5,5,0),\"\")","v":"D3"},null,null,null,null,0,"","",""]
["3woDD",{"$f":"VLOOKUP($AA54,DATA!$B$3:$E$6,2,0)","v":"06:30:00"},{"$f":"VLOOKUP($AA54,DATA!$B$3:$E$6,3,0)","v":"14:30:00"},{"$f":"VLOOKUP($AA54,DATA!$B$3:$E$6,4,0)","v":3.125E-2},0.30208333333333331,0.16041666666666665,{"$f":"DATA!$C$9","v":0.89},{"$f":"DATA!$C$10","v":64},1,216.56249999999997,407.8125,0.14166666666666666,191.25,0.4689655172413793,0,"","",231.46666666666667,206,"",206,"",null,{"$f":"X58","v":3},{"$f":"Y51+1","v":"2018-01-17"},{"$f":"TEXT(Y54,\"ddd\")","v":"wo"},"DD",{"$f":"IFERROR(HLOOKUP(Y54,[1]DATA!$A$1:$NB$5,3,0),\"\")","v":"D2"},204,null,11,217,3,-38.687500000000028,0.47254480286738354,0.98720500426499858]
["3woMD",{"$f":"VLOOKUP($AA55,DATA!$B$3:$E$6,2,0)","v":"14:30:00"},{"$f":"VLOOKUP($AA55,DATA!$B$3:$E$6,3,0)","v":"22:30:00"},{"$f":"VLOOKUP($AA55,DATA!$B$3:$E$6,4,0)","v":3.125E-2},0.30208333333333337,0.29513888888888895,{"$f":"DATA!$C$9","v":0.89},{"$f":"DATA!$C$10","v":64},1,398.43750000000006,407.81250000000006,6.9444444444444441E-3,9.375,2.2988505747126433E-2,0,"","",358.4,321,321,"","",null,{"$f":"X58","v":3},null,{"$f":"TEXT(Y54,\"ddd\")","v":"wo"},"MD",{"$f":"IFERROR(HLOOKUP(Y54,[1]DATA!$A$1:$NB$5,4,0),\"\")","v":"D1"},10,null,15,336,50,-105.5625,0.73634408602150547,0.87757100881488737]
["3woND",{"$f":"VLOOKUP($AA56,DATA!$B$3:$E$6,2,0)","v":"22:30:00"},{"$f":"VLOOKUP($AA56,DATA!$B$3:$E$6,3,0)","v":"06:30:00"},{"$f":"VLOOKUP($AA56,DATA!$B$3:$E$6,4,0)","v":3.125E-2},0.30208333333333326,0.30208333333333326,{"$f":"DATA!$C$9","v":0.89},{"$f":"DATA!$C$10","v":64},1,407.81249999999989,407.81249999999989,0,"","",0,"","",0,"","","","",null,{"$f":"X58","v":3},null,{"$f":"TEXT(Y54,\"ddd\")","v":"wo"},"ND",{"$f":"IFERROR(HLOOKUP(Y54,[1]DATA!$A$1:$NB$5,5,0),\"\")","v":"D3"},null,null,null,null,0,"","",""]
["3doDD",{"$f":"VLOOKUP($AA57,DATA!$B$3:$E$6,2,0)","v":"06:30:00"},{"$f":"VLOOKUP($AA57,DATA!$B$3:$E$6,3,0)","v":"14:30:00"},{"$f":"VLOOKUP($AA57,DATA!$B$3:$E$6,4,0)","v":3.125E-2},0.30208333333333331,0.19791666666666666,{"$f":"DATA!$C$9","v":0.89},{"$f":"DATA!$C$10","v":64},1,267.1875,407.8125,2.0833333333333332E-2,28.125,6.8965517241379309E-2,8.3333333333333329E-2,112.5,0.27586206896551724,254.93333333333334,233,"",233,"",null,{"$f":"X58","v":3},{"$f":"Y54+1","v":"2018-01-18"},{"$f":"TEXT(Y57,\"ddd\")","v":"do"},"DD",{"$f":"IFERROR(HLOOKUP(Y57,[1]DATA!$A$1:$NB$5,3,0),\"\")","v":"D2"},30,120,6,239,12,-62.312500000000057,0.53448028673835124,0.95504495504495501]
["3doMD",{"$f":"VLOOKUP($AA58,DATA!$B$3:$E$6,2,0)","v":"14:30:00"},{"$f":"VLOOKUP($AA58,DATA!$B$3:$E$6,3,0)","v":"22:30:00"},{"$f":"VLOOKUP($AA58,DATA!$B$3:$E$6,4,0)","v":3.125E-2},0.30208333333333337,0.23472222222222228,{"$f":"DATA!$C$9","v":0.89},{"$f":"DATA!$C$10","v":64},1,316.87500000000006,407.81250000000006,6.7361111111111108E-2,90.9375,0.22298850574712639,0,"","",379.73333333333335,340,340,"","",null,{"$f":"WEEKNUM($Y48)","v":3},null,{"$f":"TEXT(Y57,\"ddd\")","v":"do"},"MD",{"$f":"IFERROR(HLOOKUP(Y57,[1]DATA!$A$1:$NB$5,4,0),\"\")","v":"D1"},97,null,16,356,9,-5,0.77992831541218643,0.97684788200994688]
["3doND",{"$f":"VLOOKUP($AA59,DATA!$B$3:$E$6,2,0)","v":"22:30:00"},{"$f":"VLOOKUP($AA59,DATA!$B$3:$E$6,3,0)","v":"06:30:00"},{"$f":"VLOOKUP($AA59,DATA!$B$3:$E$6,4,0)","v":3.125E-2},0.30208333333333326,0.30208333333333326,{"$f":"DATA!$C$9","v":0.89},{"$f":"DATA!$C$10","v":64},1,407.81249999999989,407.81249999999989,0,"","",0,"","",0,"","","","",null,{"$f":"X58","v":3},null,{"$f":"TEXT(Y57,\"ddd\")","v":"do"},"ND",{"$f":"IFERROR(HLOOKUP(Y57,[1]DATA!$A$1:$NB$5,5,0),\"\")","v":"D3"},null,null,null,null,0,"","",""]
["3vrDD",{"$f":"VLOOKUP($AA60,DATA!$B$3:$E$6,2,0)","v":"06:30:00"},{"$f":"VLOOKUP($AA60,DATA!$B$3:$E$6,3,0)","v":"14:30:00"},{"$f":"VLOOKUP($AA60,DATA!$B$3:$E$6,4,0)","v":3.125E-2},0.30208333333333331,0.24583333333333332,{"$f":"DATA!$C$9","v":0.89},{"$f":"DATA!$C$10","v":64},1,331.875,407.8125,5.6250000000000001E-2,75.9375,0.18620689655172415,0,"","",405.33333333333331,345,"",345,"",null,{"$f":"X58","v":3},{"$f":"Y57+1","v":"2018-01-19"},{"$f":"TEXT(Y60,\"ddd\")","v":"vr"},"DD",{"$f":"IFERROR(HLOOKUP(Y60,[1]DATA!$A$1:$NB$5,3,0),\"\")","v":"D2"},81,null,35,380,10,-15,0.79139784946236558,0.9759229534510433]
["3vrMD",{"$f":"VLOOKUP($AA61,DATA!$B$3:$E$6,2,0)","v":"14:30:00"},{"$f":"VLOOKUP($AA61,DATA!$B$3:$E$6,3,0)","v":"22:30:00"},{"$f":"VLOOKUP($AA61,DATA!$B$3:$E$6,4,0)","v":3.125E-2},0.30208333333333337,0.26527777777777783,{"$f":"DATA!$C$9","v":0.89},{"$f":"DATA!$C$10","v":64},1,358.12500000000006,407.81250000000006,3.6805555555555557E-2,49.6875,0.1218390804597701,0,"","",347.73333333333335,312,312,"","",null,{"$f":"X58","v":3},null,{"$f":"TEXT(Y60,\"ddd\")","v":"vr"},"MD",{"$f":"IFERROR(HLOOKUP(Y60,[1]DATA!$A$1:$NB$5,4,0),\"\")","v":"D1"},53,null,14,326,13,-74.25,0.71569892473118291,0.96396229902051378]
["3vrND",{"$f":"VLOOKUP($AA62,DATA!$B$3:$E$6,2,0)","v":"22:30:00"},{"$f":"VLOOKUP($AA62,DATA!$B$3:$E$6,3,0)","v":"06:30:00"},{"$f":"VLOOKUP($AA62,DATA!$B$3:$E$6,4,0)","v":3.125E-2},0.30208333333333326,0.30208333333333326,{"$f":"DATA!$C$9","v":0.89},{"$f":"DATA!$C$10","v":64},1,407.81249999999989,407.81249999999989,0,"","",0,"","",0,"","","","",null,{"$f":"X58","v":3},null,{"$f":"TEXT(Y60,\"ddd\")","v":"vr"},"ND",{"$f":"IFERROR(HLOOKUP(Y60,[1]DATA!$A$1:$NB$5,5,0),\"\")","v":"-"},null,null,null,null,0,"","",""]
["3zaDD",{"$f":"VLOOKUP($AA63,DATA!$B$3:$E$6,2,0)","v":"06:30:00"},{"$f":"VLOOKUP($AA63,DATA!$B$3:$E$6,3,0)","v":"14:30:00"},{"$f":"VLOOKUP($AA63,DATA!$B$3:$E$6,4,0)","v":3.125E-2},0.30208333333333331,0.30208333333333331,{"$f":"DATA!$C$9","v":0.89},{"$f":"DATA!$C$10","v":64},1,407.8125,407.8125,0,"","",0,"","",0,"","","","",null,{"$f":"X58","v":3},{"$f":"Y60+1","v":"2018-01-20"},{"$f":"TEXT(Y63,\"ddd\")","v":"za"},"DD",{"$f":"IFERROR(HLOOKUP(Y63,[1]DATA!$A$1:$NB$5,3,0),\"\")","v":"-"},null,null,null,null,0,"","",""]
["3zaMD",{"$f":"VLOOKUP($AA64,DATA!$B$3:$E$6,2,0)","v":"14:30:00"},{"$f":"VLOOKUP($AA64,DATA!$B$3:$E$6,3,0)","v":"22:30:00"},{"$f":"VLOOKUP($AA64,DATA!$B$3:$E$6,4,0)","v":3.125E-2},0.30208333333333337,0.30208333333333337,{"$f":"DATA!$C$9","v":0.89},{"$f":"DATA!$C$10","v":64},1,407.81250000000006,407.81250000000006,0,"","",0,"","",0,"","","","",null,{"$f":"X58","v":3},null,{"$f":"TEXT(Y63,\"ddd\")","v":"za"},"MD",{"$f":"IFERROR(HLOOKUP(Y63,[1]DATA!$A$1:$NB$5,4,0),\"\")","v":"-"},null,null,null,null,0,"","",""]
["3zaND",{"$f":"VLOOKUP($AA65,DATA!$B$3:$E$6,2,0)","v":"22:30:00"},{"$f":"VLOOKUP($AA65,DATA!$B$3:$E$6,3,0)","v":"06:30:00"},{"$f":"VLOOKUP($AA65,DATA!$B$3:$E$6,4,0)","v":3.125E-2},0.30208333333333326,0.30208333333333326,{"$f":"DATA!$C$9","v":0.89},{"$f":"DATA!$C$10","v":64},1,407.81249999999989,407.81249999999989,0,"","",0,"","",0,"","","","",null,{"$f":"X58","v":3},null,{"$f":"TEXT(Y63,\"ddd\")","v":"za"},"ND",{"$f":"IFERROR(HLOOKUP(Y63,[1]DATA!$A$1:$NB$5,5,0),\"\")","v":"-"},null,null,null,null,0,"","",""]
["3zoDD",{"$f":"VLOOKUP($AA66,DATA!$B$3:$E$6,2,0)","v":"06:30:00"},{"$f":"VLOOKUP($AA66,DATA!$B$3:$E$6,3,0)","v":"14:30:00"},{"$f":"VLOOKUP($AA66,DATA!$B$3:$E$6,4,0)","v":3.125E-2},0.30208333333333331,0.30208333333333331,{"$f":"DATA!$C$9","v":0.89},{"$f":"DATA!$C$10","v":64},1,407.8125,407.8125,0,"","",0,"","",0,"","","","",null,{"$f":"X58","v":3},{"$f":"Y63+1","v":"2018-01-21"},{"$f":"TEXT(Y66,\"ddd\")","v":"zo"},"DD",{"$f":"IFERROR(HLOOKUP(Y66,[1]DATA!$A$1:$NB$5,3,0),\"\")","v":"-"},null,null,null,null,0,"","",""]
["3zoMD",{"$f":"VLOOKUP($AA67,DATA!$B$3:$E$6,2,0)","v":"14:30:00"},{"$f":"VLOOKUP($AA67,DATA!$B$3:$E$6,3,0)","v":"22:30:00"},{"$f":"VLOOKUP($AA67,DATA!$B$3:$E$6,4,0)","v":3.125E-2},0.30208333333333337,0.30208333333333337,{"$f":"DATA!$C$9","v":0.89},{"$f":"DATA!$C$10","v":64},1,407.81250000000006,407.81250000000006,0,"","",0,"","",0,"","","","",null,{"$f":"X58","v":3},null,{"$f":"TEXT(Y66,\"ddd\")","v":"zo"},"MD",{"$f":"IFERROR(HLOOKUP(Y66,[1]DATA!$A$1:$NB$5,4,0),\"\")","v":"-"},null,null,null,null,0,"","",""]
["3zoZND",{"$f":"VLOOKUP($AA68,DATA!$B$3:$E$6,2,0)","v":"00:00:00"},{"$f":"VLOOKUP($AA68,DATA!$B$3:$E$6,3,0)","v":"00:00:00"},{"$f":"VLOOKUP($AA68,DATA!$B$3:$E$6,4,0)","v":0},0,0,{"$f":"DATA!$C$9","v":0.89},{"$f":"DATA!$C$10","v":64},1,0,0,0,"","",0,"","",0,"","","","",null,{"$f":"X58","v":3},null,{"$f":"TEXT(Y66,\"ddd\")","v":"zo"},"ZND",{"$f":"IFERROR(HLOOKUP(Y66,[1]DATA!$A$1:$NB$5,5,0),\"\")","v":"D2"},null,null,null,null,0,"","",""]
["4maDD",{"$f":"VLOOKUP($AA69,DATA!$B$3:$E$6,2,0)","v":"06:30:00"},{"$f":"VLOOKUP($AA69,DATA!$B$3:$E$6,3,0)","v":"14:30:00"},{"$f":"VLOOKUP($AA69,DATA!$B$3:$E$6,4,0)","v":3.125E-2},0.30208333333333331,0.2583333333333333,{"$f":"DATA!$C$9","v":0.89},{"$f":"DATA!$C$10","v":64},1,348.74999999999994,407.8125,4.3750000000000004E-2,59.062500000000007,0.14482758620689656,{"$f":"TIME(INT($AD69/60),INT(MOD($AD69,60)/1),0)","v":0},"","",385.06666666666666,339,339,"","",null,{"$f":"X79","v":4},{"$f":"Y66+1","v":"2018-01-22"},{"$f":"TEXT(Y69,\"ddd\")","v":"ma"},"DD",{"$f":"IFERROR(HLOOKUP(Y69,[1]DATA!$A$1:$NB$5,3,0),\"\")","v":"D1"},63,null,22,361,8,-37.875,0.7776344086021505,0.97964721845318858,4359.375,3154,0.72349820788530461,640.3125,0.14688172043010753,0,0,0.9450738288946352,0.92476818080742151,"",0.96537947698184889,565.0625,0.12962007168458786,602.73333333333335,217]
["4maMD",{"$f":"VLOOKUP($AA70,DATA!$B$3:$E$6,2,0)","v":"14:30:00"},{"$f":"VLOOKUP($AA70,DATA!$B$3:$E$6,3,0)","v":"22:30:00"},{"$f":"VLOOKUP($AA70,DATA!$B$3:$E$6,4,0)","v":3.125E-2},0.30208333333333337,0.23541666666666672,{"$f":"DATA!$C$9","v":0.89},{"$f":"DATA!$C$10","v":64},1,{"$f":"F70*86400/H70*I70","v":317.81250000000006},{"$f":"E70*86400/H70","v":407.81250000000006},6.6666666666666666E-2,90,0.22068965517241376,{"$f":"TIME(INT(AD70/60),INT(MOD(AD70,60)/1),0)","v":0},"","",{"$f":"AF70*AG$2","v":373.33333333333331},{"$f":"IF(AF70-AE70=0,\"\",AF70-AE70)","v":320},"","",320,null,{"$f":"X79","v":4},null,{"$f":"TEXT(Y69,\"ddd\")","v":"ma"},"MD",{"$f":"IFERROR(HLOOKUP(Y69,[1]DATA!$A$1:$NB$5,4,0),\"\")","v":"D3"},96,null,30,350,3,-25.937499999999943,0.73405017921146964,0.99202834366696191]
["4maND",{"$f":"VLOOKUP($AA71,DATA!$B$3:$E$6,2,0)","v":"22:30:00"},{"$f":"VLOOKUP($AA71,DATA!$B$3:$E$6,3,0)","v":"06:30:00"},{"$f":"VLOOKUP($AA71,DATA!$B$3:$E$6,4,0)","v":3.125E-2},0.30208333333333326,0.30208333333333326,{"$f":"DATA!$C$9","v":0.89},{"$f":"DATA!$C$10","v":64},1,407.81249999999989,407.81249999999989,{"$f":"TIME(INT($AC71/60),INT(MOD($AC71,60)/1),0)","v":0},{"$f":"IF($L71*86400/$H71=0,\"\",$L71*86400/$H71)","v":""},{"$f":"IFERROR($M71/$K71,\"\")","v":""},0,"",{"$f":"IFERROR($P71/$K71,\"\")","v":""},0,"",{"$f":"IF(IF($AB71=\"D1\",$S71,\"\")=0,\"\",IF($AB71=\"D1\",$S71,\"\"))","v":""},{"$f":"IF(IF($AB71=\"D2\",$S71,\"\")=0,\"\",IF($AB71=\"D2\",$S71,\"\"))","v":""},{"$f":"IF(IF($AB71=\"D3\",$S71,\"\")=0,\"\",IF($AB71=\"D3\",$S71,\"\"))","v":""},null,{"$f":"X79","v":4},null,{"$f":"TEXT(Y69,\"ddd\")","v":"ma"},"ND",{"$f":"IFERROR(HLOOKUP(Y69,[1]DATA!$A$1:$NB$5,5,0),\"\")","v":"D2"},null,null,null,null,0,"","",""]
["4diDD",{"$f":"VLOOKUP($AA72,DATA!$B$3:$E$6,2,0)","v":"06:30:00"},{"$f":"VLOOKUP($AA72,DATA!$B$3:$E$6,3,0)","v":"14:30:00"},{"$f":"VLOOKUP($AA72,DATA!$B$3:$E$6,4,0)","v":3.125E-2},0.30208333333333331,0.30208333333333331,{"$f":"DATA!$C$9","v":0.89},{"$f":"DATA!$C$10","v":64},1,407.8125,407.8125,0,"","",0,"","",282.66666666666669,261,261,"","",null,{"$f":"X79","v":4},{"$f":"Y69+1","v":"2018-01-23"},{"$f":"TEXT(Y72,\"ddd\")","v":"di"},"DD",{"$f":"IFERROR(HLOOKUP(Y72,[1]DATA!$A$1:$NB$5,3,0),\"\")","v":"D1"},0,null,4,265,123,-174.9375,0.59870967741935488,0.69679539852095318]
["4diMD",{"$f":"VLOOKUP($AA73,DATA!$B$3:$E$6,2,0)","v":"14:30:00"},{"$f":"VLOOKUP($AA73,DATA!$B$3:$E$6,3,0)","v":"22:30:00"},{"$f":"VLOOKUP($AA73,DATA!$B$3:$E$6,4,0)","v":3.125E-2},0.30208333333333337,0.25000000000000006,{"$f":"DATA!$C$9","v":0.89},{"$f":"DATA!$C$10","v":64},1,337.50000000000006,407.81250000000006,5.2083333333333336E-2,70.3125,0.17241379310344826,0,"","",429.86666666666667,365,"","",365,null,{"$f":"X79","v":4},null,{"$f":"TEXT(Y72,\"ddd\")","v":"di"},"MD",{"$f":"IFERROR(HLOOKUP(Y72,[1]DATA!$A$1:$NB$5,4,0),\"\")","v":"D3"},75,null,38,403,0,-0.625,0.83727598566308259,1]
["4diND",{"$f":"VLOOKUP($AA74,DATA!$B$3:$E$6,2,0)","v":"22:30:00"},{"$f":"VLOOKUP($AA74,DATA!$B$3:$E$6,3,0)","v":"06:30:00"},{"$f":"VLOOKUP($AA74,DATA!$B$3:$E$6,4,0)","v":3.125E-2},0.30208333333333326,0.30208333333333326,{"$f":"DATA!$C$9","v":0.89},{"$f":"DATA!$C$10","v":64},1,407.81249999999989,407.81249999999989,0,"","",0,"","",0,"","","","",null,{"$f":"X79","v":4},null,{"$f":"TEXT(Y72,\"ddd\")","v":"di"},"ND",{"$f":"IFERROR(HLOOKUP(Y72,[1]DATA!$A$1:$NB$5,5,0),\"\")","v":"D2"},null,null,null,null,0,"","",""]
["4woDD",{"$f":"VLOOKUP($AA75,DATA!$B$3:$E$6,2,0)","v":"06:30:00"},{"$f":"VLOOKUP($AA75,DATA!$B$3:$E$6,3,0)","v":"14:30:00"},{"$f":"VLOOKUP($AA75,DATA!$B$3:$E$6,4,0)","v":3.125E-2},0.30208333333333331,0.24583333333333332,{"$f":"DATA!$C$9","v":0.89},{"$f":"DATA!$C$10","v":64},1,331.875,407.8125,5.6250000000000001E-2,75.9375,0.18620689655172415,0,"","",365.86666666666667,331,331,"","",null,{"$f":"X79","v":4},{"$f":"Y72+1","v":"2018-01-24"},{"$f":"TEXT(Y75,\"ddd\")","v":"wo"},"DD",{"$f":"IFERROR(HLOOKUP(Y75,[1]DATA!$A$1:$NB$5,3,0),\"\")","v":"D1"},81,null,12,343,10,-29,0.75928315412186376,0.97339482085846041]
["4woMD",{"$f":"VLOOKUP($AA76,DATA!$B$3:$E$6,2,0)","v":"14:30:00"},{"$f":"VLOOKUP($AA76,DATA!$B$3:$E$6,3,0)","v":"22:30:00"},{"$f":"VLOOKUP($AA76,DATA!$B$3:$E$6,4,0)","v":3.125E-2},0.30208333333333337,0.24305555555555558,{"$f":"DATA!$C$9","v":0.89},{"$f":"DATA!$C$10","v":64},1,328.12500000000006,407.81250000000006,5.9027777777777783E-2,79.687500000000014,0.19540229885057472,0,"","",387.2,333,"","",333,null,{"$f":"X79","v":4},null,{"$f":"TEXT(Y75,\"ddd\")","v":"wo"},"MD",{"$f":"IFERROR(HLOOKUP(Y75,[1]DATA!$A$1:$NB$5,4,0),\"\")","v":"D3"},85,null,30,363,18,-23.249999999999943,0.76387096774193564,0.9555774925962488]
["4woND",{"$f":"VLOOKUP($AA77,DATA!$B$3:$E$6,2,0)","v":"22:30:00"},{"$f":"VLOOKUP($AA77,DATA!$B$3:$E$6,3,0)","v":"06:30:00"},{"$f":"VLOOKUP($AA77,DATA!$B$3:$E$6,4,0)","v":3.125E-2},0.30208333333333326,0.30208333333333326,{"$f":"DATA!$C$9","v":0.89},{"$f":"DATA!$C$10","v":64},1,407.81249999999989,407.81249999999989,0,"","",0,"","",0,"","","","",null,{"$f":"X79","v":4},null,{"$f":"TEXT(Y75,\"ddd\")","v":"wo"},"ND",{"$f":"IFERROR(HLOOKUP(Y75,[1]DATA!$A$1:$NB$5,5,0),\"\")","v":"D2"},null,null,null,null,0,"","",""]
["4doDD",{"$f":"VLOOKUP($AA78,DATA!$B$3:$E$6,2,0)","v":"06:30:00"},{"$f":"VLOOKUP($AA78,DATA!$B$3:$E$6,3,0)","v":"14:30:00"},{"$f":"VLOOKUP($AA78,DATA!$B$3:$E$6,4,0)","v":3.125E-2},0.30208333333333331,0.21666666666666667,{"$f":"DATA!$C$9","v":0.89},{"$f":"DATA!$C$10","v":64},1,292.5,407.8125,8.5416666666666655E-2,115.31249999999999,0.28275862068965513,0,"","",299.73333333333335,271,271,"","",null,{"$f":"X79","v":4},{"$f":"Y75+1","v":"2018-01-25"},{"$f":"TEXT(Y78,\"ddd\")","v":"do"},"DD",{"$f":"IFERROR(HLOOKUP(Y78,[1]DATA!$A$1:$NB$5,3,0),\"\")","v":"D1"},123,null,10,281,8,-49.625000000000057,0.62164874551971327,0.97400346620450606]
["4doMD",{"$f":"VLOOKUP($AA79,DATA!$B$3:$E$6,2,0)","v":"14:30:00"},{"$f":"VLOOKUP($AA79,DATA!$B$3:$E$6,3,0)","v":"22:30:00"},{"$f":"VLOOKUP($AA79,DATA!$B$3:$E$6,4,0)","v":3.125E-2},0.30208333333333337,0.24444444444444449,{"$f":"DATA!$C$9","v":0.89},{"$f":"DATA!$C$10","v":64},1,330.00000000000006,407.81250000000006,5.7638888888888885E-2,77.8125,0.19080459770114941,0,"","",381.86666666666667,337,"","",337,null,{"$f":"WEEKNUM($Y69)","v":4},null,{"$f":"TEXT(Y78,\"ddd\")","v":"do"},"MD",{"$f":"IFERROR(HLOOKUP(Y78,[1]DATA!$A$1:$NB$5,4,0),\"\")","v":"D3"},83,null,21,358,30,-21.124999999999943,0.77304659498207895,0.92716089349303987]
["4doND",{"$f":"VLOOKUP($AA80,DATA!$B$3:$E$6,2,0)","v":"22:30:00"},{"$f":"VLOOKUP($AA80,DATA!$B$3:$E$6,3,0)","v":"06:30:00"},{"$f":"VLOOKUP($AA80,DATA!$B$3:$E$6,4,0)","v":3.125E-2},0.30208333333333326,0.30208333333333326,{"$f":"DATA!$C$9","v":0.89},{"$f":"DATA!$C$10","v":64},1,407.81249999999989,407.81249999999989,0,"","",0,"","",0,"","","","",null,{"$f":"X79","v":4},null,{"$f":"TEXT(Y78,\"ddd\")","v":"do"},"ND",{"$f":"IFERROR(HLOOKUP(Y78,[1]DATA!$A$1:$NB$5,5,0),\"\")","v":"D2"},null,null,null,null,0,"","",""]
["4vrDD",{"$f":"VLOOKUP($AA81,DATA!$B$3:$E$6,2,0)","v":"06:30:00"},{"$f":"VLOOKUP($AA81,DATA!$B$3:$E$6,3,0)","v":"14:30:00"},{"$f":"VLOOKUP($AA81,DATA!$B$3:$E$6,4,0)","v":3.125E-2},0.30208333333333331,0.27569444444444441,{"$f":"DATA!$C$9","v":0.89},{"$f":"DATA!$C$10","v":64},1,372.18749999999994,407.8125,2.6388888888888889E-2,35.625,8.7356321839080459E-2,0,"","",338.13333333333333,308,308,"","",null,{"$f":"X79","v":4},{"$f":"Y78+1","v":"2018-01-26"},{"$f":"TEXT(Y81,\"ddd\")","v":"vr"},"DD",{"$f":"IFERROR(HLOOKUP(Y81,[1]DATA!$A$1:$NB$5,3,0),\"\")","v":"D1"},38,null,9,317,0,-92.3125,0.70652329749103948,1]
["4vrMD",{"$f":"VLOOKUP($AA82,DATA!$B$3:$E$6,2,0)","v":"14:30:00"},{"$f":"VLOOKUP($AA82,DATA!$B$3:$E$6,3,0)","v":"22:30:00"},{"$f":"VLOOKUP($AA82,DATA!$B$3:$E$6,4,0)","v":3.125E-2},0.30208333333333337,0.27500000000000002,{"$f":"DATA!$C$9","v":0.89},{"$f":"DATA!$C$10","v":64},1,371.25000000000006,407.81250000000006,2.7083333333333334E-2,36.5625,8.9655172413793088E-2,0,"","",338.13333333333333,289,"","",289,null,{"$f":"X79","v":4},null,{"$f":"TEXT(Y81,\"ddd\")","v":"vr"},"MD",{"$f":"IFERROR(HLOOKUP(Y81,[1]DATA!$A$1:$NB$5,4,0),\"\")","v":"D3"},39,null,28,317,17,-110.37499999999994,0.66293906810035852,0.95213065515299422]
["4vrND",{"$f":"VLOOKUP($AA83,DATA!$B$3:$E$6,2,0)","v":"22:30:00"},{"$f":"VLOOKUP($AA83,DATA!$B$3:$E$6,3,0)","v":"06:30:00"},{"$f":"VLOOKUP($AA83,DATA!$B$3:$E$6,4,0)","v":3.125E-2},0.30208333333333326,0.30208333333333326,{"$f":"DATA!$C$9","v":0.89},{"$f":"DATA!$C$10","v":64},1,407.81249999999989,407.81249999999989,0,"","",0,"","",0,"","","","",null,{"$f":"X79","v":4},null,{"$f":"TEXT(Y81,\"ddd\")","v":"vr"},"ND",{"$f":"IFERROR(HLOOKUP(Y81,[1]DATA!$A$1:$NB$5,5,0),\"\")","v":"-"},null,null,null,null,0,"","",""]
["4zaDD",{"$f":"VLOOKUP($AA84,DATA!$B$3:$E$6,2,0)","v":"06:30:00"},{"$f":"VLOOKUP($AA84,DATA!$B$3:$E$6,3,0)","v":"14:30:00"},{"$f":"VLOOKUP($AA84,DATA!$B$3:$E$6,4,0)","v":3.125E-2},0.30208333333333331,0.30208333333333331,{"$f":"DATA!$C$9","v":0.89},{"$f":"DATA!$C$10","v":64},1,407.8125,407.8125,0,"","",0,"","",0,"","","","",null,{"$f":"X79","v":4},{"$f":"Y81+1","v":"2018-01-27"},{"$f":"TEXT(Y84,\"ddd\")","v":"za"},"DD",{"$f":"IFERROR(HLOOKUP(Y84,[1]DATA!$A$1:$NB$5,3,0),\"\")","v":"-"},null,null,null,null,0,"","",""]
["4zaMD",{"$f":"VLOOKUP($AA85,DATA!$B$3:$E$6,2,0)","v":"14:30:00"},{"$f":"VLOOKUP($AA85,DATA!$B$3:$E$6,3,0)","v":"22:30:00"},{"$f":"VLOOKUP($AA85,DATA!$B$3:$E$6,4,0)","v":3.125E-2},0.30208333333333337,0.30208333333333337,{"$f":"DATA!$C$9","v":0.89},{"$f":"DATA!$C$10","v":64},1,407.81250000000006,407.81250000000006,0,"","",0,"","",0,"","","","",null,{"$f":"X79","v":4},null,{"$f":"TEXT(Y84,\"ddd\")","v":"za"},"MD",{"$f":"IFERROR(HLOOKUP(Y84,[1]DATA!$A$1:$NB$5,4,0),\"\")","v":"-"},null,null,null,null,0,"","",""]
["4zaND",{"$f":"VLOOKUP($AA86,DATA!$B$3:$E$6,2,0)","v":"22:30:00"},{"$f":"VLOOKUP($AA86,DATA!$B$3:$E$6,3,0)","v":"06:30:00"},{"$f":"VLOOKUP($AA86,DATA!$B$3:$E$6,4,0)","v":3.125E-2},0.30208333333333326,0.30208333333333326,{"$f":"DATA!$C$9","v":0.89},{"$f":"DATA!$C$10","v":64},1,407.81249999999989,407.81249999999989,0,"","",0,"","",0,"","","","",null,{"$f":"X79","v":4},null,{"$f":"TEXT(Y84,\"ddd\")","v":"za"},"ND",{"$f":"IFERROR(HLOOKUP(Y84,[1]DATA!$A$1:$NB$5,5,0),\"\")","v":"-"},null,null,null,null,0,"","",""]
["4zoDD",{"$f":"VLOOKUP($AA87,DATA!$B$3:$E$6,2,0)","v":"06:30:00"},{"$f":"VLOOKUP($AA87,DATA!$B$3:$E$6,3,0)","v":"14:30:00"},{"$f":"VLOOKUP($AA87,DATA!$B$3:$E$6,4,0)","v":3.125E-2},0.30208333333333331,0.30208333333333331,{"$f":"DATA!$C$9","v":0.89},{"$f":"DATA!$C$10","v":64},1,407.8125,407.8125,0,"","",0,"","",0,"","","","",null,{"$f":"X79","v":4},{"$f":"Y84+1","v":"2018-01-28"},{"$f":"TEXT(Y87,\"ddd\")","v":"zo"},"DD",{"$f":"IFERROR(HLOOKUP(Y87,[1]DATA!$A$1:$NB$5,3,0),\"\")","v":"-"},null,null,null,null,0,"","",""]
["4zoMD",{"$f":"VLOOKUP($AA88,DATA!$B$3:$E$6,2,0)","v":"14:30:00"},{"$f":"VLOOKUP($AA88,DATA!$B$3:$E$6,3,0)","v":"22:30:00"},{"$f":"VLOOKUP($AA88,DATA!$B$3:$E$6,4,0)","v":3.125E-2},0.30208333333333337,0.30208333333333337,{"$f":"DATA!$C$9","v":0.89},{"$f":"DATA!$C$10","v":64},1,407.81250000000006,407.81250000000006,0,"","",0,"","",0,"","","","",null,{"$f":"X79","v":4},null,{"$f":"TEXT(Y87,\"ddd\")","v":"zo"},"MD",{"$f":"IFERROR(HLOOKUP(Y87,[1]DATA!$A$1:$NB$5,4,0),\"\")","v":"-"},null,null,null,null,0,"","",""]
["4zoZND",{"$f":"VLOOKUP($AA89,DATA!$B$3:$E$6,2,0)","v":"00:00:00"},{"$f":"VLOOKUP($AA89,DATA!$B$3:$E$6,3,0)","v":"00:00:00"},{"$f":"VLOOKUP($AA89,DATA!$B$3:$E$6,4,0)","v":0},0,0,{"$f":"DATA!$C$9","v":0.89},{"$f":"DATA!$C$10","v":64},1,0,0,0,"","",0,"","",0,"","","","",null,{"$f":"X79","v":4},null,{"$f":"TEXT(Y87,\"ddd\")","v":"zo"},"ZND",{"$f":"IFERROR(HLOOKUP(Y87,[1]DATA!$A$1:$NB$5,5,0),\"\")","v":"D1"},null,null,null,null,0,"","",""]
["5maDD",{"$f":"VLOOKUP($AA90,DATA!$B$3:$E$6,2,0)","v":"06:30:00"},{"$f":"VLOOKUP($AA90,DATA!$B$3:$E$6,3,0)","v":"14:30:00"},{"$f":"VLOOKUP($AA90,DATA!$B$3:$E$6,4,0)","v":3.125E-2},0.30208333333333331,0.19513888888888886,{"$f":"DATA!$C$9","v":0.89},{"$f":"DATA!$C$10","v":64},1,263.43749999999994,407.8125,0.10694444444444444,144.375,0.35402298850574715,{"$f":"TIME(INT($AD90/60),INT(MOD($AD90,60)/1),0)","v":0},"","",281.60000000000002,249,"","",249,null,{"$f":"X100","v":5},{"$f":"Y87+1","v":"2018-01-29"},{"$f":"TEXT(Y90,\"ddd\")","v":"ma"},"DD",{"$f":"IFERROR(HLOOKUP(Y90,[1]DATA!$A$1:$NB$5,3,0),\"\")","v":"D3"},154,null,15,264,7,-42.5625,0.57118279569892472,0.97574497574497576,4359.375,2837,0.65078136200716841,780,0.1789247311827957,304.6875,6.9892473118279563E-2,0.96932750490043351,"",0.96654778611488756,0.97210722368597902,437.6875,0.10040143369175633,466.86666666666667,104]
["5maMD",{"$f":"VLOOKUP($AA91,DATA!$B$3:$E$6,2,0)","v":"14:30:00"},{"$f":"VLOOKUP($AA91,DATA!$B$3:$E$6,3,0)","v":"22:30:00"},{"$f":"VLOOKUP($AA91,DATA!$B$3:$E$6,4,0)","v":3.125E-2},0.30208333333333337,0.25277777777777782,{"$f":"DATA!$C$9","v":0.89},{"$f":"DATA!$C$10","v":64},1,341.25000000000006,407.81250000000006,4.9305555555555554E-2,66.5625,0.16321839080459769,{"$f":"TIME(INT(AD91/60),INT(MOD(AD91,60)/1),0)","v":0},"","",372.26666666666665,333,"",333,"",null,{"$f":"X100","v":5},null,{"$f":"TEXT(Y90,\"ddd\")","v":"ma"},"MD",{"$f":"IFERROR(HLOOKUP(Y90,[1]DATA!$A$1:$NB$5,4,0),\"\")","v":"D2"},71,null,16,349,23,-36.374999999999943,0.76387096774193564,0.94181143531792877]
["5maND",{"$f":"VLOOKUP($AA92,DATA!$B$3:$E$6,2,0)","v":"22:30:00"},{"$f":"VLOOKUP($AA92,DATA!$B$3:$E$6,3,0)","v":"06:30:00"},{"$f":"VLOOKUP($AA92,DATA!$B$3:$E$6,4,0)","v":3.125E-2},{"$f":"(C92-B92+(B92>C92))-D92","v":0.30208333333333326},{"$f":"E92-O92-L92","v":0.30208333333333326},{"$f":"DATA!$C$9","v":0.89},{"$f":"DATA!$C$10","v":64},1,407.81249999999989,407.81249999999989,0,"","",0,"","",0,"","","","",null,{"$f":"X100","v":5},null,{"$f":"TEXT(Y90,\"ddd\")","v":"ma"},"ND",{"$f":"IFERROR(HLOOKUP(Y90,[1]DATA!$A$1:$NB$5,5,0),\"\")","v":"D1"},null,null,null,null,0,"","",""]
["5diDD",{"$f":"VLOOKUP($AA93,DATA!$B$3:$E$6,2,0)","v":"06:30:00"},{"$f":"VLOOKUP($AA93,DATA!$B$3:$E$6,3,0)","v":"14:30:00"},{"$f":"VLOOKUP($AA93,DATA!$B$3:$E$6,4,0)","v":3.125E-2},0.30208333333333331,0.25277777777777777,{"$f":"DATA!$C$9","v":0.89},{"$f":"DATA!$C$10","v":64},1,341.25,407.8125,4.9305555555555554E-2,66.5625,0.16321839080459771,0,"","",386.13333333333333,347,"","",347,null,{"$f":"X100","v":5},{"$f":"Y90+1","v":"2018-01-30"},{"$f":"TEXT(Y93,\"ddd\")","v":"di"},"DD",{"$f":"IFERROR(HLOOKUP(Y93,[1]DATA!$A$1:$NB$5,3,0),\"\")","v":"D3"},71,null,15,362,7,-22.375000000000057,0.79598566308243723,0.98219433610310325]
["5diMD",{"$f":"VLOOKUP($AA94,DATA!$B$3:$E$6,2,0)","v":"14:30:00"},{"$f":"VLOOKUP($AA94,DATA!$B$3:$E$6,3,0)","v":"22:30:00"},{"$f":"VLOOKUP($AA94,DATA!$B$3:$E$6,4,0)","v":3.125E-2},0.30208333333333337,0.24652777777777782,{"$f":"DATA!$C$9","v":0.89},{"$f":"DATA!$C$10","v":64},1,332.81250000000006,407.81250000000006,5.5555555555555552E-2,75,0.18390804597701146,0,"","",365.86666666666667,263,"",263,"",null,{"$f":"X100","v":5},null,{"$f":"TEXT(Y93,\"ddd\")","v":"di"},"MD",{"$f":"IFERROR(HLOOKUP(Y93,[1]DATA!$A$1:$NB$5,4,0),\"\")","v":"D2"},80,null,80,343,0,-97.937499999999943,0.60329749103942665,1]
["5diND",{"$f":"VLOOKUP($AA95,DATA!$B$3:$E$6,2,0)","v":"22:30:00"},{"$f":"VLOOKUP($AA95,DATA!$B$3:$E$6,3,0)","v":"06:30:00"},{"$f":"VLOOKUP($AA95,DATA!$B$3:$E$6,4,0)","v":3.125E-2},0.30208333333333326,0.30208333333333326,{"$f":"DATA!$C$9","v":0.89},{"$f":"DATA!$C$10","v":64},1,407.81249999999989,407.81249999999989,0,"","",0,"","",0,"","","","",null,{"$f":"X100","v":5},null,{"$f":"TEXT(Y93,\"ddd\")","v":"di"},"ND",{"$f":"IFERROR(HLOOKUP(Y93,[1]DATA!$A$1:$NB$5,5,0),\"\")","v":"D1"},null,null,null,null,0,"","",""]
["5woDD",{"$f":"VLOOKUP($AA96,DATA!$B$3:$E$6,2,0)","v":"06:30:00"},{"$f":"VLOOKUP($AA96,DATA!$B$3:$E$6,3,0)","v":"14:30:00"},{"$f":"VLOOKUP($AA96,DATA!$B$3:$E$6,4,0)","v":3.125E-2},0.30208333333333331,0.14861111111111108,{"$f":"DATA!$C$9","v":0.89},{"$f":"DATA!$C$10","v":64},1,200.62499999999997,407.8125,4.9305555555555554E-2,66.5625,0.16321839080459771,0.10416666666666667,140.625,0.34482758620689657,249.6,222,"","",222,null,{"$f":"X100","v":5},{"$f":"Y93+1","v":"2018-01-31"},{"$f":"TEXT(Y96,\"ddd\")","v":"wo"},"DD",{"$f":"IFERROR(HLOOKUP(Y96,[1]DATA!$A$1:$NB$5,3,0),\"\")","v":"D3"},71,150,12,234,14,-6.75,0.50924731182795702,0.94688922610015169]
["5woMD",{"$f":"VLOOKUP($AA97,DATA!$B$3:$E$6,2,0)","v":"14:30:00"},{"$f":"VLOOKUP($AA97,DATA!$B$3:$E$6,3,0)","v":"22:30:00"},{"$f":"VLOOKUP($AA97,DATA!$B$3:$E$6,4,0)","v":3.125E-2},0.30208333333333337,0.15833333333333335,{"$f":"DATA!$C$9","v":0.89},{"$f":"DATA!$C$10","v":64},1,213.75000000000003,407.81250000000006,2.2222222222222223E-2,30,7.3563218390804583E-2,0.12152777777777778,164.0625,0.4022988505747126,270.93333333333334,240,"",240,"",null,{"$f":"X100","v":5},null,{"$f":"TEXT(Y96,\"ddd\")","v":"wo"},"MD",{"$f":"IFERROR(HLOOKUP(Y96,[1]DATA!$A$1:$NB$5,4,0),\"\")","v":"D2"},32,175,14,254,11,-1.8749999999999147,0.55053763440860226,0.96098368408607238]
["5woND",{"$f":"VLOOKUP($AA98,DATA!$B$3:$E$6,2,0)","v":"22:30:00"},{"$f":"VLOOKUP($AA98,DATA!$B$3:$E$6,3,0)","v":"06:30:00"},{"$f":"VLOOKUP($AA98,DATA!$B$3:$E$6,4,0)","v":3.125E-2},0.30208333333333326,0.30208333333333326,{"$f":"DATA!$C$9","v":0.89},{"$f":"DATA!$C$10","v":64},1,407.81249999999989,407.81249999999989,0,"","",0,"","",0,"","","","",null,{"$f":"X100","v":5},null,{"$f":"TEXT(Y96,\"ddd\")","v":"wo"},"ND",{"$f":"IFERROR(HLOOKUP(Y96,[1]DATA!$A$1:$NB$5,5,0),\"\")","v":"D1"},null,null,null,null,0,"","",""]
["5doDD",{"$f":"VLOOKUP($AA99,DATA!$B$3:$E$6,2,0)","v":"06:30:00"},{"$f":"VLOOKUP($AA99,DATA!$B$3:$E$6,3,0)","v":"14:30:00"},{"$f":"VLOOKUP($AA99,DATA!$B$3:$E$6,4,0)","v":3.125E-2},0.30208333333333331,0.25486111111111109,{"$f":"DATA!$C$9","v":0.89},{"$f":"DATA!$C$10","v":64},1,344.0625,407.8125,4.7222222222222221E-2,63.75,0.15632183908045977,0,"","",360.5333333333333,326,"","",326,null,{"$f":"X100","v":5},{"$f":"Y96+1","v":"2018-02-01"},{"$f":"TEXT(Y99,\"ddd\")","v":"do"},"DD",{"$f":"IFERROR(HLOOKUP(Y99,[1]DATA!$A$1:$NB$5,3,0),\"\")","v":"D3"},68,null,12,338,12,-46.1875,0.74781362007168461,0.96778811739441661]
["5doMD",{"$f":"VLOOKUP($AA100,DATA!$B$3:$E$6,2,0)","v":"14:30:00"},{"$f":"VLOOKUP($AA100,DATA!$B$3:$E$6,3,0)","v":"22:30:00"},{"$f":"VLOOKUP($AA100,DATA!$B$3:$E$6,4,0)","v":3.125E-2},0.30208333333333337,0.25972222222222224,{"$f":"DATA!$C$9","v":0.89},{"$f":"DATA!$C$10","v":64},1,350.625,407.81250000000006,4.2361111111111106E-2,57.187499999999993,0.14022988505747122,0,"","",361.6,308,"",308,"",null,{"$f":"WEEKNUM($Y90)","v":5},null,{"$f":"TEXT(Y99,\"ddd\")","v":"do"},"MD",{"$f":"IFERROR(HLOOKUP(Y99,[1]DATA!$A$1:$NB$5,4,0),\"\")","v":"D2"},61,null,31,339,25,-70.749999999999943,0.70652329749103948,0.93533367822038282]
["5doND",{"$f":"VLOOKUP($AA101,DATA!$B$3:$E$6,2,0)","v":"22:30:00"},{"$f":"VLOOKUP($AA101,DATA!$B$3:$E$6,3,0)","v":"06:30:00"},{"$f":"VLOOKUP($AA101,DATA!$B$3:$E$6,4,0)","v":3.125E-2},0.30208333333333326,0.30208333333333326,{"$f":"DATA!$C$9","v":0.89},{"$f":"DATA!$C$10","v":64},1,407.81249999999989,407.81249999999989,0,"","",0,"","",0,"","","","",null,{"$f":"X100","v":5},null,{"$f":"TEXT(Y99,\"ddd\")","v":"do"},"ND",{"$f":"IFERROR(HLOOKUP(Y99,[1]DATA!$A$1:$NB$5,5,0),\"\")","v":"D1"},null,null,null,null,0,"","",""]
["5vrDD",{"$f":"VLOOKUP($AA102,DATA!$B$3:$E$6,2,0)","v":"06:30:00"},{"$f":"VLOOKUP($AA102,DATA!$B$3:$E$6,3,0)","v":"14:30:00"},{"$f":"VLOOKUP($AA102,DATA!$B$3:$E$6,4,0)","v":3.125E-2},0.30208333333333331,0.19236111111111109,{"$f":"DATA!$C$9","v":0.89},{"$f":"DATA!$C$10","v":64},1,259.6875,407.8125,0.10972222222222222,148.125,0.36321839080459772,0,"","",245.33333333333334,224,"","",224,null,{"$f":"X100","v":5},{"$f":"Y99+1","v":"2018-02-02"},{"$f":"TEXT(Y102,\"ddd\")","v":"vr"},"DD",{"$f":"IFERROR(HLOOKUP(Y102,[1]DATA!$A$1:$NB$5,3,0),\"\")","v":"D3"},158,null,6,230,3,-63.8125,0.51383512544802867,0.98791946308724832]
["5vrMD",{"$f":"VLOOKUP($AA103,DATA!$B$3:$E$6,2,0)","v":"14:30:00"},{"$f":"VLOOKUP($AA103,DATA!$B$3:$E$6,3,0)","v":"22:30:00"},{"$f":"VLOOKUP($AA103,DATA!$B$3:$E$6,4,0)","v":3.125E-2},0.30208333333333337,0.25625000000000003,{"$f":"DATA!$C$9","v":0.89},{"$f":"DATA!$C$10","v":64},1,345.93750000000006,407.81250000000006,4.5833333333333337E-2,61.875000000000007,0.15172413793103448,0,"","",369.06666666666666,325,"",325,"",null,{"$f":"X100","v":5},null,{"$f":"TEXT(Y102,\"ddd\")","v":"vr"},"MD",{"$f":"IFERROR(HLOOKUP(Y102,[1]DATA!$A$1:$NB$5,4,0),\"\")","v":"D2"},66,null,21,346,2,-49.062499999999943,0.7455197132616489,0.99461013295005385]
["5vrND",{"$f":"VLOOKUP($AA104,DATA!$B$3:$E$6,2,0)","v":"22:30:00"},{"$f":"VLOOKUP($AA104,DATA!$B$3:$E$6,3,0)","v":"06:30:00"},{"$f":"VLOOKUP($AA104,DATA!$B$3:$E$6,4,0)","v":3.125E-2},0.30208333333333326,0.30208333333333326,{"$f":"DATA!$C$9","v":0.89},{"$f":"DATA!$C$10","v":64},1,407.81249999999989,407.81249999999989,0,"","",0,"","",0,"","","","",null,{"$f":"X100","v":5},null,{"$f":"TEXT(Y102,\"ddd\")","v":"vr"},"ND",{"$f":"IFERROR(HLOOKUP(Y102,[1]DATA!$A$1:$NB$5,5,0),\"\")","v":"-"},null,null,null,null,0,"","",""]
["5zaDD",{"$f":"VLOOKUP($AA105,DATA!$B$3:$E$6,2,0)","v":"06:30:00"},{"$f":"VLOOKUP($AA105,DATA!$B$3:$E$6,3,0)","v":"14:30:00"},{"$f":"VLOOKUP($AA105,DATA!$B$3:$E$6,4,0)","v":3.125E-2},0.30208333333333331,0.30208333333333331,{"$f":"DATA!$C$9","v":0.89},{"$f":"DATA!$C$10","v":64},1,407.8125,407.8125,0,"","",0,"","",0,"","","","",null,{"$f":"X100","v":5},{"$f":"Y102+1","v":"2018-02-03"},{"$f":"TEXT(Y105,\"ddd\")","v":"za"},"DD",{"$f":"IFERROR(HLOOKUP(Y105,[1]DATA!$A$1:$NB$5,3,0),\"\")","v":"-"},null,null,null,null,0,"","",""]
["5zaMD",{"$f":"VLOOKUP($AA106,DATA!$B$3:$E$6,2,0)","v":"14:30:00"},{"$f":"VLOOKUP($AA106,DATA!$B$3:$E$6,3,0)","v":"22:30:00"},{"$f":"VLOOKUP($AA106,DATA!$B$3:$E$6,4,0)","v":3.125E-2},0.30208333333333337,0.30208333333333337,{"$f":"DATA!$C$9","v":0.89},{"$f":"DATA!$C$10","v":64},1,407.81250000000006,407.81250000000006,0,"","",0,"","",0,"","","","",null,{"$f":"X100","v":5},null,{"$f":"TEXT(Y105,\"ddd\")","v":"za"},"MD",{"$f":"IFERROR(HLOOKUP(Y105,[1]DATA!$A$1:$NB$5,4,0),\"\")","v":"-"},null,null,null,null,0,"","",""]
["5zaND",{"$f":"VLOOKUP($AA107,DATA!$B$3:$E$6,2,0)","v":"22:30:00"},{"$f":"VLOOKUP($AA107,DATA!$B$3:$E$6,3,0)","v":"06:30:00"},{"$f":"VLOOKUP($AA107,DATA!$B$3:$E$6,4,0)","v":3.125E-2},0.30208333333333326,0.30208333333333326,{"$f":"DATA!$C$9","v":0.89},{"$f":"DATA!$C$10","v":64},1,407.81249999999989,407.81249999999989,0,"","",0,"","",0,"","","","",null,{"$f":"X100","v":5},null,{"$f":"TEXT(Y105,\"ddd\")","v":"za"},"ND",{"$f":"IFERROR(HLOOKUP(Y105,[1]DATA!$A$1:$NB$5,5,0),\"\")","v":"-"},null,null,null,null,0,"","",""]
["5zoDD",{"$f":"VLOOKUP($AA108,DATA!$B$3:$E$6,2,0)","v":"06:30:00"},{"$f":"VLOOKUP($AA108,DATA!$B$3:$E$6,3,0)","v":"14:30:00"},{"$f":"VLOOKUP($AA108,DATA!$B$3:$E$6,4,0)","v":3.125E-2},0.30208333333333331,0.30208333333333331,{"$f":"DATA!$C$9","v":0.89},{"$f":"DATA!$C$10","v":64},1,407.8125,407.8125,0,"","",0,"","",0,"","","","",null,{"$f":"X100","v":5},{"$f":"Y105+1","v":"2018-02-04"},{"$f":"TEXT(Y108,\"ddd\")","v":"zo"},"DD",{"$f":"IFERROR(HLOOKUP(Y108,[1]DATA!$A$1:$NB$5,3,0),\"\")","v":"-"},null,null,null,null,0,"","",""]
["5zoMD",{"$f":"VLOOKUP($AA109,DATA!$B$3:$E$6,2,0)","v":"14:30:00"},{"$f":"VLOOKUP($AA109,DATA!$B$3:$E$6,3,0)","v":"22:30:00"},{"$f":"VLOOKUP($AA109,DATA!$B$3:$E$6,4,0)","v":3.125E-2},0.30208333333333337,0.30208333333333337,{"$f":"DATA!$C$9","v":0.89},{"$f":"DATA!$C$10","v":64},1,407.81250000000006,407.81250000000006,0,"","",0,"","",0,"","","","",null,{"$f":"X100","v":5},null,{"$f":"TEXT(Y108,\"ddd\")","v":"zo"},"MD",{"$f":"IFERROR(HLOOKUP(Y108,[1]DATA!$A$1:$NB$5,4,0),\"\")","v":"-"},null,null,null,null,0,"","",""]
["5zoZND",{"$f":"VLOOKUP($AA110,DATA!$B$3:$E$6,2,0)","v":"00:00:00"},{"$f":"VLOOKUP($AA110,DATA!$B$3:$E$6,3,0)","v":"00:00:00"},{"$f":"VLOOKUP($AA110,DATA!$B$3:$E$6,4,0)","v":0},0,0,{"$f":"DATA!$C$9","v":0.89},{"$f":"DATA!$C$10","v":64},1,0,0,0,"","",0,"","",0,"","","","",null,{"$f":"X100","v":5},null,{"$f":"TEXT(Y108,\"ddd\")","v":"zo"},"ZND",{"$f":"IFERROR(HLOOKUP(Y108,[1]DATA!$A$1:$NB$5,5,0),\"\")","v":"D3"},null,null,null,null,0,"","",""]
["6maDD",{"$f":"VLOOKUP($AA111,DATA!$B$3:$E$6,2,0)","v":"06:30:00"},{"$f":"VLOOKUP($AA111,DATA!$B$3:$E$6,3,0)","v":"14:30:00"},{"$f":"VLOOKUP($AA111,DATA!$B$3:$E$6,4,0)","v":3.125E-2},0.30208333333333331,0.22638888888888886,{"$f":"DATA!$C$9","v":0.89},{"$f":"DATA!$C$10","v":64},1,305.62499999999994,407.8125,7.5694444444444439E-2,102.1875,0.25057471264367814,{"$f":"TIME(INT($AD111/60),INT(MOD($AD111,60)/1),0)","v":0},"","",311.46666666666664,281,"",281,"",null,{"$f":"X121","v":6},{"$f":"Y108+1","v":"2018-02-05"},{"$f":"TEXT(Y111,\"ddd\")","v":"ma"},"DD",{"$f":"IFERROR(HLOOKUP(Y111,[1]DATA!$A$1:$NB$5,3,0),\"\")","v":"D2"},109,null,11,292,3,-52.75,0.64458781362007167,0.9904600381598474,4359.375,3199,0.73382078853046595,618.75,0.14193548387096774,0,0,0.96816898071715907,0.96995451906044239,0.96638344237387552,"",541.625,0.12424372759856631,577.73333333333335,121]
[{"$f":"X112&Z112&AA112","v":"6maMD"},{"$f":"VLOOKUP($AA112,DATA!$B$3:$E$6,2,0)","v":"14:30:00"},{"$f":"VLOOKUP($AA112,DATA!$B$3:$E$6,3,0)","v":"22:30:00"},{"$f":"VLOOKUP($AA112,DATA!$B$3:$E$6,4,0)","v":3.125E-2},0.30208333333333337,0.25555555555555559,{"$f":"DATA!$C$9","v":0.89},{"$f":"DATA!$C$10","v":64},1,345.00000000000006,407.81250000000006,4.6527777777777779E-2,62.8125,0.15402298850574711,{"$f":"TIME(INT(AD112/60),INT(MOD(AD112,60)/1),0)","v":0},{"$f":"IF($O112*86400/$H112=0,\"\",$O112*86400/$H112)","v":""},"",359.46666666666664,318,318,"","",null,{"$f":"X121","v":6},null,{"$f":"TEXT(Y111,\"ddd\")","v":"ma"},"MD",{"$f":"IFERROR(HLOOKUP(Y111,[1]DATA!$A$1:$NB$5,4,0),\"\")","v":"D1"},67,null,19,337,14,-55.124999999999943,0.72946236559139799,0.9625133880756872]
["6maND",{"$f":"VLOOKUP($AA113,DATA!$B$3:$E$6,2,0)","v":"22:30:00"},{"$f":"VLOOKUP($AA113,DATA!$B$3:$E$6,3,0)","v":"06:30:00"},{"$f":"VLOOKUP($AA113,DATA!$B$3:$E$6,4,0)","v":3.125E-2},0.30208333333333326,0.30208333333333326,{"$f":"DATA!$C$9","v":0.89},{"$f":"DATA!$C$10","v":64},1,407.81249999999989,407.81249999999989,0,"","",0,"","",0,"","","","",null,{"$f":"X121","v":6},null,{"$f":"TEXT(Y111,\"ddd\")","v":"ma"},"ND",{"$f":"IFERROR(HLOOKUP(Y111,[1]DATA!$A$1:$NB$5,5,0),\"\")","v":"D3"},null,null,null,null,0,"","",""]
["6diDD",{"$f":"VLOOKUP($AA114,DATA!$B$3:$E$6,2,0)","v":"06:30:00"},{"$f":"VLOOKUP($AA114,DATA!$B$3:$E$6,3,0)","v":"14:30:00"},{"$f":"VLOOKUP($AA114,DATA!$B$3:$E$6,4,0)","v":3.125E-2},0.30208333333333331,0.25555555555555554,{"$f":"DATA!$C$9","v":0.89},{"$f":"DATA!$C$10","v":64},1,345,407.8125,4.6527777777777779E-2,62.8125,0.15402298850574714,0,"","",341.33333333333331,314,"",314,"",null,{"$f":"X121","v":6},{"$f":"Y111+1","v":"2018-02-06"},{"$f":"TEXT(Y114,\"ddd\")","v":"di"},"DD",{"$f":"IFERROR(HLOOKUP(Y114,[1]DATA!$A$1:$NB$5,3,0),\"\")","v":"D2"},67,null,6,320,18,-59.125,0.72028673835125445,0.94990723562152135]
["6diMD",{"$f":"VLOOKUP($AA115,DATA!$B$3:$E$6,2,0)","v":"14:30:00"},{"$f":"VLOOKUP($AA115,DATA!$B$3:$E$6,3,0)","v":"22:30:00"},{"$f":"VLOOKUP($AA115,DATA!$B$3:$E$6,4,0)","v":3.125E-2},0.30208333333333337,0.25972222222222224,{"$f":"DATA!$C$9","v":0.89},{"$f":"DATA!$C$10","v":64},1,350.625,407.81250000000006,4.2361111111111106E-2,57.187499999999993,0.14022988505747122,0,"","",294.39999999999998,270,270,"","",null,{"$f":"X121","v":6},null,{"$f":"TEXT(Y114,\"ddd\")","v":"di"},"MD",{"$f":"IFERROR(HLOOKUP(Y114,[1]DATA!$A$1:$NB$5,4,0),\"\")","v":"D1"},61,null,6,276,5,-108.74999999999994,0.61935483870967745,0.98329993319973275]
["6diND",{"$f":"VLOOKUP($AA116,DATA!$B$3:$E$6,2,0)","v":"22:30:00"},{"$f":"VLOOKUP($AA116,DATA!$B$3:$E$6,3,0)","v":"06:30:00"},{"$f":"VLOOKUP($AA116,DATA!$B$3:$E$6,4,0)","v":3.125E-2},0.30208333333333326,0.30208333333333326,{"$f":"DATA!$C$9","v":0.89},{"$f":"DATA!$C$10","v":64},1,407.81249999999989,407.81249999999989,0,"","",0,"","",0,"","","","",null,{"$f":"X121","v":6},null,{"$f":"TEXT(Y114,\"ddd\")","v":"di"},"ND",{"$f":"IFERROR(HLOOKUP(Y114,[1]DATA!$A$1:$NB$5,5,0),\"\")","v":"D3"},null,null,null,null,0,"","",""]
["6woDD",{"$f":"VLOOKUP($AA117,DATA!$B$3:$E$6,2,0)","v":"06:30:00"},{"$f":"VLOOKUP($AA117,DATA!$B$3:$E$6,3,0)","v":"14:30:00"},{"$f":"VLOOKUP($AA117,DATA!$B$3:$E$6,4,0)","v":3.125E-2},0.30208333333333331,0.26527777777777778,{"$f":"DATA!$C$9","v":0.89},{"$f":"DATA!$C$10","v":64},1,358.125,407.8125,3.6805555555555557E-2,49.6875,0.12183908045977011,0,"","",410.66666666666669,347,"",347,"",null,{"$f":"X121","v":6},{"$f":"Y114+1","v":"2018-02-07"},{"$f":"TEXT(Y117,\"ddd\")","v":"wo"},"DD",{"$f":"IFERROR(HLOOKUP(Y117,[1]DATA!$A$1:$NB$5,3,0),\"\")","v":"D2"},53,null,38,385,15,-39.250000000000057,0.79598566308243723,0.9647611589663273]
["6woMD",{"$f":"VLOOKUP($AA118,DATA!$B$3:$E$6,2,0)","v":"14:30:00"},{"$f":"VLOOKUP($AA118,DATA!$B$3:$E$6,3,0)","v":"22:30:00"},{"$f":"VLOOKUP($AA118,DATA!$B$3:$E$6,4,0)","v":3.125E-2},0.30208333333333337,0.23750000000000004,{"$f":"DATA!$C$9","v":0.89},{"$f":"DATA!$C$10","v":64},1,320.62500000000006,407.81250000000006,6.458333333333334E-2,87.187500000000014,0.21379310344827587,0,"","",325.33333333333331,294,294,"","",null,{"$f":"X121","v":6},null,{"$f":"TEXT(Y117,\"ddd\")","v":"wo"},"MD",{"$f":"IFERROR(HLOOKUP(Y117,[1]DATA!$A$1:$NB$5,4,0),\"\")","v":"D1"},93,null,11,305,17,-54.749999999999943,0.67440860215053777,0.95034079844206432]
["6woND",{"$f":"VLOOKUP($AA119,DATA!$B$3:$E$6,2,0)","v":"22:30:00"},{"$f":"VLOOKUP($AA119,DATA!$B$3:$E$6,3,0)","v":"06:30:00"},{"$f":"VLOOKUP($AA119,DATA!$B$3:$E$6,4,0)","v":3.125E-2},0.30208333333333326,0.30208333333333326,{"$f":"DATA!$C$9","v":0.89},{"$f":"DATA!$C$10","v":64},1,407.81249999999989,407.81249999999989,0,"","",0,"","",0,"","","","",null,{"$f":"X121","v":6},null,{"$f":"TEXT(Y117,\"ddd\")","v":"wo"},"ND",{"$f":"IFERROR(HLOOKUP(Y117,[1]DATA!$A$1:$NB$5,5,0),\"\")","v":"D3"},null,null,null,null,0,"","",""]
["6doDD",{"$f":"VLOOKUP($AA120,DATA!$B$3:$E$6,2,0)","v":"06:30:00"},{"$f":"VLOOKUP($AA120,DATA!$B$3:$E$6,3,0)","v":"14:30:00"},{"$f":"VLOOKUP($AA120,DATA!$B$3:$E$6,4,0)","v":3.125E-2},0.30208333333333331,0.25763888888888886,{"$f":"DATA!$C$9","v":0.89},{"$f":"DATA!$C$10","v":64},1,347.81249999999994,407.8125,4.4444444444444446E-2,60,0.14712643678160919,0,"","",374.4,328,"",328,"",null,{"$f":"X121","v":6},{"$f":"Y117+1","v":"2018-02-08"},{"$f":"TEXT(Y120,\"ddd\")","v":"do"},"DD",{"$f":"IFERROR(HLOOKUP(Y120,[1]DATA!$A$1:$NB$5,3,0),\"\")","v":"D2"},64,null,23,351,11,-47.9375,0.75240143369175627,0.97145822522055003]
["6doMD",{"$f":"VLOOKUP($AA121,DATA!$B$3:$E$6,2,0)","v":"14:30:00"},{"$f":"VLOOKUP($AA121,DATA!$B$3:$E$6,3,0)","v":"22:30:00"},{"$f":"VLOOKUP($AA121,DATA!$B$3:$E$6,4,0)","v":3.125E-2},0.30208333333333337,0.25277777777777782,{"$f":"DATA!$C$9","v":0.89},{"$f":"DATA!$C$10","v":64},1,341.25000000000006,407.81250000000006,4.9305555555555554E-2,66.5625,0.16321839080459769,0,"","",377.6,339,339,"","",null,{"$f":"WEEKNUM($Y111)","v":6},null,{"$f":"TEXT(Y120,\"ddd\")","v":"do"},"MD",{"$f":"IFERROR(HLOOKUP(Y120,[1]DATA!$A$1:$NB$5,4,0),\"\")","v":"D1"},71,null,15,354,14,-30.374999999999943,0.77763440860215061,0.96424923391215522]
["6doND",{"$f":"VLOOKUP($AA122,DATA!$B$3:$E$6,2,0)","v":"22:30:00"},{"$f":"VLOOKUP($AA122,DATA!$B$3:$E$6,3,0)","v":"06:30:00"},{"$f":"VLOOKUP($AA122,DATA!$B$3:$E$6,4,0)","v":3.125E-2},0.30208333333333326,0.30208333333333326,{"$f":"DATA!$C$9","v":0.89},{"$f":"DATA!$C$10","v":64},1,407.81249999999989,407.81249999999989,0,"","",0,"","",0,"","","","",null,{"$f":"X121","v":6},null,{"$f":"TEXT(Y120,\"ddd\")","v":"do"},"ND",{"$f":"IFERROR(HLOOKUP(Y120,[1]DATA!$A$1:$NB$5,5,0),\"\")","v":"D3"},null,null,null,null,0,"","",""]
["6vrDD",{"$f":"VLOOKUP($AA123,DATA!$B$3:$E$6,2,0)","v":"06:30:00"},{"$f":"VLOOKUP($AA123,DATA!$B$3:$E$6,3,0)","v":"14:30:00"},{"$f":"VLOOKUP($AA123,DATA!$B$3:$E$6,4,0)","v":3.125E-2},0.30208333333333331,0.30069444444444443,{"$f":"DATA!$C$9","v":0.89},{"$f":"DATA!$C$10","v":64},1,405.9375,407.8125,1.3888888888888889E-3,1.875,4.5977011494252873E-3,0,"","",427.73333333333335,374,{"$f":"IF(IF(#REF!=\"D1\",$S123,\"\")=0,\"\",IF(#REF!=\"D1\",$S123,\"\"))","v":{"$error":"#REF!"}},{"$f":"IF(IF(#REF!=\"D2\",$S123,\"\")=0,\"\",IF(#REF!=\"D2\",$S123,\"\"))","v":{"$error":"#REF!"}},{"$f":"IF(IF(#REF!=\"D3\",$S123,\"\")=0,\"\",IF(#REF!=\"D3\",$S123,\"\"))","v":{"$error":"#REF!"}},null,{"$f":"X121","v":6},{"$f":"Y120+1","v":"2018-02-09"},{"$f":"TEXT(Y123,\"ddd\")","v":"vr"},"DD",{"$f":"IFERROR(HLOOKUP(Y123,[1]DATA!$A$1:$NB$5,3,0),\"\")","v":"D2"},2,null,27,401,20,-60.062500000000057,0.85792114695340504,0.95533055390113164]
["6vrMD",{"$f":"VLOOKUP($AA124,DATA!$B$3:$E$6,2,0)","v":"14:30:00"},{"$f":"VLOOKUP($AA124,DATA!$B$3:$E$6,3,0)","v":"22:30:00"},{"$f":"VLOOKUP($AA124,DATA!$B$3:$E$6,4,0)","v":3.125E-2},0.30208333333333337,0.25138888888888894,{"$f":"DATA!$C$9","v":0.89},{"$f":"DATA!$C$10","v":64},1,339.37500000000006,407.81250000000006,5.0694444444444452E-2,68.437500000000014,0.167816091954023,0,"","",372.26666666666665,334,334,"","",null,{"$f":"X121","v":6},null,{"$f":"TEXT(Y123,\"ddd\")","v":"vr"},"MD",{"$f":"IFERROR(HLOOKUP(Y123,[1]DATA!$A$1:$NB$5,4,0),\"\")","v":"D1"},73,null,15,349,4,-33.499999999999943,0.76616487455197146,0.98936924167257267]
["6vrND",{"$f":"VLOOKUP($AA125,DATA!$B$3:$E$6,2,0)","v":"22:30:00"},{"$f":"VLOOKUP($AA125,DATA!$B$3:$E$6,3,0)","v":"06:30:00"},{"$f":"VLOOKUP($AA125,DATA!$B$3:$E$6,4,0)","v":3.125E-2},0.30208333333333326,0.30208333333333326,{"$f":"DATA!$C$9","v":0.89},{"$f":"DATA!$C$10","v":64},1,407.81249999999989,407.81249999999989,0,"","",0,"","",0,"","","","",null,{"$f":"X121","v":6},null,{"$f":"TEXT(Y123,\"ddd\")","v":"vr"},"ND",{"$f":"IFERROR(HLOOKUP(Y123,[1]DATA!$A$1:$NB$5,5,0),\"\")","v":"-"},null,null,null,null,0,"","",""]
["6zaDD",{"$f":"VLOOKUP($AA126,DATA!$B$3:$E$6,2,0)","v":"06:30:00"},{"$f":"VLOOKUP($AA126,DATA!$B$3:$E$6,3,0)","v":"14:30:00"},{"$f":"VLOOKUP($AA126,DATA!$B$3:$E$6,4,0)","v":3.125E-2},0.30208333333333331,0.30208333333333331,{"$f":"DATA!$C$9","v":0.89},{"$f":"DATA!$C$10","v":64},1,407.8125,407.8125,0,"","",0,"","",0,"","","","",null,{"$f":"X121","v":6},{"$f":"Y123+1","v":"2018-02-10"},{"$f":"TEXT(Y126,\"ddd\")","v":"za"},"DD",{"$f":"IFERROR(HLOOKUP(Y126,[1]DATA!$A$1:$NB$5,3,0),\"\")","v":"-"},null,null,null,null,0,"","",""]
["6zaMD",{"$f":"VLOOKUP($AA127,DATA!$B$3:$E$6,2,0)","v":"14:30:00"},{"$f":"VLOOKUP($AA127,DATA!$B$3:$E$6,3,0)","v":"22:30:00"},{"$f":"VLOOKUP($AA127,DATA!$B$3:$E$6,4,0)","v":3.125E-2},0.30208333333333337,0.30208333333333337,{"$f":"DATA!$C$9","v":0.89},{"$f":"DATA!$C$10","v":64},1,407.81250000000006,407.81250000000006,0,"","",0,"","",0,"","","","",null,{"$f":"X121","v":6},null,{"$f":"TEXT(Y126,\"ddd\")","v":"za"},"MD",{"$f":"IFERROR(HLOOKUP(Y126,[1]DATA!$A$1:$NB$5,4,0),\"\")","v":"-"},null,null,null,null,0,"","",""]
["6zaND",{"$f":"VLOOKUP($AA128,DATA!$B$3:$E$6,2,0)","v":"22:30:00"},{"$f":"VLOOKUP($AA128,DATA!$B$3:$E$6,3,0)","v":"06:30:00"},{"$f":"VLOOKUP($AA128,DATA!$B$3:$E$6,4,0)","v":3.125E-2},0.30208333333333326,0.30208333333333326,{"$f":"DATA!$C$9","v":0.89},{"$f":"DATA!$C$10","v":64},1,407.81249999999989,407.81249999999989,0,"","",0,"","",0,"","","","",null,{"$f":"X121","v":6},null,{"$f":"TEXT(Y126,\"ddd\")","v":"za"},"ND",{"$f":"IFERROR(HLOOKUP(Y126,[1]DATA!$A$1:$NB$5,5,0),\"\")","v":"-"},null,null,null,null,0,"","",""]
["6zoDD",{"$f":"VLOOKUP($AA129,DATA!$B$3:$E$6,2,0)","v":"06:30:00"},{"$f":"VLOOKUP($AA129,DATA!$B$3:$E$6,3,0)","v":"14:30:00"},{"$f":"VLOOKUP($AA129,DATA!$B$3:$E$6,4,0)","v":3.125E-2},0.30208333333333331,0.30208333333333331,{"$f":"DATA!$C$9","v":0.89},{"$f":"DATA!$C$10","v":64},1,407.8125,407.8125,0,"","",0,"","",0,"","","","",null,{"$f":"X121","v":6},{"$f":"Y126+1","v":"2018-02-11"},{"$f":"TEXT(Y129,\"ddd\")","v":"zo"},"DD",{"$f":"IFERROR(HLOOKUP(Y129,[1]DATA!$A$1:$NB$5,3,0),\"\")","v":"-"},null,null,null,null,0,"","",""]
["6zoMD",{"$f":"VLOOKUP($AA130,DATA!$B$3:$E$6,2,0)","v":"14:30:00"},{"$f":"VLOOKUP($AA130,DATA!$B$3:$E$6,3,0)","v":"22:30:00"},{"$f":"VLOOKUP($AA130,DATA!$B$3:$E$6,4,0)","v":3.125E-2},0.30208333333333337,0.30208333333333337,{"$f":"DATA!$C$9","v":0.89},{"$f":"DATA!$C$10","v":64},1,407.81250000000006,407.81250000000006,0,"","",0,"","",0,"","","","",null,{"$f":"X121","v":6},null,{"$f":"TEXT(Y129,\"ddd\")","v":"zo"},"MD",{"$f":"IFERROR(HLOOKUP(Y129,[1]DATA!$A$1:$NB$5,4,0),\"\")","v":"-"},null,null,null,null,0,"","",""]
["6zoZND",{"$f":"VLOOKUP($AA131,DATA!$B$3:$E$6,2,0)","v":"00:00:00"},{"$f":"VLOOKUP($AA131,DATA!$B$3:$E$6,3,0)","v":"00:00:00"},{"$f":"VLOOKUP($AA131,DATA!$B$3:$E$6,4,0)","v":0},0,0,{"$f":"DATA!$C$9","v":0.89},{"$f":"DATA!$C$10","v":64},1,0,0,0,"","",0,"","",0,"","","","",null,{"$f":"X121","v":6},null,{"$f":"TEXT(Y129,\"ddd\")","v":"zo"},"ZND",{"$f":"IFERROR(HLOOKUP(Y129,[1]DATA!$A$1:$NB$5,5,0),\"\")","v":"D2"},null,null,null,null,0,"","",""]
["7maDD",{"$f":"VLOOKUP($AA132,DATA!$B$3:$E$6,2,0)","v":"06:30:00"},{"$f":"VLOOKUP($AA132,DATA!$B$3:$E$6,3,0)","v":"14:30:00"},{"$f":"VLOOKUP($AA132,DATA!$B$3:$E$6,4,0)","v":3.125E-2},0.30208333333333331,0.30208333333333331,{"$f":"DATA!$C$9","v":0.89},{"$f":"DATA!$C$10","v":64},1,407.8125,407.8125,0,"","",{"$f":"TIME(INT($AD132/60),INT(MOD($AD132,60)/1),0)","v":0},"","",0,"","","","",null,{"$f":"X142","v":7},{"$f":"Y129+1","v":"2018-02-12"},{"$f":"TEXT(Y132,\"ddd\")","v":"ma"},"DD",{"$f":"IFERROR(HLOOKUP(Y132,[1]DATA!$A$1:$NB$5,3,0),\"\")","v":"D1"},null,null,null,null,0,"","","",3487.5,2437,0.69878136200716845,421.875,0.12096774193548387,32.8125,9.4086021505376347E-3,0.93378697752586037,0.94897927369642043,"",0.91859468135530042,595.8125,0.17084229390681005,635.5333333333333,223]
["7maMD",{"$f":"VLOOKUP($AA133,DATA!$B$3:$E$6,2,0)","v":"14:30:00"},{"$f":"VLOOKUP($AA133,DATA!$B$3:$E$6,3,0)","v":"22:30:00"},{"$f":"VLOOKUP($AA133,DATA!$B$3:$E$6,4,0)","v":3.125E-2},0.30208333333333337,0.30208333333333337,{"$f":"DATA!$C$9","v":0.89},{"$f":"DATA!$C$10","v":64},1,407.81250000000006,407.81250000000006,0,"","",{"$f":"TIME(INT(AD133/60),INT(MOD(AD133,60)/1),0)","v":0},"","",0,"","","","",null,{"$f":"X142","v":7},null,{"$f":"TEXT(Y132,\"ddd\")","v":"ma"},"MD",{"$f":"IFERROR(HLOOKUP(Y132,[1]DATA!$A$1:$NB$5,4,0),\"\")","v":"D3"},null,null,null,null,0,"","",""]
["7maND",{"$f":"VLOOKUP($AA134,DATA!$B$3:$E$6,2,0)","v":"22:30:00"},{"$f":"VLOOKUP($AA134,DATA!$B$3:$E$6,3,0)","v":"06:30:00"},{"$f":"VLOOKUP($AA134,DATA!$B$3:$E$6,4,0)","v":3.125E-2},0.30208333333333326,0.30208333333333326,{"$f":"DATA!$C$9","v":0.89},{"$f":"DATA!$C$10","v":64},1,{"$f":"F134*86400/H134*I134","v":407.81249999999989},{"$f":"E134*86400/H134","v":407.81249999999989},0,"","",0,"","",{"$f":"AF134*AG$2","v":0},{"$f":"IF(AF134-AE134=0,\"\",AF134-AE134)","v":""},"","","",null,{"$f":"X142","v":7},null,{"$f":"TEXT(Y132,\"ddd\")","v":"ma"},"ND",{"$f":"IFERROR(HLOOKUP(Y132,[1]DATA!$A$1:$NB$5,5,0),\"\")","v":"D2"},null,null,null,null,0,"","",""]
["7diDD",{"$f":"VLOOKUP($AA135,DATA!$B$3:$E$6,2,0)","v":"06:30:00"},{"$f":"VLOOKUP($AA135,DATA!$B$3:$E$6,3,0)","v":"14:30:00"},{"$f":"VLOOKUP($AA135,DATA!$B$3:$E$6,4,0)","v":3.125E-2},0.30208333333333331,0.27430555555555552,{"$f":"DATA!$C$9","v":0.89},{"$f":"DATA!$C$10","v":64},1,370.31249999999994,407.8125,{"$f":"TIME(INT($AC135/60),INT(MOD($AC135,60)/1),0)","v":2.7777777777777776E-2},{"$f":"IF($L135*86400/$H135=0,\"\",$L135*86400/$H135)","v":37.5},{"$f":"IFERROR($M135/$K135,\"\")","v":9.1954022988505746E-2},0,"",{"$f":"IFERROR($P135/$K135,\"\")","v":""},340.26666666666665,308,{"$f":"IF(IF($AB135=\"D1\",$S135,\"\")=0,\"\",IF($AB135=\"D1\",$S135,\"\"))","v":308},{"$f":"IF(IF($AB135=\"D2\",$S135,\"\")=0,\"\",IF($AB135=\"D2\",$S135,\"\"))","v":""},{"$f":"IF(IF($AB135=\"D3\",$S135,\"\")=0,\"\",IF($AB135=\"D3\",$S135,\"\"))","v":""},null,{"$f":"X142","v":7},{"$f":"Y132+1","v":"2018-02-13"},{"$f":"TEXT(Y135,\"ddd\")","v":"di"},"DD",{"$f":"IFERROR(HLOOKUP(Y135,[1]DATA!$A$1:$NB$5,3,0),\"\")","v":"D1"},40,null,11,319,57,-90.4375,0.70652329749103948,0.85651955026011073]
["7diMD",{"$f":"VLOOKUP($AA136,DATA!$B$3:$E$6,2,0)","v":"14:30:00"},{"$f":"VLOOKUP($AA136,DATA!$B$3:$E$6,3,0)","v":"22:30:00"},{"$f":"VLOOKUP($AA136,DATA!$B$3:$E$6,4,0)","v":3.125E-2},0.30208333333333337,0.27916666666666667,{"$f":"DATA!$C$9","v":0.89},{"$f":"DATA!$C$10","v":64},1,376.875,407.81250000000006,2.2916666666666669E-2,30.937500000000004,7.586206896551724E-2,0,"","",347.73333333333335,311,"","",311,null,{"$f":"X142","v":7},null,{"$f":"TEXT(Y135,\"ddd\")","v":"di"},"MD",{"$f":"IFERROR(HLOOKUP(Y135,[1]DATA!$A$1:$NB$5,4,0),\"\")","v":"D3"},33,null,15,326,7,-93.999999999999886,0.71340501792114708,0.98026686713023869]
["7diND",{"$f":"VLOOKUP($AA137,DATA!$B$3:$E$6,2,0)","v":"22:30:00"},{"$f":"VLOOKUP($AA137,DATA!$B$3:$E$6,3,0)","v":"06:30:00"},{"$f":"VLOOKUP($AA137,DATA!$B$3:$E$6,4,0)","v":3.125E-2},0.30208333333333326,0.30208333333333326,{"$f":"DATA!$C$9","v":0.89},{"$f":"DATA!$C$10","v":64},1,407.81249999999989,407.81249999999989,0,"","",0,"","",0,"","","","",null,{"$f":"X142","v":7},null,{"$f":"TEXT(Y135,\"ddd\")","v":"di"},"ND",{"$f":"IFERROR(HLOOKUP(Y135,[1]DATA!$A$1:$NB$5,5,0),\"\")","v":"D2"},null,null,null,null,0,"","",""]
["7woDD",{"$f":"VLOOKUP($AA138,DATA!$B$3:$E$6,2,0)","v":"06:30:00"},{"$f":"VLOOKUP($AA138,DATA!$B$3:$E$6,3,0)","v":"14:30:00"},{"$f":"VLOOKUP($AA138,DATA!$B$3:$E$6,4,0)","v":3.125E-2},0.30208333333333331,0.28194444444444444,{"$f":"DATA!$C$9","v":0.89},{"$f":"DATA!$C$10","v":64},1,380.625,407.8125,2.013888888888889E-2,27.1875,6.6666666666666666E-2,0,"","",372.26666666666665,338,338,"","",null,{"$f":"X142","v":7},{"$f":"Y135+1","v":"2018-02-14"},{"$f":"TEXT(Y138,\"ddd\")","v":"wo"},"DD",{"$f":"IFERROR(HLOOKUP(Y138,[1]DATA!$A$1:$NB$5,3,0),\"\")","v":"D1"},29,null,11,349,10,-70.750000000000057,0.77534050179211467,0.97384025113358907]
["7woMD",{"$f":"VLOOKUP($AA139,DATA!$B$3:$E$6,2,0)","v":"14:30:00"},{"$f":"VLOOKUP($AA139,DATA!$B$3:$E$6,3,0)","v":"22:30:00"},{"$f":"VLOOKUP($AA139,DATA!$B$3:$E$6,4,0)","v":3.125E-2},0.30208333333333337,0.22708333333333336,{"$f":"DATA!$C$9","v":0.89},{"$f":"DATA!$C$10","v":64},1,306.56250000000006,407.81250000000006,7.4999999999999997E-2,101.25,0.24827586206896549,0,"","",334.93333333333334,292,"","",292,null,{"$f":"X142","v":7},null,{"$f":"TEXT(Y138,\"ddd\")","v":"wo"},"MD",{"$f":"IFERROR(HLOOKUP(Y138,[1]DATA!$A$1:$NB$5,4,0),\"\")","v":"D3"},108,null,22,314,9,-42.687499999999943,0.669820788530466,0.97383213801124247]
["7woND",{"$f":"VLOOKUP($AA140,DATA!$B$3:$E$6,2,0)","v":"22:30:00"},{"$f":"VLOOKUP($AA140,DATA!$B$3:$E$6,3,0)","v":"06:30:00"},{"$f":"VLOOKUP($AA140,DATA!$B$3:$E$6,4,0)","v":3.125E-2},0.30208333333333326,0.30208333333333326,{"$f":"DATA!$C$9","v":0.89},{"$f":"DATA!$C$10","v":64},1,407.81249999999989,407.81249999999989,0,"","",0,"","",0,"","","","",null,{"$f":"X142","v":7},null,{"$f":"TEXT(Y138,\"ddd\")","v":"wo"},"ND",{"$f":"IFERROR(HLOOKUP(Y138,[1]DATA!$A$1:$NB$5,5,0),\"\")","v":"D2"},null,null,null,null,0,"","",""]
["7doDD",{"$f":"VLOOKUP($AA141,DATA!$B$3:$E$6,2,0)","v":"06:30:00"},{"$f":"VLOOKUP($AA141,DATA!$B$3:$E$6,3,0)","v":"14:30:00"},{"$f":"VLOOKUP($AA141,DATA!$B$3:$E$6,4,0)","v":3.125E-2},0.30208333333333331,0.25138888888888888,{"$f":"DATA!$C$9","v":0.89},{"$f":"DATA!$C$10","v":64},1,339.375,407.8125,5.0694444444444452E-2,68.437500000000014,0.16781609195402303,0,"","",357.33333333333331,325,325,"","",null,{"$f":"X142","v":7},{"$f":"Y138+1","v":"2018-02-15"},{"$f":"TEXT(Y141,\"ddd\")","v":"do"},"DD",{"$f":"IFERROR(HLOOKUP(Y141,[1]DATA!$A$1:$NB$5,3,0),\"\")","v":"D1"},73,null,10,335,9,-42.500000000000057,0.74551971326164879,0.97543221110100087]
["7doMD",{"$f":"VLOOKUP($AA142,DATA!$B$3:$E$6,2,0)","v":"14:30:00"},{"$f":"VLOOKUP($AA142,DATA!$B$3:$E$6,3,0)","v":"22:30:00"},{"$f":"VLOOKUP($AA142,DATA!$B$3:$E$6,4,0)","v":3.125E-2},0.30208333333333337,0.23541666666666672,{"$f":"DATA!$C$9","v":0.89},{"$f":"DATA!$C$10","v":64},1,317.81250000000006,407.81250000000006,6.6666666666666666E-2,90,0.22068965517241376,0,"","",349.86666666666667,309,"","",309,null,{"$f":"WEEKNUM($Y132)","v":7},null,{"$f":"TEXT(Y141,\"ddd\")","v":"do"},"MD",{"$f":"IFERROR(HLOOKUP(Y141,[1]DATA!$A$1:$NB$5,4,0),\"\")","v":"D3"},96,null,19,328,0,-36.937499999999943,0.70881720430107531,1]
["7doND",{"$f":"VLOOKUP($AA143,DATA!$B$3:$E$6,2,0)","v":"22:30:00"},{"$f":"VLOOKUP($AA143,DATA!$B$3:$E$6,3,0)","v":"06:30:00"},{"$f":"VLOOKUP($AA143,DATA!$B$3:$E$6,4,0)","v":3.125E-2},0.30208333333333326,0.30208333333333326,{"$f":"DATA!$C$9","v":0.89},{"$f":"DATA!$C$10","v":64},1,407.81249999999989,407.81249999999989,0,"","",0,"","",0,"","","","",null,{"$f":"X142","v":7},null,{"$f":"TEXT(Y141,\"ddd\")","v":"do"},"ND",{"$f":"IFERROR(HLOOKUP(Y141,[1]DATA!$A$1:$NB$5,5,0),\"\")","v":"D2"},null,null,null,null,0,"","",""]
["7vrDD",{"$f":"VLOOKUP($AA144,DATA!$B$3:$E$6,2,0)","v":"06:30:00"},{"$f":"VLOOKUP($AA144,DATA!$B$3:$E$6,3,0)","v":"14:30:00"},{"$f":"VLOOKUP($AA144,DATA!$B$3:$E$6,4,0)","v":3.125E-2},0.30208333333333331,0.22847222222222219,{"$f":"DATA!$C$9","v":0.89},{"$f":"DATA!$C$10","v":64},1,308.43749999999994,407.8125,4.9305555555555554E-2,66.5625,0.16321839080459771,2.4305555555555556E-2,32.8125,8.0459770114942528E-2,300.8,268,268,"","",null,{"$f":"X142","v":7},{"$f":"Y141+1","v":"2018-02-16"},{"$f":"TEXT(Y144,\"ddd\")","v":"vr"},"DD",{"$f":"IFERROR(HLOOKUP(Y144,[1]DATA!$A$1:$NB$5,3,0),\"\")","v":"D1"},71,35,14,282,3,-68.5625,0.61476702508960579,0.99012508229098095]
["7vrMD",{"$f":"VLOOKUP($AA145,DATA!$B$3:$E$6,2,0)","v":"14:30:00"},{"$f":"VLOOKUP($AA145,DATA!$B$3:$E$6,3,0)","v":"22:30:00"},{"$f":"VLOOKUP($AA145,DATA!$B$3:$E$6,4,0)","v":3.125E-2},0.30208333333333337,0.30208333333333337,{"$f":"DATA!$C$9","v":0.89},{"$f":"DATA!$C$10","v":64},1,407.81250000000006,407.81250000000006,0,"","",0,"","",329.6,286,"","",286,null,{"$f":"X142","v":7},null,{"$f":"TEXT(Y144,\"ddd\")","v":"vr"},"MD",{"$f":"IFERROR(HLOOKUP(Y144,[1]DATA!$A$1:$NB$5,4,0),\"\")","v":"D3"},0,null,23,309,128,-149.93749999999994,0.65605734767025103,0.72027972027972031]
["7vrND",{"$f":"VLOOKUP($AA146,DATA!$B$3:$E$6,2,0)","v":"22:30:00"},{"$f":"VLOOKUP($AA146,DATA!$B$3:$E$6,3,0)","v":"06:30:00"},{"$f":"VLOOKUP($AA146,DATA!$B$3:$E$6,4,0)","v":3.125E-2},0.30208333333333326,0.30208333333333326,{"$f":"DATA!$C$9","v":0.89},{"$f":"DATA!$C$10","v":64},1,407.81249999999989,407.81249999999989,0,"","",0,"","",0,"","","","",null,{"$f":"X142","v":7},null,{"$f":"TEXT(Y144,\"ddd\")","v":"vr"},"ND",{"$f":"IFERROR(HLOOKUP(Y144,[1]DATA!$A$1:$NB$5,5,0),\"\")","v":"-"},null,null,null,null,0,"","",""]
["7zaDD",{"$f":"VLOOKUP($AA147,DATA!$B$3:$E$6,2,0)","v":"06:30:00"},{"$f":"VLOOKUP($AA147,DATA!$B$3:$E$6,3,0)","v":"14:30:00"},{"$f":"VLOOKUP($AA147,DATA!$B$3:$E$6,4,0)","v":3.125E-2},0.30208333333333331,0.30208333333333331,{"$f":"DATA!$C$9","v":0.89},{"$f":"DATA!$C$10","v":64},1,407.8125,407.8125,0,"","",0,"","",0,"","","","",null,{"$f":"X142","v":7},{"$f":"Y144+1","v":"2018-02-17"},{"$f":"TEXT(Y147,\"ddd\")","v":"za"},"DD",{"$f":"IFERROR(HLOOKUP(Y147,[1]DATA!$A$1:$NB$5,3,0),\"\")","v":"-"},null,null,null,null,0,"","",""]
["7zaMD",{"$f":"VLOOKUP($AA148,DATA!$B$3:$E$6,2,0)","v":"14:30:00"},{"$f":"VLOOKUP($AA148,DATA!$B$3:$E$6,3,0)","v":"22:30:00"},{"$f":"VLOOKUP($AA148,DATA!$B$3:$E$6,4,0)","v":3.125E-2},0.30208333333333337,0.30208333333333337,{"$f":"DATA!$C$9","v":0.89},{"$f":"DATA!$C$10","v":64},1,407.81250000000006,407.81250000000006,0,"","",0,"","",0,"","","","",null,{"$f":"X142","v":7},null,{"$f":"TEXT(Y147,\"ddd\")","v":"za"},"MD",{"$f":"IFERROR(HLOOKUP(Y147,[1]DATA!$A$1:$NB$5,4,0),\"\")","v":"-"},null,null,null,null,0,"","",""]
["7zaND",{"$f":"VLOOKUP($AA149,DATA!$B$3:$E$6,2,0)","v":"22:30:00"},{"$f":"VLOOKUP($AA149,DATA!$B$3:$E$6,3,0)","v":"06:30:00"},{"$f":"VLOOKUP($AA149,DATA!$B$3:$E$6,4,0)","v":3.125E-2},0.30208333333333326,0.30208333333333326,{"$f":"DATA!$C$9","v":0.89},{"$f":"DATA!$C$10","v":64},1,407.81249999999989,407.81249999999989,0,"","",0,"","",0,"","","","",null,{"$f":"X142","v":7},null,{"$f":"TEXT(Y147,\"ddd\")","v":"za"},"ND",{"$f":"IFERROR(HLOOKUP(Y147,[1]DATA!$A$1:$NB$5,5,0),\"\")","v":"-"},null,null,null,null,0,"","",""]
["7zoDD",{"$f":"VLOOKUP($AA150,DATA!$B$3:$E$6,2,0)","v":"06:30:00"},{"$f":"VLOOKUP($AA150,DATA!$B$3:$E$6,3,0)","v":"14:30:00"},{"$f":"VLOOKUP($AA150,DATA!$B$3:$E$6,4,0)","v":3.125E-2},0.30208333333333331,0.30208333333333331,{"$f":"DATA!$C$9","v":0.89},{"$f":"DATA!$C$10","v":64},1,407.8125,407.8125,0,"","",0,"","",0,"","","","",null,{"$f":"X142","v":7},{"$f":"Y147+1","v":"2018-02-18"},{"$f":"TEXT(Y150,\"ddd\")","v":"zo"},"DD",{"$f":"IFERROR(HLOOKUP(Y150,[1]DATA!$A$1:$NB$5,3,0),\"\")","v":"-"},null,null,null,null,0,"","",""]
["7zoMD",{"$f":"VLOOKUP($AA151,DATA!$B$3:$E$6,2,0)","v":"14:30:00"},{"$f":"VLOOKUP($AA151,DATA!$B$3:$E$6,3,0)","v":"22:30:00"},{"$f":"VLOOKUP($AA151,DATA!$B$3:$E$6,4,0)","v":3.125E-2},0.30208333333333337,0.30208333333333337,{"$f":"DATA!$C$9","v":0.89},{"$f":"DATA!$C$10","v":64},1,407.81250000000006,407.81250000000006,0,"","",0,"","",0,"","","","",null,{"$f":"X142","v":7},null,{"$f":"TEXT(Y150,\"ddd\")","v":"zo"},"MD",{"$f":"IFERROR(HLOOKUP(Y150,[1]DATA!$A$1:$NB$5,4,0),\"\")","v":"-"},null,null,null,null,0,"","",""]
["7zoZND",{"$f":"VLOOKUP($AA152,DATA!$B$3:$E$6,2,0)","v":"00:00:00"},{"$f":"VLOOKUP($AA152,DATA!$B$3:$E$6,3,0)","v":"00:00:00"},{"$f":"VLOOKUP($AA152,DATA!$B$3:$E$6,4,0)","v":0},0,0,{"$f":"DATA!$C$9","v":0.89},{"$f":"DATA!$C$10","v":64},1,0,0,0,"","",0,"","",0,"","","","",null,{"$f":"X142","v":7},null,{"$f":"TEXT(Y150,\"ddd\")","v":"zo"},"ZND",{"$f":"IFERROR(HLOOKUP(Y150,[1]DATA!$A$1:$NB$5,5,0),\"\")","v":"D1"},null,null,null,null,0,"","",""]
["8maDD",{"$f":"VLOOKUP($AA153,DATA!$B$3:$E$6,2,0)","v":"06:30:00"},{"$f":"VLOOKUP($AA153,DATA!$B$3:$E$6,3,0)","v":"14:30:00"},{"$f":"VLOOKUP($AA153,DATA!$B$3:$E$6,4,0)","v":3.125E-2},0.30208333333333331,0.25972222222222219,{"$f":"DATA!$C$9","v":0.89},{"$f":"DATA!$C$10","v":64},1,350.62499999999994,407.8125,4.2361111111111106E-2,57.187499999999993,0.14022988505747125,{"$f":"TIME(INT($AD153/60),INT(MOD($AD153,60)/1),0)","v":0},"","",374.4,335,"","",335,null,{"$f":"X163","v":8},{"$f":"Y150+1","v":"2018-02-19"},{"$f":"TEXT(Y153,\"ddd\")","v":"ma"},"DD",{"$f":"IFERROR(HLOOKUP(Y153,[1]DATA!$A$1:$NB$5,3,0),\"\")","v":"D3"},61,null,16,351,13,-43.75,0.76845878136200718,0.96644295302013428,3923.4375,2882,0.73455993628036642,345.9375,8.8172043010752682E-2,0,0,0.91700889212126568,"",0.88400866717910298,0.95825917329896881,695.5,0.1772680207088809,741.86666666666667,324]
["8maMD",{"$f":"VLOOKUP($AA154,DATA!$B$3:$E$6,2,0)","v":"14:30:00"},{"$f":"VLOOKUP($AA154,DATA!$B$3:$E$6,3,0)","v":"22:30:00"},{"$f":"VLOOKUP($AA154,DATA!$B$3:$E$6,4,0)","v":3.125E-2},0.30208333333333337,0.27847222222222223,{"$f":"DATA!$C$9","v":0.89},{"$f":"DATA!$C$10","v":64},1,375.9375,407.81250000000006,2.361111111111111E-2,31.875,7.816091954022987E-2,{"$f":"TIME(INT(AD154/60),INT(MOD(AD154,60)/1),0)","v":0},"","",398.93333333333334,351,"",351,"",null,{"$f":"X163","v":8},null,{"$f":"TEXT(Y153,\"ddd\")","v":"ma"},"MD",{"$f":"IFERROR(HLOOKUP(Y153,[1]DATA!$A$1:$NB$5,4,0),\"\")","v":"D2"},34,null,23,374,19,-53.062499999999886,0.80516129032258077,0.95453820386026478]
["8maND",{"$f":"VLOOKUP($AA155,DATA!$B$3:$E$6,2,0)","v":"22:30:00"},{"$f":"VLOOKUP($AA155,DATA!$B$3:$E$6,3,0)","v":"06:30:00"},{"$f":"VLOOKUP($AA155,DATA!$B$3:$E$6,4,0)","v":3.125E-2},0.30208333333333326,0.30208333333333326,{"$f":"DATA!$C$9","v":0.89},{"$f":"DATA!$C$10","v":64},1,407.81249999999989,407.81249999999989,0,"","",0,"","",0,"","","","",null,{"$f":"X163","v":8},null,{"$f":"TEXT(Y153,\"ddd\")","v":"ma"},"ND",{"$f":"IFERROR(HLOOKUP(Y153,[1]DATA!$A$1:$NB$5,5,0),\"\")","v":"D1"},null,null,null,null,0,"","",""]
["8diDD",{"$f":"VLOOKUP($AA156,DATA!$B$3:$E$6,2,0)","v":"06:30:00"},{"$f":"VLOOKUP($AA156,DATA!$B$3:$E$6,3,0)","v":"14:30:00"},{"$f":"VLOOKUP($AA156,DATA!$B$3:$E$6,4,0)","v":3.125E-2},{"$f":"(C156-B156+(B156>C156))-D156","v":0.30208333333333331},{"$f":"E156-O156-L156","v":0.27986111111111112},{"$f":"DATA!$C$9","v":0.89},{"$f":"DATA!$C$10","v":64},1,377.8125,407.8125,2.2222222222222223E-2,30,7.3563218390804597E-2,0,"","",286.93333333333334,265,"","",265,null,{"$f":"X163","v":8},{"$f":"Y153+1","v":"2018-02-20"},{"$f":"TEXT(Y156,\"ddd\")","v":"di"},"DD",{"$f":"IFERROR(HLOOKUP(Y156,[1]DATA!$A$1:$NB$5,3,0),\"\")","v":"D3"},32,null,4,269,20,-140.93750000000006,0.60788530465949819,0.93483927019982627]
["8diMD",{"$f":"VLOOKUP($AA157,DATA!$B$3:$E$6,2,0)","v":"14:30:00"},{"$f":"VLOOKUP($AA157,DATA!$B$3:$E$6,3,0)","v":"22:30:00"},{"$f":"VLOOKUP($AA157,DATA!$B$3:$E$6,4,0)","v":3.125E-2},0.30208333333333337,0.27152777777777781,{"$f":"DATA!$C$9","v":0.89},{"$f":"DATA!$C$10","v":64},1,366.56250000000006,407.81250000000006,3.0555555555555555E-2,41.25,0.10114942528735631,0,"","",382.93333333333334,323,"",323,"",null,{"$f":"X163","v":8},null,{"$f":"TEXT(Y156,\"ddd\")","v":"di"},"MD",{"$f":"IFERROR(HLOOKUP(Y156,[1]DATA!$A$1:$NB$5,4,0),\"\")","v":"D2"},44,null,36,359,41,-71.687499999999943,0.74093189964157713,0.90328668029564396]
["8diND",{"$f":"VLOOKUP($AA158,DATA!$B$3:$E$6,2,0)","v":"22:30:00"},{"$f":"VLOOKUP($AA158,DATA!$B$3:$E$6,3,0)","v":"06:30:00"},{"$f":"VLOOKUP($AA158,DATA!$B$3:$E$6,4,0)","v":3.125E-2},0.30208333333333326,0.30208333333333326,{"$f":"DATA!$C$9","v":0.89},{"$f":"DATA!$C$10","v":64},1,407.81249999999989,407.81249999999989,0,"","",0,"","",0,"","","","",null,{"$f":"X163","v":8},null,{"$f":"TEXT(Y156,\"ddd\")","v":"di"},"ND",{"$f":"IFERROR(HLOOKUP(Y156,[1]DATA!$A$1:$NB$5,5,0),\"\")","v":"D1"},null,null,null,null,0,"","",""]
["8woDD",{"$f":"VLOOKUP($AA159,DATA!$B$3:$E$6,2,0)","v":"06:30:00"},{"$f":"VLOOKUP($AA159,DATA!$B$3:$E$6,3,0)","v":"14:30:00"},{"$f":"VLOOKUP($AA159,DATA!$B$3:$E$6,4,0)","v":3.125E-2},0.30208333333333331,0.24791666666666665,{"$f":"DATA!$C$9","v":0.89},{"$f":"DATA!$C$10","v":64},1,334.6875,407.8125,5.4166666666666669E-2,73.125,0.1793103448275862,0,"","",333.86666666666667,298,"","",298,null,{"$f":"X163","v":8},{"$f":"Y156+1","v":"2018-02-21"},{"$f":"TEXT(Y159,\"ddd\")","v":"wo"},"DD",{"$f":"IFERROR(HLOOKUP(Y159,[1]DATA!$A$1:$NB$5,3,0),\"\")","v":"D3"},78,null,15,313,10,-64.812500000000057,0.68358422939068098,0.97091896083753393]
["8woMD",{"$f":"VLOOKUP($AA160,DATA!$B$3:$E$6,2,0)","v":"14:30:00"},{"$f":"VLOOKUP($AA160,DATA!$B$3:$E$6,3,0)","v":"22:30:00"},{"$f":"VLOOKUP($AA160,DATA!$B$3:$E$6,4,0)","v":3.125E-2},0.30208333333333337,0.26527777777777783,{"$f":"DATA!$C$9","v":0.89},{"$f":"DATA!$C$10","v":64},1,358.12500000000006,407.81250000000006,3.6805555555555557E-2,49.6875,0.1218390804597701,0,"","",395.73333333333335,338,"",338,"",null,{"$f":"X163","v":8},null,{"$f":"TEXT(Y159,\"ddd\")","v":"wo"},"MD",{"$f":"IFERROR(HLOOKUP(Y159,[1]DATA!$A$1:$NB$5,4,0),\"\")","v":"D2"},53,null,33,371,18,-48.25,0.77534050179211478,0.95649371575894293]
["8woND",{"$f":"VLOOKUP($AA161,DATA!$B$3:$E$6,2,0)","v":"22:30:00"},{"$f":"VLOOKUP($AA161,DATA!$B$3:$E$6,3,0)","v":"06:30:00"},{"$f":"VLOOKUP($AA161,DATA!$B$3:$E$6,4,0)","v":3.125E-2},0.30208333333333326,0.30208333333333326,{"$f":"DATA!$C$9","v":0.89},{"$f":"DATA!$C$10","v":64},1,407.81249999999989,407.81249999999989,0,"","",0,"","",0,"","","","",null,{"$f":"X163","v":8},null,{"$f":"TEXT(Y159,\"ddd\")","v":"wo"},"ND",{"$f":"IFERROR(HLOOKUP(Y159,[1]DATA!$A$1:$NB$5,5,0),\"\")","v":"D1"},null,null,null,null,0,"","",""]
["8doDD",{"$f":"VLOOKUP($AA162,DATA!$B$3:$E$6,2,0)","v":"06:30:00"},{"$f":"VLOOKUP($AA162,DATA!$B$3:$E$6,3,0)","v":"14:30:00"},{"$f":"VLOOKUP($AA162,DATA!$B$3:$E$6,4,0)","v":3.125E-2},0.30208333333333331,0.28472222222222221,{"$f":"DATA!$C$9","v":0.89},{"$f":"DATA!$C$10","v":64},1,384.375,407.8125,1.7361111111111112E-2,23.4375,5.7471264367816091E-2,0,"","",392.5333333333333,344,"","",344,null,{"$f":"X163","v":8},{"$f":"Y159+1","v":"2018-02-22"},{"$f":"TEXT(Y162,\"ddd\")","v":"do"},"DD",{"$f":"IFERROR(HLOOKUP(Y162,[1]DATA!$A$1:$NB$5,3,0),\"\")","v":"D3"},25,null,24,368,16,-68.500000000000057,0.78910394265232975,0.96083550913838123]
["8doMD",{"$f":"VLOOKUP($AA163,DATA!$B$3:$E$6,2,0)","v":"14:30:00"},{"$f":"VLOOKUP($AA163,DATA!$B$3:$E$6,3,0)","v":"22:30:00"},{"$f":"VLOOKUP($AA163,DATA!$B$3:$E$6,4,0)","v":3.125E-2},0.30208333333333337,0.28611111111111115,{"$f":"DATA!$C$9","v":0.89},{"$f":"DATA!$C$10","v":64},1,386.25000000000006,407.81250000000006,1.5972222222222224E-2,21.562500000000004,5.2873563218390804E-2,0,"","",434.13333333333333,376,"",376,"",null,{"$f":"WEEKNUM($Y153)","v":8},null,{"$f":"TEXT(Y162,\"ddd\")","v":"do"},"MD",{"$f":"IFERROR(HLOOKUP(Y162,[1]DATA!$A$1:$NB$5,4,0),\"\")","v":"D2"},23,null,31,407,5,-38.374999999999943,0.86250896057347681,0.98861393654167296]
["8doND",{"$f":"VLOOKUP($AA164,DATA!$B$3:$E$6,2,0)","v":"22:30:00"},{"$f":"VLOOKUP($AA164,DATA!$B$3:$E$6,3,0)","v":"06:30:00"},{"$f":"VLOOKUP($AA164,DATA!$B$3:$E$6,4,0)","v":3.125E-2},0.30208333333333326,0.30208333333333326,{"$f":"DATA!$C$9","v":0.89},{"$f":"DATA!$C$10","v":64},1,407.81249999999989,407.81249999999989,0,"","",0,"","",0,"","","","",null,{"$f":"X163","v":8},null,{"$f":"TEXT(Y162,\"ddd\")","v":"do"},"ND",{"$f":"IFERROR(HLOOKUP(Y162,[1]DATA!$A$1:$NB$5,5,0),\"\")","v":"D1"},null,null,null,null,0,"","",""]
["8vrDD",{"$f":"VLOOKUP($AA165,DATA!$B$3:$E$6,2,0)","v":"06:30:00"},{"$f":"VLOOKUP($AA165,DATA!$B$3:$E$6,3,0)","v":"14:30:00"},{"$f":"VLOOKUP($AA165,DATA!$B$3:$E$6,4,0)","v":3.125E-2},0.30208333333333331,0.30208333333333331,{"$f":"DATA!$C$9","v":0.89},{"$f":"DATA!$C$10","v":64},1,407.8125,407.8125,0,"","",0,"","",0,"","","","",null,{"$f":"X163","v":8},{"$f":"Y162+1","v":"2018-02-23"},{"$f":"TEXT(Y165,\"ddd\")","v":"vr"},"DD",{"$f":"IFERROR(HLOOKUP(Y165,[1]DATA!$A$1:$NB$5,3,0),\"\")","v":"D3"},0,null,0,0,0,"","",""]
["8vrMD",{"$f":"VLOOKUP($AA166,DATA!$B$3:$E$6,2,0)","v":"14:30:00"},{"$f":"VLOOKUP($AA166,DATA!$B$3:$E$6,3,0)","v":"22:30:00"},{"$f":"VLOOKUP($AA166,DATA!$B$3:$E$6,4,0)","v":3.125E-2},0.30208333333333337,0.28888888888888892,{"$f":"DATA!$C$9","v":0.89},{"$f":"DATA!$C$10","v":64},1,390.00000000000006,407.81250000000006,1.3194444444444444E-2,17.8125,4.3678160919540222E-2,0,"","",293.33333333333331,252,"",252,"",null,{"$f":"X163","v":8},null,{"$f":"TEXT(Y165,\"ddd\")","v":"vr"},"MD",{"$f":"IFERROR(HLOOKUP(Y165,[1]DATA!$A$1:$NB$5,4,0),\"\")","v":"D2"},19,null,23,275,182,-166.12499999999994,0.57806451612903231,0.61711079943899017]
["8vrND",{"$f":"VLOOKUP($AA167,DATA!$B$3:$E$6,2,0)","v":"22:30:00"},{"$f":"VLOOKUP($AA167,DATA!$B$3:$E$6,3,0)","v":"06:30:00"},{"$f":"VLOOKUP($AA167,DATA!$B$3:$E$6,4,0)","v":3.125E-2},0.30208333333333326,0.30208333333333326,{"$f":"DATA!$C$9","v":0.89},{"$f":"DATA!$C$10","v":64},1,407.81249999999989,407.81249999999989,0,"","",0,"","",0,"","","","",null,{"$f":"X163","v":8},null,{"$f":"TEXT(Y165,\"ddd\")","v":"vr"},"ND",{"$f":"IFERROR(HLOOKUP(Y165,[1]DATA!$A$1:$NB$5,5,0),\"\")","v":"-"},null,null,null,null,0,"","",""]
["8zaDD",{"$f":"VLOOKUP($AA168,DATA!$B$3:$E$6,2,0)","v":"06:30:00"},{"$f":"VLOOKUP($AA168,DATA!$B$3:$E$6,3,0)","v":"14:30:00"},{"$f":"VLOOKUP($AA168,DATA!$B$3:$E$6,4,0)","v":3.125E-2},0.30208333333333331,0.30208333333333331,{"$f":"DATA!$C$9","v":0.89},{"$f":"DATA!$C$10","v":64},1,407.8125,407.8125,0,"","",0,"","",0,"","","","",null,{"$f":"X163","v":8},{"$f":"Y165+1","v":"2018-02-24"},{"$f":"TEXT(Y168,\"ddd\")","v":"za"},"DD",{"$f":"IFERROR(HLOOKUP(Y168,[1]DATA!$A$1:$NB$5,3,0),\"\")","v":"-"},null,null,null,null,0,"","",""]
["8zaMD",{"$f":"VLOOKUP($AA169,DATA!$B$3:$E$6,2,0)","v":"14:30:00"},{"$f":"VLOOKUP($AA169,DATA!$B$3:$E$6,3,0)","v":"22:30:00"},{"$f":"VLOOKUP($AA169,DATA!$B$3:$E$6,4,0)","v":3.125E-2},0.30208333333333337,0.30208333333333337,{"$f":"DATA!$C$9","v":0.89},{"$f":"DATA!$C$10","v":64},1,407.81250000000006,407.81250000000006,0,"","",0,"","",0,"","","","",null,{"$f":"X163","v":8},null,{"$f":"TEXT(Y168,\"ddd\")","v":"za"},"MD",{"$f":"IFERROR(HLOOKUP(Y168,[1]DATA!$A$1:$NB$5,4,0),\"\")","v":"-"},null,null,null,null,0,"","",""]
["8zaND",{"$f":"VLOOKUP($AA170,DATA!$B$3:$E$6,2,0)","v":"22:30:00"},{"$f":"VLOOKUP($AA170,DATA!$B$3:$E$6,3,0)","v":"06:30:00"},{"$f":"VLOOKUP($AA170,DATA!$B$3:$E$6,4,0)","v":3.125E-2},0.30208333333333326,0.30208333333333326,{"$f":"DATA!$C$9","v":0.89},{"$f":"DATA!$C$10","v":64},1,407.81249999999989,407.81249999999989,0,"","",0,"","",0,"","","","",null,{"$f":"X163","v":8},null,{"$f":"TEXT(Y168,\"ddd\")","v":"za"},"ND",{"$f":"IFERROR(HLOOKUP(Y168,[1]DATA!$A$1:$NB$5,5,0),\"\")","v":"-"},null,null,null,null,0,"","",""]
["8zoDD",{"$f":"VLOOKUP($AA171,DATA!$B$3:$E$6,2,0)","v":"06:30:00"},{"$f":"VLOOKUP($AA171,DATA!$B$3:$E$6,3,0)","v":"14:30:00"},{"$f":"VLOOKUP($AA171,DATA!$B$3:$E$6,4,0)","v":3.125E-2},0.30208333333333331,0.30208333333333331,{"$f":"DATA!$C$9","v":0.89},{"$f":"DATA!$C$10","v":64},1,407.8125,407.8125,0,"","",0,"","",0,"","","","",null,{"$f":"X163","v":8},{"$f":"Y168+1","v":"2018-02-25"},{"$f":"TEXT(Y171,\"ddd\")","v":"zo"},"DD",{"$f":"IFERROR(HLOOKUP(Y171,[1]DATA!$A$1:$NB$5,3,0),\"\")","v":"-"},null,null,null,null,0,"","",""]
["8zoMD",{"$f":"VLOOKUP($AA172,DATA!$B$3:$E$6,2,0)","v":"14:30:00"},{"$f":"VLOOKUP($AA172,DATA!$B$3:$E$6,3,0)","v":"22:30:00"},{"$f":"VLOOKUP($AA172,DATA!$B$3:$E$6,4,0)","v":3.125E-2},0.30208333333333337,0.30208333333333337,{"$f":"DATA!$C$9","v":0.89},{"$f":"DATA!$C$10","v":64},1,407.81250000000006,407.81250000000006,0,"","",0,"","",0,"","","","",null,{"$f":"X163","v":8},null,{"$f":"TEXT(Y171,\"ddd\")","v":"zo"},"MD",{"$f":"IFERROR(HLOOKUP(Y171,[1]DATA!$A$1:$NB$5,4,0),\"\")","v":"-"},null,null,null,null,0,"","",""]
["8zoZND",{"$f":"VLOOKUP($AA173,DATA!$B$3:$E$6,2,0)","v":"00:00:00"},{"$f":"VLOOKUP($AA173,DATA!$B$3:$E$6,3,0)","v":"00:00:00"},{"$f":"VLOOKUP($AA173,DATA!$B$3:$E$6,4,0)","v":0},0,0,{"$f":"DATA!$C$9","v":0.89},{"$f":"DATA!$C$10","v":64},1,0,0,0,"","",0,"","",0,"","","","",null,{"$f":"X163","v":8},null,{"$f":"TEXT(Y171,\"ddd\")","v":"zo"},"ZND",{"$f":"IFERROR(HLOOKUP(Y171,[1]DATA!$A$1:$NB$5,5,0),\"\")","v":"D3"},null,null,null,null,0,"","",""]
["9maDD",{"$f":"VLOOKUP($AA174,DATA!$B$3:$E$6,2,0)","v":"06:30:00"},{"$f":"VLOOKUP($AA174,DATA!$B$3:$E$6,3,0)","v":"14:30:00"},{"$f":"VLOOKUP($AA174,DATA!$B$3:$E$6,4,0)","v":3.125E-2},0.30208333333333331,0.24930555555555553,{"$f":"DATA!$C$9","v":0.89},{"$f":"DATA!$C$10","v":64},1,336.56249999999994,407.8125,5.2777777777777778E-2,71.25,0.17471264367816092,{"$f":"TIME(INT($AD174/60),INT(MOD($AD174,60)/1),0)","v":0},"","",150.4,125,"",125,"",null,{"$f":"X184","v":9},{"$f":"Y171+1","v":"2018-02-26"},{"$f":"TEXT(Y174,\"ddd\")","v":"ma"},"DD",{"$f":"IFERROR(HLOOKUP(Y174,[1]DATA!$A$1:$NB$5,3,0),\"\")","v":"D2"},76,null,16,141,0,-239.68750000000006,0.28673835125448027,1,4359.375,3295,0.75584229390681001,478.125,0.10967741935483871,0,0,0.96876853493404602,0.97707940802785376,0.96045766184023851,"",586.25,0.13448028673835127,625.33333333333337,136]
["9maMD",{"$f":"VLOOKUP($AA175,DATA!$B$3:$E$6,2,0)","v":"14:30:00"},{"$f":"VLOOKUP($AA175,DATA!$B$3:$E$6,3,0)","v":"22:30:00"},{"$f":"VLOOKUP($AA175,DATA!$B$3:$E$6,4,0)","v":3.125E-2},0.30208333333333337,0.2680555555555556,{"$f":"DATA!$C$9","v":0.89},{"$f":"DATA!$C$10","v":64},1,361.87500000000006,407.81250000000006,3.4027777777777775E-2,45.937499999999993,0.11264367816091951,{"$f":"TIME(INT(AD175/60),INT(MOD(AD175,60)/1),0)","v":0},"","",350.93333333333334,308,308,"","",null,{"$f":"X184","v":9},null,{"$f":"TEXT(Y174,\"ddd\")","v":"ma"},"MD",{"$f":"IFERROR(HLOOKUP(Y174,[1]DATA!$A$1:$NB$5,4,0),\"\")","v":"D1"},49,null,21,329,8,-81.999999999999943,0.70652329749103948,0.97771173848439819]
[{"$f":"X176&Z176&AA176","v":"9maND"},{"$f":"VLOOKUP($AA176,DATA!$B$3:$E$6,2,0)","v":"22:30:00"},{"$f":"VLOOKUP($AA176,DATA!$B$3:$E$6,3,0)","v":"06:30:00"},{"$f":"VLOOKUP($AA176,DATA!$B$3:$E$6,4,0)","v":3.125E-2},0.30208333333333326,0.30208333333333326,{"$f":"DATA!$C$9","v":0.89},{"$f":"DATA!$C$10","v":64},1,407.81249999999989,407.81249999999989,0,"","",0,{"$f":"IF($O176*86400/$H176=0,\"\",$O176*86400/$H176)","v":""},"",0,"","","","",null,{"$f":"X184","v":9},null,{"$f":"TEXT(Y174,\"ddd\")","v":"ma"},"ND",{"$f":"IFERROR(HLOOKUP(Y174,[1]DATA!$A$1:$NB$5,5,0),\"\")","v":"D3"},null,null,null,null,0,"","",""]
["9diDD",{"$f":"VLOOKUP($AA177,DATA!$B$3:$E$6,2,0)","v":"06:30:00"},{"$f":"VLOOKUP($AA177,DATA!$B$3:$E$6,3,0)","v":"14:30:00"},{"$f":"VLOOKUP($AA177,DATA!$B$3:$E$6,4,0)","v":3.125E-2},0.30208333333333331,0.29791666666666666,{"$f":"DATA!$C$9","v":0.89},{"$f":"DATA!$C$10","v":64},1,402.1875,407.8125,4.1666666666666666E-3,5.625,1.3793103448275862E-2,0,"","",471.46666666666664,405,"",405,"",null,{"$f":"X184","v":9},{"$f":"Y174+1","v":"2018-02-27"},{"$f":"TEXT(Y177,\"ddd\")","v":"di"},"DD",{"$f":"IFERROR(HLOOKUP(Y177,[1]DATA!$A$1:$NB$5,3,0),\"\")","v":"D2"},6,null,37,442,16,-25.312500000000057,0.92903225806451617,0.96717724288840268]
["9diMD",{"$f":"VLOOKUP($AA178,DATA!$B$3:$E$6,2,0)","v":"14:30:00"},{"$f":"VLOOKUP($AA178,DATA!$B$3:$E$6,3,0)","v":"22:30:00"},{"$f":"VLOOKUP($AA178,DATA!$B$3:$E$6,4,0)","v":3.125E-2},0.30208333333333337,0.22222222222222227,{"$f":"DATA!$C$9","v":0.89},{"$f":"DATA!$C$10","v":64},1,300.00000000000006,407.81250000000006,7.9861111111111105E-2,107.81249999999999,0.26436781609195398,0,"","",372.26666666666665,317,317,"","",null,{"$f":"X184","v":9},null,{"$f":"TEXT(Y177,\"ddd\")","v":"di"},"MD",{"$f":"IFERROR(HLOOKUP(Y177,[1]DATA!$A$1:$NB$5,4,0),\"\")","v":"D1"},115,null,32,349,3,-11.124999999999943,0.72716845878136205,0.99200568484633145]
["9diND",{"$f":"VLOOKUP($AA179,DATA!$B$3:$E$6,2,0)","v":"22:30:00"},{"$f":"VLOOKUP($AA179,DATA!$B$3:$E$6,3,0)","v":"06:30:00"},{"$f":"VLOOKUP($AA179,DATA!$B$3:$E$6,4,0)","v":3.125E-2},0.30208333333333326,0.30208333333333326,{"$f":"DATA!$C$9","v":0.89},{"$f":"DATA!$C$10","v":64},1,407.81249999999989,407.81249999999989,0,"","",0,"","",0,"","","","",null,{"$f":"X184","v":9},null,{"$f":"TEXT(Y177,\"ddd\")","v":"di"},"ND",{"$f":"IFERROR(HLOOKUP(Y177,[1]DATA!$A$1:$NB$5,5,0),\"\")","v":"D3"},null,null,null,null,0,"","",""]
["9woDD",{"$f":"VLOOKUP($AA180,DATA!$B$3:$E$6,2,0)","v":"06:30:00"},{"$f":"VLOOKUP($AA180,DATA!$B$3:$E$6,3,0)","v":"14:30:00"},{"$f":"VLOOKUP($AA180,DATA!$B$3:$E$6,4,0)","v":3.125E-2},0.30208333333333331,0.27430555555555552,{"$f":"DATA!$C$9","v":0.89},{"$f":"DATA!$C$10","v":64},1,370.31249999999994,407.8125,2.7777777777777776E-2,37.5,9.1954022988505746E-2,0,"","",378.66666666666669,339,"",339,"",null,{"$f":"X184","v":9},{"$f":"Y177+1","v":"2018-02-28"},{"$f":"TEXT(Y180,\"ddd\")","v":"wo"},"DD",{"$f":"IFERROR(HLOOKUP(Y180,[1]DATA!$A$1:$NB$5,3,0),\"\")","v":"D2"},40,null,16,355,8,-59.4375,0.7776344086021505,0.97931034482758617]
["9woMD",{"$f":"VLOOKUP($AA181,DATA!$B$3:$E$6,2,0)","v":"14:30:00"},{"$f":"VLOOKUP($AA181,DATA!$B$3:$E$6,3,0)","v":"22:30:00"},{"$f":"VLOOKUP($AA181,DATA!$B$3:$E$6,4,0)","v":3.125E-2},0.30208333333333337,0.28611111111111115,{"$f":"DATA!$C$9","v":0.89},{"$f":"DATA!$C$10","v":64},1,386.25000000000006,407.81250000000006,1.5972222222222224E-2,21.562500000000004,5.2873563218390804E-2,0,"","",420.26666666666665,364,364,"","",null,{"$f":"X184","v":9},null,{"$f":"TEXT(Y180,\"ddd\")","v":"wo"},"MD",{"$f":"IFERROR(HLOOKUP(Y180,[1]DATA!$A$1:$NB$5,4,0),\"\")","v":"D1"},23,null,30,394,26,-50.374999999999943,0.83498207885304665,0.94173887063041528]
["9woND",{"$f":"VLOOKUP($AA182,DATA!$B$3:$E$6,2,0)","v":"22:30:00"},{"$f":"VLOOKUP($AA182,DATA!$B$3:$E$6,3,0)","v":"06:30:00"},{"$f":"VLOOKUP($AA182,DATA!$B$3:$E$6,4,0)","v":3.125E-2},0.30208333333333326,0.30208333333333326,{"$f":"DATA!$C$9","v":0.89},{"$f":"DATA!$C$10","v":64},1,407.81249999999989,407.81249999999989,0,"","",0,"","",0,"","","","",null,{"$f":"X184","v":9},null,{"$f":"TEXT(Y180,\"ddd\")","v":"wo"},"ND",{"$f":"IFERROR(HLOOKUP(Y180,[1]DATA!$A$1:$NB$5,5,0),\"\")","v":"D3"},null,null,null,null,0,"","",""]
["9doDD",{"$f":"VLOOKUP($AA183,DATA!$B$3:$E$6,2,0)","v":"06:30:00"},{"$f":"VLOOKUP($AA183,DATA!$B$3:$E$6,3,0)","v":"14:30:00"},{"$f":"VLOOKUP($AA183,DATA!$B$3:$E$6,4,0)","v":3.125E-2},0.30208333333333331,0.28194444444444444,{"$f":"DATA!$C$9","v":0.89},{"$f":"DATA!$C$10","v":64},1,380.625,407.8125,2.013888888888889E-2,27.1875,6.6666666666666666E-2,0,"","",409.6,349,"",349,"",null,{"$f":"X184","v":9},{"$f":"Y180+1","v":"2018-03-01"},{"$f":"TEXT(Y183,\"ddd\")","v":"do"},"DD",{"$f":"IFERROR(HLOOKUP(Y183,[1]DATA!$A$1:$NB$5,3,0),\"\")","v":"D2"},29,null,35,384,28,-59.750000000000057,0.800573476702509,0.93601462522851919]
["9doMD",{"$f":"VLOOKUP($AA184,DATA!$B$3:$E$6,2,0)","v":"14:30:00"},{"$f":"VLOOKUP($AA184,DATA!$B$3:$E$6,3,0)","v":"22:30:00"},{"$f":"VLOOKUP($AA184,DATA!$B$3:$E$6,4,0)","v":3.125E-2},0.30208333333333337,0.25486111111111115,{"$f":"DATA!$C$9","v":0.89},{"$f":"DATA!$C$10","v":64},1,344.06250000000006,407.81250000000006,4.7222222222222221E-2,63.75,0.15632183908045974,0,"","",411.73333333333335,360,360,"","",null,{"$f":"WEEKNUM($Y174)","v":9},null,{"$f":"TEXT(Y183,\"ddd\")","v":"do"},"MD",{"$f":"IFERROR(HLOOKUP(Y183,[1]DATA!$A$1:$NB$5,4,0),\"\")","v":"D1"},68,null,26,386,8,-12.187499999999943,0.82580645161290334,0.98094027954256668]
["9doND",{"$f":"VLOOKUP($AA185,DATA!$B$3:$E$6,2,0)","v":"22:30:00"},{"$f":"VLOOKUP($AA185,DATA!$B$3:$E$6,3,0)","v":"06:30:00"},{"$f":"VLOOKUP($AA185,DATA!$B$3:$E$6,4,0)","v":3.125E-2},0.30208333333333326,0.30208333333333326,{"$f":"DATA!$C$9","v":0.89},{"$f":"DATA!$C$10","v":64},1,407.81249999999989,407.81249999999989,0,"","",0,"","",0,"","","","",null,{"$f":"X184","v":9},null,{"$f":"TEXT(Y183,\"ddd\")","v":"do"},"ND",{"$f":"IFERROR(HLOOKUP(Y183,[1]DATA!$A$1:$NB$5,5,0),\"\")","v":"D3"},null,null,null,null,0,"","",""]
["9vrDD",{"$f":"VLOOKUP($AA186,DATA!$B$3:$E$6,2,0)","v":"06:30:00"},{"$f":"VLOOKUP($AA186,DATA!$B$3:$E$6,3,0)","v":"14:30:00"},{"$f":"VLOOKUP($AA186,DATA!$B$3:$E$6,4,0)","v":3.125E-2},0.30208333333333331,0.26944444444444443,{"$f":"DATA!$C$9","v":0.89},{"$f":"DATA!$C$10","v":64},1,363.75,407.8125,3.2638888888888891E-2,44.0625,0.10804597701149425,0,"","",412.8,357,"",357,"",null,{"$f":"X184","v":9},{"$f":"Y183+1","v":"2018-03-02"},{"$f":"TEXT(Y186,\"ddd\")","v":"vr"},"DD",{"$f":"IFERROR(HLOOKUP(Y186,[1]DATA!$A$1:$NB$5,3,0),\"\")","v":"D2"},47,null,30,387,36,-34.875000000000057,0.81892473118279574,0.9197860962566845]
["9vrMD",{"$f":"VLOOKUP($AA187,DATA!$B$3:$E$6,2,0)","v":"14:30:00"},{"$f":"VLOOKUP($AA187,DATA!$B$3:$E$6,3,0)","v":"22:30:00"},{"$f":"VLOOKUP($AA187,DATA!$B$3:$E$6,4,0)","v":3.125E-2},0.30208333333333337,0.26250000000000007,{"$f":"DATA!$C$9","v":0.89},{"$f":"DATA!$C$10","v":64},1,354.37500000000011,407.81250000000006,3.9583333333333331E-2,53.4375,0.13103448275862067,0,"","",425.59999999999997,371,371,"","",null,{"$f":"X184","v":9},null,{"$f":"TEXT(Y186,\"ddd\")","v":"vr"},"MD",{"$f":"IFERROR(HLOOKUP(Y186,[1]DATA!$A$1:$NB$5,4,0),\"\")","v":"D1"},57,null,28,399,3,-11.5,0.85103942652329756,0.99300046663555763]
["9vrND",{"$f":"VLOOKUP($AA188,DATA!$B$3:$E$6,2,0)","v":"22:30:00"},{"$f":"VLOOKUP($AA188,DATA!$B$3:$E$6,3,0)","v":"06:30:00"},{"$f":"VLOOKUP($AA188,DATA!$B$3:$E$6,4,0)","v":3.125E-2},0.30208333333333326,0.30208333333333326,{"$f":"DATA!$C$9","v":0.89},{"$f":"DATA!$C$10","v":64},1,407.81249999999989,407.81249999999989,0,"","",0,"","",0,"","","","",null,{"$f":"X184","v":9},null,{"$f":"TEXT(Y186,\"ddd\")","v":"vr"},"ND",{"$f":"IFERROR(HLOOKUP(Y186,[1]DATA!$A$1:$NB$5,5,0),\"\")","v":"-"},null,null,null,null,0,"","",""]
["9zaDD",{"$f":"VLOOKUP($AA189,DATA!$B$3:$E$6,2,0)","v":"06:30:00"},{"$f":"VLOOKUP($AA189,DATA!$B$3:$E$6,3,0)","v":"14:30:00"},{"$f":"VLOOKUP($AA189,DATA!$B$3:$E$6,4,0)","v":3.125E-2},0.30208333333333331,0.30208333333333331,{"$f":"DATA!$C$9","v":0.89},{"$f":"DATA!$C$10","v":64},1,407.8125,407.8125,0,"","",0,"","",0,"","","","",null,{"$f":"X184","v":9},{"$f":"Y186+1","v":"2018-03-03"},{"$f":"TEXT(Y189,\"ddd\")","v":"za"},"DD",{"$f":"IFERROR(HLOOKUP(Y189,[1]DATA!$A$1:$NB$5,3,0),\"\")","v":"-"},null,null,null,null,0,"","",""]
["9zaMD",{"$f":"VLOOKUP($AA190,DATA!$B$3:$E$6,2,0)","v":"14:30:00"},{"$f":"VLOOKUP($AA190,DATA!$B$3:$E$6,3,0)","v":"22:30:00"},{"$f":"VLOOKUP($AA190,DATA!$B$3:$E$6,4,0)","v":3.125E-2},0.30208333333333337,0.30208333333333337,{"$f":"DATA!$C$9","v":0.89},{"$f":"DATA!$C$10","v":64},1,407.81250000000006,407.81250000000006,0,"","",0,"","",0,"","","","",null,{"$f":"X184","v":9},null,{"$f":"TEXT(Y189,\"ddd\")","v":"za"},"MD",{"$f":"IFERROR(HLOOKUP(Y189,[1]DATA!$A$1:$NB$5,4,0),\"\")","v":"-"},null,null,null,null,0,"","",""]
["9zaND",{"$f":"VLOOKUP($AA191,DATA!$B$3:$E$6,2,0)","v":"22:30:00"},{"$f":"VLOOKUP($AA191,DATA!$B$3:$E$6,3,0)","v":"06:30:00"},{"$f":"VLOOKUP($AA191,DATA!$B$3:$E$6,4,0)","v":3.125E-2},0.30208333333333326,0.30208333333333326,{"$f":"DATA!$C$9","v":0.89},{"$f":"DATA!$C$10","v":64},1,407.81249999999989,407.81249999999989,0,"","",0,"","",0,"","","","",null,{"$f":"X184","v":9},null,{"$f":"TEXT(Y189,\"ddd\")","v":"za"},"ND",{"$f":"IFERROR(HLOOKUP(Y189,[1]DATA!$A$1:$NB$5,5,0),\"\")","v":"-"},null,null,null,null,0,"","",""]
["9zoDD",{"$f":"VLOOKUP($AA192,DATA!$B$3:$E$6,2,0)","v":"06:30:00"},{"$f":"VLOOKUP($AA192,DATA!$B$3:$E$6,3,0)","v":"14:30:00"},{"$f":"VLOOKUP($AA192,DATA!$B$3:$E$6,4,0)","v":3.125E-2},0.30208333333333331,0.30208333333333331,{"$f":"DATA!$C$9","v":0.89},{"$f":"DATA!$C$10","v":64},1,407.8125,407.8125,0,"","",0,"","",0,"","","","",null,{"$f":"X184","v":9},{"$f":"Y189+1","v":"2018-03-04"},{"$f":"TEXT(Y192,\"ddd\")","v":"zo"},"DD",{"$f":"IFERROR(HLOOKUP(Y192,[1]DATA!$A$1:$NB$5,3,0),\"\")","v":"-"},null,null,null,null,0,"","",""]
["9zoMD",{"$f":"VLOOKUP($AA193,DATA!$B$3:$E$6,2,0)","v":"14:30:00"},{"$f":"VLOOKUP($AA193,DATA!$B$3:$E$6,3,0)","v":"22:30:00"},{"$f":"VLOOKUP($AA193,DATA!$B$3:$E$6,4,0)","v":3.125E-2},0.30208333333333337,0.30208333333333337,{"$f":"DATA!$C$9","v":0.89},{"$f":"DATA!$C$10","v":64},1,407.81250000000006,407.81250000000006,0,"","",0,"","",0,"","","","",null,{"$f":"X184","v":9},null,{"$f":"TEXT(Y192,\"ddd\")","v":"zo"},"MD",{"$f":"IFERROR(HLOOKUP(Y192,[1]DATA!$A$1:$NB$5,4,0),\"\")","v":"-"},null,null,null,null,0,"","",""]
["9zoZND",{"$f":"VLOOKUP($AA194,DATA!$B$3:$E$6,2,0)","v":"00:00:00"},{"$f":"VLOOKUP($AA194,DATA!$B$3:$E$6,3,0)","v":"00:00:00"},{"$f":"VLOOKUP($AA194,DATA!$B$3:$E$6,4,0)","v":0},0,0,{"$f":"DATA!$C$9","v":0.89},{"$f":"DATA!$C$10","v":64},1,0,0,0,"","",0,"","",0,"","","","",null,{"$f":"X184","v":9},null,{"$f":"TEXT(Y192,\"ddd\")","v":"zo"},"ZND",{"$f":"IFERROR(HLOOKUP(Y192,[1]DATA!$A$1:$NB$5,5,0),\"\")","v":"D2"},null,null,null,null,0,"","",""]
["10maDD",{"$f":"VLOOKUP($AA195,DATA!$B$3:$E$6,2,0)","v":"06:30:00"},{"$f":"VLOOKUP($AA195,DATA!$B$3:$E$6,3,0)","v":"14:30:00"},{"$f":"VLOOKUP($AA195,DATA!$B$3:$E$6,4,0)","v":3.125E-2},0.30208333333333331,0.21736111111111112,{"$f":"DATA!$C$9","v":0.89},{"$f":"DATA!$C$10","v":64},1,293.4375,407.8125,8.4722222222222213E-2,114.37499999999999,0.2804597701149425,{"$f":"TIME(INT($AD195/60),INT(MOD($AD195,60)/1),0)","v":0},"","",343.46666666666664,295,295,"","",null,{"$f":"X205","v":10},{"$f":"Y192+1","v":"2018-03-05"},{"$f":"TEXT(Y195,\"ddd\")","v":"ma"},"DD",{"$f":"IFERROR(HLOOKUP(Y195,[1]DATA!$A$1:$NB$5,3,0),\"\")","v":"D1"},122,null,27,322,8,-26.562500000000057,0.67670250896057349,0.97723823975720792,4359.375,2942,0.67486738351254483,410.625,9.4193548387096773E-2,0,0,0.95850015250986031,0.97126147526482742,"",0.9457388297548931,1006.75,0.23093906810035841,1073.8666666666666,153]
["10maMD",{"$f":"VLOOKUP($AA196,DATA!$B$3:$E$6,2,0)","v":"14:30:00"},{"$f":"VLOOKUP($AA196,DATA!$B$3:$E$6,3,0)","v":"22:30:00"},{"$f":"VLOOKUP($AA196,DATA!$B$3:$E$6,4,0)","v":3.125E-2},0.30208333333333337,0.25000000000000006,{"$f":"DATA!$C$9","v":0.89},{"$f":"DATA!$C$10","v":64},1,337.50000000000006,407.81250000000006,5.2083333333333336E-2,70.3125,0.17241379310344826,{"$f":"TIME(INT(AD196/60),INT(MOD(AD196,60)/1),0)","v":0},"","",323.2,286,"","",286,null,{"$f":"X205","v":10},null,{"$f":"TEXT(Y195,\"ddd\")","v":"ma"},"MD",{"$f":"IFERROR(HLOOKUP(Y195,[1]DATA!$A$1:$NB$5,4,0),\"\")","v":"D3"},75,null,17,303,15,-79.625,0.65605734767025103,0.9556475458308693]
["10maND",{"$f":"VLOOKUP($AA197,DATA!$B$3:$E$6,2,0)","v":"22:30:00"},{"$f":"VLOOKUP($AA197,DATA!$B$3:$E$6,3,0)","v":"06:30:00"},{"$f":"VLOOKUP($AA197,DATA!$B$3:$E$6,4,0)","v":3.125E-2},0.30208333333333326,0.30208333333333326,{"$f":"DATA!$C$9","v":0.89},{"$f":"DATA!$C$10","v":64},1,407.81249999999989,407.81249999999989,0,"","",0,"","",0,"","","","",null,{"$f":"X205","v":10},null,{"$f":"TEXT(Y195,\"ddd\")","v":"ma"},"ND",{"$f":"IFERROR(HLOOKUP(Y195,[1]DATA!$A$1:$NB$5,5,0),\"\")","v":"D2"},null,null,null,null,0,"","",""]
["10diDD",{"$f":"VLOOKUP($AA198,DATA!$B$3:$E$6,2,0)","v":"06:30:00"},{"$f":"VLOOKUP($AA198,DATA!$B$3:$E$6,3,0)","v":"14:30:00"},{"$f":"VLOOKUP($AA198,DATA!$B$3:$E$6,4,0)","v":3.125E-2},0.30208333333333331,0.28333333333333333,{"$f":"DATA!$C$9","v":0.89},{"$f":"DATA!$C$10","v":64},1,{"$f":"F198*86400/H198*I198","v":382.5},{"$f":"E198*86400/H198","v":407.8125},1.8749999999999999E-2,25.3125,6.2068965517241378E-2,0,"","",{"$f":"AF198*AG$2","v":334.93333333333334},{"$f":"IF(AF198-AE198=0,\"\",AF198-AE198)","v":291},291,"","",null,{"$f":"X205","v":10},{"$f":"Y195+1","v":"2018-03-06"},{"$f":"TEXT(Y198,\"ddd\")","v":"di"},"DD",{"$f":"IFERROR(HLOOKUP(Y198,[1]DATA!$A$1:$NB$5,3,0),\"\")","v":"D1"},27,null,23,314,33,-119.62500000000006,0.66752688172043007,0.91030983873890192]
["10diMD",{"$f":"VLOOKUP($AA199,DATA!$B$3:$E$6,2,0)","v":"14:30:00"},{"$f":"VLOOKUP($AA199,DATA!$B$3:$E$6,3,0)","v":"22:30:00"},{"$f":"VLOOKUP($AA199,DATA!$B$3:$E$6,4,0)","v":3.125E-2},0.30208333333333337,0.27361111111111114,{"$f":"DATA!$C$9","v":0.89},{"$f":"DATA!$C$10","v":64},1,369.37500000000006,407.81250000000006,{"$f":"TIME(INT($AC199/60),INT(MOD($AC199,60)/1),0)","v":2.8472222222222222E-2},{"$f":"IF($L199*86400/$H199=0,\"\",$L199*86400/$H199)","v":38.4375},{"$f":"IFERROR($M199/$K199,\"\")","v":9.4252873563218376E-2},0,"",{"$f":"IFERROR($P199/$K199,\"\")","v":""},337.06666666666666,295,{"$f":"IF(IF($AB199=\"D1\",$S199,\"\")=0,\"\",IF($AB199=\"D1\",$S199,\"\"))","v":""},{"$f":"IF(IF($AB199=\"D2\",$S199,\"\")=0,\"\",IF($AB199=\"D2\",$S199,\"\"))","v":""},{"$f":"IF(IF($AB199=\"D3\",$S199,\"\")=0,\"\",IF($AB199=\"D3\",$S199,\"\"))","v":295},null,{"$f":"X205","v":10},null,{"$f":"TEXT(Y198,\"ddd\")","v":"di"},"MD",{"$f":"IFERROR(HLOOKUP(Y198,[1]DATA!$A$1:$NB$5,4,0),\"\")","v":"D3"},41,null,21,316,32,-102.49999999999994,0.6767025089605736,0.91329479768786126]
["10diND",{"$f":"VLOOKUP($AA200,DATA!$B$3:$E$6,2,0)","v":"22:30:00"},{"$f":"VLOOKUP($AA200,DATA!$B$3:$E$6,3,0)","v":"06:30:00"},{"$f":"VLOOKUP($AA200,DATA!$B$3:$E$6,4,0)","v":3.125E-2},0.30208333333333326,0.30208333333333326,{"$f":"DATA!$C$9","v":0.89},{"$f":"DATA!$C$10","v":64},1,407.81249999999989,407.81249999999989,0,"","",0,"","",0,"","","","",null,{"$f":"X205","v":10},null,{"$f":"TEXT(Y198,\"ddd\")","v":"di"},"ND",{"$f":"IFERROR(HLOOKUP(Y198,[1]DATA!$A$1:$NB$5,5,0),\"\")","v":"D2"},null,null,null,null,0,"","",""]
["10woDD",{"$f":"VLOOKUP($AA201,DATA!$B$3:$E$6,2,0)","v":"06:30:00"},{"$f":"VLOOKUP($AA201,DATA!$B$3:$E$6,3,0)","v":"14:30:00"},{"$f":"VLOOKUP($AA201,DATA!$B$3:$E$6,4,0)","v":3.125E-2},0.30208333333333331,0.2895833333333333,{"$f":"DATA!$C$9","v":0.89},{"$f":"DATA!$C$10","v":64},1,390.93749999999994,407.8125,1.2499999999999999E-2,16.875,4.1379310344827586E-2,0,"","",375.46666666666664,340,340,"","",null,{"$f":"X205","v":10},{"$f":"Y198+1","v":"2018-03-07"},{"$f":"TEXT(Y201,\"ddd\")","v":"wo"},"DD",{"$f":"IFERROR(HLOOKUP(Y201,[1]DATA!$A$1:$NB$5,3,0),\"\")","v":"D1"},18,null,12,352,0,-79.0625,0.77992831541218643,1]
["10woMD",{"$f":"VLOOKUP($AA202,DATA!$B$3:$E$6,2,0)","v":"14:30:00"},{"$f":"VLOOKUP($AA202,DATA!$B$3:$E$6,3,0)","v":"22:30:00"},{"$f":"VLOOKUP($AA202,DATA!$B$3:$E$6,4,0)","v":3.125E-2},0.30208333333333337,0.27847222222222223,{"$f":"DATA!$C$9","v":0.89},{"$f":"DATA!$C$10","v":64},1,375.9375,407.81250000000006,2.361111111111111E-2,31.875,7.816091954022987E-2,0,"","",400,338,"","",338,null,{"$f":"X205","v":10},null,{"$f":"TEXT(Y201,\"ddd\")","v":"wo"},"MD",{"$f":"IFERROR(HLOOKUP(Y201,[1]DATA!$A$1:$NB$5,4,0),\"\")","v":"D3"},34,null,37,375,12,-66.062499999999886,0.77534050179211478,0.970873786407767]
["10woND",{"$f":"VLOOKUP($AA203,DATA!$B$3:$E$6,2,0)","v":"22:30:00"},{"$f":"VLOOKUP($AA203,DATA!$B$3:$E$6,3,0)","v":"06:30:00"},{"$f":"VLOOKUP($AA203,DATA!$B$3:$E$6,4,0)","v":3.125E-2},0.30208333333333326,0.30208333333333326,{"$f":"DATA!$C$9","v":0.89},{"$f":"DATA!$C$10","v":64},1,407.81249999999989,407.81249999999989,0,"","",0,"","",0,"","","","",null,{"$f":"X205","v":10},null,{"$f":"TEXT(Y201,\"ddd\")","v":"wo"},"ND",{"$f":"IFERROR(HLOOKUP(Y201,[1]DATA!$A$1:$NB$5,5,0),\"\")","v":"D2"},null,null,null,null,0,"","",""]
["10doDD",{"$f":"VLOOKUP($AA204,DATA!$B$3:$E$6,2,0)","v":"06:30:00"},{"$f":"VLOOKUP($AA204,DATA!$B$3:$E$6,3,0)","v":"14:30:00"},{"$f":"VLOOKUP($AA204,DATA!$B$3:$E$6,4,0)","v":3.125E-2},0.30208333333333331,0.26249999999999996,{"$f":"DATA!$C$9","v":0.89},{"$f":"DATA!$C$10","v":64},1,354.37499999999994,407.8125,3.9583333333333331E-2,53.4375,0.1310344827586207,0,"","",209.06666666666666,184,184,"","",null,{"$f":"X205","v":10},{"$f":"Y201+1","v":"2018-03-08"},{"$f":"TEXT(Y204,\"ddd\")","v":"do"},"DD",{"$f":"IFERROR(HLOOKUP(Y204,[1]DATA!$A$1:$NB$5,3,0),\"\")","v":"D1"},57,null,12,196,0,-198.5,0.42207885304659498,1]
["10doMD",{"$f":"VLOOKUP($AA205,DATA!$B$3:$E$6,2,0)","v":"14:30:00"},{"$f":"VLOOKUP($AA205,DATA!$B$3:$E$6,3,0)","v":"22:30:00"},{"$f":"VLOOKUP($AA205,DATA!$B$3:$E$6,4,0)","v":3.125E-2},0.30208333333333337,0.27777777777777779,{"$f":"DATA!$C$9","v":0.89},{"$f":"DATA!$C$10","v":64},1,375,407.81250000000006,2.4305555555555556E-2,32.8125,8.0459770114942514E-2,0,"","",237.86666666666667,209,"","",209,null,{"$f":"WEEKNUM($Y195)","v":10},null,{"$f":"TEXT(Y204,\"ddd\")","v":"do"},"MD",{"$f":"IFERROR(HLOOKUP(Y204,[1]DATA!$A$1:$NB$5,4,0),\"\")","v":"D3"},35,null,14,223,11,-194.12499999999994,0.47942652329749108,0.95579962496651483]
["10doND",{"$f":"VLOOKUP($AA206,DATA!$B$3:$E$6,2,0)","v":"22:30:00"},{"$f":"VLOOKUP($AA206,DATA!$B$3:$E$6,3,0)","v":"06:30:00"},{"$f":"VLOOKUP($AA206,DATA!$B$3:$E$6,4,0)","v":3.125E-2},0.30208333333333326,0.30208333333333326,{"$f":"DATA!$C$9","v":0.89},{"$f":"DATA!$C$10","v":64},1,407.81249999999989,407.81249999999989,0,"","",0,"","",0,"","","","",null,{"$f":"X205","v":10},null,{"$f":"TEXT(Y204,\"ddd\")","v":"do"},"ND",{"$f":"IFERROR(HLOOKUP(Y204,[1]DATA!$A$1:$NB$5,5,0),\"\")","v":"D2"},null,null,null,null,0,"","",""]
["10vrDD",{"$f":"VLOOKUP($AA207,DATA!$B$3:$E$6,2,0)","v":"06:30:00"},{"$f":"VLOOKUP($AA207,DATA!$B$3:$E$6,3,0)","v":"14:30:00"},{"$f":"VLOOKUP($AA207,DATA!$B$3:$E$6,4,0)","v":3.125E-2},0.30208333333333331,0.28194444444444444,{"$f":"DATA!$C$9","v":0.89},{"$f":"DATA!$C$10","v":64},1,380.625,407.8125,2.013888888888889E-2,27.1875,6.6666666666666666E-2,0,"","",434.13333333333333,369,369,"","",null,{"$f":"X205","v":10},{"$f":"Y204+1","v":"2018-03-09"},{"$f":"TEXT(Y207,\"ddd\")","v":"vr"},"DD",{"$f":"IFERROR(HLOOKUP(Y207,[1]DATA!$A$1:$NB$5,3,0),\"\")","v":"D1"},29,null,38,407,14,-39.750000000000057,0.84645161290322579,0.96875929782802739]
["10vrMD",{"$f":"VLOOKUP($AA208,DATA!$B$3:$E$6,2,0)","v":"14:30:00"},{"$f":"VLOOKUP($AA208,DATA!$B$3:$E$6,3,0)","v":"22:30:00"},{"$f":"VLOOKUP($AA208,DATA!$B$3:$E$6,4,0)","v":3.125E-2},0.30208333333333337,0.30208333333333337,{"$f":"DATA!$C$9","v":0.89},{"$f":"DATA!$C$10","v":64},1,407.81250000000006,407.81250000000006,0,"","",0,"","",390.4,335,"","",335,null,{"$f":"X205","v":10},null,{"$f":"TEXT(Y207,\"ddd\")","v":"vr"},"MD",{"$f":"IFERROR(HLOOKUP(Y207,[1]DATA!$A$1:$NB$5,4,0),\"\")","v":"D3"},0,null,31,366,28,-100.93749999999994,0.76845878136200729,0.93307839388145319]
["10vrND",{"$f":"VLOOKUP($AA209,DATA!$B$3:$E$6,2,0)","v":"22:30:00"},{"$f":"VLOOKUP($AA209,DATA!$B$3:$E$6,3,0)","v":"06:30:00"},{"$f":"VLOOKUP($AA209,DATA!$B$3:$E$6,4,0)","v":3.125E-2},0.30208333333333326,0.30208333333333326,{"$f":"DATA!$C$9","v":0.89},{"$f":"DATA!$C$10","v":64},1,407.81249999999989,407.81249999999989,0,"","",0,"","",0,"","","","",null,{"$f":"X205","v":10},null,{"$f":"TEXT(Y207,\"ddd\")","v":"vr"},"ND",{"$f":"IFERROR(HLOOKUP(Y207,[1]DATA!$A$1:$NB$5,5,0),\"\")","v":"-"},null,null,null,null,0,"","",""]
["10zaDD",{"$f":"VLOOKUP($AA210,DATA!$B$3:$E$6,2,0)","v":"06:30:00"},{"$f":"VLOOKUP($AA210,DATA!$B$3:$E$6,3,0)","v":"14:30:00"},{"$f":"VLOOKUP($AA210,DATA!$B$3:$E$6,4,0)","v":3.125E-2},0.30208333333333331,0.30208333333333331,{"$f":"DATA!$C$9","v":0.89},{"$f":"DATA!$C$10","v":64},1,407.8125,407.8125,0,"","",0,"","",0,"","","","",null,{"$f":"X205","v":10},{"$f":"Y207+1","v":"2018-03-10"},{"$f":"TEXT(Y210,\"ddd\")","v":"za"},"DD",{"$f":"IFERROR(HLOOKUP(Y210,[1]DATA!$A$1:$NB$5,3,0),\"\")","v":"-"},null,null,null,null,0,"","",""]
["10zaMD",{"$f":"VLOOKUP($AA211,DATA!$B$3:$E$6,2,0)","v":"14:30:00"},{"$f":"VLOOKUP($AA211,DATA!$B$3:$E$6,3,0)","v":"22:30:00"},{"$f":"VLOOKUP($AA211,DATA!$B$3:$E$6,4,0)","v":3.125E-2},0.30208333333333337,0.30208333333333337,{"$f":"DATA!$C$9","v":0.89},{"$f":"DATA!$C$10","v":64},1,407.81250000000006,407.81250000000006,0,"","",0,"","",0,"","","","",null,{"$f":"X205","v":10},null,{"$f":"TEXT(Y210,\"ddd\")","v":"za"},"MD",{"$f":"IFERROR(HLOOKUP(Y210,[1]DATA!$A$1:$NB$5,4,0),\"\")","v":"-"},null,null,null,null,0,"","",""]
["10zaND",{"$f":"VLOOKUP($AA212,DATA!$B$3:$E$6,2,0)","v":"22:30:00"},{"$f":"VLOOKUP($AA212,DATA!$B$3:$E$6,3,0)","v":"06:30:00"},{"$f":"VLOOKUP($AA212,DATA!$B$3:$E$6,4,0)","v":3.125E-2},0.30208333333333326,0.30208333333333326,{"$f":"DATA!$C$9","v":0.89},{"$f":"DATA!$C$10","v":64},1,407.81249999999989,407.81249999999989,0,"","",0,"","",0,"","","","",null,{"$f":"X205","v":10},null,{"$f":"TEXT(Y210,\"ddd\")","v":"za"},"ND",{"$f":"IFERROR(HLOOKUP(Y210,[1]DATA!$A$1:$NB$5,5,0),\"\")","v":"-"},null,null,null,null,0,"","",""]
["10zoDD",{"$f":"VLOOKUP($AA213,DATA!$B$3:$E$6,2,0)","v":"06:30:00"},{"$f":"VLOOKUP($AA213,DATA!$B$3:$E$6,3,0)","v":"14:30:00"},{"$f":"VLOOKUP($AA213,DATA!$B$3:$E$6,4,0)","v":3.125E-2},0.30208333333333331,0.30208333333333331,{"$f":"DATA!$C$9","v":0.89},{"$f":"DATA!$C$10","v":64},1,407.8125,407.8125,0,"","",0,"","",0,"","","","",null,{"$f":"X205","v":10},{"$f":"Y210+1","v":"2018-03-11"},{"$f":"TEXT(Y213,\"ddd\")","v":"zo"},"DD",{"$f":"IFERROR(HLOOKUP(Y213,[1]DATA!$A$1:$NB$5,3,0),\"\")","v":"-"},null,null,null,null,0,"","",""]
["10zoMD",{"$f":"VLOOKUP($AA214,DATA!$B$3:$E$6,2,0)","v":"14:30:00"},{"$f":"VLOOKUP($AA214,DATA!$B$3:$E$6,3,0)","v":"22:30:00"},{"$f":"VLOOKUP($AA214,DATA!$B$3:$E$6,4,0)","v":3.125E-2},0.30208333333333337,0.30208333333333337,{"$f":"DATA!$C$9","v":0.89},{"$f":"DATA!$C$10","v":64},1,407.81250000000006,407.81250000000006,0,"","",0,"","",0,"","","","",null,{"$f":"X205","v":10},null,{"$f":"TEXT(Y213,\"ddd\")","v":"zo"},"MD",{"$f":"IFERROR(HLOOKUP(Y213,[1]DATA!$A$1:$NB$5,4,0),\"\")","v":"-"},null,null,null,null,0,"","",""]
["10zoZND",{"$f":"VLOOKUP($AA215,DATA!$B$3:$E$6,2,0)","v":"00:00:00"},{"$f":"VLOOKUP($AA215,DATA!$B$3:$E$6,3,0)","v":"00:00:00"},{"$f":"VLOOKUP($AA215,DATA!$B$3:$E$6,4,0)","v":0},0,0,{"$f":"DATA!$C$9","v":0.89},{"$f":"DATA!$C$10","v":64},1,0,0,0,"","",0,"","",0,"","","","",null,{"$f":"X205","v":10},null,{"$f":"TEXT(Y213,\"ddd\")","v":"zo"},"ZND",{"$f":"IFERROR(HLOOKUP(Y213,[1]DATA!$A$1:$NB$5,5,0),\"\")","v":"D1"},null,null,null,null,0,"","",""]
["11maDD",{"$f":"VLOOKUP($AA216,DATA!$B$3:$E$6,2,0)","v":"06:30:00"},{"$f":"VLOOKUP($AA216,DATA!$B$3:$E$6,3,0)","v":"14:30:00"},{"$f":"VLOOKUP($AA216,DATA!$B$3:$E$6,4,0)","v":3.125E-2},0.30208333333333331,0.29236111111111107,{"$f":"DATA!$C$9","v":0.89},{"$f":"DATA!$C$10","v":64},1,394.68749999999994,407.8125,9.7222222222222224E-3,13.125,3.2183908045977011E-2,{"$f":"TIME(INT($AD216/60),INT(MOD($AD216,60)/1),0)","v":0},"","",334.93333333333334,285,"","",285,null,{"$f":"X226","v":11},{"$f":"Y213+1","v":"2018-03-12"},{"$f":"TEXT(Y216,\"ddd\")","v":"ma"},"DD",{"$f":"IFERROR(HLOOKUP(Y216,[1]DATA!$A$1:$NB$5,3,0),\"\")","v":"D3"},14,null,29,314,150,-137.8125,0.65376344086021509,0.69067913115204838,4359.375,2943,0.67509677419354841,425.625,9.7634408602150544E-2,0,0,0.93037609730296966,"",0.96289203588011785,0.89786015872582148,990.75,0.22726881720430103,1056.8,293]
["11maMD",{"$f":"VLOOKUP($AA217,DATA!$B$3:$E$6,2,0)","v":"14:30:00"},{"$f":"VLOOKUP($AA217,DATA!$B$3:$E$6,3,0)","v":"22:30:00"},{"$f":"VLOOKUP($AA217,DATA!$B$3:$E$6,4,0)","v":3.125E-2},0.30208333333333337,0.2590277777777778,{"$f":"DATA!$C$9","v":0.89},{"$f":"DATA!$C$10","v":64},1,349.68750000000006,407.81250000000006,4.3055555555555562E-2,58.125000000000007,0.14252873563218391,{"$f":"TIME(INT(AD217/60),INT(MOD(AD217,60)/1),0)","v":0},"","",423.46666666666664,361,"",361,"",null,{"$f":"X226","v":11},null,{"$f":"TEXT(Y216,\"ddd\")","v":"ma"},"MD",{"$f":"IFERROR(HLOOKUP(Y216,[1]DATA!$A$1:$NB$5,4,0),\"\")","v":"D2"},62,null,36,397,3,-16.812499999999943,0.82810035842293916,0.99296545255588553]
["11maND",{"$f":"VLOOKUP($AA218,DATA!$B$3:$E$6,2,0)","v":"22:30:00"},{"$f":"VLOOKUP($AA218,DATA!$B$3:$E$6,3,0)","v":"06:30:00"},{"$f":"VLOOKUP($AA218,DATA!$B$3:$E$6,4,0)","v":3.125E-2},0.30208333333333326,0.30208333333333326,{"$f":"DATA!$C$9","v":0.89},{"$f":"DATA!$C$10","v":64},1,407.81249999999989,407.81249999999989,0,"","",0,"","",0,"","","","",null,{"$f":"X226","v":11},null,{"$f":"TEXT(Y216,\"ddd\")","v":"ma"},"ND",{"$f":"IFERROR(HLOOKUP(Y216,[1]DATA!$A$1:$NB$5,5,0),\"\")","v":"D1"},null,null,null,null,0,"","",""]
["11diDD",{"$f":"VLOOKUP($AA219,DATA!$B$3:$E$6,2,0)","v":"06:30:00"},{"$f":"VLOOKUP($AA219,DATA!$B$3:$E$6,3,0)","v":"14:30:00"},{"$f":"VLOOKUP($AA219,DATA!$B$3:$E$6,4,0)","v":3.125E-2},0.30208333333333331,0.24930555555555553,{"$f":"DATA!$C$9","v":0.89},{"$f":"DATA!$C$10","v":64},1,336.56249999999994,407.8125,5.2777777777777778E-2,71.25,0.17471264367816092,0,"","",300.8,269,"","",269,null,{"$f":"X226","v":11},{"$f":"Y216+1","v":"2018-03-13"},{"$f":"TEXT(Y219,\"ddd\")","v":"di"},"DD",{"$f":"IFERROR(HLOOKUP(Y219,[1]DATA!$A$1:$NB$5,3,0),\"\")","v":"D3"},76,null,13,282,15,-95.687500000000057,0.61706093189964162,0.95250158328055734]
["11diMD",{"$f":"VLOOKUP($AA220,DATA!$B$3:$E$6,2,0)","v":"14:30:00"},{"$f":"VLOOKUP($AA220,DATA!$B$3:$E$6,3,0)","v":"22:30:00"},{"$f":"VLOOKUP($AA220,DATA!$B$3:$E$6,4,0)","v":3.125E-2},{"$f":"(C220-B220+(B220>C220))-D220","v":0.30208333333333337},{"$f":"E220-O220-L220","v":0.28402777777777782},{"$f":"DATA!$C$9","v":0.89},{"$f":"DATA!$C$10","v":64},1,383.43750000000006,407.81250000000006,1.8055555555555557E-2,24.375000000000004,5.9770114942528735E-2,0,"","",391.46666666666664,325,"",325,"",null,{"$f":"X226","v":11},null,{"$f":"TEXT(Y219,\"ddd\")","v":"di"},"MD",{"$f":"IFERROR(HLOOKUP(Y219,[1]DATA!$A$1:$NB$5,4,0),\"\")","v":"D2"},26,null,42,367,21,-86.562499999999943,0.7455197132616489,0.94908679489251657]
["11diND",{"$f":"VLOOKUP($AA221,DATA!$B$3:$E$6,2,0)","v":"22:30:00"},{"$f":"VLOOKUP($AA221,DATA!$B$3:$E$6,3,0)","v":"06:30:00"},{"$f":"VLOOKUP($AA221,DATA!$B$3:$E$6,4,0)","v":3.125E-2},0.30208333333333326,0.30208333333333326,{"$f":"DATA!$C$9","v":0.89},{"$f":"DATA!$C$10","v":64},1,407.81249999999989,407.81249999999989,0,"","",0,"","",0,"","","","",null,{"$f":"X226","v":11},null,{"$f":"TEXT(Y219,\"ddd\")","v":"di"},"ND",{"$f":"IFERROR(HLOOKUP(Y219,[1]DATA!$A$1:$NB$5,5,0),\"\")","v":"D1"},null,null,null,null,0,"","",""]
["11woDD",{"$f":"VLOOKUP($AA222,DATA!$B$3:$E$6,2,0)","v":"06:30:00"},{"$f":"VLOOKUP($AA222,DATA!$B$3:$E$6,3,0)","v":"14:30:00"},{"$f":"VLOOKUP($AA222,DATA!$B$3:$E$6,4,0)","v":3.125E-2},0.30208333333333331,0.28680555555555554,{"$f":"DATA!$C$9","v":0.89},{"$f":"DATA!$C$10","v":64},1,387.1875,407.8125,1.5277777777777777E-2,20.625,5.057471264367816E-2,0,"","",330.66666666666669,299,"","",299,null,{"$f":"X226","v":11},{"$f":"Y219+1","v":"2018-03-14"},{"$f":"TEXT(Y222,\"ddd\")","v":"wo"},"DD",{"$f":"IFERROR(HLOOKUP(Y222,[1]DATA!$A$1:$NB$5,3,0),\"\")","v":"D3"},22,null,11,310,55,-116.3125,0.6858781362007168,0.85738980121002595]
["11woMD",{"$f":"VLOOKUP($AA223,DATA!$B$3:$E$6,2,0)","v":"14:30:00"},{"$f":"VLOOKUP($AA223,DATA!$B$3:$E$6,3,0)","v":"22:30:00"},{"$f":"VLOOKUP($AA223,DATA!$B$3:$E$6,4,0)","v":3.125E-2},0.30208333333333337,0.25555555555555559,{"$f":"DATA!$C$9","v":0.89},{"$f":"DATA!$C$10","v":64},1,345.00000000000006,407.81250000000006,4.6527777777777779E-2,62.8125,0.15402298850574711,0,"","",377.6,320,"",320,"",null,{"$f":"X226","v":11},null,{"$f":"TEXT(Y222,\"ddd\")","v":"wo"},"MD",{"$f":"IFERROR(HLOOKUP(Y222,[1]DATA!$A$1:$NB$5,4,0),\"\")","v":"D2"},67,null,34,354,16,-53.124999999999943,0.73405017921146964,0.95934959349593496]
["11woND",{"$f":"VLOOKUP($AA224,DATA!$B$3:$E$6,2,0)","v":"22:30:00"},{"$f":"VLOOKUP($AA224,DATA!$B$3:$E$6,3,0)","v":"06:30:00"},{"$f":"VLOOKUP($AA224,DATA!$B$3:$E$6,4,0)","v":3.125E-2},0.30208333333333326,0.30208333333333326,{"$f":"DATA!$C$9","v":0.89},{"$f":"DATA!$C$10","v":64},1,407.81249999999989,407.81249999999989,0,"","",0,"","",0,"","","","",null,{"$f":"X226","v":11},null,{"$f":"TEXT(Y222,\"ddd\")","v":"wo"},"ND",{"$f":"IFERROR(HLOOKUP(Y222,[1]DATA!$A$1:$NB$5,5,0),\"\")","v":"D1"},null,null,null,null,0,"","",""]
["11doDD",{"$f":"VLOOKUP($AA225,DATA!$B$3:$E$6,2,0)","v":"06:30:00"},{"$f":"VLOOKUP($AA225,DATA!$B$3:$E$6,3,0)","v":"14:30:00"},{"$f":"VLOOKUP($AA225,DATA!$B$3:$E$6,4,0)","v":3.125E-2},0.30208333333333331,0.27569444444444441,{"$f":"DATA!$C$9","v":0.89},{"$f":"DATA!$C$10","v":64},1,372.18749999999994,407.8125,2.6388888888888889E-2,35.625,8.7356321839080459E-2,0,"","",350.93333333333334,325,"","",325,null,{"$f":"X226","v":11},{"$f":"Y222+1","v":"2018-03-15"},{"$f":"TEXT(Y225,\"ddd\")","v":"do"},"DD",{"$f":"IFERROR(HLOOKUP(Y225,[1]DATA!$A$1:$NB$5,3,0),\"\")","v":"D3"},38,null,4,329,4,-75.3125,0.74551971326164879,0.98873027798647628]
["11doMD",{"$f":"VLOOKUP($AA226,DATA!$B$3:$E$6,2,0)","v":"14:30:00"},{"$f":"VLOOKUP($AA226,DATA!$B$3:$E$6,3,0)","v":"22:30:00"},{"$f":"VLOOKUP($AA226,DATA!$B$3:$E$6,4,0)","v":3.125E-2},0.30208333333333337,0.25208333333333338,{"$f":"DATA!$C$9","v":0.89},{"$f":"DATA!$C$10","v":64},1,340.31250000000006,407.81250000000006,4.9999999999999996E-2,67.5,0.16551724137931031,0,"","",279.46666666666664,239,"",239,"",null,{"$f":"WEEKNUM($Y216)","v":11},null,{"$f":"TEXT(Y225,\"ddd\")","v":"do"},"MD",{"$f":"IFERROR(HLOOKUP(Y225,[1]DATA!$A$1:$NB$5,4,0),\"\")","v":"D2"},72,null,23,262,3,-129.43749999999994,0.54824372759856643,0.98937927779088974]
["11doND",{"$f":"VLOOKUP($AA227,DATA!$B$3:$E$6,2,0)","v":"22:30:00"},{"$f":"VLOOKUP($AA227,DATA!$B$3:$E$6,3,0)","v":"06:30:00"},{"$f":"VLOOKUP($AA227,DATA!$B$3:$E$6,4,0)","v":3.125E-2},0.30208333333333326,0.30208333333333326,{"$f":"DATA!$C$9","v":0.89},{"$f":"DATA!$C$10","v":64},1,407.81249999999989,407.81249999999989,0,"","",0,"","",0,"","","","",null,{"$f":"X226","v":11},null,{"$f":"TEXT(Y225,\"ddd\")","v":"do"},"ND",{"$f":"IFERROR(HLOOKUP(Y225,[1]DATA!$A$1:$NB$5,5,0),\"\")","v":"D1"},null,null,null,null,0,"","",""]
["11vrDD",{"$f":"VLOOKUP($AA228,DATA!$B$3:$E$6,2,0)","v":"06:30:00"},{"$f":"VLOOKUP($AA228,DATA!$B$3:$E$6,3,0)","v":"14:30:00"},{"$f":"VLOOKUP($AA228,DATA!$B$3:$E$6,4,0)","v":3.125E-2},0.30208333333333331,0.27291666666666664,{"$f":"DATA!$C$9","v":0.89},{"$f":"DATA!$C$10","v":64},1,368.43749999999994,407.8125,2.9166666666666664E-2,39.374999999999993,9.6551724137931019E-2,0,"","",276.26666666666665,241,"","",241,null,{"$f":"X226","v":11},{"$f":"Y225+1","v":"2018-03-16"},{"$f":"TEXT(Y228,\"ddd\")","v":"vr"},"DD",{"$f":"IFERROR(HLOOKUP(Y228,[1]DATA!$A$1:$NB$5,3,0),\"\")","v":"D3"},42,null,18,259,0,-155.5625,0.55283154121863798,1]
["11vrMD",{"$f":"VLOOKUP($AA229,DATA!$B$3:$E$6,2,0)","v":"14:30:00"},{"$f":"VLOOKUP($AA229,DATA!$B$3:$E$6,3,0)","v":"22:30:00"},{"$f":"VLOOKUP($AA229,DATA!$B$3:$E$6,4,0)","v":3.125E-2},0.30208333333333337,0.27777777777777779,{"$f":"DATA!$C$9","v":0.89},{"$f":"DATA!$C$10","v":64},1,375,407.81250000000006,2.4305555555555556E-2,32.8125,8.0459770114942514E-2,0,"","",314.66666666666669,279,"",279,"",null,{"$f":"X226","v":11},null,{"$f":"TEXT(Y228,\"ddd\")","v":"vr"},"MD",{"$f":"IFERROR(HLOOKUP(Y228,[1]DATA!$A$1:$NB$5,4,0),\"\")","v":"D2"},35,null,16,295,26,-124.12499999999994,0.64000000000000012,0.92367906066536198]
["11vrND",{"$f":"VLOOKUP($AA230,DATA!$B$3:$E$6,2,0)","v":"22:30:00"},{"$f":"VLOOKUP($AA230,DATA!$B$3:$E$6,3,0)","v":"06:30:00"},{"$f":"VLOOKUP($AA230,DATA!$B$3:$E$6,4,0)","v":3.125E-2},0.30208333333333326,0.30208333333333326,{"$f":"DATA!$C$9","v":0.89},{"$f":"DATA!$C$10","v":64},1,407.81249999999989,407.81249999999989,0,"","",0,"","",0,"","","","",null,{"$f":"X226","v":11},null,{"$f":"TEXT(Y228,\"ddd\")","v":"vr"},"ND",{"$f":"IFERROR(HLOOKUP(Y228,[1]DATA!$A$1:$NB$5,5,0),\"\")","v":"-"},null,null,null,null,0,"","",""]
["11zaDD",{"$f":"VLOOKUP($AA231,DATA!$B$3:$E$6,2,0)","v":"06:30:00"},{"$f":"VLOOKUP($AA231,DATA!$B$3:$E$6,3,0)","v":"14:30:00"},{"$f":"VLOOKUP($AA231,DATA!$B$3:$E$6,4,0)","v":3.125E-2},0.30208333333333331,0.30208333333333331,{"$f":"DATA!$C$9","v":0.89},{"$f":"DATA!$C$10","v":64},1,407.8125,407.8125,0,"","",0,"","",0,"","","","",null,{"$f":"X226","v":11},{"$f":"Y228+1","v":"2018-03-17"},{"$f":"TEXT(Y231,\"ddd\")","v":"za"},"DD",{"$f":"IFERROR(HLOOKUP(Y231,[1]DATA!$A$1:$NB$5,3,0),\"\")","v":"-"},null,null,null,null,0,"","",""]
["11zaMD",{"$f":"VLOOKUP($AA232,DATA!$B$3:$E$6,2,0)","v":"14:30:00"},{"$f":"VLOOKUP($AA232,DATA!$B$3:$E$6,3,0)","v":"22:30:00"},{"$f":"VLOOKUP($AA232,DATA!$B$3:$E$6,4,0)","v":3.125E-2},0.30208333333333337,0.30208333333333337,{"$f":"DATA!$C$9","v":0.89},{"$f":"DATA!$C$10","v":64},1,407.81250000000006,407.81250000000006,0,"","",0,"","",0,"","","","",null,{"$f":"X226","v":11},null,{"$f":"TEXT(Y231,\"ddd\")","v":"za"},"MD",{"$f":"IFERROR(HLOOKUP(Y231,[1]DATA!$A$1:$NB$5,4,0),\"\")","v":"-"},null,null,null,null,0,"","",""]
["11zaND",{"$f":"VLOOKUP($AA233,DATA!$B$3:$E$6,2,0)","v":"22:30:00"},{"$f":"VLOOKUP($AA233,DATA!$B$3:$E$6,3,0)","v":"06:30:00"},{"$f":"VLOOKUP($AA233,DATA!$B$3:$E$6,4,0)","v":3.125E-2},0.30208333333333326,0.30208333333333326,{"$f":"DATA!$C$9","v":0.89},{"$f":"DATA!$C$10","v":64},1,407.81249999999989,407.81249999999989,0,"","",0,"","",0,"","","","",null,{"$f":"X226","v":11},null,{"$f":"TEXT(Y231,\"ddd\")","v":"za"},"ND",{"$f":"IFERROR(HLOOKUP(Y231,[1]DATA!$A$1:$NB$5,5,0),\"\")","v":"-"},null,null,null,null,0,"","",""]
["11zoDD",{"$f":"VLOOKUP($AA234,DATA!$B$3:$E$6,2,0)","v":"06:30:00"},{"$f":"VLOOKUP($AA234,DATA!$B$3:$E$6,3,0)","v":"14:30:00"},{"$f":"VLOOKUP($AA234,DATA!$B$3:$E$6,4,0)","v":3.125E-2},0.30208333333333331,0.30208333333333331,{"$f":"DATA!$C$9","v":0.89},{"$f":"DATA!$C$10","v":64},1,407.8125,407.8125,0,"","",0,"","",0,"","","","",null,{"$f":"X226","v":11},{"$f":"Y231+1","v":"2018-03-18"},{"$f":"TEXT(Y234,\"ddd\")","v":"zo"},"DD",{"$f":"IFERROR(HLOOKUP(Y234,[1]DATA!$A$1:$NB$5,3,0),\"\")","v":"-"},null,null,null,null,0,"","",""]
["11zoMD",{"$f":"VLOOKUP($AA235,DATA!$B$3:$E$6,2,0)","v":"14:30:00"},{"$f":"VLOOKUP($AA235,DATA!$B$3:$E$6,3,0)","v":"22:30:00"},{"$f":"VLOOKUP($AA235,DATA!$B$3:$E$6,4,0)","v":3.125E-2},0.30208333333333337,0.30208333333333337,{"$f":"DATA!$C$9","v":0.89},{"$f":"DATA!$C$10","v":64},1,407.81250000000006,407.81250000000006,0,"","",0,"","",0,"","","","",null,{"$f":"X226","v":11},null,{"$f":"TEXT(Y234,\"ddd\")","v":"zo"},"MD",{"$f":"IFERROR(HLOOKUP(Y234,[1]DATA!$A$1:$NB$5,4,0),\"\")","v":"-"},null,null,null,null,0,"","",""]
["11zoZND",{"$f":"VLOOKUP($AA236,DATA!$B$3:$E$6,2,0)","v":"00:00:00"},{"$f":"VLOOKUP($AA236,DATA!$B$3:$E$6,3,0)","v":"00:00:00"},{"$f":"VLOOKUP($AA236,DATA!$B$3:$E$6,4,0)","v":0},0,0,{"$f":"DATA!$C$9","v":0.89},{"$f":"DATA!$C$10","v":64},1,0,0,0,"","",0,"","",0,"","","","",null,{"$f":"X226","v":11},null,{"$f":"TEXT(Y234,\"ddd\")","v":"zo"},"ZND",{"$f":"IFERROR(HLOOKUP(Y234,[1]DATA!$A$1:$NB$5,5,0),\"\")","v":"D3"},null,null,null,null,0,"","",""]
["12maDD",{"$f":"VLOOKUP($AA237,DATA!$B$3:$E$6,2,0)","v":"06:30:00"},{"$f":"VLOOKUP($AA237,DATA!$B$3:$E$6,3,0)","v":"14:30:00"},{"$f":"VLOOKUP($AA237,DATA!$B$3:$E$6,4,0)","v":3.125E-2},0.30208333333333331,0.27361111111111108,{"$f":"DATA!$C$9","v":0.89},{"$f":"DATA!$C$10","v":64},1,369.37499999999994,407.8125,2.8472222222222222E-2,38.4375,9.4252873563218389E-2,{"$f":"TIME(INT($AD237/60),INT(MOD($AD237,60)/1),0)","v":0},"","",240,220,"",220,"",null,{"$f":"X247","v":12},{"$f":"Y234+1","v":"2018-03-19"},{"$f":"TEXT(Y237,\"ddd\")","v":"ma"},"DD",{"$f":"IFERROR(HLOOKUP(Y237,[1]DATA!$A$1:$NB$5,3,0),\"\")","v":"D2"},41,null,5,225,22,-177.5,0.50465949820788536,0.91603053435114501,4359.375,3019,0.69253046594982082,282.1875,6.4731182795698922E-2,0,0,0.90012927160806966,0.87580937290218697,0.92444917031395235,"",1058.1875,0.24273835125448026,1128.7333333333333,394]
["12maMD",{"$f":"VLOOKUP($AA238,DATA!$B$3:$E$6,2,0)","v":"14:30:00"},{"$f":"VLOOKUP($AA238,DATA!$B$3:$E$6,3,0)","v":"22:30:00"},{"$f":"VLOOKUP($AA238,DATA!$B$3:$E$6,4,0)","v":3.125E-2},0.30208333333333337,0.30069444444444449,{"$f":"DATA!$C$9","v":0.89},{"$f":"DATA!$C$10","v":64},1,405.93750000000006,407.81250000000006,1.3888888888888889E-3,1.875,4.5977011494252864E-3,{"$f":"TIME(INT(AD238/60),INT(MOD(AD238,60)/1),0)","v":0},"","",315.73333333333335,262,262,"","",null,{"$f":"X247","v":12},null,{"$f":"TEXT(Y237,\"ddd\")","v":"ma"},"MD",{"$f":"IFERROR(HLOOKUP(Y237,[1]DATA!$A$1:$NB$5,4,0),\"\")","v":"D1"},2,null,34,296,53,-172.06249999999994,0.60100358422939071,0.85626468992948834]
["12maND",{"$f":"VLOOKUP($AA239,DATA!$B$3:$E$6,2,0)","v":"22:30:00"},{"$f":"VLOOKUP($AA239,DATA!$B$3:$E$6,3,0)","v":"06:30:00"},{"$f":"VLOOKUP($AA239,DATA!$B$3:$E$6,4,0)","v":3.125E-2},0.30208333333333326,0.30208333333333326,{"$f":"DATA!$C$9","v":0.89},{"$f":"DATA!$C$10","v":64},1,407.81249999999989,407.81249999999989,0,"","",0,"","",0,"","","","",null,{"$f":"X247","v":12},null,{"$f":"TEXT(Y237,\"ddd\")","v":"ma"},"ND",{"$f":"IFERROR(HLOOKUP(Y237,[1]DATA!$A$1:$NB$5,5,0),\"\")","v":"D3"},null,null,null,null,0,"","",""]
[{"$f":"X240&Z240&AA240","v":"12diDD"},{"$f":"VLOOKUP($AA240,DATA!$B$3:$E$6,2,0)","v":"06:30:00"},{"$f":"VLOOKUP($AA240,DATA!$B$3:$E$6,3,0)","v":"14:30:00"},{"$f":"VLOOKUP($AA240,DATA!$B$3:$E$6,4,0)","v":3.125E-2},0.30208333333333331,0.26527777777777778,{"$f":"DATA!$C$9","v":0.89},{"$f":"DATA!$C$10","v":64},1,358.125,407.8125,3.6805555555555557E-2,49.6875,0.12183908045977011,0,{"$f":"IF($O240*86400/$H240=0,\"\",$O240*86400/$H240)","v":""},"",353.06666666666666,295,"",295,"",null,{"$f":"X247","v":12},{"$f":"Y237+1","v":"2018-03-20"},{"$f":"TEXT(Y240,\"ddd\")","v":"di"},"DD",{"$f":"IFERROR(HLOOKUP(Y240,[1]DATA!$A$1:$NB$5,3,0),\"\")","v":"D2"},53,null,36,331,20,-91.250000000000057,0.67670250896057349,0.94639027877055037]
["12diMD",{"$f":"VLOOKUP($AA241,DATA!$B$3:$E$6,2,0)","v":"14:30:00"},{"$f":"VLOOKUP($AA241,DATA!$B$3:$E$6,3,0)","v":"22:30:00"},{"$f":"VLOOKUP($AA241,DATA!$B$3:$E$6,4,0)","v":3.125E-2},0.30208333333333337,0.25347222222222227,{"$f":"DATA!$C$9","v":0.89},{"$f":"DATA!$C$10","v":64},1,342.18750000000006,407.81250000000006,4.8611111111111112E-2,65.625,0.16091954022988503,0,"","",344.5333333333333,299,299,"","",null,{"$f":"X247","v":12},null,{"$f":"TEXT(Y240,\"ddd\")","v":"di"},"MD",{"$f":"IFERROR(HLOOKUP(Y240,[1]DATA!$A$1:$NB$5,4,0),\"\")","v":"D1"},70,null,24,323,31,-71.312499999999943,0.68587813620071691,0.91745073672998401]
["12diND",{"$f":"VLOOKUP($AA242,DATA!$B$3:$E$6,2,0)","v":"22:30:00"},{"$f":"VLOOKUP($AA242,DATA!$B$3:$E$6,3,0)","v":"06:30:00"},{"$f":"VLOOKUP($AA242,DATA!$B$3:$E$6,4,0)","v":3.125E-2},0.30208333333333326,0.30208333333333326,{"$f":"DATA!$C$9","v":0.89},{"$f":"DATA!$C$10","v":64},1,407.81249999999989,407.81249999999989,0,"","",0,"","",0,"","","","",null,{"$f":"X247","v":12},null,{"$f":"TEXT(Y240,\"ddd\")","v":"di"},"ND",{"$f":"IFERROR(HLOOKUP(Y240,[1]DATA!$A$1:$NB$5,5,0),\"\")","v":"D3"},null,null,null,null,0,"","",""]
["12woDD",{"$f":"VLOOKUP($AA243,DATA!$B$3:$E$6,2,0)","v":"06:30:00"},{"$f":"VLOOKUP($AA243,DATA!$B$3:$E$6,3,0)","v":"14:30:00"},{"$f":"VLOOKUP($AA243,DATA!$B$3:$E$6,4,0)","v":3.125E-2},0.30208333333333331,0.29166666666666663,{"$f":"DATA!$C$9","v":0.89},{"$f":"DATA!$C$10","v":64},1,393.74999999999994,407.8125,1.0416666666666666E-2,14.0625,3.4482758620689655E-2,0,"","",361.6,306,"",306,"",null,{"$f":"X247","v":12},{"$f":"Y240+1","v":"2018-03-21"},{"$f":"TEXT(Y243,\"ddd\")","v":"wo"},"DD",{"$f":"IFERROR(HLOOKUP(Y243,[1]DATA!$A$1:$NB$5,3,0),\"\")","v":"D2"},15,null,33,339,57,-115.875,0.70193548387096771,0.86383182035355954]
["12woMD",{"$f":"VLOOKUP($AA244,DATA!$B$3:$E$6,2,0)","v":"14:30:00"},{"$f":"VLOOKUP($AA244,DATA!$B$3:$E$6,3,0)","v":"22:30:00"},{"$f":"VLOOKUP($AA244,DATA!$B$3:$E$6,4,0)","v":3.125E-2},0.30208333333333337,0.30208333333333337,{"$f":"DATA!$C$9","v":0.89},{"$f":"DATA!$C$10","v":64},1,407.81250000000006,407.81250000000006,0,"","",0,"","",382.93333333333334,338,338,"","",null,{"$f":"X247","v":12},null,{"$f":"TEXT(Y243,\"ddd\")","v":"wo"},"MD",{"$f":"IFERROR(HLOOKUP(Y243,[1]DATA!$A$1:$NB$5,4,0),\"\")","v":"D1"},0,null,21,359,52,-97.937499999999943,0.77534050179211478,0.88044144696505211]
["12woND",{"$f":"VLOOKUP($AA245,DATA!$B$3:$E$6,2,0)","v":"22:30:00"},{"$f":"VLOOKUP($AA245,DATA!$B$3:$E$6,3,0)","v":"06:30:00"},{"$f":"VLOOKUP($AA245,DATA!$B$3:$E$6,4,0)","v":3.125E-2},0.30208333333333326,0.30208333333333326,{"$f":"DATA!$C$9","v":0.89},{"$f":"DATA!$C$10","v":64},1,407.81249999999989,407.81249999999989,0,"","",0,"","",0,"","","","",null,{"$f":"X247","v":12},null,{"$f":"TEXT(Y243,\"ddd\")","v":"wo"},"ND",{"$f":"IFERROR(HLOOKUP(Y243,[1]DATA!$A$1:$NB$5,5,0),\"\")","v":"D3"},null,null,null,null,0,"","",""]
["12doDD",{"$f":"VLOOKUP($AA246,DATA!$B$3:$E$6,2,0)","v":"06:30:00"},{"$f":"VLOOKUP($AA246,DATA!$B$3:$E$6,3,0)","v":"14:30:00"},{"$f":"VLOOKUP($AA246,DATA!$B$3:$E$6,4,0)","v":3.125E-2},0.30208333333333331,0.28194444444444444,{"$f":"DATA!$C$9","v":0.89},{"$f":"DATA!$C$10","v":64},1,380.625,407.8125,2.013888888888889E-2,27.1875,6.6666666666666666E-2,0,"","",381.86666666666667,338,"",338,"",null,{"$f":"X247","v":12},{"$f":"Y243+1","v":"2018-03-22"},{"$f":"TEXT(Y246,\"ddd\")","v":"do"},"DD",{"$f":"IFERROR(HLOOKUP(Y246,[1]DATA!$A$1:$NB$5,3,0),\"\")","v":"D2"},29,null,20,358,18,-70.750000000000057,0.77534050179211467,0.95498499499833278]
["12doMD",{"$f":"VLOOKUP($AA247,DATA!$B$3:$E$6,2,0)","v":"14:30:00"},{"$f":"VLOOKUP($AA247,DATA!$B$3:$E$6,3,0)","v":"22:30:00"},{"$f":"VLOOKUP($AA247,DATA!$B$3:$E$6,4,0)","v":3.125E-2},0.30208333333333337,0.2993055555555556,{"$f":"DATA!$C$9","v":0.89},{"$f":"DATA!$C$10","v":64},1,404.06250000000006,407.81250000000006,2.7777777777777779E-3,3.75,9.1954022988505729E-3,0,"","",356.26666666666665,313,313,"","",null,{"$f":"WEEKNUM($Y237)","v":12},null,{"$f":"TEXT(Y246,\"ddd\")","v":"do"},"MD",{"$f":"IFERROR(HLOOKUP(Y246,[1]DATA!$A$1:$NB$5,4,0),\"\")","v":"D1"},4,null,21,334,80,-119.18749999999994,0.71799283154121873,0.81662591687041564]
["12doND",{"$f":"VLOOKUP($AA248,DATA!$B$3:$E$6,2,0)","v":"22:30:00"},{"$f":"VLOOKUP($AA248,DATA!$B$3:$E$6,3,0)","v":"06:30:00"},{"$f":"VLOOKUP($AA248,DATA!$B$3:$E$6,4,0)","v":3.125E-2},0.30208333333333326,0.30208333333333326,{"$f":"DATA!$C$9","v":0.89},{"$f":"DATA!$C$10","v":64},1,407.81249999999989,407.81249999999989,0,"","",0,"","",0,"","","","",null,{"$f":"X247","v":12},null,{"$f":"TEXT(Y246,\"ddd\")","v":"do"},"ND",{"$f":"IFERROR(HLOOKUP(Y246,[1]DATA!$A$1:$NB$5,5,0),\"\")","v":"D3"},null,null,null,null,0,"","",""]
["12vrDD",{"$f":"VLOOKUP($AA249,DATA!$B$3:$E$6,2,0)","v":"06:30:00"},{"$f":"VLOOKUP($AA249,DATA!$B$3:$E$6,3,0)","v":"14:30:00"},{"$f":"VLOOKUP($AA249,DATA!$B$3:$E$6,4,0)","v":3.125E-2},0.30208333333333331,0.24166666666666664,{"$f":"DATA!$C$9","v":0.89},{"$f":"DATA!$C$10","v":64},1,326.24999999999994,407.8125,6.0416666666666667E-2,81.5625,0.2,0,"","",350.93333333333334,300,"",300,"",null,{"$f":"X247","v":12},{"$f":"Y246+1","v":"2018-03-23"},{"$f":"TEXT(Y249,\"ddd\")","v":"vr"},"DD",{"$f":"IFERROR(HLOOKUP(Y249,[1]DATA!$A$1:$NB$5,3,0),\"\")","v":"D2"},87,null,29,329,22,-54.375,0.68817204301075274,0.94100822309617449]
["12vrMD",{"$f":"VLOOKUP($AA250,DATA!$B$3:$E$6,2,0)","v":"14:30:00"},{"$f":"VLOOKUP($AA250,DATA!$B$3:$E$6,3,0)","v":"22:30:00"},{"$f":"VLOOKUP($AA250,DATA!$B$3:$E$6,4,0)","v":3.125E-2},0.30208333333333337,0.30208333333333337,{"$f":"DATA!$C$9","v":0.89},{"$f":"DATA!$C$10","v":64},1,407.81250000000006,407.81250000000006,0,"","",0,"","",386.13333333333333,348,348,"","",null,{"$f":"X247","v":12},null,{"$f":"TEXT(Y249,\"ddd\")","v":"vr"},"MD",{"$f":"IFERROR(HLOOKUP(Y249,[1]DATA!$A$1:$NB$5,4,0),\"\")","v":"D1"},0,null,14,362,39,-87.937499999999943,0.79827956989247317,0.90826407401599496]
["12vrND",{"$f":"VLOOKUP($AA251,DATA!$B$3:$E$6,2,0)","v":"22:30:00"},{"$f":"VLOOKUP($AA251,DATA!$B$3:$E$6,3,0)","v":"06:30:00"},{"$f":"VLOOKUP($AA251,DATA!$B$3:$E$6,4,0)","v":3.125E-2},0.30208333333333326,0.30208333333333326,{"$f":"DATA!$C$9","v":0.89},{"$f":"DATA!$C$10","v":64},1,407.81249999999989,407.81249999999989,0,"","",0,"","",0,"","","","",null,{"$f":"X247","v":12},null,{"$f":"TEXT(Y249,\"ddd\")","v":"vr"},"ND",{"$f":"IFERROR(HLOOKUP(Y249,[1]DATA!$A$1:$NB$5,5,0),\"\")","v":"-"},null,null,null,null,0,"","",""]
["12zaDD",{"$f":"VLOOKUP($AA252,DATA!$B$3:$E$6,2,0)","v":"06:30:00"},{"$f":"VLOOKUP($AA252,DATA!$B$3:$E$6,3,0)","v":"14:30:00"},{"$f":"VLOOKUP($AA252,DATA!$B$3:$E$6,4,0)","v":3.125E-2},0.30208333333333331,0.30208333333333331,{"$f":"DATA!$C$9","v":0.89},{"$f":"DATA!$C$10","v":64},1,407.8125,407.8125,0,"","",0,"","",0,"","","","",null,{"$f":"X247","v":12},{"$f":"Y249+1","v":"2018-03-24"},{"$f":"TEXT(Y252,\"ddd\")","v":"za"},"DD",{"$f":"IFERROR(HLOOKUP(Y252,[1]DATA!$A$1:$NB$5,3,0),\"\")","v":"-"},null,null,null,null,0,"","",""]
["12zaMD",{"$f":"VLOOKUP($AA253,DATA!$B$3:$E$6,2,0)","v":"14:30:00"},{"$f":"VLOOKUP($AA253,DATA!$B$3:$E$6,3,0)","v":"22:30:00"},{"$f":"VLOOKUP($AA253,DATA!$B$3:$E$6,4,0)","v":3.125E-2},0.30208333333333337,0.30208333333333337,{"$f":"DATA!$C$9","v":0.89},{"$f":"DATA!$C$10","v":64},1,407.81250000000006,407.81250000000006,0,"","",0,"","",0,"","","","",null,{"$f":"X247","v":12},null,{"$f":"TEXT(Y252,\"ddd\")","v":"za"},"MD",{"$f":"IFERROR(HLOOKUP(Y252,[1]DATA!$A$1:$NB$5,4,0),\"\")","v":"-"},null,null,null,null,0,"","",""]
["12zaND",{"$f":"VLOOKUP($AA254,DATA!$B$3:$E$6,2,0)","v":"22:30:00"},{"$f":"VLOOKUP($AA254,DATA!$B$3:$E$6,3,0)","v":"06:30:00"},{"$f":"VLOOKUP($AA254,DATA!$B$3:$E$6,4,0)","v":3.125E-2},0.30208333333333326,0.30208333333333326,{"$f":"DATA!$C$9","v":0.89},{"$f":"DATA!$C$10","v":64},1,407.81249999999989,407.81249999999989,0,"","",0,"","",0,"","","","",null,{"$f":"X247","v":12},null,{"$f":"TEXT(Y252,\"ddd\")","v":"za"},"ND",{"$f":"IFERROR(HLOOKUP(Y252,[1]DATA!$A$1:$NB$5,5,0),\"\")","v":"-"},null,null,null,null,0,"","",""]
["12zoDD",{"$f":"VLOOKUP($AA255,DATA!$B$3:$E$6,2,0)","v":"06:30:00"},{"$f":"VLOOKUP($AA255,DATA!$B$3:$E$6,3,0)","v":"14:30:00"},{"$f":"VLOOKUP($AA255,DATA!$B$3:$E$6,4,0)","v":3.125E-2},0.30208333333333331,0.30208333333333331,{"$f":"DATA!$C$9","v":0.89},{"$f":"DATA!$C$10","v":64},1,407.8125,407.8125,0,"","",0,"","",0,"","","","",null,{"$f":"X247","v":12},{"$f":"Y252+1","v":"2018-03-25"},{"$f":"TEXT(Y255,\"ddd\")","v":"zo"},"DD",{"$f":"IFERROR(HLOOKUP(Y255,[1]DATA!$A$1:$NB$5,3,0),\"\")","v":"-"},null,null,null,null,0,"","",""]
["12zoMD",{"$f":"VLOOKUP($AA256,DATA!$B$3:$E$6,2,0)","v":"14:30:00"},{"$f":"VLOOKUP($AA256,DATA!$B$3:$E$6,3,0)","v":"22:30:00"},{"$f":"VLOOKUP($AA256,DATA!$B$3:$E$6,4,0)","v":3.125E-2},0.30208333333333337,0.30208333333333337,{"$f":"DATA!$C$9","v":0.89},{"$f":"DATA!$C$10","v":64},1,407.81250000000006,407.81250000000006,0,"","",0,"","",0,"","","","",null,{"$f":"X247","v":12},null,{"$f":"TEXT(Y255,\"ddd\")","v":"zo"},"MD",{"$f":"IFERROR(HLOOKUP(Y255,[1]DATA!$A$1:$NB$5,4,0),\"\")","v":"-"},null,null,null,null,0,"","",""]
["12zoZND",{"$f":"VLOOKUP($AA257,DATA!$B$3:$E$6,2,0)","v":"00:00:00"},{"$f":"VLOOKUP($AA257,DATA!$B$3:$E$6,3,0)","v":"00:00:00"},{"$f":"VLOOKUP($AA257,DATA!$B$3:$E$6,4,0)","v":0},0,0,{"$f":"DATA!$C$9","v":0.89},{"$f":"DATA!$C$10","v":64},1,0,0,0,"","",0,"","",0,"","","","",null,{"$f":"X247","v":12},null,{"$f":"TEXT(Y255,\"ddd\")","v":"zo"},"ZND",{"$f":"IFERROR(HLOOKUP(Y255,[1]DATA!$A$1:$NB$5,5,0),\"\")","v":"D2"},null,null,null,null,0,"","",""]
["13maDD",{"$f":"VLOOKUP($AA258,DATA!$B$3:$E$6,2,0)","v":"06:30:00"},{"$f":"VLOOKUP($AA258,DATA!$B$3:$E$6,3,0)","v":"14:30:00"},{"$f":"VLOOKUP($AA258,DATA!$B$3:$E$6,4,0)","v":3.125E-2},0.30208333333333331,0.30208333333333331,{"$f":"DATA!$C$9","v":0.89},{"$f":"DATA!$C$10","v":64},1,407.8125,407.8125,0,"","",{"$f":"TIME(INT($AD258/60),INT(MOD($AD258,60)/1),0)","v":0},"","",339.2,318,318,"","",null,{"$f":"X268","v":13},{"$f":"Y255+1","v":"2018-03-26"},{"$f":"TEXT(Y258,\"ddd\")","v":"ma"},"DD",{"$f":"IFERROR(HLOOKUP(Y258,[1]DATA!$A$1:$NB$5,3,0),\"\")","v":"D1"},null,null,null,318,32,-117.9375,0.72946236559139788,0.91379310344827591,4359.375,3290,0.7546953405017921,"0",0,0,0,0.93459964656364503,0.93710098699899969,"",0.93209830612829037,1069.375,0.2453046594982079,1140.6666666666667,249]
["13maMD",{"$f":"VLOOKUP($AA259,DATA!$B$3:$E$6,2,0)","v":"14:30:00"},{"$f":"VLOOKUP($AA259,DATA!$B$3:$E$6,3,0)","v":"22:30:00"},{"$f":"VLOOKUP($AA259,DATA!$B$3:$E$6,4,0)","v":3.125E-2},0.30208333333333337,0.30208333333333337,{"$f":"DATA!$C$9","v":0.89},{"$f":"DATA!$C$10","v":64},1,407.81250000000006,407.81250000000006,0,"","",{"$f":"TIME(INT(AD259/60),INT(MOD(AD259,60)/1),0)","v":0},"","",323.2,303,"","",303,null,{"$f":"X268","v":13},null,{"$f":"TEXT(Y258,\"ddd\")","v":"ma"},"MD",{"$f":"IFERROR(HLOOKUP(Y258,[1]DATA!$A$1:$NB$5,4,0),\"\")","v":"D3"},null,null,null,303,15,-132.93749999999994,0.69505376344086034,0.9556475458308693]
["13maND",{"$f":"VLOOKUP($AA260,DATA!$B$3:$E$6,2,0)","v":"22:30:00"},{"$f":"VLOOKUP($AA260,DATA!$B$3:$E$6,3,0)","v":"06:30:00"},{"$f":"VLOOKUP($AA260,DATA!$B$3:$E$6,4,0)","v":3.125E-2},0.30208333333333326,0.30208333333333326,{"$f":"DATA!$C$9","v":0.89},{"$f":"DATA!$C$10","v":64},1,407.81249999999989,407.81249999999989,0,"","",0,"","",0,"","","","",null,{"$f":"X268","v":13},null,{"$f":"TEXT(Y258,\"ddd\")","v":"ma"},"ND",{"$f":"IFERROR(HLOOKUP(Y258,[1]DATA!$A$1:$NB$5,5,0),\"\")","v":"D2"},null,null,null,null,0,"","",""]
["13diDD",{"$f":"VLOOKUP($AA261,DATA!$B$3:$E$6,2,0)","v":"06:30:00"},{"$f":"VLOOKUP($AA261,DATA!$B$3:$E$6,3,0)","v":"14:30:00"},{"$f":"VLOOKUP($AA261,DATA!$B$3:$E$6,4,0)","v":3.125E-2},0.30208333333333331,0.30208333333333331,{"$f":"DATA!$C$9","v":0.89},{"$f":"DATA!$C$10","v":64},1,407.8125,407.8125,0,"","",0,"","",333.86666666666667,313,313,"","",null,{"$f":"X268","v":13},{"$f":"Y258+1","v":"2018-03-27"},{"$f":"TEXT(Y261,\"ddd\")","v":"di"},"DD",{"$f":"IFERROR(HLOOKUP(Y261,[1]DATA!$A$1:$NB$5,3,0),\"\")","v":"D1"},null,null,null,313,6,-122.9375,0.71799283154121862,0.98234601804629262]
["13diMD",{"$f":"VLOOKUP($AA262,DATA!$B$3:$E$6,2,0)","v":"14:30:00"},{"$f":"VLOOKUP($AA262,DATA!$B$3:$E$6,3,0)","v":"22:30:00"},{"$f":"VLOOKUP($AA262,DATA!$B$3:$E$6,4,0)","v":3.125E-2},0.30208333333333337,0.30208333333333337,{"$f":"DATA!$C$9","v":0.89},{"$f":"DATA!$C$10","v":64},1,{"$f":"F262*86400/H262*I262","v":407.81250000000006},{"$f":"E262*86400/H262","v":407.81250000000006},0,"","",0,"","",{"$f":"AF262*AG$2","v":384},{"$f":"IF(AF262-AE262=0,\"\",AF262-AE262)","v":360},"","",360,null,{"$f":"X268","v":13},null,{"$f":"TEXT(Y261,\"ddd\")","v":"di"},"MD",{"$f":"IFERROR(HLOOKUP(Y261,[1]DATA!$A$1:$NB$5,4,0),\"\")","v":"D3"},null,null,null,360,0,-75.937499999999943,0.82580645161290334,1]
["13diND",{"$f":"VLOOKUP($AA263,DATA!$B$3:$E$6,2,0)","v":"22:30:00"},{"$f":"VLOOKUP($AA263,DATA!$B$3:$E$6,3,0)","v":"06:30:00"},{"$f":"VLOOKUP($AA263,DATA!$B$3:$E$6,4,0)","v":3.125E-2},0.30208333333333326,0.30208333333333326,{"$f":"DATA!$C$9","v":0.89},{"$f":"DATA!$C$10","v":64},1,407.81249999999989,407.81249999999989,{"$f":"TIME(INT($AC263/60),INT(MOD($AC263,60)/1),0)","v":0},{"$f":"IF($L263*86400/$H263=0,\"\",$L263*86400/$H263)","v":""},{"$f":"IFERROR($M263/$K263,\"\")","v":""},0,"",{"$f":"IFERROR($P263/$K263,\"\")","v":""},0,"",{"$f":"IF(IF($AB263=\"D1\",$S263,\"\")=0,\"\",IF($AB263=\"D1\",$S263,\"\"))","v":""},{"$f":"IF(IF($AB263=\"D2\",$S263,\"\")=0,\"\",IF($AB263=\"D2\",$S263,\"\"))","v":""},{"$f":"IF(IF($AB263=\"D3\",$S263,\"\")=0,\"\",IF($AB263=\"D3\",$S263,\"\"))","v":""},null,{"$f":"X268","v":13},null,{"$f":"TEXT(Y261,\"ddd\")","v":"di"},"ND",{"$f":"IFERROR(HLOOKUP(Y261,[1]DATA!$A$1:$NB$5,5,0),\"\")","v":"D2"},null,null,null,null,0,"","",""]
["13woDD",{"$f":"VLOOKUP($AA264,DATA!$B$3:$E$6,2,0)","v":"06:30:00"},{"$f":"VLOOKUP($AA264,DATA!$B$3:$E$6,3,0)","v":"14:30:00"},{"$f":"VLOOKUP($AA264,DATA!$B$3:$E$6,4,0)","v":3.125E-2},0.30208333333333331,0.30208333333333331,{"$f":"DATA!$C$9","v":0.89},{"$f":"DATA!$C$10","v":64},1,407.8125,407.8125,0,"","",0,"","",336,315,315,"","",null,{"$f":"X268","v":13},{"$f":"Y261+1","v":"2018-03-28"},{"$f":"TEXT(Y264,\"ddd\")","v":"wo"},"DD",{"$f":"IFERROR(HLOOKUP(Y264,[1]DATA!$A$1:$NB$5,3,0),\"\")","v":"D1"},null,null,null,315,42,-120.9375,0.72258064516129028,0.88888888888888884]
["13woMD",{"$f":"VLOOKUP($AA265,DATA!$B$3:$E$6,2,0)","v":"14:30:00"},{"$f":"VLOOKUP($AA265,DATA!$B$3:$E$6,3,0)","v":"22:30:00"},{"$f":"VLOOKUP($AA265,DATA!$B$3:$E$6,4,0)","v":3.125E-2},0.30208333333333337,0.30208333333333337,{"$f":"DATA!$C$9","v":0.89},{"$f":"DATA!$C$10","v":64},1,407.81250000000006,407.81250000000006,0,"","",0,"","",302.93333333333334,284,"","",284,null,{"$f":"X268","v":13},null,{"$f":"TEXT(Y264,\"ddd\")","v":"wo"},"MD",{"$f":"IFERROR(HLOOKUP(Y264,[1]DATA!$A$1:$NB$5,4,0),\"\")","v":"D3"},null,null,null,284,24,-151.93749999999994,0.65146953405017927,0.92659053833605221]
["13woND",{"$f":"VLOOKUP($AA266,DATA!$B$3:$E$6,2,0)","v":"22:30:00"},{"$f":"VLOOKUP($AA266,DATA!$B$3:$E$6,3,0)","v":"06:30:00"},{"$f":"VLOOKUP($AA266,DATA!$B$3:$E$6,4,0)","v":3.125E-2},0.30208333333333326,0.30208333333333326,{"$f":"DATA!$C$9","v":0.89},{"$f":"DATA!$C$10","v":64},1,407.81249999999989,407.81249999999989,0,"","",0,"","",0,"","","","",null,{"$f":"X268","v":13},null,{"$f":"TEXT(Y264,\"ddd\")","v":"wo"},"ND",{"$f":"IFERROR(HLOOKUP(Y264,[1]DATA!$A$1:$NB$5,5,0),\"\")","v":"D2"},null,null,null,null,0,"","",""]
["13doDD",{"$f":"VLOOKUP($AA267,DATA!$B$3:$E$6,2,0)","v":"06:30:00"},{"$f":"VLOOKUP($AA267,DATA!$B$3:$E$6,3,0)","v":"14:30:00"},{"$f":"VLOOKUP($AA267,DATA!$B$3:$E$6,4,0)","v":3.125E-2},0.30208333333333331,0.30208333333333331,{"$f":"DATA!$C$9","v":0.89},{"$f":"DATA!$C$10","v":64},1,407.8125,407.8125,0,"","",0,"","",404.26666666666665,379,379,"","",null,{"$f":"X268","v":13},{"$f":"Y264+1","v":"2018-03-29"},{"$f":"TEXT(Y267,\"ddd\")","v":"do"},"DD",{"$f":"IFERROR(HLOOKUP(Y267,[1]DATA!$A$1:$NB$5,3,0),\"\")","v":"D1"},null,null,null,379,15,-56.9375,0.86939068100358419,0.9642232469391]
["13doMD",{"$f":"VLOOKUP($AA268,DATA!$B$3:$E$6,2,0)","v":"14:30:00"},{"$f":"VLOOKUP($AA268,DATA!$B$3:$E$6,3,0)","v":"22:30:00"},{"$f":"VLOOKUP($AA268,DATA!$B$3:$E$6,4,0)","v":3.125E-2},0.30208333333333337,0.30208333333333337,{"$f":"DATA!$C$9","v":0.89},{"$f":"DATA!$C$10","v":64},1,407.81250000000006,407.81250000000006,0,"","",0,"","",352,330,"","",330,null,{"$f":"WEEKNUM($Y258)","v":13},null,{"$f":"TEXT(Y267,\"ddd\")","v":"do"},"MD",{"$f":"IFERROR(HLOOKUP(Y267,[1]DATA!$A$1:$NB$5,4,0),\"\")","v":"D3"},null,null,null,330,29,-105.93749999999994,0.75698924731182804,0.92388451443569553]
["13doND",{"$f":"VLOOKUP($AA269,DATA!$B$3:$E$6,2,0)","v":"22:30:00"},{"$f":"VLOOKUP($AA269,DATA!$B$3:$E$6,3,0)","v":"06:30:00"},{"$f":"VLOOKUP($AA269,DATA!$B$3:$E$6,4,0)","v":3.125E-2},0.30208333333333326,0.30208333333333326,{"$f":"DATA!$C$9","v":0.89},{"$f":"DATA!$C$10","v":64},1,407.81249999999989,407.81249999999989,0,"","",0,"","",0,"","","","",null,{"$f":"X268","v":13},null,{"$f":"TEXT(Y267,\"ddd\")","v":"do"},"ND",{"$f":"IFERROR(HLOOKUP(Y267,[1]DATA!$A$1:$NB$5,5,0),\"\")","v":"D2"},null,null,null,null,0,"","",""]
["13vrDD",{"$f":"VLOOKUP($AA270,DATA!$B$3:$E$6,2,0)","v":"06:30:00"},{"$f":"VLOOKUP($AA270,DATA!$B$3:$E$6,3,0)","v":"14:30:00"},{"$f":"VLOOKUP($AA270,DATA!$B$3:$E$6,4,0)","v":3.125E-2},0.30208333333333331,0.30208333333333331,{"$f":"DATA!$C$9","v":0.89},{"$f":"DATA!$C$10","v":64},1,407.8125,407.8125,0,"","",0,"","",381.86666666666667,358,358,"","",null,{"$f":"X268","v":13},{"$f":"Y267+1","v":"2018-03-30"},{"$f":"TEXT(Y270,\"ddd\")","v":"vr"},"DD",{"$f":"IFERROR(HLOOKUP(Y270,[1]DATA!$A$1:$NB$5,3,0),\"\")","v":"D1"},null,null,null,358,26,-77.9375,0.82121863799283157,0.93625367767244194]
["13vrMD",{"$f":"VLOOKUP($AA271,DATA!$B$3:$E$6,2,0)","v":"14:30:00"},{"$f":"VLOOKUP($AA271,DATA!$B$3:$E$6,3,0)","v":"22:30:00"},{"$f":"VLOOKUP($AA271,DATA!$B$3:$E$6,4,0)","v":3.125E-2},0.30208333333333337,0.30208333333333337,{"$f":"DATA!$C$9","v":0.89},{"$f":"DATA!$C$10","v":64},1,407.81250000000006,407.81250000000006,0,"","",0,"","",352,330,"","",330,null,{"$f":"X268","v":13},null,{"$f":"TEXT(Y270,\"ddd\")","v":"vr"},"MD",{"$f":"IFERROR(HLOOKUP(Y270,[1]DATA!$A$1:$NB$5,4,0),\"\")","v":"D3"},null,null,null,330,60,-105.93749999999994,0.75698924731182804,0.85436893203883491]
["13vrND",{"$f":"VLOOKUP($AA272,DATA!$B$3:$E$6,2,0)","v":"22:30:00"},{"$f":"VLOOKUP($AA272,DATA!$B$3:$E$6,3,0)","v":"06:30:00"},{"$f":"VLOOKUP($AA272,DATA!$B$3:$E$6,4,0)","v":3.125E-2},0.30208333333333326,0.30208333333333326,{"$f":"DATA!$C$9","v":0.89},{"$f":"DATA!$C$10","v":64},1,407.81249999999989,407.81249999999989,0,"","",0,"","",0,"","","","",null,{"$f":"X268","v":13},null,{"$f":"TEXT(Y270,\"ddd\")","v":"vr"},"ND",{"$f":"IFERROR(HLOOKUP(Y270,[1]DATA!$A$1:$NB$5,5,0),\"\")","v":"-"},null,null,null,null,0,"","",""]
["13zaDD",{"$f":"VLOOKUP($AA273,DATA!$B$3:$E$6,2,0)","v":"06:30:00"},{"$f":"VLOOKUP($AA273,DATA!$B$3:$E$6,3,0)","v":"14:30:00"},{"$f":"VLOOKUP($AA273,DATA!$B$3:$E$6,4,0)","v":3.125E-2},0.30208333333333331,0.30208333333333331,{"$f":"DATA!$C$9","v":0.89},{"$f":"DATA!$C$10","v":64},1,407.8125,407.8125,0,"","",0,"","",0,"","","","",null,{"$f":"X268","v":13},{"$f":"Y270+1","v":"2018-03-31"},{"$f":"TEXT(Y273,\"ddd\")","v":"za"},"DD",{"$f":"IFERROR(HLOOKUP(Y273,[1]DATA!$A$1:$NB$5,3,0),\"\")","v":"-"},null,null,null,null,0,"","",""]
["13zaMD",{"$f":"VLOOKUP($AA274,DATA!$B$3:$E$6,2,0)","v":"14:30:00"},{"$f":"VLOOKUP($AA274,DATA!$B$3:$E$6,3,0)","v":"22:30:00"},{"$f":"VLOOKUP($AA274,DATA!$B$3:$E$6,4,0)","v":3.125E-2},0.30208333333333337,0.30208333333333337,{"$f":"DATA!$C$9","v":0.89},{"$f":"DATA!$C$10","v":64},1,407.81250000000006,407.81250000000006,0,"","",0,"","",0,"","","","",null,{"$f":"X268","v":13},null,{"$f":"TEXT(Y273,\"ddd\")","v":"za"},"MD",{"$f":"IFERROR(HLOOKUP(Y273,[1]DATA!$A$1:$NB$5,4,0),\"\")","v":"-"},null,null,null,null,0,"","",""]
["13zaND",{"$f":"VLOOKUP($AA275,DATA!$B$3:$E$6,2,0)","v":"22:30:00"},{"$f":"VLOOKUP($AA275,DATA!$B$3:$E$6,3,0)","v":"06:30:00"},{"$f":"VLOOKUP($AA275,DATA!$B$3:$E$6,4,0)","v":3.125E-2},0.30208333333333326,0.30208333333333326,{"$f":"DATA!$C$9","v":0.89},{"$f":"DATA!$C$10","v":64},1,407.81249999999989,407.81249999999989,0,"","",0,"","",0,"","","","",null,{"$f":"X268","v":13},null,{"$f":"TEXT(Y273,\"ddd\")","v":"za"},"ND",{"$f":"IFERROR(HLOOKUP(Y273,[1]DATA!$A$1:$NB$5,5,0),\"\")","v":"-"},null,null,null,null,0,"","",""]
["13zoDD",{"$f":"VLOOKUP($AA276,DATA!$B$3:$E$6,2,0)","v":"06:30:00"},{"$f":"VLOOKUP($AA276,DATA!$B$3:$E$6,3,0)","v":"14:30:00"},{"$f":"VLOOKUP($AA276,DATA!$B$3:$E$6,4,0)","v":3.125E-2},0.30208333333333331,0.30208333333333331,{"$f":"DATA!$C$9","v":0.89},{"$f":"DATA!$C$10","v":64},1,407.8125,407.8125,0,"","",0,"","",0,"","","","",null,{"$f":"X268","v":13},{"$f":"Y273+1","v":"2018-04-01"},{"$f":"TEXT(Y276,\"ddd\")","v":"zo"},"DD",{"$f":"IFERROR(HLOOKUP(Y276,[1]DATA!$A$1:$NB$5,3,0),\"\")","v":"-"},null,null,null,null,0,"","",""]
["13zoMD",{"$f":"VLOOKUP($AA277,DATA!$B$3:$E$6,2,0)","v":"14:30:00"},{"$f":"VLOOKUP($AA277,DATA!$B$3:$E$6,3,0)","v":"22:30:00"},{"$f":"VLOOKUP($AA277,DATA!$B$3:$E$6,4,0)","v":3.125E-2},0.30208333333333337,0.30208333333333337,{"$f":"DATA!$C$9","v":0.89},{"$f":"DATA!$C$10","v":64},1,407.81250000000006,407.81250000000006,0,"","",0,"","",0,"","","","",null,{"$f":"X268","v":13},null,{"$f":"TEXT(Y276,\"ddd\")","v":"zo"},"MD",{"$f":"IFERROR(HLOOKUP(Y276,[1]DATA!$A$1:$NB$5,4,0),\"\")","v":"-"},null,null,null,null,0,"","",""]
["13zoZND",{"$f":"VLOOKUP($AA278,DATA!$B$3:$E$6,2,0)","v":"00:00:00"},{"$f":"VLOOKUP($AA278,DATA!$B$3:$E$6,3,0)","v":"00:00:00"},{"$f":"VLOOKUP($AA278,DATA!$B$3:$E$6,4,0)","v":0},0,0,{"$f":"DATA!$C$9","v":0.89},{"$f":"DATA!$C$10","v":64},1,0,0,0,"","",0,"","",0,"","","","",null,{"$f":"X268","v":13},null,{"$f":"TEXT(Y276,\"ddd\")","v":"zo"},"ZND",{"$f":"IFERROR(HLOOKUP(Y276,[1]DATA!$A$1:$NB$5,5,0),\"\")","v":"-"},null,null,null,null,0,"","",""]
["14maDD",{"$f":"VLOOKUP($AA279,DATA!$B$3:$E$6,2,0)","v":"06:30:00"},{"$f":"VLOOKUP($AA279,DATA!$B$3:$E$6,3,0)","v":"14:30:00"},{"$f":"VLOOKUP($AA279,DATA!$B$3:$E$6,4,0)","v":3.125E-2},0.30208333333333331,0.30208333333333331,{"$f":"DATA!$C$9","v":0.89},{"$f":"DATA!$C$10","v":64},1,407.8125,407.8125,0,"","",{"$f":"TIME(INT($AD279/60),INT(MOD($AD279,60)/1),0)","v":0},"","",0,"","","","",null,{"$f":"X289","v":14},{"$f":"Y276+1","v":"2018-04-02"},{"$f":"TEXT(Y279,\"ddd\")","v":"ma"},"DD",{"$f":"IFERROR(HLOOKUP(Y279,[1]DATA!$A$1:$NB$5,3,0),\"\")","v":"D3"},null,null,null,0,0,"","","",3487.5,2442,0.70021505376344084,300.9375,8.629032258064516E-2,0,0,0.93470956398516503,"",0.91045384479243552,0.95896528317789476,744.5625,0.21349462365591398,794.2,195]
["14maMD",{"$f":"VLOOKUP($AA280,DATA!$B$3:$E$6,2,0)","v":"14:30:00"},{"$f":"VLOOKUP($AA280,DATA!$B$3:$E$6,3,0)","v":"22:30:00"},{"$f":"VLOOKUP($AA280,DATA!$B$3:$E$6,4,0)","v":3.125E-2},0.30208333333333337,0.30208333333333337,{"$f":"DATA!$C$9","v":0.89},{"$f":"DATA!$C$10","v":64},1,407.81250000000006,407.81250000000006,0,"","",{"$f":"TIME(INT(AD280/60),INT(MOD(AD280,60)/1),0)","v":0},"","",0,"","","","",null,{"$f":"X289","v":14},null,{"$f":"TEXT(Y279,\"ddd\")","v":"ma"},"MD",{"$f":"IFERROR(HLOOKUP(Y279,[1]DATA!$A$1:$NB$5,4,0),\"\")","v":"D2"},null,null,null,0,0,"","",""]
["14maND",{"$f":"VLOOKUP($AA281,DATA!$B$3:$E$6,2,0)","v":"22:30:00"},{"$f":"VLOOKUP($AA281,DATA!$B$3:$E$6,3,0)","v":"06:30:00"},{"$f":"VLOOKUP($AA281,DATA!$B$3:$E$6,4,0)","v":3.125E-2},0.30208333333333326,0.30208333333333326,{"$f":"DATA!$C$9","v":0.89},{"$f":"DATA!$C$10","v":64},1,407.81249999999989,407.81249999999989,0,"","",0,"","",0,"","","","",null,{"$f":"X289","v":14},null,{"$f":"TEXT(Y279,\"ddd\")","v":"ma"},"ND",{"$f":"IFERROR(HLOOKUP(Y279,[1]DATA!$A$1:$NB$5,5,0),\"\")","v":"D1"},null,null,null,null,0,"","",""]
["14diDD",{"$f":"VLOOKUP($AA282,DATA!$B$3:$E$6,2,0)","v":"06:30:00"},{"$f":"VLOOKUP($AA282,DATA!$B$3:$E$6,3,0)","v":"14:30:00"},{"$f":"VLOOKUP($AA282,DATA!$B$3:$E$6,4,0)","v":3.125E-2},0.30208333333333331,0.2631944444444444,{"$f":"DATA!$C$9","v":0.89},{"$f":"DATA!$C$10","v":64},1,355.31249999999994,407.8125,3.888888888888889E-2,52.5,0.12873563218390804,0,"","",310.39999999999998,270,"","",270,null,{"$f":"X289","v":14},{"$f":"Y279+1","v":"2018-04-03"},{"$f":"TEXT(Y282,\"ddd\")","v":"di"},"DD",{"$f":"IFERROR(HLOOKUP(Y282,[1]DATA!$A$1:$NB$5,3,0),\"\")","v":"D3"},56,null,21,291,10,-113.4375,0.61935483870967745,0.96878901373283399]
["14diMD",{"$f":"VLOOKUP($AA283,DATA!$B$3:$E$6,2,0)","v":"14:30:00"},{"$f":"VLOOKUP($AA283,DATA!$B$3:$E$6,3,0)","v":"22:30:00"},{"$f":"VLOOKUP($AA283,DATA!$B$3:$E$6,4,0)","v":3.125E-2},0.30208333333333337,0.29236111111111113,{"$f":"DATA!$C$9","v":0.89},{"$f":"DATA!$C$10","v":64},1,394.6875,407.81250000000006,9.7222222222222224E-3,13.125,3.2183908045977004E-2,0,"","",300.8,265,"",265,"",null,{"$f":"X289","v":14},null,{"$f":"TEXT(Y282,\"ddd\")","v":"di"},"MD",{"$f":"IFERROR(HLOOKUP(Y282,[1]DATA!$A$1:$NB$5,4,0),\"\")","v":"D2"},14,null,17,282,46,-157.81249999999994,0.6078853046594983,0.86735870818915806]
["14diND",{"$f":"VLOOKUP($AA284,DATA!$B$3:$E$6,2,0)","v":"22:30:00"},{"$f":"VLOOKUP($AA284,DATA!$B$3:$E$6,3,0)","v":"06:30:00"},{"$f":"VLOOKUP($AA284,DATA!$B$3:$E$6,4,0)","v":3.125E-2},{"$f":"(C284-B284+(B284>C284))-D284","v":0.30208333333333326},{"$f":"E284-O284-L284","v":0.30208333333333326},{"$f":"DATA!$C$9","v":0.89},{"$f":"DATA!$C$10","v":64},1,407.81249999999989,407.81249999999989,0,"","",0,"","",0,"","","","",null,{"$f":"X289","v":14},null,{"$f":"TEXT(Y282,\"ddd\")","v":"di"},"ND",{"$f":"IFERROR(HLOOKUP(Y282,[1]DATA!$A$1:$NB$5,5,0),\"\")","v":"D1"},null,null,null,null,0,"","",""]
["14woDD",{"$f":"VLOOKUP($AA285,DATA!$B$3:$E$6,2,0)","v":"06:30:00"},{"$f":"VLOOKUP($AA285,DATA!$B$3:$E$6,3,0)","v":"14:30:00"},{"$f":"VLOOKUP($AA285,DATA!$B$3:$E$6,4,0)","v":3.125E-2},0.30208333333333331,0.2673611111111111,{"$f":"DATA!$C$9","v":0.89},{"$f":"DATA!$C$10","v":64},1,360.9375,407.8125,3.4722222222222224E-2,46.875,0.11494252873563218,0,"","",393.6,337,"","",337,null,{"$f":"X289","v":14},{"$f":"Y282+1","v":"2018-04-04"},{"$f":"TEXT(Y285,\"ddd\")","v":"wo"},"DD",{"$f":"IFERROR(HLOOKUP(Y285,[1]DATA!$A$1:$NB$5,3,0),\"\")","v":"D3"},50,null,32,369,20,-52.062500000000057,0.77304659498207884,0.95164410058027082]
["14woMD",{"$f":"VLOOKUP($AA286,DATA!$B$3:$E$6,2,0)","v":"14:30:00"},{"$f":"VLOOKUP($AA286,DATA!$B$3:$E$6,3,0)","v":"22:30:00"},{"$f":"VLOOKUP($AA286,DATA!$B$3:$E$6,4,0)","v":3.125E-2},0.30208333333333337,0.2902777777777778,{"$f":"DATA!$C$9","v":0.89},{"$f":"DATA!$C$10","v":64},1,391.87500000000006,407.81250000000006,1.1805555555555555E-2,15.9375,3.9080459770114935E-2,0,"","",368,309,"",309,"",null,{"$f":"X289","v":14},null,{"$f":"TEXT(Y285,\"ddd\")","v":"wo"},"MD",{"$f":"IFERROR(HLOOKUP(Y285,[1]DATA!$A$1:$NB$5,4,0),\"\")","v":"D2"},17,null,36,345,44,-110.99999999999994,0.70881720430107531,0.89320388349514568]
["14woND",{"$f":"VLOOKUP($AA287,DATA!$B$3:$E$6,2,0)","v":"22:30:00"},{"$f":"VLOOKUP($AA287,DATA!$B$3:$E$6,3,0)","v":"06:30:00"},{"$f":"VLOOKUP($AA287,DATA!$B$3:$E$6,4,0)","v":3.125E-2},0.30208333333333326,0.30208333333333326,{"$f":"DATA!$C$9","v":0.89},{"$f":"DATA!$C$10","v":64},1,407.81249999999989,407.81249999999989,0,"","",0,"","",0,"","","","",null,{"$f":"X289","v":14},null,{"$f":"TEXT(Y285,\"ddd\")","v":"wo"},"ND",{"$f":"IFERROR(HLOOKUP(Y285,[1]DATA!$A$1:$NB$5,5,0),\"\")","v":"D1"},null,null,null,null,0,"","",""]
["14doDD",{"$f":"VLOOKUP($AA288,DATA!$B$3:$E$6,2,0)","v":"06:30:00"},{"$f":"VLOOKUP($AA288,DATA!$B$3:$E$6,3,0)","v":"14:30:00"},{"$f":"VLOOKUP($AA288,DATA!$B$3:$E$6,4,0)","v":3.125E-2},0.30208333333333331,0.27569444444444441,{"$f":"DATA!$C$9","v":0.89},{"$f":"DATA!$C$10","v":64},1,372.18749999999994,407.8125,2.6388888888888889E-2,35.625,8.7356321839080459E-2,0,"","",365.86666666666667,325,"","",325,null,{"$f":"X289","v":14},{"$f":"Y285+1","v":"2018-04-05"},{"$f":"TEXT(Y288,\"ddd\")","v":"do"},"DD",{"$f":"IFERROR(HLOOKUP(Y288,[1]DATA!$A$1:$NB$5,3,0),\"\")","v":"D3"},38,null,18,343,5,-75.3125,0.74551971326164879,0.98651806579183898]
["14doMD",{"$f":"VLOOKUP($AA289,DATA!$B$3:$E$6,2,0)","v":"14:30:00"},{"$f":"VLOOKUP($AA289,DATA!$B$3:$E$6,3,0)","v":"22:30:00"},{"$f":"VLOOKUP($AA289,DATA!$B$3:$E$6,4,0)","v":3.125E-2},0.30208333333333337,0.26875000000000004,{"$f":"DATA!$C$9","v":0.89},{"$f":"DATA!$C$10","v":64},1,362.81250000000006,407.81250000000006,3.3333333333333333E-2,45,0.11034482758620688,0,"","",352,313,"",313,"",null,{"$f":"WEEKNUM($Y279)","v":14},null,{"$f":"TEXT(Y288,\"ddd\")","v":"do"},"MD",{"$f":"IFERROR(HLOOKUP(Y288,[1]DATA!$A$1:$NB$5,4,0),\"\")","v":"D2"},48,null,17,330,23,-77.937499999999943,0.71799283154121873,0.93866666666666665]
["14doND",{"$f":"VLOOKUP($AA290,DATA!$B$3:$E$6,2,0)","v":"22:30:00"},{"$f":"VLOOKUP($AA290,DATA!$B$3:$E$6,3,0)","v":"06:30:00"},{"$f":"VLOOKUP($AA290,DATA!$B$3:$E$6,4,0)","v":3.125E-2},0.30208333333333326,0.30208333333333326,{"$f":"DATA!$C$9","v":0.89},{"$f":"DATA!$C$10","v":64},1,407.81249999999989,407.81249999999989,0,"","",0,"","",0,"","","","",null,{"$f":"X289","v":14},null,{"$f":"TEXT(Y288,\"ddd\")","v":"do"},"ND",{"$f":"IFERROR(HLOOKUP(Y288,[1]DATA!$A$1:$NB$5,5,0),\"\")","v":"D1"},null,null,null,null,0,"","",""]
["14vrDD",{"$f":"VLOOKUP($AA291,DATA!$B$3:$E$6,2,0)","v":"06:30:00"},{"$f":"VLOOKUP($AA291,DATA!$B$3:$E$6,3,0)","v":"14:30:00"},{"$f":"VLOOKUP($AA291,DATA!$B$3:$E$6,4,0)","v":3.125E-2},0.30208333333333331,0.25555555555555554,{"$f":"DATA!$C$9","v":0.89},{"$f":"DATA!$C$10","v":64},1,345,407.8125,4.6527777777777779E-2,62.8125,0.15402298850574714,0,"","",313.60000000000002,284,"","",284,null,{"$f":"X289","v":14},{"$f":"Y288+1","v":"2018-04-06"},{"$f":"TEXT(Y291,\"ddd\")","v":"vr"},"DD",{"$f":"IFERROR(HLOOKUP(Y291,[1]DATA!$A$1:$NB$5,3,0),\"\")","v":"D3"},67,null,10,294,24,-89.125,0.65146953405017927,0.92890995260663511]
["14vrMD",{"$f":"VLOOKUP($AA292,DATA!$B$3:$E$6,2,0)","v":"14:30:00"},{"$f":"VLOOKUP($AA292,DATA!$B$3:$E$6,3,0)","v":"22:30:00"},{"$f":"VLOOKUP($AA292,DATA!$B$3:$E$6,4,0)","v":3.125E-2},0.30208333333333337,0.28055555555555561,{"$f":"DATA!$C$9","v":0.89},{"$f":"DATA!$C$10","v":64},1,378.75000000000006,407.81250000000006,2.1527777777777781E-2,29.062500000000004,7.1264367816091953E-2,0,"","",377.6,339,"",339,"",null,{"$f":"X289","v":14},null,{"$f":"TEXT(Y291,\"ddd\")","v":"vr"},"MD",{"$f":"IFERROR(HLOOKUP(Y291,[1]DATA!$A$1:$NB$5,4,0),\"\")","v":"D2"},31,null,15,354,23,-67.875,0.77763440860215061,0.9425861208187718]
["14vrND",{"$f":"VLOOKUP($AA293,DATA!$B$3:$E$6,2,0)","v":"22:30:00"},{"$f":"VLOOKUP($AA293,DATA!$B$3:$E$6,3,0)","v":"06:30:00"},{"$f":"VLOOKUP($AA293,DATA!$B$3:$E$6,4,0)","v":3.125E-2},0.30208333333333326,0.30208333333333326,{"$f":"DATA!$C$9","v":0.89},{"$f":"DATA!$C$10","v":64},1,407.81249999999989,407.81249999999989,0,"","",0,"","",0,"","","","",null,{"$f":"X289","v":14},null,{"$f":"TEXT(Y291,\"ddd\")","v":"vr"},"ND",{"$f":"IFERROR(HLOOKUP(Y291,[1]DATA!$A$1:$NB$5,5,0),\"\")","v":"D2"},null,null,null,null,0,"","",""]
["14zaDD",{"$f":"VLOOKUP($AA294,DATA!$B$3:$E$6,2,0)","v":"06:30:00"},{"$f":"VLOOKUP($AA294,DATA!$B$3:$E$6,3,0)","v":"14:30:00"},{"$f":"VLOOKUP($AA294,DATA!$B$3:$E$6,4,0)","v":3.125E-2},0.30208333333333331,0.30208333333333331,{"$f":"DATA!$C$9","v":0.89},{"$f":"DATA!$C$10","v":64},1,407.8125,407.8125,0,"","",0,"","",0,"","","","",null,{"$f":"X289","v":14},{"$f":"Y291+1","v":"2018-04-07"},{"$f":"TEXT(Y294,\"ddd\")","v":"za"},"DD",{"$f":"IFERROR(HLOOKUP(Y294,[1]DATA!$A$1:$NB$5,3,0),\"\")","v":"D3"},null,null,null,null,0,"","",""]
["14zaMD",{"$f":"VLOOKUP($AA295,DATA!$B$3:$E$6,2,0)","v":"14:30:00"},{"$f":"VLOOKUP($AA295,DATA!$B$3:$E$6,3,0)","v":"22:30:00"},{"$f":"VLOOKUP($AA295,DATA!$B$3:$E$6,4,0)","v":3.125E-2},0.30208333333333337,0.30208333333333337,{"$f":"DATA!$C$9","v":0.89},{"$f":"DATA!$C$10","v":64},1,407.81250000000006,407.81250000000006,0,"","",0,"","",0,"","","","",null,{"$f":"X289","v":14},null,{"$f":"TEXT(Y294,\"ddd\")","v":"za"},"MD",{"$f":"IFERROR(HLOOKUP(Y294,[1]DATA!$A$1:$NB$5,4,0),\"\")","v":"-"},null,null,null,null,0,"","",""]
["14zaND",{"$f":"VLOOKUP($AA296,DATA!$B$3:$E$6,2,0)","v":"22:30:00"},{"$f":"VLOOKUP($AA296,DATA!$B$3:$E$6,3,0)","v":"06:30:00"},{"$f":"VLOOKUP($AA296,DATA!$B$3:$E$6,4,0)","v":3.125E-2},0.30208333333333326,0.30208333333333326,{"$f":"DATA!$C$9","v":0.89},{"$f":"DATA!$C$10","v":64},1,407.81249999999989,407.81249999999989,0,"","",0,"","",0,"","","","",null,{"$f":"X289","v":14},null,{"$f":"TEXT(Y294,\"ddd\")","v":"za"},"ND",{"$f":"IFERROR(HLOOKUP(Y294,[1]DATA!$A$1:$NB$5,5,0),\"\")","v":"-"},null,null,null,null,0,"","",""]
["14zoDD",{"$f":"VLOOKUP($AA297,DATA!$B$3:$E$6,2,0)","v":"06:30:00"},{"$f":"VLOOKUP($AA297,DATA!$B$3:$E$6,3,0)","v":"14:30:00"},{"$f":"VLOOKUP($AA297,DATA!$B$3:$E$6,4,0)","v":3.125E-2},0.30208333333333331,0.30208333333333331,{"$f":"DATA!$C$9","v":0.89},{"$f":"DATA!$C$10","v":64},1,407.8125,407.8125,0,"","",0,"","",0,"","","","",null,{"$f":"X289","v":14},{"$f":"Y294+1","v":"2018-04-08"},{"$f":"TEXT(Y297,\"ddd\")","v":"zo"},"DD",{"$f":"IFERROR(HLOOKUP(Y297,[1]DATA!$A$1:$NB$5,3,0),\"\")","v":"-"},null,null,null,null,0,"","",""]
["14zoMD",{"$f":"VLOOKUP($AA298,DATA!$B$3:$E$6,2,0)","v":"14:30:00"},{"$f":"VLOOKUP($AA298,DATA!$B$3:$E$6,3,0)","v":"22:30:00"},{"$f":"VLOOKUP($AA298,DATA!$B$3:$E$6,4,0)","v":3.125E-2},0.30208333333333337,0.30208333333333337,{"$f":"DATA!$C$9","v":0.89},{"$f":"DATA!$C$10","v":64},1,407.81250000000006,407.81250000000006,0,"","",0,"","",0,"","","","",null,{"$f":"X289","v":14},null,{"$f":"TEXT(Y297,\"ddd\")","v":"zo"},"MD",{"$f":"IFERROR(HLOOKUP(Y297,[1]DATA!$A$1:$NB$5,4,0),\"\")","v":"-"},null,null,null,null,0,"","",""]
["14zoZND",{"$f":"VLOOKUP($AA299,DATA!$B$3:$E$6,2,0)","v":"00:00:00"},{"$f":"VLOOKUP($AA299,DATA!$B$3:$E$6,3,0)","v":"00:00:00"},{"$f":"VLOOKUP($AA299,DATA!$B$3:$E$6,4,0)","v":0},0,0,{"$f":"DATA!$C$9","v":0.89},{"$f":"DATA!$C$10","v":64},1,0,0,0,"","",0,"","",0,"","","","",null,{"$f":"X289","v":14},null,{"$f":"TEXT(Y297,\"ddd\")","v":"zo"},"ZND",{"$f":"IFERROR(HLOOKUP(Y297,[1]DATA!$A$1:$NB$5,5,0),\"\")","v":"-"},null,null,null,null,0,"","",""]
["15maDD",{"$f":"VLOOKUP($AA300,DATA!$B$3:$E$6,2,0)","v":"06:30:00"},{"$f":"VLOOKUP($AA300,DATA!$B$3:$E$6,3,0)","v":"14:30:00"},{"$f":"VLOOKUP($AA300,DATA!$B$3:$E$6,4,0)","v":3.125E-2},0.30208333333333331,0.28749999999999998,{"$f":"DATA!$C$9","v":0.89},{"$f":"DATA!$C$10","v":64},1,388.12499999999994,407.8125,1.4583333333333332E-2,19.687499999999996,4.827586206896551E-2,{"$f":"TIME(INT($AD300/60),INT(MOD($AD300,60)/1),0)","v":0},"","",291.2,254,"",254,"",null,{"$f":"X310","v":15},{"$f":"Y297+1","v":"2018-04-09"},{"$f":"TEXT(Y300,\"ddd\")","v":"ma"},"DD",{"$f":"IFERROR(HLOOKUP(Y300,[1]DATA!$A$1:$NB$5,3,0),\"\")","v":"D2"},21,null,19,273,{"$f":"VLOOKUP(Y300,[1]SRA!$S$4:$Z$368,2,0)","v":13},{"$f":"IFERROR(S300-J300,\"\")","v":-134.12499999999994},{"$f":"IFERROR(IF(S300/(E300*86400/H300)<=0,\"\",S300/(E300*86400/H300)),\"\")","v":0.6228352490421456},{"$f":"IFERROR(R300/(R300+AG300),\"\")","v":0.95726495726495731},{"$f":"IF(SUMIF(S300:S320,\">0\",K300:K320)=0,\"\",SUMIF(S300:S320,\">0\",K300:K320))","v":4078.125},{"$f":"IF(SUM(S300:S320)=0,\"\",SUM(S300:S320))","v":2939},{"$f":"IFERROR(AL300/AK300,\"-\")","v":0.72067432950191568},{"$f":"IF(SUM(M300:M320)=0,\"0\",SUM(M300:M320))","v":209.0625},{"$f":"IFERROR(AN300/AK300,\"-\")","v":5.1264367816091956E-2},{"$f":"IF(SUM(P300:P320)=0,0,SUM(P300:P320))","v":0},{"$f":"IFERROR(AP300/AK300,\"-\")","v":0},{"$f":"IFERROR(AVERAGE(AJ300:AJ320),\"-\")","v":0.82762433309395333},{"$f":"IFERROR(SUMIF($AB300:$AB320,AS$5,$AJ300:$AJ320)/COUNTIFS($AB300:$AB320,AS$5,$AJ300:$AJ320,\">0\"),\"\")","v":0.91870776575621771},0.90206576705047981,"",{"$f":"IFERROR((AK300-AL300-AN300-AP300),\"-\")","v":930.0625},{"$f":"IFERROR((1-AM300-AO300-AQ300), \"-\")","v":0.22806130268199237},{"$f":"IFERROR((AV300*$AE$2)/60,\"-\")","v":992.06666666666672},{"$f":"IFERROR(SUM(AG300:AG320),\"\")","v":352}]
["15maMD",{"$f":"VLOOKUP($AA301,DATA!$B$3:$E$6,2,0)","v":"14:30:00"},{"$f":"VLOOKUP($AA301,DATA!$B$3:$E$6,3,0)","v":"22:30:00"},{"$f":"VLOOKUP($AA301,DATA!$B$3:$E$6,4,0)","v":3.125E-2},0.30208333333333337,0.29513888888888895,{"$f":"DATA!$C$9","v":0.89},{"$f":"DATA!$C$10","v":64},1,398.43750000000006,407.81250000000006,6.9444444444444441E-3,9.375,2.2988505747126433E-2,{"$f":"TIME(INT(AD301/60),INT(MOD(AD301,60)/1),0)","v":0},"","",249.6,228,228,"","",null,{"$f":"X310","v":15},null,{"$f":"TEXT(Y300,\"ddd\")","v":"ma"},"MD",{"$f":"IFERROR(HLOOKUP(Y300,[1]DATA!$A$1:$NB$5,4,0),\"\")","v":"D1"},10,null,6,234,{"$f":"VLOOKUP(Y300,[1]SRA!$S$4:$Z$368,3,0)","v":64},-170.43750000000006,0.55908045977011489,0.79591836734693866]
["15maND",{"$f":"VLOOKUP($AA302,DATA!$B$3:$E$6,2,0)","v":"22:30:00"},{"$f":"VLOOKUP($AA302,DATA!$B$3:$E$6,3,0)","v":"06:30:00"},{"$f":"VLOOKUP($AA302,DATA!$B$3:$E$6,4,0)","v":3.125E-2},0.30208333333333326,0.30208333333333326,{"$f":"DATA!$C$9","v":0.89},{"$f":"DATA!$C$10","v":64},1,407.81249999999989,407.81249999999989,0,"","",0,"","",0,"","","","",null,{"$f":"X310","v":15},null,{"$f":"TEXT(Y300,\"ddd\")","v":"ma"},"ND",{"$f":"IFERROR(HLOOKUP(Y300,[1]DATA!$A$1:$NB$5,5,0),\"\")","v":"D3"},null,null,null,null,{"$f":"VLOOKUP(Y300,[1]SRA!$S$4:$Z$368,4,0)","v":25},"","",0]
["15diDD",{"$f":"VLOOKUP($AA303,DATA!$B$3:$E$6,2,0)","v":"06:30:00"},{"$f":"VLOOKUP($AA303,DATA!$B$3:$E$6,3,0)","v":"14:30:00"},{"$f":"VLOOKUP($AA303,DATA!$B$3:$E$6,4,0)","v":3.125E-2},0.30208333333333331,0.28819444444444442,{"$f":"DATA!$C$9","v":0.89},{"$f":"DATA!$C$10","v":64},1,389.06249999999994,407.8125,1.3888888888888888E-2,18.75,4.5977011494252873E-2,0,"","",389.33333333333331,330,"",330,"",null,{"$f":"X310","v":15},{"$f":"Y300+1","v":"2018-04-10"},{"$f":"TEXT(Y303,\"ddd\")","v":"di"},"DD",{"$f":"IFERROR(HLOOKUP(Y303,[1]DATA!$A$1:$NB$5,3,0),\"\")","v":"D2"},20,null,35,365,{"$f":"VLOOKUP(Y303,[1]SRA!$S$4:$Z$368,2,0)","v":17},-59.062499999999943,0.80919540229885056,0.95816242821985231]
[{"$f":"X304&Z304&AA304","v":"15diMD"},{"$f":"VLOOKUP($AA304,DATA!$B$3:$E$6,2,0)","v":"14:30:00"},{"$f":"VLOOKUP($AA304,DATA!$B$3:$E$6,3,0)","v":"22:30:00"},{"$f":"VLOOKUP($AA304,DATA!$B$3:$E$6,4,0)","v":3.125E-2},0.30208333333333337,0.30208333333333337,{"$f":"DATA!$C$9","v":0.89},{"$f":"DATA!$C$10","v":64},1,407.81250000000006,407.81250000000006,0,"","",0,{"$f":"IF($O304*86400/$H304=0,\"\",$O304*86400/$H304)","v":""},"",350.93333333333334,316,316,"","",null,{"$f":"X310","v":15},null,{"$f":"TEXT(Y303,\"ddd\")","v":"di"},"MD",{"$f":"IFERROR(HLOOKUP(Y303,[1]DATA!$A$1:$NB$5,4,0),\"\")","v":"D1"},0,null,13,329,{"$f":"VLOOKUP(Y303,[1]SRA!$S$4:$Z$368,3,0)","v":23},-91.812500000000057,0.77486590038314163,0.93849170975218399]
["15diND",{"$f":"VLOOKUP($AA305,DATA!$B$3:$E$6,2,0)","v":"22:30:00"},{"$f":"VLOOKUP($AA305,DATA!$B$3:$E$6,3,0)","v":"06:30:00"},{"$f":"VLOOKUP($AA305,DATA!$B$3:$E$6,4,0)","v":3.125E-2},0.30208333333333326,0.30208333333333326,{"$f":"DATA!$C$9","v":0.89},{"$f":"DATA!$C$10","v":64},1,407.81249999999989,407.81249999999989,0,"","",0,"","",0,"","","","",null,{"$f":"X310","v":15},null,{"$f":"TEXT(Y303,\"ddd\")","v":"di"},"ND",{"$f":"IFERROR(HLOOKUP(Y303,[1]DATA!$A$1:$NB$5,5,0),\"\")","v":"D3"},null,null,null,null,{"$f":"VLOOKUP(Y303,[1]SRA!$S$4:$Z$368,4,0)","v":0},"","",""]
["15woDD",{"$f":"VLOOKUP($AA306,DATA!$B$3:$E$6,2,0)","v":"06:30:00"},{"$f":"VLOOKUP($AA306,DATA!$B$3:$E$6,3,0)","v":"14:30:00"},{"$f":"VLOOKUP($AA306,DATA!$B$3:$E$6,4,0)","v":3.125E-2},0.30208333333333331,0.27638888888888885,{"$f":"DATA!$C$9","v":0.89},{"$f":"DATA!$C$10","v":64},1,373.12499999999994,407.8125,2.5694444444444447E-2,34.6875,8.5057471264367815E-2,0,"","",323.2,294,"",294,"",null,{"$f":"X310","v":15},{"$f":"Y303+1","v":"2018-04-11"},{"$f":"TEXT(Y306,\"ddd\")","v":"wo"},"DD",{"$f":"IFERROR(HLOOKUP(Y306,[1]DATA!$A$1:$NB$5,3,0),\"\")","v":"D2"},37,null,9,303,{"$f":"VLOOKUP(Y306,[1]SRA!$S$4:$Z$368,2,0)","v":9},-79.124999999999943,0.72091954022988503,0.9729078868151716]
["15woMD",{"$f":"VLOOKUP($AA307,DATA!$B$3:$E$6,2,0)","v":"14:30:00"},{"$f":"VLOOKUP($AA307,DATA!$B$3:$E$6,3,0)","v":"22:30:00"},{"$f":"VLOOKUP($AA307,DATA!$B$3:$E$6,4,0)","v":3.125E-2},0.30208333333333337,0.29513888888888895,{"$f":"DATA!$C$9","v":0.89},{"$f":"DATA!$C$10","v":64},1,398.43750000000006,407.81250000000006,6.9444444444444441E-3,9.375,2.2988505747126433E-2,0,"","",361.6,314,314,"","",null,{"$f":"X310","v":15},null,{"$f":"TEXT(Y306,\"ddd\")","v":"wo"},"MD",{"$f":"IFERROR(HLOOKUP(Y306,[1]DATA!$A$1:$NB$5,4,0),\"\")","v":"D1"},10,null,25,339,{"$f":"VLOOKUP(Y306,[1]SRA!$S$4:$Z$368,3,0)","v":21},-84.437500000000057,0.76996168582375468,0.94511238891792992]
["15woND",{"$f":"VLOOKUP($AA308,DATA!$B$3:$E$6,2,0)","v":"22:30:00"},{"$f":"VLOOKUP($AA308,DATA!$B$3:$E$6,3,0)","v":"06:30:00"},{"$f":"VLOOKUP($AA308,DATA!$B$3:$E$6,4,0)","v":3.125E-2},0.30208333333333326,0.30208333333333326,{"$f":"DATA!$C$9","v":0.89},{"$f":"DATA!$C$10","v":64},1,407.81249999999989,407.81249999999989,0,"","",0,"","",0,"","","","",null,{"$f":"X310","v":15},null,{"$f":"TEXT(Y306,\"ddd\")","v":"wo"},"ND",{"$f":"IFERROR(HLOOKUP(Y306,[1]DATA!$A$1:$NB$5,5,0),\"\")","v":"D3"},null,null,null,null,{"$f":"VLOOKUP(Y306,[1]SRA!$S$4:$Z$368,4,0)","v":0},"","",""]
["15doDD",{"$f":"VLOOKUP($AA309,DATA!$B$3:$E$6,2,0)","v":"06:30:00"},{"$f":"VLOOKUP($AA309,DATA!$B$3:$E$6,3,0)","v":"14:30:00"},{"$f":"VLOOKUP($AA309,DATA!$B$3:$E$6,4,0)","v":3.125E-2},0.30208333333333331,0.27152777777777776,{"$f":"DATA!$C$9","v":0.89},{"$f":"DATA!$C$10","v":64},1,366.5625,407.8125,3.0555555555555555E-2,41.25,0.10114942528735632,0,"","",354.13333333333333,299,"",299,"",null,{"$f":"X310","v":15},{"$f":"Y306+1","v":"2018-04-12"},{"$f":"TEXT(Y309,\"ddd\")","v":"do"},"DD",{"$f":"IFERROR(HLOOKUP(Y309,[1]DATA!$A$1:$NB$5,3,0),\"\")","v":"D2"},44,null,33,332,{"$f":"VLOOKUP(Y309,[1]SRA!$S$4:$Z$368,2,0)","v":25},-67.5625,0.7331800766283525,0.93406013715491476]
["15doMD",{"$f":"VLOOKUP($AA310,DATA!$B$3:$E$6,2,0)","v":"14:30:00"},{"$f":"VLOOKUP($AA310,DATA!$B$3:$E$6,3,0)","v":"22:30:00"},{"$f":"VLOOKUP($AA310,DATA!$B$3:$E$6,4,0)","v":3.125E-2},0.30208333333333337,0.2819444444444445,{"$f":"DATA!$C$9","v":0.89},{"$f":"DATA!$C$10","v":64},1,380.62500000000006,407.81250000000006,2.013888888888889E-2,27.1875,6.6666666666666652E-2,0,"","",392.5333333333333,334,334,"","",null,{"$f":"WEEKNUM($Y300)","v":15},null,{"$f":"TEXT(Y309,\"ddd\")","v":"do"},"MD",{"$f":"IFERROR(HLOOKUP(Y309,[1]DATA!$A$1:$NB$5,4,0),\"\")","v":"D1"},29,null,34,368,{"$f":"VLOOKUP(Y309,[1]SRA!$S$4:$Z$368,3,0)","v":23},-46.625000000000057,0.81900383141762445,0.94464944649446492]
["15doND",{"$f":"VLOOKUP($AA311,DATA!$B$3:$E$6,2,0)","v":"22:30:00"},{"$f":"VLOOKUP($AA311,DATA!$B$3:$E$6,3,0)","v":"06:30:00"},{"$f":"VLOOKUP($AA311,DATA!$B$3:$E$6,4,0)","v":3.125E-2},0.30208333333333326,0.30208333333333326,{"$f":"DATA!$C$9","v":0.89},{"$f":"DATA!$C$10","v":64},1,407.81249999999989,407.81249999999989,0,"","",0,"","",0,"","","","",null,{"$f":"X310","v":15},null,{"$f":"TEXT(Y309,\"ddd\")","v":"do"},"ND",{"$f":"IFERROR(HLOOKUP(Y309,[1]DATA!$A$1:$NB$5,5,0),\"\")","v":"D3"},null,null,null,null,{"$f":"VLOOKUP(Y309,[1]SRA!$S$4:$Z$368,4,0)","v":0},"","",""]
["15vrDD",{"$f":"VLOOKUP($AA312,DATA!$B$3:$E$6,2,0)","v":"06:30:00"},{"$f":"VLOOKUP($AA312,DATA!$B$3:$E$6,3,0)","v":"14:30:00"},{"$f":"VLOOKUP($AA312,DATA!$B$3:$E$6,4,0)","v":3.125E-2},0.30208333333333331,0.28402777777777777,{"$f":"DATA!$C$9","v":0.89},{"$f":"DATA!$C$10","v":64},1,383.4375,407.8125,1.8055555555555557E-2,24.375000000000004,5.9770114942528742E-2,0,"","",264.5333333333333,242,"",242,"",null,{"$f":"X310","v":15},{"$f":"Y309+1","v":"2018-04-13"},{"$f":"TEXT(Y312,\"ddd\")","v":"vr"},"DD",{"$f":"IFERROR(HLOOKUP(Y312,[1]DATA!$A$1:$NB$5,3,0),\"\")","v":"D2"},26,null,6,248,{"$f":"VLOOKUP(Y312,[1]SRA!$S$4:$Z$368,2,0)","v":120},-141.4375,0.59340996168582372,0.68793342579750349]
["15vrMD",{"$f":"VLOOKUP($AA313,DATA!$B$3:$E$6,2,0)","v":"14:30:00"},{"$f":"VLOOKUP($AA313,DATA!$B$3:$E$6,3,0)","v":"22:30:00"},{"$f":"VLOOKUP($AA313,DATA!$B$3:$E$6,4,0)","v":3.125E-2},0.30208333333333337,0.28402777777777782,{"$f":"DATA!$C$9","v":0.89},{"$f":"DATA!$C$10","v":64},1,383.43750000000006,407.81250000000006,1.8055555555555557E-2,24.375000000000004,5.9770114942528735E-2,0,"","",379.73333333333335,328,328,"","",null,{"$f":"X310","v":15},null,{"$f":"TEXT(Y312,\"ddd\")","v":"vr"},"MD",{"$f":"IFERROR(HLOOKUP(Y312,[1]DATA!$A$1:$NB$5,4,0),\"\")","v":"D1"},26,null,28,356,{"$f":"VLOOKUP(Y312,[1]SRA!$S$4:$Z$368,3,0)","v":12},-55.437500000000057,0.80429118773946351,0.96936691626957117]
["15vrND",{"$f":"VLOOKUP($AA314,DATA!$B$3:$E$6,2,0)","v":"22:30:00"},{"$f":"VLOOKUP($AA314,DATA!$B$3:$E$6,3,0)","v":"06:30:00"},{"$f":"VLOOKUP($AA314,DATA!$B$3:$E$6,4,0)","v":3.125E-2},0.30208333333333326,0.30208333333333326,{"$f":"DATA!$C$9","v":0.89},{"$f":"DATA!$C$10","v":64},1,407.81249999999989,407.81249999999989,0,"","",0,"","",0,"","","","",null,{"$f":"X310","v":15},null,{"$f":"TEXT(Y312,\"ddd\")","v":"vr"},"ND",{"$f":"IFERROR(HLOOKUP(Y312,[1]DATA!$A$1:$NB$5,5,0),\"\")","v":"D3"},null,null,null,null,{"$f":"VLOOKUP(Y312,[1]SRA!$S$4:$Z$368,4,0)","v":0},"","",""]
["15zaDD",{"$f":"VLOOKUP($AA315,DATA!$B$3:$E$6,2,0)","v":"06:30:00"},{"$f":"VLOOKUP($AA315,DATA!$B$3:$E$6,3,0)","v":"14:30:00"},{"$f":"VLOOKUP($AA315,DATA!$B$3:$E$6,4,0)","v":3.125E-2},0.30208333333333331,0.30208333333333331,{"$f":"DATA!$C$9","v":0.89},{"$f":"DATA!$C$10","v":64},1,407.8125,407.8125,0,"","",0,"","",0,"","","","",null,{"$f":"X310","v":15},{"$f":"Y312+1","v":"2018-04-14"},{"$f":"TEXT(Y315,\"ddd\")","v":"za"},"DD",{"$f":"IFERROR(HLOOKUP(Y315,[1]DATA!$A$1:$NB$5,3,0),\"\")","v":"D2"},null,null,null,null,{"$f":"VLOOKUP(Y315,[1]SRA!$S$4:$Z$368,2,0)","v":0},"","",""]
["15zaMD",{"$f":"VLOOKUP($AA316,DATA!$B$3:$E$6,2,0)","v":"14:30:00"},{"$f":"VLOOKUP($AA316,DATA!$B$3:$E$6,3,0)","v":"22:30:00"},{"$f":"VLOOKUP($AA316,DATA!$B$3:$E$6,4,0)","v":3.125E-2},0.30208333333333337,0.30208333333333337,{"$f":"DATA!$C$9","v":0.89},{"$f":"DATA!$C$10","v":64},1,407.81250000000006,407.81250000000006,0,"","",0,"","",0,"","","","",null,{"$f":"X310","v":15},null,{"$f":"TEXT(Y315,\"ddd\")","v":"za"},"MD",{"$f":"IFERROR(HLOOKUP(Y315,[1]DATA!$A$1:$NB$5,4,0),\"\")","v":"-"},null,null,null,null,{"$f":"VLOOKUP(Y315,[1]SRA!$S$4:$Z$368,3,0)","v":0},"","",""]
["15zaND",{"$f":"VLOOKUP($AA317,DATA!$B$3:$E$6,2,0)","v":"22:30:00"},{"$f":"VLOOKUP($AA317,DATA!$B$3:$E$6,3,0)","v":"06:30:00"},{"$f":"VLOOKUP($AA317,DATA!$B$3:$E$6,4,0)","v":3.125E-2},0.30208333333333326,0.30208333333333326,{"$f":"DATA!$C$9","v":0.89},{"$f":"DATA!$C$10","v":64},1,407.81249999999989,407.81249999999989,0,"","",0,"","",0,"","","","",null,{"$f":"X310","v":15},null,{"$f":"TEXT(Y315,\"ddd\")","v":"za"},"ND",{"$f":"IFERROR(HLOOKUP(Y315,[1]DATA!$A$1:$NB$5,5,0),\"\")","v":"-"},null,null,null,null,{"$f":"VLOOKUP(Y315,[1]SRA!$S$4:$Z$368,4,0)","v":0},"","",""]
["15zoDD",{"$f":"VLOOKUP($AA318,DATA!$B$3:$E$6,2,0)","v":"06:30:00"},{"$f":"VLOOKUP($AA318,DATA!$B$3:$E$6,3,0)","v":"14:30:00"},{"$f":"VLOOKUP($AA318,DATA!$B$3:$E$6,4,0)","v":3.125E-2},0.30208333333333331,0.30208333333333331,{"$f":"DATA!$C$9","v":0.89},{"$f":"DATA!$C$10","v":64},1,407.8125,407.8125,0,"","",0,"","",0,"","","","",null,{"$f":"X310","v":15},{"$f":"Y315+1","v":"2018-04-15"},{"$f":"TEXT(Y318,\"ddd\")","v":"zo"},"DD",{"$f":"IFERROR(HLOOKUP(Y318,[1]DATA!$A$1:$NB$5,3,0),\"\")","v":"-"},null,null,null,null,{"$f":"VLOOKUP(Y318,[1]SRA!$S$4:$Z$368,2,0)","v":0},"","",""]
["15zoMD",{"$f":"VLOOKUP($AA319,DATA!$B$3:$E$6,2,0)","v":"14:30:00"},{"$f":"VLOOKUP($AA319,DATA!$B$3:$E$6,3,0)","v":"22:30:00"},{"$f":"VLOOKUP($AA319,DATA!$B$3:$E$6,4,0)","v":3.125E-2},0.30208333333333337,0.30208333333333337,{"$f":"DATA!$C$9","v":0.89},{"$f":"DATA!$C$10","v":64},1,407.81250000000006,407.81250000000006,0,"","",0,"","",0,"","","","",null,{"$f":"X310","v":15},null,{"$f":"TEXT(Y318,\"ddd\")","v":"zo"},"MD",{"$f":"IFERROR(HLOOKUP(Y318,[1]DATA!$A$1:$NB$5,4,0),\"\")","v":"-"},null,null,null,null,{"$f":"VLOOKUP(Y318,[1]SRA!$S$4:$Z$368,3,0)","v":0},"","",""]
["15zoZND",{"$f":"VLOOKUP($AA320,DATA!$B$3:$E$6,2,0)","v":"00:00:00"},{"$f":"VLOOKUP($AA320,DATA!$B$3:$E$6,3,0)","v":"00:00:00"},{"$f":"VLOOKUP($AA320,DATA!$B$3:$E$6,4,0)","v":0},0,0,{"$f":"DATA!$C$9","v":0.89},{"$f":"DATA!$C$10","v":64},1,0,0,0,"","",0,"","",0,"","","","",null,{"$f":"X310","v":15},null,{"$f":"TEXT(Y318,\"ddd\")","v":"zo"},"ZND",{"$f":"IFERROR(HLOOKUP(Y318,[1]DATA!$A$1:$NB$5,5,0),\"\")","v":"-"},null,null,null,null,{"$f":"VLOOKUP(Y318,[1]SRA!$S$4:$Z$368,4,0)","v":0},"","",""]
["16maDD",{"$f":"VLOOKUP($AA321,DATA!$B$3:$E$6,2,0)","v":"06:30:00"},{"$f":"VLOOKUP($AA321,DATA!$B$3:$E$6,3,0)","v":"14:30:00"},{"$f":"VLOOKUP($AA321,DATA!$B$3:$E$6,4,0)","v":3.125E-2},0.30208333333333331,0.30208333333333331,{"$f":"DATA!$C$9","v":0.89},{"$f":"DATA!$C$10","v":64},1,407.8125,407.8125,0,"","",{"$f":"TIME(INT($AD321/60),INT(MOD($AD321,60)/1),0)","v":0},"","",0,"","","","",null,{"$f":"X331","v":16},{"$f":"Y318+1","v":"2018-04-16"},{"$f":"TEXT(Y321,\"ddd\")","v":"ma"},"DD",{"$f":"IFERROR(HLOOKUP(Y321,[1]DATA!$A$1:$NB$5,3,0),\"\")","v":"D1"},null,null,null,null,{"$f":"VLOOKUP(Y321,[1]SRA!$S$4:$Z$368,2,0)","v":13},"","",0,{"$f":"IF(SUMIF(S321:S341,\">0\",K321:K341)=0,\"\",SUMIF(S321:S341,\">0\",K321:K341))","v":""},{"$f":"IF(SUM(S321:S341)=0,\"\",SUM(S321:S341))","v":""},{"$f":"IFERROR(AL321/AK321,\"-\")","v":"-"},{"$f":"IF(SUM(M321:M341)=0,\"0\",SUM(M321:M341))","v":"0"},{"$f":"IFERROR(AN321/AK321,\"-\")","v":"-"},{"$f":"IF(SUM(P321:P341)=0,0,SUM(P321:P341))","v":0},{"$f":"IFERROR(AP321/AK321,\"-\")","v":"-"},{"$f":"IFERROR(AVERAGE(AJ321:AJ341),\"-\")","v":0},{"$f":"IFERROR(SUMIF($AB321:$AB341,AS$5,$AJ321:$AJ341)/COUNTIFS($AB321:$AB341,AS$5,$AJ321:$AJ341,\">0\"),\"\")","v":""},"","",{"$f":"IFERROR((AK321-AL321-AN321-AP321),\"-\")","v":"-"},{"$f":"IFERROR((1-AM321-AO321-AQ321), \"-\")","v":"-"},{"$f":"IFERROR((AV321*$AE$2)/60,\"-\")","v":"-"},{"$f":"IFERROR(SUM(AG321:AG341),\"\")","v":462}]
["16maMD",{"$f":"VLOOKUP($AA322,DATA!$B$3:$E$6,2,0)","v":"14:30:00"},{"$f":"VLOOKUP($AA322,DATA!$B$3:$E$6,3,0)","v":"22:30:00"},{"$f":"VLOOKUP($AA322,DATA!$B$3:$E$6,4,0)","v":3.125E-2},0.30208333333333337,0.30208333333333337,{"$f":"DATA!$C$9","v":0.89},{"$f":"DATA!$C$10","v":64},1,407.81250000000006,407.81250000000006,0,"","",{"$f":"TIME(INT(AD322/60),INT(MOD(AD322,60)/1),0)","v":0},"","",0,"","","","",null,{"$f":"X331","v":16},null,{"$f":"TEXT(Y321,\"ddd\")","v":"ma"},"MD",{"$f":"IFERROR(HLOOKUP(Y321,[1]DATA!$A$1:$NB$5,4,0),\"\")","v":"D3"},null,null,null,null,{"$f":"VLOOKUP(Y321,[1]SRA!$S$4:$Z$368,3,0)","v":27},"","",0]
["16maND",{"$f":"VLOOKUP($AA323,DATA!$B$3:$E$6,2,0)","v":"22:30:00"},{"$f":"VLOOKUP($AA323,DATA!$B$3:$E$6,3,0)","v":"06:30:00"},{"$f":"VLOOKUP($AA323,DATA!$B$3:$E$6,4,0)","v":3.125E-2},0.30208333333333326,0.30208333333333326,{"$f":"DATA!$C$9","v":0.89},{"$f":"DATA!$C$10","v":64},1,407.81249999999989,407.81249999999989,0,"","",0,"","",0,"","","","",null,{"$f":"X331","v":16},null,{"$f":"TEXT(Y321,\"ddd\")","v":"ma"},"ND",{"$f":"IFERROR(HLOOKUP(Y321,[1]DATA!$A$1:$NB$5,5,0),\"\")","v":"D2"},null,null,null,null,{"$f":"VLOOKUP(Y321,[1]SRA!$S$4:$Z$368,4,0)","v":38},"","",0]
["16diDD",{"$f":"VLOOKUP($AA324,DATA!$B$3:$E$6,2,0)","v":"06:30:00"},{"$f":"VLOOKUP($AA324,DATA!$B$3:$E$6,3,0)","v":"14:30:00"},{"$f":"VLOOKUP($AA324,DATA!$B$3:$E$6,4,0)","v":3.125E-2},0.30208333333333331,0.30208333333333331,{"$f":"DATA!$C$9","v":0.89},{"$f":"DATA!$C$10","v":64},1,407.8125,407.8125,0,"","",0,"","",0,"","","","",null,{"$f":"X331","v":16},{"$f":"Y321+1","v":"2018-04-17"},{"$f":"TEXT(Y324,\"ddd\")","v":"di"},"DD",{"$f":"IFERROR(HLOOKUP(Y324,[1]DATA!$A$1:$NB$5,3,0),\"\")","v":"D1"},null,null,null,null,{"$f":"VLOOKUP(Y324,[1]SRA!$S$4:$Z$368,2,0)","v":78},"","",0]
["16diMD",{"$f":"VLOOKUP($AA325,DATA!$B$3:$E$6,2,0)","v":"14:30:00"},{"$f":"VLOOKUP($AA325,DATA!$B$3:$E$6,3,0)","v":"22:30:00"},{"$f":"VLOOKUP($AA325,DATA!$B$3:$E$6,4,0)","v":3.125E-2},0.30208333333333337,0.30208333333333337,{"$f":"DATA!$C$9","v":0.89},{"$f":"DATA!$C$10","v":64},1,407.81250000000006,407.81250000000006,0,"","",0,"","",0,"","","","",null,{"$f":"X331","v":16},null,{"$f":"TEXT(Y324,\"ddd\")","v":"di"},"MD",{"$f":"IFERROR(HLOOKUP(Y324,[1]DATA!$A$1:$NB$5,4,0),\"\")","v":"D3"},null,null,null,null,{"$f":"VLOOKUP(Y324,[1]SRA!$S$4:$Z$368,3,0)","v":45},"","",0]
["16diND",{"$f":"VLOOKUP($AA326,DATA!$B$3:$E$6,2,0)","v":"22:30:00"},{"$f":"VLOOKUP($AA326,DATA!$B$3:$E$6,3,0)","v":"06:30:00"},{"$f":"VLOOKUP($AA326,DATA!$B$3:$E$6,4,0)","v":3.125E-2},0.30208333333333326,0.30208333333333326,{"$f":"DATA!$C$9","v":0.89},{"$f":"DATA!$C$10","v":64},1,{"$f":"F326*86400/H326*I326","v":407.81249999999989},{"$f":"E326*86400/H326","v":407.81249999999989},0,"","",0,"","",{"$f":"AF326*AG$2","v":0},{"$f":"IF(AF326-AE326=0,\"\",AF326-AE326)","v":""},"","","",null,{"$f":"X331","v":16},null,{"$f":"TEXT(Y324,\"ddd\")","v":"di"},"ND",{"$f":"IFERROR(HLOOKUP(Y324,[1]DATA!$A$1:$NB$5,5,0),\"\")","v":"D2"},null,null,null,null,{"$f":"VLOOKUP(Y324,[1]SRA!$S$4:$Z$368,4,0)","v":15},{"$f":"IFERROR(S326-J326,\"\")","v":""},{"$f":"IFERROR(IF(S326/(E326*86400/H326)<=0,\"\",S326/(E326*86400/H326)),\"\")","v":""},0]
["16woDD",{"$f":"VLOOKUP($AA327,DATA!$B$3:$E$6,2,0)","v":"06:30:00"},{"$f":"VLOOKUP($AA327,DATA!$B$3:$E$6,3,0)","v":"14:30:00"},{"$f":"VLOOKUP($AA327,DATA!$B$3:$E$6,4,0)","v":3.125E-2},0.30208333333333331,0.30208333333333331,{"$f":"DATA!$C$9","v":0.89},{"$f":"DATA!$C$10","v":64},1,407.8125,407.8125,{"$f":"TIME(INT($AC327/60),INT(MOD($AC327,60)/1),0)","v":0},{"$f":"IF($L327*86400/$H327=0,\"\",$L327*86400/$H327)","v":""},{"$f":"IFERROR($M327/$K327,\"\")","v":""},0,"",{"$f":"IFERROR($P327/$K327,\"\")","v":""},0,"",{"$f":"IF(IF($AB327=\"D1\",$S327,\"\")=0,\"\",IF($AB327=\"D1\",$S327,\"\"))","v":""},{"$f":"IF(IF($AB327=\"D2\",$S327,\"\")=0,\"\",IF($AB327=\"D2\",$S327,\"\"))","v":""},{"$f":"IF(IF($AB327=\"D3\",$S327,\"\")=0,\"\",IF($AB327=\"D3\",$S327,\"\"))","v":""},null,{"$f":"X331","v":16},{"$f":"Y324+1","v":"2018-04-18"},{"$f":"TEXT(Y327,\"ddd\")","v":"wo"},"DD",{"$f":"IFERROR(HLOOKUP(Y327,[1]DATA!$A$1:$NB$5,3,0),\"\")","v":"D1"},null,null,null,null,{"$f":"VLOOKUP(Y327,[1]SRA!$S$4:$Z$368,2,0)","v":100},"","",0]
["16woMD",{"$f":"VLOOKUP($AA328,DATA!$B$3:$E$6,2,0)","v":"14:30:00"},{"$f":"VLOOKUP($AA328,DATA!$B$3:$E$6,3,0)","v":"22:30:00"},{"$f":"VLOOKUP($AA328,DATA!$B$3:$E$6,4,0)","v":3.125E-2},0.30208333333333337,0.30208333333333337,{"$f":"DATA!$C$9","v":0.89},{"$f":"DATA!$C$10","v":64},1,407.81250000000006,407.81250000000006,0,"","",0,"","",0,"","","","",null,{"$f":"X331","v":16},null,{"$f":"TEXT(Y327,\"ddd\")","v":"wo"},"MD",{"$f":"IFERROR(HLOOKUP(Y327,[1]DATA!$A$1:$NB$5,4,0),\"\")","v":"D3"},null,null,null,null,{"$f":"VLOOKUP(Y327,[1]SRA!$S$4:$Z$368,3,0)","v":22},"","",0]
["16woND",{"$f":"VLOOKUP($AA329,DATA!$B$3:$E$6,2,0)","v":"22:30:00"},{"$f":"VLOOKUP($AA329,DATA!$B$3:$E$6,3,0)","v":"06:30:00"},{"$f":"VLOOKUP($AA329,DATA!$B$3:$E$6,4,0)","v":3.125E-2},0.30208333333333326,0.30208333333333326,{"$f":"DATA!$C$9","v":0.89},{"$f":"DATA!$C$10","v":64},1,407.81249999999989,407.81249999999989,0,"","",0,"","",0,"","","","",null,{"$f":"X331","v":16},null,{"$f":"TEXT(Y327,\"ddd\")","v":"wo"},"ND",{"$f":"IFERROR(HLOOKUP(Y327,[1]DATA!$A$1:$NB$5,5,0),\"\")","v":"D2"},null,null,null,null,{"$f":"VLOOKUP(Y327,[1]SRA!$S$4:$Z$368,4,0)","v":20},"","",0]
["16doDD",{"$f":"VLOOKUP($AA330,DATA!$B$3:$E$6,2,0)","v":"06:30:00"},{"$f":"VLOOKUP($AA330,DATA!$B$3:$E$6,3,0)","v":"14:30:00"},{"$f":"VLOOKUP($AA330,DATA!$B$3:$E$6,4,0)","v":3.125E-2},0.30208333333333331,0.30208333333333331,{"$f":"DATA!$C$9","v":0.89},{"$f":"DATA!$C$10","v":64},1,407.8125,407.8125,0,"","",0,"","",0,"","","","",null,{"$f":"X331","v":16},{"$f":"Y327+1","v":"2018-04-19"},{"$f":"TEXT(Y330,\"ddd\")","v":"do"},"DD",{"$f":"IFERROR(HLOOKUP(Y330,[1]DATA!$A$1:$NB$5,3,0),\"\")","v":"D1"},null,null,null,null,{"$f":"VLOOKUP(Y330,[1]SRA!$S$4:$Z$368,2,0)","v":36},"","",0]
["16doMD",{"$f":"VLOOKUP($AA331,DATA!$B$3:$E$6,2,0)","v":"14:30:00"},{"$f":"VLOOKUP($AA331,DATA!$B$3:$E$6,3,0)","v":"22:30:00"},{"$f":"VLOOKUP($AA331,DATA!$B$3:$E$6,4,0)","v":3.125E-2},0.30208333333333337,0.30208333333333337,{"$f":"DATA!$C$9","v":0.89},{"$f":"DATA!$C$10","v":64},1,407.81250000000006,407.81250000000006,0,"","",0,"","",0,"","","","",null,{"$f":"WEEKNUM($Y321)","v":16},null,{"$f":"TEXT(Y330,\"ddd\")","v":"do"},"MD",{"$f":"IFERROR(HLOOKUP(Y330,[1]DATA!$A$1:$NB$5,4,0),\"\")","v":"D3"},null,null,null,null,{"$f":"VLOOKUP(Y330,[1]SRA!$S$4:$Z$368,3,0)","v":6},"","",0]
["16doND",{"$f":"VLOOKUP($AA332,DATA!$B$3:$E$6,2,0)","v":"22:30:00"},{"$f":"VLOOKUP($AA332,DATA!$B$3:$E$6,3,0)","v":"06:30:00"},{"$f":"VLOOKUP($AA332,DATA!$B$3:$E$6,4,0)","v":3.125E-2},0.30208333333333326,0.30208333333333326,{"$f":"DATA!$C$9","v":0.89},{"$f":"DATA!$C$10","v":64},1,407.81249999999989,407.81249999999989,0,"","",0,"","",0,"","","","",null,{"$f":"X331","v":16},null,{"$f":"TEXT(Y330,\"ddd\")","v":"do"},"ND",{"$f":"IFERROR(HLOOKUP(Y330,[1]DATA!$A$1:$NB$5,5,0),\"\")","v":"D2"},null,null,null,null,{"$f":"VLOOKUP(Y330,[1]SRA!$S$4:$Z$368,4,0)","v":14},"","",0]
["16vrDD",{"$f":"VLOOKUP($AA333,DATA!$B$3:$E$6,2,0)","v":"06:30:00"},{"$f":"VLOOKUP($AA333,DATA!$B$3:$E$6,3,0)","v":"14:30:00"},{"$f":"VLOOKUP($AA333,DATA!$B$3:$E$6,4,0)","v":3.125E-2},0.30208333333333331,0.30208333333333331,{"$f":"DATA!$C$9","v":0.89},{"$f":"DATA!$C$10","v":64},1,407.8125,407.8125,0,"","",0,"","",0,"","","","",null,{"$f":"X331","v":16},{"$f":"Y330+1","v":"2018-04-20"},{"$f":"TEXT(Y333,\"ddd\")","v":"vr"},"DD",{"$f":"IFERROR(HLOOKUP(Y333,[1]DATA!$A$1:$NB$5,3,0),\"\")","v":"D1"},null,null,null,null,{"$f":"VLOOKUP(Y333,[1]SRA!$S$4:$Z$368,2,0)","v":10},"","",0]
["16vrMD",{"$f":"VLOOKUP($AA334,DATA!$B$3:$E$6,2,0)","v":"14:30:00"},{"$f":"VLOOKUP($AA334,DATA!$B$3:$E$6,3,0)","v":"22:30:00"},{"$f":"VLOOKUP($AA334,DATA!$B$3:$E$6,4,0)","v":3.125E-2},0.30208333333333337,0.30208333333333337,{"$f":"DATA!$C$9","v":0.89},{"$f":"DATA!$C$10","v":64},1,407.81250000000006,407.81250000000006,0,"","",0,"","",0,"","","","",null,{"$f":"X331","v":16},null,{"$f":"TEXT(Y333,\"ddd\")","v":"vr"},"MD",{"$f":"IFERROR(HLOOKUP(Y333,[1]DATA!$A$1:$NB$5,4,0),\"\")","v":"D3"},null,null,null,null,{"$f":"VLOOKUP(Y333,[1]SRA!$S$4:$Z$368,3,0)","v":0},"","",""]
["16vrND",{"$f":"VLOOKUP($AA335,DATA!$B$3:$E$6,2,0)","v":"22:30:00"},{"$f":"VLOOKUP($AA335,DATA!$B$3:$E$6,3,0)","v":"06:30:00"},{"$f":"VLOOKUP($AA335,DATA!$B$3:$E$6,4,0)","v":3.125E-2},0.30208333333333326,0.30208333333333326,{"$f":"DATA!$C$9","v":0.89},{"$f":"DATA!$C$10","v":64},1,407.81249999999989,407.81249999999989,0,"","",0,"","",0,"","","","",null,{"$f":"X331","v":16},null,{"$f":"TEXT(Y333,\"ddd\")","v":"vr"},"ND",{"$f":"IFERROR(HLOOKUP(Y333,[1]DATA!$A$1:$NB$5,5,0),\"\")","v":"D2"},null,null,null,null,{"$f":"VLOOKUP(Y333,[1]SRA!$S$4:$Z$368,4,0)","v":17},"","",0]
["16zaDD",{"$f":"VLOOKUP($AA336,DATA!$B$3:$E$6,2,0)","v":"06:30:00"},{"$f":"VLOOKUP($AA336,DATA!$B$3:$E$6,3,0)","v":"14:30:00"},{"$f":"VLOOKUP($AA336,DATA!$B$3:$E$6,4,0)","v":3.125E-2},0.30208333333333331,0.30208333333333331,{"$f":"DATA!$C$9","v":0.89},{"$f":"DATA!$C$10","v":64},1,407.8125,407.8125,0,"","",0,"","",0,"","","","",null,{"$f":"X331","v":16},{"$f":"Y333+1","v":"2018-04-21"},{"$f":"TEXT(Y336,\"ddd\")","v":"za"},"DD",{"$f":"IFERROR(HLOOKUP(Y336,[1]DATA!$A$1:$NB$5,3,0),\"\")","v":"D1"},null,null,null,null,{"$f":"VLOOKUP(Y336,[1]SRA!$S$4:$Z$368,2,0)","v":21},"","",0]
["16zaMD",{"$f":"VLOOKUP($AA337,DATA!$B$3:$E$6,2,0)","v":"14:30:00"},{"$f":"VLOOKUP($AA337,DATA!$B$3:$E$6,3,0)","v":"22:30:00"},{"$f":"VLOOKUP($AA337,DATA!$B$3:$E$6,4,0)","v":3.125E-2},0.30208333333333337,0.30208333333333337,{"$f":"DATA!$C$9","v":0.89},{"$f":"DATA!$C$10","v":64},1,407.81250000000006,407.81250000000006,0,"","",0,"","",0,"","","","",null,{"$f":"X331","v":16},null,{"$f":"TEXT(Y336,\"ddd\")","v":"za"},"MD",{"$f":"IFERROR(HLOOKUP(Y336,[1]DATA!$A$1:$NB$5,4,0),\"\")","v":"-"},null,null,null,null,{"$f":"VLOOKUP(Y336,[1]SRA!$S$4:$Z$368,3,0)","v":0},"","",""]
["16zaND",{"$f":"VLOOKUP($AA338,DATA!$B$3:$E$6,2,0)","v":"22:30:00"},{"$f":"VLOOKUP($AA338,DATA!$B$3:$E$6,3,0)","v":"06:30:00"},{"$f":"VLOOKUP($AA338,DATA!$B$3:$E$6,4,0)","v":3.125E-2},0.30208333333333326,0.30208333333333326,{"$f":"DATA!$C$9","v":0.89},{"$f":"DATA!$C$10","v":64},1,407.81249999999989,407.81249999999989,0,"","",0,"","",0,"","","","",null,{"$f":"X331","v":16},null,{"$f":"TEXT(Y336,\"ddd\")","v":"za"},"ND",{"$f":"IFERROR(HLOOKUP(Y336,[1]DATA!$A$1:$NB$5,5,0),\"\")","v":"-"},null,null,null,null,{"$f":"VLOOKUP(Y336,[1]SRA!$S$4:$Z$368,4,0)","v":0},"","",""]
["16zoDD",{"$f":"VLOOKUP($AA339,DATA!$B$3:$E$6,2,0)","v":"06:30:00"},{"$f":"VLOOKUP($AA339,DATA!$B$3:$E$6,3,0)","v":"14:30:00"},{"$f":"VLOOKUP($AA339,DATA!$B$3:$E$6,4,0)","v":3.125E-2},0.30208333333333331,0.30208333333333331,{"$f":"DATA!$C$9","v":0.89},{"$f":"DATA!$C$10","v":64},1,407.8125,407.8125,0,"","",0,"","",0,"","","","",null,{"$f":"X331","v":16},{"$f":"Y336+1","v":"2018-04-22"},{"$f":"TEXT(Y339,\"ddd\")","v":"zo"},"DD",{"$f":"IFERROR(HLOOKUP(Y339,[1]DATA!$A$1:$NB$5,3,0),\"\")","v":"-"},null,null,null,null,{"$f":"VLOOKUP(Y339,[1]SRA!$S$4:$Z$368,2,0)","v":0},"","",""]
["16zoMD",{"$f":"VLOOKUP($AA340,DATA!$B$3:$E$6,2,0)","v":"14:30:00"},{"$f":"VLOOKUP($AA340,DATA!$B$3:$E$6,3,0)","v":"22:30:00"},{"$f":"VLOOKUP($AA340,DATA!$B$3:$E$6,4,0)","v":3.125E-2},0.30208333333333337,0.30208333333333337,{"$f":"DATA!$C$9","v":0.89},{"$f":"DATA!$C$10","v":64},1,407.81250000000006,407.81250000000006,0,"","",0,"","",0,"","","","",null,{"$f":"X331","v":16},null,{"$f":"TEXT(Y339,\"ddd\")","v":"zo"},"MD",{"$f":"IFERROR(HLOOKUP(Y339,[1]DATA!$A$1:$NB$5,4,0),\"\")","v":"-"},null,null,null,null,{"$f":"VLOOKUP(Y339,[1]SRA!$S$4:$Z$368,3,0)","v":0},"","",""]
["16zoZND",{"$f":"VLOOKUP($AA341,DATA!$B$3:$E$6,2,0)","v":"00:00:00"},{"$f":"VLOOKUP($AA341,DATA!$B$3:$E$6,3,0)","v":"00:00:00"},{"$f":"VLOOKUP($AA341,DATA!$B$3:$E$6,4,0)","v":0},0,0,{"$f":"DATA!$C$9","v":0.89},{"$f":"DATA!$C$10","v":64},1,0,0,0,"","",0,"","",0,"","","","",null,{"$f":"X331","v":16},null,{"$f":"TEXT(Y339,\"ddd\")","v":"zo"},"ZND",{"$f":"IFERROR(HLOOKUP(Y339,[1]DATA!$A$1:$NB$5,5,0),\"\")","v":"-"},null,null,null,null,{"$f":"VLOOKUP(Y339,[1]SRA!$S$4:$Z$368,4,0)","v":0},"","",""]
["17maDD",{"$f":"VLOOKUP($AA342,DATA!$B$3:$E$6,2,0)","v":"06:30:00"},{"$f":"VLOOKUP($AA342,DATA!$B$3:$E$6,3,0)","v":"14:30:00"},{"$f":"VLOOKUP($AA342,DATA!$B$3:$E$6,4,0)","v":3.125E-2},0.30208333333333331,0.26597222222222222,{"$f":"DATA!$C$9","v":0.89},{"$f":"DATA!$C$10","v":64},1,359.0625,407.8125,3.6111111111111115E-2,48.750000000000007,0.11954022988505748,{"$f":"TIME(INT($AD342/60),INT(MOD($AD342,60)/1),0)","v":0},"","",245.33333333333334,227,"","",227,null,{"$f":"X352","v":17},{"$f":"Y339+1","v":"2018-04-23"},{"$f":"TEXT(Y342,\"ddd\")","v":"ma"},"DD",{"$f":"IFERROR(HLOOKUP(Y342,[1]DATA!$A$1:$NB$5,3,0),\"\")","v":"D3"},52,null,3,230,{"$f":"VLOOKUP(Y342,[1]SRA!$S$4:$Z$368,2,0)","v":25},-132.0625,0.55662835249042142,0.90752157829839697,{"$f":"IF(SUMIF(S342:S362,\">0\",K342:K362)=0,\"\",SUMIF(S342:S362,\">0\",K342:K362))","v":4893.75},{"$f":"IF(SUM(S342:S362)=0,\"\",SUM(S342:S362))","v":3333},{"$f":"IFERROR(AL342/AK342,\"-\")","v":0.68107279693486589},{"$f":"IF(SUM(M342:M362)=0,\"0\",SUM(M342:M362))","v":215.625},{"$f":"IFERROR(AN342/AK342,\"-\")","v":4.4061302681992334E-2},{"$f":"IF(SUM(P342:P362)=0,0,SUM(P342:P362))","v":0},{"$f":"IFERROR(AP342/AK342,\"-\")","v":0},{"$f":"IFERROR(AVERAGE(AJ342:AJ362),\"-\")","v":0.8963249609336148},{"$f":"IFERROR(SUMIF($AB342:$AB362,AS$5,$AJ342:$AJ362)/COUNTIFS($AB342:$AB362,AS$5,$AJ342:$AJ362,\">0\"),\"\")","v":0.8643686034828062},0.90291136791602633,0.92169491140201243,{"$f":"IFERROR((AK342-AL342-AN342-AP342),\"-\")","v":1345.125},{"$f":"IFERROR((1-AM342-AO342-AQ342), \"-\")","v":0.27486590038314179},{"$f":"IFERROR((AV342*$AE$2)/60,\"-\")","v":1434.8},{"$f":"IFERROR(SUM(AG342:AG362),\"\")","v":483}]
["17maMD",{"$f":"VLOOKUP($AA343,DATA!$B$3:$E$6,2,0)","v":"14:30:00"},{"$f":"VLOOKUP($AA343,DATA!$B$3:$E$6,3,0)","v":"22:30:00"},{"$f":"VLOOKUP($AA343,DATA!$B$3:$E$6,4,0)","v":3.125E-2},0.30208333333333337,0.29652777777777783,{"$f":"DATA!$C$9","v":0.89},{"$f":"DATA!$C$10","v":64},1,400.31250000000006,407.81250000000006,5.5555555555555558E-3,7.5,1.8390804597701146E-2,{"$f":"TIME(INT(AD343/60),INT(MOD(AD343,60)/1),0)","v":0},"","",360.5333333333333,299,"",299,"",null,{"$f":"X352","v":17},null,{"$f":"TEXT(Y342,\"ddd\")","v":"ma"},"MD",{"$f":"IFERROR(HLOOKUP(Y342,[1]DATA!$A$1:$NB$5,4,0),\"\")","v":"D2"},8,null,39,338,{"$f":"VLOOKUP(Y342,[1]SRA!$S$4:$Z$368,3,0)","v":64},-101.31250000000006,0.73318007662835238,0.84924623115577891]
["17maND",{"$f":"VLOOKUP($AA344,DATA!$B$3:$E$6,2,0)","v":"22:30:00"},{"$f":"VLOOKUP($AA344,DATA!$B$3:$E$6,3,0)","v":"06:30:00"},{"$f":"VLOOKUP($AA344,DATA!$B$3:$E$6,4,0)","v":3.125E-2},0.30208333333333326,0.29305555555555546,{"$f":"DATA!$C$9","v":0.89},{"$f":"DATA!$C$10","v":64},1,395.62499999999989,407.81249999999989,9.0277777777777787E-3,12.187500000000002,2.9885057471264381E-2,0,"","",224,200,200,"","",null,{"$f":"X352","v":17},null,{"$f":"TEXT(Y342,\"ddd\")","v":"ma"},"ND",{"$f":"IFERROR(HLOOKUP(Y342,[1]DATA!$A$1:$NB$5,5,0),\"\")","v":"D1"},13,null,10,210,{"$f":"VLOOKUP(Y342,[1]SRA!$S$4:$Z$368,4,0)","v":199},-195.62499999999989,0.49042145593869746,0.52955082742316784]
["17diDD",{"$f":"VLOOKUP($AA345,DATA!$B$3:$E$6,2,0)","v":"06:30:00"},{"$f":"VLOOKUP($AA345,DATA!$B$3:$E$6,3,0)","v":"14:30:00"},{"$f":"VLOOKUP($AA345,DATA!$B$3:$E$6,4,0)","v":3.125E-2},0.30208333333333331,0.30208333333333331,{"$f":"DATA!$C$9","v":0.89},{"$f":"DATA!$C$10","v":64},1,407.8125,407.8125,0,"","",0,"","",332.8,293,"","",293,null,{"$f":"X352","v":17},{"$f":"Y342+1","v":"2018-04-24"},{"$f":"TEXT(Y345,\"ddd\")","v":"di"},"DD",{"$f":"IFERROR(HLOOKUP(Y345,[1]DATA!$A$1:$NB$5,3,0),\"\")","v":"D3"},0,null,19,312,{"$f":"VLOOKUP(Y345,[1]SRA!$S$4:$Z$368,2,0)","v":34},-114.8125,0.71846743295019155,0.90730643402399125]
["17diMD",{"$f":"VLOOKUP($AA346,DATA!$B$3:$E$6,2,0)","v":"14:30:00"},{"$f":"VLOOKUP($AA346,DATA!$B$3:$E$6,3,0)","v":"22:30:00"},{"$f":"VLOOKUP($AA346,DATA!$B$3:$E$6,4,0)","v":3.125E-2},0.30208333333333337,0.30208333333333337,{"$f":"DATA!$C$9","v":0.89},{"$f":"DATA!$C$10","v":64},1,407.81250000000006,407.81250000000006,0,"","",0,"","",393.6,332,"",332,"",null,{"$f":"X352","v":17},null,{"$f":"TEXT(Y345,\"ddd\")","v":"di"},"MD",{"$f":"IFERROR(HLOOKUP(Y345,[1]DATA!$A$1:$NB$5,4,0),\"\")","v":"D2"},0,null,37,369,{"$f":"VLOOKUP(Y345,[1]SRA!$S$4:$Z$368,3,0)","v":52},-75.812500000000057,0.8140996168582374,0.88330341113105926]
["17diND",{"$f":"VLOOKUP($AA347,DATA!$B$3:$E$6,2,0)","v":"22:30:00"},{"$f":"VLOOKUP($AA347,DATA!$B$3:$E$6,3,0)","v":"06:30:00"},{"$f":"VLOOKUP($AA347,DATA!$B$3:$E$6,4,0)","v":3.125E-2},0.30208333333333326,0.28680555555555548,{"$f":"DATA!$C$9","v":0.89},{"$f":"DATA!$C$10","v":64},1,387.18749999999989,407.81249999999989,1.5277777777777777E-2,20.625,5.0574712643678174E-2,0,"","",297.60000000000002,263,263,"","",null,{"$f":"X352","v":17},null,{"$f":"TEXT(Y345,\"ddd\")","v":"di"},"ND",{"$f":"IFERROR(HLOOKUP(Y345,[1]DATA!$A$1:$NB$5,5,0),\"\")","v":"D1"},22,null,16,279,{"$f":"VLOOKUP(Y345,[1]SRA!$S$4:$Z$368,4,0)","v":3},-124.18749999999989,0.64490421455938718,{"$f":"IFERROR(R347/(R347+AG347),\"\")","v":0.99001996007984028}]
["17woDD",{"$f":"VLOOKUP($AA348,DATA!$B$3:$E$6,2,0)","v":"06:30:00"},{"$f":"VLOOKUP($AA348,DATA!$B$3:$E$6,3,0)","v":"14:30:00"},{"$f":"VLOOKUP($AA348,DATA!$B$3:$E$6,4,0)","v":3.125E-2},{"$f":"(C348-B348+(B348>C348))-D348","v":0.30208333333333331},{"$f":"E348-O348-L348","v":0.28263888888888888},{"$f":"DATA!$C$9","v":0.89},{"$f":"DATA!$C$10","v":64},1,381.5625,407.8125,1.9444444444444445E-2,26.25,6.4367816091954022E-2,0,"","",261.33333333333331,233,"","",233,null,{"$f":"X352","v":17},{"$f":"Y345+1","v":"2018-04-25"},{"$f":"TEXT(Y348,\"ddd\")","v":"wo"},"DD",{"$f":"IFERROR(HLOOKUP(Y348,[1]DATA!$A$1:$NB$5,3,0),\"\")","v":"D3"},28,null,12,245,{"$f":"VLOOKUP(Y348,[1]SRA!$S$4:$Z$368,2,0)","v":10},-148.5625,0.57134099616858236,0.96314496314496312]
["17woMD",{"$f":"VLOOKUP($AA349,DATA!$B$3:$E$6,2,0)","v":"14:30:00"},{"$f":"VLOOKUP($AA349,DATA!$B$3:$E$6,3,0)","v":"22:30:00"},{"$f":"VLOOKUP($AA349,DATA!$B$3:$E$6,4,0)","v":3.125E-2},0.30208333333333337,0.26666666666666672,{"$f":"DATA!$C$9","v":0.89},{"$f":"DATA!$C$10","v":64},1,360.00000000000006,407.81250000000006,3.5416666666666666E-2,47.8125,0.11724137931034481,0,"","",307.2,263,"",263,"",null,{"$f":"X352","v":17},null,{"$f":"TEXT(Y348,\"ddd\")","v":"wo"},"MD",{"$f":"IFERROR(HLOOKUP(Y348,[1]DATA!$A$1:$NB$5,4,0),\"\")","v":"D2"},51,null,25,288,{"$f":"VLOOKUP(Y348,[1]SRA!$S$4:$Z$368,3,0)","v":21},-97.000000000000057,0.64490421455938685,0.93601462522851919]
["17woND",{"$f":"VLOOKUP($AA350,DATA!$B$3:$E$6,2,0)","v":"22:30:00"},{"$f":"VLOOKUP($AA350,DATA!$B$3:$E$6,3,0)","v":"06:30:00"},{"$f":"VLOOKUP($AA350,DATA!$B$3:$E$6,4,0)","v":3.125E-2},0.30208333333333326,0.30208333333333326,{"$f":"DATA!$C$9","v":0.89},{"$f":"DATA!$C$10","v":64},1,407.81249999999989,407.81249999999989,0,"","",0,"","",377.6,339,339,"","",null,{"$f":"X352","v":17},null,{"$f":"TEXT(Y348,\"ddd\")","v":"wo"},"ND",{"$f":"IFERROR(HLOOKUP(Y348,[1]DATA!$A$1:$NB$5,5,0),\"\")","v":"D1"},0,null,15,354,{"$f":"VLOOKUP(Y348,[1]SRA!$S$4:$Z$368,4,0)","v":25},-68.812499999999886,0.83126436781609214,0.93790362642821656]
["17doDD",{"$f":"VLOOKUP($AA351,DATA!$B$3:$E$6,2,0)","v":"06:30:00"},{"$f":"VLOOKUP($AA351,DATA!$B$3:$E$6,3,0)","v":"14:30:00"},{"$f":"VLOOKUP($AA351,DATA!$B$3:$E$6,4,0)","v":3.125E-2},0.30208333333333331,0.30208333333333331,{"$f":"DATA!$C$9","v":0.89},{"$f":"DATA!$C$10","v":64},1,407.8125,407.8125,0,"","",0,"","",348.8,314,"","",314,null,{"$f":"X352","v":17},{"$f":"Y348+1","v":"2018-04-26"},{"$f":"TEXT(Y351,\"ddd\")","v":"do"},"DD",{"$f":"IFERROR(HLOOKUP(Y351,[1]DATA!$A$1:$NB$5,3,0),\"\")","v":"D3"},0,null,13,327,{"$f":"VLOOKUP(Y351,[1]SRA!$S$4:$Z$368,2,0)","v":35},-93.8125,0.76996168582375479,0.90880667014069827]
["17doMD",{"$f":"VLOOKUP($AA352,DATA!$B$3:$E$6,2,0)","v":"14:30:00"},{"$f":"VLOOKUP($AA352,DATA!$B$3:$E$6,3,0)","v":"22:30:00"},{"$f":"VLOOKUP($AA352,DATA!$B$3:$E$6,4,0)","v":3.125E-2},0.30208333333333337,0.2902777777777778,{"$f":"DATA!$C$9","v":0.89},{"$f":"DATA!$C$10","v":64},1,391.87500000000006,407.81250000000006,1.1805555555555555E-2,15.9375,3.9080459770114935E-2,0,"","",248.53333333333333,223,"",223,"",null,{"$f":"WEEKNUM($Y342)","v":17},null,{"$f":"TEXT(Y351,\"ddd\")","v":"do"},"MD",{"$f":"IFERROR(HLOOKUP(Y351,[1]DATA!$A$1:$NB$5,4,0),\"\")","v":"D2"},17,null,10,233,{"$f":"VLOOKUP(Y351,[1]SRA!$S$4:$Z$368,3,0)","v":15},-168.87500000000006,0.54681992337164742,0.94308120414874785]
["17doND",{"$f":"VLOOKUP($AA353,DATA!$B$3:$E$6,2,0)","v":"22:30:00"},{"$f":"VLOOKUP($AA353,DATA!$B$3:$E$6,3,0)","v":"06:30:00"},{"$f":"VLOOKUP($AA353,DATA!$B$3:$E$6,4,0)","v":3.125E-2},0.30208333333333326,0.27499999999999991,{"$f":"DATA!$C$9","v":0.89},{"$f":"DATA!$C$10","v":64},1,371.24999999999989,407.81249999999989,2.7083333333333334E-2,36.5625,8.965517241379313E-2,0,"","",385.06666666666666,347,347,"","",null,{"$f":"X352","v":17},null,{"$f":"TEXT(Y351,\"ddd\")","v":"do"},"ND",{"$f":"IFERROR(HLOOKUP(Y351,[1]DATA!$A$1:$NB$5,5,0),\"\")","v":"D1"},39,null,14,361,{"$f":"VLOOKUP(Y351,[1]SRA!$S$4:$Z$368,4,0)","v":0},-24.249999999999886,0.85088122605364014,1]
["17vrDD",{"$f":"VLOOKUP($AA354,DATA!$B$3:$E$6,2,0)","v":"06:30:00"},{"$f":"VLOOKUP($AA354,DATA!$B$3:$E$6,3,0)","v":"14:30:00"},{"$f":"VLOOKUP($AA354,DATA!$B$3:$E$6,4,0)","v":3.125E-2},0.30208333333333331,0.30208333333333331,{"$f":"DATA!$C$9","v":0.89},{"$f":"DATA!$C$10","v":64},1,407.8125,407.8125,0,"","",0,"","",0,"","","","",null,{"$f":"X352","v":17},{"$f":"Y351+1","v":"2018-04-27"},{"$f":"TEXT(Y354,\"ddd\")","v":"vr"},"DD",{"$f":"IFERROR(HLOOKUP(Y354,[1]DATA!$A$1:$NB$5,3,0),\"\")","v":"D3"},null,null,null,null,{"$f":"VLOOKUP(Y354,[1]SRA!$S$4:$Z$368,2,0)","v":0},"","",""]
["17vrMD",{"$f":"VLOOKUP($AA355,DATA!$B$3:$E$6,2,0)","v":"14:30:00"},{"$f":"VLOOKUP($AA355,DATA!$B$3:$E$6,3,0)","v":"22:30:00"},{"$f":"VLOOKUP($AA355,DATA!$B$3:$E$6,4,0)","v":3.125E-2},0.30208333333333337,0.30208333333333337,{"$f":"DATA!$C$9","v":0.89},{"$f":"DATA!$C$10","v":64},1,407.81250000000006,407.81250000000006,0,"","",0,"","",0,"","","","",null,{"$f":"X352","v":17},null,{"$f":"TEXT(Y354,\"ddd\")","v":"vr"},"MD",{"$f":"IFERROR(HLOOKUP(Y354,[1]DATA!$A$1:$NB$5,4,0),\"\")","v":"D2"},null,null,null,null,{"$f":"VLOOKUP(Y354,[1]SRA!$S$4:$Z$368,3,0)","v":0},"","",""]
["17vrND",{"$f":"VLOOKUP($AA356,DATA!$B$3:$E$6,2,0)","v":"22:30:00"},{"$f":"VLOOKUP($AA356,DATA!$B$3:$E$6,3,0)","v":"06:30:00"},{"$f":"VLOOKUP($AA356,DATA!$B$3:$E$6,4,0)","v":3.125E-2},0.30208333333333326,0.30208333333333326,{"$f":"DATA!$C$9","v":0.89},{"$f":"DATA!$C$10","v":64},1,407.81249999999989,407.81249999999989,0,"","",0,"","",0,"","","","",null,{"$f":"X352","v":17},null,{"$f":"TEXT(Y354,\"ddd\")","v":"vr"},"ND",{"$f":"IFERROR(HLOOKUP(Y354,[1]DATA!$A$1:$NB$5,5,0),\"\")","v":"D2"},null,null,null,null,{"$f":"VLOOKUP(Y354,[1]SRA!$S$4:$Z$368,4,0)","v":0},"","",""]
["17zaDD",{"$f":"VLOOKUP($AA357,DATA!$B$3:$E$6,2,0)","v":"06:30:00"},{"$f":"VLOOKUP($AA357,DATA!$B$3:$E$6,3,0)","v":"14:30:00"},{"$f":"VLOOKUP($AA357,DATA!$B$3:$E$6,4,0)","v":3.125E-2},0.30208333333333331,0.30208333333333331,{"$f":"DATA!$C$9","v":0.89},{"$f":"DATA!$C$10","v":64},1,407.8125,407.8125,0,"","",0,"","",0,"","","","",null,{"$f":"X352","v":17},{"$f":"Y354+1","v":"2018-04-28"},{"$f":"TEXT(Y357,\"ddd\")","v":"za"},"DD",{"$f":"IFERROR(HLOOKUP(Y357,[1]DATA!$A$1:$NB$5,3,0),\"\")","v":"D3"},null,null,null,null,{"$f":"VLOOKUP(Y357,[1]SRA!$S$4:$Z$368,2,0)","v":0},"","",""]
["17zaMD",{"$f":"VLOOKUP($AA358,DATA!$B$3:$E$6,2,0)","v":"14:30:00"},{"$f":"VLOOKUP($AA358,DATA!$B$3:$E$6,3,0)","v":"22:30:00"},{"$f":"VLOOKUP($AA358,DATA!$B$3:$E$6,4,0)","v":3.125E-2},0.30208333333333337,0.30208333333333337,{"$f":"DATA!$C$9","v":0.89},{"$f":"DATA!$C$10","v":64},1,407.81250000000006,407.81250000000006,0,"","",0,"","",0,"","","","",null,{"$f":"X352","v":17},null,{"$f":"TEXT(Y357,\"ddd\")","v":"za"},"MD",{"$f":"IFERROR(HLOOKUP(Y357,[1]DATA!$A$1:$NB$5,4,0),\"\")","v":"-"},null,null,null,null,{"$f":"VLOOKUP(Y357,[1]SRA!$S$4:$Z$368,3,0)","v":0},"","",""]
["17zaND",{"$f":"VLOOKUP($AA359,DATA!$B$3:$E$6,2,0)","v":"22:30:00"},{"$f":"VLOOKUP($AA359,DATA!$B$3:$E$6,3,0)","v":"06:30:00"},{"$f":"VLOOKUP($AA359,DATA!$B$3:$E$6,4,0)","v":3.125E-2},0.30208333333333326,0.30208333333333326,{"$f":"DATA!$C$9","v":0.89},{"$f":"DATA!$C$10","v":64},1,407.81249999999989,407.81249999999989,0,"","",0,"","",0,"","","","",null,{"$f":"X352","v":17},null,{"$f":"TEXT(Y357,\"ddd\")","v":"za"},"ND",{"$f":"IFERROR(HLOOKUP(Y357,[1]DATA!$A$1:$NB$5,5,0),\"\")","v":"-"},null,null,null,null,{"$f":"VLOOKUP(Y357,[1]SRA!$S$4:$Z$368,4,0)","v":0},"","",""]
["17zoDD",{"$f":"VLOOKUP($AA360,DATA!$B$3:$E$6,2,0)","v":"06:30:00"},{"$f":"VLOOKUP($AA360,DATA!$B$3:$E$6,3,0)","v":"14:30:00"},{"$f":"VLOOKUP($AA360,DATA!$B$3:$E$6,4,0)","v":3.125E-2},0.30208333333333331,0.30208333333333331,{"$f":"DATA!$C$9","v":0.89},{"$f":"DATA!$C$10","v":64},1,407.8125,407.8125,0,"","",0,"","",0,"","","","",null,{"$f":"X352","v":17},{"$f":"Y357+1","v":"2018-04-29"},{"$f":"TEXT(Y360,\"ddd\")","v":"zo"},"DD",{"$f":"IFERROR(HLOOKUP(Y360,[1]DATA!$A$1:$NB$5,3,0),\"\")","v":"-"},null,null,null,null,{"$f":"VLOOKUP(Y360,[1]SRA!$S$4:$Z$368,2,0)","v":0},"","",""]
["17zoMD",{"$f":"VLOOKUP($AA361,DATA!$B$3:$E$6,2,0)","v":"14:30:00"},{"$f":"VLOOKUP($AA361,DATA!$B$3:$E$6,3,0)","v":"22:30:00"},{"$f":"VLOOKUP($AA361,DATA!$B$3:$E$6,4,0)","v":3.125E-2},0.30208333333333337,0.30208333333333337,{"$f":"DATA!$C$9","v":0.89},{"$f":"DATA!$C$10","v":64},1,407.81250000000006,407.81250000000006,0,"","",0,"","",0,"","","","",null,{"$f":"X352","v":17},null,{"$f":"TEXT(Y360,\"ddd\")","v":"zo"},"MD",{"$f":"IFERROR(HLOOKUP(Y360,[1]DATA!$A$1:$NB$5,4,0),\"\")","v":"-"},null,null,null,null,{"$f":"VLOOKUP(Y360,[1]SRA!$S$4:$Z$368,3,0)","v":0},"","",""]
["17zoZND",{"$f":"VLOOKUP($AA362,DATA!$B$3:$E$6,2,0)","v":"00:00:00"},{"$f":"VLOOKUP($AA362,DATA!$B$3:$E$6,3,0)","v":"00:00:00"},{"$f":"VLOOKUP($AA362,DATA!$B$3:$E$6,4,0)","v":0},0,0,{"$f":"DATA!$C$9","v":0.89},{"$f":"DATA!$C$10","v":64},1,0,0,0,"","",0,"","",0,"","","","",null,{"$f":"X352","v":17},null,{"$f":"TEXT(Y360,\"ddd\")","v":"zo"},"ZND",{"$f":"IFERROR(HLOOKUP(Y360,[1]DATA!$A$1:$NB$5,5,0),\"\")","v":"-"},null,null,null,null,{"$f":"VLOOKUP(Y360,[1]SRA!$S$4:$Z$368,4,0)","v":0},"","",""]
["18maDD",{"$f":"VLOOKUP($AA363,DATA!$B$3:$E$6,2,0)","v":"06:30:00"},{"$f":"VLOOKUP($AA363,DATA!$B$3:$E$6,3,0)","v":"14:30:00"},{"$f":"VLOOKUP($AA363,DATA!$B$3:$E$6,4,0)","v":3.125E-2},0.30208333333333331,0.29374999999999996,{"$f":"DATA!$C$9","v":0.89},{"$f":"DATA!$C$10","v":64},1,396.56249999999994,407.8125,8.3333333333333332E-3,11.25,2.7586206896551724E-2,{"$f":"TIME(INT($AD363/60),INT(MOD($AD363,60)/1),0)","v":0},"","",354.13333333333333,317,"",317,"",null,{"$f":"X373","v":18},{"$f":"Y360+1","v":"2018-04-30"},{"$f":"TEXT(Y363,\"ddd\")","v":"ma"},"DD",{"$f":"IFERROR(HLOOKUP(Y363,[1]DATA!$A$1:$NB$5,3,0),\"\")","v":"D2"},12,null,15,332,{"$f":"VLOOKUP(Y363,[1]SRA!$S$4:$Z$368,2,0)","v":6},-79.562499999999943,0.77731800766283521,0.98333950388744906,{"$f":"IF(SUMIF(S363:S383,\">0\",K363:K383)=0,\"\",SUMIF(S363:S383,\">0\",K363:K383))","v":6525},{"$f":"IF(SUM(S363:S383)=0,\"\",SUM(S363:S383))","v":4761},{"$f":"IFERROR(AL363/AK363,\"-\")","v":0.72965517241379307},{"$f":"IF(SUM(M363:M383)=0,\"0\",SUM(M363:M383))","v":120.9375},{"$f":"IFERROR(AN363/AK363,\"-\")","v":1.8534482758620689E-2},{"$f":"IF(SUM(P363:P383)=0,0,SUM(P363:P383))","v":0},{"$f":"IFERROR(AP363/AK363,\"-\")","v":0},{"$f":"IFERROR(AVERAGE(AJ363:AJ383),\"-\")","v":0.95132962952851219},{"$f":"IFERROR(SUMIF($AB363:$AB383,AS$5,$AJ363:$AJ383)/COUNTIFS($AB363:$AB383,AS$5,$AJ363:$AJ383,\">0\"),\"\")","v":0.9538381872156132},0.94358091227379859,0.95811953254706805,{"$f":"IFERROR((AK363-AL363-AN363-AP363),\"-\")","v":1643.0625},{"$f":"IFERROR((1-AM363-AO363-AQ363), \"-\")","v":0.25181034482758624},{"$f":"IFERROR((AV363*$AE$2)/60,\"-\")","v":1752.6},{"$f":"IFERROR(SUM(AG363:AG383),\"\")","v":278}]
["18maMD",{"$f":"VLOOKUP($AA364,DATA!$B$3:$E$6,2,0)","v":"14:30:00"},{"$f":"VLOOKUP($AA364,DATA!$B$3:$E$6,3,0)","v":"22:30:00"},{"$f":"VLOOKUP($AA364,DATA!$B$3:$E$6,4,0)","v":3.125E-2},0.30208333333333337,0.29861111111111116,{"$f":"DATA!$C$9","v":0.89},{"$f":"DATA!$C$10","v":64},1,403.12500000000006,407.81250000000006,3.472222222222222E-3,4.6875,1.1494252873563216E-2,{"$f":"TIME(INT(AD364/60),INT(MOD(AD364,60)/1),0)","v":0},"","",315.73333333333335,284,284,"","",null,{"$f":"X373","v":18},null,{"$f":"TEXT(Y363,\"ddd\")","v":"ma"},"MD",{"$f":"IFERROR(HLOOKUP(Y363,[1]DATA!$A$1:$NB$5,4,0),\"\")","v":"D1"},5,null,12,296,{"$f":"VLOOKUP(Y363,[1]SRA!$S$4:$Z$368,3,0)","v":23},-119.12500000000006,0.69639846743295009,0.9320999803188349]
["18maND",{"$f":"VLOOKUP($AA365,DATA!$B$3:$E$6,2,0)","v":"22:30:00"},{"$f":"VLOOKUP($AA365,DATA!$B$3:$E$6,3,0)","v":"06:30:00"},{"$f":"VLOOKUP($AA365,DATA!$B$3:$E$6,4,0)","v":3.125E-2},0.30208333333333326,0.29097222222222213,{"$f":"DATA!$C$9","v":0.89},{"$f":"DATA!$C$10","v":64},1,392.81249999999989,407.81249999999989,1.1111111111111112E-2,15,3.6781609195402312E-2,0,"","",345.6,312,"","",312,null,{"$f":"X373","v":18},null,{"$f":"TEXT(Y363,\"ddd\")","v":"ma"},"ND",{"$f":"IFERROR(HLOOKUP(Y363,[1]DATA!$A$1:$NB$5,5,0),\"\")","v":"D3"},16,null,12,324,{"$f":"VLOOKUP(Y363,[1]SRA!$S$4:$Z$368,4,0)","v":20},-80.812499999999886,0.76505747126436807,0.94529540481400443]
["18diDD",{"$f":"VLOOKUP($AA366,DATA!$B$3:$E$6,2,0)","v":"06:30:00"},{"$f":"VLOOKUP($AA366,DATA!$B$3:$E$6,3,0)","v":"14:30:00"},{"$f":"VLOOKUP($AA366,DATA!$B$3:$E$6,4,0)","v":3.125E-2},0.30208333333333331,0.2951388888888889,{"$f":"DATA!$C$9","v":0.89},{"$f":"DATA!$C$10","v":64},1,398.4375,407.8125,6.9444444444444441E-3,9.375,2.2988505747126436E-2,0,"","",339.2,300,"",300,"",null,{"$f":"X373","v":18},{"$f":"Y363+1","v":"2018-05-01"},{"$f":"TEXT(Y366,\"ddd\")","v":"di"},"DD",{"$f":"IFERROR(HLOOKUP(Y366,[1]DATA!$A$1:$NB$5,3,0),\"\")","v":"D2"},10,null,18,318,{"$f":"VLOOKUP(Y366,[1]SRA!$S$4:$Z$368,2,0)","v":19},-98.4375,0.73563218390804597,0.94695700725851484]
["18diMD",{"$f":"VLOOKUP($AA367,DATA!$B$3:$E$6,2,0)","v":"14:30:00"},{"$f":"VLOOKUP($AA367,DATA!$B$3:$E$6,3,0)","v":"22:30:00"},{"$f":"VLOOKUP($AA367,DATA!$B$3:$E$6,4,0)","v":3.125E-2},0.30208333333333337,0.29236111111111113,{"$f":"DATA!$C$9","v":0.89},{"$f":"DATA!$C$10","v":64},1,394.6875,407.81250000000006,9.7222222222222224E-3,13.125,3.2183908045977004E-2,0,"","",381.86666666666667,326,326,"","",null,{"$f":"X373","v":18},null,{"$f":"TEXT(Y366,\"ddd\")","v":"di"},"MD",{"$f":"IFERROR(HLOOKUP(Y366,[1]DATA!$A$1:$NB$5,4,0),\"\")","v":"D1"},14,null,32,358,{"$f":"VLOOKUP(Y366,[1]SRA!$S$4:$Z$368,3,0)","v":10},-68.6875,0.79938697318007657,0.97448111602585918]
[{"$f":"X368&Z368&AA368","v":"18diND"},{"$f":"VLOOKUP($AA368,DATA!$B$3:$E$6,2,0)","v":"22:30:00"},{"$f":"VLOOKUP($AA368,DATA!$B$3:$E$6,3,0)","v":"06:30:00"},{"$f":"VLOOKUP($AA368,DATA!$B$3:$E$6,4,0)","v":3.125E-2},0.30208333333333326,0.29652777777777772,{"$f":"DATA!$C$9","v":0.89},{"$f":"DATA!$C$10","v":64},1,400.31249999999994,407.81249999999989,5.5555555555555558E-3,7.5,1.8390804597701156E-2,0,{"$f":"IF($O368*86400/$H368=0,\"\",$O368*86400/$H368)","v":""},"",334.93333333333334,308,"","",308,null,{"$f":"X373","v":18},null,{"$f":"TEXT(Y366,\"ddd\")","v":"di"},"ND",{"$f":"IFERROR(HLOOKUP(Y366,[1]DATA!$A$1:$NB$5,5,0),\"\")","v":"D3"},8,null,6,314,{"$f":"VLOOKUP(Y366,[1]SRA!$S$4:$Z$368,4,0)","v":8},-92.312499999999943,0.75524904214559407,0.97667185069984452]
["18woDD",{"$f":"VLOOKUP($AA369,DATA!$B$3:$E$6,2,0)","v":"06:30:00"},{"$f":"VLOOKUP($AA369,DATA!$B$3:$E$6,3,0)","v":"14:30:00"},{"$f":"VLOOKUP($AA369,DATA!$B$3:$E$6,4,0)","v":3.125E-2},0.30208333333333331,0.30208333333333331,{"$f":"DATA!$C$9","v":0.89},{"$f":"DATA!$C$10","v":64},1,407.8125,407.8125,0,"","",0,"","",379.73333333333335,338,"",338,"",null,{"$f":"X373","v":18},{"$f":"Y366+1","v":"2018-05-02"},{"$f":"TEXT(Y369,\"ddd\")","v":"wo"},"DD",{"$f":"IFERROR(HLOOKUP(Y369,[1]DATA!$A$1:$NB$5,3,0),\"\")","v":"D2"},0,null,18,356,{"$f":"VLOOKUP(Y369,[1]SRA!$S$4:$Z$368,2,0)","v":25},-69.8125,0.82881226053639845,0.93823093394827872]
["18woMD",{"$f":"VLOOKUP($AA370,DATA!$B$3:$E$6,2,0)","v":"14:30:00"},{"$f":"VLOOKUP($AA370,DATA!$B$3:$E$6,3,0)","v":"22:30:00"},{"$f":"VLOOKUP($AA370,DATA!$B$3:$E$6,4,0)","v":3.125E-2},0.30208333333333337,0.29097222222222224,{"$f":"DATA!$C$9","v":0.89},{"$f":"DATA!$C$10","v":64},1,392.8125,407.81250000000006,1.1111111111111112E-2,15,3.6781609195402291E-2,0,"","",357.33333333333331,307,307,"","",null,{"$f":"X373","v":18},null,{"$f":"TEXT(Y369,\"ddd\")","v":"wo"},"MD",{"$f":"IFERROR(HLOOKUP(Y369,[1]DATA!$A$1:$NB$5,4,0),\"\")","v":"D1"},16,null,28,335,{"$f":"VLOOKUP(Y369,[1]SRA!$S$4:$Z$368,3,0)","v":7},-85.8125,0.75279693486590027,0.9807868252516011]
["18woND",{"$f":"VLOOKUP($AA371,DATA!$B$3:$E$6,2,0)","v":"22:30:00"},{"$f":"VLOOKUP($AA371,DATA!$B$3:$E$6,3,0)","v":"06:30:00"},{"$f":"VLOOKUP($AA371,DATA!$B$3:$E$6,4,0)","v":3.125E-2},0.30208333333333326,0.29791666666666661,{"$f":"DATA!$C$9","v":0.89},{"$f":"DATA!$C$10","v":64},1,402.18749999999994,407.81249999999989,4.1666666666666666E-3,5.625,1.3793103448275865E-2,0,"","",342.4,305,"","",305,null,{"$f":"X373","v":18},null,{"$f":"TEXT(Y369,\"ddd\")","v":"wo"},"ND",{"$f":"IFERROR(HLOOKUP(Y369,[1]DATA!$A$1:$NB$5,5,0),\"\")","v":"D3"},6,null,16,321,{"$f":"VLOOKUP(Y369,[1]SRA!$S$4:$Z$368,4,0)","v":6},-97.187499999999943,0.74789272030651366,0.98277841561423651]
["18doDD",{"$f":"VLOOKUP($AA372,DATA!$B$3:$E$6,2,0)","v":"06:30:00"},{"$f":"VLOOKUP($AA372,DATA!$B$3:$E$6,3,0)","v":"14:30:00"},{"$f":"VLOOKUP($AA372,DATA!$B$3:$E$6,4,0)","v":3.125E-2},0.30208333333333331,0.29236111111111107,{"$f":"DATA!$C$9","v":0.89},{"$f":"DATA!$C$10","v":64},1,394.68749999999994,407.8125,9.7222222222222224E-3,13.125,3.2183908045977011E-2,0,"","",332.8,282,"",282,"",null,{"$f":"X373","v":18},{"$f":"Y369+1","v":"2018-05-03"},{"$f":"TEXT(Y372,\"ddd\")","v":"do"},"DD",{"$f":"IFERROR(HLOOKUP(Y372,[1]DATA!$A$1:$NB$5,3,0),\"\")","v":"D2"},14,null,30,312,{"$f":"VLOOKUP(Y372,[1]SRA!$S$4:$Z$368,2,0)","v":15},-112.68749999999994,0.69149425287356325,0.95687176538240371]
["18doMD",{"$f":"VLOOKUP($AA373,DATA!$B$3:$E$6,2,0)","v":"14:30:00"},{"$f":"VLOOKUP($AA373,DATA!$B$3:$E$6,3,0)","v":"22:30:00"},{"$f":"VLOOKUP($AA373,DATA!$B$3:$E$6,4,0)","v":3.125E-2},0.30208333333333337,0.30208333333333337,{"$f":"DATA!$C$9","v":0.89},{"$f":"DATA!$C$10","v":64},1,407.81250000000006,407.81250000000006,0,"","",0,"","",405.33333333333331,353,353,"","",null,{"$f":"WEEKNUM($Y363)","v":18},null,{"$f":"TEXT(Y372,\"ddd\")","v":"do"},"MD",{"$f":"IFERROR(HLOOKUP(Y372,[1]DATA!$A$1:$NB$5,4,0),\"\")","v":"D1"},0,null,27,380,{"$f":"VLOOKUP(Y372,[1]SRA!$S$4:$Z$368,3,0)","v":43},-54.812500000000057,0.86559386973180064,0.90408921933085507]
["18doND",{"$f":"VLOOKUP($AA374,DATA!$B$3:$E$6,2,0)","v":"22:30:00"},{"$f":"VLOOKUP($AA374,DATA!$B$3:$E$6,3,0)","v":"06:30:00"},{"$f":"VLOOKUP($AA374,DATA!$B$3:$E$6,4,0)","v":3.125E-2},0.30208333333333326,0.30208333333333326,{"$f":"DATA!$C$9","v":0.89},{"$f":"DATA!$C$10","v":64},1,407.81249999999989,407.81249999999989,0,"","",0,"","",307.2,278,"","",278,null,{"$f":"X373","v":18},null,{"$f":"TEXT(Y372,\"ddd\")","v":"do"},"ND",{"$f":"IFERROR(HLOOKUP(Y372,[1]DATA!$A$1:$NB$5,5,0),\"\")","v":"D3"},0,null,10,288,{"$f":"VLOOKUP(Y372,[1]SRA!$S$4:$Z$368,4,0)","v":16},-129.81249999999989,0.68168582375478948,0.95049504950495045]
["18vrDD",{"$f":"VLOOKUP($AA375,DATA!$B$3:$E$6,2,0)","v":"06:30:00"},{"$f":"VLOOKUP($AA375,DATA!$B$3:$E$6,3,0)","v":"14:30:00"},{"$f":"VLOOKUP($AA375,DATA!$B$3:$E$6,4,0)","v":3.125E-2},0.30208333333333331,0.29791666666666666,{"$f":"DATA!$C$9","v":0.89},{"$f":"DATA!$C$10","v":64},1,402.1875,407.8125,4.1666666666666666E-3,5.625,1.3793103448275862E-2,0,"","",279.46666666666664,258,"",258,"",null,{"$f":"X373","v":18},{"$f":"Y372+1","v":"2018-05-04"},{"$f":"TEXT(Y375,\"ddd\")","v":"vr"},"DD",{"$f":"IFERROR(HLOOKUP(Y375,[1]DATA!$A$1:$NB$5,3,0),\"\")","v":"D2"},6,null,4,262,{"$f":"VLOOKUP(Y375,[1]SRA!$S$4:$Z$368,2,0)","v":26},-144.1875,0.63264367816091949,0.91488432998690528]
["18vrMD",{"$f":"VLOOKUP($AA376,DATA!$B$3:$E$6,2,0)","v":"14:30:00"},{"$f":"VLOOKUP($AA376,DATA!$B$3:$E$6,3,0)","v":"22:30:00"},{"$f":"VLOOKUP($AA376,DATA!$B$3:$E$6,4,0)","v":3.125E-2},0.30208333333333337,0.29097222222222224,{"$f":"DATA!$C$9","v":0.89},{"$f":"DATA!$C$10","v":64},1,392.8125,407.81250000000006,1.1111111111111112E-2,15,3.6781609195402291E-2,0,"","",263.46666666666664,236,236,"","",null,{"$f":"X373","v":18},null,{"$f":"TEXT(Y375,\"ddd\")","v":"vr"},"MD",{"$f":"IFERROR(HLOOKUP(Y375,[1]DATA!$A$1:$NB$5,4,0),\"\")","v":"D1"},16,null,11,247,{"$f":"VLOOKUP(Y375,[1]SRA!$S$4:$Z$368,3,0)","v":6},-156.8125,0.57869731800766278,0.97773379515091541]
["18vrND",{"$f":"VLOOKUP($AA377,DATA!$B$3:$E$6,2,0)","v":"22:30:00"},{"$f":"VLOOKUP($AA377,DATA!$B$3:$E$6,3,0)","v":"06:30:00"},{"$f":"VLOOKUP($AA377,DATA!$B$3:$E$6,4,0)","v":3.125E-2},0.30208333333333326,0.30138888888888882,{"$f":"DATA!$C$9","v":0.89},{"$f":"DATA!$C$10","v":64},1,406.87499999999989,407.81249999999989,6.9444444444444447E-4,0.9375,2.2988505747126445E-3,0,"","",332.8,298,"","",298,null,{"$f":"X373","v":18},null,{"$f":"TEXT(Y375,\"ddd\")","v":"vr"},"ND",{"$f":"IFERROR(HLOOKUP(Y375,[1]DATA!$A$1:$NB$5,5,0),\"\")","v":"D3"},1,null,14,312,{"$f":"VLOOKUP(Y375,[1]SRA!$S$4:$Z$368,4,0)","v":23},-108.87499999999989,0.73072796934865925,0.93535694210230469]
["18zaDD",{"$f":"VLOOKUP($AA378,DATA!$B$3:$E$6,2,0)","v":"06:30:00"},{"$f":"VLOOKUP($AA378,DATA!$B$3:$E$6,3,0)","v":"14:30:00"},{"$f":"VLOOKUP($AA378,DATA!$B$3:$E$6,4,0)","v":3.125E-2},0.30208333333333331,0.2986111111111111,{"$f":"DATA!$C$9","v":0.89},{"$f":"DATA!$C$10","v":64},1,403.125,407.8125,3.472222222222222E-3,4.6875,1.1494252873563218E-2,0,"","",292.26666666666665,259,"",259,"",null,{"$f":"X373","v":18},{"$f":"Y375+1","v":"2018-05-05"},{"$f":"TEXT(Y378,\"ddd\")","v":"za"},"DD",{"$f":"IFERROR(HLOOKUP(Y378,[1]DATA!$A$1:$NB$5,3,0),\"\")","v":"D2"},5,null,15,274,{"$f":"VLOOKUP(Y378,[1]SRA!$S$4:$Z$368,2,0)","v":25},-144.125,0.63509578544061307,0.92120193317923937]
["18zaMD",{"$f":"VLOOKUP($AA379,DATA!$B$3:$E$6,2,0)","v":"14:30:00"},{"$f":"VLOOKUP($AA379,DATA!$B$3:$E$6,3,0)","v":"22:30:00"},{"$f":"VLOOKUP($AA379,DATA!$B$3:$E$6,4,0)","v":3.125E-2},0.30208333333333337,0.30208333333333337,{"$f":"DATA!$C$9","v":0.89},{"$f":"DATA!$C$10","v":64},1,407.81250000000006,407.81250000000006,0,"","",0,"","",0,"","","","",null,{"$f":"X373","v":18},null,{"$f":"TEXT(Y378,\"ddd\")","v":"za"},"MD",{"$f":"IFERROR(HLOOKUP(Y378,[1]DATA!$A$1:$NB$5,4,0),\"\")","v":"-"},null,null,null,null,{"$f":"VLOOKUP(Y378,[1]SRA!$S$4:$Z$368,3,0)","v":0},"","",""]
["18zaND",{"$f":"VLOOKUP($AA380,DATA!$B$3:$E$6,2,0)","v":"22:30:00"},{"$f":"VLOOKUP($AA380,DATA!$B$3:$E$6,3,0)","v":"06:30:00"},{"$f":"VLOOKUP($AA380,DATA!$B$3:$E$6,4,0)","v":3.125E-2},0.30208333333333326,0.30208333333333326,{"$f":"DATA!$C$9","v":0.89},{"$f":"DATA!$C$10","v":64},1,407.81249999999989,407.81249999999989,0,"","",0,"","",0,"","","","",null,{"$f":"X373","v":18},null,{"$f":"TEXT(Y378,\"ddd\")","v":"za"},"ND",{"$f":"IFERROR(HLOOKUP(Y378,[1]DATA!$A$1:$NB$5,5,0),\"\")","v":"-"},null,null,null,null,{"$f":"VLOOKUP(Y378,[1]SRA!$S$4:$Z$368,4,0)","v":0},"","",""]
["18zoDD",{"$f":"VLOOKUP($AA381,DATA!$B$3:$E$6,2,0)","v":"06:30:00"},{"$f":"VLOOKUP($AA381,DATA!$B$3:$E$6,3,0)","v":"14:30:00"},{"$f":"VLOOKUP($AA381,DATA!$B$3:$E$6,4,0)","v":3.125E-2},0.30208333333333331,0.30208333333333331,{"$f":"DATA!$C$9","v":0.89},{"$f":"DATA!$C$10","v":64},1,407.8125,407.8125,0,"","",0,"","",0,"","","","",null,{"$f":"X373","v":18},{"$f":"Y378+1","v":"2018-05-06"},{"$f":"TEXT(Y381,\"ddd\")","v":"zo"},"DD",{"$f":"IFERROR(HLOOKUP(Y381,[1]DATA!$A$1:$NB$5,3,0),\"\")","v":"-"},null,null,null,null,{"$f":"VLOOKUP(Y381,[1]SRA!$S$4:$Z$368,2,0)","v":0},"","",""]
["18zoMD",{"$f":"VLOOKUP($AA382,DATA!$B$3:$E$6,2,0)","v":"14:30:00"},{"$f":"VLOOKUP($AA382,DATA!$B$3:$E$6,3,0)","v":"22:30:00"},{"$f":"VLOOKUP($AA382,DATA!$B$3:$E$6,4,0)","v":3.125E-2},0.30208333333333337,0.30208333333333337,{"$f":"DATA!$C$9","v":0.89},{"$f":"DATA!$C$10","v":64},1,407.81250000000006,407.81250000000006,0,"","",0,"","",0,"","","","",null,{"$f":"X373","v":18},null,{"$f":"TEXT(Y381,\"ddd\")","v":"zo"},"MD",{"$f":"IFERROR(HLOOKUP(Y381,[1]DATA!$A$1:$NB$5,4,0),\"\")","v":"-"},null,null,null,null,{"$f":"VLOOKUP(Y381,[1]SRA!$S$4:$Z$368,3,0)","v":0},"","",""]
["18zoZND",{"$f":"VLOOKUP($AA383,DATA!$B$3:$E$6,2,0)","v":"00:00:00"},{"$f":"VLOOKUP($AA383,DATA!$B$3:$E$6,3,0)","v":"00:00:00"},{"$f":"VLOOKUP($AA383,DATA!$B$3:$E$6,4,0)","v":0},0,0,{"$f":"DATA!$C$9","v":0.89},{"$f":"DATA!$C$10","v":64},1,0,0,0,"","",0,"","",0,"","","","",null,{"$f":"X373","v":18},null,{"$f":"TEXT(Y381,\"ddd\")","v":"zo"},"ZND",{"$f":"IFERROR(HLOOKUP(Y381,[1]DATA!$A$1:$NB$5,5,0),\"\")","v":"-"},null,null,null,null,{"$f":"VLOOKUP(Y381,[1]SRA!$S$4:$Z$368,4,0)","v":0},"","",""]
["19maDD",{"$f":"VLOOKUP($AA384,DATA!$B$3:$E$6,2,0)","v":"06:30:00"},{"$f":"VLOOKUP($AA384,DATA!$B$3:$E$6,3,0)","v":"14:30:00"},{"$f":"VLOOKUP($AA384,DATA!$B$3:$E$6,4,0)","v":3.125E-2},0.30208333333333331,0.30069444444444443,{"$f":"DATA!$C$9","v":0.89},{"$f":"DATA!$C$10","v":64},1,405.9375,407.8125,1.3888888888888889E-3,1.875,4.5977011494252873E-3,{"$f":"TIME(INT($AD384/60),INT(MOD($AD384,60)/1),0)","v":0},"","",360.5333333333333,331,331,"","",null,{"$f":"X394","v":19},{"$f":"Y381+1","v":"2018-05-07"},{"$f":"TEXT(Y384,\"ddd\")","v":"ma"},"DD",{"$f":"IFERROR(HLOOKUP(Y384,[1]DATA!$A$1:$NB$5,3,0),\"\")","v":"D1"},2,null,7,338,{"$f":"VLOOKUP(Y384,[1]SRA!$S$4:$Z$368,2,0)","v":31},-74.9375,0.81164750957854404,0.92082411033543332,{"$f":"IF(SUMIF(S384:S404,\">0\",K384:K404)=0,\"\",SUMIF(S384:S404,\">0\",K384:K404))","v":5301.5625},{"$f":"IF(SUM(S384:S404)=0,\"\",SUM(S384:S404))","v":3815},{"$f":"IFERROR(AL384/AK384,\"-\")","v":0.71959917477158852},{"$f":"IF(SUM(M384:M404)=0,\"0\",SUM(M384:M404))","v":110.625},{"$f":"IFERROR(AN384/AK384,\"-\")","v":2.0866489832007073E-2},{"$f":"IF(SUM(P384:P404)=0,0,SUM(P384:P404))","v":0},{"$f":"IFERROR(AP384/AK384,\"-\")","v":0},{"$f":"IFERROR(AVERAGE(AJ384:AJ404),\"-\")","v":0.95136449382600585},{"$f":"IFERROR(SUMIF($AB384:$AB404,AS$5,$AJ384:$AJ404)/COUNTIFS($AB384:$AB404,AS$5,$AJ384:$AJ404,\">0\"),\"\")","v":0.95709901552134313},0.98465672918366298,0.9109041063491774,{"$f":"IFERROR((AK384-AL384-AN384-AP384),\"-\")","v":1375.9375},{"$f":"IFERROR((1-AM384-AO384-AQ384), \"-\")","v":0.25953433539640441},{"$f":"IFERROR((AV384*$AE$2)/60,\"-\")","v":1467.6666666666667},{"$f":"IFERROR(SUM(AG384:AG404),\"\")","v":218}]
["19maMD",{"$f":"VLOOKUP($AA385,DATA!$B$3:$E$6,2,0)","v":"14:30:00"},{"$f":"VLOOKUP($AA385,DATA!$B$3:$E$6,3,0)","v":"22:30:00"},{"$f":"VLOOKUP($AA385,DATA!$B$3:$E$6,4,0)","v":3.125E-2},0.30208333333333337,0.30000000000000004,{"$f":"DATA!$C$9","v":0.89},{"$f":"DATA!$C$10","v":64},1,405.00000000000006,407.81250000000006,2.0833333333333333E-3,2.8125,6.8965517241379301E-3,{"$f":"TIME(INT(AD385/60),INT(MOD(AD385,60)/1),0)","v":0},"","",286.93333333333334,264,"","",264,null,{"$f":"X394","v":19},null,{"$f":"TEXT(Y384,\"ddd\")","v":"ma"},"MD",{"$f":"IFERROR(HLOOKUP(Y384,[1]DATA!$A$1:$NB$5,4,0),\"\")","v":"D3"},3,null,5,269,{"$f":"VLOOKUP(Y384,[1]SRA!$S$4:$Z$368,3,0)","v":51},-141.00000000000006,0.64735632183908032,0.8490826593016374]
["19maND",{"$f":"VLOOKUP($AA386,DATA!$B$3:$E$6,2,0)","v":"22:30:00"},{"$f":"VLOOKUP($AA386,DATA!$B$3:$E$6,3,0)","v":"06:30:00"},{"$f":"VLOOKUP($AA386,DATA!$B$3:$E$6,4,0)","v":3.125E-2},0.30208333333333326,0.29930555555555549,{"$f":"DATA!$C$9","v":0.89},{"$f":"DATA!$C$10","v":64},1,404.06249999999989,407.81249999999989,2.7777777777777779E-3,3.75,9.1954022988505781E-3,0,"","",356.26666666666665,319,"",319,"",null,{"$f":"X394","v":19},null,{"$f":"TEXT(Y384,\"ddd\")","v":"ma"},"ND",{"$f":"IFERROR(HLOOKUP(Y384,[1]DATA!$A$1:$NB$5,5,0),\"\")","v":"D2"},4,null,15,334,{"$f":"VLOOKUP(Y384,[1]SRA!$S$4:$Z$368,4,0)","v":19},-85.062499999999886,0.78222222222222249,0.94936933736009943]
["19diDD",{"$f":"VLOOKUP($AA387,DATA!$B$3:$E$6,2,0)","v":"06:30:00"},{"$f":"VLOOKUP($AA387,DATA!$B$3:$E$6,3,0)","v":"14:30:00"},{"$f":"VLOOKUP($AA387,DATA!$B$3:$E$6,4,0)","v":3.125E-2},0.30208333333333331,0.29791666666666666,{"$f":"DATA!$C$9","v":0.89},{"$f":"DATA!$C$10","v":64},1,402.1875,407.8125,4.1666666666666666E-3,5.625,1.3793103448275862E-2,0,"","",368,325,325,"","",null,{"$f":"X394","v":19},{"$f":"Y384+1","v":"2018-05-08"},{"$f":"TEXT(Y387,\"ddd\")","v":"di"},"DD",{"$f":"IFERROR(HLOOKUP(Y387,[1]DATA!$A$1:$NB$5,3,0),\"\")","v":"D1"},6,null,20,345,{"$f":"VLOOKUP(Y387,[1]SRA!$S$4:$Z$368,2,0)","v":13},-77.1875,0.79693486590038309,0.9658792650918635]
["19diMD",{"$f":"VLOOKUP($AA388,DATA!$B$3:$E$6,2,0)","v":"14:30:00"},{"$f":"VLOOKUP($AA388,DATA!$B$3:$E$6,3,0)","v":"22:30:00"},{"$f":"VLOOKUP($AA388,DATA!$B$3:$E$6,4,0)","v":3.125E-2},0.30208333333333337,0.29305555555555557,{"$f":"DATA!$C$9","v":0.89},{"$f":"DATA!$C$10","v":64},1,395.625,407.81250000000006,9.0277777777777787E-3,12.187500000000002,2.9885057471264367E-2,0,"","",317.86666666666667,292,"","",292,null,{"$f":"X394","v":19},null,{"$f":"TEXT(Y387,\"ddd\")","v":"di"},"MD",{"$f":"IFERROR(HLOOKUP(Y387,[1]DATA!$A$1:$NB$5,4,0),\"\")","v":"D3"},13,null,6,298,{"$f":"VLOOKUP(Y387,[1]SRA!$S$4:$Z$368,3,0)","v":26},-103.625,0.71601532567049797,0.92438929817758819]
["19diND",{"$f":"VLOOKUP($AA389,DATA!$B$3:$E$6,2,0)","v":"22:30:00"},{"$f":"VLOOKUP($AA389,DATA!$B$3:$E$6,3,0)","v":"06:30:00"},{"$f":"VLOOKUP($AA389,DATA!$B$3:$E$6,4,0)","v":3.125E-2},0.30208333333333326,0.29305555555555546,{"$f":"DATA!$C$9","v":0.89},{"$f":"DATA!$C$10","v":64},1,395.62499999999989,407.81249999999989,9.0277777777777787E-3,12.187500000000002,2.9885057471264381E-2,0,"","",317.86666666666667,292,"",292,"",null,{"$f":"X394","v":19},null,{"$f":"TEXT(Y387,\"ddd\")","v":"di"},"ND",{"$f":"IFERROR(HLOOKUP(Y387,[1]DATA!$A$1:$NB$5,5,0),\"\")","v":"D2"},13,null,6,298,{"$f":"VLOOKUP(Y387,[1]SRA!$S$4:$Z$368,4,0)","v":0},-103.62499999999989,0.7160153256704983,1]
["19woDD",{"$f":"VLOOKUP($AA390,DATA!$B$3:$E$6,2,0)","v":"06:30:00"},{"$f":"VLOOKUP($AA390,DATA!$B$3:$E$6,3,0)","v":"14:30:00"},{"$f":"VLOOKUP($AA390,DATA!$B$3:$E$6,4,0)","v":3.125E-2},0.30208333333333331,0.28888888888888886,{"$f":"DATA!$C$9","v":0.89},{"$f":"DATA!$C$10","v":64},1,{"$f":"F390*86400/H390*I390","v":389.99999999999994},{"$f":"E390*86400/H390","v":407.8125},1.3194444444444444E-2,17.8125,4.3678160919540229E-2,0,"","",{"$f":"AF390*AG$2","v":345.6},{"$f":"IF(AF390-AE390=0,\"\",AF390-AE390)","v":317},317,"","",null,{"$f":"X394","v":19},{"$f":"Y387+1","v":"2018-05-09"},{"$f":"TEXT(Y390,\"ddd\")","v":"wo"},"DD",{"$f":"IFERROR(HLOOKUP(Y390,[1]DATA!$A$1:$NB$5,3,0),\"\")","v":"D1"},19,null,7,324,{"$f":"VLOOKUP(Y390,[1]SRA!$S$4:$Z$368,2,0)","v":15},{"$f":"IFERROR(S390-J390,\"\")","v":-72.999999999999943},{"$f":"IFERROR(IF(S390/(E390*86400/H390)<=0,\"\",S390/(E390*86400/H390)),\"\")","v":0.77731800766283521},0.95840266222961734]
["19woMD",{"$f":"VLOOKUP($AA391,DATA!$B$3:$E$6,2,0)","v":"14:30:00"},{"$f":"VLOOKUP($AA391,DATA!$B$3:$E$6,3,0)","v":"22:30:00"},{"$f":"VLOOKUP($AA391,DATA!$B$3:$E$6,4,0)","v":3.125E-2},0.30208333333333337,0.29513888888888895,{"$f":"DATA!$C$9","v":0.89},{"$f":"DATA!$C$10","v":64},1,398.43750000000006,407.81250000000006,{"$f":"TIME(INT($AC391/60),INT(MOD($AC391,60)/1),0)","v":6.9444444444444441E-3},{"$f":"IF($L391*86400/$H391=0,\"\",$L391*86400/$H391)","v":9.375},{"$f":"IFERROR($M391/$K391,\"\")","v":2.2988505747126433E-2},0,"",{"$f":"IFERROR($P391/$K391,\"\")","v":""},290.13333333333333,259,{"$f":"IF(IF($AB391=\"D1\",$S391,\"\")=0,\"\",IF($AB391=\"D1\",$S391,\"\"))","v":""},{"$f":"IF(IF($AB391=\"D2\",$S391,\"\")=0,\"\",IF($AB391=\"D2\",$S391,\"\"))","v":""},{"$f":"IF(IF($AB391=\"D3\",$S391,\"\")=0,\"\",IF($AB391=\"D3\",$S391,\"\"))","v":259},null,{"$f":"X394","v":19},null,{"$f":"TEXT(Y390,\"ddd\")","v":"wo"},"MD",{"$f":"IFERROR(HLOOKUP(Y390,[1]DATA!$A$1:$NB$5,4,0),\"\")","v":"D3"},10,null,13,272,{"$f":"VLOOKUP(Y390,[1]SRA!$S$4:$Z$368,3,0)","v":30},-139.43750000000006,0.63509578544061296,0.90628904623073714]
["19woND",{"$f":"VLOOKUP($AA392,DATA!$B$3:$E$6,2,0)","v":"22:30:00"},{"$f":"VLOOKUP($AA392,DATA!$B$3:$E$6,3,0)","v":"06:30:00"},{"$f":"VLOOKUP($AA392,DATA!$B$3:$E$6,4,0)","v":3.125E-2},0.30208333333333326,0.29166666666666657,{"$f":"DATA!$C$9","v":0.89},{"$f":"DATA!$C$10","v":64},1,393.74999999999989,407.81249999999989,1.0416666666666666E-2,14.0625,3.4482758620689662E-2,0,"","",344.5333333333333,311,"",311,"",null,{"$f":"X394","v":19},null,{"$f":"TEXT(Y390,\"ddd\")","v":"wo"},"ND",{"$f":"IFERROR(HLOOKUP(Y390,[1]DATA!$A$1:$NB$5,5,0),\"\")","v":"D2"},15,null,12,323,{"$f":"VLOOKUP(Y390,[1]SRA!$S$4:$Z$368,4,0)","v":0},-82.749999999999886,0.76260536398467449,1]
["19doDD",{"$f":"VLOOKUP($AA393,DATA!$B$3:$E$6,2,0)","v":"06:30:00"},{"$f":"VLOOKUP($AA393,DATA!$B$3:$E$6,3,0)","v":"14:30:00"},{"$f":"VLOOKUP($AA393,DATA!$B$3:$E$6,4,0)","v":3.125E-2},0.30208333333333331,0.30208333333333331,{"$f":"DATA!$C$9","v":0.89},{"$f":"DATA!$C$10","v":64},1,407.8125,407.8125,0,"","",0,"","",0,"","","","",null,{"$f":"X394","v":19},{"$f":"Y390+1","v":"2018-05-10"},{"$f":"TEXT(Y393,\"ddd\")","v":"do"},"DD",{"$f":"IFERROR(HLOOKUP(Y393,[1]DATA!$A$1:$NB$5,3,0),\"\")","v":"D1"},null,null,null,null,{"$f":"VLOOKUP(Y393,[1]SRA!$S$4:$Z$368,2,0)","v":0},"","",""]
["19doMD",{"$f":"VLOOKUP($AA394,DATA!$B$3:$E$6,2,0)","v":"14:30:00"},{"$f":"VLOOKUP($AA394,DATA!$B$3:$E$6,3,0)","v":"22:30:00"},{"$f":"VLOOKUP($AA394,DATA!$B$3:$E$6,4,0)","v":3.125E-2},0.30208333333333337,0.30208333333333337,{"$f":"DATA!$C$9","v":0.89},{"$f":"DATA!$C$10","v":64},1,407.81250000000006,407.81250000000006,0,"","",0,"","",0,"","","","",null,{"$f":"WEEKNUM($Y384)","v":19},null,{"$f":"TEXT(Y393,\"ddd\")","v":"do"},"MD",{"$f":"IFERROR(HLOOKUP(Y393,[1]DATA!$A$1:$NB$5,4,0),\"\")","v":"D3"},null,null,null,null,{"$f":"VLOOKUP(Y393,[1]SRA!$S$4:$Z$368,3,0)","v":0},"","",""]
["19doND",{"$f":"VLOOKUP($AA395,DATA!$B$3:$E$6,2,0)","v":"22:30:00"},{"$f":"VLOOKUP($AA395,DATA!$B$3:$E$6,3,0)","v":"06:30:00"},{"$f":"VLOOKUP($AA395,DATA!$B$3:$E$6,4,0)","v":3.125E-2},0.30208333333333326,0.30208333333333326,{"$f":"DATA!$C$9","v":0.89},{"$f":"DATA!$C$10","v":64},1,407.81249999999989,407.81249999999989,0,"","",0,"","",0,"","","","",null,{"$f":"X394","v":19},null,{"$f":"TEXT(Y393,\"ddd\")","v":"do"},"ND",{"$f":"IFERROR(HLOOKUP(Y393,[1]DATA!$A$1:$NB$5,5,0),\"\")","v":"D2"},null,null,null,null,{"$f":"VLOOKUP(Y393,[1]SRA!$S$4:$Z$368,4,0)","v":0},"","",""]
["19vrDD",{"$f":"VLOOKUP($AA396,DATA!$B$3:$E$6,2,0)","v":"06:30:00"},{"$f":"VLOOKUP($AA396,DATA!$B$3:$E$6,3,0)","v":"14:30:00"},{"$f":"VLOOKUP($AA396,DATA!$B$3:$E$6,4,0)","v":3.125E-2},0.30208333333333331,0.29652777777777778,{"$f":"DATA!$C$9","v":0.89},{"$f":"DATA!$C$10","v":64},1,400.3125,407.8125,5.5555555555555558E-3,7.5,1.8390804597701149E-2,0,"","",299.73333333333335,268,268,"","",null,{"$f":"X394","v":19},{"$f":"Y393+1","v":"2018-05-11"},{"$f":"TEXT(Y396,\"ddd\")","v":"vr"},"DD",{"$f":"IFERROR(HLOOKUP(Y396,[1]DATA!$A$1:$NB$5,3,0),\"\")","v":"D1"},8,null,13,281,{"$f":"VLOOKUP(Y396,[1]SRA!$S$4:$Z$368,2,0)","v":19},-132.3125,0.65716475095785443,0.94038903994980128]
["19vrMD",{"$f":"VLOOKUP($AA397,DATA!$B$3:$E$6,2,0)","v":"14:30:00"},{"$f":"VLOOKUP($AA397,DATA!$B$3:$E$6,3,0)","v":"22:30:00"},{"$f":"VLOOKUP($AA397,DATA!$B$3:$E$6,4,0)","v":3.125E-2},0.30208333333333337,0.29513888888888895,{"$f":"DATA!$C$9","v":0.89},{"$f":"DATA!$C$10","v":64},1,398.43750000000006,407.81250000000006,6.9444444444444441E-3,9.375,2.2988505747126433E-2,0,"","",293.33333333333331,265,"","",265,null,{"$f":"X394","v":19},null,{"$f":"TEXT(Y396,\"ddd\")","v":"vr"},"MD",{"$f":"IFERROR(HLOOKUP(Y396,[1]DATA!$A$1:$NB$5,4,0),\"\")","v":"D3"},10,null,10,275,{"$f":"VLOOKUP(Y396,[1]SRA!$S$4:$Z$368,3,0)","v":11},-133.43750000000006,0.6498084291187739,0.96385542168674698]
["19vrND",{"$f":"VLOOKUP($AA398,DATA!$B$3:$E$6,2,0)","v":"22:30:00"},{"$f":"VLOOKUP($AA398,DATA!$B$3:$E$6,3,0)","v":"06:30:00"},{"$f":"VLOOKUP($AA398,DATA!$B$3:$E$6,4,0)","v":3.125E-2},0.30208333333333326,0.29513888888888884,{"$f":"DATA!$C$9","v":0.89},{"$f":"DATA!$C$10","v":64},1,398.43749999999994,407.81249999999989,6.9444444444444441E-3,9.375,2.2988505747126443E-2,0,"","",276.26666666666665,245,"",245,"",null,{"$f":"X394","v":19},null,{"$f":"TEXT(Y396,\"ddd\")","v":"vr"},"ND",{"$f":"IFERROR(HLOOKUP(Y396,[1]DATA!$A$1:$NB$5,5,0),\"\")","v":"D2"},10,null,14,259,{"$f":"VLOOKUP(Y396,[1]SRA!$S$4:$Z$368,4,0)","v":3},-153.43749999999994,0.60076628352490435,0.98925757937455239]
["19zaDD",{"$f":"VLOOKUP($AA399,DATA!$B$3:$E$6,2,0)","v":"06:30:00"},{"$f":"VLOOKUP($AA399,DATA!$B$3:$E$6,3,0)","v":"14:30:00"},{"$f":"VLOOKUP($AA399,DATA!$B$3:$E$6,4,0)","v":3.125E-2},0.30208333333333331,0.2986111111111111,{"$f":"DATA!$C$9","v":0.89},{"$f":"DATA!$C$10","v":64},1,403.125,407.8125,3.472222222222222E-3,4.6875,1.1494252873563218E-2,0,"","",359.46666666666664,327,327,"","",null,{"$f":"X394","v":19},{"$f":"Y396+1","v":"2018-05-12"},{"$f":"TEXT(Y399,\"ddd\")","v":"za"},"DD",{"$f":"IFERROR(HLOOKUP(Y399,[1]DATA!$A$1:$NB$5,3,0),\"\")","v":"D1"},5,null,10,337,{"$f":"VLOOKUP(Y399,[1]SRA!$S$4:$Z$368,2,0)","v":0},-76.125,0.80183908045977015,1]
["19zaMD",{"$f":"VLOOKUP($AA400,DATA!$B$3:$E$6,2,0)","v":"14:30:00"},{"$f":"VLOOKUP($AA400,DATA!$B$3:$E$6,3,0)","v":"22:30:00"},{"$f":"VLOOKUP($AA400,DATA!$B$3:$E$6,4,0)","v":3.125E-2},0.30208333333333337,0.30208333333333337,{"$f":"DATA!$C$9","v":0.89},{"$f":"DATA!$C$10","v":64},1,407.81250000000006,407.81250000000006,0,"","",0,"","",0,"","","","",null,{"$f":"X394","v":19},null,{"$f":"TEXT(Y399,\"ddd\")","v":"za"},"MD",{"$f":"IFERROR(HLOOKUP(Y399,[1]DATA!$A$1:$NB$5,4,0),\"\")","v":"-"},null,null,null,null,{"$f":"VLOOKUP(Y399,[1]SRA!$S$4:$Z$368,3,0)","v":0},"","",""]
["19zaND",{"$f":"VLOOKUP($AA401,DATA!$B$3:$E$6,2,0)","v":"22:30:00"},{"$f":"VLOOKUP($AA401,DATA!$B$3:$E$6,3,0)","v":"06:30:00"},{"$f":"VLOOKUP($AA401,DATA!$B$3:$E$6,4,0)","v":3.125E-2},0.30208333333333326,0.30208333333333326,{"$f":"DATA!$C$9","v":0.89},{"$f":"DATA!$C$10","v":64},1,407.81249999999989,407.81249999999989,0,"","",0,"","",0,"","","","",null,{"$f":"X394","v":19},null,{"$f":"TEXT(Y399,\"ddd\")","v":"za"},"ND",{"$f":"IFERROR(HLOOKUP(Y399,[1]DATA!$A$1:$NB$5,5,0),\"\")","v":"-"},null,null,null,null,{"$f":"VLOOKUP(Y399,[1]SRA!$S$4:$Z$368,4,0)","v":0},"","",""]
["19zoDD",{"$f":"VLOOKUP($AA402,DATA!$B$3:$E$6,2,0)","v":"06:30:00"},{"$f":"VLOOKUP($AA402,DATA!$B$3:$E$6,3,0)","v":"14:30:00"},{"$f":"VLOOKUP($AA402,DATA!$B$3:$E$6,4,0)","v":3.125E-2},0.30208333333333331,0.30208333333333331,{"$f":"DATA!$C$9","v":0.89},{"$f":"DATA!$C$10","v":64},1,407.8125,407.8125,0,"","",0,"","",0,"","","","",null,{"$f":"X394","v":19},{"$f":"Y399+1","v":"2018-05-13"},{"$f":"TEXT(Y402,\"ddd\")","v":"zo"},"DD",{"$f":"IFERROR(HLOOKUP(Y402,[1]DATA!$A$1:$NB$5,3,0),\"\")","v":"-"},null,null,null,null,{"$f":"VLOOKUP(Y402,[1]SRA!$S$4:$Z$368,2,0)","v":0},"","",""]
["19zoMD",{"$f":"VLOOKUP($AA403,DATA!$B$3:$E$6,2,0)","v":"14:30:00"},{"$f":"VLOOKUP($AA403,DATA!$B$3:$E$6,3,0)","v":"22:30:00"},{"$f":"VLOOKUP($AA403,DATA!$B$3:$E$6,4,0)","v":3.125E-2},0.30208333333333337,0.30208333333333337,{"$f":"DATA!$C$9","v":0.89},{"$f":"DATA!$C$10","v":64},1,407.81250000000006,407.81250000000006,0,"","",0,"","",0,"","","","",null,{"$f":"X394","v":19},null,{"$f":"TEXT(Y402,\"ddd\")","v":"zo"},"MD",{"$f":"IFERROR(HLOOKUP(Y402,[1]DATA!$A$1:$NB$5,4,0),\"\")","v":"-"},null,null,null,null,{"$f":"VLOOKUP(Y402,[1]SRA!$S$4:$Z$368,3,0)","v":0},"","",""]
["19zoZND",{"$f":"VLOOKUP($AA404,DATA!$B$3:$E$6,2,0)","v":"00:00:00"},{"$f":"VLOOKUP($AA404,DATA!$B$3:$E$6,3,0)","v":"00:00:00"},{"$f":"VLOOKUP($AA404,DATA!$B$3:$E$6,4,0)","v":0},0,0,{"$f":"DATA!$C$9","v":0.89},{"$f":"DATA!$C$10","v":64},1,0,0,0,"","",0,"","",0,"","","","",null,{"$f":"X394","v":19},null,{"$f":"TEXT(Y402,\"ddd\")","v":"zo"},"ZND",{"$f":"IFERROR(HLOOKUP(Y402,[1]DATA!$A$1:$NB$5,5,0),\"\")","v":"-"},null,null,null,null,{"$f":"VLOOKUP(Y402,[1]SRA!$S$4:$Z$368,4,0)","v":0},"","",""]
["20maDD",{"$f":"VLOOKUP($AA405,DATA!$B$3:$E$6,2,0)","v":"06:30:00"},{"$f":"VLOOKUP($AA405,DATA!$B$3:$E$6,3,0)","v":"14:30:00"},{"$f":"VLOOKUP($AA405,DATA!$B$3:$E$6,4,0)","v":3.125E-2},0.30208333333333331,0.27361111111111108,{"$f":"DATA!$C$9","v":0.89},{"$f":"DATA!$C$10","v":64},1,369.37499999999994,407.8125,2.8472222222222222E-2,38.4375,9.4252873563218389E-2,{"$f":"TIME(INT($AD405/60),INT(MOD($AD405,60)/1),0)","v":0},"","",316.8,284,"","",284,null,{"$f":"X415","v":20},{"$f":"Y402+1","v":"2018-05-14"},{"$f":"TEXT(Y405,\"ddd\")","v":"ma"},"DD",{"$f":"IFERROR(HLOOKUP(Y405,[1]DATA!$A$1:$NB$5,3,0),\"\")","v":"D3"},41,null,13,297,{"$f":"VLOOKUP(Y405,[1]SRA!$S$4:$Z$368,2,0)","v":55},-85.374999999999943,0.6963984674329502,0.85207100591715978,{"$f":"IF(SUMIF(S405:S425,\">0\",K405:K425)=0,\"\",SUMIF(S405:S425,\">0\",K405:K425))","v":6525},{"$f":"IF(SUM(S405:S425)=0,\"\",SUM(S405:S425))","v":4509},{"$f":"IFERROR(AL405/AK405,\"-\")","v":0.69103448275862067},{"$f":"IF(SUM(M405:M425)=0,\"0\",SUM(M405:M425))","v":398.4375},{"$f":"IFERROR(AN405/AK405,\"-\")","v":6.1063218390804599E-2},{"$f":"IF(SUM(P405:P425)=0,0,SUM(P405:P425))","v":0},{"$f":"IFERROR(AP405/AK405,\"-\")","v":0},{"$f":"IFERROR(AVERAGE(AJ405:AJ425),\"-\")","v":0.91419353380071644},{"$f":"IFERROR(SUMIF($AB405:$AB425,AS$5,$AJ405:$AJ425)/COUNTIFS($AB405:$AB425,AS$5,$AJ405:$AJ425,\">0\"),\"\")","v":0.89099143011769044},0.96368119746442904,0.88017393925902099,{"$f":"IFERROR((AK405-AL405-AN405-AP405),\"-\")","v":1617.5625},{"$f":"IFERROR((1-AM405-AO405-AQ405), \"-\")","v":0.24790229885057474},{"$f":"IFERROR((AV405*$AE$2)/60,\"-\")","v":1725.4},{"$f":"IFERROR(SUM(AG405:AG425),\"\")","v":496}]
["20maMD",{"$f":"VLOOKUP($AA406,DATA!$B$3:$E$6,2,0)","v":"14:30:00"},{"$f":"VLOOKUP($AA406,DATA!$B$3:$E$6,3,0)","v":"22:30:00"},{"$f":"VLOOKUP($AA406,DATA!$B$3:$E$6,4,0)","v":3.125E-2},0.30208333333333337,0.29166666666666669,{"$f":"DATA!$C$9","v":0.89},{"$f":"DATA!$C$10","v":64},1,393.75,407.81250000000006,1.0416666666666666E-2,14.0625,3.4482758620689648E-2,{"$f":"TIME(INT(AD406/60),INT(MOD(AD406,60)/1),0)","v":0},"","",375.46666666666664,327,"",327,"",null,{"$f":"X415","v":20},null,{"$f":"TEXT(Y405,\"ddd\")","v":"ma"},"MD",{"$f":"IFERROR(HLOOKUP(Y405,[1]DATA!$A$1:$NB$5,4,0),\"\")","v":"D2"},15,null,25,352,{"$f":"VLOOKUP(Y405,[1]SRA!$S$4:$Z$368,3,0)","v":31},-66.75,0.80183908045977004,0.92373298343447596]
["20maND",{"$f":"VLOOKUP($AA407,DATA!$B$3:$E$6,2,0)","v":"22:30:00"},{"$f":"VLOOKUP($AA407,DATA!$B$3:$E$6,3,0)","v":"06:30:00"},{"$f":"VLOOKUP($AA407,DATA!$B$3:$E$6,4,0)","v":3.125E-2},0.30208333333333326,0.29027777777777769,{"$f":"DATA!$C$9","v":0.89},{"$f":"DATA!$C$10","v":64},1,391.87499999999989,407.81249999999989,1.1805555555555555E-2,15.9375,3.9080459770114956E-2,0,"","",322.13333333333333,297,297,"","",null,{"$f":"X415","v":20},null,{"$f":"TEXT(Y405,\"ddd\")","v":"ma"},"ND",{"$f":"IFERROR(HLOOKUP(Y405,[1]DATA!$A$1:$NB$5,5,0),\"\")","v":"D1"},17,null,5,302,{"$f":"VLOOKUP(Y405,[1]SRA!$S$4:$Z$368,4,0)","v":9},-94.874999999999886,0.72827586206896577,0.97282061606603587]
["20diDD",{"$f":"VLOOKUP($AA408,DATA!$B$3:$E$6,2,0)","v":"06:30:00"},{"$f":"VLOOKUP($AA408,DATA!$B$3:$E$6,3,0)","v":"14:30:00"},{"$f":"VLOOKUP($AA408,DATA!$B$3:$E$6,4,0)","v":3.125E-2},0.30208333333333331,0.28402777777777777,{"$f":"DATA!$C$9","v":0.89},{"$f":"DATA!$C$10","v":64},1,383.4375,407.8125,1.8055555555555557E-2,24.375000000000004,5.9770114942528742E-2,0,"","",331.73333333333335,282,"","",282,null,{"$f":"X415","v":20},{"$f":"Y405+1","v":"2018-05-15"},{"$f":"TEXT(Y408,\"ddd\")","v":"di"},"DD",{"$f":"IFERROR(HLOOKUP(Y408,[1]DATA!$A$1:$NB$5,3,0),\"\")","v":"D3"},26,null,29,311,{"$f":"VLOOKUP(Y408,[1]SRA!$S$4:$Z$368,2,0)","v":65},-101.4375,0.69149425287356325,0.83616198958158294]
["20diMD",{"$f":"VLOOKUP($AA409,DATA!$B$3:$E$6,2,0)","v":"14:30:00"},{"$f":"VLOOKUP($AA409,DATA!$B$3:$E$6,3,0)","v":"22:30:00"},{"$f":"VLOOKUP($AA409,DATA!$B$3:$E$6,4,0)","v":3.125E-2},0.30208333333333337,0.27361111111111114,{"$f":"DATA!$C$9","v":0.89},{"$f":"DATA!$C$10","v":64},1,369.37500000000006,407.81250000000006,2.8472222222222222E-2,38.4375,9.4252873563218376E-2,0,"","",404.26666666666665,344,"",344,"",null,{"$f":"X415","v":20},null,{"$f":"TEXT(Y408,\"ddd\")","v":"di"},"MD",{"$f":"IFERROR(HLOOKUP(Y408,[1]DATA!$A$1:$NB$5,4,0),\"\")","v":"D2"},41,null,35,379,{"$f":"VLOOKUP(Y408,[1]SRA!$S$4:$Z$368,3,0)","v":7},-25.375000000000057,0.84352490421455928,0.98297941319500726]
["20diND",{"$f":"VLOOKUP($AA410,DATA!$B$3:$E$6,2,0)","v":"22:30:00"},{"$f":"VLOOKUP($AA410,DATA!$B$3:$E$6,3,0)","v":"06:30:00"},{"$f":"VLOOKUP($AA410,DATA!$B$3:$E$6,4,0)","v":3.125E-2},0.30208333333333326,0.27708333333333324,{"$f":"DATA!$C$9","v":0.89},{"$f":"DATA!$C$10","v":64},1,374.06249999999989,407.81249999999989,2.4999999999999998E-2,33.75,8.2758620689655199E-2,0,"","",234.66666666666666,211,211,"","",null,{"$f":"X415","v":20},null,{"$f":"TEXT(Y408,\"ddd\")","v":"di"},"ND",{"$f":"IFERROR(HLOOKUP(Y408,[1]DATA!$A$1:$NB$5,5,0),\"\")","v":"D1"},36,null,9,220,{"$f":"VLOOKUP(Y408,[1]SRA!$S$4:$Z$368,4,0)","v":90},-163.06249999999989,0.51739463601532576,0.7227926078028748]
["20woDD",{"$f":"VLOOKUP($AA411,DATA!$B$3:$E$6,2,0)","v":"06:30:00"},{"$f":"VLOOKUP($AA411,DATA!$B$3:$E$6,3,0)","v":"14:30:00"},{"$f":"VLOOKUP($AA411,DATA!$B$3:$E$6,4,0)","v":3.125E-2},0.30208333333333331,0.3,{"$f":"DATA!$C$9","v":0.89},{"$f":"DATA!$C$10","v":64},1,405,407.8125,2.0833333333333333E-3,2.8125,6.8965517241379309E-3,0,"","",360.5333333333333,317,"","",317,null,{"$f":"X415","v":20},{"$f":"Y408+1","v":"2018-05-16"},{"$f":"TEXT(Y411,\"ddd\")","v":"wo"},"DD",{"$f":"IFERROR(HLOOKUP(Y411,[1]DATA!$A$1:$NB$5,3,0),\"\")","v":"D3"},3,null,21,338,{"$f":"VLOOKUP(Y411,[1]SRA!$S$4:$Z$368,2,0)","v":25},-88,0.77731800766283521,{"$f":"IFERROR(R411/(R411+AG411),\"\")","v":0.93515476396334085}]
["20woMD",{"$f":"VLOOKUP($AA412,DATA!$B$3:$E$6,2,0)","v":"14:30:00"},{"$f":"VLOOKUP($AA412,DATA!$B$3:$E$6,3,0)","v":"22:30:00"},{"$f":"VLOOKUP($AA412,DATA!$B$3:$E$6,4,0)","v":3.125E-2},{"$f":"(C412-B412+(B412>C412))-D412","v":0.30208333333333337},{"$f":"E412-O412-L412","v":0.28541666666666671},{"$f":"DATA!$C$9","v":0.89},{"$f":"DATA!$C$10","v":64},1,385.31250000000006,407.81250000000006,1.6666666666666666E-2,22.5,5.5172413793103441E-2,0,"","",363.73333333333335,306,"",306,"",null,{"$f":"X415","v":20},null,{"$f":"TEXT(Y411,\"ddd\")","v":"wo"},"MD",{"$f":"IFERROR(HLOOKUP(Y411,[1]DATA!$A$1:$NB$5,4,0),\"\")","v":"D2"},24,null,35,341,{"$f":"VLOOKUP(Y411,[1]SRA!$S$4:$Z$368,3,0)","v":26},-79.312500000000057,0.7503448275862068,0.93328771809784472]
["20woND",{"$f":"VLOOKUP($AA413,DATA!$B$3:$E$6,2,0)","v":"22:30:00"},{"$f":"VLOOKUP($AA413,DATA!$B$3:$E$6,3,0)","v":"06:30:00"},{"$f":"VLOOKUP($AA413,DATA!$B$3:$E$6,4,0)","v":3.125E-2},0.30208333333333326,0.27222222222222214,{"$f":"DATA!$C$9","v":0.89},{"$f":"DATA!$C$10","v":64},1,367.49999999999989,407.81249999999989,2.9861111111111113E-2,40.3125,9.8850574712643705E-2,0,"","",341.33333333333331,309,309,"","",null,{"$f":"X415","v":20},null,{"$f":"TEXT(Y411,\"ddd\")","v":"wo"},"ND",{"$f":"IFERROR(HLOOKUP(Y411,[1]DATA!$A$1:$NB$5,5,0),\"\")","v":"D1"},43,null,11,320,{"$f":"VLOOKUP(Y411,[1]SRA!$S$4:$Z$368,4,0)","v":7},-58.499999999999886,0.75770114942528755,0.97990430622009572]
["20doDD",{"$f":"VLOOKUP($AA414,DATA!$B$3:$E$6,2,0)","v":"06:30:00"},{"$f":"VLOOKUP($AA414,DATA!$B$3:$E$6,3,0)","v":"14:30:00"},{"$f":"VLOOKUP($AA414,DATA!$B$3:$E$6,4,0)","v":3.125E-2},0.30208333333333331,0.28055555555555556,{"$f":"DATA!$C$9","v":0.89},{"$f":"DATA!$C$10","v":64},1,378.75,407.8125,2.1527777777777781E-2,29.062500000000004,7.1264367816091967E-2,0,"","",281.60000000000002,259,"","",259,null,{"$f":"X415","v":20},{"$f":"Y411+1","v":"2018-05-17"},{"$f":"TEXT(Y414,\"ddd\")","v":"do"},"DD",{"$f":"IFERROR(HLOOKUP(Y414,[1]DATA!$A$1:$NB$5,3,0),\"\")","v":"D3"},31,null,5,264,{"$f":"VLOOKUP(Y414,[1]SRA!$S$4:$Z$368,2,0)","v":0},-119.75,0.63509578544061307,1]
["20doMD",{"$f":"VLOOKUP($AA415,DATA!$B$3:$E$6,2,0)","v":"14:30:00"},{"$f":"VLOOKUP($AA415,DATA!$B$3:$E$6,3,0)","v":"22:30:00"},{"$f":"VLOOKUP($AA415,DATA!$B$3:$E$6,4,0)","v":3.125E-2},0.30208333333333337,0.2729166666666667,{"$f":"DATA!$C$9","v":0.89},{"$f":"DATA!$C$10","v":64},1,368.43750000000006,407.81250000000006,2.9166666666666664E-2,39.374999999999993,9.6551724137931005E-2,0,"","",329.6,280,"",280,"",null,{"$f":"WEEKNUM($Y405)","v":20},null,{"$f":"TEXT(Y414,\"ddd\")","v":"do"},"MD",{"$f":"IFERROR(HLOOKUP(Y414,[1]DATA!$A$1:$NB$5,4,0),\"\")","v":"D2"},42,null,29,309,{"$f":"VLOOKUP(Y414,[1]SRA!$S$4:$Z$368,3,0)","v":2},-88.437500000000057,0.6865900383141762,0.99396863691194215]
["20doND",{"$f":"VLOOKUP($AA416,DATA!$B$3:$E$6,2,0)","v":"22:30:00"},{"$f":"VLOOKUP($AA416,DATA!$B$3:$E$6,3,0)","v":"06:30:00"},{"$f":"VLOOKUP($AA416,DATA!$B$3:$E$6,4,0)","v":3.125E-2},0.30208333333333326,0.29513888888888884,{"$f":"DATA!$C$9","v":0.89},{"$f":"DATA!$C$10","v":64},1,398.43749999999994,407.81249999999989,6.9444444444444441E-3,9.375,2.2988505747126443E-2,0,"","",238.93333333333334,209,209,"","",null,{"$f":"X415","v":20},null,{"$f":"TEXT(Y414,\"ddd\")","v":"do"},"ND",{"$f":"IFERROR(HLOOKUP(Y414,[1]DATA!$A$1:$NB$5,5,0),\"\")","v":"D1"},10,null,15,224,{"$f":"VLOOKUP(Y414,[1]SRA!$S$4:$Z$368,4,0)","v":30},-189.43749999999994,0.51249042145593882,0.88844819038175504]
["20vrDD",{"$f":"VLOOKUP($AA417,DATA!$B$3:$E$6,2,0)","v":"06:30:00"},{"$f":"VLOOKUP($AA417,DATA!$B$3:$E$6,3,0)","v":"14:30:00"},{"$f":"VLOOKUP($AA417,DATA!$B$3:$E$6,4,0)","v":3.125E-2},0.30208333333333331,0.27986111111111112,{"$f":"DATA!$C$9","v":0.89},{"$f":"DATA!$C$10","v":64},1,377.8125,407.8125,2.2222222222222223E-2,30,7.3563218390804597E-2,0,"","",357.33333333333331,320,"","",320,null,{"$f":"X415","v":20},{"$f":"Y414+1","v":"2018-05-18"},{"$f":"TEXT(Y417,\"ddd\")","v":"vr"},"DD",{"$f":"IFERROR(HLOOKUP(Y417,[1]DATA!$A$1:$NB$5,3,0),\"\")","v":"D3"},32,null,15,335,{"$f":"VLOOKUP(Y417,[1]SRA!$S$4:$Z$368,2,0)","v":3},-57.8125,0.78467432950191573,0.9916743755781684]
["20vrMD",{"$f":"VLOOKUP($AA418,DATA!$B$3:$E$6,2,0)","v":"14:30:00"},{"$f":"VLOOKUP($AA418,DATA!$B$3:$E$6,3,0)","v":"22:30:00"},{"$f":"VLOOKUP($AA418,DATA!$B$3:$E$6,4,0)","v":3.125E-2},0.30208333333333337,0.2819444444444445,{"$f":"DATA!$C$9","v":0.89},{"$f":"DATA!$C$10","v":64},1,380.62500000000006,407.81250000000006,2.013888888888889E-2,27.1875,6.6666666666666652E-2,0,"","",301.86666666666667,268,"",268,"",null,{"$f":"X415","v":20},null,{"$f":"TEXT(Y417,\"ddd\")","v":"vr"},"MD",{"$f":"IFERROR(HLOOKUP(Y417,[1]DATA!$A$1:$NB$5,4,0),\"\")","v":"D2"},29,null,15,283,{"$f":"VLOOKUP(Y417,[1]SRA!$S$4:$Z$368,3,0)","v":12},-112.62500000000006,0.65716475095785432,0.96176720475785893]
["20vrND",{"$f":"VLOOKUP($AA419,DATA!$B$3:$E$6,2,0)","v":"22:30:00"},{"$f":"VLOOKUP($AA419,DATA!$B$3:$E$6,3,0)","v":"06:30:00"},{"$f":"VLOOKUP($AA419,DATA!$B$3:$E$6,4,0)","v":3.125E-2},0.30208333333333326,0.2854166666666666,{"$f":"DATA!$C$9","v":0.89},{"$f":"DATA!$C$10","v":64},1,385.31249999999989,407.81249999999989,1.6666666666666666E-2,22.5,5.5172413793103461E-2,0,"","",289.06666666666666,267,"",267,"",null,{"$f":"X415","v":20},null,{"$f":"TEXT(Y417,\"ddd\")","v":"vr"},"ND",{"$f":"IFERROR(HLOOKUP(Y417,[1]DATA!$A$1:$NB$5,5,0),\"\")","v":"D2"},24,null,4,271,{"$f":"VLOOKUP(Y417,[1]SRA!$S$4:$Z$368,4,0)","v":4},-118.31249999999989,0.65471264367816107,0.986351228389445]
["20zaDD",{"$f":"VLOOKUP($AA420,DATA!$B$3:$E$6,2,0)","v":"06:30:00"},{"$f":"VLOOKUP($AA420,DATA!$B$3:$E$6,3,0)","v":"14:30:00"},{"$f":"VLOOKUP($AA420,DATA!$B$3:$E$6,4,0)","v":3.125E-2},0.30208333333333331,0.29444444444444445,{"$f":"DATA!$C$9","v":0.89},{"$f":"DATA!$C$10","v":64},1,397.5,407.8125,7.6388888888888886E-3,10.3125,2.528735632183908E-2,0,"","",259.2,229,"","",229,null,{"$f":"X415","v":20},{"$f":"Y417+1","v":"2018-05-19"},{"$f":"TEXT(Y420,\"ddd\")","v":"za"},"DD",{"$f":"IFERROR(HLOOKUP(Y420,[1]DATA!$A$1:$NB$5,3,0),\"\")","v":"D3"},11,null,14,243,{"$f":"VLOOKUP(Y420,[1]SRA!$S$4:$Z$368,2,0)","v":130},-168.5,0.56153256704980847,0.66598150051387461]
["20zaMD",{"$f":"VLOOKUP($AA421,DATA!$B$3:$E$6,2,0)","v":"14:30:00"},{"$f":"VLOOKUP($AA421,DATA!$B$3:$E$6,3,0)","v":"22:30:00"},{"$f":"VLOOKUP($AA421,DATA!$B$3:$E$6,4,0)","v":3.125E-2},0.30208333333333337,0.30208333333333337,{"$f":"DATA!$C$9","v":0.89},{"$f":"DATA!$C$10","v":64},1,407.81250000000006,407.81250000000006,0,"","",0,"","",0,"","","","",null,{"$f":"X415","v":20},null,{"$f":"TEXT(Y420,\"ddd\")","v":"za"},"MD",{"$f":"IFERROR(HLOOKUP(Y420,[1]DATA!$A$1:$NB$5,4,0),\"\")","v":"-"},null,null,null,null,{"$f":"VLOOKUP(Y420,[1]SRA!$S$4:$Z$368,3,0)","v":0},"","",""]
["20zaND",{"$f":"VLOOKUP($AA422,DATA!$B$3:$E$6,2,0)","v":"22:30:00"},{"$f":"VLOOKUP($AA422,DATA!$B$3:$E$6,3,0)","v":"06:30:00"},{"$f":"VLOOKUP($AA422,DATA!$B$3:$E$6,4,0)","v":3.125E-2},0.30208333333333326,0.30208333333333326,{"$f":"DATA!$C$9","v":0.89},{"$f":"DATA!$C$10","v":64},1,407.81249999999989,407.81249999999989,0,"","",0,"","",0,"","","","",null,{"$f":"X415","v":20},null,{"$f":"TEXT(Y420,\"ddd\")","v":"za"},"ND",{"$f":"IFERROR(HLOOKUP(Y420,[1]DATA!$A$1:$NB$5,5,0),\"\")","v":"-"},null,null,null,null,{"$f":"VLOOKUP(Y420,[1]SRA!$S$4:$Z$368,4,0)","v":0},"","",""]
["20zoDD",{"$f":"VLOOKUP($AA423,DATA!$B$3:$E$6,2,0)","v":"06:30:00"},{"$f":"VLOOKUP($AA423,DATA!$B$3:$E$6,3,0)","v":"14:30:00"},{"$f":"VLOOKUP($AA423,DATA!$B$3:$E$6,4,0)","v":3.125E-2},0.30208333333333331,0.30208333333333331,{"$f":"DATA!$C$9","v":0.89},{"$f":"DATA!$C$10","v":64},1,407.8125,407.8125,0,"","",0,"","",0,"","","","",null,{"$f":"X415","v":20},{"$f":"Y420+1","v":"2018-05-20"},{"$f":"TEXT(Y423,\"ddd\")","v":"zo"},"DD",{"$f":"IFERROR(HLOOKUP(Y423,[1]DATA!$A$1:$NB$5,3,0),\"\")","v":"-"},null,null,null,null,{"$f":"VLOOKUP(Y423,[1]SRA!$S$4:$Z$368,2,0)","v":0},"","",""]
["20zoMD",{"$f":"VLOOKUP($AA424,DATA!$B$3:$E$6,2,0)","v":"14:30:00"},{"$f":"VLOOKUP($AA424,DATA!$B$3:$E$6,3,0)","v":"22:30:00"},{"$f":"VLOOKUP($AA424,DATA!$B$3:$E$6,4,0)","v":3.125E-2},0.30208333333333337,0.30208333333333337,{"$f":"DATA!$C$9","v":0.89},{"$f":"DATA!$C$10","v":64},1,407.81250000000006,407.81250000000006,0,"","",0,"","",0,"","","","",null,{"$f":"X415","v":20},null,{"$f":"TEXT(Y423,\"ddd\")","v":"zo"},"MD",{"$f":"IFERROR(HLOOKUP(Y423,[1]DATA!$A$1:$NB$5,4,0),\"\")","v":"-"},null,null,null,null,{"$f":"VLOOKUP(Y423,[1]SRA!$S$4:$Z$368,3,0)","v":0},"","",""]
["20zoZND",{"$f":"VLOOKUP($AA425,DATA!$B$3:$E$6,2,0)","v":"00:00:00"},{"$f":"VLOOKUP($AA425,DATA!$B$3:$E$6,3,0)","v":"00:00:00"},{"$f":"VLOOKUP($AA425,DATA!$B$3:$E$6,4,0)","v":0},0,0,{"$f":"DATA!$C$9","v":0.89},{"$f":"DATA!$C$10","v":64},1,0,0,0,"","",0,"","",0,"","","","",null,{"$f":"X415","v":20},null,{"$f":"TEXT(Y423,\"ddd\")","v":"zo"},"ZND",{"$f":"IFERROR(HLOOKUP(Y423,[1]DATA!$A$1:$NB$5,5,0),\"\")","v":"-"},null,null,null,null,{"$f":"VLOOKUP(Y423,[1]SRA!$S$4:$Z$368,4,0)","v":0},"","",""]
["21maDD",{"$f":"VLOOKUP($AA426,DATA!$B$3:$E$6,2,0)","v":"06:30:00"},{"$f":"VLOOKUP($AA426,DATA!$B$3:$E$6,3,0)","v":"14:30:00"},{"$f":"VLOOKUP($AA426,DATA!$B$3:$E$6,4,0)","v":3.125E-2},0.30208333333333331,0.30208333333333331,{"$f":"DATA!$C$9","v":0.89},{"$f":"DATA!$C$10","v":64},1,407.8125,407.8125,0,"","",{"$f":"TIME(INT($AD426/60),INT(MOD($AD426,60)/1),0)","v":0},"","",0,"","","","",null,{"$f":"X436","v":21},{"$f":"Y423+1","v":"2018-05-21"},{"$f":"TEXT(Y426,\"ddd\")","v":"ma"},"DD",{"$f":"IFERROR(HLOOKUP(Y426,[1]DATA!$A$1:$NB$5,3,0),\"\")","v":"D2"},null,null,null,null,{"$f":"VLOOKUP(Y426,[1]SRA!$S$4:$Z$368,2,0)","v":0},"","","",{"$f":"IF(SUMIF(S426:S446,\">0\",K426:K446)=0,\"\",SUMIF(S426:S446,\">0\",K426:K446))","v":4893.75},{"$f":"IF(SUM(S426:S446)=0,\"\",SUM(S426:S446))","v":3721},{"$f":"IFERROR(AL426/AK426,\"-\")","v":0.76035759897828858},{"$f":"IF(SUM(M426:M446)=0,\"0\",SUM(M426:M446))","v":202.5},{"$f":"IFERROR(AN426/AK426,\"-\")","v":4.1379310344827586E-2},{"$f":"IF(SUM(P426:P446)=0,0,SUM(P426:P446))","v":0},{"$f":"IFERROR(AP426/AK426,\"-\")","v":0},{"$f":"IFERROR(AVERAGE(AJ426:AJ446),\"-\")","v":0.87841781585245826},{"$f":"IFERROR(SUMIF($AB426:$AB446,AS$5,$AJ426:$AJ446)/COUNTIFS($AB426:$AB446,AS$5,$AJ426:$AJ446,\">0\"),\"\")","v":0.95558814463675512},0.95441137237754936,0.94485838450618531,{"$f":"IFERROR((AK426-AL426-AN426-AP426),\"-\")","v":970.25},{"$f":"IFERROR((1-AM426-AO426-AQ426), \"-\")","v":0.19826309067688383},{"$f":"IFERROR((AV426*$AE$2)/60,\"-\")","v":1034.9333333333334},{"$f":"IFERROR(SUM(AG426:AG446),\"\")","v":222}]
["21maMD",{"$f":"VLOOKUP($AA427,DATA!$B$3:$E$6,2,0)","v":"14:30:00"},{"$f":"VLOOKUP($AA427,DATA!$B$3:$E$6,3,0)","v":"22:30:00"},{"$f":"VLOOKUP($AA427,DATA!$B$3:$E$6,4,0)","v":3.125E-2},0.30208333333333337,0.30208333333333337,{"$f":"DATA!$C$9","v":0.89},{"$f":"DATA!$C$10","v":64},1,407.81250000000006,407.81250000000006,0,"","",{"$f":"TIME(INT(AD427/60),INT(MOD(AD427,60)/1),0)","v":0},"","",0,"","","","",null,{"$f":"X436","v":21},null,{"$f":"TEXT(Y426,\"ddd\")","v":"ma"},"MD",{"$f":"IFERROR(HLOOKUP(Y426,[1]DATA!$A$1:$NB$5,4,0),\"\")","v":"D1"},null,null,null,null,{"$f":"VLOOKUP(Y426,[1]SRA!$S$4:$Z$368,3,0)","v":0},"","",""]
["21maND",{"$f":"VLOOKUP($AA428,DATA!$B$3:$E$6,2,0)","v":"22:30:00"},{"$f":"VLOOKUP($AA428,DATA!$B$3:$E$6,3,0)","v":"06:30:00"},{"$f":"VLOOKUP($AA428,DATA!$B$3:$E$6,4,0)","v":3.125E-2},0.30208333333333326,0.30208333333333326,{"$f":"DATA!$C$9","v":0.89},{"$f":"DATA!$C$10","v":64},1,407.81249999999989,407.81249999999989,0,"","",0,"","",0,"","","","",null,{"$f":"X436","v":21},null,{"$f":"TEXT(Y426,\"ddd\")","v":"ma"},"ND",{"$f":"IFERROR(HLOOKUP(Y426,[1]DATA!$A$1:$NB$5,5,0),\"\")","v":"D3"},null,null,null,null,{"$f":"VLOOKUP(Y426,[1]SRA!$S$4:$Z$368,4,0)","v":0},"","",""]
["21diDD",{"$f":"VLOOKUP($AA429,DATA!$B$3:$E$6,2,0)","v":"06:30:00"},{"$f":"VLOOKUP($AA429,DATA!$B$3:$E$6,3,0)","v":"14:30:00"},{"$f":"VLOOKUP($AA429,DATA!$B$3:$E$6,4,0)","v":3.125E-2},0.30208333333333331,0.27986111111111112,{"$f":"DATA!$C$9","v":0.89},{"$f":"DATA!$C$10","v":64},1,377.8125,407.8125,2.2222222222222223E-2,30,7.3563218390804597E-2,0,"","",308.26666666666665,261,"",261,"",null,{"$f":"X436","v":21},{"$f":"Y426+1","v":"2018-05-22"},{"$f":"TEXT(Y429,\"ddd\")","v":"di"},"DD",{"$f":"IFERROR(HLOOKUP(Y429,[1]DATA!$A$1:$NB$5,3,0),\"\")","v":"D2"},32,null,28,289,{"$f":"VLOOKUP(Y429,[1]SRA!$S$4:$Z$368,2,0)","v":2},-116.8125,0.64,0.99355393210141818]
["21diMD",{"$f":"VLOOKUP($AA430,DATA!$B$3:$E$6,2,0)","v":"14:30:00"},{"$f":"VLOOKUP($AA430,DATA!$B$3:$E$6,3,0)","v":"22:30:00"},{"$f":"VLOOKUP($AA430,DATA!$B$3:$E$6,4,0)","v":3.125E-2},0.30208333333333337,0.2819444444444445,{"$f":"DATA!$C$9","v":0.89},{"$f":"DATA!$C$10","v":64},1,380.62500000000006,407.81250000000006,2.013888888888889E-2,27.1875,6.6666666666666652E-2,0,"","",336,292,292,"","",null,{"$f":"X436","v":21},null,{"$f":"TEXT(Y429,\"ddd\")","v":"di"},"MD",{"$f":"IFERROR(HLOOKUP(Y429,[1]DATA!$A$1:$NB$5,4,0),\"\")","v":"D1"},29,null,23,315,{"$f":"VLOOKUP(Y429,[1]SRA!$S$4:$Z$368,3,0)","v":29},-88.625000000000057,0.71601532567049797,0.92054794520547945]
["21diND",{"$f":"VLOOKUP($AA431,DATA!$B$3:$E$6,2,0)","v":"22:30:00"},{"$f":"VLOOKUP($AA431,DATA!$B$3:$E$6,3,0)","v":"06:30:00"},{"$f":"VLOOKUP($AA431,DATA!$B$3:$E$6,4,0)","v":3.125E-2},0.30208333333333326,0.30208333333333326,{"$f":"DATA!$C$9","v":0.89},{"$f":"DATA!$C$10","v":64},1,407.81249999999989,407.81249999999989,0,"","",0,"","",308.26666666666665,289,"","",289,null,{"$f":"X436","v":21},null,{"$f":"TEXT(Y429,\"ddd\")","v":"di"},"ND",{"$f":"IFERROR(HLOOKUP(Y429,[1]DATA!$A$1:$NB$5,5,0),\"\")","v":"D3"},null,null,null,289,{"$f":"VLOOKUP(Y429,[1]SRA!$S$4:$Z$368,4,0)","v":16},-118.81249999999989,0.70865900383141778,0.95065789473684215]
[{"$f":"X432&Z432&AA432","v":"21woDD"},{"$f":"VLOOKUP($AA432,DATA!$B$3:$E$6,2,0)","v":"06:30:00"},{"$f":"VLOOKUP($AA432,DATA!$B$3:$E$6,3,0)","v":"14:30:00"},{"$f":"VLOOKUP($AA432,DATA!$B$3:$E$6,4,0)","v":3.125E-2},0.30208333333333331,0.27291666666666664,{"$f":"DATA!$C$9","v":0.89},{"$f":"DATA!$C$10","v":64},1,368.43749999999994,407.8125,2.9166666666666664E-2,39.374999999999993,9.6551724137931019E-2,0,{"$f":"IF($O432*86400/$H432=0,\"\",$O432*86400/$H432)","v":""},"",375.46666666666664,312,"",312,"",null,{"$f":"X436","v":21},{"$f":"Y429+1","v":"2018-05-23"},{"$f":"TEXT(Y432,\"ddd\")","v":"wo"},"DD",{"$f":"IFERROR(HLOOKUP(Y432,[1]DATA!$A$1:$NB$5,3,0),\"\")","v":"D2"},42,null,40,352,{"$f":"VLOOKUP(Y432,[1]SRA!$S$4:$Z$368,2,0)","v":9},-56.437499999999943,0.76505747126436785,0.97659094850008665]
["21woMD",{"$f":"VLOOKUP($AA433,DATA!$B$3:$E$6,2,0)","v":"14:30:00"},{"$f":"VLOOKUP($AA433,DATA!$B$3:$E$6,3,0)","v":"22:30:00"},{"$f":"VLOOKUP($AA433,DATA!$B$3:$E$6,4,0)","v":3.125E-2},0.30208333333333337,0.29305555555555557,{"$f":"DATA!$C$9","v":0.89},{"$f":"DATA!$C$10","v":64},1,395.625,407.81250000000006,9.0277777777777787E-3,12.187500000000002,2.9885057471264367E-2,0,"","",360.5333333333333,325,325,"","",null,{"$f":"X436","v":21},null,{"$f":"TEXT(Y432,\"ddd\")","v":"wo"},"MD",{"$f":"IFERROR(HLOOKUP(Y432,[1]DATA!$A$1:$NB$5,4,0),\"\")","v":"D1"},13,null,13,338,{"$f":"VLOOKUP(Y432,[1]SRA!$S$4:$Z$368,3,0)","v":12},-70.625,0.79693486590038298,0.96778811739441661]
["21woND",{"$f":"VLOOKUP($AA434,DATA!$B$3:$E$6,2,0)","v":"22:30:00"},{"$f":"VLOOKUP($AA434,DATA!$B$3:$E$6,3,0)","v":"06:30:00"},{"$f":"VLOOKUP($AA434,DATA!$B$3:$E$6,4,0)","v":3.125E-2},0.30208333333333326,0.30208333333333326,{"$f":"DATA!$C$9","v":0.89},{"$f":"DATA!$C$10","v":64},1,407.81249999999989,407.81249999999989,0,"","",0,"","",323.2,303,"","",303,null,{"$f":"X436","v":21},null,{"$f":"TEXT(Y432,\"ddd\")","v":"wo"},"ND",{"$f":"IFERROR(HLOOKUP(Y432,[1]DATA!$A$1:$NB$5,5,0),\"\")","v":"D3"},null,null,null,303,{"$f":"VLOOKUP(Y432,[1]SRA!$S$4:$Z$368,4,0)","v":21},-104.81249999999989,0.7429885057471266,0.9389889599070308]
["21doDD",{"$f":"VLOOKUP($AA435,DATA!$B$3:$E$6,2,0)","v":"06:30:00"},{"$f":"VLOOKUP($AA435,DATA!$B$3:$E$6,3,0)","v":"14:30:00"},{"$f":"VLOOKUP($AA435,DATA!$B$3:$E$6,4,0)","v":3.125E-2},0.30208333333333331,0.28194444444444444,{"$f":"DATA!$C$9","v":0.89},{"$f":"DATA!$C$10","v":64},1,380.625,407.8125,2.013888888888889E-2,27.1875,6.6666666666666666E-2,0,"","",385.06666666666666,333,"",333,"",null,{"$f":"X436","v":21},{"$f":"Y432+1","v":"2018-05-24"},{"$f":"TEXT(Y435,\"ddd\")","v":"do"},"DD",{"$f":"IFERROR(HLOOKUP(Y435,[1]DATA!$A$1:$NB$5,3,0),\"\")","v":"D2"},29,null,28,361,{"$f":"VLOOKUP(Y435,[1]SRA!$S$4:$Z$368,2,0)","v":24},-47.625,0.81655172413793109,0.94132985658409385]
["21doMD",{"$f":"VLOOKUP($AA436,DATA!$B$3:$E$6,2,0)","v":"14:30:00"},{"$f":"VLOOKUP($AA436,DATA!$B$3:$E$6,3,0)","v":"22:30:00"},{"$f":"VLOOKUP($AA436,DATA!$B$3:$E$6,4,0)","v":3.125E-2},0.30208333333333337,0.28958333333333336,{"$f":"DATA!$C$9","v":0.89},{"$f":"DATA!$C$10","v":64},1,390.93750000000006,407.81250000000006,1.2499999999999999E-2,16.875,4.1379310344827579E-2,0,"","",359.46666666666664,328,328,"","",null,{"$f":"WEEKNUM($Y426)","v":21},null,{"$f":"TEXT(Y435,\"ddd\")","v":"do"},"MD",{"$f":"IFERROR(HLOOKUP(Y435,[1]DATA!$A$1:$NB$5,4,0),\"\")","v":"D1"},18,null,9,337,{"$f":"VLOOKUP(Y435,[1]SRA!$S$4:$Z$368,3,0)","v":5},-62.937500000000057,0.80429118773946351,0.98628132430949333]
["21doND",{"$f":"VLOOKUP($AA437,DATA!$B$3:$E$6,2,0)","v":"22:30:00"},{"$f":"VLOOKUP($AA437,DATA!$B$3:$E$6,3,0)","v":"06:30:00"},{"$f":"VLOOKUP($AA437,DATA!$B$3:$E$6,4,0)","v":3.125E-2},0.30208333333333326,0.30208333333333326,{"$f":"DATA!$C$9","v":0.89},{"$f":"DATA!$C$10","v":64},1,407.81249999999989,407.81249999999989,0,"","",0,"","",343.46666666666664,322,"","",322,null,{"$f":"X436","v":21},null,{"$f":"TEXT(Y435,\"ddd\")","v":"do"},"ND",{"$f":"IFERROR(HLOOKUP(Y435,[1]DATA!$A$1:$NB$5,5,0),\"\")","v":"D3"},null,null,null,322,{"$f":"VLOOKUP(Y435,[1]SRA!$S$4:$Z$368,4,0)","v":20},-85.812499999999886,0.7895785440613029,0.94497432134996329]
["21vrDD",{"$f":"VLOOKUP($AA438,DATA!$B$3:$E$6,2,0)","v":"06:30:00"},{"$f":"VLOOKUP($AA438,DATA!$B$3:$E$6,3,0)","v":"14:30:00"},{"$f":"VLOOKUP($AA438,DATA!$B$3:$E$6,4,0)","v":3.125E-2},0.30208333333333331,0.2986111111111111,{"$f":"DATA!$C$9","v":0.89},{"$f":"DATA!$C$10","v":64},1,403.125,407.8125,3.472222222222222E-3,4.6875,1.1494252873563218E-2,0,"","",357.33333333333331,327,"",327,"",null,{"$f":"X436","v":21},{"$f":"Y435+1","v":"2018-05-25"},{"$f":"TEXT(Y438,\"ddd\")","v":"vr"},"DD",{"$f":"IFERROR(HLOOKUP(Y438,[1]DATA!$A$1:$NB$5,3,0),\"\")","v":"D2"},5,null,8,335,{"$f":"VLOOKUP(Y438,[1]SRA!$S$4:$Z$368,2,0)","v":37},-76.125,0.80183908045977015,0.90617075232459843]
["21vrMD",{"$f":"VLOOKUP($AA439,DATA!$B$3:$E$6,2,0)","v":"14:30:00"},{"$f":"VLOOKUP($AA439,DATA!$B$3:$E$6,3,0)","v":"22:30:00"},{"$f":"VLOOKUP($AA439,DATA!$B$3:$E$6,4,0)","v":3.125E-2},0.30208333333333337,0.26875000000000004,{"$f":"DATA!$C$9","v":0.89},{"$f":"DATA!$C$10","v":64},1,362.81250000000006,407.81250000000006,3.3333333333333333E-2,45,0.11034482758620688,0,"","",344.5333333333333,308,308,"","",null,{"$f":"X436","v":21},null,{"$f":"TEXT(Y438,\"ddd\")","v":"vr"},"MD",{"$f":"IFERROR(HLOOKUP(Y438,[1]DATA!$A$1:$NB$5,4,0),\"\")","v":"D1"},48,null,15,323,{"$f":"VLOOKUP(Y438,[1]SRA!$S$4:$Z$368,3,0)","v":19},-54.812500000000057,0.75524904214559374,0.94773519163763065]
["21vrND",{"$f":"VLOOKUP($AA440,DATA!$B$3:$E$6,2,0)","v":"22:30:00"},{"$f":"VLOOKUP($AA440,DATA!$B$3:$E$6,3,0)","v":"06:30:00"},{"$f":"VLOOKUP($AA440,DATA!$B$3:$E$6,4,0)","v":3.125E-2},0.30208333333333326,0.30208333333333326,{"$f":"DATA!$C$9","v":0.89},{"$f":"DATA!$C$10","v":64},1,407.81249999999989,407.81249999999989,0,"","",0,"","",342.4,321,"","",321,null,{"$f":"X436","v":21},null,{"$f":"TEXT(Y438,\"ddd\")","v":"vr"},"ND",{"$f":"IFERROR(HLOOKUP(Y438,[1]DATA!$A$1:$NB$5,5,0),\"\")","v":"D3"},null,null,null,321,{"$f":"VLOOKUP(Y438,[1]SRA!$S$4:$Z$368,4,0)","v":20},-86.812499999999886,0.78712643678160943,0.94481236203090513]
["21zaDD",{"$f":"VLOOKUP($AA441,DATA!$B$3:$E$6,2,0)","v":"06:30:00"},{"$f":"VLOOKUP($AA441,DATA!$B$3:$E$6,3,0)","v":"14:30:00"},{"$f":"VLOOKUP($AA441,DATA!$B$3:$E$6,4,0)","v":3.125E-2},0.30208333333333331,0.30208333333333331,{"$f":"DATA!$C$9","v":0.89},{"$f":"DATA!$C$10","v":64},1,407.8125,407.8125,0,"","",0,"","",0,"","","","",null,{"$f":"X436","v":21},{"$f":"Y438+1","v":"2018-05-26"},{"$f":"TEXT(Y441,\"ddd\")","v":"za"},"DD",{"$f":"IFERROR(HLOOKUP(Y441,[1]DATA!$A$1:$NB$5,3,0),\"\")","v":"D2"},null,null,null,null,{"$f":"VLOOKUP(Y441,[1]SRA!$S$4:$Z$368,2,0)","v":8},"","",0]
["21zaMD",{"$f":"VLOOKUP($AA442,DATA!$B$3:$E$6,2,0)","v":"14:30:00"},{"$f":"VLOOKUP($AA442,DATA!$B$3:$E$6,3,0)","v":"22:30:00"},{"$f":"VLOOKUP($AA442,DATA!$B$3:$E$6,4,0)","v":3.125E-2},0.30208333333333337,0.30208333333333337,{"$f":"DATA!$C$9","v":0.89},{"$f":"DATA!$C$10","v":64},1,407.81250000000006,407.81250000000006,0,"","",0,"","",0,"","","","",null,{"$f":"X436","v":21},null,{"$f":"TEXT(Y441,\"ddd\")","v":"za"},"MD",{"$f":"IFERROR(HLOOKUP(Y441,[1]DATA!$A$1:$NB$5,4,0),\"\")","v":"-"},null,null,null,null,{"$f":"VLOOKUP(Y441,[1]SRA!$S$4:$Z$368,3,0)","v":0},"","",""]
["21zaND",{"$f":"VLOOKUP($AA443,DATA!$B$3:$E$6,2,0)","v":"22:30:00"},{"$f":"VLOOKUP($AA443,DATA!$B$3:$E$6,3,0)","v":"06:30:00"},{"$f":"VLOOKUP($AA443,DATA!$B$3:$E$6,4,0)","v":3.125E-2},0.30208333333333326,0.30208333333333326,{"$f":"DATA!$C$9","v":0.89},{"$f":"DATA!$C$10","v":64},1,407.81249999999989,407.81249999999989,0,"","",0,"","",0,"","","","",null,{"$f":"X436","v":21},null,{"$f":"TEXT(Y441,\"ddd\")","v":"za"},"ND",{"$f":"IFERROR(HLOOKUP(Y441,[1]DATA!$A$1:$NB$5,5,0),\"\")","v":"-"},null,null,null,null,{"$f":"VLOOKUP(Y441,[1]SRA!$S$4:$Z$368,4,0)","v":0},"","",""]
["21zoDD",{"$f":"VLOOKUP($AA444,DATA!$B$3:$E$6,2,0)","v":"06:30:00"},{"$f":"VLOOKUP($AA444,DATA!$B$3:$E$6,3,0)","v":"14:30:00"},{"$f":"VLOOKUP($AA444,DATA!$B$3:$E$6,4,0)","v":3.125E-2},0.30208333333333331,0.30208333333333331,{"$f":"DATA!$C$9","v":0.89},{"$f":"DATA!$C$10","v":64},1,407.8125,407.8125,0,"","",0,"","",0,"","","","",null,{"$f":"X436","v":21},{"$f":"Y441+1","v":"2018-05-27"},{"$f":"TEXT(Y444,\"ddd\")","v":"zo"},"DD",{"$f":"IFERROR(HLOOKUP(Y444,[1]DATA!$A$1:$NB$5,3,0),\"\")","v":"-"},null,null,null,null,{"$f":"VLOOKUP(Y444,[1]SRA!$S$4:$Z$368,2,0)","v":0},"","",""]
["21zoMD",{"$f":"VLOOKUP($AA445,DATA!$B$3:$E$6,2,0)","v":"14:30:00"},{"$f":"VLOOKUP($AA445,DATA!$B$3:$E$6,3,0)","v":"22:30:00"},{"$f":"VLOOKUP($AA445,DATA!$B$3:$E$6,4,0)","v":3.125E-2},0.30208333333333337,0.30208333333333337,{"$f":"DATA!$C$9","v":0.89},{"$f":"DATA!$C$10","v":64},1,407.81250000000006,407.81250000000006,0,"","",0,"","",0,"","","","",null,{"$f":"X436","v":21},null,{"$f":"TEXT(Y444,\"ddd\")","v":"zo"},"MD",{"$f":"IFERROR(HLOOKUP(Y444,[1]DATA!$A$1:$NB$5,4,0),\"\")","v":"-"},null,null,null,null,{"$f":"VLOOKUP(Y444,[1]SRA!$S$4:$Z$368,3,0)","v":0},"","",""]
["21zoZND",{"$f":"VLOOKUP($AA446,DATA!$B$3:$E$6,2,0)","v":"00:00:00"},{"$f":"VLOOKUP($AA446,DATA!$B$3:$E$6,3,0)","v":"00:00:00"},{"$f":"VLOOKUP($AA446,DATA!$B$3:$E$6,4,0)","v":0},0,0,{"$f":"DATA!$C$9","v":0.89},{"$f":"DATA!$C$10","v":64},1,0,0,0,"","",0,"","",0,"","","","",null,{"$f":"X436","v":21},null,{"$f":"TEXT(Y444,\"ddd\")","v":"zo"},"ZND",{"$f":"IFERROR(HLOOKUP(Y444,[1]DATA!$A$1:$NB$5,5,0),\"\")","v":"-"},null,null,null,null,{"$f":"VLOOKUP(Y444,[1]SRA!$S$4:$Z$368,4,0)","v":0},"","",""]
["22maDD",{"$f":"VLOOKUP($AA447,DATA!$B$3:$E$6,2,0)","v":"06:30:00"},{"$f":"VLOOKUP($AA447,DATA!$B$3:$E$6,3,0)","v":"14:30:00"},{"$f":"VLOOKUP($AA447,DATA!$B$3:$E$6,4,0)","v":3.125E-2},0.30208333333333331,0.28888888888888886,{"$f":"DATA!$C$9","v":0.89},{"$f":"DATA!$C$10","v":64},1,389.99999999999994,407.8125,1.3194444444444444E-2,17.8125,4.3678160919540229E-2,{"$f":"TIME(INT($AD447/60),INT(MOD($AD447,60)/1),0)","v":0},"","",232.53333333333333,203,203,"","",null,{"$f":"X457","v":22},{"$f":"Y444+1","v":"2018-05-28"},{"$f":"TEXT(Y447,\"ddd\")","v":"ma"},"DD",{"$f":"IFERROR(HLOOKUP(Y447,[1]DATA!$A$1:$NB$5,3,0),\"\")","v":"D1"},19,null,15,218,{"$f":"VLOOKUP(Y447,[1]SRA!$S$4:$Z$368,2,0)","v":8},-186.99999999999994,0.49777777777777776,0.96674057649667411,{"$f":"IF(SUMIF(S447:S467,\">0\",K447:K467)=0,\"\",SUMIF(S447:S467,\">0\",K447:K467))","v":5301.5625},{"$f":"IF(SUM(S447:S467)=0,\"\",SUM(S447:S467))","v":3585},{"$f":"IFERROR(AL447/AK447,\"-\")","v":0.67621573828470383},{"$f":"IF(SUM(M447:M467)=0,\"0\",SUM(M447:M467))","v":314.0625},{"$f":"IFERROR(AN447/AK447,\"-\")","v":5.9239610963748898E-2},{"$f":"IF(SUM(P447:P467)=0,0,SUM(P447:P467))","v":0},{"$f":"IFERROR(AP447/AK447,\"-\")","v":0},{"$f":"IFERROR(AVERAGE(AJ447:AJ467),\"-\")","v":0.95161615886109396},{"$f":"IFERROR(SUMIF($AB447:$AB467,AS$5,$AJ447:$AJ467)/COUNTIFS($AB447:$AB467,AS$5,$AJ447:$AJ467,\">0\"),\"\")","v":0.97755469062782452},0.95252244048868828,0.91828671252508587,{"$f":"IFERROR((AK447-AL447-AN447-AP447),\"-\")","v":1402.5},{"$f":"IFERROR((1-AM447-AO447-AQ447), \"-\")","v":0.26454465075154726},{"$f":"IFERROR((AV447*$AE$2)/60,\"-\")","v":1496},{"$f":"IFERROR(SUM(AG447:AG467),\"\")","v":230}]
["22maMD",{"$f":"VLOOKUP($AA448,DATA!$B$3:$E$6,2,0)","v":"14:30:00"},{"$f":"VLOOKUP($AA448,DATA!$B$3:$E$6,3,0)","v":"22:30:00"},{"$f":"VLOOKUP($AA448,DATA!$B$3:$E$6,4,0)","v":3.125E-2},0.30208333333333337,0.27708333333333335,{"$f":"DATA!$C$9","v":0.89},{"$f":"DATA!$C$10","v":64},1,374.0625,407.81250000000006,2.4999999999999998E-2,33.75,8.2758620689655157E-2,{"$f":"TIME(INT(AD448/60),INT(MOD(AD448,60)/1),0)","v":0},"","",219.73333333333332,194,"","",194,null,{"$f":"X457","v":22},null,{"$f":"TEXT(Y447,\"ddd\")","v":"ma"},"MD",{"$f":"IFERROR(HLOOKUP(Y447,[1]DATA!$A$1:$NB$5,4,0),\"\")","v":"D3"},36,null,12,206,{"$f":"VLOOKUP(Y447,[1]SRA!$S$4:$Z$368,3,0)","v":0},-180.0625,0.47570881226053635,1]
["22maND",{"$f":"VLOOKUP($AA449,DATA!$B$3:$E$6,2,0)","v":"22:30:00"},{"$f":"VLOOKUP($AA449,DATA!$B$3:$E$6,3,0)","v":"06:30:00"},{"$f":"VLOOKUP($AA449,DATA!$B$3:$E$6,4,0)","v":3.125E-2},0.30208333333333326,0.28194444444444439,{"$f":"DATA!$C$9","v":0.89},{"$f":"DATA!$C$10","v":64},1,380.62499999999994,407.81249999999989,2.013888888888889E-2,27.1875,6.666666666666668E-2,0,"","",301.86666666666667,255,"",255,"",null,{"$f":"X457","v":22},null,{"$f":"TEXT(Y447,\"ddd\")","v":"ma"},"ND",{"$f":"IFERROR(HLOOKUP(Y447,[1]DATA!$A$1:$NB$5,5,0),\"\")","v":"D2"},29,null,28,283,{"$f":"VLOOKUP(Y447,[1]SRA!$S$4:$Z$368,4,0)","v":19},-125.62499999999994,0.62528735632183929,0.94078537294826514]
["22diDD",{"$f":"VLOOKUP($AA450,DATA!$B$3:$E$6,2,0)","v":"06:30:00"},{"$f":"VLOOKUP($AA450,DATA!$B$3:$E$6,3,0)","v":"14:30:00"},{"$f":"VLOOKUP($AA450,DATA!$B$3:$E$6,4,0)","v":3.125E-2},0.30208333333333331,0.26180555555555551,{"$f":"DATA!$C$9","v":0.89},{"$f":"DATA!$C$10","v":64},1,353.43749999999994,407.8125,4.027777777777778E-2,54.375,0.13333333333333333,0,"","",310.39999999999998,276,276,"","",null,{"$f":"X457","v":22},{"$f":"Y447+1","v":"2018-05-29"},{"$f":"TEXT(Y450,\"ddd\")","v":"di"},"DD",{"$f":"IFERROR(HLOOKUP(Y450,[1]DATA!$A$1:$NB$5,3,0),\"\")","v":"D1"},58,null,15,291,{"$f":"VLOOKUP(Y450,[1]SRA!$S$4:$Z$368,2,0)","v":4},-77.437499999999943,0.67678160919540231,0.98727735368956748]
["22diMD",{"$f":"VLOOKUP($AA451,DATA!$B$3:$E$6,2,0)","v":"14:30:00"},{"$f":"VLOOKUP($AA451,DATA!$B$3:$E$6,3,0)","v":"22:30:00"},{"$f":"VLOOKUP($AA451,DATA!$B$3:$E$6,4,0)","v":3.125E-2},0.30208333333333337,0.30000000000000004,{"$f":"DATA!$C$9","v":0.89},{"$f":"DATA!$C$10","v":64},1,405.00000000000006,407.81250000000006,2.0833333333333333E-3,2.8125,6.8965517241379301E-3,0,"","",304,273,"","",273,null,{"$f":"X457","v":22},null,{"$f":"TEXT(Y450,\"ddd\")","v":"di"},"MD",{"$f":"IFERROR(HLOOKUP(Y450,[1]DATA!$A$1:$NB$5,4,0),\"\")","v":"D3"},3,null,12,285,{"$f":"VLOOKUP(Y450,[1]SRA!$S$4:$Z$368,3,0)","v":105},-132.00000000000006,0.66942528735632179,0.74327628361858189]
["22diND",{"$f":"VLOOKUP($AA452,DATA!$B$3:$E$6,2,0)","v":"22:30:00"},{"$f":"VLOOKUP($AA452,DATA!$B$3:$E$6,3,0)","v":"06:30:00"},{"$f":"VLOOKUP($AA452,DATA!$B$3:$E$6,4,0)","v":3.125E-2},0.30208333333333326,0.29652777777777772,{"$f":"DATA!$C$9","v":0.89},{"$f":"DATA!$C$10","v":64},1,400.31249999999994,407.81249999999989,5.5555555555555558E-3,7.5,1.8390804597701156E-2,0,"","",392.5333333333333,340,"",340,"",null,{"$f":"X457","v":22},null,{"$f":"TEXT(Y450,\"ddd\")","v":"di"},"ND",{"$f":"IFERROR(HLOOKUP(Y450,[1]DATA!$A$1:$NB$5,5,0),\"\")","v":"D2"},8,null,28,368,{"$f":"VLOOKUP(Y450,[1]SRA!$S$4:$Z$368,4,0)","v":8},-60.312499999999943,0.83371647509578573,0.98002663115845534]
["22woDD",{"$f":"VLOOKUP($AA453,DATA!$B$3:$E$6,2,0)","v":"06:30:00"},{"$f":"VLOOKUP($AA453,DATA!$B$3:$E$6,3,0)","v":"14:30:00"},{"$f":"VLOOKUP($AA453,DATA!$B$3:$E$6,4,0)","v":3.125E-2},0.30208333333333331,0.30208333333333331,{"$f":"DATA!$C$9","v":0.89},{"$f":"DATA!$C$10","v":64},1,407.8125,407.8125,0,"","",0,"","",268.8,240,240,"","",null,{"$f":"X457","v":22},{"$f":"Y450+1","v":"2018-05-30"},{"$f":"TEXT(Y453,\"ddd\")","v":"wo"},"DD",{"$f":"IFERROR(HLOOKUP(Y453,[1]DATA!$A$1:$NB$5,3,0),\"\")","v":"D1"},0,null,12,252,{"$f":"VLOOKUP(Y453,[1]SRA!$S$4:$Z$368,2,0)","v":2},-167.8125,0.58850574712643677,0.99261447562776961]
["22woMD",{"$f":"VLOOKUP($AA454,DATA!$B$3:$E$6,2,0)","v":"14:30:00"},{"$f":"VLOOKUP($AA454,DATA!$B$3:$E$6,3,0)","v":"22:30:00"},{"$f":"VLOOKUP($AA454,DATA!$B$3:$E$6,4,0)","v":3.125E-2},0.30208333333333337,0.27777777777777779,{"$f":"DATA!$C$9","v":0.89},{"$f":"DATA!$C$10","v":64},1,{"$f":"F454*86400/H454*I454","v":375},{"$f":"E454*86400/H454","v":407.81250000000006},2.4305555555555556E-2,32.8125,8.0459770114942514E-2,0,"","",{"$f":"AF454*AG$2","v":352},{"$f":"IF(AF454-AE454=0,\"\",AF454-AE454)","v":313},"","",313,null,{"$f":"X457","v":22},null,{"$f":"TEXT(Y453,\"ddd\")","v":"wo"},"MD",{"$f":"IFERROR(HLOOKUP(Y453,[1]DATA!$A$1:$NB$5,4,0),\"\")","v":"D3"},35,null,17,330,{"$f":"VLOOKUP(Y453,[1]SRA!$S$4:$Z$368,3,0)","v":8},{"$f":"IFERROR(S454-J454,\"\")","v":-62},{"$f":"IFERROR(IF(S454/(E454*86400/H454)<=0,\"\",S454/(E454*86400/H454)),\"\")","v":0.76750957854406121},0.97777777777777775]
["22woND",{"$f":"VLOOKUP($AA455,DATA!$B$3:$E$6,2,0)","v":"22:30:00"},{"$f":"VLOOKUP($AA455,DATA!$B$3:$E$6,3,0)","v":"06:30:00"},{"$f":"VLOOKUP($AA455,DATA!$B$3:$E$6,4,0)","v":3.125E-2},0.30208333333333326,0.27013888888888882,{"$f":"DATA!$C$9","v":0.89},{"$f":"DATA!$C$10","v":64},1,364.68749999999989,407.81249999999989,{"$f":"TIME(INT($AC455/60),INT(MOD($AC455,60)/1),0)","v":3.1944444444444449E-2},{"$f":"IF($L455*86400/$H455=0,\"\",$L455*86400/$H455)","v":43.125000000000007},{"$f":"IFERROR($M455/$K455,\"\")","v":0.10574712643678165},0,"",{"$f":"IFERROR($P455/$K455,\"\")","v":""},299.73333333333335,268,{"$f":"IF(IF($AB455=\"D1\",$S455,\"\")=0,\"\",IF($AB455=\"D1\",$S455,\"\"))","v":""},{"$f":"IF(IF($AB455=\"D2\",$S455,\"\")=0,\"\",IF($AB455=\"D2\",$S455,\"\"))","v":268},{"$f":"IF(IF($AB455=\"D3\",$S455,\"\")=0,\"\",IF($AB455=\"D3\",$S455,\"\"))","v":""},null,{"$f":"X457","v":22},null,{"$f":"TEXT(Y453,\"ddd\")","v":"wo"},"ND",{"$f":"IFERROR(HLOOKUP(Y453,[1]DATA!$A$1:$NB$5,5,0),\"\")","v":"D2"},46,null,13,281,{"$f":"VLOOKUP(Y453,[1]SRA!$S$4:$Z$368,4,0)","v":26},-96.687499999999886,0.65716475095785454,0.92018010642652481]
["22doDD",{"$f":"VLOOKUP($AA456,DATA!$B$3:$E$6,2,0)","v":"06:30:00"},{"$f":"VLOOKUP($AA456,DATA!$B$3:$E$6,3,0)","v":"14:30:00"},{"$f":"VLOOKUP($AA456,DATA!$B$3:$E$6,4,0)","v":3.125E-2},0.30208333333333331,0.27430555555555552,{"$f":"DATA!$C$9","v":0.89},{"$f":"DATA!$C$10","v":64},1,370.31249999999994,407.8125,2.7777777777777776E-2,37.5,9.1954022988505746E-2,0,"","",381.86666666666667,341,341,"","",null,{"$f":"X457","v":22},{"$f":"Y453+1","v":"2018-05-31"},{"$f":"TEXT(Y456,\"ddd\")","v":"do"},"DD",{"$f":"IFERROR(HLOOKUP(Y456,[1]DATA!$A$1:$NB$5,3,0),\"\")","v":"D1"},40,null,17,358,{"$f":"VLOOKUP(Y456,[1]SRA!$S$4:$Z$368,2,0)","v":10},-29.312499999999943,0.83616858237547897,0.97448111602585918]
["22doMD",{"$f":"VLOOKUP($AA457,DATA!$B$3:$E$6,2,0)","v":"14:30:00"},{"$f":"VLOOKUP($AA457,DATA!$B$3:$E$6,3,0)","v":"22:30:00"},{"$f":"VLOOKUP($AA457,DATA!$B$3:$E$6,4,0)","v":3.125E-2},0.30208333333333337,0.30208333333333337,{"$f":"DATA!$C$9","v":0.89},{"$f":"DATA!$C$10","v":64},1,407.81250000000006,407.81250000000006,0,"","",0,"","",377.6,331,"","",331,null,{"$f":"WEEKNUM($Y447)","v":22},null,{"$f":"TEXT(Y456,\"ddd\")","v":"do"},"MD",{"$f":"IFERROR(HLOOKUP(Y456,[1]DATA!$A$1:$NB$5,4,0),\"\")","v":"D3"},0,null,23,354,{"$f":"VLOOKUP(Y456,[1]SRA!$S$4:$Z$368,3,0)","v":19},-76.812500000000057,0.81164750957854392,0.95209278870398384]
["22doND",{"$f":"VLOOKUP($AA458,DATA!$B$3:$E$6,2,0)","v":"22:30:00"},{"$f":"VLOOKUP($AA458,DATA!$B$3:$E$6,3,0)","v":"06:30:00"},{"$f":"VLOOKUP($AA458,DATA!$B$3:$E$6,4,0)","v":3.125E-2},0.30208333333333326,0.27708333333333324,{"$f":"DATA!$C$9","v":0.89},{"$f":"DATA!$C$10","v":64},1,374.06249999999989,407.81249999999989,2.4999999999999998E-2,33.75,8.2758620689655199E-2,0,"","",313.60000000000002,279,"",279,"",null,{"$f":"X457","v":22},null,{"$f":"TEXT(Y456,\"ddd\")","v":"do"},"ND",{"$f":"IFERROR(HLOOKUP(Y456,[1]DATA!$A$1:$NB$5,5,0),\"\")","v":"D2"},36,null,15,294,{"$f":"VLOOKUP(Y456,[1]SRA!$S$4:$Z$368,4,0)","v":10},-95.062499999999886,0.68413793103448295,0.96909765142150806]
["22vrDD",{"$f":"VLOOKUP($AA459,DATA!$B$3:$E$6,2,0)","v":"06:30:00"},{"$f":"VLOOKUP($AA459,DATA!$B$3:$E$6,3,0)","v":"14:30:00"},{"$f":"VLOOKUP($AA459,DATA!$B$3:$E$6,4,0)","v":3.125E-2},0.30208333333333331,0.28472222222222221,{"$f":"DATA!$C$9","v":0.89},{"$f":"DATA!$C$10","v":64},1,384.375,407.8125,1.7361111111111112E-2,23.4375,5.7471264367816091E-2,0,"","",318.93333333333334,272,272,"","",null,{"$f":"X457","v":22},{"$f":"Y456+1","v":"2018-06-01"},{"$f":"TEXT(Y459,\"ddd\")","v":"vr"},"DD",{"$f":"IFERROR(HLOOKUP(Y459,[1]DATA!$A$1:$NB$5,3,0),\"\")","v":"D1"},25,null,27,299,{"$f":"VLOOKUP(Y459,[1]SRA!$S$4:$Z$368,2,0)","v":11},-112.375,0.66697318007662831,0.96665993129925243]
["22vrMD",{"$f":"VLOOKUP($AA460,DATA!$B$3:$E$6,2,0)","v":"14:30:00"},{"$f":"VLOOKUP($AA460,DATA!$B$3:$E$6,3,0)","v":"22:30:00"},{"$f":"VLOOKUP($AA460,DATA!$B$3:$E$6,4,0)","v":3.125E-2},0.30208333333333337,0.30208333333333337,{"$f":"DATA!$C$9","v":0.89},{"$f":"DATA!$C$10","v":64},1,407.81250000000006,407.81250000000006,0,"","",0,"","",0,"","","","",null,{"$f":"X457","v":22},null,{"$f":"TEXT(Y459,\"ddd\")","v":"vr"},"MD",{"$f":"IFERROR(HLOOKUP(Y459,[1]DATA!$A$1:$NB$5,4,0),\"\")","v":"D3"},null,null,null,null,{"$f":"VLOOKUP(Y459,[1]SRA!$S$4:$Z$368,3,0)","v":0},"","",""]
["22vrND",{"$f":"VLOOKUP($AA461,DATA!$B$3:$E$6,2,0)","v":"22:30:00"},{"$f":"VLOOKUP($AA461,DATA!$B$3:$E$6,3,0)","v":"06:30:00"},{"$f":"VLOOKUP($AA461,DATA!$B$3:$E$6,4,0)","v":3.125E-2},0.30208333333333326,0.30208333333333326,{"$f":"DATA!$C$9","v":0.89},{"$f":"DATA!$C$10","v":64},1,407.81249999999989,407.81249999999989,0,"","",0,"","",0,"","","","",null,{"$f":"X457","v":22},null,{"$f":"TEXT(Y459,\"ddd\")","v":"vr"},"ND",{"$f":"IFERROR(HLOOKUP(Y459,[1]DATA!$A$1:$NB$5,5,0),\"\")","v":"D2"},null,null,null,null,{"$f":"VLOOKUP(Y459,[1]SRA!$S$4:$Z$368,4,0)","v":0},"","",""]
["22zaDD",{"$f":"VLOOKUP($AA462,DATA!$B$3:$E$6,2,0)","v":"06:30:00"},{"$f":"VLOOKUP($AA462,DATA!$B$3:$E$6,3,0)","v":"14:30:00"},{"$f":"VLOOKUP($AA462,DATA!$B$3:$E$6,4,0)","v":3.125E-2},0.30208333333333331,0.30208333333333331,{"$f":"DATA!$C$9","v":0.89},{"$f":"DATA!$C$10","v":64},1,407.8125,407.8125,0,"","",0,"","",0,"","","","",null,{"$f":"X457","v":22},{"$f":"Y459+1","v":"2018-06-02"},{"$f":"TEXT(Y462,\"ddd\")","v":"za"},"DD",{"$f":"IFERROR(HLOOKUP(Y462,[1]DATA!$A$1:$NB$5,3,0),\"\")","v":"D1"},null,null,null,null,{"$f":"VLOOKUP(Y462,[1]SRA!$S$4:$Z$368,2,0)","v":0},"","",""]
["22zaMD",{"$f":"VLOOKUP($AA463,DATA!$B$3:$E$6,2,0)","v":"14:30:00"},{"$f":"VLOOKUP($AA463,DATA!$B$3:$E$6,3,0)","v":"22:30:00"},{"$f":"VLOOKUP($AA463,DATA!$B$3:$E$6,4,0)","v":3.125E-2},0.30208333333333337,0.30208333333333337,{"$f":"DATA!$C$9","v":0.89},{"$f":"DATA!$C$10","v":64},1,407.81250000000006,407.81250000000006,0,"","",0,"","",0,"","","","",null,{"$f":"X457","v":22},null,{"$f":"TEXT(Y462,\"ddd\")","v":"za"},"MD",{"$f":"IFERROR(HLOOKUP(Y462,[1]DATA!$A$1:$NB$5,4,0),\"\")","v":"-"},null,null,null,null,{"$f":"VLOOKUP(Y462,[1]SRA!$S$4:$Z$368,3,0)","v":0},"","",""]
["22zaND",{"$f":"VLOOKUP($AA464,DATA!$B$3:$E$6,2,0)","v":"22:30:00"},{"$f":"VLOOKUP($AA464,DATA!$B$3:$E$6,3,0)","v":"06:30:00"},{"$f":"VLOOKUP($AA464,DATA!$B$3:$E$6,4,0)","v":3.125E-2},0.30208333333333326,0.30208333333333326,{"$f":"DATA!$C$9","v":0.89},{"$f":"DATA!$C$10","v":64},1,407.81249999999989,407.81249999999989,0,"","",0,"","",0,"","","","",null,{"$f":"X457","v":22},null,{"$f":"TEXT(Y462,\"ddd\")","v":"za"},"ND",{"$f":"IFERROR(HLOOKUP(Y462,[1]DATA!$A$1:$NB$5,5,0),\"\")","v":"-"},null,null,null,null,{"$f":"VLOOKUP(Y462,[1]SRA!$S$4:$Z$368,4,0)","v":0},"","",""]
["22zoDD",{"$f":"VLOOKUP($AA465,DATA!$B$3:$E$6,2,0)","v":"06:30:00"},{"$f":"VLOOKUP($AA465,DATA!$B$3:$E$6,3,0)","v":"14:30:00"},{"$f":"VLOOKUP($AA465,DATA!$B$3:$E$6,4,0)","v":3.125E-2},0.30208333333333331,0.30208333333333331,{"$f":"DATA!$C$9","v":0.89},{"$f":"DATA!$C$10","v":64},1,407.8125,407.8125,0,"","",0,"","",0,"","","","",null,{"$f":"X457","v":22},{"$f":"Y462+1","v":"2018-06-03"},{"$f":"TEXT(Y465,\"ddd\")","v":"zo"},"DD",{"$f":"IFERROR(HLOOKUP(Y465,[1]DATA!$A$1:$NB$5,3,0),\"\")","v":"-"},null,null,null,null,{"$f":"VLOOKUP(Y465,[1]SRA!$S$4:$Z$368,2,0)","v":0},"","",""]
["22zoMD",{"$f":"VLOOKUP($AA466,DATA!$B$3:$E$6,2,0)","v":"14:30:00"},{"$f":"VLOOKUP($AA466,DATA!$B$3:$E$6,3,0)","v":"22:30:00"},{"$f":"VLOOKUP($AA466,DATA!$B$3:$E$6,4,0)","v":3.125E-2},0.30208333333333337,0.30208333333333337,{"$f":"DATA!$C$9","v":0.89},{"$f":"DATA!$C$10","v":64},1,407.81250000000006,407.81250000000006,0,"","",0,"","",0,"","","","",null,{"$f":"X457","v":22},null,{"$f":"TEXT(Y465,\"ddd\")","v":"zo"},"MD",{"$f":"IFERROR(HLOOKUP(Y465,[1]DATA!$A$1:$NB$5,4,0),\"\")","v":"-"},null,null,null,null,{"$f":"VLOOKUP(Y465,[1]SRA!$S$4:$Z$368,3,0)","v":0},"","",""]
["22zoZND",{"$f":"VLOOKUP($AA467,DATA!$B$3:$E$6,2,0)","v":"00:00:00"},{"$f":"VLOOKUP($AA467,DATA!$B$3:$E$6,3,0)","v":"00:00:00"},{"$f":"VLOOKUP($AA467,DATA!$B$3:$E$6,4,0)","v":0},0,0,{"$f":"DATA!$C$9","v":0.89},{"$f":"DATA!$C$10","v":64},1,0,0,0,"","",0,"","",0,"","","","",null,{"$f":"X457","v":22},null,{"$f":"TEXT(Y465,\"ddd\")","v":"zo"},"ZND",{"$f":"IFERROR(HLOOKUP(Y465,[1]DATA!$A$1:$NB$5,5,0),\"\")","v":"-"},null,null,null,null,{"$f":"VLOOKUP(Y465,[1]SRA!$S$4:$Z$368,4,0)","v":0},"","",""]
["23maDD",{"$f":"VLOOKUP($AA468,DATA!$B$3:$E$6,2,0)","v":"06:30:00"},{"$f":"VLOOKUP($AA468,DATA!$B$3:$E$6,3,0)","v":"14:30:00"},{"$f":"VLOOKUP($AA468,DATA!$B$3:$E$6,4,0)","v":3.125E-2},0.30208333333333331,0.28888888888888886,{"$f":"DATA!$C$9","v":0.89},{"$f":"DATA!$C$10","v":64},1,389.99999999999994,407.8125,1.3194444444444444E-2,17.8125,4.3678160919540229E-2,{"$f":"TIME(INT($AD468/60),INT(MOD($AD468,60)/1),0)","v":0},"","",253.86666666666667,220,"","",220,null,{"$f":"X478","v":23},{"$f":"Y465+1","v":"2018-06-04"},{"$f":"TEXT(Y468,\"ddd\")","v":"ma"},"DD",{"$f":"IFERROR(HLOOKUP(Y468,[1]DATA!$A$1:$NB$5,3,0),\"\")","v":"D3"},19,null,18,238,{"$f":"VLOOKUP(Y468,[1]SRA!$S$4:$Z$368,2,0)","v":0},-169.99999999999994,0.53946360153256701,1,{"$f":"IF(SUMIF(S468:S488,\">0\",K468:K488)=0,\"\",SUMIF(S468:S488,\">0\",K468:K488))","v":6117.1875},{"$f":"IF(SUM(S468:S488)=0,\"\",SUM(S468:S488))","v":4280},{"$f":"IFERROR(AL468/AK468,\"-\")","v":0.69966794380587483},{"$f":"IF(SUM(M468:M488)=0,\"0\",SUM(M468:M488))","v":300.9375},{"$f":"IFERROR(AN468/AK468,\"-\")","v":4.9195402298850575E-2},{"$f":"IF(SUM(P468:P488)=0,0,SUM(P468:P488))","v":0},{"$f":"IFERROR(AP468/AK468,\"-\")","v":0},{"$f":"IFERROR(AVERAGE(AJ468:AJ488),\"-\")","v":0.93214726840012208},{"$f":"IFERROR(SUMIF($AB468:$AB488,AS$5,$AJ468:$AJ488)/COUNTIFS($AB468:$AB488,AS$5,$AJ468:$AJ488,\">0\"),\"\")","v":0.96022834194911411},0.90007312670250483,0.94817137959806885,{"$f":"IFERROR((AK468-AL468-AN468-AP468),\"-\")","v":1536.25},{"$f":"IFERROR((1-AM468-AO468-AQ468), \"-\")","v":0.25113665389527462},{"$f":"IFERROR((AV468*$AE$2)/60,\"-\")","v":1638.6666666666667},{"$f":"IFERROR(SUM(AG468:AG488),\"\")","v":383}]
["23maMD",{"$f":"VLOOKUP($AA469,DATA!$B$3:$E$6,2,0)","v":"14:30:00"},{"$f":"VLOOKUP($AA469,DATA!$B$3:$E$6,3,0)","v":"22:30:00"},{"$f":"VLOOKUP($AA469,DATA!$B$3:$E$6,4,0)","v":3.125E-2},0.30208333333333337,0.27847222222222223,{"$f":"DATA!$C$9","v":0.89},{"$f":"DATA!$C$10","v":64},1,375.9375,407.81250000000006,2.361111111111111E-2,31.875,7.816091954022987E-2,{"$f":"TIME(INT(AD469/60),INT(MOD(AD469,60)/1),0)","v":0},"","",325.33333333333331,278,"",278,"",null,{"$f":"X478","v":23},null,{"$f":"TEXT(Y468,\"ddd\")","v":"ma"},"MD",{"$f":"IFERROR(HLOOKUP(Y468,[1]DATA!$A$1:$NB$5,4,0),\"\")","v":"D2"},34,null,27,305,{"$f":"VLOOKUP(Y468,[1]SRA!$S$4:$Z$368,3,0)","v":19},-97.9375,0.68168582375478914,0.94482090997095836]
["23maND",{"$f":"VLOOKUP($AA470,DATA!$B$3:$E$6,2,0)","v":"22:30:00"},{"$f":"VLOOKUP($AA470,DATA!$B$3:$E$6,3,0)","v":"06:30:00"},{"$f":"VLOOKUP($AA470,DATA!$B$3:$E$6,4,0)","v":3.125E-2},0.30208333333333326,0.28333333333333327,{"$f":"DATA!$C$9","v":0.89},{"$f":"DATA!$C$10","v":64},1,382.49999999999994,407.81249999999989,1.8749999999999999E-2,25.3125,6.2068965517241399E-2,0,"","",325.33333333333331,297,297,"","",null,{"$f":"X478","v":23},null,{"$f":"TEXT(Y468,\"ddd\")","v":"ma"},"ND",{"$f":"IFERROR(HLOOKUP(Y468,[1]DATA!$A$1:$NB$5,5,0),\"\")","v":"D1"},27,null,8,305,{"$f":"VLOOKUP(Y468,[1]SRA!$S$4:$Z$368,4,0)","v":9},-85.499999999999943,0.72827586206896577,0.97308075772681957]
["23diDD",{"$f":"VLOOKUP($AA471,DATA!$B$3:$E$6,2,0)","v":"06:30:00"},{"$f":"VLOOKUP($AA471,DATA!$B$3:$E$6,3,0)","v":"14:30:00"},{"$f":"VLOOKUP($AA471,DATA!$B$3:$E$6,4,0)","v":3.125E-2},0.30208333333333331,0.26944444444444443,{"$f":"DATA!$C$9","v":0.89},{"$f":"DATA!$C$10","v":64},1,363.75,407.8125,3.2638888888888891E-2,44.0625,0.10804597701149425,0,"","",266.66666666666669,231,"","",231,null,{"$f":"X478","v":23},{"$f":"Y468+1","v":"2018-06-05"},{"$f":"TEXT(Y471,\"ddd\")","v":"di"},"DD",{"$f":"IFERROR(HLOOKUP(Y471,[1]DATA!$A$1:$NB$5,3,0),\"\")","v":"D3"},47,null,19,250,{"$f":"VLOOKUP(Y471,[1]SRA!$S$4:$Z$368,2,0)","v":36},-132.75,0.56643678160919542,0.88105726872246692]
["23diMD",{"$f":"VLOOKUP($AA472,DATA!$B$3:$E$6,2,0)","v":"14:30:00"},{"$f":"VLOOKUP($AA472,DATA!$B$3:$E$6,3,0)","v":"22:30:00"},{"$f":"VLOOKUP($AA472,DATA!$B$3:$E$6,4,0)","v":3.125E-2},0.30208333333333337,0.29375000000000001,{"$f":"DATA!$C$9","v":0.89},{"$f":"DATA!$C$10","v":64},1,396.5625,407.81250000000006,8.3333333333333332E-3,11.25,2.758620689655172E-2,0,"","",307.2,259,"",259,"",null,{"$f":"X478","v":23},null,{"$f":"TEXT(Y471,\"ddd\")","v":"di"},"MD",{"$f":"IFERROR(HLOOKUP(Y471,[1]DATA!$A$1:$NB$5,4,0),\"\")","v":"D2"},12,null,29,288,{"$f":"VLOOKUP(Y471,[1]SRA!$S$4:$Z$368,3,0)","v":110},-137.5625,0.63509578544061296,0.73633748801534038]
["23diND",{"$f":"VLOOKUP($AA473,DATA!$B$3:$E$6,2,0)","v":"22:30:00"},{"$f":"VLOOKUP($AA473,DATA!$B$3:$E$6,3,0)","v":"06:30:00"},{"$f":"VLOOKUP($AA473,DATA!$B$3:$E$6,4,0)","v":3.125E-2},0.30208333333333326,0.30069444444444438,{"$f":"DATA!$C$9","v":0.89},{"$f":"DATA!$C$10","v":64},1,405.93749999999989,407.81249999999989,1.3888888888888889E-3,1.875,4.597701149425289E-3,0,"","",378.66666666666669,341,341,"","",null,{"$f":"X478","v":23},null,{"$f":"TEXT(Y471,\"ddd\")","v":"di"},"ND",{"$f":"IFERROR(HLOOKUP(Y471,[1]DATA!$A$1:$NB$5,5,0),\"\")","v":"D1"},2,null,14,355,{"$f":"VLOOKUP(Y471,[1]SRA!$S$4:$Z$368,4,0)","v":35},-64.937499999999886,0.8361685823754792,0.91539081385979049]
["23woDD",{"$f":"VLOOKUP($AA474,DATA!$B$3:$E$6,2,0)","v":"06:30:00"},{"$f":"VLOOKUP($AA474,DATA!$B$3:$E$6,3,0)","v":"14:30:00"},{"$f":"VLOOKUP($AA474,DATA!$B$3:$E$6,4,0)","v":3.125E-2},0.30208333333333331,0.2986111111111111,{"$f":"DATA!$C$9","v":0.89},{"$f":"DATA!$C$10","v":64},1,403.125,407.8125,3.472222222222222E-3,4.6875,1.1494252873563218E-2,0,"","",350.93333333333334,314,"","",314,null,{"$f":"X478","v":23},{"$f":"Y471+1","v":"2018-06-06"},{"$f":"TEXT(Y474,\"ddd\")","v":"wo"},"DD",{"$f":"IFERROR(HLOOKUP(Y474,[1]DATA!$A$1:$NB$5,3,0),\"\")","v":"D3"},5,null,15,329,{"$f":"VLOOKUP(Y474,[1]SRA!$S$4:$Z$368,2,0)","v":36},-89.125,0.76996168582375479,0.90696071674707102]
["23woMD",{"$f":"VLOOKUP($AA475,DATA!$B$3:$E$6,2,0)","v":"14:30:00"},{"$f":"VLOOKUP($AA475,DATA!$B$3:$E$6,3,0)","v":"22:30:00"},{"$f":"VLOOKUP($AA475,DATA!$B$3:$E$6,4,0)","v":3.125E-2},0.30208333333333337,0.27916666666666667,{"$f":"DATA!$C$9","v":0.89},{"$f":"DATA!$C$10","v":64},1,376.875,407.81250000000006,2.2916666666666669E-2,30.937500000000004,7.586206896551724E-2,0,"","",338.13333333333333,295,"",295,"",null,{"$f":"X478","v":23},null,{"$f":"TEXT(Y474,\"ddd\")","v":"wo"},"MD",{"$f":"IFERROR(HLOOKUP(Y474,[1]DATA!$A$1:$NB$5,4,0),\"\")","v":"D2"},33,null,22,317,{"$f":"VLOOKUP(Y474,[1]SRA!$S$4:$Z$368,3,0)","v":18},-81.875,0.7233716475095785,{"$f":"IFERROR(R475/(R475+AG475),\"\")","v":0.94945713216023964}]
["23woND",{"$f":"VLOOKUP($AA476,DATA!$B$3:$E$6,2,0)","v":"22:30:00"},{"$f":"VLOOKUP($AA476,DATA!$B$3:$E$6,3,0)","v":"06:30:00"},{"$f":"VLOOKUP($AA476,DATA!$B$3:$E$6,4,0)","v":3.125E-2},{"$f":"(C476-B476+(B476>C476))-D476","v":0.30208333333333326},{"$f":"E476-O476-L476","v":0.28124999999999994},{"$f":"DATA!$C$9","v":0.89},{"$f":"DATA!$C$10","v":64},1,379.68749999999994,407.81249999999989,2.0833333333333332E-2,28.125,6.8965517241379323E-2,0,"","",306.13333333333333,281,281,"","",null,{"$f":"X478","v":23},null,{"$f":"TEXT(Y474,\"ddd\")","v":"wo"},"ND",{"$f":"IFERROR(HLOOKUP(Y474,[1]DATA!$A$1:$NB$5,5,0),\"\")","v":"D1"},30,null,6,287,{"$f":"VLOOKUP(Y474,[1]SRA!$S$4:$Z$368,4,0)","v":8},-98.687499999999943,0.68904214559386989,0.97453310696095075]
["23doDD",{"$f":"VLOOKUP($AA477,DATA!$B$3:$E$6,2,0)","v":"06:30:00"},{"$f":"VLOOKUP($AA477,DATA!$B$3:$E$6,3,0)","v":"14:30:00"},{"$f":"VLOOKUP($AA477,DATA!$B$3:$E$6,4,0)","v":3.125E-2},0.30208333333333331,0.29583333333333334,{"$f":"DATA!$C$9","v":0.89},{"$f":"DATA!$C$10","v":64},1,399.375,407.8125,6.2499999999999995E-3,8.4375,2.0689655172413793E-2,0,"","",343.46666666666664,298,"","",298,null,{"$f":"X478","v":23},{"$f":"Y474+1","v":"2018-06-07"},{"$f":"TEXT(Y477,\"ddd\")","v":"do"},"DD",{"$f":"IFERROR(HLOOKUP(Y477,[1]DATA!$A$1:$NB$5,3,0),\"\")","v":"D3"},9,null,24,322,{"$f":"VLOOKUP(Y477,[1]SRA!$S$4:$Z$368,2,0)","v":17},-101.375,0.73072796934865902,0.95283891252080632]
["23doMD",{"$f":"VLOOKUP($AA478,DATA!$B$3:$E$6,2,0)","v":"14:30:00"},{"$f":"VLOOKUP($AA478,DATA!$B$3:$E$6,3,0)","v":"22:30:00"},{"$f":"VLOOKUP($AA478,DATA!$B$3:$E$6,4,0)","v":3.125E-2},0.30208333333333337,0.25972222222222224,{"$f":"DATA!$C$9","v":0.89},{"$f":"DATA!$C$10","v":64},1,350.625,407.81250000000006,4.2361111111111106E-2,57.187499999999993,0.14022988505747122,0,"","",326.39999999999998,270,"",270,"",null,{"$f":"WEEKNUM($Y468)","v":23},null,{"$f":"TEXT(Y477,\"ddd\")","v":"do"},"MD",{"$f":"IFERROR(HLOOKUP(Y477,[1]DATA!$A$1:$NB$5,4,0),\"\")","v":"D2"},61,null,36,306,{"$f":"VLOOKUP(Y477,[1]SRA!$S$4:$Z$368,3,0)","v":57},-80.625,0.66206896551724126,0.85133020344287946]
["23doND",{"$f":"VLOOKUP($AA479,DATA!$B$3:$E$6,2,0)","v":"22:30:00"},{"$f":"VLOOKUP($AA479,DATA!$B$3:$E$6,3,0)","v":"06:30:00"},{"$f":"VLOOKUP($AA479,DATA!$B$3:$E$6,4,0)","v":3.125E-2},0.30208333333333326,0.28819444444444436,{"$f":"DATA!$C$9","v":0.89},{"$f":"DATA!$C$10","v":64},1,389.06249999999989,407.81249999999989,1.3888888888888888E-2,18.75,4.5977011494252887E-2,0,"","",354.13333333333333,325,325,"","",null,{"$f":"X478","v":23},null,{"$f":"TEXT(Y477,\"ddd\")","v":"do"},"ND",{"$f":"IFERROR(HLOOKUP(Y477,[1]DATA!$A$1:$NB$5,5,0),\"\")","v":"D1"},20,null,7,332,{"$f":"VLOOKUP(Y477,[1]SRA!$S$4:$Z$368,4,0)","v":8},-64.062499999999886,0.79693486590038332,0.9779086892488954]
["23vrDD",{"$f":"VLOOKUP($AA480,DATA!$B$3:$E$6,2,0)","v":"06:30:00"},{"$f":"VLOOKUP($AA480,DATA!$B$3:$E$6,3,0)","v":"14:30:00"},{"$f":"VLOOKUP($AA480,DATA!$B$3:$E$6,4,0)","v":3.125E-2},0.30208333333333331,0.30208333333333331,{"$f":"DATA!$C$9","v":0.89},{"$f":"DATA!$C$10","v":64},1,407.8125,407.8125,0,"","",0,"","",237.86666666666667,223,"","",223,null,{"$f":"X478","v":23},{"$f":"Y477+1","v":"2018-06-08"},{"$f":"TEXT(Y480,\"ddd\")","v":"vr"},"DD",{"$f":"IFERROR(HLOOKUP(Y480,[1]DATA!$A$1:$NB$5,3,0),\"\")","v":"D3"},0,null,0,223,{"$f":"VLOOKUP(Y480,[1]SRA!$S$4:$Z$368,2,0)","v":0},-184.8125,0.54681992337164753,1]
["23vrMD",{"$f":"VLOOKUP($AA481,DATA!$B$3:$E$6,2,0)","v":"14:30:00"},{"$f":"VLOOKUP($AA481,DATA!$B$3:$E$6,3,0)","v":"22:30:00"},{"$f":"VLOOKUP($AA481,DATA!$B$3:$E$6,4,0)","v":3.125E-2},0.30208333333333337,0.29444444444444451,{"$f":"DATA!$C$9","v":0.89},{"$f":"DATA!$C$10","v":64},1,397.50000000000011,407.81250000000006,7.6388888888888886E-3,10.3125,2.5287356321839077E-2,0,"","",353.06666666666666,324,"",324,"",null,{"$f":"X478","v":23},null,{"$f":"TEXT(Y480,\"ddd\")","v":"vr"},"MD",{"$f":"IFERROR(HLOOKUP(Y480,[1]DATA!$A$1:$NB$5,4,0),\"\")","v":"D2"},11,null,7,331,{"$f":"VLOOKUP(Y480,[1]SRA!$S$4:$Z$368,3,0)","v":15},-73.500000000000114,0.79448275862068951,0.95924651331280564]
["23vrND",{"$f":"VLOOKUP($AA482,DATA!$B$3:$E$6,2,0)","v":"22:30:00"},{"$f":"VLOOKUP($AA482,DATA!$B$3:$E$6,3,0)","v":"06:30:00"},{"$f":"VLOOKUP($AA482,DATA!$B$3:$E$6,4,0)","v":3.125E-2},0.30208333333333326,0.2944444444444444,{"$f":"DATA!$C$9","v":0.89},{"$f":"DATA!$C$10","v":64},1,397.49999999999994,407.81249999999989,7.6388888888888886E-3,10.3125,2.5287356321839087E-2,0,"","",353.06666666666666,324,"",324,"",null,{"$f":"X478","v":23},null,{"$f":"TEXT(Y480,\"ddd\")","v":"vr"},"ND",{"$f":"IFERROR(HLOOKUP(Y480,[1]DATA!$A$1:$NB$5,5,0),\"\")","v":"D2"},11,null,7,331,{"$f":"VLOOKUP(Y480,[1]SRA!$S$4:$Z$368,4,0)","v":15},-73.499999999999943,0.79448275862068984,0.95924651331280564]
["23zaDD",{"$f":"VLOOKUP($AA483,DATA!$B$3:$E$6,2,0)","v":"06:30:00"},{"$f":"VLOOKUP($AA483,DATA!$B$3:$E$6,3,0)","v":"14:30:00"},{"$f":"VLOOKUP($AA483,DATA!$B$3:$E$6,4,0)","v":3.125E-2},0.30208333333333331,0.30208333333333331,{"$f":"DATA!$C$9","v":0.89},{"$f":"DATA!$C$10","v":64},1,407.8125,407.8125,0,"","",0,"","",0,"","","","",null,{"$f":"X478","v":23},{"$f":"Y480+1","v":"2018-06-09"},{"$f":"TEXT(Y483,\"ddd\")","v":"za"},"DD",{"$f":"IFERROR(HLOOKUP(Y483,[1]DATA!$A$1:$NB$5,3,0),\"\")","v":"D3"},null,null,null,null,{"$f":"VLOOKUP(Y483,[1]SRA!$S$4:$Z$368,2,0)","v":0},"","",""]
["23zaMD",{"$f":"VLOOKUP($AA484,DATA!$B$3:$E$6,2,0)","v":"14:30:00"},{"$f":"VLOOKUP($AA484,DATA!$B$3:$E$6,3,0)","v":"22:30:00"},{"$f":"VLOOKUP($AA484,DATA!$B$3:$E$6,4,0)","v":3.125E-2},0.30208333333333337,0.30208333333333337,{"$f":"DATA!$C$9","v":0.89},{"$f":"DATA!$C$10","v":64},1,407.81250000000006,407.81250000000006,0,"","",0,"","",0,"","","","",null,{"$f":"X478","v":23},null,{"$f":"TEXT(Y483,\"ddd\")","v":"za"},"MD",{"$f":"IFERROR(HLOOKUP(Y483,[1]DATA!$A$1:$NB$5,4,0),\"\")","v":"-"},null,null,null,null,{"$f":"VLOOKUP(Y483,[1]SRA!$S$4:$Z$368,3,0)","v":0},"","",""]
["23zaND",{"$f":"VLOOKUP($AA485,DATA!$B$3:$E$6,2,0)","v":"22:30:00"},{"$f":"VLOOKUP($AA485,DATA!$B$3:$E$6,3,0)","v":"06:30:00"},{"$f":"VLOOKUP($AA485,DATA!$B$3:$E$6,4,0)","v":3.125E-2},0.30208333333333326,0.30208333333333326,{"$f":"DATA!$C$9","v":0.89},{"$f":"DATA!$C$10","v":64},1,407.81249999999989,407.81249999999989,0,"","",0,"","",0,"","","","",null,{"$f":"X478","v":23},null,{"$f":"TEXT(Y483,\"ddd\")","v":"za"},"ND",{"$f":"IFERROR(HLOOKUP(Y483,[1]DATA!$A$1:$NB$5,5,0),\"\")","v":"-"},null,null,null,null,{"$f":"VLOOKUP(Y483,[1]SRA!$S$4:$Z$368,4,0)","v":0},"","",""]
["23zoDD",{"$f":"VLOOKUP($AA486,DATA!$B$3:$E$6,2,0)","v":"06:30:00"},{"$f":"VLOOKUP($AA486,DATA!$B$3:$E$6,3,0)","v":"14:30:00"},{"$f":"VLOOKUP($AA486,DATA!$B$3:$E$6,4,0)","v":3.125E-2},0.30208333333333331,0.30208333333333331,{"$f":"DATA!$C$9","v":0.89},{"$f":"DATA!$C$10","v":64},1,407.8125,407.8125,0,"","",0,"","",0,"","","","",null,{"$f":"X478","v":23},{"$f":"Y483+1","v":"2018-06-10"},{"$f":"TEXT(Y486,\"ddd\")","v":"zo"},"DD",{"$f":"IFERROR(HLOOKUP(Y486,[1]DATA!$A$1:$NB$5,3,0),\"\")","v":"-"},null,null,null,null,{"$f":"VLOOKUP(Y486,[1]SRA!$S$4:$Z$368,2,0)","v":0},"","",""]
["23zoMD",{"$f":"VLOOKUP($AA487,DATA!$B$3:$E$6,2,0)","v":"14:30:00"},{"$f":"VLOOKUP($AA487,DATA!$B$3:$E$6,3,0)","v":"22:30:00"},{"$f":"VLOOKUP($AA487,DATA!$B$3:$E$6,4,0)","v":3.125E-2},0.30208333333333337,0.30208333333333337,{"$f":"DATA!$C$9","v":0.89},{"$f":"DATA!$C$10","v":64},1,407.81250000000006,407.81250000000006,0,"","",0,"","",0,"","","","",null,{"$f":"X478","v":23},null,{"$f":"TEXT(Y486,\"ddd\")","v":"zo"},"MD",{"$f":"IFERROR(HLOOKUP(Y486,[1]DATA!$A$1:$NB$5,4,0),\"\")","v":"-"},null,null,null,null,{"$f":"VLOOKUP(Y486,[1]SRA!$S$4:$Z$368,3,0)","v":0},"","",""]
["23zoZND",{"$f":"VLOOKUP($AA488,DATA!$B$3:$E$6,2,0)","v":"00:00:00"},{"$f":"VLOOKUP($AA488,DATA!$B$3:$E$6,3,0)","v":"00:00:00"},{"$f":"VLOOKUP($AA488,DATA!$B$3:$E$6,4,0)","v":0},0,0,{"$f":"DATA!$C$9","v":0.89},{"$f":"DATA!$C$10","v":64},1,0,0,0,"","",0,"","",0,"","","","",null,{"$f":"X478","v":23},null,{"$f":"TEXT(Y486,\"ddd\")","v":"zo"},"ZND",{"$f":"IFERROR(HLOOKUP(Y486,[1]DATA!$A$1:$NB$5,5,0),\"\")","v":"-"},null,null,null,null,{"$f":"VLOOKUP(Y486,[1]SRA!$S$4:$Z$368,4,0)","v":0},"","",""]
["24maDD",{"$f":"VLOOKUP($AA489,DATA!$B$3:$E$6,2,0)","v":"06:30:00"},{"$f":"VLOOKUP($AA489,DATA!$B$3:$E$6,3,0)","v":"14:30:00"},{"$f":"VLOOKUP($AA489,DATA!$B$3:$E$6,4,0)","v":3.125E-2},0.30208333333333331,0.29236111111111107,{"$f":"DATA!$C$9","v":0.89},{"$f":"DATA!$C$10","v":64},1,394.68749999999994,407.8125,9.7222222222222224E-3,13.125,3.2183908045977011E-2,{"$f":"TIME(INT($AD489/60),INT(MOD($AD489,60)/1),0)","v":0},"","",339.2,310,"",310,"",null,{"$f":"X499","v":24},{"$f":"Y486+1","v":"2018-06-11"},{"$f":"TEXT(Y489,\"ddd\")","v":"ma"},"DD",{"$f":"IFERROR(HLOOKUP(Y489,[1]DATA!$A$1:$NB$5,3,0),\"\")","v":"D2"},14,null,8,318,{"$f":"VLOOKUP(Y489,[1]SRA!$S$4:$Z$368,2,0)","v":16},-84.687499999999943,0.7601532567049808,0.95495495495495497,{"$f":"IF(SUMIF(S489:S509,\">0\",K489:K509)=0,\"\",SUMIF(S489:S509,\">0\",K489:K509))","v":6117.1875},{"$f":"IF(SUM(S489:S509)=0,\"\",SUM(S489:S509))","v":4375},{"$f":"IFERROR(AL489/AK489,\"-\")","v":0.71519795657726692},{"$f":"IF(SUM(M489:M509)=0,\"0\",SUM(M489:M509))","v":462.1875},{"$f":"IFERROR(AN489/AK489,\"-\")","v":7.5555555555555556E-2},{"$f":"IF(SUM(P489:P509)=0,0,SUM(P489:P509))","v":0},{"$f":"IFERROR(AP489/AK489,\"-\")","v":0},{"$f":"IFERROR(AVERAGE(AJ489:AJ509),\"-\")","v":0.96905629647205338},{"$f":"IFERROR(SUMIF($AB489:$AB509,AS$5,$AJ489:$AJ509)/COUNTIFS($AB489:$AB509,AS$5,$AJ489:$AJ509,\">0\"),\"\")","v":0.95893957368665528},0.97251992404127274,0.97570939168823168,{"$f":"IFERROR((AK489-AL489-AN489-AP489),\"-\")","v":1280},{"$f":"IFERROR((1-AM489-AO489-AQ489), \"-\")","v":0.20924648786717753},{"$f":"IFERROR((AV489*$AE$2)/60,\"-\")","v":1365.3333333333333},{"$f":"IFERROR(SUM(AG489:AG509),\"\")","v":155}]
["24maMD",{"$f":"VLOOKUP($AA490,DATA!$B$3:$E$6,2,0)","v":"14:30:00"},{"$f":"VLOOKUP($AA490,DATA!$B$3:$E$6,3,0)","v":"22:30:00"},{"$f":"VLOOKUP($AA490,DATA!$B$3:$E$6,4,0)","v":3.125E-2},0.30208333333333337,0.2902777777777778,{"$f":"DATA!$C$9","v":0.89},{"$f":"DATA!$C$10","v":64},1,391.87500000000006,407.81250000000006,1.1805555555555555E-2,15.9375,3.9080459770114935E-2,{"$f":"TIME(INT(AD490/60),INT(MOD(AD490,60)/1),0)","v":0},"","",321.06666666666666,293,293,"","",null,{"$f":"X499","v":24},null,{"$f":"TEXT(Y489,\"ddd\")","v":"ma"},"MD",{"$f":"IFERROR(HLOOKUP(Y489,[1]DATA!$A$1:$NB$5,4,0),\"\")","v":"D1"},17,null,8,301,{"$f":"VLOOKUP(Y489,[1]SRA!$S$4:$Z$368,3,0)","v":10},-98.875000000000057,0.71846743295019144,0.9697946033024567]
["24maND",{"$f":"VLOOKUP($AA491,DATA!$B$3:$E$6,2,0)","v":"22:30:00"},{"$f":"VLOOKUP($AA491,DATA!$B$3:$E$6,3,0)","v":"06:30:00"},{"$f":"VLOOKUP($AA491,DATA!$B$3:$E$6,4,0)","v":3.125E-2},0.30208333333333326,0.27916666666666656,{"$f":"DATA!$C$9","v":0.89},{"$f":"DATA!$C$10","v":64},1,376.87499999999989,407.81249999999989,2.2916666666666669E-2,30.937500000000004,7.5862068965517268E-2,0,"","",369.06666666666666,337,"","",337,null,{"$f":"X499","v":24},null,{"$f":"TEXT(Y489,\"ddd\")","v":"ma"},"ND",{"$f":"IFERROR(HLOOKUP(Y489,[1]DATA!$A$1:$NB$5,5,0),\"\")","v":"D3"},33,null,9,346,{"$f":"VLOOKUP(Y489,[1]SRA!$S$4:$Z$368,4,0)","v":0},-39.874999999999886,0.8263601532567052,1]
["24diDD",{"$f":"VLOOKUP($AA492,DATA!$B$3:$E$6,2,0)","v":"06:30:00"},{"$f":"VLOOKUP($AA492,DATA!$B$3:$E$6,3,0)","v":"14:30:00"},{"$f":"VLOOKUP($AA492,DATA!$B$3:$E$6,4,0)","v":3.125E-2},0.30208333333333331,0.30208333333333331,{"$f":"DATA!$C$9","v":0.89},{"$f":"DATA!$C$10","v":64},1,407.8125,407.8125,0,"","",0,"","",352,324,"",324,"",null,{"$f":"X499","v":24},{"$f":"Y489+1","v":"2018-06-12"},{"$f":"TEXT(Y492,\"ddd\")","v":"di"},"DD",{"$f":"IFERROR(HLOOKUP(Y492,[1]DATA!$A$1:$NB$5,3,0),\"\")","v":"D2"},0,null,6,330,{"$f":"VLOOKUP(Y492,[1]SRA!$S$4:$Z$368,2,0)","v":4},-83.8125,0.79448275862068962,0.9887640449438202]
["24diMD",{"$f":"VLOOKUP($AA493,DATA!$B$3:$E$6,2,0)","v":"14:30:00"},{"$f":"VLOOKUP($AA493,DATA!$B$3:$E$6,3,0)","v":"22:30:00"},{"$f":"VLOOKUP($AA493,DATA!$B$3:$E$6,4,0)","v":3.125E-2},0.30208333333333337,0.27777777777777779,{"$f":"DATA!$C$9","v":0.89},{"$f":"DATA!$C$10","v":64},1,375,407.81250000000006,2.4305555555555556E-2,32.8125,8.0459770114942514E-2,0,"","",294.39999999999998,265,265,"","",null,{"$f":"X499","v":24},null,{"$f":"TEXT(Y492,\"ddd\")","v":"di"},"MD",{"$f":"IFERROR(HLOOKUP(Y492,[1]DATA!$A$1:$NB$5,4,0),\"\")","v":"D1"},35,null,11,276,{"$f":"VLOOKUP(Y492,[1]SRA!$S$4:$Z$368,3,0)","v":9},-110,0.6498084291187739,0.97033618984838499]
["24diND",{"$f":"VLOOKUP($AA494,DATA!$B$3:$E$6,2,0)","v":"22:30:00"},{"$f":"VLOOKUP($AA494,DATA!$B$3:$E$6,3,0)","v":"06:30:00"},{"$f":"VLOOKUP($AA494,DATA!$B$3:$E$6,4,0)","v":3.125E-2},0.30208333333333326,0.2937499999999999,{"$f":"DATA!$C$9","v":0.89},{"$f":"DATA!$C$10","v":64},1,396.56249999999989,407.81249999999989,8.3333333333333332E-3,11.25,2.7586206896551731E-2,0,"","",291.2,270,"","",270,null,{"$f":"X499","v":24},null,{"$f":"TEXT(Y492,\"ddd\")","v":"di"},"ND",{"$f":"IFERROR(HLOOKUP(Y492,[1]DATA!$A$1:$NB$5,5,0),\"\")","v":"D3"},12,null,3,273,{"$f":"VLOOKUP(Y492,[1]SRA!$S$4:$Z$368,4,0)","v":15},-126.56249999999989,0.66206896551724159,0.95101241018941873]
["24woDD",{"$f":"VLOOKUP($AA495,DATA!$B$3:$E$6,2,0)","v":"06:30:00"},{"$f":"VLOOKUP($AA495,DATA!$B$3:$E$6,3,0)","v":"14:30:00"},{"$f":"VLOOKUP($AA495,DATA!$B$3:$E$6,4,0)","v":3.125E-2},0.30208333333333331,0.28888888888888886,{"$f":"DATA!$C$9","v":0.89},{"$f":"DATA!$C$10","v":64},1,389.99999999999994,407.8125,1.3194444444444444E-2,17.8125,4.3678160919540229E-2,0,"","",376.5333333333333,320,"",320,"",null,{"$f":"X499","v":24},{"$f":"Y492+1","v":"2018-06-13"},{"$f":"TEXT(Y495,\"ddd\")","v":"wo"},"DD",{"$f":"IFERROR(HLOOKUP(Y495,[1]DATA!$A$1:$NB$5,3,0),\"\")","v":"D2"},19,null,33,353,{"$f":"VLOOKUP(Y495,[1]SRA!$S$4:$Z$368,2,0)","v":24},-69.999999999999943,0.78467432950191573,0.94007989347536614]
[{"$f":"X496&Z496&AA496","v":"24woMD"},{"$f":"VLOOKUP($AA496,DATA!$B$3:$E$6,2,0)","v":"14:30:00"},{"$f":"VLOOKUP($AA496,DATA!$B$3:$E$6,3,0)","v":"22:30:00"},{"$f":"VLOOKUP($AA496,DATA!$B$3:$E$6,4,0)","v":3.125E-2},0.30208333333333337,0.28541666666666671,{"$f":"DATA!$C$9","v":0.89},{"$f":"DATA!$C$10","v":64},1,385.31250000000006,407.81250000000006,1.6666666666666666E-2,22.5,5.5172413793103441E-2,0,{"$f":"IF($O496*86400/$H496=0,\"\",$O496*86400/$H496)","v":""},"",372.26666666666665,335,335,"","",null,{"$f":"X499","v":24},null,{"$f":"TEXT(Y495,\"ddd\")","v":"wo"},"MD",{"$f":"IFERROR(HLOOKUP(Y495,[1]DATA!$A$1:$NB$5,4,0),\"\")","v":"D1"},24,null,14,349,{"$f":"VLOOKUP(Y495,[1]SRA!$S$4:$Z$368,3,0)","v":19},-50.312500000000057,0.82145593869731792,0.95143976827398191]
["24woND",{"$f":"VLOOKUP($AA497,DATA!$B$3:$E$6,2,0)","v":"22:30:00"},{"$f":"VLOOKUP($AA497,DATA!$B$3:$E$6,3,0)","v":"06:30:00"},{"$f":"VLOOKUP($AA497,DATA!$B$3:$E$6,4,0)","v":3.125E-2},0.30208333333333326,0.28333333333333327,{"$f":"DATA!$C$9","v":0.89},{"$f":"DATA!$C$10","v":64},1,382.49999999999994,407.81249999999989,1.8749999999999999E-2,25.3125,6.2068965517241399E-2,0,"","",237.86666666666667,217,"","",217,null,{"$f":"X499","v":24},null,{"$f":"TEXT(Y495,\"ddd\")","v":"wo"},"ND",{"$f":"IFERROR(HLOOKUP(Y495,[1]DATA!$A$1:$NB$5,5,0),\"\")","v":"D3"},27,null,6,223,{"$f":"VLOOKUP(Y495,[1]SRA!$S$4:$Z$368,4,0)","v":14},-165.49999999999994,0.5321072796934867,0.94441503440974062]
["24doDD",{"$f":"VLOOKUP($AA498,DATA!$B$3:$E$6,2,0)","v":"06:30:00"},{"$f":"VLOOKUP($AA498,DATA!$B$3:$E$6,3,0)","v":"14:30:00"},{"$f":"VLOOKUP($AA498,DATA!$B$3:$E$6,4,0)","v":3.125E-2},0.30208333333333331,0.26874999999999999,{"$f":"DATA!$C$9","v":0.89},{"$f":"DATA!$C$10","v":64},1,362.8125,407.8125,3.3333333333333333E-2,45,0.1103448275862069,0,"","",340.26666666666665,290,"",290,"",null,{"$f":"X499","v":24},{"$f":"Y495+1","v":"2018-06-14"},{"$f":"TEXT(Y498,\"ddd\")","v":"do"},"DD",{"$f":"IFERROR(HLOOKUP(Y498,[1]DATA!$A$1:$NB$5,3,0),\"\")","v":"D2"},48,null,29,319,{"$f":"VLOOKUP(Y498,[1]SRA!$S$4:$Z$368,2,0)","v":0},-72.8125,0.71111111111111114,1]
["24doMD",{"$f":"VLOOKUP($AA499,DATA!$B$3:$E$6,2,0)","v":"14:30:00"},{"$f":"VLOOKUP($AA499,DATA!$B$3:$E$6,3,0)","v":"22:30:00"},{"$f":"VLOOKUP($AA499,DATA!$B$3:$E$6,4,0)","v":3.125E-2},0.30208333333333337,0.24930555555555559,{"$f":"DATA!$C$9","v":0.89},{"$f":"DATA!$C$10","v":64},1,336.56250000000006,407.81250000000006,5.2777777777777778E-2,71.25,0.17471264367816089,0,"","",334.93333333333334,302,302,"","",null,{"$f":"WEEKNUM($Y489)","v":24},null,{"$f":"TEXT(Y498,\"ddd\")","v":"do"},"MD",{"$f":"IFERROR(HLOOKUP(Y498,[1]DATA!$A$1:$NB$5,4,0),\"\")","v":"D1"},76,null,12,314,{"$f":"VLOOKUP(Y498,[1]SRA!$S$4:$Z$368,3,0)","v":18},-34.562500000000057,0.7405363984674328,0.94899886664148092]
["24doND",{"$f":"VLOOKUP($AA500,DATA!$B$3:$E$6,2,0)","v":"22:30:00"},{"$f":"VLOOKUP($AA500,DATA!$B$3:$E$6,3,0)","v":"06:30:00"},{"$f":"VLOOKUP($AA500,DATA!$B$3:$E$6,4,0)","v":3.125E-2},0.30208333333333326,0.26111111111111102,{"$f":"DATA!$C$9","v":0.89},{"$f":"DATA!$C$10","v":64},1,352.49999999999989,407.81249999999989,4.0972222222222222E-2,55.3125,0.13563218390804602,0,"","",332.8,300,"","",300,null,{"$f":"X499","v":24},null,{"$f":"TEXT(Y498,\"ddd\")","v":"do"},"ND",{"$f":"IFERROR(HLOOKUP(Y498,[1]DATA!$A$1:$NB$5,5,0),\"\")","v":"D3"},59,null,12,312,{"$f":"VLOOKUP(Y498,[1]SRA!$S$4:$Z$368,4,0)","v":0},-52.499999999999886,0.73563218390804619,1]
["24vrDD",{"$f":"VLOOKUP($AA501,DATA!$B$3:$E$6,2,0)","v":"06:30:00"},{"$f":"VLOOKUP($AA501,DATA!$B$3:$E$6,3,0)","v":"14:30:00"},{"$f":"VLOOKUP($AA501,DATA!$B$3:$E$6,4,0)","v":3.125E-2},0.30208333333333331,0.29027777777777775,{"$f":"DATA!$C$9","v":0.89},{"$f":"DATA!$C$10","v":64},1,391.87499999999994,407.8125,1.1805555555555555E-2,15.9375,3.9080459770114942E-2,0,"","",323.2,296,"",296,"",null,{"$f":"X499","v":24},"2018-06-15",{"$f":"TEXT(Y501,\"ddd\")","v":"vr"},"DD",{"$f":"IFERROR(HLOOKUP(Y501,[1]DATA!$A$1:$NB$5,3,0),\"\")","v":"D2"},17,null,7,303,{"$f":"VLOOKUP(Y501,[1]SRA!$S$4:$Z$368,2,0)","v":7},-95.874999999999943,0.72582375478927208,0.97880072683222286]
["24vrMD",{"$f":"VLOOKUP($AA502,DATA!$B$3:$E$6,2,0)","v":"14:30:00"},{"$f":"VLOOKUP($AA502,DATA!$B$3:$E$6,3,0)","v":"22:30:00"},{"$f":"VLOOKUP($AA502,DATA!$B$3:$E$6,4,0)","v":3.125E-2},0.30208333333333337,0.26319444444444451,{"$f":"DATA!$C$9","v":0.89},{"$f":"DATA!$C$10","v":64},1,355.31250000000011,407.81250000000006,3.888888888888889E-2,52.5,0.12873563218390802,0,"","",291.2,258,258,"","",null,{"$f":"X499","v":24},null,{"$f":"TEXT(Y501,\"ddd\")","v":"vr"},"MD",{"$f":"IFERROR(HLOOKUP(Y501,[1]DATA!$A$1:$NB$5,4,0),\"\")","v":"D1"},56,null,15,273,{"$f":"VLOOKUP(Y501,[1]SRA!$S$4:$Z$368,3,0)","v":14},-97.312500000000114,0.63264367816091949,0.95412844036697253]
["24vrND",{"$f":"VLOOKUP($AA503,DATA!$B$3:$E$6,2,0)","v":"22:30:00"},{"$f":"VLOOKUP($AA503,DATA!$B$3:$E$6,3,0)","v":"06:30:00"},{"$f":"VLOOKUP($AA503,DATA!$B$3:$E$6,4,0)","v":3.125E-2},0.30208333333333326,0.2631944444444444,{"$f":"DATA!$C$9","v":0.89},{"$f":"DATA!$C$10","v":64},1,355.31249999999994,407.81249999999989,3.888888888888889E-2,52.5,0.12873563218390807,0,"","",291.2,258,"","",258,null,{"$f":"X499","v":24},null,{"$f":"TEXT(Y501,\"ddd\")","v":"vr"},"ND",{"$f":"IFERROR(HLOOKUP(Y501,[1]DATA!$A$1:$NB$5,5,0),\"\")","v":"D3"},56,null,15,273,{"$f":"VLOOKUP(Y501,[1]SRA!$S$4:$Z$368,4,0)","v":5},-97.312499999999943,0.63264367816091971,0.98311951384199869]
["24zaDD",{"$f":"VLOOKUP($AA504,DATA!$B$3:$E$6,2,0)","v":"06:30:00"},{"$f":"VLOOKUP($AA504,DATA!$B$3:$E$6,3,0)","v":"14:30:00"},{"$f":"VLOOKUP($AA504,DATA!$B$3:$E$6,4,0)","v":3.125E-2},0.30208333333333331,0.30208333333333331,{"$f":"DATA!$C$9","v":0.89},{"$f":"DATA!$C$10","v":64},1,407.8125,407.8125,0,"","",0,"","",0,"","","","",null,{"$f":"X499","v":24},"2018-06-16",{"$f":"TEXT(Y504,\"ddd\")","v":"za"},"DD",{"$f":"IFERROR(HLOOKUP(Y504,[1]DATA!$A$1:$NB$5,3,0),\"\")","v":"D2"},null,null,null,null,{"$f":"VLOOKUP(Y504,[1]SRA!$S$4:$Z$368,2,0)","v":0},"","",""]
["24zaMD",{"$f":"VLOOKUP($AA505,DATA!$B$3:$E$6,2,0)","v":"14:30:00"},{"$f":"VLOOKUP($AA505,DATA!$B$3:$E$6,3,0)","v":"22:30:00"},{"$f":"VLOOKUP($AA505,DATA!$B$3:$E$6,4,0)","v":3.125E-2},0.30208333333333337,0.30208333333333337,{"$f":"DATA!$C$9","v":0.89},{"$f":"DATA!$C$10","v":64},1,407.81250000000006,407.81250000000006,0,"","",0,"","",0,"","","","",null,{"$f":"X499","v":24},null,{"$f":"TEXT(Y504,\"ddd\")","v":"za"},"MD",{"$f":"IFERROR(HLOOKUP(Y504,[1]DATA!$A$1:$NB$5,4,0),\"\")","v":"-"},null,null,null,null,{"$f":"VLOOKUP(Y504,[1]SRA!$S$4:$Z$368,3,0)","v":0},"","",""]
["24zaND",{"$f":"VLOOKUP($AA506,DATA!$B$3:$E$6,2,0)","v":"22:30:00"},{"$f":"VLOOKUP($AA506,DATA!$B$3:$E$6,3,0)","v":"06:30:00"},{"$f":"VLOOKUP($AA506,DATA!$B$3:$E$6,4,0)","v":3.125E-2},0.30208333333333326,0.30208333333333326,{"$f":"DATA!$C$9","v":0.89},{"$f":"DATA!$C$10","v":64},1,407.81249999999989,407.81249999999989,0,"","",0,"","",0,"","","","",null,{"$f":"X499","v":24},null,{"$f":"TEXT(Y504,\"ddd\")","v":"za"},"ND",{"$f":"IFERROR(HLOOKUP(Y504,[1]DATA!$A$1:$NB$5,5,0),\"\")","v":"-"},null,null,null,null,{"$f":"VLOOKUP(Y504,[1]SRA!$S$4:$Z$368,4,0)","v":0},"","",""]
["24zoDD",{"$f":"VLOOKUP($AA507,DATA!$B$3:$E$6,2,0)","v":"06:30:00"},{"$f":"VLOOKUP($AA507,DATA!$B$3:$E$6,3,0)","v":"14:30:00"},{"$f":"VLOOKUP($AA507,DATA!$B$3:$E$6,4,0)","v":3.125E-2},0.30208333333333331,0.30208333333333331,{"$f":"DATA!$C$9","v":0.89},{"$f":"DATA!$C$10","v":64},1,407.8125,407.8125,0,"","",0,"","",0,"","","","",null,{"$f":"X499","v":24},"2018-06-17",{"$f":"TEXT(Y507,\"ddd\")","v":"zo"},"DD",{"$f":"IFERROR(HLOOKUP(Y507,[1]DATA!$A$1:$NB$5,3,0),\"\")","v":"-"},null,null,null,null,{"$f":"VLOOKUP(Y507,[1]SRA!$S$4:$Z$368,2,0)","v":0},"","",""]
["24zoMD",{"$f":"VLOOKUP($AA508,DATA!$B$3:$E$6,2,0)","v":"14:30:00"},{"$f":"VLOOKUP($AA508,DATA!$B$3:$E$6,3,0)","v":"22:30:00"},{"$f":"VLOOKUP($AA508,DATA!$B$3:$E$6,4,0)","v":3.125E-2},0.30208333333333337,0.30208333333333337,{"$f":"DATA!$C$9","v":0.89},{"$f":"DATA!$C$10","v":64},1,407.81250000000006,407.81250000000006,0,"","",0,"","",0,"","","","",null,{"$f":"X499","v":24},null,{"$f":"TEXT(Y507,\"ddd\")","v":"zo"},"MD",{"$f":"IFERROR(HLOOKUP(Y507,[1]DATA!$A$1:$NB$5,4,0),\"\")","v":"-"},null,null,null,null,{"$f":"VLOOKUP(Y507,[1]SRA!$S$4:$Z$368,3,0)","v":0},"","",""]
["24zoZND",{"$f":"VLOOKUP($AA509,DATA!$B$3:$E$6,2,0)","v":"00:00:00"},{"$f":"VLOOKUP($AA509,DATA!$B$3:$E$6,3,0)","v":"00:00:00"},{"$f":"VLOOKUP($AA509,DATA!$B$3:$E$6,4,0)","v":0},0,0,{"$f":"DATA!$C$9","v":0.89},{"$f":"DATA!$C$10","v":64},1,0,0,0,"","",0,"","",0,"","","","",null,{"$f":"X499","v":24},null,{"$f":"TEXT(Y507,\"ddd\")","v":"zo"},"ZND",{"$f":"IFERROR(HLOOKUP(Y507,[1]DATA!$A$1:$NB$5,5,0),\"\")","v":"-"},null,null,null,null,{"$f":"VLOOKUP(Y507,[1]SRA!$S$4:$Z$368,4,0)","v":0},"","",""]
["25maDD",{"$f":"VLOOKUP($AA510,DATA!$B$3:$E$6,2,0)","v":"06:30:00"},{"$f":"VLOOKUP($AA510,DATA!$B$3:$E$6,3,0)","v":"14:30:00"},{"$f":"VLOOKUP($AA510,DATA!$B$3:$E$6,4,0)","v":3.125E-2},0.30208333333333331,0.26597222222222222,{"$f":"DATA!$C$9","v":0.89},{"$f":"DATA!$C$10","v":64},1,359.0625,407.8125,3.6111111111111115E-2,48.750000000000007,0.11954022988505748,{"$f":"TIME(INT($AD510/60),INT(MOD($AD510,60)/1),0)","v":0},"","",285.86666666666667,258,258,"","",null,{"$f":"X520","v":25},"2018-06-18",{"$f":"TEXT(Y510,\"ddd\")","v":"ma"},"DD",{"$f":"IFERROR(HLOOKUP(Y510,[1]DATA!$A$1:$NB$5,3,0),\"\")","v":"D1"},52,null,10,268,{"$f":"VLOOKUP(Y510,[1]SRA!$S$4:$Z$368,2,0)","v":19},-101.0625,0.63264367816091949,0.93767767329980323,{"$f":"IF(SUMIF(S510:S530,\">0\",K510:K530)=0,\"\",SUMIF(S510:S530,\">0\",K510:K530))","v":6117.1875},{"$f":"IF(SUM(S510:S530)=0,\"\",SUM(S510:S530))","v":3856},{"$f":"IFERROR(AL510/AK510,\"-\")","v":0.63035504469987225},{"$f":"IF(SUM(M510:M530)=0,\"0\",SUM(M510:M530))","v":365.625},{"$f":"IFERROR(AN510/AK510,\"-\")","v":5.9770114942528735E-2},{"$f":"IF(SUM(P510:P530)=0,0,SUM(P510:P530))","v":0},{"$f":"IFERROR(AP510/AK510,\"-\")","v":0},{"$f":"IFERROR(AVERAGE(AJ510:AJ530),\"-\")","v":0.95861751909723381},{"$f":"IFERROR(SUMIF($AB510:$AB530,AS$5,$AJ510:$AJ530)/COUNTIFS($AB510:$AB530,AS$5,$AJ510:$AJ530,\">0\"),\"\")","v":0.96880917191999971},0.95314480734741358,0.95389857802428835,{"$f":"IFERROR((AK510-AL510-AN510-AP510),\"-\")","v":1895.5625},{"$f":"IFERROR((1-AM510-AO510-AQ510), \"-\")","v":0.30987484035759905},{"$f":"IFERROR((AV510*$AE$2)/60,\"-\")","v":2021.9333333333334},{"$f":"IFERROR(SUM(AG510:AG530),\"\")","v":215}]
["25maMD",{"$f":"VLOOKUP($AA511,DATA!$B$3:$E$6,2,0)","v":"14:30:00"},{"$f":"VLOOKUP($AA511,DATA!$B$3:$E$6,3,0)","v":"22:30:00"},{"$f":"VLOOKUP($AA511,DATA!$B$3:$E$6,4,0)","v":3.125E-2},0.30208333333333337,0.27013888888888893,{"$f":"DATA!$C$9","v":0.89},{"$f":"DATA!$C$10","v":64},1,364.68750000000006,407.81250000000006,3.1944444444444449E-2,43.125000000000007,0.10574712643678161,{"$f":"TIME(INT(AD511/60),INT(MOD(AD511,60)/1),0)","v":0},"","",296.5333333333333,266,"","",266,null,{"$f":"X520","v":25},null,{"$f":"TEXT(Y510,\"ddd\")","v":"ma"},"MD",{"$f":"IFERROR(HLOOKUP(Y510,[1]DATA!$A$1:$NB$5,4,0),\"\")","v":"D3"},46,null,12,278,{"$f":"VLOOKUP(Y510,[1]SRA!$S$4:$Z$368,3,0)","v":4},-98.687500000000057,0.65226053639846737,0.98669032830523518]
["25maND",{"$f":"VLOOKUP($AA512,DATA!$B$3:$E$6,2,0)","v":"22:30:00"},{"$f":"VLOOKUP($AA512,DATA!$B$3:$E$6,3,0)","v":"06:30:00"},{"$f":"VLOOKUP($AA512,DATA!$B$3:$E$6,4,0)","v":3.125E-2},0.30208333333333326,0.29722222222222217,{"$f":"DATA!$C$9","v":0.89},{"$f":"DATA!$C$10","v":64},1,401.24999999999994,407.81249999999989,4.8611111111111112E-3,6.5625,1.6091954022988509E-2,0,"","",251.73333333333332,218,"",218,"",null,{"$f":"X520","v":25},null,{"$f":"TEXT(Y510,\"ddd\")","v":"ma"},"ND",{"$f":"IFERROR(HLOOKUP(Y510,[1]DATA!$A$1:$NB$5,5,0),\"\")","v":"D2"},7,null,18,236,{"$f":"VLOOKUP(Y510,[1]SRA!$S$4:$Z$368,4,0)","v":19},-183.24999999999994,0.53455938697318017,0.92982024131987184]
["25diDD",{"$f":"VLOOKUP($AA513,DATA!$B$3:$E$6,2,0)","v":"06:30:00"},{"$f":"VLOOKUP($AA513,DATA!$B$3:$E$6,3,0)","v":"14:30:00"},{"$f":"VLOOKUP($AA513,DATA!$B$3:$E$6,4,0)","v":3.125E-2},0.30208333333333331,0.26944444444444443,{"$f":"DATA!$C$9","v":0.89},{"$f":"DATA!$C$10","v":64},1,363.75,407.8125,3.2638888888888891E-2,44.0625,0.10804597701149425,0,"","",320,286,286,"","",null,{"$f":"X520","v":25},"2018-06-19",{"$f":"TEXT(Y513,\"ddd\")","v":"di"},"DD",{"$f":"IFERROR(HLOOKUP(Y513,[1]DATA!$A$1:$NB$5,3,0),\"\")","v":"D1"},47,null,14,300,{"$f":"VLOOKUP(Y513,[1]SRA!$S$4:$Z$368,2,0)","v":14},-77.75,0.70130268199233714,0.95808383233532934]
["25diMD",{"$f":"VLOOKUP($AA514,DATA!$B$3:$E$6,2,0)","v":"14:30:00"},{"$f":"VLOOKUP($AA514,DATA!$B$3:$E$6,3,0)","v":"22:30:00"},{"$f":"VLOOKUP($AA514,DATA!$B$3:$E$6,4,0)","v":3.125E-2},0.30208333333333337,0.26111111111111113,{"$f":"DATA!$C$9","v":0.89},{"$f":"DATA!$C$10","v":64},1,352.5,407.81250000000006,4.0972222222222222E-2,55.3125,0.13563218390804596,0,"","",290.13333333333333,260,"","",260,null,{"$f":"X520","v":25},null,{"$f":"TEXT(Y513,\"ddd\")","v":"di"},"MD",{"$f":"IFERROR(HLOOKUP(Y513,[1]DATA!$A$1:$NB$5,4,0),\"\")","v":"D3"},59,null,12,272,{"$f":"VLOOKUP(Y513,[1]SRA!$S$4:$Z$368,3,0)","v":4},-92.5,0.63754789272030643,0.98640072529465095]
["25diND",{"$f":"VLOOKUP($AA515,DATA!$B$3:$E$6,2,0)","v":"22:30:00"},{"$f":"VLOOKUP($AA515,DATA!$B$3:$E$6,3,0)","v":"06:30:00"},{"$f":"VLOOKUP($AA515,DATA!$B$3:$E$6,4,0)","v":3.125E-2},0.30208333333333326,0.30208333333333326,{"$f":"DATA!$C$9","v":0.89},{"$f":"DATA!$C$10","v":64},1,407.81249999999989,407.81249999999989,0,"","",0,"","",107.73333333333333,96,"",96,"",null,{"$f":"X520","v":25},null,{"$f":"TEXT(Y513,\"ddd\")","v":"di"},"ND",{"$f":"IFERROR(HLOOKUP(Y513,[1]DATA!$A$1:$NB$5,5,0),\"\")","v":"D2"},0,null,5,101,{"$f":"VLOOKUP(Y513,[1]SRA!$S$4:$Z$368,4,0)","v":0},-311.81249999999989,0.23540229885057479,1]
["25woDD",{"$f":"VLOOKUP($AA516,DATA!$B$3:$E$6,2,0)","v":"06:30:00"},{"$f":"VLOOKUP($AA516,DATA!$B$3:$E$6,3,0)","v":"14:30:00"},{"$f":"VLOOKUP($AA516,DATA!$B$3:$E$6,4,0)","v":3.125E-2},0.30208333333333331,0.2722222222222222,{"$f":"DATA!$C$9","v":0.89},{"$f":"DATA!$C$10","v":64},1,367.49999999999994,407.8125,2.9861111111111113E-2,40.3125,9.8850574712643677E-2,0,"","",178.13333333333333,153,153,"","",null,{"$f":"X520","v":25},"2018-06-20",{"$f":"TEXT(Y516,\"ddd\")","v":"wo"},"DD",{"$f":"IFERROR(HLOOKUP(Y516,[1]DATA!$A$1:$NB$5,3,0),\"\")","v":"D1"},43,null,14,167,{"$f":"VLOOKUP(Y516,[1]SRA!$S$4:$Z$368,2,0)","v":0},-214.49999999999994,0.37517241379310345,1]
["25woMD",{"$f":"VLOOKUP($AA517,DATA!$B$3:$E$6,2,0)","v":"14:30:00"},{"$f":"VLOOKUP($AA517,DATA!$B$3:$E$6,3,0)","v":"22:30:00"},{"$f":"VLOOKUP($AA517,DATA!$B$3:$E$6,4,0)","v":3.125E-2},0.30208333333333337,0.30208333333333337,{"$f":"DATA!$C$9","v":0.89},{"$f":"DATA!$C$10","v":64},1,407.81250000000006,407.81250000000006,0,"","",0,"","",203.73333333333332,183,"","",183,null,{"$f":"X520","v":25},null,{"$f":"TEXT(Y516,\"ddd\")","v":"wo"},"MD",{"$f":"IFERROR(HLOOKUP(Y516,[1]DATA!$A$1:$NB$5,4,0),\"\")","v":"D3"},0,null,8,191,{"$f":"VLOOKUP(Y516,[1]SRA!$S$4:$Z$368,3,0)","v":0},-224.81250000000006,0.448735632183908,1]
["25woND",{"$f":"VLOOKUP($AA518,DATA!$B$3:$E$6,2,0)","v":"22:30:00"},{"$f":"VLOOKUP($AA518,DATA!$B$3:$E$6,3,0)","v":"06:30:00"},{"$f":"VLOOKUP($AA518,DATA!$B$3:$E$6,4,0)","v":3.125E-2},0.30208333333333326,0.30138888888888882,{"$f":"DATA!$C$9","v":0.89},{"$f":"DATA!$C$10","v":64},1,{"$f":"F518*86400/H518*I518","v":406.87499999999989},{"$f":"E518*86400/H518","v":407.81249999999989},6.9444444444444447E-4,0.9375,2.2988505747126445E-3,0,"","",{"$f":"AF518*AG$2","v":386.13333333333333},{"$f":"IF(AF518-AE518=0,\"\",AF518-AE518)","v":334},"",334,"",null,{"$f":"X520","v":25},null,{"$f":"TEXT(Y516,\"ddd\")","v":"wo"},"ND",{"$f":"IFERROR(HLOOKUP(Y516,[1]DATA!$A$1:$NB$5,5,0),\"\")","v":"D2"},1,null,28,362,{"$f":"VLOOKUP(Y516,[1]SRA!$S$4:$Z$368,4,0)","v":24},{"$f":"IFERROR(S518-J518,\"\")","v":-72.874999999999886},{"$f":"IFERROR(IF(S518/(E518*86400/H518)<=0,\"\",S518/(E518*86400/H518)),\"\")","v":0.81900383141762478},0.94148244473342002]
["25doDD",{"$f":"VLOOKUP($AA519,DATA!$B$3:$E$6,2,0)","v":"06:30:00"},{"$f":"VLOOKUP($AA519,DATA!$B$3:$E$6,3,0)","v":"14:30:00"},{"$f":"VLOOKUP($AA519,DATA!$B$3:$E$6,4,0)","v":3.125E-2},0.30208333333333331,0.27361111111111108,{"$f":"DATA!$C$9","v":0.89},{"$f":"DATA!$C$10","v":64},1,369.37499999999994,407.8125,{"$f":"TIME(INT($AC519/60),INT(MOD($AC519,60)/1),0)","v":2.8472222222222222E-2},{"$f":"IF($L519*86400/$H519=0,\"\",$L519*86400/$H519)","v":38.4375},{"$f":"IFERROR($M519/$K519,\"\")","v":9.4252873563218389E-2},0,"",{"$f":"IFERROR($P519/$K519,\"\")","v":""},387.2,334,{"$f":"IF(IF($AB519=\"D1\",$S519,\"\")=0,\"\",IF($AB519=\"D1\",$S519,\"\"))","v":334},{"$f":"IF(IF($AB519=\"D2\",$S519,\"\")=0,\"\",IF($AB519=\"D2\",$S519,\"\"))","v":""},{"$f":"IF(IF($AB519=\"D3\",$S519,\"\")=0,\"\",IF($AB519=\"D3\",$S519,\"\"))","v":""},null,{"$f":"X520","v":25},"2018-06-21",{"$f":"TEXT(Y519,\"ddd\")","v":"do"},"DD",{"$f":"IFERROR(HLOOKUP(Y519,[1]DATA!$A$1:$NB$5,3,0),\"\")","v":"D1"},41,null,29,363,{"$f":"VLOOKUP(Y519,[1]SRA!$S$4:$Z$368,2,0)","v":0},-35.374999999999943,0.81900383141762456,1]
["25doMD",{"$f":"VLOOKUP($AA520,DATA!$B$3:$E$6,2,0)","v":"14:30:00"},{"$f":"VLOOKUP($AA520,DATA!$B$3:$E$6,3,0)","v":"22:30:00"},{"$f":"VLOOKUP($AA520,DATA!$B$3:$E$6,4,0)","v":3.125E-2},0.30208333333333337,0.29722222222222228,{"$f":"DATA!$C$9","v":0.89},{"$f":"DATA!$C$10","v":64},1,401.25000000000006,407.81250000000006,4.8611111111111112E-3,6.5625,1.6091954022988502E-2,0,"","",342.4,290,"","",290,null,{"$f":"WEEKNUM($Y510)","v":25},null,{"$f":"TEXT(Y519,\"ddd\")","v":"do"},"MD",{"$f":"IFERROR(HLOOKUP(Y519,[1]DATA!$A$1:$NB$5,4,0),\"\")","v":"D3"},7,null,31,321,{"$f":"VLOOKUP(Y519,[1]SRA!$S$4:$Z$368,3,0)","v":70},-111.25000000000006,0.71111111111111103,0.83026188166828319]
["25doND",{"$f":"VLOOKUP($AA521,DATA!$B$3:$E$6,2,0)","v":"22:30:00"},{"$f":"VLOOKUP($AA521,DATA!$B$3:$E$6,3,0)","v":"06:30:00"},{"$f":"VLOOKUP($AA521,DATA!$B$3:$E$6,4,0)","v":3.125E-2},0.30208333333333326,0.28472222222222215,{"$f":"DATA!$C$9","v":0.89},{"$f":"DATA!$C$10","v":64},1,384.37499999999989,407.81249999999989,1.7361111111111112E-2,23.4375,5.7471264367816105E-2,0,"","",390.4,348,"",348,"",null,{"$f":"X520","v":25},null,{"$f":"TEXT(Y519,\"ddd\")","v":"do"},"ND",{"$f":"IFERROR(HLOOKUP(Y519,[1]DATA!$A$1:$NB$5,5,0),\"\")","v":"D2"},25,null,18,366,{"$f":"VLOOKUP(Y519,[1]SRA!$S$4:$Z$368,4,0)","v":12},-36.374999999999886,0.85333333333333361,0.97017892644135184]
["25vrDD",{"$f":"VLOOKUP($AA522,DATA!$B$3:$E$6,2,0)","v":"06:30:00"},{"$f":"VLOOKUP($AA522,DATA!$B$3:$E$6,3,0)","v":"14:30:00"},{"$f":"VLOOKUP($AA522,DATA!$B$3:$E$6,4,0)","v":3.125E-2},0.30208333333333331,0.28472222222222221,{"$f":"DATA!$C$9","v":0.89},{"$f":"DATA!$C$10","v":64},1,384.375,407.8125,1.7361111111111112E-2,23.4375,5.7471264367816091E-2,0,"","",385.06666666666666,354,354,"","",null,{"$f":"X520","v":25},"2018-06-22",{"$f":"TEXT(Y522,\"ddd\")","v":"vr"},"DD",{"$f":"IFERROR(HLOOKUP(Y522,[1]DATA!$A$1:$NB$5,3,0),\"\")","v":"D1"},25,null,7,361,{"$f":"VLOOKUP(Y522,[1]SRA!$S$4:$Z$368,2,0)","v":21},-30.375,0.86804597701149422,0.94828435396486621]
["25vrMD",{"$f":"VLOOKUP($AA523,DATA!$B$3:$E$6,2,0)","v":"14:30:00"},{"$f":"VLOOKUP($AA523,DATA!$B$3:$E$6,3,0)","v":"22:30:00"},{"$f":"VLOOKUP($AA523,DATA!$B$3:$E$6,4,0)","v":3.125E-2},0.30208333333333337,0.27638888888888891,{"$f":"DATA!$C$9","v":0.89},{"$f":"DATA!$C$10","v":64},1,373.125,407.81250000000006,2.5694444444444447E-2,34.6875,8.5057471264367801E-2,0,"","",342.4,302,"","",302,null,{"$f":"X520","v":25},null,{"$f":"TEXT(Y522,\"ddd\")","v":"vr"},"MD",{"$f":"IFERROR(HLOOKUP(Y522,[1]DATA!$A$1:$NB$5,4,0),\"\")","v":"D3"},37,null,19,321,{"$f":"VLOOKUP(Y522,[1]SRA!$S$4:$Z$368,3,0)","v":12},-71.125,0.7405363984674328,0.96613995485327309]
["25vrND",{"$f":"VLOOKUP($AA524,DATA!$B$3:$E$6,2,0)","v":"22:30:00"},{"$f":"VLOOKUP($AA524,DATA!$B$3:$E$6,3,0)","v":"06:30:00"},{"$f":"VLOOKUP($AA524,DATA!$B$3:$E$6,4,0)","v":3.125E-2},0.30208333333333326,0.30208333333333326,{"$f":"DATA!$C$9","v":0.89},{"$f":"DATA!$C$10","v":64},1,407.81249999999989,407.81249999999989,0,"","",0,"","",195.2,174,"",174,"",null,{"$f":"X520","v":25},null,{"$f":"TEXT(Y522,\"ddd\")","v":"vr"},"ND",{"$f":"IFERROR(HLOOKUP(Y522,[1]DATA!$A$1:$NB$5,5,0),\"\")","v":"D2"},0,null,9,183,{"$f":"VLOOKUP(Y522,[1]SRA!$S$4:$Z$368,4,0)","v":16},-233.81249999999989,0.42666666666666681,0.9242424242424242]
["25zaDD",{"$f":"VLOOKUP($AA525,DATA!$B$3:$E$6,2,0)","v":"06:30:00"},{"$f":"VLOOKUP($AA525,DATA!$B$3:$E$6,3,0)","v":"14:30:00"},{"$f":"VLOOKUP($AA525,DATA!$B$3:$E$6,4,0)","v":3.125E-2},0.30208333333333331,0.30208333333333331,{"$f":"DATA!$C$9","v":0.89},{"$f":"DATA!$C$10","v":64},1,407.8125,407.8125,0,"","",0,"","",0,"","","","",null,{"$f":"X520","v":25},"2018-06-23",{"$f":"TEXT(Y525,\"ddd\")","v":"za"},"DD",{"$f":"IFERROR(HLOOKUP(Y525,[1]DATA!$A$1:$NB$5,3,0),\"\")","v":"D1"},null,null,null,null,{"$f":"VLOOKUP(Y525,[1]SRA!$S$4:$Z$368,2,0)","v":0},"","",""]
["25zaMD",{"$f":"VLOOKUP($AA526,DATA!$B$3:$E$6,2,0)","v":"14:30:00"},{"$f":"VLOOKUP($AA526,DATA!$B$3:$E$6,3,0)","v":"22:30:00"},{"$f":"VLOOKUP($AA526,DATA!$B$3:$E$6,4,0)","v":3.125E-2},0.30208333333333337,0.30208333333333337,{"$f":"DATA!$C$9","v":0.89},{"$f":"DATA!$C$10","v":64},1,407.81250000000006,407.81250000000006,0,"","",0,"","",0,"","","","",null,{"$f":"X520","v":25},null,{"$f":"TEXT(Y525,\"ddd\")","v":"za"},"MD",{"$f":"IFERROR(HLOOKUP(Y525,[1]DATA!$A$1:$NB$5,4,0),\"\")","v":"-"},null,null,null,null,{"$f":"VLOOKUP(Y525,[1]SRA!$S$4:$Z$368,3,0)","v":0},"","",""]
["25zaND",{"$f":"VLOOKUP($AA527,DATA!$B$3:$E$6,2,0)","v":"22:30:00"},{"$f":"VLOOKUP($AA527,DATA!$B$3:$E$6,3,0)","v":"06:30:00"},{"$f":"VLOOKUP($AA527,DATA!$B$3:$E$6,4,0)","v":3.125E-2},0.30208333333333326,0.30208333333333326,{"$f":"DATA!$C$9","v":0.89},{"$f":"DATA!$C$10","v":64},1,407.81249999999989,407.81249999999989,0,"","",0,"","",0,"","","","",null,{"$f":"X520","v":25},null,{"$f":"TEXT(Y525,\"ddd\")","v":"za"},"ND",{"$f":"IFERROR(HLOOKUP(Y525,[1]DATA!$A$1:$NB$5,5,0),\"\")","v":"-"},null,null,null,null,{"$f":"VLOOKUP(Y525,[1]SRA!$S$4:$Z$368,4,0)","v":0},"","",""]
["25zoDD",{"$f":"VLOOKUP($AA528,DATA!$B$3:$E$6,2,0)","v":"06:30:00"},{"$f":"VLOOKUP($AA528,DATA!$B$3:$E$6,3,0)","v":"14:30:00"},{"$f":"VLOOKUP($AA528,DATA!$B$3:$E$6,4,0)","v":3.125E-2},0.30208333333333331,0.30208333333333331,{"$f":"DATA!$C$9","v":0.89},{"$f":"DATA!$C$10","v":64},1,407.8125,407.8125,0,"","",0,"","",0,"","","","",null,{"$f":"X520","v":25},"2018-06-24",{"$f":"TEXT(Y528,\"ddd\")","v":"zo"},"DD",{"$f":"IFERROR(HLOOKUP(Y528,[1]DATA!$A$1:$NB$5,3,0),\"\")","v":"-"},null,null,null,null,{"$f":"VLOOKUP(Y528,[1]SRA!$S$4:$Z$368,2,0)","v":0},"","",""]
["25zoMD",{"$f":"VLOOKUP($AA529,DATA!$B$3:$E$6,2,0)","v":"14:30:00"},{"$f":"VLOOKUP($AA529,DATA!$B$3:$E$6,3,0)","v":"22:30:00"},{"$f":"VLOOKUP($AA529,DATA!$B$3:$E$6,4,0)","v":3.125E-2},0.30208333333333337,0.30208333333333337,{"$f":"DATA!$C$9","v":0.89},{"$f":"DATA!$C$10","v":64},1,407.81250000000006,407.81250000000006,0,"","",0,"","",0,"","","","",null,{"$f":"X520","v":25},null,{"$f":"TEXT(Y528,\"ddd\")","v":"zo"},"MD",{"$f":"IFERROR(HLOOKUP(Y528,[1]DATA!$A$1:$NB$5,4,0),\"\")","v":"-"},null,null,null,null,{"$f":"VLOOKUP(Y528,[1]SRA!$S$4:$Z$368,3,0)","v":0},"","",""]
["25zoZND",{"$f":"VLOOKUP($AA530,DATA!$B$3:$E$6,2,0)","v":"00:00:00"},{"$f":"VLOOKUP($AA530,DATA!$B$3:$E$6,3,0)","v":"00:00:00"},{"$f":"VLOOKUP($AA530,DATA!$B$3:$E$6,4,0)","v":0},0,0,{"$f":"DATA!$C$9","v":0.89},{"$f":"DATA!$C$10","v":64},1,0,0,0,"","",0,"","",0,"","","","",null,{"$f":"X520","v":25},null,{"$f":"TEXT(Y528,\"ddd\")","v":"zo"},"ZND",{"$f":"IFERROR(HLOOKUP(Y528,[1]DATA!$A$1:$NB$5,5,0),\"\")","v":"-"},null,null,null,null,{"$f":"VLOOKUP(Y528,[1]SRA!$S$4:$Z$368,4,0)","v":0},"","",""]
["26maDD",{"$f":"VLOOKUP($AA531,DATA!$B$3:$E$6,2,0)","v":"06:30:00"},{"$f":"VLOOKUP($AA531,DATA!$B$3:$E$6,3,0)","v":"14:30:00"},{"$f":"VLOOKUP($AA531,DATA!$B$3:$E$6,4,0)","v":3.125E-2},0.30208333333333331,0.30208333333333331,{"$f":"DATA!$C$9","v":0.89},{"$f":"DATA!$C$10","v":64},1,407.8125,407.8125,0,"","",{"$f":"TIME(INT($AD531/60),INT(MOD($AD531,60)/1),0)","v":0},"","",0,"","","","",null,{"$f":"X541","v":26},"2018-06-25",{"$f":"TEXT(Y531,\"ddd\")","v":"ma"},"DD",{"$f":"IFERROR(HLOOKUP(Y531,[1]DATA!$A$1:$NB$5,3,0),\"\")","v":"D3"},null,null,null,null,{"$f":"VLOOKUP(Y531,[1]SRA!$S$4:$Z$368,2,0)","v":25},"","",0,{"$f":"IF(SUMIF(S531:S551,\">0\",K531:K551)=0,\"\",SUMIF(S531:S551,\">0\",K531:K551))","v":1631.2500000000002},{"$f":"IF(SUM(S531:S551)=0,\"\",SUM(S531:S551))","v":1222},{"$f":"IFERROR(AL531/AK531,\"-\")","v":0.74911877394636006},{"$f":"IF(SUM(M531:M551)=0,\"0\",SUM(M531:M551))","v":46.875},{"$f":"IFERROR(AN531/AK531,\"-\")","v":2.8735632183908042E-2},{"$f":"IF(SUM(P531:P551)=0,0,SUM(P531:P551))","v":0},{"$f":"IFERROR(AP531/AK531,\"-\")","v":0},{"$f":"IFERROR(AVERAGE(AJ531:AJ551),\"-\")","v":0.37727604479525756},{"$f":"IFERROR(SUMIF($AB531:$AB551,AS$5,$AJ531:$AJ551)/COUNTIFS($AB531:$AB551,AS$5,$AJ531:$AJ551,\">0\"),\"\")","v":""},0.94319011198814384,"",{"$f":"IFERROR((AK531-AL531-AN531-AP531),\"-\")","v":362.37500000000023},{"$f":"IFERROR((1-AM531-AO531-AQ531), \"-\")","v":0.2221455938697319},{"$f":"IFERROR((AV531*$AE$2)/60,\"-\")","v":386.53333333333359},{"$f":"IFERROR(SUM(AG531:AG551),\"\")","v":204}]
["26maMD",{"$f":"VLOOKUP($AA532,DATA!$B$3:$E$6,2,0)","v":"14:30:00"},{"$f":"VLOOKUP($AA532,DATA!$B$3:$E$6,3,0)","v":"22:30:00"},{"$f":"VLOOKUP($AA532,DATA!$B$3:$E$6,4,0)","v":3.125E-2},0.30208333333333337,0.29236111111111113,{"$f":"DATA!$C$9","v":0.89},{"$f":"DATA!$C$10","v":64},1,394.6875,407.81250000000006,9.7222222222222224E-3,13.125,3.2183908045977004E-2,{"$f":"TIME(INT(AD532/60),INT(MOD(AD532,60)/1),0)","v":0},"","",376.5333333333333,342,"",342,"",null,{"$f":"X541","v":26},null,{"$f":"TEXT(Y531,\"ddd\")","v":"ma"},"MD",{"$f":"IFERROR(HLOOKUP(Y531,[1]DATA!$A$1:$NB$5,4,0),\"\")","v":"D2"},14,null,11,353,{"$f":"VLOOKUP(Y531,[1]SRA!$S$4:$Z$368,3,0)","v":6},-52.6875,0.83862068965517234,0.98431509236667825]
["26maND",{"$f":"VLOOKUP($AA533,DATA!$B$3:$E$6,2,0)","v":"22:30:00"},{"$f":"VLOOKUP($AA533,DATA!$B$3:$E$6,3,0)","v":"06:30:00"},{"$f":"VLOOKUP($AA533,DATA!$B$3:$E$6,4,0)","v":3.125E-2},0.30208333333333326,0.30208333333333326,{"$f":"DATA!$C$9","v":0.89},{"$f":"DATA!$C$10","v":64},1,407.81249999999989,407.81249999999989,0,"","",0,"","",0,"","","","",null,{"$f":"X541","v":26},null,{"$f":"TEXT(Y531,\"ddd\")","v":"ma"},"ND",{"$f":"IFERROR(HLOOKUP(Y531,[1]DATA!$A$1:$NB$5,5,0),\"\")","v":"D1"},null,null,null,null,{"$f":"VLOOKUP(Y531,[1]SRA!$S$4:$Z$368,4,0)","v":3},"","",0]
["26diDD",{"$f":"VLOOKUP($AA534,DATA!$B$3:$E$6,2,0)","v":"06:30:00"},{"$f":"VLOOKUP($AA534,DATA!$B$3:$E$6,3,0)","v":"14:30:00"},{"$f":"VLOOKUP($AA534,DATA!$B$3:$E$6,4,0)","v":3.125E-2},0.30208333333333331,0.30208333333333331,{"$f":"DATA!$C$9","v":0.89},{"$f":"DATA!$C$10","v":64},1,407.8125,407.8125,0,"","",0,"","",0,"","","","",null,{"$f":"X541","v":26},"2018-06-26",{"$f":"TEXT(Y534,\"ddd\")","v":"di"},"DD",{"$f":"IFERROR(HLOOKUP(Y534,[1]DATA!$A$1:$NB$5,3,0),\"\")","v":"D3"},null,null,null,null,{"$f":"VLOOKUP(Y534,[1]SRA!$S$4:$Z$368,2,0)","v":5},"","",0]
["26diMD",{"$f":"VLOOKUP($AA535,DATA!$B$3:$E$6,2,0)","v":"14:30:00"},{"$f":"VLOOKUP($AA535,DATA!$B$3:$E$6,3,0)","v":"22:30:00"},{"$f":"VLOOKUP($AA535,DATA!$B$3:$E$6,4,0)","v":3.125E-2},0.30208333333333337,0.29861111111111116,{"$f":"DATA!$C$9","v":0.89},{"$f":"DATA!$C$10","v":64},1,403.12500000000006,407.81250000000006,3.472222222222222E-3,4.6875,1.1494252873563216E-2,0,"","",374.4,325,"",325,"",null,{"$f":"X541","v":26},null,{"$f":"TEXT(Y534,\"ddd\")","v":"di"},"MD",{"$f":"IFERROR(HLOOKUP(Y534,[1]DATA!$A$1:$NB$5,4,0),\"\")","v":"D2"},5,null,26,351,{"$f":"VLOOKUP(Y534,[1]SRA!$S$4:$Z$368,3,0)","v":17},-78.125000000000057,0.79693486590038298,0.95656617271333677]
["26diND",{"$f":"VLOOKUP($AA536,DATA!$B$3:$E$6,2,0)","v":"22:30:00"},{"$f":"VLOOKUP($AA536,DATA!$B$3:$E$6,3,0)","v":"06:30:00"},{"$f":"VLOOKUP($AA536,DATA!$B$3:$E$6,4,0)","v":3.125E-2},0.30208333333333326,0.30208333333333326,{"$f":"DATA!$C$9","v":0.89},{"$f":"DATA!$C$10","v":64},1,407.81249999999989,407.81249999999989,0,"","",0,"","",0,"","","","",null,{"$f":"X541","v":26},null,{"$f":"TEXT(Y534,\"ddd\")","v":"di"},"ND",{"$f":"IFERROR(HLOOKUP(Y534,[1]DATA!$A$1:$NB$5,5,0),\"\")","v":"D1"},null,null,null,null,{"$f":"VLOOKUP(Y534,[1]SRA!$S$4:$Z$368,4,0)","v":15},"","",0]
["26woDD",{"$f":"VLOOKUP($AA537,DATA!$B$3:$E$6,2,0)","v":"06:30:00"},{"$f":"VLOOKUP($AA537,DATA!$B$3:$E$6,3,0)","v":"14:30:00"},{"$f":"VLOOKUP($AA537,DATA!$B$3:$E$6,4,0)","v":3.125E-2},0.30208333333333331,0.30208333333333331,{"$f":"DATA!$C$9","v":0.89},{"$f":"DATA!$C$10","v":64},1,407.8125,407.8125,0,"","",0,"","",0,"","","","",null,{"$f":"X541","v":26},"2018-06-27",{"$f":"TEXT(Y537,\"ddd\")","v":"wo"},"DD",{"$f":"IFERROR(HLOOKUP(Y537,[1]DATA!$A$1:$NB$5,3,0),\"\")","v":"D3"},null,null,null,null,{"$f":"VLOOKUP(Y537,[1]SRA!$S$4:$Z$368,2,0)","v":0},"","",""]
["26woMD",{"$f":"VLOOKUP($AA538,DATA!$B$3:$E$6,2,0)","v":"14:30:00"},{"$f":"VLOOKUP($AA538,DATA!$B$3:$E$6,3,0)","v":"22:30:00"},{"$f":"VLOOKUP($AA538,DATA!$B$3:$E$6,4,0)","v":3.125E-2},0.30208333333333337,0.29166666666666669,{"$f":"DATA!$C$9","v":0.89},{"$f":"DATA!$C$10","v":64},1,393.75,407.81250000000006,1.0416666666666666E-2,14.0625,3.4482758620689648E-2,0,"","",352,299,"",299,"",null,{"$f":"X541","v":26},null,{"$f":"TEXT(Y537,\"ddd\")","v":"wo"},"MD",{"$f":"IFERROR(HLOOKUP(Y537,[1]DATA!$A$1:$NB$5,4,0),\"\")","v":"D2"},15,null,31,330,{"$f":"VLOOKUP(Y537,[1]SRA!$S$4:$Z$368,3,0)","v":26},-94.75,0.73318007662835238,0.93121693121693117]
["26woND",{"$f":"VLOOKUP($AA539,DATA!$B$3:$E$6,2,0)","v":"22:30:00"},{"$f":"VLOOKUP($AA539,DATA!$B$3:$E$6,3,0)","v":"06:30:00"},{"$f":"VLOOKUP($AA539,DATA!$B$3:$E$6,4,0)","v":3.125E-2},0.30208333333333326,0.30208333333333326,{"$f":"DATA!$C$9","v":0.89},{"$f":"DATA!$C$10","v":64},1,407.81249999999989,407.81249999999989,0,"","",0,"","",0,"","","","",null,{"$f":"X541","v":26},null,{"$f":"TEXT(Y537,\"ddd\")","v":"wo"},"ND",{"$f":"IFERROR(HLOOKUP(Y537,[1]DATA!$A$1:$NB$5,5,0),\"\")","v":"D1"},null,null,null,null,{"$f":"VLOOKUP(Y537,[1]SRA!$S$4:$Z$368,4,0)","v":40},"","",{"$f":"IFERROR(R539/(R539+AG539),\"\")","v":0}]
["26doDD",{"$f":"VLOOKUP($AA540,DATA!$B$3:$E$6,2,0)","v":"06:30:00"},{"$f":"VLOOKUP($AA540,DATA!$B$3:$E$6,3,0)","v":"14:30:00"},{"$f":"VLOOKUP($AA540,DATA!$B$3:$E$6,4,0)","v":3.125E-2},{"$f":"(C540-B540+(B540>C540))-D540","v":0.30208333333333331},{"$f":"E540-O540-L540","v":0.30208333333333331},{"$f":"DATA!$C$9","v":0.89},{"$f":"DATA!$C$10","v":64},1,407.8125,407.8125,0,"","",0,"","",0,"","","","",null,{"$f":"X541","v":26},"2018-06-28",{"$f":"TEXT(Y540,\"ddd\")","v":"do"},"DD",{"$f":"IFERROR(HLOOKUP(Y540,[1]DATA!$A$1:$NB$5,3,0),\"\")","v":"D3"},null,null,null,null,{"$f":"VLOOKUP(Y540,[1]SRA!$S$4:$Z$368,2,0)","v":35},"","",0]
["26doMD",{"$f":"VLOOKUP($AA541,DATA!$B$3:$E$6,2,0)","v":"14:30:00"},{"$f":"VLOOKUP($AA541,DATA!$B$3:$E$6,3,0)","v":"22:30:00"},{"$f":"VLOOKUP($AA541,DATA!$B$3:$E$6,4,0)","v":3.125E-2},0.30208333333333337,0.29097222222222224,{"$f":"DATA!$C$9","v":0.89},{"$f":"DATA!$C$10","v":64},1,392.8125,407.81250000000006,1.1111111111111112E-2,15,3.6781609195402291E-2,0,"","",290.13333333333333,256,"",256,"",null,{"$f":"WEEKNUM($Y531)","v":26},null,{"$f":"TEXT(Y540,\"ddd\")","v":"do"},"MD",{"$f":"IFERROR(HLOOKUP(Y540,[1]DATA!$A$1:$NB$5,4,0),\"\")","v":"D2"},16,null,16,272,{"$f":"VLOOKUP(Y540,[1]SRA!$S$4:$Z$368,3,0)","v":32},-136.8125,0.62773946360153243,0.90066225165562919]
["26doND",{"$f":"VLOOKUP($AA542,DATA!$B$3:$E$6,2,0)","v":"22:30:00"},{"$f":"VLOOKUP($AA542,DATA!$B$3:$E$6,3,0)","v":"06:30:00"},{"$f":"VLOOKUP($AA542,DATA!$B$3:$E$6,4,0)","v":3.125E-2},0.30208333333333326,0.30208333333333326,{"$f":"DATA!$C$9","v":0.89},{"$f":"DATA!$C$10","v":64},1,407.81249999999989,407.81249999999989,0,"","",0,"","",0,"","","","",null,{"$f":"X541","v":26},null,{"$f":"TEXT(Y540,\"ddd\")","v":"do"},"ND",{"$f":"IFERROR(HLOOKUP(Y540,[1]DATA!$A$1:$NB$5,5,0),\"\")","v":"D1"},null,null,null,null,{"$f":"VLOOKUP(Y540,[1]SRA!$S$4:$Z$368,4,0)","v":0},"","",""]
["26vrDD",{"$f":"VLOOKUP($AA543,DATA!$B$3:$E$6,2,0)","v":"06:30:00"},{"$f":"VLOOKUP($AA543,DATA!$B$3:$E$6,3,0)","v":"14:30:00"},{"$f":"VLOOKUP($AA543,DATA!$B$3:$E$6,4,0)","v":3.125E-2},0.30208333333333331,0.30208333333333331,{"$f":"DATA!$C$9","v":0.89},{"$f":"DATA!$C$10","v":64},1,407.8125,407.8125,0,"","",0,"","",0,"","","","",null,{"$f":"X541","v":26},"2018-06-29",{"$f":"TEXT(Y543,\"ddd\")","v":"vr"},"DD",{"$f":"IFERROR(HLOOKUP(Y543,[1]DATA!$A$1:$NB$5,3,0),\"\")","v":"D3"},null,null,null,null,{"$f":"VLOOKUP(Y543,[1]SRA!$S$4:$Z$368,2,0)","v":0},"","",""]
["26vrMD",{"$f":"VLOOKUP($AA544,DATA!$B$3:$E$6,2,0)","v":"14:30:00"},{"$f":"VLOOKUP($AA544,DATA!$B$3:$E$6,3,0)","v":"22:30:00"},{"$f":"VLOOKUP($AA544,DATA!$B$3:$E$6,4,0)","v":3.125E-2},0.30208333333333337,0.30208333333333337,{"$f":"DATA!$C$9","v":0.89},{"$f":"DATA!$C$10","v":64},1,407.81250000000006,407.81250000000006,0,"","",0,"","",0,"","","","",null,{"$f":"X541","v":26},null,{"$f":"TEXT(Y543,\"ddd\")","v":"vr"},"MD",{"$f":"IFERROR(HLOOKUP(Y543,[1]DATA!$A$1:$NB$5,4,0),\"\")","v":"D2"},null,null,null,null,{"$f":"VLOOKUP(Y543,[1]SRA!$S$4:$Z$368,3,0)","v":0},"","",""]
["26vrND",{"$f":"VLOOKUP($AA545,DATA!$B$3:$E$6,2,0)","v":"22:30:00"},{"$f":"VLOOKUP($AA545,DATA!$B$3:$E$6,3,0)","v":"06:30:00"},{"$f":"VLOOKUP($AA545,DATA!$B$3:$E$6,4,0)","v":3.125E-2},0.30208333333333326,0.30208333333333326,{"$f":"DATA!$C$9","v":0.89},{"$f":"DATA!$C$10","v":64},1,407.81249999999989,407.81249999999989,0,"","",0,"","",0,"","","","",null,{"$f":"X541","v":26},null,{"$f":"TEXT(Y543,\"ddd\")","v":"vr"},"ND",{"$f":"IFERROR(HLOOKUP(Y543,[1]DATA!$A$1:$NB$5,5,0),\"\")","v":"D2"},null,null,null,null,{"$f":"VLOOKUP(Y543,[1]SRA!$S$4:$Z$368,4,0)","v":0},"","",""]
["26zaDD",{"$f":"VLOOKUP($AA546,DATA!$B$3:$E$6,2,0)","v":"06:30:00"},{"$f":"VLOOKUP($AA546,DATA!$B$3:$E$6,3,0)","v":"14:30:00"},{"$f":"VLOOKUP($AA546,DATA!$B$3:$E$6,4,0)","v":3.125E-2},0.30208333333333331,0.30208333333333331,{"$f":"DATA!$C$9","v":0.89},{"$f":"DATA!$C$10","v":64},1,407.8125,407.8125,0,"","",0,"","",0,"","","","",null,{"$f":"X541","v":26},"2018-06-30",{"$f":"TEXT(Y546,\"ddd\")","v":"za"},"DD",{"$f":"IFERROR(HLOOKUP(Y546,[1]DATA!$A$1:$NB$5,3,0),\"\")","v":"D3"},null,null,null,null,{"$f":"VLOOKUP(Y546,[1]SRA!$S$4:$Z$368,2,0)","v":0},"","",""]
["26zaMD",{"$f":"VLOOKUP($AA547,DATA!$B$3:$E$6,2,0)","v":"14:30:00"},{"$f":"VLOOKUP($AA547,DATA!$B$3:$E$6,3,0)","v":"22:30:00"},{"$f":"VLOOKUP($AA547,DATA!$B$3:$E$6,4,0)","v":3.125E-2},0.30208333333333337,0.30208333333333337,{"$f":"DATA!$C$9","v":0.89},{"$f":"DATA!$C$10","v":64},1,407.81250000000006,407.81250000000006,0,"","",0,"","",0,"","","","",null,{"$f":"X541","v":26},null,{"$f":"TEXT(Y546,\"ddd\")","v":"za"},"MD",{"$f":"IFERROR(HLOOKUP(Y546,[1]DATA!$A$1:$NB$5,4,0),\"\")","v":"-"},null,null,null,null,{"$f":"VLOOKUP(Y546,[1]SRA!$S$4:$Z$368,3,0)","v":0},"","",""]
["26zaND",{"$f":"VLOOKUP($AA548,DATA!$B$3:$E$6,2,0)","v":"22:30:00"},{"$f":"VLOOKUP($AA548,DATA!$B$3:$E$6,3,0)","v":"06:30:00"},{"$f":"VLOOKUP($AA548,DATA!$B$3:$E$6,4,0)","v":3.125E-2},0.30208333333333326,0.30208333333333326,{"$f":"DATA!$C$9","v":0.89},{"$f":"DATA!$C$10","v":64},1,407.81249999999989,407.81249999999989,0,"","",0,"","",0,"","","","",null,{"$f":"X541","v":26},null,{"$f":"TEXT(Y546,\"ddd\")","v":"za"},"ND",{"$f":"IFERROR(HLOOKUP(Y546,[1]DATA!$A$1:$NB$5,5,0),\"\")","v":"-"},null,null,null,null,{"$f":"VLOOKUP(Y546,[1]SRA!$S$4:$Z$368,4,0)","v":0},"","",""]
["26zoDD",{"$f":"VLOOKUP($AA549,DATA!$B$3:$E$6,2,0)","v":"06:30:00"},{"$f":"VLOOKUP($AA549,DATA!$B$3:$E$6,3,0)","v":"14:30:00"},{"$f":"VLOOKUP($AA549,DATA!$B$3:$E$6,4,0)","v":3.125E-2},0.30208333333333331,0.30208333333333331,{"$f":"DATA!$C$9","v":0.89},{"$f":"DATA!$C$10","v":64},1,407.8125,407.8125,0,"","",0,"","",0,"","","","",null,{"$f":"X541","v":26},"2018-07-01",{"$f":"TEXT(Y549,\"ddd\")","v":"zo"},"DD",{"$f":"IFERROR(HLOOKUP(Y549,[1]DATA!$A$1:$NB$5,3,0),\"\")","v":"-"},null,null,null,null,{"$f":"VLOOKUP(Y549,[1]SRA!$S$4:$Z$368,2,0)","v":0},"","",""]
["26zoMD",{"$f":"VLOOKUP($AA550,DATA!$B$3:$E$6,2,0)","v":"14:30:00"},{"$f":"VLOOKUP($AA550,DATA!$B$3:$E$6,3,0)","v":"22:30:00"},{"$f":"VLOOKUP($AA550,DATA!$B$3:$E$6,4,0)","v":3.125E-2},0.30208333333333337,0.30208333333333337,{"$f":"DATA!$C$9","v":0.89},{"$f":"DATA!$C$10","v":64},1,407.81250000000006,407.81250000000006,0,"","",0,"","",0,"","","","",null,{"$f":"X541","v":26},null,{"$f":"TEXT(Y549,\"ddd\")","v":"zo"},"MD",{"$f":"IFERROR(HLOOKUP(Y549,[1]DATA!$A$1:$NB$5,4,0),\"\")","v":"-"},null,null,null,null,{"$f":"VLOOKUP(Y549,[1]SRA!$S$4:$Z$368,3,0)","v":0},"","",""]
["26zoZND",{"$f":"VLOOKUP($AA551,DATA!$B$3:$E$6,2,0)","v":"00:00:00"},{"$f":"VLOOKUP($AA551,DATA!$B$3:$E$6,3,0)","v":"00:00:00"},{"$f":"VLOOKUP($AA551,DATA!$B$3:$E$6,4,0)","v":0},0,0,{"$f":"DATA!$C$9","v":0.89},{"$f":"DATA!$C$10","v":64},1,0,0,0,"","",0,"","",0,"","","","",null,{"$f":"X541","v":26},null,{"$f":"TEXT(Y549,\"ddd\")","v":"zo"},"ZND",{"$f":"IFERROR(HLOOKUP(Y549,[1]DATA!$A$1:$NB$5,5,0),\"\")","v":"-"},null,null,null,null,{"$f":"VLOOKUP(Y549,[1]SRA!$S$4:$Z$368,4,0)","v":0},"","",""]
["27maDD",{"$f":"VLOOKUP($AA552,DATA!$B$3:$E$6,2,0)","v":"06:30:00"},{"$f":"VLOOKUP($AA552,DATA!$B$3:$E$6,3,0)","v":"14:30:00"},{"$f":"VLOOKUP($AA552,DATA!$B$3:$E$6,4,0)","v":3.125E-2},0.30208333333333331,0.30208333333333331,{"$f":"DATA!$C$9","v":0.89},{"$f":"DATA!$C$10","v":64},1,407.8125,407.8125,0,"","",{"$f":"TIME(INT($AD552/60),INT(MOD($AD552,60)/1),0)","v":0},"","",0,"","","","",null,{"$f":"X562","v":27},"2018-07-02",{"$f":"TEXT(Y552,\"ddd\")","v":"ma"},"DD",{"$f":"IFERROR(HLOOKUP(Y552,[1]DATA!$A$1:$NB$5,3,0),\"\")","v":"D2"},null,null,null,null,{"$f":"VLOOKUP(Y552,[1]SRA!$S$4:$Z$368,2,0)","v":75},"","",0,{"$f":"IF(SUMIF(S552:S572,\">0\",K552:K572)=0,\"\",SUMIF(S552:S572,\">0\",K552:K572))","v":""},{"$f":"IF(SUM(S552:S572)=0,\"\",SUM(S552:S572))","v":""},{"$f":"IFERROR(AL552/AK552,\"-\")","v":"-"},{"$f":"IF(SUM(M552:M572)=0,\"0\",SUM(M552:M572))","v":"0"},{"$f":"IFERROR(AN552/AK552,\"-\")","v":"-"},{"$f":"IF(SUM(P552:P572)=0,0,SUM(P552:P572))","v":0},{"$f":"IFERROR(AP552/AK552,\"-\")","v":"-"},{"$f":"IFERROR(AVERAGE(AJ552:AJ572),\"-\")","v":0},{"$f":"IFERROR(SUMIF($AB552:$AB572,AS$5,$AJ552:$AJ572)/COUNTIFS($AB552:$AB572,AS$5,$AJ552:$AJ572,\">0\"),\"\")","v":""},"","",{"$f":"IFERROR((AK552-AL552-AN552-AP552),\"-\")","v":"-"},{"$f":"IFERROR((1-AM552-AO552-AQ552), \"-\")","v":"-"},{"$f":"IFERROR((AV552*$AE$2)/60,\"-\")","v":"-"},{"$f":"IFERROR(SUM(AG552:AG572),\"\")","v":352}]
["27maMD",{"$f":"VLOOKUP($AA553,DATA!$B$3:$E$6,2,0)","v":"14:30:00"},{"$f":"VLOOKUP($AA553,DATA!$B$3:$E$6,3,0)","v":"22:30:00"},{"$f":"VLOOKUP($AA553,DATA!$B$3:$E$6,4,0)","v":3.125E-2},0.30208333333333337,0.30208333333333337,{"$f":"DATA!$C$9","v":0.89},{"$f":"DATA!$C$10","v":64},1,407.81250000000006,407.81250000000006,0,"","",{"$f":"TIME(INT(AD553/60),INT(MOD(AD553,60)/1),0)","v":0},"","",0,"","","","",null,{"$f":"X562","v":27},null,{"$f":"TEXT(Y552,\"ddd\")","v":"ma"},"MD",{"$f":"IFERROR(HLOOKUP(Y552,[1]DATA!$A$1:$NB$5,4,0),\"\")","v":"D1"},null,null,null,null,{"$f":"VLOOKUP(Y552,[1]SRA!$S$4:$Z$368,3,0)","v":16},"","",0]
["27maND",{"$f":"VLOOKUP($AA554,DATA!$B$3:$E$6,2,0)","v":"22:30:00"},{"$f":"VLOOKUP($AA554,DATA!$B$3:$E$6,3,0)","v":"06:30:00"},{"$f":"VLOOKUP($AA554,DATA!$B$3:$E$6,4,0)","v":3.125E-2},0.30208333333333326,0.30208333333333326,{"$f":"DATA!$C$9","v":0.89},{"$f":"DATA!$C$10","v":64},1,407.81249999999989,407.81249999999989,0,"","",0,"","",0,"","","","",null,{"$f":"X562","v":27},null,{"$f":"TEXT(Y552,\"ddd\")","v":"ma"},"ND",{"$f":"IFERROR(HLOOKUP(Y552,[1]DATA!$A$1:$NB$5,5,0),\"\")","v":"D3"},null,null,null,null,{"$f":"VLOOKUP(Y552,[1]SRA!$S$4:$Z$368,4,0)","v":10},"","",0]
["27diDD",{"$f":"VLOOKUP($AA555,DATA!$B$3:$E$6,2,0)","v":"06:30:00"},{"$f":"VLOOKUP($AA555,DATA!$B$3:$E$6,3,0)","v":"14:30:00"},{"$f":"VLOOKUP($AA555,DATA!$B$3:$E$6,4,0)","v":3.125E-2},0.30208333333333331,0.30208333333333331,{"$f":"DATA!$C$9","v":0.89},{"$f":"DATA!$C$10","v":64},1,407.8125,407.8125,0,"","",0,"","",0,"","","","",null,{"$f":"X562","v":27},"2018-07-03",{"$f":"TEXT(Y555,\"ddd\")","v":"di"},"DD",{"$f":"IFERROR(HLOOKUP(Y555,[1]DATA!$A$1:$NB$5,3,0),\"\")","v":"D2"},null,null,null,null,{"$f":"VLOOKUP(Y555,[1]SRA!$S$4:$Z$368,2,0)","v":63},"","",0]
["27diMD",{"$f":"VLOOKUP($AA556,DATA!$B$3:$E$6,2,0)","v":"14:30:00"},{"$f":"VLOOKUP($AA556,DATA!$B$3:$E$6,3,0)","v":"22:30:00"},{"$f":"VLOOKUP($AA556,DATA!$B$3:$E$6,4,0)","v":3.125E-2},0.30208333333333337,0.30208333333333337,{"$f":"DATA!$C$9","v":0.89},{"$f":"DATA!$C$10","v":64},1,407.81250000000006,407.81250000000006,0,"","",0,"","",0,"","","","",null,{"$f":"X562","v":27},null,{"$f":"TEXT(Y555,\"ddd\")","v":"di"},"MD",{"$f":"IFERROR(HLOOKUP(Y555,[1]DATA!$A$1:$NB$5,4,0),\"\")","v":"D1"},null,null,null,null,{"$f":"VLOOKUP(Y555,[1]SRA!$S$4:$Z$368,3,0)","v":22},"","",0]
["27diND",{"$f":"VLOOKUP($AA557,DATA!$B$3:$E$6,2,0)","v":"22:30:00"},{"$f":"VLOOKUP($AA557,DATA!$B$3:$E$6,3,0)","v":"06:30:00"},{"$f":"VLOOKUP($AA557,DATA!$B$3:$E$6,4,0)","v":3.125E-2},0.30208333333333326,0.30208333333333326,{"$f":"DATA!$C$9","v":0.89},{"$f":"DATA!$C$10","v":64},1,407.81249999999989,407.81249999999989,0,"","",0,"","",0,"","","","",null,{"$f":"X562","v":27},null,{"$f":"TEXT(Y555,\"ddd\")","v":"di"},"ND",{"$f":"IFERROR(HLOOKUP(Y555,[1]DATA!$A$1:$NB$5,5,0),\"\")","v":"D3"},null,null,null,null,{"$f":"VLOOKUP(Y555,[1]SRA!$S$4:$Z$368,4,0)","v":0},"","",""]
["27woDD",{"$f":"VLOOKUP($AA558,DATA!$B$3:$E$6,2,0)","v":"06:30:00"},{"$f":"VLOOKUP($AA558,DATA!$B$3:$E$6,3,0)","v":"14:30:00"},{"$f":"VLOOKUP($AA558,DATA!$B$3:$E$6,4,0)","v":3.125E-2},0.30208333333333331,0.30208333333333331,{"$f":"DATA!$C$9","v":0.89},{"$f":"DATA!$C$10","v":64},1,407.8125,407.8125,0,"","",0,"","",0,"","","","",null,{"$f":"X562","v":27},"2018-07-04",{"$f":"TEXT(Y558,\"ddd\")","v":"wo"},"DD",{"$f":"IFERROR(HLOOKUP(Y558,[1]DATA!$A$1:$NB$5,3,0),\"\")","v":"D2"},null,null,null,null,{"$f":"VLOOKUP(Y558,[1]SRA!$S$4:$Z$368,2,0)","v":21},"","",0]
["27woMD",{"$f":"VLOOKUP($AA559,DATA!$B$3:$E$6,2,0)","v":"14:30:00"},{"$f":"VLOOKUP($AA559,DATA!$B$3:$E$6,3,0)","v":"22:30:00"},{"$f":"VLOOKUP($AA559,DATA!$B$3:$E$6,4,0)","v":3.125E-2},0.30208333333333337,0.30208333333333337,{"$f":"DATA!$C$9","v":0.89},{"$f":"DATA!$C$10","v":64},1,407.81250000000006,407.81250000000006,0,"","",0,"","",0,"","","","",null,{"$f":"X562","v":27},null,{"$f":"TEXT(Y558,\"ddd\")","v":"wo"},"MD",{"$f":"IFERROR(HLOOKUP(Y558,[1]DATA!$A$1:$NB$5,4,0),\"\")","v":"D1"},null,null,null,null,{"$f":"VLOOKUP(Y558,[1]SRA!$S$4:$Z$368,3,0)","v":21},"","",0]
[{"$f":"X560&Z560&AA560","v":"27woND"},{"$f":"VLOOKUP($AA560,DATA!$B$3:$E$6,2,0)","v":"22:30:00"},{"$f":"VLOOKUP($AA560,DATA!$B$3:$E$6,3,0)","v":"06:30:00"},{"$f":"VLOOKUP($AA560,DATA!$B$3:$E$6,4,0)","v":3.125E-2},0.30208333333333326,0.30208333333333326,{"$f":"DATA!$C$9","v":0.89},{"$f":"DATA!$C$10","v":64},1,407.81249999999989,407.81249999999989,0,"","",0,{"$f":"IF($O560*86400/$H560=0,\"\",$O560*86400/$H560)","v":""},"",0,"","","","",null,{"$f":"X562","v":27},null,{"$f":"TEXT(Y558,\"ddd\")","v":"wo"},"ND",{"$f":"IFERROR(HLOOKUP(Y558,[1]DATA!$A$1:$NB$5,5,0),\"\")","v":"D3"},null,null,null,null,{"$f":"VLOOKUP(Y558,[1]SRA!$S$4:$Z$368,4,0)","v":4},"","",0]
["27doDD",{"$f":"VLOOKUP($AA561,DATA!$B$3:$E$6,2,0)","v":"06:30:00"},{"$f":"VLOOKUP($AA561,DATA!$B$3:$E$6,3,0)","v":"14:30:00"},{"$f":"VLOOKUP($AA561,DATA!$B$3:$E$6,4,0)","v":3.125E-2},0.30208333333333331,0.30208333333333331,{"$f":"DATA!$C$9","v":0.89},{"$f":"DATA!$C$10","v":64},1,407.8125,407.8125,0,"","",0,"","",0,"","","","",null,{"$f":"X562","v":27},"2018-07-05",{"$f":"TEXT(Y561,\"ddd\")","v":"do"},"DD",{"$f":"IFERROR(HLOOKUP(Y561,[1]DATA!$A$1:$NB$5,3,0),\"\")","v":"D2"},null,null,null,null,{"$f":"VLOOKUP(Y561,[1]SRA!$S$4:$Z$368,2,0)","v":7},"","",0]
["27doMD",{"$f":"VLOOKUP($AA562,DATA!$B$3:$E$6,2,0)","v":"14:30:00"},{"$f":"VLOOKUP($AA562,DATA!$B$3:$E$6,3,0)","v":"22:30:00"},{"$f":"VLOOKUP($AA562,DATA!$B$3:$E$6,4,0)","v":3.125E-2},0.30208333333333337,0.30208333333333337,{"$f":"DATA!$C$9","v":0.89},{"$f":"DATA!$C$10","v":64},1,407.81250000000006,407.81250000000006,0,"","",0,"","",0,"","","","",null,{"$f":"WEEKNUM($Y552)","v":27},null,{"$f":"TEXT(Y561,\"ddd\")","v":"do"},"MD",{"$f":"IFERROR(HLOOKUP(Y561,[1]DATA!$A$1:$NB$5,4,0),\"\")","v":"D1"},null,null,null,null,{"$f":"VLOOKUP(Y561,[1]SRA!$S$4:$Z$368,3,0)","v":7},"","",0]
["27doND",{"$f":"VLOOKUP($AA563,DATA!$B$3:$E$6,2,0)","v":"22:30:00"},{"$f":"VLOOKUP($AA563,DATA!$B$3:$E$6,3,0)","v":"06:30:00"},{"$f":"VLOOKUP($AA563,DATA!$B$3:$E$6,4,0)","v":3.125E-2},0.30208333333333326,0.30208333333333326,{"$f":"DATA!$C$9","v":0.89},{"$f":"DATA!$C$10","v":64},1,407.81249999999989,407.81249999999989,0,"","",0,"","",0,"","","","",null,{"$f":"X562","v":27},null,{"$f":"TEXT(Y561,\"ddd\")","v":"do"},"ND",{"$f":"IFERROR(HLOOKUP(Y561,[1]DATA!$A$1:$NB$5,5,0),\"\")","v":"D3"},null,null,null,null,{"$f":"VLOOKUP(Y561,[1]SRA!$S$4:$Z$368,4,0)","v":0},"","",""]
["27vrDD",{"$f":"VLOOKUP($AA564,DATA!$B$3:$E$6,2,0)","v":"06:30:00"},{"$f":"VLOOKUP($AA564,DATA!$B$3:$E$6,3,0)","v":"14:30:00"},{"$f":"VLOOKUP($AA564,DATA!$B$3:$E$6,4,0)","v":3.125E-2},0.30208333333333331,0.30208333333333331,{"$f":"DATA!$C$9","v":0.89},{"$f":"DATA!$C$10","v":64},1,407.8125,407.8125,0,"","",0,"","",0,"","","","",null,{"$f":"X562","v":27},{"$f":"Y561+1","v":"2018-07-06"},{"$f":"TEXT(Y564,\"ddd\")","v":"vr"},"DD",{"$f":"IFERROR(HLOOKUP(Y564,[1]DATA!$A$1:$NB$5,3,0),\"\")","v":"D2"},null,null,null,null,{"$f":"VLOOKUP(Y564,[1]SRA!$S$4:$Z$368,2,0)","v":69},"","",0]
["27vrMD",{"$f":"VLOOKUP($AA565,DATA!$B$3:$E$6,2,0)","v":"14:30:00"},{"$f":"VLOOKUP($AA565,DATA!$B$3:$E$6,3,0)","v":"22:30:00"},{"$f":"VLOOKUP($AA565,DATA!$B$3:$E$6,4,0)","v":3.125E-2},0.30208333333333337,0.30208333333333337,{"$f":"DATA!$C$9","v":0.89},{"$f":"DATA!$C$10","v":64},1,407.81250000000006,407.81250000000006,0,"","",0,"","",0,"","","","",null,{"$f":"X562","v":27},null,{"$f":"TEXT(Y564,\"ddd\")","v":"vr"},"MD",{"$f":"IFERROR(HLOOKUP(Y564,[1]DATA!$A$1:$NB$5,4,0),\"\")","v":"D1"},null,null,null,null,{"$f":"VLOOKUP(Y564,[1]SRA!$S$4:$Z$368,3,0)","v":37},"","",0]
["27vrND",{"$f":"VLOOKUP($AA566,DATA!$B$3:$E$6,2,0)","v":"22:30:00"},{"$f":"VLOOKUP($AA566,DATA!$B$3:$E$6,3,0)","v":"06:30:00"},{"$f":"VLOOKUP($AA566,DATA!$B$3:$E$6,4,0)","v":3.125E-2},0.30208333333333326,0.30208333333333326,{"$f":"DATA!$C$9","v":0.89},{"$f":"DATA!$C$10","v":64},1,407.81249999999989,407.81249999999989,0,"","",0,"","",0,"","","","",null,{"$f":"X562","v":27},null,{"$f":"TEXT(Y564,\"ddd\")","v":"vr"},"ND",{"$f":"IFERROR(HLOOKUP(Y564,[1]DATA!$A$1:$NB$5,5,0),\"\")","v":"D3"},null,null,null,null,{"$f":"VLOOKUP(Y564,[1]SRA!$S$4:$Z$368,4,0)","v":0},"","",""]
["27zaDD",{"$f":"VLOOKUP($AA567,DATA!$B$3:$E$6,2,0)","v":"06:30:00"},{"$f":"VLOOKUP($AA567,DATA!$B$3:$E$6,3,0)","v":"14:30:00"},{"$f":"VLOOKUP($AA567,DATA!$B$3:$E$6,4,0)","v":3.125E-2},0.30208333333333331,0.30208333333333331,{"$f":"DATA!$C$9","v":0.89},{"$f":"DATA!$C$10","v":64},1,407.8125,407.8125,0,"","",0,"","",0,"","","","",null,{"$f":"X562","v":27},"2018-07-07",{"$f":"TEXT(Y567,\"ddd\")","v":"za"},"DD",{"$f":"IFERROR(HLOOKUP(Y567,[1]DATA!$A$1:$NB$5,3,0),\"\")","v":"D2"},null,null,null,null,{"$f":"VLOOKUP(Y567,[1]SRA!$S$4:$Z$368,2,0)","v":0},"","",""]
["27zaMD",{"$f":"VLOOKUP($AA568,DATA!$B$3:$E$6,2,0)","v":"14:30:00"},{"$f":"VLOOKUP($AA568,DATA!$B$3:$E$6,3,0)","v":"22:30:00"},{"$f":"VLOOKUP($AA568,DATA!$B$3:$E$6,4,0)","v":3.125E-2},0.30208333333333337,0.30208333333333337,{"$f":"DATA!$C$9","v":0.89},{"$f":"DATA!$C$10","v":64},1,407.81250000000006,407.81250000000006,0,"","",0,"","",0,"","","","",null,{"$f":"X562","v":27},null,{"$f":"TEXT(Y567,\"ddd\")","v":"za"},"MD",{"$f":"IFERROR(HLOOKUP(Y567,[1]DATA!$A$1:$NB$5,4,0),\"\")","v":"-"},null,null,null,null,{"$f":"VLOOKUP(Y567,[1]SRA!$S$4:$Z$368,3,0)","v":0},"","",""]
["27zaND",{"$f":"VLOOKUP($AA569,DATA!$B$3:$E$6,2,0)","v":"22:30:00"},{"$f":"VLOOKUP($AA569,DATA!$B$3:$E$6,3,0)","v":"06:30:00"},{"$f":"VLOOKUP($AA569,DATA!$B$3:$E$6,4,0)","v":3.125E-2},0.30208333333333326,0.30208333333333326,{"$f":"DATA!$C$9","v":0.89},{"$f":"DATA!$C$10","v":64},1,407.81249999999989,407.81249999999989,0,"","",0,"","",0,"","","","",null,{"$f":"X562","v":27},null,{"$f":"TEXT(Y567,\"ddd\")","v":"za"},"ND",{"$f":"IFERROR(HLOOKUP(Y567,[1]DATA!$A$1:$NB$5,5,0),\"\")","v":"-"},null,null,null,null,{"$f":"VLOOKUP(Y567,[1]SRA!$S$4:$Z$368,4,0)","v":0},"","",""]
["27zoDD",{"$f":"VLOOKUP($AA570,DATA!$B$3:$E$6,2,0)","v":"06:30:00"},{"$f":"VLOOKUP($AA570,DATA!$B$3:$E$6,3,0)","v":"14:30:00"},{"$f":"VLOOKUP($AA570,DATA!$B$3:$E$6,4,0)","v":3.125E-2},0.30208333333333331,0.30208333333333331,{"$f":"DATA!$C$9","v":0.89},{"$f":"DATA!$C$10","v":64},1,407.8125,407.8125,0,"","",0,"","",0,"","","","",null,{"$f":"X562","v":27},"2018-07-08",{"$f":"TEXT(Y570,\"ddd\")","v":"zo"},"DD",{"$f":"IFERROR(HLOOKUP(Y570,[1]DATA!$A$1:$NB$5,3,0),\"\")","v":"-"},null,null,null,null,{"$f":"VLOOKUP(Y570,[1]SRA!$S$4:$Z$368,2,0)","v":0},"","",""]
["27zoMD",{"$f":"VLOOKUP($AA571,DATA!$B$3:$E$6,2,0)","v":"14:30:00"},{"$f":"VLOOKUP($AA571,DATA!$B$3:$E$6,3,0)","v":"22:30:00"},{"$f":"VLOOKUP($AA571,DATA!$B$3:$E$6,4,0)","v":3.125E-2},0.30208333333333337,0.30208333333333337,{"$f":"DATA!$C$9","v":0.89},{"$f":"DATA!$C$10","v":64},1,407.81250000000006,407.81250000000006,0,"","",0,"","",0,"","","","",null,{"$f":"X562","v":27},null,{"$f":"TEXT(Y570,\"ddd\")","v":"zo"},"MD",{"$f":"IFERROR(HLOOKUP(Y570,[1]DATA!$A$1:$NB$5,4,0),\"\")","v":"-"},null,null,null,null,{"$f":"VLOOKUP(Y570,[1]SRA!$S$4:$Z$368,3,0)","v":0},"","",""]
["27zoZND",{"$f":"VLOOKUP($AA572,DATA!$B$3:$E$6,2,0)","v":"00:00:00"},{"$f":"VLOOKUP($AA572,DATA!$B$3:$E$6,3,0)","v":"00:00:00"},{"$f":"VLOOKUP($AA572,DATA!$B$3:$E$6,4,0)","v":0},0,0,{"$f":"DATA!$C$9","v":0.89},{"$f":"DATA!$C$10","v":64},1,0,0,0,"","",0,"","",0,"","","","",null,{"$f":"X562","v":27},null,{"$f":"TEXT(Y570,\"ddd\")","v":"zo"},"ZND",{"$f":"IFERROR(HLOOKUP(Y570,[1]DATA!$A$1:$NB$5,5,0),\"\")","v":"-"},null,null,null,null,{"$f":"VLOOKUP(Y570,[1]SRA!$S$4:$Z$368,4,0)","v":0},"","",""]
["28maDD",{"$f":"VLOOKUP($AA573,DATA!$B$3:$E$6,2,0)","v":"06:30:00"},{"$f":"VLOOKUP($AA573,DATA!$B$3:$E$6,3,0)","v":"14:30:00"},{"$f":"VLOOKUP($AA573,DATA!$B$3:$E$6,4,0)","v":3.125E-2},0.30208333333333331,0.30208333333333331,{"$f":"DATA!$C$9","v":0.89},{"$f":"DATA!$C$10","v":64},1,407.8125,407.8125,0,"","",{"$f":"TIME(INT($AD573/60),INT(MOD($AD573,60)/1),0)","v":0},"","",0,"","","","",null,{"$f":"X583","v":28},"2018-07-09",{"$f":"TEXT(Y573,\"ddd\")","v":"ma"},"DD",{"$f":"IFERROR(HLOOKUP(Y573,[1]DATA!$A$1:$NB$5,3,0),\"\")","v":"D1"},null,null,null,null,{"$f":"VLOOKUP(Y573,[1]SRA!$S$4:$Z$368,2,0)","v":9},"","",0,{"$f":"IF(SUMIF(S573:S593,\">0\",K573:K593)=0,\"\",SUMIF(S573:S593,\">0\",K573:K593))","v":""},{"$f":"IF(SUM(S573:S593)=0,\"\",SUM(S573:S593))","v":""},{"$f":"IFERROR(AL573/AK573,\"-\")","v":"-"},{"$f":"IF(SUM(M573:M593)=0,\"0\",SUM(M573:M593))","v":"0"},{"$f":"IFERROR(AN573/AK573,\"-\")","v":"-"},{"$f":"IF(SUM(P573:P593)=0,0,SUM(P573:P593))","v":0},{"$f":"IFERROR(AP573/AK573,\"-\")","v":"-"},{"$f":"IFERROR(AVERAGE(AJ573:AJ593),\"-\")","v":0},{"$f":"IFERROR(SUMIF($AB573:$AB593,AS$5,$AJ573:$AJ593)/COUNTIFS($AB573:$AB593,AS$5,$AJ573:$AJ593,\">0\"),\"\")","v":""},"","",{"$f":"IFERROR((AK573-AL573-AN573-AP573),\"-\")","v":"-"},{"$f":"IFERROR((1-AM573-AO573-AQ573), \"-\")","v":"-"},{"$f":"IFERROR((AV573*$AE$2)/60,\"-\")","v":"-"},{"$f":"IFERROR(SUM(AG573:AG593),\"\")","v":231}]
["28maMD",{"$f":"VLOOKUP($AA574,DATA!$B$3:$E$6,2,0)","v":"14:30:00"},{"$f":"VLOOKUP($AA574,DATA!$B$3:$E$6,3,0)","v":"22:30:00"},{"$f":"VLOOKUP($AA574,DATA!$B$3:$E$6,4,0)","v":3.125E-2},0.30208333333333337,0.30208333333333337,{"$f":"DATA!$C$9","v":0.89},{"$f":"DATA!$C$10","v":64},1,407.81250000000006,407.81250000000006,0,"","",{"$f":"TIME(INT(AD574/60),INT(MOD(AD574,60)/1),0)","v":0},"","",0,"","","","",null,{"$f":"X583","v":28},null,{"$f":"TEXT(Y573,\"ddd\")","v":"ma"},"MD",{"$f":"IFERROR(HLOOKUP(Y573,[1]DATA!$A$1:$NB$5,4,0),\"\")","v":"D3"},null,null,null,null,{"$f":"VLOOKUP(Y573,[1]SRA!$S$4:$Z$368,3,0)","v":21},"","",0]
["28maND",{"$f":"VLOOKUP($AA575,DATA!$B$3:$E$6,2,0)","v":"22:30:00"},{"$f":"VLOOKUP($AA575,DATA!$B$3:$E$6,3,0)","v":"06:30:00"},{"$f":"VLOOKUP($AA575,DATA!$B$3:$E$6,4,0)","v":3.125E-2},0.30208333333333326,0.30208333333333326,{"$f":"DATA!$C$9","v":0.89},{"$f":"DATA!$C$10","v":64},1,407.81249999999989,407.81249999999989,0,"","",0,"","",0,"","","","",null,{"$f":"X583","v":28},null,{"$f":"TEXT(Y573,\"ddd\")","v":"ma"},"ND",{"$f":"IFERROR(HLOOKUP(Y573,[1]DATA!$A$1:$NB$5,5,0),\"\")","v":"D2"},null,null,null,null,{"$f":"VLOOKUP(Y573,[1]SRA!$S$4:$Z$368,4,0)","v":32},"","",0]
["28diDD",{"$f":"VLOOKUP($AA576,DATA!$B$3:$E$6,2,0)","v":"06:30:00"},{"$f":"VLOOKUP($AA576,DATA!$B$3:$E$6,3,0)","v":"14:30:00"},{"$f":"VLOOKUP($AA576,DATA!$B$3:$E$6,4,0)","v":3.125E-2},0.30208333333333331,0.30208333333333331,{"$f":"DATA!$C$9","v":0.89},{"$f":"DATA!$C$10","v":64},1,407.8125,407.8125,0,"","",0,"","",0,"","","","",null,{"$f":"X583","v":28},"2018-07-10",{"$f":"TEXT(Y576,\"ddd\")","v":"di"},"DD",{"$f":"IFERROR(HLOOKUP(Y576,[1]DATA!$A$1:$NB$5,3,0),\"\")","v":"D1"},null,null,null,null,{"$f":"VLOOKUP(Y576,[1]SRA!$S$4:$Z$368,2,0)","v":6},"","",0]
["28diMD",{"$f":"VLOOKUP($AA577,DATA!$B$3:$E$6,2,0)","v":"14:30:00"},{"$f":"VLOOKUP($AA577,DATA!$B$3:$E$6,3,0)","v":"22:30:00"},{"$f":"VLOOKUP($AA577,DATA!$B$3:$E$6,4,0)","v":3.125E-2},0.30208333333333337,0.30208333333333337,{"$f":"DATA!$C$9","v":0.89},{"$f":"DATA!$C$10","v":64},1,407.81250000000006,407.81250000000006,0,"","",0,"","",0,"","","","",null,{"$f":"X583","v":28},null,{"$f":"TEXT(Y576,\"ddd\")","v":"di"},"MD",{"$f":"IFERROR(HLOOKUP(Y576,[1]DATA!$A$1:$NB$5,4,0),\"\")","v":"D3"},null,null,null,null,{"$f":"VLOOKUP(Y576,[1]SRA!$S$4:$Z$368,3,0)","v":4},"","",0]
["28diND",{"$f":"VLOOKUP($AA578,DATA!$B$3:$E$6,2,0)","v":"22:30:00"},{"$f":"VLOOKUP($AA578,DATA!$B$3:$E$6,3,0)","v":"06:30:00"},{"$f":"VLOOKUP($AA578,DATA!$B$3:$E$6,4,0)","v":3.125E-2},0.30208333333333326,0.30208333333333326,{"$f":"DATA!$C$9","v":0.89},{"$f":"DATA!$C$10","v":64},1,407.81249999999989,407.81249999999989,0,"","",0,"","",0,"","","","",null,{"$f":"X583","v":28},null,{"$f":"TEXT(Y576,\"ddd\")","v":"di"},"ND",{"$f":"IFERROR(HLOOKUP(Y576,[1]DATA!$A$1:$NB$5,5,0),\"\")","v":"D2"},null,null,null,null,{"$f":"VLOOKUP(Y576,[1]SRA!$S$4:$Z$368,4,0)","v":62},"","",0]
["28woDD",{"$f":"VLOOKUP($AA579,DATA!$B$3:$E$6,2,0)","v":"06:30:00"},{"$f":"VLOOKUP($AA579,DATA!$B$3:$E$6,3,0)","v":"14:30:00"},{"$f":"VLOOKUP($AA579,DATA!$B$3:$E$6,4,0)","v":3.125E-2},0.30208333333333331,0.30208333333333331,{"$f":"DATA!$C$9","v":0.89},{"$f":"DATA!$C$10","v":64},1,407.8125,407.8125,0,"","",0,"","",0,"","","","",null,{"$f":"X583","v":28},"2018-07-11",{"$f":"TEXT(Y579,\"ddd\")","v":"wo"},"DD",{"$f":"IFERROR(HLOOKUP(Y579,[1]DATA!$A$1:$NB$5,3,0),\"\")","v":"D1"},null,null,null,null,{"$f":"VLOOKUP(Y579,[1]SRA!$S$4:$Z$368,2,0)","v":20},"","",0]
["28woMD",{"$f":"VLOOKUP($AA580,DATA!$B$3:$E$6,2,0)","v":"14:30:00"},{"$f":"VLOOKUP($AA580,DATA!$B$3:$E$6,3,0)","v":"22:30:00"},{"$f":"VLOOKUP($AA580,DATA!$B$3:$E$6,4,0)","v":3.125E-2},0.30208333333333337,0.30208333333333337,{"$f":"DATA!$C$9","v":0.89},{"$f":"DATA!$C$10","v":64},1,407.81250000000006,407.81250000000006,0,"","",0,"","",0,"","","","",null,{"$f":"X583","v":28},null,{"$f":"TEXT(Y579,\"ddd\")","v":"wo"},"MD",{"$f":"IFERROR(HLOOKUP(Y579,[1]DATA!$A$1:$NB$5,4,0),\"\")","v":"D3"},null,null,null,null,{"$f":"VLOOKUP(Y579,[1]SRA!$S$4:$Z$368,3,0)","v":30},"","",0]
["28woND",{"$f":"VLOOKUP($AA581,DATA!$B$3:$E$6,2,0)","v":"22:30:00"},{"$f":"VLOOKUP($AA581,DATA!$B$3:$E$6,3,0)","v":"06:30:00"},{"$f":"VLOOKUP($AA581,DATA!$B$3:$E$6,4,0)","v":3.125E-2},0.30208333333333326,0.30208333333333326,{"$f":"DATA!$C$9","v":0.89},{"$f":"DATA!$C$10","v":64},1,407.81249999999989,407.81249999999989,0,"","",0,"","",0,"","","","",null,{"$f":"X583","v":28},null,{"$f":"TEXT(Y579,\"ddd\")","v":"wo"},"ND",{"$f":"IFERROR(HLOOKUP(Y579,[1]DATA!$A$1:$NB$5,5,0),\"\")","v":"D2"},null,null,null,null,{"$f":"VLOOKUP(Y579,[1]SRA!$S$4:$Z$368,4,0)","v":2},"","",0]
["28doDD",{"$f":"VLOOKUP($AA582,DATA!$B$3:$E$6,2,0)","v":"06:30:00"},{"$f":"VLOOKUP($AA582,DATA!$B$3:$E$6,3,0)","v":"14:30:00"},{"$f":"VLOOKUP($AA582,DATA!$B$3:$E$6,4,0)","v":3.125E-2},0.30208333333333331,0.30208333333333331,{"$f":"DATA!$C$9","v":0.89},{"$f":"DATA!$C$10","v":64},1,{"$f":"F582*86400/H582*I582","v":407.8125},{"$f":"E582*86400/H582","v":407.8125},0,"","",0,"","",{"$f":"AF582*AG$2","v":0},{"$f":"IF(AF582-AE582=0,\"\",AF582-AE582)","v":""},"","","",null,{"$f":"X583","v":28},"2018-07-12",{"$f":"TEXT(Y582,\"ddd\")","v":"do"},"DD",{"$f":"IFERROR(HLOOKUP(Y582,[1]DATA!$A$1:$NB$5,3,0),\"\")","v":"D1"},null,null,null,null,{"$f":"VLOOKUP(Y582,[1]SRA!$S$4:$Z$368,2,0)","v":11},{"$f":"IFERROR(S582-J582,\"\")","v":""},{"$f":"IFERROR(IF(S582/(E582*86400/H582)<=0,\"\",S582/(E582*86400/H582)),\"\")","v":""},0]
["28doMD",{"$f":"VLOOKUP($AA583,DATA!$B$3:$E$6,2,0)","v":"14:30:00"},{"$f":"VLOOKUP($AA583,DATA!$B$3:$E$6,3,0)","v":"22:30:00"},{"$f":"VLOOKUP($AA583,DATA!$B$3:$E$6,4,0)","v":3.125E-2},0.30208333333333337,0.30208333333333337,{"$f":"DATA!$C$9","v":0.89},{"$f":"DATA!$C$10","v":64},1,407.81250000000006,407.81250000000006,{"$f":"TIME(INT($AC583/60),INT(MOD($AC583,60)/1),0)","v":0},{"$f":"IF($L583*86400/$H583=0,\"\",$L583*86400/$H583)","v":""},{"$f":"IFERROR($M583/$K583,\"\")","v":""},0,"",{"$f":"IFERROR($P583/$K583,\"\")","v":""},0,"",{"$f":"IF(IF($AB583=\"D1\",$S583,\"\")=0,\"\",IF($AB583=\"D1\",$S583,\"\"))","v":""},{"$f":"IF(IF($AB583=\"D2\",$S583,\"\")=0,\"\",IF($AB583=\"D2\",$S583,\"\"))","v":""},{"$f":"IF(IF($AB583=\"D3\",$S583,\"\")=0,\"\",IF($AB583=\"D3\",$S583,\"\"))","v":""},null,{"$f":"WEEKNUM($Y573)","v":28},null,{"$f":"TEXT(Y582,\"ddd\")","v":"do"},"MD",{"$f":"IFERROR(HLOOKUP(Y582,[1]DATA!$A$1:$NB$5,4,0),\"\")","v":"D3"},null,null,null,null,{"$f":"VLOOKUP(Y582,[1]SRA!$S$4:$Z$368,3,0)","v":34},"","",0]
["28doND",{"$f":"VLOOKUP($AA584,DATA!$B$3:$E$6,2,0)","v":"22:30:00"},{"$f":"VLOOKUP($AA584,DATA!$B$3:$E$6,3,0)","v":"06:30:00"},{"$f":"VLOOKUP($AA584,DATA!$B$3:$E$6,4,0)","v":3.125E-2},0.30208333333333326,0.30208333333333326,{"$f":"DATA!$C$9","v":0.89},{"$f":"DATA!$C$10","v":64},1,407.81249999999989,407.81249999999989,0,"","",0,"","",0,"","","","",null,{"$f":"X583","v":28},null,{"$f":"TEXT(Y582,\"ddd\")","v":"do"},"ND",{"$f":"IFERROR(HLOOKUP(Y582,[1]DATA!$A$1:$NB$5,5,0),\"\")","v":"D2"},null,null,null,null,{"$f":"VLOOKUP(Y582,[1]SRA!$S$4:$Z$368,4,0)","v":0},"","",""]
["28vrDD",{"$f":"VLOOKUP($AA585,DATA!$B$3:$E$6,2,0)","v":"06:30:00"},{"$f":"VLOOKUP($AA585,DATA!$B$3:$E$6,3,0)","v":"14:30:00"},{"$f":"VLOOKUP($AA585,DATA!$B$3:$E$6,4,0)","v":3.125E-2},0.30208333333333331,0.30208333333333331,{"$f":"DATA!$C$9","v":0.89},{"$f":"DATA!$C$10","v":64},1,407.8125,407.8125,0,"","",0,"","",0,"","","","",null,{"$f":"X583","v":28},"2018-07-13",{"$f":"TEXT(Y585,\"ddd\")","v":"vr"},"DD",{"$f":"IFERROR(HLOOKUP(Y585,[1]DATA!$A$1:$NB$5,3,0),\"\")","v":"D1"},null,null,null,null,{"$f":"VLOOKUP(Y585,[1]SRA!$S$4:$Z$368,2,0)","v":0},"","",""]
["28vrMD",{"$f":"VLOOKUP($AA586,DATA!$B$3:$E$6,2,0)","v":"14:30:00"},{"$f":"VLOOKUP($AA586,DATA!$B$3:$E$6,3,0)","v":"22:30:00"},{"$f":"VLOOKUP($AA586,DATA!$B$3:$E$6,4,0)","v":3.125E-2},0.30208333333333337,0.30208333333333337,{"$f":"DATA!$C$9","v":0.89},{"$f":"DATA!$C$10","v":64},1,407.81250000000006,407.81250000000006,0,"","",0,"","",0,"","","","",null,{"$f":"X583","v":28},null,{"$f":"TEXT(Y585,\"ddd\")","v":"vr"},"MD",{"$f":"IFERROR(HLOOKUP(Y585,[1]DATA!$A$1:$NB$5,4,0),\"\")","v":"D3"},null,null,null,null,{"$f":"VLOOKUP(Y585,[1]SRA!$S$4:$Z$368,3,0)","v":0},"","",""]
["28vrND",{"$f":"VLOOKUP($AA587,DATA!$B$3:$E$6,2,0)","v":"22:30:00"},{"$f":"VLOOKUP($AA587,DATA!$B$3:$E$6,3,0)","v":"06:30:00"},{"$f":"VLOOKUP($AA587,DATA!$B$3:$E$6,4,0)","v":3.125E-2},0.30208333333333326,0.30208333333333326,{"$f":"DATA!$C$9","v":0.89},{"$f":"DATA!$C$10","v":64},1,407.81249999999989,407.81249999999989,0,"","",0,"","",0,"","","","",null,{"$f":"X583","v":28},null,{"$f":"TEXT(Y585,\"ddd\")","v":"vr"},"ND",{"$f":"IFERROR(HLOOKUP(Y585,[1]DATA!$A$1:$NB$5,5,0),\"\")","v":"D2"},null,null,null,null,{"$f":"VLOOKUP(Y585,[1]SRA!$S$4:$Z$368,4,0)","v":0},"","",""]
["28zaDD",{"$f":"VLOOKUP($AA588,DATA!$B$3:$E$6,2,0)","v":"06:30:00"},{"$f":"VLOOKUP($AA588,DATA!$B$3:$E$6,3,0)","v":"14:30:00"},{"$f":"VLOOKUP($AA588,DATA!$B$3:$E$6,4,0)","v":3.125E-2},0.30208333333333331,0.30208333333333331,{"$f":"DATA!$C$9","v":0.89},{"$f":"DATA!$C$10","v":64},1,407.8125,407.8125,0,"","",0,"","",0,"","","","",null,{"$f":"X583","v":28},"2018-07-14",{"$f":"TEXT(Y588,\"ddd\")","v":"za"},"DD",{"$f":"IFERROR(HLOOKUP(Y588,[1]DATA!$A$1:$NB$5,3,0),\"\")","v":"D1"},null,null,null,null,{"$f":"VLOOKUP(Y588,[1]SRA!$S$4:$Z$368,2,0)","v":0},"","",""]
["28zaMD",{"$f":"VLOOKUP($AA589,DATA!$B$3:$E$6,2,0)","v":"14:30:00"},{"$f":"VLOOKUP($AA589,DATA!$B$3:$E$6,3,0)","v":"22:30:00"},{"$f":"VLOOKUP($AA589,DATA!$B$3:$E$6,4,0)","v":3.125E-2},0.30208333333333337,0.30208333333333337,{"$f":"DATA!$C$9","v":0.89},{"$f":"DATA!$C$10","v":64},1,407.81250000000006,407.81250000000006,0,"","",0,"","",0,"","","","",null,{"$f":"X583","v":28},null,{"$f":"TEXT(Y588,\"ddd\")","v":"za"},"MD",{"$f":"IFERROR(HLOOKUP(Y588,[1]DATA!$A$1:$NB$5,4,0),\"\")","v":"-"},null,null,null,null,{"$f":"VLOOKUP(Y588,[1]SRA!$S$4:$Z$368,3,0)","v":0},"","",""]
["28zaND",{"$f":"VLOOKUP($AA590,DATA!$B$3:$E$6,2,0)","v":"22:30:00"},{"$f":"VLOOKUP($AA590,DATA!$B$3:$E$6,3,0)","v":"06:30:00"},{"$f":"VLOOKUP($AA590,DATA!$B$3:$E$6,4,0)","v":3.125E-2},0.30208333333333326,0.30208333333333326,{"$f":"DATA!$C$9","v":0.89},{"$f":"DATA!$C$10","v":64},1,407.81249999999989,407.81249999999989,0,"","",0,"","",0,"","","","",null,{"$f":"X583","v":28},null,{"$f":"TEXT(Y588,\"ddd\")","v":"za"},"ND",{"$f":"IFERROR(HLOOKUP(Y588,[1]DATA!$A$1:$NB$5,5,0),\"\")","v":"-"},null,null,null,null,{"$f":"VLOOKUP(Y588,[1]SRA!$S$4:$Z$368,4,0)","v":0},"","",""]
["28zoDD",{"$f":"VLOOKUP($AA591,DATA!$B$3:$E$6,2,0)","v":"06:30:00"},{"$f":"VLOOKUP($AA591,DATA!$B$3:$E$6,3,0)","v":"14:30:00"},{"$f":"VLOOKUP($AA591,DATA!$B$3:$E$6,4,0)","v":3.125E-2},0.30208333333333331,0.30208333333333331,{"$f":"DATA!$C$9","v":0.89},{"$f":"DATA!$C$10","v":64},1,407.8125,407.8125,0,"","",0,"","",0,"","","","",null,{"$f":"X583","v":28},"2018-07-15",{"$f":"TEXT(Y591,\"ddd\")","v":"zo"},"DD",{"$f":"IFERROR(HLOOKUP(Y591,[1]DATA!$A$1:$NB$5,3,0),\"\")","v":"-"},null,null,null,null,{"$f":"VLOOKUP(Y591,[1]SRA!$S$4:$Z$368,2,0)","v":0},"","",""]
["28zoMD",{"$f":"VLOOKUP($AA592,DATA!$B$3:$E$6,2,0)","v":"14:30:00"},{"$f":"VLOOKUP($AA592,DATA!$B$3:$E$6,3,0)","v":"22:30:00"},{"$f":"VLOOKUP($AA592,DATA!$B$3:$E$6,4,0)","v":3.125E-2},0.30208333333333337,0.30208333333333337,{"$f":"DATA!$C$9","v":0.89},{"$f":"DATA!$C$10","v":64},1,407.81250000000006,407.81250000000006,0,"","",0,"","",0,"","","","",null,{"$f":"X583","v":28},null,{"$f":"TEXT(Y591,\"ddd\")","v":"zo"},"MD",{"$f":"IFERROR(HLOOKUP(Y591,[1]DATA!$A$1:$NB$5,4,0),\"\")","v":"-"},null,null,null,null,{"$f":"VLOOKUP(Y591,[1]SRA!$S$4:$Z$368,3,0)","v":0},"","",""]
["28zoZND",{"$f":"VLOOKUP($AA593,DATA!$B$3:$E$6,2,0)","v":"00:00:00"},{"$f":"VLOOKUP($AA593,DATA!$B$3:$E$6,3,0)","v":"00:00:00"},{"$f":"VLOOKUP($AA593,DATA!$B$3:$E$6,4,0)","v":0},0,0,{"$f":"DATA!$C$9","v":0.89},{"$f":"DATA!$C$10","v":64},1,0,0,0,"","",0,"","",0,"","","","",null,{"$f":"X583","v":28},null,{"$f":"TEXT(Y591,\"ddd\")","v":"zo"},"ZND",{"$f":"IFERROR(HLOOKUP(Y591,[1]DATA!$A$1:$NB$5,5,0),\"\")","v":"-"},null,null,null,null,{"$f":"VLOOKUP(Y591,[1]SRA!$S$4:$Z$368,4,0)","v":0},"","",""]
["29maDD",{"$f":"VLOOKUP($AA594,DATA!$B$3:$E$6,2,0)","v":"06:30:00"},{"$f":"VLOOKUP($AA594,DATA!$B$3:$E$6,3,0)","v":"14:30:00"},{"$f":"VLOOKUP($AA594,DATA!$B$3:$E$6,4,0)","v":3.125E-2},0.30208333333333331,0.30208333333333331,{"$f":"DATA!$C$9","v":0.89},{"$f":"DATA!$C$10","v":64},1,407.8125,407.8125,0,"","",{"$f":"TIME(INT($AD594/60),INT(MOD($AD594,60)/1),0)","v":0},"","",0,"","","","",null,{"$f":"X604","v":29},"2018-07-16",{"$f":"TEXT(Y594,\"ddd\")","v":"ma"},"DD",{"$f":"IFERROR(HLOOKUP(Y594,[1]DATA!$A$1:$NB$5,3,0),\"\")","v":"D3"},null,null,null,null,{"$f":"VLOOKUP(Y594,[1]SRA!$S$4:$Z$368,2,0)","v":6},"","",0,{"$f":"IF(SUMIF(S594:S614,\">0\",K594:K614)=0,\"\",SUMIF(S594:S614,\">0\",K594:K614))","v":""},{"$f":"IF(SUM(S594:S614)=0,\"\",SUM(S594:S614))","v":""},{"$f":"IFERROR(AL594/AK594,\"-\")","v":"-"},{"$f":"IF(SUM(M594:M614)=0,\"0\",SUM(M594:M614))","v":"0"},{"$f":"IFERROR(AN594/AK594,\"-\")","v":"-"},{"$f":"IF(SUM(P594:P614)=0,0,SUM(P594:P614))","v":0},{"$f":"IFERROR(AP594/AK594,\"-\")","v":"-"},{"$f":"IFERROR(AVERAGE(AJ594:AJ614),\"-\")","v":0},{"$f":"IFERROR(SUMIF($AB594:$AB614,AS$5,$AJ594:$AJ614)/COUNTIFS($AB594:$AB614,AS$5,$AJ594:$AJ614,\">0\"),\"\")","v":""},"","",{"$f":"IFERROR((AK594-AL594-AN594-AP594),\"-\")","v":"-"},{"$f":"IFERROR((1-AM594-AO594-AQ594), \"-\")","v":"-"},{"$f":"IFERROR((AV594*$AE$2)/60,\"-\")","v":"-"},{"$f":"IFERROR(SUM(AG594:AG614),\"\")","v":136}]
["29maMD",{"$f":"VLOOKUP($AA595,DATA!$B$3:$E$6,2,0)","v":"14:30:00"},{"$f":"VLOOKUP($AA595,DATA!$B$3:$E$6,3,0)","v":"22:30:00"},{"$f":"VLOOKUP($AA595,DATA!$B$3:$E$6,4,0)","v":3.125E-2},0.30208333333333337,0.30208333333333337,{"$f":"DATA!$C$9","v":0.89},{"$f":"DATA!$C$10","v":64},1,407.81250000000006,407.81250000000006,0,"","",{"$f":"TIME(INT(AD595/60),INT(MOD(AD595,60)/1),0)","v":0},"","",0,"","","","",null,{"$f":"X604","v":29},null,{"$f":"TEXT(Y594,\"ddd\")","v":"ma"},"MD",{"$f":"IFERROR(HLOOKUP(Y594,[1]DATA!$A$1:$NB$5,4,0),\"\")","v":"D2"},null,null,null,null,{"$f":"VLOOKUP(Y594,[1]SRA!$S$4:$Z$368,3,0)","v":12},"","",0]
["29maND",{"$f":"VLOOKUP($AA596,DATA!$B$3:$E$6,2,0)","v":"22:30:00"},{"$f":"VLOOKUP($AA596,DATA!$B$3:$E$6,3,0)","v":"06:30:00"},{"$f":"VLOOKUP($AA596,DATA!$B$3:$E$6,4,0)","v":3.125E-2},0.30208333333333326,0.30208333333333326,{"$f":"DATA!$C$9","v":0.89},{"$f":"DATA!$C$10","v":64},1,407.81249999999989,407.81249999999989,0,"","",0,"","",0,"","","","",null,{"$f":"X604","v":29},null,{"$f":"TEXT(Y594,\"ddd\")","v":"ma"},"ND",{"$f":"IFERROR(HLOOKUP(Y594,[1]DATA!$A$1:$NB$5,5,0),\"\")","v":"D1"},null,null,null,null,{"$f":"VLOOKUP(Y594,[1]SRA!$S$4:$Z$368,4,0)","v":2},"","",0]
["29diDD",{"$f":"VLOOKUP($AA597,DATA!$B$3:$E$6,2,0)","v":"06:30:00"},{"$f":"VLOOKUP($AA597,DATA!$B$3:$E$6,3,0)","v":"14:30:00"},{"$f":"VLOOKUP($AA597,DATA!$B$3:$E$6,4,0)","v":3.125E-2},0.30208333333333331,0.30208333333333331,{"$f":"DATA!$C$9","v":0.89},{"$f":"DATA!$C$10","v":64},1,407.8125,407.8125,0,"","",0,"","",0,"","","","",null,{"$f":"X604","v":29},"2018-07-17",{"$f":"TEXT(Y597,\"ddd\")","v":"di"},"DD",{"$f":"IFERROR(HLOOKUP(Y597,[1]DATA!$A$1:$NB$5,3,0),\"\")","v":"D3"},null,null,null,null,{"$f":"VLOOKUP(Y597,[1]SRA!$S$4:$Z$368,2,0)","v":0},"","",""]
["29diMD",{"$f":"VLOOKUP($AA598,DATA!$B$3:$E$6,2,0)","v":"14:30:00"},{"$f":"VLOOKUP($AA598,DATA!$B$3:$E$6,3,0)","v":"22:30:00"},{"$f":"VLOOKUP($AA598,DATA!$B$3:$E$6,4,0)","v":3.125E-2},0.30208333333333337,0.30208333333333337,{"$f":"DATA!$C$9","v":0.89},{"$f":"DATA!$C$10","v":64},1,407.81250000000006,407.81250000000006,0,"","",0,"","",0,"","","","",null,{"$f":"X604","v":29},null,{"$f":"TEXT(Y597,\"ddd\")","v":"di"},"MD",{"$f":"IFERROR(HLOOKUP(Y597,[1]DATA!$A$1:$NB$5,4,0),\"\")","v":"D2"},null,null,null,null,{"$f":"VLOOKUP(Y597,[1]SRA!$S$4:$Z$368,3,0)","v":23},"","",0]
["29diND",{"$f":"VLOOKUP($AA599,DATA!$B$3:$E$6,2,0)","v":"22:30:00"},{"$f":"VLOOKUP($AA599,DATA!$B$3:$E$6,3,0)","v":"06:30:00"},{"$f":"VLOOKUP($AA599,DATA!$B$3:$E$6,4,0)","v":3.125E-2},0.30208333333333326,0.30208333333333326,{"$f":"DATA!$C$9","v":0.89},{"$f":"DATA!$C$10","v":64},1,407.81249999999989,407.81249999999989,0,"","",0,"","",0,"","","","",null,{"$f":"X604","v":29},null,{"$f":"TEXT(Y597,\"ddd\")","v":"di"},"ND",{"$f":"IFERROR(HLOOKUP(Y597,[1]DATA!$A$1:$NB$5,5,0),\"\")","v":"D1"},null,null,null,null,{"$f":"VLOOKUP(Y597,[1]SRA!$S$4:$Z$368,4,0)","v":29},"","",0]
["29woDD",{"$f":"VLOOKUP($AA600,DATA!$B$3:$E$6,2,0)","v":"06:30:00"},{"$f":"VLOOKUP($AA600,DATA!$B$3:$E$6,3,0)","v":"14:30:00"},{"$f":"VLOOKUP($AA600,DATA!$B$3:$E$6,4,0)","v":3.125E-2},0.30208333333333331,0.30208333333333331,{"$f":"DATA!$C$9","v":0.89},{"$f":"DATA!$C$10","v":64},1,407.8125,407.8125,0,"","",0,"","",0,"","","","",null,{"$f":"X604","v":29},"2018-07-18",{"$f":"TEXT(Y600,\"ddd\")","v":"wo"},"DD",{"$f":"IFERROR(HLOOKUP(Y600,[1]DATA!$A$1:$NB$5,3,0),\"\")","v":"D3"},null,null,null,null,{"$f":"VLOOKUP(Y600,[1]SRA!$S$4:$Z$368,2,0)","v":48},"","",0]
["29woMD",{"$f":"VLOOKUP($AA601,DATA!$B$3:$E$6,2,0)","v":"14:30:00"},{"$f":"VLOOKUP($AA601,DATA!$B$3:$E$6,3,0)","v":"22:30:00"},{"$f":"VLOOKUP($AA601,DATA!$B$3:$E$6,4,0)","v":3.125E-2},0.30208333333333337,0.30208333333333337,{"$f":"DATA!$C$9","v":0.89},{"$f":"DATA!$C$10","v":64},1,407.81250000000006,407.81250000000006,0,"","",0,"","",0,"","","","",null,{"$f":"X604","v":29},null,{"$f":"TEXT(Y600,\"ddd\")","v":"wo"},"MD",{"$f":"IFERROR(HLOOKUP(Y600,[1]DATA!$A$1:$NB$5,4,0),\"\")","v":"D2"},null,null,null,null,{"$f":"VLOOKUP(Y600,[1]SRA!$S$4:$Z$368,3,0)","v":16},"","",0]
["29woND",{"$f":"VLOOKUP($AA602,DATA!$B$3:$E$6,2,0)","v":"22:30:00"},{"$f":"VLOOKUP($AA602,DATA!$B$3:$E$6,3,0)","v":"06:30:00"},{"$f":"VLOOKUP($AA602,DATA!$B$3:$E$6,4,0)","v":3.125E-2},0.30208333333333326,0.30208333333333326,{"$f":"DATA!$C$9","v":0.89},{"$f":"DATA!$C$10","v":64},1,407.81249999999989,407.81249999999989,0,"","",0,"","",0,"","","","",null,{"$f":"X604","v":29},null,{"$f":"TEXT(Y600,\"ddd\")","v":"wo"},"ND",{"$f":"IFERROR(HLOOKUP(Y600,[1]DATA!$A$1:$NB$5,5,0),\"\")","v":"D1"},null,null,null,null,{"$f":"VLOOKUP(Y600,[1]SRA!$S$4:$Z$368,4,0)","v":0},"","",""]
["29doDD",{"$f":"VLOOKUP($AA603,DATA!$B$3:$E$6,2,0)","v":"06:30:00"},{"$f":"VLOOKUP($AA603,DATA!$B$3:$E$6,3,0)","v":"14:30:00"},{"$f":"VLOOKUP($AA603,DATA!$B$3:$E$6,4,0)","v":3.125E-2},0.30208333333333331,0.30208333333333331,{"$f":"DATA!$C$9","v":0.89},{"$f":"DATA!$C$10","v":64},1,407.8125,407.8125,0,"","",0,"","",0,"","","","",null,{"$f":"X604","v":29},"2018-07-19",{"$f":"TEXT(Y603,\"ddd\")","v":"do"},"DD",{"$f":"IFERROR(HLOOKUP(Y603,[1]DATA!$A$1:$NB$5,3,0),\"\")","v":"D3"},null,null,null,null,{"$f":"VLOOKUP(Y603,[1]SRA!$S$4:$Z$368,2,0)","v":0},"","",{"$f":"IFERROR(R603/(R603+AG603),\"\")","v":""}]
["29doMD",{"$f":"VLOOKUP($AA604,DATA!$B$3:$E$6,2,0)","v":"14:30:00"},{"$f":"VLOOKUP($AA604,DATA!$B$3:$E$6,3,0)","v":"22:30:00"},{"$f":"VLOOKUP($AA604,DATA!$B$3:$E$6,4,0)","v":3.125E-2},{"$f":"(C604-B604+(B604>C604))-D604","v":0.30208333333333337},{"$f":"E604-O604-L604","v":0.30208333333333337},{"$f":"DATA!$C$9","v":0.89},{"$f":"DATA!$C$10","v":64},1,407.81250000000006,407.81250000000006,0,"","",0,"","",0,"","","","",null,{"$f":"WEEKNUM($Y594)","v":29},null,{"$f":"TEXT(Y603,\"ddd\")","v":"do"},"MD",{"$f":"IFERROR(HLOOKUP(Y603,[1]DATA!$A$1:$NB$5,4,0),\"\")","v":"D2"},null,null,null,null,{"$f":"VLOOKUP(Y603,[1]SRA!$S$4:$Z$368,3,0)","v":0},"","",""]
["29doND",{"$f":"VLOOKUP($AA605,DATA!$B$3:$E$6,2,0)","v":"22:30:00"},{"$f":"VLOOKUP($AA605,DATA!$B$3:$E$6,3,0)","v":"06:30:00"},{"$f":"VLOOKUP($AA605,DATA!$B$3:$E$6,4,0)","v":3.125E-2},0.30208333333333326,0.30208333333333326,{"$f":"DATA!$C$9","v":0.89},{"$f":"DATA!$C$10","v":64},1,407.81249999999989,407.81249999999989,0,"","",0,"","",0,"","","","",null,{"$f":"X604","v":29},null,{"$f":"TEXT(Y603,\"ddd\")","v":"do"},"ND",{"$f":"IFERROR(HLOOKUP(Y603,[1]DATA!$A$1:$NB$5,5,0),\"\")","v":"D1"},null,null,null,null,{"$f":"VLOOKUP(Y603,[1]SRA!$S$4:$Z$368,4,0)","v":0},"","",""]
["29vrDD",{"$f":"VLOOKUP($AA606,DATA!$B$3:$E$6,2,0)","v":"06:30:00"},{"$f":"VLOOKUP($AA606,DATA!$B$3:$E$6,3,0)","v":"14:30:00"},{"$f":"VLOOKUP($AA606,DATA!$B$3:$E$6,4,0)","v":3.125E-2},0.30208333333333331,0.30208333333333331,{"$f":"DATA!$C$9","v":0.89},{"$f":"DATA!$C$10","v":64},1,407.8125,407.8125,0,"","",0,"","",0,"","","","",null,{"$f":"X604","v":29},"2018-07-20",{"$f":"TEXT(Y606,\"ddd\")","v":"vr"},"DD",{"$f":"IFERROR(HLOOKUP(Y606,[1]DATA!$A$1:$NB$5,3,0),\"\")","v":"D3"},null,null,null,null,{"$f":"VLOOKUP(Y606,[1]SRA!$S$4:$Z$368,2,0)","v":0},"","",""]
["29vrMD",{"$f":"VLOOKUP($AA607,DATA!$B$3:$E$6,2,0)","v":"14:30:00"},{"$f":"VLOOKUP($AA607,DATA!$B$3:$E$6,3,0)","v":"22:30:00"},{"$f":"VLOOKUP($AA607,DATA!$B$3:$E$6,4,0)","v":3.125E-2},0.30208333333333337,0.30208333333333337,{"$f":"DATA!$C$9","v":0.89},{"$f":"DATA!$C$10","v":64},1,407.81250000000006,407.81250000000006,0,"","",0,"","",0,"","","","",null,{"$f":"X604","v":29},null,{"$f":"TEXT(Y606,\"ddd\")","v":"vr"},"MD",{"$f":"IFERROR(HLOOKUP(Y606,[1]DATA!$A$1:$NB$5,4,0),\"\")","v":"D2"},null,null,null,null,{"$f":"VLOOKUP(Y606,[1]SRA!$S$4:$Z$368,3,0)","v":0},"","",""]
["29vrND",{"$f":"VLOOKUP($AA608,DATA!$B$3:$E$6,2,0)","v":"22:30:00"},{"$f":"VLOOKUP($AA608,DATA!$B$3:$E$6,3,0)","v":"06:30:00"},{"$f":"VLOOKUP($AA608,DATA!$B$3:$E$6,4,0)","v":3.125E-2},0.30208333333333326,0.30208333333333326,{"$f":"DATA!$C$9","v":0.89},{"$f":"DATA!$C$10","v":64},1,407.81249999999989,407.81249999999989,0,"","",0,"","",0,"","","","",null,{"$f":"X604","v":29},null,{"$f":"TEXT(Y606,\"ddd\")","v":"vr"},"ND",{"$f":"IFERROR(HLOOKUP(Y606,[1]DATA!$A$1:$NB$5,5,0),\"\")","v":"D2"},null,null,null,null,{"$f":"VLOOKUP(Y606,[1]SRA!$S$4:$Z$368,4,0)","v":0},"","",""]
["29zaDD",{"$f":"VLOOKUP($AA609,DATA!$B$3:$E$6,2,0)","v":"06:30:00"},{"$f":"VLOOKUP($AA609,DATA!$B$3:$E$6,3,0)","v":"14:30:00"},{"$f":"VLOOKUP($AA609,DATA!$B$3:$E$6,4,0)","v":3.125E-2},0.30208333333333331,0.30208333333333331,{"$f":"DATA!$C$9","v":0.89},{"$f":"DATA!$C$10","v":64},1,407.8125,407.8125,0,"","",0,"","",0,"","","","",null,{"$f":"X604","v":29},"2018-07-21",{"$f":"TEXT(Y609,\"ddd\")","v":"za"},"DD",{"$f":"IFERROR(HLOOKUP(Y609,[1]DATA!$A$1:$NB$5,3,0),\"\")","v":"D3"},null,null,null,null,{"$f":"VLOOKUP(Y609,[1]SRA!$S$4:$Z$368,2,0)","v":0},"","",""]
["29zaMD",{"$f":"VLOOKUP($AA610,DATA!$B$3:$E$6,2,0)","v":"14:30:00"},{"$f":"VLOOKUP($AA610,DATA!$B$3:$E$6,3,0)","v":"22:30:00"},{"$f":"VLOOKUP($AA610,DATA!$B$3:$E$6,4,0)","v":3.125E-2},0.30208333333333337,0.30208333333333337,{"$f":"DATA!$C$9","v":0.89},{"$f":"DATA!$C$10","v":64},1,407.81250000000006,407.81250000000006,0,"","",0,"","",0,"","","","",null,{"$f":"X604","v":29},null,{"$f":"TEXT(Y609,\"ddd\")","v":"za"},"MD",{"$f":"IFERROR(HLOOKUP(Y609,[1]DATA!$A$1:$NB$5,4,0),\"\")","v":"-"},null,null,null,null,{"$f":"VLOOKUP(Y609,[1]SRA!$S$4:$Z$368,3,0)","v":0},"","",""]
["29zaND",{"$f":"VLOOKUP($AA611,DATA!$B$3:$E$6,2,0)","v":"22:30:00"},{"$f":"VLOOKUP($AA611,DATA!$B$3:$E$6,3,0)","v":"06:30:00"},{"$f":"VLOOKUP($AA611,DATA!$B$3:$E$6,4,0)","v":3.125E-2},0.30208333333333326,0.30208333333333326,{"$f":"DATA!$C$9","v":0.89},{"$f":"DATA!$C$10","v":64},1,407.81249999999989,407.81249999999989,0,"","",0,"","",0,"","","","",null,{"$f":"X604","v":29},null,{"$f":"TEXT(Y609,\"ddd\")","v":"za"},"ND",{"$f":"IFERROR(HLOOKUP(Y609,[1]DATA!$A$1:$NB$5,5,0),\"\")","v":"-"},null,null,null,null,{"$f":"VLOOKUP(Y609,[1]SRA!$S$4:$Z$368,4,0)","v":0},"","",""]
["29zoDD",{"$f":"VLOOKUP($AA612,DATA!$B$3:$E$6,2,0)","v":"06:30:00"},{"$f":"VLOOKUP($AA612,DATA!$B$3:$E$6,3,0)","v":"14:30:00"},{"$f":"VLOOKUP($AA612,DATA!$B$3:$E$6,4,0)","v":3.125E-2},0.30208333333333331,0.30208333333333331,{"$f":"DATA!$C$9","v":0.89},{"$f":"DATA!$C$10","v":64},1,407.8125,407.8125,0,"","",0,"","",0,"","","","",null,{"$f":"X604","v":29},"2018-07-22",{"$f":"TEXT(Y612,\"ddd\")","v":"zo"},"DD",{"$f":"IFERROR(HLOOKUP(Y612,[1]DATA!$A$1:$NB$5,3,0),\"\")","v":"-"},null,null,null,null,{"$f":"VLOOKUP(Y612,[1]SRA!$S$4:$Z$368,2,0)","v":0},"","",""]
["29zoMD",{"$f":"VLOOKUP($AA613,DATA!$B$3:$E$6,2,0)","v":"14:30:00"},{"$f":"VLOOKUP($AA613,DATA!$B$3:$E$6,3,0)","v":"22:30:00"},{"$f":"VLOOKUP($AA613,DATA!$B$3:$E$6,4,0)","v":3.125E-2},0.30208333333333337,0.30208333333333337,{"$f":"DATA!$C$9","v":0.89},{"$f":"DATA!$C$10","v":64},1,407.81250000000006,407.81250000000006,0,"","",0,"","",0,"","","","",null,{"$f":"X604","v":29},null,{"$f":"TEXT(Y612,\"ddd\")","v":"zo"},"MD",{"$f":"IFERROR(HLOOKUP(Y612,[1]DATA!$A$1:$NB$5,4,0),\"\")","v":"-"},null,null,null,null,{"$f":"VLOOKUP(Y612,[1]SRA!$S$4:$Z$368,3,0)","v":0},"","",""]
["29zoZND",{"$f":"VLOOKUP($AA614,DATA!$B$3:$E$6,2,0)","v":"00:00:00"},{"$f":"VLOOKUP($AA614,DATA!$B$3:$E$6,3,0)","v":"00:00:00"},{"$f":"VLOOKUP($AA614,DATA!$B$3:$E$6,4,0)","v":0},0,0,{"$f":"DATA!$C$9","v":0.89},{"$f":"DATA!$C$10","v":64},1,0,0,0,"","",0,"","",0,"","","","",null,{"$f":"X604","v":29},null,{"$f":"TEXT(Y612,\"ddd\")","v":"zo"},"ZND",{"$f":"IFERROR(HLOOKUP(Y612,[1]DATA!$A$1:$NB$5,5,0),\"\")","v":"-"},null,null,null,null,{"$f":"VLOOKUP(Y612,[1]SRA!$S$4:$Z$368,4,0)","v":0},"","",""]
["30maDD",{"$f":"VLOOKUP($AA615,DATA!$B$3:$E$6,2,0)","v":"06:30:00"},{"$f":"VLOOKUP($AA615,DATA!$B$3:$E$6,3,0)","v":"14:30:00"},{"$f":"VLOOKUP($AA615,DATA!$B$3:$E$6,4,0)","v":3.125E-2},0.30208333333333331,0.30208333333333331,{"$f":"DATA!$C$9","v":0.89},{"$f":"DATA!$C$10","v":64},1,407.8125,407.8125,0,"","",{"$f":"TIME(INT($AD615/60),INT(MOD($AD615,60)/1),0)","v":0},"","",0,"","","","",null,{"$f":"X625","v":30},"2018-07-23",{"$f":"TEXT(Y615,\"ddd\")","v":"ma"},"DD",{"$f":"IFERROR(HLOOKUP(Y615,[1]DATA!$A$1:$NB$5,3,0),\"\")","v":"D2"},null,null,null,null,{"$f":"VLOOKUP(Y615,[1]SRA!$S$4:$Z$368,2,0)","v":0},"","","",{"$f":"IF(SUMIF(S615:S635,\">0\",K615:K635)=0,\"\",SUMIF(S615:S635,\">0\",K615:K635))","v":""},{"$f":"IF(SUM(S615:S635)=0,\"\",SUM(S615:S635))","v":""},{"$f":"IFERROR(AL615/AK615,\"-\")","v":"-"},{"$f":"IF(SUM(M615:M635)=0,\"0\",SUM(M615:M635))","v":"0"},{"$f":"IFERROR(AN615/AK615,\"-\")","v":"-"},{"$f":"IF(SUM(P615:P635)=0,0,SUM(P615:P635))","v":0},{"$f":"IFERROR(AP615/AK615,\"-\")","v":"-"},{"$f":"IFERROR(AVERAGE(AJ615:AJ635),\"-\")","v":"-"},{"$f":"IFERROR(SUMIF($AB615:$AB635,AS$5,$AJ615:$AJ635)/COUNTIFS($AB615:$AB635,AS$5,$AJ615:$AJ635,\">0\"),\"\")","v":""},"","",{"$f":"IFERROR((AK615-AL615-AN615-AP615),\"-\")","v":"-"},{"$f":"IFERROR((1-AM615-AO615-AQ615), \"-\")","v":"-"},{"$f":"IFERROR((AV615*$AE$2)/60,\"-\")","v":"-"},{"$f":"IFERROR(SUM(AG615:AG635),\"\")","v":0}]
["30maMD",{"$f":"VLOOKUP($AA616,DATA!$B$3:$E$6,2,0)","v":"14:30:00"},{"$f":"VLOOKUP($AA616,DATA!$B$3:$E$6,3,0)","v":"22:30:00"},{"$f":"VLOOKUP($AA616,DATA!$B$3:$E$6,4,0)","v":3.125E-2},0.30208333333333337,0.30208333333333337,{"$f":"DATA!$C$9","v":0.89},{"$f":"DATA!$C$10","v":64},1,407.81250000000006,407.81250000000006,0,"","",{"$f":"TIME(INT(AD616/60),INT(MOD(AD616,60)/1),0)","v":0},"","",0,"","","","",null,{"$f":"X625","v":30},null,{"$f":"TEXT(Y615,\"ddd\")","v":"ma"},"MD",{"$f":"IFERROR(HLOOKUP(Y615,[1]DATA!$A$1:$NB$5,4,0),\"\")","v":"D1"},null,null,null,null,{"$f":"VLOOKUP(Y615,[1]SRA!$S$4:$Z$368,3,0)","v":0},"","",""]
["30maND",{"$f":"VLOOKUP($AA617,DATA!$B$3:$E$6,2,0)","v":"22:30:00"},{"$f":"VLOOKUP($AA617,DATA!$B$3:$E$6,3,0)","v":"06:30:00"},{"$f":"VLOOKUP($AA617,DATA!$B$3:$E$6,4,0)","v":3.125E-2},0.30208333333333326,0.30208333333333326,{"$f":"DATA!$C$9","v":0.89},{"$f":"DATA!$C$10","v":64},1,407.81249999999989,407.81249999999989,0,"","",0,"","",0,"","","","",null,{"$f":"X625","v":30},null,{"$f":"TEXT(Y615,\"ddd\")","v":"ma"},"ND",{"$f":"IFERROR(HLOOKUP(Y615,[1]DATA!$A$1:$NB$5,5,0),\"\")","v":"D3"},null,null,null,null,{"$f":"VLOOKUP(Y615,[1]SRA!$S$4:$Z$368,4,0)","v":0},"","",""]
["30diDD",{"$f":"VLOOKUP($AA618,DATA!$B$3:$E$6,2,0)","v":"06:30:00"},{"$f":"VLOOKUP($AA618,DATA!$B$3:$E$6,3,0)","v":"14:30:00"},{"$f":"VLOOKUP($AA618,DATA!$B$3:$E$6,4,0)","v":3.125E-2},0.30208333333333331,0.30208333333333331,{"$f":"DATA!$C$9","v":0.89},{"$f":"DATA!$C$10","v":64},1,407.8125,407.8125,0,"","",0,"","",0,"","","","",null,{"$f":"X625","v":30},"2018-07-24",{"$f":"TEXT(Y618,\"ddd\")","v":"di"},"DD",{"$f":"IFERROR(HLOOKUP(Y618,[1]DATA!$A$1:$NB$5,3,0),\"\")","v":"D2"},null,null,null,null,{"$f":"VLOOKUP(Y618,[1]SRA!$S$4:$Z$368,2,0)","v":0},"","",""]
["30diMD",{"$f":"VLOOKUP($AA619,DATA!$B$3:$E$6,2,0)","v":"14:30:00"},{"$f":"VLOOKUP($AA619,DATA!$B$3:$E$6,3,0)","v":"22:30:00"},{"$f":"VLOOKUP($AA619,DATA!$B$3:$E$6,4,0)","v":3.125E-2},0.30208333333333337,0.30208333333333337,{"$f":"DATA!$C$9","v":0.89},{"$f":"DATA!$C$10","v":64},1,407.81250000000006,407.81250000000006,0,"","",0,"","",0,"","","","",null,{"$f":"X625","v":30},null,{"$f":"TEXT(Y618,\"ddd\")","v":"di"},"MD",{"$f":"IFERROR(HLOOKUP(Y618,[1]DATA!$A$1:$NB$5,4,0),\"\")","v":"D1"},null,null,null,null,{"$f":"VLOOKUP(Y618,[1]SRA!$S$4:$Z$368,3,0)","v":0},"","",""]
["30diND",{"$f":"VLOOKUP($AA620,DATA!$B$3:$E$6,2,0)","v":"22:30:00"},{"$f":"VLOOKUP($AA620,DATA!$B$3:$E$6,3,0)","v":"06:30:00"},{"$f":"VLOOKUP($AA620,DATA!$B$3:$E$6,4,0)","v":3.125E-2},0.30208333333333326,0.30208333333333326,{"$f":"DATA!$C$9","v":0.89},{"$f":"DATA!$C$10","v":64},1,407.81249999999989,407.81249999999989,0,"","",0,"","",0,"","","","",null,{"$f":"X625","v":30},null,{"$f":"TEXT(Y618,\"ddd\")","v":"di"},"ND",{"$f":"IFERROR(HLOOKUP(Y618,[1]DATA!$A$1:$NB$5,5,0),\"\")","v":"D3"},null,null,null,null,{"$f":"VLOOKUP(Y618,[1]SRA!$S$4:$Z$368,4,0)","v":0},"","",""]
["30woDD",{"$f":"VLOOKUP($AA621,DATA!$B$3:$E$6,2,0)","v":"06:30:00"},{"$f":"VLOOKUP($AA621,DATA!$B$3:$E$6,3,0)","v":"14:30:00"},{"$f":"VLOOKUP($AA621,DATA!$B$3:$E$6,4,0)","v":3.125E-2},0.30208333333333331,0.30208333333333331,{"$f":"DATA!$C$9","v":0.89},{"$f":"DATA!$C$10","v":64},1,407.8125,407.8125,0,"","",0,"","",0,"","","","",null,{"$f":"X625","v":30},"2018-07-25",{"$f":"TEXT(Y621,\"ddd\")","v":"wo"},"DD",{"$f":"IFERROR(HLOOKUP(Y621,[1]DATA!$A$1:$NB$5,3,0),\"\")","v":"D2"},null,null,null,null,{"$f":"VLOOKUP(Y621,[1]SRA!$S$4:$Z$368,2,0)","v":0},"","",""]
["30woMD",{"$f":"VLOOKUP($AA622,DATA!$B$3:$E$6,2,0)","v":"14:30:00"},{"$f":"VLOOKUP($AA622,DATA!$B$3:$E$6,3,0)","v":"22:30:00"},{"$f":"VLOOKUP($AA622,DATA!$B$3:$E$6,4,0)","v":3.125E-2},0.30208333333333337,0.30208333333333337,{"$f":"DATA!$C$9","v":0.89},{"$f":"DATA!$C$10","v":64},1,407.81250000000006,407.81250000000006,0,"","",0,"","",0,"","","","",null,{"$f":"X625","v":30},null,{"$f":"TEXT(Y621,\"ddd\")","v":"wo"},"MD",{"$f":"IFERROR(HLOOKUP(Y621,[1]DATA!$A$1:$NB$5,4,0),\"\")","v":"D1"},null,null,null,null,{"$f":"VLOOKUP(Y621,[1]SRA!$S$4:$Z$368,3,0)","v":0},"","",""]
["30woND",{"$f":"VLOOKUP($AA623,DATA!$B$3:$E$6,2,0)","v":"22:30:00"},{"$f":"VLOOKUP($AA623,DATA!$B$3:$E$6,3,0)","v":"06:30:00"},{"$f":"VLOOKUP($AA623,DATA!$B$3:$E$6,4,0)","v":3.125E-2},0.30208333333333326,0.30208333333333326,{"$f":"DATA!$C$9","v":0.89},{"$f":"DATA!$C$10","v":64},1,407.81249999999989,407.81249999999989,0,"","",0,"","",0,"","","","",null,{"$f":"X625","v":30},null,{"$f":"TEXT(Y621,\"ddd\")","v":"wo"},"ND",{"$f":"IFERROR(HLOOKUP(Y621,[1]DATA!$A$1:$NB$5,5,0),\"\")","v":"D3"},null,null,null,null,{"$f":"VLOOKUP(Y621,[1]SRA!$S$4:$Z$368,4,0)","v":0},"","",""]
[{"$f":"X624&Z624&AA624","v":"30doDD"},{"$f":"VLOOKUP($AA624,DATA!$B$3:$E$6,2,0)","v":"06:30:00"},{"$f":"VLOOKUP($AA624,DATA!$B$3:$E$6,3,0)","v":"14:30:00"},{"$f":"VLOOKUP($AA624,DATA!$B$3:$E$6,4,0)","v":3.125E-2},0.30208333333333331,0.30208333333333331,{"$f":"DATA!$C$9","v":0.89},{"$f":"DATA!$C$10","v":64},1,407.8125,407.8125,0,"","",0,{"$f":"IF($O624*86400/$H624=0,\"\",$O624*86400/$H624)","v":""},"",0,"","","","",null,{"$f":"X625","v":30},"2018-07-26",{"$f":"TEXT(Y624,\"ddd\")","v":"do"},"DD",{"$f":"IFERROR(HLOOKUP(Y624,[1]DATA!$A$1:$NB$5,3,0),\"\")","v":"D2"},null,null,null,null,{"$f":"VLOOKUP(Y624,[1]SRA!$S$4:$Z$368,2,0)","v":0},"","",""]
["30doMD",{"$f":"VLOOKUP($AA625,DATA!$B$3:$E$6,2,0)","v":"14:30:00"},{"$f":"VLOOKUP($AA625,DATA!$B$3:$E$6,3,0)","v":"22:30:00"},{"$f":"VLOOKUP($AA625,DATA!$B$3:$E$6,4,0)","v":3.125E-2},0.30208333333333337,0.30208333333333337,{"$f":"DATA!$C$9","v":0.89},{"$f":"DATA!$C$10","v":64},1,407.81250000000006,407.81250000000006,0,"","",0,"","",0,"","","","",null,{"$f":"WEEKNUM($Y615)","v":30},null,{"$f":"TEXT(Y624,\"ddd\")","v":"do"},"MD",{"$f":"IFERROR(HLOOKUP(Y624,[1]DATA!$A$1:$NB$5,4,0),\"\")","v":"D1"},null,null,null,null,{"$f":"VLOOKUP(Y624,[1]SRA!$S$4:$Z$368,3,0)","v":0},"","",""]
["30doND",{"$f":"VLOOKUP($AA626,DATA!$B$3:$E$6,2,0)","v":"22:30:00"},{"$f":"VLOOKUP($AA626,DATA!$B$3:$E$6,3,0)","v":"06:30:00"},{"$f":"VLOOKUP($AA626,DATA!$B$3:$E$6,4,0)","v":3.125E-2},0.30208333333333326,0.30208333333333326,{"$f":"DATA!$C$9","v":0.89},{"$f":"DATA!$C$10","v":64},1,407.81249999999989,407.81249999999989,0,"","",0,"","",0,"","","","",null,{"$f":"X625","v":30},null,{"$f":"TEXT(Y624,\"ddd\")","v":"do"},"ND",{"$f":"IFERROR(HLOOKUP(Y624,[1]DATA!$A$1:$NB$5,5,0),\"\")","v":"D3"},null,null,null,null,{"$f":"VLOOKUP(Y624,[1]SRA!$S$4:$Z$368,4,0)","v":0},"","",""]
["30vrDD",{"$f":"VLOOKUP($AA627,DATA!$B$3:$E$6,2,0)","v":"06:30:00"},{"$f":"VLOOKUP($AA627,DATA!$B$3:$E$6,3,0)","v":"14:30:00"},{"$f":"VLOOKUP($AA627,DATA!$B$3:$E$6,4,0)","v":3.125E-2},0.30208333333333331,0.30208333333333331,{"$f":"DATA!$C$9","v":0.89},{"$f":"DATA!$C$10","v":64},1,407.8125,407.8125,0,"","",0,"","",0,"","","","",null,{"$f":"X625","v":30},"2018-07-27",{"$f":"TEXT(Y627,\"ddd\")","v":"vr"},"DD",{"$f":"IFERROR(HLOOKUP(Y627,[1]DATA!$A$1:$NB$5,3,0),\"\")","v":"D2"},null,null,null,null,{"$f":"VLOOKUP(Y627,[1]SRA!$S$4:$Z$368,2,0)","v":0},"","",""]
["30vrMD",{"$f":"VLOOKUP($AA628,DATA!$B$3:$E$6,2,0)","v":"14:30:00"},{"$f":"VLOOKUP($AA628,DATA!$B$3:$E$6,3,0)","v":"22:30:00"},{"$f":"VLOOKUP($AA628,DATA!$B$3:$E$6,4,0)","v":3.125E-2},0.30208333333333337,0.30208333333333337,{"$f":"DATA!$C$9","v":0.89},{"$f":"DATA!$C$10","v":64},1,407.81250000000006,407.81250000000006,0,"","",0,"","",0,"","","","",null,{"$f":"X625","v":30},null,{"$f":"TEXT(Y627,\"ddd\")","v":"vr"},"MD",{"$f":"IFERROR(HLOOKUP(Y627,[1]DATA!$A$1:$NB$5,4,0),\"\")","v":"D1"},null,null,null,null,{"$f":"VLOOKUP(Y627,[1]SRA!$S$4:$Z$368,3,0)","v":0},"","",""]
["30vrND",{"$f":"VLOOKUP($AA629,DATA!$B$3:$E$6,2,0)","v":"22:30:00"},{"$f":"VLOOKUP($AA629,DATA!$B$3:$E$6,3,0)","v":"06:30:00"},{"$f":"VLOOKUP($AA629,DATA!$B$3:$E$6,4,0)","v":3.125E-2},0.30208333333333326,0.30208333333333326,{"$f":"DATA!$C$9","v":0.89},{"$f":"DATA!$C$10","v":64},1,407.81249999999989,407.81249999999989,0,"","",0,"","",0,"","","","",null,{"$f":"X625","v":30},null,{"$f":"TEXT(Y627,\"ddd\")","v":"vr"},"ND",{"$f":"IFERROR(HLOOKUP(Y627,[1]DATA!$A$1:$NB$5,5,0),\"\")","v":"D3"},null,null,null,null,{"$f":"VLOOKUP(Y627,[1]SRA!$S$4:$Z$368,4,0)","v":0},"","",""]
["30zaDD",{"$f":"VLOOKUP($AA630,DATA!$B$3:$E$6,2,0)","v":"06:30:00"},{"$f":"VLOOKUP($AA630,DATA!$B$3:$E$6,3,0)","v":"14:30:00"},{"$f":"VLOOKUP($AA630,DATA!$B$3:$E$6,4,0)","v":3.125E-2},0.30208333333333331,0.30208333333333331,{"$f":"DATA!$C$9","v":0.89},{"$f":"DATA!$C$10","v":64},1,407.8125,407.8125,0,"","",0,"","",0,"","","","",null,{"$f":"X625","v":30},{"$f":"Y627+1","v":"2018-07-28"},{"$f":"TEXT(Y630,\"ddd\")","v":"za"},"DD",{"$f":"IFERROR(HLOOKUP(Y630,[1]DATA!$A$1:$NB$5,3,0),\"\")","v":"D2"},null,null,null,null,{"$f":"VLOOKUP(Y630,[1]SRA!$S$4:$Z$368,2,0)","v":0},"","",""]
["30zaMD",{"$f":"VLOOKUP($AA631,DATA!$B$3:$E$6,2,0)","v":"14:30:00"},{"$f":"VLOOKUP($AA631,DATA!$B$3:$E$6,3,0)","v":"22:30:00"},{"$f":"VLOOKUP($AA631,DATA!$B$3:$E$6,4,0)","v":3.125E-2},0.30208333333333337,0.30208333333333337,{"$f":"DATA!$C$9","v":0.89},{"$f":"DATA!$C$10","v":64},1,407.81250000000006,407.81250000000006,0,"","",0,"","",0,"","","","",null,{"$f":"X625","v":30},null,{"$f":"TEXT(Y630,\"ddd\")","v":"za"},"MD",{"$f":"IFERROR(HLOOKUP(Y630,[1]DATA!$A$1:$NB$5,4,0),\"\")","v":"-"},null,null,null,null,{"$f":"VLOOKUP(Y630,[1]SRA!$S$4:$Z$368,3,0)","v":0},"","",""]
["30zaND",{"$f":"VLOOKUP($AA632,DATA!$B$3:$E$6,2,0)","v":"22:30:00"},{"$f":"VLOOKUP($AA632,DATA!$B$3:$E$6,3,0)","v":"06:30:00"},{"$f":"VLOOKUP($AA632,DATA!$B$3:$E$6,4,0)","v":3.125E-2},0.30208333333333326,0.30208333333333326,{"$f":"DATA!$C$9","v":0.89},{"$f":"DATA!$C$10","v":64},1,407.81249999999989,407.81249999999989,0,"","",0,"","",0,"","","","",null,{"$f":"X625","v":30},null,{"$f":"TEXT(Y630,\"ddd\")","v":"za"},"ND",{"$f":"IFERROR(HLOOKUP(Y630,[1]DATA!$A$1:$NB$5,5,0),\"\")","v":"-"},null,null,null,null,{"$f":"VLOOKUP(Y630,[1]SRA!$S$4:$Z$368,4,0)","v":0},"","",""]
["30zoDD",{"$f":"VLOOKUP($AA633,DATA!$B$3:$E$6,2,0)","v":"06:30:00"},{"$f":"VLOOKUP($AA633,DATA!$B$3:$E$6,3,0)","v":"14:30:00"},{"$f":"VLOOKUP($AA633,DATA!$B$3:$E$6,4,0)","v":3.125E-2},0.30208333333333331,0.30208333333333331,{"$f":"DATA!$C$9","v":0.89},{"$f":"DATA!$C$10","v":64},1,407.8125,407.8125,0,"","",0,"","",0,"","","","",null,{"$f":"X625","v":30},"2018-07-29",{"$f":"TEXT(Y633,\"ddd\")","v":"zo"},"DD",{"$f":"IFERROR(HLOOKUP(Y633,[1]DATA!$A$1:$NB$5,3,0),\"\")","v":"-"},null,null,null,null,{"$f":"VLOOKUP(Y633,[1]SRA!$S$4:$Z$368,2,0)","v":0},"","",""]
["30zoMD",{"$f":"VLOOKUP($AA634,DATA!$B$3:$E$6,2,0)","v":"14:30:00"},{"$f":"VLOOKUP($AA634,DATA!$B$3:$E$6,3,0)","v":"22:30:00"},{"$f":"VLOOKUP($AA634,DATA!$B$3:$E$6,4,0)","v":3.125E-2},0.30208333333333337,0.30208333333333337,{"$f":"DATA!$C$9","v":0.89},{"$f":"DATA!$C$10","v":64},1,407.81250000000006,407.81250000000006,0,"","",0,"","",0,"","","","",null,{"$f":"X625","v":30},null,{"$f":"TEXT(Y633,\"ddd\")","v":"zo"},"MD",{"$f":"IFERROR(HLOOKUP(Y633,[1]DATA!$A$1:$NB$5,4,0),\"\")","v":"-"},null,null,null,null,{"$f":"VLOOKUP(Y633,[1]SRA!$S$4:$Z$368,3,0)","v":0},"","",""]
["30zoZND",{"$f":"VLOOKUP($AA635,DATA!$B$3:$E$6,2,0)","v":"00:00:00"},{"$f":"VLOOKUP($AA635,DATA!$B$3:$E$6,3,0)","v":"00:00:00"},{"$f":"VLOOKUP($AA635,DATA!$B$3:$E$6,4,0)","v":0},0,0,{"$f":"DATA!$C$9","v":0.89},{"$f":"DATA!$C$10","v":64},1,0,0,0,"","",0,"","",0,"","","","",null,{"$f":"X625","v":30},null,{"$f":"TEXT(Y633,\"ddd\")","v":"zo"},"ZND",{"$f":"IFERROR(HLOOKUP(Y633,[1]DATA!$A$1:$NB$5,5,0),\"\")","v":"-"},null,null,null,null,{"$f":"VLOOKUP(Y633,[1]SRA!$S$4:$Z$368,4,0)","v":0},"","",""]
["31maDD",{"$f":"VLOOKUP($AA636,DATA!$B$3:$E$6,2,0)","v":"06:30:00"},{"$f":"VLOOKUP($AA636,DATA!$B$3:$E$6,3,0)","v":"14:30:00"},{"$f":"VLOOKUP($AA636,DATA!$B$3:$E$6,4,0)","v":3.125E-2},0.30208333333333331,0.30208333333333331,{"$f":"DATA!$C$9","v":0.89},{"$f":"DATA!$C$10","v":64},1,407.8125,407.8125,0,"","",{"$f":"TIME(INT($AD636/60),INT(MOD($AD636,60)/1),0)","v":0},"","",0,"","","","",null,{"$f":"X646","v":31},"2018-07-30",{"$f":"TEXT(Y636,\"ddd\")","v":"ma"},"DD",{"$f":"IFERROR(HLOOKUP(Y636,[1]DATA!$A$1:$NB$5,3,0),\"\")","v":"D1"},null,null,null,null,{"$f":"VLOOKUP(Y636,[1]SRA!$S$4:$Z$368,2,0)","v":0},"","","",{"$f":"IF(SUMIF(S636:S656,\">0\",K636:K656)=0,\"\",SUMIF(S636:S656,\">0\",K636:K656))","v":""},{"$f":"IF(SUM(S636:S656)=0,\"\",SUM(S636:S656))","v":""},{"$f":"IFERROR(AL636/AK636,\"-\")","v":"-"},{"$f":"IF(SUM(M636:M656)=0,\"0\",SUM(M636:M656))","v":"0"},{"$f":"IFERROR(AN636/AK636,\"-\")","v":"-"},{"$f":"IF(SUM(P636:P656)=0,0,SUM(P636:P656))","v":0},{"$f":"IFERROR(AP636/AK636,\"-\")","v":"-"},{"$f":"IFERROR(AVERAGE(AJ636:AJ656),\"-\")","v":"-"},{"$f":"IFERROR(SUMIF($AB636:$AB656,AS$5,$AJ636:$AJ656)/COUNTIFS($AB636:$AB656,AS$5,$AJ636:$AJ656,\">0\"),\"\")","v":""},"","",{"$f":"IFERROR((AK636-AL636-AN636-AP636),\"-\")","v":"-"},{"$f":"IFERROR((1-AM636-AO636-AQ636), \"-\")","v":"-"},{"$f":"IFERROR((AV636*$AE$2)/60,\"-\")","v":"-"},{"$f":"IFERROR(SUM(AG636:AG656),\"\")","v":0}]
["31maMD",{"$f":"VLOOKUP($AA637,DATA!$B$3:$E$6,2,0)","v":"14:30:00"},{"$f":"VLOOKUP($AA637,DATA!$B$3:$E$6,3,0)","v":"22:30:00"},{"$f":"VLOOKUP($AA637,DATA!$B$3:$E$6,4,0)","v":3.125E-2},0.30208333333333337,0.30208333333333337,{"$f":"DATA!$C$9","v":0.89},{"$f":"DATA!$C$10","v":64},1,407.81250000000006,407.81250000000006,0,"","",{"$f":"TIME(INT(AD637/60),INT(MOD(AD637,60)/1),0)","v":0},"","",0,"","","","",null,{"$f":"X646","v":31},null,{"$f":"TEXT(Y636,\"ddd\")","v":"ma"},"MD",{"$f":"IFERROR(HLOOKUP(Y636,[1]DATA!$A$1:$NB$5,4,0),\"\")","v":"D3"},null,null,null,null,{"$f":"VLOOKUP(Y636,[1]SRA!$S$4:$Z$368,3,0)","v":0},"","",""]
["31maND",{"$f":"VLOOKUP($AA638,DATA!$B$3:$E$6,2,0)","v":"22:30:00"},{"$f":"VLOOKUP($AA638,DATA!$B$3:$E$6,3,0)","v":"06:30:00"},{"$f":"VLOOKUP($AA638,DATA!$B$3:$E$6,4,0)","v":3.125E-2},0.30208333333333326,0.30208333333333326,{"$f":"DATA!$C$9","v":0.89},{"$f":"DATA!$C$10","v":64},1,407.81249999999989,407.81249999999989,0,"","",0,"","",0,"","","","",null,{"$f":"X646","v":31},null,{"$f":"TEXT(Y636,\"ddd\")","v":"ma"},"ND",{"$f":"IFERROR(HLOOKUP(Y636,[1]DATA!$A$1:$NB$5,5,0),\"\")","v":"D2"},null,null,null,null,{"$f":"VLOOKUP(Y636,[1]SRA!$S$4:$Z$368,4,0)","v":0},"","",""]
["31diDD",{"$f":"VLOOKUP($AA639,DATA!$B$3:$E$6,2,0)","v":"06:30:00"},{"$f":"VLOOKUP($AA639,DATA!$B$3:$E$6,3,0)","v":"14:30:00"},{"$f":"VLOOKUP($AA639,DATA!$B$3:$E$6,4,0)","v":3.125E-2},0.30208333333333331,0.30208333333333331,{"$f":"DATA!$C$9","v":0.89},{"$f":"DATA!$C$10","v":64},1,407.8125,407.8125,0,"","",0,"","",0,"","","","",null,{"$f":"X646","v":31},"2018-07-31",{"$f":"TEXT(Y639,\"ddd\")","v":"di"},"DD",{"$f":"IFERROR(HLOOKUP(Y639,[1]DATA!$A$1:$NB$5,3,0),\"\")","v":"D1"},null,null,null,null,{"$f":"VLOOKUP(Y639,[1]SRA!$S$4:$Z$368,2,0)","v":0},"","",""]
["31diMD",{"$f":"VLOOKUP($AA640,DATA!$B$3:$E$6,2,0)","v":"14:30:00"},{"$f":"VLOOKUP($AA640,DATA!$B$3:$E$6,3,0)","v":"22:30:00"},{"$f":"VLOOKUP($AA640,DATA!$B$3:$E$6,4,0)","v":3.125E-2},0.30208333333333337,0.30208333333333337,{"$f":"DATA!$C$9","v":0.89},{"$f":"DATA!$C$10","v":64},1,407.81250000000006,407.81250000000006,0,"","",0,"","",0,"","","","",null,{"$f":"X646","v":31},null,{"$f":"TEXT(Y639,\"ddd\")","v":"di"},"MD",{"$f":"IFERROR(HLOOKUP(Y639,[1]DATA!$A$1:$NB$5,4,0),\"\")","v":"D3"},null,null,null,null,{"$f":"VLOOKUP(Y639,[1]SRA!$S$4:$Z$368,3,0)","v":0},"","",""]
["31diND",{"$f":"VLOOKUP($AA641,DATA!$B$3:$E$6,2,0)","v":"22:30:00"},{"$f":"VLOOKUP($AA641,DATA!$B$3:$E$6,3,0)","v":"06:30:00"},{"$f":"VLOOKUP($AA641,DATA!$B$3:$E$6,4,0)","v":3.125E-2},0.30208333333333326,0.30208333333333326,{"$f":"DATA!$C$9","v":0.89},{"$f":"DATA!$C$10","v":64},1,407.81249999999989,407.81249999999989,0,"","",0,"","",0,"","","","",null,{"$f":"X646","v":31},null,{"$f":"TEXT(Y639,\"ddd\")","v":"di"},"ND",{"$f":"IFERROR(HLOOKUP(Y639,[1]DATA!$A$1:$NB$5,5,0),\"\")","v":"D2"},null,null,null,null,{"$f":"VLOOKUP(Y639,[1]SRA!$S$4:$Z$368,4,0)","v":0},"","",""]
["31woDD",{"$f":"VLOOKUP($AA642,DATA!$B$3:$E$6,2,0)","v":"06:30:00"},{"$f":"VLOOKUP($AA642,DATA!$B$3:$E$6,3,0)","v":"14:30:00"},{"$f":"VLOOKUP($AA642,DATA!$B$3:$E$6,4,0)","v":3.125E-2},0.30208333333333331,0.30208333333333331,{"$f":"DATA!$C$9","v":0.89},{"$f":"DATA!$C$10","v":64},1,407.8125,407.8125,0,"","",0,"","",0,"","","","",null,{"$f":"X646","v":31},"2018-08-01",{"$f":"TEXT(Y642,\"ddd\")","v":"wo"},"DD",{"$f":"IFERROR(HLOOKUP(Y642,[1]DATA!$A$1:$NB$5,3,0),\"\")","v":"D1"},null,null,null,null,{"$f":"VLOOKUP(Y642,[1]SRA!$S$4:$Z$368,2,0)","v":0},"","",""]
["31woMD",{"$f":"VLOOKUP($AA643,DATA!$B$3:$E$6,2,0)","v":"14:30:00"},{"$f":"VLOOKUP($AA643,DATA!$B$3:$E$6,3,0)","v":"22:30:00"},{"$f":"VLOOKUP($AA643,DATA!$B$3:$E$6,4,0)","v":3.125E-2},0.30208333333333337,0.30208333333333337,{"$f":"DATA!$C$9","v":0.89},{"$f":"DATA!$C$10","v":64},1,407.81250000000006,407.81250000000006,0,"","",0,"","",0,"","","","",null,{"$f":"X646","v":31},null,{"$f":"TEXT(Y642,\"ddd\")","v":"wo"},"MD",{"$f":"IFERROR(HLOOKUP(Y642,[1]DATA!$A$1:$NB$5,4,0),\"\")","v":"D3"},null,null,null,null,{"$f":"VLOOKUP(Y642,[1]SRA!$S$4:$Z$368,3,0)","v":0},"","",""]
["31woND",{"$f":"VLOOKUP($AA644,DATA!$B$3:$E$6,2,0)","v":"22:30:00"},{"$f":"VLOOKUP($AA644,DATA!$B$3:$E$6,3,0)","v":"06:30:00"},{"$f":"VLOOKUP($AA644,DATA!$B$3:$E$6,4,0)","v":3.125E-2},0.30208333333333326,0.30208333333333326,{"$f":"DATA!$C$9","v":0.89},{"$f":"DATA!$C$10","v":64},1,407.81249999999989,407.81249999999989,0,"","",0,"","",0,"","","","",null,{"$f":"X646","v":31},null,{"$f":"TEXT(Y642,\"ddd\")","v":"wo"},"ND",{"$f":"IFERROR(HLOOKUP(Y642,[1]DATA!$A$1:$NB$5,5,0),\"\")","v":"D2"},null,null,null,null,{"$f":"VLOOKUP(Y642,[1]SRA!$S$4:$Z$368,4,0)","v":0},"","",""]
["31doDD",{"$f":"VLOOKUP($AA645,DATA!$B$3:$E$6,2,0)","v":"06:30:00"},{"$f":"VLOOKUP($AA645,DATA!$B$3:$E$6,3,0)","v":"14:30:00"},{"$f":"VLOOKUP($AA645,DATA!$B$3:$E$6,4,0)","v":3.125E-2},0.30208333333333331,0.30208333333333331,{"$f":"DATA!$C$9","v":0.89},{"$f":"DATA!$C$10","v":64},1,407.8125,407.8125,0,"","",0,"","",0,"","","","",null,{"$f":"X646","v":31},"2018-08-02",{"$f":"TEXT(Y645,\"ddd\")","v":"do"},"DD",{"$f":"IFERROR(HLOOKUP(Y645,[1]DATA!$A$1:$NB$5,3,0),\"\")","v":"D1"},null,null,null,null,{"$f":"VLOOKUP(Y645,[1]SRA!$S$4:$Z$368,2,0)","v":0},"","",""]
["31doMD",{"$f":"VLOOKUP($AA646,DATA!$B$3:$E$6,2,0)","v":"14:30:00"},{"$f":"VLOOKUP($AA646,DATA!$B$3:$E$6,3,0)","v":"22:30:00"},{"$f":"VLOOKUP($AA646,DATA!$B$3:$E$6,4,0)","v":3.125E-2},0.30208333333333337,0.30208333333333337,{"$f":"DATA!$C$9","v":0.89},{"$f":"DATA!$C$10","v":64},1,{"$f":"F646*86400/H646*I646","v":407.81250000000006},{"$f":"E646*86400/H646","v":407.81250000000006},0,"","",0,"","",{"$f":"AF646*AG$2","v":0},{"$f":"IF(AF646-AE646=0,\"\",AF646-AE646)","v":""},"","","",null,{"$f":"WEEKNUM($Y636)","v":31},null,{"$f":"TEXT(Y645,\"ddd\")","v":"do"},"MD",{"$f":"IFERROR(HLOOKUP(Y645,[1]DATA!$A$1:$NB$5,4,0),\"\")","v":"D3"},null,null,null,null,{"$f":"VLOOKUP(Y645,[1]SRA!$S$4:$Z$368,3,0)","v":0},{"$f":"IFERROR(S646-J646,\"\")","v":""},{"$f":"IFERROR(IF(S646/(E646*86400/H646)<=0,\"\",S646/(E646*86400/H646)),\"\")","v":""},""]
["31doND",{"$f":"VLOOKUP($AA647,DATA!$B$3:$E$6,2,0)","v":"22:30:00"},{"$f":"VLOOKUP($AA647,DATA!$B$3:$E$6,3,0)","v":"06:30:00"},{"$f":"VLOOKUP($AA647,DATA!$B$3:$E$6,4,0)","v":3.125E-2},0.30208333333333326,0.30208333333333326,{"$f":"DATA!$C$9","v":0.89},{"$f":"DATA!$C$10","v":64},1,407.81249999999989,407.81249999999989,{"$f":"TIME(INT($AC647/60),INT(MOD($AC647,60)/1),0)","v":0},{"$f":"IF($L647*86400/$H647=0,\"\",$L647*86400/$H647)","v":""},{"$f":"IFERROR($M647/$K647,\"\")","v":""},0,"",{"$f":"IFERROR($P647/$K647,\"\")","v":""},0,"",{"$f":"IF(IF($AB647=\"D1\",$S647,\"\")=0,\"\",IF($AB647=\"D1\",$S647,\"\"))","v":""},{"$f":"IF(IF($AB647=\"D2\",$S647,\"\")=0,\"\",IF($AB647=\"D2\",$S647,\"\"))","v":""},{"$f":"IF(IF($AB647=\"D3\",$S647,\"\")=0,\"\",IF($AB647=\"D3\",$S647,\"\"))","v":""},null,{"$f":"X646","v":31},null,{"$f":"TEXT(Y645,\"ddd\")","v":"do"},"ND",{"$f":"IFERROR(HLOOKUP(Y645,[1]DATA!$A$1:$NB$5,5,0),\"\")","v":"D2"},null,null,null,null,{"$f":"VLOOKUP(Y645,[1]SRA!$S$4:$Z$368,4,0)","v":0},"","",""]
["31vrDD",{"$f":"VLOOKUP($AA648,DATA!$B$3:$E$6,2,0)","v":"06:30:00"},{"$f":"VLOOKUP($AA648,DATA!$B$3:$E$6,3,0)","v":"14:30:00"},{"$f":"VLOOKUP($AA648,DATA!$B$3:$E$6,4,0)","v":3.125E-2},0.30208333333333331,0.30208333333333331,{"$f":"DATA!$C$9","v":0.89},{"$f":"DATA!$C$10","v":64},1,407.8125,407.8125,0,"","",0,"","",0,"","","","",null,{"$f":"X646","v":31},"2018-08-03",{"$f":"TEXT(Y648,\"ddd\")","v":"vr"},"DD",{"$f":"IFERROR(HLOOKUP(Y648,[1]DATA!$A$1:$NB$5,3,0),\"\")","v":"D1"},null,null,null,null,{"$f":"VLOOKUP(Y648,[1]SRA!$S$4:$Z$368,2,0)","v":0},"","",""]
["31vrMD",{"$f":"VLOOKUP($AA649,DATA!$B$3:$E$6,2,0)","v":"14:30:00"},{"$f":"VLOOKUP($AA649,DATA!$B$3:$E$6,3,0)","v":"22:30:00"},{"$f":"VLOOKUP($AA649,DATA!$B$3:$E$6,4,0)","v":3.125E-2},0.30208333333333337,0.30208333333333337,{"$f":"DATA!$C$9","v":0.89},{"$f":"DATA!$C$10","v":64},1,407.81250000000006,407.81250000000006,0,"","",0,"","",0,"","","","",null,{"$f":"X646","v":31},null,{"$f":"TEXT(Y648,\"ddd\")","v":"vr"},"MD",{"$f":"IFERROR(HLOOKUP(Y648,[1]DATA!$A$1:$NB$5,4,0),\"\")","v":"D3"},null,null,null,null,{"$f":"VLOOKUP(Y648,[1]SRA!$S$4:$Z$368,3,0)","v":0},"","",""]
["31vrND",{"$f":"VLOOKUP($AA650,DATA!$B$3:$E$6,2,0)","v":"22:30:00"},{"$f":"VLOOKUP($AA650,DATA!$B$3:$E$6,3,0)","v":"06:30:00"},{"$f":"VLOOKUP($AA650,DATA!$B$3:$E$6,4,0)","v":3.125E-2},0.30208333333333326,0.30208333333333326,{"$f":"DATA!$C$9","v":0.89},{"$f":"DATA!$C$10","v":64},1,407.81249999999989,407.81249999999989,0,"","",0,"","",0,"","","","",null,{"$f":"X646","v":31},null,{"$f":"TEXT(Y648,\"ddd\")","v":"vr"},"ND",{"$f":"IFERROR(HLOOKUP(Y648,[1]DATA!$A$1:$NB$5,5,0),\"\")","v":"D2"},null,null,null,null,{"$f":"VLOOKUP(Y648,[1]SRA!$S$4:$Z$368,4,0)","v":0},"","",""]
["31zaDD",{"$f":"VLOOKUP($AA651,DATA!$B$3:$E$6,2,0)","v":"06:30:00"},{"$f":"VLOOKUP($AA651,DATA!$B$3:$E$6,3,0)","v":"14:30:00"},{"$f":"VLOOKUP($AA651,DATA!$B$3:$E$6,4,0)","v":3.125E-2},0.30208333333333331,0.30208333333333331,{"$f":"DATA!$C$9","v":0.89},{"$f":"DATA!$C$10","v":64},1,407.8125,407.8125,0,"","",0,"","",0,"","","","",null,{"$f":"X646","v":31},"2018-08-04",{"$f":"TEXT(Y651,\"ddd\")","v":"za"},"DD",{"$f":"IFERROR(HLOOKUP(Y651,[1]DATA!$A$1:$NB$5,3,0),\"\")","v":"D1"},null,null,null,null,{"$f":"VLOOKUP(Y651,[1]SRA!$S$4:$Z$368,2,0)","v":0},"","",""]
["31zaMD",{"$f":"VLOOKUP($AA652,DATA!$B$3:$E$6,2,0)","v":"14:30:00"},{"$f":"VLOOKUP($AA652,DATA!$B$3:$E$6,3,0)","v":"22:30:00"},{"$f":"VLOOKUP($AA652,DATA!$B$3:$E$6,4,0)","v":3.125E-2},0.30208333333333337,0.30208333333333337,{"$f":"DATA!$C$9","v":0.89},{"$f":"DATA!$C$10","v":64},1,407.81250000000006,407.81250000000006,0,"","",0,"","",0,"","","","",null,{"$f":"X646","v":31},null,{"$f":"TEXT(Y651,\"ddd\")","v":"za"},"MD",{"$f":"IFERROR(HLOOKUP(Y651,[1]DATA!$A$1:$NB$5,4,0),\"\")","v":"-"},null,null,null,null,{"$f":"VLOOKUP(Y651,[1]SRA!$S$4:$Z$368,3,0)","v":0},"","",""]
["31zaND",{"$f":"VLOOKUP($AA653,DATA!$B$3:$E$6,2,0)","v":"22:30:00"},{"$f":"VLOOKUP($AA653,DATA!$B$3:$E$6,3,0)","v":"06:30:00"},{"$f":"VLOOKUP($AA653,DATA!$B$3:$E$6,4,0)","v":3.125E-2},0.30208333333333326,0.30208333333333326,{"$f":"DATA!$C$9","v":0.89},{"$f":"DATA!$C$10","v":64},1,407.81249999999989,407.81249999999989,0,"","",0,"","",0,"","","","",null,{"$f":"X646","v":31},null,{"$f":"TEXT(Y651,\"ddd\")","v":"za"},"ND",{"$f":"IFERROR(HLOOKUP(Y651,[1]DATA!$A$1:$NB$5,5,0),\"\")","v":"-"},null,null,null,null,{"$f":"VLOOKUP(Y651,[1]SRA!$S$4:$Z$368,4,0)","v":0},"","",""]
["31zoDD",{"$f":"VLOOKUP($AA654,DATA!$B$3:$E$6,2,0)","v":"06:30:00"},{"$f":"VLOOKUP($AA654,DATA!$B$3:$E$6,3,0)","v":"14:30:00"},{"$f":"VLOOKUP($AA654,DATA!$B$3:$E$6,4,0)","v":3.125E-2},0.30208333333333331,0.30208333333333331,{"$f":"DATA!$C$9","v":0.89},{"$f":"DATA!$C$10","v":64},1,407.8125,407.8125,0,"","",0,"","",0,"","","","",null,{"$f":"X646","v":31},"2018-08-05",{"$f":"TEXT(Y654,\"ddd\")","v":"zo"},"DD",{"$f":"IFERROR(HLOOKUP(Y654,[1]DATA!$A$1:$NB$5,3,0),\"\")","v":"-"},null,null,null,null,{"$f":"VLOOKUP(Y654,[1]SRA!$S$4:$Z$368,2,0)","v":0},"","",""]
["31zoMD",{"$f":"VLOOKUP($AA655,DATA!$B$3:$E$6,2,0)","v":"14:30:00"},{"$f":"VLOOKUP($AA655,DATA!$B$3:$E$6,3,0)","v":"22:30:00"},{"$f":"VLOOKUP($AA655,DATA!$B$3:$E$6,4,0)","v":3.125E-2},0.30208333333333337,0.30208333333333337,{"$f":"DATA!$C$9","v":0.89},{"$f":"DATA!$C$10","v":64},1,407.81250000000006,407.81250000000006,0,"","",0,"","",0,"","","","",null,{"$f":"X646","v":31},null,{"$f":"TEXT(Y654,\"ddd\")","v":"zo"},"MD",{"$f":"IFERROR(HLOOKUP(Y654,[1]DATA!$A$1:$NB$5,4,0),\"\")","v":"-"},null,null,null,null,{"$f":"VLOOKUP(Y654,[1]SRA!$S$4:$Z$368,3,0)","v":0},"","",""]
["31zoZND",{"$f":"VLOOKUP($AA656,DATA!$B$3:$E$6,2,0)","v":"00:00:00"},{"$f":"VLOOKUP($AA656,DATA!$B$3:$E$6,3,0)","v":"00:00:00"},{"$f":"VLOOKUP($AA656,DATA!$B$3:$E$6,4,0)","v":0},0,0,{"$f":"DATA!$C$9","v":0.89},{"$f":"DATA!$C$10","v":64},1,0,0,0,"","",0,"","",0,"","","","",null,{"$f":"X646","v":31},null,{"$f":"TEXT(Y654,\"ddd\")","v":"zo"},"ZND",{"$f":"IFERROR(HLOOKUP(Y654,[1]DATA!$A$1:$NB$5,5,0),\"\")","v":"-"},null,null,null,null,{"$f":"VLOOKUP(Y654,[1]SRA!$S$4:$Z$368,4,0)","v":0},"","",""]
["32maDD",{"$f":"VLOOKUP($AA657,DATA!$B$3:$E$6,2,0)","v":"06:30:00"},{"$f":"VLOOKUP($AA657,DATA!$B$3:$E$6,3,0)","v":"14:30:00"},{"$f":"VLOOKUP($AA657,DATA!$B$3:$E$6,4,0)","v":3.125E-2},0.30208333333333331,0.30208333333333331,{"$f":"DATA!$C$9","v":0.89},{"$f":"DATA!$C$10","v":64},1,407.8125,407.8125,0,"","",{"$f":"TIME(INT($AD657/60),INT(MOD($AD657,60)/1),0)","v":0},"","",0,"","","","",null,{"$f":"X667","v":32},"2018-08-06",{"$f":"TEXT(Y657,\"ddd\")","v":"ma"},"DD",{"$f":"IFERROR(HLOOKUP(Y657,[1]DATA!$A$1:$NB$5,3,0),\"\")","v":"D3"},null,null,null,null,{"$f":"VLOOKUP(Y657,[1]SRA!$S$4:$Z$368,2,0)","v":0},"","","",{"$f":"IF(SUMIF(S657:S677,\">0\",K657:K677)=0,\"\",SUMIF(S657:S677,\">0\",K657:K677))","v":""},{"$f":"IF(SUM(S657:S677)=0,\"\",SUM(S657:S677))","v":""},{"$f":"IFERROR(AL657/AK657,\"-\")","v":"-"},{"$f":"IF(SUM(M657:M677)=0,\"0\",SUM(M657:M677))","v":"0"},{"$f":"IFERROR(AN657/AK657,\"-\")","v":"-"},{"$f":"IF(SUM(P657:P677)=0,0,SUM(P657:P677))","v":0},{"$f":"IFERROR(AP657/AK657,\"-\")","v":"-"},{"$f":"IFERROR(AVERAGE(AJ657:AJ677),\"-\")","v":"-"},{"$f":"IFERROR(SUMIF($AB657:$AB677,AS$5,$AJ657:$AJ677)/COUNTIFS($AB657:$AB677,AS$5,$AJ657:$AJ677,\">0\"),\"\")","v":""},"","",{"$f":"IFERROR((AK657-AL657-AN657-AP657),\"-\")","v":"-"},{"$f":"IFERROR((1-AM657-AO657-AQ657), \"-\")","v":"-"},{"$f":"IFERROR((AV657*$AE$2)/60,\"-\")","v":"-"},{"$f":"IFERROR(SUM(AG657:AG677),\"\")","v":0}]
["32maMD",{"$f":"VLOOKUP($AA658,DATA!$B$3:$E$6,2,0)","v":"14:30:00"},{"$f":"VLOOKUP($AA658,DATA!$B$3:$E$6,3,0)","v":"22:30:00"},{"$f":"VLOOKUP($AA658,DATA!$B$3:$E$6,4,0)","v":3.125E-2},0.30208333333333337,0.30208333333333337,{"$f":"DATA!$C$9","v":0.89},{"$f":"DATA!$C$10","v":64},1,407.81250000000006,407.81250000000006,0,"","",{"$f":"TIME(INT(AD658/60),INT(MOD(AD658,60)/1),0)","v":0},"","",0,"","","","",null,{"$f":"X667","v":32},null,{"$f":"TEXT(Y657,\"ddd\")","v":"ma"},"MD",{"$f":"IFERROR(HLOOKUP(Y657,[1]DATA!$A$1:$NB$5,4,0),\"\")","v":"D2"},null,null,null,null,{"$f":"VLOOKUP(Y657,[1]SRA!$S$4:$Z$368,3,0)","v":0},"","",""]
["32maND",{"$f":"VLOOKUP($AA659,DATA!$B$3:$E$6,2,0)","v":"22:30:00"},{"$f":"VLOOKUP($AA659,DATA!$B$3:$E$6,3,0)","v":"06:30:00"},{"$f":"VLOOKUP($AA659,DATA!$B$3:$E$6,4,0)","v":3.125E-2},0.30208333333333326,0.30208333333333326,{"$f":"DATA!$C$9","v":0.89},{"$f":"DATA!$C$10","v":64},1,407.81249999999989,407.81249999999989,0,"","",0,"","",0,"","","","",null,{"$f":"X667","v":32},null,{"$f":"TEXT(Y657,\"ddd\")","v":"ma"},"ND",{"$f":"IFERROR(HLOOKUP(Y657,[1]DATA!$A$1:$NB$5,5,0),\"\")","v":"D1"},null,null,null,null,{"$f":"VLOOKUP(Y657,[1]SRA!$S$4:$Z$368,4,0)","v":0},"","",""]
["32diDD",{"$f":"VLOOKUP($AA660,DATA!$B$3:$E$6,2,0)","v":"06:30:00"},{"$f":"VLOOKUP($AA660,DATA!$B$3:$E$6,3,0)","v":"14:30:00"},{"$f":"VLOOKUP($AA660,DATA!$B$3:$E$6,4,0)","v":3.125E-2},0.30208333333333331,0.30208333333333331,{"$f":"DATA!$C$9","v":0.89},{"$f":"DATA!$C$10","v":64},1,407.8125,407.8125,0,"","",0,"","",0,"","","","",null,{"$f":"X667","v":32},"2018-08-07",{"$f":"TEXT(Y660,\"ddd\")","v":"di"},"DD",{"$f":"IFERROR(HLOOKUP(Y660,[1]DATA!$A$1:$NB$5,3,0),\"\")","v":"D3"},null,null,null,null,{"$f":"VLOOKUP(Y660,[1]SRA!$S$4:$Z$368,2,0)","v":0},"","",""]
["32diMD",{"$f":"VLOOKUP($AA661,DATA!$B$3:$E$6,2,0)","v":"14:30:00"},{"$f":"VLOOKUP($AA661,DATA!$B$3:$E$6,3,0)","v":"22:30:00"},{"$f":"VLOOKUP($AA661,DATA!$B$3:$E$6,4,0)","v":3.125E-2},0.30208333333333337,0.30208333333333337,{"$f":"DATA!$C$9","v":0.89},{"$f":"DATA!$C$10","v":64},1,407.81250000000006,407.81250000000006,0,"","",0,"","",0,"","","","",null,{"$f":"X667","v":32},null,{"$f":"TEXT(Y660,\"ddd\")","v":"di"},"MD",{"$f":"IFERROR(HLOOKUP(Y660,[1]DATA!$A$1:$NB$5,4,0),\"\")","v":"D2"},null,null,null,null,{"$f":"VLOOKUP(Y660,[1]SRA!$S$4:$Z$368,3,0)","v":0},"","",""]
["32diND",{"$f":"VLOOKUP($AA662,DATA!$B$3:$E$6,2,0)","v":"22:30:00"},{"$f":"VLOOKUP($AA662,DATA!$B$3:$E$6,3,0)","v":"06:30:00"},{"$f":"VLOOKUP($AA662,DATA!$B$3:$E$6,4,0)","v":3.125E-2},0.30208333333333326,0.30208333333333326,{"$f":"DATA!$C$9","v":0.89},{"$f":"DATA!$C$10","v":64},1,407.81249999999989,407.81249999999989,0,"","",0,"","",0,"","","","",null,{"$f":"X667","v":32},null,{"$f":"TEXT(Y660,\"ddd\")","v":"di"},"ND",{"$f":"IFERROR(HLOOKUP(Y660,[1]DATA!$A$1:$NB$5,5,0),\"\")","v":"D1"},null,null,null,null,{"$f":"VLOOKUP(Y660,[1]SRA!$S$4:$Z$368,4,0)","v":0},"","",""]
["32woDD",{"$f":"VLOOKUP($AA663,DATA!$B$3:$E$6,2,0)","v":"06:30:00"},{"$f":"VLOOKUP($AA663,DATA!$B$3:$E$6,3,0)","v":"14:30:00"},{"$f":"VLOOKUP($AA663,DATA!$B$3:$E$6,4,0)","v":3.125E-2},0.30208333333333331,0.30208333333333331,{"$f":"DATA!$C$9","v":0.89},{"$f":"DATA!$C$10","v":64},1,407.8125,407.8125,0,"","",0,"","",0,"","","","",null,{"$f":"X667","v":32},"2018-08-08",{"$f":"TEXT(Y663,\"ddd\")","v":"wo"},"DD",{"$f":"IFERROR(HLOOKUP(Y663,[1]DATA!$A$1:$NB$5,3,0),\"\")","v":"D3"},null,null,null,null,{"$f":"VLOOKUP(Y663,[1]SRA!$S$4:$Z$368,2,0)","v":0},"","",""]
["32woMD",{"$f":"VLOOKUP($AA664,DATA!$B$3:$E$6,2,0)","v":"14:30:00"},{"$f":"VLOOKUP($AA664,DATA!$B$3:$E$6,3,0)","v":"22:30:00"},{"$f":"VLOOKUP($AA664,DATA!$B$3:$E$6,4,0)","v":3.125E-2},0.30208333333333337,0.30208333333333337,{"$f":"DATA!$C$9","v":0.89},{"$f":"DATA!$C$10","v":64},1,407.81250000000006,407.81250000000006,0,"","",0,"","",0,"","","","",null,{"$f":"X667","v":32},null,{"$f":"TEXT(Y663,\"ddd\")","v":"wo"},"MD",{"$f":"IFERROR(HLOOKUP(Y663,[1]DATA!$A$1:$NB$5,4,0),\"\")","v":"D2"},null,null,null,null,{"$f":"VLOOKUP(Y663,[1]SRA!$S$4:$Z$368,3,0)","v":0},"","",""]
["32woND",{"$f":"VLOOKUP($AA665,DATA!$B$3:$E$6,2,0)","v":"22:30:00"},{"$f":"VLOOKUP($AA665,DATA!$B$3:$E$6,3,0)","v":"06:30:00"},{"$f":"VLOOKUP($AA665,DATA!$B$3:$E$6,4,0)","v":3.125E-2},0.30208333333333326,0.30208333333333326,{"$f":"DATA!$C$9","v":0.89},{"$f":"DATA!$C$10","v":64},1,407.81249999999989,407.81249999999989,0,"","",0,"","",0,"","","","",null,{"$f":"X667","v":32},null,{"$f":"TEXT(Y663,\"ddd\")","v":"wo"},"ND",{"$f":"IFERROR(HLOOKUP(Y663,[1]DATA!$A$1:$NB$5,5,0),\"\")","v":"D1"},null,null,null,null,{"$f":"VLOOKUP(Y663,[1]SRA!$S$4:$Z$368,4,0)","v":0},"","",""]
["32doDD",{"$f":"VLOOKUP($AA666,DATA!$B$3:$E$6,2,0)","v":"06:30:00"},{"$f":"VLOOKUP($AA666,DATA!$B$3:$E$6,3,0)","v":"14:30:00"},{"$f":"VLOOKUP($AA666,DATA!$B$3:$E$6,4,0)","v":3.125E-2},0.30208333333333331,0.30208333333333331,{"$f":"DATA!$C$9","v":0.89},{"$f":"DATA!$C$10","v":64},1,407.8125,407.8125,0,"","",0,"","",0,"","","","",null,{"$f":"X667","v":32},"2018-08-09",{"$f":"TEXT(Y666,\"ddd\")","v":"do"},"DD",{"$f":"IFERROR(HLOOKUP(Y666,[1]DATA!$A$1:$NB$5,3,0),\"\")","v":"D3"},null,null,null,null,{"$f":"VLOOKUP(Y666,[1]SRA!$S$4:$Z$368,2,0)","v":0},"","",""]
["32doMD",{"$f":"VLOOKUP($AA667,DATA!$B$3:$E$6,2,0)","v":"14:30:00"},{"$f":"VLOOKUP($AA667,DATA!$B$3:$E$6,3,0)","v":"22:30:00"},{"$f":"VLOOKUP($AA667,DATA!$B$3:$E$6,4,0)","v":3.125E-2},0.30208333333333337,0.30208333333333337,{"$f":"DATA!$C$9","v":0.89},{"$f":"DATA!$C$10","v":64},1,407.81250000000006,407.81250000000006,0,"","",0,"","",0,"","","","",null,{"$f":"WEEKNUM($Y657)","v":32},null,{"$f":"TEXT(Y666,\"ddd\")","v":"do"},"MD",{"$f":"IFERROR(HLOOKUP(Y666,[1]DATA!$A$1:$NB$5,4,0),\"\")","v":"D2"},null,null,null,null,{"$f":"VLOOKUP(Y666,[1]SRA!$S$4:$Z$368,3,0)","v":0},"","",{"$f":"IFERROR(R667/(R667+AG667),\"\")","v":""}]
["32doND",{"$f":"VLOOKUP($AA668,DATA!$B$3:$E$6,2,0)","v":"22:30:00"},{"$f":"VLOOKUP($AA668,DATA!$B$3:$E$6,3,0)","v":"06:30:00"},{"$f":"VLOOKUP($AA668,DATA!$B$3:$E$6,4,0)","v":3.125E-2},{"$f":"(C668-B668+(B668>C668))-D668","v":0.30208333333333326},{"$f":"E668-O668-L668","v":0.30208333333333326},{"$f":"DATA!$C$9","v":0.89},{"$f":"DATA!$C$10","v":64},1,407.81249999999989,407.81249999999989,0,"","",0,"","",0,"","","","",null,{"$f":"X667","v":32},null,{"$f":"TEXT(Y666,\"ddd\")","v":"do"},"ND",{"$f":"IFERROR(HLOOKUP(Y666,[1]DATA!$A$1:$NB$5,5,0),\"\")","v":"D1"},null,null,null,null,{"$f":"VLOOKUP(Y666,[1]SRA!$S$4:$Z$368,4,0)","v":0},"","",""]
["32vrDD",{"$f":"VLOOKUP($AA669,DATA!$B$3:$E$6,2,0)","v":"06:30:00"},{"$f":"VLOOKUP($AA669,DATA!$B$3:$E$6,3,0)","v":"14:30:00"},{"$f":"VLOOKUP($AA669,DATA!$B$3:$E$6,4,0)","v":3.125E-2},0.30208333333333331,0.30208333333333331,{"$f":"DATA!$C$9","v":0.89},{"$f":"DATA!$C$10","v":64},1,407.8125,407.8125,0,"","",0,"","",0,"","","","",null,{"$f":"X667","v":32},"2018-08-10",{"$f":"TEXT(Y669,\"ddd\")","v":"vr"},"DD",{"$f":"IFERROR(HLOOKUP(Y669,[1]DATA!$A$1:$NB$5,3,0),\"\")","v":"D3"},null,null,null,null,{"$f":"VLOOKUP(Y669,[1]SRA!$S$4:$Z$368,2,0)","v":0},"","",""]
["32vrMD",{"$f":"VLOOKUP($AA670,DATA!$B$3:$E$6,2,0)","v":"14:30:00"},{"$f":"VLOOKUP($AA670,DATA!$B$3:$E$6,3,0)","v":"22:30:00"},{"$f":"VLOOKUP($AA670,DATA!$B$3:$E$6,4,0)","v":3.125E-2},0.30208333333333337,0.30208333333333337,{"$f":"DATA!$C$9","v":0.89},{"$f":"DATA!$C$10","v":64},1,407.81250000000006,407.81250000000006,0,"","",0,"","",0,"","","","",null,{"$f":"X667","v":32},null,{"$f":"TEXT(Y669,\"ddd\")","v":"vr"},"MD",{"$f":"IFERROR(HLOOKUP(Y669,[1]DATA!$A$1:$NB$5,4,0),\"\")","v":"D2"},null,null,null,null,{"$f":"VLOOKUP(Y669,[1]SRA!$S$4:$Z$368,3,0)","v":0},"","",""]
["32vrND",{"$f":"VLOOKUP($AA671,DATA!$B$3:$E$6,2,0)","v":"22:30:00"},{"$f":"VLOOKUP($AA671,DATA!$B$3:$E$6,3,0)","v":"06:30:00"},{"$f":"VLOOKUP($AA671,DATA!$B$3:$E$6,4,0)","v":3.125E-2},0.30208333333333326,0.30208333333333326,{"$f":"DATA!$C$9","v":0.89},{"$f":"DATA!$C$10","v":64},1,407.81249999999989,407.81249999999989,0,"","",0,"","",0,"","","","",null,{"$f":"X667","v":32},null,{"$f":"TEXT(Y669,\"ddd\")","v":"vr"},"ND",{"$f":"IFERROR(HLOOKUP(Y669,[1]DATA!$A$1:$NB$5,5,0),\"\")","v":"D2"},null,null,null,null,{"$f":"VLOOKUP(Y669,[1]SRA!$S$4:$Z$368,4,0)","v":0},"","",""]
["32zaDD",{"$f":"VLOOKUP($AA672,DATA!$B$3:$E$6,2,0)","v":"06:30:00"},{"$f":"VLOOKUP($AA672,DATA!$B$3:$E$6,3,0)","v":"14:30:00"},{"$f":"VLOOKUP($AA672,DATA!$B$3:$E$6,4,0)","v":3.125E-2},0.30208333333333331,0.30208333333333331,{"$f":"DATA!$C$9","v":0.89},{"$f":"DATA!$C$10","v":64},1,407.8125,407.8125,0,"","",0,"","",0,"","","","",null,{"$f":"X667","v":32},"2018-08-11",{"$f":"TEXT(Y672,\"ddd\")","v":"za"},"DD",{"$f":"IFERROR(HLOOKUP(Y672,[1]DATA!$A$1:$NB$5,3,0),\"\")","v":"D3"},null,null,null,null,{"$f":"VLOOKUP(Y672,[1]SRA!$S$4:$Z$368,2,0)","v":0},"","",""]
["32zaMD",{"$f":"VLOOKUP($AA673,DATA!$B$3:$E$6,2,0)","v":"14:30:00"},{"$f":"VLOOKUP($AA673,DATA!$B$3:$E$6,3,0)","v":"22:30:00"},{"$f":"VLOOKUP($AA673,DATA!$B$3:$E$6,4,0)","v":3.125E-2},0.30208333333333337,0.30208333333333337,{"$f":"DATA!$C$9","v":0.89},{"$f":"DATA!$C$10","v":64},1,407.81250000000006,407.81250000000006,0,"","",0,"","",0,"","","","",null,{"$f":"X667","v":32},null,{"$f":"TEXT(Y672,\"ddd\")","v":"za"},"MD",{"$f":"IFERROR(HLOOKUP(Y672,[1]DATA!$A$1:$NB$5,4,0),\"\")","v":"-"},null,null,null,null,{"$f":"VLOOKUP(Y672,[1]SRA!$S$4:$Z$368,3,0)","v":0},"","",""]
["32zaND",{"$f":"VLOOKUP($AA674,DATA!$B$3:$E$6,2,0)","v":"22:30:00"},{"$f":"VLOOKUP($AA674,DATA!$B$3:$E$6,3,0)","v":"06:30:00"},{"$f":"VLOOKUP($AA674,DATA!$B$3:$E$6,4,0)","v":3.125E-2},0.30208333333333326,0.30208333333333326,{"$f":"DATA!$C$9","v":0.89},{"$f":"DATA!$C$10","v":64},1,407.81249999999989,407.81249999999989,0,"","",0,"","",0,"","","","",null,{"$f":"X667","v":32},null,{"$f":"TEXT(Y672,\"ddd\")","v":"za"},"ND",{"$f":"IFERROR(HLOOKUP(Y672,[1]DATA!$A$1:$NB$5,5,0),\"\")","v":"-"},null,null,null,null,{"$f":"VLOOKUP(Y672,[1]SRA!$S$4:$Z$368,4,0)","v":0},"","",""]
["32zoDD",{"$f":"VLOOKUP($AA675,DATA!$B$3:$E$6,2,0)","v":"06:30:00"},{"$f":"VLOOKUP($AA675,DATA!$B$3:$E$6,3,0)","v":"14:30:00"},{"$f":"VLOOKUP($AA675,DATA!$B$3:$E$6,4,0)","v":3.125E-2},0.30208333333333331,0.30208333333333331,{"$f":"DATA!$C$9","v":0.89},{"$f":"DATA!$C$10","v":64},1,407.8125,407.8125,0,"","",0,"","",0,"","","","",null,{"$f":"X667","v":32},"2018-08-12",{"$f":"TEXT(Y675,\"ddd\")","v":"zo"},"DD",{"$f":"IFERROR(HLOOKUP(Y675,[1]DATA!$A$1:$NB$5,3,0),\"\")","v":"-"},null,null,null,null,{"$f":"VLOOKUP(Y675,[1]SRA!$S$4:$Z$368,2,0)","v":0},"","",""]
["32zoMD",{"$f":"VLOOKUP($AA676,DATA!$B$3:$E$6,2,0)","v":"14:30:00"},{"$f":"VLOOKUP($AA676,DATA!$B$3:$E$6,3,0)","v":"22:30:00"},{"$f":"VLOOKUP($AA676,DATA!$B$3:$E$6,4,0)","v":3.125E-2},0.30208333333333337,0.30208333333333337,{"$f":"DATA!$C$9","v":0.89},{"$f":"DATA!$C$10","v":64},1,407.81250000000006,407.81250000000006,0,"","",0,"","",0,"","","","",null,{"$f":"X667","v":32},null,{"$f":"TEXT(Y675,\"ddd\")","v":"zo"},"MD",{"$f":"IFERROR(HLOOKUP(Y675,[1]DATA!$A$1:$NB$5,4,0),\"\")","v":"-"},null,null,null,null,{"$f":"VLOOKUP(Y675,[1]SRA!$S$4:$Z$368,3,0)","v":0},"","",""]
["32zoZND",{"$f":"VLOOKUP($AA677,DATA!$B$3:$E$6,2,0)","v":"00:00:00"},{"$f":"VLOOKUP($AA677,DATA!$B$3:$E$6,3,0)","v":"00:00:00"},{"$f":"VLOOKUP($AA677,DATA!$B$3:$E$6,4,0)","v":0},0,0,{"$f":"DATA!$C$9","v":0.89},{"$f":"DATA!$C$10","v":64},1,0,0,0,"","",0,"","",0,"","","","",null,{"$f":"X667","v":32},null,{"$f":"TEXT(Y675,\"ddd\")","v":"zo"},"ZND",{"$f":"IFERROR(HLOOKUP(Y675,[1]DATA!$A$1:$NB$5,5,0),\"\")","v":"-"},null,null,null,null,{"$f":"VLOOKUP(Y675,[1]SRA!$S$4:$Z$368,4,0)","v":0},"","",""]
["33maDD",{"$f":"VLOOKUP($AA678,DATA!$B$3:$E$6,2,0)","v":"06:30:00"},{"$f":"VLOOKUP($AA678,DATA!$B$3:$E$6,3,0)","v":"14:30:00"},{"$f":"VLOOKUP($AA678,DATA!$B$3:$E$6,4,0)","v":3.125E-2},0.30208333333333331,0.21944444444444444,{"$f":"DATA!$C$9","v":0.89},{"$f":"DATA!$C$10","v":64},1,296.25,407.8125,8.2638888888888887E-2,111.5625,0.27356321839080461,{"$f":"TIME(INT($AD678/60),INT(MOD($AD678,60)/1),0)","v":0},"","",325.33333333333331,286,"",286,"",null,{"$f":"X688","v":33},"2018-08-13",{"$f":"TEXT(Y678,\"ddd\")","v":"ma"},"DD",{"$f":"IFERROR(HLOOKUP(Y678,[1]DATA!$A$1:$NB$5,3,0),\"\")","v":"D2"},119,null,19,305,{"$f":"VLOOKUP(Y678,[1]SRA!$S$4:$Z$368,2,0)","v":20},-10.25,0.70130268199233714,0.94208494208494209,{"$f":"IF(SUMIF(S678:S698,\">0\",K678:K698)=0,\"\",SUMIF(S678:S698,\">0\",K678:K698))","v":6117.1875},{"$f":"IF(SUM(S678:S698)=0,\"\",SUM(S678:S698))","v":4056},{"$f":"IFERROR(AL678/AK678,\"-\")","v":0.66304980842911876},{"$f":"IF(SUM(M678:M698)=0,\"0\",SUM(M678:M698))","v":1385.625},{"$f":"IFERROR(AN678/AK678,\"-\")","v":0.22651340996168581},{"$f":"IF(SUM(P678:P698)=0,0,SUM(P678:P698))","v":0},{"$f":"IFERROR(AP678/AK678,\"-\")","v":0},{"$f":"IFERROR(AVERAGE(AJ678:AJ698),\"-\")","v":0.92979645914256848},{"$f":"IFERROR(SUMIF($AB678:$AB698,AS$5,$AJ678:$AJ698)/COUNTIFS($AB678:$AB698,AS$5,$AJ678:$AJ698,\">0\"),\"\")","v":0.89449666894718938},0.94218669076104111,0.95533584945908345,{"$f":"IFERROR((AK678-AL678-AN678-AP678),\"-\")","v":675.5625},{"$f":"IFERROR((1-AM678-AO678-AQ678), \"-\")","v":0.11043678160919543},{"$f":"IFERROR((AV678*$AE$2)/60,\"-\")","v":720.6},{"$f":"IFERROR(SUM(AG678:AG698),\"\")","v":357}]
["33maMD",{"$f":"VLOOKUP($AA679,DATA!$B$3:$E$6,2,0)","v":"14:30:00"},{"$f":"VLOOKUP($AA679,DATA!$B$3:$E$6,3,0)","v":"22:30:00"},{"$f":"VLOOKUP($AA679,DATA!$B$3:$E$6,4,0)","v":3.125E-2},0.30208333333333337,0.17777777777777781,{"$f":"DATA!$C$9","v":0.89},{"$f":"DATA!$C$10","v":64},1,240.00000000000006,407.81250000000006,0.12430555555555556,167.8125,0.41149425287356317,{"$f":"TIME(INT(AD679/60),INT(MOD(AD679,60)/1),0)","v":0},"","",358.4,320,320,"","",null,{"$f":"X688","v":33},null,{"$f":"TEXT(Y678,\"ddd\")","v":"ma"},"MD",{"$f":"IFERROR(HLOOKUP(Y678,[1]DATA!$A$1:$NB$5,4,0),\"\")","v":"D1"},179,null,16,336,{"$f":"VLOOKUP(Y678,[1]SRA!$S$4:$Z$368,3,0)","v":7},79.999999999999943,0.78467432950191562,0.98084291187739459]
["33maND",{"$f":"VLOOKUP($AA680,DATA!$B$3:$E$6,2,0)","v":"22:30:00"},{"$f":"VLOOKUP($AA680,DATA!$B$3:$E$6,3,0)","v":"06:30:00"},{"$f":"VLOOKUP($AA680,DATA!$B$3:$E$6,4,0)","v":3.125E-2},0.30208333333333326,0.27777777777777768,{"$f":"DATA!$C$9","v":0.89},{"$f":"DATA!$C$10","v":64},1,374.99999999999989,407.81249999999989,2.4305555555555556E-2,32.8125,8.0459770114942555E-2,0,"","",306.13333333333333,274,"","",274,null,{"$f":"X688","v":33},null,{"$f":"TEXT(Y678,\"ddd\")","v":"ma"},"ND",{"$f":"IFERROR(HLOOKUP(Y678,[1]DATA!$A$1:$NB$5,5,0),\"\")","v":"D3"},35,null,13,287,{"$f":"VLOOKUP(Y678,[1]SRA!$S$4:$Z$368,4,0)","v":0},-100.99999999999989,0.67187739463601548,1]
["33diDD",{"$f":"VLOOKUP($AA681,DATA!$B$3:$E$6,2,0)","v":"06:30:00"},{"$f":"VLOOKUP($AA681,DATA!$B$3:$E$6,3,0)","v":"14:30:00"},{"$f":"VLOOKUP($AA681,DATA!$B$3:$E$6,4,0)","v":3.125E-2},0.30208333333333331,0.26041666666666663,{"$f":"DATA!$C$9","v":0.89},{"$f":"DATA!$C$10","v":64},1,351.56249999999994,407.8125,4.1666666666666664E-2,56.25,0.13793103448275862,0,"","",268.8,223,"",223,"",null,{"$f":"X688","v":33},"2018-08-14",{"$f":"TEXT(Y681,\"ddd\")","v":"di"},"DD",{"$f":"IFERROR(HLOOKUP(Y681,[1]DATA!$A$1:$NB$5,3,0),\"\")","v":"D2"},60,null,29,252,{"$f":"VLOOKUP(Y681,[1]SRA!$S$4:$Z$368,2,0)","v":23},-128.56249999999994,0.54681992337164753,0.92117888965044548]
["33diMD",{"$f":"VLOOKUP($AA682,DATA!$B$3:$E$6,2,0)","v":"14:30:00"},{"$f":"VLOOKUP($AA682,DATA!$B$3:$E$6,3,0)","v":"22:30:00"},{"$f":"VLOOKUP($AA682,DATA!$B$3:$E$6,4,0)","v":3.125E-2},0.30208333333333337,0.1590277777777778,{"$f":"DATA!$C$9","v":0.89},{"$f":"DATA!$C$10","v":64},1,214.68750000000003,407.81250000000006,0.14305555555555557,193.12500000000003,0.47356321839080462,0,"","",277.33333333333331,238,238,"","",null,{"$f":"X688","v":33},null,{"$f":"TEXT(Y681,\"ddd\")","v":"di"},"MD",{"$f":"IFERROR(HLOOKUP(Y681,[1]DATA!$A$1:$NB$5,4,0),\"\")","v":"D1"},206,null,22,260,{"$f":"VLOOKUP(Y681,[1]SRA!$S$4:$Z$368,3,0)","v":0},23.312499999999972,0.58360153256704972,1]
["33diND",{"$f":"VLOOKUP($AA683,DATA!$B$3:$E$6,2,0)","v":"22:30:00"},{"$f":"VLOOKUP($AA683,DATA!$B$3:$E$6,3,0)","v":"06:30:00"},{"$f":"VLOOKUP($AA683,DATA!$B$3:$E$6,4,0)","v":3.125E-2},0.30208333333333326,0.29027777777777769,{"$f":"DATA!$C$9","v":0.89},{"$f":"DATA!$C$10","v":64},1,391.87499999999989,407.81249999999989,1.1805555555555555E-2,15.9375,3.9080459770114956E-2,0,"","",256,226,"","",226,null,{"$f":"X688","v":33},null,{"$f":"TEXT(Y681,\"ddd\")","v":"di"},"ND",{"$f":"IFERROR(HLOOKUP(Y681,[1]DATA!$A$1:$NB$5,5,0),\"\")","v":"D3"},17,null,14,240,{"$f":"VLOOKUP(Y681,[1]SRA!$S$4:$Z$368,4,0)","v":0},-165.87499999999989,0.55417624521072817,1]
["33woDD",{"$f":"VLOOKUP($AA684,DATA!$B$3:$E$6,2,0)","v":"06:30:00"},{"$f":"VLOOKUP($AA684,DATA!$B$3:$E$6,3,0)","v":"14:30:00"},{"$f":"VLOOKUP($AA684,DATA!$B$3:$E$6,4,0)","v":3.125E-2},0.30208333333333331,0.17986111111111108,{"$f":"DATA!$C$9","v":0.89},{"$f":"DATA!$C$10","v":64},1,242.81249999999997,407.8125,0.12222222222222223,165,0.40459770114942528,0,"","",306.13333333333333,270,"",270,"",null,{"$f":"X688","v":33},"2018-08-15",{"$f":"TEXT(Y684,\"ddd\")","v":"wo"},"DD",{"$f":"IFERROR(HLOOKUP(Y684,[1]DATA!$A$1:$NB$5,3,0),\"\")","v":"D2"},176,null,17,287,{"$f":"VLOOKUP(Y684,[1]SRA!$S$4:$Z$368,2,0)","v":16},27.187500000000028,0.66206896551724137,0.95033112582781454]
["33woMD",{"$f":"VLOOKUP($AA685,DATA!$B$3:$E$6,2,0)","v":"14:30:00"},{"$f":"VLOOKUP($AA685,DATA!$B$3:$E$6,3,0)","v":"22:30:00"},{"$f":"VLOOKUP($AA685,DATA!$B$3:$E$6,4,0)","v":3.125E-2},0.30208333333333337,0.28125000000000006,{"$f":"DATA!$C$9","v":0.89},{"$f":"DATA!$C$10","v":64},1,379.68750000000006,407.81250000000006,2.0833333333333332E-2,28.125,6.8965517241379296E-2,0,"","",346.66666666666669,317,317,"","",null,{"$f":"X688","v":33},null,{"$f":"TEXT(Y684,\"ddd\")","v":"wo"},"MD",{"$f":"IFERROR(HLOOKUP(Y684,[1]DATA!$A$1:$NB$5,4,0),\"\")","v":"D1"},30,null,8,325,{"$f":"VLOOKUP(Y684,[1]SRA!$S$4:$Z$368,3,0)","v":31},-62.687500000000057,0.7773180076628351,0.91791703442188877]
["33woND",{"$f":"VLOOKUP($AA686,DATA!$B$3:$E$6,2,0)","v":"22:30:00"},{"$f":"VLOOKUP($AA686,DATA!$B$3:$E$6,3,0)","v":"06:30:00"},{"$f":"VLOOKUP($AA686,DATA!$B$3:$E$6,4,0)","v":3.125E-2},0.30208333333333326,0.30208333333333326,{"$f":"DATA!$C$9","v":0.89},{"$f":"DATA!$C$10","v":64},1,407.81249999999989,407.81249999999989,0,"","",0,"","",377.6,325,"","",325,null,{"$f":"X688","v":33},null,{"$f":"TEXT(Y684,\"ddd\")","v":"wo"},"ND",{"$f":"IFERROR(HLOOKUP(Y684,[1]DATA!$A$1:$NB$5,5,0),\"\")","v":"D3"},0,null,29,354,{"$f":"VLOOKUP(Y684,[1]SRA!$S$4:$Z$368,4,0)","v":5},-82.812499999999886,0.79693486590038332,0.98693152117093574]
["33doDD",{"$f":"VLOOKUP($AA687,DATA!$B$3:$E$6,2,0)","v":"06:30:00"},{"$f":"VLOOKUP($AA687,DATA!$B$3:$E$6,3,0)","v":"14:30:00"},{"$f":"VLOOKUP($AA687,DATA!$B$3:$E$6,4,0)","v":3.125E-2},0.30208333333333331,0.12986111111111107,{"$f":"DATA!$C$9","v":0.89},{"$f":"DATA!$C$10","v":64},1,175.31249999999994,407.8125,0.17222222222222225,232.50000000000003,0.57011494252873574,0,"","",258.13333333333333,216,"",216,"",null,{"$f":"X688","v":33},"2018-08-16",{"$f":"TEXT(Y687,\"ddd\")","v":"do"},"DD",{"$f":"IFERROR(HLOOKUP(Y687,[1]DATA!$A$1:$NB$5,3,0),\"\")","v":"D2"},248,null,26,242,{"$f":"VLOOKUP(Y687,[1]SRA!$S$4:$Z$368,2,0)","v":21},40.687500000000057,0.52965517241379312,0.92476713637449248]
[{"$f":"X688&Z688&AA688","v":"33doMD"},{"$f":"VLOOKUP($AA688,DATA!$B$3:$E$6,2,0)","v":"14:30:00"},{"$f":"VLOOKUP($AA688,DATA!$B$3:$E$6,3,0)","v":"22:30:00"},{"$f":"VLOOKUP($AA688,DATA!$B$3:$E$6,4,0)","v":3.125E-2},0.30208333333333337,0.21319444444444446,{"$f":"DATA!$C$9","v":0.89},{"$f":"DATA!$C$10","v":64},1,287.8125,407.81250000000006,8.8888888888888892E-2,120,0.29425287356321833,0,{"$f":"IF($O688*86400/$H688=0,\"\",$O688*86400/$H688)","v":""},"",288,250,250,"","",null,{"$f":"WEEKNUM($Y678)","v":33},null,{"$f":"TEXT(Y687,\"ddd\")","v":"do"},"MD",{"$f":"IFERROR(HLOOKUP(Y687,[1]DATA!$A$1:$NB$5,4,0),\"\")","v":"D1"},128,null,20,270,{"$f":"VLOOKUP(Y687,[1]SRA!$S$4:$Z$368,3,0)","v":76},-37.8125,0.6130268199233716,0.79120879120879117]
["33doND",{"$f":"VLOOKUP($AA689,DATA!$B$3:$E$6,2,0)","v":"22:30:00"},{"$f":"VLOOKUP($AA689,DATA!$B$3:$E$6,3,0)","v":"06:30:00"},{"$f":"VLOOKUP($AA689,DATA!$B$3:$E$6,4,0)","v":3.125E-2},0.30208333333333326,0.30138888888888882,{"$f":"DATA!$C$9","v":0.89},{"$f":"DATA!$C$10","v":64},1,406.87499999999989,407.81249999999989,6.9444444444444447E-4,0.9375,2.2988505747126445E-3,0,"","",292.26666666666665,253,"","",253,null,{"$f":"X688","v":33},null,{"$f":"TEXT(Y687,\"ddd\")","v":"do"},"ND",{"$f":"IFERROR(HLOOKUP(Y687,[1]DATA!$A$1:$NB$5,5,0),\"\")","v":"D3"},1,null,21,274,{"$f":"VLOOKUP(Y687,[1]SRA!$S$4:$Z$368,4,0)","v":58},-153.87499999999989,0.62038314176245224,0.83441187666539773]
["33vrDD",{"$f":"VLOOKUP($AA690,DATA!$B$3:$E$6,2,0)","v":"06:30:00"},{"$f":"VLOOKUP($AA690,DATA!$B$3:$E$6,3,0)","v":"14:30:00"},{"$f":"VLOOKUP($AA690,DATA!$B$3:$E$6,4,0)","v":3.125E-2},0.30208333333333331,0.25694444444444442,{"$f":"DATA!$C$9","v":0.89},{"$f":"DATA!$C$10","v":64},1,346.87499999999994,407.8125,4.5138888888888888E-2,60.9375,0.14942528735632185,0,"","",354.13333333333333,309,"",309,"",null,{"$f":"X688","v":33},"2018-08-17",{"$f":"TEXT(Y690,\"ddd\")","v":"vr"},"DD",{"$f":"IFERROR(HLOOKUP(Y690,[1]DATA!$A$1:$NB$5,3,0),\"\")","v":"D2"},65,null,23,332,{"$f":"VLOOKUP(Y690,[1]SRA!$S$4:$Z$368,2,0)","v":33},-37.874999999999943,0.75770114942528732,0.91475805062855176]
["33vrMD",{"$f":"VLOOKUP($AA691,DATA!$B$3:$E$6,2,0)","v":"14:30:00"},{"$f":"VLOOKUP($AA691,DATA!$B$3:$E$6,3,0)","v":"22:30:00"},{"$f":"VLOOKUP($AA691,DATA!$B$3:$E$6,4,0)","v":3.125E-2},0.30208333333333337,0.17152777777777781,{"$f":"DATA!$C$9","v":0.89},{"$f":"DATA!$C$10","v":64},1,231.56250000000003,407.81250000000006,0.13055555555555556,176.25,0.43218390804597695,0,"","",241.06666666666666,226,226,"","",null,{"$f":"X688","v":33},null,{"$f":"TEXT(Y690,\"ddd\")","v":"vr"},"MD",{"$f":"IFERROR(HLOOKUP(Y690,[1]DATA!$A$1:$NB$5,4,0),\"\")","v":"D1"},188,null,0,226,{"$f":"VLOOKUP(Y690,[1]SRA!$S$4:$Z$368,3,0)","v":67},-5.5625000000000284,0.55417624521072795,0.7825146072278728]
["33vrND",{"$f":"VLOOKUP($AA692,DATA!$B$3:$E$6,2,0)","v":"22:30:00"},{"$f":"VLOOKUP($AA692,DATA!$B$3:$E$6,3,0)","v":"06:30:00"},{"$f":"VLOOKUP($AA692,DATA!$B$3:$E$6,4,0)","v":3.125E-2},0.30208333333333326,0.30208333333333326,{"$f":"DATA!$C$9","v":0.89},{"$f":"DATA!$C$10","v":64},1,407.81249999999989,407.81249999999989,0,"","",0,"","",0,"","","","",null,{"$f":"X688","v":33},null,{"$f":"TEXT(Y690,\"ddd\")","v":"vr"},"ND",{"$f":"IFERROR(HLOOKUP(Y690,[1]DATA!$A$1:$NB$5,5,0),\"\")","v":"D3"},0,null,0,0,{"$f":"VLOOKUP(Y690,[1]SRA!$S$4:$Z$368,4,0)","v":0},"","",""]
["33zaDD",{"$f":"VLOOKUP($AA693,DATA!$B$3:$E$6,2,0)","v":"06:30:00"},{"$f":"VLOOKUP($AA693,DATA!$B$3:$E$6,3,0)","v":"14:30:00"},{"$f":"VLOOKUP($AA693,DATA!$B$3:$E$6,4,0)","v":3.125E-2},0.30208333333333331,0.28402777777777777,{"$f":"DATA!$C$9","v":0.89},{"$f":"DATA!$C$10","v":64},1,383.4375,407.8125,1.8055555555555557E-2,24.375000000000004,5.9770114942528742E-2,0,"","",356.26666666666665,323,"",323,"",null,{"$f":"X688","v":33},"2018-08-18",{"$f":"TEXT(Y693,\"ddd\")","v":"za"},"DD",{"$f":"IFERROR(HLOOKUP(Y693,[1]DATA!$A$1:$NB$5,3,0),\"\")","v":"D2"},26,null,11,334,{"$f":"VLOOKUP(Y693,[1]SRA!$S$4:$Z$368,2,0)","v":0},-60.4375,0.79203065134099615,1]
["33zaMD",{"$f":"VLOOKUP($AA694,DATA!$B$3:$E$6,2,0)","v":"14:30:00"},{"$f":"VLOOKUP($AA694,DATA!$B$3:$E$6,3,0)","v":"22:30:00"},{"$f":"VLOOKUP($AA694,DATA!$B$3:$E$6,4,0)","v":3.125E-2},0.30208333333333337,0.30208333333333337,{"$f":"DATA!$C$9","v":0.89},{"$f":"DATA!$C$10","v":64},1,407.81250000000006,407.81250000000006,0,"","",0,"","",0,"","","","",null,{"$f":"X688","v":33},null,{"$f":"TEXT(Y693,\"ddd\")","v":"za"},"MD",{"$f":"IFERROR(HLOOKUP(Y693,[1]DATA!$A$1:$NB$5,4,0),\"\")","v":"-"},null,null,null,null,{"$f":"VLOOKUP(Y693,[1]SRA!$S$4:$Z$368,3,0)","v":0},"","",""]
["33zaND",{"$f":"VLOOKUP($AA695,DATA!$B$3:$E$6,2,0)","v":"22:30:00"},{"$f":"VLOOKUP($AA695,DATA!$B$3:$E$6,3,0)","v":"06:30:00"},{"$f":"VLOOKUP($AA695,DATA!$B$3:$E$6,4,0)","v":3.125E-2},0.30208333333333326,0.30208333333333326,{"$f":"DATA!$C$9","v":0.89},{"$f":"DATA!$C$10","v":64},1,407.81249999999989,407.81249999999989,0,"","",0,"","",0,"","","","",null,{"$f":"X688","v":33},null,{"$f":"TEXT(Y693,\"ddd\")","v":"za"},"ND",{"$f":"IFERROR(HLOOKUP(Y693,[1]DATA!$A$1:$NB$5,5,0),\"\")","v":"-"},null,null,null,null,{"$f":"VLOOKUP(Y693,[1]SRA!$S$4:$Z$368,4,0)","v":0},"","",""]
["33zoDD",{"$f":"VLOOKUP($AA696,DATA!$B$3:$E$6,2,0)","v":"06:30:00"},{"$f":"VLOOKUP($AA696,DATA!$B$3:$E$6,3,0)","v":"14:30:00"},{"$f":"VLOOKUP($AA696,DATA!$B$3:$E$6,4,0)","v":3.125E-2},0.30208333333333331,0.30208333333333331,{"$f":"DATA!$C$9","v":0.89},{"$f":"DATA!$C$10","v":64},1,407.8125,407.8125,0,"","",0,"","",0,"","","","",null,{"$f":"X688","v":33},{"$f":"Y693+1","v":"2018-08-19"},{"$f":"TEXT(Y696,\"ddd\")","v":"zo"},"DD",{"$f":"IFERROR(HLOOKUP(Y696,[1]DATA!$A$1:$NB$5,3,0),\"\")","v":"-"},null,null,null,null,{"$f":"VLOOKUP(Y696,[1]SRA!$S$4:$Z$368,2,0)","v":0},"","",""]
["33zoMD",{"$f":"VLOOKUP($AA697,DATA!$B$3:$E$6,2,0)","v":"14:30:00"},{"$f":"VLOOKUP($AA697,DATA!$B$3:$E$6,3,0)","v":"22:30:00"},{"$f":"VLOOKUP($AA697,DATA!$B$3:$E$6,4,0)","v":3.125E-2},0.30208333333333337,0.30208333333333337,{"$f":"DATA!$C$9","v":0.89},{"$f":"DATA!$C$10","v":64},1,407.81250000000006,407.81250000000006,0,"","",0,"","",0,"","","","",null,{"$f":"X688","v":33},null,{"$f":"TEXT(Y696,\"ddd\")","v":"zo"},"MD",{"$f":"IFERROR(HLOOKUP(Y696,[1]DATA!$A$1:$NB$5,4,0),\"\")","v":"-"},null,null,null,null,{"$f":"VLOOKUP(Y696,[1]SRA!$S$4:$Z$368,3,0)","v":0},"","",""]
["33zoZND",{"$f":"VLOOKUP($AA698,DATA!$B$3:$E$6,2,0)","v":"00:00:00"},{"$f":"VLOOKUP($AA698,DATA!$B$3:$E$6,3,0)","v":"00:00:00"},{"$f":"VLOOKUP($AA698,DATA!$B$3:$E$6,4,0)","v":0},0,0,{"$f":"DATA!$C$9","v":0.89},{"$f":"DATA!$C$10","v":64},1,0,0,0,"","",0,"","",0,"","","","",null,{"$f":"X688","v":33},null,{"$f":"TEXT(Y696,\"ddd\")","v":"zo"},"ZND",{"$f":"IFERROR(HLOOKUP(Y696,[1]DATA!$A$1:$NB$5,5,0),\"\")","v":"-"},null,null,null,null,{"$f":"VLOOKUP(Y696,[1]SRA!$S$4:$Z$368,4,0)","v":0},"","",""]
["34maDD",{"$f":"VLOOKUP($AA699,DATA!$B$3:$E$6,2,0)","v":"06:30:00"},{"$f":"VLOOKUP($AA699,DATA!$B$3:$E$6,3,0)","v":"14:30:00"},{"$f":"VLOOKUP($AA699,DATA!$B$3:$E$6,4,0)","v":3.125E-2},0.30208333333333331,0.27638888888888885,{"$f":"DATA!$C$9","v":0.89},{"$f":"DATA!$C$10","v":64},1,373.12499999999994,407.8125,2.5694444444444447E-2,34.6875,8.5057471264367815E-2,{"$f":"TIME(INT($AD699/60),INT(MOD($AD699,60)/1),0)","v":0},"","",277.33333333333331,247,247,"","",null,{"$f":"X709","v":34},"2018-08-20",{"$f":"TEXT(Y699,\"ddd\")","v":"ma"},"DD",{"$f":"IFERROR(HLOOKUP(Y699,[1]DATA!$A$1:$NB$5,3,0),\"\")","v":"D1"},37,null,13,260,{"$f":"VLOOKUP(Y699,[1]SRA!$S$4:$Z$368,2,0)","v":31},-126.12499999999994,0.60567049808429119,0.89945945945945949,{"$f":"IF(SUMIF(S699:S719,\">0\",K699:K719)=0,\"\",SUMIF(S699:S719,\">0\",K699:K719))","v":6117.1875},{"$f":"IF(SUM(S699:S719)=0,\"\",SUM(S699:S719))","v":4369},{"$f":"IFERROR(AL699/AK699,\"-\")","v":0.71421711366538954},{"$f":"IF(SUM(M699:M719)=0,\"0\",SUM(M699:M719))","v":340.3125},{"$f":"IFERROR(AN699/AK699,\"-\")","v":5.563218390804598E-2},{"$f":"IF(SUM(P699:P719)=0,0,SUM(P699:P719))","v":0},{"$f":"IFERROR(AP699/AK699,\"-\")","v":0},{"$f":"IFERROR(AVERAGE(AJ699:AJ719),\"-\")","v":0.95457116883881155},{"$f":"IFERROR(SUMIF($AB699:$AB719,AS$5,$AJ699:$AJ719)/COUNTIFS($AB699:$AB719,AS$5,$AJ699:$AJ719,\">0\"),\"\")","v":0.94647657730063572},0.98246868463257564,0.93476824458322327,{"$f":"IFERROR((AK699-AL699-AN699-AP699),\"-\")","v":1407.875},{"$f":"IFERROR((1-AM699-AO699-AQ699), \"-\")","v":0.23015070242656449},{"$f":"IFERROR((AV699*$AE$2)/60,\"-\")","v":1501.7333333333333},{"$f":"IFERROR(SUM(AG699:AG719),\"\")","v":259}]
["34maMD",{"$f":"VLOOKUP($AA700,DATA!$B$3:$E$6,2,0)","v":"14:30:00"},{"$f":"VLOOKUP($AA700,DATA!$B$3:$E$6,3,0)","v":"22:30:00"},{"$f":"VLOOKUP($AA700,DATA!$B$3:$E$6,4,0)","v":3.125E-2},0.30208333333333337,0.28680555555555559,{"$f":"DATA!$C$9","v":0.89},{"$f":"DATA!$C$10","v":64},1,387.18750000000006,407.81250000000006,1.5277777777777777E-2,20.625,5.0574712643678153E-2,{"$f":"TIME(INT(AD700/60),INT(MOD(AD700,60)/1),0)","v":0},"","",324.26666666666665,295,"","",295,null,{"$f":"X709","v":34},null,{"$f":"TEXT(Y699,\"ddd\")","v":"ma"},"MD",{"$f":"IFERROR(HLOOKUP(Y699,[1]DATA!$A$1:$NB$5,4,0),\"\")","v":"D3"},22,null,9,304,{"$f":"VLOOKUP(Y699,[1]SRA!$S$4:$Z$368,3,0)","v":3},-92.187500000000057,0.7233716475095785,0.99083316357710327]
["34maND",{"$f":"VLOOKUP($AA701,DATA!$B$3:$E$6,2,0)","v":"22:30:00"},{"$f":"VLOOKUP($AA701,DATA!$B$3:$E$6,3,0)","v":"06:30:00"},{"$f":"VLOOKUP($AA701,DATA!$B$3:$E$6,4,0)","v":3.125E-2},0.30208333333333326,0.26041666666666657,{"$f":"DATA!$C$9","v":0.89},{"$f":"DATA!$C$10","v":64},1,351.56249999999989,407.81249999999989,4.1666666666666664E-2,56.25,0.13793103448275865,0,"","",282.66666666666669,263,"",263,"",null,{"$f":"X709","v":34},null,{"$f":"TEXT(Y699,\"ddd\")","v":"ma"},"ND",{"$f":"IFERROR(HLOOKUP(Y699,[1]DATA!$A$1:$NB$5,5,0),\"\")","v":"D2"},60,null,2,265,{"$f":"VLOOKUP(Y699,[1]SRA!$S$4:$Z$368,4,0)","v":0},-88.562499999999886,0.64490421455938718,1]
["34diDD",{"$f":"VLOOKUP($AA702,DATA!$B$3:$E$6,2,0)","v":"06:30:00"},{"$f":"VLOOKUP($AA702,DATA!$B$3:$E$6,3,0)","v":"14:30:00"},{"$f":"VLOOKUP($AA702,DATA!$B$3:$E$6,4,0)","v":3.125E-2},0.30208333333333331,0.27013888888888887,{"$f":"DATA!$C$9","v":0.89},{"$f":"DATA!$C$10","v":64},1,364.6875,407.8125,3.1944444444444449E-2,43.125000000000007,0.10574712643678162,0,"","",340.26666666666665,299,299,"","",null,{"$f":"X709","v":34},"2018-08-21",{"$f":"TEXT(Y702,\"ddd\")","v":"di"},"DD",{"$f":"IFERROR(HLOOKUP(Y702,[1]DATA!$A$1:$NB$5,3,0),\"\")","v":"D1"},46,null,20,319,{"$f":"VLOOKUP(Y702,[1]SRA!$S$4:$Z$368,2,0)","v":11},-65.6875,0.7331800766283525,0.96868475991649272]
["34diMD",{"$f":"VLOOKUP($AA703,DATA!$B$3:$E$6,2,0)","v":"14:30:00"},{"$f":"VLOOKUP($AA703,DATA!$B$3:$E$6,3,0)","v":"22:30:00"},{"$f":"VLOOKUP($AA703,DATA!$B$3:$E$6,4,0)","v":3.125E-2},0.30208333333333337,0.26875000000000004,{"$f":"DATA!$C$9","v":0.89},{"$f":"DATA!$C$10","v":64},1,362.81250000000006,407.81250000000006,3.3333333333333333E-2,45,0.11034482758620688,0,"","",338.13333333333333,309,"","",309,null,{"$f":"X709","v":34},null,{"$f":"TEXT(Y702,\"ddd\")","v":"di"},"MD",{"$f":"IFERROR(HLOOKUP(Y702,[1]DATA!$A$1:$NB$5,4,0),\"\")","v":"D3"},48,null,8,317,{"$f":"VLOOKUP(Y702,[1]SRA!$S$4:$Z$368,3,0)","v":12},-53.812500000000057,0.75770114942528721,0.96572734196496568]
["34diND",{"$f":"VLOOKUP($AA704,DATA!$B$3:$E$6,2,0)","v":"22:30:00"},{"$f":"VLOOKUP($AA704,DATA!$B$3:$E$6,3,0)","v":"06:30:00"},{"$f":"VLOOKUP($AA704,DATA!$B$3:$E$6,4,0)","v":3.125E-2},0.30208333333333326,0.29097222222222213,{"$f":"DATA!$C$9","v":0.89},{"$f":"DATA!$C$10","v":64},1,392.81249999999989,407.81249999999989,1.1111111111111112E-2,15,3.6781609195402312E-2,0,"","",312.5333333333333,279,"",279,"",null,{"$f":"X709","v":34},null,{"$f":"TEXT(Y702,\"ddd\")","v":"di"},"ND",{"$f":"IFERROR(HLOOKUP(Y702,[1]DATA!$A$1:$NB$5,5,0),\"\")","v":"D2"},16,null,14,293,{"$f":"VLOOKUP(Y702,[1]SRA!$S$4:$Z$368,4,0)","v":3},-113.81249999999989,0.68413793103448295,0.99049228818930912]
["34woDD",{"$f":"VLOOKUP($AA705,DATA!$B$3:$E$6,2,0)","v":"06:30:00"},{"$f":"VLOOKUP($AA705,DATA!$B$3:$E$6,3,0)","v":"14:30:00"},{"$f":"VLOOKUP($AA705,DATA!$B$3:$E$6,4,0)","v":3.125E-2},0.30208333333333331,0.29166666666666663,{"$f":"DATA!$C$9","v":0.89},{"$f":"DATA!$C$10","v":64},1,393.74999999999994,407.8125,1.0416666666666666E-2,14.0625,3.4482758620689655E-2,0,"","",402.13333333333333,349,349,"","",null,{"$f":"X709","v":34},"2018-08-22",{"$f":"TEXT(Y705,\"ddd\")","v":"wo"},"DD",{"$f":"IFERROR(HLOOKUP(Y705,[1]DATA!$A$1:$NB$5,3,0),\"\")","v":"D1"},15,null,28,377,{"$f":"VLOOKUP(Y705,[1]SRA!$S$4:$Z$368,2,0)","v":2},-44.749999999999943,0.85578544061302686,0.99505113823820523]
["34woMD",{"$f":"VLOOKUP($AA706,DATA!$B$3:$E$6,2,0)","v":"14:30:00"},{"$f":"VLOOKUP($AA706,DATA!$B$3:$E$6,3,0)","v":"22:30:00"},{"$f":"VLOOKUP($AA706,DATA!$B$3:$E$6,4,0)","v":3.125E-2},0.30208333333333337,0.2729166666666667,{"$f":"DATA!$C$9","v":0.89},{"$f":"DATA!$C$10","v":64},1,368.43750000000006,407.81250000000006,2.9166666666666664E-2,39.374999999999993,9.6551724137931005E-2,0,"","",289.06666666666666,255,"","",255,null,{"$f":"X709","v":34},null,{"$f":"TEXT(Y705,\"ddd\")","v":"wo"},"MD",{"$f":"IFERROR(HLOOKUP(Y705,[1]DATA!$A$1:$NB$5,4,0),\"\")","v":"D3"},42,null,16,271,{"$f":"VLOOKUP(Y705,[1]SRA!$S$4:$Z$368,3,0)","v":8},-113.43750000000006,0.62528735632183896,0.97307001795332138]
["34woND",{"$f":"VLOOKUP($AA707,DATA!$B$3:$E$6,2,0)","v":"22:30:00"},{"$f":"VLOOKUP($AA707,DATA!$B$3:$E$6,3,0)","v":"06:30:00"},{"$f":"VLOOKUP($AA707,DATA!$B$3:$E$6,4,0)","v":3.125E-2},0.30208333333333326,0.28263888888888883,{"$f":"DATA!$C$9","v":0.89},{"$f":"DATA!$C$10","v":64},1,381.56249999999994,407.81249999999989,1.9444444444444445E-2,26.25,6.4367816091954036E-2,0,"","",256,226,"",226,"",null,{"$f":"X709","v":34},null,{"$f":"TEXT(Y705,\"ddd\")","v":"wo"},"ND",{"$f":"IFERROR(HLOOKUP(Y705,[1]DATA!$A$1:$NB$5,5,0),\"\")","v":"D2"},28,null,14,240,{"$f":"VLOOKUP(Y705,[1]SRA!$S$4:$Z$368,4,0)","v":5},-155.56249999999994,0.55417624521072817,0.98084291187739459]
["34doDD",{"$f":"VLOOKUP($AA708,DATA!$B$3:$E$6,2,0)","v":"06:30:00"},{"$f":"VLOOKUP($AA708,DATA!$B$3:$E$6,3,0)","v":"14:30:00"},{"$f":"VLOOKUP($AA708,DATA!$B$3:$E$6,4,0)","v":3.125E-2},0.30208333333333331,0.28472222222222221,{"$f":"DATA!$C$9","v":0.89},{"$f":"DATA!$C$10","v":64},1,384.375,407.8125,1.7361111111111112E-2,23.4375,5.7471264367816091E-2,0,"","",346.66666666666669,313,313,"","",null,{"$f":"X709","v":34},"2018-08-23",{"$f":"TEXT(Y708,\"ddd\")","v":"do"},"DD",{"$f":"IFERROR(HLOOKUP(Y708,[1]DATA!$A$1:$NB$5,3,0),\"\")","v":"D1"},25,null,12,325,{"$f":"VLOOKUP(Y708,[1]SRA!$S$4:$Z$368,2,0)","v":20},-71.375,0.76750957854406132,0.94545454545454544]
["34doMD",{"$f":"VLOOKUP($AA709,DATA!$B$3:$E$6,2,0)","v":"14:30:00"},{"$f":"VLOOKUP($AA709,DATA!$B$3:$E$6,3,0)","v":"22:30:00"},{"$f":"VLOOKUP($AA709,DATA!$B$3:$E$6,4,0)","v":3.125E-2},0.30208333333333337,0.28611111111111115,{"$f":"DATA!$C$9","v":0.89},{"$f":"DATA!$C$10","v":64},1,386.25000000000006,407.81250000000006,1.5972222222222224E-2,21.562500000000004,5.2873563218390804E-2,0,"","",344.5333333333333,313,"","",313,null,{"$f":"WEEKNUM($Y699)","v":34},null,{"$f":"TEXT(Y708,\"ddd\")","v":"do"},"MD",{"$f":"IFERROR(HLOOKUP(Y708,[1]DATA!$A$1:$NB$5,4,0),\"\")","v":"D3"},23,null,10,323,{"$f":"VLOOKUP(Y708,[1]SRA!$S$4:$Z$368,3,0)","v":6},-73.250000000000057,0.76750957854406121,0.98288322556104979]
["34doND",{"$f":"VLOOKUP($AA710,DATA!$B$3:$E$6,2,0)","v":"22:30:00"},{"$f":"VLOOKUP($AA710,DATA!$B$3:$E$6,3,0)","v":"06:30:00"},{"$f":"VLOOKUP($AA710,DATA!$B$3:$E$6,4,0)","v":3.125E-2},0.30208333333333326,0.30208333333333326,{"$f":"DATA!$C$9","v":0.89},{"$f":"DATA!$C$10","v":64},1,{"$f":"F710*86400/H710*I710","v":407.81249999999989},{"$f":"E710*86400/H710","v":407.81249999999989},0,"","",0,"","",{"$f":"AF710*AG$2","v":350.93333333333334},{"$f":"IF(AF710-AE710=0,\"\",AF710-AE710)","v":296},"",296,"",null,{"$f":"X709","v":34},null,{"$f":"TEXT(Y708,\"ddd\")","v":"do"},"ND",{"$f":"IFERROR(HLOOKUP(Y708,[1]DATA!$A$1:$NB$5,5,0),\"\")","v":"D2"},0,null,33,329,{"$f":"VLOOKUP(Y708,[1]SRA!$S$4:$Z$368,4,0)","v":22},{"$f":"IFERROR(S710-J710,\"\")","v":-111.81249999999989},{"$f":"IFERROR(IF(S710/(E710*86400/H710)<=0,\"\",S710/(E710*86400/H710)),\"\")","v":0.72582375478927219},0.94100822309617449]
["34vrDD",{"$f":"VLOOKUP($AA711,DATA!$B$3:$E$6,2,0)","v":"06:30:00"},{"$f":"VLOOKUP($AA711,DATA!$B$3:$E$6,3,0)","v":"14:30:00"},{"$f":"VLOOKUP($AA711,DATA!$B$3:$E$6,4,0)","v":3.125E-2},0.30208333333333331,0.30138888888888887,{"$f":"DATA!$C$9","v":0.89},{"$f":"DATA!$C$10","v":64},1,406.875,407.8125,{"$f":"TIME(INT($AC711/60),INT(MOD($AC711,60)/1),0)","v":6.9444444444444447E-4},{"$f":"IF($L711*86400/$H711=0,\"\",$L711*86400/$H711)","v":0.9375},{"$f":"IFERROR($M711/$K711,\"\")","v":2.2988505747126436E-3},0,"",{"$f":"IFERROR($P711/$K711,\"\")","v":""},375.46666666666664,323,{"$f":"IF(IF($AB711=\"D1\",$S711,\"\")=0,\"\",IF($AB711=\"D1\",$S711,\"\"))","v":323},{"$f":"IF(IF($AB711=\"D2\",$S711,\"\")=0,\"\",IF($AB711=\"D2\",$S711,\"\"))","v":""},{"$f":"IF(IF($AB711=\"D3\",$S711,\"\")=0,\"\",IF($AB711=\"D3\",$S711,\"\"))","v":""},null,{"$f":"X709","v":34},"2018-08-24",{"$f":"TEXT(Y711,\"ddd\")","v":"vr"},"DD",{"$f":"IFERROR(HLOOKUP(Y711,[1]DATA!$A$1:$NB$5,3,0),\"\")","v":"D1"},1,null,29,352,{"$f":"VLOOKUP(Y711,[1]SRA!$S$4:$Z$368,2,0)","v":31},-83.875,0.79203065134099615,0.92373298343447596]
["34vrMD",{"$f":"VLOOKUP($AA712,DATA!$B$3:$E$6,2,0)","v":"14:30:00"},{"$f":"VLOOKUP($AA712,DATA!$B$3:$E$6,3,0)","v":"22:30:00"},{"$f":"VLOOKUP($AA712,DATA!$B$3:$E$6,4,0)","v":3.125E-2},0.30208333333333337,0.30208333333333337,{"$f":"DATA!$C$9","v":0.89},{"$f":"DATA!$C$10","v":64},1,407.81250000000006,407.81250000000006,0,"","",0,"","",334.93333333333334,298,"","",298,null,{"$f":"X709","v":34},null,{"$f":"TEXT(Y711,\"ddd\")","v":"vr"},"MD",{"$f":"IFERROR(HLOOKUP(Y711,[1]DATA!$A$1:$NB$5,4,0),\"\")","v":"D3"},0,null,16,314,{"$f":"VLOOKUP(Y711,[1]SRA!$S$4:$Z$368,3,0)","v":105},-109.81250000000006,0.73072796934865891,0.7613274738596757]
["34vrND",{"$f":"VLOOKUP($AA713,DATA!$B$3:$E$6,2,0)","v":"22:30:00"},{"$f":"VLOOKUP($AA713,DATA!$B$3:$E$6,3,0)","v":"06:30:00"},{"$f":"VLOOKUP($AA713,DATA!$B$3:$E$6,4,0)","v":3.125E-2},0.30208333333333326,0.30208333333333326,{"$f":"DATA!$C$9","v":0.89},{"$f":"DATA!$C$10","v":64},1,407.81249999999989,407.81249999999989,0,"","",0,"","",359.46666666666664,304,"",304,"",null,{"$f":"X709","v":34},null,{"$f":"TEXT(Y711,\"ddd\")","v":"vr"},"ND",{"$f":"IFERROR(HLOOKUP(Y711,[1]DATA!$A$1:$NB$5,5,0),\"\")","v":"D2"},null,null,33,337,{"$f":"VLOOKUP(Y711,[1]SRA!$S$4:$Z$368,4,0)","v":0},-103.81249999999989,0.74544061302682008,1]
["34zaDD",{"$f":"VLOOKUP($AA714,DATA!$B$3:$E$6,2,0)","v":"06:30:00"},{"$f":"VLOOKUP($AA714,DATA!$B$3:$E$6,3,0)","v":"14:30:00"},{"$f":"VLOOKUP($AA714,DATA!$B$3:$E$6,4,0)","v":3.125E-2},0.30208333333333331,0.30208333333333331,{"$f":"DATA!$C$9","v":0.89},{"$f":"DATA!$C$10","v":64},1,407.8125,407.8125,0,"","",0,"","",0,"","","","",null,{"$f":"X709","v":34},"2018-08-25",{"$f":"TEXT(Y714,\"ddd\")","v":"za"},"DD",{"$f":"IFERROR(HLOOKUP(Y714,[1]DATA!$A$1:$NB$5,3,0),\"\")","v":"D1"},null,null,null,null,{"$f":"VLOOKUP(Y714,[1]SRA!$S$4:$Z$368,2,0)","v":0},"","",""]
["34zaMD",{"$f":"VLOOKUP($AA715,DATA!$B$3:$E$6,2,0)","v":"14:30:00"},{"$f":"VLOOKUP($AA715,DATA!$B$3:$E$6,3,0)","v":"22:30:00"},{"$f":"VLOOKUP($AA715,DATA!$B$3:$E$6,4,0)","v":3.125E-2},0.30208333333333337,0.30208333333333337,{"$f":"DATA!$C$9","v":0.89},{"$f":"DATA!$C$10","v":64},1,407.81250000000006,407.81250000000006,0,"","",0,"","",0,"","","","",null,{"$f":"X709","v":34},null,{"$f":"TEXT(Y714,\"ddd\")","v":"za"},"MD",{"$f":"IFERROR(HLOOKUP(Y714,[1]DATA!$A$1:$NB$5,4,0),\"\")","v":"-"},null,null,null,null,{"$f":"VLOOKUP(Y714,[1]SRA!$S$4:$Z$368,3,0)","v":0},"","",""]
["34zaND",{"$f":"VLOOKUP($AA716,DATA!$B$3:$E$6,2,0)","v":"22:30:00"},{"$f":"VLOOKUP($AA716,DATA!$B$3:$E$6,3,0)","v":"06:30:00"},{"$f":"VLOOKUP($AA716,DATA!$B$3:$E$6,4,0)","v":3.125E-2},0.30208333333333326,0.30208333333333326,{"$f":"DATA!$C$9","v":0.89},{"$f":"DATA!$C$10","v":64},1,407.81249999999989,407.81249999999989,0,"","",0,"","",0,"","","","",null,{"$f":"X709","v":34},null,{"$f":"TEXT(Y714,\"ddd\")","v":"za"},"ND",{"$f":"IFERROR(HLOOKUP(Y714,[1]DATA!$A$1:$NB$5,5,0),\"\")","v":"-"},null,null,null,null,{"$f":"VLOOKUP(Y714,[1]SRA!$S$4:$Z$368,4,0)","v":0},"","",""]
["34zoDD",{"$f":"VLOOKUP($AA717,DATA!$B$3:$E$6,2,0)","v":"06:30:00"},{"$f":"VLOOKUP($AA717,DATA!$B$3:$E$6,3,0)","v":"14:30:00"},{"$f":"VLOOKUP($AA717,DATA!$B$3:$E$6,4,0)","v":3.125E-2},0.30208333333333331,0.30208333333333331,{"$f":"DATA!$C$9","v":0.89},{"$f":"DATA!$C$10","v":64},1,407.8125,407.8125,0,"","",0,"","",0,"","","","",null,{"$f":"X709","v":34},"2018-08-26",{"$f":"TEXT(Y717,\"ddd\")","v":"zo"},"DD",{"$f":"IFERROR(HLOOKUP(Y717,[1]DATA!$A$1:$NB$5,3,0),\"\")","v":"-"},null,null,null,null,{"$f":"VLOOKUP(Y717,[1]SRA!$S$4:$Z$368,2,0)","v":0},"","",""]
["34zoMD",{"$f":"VLOOKUP($AA718,DATA!$B$3:$E$6,2,0)","v":"14:30:00"},{"$f":"VLOOKUP($AA718,DATA!$B$3:$E$6,3,0)","v":"22:30:00"},{"$f":"VLOOKUP($AA718,DATA!$B$3:$E$6,4,0)","v":3.125E-2},0.30208333333333337,0.30208333333333337,{"$f":"DATA!$C$9","v":0.89},{"$f":"DATA!$C$10","v":64},1,407.81250000000006,407.81250000000006,0,"","",0,"","",0,"","","","",null,{"$f":"X709","v":34},null,{"$f":"TEXT(Y717,\"ddd\")","v":"zo"},"MD",{"$f":"IFERROR(HLOOKUP(Y717,[1]DATA!$A$1:$NB$5,4,0),\"\")","v":"-"},null,null,null,null,{"$f":"VLOOKUP(Y717,[1]SRA!$S$4:$Z$368,3,0)","v":0},"","",""]
["34zoZND",{"$f":"VLOOKUP($AA719,DATA!$B$3:$E$6,2,0)","v":"00:00:00"},{"$f":"VLOOKUP($AA719,DATA!$B$3:$E$6,3,0)","v":"00:00:00"},{"$f":"VLOOKUP($AA719,DATA!$B$3:$E$6,4,0)","v":0},0,0,{"$f":"DATA!$C$9","v":0.89},{"$f":"DATA!$C$10","v":64},1,0,0,0,"","",0,"","",0,"","","","",null,{"$f":"X709","v":34},null,{"$f":"TEXT(Y717,\"ddd\")","v":"zo"},"ZND",{"$f":"IFERROR(HLOOKUP(Y717,[1]DATA!$A$1:$NB$5,5,0),\"\")","v":"-"},null,null,null,null,{"$f":"VLOOKUP(Y717,[1]SRA!$S$4:$Z$368,4,0)","v":0},"","",""]
["35maDD",{"$f":"VLOOKUP($AA720,DATA!$B$3:$E$6,2,0)","v":"06:30:00"},{"$f":"VLOOKUP($AA720,DATA!$B$3:$E$6,3,0)","v":"14:30:00"},{"$f":"VLOOKUP($AA720,DATA!$B$3:$E$6,4,0)","v":3.125E-2},0.30208333333333331,0.29027777777777775,{"$f":"DATA!$C$9","v":0.89},{"$f":"DATA!$C$10","v":64},1,391.87499999999994,407.8125,1.1805555555555555E-2,15.9375,3.9080459770114942E-2,{"$f":"TIME(INT($AD720/60),INT(MOD($AD720,60)/1),0)","v":0},"","",300.8,270,"","",270,null,{"$f":"X730","v":35},"2018-08-27",{"$f":"TEXT(Y720,\"ddd\")","v":"ma"},"DD",{"$f":"IFERROR(HLOOKUP(Y720,[1]DATA!$A$1:$NB$5,3,0),\"\")","v":"D3"},17,null,12,282,{"$f":"VLOOKUP(Y720,[1]SRA!$S$4:$Z$368,2,0)","v":24},-121.87499999999994,0.66206896551724137,0.92610837438423643,{"$f":"IF(SUMIF(S720:S740,\">0\",K720:K740)=0,\"\",SUMIF(S720:S740,\">0\",K720:K740))","v":5709.375},{"$f":"IF(SUM(S720:S740)=0,\"\",SUM(S720:S740))","v":4253},{"$f":"IFERROR(AL720/AK720,\"-\")","v":0.74491516146688563},{"$f":"IF(SUM(M720:M740)=0,\"0\",SUM(M720:M740))","v":226.875},{"$f":"IFERROR(AN720/AK720,\"-\")","v":3.9737274220032842E-2},{"$f":"IF(SUM(P720:P740)=0,0,SUM(P720:P740))","v":0},{"$f":"IFERROR(AP720/AK720,\"-\")","v":0},{"$f":"IFERROR(AVERAGE(AJ720:AJ740),\"-\")","v":0.94535297124146089},{"$f":"IFERROR(SUMIF($AB720:$AB740,AS$5,$AJ720:$AJ740)/COUNTIFS($AB720:$AB740,AS$5,$AJ720:$AJ740,\">0\"),\"\")","v":0.96240362054366069},0.94524695098846312,0.93181847205269874,{"$f":"IFERROR((AK720-AL720-AN720-AP720),\"-\")","v":1229.5},{"$f":"IFERROR((1-AM720-AO720-AQ720), \"-\")","v":0.21534756431308152},{"$f":"IFERROR((AV720*$AE$2)/60,\"-\")","v":1311.4666666666667},{"$f":"IFERROR(SUM(AG720:AG740),\"\")","v":272}]
["35maMD",{"$f":"VLOOKUP($AA721,DATA!$B$3:$E$6,2,0)","v":"14:30:00"},{"$f":"VLOOKUP($AA721,DATA!$B$3:$E$6,3,0)","v":"22:30:00"},{"$f":"VLOOKUP($AA721,DATA!$B$3:$E$6,4,0)","v":3.125E-2},0.30208333333333337,0.29652777777777783,{"$f":"DATA!$C$9","v":0.89},{"$f":"DATA!$C$10","v":64},1,400.31250000000006,407.81250000000006,5.5555555555555558E-3,7.5,1.8390804597701146E-2,{"$f":"TIME(INT(AD721/60),INT(MOD(AD721,60)/1),0)","v":0},"","",401.06666666666666,339,"",339,"",null,{"$f":"X730","v":35},null,{"$f":"TEXT(Y720,\"ddd\")","v":"ma"},"MD",{"$f":"IFERROR(HLOOKUP(Y720,[1]DATA!$A$1:$NB$5,4,0),\"\")","v":"D2"},8,null,37,376,{"$f":"VLOOKUP(Y720,[1]SRA!$S$4:$Z$368,3,0)","v":23},-61.312500000000057,0.83126436781609181,0.94576324477283447]
["35maND",{"$f":"VLOOKUP($AA722,DATA!$B$3:$E$6,2,0)","v":"22:30:00"},{"$f":"VLOOKUP($AA722,DATA!$B$3:$E$6,3,0)","v":"06:30:00"},{"$f":"VLOOKUP($AA722,DATA!$B$3:$E$6,4,0)","v":3.125E-2},0.30208333333333326,0.29236111111111102,{"$f":"DATA!$C$9","v":0.89},{"$f":"DATA!$C$10","v":64},1,394.68749999999989,407.81249999999989,9.7222222222222224E-3,13.125,3.2183908045977018E-2,0,"","",378.66666666666669,346,346,"","",null,{"$f":"X730","v":35},null,{"$f":"TEXT(Y720,\"ddd\")","v":"ma"},"ND",{"$f":"IFERROR(HLOOKUP(Y720,[1]DATA!$A$1:$NB$5,5,0),\"\")","v":"D1"},14,null,9,355,{"$f":"VLOOKUP(Y720,[1]SRA!$S$4:$Z$368,4,0)","v":0},-48.687499999999886,0.84842911877394656,1]
["35diDD",{"$f":"VLOOKUP($AA723,DATA!$B$3:$E$6,2,0)","v":"06:30:00"},{"$f":"VLOOKUP($AA723,DATA!$B$3:$E$6,3,0)","v":"14:30:00"},{"$f":"VLOOKUP($AA723,DATA!$B$3:$E$6,4,0)","v":3.125E-2},0.30208333333333331,0.29444444444444445,{"$f":"DATA!$C$9","v":0.89},{"$f":"DATA!$C$10","v":64},1,397.5,407.8125,7.6388888888888886E-3,10.3125,2.528735632183908E-2,0,"","",373.33333333333331,343,"","",343,null,{"$f":"X730","v":35},"2018-08-28",{"$f":"TEXT(Y723,\"ddd\")","v":"di"},"DD",{"$f":"IFERROR(HLOOKUP(Y723,[1]DATA!$A$1:$NB$5,3,0),\"\")","v":"D3"},11,null,7,350,{"$f":"VLOOKUP(Y723,[1]SRA!$S$4:$Z$368,2,0)","v":5},-54.5,0.84107279693486592,0.986784140969163]
["35diMD",{"$f":"VLOOKUP($AA724,DATA!$B$3:$E$6,2,0)","v":"14:30:00"},{"$f":"VLOOKUP($AA724,DATA!$B$3:$E$6,3,0)","v":"22:30:00"},{"$f":"VLOOKUP($AA724,DATA!$B$3:$E$6,4,0)","v":3.125E-2},0.30208333333333337,0.2993055555555556,{"$f":"DATA!$C$9","v":0.89},{"$f":"DATA!$C$10","v":64},1,404.06250000000006,407.81250000000006,2.7777777777777779E-3,3.75,9.1954022988505729E-3,0,"","",360.5333333333333,311,"",311,"",null,{"$f":"X730","v":35},null,{"$f":"TEXT(Y723,\"ddd\")","v":"di"},"MD",{"$f":"IFERROR(HLOOKUP(Y723,[1]DATA!$A$1:$NB$5,4,0),\"\")","v":"D2"},4,null,27,338,{"$f":"VLOOKUP(Y723,[1]SRA!$S$4:$Z$368,3,0)","v":15},-93.062500000000057,0.76260536398467427,0.96005680809515359]
["35diND",{"$f":"VLOOKUP($AA725,DATA!$B$3:$E$6,2,0)","v":"22:30:00"},{"$f":"VLOOKUP($AA725,DATA!$B$3:$E$6,3,0)","v":"06:30:00"},{"$f":"VLOOKUP($AA725,DATA!$B$3:$E$6,4,0)","v":3.125E-2},0.30208333333333326,0.29722222222222217,{"$f":"DATA!$C$9","v":0.89},{"$f":"DATA!$C$10","v":64},1,401.24999999999994,407.81249999999989,4.8611111111111112E-3,6.5625,1.6091954022988509E-2,0,"","",375.46666666666664,340,340,"","",null,{"$f":"X730","v":35},null,{"$f":"TEXT(Y723,\"ddd\")","v":"di"},"ND",{"$f":"IFERROR(HLOOKUP(Y723,[1]DATA!$A$1:$NB$5,5,0),\"\")","v":"D1"},7,null,12,352,{"$f":"VLOOKUP(Y723,[1]SRA!$S$4:$Z$368,4,0)","v":12},-61.249999999999943,0.83371647509578573,0.96902959394356503]
["35woDD",{"$f":"VLOOKUP($AA726,DATA!$B$3:$E$6,2,0)","v":"06:30:00"},{"$f":"VLOOKUP($AA726,DATA!$B$3:$E$6,3,0)","v":"14:30:00"},{"$f":"VLOOKUP($AA726,DATA!$B$3:$E$6,4,0)","v":3.125E-2},0.30208333333333331,0.28680555555555554,{"$f":"DATA!$C$9","v":0.89},{"$f":"DATA!$C$10","v":64},1,387.1875,407.8125,1.5277777777777777E-2,20.625,5.057471264367816E-2,0,"","",267.73333333333335,242,"","",242,null,{"$f":"X730","v":35},"2018-08-29",{"$f":"TEXT(Y726,\"ddd\")","v":"wo"},"DD",{"$f":"IFERROR(HLOOKUP(Y726,[1]DATA!$A$1:$NB$5,3,0),\"\")","v":"D3"},22,null,9,251,{"$f":"VLOOKUP(Y726,[1]SRA!$S$4:$Z$368,2,0)","v":34},-145.1875,0.59340996168582372,0.88731771984091912]
["35woMD",{"$f":"VLOOKUP($AA727,DATA!$B$3:$E$6,2,0)","v":"14:30:00"},{"$f":"VLOOKUP($AA727,DATA!$B$3:$E$6,3,0)","v":"22:30:00"},{"$f":"VLOOKUP($AA727,DATA!$B$3:$E$6,4,0)","v":3.125E-2},0.30208333333333337,0.29583333333333339,{"$f":"DATA!$C$9","v":0.89},{"$f":"DATA!$C$10","v":64},1,399.37500000000006,407.81250000000006,6.2499999999999995E-3,8.4375,2.0689655172413789E-2,0,"","",297.60000000000002,267,"",267,"",null,{"$f":"X730","v":35},null,{"$f":"TEXT(Y726,\"ddd\")","v":"wo"},"MD",{"$f":"IFERROR(HLOOKUP(Y726,[1]DATA!$A$1:$NB$5,4,0),\"\")","v":"D2"},9,null,12,279,{"$f":"VLOOKUP(Y726,[1]SRA!$S$4:$Z$368,3,0)","v":28},-132.37500000000006,0.65471264367816084,0.91400491400491402]
["35woND",{"$f":"VLOOKUP($AA728,DATA!$B$3:$E$6,2,0)","v":"22:30:00"},{"$f":"VLOOKUP($AA728,DATA!$B$3:$E$6,3,0)","v":"06:30:00"},{"$f":"VLOOKUP($AA728,DATA!$B$3:$E$6,4,0)","v":3.125E-2},0.30208333333333326,0.29861111111111105,{"$f":"DATA!$C$9","v":0.89},{"$f":"DATA!$C$10","v":64},1,403.12499999999994,407.81249999999989,3.472222222222222E-3,4.6875,1.1494252873563222E-2,0,"","",315.73333333333335,270,270,"","",null,{"$f":"X730","v":35},null,{"$f":"TEXT(Y726,\"ddd\")","v":"wo"},"ND",{"$f":"IFERROR(HLOOKUP(Y726,[1]DATA!$A$1:$NB$5,5,0),\"\")","v":"D1"},5,null,26,296,{"$f":"VLOOKUP(Y726,[1]SRA!$S$4:$Z$368,4,0)","v":36},-133.12499999999994,0.66206896551724159,0.89764973464746023]
["35doDD",{"$f":"VLOOKUP($AA729,DATA!$B$3:$E$6,2,0)","v":"06:30:00"},{"$f":"VLOOKUP($AA729,DATA!$B$3:$E$6,3,0)","v":"14:30:00"},{"$f":"VLOOKUP($AA729,DATA!$B$3:$E$6,4,0)","v":3.125E-2},0.30208333333333331,0.29722222222222222,{"$f":"DATA!$C$9","v":0.89},{"$f":"DATA!$C$10","v":64},1,401.25,407.8125,4.8611111111111112E-3,6.5625,1.6091954022988506E-2,0,"","",310.39999999999998,272,"","",272,null,{"$f":"X730","v":35},"2018-08-30",{"$f":"TEXT(Y729,\"ddd\")","v":"do"},"DD",{"$f":"IFERROR(HLOOKUP(Y729,[1]DATA!$A$1:$NB$5,3,0),\"\")","v":"D3"},7,null,19,291,{"$f":"VLOOKUP(Y729,[1]SRA!$S$4:$Z$368,2,0)","v":51},-129.25,0.66697318007662831,0.85888212506917538]
["35doMD",{"$f":"VLOOKUP($AA730,DATA!$B$3:$E$6,2,0)","v":"14:30:00"},{"$f":"VLOOKUP($AA730,DATA!$B$3:$E$6,3,0)","v":"22:30:00"},{"$f":"VLOOKUP($AA730,DATA!$B$3:$E$6,4,0)","v":3.125E-2},0.30208333333333337,0.30208333333333337,{"$f":"DATA!$C$9","v":0.89},{"$f":"DATA!$C$10","v":64},1,407.81250000000006,407.81250000000006,0,"","",0,"","",404.26666666666665,344,"",344,"",null,{"$f":"WEEKNUM($Y720)","v":35},null,{"$f":"TEXT(Y729,\"ddd\")","v":"do"},"MD",{"$f":"IFERROR(HLOOKUP(Y729,[1]DATA!$A$1:$NB$5,4,0),\"\")","v":"D2"},0,null,35,379,{"$f":"VLOOKUP(Y729,[1]SRA!$S$4:$Z$368,3,0)","v":12},-63.812500000000057,0.84352490421455928,0.97117232543241516]
["35doND",{"$f":"VLOOKUP($AA731,DATA!$B$3:$E$6,2,0)","v":"22:30:00"},{"$f":"VLOOKUP($AA731,DATA!$B$3:$E$6,3,0)","v":"06:30:00"},{"$f":"VLOOKUP($AA731,DATA!$B$3:$E$6,4,0)","v":3.125E-2},0.30208333333333326,0.28749999999999992,{"$f":"DATA!$C$9","v":0.89},{"$f":"DATA!$C$10","v":64},1,388.12499999999989,407.81249999999989,1.4583333333333332E-2,19.687499999999996,4.8275862068965524E-2,0,"","",345.6,301,301,"","",null,{"$f":"X730","v":35},null,{"$f":"TEXT(Y729,\"ddd\")","v":"do"},"ND",{"$f":"IFERROR(HLOOKUP(Y729,[1]DATA!$A$1:$NB$5,5,0),\"\")","v":"D1"},21,null,23,324,{"$f":"VLOOKUP(Y729,[1]SRA!$S$4:$Z$368,4,0)","v":6},-87.124999999999886,0.73808429118773966,{"$f":"IFERROR(R731/(R731+AG731),\"\")","v":0.98293515358361772}]
["35vrDD",{"$f":"VLOOKUP($AA732,DATA!$B$3:$E$6,2,0)","v":"06:30:00"},{"$f":"VLOOKUP($AA732,DATA!$B$3:$E$6,3,0)","v":"14:30:00"},{"$f":"VLOOKUP($AA732,DATA!$B$3:$E$6,4,0)","v":3.125E-2},{"$f":"(C732-B732+(B732>C732))-D732","v":0.30208333333333331},{"$f":"E732-O732-L732","v":0.24166666666666664},{"$f":"DATA!$C$9","v":0.89},{"$f":"DATA!$C$10","v":64},1,326.24999999999994,407.8125,6.0416666666666667E-2,81.5625,0.2,0,"","",290.13333333333333,269,"","",269,null,{"$f":"X730","v":35},"2018-08-31",{"$f":"TEXT(Y732,\"ddd\")","v":"vr"},"DD",{"$f":"IFERROR(HLOOKUP(Y732,[1]DATA!$A$1:$NB$5,3,0),\"\")","v":"D3"},87,null,3,272,{"$f":"VLOOKUP(Y732,[1]SRA!$S$4:$Z$368,2,0)","v":0},-57.249999999999943,0.6596168582375479,1]
["35vrMD",{"$f":"VLOOKUP($AA733,DATA!$B$3:$E$6,2,0)","v":"14:30:00"},{"$f":"VLOOKUP($AA733,DATA!$B$3:$E$6,3,0)","v":"22:30:00"},{"$f":"VLOOKUP($AA733,DATA!$B$3:$E$6,4,0)","v":3.125E-2},0.30208333333333337,0.28125000000000006,{"$f":"DATA!$C$9","v":0.89},{"$f":"DATA!$C$10","v":64},1,379.68750000000006,407.81250000000006,2.0833333333333332E-2,28.125,6.8965517241379296E-2,0,"","",375.46666666666664,339,"",339,"",null,{"$f":"X730","v":35},null,{"$f":"TEXT(Y732,\"ddd\")","v":"vr"},"MD",{"$f":"IFERROR(HLOOKUP(Y732,[1]DATA!$A$1:$NB$5,4,0),\"\")","v":"D2"},30,null,13,352,{"$f":"VLOOKUP(Y732,[1]SRA!$S$4:$Z$368,3,0)","v":26},-40.687500000000057,0.83126436781609181,0.9352374626369977]
["35vrND",{"$f":"VLOOKUP($AA734,DATA!$B$3:$E$6,2,0)","v":"22:30:00"},{"$f":"VLOOKUP($AA734,DATA!$B$3:$E$6,3,0)","v":"06:30:00"},{"$f":"VLOOKUP($AA734,DATA!$B$3:$E$6,4,0)","v":3.125E-2},0.30208333333333326,0.30208333333333326,{"$f":"DATA!$C$9","v":0.89},{"$f":"DATA!$C$10","v":64},1,407.81249999999989,407.81249999999989,0,"","",0,"","",0,"","","","",null,{"$f":"X730","v":35},null,{"$f":"TEXT(Y732,\"ddd\")","v":"vr"},"ND",{"$f":"IFERROR(HLOOKUP(Y732,[1]DATA!$A$1:$NB$5,5,0),\"\")","v":"D2"},null,null,null,null,{"$f":"VLOOKUP(Y732,[1]SRA!$S$4:$Z$368,4,0)","v":0},"","",""]
["35zaDD",{"$f":"VLOOKUP($AA735,DATA!$B$3:$E$6,2,0)","v":"06:30:00"},{"$f":"VLOOKUP($AA735,DATA!$B$3:$E$6,3,0)","v":"14:30:00"},{"$f":"VLOOKUP($AA735,DATA!$B$3:$E$6,4,0)","v":3.125E-2},0.30208333333333331,0.30208333333333331,{"$f":"DATA!$C$9","v":0.89},{"$f":"DATA!$C$10","v":64},1,407.8125,407.8125,0,"","",0,"","",0,"","","","",null,{"$f":"X730","v":35},"2018-09-01",{"$f":"TEXT(Y735,\"ddd\")","v":"za"},"DD",{"$f":"IFERROR(HLOOKUP(Y735,[1]DATA!$A$1:$NB$5,3,0),\"\")","v":"D3"},null,null,null,null,{"$f":"VLOOKUP(Y735,[1]SRA!$S$4:$Z$368,2,0)","v":0},"","",""]
["35zaMD",{"$f":"VLOOKUP($AA736,DATA!$B$3:$E$6,2,0)","v":"14:30:00"},{"$f":"VLOOKUP($AA736,DATA!$B$3:$E$6,3,0)","v":"22:30:00"},{"$f":"VLOOKUP($AA736,DATA!$B$3:$E$6,4,0)","v":3.125E-2},0.30208333333333337,0.30208333333333337,{"$f":"DATA!$C$9","v":0.89},{"$f":"DATA!$C$10","v":64},1,407.81250000000006,407.81250000000006,0,"","",0,"","",0,"","","","",null,{"$f":"X730","v":35},null,{"$f":"TEXT(Y735,\"ddd\")","v":"za"},"MD",{"$f":"IFERROR(HLOOKUP(Y735,[1]DATA!$A$1:$NB$5,4,0),\"\")","v":"-"},null,null,null,null,{"$f":"VLOOKUP(Y735,[1]SRA!$S$4:$Z$368,3,0)","v":0},"","",""]
["35zaND",{"$f":"VLOOKUP($AA737,DATA!$B$3:$E$6,2,0)","v":"22:30:00"},{"$f":"VLOOKUP($AA737,DATA!$B$3:$E$6,3,0)","v":"06:30:00"},{"$f":"VLOOKUP($AA737,DATA!$B$3:$E$6,4,0)","v":3.125E-2},0.30208333333333326,0.30208333333333326,{"$f":"DATA!$C$9","v":0.89},{"$f":"DATA!$C$10","v":64},1,407.81249999999989,407.81249999999989,0,"","",0,"","",0,"","","","",null,{"$f":"X730","v":35},null,{"$f":"TEXT(Y735,\"ddd\")","v":"za"},"ND",{"$f":"IFERROR(HLOOKUP(Y735,[1]DATA!$A$1:$NB$5,5,0),\"\")","v":"-"},null,null,null,null,{"$f":"VLOOKUP(Y735,[1]SRA!$S$4:$Z$368,4,0)","v":0},"","",""]
["35zoDD",{"$f":"VLOOKUP($AA738,DATA!$B$3:$E$6,2,0)","v":"06:30:00"},{"$f":"VLOOKUP($AA738,DATA!$B$3:$E$6,3,0)","v":"14:30:00"},{"$f":"VLOOKUP($AA738,DATA!$B$3:$E$6,4,0)","v":3.125E-2},0.30208333333333331,0.30208333333333331,{"$f":"DATA!$C$9","v":0.89},{"$f":"DATA!$C$10","v":64},1,407.8125,407.8125,0,"","",0,"","",0,"","","","",null,{"$f":"X730","v":35},"2018-09-02",{"$f":"TEXT(Y738,\"ddd\")","v":"zo"},"DD",{"$f":"IFERROR(HLOOKUP(Y738,[1]DATA!$A$1:$NB$5,3,0),\"\")","v":"-"},null,null,null,null,{"$f":"VLOOKUP(Y738,[1]SRA!$S$4:$Z$368,2,0)","v":0},"","",""]
["35zoMD",{"$f":"VLOOKUP($AA739,DATA!$B$3:$E$6,2,0)","v":"14:30:00"},{"$f":"VLOOKUP($AA739,DATA!$B$3:$E$6,3,0)","v":"22:30:00"},{"$f":"VLOOKUP($AA739,DATA!$B$3:$E$6,4,0)","v":3.125E-2},0.30208333333333337,0.30208333333333337,{"$f":"DATA!$C$9","v":0.89},{"$f":"DATA!$C$10","v":64},1,407.81250000000006,407.81250000000006,0,"","",0,"","",0,"","","","",null,{"$f":"X730","v":35},null,{"$f":"TEXT(Y738,\"ddd\")","v":"zo"},"MD",{"$f":"IFERROR(HLOOKUP(Y738,[1]DATA!$A$1:$NB$5,4,0),\"\")","v":"-"},null,null,null,null,{"$f":"VLOOKUP(Y738,[1]SRA!$S$4:$Z$368,3,0)","v":0},"","",""]
["35zoZND",{"$f":"VLOOKUP($AA740,DATA!$B$3:$E$6,2,0)","v":"00:00:00"},{"$f":"VLOOKUP($AA740,DATA!$B$3:$E$6,3,0)","v":"00:00:00"},{"$f":"VLOOKUP($AA740,DATA!$B$3:$E$6,4,0)","v":0},0,0,{"$f":"DATA!$C$9","v":0.89},{"$f":"DATA!$C$10","v":64},1,0,0,0,"","",0,"","",0,"","","","",null,{"$f":"X730","v":35},null,{"$f":"TEXT(Y738,\"ddd\")","v":"zo"},"ZND",{"$f":"IFERROR(HLOOKUP(Y738,[1]DATA!$A$1:$NB$5,5,0),\"\")","v":"-"},null,null,null,null,{"$f":"VLOOKUP(Y738,[1]SRA!$S$4:$Z$368,4,0)","v":0},"","",""]
["36maDD",{"$f":"VLOOKUP($AA741,DATA!$B$3:$E$6,2,0)","v":"06:30:00"},{"$f":"VLOOKUP($AA741,DATA!$B$3:$E$6,3,0)","v":"14:30:00"},{"$f":"VLOOKUP($AA741,DATA!$B$3:$E$6,4,0)","v":3.125E-2},0.30208333333333331,0.27916666666666667,{"$f":"DATA!$C$9","v":0.89},{"$f":"DATA!$C$10","v":64},1,376.875,407.8125,2.2916666666666669E-2,30.937500000000004,7.5862068965517254E-2,{"$f":"TIME(INT($AD741/60),INT(MOD($AD741,60)/1),0)","v":0},"","",290.13333333333333,261,"",261,"",null,{"$f":"X751","v":36},"2018-09-03",{"$f":"TEXT(Y741,\"ddd\")","v":"ma"},"DD",{"$f":"IFERROR(HLOOKUP(Y741,[1]DATA!$A$1:$NB$5,3,0),\"\")","v":"D2"},33,null,11,272,{"$f":"VLOOKUP(Y741,[1]SRA!$S$4:$Z$368,2,0)","v":34},-115.875,0.64,0.8951048951048951,{"$f":"IF(SUMIF(S741:S761,\">0\",K741:K761)=0,\"\",SUMIF(S741:S761,\">0\",K741:K761))","v":6117.1875},{"$f":"IF(SUM(S741:S761)=0,\"\",SUM(S741:S761))","v":4098},{"$f":"IFERROR(AL741/AK741,\"-\")","v":0.66991570881226059},{"$f":"IF(SUM(M741:M761)=0,\"0\",SUM(M741:M761))","v":300},{"$f":"IFERROR(AN741/AK741,\"-\")","v":4.9042145593869733E-2},{"$f":"IF(SUM(P741:P761)=0,0,SUM(P741:P761))","v":0},{"$f":"IFERROR(AP741/AK741,\"-\")","v":0},{"$f":"IFERROR(AVERAGE(AJ741:AJ761),\"-\")","v":0.93685076684200952},{"$f":"IFERROR(SUMIF($AB741:$AB761,AS$5,$AJ741:$AJ761)/COUNTIFS($AB741:$AB761,AS$5,$AJ741:$AJ761,\">0\"),\"\")","v":0.90694687551385333},0.9128004683081008,0.99080495670407376,{"$f":"IFERROR((AK741-AL741-AN741-AP741),\"-\")","v":1719.1875},{"$f":"IFERROR((1-AM741-AO741-AQ741), \"-\")","v":0.2810421455938697},{"$f":"IFERROR((AV741*$AE$2)/60,\"-\")","v":1833.8},{"$f":"IFERROR(SUM(AG741:AG761),\"\")","v":345}]
["36maMD",{"$f":"VLOOKUP($AA742,DATA!$B$3:$E$6,2,0)","v":"14:30:00"},{"$f":"VLOOKUP($AA742,DATA!$B$3:$E$6,3,0)","v":"22:30:00"},{"$f":"VLOOKUP($AA742,DATA!$B$3:$E$6,4,0)","v":3.125E-2},0.30208333333333337,0.29166666666666669,{"$f":"DATA!$C$9","v":0.89},{"$f":"DATA!$C$10","v":64},1,393.75,407.81250000000006,1.0416666666666666E-2,14.0625,3.4482758620689648E-2,{"$f":"TIME(INT(AD742/60),INT(MOD(AD742,60)/1),0)","v":0},"","",299.73333333333335,267,267,"","",null,{"$f":"X751","v":36},null,{"$f":"TEXT(Y741,\"ddd\")","v":"ma"},"MD",{"$f":"IFERROR(HLOOKUP(Y741,[1]DATA!$A$1:$NB$5,4,0),\"\")","v":"D1"},15,null,14,281,{"$f":"VLOOKUP(Y741,[1]SRA!$S$4:$Z$368,3,0)","v":72},-126.75,0.65471264367816084,0.80631276901004301]
["36maND",{"$f":"VLOOKUP($AA743,DATA!$B$3:$E$6,2,0)","v":"22:30:00"},{"$f":"VLOOKUP($AA743,DATA!$B$3:$E$6,3,0)","v":"06:30:00"},{"$f":"VLOOKUP($AA743,DATA!$B$3:$E$6,4,0)","v":3.125E-2},0.30208333333333326,0.30208333333333326,{"$f":"DATA!$C$9","v":0.89},{"$f":"DATA!$C$10","v":64},1,407.81249999999989,407.81249999999989,0,"","",0,"","",387.2,330,"","",330,null,{"$f":"X751","v":36},null,{"$f":"TEXT(Y741,\"ddd\")","v":"ma"},"ND",{"$f":"IFERROR(HLOOKUP(Y741,[1]DATA!$A$1:$NB$5,5,0),\"\")","v":"D3"},0,null,33,363,{"$f":"VLOOKUP(Y741,[1]SRA!$S$4:$Z$368,4,0)","v":0},-77.812499999999886,0.80919540229885079,1]
["36diDD",{"$f":"VLOOKUP($AA744,DATA!$B$3:$E$6,2,0)","v":"06:30:00"},{"$f":"VLOOKUP($AA744,DATA!$B$3:$E$6,3,0)","v":"14:30:00"},{"$f":"VLOOKUP($AA744,DATA!$B$3:$E$6,4,0)","v":3.125E-2},0.30208333333333331,0.30069444444444443,{"$f":"DATA!$C$9","v":0.89},{"$f":"DATA!$C$10","v":64},1,405.9375,407.8125,1.3888888888888889E-3,1.875,4.5977011494252873E-3,0,"","",294.39999999999998,249,"",249,"",null,{"$f":"X751","v":36},"2018-09-04",{"$f":"TEXT(Y744,\"ddd\")","v":"di"},"DD",{"$f":"IFERROR(HLOOKUP(Y744,[1]DATA!$A$1:$NB$5,3,0),\"\")","v":"D2"},2,null,27,276,{"$f":"VLOOKUP(Y744,[1]SRA!$S$4:$Z$368,2,0)","v":36},-156.9375,0.61057471264367813,0.89104116222760288]
["36diMD",{"$f":"VLOOKUP($AA745,DATA!$B$3:$E$6,2,0)","v":"14:30:00"},{"$f":"VLOOKUP($AA745,DATA!$B$3:$E$6,3,0)","v":"22:30:00"},{"$f":"VLOOKUP($AA745,DATA!$B$3:$E$6,4,0)","v":3.125E-2},0.30208333333333337,0.30208333333333337,{"$f":"DATA!$C$9","v":0.89},{"$f":"DATA!$C$10","v":64},1,407.81250000000006,407.81250000000006,0,"","",0,"","",374.4,330,330,"","",null,{"$f":"X751","v":36},null,{"$f":"TEXT(Y744,\"ddd\")","v":"di"},"MD",{"$f":"IFERROR(HLOOKUP(Y744,[1]DATA!$A$1:$NB$5,4,0),\"\")","v":"D1"},0,null,21,351,{"$f":"VLOOKUP(Y744,[1]SRA!$S$4:$Z$368,3,0)","v":55},-77.812500000000057,0.80919540229885045,0.87191429902189099]
["36diND",{"$f":"VLOOKUP($AA746,DATA!$B$3:$E$6,2,0)","v":"22:30:00"},{"$f":"VLOOKUP($AA746,DATA!$B$3:$E$6,3,0)","v":"06:30:00"},{"$f":"VLOOKUP($AA746,DATA!$B$3:$E$6,4,0)","v":3.125E-2},0.30208333333333326,0.28888888888888881,{"$f":"DATA!$C$9","v":0.89},{"$f":"DATA!$C$10","v":64},1,389.99999999999989,407.81249999999989,1.3194444444444444E-2,17.8125,4.3678160919540243E-2,0,"","",201.6,181,"","",181,null,{"$f":"X751","v":36},null,{"$f":"TEXT(Y744,\"ddd\")","v":"di"},"ND",{"$f":"IFERROR(HLOOKUP(Y744,[1]DATA!$A$1:$NB$5,5,0),\"\")","v":"D3"},19,null,8,189,{"$f":"VLOOKUP(Y744,[1]SRA!$S$4:$Z$368,4,0)","v":0},-208.99999999999989,0.44383141762452122,1]
["36woDD",{"$f":"VLOOKUP($AA747,DATA!$B$3:$E$6,2,0)","v":"06:30:00"},{"$f":"VLOOKUP($AA747,DATA!$B$3:$E$6,3,0)","v":"14:30:00"},{"$f":"VLOOKUP($AA747,DATA!$B$3:$E$6,4,0)","v":3.125E-2},0.30208333333333331,0.29027777777777775,{"$f":"DATA!$C$9","v":0.89},{"$f":"DATA!$C$10","v":64},1,391.87499999999994,407.8125,1.1805555555555555E-2,15.9375,3.9080459770114942E-2,0,"","",291.2,243,"",243,"",null,{"$f":"X751","v":36},"2018-09-05",{"$f":"TEXT(Y747,\"ddd\")","v":"wo"},"DD",{"$f":"IFERROR(HLOOKUP(Y747,[1]DATA!$A$1:$NB$5,3,0),\"\")","v":"D2"},17,null,30,273,{"$f":"VLOOKUP(Y747,[1]SRA!$S$4:$Z$368,2,0)","v":22},-148.87499999999994,0.59586206896551719,0.92975734355044704]
["36woMD",{"$f":"VLOOKUP($AA748,DATA!$B$3:$E$6,2,0)","v":"14:30:00"},{"$f":"VLOOKUP($AA748,DATA!$B$3:$E$6,3,0)","v":"22:30:00"},{"$f":"VLOOKUP($AA748,DATA!$B$3:$E$6,4,0)","v":3.125E-2},0.30208333333333337,0.30208333333333337,{"$f":"DATA!$C$9","v":0.89},{"$f":"DATA!$C$10","v":64},1,407.81250000000006,407.81250000000006,0,"","",0,"","",372.26666666666665,335,335,"","",null,{"$f":"X751","v":36},null,{"$f":"TEXT(Y747,\"ddd\")","v":"wo"},"MD",{"$f":"IFERROR(HLOOKUP(Y747,[1]DATA!$A$1:$NB$5,4,0),\"\")","v":"D1"},0,null,14,349,{"$f":"VLOOKUP(Y747,[1]SRA!$S$4:$Z$368,3,0)","v":9},-72.812500000000057,0.82145593869731792,0.97639447455848927]
["36woND",{"$f":"VLOOKUP($AA749,DATA!$B$3:$E$6,2,0)","v":"22:30:00"},{"$f":"VLOOKUP($AA749,DATA!$B$3:$E$6,3,0)","v":"06:30:00"},{"$f":"VLOOKUP($AA749,DATA!$B$3:$E$6,4,0)","v":3.125E-2},0.30208333333333326,0.24930555555555547,{"$f":"DATA!$C$9","v":0.89},{"$f":"DATA!$C$10","v":64},1,336.56249999999989,407.81249999999989,5.2777777777777778E-2,71.25,0.17471264367816097,0,"","",328.5333333333333,296,"","",296,null,{"$f":"X751","v":36},null,{"$f":"TEXT(Y747,\"ddd\")","v":"wo"},"ND",{"$f":"IFERROR(HLOOKUP(Y747,[1]DATA!$A$1:$NB$5,5,0),\"\")","v":"D3"},76,null,12,308,{"$f":"VLOOKUP(Y747,[1]SRA!$S$4:$Z$368,4,0)","v":8},-40.562499999999886,0.72582375478927219,0.97622820919175912]
["36doDD",{"$f":"VLOOKUP($AA750,DATA!$B$3:$E$6,2,0)","v":"06:30:00"},{"$f":"VLOOKUP($AA750,DATA!$B$3:$E$6,3,0)","v":"14:30:00"},{"$f":"VLOOKUP($AA750,DATA!$B$3:$E$6,4,0)","v":3.125E-2},0.30208333333333331,0.27708333333333329,{"$f":"DATA!$C$9","v":0.89},{"$f":"DATA!$C$10","v":64},1,374.06249999999994,407.8125,2.4999999999999998E-2,33.75,8.2758620689655171E-2,0,"","",310.39999999999998,271,"",271,"",null,{"$f":"X751","v":36},"2018-09-06",{"$f":"TEXT(Y750,\"ddd\")","v":"do"},"DD",{"$f":"IFERROR(HLOOKUP(Y750,[1]DATA!$A$1:$NB$5,3,0),\"\")","v":"D2"},36,null,20,291,{"$f":"VLOOKUP(Y750,[1]SRA!$S$4:$Z$368,2,0)","v":37},-103.06249999999994,0.66452107279693484,0.89349453080023022]
["36doMD",{"$f":"VLOOKUP($AA751,DATA!$B$3:$E$6,2,0)","v":"14:30:00"},{"$f":"VLOOKUP($AA751,DATA!$B$3:$E$6,3,0)","v":"22:30:00"},{"$f":"VLOOKUP($AA751,DATA!$B$3:$E$6,4,0)","v":3.125E-2},0.30208333333333337,0.2993055555555556,{"$f":"DATA!$C$9","v":0.89},{"$f":"DATA!$C$10","v":64},1,404.06250000000006,407.81250000000006,2.7777777777777779E-3,3.75,9.1954022988505729E-3,0,"","",374.4,340,340,"","",null,{"$f":"WEEKNUM($Y741)","v":36},null,{"$f":"TEXT(Y750,\"ddd\")","v":"do"},"MD",{"$f":"IFERROR(HLOOKUP(Y750,[1]DATA!$A$1:$NB$5,4,0),\"\")","v":"D1"},4,null,11,351,{"$f":"VLOOKUP(Y750,[1]SRA!$S$4:$Z$368,3,0)","v":51},-64.062500000000057,0.83371647509578528,0.88011283497884341]
[{"$f":"X752&Z752&AA752","v":"36doND"},{"$f":"VLOOKUP($AA752,DATA!$B$3:$E$6,2,0)","v":"22:30:00"},{"$f":"VLOOKUP($AA752,DATA!$B$3:$E$6,3,0)","v":"06:30:00"},{"$f":"VLOOKUP($AA752,DATA!$B$3:$E$6,4,0)","v":3.125E-2},0.30208333333333326,0.29791666666666661,{"$f":"DATA!$C$9","v":0.89},{"$f":"DATA!$C$10","v":64},1,402.18749999999994,407.81249999999989,4.1666666666666666E-3,5.625,1.3793103448275865E-2,0,{"$f":"IF($O752*86400/$H752=0,\"\",$O752*86400/$H752)","v":""},"",308.26666666666665,279,"","",279,null,{"$f":"X751","v":36},null,{"$f":"TEXT(Y750,\"ddd\")","v":"do"},"ND",{"$f":"IFERROR(HLOOKUP(Y750,[1]DATA!$A$1:$NB$5,5,0),\"\")","v":"D3"},6,null,10,289,{"$f":"VLOOKUP(Y750,[1]SRA!$S$4:$Z$368,4,0)","v":7},-123.18749999999994,0.68413793103448295,0.97779657432861067]
["36vrDD",{"$f":"VLOOKUP($AA753,DATA!$B$3:$E$6,2,0)","v":"06:30:00"},{"$f":"VLOOKUP($AA753,DATA!$B$3:$E$6,3,0)","v":"14:30:00"},{"$f":"VLOOKUP($AA753,DATA!$B$3:$E$6,4,0)","v":3.125E-2},0.30208333333333331,0.26249999999999996,{"$f":"DATA!$C$9","v":0.89},{"$f":"DATA!$C$10","v":64},1,354.37499999999994,407.8125,3.9583333333333331E-2,53.4375,0.1310344827586207,0,"","",294.39999999999998,269,"",269,"",null,{"$f":"X751","v":36},"2018-09-07",{"$f":"TEXT(Y753,\"ddd\")","v":"vr"},"DD",{"$f":"IFERROR(HLOOKUP(Y753,[1]DATA!$A$1:$NB$5,3,0),\"\")","v":"D2"},57,null,7,276,{"$f":"VLOOKUP(Y753,[1]SRA!$S$4:$Z$368,2,0)","v":14},-85.374999999999943,0.6596168582375479,0.9546044098573282]
["36vrMD",{"$f":"VLOOKUP($AA754,DATA!$B$3:$E$6,2,0)","v":"14:30:00"},{"$f":"VLOOKUP($AA754,DATA!$B$3:$E$6,3,0)","v":"22:30:00"},{"$f":"VLOOKUP($AA754,DATA!$B$3:$E$6,4,0)","v":3.125E-2},0.30208333333333337,0.28333333333333338,{"$f":"DATA!$C$9","v":0.89},{"$f":"DATA!$C$10","v":64},1,382.50000000000006,407.81250000000006,1.8749999999999999E-2,25.3125,6.2068965517241372E-2,0,"","",333.86666666666667,303,303,"","",null,{"$f":"X751","v":36},null,{"$f":"TEXT(Y753,\"ddd\")","v":"vr"},"MD",{"$f":"IFERROR(HLOOKUP(Y753,[1]DATA!$A$1:$NB$5,4,0),\"\")","v":"D1"},27,null,10,313,{"$f":"VLOOKUP(Y753,[1]SRA!$S$4:$Z$368,3,0)","v":0},-79.500000000000057,0.74298850574712638,1]
["36vrND",{"$f":"VLOOKUP($AA755,DATA!$B$3:$E$6,2,0)","v":"22:30:00"},{"$f":"VLOOKUP($AA755,DATA!$B$3:$E$6,3,0)","v":"06:30:00"},{"$f":"VLOOKUP($AA755,DATA!$B$3:$E$6,4,0)","v":3.125E-2},0.30208333333333326,0.28263888888888883,{"$f":"DATA!$C$9","v":0.89},{"$f":"DATA!$C$10","v":64},1,381.56249999999994,407.81249999999989,1.9444444444444445E-2,26.25,6.4367816091954036E-2,0,"","",165.33333333333334,144,"","",144,null,{"$f":"X751","v":36},null,{"$f":"TEXT(Y753,\"ddd\")","v":"vr"},"ND",{"$f":"IFERROR(HLOOKUP(Y753,[1]DATA!$A$1:$NB$5,5,0),\"\")","v":"D3"},28,null,11,155,{"$f":"VLOOKUP(Y753,[1]SRA!$S$4:$Z$368,4,0)","v":0},-237.56249999999994,0.35310344827586215,1]
["36zaDD",{"$f":"VLOOKUP($AA756,DATA!$B$3:$E$6,2,0)","v":"06:30:00"},{"$f":"VLOOKUP($AA756,DATA!$B$3:$E$6,3,0)","v":"14:30:00"},{"$f":"VLOOKUP($AA756,DATA!$B$3:$E$6,4,0)","v":3.125E-2},0.30208333333333331,0.30208333333333331,{"$f":"DATA!$C$9","v":0.89},{"$f":"DATA!$C$10","v":64},1,407.8125,407.8125,0,"","",0,"","",0,"","","","",null,{"$f":"X751","v":36},"2018-09-08",{"$f":"TEXT(Y756,\"ddd\")","v":"za"},"DD",{"$f":"IFERROR(HLOOKUP(Y756,[1]DATA!$A$1:$NB$5,3,0),\"\")","v":"D2"},null,null,null,null,{"$f":"VLOOKUP(Y756,[1]SRA!$S$4:$Z$368,2,0)","v":0},"","",""]
["36zaMD",{"$f":"VLOOKUP($AA757,DATA!$B$3:$E$6,2,0)","v":"14:30:00"},{"$f":"VLOOKUP($AA757,DATA!$B$3:$E$6,3,0)","v":"22:30:00"},{"$f":"VLOOKUP($AA757,DATA!$B$3:$E$6,4,0)","v":3.125E-2},0.30208333333333337,0.30208333333333337,{"$f":"DATA!$C$9","v":0.89},{"$f":"DATA!$C$10","v":64},1,407.81250000000006,407.81250000000006,0,"","",0,"","",0,"","","","",null,{"$f":"X751","v":36},null,{"$f":"TEXT(Y756,\"ddd\")","v":"za"},"MD",{"$f":"IFERROR(HLOOKUP(Y756,[1]DATA!$A$1:$NB$5,4,0),\"\")","v":"-"},null,null,null,null,{"$f":"VLOOKUP(Y756,[1]SRA!$S$4:$Z$368,3,0)","v":0},"","",""]
["36zaND",{"$f":"VLOOKUP($AA758,DATA!$B$3:$E$6,2,0)","v":"22:30:00"},{"$f":"VLOOKUP($AA758,DATA!$B$3:$E$6,3,0)","v":"06:30:00"},{"$f":"VLOOKUP($AA758,DATA!$B$3:$E$6,4,0)","v":3.125E-2},0.30208333333333326,0.30208333333333326,{"$f":"DATA!$C$9","v":0.89},{"$f":"DATA!$C$10","v":64},1,407.81249999999989,407.81249999999989,0,"","",0,"","",0,"","","","",null,{"$f":"X751","v":36},null,{"$f":"TEXT(Y756,\"ddd\")","v":"za"},"ND",{"$f":"IFERROR(HLOOKUP(Y756,[1]DATA!$A$1:$NB$5,5,0),\"\")","v":"-"},null,null,null,null,{"$f":"VLOOKUP(Y756,[1]SRA!$S$4:$Z$368,4,0)","v":0},"","",""]
["36zoDD",{"$f":"VLOOKUP($AA759,DATA!$B$3:$E$6,2,0)","v":"06:30:00"},{"$f":"VLOOKUP($AA759,DATA!$B$3:$E$6,3,0)","v":"14:30:00"},{"$f":"VLOOKUP($AA759,DATA!$B$3:$E$6,4,0)","v":3.125E-2},0.30208333333333331,0.30208333333333331,{"$f":"DATA!$C$9","v":0.89},{"$f":"DATA!$C$10","v":64},1,407.8125,407.8125,0,"","",0,"","",0,"","","","",null,{"$f":"X751","v":36},"2018-09-09",{"$f":"TEXT(Y759,\"ddd\")","v":"zo"},"DD",{"$f":"IFERROR(HLOOKUP(Y759,[1]DATA!$A$1:$NB$5,3,0),\"\")","v":"-"},null,null,null,null,{"$f":"VLOOKUP(Y759,[1]SRA!$S$4:$Z$368,2,0)","v":0},"","",""]
["36zoMD",{"$f":"VLOOKUP($AA760,DATA!$B$3:$E$6,2,0)","v":"14:30:00"},{"$f":"VLOOKUP($AA760,DATA!$B$3:$E$6,3,0)","v":"22:30:00"},{"$f":"VLOOKUP($AA760,DATA!$B$3:$E$6,4,0)","v":3.125E-2},0.30208333333333337,0.30208333333333337,{"$f":"DATA!$C$9","v":0.89},{"$f":"DATA!$C$10","v":64},1,407.81250000000006,407.81250000000006,0,"","",0,"","",0,"","","","",null,{"$f":"X751","v":36},null,{"$f":"TEXT(Y759,\"ddd\")","v":"zo"},"MD",{"$f":"IFERROR(HLOOKUP(Y759,[1]DATA!$A$1:$NB$5,4,0),\"\")","v":"-"},null,null,null,null,{"$f":"VLOOKUP(Y759,[1]SRA!$S$4:$Z$368,3,0)","v":0},"","",""]
["36zoZND",{"$f":"VLOOKUP($AA761,DATA!$B$3:$E$6,2,0)","v":"00:00:00"},{"$f":"VLOOKUP($AA761,DATA!$B$3:$E$6,3,0)","v":"00:00:00"},{"$f":"VLOOKUP($AA761,DATA!$B$3:$E$6,4,0)","v":0},0,0,{"$f":"DATA!$C$9","v":0.89},{"$f":"DATA!$C$10","v":64},1,0,0,0,"","",0,"","",0,"","","","",null,{"$f":"X751","v":36},null,{"$f":"TEXT(Y759,\"ddd\")","v":"zo"},"ZND",{"$f":"IFERROR(HLOOKUP(Y759,[1]DATA!$A$1:$NB$5,5,0),\"\")","v":"-"},null,null,null,null,{"$f":"VLOOKUP(Y759,[1]SRA!$S$4:$Z$368,4,0)","v":0},"","",""]
["37maDD",{"$f":"VLOOKUP($AA762,DATA!$B$3:$E$6,2,0)","v":"06:30:00"},{"$f":"VLOOKUP($AA762,DATA!$B$3:$E$6,3,0)","v":"14:30:00"},{"$f":"VLOOKUP($AA762,DATA!$B$3:$E$6,4,0)","v":3.125E-2},0.30208333333333331,0.30208333333333331,{"$f":"DATA!$C$9","v":0.89},{"$f":"DATA!$C$10","v":64},1,407.8125,407.8125,0,"","",{"$f":"TIME(INT($AD762/60),INT(MOD($AD762,60)/1),0)","v":0},"","",336,304,304,"","",null,{"$f":"X772","v":37},{"$f":"Y759+1","v":"2018-09-10"},{"$f":"TEXT(Y762,\"ddd\")","v":"ma"},"DD",{"$f":"IFERROR(HLOOKUP(Y762,[1]DATA!$A$1:$NB$5,3,0),\"\")","v":"D1"},0,null,11,315,0,-103.8125,0.74544061302681996,1,{"$f":"IF(SUMIF(S762:S782,\">0\",K762:K782)=0,\"\",SUMIF(S762:S782,\">0\",K762:K782))","v":6117.1875},{"$f":"IF(SUM(S762:S782)=0,\"\",SUM(S762:S782))","v":4499},{"$f":"IFERROR(AL762/AK762,\"-\")","v":0.73546871008939974},{"$f":"IF(SUM(M762:M782)=0,\"0\",SUM(M762:M782))","v":251.25},{"$f":"IFERROR(AN762/AK762,\"-\")","v":4.1072796934865902E-2},{"$f":"IF(SUM(P762:P782)=0,0,SUM(P762:P782))","v":0},{"$f":"IFERROR(AP762/AK762,\"-\")","v":0},{"$f":"IFERROR(AVERAGE(AJ762:AJ782),\"-\")","v":0.97007873037215131},{"$f":"IFERROR(SUMIF($AB762:$AB782,AS$5,$AJ762:$AJ782)/COUNTIFS($AB762:$AB782,AS$5,$AJ762:$AJ782,\">0\"),\"\")","v":0.96518225509659406},0.96488041096565702,0.98017352505420285,{"$f":"IFERROR((AK762-AL762-AN762-AP762),\"-\")","v":1366.9375},{"$f":"IFERROR((1-AM762-AO762-AQ762), \"-\")","v":0.22345849297573436},{"$f":"IFERROR((AV762*$AE$2)/60,\"-\")","v":1458.0666666666666},{"$f":"IFERROR(SUM(AG762:AG782),\"\")","v":172}]
["37maMD",{"$f":"VLOOKUP($AA763,DATA!$B$3:$E$6,2,0)","v":"14:30:00"},{"$f":"VLOOKUP($AA763,DATA!$B$3:$E$6,3,0)","v":"22:30:00"},{"$f":"VLOOKUP($AA763,DATA!$B$3:$E$6,4,0)","v":3.125E-2},0.30208333333333337,0.30208333333333337,{"$f":"DATA!$C$9","v":0.89},{"$f":"DATA!$C$10","v":64},1,407.81250000000006,407.81250000000006,0,"","",{"$f":"TIME(INT(AD763/60),INT(MOD(AD763,60)/1),0)","v":0},"","",134.4,123,"","",123,null,{"$f":"X772","v":37},null,{"$f":"TEXT(Y762,\"ddd\")","v":"ma"},"MD",{"$f":"IFERROR(HLOOKUP(Y762,[1]DATA!$A$1:$NB$5,4,0),\"\")","v":"D3"},0,null,3,126,0,-284.81250000000006,0.3016091954022988,1]
["37maND",{"$f":"VLOOKUP($AA764,DATA!$B$3:$E$6,2,0)","v":"22:30:00"},{"$f":"VLOOKUP($AA764,DATA!$B$3:$E$6,3,0)","v":"06:30:00"},{"$f":"VLOOKUP($AA764,DATA!$B$3:$E$6,4,0)","v":3.125E-2},0.30208333333333326,0.2763888888888888,{"$f":"DATA!$C$9","v":0.89},{"$f":"DATA!$C$10","v":64},1,373.12499999999989,407.81249999999989,2.5694444444444447E-2,34.6875,8.5057471264367843E-2,0,"","",364.8,304,"",304,"",null,{"$f":"X772","v":37},null,{"$f":"TEXT(Y762,\"ddd\")","v":"ma"},"ND",{"$f":"IFERROR(HLOOKUP(Y762,[1]DATA!$A$1:$NB$5,5,0),\"\")","v":"D2"},37,null,38,342,0,-69.124999999999886,0.74544061302682008,1]
["37diDD",{"$f":"VLOOKUP($AA765,DATA!$B$3:$E$6,2,0)","v":"06:30:00"},{"$f":"VLOOKUP($AA765,DATA!$B$3:$E$6,3,0)","v":"14:30:00"},{"$f":"VLOOKUP($AA765,DATA!$B$3:$E$6,4,0)","v":3.125E-2},0.30208333333333331,0.30208333333333331,{"$f":"DATA!$C$9","v":0.89},{"$f":"DATA!$C$10","v":64},1,407.8125,407.8125,0,"","",0,"","",395.73333333333335,352,352,"","",null,{"$f":"X772","v":37},"2018-09-11",{"$f":"TEXT(Y765,\"ddd\")","v":"di"},"DD",{"$f":"IFERROR(HLOOKUP(Y765,[1]DATA!$A$1:$NB$5,3,0),\"\")","v":"D1"},0,null,19,371,{"$f":"VLOOKUP(Y765,[1]SRA!$S$4:$Z$368,2,0)","v":5},-55.8125,0.86314176245210728,0.98752287472966227]
["37diMD",{"$f":"VLOOKUP($AA766,DATA!$B$3:$E$6,2,0)","v":"14:30:00"},{"$f":"VLOOKUP($AA766,DATA!$B$3:$E$6,3,0)","v":"22:30:00"},{"$f":"VLOOKUP($AA766,DATA!$B$3:$E$6,4,0)","v":3.125E-2},0.30208333333333337,0.27638888888888891,{"$f":"DATA!$C$9","v":0.89},{"$f":"DATA!$C$10","v":64},1,373.125,407.81250000000006,2.5694444444444447E-2,34.6875,8.5057471264367801E-2,0,"","",295.46666666666664,273,"","",273,null,{"$f":"X772","v":37},null,{"$f":"TEXT(Y765,\"ddd\")","v":"di"},"MD",{"$f":"IFERROR(HLOOKUP(Y765,[1]DATA!$A$1:$NB$5,4,0),\"\")","v":"D3"},37,null,4,277,{"$f":"VLOOKUP(Y765,[1]SRA!$S$4:$Z$368,3,0)","v":0},-100.125,0.66942528735632179,1]
["37diND",{"$f":"VLOOKUP($AA767,DATA!$B$3:$E$6,2,0)","v":"22:30:00"},{"$f":"VLOOKUP($AA767,DATA!$B$3:$E$6,3,0)","v":"06:30:00"},{"$f":"VLOOKUP($AA767,DATA!$B$3:$E$6,4,0)","v":3.125E-2},0.30208333333333326,0.28124999999999994,{"$f":"DATA!$C$9","v":0.89},{"$f":"DATA!$C$10","v":64},1,379.68749999999994,407.81249999999989,2.0833333333333332E-2,28.125,6.8965517241379323E-2,0,"","",385.06666666666666,330,"",330,"",null,{"$f":"X772","v":37},null,{"$f":"TEXT(Y765,\"ddd\")","v":"di"},"ND",{"$f":"IFERROR(HLOOKUP(Y765,[1]DATA!$A$1:$NB$5,5,0),\"\")","v":"D2"},30,null,31,361,{"$f":"VLOOKUP(Y765,[1]SRA!$S$4:$Z$368,4,0)","v":23},-49.687499999999943,0.80919540229885079,0.9436366606763601]
["37woDD",{"$f":"VLOOKUP($AA768,DATA!$B$3:$E$6,2,0)","v":"06:30:00"},{"$f":"VLOOKUP($AA768,DATA!$B$3:$E$6,3,0)","v":"14:30:00"},{"$f":"VLOOKUP($AA768,DATA!$B$3:$E$6,4,0)","v":3.125E-2},0.30208333333333331,0.25763888888888886,{"$f":"DATA!$C$9","v":0.89},{"$f":"DATA!$C$10","v":64},1,347.81249999999994,407.8125,4.4444444444444446E-2,60,0.14712643678160919,0,"","",322.13333333333333,296,296,"","",null,{"$f":"X772","v":37},"2018-09-12",{"$f":"TEXT(Y768,\"ddd\")","v":"wo"},"DD",{"$f":"IFERROR(HLOOKUP(Y768,[1]DATA!$A$1:$NB$5,3,0),\"\")","v":"D1"},64,null,6,302,{"$f":"VLOOKUP(Y768,[1]SRA!$S$4:$Z$368,2,0)","v":11},-51.812499999999943,0.72582375478927208,0.96698018811286768]
["37woMD",{"$f":"VLOOKUP($AA769,DATA!$B$3:$E$6,2,0)","v":"14:30:00"},{"$f":"VLOOKUP($AA769,DATA!$B$3:$E$6,3,0)","v":"22:30:00"},{"$f":"VLOOKUP($AA769,DATA!$B$3:$E$6,4,0)","v":3.125E-2},0.30208333333333337,0.29513888888888895,{"$f":"DATA!$C$9","v":0.89},{"$f":"DATA!$C$10","v":64},1,398.43750000000006,407.81250000000006,6.9444444444444441E-3,9.375,2.2988505747126433E-2,0,"","",368,329,"","",329,null,{"$f":"X772","v":37},null,{"$f":"TEXT(Y768,\"ddd\")","v":"wo"},"MD",{"$f":"IFERROR(HLOOKUP(Y768,[1]DATA!$A$1:$NB$5,4,0),\"\")","v":"D3"},10,null,16,345,{"$f":"VLOOKUP(Y768,[1]SRA!$S$4:$Z$368,3,0)","v":17},-69.437500000000057,0.80674329501915698,0.95584415584415583]
["37woND",{"$f":"VLOOKUP($AA770,DATA!$B$3:$E$6,2,0)","v":"22:30:00"},{"$f":"VLOOKUP($AA770,DATA!$B$3:$E$6,3,0)","v":"06:30:00"},{"$f":"VLOOKUP($AA770,DATA!$B$3:$E$6,4,0)","v":3.125E-2},0.30208333333333326,0.28194444444444439,{"$f":"DATA!$C$9","v":0.89},{"$f":"DATA!$C$10","v":64},1,380.62499999999994,407.81249999999989,2.013888888888889E-2,27.1875,6.666666666666668E-2,0,"","",340.26666666666665,305,"",305,"",null,{"$f":"X772","v":37},null,{"$f":"TEXT(Y768,\"ddd\")","v":"wo"},"ND",{"$f":"IFERROR(HLOOKUP(Y768,[1]DATA!$A$1:$NB$5,5,0),\"\")","v":"D2"},29,null,14,319,{"$f":"VLOOKUP(Y768,[1]SRA!$S$4:$Z$368,4,0)","v":19},-75.624999999999943,0.74789272030651366,0.94711449248469104]
["37doDD",{"$f":"VLOOKUP($AA771,DATA!$B$3:$E$6,2,0)","v":"06:30:00"},{"$f":"VLOOKUP($AA771,DATA!$B$3:$E$6,3,0)","v":"14:30:00"},{"$f":"VLOOKUP($AA771,DATA!$B$3:$E$6,4,0)","v":3.125E-2},0.30208333333333331,0.29305555555555551,{"$f":"DATA!$C$9","v":0.89},{"$f":"DATA!$C$10","v":64},1,395.62499999999994,407.8125,9.0277777777777787E-3,12.187500000000002,2.9885057471264371E-2,0,"","",358.4,318,318,"","",null,{"$f":"X772","v":37},"2018-09-13",{"$f":"TEXT(Y771,\"ddd\")","v":"do"},"DD",{"$f":"IFERROR(HLOOKUP(Y771,[1]DATA!$A$1:$NB$5,3,0),\"\")","v":"D1"},13,null,18,336,{"$f":"VLOOKUP(Y771,[1]SRA!$S$4:$Z$368,2,0)","v":42},-77.624999999999943,0.77977011494252868,0.8951048951048951]
["37doMD",{"$f":"VLOOKUP($AA772,DATA!$B$3:$E$6,2,0)","v":"14:30:00"},{"$f":"VLOOKUP($AA772,DATA!$B$3:$E$6,3,0)","v":"22:30:00"},{"$f":"VLOOKUP($AA772,DATA!$B$3:$E$6,4,0)","v":3.125E-2},0.30208333333333337,0.30208333333333337,{"$f":"DATA!$C$9","v":0.89},{"$f":"DATA!$C$10","v":64},1,407.81250000000006,407.81250000000006,0,"","",0,"","",389.33333333333331,340,"","",340,null,{"$f":"WEEKNUM($Y762)","v":37},null,{"$f":"TEXT(Y771,\"ddd\")","v":"do"},"MD",{"$f":"IFERROR(HLOOKUP(Y771,[1]DATA!$A$1:$NB$5,4,0),\"\")","v":"D3"},0,null,25,365,{"$f":"VLOOKUP(Y771,[1]SRA!$S$4:$Z$368,3,0)","v":15},-67.812500000000057,0.83371647509578528,0.96290189612530919]
["37doND",{"$f":"VLOOKUP($AA773,DATA!$B$3:$E$6,2,0)","v":"22:30:00"},{"$f":"VLOOKUP($AA773,DATA!$B$3:$E$6,3,0)","v":"06:30:00"},{"$f":"VLOOKUP($AA773,DATA!$B$3:$E$6,4,0)","v":3.125E-2},0.30208333333333326,0.30208333333333326,{"$f":"DATA!$C$9","v":0.89},{"$f":"DATA!$C$10","v":64},1,407.81249999999989,407.81249999999989,0,"","",0,"","",365.86666666666667,331,"",331,"",null,{"$f":"X772","v":37},null,{"$f":"TEXT(Y771,\"ddd\")","v":"do"},"ND",{"$f":"IFERROR(HLOOKUP(Y771,[1]DATA!$A$1:$NB$5,5,0),\"\")","v":"D2"},0,null,12,343,{"$f":"VLOOKUP(Y771,[1]SRA!$S$4:$Z$368,4,0)","v":26},-76.812499999999886,0.81164750957854426,0.93365090166723375]
["37vrDD",{"$f":"VLOOKUP($AA774,DATA!$B$3:$E$6,2,0)","v":"06:30:00"},{"$f":"VLOOKUP($AA774,DATA!$B$3:$E$6,3,0)","v":"14:30:00"},{"$f":"VLOOKUP($AA774,DATA!$B$3:$E$6,4,0)","v":3.125E-2},0.30208333333333331,0.28819444444444442,{"$f":"DATA!$C$9","v":0.89},{"$f":"DATA!$C$10","v":64},1,{"$f":"F774*86400/H774*I774","v":389.06249999999994},{"$f":"E774*86400/H774","v":407.8125},1.3888888888888888E-2,18.75,4.5977011494252873E-2,0,"","",{"$f":"AF774*AG$2","v":329.6},{"$f":"IF(AF774-AE774=0,\"\",AF774-AE774)","v":297},297,"","",null,{"$f":"X772","v":37},"2018-09-14",{"$f":"TEXT(Y774,\"ddd\")","v":"vr"},"DD",{"$f":"IFERROR(HLOOKUP(Y774,[1]DATA!$A$1:$NB$5,3,0),\"\")","v":"D1"},20,null,12,309,{"$f":"VLOOKUP(Y774,[1]SRA!$S$4:$Z$368,2,0)","v":8},{"$f":"IFERROR(S774-J774,\"\")","v":-92.062499999999943},{"$f":"IFERROR(IF(S774/(E774*86400/H774)<=0,\"\",S774/(E774*86400/H774)),\"\")","v":0.72827586206896555},0.976303317535545]
["37vrMD",{"$f":"VLOOKUP($AA775,DATA!$B$3:$E$6,2,0)","v":"14:30:00"},{"$f":"VLOOKUP($AA775,DATA!$B$3:$E$6,3,0)","v":"22:30:00"},{"$f":"VLOOKUP($AA775,DATA!$B$3:$E$6,4,0)","v":3.125E-2},0.30208333333333337,0.28263888888888894,{"$f":"DATA!$C$9","v":0.89},{"$f":"DATA!$C$10","v":64},1,381.56250000000006,407.81250000000006,{"$f":"TIME(INT($AC775/60),INT(MOD($AC775,60)/1),0)","v":1.9444444444444445E-2},{"$f":"IF($L775*86400/$H775=0,\"\",$L775*86400/$H775)","v":26.25},{"$f":"IFERROR($M775/$K775,\"\")","v":6.4367816091954008E-2},0,"",{"$f":"IFERROR($P775/$K775,\"\")","v":""},329.6,284,{"$f":"IF(IF($AB775=\"D1\",$S775,\"\")=0,\"\",IF($AB775=\"D1\",$S775,\"\"))","v":""},{"$f":"IF(IF($AB775=\"D2\",$S775,\"\")=0,\"\",IF($AB775=\"D2\",$S775,\"\"))","v":""},{"$f":"IF(IF($AB775=\"D3\",$S775,\"\")=0,\"\",IF($AB775=\"D3\",$S775,\"\"))","v":284},null,{"$f":"X772","v":37},null,{"$f":"TEXT(Y774,\"ddd\")","v":"vr"},"MD",{"$f":"IFERROR(HLOOKUP(Y774,[1]DATA!$A$1:$NB$5,4,0),\"\")","v":"D3"},28,null,25,309,{"$f":"VLOOKUP(Y774,[1]SRA!$S$4:$Z$368,3,0)","v":6},-97.562500000000057,0.69639846743295009,0.98212157330154948]
["37vrND",{"$f":"VLOOKUP($AA776,DATA!$B$3:$E$6,2,0)","v":"22:30:00"},{"$f":"VLOOKUP($AA776,DATA!$B$3:$E$6,3,0)","v":"06:30:00"},{"$f":"VLOOKUP($AA776,DATA!$B$3:$E$6,4,0)","v":3.125E-2},0.30208333333333326,0.30208333333333326,{"$f":"DATA!$C$9","v":0.89},{"$f":"DATA!$C$10","v":64},1,407.81249999999989,407.81249999999989,0,"","",0,"","",358.4,313,"",313,"",null,{"$f":"X772","v":37},null,{"$f":"TEXT(Y774,\"ddd\")","v":"vr"},"ND",{"$f":"IFERROR(HLOOKUP(Y774,[1]DATA!$A$1:$NB$5,5,0),\"\")","v":"D2"},0,null,23,336,{"$f":"VLOOKUP(Y774,[1]SRA!$S$4:$Z$368,4,0)","v":0},-94.812499999999886,0.76750957854406154,1]
["37zaDD",{"$f":"VLOOKUP($AA777,DATA!$B$3:$E$6,2,0)","v":"06:30:00"},{"$f":"VLOOKUP($AA777,DATA!$B$3:$E$6,3,0)","v":"14:30:00"},{"$f":"VLOOKUP($AA777,DATA!$B$3:$E$6,4,0)","v":3.125E-2},0.30208333333333331,0.30208333333333331,{"$f":"DATA!$C$9","v":0.89},{"$f":"DATA!$C$10","v":64},1,407.8125,407.8125,0,"","",0,"","",0,"","","","",null,{"$f":"X772","v":37},"2018-09-15",{"$f":"TEXT(Y777,\"ddd\")","v":"za"},"DD",{"$f":"IFERROR(HLOOKUP(Y777,[1]DATA!$A$1:$NB$5,3,0),\"\")","v":"D1"},null,null,null,null,{"$f":"VLOOKUP(Y777,[1]SRA!$S$4:$Z$368,2,0)","v":0},"","",""]
["37zaMD",{"$f":"VLOOKUP($AA778,DATA!$B$3:$E$6,2,0)","v":"14:30:00"},{"$f":"VLOOKUP($AA778,DATA!$B$3:$E$6,3,0)","v":"22:30:00"},{"$f":"VLOOKUP($AA778,DATA!$B$3:$E$6,4,0)","v":3.125E-2},0.30208333333333337,0.30208333333333337,{"$f":"DATA!$C$9","v":0.89},{"$f":"DATA!$C$10","v":64},1,407.81250000000006,407.81250000000006,0,"","",0,"","",0,"","","","",null,{"$f":"X772","v":37},null,{"$f":"TEXT(Y777,\"ddd\")","v":"za"},"MD",{"$f":"IFERROR(HLOOKUP(Y777,[1]DATA!$A$1:$NB$5,4,0),\"\")","v":"-"},null,null,null,null,{"$f":"VLOOKUP(Y777,[1]SRA!$S$4:$Z$368,3,0)","v":0},"","",""]
["37zaND",{"$f":"VLOOKUP($AA779,DATA!$B$3:$E$6,2,0)","v":"22:30:00"},{"$f":"VLOOKUP($AA779,DATA!$B$3:$E$6,3,0)","v":"06:30:00"},{"$f":"VLOOKUP($AA779,DATA!$B$3:$E$6,4,0)","v":3.125E-2},0.30208333333333326,0.30208333333333326,{"$f":"DATA!$C$9","v":0.89},{"$f":"DATA!$C$10","v":64},1,407.81249999999989,407.81249999999989,0,"","",0,"","",0,"","","","",null,{"$f":"X772","v":37},null,{"$f":"TEXT(Y777,\"ddd\")","v":"za"},"ND",{"$f":"IFERROR(HLOOKUP(Y777,[1]DATA!$A$1:$NB$5,5,0),\"\")","v":"-"},null,null,null,null,{"$f":"VLOOKUP(Y777,[1]SRA!$S$4:$Z$368,4,0)","v":0},"","",""]
["37zoDD",{"$f":"VLOOKUP($AA780,DATA!$B$3:$E$6,2,0)","v":"06:30:00"},{"$f":"VLOOKUP($AA780,DATA!$B$3:$E$6,3,0)","v":"14:30:00"},{"$f":"VLOOKUP($AA780,DATA!$B$3:$E$6,4,0)","v":3.125E-2},0.30208333333333331,0.30208333333333331,{"$f":"DATA!$C$9","v":0.89},{"$f":"DATA!$C$10","v":64},1,407.8125,407.8125,0,"","",0,"","",0,"","","","",null,{"$f":"X772","v":37},"2018-09-16",{"$f":"TEXT(Y780,\"ddd\")","v":"zo"},"DD",{"$f":"IFERROR(HLOOKUP(Y780,[1]DATA!$A$1:$NB$5,3,0),\"\")","v":"-"},null,null,null,null,{"$f":"VLOOKUP(Y780,[1]SRA!$S$4:$Z$368,2,0)","v":0},"","",""]
["37zoMD",{"$f":"VLOOKUP($AA781,DATA!$B$3:$E$6,2,0)","v":"14:30:00"},{"$f":"VLOOKUP($AA781,DATA!$B$3:$E$6,3,0)","v":"22:30:00"},{"$f":"VLOOKUP($AA781,DATA!$B$3:$E$6,4,0)","v":3.125E-2},0.30208333333333337,0.30208333333333337,{"$f":"DATA!$C$9","v":0.89},{"$f":"DATA!$C$10","v":64},1,407.81250000000006,407.81250000000006,0,"","",0,"","",0,"","","","",null,{"$f":"X772","v":37},null,{"$f":"TEXT(Y780,\"ddd\")","v":"zo"},"MD",{"$f":"IFERROR(HLOOKUP(Y780,[1]DATA!$A$1:$NB$5,4,0),\"\")","v":"-"},null,null,null,null,{"$f":"VLOOKUP(Y780,[1]SRA!$S$4:$Z$368,3,0)","v":0},"","",""]
["37zoZND",{"$f":"VLOOKUP($AA782,DATA!$B$3:$E$6,2,0)","v":"00:00:00"},{"$f":"VLOOKUP($AA782,DATA!$B$3:$E$6,3,0)","v":"00:00:00"},{"$f":"VLOOKUP($AA782,DATA!$B$3:$E$6,4,0)","v":0},0,0,{"$f":"DATA!$C$9","v":0.89},{"$f":"DATA!$C$10","v":64},1,0,0,0,"","",0,"","",0,"","","","",null,{"$f":"X772","v":37},null,{"$f":"TEXT(Y780,\"ddd\")","v":"zo"},"ZND",{"$f":"IFERROR(HLOOKUP(Y780,[1]DATA!$A$1:$NB$5,5,0),\"\")","v":"-"},null,null,null,null,{"$f":"VLOOKUP(Y780,[1]SRA!$S$4:$Z$368,4,0)","v":0},"","",""]
["38maDD",{"$f":"VLOOKUP($AA783,DATA!$B$3:$E$6,2,0)","v":"06:30:00"},{"$f":"VLOOKUP($AA783,DATA!$B$3:$E$6,3,0)","v":"14:30:00"},{"$f":"VLOOKUP($AA783,DATA!$B$3:$E$6,4,0)","v":3.125E-2},0.30208333333333331,0.30208333333333331,{"$f":"DATA!$C$9","v":0.89},{"$f":"DATA!$C$10","v":64},1,407.8125,407.8125,0,"","",{"$f":"TIME(INT($AD783/60),INT(MOD($AD783,60)/1),0)","v":0},"","",264.5333333333333,226,"","",226,null,{"$f":"X793","v":38},"2018-09-17",{"$f":"TEXT(Y783,\"ddd\")","v":"ma"},"DD",{"$f":"IFERROR(HLOOKUP(Y783,[1]DATA!$A$1:$NB$5,3,0),\"\")","v":"D3"},0,null,22,248,{"$f":"VLOOKUP(Y783,[1]SRA!$S$4:$Z$368,2,0)","v":159},-181.8125,0.55417624521072795,0.62458680938139455,{"$f":"IF(SUMIF(S783:S803,\">0\",K783:K803)=0,\"\",SUMIF(S783:S803,\">0\",K783:K803))","v":6117.1875},{"$f":"IF(SUM(S783:S803)=0,\"\",SUM(S783:S803))","v":4156},{"$f":"IFERROR(AL783/AK783,\"-\")","v":0.67939719029374201},{"$f":"IF(SUM(M783:M803)=0,\"0\",SUM(M783:M803))","v":338.4375},{"$f":"IFERROR(AN783/AK783,\"-\")","v":5.5325670498084289E-2},{"$f":"IF(SUM(P783:P803)=0,0,SUM(P783:P803))","v":0},{"$f":"IFERROR(AP783/AK783,\"-\")","v":0},{"$f":"IFERROR(AVERAGE(AJ783:AJ803),\"-\")","v":0.85637664787417578},{"$f":"IFERROR(SUMIF($AB783:$AB803,AS$5,$AJ783:$AJ803)/COUNTIFS($AB783:$AB803,AS$5,$AJ783:$AJ803,\">0\"),\"\")","v":0.86554761525458335},0.92841647221391577,0.76259208476216145,{"$f":"IFERROR((AK783-AL783-AN783-AP783),\"-\")","v":1622.75},{"$f":"IFERROR((1-AM783-AO783-AQ783), \"-\")","v":0.2652771392081737},{"$f":"IFERROR((AV783*$AE$2)/60,\"-\")","v":1730.9333333333334},{"$f":"IFERROR(SUM(AG783:AG803),\"\")","v":861}]
["38maMD",{"$f":"VLOOKUP($AA784,DATA!$B$3:$E$6,2,0)","v":"14:30:00"},{"$f":"VLOOKUP($AA784,DATA!$B$3:$E$6,3,0)","v":"22:30:00"},{"$f":"VLOOKUP($AA784,DATA!$B$3:$E$6,4,0)","v":3.125E-2},0.30208333333333337,0.28819444444444448,{"$f":"DATA!$C$9","v":0.89},{"$f":"DATA!$C$10","v":64},1,389.06250000000006,407.81250000000006,1.3888888888888888E-2,18.75,4.5977011494252866E-2,{"$f":"TIME(INT(AD784/60),INT(MOD(AD784,60)/1),0)","v":0},"","",281.60000000000002,256,"",256,"",null,{"$f":"X793","v":38},null,{"$f":"TEXT(Y783,\"ddd\")","v":"ma"},"MD",{"$f":"IFERROR(HLOOKUP(Y783,[1]DATA!$A$1:$NB$5,4,0),\"\")","v":"D2"},20,null,8,264,{"$f":"VLOOKUP(Y783,[1]SRA!$S$4:$Z$368,3,0)","v":20},-133.06250000000006,0.62773946360153243,0.93368700265251992]
["38maND",{"$f":"VLOOKUP($AA785,DATA!$B$3:$E$6,2,0)","v":"22:30:00"},{"$f":"VLOOKUP($AA785,DATA!$B$3:$E$6,3,0)","v":"06:30:00"},{"$f":"VLOOKUP($AA785,DATA!$B$3:$E$6,4,0)","v":3.125E-2},0.30208333333333326,0.20555555555555549,{"$f":"DATA!$C$9","v":0.89},{"$f":"DATA!$C$10","v":64},1,277.49999999999989,407.81249999999989,9.6527777777777768E-2,130.3125,0.31954022988505754,0,"","",300.8,258,258,"","",null,{"$f":"X793","v":38},null,{"$f":"TEXT(Y783,\"ddd\")","v":"ma"},"ND",{"$f":"IFERROR(HLOOKUP(Y783,[1]DATA!$A$1:$NB$5,5,0),\"\")","v":"D1"},139,null,24,282,{"$f":"VLOOKUP(Y783,[1]SRA!$S$4:$Z$368,4,0)","v":17},-19.499999999999886,0.63264367816091971,0.94650723725613595]
["38diDD",{"$f":"VLOOKUP($AA786,DATA!$B$3:$E$6,2,0)","v":"06:30:00"},{"$f":"VLOOKUP($AA786,DATA!$B$3:$E$6,3,0)","v":"14:30:00"},{"$f":"VLOOKUP($AA786,DATA!$B$3:$E$6,4,0)","v":3.125E-2},0.30208333333333331,0.28749999999999998,{"$f":"DATA!$C$9","v":0.89},{"$f":"DATA!$C$10","v":64},1,388.12499999999994,407.8125,1.4583333333333332E-2,19.687499999999996,4.827586206896551E-2,0,"","",349.86666666666667,298,"","",298,null,{"$f":"X793","v":38},"2018-09-18",{"$f":"TEXT(Y786,\"ddd\")","v":"di"},"DD",{"$f":"IFERROR(HLOOKUP(Y786,[1]DATA!$A$1:$NB$5,3,0),\"\")","v":"D3"},21,null,30,328,{"$f":"VLOOKUP(Y786,[1]SRA!$S$4:$Z$368,2,0)","v":55},-90.124999999999943,0.73072796934865902,0.86415280750864487]
["38diMD",{"$f":"VLOOKUP($AA787,DATA!$B$3:$E$6,2,0)","v":"14:30:00"},{"$f":"VLOOKUP($AA787,DATA!$B$3:$E$6,3,0)","v":"22:30:00"},{"$f":"VLOOKUP($AA787,DATA!$B$3:$E$6,4,0)","v":3.125E-2},0.30208333333333337,0.27083333333333337,{"$f":"DATA!$C$9","v":0.89},{"$f":"DATA!$C$10","v":64},1,365.62500000000006,407.81250000000006,3.125E-2,42.1875,0.10344827586206895,0,"","",311.46666666666664,281,"",281,"",null,{"$f":"X793","v":38},null,{"$f":"TEXT(Y786,\"ddd\")","v":"di"},"MD",{"$f":"IFERROR(HLOOKUP(Y786,[1]DATA!$A$1:$NB$5,4,0),\"\")","v":"D2"},45,null,11,292,{"$f":"VLOOKUP(Y786,[1]SRA!$S$4:$Z$368,3,0)","v":5},-84.625000000000057,0.68904214559386967,0.98420054771434595]
["38diND",{"$f":"VLOOKUP($AA788,DATA!$B$3:$E$6,2,0)","v":"22:30:00"},{"$f":"VLOOKUP($AA788,DATA!$B$3:$E$6,3,0)","v":"06:30:00"},{"$f":"VLOOKUP($AA788,DATA!$B$3:$E$6,4,0)","v":3.125E-2},0.30208333333333326,0.30208333333333326,{"$f":"DATA!$C$9","v":0.89},{"$f":"DATA!$C$10","v":64},1,407.81249999999989,407.81249999999989,0,"","",0,"","",349.86666666666667,290,290,"","",null,{"$f":"X793","v":38},null,{"$f":"TEXT(Y786,\"ddd\")","v":"di"},"ND",{"$f":"IFERROR(HLOOKUP(Y786,[1]DATA!$A$1:$NB$5,5,0),\"\")","v":"D1"},0,null,38,328,{"$f":"VLOOKUP(Y786,[1]SRA!$S$4:$Z$368,4,0)","v":63},-117.81249999999989,0.71111111111111136,0.84740836428225419]
["38woDD",{"$f":"VLOOKUP($AA789,DATA!$B$3:$E$6,2,0)","v":"06:30:00"},{"$f":"VLOOKUP($AA789,DATA!$B$3:$E$6,3,0)","v":"14:30:00"},{"$f":"VLOOKUP($AA789,DATA!$B$3:$E$6,4,0)","v":3.125E-2},0.30208333333333331,0.2951388888888889,{"$f":"DATA!$C$9","v":0.89},{"$f":"DATA!$C$10","v":64},1,398.4375,407.8125,6.9444444444444441E-3,9.375,2.2988505747126436E-2,0,"","",268.8,226,"","",226,null,{"$f":"X793","v":38},"2018-09-19",{"$f":"TEXT(Y789,\"ddd\")","v":"wo"},"DD",{"$f":"IFERROR(HLOOKUP(Y789,[1]DATA!$A$1:$NB$5,3,0),\"\")","v":"D3"},10,null,26,252,{"$f":"VLOOKUP(Y789,[1]SRA!$S$4:$Z$368,2,0)","v":80},-172.4375,0.55417624521072795,0.77064220183486243]
["38woMD",{"$f":"VLOOKUP($AA790,DATA!$B$3:$E$6,2,0)","v":"14:30:00"},{"$f":"VLOOKUP($AA790,DATA!$B$3:$E$6,3,0)","v":"22:30:00"},{"$f":"VLOOKUP($AA790,DATA!$B$3:$E$6,4,0)","v":3.125E-2},0.30208333333333337,0.29791666666666672,{"$f":"DATA!$C$9","v":0.89},{"$f":"DATA!$C$10","v":64},1,402.18750000000006,407.81250000000006,4.1666666666666666E-3,5.625,1.379310344827586E-2,0,"","",344.5333333333333,298,"",298,"",null,{"$f":"X793","v":38},null,{"$f":"TEXT(Y789,\"ddd\")","v":"wo"},"MD",{"$f":"IFERROR(HLOOKUP(Y789,[1]DATA!$A$1:$NB$5,4,0),\"\")","v":"D2"},6,null,25,323,{"$f":"VLOOKUP(Y789,[1]SRA!$S$4:$Z$368,3,0)","v":39},-104.18750000000006,0.73072796934865891,0.89831392317051972]
["38woND",{"$f":"VLOOKUP($AA791,DATA!$B$3:$E$6,2,0)","v":"22:30:00"},{"$f":"VLOOKUP($AA791,DATA!$B$3:$E$6,3,0)","v":"06:30:00"},{"$f":"VLOOKUP($AA791,DATA!$B$3:$E$6,4,0)","v":3.125E-2},0.30208333333333326,0.30208333333333326,{"$f":"DATA!$C$9","v":0.89},{"$f":"DATA!$C$10","v":64},1,407.81249999999989,407.81249999999989,0,"","",0,"","",365.86666666666667,311,311,"","",null,{"$f":"X793","v":38},null,{"$f":"TEXT(Y789,\"ddd\")","v":"wo"},"ND",{"$f":"IFERROR(HLOOKUP(Y789,[1]DATA!$A$1:$NB$5,5,0),\"\")","v":"D1"},0,null,32,343,{"$f":"VLOOKUP(Y789,[1]SRA!$S$4:$Z$368,4,0)","v":118},-96.812499999999886,0.76260536398467449,0.75613116561036098]
["38doDD",{"$f":"VLOOKUP($AA792,DATA!$B$3:$E$6,2,0)","v":"06:30:00"},{"$f":"VLOOKUP($AA792,DATA!$B$3:$E$6,3,0)","v":"14:30:00"},{"$f":"VLOOKUP($AA792,DATA!$B$3:$E$6,4,0)","v":3.125E-2},0.30208333333333331,0.30208333333333331,{"$f":"DATA!$C$9","v":0.89},{"$f":"DATA!$C$10","v":64},1,407.8125,407.8125,0,"","",0,"","",328.5333333333333,284,"","",284,null,{"$f":"X793","v":38},"2018-09-20",{"$f":"TEXT(Y792,\"ddd\")","v":"do"},"DD",{"$f":"IFERROR(HLOOKUP(Y792,[1]DATA!$A$1:$NB$5,3,0),\"\")","v":"D3"},0,null,24,308,{"$f":"VLOOKUP(Y792,[1]SRA!$S$4:$Z$368,2,0)","v":102},-123.8125,0.6963984674329502,0.76308454629916378]
["38doMD",{"$f":"VLOOKUP($AA793,DATA!$B$3:$E$6,2,0)","v":"14:30:00"},{"$f":"VLOOKUP($AA793,DATA!$B$3:$E$6,3,0)","v":"22:30:00"},{"$f":"VLOOKUP($AA793,DATA!$B$3:$E$6,4,0)","v":3.125E-2},0.30208333333333337,0.30208333333333337,{"$f":"DATA!$C$9","v":0.89},{"$f":"DATA!$C$10","v":64},1,407.81250000000006,407.81250000000006,0,"","",0,"","",388.26666666666665,328,"",328,"",null,{"$f":"WEEKNUM($Y783)","v":38},null,{"$f":"TEXT(Y792,\"ddd\")","v":"do"},"MD",{"$f":"IFERROR(HLOOKUP(Y792,[1]DATA!$A$1:$NB$5,4,0),\"\")","v":"D2"},0,null,36,364,{"$f":"VLOOKUP(Y792,[1]SRA!$S$4:$Z$368,3,0)","v":26},-79.812500000000057,0.80429118773946351,0.93723849372384938]
["38doND",{"$f":"VLOOKUP($AA794,DATA!$B$3:$E$6,2,0)","v":"22:30:00"},{"$f":"VLOOKUP($AA794,DATA!$B$3:$E$6,3,0)","v":"06:30:00"},{"$f":"VLOOKUP($AA794,DATA!$B$3:$E$6,4,0)","v":3.125E-2},0.30208333333333326,0.29722222222222217,{"$f":"DATA!$C$9","v":0.89},{"$f":"DATA!$C$10","v":64},1,401.24999999999994,407.81249999999989,4.8611111111111112E-3,6.5625,1.6091954022988509E-2,0,"","",311.46666666666664,259,259,"","",null,{"$f":"X793","v":38},null,{"$f":"TEXT(Y792,\"ddd\")","v":"do"},"ND",{"$f":"IFERROR(HLOOKUP(Y792,[1]DATA!$A$1:$NB$5,5,0),\"\")","v":"D1"},7,null,33,292,{"$f":"VLOOKUP(Y792,[1]SRA!$S$4:$Z$368,4,0)","v":30},-142.24999999999994,0.63509578544061318,0.91214369386958216]
["38vrDD",{"$f":"VLOOKUP($AA795,DATA!$B$3:$E$6,2,0)","v":"06:30:00"},{"$f":"VLOOKUP($AA795,DATA!$B$3:$E$6,3,0)","v":"14:30:00"},{"$f":"VLOOKUP($AA795,DATA!$B$3:$E$6,4,0)","v":3.125E-2},0.30208333333333331,0.28125,{"$f":"DATA!$C$9","v":0.89},{"$f":"DATA!$C$10","v":64},1,379.6875,407.8125,2.0833333333333332E-2,28.125,6.8965517241379309E-2,0,"","",252.79999999999998,210,"","",210,null,{"$f":"X793","v":38},"2018-09-21",{"$f":"TEXT(Y795,\"ddd\")","v":"vr"},"DD",{"$f":"IFERROR(HLOOKUP(Y795,[1]DATA!$A$1:$NB$5,3,0),\"\")","v":"D3"},30,null,27,237,{"$f":"VLOOKUP(Y795,[1]SRA!$S$4:$Z$368,2,0)","v":67},-169.6875,0.51494252873563218,{"$f":"IFERROR(R795/(R795+AG795),\"\")","v":0.79049405878674173}]
["38vrMD",{"$f":"VLOOKUP($AA796,DATA!$B$3:$E$6,2,0)","v":"14:30:00"},{"$f":"VLOOKUP($AA796,DATA!$B$3:$E$6,3,0)","v":"22:30:00"},{"$f":"VLOOKUP($AA796,DATA!$B$3:$E$6,4,0)","v":3.125E-2},{"$f":"(C796-B796+(B796>C796))-D796","v":0.30208333333333337},{"$f":"E796-O796-L796","v":0.28541666666666671},{"$f":"DATA!$C$9","v":0.89},{"$f":"DATA!$C$10","v":64},1,385.31250000000006,407.81250000000006,1.6666666666666666E-2,22.5,5.5172413793103441E-2,0,"","",369.06666666666666,318,"",318,"",null,{"$f":"X793","v":38},null,{"$f":"TEXT(Y795,\"ddd\")","v":"vr"},"MD",{"$f":"IFERROR(HLOOKUP(Y795,[1]DATA!$A$1:$NB$5,4,0),\"\")","v":"D2"},24,null,28,346,{"$f":"VLOOKUP(Y795,[1]SRA!$S$4:$Z$368,3,0)","v":75},-67.312500000000057,0.77977011494252868,0.8311064404744033]
["38vrND",{"$f":"VLOOKUP($AA797,DATA!$B$3:$E$6,2,0)","v":"22:30:00"},{"$f":"VLOOKUP($AA797,DATA!$B$3:$E$6,3,0)","v":"06:30:00"},{"$f":"VLOOKUP($AA797,DATA!$B$3:$E$6,4,0)","v":3.125E-2},0.30208333333333326,0.26111111111111102,{"$f":"DATA!$C$9","v":0.89},{"$f":"DATA!$C$10","v":64},1,352.49999999999989,407.81249999999989,4.0972222222222222E-2,55.3125,0.13563218390804602,0,"","",350.93333333333334,313,"",313,"",null,{"$f":"X793","v":38},null,{"$f":"TEXT(Y795,\"ddd\")","v":"vr"},"ND",{"$f":"IFERROR(HLOOKUP(Y795,[1]DATA!$A$1:$NB$5,5,0),\"\")","v":"D2"},59,null,16,329,{"$f":"VLOOKUP(Y795,[1]SRA!$S$4:$Z$368,4,0)","v":5},-39.499999999999886,0.76750957854406154,0.98595242554785545]
["38zaDD",{"$f":"VLOOKUP($AA798,DATA!$B$3:$E$6,2,0)","v":"06:30:00"},{"$f":"VLOOKUP($AA798,DATA!$B$3:$E$6,3,0)","v":"14:30:00"},{"$f":"VLOOKUP($AA798,DATA!$B$3:$E$6,4,0)","v":3.125E-2},0.30208333333333331,0.30208333333333331,{"$f":"DATA!$C$9","v":0.89},{"$f":"DATA!$C$10","v":64},1,407.8125,407.8125,0,"","",0,"","",0,"","","","",null,{"$f":"X793","v":38},"2018-09-22",{"$f":"TEXT(Y798,\"ddd\")","v":"za"},"DD",{"$f":"IFERROR(HLOOKUP(Y798,[1]DATA!$A$1:$NB$5,3,0),\"\")","v":"D3"},null,null,null,null,{"$f":"VLOOKUP(Y798,[1]SRA!$S$4:$Z$368,2,0)","v":0},"","",""]
["38zaMD",{"$f":"VLOOKUP($AA799,DATA!$B$3:$E$6,2,0)","v":"14:30:00"},{"$f":"VLOOKUP($AA799,DATA!$B$3:$E$6,3,0)","v":"22:30:00"},{"$f":"VLOOKUP($AA799,DATA!$B$3:$E$6,4,0)","v":3.125E-2},0.30208333333333337,0.30208333333333337,{"$f":"DATA!$C$9","v":0.89},{"$f":"DATA!$C$10","v":64},1,407.81250000000006,407.81250000000006,0,"","",0,"","",0,"","","","",null,{"$f":"X793","v":38},null,{"$f":"TEXT(Y798,\"ddd\")","v":"za"},"MD",{"$f":"IFERROR(HLOOKUP(Y798,[1]DATA!$A$1:$NB$5,4,0),\"\")","v":"-"},null,null,null,null,{"$f":"VLOOKUP(Y798,[1]SRA!$S$4:$Z$368,3,0)","v":0},"","",""]
["38zaND",{"$f":"VLOOKUP($AA800,DATA!$B$3:$E$6,2,0)","v":"22:30:00"},{"$f":"VLOOKUP($AA800,DATA!$B$3:$E$6,3,0)","v":"06:30:00"},{"$f":"VLOOKUP($AA800,DATA!$B$3:$E$6,4,0)","v":3.125E-2},0.30208333333333326,0.30208333333333326,{"$f":"DATA!$C$9","v":0.89},{"$f":"DATA!$C$10","v":64},1,407.81249999999989,407.81249999999989,0,"","",0,"","",0,"","","","",null,{"$f":"X793","v":38},null,{"$f":"TEXT(Y798,\"ddd\")","v":"za"},"ND",{"$f":"IFERROR(HLOOKUP(Y798,[1]DATA!$A$1:$NB$5,5,0),\"\")","v":"-"},null,null,null,null,{"$f":"VLOOKUP(Y798,[1]SRA!$S$4:$Z$368,4,0)","v":0},"","",""]
["38zoDD",{"$f":"VLOOKUP($AA801,DATA!$B$3:$E$6,2,0)","v":"06:30:00"},{"$f":"VLOOKUP($AA801,DATA!$B$3:$E$6,3,0)","v":"14:30:00"},{"$f":"VLOOKUP($AA801,DATA!$B$3:$E$6,4,0)","v":3.125E-2},0.30208333333333331,0.30208333333333331,{"$f":"DATA!$C$9","v":0.89},{"$f":"DATA!$C$10","v":64},1,407.8125,407.8125,0,"","",0,"","",0,"","","","",null,{"$f":"X793","v":38},"2018-09-23",{"$f":"TEXT(Y801,\"ddd\")","v":"zo"},"DD",{"$f":"IFERROR(HLOOKUP(Y801,[1]DATA!$A$1:$NB$5,3,0),\"\")","v":"-"},null,null,null,null,{"$f":"VLOOKUP(Y801,[1]SRA!$S$4:$Z$368,2,0)","v":0},"","",""]
["38zoMD",{"$f":"VLOOKUP($AA802,DATA!$B$3:$E$6,2,0)","v":"14:30:00"},{"$f":"VLOOKUP($AA802,DATA!$B$3:$E$6,3,0)","v":"22:30:00"},{"$f":"VLOOKUP($AA802,DATA!$B$3:$E$6,4,0)","v":3.125E-2},0.30208333333333337,0.30208333333333337,{"$f":"DATA!$C$9","v":0.89},{"$f":"DATA!$C$10","v":64},1,407.81250000000006,407.81250000000006,0,"","",0,"","",0,"","","","",null,{"$f":"X793","v":38},null,{"$f":"TEXT(Y801,\"ddd\")","v":"zo"},"MD",{"$f":"IFERROR(HLOOKUP(Y801,[1]DATA!$A$1:$NB$5,4,0),\"\")","v":"-"},null,null,null,null,{"$f":"VLOOKUP(Y801,[1]SRA!$S$4:$Z$368,3,0)","v":0},"","",""]
["38zoZND",{"$f":"VLOOKUP($AA803,DATA!$B$3:$E$6,2,0)","v":"00:00:00"},{"$f":"VLOOKUP($AA803,DATA!$B$3:$E$6,3,0)","v":"00:00:00"},{"$f":"VLOOKUP($AA803,DATA!$B$3:$E$6,4,0)","v":0},0,0,{"$f":"DATA!$C$9","v":0.89},{"$f":"DATA!$C$10","v":64},1,0,0,0,"","",0,"","",0,"","","","",null,{"$f":"X793","v":38},null,{"$f":"TEXT(Y801,\"ddd\")","v":"zo"},"ZND",{"$f":"IFERROR(HLOOKUP(Y801,[1]DATA!$A$1:$NB$5,5,0),\"\")","v":"-"},null,null,null,null,{"$f":"VLOOKUP(Y801,[1]SRA!$S$4:$Z$368,4,0)","v":0},"","",""]
["39maDD",{"$f":"VLOOKUP($AA804,DATA!$B$3:$E$6,2,0)","v":"06:30:00"},{"$f":"VLOOKUP($AA804,DATA!$B$3:$E$6,3,0)","v":"14:30:00"},{"$f":"VLOOKUP($AA804,DATA!$B$3:$E$6,4,0)","v":3.125E-2},0.30208333333333331,0.30208333333333331,{"$f":"DATA!$C$9","v":0.89},{"$f":"DATA!$C$10","v":64},1,407.8125,407.8125,0,"","",{"$f":"TIME(INT($AD804/60),INT(MOD($AD804,60)/1),0)","v":0},"","",0,"","","","",null,{"$f":"X814","v":39},"2018-09-24",{"$f":"TEXT(Y804,\"ddd\")","v":"ma"},"DD",{"$f":"IFERROR(HLOOKUP(Y804,[1]DATA!$A$1:$NB$5,3,0),\"\")","v":"D2"},null,null,null,null,{"$f":"VLOOKUP(Y804,[1]SRA!$S$4:$Z$368,2,0)","v":30},"","",0,{"$f":"IF(SUMIF(S804:S824,\">0\",K804:K824)=0,\"\",SUMIF(S804:S824,\">0\",K804:K824))","v":""},{"$f":"IF(SUM(S804:S824)=0,\"\",SUM(S804:S824))","v":""},{"$f":"IFERROR(AL804/AK804,\"-\")","v":"-"},{"$f":"IF(SUM(M804:M824)=0,\"0\",SUM(M804:M824))","v":"0"},{"$f":"IFERROR(AN804/AK804,\"-\")","v":"-"},{"$f":"IF(SUM(P804:P824)=0,0,SUM(P804:P824))","v":0},{"$f":"IFERROR(AP804/AK804,\"-\")","v":"-"},{"$f":"IFERROR(AVERAGE(AJ804:AJ824),\"-\")","v":0},{"$f":"IFERROR(SUMIF($AB804:$AB824,AS$5,$AJ804:$AJ824)/COUNTIFS($AB804:$AB824,AS$5,$AJ804:$AJ824,\">0\"),\"\")","v":""},"","",{"$f":"IFERROR((AK804-AL804-AN804-AP804),\"-\")","v":"-"},{"$f":"IFERROR((1-AM804-AO804-AQ804), \"-\")","v":"-"},{"$f":"IFERROR((AV804*$AE$2)/60,\"-\")","v":"-"},{"$f":"IFERROR(SUM(AG804:AG824),\"\")","v":209}]
["39maMD",{"$f":"VLOOKUP($AA805,DATA!$B$3:$E$6,2,0)","v":"14:30:00"},{"$f":"VLOOKUP($AA805,DATA!$B$3:$E$6,3,0)","v":"22:30:00"},{"$f":"VLOOKUP($AA805,DATA!$B$3:$E$6,4,0)","v":3.125E-2},0.30208333333333337,0.30208333333333337,{"$f":"DATA!$C$9","v":0.89},{"$f":"DATA!$C$10","v":64},1,407.81250000000006,407.81250000000006,0,"","",{"$f":"TIME(INT(AD805/60),INT(MOD(AD805,60)/1),0)","v":0},"","",0,"","","","",null,{"$f":"X814","v":39},null,{"$f":"TEXT(Y804,\"ddd\")","v":"ma"},"MD",{"$f":"IFERROR(HLOOKUP(Y804,[1]DATA!$A$1:$NB$5,4,0),\"\")","v":"D1"},null,null,null,null,{"$f":"VLOOKUP(Y804,[1]SRA!$S$4:$Z$368,3,0)","v":18},"","",0]
["39maND",{"$f":"VLOOKUP($AA806,DATA!$B$3:$E$6,2,0)","v":"22:30:00"},{"$f":"VLOOKUP($AA806,DATA!$B$3:$E$6,3,0)","v":"06:30:00"},{"$f":"VLOOKUP($AA806,DATA!$B$3:$E$6,4,0)","v":3.125E-2},0.30208333333333326,0.30208333333333326,{"$f":"DATA!$C$9","v":0.89},{"$f":"DATA!$C$10","v":64},1,407.81249999999989,407.81249999999989,0,"","",0,"","",0,"","","","",null,{"$f":"X814","v":39},null,{"$f":"TEXT(Y804,\"ddd\")","v":"ma"},"ND",{"$f":"IFERROR(HLOOKUP(Y804,[1]DATA!$A$1:$NB$5,5,0),\"\")","v":"D3"},null,null,null,null,{"$f":"VLOOKUP(Y804,[1]SRA!$S$4:$Z$368,4,0)","v":26},"","",0]
["39diDD",{"$f":"VLOOKUP($AA807,DATA!$B$3:$E$6,2,0)","v":"06:30:00"},{"$f":"VLOOKUP($AA807,DATA!$B$3:$E$6,3,0)","v":"14:30:00"},{"$f":"VLOOKUP($AA807,DATA!$B$3:$E$6,4,0)","v":3.125E-2},0.30208333333333331,0.30208333333333331,{"$f":"DATA!$C$9","v":0.89},{"$f":"DATA!$C$10","v":64},1,407.8125,407.8125,0,"","",0,"","",0,"","","","",null,{"$f":"X814","v":39},"2018-09-25",{"$f":"TEXT(Y807,\"ddd\")","v":"di"},"DD",{"$f":"IFERROR(HLOOKUP(Y807,[1]DATA!$A$1:$NB$5,3,0),\"\")","v":"D2"},null,null,null,null,{"$f":"VLOOKUP(Y807,[1]SRA!$S$4:$Z$368,2,0)","v":25},"","",0]
["39diMD",{"$f":"VLOOKUP($AA808,DATA!$B$3:$E$6,2,0)","v":"14:30:00"},{"$f":"VLOOKUP($AA808,DATA!$B$3:$E$6,3,0)","v":"22:30:00"},{"$f":"VLOOKUP($AA808,DATA!$B$3:$E$6,4,0)","v":3.125E-2},0.30208333333333337,0.30208333333333337,{"$f":"DATA!$C$9","v":0.89},{"$f":"DATA!$C$10","v":64},1,407.81250000000006,407.81250000000006,0,"","",0,"","",0,"","","","",null,{"$f":"X814","v":39},null,{"$f":"TEXT(Y807,\"ddd\")","v":"di"},"MD",{"$f":"IFERROR(HLOOKUP(Y807,[1]DATA!$A$1:$NB$5,4,0),\"\")","v":"D1"},null,null,null,null,{"$f":"VLOOKUP(Y807,[1]SRA!$S$4:$Z$368,3,0)","v":8},"","",0]
["39diND",{"$f":"VLOOKUP($AA809,DATA!$B$3:$E$6,2,0)","v":"22:30:00"},{"$f":"VLOOKUP($AA809,DATA!$B$3:$E$6,3,0)","v":"06:30:00"},{"$f":"VLOOKUP($AA809,DATA!$B$3:$E$6,4,0)","v":3.125E-2},0.30208333333333326,0.30208333333333326,{"$f":"DATA!$C$9","v":0.89},{"$f":"DATA!$C$10","v":64},1,407.81249999999989,407.81249999999989,0,"","",0,"","",0,"","","","",null,{"$f":"X814","v":39},null,{"$f":"TEXT(Y807,\"ddd\")","v":"di"},"ND",{"$f":"IFERROR(HLOOKUP(Y807,[1]DATA!$A$1:$NB$5,5,0),\"\")","v":"D3"},null,null,null,null,{"$f":"VLOOKUP(Y807,[1]SRA!$S$4:$Z$368,4,0)","v":19},"","",0]
["39woDD",{"$f":"VLOOKUP($AA810,DATA!$B$3:$E$6,2,0)","v":"06:30:00"},{"$f":"VLOOKUP($AA810,DATA!$B$3:$E$6,3,0)","v":"14:30:00"},{"$f":"VLOOKUP($AA810,DATA!$B$3:$E$6,4,0)","v":3.125E-2},0.30208333333333331,0.30208333333333331,{"$f":"DATA!$C$9","v":0.89},{"$f":"DATA!$C$10","v":64},1,407.8125,407.8125,0,"","",0,"","",0,"","","","",null,{"$f":"X814","v":39},"2018-09-26",{"$f":"TEXT(Y810,\"ddd\")","v":"wo"},"DD",{"$f":"IFERROR(HLOOKUP(Y810,[1]DATA!$A$1:$NB$5,3,0),\"\")","v":"D2"},null,null,null,null,{"$f":"VLOOKUP(Y810,[1]SRA!$S$4:$Z$368,2,0)","v":23},"","",0]
["39woMD",{"$f":"VLOOKUP($AA811,DATA!$B$3:$E$6,2,0)","v":"14:30:00"},{"$f":"VLOOKUP($AA811,DATA!$B$3:$E$6,3,0)","v":"22:30:00"},{"$f":"VLOOKUP($AA811,DATA!$B$3:$E$6,4,0)","v":3.125E-2},0.30208333333333337,0.30208333333333337,{"$f":"DATA!$C$9","v":0.89},{"$f":"DATA!$C$10","v":64},1,407.81250000000006,407.81250000000006,0,"","",0,"","",0,"","","","",null,{"$f":"X814","v":39},null,{"$f":"TEXT(Y810,\"ddd\")","v":"wo"},"MD",{"$f":"IFERROR(HLOOKUP(Y810,[1]DATA!$A$1:$NB$5,4,0),\"\")","v":"D1"},null,null,null,null,{"$f":"VLOOKUP(Y810,[1]SRA!$S$4:$Z$368,3,0)","v":24},"","",0]
["39woND",{"$f":"VLOOKUP($AA812,DATA!$B$3:$E$6,2,0)","v":"22:30:00"},{"$f":"VLOOKUP($AA812,DATA!$B$3:$E$6,3,0)","v":"06:30:00"},{"$f":"VLOOKUP($AA812,DATA!$B$3:$E$6,4,0)","v":3.125E-2},0.30208333333333326,0.30208333333333326,{"$f":"DATA!$C$9","v":0.89},{"$f":"DATA!$C$10","v":64},1,407.81249999999989,407.81249999999989,0,"","",0,"","",0,"","","","",null,{"$f":"X814","v":39},null,{"$f":"TEXT(Y810,\"ddd\")","v":"wo"},"ND",{"$f":"IFERROR(HLOOKUP(Y810,[1]DATA!$A$1:$NB$5,5,0),\"\")","v":"D3"},null,null,null,null,{"$f":"VLOOKUP(Y810,[1]SRA!$S$4:$Z$368,4,0)","v":6},"","",0]
["39doDD",{"$f":"VLOOKUP($AA813,DATA!$B$3:$E$6,2,0)","v":"06:30:00"},{"$f":"VLOOKUP($AA813,DATA!$B$3:$E$6,3,0)","v":"14:30:00"},{"$f":"VLOOKUP($AA813,DATA!$B$3:$E$6,4,0)","v":3.125E-2},0.30208333333333331,0.30208333333333331,{"$f":"DATA!$C$9","v":0.89},{"$f":"DATA!$C$10","v":64},1,407.8125,407.8125,0,"","",0,"","",0,"","","","",null,{"$f":"X814","v":39},"2018-09-27",{"$f":"TEXT(Y813,\"ddd\")","v":"do"},"DD",{"$f":"IFERROR(HLOOKUP(Y813,[1]DATA!$A$1:$NB$5,3,0),\"\")","v":"D2"},null,null,null,null,{"$f":"VLOOKUP(Y813,[1]SRA!$S$4:$Z$368,2,0)","v":8},"","",0]
["39doMD",{"$f":"VLOOKUP($AA814,DATA!$B$3:$E$6,2,0)","v":"14:30:00"},{"$f":"VLOOKUP($AA814,DATA!$B$3:$E$6,3,0)","v":"22:30:00"},{"$f":"VLOOKUP($AA814,DATA!$B$3:$E$6,4,0)","v":3.125E-2},0.30208333333333337,0.30208333333333337,{"$f":"DATA!$C$9","v":0.89},{"$f":"DATA!$C$10","v":64},1,407.81250000000006,407.81250000000006,0,"","",0,"","",0,"","","","",null,{"$f":"WEEKNUM($Y804)","v":39},null,{"$f":"TEXT(Y813,\"ddd\")","v":"do"},"MD",{"$f":"IFERROR(HLOOKUP(Y813,[1]DATA!$A$1:$NB$5,4,0),\"\")","v":"D1"},null,null,null,null,{"$f":"VLOOKUP(Y813,[1]SRA!$S$4:$Z$368,3,0)","v":17},"","",0]
["39doND",{"$f":"VLOOKUP($AA815,DATA!$B$3:$E$6,2,0)","v":"22:30:00"},{"$f":"VLOOKUP($AA815,DATA!$B$3:$E$6,3,0)","v":"06:30:00"},{"$f":"VLOOKUP($AA815,DATA!$B$3:$E$6,4,0)","v":3.125E-2},0.30208333333333326,0.30208333333333326,{"$f":"DATA!$C$9","v":0.89},{"$f":"DATA!$C$10","v":64},1,407.81249999999989,407.81249999999989,0,"","",0,"","",0,"","","","",null,{"$f":"X814","v":39},null,{"$f":"TEXT(Y813,\"ddd\")","v":"do"},"ND",{"$f":"IFERROR(HLOOKUP(Y813,[1]DATA!$A$1:$NB$5,5,0),\"\")","v":"D3"},null,null,null,null,{"$f":"VLOOKUP(Y813,[1]SRA!$S$4:$Z$368,4,0)","v":5},"","",0]
[{"$f":"X816&Z816&AA816","v":"39vrDD"},{"$f":"VLOOKUP($AA816,DATA!$B$3:$E$6,2,0)","v":"06:30:00"},{"$f":"VLOOKUP($AA816,DATA!$B$3:$E$6,3,0)","v":"14:30:00"},{"$f":"VLOOKUP($AA816,DATA!$B$3:$E$6,4,0)","v":3.125E-2},0.30208333333333331,0.30208333333333331,{"$f":"DATA!$C$9","v":0.89},{"$f":"DATA!$C$10","v":64},1,407.8125,407.8125,0,"","",0,{"$f":"IF($O816*86400/$H816=0,\"\",$O816*86400/$H816)","v":""},"",0,"","","","",null,{"$f":"X814","v":39},"2018-09-28",{"$f":"TEXT(Y816,\"ddd\")","v":"vr"},"DD",{"$f":"IFERROR(HLOOKUP(Y816,[1]DATA!$A$1:$NB$5,3,0),\"\")","v":"D2"},null,null,null,null,{"$f":"VLOOKUP(Y816,[1]SRA!$S$4:$Z$368,2,0)","v":0},"","",""]
["39vrMD",{"$f":"VLOOKUP($AA817,DATA!$B$3:$E$6,2,0)","v":"14:30:00"},{"$f":"VLOOKUP($AA817,DATA!$B$3:$E$6,3,0)","v":"22:30:00"},{"$f":"VLOOKUP($AA817,DATA!$B$3:$E$6,4,0)","v":3.125E-2},0.30208333333333337,0.30208333333333337,{"$f":"DATA!$C$9","v":0.89},{"$f":"DATA!$C$10","v":64},1,407.81250000000006,407.81250000000006,0,"","",0,"","",0,"","","","",null,{"$f":"X814","v":39},null,{"$f":"TEXT(Y816,\"ddd\")","v":"vr"},"MD",{"$f":"IFERROR(HLOOKUP(Y816,[1]DATA!$A$1:$NB$5,4,0),\"\")","v":"D1"},null,null,null,null,{"$f":"VLOOKUP(Y816,[1]SRA!$S$4:$Z$368,3,0)","v":0},"","",""]
["39vrND",{"$f":"VLOOKUP($AA818,DATA!$B$3:$E$6,2,0)","v":"22:30:00"},{"$f":"VLOOKUP($AA818,DATA!$B$3:$E$6,3,0)","v":"06:30:00"},{"$f":"VLOOKUP($AA818,DATA!$B$3:$E$6,4,0)","v":3.125E-2},0.30208333333333326,0.30208333333333326,{"$f":"DATA!$C$9","v":0.89},{"$f":"DATA!$C$10","v":64},1,407.81249999999989,407.81249999999989,0,"","",0,"","",0,"","","","",null,{"$f":"X814","v":39},null,{"$f":"TEXT(Y816,\"ddd\")","v":"vr"},"ND",{"$f":"IFERROR(HLOOKUP(Y816,[1]DATA!$A$1:$NB$5,5,0),\"\")","v":"D3"},null,null,null,null,{"$f":"VLOOKUP(Y816,[1]SRA!$S$4:$Z$368,4,0)","v":0},"","",""]
["39zaDD",{"$f":"VLOOKUP($AA819,DATA!$B$3:$E$6,2,0)","v":"06:30:00"},{"$f":"VLOOKUP($AA819,DATA!$B$3:$E$6,3,0)","v":"14:30:00"},{"$f":"VLOOKUP($AA819,DATA!$B$3:$E$6,4,0)","v":3.125E-2},0.30208333333333331,0.30208333333333331,{"$f":"DATA!$C$9","v":0.89},{"$f":"DATA!$C$10","v":64},1,407.8125,407.8125,0,"","",0,"","",0,"","","","",null,{"$f":"X814","v":39},"2018-09-29",{"$f":"TEXT(Y819,\"ddd\")","v":"za"},"DD",{"$f":"IFERROR(HLOOKUP(Y819,[1]DATA!$A$1:$NB$5,3,0),\"\")","v":"D2"},null,null,null,null,{"$f":"VLOOKUP(Y819,[1]SRA!$S$4:$Z$368,2,0)","v":0},"","",""]
["39zaMD",{"$f":"VLOOKUP($AA820,DATA!$B$3:$E$6,2,0)","v":"14:30:00"},{"$f":"VLOOKUP($AA820,DATA!$B$3:$E$6,3,0)","v":"22:30:00"},{"$f":"VLOOKUP($AA820,DATA!$B$3:$E$6,4,0)","v":3.125E-2},0.30208333333333337,0.30208333333333337,{"$f":"DATA!$C$9","v":0.89},{"$f":"DATA!$C$10","v":64},1,407.81250000000006,407.81250000000006,0,"","",0,"","",0,"","","","",null,{"$f":"X814","v":39},null,{"$f":"TEXT(Y819,\"ddd\")","v":"za"},"MD",{"$f":"IFERROR(HLOOKUP(Y819,[1]DATA!$A$1:$NB$5,4,0),\"\")","v":"-"},null,null,null,null,{"$f":"VLOOKUP(Y819,[1]SRA!$S$4:$Z$368,3,0)","v":0},"","",""]
["39zaND",{"$f":"VLOOKUP($AA821,DATA!$B$3:$E$6,2,0)","v":"22:30:00"},{"$f":"VLOOKUP($AA821,DATA!$B$3:$E$6,3,0)","v":"06:30:00"},{"$f":"VLOOKUP($AA821,DATA!$B$3:$E$6,4,0)","v":3.125E-2},0.30208333333333326,0.30208333333333326,{"$f":"DATA!$C$9","v":0.89},{"$f":"DATA!$C$10","v":64},1,407.81249999999989,407.81249999999989,0,"","",0,"","",0,"","","","",null,{"$f":"X814","v":39},null,{"$f":"TEXT(Y819,\"ddd\")","v":"za"},"ND",{"$f":"IFERROR(HLOOKUP(Y819,[1]DATA!$A$1:$NB$5,5,0),\"\")","v":"-"},null,null,null,null,{"$f":"VLOOKUP(Y819,[1]SRA!$S$4:$Z$368,4,0)","v":0},"","",""]
["39zoDD",{"$f":"VLOOKUP($AA822,DATA!$B$3:$E$6,2,0)","v":"06:30:00"},{"$f":"VLOOKUP($AA822,DATA!$B$3:$E$6,3,0)","v":"14:30:00"},{"$f":"VLOOKUP($AA822,DATA!$B$3:$E$6,4,0)","v":3.125E-2},0.30208333333333331,0.30208333333333331,{"$f":"DATA!$C$9","v":0.89},{"$f":"DATA!$C$10","v":64},1,407.8125,407.8125,0,"","",0,"","",0,"","","","",null,{"$f":"X814","v":39},"2018-09-30",{"$f":"TEXT(Y822,\"ddd\")","v":"zo"},"DD",{"$f":"IFERROR(HLOOKUP(Y822,[1]DATA!$A$1:$NB$5,3,0),\"\")","v":"-"},null,null,null,null,{"$f":"VLOOKUP(Y822,[1]SRA!$S$4:$Z$368,2,0)","v":0},"","",""]
["39zoMD",{"$f":"VLOOKUP($AA823,DATA!$B$3:$E$6,2,0)","v":"14:30:00"},{"$f":"VLOOKUP($AA823,DATA!$B$3:$E$6,3,0)","v":"22:30:00"},{"$f":"VLOOKUP($AA823,DATA!$B$3:$E$6,4,0)","v":3.125E-2},0.30208333333333337,0.30208333333333337,{"$f":"DATA!$C$9","v":0.89},{"$f":"DATA!$C$10","v":64},1,407.81250000000006,407.81250000000006,0,"","",0,"","",0,"","","","",null,{"$f":"X814","v":39},null,{"$f":"TEXT(Y822,\"ddd\")","v":"zo"},"MD",{"$f":"IFERROR(HLOOKUP(Y822,[1]DATA!$A$1:$NB$5,4,0),\"\")","v":"-"},null,null,null,null,{"$f":"VLOOKUP(Y822,[1]SRA!$S$4:$Z$368,3,0)","v":0},"","",""]
["39zoZND",{"$f":"VLOOKUP($AA824,DATA!$B$3:$E$6,2,0)","v":"00:00:00"},{"$f":"VLOOKUP($AA824,DATA!$B$3:$E$6,3,0)","v":"00:00:00"},{"$f":"VLOOKUP($AA824,DATA!$B$3:$E$6,4,0)","v":0},0,0,{"$f":"DATA!$C$9","v":0.89},{"$f":"DATA!$C$10","v":64},1,0,0,0,"","",0,"","",0,"","","","",null,{"$f":"X814","v":39},null,{"$f":"TEXT(Y822,\"ddd\")","v":"zo"},"ZND",{"$f":"IFERROR(HLOOKUP(Y822,[1]DATA!$A$1:$NB$5,5,0),\"\")","v":"-"},null,null,null,null,{"$f":"VLOOKUP(Y822,[1]SRA!$S$4:$Z$368,4,0)","v":0},"","",""]
["40maDD",{"$f":"VLOOKUP($AA825,DATA!$B$3:$E$6,2,0)","v":"06:30:00"},{"$f":"VLOOKUP($AA825,DATA!$B$3:$E$6,3,0)","v":"14:30:00"},{"$f":"VLOOKUP($AA825,DATA!$B$3:$E$6,4,0)","v":3.125E-2},0.30208333333333331,0.30208333333333331,{"$f":"DATA!$C$9","v":0.89},{"$f":"DATA!$C$10","v":64},1,407.8125,407.8125,0,"","",{"$f":"TIME(INT($AD825/60),INT(MOD($AD825,60)/1),0)","v":0},"","",0,"","","","",null,{"$f":"X835","v":40},{"$f":"Y822+1","v":"2018-10-01"},{"$f":"TEXT(Y825,\"ddd\")","v":"ma"},"DD",{"$f":"IFERROR(HLOOKUP(Y825,[1]DATA!$A$1:$NB$5,3,0),\"\")","v":"D1"},null,null,null,null,{"$f":"VLOOKUP(Y825,[1]SRA!$S$4:$Z$368,2,0)","v":0},"","","",{"$f":"IF(SUMIF(S825:S845,\">0\",K825:K845)=0,\"\",SUMIF(S825:S845,\">0\",K825:K845))","v":""},{"$f":"IF(SUM(S825:S845)=0,\"\",SUM(S825:S845))","v":""},{"$f":"IFERROR(AL825/AK825,\"-\")","v":"-"},{"$f":"IF(SUM(M825:M845)=0,\"0\",SUM(M825:M845))","v":"0"},{"$f":"IFERROR(AN825/AK825,\"-\")","v":"-"},{"$f":"IF(SUM(P825:P845)=0,0,SUM(P825:P845))","v":0},{"$f":"IFERROR(AP825/AK825,\"-\")","v":"-"},{"$f":"IFERROR(AVERAGE(AJ825:AJ845),\"-\")","v":"-"},{"$f":"IFERROR(SUMIF($AB825:$AB845,AS$5,$AJ825:$AJ845)/COUNTIFS($AB825:$AB845,AS$5,$AJ825:$AJ845,\">0\"),\"\")","v":""},"","",{"$f":"IFERROR((AK825-AL825-AN825-AP825),\"-\")","v":"-"},{"$f":"IFERROR((1-AM825-AO825-AQ825), \"-\")","v":"-"},{"$f":"IFERROR((AV825*$AE$2)/60,\"-\")","v":"-"},{"$f":"IFERROR(SUM(AG825:AG845),\"\")","v":0}]
["40maMD",{"$f":"VLOOKUP($AA826,DATA!$B$3:$E$6,2,0)","v":"14:30:00"},{"$f":"VLOOKUP($AA826,DATA!$B$3:$E$6,3,0)","v":"22:30:00"},{"$f":"VLOOKUP($AA826,DATA!$B$3:$E$6,4,0)","v":3.125E-2},0.30208333333333337,0.30208333333333337,{"$f":"DATA!$C$9","v":0.89},{"$f":"DATA!$C$10","v":64},1,407.81250000000006,407.81250000000006,0,"","",{"$f":"TIME(INT(AD826/60),INT(MOD(AD826,60)/1),0)","v":0},"","",0,"","","","",null,{"$f":"X835","v":40},null,{"$f":"TEXT(Y825,\"ddd\")","v":"ma"},"MD",{"$f":"IFERROR(HLOOKUP(Y825,[1]DATA!$A$1:$NB$5,4,0),\"\")","v":"D3"},null,null,null,null,{"$f":"VLOOKUP(Y825,[1]SRA!$S$4:$Z$368,3,0)","v":0},"","",""]
["40maND",{"$f":"VLOOKUP($AA827,DATA!$B$3:$E$6,2,0)","v":"22:30:00"},{"$f":"VLOOKUP($AA827,DATA!$B$3:$E$6,3,0)","v":"06:30:00"},{"$f":"VLOOKUP($AA827,DATA!$B$3:$E$6,4,0)","v":3.125E-2},0.30208333333333326,0.30208333333333326,{"$f":"DATA!$C$9","v":0.89},{"$f":"DATA!$C$10","v":64},1,407.81249999999989,407.81249999999989,0,"","",0,"","",0,"","","","",null,{"$f":"X835","v":40},null,{"$f":"TEXT(Y825,\"ddd\")","v":"ma"},"ND",{"$f":"IFERROR(HLOOKUP(Y825,[1]DATA!$A$1:$NB$5,5,0),\"\")","v":"D2"},null,null,null,null,{"$f":"VLOOKUP(Y825,[1]SRA!$S$4:$Z$368,4,0)","v":0},"","",""]
["40diDD",{"$f":"VLOOKUP($AA828,DATA!$B$3:$E$6,2,0)","v":"06:30:00"},{"$f":"VLOOKUP($AA828,DATA!$B$3:$E$6,3,0)","v":"14:30:00"},{"$f":"VLOOKUP($AA828,DATA!$B$3:$E$6,4,0)","v":3.125E-2},0.30208333333333331,0.30208333333333331,{"$f":"DATA!$C$9","v":0.89},{"$f":"DATA!$C$10","v":64},1,407.8125,407.8125,0,"","",0,"","",0,"","","","",null,{"$f":"X835","v":40},"2018-10-02",{"$f":"TEXT(Y828,\"ddd\")","v":"di"},"DD",{"$f":"IFERROR(HLOOKUP(Y828,[1]DATA!$A$1:$NB$5,3,0),\"\")","v":"D1"},null,null,null,null,{"$f":"VLOOKUP(Y828,[1]SRA!$S$4:$Z$368,2,0)","v":0},"","",""]
["40diMD",{"$f":"VLOOKUP($AA829,DATA!$B$3:$E$6,2,0)","v":"14:30:00"},{"$f":"VLOOKUP($AA829,DATA!$B$3:$E$6,3,0)","v":"22:30:00"},{"$f":"VLOOKUP($AA829,DATA!$B$3:$E$6,4,0)","v":3.125E-2},0.30208333333333337,0.30208333333333337,{"$f":"DATA!$C$9","v":0.89},{"$f":"DATA!$C$10","v":64},1,407.81250000000006,407.81250000000006,0,"","",0,"","",0,"","","","",null,{"$f":"X835","v":40},null,{"$f":"TEXT(Y828,\"ddd\")","v":"di"},"MD",{"$f":"IFERROR(HLOOKUP(Y828,[1]DATA!$A$1:$NB$5,4,0),\"\")","v":"D3"},null,null,null,null,{"$f":"VLOOKUP(Y828,[1]SRA!$S$4:$Z$368,3,0)","v":0},"","",""]
["40diND",{"$f":"VLOOKUP($AA830,DATA!$B$3:$E$6,2,0)","v":"22:30:00"},{"$f":"VLOOKUP($AA830,DATA!$B$3:$E$6,3,0)","v":"06:30:00"},{"$f":"VLOOKUP($AA830,DATA!$B$3:$E$6,4,0)","v":3.125E-2},0.30208333333333326,0.30208333333333326,{"$f":"DATA!$C$9","v":0.89},{"$f":"DATA!$C$10","v":64},1,407.81249999999989,407.81249999999989,0,"","",0,"","",0,"","","","",null,{"$f":"X835","v":40},null,{"$f":"TEXT(Y828,\"ddd\")","v":"di"},"ND",{"$f":"IFERROR(HLOOKUP(Y828,[1]DATA!$A$1:$NB$5,5,0),\"\")","v":"D2"},null,null,null,null,{"$f":"VLOOKUP(Y828,[1]SRA!$S$4:$Z$368,4,0)","v":0},"","",""]
["40woDD",{"$f":"VLOOKUP($AA831,DATA!$B$3:$E$6,2,0)","v":"06:30:00"},{"$f":"VLOOKUP($AA831,DATA!$B$3:$E$6,3,0)","v":"14:30:00"},{"$f":"VLOOKUP($AA831,DATA!$B$3:$E$6,4,0)","v":3.125E-2},0.30208333333333331,0.30208333333333331,{"$f":"DATA!$C$9","v":0.89},{"$f":"DATA!$C$10","v":64},1,407.8125,407.8125,0,"","",0,"","",0,"","","","",null,{"$f":"X835","v":40},"2018-10-03",{"$f":"TEXT(Y831,\"ddd\")","v":"wo"},"DD",{"$f":"IFERROR(HLOOKUP(Y831,[1]DATA!$A$1:$NB$5,3,0),\"\")","v":"D1"},null,null,null,null,{"$f":"VLOOKUP(Y831,[1]SRA!$S$4:$Z$368,2,0)","v":0},"","",""]
["40woMD",{"$f":"VLOOKUP($AA832,DATA!$B$3:$E$6,2,0)","v":"14:30:00"},{"$f":"VLOOKUP($AA832,DATA!$B$3:$E$6,3,0)","v":"22:30:00"},{"$f":"VLOOKUP($AA832,DATA!$B$3:$E$6,4,0)","v":3.125E-2},0.30208333333333337,0.30208333333333337,{"$f":"DATA!$C$9","v":0.89},{"$f":"DATA!$C$10","v":64},1,407.81250000000006,407.81250000000006,0,"","",0,"","",0,"","","","",null,{"$f":"X835","v":40},null,{"$f":"TEXT(Y831,\"ddd\")","v":"wo"},"MD",{"$f":"IFERROR(HLOOKUP(Y831,[1]DATA!$A$1:$NB$5,4,0),\"\")","v":"D3"},null,null,null,null,{"$f":"VLOOKUP(Y831,[1]SRA!$S$4:$Z$368,3,0)","v":0},"","",""]
["40woND",{"$f":"VLOOKUP($AA833,DATA!$B$3:$E$6,2,0)","v":"22:30:00"},{"$f":"VLOOKUP($AA833,DATA!$B$3:$E$6,3,0)","v":"06:30:00"},{"$f":"VLOOKUP($AA833,DATA!$B$3:$E$6,4,0)","v":3.125E-2},0.30208333333333326,0.30208333333333326,{"$f":"DATA!$C$9","v":0.89},{"$f":"DATA!$C$10","v":64},1,407.81249999999989,407.81249999999989,0,"","",0,"","",0,"","","","",null,{"$f":"X835","v":40},null,{"$f":"TEXT(Y831,\"ddd\")","v":"wo"},"ND",{"$f":"IFERROR(HLOOKUP(Y831,[1]DATA!$A$1:$NB$5,5,0),\"\")","v":"D2"},null,null,null,null,{"$f":"VLOOKUP(Y831,[1]SRA!$S$4:$Z$368,4,0)","v":0},"","",""]
["40doDD",{"$f":"VLOOKUP($AA834,DATA!$B$3:$E$6,2,0)","v":"06:30:00"},{"$f":"VLOOKUP($AA834,DATA!$B$3:$E$6,3,0)","v":"14:30:00"},{"$f":"VLOOKUP($AA834,DATA!$B$3:$E$6,4,0)","v":3.125E-2},0.30208333333333331,0.30208333333333331,{"$f":"DATA!$C$9","v":0.89},{"$f":"DATA!$C$10","v":64},1,407.8125,407.8125,0,"","",0,"","",0,"","","","",null,{"$f":"X835","v":40},"2018-10-04",{"$f":"TEXT(Y834,\"ddd\")","v":"do"},"DD",{"$f":"IFERROR(HLOOKUP(Y834,[1]DATA!$A$1:$NB$5,3,0),\"\")","v":"D1"},null,null,null,null,{"$f":"VLOOKUP(Y834,[1]SRA!$S$4:$Z$368,2,0)","v":0},"","",""]
["40doMD",{"$f":"VLOOKUP($AA835,DATA!$B$3:$E$6,2,0)","v":"14:30:00"},{"$f":"VLOOKUP($AA835,DATA!$B$3:$E$6,3,0)","v":"22:30:00"},{"$f":"VLOOKUP($AA835,DATA!$B$3:$E$6,4,0)","v":3.125E-2},0.30208333333333337,0.30208333333333337,{"$f":"DATA!$C$9","v":0.89},{"$f":"DATA!$C$10","v":64},1,407.81250000000006,407.81250000000006,0,"","",0,"","",0,"","","","",null,{"$f":"WEEKNUM($Y825)","v":40},null,{"$f":"TEXT(Y834,\"ddd\")","v":"do"},"MD",{"$f":"IFERROR(HLOOKUP(Y834,[1]DATA!$A$1:$NB$5,4,0),\"\")","v":"D3"},null,null,null,null,{"$f":"VLOOKUP(Y834,[1]SRA!$S$4:$Z$368,3,0)","v":0},"","",""]
["40doND",{"$f":"VLOOKUP($AA836,DATA!$B$3:$E$6,2,0)","v":"22:30:00"},{"$f":"VLOOKUP($AA836,DATA!$B$3:$E$6,3,0)","v":"06:30:00"},{"$f":"VLOOKUP($AA836,DATA!$B$3:$E$6,4,0)","v":3.125E-2},0.30208333333333326,0.30208333333333326,{"$f":"DATA!$C$9","v":0.89},{"$f":"DATA!$C$10","v":64},1,407.81249999999989,407.81249999999989,0,"","",0,"","",0,"","","","",null,{"$f":"X835","v":40},null,{"$f":"TEXT(Y834,\"ddd\")","v":"do"},"ND",{"$f":"IFERROR(HLOOKUP(Y834,[1]DATA!$A$1:$NB$5,5,0),\"\")","v":"D2"},null,null,null,null,{"$f":"VLOOKUP(Y834,[1]SRA!$S$4:$Z$368,4,0)","v":0},"","",""]
["40vrDD",{"$f":"VLOOKUP($AA837,DATA!$B$3:$E$6,2,0)","v":"06:30:00"},{"$f":"VLOOKUP($AA837,DATA!$B$3:$E$6,3,0)","v":"14:30:00"},{"$f":"VLOOKUP($AA837,DATA!$B$3:$E$6,4,0)","v":3.125E-2},0.30208333333333331,0.30208333333333331,{"$f":"DATA!$C$9","v":0.89},{"$f":"DATA!$C$10","v":64},1,407.8125,407.8125,0,"","",0,"","",0,"","","","",null,{"$f":"X835","v":40},"2018-10-05",{"$f":"TEXT(Y837,\"ddd\")","v":"vr"},"DD",{"$f":"IFERROR(HLOOKUP(Y837,[1]DATA!$A$1:$NB$5,3,0),\"\")","v":"D1"},null,null,null,null,{"$f":"VLOOKUP(Y837,[1]SRA!$S$4:$Z$368,2,0)","v":0},"","",""]
["40vrMD",{"$f":"VLOOKUP($AA838,DATA!$B$3:$E$6,2,0)","v":"14:30:00"},{"$f":"VLOOKUP($AA838,DATA!$B$3:$E$6,3,0)","v":"22:30:00"},{"$f":"VLOOKUP($AA838,DATA!$B$3:$E$6,4,0)","v":3.125E-2},0.30208333333333337,0.30208333333333337,{"$f":"DATA!$C$9","v":0.89},{"$f":"DATA!$C$10","v":64},1,{"$f":"F838*86400/H838*I838","v":407.81250000000006},{"$f":"E838*86400/H838","v":407.81250000000006},0,"","",0,"","",{"$f":"AF838*AG$2","v":0},{"$f":"IF(AF838-AE838=0,\"\",AF838-AE838)","v":""},"","","",null,{"$f":"X835","v":40},null,{"$f":"TEXT(Y837,\"ddd\")","v":"vr"},"MD",{"$f":"IFERROR(HLOOKUP(Y837,[1]DATA!$A$1:$NB$5,4,0),\"\")","v":"D3"},null,null,null,null,{"$f":"VLOOKUP(Y837,[1]SRA!$S$4:$Z$368,3,0)","v":0},{"$f":"IFERROR(S838-J838,\"\")","v":""},{"$f":"IFERROR(IF(S838/(E838*86400/H838)<=0,\"\",S838/(E838*86400/H838)),\"\")","v":""},""]
["40vrND",{"$f":"VLOOKUP($AA839,DATA!$B$3:$E$6,2,0)","v":"22:30:00"},{"$f":"VLOOKUP($AA839,DATA!$B$3:$E$6,3,0)","v":"06:30:00"},{"$f":"VLOOKUP($AA839,DATA!$B$3:$E$6,4,0)","v":3.125E-2},0.30208333333333326,0.30208333333333326,{"$f":"DATA!$C$9","v":0.89},{"$f":"DATA!$C$10","v":64},1,407.81249999999989,407.81249999999989,{"$f":"TIME(INT($AC839/60),INT(MOD($AC839,60)/1),0)","v":0},{"$f":"IF($L839*86400/$H839=0,\"\",$L839*86400/$H839)","v":""},{"$f":"IFERROR($M839/$K839,\"\")","v":""},0,"",{"$f":"IFERROR($P839/$K839,\"\")","v":""},0,"",{"$f":"IF(IF($AB839=\"D1\",$S839,\"\")=0,\"\",IF($AB839=\"D1\",$S839,\"\"))","v":""},{"$f":"IF(IF($AB839=\"D2\",$S839,\"\")=0,\"\",IF($AB839=\"D2\",$S839,\"\"))","v":""},{"$f":"IF(IF($AB839=\"D3\",$S839,\"\")=0,\"\",IF($AB839=\"D3\",$S839,\"\"))","v":""},null,{"$f":"X835","v":40},null,{"$f":"TEXT(Y837,\"ddd\")","v":"vr"},"ND",{"$f":"IFERROR(HLOOKUP(Y837,[1]DATA!$A$1:$NB$5,5,0),\"\")","v":"D2"},null,null,null,null,{"$f":"VLOOKUP(Y837,[1]SRA!$S$4:$Z$368,4,0)","v":0},"","",""]
["40zaDD",{"$f":"VLOOKUP($AA840,DATA!$B$3:$E$6,2,0)","v":"06:30:00"},{"$f":"VLOOKUP($AA840,DATA!$B$3:$E$6,3,0)","v":"14:30:00"},{"$f":"VLOOKUP($AA840,DATA!$B$3:$E$6,4,0)","v":3.125E-2},0.30208333333333331,0.30208333333333331,{"$f":"DATA!$C$9","v":0.89},{"$f":"DATA!$C$10","v":64},1,407.8125,407.8125,0,"","",0,"","",0,"","","","",null,{"$f":"X835","v":40},"2018-10-06",{"$f":"TEXT(Y840,\"ddd\")","v":"za"},"DD",{"$f":"IFERROR(HLOOKUP(Y840,[1]DATA!$A$1:$NB$5,3,0),\"\")","v":"D1"},null,null,null,null,{"$f":"VLOOKUP(Y840,[1]SRA!$S$4:$Z$368,2,0)","v":0},"","",""]
["40zaMD",{"$f":"VLOOKUP($AA841,DATA!$B$3:$E$6,2,0)","v":"14:30:00"},{"$f":"VLOOKUP($AA841,DATA!$B$3:$E$6,3,0)","v":"22:30:00"},{"$f":"VLOOKUP($AA841,DATA!$B$3:$E$6,4,0)","v":3.125E-2},0.30208333333333337,0.30208333333333337,{"$f":"DATA!$C$9","v":0.89},{"$f":"DATA!$C$10","v":64},1,407.81250000000006,407.81250000000006,0,"","",0,"","",0,"","","","",null,{"$f":"X835","v":40},null,{"$f":"TEXT(Y840,\"ddd\")","v":"za"},"MD",{"$f":"IFERROR(HLOOKUP(Y840,[1]DATA!$A$1:$NB$5,4,0),\"\")","v":"-"},null,null,null,null,{"$f":"VLOOKUP(Y840,[1]SRA!$S$4:$Z$368,3,0)","v":0},"","",""]
["40zaND",{"$f":"VLOOKUP($AA842,DATA!$B$3:$E$6,2,0)","v":"22:30:00"},{"$f":"VLOOKUP($AA842,DATA!$B$3:$E$6,3,0)","v":"06:30:00"},{"$f":"VLOOKUP($AA842,DATA!$B$3:$E$6,4,0)","v":3.125E-2},0.30208333333333326,0.30208333333333326,{"$f":"DATA!$C$9","v":0.89},{"$f":"DATA!$C$10","v":64},1,407.81249999999989,407.81249999999989,0,"","",0,"","",0,"","","","",null,{"$f":"X835","v":40},null,{"$f":"TEXT(Y840,\"ddd\")","v":"za"},"ND",{"$f":"IFERROR(HLOOKUP(Y840,[1]DATA!$A$1:$NB$5,5,0),\"\")","v":"-"},null,null,null,null,{"$f":"VLOOKUP(Y840,[1]SRA!$S$4:$Z$368,4,0)","v":0},"","",""]
["40zoDD",{"$f":"VLOOKUP($AA843,DATA!$B$3:$E$6,2,0)","v":"06:30:00"},{"$f":"VLOOKUP($AA843,DATA!$B$3:$E$6,3,0)","v":"14:30:00"},{"$f":"VLOOKUP($AA843,DATA!$B$3:$E$6,4,0)","v":3.125E-2},0.30208333333333331,0.30208333333333331,{"$f":"DATA!$C$9","v":0.89},{"$f":"DATA!$C$10","v":64},1,407.8125,407.8125,0,"","",0,"","",0,"","","","",null,{"$f":"X835","v":40},"2018-10-07",{"$f":"TEXT(Y843,\"ddd\")","v":"zo"},"DD",{"$f":"IFERROR(HLOOKUP(Y843,[1]DATA!$A$1:$NB$5,3,0),\"\")","v":"-"},null,null,null,null,{"$f":"VLOOKUP(Y843,[1]SRA!$S$4:$Z$368,2,0)","v":0},"","",""]
["40zoMD",{"$f":"VLOOKUP($AA844,DATA!$B$3:$E$6,2,0)","v":"14:30:00"},{"$f":"VLOOKUP($AA844,DATA!$B$3:$E$6,3,0)","v":"22:30:00"},{"$f":"VLOOKUP($AA844,DATA!$B$3:$E$6,4,0)","v":3.125E-2},0.30208333333333337,0.30208333333333337,{"$f":"DATA!$C$9","v":0.89},{"$f":"DATA!$C$10","v":64},1,407.81250000000006,407.81250000000006,0,"","",0,"","",0,"","","","",null,{"$f":"X835","v":40},null,{"$f":"TEXT(Y843,\"ddd\")","v":"zo"},"MD",{"$f":"IFERROR(HLOOKUP(Y843,[1]DATA!$A$1:$NB$5,4,0),\"\")","v":"-"},null,null,null,null,{"$f":"VLOOKUP(Y843,[1]SRA!$S$4:$Z$368,3,0)","v":0},"","",""]
["40zoZND",{"$f":"VLOOKUP($AA845,DATA!$B$3:$E$6,2,0)","v":"00:00:00"},{"$f":"VLOOKUP($AA845,DATA!$B$3:$E$6,3,0)","v":"00:00:00"},{"$f":"VLOOKUP($AA845,DATA!$B$3:$E$6,4,0)","v":0},0,0,{"$f":"DATA!$C$9","v":0.89},{"$f":"DATA!$C$10","v":64},1,0,0,0,"","",0,"","",0,"","","","",null,{"$f":"X835","v":40},null,{"$f":"TEXT(Y843,\"ddd\")","v":"zo"},"ZND",{"$f":"IFERROR(HLOOKUP(Y843,[1]DATA!$A$1:$NB$5,5,0),\"\")","v":"-"},null,null,null,null,{"$f":"VLOOKUP(Y843,[1]SRA!$S$4:$Z$368,4,0)","v":0},"","",""]
["41maDD",{"$f":"VLOOKUP($AA846,DATA!$B$3:$E$6,2,0)","v":"06:30:00"},{"$f":"VLOOKUP($AA846,DATA!$B$3:$E$6,3,0)","v":"14:30:00"},{"$f":"VLOOKUP($AA846,DATA!$B$3:$E$6,4,0)","v":3.125E-2},0.30208333333333331,0.30208333333333331,{"$f":"DATA!$C$9","v":0.89},{"$f":"DATA!$C$10","v":64},1,407.8125,407.8125,0,"","",{"$f":"TIME(INT($AD846/60),INT(MOD($AD846,60)/1),0)","v":0},"","",0,"","","","",null,{"$f":"X856","v":41},"2018-10-08",{"$f":"TEXT(Y846,\"ddd\")","v":"ma"},"DD",{"$f":"IFERROR(HLOOKUP(Y846,[1]DATA!$A$1:$NB$5,3,0),\"\")","v":"D3"},null,null,null,null,{"$f":"VLOOKUP(Y846,[1]SRA!$S$4:$Z$368,2,0)","v":0},"","","",{"$f":"IF(SUMIF(S846:S866,\">0\",K846:K866)=0,\"\",SUMIF(S846:S866,\">0\",K846:K866))","v":""},{"$f":"IF(SUM(S846:S866)=0,\"\",SUM(S846:S866))","v":""},{"$f":"IFERROR(AL846/AK846,\"-\")","v":"-"},{"$f":"IF(SUM(M846:M866)=0,\"0\",SUM(M846:M866))","v":"0"},{"$f":"IFERROR(AN846/AK846,\"-\")","v":"-"},{"$f":"IF(SUM(P846:P866)=0,0,SUM(P846:P866))","v":0},{"$f":"IFERROR(AP846/AK846,\"-\")","v":"-"},{"$f":"IFERROR(AVERAGE(AJ846:AJ866),\"-\")","v":"-"},{"$f":"IFERROR(SUMIF($AB846:$AB866,AS$5,$AJ846:$AJ866)/COUNTIFS($AB846:$AB866,AS$5,$AJ846:$AJ866,\">0\"),\"\")","v":""},"","",{"$f":"IFERROR((AK846-AL846-AN846-AP846),\"-\")","v":"-"},{"$f":"IFERROR((1-AM846-AO846-AQ846), \"-\")","v":"-"},{"$f":"IFERROR((AV846*$AE$2)/60,\"-\")","v":"-"},{"$f":"IFERROR(SUM(AG846:AG866),\"\")","v":0}]
["41maMD",{"$f":"VLOOKUP($AA847,DATA!$B$3:$E$6,2,0)","v":"14:30:00"},{"$f":"VLOOKUP($AA847,DATA!$B$3:$E$6,3,0)","v":"22:30:00"},{"$f":"VLOOKUP($AA847,DATA!$B$3:$E$6,4,0)","v":3.125E-2},0.30208333333333337,0.30208333333333337,{"$f":"DATA!$C$9","v":0.89},{"$f":"DATA!$C$10","v":64},1,407.81250000000006,407.81250000000006,0,"","",{"$f":"TIME(INT(AD847/60),INT(MOD(AD847,60)/1),0)","v":0},"","",0,"","","","",null,{"$f":"X856","v":41},null,{"$f":"TEXT(Y846,\"ddd\")","v":"ma"},"MD",{"$f":"IFERROR(HLOOKUP(Y846,[1]DATA!$A$1:$NB$5,4,0),\"\")","v":"D2"},null,null,null,null,{"$f":"VLOOKUP(Y846,[1]SRA!$S$4:$Z$368,3,0)","v":0},"","",""]
["41maND",{"$f":"VLOOKUP($AA848,DATA!$B$3:$E$6,2,0)","v":"22:30:00"},{"$f":"VLOOKUP($AA848,DATA!$B$3:$E$6,3,0)","v":"06:30:00"},{"$f":"VLOOKUP($AA848,DATA!$B$3:$E$6,4,0)","v":3.125E-2},0.30208333333333326,0.30208333333333326,{"$f":"DATA!$C$9","v":0.89},{"$f":"DATA!$C$10","v":64},1,407.81249999999989,407.81249999999989,0,"","",0,"","",0,"","","","",null,{"$f":"X856","v":41},null,{"$f":"TEXT(Y846,\"ddd\")","v":"ma"},"ND",{"$f":"IFERROR(HLOOKUP(Y846,[1]DATA!$A$1:$NB$5,5,0),\"\")","v":"D1"},null,null,null,null,{"$f":"VLOOKUP(Y846,[1]SRA!$S$4:$Z$368,4,0)","v":0},"","",""]
["41diDD",{"$f":"VLOOKUP($AA849,DATA!$B$3:$E$6,2,0)","v":"06:30:00"},{"$f":"VLOOKUP($AA849,DATA!$B$3:$E$6,3,0)","v":"14:30:00"},{"$f":"VLOOKUP($AA849,DATA!$B$3:$E$6,4,0)","v":3.125E-2},0.30208333333333331,0.30208333333333331,{"$f":"DATA!$C$9","v":0.89},{"$f":"DATA!$C$10","v":64},1,407.8125,407.8125,0,"","",0,"","",0,"","","","",null,{"$f":"X856","v":41},"2018-10-09",{"$f":"TEXT(Y849,\"ddd\")","v":"di"},"DD",{"$f":"IFERROR(HLOOKUP(Y849,[1]DATA!$A$1:$NB$5,3,0),\"\")","v":"D3"},null,null,null,null,{"$f":"VLOOKUP(Y849,[1]SRA!$S$4:$Z$368,2,0)","v":0},"","",""]
["41diMD",{"$f":"VLOOKUP($AA850,DATA!$B$3:$E$6,2,0)","v":"14:30:00"},{"$f":"VLOOKUP($AA850,DATA!$B$3:$E$6,3,0)","v":"22:30:00"},{"$f":"VLOOKUP($AA850,DATA!$B$3:$E$6,4,0)","v":3.125E-2},0.30208333333333337,0.30208333333333337,{"$f":"DATA!$C$9","v":0.89},{"$f":"DATA!$C$10","v":64},1,407.81250000000006,407.81250000000006,0,"","",0,"","",0,"","","","",null,{"$f":"X856","v":41},null,{"$f":"TEXT(Y849,\"ddd\")","v":"di"},"MD",{"$f":"IFERROR(HLOOKUP(Y849,[1]DATA!$A$1:$NB$5,4,0),\"\")","v":"D2"},null,null,null,null,{"$f":"VLOOKUP(Y849,[1]SRA!$S$4:$Z$368,3,0)","v":0},"","",""]
["41diND",{"$f":"VLOOKUP($AA851,DATA!$B$3:$E$6,2,0)","v":"22:30:00"},{"$f":"VLOOKUP($AA851,DATA!$B$3:$E$6,3,0)","v":"06:30:00"},{"$f":"VLOOKUP($AA851,DATA!$B$3:$E$6,4,0)","v":3.125E-2},0.30208333333333326,0.30208333333333326,{"$f":"DATA!$C$9","v":0.89},{"$f":"DATA!$C$10","v":64},1,407.81249999999989,407.81249999999989,0,"","",0,"","",0,"","","","",null,{"$f":"X856","v":41},null,{"$f":"TEXT(Y849,\"ddd\")","v":"di"},"ND",{"$f":"IFERROR(HLOOKUP(Y849,[1]DATA!$A$1:$NB$5,5,0),\"\")","v":"D1"},null,null,null,null,{"$f":"VLOOKUP(Y849,[1]SRA!$S$4:$Z$368,4,0)","v":0},"","",""]
["41woDD",{"$f":"VLOOKUP($AA852,DATA!$B$3:$E$6,2,0)","v":"06:30:00"},{"$f":"VLOOKUP($AA852,DATA!$B$3:$E$6,3,0)","v":"14:30:00"},{"$f":"VLOOKUP($AA852,DATA!$B$3:$E$6,4,0)","v":3.125E-2},0.30208333333333331,0.30208333333333331,{"$f":"DATA!$C$9","v":0.89},{"$f":"DATA!$C$10","v":64},1,407.8125,407.8125,0,"","",0,"","",0,"","","","",null,{"$f":"X856","v":41},"2018-10-10",{"$f":"TEXT(Y852,\"ddd\")","v":"wo"},"DD",{"$f":"IFERROR(HLOOKUP(Y852,[1]DATA!$A$1:$NB$5,3,0),\"\")","v":"D3"},null,null,null,null,{"$f":"VLOOKUP(Y852,[1]SRA!$S$4:$Z$368,2,0)","v":0},"","",""]
["41woMD",{"$f":"VLOOKUP($AA853,DATA!$B$3:$E$6,2,0)","v":"14:30:00"},{"$f":"VLOOKUP($AA853,DATA!$B$3:$E$6,3,0)","v":"22:30:00"},{"$f":"VLOOKUP($AA853,DATA!$B$3:$E$6,4,0)","v":3.125E-2},0.30208333333333337,0.30208333333333337,{"$f":"DATA!$C$9","v":0.89},{"$f":"DATA!$C$10","v":64},1,407.81250000000006,407.81250000000006,0,"","",0,"","",0,"","","","",null,{"$f":"X856","v":41},null,{"$f":"TEXT(Y852,\"ddd\")","v":"wo"},"MD",{"$f":"IFERROR(HLOOKUP(Y852,[1]DATA!$A$1:$NB$5,4,0),\"\")","v":"D2"},null,null,null,null,{"$f":"VLOOKUP(Y852,[1]SRA!$S$4:$Z$368,3,0)","v":0},"","",""]
["41woND",{"$f":"VLOOKUP($AA854,DATA!$B$3:$E$6,2,0)","v":"22:30:00"},{"$f":"VLOOKUP($AA854,DATA!$B$3:$E$6,3,0)","v":"06:30:00"},{"$f":"VLOOKUP($AA854,DATA!$B$3:$E$6,4,0)","v":3.125E-2},0.30208333333333326,0.30208333333333326,{"$f":"DATA!$C$9","v":0.89},{"$f":"DATA!$C$10","v":64},1,407.81249999999989,407.81249999999989,0,"","",0,"","",0,"","","","",null,{"$f":"X856","v":41},null,{"$f":"TEXT(Y852,\"ddd\")","v":"wo"},"ND",{"$f":"IFERROR(HLOOKUP(Y852,[1]DATA!$A$1:$NB$5,5,0),\"\")","v":"D1"},null,null,null,null,{"$f":"VLOOKUP(Y852,[1]SRA!$S$4:$Z$368,4,0)","v":0},"","",""]
["41doDD",{"$f":"VLOOKUP($AA855,DATA!$B$3:$E$6,2,0)","v":"06:30:00"},{"$f":"VLOOKUP($AA855,DATA!$B$3:$E$6,3,0)","v":"14:30:00"},{"$f":"VLOOKUP($AA855,DATA!$B$3:$E$6,4,0)","v":3.125E-2},0.30208333333333331,0.30208333333333331,{"$f":"DATA!$C$9","v":0.89},{"$f":"DATA!$C$10","v":64},1,407.8125,407.8125,0,"","",0,"","",0,"","","","",null,{"$f":"X856","v":41},"2018-10-11",{"$f":"TEXT(Y855,\"ddd\")","v":"do"},"DD",{"$f":"IFERROR(HLOOKUP(Y855,[1]DATA!$A$1:$NB$5,3,0),\"\")","v":"D3"},null,null,null,null,{"$f":"VLOOKUP(Y855,[1]SRA!$S$4:$Z$368,2,0)","v":0},"","",""]
["41doMD",{"$f":"VLOOKUP($AA856,DATA!$B$3:$E$6,2,0)","v":"14:30:00"},{"$f":"VLOOKUP($AA856,DATA!$B$3:$E$6,3,0)","v":"22:30:00"},{"$f":"VLOOKUP($AA856,DATA!$B$3:$E$6,4,0)","v":3.125E-2},0.30208333333333337,0.30208333333333337,{"$f":"DATA!$C$9","v":0.89},{"$f":"DATA!$C$10","v":64},1,407.81250000000006,407.81250000000006,0,"","",0,"","",0,"","","","",null,{"$f":"WEEKNUM($Y846)","v":41},null,{"$f":"TEXT(Y855,\"ddd\")","v":"do"},"MD",{"$f":"IFERROR(HLOOKUP(Y855,[1]DATA!$A$1:$NB$5,4,0),\"\")","v":"D2"},null,null,null,null,{"$f":"VLOOKUP(Y855,[1]SRA!$S$4:$Z$368,3,0)","v":0},"","",""]
["41doND",{"$f":"VLOOKUP($AA857,DATA!$B$3:$E$6,2,0)","v":"22:30:00"},{"$f":"VLOOKUP($AA857,DATA!$B$3:$E$6,3,0)","v":"06:30:00"},{"$f":"VLOOKUP($AA857,DATA!$B$3:$E$6,4,0)","v":3.125E-2},0.30208333333333326,0.30208333333333326,{"$f":"DATA!$C$9","v":0.89},{"$f":"DATA!$C$10","v":64},1,407.81249999999989,407.81249999999989,0,"","",0,"","",0,"","","","",null,{"$f":"X856","v":41},null,{"$f":"TEXT(Y855,\"ddd\")","v":"do"},"ND",{"$f":"IFERROR(HLOOKUP(Y855,[1]DATA!$A$1:$NB$5,5,0),\"\")","v":"D1"},null,null,null,null,{"$f":"VLOOKUP(Y855,[1]SRA!$S$4:$Z$368,4,0)","v":0},"","",""]
["41vrDD",{"$f":"VLOOKUP($AA858,DATA!$B$3:$E$6,2,0)","v":"06:30:00"},{"$f":"VLOOKUP($AA858,DATA!$B$3:$E$6,3,0)","v":"14:30:00"},{"$f":"VLOOKUP($AA858,DATA!$B$3:$E$6,4,0)","v":3.125E-2},0.30208333333333331,0.30208333333333331,{"$f":"DATA!$C$9","v":0.89},{"$f":"DATA!$C$10","v":64},1,407.8125,407.8125,0,"","",0,"","",0,"","","","",null,{"$f":"X856","v":41},"2018-10-12",{"$f":"TEXT(Y858,\"ddd\")","v":"vr"},"DD",{"$f":"IFERROR(HLOOKUP(Y858,[1]DATA!$A$1:$NB$5,3,0),\"\")","v":"D3"},null,null,null,null,{"$f":"VLOOKUP(Y858,[1]SRA!$S$4:$Z$368,2,0)","v":0},"","",""]
["41vrMD",{"$f":"VLOOKUP($AA859,DATA!$B$3:$E$6,2,0)","v":"14:30:00"},{"$f":"VLOOKUP($AA859,DATA!$B$3:$E$6,3,0)","v":"22:30:00"},{"$f":"VLOOKUP($AA859,DATA!$B$3:$E$6,4,0)","v":3.125E-2},0.30208333333333337,0.30208333333333337,{"$f":"DATA!$C$9","v":0.89},{"$f":"DATA!$C$10","v":64},1,407.81250000000006,407.81250000000006,0,"","",0,"","",0,"","","","",null,{"$f":"X856","v":41},null,{"$f":"TEXT(Y858,\"ddd\")","v":"vr"},"MD",{"$f":"IFERROR(HLOOKUP(Y858,[1]DATA!$A$1:$NB$5,4,0),\"\")","v":"D2"},null,null,null,null,{"$f":"VLOOKUP(Y858,[1]SRA!$S$4:$Z$368,3,0)","v":0},"","",{"$f":"IFERROR(R859/(R859+AG859),\"\")","v":""}]
["41vrND",{"$f":"VLOOKUP($AA860,DATA!$B$3:$E$6,2,0)","v":"22:30:00"},{"$f":"VLOOKUP($AA860,DATA!$B$3:$E$6,3,0)","v":"06:30:00"},{"$f":"VLOOKUP($AA860,DATA!$B$3:$E$6,4,0)","v":3.125E-2},{"$f":"(C860-B860+(B860>C860))-D860","v":0.30208333333333326},{"$f":"E860-O860-L860","v":0.30208333333333326},{"$f":"DATA!$C$9","v":0.89},{"$f":"DATA!$C$10","v":64},1,407.81249999999989,407.81249999999989,0,"","",0,"","",0,"","","","",null,{"$f":"X856","v":41},null,{"$f":"TEXT(Y858,\"ddd\")","v":"vr"},"ND",{"$f":"IFERROR(HLOOKUP(Y858,[1]DATA!$A$1:$NB$5,5,0),\"\")","v":"D2"},null,null,null,null,{"$f":"VLOOKUP(Y858,[1]SRA!$S$4:$Z$368,4,0)","v":0},"","",""]
["41zaDD",{"$f":"VLOOKUP($AA861,DATA!$B$3:$E$6,2,0)","v":"06:30:00"},{"$f":"VLOOKUP($AA861,DATA!$B$3:$E$6,3,0)","v":"14:30:00"},{"$f":"VLOOKUP($AA861,DATA!$B$3:$E$6,4,0)","v":3.125E-2},0.30208333333333331,0.30208333333333331,{"$f":"DATA!$C$9","v":0.89},{"$f":"DATA!$C$10","v":64},1,407.8125,407.8125,0,"","",0,"","",0,"","","","",null,{"$f":"X856","v":41},"2018-10-13",{"$f":"TEXT(Y861,\"ddd\")","v":"za"},"DD",{"$f":"IFERROR(HLOOKUP(Y861,[1]DATA!$A$1:$NB$5,3,0),\"\")","v":"D3"},null,null,null,null,{"$f":"VLOOKUP(Y861,[1]SRA!$S$4:$Z$368,2,0)","v":0},"","",""]
["41zaMD",{"$f":"VLOOKUP($AA862,DATA!$B$3:$E$6,2,0)","v":"14:30:00"},{"$f":"VLOOKUP($AA862,DATA!$B$3:$E$6,3,0)","v":"22:30:00"},{"$f":"VLOOKUP($AA862,DATA!$B$3:$E$6,4,0)","v":3.125E-2},0.30208333333333337,0.30208333333333337,{"$f":"DATA!$C$9","v":0.89},{"$f":"DATA!$C$10","v":64},1,407.81250000000006,407.81250000000006,0,"","",0,"","",0,"","","","",null,{"$f":"X856","v":41},null,{"$f":"TEXT(Y861,\"ddd\")","v":"za"},"MD",{"$f":"IFERROR(HLOOKUP(Y861,[1]DATA!$A$1:$NB$5,4,0),\"\")","v":"-"},null,null,null,null,{"$f":"VLOOKUP(Y861,[1]SRA!$S$4:$Z$368,3,0)","v":0},"","",""]
["41zaND",{"$f":"VLOOKUP($AA863,DATA!$B$3:$E$6,2,0)","v":"22:30:00"},{"$f":"VLOOKUP($AA863,DATA!$B$3:$E$6,3,0)","v":"06:30:00"},{"$f":"VLOOKUP($AA863,DATA!$B$3:$E$6,4,0)","v":3.125E-2},0.30208333333333326,0.30208333333333326,{"$f":"DATA!$C$9","v":0.89},{"$f":"DATA!$C$10","v":64},1,407.81249999999989,407.81249999999989,0,"","",0,"","",0,"","","","",null,{"$f":"X856","v":41},null,{"$f":"TEXT(Y861,\"ddd\")","v":"za"},"ND",{"$f":"IFERROR(HLOOKUP(Y861,[1]DATA!$A$1:$NB$5,5,0),\"\")","v":"-"},null,null,null,null,{"$f":"VLOOKUP(Y861,[1]SRA!$S$4:$Z$368,4,0)","v":0},"","",""]
["41zoDD",{"$f":"VLOOKUP($AA864,DATA!$B$3:$E$6,2,0)","v":"06:30:00"},{"$f":"VLOOKUP($AA864,DATA!$B$3:$E$6,3,0)","v":"14:30:00"},{"$f":"VLOOKUP($AA864,DATA!$B$3:$E$6,4,0)","v":3.125E-2},0.30208333333333331,0.30208333333333331,{"$f":"DATA!$C$9","v":0.89},{"$f":"DATA!$C$10","v":64},1,407.8125,407.8125,0,"","",0,"","",0,"","","","",null,{"$f":"X856","v":41},"2018-10-14",{"$f":"TEXT(Y864,\"ddd\")","v":"zo"},"DD",{"$f":"IFERROR(HLOOKUP(Y864,[1]DATA!$A$1:$NB$5,3,0),\"\")","v":"-"},null,null,null,null,{"$f":"VLOOKUP(Y864,[1]SRA!$S$4:$Z$368,2,0)","v":0},"","",""]
["41zoMD",{"$f":"VLOOKUP($AA865,DATA!$B$3:$E$6,2,0)","v":"14:30:00"},{"$f":"VLOOKUP($AA865,DATA!$B$3:$E$6,3,0)","v":"22:30:00"},{"$f":"VLOOKUP($AA865,DATA!$B$3:$E$6,4,0)","v":3.125E-2},0.30208333333333337,0.30208333333333337,{"$f":"DATA!$C$9","v":0.89},{"$f":"DATA!$C$10","v":64},1,407.81250000000006,407.81250000000006,0,"","",0,"","",0,"","","","",null,{"$f":"X856","v":41},null,{"$f":"TEXT(Y864,\"ddd\")","v":"zo"},"MD",{"$f":"IFERROR(HLOOKUP(Y864,[1]DATA!$A$1:$NB$5,4,0),\"\")","v":"-"},null,null,null,null,{"$f":"VLOOKUP(Y864,[1]SRA!$S$4:$Z$368,3,0)","v":0},"","",""]
["41zoZND",{"$f":"VLOOKUP($AA866,DATA!$B$3:$E$6,2,0)","v":"00:00:00"},{"$f":"VLOOKUP($AA866,DATA!$B$3:$E$6,3,0)","v":"00:00:00"},{"$f":"VLOOKUP($AA866,DATA!$B$3:$E$6,4,0)","v":0},0,0,{"$f":"DATA!$C$9","v":0.89},{"$f":"DATA!$C$10","v":64},1,0,0,0,"","",0,"","",0,"","","","",null,{"$f":"X856","v":41},null,{"$f":"TEXT(Y864,\"ddd\")","v":"zo"},"ZND",{"$f":"IFERROR(HLOOKUP(Y864,[1]DATA!$A$1:$NB$5,5,0),\"\")","v":"-"},null,null,null,null,{"$f":"VLOOKUP(Y864,[1]SRA!$S$4:$Z$368,4,0)","v":0},"","",""]
["42maDD",{"$f":"VLOOKUP($AA867,DATA!$B$3:$E$6,2,0)","v":"06:30:00"},{"$f":"VLOOKUP($AA867,DATA!$B$3:$E$6,3,0)","v":"14:30:00"},{"$f":"VLOOKUP($AA867,DATA!$B$3:$E$6,4,0)","v":3.125E-2},0.30208333333333331,0.30208333333333331,{"$f":"DATA!$C$9","v":0.89},{"$f":"DATA!$C$10","v":64},1,407.8125,407.8125,0,"","",{"$f":"TIME(INT($AD867/60),INT(MOD($AD867,60)/1),0)","v":0},"","",0,"","","","",null,{"$f":"X877","v":42},"2018-10-15",{"$f":"TEXT(Y867,\"ddd\")","v":"ma"},"DD",{"$f":"IFERROR(HLOOKUP(Y867,[1]DATA!$A$1:$NB$5,3,0),\"\")","v":"D2"},null,null,null,null,{"$f":"VLOOKUP(Y867,[1]SRA!$S$4:$Z$368,2,0)","v":0},"","","",{"$f":"IF(SUMIF(S867:S887,\">0\",K867:K887)=0,\"\",SUMIF(S867:S887,\">0\",K867:K887))","v":""},{"$f":"IF(SUM(S867:S887)=0,\"\",SUM(S867:S887))","v":""},{"$f":"IFERROR(AL867/AK867,\"-\")","v":"-"},{"$f":"IF(SUM(M867:M887)=0,\"0\",SUM(M867:M887))","v":"0"},{"$f":"IFERROR(AN867/AK867,\"-\")","v":"-"},{"$f":"IF(SUM(P867:P887)=0,0,SUM(P867:P887))","v":0},{"$f":"IFERROR(AP867/AK867,\"-\")","v":"-"},{"$f":"IFERROR(AVERAGE(AJ867:AJ887),\"-\")","v":"-"},{"$f":"IFERROR(SUMIF($AB867:$AB887,AS$5,$AJ867:$AJ887)/COUNTIFS($AB867:$AB887,AS$5,$AJ867:$AJ887,\">0\"),\"\")","v":""},"","",{"$f":"IFERROR((AK867-AL867-AN867-AP867),\"-\")","v":"-"},{"$f":"IFERROR((1-AM867-AO867-AQ867), \"-\")","v":"-"},{"$f":"IFERROR((AV867*$AE$2)/60,\"-\")","v":"-"},{"$f":"IFERROR(SUM(AG867:AG887),\"\")","v":0}]
["42maMD",{"$f":"VLOOKUP($AA868,DATA!$B$3:$E$6,2,0)","v":"14:30:00"},{"$f":"VLOOKUP($AA868,DATA!$B$3:$E$6,3,0)","v":"22:30:00"},{"$f":"VLOOKUP($AA868,DATA!$B$3:$E$6,4,0)","v":3.125E-2},0.30208333333333337,0.30208333333333337,{"$f":"DATA!$C$9","v":0.89},{"$f":"DATA!$C$10","v":64},1,407.81250000000006,407.81250000000006,0,"","",{"$f":"TIME(INT(AD868/60),INT(MOD(AD868,60)/1),0)","v":0},"","",0,"","","","",null,{"$f":"X877","v":42},null,{"$f":"TEXT(Y867,\"ddd\")","v":"ma"},"MD",{"$f":"IFERROR(HLOOKUP(Y867,[1]DATA!$A$1:$NB$5,4,0),\"\")","v":"D1"},null,null,null,null,{"$f":"VLOOKUP(Y867,[1]SRA!$S$4:$Z$368,3,0)","v":0},"","",""]
["42maND",{"$f":"VLOOKUP($AA869,DATA!$B$3:$E$6,2,0)","v":"22:30:00"},{"$f":"VLOOKUP($AA869,DATA!$B$3:$E$6,3,0)","v":"06:30:00"},{"$f":"VLOOKUP($AA869,DATA!$B$3:$E$6,4,0)","v":3.125E-2},0.30208333333333326,0.30208333333333326,{"$f":"DATA!$C$9","v":0.89},{"$f":"DATA!$C$10","v":64},1,407.81249999999989,407.81249999999989,0,"","",0,"","",0,"","","","",null,{"$f":"X877","v":42},null,{"$f":"TEXT(Y867,\"ddd\")","v":"ma"},"ND",{"$f":"IFERROR(HLOOKUP(Y867,[1]DATA!$A$1:$NB$5,5,0),\"\")","v":"D3"},null,null,null,null,{"$f":"VLOOKUP(Y867,[1]SRA!$S$4:$Z$368,4,0)","v":0},"","",""]
["42diDD",{"$f":"VLOOKUP($AA870,DATA!$B$3:$E$6,2,0)","v":"06:30:00"},{"$f":"VLOOKUP($AA870,DATA!$B$3:$E$6,3,0)","v":"14:30:00"},{"$f":"VLOOKUP($AA870,DATA!$B$3:$E$6,4,0)","v":3.125E-2},0.30208333333333331,0.30208333333333331,{"$f":"DATA!$C$9","v":0.89},{"$f":"DATA!$C$10","v":64},1,407.8125,407.8125,0,"","",0,"","",0,"","","","",null,{"$f":"X877","v":42},"2018-10-16",{"$f":"TEXT(Y870,\"ddd\")","v":"di"},"DD",{"$f":"IFERROR(HLOOKUP(Y870,[1]DATA!$A$1:$NB$5,3,0),\"\")","v":"D2"},null,null,null,null,{"$f":"VLOOKUP(Y870,[1]SRA!$S$4:$Z$368,2,0)","v":0},"","",""]
["42diMD",{"$f":"VLOOKUP($AA871,DATA!$B$3:$E$6,2,0)","v":"14:30:00"},{"$f":"VLOOKUP($AA871,DATA!$B$3:$E$6,3,0)","v":"22:30:00"},{"$f":"VLOOKUP($AA871,DATA!$B$3:$E$6,4,0)","v":3.125E-2},0.30208333333333337,0.30208333333333337,{"$f":"DATA!$C$9","v":0.89},{"$f":"DATA!$C$10","v":64},1,407.81250000000006,407.81250000000006,0,"","",0,"","",0,"","","","",null,{"$f":"X877","v":42},null,{"$f":"TEXT(Y870,\"ddd\")","v":"di"},"MD",{"$f":"IFERROR(HLOOKUP(Y870,[1]DATA!$A$1:$NB$5,4,0),\"\")","v":"D1"},null,null,null,null,{"$f":"VLOOKUP(Y870,[1]SRA!$S$4:$Z$368,3,0)","v":0},"","",""]
["42diND",{"$f":"VLOOKUP($AA872,DATA!$B$3:$E$6,2,0)","v":"22:30:00"},{"$f":"VLOOKUP($AA872,DATA!$B$3:$E$6,3,0)","v":"06:30:00"},{"$f":"VLOOKUP($AA872,DATA!$B$3:$E$6,4,0)","v":3.125E-2},0.30208333333333326,0.30208333333333326,{"$f":"DATA!$C$9","v":0.89},{"$f":"DATA!$C$10","v":64},1,407.81249999999989,407.81249999999989,0,"","",0,"","",0,"","","","",null,{"$f":"X877","v":42},null,{"$f":"TEXT(Y870,\"ddd\")","v":"di"},"ND",{"$f":"IFERROR(HLOOKUP(Y870,[1]DATA!$A$1:$NB$5,5,0),\"\")","v":"D3"},null,null,null,null,{"$f":"VLOOKUP(Y870,[1]SRA!$S$4:$Z$368,4,0)","v":0},"","",""]
["42woDD",{"$f":"VLOOKUP($AA873,DATA!$B$3:$E$6,2,0)","v":"06:30:00"},{"$f":"VLOOKUP($AA873,DATA!$B$3:$E$6,3,0)","v":"14:30:00"},{"$f":"VLOOKUP($AA873,DATA!$B$3:$E$6,4,0)","v":3.125E-2},0.30208333333333331,0.30208333333333331,{"$f":"DATA!$C$9","v":0.89},{"$f":"DATA!$C$10","v":64},1,407.8125,407.8125,0,"","",0,"","",0,"","","","",null,{"$f":"X877","v":42},"2018-10-17",{"$f":"TEXT(Y873,\"ddd\")","v":"wo"},"DD",{"$f":"IFERROR(HLOOKUP(Y873,[1]DATA!$A$1:$NB$5,3,0),\"\")","v":"D2"},null,null,null,null,{"$f":"VLOOKUP(Y873,[1]SRA!$S$4:$Z$368,2,0)","v":0},"","",""]
["42woMD",{"$f":"VLOOKUP($AA874,DATA!$B$3:$E$6,2,0)","v":"14:30:00"},{"$f":"VLOOKUP($AA874,DATA!$B$3:$E$6,3,0)","v":"22:30:00"},{"$f":"VLOOKUP($AA874,DATA!$B$3:$E$6,4,0)","v":3.125E-2},0.30208333333333337,0.30208333333333337,{"$f":"DATA!$C$9","v":0.89},{"$f":"DATA!$C$10","v":64},1,407.81250000000006,407.81250000000006,0,"","",0,"","",0,"","","","",null,{"$f":"X877","v":42},null,{"$f":"TEXT(Y873,\"ddd\")","v":"wo"},"MD",{"$f":"IFERROR(HLOOKUP(Y873,[1]DATA!$A$1:$NB$5,4,0),\"\")","v":"D1"},null,null,null,null,{"$f":"VLOOKUP(Y873,[1]SRA!$S$4:$Z$368,3,0)","v":0},"","",""]
["42woND",{"$f":"VLOOKUP($AA875,DATA!$B$3:$E$6,2,0)","v":"22:30:00"},{"$f":"VLOOKUP($AA875,DATA!$B$3:$E$6,3,0)","v":"06:30:00"},{"$f":"VLOOKUP($AA875,DATA!$B$3:$E$6,4,0)","v":3.125E-2},0.30208333333333326,0.30208333333333326,{"$f":"DATA!$C$9","v":0.89},{"$f":"DATA!$C$10","v":64},1,407.81249999999989,407.81249999999989,0,"","",0,"","",0,"","","","",null,{"$f":"X877","v":42},null,{"$f":"TEXT(Y873,\"ddd\")","v":"wo"},"ND",{"$f":"IFERROR(HLOOKUP(Y873,[1]DATA!$A$1:$NB$5,5,0),\"\")","v":"D3"},null,null,null,null,{"$f":"VLOOKUP(Y873,[1]SRA!$S$4:$Z$368,4,0)","v":0},"","",""]
["42doDD",{"$f":"VLOOKUP($AA876,DATA!$B$3:$E$6,2,0)","v":"06:30:00"},{"$f":"VLOOKUP($AA876,DATA!$B$3:$E$6,3,0)","v":"14:30:00"},{"$f":"VLOOKUP($AA876,DATA!$B$3:$E$6,4,0)","v":3.125E-2},0.30208333333333331,0.30208333333333331,{"$f":"DATA!$C$9","v":0.89},{"$f":"DATA!$C$10","v":64},1,407.8125,407.8125,0,"","",0,"","",0,"","","","",null,{"$f":"X877","v":42},"2018-10-18",{"$f":"TEXT(Y876,\"ddd\")","v":"do"},"DD",{"$f":"IFERROR(HLOOKUP(Y876,[1]DATA!$A$1:$NB$5,3,0),\"\")","v":"D2"},null,null,null,null,{"$f":"VLOOKUP(Y876,[1]SRA!$S$4:$Z$368,2,0)","v":0},"","",""]
["42doMD",{"$f":"VLOOKUP($AA877,DATA!$B$3:$E$6,2,0)","v":"14:30:00"},{"$f":"VLOOKUP($AA877,DATA!$B$3:$E$6,3,0)","v":"22:30:00"},{"$f":"VLOOKUP($AA877,DATA!$B$3:$E$6,4,0)","v":3.125E-2},0.30208333333333337,0.30208333333333337,{"$f":"DATA!$C$9","v":0.89},{"$f":"DATA!$C$10","v":64},1,407.81250000000006,407.81250000000006,0,"","",0,"","",0,"","","","",null,{"$f":"WEEKNUM($Y867)","v":42},null,{"$f":"TEXT(Y876,\"ddd\")","v":"do"},"MD",{"$f":"IFERROR(HLOOKUP(Y876,[1]DATA!$A$1:$NB$5,4,0),\"\")","v":"D1"},null,null,null,null,{"$f":"VLOOKUP(Y876,[1]SRA!$S$4:$Z$368,3,0)","v":0},"","",""]
["42doND",{"$f":"VLOOKUP($AA878,DATA!$B$3:$E$6,2,0)","v":"22:30:00"},{"$f":"VLOOKUP($AA878,DATA!$B$3:$E$6,3,0)","v":"06:30:00"},{"$f":"VLOOKUP($AA878,DATA!$B$3:$E$6,4,0)","v":3.125E-2},0.30208333333333326,0.30208333333333326,{"$f":"DATA!$C$9","v":0.89},{"$f":"DATA!$C$10","v":64},1,407.81249999999989,407.81249999999989,0,"","",0,"","",0,"","","","",null,{"$f":"X877","v":42},null,{"$f":"TEXT(Y876,\"ddd\")","v":"do"},"ND",{"$f":"IFERROR(HLOOKUP(Y876,[1]DATA!$A$1:$NB$5,5,0),\"\")","v":"D3"},null,null,null,null,{"$f":"VLOOKUP(Y876,[1]SRA!$S$4:$Z$368,4,0)","v":0},"","",""]
["42vrDD",{"$f":"VLOOKUP($AA879,DATA!$B$3:$E$6,2,0)","v":"06:30:00"},{"$f":"VLOOKUP($AA879,DATA!$B$3:$E$6,3,0)","v":"14:30:00"},{"$f":"VLOOKUP($AA879,DATA!$B$3:$E$6,4,0)","v":3.125E-2},0.30208333333333331,0.30208333333333331,{"$f":"DATA!$C$9","v":0.89},{"$f":"DATA!$C$10","v":64},1,407.8125,407.8125,0,"","",0,"","",0,"","","","",null,{"$f":"X877","v":42},"2018-10-19",{"$f":"TEXT(Y879,\"ddd\")","v":"vr"},"DD",{"$f":"IFERROR(HLOOKUP(Y879,[1]DATA!$A$1:$NB$5,3,0),\"\")","v":"D2"},null,null,null,null,{"$f":"VLOOKUP(Y879,[1]SRA!$S$4:$Z$368,2,0)","v":0},"","",""]
[{"$f":"X880&Z880&AA880","v":"42vrMD"},{"$f":"VLOOKUP($AA880,DATA!$B$3:$E$6,2,0)","v":"14:30:00"},{"$f":"VLOOKUP($AA880,DATA!$B$3:$E$6,3,0)","v":"22:30:00"},{"$f":"VLOOKUP($AA880,DATA!$B$3:$E$6,4,0)","v":3.125E-2},0.30208333333333337,0.30208333333333337,{"$f":"DATA!$C$9","v":0.89},{"$f":"DATA!$C$10","v":64},1,407.81250000000006,407.81250000000006,0,"","",0,{"$f":"IF($O880*86400/$H880=0,\"\",$O880*86400/$H880)","v":""},"",0,"","","","",null,{"$f":"X877","v":42},null,{"$f":"TEXT(Y879,\"ddd\")","v":"vr"},"MD",{"$f":"IFERROR(HLOOKUP(Y879,[1]DATA!$A$1:$NB$5,4,0),\"\")","v":"D1"},null,null,null,null,{"$f":"VLOOKUP(Y879,[1]SRA!$S$4:$Z$368,3,0)","v":0},"","",""]
["42vrND",{"$f":"VLOOKUP($AA881,DATA!$B$3:$E$6,2,0)","v":"22:30:00"},{"$f":"VLOOKUP($AA881,DATA!$B$3:$E$6,3,0)","v":"06:30:00"},{"$f":"VLOOKUP($AA881,DATA!$B$3:$E$6,4,0)","v":3.125E-2},0.30208333333333326,0.30208333333333326,{"$f":"DATA!$C$9","v":0.89},{"$f":"DATA!$C$10","v":64},1,407.81249999999989,407.81249999999989,0,"","",0,"","",0,"","","","",null,{"$f":"X877","v":42},null,{"$f":"TEXT(Y879,\"ddd\")","v":"vr"},"ND",{"$f":"IFERROR(HLOOKUP(Y879,[1]DATA!$A$1:$NB$5,5,0),\"\")","v":"D3"},null,null,null,null,{"$f":"VLOOKUP(Y879,[1]SRA!$S$4:$Z$368,4,0)","v":0},"","",""]
["42zaDD",{"$f":"VLOOKUP($AA882,DATA!$B$3:$E$6,2,0)","v":"06:30:00"},{"$f":"VLOOKUP($AA882,DATA!$B$3:$E$6,3,0)","v":"14:30:00"},{"$f":"VLOOKUP($AA882,DATA!$B$3:$E$6,4,0)","v":3.125E-2},0.30208333333333331,0.30208333333333331,{"$f":"DATA!$C$9","v":0.89},{"$f":"DATA!$C$10","v":64},1,407.8125,407.8125,0,"","",0,"","",0,"","","","",null,{"$f":"X877","v":42},"2018-10-20",{"$f":"TEXT(Y882,\"ddd\")","v":"za"},"DD",{"$f":"IFERROR(HLOOKUP(Y882,[1]DATA!$A$1:$NB$5,3,0),\"\")","v":"D2"},null,null,null,null,{"$f":"VLOOKUP(Y882,[1]SRA!$S$4:$Z$368,2,0)","v":0},"","",""]
["42zaMD",{"$f":"VLOOKUP($AA883,DATA!$B$3:$E$6,2,0)","v":"14:30:00"},{"$f":"VLOOKUP($AA883,DATA!$B$3:$E$6,3,0)","v":"22:30:00"},{"$f":"VLOOKUP($AA883,DATA!$B$3:$E$6,4,0)","v":3.125E-2},0.30208333333333337,0.30208333333333337,{"$f":"DATA!$C$9","v":0.89},{"$f":"DATA!$C$10","v":64},1,407.81250000000006,407.81250000000006,0,"","",0,"","",0,"","","","",null,{"$f":"X877","v":42},null,{"$f":"TEXT(Y882,\"ddd\")","v":"za"},"MD",{"$f":"IFERROR(HLOOKUP(Y882,[1]DATA!$A$1:$NB$5,4,0),\"\")","v":"-"},null,null,null,null,{"$f":"VLOOKUP(Y882,[1]SRA!$S$4:$Z$368,3,0)","v":0},"","",""]
["42zaND",{"$f":"VLOOKUP($AA884,DATA!$B$3:$E$6,2,0)","v":"22:30:00"},{"$f":"VLOOKUP($AA884,DATA!$B$3:$E$6,3,0)","v":"06:30:00"},{"$f":"VLOOKUP($AA884,DATA!$B$3:$E$6,4,0)","v":3.125E-2},0.30208333333333326,0.30208333333333326,{"$f":"DATA!$C$9","v":0.89},{"$f":"DATA!$C$10","v":64},1,407.81249999999989,407.81249999999989,0,"","",0,"","",0,"","","","",null,{"$f":"X877","v":42},null,{"$f":"TEXT(Y882,\"ddd\")","v":"za"},"ND",{"$f":"IFERROR(HLOOKUP(Y882,[1]DATA!$A$1:$NB$5,5,0),\"\")","v":"-"},null,null,null,null,{"$f":"VLOOKUP(Y882,[1]SRA!$S$4:$Z$368,4,0)","v":0},"","",""]
["42zoDD",{"$f":"VLOOKUP($AA885,DATA!$B$3:$E$6,2,0)","v":"06:30:00"},{"$f":"VLOOKUP($AA885,DATA!$B$3:$E$6,3,0)","v":"14:30:00"},{"$f":"VLOOKUP($AA885,DATA!$B$3:$E$6,4,0)","v":3.125E-2},0.30208333333333331,0.30208333333333331,{"$f":"DATA!$C$9","v":0.89},{"$f":"DATA!$C$10","v":64},1,407.8125,407.8125,0,"","",0,"","",0,"","","","",null,{"$f":"X877","v":42},"2018-10-21",{"$f":"TEXT(Y885,\"ddd\")","v":"zo"},"DD",{"$f":"IFERROR(HLOOKUP(Y885,[1]DATA!$A$1:$NB$5,3,0),\"\")","v":"-"},null,null,null,null,{"$f":"VLOOKUP(Y885,[1]SRA!$S$4:$Z$368,2,0)","v":0},"","",""]
["42zoMD",{"$f":"VLOOKUP($AA886,DATA!$B$3:$E$6,2,0)","v":"14:30:00"},{"$f":"VLOOKUP($AA886,DATA!$B$3:$E$6,3,0)","v":"22:30:00"},{"$f":"VLOOKUP($AA886,DATA!$B$3:$E$6,4,0)","v":3.125E-2},0.30208333333333337,0.30208333333333337,{"$f":"DATA!$C$9","v":0.89},{"$f":"DATA!$C$10","v":64},1,407.81250000000006,407.81250000000006,0,"","",0,"","",0,"","","","",null,{"$f":"X877","v":42},null,{"$f":"TEXT(Y885,\"ddd\")","v":"zo"},"MD",{"$f":"IFERROR(HLOOKUP(Y885,[1]DATA!$A$1:$NB$5,4,0),\"\")","v":"-"},null,null,null,null,{"$f":"VLOOKUP(Y885,[1]SRA!$S$4:$Z$368,3,0)","v":0},"","",""]
["42zoZND",{"$f":"VLOOKUP($AA887,DATA!$B$3:$E$6,2,0)","v":"00:00:00"},{"$f":"VLOOKUP($AA887,DATA!$B$3:$E$6,3,0)","v":"00:00:00"},{"$f":"VLOOKUP($AA887,DATA!$B$3:$E$6,4,0)","v":0},0,0,{"$f":"DATA!$C$9","v":0.89},{"$f":"DATA!$C$10","v":64},1,0,0,0,"","",0,"","",0,"","","","",null,{"$f":"X877","v":42},null,{"$f":"TEXT(Y885,\"ddd\")","v":"zo"},"ZND",{"$f":"IFERROR(HLOOKUP(Y885,[1]DATA!$A$1:$NB$5,5,0),\"\")","v":"-"},null,null,null,null,{"$f":"VLOOKUP(Y885,[1]SRA!$S$4:$Z$368,4,0)","v":0},"","",""]
["43maDD",{"$f":"VLOOKUP($AA888,DATA!$B$3:$E$6,2,0)","v":"06:30:00"},{"$f":"VLOOKUP($AA888,DATA!$B$3:$E$6,3,0)","v":"14:30:00"},{"$f":"VLOOKUP($AA888,DATA!$B$3:$E$6,4,0)","v":3.125E-2},0.30208333333333331,0.30208333333333331,{"$f":"DATA!$C$9","v":0.89},{"$f":"DATA!$C$10","v":64},1,407.8125,407.8125,0,"","",{"$f":"TIME(INT($AD888/60),INT(MOD($AD888,60)/1),0)","v":0},"","",0,"","","","",null,{"$f":"X898","v":43},"2018-10-22",{"$f":"TEXT(Y888,\"ddd\")","v":"ma"},"DD",{"$f":"IFERROR(HLOOKUP(Y888,[1]DATA!$A$1:$NB$5,3,0),\"\")","v":"D1"},null,null,null,null,{"$f":"VLOOKUP(Y888,[1]SRA!$S$4:$Z$368,2,0)","v":0},"","","",{"$f":"IF(SUMIF(S888:S908,\">0\",K888:K908)=0,\"\",SUMIF(S888:S908,\">0\",K888:K908))","v":""},{"$f":"IF(SUM(S888:S908)=0,\"\",SUM(S888:S908))","v":""},{"$f":"IFERROR(AL888/AK888,\"-\")","v":"-"},{"$f":"IF(SUM(M888:M908)=0,\"0\",SUM(M888:M908))","v":"0"},{"$f":"IFERROR(AN888/AK888,\"-\")","v":"-"},{"$f":"IF(SUM(P888:P908)=0,0,SUM(P888:P908))","v":0},{"$f":"IFERROR(AP888/AK888,\"-\")","v":"-"},{"$f":"IFERROR(AVERAGE(AJ888:AJ908),\"-\")","v":"-"},{"$f":"IFERROR(SUMIF($AB888:$AB908,AS$5,$AJ888:$AJ908)/COUNTIFS($AB888:$AB908,AS$5,$AJ888:$AJ908,\">0\"),\"\")","v":""},"","",{"$f":"IFERROR((AK888-AL888-AN888-AP888),\"-\")","v":"-"},{"$f":"IFERROR((1-AM888-AO888-AQ888), \"-\")","v":"-"},{"$f":"IFERROR((AV888*$AE$2)/60,\"-\")","v":"-"},{"$f":"IFERROR(SUM(AG888:AG908),\"\")","v":0}]
["43maMD",{"$f":"VLOOKUP($AA889,DATA!$B$3:$E$6,2,0)","v":"14:30:00"},{"$f":"VLOOKUP($AA889,DATA!$B$3:$E$6,3,0)","v":"22:30:00"},{"$f":"VLOOKUP($AA889,DATA!$B$3:$E$6,4,0)","v":3.125E-2},0.30208333333333337,0.30208333333333337,{"$f":"DATA!$C$9","v":0.89},{"$f":"DATA!$C$10","v":64},1,407.81250000000006,407.81250000000006,0,"","",{"$f":"TIME(INT(AD889/60),INT(MOD(AD889,60)/1),0)","v":0},"","",0,"","","","",null,{"$f":"X898","v":43},null,{"$f":"TEXT(Y888,\"ddd\")","v":"ma"},"MD",{"$f":"IFERROR(HLOOKUP(Y888,[1]DATA!$A$1:$NB$5,4,0),\"\")","v":"D3"},null,null,null,null,{"$f":"VLOOKUP(Y888,[1]SRA!$S$4:$Z$368,3,0)","v":0},"","",""]
["43maND",{"$f":"VLOOKUP($AA890,DATA!$B$3:$E$6,2,0)","v":"22:30:00"},{"$f":"VLOOKUP($AA890,DATA!$B$3:$E$6,3,0)","v":"06:30:00"},{"$f":"VLOOKUP($AA890,DATA!$B$3:$E$6,4,0)","v":3.125E-2},0.30208333333333326,0.30208333333333326,{"$f":"DATA!$C$9","v":0.89},{"$f":"DATA!$C$10","v":64},1,407.81249999999989,407.81249999999989,0,"","",0,"","",0,"","","","",null,{"$f":"X898","v":43},null,{"$f":"TEXT(Y888,\"ddd\")","v":"ma"},"ND",{"$f":"IFERROR(HLOOKUP(Y888,[1]DATA!$A$1:$NB$5,5,0),\"\")","v":"D2"},null,null,null,null,{"$f":"VLOOKUP(Y888,[1]SRA!$S$4:$Z$368,4,0)","v":0},"","",""]
["43diDD",{"$f":"VLOOKUP($AA891,DATA!$B$3:$E$6,2,0)","v":"06:30:00"},{"$f":"VLOOKUP($AA891,DATA!$B$3:$E$6,3,0)","v":"14:30:00"},{"$f":"VLOOKUP($AA891,DATA!$B$3:$E$6,4,0)","v":3.125E-2},0.30208333333333331,0.30208333333333331,{"$f":"DATA!$C$9","v":0.89},{"$f":"DATA!$C$10","v":64},1,407.8125,407.8125,0,"","",0,"","",0,"","","","",null,{"$f":"X898","v":43},{"$f":"Y888+1","v":"2018-10-23"},{"$f":"TEXT(Y891,\"ddd\")","v":"di"},"DD",{"$f":"IFERROR(HLOOKUP(Y891,[1]DATA!$A$1:$NB$5,3,0),\"\")","v":"D1"},null,null,null,null,{"$f":"VLOOKUP(Y891,[1]SRA!$S$4:$Z$368,2,0)","v":0},"","",""]
["43diMD",{"$f":"VLOOKUP($AA892,DATA!$B$3:$E$6,2,0)","v":"14:30:00"},{"$f":"VLOOKUP($AA892,DATA!$B$3:$E$6,3,0)","v":"22:30:00"},{"$f":"VLOOKUP($AA892,DATA!$B$3:$E$6,4,0)","v":3.125E-2},0.30208333333333337,0.30208333333333337,{"$f":"DATA!$C$9","v":0.89},{"$f":"DATA!$C$10","v":64},1,407.81250000000006,407.81250000000006,0,"","",0,"","",0,"","","","",null,{"$f":"X898","v":43},null,{"$f":"TEXT(Y891,\"ddd\")","v":"di"},"MD",{"$f":"IFERROR(HLOOKUP(Y891,[1]DATA!$A$1:$NB$5,4,0),\"\")","v":"D3"},null,null,null,null,{"$f":"VLOOKUP(Y891,[1]SRA!$S$4:$Z$368,3,0)","v":0},"","",""]
["43diND",{"$f":"VLOOKUP($AA893,DATA!$B$3:$E$6,2,0)","v":"22:30:00"},{"$f":"VLOOKUP($AA893,DATA!$B$3:$E$6,3,0)","v":"06:30:00"},{"$f":"VLOOKUP($AA893,DATA!$B$3:$E$6,4,0)","v":3.125E-2},0.30208333333333326,0.30208333333333326,{"$f":"DATA!$C$9","v":0.89},{"$f":"DATA!$C$10","v":64},1,407.81249999999989,407.81249999999989,0,"","",0,"","",0,"","","","",null,{"$f":"X898","v":43},null,{"$f":"TEXT(Y891,\"ddd\")","v":"di"},"ND",{"$f":"IFERROR(HLOOKUP(Y891,[1]DATA!$A$1:$NB$5,5,0),\"\")","v":"D2"},null,null,null,null,{"$f":"VLOOKUP(Y891,[1]SRA!$S$4:$Z$368,4,0)","v":0},"","",""]
["43woDD",{"$f":"VLOOKUP($AA894,DATA!$B$3:$E$6,2,0)","v":"06:30:00"},{"$f":"VLOOKUP($AA894,DATA!$B$3:$E$6,3,0)","v":"14:30:00"},{"$f":"VLOOKUP($AA894,DATA!$B$3:$E$6,4,0)","v":3.125E-2},0.30208333333333331,0.30208333333333331,{"$f":"DATA!$C$9","v":0.89},{"$f":"DATA!$C$10","v":64},1,407.8125,407.8125,0,"","",0,"","",0,"","","","",null,{"$f":"X898","v":43},"2018-10-24",{"$f":"TEXT(Y894,\"ddd\")","v":"wo"},"DD",{"$f":"IFERROR(HLOOKUP(Y894,[1]DATA!$A$1:$NB$5,3,0),\"\")","v":"D1"},null,null,null,null,{"$f":"VLOOKUP(Y894,[1]SRA!$S$4:$Z$368,2,0)","v":0},"","",""]
["43woMD",{"$f":"VLOOKUP($AA895,DATA!$B$3:$E$6,2,0)","v":"14:30:00"},{"$f":"VLOOKUP($AA895,DATA!$B$3:$E$6,3,0)","v":"22:30:00"},{"$f":"VLOOKUP($AA895,DATA!$B$3:$E$6,4,0)","v":3.125E-2},0.30208333333333337,0.30208333333333337,{"$f":"DATA!$C$9","v":0.89},{"$f":"DATA!$C$10","v":64},1,407.81250000000006,407.81250000000006,0,"","",0,"","",0,"","","","",null,{"$f":"X898","v":43},null,{"$f":"TEXT(Y894,\"ddd\")","v":"wo"},"MD",{"$f":"IFERROR(HLOOKUP(Y894,[1]DATA!$A$1:$NB$5,4,0),\"\")","v":"D3"},null,null,null,null,{"$f":"VLOOKUP(Y894,[1]SRA!$S$4:$Z$368,3,0)","v":0},"","",""]
["43woND",{"$f":"VLOOKUP($AA896,DATA!$B$3:$E$6,2,0)","v":"22:30:00"},{"$f":"VLOOKUP($AA896,DATA!$B$3:$E$6,3,0)","v":"06:30:00"},{"$f":"VLOOKUP($AA896,DATA!$B$3:$E$6,4,0)","v":3.125E-2},0.30208333333333326,0.30208333333333326,{"$f":"DATA!$C$9","v":0.89},{"$f":"DATA!$C$10","v":64},1,407.81249999999989,407.81249999999989,0,"","",0,"","",0,"","","","",null,{"$f":"X898","v":43},null,{"$f":"TEXT(Y894,\"ddd\")","v":"wo"},"ND",{"$f":"IFERROR(HLOOKUP(Y894,[1]DATA!$A$1:$NB$5,5,0),\"\")","v":"D2"},null,null,null,null,{"$f":"VLOOKUP(Y894,[1]SRA!$S$4:$Z$368,4,0)","v":0},"","",""]
["43doDD",{"$f":"VLOOKUP($AA897,DATA!$B$3:$E$6,2,0)","v":"06:30:00"},{"$f":"VLOOKUP($AA897,DATA!$B$3:$E$6,3,0)","v":"14:30:00"},{"$f":"VLOOKUP($AA897,DATA!$B$3:$E$6,4,0)","v":3.125E-2},0.30208333333333331,0.30208333333333331,{"$f":"DATA!$C$9","v":0.89},{"$f":"DATA!$C$10","v":64},1,407.8125,407.8125,0,"","",0,"","",0,"","","","",null,{"$f":"X898","v":43},"2018-10-25",{"$f":"TEXT(Y897,\"ddd\")","v":"do"},"DD",{"$f":"IFERROR(HLOOKUP(Y897,[1]DATA!$A$1:$NB$5,3,0),\"\")","v":"D1"},null,null,null,null,{"$f":"VLOOKUP(Y897,[1]SRA!$S$4:$Z$368,2,0)","v":0},"","",""]
["43doMD",{"$f":"VLOOKUP($AA898,DATA!$B$3:$E$6,2,0)","v":"14:30:00"},{"$f":"VLOOKUP($AA898,DATA!$B$3:$E$6,3,0)","v":"22:30:00"},{"$f":"VLOOKUP($AA898,DATA!$B$3:$E$6,4,0)","v":3.125E-2},0.30208333333333337,0.30208333333333337,{"$f":"DATA!$C$9","v":0.89},{"$f":"DATA!$C$10","v":64},1,407.81250000000006,407.81250000000006,0,"","",0,"","",0,"","","","",null,{"$f":"WEEKNUM($Y888)","v":43},null,{"$f":"TEXT(Y897,\"ddd\")","v":"do"},"MD",{"$f":"IFERROR(HLOOKUP(Y897,[1]DATA!$A$1:$NB$5,4,0),\"\")","v":"D3"},null,null,null,null,{"$f":"VLOOKUP(Y897,[1]SRA!$S$4:$Z$368,3,0)","v":0},"","",""]
["43doND",{"$f":"VLOOKUP($AA899,DATA!$B$3:$E$6,2,0)","v":"22:30:00"},{"$f":"VLOOKUP($AA899,DATA!$B$3:$E$6,3,0)","v":"06:30:00"},{"$f":"VLOOKUP($AA899,DATA!$B$3:$E$6,4,0)","v":3.125E-2},0.30208333333333326,0.30208333333333326,{"$f":"DATA!$C$9","v":0.89},{"$f":"DATA!$C$10","v":64},1,407.81249999999989,407.81249999999989,0,"","",0,"","",0,"","","","",null,{"$f":"X898","v":43},null,{"$f":"TEXT(Y897,\"ddd\")","v":"do"},"ND",{"$f":"IFERROR(HLOOKUP(Y897,[1]DATA!$A$1:$NB$5,5,0),\"\")","v":"D2"},null,null,null,null,{"$f":"VLOOKUP(Y897,[1]SRA!$S$4:$Z$368,4,0)","v":0},"","",""]
["43vrDD",{"$f":"VLOOKUP($AA900,DATA!$B$3:$E$6,2,0)","v":"06:30:00"},{"$f":"VLOOKUP($AA900,DATA!$B$3:$E$6,3,0)","v":"14:30:00"},{"$f":"VLOOKUP($AA900,DATA!$B$3:$E$6,4,0)","v":3.125E-2},0.30208333333333331,0.30208333333333331,{"$f":"DATA!$C$9","v":0.89},{"$f":"DATA!$C$10","v":64},1,407.8125,407.8125,0,"","",0,"","",0,"","","","",null,{"$f":"X898","v":43},"2018-10-26",{"$f":"TEXT(Y900,\"ddd\")","v":"vr"},"DD",{"$f":"IFERROR(HLOOKUP(Y900,[1]DATA!$A$1:$NB$5,3,0),\"\")","v":"D1"},null,null,null,null,{"$f":"VLOOKUP(Y900,[1]SRA!$S$4:$Z$368,2,0)","v":0},"","",""]
["43vrMD",{"$f":"VLOOKUP($AA901,DATA!$B$3:$E$6,2,0)","v":"14:30:00"},{"$f":"VLOOKUP($AA901,DATA!$B$3:$E$6,3,0)","v":"22:30:00"},{"$f":"VLOOKUP($AA901,DATA!$B$3:$E$6,4,0)","v":3.125E-2},0.30208333333333337,0.30208333333333337,{"$f":"DATA!$C$9","v":0.89},{"$f":"DATA!$C$10","v":64},1,407.81250000000006,407.81250000000006,0,"","",0,"","",0,"","","","",null,{"$f":"X898","v":43},null,{"$f":"TEXT(Y900,\"ddd\")","v":"vr"},"MD",{"$f":"IFERROR(HLOOKUP(Y900,[1]DATA!$A$1:$NB$5,4,0),\"\")","v":"D3"},null,null,null,null,{"$f":"VLOOKUP(Y900,[1]SRA!$S$4:$Z$368,3,0)","v":0},"","",""]
["43vrND",{"$f":"VLOOKUP($AA902,DATA!$B$3:$E$6,2,0)","v":"22:30:00"},{"$f":"VLOOKUP($AA902,DATA!$B$3:$E$6,3,0)","v":"06:30:00"},{"$f":"VLOOKUP($AA902,DATA!$B$3:$E$6,4,0)","v":3.125E-2},0.30208333333333326,0.30208333333333326,{"$f":"DATA!$C$9","v":0.89},{"$f":"DATA!$C$10","v":64},1,{"$f":"F902*86400/H902*I902","v":407.81249999999989},{"$f":"E902*86400/H902","v":407.81249999999989},0,"","",0,"","",{"$f":"AF902*AG$2","v":0},{"$f":"IF(AF902-AE902=0,\"\",AF902-AE902)","v":""},"","","",null,{"$f":"X898","v":43},null,{"$f":"TEXT(Y900,\"ddd\")","v":"vr"},"ND",{"$f":"IFERROR(HLOOKUP(Y900,[1]DATA!$A$1:$NB$5,5,0),\"\")","v":"D2"},null,null,null,null,{"$f":"VLOOKUP(Y900,[1]SRA!$S$4:$Z$368,4,0)","v":0},{"$f":"IFERROR(S902-J902,\"\")","v":""},{"$f":"IFERROR(IF(S902/(E902*86400/H902)<=0,\"\",S902/(E902*86400/H902)),\"\")","v":""},""]
["43zaDD",{"$f":"VLOOKUP($AA903,DATA!$B$3:$E$6,2,0)","v":"06:30:00"},{"$f":"VLOOKUP($AA903,DATA!$B$3:$E$6,3,0)","v":"14:30:00"},{"$f":"VLOOKUP($AA903,DATA!$B$3:$E$6,4,0)","v":3.125E-2},0.30208333333333331,0.30208333333333331,{"$f":"DATA!$C$9","v":0.89},{"$f":"DATA!$C$10","v":64},1,407.8125,407.8125,{"$f":"TIME(INT($AC903/60),INT(MOD($AC903,60)/1),0)","v":0},{"$f":"IF($L903*86400/$H903=0,\"\",$L903*86400/$H903)","v":""},{"$f":"IFERROR($M903/$K903,\"\")","v":""},0,"",{"$f":"IFERROR($P903/$K903,\"\")","v":""},0,"",{"$f":"IF(IF($AB903=\"D1\",$S903,\"\")=0,\"\",IF($AB903=\"D1\",$S903,\"\"))","v":""},{"$f":"IF(IF($AB903=\"D2\",$S903,\"\")=0,\"\",IF($AB903=\"D2\",$S903,\"\"))","v":""},{"$f":"IF(IF($AB903=\"D3\",$S903,\"\")=0,\"\",IF($AB903=\"D3\",$S903,\"\"))","v":""},null,{"$f":"X898","v":43},"2018-10-27",{"$f":"TEXT(Y903,\"ddd\")","v":"za"},"DD",{"$f":"IFERROR(HLOOKUP(Y903,[1]DATA!$A$1:$NB$5,3,0),\"\")","v":"D1"},null,null,null,null,{"$f":"VLOOKUP(Y903,[1]SRA!$S$4:$Z$368,2,0)","v":0},"","",""]
["43zaMD",{"$f":"VLOOKUP($AA904,DATA!$B$3:$E$6,2,0)","v":"14:30:00"},{"$f":"VLOOKUP($AA904,DATA!$B$3:$E$6,3,0)","v":"22:30:00"},{"$f":"VLOOKUP($AA904,DATA!$B$3:$E$6,4,0)","v":3.125E-2},0.30208333333333337,0.30208333333333337,{"$f":"DATA!$C$9","v":0.89},{"$f":"DATA!$C$10","v":64},1,407.81250000000006,407.81250000000006,0,"","",0,"","",0,"","","","",null,{"$f":"X898","v":43},null,{"$f":"TEXT(Y903,\"ddd\")","v":"za"},"MD",{"$f":"IFERROR(HLOOKUP(Y903,[1]DATA!$A$1:$NB$5,4,0),\"\")","v":"-"},null,null,null,null,{"$f":"VLOOKUP(Y903,[1]SRA!$S$4:$Z$368,3,0)","v":0},"","",""]
["43zaND",{"$f":"VLOOKUP($AA905,DATA!$B$3:$E$6,2,0)","v":"22:30:00"},{"$f":"VLOOKUP($AA905,DATA!$B$3:$E$6,3,0)","v":"06:30:00"},{"$f":"VLOOKUP($AA905,DATA!$B$3:$E$6,4,0)","v":3.125E-2},0.30208333333333326,0.30208333333333326,{"$f":"DATA!$C$9","v":0.89},{"$f":"DATA!$C$10","v":64},1,407.81249999999989,407.81249999999989,0,"","",0,"","",0,"","","","",null,{"$f":"X898","v":43},null,{"$f":"TEXT(Y903,\"ddd\")","v":"za"},"ND",{"$f":"IFERROR(HLOOKUP(Y903,[1]DATA!$A$1:$NB$5,5,0),\"\")","v":"-"},null,null,null,null,{"$f":"VLOOKUP(Y903,[1]SRA!$S$4:$Z$368,4,0)","v":0},"","",""]
["43zoDD",{"$f":"VLOOKUP($AA906,DATA!$B$3:$E$6,2,0)","v":"06:30:00"},{"$f":"VLOOKUP($AA906,DATA!$B$3:$E$6,3,0)","v":"14:30:00"},{"$f":"VLOOKUP($AA906,DATA!$B$3:$E$6,4,0)","v":3.125E-2},0.30208333333333331,0.30208333333333331,{"$f":"DATA!$C$9","v":0.89},{"$f":"DATA!$C$10","v":64},1,407.8125,407.8125,0,"","",0,"","",0,"","","","",null,{"$f":"X898","v":43},"2018-10-28",{"$f":"TEXT(Y906,\"ddd\")","v":"zo"},"DD",{"$f":"IFERROR(HLOOKUP(Y906,[1]DATA!$A$1:$NB$5,3,0),\"\")","v":"-"},null,null,null,null,{"$f":"VLOOKUP(Y906,[1]SRA!$S$4:$Z$368,2,0)","v":0},"","",""]
["43zoMD",{"$f":"VLOOKUP($AA907,DATA!$B$3:$E$6,2,0)","v":"14:30:00"},{"$f":"VLOOKUP($AA907,DATA!$B$3:$E$6,3,0)","v":"22:30:00"},{"$f":"VLOOKUP($AA907,DATA!$B$3:$E$6,4,0)","v":3.125E-2},0.30208333333333337,0.30208333333333337,{"$f":"DATA!$C$9","v":0.89},{"$f":"DATA!$C$10","v":64},1,407.81250000000006,407.81250000000006,0,"","",0,"","",0,"","","","",null,{"$f":"X898","v":43},null,{"$f":"TEXT(Y906,\"ddd\")","v":"zo"},"MD",{"$f":"IFERROR(HLOOKUP(Y906,[1]DATA!$A$1:$NB$5,4,0),\"\")","v":"-"},null,null,null,null,{"$f":"VLOOKUP(Y906,[1]SRA!$S$4:$Z$368,3,0)","v":0},"","",""]
["43zoZND",{"$f":"VLOOKUP($AA908,DATA!$B$3:$E$6,2,0)","v":"00:00:00"},{"$f":"VLOOKUP($AA908,DATA!$B$3:$E$6,3,0)","v":"00:00:00"},{"$f":"VLOOKUP($AA908,DATA!$B$3:$E$6,4,0)","v":0},0,0,{"$f":"DATA!$C$9","v":0.89},{"$f":"DATA!$C$10","v":64},1,0,0,0,"","",0,"","",0,"","","","",null,{"$f":"X898","v":43},null,{"$f":"TEXT(Y906,\"ddd\")","v":"zo"},"ZND",{"$f":"IFERROR(HLOOKUP(Y906,[1]DATA!$A$1:$NB$5,5,0),\"\")","v":"-"},null,null,null,null,{"$f":"VLOOKUP(Y906,[1]SRA!$S$4:$Z$368,4,0)","v":0},"","",""]
["44maDD",{"$f":"VLOOKUP($AA909,DATA!$B$3:$E$6,2,0)","v":"06:30:00"},{"$f":"VLOOKUP($AA909,DATA!$B$3:$E$6,3,0)","v":"14:30:00"},{"$f":"VLOOKUP($AA909,DATA!$B$3:$E$6,4,0)","v":3.125E-2},0.30208333333333331,0.30208333333333331,{"$f":"DATA!$C$9","v":0.89},{"$f":"DATA!$C$10","v":64},1,407.8125,407.8125,0,"","",{"$f":"TIME(INT($AD909/60),INT(MOD($AD909,60)/1),0)","v":0},"","",0,"","","","",null,{"$f":"X919","v":44},"2018-10-29",{"$f":"TEXT(Y909,\"ddd\")","v":"ma"},"DD",{"$f":"IFERROR(HLOOKUP(Y909,[1]DATA!$A$1:$NB$5,3,0),\"\")","v":"D3"},null,null,null,null,{"$f":"VLOOKUP(Y909,[1]SRA!$S$4:$Z$368,2,0)","v":0},"","","",{"$f":"IF(SUMIF(S909:S929,\">0\",K909:K929)=0,\"\",SUMIF(S909:S929,\">0\",K909:K929))","v":""},{"$f":"IF(SUM(S909:S929)=0,\"\",SUM(S909:S929))","v":""},{"$f":"IFERROR(AL909/AK909,\"-\")","v":"-"},{"$f":"IF(SUM(M909:M929)=0,\"0\",SUM(M909:M929))","v":"0"},{"$f":"IFERROR(AN909/AK909,\"-\")","v":"-"},{"$f":"IF(SUM(P909:P929)=0,0,SUM(P909:P929))","v":0},{"$f":"IFERROR(AP909/AK909,\"-\")","v":"-"},{"$f":"IFERROR(AVERAGE(AJ909:AJ929),\"-\")","v":"-"},{"$f":"IFERROR(SUMIF($AB909:$AB929,AS$5,$AJ909:$AJ929)/COUNTIFS($AB909:$AB929,AS$5,$AJ909:$AJ929,\">0\"),\"\")","v":""},"","",{"$f":"IFERROR((AK909-AL909-AN909-AP909),\"-\")","v":"-"},{"$f":"IFERROR((1-AM909-AO909-AQ909), \"-\")","v":"-"},{"$f":"IFERROR((AV909*$AE$2)/60,\"-\")","v":"-"},{"$f":"IFERROR(SUM(AG909:AG929),\"\")","v":0}]
["44maMD",{"$f":"VLOOKUP($AA910,DATA!$B$3:$E$6,2,0)","v":"14:30:00"},{"$f":"VLOOKUP($AA910,DATA!$B$3:$E$6,3,0)","v":"22:30:00"},{"$f":"VLOOKUP($AA910,DATA!$B$3:$E$6,4,0)","v":3.125E-2},0.30208333333333337,0.30208333333333337,{"$f":"DATA!$C$9","v":0.89},{"$f":"DATA!$C$10","v":64},1,407.81250000000006,407.81250000000006,0,"","",{"$f":"TIME(INT(AD910/60),INT(MOD(AD910,60)/1),0)","v":0},"","",0,"","","","",null,{"$f":"X919","v":44},null,{"$f":"TEXT(Y909,\"ddd\")","v":"ma"},"MD",{"$f":"IFERROR(HLOOKUP(Y909,[1]DATA!$A$1:$NB$5,4,0),\"\")","v":"D2"},null,null,null,null,{"$f":"VLOOKUP(Y909,[1]SRA!$S$4:$Z$368,3,0)","v":0},"","",""]
["44maND",{"$f":"VLOOKUP($AA911,DATA!$B$3:$E$6,2,0)","v":"22:30:00"},{"$f":"VLOOKUP($AA911,DATA!$B$3:$E$6,3,0)","v":"06:30:00"},{"$f":"VLOOKUP($AA911,DATA!$B$3:$E$6,4,0)","v":3.125E-2},0.30208333333333326,0.30208333333333326,{"$f":"DATA!$C$9","v":0.89},{"$f":"DATA!$C$10","v":64},1,407.81249999999989,407.81249999999989,0,"","",0,"","",0,"","","","",null,{"$f":"X919","v":44},null,{"$f":"TEXT(Y909,\"ddd\")","v":"ma"},"ND",{"$f":"IFERROR(HLOOKUP(Y909,[1]DATA!$A$1:$NB$5,5,0),\"\")","v":"D1"},null,null,null,null,{"$f":"VLOOKUP(Y909,[1]SRA!$S$4:$Z$368,4,0)","v":0},"","",""]
["44diDD",{"$f":"VLOOKUP($AA912,DATA!$B$3:$E$6,2,0)","v":"06:30:00"},{"$f":"VLOOKUP($AA912,DATA!$B$3:$E$6,3,0)","v":"14:30:00"},{"$f":"VLOOKUP($AA912,DATA!$B$3:$E$6,4,0)","v":3.125E-2},0.30208333333333331,0.30208333333333331,{"$f":"DATA!$C$9","v":0.89},{"$f":"DATA!$C$10","v":64},1,407.8125,407.8125,0,"","",0,"","",0,"","","","",null,{"$f":"X919","v":44},"2018-10-30",{"$f":"TEXT(Y912,\"ddd\")","v":"di"},"DD",{"$f":"IFERROR(HLOOKUP(Y912,[1]DATA!$A$1:$NB$5,3,0),\"\")","v":"D3"},null,null,null,null,{"$f":"VLOOKUP(Y912,[1]SRA!$S$4:$Z$368,2,0)","v":0},"","",""]
["44diMD",{"$f":"VLOOKUP($AA913,DATA!$B$3:$E$6,2,0)","v":"14:30:00"},{"$f":"VLOOKUP($AA913,DATA!$B$3:$E$6,3,0)","v":"22:30:00"},{"$f":"VLOOKUP($AA913,DATA!$B$3:$E$6,4,0)","v":3.125E-2},0.30208333333333337,0.30208333333333337,{"$f":"DATA!$C$9","v":0.89},{"$f":"DATA!$C$10","v":64},1,407.81250000000006,407.81250000000006,0,"","",0,"","",0,"","","","",null,{"$f":"X919","v":44},null,{"$f":"TEXT(Y912,\"ddd\")","v":"di"},"MD",{"$f":"IFERROR(HLOOKUP(Y912,[1]DATA!$A$1:$NB$5,4,0),\"\")","v":"D2"},null,null,null,null,{"$f":"VLOOKUP(Y912,[1]SRA!$S$4:$Z$368,3,0)","v":0},"","",""]
["44diND",{"$f":"VLOOKUP($AA914,DATA!$B$3:$E$6,2,0)","v":"22:30:00"},{"$f":"VLOOKUP($AA914,DATA!$B$3:$E$6,3,0)","v":"06:30:00"},{"$f":"VLOOKUP($AA914,DATA!$B$3:$E$6,4,0)","v":3.125E-2},0.30208333333333326,0.30208333333333326,{"$f":"DATA!$C$9","v":0.89},{"$f":"DATA!$C$10","v":64},1,407.81249999999989,407.81249999999989,0,"","",0,"","",0,"","","","",null,{"$f":"X919","v":44},null,{"$f":"TEXT(Y912,\"ddd\")","v":"di"},"ND",{"$f":"IFERROR(HLOOKUP(Y912,[1]DATA!$A$1:$NB$5,5,0),\"\")","v":"D1"},null,null,null,null,{"$f":"VLOOKUP(Y912,[1]SRA!$S$4:$Z$368,4,0)","v":0},"","",""]
["44woDD",{"$f":"VLOOKUP($AA915,DATA!$B$3:$E$6,2,0)","v":"06:30:00"},{"$f":"VLOOKUP($AA915,DATA!$B$3:$E$6,3,0)","v":"14:30:00"},{"$f":"VLOOKUP($AA915,DATA!$B$3:$E$6,4,0)","v":3.125E-2},0.30208333333333331,0.30208333333333331,{"$f":"DATA!$C$9","v":0.89},{"$f":"DATA!$C$10","v":64},1,407.8125,407.8125,0,"","",0,"","",0,"","","","",null,{"$f":"X919","v":44},"2018-10-31",{"$f":"TEXT(Y915,\"ddd\")","v":"wo"},"DD",{"$f":"IFERROR(HLOOKUP(Y915,[1]DATA!$A$1:$NB$5,3,0),\"\")","v":"D3"},null,null,null,null,{"$f":"VLOOKUP(Y915,[1]SRA!$S$4:$Z$368,2,0)","v":0},"","",""]
["44woMD",{"$f":"VLOOKUP($AA916,DATA!$B$3:$E$6,2,0)","v":"14:30:00"},{"$f":"VLOOKUP($AA916,DATA!$B$3:$E$6,3,0)","v":"22:30:00"},{"$f":"VLOOKUP($AA916,DATA!$B$3:$E$6,4,0)","v":3.125E-2},0.30208333333333337,0.30208333333333337,{"$f":"DATA!$C$9","v":0.89},{"$f":"DATA!$C$10","v":64},1,407.81250000000006,407.81250000000006,0,"","",0,"","",0,"","","","",null,{"$f":"X919","v":44},null,{"$f":"TEXT(Y915,\"ddd\")","v":"wo"},"MD",{"$f":"IFERROR(HLOOKUP(Y915,[1]DATA!$A$1:$NB$5,4,0),\"\")","v":"D2"},null,null,null,null,{"$f":"VLOOKUP(Y915,[1]SRA!$S$4:$Z$368,3,0)","v":0},"","",""]
["44woND",{"$f":"VLOOKUP($AA917,DATA!$B$3:$E$6,2,0)","v":"22:30:00"},{"$f":"VLOOKUP($AA917,DATA!$B$3:$E$6,3,0)","v":"06:30:00"},{"$f":"VLOOKUP($AA917,DATA!$B$3:$E$6,4,0)","v":3.125E-2},0.30208333333333326,0.30208333333333326,{"$f":"DATA!$C$9","v":0.89},{"$f":"DATA!$C$10","v":64},1,407.81249999999989,407.81249999999989,0,"","",0,"","",0,"","","","",null,{"$f":"X919","v":44},null,{"$f":"TEXT(Y915,\"ddd\")","v":"wo"},"ND",{"$f":"IFERROR(HLOOKUP(Y915,[1]DATA!$A$1:$NB$5,5,0),\"\")","v":"D1"},null,null,null,null,{"$f":"VLOOKUP(Y915,[1]SRA!$S$4:$Z$368,4,0)","v":0},"","",""]
["44doDD",{"$f":"VLOOKUP($AA918,DATA!$B$3:$E$6,2,0)","v":"06:30:00"},{"$f":"VLOOKUP($AA918,DATA!$B$3:$E$6,3,0)","v":"14:30:00"},{"$f":"VLOOKUP($AA918,DATA!$B$3:$E$6,4,0)","v":3.125E-2},0.30208333333333331,0.30208333333333331,{"$f":"DATA!$C$9","v":0.89},{"$f":"DATA!$C$10","v":64},1,407.8125,407.8125,0,"","",0,"","",0,"","","","",null,{"$f":"X919","v":44},"2018-11-01",{"$f":"TEXT(Y918,\"ddd\")","v":"do"},"DD",{"$f":"IFERROR(HLOOKUP(Y918,[1]DATA!$A$1:$NB$5,3,0),\"\")","v":"D3"},null,null,null,null,{"$f":"VLOOKUP(Y918,[1]SRA!$S$4:$Z$368,2,0)","v":0},"","",""]
["44doMD",{"$f":"VLOOKUP($AA919,DATA!$B$3:$E$6,2,0)","v":"14:30:00"},{"$f":"VLOOKUP($AA919,DATA!$B$3:$E$6,3,0)","v":"22:30:00"},{"$f":"VLOOKUP($AA919,DATA!$B$3:$E$6,4,0)","v":3.125E-2},0.30208333333333337,0.30208333333333337,{"$f":"DATA!$C$9","v":0.89},{"$f":"DATA!$C$10","v":64},1,407.81250000000006,407.81250000000006,0,"","",0,"","",0,"","","","",null,{"$f":"WEEKNUM($Y909)","v":44},null,{"$f":"TEXT(Y918,\"ddd\")","v":"do"},"MD",{"$f":"IFERROR(HLOOKUP(Y918,[1]DATA!$A$1:$NB$5,4,0),\"\")","v":"D2"},null,null,null,null,{"$f":"VLOOKUP(Y918,[1]SRA!$S$4:$Z$368,3,0)","v":0},"","",""]
["44doND",{"$f":"VLOOKUP($AA920,DATA!$B$3:$E$6,2,0)","v":"22:30:00"},{"$f":"VLOOKUP($AA920,DATA!$B$3:$E$6,3,0)","v":"06:30:00"},{"$f":"VLOOKUP($AA920,DATA!$B$3:$E$6,4,0)","v":3.125E-2},0.30208333333333326,0.30208333333333326,{"$f":"DATA!$C$9","v":0.89},{"$f":"DATA!$C$10","v":64},1,407.81249999999989,407.81249999999989,0,"","",0,"","",0,"","","","",null,{"$f":"X919","v":44},null,{"$f":"TEXT(Y918,\"ddd\")","v":"do"},"ND",{"$f":"IFERROR(HLOOKUP(Y918,[1]DATA!$A$1:$NB$5,5,0),\"\")","v":"D1"},null,null,null,null,{"$f":"VLOOKUP(Y918,[1]SRA!$S$4:$Z$368,4,0)","v":0},"","",""]
["44vrDD",{"$f":"VLOOKUP($AA921,DATA!$B$3:$E$6,2,0)","v":"06:30:00"},{"$f":"VLOOKUP($AA921,DATA!$B$3:$E$6,3,0)","v":"14:30:00"},{"$f":"VLOOKUP($AA921,DATA!$B$3:$E$6,4,0)","v":3.125E-2},0.30208333333333331,0.30208333333333331,{"$f":"DATA!$C$9","v":0.89},{"$f":"DATA!$C$10","v":64},1,407.8125,407.8125,0,"","",0,"","",0,"","","","",null,{"$f":"X919","v":44},"2018-11-02",{"$f":"TEXT(Y921,\"ddd\")","v":"vr"},"DD",{"$f":"IFERROR(HLOOKUP(Y921,[1]DATA!$A$1:$NB$5,3,0),\"\")","v":"D3"},null,null,null,null,{"$f":"VLOOKUP(Y921,[1]SRA!$S$4:$Z$368,2,0)","v":0},"","",""]
["44vrMD",{"$f":"VLOOKUP($AA922,DATA!$B$3:$E$6,2,0)","v":"14:30:00"},{"$f":"VLOOKUP($AA922,DATA!$B$3:$E$6,3,0)","v":"22:30:00"},{"$f":"VLOOKUP($AA922,DATA!$B$3:$E$6,4,0)","v":3.125E-2},0.30208333333333337,0.30208333333333337,{"$f":"DATA!$C$9","v":0.89},{"$f":"DATA!$C$10","v":64},1,407.81250000000006,407.81250000000006,0,"","",0,"","",0,"","","","",null,{"$f":"X919","v":44},null,{"$f":"TEXT(Y921,\"ddd\")","v":"vr"},"MD",{"$f":"IFERROR(HLOOKUP(Y921,[1]DATA!$A$1:$NB$5,4,0),\"\")","v":"D2"},null,null,null,null,{"$f":"VLOOKUP(Y921,[1]SRA!$S$4:$Z$368,3,0)","v":0},"","",""]
["44vrND",{"$f":"VLOOKUP($AA923,DATA!$B$3:$E$6,2,0)","v":"22:30:00"},{"$f":"VLOOKUP($AA923,DATA!$B$3:$E$6,3,0)","v":"06:30:00"},{"$f":"VLOOKUP($AA923,DATA!$B$3:$E$6,4,0)","v":3.125E-2},0.30208333333333326,0.30208333333333326,{"$f":"DATA!$C$9","v":0.89},{"$f":"DATA!$C$10","v":64},1,407.81249999999989,407.81249999999989,0,"","",0,"","",0,"","","","",null,{"$f":"X919","v":44},null,{"$f":"TEXT(Y921,\"ddd\")","v":"vr"},"ND",{"$f":"IFERROR(HLOOKUP(Y921,[1]DATA!$A$1:$NB$5,5,0),\"\")","v":"D2"},null,null,null,null,{"$f":"VLOOKUP(Y921,[1]SRA!$S$4:$Z$368,4,0)","v":0},"","",{"$f":"IFERROR(R923/(R923+AG923),\"\")","v":""}]
["44zaDD",{"$f":"VLOOKUP($AA924,DATA!$B$3:$E$6,2,0)","v":"06:30:00"},{"$f":"VLOOKUP($AA924,DATA!$B$3:$E$6,3,0)","v":"14:30:00"},{"$f":"VLOOKUP($AA924,DATA!$B$3:$E$6,4,0)","v":3.125E-2},{"$f":"(C924-B924+(B924>C924))-D924","v":0.30208333333333331},{"$f":"E924-O924-L924","v":0.30208333333333331},{"$f":"DATA!$C$9","v":0.89},{"$f":"DATA!$C$10","v":64},1,407.8125,407.8125,0,"","",0,"","",0,"","","","",null,{"$f":"X919","v":44},"2018-11-03",{"$f":"TEXT(Y924,\"ddd\")","v":"za"},"DD",{"$f":"IFERROR(HLOOKUP(Y924,[1]DATA!$A$1:$NB$5,3,0),\"\")","v":"D3"},null,null,null,null,{"$f":"VLOOKUP(Y924,[1]SRA!$S$4:$Z$368,2,0)","v":0},"","",""]
["44zaMD",{"$f":"VLOOKUP($AA925,DATA!$B$3:$E$6,2,0)","v":"14:30:00"},{"$f":"VLOOKUP($AA925,DATA!$B$3:$E$6,3,0)","v":"22:30:00"},{"$f":"VLOOKUP($AA925,DATA!$B$3:$E$6,4,0)","v":3.125E-2},0.30208333333333337,0.30208333333333337,{"$f":"DATA!$C$9","v":0.89},{"$f":"DATA!$C$10","v":64},1,407.81250000000006,407.81250000000006,0,"","",0,"","",0,"","","","",null,{"$f":"X919","v":44},null,{"$f":"TEXT(Y924,\"ddd\")","v":"za"},"MD",{"$f":"IFERROR(HLOOKUP(Y924,[1]DATA!$A$1:$NB$5,4,0),\"\")","v":"-"},null,null,null,null,{"$f":"VLOOKUP(Y924,[1]SRA!$S$4:$Z$368,3,0)","v":0},"","",""]
["44zaND",{"$f":"VLOOKUP($AA926,DATA!$B$3:$E$6,2,0)","v":"22:30:00"},{"$f":"VLOOKUP($AA926,DATA!$B$3:$E$6,3,0)","v":"06:30:00"},{"$f":"VLOOKUP($AA926,DATA!$B$3:$E$6,4,0)","v":3.125E-2},0.30208333333333326,0.30208333333333326,{"$f":"DATA!$C$9","v":0.89},{"$f":"DATA!$C$10","v":64},1,407.81249999999989,407.81249999999989,0,"","",0,"","",0,"","","","",null,{"$f":"X919","v":44},null,{"$f":"TEXT(Y924,\"ddd\")","v":"za"},"ND",{"$f":"IFERROR(HLOOKUP(Y924,[1]DATA!$A$1:$NB$5,5,0),\"\")","v":"-"},null,null,null,null,{"$f":"VLOOKUP(Y924,[1]SRA!$S$4:$Z$368,4,0)","v":0},"","",""]
["44zoDD",{"$f":"VLOOKUP($AA927,DATA!$B$3:$E$6,2,0)","v":"06:30:00"},{"$f":"VLOOKUP($AA927,DATA!$B$3:$E$6,3,0)","v":"14:30:00"},{"$f":"VLOOKUP($AA927,DATA!$B$3:$E$6,4,0)","v":3.125E-2},0.30208333333333331,0.30208333333333331,{"$f":"DATA!$C$9","v":0.89},{"$f":"DATA!$C$10","v":64},1,407.8125,407.8125,0,"","",0,"","",0,"","","","",null,{"$f":"X919","v":44},"2018-11-04",{"$f":"TEXT(Y927,\"ddd\")","v":"zo"},"DD",{"$f":"IFERROR(HLOOKUP(Y927,[1]DATA!$A$1:$NB$5,3,0),\"\")","v":"-"},null,null,null,null,{"$f":"VLOOKUP(Y927,[1]SRA!$S$4:$Z$368,2,0)","v":0},"","",""]
["44zoMD",{"$f":"VLOOKUP($AA928,DATA!$B$3:$E$6,2,0)","v":"14:30:00"},{"$f":"VLOOKUP($AA928,DATA!$B$3:$E$6,3,0)","v":"22:30:00"},{"$f":"VLOOKUP($AA928,DATA!$B$3:$E$6,4,0)","v":3.125E-2},0.30208333333333337,0.30208333333333337,{"$f":"DATA!$C$9","v":0.89},{"$f":"DATA!$C$10","v":64},1,407.81250000000006,407.81250000000006,0,"","",0,"","",0,"","","","",null,{"$f":"X919","v":44},null,{"$f":"TEXT(Y927,\"ddd\")","v":"zo"},"MD",{"$f":"IFERROR(HLOOKUP(Y927,[1]DATA!$A$1:$NB$5,4,0),\"\")","v":"-"},null,null,null,null,{"$f":"VLOOKUP(Y927,[1]SRA!$S$4:$Z$368,3,0)","v":0},"","",""]
["44zoZND",{"$f":"VLOOKUP($AA929,DATA!$B$3:$E$6,2,0)","v":"00:00:00"},{"$f":"VLOOKUP($AA929,DATA!$B$3:$E$6,3,0)","v":"00:00:00"},{"$f":"VLOOKUP($AA929,DATA!$B$3:$E$6,4,0)","v":0},0,0,{"$f":"DATA!$C$9","v":0.89},{"$f":"DATA!$C$10","v":64},1,0,0,0,"","",0,"","",0,"","","","",null,{"$f":"X919","v":44},null,{"$f":"TEXT(Y927,\"ddd\")","v":"zo"},"ZND",{"$f":"IFERROR(HLOOKUP(Y927,[1]DATA!$A$1:$NB$5,5,0),\"\")","v":"-"},null,null,null,null,{"$f":"VLOOKUP(Y927,[1]SRA!$S$4:$Z$368,4,0)","v":0},"","",""]
["45maDD",{"$f":"VLOOKUP($AA930,DATA!$B$3:$E$6,2,0)","v":"06:30:00"},{"$f":"VLOOKUP($AA930,DATA!$B$3:$E$6,3,0)","v":"14:30:00"},{"$f":"VLOOKUP($AA930,DATA!$B$3:$E$6,4,0)","v":3.125E-2},0.30208333333333331,0.30208333333333331,{"$f":"DATA!$C$9","v":0.89},{"$f":"DATA!$C$10","v":64},1,407.8125,407.8125,0,"","",{"$f":"TIME(INT($AD930/60),INT(MOD($AD930,60)/1),0)","v":0},"","",0,"","","","",null,{"$f":"X940","v":45},"2018-11-05",{"$f":"TEXT(Y930,\"ddd\")","v":"ma"},"DD",{"$f":"IFERROR(HLOOKUP(Y930,[1]DATA!$A$1:$NB$5,3,0),\"\")","v":"D2"},null,null,null,null,{"$f":"VLOOKUP(Y930,[1]SRA!$S$4:$Z$368,2,0)","v":0},"","","",{"$f":"IF(SUMIF(S930:S950,\">0\",K930:K950)=0,\"\",SUMIF(S930:S950,\">0\",K930:K950))","v":""},{"$f":"IF(SUM(S930:S950)=0,\"\",SUM(S930:S950))","v":""},{"$f":"IFERROR(AL930/AK930,\"-\")","v":"-"},{"$f":"IF(SUM(M930:M950)=0,\"0\",SUM(M930:M950))","v":"0"},{"$f":"IFERROR(AN930/AK930,\"-\")","v":"-"},{"$f":"IF(SUM(P930:P950)=0,0,SUM(P930:P950))","v":0},{"$f":"IFERROR(AP930/AK930,\"-\")","v":"-"},{"$f":"IFERROR(AVERAGE(AJ930:AJ950),\"-\")","v":"-"},{"$f":"IFERROR(SUMIF($AB930:$AB950,AS$5,$AJ930:$AJ950)/COUNTIFS($AB930:$AB950,AS$5,$AJ930:$AJ950,\">0\"),\"\")","v":""},"","",{"$f":"IFERROR((AK930-AL930-AN930-AP930),\"-\")","v":"-"},{"$f":"IFERROR((1-AM930-AO930-AQ930), \"-\")","v":"-"},{"$f":"IFERROR((AV930*$AE$2)/60,\"-\")","v":"-"},{"$f":"IFERROR(SUM(AG930:AG950),\"\")","v":0}]
["45maMD",{"$f":"VLOOKUP($AA931,DATA!$B$3:$E$6,2,0)","v":"14:30:00"},{"$f":"VLOOKUP($AA931,DATA!$B$3:$E$6,3,0)","v":"22:30:00"},{"$f":"VLOOKUP($AA931,DATA!$B$3:$E$6,4,0)","v":3.125E-2},0.30208333333333337,0.30208333333333337,{"$f":"DATA!$C$9","v":0.89},{"$f":"DATA!$C$10","v":64},1,407.81250000000006,407.81250000000006,0,"","",{"$f":"TIME(INT(AD931/60),INT(MOD(AD931,60)/1),0)","v":0},"","",0,"","","","",null,{"$f":"X940","v":45},null,{"$f":"TEXT(Y930,\"ddd\")","v":"ma"},"MD",{"$f":"IFERROR(HLOOKUP(Y930,[1]DATA!$A$1:$NB$5,4,0),\"\")","v":"D1"},null,null,null,null,{"$f":"VLOOKUP(Y930,[1]SRA!$S$4:$Z$368,3,0)","v":0},"","",""]
["45maND",{"$f":"VLOOKUP($AA932,DATA!$B$3:$E$6,2,0)","v":"22:30:00"},{"$f":"VLOOKUP($AA932,DATA!$B$3:$E$6,3,0)","v":"06:30:00"},{"$f":"VLOOKUP($AA932,DATA!$B$3:$E$6,4,0)","v":3.125E-2},0.30208333333333326,0.30208333333333326,{"$f":"DATA!$C$9","v":0.89},{"$f":"DATA!$C$10","v":64},1,407.81249999999989,407.81249999999989,0,"","",0,"","",0,"","","","",null,{"$f":"X940","v":45},null,{"$f":"TEXT(Y930,\"ddd\")","v":"ma"},"ND",{"$f":"IFERROR(HLOOKUP(Y930,[1]DATA!$A$1:$NB$5,5,0),\"\")","v":"D3"},null,null,null,null,{"$f":"VLOOKUP(Y930,[1]SRA!$S$4:$Z$368,4,0)","v":0},"","",""]
["45diDD",{"$f":"VLOOKUP($AA933,DATA!$B$3:$E$6,2,0)","v":"06:30:00"},{"$f":"VLOOKUP($AA933,DATA!$B$3:$E$6,3,0)","v":"14:30:00"},{"$f":"VLOOKUP($AA933,DATA!$B$3:$E$6,4,0)","v":3.125E-2},0.30208333333333331,0.30208333333333331,{"$f":"DATA!$C$9","v":0.89},{"$f":"DATA!$C$10","v":64},1,407.8125,407.8125,0,"","",0,"","",0,"","","","",null,{"$f":"X940","v":45},"2018-11-06",{"$f":"TEXT(Y933,\"ddd\")","v":"di"},"DD",{"$f":"IFERROR(HLOOKUP(Y933,[1]DATA!$A$1:$NB$5,3,0),\"\")","v":"D2"},null,null,null,null,{"$f":"VLOOKUP(Y933,[1]SRA!$S$4:$Z$368,2,0)","v":0},"","",""]
["45diMD",{"$f":"VLOOKUP($AA934,DATA!$B$3:$E$6,2,0)","v":"14:30:00"},{"$f":"VLOOKUP($AA934,DATA!$B$3:$E$6,3,0)","v":"22:30:00"},{"$f":"VLOOKUP($AA934,DATA!$B$3:$E$6,4,0)","v":3.125E-2},0.30208333333333337,0.30208333333333337,{"$f":"DATA!$C$9","v":0.89},{"$f":"DATA!$C$10","v":64},1,407.81250000000006,407.81250000000006,0,"","",0,"","",0,"","","","",null,{"$f":"X940","v":45},null,{"$f":"TEXT(Y933,\"ddd\")","v":"di"},"MD",{"$f":"IFERROR(HLOOKUP(Y933,[1]DATA!$A$1:$NB$5,4,0),\"\")","v":"D1"},null,null,null,null,{"$f":"VLOOKUP(Y933,[1]SRA!$S$4:$Z$368,3,0)","v":0},"","",""]
["45diND",{"$f":"VLOOKUP($AA935,DATA!$B$3:$E$6,2,0)","v":"22:30:00"},{"$f":"VLOOKUP($AA935,DATA!$B$3:$E$6,3,0)","v":"06:30:00"},{"$f":"VLOOKUP($AA935,DATA!$B$3:$E$6,4,0)","v":3.125E-2},0.30208333333333326,0.30208333333333326,{"$f":"DATA!$C$9","v":0.89},{"$f":"DATA!$C$10","v":64},1,407.81249999999989,407.81249999999989,0,"","",0,"","",0,"","","","",null,{"$f":"X940","v":45},null,{"$f":"TEXT(Y933,\"ddd\")","v":"di"},"ND",{"$f":"IFERROR(HLOOKUP(Y933,[1]DATA!$A$1:$NB$5,5,0),\"\")","v":"D3"},null,null,null,null,{"$f":"VLOOKUP(Y933,[1]SRA!$S$4:$Z$368,4,0)","v":0},"","",""]
["45woDD",{"$f":"VLOOKUP($AA936,DATA!$B$3:$E$6,2,0)","v":"06:30:00"},{"$f":"VLOOKUP($AA936,DATA!$B$3:$E$6,3,0)","v":"14:30:00"},{"$f":"VLOOKUP($AA936,DATA!$B$3:$E$6,4,0)","v":3.125E-2},0.30208333333333331,0.30208333333333331,{"$f":"DATA!$C$9","v":0.89},{"$f":"DATA!$C$10","v":64},1,407.8125,407.8125,0,"","",0,"","",0,"","","","",null,{"$f":"X940","v":45},"2018-11-07",{"$f":"TEXT(Y936,\"ddd\")","v":"wo"},"DD",{"$f":"IFERROR(HLOOKUP(Y936,[1]DATA!$A$1:$NB$5,3,0),\"\")","v":"D2"},null,null,null,null,{"$f":"VLOOKUP(Y936,[1]SRA!$S$4:$Z$368,2,0)","v":0},"","",""]
["45woMD",{"$f":"VLOOKUP($AA937,DATA!$B$3:$E$6,2,0)","v":"14:30:00"},{"$f":"VLOOKUP($AA937,DATA!$B$3:$E$6,3,0)","v":"22:30:00"},{"$f":"VLOOKUP($AA937,DATA!$B$3:$E$6,4,0)","v":3.125E-2},0.30208333333333337,0.30208333333333337,{"$f":"DATA!$C$9","v":0.89},{"$f":"DATA!$C$10","v":64},1,407.81250000000006,407.81250000000006,0,"","",0,"","",0,"","","","",null,{"$f":"X940","v":45},null,{"$f":"TEXT(Y936,\"ddd\")","v":"wo"},"MD",{"$f":"IFERROR(HLOOKUP(Y936,[1]DATA!$A$1:$NB$5,4,0),\"\")","v":"D1"},null,null,null,null,{"$f":"VLOOKUP(Y936,[1]SRA!$S$4:$Z$368,3,0)","v":0},"","",""]
["45woND",{"$f":"VLOOKUP($AA938,DATA!$B$3:$E$6,2,0)","v":"22:30:00"},{"$f":"VLOOKUP($AA938,DATA!$B$3:$E$6,3,0)","v":"06:30:00"},{"$f":"VLOOKUP($AA938,DATA!$B$3:$E$6,4,0)","v":3.125E-2},0.30208333333333326,0.30208333333333326,{"$f":"DATA!$C$9","v":0.89},{"$f":"DATA!$C$10","v":64},1,407.81249999999989,407.81249999999989,0,"","",0,"","",0,"","","","",null,{"$f":"X940","v":45},null,{"$f":"TEXT(Y936,\"ddd\")","v":"wo"},"ND",{"$f":"IFERROR(HLOOKUP(Y936,[1]DATA!$A$1:$NB$5,5,0),\"\")","v":"D3"},null,null,null,null,{"$f":"VLOOKUP(Y936,[1]SRA!$S$4:$Z$368,4,0)","v":0},"","",""]
["45doDD",{"$f":"VLOOKUP($AA939,DATA!$B$3:$E$6,2,0)","v":"06:30:00"},{"$f":"VLOOKUP($AA939,DATA!$B$3:$E$6,3,0)","v":"14:30:00"},{"$f":"VLOOKUP($AA939,DATA!$B$3:$E$6,4,0)","v":3.125E-2},0.30208333333333331,0.30208333333333331,{"$f":"DATA!$C$9","v":0.89},{"$f":"DATA!$C$10","v":64},1,407.8125,407.8125,0,"","",0,"","",0,"","","","",null,{"$f":"X940","v":45},"2018-11-08",{"$f":"TEXT(Y939,\"ddd\")","v":"do"},"DD",{"$f":"IFERROR(HLOOKUP(Y939,[1]DATA!$A$1:$NB$5,3,0),\"\")","v":"D2"},null,null,null,null,{"$f":"VLOOKUP(Y939,[1]SRA!$S$4:$Z$368,2,0)","v":0},"","",""]
["45doMD",{"$f":"VLOOKUP($AA940,DATA!$B$3:$E$6,2,0)","v":"14:30:00"},{"$f":"VLOOKUP($AA940,DATA!$B$3:$E$6,3,0)","v":"22:30:00"},{"$f":"VLOOKUP($AA940,DATA!$B$3:$E$6,4,0)","v":3.125E-2},0.30208333333333337,0.30208333333333337,{"$f":"DATA!$C$9","v":0.89},{"$f":"DATA!$C$10","v":64},1,407.81250000000006,407.81250000000006,0,"","",0,"","",0,"","","","",null,{"$f":"WEEKNUM($Y930)","v":45},null,{"$f":"TEXT(Y939,\"ddd\")","v":"do"},"MD",{"$f":"IFERROR(HLOOKUP(Y939,[1]DATA!$A$1:$NB$5,4,0),\"\")","v":"D1"},null,null,null,null,{"$f":"VLOOKUP(Y939,[1]SRA!$S$4:$Z$368,3,0)","v":0},"","",""]
["45doND",{"$f":"VLOOKUP($AA941,DATA!$B$3:$E$6,2,0)","v":"22:30:00"},{"$f":"VLOOKUP($AA941,DATA!$B$3:$E$6,3,0)","v":"06:30:00"},{"$f":"VLOOKUP($AA941,DATA!$B$3:$E$6,4,0)","v":3.125E-2},0.30208333333333326,0.30208333333333326,{"$f":"DATA!$C$9","v":0.89},{"$f":"DATA!$C$10","v":64},1,407.81249999999989,407.81249999999989,0,"","",0,"","",0,"","","","",null,{"$f":"X940","v":45},null,{"$f":"TEXT(Y939,\"ddd\")","v":"do"},"ND",{"$f":"IFERROR(HLOOKUP(Y939,[1]DATA!$A$1:$NB$5,5,0),\"\")","v":"D3"},null,null,null,null,{"$f":"VLOOKUP(Y939,[1]SRA!$S$4:$Z$368,4,0)","v":0},"","",""]
["45vrDD",{"$f":"VLOOKUP($AA942,DATA!$B$3:$E$6,2,0)","v":"06:30:00"},{"$f":"VLOOKUP($AA942,DATA!$B$3:$E$6,3,0)","v":"14:30:00"},{"$f":"VLOOKUP($AA942,DATA!$B$3:$E$6,4,0)","v":3.125E-2},0.30208333333333331,0.30208333333333331,{"$f":"DATA!$C$9","v":0.89},{"$f":"DATA!$C$10","v":64},1,407.8125,407.8125,0,"","",0,"","",0,"","","","",null,{"$f":"X940","v":45},"2018-11-09",{"$f":"TEXT(Y942,\"ddd\")","v":"vr"},"DD",{"$f":"IFERROR(HLOOKUP(Y942,[1]DATA!$A$1:$NB$5,3,0),\"\")","v":"D2"},null,null,null,null,{"$f":"VLOOKUP(Y942,[1]SRA!$S$4:$Z$368,2,0)","v":0},"","",""]
["45vrMD",{"$f":"VLOOKUP($AA943,DATA!$B$3:$E$6,2,0)","v":"14:30:00"},{"$f":"VLOOKUP($AA943,DATA!$B$3:$E$6,3,0)","v":"22:30:00"},{"$f":"VLOOKUP($AA943,DATA!$B$3:$E$6,4,0)","v":3.125E-2},0.30208333333333337,0.30208333333333337,{"$f":"DATA!$C$9","v":0.89},{"$f":"DATA!$C$10","v":64},1,407.81250000000006,407.81250000000006,0,"","",0,"","",0,"","","","",null,{"$f":"X940","v":45},null,{"$f":"TEXT(Y942,\"ddd\")","v":"vr"},"MD",{"$f":"IFERROR(HLOOKUP(Y942,[1]DATA!$A$1:$NB$5,4,0),\"\")","v":"D1"},null,null,null,null,{"$f":"VLOOKUP(Y942,[1]SRA!$S$4:$Z$368,3,0)","v":0},"","",""]
[{"$f":"X944&Z944&AA944","v":"45vrND"},{"$f":"VLOOKUP($AA944,DATA!$B$3:$E$6,2,0)","v":"22:30:00"},{"$f":"VLOOKUP($AA944,DATA!$B$3:$E$6,3,0)","v":"06:30:00"},{"$f":"VLOOKUP($AA944,DATA!$B$3:$E$6,4,0)","v":3.125E-2},0.30208333333333326,0.30208333333333326,{"$f":"DATA!$C$9","v":0.89},{"$f":"DATA!$C$10","v":64},1,407.81249999999989,407.81249999999989,0,"","",0,{"$f":"IF($O944*86400/$H944=0,\"\",$O944*86400/$H944)","v":""},"",0,"","","","",null,{"$f":"X940","v":45},null,{"$f":"TEXT(Y942,\"ddd\")","v":"vr"},"ND",{"$f":"IFERROR(HLOOKUP(Y942,[1]DATA!$A$1:$NB$5,5,0),\"\")","v":"D3"},null,null,null,null,{"$f":"VLOOKUP(Y942,[1]SRA!$S$4:$Z$368,4,0)","v":0},"","",""]
["45zaDD",{"$f":"VLOOKUP($AA945,DATA!$B$3:$E$6,2,0)","v":"06:30:00"},{"$f":"VLOOKUP($AA945,DATA!$B$3:$E$6,3,0)","v":"14:30:00"},{"$f":"VLOOKUP($AA945,DATA!$B$3:$E$6,4,0)","v":3.125E-2},0.30208333333333331,0.30208333333333331,{"$f":"DATA!$C$9","v":0.89},{"$f":"DATA!$C$10","v":64},1,407.8125,407.8125,0,"","",0,"","",0,"","","","",null,{"$f":"X940","v":45},"2018-11-10",{"$f":"TEXT(Y945,\"ddd\")","v":"za"},"DD",{"$f":"IFERROR(HLOOKUP(Y945,[1]DATA!$A$1:$NB$5,3,0),\"\")","v":"D2"},null,null,null,null,{"$f":"VLOOKUP(Y945,[1]SRA!$S$4:$Z$368,2,0)","v":0},"","",""]
["45zaMD",{"$f":"VLOOKUP($AA946,DATA!$B$3:$E$6,2,0)","v":"14:30:00"},{"$f":"VLOOKUP($AA946,DATA!$B$3:$E$6,3,0)","v":"22:30:00"},{"$f":"VLOOKUP($AA946,DATA!$B$3:$E$6,4,0)","v":3.125E-2},0.30208333333333337,0.30208333333333337,{"$f":"DATA!$C$9","v":0.89},{"$f":"DATA!$C$10","v":64},1,407.81250000000006,407.81250000000006,0,"","",0,"","",0,"","","","",null,{"$f":"X940","v":45},null,{"$f":"TEXT(Y945,\"ddd\")","v":"za"},"MD",{"$f":"IFERROR(HLOOKUP(Y945,[1]DATA!$A$1:$NB$5,4,0),\"\")","v":"-"},null,null,null,null,{"$f":"VLOOKUP(Y945,[1]SRA!$S$4:$Z$368,3,0)","v":0},"","",""]
["45zaND",{"$f":"VLOOKUP($AA947,DATA!$B$3:$E$6,2,0)","v":"22:30:00"},{"$f":"VLOOKUP($AA947,DATA!$B$3:$E$6,3,0)","v":"06:30:00"},{"$f":"VLOOKUP($AA947,DATA!$B$3:$E$6,4,0)","v":3.125E-2},0.30208333333333326,0.30208333333333326,{"$f":"DATA!$C$9","v":0.89},{"$f":"DATA!$C$10","v":64},1,407.81249999999989,407.81249999999989,0,"","",0,"","",0,"","","","",null,{"$f":"X940","v":45},null,{"$f":"TEXT(Y945,\"ddd\")","v":"za"},"ND",{"$f":"IFERROR(HLOOKUP(Y945,[1]DATA!$A$1:$NB$5,5,0),\"\")","v":"-"},null,null,null,null,{"$f":"VLOOKUP(Y945,[1]SRA!$S$4:$Z$368,4,0)","v":0},"","",""]
["45zoDD",{"$f":"VLOOKUP($AA948,DATA!$B$3:$E$6,2,0)","v":"06:30:00"},{"$f":"VLOOKUP($AA948,DATA!$B$3:$E$6,3,0)","v":"14:30:00"},{"$f":"VLOOKUP($AA948,DATA!$B$3:$E$6,4,0)","v":3.125E-2},0.30208333333333331,0.30208333333333331,{"$f":"DATA!$C$9","v":0.89},{"$f":"DATA!$C$10","v":64},1,407.8125,407.8125,0,"","",0,"","",0,"","","","",null,{"$f":"X940","v":45},"2018-11-11",{"$f":"TEXT(Y948,\"ddd\")","v":"zo"},"DD",{"$f":"IFERROR(HLOOKUP(Y948,[1]DATA!$A$1:$NB$5,3,0),\"\")","v":"-"},null,null,null,null,{"$f":"VLOOKUP(Y948,[1]SRA!$S$4:$Z$368,2,0)","v":0},"","",""]
["45zoMD",{"$f":"VLOOKUP($AA949,DATA!$B$3:$E$6,2,0)","v":"14:30:00"},{"$f":"VLOOKUP($AA949,DATA!$B$3:$E$6,3,0)","v":"22:30:00"},{"$f":"VLOOKUP($AA949,DATA!$B$3:$E$6,4,0)","v":3.125E-2},0.30208333333333337,0.30208333333333337,{"$f":"DATA!$C$9","v":0.89},{"$f":"DATA!$C$10","v":64},1,407.81250000000006,407.81250000000006,0,"","",0,"","",0,"","","","",null,{"$f":"X940","v":45},null,{"$f":"TEXT(Y948,\"ddd\")","v":"zo"},"MD",{"$f":"IFERROR(HLOOKUP(Y948,[1]DATA!$A$1:$NB$5,4,0),\"\")","v":"-"},null,null,null,null,{"$f":"VLOOKUP(Y948,[1]SRA!$S$4:$Z$368,3,0)","v":0},"","",""]
["45zoZND",{"$f":"VLOOKUP($AA950,DATA!$B$3:$E$6,2,0)","v":"00:00:00"},{"$f":"VLOOKUP($AA950,DATA!$B$3:$E$6,3,0)","v":"00:00:00"},{"$f":"VLOOKUP($AA950,DATA!$B$3:$E$6,4,0)","v":0},0,0,{"$f":"DATA!$C$9","v":0.89},{"$f":"DATA!$C$10","v":64},1,0,0,0,"","",0,"","",0,"","","","",null,{"$f":"X940","v":45},null,{"$f":"TEXT(Y948,\"ddd\")","v":"zo"},"ZND",{"$f":"IFERROR(HLOOKUP(Y948,[1]DATA!$A$1:$NB$5,5,0),\"\")","v":"-"},null,null,null,null,{"$f":"VLOOKUP(Y948,[1]SRA!$S$4:$Z$368,4,0)","v":0},"","",""]
["46maDD",{"$f":"VLOOKUP($AA951,DATA!$B$3:$E$6,2,0)","v":"06:30:00"},{"$f":"VLOOKUP($AA951,DATA!$B$3:$E$6,3,0)","v":"14:30:00"},{"$f":"VLOOKUP($AA951,DATA!$B$3:$E$6,4,0)","v":3.125E-2},0.30208333333333331,0.30208333333333331,{"$f":"DATA!$C$9","v":0.89},{"$f":"DATA!$C$10","v":64},1,407.8125,407.8125,0,"","",{"$f":"TIME(INT($AD951/60),INT(MOD($AD951,60)/1),0)","v":0},"","",0,"","","","",null,{"$f":"X961","v":46},"2018-11-12",{"$f":"TEXT(Y951,\"ddd\")","v":"ma"},"DD",{"$f":"IFERROR(HLOOKUP(Y951,[1]DATA!$A$1:$NB$5,3,0),\"\")","v":"D1"},null,null,null,null,{"$f":"VLOOKUP(Y951,[1]SRA!$S$4:$Z$368,2,0)","v":0},"","","",{"$f":"IF(SUMIF(S951:S971,\">0\",K951:K971)=0,\"\",SUMIF(S951:S971,\">0\",K951:K971))","v":""},{"$f":"IF(SUM(S951:S971)=0,\"\",SUM(S951:S971))","v":""},{"$f":"IFERROR(AL951/AK951,\"-\")","v":"-"},{"$f":"IF(SUM(M951:M971)=0,\"0\",SUM(M951:M971))","v":"0"},{"$f":"IFERROR(AN951/AK951,\"-\")","v":"-"},{"$f":"IF(SUM(P951:P971)=0,0,SUM(P951:P971))","v":0},{"$f":"IFERROR(AP951/AK951,\"-\")","v":"-"},{"$f":"IFERROR(AVERAGE(AJ951:AJ971),\"-\")","v":"-"},{"$f":"IFERROR(SUMIF($AB951:$AB971,AS$5,$AJ951:$AJ971)/COUNTIFS($AB951:$AB971,AS$5,$AJ951:$AJ971,\">0\"),\"\")","v":""},"","",{"$f":"IFERROR((AK951-AL951-AN951-AP951),\"-\")","v":"-"},{"$f":"IFERROR((1-AM951-AO951-AQ951), \"-\")","v":"-"},{"$f":"IFERROR((AV951*$AE$2)/60,\"-\")","v":"-"},{"$f":"IFERROR(SUM(AG951:AG971),\"\")","v":0}]
["46maMD",{"$f":"VLOOKUP($AA952,DATA!$B$3:$E$6,2,0)","v":"14:30:00"},{"$f":"VLOOKUP($AA952,DATA!$B$3:$E$6,3,0)","v":"22:30:00"},{"$f":"VLOOKUP($AA952,DATA!$B$3:$E$6,4,0)","v":3.125E-2},0.30208333333333337,0.30208333333333337,{"$f":"DATA!$C$9","v":0.89},{"$f":"DATA!$C$10","v":64},1,407.81250000000006,407.81250000000006,0,"","",{"$f":"TIME(INT(AD952/60),INT(MOD(AD952,60)/1),0)","v":0},"","",0,"","","","",null,{"$f":"X961","v":46},null,{"$f":"TEXT(Y951,\"ddd\")","v":"ma"},"MD",{"$f":"IFERROR(HLOOKUP(Y951,[1]DATA!$A$1:$NB$5,4,0),\"\")","v":"D3"},null,null,null,null,{"$f":"VLOOKUP(Y951,[1]SRA!$S$4:$Z$368,3,0)","v":0},"","",""]
["46maND",{"$f":"VLOOKUP($AA953,DATA!$B$3:$E$6,2,0)","v":"22:30:00"},{"$f":"VLOOKUP($AA953,DATA!$B$3:$E$6,3,0)","v":"06:30:00"},{"$f":"VLOOKUP($AA953,DATA!$B$3:$E$6,4,0)","v":3.125E-2},0.30208333333333326,0.30208333333333326,{"$f":"DATA!$C$9","v":0.89},{"$f":"DATA!$C$10","v":64},1,407.81249999999989,407.81249999999989,0,"","",0,"","",0,"","","","",null,{"$f":"X961","v":46},null,{"$f":"TEXT(Y951,\"ddd\")","v":"ma"},"ND",{"$f":"IFERROR(HLOOKUP(Y951,[1]DATA!$A$1:$NB$5,5,0),\"\")","v":"D2"},null,null,null,null,{"$f":"VLOOKUP(Y951,[1]SRA!$S$4:$Z$368,4,0)","v":0},"","",""]
["46diDD",{"$f":"VLOOKUP($AA954,DATA!$B$3:$E$6,2,0)","v":"06:30:00"},{"$f":"VLOOKUP($AA954,DATA!$B$3:$E$6,3,0)","v":"14:30:00"},{"$f":"VLOOKUP($AA954,DATA!$B$3:$E$6,4,0)","v":3.125E-2},0.30208333333333331,0.30208333333333331,{"$f":"DATA!$C$9","v":0.89},{"$f":"DATA!$C$10","v":64},1,407.8125,407.8125,0,"","",0,"","",0,"","","","",null,{"$f":"X961","v":46},"2018-11-13",{"$f":"TEXT(Y954,\"ddd\")","v":"di"},"DD",{"$f":"IFERROR(HLOOKUP(Y954,[1]DATA!$A$1:$NB$5,3,0),\"\")","v":"D1"},null,null,null,null,{"$f":"VLOOKUP(Y954,[1]SRA!$S$4:$Z$368,2,0)","v":0},"","",""]
["46diMD",{"$f":"VLOOKUP($AA955,DATA!$B$3:$E$6,2,0)","v":"14:30:00"},{"$f":"VLOOKUP($AA955,DATA!$B$3:$E$6,3,0)","v":"22:30:00"},{"$f":"VLOOKUP($AA955,DATA!$B$3:$E$6,4,0)","v":3.125E-2},0.30208333333333337,0.30208333333333337,{"$f":"DATA!$C$9","v":0.89},{"$f":"DATA!$C$10","v":64},1,407.81250000000006,407.81250000000006,0,"","",0,"","",0,"","","","",null,{"$f":"X961","v":46},null,{"$f":"TEXT(Y954,\"ddd\")","v":"di"},"MD",{"$f":"IFERROR(HLOOKUP(Y954,[1]DATA!$A$1:$NB$5,4,0),\"\")","v":"D3"},null,null,null,null,{"$f":"VLOOKUP(Y954,[1]SRA!$S$4:$Z$368,3,0)","v":0},"","",""]
["46diND",{"$f":"VLOOKUP($AA956,DATA!$B$3:$E$6,2,0)","v":"22:30:00"},{"$f":"VLOOKUP($AA956,DATA!$B$3:$E$6,3,0)","v":"06:30:00"},{"$f":"VLOOKUP($AA956,DATA!$B$3:$E$6,4,0)","v":3.125E-2},0.30208333333333326,0.30208333333333326,{"$f":"DATA!$C$9","v":0.89},{"$f":"DATA!$C$10","v":64},1,407.81249999999989,407.81249999999989,0,"","",0,"","",0,"","","","",null,{"$f":"X961","v":46},null,{"$f":"TEXT(Y954,\"ddd\")","v":"di"},"ND",{"$f":"IFERROR(HLOOKUP(Y954,[1]DATA!$A$1:$NB$5,5,0),\"\")","v":"D2"},null,null,null,null,{"$f":"VLOOKUP(Y954,[1]SRA!$S$4:$Z$368,4,0)","v":0},"","",""]
["46woDD",{"$f":"VLOOKUP($AA957,DATA!$B$3:$E$6,2,0)","v":"06:30:00"},{"$f":"VLOOKUP($AA957,DATA!$B$3:$E$6,3,0)","v":"14:30:00"},{"$f":"VLOOKUP($AA957,DATA!$B$3:$E$6,4,0)","v":3.125E-2},0.30208333333333331,0.30208333333333331,{"$f":"DATA!$C$9","v":0.89},{"$f":"DATA!$C$10","v":64},1,407.8125,407.8125,0,"","",0,"","",0,"","","","",null,{"$f":"X961","v":46},{"$f":"Y954+1","v":"2018-11-14"},{"$f":"TEXT(Y957,\"ddd\")","v":"wo"},"DD",{"$f":"IFERROR(HLOOKUP(Y957,[1]DATA!$A$1:$NB$5,3,0),\"\")","v":"D1"},null,null,null,null,{"$f":"VLOOKUP(Y957,[1]SRA!$S$4:$Z$368,2,0)","v":0},"","",""]
["46woMD",{"$f":"VLOOKUP($AA958,DATA!$B$3:$E$6,2,0)","v":"14:30:00"},{"$f":"VLOOKUP($AA958,DATA!$B$3:$E$6,3,0)","v":"22:30:00"},{"$f":"VLOOKUP($AA958,DATA!$B$3:$E$6,4,0)","v":3.125E-2},0.30208333333333337,0.30208333333333337,{"$f":"DATA!$C$9","v":0.89},{"$f":"DATA!$C$10","v":64},1,407.81250000000006,407.81250000000006,0,"","",0,"","",0,"","","","",null,{"$f":"X961","v":46},null,{"$f":"TEXT(Y957,\"ddd\")","v":"wo"},"MD",{"$f":"IFERROR(HLOOKUP(Y957,[1]DATA!$A$1:$NB$5,4,0),\"\")","v":"D3"},null,null,null,null,{"$f":"VLOOKUP(Y957,[1]SRA!$S$4:$Z$368,3,0)","v":0},"","",""]
["46woND",{"$f":"VLOOKUP($AA959,DATA!$B$3:$E$6,2,0)","v":"22:30:00"},{"$f":"VLOOKUP($AA959,DATA!$B$3:$E$6,3,0)","v":"06:30:00"},{"$f":"VLOOKUP($AA959,DATA!$B$3:$E$6,4,0)","v":3.125E-2},0.30208333333333326,0.30208333333333326,{"$f":"DATA!$C$9","v":0.89},{"$f":"DATA!$C$10","v":64},1,407.81249999999989,407.81249999999989,0,"","",0,"","",0,"","","","",null,{"$f":"X961","v":46},null,{"$f":"TEXT(Y957,\"ddd\")","v":"wo"},"ND",{"$f":"IFERROR(HLOOKUP(Y957,[1]DATA!$A$1:$NB$5,5,0),\"\")","v":"D2"},null,null,null,null,{"$f":"VLOOKUP(Y957,[1]SRA!$S$4:$Z$368,4,0)","v":0},"","",""]
["46doDD",{"$f":"VLOOKUP($AA960,DATA!$B$3:$E$6,2,0)","v":"06:30:00"},{"$f":"VLOOKUP($AA960,DATA!$B$3:$E$6,3,0)","v":"14:30:00"},{"$f":"VLOOKUP($AA960,DATA!$B$3:$E$6,4,0)","v":3.125E-2},0.30208333333333331,0.30208333333333331,{"$f":"DATA!$C$9","v":0.89},{"$f":"DATA!$C$10","v":64},1,407.8125,407.8125,0,"","",0,"","",0,"","","","",null,{"$f":"X961","v":46},"2018-11-15",{"$f":"TEXT(Y960,\"ddd\")","v":"do"},"DD",{"$f":"IFERROR(HLOOKUP(Y960,[1]DATA!$A$1:$NB$5,3,0),\"\")","v":"D1"},null,null,null,null,{"$f":"VLOOKUP(Y960,[1]SRA!$S$4:$Z$368,2,0)","v":0},"","",""]
["46doMD",{"$f":"VLOOKUP($AA961,DATA!$B$3:$E$6,2,0)","v":"14:30:00"},{"$f":"VLOOKUP($AA961,DATA!$B$3:$E$6,3,0)","v":"22:30:00"},{"$f":"VLOOKUP($AA961,DATA!$B$3:$E$6,4,0)","v":3.125E-2},0.30208333333333337,0.30208333333333337,{"$f":"DATA!$C$9","v":0.89},{"$f":"DATA!$C$10","v":64},1,407.81250000000006,407.81250000000006,0,"","",0,"","",0,"","","","",null,{"$f":"WEEKNUM($Y951)","v":46},null,{"$f":"TEXT(Y960,\"ddd\")","v":"do"},"MD",{"$f":"IFERROR(HLOOKUP(Y960,[1]DATA!$A$1:$NB$5,4,0),\"\")","v":"D3"},null,null,null,null,{"$f":"VLOOKUP(Y960,[1]SRA!$S$4:$Z$368,3,0)","v":0},"","",""]
["46doND",{"$f":"VLOOKUP($AA962,DATA!$B$3:$E$6,2,0)","v":"22:30:00"},{"$f":"VLOOKUP($AA962,DATA!$B$3:$E$6,3,0)","v":"06:30:00"},{"$f":"VLOOKUP($AA962,DATA!$B$3:$E$6,4,0)","v":3.125E-2},0.30208333333333326,0.30208333333333326,{"$f":"DATA!$C$9","v":0.89},{"$f":"DATA!$C$10","v":64},1,407.81249999999989,407.81249999999989,0,"","",0,"","",0,"","","","",null,{"$f":"X961","v":46},null,{"$f":"TEXT(Y960,\"ddd\")","v":"do"},"ND",{"$f":"IFERROR(HLOOKUP(Y960,[1]DATA!$A$1:$NB$5,5,0),\"\")","v":"D2"},null,null,null,null,{"$f":"VLOOKUP(Y960,[1]SRA!$S$4:$Z$368,4,0)","v":0},"","",""]
["46vrDD",{"$f":"VLOOKUP($AA963,DATA!$B$3:$E$6,2,0)","v":"06:30:00"},{"$f":"VLOOKUP($AA963,DATA!$B$3:$E$6,3,0)","v":"14:30:00"},{"$f":"VLOOKUP($AA963,DATA!$B$3:$E$6,4,0)","v":3.125E-2},0.30208333333333331,0.30208333333333331,{"$f":"DATA!$C$9","v":0.89},{"$f":"DATA!$C$10","v":64},1,407.8125,407.8125,0,"","",0,"","",0,"","","","",null,{"$f":"X961","v":46},"2018-11-16",{"$f":"TEXT(Y963,\"ddd\")","v":"vr"},"DD",{"$f":"IFERROR(HLOOKUP(Y963,[1]DATA!$A$1:$NB$5,3,0),\"\")","v":"D1"},null,null,null,null,{"$f":"VLOOKUP(Y963,[1]SRA!$S$4:$Z$368,2,0)","v":0},"","",""]
["46vrMD",{"$f":"VLOOKUP($AA964,DATA!$B$3:$E$6,2,0)","v":"14:30:00"},{"$f":"VLOOKUP($AA964,DATA!$B$3:$E$6,3,0)","v":"22:30:00"},{"$f":"VLOOKUP($AA964,DATA!$B$3:$E$6,4,0)","v":3.125E-2},0.30208333333333337,0.30208333333333337,{"$f":"DATA!$C$9","v":0.89},{"$f":"DATA!$C$10","v":64},1,407.81250000000006,407.81250000000006,0,"","",0,"","",0,"","","","",null,{"$f":"X961","v":46},null,{"$f":"TEXT(Y963,\"ddd\")","v":"vr"},"MD",{"$f":"IFERROR(HLOOKUP(Y963,[1]DATA!$A$1:$NB$5,4,0),\"\")","v":"D3"},null,null,null,null,{"$f":"VLOOKUP(Y963,[1]SRA!$S$4:$Z$368,3,0)","v":0},"","",""]
["46vrND",{"$f":"VLOOKUP($AA965,DATA!$B$3:$E$6,2,0)","v":"22:30:00"},{"$f":"VLOOKUP($AA965,DATA!$B$3:$E$6,3,0)","v":"06:30:00"},{"$f":"VLOOKUP($AA965,DATA!$B$3:$E$6,4,0)","v":3.125E-2},0.30208333333333326,0.30208333333333326,{"$f":"DATA!$C$9","v":0.89},{"$f":"DATA!$C$10","v":64},1,407.81249999999989,407.81249999999989,0,"","",0,"","",0,"","","","",null,{"$f":"X961","v":46},null,{"$f":"TEXT(Y963,\"ddd\")","v":"vr"},"ND",{"$f":"IFERROR(HLOOKUP(Y963,[1]DATA!$A$1:$NB$5,5,0),\"\")","v":"D2"},null,null,null,null,{"$f":"VLOOKUP(Y963,[1]SRA!$S$4:$Z$368,4,0)","v":0},"","",""]
["46zaDD",{"$f":"VLOOKUP($AA966,DATA!$B$3:$E$6,2,0)","v":"06:30:00"},{"$f":"VLOOKUP($AA966,DATA!$B$3:$E$6,3,0)","v":"14:30:00"},{"$f":"VLOOKUP($AA966,DATA!$B$3:$E$6,4,0)","v":3.125E-2},0.30208333333333331,0.30208333333333331,{"$f":"DATA!$C$9","v":0.89},{"$f":"DATA!$C$10","v":64},1,{"$f":"F966*86400/H966*I966","v":407.8125},{"$f":"E966*86400/H966","v":407.8125},0,"","",0,"","",{"$f":"AF966*AG$2","v":0},{"$f":"IF(AF966-AE966=0,\"\",AF966-AE966)","v":""},"","","",null,{"$f":"X961","v":46},"2018-11-17",{"$f":"TEXT(Y966,\"ddd\")","v":"za"},"DD",{"$f":"IFERROR(HLOOKUP(Y966,[1]DATA!$A$1:$NB$5,3,0),\"\")","v":"D1"},null,null,null,null,{"$f":"VLOOKUP(Y966,[1]SRA!$S$4:$Z$368,2,0)","v":0},{"$f":"IFERROR(S966-J966,\"\")","v":""},{"$f":"IFERROR(IF(S966/(E966*86400/H966)<=0,\"\",S966/(E966*86400/H966)),\"\")","v":""},""]
["46zaMD",{"$f":"VLOOKUP($AA967,DATA!$B$3:$E$6,2,0)","v":"14:30:00"},{"$f":"VLOOKUP($AA967,DATA!$B$3:$E$6,3,0)","v":"22:30:00"},{"$f":"VLOOKUP($AA967,DATA!$B$3:$E$6,4,0)","v":3.125E-2},0.30208333333333337,0.30208333333333337,{"$f":"DATA!$C$9","v":0.89},{"$f":"DATA!$C$10","v":64},1,407.81250000000006,407.81250000000006,{"$f":"TIME(INT($AC967/60),INT(MOD($AC967,60)/1),0)","v":0},{"$f":"IF($L967*86400/$H967=0,\"\",$L967*86400/$H967)","v":""},{"$f":"IFERROR($M967/$K967,\"\")","v":""},0,"",{"$f":"IFERROR($P967/$K967,\"\")","v":""},0,"",{"$f":"IF(IF($AB967=\"D1\",$S967,\"\")=0,\"\",IF($AB967=\"D1\",$S967,\"\"))","v":""},{"$f":"IF(IF($AB967=\"D2\",$S967,\"\")=0,\"\",IF($AB967=\"D2\",$S967,\"\"))","v":""},{"$f":"IF(IF($AB967=\"D3\",$S967,\"\")=0,\"\",IF($AB967=\"D3\",$S967,\"\"))","v":""},null,{"$f":"X961","v":46},null,{"$f":"TEXT(Y966,\"ddd\")","v":"za"},"MD",{"$f":"IFERROR(HLOOKUP(Y966,[1]DATA!$A$1:$NB$5,4,0),\"\")","v":"-"},null,null,null,null,{"$f":"VLOOKUP(Y966,[1]SRA!$S$4:$Z$368,3,0)","v":0},"","",""]
["46zaND",{"$f":"VLOOKUP($AA968,DATA!$B$3:$E$6,2,0)","v":"22:30:00"},{"$f":"VLOOKUP($AA968,DATA!$B$3:$E$6,3,0)","v":"06:30:00"},{"$f":"VLOOKUP($AA968,DATA!$B$3:$E$6,4,0)","v":3.125E-2},0.30208333333333326,0.30208333333333326,{"$f":"DATA!$C$9","v":0.89},{"$f":"DATA!$C$10","v":64},1,407.81249999999989,407.81249999999989,0,"","",0,"","",0,"","","","",null,{"$f":"X961","v":46},null,{"$f":"TEXT(Y966,\"ddd\")","v":"za"},"ND",{"$f":"IFERROR(HLOOKUP(Y966,[1]DATA!$A$1:$NB$5,5,0),\"\")","v":"-"},null,null,null,null,{"$f":"VLOOKUP(Y966,[1]SRA!$S$4:$Z$368,4,0)","v":0},"","",""]
["46zoDD",{"$f":"VLOOKUP($AA969,DATA!$B$3:$E$6,2,0)","v":"06:30:00"},{"$f":"VLOOKUP($AA969,DATA!$B$3:$E$6,3,0)","v":"14:30:00"},{"$f":"VLOOKUP($AA969,DATA!$B$3:$E$6,4,0)","v":3.125E-2},0.30208333333333331,0.30208333333333331,{"$f":"DATA!$C$9","v":0.89},{"$f":"DATA!$C$10","v":64},1,407.8125,407.8125,0,"","",0,"","",0,"","","","",null,{"$f":"X961","v":46},"2018-11-18",{"$f":"TEXT(Y969,\"ddd\")","v":"zo"},"DD",{"$f":"IFERROR(HLOOKUP(Y969,[1]DATA!$A$1:$NB$5,3,0),\"\")","v":"-"},null,null,null,null,{"$f":"VLOOKUP(Y969,[1]SRA!$S$4:$Z$368,2,0)","v":0},"","",""]
["46zoMD",{"$f":"VLOOKUP($AA970,DATA!$B$3:$E$6,2,0)","v":"14:30:00"},{"$f":"VLOOKUP($AA970,DATA!$B$3:$E$6,3,0)","v":"22:30:00"},{"$f":"VLOOKUP($AA970,DATA!$B$3:$E$6,4,0)","v":3.125E-2},0.30208333333333337,0.30208333333333337,{"$f":"DATA!$C$9","v":0.89},{"$f":"DATA!$C$10","v":64},1,407.81250000000006,407.81250000000006,0,"","",0,"","",0,"","","","",null,{"$f":"X961","v":46},null,{"$f":"TEXT(Y969,\"ddd\")","v":"zo"},"MD",{"$f":"IFERROR(HLOOKUP(Y969,[1]DATA!$A$1:$NB$5,4,0),\"\")","v":"-"},null,null,null,null,{"$f":"VLOOKUP(Y969,[1]SRA!$S$4:$Z$368,3,0)","v":0},"","",""]
["46zoZND",{"$f":"VLOOKUP($AA971,DATA!$B$3:$E$6,2,0)","v":"00:00:00"},{"$f":"VLOOKUP($AA971,DATA!$B$3:$E$6,3,0)","v":"00:00:00"},{"$f":"VLOOKUP($AA971,DATA!$B$3:$E$6,4,0)","v":0},0,0,{"$f":"DATA!$C$9","v":0.89},{"$f":"DATA!$C$10","v":64},1,0,0,0,"","",0,"","",0,"","","","",null,{"$f":"X961","v":46},null,{"$f":"TEXT(Y969,\"ddd\")","v":"zo"},"ZND",{"$f":"IFERROR(HLOOKUP(Y969,[1]DATA!$A$1:$NB$5,5,0),\"\")","v":"-"},null,null,null,null,{"$f":"VLOOKUP(Y969,[1]SRA!$S$4:$Z$368,4,0)","v":0},"","",""]
["47maDD",{"$f":"VLOOKUP($AA972,DATA!$B$3:$E$6,2,0)","v":"06:30:00"},{"$f":"VLOOKUP($AA972,DATA!$B$3:$E$6,3,0)","v":"14:30:00"},{"$f":"VLOOKUP($AA972,DATA!$B$3:$E$6,4,0)","v":3.125E-2},0.30208333333333331,0.30208333333333331,{"$f":"DATA!$C$9","v":0.89},{"$f":"DATA!$C$10","v":64},1,407.8125,407.8125,0,"","",{"$f":"TIME(INT($AD972/60),INT(MOD($AD972,60)/1),0)","v":0},"","",0,"","","","",null,{"$f":"X982","v":47},"2018-11-19",{"$f":"TEXT(Y972,\"ddd\")","v":"ma"},"DD",{"$f":"IFERROR(HLOOKUP(Y972,[1]DATA!$A$1:$NB$5,3,0),\"\")","v":"D3"},null,null,null,null,{"$f":"VLOOKUP(Y972,[1]SRA!$S$4:$Z$368,2,0)","v":0},"","","",{"$f":"IF(SUMIF(S972:S992,\">0\",K972:K992)=0,\"\",SUMIF(S972:S992,\">0\",K972:K992))","v":""},{"$f":"IF(SUM(S972:S992)=0,\"\",SUM(S972:S992))","v":""},{"$f":"IFERROR(AL972/AK972,\"-\")","v":"-"},{"$f":"IF(SUM(M972:M992)=0,\"0\",SUM(M972:M992))","v":"0"},{"$f":"IFERROR(AN972/AK972,\"-\")","v":"-"},{"$f":"IF(SUM(P972:P992)=0,0,SUM(P972:P992))","v":0},{"$f":"IFERROR(AP972/AK972,\"-\")","v":"-"},{"$f":"IFERROR(AVERAGE(AJ972:AJ992),\"-\")","v":"-"},{"$f":"IFERROR(SUMIF($AB972:$AB992,AS$5,$AJ972:$AJ992)/COUNTIFS($AB972:$AB992,AS$5,$AJ972:$AJ992,\">0\"),\"\")","v":""},"","",{"$f":"IFERROR((AK972-AL972-AN972-AP972),\"-\")","v":"-"},{"$f":"IFERROR((1-AM972-AO972-AQ972), \"-\")","v":"-"},{"$f":"IFERROR((AV972*$AE$2)/60,\"-\")","v":"-"},{"$f":"IFERROR(SUM(AG972:AG992),\"\")","v":0}]
["47maMD",{"$f":"VLOOKUP($AA973,DATA!$B$3:$E$6,2,0)","v":"14:30:00"},{"$f":"VLOOKUP($AA973,DATA!$B$3:$E$6,3,0)","v":"22:30:00"},{"$f":"VLOOKUP($AA973,DATA!$B$3:$E$6,4,0)","v":3.125E-2},0.30208333333333337,0.30208333333333337,{"$f":"DATA!$C$9","v":0.89},{"$f":"DATA!$C$10","v":64},1,407.81250000000006,407.81250000000006,0,"","",{"$f":"TIME(INT(AD973/60),INT(MOD(AD973,60)/1),0)","v":0},"","",0,"","","","",null,{"$f":"X982","v":47},null,{"$f":"TEXT(Y972,\"ddd\")","v":"ma"},"MD",{"$f":"IFERROR(HLOOKUP(Y972,[1]DATA!$A$1:$NB$5,4,0),\"\")","v":"D2"},null,null,null,null,{"$f":"VLOOKUP(Y972,[1]SRA!$S$4:$Z$368,3,0)","v":0},"","",""]
["47maND",{"$f":"VLOOKUP($AA974,DATA!$B$3:$E$6,2,0)","v":"22:30:00"},{"$f":"VLOOKUP($AA974,DATA!$B$3:$E$6,3,0)","v":"06:30:00"},{"$f":"VLOOKUP($AA974,DATA!$B$3:$E$6,4,0)","v":3.125E-2},0.30208333333333326,0.30208333333333326,{"$f":"DATA!$C$9","v":0.89},{"$f":"DATA!$C$10","v":64},1,407.81249999999989,407.81249999999989,0,"","",0,"","",0,"","","","",null,{"$f":"X982","v":47},null,{"$f":"TEXT(Y972,\"ddd\")","v":"ma"},"ND",{"$f":"IFERROR(HLOOKUP(Y972,[1]DATA!$A$1:$NB$5,5,0),\"\")","v":"D1"},null,null,null,null,{"$f":"VLOOKUP(Y972,[1]SRA!$S$4:$Z$368,4,0)","v":0},"","",""]
["47diDD",{"$f":"VLOOKUP($AA975,DATA!$B$3:$E$6,2,0)","v":"06:30:00"},{"$f":"VLOOKUP($AA975,DATA!$B$3:$E$6,3,0)","v":"14:30:00"},{"$f":"VLOOKUP($AA975,DATA!$B$3:$E$6,4,0)","v":3.125E-2},0.30208333333333331,0.30208333333333331,{"$f":"DATA!$C$9","v":0.89},{"$f":"DATA!$C$10","v":64},1,407.8125,407.8125,0,"","",0,"","",0,"","","","",null,{"$f":"X982","v":47},"2018-11-20",{"$f":"TEXT(Y975,\"ddd\")","v":"di"},"DD",{"$f":"IFERROR(HLOOKUP(Y975,[1]DATA!$A$1:$NB$5,3,0),\"\")","v":"D3"},null,null,null,null,{"$f":"VLOOKUP(Y975,[1]SRA!$S$4:$Z$368,2,0)","v":0},"","",""]
["47diMD",{"$f":"VLOOKUP($AA976,DATA!$B$3:$E$6,2,0)","v":"14:30:00"},{"$f":"VLOOKUP($AA976,DATA!$B$3:$E$6,3,0)","v":"22:30:00"},{"$f":"VLOOKUP($AA976,DATA!$B$3:$E$6,4,0)","v":3.125E-2},0.30208333333333337,0.30208333333333337,{"$f":"DATA!$C$9","v":0.89},{"$f":"DATA!$C$10","v":64},1,407.81250000000006,407.81250000000006,0,"","",0,"","",0,"","","","",null,{"$f":"X982","v":47},null,{"$f":"TEXT(Y975,\"ddd\")","v":"di"},"MD",{"$f":"IFERROR(HLOOKUP(Y975,[1]DATA!$A$1:$NB$5,4,0),\"\")","v":"D2"},null,null,null,null,{"$f":"VLOOKUP(Y975,[1]SRA!$S$4:$Z$368,3,0)","v":0},"","",""]
["47diND",{"$f":"VLOOKUP($AA977,DATA!$B$3:$E$6,2,0)","v":"22:30:00"},{"$f":"VLOOKUP($AA977,DATA!$B$3:$E$6,3,0)","v":"06:30:00"},{"$f":"VLOOKUP($AA977,DATA!$B$3:$E$6,4,0)","v":3.125E-2},0.30208333333333326,0.30208333333333326,{"$f":"DATA!$C$9","v":0.89},{"$f":"DATA!$C$10","v":64},1,407.81249999999989,407.81249999999989,0,"","",0,"","",0,"","","","",null,{"$f":"X982","v":47},null,{"$f":"TEXT(Y975,\"ddd\")","v":"di"},"ND",{"$f":"IFERROR(HLOOKUP(Y975,[1]DATA!$A$1:$NB$5,5,0),\"\")","v":"D1"},null,null,null,null,{"$f":"VLOOKUP(Y975,[1]SRA!$S$4:$Z$368,4,0)","v":0},"","",""]
["47woDD",{"$f":"VLOOKUP($AA978,DATA!$B$3:$E$6,2,0)","v":"06:30:00"},{"$f":"VLOOKUP($AA978,DATA!$B$3:$E$6,3,0)","v":"14:30:00"},{"$f":"VLOOKUP($AA978,DATA!$B$3:$E$6,4,0)","v":3.125E-2},0.30208333333333331,0.30208333333333331,{"$f":"DATA!$C$9","v":0.89},{"$f":"DATA!$C$10","v":64},1,407.8125,407.8125,0,"","",0,"","",0,"","","","",null,{"$f":"X982","v":47},"2018-11-21",{"$f":"TEXT(Y978,\"ddd\")","v":"wo"},"DD",{"$f":"IFERROR(HLOOKUP(Y978,[1]DATA!$A$1:$NB$5,3,0),\"\")","v":"D3"},null,null,null,null,{"$f":"VLOOKUP(Y978,[1]SRA!$S$4:$Z$368,2,0)","v":0},"","",""]
["47woMD",{"$f":"VLOOKUP($AA979,DATA!$B$3:$E$6,2,0)","v":"14:30:00"},{"$f":"VLOOKUP($AA979,DATA!$B$3:$E$6,3,0)","v":"22:30:00"},{"$f":"VLOOKUP($AA979,DATA!$B$3:$E$6,4,0)","v":3.125E-2},0.30208333333333337,0.30208333333333337,{"$f":"DATA!$C$9","v":0.89},{"$f":"DATA!$C$10","v":64},1,407.81250000000006,407.81250000000006,0,"","",0,"","",0,"","","","",null,{"$f":"X982","v":47},null,{"$f":"TEXT(Y978,\"ddd\")","v":"wo"},"MD",{"$f":"IFERROR(HLOOKUP(Y978,[1]DATA!$A$1:$NB$5,4,0),\"\")","v":"D2"},null,null,null,null,{"$f":"VLOOKUP(Y978,[1]SRA!$S$4:$Z$368,3,0)","v":0},"","",""]
["47woND",{"$f":"VLOOKUP($AA980,DATA!$B$3:$E$6,2,0)","v":"22:30:00"},{"$f":"VLOOKUP($AA980,DATA!$B$3:$E$6,3,0)","v":"06:30:00"},{"$f":"VLOOKUP($AA980,DATA!$B$3:$E$6,4,0)","v":3.125E-2},0.30208333333333326,0.30208333333333326,{"$f":"DATA!$C$9","v":0.89},{"$f":"DATA!$C$10","v":64},1,407.81249999999989,407.81249999999989,0,"","",0,"","",0,"","","","",null,{"$f":"X982","v":47},null,{"$f":"TEXT(Y978,\"ddd\")","v":"wo"},"ND",{"$f":"IFERROR(HLOOKUP(Y978,[1]DATA!$A$1:$NB$5,5,0),\"\")","v":"D1"},null,null,null,null,{"$f":"VLOOKUP(Y978,[1]SRA!$S$4:$Z$368,4,0)","v":0},"","",""]
["47doDD",{"$f":"VLOOKUP($AA981,DATA!$B$3:$E$6,2,0)","v":"06:30:00"},{"$f":"VLOOKUP($AA981,DATA!$B$3:$E$6,3,0)","v":"14:30:00"},{"$f":"VLOOKUP($AA981,DATA!$B$3:$E$6,4,0)","v":3.125E-2},0.30208333333333331,0.30208333333333331,{"$f":"DATA!$C$9","v":0.89},{"$f":"DATA!$C$10","v":64},1,407.8125,407.8125,0,"","",0,"","",0,"","","","",null,{"$f":"X982","v":47},"2018-11-22",{"$f":"TEXT(Y981,\"ddd\")","v":"do"},"DD",{"$f":"IFERROR(HLOOKUP(Y981,[1]DATA!$A$1:$NB$5,3,0),\"\")","v":"D3"},null,null,null,null,{"$f":"VLOOKUP(Y981,[1]SRA!$S$4:$Z$368,2,0)","v":0},"","",""]
["47doMD",{"$f":"VLOOKUP($AA982,DATA!$B$3:$E$6,2,0)","v":"14:30:00"},{"$f":"VLOOKUP($AA982,DATA!$B$3:$E$6,3,0)","v":"22:30:00"},{"$f":"VLOOKUP($AA982,DATA!$B$3:$E$6,4,0)","v":3.125E-2},0.30208333333333337,0.30208333333333337,{"$f":"DATA!$C$9","v":0.89},{"$f":"DATA!$C$10","v":64},1,407.81250000000006,407.81250000000006,0,"","",0,"","",0,"","","","",null,{"$f":"WEEKNUM($Y972)","v":47},null,{"$f":"TEXT(Y981,\"ddd\")","v":"do"},"MD",{"$f":"IFERROR(HLOOKUP(Y981,[1]DATA!$A$1:$NB$5,4,0),\"\")","v":"D2"},null,null,null,null,{"$f":"VLOOKUP(Y981,[1]SRA!$S$4:$Z$368,3,0)","v":0},"","",""]
["47doND",{"$f":"VLOOKUP($AA983,DATA!$B$3:$E$6,2,0)","v":"22:30:00"},{"$f":"VLOOKUP($AA983,DATA!$B$3:$E$6,3,0)","v":"06:30:00"},{"$f":"VLOOKUP($AA983,DATA!$B$3:$E$6,4,0)","v":3.125E-2},0.30208333333333326,0.30208333333333326,{"$f":"DATA!$C$9","v":0.89},{"$f":"DATA!$C$10","v":64},1,407.81249999999989,407.81249999999989,0,"","",0,"","",0,"","","","",null,{"$f":"X982","v":47},null,{"$f":"TEXT(Y981,\"ddd\")","v":"do"},"ND",{"$f":"IFERROR(HLOOKUP(Y981,[1]DATA!$A$1:$NB$5,5,0),\"\")","v":"D1"},null,null,null,null,{"$f":"VLOOKUP(Y981,[1]SRA!$S$4:$Z$368,4,0)","v":0},"","",""]
["47vrDD",{"$f":"VLOOKUP($AA984,DATA!$B$3:$E$6,2,0)","v":"06:30:00"},{"$f":"VLOOKUP($AA984,DATA!$B$3:$E$6,3,0)","v":"14:30:00"},{"$f":"VLOOKUP($AA984,DATA!$B$3:$E$6,4,0)","v":3.125E-2},0.30208333333333331,0.30208333333333331,{"$f":"DATA!$C$9","v":0.89},{"$f":"DATA!$C$10","v":64},1,407.8125,407.8125,0,"","",0,"","",0,"","","","",null,{"$f":"X982","v":47},"2018-11-23",{"$f":"TEXT(Y984,\"ddd\")","v":"vr"},"DD",{"$f":"IFERROR(HLOOKUP(Y984,[1]DATA!$A$1:$NB$5,3,0),\"\")","v":"D3"},null,null,null,null,{"$f":"VLOOKUP(Y984,[1]SRA!$S$4:$Z$368,2,0)","v":0},"","",""]
["47vrMD",{"$f":"VLOOKUP($AA985,DATA!$B$3:$E$6,2,0)","v":"14:30:00"},{"$f":"VLOOKUP($AA985,DATA!$B$3:$E$6,3,0)","v":"22:30:00"},{"$f":"VLOOKUP($AA985,DATA!$B$3:$E$6,4,0)","v":3.125E-2},0.30208333333333337,0.30208333333333337,{"$f":"DATA!$C$9","v":0.89},{"$f":"DATA!$C$10","v":64},1,407.81250000000006,407.81250000000006,0,"","",0,"","",0,"","","","",null,{"$f":"X982","v":47},null,{"$f":"TEXT(Y984,\"ddd\")","v":"vr"},"MD",{"$f":"IFERROR(HLOOKUP(Y984,[1]DATA!$A$1:$NB$5,4,0),\"\")","v":"D2"},null,null,null,null,{"$f":"VLOOKUP(Y984,[1]SRA!$S$4:$Z$368,3,0)","v":0},"","",""]
["47vrND",{"$f":"VLOOKUP($AA986,DATA!$B$3:$E$6,2,0)","v":"22:30:00"},{"$f":"VLOOKUP($AA986,DATA!$B$3:$E$6,3,0)","v":"06:30:00"},{"$f":"VLOOKUP($AA986,DATA!$B$3:$E$6,4,0)","v":3.125E-2},0.30208333333333326,0.30208333333333326,{"$f":"DATA!$C$9","v":0.89},{"$f":"DATA!$C$10","v":64},1,407.81249999999989,407.81249999999989,0,"","",0,"","",0,"","","","",null,{"$f":"X982","v":47},null,{"$f":"TEXT(Y984,\"ddd\")","v":"vr"},"ND",{"$f":"IFERROR(HLOOKUP(Y984,[1]DATA!$A$1:$NB$5,5,0),\"\")","v":"D2"},null,null,null,null,{"$f":"VLOOKUP(Y984,[1]SRA!$S$4:$Z$368,4,0)","v":0},"","",""]
["47zaDD",{"$f":"VLOOKUP($AA987,DATA!$B$3:$E$6,2,0)","v":"06:30:00"},{"$f":"VLOOKUP($AA987,DATA!$B$3:$E$6,3,0)","v":"14:30:00"},{"$f":"VLOOKUP($AA987,DATA!$B$3:$E$6,4,0)","v":3.125E-2},0.30208333333333331,0.30208333333333331,{"$f":"DATA!$C$9","v":0.89},{"$f":"DATA!$C$10","v":64},1,407.8125,407.8125,0,"","",0,"","",0,"","","","",null,{"$f":"X982","v":47},"2018-11-24",{"$f":"TEXT(Y987,\"ddd\")","v":"za"},"DD",{"$f":"IFERROR(HLOOKUP(Y987,[1]DATA!$A$1:$NB$5,3,0),\"\")","v":"D3"},null,null,null,null,{"$f":"VLOOKUP(Y987,[1]SRA!$S$4:$Z$368,2,0)","v":0},"","",{"$f":"IFERROR(R987/(R987+AG987),\"\")","v":""}]
["47zaMD",{"$f":"VLOOKUP($AA988,DATA!$B$3:$E$6,2,0)","v":"14:30:00"},{"$f":"VLOOKUP($AA988,DATA!$B$3:$E$6,3,0)","v":"22:30:00"},{"$f":"VLOOKUP($AA988,DATA!$B$3:$E$6,4,0)","v":3.125E-2},{"$f":"(C988-B988+(B988>C988))-D988","v":0.30208333333333337},{"$f":"E988-O988-L988","v":0.30208333333333337},{"$f":"DATA!$C$9","v":0.89},{"$f":"DATA!$C$10","v":64},1,407.81250000000006,407.81250000000006,0,"","",0,"","",0,"","","","",null,{"$f":"X982","v":47},null,{"$f":"TEXT(Y987,\"ddd\")","v":"za"},"MD",{"$f":"IFERROR(HLOOKUP(Y987,[1]DATA!$A$1:$NB$5,4,0),\"\")","v":"-"},null,null,null,null,{"$f":"VLOOKUP(Y987,[1]SRA!$S$4:$Z$368,3,0)","v":0},"","",""]
["47zaND",{"$f":"VLOOKUP($AA989,DATA!$B$3:$E$6,2,0)","v":"22:30:00"},{"$f":"VLOOKUP($AA989,DATA!$B$3:$E$6,3,0)","v":"06:30:00"},{"$f":"VLOOKUP($AA989,DATA!$B$3:$E$6,4,0)","v":3.125E-2},0.30208333333333326,0.30208333333333326,{"$f":"DATA!$C$9","v":0.89},{"$f":"DATA!$C$10","v":64},1,407.81249999999989,407.81249999999989,0,"","",0,"","",0,"","","","",null,{"$f":"X982","v":47},null,{"$f":"TEXT(Y987,\"ddd\")","v":"za"},"ND",{"$f":"IFERROR(HLOOKUP(Y987,[1]DATA!$A$1:$NB$5,5,0),\"\")","v":"-"},null,null,null,null,{"$f":"VLOOKUP(Y987,[1]SRA!$S$4:$Z$368,4,0)","v":0},"","",""]
["47zoDD",{"$f":"VLOOKUP($AA990,DATA!$B$3:$E$6,2,0)","v":"06:30:00"},{"$f":"VLOOKUP($AA990,DATA!$B$3:$E$6,3,0)","v":"14:30:00"},{"$f":"VLOOKUP($AA990,DATA!$B$3:$E$6,4,0)","v":3.125E-2},0.30208333333333331,0.30208333333333331,{"$f":"DATA!$C$9","v":0.89},{"$f":"DATA!$C$10","v":64},1,407.8125,407.8125,0,"","",0,"","",0,"","","","",null,{"$f":"X982","v":47},"2018-11-25",{"$f":"TEXT(Y990,\"ddd\")","v":"zo"},"DD",{"$f":"IFERROR(HLOOKUP(Y990,[1]DATA!$A$1:$NB$5,3,0),\"\")","v":"-"},null,null,null,null,{"$f":"VLOOKUP(Y990,[1]SRA!$S$4:$Z$368,2,0)","v":0},"","",""]
["47zoMD",{"$f":"VLOOKUP($AA991,DATA!$B$3:$E$6,2,0)","v":"14:30:00"},{"$f":"VLOOKUP($AA991,DATA!$B$3:$E$6,3,0)","v":"22:30:00"},{"$f":"VLOOKUP($AA991,DATA!$B$3:$E$6,4,0)","v":3.125E-2},0.30208333333333337,0.30208333333333337,{"$f":"DATA!$C$9","v":0.89},{"$f":"DATA!$C$10","v":64},1,407.81250000000006,407.81250000000006,0,"","",0,"","",0,"","","","",null,{"$f":"X982","v":47},null,{"$f":"TEXT(Y990,\"ddd\")","v":"zo"},"MD",{"$f":"IFERROR(HLOOKUP(Y990,[1]DATA!$A$1:$NB$5,4,0),\"\")","v":"-"},null,null,null,null,{"$f":"VLOOKUP(Y990,[1]SRA!$S$4:$Z$368,3,0)","v":0},"","",""]
["47zoZND",{"$f":"VLOOKUP($AA992,DATA!$B$3:$E$6,2,0)","v":"00:00:00"},{"$f":"VLOOKUP($AA992,DATA!$B$3:$E$6,3,0)","v":"00:00:00"},{"$f":"VLOOKUP($AA992,DATA!$B$3:$E$6,4,0)","v":0},0,0,{"$f":"DATA!$C$9","v":0.89},{"$f":"DATA!$C$10","v":64},1,0,0,0,"","",0,"","",0,"","","","",null,{"$f":"X982","v":47},null,{"$f":"TEXT(Y990,\"ddd\")","v":"zo"},"ZND",{"$f":"IFERROR(HLOOKUP(Y990,[1]DATA!$A$1:$NB$5,5,0),\"\")","v":"-"},null,null,null,null,{"$f":"VLOOKUP(Y990,[1]SRA!$S$4:$Z$368,4,0)","v":0},"","",""]
["48maDD",{"$f":"VLOOKUP($AA993,DATA!$B$3:$E$6,2,0)","v":"06:30:00"},{"$f":"VLOOKUP($AA993,DATA!$B$3:$E$6,3,0)","v":"14:30:00"},{"$f":"VLOOKUP($AA993,DATA!$B$3:$E$6,4,0)","v":3.125E-2},0.30208333333333331,0.30208333333333331,{"$f":"DATA!$C$9","v":0.89},{"$f":"DATA!$C$10","v":64},1,407.8125,407.8125,0,"","",{"$f":"TIME(INT($AD993/60),INT(MOD($AD993,60)/1),0)","v":0},"","",0,"","","","",null,{"$f":"X1003","v":48},"2018-11-26",{"$f":"TEXT(Y993,\"ddd\")","v":"ma"},"DD",{"$f":"IFERROR(HLOOKUP(Y993,[1]DATA!$A$1:$NB$5,3,0),\"\")","v":"D2"},null,null,null,null,{"$f":"VLOOKUP(Y993,[1]SRA!$S$4:$Z$368,2,0)","v":0},"","","",{"$f":"IF(SUMIF(S993:S1013,\">0\",K993:K1013)=0,\"\",SUMIF(S993:S1013,\">0\",K993:K1013))","v":""},{"$f":"IF(SUM(S993:S1013)=0,\"\",SUM(S993:S1013))","v":""},{"$f":"IFERROR(AL993/AK993,\"-\")","v":"-"},{"$f":"IF(SUM(M993:M1013)=0,\"0\",SUM(M993:M1013))","v":"0"},{"$f":"IFERROR(AN993/AK993,\"-\")","v":"-"},{"$f":"IF(SUM(P993:P1013)=0,0,SUM(P993:P1013))","v":0},{"$f":"IFERROR(AP993/AK993,\"-\")","v":"-"},{"$f":"IFERROR(AVERAGE(AJ993:AJ1013),\"-\")","v":"-"},{"$f":"IFERROR(SUMIF($AB993:$AB1013,AS$5,$AJ993:$AJ1013)/COUNTIFS($AB993:$AB1013,AS$5,$AJ993:$AJ1013,\">0\"),\"\")","v":""},"","",{"$f":"IFERROR((AK993-AL993-AN993-AP993),\"-\")","v":"-"},{"$f":"IFERROR((1-AM993-AO993-AQ993), \"-\")","v":"-"},{"$f":"IFERROR((AV993*$AE$2)/60,\"-\")","v":"-"},{"$f":"IFERROR(SUM(AG993:AG1013),\"\")","v":0}]
["48maMD",{"$f":"VLOOKUP($AA994,DATA!$B$3:$E$6,2,0)","v":"14:30:00"},{"$f":"VLOOKUP($AA994,DATA!$B$3:$E$6,3,0)","v":"22:30:00"},{"$f":"VLOOKUP($AA994,DATA!$B$3:$E$6,4,0)","v":3.125E-2},0.30208333333333337,0.30208333333333337,{"$f":"DATA!$C$9","v":0.89},{"$f":"DATA!$C$10","v":64},1,407.81250000000006,407.81250000000006,0,"","",{"$f":"TIME(INT(AD994/60),INT(MOD(AD994,60)/1),0)","v":0},"","",0,"","","","",null,{"$f":"X1003","v":48},null,{"$f":"TEXT(Y993,\"ddd\")","v":"ma"},"MD",{"$f":"IFERROR(HLOOKUP(Y993,[1]DATA!$A$1:$NB$5,4,0),\"\")","v":"D1"},null,null,null,null,{"$f":"VLOOKUP(Y993,[1]SRA!$S$4:$Z$368,3,0)","v":0},"","",""]
["48maND",{"$f":"VLOOKUP($AA995,DATA!$B$3:$E$6,2,0)","v":"22:30:00"},{"$f":"VLOOKUP($AA995,DATA!$B$3:$E$6,3,0)","v":"06:30:00"},{"$f":"VLOOKUP($AA995,DATA!$B$3:$E$6,4,0)","v":3.125E-2},0.30208333333333326,0.30208333333333326,{"$f":"DATA!$C$9","v":0.89},{"$f":"DATA!$C$10","v":64},1,407.81249999999989,407.81249999999989,0,"","",0,"","",0,"","","","",null,{"$f":"X1003","v":48},null,{"$f":"TEXT(Y993,\"ddd\")","v":"ma"},"ND",{"$f":"IFERROR(HLOOKUP(Y993,[1]DATA!$A$1:$NB$5,5,0),\"\")","v":"D3"},null,null,null,null,{"$f":"VLOOKUP(Y993,[1]SRA!$S$4:$Z$368,4,0)","v":0},"","",""]
["48diDD",{"$f":"VLOOKUP($AA996,DATA!$B$3:$E$6,2,0)","v":"06:30:00"},{"$f":"VLOOKUP($AA996,DATA!$B$3:$E$6,3,0)","v":"14:30:00"},{"$f":"VLOOKUP($AA996,DATA!$B$3:$E$6,4,0)","v":3.125E-2},0.30208333333333331,0.30208333333333331,{"$f":"DATA!$C$9","v":0.89},{"$f":"DATA!$C$10","v":64},1,407.8125,407.8125,0,"","",0,"","",0,"","","","",null,{"$f":"X1003","v":48},"2018-11-27",{"$f":"TEXT(Y996,\"ddd\")","v":"di"},"DD",{"$f":"IFERROR(HLOOKUP(Y996,[1]DATA!$A$1:$NB$5,3,0),\"\")","v":"D2"},null,null,null,null,{"$f":"VLOOKUP(Y996,[1]SRA!$S$4:$Z$368,2,0)","v":0},"","",""]
["48diMD",{"$f":"VLOOKUP($AA997,DATA!$B$3:$E$6,2,0)","v":"14:30:00"},{"$f":"VLOOKUP($AA997,DATA!$B$3:$E$6,3,0)","v":"22:30:00"},{"$f":"VLOOKUP($AA997,DATA!$B$3:$E$6,4,0)","v":3.125E-2},0.30208333333333337,0.30208333333333337,{"$f":"DATA!$C$9","v":0.89},{"$f":"DATA!$C$10","v":64},1,407.81250000000006,407.81250000000006,0,"","",0,"","",0,"","","","",null,{"$f":"X1003","v":48},null,{"$f":"TEXT(Y996,\"ddd\")","v":"di"},"MD",{"$f":"IFERROR(HLOOKUP(Y996,[1]DATA!$A$1:$NB$5,4,0),\"\")","v":"D1"},null,null,null,null,{"$f":"VLOOKUP(Y996,[1]SRA!$S$4:$Z$368,3,0)","v":0},"","",""]
["48diND",{"$f":"VLOOKUP($AA998,DATA!$B$3:$E$6,2,0)","v":"22:30:00"},{"$f":"VLOOKUP($AA998,DATA!$B$3:$E$6,3,0)","v":"06:30:00"},{"$f":"VLOOKUP($AA998,DATA!$B$3:$E$6,4,0)","v":3.125E-2},0.30208333333333326,0.30208333333333326,{"$f":"DATA!$C$9","v":0.89},{"$f":"DATA!$C$10","v":64},1,407.81249999999989,407.81249999999989,0,"","",0,"","",0,"","","","",null,{"$f":"X1003","v":48},null,{"$f":"TEXT(Y996,\"ddd\")","v":"di"},"ND",{"$f":"IFERROR(HLOOKUP(Y996,[1]DATA!$A$1:$NB$5,5,0),\"\")","v":"D3"},null,null,null,null,{"$f":"VLOOKUP(Y996,[1]SRA!$S$4:$Z$368,4,0)","v":0},"","",""]
["48woDD",{"$f":"VLOOKUP($AA999,DATA!$B$3:$E$6,2,0)","v":"06:30:00"},{"$f":"VLOOKUP($AA999,DATA!$B$3:$E$6,3,0)","v":"14:30:00"},{"$f":"VLOOKUP($AA999,DATA!$B$3:$E$6,4,0)","v":3.125E-2},0.30208333333333331,0.30208333333333331,{"$f":"DATA!$C$9","v":0.89},{"$f":"DATA!$C$10","v":64},1,407.8125,407.8125,0,"","",0,"","",0,"","","","",null,{"$f":"X1003","v":48},"2018-11-28",{"$f":"TEXT(Y999,\"ddd\")","v":"wo"},"DD",{"$f":"IFERROR(HLOOKUP(Y999,[1]DATA!$A$1:$NB$5,3,0),\"\")","v":"D2"},null,null,null,null,{"$f":"VLOOKUP(Y999,[1]SRA!$S$4:$Z$368,2,0)","v":0},"","",""]
["48woMD",{"$f":"VLOOKUP($AA1000,DATA!$B$3:$E$6,2,0)","v":"14:30:00"},{"$f":"VLOOKUP($AA1000,DATA!$B$3:$E$6,3,0)","v":"22:30:00"},{"$f":"VLOOKUP($AA1000,DATA!$B$3:$E$6,4,0)","v":3.125E-2},0.30208333333333337,0.30208333333333337,{"$f":"DATA!$C$9","v":0.89},{"$f":"DATA!$C$10","v":64},1,407.81250000000006,407.81250000000006,0,"","",0,"","",0,"","","","",null,{"$f":"X1003","v":48},null,{"$f":"TEXT(Y999,\"ddd\")","v":"wo"},"MD",{"$f":"IFERROR(HLOOKUP(Y999,[1]DATA!$A$1:$NB$5,4,0),\"\")","v":"D1"},null,null,null,null,{"$f":"VLOOKUP(Y999,[1]SRA!$S$4:$Z$368,3,0)","v":0},"","",""]
["48woND",{"$f":"VLOOKUP($AA1001,DATA!$B$3:$E$6,2,0)","v":"22:30:00"},{"$f":"VLOOKUP($AA1001,DATA!$B$3:$E$6,3,0)","v":"06:30:00"},{"$f":"VLOOKUP($AA1001,DATA!$B$3:$E$6,4,0)","v":3.125E-2},0.30208333333333326,0.30208333333333326,{"$f":"DATA!$C$9","v":0.89},{"$f":"DATA!$C$10","v":64},1,407.81249999999989,407.81249999999989,0,"","",0,"","",0,"","","","",null,{"$f":"X1003","v":48},null,{"$f":"TEXT(Y999,\"ddd\")","v":"wo"},"ND",{"$f":"IFERROR(HLOOKUP(Y999,[1]DATA!$A$1:$NB$5,5,0),\"\")","v":"D3"},null,null,null,null,{"$f":"VLOOKUP(Y999,[1]SRA!$S$4:$Z$368,4,0)","v":0},"","",""]
["48doDD",{"$f":"VLOOKUP($AA1002,DATA!$B$3:$E$6,2,0)","v":"06:30:00"},{"$f":"VLOOKUP($AA1002,DATA!$B$3:$E$6,3,0)","v":"14:30:00"},{"$f":"VLOOKUP($AA1002,DATA!$B$3:$E$6,4,0)","v":3.125E-2},0.30208333333333331,0.30208333333333331,{"$f":"DATA!$C$9","v":0.89},{"$f":"DATA!$C$10","v":64},1,407.8125,407.8125,0,"","",0,"","",0,"","","","",null,{"$f":"X1003","v":48},"2018-11-29",{"$f":"TEXT(Y1002,\"ddd\")","v":"do"},"DD",{"$f":"IFERROR(HLOOKUP(Y1002,[1]DATA!$A$1:$NB$5,3,0),\"\")","v":"D2"},null,null,null,null,{"$f":"VLOOKUP(Y1002,[1]SRA!$S$4:$Z$368,2,0)","v":0},"","",""]
["48doMD",{"$f":"VLOOKUP($AA1003,DATA!$B$3:$E$6,2,0)","v":"14:30:00"},{"$f":"VLOOKUP($AA1003,DATA!$B$3:$E$6,3,0)","v":"22:30:00"},{"$f":"VLOOKUP($AA1003,DATA!$B$3:$E$6,4,0)","v":3.125E-2},0.30208333333333337,0.30208333333333337,{"$f":"DATA!$C$9","v":0.89},{"$f":"DATA!$C$10","v":64},1,407.81250000000006,407.81250000000006,0,"","",0,"","",0,"","","","",null,{"$f":"WEEKNUM($Y993)","v":48},null,{"$f":"TEXT(Y1002,\"ddd\")","v":"do"},"MD",{"$f":"IFERROR(HLOOKUP(Y1002,[1]DATA!$A$1:$NB$5,4,0),\"\")","v":"D1"},null,null,null,null,{"$f":"VLOOKUP(Y1002,[1]SRA!$S$4:$Z$368,3,0)","v":0},"","",""]
["48doND",{"$f":"VLOOKUP($AA1004,DATA!$B$3:$E$6,2,0)","v":"22:30:00"},{"$f":"VLOOKUP($AA1004,DATA!$B$3:$E$6,3,0)","v":"06:30:00"},{"$f":"VLOOKUP($AA1004,DATA!$B$3:$E$6,4,0)","v":3.125E-2},0.30208333333333326,0.30208333333333326,{"$f":"DATA!$C$9","v":0.89},{"$f":"DATA!$C$10","v":64},1,407.81249999999989,407.81249999999989,0,"","",0,"","",0,"","","","",null,{"$f":"X1003","v":48},null,{"$f":"TEXT(Y1002,\"ddd\")","v":"do"},"ND",{"$f":"IFERROR(HLOOKUP(Y1002,[1]DATA!$A$1:$NB$5,5,0),\"\")","v":"D3"},null,null,null,null,{"$f":"VLOOKUP(Y1002,[1]SRA!$S$4:$Z$368,4,0)","v":0},"","",""]
["48vrDD",{"$f":"VLOOKUP($AA1005,DATA!$B$3:$E$6,2,0)","v":"06:30:00"},{"$f":"VLOOKUP($AA1005,DATA!$B$3:$E$6,3,0)","v":"14:30:00"},{"$f":"VLOOKUP($AA1005,DATA!$B$3:$E$6,4,0)","v":3.125E-2},0.30208333333333331,0.30208333333333331,{"$f":"DATA!$C$9","v":0.89},{"$f":"DATA!$C$10","v":64},1,407.8125,407.8125,0,"","",0,"","",0,"","","","",null,{"$f":"X1003","v":48},"2018-11-30",{"$f":"TEXT(Y1005,\"ddd\")","v":"vr"},"DD",{"$f":"IFERROR(HLOOKUP(Y1005,[1]DATA!$A$1:$NB$5,3,0),\"\")","v":"D2"},null,null,null,null,{"$f":"VLOOKUP(Y1005,[1]SRA!$S$4:$Z$368,2,0)","v":0},"","",""]
["48vrMD",{"$f":"VLOOKUP($AA1006,DATA!$B$3:$E$6,2,0)","v":"14:30:00"},{"$f":"VLOOKUP($AA1006,DATA!$B$3:$E$6,3,0)","v":"22:30:00"},{"$f":"VLOOKUP($AA1006,DATA!$B$3:$E$6,4,0)","v":3.125E-2},0.30208333333333337,0.30208333333333337,{"$f":"DATA!$C$9","v":0.89},{"$f":"DATA!$C$10","v":64},1,407.81250000000006,407.81250000000006,0,"","",0,"","",0,"","","","",null,{"$f":"X1003","v":48},null,{"$f":"TEXT(Y1005,\"ddd\")","v":"vr"},"MD",{"$f":"IFERROR(HLOOKUP(Y1005,[1]DATA!$A$1:$NB$5,4,0),\"\")","v":"D1"},null,null,null,null,{"$f":"VLOOKUP(Y1005,[1]SRA!$S$4:$Z$368,3,0)","v":0},"","",""]
["48vrND",{"$f":"VLOOKUP($AA1007,DATA!$B$3:$E$6,2,0)","v":"22:30:00"},{"$f":"VLOOKUP($AA1007,DATA!$B$3:$E$6,3,0)","v":"06:30:00"},{"$f":"VLOOKUP($AA1007,DATA!$B$3:$E$6,4,0)","v":3.125E-2},0.30208333333333326,0.30208333333333326,{"$f":"DATA!$C$9","v":0.89},{"$f":"DATA!$C$10","v":64},1,407.81249999999989,407.81249999999989,0,"","",0,"","",0,"","","","",null,{"$f":"X1003","v":48},null,{"$f":"TEXT(Y1005,\"ddd\")","v":"vr"},"ND",{"$f":"IFERROR(HLOOKUP(Y1005,[1]DATA!$A$1:$NB$5,5,0),\"\")","v":"D3"},null,null,null,null,{"$f":"VLOOKUP(Y1005,[1]SRA!$S$4:$Z$368,4,0)","v":0},"","",""]
[{"$f":"X1008&Z1008&AA1008","v":"48zaDD"},{"$f":"VLOOKUP($AA1008,DATA!$B$3:$E$6,2,0)","v":"06:30:00"},{"$f":"VLOOKUP($AA1008,DATA!$B$3:$E$6,3,0)","v":"14:30:00"},{"$f":"VLOOKUP($AA1008,DATA!$B$3:$E$6,4,0)","v":3.125E-2},0.30208333333333331,0.30208333333333331,{"$f":"DATA!$C$9","v":0.89},{"$f":"DATA!$C$10","v":64},1,407.8125,407.8125,0,"","",0,{"$f":"IF($O1008*86400/$H1008=0,\"\",$O1008*86400/$H1008)","v":""},"",0,"","","","",null,{"$f":"X1003","v":48},"2018-12-01",{"$f":"TEXT(Y1008,\"ddd\")","v":"za"},"DD",{"$f":"IFERROR(HLOOKUP(Y1008,[1]DATA!$A$1:$NB$5,3,0),\"\")","v":"D2"},null,null,null,null,{"$f":"VLOOKUP(Y1008,[1]SRA!$S$4:$Z$368,2,0)","v":0},"","",""]
["48zaMD",{"$f":"VLOOKUP($AA1009,DATA!$B$3:$E$6,2,0)","v":"14:30:00"},{"$f":"VLOOKUP($AA1009,DATA!$B$3:$E$6,3,0)","v":"22:30:00"},{"$f":"VLOOKUP($AA1009,DATA!$B$3:$E$6,4,0)","v":3.125E-2},0.30208333333333337,0.30208333333333337,{"$f":"DATA!$C$9","v":0.89},{"$f":"DATA!$C$10","v":64},1,407.81250000000006,407.81250000000006,0,"","",0,"","",0,"","","","",null,{"$f":"X1003","v":48},null,{"$f":"TEXT(Y1008,\"ddd\")","v":"za"},"MD",{"$f":"IFERROR(HLOOKUP(Y1008,[1]DATA!$A$1:$NB$5,4,0),\"\")","v":"-"},null,null,null,null,{"$f":"VLOOKUP(Y1008,[1]SRA!$S$4:$Z$368,3,0)","v":0},"","",""]
["48zaND",{"$f":"VLOOKUP($AA1010,DATA!$B$3:$E$6,2,0)","v":"22:30:00"},{"$f":"VLOOKUP($AA1010,DATA!$B$3:$E$6,3,0)","v":"06:30:00"},{"$f":"VLOOKUP($AA1010,DATA!$B$3:$E$6,4,0)","v":3.125E-2},0.30208333333333326,0.30208333333333326,{"$f":"DATA!$C$9","v":0.89},{"$f":"DATA!$C$10","v":64},1,407.81249999999989,407.81249999999989,0,"","",0,"","",0,"","","","",null,{"$f":"X1003","v":48},null,{"$f":"TEXT(Y1008,\"ddd\")","v":"za"},"ND",{"$f":"IFERROR(HLOOKUP(Y1008,[1]DATA!$A$1:$NB$5,5,0),\"\")","v":"-"},null,null,null,null,{"$f":"VLOOKUP(Y1008,[1]SRA!$S$4:$Z$368,4,0)","v":0},"","",""]
["48zoDD",{"$f":"VLOOKUP($AA1011,DATA!$B$3:$E$6,2,0)","v":"06:30:00"},{"$f":"VLOOKUP($AA1011,DATA!$B$3:$E$6,3,0)","v":"14:30:00"},{"$f":"VLOOKUP($AA1011,DATA!$B$3:$E$6,4,0)","v":3.125E-2},0.30208333333333331,0.30208333333333331,{"$f":"DATA!$C$9","v":0.89},{"$f":"DATA!$C$10","v":64},1,407.8125,407.8125,0,"","",0,"","",0,"","","","",null,{"$f":"X1003","v":48},"2018-12-02",{"$f":"TEXT(Y1011,\"ddd\")","v":"zo"},"DD",{"$f":"IFERROR(HLOOKUP(Y1011,[1]DATA!$A$1:$NB$5,3,0),\"\")","v":"-"},null,null,null,null,{"$f":"VLOOKUP(Y1011,[1]SRA!$S$4:$Z$368,2,0)","v":0},"","",""]
["48zoMD",{"$f":"VLOOKUP($AA1012,DATA!$B$3:$E$6,2,0)","v":"14:30:00"},{"$f":"VLOOKUP($AA1012,DATA!$B$3:$E$6,3,0)","v":"22:30:00"},{"$f":"VLOOKUP($AA1012,DATA!$B$3:$E$6,4,0)","v":3.125E-2},0.30208333333333337,0.30208333333333337,{"$f":"DATA!$C$9","v":0.89},{"$f":"DATA!$C$10","v":64},1,407.81250000000006,407.81250000000006,0,"","",0,"","",0,"","","","",null,{"$f":"X1003","v":48},null,{"$f":"TEXT(Y1011,\"ddd\")","v":"zo"},"MD",{"$f":"IFERROR(HLOOKUP(Y1011,[1]DATA!$A$1:$NB$5,4,0),\"\")","v":"-"},null,null,null,null,{"$f":"VLOOKUP(Y1011,[1]SRA!$S$4:$Z$368,3,0)","v":0},"","",""]
["48zoZND",{"$f":"VLOOKUP($AA1013,DATA!$B$3:$E$6,2,0)","v":"00:00:00"},{"$f":"VLOOKUP($AA1013,DATA!$B$3:$E$6,3,0)","v":"00:00:00"},{"$f":"VLOOKUP($AA1013,DATA!$B$3:$E$6,4,0)","v":0},0,0,{"$f":"DATA!$C$9","v":0.89},{"$f":"DATA!$C$10","v":64},1,0,0,0,"","",0,"","",0,"","","","",null,{"$f":"X1003","v":48},null,{"$f":"TEXT(Y1011,\"ddd\")","v":"zo"},"ZND",{"$f":"IFERROR(HLOOKUP(Y1011,[1]DATA!$A$1:$NB$5,5,0),\"\")","v":"-"},null,null,null,null,{"$f":"VLOOKUP(Y1011,[1]SRA!$S$4:$Z$368,4,0)","v":0},"","",""]
["49maDD",{"$f":"VLOOKUP($AA1014,DATA!$B$3:$E$6,2,0)","v":"06:30:00"},{"$f":"VLOOKUP($AA1014,DATA!$B$3:$E$6,3,0)","v":"14:30:00"},{"$f":"VLOOKUP($AA1014,DATA!$B$3:$E$6,4,0)","v":3.125E-2},0.30208333333333331,0.30208333333333331,{"$f":"DATA!$C$9","v":0.89},{"$f":"DATA!$C$10","v":64},1,407.8125,407.8125,0,"","",{"$f":"TIME(INT($AD1014/60),INT(MOD($AD1014,60)/1),0)","v":0},"","",0,"","","","",null,{"$f":"X1024","v":49},"2018-12-03",{"$f":"TEXT(Y1014,\"ddd\")","v":"ma"},"DD",{"$f":"IFERROR(HLOOKUP(Y1014,[1]DATA!$A$1:$NB$5,3,0),\"\")","v":"D1"},null,null,null,null,{"$f":"VLOOKUP(Y1014,[1]SRA!$S$4:$Z$368,2,0)","v":0},"","","",{"$f":"IF(SUMIF(S1014:S1034,\">0\",K1014:K1034)=0,\"\",SUMIF(S1014:S1034,\">0\",K1014:K1034))","v":""},{"$f":"IF(SUM(S1014:S1034)=0,\"\",SUM(S1014:S1034))","v":""},{"$f":"IFERROR(AL1014/AK1014,\"-\")","v":"-"},{"$f":"IF(SUM(M1014:M1034)=0,\"0\",SUM(M1014:M1034))","v":"0"},{"$f":"IFERROR(AN1014/AK1014,\"-\")","v":"-"},{"$f":"IF(SUM(P1014:P1034)=0,0,SUM(P1014:P1034))","v":0},{"$f":"IFERROR(AP1014/AK1014,\"-\")","v":"-"},{"$f":"IFERROR(AVERAGE(AJ1014:AJ1034),\"-\")","v":"-"},{"$f":"IFERROR(SUMIF($AB1014:$AB1034,AS$5,$AJ1014:$AJ1034)/COUNTIFS($AB1014:$AB1034,AS$5,$AJ1014:$AJ1034,\">0\"),\"\")","v":""},"","",{"$f":"IFERROR((AK1014-AL1014-AN1014-AP1014),\"-\")","v":"-"},{"$f":"IFERROR((1-AM1014-AO1014-AQ1014), \"-\")","v":"-"},{"$f":"IFERROR((AV1014*$AE$2)/60,\"-\")","v":"-"},{"$f":"IFERROR(SUM(AG1014:AG1034),\"\")","v":0}]
["49maMD",{"$f":"VLOOKUP($AA1015,DATA!$B$3:$E$6,2,0)","v":"14:30:00"},{"$f":"VLOOKUP($AA1015,DATA!$B$3:$E$6,3,0)","v":"22:30:00"},{"$f":"VLOOKUP($AA1015,DATA!$B$3:$E$6,4,0)","v":3.125E-2},0.30208333333333337,0.30208333333333337,{"$f":"DATA!$C$9","v":0.89},{"$f":"DATA!$C$10","v":64},1,407.81250000000006,407.81250000000006,0,"","",{"$f":"TIME(INT(AD1015/60),INT(MOD(AD1015,60)/1),0)","v":0},"","",0,"","","","",null,{"$f":"X1024","v":49},null,{"$f":"TEXT(Y1014,\"ddd\")","v":"ma"},"MD",{"$f":"IFERROR(HLOOKUP(Y1014,[1]DATA!$A$1:$NB$5,4,0),\"\")","v":"D3"},null,null,null,null,{"$f":"VLOOKUP(Y1014,[1]SRA!$S$4:$Z$368,3,0)","v":0},"","",""]
["49maND",{"$f":"VLOOKUP($AA1016,DATA!$B$3:$E$6,2,0)","v":"22:30:00"},{"$f":"VLOOKUP($AA1016,DATA!$B$3:$E$6,3,0)","v":"06:30:00"},{"$f":"VLOOKUP($AA1016,DATA!$B$3:$E$6,4,0)","v":3.125E-2},0.30208333333333326,0.30208333333333326,{"$f":"DATA!$C$9","v":0.89},{"$f":"DATA!$C$10","v":64},1,407.81249999999989,407.81249999999989,0,"","",0,"","",0,"","","","",null,{"$f":"X1024","v":49},null,{"$f":"TEXT(Y1014,\"ddd\")","v":"ma"},"ND",{"$f":"IFERROR(HLOOKUP(Y1014,[1]DATA!$A$1:$NB$5,5,0),\"\")","v":"D2"},null,null,null,null,{"$f":"VLOOKUP(Y1014,[1]SRA!$S$4:$Z$368,4,0)","v":0},"","",""]
["49diDD",{"$f":"VLOOKUP($AA1017,DATA!$B$3:$E$6,2,0)","v":"06:30:00"},{"$f":"VLOOKUP($AA1017,DATA!$B$3:$E$6,3,0)","v":"14:30:00"},{"$f":"VLOOKUP($AA1017,DATA!$B$3:$E$6,4,0)","v":3.125E-2},0.30208333333333331,0.30208333333333331,{"$f":"DATA!$C$9","v":0.89},{"$f":"DATA!$C$10","v":64},1,407.8125,407.8125,0,"","",0,"","",0,"","","","",null,{"$f":"X1024","v":49},"2018-12-04",{"$f":"TEXT(Y1017,\"ddd\")","v":"di"},"DD",{"$f":"IFERROR(HLOOKUP(Y1017,[1]DATA!$A$1:$NB$5,3,0),\"\")","v":"D1"},null,null,null,null,{"$f":"VLOOKUP(Y1017,[1]SRA!$S$4:$Z$368,2,0)","v":0},"","",""]
["49diMD",{"$f":"VLOOKUP($AA1018,DATA!$B$3:$E$6,2,0)","v":"14:30:00"},{"$f":"VLOOKUP($AA1018,DATA!$B$3:$E$6,3,0)","v":"22:30:00"},{"$f":"VLOOKUP($AA1018,DATA!$B$3:$E$6,4,0)","v":3.125E-2},0.30208333333333337,0.30208333333333337,{"$f":"DATA!$C$9","v":0.89},{"$f":"DATA!$C$10","v":64},1,407.81250000000006,407.81250000000006,0,"","",0,"","",0,"","","","",null,{"$f":"X1024","v":49},null,{"$f":"TEXT(Y1017,\"ddd\")","v":"di"},"MD",{"$f":"IFERROR(HLOOKUP(Y1017,[1]DATA!$A$1:$NB$5,4,0),\"\")","v":"D3"},null,null,null,null,{"$f":"VLOOKUP(Y1017,[1]SRA!$S$4:$Z$368,3,0)","v":0},"","",""]
["49diND",{"$f":"VLOOKUP($AA1019,DATA!$B$3:$E$6,2,0)","v":"22:30:00"},{"$f":"VLOOKUP($AA1019,DATA!$B$3:$E$6,3,0)","v":"06:30:00"},{"$f":"VLOOKUP($AA1019,DATA!$B$3:$E$6,4,0)","v":3.125E-2},0.30208333333333326,0.30208333333333326,{"$f":"DATA!$C$9","v":0.89},{"$f":"DATA!$C$10","v":64},1,407.81249999999989,407.81249999999989,0,"","",0,"","",0,"","","","",null,{"$f":"X1024","v":49},null,{"$f":"TEXT(Y1017,\"ddd\")","v":"di"},"ND",{"$f":"IFERROR(HLOOKUP(Y1017,[1]DATA!$A$1:$NB$5,5,0),\"\")","v":"D2"},null,null,null,null,{"$f":"VLOOKUP(Y1017,[1]SRA!$S$4:$Z$368,4,0)","v":0},"","",""]
["49woDD",{"$f":"VLOOKUP($AA1020,DATA!$B$3:$E$6,2,0)","v":"06:30:00"},{"$f":"VLOOKUP($AA1020,DATA!$B$3:$E$6,3,0)","v":"14:30:00"},{"$f":"VLOOKUP($AA1020,DATA!$B$3:$E$6,4,0)","v":3.125E-2},0.30208333333333331,0.30208333333333331,{"$f":"DATA!$C$9","v":0.89},{"$f":"DATA!$C$10","v":64},1,407.8125,407.8125,0,"","",0,"","",0,"","","","",null,{"$f":"X1024","v":49},"2018-12-05",{"$f":"TEXT(Y1020,\"ddd\")","v":"wo"},"DD",{"$f":"IFERROR(HLOOKUP(Y1020,[1]DATA!$A$1:$NB$5,3,0),\"\")","v":"D1"},null,null,null,null,{"$f":"VLOOKUP(Y1020,[1]SRA!$S$4:$Z$368,2,0)","v":0},"","",""]
["49woMD",{"$f":"VLOOKUP($AA1021,DATA!$B$3:$E$6,2,0)","v":"14:30:00"},{"$f":"VLOOKUP($AA1021,DATA!$B$3:$E$6,3,0)","v":"22:30:00"},{"$f":"VLOOKUP($AA1021,DATA!$B$3:$E$6,4,0)","v":3.125E-2},0.30208333333333337,0.30208333333333337,{"$f":"DATA!$C$9","v":0.89},{"$f":"DATA!$C$10","v":64},1,407.81250000000006,407.81250000000006,0,"","",0,"","",0,"","","","",null,{"$f":"X1024","v":49},null,{"$f":"TEXT(Y1020,\"ddd\")","v":"wo"},"MD",{"$f":"IFERROR(HLOOKUP(Y1020,[1]DATA!$A$1:$NB$5,4,0),\"\")","v":"D3"},null,null,null,null,{"$f":"VLOOKUP(Y1020,[1]SRA!$S$4:$Z$368,3,0)","v":0},"","",""]
["49woND",{"$f":"VLOOKUP($AA1022,DATA!$B$3:$E$6,2,0)","v":"22:30:00"},{"$f":"VLOOKUP($AA1022,DATA!$B$3:$E$6,3,0)","v":"06:30:00"},{"$f":"VLOOKUP($AA1022,DATA!$B$3:$E$6,4,0)","v":3.125E-2},0.30208333333333326,0.30208333333333326,{"$f":"DATA!$C$9","v":0.89},{"$f":"DATA!$C$10","v":64},1,407.81249999999989,407.81249999999989,0,"","",0,"","",0,"","","","",null,{"$f":"X1024","v":49},null,{"$f":"TEXT(Y1020,\"ddd\")","v":"wo"},"ND",{"$f":"IFERROR(HLOOKUP(Y1020,[1]DATA!$A$1:$NB$5,5,0),\"\")","v":"D2"},null,null,null,null,{"$f":"VLOOKUP(Y1020,[1]SRA!$S$4:$Z$368,4,0)","v":0},"","",""]
["49doDD",{"$f":"VLOOKUP($AA1023,DATA!$B$3:$E$6,2,0)","v":"06:30:00"},{"$f":"VLOOKUP($AA1023,DATA!$B$3:$E$6,3,0)","v":"14:30:00"},{"$f":"VLOOKUP($AA1023,DATA!$B$3:$E$6,4,0)","v":3.125E-2},0.30208333333333331,0.30208333333333331,{"$f":"DATA!$C$9","v":0.89},{"$f":"DATA!$C$10","v":64},1,407.8125,407.8125,0,"","",0,"","",0,"","","","",null,{"$f":"X1024","v":49},{"$f":"Y1020+1","v":"2018-12-06"},{"$f":"TEXT(Y1023,\"ddd\")","v":"do"},"DD",{"$f":"IFERROR(HLOOKUP(Y1023,[1]DATA!$A$1:$NB$5,3,0),\"\")","v":"D1"},null,null,null,null,{"$f":"VLOOKUP(Y1023,[1]SRA!$S$4:$Z$368,2,0)","v":0},"","",""]
["49doMD",{"$f":"VLOOKUP($AA1024,DATA!$B$3:$E$6,2,0)","v":"14:30:00"},{"$f":"VLOOKUP($AA1024,DATA!$B$3:$E$6,3,0)","v":"22:30:00"},{"$f":"VLOOKUP($AA1024,DATA!$B$3:$E$6,4,0)","v":3.125E-2},0.30208333333333337,0.30208333333333337,{"$f":"DATA!$C$9","v":0.89},{"$f":"DATA!$C$10","v":64},1,407.81250000000006,407.81250000000006,0,"","",0,"","",0,"","","","",null,{"$f":"WEEKNUM($Y1014)","v":49},null,{"$f":"TEXT(Y1023,\"ddd\")","v":"do"},"MD",{"$f":"IFERROR(HLOOKUP(Y1023,[1]DATA!$A$1:$NB$5,4,0),\"\")","v":"D3"},null,null,null,null,{"$f":"VLOOKUP(Y1023,[1]SRA!$S$4:$Z$368,3,0)","v":0},"","",""]
["49doND",{"$f":"VLOOKUP($AA1025,DATA!$B$3:$E$6,2,0)","v":"22:30:00"},{"$f":"VLOOKUP($AA1025,DATA!$B$3:$E$6,3,0)","v":"06:30:00"},{"$f":"VLOOKUP($AA1025,DATA!$B$3:$E$6,4,0)","v":3.125E-2},0.30208333333333326,0.30208333333333326,{"$f":"DATA!$C$9","v":0.89},{"$f":"DATA!$C$10","v":64},1,407.81249999999989,407.81249999999989,0,"","",0,"","",0,"","","","",null,{"$f":"X1024","v":49},null,{"$f":"TEXT(Y1023,\"ddd\")","v":"do"},"ND",{"$f":"IFERROR(HLOOKUP(Y1023,[1]DATA!$A$1:$NB$5,5,0),\"\")","v":"D2"},null,null,null,null,{"$f":"VLOOKUP(Y1023,[1]SRA!$S$4:$Z$368,4,0)","v":0},"","",""]
["49vrDD",{"$f":"VLOOKUP($AA1026,DATA!$B$3:$E$6,2,0)","v":"06:30:00"},{"$f":"VLOOKUP($AA1026,DATA!$B$3:$E$6,3,0)","v":"14:30:00"},{"$f":"VLOOKUP($AA1026,DATA!$B$3:$E$6,4,0)","v":3.125E-2},0.30208333333333331,0.30208333333333331,{"$f":"DATA!$C$9","v":0.89},{"$f":"DATA!$C$10","v":64},1,407.8125,407.8125,0,"","",0,"","",0,"","","","",null,{"$f":"X1024","v":49},"2018-12-07",{"$f":"TEXT(Y1026,\"ddd\")","v":"vr"},"DD",{"$f":"IFERROR(HLOOKUP(Y1026,[1]DATA!$A$1:$NB$5,3,0),\"\")","v":"D1"},null,null,null,null,{"$f":"VLOOKUP(Y1026,[1]SRA!$S$4:$Z$368,2,0)","v":0},"","",""]
["49vrMD",{"$f":"VLOOKUP($AA1027,DATA!$B$3:$E$6,2,0)","v":"14:30:00"},{"$f":"VLOOKUP($AA1027,DATA!$B$3:$E$6,3,0)","v":"22:30:00"},{"$f":"VLOOKUP($AA1027,DATA!$B$3:$E$6,4,0)","v":3.125E-2},0.30208333333333337,0.30208333333333337,{"$f":"DATA!$C$9","v":0.89},{"$f":"DATA!$C$10","v":64},1,407.81250000000006,407.81250000000006,0,"","",0,"","",0,"","","","",null,{"$f":"X1024","v":49},null,{"$f":"TEXT(Y1026,\"ddd\")","v":"vr"},"MD",{"$f":"IFERROR(HLOOKUP(Y1026,[1]DATA!$A$1:$NB$5,4,0),\"\")","v":"D3"},null,null,null,null,{"$f":"VLOOKUP(Y1026,[1]SRA!$S$4:$Z$368,3,0)","v":0},"","",""]
["49vrND",{"$f":"VLOOKUP($AA1028,DATA!$B$3:$E$6,2,0)","v":"22:30:00"},{"$f":"VLOOKUP($AA1028,DATA!$B$3:$E$6,3,0)","v":"06:30:00"},{"$f":"VLOOKUP($AA1028,DATA!$B$3:$E$6,4,0)","v":3.125E-2},0.30208333333333326,0.30208333333333326,{"$f":"DATA!$C$9","v":0.89},{"$f":"DATA!$C$10","v":64},1,407.81249999999989,407.81249999999989,0,"","",0,"","",0,"","","","",null,{"$f":"X1024","v":49},null,{"$f":"TEXT(Y1026,\"ddd\")","v":"vr"},"ND",{"$f":"IFERROR(HLOOKUP(Y1026,[1]DATA!$A$1:$NB$5,5,0),\"\")","v":"D2"},null,null,null,null,{"$f":"VLOOKUP(Y1026,[1]SRA!$S$4:$Z$368,4,0)","v":0},"","",""]
["49zaDD",{"$f":"VLOOKUP($AA1029,DATA!$B$3:$E$6,2,0)","v":"06:30:00"},{"$f":"VLOOKUP($AA1029,DATA!$B$3:$E$6,3,0)","v":"14:30:00"},{"$f":"VLOOKUP($AA1029,DATA!$B$3:$E$6,4,0)","v":3.125E-2},0.30208333333333331,0.30208333333333331,{"$f":"DATA!$C$9","v":0.89},{"$f":"DATA!$C$10","v":64},1,407.8125,407.8125,0,"","",0,"","",0,"","","","",null,{"$f":"X1024","v":49},"2018-12-08",{"$f":"TEXT(Y1029,\"ddd\")","v":"za"},"DD",{"$f":"IFERROR(HLOOKUP(Y1029,[1]DATA!$A$1:$NB$5,3,0),\"\")","v":"D1"},null,null,null,null,{"$f":"VLOOKUP(Y1029,[1]SRA!$S$4:$Z$368,2,0)","v":0},"","",""]
["49zaMD",{"$f":"VLOOKUP($AA1030,DATA!$B$3:$E$6,2,0)","v":"14:30:00"},{"$f":"VLOOKUP($AA1030,DATA!$B$3:$E$6,3,0)","v":"22:30:00"},{"$f":"VLOOKUP($AA1030,DATA!$B$3:$E$6,4,0)","v":3.125E-2},0.30208333333333337,0.30208333333333337,{"$f":"DATA!$C$9","v":0.89},{"$f":"DATA!$C$10","v":64},1,{"$f":"F1030*86400/H1030*I1030","v":407.81250000000006},{"$f":"E1030*86400/H1030","v":407.81250000000006},0,"","",0,"","",{"$f":"AF1030*AG$2","v":0},{"$f":"IF(AF1030-AE1030=0,\"\",AF1030-AE1030)","v":""},"","","",null,{"$f":"X1024","v":49},null,{"$f":"TEXT(Y1029,\"ddd\")","v":"za"},"MD",{"$f":"IFERROR(HLOOKUP(Y1029,[1]DATA!$A$1:$NB$5,4,0),\"\")","v":"-"},null,null,null,null,{"$f":"VLOOKUP(Y1029,[1]SRA!$S$4:$Z$368,3,0)","v":0},{"$f":"IFERROR(S1030-J1030,\"\")","v":""},{"$f":"IFERROR(IF(S1030/(E1030*86400/H1030)<=0,\"\",S1030/(E1030*86400/H1030)),\"\")","v":""},""]
["49zaND",{"$f":"VLOOKUP($AA1031,DATA!$B$3:$E$6,2,0)","v":"22:30:00"},{"$f":"VLOOKUP($AA1031,DATA!$B$3:$E$6,3,0)","v":"06:30:00"},{"$f":"VLOOKUP($AA1031,DATA!$B$3:$E$6,4,0)","v":3.125E-2},0.30208333333333326,0.30208333333333326,{"$f":"DATA!$C$9","v":0.89},{"$f":"DATA!$C$10","v":64},1,407.81249999999989,407.81249999999989,{"$f":"TIME(INT($AC1031/60),INT(MOD($AC1031,60)/1),0)","v":0},{"$f":"IF($L1031*86400/$H1031=0,\"\",$L1031*86400/$H1031)","v":""},{"$f":"IFERROR($M1031/$K1031,\"\")","v":""},0,"",{"$f":"IFERROR($P1031/$K1031,\"\")","v":""},0,"",{"$f":"IF(IF($AB1031=\"D1\",$S1031,\"\")=0,\"\",IF($AB1031=\"D1\",$S1031,\"\"))","v":""},{"$f":"IF(IF($AB1031=\"D2\",$S1031,\"\")=0,\"\",IF($AB1031=\"D2\",$S1031,\"\"))","v":""},{"$f":"IF(IF($AB1031=\"D3\",$S1031,\"\")=0,\"\",IF($AB1031=\"D3\",$S1031,\"\"))","v":""},null,{"$f":"X1024","v":49},null,{"$f":"TEXT(Y1029,\"ddd\")","v":"za"},"ND",{"$f":"IFERROR(HLOOKUP(Y1029,[1]DATA!$A$1:$NB$5,5,0),\"\")","v":"-"},null,null,null,null,{"$f":"VLOOKUP(Y1029,[1]SRA!$S$4:$Z$368,4,0)","v":0},"","",""]
["49zoDD",{"$f":"VLOOKUP($AA1032,DATA!$B$3:$E$6,2,0)","v":"06:30:00"},{"$f":"VLOOKUP($AA1032,DATA!$B$3:$E$6,3,0)","v":"14:30:00"},{"$f":"VLOOKUP($AA1032,DATA!$B$3:$E$6,4,0)","v":3.125E-2},0.30208333333333331,0.30208333333333331,{"$f":"DATA!$C$9","v":0.89},{"$f":"DATA!$C$10","v":64},1,407.8125,407.8125,0,"","",0,"","",0,"","","","",null,{"$f":"X1024","v":49},"2018-12-09",{"$f":"TEXT(Y1032,\"ddd\")","v":"zo"},"DD",{"$f":"IFERROR(HLOOKUP(Y1032,[1]DATA!$A$1:$NB$5,3,0),\"\")","v":"-"},null,null,null,null,{"$f":"VLOOKUP(Y1032,[1]SRA!$S$4:$Z$368,2,0)","v":0},"","",""]
["49zoMD",{"$f":"VLOOKUP($AA1033,DATA!$B$3:$E$6,2,0)","v":"14:30:00"},{"$f":"VLOOKUP($AA1033,DATA!$B$3:$E$6,3,0)","v":"22:30:00"},{"$f":"VLOOKUP($AA1033,DATA!$B$3:$E$6,4,0)","v":3.125E-2},0.30208333333333337,0.30208333333333337,{"$f":"DATA!$C$9","v":0.89},{"$f":"DATA!$C$10","v":64},1,407.81250000000006,407.81250000000006,0,"","",0,"","",0,"","","","",null,{"$f":"X1024","v":49},null,{"$f":"TEXT(Y1032,\"ddd\")","v":"zo"},"MD",{"$f":"IFERROR(HLOOKUP(Y1032,[1]DATA!$A$1:$NB$5,4,0),\"\")","v":"-"},null,null,null,null,{"$f":"VLOOKUP(Y1032,[1]SRA!$S$4:$Z$368,3,0)","v":0},"","",""]
["49zoZND",{"$f":"VLOOKUP($AA1034,DATA!$B$3:$E$6,2,0)","v":"00:00:00"},{"$f":"VLOOKUP($AA1034,DATA!$B$3:$E$6,3,0)","v":"00:00:00"},{"$f":"VLOOKUP($AA1034,DATA!$B$3:$E$6,4,0)","v":0},0,0,{"$f":"DATA!$C$9","v":0.89},{"$f":"DATA!$C$10","v":64},1,0,0,0,"","",0,"","",0,"","","","",null,{"$f":"X1024","v":49},null,{"$f":"TEXT(Y1032,\"ddd\")","v":"zo"},"ZND",{"$f":"IFERROR(HLOOKUP(Y1032,[1]DATA!$A$1:$NB$5,5,0),\"\")","v":"-"},null,null,null,null,{"$f":"VLOOKUP(Y1032,[1]SRA!$S$4:$Z$368,4,0)","v":0},"","",""]
["50maDD",{"$f":"VLOOKUP($AA1035,DATA!$B$3:$E$6,2,0)","v":"06:30:00"},{"$f":"VLOOKUP($AA1035,DATA!$B$3:$E$6,3,0)","v":"14:30:00"},{"$f":"VLOOKUP($AA1035,DATA!$B$3:$E$6,4,0)","v":3.125E-2},0.30208333333333331,0.30208333333333331,{"$f":"DATA!$C$9","v":0.89},{"$f":"DATA!$C$10","v":64},1,407.8125,407.8125,0,"","",{"$f":"TIME(INT($AD1035/60),INT(MOD($AD1035,60)/1),0)","v":0},"","",0,"","","","",null,{"$f":"X1045","v":50},"2018-12-10",{"$f":"TEXT(Y1035,\"ddd\")","v":"ma"},"DD",{"$f":"IFERROR(HLOOKUP(Y1035,[1]DATA!$A$1:$NB$5,3,0),\"\")","v":"D3"},null,null,null,null,{"$f":"VLOOKUP(Y1035,[1]SRA!$S$4:$Z$368,2,0)","v":0},"","","",{"$f":"IF(SUMIF(S1035:S1055,\">0\",K1035:K1055)=0,\"\",SUMIF(S1035:S1055,\">0\",K1035:K1055))","v":""},{"$f":"IF(SUM(S1035:S1055)=0,\"\",SUM(S1035:S1055))","v":""},{"$f":"IFERROR(AL1035/AK1035,\"-\")","v":"-"},{"$f":"IF(SUM(M1035:M1055)=0,\"0\",SUM(M1035:M1055))","v":"0"},{"$f":"IFERROR(AN1035/AK1035,\"-\")","v":"-"},{"$f":"IF(SUM(P1035:P1055)=0,0,SUM(P1035:P1055))","v":0},{"$f":"IFERROR(AP1035/AK1035,\"-\")","v":"-"},{"$f":"IFERROR(AVERAGE(AJ1035:AJ1055),\"-\")","v":"-"},{"$f":"IFERROR(SUMIF($AB1035:$AB1055,AS$5,$AJ1035:$AJ1055)/COUNTIFS($AB1035:$AB1055,AS$5,$AJ1035:$AJ1055,\">0\"),\"\")","v":""},"","",{"$f":"IFERROR((AK1035-AL1035-AN1035-AP1035),\"-\")","v":"-"},{"$f":"IFERROR((1-AM1035-AO1035-AQ1035), \"-\")","v":"-"},{"$f":"IFERROR((AV1035*$AE$2)/60,\"-\")","v":"-"},{"$f":"IFERROR(SUM(AG1035:AG1055),\"\")","v":0}]
["50maMD",{"$f":"VLOOKUP($AA1036,DATA!$B$3:$E$6,2,0)","v":"14:30:00"},{"$f":"VLOOKUP($AA1036,DATA!$B$3:$E$6,3,0)","v":"22:30:00"},{"$f":"VLOOKUP($AA1036,DATA!$B$3:$E$6,4,0)","v":3.125E-2},0.30208333333333337,0.30208333333333337,{"$f":"DATA!$C$9","v":0.89},{"$f":"DATA!$C$10","v":64},1,407.81250000000006,407.81250000000006,0,"","",{"$f":"TIME(INT(AD1036/60),INT(MOD(AD1036,60)/1),0)","v":0},"","",0,"","","","",null,{"$f":"X1045","v":50},null,{"$f":"TEXT(Y1035,\"ddd\")","v":"ma"},"MD",{"$f":"IFERROR(HLOOKUP(Y1035,[1]DATA!$A$1:$NB$5,4,0),\"\")","v":"D2"},null,null,null,null,{"$f":"VLOOKUP(Y1035,[1]SRA!$S$4:$Z$368,3,0)","v":0},"","",""]
["50maND",{"$f":"VLOOKUP($AA1037,DATA!$B$3:$E$6,2,0)","v":"22:30:00"},{"$f":"VLOOKUP($AA1037,DATA!$B$3:$E$6,3,0)","v":"06:30:00"},{"$f":"VLOOKUP($AA1037,DATA!$B$3:$E$6,4,0)","v":3.125E-2},0.30208333333333326,0.30208333333333326,{"$f":"DATA!$C$9","v":0.89},{"$f":"DATA!$C$10","v":64},1,407.81249999999989,407.81249999999989,0,"","",0,"","",0,"","","","",null,{"$f":"X1045","v":50},null,{"$f":"TEXT(Y1035,\"ddd\")","v":"ma"},"ND",{"$f":"IFERROR(HLOOKUP(Y1035,[1]DATA!$A$1:$NB$5,5,0),\"\")","v":"D1"},null,null,null,null,{"$f":"VLOOKUP(Y1035,[1]SRA!$S$4:$Z$368,4,0)","v":0},"","",""]
["50diDD",{"$f":"VLOOKUP($AA1038,DATA!$B$3:$E$6,2,0)","v":"06:30:00"},{"$f":"VLOOKUP($AA1038,DATA!$B$3:$E$6,3,0)","v":"14:30:00"},{"$f":"VLOOKUP($AA1038,DATA!$B$3:$E$6,4,0)","v":3.125E-2},0.30208333333333331,0.30208333333333331,{"$f":"DATA!$C$9","v":0.89},{"$f":"DATA!$C$10","v":64},1,407.8125,407.8125,0,"","",0,"","",0,"","","","",null,{"$f":"X1045","v":50},"2018-12-11",{"$f":"TEXT(Y1038,\"ddd\")","v":"di"},"DD",{"$f":"IFERROR(HLOOKUP(Y1038,[1]DATA!$A$1:$NB$5,3,0),\"\")","v":"D3"},null,null,null,null,{"$f":"VLOOKUP(Y1038,[1]SRA!$S$4:$Z$368,2,0)","v":0},"","",""]
["50diMD",{"$f":"VLOOKUP($AA1039,DATA!$B$3:$E$6,2,0)","v":"14:30:00"},{"$f":"VLOOKUP($AA1039,DATA!$B$3:$E$6,3,0)","v":"22:30:00"},{"$f":"VLOOKUP($AA1039,DATA!$B$3:$E$6,4,0)","v":3.125E-2},0.30208333333333337,0.30208333333333337,{"$f":"DATA!$C$9","v":0.89},{"$f":"DATA!$C$10","v":64},1,407.81250000000006,407.81250000000006,0,"","",0,"","",0,"","","","",null,{"$f":"X1045","v":50},null,{"$f":"TEXT(Y1038,\"ddd\")","v":"di"},"MD",{"$f":"IFERROR(HLOOKUP(Y1038,[1]DATA!$A$1:$NB$5,4,0),\"\")","v":"D2"},null,null,null,null,{"$f":"VLOOKUP(Y1038,[1]SRA!$S$4:$Z$368,3,0)","v":0},"","",""]
["50diND",{"$f":"VLOOKUP($AA1040,DATA!$B$3:$E$6,2,0)","v":"22:30:00"},{"$f":"VLOOKUP($AA1040,DATA!$B$3:$E$6,3,0)","v":"06:30:00"},{"$f":"VLOOKUP($AA1040,DATA!$B$3:$E$6,4,0)","v":3.125E-2},0.30208333333333326,0.30208333333333326,{"$f":"DATA!$C$9","v":0.89},{"$f":"DATA!$C$10","v":64},1,407.81249999999989,407.81249999999989,0,"","",0,"","",0,"","","","",null,{"$f":"X1045","v":50},null,{"$f":"TEXT(Y1038,\"ddd\")","v":"di"},"ND",{"$f":"IFERROR(HLOOKUP(Y1038,[1]DATA!$A$1:$NB$5,5,0),\"\")","v":"D1"},null,null,null,null,{"$f":"VLOOKUP(Y1038,[1]SRA!$S$4:$Z$368,4,0)","v":0},"","",""]
["50woDD",{"$f":"VLOOKUP($AA1041,DATA!$B$3:$E$6,2,0)","v":"06:30:00"},{"$f":"VLOOKUP($AA1041,DATA!$B$3:$E$6,3,0)","v":"14:30:00"},{"$f":"VLOOKUP($AA1041,DATA!$B$3:$E$6,4,0)","v":3.125E-2},0.30208333333333331,0.30208333333333331,{"$f":"DATA!$C$9","v":0.89},{"$f":"DATA!$C$10","v":64},1,407.8125,407.8125,0,"","",0,"","",0,"","","","",null,{"$f":"X1045","v":50},"2018-12-12",{"$f":"TEXT(Y1041,\"ddd\")","v":"wo"},"DD",{"$f":"IFERROR(HLOOKUP(Y1041,[1]DATA!$A$1:$NB$5,3,0),\"\")","v":"D3"},null,null,null,null,{"$f":"VLOOKUP(Y1041,[1]SRA!$S$4:$Z$368,2,0)","v":0},"","",""]
["50woMD",{"$f":"VLOOKUP($AA1042,DATA!$B$3:$E$6,2,0)","v":"14:30:00"},{"$f":"VLOOKUP($AA1042,DATA!$B$3:$E$6,3,0)","v":"22:30:00"},{"$f":"VLOOKUP($AA1042,DATA!$B$3:$E$6,4,0)","v":3.125E-2},0.30208333333333337,0.30208333333333337,{"$f":"DATA!$C$9","v":0.89},{"$f":"DATA!$C$10","v":64},1,407.81250000000006,407.81250000000006,0,"","",0,"","",0,"","","","",null,{"$f":"X1045","v":50},null,{"$f":"TEXT(Y1041,\"ddd\")","v":"wo"},"MD",{"$f":"IFERROR(HLOOKUP(Y1041,[1]DATA!$A$1:$NB$5,4,0),\"\")","v":"D2"},null,null,null,null,{"$f":"VLOOKUP(Y1041,[1]SRA!$S$4:$Z$368,3,0)","v":0},"","",""]
["50woND",{"$f":"VLOOKUP($AA1043,DATA!$B$3:$E$6,2,0)","v":"22:30:00"},{"$f":"VLOOKUP($AA1043,DATA!$B$3:$E$6,3,0)","v":"06:30:00"},{"$f":"VLOOKUP($AA1043,DATA!$B$3:$E$6,4,0)","v":3.125E-2},0.30208333333333326,0.30208333333333326,{"$f":"DATA!$C$9","v":0.89},{"$f":"DATA!$C$10","v":64},1,407.81249999999989,407.81249999999989,0,"","",0,"","",0,"","","","",null,{"$f":"X1045","v":50},null,{"$f":"TEXT(Y1041,\"ddd\")","v":"wo"},"ND",{"$f":"IFERROR(HLOOKUP(Y1041,[1]DATA!$A$1:$NB$5,5,0),\"\")","v":"D1"},null,null,null,null,{"$f":"VLOOKUP(Y1041,[1]SRA!$S$4:$Z$368,4,0)","v":0},"","",""]
["50doDD",{"$f":"VLOOKUP($AA1044,DATA!$B$3:$E$6,2,0)","v":"06:30:00"},{"$f":"VLOOKUP($AA1044,DATA!$B$3:$E$6,3,0)","v":"14:30:00"},{"$f":"VLOOKUP($AA1044,DATA!$B$3:$E$6,4,0)","v":3.125E-2},0.30208333333333331,0.30208333333333331,{"$f":"DATA!$C$9","v":0.89},{"$f":"DATA!$C$10","v":64},1,407.8125,407.8125,0,"","",0,"","",0,"","","","",null,{"$f":"X1045","v":50},"2018-12-13",{"$f":"TEXT(Y1044,\"ddd\")","v":"do"},"DD",{"$f":"IFERROR(HLOOKUP(Y1044,[1]DATA!$A$1:$NB$5,3,0),\"\")","v":"D3"},null,null,null,null,{"$f":"VLOOKUP(Y1044,[1]SRA!$S$4:$Z$368,2,0)","v":0},"","",""]
["50doMD",{"$f":"VLOOKUP($AA1045,DATA!$B$3:$E$6,2,0)","v":"14:30:00"},{"$f":"VLOOKUP($AA1045,DATA!$B$3:$E$6,3,0)","v":"22:30:00"},{"$f":"VLOOKUP($AA1045,DATA!$B$3:$E$6,4,0)","v":3.125E-2},0.30208333333333337,0.30208333333333337,{"$f":"DATA!$C$9","v":0.89},{"$f":"DATA!$C$10","v":64},1,407.81250000000006,407.81250000000006,0,"","",0,"","",0,"","","","",null,{"$f":"WEEKNUM($Y1035)","v":50},null,{"$f":"TEXT(Y1044,\"ddd\")","v":"do"},"MD",{"$f":"IFERROR(HLOOKUP(Y1044,[1]DATA!$A$1:$NB$5,4,0),\"\")","v":"D2"},null,null,null,null,{"$f":"VLOOKUP(Y1044,[1]SRA!$S$4:$Z$368,3,0)","v":0},"","",""]
["50doND",{"$f":"VLOOKUP($AA1046,DATA!$B$3:$E$6,2,0)","v":"22:30:00"},{"$f":"VLOOKUP($AA1046,DATA!$B$3:$E$6,3,0)","v":"06:30:00"},{"$f":"VLOOKUP($AA1046,DATA!$B$3:$E$6,4,0)","v":3.125E-2},0.30208333333333326,0.30208333333333326,{"$f":"DATA!$C$9","v":0.89},{"$f":"DATA!$C$10","v":64},1,407.81249999999989,407.81249999999989,0,"","",0,"","",0,"","","","",null,{"$f":"X1045","v":50},null,{"$f":"TEXT(Y1044,\"ddd\")","v":"do"},"ND",{"$f":"IFERROR(HLOOKUP(Y1044,[1]DATA!$A$1:$NB$5,5,0),\"\")","v":"D1"},null,null,null,null,{"$f":"VLOOKUP(Y1044,[1]SRA!$S$4:$Z$368,4,0)","v":0},"","",""]
["50vrDD",{"$f":"VLOOKUP($AA1047,DATA!$B$3:$E$6,2,0)","v":"06:30:00"},{"$f":"VLOOKUP($AA1047,DATA!$B$3:$E$6,3,0)","v":"14:30:00"},{"$f":"VLOOKUP($AA1047,DATA!$B$3:$E$6,4,0)","v":3.125E-2},0.30208333333333331,0.30208333333333331,{"$f":"DATA!$C$9","v":0.89},{"$f":"DATA!$C$10","v":64},1,407.8125,407.8125,0,"","",0,"","",0,"","","","",null,{"$f":"X1045","v":50},"2018-12-14",{"$f":"TEXT(Y1047,\"ddd\")","v":"vr"},"DD",{"$f":"IFERROR(HLOOKUP(Y1047,[1]DATA!$A$1:$NB$5,3,0),\"\")","v":"D3"},null,null,null,null,{"$f":"VLOOKUP(Y1047,[1]SRA!$S$4:$Z$368,2,0)","v":0},"","",""]
["50vrMD",{"$f":"VLOOKUP($AA1048,DATA!$B$3:$E$6,2,0)","v":"14:30:00"},{"$f":"VLOOKUP($AA1048,DATA!$B$3:$E$6,3,0)","v":"22:30:00"},{"$f":"VLOOKUP($AA1048,DATA!$B$3:$E$6,4,0)","v":3.125E-2},0.30208333333333337,0.30208333333333337,{"$f":"DATA!$C$9","v":0.89},{"$f":"DATA!$C$10","v":64},1,407.81250000000006,407.81250000000006,0,"","",0,"","",0,"","","","",null,{"$f":"X1045","v":50},null,{"$f":"TEXT(Y1047,\"ddd\")","v":"vr"},"MD",{"$f":"IFERROR(HLOOKUP(Y1047,[1]DATA!$A$1:$NB$5,4,0),\"\")","v":"D2"},null,null,null,null,{"$f":"VLOOKUP(Y1047,[1]SRA!$S$4:$Z$368,3,0)","v":0},"","",""]
["50vrND",{"$f":"VLOOKUP($AA1049,DATA!$B$3:$E$6,2,0)","v":"22:30:00"},{"$f":"VLOOKUP($AA1049,DATA!$B$3:$E$6,3,0)","v":"06:30:00"},{"$f":"VLOOKUP($AA1049,DATA!$B$3:$E$6,4,0)","v":3.125E-2},0.30208333333333326,0.30208333333333326,{"$f":"DATA!$C$9","v":0.89},{"$f":"DATA!$C$10","v":64},1,407.81249999999989,407.81249999999989,0,"","",0,"","",0,"","","","",null,{"$f":"X1045","v":50},null,{"$f":"TEXT(Y1047,\"ddd\")","v":"vr"},"ND",{"$f":"IFERROR(HLOOKUP(Y1047,[1]DATA!$A$1:$NB$5,5,0),\"\")","v":"D2"},null,null,null,null,{"$f":"VLOOKUP(Y1047,[1]SRA!$S$4:$Z$368,4,0)","v":0},"","",""]
["50zaDD",{"$f":"VLOOKUP($AA1050,DATA!$B$3:$E$6,2,0)","v":"06:30:00"},{"$f":"VLOOKUP($AA1050,DATA!$B$3:$E$6,3,0)","v":"14:30:00"},{"$f":"VLOOKUP($AA1050,DATA!$B$3:$E$6,4,0)","v":3.125E-2},0.30208333333333331,0.30208333333333331,{"$f":"DATA!$C$9","v":0.89},{"$f":"DATA!$C$10","v":64},1,407.8125,407.8125,0,"","",0,"","",0,"","","","",null,{"$f":"X1045","v":50},"2018-12-15",{"$f":"TEXT(Y1050,\"ddd\")","v":"za"},"DD",{"$f":"IFERROR(HLOOKUP(Y1050,[1]DATA!$A$1:$NB$5,3,0),\"\")","v":"D3"},null,null,null,null,{"$f":"VLOOKUP(Y1050,[1]SRA!$S$4:$Z$368,2,0)","v":0},"","",""]
["50zaMD",{"$f":"VLOOKUP($AA1051,DATA!$B$3:$E$6,2,0)","v":"14:30:00"},{"$f":"VLOOKUP($AA1051,DATA!$B$3:$E$6,3,0)","v":"22:30:00"},{"$f":"VLOOKUP($AA1051,DATA!$B$3:$E$6,4,0)","v":3.125E-2},0.30208333333333337,0.30208333333333337,{"$f":"DATA!$C$9","v":0.89},{"$f":"DATA!$C$10","v":64},1,407.81250000000006,407.81250000000006,0,"","",0,"","",0,"","","","",null,{"$f":"X1045","v":50},null,{"$f":"TEXT(Y1050,\"ddd\")","v":"za"},"MD",{"$f":"IFERROR(HLOOKUP(Y1050,[1]DATA!$A$1:$NB$5,4,0),\"\")","v":"-"},null,null,null,null,{"$f":"VLOOKUP(Y1050,[1]SRA!$S$4:$Z$368,3,0)","v":0},"","",{"$f":"IFERROR(R1051/(R1051+AG1051),\"\")","v":""}]
["50zaND",{"$f":"VLOOKUP($AA1052,DATA!$B$3:$E$6,2,0)","v":"22:30:00"},{"$f":"VLOOKUP($AA1052,DATA!$B$3:$E$6,3,0)","v":"06:30:00"},{"$f":"VLOOKUP($AA1052,DATA!$B$3:$E$6,4,0)","v":3.125E-2},{"$f":"(C1052-B1052+(B1052>C1052))-D1052","v":0.30208333333333326},{"$f":"E1052-O1052-L1052","v":0.30208333333333326},{"$f":"DATA!$C$9","v":0.89},{"$f":"DATA!$C$10","v":64},1,407.81249999999989,407.81249999999989,0,"","",0,"","",0,"","","","",null,{"$f":"X1045","v":50},null,{"$f":"TEXT(Y1050,\"ddd\")","v":"za"},"ND",{"$f":"IFERROR(HLOOKUP(Y1050,[1]DATA!$A$1:$NB$5,5,0),\"\")","v":"-"},null,null,null,null,{"$f":"VLOOKUP(Y1050,[1]SRA!$S$4:$Z$368,4,0)","v":0},"","",""]
["50zoDD",{"$f":"VLOOKUP($AA1053,DATA!$B$3:$E$6,2,0)","v":"06:30:00"},{"$f":"VLOOKUP($AA1053,DATA!$B$3:$E$6,3,0)","v":"14:30:00"},{"$f":"VLOOKUP($AA1053,DATA!$B$3:$E$6,4,0)","v":3.125E-2},0.30208333333333331,0.30208333333333331,{"$f":"DATA!$C$9","v":0.89},{"$f":"DATA!$C$10","v":64},1,407.8125,407.8125,0,"","",0,"","",0,"","","","",null,{"$f":"X1045","v":50},"2018-12-16",{"$f":"TEXT(Y1053,\"ddd\")","v":"zo"},"DD",{"$f":"IFERROR(HLOOKUP(Y1053,[1]DATA!$A$1:$NB$5,3,0),\"\")","v":"-"},null,null,null,null,{"$f":"VLOOKUP(Y1053,[1]SRA!$S$4:$Z$368,2,0)","v":0},"","",""]
["50zoMD",{"$f":"VLOOKUP($AA1054,DATA!$B$3:$E$6,2,0)","v":"14:30:00"},{"$f":"VLOOKUP($AA1054,DATA!$B$3:$E$6,3,0)","v":"22:30:00"},{"$f":"VLOOKUP($AA1054,DATA!$B$3:$E$6,4,0)","v":3.125E-2},0.30208333333333337,0.30208333333333337,{"$f":"DATA!$C$9","v":0.89},{"$f":"DATA!$C$10","v":64},1,407.81250000000006,407.81250000000006,0,"","",0,"","",0,"","","","",null,{"$f":"X1045","v":50},null,{"$f":"TEXT(Y1053,\"ddd\")","v":"zo"},"MD",{"$f":"IFERROR(HLOOKUP(Y1053,[1]DATA!$A$1:$NB$5,4,0),\"\")","v":"-"},null,null,null,null,{"$f":"VLOOKUP(Y1053,[1]SRA!$S$4:$Z$368,3,0)","v":0},"","",""]
["50zoZND",{"$f":"VLOOKUP($AA1055,DATA!$B$3:$E$6,2,0)","v":"00:00:00"},{"$f":"VLOOKUP($AA1055,DATA!$B$3:$E$6,3,0)","v":"00:00:00"},{"$f":"VLOOKUP($AA1055,DATA!$B$3:$E$6,4,0)","v":0},0,0,{"$f":"DATA!$C$9","v":0.89},{"$f":"DATA!$C$10","v":64},1,0,0,0,"","",0,"","",0,"","","","",null,{"$f":"X1045","v":50},null,{"$f":"TEXT(Y1053,\"ddd\")","v":"zo"},"ZND",{"$f":"IFERROR(HLOOKUP(Y1053,[1]DATA!$A$1:$NB$5,5,0),\"\")","v":"-"},null,null,null,null,{"$f":"VLOOKUP(Y1053,[1]SRA!$S$4:$Z$368,4,0)","v":0},"","",""]
["51maDD",{"$f":"VLOOKUP($AA1056,DATA!$B$3:$E$6,2,0)","v":"06:30:00"},{"$f":"VLOOKUP($AA1056,DATA!$B$3:$E$6,3,0)","v":"14:30:00"},{"$f":"VLOOKUP($AA1056,DATA!$B$3:$E$6,4,0)","v":3.125E-2},0.30208333333333331,0.30208333333333331,{"$f":"DATA!$C$9","v":0.89},{"$f":"DATA!$C$10","v":64},1,407.8125,407.8125,0,"","",{"$f":"TIME(INT($AD1056/60),INT(MOD($AD1056,60)/1),0)","v":0},"","",0,"","","","",null,{"$f":"X1066","v":51},"2018-12-17",{"$f":"TEXT(Y1056,\"ddd\")","v":"ma"},"DD",{"$f":"IFERROR(HLOOKUP(Y1056,[1]DATA!$A$1:$NB$5,3,0),\"\")","v":"D2"},null,null,null,null,{"$f":"VLOOKUP(Y1056,[1]SRA!$S$4:$Z$368,2,0)","v":0},"","","",{"$f":"IF(SUMIF(S1056:S1076,\">0\",K1056:K1076)=0,\"\",SUMIF(S1056:S1076,\">0\",K1056:K1076))","v":""},{"$f":"IF(SUM(S1056:S1076)=0,\"\",SUM(S1056:S1076))","v":""},{"$f":"IFERROR(AL1056/AK1056,\"-\")","v":"-"},{"$f":"IF(SUM(M1056:M1076)=0,\"0\",SUM(M1056:M1076))","v":"0"},{"$f":"IFERROR(AN1056/AK1056,\"-\")","v":"-"},{"$f":"IF(SUM(P1056:P1076)=0,0,SUM(P1056:P1076))","v":0},{"$f":"IFERROR(AP1056/AK1056,\"-\")","v":"-"},{"$f":"IFERROR(AVERAGE(AJ1056:AJ1076),\"-\")","v":"-"},{"$f":"IFERROR(SUMIF($AB1056:$AB1076,AS$5,$AJ1056:$AJ1076)/COUNTIFS($AB1056:$AB1076,AS$5,$AJ1056:$AJ1076,\">0\"),\"\")","v":""},"","",{"$f":"IFERROR((AK1056-AL1056-AN1056-AP1056),\"-\")","v":"-"},{"$f":"IFERROR((1-AM1056-AO1056-AQ1056), \"-\")","v":"-"},{"$f":"IFERROR((AV1056*$AE$2)/60,\"-\")","v":"-"},{"$f":"IFERROR(SUM(AG1056:AG1076),\"\")","v":0}]
["51maMD",{"$f":"VLOOKUP($AA1057,DATA!$B$3:$E$6,2,0)","v":"14:30:00"},{"$f":"VLOOKUP($AA1057,DATA!$B$3:$E$6,3,0)","v":"22:30:00"},{"$f":"VLOOKUP($AA1057,DATA!$B$3:$E$6,4,0)","v":3.125E-2},0.30208333333333337,0.30208333333333337,{"$f":"DATA!$C$9","v":0.89},{"$f":"DATA!$C$10","v":64},1,407.81250000000006,407.81250000000006,0,"","",{"$f":"TIME(INT(AD1057/60),INT(MOD(AD1057,60)/1),0)","v":0},"","",0,"","","","",null,{"$f":"X1066","v":51},null,{"$f":"TEXT(Y1056,\"ddd\")","v":"ma"},"MD",{"$f":"IFERROR(HLOOKUP(Y1056,[1]DATA!$A$1:$NB$5,4,0),\"\")","v":"D1"},null,null,null,null,{"$f":"VLOOKUP(Y1056,[1]SRA!$S$4:$Z$368,3,0)","v":0},"","",""]
["51maND",{"$f":"VLOOKUP($AA1058,DATA!$B$3:$E$6,2,0)","v":"22:30:00"},{"$f":"VLOOKUP($AA1058,DATA!$B$3:$E$6,3,0)","v":"06:30:00"},{"$f":"VLOOKUP($AA1058,DATA!$B$3:$E$6,4,0)","v":3.125E-2},0.30208333333333326,0.30208333333333326,{"$f":"DATA!$C$9","v":0.89},{"$f":"DATA!$C$10","v":64},1,407.81249999999989,407.81249999999989,0,"","",0,"","",0,"","","","",null,{"$f":"X1066","v":51},null,{"$f":"TEXT(Y1056,\"ddd\")","v":"ma"},"ND",{"$f":"IFERROR(HLOOKUP(Y1056,[1]DATA!$A$1:$NB$5,5,0),\"\")","v":"D3"},null,null,null,null,{"$f":"VLOOKUP(Y1056,[1]SRA!$S$4:$Z$368,4,0)","v":0},"","",""]
["51diDD",{"$f":"VLOOKUP($AA1059,DATA!$B$3:$E$6,2,0)","v":"06:30:00"},{"$f":"VLOOKUP($AA1059,DATA!$B$3:$E$6,3,0)","v":"14:30:00"},{"$f":"VLOOKUP($AA1059,DATA!$B$3:$E$6,4,0)","v":3.125E-2},0.30208333333333331,0.30208333333333331,{"$f":"DATA!$C$9","v":0.89},{"$f":"DATA!$C$10","v":64},1,407.8125,407.8125,0,"","",0,"","",0,"","","","",null,{"$f":"X1066","v":51},"2018-12-18",{"$f":"TEXT(Y1059,\"ddd\")","v":"di"},"DD",{"$f":"IFERROR(HLOOKUP(Y1059,[1]DATA!$A$1:$NB$5,3,0),\"\")","v":"D2"},null,null,null,null,{"$f":"VLOOKUP(Y1059,[1]SRA!$S$4:$Z$368,2,0)","v":0},"","",""]
["51diMD",{"$f":"VLOOKUP($AA1060,DATA!$B$3:$E$6,2,0)","v":"14:30:00"},{"$f":"VLOOKUP($AA1060,DATA!$B$3:$E$6,3,0)","v":"22:30:00"},{"$f":"VLOOKUP($AA1060,DATA!$B$3:$E$6,4,0)","v":3.125E-2},0.30208333333333337,0.30208333333333337,{"$f":"DATA!$C$9","v":0.89},{"$f":"DATA!$C$10","v":64},1,407.81250000000006,407.81250000000006,0,"","",0,"","",0,"","","","",null,{"$f":"X1066","v":51},null,{"$f":"TEXT(Y1059,\"ddd\")","v":"di"},"MD",{"$f":"IFERROR(HLOOKUP(Y1059,[1]DATA!$A$1:$NB$5,4,0),\"\")","v":"D1"},null,null,null,null,{"$f":"VLOOKUP(Y1059,[1]SRA!$S$4:$Z$368,3,0)","v":0},"","",""]
["51diND",{"$f":"VLOOKUP($AA1061,DATA!$B$3:$E$6,2,0)","v":"22:30:00"},{"$f":"VLOOKUP($AA1061,DATA!$B$3:$E$6,3,0)","v":"06:30:00"},{"$f":"VLOOKUP($AA1061,DATA!$B$3:$E$6,4,0)","v":3.125E-2},0.30208333333333326,0.30208333333333326,{"$f":"DATA!$C$9","v":0.89},{"$f":"DATA!$C$10","v":64},1,407.81249999999989,407.81249999999989,0,"","",0,"","",0,"","","","",null,{"$f":"X1066","v":51},null,{"$f":"TEXT(Y1059,\"ddd\")","v":"di"},"ND",{"$f":"IFERROR(HLOOKUP(Y1059,[1]DATA!$A$1:$NB$5,5,0),\"\")","v":"D3"},null,null,null,null,{"$f":"VLOOKUP(Y1059,[1]SRA!$S$4:$Z$368,4,0)","v":0},"","",""]
["51woDD",{"$f":"VLOOKUP($AA1062,DATA!$B$3:$E$6,2,0)","v":"06:30:00"},{"$f":"VLOOKUP($AA1062,DATA!$B$3:$E$6,3,0)","v":"14:30:00"},{"$f":"VLOOKUP($AA1062,DATA!$B$3:$E$6,4,0)","v":3.125E-2},0.30208333333333331,0.30208333333333331,{"$f":"DATA!$C$9","v":0.89},{"$f":"DATA!$C$10","v":64},1,407.8125,407.8125,0,"","",0,"","",0,"","","","",null,{"$f":"X1066","v":51},"2018-12-19",{"$f":"TEXT(Y1062,\"ddd\")","v":"wo"},"DD",{"$f":"IFERROR(HLOOKUP(Y1062,[1]DATA!$A$1:$NB$5,3,0),\"\")","v":"D2"},null,null,null,null,{"$f":"VLOOKUP(Y1062,[1]SRA!$S$4:$Z$368,2,0)","v":0},"","",""]
["51woMD",{"$f":"VLOOKUP($AA1063,DATA!$B$3:$E$6,2,0)","v":"14:30:00"},{"$f":"VLOOKUP($AA1063,DATA!$B$3:$E$6,3,0)","v":"22:30:00"},{"$f":"VLOOKUP($AA1063,DATA!$B$3:$E$6,4,0)","v":3.125E-2},0.30208333333333337,0.30208333333333337,{"$f":"DATA!$C$9","v":0.89},{"$f":"DATA!$C$10","v":64},1,407.81250000000006,407.81250000000006,0,"","",0,"","",0,"","","","",null,{"$f":"X1066","v":51},null,{"$f":"TEXT(Y1062,\"ddd\")","v":"wo"},"MD",{"$f":"IFERROR(HLOOKUP(Y1062,[1]DATA!$A$1:$NB$5,4,0),\"\")","v":"D1"},null,null,null,null,{"$f":"VLOOKUP(Y1062,[1]SRA!$S$4:$Z$368,3,0)","v":0},"","",""]
["51woND",{"$f":"VLOOKUP($AA1064,DATA!$B$3:$E$6,2,0)","v":"22:30:00"},{"$f":"VLOOKUP($AA1064,DATA!$B$3:$E$6,3,0)","v":"06:30:00"},{"$f":"VLOOKUP($AA1064,DATA!$B$3:$E$6,4,0)","v":3.125E-2},0.30208333333333326,0.30208333333333326,{"$f":"DATA!$C$9","v":0.89},{"$f":"DATA!$C$10","v":64},1,407.81249999999989,407.81249999999989,0,"","",0,"","",0,"","","","",null,{"$f":"X1066","v":51},null,{"$f":"TEXT(Y1062,\"ddd\")","v":"wo"},"ND",{"$f":"IFERROR(HLOOKUP(Y1062,[1]DATA!$A$1:$NB$5,5,0),\"\")","v":"D3"},null,null,null,null,{"$f":"VLOOKUP(Y1062,[1]SRA!$S$4:$Z$368,4,0)","v":0},"","",""]
["51doDD",{"$f":"VLOOKUP($AA1065,DATA!$B$3:$E$6,2,0)","v":"06:30:00"},{"$f":"VLOOKUP($AA1065,DATA!$B$3:$E$6,3,0)","v":"14:30:00"},{"$f":"VLOOKUP($AA1065,DATA!$B$3:$E$6,4,0)","v":3.125E-2},0.30208333333333331,0.30208333333333331,{"$f":"DATA!$C$9","v":0.89},{"$f":"DATA!$C$10","v":64},1,407.8125,407.8125,0,"","",0,"","",0,"","","","",null,{"$f":"X1066","v":51},"2018-12-20",{"$f":"TEXT(Y1065,\"ddd\")","v":"do"},"DD",{"$f":"IFERROR(HLOOKUP(Y1065,[1]DATA!$A$1:$NB$5,3,0),\"\")","v":"D2"},null,null,null,null,{"$f":"VLOOKUP(Y1065,[1]SRA!$S$4:$Z$368,2,0)","v":0},"","",""]
["51doMD",{"$f":"VLOOKUP($AA1066,DATA!$B$3:$E$6,2,0)","v":"14:30:00"},{"$f":"VLOOKUP($AA1066,DATA!$B$3:$E$6,3,0)","v":"22:30:00"},{"$f":"VLOOKUP($AA1066,DATA!$B$3:$E$6,4,0)","v":3.125E-2},0.30208333333333337,0.30208333333333337,{"$f":"DATA!$C$9","v":0.89},{"$f":"DATA!$C$10","v":64},1,407.81250000000006,407.81250000000006,0,"","",0,"","",0,"","","","",null,{"$f":"WEEKNUM($Y1056)","v":51},null,{"$f":"TEXT(Y1065,\"ddd\")","v":"do"},"MD",{"$f":"IFERROR(HLOOKUP(Y1065,[1]DATA!$A$1:$NB$5,4,0),\"\")","v":"D1"},null,null,null,null,{"$f":"VLOOKUP(Y1065,[1]SRA!$S$4:$Z$368,3,0)","v":0},"","",""]
["51doND",{"$f":"VLOOKUP($AA1067,DATA!$B$3:$E$6,2,0)","v":"22:30:00"},{"$f":"VLOOKUP($AA1067,DATA!$B$3:$E$6,3,0)","v":"06:30:00"},{"$f":"VLOOKUP($AA1067,DATA!$B$3:$E$6,4,0)","v":3.125E-2},0.30208333333333326,0.30208333333333326,{"$f":"DATA!$C$9","v":0.89},{"$f":"DATA!$C$10","v":64},1,407.81249999999989,407.81249999999989,0,"","",0,"","",0,"","","","",null,{"$f":"X1066","v":51},null,{"$f":"TEXT(Y1065,\"ddd\")","v":"do"},"ND",{"$f":"IFERROR(HLOOKUP(Y1065,[1]DATA!$A$1:$NB$5,5,0),\"\")","v":"D3"},null,null,null,null,{"$f":"VLOOKUP(Y1065,[1]SRA!$S$4:$Z$368,4,0)","v":0},"","",""]
["51vrDD",{"$f":"VLOOKUP($AA1068,DATA!$B$3:$E$6,2,0)","v":"06:30:00"},{"$f":"VLOOKUP($AA1068,DATA!$B$3:$E$6,3,0)","v":"14:30:00"},{"$f":"VLOOKUP($AA1068,DATA!$B$3:$E$6,4,0)","v":3.125E-2},0.30208333333333331,0.30208333333333331,{"$f":"DATA!$C$9","v":0.89},{"$f":"DATA!$C$10","v":64},1,407.8125,407.8125,0,"","",0,"","",0,"","","","",null,{"$f":"X1066","v":51},"2018-12-21",{"$f":"TEXT(Y1068,\"ddd\")","v":"vr"},"DD",{"$f":"IFERROR(HLOOKUP(Y1068,[1]DATA!$A$1:$NB$5,3,0),\"\")","v":"D2"},null,null,null,null,{"$f":"VLOOKUP(Y1068,[1]SRA!$S$4:$Z$368,2,0)","v":0},"","",""]
["51vrMD",{"$f":"VLOOKUP($AA1069,DATA!$B$3:$E$6,2,0)","v":"14:30:00"},{"$f":"VLOOKUP($AA1069,DATA!$B$3:$E$6,3,0)","v":"22:30:00"},{"$f":"VLOOKUP($AA1069,DATA!$B$3:$E$6,4,0)","v":3.125E-2},0.30208333333333337,0.30208333333333337,{"$f":"DATA!$C$9","v":0.89},{"$f":"DATA!$C$10","v":64},1,407.81250000000006,407.81250000000006,0,"","",0,"","",0,"","","","",null,{"$f":"X1066","v":51},null,{"$f":"TEXT(Y1068,\"ddd\")","v":"vr"},"MD",{"$f":"IFERROR(HLOOKUP(Y1068,[1]DATA!$A$1:$NB$5,4,0),\"\")","v":"D1"},null,null,null,null,{"$f":"VLOOKUP(Y1068,[1]SRA!$S$4:$Z$368,3,0)","v":0},"","",""]
["51vrND",{"$f":"VLOOKUP($AA1070,DATA!$B$3:$E$6,2,0)","v":"22:30:00"},{"$f":"VLOOKUP($AA1070,DATA!$B$3:$E$6,3,0)","v":"06:30:00"},{"$f":"VLOOKUP($AA1070,DATA!$B$3:$E$6,4,0)","v":3.125E-2},0.30208333333333326,0.30208333333333326,{"$f":"DATA!$C$9","v":0.89},{"$f":"DATA!$C$10","v":64},1,407.81249999999989,407.81249999999989,0,"","",0,"","",0,"","","","",null,{"$f":"X1066","v":51},null,{"$f":"TEXT(Y1068,\"ddd\")","v":"vr"},"ND",{"$f":"IFERROR(HLOOKUP(Y1068,[1]DATA!$A$1:$NB$5,5,0),\"\")","v":"D3"},null,null,null,null,{"$f":"VLOOKUP(Y1068,[1]SRA!$S$4:$Z$368,4,0)","v":0},"","",""]
["51zaDD",{"$f":"VLOOKUP($AA1071,DATA!$B$3:$E$6,2,0)","v":"06:30:00"},{"$f":"VLOOKUP($AA1071,DATA!$B$3:$E$6,3,0)","v":"14:30:00"},{"$f":"VLOOKUP($AA1071,DATA!$B$3:$E$6,4,0)","v":3.125E-2},0.30208333333333331,0.30208333333333331,{"$f":"DATA!$C$9","v":0.89},{"$f":"DATA!$C$10","v":64},1,407.8125,407.8125,0,"","",0,"","",0,"","","","",null,{"$f":"X1066","v":51},"2018-12-22",{"$f":"TEXT(Y1071,\"ddd\")","v":"za"},"DD",{"$f":"IFERROR(HLOOKUP(Y1071,[1]DATA!$A$1:$NB$5,3,0),\"\")","v":"D2"},null,null,null,null,{"$f":"VLOOKUP(Y1071,[1]SRA!$S$4:$Z$368,2,0)","v":0},"","",""]
[{"$f":"X1072&Z1072&AA1072","v":"51zaMD"},{"$f":"VLOOKUP($AA1072,DATA!$B$3:$E$6,2,0)","v":"14:30:00"},{"$f":"VLOOKUP($AA1072,DATA!$B$3:$E$6,3,0)","v":"22:30:00"},{"$f":"VLOOKUP($AA1072,DATA!$B$3:$E$6,4,0)","v":3.125E-2},0.30208333333333337,0.30208333333333337,{"$f":"DATA!$C$9","v":0.89},{"$f":"DATA!$C$10","v":64},1,407.81250000000006,407.81250000000006,0,"","",0,{"$f":"IF($O1072*86400/$H1072=0,\"\",$O1072*86400/$H1072)","v":""},"",0,"","","","",null,{"$f":"X1066","v":51},null,{"$f":"TEXT(Y1071,\"ddd\")","v":"za"},"MD",{"$f":"IFERROR(HLOOKUP(Y1071,[1]DATA!$A$1:$NB$5,4,0),\"\")","v":"-"},null,null,null,null,{"$f":"VLOOKUP(Y1071,[1]SRA!$S$4:$Z$368,3,0)","v":0},"","",""]
["51zaND",{"$f":"VLOOKUP($AA1073,DATA!$B$3:$E$6,2,0)","v":"22:30:00"},{"$f":"VLOOKUP($AA1073,DATA!$B$3:$E$6,3,0)","v":"06:30:00"},{"$f":"VLOOKUP($AA1073,DATA!$B$3:$E$6,4,0)","v":3.125E-2},0.30208333333333326,0.30208333333333326,{"$f":"DATA!$C$9","v":0.89},{"$f":"DATA!$C$10","v":64},1,407.81249999999989,407.81249999999989,0,"","",0,"","",0,"","","","",null,{"$f":"X1066","v":51},null,{"$f":"TEXT(Y1071,\"ddd\")","v":"za"},"ND",{"$f":"IFERROR(HLOOKUP(Y1071,[1]DATA!$A$1:$NB$5,5,0),\"\")","v":"-"},null,null,null,null,{"$f":"VLOOKUP(Y1071,[1]SRA!$S$4:$Z$368,4,0)","v":0},"","",""]
["51zoDD",{"$f":"VLOOKUP($AA1074,DATA!$B$3:$E$6,2,0)","v":"06:30:00"},{"$f":"VLOOKUP($AA1074,DATA!$B$3:$E$6,3,0)","v":"14:30:00"},{"$f":"VLOOKUP($AA1074,DATA!$B$3:$E$6,4,0)","v":3.125E-2},0.30208333333333331,0.30208333333333331,{"$f":"DATA!$C$9","v":0.89},{"$f":"DATA!$C$10","v":64},1,407.8125,407.8125,0,"","",0,"","",0,"","","","",null,{"$f":"X1066","v":51},"2018-12-23",{"$f":"TEXT(Y1074,\"ddd\")","v":"zo"},"DD",{"$f":"IFERROR(HLOOKUP(Y1074,[1]DATA!$A$1:$NB$5,3,0),\"\")","v":"-"},null,null,null,null,{"$f":"VLOOKUP(Y1074,[1]SRA!$S$4:$Z$368,2,0)","v":0},"","",""]
["51zoMD",{"$f":"VLOOKUP($AA1075,DATA!$B$3:$E$6,2,0)","v":"14:30:00"},{"$f":"VLOOKUP($AA1075,DATA!$B$3:$E$6,3,0)","v":"22:30:00"},{"$f":"VLOOKUP($AA1075,DATA!$B$3:$E$6,4,0)","v":3.125E-2},0.30208333333333337,0.30208333333333337,{"$f":"DATA!$C$9","v":0.89},{"$f":"DATA!$C$10","v":64},1,407.81250000000006,407.81250000000006,0,"","",0,"","",0,"","","","",null,{"$f":"X1066","v":51},null,{"$f":"TEXT(Y1074,\"ddd\")","v":"zo"},"MD",{"$f":"IFERROR(HLOOKUP(Y1074,[1]DATA!$A$1:$NB$5,4,0),\"\")","v":"-"},null,null,null,null,{"$f":"VLOOKUP(Y1074,[1]SRA!$S$4:$Z$368,3,0)","v":0},"","",""]
["51zoZND",{"$f":"VLOOKUP($AA1076,DATA!$B$3:$E$6,2,0)","v":"00:00:00"},{"$f":"VLOOKUP($AA1076,DATA!$B$3:$E$6,3,0)","v":"00:00:00"},{"$f":"VLOOKUP($AA1076,DATA!$B$3:$E$6,4,0)","v":0},0,0,{"$f":"DATA!$C$9","v":0.89},{"$f":"DATA!$C$10","v":64},1,0,0,0,"","",0,"","",0,"","","","",null,{"$f":"X1066","v":51},null,{"$f":"TEXT(Y1074,\"ddd\")","v":"zo"},"ZND",{"$f":"IFERROR(HLOOKUP(Y1074,[1]DATA!$A$1:$NB$5,5,0),\"\")","v":"-"},null,null,null,null,{"$f":"VLOOKUP(Y1074,[1]SRA!$S$4:$Z$368,4,0)","v":0},"","",""]
["52maDD",{"$f":"VLOOKUP($AA1077,DATA!$B$3:$E$6,2,0)","v":"06:30:00"},{"$f":"VLOOKUP($AA1077,DATA!$B$3:$E$6,3,0)","v":"14:30:00"},{"$f":"VLOOKUP($AA1077,DATA!$B$3:$E$6,4,0)","v":3.125E-2},0.30208333333333331,0.30208333333333331,{"$f":"DATA!$C$9","v":0.89},{"$f":"DATA!$C$10","v":64},1,407.8125,407.8125,0,"","",{"$f":"TIME(INT($AD1077/60),INT(MOD($AD1077,60)/1),0)","v":0},"","",0,"","","","",null,{"$f":"X1087","v":52},"2018-12-24",{"$f":"TEXT(Y1077,\"ddd\")","v":"ma"},"DD",{"$f":"IFERROR(HLOOKUP(Y1077,[1]DATA!$A$1:$NB$5,3,0),\"\")","v":"D1"},null,null,null,null,{"$f":"VLOOKUP(Y1077,[1]SRA!$S$4:$Z$368,2,0)","v":0},"","","",{"$f":"IF(SUMIF(S1077:S1097,\">0\",K1077:K1097)=0,\"\",SUMIF(S1077:S1097,\">0\",K1077:K1097))","v":""},{"$f":"IF(SUM(S1077:S1097)=0,\"\",SUM(S1077:S1097))","v":""},{"$f":"IFERROR(AL1077/AK1077,\"-\")","v":"-"},{"$f":"IF(SUM(M1077:M1097)=0,\"0\",SUM(M1077:M1097))","v":"0"},{"$f":"IFERROR(AN1077/AK1077,\"-\")","v":"-"},{"$f":"IF(SUM(P1077:P1097)=0,0,SUM(P1077:P1097))","v":0},{"$f":"IFERROR(AP1077/AK1077,\"-\")","v":"-"},{"$f":"IFERROR(AVERAGE(AJ1077:AJ1097),\"-\")","v":"-"},{"$f":"IFERROR(SUMIF($AB1077:$AB1097,AS$5,$AJ1077:$AJ1097)/COUNTIFS($AB1077:$AB1097,AS$5,$AJ1077:$AJ1097,\">0\"),\"\")","v":""},"","",{"$f":"IFERROR((AK1077-AL1077-AN1077-AP1077),\"-\")","v":"-"},{"$f":"IFERROR((1-AM1077-AO1077-AQ1077), \"-\")","v":"-"},{"$f":"IFERROR((AV1077*$AE$2)/60,\"-\")","v":"-"},{"$f":"IFERROR(SUM(AG1077:AG1097),\"\")","v":0}]
["52maMD",{"$f":"VLOOKUP($AA1078,DATA!$B$3:$E$6,2,0)","v":"14:30:00"},{"$f":"VLOOKUP($AA1078,DATA!$B$3:$E$6,3,0)","v":"22:30:00"},{"$f":"VLOOKUP($AA1078,DATA!$B$3:$E$6,4,0)","v":3.125E-2},0.30208333333333337,0.30208333333333337,{"$f":"DATA!$C$9","v":0.89},{"$f":"DATA!$C$10","v":64},1,407.81250000000006,407.81250000000006,0,"","",{"$f":"TIME(INT(AD1078/60),INT(MOD(AD1078,60)/1),0)","v":0},"","",0,"","","","",null,{"$f":"X1087","v":52},null,{"$f":"TEXT(Y1077,\"ddd\")","v":"ma"},"MD",{"$f":"IFERROR(HLOOKUP(Y1077,[1]DATA!$A$1:$NB$5,4,0),\"\")","v":"D3"},null,null,null,null,{"$f":"VLOOKUP(Y1077,[1]SRA!$S$4:$Z$368,3,0)","v":0},"","",""]
["52maND",{"$f":"VLOOKUP($AA1079,DATA!$B$3:$E$6,2,0)","v":"22:30:00"},{"$f":"VLOOKUP($AA1079,DATA!$B$3:$E$6,3,0)","v":"06:30:00"},{"$f":"VLOOKUP($AA1079,DATA!$B$3:$E$6,4,0)","v":3.125E-2},0.30208333333333326,0.30208333333333326,{"$f":"DATA!$C$9","v":0.89},{"$f":"DATA!$C$10","v":64},1,407.81249999999989,407.81249999999989,0,"","",0,"","",0,"","","","",null,{"$f":"X1087","v":52},null,{"$f":"TEXT(Y1077,\"ddd\")","v":"ma"},"ND",{"$f":"IFERROR(HLOOKUP(Y1077,[1]DATA!$A$1:$NB$5,5,0),\"\")","v":"D2"},null,null,null,null,{"$f":"VLOOKUP(Y1077,[1]SRA!$S$4:$Z$368,4,0)","v":0},"","",""]
["52diDD",{"$f":"VLOOKUP($AA1080,DATA!$B$3:$E$6,2,0)","v":"06:30:00"},{"$f":"VLOOKUP($AA1080,DATA!$B$3:$E$6,3,0)","v":"14:30:00"},{"$f":"VLOOKUP($AA1080,DATA!$B$3:$E$6,4,0)","v":3.125E-2},0.30208333333333331,0.30208333333333331,{"$f":"DATA!$C$9","v":0.89},{"$f":"DATA!$C$10","v":64},1,407.8125,407.8125,0,"","",0,"","",0,"","","","",null,{"$f":"X1087","v":52},"2018-12-25",{"$f":"TEXT(Y1080,\"ddd\")","v":"di"},"DD",{"$f":"IFERROR(HLOOKUP(Y1080,[1]DATA!$A$1:$NB$5,3,0),\"\")","v":"D1"},null,null,null,null,{"$f":"VLOOKUP(Y1080,[1]SRA!$S$4:$Z$368,2,0)","v":0},"","",""]
["52diMD",{"$f":"VLOOKUP($AA1081,DATA!$B$3:$E$6,2,0)","v":"14:30:00"},{"$f":"VLOOKUP($AA1081,DATA!$B$3:$E$6,3,0)","v":"22:30:00"},{"$f":"VLOOKUP($AA1081,DATA!$B$3:$E$6,4,0)","v":3.125E-2},0.30208333333333337,0.30208333333333337,{"$f":"DATA!$C$9","v":0.89},{"$f":"DATA!$C$10","v":64},1,407.81250000000006,407.81250000000006,0,"","",0,"","",0,"","","","",null,{"$f":"X1087","v":52},null,{"$f":"TEXT(Y1080,\"ddd\")","v":"di"},"MD",{"$f":"IFERROR(HLOOKUP(Y1080,[1]DATA!$A$1:$NB$5,4,0),\"\")","v":"D3"},null,null,null,null,{"$f":"VLOOKUP(Y1080,[1]SRA!$S$4:$Z$368,3,0)","v":0},"","",""]
["52diND",{"$f":"VLOOKUP($AA1082,DATA!$B$3:$E$6,2,0)","v":"22:30:00"},{"$f":"VLOOKUP($AA1082,DATA!$B$3:$E$6,3,0)","v":"06:30:00"},{"$f":"VLOOKUP($AA1082,DATA!$B$3:$E$6,4,0)","v":3.125E-2},0.30208333333333326,0.30208333333333326,{"$f":"DATA!$C$9","v":0.89},{"$f":"DATA!$C$10","v":64},1,407.81249999999989,407.81249999999989,0,"","",0,"","",0,"","","","",null,{"$f":"X1087","v":52},null,{"$f":"TEXT(Y1080,\"ddd\")","v":"di"},"ND",{"$f":"IFERROR(HLOOKUP(Y1080,[1]DATA!$A$1:$NB$5,5,0),\"\")","v":"D2"},null,null,null,null,{"$f":"VLOOKUP(Y1080,[1]SRA!$S$4:$Z$368,4,0)","v":0},"","",""]
["52woDD",{"$f":"VLOOKUP($AA1083,DATA!$B$3:$E$6,2,0)","v":"06:30:00"},{"$f":"VLOOKUP($AA1083,DATA!$B$3:$E$6,3,0)","v":"14:30:00"},{"$f":"VLOOKUP($AA1083,DATA!$B$3:$E$6,4,0)","v":3.125E-2},0.30208333333333331,0.30208333333333331,{"$f":"DATA!$C$9","v":0.89},{"$f":"DATA!$C$10","v":64},1,407.8125,407.8125,0,"","",0,"","",0,"","","","",null,{"$f":"X1087","v":52},"2018-12-26",{"$f":"TEXT(Y1083,\"ddd\")","v":"wo"},"DD",{"$f":"IFERROR(HLOOKUP(Y1083,[1]DATA!$A$1:$NB$5,3,0),\"\")","v":"D1"},null,null,null,null,{"$f":"VLOOKUP(Y1083,[1]SRA!$S$4:$Z$368,2,0)","v":0},"","",""]
["52woMD",{"$f":"VLOOKUP($AA1084,DATA!$B$3:$E$6,2,0)","v":"14:30:00"},{"$f":"VLOOKUP($AA1084,DATA!$B$3:$E$6,3,0)","v":"22:30:00"},{"$f":"VLOOKUP($AA1084,DATA!$B$3:$E$6,4,0)","v":3.125E-2},0.30208333333333337,0.30208333333333337,{"$f":"DATA!$C$9","v":0.89},{"$f":"DATA!$C$10","v":64},1,407.81250000000006,407.81250000000006,0,"","",0,"","",0,"","","","",null,{"$f":"X1087","v":52},null,{"$f":"TEXT(Y1083,\"ddd\")","v":"wo"},"MD",{"$f":"IFERROR(HLOOKUP(Y1083,[1]DATA!$A$1:$NB$5,4,0),\"\")","v":"D3"},null,null,null,null,{"$f":"VLOOKUP(Y1083,[1]SRA!$S$4:$Z$368,3,0)","v":0},"","",""]
["52woND",{"$f":"VLOOKUP($AA1085,DATA!$B$3:$E$6,2,0)","v":"22:30:00"},{"$f":"VLOOKUP($AA1085,DATA!$B$3:$E$6,3,0)","v":"06:30:00"},{"$f":"VLOOKUP($AA1085,DATA!$B$3:$E$6,4,0)","v":3.125E-2},0.30208333333333326,0.30208333333333326,{"$f":"DATA!$C$9","v":0.89},{"$f":"DATA!$C$10","v":64},1,407.81249999999989,407.81249999999989,0,"","",0,"","",0,"","","","",null,{"$f":"X1087","v":52},null,{"$f":"TEXT(Y1083,\"ddd\")","v":"wo"},"ND",{"$f":"IFERROR(HLOOKUP(Y1083,[1]DATA!$A$1:$NB$5,5,0),\"\")","v":"D2"},null,null,null,null,{"$f":"VLOOKUP(Y1083,[1]SRA!$S$4:$Z$368,4,0)","v":0},"","",""]
["52doDD",{"$f":"VLOOKUP($AA1086,DATA!$B$3:$E$6,2,0)","v":"06:30:00"},{"$f":"VLOOKUP($AA1086,DATA!$B$3:$E$6,3,0)","v":"14:30:00"},{"$f":"VLOOKUP($AA1086,DATA!$B$3:$E$6,4,0)","v":3.125E-2},0.30208333333333331,0.30208333333333331,{"$f":"DATA!$C$9","v":0.89},{"$f":"DATA!$C$10","v":64},1,407.8125,407.8125,0,"","",0,"","",0,"","","","",null,{"$f":"X1087","v":52},"2018-12-27",{"$f":"TEXT(Y1086,\"ddd\")","v":"do"},"DD",{"$f":"IFERROR(HLOOKUP(Y1086,[1]DATA!$A$1:$NB$5,3,0),\"\")","v":"D1"},null,null,null,null,{"$f":"VLOOKUP(Y1086,[1]SRA!$S$4:$Z$368,2,0)","v":0},"","",""]
["52doMD",{"$f":"VLOOKUP($AA1087,DATA!$B$3:$E$6,2,0)","v":"14:30:00"},{"$f":"VLOOKUP($AA1087,DATA!$B$3:$E$6,3,0)","v":"22:30:00"},{"$f":"VLOOKUP($AA1087,DATA!$B$3:$E$6,4,0)","v":3.125E-2},0.30208333333333337,0.30208333333333337,{"$f":"DATA!$C$9","v":0.89},{"$f":"DATA!$C$10","v":64},1,407.81250000000006,407.81250000000006,0,"","",0,"","",0,"","","","",null,{"$f":"WEEKNUM($Y1077)","v":52},null,{"$f":"TEXT(Y1086,\"ddd\")","v":"do"},"MD",{"$f":"IFERROR(HLOOKUP(Y1086,[1]DATA!$A$1:$NB$5,4,0),\"\")","v":"D3"},null,null,null,null,{"$f":"VLOOKUP(Y1086,[1]SRA!$S$4:$Z$368,3,0)","v":0},"","",""]
["52doND",{"$f":"VLOOKUP($AA1088,DATA!$B$3:$E$6,2,0)","v":"22:30:00"},{"$f":"VLOOKUP($AA1088,DATA!$B$3:$E$6,3,0)","v":"06:30:00"},{"$f":"VLOOKUP($AA1088,DATA!$B$3:$E$6,4,0)","v":3.125E-2},0.30208333333333326,0.30208333333333326,{"$f":"DATA!$C$9","v":0.89},{"$f":"DATA!$C$10","v":64},1,407.81249999999989,407.81249999999989,0,"","",0,"","",0,"","","","",null,{"$f":"X1087","v":52},null,{"$f":"TEXT(Y1086,\"ddd\")","v":"do"},"ND",{"$f":"IFERROR(HLOOKUP(Y1086,[1]DATA!$A$1:$NB$5,5,0),\"\")","v":"D2"},null,null,null,null,{"$f":"VLOOKUP(Y1086,[1]SRA!$S$4:$Z$368,4,0)","v":0},"","",""]
["52vrDD",{"$f":"VLOOKUP($AA1089,DATA!$B$3:$E$6,2,0)","v":"06:30:00"},{"$f":"VLOOKUP($AA1089,DATA!$B$3:$E$6,3,0)","v":"14:30:00"},{"$f":"VLOOKUP($AA1089,DATA!$B$3:$E$6,4,0)","v":3.125E-2},0.30208333333333331,0.30208333333333331,{"$f":"DATA!$C$9","v":0.89},{"$f":"DATA!$C$10","v":64},1,407.8125,407.8125,0,"","",0,"","",0,"","","","",null,{"$f":"X1087","v":52},{"$f":"Y1086+1","v":"2018-12-28"},{"$f":"TEXT(Y1089,\"ddd\")","v":"vr"},"DD",{"$f":"IFERROR(HLOOKUP(Y1089,[1]DATA!$A$1:$NB$5,3,0),\"\")","v":"D1"},null,null,null,null,{"$f":"VLOOKUP(Y1089,[1]SRA!$S$4:$Z$368,2,0)","v":0},"","",""]
["52vrMD",{"$f":"VLOOKUP($AA1090,DATA!$B$3:$E$6,2,0)","v":"14:30:00"},{"$f":"VLOOKUP($AA1090,DATA!$B$3:$E$6,3,0)","v":"22:30:00"},{"$f":"VLOOKUP($AA1090,DATA!$B$3:$E$6,4,0)","v":3.125E-2},0.30208333333333337,0.30208333333333337,{"$f":"DATA!$C$9","v":0.89},{"$f":"DATA!$C$10","v":64},1,407.81250000000006,407.81250000000006,0,"","",0,"","",0,"","","","",null,{"$f":"X1087","v":52},null,{"$f":"TEXT(Y1089,\"ddd\")","v":"vr"},"MD",{"$f":"IFERROR(HLOOKUP(Y1089,[1]DATA!$A$1:$NB$5,4,0),\"\")","v":"D3"},null,null,null,null,{"$f":"VLOOKUP(Y1089,[1]SRA!$S$4:$Z$368,3,0)","v":0},"","",""]
["52vrND",{"$f":"VLOOKUP($AA1091,DATA!$B$3:$E$6,2,0)","v":"22:30:00"},{"$f":"VLOOKUP($AA1091,DATA!$B$3:$E$6,3,0)","v":"06:30:00"},{"$f":"VLOOKUP($AA1091,DATA!$B$3:$E$6,4,0)","v":3.125E-2},0.30208333333333326,0.30208333333333326,{"$f":"DATA!$C$9","v":0.89},{"$f":"DATA!$C$10","v":64},1,407.81249999999989,407.81249999999989,0,"","",0,"","",0,"","","","",null,{"$f":"X1087","v":52},null,{"$f":"TEXT(Y1089,\"ddd\")","v":"vr"},"ND",{"$f":"IFERROR(HLOOKUP(Y1089,[1]DATA!$A$1:$NB$5,5,0),\"\")","v":"D2"},null,null,null,null,{"$f":"VLOOKUP(Y1089,[1]SRA!$S$4:$Z$368,4,0)","v":0},"","",""]
["52zaDD",{"$f":"VLOOKUP($AA1092,DATA!$B$3:$E$6,2,0)","v":"06:30:00"},{"$f":"VLOOKUP($AA1092,DATA!$B$3:$E$6,3,0)","v":"14:30:00"},{"$f":"VLOOKUP($AA1092,DATA!$B$3:$E$6,4,0)","v":3.125E-2},0.30208333333333331,0.30208333333333331,{"$f":"DATA!$C$9","v":0.89},{"$f":"DATA!$C$10","v":64},1,407.8125,407.8125,0,"","",0,"","",0,"","","","",null,{"$f":"X1087","v":52},"2018-12-29",{"$f":"TEXT(Y1092,\"ddd\")","v":"za"},"DD",{"$f":"IFERROR(HLOOKUP(Y1092,[1]DATA!$A$1:$NB$5,3,0),\"\")","v":"D1"},null,null,null,null,{"$f":"VLOOKUP(Y1092,[1]SRA!$S$4:$Z$368,2,0)","v":0},"","",""]
["52zaMD",{"$f":"VLOOKUP($AA1093,DATA!$B$3:$E$6,2,0)","v":"14:30:00"},{"$f":"VLOOKUP($AA1093,DATA!$B$3:$E$6,3,0)","v":"22:30:00"},{"$f":"VLOOKUP($AA1093,DATA!$B$3:$E$6,4,0)","v":3.125E-2},0.30208333333333337,0.30208333333333337,{"$f":"DATA!$C$9","v":0.89},{"$f":"DATA!$C$10","v":64},1,407.81250000000006,407.81250000000006,0,"","",0,"","",0,"","","","",null,{"$f":"X1087","v":52},null,{"$f":"TEXT(Y1092,\"ddd\")","v":"za"},"MD",{"$f":"IFERROR(HLOOKUP(Y1092,[1]DATA!$A$1:$NB$5,4,0),\"\")","v":"-"},null,null,null,null,{"$f":"VLOOKUP(Y1092,[1]SRA!$S$4:$Z$368,3,0)","v":0},"","",""]
["52zaND",{"$f":"VLOOKUP($AA1094,DATA!$B$3:$E$6,2,0)","v":"22:30:00"},{"$f":"VLOOKUP($AA1094,DATA!$B$3:$E$6,3,0)","v":"06:30:00"},{"$f":"VLOOKUP($AA1094,DATA!$B$3:$E$6,4,0)","v":3.125E-2},0.30208333333333326,0.30208333333333326,{"$f":"DATA!$C$9","v":0.89},{"$f":"DATA!$C$10","v":64},1,{"$f":"F1094*86400/H1094*I1094","v":407.81249999999989},{"$f":"E1094*86400/H1094","v":407.81249999999989},0,"","",0,"","",{"$f":"AF1094*AG$2","v":0},{"$f":"IF(AF1094-AE1094=0,\"\",AF1094-AE1094)","v":""},"","","",null,{"$f":"X1087","v":52},null,{"$f":"TEXT(Y1092,\"ddd\")","v":"za"},"ND",{"$f":"IFERROR(HLOOKUP(Y1092,[1]DATA!$A$1:$NB$5,5,0),\"\")","v":"-"},null,null,null,null,{"$f":"VLOOKUP(Y1092,[1]SRA!$S$4:$Z$368,4,0)","v":0},{"$f":"IFERROR(S1094-J1094,\"\")","v":""},{"$f":"IFERROR(IF(S1094/(E1094*86400/H1094)<=0,\"\",S1094/(E1094*86400/H1094)),\"\")","v":""},""]
["52zoDD",{"$f":"VLOOKUP($AA1095,DATA!$B$3:$E$6,2,0)","v":"06:30:00"},{"$f":"VLOOKUP($AA1095,DATA!$B$3:$E$6,3,0)","v":"14:30:00"},{"$f":"VLOOKUP($AA1095,DATA!$B$3:$E$6,4,0)","v":3.125E-2},0.30208333333333331,0.30208333333333331,{"$f":"DATA!$C$9","v":0.89},{"$f":"DATA!$C$10","v":64},1,407.8125,407.8125,{"$f":"TIME(INT($AC1095/60),INT(MOD($AC1095,60)/1),0)","v":0},{"$f":"IF($L1095*86400/$H1095=0,\"\",$L1095*86400/$H1095)","v":""},{"$f":"IFERROR($M1095/$K1095,\"\")","v":""},0,"",{"$f":"IFERROR($P1095/$K1095,\"\")","v":""},0,"",{"$f":"IF(IF($AB1095=\"D1\",$S1095,\"\")=0,\"\",IF($AB1095=\"D1\",$S1095,\"\"))","v":""},{"$f":"IF(IF($AB1095=\"D2\",$S1095,\"\")=0,\"\",IF($AB1095=\"D2\",$S1095,\"\"))","v":""},{"$f":"IF(IF($AB1095=\"D3\",$S1095,\"\")=0,\"\",IF($AB1095=\"D3\",$S1095,\"\"))","v":""},null,{"$f":"X1087","v":52},"2018-12-30",{"$f":"TEXT(Y1095,\"ddd\")","v":"zo"},"DD",{"$f":"IFERROR(HLOOKUP(Y1095,[1]DATA!$A$1:$NB$5,3,0),\"\")","v":"-"},null,null,null,null,{"$f":"VLOOKUP(Y1095,[1]SRA!$S$4:$Z$368,2,0)","v":0},"","",""]
["52zoMD",{"$f":"VLOOKUP($AA1096,DATA!$B$3:$E$6,2,0)","v":"14:30:00"},{"$f":"VLOOKUP($AA1096,DATA!$B$3:$E$6,3,0)","v":"22:30:00"},{"$f":"VLOOKUP($AA1096,DATA!$B$3:$E$6,4,0)","v":3.125E-2},0.30208333333333337,0.30208333333333337,{"$f":"DATA!$C$9","v":0.89},{"$f":"DATA!$C$10","v":64},1,407.81250000000006,407.81250000000006,0,"","",0,"","",0,"","","","",null,{"$f":"X1087","v":52},null,{"$f":"TEXT(Y1095,\"ddd\")","v":"zo"},"MD",{"$f":"IFERROR(HLOOKUP(Y1095,[1]DATA!$A$1:$NB$5,4,0),\"\")","v":"-"},null,null,null,null,{"$f":"VLOOKUP(Y1095,[1]SRA!$S$4:$Z$368,3,0)","v":0},"","",""]
["52zoZND",{"$f":"VLOOKUP($AA1097,DATA!$B$3:$E$6,2,0)","v":"00:00:00"},{"$f":"VLOOKUP($AA1097,DATA!$B$3:$E$6,3,0)","v":"00:00:00"},{"$f":"VLOOKUP($AA1097,DATA!$B$3:$E$6,4,0)","v":0},0,0,{"$f":"DATA!$C$9","v":0.89},{"$f":"DATA!$C$10","v":64},1,0,0,0,"","",0,"","",0,"","","","",null,{"$f":"X1087","v":52},null,{"$f":"TEXT(Y1095,\"ddd\")","v":"zo"},"ZND",{"$f":"IFERROR(HLOOKUP(Y1095,[1]DATA!$A$1:$NB$5,5,0),\"\")","v":"-"},null,null,null,null,{"$f":"VLOOKUP(Y1095,[1]SRA!$S$4:$Z$368,4,0)","v":0},"","",""]
["53maDD",{"$f":"VLOOKUP($AA1098,DATA!$B$3:$E$6,2,0)","v":"06:30:00"},{"$f":"VLOOKUP($AA1098,DATA!$B$3:$E$6,3,0)","v":"14:30:00"},{"$f":"VLOOKUP($AA1098,DATA!$B$3:$E$6,4,0)","v":3.125E-2},0.30208333333333331,0.30208333333333331,{"$f":"DATA!$C$9","v":0.89},{"$f":"DATA!$C$10","v":64},1,407.8125,407.8125,0,"","",{"$f":"TIME(INT($AD1098/60),INT(MOD($AD1098,60)/1),0)","v":0},"","",0,"","","","",null,{"$f":"X1108","v":53},"2018-12-31",{"$f":"TEXT(Y1098,\"ddd\")","v":"ma"},"DD",{"$f":"IFERROR(HLOOKUP(Y1098,[1]DATA!$A$1:$NB$5,3,0),\"\")","v":"D3"},null,null,null,null,{"$f":"VLOOKUP(Y1098,[1]SRA!$S$4:$Z$368,2,0)","v":0},"","","",{"$f":"IF(SUMIF(S1098:S1118,\">0\",K1098:K1118)=0,\"\",SUMIF(S1098:S1118,\">0\",K1098:K1118))","v":""},{"$f":"IF(SUM(S1098:S1118)=0,\"\",SUM(S1098:S1118))","v":""},{"$f":"IFERROR(AL1098/AK1098,\"-\")","v":"-"},{"$f":"IF(SUM(M1098:M1118)=0,\"0\",SUM(M1098:M1118))","v":"0"},{"$f":"IFERROR(AN1098/AK1098,\"-\")","v":"-"},{"$f":"IF(SUM(P1098:P1118)=0,0,SUM(P1098:P1118))","v":0},{"$f":"IFERROR(AP1098/AK1098,\"-\")","v":"-"},{"$f":"IFERROR(AVERAGE(AJ1098:AJ1118),\"-\")","v":"-"},{"$f":"IFERROR(SUMIF($AB1098:$AB1118,AS$5,$AJ1098:$AJ1118)/COUNTIFS($AB1098:$AB1118,AS$5,$AJ1098:$AJ1118,\">0\"),\"\")","v":""},"","",{"$f":"IFERROR((AK1098-AL1098-AN1098-AP1098),\"-\")","v":"-"},{"$f":"IFERROR((1-AM1098-AO1098-AQ1098), \"-\")","v":"-"},{"$f":"IFERROR((AV1098*$AE$2)/60,\"-\")","v":"-"},{"$f":"IFERROR(SUM(AG1098:AG1118),\"\")","v":""}]
["53maMD",{"$f":"VLOOKUP($AA1099,DATA!$B$3:$E$6,2,0)","v":"14:30:00"},{"$f":"VLOOKUP($AA1099,DATA!$B$3:$E$6,3,0)","v":"22:30:00"},{"$f":"VLOOKUP($AA1099,DATA!$B$3:$E$6,4,0)","v":3.125E-2},0.30208333333333337,0.30208333333333337,{"$f":"DATA!$C$9","v":0.89},{"$f":"DATA!$C$10","v":64},1,407.81250000000006,407.81250000000006,0,"","",{"$f":"TIME(INT(AD1099/60),INT(MOD(AD1099,60)/1),0)","v":0},"","",0,"","","","",null,{"$f":"X1108","v":53},null,{"$f":"TEXT(Y1098,\"ddd\")","v":"ma"},"MD",{"$f":"IFERROR(HLOOKUP(Y1098,[1]DATA!$A$1:$NB$5,4,0),\"\")","v":"D2"},null,null,null,null,{"$f":"VLOOKUP(Y1098,[1]SRA!$S$4:$Z$368,3,0)","v":0},"","",""]
["53maND",{"$f":"VLOOKUP($AA1100,DATA!$B$3:$E$6,2,0)","v":"22:30:00"},{"$f":"VLOOKUP($AA1100,DATA!$B$3:$E$6,3,0)","v":"06:30:00"},{"$f":"VLOOKUP($AA1100,DATA!$B$3:$E$6,4,0)","v":3.125E-2},0.30208333333333326,0.30208333333333326,{"$f":"DATA!$C$9","v":0.89},{"$f":"DATA!$C$10","v":64},1,407.81249999999989,407.81249999999989,0,"","",0,"","",0,"","","","",null,{"$f":"X1108","v":53},null,{"$f":"TEXT(Y1098,\"ddd\")","v":"ma"},"ND",{"$f":"IFERROR(HLOOKUP(Y1098,[1]DATA!$A$1:$NB$5,5,0),\"\")","v":"D1"},null,null,null,null,{"$f":"VLOOKUP(Y1098,[1]SRA!$S$4:$Z$368,4,0)","v":0},"","",""]
["53diDD",{"$f":"VLOOKUP($AA1101,DATA!$B$3:$E$6,2,0)","v":"06:30:00"},{"$f":"VLOOKUP($AA1101,DATA!$B$3:$E$6,3,0)","v":"14:30:00"},{"$f":"VLOOKUP($AA1101,DATA!$B$3:$E$6,4,0)","v":3.125E-2},0.30208333333333331,0.30208333333333331,{"$f":"DATA!$C$9","v":0.89},{"$f":"DATA!$C$10","v":64},1,407.8125,407.8125,0,"","",0,"","",0,"","","","",null,{"$f":"X1108","v":53},"2019-01-01",{"$f":"TEXT(Y1101,\"ddd\")","v":"di"},"DD",{"$f":"IFERROR(HLOOKUP(Y1101,[1]DATA!$A$1:$NB$5,3,0),\"\")","v":""},null,null,null,null,{"$f":"VLOOKUP(Y1101,[1]SRA!$S$4:$Z$368,2,0)","v":{"$error":"#N/A"}},"","",""]
["53diMD",{"$f":"VLOOKUP($AA1102,DATA!$B$3:$E$6,2,0)","v":"14:30:00"},{"$f":"VLOOKUP($AA1102,DATA!$B$3:$E$6,3,0)","v":"22:30:00"},{"$f":"VLOOKUP($AA1102,DATA!$B$3:$E$6,4,0)","v":3.125E-2},0.30208333333333337,0.30208333333333337,{"$f":"DATA!$C$9","v":0.89},{"$f":"DATA!$C$10","v":64},1,407.81250000000006,407.81250000000006,0,"","",0,"","",0,"","","","",null,{"$f":"X1108","v":53},null,{"$f":"TEXT(Y1101,\"ddd\")","v":"di"},"MD",{"$f":"IFERROR(HLOOKUP(Y1101,[1]DATA!$A$1:$NB$5,4,0),\"\")","v":""},null,null,null,null,{"$f":"VLOOKUP(Y1101,[1]SRA!$S$4:$Z$368,3,0)","v":{"$error":"#N/A"}},"","",""]
["53diND",{"$f":"VLOOKUP($AA1103,DATA!$B$3:$E$6,2,0)","v":"22:30:00"},{"$f":"VLOOKUP($AA1103,DATA!$B$3:$E$6,3,0)","v":"06:30:00"},{"$f":"VLOOKUP($AA1103,DATA!$B$3:$E$6,4,0)","v":3.125E-2},0.30208333333333326,0.30208333333333326,{"$f":"DATA!$C$9","v":0.89},{"$f":"DATA!$C$10","v":64},1,407.81249999999989,407.81249999999989,0,"","",0,"","",0,"","","","",null,{"$f":"X1108","v":53},null,{"$f":"TEXT(Y1101,\"ddd\")","v":"di"},"ND",{"$f":"IFERROR(HLOOKUP(Y1101,[1]DATA!$A$1:$NB$5,5,0),\"\")","v":""},null,null,null,null,{"$f":"VLOOKUP(Y1101,[1]SRA!$S$4:$Z$368,4,0)","v":{"$error":"#N/A"}},"","",""]
["53woDD",{"$f":"VLOOKUP($AA1104,DATA!$B$3:$E$6,2,0)","v":"06:30:00"},{"$f":"VLOOKUP($AA1104,DATA!$B$3:$E$6,3,0)","v":"14:30:00"},{"$f":"VLOOKUP($AA1104,DATA!$B$3:$E$6,4,0)","v":3.125E-2},0.30208333333333331,0.30208333333333331,{"$f":"DATA!$C$9","v":0.89},{"$f":"DATA!$C$10","v":64},1,407.8125,407.8125,0,"","",0,"","",0,"","","","",null,{"$f":"X1108","v":53},"2019-01-02",{"$f":"TEXT(Y1104,\"ddd\")","v":"wo"},"DD",{"$f":"IFERROR(HLOOKUP(Y1104,[1]DATA!$A$1:$NB$5,3,0),\"\")","v":""},null,null,null,null,{"$f":"VLOOKUP(Y1104,[1]SRA!$S$4:$Z$368,2,0)","v":{"$error":"#N/A"}},"","",""]
["53woMD",{"$f":"VLOOKUP($AA1105,DATA!$B$3:$E$6,2,0)","v":"14:30:00"},{"$f":"VLOOKUP($AA1105,DATA!$B$3:$E$6,3,0)","v":"22:30:00"},{"$f":"VLOOKUP($AA1105,DATA!$B$3:$E$6,4,0)","v":3.125E-2},0.30208333333333337,0.30208333333333337,{"$f":"DATA!$C$9","v":0.89},{"$f":"DATA!$C$10","v":64},1,407.81250000000006,407.81250000000006,0,"","",0,"","",0,"","","","",null,{"$f":"X1108","v":53},null,{"$f":"TEXT(Y1104,\"ddd\")","v":"wo"},"MD",{"$f":"IFERROR(HLOOKUP(Y1104,[1]DATA!$A$1:$NB$5,4,0),\"\")","v":""},null,null,null,null,{"$f":"VLOOKUP(Y1104,[1]SRA!$S$4:$Z$368,3,0)","v":{"$error":"#N/A"}},"","",""]
["53woND",{"$f":"VLOOKUP($AA1106,DATA!$B$3:$E$6,2,0)","v":"22:30:00"},{"$f":"VLOOKUP($AA1106,DATA!$B$3:$E$6,3,0)","v":"06:30:00"},{"$f":"VLOOKUP($AA1106,DATA!$B$3:$E$6,4,0)","v":3.125E-2},0.30208333333333326,0.30208333333333326,{"$f":"DATA!$C$9","v":0.89},{"$f":"DATA!$C$10","v":64},1,407.81249999999989,407.81249999999989,0,"","",0,"","",0,"","","","",null,{"$f":"X1108","v":53},null,{"$f":"TEXT(Y1104,\"ddd\")","v":"wo"},"ND",{"$f":"IFERROR(HLOOKUP(Y1104,[1]DATA!$A$1:$NB$5,5,0),\"\")","v":""},null,null,null,null,{"$f":"VLOOKUP(Y1104,[1]SRA!$S$4:$Z$368,4,0)","v":{"$error":"#N/A"}},"","",""]
["53doDD",{"$f":"VLOOKUP($AA1107,DATA!$B$3:$E$6,2,0)","v":"06:30:00"},{"$f":"VLOOKUP($AA1107,DATA!$B$3:$E$6,3,0)","v":"14:30:00"},{"$f":"VLOOKUP($AA1107,DATA!$B$3:$E$6,4,0)","v":3.125E-2},0.30208333333333331,0.30208333333333331,{"$f":"DATA!$C$9","v":0.89},{"$f":"DATA!$C$10","v":64},1,407.8125,407.8125,0,"","",0,"","",0,"","","","",null,{"$f":"X1108","v":53},"2019-01-03",{"$f":"TEXT(Y1107,\"ddd\")","v":"do"},"DD",{"$f":"IFERROR(HLOOKUP(Y1107,[1]DATA!$A$1:$NB$5,3,0),\"\")","v":""},null,null,null,null,{"$f":"VLOOKUP(Y1107,[1]SRA!$S$4:$Z$368,2,0)","v":{"$error":"#N/A"}},"","",""]
["53doMD",{"$f":"VLOOKUP($AA1108,DATA!$B$3:$E$6,2,0)","v":"14:30:00"},{"$f":"VLOOKUP($AA1108,DATA!$B$3:$E$6,3,0)","v":"22:30:00"},{"$f":"VLOOKUP($AA1108,DATA!$B$3:$E$6,4,0)","v":3.125E-2},0.30208333333333337,0.30208333333333337,{"$f":"DATA!$C$9","v":0.89},{"$f":"DATA!$C$10","v":64},1,407.81250000000006,407.81250000000006,0,"","",0,"","",0,"","","","",null,{"$f":"WEEKNUM($Y1098)","v":53},null,{"$f":"TEXT(Y1107,\"ddd\")","v":"do"},"MD",{"$f":"IFERROR(HLOOKUP(Y1107,[1]DATA!$A$1:$NB$5,4,0),\"\")","v":""},null,null,null,null,{"$f":"VLOOKUP(Y1107,[1]SRA!$S$4:$Z$368,3,0)","v":{"$error":"#N/A"}},"","",""]
["53doND",{"$f":"VLOOKUP($AA1109,DATA!$B$3:$E$6,2,0)","v":"22:30:00"},{"$f":"VLOOKUP($AA1109,DATA!$B$3:$E$6,3,0)","v":"06:30:00"},{"$f":"VLOOKUP($AA1109,DATA!$B$3:$E$6,4,0)","v":3.125E-2},0.30208333333333326,0.30208333333333326,{"$f":"DATA!$C$9","v":0.89},{"$f":"DATA!$C$10","v":64},1,407.81249999999989,407.81249999999989,0,"","",0,"","",0,"","","","",null,{"$f":"X1108","v":53},null,{"$f":"TEXT(Y1107,\"ddd\")","v":"do"},"ND",{"$f":"IFERROR(HLOOKUP(Y1107,[1]DATA!$A$1:$NB$5,5,0),\"\")","v":""},null,null,null,null,{"$f":"VLOOKUP(Y1107,[1]SRA!$S$4:$Z$368,4,0)","v":{"$error":"#N/A"}},"","",""]
["53vrDD",{"$f":"VLOOKUP($AA1110,DATA!$B$3:$E$6,2,0)","v":"06:30:00"},{"$f":"VLOOKUP($AA1110,DATA!$B$3:$E$6,3,0)","v":"14:30:00"},{"$f":"VLOOKUP($AA1110,DATA!$B$3:$E$6,4,0)","v":3.125E-2},0.30208333333333331,0.30208333333333331,{"$f":"DATA!$C$9","v":0.89},{"$f":"DATA!$C$10","v":64},1,407.8125,407.8125,0,"","",0,"","",0,"","","","",null,{"$f":"X1108","v":53},"2019-01-04",{"$f":"TEXT(Y1110,\"ddd\")","v":"vr"},"DD",{"$f":"IFERROR(HLOOKUP(Y1110,[1]DATA!$A$1:$NB$5,3,0),\"\")","v":""},null,null,null,null,{"$f":"VLOOKUP(Y1110,[1]SRA!$S$4:$Z$368,2,0)","v":{"$error":"#N/A"}},"","",""]
["53vrMD",{"$f":"VLOOKUP($AA1111,DATA!$B$3:$E$6,2,0)","v":"14:30:00"},{"$f":"VLOOKUP($AA1111,DATA!$B$3:$E$6,3,0)","v":"22:30:00"},{"$f":"VLOOKUP($AA1111,DATA!$B$3:$E$6,4,0)","v":3.125E-2},0.30208333333333337,0.30208333333333337,{"$f":"DATA!$C$9","v":0.89},{"$f":"DATA!$C$10","v":64},1,407.81250000000006,407.81250000000006,0,"","",0,"","",0,"","","","",null,{"$f":"X1108","v":53},null,{"$f":"TEXT(Y1110,\"ddd\")","v":"vr"},"MD",{"$f":"IFERROR(HLOOKUP(Y1110,[1]DATA!$A$1:$NB$5,4,0),\"\")","v":""},null,null,null,null,{"$f":"VLOOKUP(Y1110,[1]SRA!$S$4:$Z$368,3,0)","v":{"$error":"#N/A"}},"","",""]
["53vrND",{"$f":"VLOOKUP($AA1112,DATA!$B$3:$E$6,2,0)","v":"22:30:00"},{"$f":"VLOOKUP($AA1112,DATA!$B$3:$E$6,3,0)","v":"06:30:00"},{"$f":"VLOOKUP($AA1112,DATA!$B$3:$E$6,4,0)","v":3.125E-2},0.30208333333333326,0.30208333333333326,{"$f":"DATA!$C$9","v":0.89},{"$f":"DATA!$C$10","v":64},1,407.81249999999989,407.81249999999989,0,"","",0,"","",0,"","","","",null,{"$f":"X1108","v":53},null,{"$f":"TEXT(Y1110,\"ddd\")","v":"vr"},"ND",{"$f":"IFERROR(HLOOKUP(Y1110,[1]DATA!$A$1:$NB$5,5,0),\"\")","v":""},null,null,null,null,{"$f":"VLOOKUP(Y1110,[1]SRA!$S$4:$Z$368,4,0)","v":{"$error":"#N/A"}},"","",""]
["53zaDD",{"$f":"VLOOKUP($AA1113,DATA!$B$3:$E$6,2,0)","v":"06:30:00"},{"$f":"VLOOKUP($AA1113,DATA!$B$3:$E$6,3,0)","v":"14:30:00"},{"$f":"VLOOKUP($AA1113,DATA!$B$3:$E$6,4,0)","v":3.125E-2},0.30208333333333331,0.30208333333333331,{"$f":"DATA!$C$9","v":0.89},{"$f":"DATA!$C$10","v":64},1,407.8125,407.8125,0,"","",0,"","",0,"","","","",null,{"$f":"X1108","v":53},"2019-01-05",{"$f":"TEXT(Y1113,\"ddd\")","v":"za"},"DD",{"$f":"IFERROR(HLOOKUP(Y1113,[1]DATA!$A$1:$NB$5,3,0),\"\")","v":""},null,null,null,null,{"$f":"VLOOKUP(Y1113,[1]SRA!$S$4:$Z$368,2,0)","v":{"$error":"#N/A"}},"","",""]
["53zaMD",{"$f":"VLOOKUP($AA1114,DATA!$B$3:$E$6,2,0)","v":"14:30:00"},{"$f":"VLOOKUP($AA1114,DATA!$B$3:$E$6,3,0)","v":"22:30:00"},{"$f":"VLOOKUP($AA1114,DATA!$B$3:$E$6,4,0)","v":3.125E-2},0.30208333333333337,0.30208333333333337,{"$f":"DATA!$C$9","v":0.89},{"$f":"DATA!$C$10","v":64},1,407.81250000000006,407.81250000000006,0,"","",0,"","",0,"","","","",null,{"$f":"X1108","v":53},null,{"$f":"TEXT(Y1113,\"ddd\")","v":"za"},"MD",{"$f":"IFERROR(HLOOKUP(Y1113,[1]DATA!$A$1:$NB$5,4,0),\"\")","v":""},null,null,null,null,{"$f":"VLOOKUP(Y1113,[1]SRA!$S$4:$Z$368,3,0)","v":{"$error":"#N/A"}},"","",""]
["53zaND",{"$f":"VLOOKUP($AA1115,DATA!$B$3:$E$6,2,0)","v":"22:30:00"},{"$f":"VLOOKUP($AA1115,DATA!$B$3:$E$6,3,0)","v":"06:30:00"},{"$f":"VLOOKUP($AA1115,DATA!$B$3:$E$6,4,0)","v":3.125E-2},0.30208333333333326,0.30208333333333326,{"$f":"DATA!$C$9","v":0.89},{"$f":"DATA!$C$10","v":64},1,407.81249999999989,407.81249999999989,0,"","",0,"","",0,"","","","",null,{"$f":"X1108","v":53},null,{"$f":"TEXT(Y1113,\"ddd\")","v":"za"},"ND",{"$f":"IFERROR(HLOOKUP(Y1113,[1]DATA!$A$1:$NB$5,5,0),\"\")","v":""},null,null,null,null,{"$f":"VLOOKUP(Y1113,[1]SRA!$S$4:$Z$368,4,0)","v":{"$error":"#N/A"}},"","",""]
["53zoDD",{"$f":"VLOOKUP($AA1116,DATA!$B$3:$E$6,2,0)","v":"06:30:00"},{"$f":"VLOOKUP($AA1116,DATA!$B$3:$E$6,3,0)","v":"14:30:00"},{"$f":"VLOOKUP($AA1116,DATA!$B$3:$E$6,4,0)","v":3.125E-2},{"$f":"(C1116-B1116+(B1116>C1116))-D1116","v":0.30208333333333331},{"$f":"E1116-O1116-L1116","v":0.30208333333333331},{"$f":"DATA!$C$9","v":0.89},{"$f":"DATA!$C$10","v":64},1,407.8125,407.8125,0,"","",0,"","",0,"","","","",null,{"$f":"X1108","v":53},"2019-01-06",{"$f":"TEXT(Y1116,\"ddd\")","v":"zo"},"DD",{"$f":"IFERROR(HLOOKUP(Y1116,[1]DATA!$A$1:$NB$5,3,0),\"\")","v":""},null,null,null,null,{"$f":"VLOOKUP(Y1116,[1]SRA!$S$4:$Z$368,2,0)","v":{"$error":"#N/A"}},"","",""]
["53zoMD",{"$f":"VLOOKUP($AA1117,DATA!$B$3:$E$6,2,0)","v":"14:30:00"},{"$f":"VLOOKUP($AA1117,DATA!$B$3:$E$6,3,0)","v":"22:30:00"},{"$f":"VLOOKUP($AA1117,DATA!$B$3:$E$6,4,0)","v":3.125E-2},0.30208333333333337,0.30208333333333337,{"$f":"DATA!$C$9","v":0.89},{"$f":"DATA!$C$10","v":64},1,407.81250000000006,407.81250000000006,0,"","",0,"","",0,"","","","",null,{"$f":"X1108","v":53},null,{"$f":"TEXT(Y1116,\"ddd\")","v":"zo"},"MD",{"$f":"IFERROR(HLOOKUP(Y1116,[1]DATA!$A$1:$NB$5,4,0),\"\")","v":""},null,null,null,null,{"$f":"VLOOKUP(Y1116,[1]SRA!$S$4:$Z$368,3,0)","v":{"$error":"#N/A"}},"","",""]
["53zoZND",{"$f":"VLOOKUP($AA1118,DATA!$B$3:$E$6,2,0)","v":"00:00:00"},{"$f":"VLOOKUP($AA1118,DATA!$B$3:$E$6,3,0)","v":"00:00:00"},{"$f":"VLOOKUP($AA1118,DATA!$B$3:$E$6,4,0)","v":0},0,0,{"$f":"DATA!$C$9","v":0.89},{"$f":"DATA!$C$10","v":64},1,0,0,0,"","",0,"","",0,"","","","",null,{"$f":"X1108","v":53},null,{"$f":"TEXT(Y1116,\"ddd\")","v":"zo"},"ZND",{"$f":"IFERROR(HLOOKUP(Y1116,[1]DATA!$A$1:$NB$5,5,0),\"\")","v":""},null,null,null,null,{"$f":"VLOOKUP(Y1116,[1]SRA!$S$4:$Z$368,4,0)","v":{"$error":"#N/A"}},"","",""]

{"sheet":"TA SRA RH","index":2,"n_rows":1118,"n_cols":52,"rows_kept":1118,"cut":false,"hidden":false,"merged":[[1097,47,1117,47],[1097,48,1117,48],[1097,49,1117,49],[1097,50,1117,50],[1100,24,1102,24],[1103,24,1105,24],[1106,24,1108,24],[1109,24,1111,24],[1112,24,1114,24],[1115,24,1117,24],[1097,41,1117,41],[1097,42,1117,42],[1097,43,1117,43],[1097,44,1117,44],[1097,45,1117,45],[1097,46,1117,46],[1097,24,1099,24],[1097,36,1117,36],[1097,37,1117,37],[1097,38,1117,38],[1097,39,1117,39],[1097,40,1117,40],[1076,47,1096,47],[1076,48,1096,48],[1076,49,1096,49],[1076,50,1096,50],[1079,24,1081,24],[1082,24,1084,24],[1085,24,1087,24],[1088,24,1090,24],[1091,24,1093,24],[1094,24,1096,24],[1076,41,1096,41],[1076,42,1096,42],[1076,43,1096,43],[1076,44,1096,44],[1076,45,1096,45],[1076,46,1096,46],[1076,24,1078,24],[1076,36,1096,36],[1076,37,1096,37],[1076,38,1096,38],[1076,39,1096,39],[1076,40,1096,40],[1055,47,1075,47],[1055,48,1075,48],[1055,49,1075,49],[1055,50,1075,50],[1058,24,1060,24],[1061,24,1063,24],[1064,24,1066,24],[1067,24,1069,24],[1070,24,1072,24],[1073,24,1075,24],[1055,41,1075,41],[1055,42,1075,42],[1055,43,1075,43],[1055,44,1075,44],[1055,45,1075,45],[1055,46,1075,46],[1055,24,1057,24],[1055,36,1075,36],[1055,37,1075,37],[1055,38,1075,38],[1055,39,1075,39],[1055,40,1075,40],[1034,47,1054,47],[1034,48,1054,48],[1034,49,1054,49],[1034,50,1054,50],[1037,24,1039,24],[1040,24,1042,24],[1043,24,1045,24],[1046,24,1048,24],[1049,24,1051,24],[1052,24,1054,24],[1034,41,1054,41],[1034,42,1054,42],[1034,43,1054,43],[1034,44,1054,44],[1034,45,1054,45],[1034,46,1054,46],[1034,24,1036,24],[1034,36,1054,36],[1034,37,1054,37],[1034,38,1054,38],[1034,39,1054,39],[1034,40,1054,40],[1013,47,1033,47],[1013,48,1033,48],[1013,49,1033,49],[1013,50,1033,50],[1016,24,1018,24],[1019,24,1021,24],[1022,24,1024,24],[1025,24,1027,24],[1028,24,1030,24],[1031,24,1033,24],[1013,41,1033,41],[1013,42,1033,42],[1013,43,1033,43],[1013,44,1033,44],[1013,45,1033,45],[1013,46,1033,46],[1013,24,1015,24],[1013,36,1033,36],[1013,37,1033,37],[1013,38,1033,38],[1013,39,1033,39],[1013,40,1033,40],[992,47,1012,47],[992,48,1012,48],[992,49,1012,49],[992,50,1012,50],[995,24,997,24],[998,24,1000,24],[1001,24,1003,24],[1004,24,1006,24],[1007,24,1009,24],[1010,24,1012,24],[992,41,1012,41],[992,42,1012,42],[992,43,1012,43],[992,44,1012,44],[992,45,1012,45],[992,46,1012,46],[992,24,994,24],[992,36,1012,36],[992,37,1012,37],[992,38,1012,38],[992,39,1012,39],[992,40,1012,40],[971,47,991,47],[971,48,991,48],[971,49,991,49],[971,50,991,50],[974,24,976,24],[977,24,979,24],[980,24,982,24],[983,24,985,24],[986,24,988,24],[989,24,991,24],[971,41,991,41],[971,42,991,42],[971,43,991,43],[971,44,991,44],[971,45,991,45],[971,46,991,46],[971,24,973,24],[971,36,991,36],[971,37,991,37],[971,38,991,38],[971,39,991,39],[971,40,991,40],[950,47,970,47],[950,48,970,48],[950,49,970,49],[950,50,970,50],[953,24,955,24],[956,24,958,24],[959,24,961,24],[962,24,964,24],[965,24,967,24],[968,24,970,24],[950,41,970,41],[950,42,970,42],[950,43,970,43],[950,44,970,44],[950,45,970,45],[950,46,970,46],[950,24,952,24],[950,36,970,36],[950,37,970,37],[950,38,970,38],[950,39,970,39],[950,40,970,40],[929,47,949,47],[929,48,949,48],[929,49,949,49],[929,50,949,50],[932,24,934,24],[935,24,937,24],[938,24,940,24],[941,24,943,24],[944,24,946,24],[947,24,949,24],[929,41,949,41],[929,42,949,42],[929,43,949,43],[929,44,949,44],[929,45,949,45],[929,46,949,46],[929,24,931,24],[929,36,949,36],[929,37,949,37],[929,38,949,38],[929,39,949,39],[929,40,949,40],[908,47,928,47],[908,48,928,48],[908,49,928,49],[908,50,928,50],[911,24,913,24],[914,24,916,24],[917,24,919,24],[920,24,922,24],[923,24,925,24],[926,24,928,24],[908,41,928,41],[908,42,928,42],[908,43,928,43],[908,44,928,44],[908,45,928,45],[908,46,928,46],[908,24,910,24],[908,36,928,36],[908,37,928,37],[908,38,928,38],[908,39,928,39],[908,40,928,40],[887,47,907,47],[887,48,907,48],[887,49,907,49],[887,50,907,50],[890,24,892,24],[893,24,895,24],[896,24,898,24],[899,24,901,24],[902,24,904,24],[905,24,907,24],[887,41,907,41],[887,42,907,42],[887,43,907,43],[887,44,907,44],[887,45,907,45],[887,46,907,46],[887,24,889,24],[887,36,907,36],[887,37,907,37],[887,38,907,38],[887,39,907,39],[887,40,907,40],[866,47,886,47],[866,48,886,48],[866,49,886,49],[866,50,886,50],[869,24,871,24],[872,24,874,24],[875,24,877,24],[878,24,880,24],[881,24,883,24],[884,24,886,24],[866,41,886,41],[866,42,886,42],[866,43,886,43],[866,44,886,44],[866,45,886,45],[866,46,886,46],[866,24,868,24],[866,36,886,36],[866,37,886,37],[866,38,886,38],[866,39,886,39],[866,40,886,40],[845,47,865,47],[845,48,865,48],[845,49,865,49],[845,50,865,50],[848,24,850,24],[851,24,853,24],[854,24,856,24],[857,24,859,24],[860,24,862,24],[863,24,865,24],[845,41,865,41],[845,42,865,42],[845,43,865,43],[845,44,865,44],[845,45,865,45],[845,46,865,46],[845,24,847,24],[845,36,865,36],[845,37,865,37],[845,38,865,38],[845,39,865,39],[845,40,865,40],[824,47,844,47],[824,48,844,48],[824,49,844,49],[824,50,844,50],[827,24,829,24],[830,24,832,24],[833,24,835,24],[836,24,838,24],[839,24,841,24],[842,24,844,24],[824,41,844,41],[824,42,844,42],[824,43,844,43],[824,44,844,44],[824,45,844,45],[824,46,844,46],[824,24,826,24],[824,36,844,36],[824,37,844,37],[824,38,844,38],[824,39,844,39],[824,40,844,40],[803,47,823,47],[803,48,823,48],[803,49,823,49],[803,50,823,50],[806,24,808,24],[809,24,811,24],[812,24,814,24],[815,24,817,24],[818,24,820,24],[821,24,823,24],[803,41,823,41],[803,42,823,42],[803,43,823,43],[803,44,823,44],[803,45,823,45],[803,46,823,46],[803,24,805,24],[803,36,823,36],[803,37,823,37],[803,38,823,38],[803,39,823,39],[803,40,823,40],[782,47,802,47],[782,48,802,48],[782,49,802,49],[782,50,802,50],[785,24,787,24],[788,24,790,24],[791,24,793,24],[794,24,796,24],[797,24,799,24],[800,24,802,24],[782,41,802,41],[782,42,802,42],[782,43,802,43],[782,44,802,44],[782,45,802,45],[782,46,802,46],[782,24,784,24],[782,36,802,36],[782,37,802,37],[782,38,802,38],[782,39,802,39],[782,40,802,40],[761,47,781,47],[761,48,781,48],[761,49,781,49],[761,50,781,50],[764,24,766,24],[767,24,769,24],[770,24,772,24],[773,24,775,24],[776,24,778,24],[779,24,781,24],[761,41,781,41],[761,42,781,42],[761,43,781,43],[761,44,781,44],[761,45,781,45],[761,46,781,46],[761,24,763,24],[761,36,781,36],[761,37,781,37],[761,38,781,38],[761,39,781,39],[761,40,781,40],[740,47,760,47],[740,48,760,48],[740,49,760,49],[740,50,760,50],[743,24,745,24],[746,24,748,24],[749,24,751,24],[752,24,754,24],[755,24,757,24],[758,24,760,24],[740,41,760,41],[740,42,760,42],[740,43,760,43],[740,44,760,44],[740,45,760,45],[740,46,760,46],[740,24,742,24],[740,36,760,36],[740,37,760,37],[740,38,760,38],[740,39,760,39],[740,40,760,40],[719,47,739,47],[719,48,739,48],[719,49,739,49],[719,50,739,50],[722,24,724,24],[725,24,727,24],[728,24,730,24],[731,24,733,24],[734,24,736,24],[737,24,739,24],[719,41,739,41],[719,42,739,42],[719,43,739,43],[719,44,739,44],[719,45,739,45],[719,46,739,46],[719,24,721,24],[719,36,739,36],[719,37,739,37],[719,38,739,38],[719,39,739,39],[719,40,739,40],[698,47,718,47],[698,48,718,48],[698,49,718,49],[698,50,718,50],[701,24,703,24],[704,24,706,24],[707,24,709,24],[710,24,712,24],[713,24,715,24],[716,24,718,24],[698,41,718,41],[698,42,718,42],[698,43,718,43],[698,44,718,44],[698,45,718,45],[698,46,718,46],[698,24,700,24],[698,36,718,36],[698,37,718,37],[698,38,718,38],[698,39,718,39],[698,40,718,40],[677,47,697,47],[677,48,697,48],[677,49,697,49],[677,50,697,50],[680,24,682,24],[683,24,685,24],[686,24,688,24],[689,24,691,24],[692,24,694,24],[695,24,697,24],[677,41,697,41],[677,42,697,42],[677,43,697,43],[677,44,697,44],[677,45,697,45],[677,46,697,46],[677,24,679,24],[677,36,697,36],[677,37,697,37],[677,38,697,38],[677,39,697,39],[677,40,697,40],[656,47,676,47],[656,48,676,48],[656,49,676,49],[656,50,676,50],[659,24,661,24],[662,24,664,24],[665,24,667,24],[668,24,670,24],[671,24,673,24],[674,24,676,24],[656,41,676,41],[656,42,676,42],[656,43,676,43],[656,44,676,44],[656,45,676,45],[656,46,676,46],[656,24,658,24],[656,36,676,36],[656,37,676,37],[656,38,676,38],[656,39,676,39],[656,40,676,40],[635,47,655,47],[635,48,655,48],[635,49,655,49],[635,50,655,50],[638,24,640,24],[641,24,643,24],[644,24,646,24],[647,24,649,24],[650,24,652,24],[653,24,655,24],[635,41,655,41],[635,42,655,42],[635,43,655,43],[635,44,655,44],[635,45,655,45],[635,46,655,46],[635,24,637,24],[635,36,655,36],[635,37,655,37],[635,38,655,38],[635,39,655,39],[635,40,655,40],[614,47,634,47],[614,48,634,48],[614,49,634,49],[614,50,634,50],[617,24,619,24],[620,24,622,24],[623,24,625,24],[626,24,628,24],[629,24,631,24],[632,24,634,24],[614,41,634,41],[614,42,634,42],[614,43,634,43],[614,44,634,44],[614,45,634,45],[614,46,634,46],[614,24,616,24],[614,36,634,36],[614,37,634,37],[614,38,634,38],[614,39,634,39],[614,40,634,40],[593,47,613,47],[593,48,613,48],[593,49,613,49],[593,50,613,50],[596,24,598,24],[599,24,601,24],[602,24,604,24],[605,24,607,24],[608,24,610,24],[611,24,613,24],[593,41,613,41],[593,42,613,42],[593,43,613,43],[593,44,613,44],[593,45,613,45],[593,46,613,46],[593,24,595,24],[593,36,613,36],[593,37,613,37],[593,38,613,38],[593,39,613,39],[593,40,613,40],[572,47,592,47],[572,48,592,48],[572,49,592,49],[572,50,592,50],[575,24,577,24],[578,24,580,24],[581,24,583,24],[584,24,586,24],[587,24,589,24],[590,24,592,24],[572,41,592,41],[572,42,592,42],[572,43,592,43],[572,44,592,44],[572,45,592,45],[572,46,592,46],[572,24,574,24],[572,36,592,36],[572,37,592,37],[572,38,592,38],[572,39,592,39],[572,40,592,40],[551,47,571,47],[551,48,571,48],[551,49,571,49],[551,50,571,50],[554,24,556,24],[557,24,559,24],[560,24,562,24],[563,24,565,24],[566,24,568,24],[569,24,571,24],[551,41,571,41],[551,42,571,42],[551,43,571,43],[551,44,571,44],[551,45,571,45],[551,46,571,46],[551,24,553,24],[551,36,571,36],[551,37,571,37],[551,38,571,38],[551,39,571,39],[551,40,571,40],[530,47,550,47],[530,48,550,48],[530,49,550,49],[530,50,550,50],[533,24,535,24],[536,24,538,24],[539,24,541,24],[542,24,544,24],[545,24,547,24],[548,24,550,24],[530,41,550,41],[530,42,550,42],[530,43,550,43],[530,44,550,44],[530,45,550,45],[530,46,550,46],[530,24,532,24],[530,36,550,36],[530,37,550,37],[530,38,550,38],[530,39,550,39],[530,40,550,40],[509,47,529,47],[509,48,529,48],[509,49,529,49],[509,50,529,50],[512,24,514,24],[515,24,517,24],[518,24,520,24],[521,24,523,24],[524,24,526,24],[527,24,529,24],[509,41,529,41],[509,42,529,42],[509,43,529,43],[509,44,529,44],[509,45,529,45],[509,46,529,46],[509,24,511,24],[509,36,529,36],[509,37,529,37],[509,38,529,38],[509,39,529,39],[509,40,529,40],[488,47,508,47],[488,48,508,48],[488,49,508,49],[488,50,508,50],[491,24,493,24],[494,24,496,24],[497,24,499,24],[500,24,502,24],[503,24,505,24],[506,24,508,24],[488,41,508,41],[488,42,508,42],[488,43,508,43],[488,44,508,44],[488,45,508,45],[488,46,508,46],[488,24,490,24],[488,36,508,36],[488,37,508,37],[488,38,508,38],[488,39,508,39],[488,40,508,40],[467,47,487,47],[467,48,487,48],[467,49,487,49],[467,50,487,50],[470,24,472,24],[473,24,475,24],[476,24,478,24],[479,24,481,24],[482,24,484,24],[485,24,487,24],[467,41,487,41],[467,42,487,42],[467,43,487,43],[467,44,487,44],[467,45,487,45],[467,46,487,46],[467,24,469,24],[467,36,487,36],[467,37,487,37],[467,38,487,38],[467,39,487,39],[467,40,487,40],[446,47,466,47],[446,48,466,48],[446,49,466,49],[446,50,466,50],[449,24,451,24],[452,24,454,24],[455,24,457,24],[458,24,460,24],[461,24,463,24],[464,24,466,24],[446,41,466,41],[446,42,466,42],[446,43,466,43],[446,44,466,44],[446,45,466,45],[446,46,466,46],[446,24,448,24],[446,36,466,36],[446,37,466,37],[446,38,466,38],[446,39,466,39],[446,40,466,40],[425,47,445,47],[425,48,445,48],[425,49,445,49],[425,50,445,50],[428,24,430,24],[431,24,433,24],[434,24,436,24],[437,24,439,24],[440,24,442,24],[443,24,445,24],[425,41,445,41],[425,42,445,42],[425,43,445,43],[425,44,445,44],[425,45,445,45],[425,46,445,46],[425,24,427,24],[425,36,445,36],[425,37,445,37],[425,38,445,38],[425,39,445,39],[425,40,445,40],[404,47,424,47],[404,48,424,48],[404,49,424,49],[404,50,424,50],[407,24,409,24],[410,24,412,24],[413,24,415,24],[416,24,418,24],[419,24,421,24],[422,24,424,24],[404,41,424,41],[404,42,424,42],[404,43,424,43],[404,44,424,44],[404,45,424,45],[404,46,424,46],[404,24,406,24],[404,36,424,36],[404,37,424,37],[404,38,424,38],[404,39,424,39],[404,40,424,40],[383,47,403,47],[383,48,403,48],[383,49,403,49],[383,50,403,50],[386,24,388,24],[389,24,391,24],[392,24,394,24],[395,24,397,24],[398,24,400,24],[401,24,403,24],[383,41,403,41],[383,42,403,42],[383,43,403,43],[383,44,403,44],[383,45,403,45],[383,46,403,46],[383,24,385,24],[383,36,403,36],[383,37,403,37],[383,38,403,38],[383,39,403,39],[383,40,403,40],[362,47,382,47],[362,48,382,48],[362,49,382,49],[362,50,382,50],[365,24,367,24],[368,24,370,24],[371,24,373,24],[374,24,376,24],[377,24,379,24],[380,24,382,24],[362,41,382,41],[362,42,382,42],[362,43,382,43],[362,44,382,44],[362,45,382,45],[362,46,382,46],[362,24,364,24],[362,36,382,36],[362,37,382,37],[362,38,382,38],[362,39,382,39],[362,40,382,40],[341,47,361,47],[341,48,361,48],[341,49,361,49],[341,50,361,50],[344,24,346,24],[347,24,349,24],[350,24,352,24],[353,24,355,24],[356,24,358,24],[359,24,361,24],[341,41,361,41],[341,42,361,42],[341,43,361,43],[341,44,361,44],[341,45,361,45],[341,46,361,46],[341,24,343,24],[341,36,361,36],[341,37,361,37],[341,38,361,38],[341,39,361,39],[341,40,361,40],[320,47,340,47],[320,48,340,48],[320,49,340,49],[320,50,340,50],[323,24,325,24],[326,24,328,24],[329,24,331,24],[332,24,334,24],[335,24,337,24],[338,24,340,24],[320,41,340,41],[320,42,340,42],[320,43,340,43],[320,44,340,44],[320,45,340,45],[320,46,340,46],[320,24,322,24],[320,36,340,36],[320,37,340,37],[320,38,340,38],[320,39,340,39],[320,40,340,40],[299,47,319,47],[299,48,319,48],[299,49,319,49],[299,50,319,50],[302,24,304,24],[305,24,307,24],[308,24,310,24],[311,24,313,24],[314,24,316,24],[317,24,319,24],[299,41,319,41],[299,42,319,42],[299,43,319,43],[299,44,319,44],[299,45,319,45],[299,46,319,46],[299,24,301,24],[299,36,319,36],[299,37,319,37],[299,38,319,38],[299,39,319,39],[299,40,319,40],[278,47,298,47],[278,48,298,48],[278,49,298,49],[278,50,298,50],[281,24,283,24],[284,24,286,24],[287,24,289,24],[290,24,292,24],[293,24,295,24],[296,24,298,24],[278,41,298,41],[278,42,298,42],[278,43,298,43],[278,44,298,44],[278,45,298,45],[278,46,298,46],[278,24,280,24],[278,36,298,36],[278,37,298,37],[278,38,298,38],[278,39,298,39],[278,40,298,40],[257,47,277,47],[257,48,277,48],[257,49,277,49],[257,50,277,50],[260,24,262,24],[263,24,265,24],[266,24,268,24],[269,24,271,24],[272,24,274,24],[275,24,277,24],[257,41,277,41],[257,42,277,42],[257,43,277,43],[257,44,277,44],[257,45,277,45],[257,46,277,46],[257,24,259,24],[257,36,277,36],[257,37,277,37],[257,38,277,38],[257,39,277,39],[257,40,277,40],[236,47,256,47],[236,48,256,48],[236,49,256,49],[236,50,256,50],[239,24,241,24],[242,24,244,24],[245,24,247,24],[248,24,250,24],[251,24,253,24],[254,24,256,24],[236,41,256,41],[236,42,256,42],[236,43,256,43],[236,44,256,44],[236,45,256,45],[236,46,256,46],[236,24,238,24],[236,36,256,36],[236,37,256,37],[236,38,256,38],[236,39,256,39],[236,40,256,40],[215,47,235,47],[215,48,235,48],[215,49,235,49],[215,50,235,50],[218,24,220,24],[221,24,223,24],[224,24,226,24],[227,24,229,24],[230,24,232,24],[233,24,235,24],[215,41,235,41],[215,42,235,42],[215,43,235,43],[215,44,235,44],[215,45,235,45],[215,46,235,46],[215,24,217,24],[215,36,235,36],[215,37,235,37],[215,38,235,38],[215,39,235,39],[215,40,235,40],[194,47,214,47],[194,48,214,48],[194,49,214,49],[194,50,214,50],[197,24,199,24],[200,24,202,24],[203,24,205,24],[206,24,208,24],[209,24,211,24],[212,24,214,24],[194,41,214,41],[194,42,214,42],[194,43,214,43],[194,44,214,44],[194,45,214,45],[194,46,214,46],[194,24,196,24],[194,36,214,36],[194,37,214,37],[194,38,214,38],[194,39,214,39],[194,40,214,40],[173,47,193,47],[173,48,193,48],[173,49,193,49],[173,50,193,50],[176,24,178,24],[179,24,181,24],[182,24,184,24],[185,24,187,24],[188,24,190,24],[191,24,193,24],[173,41,193,41],[173,42,193,42],[173,43,193,43],[173,44,193,44],[173,45,193,45],[173,46,193,46],[173,24,175,24],[173,36,193,36],[173,37,193,37],[173,38,193,38],[173,39,193,39],[173,40,193,40],[152,47,172,47],[152,48,172,48],[152,49,172,49],[152,50,172,50],[155,24,157,24],[158,24,160,24],[161,24,163,24],[164,24,166,24],[167,24,169,24],[170,24,172,24]],"merged_total":1181,"flags":["merged_cut"]}
[null,null,null,null,null,null,null,null,null,null,null,null,null,null,null,null,null,null,null,null,null,null,null,{"$f":"DATA!$C$16","v":"SRA RH"},null,null,null,null,"TA Target",null,{"$f":"DATA!$C$9","v":0.89},null,null,null,null,null,null,null,null,null,null,"TA","=","[ A ]"]
[null,null,null,null,null,null,null,null,null,null,null,null,null,null,null,null,null,null,null,null,null,null,null,null,null,null,null,null,"Cycle Time",null,64,null,{"$f":"AE2/60","v":1.0666666666666667}]
[null,null,null,null,null,null,null,null,null,null,null,null,null,null,null,null,null,null,null,null,null,null,null,null,null,null,null,null,"Enter Data",null,null,null,null,null,null,null,null,null,null,null,null,null,null,"[ T ] - [ BS ] - [ PS ]"]
["ID","Shift\n Start Time","Shift \nEnd Time","Break Time","Total \nShift time [Hour]","Available\nProduction Time [Hour]","Target [%]","Cycle time [s]","Target Ouput [56/H]","Parts Target \n[56/H]","Parts Target\n[100% Availability]","Blocked / Starved\n[Hour]","Loss Blocked/ Starved [Parts]","Loss Blocked/ Starved [%]","Planned Stop/ Early Finish\n[Hour]","Loss Planned Stop/ Early Finish [Parts]","Loss \nPlanned Stop/ Early Finish\n[%]","Rekenkolom Benodigde tijd ","Produced Parts Actual","Produced Parts Shift D1","Produced Parts Shift D2","Produced Parts Shift D3",null,"Week ","Date","Day","Shift","Shift","Blocked / Starved [Min]","Planned Stop / Early Finish\n[Min]","Parts during break","Produced Parts Total","Downtime Technical SAP[min]","Delta [Parts]","Availability (Total Time)\n[%]","Technical Availabilty SRI RH\n[%]","Parts Target\n[100% Availability]  ","Parts Actual                        ","Availability (Total Time)\n[%]","Loss Blocked/ Starved [Parts]","Loss Blocked/ Starved [%] ","Loss \nPlanned Stop/ Early Finish [Parts]","Loss \nPlanned Stop/ Early Finish\n[%]","Technical Availability Total LH\n[%]","Technical Availability \nShift D1\n[%]","Technical Availability Shift D2\n[%]","Technical Availability Shift D3\n[%]","Total Downtime [Parts]","Total Downtime\n[%]","Total Downtime [Min]","Geregistreerd SAP Technical Downtime [Min]","Major Items Downtime"]
[null,null,null,null,null,null,null,null,null,null,null,null,null,null,null,null,null,null,null,null,null,null,null,null,null,null,null,null,null,null,null,null,null,null,null,null,"[T]","[A]",null,"[BS]",null,"[PS]",null,null,"D1","D2","D3"]
[{"$f":"X6&Z6&AA6","v":"1maDD"},{"$f":"VLOOKUP($AA6,DATA!$B$3:$E$6,2,0)","v":"06:30:00"},{"$f":"VLOOKUP($AA6,DATA!$B$3:$E$6,3,0)","v":"14:30:00"},{"$f":"VLOOKUP($AA6,DATA!$B$3:$E$6,4,0)","v":3.125E-2},{"$f":"(C6-B6+(B6>C6))-D6","v":0.30208333333333331},{"$f":"E6-O6-L6","v":0.30208333333333331},{"$f":"DATA!$C$9","v":0.89},{"$f":"DATA!$C$10","v":64},1,{"$f":"F6*86400/H6*I6","v":407.8125},{"$f":"E6*86400/H6","v":407.8125},{"$f":"TIME(INT($AC6/60),INT(MOD($AC6,60)/1),0)","v":0},{"$f":"IF($L6*86400/$H6=0,\"\",$L6*86400/$H6)","v":""},{"$f":"IFERROR($M6/$K6,\"\")","v":""},{"$f":"TIME(INT($AD6/60),INT(MOD($AD6,60)/1),0)","v":0},{"$f":"IF($O6*86400/$H6=0,\"\",$O6*86400/$H6)","v":""},{"$f":"IFERROR($P6/$K6,\"\")","v":""},{"$f":"AF6*AG$2","v":0},{"$f":"IF(AF6-AE6=0,\"\",AF6-AE6)","v":""},{"$f":"IF(IF($AB6=\"D1\",$S6,\"\")=0,\"\",IF($AB6=\"D1\",$S6,\"\"))","v":""},{"$f":"IF(IF($AB6=\"D2\",$S6,\"\")=0,\"\",IF($AB6=\"D2\",$S6,\"\"))","v":""},{"$f":"IF(IF($AB6=\"D3\",$S6,\"\")=0,\"\",IF($AB6=\"D3\",$S6,\"\"))","v":""},null,{"$f":"X16","v":1},"2018-01-01",{"$f":"TEXT(Y6,\"ddd\")","v":"ma"},"DD",{"$f":"IFERROR(HLOOKUP(Y6,[1]DATA!$A$1:$NB$5,3,0),\"\")","v":"D1"},null,null,null,null,0,"","","",3487.5,2327,0.66724014336917559,741.5625,0.21263440860215055,215.625,6.1827956989247312E-2,0.96529864328372039,0.96595614909131522,"",0.96464113747612557,203.3125,5.8297491039426552E-2,216.86666666666667,95]
["1maMD",{"$f":"VLOOKUP($AA7,DATA!$B$3:$E$6,2,0)","v":"14:30:00"},{"$f":"VLOOKUP($AA7,DATA!$B$3:$E$6,3,0)","v":"22:30:00"},{"$f":"VLOOKUP($AA7,DATA!$B$3:$E$6,4,0)","v":3.125E-2},{"$f":"(C7-B7+(B7>C7))-D7","v":0.30208333333333337},{"$f":"E7-O7-L7","v":0.30208333333333337},{"$f":"DATA!$C$9","v":0.89},{"$f":"DATA!$C$10","v":64},1,{"$f":"F7*86400/H7*I7","v":407.81250000000006},{"$f":"E7*86400/H7","v":407.81250000000006},{"$f":"TIME(INT($AC7/60),INT(MOD($AC7,60)/1),0)","v":0},{"$f":"IF($L7*86400/$H7=0,\"\",$L7*86400/$H7)","v":""},{"$f":"IFERROR($M7/$K7,\"\")","v":""},{"$f":"TIME(INT(AD7/60),INT(MOD(AD7,60)/1),0)","v":0},"",{"$f":"IFERROR($P7/$K7,\"\")","v":""},{"$f":"AF7*AG$2","v":0},{"$f":"IF(AF7-AE7=0,\"\",AF7-AE7)","v":""},{"$f":"IF(IF($AB7=\"D1\",$S7,\"\")=0,\"\",IF($AB7=\"D1\",$S7,\"\"))","v":""},{"$f":"IF(IF($AB7=\"D2\",$S7,\"\")=0,\"\",IF($AB7=\"D2\",$S7,\"\"))","v":""},{"$f":"IF(IF($AB7=\"D3\",$S7,\"\")=0,\"\",IF($AB7=\"D3\",$S7,\"\"))","v":""},null,{"$f":"X16","v":1},null,{"$f":"TEXT(Y6,\"ddd\")","v":"ma"},"MD",{"$f":"IFERROR(HLOOKUP(Y6,[1]DATA!$A$1:$NB$5,4,0),\"\")","v":"D3"},null,null,null,null,0,"","",""]
["1maND",{"$f":"VLOOKUP($AA8,DATA!$B$3:$E$6,2,0)","v":"22:30:00"},{"$f":"VLOOKUP($AA8,DATA!$B$3:$E$6,3,0)","v":"06:30:00"},{"$f":"VLOOKUP($AA8,DATA!$B$3:$E$6,4,0)","v":3.125E-2},0.30208333333333326,0.30208333333333326,{"$f":"DATA!$C$9","v":0.89},{"$f":"DATA!$C$10","v":64},1,407.81249999999989,407.81249999999989,0,"","",0,"","",0,"","","","",null,{"$f":"X16","v":1},null,{"$f":"TEXT(Y6,\"ddd\")","v":"ma"},"ND",{"$f":"IFERROR(HLOOKUP(Y6,[1]DATA!$A$1:$NB$5,5,0),\"\")","v":"D2"},null,null,null,null,0,"","",""]
["1diDD",{"$f":"VLOOKUP($AA9,DATA!$B$3:$E$6,2,0)","v":"06:30:00"},{"$f":"VLOOKUP($AA9,DATA!$B$3:$E$6,3,0)","v":"14:30:00"},{"$f":"VLOOKUP($AA9,DATA!$B$3:$E$6,4,0)","v":3.125E-2},0.30208333333333331,0.17361111111111108,{"$f":"DATA!$C$9","v":0.89},{"$f":"DATA!$C$10","v":64},1,234.37499999999994,407.8125,2.0833333333333332E-2,28.125,6.8965517241379309E-2,0.1076388888888889,145.3125,0.35632183908045978,290.13333333333333,263,263,"","",null,{"$f":"X16","v":1},{"$f":"Y6+1","v":"2018-01-02"},{"$f":"TEXT(Y9,\"ddd\")","v":"di"},"DD",{"$f":"IFERROR(HLOOKUP(Y9,[1]DATA!$A$1:$NB$5,3,0),\"\")","v":"D1"},30,155,9,272,13,0.5,0.60329749103942654,0.95711458104244562]
["1diMD",{"$f":"VLOOKUP($AA10,DATA!$B$3:$E$6,2,0)","v":"14:30:00"},{"$f":"VLOOKUP($AA10,DATA!$B$3:$E$6,3,0)","v":"22:30:00"},{"$f":"VLOOKUP($AA10,DATA!$B$3:$E$6,4,0)","v":3.125E-2},0.30208333333333337,0.26319444444444451,{"$f":"DATA!$C$9","v":0.89},{"$f":"DATA!$C$10","v":64},1,355.31250000000011,407.81250000000006,3.888888888888889E-2,52.5,0.12873563218390802,0,"","",374.4,336,"","",336,null,{"$f":"X16","v":1},null,{"$f":"TEXT(Y9,\"ddd\")","v":"di"},"MD",{"$f":"IFERROR(HLOOKUP(Y9,[1]DATA!$A$1:$NB$5,4,0),\"\")","v":"D3"},56,null,15,351,22,-47.4375,0.77075268817204312,0.94450050454086776]
["1diND",{"$f":"VLOOKUP($AA11,DATA!$B$3:$E$6,2,0)","v":"22:30:00"},{"$f":"VLOOKUP($AA11,DATA!$B$3:$E$6,3,0)","v":"06:30:00"},{"$f":"VLOOKUP($AA11,DATA!$B$3:$E$6,4,0)","v":3.125E-2},0.30208333333333326,0.30208333333333326,{"$f":"DATA!$C$9","v":0.89},{"$f":"DATA!$C$10","v":64},1,407.81249999999989,407.81249999999989,0,"","",0,"","",0,"","","","",null,{"$f":"X16","v":1},null,{"$f":"TEXT(Y9,\"ddd\")","v":"di"},"ND",{"$f":"IFERROR(HLOOKUP(Y9,[1]DATA!$A$1:$NB$5,5,0),\"\")","v":"D2"},null,null,null,null,0,"","",""]
["1woDD",{"$f":"VLOOKUP($AA12,DATA!$B$3:$E$6,2,0)","v":"06:30:00"},{"$f":"VLOOKUP($AA12,DATA!$B$3:$E$6,3,0)","v":"14:30:00"},{"$f":"VLOOKUP($AA12,DATA!$B$3:$E$6,4,0)","v":3.125E-2},0.30208333333333331,0.24513888888888888,{"$f":"DATA!$C$9","v":0.89},{"$f":"DATA!$C$10","v":64},1,330.9375,407.8125,5.6944444444444443E-2,76.875,0.18850574712643678,0,"","",370.13333333333333,331,331,"","",null,{"$f":"X16","v":1},{"$f":"Y9+1","v":"2018-01-03"},{"$f":"TEXT(Y12,\"ddd\")","v":"wo"},"DD",{"$f":"IFERROR(HLOOKUP(Y12,[1]DATA!$A$1:$NB$5,3,0),\"\")","v":"D1"},82,null,16,347,10,-28.0625,0.75928315412186376,0.97369344089793053]
["1woMD",{"$f":"VLOOKUP($AA13,DATA!$B$3:$E$6,2,0)","v":"14:30:00"},{"$f":"VLOOKUP($AA13,DATA!$B$3:$E$6,3,0)","v":"22:30:00"},{"$f":"VLOOKUP($AA13,DATA!$B$3:$E$6,4,0)","v":3.125E-2},0.30208333333333337,0.22430555555555559,{"$f":"DATA!$C$9","v":0.89},{"$f":"DATA!$C$10","v":64},1,302.81250000000006,407.81250000000006,7.7777777777777779E-2,105,0.25747126436781603,0,"","",321.06666666666666,283,"","",283,null,{"$f":"X16","v":1},null,{"$f":"TEXT(Y12,\"ddd\")","v":"wo"},"MD",{"$f":"IFERROR(HLOOKUP(Y12,[1]DATA!$A$1:$NB$5,4,0),\"\")","v":"D3"},112,null,18,301,0,-47.937499999999943,0.64917562724014344,1]
["1woND",{"$f":"VLOOKUP($AA14,DATA!$B$3:$E$6,2,0)","v":"22:30:00"},{"$f":"VLOOKUP($AA14,DATA!$B$3:$E$6,3,0)","v":"06:30:00"},{"$f":"VLOOKUP($AA14,DATA!$B$3:$E$6,4,0)","v":3.125E-2},0.30208333333333326,0.30208333333333326,{"$f":"DATA!$C$9","v":0.89},{"$f":"DATA!$C$10","v":64},1,407.81249999999989,407.81249999999989,0,"","",0,"","",0,"","","","",null,{"$f":"X16","v":1},null,{"$f":"TEXT(Y12,\"ddd\")","v":"wo"},"ND",{"$f":"IFERROR(HLOOKUP(Y12,[1]DATA!$A$1:$NB$5,5,0),\"\")","v":"D2"},null,null,null,null,0,"","",""]
["1doDD",{"$f":"VLOOKUP($AA15,DATA!$B$3:$E$6,2,0)","v":"06:30:00"},{"$f":"VLOOKUP($AA15,DATA!$B$3:$E$6,3,0)","v":"14:30:00"},{"$f":"VLOOKUP($AA15,DATA!$B$3:$E$6,4,0)","v":3.125E-2},0.30208333333333331,0.20277777777777778,{"$f":"DATA!$C$9","v":0.89},{"$f":"DATA!$C$10","v":64},1,273.75,407.8125,9.930555555555555E-2,134.0625,0.32873563218390806,0,"","",313.60000000000002,270,270,"","",null,{"$f":"X16","v":1},{"$f":"Y12+1","v":"2018-01-04"},{"$f":"TEXT(Y15,\"ddd\")","v":"do"},"DD",{"$f":"IFERROR(HLOOKUP(Y15,[1]DATA!$A$1:$NB$5,3,0),\"\")","v":"D1"},143,null,24,294,13,-31.875000000000057,0.61935483870967745,0.96019595835884874]
["1doMD",{"$f":"VLOOKUP($AA16,DATA!$B$3:$E$6,2,0)","v":"14:30:00"},{"$f":"VLOOKUP($AA16,DATA!$B$3:$E$6,3,0)","v":"22:30:00"},{"$f":"VLOOKUP($AA16,DATA!$B$3:$E$6,4,0)","v":3.125E-2},0.30208333333333337,0.21319444444444446,{"$f":"DATA!$C$9","v":0.89},{"$f":"DATA!$C$10","v":64},1,287.8125,407.81250000000006,8.8888888888888892E-2,120,0.29425287356321833,0,"","",336,300,"","",300,null,{"$f":"WEEKNUM($Y6)","v":1},null,{"$f":"TEXT(Y15,\"ddd\")","v":"do"},"MD",{"$f":"IFERROR(HLOOKUP(Y15,[1]DATA!$A$1:$NB$5,4,0),\"\")","v":"D3"},128,null,15,315,10,-15.937499999999943,0.68817204301075274,0.97109826589595372]
["1doND",{"$f":"VLOOKUP($AA17,DATA!$B$3:$E$6,2,0)","v":"22:30:00"},{"$f":"VLOOKUP($AA17,DATA!$B$3:$E$6,3,0)","v":"06:30:00"},{"$f":"VLOOKUP($AA17,DATA!$B$3:$E$6,4,0)","v":3.125E-2},0.30208333333333326,0.30208333333333326,{"$f":"DATA!$C$9","v":0.89},{"$f":"DATA!$C$10","v":64},1,407.81249999999989,407.81249999999989,0,"","",0,"","",0,"","","","",null,{"$f":"X16","v":1},null,{"$f":"TEXT(Y15,\"ddd\")","v":"do"},"ND",{"$f":"IFERROR(HLOOKUP(Y15,[1]DATA!$A$1:$NB$5,5,0),\"\")","v":"D2"},null,null,null,null,0,"","",""]
["1vrDD",{"$f":"VLOOKUP($AA18,DATA!$B$3:$E$6,2,0)","v":"06:30:00"},{"$f":"VLOOKUP($AA18,DATA!$B$3:$E$6,3,0)","v":"14:30:00"},{"$f":"VLOOKUP($AA18,DATA!$B$3:$E$6,4,0)","v":3.125E-2},0.30208333333333331,0.19166666666666665,{"$f":"DATA!$C$9","v":0.89},{"$f":"DATA!$C$10","v":64},1,258.75,407.8125,8.9583333333333334E-2,120.9375,0.29655172413793102,2.0833333333333332E-2,28.125,6.8965517241379309E-2,322.13333333333333,283,283,"","",null,{"$f":"X16","v":1},{"$f":"Y15+1","v":"2018-01-05"},{"$f":"TEXT(Y18,\"ddd\")","v":"vr"},"DD",{"$f":"IFERROR(HLOOKUP(Y18,[1]DATA!$A$1:$NB$5,3,0),\"\")","v":"D1"},129,30,19,302,9,-3.8750000000000568,0.64917562724014333,0.97282061606603587]
["1vrMD",{"$f":"VLOOKUP($AA19,DATA!$B$3:$E$6,2,0)","v":"14:30:00"},{"$f":"VLOOKUP($AA19,DATA!$B$3:$E$6,3,0)","v":"22:30:00"},{"$f":"VLOOKUP($AA19,DATA!$B$3:$E$6,4,0)","v":3.125E-2},0.30208333333333337,0.19375000000000003,{"$f":"DATA!$C$9","v":0.89},{"$f":"DATA!$C$10","v":64},1,261.56250000000006,407.81250000000006,7.7083333333333337E-2,104.0625,0.2551724137931034,3.125E-2,42.1875,0.10344827586206895,297.60000000000002,261,"","",261,null,{"$f":"X16","v":1},null,{"$f":"TEXT(Y18,\"ddd\")","v":"vr"},"MD",{"$f":"IFERROR(HLOOKUP(Y18,[1]DATA!$A$1:$NB$5,4,0),\"\")","v":"D3"},111,45,18,279,18,-28.687499999999943,0.59870967741935488,0.94296577946768056]
["1vrND",{"$f":"VLOOKUP($AA20,DATA!$B$3:$E$6,2,0)","v":"22:30:00"},{"$f":"VLOOKUP($AA20,DATA!$B$3:$E$6,3,0)","v":"06:30:00"},{"$f":"VLOOKUP($AA20,DATA!$B$3:$E$6,4,0)","v":3.125E-2},0.30208333333333326,0.30208333333333326,{"$f":"DATA!$C$9","v":0.89},{"$f":"DATA!$C$10","v":64},1,407.81249999999989,407.81249999999989,0,"","",0,"","",0,"","","","",null,{"$f":"X16","v":1},null,{"$f":"TEXT(Y18,\"ddd\")","v":"vr"},"ND",{"$f":"IFERROR(HLOOKUP(Y18,[1]DATA!$A$1:$NB$5,5,0),\"\")","v":"-"},null,null,null,null,0,"","",""]
["1zaDD",{"$f":"VLOOKUP($AA21,DATA!$B$3:$E$6,2,0)","v":"06:30:00"},{"$f":"VLOOKUP($AA21,DATA!$B$3:$E$6,3,0)","v":"14:30:00"},{"$f":"VLOOKUP($AA21,DATA!$B$3:$E$6,4,0)","v":3.125E-2},0.30208333333333331,0.30208333333333331,{"$f":"DATA!$C$9","v":0.89},{"$f":"DATA!$C$10","v":64},1,407.8125,407.8125,0,"","",0,"","",0,"","","","",null,{"$f":"X16","v":1},{"$f":"Y18+1","v":"2018-01-06"},{"$f":"TEXT(Y21,\"ddd\")","v":"za"},"DD",{"$f":"IFERROR(HLOOKUP(Y21,[1]DATA!$A$1:$NB$5,3,0),\"\")","v":"-"},null,null,null,null,0,"","",""]
["1zaMD",{"$f":"VLOOKUP($AA22,DATA!$B$3:$E$6,2,0)","v":"14:30:00"},{"$f":"VLOOKUP($AA22,DATA!$B$3:$E$6,3,0)","v":"22:30:00"},{"$f":"VLOOKUP($AA22,DATA!$B$3:$E$6,4,0)","v":3.125E-2},0.30208333333333337,0.30208333333333337,{"$f":"DATA!$C$9","v":0.89},{"$f":"DATA!$C$10","v":64},1,407.81250000000006,407.81250000000006,0,"","",0,"","",0,"","","","",null,{"$f":"X16","v":1},null,{"$f":"TEXT(Y21,\"ddd\")","v":"za"},"MD",{"$f":"IFERROR(HLOOKUP(Y21,[1]DATA!$A$1:$NB$5,4,0),\"\")","v":"-"},null,null,null,null,0,"","",""]
["1zaND",{"$f":"VLOOKUP($AA23,DATA!$B$3:$E$6,2,0)","v":"22:30:00"},{"$f":"VLOOKUP($AA23,DATA!$B$3:$E$6,3,0)","v":"06:30:00"},{"$f":"VLOOKUP($AA23,DATA!$B$3:$E$6,4,0)","v":3.125E-2},0.30208333333333326,0.30208333333333326,{"$f":"DATA!$C$9","v":0.89},{"$f":"DATA!$C$10","v":64},1,407.81249999999989,407.81249999999989,0,"","",0,"","",0,"","","","",null,{"$f":"X16","v":1},null,{"$f":"TEXT(Y21,\"ddd\")","v":"za"},"ND",{"$f":"IFERROR(HLOOKUP(Y21,[1]DATA!$A$1:$NB$5,5,0),\"\")","v":"-"},null,null,null,null,0,"","",""]
["1zoDD",{"$f":"VLOOKUP($AA24,DATA!$B$3:$E$6,2,0)","v":"06:30:00"},{"$f":"VLOOKUP($AA24,DATA!$B$3:$E$6,3,0)","v":"14:30:00"},{"$f":"VLOOKUP($AA24,DATA!$B$3:$E$6,4,0)","v":3.125E-2},0.30208333333333331,0.30208333333333331,{"$f":"DATA!$C$9","v":0.89},{"$f":"DATA!$C$10","v":64},1,407.8125,407.8125,0,"","",0,"","",0,"","","","",null,{"$f":"X16","v":1},{"$f":"Y21+1","v":"2018-01-07"},{"$f":"TEXT(Y24,\"ddd\")","v":"zo"},"DD",{"$f":"IFERROR(HLOOKUP(Y24,[1]DATA!$A$1:$NB$5,3,0),\"\")","v":"-"},null,null,null,null,0,"","",""]
["1zoMD",{"$f":"VLOOKUP($AA25,DATA!$B$3:$E$6,2,0)","v":"14:30:00"},{"$f":"VLOOKUP($AA25,DATA!$B$3:$E$6,3,0)","v":"22:30:00"},{"$f":"VLOOKUP($AA25,DATA!$B$3:$E$6,4,0)","v":3.125E-2},0.30208333333333337,0.30208333333333337,{"$f":"DATA!$C$9","v":0.89},{"$f":"DATA!$C$10","v":64},1,407.81250000000006,407.81250000000006,0,"","",0,"","",0,"","","","",null,{"$f":"X16","v":1},null,{"$f":"TEXT(Y24,\"ddd\")","v":"zo"},"MD",{"$f":"IFERROR(HLOOKUP(Y24,[1]DATA!$A$1:$NB$5,4,0),\"\")","v":"-"},null,null,null,null,0,"","",""]
["1zoZND",{"$f":"VLOOKUP($AA26,DATA!$B$3:$E$6,2,0)","v":"00:00:00"},{"$f":"VLOOKUP($AA26,DATA!$B$3:$E$6,3,0)","v":"00:00:00"},{"$f":"VLOOKUP($AA26,DATA!$B$3:$E$6,4,0)","v":0},0,0,{"$f":"DATA!$C$9","v":0.89},{"$f":"DATA!$C$10","v":64},1,0,0,0,"","",0,"","",0,"","","","",null,{"$f":"X16","v":1},null,{"$f":"TEXT(Y24,\"ddd\")","v":"zo"},"ZND",{"$f":"IFERROR(HLOOKUP(Y24,[1]DATA!$A$1:$NB$5,5,0),\"\")","v":"D1"},null,null,null,null,0,"","",""]
["2maDD",{"$f":"VLOOKUP($AA27,DATA!$B$3:$E$6,2,0)","v":"06:30:00"},{"$f":"VLOOKUP($AA27,DATA!$B$3:$E$6,3,0)","v":"14:30:00"},{"$f":"VLOOKUP($AA27,DATA!$B$3:$E$6,4,0)","v":3.125E-2},0.30208333333333331,9.9305555555555536E-2,{"$f":"DATA!$C$9","v":0.89},{"$f":"DATA!$C$10","v":64},1,{"$f":"F27*86400/H27*I27","v":134.06249999999997},{"$f":"E27*86400/H27","v":407.8125},{"$f":"TIME(INT($AC27/60),INT(MOD($AC27,60)/1),0)","v":0.18402777777777779},{"$f":"IF($L27*86400/$H27=0,\"\",$L27*86400/$H27)","v":248.43750000000003},{"$f":"IFERROR($M27/$K27,\"\")","v":0.60919540229885061},{"$f":"TIME(INT($AD27/60),INT(MOD($AD27,60)/1),0)","v":1.8749999999999999E-2},25.3125,{"$f":"IFERROR($P27/$K27,\"\")","v":6.2068965517241378E-2},{"$f":"AF27*AG$2","v":183.46666666666667},{"$f":"IF(AF27-AE27=0,\"\",AF27-AE27)","v":162},{"$f":"IF(IF($AB27=\"D1\",$S27,\"\")=0,\"\",IF($AB27=\"D1\",$S27,\"\"))","v":""},{"$f":"IF(IF($AB27=\"D2\",$S27,\"\")=0,\"\",IF($AB27=\"D2\",$S27,\"\"))","v":""},{"$f":"IF(IF($AB27=\"D3\",$S27,\"\")=0,\"\",IF($AB27=\"D3\",$S27,\"\"))","v":162},null,{"$f":"X37","v":2},{"$f":"Y24+1","v":"2018-01-08"},{"$f":"TEXT(Y27,\"ddd\")","v":"ma"},"DD",{"$f":"IFERROR(HLOOKUP(Y27,[1]DATA!$A$1:$NB$5,3,0),\"\")","v":"D3"},265,27,10,172,4,-0.18750000000002842,0.37161290322580648,0.97866287339971547,4359.375,2987,0.68518996415770606,907.5,0.20817204301075268,25.3125,5.8064516129032262E-3,0.98069485138582113,"",0.98551089279985971,0.97587880997178245,439.5625,0.10083154121863803,468.86666666666667,68]
["2maMD",{"$f":"VLOOKUP($AA28,DATA!$B$3:$E$6,2,0)","v":"14:30:00"},{"$f":"VLOOKUP($AA28,DATA!$B$3:$E$6,3,0)","v":"22:30:00"},{"$f":"VLOOKUP($AA28,DATA!$B$3:$E$6,4,0)","v":3.125E-2},{"$f":"(C28-B28+(B28>C28))-D28","v":0.30208333333333337},{"$f":"E28-O28-L28","v":0.25208333333333338},{"$f":"DATA!$C$9","v":0.89},{"$f":"DATA!$C$10","v":64},1,{"$f":"F28*86400/H28*I28","v":340.31250000000006},{"$f":"E28*86400/H28","v":407.81250000000006},4.9999999999999996E-2,67.5,0.16551724137931031,{"$f":"TIME(INT(AD28/60),INT(MOD(AD28,60)/1),0)","v":0},"","",{"$f":"AF28*AG$2","v":355.2},{"$f":"IF(AF28-AE28=0,\"\",AF28-AE28)","v":312},"",312,"",null,{"$f":"X37","v":2},null,{"$f":"TEXT(Y27,\"ddd\")","v":"ma"},"MD",{"$f":"IFERROR(HLOOKUP(Y27,[1]DATA!$A$1:$NB$5,4,0),\"\")","v":"D2"},72,null,21,333,4,-56.437499999999943,0.71569892473118291,0.98886414253897548]
["2maND",{"$f":"VLOOKUP($AA29,DATA!$B$3:$E$6,2,0)","v":"22:30:00"},{"$f":"VLOOKUP($AA29,DATA!$B$3:$E$6,3,0)","v":"06:30:00"},{"$f":"VLOOKUP($AA29,DATA!$B$3:$E$6,4,0)","v":3.125E-2},0.30208333333333326,0.30208333333333326,{"$f":"DATA!$C$9","v":0.89},{"$f":"DATA!$C$10","v":64},1,407.81249999999989,407.81249999999989,0,"","",0,"","",0,"","","","",null,{"$f":"X37","v":2},null,{"$f":"TEXT(Y27,\"ddd\")","v":"ma"},"ND",{"$f":"IFERROR(HLOOKUP(Y27,[1]DATA!$A$1:$NB$5,5,0),\"\")","v":"D1"},null,null,null,null,0,"","",""]
["2diDD",{"$f":"VLOOKUP($AA30,DATA!$B$3:$E$6,2,0)","v":"06:30:00"},{"$f":"VLOOKUP($AA30,DATA!$B$3:$E$6,3,0)","v":"14:30:00"},{"$f":"VLOOKUP($AA30,DATA!$B$3:$E$6,4,0)","v":3.125E-2},0.30208333333333331,0.23749999999999999,{"$f":"DATA!$C$9","v":0.89},{"$f":"DATA!$C$10","v":64},1,320.625,407.8125,6.458333333333334E-2,87.187500000000014,0.2137931034482759,0,"","",321.06666666666666,275,"","",275,null,{"$f":"X37","v":2},{"$f":"Y27+1","v":"2018-01-09"},{"$f":"TEXT(Y30,\"ddd\")","v":"di"},"DD",{"$f":"IFERROR(HLOOKUP(Y30,[1]DATA!$A$1:$NB$5,3,0),\"\")","v":"D3"},93,null,26,301,9,-73.750000000000057,0.63082437275985659,0.97273278125631191]
["2diMD",{"$f":"VLOOKUP($AA31,DATA!$B$3:$E$6,2,0)","v":"14:30:00"},{"$f":"VLOOKUP($AA31,DATA!$B$3:$E$6,3,0)","v":"22:30:00"},{"$f":"VLOOKUP($AA31,DATA!$B$3:$E$6,4,0)","v":3.125E-2},0.30208333333333337,0.21111111111111114,{"$f":"DATA!$C$9","v":0.89},{"$f":"DATA!$C$10","v":64},1,285.00000000000006,407.81250000000006,9.0972222222222218E-2,122.8125,0.30114942528735628,0,"","",347.73333333333335,303,"",303,"",null,{"$f":"X37","v":2},null,{"$f":"TEXT(Y30,\"ddd\")","v":"di"},"MD",{"$f":"IFERROR(HLOOKUP(Y30,[1]DATA!$A$1:$NB$5,4,0),\"\")","v":"D2"},131,null,23,326,4,-10.124999999999943,0.69505376344086034,0.98862774829416222]
["2diND",{"$f":"VLOOKUP($AA32,DATA!$B$3:$E$6,2,0)","v":"22:30:00"},{"$f":"VLOOKUP($AA32,DATA!$B$3:$E$6,3,0)","v":"06:30:00"},{"$f":"VLOOKUP($AA32,DATA!$B$3:$E$6,4,0)","v":3.125E-2},0.30208333333333326,0.30208333333333326,{"$f":"DATA!$C$9","v":0.89},{"$f":"DATA!$C$10","v":64},1,407.81249999999989,407.81249999999989,0,"","",0,"","",0,"","","","",null,{"$f":"X37","v":2},null,{"$f":"TEXT(Y30,\"ddd\")","v":"di"},"ND",{"$f":"IFERROR(HLOOKUP(Y30,[1]DATA!$A$1:$NB$5,5,0),\"\")","v":"D1"},null,null,null,null,0,"","",""]
["2woDD",{"$f":"VLOOKUP($AA33,DATA!$B$3:$E$6,2,0)","v":"06:30:00"},{"$f":"VLOOKUP($AA33,DATA!$B$3:$E$6,3,0)","v":"14:30:00"},{"$f":"VLOOKUP($AA33,DATA!$B$3:$E$6,4,0)","v":3.125E-2},0.30208333333333331,0.29097222222222219,{"$f":"DATA!$C$9","v":0.89},{"$f":"DATA!$C$10","v":64},1,392.81249999999994,407.8125,1.1111111111111112E-2,15,3.6781609195402298E-2,0,"","",396.8,352,"","",352,null,{"$f":"X37","v":2},{"$f":"Y30+1","v":"2018-01-10"},{"$f":"TEXT(Y33,\"ddd\")","v":"wo"},"DD",{"$f":"IFERROR(HLOOKUP(Y33,[1]DATA!$A$1:$NB$5,3,0),\"\")","v":"D3"},16,null,20,372,19,-68.9375,0.80745519713261649,0.95430495430495432]
["2woMD",{"$f":"VLOOKUP($AA34,DATA!$B$3:$E$6,2,0)","v":"14:30:00"},{"$f":"VLOOKUP($AA34,DATA!$B$3:$E$6,3,0)","v":"22:30:00"},{"$f":"VLOOKUP($AA34,DATA!$B$3:$E$6,4,0)","v":3.125E-2},0.30208333333333337,0.24513888888888893,{"$f":"DATA!$C$9","v":0.89},{"$f":"DATA!$C$10","v":64},1,330.93750000000006,407.81250000000006,5.6944444444444443E-2,76.875,0.18850574712643675,0,"","",344.5333333333333,297,"",297,"",null,{"$f":"X37","v":2},null,{"$f":"TEXT(Y33,\"ddd\")","v":"wo"},"MD",{"$f":"IFERROR(HLOOKUP(Y33,[1]DATA!$A$1:$NB$5,4,0),\"\")","v":"D2"},82,null,26,323,13,-62.062499999999943,0.68129032258064526,0.96363975386910317]
["2woND",{"$f":"VLOOKUP($AA35,DATA!$B$3:$E$6,2,0)","v":"22:30:00"},{"$f":"VLOOKUP($AA35,DATA!$B$3:$E$6,3,0)","v":"06:30:00"},{"$f":"VLOOKUP($AA35,DATA!$B$3:$E$6,4,0)","v":3.125E-2},0.30208333333333326,0.30208333333333326,{"$f":"DATA!$C$9","v":0.89},{"$f":"DATA!$C$10","v":64},1,407.81249999999989,407.81249999999989,0,"","",0,"","",0,"","","","",null,{"$f":"X37","v":2},null,{"$f":"TEXT(Y33,\"ddd\")","v":"wo"},"ND",{"$f":"IFERROR(HLOOKUP(Y33,[1]DATA!$A$1:$NB$5,5,0),\"\")","v":"D1"},null,null,null,null,0,"","",""]
["2doDD",{"$f":"VLOOKUP($AA36,DATA!$B$3:$E$6,2,0)","v":"06:30:00"},{"$f":"VLOOKUP($AA36,DATA!$B$3:$E$6,3,0)","v":"14:30:00"},{"$f":"VLOOKUP($AA36,DATA!$B$3:$E$6,4,0)","v":3.125E-2},0.30208333333333331,0.27916666666666667,{"$f":"DATA!$C$9","v":0.89},{"$f":"DATA!$C$10","v":64},1,376.875,407.8125,2.2916666666666669E-2,30.937500000000004,7.5862068965517254E-2,0,"","",370.13333333333333,333,"","",333,null,{"$f":"X37","v":2},{"$f":"Y33+1","v":"2018-01-11"},{"$f":"TEXT(Y36,\"ddd\")","v":"do"},"DD",{"$f":"IFERROR(HLOOKUP(Y36,[1]DATA!$A$1:$NB$5,3,0),\"\")","v":"D3"},33,null,14,347,10,-72.000000000000057,0.76387096774193552,0.97369344089793053]
["2doMD",{"$f":"VLOOKUP($AA37,DATA!$B$3:$E$6,2,0)","v":"14:30:00"},{"$f":"VLOOKUP($AA37,DATA!$B$3:$E$6,3,0)","v":"22:30:00"},{"$f":"VLOOKUP($AA37,DATA!$B$3:$E$6,4,0)","v":3.125E-2},0.30208333333333337,0.26736111111111116,{"$f":"DATA!$C$9","v":0.89},{"$f":"DATA!$C$10","v":64},1,360.93750000000006,407.81250000000006,3.4722222222222224E-2,46.875,0.11494252873563217,0,"","",384,329,"",329,"",null,{"$f":"WEEKNUM($Y27)","v":2},null,{"$f":"TEXT(Y36,\"ddd\")","v":"do"},"MD",{"$f":"IFERROR(HLOOKUP(Y36,[1]DATA!$A$1:$NB$5,4,0),\"\")","v":"D2"},50,null,31,360,3,-60.062499999999943,0.75469534050179221,0.99224806201550386]
["2doND",{"$f":"VLOOKUP($AA38,DATA!$B$3:$E$6,2,0)","v":"22:30:00"},{"$f":"VLOOKUP($AA38,DATA!$B$3:$E$6,3,0)","v":"06:30:00"},{"$f":"VLOOKUP($AA38,DATA!$B$3:$E$6,4,0)","v":3.125E-2},0.30208333333333326,0.30208333333333326,{"$f":"DATA!$C$9","v":0.89},{"$f":"DATA!$C$10","v":64},1,407.81249999999989,407.81249999999989,0,"","",0,"","",0,"","","","",null,{"$f":"X37","v":2},null,{"$f":"TEXT(Y36,\"ddd\")","v":"do"},"ND",{"$f":"IFERROR(HLOOKUP(Y36,[1]DATA!$A$1:$NB$5,5,0),\"\")","v":"D1"},null,null,null,null,0,"","",""]
["2vrDD",{"$f":"VLOOKUP($AA39,DATA!$B$3:$E$6,2,0)","v":"06:30:00"},{"$f":"VLOOKUP($AA39,DATA!$B$3:$E$6,3,0)","v":"14:30:00"},{"$f":"VLOOKUP($AA39,DATA!$B$3:$E$6,4,0)","v":3.125E-2},0.30208333333333331,0.2409722222222222,{"$f":"DATA!$C$9","v":0.89},{"$f":"DATA!$C$10","v":64},1,325.31249999999994,407.8125,6.1111111111111116E-2,82.5,0.20229885057471264,0,"","",372.26666666666665,320,"","",320,null,{"$f":"X37","v":2},{"$f":"Y36+1","v":"2018-01-12"},{"$f":"TEXT(Y39,\"ddd\")","v":"vr"},"DD",{"$f":"IFERROR(HLOOKUP(Y39,[1]DATA!$A$1:$NB$5,3,0),\"\")","v":"D3"},88,null,29,349,0,-33.4375,0.73405017921146953,1]
["2vrMD",{"$f":"VLOOKUP($AA40,DATA!$B$3:$E$6,2,0)","v":"14:30:00"},{"$f":"VLOOKUP($AA40,DATA!$B$3:$E$6,3,0)","v":"22:30:00"},{"$f":"VLOOKUP($AA40,DATA!$B$3:$E$6,4,0)","v":3.125E-2},0.30208333333333337,0.20625000000000004,{"$f":"DATA!$C$9","v":0.89},{"$f":"DATA!$C$10","v":64},1,278.43750000000006,407.81250000000006,9.5833333333333326E-2,129.375,0.3172413793103448,0,"","",341.33333333333331,304,"",304,"",null,{"$f":"X37","v":2},null,{"$f":"TEXT(Y39,\"ddd\")","v":"vr"},"MD",{"$f":"IFERROR(HLOOKUP(Y39,[1]DATA!$A$1:$NB$5,4,0),\"\")","v":"D2"},138,null,16,320,2,-2.5624999999999432,0.69734767025089617,0.99417475728155336]
["2vrND",{"$f":"VLOOKUP($AA41,DATA!$B$3:$E$6,2,0)","v":"22:30:00"},{"$f":"VLOOKUP($AA41,DATA!$B$3:$E$6,3,0)","v":"06:30:00"},{"$f":"VLOOKUP($AA41,DATA!$B$3:$E$6,4,0)","v":3.125E-2},0.30208333333333326,0.30208333333333326,{"$f":"DATA!$C$9","v":0.89},{"$f":"DATA!$C$10","v":64},1,407.81249999999989,407.81249999999989,0,"","",0,"","",0,"","","","",null,{"$f":"X37","v":2},null,{"$f":"TEXT(Y39,\"ddd\")","v":"vr"},"ND",{"$f":"IFERROR(HLOOKUP(Y39,[1]DATA!$A$1:$NB$5,5,0),\"\")","v":"-"},null,null,null,null,0,"","",""]
["2zaDD",{"$f":"VLOOKUP($AA42,DATA!$B$3:$E$6,2,0)","v":"06:30:00"},{"$f":"VLOOKUP($AA42,DATA!$B$3:$E$6,3,0)","v":"14:30:00"},{"$f":"VLOOKUP($AA42,DATA!$B$3:$E$6,4,0)","v":3.125E-2},0.30208333333333331,0.30208333333333331,{"$f":"DATA!$C$9","v":0.89},{"$f":"DATA!$C$10","v":64},1,407.8125,407.8125,0,"","",0,"","",0,"","","","",null,{"$f":"X37","v":2},{"$f":"Y39+1","v":"2018-01-13"},{"$f":"TEXT(Y42,\"ddd\")","v":"za"},"DD",{"$f":"IFERROR(HLOOKUP(Y42,[1]DATA!$A$1:$NB$5,3,0),\"\")","v":"-"},null,null,null,null,0,"","",""]
["2zaMD",{"$f":"VLOOKUP($AA43,DATA!$B$3:$E$6,2,0)","v":"14:30:00"},{"$f":"VLOOKUP($AA43,DATA!$B$3:$E$6,3,0)","v":"22:30:00"},{"$f":"VLOOKUP($AA43,DATA!$B$3:$E$6,4,0)","v":3.125E-2},0.30208333333333337,0.30208333333333337,{"$f":"DATA!$C$9","v":0.89},{"$f":"DATA!$C$10","v":64},1,407.81250000000006,407.81250000000006,0,"","",0,"","",0,"","","","",null,{"$f":"X37","v":2},null,{"$f":"TEXT(Y42,\"ddd\")","v":"za"},"MD",{"$f":"IFERROR(HLOOKUP(Y42,[1]DATA!$A$1:$NB$5,4,0),\"\")","v":"-"},null,null,null,null,0,"","",""]
["2zaND",{"$f":"VLOOKUP($AA44,DATA!$B$3:$E$6,2,0)","v":"22:30:00"},{"$f":"VLOOKUP($AA44,DATA!$B$3:$E$6,3,0)","v":"06:30:00"},{"$f":"VLOOKUP($AA44,DATA!$B$3:$E$6,4,0)","v":3.125E-2},0.30208333333333326,0.30208333333333326,{"$f":"DATA!$C$9","v":0.89},{"$f":"DATA!$C$10","v":64},1,407.81249999999989,407.81249999999989,0,"","",0,"","",0,"","","","",null,{"$f":"X37","v":2},null,{"$f":"TEXT(Y42,\"ddd\")","v":"za"},"ND",{"$f":"IFERROR(HLOOKUP(Y42,[1]DATA!$A$1:$NB$5,5,0),\"\")","v":"-"},null,null,null,null,0,"","",""]
["2zoDD",{"$f":"VLOOKUP($AA45,DATA!$B$3:$E$6,2,0)","v":"06:30:00"},{"$f":"VLOOKUP($AA45,DATA!$B$3:$E$6,3,0)","v":"14:30:00"},{"$f":"VLOOKUP($AA45,DATA!$B$3:$E$6,4,0)","v":3.125E-2},0.30208333333333331,0.30208333333333331,{"$f":"DATA!$C$9","v":0.89},{"$f":"DATA!$C$10","v":64},1,407.8125,407.8125,0,"","",0,"","",0,"","","","",null,{"$f":"X37","v":2},{"$f":"Y42+1","v":"2018-01-14"},{"$f":"TEXT(Y45,\"ddd\")","v":"zo"},"DD",{"$f":"IFERROR(HLOOKUP(Y45,[1]DATA!$A$1:$NB$5,3,0),\"\")","v":"-"},null,null,null,null,0,"","",""]
["2zoMD",{"$f":"VLOOKUP($AA46,DATA!$B$3:$E$6,2,0)","v":"14:30:00"},{"$f":"VLOOKUP($AA46,DATA!$B$3:$E$6,3,0)","v":"22:30:00"},{"$f":"VLOOKUP($AA46,DATA!$B$3:$E$6,4,0)","v":3.125E-2},0.30208333333333337,0.30208333333333337,{"$f":"DATA!$C$9","v":0.89},{"$f":"DATA!$C$10","v":64},1,407.81250000000006,407.81250000000006,0,"","",0,"","",0,"","","","",null,{"$f":"X37","v":2},null,{"$f":"TEXT(Y45,\"ddd\")","v":"zo"},"MD",{"$f":"IFERROR(HLOOKUP(Y45,[1]DATA!$A$1:$NB$5,4,0),\"\")","v":"-"},null,null,null,null,0,"","",""]
["2zoZND",{"$f":"VLOOKUP($AA47,DATA!$B$3:$E$6,2,0)","v":"00:00:00"},{"$f":"VLOOKUP($AA47,DATA!$B$3:$E$6,3,0)","v":"00:00:00"},{"$f":"VLOOKUP($AA47,DATA!$B$3:$E$6,4,0)","v":0},0,0,{"$f":"DATA!$C$9","v":0.89},{"$f":"DATA!$C$10","v":64},1,0,0,0,"","",0,"","",0,"","","","",null,{"$f":"X37","v":2},null,{"$f":"TEXT(Y45,\"ddd\")","v":"zo"},"ZND",{"$f":"IFERROR(HLOOKUP(Y45,[1]DATA!$A$1:$NB$5,5,0),\"\")","v":"D3"},null,null,null,null,0,"","",""]
[{"$f":"X48&Z48&AA48","v":"3maDD"},{"$f":"VLOOKUP($AA48,DATA!$B$3:$E$6,2,0)","v":"06:30:00"},{"$f":"VLOOKUP($AA48,DATA!$B$3:$E$6,3,0)","v":"14:30:00"},{"$f":"VLOOKUP($AA48,DATA!$B$3:$E$6,4,0)","v":3.125E-2},0.30208333333333331,0.19513888888888886,{"$f":"DATA!$C$9","v":0.89},{"$f":"DATA!$C$10","v":64},1,263.43749999999994,407.8125,0.10694444444444444,144.375,0.35402298850574715,{"$f":"TIME(INT($AD48/60),INT(MOD($AD48,60)/1),0)","v":0},{"$f":"IF($O48*86400/$H48=0,\"\",$O48*86400/$H48)","v":""},"",347.73333333333335,306,"",306,"",null,{"$f":"X58","v":3},{"$f":"Y45+1","v":"2018-01-15"},{"$f":"TEXT(Y48,\"ddd\")","v":"ma"},"DD",{"$f":"IFERROR(HLOOKUP(Y48,[1]DATA!$A$1:$NB$5,3,0),\"\")","v":"D2"},154,null,20,326,10,14.4375,0.70193548387096771,0.97204621692135673,4359.375,2969,0.68106093189964156,748.125,0.17161290322580644,112.5,2.5806451612903226E-2,0.97230362068952692,0.97441316495816321,0.97019407642089062,"",529.75,0.12151971326164877,565.06666666666672,93]
["3maMD",{"$f":"VLOOKUP($AA49,DATA!$B$3:$E$6,2,0)","v":"14:30:00"},{"$f":"VLOOKUP($AA49,DATA!$B$3:$E$6,3,0)","v":"22:30:00"},{"$f":"VLOOKUP($AA49,DATA!$B$3:$E$6,4,0)","v":3.125E-2},0.30208333333333337,0.20833333333333337,{"$f":"DATA!$C$9","v":0.89},{"$f":"DATA!$C$10","v":64},1,281.25000000000006,407.81250000000006,9.375E-2,126.5625,0.31034482758620685,{"$f":"TIME(INT(AD49/60),INT(MOD(AD49,60)/1),0)","v":0},"","",330.66666666666669,302,302,"","",null,{"$f":"X58","v":3},null,{"$f":"TEXT(Y48,\"ddd\")","v":"ma"},"MD",{"$f":"IFERROR(HLOOKUP(Y48,[1]DATA!$A$1:$NB$5,4,0),\"\")","v":"D1"},135,null,8,310,0,-7.3749999999999432,0.69275985663082451,1]
["3maND",{"$f":"VLOOKUP($AA50,DATA!$B$3:$E$6,2,0)","v":"22:30:00"},{"$f":"VLOOKUP($AA50,DATA!$B$3:$E$6,3,0)","v":"06:30:00"},{"$f":"VLOOKUP($AA50,DATA!$B$3:$E$6,4,0)","v":3.125E-2},0.30208333333333326,0.30208333333333326,{"$f":"DATA!$C$9","v":0.89},{"$f":"DATA!$C$10","v":64},1,407.81249999999989,407.81249999999989,0,"","",0,"","",0,"","","","",null,{"$f":"X58","v":3},null,{"$f":"TEXT(Y48,\"ddd\")","v":"ma"},"ND",{"$f":"IFERROR(HLOOKUP(Y48,[1]DATA!$A$1:$NB$5,5,0),\"\")","v":"D3"},null,null,null,null,0,"","",""]
["3diDD",{"$f":"VLOOKUP($AA51,DATA!$B$3:$E$6,2,0)","v":"06:30:00"},{"$f":"VLOOKUP($AA51,DATA!$B$3:$E$6,3,0)","v":"14:30:00"},{"$f":"VLOOKUP($AA51,DATA!$B$3:$E$6,4,0)","v":3.125E-2},0.30208333333333331,0.24930555555555553,{"$f":"DATA!$C$9","v":0.89},{"$f":"DATA!$C$10","v":64},1,336.56249999999994,407.8125,5.2777777777777778E-2,71.25,0.17471264367816092,0,"","",331.73333333333335,301,"",301,"",null,{"$f":"X58","v":3},{"$f":"Y48+1","v":"2018-01-16"},{"$f":"TEXT(Y51,\"ddd\")","v":"di"},"DD",{"$f":"IFERROR(HLOOKUP(Y51,[1]DATA!$A$1:$NB$5,3,0),\"\")","v":"D2"},76,null,10,311,3,-63.687500000000057,0.69046594982078857,0.99103764190400323]
["3diMD",{"$f":"VLOOKUP($AA52,DATA!$B$3:$E$6,2,0)","v":"14:30:00"},{"$f":"VLOOKUP($AA52,DATA!$B$3:$E$6,3,0)","v":"22:30:00"},{"$f":"VLOOKUP($AA52,DATA!$B$3:$E$6,4,0)","v":3.125E-2},0.30208333333333337,0.26527777777777783,{"$f":"DATA!$C$9","v":0.89},{"$f":"DATA!$C$10","v":64},1,358.12500000000006,407.81250000000006,3.6805555555555557E-2,49.6875,0.1218390804597701,0,"","",381.86666666666667,320,320,"","",null,{"$f":"X58","v":3},null,{"$f":"TEXT(Y51,\"ddd\")","v":"di"},"MD",{"$f":"IFERROR(HLOOKUP(Y51,[1]DATA!$A$1:$NB$5,4,0),\"\")","v":"D1"},53,null,38,358,34,-66.25,0.73405017921146964,0.91824302661109325]
["3diND",{"$f":"VLOOKUP($AA53,DATA!$B$3:$E$6,2,0)","v":"22:30:00"},{"$f":"VLOOKUP($AA53,DATA!$B$3:$E$6,3,0)","v":"06:30:00"},{"$f":"VLOOKUP($AA53,DATA!$B$3:$E$6,4,0)","v":3.125E-2},0.30208333333333326,0.30208333333333326,{"$f":"DATA!$C$9","v":0.89},{"$f":"DATA!$C$10","v":64},1,407.81249999999989,407.81249999999989,0,"","",0,"","",0,"","","","",null,{"$f":"X58","v":3},null,{"$f":"TEXT(Y51,\"ddd\")","v":"di"},"ND",{"$f":"IFERROR(HLOOKUP(Y51,[1]DATA!$A$1:$NB$5,5,0),\"\")","v":"D3"},null,null,null,null,0,"","",""]
["3woDD",{"$f":"VLOOKUP($AA54,DATA!$B$3:$E$6,2,0)","v":"06:30:00"},{"$f":"VLOOKUP($AA54,DATA!$B$3:$E$6,3,0)","v":"14:30:00"},{"$f":"VLOOKUP($AA54,DATA!$B$3:$E$6,4,0)","v":3.125E-2},0.30208333333333331,0.26041666666666663,{"$f":"DATA!$C$9","v":0.89},{"$f":"DATA!$C$10","v":64},1,351.56249999999994,407.8125,4.1666666666666664E-2,56.25,0.13793103448275862,0,"","",224,205,"",205,"",null,{"$f":"X58","v":3},{"$f":"Y51+1","v":"2018-01-17"},{"$f":"TEXT(Y54,\"ddd\")","v":"wo"},"DD",{"$f":"IFERROR(HLOOKUP(Y54,[1]DATA!$A$1:$NB$5,3,0),\"\")","v":"D2"},60,null,5,210,20,-174.6875,0.47025089605734766,0.91803278688524592]
["3woMD",{"$f":"VLOOKUP($AA55,DATA!$B$3:$E$6,2,0)","v":"14:30:00"},{"$f":"VLOOKUP($AA55,DATA!$B$3:$E$6,3,0)","v":"22:30:00"},{"$f":"VLOOKUP($AA55,DATA!$B$3:$E$6,4,0)","v":3.125E-2},0.30208333333333337,0.25555555555555559,{"$f":"DATA!$C$9","v":0.89},{"$f":"DATA!$C$10","v":64},1,345.00000000000006,407.81250000000006,4.6527777777777779E-2,62.8125,0.15402298850574711,0,"","",388.26666666666665,339,339,"","",null,{"$f":"X58","v":3},null,{"$f":"TEXT(Y54,\"ddd\")","v":"wo"},"MD",{"$f":"IFERROR(HLOOKUP(Y54,[1]DATA!$A$1:$NB$5,4,0),\"\")","v":"D1"},67,null,25,364,5,-34.124999999999943,0.77763440860215061,0.98728598067469064]
["3woND",{"$f":"VLOOKUP($AA56,DATA!$B$3:$E$6,2,0)","v":"22:30:00"},{"$f":"VLOOKUP($AA56,DATA!$B$3:$E$6,3,0)","v":"06:30:00"},{"$f":"VLOOKUP($AA56,DATA!$B$3:$E$6,4,0)","v":3.125E-2},0.30208333333333326,0.30208333333333326,{"$f":"DATA!$C$9","v":0.89},{"$f":"DATA!$C$10","v":64},1,407.81249999999989,407.81249999999989,0,"","",0,"","",0,"","","","",null,{"$f":"X58","v":3},null,{"$f":"TEXT(Y54,\"ddd\")","v":"wo"},"ND",{"$f":"IFERROR(HLOOKUP(Y54,[1]DATA!$A$1:$NB$5,5,0),\"\")","v":"D3"},null,null,null,null,0,"","",""]
["3doDD",{"$f":"VLOOKUP($AA57,DATA!$B$3:$E$6,2,0)","v":"06:30:00"},{"$f":"VLOOKUP($AA57,DATA!$B$3:$E$6,3,0)","v":"14:30:00"},{"$f":"VLOOKUP($AA57,DATA!$B$3:$E$6,4,0)","v":3.125E-2},0.30208333333333331,0.1673611111111111,{"$f":"DATA!$C$9","v":0.89},{"$f":"DATA!$C$10","v":64},1,225.93749999999997,407.8125,5.1388888888888894E-2,69.375,0.17011494252873563,8.3333333333333329E-2,112.5,0.27586206896551724,244.26666666666665,220,"",220,"",null,{"$f":"X58","v":3},{"$f":"Y54+1","v":"2018-01-18"},{"$f":"TEXT(Y57,\"ddd\")","v":"do"},"DD",{"$f":"IFERROR(HLOOKUP(Y57,[1]DATA!$A$1:$NB$5,3,0),\"\")","v":"D2"},74,120,9,229,5,-34.062500000000028,0.50465949820788536,0.97994116073816528]
["3doMD",{"$f":"VLOOKUP($AA58,DATA!$B$3:$E$6,2,0)","v":"14:30:00"},{"$f":"VLOOKUP($AA58,DATA!$B$3:$E$6,3,0)","v":"22:30:00"},{"$f":"VLOOKUP($AA58,DATA!$B$3:$E$6,4,0)","v":3.125E-2},0.30208333333333337,0.24375000000000005,{"$f":"DATA!$C$9","v":0.89},{"$f":"DATA!$C$10","v":64},1,329.06250000000006,407.81250000000006,5.8333333333333327E-2,78.749999999999986,0.19310344827586201,0,"","",382.93333333333334,340,340,"","",null,{"$f":"WEEKNUM($Y48)","v":3},null,{"$f":"TEXT(Y57,\"ddd\")","v":"do"},"MD",{"$f":"IFERROR(HLOOKUP(Y57,[1]DATA!$A$1:$NB$5,4,0),\"\")","v":"D1"},84,null,19,359,3,-17.187499999999943,0.77992831541218643,0.99222663672482292]
["3doND",{"$f":"VLOOKUP($AA59,DATA!$B$3:$E$6,2,0)","v":"22:30:00"},{"$f":"VLOOKUP($AA59,DATA!$B$3:$E$6,3,0)","v":"06:30:00"},{"$f":"VLOOKUP($AA59,DATA!$B$3:$E$6,4,0)","v":3.125E-2},0.30208333333333326,0.30208333333333326,{"$f":"DATA!$C$9","v":0.89},{"$f":"DATA!$C$10","v":64},1,407.81249999999989,407.81249999999989,0,"","",0,"","",0,"","","","",null,{"$f":"X58","v":3},null,{"$f":"TEXT(Y57,\"ddd\")","v":"do"},"ND",{"$f":"IFERROR(HLOOKUP(Y57,[1]DATA!$A$1:$NB$5,5,0),\"\")","v":"D3"},null,null,null,null,0,"","",""]
["3vrDD",{"$f":"VLOOKUP($AA60,DATA!$B$3:$E$6,2,0)","v":"06:30:00"},{"$f":"VLOOKUP($AA60,DATA!$B$3:$E$6,3,0)","v":"14:30:00"},{"$f":"VLOOKUP($AA60,DATA!$B$3:$E$6,4,0)","v":3.125E-2},0.30208333333333331,0.2583333333333333,{"$f":"DATA!$C$9","v":0.89},{"$f":"DATA!$C$10","v":64},1,348.74999999999994,407.8125,4.3750000000000004E-2,59.062500000000007,0.14482758620689656,0,"","",392.5333333333333,332,"",332,"",null,{"$f":"X58","v":3},{"$f":"Y57+1","v":"2018-01-19"},{"$f":"TEXT(Y60,\"ddd\")","v":"vr"},"DD",{"$f":"IFERROR(HLOOKUP(Y60,[1]DATA!$A$1:$NB$5,3,0),\"\")","v":"D2"},63,null,36,368,4,-44.875,0.7615770609318997,0.98991257565568258]
["3vrMD",{"$f":"VLOOKUP($AA61,DATA!$B$3:$E$6,2,0)","v":"14:30:00"},{"$f":"VLOOKUP($AA61,DATA!$B$3:$E$6,3,0)","v":"22:30:00"},{"$f":"VLOOKUP($AA61,DATA!$B$3:$E$6,4,0)","v":3.125E-2},0.30208333333333337,0.27986111111111117,{"$f":"DATA!$C$9","v":0.89},{"$f":"DATA!$C$10","v":64},1,377.81250000000006,407.81250000000006,2.2222222222222223E-2,30,7.3563218390804583E-2,0,"","",341.33333333333331,304,304,"","",null,{"$f":"X58","v":3},null,{"$f":"TEXT(Y60,\"ddd\")","v":"vr"},"MD",{"$f":"IFERROR(HLOOKUP(Y60,[1]DATA!$A$1:$NB$5,4,0),\"\")","v":"D1"},32,null,16,320,9,-101.9375,0.69734767025089617,0.97431018078020937]
["3vrND",{"$f":"VLOOKUP($AA62,DATA!$B$3:$E$6,2,0)","v":"22:30:00"},{"$f":"VLOOKUP($AA62,DATA!$B$3:$E$6,3,0)","v":"06:30:00"},{"$f":"VLOOKUP($AA62,DATA!$B$3:$E$6,4,0)","v":3.125E-2},0.30208333333333326,0.30208333333333326,{"$f":"DATA!$C$9","v":0.89},{"$f":"DATA!$C$10","v":64},1,407.81249999999989,407.81249999999989,0,"","",0,"","",0,"","","","",null,{"$f":"X58","v":3},null,{"$f":"TEXT(Y60,\"ddd\")","v":"vr"},"ND",{"$f":"IFERROR(HLOOKUP(Y60,[1]DATA!$A$1:$NB$5,5,0),\"\")","v":"-"},null,null,null,null,0,"","",""]
["3zaDD",{"$f":"VLOOKUP($AA63,DATA!$B$3:$E$6,2,0)","v":"06:30:00"},{"$f":"VLOOKUP($AA63,DATA!$B$3:$E$6,3,0)","v":"14:30:00"},{"$f":"VLOOKUP($AA63,DATA!$B$3:$E$6,4,0)","v":3.125E-2},0.30208333333333331,0.30208333333333331,{"$f":"DATA!$C$9","v":0.89},{"$f":"DATA!$C$10","v":64},1,407.8125,407.8125,0,"","",0,"","",0,"","","","",null,{"$f":"X58","v":3},{"$f":"Y60+1","v":"2018-01-20"},{"$f":"TEXT(Y63,\"ddd\")","v":"za"},"DD",{"$f":"IFERROR(HLOOKUP(Y63,[1]DATA!$A$1:$NB$5,3,0),\"\")","v":"-"},null,null,null,null,0,"","",""]
["3zaMD",{"$f":"VLOOKUP($AA64,DATA!$B$3:$E$6,2,0)","v":"14:30:00"},{"$f":"VLOOKUP($AA64,DATA!$B$3:$E$6,3,0)","v":"22:30:00"},{"$f":"VLOOKUP($AA64,DATA!$B$3:$E$6,4,0)","v":3.125E-2},0.30208333333333337,0.30208333333333337,{"$f":"DATA!$C$9","v":0.89},{"$f":"DATA!$C$10","v":64},1,407.81250000000006,407.81250000000006,0,"","",0,"","",0,"","","","",null,{"$f":"X58","v":3},null,{"$f":"TEXT(Y63,\"ddd\")","v":"za"},"MD",{"$f":"IFERROR(HLOOKUP(Y63,[1]DATA!$A$1:$NB$5,4,0),\"\")","v":"-"},null,null,null,null,0,"","",""]
["3zaND",{"$f":"VLOOKUP($AA65,DATA!$B$3:$E$6,2,0)","v":"22:30:00"},{"$f":"VLOOKUP($AA65,DATA!$B$3:$E$6,3,0)","v":"06:30:00"},{"$f":"VLOOKUP($AA65,DATA!$B$3:$E$6,4,0)","v":3.125E-2},0.30208333333333326,0.30208333333333326,{"$f":"DATA!$C$9","v":0.89},{"$f":"DATA!$C$10","v":64},1,407.81249999999989,407.81249999999989,0,"","",0,"","",0,"","","","",null,{"$f":"X58","v":3},null,{"$f":"TEXT(Y63,\"ddd\")","v":"za"},"ND",{"$f":"IFERROR(HLOOKUP(Y63,[1]DATA!$A$1:$NB$5,5,0),\"\")","v":"-"},null,null,null,null,0,"","",""]
["3zoDD",{"$f":"VLOOKUP($AA66,DATA!$B$3:$E$6,2,0)","v":"06:30:00"},{"$f":"VLOOKUP($AA66,DATA!$B$3:$E$6,3,0)","v":"14:30:00"},{"$f":"VLOOKUP($AA66,DATA!$B$3:$E$6,4,0)","v":3.125E-2},0.30208333333333331,0.30208333333333331,{"$f":"DATA!$C$9","v":0.89},{"$f":"DATA!$C$10","v":64},1,407.8125,407.8125,0,"","",0,"","",0,"","","","",null,{"$f":"X58","v":3},{"$f":"Y63+1","v":"2018-01-21"},{"$f":"TEXT(Y66,\"ddd\")","v":"zo"},"DD",{"$f":"IFERROR(HLOOKUP(Y66,[1]DATA!$A$1:$NB$5,3,0),\"\")","v":"-"},null,null,null,null,0,"","",""]
["3zoMD",{"$f":"VLOOKUP($AA67,DATA!$B$3:$E$6,2,0)","v":"14:30:00"},{"$f":"VLOOKUP($AA67,DATA!$B$3:$E$6,3,0)","v":"22:30:00"},{"$f":"VLOOKUP($AA67,DATA!$B$3:$E$6,4,0)","v":3.125E-2},0.30208333333333337,0.30208333333333337,{"$f":"DATA!$C$9","v":0.89},{"$f":"DATA!$C$10","v":64},1,407.81250000000006,407.81250000000006,0,"","",0,"","",0,"","","","",null,{"$f":"X58","v":3},null,{"$f":"TEXT(Y66,\"ddd\")","v":"zo"},"MD",{"$f":"IFERROR(HLOOKUP(Y66,[1]DATA!$A$1:$NB$5,4,0),\"\")","v":"-"},null,null,null,null,0,"","",""]
["3zoZND",{"$f":"VLOOKUP($AA68,DATA!$B$3:$E$6,2,0)","v":"00:00:00"},{"$f":"VLOOKUP($AA68,DATA!$B$3:$E$6,3,0)","v":"00:00:00"},{"$f":"VLOOKUP($AA68,DATA!$B$3:$E$6,4,0)","v":0},0,0,{"$f":"DATA!$C$9","v":0.89},{"$f":"DATA!$C$10","v":64},1,0,0,0,"","",0,"","",0,"","","","",null,{"$f":"X58","v":3},null,{"$f":"TEXT(Y66,\"ddd\")","v":"zo"},"ZND",{"$f":"IFERROR(HLOOKUP(Y66,[1]DATA!$A$1:$NB$5,5,0),\"\")","v":"D2"},null,null,null,null,0,"","",""]
["4maDD",{"$f":"VLOOKUP($AA69,DATA!$B$3:$E$6,2,0)","v":"06:30:00"},{"$f":"VLOOKUP($AA69,DATA!$B$3:$E$6,3,0)","v":"14:30:00"},{"$f":"VLOOKUP($AA69,DATA!$B$3:$E$6,4,0)","v":3.125E-2},0.30208333333333331,0.28402777777777777,{"$f":"DATA!$C$9","v":0.89},{"$f":"DATA!$C$10","v":64},1,383.4375,407.8125,1.8055555555555557E-2,24.375000000000004,5.9770114942528742E-2,{"$f":"TIME(INT($AD69/60),INT(MOD($AD69,60)/1),0)","v":0},"","",381.86666666666667,336,336,"","",null,{"$f":"X79","v":4},{"$f":"Y66+1","v":"2018-01-22"},{"$f":"TEXT(Y69,\"ddd\")","v":"ma"},"DD",{"$f":"IFERROR(HLOOKUP(Y69,[1]DATA!$A$1:$NB$5,3,0),\"\")","v":"D1"},26,null,22,358,13,-75.562500000000057,0.77075268817204301,0.9670774945129158,4359.375,3121,0.71592831541218638,334.6875,7.677419354838709E-2,0,0,0.94400737354784958,0.97230501089200572,"",0.91570973620369345,903.6875,0.20729749103942652,963.93333333333328,235]
["4maMD",{"$f":"VLOOKUP($AA70,DATA!$B$3:$E$6,2,0)","v":"14:30:00"},{"$f":"VLOOKUP($AA70,DATA!$B$3:$E$6,3,0)","v":"22:30:00"},{"$f":"VLOOKUP($AA70,DATA!$B$3:$E$6,4,0)","v":3.125E-2},0.30208333333333337,0.27430555555555558,{"$f":"DATA!$C$9","v":0.89},{"$f":"DATA!$C$10","v":64},1,370.31250000000006,407.81250000000006,2.7777777777777776E-2,37.5,9.1954022988505732E-2,{"$f":"TIME(INT(AD70/60),INT(MOD(AD70,60)/1),0)","v":0},"","",373.33333333333331,317,"","",317,null,{"$f":"X79","v":4},null,{"$f":"TEXT(Y69,\"ddd\")","v":"ma"},"MD",{"$f":"IFERROR(HLOOKUP(Y69,[1]DATA!$A$1:$NB$5,4,0),\"\")","v":"D3"},40,null,33,350,50,-81.437499999999943,0.72716845878136205,0.88188976377952755]
["4maND",{"$f":"VLOOKUP($AA71,DATA!$B$3:$E$6,2,0)","v":"22:30:00"},{"$f":"VLOOKUP($AA71,DATA!$B$3:$E$6,3,0)","v":"06:30:00"},{"$f":"VLOOKUP($AA71,DATA!$B$3:$E$6,4,0)","v":3.125E-2},0.30208333333333326,0.30208333333333326,{"$f":"DATA!$C$9","v":0.89},{"$f":"DATA!$C$10","v":64},1,407.81249999999989,407.81249999999989,{"$f":"TIME(INT($AC71/60),INT(MOD($AC71,60)/1),0)","v":0},{"$f":"IF($L71*86400/$H71=0,\"\",$L71*86400/$H71)","v":""},{"$f":"IFERROR($M71/$K71,\"\")","v":""},0,"",{"$f":"IFERROR($P71/$K71,\"\")","v":""},0,"",{"$f":"IF(IF($AB71=\"D1\",$S71,\"\")=0,\"\",IF($AB71=\"D1\",$S71,\"\"))","v":""},{"$f":"IF(IF($AB71=\"D2\",$S71,\"\")=0,\"\",IF($AB71=\"D2\",$S71,\"\"))","v":""},{"$f":"IF(IF($AB71=\"D3\",$S71,\"\")=0,\"\",IF($AB71=\"D3\",$S71,\"\"))","v":""},null,{"$f":"X79","v":4},null,{"$f":"TEXT(Y69,\"ddd\")","v":"ma"},"ND",{"$f":"IFERROR(HLOOKUP(Y69,[1]DATA!$A$1:$NB$5,5,0),\"\")","v":"D2"},null,null,null,null,0,"","",""]
["4diDD",{"$f":"VLOOKUP($AA72,DATA!$B$3:$E$6,2,0)","v":"06:30:00"},{"$f":"VLOOKUP($AA72,DATA!$B$3:$E$6,3,0)","v":"14:30:00"},{"$f":"VLOOKUP($AA72,DATA!$B$3:$E$6,4,0)","v":3.125E-2},0.30208333333333331,0.26874999999999999,{"$f":"DATA!$C$9","v":0.89},{"$f":"DATA!$C$10","v":64},1,362.8125,407.8125,3.3333333333333333E-2,45,0.1103448275862069,0,"","",301.86666666666667,272,272,"","",null,{"$f":"X79","v":4},{"$f":"Y69+1","v":"2018-01-23"},{"$f":"TEXT(Y72,\"ddd\")","v":"di"},"DD",{"$f":"IFERROR(HLOOKUP(Y72,[1]DATA!$A$1:$NB$5,3,0),\"\")","v":"D1"},48,null,11,283,13,-118.93750000000006,0.6239426523297491,0.95871268261698073]
["4diMD",{"$f":"VLOOKUP($AA73,DATA!$B$3:$E$6,2,0)","v":"14:30:00"},{"$f":"VLOOKUP($AA73,DATA!$B$3:$E$6,3,0)","v":"22:30:00"},{"$f":"VLOOKUP($AA73,DATA!$B$3:$E$6,4,0)","v":3.125E-2},0.30208333333333337,0.2993055555555556,{"$f":"DATA!$C$9","v":0.89},{"$f":"DATA!$C$10","v":64},1,404.06250000000006,407.81250000000006,2.7777777777777779E-3,3.75,9.1954022988505729E-3,0,"","",379.73333333333335,327,"","",327,null,{"$f":"X79","v":4},null,{"$f":"TEXT(Y72,\"ddd\")","v":"di"},"MD",{"$f":"IFERROR(HLOOKUP(Y72,[1]DATA!$A$1:$NB$5,4,0),\"\")","v":"D3"},4,null,29,356,76,-105.18749999999994,0.75010752688172055,0.83323581041544759]
["4diND",{"$f":"VLOOKUP($AA74,DATA!$B$3:$E$6,2,0)","v":"22:30:00"},{"$f":"VLOOKUP($AA74,DATA!$B$3:$E$6,3,0)","v":"06:30:00"},{"$f":"VLOOKUP($AA74,DATA!$B$3:$E$6,4,0)","v":3.125E-2},0.30208333333333326,0.30208333333333326,{"$f":"DATA!$C$9","v":0.89},{"$f":"DATA!$C$10","v":64},1,407.81249999999989,407.81249999999989,0,"","",0,"","",0,"","","","",null,{"$f":"X79","v":4},null,{"$f":"TEXT(Y72,\"ddd\")","v":"di"},"ND",{"$f":"IFERROR(HLOOKUP(Y72,[1]DATA!$A$1:$NB$5,5,0),\"\")","v":"D2"},null,null,null,null,0,"","",""]
["4woDD",{"$f":"VLOOKUP($AA75,DATA!$B$3:$E$6,2,0)","v":"06:30:00"},{"$f":"VLOOKUP($AA75,DATA!$B$3:$E$6,3,0)","v":"14:30:00"},{"$f":"VLOOKUP($AA75,DATA!$B$3:$E$6,4,0)","v":3.125E-2},0.30208333333333331,0.2631944444444444,{"$f":"DATA!$C$9","v":0.89},{"$f":"DATA!$C$10","v":64},1,355.31249999999994,407.8125,3.888888888888889E-2,52.5,0.12873563218390804,0,"","",356.26666666666665,318,318,"","",null,{"$f":"X79","v":4},{"$f":"Y72+1","v":"2018-01-24"},{"$f":"TEXT(Y75,\"ddd\")","v":"wo"},"DD",{"$f":"IFERROR(HLOOKUP(Y75,[1]DATA!$A$1:$NB$5,3,0),\"\")","v":"D1"},56,null,16,334,8,-65.4375,0.72946236559139788,0.97803806734992682]
["4woMD",{"$f":"VLOOKUP($AA76,DATA!$B$3:$E$6,2,0)","v":"14:30:00"},{"$f":"VLOOKUP($AA76,DATA!$B$3:$E$6,3,0)","v":"22:30:00"},{"$f":"VLOOKUP($AA76,DATA!$B$3:$E$6,4,0)","v":3.125E-2},0.30208333333333337,0.30208333333333337,{"$f":"DATA!$C$9","v":0.89},{"$f":"DATA!$C$10","v":64},1,407.81250000000006,407.81250000000006,0,"","",0,"","",398.93333333333334,343,"","",343,null,{"$f":"X79","v":4},null,{"$f":"TEXT(Y75,\"ddd\")","v":"wo"},"MD",{"$f":"IFERROR(HLOOKUP(Y75,[1]DATA!$A$1:$NB$5,4,0),\"\")","v":"D3"},0,null,31,374,56,-92.937499999999943,0.78681003584229403,0.87690504103165301]
["4woND",{"$f":"VLOOKUP($AA77,DATA!$B$3:$E$6,2,0)","v":"22:30:00"},{"$f":"VLOOKUP($AA77,DATA!$B$3:$E$6,3,0)","v":"06:30:00"},{"$f":"VLOOKUP($AA77,DATA!$B$3:$E$6,4,0)","v":3.125E-2},0.30208333333333326,0.30208333333333326,{"$f":"DATA!$C$9","v":0.89},{"$f":"DATA!$C$10","v":64},1,407.81249999999989,407.81249999999989,0,"","",0,"","",0,"","","","",null,{"$f":"X79","v":4},null,{"$f":"TEXT(Y75,\"ddd\")","v":"wo"},"ND",{"$f":"IFERROR(HLOOKUP(Y75,[1]DATA!$A$1:$NB$5,5,0),\"\")","v":"D2"},null,null,null,null,0,"","",""]
["4doDD",{"$f":"VLOOKUP($AA78,DATA!$B$3:$E$6,2,0)","v":"06:30:00"},{"$f":"VLOOKUP($AA78,DATA!$B$3:$E$6,3,0)","v":"14:30:00"},{"$f":"VLOOKUP($AA78,DATA!$B$3:$E$6,4,0)","v":3.125E-2},0.30208333333333331,0.23958333333333331,{"$f":"DATA!$C$9","v":0.89},{"$f":"DATA!$C$10","v":64},1,323.4375,407.8125,6.25E-2,84.375,0.20689655172413793,0,"","",307.2,278,278,"","",null,{"$f":"X79","v":4},{"$f":"Y75+1","v":"2018-01-25"},{"$f":"TEXT(Y78,\"ddd\")","v":"do"},"DD",{"$f":"IFERROR(HLOOKUP(Y78,[1]DATA!$A$1:$NB$5,3,0),\"\")","v":"D1"},90,null,10,288,9,-73.5625,0.63770609318996418,0.97153700189753323]
["4doMD",{"$f":"VLOOKUP($AA79,DATA!$B$3:$E$6,2,0)","v":"14:30:00"},{"$f":"VLOOKUP($AA79,DATA!$B$3:$E$6,3,0)","v":"22:30:00"},{"$f":"VLOOKUP($AA79,DATA!$B$3:$E$6,4,0)","v":3.125E-2},0.30208333333333337,0.27708333333333335,{"$f":"DATA!$C$9","v":0.89},{"$f":"DATA!$C$10","v":64},1,374.0625,407.81250000000006,2.4999999999999998E-2,33.75,8.2758620689655157E-2,0,"","",365.86666666666667,330,"","",330,null,{"$f":"WEEKNUM($Y69)","v":4},null,{"$f":"TEXT(Y78,\"ddd\")","v":"do"},"MD",{"$f":"IFERROR(HLOOKUP(Y78,[1]DATA!$A$1:$NB$5,4,0),\"\")","v":"D3"},36,null,13,343,5,-72.187499999999943,0.75698924731182804,0.98651806579183898]
["4doND",{"$f":"VLOOKUP($AA80,DATA!$B$3:$E$6,2,0)","v":"22:30:00"},{"$f":"VLOOKUP($AA80,DATA!$B$3:$E$6,3,0)","v":"06:30:00"},{"$f":"VLOOKUP($AA80,DATA!$B$3:$E$6,4,0)","v":3.125E-2},0.30208333333333326,0.30208333333333326,{"$f":"DATA!$C$9","v":0.89},{"$f":"DATA!$C$10","v":64},1,407.81249999999989,407.81249999999989,0,"","",0,"","",0,"","","","",null,{"$f":"X79","v":4},null,{"$f":"TEXT(Y78,\"ddd\")","v":"do"},"ND",{"$f":"IFERROR(HLOOKUP(Y78,[1]DATA!$A$1:$NB$5,5,0),\"\")","v":"D2"},null,null,null,null,0,"","",""]
["4vrDD",{"$f":"VLOOKUP($AA81,DATA!$B$3:$E$6,2,0)","v":"06:30:00"},{"$f":"VLOOKUP($AA81,DATA!$B$3:$E$6,3,0)","v":"14:30:00"},{"$f":"VLOOKUP($AA81,DATA!$B$3:$E$6,4,0)","v":3.125E-2},0.30208333333333331,0.28749999999999998,{"$f":"DATA!$C$9","v":0.89},{"$f":"DATA!$C$10","v":64},1,388.12499999999994,407.8125,1.4583333333333332E-2,19.687499999999996,4.827586206896551E-2,0,"","",356.26666666666665,325,325,"","",null,{"$f":"X79","v":4},{"$f":"Y78+1","v":"2018-01-26"},{"$f":"TEXT(Y81,\"ddd\")","v":"vr"},"DD",{"$f":"IFERROR(HLOOKUP(Y81,[1]DATA!$A$1:$NB$5,3,0),\"\")","v":"D1"},21,null,9,334,5,-91.25,0.74551971326164879,0.98615980808267212]
["4vrMD",{"$f":"VLOOKUP($AA82,DATA!$B$3:$E$6,2,0)","v":"14:30:00"},{"$f":"VLOOKUP($AA82,DATA!$B$3:$E$6,3,0)","v":"22:30:00"},{"$f":"VLOOKUP($AA82,DATA!$B$3:$E$6,4,0)","v":3.125E-2},0.30208333333333337,0.27708333333333335,{"$f":"DATA!$C$9","v":0.89},{"$f":"DATA!$C$10","v":64},1,374.0625,407.81250000000006,2.4999999999999998E-2,33.75,8.2758620689655157E-2,0,"","",317.86666666666667,275,"","",275,null,{"$f":"X79","v":4},null,{"$f":"TEXT(Y81,\"ddd\")","v":"vr"},"MD",{"$f":"IFERROR(HLOOKUP(Y81,[1]DATA!$A$1:$NB$5,4,0),\"\")","v":"D3"},36,null,23,298,0,-127.18749999999994,0.6308243727598567,1]
["4vrND",{"$f":"VLOOKUP($AA83,DATA!$B$3:$E$6,2,0)","v":"22:30:00"},{"$f":"VLOOKUP($AA83,DATA!$B$3:$E$6,3,0)","v":"06:30:00"},{"$f":"VLOOKUP($AA83,DATA!$B$3:$E$6,4,0)","v":3.125E-2},0.30208333333333326,0.30208333333333326,{"$f":"DATA!$C$9","v":0.89},{"$f":"DATA!$C$10","v":64},1,407.81249999999989,407.81249999999989,0,"","",0,"","",0,"","","","",null,{"$f":"X79","v":4},null,{"$f":"TEXT(Y81,\"ddd\")","v":"vr"},"ND",{"$f":"IFERROR(HLOOKUP(Y81,[1]DATA!$A$1:$NB$5,5,0),\"\")","v":"-"},null,null,null,null,0,"","",""]
["4zaDD",{"$f":"VLOOKUP($AA84,DATA!$B$3:$E$6,2,0)","v":"06:30:00"},{"$f":"VLOOKUP($AA84,DATA!$B$3:$E$6,3,0)","v":"14:30:00"},{"$f":"VLOOKUP($AA84,DATA!$B$3:$E$6,4,0)","v":3.125E-2},0.30208333333333331,0.30208333333333331,{"$f":"DATA!$C$9","v":0.89},{"$f":"DATA!$C$10","v":64},1,407.8125,407.8125,0,"","",0,"","",0,"","","","",null,{"$f":"X79","v":4},{"$f":"Y81+1","v":"2018-01-27"},{"$f":"TEXT(Y84,\"ddd\")","v":"za"},"DD",{"$f":"IFERROR(HLOOKUP(Y84,[1]DATA!$A$1:$NB$5,3,0),\"\")","v":"-"},null,null,null,null,0,"","",""]
["4zaMD",{"$f":"VLOOKUP($AA85,DATA!$B$3:$E$6,2,0)","v":"14:30:00"},{"$f":"VLOOKUP($AA85,DATA!$B$3:$E$6,3,0)","v":"22:30:00"},{"$f":"VLOOKUP($AA85,DATA!$B$3:$E$6,4,0)","v":3.125E-2},0.30208333333333337,0.30208333333333337,{"$f":"DATA!$C$9","v":0.89},{"$f":"DATA!$C$10","v":64},1,407.81250000000006,407.81250000000006,0,"","",0,"","",0,"","","","",null,{"$f":"X79","v":4},null,{"$f":"TEXT(Y84,\"ddd\")","v":"za"},"MD",{"$f":"IFERROR(HLOOKUP(Y84,[1]DATA!$A$1:$NB$5,4,0),\"\")","v":"-"},null,null,null,null,0,"","",""]
["4zaND",{"$f":"VLOOKUP($AA86,DATA!$B$3:$E$6,2,0)","v":"22:30:00"},{"$f":"VLOOKUP($AA86,DATA!$B$3:$E$6,3,0)","v":"06:30:00"},{"$f":"VLOOKUP($AA86,DATA!$B$3:$E$6,4,0)","v":3.125E-2},0.30208333333333326,0.30208333333333326,{"$f":"DATA!$C$9","v":0.89},{"$f":"DATA!$C$10","v":64},1,407.81249999999989,407.81249999999989,0,"","",0,"","",0,"","","","",null,{"$f":"X79","v":4},null,{"$f":"TEXT(Y84,\"ddd\")","v":"za"},"ND",{"$f":"IFERROR(HLOOKUP(Y84,[1]DATA!$A$1:$NB$5,5,0),\"\")","v":"-"},null,null,null,null,0,"","",""]
["4zoDD",{"$f":"VLOOKUP($AA87,DATA!$B$3:$E$6,2,0)","v":"06:30:00"},{"$f":"VLOOKUP($AA87,DATA!$B$3:$E$6,3,0)","v":"14:30:00"},{"$f":"VLOOKUP($AA87,DATA!$B$3:$E$6,4,0)","v":3.125E-2},0.30208333333333331,0.30208333333333331,{"$f":"DATA!$C$9","v":0.89},{"$f":"DATA!$C$10","v":64},1,407.8125,407.8125,0,"","",0,"","",0,"","","","",null,{"$f":"X79","v":4},{"$f":"Y84+1","v":"2018-01-28"},{"$f":"TEXT(Y87,\"ddd\")","v":"zo"},"DD",{"$f":"IFERROR(HLOOKUP(Y87,[1]DATA!$A$1:$NB$5,3,0),\"\")","v":"-"},null,null,null,null,0,"","",""]
["4zoMD",{"$f":"VLOOKUP($AA88,DATA!$B$3:$E$6,2,0)","v":"14:30:00"},{"$f":"VLOOKUP($AA88,DATA!$B$3:$E$6,3,0)","v":"22:30:00"},{"$f":"VLOOKUP($AA88,DATA!$B$3:$E$6,4,0)","v":3.125E-2},0.30208333333333337,0.30208333333333337,{"$f":"DATA!$C$9","v":0.89},{"$f":"DATA!$C$10","v":64},1,407.81250000000006,407.81250000000006,0,"","",0,"","",0,"","","","",null,{"$f":"X79","v":4},null,{"$f":"TEXT(Y87,\"ddd\")","v":"zo"},"MD",{"$f":"IFERROR(HLOOKUP(Y87,[1]DATA!$A$1:$NB$5,4,0),\"\")","v":"-"},null,null,null,null,0,"","",""]
["4zoZND",{"$f":"VLOOKUP($AA89,DATA!$B$3:$E$6,2,0)","v":"00:00:00"},{"$f":"VLOOKUP($AA89,DATA!$B$3:$E$6,3,0)","v":"00:00:00"},{"$f":"VLOOKUP($AA89,DATA!$B$3:$E$6,4,0)","v":0},0,0,{"$f":"DATA!$C$9","v":0.89},{"$f":"DATA!$C$10","v":64},1,0,0,0,"","",0,"","",0,"","","","",null,{"$f":"X79","v":4},null,{"$f":"TEXT(Y87,\"ddd\")","v":"zo"},"ZND",{"$f":"IFERROR(HLOOKUP(Y87,[1]DATA!$A$1:$NB$5,5,0),\"\")","v":"D1"},null,null,null,null,0,"","",""]
["5maDD",{"$f":"VLOOKUP($AA90,DATA!$B$3:$E$6,2,0)","v":"06:30:00"},{"$f":"VLOOKUP($AA90,DATA!$B$3:$E$6,3,0)","v":"14:30:00"},{"$f":"VLOOKUP($AA90,DATA!$B$3:$E$6,4,0)","v":3.125E-2},0.30208333333333331,0.23680555555555555,{"$f":"DATA!$C$9","v":0.89},{"$f":"DATA!$C$10","v":64},1,319.6875,407.8125,6.5277777777777782E-2,88.125,0.2160919540229885,{"$f":"TIME(INT($AD90/60),INT(MOD($AD90,60)/1),0)","v":0},"","",280.5333333333333,243,"","",243,null,{"$f":"X100","v":5},{"$f":"Y87+1","v":"2018-01-29"},{"$f":"TEXT(Y90,\"ddd\")","v":"ma"},"DD",{"$f":"IFERROR(HLOOKUP(Y90,[1]DATA!$A$1:$NB$5,3,0),\"\")","v":"D3"},94,null,20,263,15,-104.81250000000006,0.55741935483870964,0.94924430408301375,4359.375,2906,0.66660931899641573,643.125,0.1475268817204301,295.3125,6.7741935483870974E-2,0.96914991791828109,"",0.95897055184101965,0.97932928399554231,514.9375,0.11812186379928319,549.26666666666665,110]
["5maMD",{"$f":"VLOOKUP($AA91,DATA!$B$3:$E$6,2,0)","v":"14:30:00"},{"$f":"VLOOKUP($AA91,DATA!$B$3:$E$6,3,0)","v":"22:30:00"},{"$f":"VLOOKUP($AA91,DATA!$B$3:$E$6,4,0)","v":3.125E-2},0.30208333333333337,0.28263888888888894,{"$f":"DATA!$C$9","v":0.89},{"$f":"DATA!$C$10","v":64},1,381.56250000000006,407.81250000000006,1.9444444444444445E-2,26.25,6.4367816091954008E-2,{"$f":"TIME(INT(AD91/60),INT(MOD(AD91,60)/1),0)","v":0},"","",371.2,337,"",337,"",null,{"$f":"X100","v":5},null,{"$f":"TEXT(Y90,\"ddd\")","v":"ma"},"MD",{"$f":"IFERROR(HLOOKUP(Y90,[1]DATA!$A$1:$NB$5,4,0),\"\")","v":"D2"},28,null,11,348,4,-72.687499999999943,0.77304659498207895,0.98933901918976541]
["5maND",{"$f":"VLOOKUP($AA92,DATA!$B$3:$E$6,2,0)","v":"22:30:00"},{"$f":"VLOOKUP($AA92,DATA!$B$3:$E$6,3,0)","v":"06:30:00"},{"$f":"VLOOKUP($AA92,DATA!$B$3:$E$6,4,0)","v":3.125E-2},{"$f":"(C92-B92+(B92>C92))-D92","v":0.30208333333333326},{"$f":"E92-O92-L92","v":0.30208333333333326},{"$f":"DATA!$C$9","v":0.89},{"$f":"DATA!$C$10","v":64},1,{"$f":"F92*86400/H92*I92","v":407.81249999999989},{"$f":"E92*86400/H92","v":407.81249999999989},0,"","",0,"","",{"$f":"AF92*AG$2","v":0},{"$f":"IF(AF92-AE92=0,\"\",AF92-AE92)","v":""},"","","",null,{"$f":"X100","v":5},null,{"$f":"TEXT(Y90,\"ddd\")","v":"ma"},"ND",{"$f":"IFERROR(HLOOKUP(Y90,[1]DATA!$A$1:$NB$5,5,0),\"\")","v":"D1"},null,null,null,null,0,"","",""]
["5diDD",{"$f":"VLOOKUP($AA93,DATA!$B$3:$E$6,2,0)","v":"06:30:00"},{"$f":"VLOOKUP($AA93,DATA!$B$3:$E$6,3,0)","v":"14:30:00"},{"$f":"VLOOKUP($AA93,DATA!$B$3:$E$6,4,0)","v":3.125E-2},0.30208333333333331,0.26805555555555555,{"$f":"DATA!$C$9","v":0.89},{"$f":"DATA!$C$10","v":64},1,361.875,407.8125,3.4027777777777775E-2,45.937499999999993,0.11264367816091952,0,"","",388.26666666666665,348,"","",348,null,{"$f":"X100","v":5},{"$f":"Y90+1","v":"2018-01-30"},{"$f":"TEXT(Y93,\"ddd\")","v":"di"},"DD",{"$f":"IFERROR(HLOOKUP(Y93,[1]DATA!$A$1:$NB$5,3,0),\"\")","v":"D3"},49,null,16,364,4,-42.000000000000057,0.79827956989247317,0.9898028552005439]
["5diMD",{"$f":"VLOOKUP($AA94,DATA!$B$3:$E$6,2,0)","v":"14:30:00"},{"$f":"VLOOKUP($AA94,DATA!$B$3:$E$6,3,0)","v":"22:30:00"},{"$f":"VLOOKUP($AA94,DATA!$B$3:$E$6,4,0)","v":3.125E-2},0.30208333333333337,0.26597222222222228,{"$f":"DATA!$C$9","v":0.89},{"$f":"DATA!$C$10","v":64},1,359.06250000000006,407.81250000000006,3.6111111111111115E-2,48.750000000000007,0.11954022988505747,0,"","",373.33333333333331,324,"",324,"",null,{"$f":"X100","v":5},null,{"$f":"TEXT(Y93,\"ddd\")","v":"di"},"MD",{"$f":"IFERROR(HLOOKUP(Y93,[1]DATA!$A$1:$NB$5,4,0),\"\")","v":"D2"},52,null,26,350,12,-63.1875,0.74322580645161296,0.96885813148788924]
["5diND",{"$f":"VLOOKUP($AA95,DATA!$B$3:$E$6,2,0)","v":"22:30:00"},{"$f":"VLOOKUP($AA95,DATA!$B$3:$E$6,3,0)","v":"06:30:00"},{"$f":"VLOOKUP($AA95,DATA!$B$3:$E$6,4,0)","v":3.125E-2},0.30208333333333326,0.30208333333333326,{"$f":"DATA!$C$9","v":0.89},{"$f":"DATA!$C$10","v":64},1,407.81249999999989,407.81249999999989,0,"","",0,"","",0,"","","","",null,{"$f":"X100","v":5},null,{"$f":"TEXT(Y93,\"ddd\")","v":"di"},"ND",{"$f":"IFERROR(HLOOKUP(Y93,[1]DATA!$A$1:$NB$5,5,0),\"\")","v":"D1"},null,null,null,null,0,"","",""]
["5woDD",{"$f":"VLOOKUP($AA96,DATA!$B$3:$E$6,2,0)","v":"06:30:00"},{"$f":"VLOOKUP($AA96,DATA!$B$3:$E$6,3,0)","v":"14:30:00"},{"$f":"VLOOKUP($AA96,DATA!$B$3:$E$6,4,0)","v":3.125E-2},0.30208333333333331,0.125,{"$f":"DATA!$C$9","v":0.89},{"$f":"DATA!$C$10","v":64},1,168.75,407.8125,9.375E-2,126.5625,0.31034482758620691,8.3333333333333329E-2,112.5,0.27586206896551724,234.66666666666666,208,"","",208,null,{"$f":"X100","v":5},{"$f":"Y93+1","v":"2018-01-31"},{"$f":"TEXT(Y96,\"ddd\")","v":"wo"},"DD",{"$f":"IFERROR(HLOOKUP(Y96,[1]DATA!$A$1:$NB$5,3,0),\"\")","v":"D3"},135,120,12,220,3,11.124999999999943,0.4771326164874552,0.98737727910238426]
["5woMD",{"$f":"VLOOKUP($AA97,DATA!$B$3:$E$6,2,0)","v":"14:30:00"},{"$f":"VLOOKUP($AA97,DATA!$B$3:$E$6,3,0)","v":"22:30:00"},{"$f":"VLOOKUP($AA97,DATA!$B$3:$E$6,4,0)","v":3.125E-2},0.30208333333333337,0.1631944444444445,{"$f":"DATA!$C$9","v":0.89},{"$f":"DATA!$C$10","v":64},1,220.31250000000009,407.81250000000006,3.472222222222222E-3,4.6875,1.1494252873563216E-2,0.13541666666666666,182.8125,0.44827586206896547,280.5333333333333,248,"",248,"",null,{"$f":"X100","v":5},null,{"$f":"TEXT(Y96,\"ddd\")","v":"wo"},"MD",{"$f":"IFERROR(HLOOKUP(Y96,[1]DATA!$A$1:$NB$5,4,0),\"\")","v":"D2"},5,195,15,263,11,-0.43749999999997158,0.568888888888889,0.96226846558426704]
["5woND",{"$f":"VLOOKUP($AA98,DATA!$B$3:$E$6,2,0)","v":"22:30:00"},{"$f":"VLOOKUP($AA98,DATA!$B$3:$E$6,3,0)","v":"06:30:00"},{"$f":"VLOOKUP($AA98,DATA!$B$3:$E$6,4,0)","v":3.125E-2},0.30208333333333326,0.30208333333333326,{"$f":"DATA!$C$9","v":0.89},{"$f":"DATA!$C$10","v":64},1,407.81249999999989,407.81249999999989,0,"","",0,"","",0,"","","","",null,{"$f":"X100","v":5},null,{"$f":"TEXT(Y96,\"ddd\")","v":"wo"},"ND",{"$f":"IFERROR(HLOOKUP(Y96,[1]DATA!$A$1:$NB$5,5,0),\"\")","v":"D1"},null,null,null,null,0,"","",""]
["5doDD",{"$f":"VLOOKUP($AA99,DATA!$B$3:$E$6,2,0)","v":"06:30:00"},{"$f":"VLOOKUP($AA99,DATA!$B$3:$E$6,3,0)","v":"14:30:00"},{"$f":"VLOOKUP($AA99,DATA!$B$3:$E$6,4,0)","v":3.125E-2},0.30208333333333331,0.25972222222222219,{"$f":"DATA!$C$9","v":0.89},{"$f":"DATA!$C$10","v":64},1,350.62499999999994,407.8125,4.2361111111111106E-2,57.187499999999993,0.14022988505747125,0,"","",358.4,329,"","",329,null,{"$f":"X100","v":5},{"$f":"Y96+1","v":"2018-02-01"},{"$f":"TEXT(Y99,\"ddd\")","v":"do"},"DD",{"$f":"IFERROR(HLOOKUP(Y99,[1]DATA!$A$1:$NB$5,3,0),\"\")","v":"D3"},61,null,7,336,11,-49.75,0.7546953405017921,0.97022198159177042]
["5doMD",{"$f":"VLOOKUP($AA100,DATA!$B$3:$E$6,2,0)","v":"14:30:00"},{"$f":"VLOOKUP($AA100,DATA!$B$3:$E$6,3,0)","v":"22:30:00"},{"$f":"VLOOKUP($AA100,DATA!$B$3:$E$6,4,0)","v":3.125E-2},0.30208333333333337,0.27013888888888893,{"$f":"DATA!$C$9","v":0.89},{"$f":"DATA!$C$10","v":64},1,364.68750000000006,407.81250000000006,3.1944444444444449E-2,43.125000000000007,0.10574712643678161,0,"","",377.6,336,"",336,"",null,{"$f":"WEEKNUM($Y90)","v":5},null,{"$f":"TEXT(Y99,\"ddd\")","v":"do"},"MD",{"$f":"IFERROR(HLOOKUP(Y99,[1]DATA!$A$1:$NB$5,4,0),\"\")","v":"D2"},46,null,18,354,13,-56.812499999999943,0.77075268817204312,0.96671786994367637]
["5doND",{"$f":"VLOOKUP($AA101,DATA!$B$3:$E$6,2,0)","v":"22:30:00"},{"$f":"VLOOKUP($AA101,DATA!$B$3:$E$6,3,0)","v":"06:30:00"},{"$f":"VLOOKUP($AA101,DATA!$B$3:$E$6,4,0)","v":3.125E-2},0.30208333333333326,0.30208333333333326,{"$f":"DATA!$C$9","v":0.89},{"$f":"DATA!$C$10","v":64},1,407.81249999999989,407.81249999999989,0,"","",0,"","",0,"","","","",null,{"$f":"X100","v":5},null,{"$f":"TEXT(Y99,\"ddd\")","v":"do"},"ND",{"$f":"IFERROR(HLOOKUP(Y99,[1]DATA!$A$1:$NB$5,5,0),\"\")","v":"D1"},null,null,null,null,0,"","",""]
["5vrDD",{"$f":"VLOOKUP($AA102,DATA!$B$3:$E$6,2,0)","v":"06:30:00"},{"$f":"VLOOKUP($AA102,DATA!$B$3:$E$6,3,0)","v":"14:30:00"},{"$f":"VLOOKUP($AA102,DATA!$B$3:$E$6,4,0)","v":3.125E-2},0.30208333333333331,0.1784722222222222,{"$f":"DATA!$C$9","v":0.89},{"$f":"DATA!$C$10","v":64},1,240.93749999999997,407.8125,0.12361111111111112,166.875,0.4091954022988506,0,"","",242.13333333333333,216,"","",216,null,{"$f":"X100","v":5},{"$f":"Y99+1","v":"2018-02-02"},{"$f":"TEXT(Y102,\"ddd\")","v":"vr"},"DD",{"$f":"IFERROR(HLOOKUP(Y102,[1]DATA!$A$1:$NB$5,3,0),\"\")","v":"D3"},178,null,11,227,0,-53.0625,0.49548387096774194,1]
["5vrMD",{"$f":"VLOOKUP($AA103,DATA!$B$3:$E$6,2,0)","v":"14:30:00"},{"$f":"VLOOKUP($AA103,DATA!$B$3:$E$6,3,0)","v":"22:30:00"},{"$f":"VLOOKUP($AA103,DATA!$B$3:$E$6,4,0)","v":3.125E-2},0.30208333333333337,0.27569444444444446,{"$f":"DATA!$C$9","v":0.89},{"$f":"DATA!$C$10","v":64},1,372.1875,407.81250000000006,2.6388888888888889E-2,35.625,8.7356321839080445E-2,0,"","",363.73333333333335,317,"",317,"",null,{"$f":"X100","v":5},null,{"$f":"TEXT(Y102,\"ddd\")","v":"vr"},"MD",{"$f":"IFERROR(HLOOKUP(Y102,[1]DATA!$A$1:$NB$5,4,0),\"\")","v":"D2"},38,null,24,341,37,-83.312499999999943,0.72716845878136205,0.90766927299950095]
["5vrND",{"$f":"VLOOKUP($AA104,DATA!$B$3:$E$6,2,0)","v":"22:30:00"},{"$f":"VLOOKUP($AA104,DATA!$B$3:$E$6,3,0)","v":"06:30:00"},{"$f":"VLOOKUP($AA104,DATA!$B$3:$E$6,4,0)","v":3.125E-2},0.30208333333333326,0.30208333333333326,{"$f":"DATA!$C$9","v":0.89},{"$f":"DATA!$C$10","v":64},1,407.81249999999989,407.81249999999989,0,"","",0,"","",0,"","","","",null,{"$f":"X100","v":5},null,{"$f":"TEXT(Y102,\"ddd\")","v":"vr"},"ND",{"$f":"IFERROR(HLOOKUP(Y102,[1]DATA!$A$1:$NB$5,5,0),\"\")","v":"-"},null,null,null,null,0,"","",""]
["5zaDD",{"$f":"VLOOKUP($AA105,DATA!$B$3:$E$6,2,0)","v":"06:30:00"},{"$f":"VLOOKUP($AA105,DATA!$B$3:$E$6,3,0)","v":"14:30:00"},{"$f":"VLOOKUP($AA105,DATA!$B$3:$E$6,4,0)","v":3.125E-2},0.30208333333333331,0.30208333333333331,{"$f":"DATA!$C$9","v":0.89},{"$f":"DATA!$C$10","v":64},1,407.8125,407.8125,0,"","",0,"","",0,"","","","",null,{"$f":"X100","v":5},{"$f":"Y102+1","v":"2018-02-03"},{"$f":"TEXT(Y105,\"ddd\")","v":"za"},"DD",{"$f":"IFERROR(HLOOKUP(Y105,[1]DATA!$A$1:$NB$5,3,0),\"\")","v":"-"},null,null,null,null,0,"","",""]
["5zaMD",{"$f":"VLOOKUP($AA106,DATA!$B$3:$E$6,2,0)","v":"14:30:00"},{"$f":"VLOOKUP($AA106,DATA!$B$3:$E$6,3,0)","v":"22:30:00"},{"$f":"VLOOKUP($AA106,DATA!$B$3:$E$6,4,0)","v":3.125E-2},0.30208333333333337,0.30208333333333337,{"$f":"DATA!$C$9","v":0.89},{"$f":"DATA!$C$10","v":64},1,407.81250000000006,407.81250000000006,0,"","",0,"","",0,"","","","",null,{"$f":"X100","v":5},null,{"$f":"TEXT(Y105,\"ddd\")","v":"za"},"MD",{"$f":"IFERROR(HLOOKUP(Y105,[1]DATA!$A$1:$NB$5,4,0),\"\")","v":"-"},null,null,null,null,0,"","",""]
["5zaND",{"$f":"VLOOKUP($AA107,DATA!$B$3:$E$6,2,0)","v":"22:30:00"},{"$f":"VLOOKUP($AA107,DATA!$B$3:$E$6,3,0)","v":"06:30:00"},{"$f":"VLOOKUP($AA107,DATA!$B$3:$E$6,4,0)","v":3.125E-2},0.30208333333333326,0.30208333333333326,{"$f":"DATA!$C$9","v":0.89},{"$f":"DATA!$C$10","v":64},1,407.81249999999989,407.81249999999989,0,"","",0,"","",0,"","","","",null,{"$f":"X100","v":5},null,{"$f":"TEXT(Y105,\"ddd\")","v":"za"},"ND",{"$f":"IFERROR(HLOOKUP(Y105,[1]DATA!$A$1:$NB$5,5,0),\"\")","v":"-"},null,null,null,null,0,"","",""]
["5zoDD",{"$f":"VLOOKUP($AA108,DATA!$B$3:$E$6,2,0)","v":"06:30:00"},{"$f":"VLOOKUP($AA108,DATA!$B$3:$E$6,3,0)","v":"14:30:00"},{"$f":"VLOOKUP($AA108,DATA!$B$3:$E$6,4,0)","v":3.125E-2},0.30208333333333331,0.30208333333333331,{"$f":"DATA!$C$9","v":0.89},{"$f":"DATA!$C$10","v":64},1,407.8125,407.8125,0,"","",0,"","",0,"","","","",null,{"$f":"X100","v":5},{"$f":"Y105+1","v":"2018-02-04"},{"$f":"TEXT(Y108,\"ddd\")","v":"zo"},"DD",{"$f":"IFERROR(HLOOKUP(Y108,[1]DATA!$A$1:$NB$5,3,0),\"\")","v":"-"},null,null,null,null,0,"","",""]
["5zoMD",{"$f":"VLOOKUP($AA109,DATA!$B$3:$E$6,2,0)","v":"14:30:00"},{"$f":"VLOOKUP($AA109,DATA!$B$3:$E$6,3,0)","v":"22:30:00"},{"$f":"VLOOKUP($AA109,DATA!$B$3:$E$6,4,0)","v":3.125E-2},0.30208333333333337,0.30208333333333337,{"$f":"DATA!$C$9","v":0.89},{"$f":"DATA!$C$10","v":64},1,407.81250000000006,407.81250000000006,0,"","",0,"","",0,"","","","",null,{"$f":"X100","v":5},null,{"$f":"TEXT(Y108,\"ddd\")","v":"zo"},"MD",{"$f":"IFERROR(HLOOKUP(Y108,[1]DATA!$A$1:$NB$5,4,0),\"\")","v":"-"},null,null,null,null,0,"","",""]
["5zoZND",{"$f":"VLOOKUP($AA110,DATA!$B$3:$E$6,2,0)","v":"00:00:00"},{"$f":"VLOOKUP($AA110,DATA!$B$3:$E$6,3,0)","v":"00:00:00"},{"$f":"VLOOKUP($AA110,DATA!$B$3:$E$6,4,0)","v":0},0,0,{"$f":"DATA!$C$9","v":0.89},{"$f":"DATA!$C$10","v":64},1,0,0,0,"","",0,"","",0,"","","","",null,{"$f":"X100","v":5},null,{"$f":"TEXT(Y108,\"ddd\")","v":"zo"},"ZND",{"$f":"IFERROR(HLOOKUP(Y108,[1]DATA!$A$1:$NB$5,5,0),\"\")","v":"D3"},null,null,null,null,0,"","",""]
["6maDD",{"$f":"VLOOKUP($AA111,DATA!$B$3:$E$6,2,0)","v":"06:30:00"},{"$f":"VLOOKUP($AA111,DATA!$B$3:$E$6,3,0)","v":"14:30:00"},{"$f":"VLOOKUP($AA111,DATA!$B$3:$E$6,4,0)","v":3.125E-2},0.30208333333333331,0.24166666666666664,{"$f":"DATA!$C$9","v":0.89},{"$f":"DATA!$C$10","v":64},1,326.24999999999994,407.8125,6.0416666666666667E-2,81.5625,0.2,{"$f":"TIME(INT($AD111/60),INT(MOD($AD111,60)/1),0)","v":0},"","",314.66666666666669,282,"",282,"",null,{"$f":"X121","v":6},{"$f":"Y108+1","v":"2018-02-05"},{"$f":"TEXT(Y111,\"ddd\")","v":"ma"},"DD",{"$f":"IFERROR(HLOOKUP(Y111,[1]DATA!$A$1:$NB$5,3,0),\"\")","v":"D2"},87,null,13,295,7,-72.375,0.6468817204301075,0.97823834196891191,4359.375,3203,0.73473835125448028,423.75,9.7204301075268812E-2,0,0,0.95852037147453917,0.94279336129270774,0.97424738165637026,"",732.625,0.16805734767025091,781.4666666666667,161]
[{"$f":"X112&Z112&AA112","v":"6maMD"},{"$f":"VLOOKUP($AA112,DATA!$B$3:$E$6,2,0)","v":"14:30:00"},{"$f":"VLOOKUP($AA112,DATA!$B$3:$E$6,3,0)","v":"22:30:00"},{"$f":"VLOOKUP($AA112,DATA!$B$3:$E$6,4,0)","v":3.125E-2},0.30208333333333337,0.25972222222222224,{"$f":"DATA!$C$9","v":0.89},{"$f":"DATA!$C$10","v":64},1,350.625,407.81250000000006,4.2361111111111106E-2,57.187499999999993,0.14022988505747122,{"$f":"TIME(INT(AD112/60),INT(MOD(AD112,60)/1),0)","v":0},{"$f":"IF($O112*86400/$H112=0,\"\",$O112*86400/$H112)","v":""},"",357.33333333333331,318,318,"","",null,{"$f":"X121","v":6},null,{"$f":"TEXT(Y111,\"ddd\")","v":"ma"},"MD",{"$f":"IFERROR(HLOOKUP(Y111,[1]DATA!$A$1:$NB$5,4,0),\"\")","v":"D1"},61,null,17,335,18,-60.749999999999943,0.72946236559139799,0.95204262877442269]
["6maND",{"$f":"VLOOKUP($AA113,DATA!$B$3:$E$6,2,0)","v":"22:30:00"},{"$f":"VLOOKUP($AA113,DATA!$B$3:$E$6,3,0)","v":"06:30:00"},{"$f":"VLOOKUP($AA113,DATA!$B$3:$E$6,4,0)","v":3.125E-2},0.30208333333333326,0.30208333333333326,{"$f":"DATA!$C$9","v":0.89},{"$f":"DATA!$C$10","v":64},1,407.81249999999989,407.81249999999989,0,"","",0,"","",0,"","","","",null,{"$f":"X121","v":6},null,{"$f":"TEXT(Y111,\"ddd\")","v":"ma"},"ND",{"$f":"IFERROR(HLOOKUP(Y111,[1]DATA!$A$1:$NB$5,5,0),\"\")","v":"D3"},null,null,null,null,0,"","",""]
["6diDD",{"$f":"VLOOKUP($AA114,DATA!$B$3:$E$6,2,0)","v":"06:30:00"},{"$f":"VLOOKUP($AA114,DATA!$B$3:$E$6,3,0)","v":"14:30:00"},{"$f":"VLOOKUP($AA114,DATA!$B$3:$E$6,4,0)","v":3.125E-2},0.30208333333333331,0.26180555555555551,{"$f":"DATA!$C$9","v":0.89},{"$f":"DATA!$C$10","v":64},1,353.43749999999994,407.8125,4.027777777777778E-2,54.375,0.13333333333333333,0,"","",343.46666666666664,315,"",315,"",null,{"$f":"X121","v":6},{"$f":"Y111+1","v":"2018-02-06"},{"$f":"TEXT(Y114,\"ddd\")","v":"di"},"DD",{"$f":"IFERROR(HLOOKUP(Y114,[1]DATA!$A$1:$NB$5,3,0),\"\")","v":"D2"},58,null,7,322,7,-66.5625,0.72258064516129028,0.98002663115845534]
["6diMD",{"$f":"VLOOKUP($AA115,DATA!$B$3:$E$6,2,0)","v":"14:30:00"},{"$f":"VLOOKUP($AA115,DATA!$B$3:$E$6,3,0)","v":"22:30:00"},{"$f":"VLOOKUP($AA115,DATA!$B$3:$E$6,4,0)","v":3.125E-2},0.30208333333333337,0.27013888888888893,{"$f":"DATA!$C$9","v":0.89},{"$f":"DATA!$C$10","v":64},1,364.68750000000006,407.81250000000006,3.1944444444444449E-2,43.125000000000007,0.10574712643678161,0,"","",293.33333333333331,267,267,"","",null,{"$f":"X121","v":6},null,{"$f":"TEXT(Y114,\"ddd\")","v":"di"},"MD",{"$f":"IFERROR(HLOOKUP(Y114,[1]DATA!$A$1:$NB$5,4,0),\"\")","v":"D1"},46,null,8,275,0,-125.81249999999994,0.61247311827956996,1]
["6diND",{"$f":"VLOOKUP($AA116,DATA!$B$3:$E$6,2,0)","v":"22:30:00"},{"$f":"VLOOKUP($AA116,DATA!$B$3:$E$6,3,0)","v":"06:30:00"},{"$f":"VLOOKUP($AA116,DATA!$B$3:$E$6,4,0)","v":3.125E-2},0.30208333333333326,0.30208333333333326,{"$f":"DATA!$C$9","v":0.89},{"$f":"DATA!$C$10","v":64},1,407.81249999999989,407.81249999999989,0,"","",0,"","",0,"","","","",null,{"$f":"X121","v":6},null,{"$f":"TEXT(Y114,\"ddd\")","v":"di"},"ND",{"$f":"IFERROR(HLOOKUP(Y114,[1]DATA!$A$1:$NB$5,5,0),\"\")","v":"D3"},null,null,null,null,0,"","",""]
["6woDD",{"$f":"VLOOKUP($AA117,DATA!$B$3:$E$6,2,0)","v":"06:30:00"},{"$f":"VLOOKUP($AA117,DATA!$B$3:$E$6,3,0)","v":"14:30:00"},{"$f":"VLOOKUP($AA117,DATA!$B$3:$E$6,4,0)","v":3.125E-2},0.30208333333333331,0.27499999999999997,{"$f":"DATA!$C$9","v":0.89},{"$f":"DATA!$C$10","v":64},1,371.24999999999994,407.8125,2.7083333333333334E-2,36.5625,8.9655172413793102E-2,0,"","",404.26666666666665,343,"",343,"",null,{"$f":"X121","v":6},{"$f":"Y114+1","v":"2018-02-07"},{"$f":"TEXT(Y117,\"ddd\")","v":"wo"},"DD",{"$f":"IFERROR(HLOOKUP(Y117,[1]DATA!$A$1:$NB$5,3,0),\"\")","v":"D2"},39,null,36,379,18,-56.375,0.78681003584229392,0.95737290811493525]
["6woMD",{"$f":"VLOOKUP($AA118,DATA!$B$3:$E$6,2,0)","v":"14:30:00"},{"$f":"VLOOKUP($AA118,DATA!$B$3:$E$6,3,0)","v":"22:30:00"},{"$f":"VLOOKUP($AA118,DATA!$B$3:$E$6,4,0)","v":3.125E-2},0.30208333333333337,0.26597222222222228,{"$f":"DATA!$C$9","v":0.89},{"$f":"DATA!$C$10","v":64},1,359.06250000000006,407.81250000000006,3.6111111111111115E-2,48.750000000000007,0.11954022988505747,0,"","",336,306,306,"","",null,{"$f":"X121","v":6},null,{"$f":"TEXT(Y117,\"ddd\")","v":"wo"},"MD",{"$f":"IFERROR(HLOOKUP(Y117,[1]DATA!$A$1:$NB$5,4,0),\"\")","v":"D1"},52,null,9,315,45,-81.1875,0.70193548387096782,0.88188976377952755]
["6woND",{"$f":"VLOOKUP($AA119,DATA!$B$3:$E$6,2,0)","v":"22:30:00"},{"$f":"VLOOKUP($AA119,DATA!$B$3:$E$6,3,0)","v":"06:30:00"},{"$f":"VLOOKUP($AA119,DATA!$B$3:$E$6,4,0)","v":3.125E-2},0.30208333333333326,0.30208333333333326,{"$f":"DATA!$C$9","v":0.89},{"$f":"DATA!$C$10","v":64},1,407.81249999999989,407.81249999999989,0,"","",0,"","",0,"","","","",null,{"$f":"X121","v":6},null,{"$f":"TEXT(Y117,\"ddd\")","v":"wo"},"ND",{"$f":"IFERROR(HLOOKUP(Y117,[1]DATA!$A$1:$NB$5,5,0),\"\")","v":"D3"},null,null,null,null,0,"","",""]
["6doDD",{"$f":"VLOOKUP($AA120,DATA!$B$3:$E$6,2,0)","v":"06:30:00"},{"$f":"VLOOKUP($AA120,DATA!$B$3:$E$6,3,0)","v":"14:30:00"},{"$f":"VLOOKUP($AA120,DATA!$B$3:$E$6,4,0)","v":3.125E-2},0.30208333333333331,0.28055555555555556,{"$f":"DATA!$C$9","v":0.89},{"$f":"DATA!$C$10","v":64},1,378.75,407.8125,2.1527777777777781E-2,29.062500000000004,7.1264367816091967E-2,0,"","",391.46666666666664,348,"",348,"",null,{"$f":"X121","v":6},{"$f":"Y117+1","v":"2018-02-08"},{"$f":"TEXT(Y120,\"ddd\")","v":"do"},"DD",{"$f":"IFERROR(HLOOKUP(Y120,[1]DATA!$A$1:$NB$5,3,0),\"\")","v":"D2"},31,null,19,367,7,-58.875000000000057,0.79827956989247317,0.98243265852434336]
["6doMD",{"$f":"VLOOKUP($AA121,DATA!$B$3:$E$6,2,0)","v":"14:30:00"},{"$f":"VLOOKUP($AA121,DATA!$B$3:$E$6,3,0)","v":"22:30:00"},{"$f":"VLOOKUP($AA121,DATA!$B$3:$E$6,4,0)","v":3.125E-2},0.30208333333333337,0.27569444444444446,{"$f":"DATA!$C$9","v":0.89},{"$f":"DATA!$C$10","v":64},1,372.1875,407.81250000000006,2.6388888888888889E-2,35.625,8.7356321839080445E-2,0,"","",352,315,315,"","",null,{"$f":"WEEKNUM($Y111)","v":6},null,{"$f":"TEXT(Y120,\"ddd\")","v":"do"},"MD",{"$f":"IFERROR(HLOOKUP(Y120,[1]DATA!$A$1:$NB$5,4,0),\"\")","v":"D1"},38,null,15,330,42,-85.312499999999943,0.72258064516129039,0.89340101522842641]
["6doND",{"$f":"VLOOKUP($AA122,DATA!$B$3:$E$6,2,0)","v":"22:30:00"},{"$f":"VLOOKUP($AA122,DATA!$B$3:$E$6,3,0)","v":"06:30:00"},{"$f":"VLOOKUP($AA122,DATA!$B$3:$E$6,4,0)","v":3.125E-2},0.30208333333333326,0.30208333333333326,{"$f":"DATA!$C$9","v":0.89},{"$f":"DATA!$C$10","v":64},1,407.81249999999989,407.81249999999989,0,"","",0,"","",0,"","","","",null,{"$f":"X121","v":6},null,{"$f":"TEXT(Y120,\"ddd\")","v":"do"},"ND",{"$f":"IFERROR(HLOOKUP(Y120,[1]DATA!$A$1:$NB$5,5,0),\"\")","v":"D3"},null,null,null,null,0,"","",""]
["6vrDD",{"$f":"VLOOKUP($AA123,DATA!$B$3:$E$6,2,0)","v":"06:30:00"},{"$f":"VLOOKUP($AA123,DATA!$B$3:$E$6,3,0)","v":"14:30:00"},{"$f":"VLOOKUP($AA123,DATA!$B$3:$E$6,4,0)","v":3.125E-2},0.30208333333333331,0.2986111111111111,{"$f":"DATA!$C$9","v":0.89},{"$f":"DATA!$C$10","v":64},1,403.125,407.8125,3.472222222222222E-3,4.6875,1.1494252873563218E-2,0,"","",435.2,374,"",374,"",null,{"$f":"X121","v":6},{"$f":"Y120+1","v":"2018-02-09"},{"$f":"TEXT(Y123,\"ddd\")","v":"vr"},"DD",{"$f":"IFERROR(HLOOKUP(Y123,[1]DATA!$A$1:$NB$5,3,0),\"\")","v":"D2"},5,null,34,408,12,-57.250000000000057,0.85792114695340504,0.97316636851520577]
["6vrMD",{"$f":"VLOOKUP($AA124,DATA!$B$3:$E$6,2,0)","v":"14:30:00"},{"$f":"VLOOKUP($AA124,DATA!$B$3:$E$6,3,0)","v":"22:30:00"},{"$f":"VLOOKUP($AA124,DATA!$B$3:$E$6,4,0)","v":3.125E-2},0.30208333333333337,0.27777777777777779,{"$f":"DATA!$C$9","v":0.89},{"$f":"DATA!$C$10","v":64},1,375,407.81250000000006,2.4305555555555556E-2,32.8125,8.0459770114942514E-2,0,"","",369.06666666666666,335,335,"","",null,{"$f":"X121","v":6},null,{"$f":"TEXT(Y123,\"ddd\")","v":"vr"},"MD",{"$f":"IFERROR(HLOOKUP(Y123,[1]DATA!$A$1:$NB$5,4,0),\"\")","v":"D1"},35,null,11,346,5,-68.124999999999943,0.76845878136200729,0.98663339868116195]
["6vrND",{"$f":"VLOOKUP($AA125,DATA!$B$3:$E$6,2,0)","v":"22:30:00"},{"$f":"VLOOKUP($AA125,DATA!$B$3:$E$6,3,0)","v":"06:30:00"},{"$f":"VLOOKUP($AA125,DATA!$B$3:$E$6,4,0)","v":3.125E-2},0.30208333333333326,0.30208333333333326,{"$f":"DATA!$C$9","v":0.89},{"$f":"DATA!$C$10","v":64},1,407.81249999999989,407.81249999999989,0,"","",0,"","",0,"","","","",null,{"$f":"X121","v":6},null,{"$f":"TEXT(Y123,\"ddd\")","v":"vr"},"ND",{"$f":"IFERROR(HLOOKUP(Y123,[1]DATA!$A$1:$NB$5,5,0),\"\")","v":"-"},null,null,null,null,0,"","",""]
["6zaDD",{"$f":"VLOOKUP($AA126,DATA!$B$3:$E$6,2,0)","v":"06:30:00"},{"$f":"VLOOKUP($AA126,DATA!$B$3:$E$6,3,0)","v":"14:30:00"},{"$f":"VLOOKUP($AA126,DATA!$B$3:$E$6,4,0)","v":3.125E-2},0.30208333333333331,0.30208333333333331,{"$f":"DATA!$C$9","v":0.89},{"$f":"DATA!$C$10","v":64},1,407.8125,407.8125,0,"","",0,"","",0,"","","","",null,{"$f":"X121","v":6},{"$f":"Y123+1","v":"2018-02-10"},{"$f":"TEXT(Y126,\"ddd\")","v":"za"},"DD",{"$f":"IFERROR(HLOOKUP(Y126,[1]DATA!$A$1:$NB$5,3,0),\"\")","v":"-"},null,null,null,null,0,"","",""]
["6zaMD",{"$f":"VLOOKUP($AA127,DATA!$B$3:$E$6,2,0)","v":"14:30:00"},{"$f":"VLOOKUP($AA127,DATA!$B$3:$E$6,3,0)","v":"22:30:00"},{"$f":"VLOOKUP($AA127,DATA!$B$3:$E$6,4,0)","v":3.125E-2},0.30208333333333337,0.30208333333333337,{"$f":"DATA!$C$9","v":0.89},{"$f":"DATA!$C$10","v":64},1,407.81250000000006,407.81250000000006,0,"","",0,"","",0,"","","","",null,{"$f":"X121","v":6},null,{"$f":"TEXT(Y126,\"ddd\")","v":"za"},"MD",{"$f":"IFERROR(HLOOKUP(Y126,[1]DATA!$A$1:$NB$5,4,0),\"\")","v":"-"},null,null,null,null,0,"","",""]
["6zaND",{"$f":"VLOOKUP($AA128,DATA!$B$3:$E$6,2,0)","v":"22:30:00"},{"$f":"VLOOKUP($AA128,DATA!$B$3:$E$6,3,0)","v":"06:30:00"},{"$f":"VLOOKUP($AA128,DATA!$B$3:$E$6,4,0)","v":3.125E-2},0.30208333333333326,0.30208333333333326,{"$f":"DATA!$C$9","v":0.89},{"$f":"DATA!$C$10","v":64},1,407.81249999999989,407.81249999999989,0,"","",0,"","",0,"","","","",null,{"$f":"X121","v":6},null,{"$f":"TEXT(Y126,\"ddd\")","v":"za"},"ND",{"$f":"IFERROR(HLOOKUP(Y126,[1]DATA!$A$1:$NB$5,5,0),\"\")","v":"-"},null,null,null,null,0,"","",""]
["6zoDD",{"$f":"VLOOKUP($AA129,DATA!$B$3:$E$6,2,0)","v":"06:30:00"},{"$f":"VLOOKUP($AA129,DATA!$B$3:$E$6,3,0)","v":"14:30:00"},{"$f":"VLOOKUP($AA129,DATA!$B$3:$E$6,4,0)","v":3.125E-2},0.30208333333333331,0.30208333333333331,{"$f":"DATA!$C$9","v":0.89},{"$f":"DATA!$C$10","v":64},1,407.8125,407.8125,0,"","",0,"","",0,"","","","",null,{"$f":"X121","v":6},{"$f":"Y126+1","v":"2018-02-11"},{"$f":"TEXT(Y129,\"ddd\")","v":"zo"},"DD",{"$f":"IFERROR(HLOOKUP(Y129,[1]DATA!$A$1:$NB$5,3,0),\"\")","v":"-"},null,null,null,null,0,"","",""]
["6zoMD",{"$f":"VLOOKUP($AA130,DATA!$B$3:$E$6,2,0)","v":"14:30:00"},{"$f":"VLOOKUP($AA130,DATA!$B$3:$E$6,3,0)","v":"22:30:00"},{"$f":"VLOOKUP($AA130,DATA!$B$3:$E$6,4,0)","v":3.125E-2},0.30208333333333337,0.30208333333333337,{"$f":"DATA!$C$9","v":0.89},{"$f":"DATA!$C$10","v":64},1,407.81250000000006,407.81250000000006,0,"","",0,"","",0,"","","","",null,{"$f":"X121","v":6},null,{"$f":"TEXT(Y129,\"ddd\")","v":"zo"},"MD",{"$f":"IFERROR(HLOOKUP(Y129,[1]DATA!$A$1:$NB$5,4,0),\"\")","v":"-"},null,null,null,null,0,"","",""]
["6zoZND",{"$f":"VLOOKUP($AA131,DATA!$B$3:$E$6,2,0)","v":"00:00:00"},{"$f":"VLOOKUP($AA131,DATA!$B$3:$E$6,3,0)","v":"00:00:00"},{"$f":"VLOOKUP($AA131,DATA!$B$3:$E$6,4,0)","v":0},0,0,{"$f":"DATA!$C$9","v":0.89},{"$f":"DATA!$C$10","v":64},1,0,0,0,"","",0,"","",0,"","","","",null,{"$f":"X121","v":6},null,{"$f":"TEXT(Y129,\"ddd\")","v":"zo"},"ZND",{"$f":"IFERROR(HLOOKUP(Y129,[1]DATA!$A$1:$NB$5,5,0),\"\")","v":"D2"},null,null,null,null,0,"","",""]
["7maDD",{"$f":"VLOOKUP($AA132,DATA!$B$3:$E$6,2,0)","v":"06:30:00"},{"$f":"VLOOKUP($AA132,DATA!$B$3:$E$6,3,0)","v":"14:30:00"},{"$f":"VLOOKUP($AA132,DATA!$B$3:$E$6,4,0)","v":3.125E-2},0.30208333333333331,0.30208333333333331,{"$f":"DATA!$C$9","v":0.89},{"$f":"DATA!$C$10","v":64},1,407.8125,407.8125,0,"","",{"$f":"TIME(INT($AD132/60),INT(MOD($AD132,60)/1),0)","v":0},"","",0,"","","","",null,{"$f":"X142","v":7},{"$f":"Y129+1","v":"2018-02-12"},{"$f":"TEXT(Y132,\"ddd\")","v":"ma"},"DD",{"$f":"IFERROR(HLOOKUP(Y132,[1]DATA!$A$1:$NB$5,3,0),\"\")","v":"D1"},null,null,null,null,0,"","","",3487.5,2476,0.70996415770609322,380.625,0.10913978494623656,32.8125,9.4086021505376347E-3,0.98180441047038114,0.9813031183668306,"",0.9823057025739319,598.0625,0.1714874551971326,637.93333333333328,51]
["7maMD",{"$f":"VLOOKUP($AA133,DATA!$B$3:$E$6,2,0)","v":"14:30:00"},{"$f":"VLOOKUP($AA133,DATA!$B$3:$E$6,3,0)","v":"22:30:00"},{"$f":"VLOOKUP($AA133,DATA!$B$3:$E$6,4,0)","v":3.125E-2},0.30208333333333337,0.30208333333333337,{"$f":"DATA!$C$9","v":0.89},{"$f":"DATA!$C$10","v":64},1,407.81250000000006,407.81250000000006,0,"","",{"$f":"TIME(INT(AD133/60),INT(MOD(AD133,60)/1),0)","v":0},"","",0,"","","","",null,{"$f":"X142","v":7},null,{"$f":"TEXT(Y132,\"ddd\")","v":"ma"},"MD",{"$f":"IFERROR(HLOOKUP(Y132,[1]DATA!$A$1:$NB$5,4,0),\"\")","v":"D3"},null,null,null,null,0,"","",""]
["7maND",{"$f":"VLOOKUP($AA134,DATA!$B$3:$E$6,2,0)","v":"22:30:00"},{"$f":"VLOOKUP($AA134,DATA!$B$3:$E$6,3,0)","v":"06:30:00"},{"$f":"VLOOKUP($AA134,DATA!$B$3:$E$6,4,0)","v":3.125E-2},0.30208333333333326,0.30208333333333326,{"$f":"DATA!$C$9","v":0.89},{"$f":"DATA!$C$10","v":64},1,407.81249999999989,407.81249999999989,0,"","",0,"","",0,"","","","",null,{"$f":"X142","v":7},null,{"$f":"TEXT(Y132,\"ddd\")","v":"ma"},"ND",{"$f":"IFERROR(HLOOKUP(Y132,[1]DATA!$A$1:$NB$5,5,0),\"\")","v":"D2"},null,null,null,null,0,"","",""]
["7diDD",{"$f":"VLOOKUP($AA135,DATA!$B$3:$E$6,2,0)","v":"06:30:00"},{"$f":"VLOOKUP($AA135,DATA!$B$3:$E$6,3,0)","v":"14:30:00"},{"$f":"VLOOKUP($AA135,DATA!$B$3:$E$6,4,0)","v":3.125E-2},0.30208333333333331,0.2673611111111111,{"$f":"DATA!$C$9","v":0.89},{"$f":"DATA!$C$10","v":64},1,360.9375,407.8125,{"$f":"TIME(INT($AC135/60),INT(MOD($AC135,60)/1),0)","v":3.4722222222222224E-2},{"$f":"IF($L135*86400/$H135=0,\"\",$L135*86400/$H135)","v":46.875},{"$f":"IFERROR($M135/$K135,\"\")","v":0.11494252873563218},0,"",{"$f":"IFERROR($P135/$K135,\"\")","v":""},366.93333333333334,330,{"$f":"IF(IF($AB135=\"D1\",$S135,\"\")=0,\"\",IF($AB135=\"D1\",$S135,\"\"))","v":330},{"$f":"IF(IF($AB135=\"D2\",$S135,\"\")=0,\"\",IF($AB135=\"D2\",$S135,\"\"))","v":""},{"$f":"IF(IF($AB135=\"D3\",$S135,\"\")=0,\"\",IF($AB135=\"D3\",$S135,\"\"))","v":""},null,{"$f":"X142","v":7},{"$f":"Y132+1","v":"2018-02-13"},{"$f":"TEXT(Y135,\"ddd\")","v":"di"},"DD",{"$f":"IFERROR(HLOOKUP(Y135,[1]DATA!$A$1:$NB$5,3,0),\"\")","v":"D1"},50,null,14,344,9,-59.062500000000057,0.75698924731182793,0.97605958503280721]
["7diMD",{"$f":"VLOOKUP($AA136,DATA!$B$3:$E$6,2,0)","v":"14:30:00"},{"$f":"VLOOKUP($AA136,DATA!$B$3:$E$6,3,0)","v":"22:30:00"},{"$f":"VLOOKUP($AA136,DATA!$B$3:$E$6,4,0)","v":3.125E-2},0.30208333333333337,0.28125000000000006,{"$f":"DATA!$C$9","v":0.89},{"$f":"DATA!$C$10","v":64},1,379.68750000000006,407.81250000000006,2.0833333333333332E-2,28.125,6.8965517241379296E-2,0,"","",326.39999999999998,296,"","",296,null,{"$f":"X142","v":7},null,{"$f":"TEXT(Y135,\"ddd\")","v":"di"},"MD",{"$f":"IFERROR(HLOOKUP(Y135,[1]DATA!$A$1:$NB$5,4,0),\"\")","v":"D3"},30,null,10,306,3,-111.8125,0.67899641577060943,0.99089253187613846]
["7diND",{"$f":"VLOOKUP($AA137,DATA!$B$3:$E$6,2,0)","v":"22:30:00"},{"$f":"VLOOKUP($AA137,DATA!$B$3:$E$6,3,0)","v":"06:30:00"},{"$f":"VLOOKUP($AA137,DATA!$B$3:$E$6,4,0)","v":3.125E-2},0.30208333333333326,0.30208333333333326,{"$f":"DATA!$C$9","v":0.89},{"$f":"DATA!$C$10","v":64},1,407.81249999999989,407.81249999999989,0,"","",0,"","",0,"","","","",null,{"$f":"X142","v":7},null,{"$f":"TEXT(Y135,\"ddd\")","v":"di"},"ND",{"$f":"IFERROR(HLOOKUP(Y135,[1]DATA!$A$1:$NB$5,5,0),\"\")","v":"D2"},null,null,null,null,0,"","",""]
["7woDD",{"$f":"VLOOKUP($AA138,DATA!$B$3:$E$6,2,0)","v":"06:30:00"},{"$f":"VLOOKUP($AA138,DATA!$B$3:$E$6,3,0)","v":"14:30:00"},{"$f":"VLOOKUP($AA138,DATA!$B$3:$E$6,4,0)","v":3.125E-2},0.30208333333333331,0.29166666666666663,{"$f":"DATA!$C$9","v":0.89},{"$f":"DATA!$C$10","v":64},1,393.74999999999994,407.8125,1.0416666666666666E-2,14.0625,3.4482758620689655E-2,0,"","",365.86666666666667,334,334,"","",null,{"$f":"X142","v":7},{"$f":"Y135+1","v":"2018-02-14"},{"$f":"TEXT(Y138,\"ddd\")","v":"wo"},"DD",{"$f":"IFERROR(HLOOKUP(Y138,[1]DATA!$A$1:$NB$5,3,0),\"\")","v":"D1"},15,null,9,343,3,-87.875,0.76616487455197135,0.99186697993855055]
["7woMD",{"$f":"VLOOKUP($AA139,DATA!$B$3:$E$6,2,0)","v":"14:30:00"},{"$f":"VLOOKUP($AA139,DATA!$B$3:$E$6,3,0)","v":"22:30:00"},{"$f":"VLOOKUP($AA139,DATA!$B$3:$E$6,4,0)","v":3.125E-2},0.30208333333333337,0.23402777777777783,{"$f":"DATA!$C$9","v":0.89},{"$f":"DATA!$C$10","v":64},1,315.93750000000006,407.81250000000006,6.805555555555555E-2,91.874999999999986,0.22528735632183902,0,"","",343.46666666666664,310,"","",310,null,{"$f":"X142","v":7},null,{"$f":"TEXT(Y138,\"ddd\")","v":"wo"},"MD",{"$f":"IFERROR(HLOOKUP(Y138,[1]DATA!$A$1:$NB$5,4,0),\"\")","v":"D3"},98,null,12,322,6,-34.0625,0.71111111111111125,0.98283098054177798]
["7woND",{"$f":"VLOOKUP($AA140,DATA!$B$3:$E$6,2,0)","v":"22:30:00"},{"$f":"VLOOKUP($AA140,DATA!$B$3:$E$6,3,0)","v":"06:30:00"},{"$f":"VLOOKUP($AA140,DATA!$B$3:$E$6,4,0)","v":3.125E-2},0.30208333333333326,0.30208333333333326,{"$f":"DATA!$C$9","v":0.89},{"$f":"DATA!$C$10","v":64},1,407.81249999999989,407.81249999999989,0,"","",0,"","",0,"","","","",null,{"$f":"X142","v":7},null,{"$f":"TEXT(Y138,\"ddd\")","v":"wo"},"ND",{"$f":"IFERROR(HLOOKUP(Y138,[1]DATA!$A$1:$NB$5,5,0),\"\")","v":"D2"},null,null,null,null,0,"","",""]
["7doDD",{"$f":"VLOOKUP($AA141,DATA!$B$3:$E$6,2,0)","v":"06:30:00"},{"$f":"VLOOKUP($AA141,DATA!$B$3:$E$6,3,0)","v":"14:30:00"},{"$f":"VLOOKUP($AA141,DATA!$B$3:$E$6,4,0)","v":3.125E-2},0.30208333333333331,0.24861111111111109,{"$f":"DATA!$C$9","v":0.89},{"$f":"DATA!$C$10","v":64},1,335.62499999999994,407.8125,5.347222222222222E-2,72.1875,0.17701149425287357,0,"","",347.73333333333335,315,315,"","",null,{"$f":"X142","v":7},{"$f":"Y138+1","v":"2018-02-15"},{"$f":"TEXT(Y141,\"ddd\")","v":"do"},"DD",{"$f":"IFERROR(HLOOKUP(Y141,[1]DATA!$A$1:$NB$5,3,0),\"\")","v":"D1"},77,null,11,326,7,-48.750000000000057,0.72258064516129028,0.98026686713023869]
["7doMD",{"$f":"VLOOKUP($AA142,DATA!$B$3:$E$6,2,0)","v":"14:30:00"},{"$f":"VLOOKUP($AA142,DATA!$B$3:$E$6,3,0)","v":"22:30:00"},{"$f":"VLOOKUP($AA142,DATA!$B$3:$E$6,4,0)","v":3.125E-2},0.30208333333333337,0.26319444444444451,{"$f":"DATA!$C$9","v":0.89},{"$f":"DATA!$C$10","v":64},1,355.31250000000011,407.81250000000006,3.888888888888889E-2,52.5,0.12873563218390802,0,"","",364.8,322,"","",322,null,{"$f":"WEEKNUM($Y132)","v":7},null,{"$f":"TEXT(Y141,\"ddd\")","v":"do"},"MD",{"$f":"IFERROR(HLOOKUP(Y141,[1]DATA!$A$1:$NB$5,4,0),\"\")","v":"D3"},56,null,20,342,8,-61.4375,0.7386379928315413,0.97854077253218885]
["7doND",{"$f":"VLOOKUP($AA143,DATA!$B$3:$E$6,2,0)","v":"22:30:00"},{"$f":"VLOOKUP($AA143,DATA!$B$3:$E$6,3,0)","v":"06:30:00"},{"$f":"VLOOKUP($AA143,DATA!$B$3:$E$6,4,0)","v":3.125E-2},0.30208333333333326,0.30208333333333326,{"$f":"DATA!$C$9","v":0.89},{"$f":"DATA!$C$10","v":64},1,407.81249999999989,407.81249999999989,0,"","",0,"","",0,"","","","",null,{"$f":"X142","v":7},null,{"$f":"TEXT(Y141,\"ddd\")","v":"do"},"ND",{"$f":"IFERROR(HLOOKUP(Y141,[1]DATA!$A$1:$NB$5,5,0),\"\")","v":"D2"},null,null,null,null,0,"","",""]
["7vrDD",{"$f":"VLOOKUP($AA144,DATA!$B$3:$E$6,2,0)","v":"06:30:00"},{"$f":"VLOOKUP($AA144,DATA!$B$3:$E$6,3,0)","v":"14:30:00"},{"$f":"VLOOKUP($AA144,DATA!$B$3:$E$6,4,0)","v":3.125E-2},0.30208333333333331,0.23472222222222217,{"$f":"DATA!$C$9","v":0.89},{"$f":"DATA!$C$10","v":64},1,316.87499999999994,407.8125,4.3055555555555562E-2,58.125000000000007,0.14252873563218393,2.4305555555555556E-2,32.8125,8.0459770114942528E-2,297.60000000000002,265,265,"","",null,{"$f":"X142","v":7},{"$f":"Y141+1","v":"2018-02-16"},{"$f":"TEXT(Y144,\"ddd\")","v":"vr"},"DD",{"$f":"IFERROR(HLOOKUP(Y144,[1]DATA!$A$1:$NB$5,3,0),\"\")","v":"D1"},62,35,14,279,7,-80,0.60788530465949819,0.97701904136572559]
["7vrMD",{"$f":"VLOOKUP($AA145,DATA!$B$3:$E$6,2,0)","v":"14:30:00"},{"$f":"VLOOKUP($AA145,DATA!$B$3:$E$6,3,0)","v":"22:30:00"},{"$f":"VLOOKUP($AA145,DATA!$B$3:$E$6,4,0)","v":3.125E-2},0.30208333333333337,0.28958333333333336,{"$f":"DATA!$C$9","v":0.89},{"$f":"DATA!$C$10","v":64},1,390.93750000000006,407.81250000000006,1.2499999999999999E-2,16.875,4.1379310344827579E-2,0,"","",339.2,304,"","",304,null,{"$f":"X142","v":7},null,{"$f":"TEXT(Y144,\"ddd\")","v":"vr"},"MD",{"$f":"IFERROR(HLOOKUP(Y144,[1]DATA!$A$1:$NB$5,4,0),\"\")","v":"D3"},18,null,14,318,8,-115.06249999999994,0.69734767025089617,0.97695852534562211]
["7vrND",{"$f":"VLOOKUP($AA146,DATA!$B$3:$E$6,2,0)","v":"22:30:00"},{"$f":"VLOOKUP($AA146,DATA!$B$3:$E$6,3,0)","v":"06:30:00"},{"$f":"VLOOKUP($AA146,DATA!$B$3:$E$6,4,0)","v":3.125E-2},0.30208333333333326,0.30208333333333326,{"$f":"DATA!$C$9","v":0.89},{"$f":"DATA!$C$10","v":64},1,407.81249999999989,407.81249999999989,0,"","",0,"","",0,"","","","",null,{"$f":"X142","v":7},null,{"$f":"TEXT(Y144,\"ddd\")","v":"vr"},"ND",{"$f":"IFERROR(HLOOKUP(Y144,[1]DATA!$A$1:$NB$5,5,0),\"\")","v":"-"},null,null,null,null,0,"","",""]
["7zaDD",{"$f":"VLOOKUP($AA147,DATA!$B$3:$E$6,2,0)","v":"06:30:00"},{"$f":"VLOOKUP($AA147,DATA!$B$3:$E$6,3,0)","v":"14:30:00"},{"$f":"VLOOKUP($AA147,DATA!$B$3:$E$6,4,0)","v":3.125E-2},0.30208333333333331,0.30208333333333331,{"$f":"DATA!$C$9","v":0.89},{"$f":"DATA!$C$10","v":64},1,407.8125,407.8125,0,"","",0,"","",0,"","","","",null,{"$f":"X142","v":7},{"$f":"Y144+1","v":"2018-02-17"},{"$f":"TEXT(Y147,\"ddd\")","v":"za"},"DD",{"$f":"IFERROR(HLOOKUP(Y147,[1]DATA!$A$1:$NB$5,3,0),\"\")","v":"-"},null,null,null,null,0,"","",""]
["7zaMD",{"$f":"VLOOKUP($AA148,DATA!$B$3:$E$6,2,0)","v":"14:30:00"},{"$f":"VLOOKUP($AA148,DATA!$B$3:$E$6,3,0)","v":"22:30:00"},{"$f":"VLOOKUP($AA148,DATA!$B$3:$E$6,4,0)","v":3.125E-2},0.30208333333333337,0.30208333333333337,{"$f":"DATA!$C$9","v":0.89},{"$f":"DATA!$C$10","v":64},1,407.81250000000006,407.81250000000006,0,"","",0,"","",0,"","","","",null,{"$f":"X142","v":7},null,{"$f":"TEXT(Y147,\"ddd\")","v":"za"},"MD",{"$f":"IFERROR(HLOOKUP(Y147,[1]DATA!$A$1:$NB$5,4,0),\"\")","v":"-"},null,null,null,null,0,"","",""]
["7zaND",{"$f":"VLOOKUP($AA149,DATA!$B$3:$E$6,2,0)","v":"22:30:00"},{"$f":"VLOOKUP($AA149,DATA!$B$3:$E$6,3,0)","v":"06:30:00"},{"$f":"VLOOKUP($AA149,DATA!$B$3:$E$6,4,0)","v":3.125E-2},0.30208333333333326,0.30208333333333326,{"$f":"DATA!$C$9","v":0.89},{"$f":"DATA!$C$10","v":64},1,407.81249999999989,407.81249999999989,0,"","",0,"","",0,"","","","",null,{"$f":"X142","v":7},null,{"$f":"TEXT(Y147,\"ddd\")","v":"za"},"ND",{"$f":"IFERROR(HLOOKUP(Y147,[1]DATA!$A$1:$NB$5,5,0),\"\")","v":"-"},null,null,null,null,0,"","",""]
["7zoDD",{"$f":"VLOOKUP($AA150,DATA!$B$3:$E$6,2,0)","v":"06:30:00"},{"$f":"VLOOKUP($AA150,DATA!$B$3:$E$6,3,0)","v":"14:30:00"},{"$f":"VLOOKUP($AA150,DATA!$B$3:$E$6,4,0)","v":3.125E-2},0.30208333333333331,0.30208333333333331,{"$f":"DATA!$C$9","v":0.89},{"$f":"DATA!$C$10","v":64},1,407.8125,407.8125,0,"","",0,"","",0,"","","","",null,{"$f":"X142","v":7},{"$f":"Y147+1","v":"2018-02-18"},{"$f":"TEXT(Y150,\"ddd\")","v":"zo"},"DD",{"$f":"IFERROR(HLOOKUP(Y150,[1]DATA!$A$1:$NB$5,3,0),\"\")","v":"-"},null,null,null,null,0,"","",""]
["7zoMD",{"$f":"VLOOKUP($AA151,DATA!$B$3:$E$6,2,0)","v":"14:30:00"},{"$f":"VLOOKUP($AA151,DATA!$B$3:$E$6,3,0)","v":"22:30:00"},{"$f":"VLOOKUP($AA151,DATA!$B$3:$E$6,4,0)","v":3.125E-2},0.30208333333333337,0.30208333333333337,{"$f":"DATA!$C$9","v":0.89},{"$f":"DATA!$C$10","v":64},1,407.81250000000006,407.81250000000006,0,"","",0,"","",0,"","","","",null,{"$f":"X142","v":7},null,{"$f":"TEXT(Y150,\"ddd\")","v":"zo"},"MD",{"$f":"IFERROR(HLOOKUP(Y150,[1]DATA!$A$1:$NB$5,4,0),\"\")","v":"-"},null,null,null,null,0,"","",""]
["7zoZND",{"$f":"VLOOKUP($AA152,DATA!$B$3:$E$6,2,0)","v":"00:00:00"},{"$f":"VLOOKUP($AA152,DATA!$B$3:$E$6,3,0)","v":"00:00:00"},{"$f":"VLOOKUP($AA152,DATA!$B$3:$E$6,4,0)","v":0},0,0,{"$f":"DATA!$C$9","v":0.89},{"$f":"DATA!$C$10","v":64},1,0,0,0,"","",0,"","",0,"","","","",null,{"$f":"X142","v":7},null,{"$f":"TEXT(Y150,\"ddd\")","v":"zo"},"ZND",{"$f":"IFERROR(HLOOKUP(Y150,[1]DATA!$A$1:$NB$5,5,0),\"\")","v":"D1"},null,null,null,null,0,"","",""]
["8maDD",{"$f":"VLOOKUP($AA153,DATA!$B$3:$E$6,2,0)","v":"06:30:00"},{"$f":"VLOOKUP($AA153,DATA!$B$3:$E$6,3,0)","v":"14:30:00"},{"$f":"VLOOKUP($AA153,DATA!$B$3:$E$6,4,0)","v":3.125E-2},0.30208333333333331,0.28402777777777777,{"$f":"DATA!$C$9","v":0.89},{"$f":"DATA!$C$10","v":64},1,383.4375,407.8125,1.8055555555555557E-2,24.375000000000004,5.9770114942528742E-2,{"$f":"TIME(INT($AD153/60),INT(MOD($AD153,60)/1),0)","v":0},"","",366.93333333333334,331,"","",331,null,{"$f":"X163","v":8},{"$f":"Y150+1","v":"2018-02-19"},{"$f":"TEXT(Y153,\"ddd\")","v":"ma"},"DD",{"$f":"IFERROR(HLOOKUP(Y153,[1]DATA!$A$1:$NB$5,3,0),\"\")","v":"D3"},26,null,13,344,25,-80.562500000000057,0.75928315412186376,0.93621364177581223,3923.4375,2776,0.70754281162883315,345.9375,8.8172043010752682E-2,0,0,0.94264780604728493,"",0.95173314308325752,0.93129113475231884,801.5,0.20428514536041417,854.93333333333328,171]
["8maMD",{"$f":"VLOOKUP($AA154,DATA!$B$3:$E$6,2,0)","v":"14:30:00"},{"$f":"VLOOKUP($AA154,DATA!$B$3:$E$6,3,0)","v":"22:30:00"},{"$f":"VLOOKUP($AA154,DATA!$B$3:$E$6,4,0)","v":3.125E-2},0.30208333333333337,0.29375000000000001,{"$f":"DATA!$C$9","v":0.89},{"$f":"DATA!$C$10","v":64},1,396.5625,407.81250000000006,8.3333333333333332E-3,11.25,2.758620689655172E-2,{"$f":"TIME(INT(AD154/60),INT(MOD(AD154,60)/1),0)","v":0},"","",402.13333333333333,364,"",364,"",null,{"$f":"X163","v":8},null,{"$f":"TEXT(Y153,\"ddd\")","v":"ma"},"MD",{"$f":"IFERROR(HLOOKUP(Y153,[1]DATA!$A$1:$NB$5,4,0),\"\")","v":"D2"},12,null,13,377,9,-60.687499999999943,0.83498207885304665,0.97810929138965463]
["8maND",{"$f":"VLOOKUP($AA155,DATA!$B$3:$E$6,2,0)","v":"22:30:00"},{"$f":"VLOOKUP($AA155,DATA!$B$3:$E$6,3,0)","v":"06:30:00"},{"$f":"VLOOKUP($AA155,DATA!$B$3:$E$6,4,0)","v":3.125E-2},0.30208333333333326,0.30208333333333326,{"$f":"DATA!$C$9","v":0.89},{"$f":"DATA!$C$10","v":64},1,407.81249999999989,407.81249999999989,0,"","",0,"","",0,"","","","",null,{"$f":"X163","v":8},null,{"$f":"TEXT(Y153,\"ddd\")","v":"ma"},"ND",{"$f":"IFERROR(HLOOKUP(Y153,[1]DATA!$A$1:$NB$5,5,0),\"\")","v":"D1"},null,null,null,null,0,"","",""]
["8diDD",{"$f":"VLOOKUP($AA156,DATA!$B$3:$E$6,2,0)","v":"06:30:00"},{"$f":"VLOOKUP($AA156,DATA!$B$3:$E$6,3,0)","v":"14:30:00"},{"$f":"VLOOKUP($AA156,DATA!$B$3:$E$6,4,0)","v":3.125E-2},{"$f":"(C156-B156+(B156>C156))-D156","v":0.30208333333333331},{"$f":"E156-O156-L156","v":0.21736111111111112},{"$f":"DATA!$C$9","v":0.89},{"$f":"DATA!$C$10","v":64},1,{"$f":"F156*86400/H156*I156","v":293.4375},{"$f":"E156*86400/H156","v":407.8125},8.4722222222222213E-2,114.37499999999999,0.2804597701149425,0,"","",{"$f":"AF156*AG$2","v":262.39999999999998},{"$f":"IF(AF156-AE156=0,\"\",AF156-AE156)","v":239},"","",239,null,{"$f":"X163","v":8},{"$f":"Y153+1","v":"2018-02-20"},{"$f":"TEXT(Y156,\"ddd\")","v":"di"},"DD",{"$f":"IFERROR(HLOOKUP(Y156,[1]DATA!$A$1:$NB$5,3,0),\"\")","v":"D3"},122,null,7,246,6,-82.562500000000057,0.54824372759856632,0.97764530551415796]
["8diMD",{"$f":"VLOOKUP($AA157,DATA!$B$3:$E$6,2,0)","v":"14:30:00"},{"$f":"VLOOKUP($AA157,DATA!$B$3:$E$6,3,0)","v":"22:30:00"},{"$f":"VLOOKUP($AA157,DATA!$B$3:$E$6,4,0)","v":3.125E-2},0.30208333333333337,0.28333333333333338,{"$f":"DATA!$C$9","v":0.89},{"$f":"DATA!$C$10","v":64},1,382.50000000000006,407.81250000000006,1.8749999999999999E-2,25.3125,6.2068965517241372E-2,0,"","",409.6,352,"",352,"",null,{"$f":"X163","v":8},null,{"$f":"TEXT(Y156,\"ddd\")","v":"di"},"MD",{"$f":"IFERROR(HLOOKUP(Y156,[1]DATA!$A$1:$NB$5,4,0),\"\")","v":"D2"},27,null,32,384,17,-58.624999999999943,0.8074551971326166,0.96015002344116274]
["8diND",{"$f":"VLOOKUP($AA158,DATA!$B$3:$E$6,2,0)","v":"22:30:00"},{"$f":"VLOOKUP($AA158,DATA!$B$3:$E$6,3,0)","v":"06:30:00"},{"$f":"VLOOKUP($AA158,DATA!$B$3:$E$6,4,0)","v":3.125E-2},0.30208333333333326,0.30208333333333326,{"$f":"DATA!$C$9","v":0.89},{"$f":"DATA!$C$10","v":64},1,407.81249999999989,407.81249999999989,0,"","",0,"","",0,"","","","",null,{"$f":"X163","v":8},null,{"$f":"TEXT(Y156,\"ddd\")","v":"di"},"ND",{"$f":"IFERROR(HLOOKUP(Y156,[1]DATA!$A$1:$NB$5,5,0),\"\")","v":"D1"},null,null,null,null,0,"","",""]
["8woDD",{"$f":"VLOOKUP($AA159,DATA!$B$3:$E$6,2,0)","v":"06:30:00"},{"$f":"VLOOKUP($AA159,DATA!$B$3:$E$6,3,0)","v":"14:30:00"},{"$f":"VLOOKUP($AA159,DATA!$B$3:$E$6,4,0)","v":3.125E-2},0.30208333333333331,0.25763888888888886,{"$f":"DATA!$C$9","v":0.89},{"$f":"DATA!$C$10","v":64},1,347.81249999999994,407.8125,4.4444444444444446E-2,60,0.14712643678160919,0,"","",332.8,296,"","",296,null,{"$f":"X163","v":8},{"$f":"Y156+1","v":"2018-02-21"},{"$f":"TEXT(Y159,\"ddd\")","v":"wo"},"DD",{"$f":"IFERROR(HLOOKUP(Y159,[1]DATA!$A$1:$NB$5,3,0),\"\")","v":"D3"},64,null,16,312,64,-79.9375,0.67899641577060932,0.83870967741935487]
["8woMD",{"$f":"VLOOKUP($AA160,DATA!$B$3:$E$6,2,0)","v":"14:30:00"},{"$f":"VLOOKUP($AA160,DATA!$B$3:$E$6,3,0)","v":"22:30:00"},{"$f":"VLOOKUP($AA160,DATA!$B$3:$E$6,4,0)","v":3.125E-2},0.30208333333333337,0.26666666666666672,{"$f":"DATA!$C$9","v":0.89},{"$f":"DATA!$C$10","v":64},1,360.00000000000006,407.81250000000006,3.5416666666666666E-2,47.8125,0.11724137931034481,0,"","",401.06666666666666,360,"",360,"",null,{"$f":"X163","v":8},null,{"$f":"TEXT(Y159,\"ddd\")","v":"wo"},"MD",{"$f":"IFERROR(HLOOKUP(Y159,[1]DATA!$A$1:$NB$5,4,0),\"\")","v":"D2"},51,null,16,376,4,-28.124999999999943,0.82580645161290334,0.99012508229098095]
["8woND",{"$f":"VLOOKUP($AA161,DATA!$B$3:$E$6,2,0)","v":"22:30:00"},{"$f":"VLOOKUP($AA161,DATA!$B$3:$E$6,3,0)","v":"06:30:00"},{"$f":"VLOOKUP($AA161,DATA!$B$3:$E$6,4,0)","v":3.125E-2},0.30208333333333326,0.30208333333333326,{"$f":"DATA!$C$9","v":0.89},{"$f":"DATA!$C$10","v":64},1,407.81249999999989,407.81249999999989,0,"","",0,"","",0,"","","","",null,{"$f":"X163","v":8},null,{"$f":"TEXT(Y159,\"ddd\")","v":"wo"},"ND",{"$f":"IFERROR(HLOOKUP(Y159,[1]DATA!$A$1:$NB$5,5,0),\"\")","v":"D1"},null,null,null,null,0,"","",""]
["8doDD",{"$f":"VLOOKUP($AA162,DATA!$B$3:$E$6,2,0)","v":"06:30:00"},{"$f":"VLOOKUP($AA162,DATA!$B$3:$E$6,3,0)","v":"14:30:00"},{"$f":"VLOOKUP($AA162,DATA!$B$3:$E$6,4,0)","v":3.125E-2},0.30208333333333331,0.28055555555555556,{"$f":"DATA!$C$9","v":0.89},{"$f":"DATA!$C$10","v":64},1,378.75,407.8125,2.1527777777777781E-2,29.062500000000004,7.1264367816091967E-2,0,"","",390.4,357,"","",357,null,{"$f":"X163","v":8},{"$f":"Y159+1","v":"2018-02-22"},{"$f":"TEXT(Y162,\"ddd\")","v":"do"},"DD",{"$f":"IFERROR(HLOOKUP(Y162,[1]DATA!$A$1:$NB$5,3,0),\"\")","v":"D3"},31,null,9,366,11,-49.875000000000057,0.81892473118279574,0.97259591429995018]
["8doMD",{"$f":"VLOOKUP($AA163,DATA!$B$3:$E$6,2,0)","v":"14:30:00"},{"$f":"VLOOKUP($AA163,DATA!$B$3:$E$6,3,0)","v":"22:30:00"},{"$f":"VLOOKUP($AA163,DATA!$B$3:$E$6,4,0)","v":3.125E-2},0.30208333333333337,0.29791666666666672,{"$f":"DATA!$C$9","v":0.89},{"$f":"DATA!$C$10","v":64},1,402.18750000000006,407.81250000000006,4.1666666666666666E-3,5.625,1.379310344827586E-2,0,"","",451.2,386,"",386,"",null,{"$f":"WEEKNUM($Y153)","v":8},null,{"$f":"TEXT(Y162,\"ddd\")","v":"do"},"MD",{"$f":"IFERROR(HLOOKUP(Y162,[1]DATA!$A$1:$NB$5,4,0),\"\")","v":"D2"},6,null,37,423,19,-44.312499999999943,0.88544802867383521,0.95959166312207567]
["8doND",{"$f":"VLOOKUP($AA164,DATA!$B$3:$E$6,2,0)","v":"22:30:00"},{"$f":"VLOOKUP($AA164,DATA!$B$3:$E$6,3,0)","v":"06:30:00"},{"$f":"VLOOKUP($AA164,DATA!$B$3:$E$6,4,0)","v":3.125E-2},0.30208333333333326,0.30208333333333326,{"$f":"DATA!$C$9","v":0.89},{"$f":"DATA!$C$10","v":64},1,407.81249999999989,407.81249999999989,0,"","",0,"","",0,"","","","",null,{"$f":"X163","v":8},null,{"$f":"TEXT(Y162,\"ddd\")","v":"do"},"ND",{"$f":"IFERROR(HLOOKUP(Y162,[1]DATA!$A$1:$NB$5,5,0),\"\")","v":"D1"},null,null,null,null,0,"","",""]
["8vrDD",{"$f":"VLOOKUP($AA165,DATA!$B$3:$E$6,2,0)","v":"06:30:00"},{"$f":"VLOOKUP($AA165,DATA!$B$3:$E$6,3,0)","v":"14:30:00"},{"$f":"VLOOKUP($AA165,DATA!$B$3:$E$6,4,0)","v":3.125E-2},0.30208333333333331,0.30208333333333331,{"$f":"DATA!$C$9","v":0.89},{"$f":"DATA!$C$10","v":64},1,407.8125,407.8125,0,"","",0,"","",0,"","","","",null,{"$f":"X163","v":8},{"$f":"Y162+1","v":"2018-02-23"},{"$f":"TEXT(Y165,\"ddd\")","v":"vr"},"DD",{"$f":"IFERROR(HLOOKUP(Y165,[1]DATA!$A$1:$NB$5,3,0),\"\")","v":"D3"},0,null,0,0,0,"","",""]
["8vrMD",{"$f":"VLOOKUP($AA166,DATA!$B$3:$E$6,2,0)","v":"14:30:00"},{"$f":"VLOOKUP($AA166,DATA!$B$3:$E$6,3,0)","v":"22:30:00"},{"$f":"VLOOKUP($AA166,DATA!$B$3:$E$6,4,0)","v":3.125E-2},0.30208333333333337,0.28125000000000006,{"$f":"DATA!$C$9","v":0.89},{"$f":"DATA!$C$10","v":64},1,379.68750000000006,407.81250000000006,2.0833333333333332E-2,28.125,6.8965517241379296E-2,0,"","",107.73333333333333,91,"",91,"",null,{"$f":"X163","v":8},null,{"$f":"TEXT(Y165,\"ddd\")","v":"vr"},"MD",{"$f":"IFERROR(HLOOKUP(Y165,[1]DATA!$A$1:$NB$5,4,0),\"\")","v":"D2"},30,null,10,101,16,-316.8125,0.20874551971326166,0.87068965517241381]
["8vrND",{"$f":"VLOOKUP($AA167,DATA!$B$3:$E$6,2,0)","v":"22:30:00"},{"$f":"VLOOKUP($AA167,DATA!$B$3:$E$6,3,0)","v":"06:30:00"},{"$f":"VLOOKUP($AA167,DATA!$B$3:$E$6,4,0)","v":3.125E-2},0.30208333333333326,0.30208333333333326,{"$f":"DATA!$C$9","v":0.89},{"$f":"DATA!$C$10","v":64},1,407.81249999999989,407.81249999999989,0,"","",0,"","",0,"","","","",null,{"$f":"X163","v":8},null,{"$f":"TEXT(Y165,\"ddd\")","v":"vr"},"ND",{"$f":"IFERROR(HLOOKUP(Y165,[1]DATA!$A$1:$NB$5,5,0),\"\")","v":"-"},null,null,null,null,0,"","",""]
["8zaDD",{"$f":"VLOOKUP($AA168,DATA!$B$3:$E$6,2,0)","v":"06:30:00"},{"$f":"VLOOKUP($AA168,DATA!$B$3:$E$6,3,0)","v":"14:30:00"},{"$f":"VLOOKUP($AA168,DATA!$B$3:$E$6,4,0)","v":3.125E-2},0.30208333333333331,0.30208333333333331,{"$f":"DATA!$C$9","v":0.89},{"$f":"DATA!$C$10","v":64},1,407.8125,407.8125,0,"","",0,"","",0,"","","","",null,{"$f":"X163","v":8},{"$f":"Y165+1","v":"2018-02-24"},{"$f":"TEXT(Y168,\"ddd\")","v":"za"},"DD",{"$f":"IFERROR(HLOOKUP(Y168,[1]DATA!$A$1:$NB$5,3,0),\"\")","v":"-"},null,null,null,null,0,"","",""]
["8zaMD",{"$f":"VLOOKUP($AA169,DATA!$B$3:$E$6,2,0)","v":"14:30:00"},{"$f":"VLOOKUP($AA169,DATA!$B$3:$E$6,3,0)","v":"22:30:00"},{"$f":"VLOOKUP($AA169,DATA!$B$3:$E$6,4,0)","v":3.125E-2},0.30208333333333337,0.30208333333333337,{"$f":"DATA!$C$9","v":0.89},{"$f":"DATA!$C$10","v":64},1,407.81250000000006,407.81250000000006,0,"","",0,"","",0,"","","","",null,{"$f":"X163","v":8},null,{"$f":"TEXT(Y168,\"ddd\")","v":"za"},"MD",{"$f":"IFERROR(HLOOKUP(Y168,[1]DATA!$A$1:$NB$5,4,0),\"\")","v":"-"},null,null,null,null,0,"","",""]
["8zaND",{"$f":"VLOOKUP($AA170,DATA!$B$3:$E$6,2,0)","v":"22:30:00"},{"$f":"VLOOKUP($AA170,DATA!$B$3:$E$6,3,0)","v":"06:30:00"},{"$f":"VLOOKUP($AA170,DATA!$B$3:$E$6,4,0)","v":3.125E-2},0.30208333333333326,0.30208333333333326,{"$f":"DATA!$C$9","v":0.89},{"$f":"DATA!$C$10","v":64},1,407.81249999999989,407.81249999999989,0,"","",0,"","",0,"","","","",null,{"$f":"X163","v":8},null,{"$f":"TEXT(Y168,\"ddd\")","v":"za"},"ND",{"$f":"IFERROR(HLOOKUP(Y168,[1]DATA!$A$1:$NB$5,5,0),\"\")","v":"-"},null,null,null,null,0,"","",""]
["8zoDD",{"$f":"VLOOKUP($AA171,DATA!$B$3:$E$6,2,0)","v":"06:30:00"},{"$f":"VLOOKUP($AA171,DATA!$B$3:$E$6,3,0)","v":"14:30:00"},{"$f":"VLOOKUP($AA171,DATA!$B$3:$E$6,4,0)","v":3.125E-2},0.30208333333333331,0.30208333333333331,{"$f":"DATA!$C$9","v":0.89},{"$f":"DATA!$C$10","v":64},1,407.8125,407.8125,0,"","",0,"","",0,"","","","",null,{"$f":"X163","v":8},{"$f":"Y168+1","v":"2018-02-25"},{"$f":"TEXT(Y171,\"ddd\")","v":"zo"},"DD",{"$f":"IFERROR(HLOOKUP(Y171,[1]DATA!$A$1:$NB$5,3,0),\"\")","v":"-"},null,null,null,null,0,"","",""]
["8zoMD",{"$f":"VLOOKUP($AA172,DATA!$B$3:$E$6,2,0)","v":"14:30:00"},{"$f":"VLOOKUP($AA172,DATA!$B$3:$E$6,3,0)","v":"22:30:00"},{"$f":"VLOOKUP($AA172,DATA!$B$3:$E$6,4,0)","v":3.125E-2},0.30208333333333337,0.30208333333333337,{"$f":"DATA!$C$9","v":0.89},{"$f":"DATA!$C$10","v":64},1,407.81250000000006,407.81250000000006,0,"","",0,"","",0,"","","","",null,{"$f":"X163","v":8},null,{"$f":"TEXT(Y171,\"ddd\")","v":"zo"},"MD",{"$f":"IFERROR(HLOOKUP(Y171,[1]DATA!$A$1:$NB$5,4,0),\"\")","v":"-"},null,null,null,null,0,"","",""]
["8zoZND",{"$f":"VLOOKUP($AA173,DATA!$B$3:$E$6,2,0)","v":"00:00:00"},{"$f":"VLOOKUP($AA173,DATA!$B$3:$E$6,3,0)","v":"00:00:00"},{"$f":"VLOOKUP($AA173,DATA!$B$3:$E$6,4,0)","v":0},0,0,{"$f":"DATA!$C$9","v":0.89},{"$f":"DATA!$C$10","v":64},1,0,0,0,"","",0,"","",0,"","","","",null,{"$f":"X163","v":8},null,{"$f":"TEXT(Y171,\"ddd\")","v":"zo"},"ZND",{"$f":"IFERROR(HLOOKUP(Y171,[1]DATA!$A$1:$NB$5,5,0),\"\")","v":"D3"},null,null,null,null,0,"","",""]
["9maDD",{"$f":"VLOOKUP($AA174,DATA!$B$3:$E$6,2,0)","v":"06:30:00"},{"$f":"VLOOKUP($AA174,DATA!$B$3:$E$6,3,0)","v":"14:30:00"},{"$f":"VLOOKUP($AA174,DATA!$B$3:$E$6,4,0)","v":3.125E-2},0.30208333333333331,0.24861111111111109,{"$f":"DATA!$C$9","v":0.89},{"$f":"DATA!$C$10","v":64},1,335.62499999999994,407.8125,5.347222222222222E-2,72.1875,0.17701149425287357,{"$f":"TIME(INT($AD174/60),INT(MOD($AD174,60)/1),0)","v":0},"","",160,133,"",133,"",null,{"$f":"X184","v":9},{"$f":"Y171+1","v":"2018-02-26"},{"$f":"TEXT(Y174,\"ddd\")","v":"ma"},"DD",{"$f":"IFERROR(HLOOKUP(Y174,[1]DATA!$A$1:$NB$5,3,0),\"\")","v":"D2"},77,null,17,150,0,-230.75000000000006,0.30508960573476701,1,4359.375,3233,0.74162007168458777,360,8.2580645161290323E-2,0,0,0.95286564088079684,0.93763538838976968,0.96809589337182378,"",766.375,0.17579928315412191,817.4666666666667,206]
["9maMD",{"$f":"VLOOKUP($AA175,DATA!$B$3:$E$6,2,0)","v":"14:30:00"},{"$f":"VLOOKUP($AA175,DATA!$B$3:$E$6,3,0)","v":"22:30:00"},{"$f":"VLOOKUP($AA175,DATA!$B$3:$E$6,4,0)","v":3.125E-2},0.30208333333333337,0.2680555555555556,{"$f":"DATA!$C$9","v":0.89},{"$f":"DATA!$C$10","v":64},1,361.87500000000006,407.81250000000006,3.4027777777777775E-2,45.937499999999993,0.11264367816091951,{"$f":"TIME(INT(AD175/60),INT(MOD(AD175,60)/1),0)","v":0},"","",359.46666666666664,316,316,"","",null,{"$f":"X184","v":9},null,{"$f":"TEXT(Y174,\"ddd\")","v":"ma"},"MD",{"$f":"IFERROR(HLOOKUP(Y174,[1]DATA!$A$1:$NB$5,4,0),\"\")","v":"D1"},49,null,21,337,9,-73.999999999999943,0.72487455197132622,0.9755744526868102]
[{"$f":"X176&Z176&AA176","v":"9maND"},{"$f":"VLOOKUP($AA176,DATA!$B$3:$E$6,2,0)","v":"22:30:00"},{"$f":"VLOOKUP($AA176,DATA!$B$3:$E$6,3,0)","v":"06:30:00"},{"$f":"VLOOKUP($AA176,DATA!$B$3:$E$6,4,0)","v":3.125E-2},0.30208333333333326,0.30208333333333326,{"$f":"DATA!$C$9","v":0.89},{"$f":"DATA!$C$10","v":64},1,407.81249999999989,407.81249999999989,0,"","",0,{"$f":"IF($O176*86400/$H176=0,\"\",$O176*86400/$H176)","v":""},"",0,"","","","",null,{"$f":"X184","v":9},null,{"$f":"TEXT(Y174,\"ddd\")","v":"ma"},"ND",{"$f":"IFERROR(HLOOKUP(Y174,[1]DATA!$A$1:$NB$5,5,0),\"\")","v":"D3"},null,null,null,null,0,"","",""]
["9diDD",{"$f":"VLOOKUP($AA177,DATA!$B$3:$E$6,2,0)","v":"06:30:00"},{"$f":"VLOOKUP($AA177,DATA!$B$3:$E$6,3,0)","v":"14:30:00"},{"$f":"VLOOKUP($AA177,DATA!$B$3:$E$6,4,0)","v":3.125E-2},0.30208333333333331,0.29166666666666663,{"$f":"DATA!$C$9","v":0.89},{"$f":"DATA!$C$10","v":64},1,393.74999999999994,407.8125,1.0416666666666666E-2,14.0625,3.4482758620689655E-2,0,"","",449.06666666666666,389,"",389,"",null,{"$f":"X184","v":9},{"$f":"Y174+1","v":"2018-02-27"},{"$f":"TEXT(Y177,\"ddd\")","v":"di"},"DD",{"$f":"IFERROR(HLOOKUP(Y177,[1]DATA!$A$1:$NB$5,3,0),\"\")","v":"D2"},15,null,32,421,20,-32.875,0.89232974910394269,0.95736213757816946]
["9diMD",{"$f":"VLOOKUP($AA178,DATA!$B$3:$E$6,2,0)","v":"14:30:00"},{"$f":"VLOOKUP($AA178,DATA!$B$3:$E$6,3,0)","v":"22:30:00"},{"$f":"VLOOKUP($AA178,DATA!$B$3:$E$6,4,0)","v":3.125E-2},0.30208333333333337,0.29097222222222224,{"$f":"DATA!$C$9","v":0.89},{"$f":"DATA!$C$10","v":64},1,392.8125,407.81250000000006,1.1111111111111112E-2,15,3.6781609195402291E-2,0,"","",361.6,308,308,"","",null,{"$f":"X184","v":9},null,{"$f":"TEXT(Y177,\"ddd\")","v":"di"},"MD",{"$f":"IFERROR(HLOOKUP(Y177,[1]DATA!$A$1:$NB$5,4,0),\"\")","v":"D1"},16,null,31,339,89,-112.93749999999994,0.70652329749103948,0.80248557478917004]
["9diND",{"$f":"VLOOKUP($AA179,DATA!$B$3:$E$6,2,0)","v":"22:30:00"},{"$f":"VLOOKUP($AA179,DATA!$B$3:$E$6,3,0)","v":"06:30:00"},{"$f":"VLOOKUP($AA179,DATA!$B$3:$E$6,4,0)","v":3.125E-2},0.30208333333333326,0.30208333333333326,{"$f":"DATA!$C$9","v":0.89},{"$f":"DATA!$C$10","v":64},1,407.81249999999989,407.81249999999989,0,"","",0,"","",0,"","","","",null,{"$f":"X184","v":9},null,{"$f":"TEXT(Y177,\"ddd\")","v":"di"},"ND",{"$f":"IFERROR(HLOOKUP(Y177,[1]DATA!$A$1:$NB$5,5,0),\"\")","v":"D3"},null,null,null,null,0,"","",""]
["9woDD",{"$f":"VLOOKUP($AA180,DATA!$B$3:$E$6,2,0)","v":"06:30:00"},{"$f":"VLOOKUP($AA180,DATA!$B$3:$E$6,3,0)","v":"14:30:00"},{"$f":"VLOOKUP($AA180,DATA!$B$3:$E$6,4,0)","v":3.125E-2},0.30208333333333331,0.28263888888888888,{"$f":"DATA!$C$9","v":0.89},{"$f":"DATA!$C$10","v":64},1,381.5625,407.8125,1.9444444444444445E-2,26.25,6.4367816091954022E-2,0,"","",392.5333333333333,338,"",338,"",null,{"$f":"X184","v":9},{"$f":"Y177+1","v":"2018-02-28"},{"$f":"TEXT(Y180,\"ddd\")","v":"wo"},"DD",{"$f":"IFERROR(HLOOKUP(Y180,[1]DATA!$A$1:$NB$5,3,0),\"\")","v":"D2"},28,null,30,368,4,-71.687500000000057,0.77534050179211467,0.98991257565568258]
["9woMD",{"$f":"VLOOKUP($AA181,DATA!$B$3:$E$6,2,0)","v":"14:30:00"},{"$f":"VLOOKUP($AA181,DATA!$B$3:$E$6,3,0)","v":"22:30:00"},{"$f":"VLOOKUP($AA181,DATA!$B$3:$E$6,4,0)","v":3.125E-2},0.30208333333333337,0.27777777777777779,{"$f":"DATA!$C$9","v":0.89},{"$f":"DATA!$C$10","v":64},1,375,407.81250000000006,2.4305555555555556E-2,32.8125,8.0459770114942514E-2,0,"","",421.33333333333331,359,359,"","",null,{"$f":"X184","v":9},null,{"$f":"TEXT(Y180,\"ddd\")","v":"wo"},"MD",{"$f":"IFERROR(HLOOKUP(Y180,[1]DATA!$A$1:$NB$5,4,0),\"\")","v":"D1"},35,null,36,395,9,-44.124999999999943,0.82351254480286751,0.97908597986057322]
["9woND",{"$f":"VLOOKUP($AA182,DATA!$B$3:$E$6,2,0)","v":"22:30:00"},{"$f":"VLOOKUP($AA182,DATA!$B$3:$E$6,3,0)","v":"06:30:00"},{"$f":"VLOOKUP($AA182,DATA!$B$3:$E$6,4,0)","v":3.125E-2},0.30208333333333326,0.30208333333333326,{"$f":"DATA!$C$9","v":0.89},{"$f":"DATA!$C$10","v":64},1,407.81249999999989,407.81249999999989,0,"","",0,"","",0,"","","","",null,{"$f":"X184","v":9},null,{"$f":"TEXT(Y180,\"ddd\")","v":"wo"},"ND",{"$f":"IFERROR(HLOOKUP(Y180,[1]DATA!$A$1:$NB$5,5,0),\"\")","v":"D3"},null,null,null,null,0,"","",""]
["9doDD",{"$f":"VLOOKUP($AA183,DATA!$B$3:$E$6,2,0)","v":"06:30:00"},{"$f":"VLOOKUP($AA183,DATA!$B$3:$E$6,3,0)","v":"14:30:00"},{"$f":"VLOOKUP($AA183,DATA!$B$3:$E$6,4,0)","v":3.125E-2},0.30208333333333331,0.25763888888888886,{"$f":"DATA!$C$9","v":0.89},{"$f":"DATA!$C$10","v":64},1,347.81249999999994,407.8125,4.4444444444444446E-2,60,0.14712643678160919,0,"","",378.66666666666669,321,"",321,"",null,{"$f":"X184","v":9},{"$f":"Y180+1","v":"2018-03-01"},{"$f":"TEXT(Y183,\"ddd\")","v":"do"},"DD",{"$f":"IFERROR(HLOOKUP(Y183,[1]DATA!$A$1:$NB$5,3,0),\"\")","v":"D2"},64,null,34,355,17,-54.9375,0.73634408602150536,0.95703454085930917]
["9doMD",{"$f":"VLOOKUP($AA184,DATA!$B$3:$E$6,2,0)","v":"14:30:00"},{"$f":"VLOOKUP($AA184,DATA!$B$3:$E$6,3,0)","v":"22:30:00"},{"$f":"VLOOKUP($AA184,DATA!$B$3:$E$6,4,0)","v":3.125E-2},0.30208333333333337,0.25208333333333338,{"$f":"DATA!$C$9","v":0.89},{"$f":"DATA!$C$10","v":64},1,340.31250000000006,407.81250000000006,4.9999999999999996E-2,67.5,0.16551724137931031,0,"","",412.8,345,345,"","",null,{"$f":"WEEKNUM($Y174)","v":9},null,{"$f":"TEXT(Y183,\"ddd\")","v":"do"},"MD",{"$f":"IFERROR(HLOOKUP(Y183,[1]DATA!$A$1:$NB$5,4,0),\"\")","v":"D1"},72,null,42,387,10,-23.437499999999943,0.79139784946236569,0.97634815515610218]
["9doND",{"$f":"VLOOKUP($AA185,DATA!$B$3:$E$6,2,0)","v":"22:30:00"},{"$f":"VLOOKUP($AA185,DATA!$B$3:$E$6,3,0)","v":"06:30:00"},{"$f":"VLOOKUP($AA185,DATA!$B$3:$E$6,4,0)","v":3.125E-2},0.30208333333333326,0.30208333333333326,{"$f":"DATA!$C$9","v":0.89},{"$f":"DATA!$C$10","v":64},1,407.81249999999989,407.81249999999989,0,"","",0,"","",0,"","","","",null,{"$f":"X184","v":9},null,{"$f":"TEXT(Y183,\"ddd\")","v":"do"},"ND",{"$f":"IFERROR(HLOOKUP(Y183,[1]DATA!$A$1:$NB$5,5,0),\"\")","v":"D3"},null,null,null,null,0,"","",""]
["9vrDD",{"$f":"VLOOKUP($AA186,DATA!$B$3:$E$6,2,0)","v":"06:30:00"},{"$f":"VLOOKUP($AA186,DATA!$B$3:$E$6,3,0)","v":"14:30:00"},{"$f":"VLOOKUP($AA186,DATA!$B$3:$E$6,4,0)","v":3.125E-2},0.30208333333333331,0.29097222222222219,{"$f":"DATA!$C$9","v":0.89},{"$f":"DATA!$C$10","v":64},1,392.81249999999994,407.8125,1.1111111111111112E-2,15,3.6781609195402298E-2,0,"","",410.66666666666669,358,"",358,"",null,{"$f":"X184","v":9},{"$f":"Y183+1","v":"2018-03-02"},{"$f":"TEXT(Y186,\"ddd\")","v":"vr"},"DD",{"$f":"IFERROR(HLOOKUP(Y186,[1]DATA!$A$1:$NB$5,3,0),\"\")","v":"D2"},16,null,27,385,28,-62.9375,0.82121863799283157,0.93617021276595747]
["9vrMD",{"$f":"VLOOKUP($AA187,DATA!$B$3:$E$6,2,0)","v":"14:30:00"},{"$f":"VLOOKUP($AA187,DATA!$B$3:$E$6,3,0)","v":"22:30:00"},{"$f":"VLOOKUP($AA187,DATA!$B$3:$E$6,4,0)","v":3.125E-2},0.30208333333333337,0.29375000000000001,{"$f":"DATA!$C$9","v":0.89},{"$f":"DATA!$C$10","v":64},1,396.5625,407.81250000000006,8.3333333333333332E-3,11.25,2.758620689655172E-2,0,"","",421.33333333333331,366,366,"","",null,{"$f":"X184","v":9},null,{"$f":"TEXT(Y186,\"ddd\")","v":"vr"},"MD",{"$f":"IFERROR(HLOOKUP(Y186,[1]DATA!$A$1:$NB$5,4,0),\"\")","v":"D1"},12,null,29,395,20,-58.687499999999943,0.83956989247311842,0.9546827794561934]
["9vrND",{"$f":"VLOOKUP($AA188,DATA!$B$3:$E$6,2,0)","v":"22:30:00"},{"$f":"VLOOKUP($AA188,DATA!$B$3:$E$6,3,0)","v":"06:30:00"},{"$f":"VLOOKUP($AA188,DATA!$B$3:$E$6,4,0)","v":3.125E-2},0.30208333333333326,0.30208333333333326,{"$f":"DATA!$C$9","v":0.89},{"$f":"DATA!$C$10","v":64},1,407.81249999999989,407.81249999999989,0,"","",0,"","",0,"","","","",null,{"$f":"X184","v":9},null,{"$f":"TEXT(Y186,\"ddd\")","v":"vr"},"ND",{"$f":"IFERROR(HLOOKUP(Y186,[1]DATA!$A$1:$NB$5,5,0),\"\")","v":"-"},null,null,null,null,0,"","",""]
["9zaDD",{"$f":"VLOOKUP($AA189,DATA!$B$3:$E$6,2,0)","v":"06:30:00"},{"$f":"VLOOKUP($AA189,DATA!$B$3:$E$6,3,0)","v":"14:30:00"},{"$f":"VLOOKUP($AA189,DATA!$B$3:$E$6,4,0)","v":3.125E-2},0.30208333333333331,0.30208333333333331,{"$f":"DATA!$C$9","v":0.89},{"$f":"DATA!$C$10","v":64},1,407.8125,407.8125,0,"","",0,"","",0,"","","","",null,{"$f":"X184","v":9},{"$f":"Y186+1","v":"2018-03-03"},{"$f":"TEXT(Y189,\"ddd\")","v":"za"},"DD",{"$f":"IFERROR(HLOOKUP(Y189,[1]DATA!$A$1:$NB$5,3,0),\"\")","v":"-"},null,null,null,null,0,"","",""]
["9zaMD",{"$f":"VLOOKUP($AA190,DATA!$B$3:$E$6,2,0)","v":"14:30:00"},{"$f":"VLOOKUP($AA190,DATA!$B$3:$E$6,3,0)","v":"22:30:00"},{"$f":"VLOOKUP($AA190,DATA!$B$3:$E$6,4,0)","v":3.125E-2},0.30208333333333337,0.30208333333333337,{"$f":"DATA!$C$9","v":0.89},{"$f":"DATA!$C$10","v":64},1,407.81250000000006,407.81250000000006,0,"","",0,"","",0,"","","","",null,{"$f":"X184","v":9},null,{"$f":"TEXT(Y189,\"ddd\")","v":"za"},"MD",{"$f":"IFERROR(HLOOKUP(Y189,[1]DATA!$A$1:$NB$5,4,0),\"\")","v":"-"},null,null,null,null,0,"","",""]
["9zaND",{"$f":"VLOOKUP($AA191,DATA!$B$3:$E$6,2,0)","v":"22:30:00"},{"$f":"VLOOKUP($AA191,DATA!$B$3:$E$6,3,0)","v":"06:30:00"},{"$f":"VLOOKUP($AA191,DATA!$B$3:$E$6,4,0)","v":3.125E-2},0.30208333333333326,0.30208333333333326,{"$f":"DATA!$C$9","v":0.89},{"$f":"DATA!$C$10","v":64},1,407.81249999999989,407.81249999999989,0,"","",0,"","",0,"","","","",null,{"$f":"X184","v":9},null,{"$f":"TEXT(Y189,\"ddd\")","v":"za"},"ND",{"$f":"IFERROR(HLOOKUP(Y189,[1]DATA!$A$1:$NB$5,5,0),\"\")","v":"-"},null,null,null,null,0,"","",""]
["9zoDD",{"$f":"VLOOKUP($AA192,DATA!$B$3:$E$6,2,0)","v":"06:30:00"},{"$f":"VLOOKUP($AA192,DATA!$B$3:$E$6,3,0)","v":"14:30:00"},{"$f":"VLOOKUP($AA192,DATA!$B$3:$E$6,4,0)","v":3.125E-2},0.30208333333333331,0.30208333333333331,{"$f":"DATA!$C$9","v":0.89},{"$f":"DATA!$C$10","v":64},1,407.8125,407.8125,0,"","",0,"","",0,"","","","",null,{"$f":"X184","v":9},{"$f":"Y189+1","v":"2018-03-04"},{"$f":"TEXT(Y192,\"ddd\")","v":"zo"},"DD",{"$f":"IFERROR(HLOOKUP(Y192,[1]DATA!$A$1:$NB$5,3,0),\"\")","v":"-"},null,null,null,null,0,"","",""]
["9zoMD",{"$f":"VLOOKUP($AA193,DATA!$B$3:$E$6,2,0)","v":"14:30:00"},{"$f":"VLOOKUP($AA193,DATA!$B$3:$E$6,3,0)","v":"22:30:00"},{"$f":"VLOOKUP($AA193,DATA!$B$3:$E$6,4,0)","v":3.125E-2},0.30208333333333337,0.30208333333333337,{"$f":"DATA!$C$9","v":0.89},{"$f":"DATA!$C$10","v":64},1,407.81250000000006,407.81250000000006,0,"","",0,"","",0,"","","","",null,{"$f":"X184","v":9},null,{"$f":"TEXT(Y192,\"ddd\")","v":"zo"},"MD",{"$f":"IFERROR(HLOOKUP(Y192,[1]DATA!$A$1:$NB$5,4,0),\"\")","v":"-"},null,null,null,null,0,"","",""]
["9zoZND",{"$f":"VLOOKUP($AA194,DATA!$B$3:$E$6,2,0)","v":"00:00:00"},{"$f":"VLOOKUP($AA194,DATA!$B$3:$E$6,3,0)","v":"00:00:00"},{"$f":"VLOOKUP($AA194,DATA!$B$3:$E$6,4,0)","v":0},0,0,{"$f":"DATA!$C$9","v":0.89},{"$f":"DATA!$C$10","v":64},1,0,0,0,"","",0,"","",0,"","","","",null,{"$f":"X184","v":9},null,{"$f":"TEXT(Y192,\"ddd\")","v":"zo"},"ZND",{"$f":"IFERROR(HLOOKUP(Y192,[1]DATA!$A$1:$NB$5,5,0),\"\")","v":"D2"},null,null,null,null,0,"","",""]
["10maDD",{"$f":"VLOOKUP($AA195,DATA!$B$3:$E$6,2,0)","v":"06:30:00"},{"$f":"VLOOKUP($AA195,DATA!$B$3:$E$6,3,0)","v":"14:30:00"},{"$f":"VLOOKUP($AA195,DATA!$B$3:$E$6,4,0)","v":3.125E-2},0.30208333333333331,0.2409722222222222,{"$f":"DATA!$C$9","v":0.89},{"$f":"DATA!$C$10","v":64},1,325.31249999999994,407.8125,6.1111111111111116E-2,82.5,0.20229885057471264,{"$f":"TIME(INT($AD195/60),INT(MOD($AD195,60)/1),0)","v":0},"","",346.66666666666669,302,302,"","",null,{"$f":"X205","v":10},{"$f":"Y192+1","v":"2018-03-05"},{"$f":"TEXT(Y195,\"ddd\")","v":"ma"},"DD",{"$f":"IFERROR(HLOOKUP(Y195,[1]DATA!$A$1:$NB$5,3,0),\"\")","v":"D1"},88,null,23,325,2,-51.4375,0.6927598566308244,0.99426386233269604,4359.375,2959,0.67876702508960574,521.25,0.11956989247311828,0,0,0.96341073678429756,0.9701437074441055,"",0.95667776612448974,879.125,0.20166308243727599,937.73333333333335,127]
["10maMD",{"$f":"VLOOKUP($AA196,DATA!$B$3:$E$6,2,0)","v":"14:30:00"},{"$f":"VLOOKUP($AA196,DATA!$B$3:$E$6,3,0)","v":"22:30:00"},{"$f":"VLOOKUP($AA196,DATA!$B$3:$E$6,4,0)","v":3.125E-2},0.30208333333333337,0.2416666666666667,{"$f":"DATA!$C$9","v":0.89},{"$f":"DATA!$C$10","v":64},1,326.25000000000006,407.81250000000006,6.0416666666666667E-2,81.5625,0.19999999999999998,{"$f":"TIME(INT(AD196/60),INT(MOD(AD196,60)/1),0)","v":0},"","",323.2,288,"","",288,null,{"$f":"X205","v":10},null,{"$f":"TEXT(Y195,\"ddd\")","v":"ma"},"MD",{"$f":"IFERROR(HLOOKUP(Y195,[1]DATA!$A$1:$NB$5,4,0),\"\")","v":"D3"},87,null,15,303,10,-66.374999999999943,0.66064516129032269,0.96998799519807921]
["10maND",{"$f":"VLOOKUP($AA197,DATA!$B$3:$E$6,2,0)","v":"22:30:00"},{"$f":"VLOOKUP($AA197,DATA!$B$3:$E$6,3,0)","v":"06:30:00"},{"$f":"VLOOKUP($AA197,DATA!$B$3:$E$6,4,0)","v":3.125E-2},0.30208333333333326,0.30208333333333326,{"$f":"DATA!$C$9","v":0.89},{"$f":"DATA!$C$10","v":64},1,407.81249999999989,407.81249999999989,0,"","",0,"","",0,"","","","",null,{"$f":"X205","v":10},null,{"$f":"TEXT(Y195,\"ddd\")","v":"ma"},"ND",{"$f":"IFERROR(HLOOKUP(Y195,[1]DATA!$A$1:$NB$5,5,0),\"\")","v":"D2"},null,null,null,null,0,"","",""]
["10diDD",{"$f":"VLOOKUP($AA198,DATA!$B$3:$E$6,2,0)","v":"06:30:00"},{"$f":"VLOOKUP($AA198,DATA!$B$3:$E$6,3,0)","v":"14:30:00"},{"$f":"VLOOKUP($AA198,DATA!$B$3:$E$6,4,0)","v":3.125E-2},0.30208333333333331,0.28611111111111109,{"$f":"DATA!$C$9","v":0.89},{"$f":"DATA!$C$10","v":64},1,386.25,407.8125,1.5972222222222224E-2,21.562500000000004,5.2873563218390811E-2,0,"","",344.5333333333333,309,309,"","",null,{"$f":"X205","v":10},{"$f":"Y195+1","v":"2018-03-06"},{"$f":"TEXT(Y198,\"ddd\")","v":"di"},"DD",{"$f":"IFERROR(HLOOKUP(Y198,[1]DATA!$A$1:$NB$5,3,0),\"\")","v":"D1"},23,null,14,323,2,-105.375,0.70881720430107531,0.99422854944209316]
["10diMD",{"$f":"VLOOKUP($AA199,DATA!$B$3:$E$6,2,0)","v":"14:30:00"},{"$f":"VLOOKUP($AA199,DATA!$B$3:$E$6,3,0)","v":"22:30:00"},{"$f":"VLOOKUP($AA199,DATA!$B$3:$E$6,4,0)","v":3.125E-2},0.30208333333333337,0.2479166666666667,{"$f":"DATA!$C$9","v":0.89},{"$f":"DATA!$C$10","v":64},1,334.68750000000006,407.81250000000006,{"$f":"TIME(INT($AC199/60),INT(MOD($AC199,60)/1),0)","v":5.4166666666666669E-2},{"$f":"IF($L199*86400/$H199=0,\"\",$L199*86400/$H199)","v":73.125},{"$f":"IFERROR($M199/$K199,\"\")","v":0.17931034482758618},0,"",{"$f":"IFERROR($P199/$K199,\"\")","v":""},315.73333333333335,280,{"$f":"IF(IF($AB199=\"D1\",$S199,\"\")=0,\"\",IF($AB199=\"D1\",$S199,\"\"))","v":""},{"$f":"IF(IF($AB199=\"D2\",$S199,\"\")=0,\"\",IF($AB199=\"D2\",$S199,\"\"))","v":""},{"$f":"IF(IF($AB199=\"D3\",$S199,\"\")=0,\"\",IF($AB199=\"D3\",$S199,\"\"))","v":280},null,{"$f":"X205","v":10},null,{"$f":"TEXT(Y198,\"ddd\")","v":"di"},"MD",{"$f":"IFERROR(HLOOKUP(Y198,[1]DATA!$A$1:$NB$5,4,0),\"\")","v":"D3"},78,null,16,296,31,-82.812499999999886,0.64229390681003595,0.9105941165160546]
["10diND",{"$f":"VLOOKUP($AA200,DATA!$B$3:$E$6,2,0)","v":"22:30:00"},{"$f":"VLOOKUP($AA200,DATA!$B$3:$E$6,3,0)","v":"06:30:00"},{"$f":"VLOOKUP($AA200,DATA!$B$3:$E$6,4,0)","v":3.125E-2},0.30208333333333326,0.30208333333333326,{"$f":"DATA!$C$9","v":0.89},{"$f":"DATA!$C$10","v":64},1,407.81249999999989,407.81249999999989,0,"","",0,"","",0,"","","","",null,{"$f":"X205","v":10},null,{"$f":"TEXT(Y198,\"ddd\")","v":"di"},"ND",{"$f":"IFERROR(HLOOKUP(Y198,[1]DATA!$A$1:$NB$5,5,0),\"\")","v":"D2"},null,null,null,null,0,"","",""]
["10woDD",{"$f":"VLOOKUP($AA201,DATA!$B$3:$E$6,2,0)","v":"06:30:00"},{"$f":"VLOOKUP($AA201,DATA!$B$3:$E$6,3,0)","v":"14:30:00"},{"$f":"VLOOKUP($AA201,DATA!$B$3:$E$6,4,0)","v":3.125E-2},0.30208333333333331,0.29583333333333334,{"$f":"DATA!$C$9","v":0.89},{"$f":"DATA!$C$10","v":64},1,399.375,407.8125,6.2499999999999995E-3,8.4375,2.0689655172413793E-2,0,"","",349.86666666666667,317,317,"","",null,{"$f":"X205","v":10},{"$f":"Y198+1","v":"2018-03-07"},{"$f":"TEXT(Y201,\"ddd\")","v":"wo"},"DD",{"$f":"IFERROR(HLOOKUP(Y201,[1]DATA!$A$1:$NB$5,3,0),\"\")","v":"D1"},9,null,11,328,29,-110.50000000000006,0.72716845878136205,0.92345592116839692]
["10woMD",{"$f":"VLOOKUP($AA202,DATA!$B$3:$E$6,2,0)","v":"14:30:00"},{"$f":"VLOOKUP($AA202,DATA!$B$3:$E$6,3,0)","v":"22:30:00"},{"$f":"VLOOKUP($AA202,DATA!$B$3:$E$6,4,0)","v":3.125E-2},0.30208333333333337,0.27708333333333335,{"$f":"DATA!$C$9","v":0.89},{"$f":"DATA!$C$10","v":64},1,374.0625,407.81250000000006,2.4999999999999998E-2,33.75,8.2758620689655157E-2,0,"","",407.46666666666664,352,"","",352,null,{"$f":"X205","v":10},null,{"$f":"TEXT(Y201,\"ddd\")","v":"wo"},"MD",{"$f":"IFERROR(HLOOKUP(Y201,[1]DATA!$A$1:$NB$5,4,0),\"\")","v":"D3"},36,null,30,382,26,-50.187499999999943,0.8074551971326166,0.94001845585973542]
["10woND",{"$f":"VLOOKUP($AA203,DATA!$B$3:$E$6,2,0)","v":"22:30:00"},{"$f":"VLOOKUP($AA203,DATA!$B$3:$E$6,3,0)","v":"06:30:00"},{"$f":"VLOOKUP($AA203,DATA!$B$3:$E$6,4,0)","v":3.125E-2},0.30208333333333326,0.30208333333333326,{"$f":"DATA!$C$9","v":0.89},{"$f":"DATA!$C$10","v":64},1,407.81249999999989,407.81249999999989,0,"","",0,"","",0,"","","","",null,{"$f":"X205","v":10},null,{"$f":"TEXT(Y201,\"ddd\")","v":"wo"},"ND",{"$f":"IFERROR(HLOOKUP(Y201,[1]DATA!$A$1:$NB$5,5,0),\"\")","v":"D2"},null,null,null,null,0,"","",""]
["10doDD",{"$f":"VLOOKUP($AA204,DATA!$B$3:$E$6,2,0)","v":"06:30:00"},{"$f":"VLOOKUP($AA204,DATA!$B$3:$E$6,3,0)","v":"14:30:00"},{"$f":"VLOOKUP($AA204,DATA!$B$3:$E$6,4,0)","v":3.125E-2},0.30208333333333331,0.19513888888888886,{"$f":"DATA!$C$9","v":0.89},{"$f":"DATA!$C$10","v":64},1,263.43749999999994,407.8125,0.10694444444444444,144.375,0.35402298850574715,0,"","",201.6,171,171,"","",null,{"$f":"X205","v":10},{"$f":"Y201+1","v":"2018-03-08"},{"$f":"TEXT(Y204,\"ddd\")","v":"do"},"DD",{"$f":"IFERROR(HLOOKUP(Y204,[1]DATA!$A$1:$NB$5,3,0),\"\")","v":"D1"},154,null,18,189,10,-120.5625,0.39225806451612905,0.95274102079395084]
["10doMD",{"$f":"VLOOKUP($AA205,DATA!$B$3:$E$6,2,0)","v":"14:30:00"},{"$f":"VLOOKUP($AA205,DATA!$B$3:$E$6,3,0)","v":"22:30:00"},{"$f":"VLOOKUP($AA205,DATA!$B$3:$E$6,4,0)","v":3.125E-2},0.30208333333333337,0.26250000000000007,{"$f":"DATA!$C$9","v":0.89},{"$f":"DATA!$C$10","v":64},1,354.37500000000011,407.81250000000006,3.9583333333333331E-2,53.4375,0.13103448275862067,0,"","",234.66666666666666,205,"","",205,null,{"$f":"WEEKNUM($Y195)","v":10},null,{"$f":"TEXT(Y204,\"ddd\")","v":"do"},"MD",{"$f":"IFERROR(HLOOKUP(Y204,[1]DATA!$A$1:$NB$5,4,0),\"\")","v":"D3"},57,null,15,220,6,-177.5,0.47025089605734771,0.97506925207756234]
["10doND",{"$f":"VLOOKUP($AA206,DATA!$B$3:$E$6,2,0)","v":"22:30:00"},{"$f":"VLOOKUP($AA206,DATA!$B$3:$E$6,3,0)","v":"06:30:00"},{"$f":"VLOOKUP($AA206,DATA!$B$3:$E$6,4,0)","v":3.125E-2},0.30208333333333326,0.30208333333333326,{"$f":"DATA!$C$9","v":0.89},{"$f":"DATA!$C$10","v":64},1,407.81249999999989,407.81249999999989,0,"","",0,"","",0,"","","","",null,{"$f":"X205","v":10},null,{"$f":"TEXT(Y204,\"ddd\")","v":"do"},"ND",{"$f":"IFERROR(HLOOKUP(Y204,[1]DATA!$A$1:$NB$5,5,0),\"\")","v":"D2"},null,null,null,null,0,"","",""]
["10vrDD",{"$f":"VLOOKUP($AA207,DATA!$B$3:$E$6,2,0)","v":"06:30:00"},{"$f":"VLOOKUP($AA207,DATA!$B$3:$E$6,3,0)","v":"14:30:00"},{"$f":"VLOOKUP($AA207,DATA!$B$3:$E$6,4,0)","v":3.125E-2},0.30208333333333331,0.29236111111111107,{"$f":"DATA!$C$9","v":0.89},{"$f":"DATA!$C$10","v":64},1,394.68749999999994,407.8125,9.7222222222222224E-3,13.125,3.2183908045977011E-2,0,"","",423.46666666666664,373,373,"","",null,{"$f":"X205","v":10},{"$f":"Y204+1","v":"2018-03-09"},{"$f":"TEXT(Y207,\"ddd\")","v":"vr"},"DD",{"$f":"IFERROR(HLOOKUP(Y207,[1]DATA!$A$1:$NB$5,3,0),\"\")","v":"D1"},14,null,24,397,6,-49.8125,0.85562724014336922,0.9860291834833903]
["10vrMD",{"$f":"VLOOKUP($AA208,DATA!$B$3:$E$6,2,0)","v":"14:30:00"},{"$f":"VLOOKUP($AA208,DATA!$B$3:$E$6,3,0)","v":"22:30:00"},{"$f":"VLOOKUP($AA208,DATA!$B$3:$E$6,4,0)","v":3.125E-2},0.30208333333333337,0.29513888888888895,{"$f":"DATA!$C$9","v":0.89},{"$f":"DATA!$C$10","v":64},1,398.43750000000006,407.81250000000006,6.9444444444444441E-3,9.375,2.2988505747126433E-2,0,"","",402.13333333333333,362,"","",362,null,{"$f":"X205","v":10},null,{"$f":"TEXT(Y207,\"ddd\")","v":"vr"},"MD",{"$f":"IFERROR(HLOOKUP(Y207,[1]DATA!$A$1:$NB$5,4,0),\"\")","v":"D3"},10,null,15,377,5,-64.5625,0.83039426523297499,0.98771901097101689]
["10vrND",{"$f":"VLOOKUP($AA209,DATA!$B$3:$E$6,2,0)","v":"22:30:00"},{"$f":"VLOOKUP($AA209,DATA!$B$3:$E$6,3,0)","v":"06:30:00"},{"$f":"VLOOKUP($AA209,DATA!$B$3:$E$6,4,0)","v":3.125E-2},0.30208333333333326,0.30208333333333326,{"$f":"DATA!$C$9","v":0.89},{"$f":"DATA!$C$10","v":64},1,407.81249999999989,407.81249999999989,0,"","",0,"","",0,"","","","",null,{"$f":"X205","v":10},null,{"$f":"TEXT(Y207,\"ddd\")","v":"vr"},"ND",{"$f":"IFERROR(HLOOKUP(Y207,[1]DATA!$A$1:$NB$5,5,0),\"\")","v":"-"},null,null,null,null,0,"","",""]
["10zaDD",{"$f":"VLOOKUP($AA210,DATA!$B$3:$E$6,2,0)","v":"06:30:00"},{"$f":"VLOOKUP($AA210,DATA!$B$3:$E$6,3,0)","v":"14:30:00"},{"$f":"VLOOKUP($AA210,DATA!$B$3:$E$6,4,0)","v":3.125E-2},0.30208333333333331,0.30208333333333331,{"$f":"DATA!$C$9","v":0.89},{"$f":"DATA!$C$10","v":64},1,407.8125,407.8125,0,"","",0,"","",0,"","","","",null,{"$f":"X205","v":10},{"$f":"Y207+1","v":"2018-03-10"},{"$f":"TEXT(Y210,\"ddd\")","v":"za"},"DD",{"$f":"IFERROR(HLOOKUP(Y210,[1]DATA!$A$1:$NB$5,3,0),\"\")","v":"-"},null,null,null,null,0,"","",""]
["10zaMD",{"$f":"VLOOKUP($AA211,DATA!$B$3:$E$6,2,0)","v":"14:30:00"},{"$f":"VLOOKUP($AA211,DATA!$B$3:$E$6,3,0)","v":"22:30:00"},{"$f":"VLOOKUP($AA211,DATA!$B$3:$E$6,4,0)","v":3.125E-2},0.30208333333333337,0.30208333333333337,{"$f":"DATA!$C$9","v":0.89},{"$f":"DATA!$C$10","v":64},1,407.81250000000006,407.81250000000006,0,"","",0,"","",0,"","","","",null,{"$f":"X205","v":10},null,{"$f":"TEXT(Y210,\"ddd\")","v":"za"},"MD",{"$f":"IFERROR(HLOOKUP(Y210,[1]DATA!$A$1:$NB$5,4,0),\"\")","v":"-"},null,null,null,null,0,"","",""]
["10zaND",{"$f":"VLOOKUP($AA212,DATA!$B$3:$E$6,2,0)","v":"22:30:00"},{"$f":"VLOOKUP($AA212,DATA!$B$3:$E$6,3,0)","v":"06:30:00"},{"$f":"VLOOKUP($AA212,DATA!$B$3:$E$6,4,0)","v":3.125E-2},0.30208333333333326,0.30208333333333326,{"$f":"DATA!$C$9","v":0.89},{"$f":"DATA!$C$10","v":64},1,407.81249999999989,407.81249999999989,0,"","",0,"","",0,"","","","",null,{"$f":"X205","v":10},null,{"$f":"TEXT(Y210,\"ddd\")","v":"za"},"ND",{"$f":"IFERROR(HLOOKUP(Y210,[1]DATA!$A$1:$NB$5,5,0),\"\")","v":"-"},null,null,null,null,0,"","",""]
["10zoDD",{"$f":"VLOOKUP($AA213,DATA!$B$3:$E$6,2,0)","v":"06:30:00"},{"$f":"VLOOKUP($AA213,DATA!$B$3:$E$6,3,0)","v":"14:30:00"},{"$f":"VLOOKUP($AA213,DATA!$B$3:$E$6,4,0)","v":3.125E-2},0.30208333333333331,0.30208333333333331,{"$f":"DATA!$C$9","v":0.89},{"$f":"DATA!$C$10","v":64},1,407.8125,407.8125,0,"","",0,"","",0,"","","","",null,{"$f":"X205","v":10},{"$f":"Y210+1","v":"2018-03-11"},{"$f":"TEXT(Y213,\"ddd\")","v":"zo"},"DD",{"$f":"IFERROR(HLOOKUP(Y213,[1]DATA!$A$1:$NB$5,3,0),\"\")","v":"-"},null,null,null,null,0,"","",""]
["10zoMD",{"$f":"VLOOKUP($AA214,DATA!$B$3:$E$6,2,0)","v":"14:30:00"},{"$f":"VLOOKUP($AA214,DATA!$B$3:$E$6,3,0)","v":"22:30:00"},{"$f":"VLOOKUP($AA214,DATA!$B$3:$E$6,4,0)","v":3.125E-2},0.30208333333333337,0.30208333333333337,{"$f":"DATA!$C$9","v":0.89},{"$f":"DATA!$C$10","v":64},1,407.81250000000006,407.81250000000006,0,"","",0,"","",0,"","","","",null,{"$f":"X205","v":10},null,{"$f":"TEXT(Y213,\"ddd\")","v":"zo"},"MD",{"$f":"IFERROR(HLOOKUP(Y213,[1]DATA!$A$1:$NB$5,4,0),\"\")","v":"-"},null,null,null,null,0,"","",""]
["10zoZND",{"$f":"VLOOKUP($AA215,DATA!$B$3:$E$6,2,0)","v":"00:00:00"},{"$f":"VLOOKUP($AA215,DATA!$B$3:$E$6,3,0)","v":"00:00:00"},{"$f":"VLOOKUP($AA215,DATA!$B$3:$E$6,4,0)","v":0},0,0,{"$f":"DATA!$C$9","v":0.89},{"$f":"DATA!$C$10","v":64},1,0,0,0,"","",0,"","",0,"","","","",null,{"$f":"X205","v":10},null,{"$f":"TEXT(Y213,\"ddd\")","v":"zo"},"ZND",{"$f":"IFERROR(HLOOKUP(Y213,[1]DATA!$A$1:$NB$5,5,0),\"\")","v":"D1"},null,null,null,null,0,"","",""]
["11maDD",{"$f":"VLOOKUP($AA216,DATA!$B$3:$E$6,2,0)","v":"06:30:00"},{"$f":"VLOOKUP($AA216,DATA!$B$3:$E$6,3,0)","v":"14:30:00"},{"$f":"VLOOKUP($AA216,DATA!$B$3:$E$6,4,0)","v":3.125E-2},0.30208333333333331,0.28472222222222221,{"$f":"DATA!$C$9","v":0.89},{"$f":"DATA!$C$10","v":64},1,384.375,407.8125,1.7361111111111112E-2,23.4375,5.7471264367816091E-2,{"$f":"TIME(INT($AD216/60),INT(MOD($AD216,60)/1),0)","v":0},"","",356.26666666666665,313,"","",313,null,{"$f":"X226","v":11},{"$f":"Y213+1","v":"2018-03-12"},{"$f":"TEXT(Y216,\"ddd\")","v":"ma"},"DD",{"$f":"IFERROR(HLOOKUP(Y216,[1]DATA!$A$1:$NB$5,3,0),\"\")","v":"D3"},25,null,21,334,0,-99.500000000000057,0.71799283154121862,1,4359.375,2933,0.67280286738351258,313.125,7.1827956989247307E-2,0,0,0.957040889983795,"",0.9271711569542731,0.98691062301331711,1113.25,0.2553691756272401,1187.4666666666667,161]
["11maMD",{"$f":"VLOOKUP($AA217,DATA!$B$3:$E$6,2,0)","v":"14:30:00"},{"$f":"VLOOKUP($AA217,DATA!$B$3:$E$6,3,0)","v":"22:30:00"},{"$f":"VLOOKUP($AA217,DATA!$B$3:$E$6,4,0)","v":3.125E-2},0.30208333333333337,0.30138888888888893,{"$f":"DATA!$C$9","v":0.89},{"$f":"DATA!$C$10","v":64},1,406.87500000000006,407.81250000000006,6.9444444444444447E-4,0.9375,2.2988505747126432E-3,{"$f":"TIME(INT(AD217/60),INT(MOD(AD217,60)/1),0)","v":0},"","",386.13333333333333,324,"",324,"",null,{"$f":"X226","v":11},null,{"$f":"TEXT(Y216,\"ddd\")","v":"ma"},"MD",{"$f":"IFERROR(HLOOKUP(Y216,[1]DATA!$A$1:$NB$5,4,0),\"\")","v":"D2"},1,null,38,362,53,-110.99999999999994,0.74322580645161296,0.87930772734173368]
["11maND",{"$f":"VLOOKUP($AA218,DATA!$B$3:$E$6,2,0)","v":"22:30:00"},{"$f":"VLOOKUP($AA218,DATA!$B$3:$E$6,3,0)","v":"06:30:00"},{"$f":"VLOOKUP($AA218,DATA!$B$3:$E$6,4,0)","v":3.125E-2},0.30208333333333326,0.30208333333333326,{"$f":"DATA!$C$9","v":0.89},{"$f":"DATA!$C$10","v":64},1,407.81249999999989,407.81249999999989,0,"","",0,"","",0,"","","","",null,{"$f":"X226","v":11},null,{"$f":"TEXT(Y216,\"ddd\")","v":"ma"},"ND",{"$f":"IFERROR(HLOOKUP(Y216,[1]DATA!$A$1:$NB$5,5,0),\"\")","v":"D1"},null,null,null,null,0,"","",""]
["11diDD",{"$f":"VLOOKUP($AA219,DATA!$B$3:$E$6,2,0)","v":"06:30:00"},{"$f":"VLOOKUP($AA219,DATA!$B$3:$E$6,3,0)","v":"14:30:00"},{"$f":"VLOOKUP($AA219,DATA!$B$3:$E$6,4,0)","v":3.125E-2},0.30208333333333331,0.25972222222222219,{"$f":"DATA!$C$9","v":0.89},{"$f":"DATA!$C$10","v":64},1,350.62499999999994,407.8125,4.2361111111111106E-2,57.187499999999993,0.14022988505747125,0,"","",296.5333333333333,266,"","",266,null,{"$f":"X226","v":11},{"$f":"Y216+1","v":"2018-03-13"},{"$f":"TEXT(Y219,\"ddd\")","v":"di"},"DD",{"$f":"IFERROR(HLOOKUP(Y219,[1]DATA!$A$1:$NB$5,3,0),\"\")","v":"D3"},61,null,12,278,12,-112.75,0.61017921146953402,0.96110630942091613]
["11diMD",{"$f":"VLOOKUP($AA220,DATA!$B$3:$E$6,2,0)","v":"14:30:00"},{"$f":"VLOOKUP($AA220,DATA!$B$3:$E$6,3,0)","v":"22:30:00"},{"$f":"VLOOKUP($AA220,DATA!$B$3:$E$6,4,0)","v":3.125E-2},{"$f":"(C220-B220+(B220>C220))-D220","v":0.30208333333333337},{"$f":"E220-O220-L220","v":0.28055555555555561},{"$f":"DATA!$C$9","v":0.89},{"$f":"DATA!$C$10","v":64},1,{"$f":"F220*86400/H220*I220","v":378.75000000000006},{"$f":"E220*86400/H220","v":407.81250000000006},2.1527777777777781E-2,29.062500000000004,7.1264367816091953E-2,0,"","",{"$f":"AF220*AG$2","v":394.66666666666669},{"$f":"IF(AF220-AE220=0,\"\",AF220-AE220)","v":328},"",328,"",null,{"$f":"X226","v":11},null,{"$f":"TEXT(Y219,\"ddd\")","v":"di"},"MD",{"$f":"IFERROR(HLOOKUP(Y219,[1]DATA!$A$1:$NB$5,4,0),\"\")","v":"D2"},31,null,42,370,24,-78.875,0.75240143369175638,0.9426751592356688]
["11diND",{"$f":"VLOOKUP($AA221,DATA!$B$3:$E$6,2,0)","v":"22:30:00"},{"$f":"VLOOKUP($AA221,DATA!$B$3:$E$6,3,0)","v":"06:30:00"},{"$f":"VLOOKUP($AA221,DATA!$B$3:$E$6,4,0)","v":3.125E-2},0.30208333333333326,0.30208333333333326,{"$f":"DATA!$C$9","v":0.89},{"$f":"DATA!$C$10","v":64},1,407.81249999999989,407.81249999999989,0,"","",0,"","",0,"","","","",null,{"$f":"X226","v":11},null,{"$f":"TEXT(Y219,\"ddd\")","v":"di"},"ND",{"$f":"IFERROR(HLOOKUP(Y219,[1]DATA!$A$1:$NB$5,5,0),\"\")","v":"D1"},null,null,null,null,0,"","",""]
["11woDD",{"$f":"VLOOKUP($AA222,DATA!$B$3:$E$6,2,0)","v":"06:30:00"},{"$f":"VLOOKUP($AA222,DATA!$B$3:$E$6,3,0)","v":"14:30:00"},{"$f":"VLOOKUP($AA222,DATA!$B$3:$E$6,4,0)","v":3.125E-2},0.30208333333333331,0.28749999999999998,{"$f":"DATA!$C$9","v":0.89},{"$f":"DATA!$C$10","v":64},1,388.12499999999994,407.8125,1.4583333333333332E-2,19.687499999999996,4.827586206896551E-2,0,"","",311.46666666666664,281,"","",281,null,{"$f":"X226","v":11},{"$f":"Y219+1","v":"2018-03-14"},{"$f":"TEXT(Y222,\"ddd\")","v":"wo"},"DD",{"$f":"IFERROR(HLOOKUP(Y222,[1]DATA!$A$1:$NB$5,3,0),\"\")","v":"D3"},21,null,11,292,3,-135.25,0.64458781362007167,0.9904600381598474]
["11woMD",{"$f":"VLOOKUP($AA223,DATA!$B$3:$E$6,2,0)","v":"14:30:00"},{"$f":"VLOOKUP($AA223,DATA!$B$3:$E$6,3,0)","v":"22:30:00"},{"$f":"VLOOKUP($AA223,DATA!$B$3:$E$6,4,0)","v":3.125E-2},0.30208333333333337,0.25833333333333336,{"$f":"DATA!$C$9","v":0.89},{"$f":"DATA!$C$10","v":64},1,348.75000000000006,407.81250000000006,4.3750000000000004E-2,59.062500000000007,0.14482758620689654,0,"","",389.33333333333331,332,"",332,"",null,{"$f":"X226","v":11},null,{"$f":"TEXT(Y222,\"ddd\")","v":"wo"},"MD",{"$f":"IFERROR(HLOOKUP(Y222,[1]DATA!$A$1:$NB$5,4,0),\"\")","v":"D2"},63,null,33,365,12,-44.874999999999943,0.7615770609318997,0.9700996677740864]
["11woND",{"$f":"VLOOKUP($AA224,DATA!$B$3:$E$6,2,0)","v":"22:30:00"},{"$f":"VLOOKUP($AA224,DATA!$B$3:$E$6,3,0)","v":"06:30:00"},{"$f":"VLOOKUP($AA224,DATA!$B$3:$E$6,4,0)","v":3.125E-2},0.30208333333333326,0.30208333333333326,{"$f":"DATA!$C$9","v":0.89},{"$f":"DATA!$C$10","v":64},1,407.81249999999989,407.81249999999989,0,"","",0,"","",0,"","","","",null,{"$f":"X226","v":11},null,{"$f":"TEXT(Y222,\"ddd\")","v":"wo"},"ND",{"$f":"IFERROR(HLOOKUP(Y222,[1]DATA!$A$1:$NB$5,5,0),\"\")","v":"D1"},null,null,null,null,0,"","",""]
["11doDD",{"$f":"VLOOKUP($AA225,DATA!$B$3:$E$6,2,0)","v":"06:30:00"},{"$f":"VLOOKUP($AA225,DATA!$B$3:$E$6,3,0)","v":"14:30:00"},{"$f":"VLOOKUP($AA225,DATA!$B$3:$E$6,4,0)","v":3.125E-2},0.30208333333333331,0.28888888888888886,{"$f":"DATA!$C$9","v":0.89},{"$f":"DATA!$C$10","v":64},1,389.99999999999994,407.8125,1.3194444444444444E-2,17.8125,4.3678160919540229E-2,0,"","",346.66666666666669,311,"","",311,null,{"$f":"X226","v":11},{"$f":"Y222+1","v":"2018-03-15"},{"$f":"TEXT(Y225,\"ddd\")","v":"do"},"DD",{"$f":"IFERROR(HLOOKUP(Y225,[1]DATA!$A$1:$NB$5,3,0),\"\")","v":"D3"},19,null,14,325,6,-107.125,0.71340501792114697,0.98298676748582225]
["11doMD",{"$f":"VLOOKUP($AA226,DATA!$B$3:$E$6,2,0)","v":"14:30:00"},{"$f":"VLOOKUP($AA226,DATA!$B$3:$E$6,3,0)","v":"22:30:00"},{"$f":"VLOOKUP($AA226,DATA!$B$3:$E$6,4,0)","v":3.125E-2},0.30208333333333337,0.25833333333333336,{"$f":"DATA!$C$9","v":0.89},{"$f":"DATA!$C$10","v":64},1,348.75000000000006,407.81250000000006,4.3750000000000004E-2,59.062500000000007,0.14482758620689654,0,"","",288,242,"",242,"",null,{"$f":"WEEKNUM($Y216)","v":11},null,{"$f":"TEXT(Y225,\"ddd\")","v":"do"},"MD",{"$f":"IFERROR(HLOOKUP(Y225,[1]DATA!$A$1:$NB$5,4,0),\"\")","v":"D2"},63,null,28,270,33,-134.87499999999994,0.55512544802867392,0.89719626168224298]
["11doND",{"$f":"VLOOKUP($AA227,DATA!$B$3:$E$6,2,0)","v":"22:30:00"},{"$f":"VLOOKUP($AA227,DATA!$B$3:$E$6,3,0)","v":"06:30:00"},{"$f":"VLOOKUP($AA227,DATA!$B$3:$E$6,4,0)","v":3.125E-2},0.30208333333333326,0.30208333333333326,{"$f":"DATA!$C$9","v":0.89},{"$f":"DATA!$C$10","v":64},1,407.81249999999989,407.81249999999989,0,"","",0,"","",0,"","","","",null,{"$f":"X226","v":11},null,{"$f":"TEXT(Y225,\"ddd\")","v":"do"},"ND",{"$f":"IFERROR(HLOOKUP(Y225,[1]DATA!$A$1:$NB$5,5,0),\"\")","v":"D1"},null,null,null,null,0,"","",""]
["11vrDD",{"$f":"VLOOKUP($AA228,DATA!$B$3:$E$6,2,0)","v":"06:30:00"},{"$f":"VLOOKUP($AA228,DATA!$B$3:$E$6,3,0)","v":"14:30:00"},{"$f":"VLOOKUP($AA228,DATA!$B$3:$E$6,4,0)","v":3.125E-2},0.30208333333333331,0.29305555555555551,{"$f":"DATA!$C$9","v":0.89},{"$f":"DATA!$C$10","v":64},1,395.62499999999994,407.8125,9.0277777777777787E-3,12.187500000000002,2.9885057471264371E-2,0,"","",275.2,251,"","",251,null,{"$f":"X226","v":11},{"$f":"Y225+1","v":"2018-03-16"},{"$f":"TEXT(Y228,\"ddd\")","v":"vr"},"DD",{"$f":"IFERROR(HLOOKUP(Y228,[1]DATA!$A$1:$NB$5,3,0),\"\")","v":"D3"},13,null,7,258,0,-172.75,0.57577060931899637,1]
["11vrMD",{"$f":"VLOOKUP($AA229,DATA!$B$3:$E$6,2,0)","v":"14:30:00"},{"$f":"VLOOKUP($AA229,DATA!$B$3:$E$6,3,0)","v":"22:30:00"},{"$f":"VLOOKUP($AA229,DATA!$B$3:$E$6,4,0)","v":3.125E-2},0.30208333333333337,0.27638888888888891,{"$f":"DATA!$C$9","v":0.89},{"$f":"DATA!$C$10","v":64},1,373.125,407.81250000000006,2.5694444444444447E-2,34.6875,8.5057471264367801E-2,0,"","",318.93333333333334,285,"",285,"",null,{"$f":"X226","v":11},null,{"$f":"TEXT(Y228,\"ddd\")","v":"vr"},"MD",{"$f":"IFERROR(HLOOKUP(Y228,[1]DATA!$A$1:$NB$5,4,0),\"\")","v":"D2"},37,null,14,299,18,-116.24999999999994,0.65376344086021509,0.94657696873763353]
["11vrND",{"$f":"VLOOKUP($AA230,DATA!$B$3:$E$6,2,0)","v":"22:30:00"},{"$f":"VLOOKUP($AA230,DATA!$B$3:$E$6,3,0)","v":"06:30:00"},{"$f":"VLOOKUP($AA230,DATA!$B$3:$E$6,4,0)","v":3.125E-2},0.30208333333333326,0.30208333333333326,{"$f":"DATA!$C$9","v":0.89},{"$f":"DATA!$C$10","v":64},1,407.81249999999989,407.81249999999989,0,"","",0,"","",0,"","","","",null,{"$f":"X226","v":11},null,{"$f":"TEXT(Y228,\"ddd\")","v":"vr"},"ND",{"$f":"IFERROR(HLOOKUP(Y228,[1]DATA!$A$1:$NB$5,5,0),\"\")","v":"-"},null,null,null,null,0,"","",""]
["11zaDD",{"$f":"VLOOKUP($AA231,DATA!$B$3:$E$6,2,0)","v":"06:30:00"},{"$f":"VLOOKUP($AA231,DATA!$B$3:$E$6,3,0)","v":"14:30:00"},{"$f":"VLOOKUP($AA231,DATA!$B$3:$E$6,4,0)","v":3.125E-2},0.30208333333333331,0.30208333333333331,{"$f":"DATA!$C$9","v":0.89},{"$f":"DATA!$C$10","v":64},1,407.8125,407.8125,0,"","",0,"","",0,"","","","",null,{"$f":"X226","v":11},{"$f":"Y228+1","v":"2018-03-17"},{"$f":"TEXT(Y231,\"ddd\")","v":"za"},"DD",{"$f":"IFERROR(HLOOKUP(Y231,[1]DATA!$A$1:$NB$5,3,0),\"\")","v":"-"},null,null,null,null,0,"","",""]
["11zaMD",{"$f":"VLOOKUP($AA232,DATA!$B$3:$E$6,2,0)","v":"14:30:00"},{"$f":"VLOOKUP($AA232,DATA!$B$3:$E$6,3,0)","v":"22:30:00"},{"$f":"VLOOKUP($AA232,DATA!$B$3:$E$6,4,0)","v":3.125E-2},0.30208333333333337,0.30208333333333337,{"$f":"DATA!$C$9","v":0.89},{"$f":"DATA!$C$10","v":64},1,407.81250000000006,407.81250000000006,0,"","",0,"","",0,"","","","",null,{"$f":"X226","v":11},null,{"$f":"TEXT(Y231,\"ddd\")","v":"za"},"MD",{"$f":"IFERROR(HLOOKUP(Y231,[1]DATA!$A$1:$NB$5,4,0),\"\")","v":"-"},null,null,null,null,0,"","",""]
["11zaND",{"$f":"VLOOKUP($AA233,DATA!$B$3:$E$6,2,0)","v":"22:30:00"},{"$f":"VLOOKUP($AA233,DATA!$B$3:$E$6,3,0)","v":"06:30:00"},{"$f":"VLOOKUP($AA233,DATA!$B$3:$E$6,4,0)","v":3.125E-2},0.30208333333333326,0.30208333333333326,{"$f":"DATA!$C$9","v":0.89},{"$f":"DATA!$C$10","v":64},1,407.81249999999989,407.81249999999989,0,"","",0,"","",0,"","","","",null,{"$f":"X226","v":11},null,{"$f":"TEXT(Y231,\"ddd\")","v":"za"},"ND",{"$f":"IFERROR(HLOOKUP(Y231,[1]DATA!$A$1:$NB$5,5,0),\"\")","v":"-"},null,null,null,null,0,"","",""]
["11zoDD",{"$f":"VLOOKUP($AA234,DATA!$B$3:$E$6,2,0)","v":"06:30:00"},{"$f":"VLOOKUP($AA234,DATA!$B$3:$E$6,3,0)","v":"14:30:00"},{"$f":"VLOOKUP($AA234,DATA!$B$3:$E$6,4,0)","v":3.125E-2},0.30208333333333331,0.30208333333333331,{"$f":"DATA!$C$9","v":0.89},{"$f":"DATA!$C$10","v":64},1,407.8125,407.8125,0,"","",0,"","",0,"","","","",null,{"$f":"X226","v":11},{"$f":"Y231+1","v":"2018-03-18"},{"$f":"TEXT(Y234,\"ddd\")","v":"zo"},"DD",{"$f":"IFERROR(HLOOKUP(Y234,[1]DATA!$A$1:$NB$5,3,0),\"\")","v":"-"},null,null,null,null,0,"","",""]
["11zoMD",{"$f":"VLOOKUP($AA235,DATA!$B$3:$E$6,2,0)","v":"14:30:00"},{"$f":"VLOOKUP($AA235,DATA!$B$3:$E$6,3,0)","v":"22:30:00"},{"$f":"VLOOKUP($AA235,DATA!$B$3:$E$6,4,0)","v":3.125E-2},0.30208333333333337,0.30208333333333337,{"$f":"DATA!$C$9","v":0.89},{"$f":"DATA!$C$10","v":64},1,407.81250000000006,407.81250000000006,0,"","",0,"","",0,"","","","",null,{"$f":"X226","v":11},null,{"$f":"TEXT(Y234,\"ddd\")","v":"zo"},"MD",{"$f":"IFERROR(HLOOKUP(Y234,[1]DATA!$A$1:$NB$5,4,0),\"\")","v":"-"},null,null,null,null,0,"","",""]
["11zoZND",{"$f":"VLOOKUP($AA236,DATA!$B$3:$E$6,2,0)","v":"00:00:00"},{"$f":"VLOOKUP($AA236,DATA!$B$3:$E$6,3,0)","v":"00:00:00"},{"$f":"VLOOKUP($AA236,DATA!$B$3:$E$6,4,0)","v":0},0,0,{"$f":"DATA!$C$9","v":0.89},{"$f":"DATA!$C$10","v":64},1,0,0,0,"","",0,"","",0,"","","","",null,{"$f":"X226","v":11},null,{"$f":"TEXT(Y234,\"ddd\")","v":"zo"},"ZND",{"$f":"IFERROR(HLOOKUP(Y234,[1]DATA!$A$1:$NB$5,5,0),\"\")","v":"D3"},null,null,null,null,0,"","",""]
["12maDD",{"$f":"VLOOKUP($AA237,DATA!$B$3:$E$6,2,0)","v":"06:30:00"},{"$f":"VLOOKUP($AA237,DATA!$B$3:$E$6,3,0)","v":"14:30:00"},{"$f":"VLOOKUP($AA237,DATA!$B$3:$E$6,4,0)","v":3.125E-2},0.30208333333333331,0.2895833333333333,{"$f":"DATA!$C$9","v":0.89},{"$f":"DATA!$C$10","v":64},1,390.93749999999994,407.8125,1.2499999999999999E-2,16.875,4.1379310344827586E-2,{"$f":"TIME(INT($AD237/60),INT(MOD($AD237,60)/1),0)","v":0},"","",249.6,226,"",226,"",null,{"$f":"X247","v":12},{"$f":"Y234+1","v":"2018-03-19"},{"$f":"TEXT(Y237,\"ddd\")","v":"ma"},"DD",{"$f":"IFERROR(HLOOKUP(Y237,[1]DATA!$A$1:$NB$5,3,0),\"\")","v":"D2"},18,null,8,234,47,-193.0625,0.51842293906810033,0.84153742414025612,4359.375,3099,0.71088172043010756,285.9375,6.5591397849462371E-2,0,0,0.92213044543969325,0.96621686148822961,0.87804402939115733,"",974.4375,0.22352688172043006,1039.4000000000001,309]
["12maMD",{"$f":"VLOOKUP($AA238,DATA!$B$3:$E$6,2,0)","v":"14:30:00"},{"$f":"VLOOKUP($AA238,DATA!$B$3:$E$6,3,0)","v":"22:30:00"},{"$f":"VLOOKUP($AA238,DATA!$B$3:$E$6,4,0)","v":3.125E-2},0.30208333333333337,0.28125000000000006,{"$f":"DATA!$C$9","v":0.89},{"$f":"DATA!$C$10","v":64},1,379.68750000000006,407.81250000000006,2.0833333333333332E-2,28.125,6.8965517241379296E-2,{"$f":"TIME(INT(AD238/60),INT(MOD(AD238,60)/1),0)","v":0},"","",305.06666666666666,263,263,"","",null,{"$f":"X247","v":12},null,{"$f":"TEXT(Y237,\"ddd\")","v":"ma"},"MD",{"$f":"IFERROR(HLOOKUP(Y237,[1]DATA!$A$1:$NB$5,4,0),\"\")","v":"D1"},30,null,23,286,5,-144.8125,0.60329749103942665,0.98387443560524623]
["12maND",{"$f":"VLOOKUP($AA239,DATA!$B$3:$E$6,2,0)","v":"22:30:00"},{"$f":"VLOOKUP($AA239,DATA!$B$3:$E$6,3,0)","v":"06:30:00"},{"$f":"VLOOKUP($AA239,DATA!$B$3:$E$6,4,0)","v":3.125E-2},0.30208333333333326,0.30208333333333326,{"$f":"DATA!$C$9","v":0.89},{"$f":"DATA!$C$10","v":64},1,407.81249999999989,407.81249999999989,0,"","",0,"","",0,"","","","",null,{"$f":"X247","v":12},null,{"$f":"TEXT(Y237,\"ddd\")","v":"ma"},"ND",{"$f":"IFERROR(HLOOKUP(Y237,[1]DATA!$A$1:$NB$5,5,0),\"\")","v":"D3"},null,null,null,null,0,"","",""]
[{"$f":"X240&Z240&AA240","v":"12diDD"},{"$f":"VLOOKUP($AA240,DATA!$B$3:$E$6,2,0)","v":"06:30:00"},{"$f":"VLOOKUP($AA240,DATA!$B$3:$E$6,3,0)","v":"14:30:00"},{"$f":"VLOOKUP($AA240,DATA!$B$3:$E$6,4,0)","v":3.125E-2},0.30208333333333331,0.24861111111111109,{"$f":"DATA!$C$9","v":0.89},{"$f":"DATA!$C$10","v":64},1,335.62499999999994,407.8125,5.347222222222222E-2,72.1875,0.17701149425287357,0,{"$f":"IF($O240*86400/$H240=0,\"\",$O240*86400/$H240)","v":""},"",349.86666666666667,305,"",305,"",null,{"$f":"X247","v":12},{"$f":"Y237+1","v":"2018-03-20"},{"$f":"TEXT(Y240,\"ddd\")","v":"di"},"DD",{"$f":"IFERROR(HLOOKUP(Y240,[1]DATA!$A$1:$NB$5,3,0),\"\")","v":"D2"},77,null,23,328,29,-58.750000000000057,0.69964157706093189,0.92345592116839692]
["12diMD",{"$f":"VLOOKUP($AA241,DATA!$B$3:$E$6,2,0)","v":"14:30:00"},{"$f":"VLOOKUP($AA241,DATA!$B$3:$E$6,3,0)","v":"22:30:00"},{"$f":"VLOOKUP($AA241,DATA!$B$3:$E$6,4,0)","v":3.125E-2},0.30208333333333337,0.25416666666666671,{"$f":"DATA!$C$9","v":0.89},{"$f":"DATA!$C$10","v":64},1,343.12500000000006,407.81250000000006,4.7916666666666663E-2,64.6875,0.1586206896551724,0,"","",345.6,303,303,"","",null,{"$f":"X247","v":12},null,{"$f":"TEXT(Y240,\"ddd\")","v":"di"},"MD",{"$f":"IFERROR(HLOOKUP(Y240,[1]DATA!$A$1:$NB$5,4,0),\"\")","v":"D1"},69,null,21,324,14,-68.249999999999943,0.69505376344086034,0.96106785317018906]
["12diND",{"$f":"VLOOKUP($AA242,DATA!$B$3:$E$6,2,0)","v":"22:30:00"},{"$f":"VLOOKUP($AA242,DATA!$B$3:$E$6,3,0)","v":"06:30:00"},{"$f":"VLOOKUP($AA242,DATA!$B$3:$E$6,4,0)","v":3.125E-2},0.30208333333333326,0.30208333333333326,{"$f":"DATA!$C$9","v":0.89},{"$f":"DATA!$C$10","v":64},1,407.81249999999989,407.81249999999989,0,"","",0,"","",0,"","","","",null,{"$f":"X247","v":12},null,{"$f":"TEXT(Y240,\"ddd\")","v":"di"},"ND",{"$f":"IFERROR(HLOOKUP(Y240,[1]DATA!$A$1:$NB$5,5,0),\"\")","v":"D3"},null,null,null,null,0,"","",""]
["12woDD",{"$f":"VLOOKUP($AA243,DATA!$B$3:$E$6,2,0)","v":"06:30:00"},{"$f":"VLOOKUP($AA243,DATA!$B$3:$E$6,3,0)","v":"14:30:00"},{"$f":"VLOOKUP($AA243,DATA!$B$3:$E$6,4,0)","v":3.125E-2},0.30208333333333331,0.2951388888888889,{"$f":"DATA!$C$9","v":0.89},{"$f":"DATA!$C$10","v":64},1,398.4375,407.8125,6.9444444444444441E-3,9.375,2.2988505747126436E-2,0,"","",372.26666666666665,324,"",324,"",null,{"$f":"X247","v":12},{"$f":"Y240+1","v":"2018-03-21"},{"$f":"TEXT(Y243,\"ddd\")","v":"wo"},"DD",{"$f":"IFERROR(HLOOKUP(Y243,[1]DATA!$A$1:$NB$5,3,0),\"\")","v":"D2"},10,null,25,349,34,-102.56250000000006,0.74322580645161296,0.91631112569740725]
["12woMD",{"$f":"VLOOKUP($AA244,DATA!$B$3:$E$6,2,0)","v":"14:30:00"},{"$f":"VLOOKUP($AA244,DATA!$B$3:$E$6,3,0)","v":"22:30:00"},{"$f":"VLOOKUP($AA244,DATA!$B$3:$E$6,4,0)","v":3.125E-2},0.30208333333333337,0.2819444444444445,{"$f":"DATA!$C$9","v":0.89},{"$f":"DATA!$C$10","v":64},1,380.62500000000006,407.81250000000006,2.013888888888889E-2,27.1875,6.6666666666666652E-2,0,"","",386.13333333333333,349,349,"","",null,{"$f":"X247","v":12},null,{"$f":"TEXT(Y243,\"ddd\")","v":"wo"},"MD",{"$f":"IFERROR(HLOOKUP(Y243,[1]DATA!$A$1:$NB$5,4,0),\"\")","v":"D1"},29,null,13,362,12,-59.75,0.80057347670250911,0.96985934360348292]
["12woND",{"$f":"VLOOKUP($AA245,DATA!$B$3:$E$6,2,0)","v":"22:30:00"},{"$f":"VLOOKUP($AA245,DATA!$B$3:$E$6,3,0)","v":"06:30:00"},{"$f":"VLOOKUP($AA245,DATA!$B$3:$E$6,4,0)","v":3.125E-2},0.30208333333333326,0.30208333333333326,{"$f":"DATA!$C$9","v":0.89},{"$f":"DATA!$C$10","v":64},1,407.81249999999989,407.81249999999989,0,"","",0,"","",0,"","","","",null,{"$f":"X247","v":12},null,{"$f":"TEXT(Y243,\"ddd\")","v":"wo"},"ND",{"$f":"IFERROR(HLOOKUP(Y243,[1]DATA!$A$1:$NB$5,5,0),\"\")","v":"D3"},null,null,null,null,0,"","",""]
["12doDD",{"$f":"VLOOKUP($AA246,DATA!$B$3:$E$6,2,0)","v":"06:30:00"},{"$f":"VLOOKUP($AA246,DATA!$B$3:$E$6,3,0)","v":"14:30:00"},{"$f":"VLOOKUP($AA246,DATA!$B$3:$E$6,4,0)","v":3.125E-2},0.30208333333333331,0.2986111111111111,{"$f":"DATA!$C$9","v":0.89},{"$f":"DATA!$C$10","v":64},1,403.125,407.8125,3.472222222222222E-3,4.6875,1.1494252873563218E-2,0,"","",418.13333333333333,353,"",353,"",null,{"$f":"X247","v":12},{"$f":"Y243+1","v":"2018-03-22"},{"$f":"TEXT(Y246,\"ddd\")","v":"do"},"DD",{"$f":"IFERROR(HLOOKUP(Y246,[1]DATA!$A$1:$NB$5,3,0),\"\")","v":"D2"},5,null,39,392,39,-78.250000000000057,0.80974910394265232,0.91468572261922121]
["12doMD",{"$f":"VLOOKUP($AA247,DATA!$B$3:$E$6,2,0)","v":"14:30:00"},{"$f":"VLOOKUP($AA247,DATA!$B$3:$E$6,3,0)","v":"22:30:00"},{"$f":"VLOOKUP($AA247,DATA!$B$3:$E$6,4,0)","v":3.125E-2},0.30208333333333337,0.27638888888888891,{"$f":"DATA!$C$9","v":0.89},{"$f":"DATA!$C$10","v":64},1,373.125,407.81250000000006,2.5694444444444447E-2,34.6875,8.5057471264367801E-2,0,"","",354.13333333333333,323,323,"","",null,{"$f":"WEEKNUM($Y237)","v":12},null,{"$f":"TEXT(Y246,\"ddd\")","v":"do"},"MD",{"$f":"IFERROR(HLOOKUP(Y246,[1]DATA!$A$1:$NB$5,4,0),\"\")","v":"D1"},37,null,9,332,15,-78.249999999999943,0.74093189964157713,0.95936427668412494]
["12doND",{"$f":"VLOOKUP($AA248,DATA!$B$3:$E$6,2,0)","v":"22:30:00"},{"$f":"VLOOKUP($AA248,DATA!$B$3:$E$6,3,0)","v":"06:30:00"},{"$f":"VLOOKUP($AA248,DATA!$B$3:$E$6,4,0)","v":3.125E-2},0.30208333333333326,0.30208333333333326,{"$f":"DATA!$C$9","v":0.89},{"$f":"DATA!$C$10","v":64},1,407.81249999999989,407.81249999999989,0,"","",0,"","",0,"","","","",null,{"$f":"X247","v":12},null,{"$f":"TEXT(Y246,\"ddd\")","v":"do"},"ND",{"$f":"IFERROR(HLOOKUP(Y246,[1]DATA!$A$1:$NB$5,5,0),\"\")","v":"D3"},null,null,null,null,0,"","",""]
["12vrDD",{"$f":"VLOOKUP($AA249,DATA!$B$3:$E$6,2,0)","v":"06:30:00"},{"$f":"VLOOKUP($AA249,DATA!$B$3:$E$6,3,0)","v":"14:30:00"},{"$f":"VLOOKUP($AA249,DATA!$B$3:$E$6,4,0)","v":3.125E-2},0.30208333333333331,0.2951388888888889,{"$f":"DATA!$C$9","v":0.89},{"$f":"DATA!$C$10","v":64},1,398.4375,407.8125,6.9444444444444441E-3,9.375,2.2988505747126436E-2,0,"","",374.4,316,"",316,"",null,{"$f":"X247","v":12},{"$f":"Y246+1","v":"2018-03-23"},{"$f":"TEXT(Y249,\"ddd\")","v":"vr"},"DD",{"$f":"IFERROR(HLOOKUP(Y249,[1]DATA!$A$1:$NB$5,3,0),\"\")","v":"D2"},10,null,35,351,97,-110.56250000000006,0.72487455197132622,0.79422995333050483]
["12vrMD",{"$f":"VLOOKUP($AA250,DATA!$B$3:$E$6,2,0)","v":"14:30:00"},{"$f":"VLOOKUP($AA250,DATA!$B$3:$E$6,3,0)","v":"22:30:00"},{"$f":"VLOOKUP($AA250,DATA!$B$3:$E$6,4,0)","v":3.125E-2},0.30208333333333337,0.28819444444444448,{"$f":"DATA!$C$9","v":0.89},{"$f":"DATA!$C$10","v":64},1,389.06250000000006,407.81250000000006,1.3888888888888888E-2,18.75,4.5977011494252866E-2,0,"","",377.6,337,337,"","",null,{"$f":"X247","v":12},null,{"$f":"TEXT(Y249,\"ddd\")","v":"vr"},"MD",{"$f":"IFERROR(HLOOKUP(Y249,[1]DATA!$A$1:$NB$5,4,0),\"\")","v":"D1"},20,null,17,354,17,-80.187499999999943,0.77304659498207895,0.95691839837810444]
["12vrND",{"$f":"VLOOKUP($AA251,DATA!$B$3:$E$6,2,0)","v":"22:30:00"},{"$f":"VLOOKUP($AA251,DATA!$B$3:$E$6,3,0)","v":"06:30:00"},{"$f":"VLOOKUP($AA251,DATA!$B$3:$E$6,4,0)","v":3.125E-2},0.30208333333333326,0.30208333333333326,{"$f":"DATA!$C$9","v":0.89},{"$f":"DATA!$C$10","v":64},1,407.81249999999989,407.81249999999989,0,"","",0,"","",0,"","","","",null,{"$f":"X247","v":12},null,{"$f":"TEXT(Y249,\"ddd\")","v":"vr"},"ND",{"$f":"IFERROR(HLOOKUP(Y249,[1]DATA!$A$1:$NB$5,5,0),\"\")","v":"-"},null,null,null,null,0,"","",""]
["12zaDD",{"$f":"VLOOKUP($AA252,DATA!$B$3:$E$6,2,0)","v":"06:30:00"},{"$f":"VLOOKUP($AA252,DATA!$B$3:$E$6,3,0)","v":"14:30:00"},{"$f":"VLOOKUP($AA252,DATA!$B$3:$E$6,4,0)","v":3.125E-2},0.30208333333333331,0.30208333333333331,{"$f":"DATA!$C$9","v":0.89},{"$f":"DATA!$C$10","v":64},1,407.8125,407.8125,0,"","",0,"","",0,"","","","",null,{"$f":"X247","v":12},{"$f":"Y249+1","v":"2018-03-24"},{"$f":"TEXT(Y252,\"ddd\")","v":"za"},"DD",{"$f":"IFERROR(HLOOKUP(Y252,[1]DATA!$A$1:$NB$5,3,0),\"\")","v":"-"},null,null,null,null,0,"","",""]
["12zaMD",{"$f":"VLOOKUP($AA253,DATA!$B$3:$E$6,2,0)","v":"14:30:00"},{"$f":"VLOOKUP($AA253,DATA!$B$3:$E$6,3,0)","v":"22:30:00"},{"$f":"VLOOKUP($AA253,DATA!$B$3:$E$6,4,0)","v":3.125E-2},0.30208333333333337,0.30208333333333337,{"$f":"DATA!$C$9","v":0.89},{"$f":"DATA!$C$10","v":64},1,407.81250000000006,407.81250000000006,0,"","",0,"","",0,"","","","",null,{"$f":"X247","v":12},null,{"$f":"TEXT(Y252,\"ddd\")","v":"za"},"MD",{"$f":"IFERROR(HLOOKUP(Y252,[1]DATA!$A$1:$NB$5,4,0),\"\")","v":"-"},null,null,null,null,0,"","",""]
["12zaND",{"$f":"VLOOKUP($AA254,DATA!$B$3:$E$6,2,0)","v":"22:30:00"},{"$f":"VLOOKUP($AA254,DATA!$B$3:$E$6,3,0)","v":"06:30:00"},{"$f":"VLOOKUP($AA254,DATA!$B$3:$E$6,4,0)","v":3.125E-2},0.30208333333333326,0.30208333333333326,{"$f":"DATA!$C$9","v":0.89},{"$f":"DATA!$C$10","v":64},1,407.81249999999989,407.81249999999989,0,"","",0,"","",0,"","","","",null,{"$f":"X247","v":12},null,{"$f":"TEXT(Y252,\"ddd\")","v":"za"},"ND",{"$f":"IFERROR(HLOOKUP(Y252,[1]DATA!$A$1:$NB$5,5,0),\"\")","v":"-"},null,null,null,null,0,"","",""]
["12zoDD",{"$f":"VLOOKUP($AA255,DATA!$B$3:$E$6,2,0)","v":"06:30:00"},{"$f":"VLOOKUP($AA255,DATA!$B$3:$E$6,3,0)","v":"14:30:00"},{"$f":"VLOOKUP($AA255,DATA!$B$3:$E$6,4,0)","v":3.125E-2},0.30208333333333331,0.30208333333333331,{"$f":"DATA!$C$9","v":0.89},{"$f":"DATA!$C$10","v":64},1,407.8125,407.8125,0,"","",0,"","",0,"","","","",null,{"$f":"X247","v":12},{"$f":"Y252+1","v":"2018-03-25"},{"$f":"TEXT(Y255,\"ddd\")","v":"zo"},"DD",{"$f":"IFERROR(HLOOKUP(Y255,[1]DATA!$A$1:$NB$5,3,0),\"\")","v":"-"},null,null,null,null,0,"","",""]
["12zoMD",{"$f":"VLOOKUP($AA256,DATA!$B$3:$E$6,2,0)","v":"14:30:00"},{"$f":"VLOOKUP($AA256,DATA!$B$3:$E$6,3,0)","v":"22:30:00"},{"$f":"VLOOKUP($AA256,DATA!$B$3:$E$6,4,0)","v":3.125E-2},0.30208333333333337,0.30208333333333337,{"$f":"DATA!$C$9","v":0.89},{"$f":"DATA!$C$10","v":64},1,407.81250000000006,407.81250000000006,0,"","",0,"","",0,"","","","",null,{"$f":"X247","v":12},null,{"$f":"TEXT(Y255,\"ddd\")","v":"zo"},"MD",{"$f":"IFERROR(HLOOKUP(Y255,[1]DATA!$A$1:$NB$5,4,0),\"\")","v":"-"},null,null,null,null,0,"","",""]
["12zoZND",{"$f":"VLOOKUP($AA257,DATA!$B$3:$E$6,2,0)","v":"00:00:00"},{"$f":"VLOOKUP($AA257,DATA!$B$3:$E$6,3,0)","v":"00:00:00"},{"$f":"VLOOKUP($AA257,DATA!$B$3:$E$6,4,0)","v":0},0,0,{"$f":"DATA!$C$9","v":0.89},{"$f":"DATA!$C$10","v":64},1,0,0,0,"","",0,"","",0,"","","","",null,{"$f":"X247","v":12},null,{"$f":"TEXT(Y255,\"ddd\")","v":"zo"},"ZND",{"$f":"IFERROR(HLOOKUP(Y255,[1]DATA!$A$1:$NB$5,5,0),\"\")","v":"D2"},null,null,null,null,0,"","",""]
["13maDD",{"$f":"VLOOKUP($AA258,DATA!$B$3:$E$6,2,0)","v":"06:30:00"},{"$f":"VLOOKUP($AA258,DATA!$B$3:$E$6,3,0)","v":"14:30:00"},{"$f":"VLOOKUP($AA258,DATA!$B$3:$E$6,4,0)","v":3.125E-2},0.30208333333333331,0.30208333333333331,{"$f":"DATA!$C$9","v":0.89},{"$f":"DATA!$C$10","v":64},1,407.8125,407.8125,0,"","",{"$f":"TIME(INT($AD258/60),INT(MOD($AD258,60)/1),0)","v":0},"","",345.6,324,324,"","",null,{"$f":"X268","v":13},{"$f":"Y255+1","v":"2018-03-26"},{"$f":"TEXT(Y258,\"ddd\")","v":"ma"},"DD",{"$f":"IFERROR(HLOOKUP(Y258,[1]DATA!$A$1:$NB$5,3,0),\"\")","v":"D1"},null,null,null,324,3,-111.9375,0.74322580645161296,0.99139414802065406,4359.375,3317,0.76088888888888884,"0",0,0,0,0.96629259824202351,0.96693052924315237,"",0.96565466724089455,1042.375,0.23911111111111116,1111.8666666666666,132]
["13maMD",{"$f":"VLOOKUP($AA259,DATA!$B$3:$E$6,2,0)","v":"14:30:00"},{"$f":"VLOOKUP($AA259,DATA!$B$3:$E$6,3,0)","v":"22:30:00"},{"$f":"VLOOKUP($AA259,DATA!$B$3:$E$6,4,0)","v":3.125E-2},0.30208333333333337,0.30208333333333337,{"$f":"DATA!$C$9","v":0.89},{"$f":"DATA!$C$10","v":64},1,407.81250000000006,407.81250000000006,0,"","",{"$f":"TIME(INT(AD259/60),INT(MOD(AD259,60)/1),0)","v":0},"","",316.8,297,"","",297,null,{"$f":"X268","v":13},null,{"$f":"TEXT(Y258,\"ddd\")","v":"ma"},"MD",{"$f":"IFERROR(HLOOKUP(Y258,[1]DATA!$A$1:$NB$5,4,0),\"\")","v":"D3"},null,null,null,297,11,-138.93749999999994,0.68129032258064526,0.96644295302013428]
["13maND",{"$f":"VLOOKUP($AA260,DATA!$B$3:$E$6,2,0)","v":"22:30:00"},{"$f":"VLOOKUP($AA260,DATA!$B$3:$E$6,3,0)","v":"06:30:00"},{"$f":"VLOOKUP($AA260,DATA!$B$3:$E$6,4,0)","v":3.125E-2},0.30208333333333326,0.30208333333333326,{"$f":"DATA!$C$9","v":0.89},{"$f":"DATA!$C$10","v":64},1,407.81249999999989,407.81249999999989,0,"","",0,"","",0,"","","","",null,{"$f":"X268","v":13},null,{"$f":"TEXT(Y258,\"ddd\")","v":"ma"},"ND",{"$f":"IFERROR(HLOOKUP(Y258,[1]DATA!$A$1:$NB$5,5,0),\"\")","v":"D2"},null,null,null,null,0,"","",""]
["13diDD",{"$f":"VLOOKUP($AA261,DATA!$B$3:$E$6,2,0)","v":"06:30:00"},{"$f":"VLOOKUP($AA261,DATA!$B$3:$E$6,3,0)","v":"14:30:00"},{"$f":"VLOOKUP($AA261,DATA!$B$3:$E$6,4,0)","v":3.125E-2},0.30208333333333331,0.30208333333333331,{"$f":"DATA!$C$9","v":0.89},{"$f":"DATA!$C$10","v":64},1,407.8125,407.8125,0,"","",0,"","",334.93333333333334,314,314,"","",null,{"$f":"X268","v":13},{"$f":"Y258+1","v":"2018-03-27"},{"$f":"TEXT(Y261,\"ddd\")","v":"di"},"DD",{"$f":"IFERROR(HLOOKUP(Y261,[1]DATA!$A$1:$NB$5,3,0),\"\")","v":"D1"},null,null,null,314,0,-121.9375,0.72028673835125445,1]
["13diMD",{"$f":"VLOOKUP($AA262,DATA!$B$3:$E$6,2,0)","v":"14:30:00"},{"$f":"VLOOKUP($AA262,DATA!$B$3:$E$6,3,0)","v":"22:30:00"},{"$f":"VLOOKUP($AA262,DATA!$B$3:$E$6,4,0)","v":3.125E-2},0.30208333333333337,0.30208333333333337,{"$f":"DATA!$C$9","v":0.89},{"$f":"DATA!$C$10","v":64},1,407.81250000000006,407.81250000000006,0,"","",0,"","",382.93333333333334,359,"","",359,null,{"$f":"X268","v":13},null,{"$f":"TEXT(Y261,\"ddd\")","v":"di"},"MD",{"$f":"IFERROR(HLOOKUP(Y261,[1]DATA!$A$1:$NB$5,4,0),\"\")","v":"D3"},null,null,null,359,13,-76.937499999999943,0.82351254480286751,0.96716618959420775]
["13diND",{"$f":"VLOOKUP($AA263,DATA!$B$3:$E$6,2,0)","v":"22:30:00"},{"$f":"VLOOKUP($AA263,DATA!$B$3:$E$6,3,0)","v":"06:30:00"},{"$f":"VLOOKUP($AA263,DATA!$B$3:$E$6,4,0)","v":3.125E-2},0.30208333333333326,0.30208333333333326,{"$f":"DATA!$C$9","v":0.89},{"$f":"DATA!$C$10","v":64},1,407.81249999999989,407.81249999999989,{"$f":"TIME(INT($AC263/60),INT(MOD($AC263,60)/1),0)","v":0},{"$f":"IF($L263*86400/$H263=0,\"\",$L263*86400/$H263)","v":""},{"$f":"IFERROR($M263/$K263,\"\")","v":""},0,"",{"$f":"IFERROR($P263/$K263,\"\")","v":""},0,"",{"$f":"IF(IF($AB263=\"D1\",$S263,\"\")=0,\"\",IF($AB263=\"D1\",$S263,\"\"))","v":""},{"$f":"IF(IF($AB263=\"D2\",$S263,\"\")=0,\"\",IF($AB263=\"D2\",$S263,\"\"))","v":""},{"$f":"IF(IF($AB263=\"D3\",$S263,\"\")=0,\"\",IF($AB263=\"D3\",$S263,\"\"))","v":""},null,{"$f":"X268","v":13},null,{"$f":"TEXT(Y261,\"ddd\")","v":"di"},"ND",{"$f":"IFERROR(HLOOKUP(Y261,[1]DATA!$A$1:$NB$5,5,0),\"\")","v":"D2"},null,null,null,null,0,"","",""]
["13woDD",{"$f":"VLOOKUP($AA264,DATA!$B$3:$E$6,2,0)","v":"06:30:00"},{"$f":"VLOOKUP($AA264,DATA!$B$3:$E$6,3,0)","v":"14:30:00"},{"$f":"VLOOKUP($AA264,DATA!$B$3:$E$6,4,0)","v":3.125E-2},0.30208333333333331,0.30208333333333331,{"$f":"DATA!$C$9","v":0.89},{"$f":"DATA!$C$10","v":64},1,407.8125,407.8125,0,"","",0,"","",339.2,318,318,"","",null,{"$f":"X268","v":13},{"$f":"Y261+1","v":"2018-03-28"},{"$f":"TEXT(Y264,\"ddd\")","v":"wo"},"DD",{"$f":"IFERROR(HLOOKUP(Y264,[1]DATA!$A$1:$NB$5,3,0),\"\")","v":"D1"},null,null,null,318,9,-117.9375,0.72946236559139788,0.97415278575531306]
["13woMD",{"$f":"VLOOKUP($AA265,DATA!$B$3:$E$6,2,0)","v":"14:30:00"},{"$f":"VLOOKUP($AA265,DATA!$B$3:$E$6,3,0)","v":"22:30:00"},{"$f":"VLOOKUP($AA265,DATA!$B$3:$E$6,4,0)","v":3.125E-2},0.30208333333333337,0.30208333333333337,{"$f":"DATA!$C$9","v":0.89},{"$f":"DATA!$C$10","v":64},1,407.81250000000006,407.81250000000006,0,"","",0,"","",314.66666666666669,295,"","",295,null,{"$f":"X268","v":13},null,{"$f":"TEXT(Y264,\"ddd\")","v":"wo"},"MD",{"$f":"IFERROR(HLOOKUP(Y264,[1]DATA!$A$1:$NB$5,4,0),\"\")","v":"D3"},null,null,null,295,4,-140.93749999999994,0.6767025089605736,0.9874476987447699]
["13woND",{"$f":"VLOOKUP($AA266,DATA!$B$3:$E$6,2,0)","v":"22:30:00"},{"$f":"VLOOKUP($AA266,DATA!$B$3:$E$6,3,0)","v":"06:30:00"},{"$f":"VLOOKUP($AA266,DATA!$B$3:$E$6,4,0)","v":3.125E-2},0.30208333333333326,0.30208333333333326,{"$f":"DATA!$C$9","v":0.89},{"$f":"DATA!$C$10","v":64},1,407.81249999999989,407.81249999999989,0,"","",0,"","",0,"","","","",null,{"$f":"X268","v":13},null,{"$f":"TEXT(Y264,\"ddd\")","v":"wo"},"ND",{"$f":"IFERROR(HLOOKUP(Y264,[1]DATA!$A$1:$NB$5,5,0),\"\")","v":"D2"},null,null,null,null,0,"","",""]
["13doDD",{"$f":"VLOOKUP($AA267,DATA!$B$3:$E$6,2,0)","v":"06:30:00"},{"$f":"VLOOKUP($AA267,DATA!$B$3:$E$6,3,0)","v":"14:30:00"},{"$f":"VLOOKUP($AA267,DATA!$B$3:$E$6,4,0)","v":3.125E-2},0.30208333333333331,0.30208333333333331,{"$f":"DATA!$C$9","v":0.89},{"$f":"DATA!$C$10","v":64},1,407.8125,407.8125,0,"","",0,"","",404.26666666666665,379,379,"","",null,{"$f":"X268","v":13},{"$f":"Y264+1","v":"2018-03-29"},{"$f":"TEXT(Y267,\"ddd\")","v":"do"},"DD",{"$f":"IFERROR(HLOOKUP(Y267,[1]DATA!$A$1:$NB$5,3,0),\"\")","v":"D1"},null,null,null,379,26,-56.9375,0.86939068100358419,0.93957235822745588]
["13doMD",{"$f":"VLOOKUP($AA268,DATA!$B$3:$E$6,2,0)","v":"14:30:00"},{"$f":"VLOOKUP($AA268,DATA!$B$3:$E$6,3,0)","v":"22:30:00"},{"$f":"VLOOKUP($AA268,DATA!$B$3:$E$6,4,0)","v":3.125E-2},0.30208333333333337,0.30208333333333337,{"$f":"DATA!$C$9","v":0.89},{"$f":"DATA!$C$10","v":64},1,407.81250000000006,407.81250000000006,0,"","",0,"","",352,330,"","",330,null,{"$f":"WEEKNUM($Y258)","v":13},null,{"$f":"TEXT(Y267,\"ddd\")","v":"do"},"MD",{"$f":"IFERROR(HLOOKUP(Y267,[1]DATA!$A$1:$NB$5,4,0),\"\")","v":"D3"},null,null,null,330,36,-105.93749999999994,0.75698924731182804,0.90721649484536082]
["13doND",{"$f":"VLOOKUP($AA269,DATA!$B$3:$E$6,2,0)","v":"22:30:00"},{"$f":"VLOOKUP($AA269,DATA!$B$3:$E$6,3,0)","v":"06:30:00"},{"$f":"VLOOKUP($AA269,DATA!$B$3:$E$6,4,0)","v":3.125E-2},0.30208333333333326,0.30208333333333326,{"$f":"DATA!$C$9","v":0.89},{"$f":"DATA!$C$10","v":64},1,407.81249999999989,407.81249999999989,0,"","",0,"","",0,"","","","",null,{"$f":"X268","v":13},null,{"$f":"TEXT(Y267,\"ddd\")","v":"do"},"ND",{"$f":"IFERROR(HLOOKUP(Y267,[1]DATA!$A$1:$NB$5,5,0),\"\")","v":"D2"},null,null,null,null,0,"","",""]
["13vrDD",{"$f":"VLOOKUP($AA270,DATA!$B$3:$E$6,2,0)","v":"06:30:00"},{"$f":"VLOOKUP($AA270,DATA!$B$3:$E$6,3,0)","v":"14:30:00"},{"$f":"VLOOKUP($AA270,DATA!$B$3:$E$6,4,0)","v":3.125E-2},0.30208333333333331,0.30208333333333331,{"$f":"DATA!$C$9","v":0.89},{"$f":"DATA!$C$10","v":64},1,407.8125,407.8125,0,"","",0,"","",395.73333333333335,371,371,"","",null,{"$f":"X268","v":13},{"$f":"Y267+1","v":"2018-03-30"},{"$f":"TEXT(Y270,\"ddd\")","v":"vr"},"DD",{"$f":"IFERROR(HLOOKUP(Y270,[1]DATA!$A$1:$NB$5,3,0),\"\")","v":"D1"},null,null,null,371,30,-64.9375,0.85103942652329745,0.92953335421233951]
["13vrMD",{"$f":"VLOOKUP($AA271,DATA!$B$3:$E$6,2,0)","v":"14:30:00"},{"$f":"VLOOKUP($AA271,DATA!$B$3:$E$6,3,0)","v":"22:30:00"},{"$f":"VLOOKUP($AA271,DATA!$B$3:$E$6,4,0)","v":3.125E-2},0.30208333333333337,0.30208333333333337,{"$f":"DATA!$C$9","v":0.89},{"$f":"DATA!$C$10","v":64},1,407.81250000000006,407.81250000000006,0,"","",0,"","",352,330,"","",330,null,{"$f":"X268","v":13},null,{"$f":"TEXT(Y270,\"ddd\")","v":"vr"},"MD",{"$f":"IFERROR(HLOOKUP(Y270,[1]DATA!$A$1:$NB$5,4,0),\"\")","v":"D3"},null,null,null,330,0,-105.93749999999994,0.75698924731182804,1]
["13vrND",{"$f":"VLOOKUP($AA272,DATA!$B$3:$E$6,2,0)","v":"22:30:00"},{"$f":"VLOOKUP($AA272,DATA!$B$3:$E$6,3,0)","v":"06:30:00"},{"$f":"VLOOKUP($AA272,DATA!$B$3:$E$6,4,0)","v":3.125E-2},0.30208333333333326,0.30208333333333326,{"$f":"DATA!$C$9","v":0.89},{"$f":"DATA!$C$10","v":64},1,407.81249999999989,407.81249999999989,0,"","",0,"","",0,"","","","",null,{"$f":"X268","v":13},null,{"$f":"TEXT(Y270,\"ddd\")","v":"vr"},"ND",{"$f":"IFERROR(HLOOKUP(Y270,[1]DATA!$A$1:$NB$5,5,0),\"\")","v":"-"},null,null,null,null,0,"","",""]
["13zaDD",{"$f":"VLOOKUP($AA273,DATA!$B$3:$E$6,2,0)","v":"06:30:00"},{"$f":"VLOOKUP($AA273,DATA!$B$3:$E$6,3,0)","v":"14:30:00"},{"$f":"VLOOKUP($AA273,DATA!$B$3:$E$6,4,0)","v":3.125E-2},0.30208333333333331,0.30208333333333331,{"$f":"DATA!$C$9","v":0.89},{"$f":"DATA!$C$10","v":64},1,407.8125,407.8125,0,"","",0,"","",0,"","","","",null,{"$f":"X268","v":13},{"$f":"Y270+1","v":"2018-03-31"},{"$f":"TEXT(Y273,\"ddd\")","v":"za"},"DD",{"$f":"IFERROR(HLOOKUP(Y273,[1]DATA!$A$1:$NB$5,3,0),\"\")","v":"-"},null,null,null,null,0,"","",""]
["13zaMD",{"$f":"VLOOKUP($AA274,DATA!$B$3:$E$6,2,0)","v":"14:30:00"},{"$f":"VLOOKUP($AA274,DATA!$B$3:$E$6,3,0)","v":"22:30:00"},{"$f":"VLOOKUP($AA274,DATA!$B$3:$E$6,4,0)","v":3.125E-2},0.30208333333333337,0.30208333333333337,{"$f":"DATA!$C$9","v":0.89},{"$f":"DATA!$C$10","v":64},1,407.81250000000006,407.81250000000006,0,"","",0,"","",0,"","","","",null,{"$f":"X268","v":13},null,{"$f":"TEXT(Y273,\"ddd\")","v":"za"},"MD",{"$f":"IFERROR(HLOOKUP(Y273,[1]DATA!$A$1:$NB$5,4,0),\"\")","v":"-"},null,null,null,null,0,"","",""]
["13zaND",{"$f":"VLOOKUP($AA275,DATA!$B$3:$E$6,2,0)","v":"22:30:00"},{"$f":"VLOOKUP($AA275,DATA!$B$3:$E$6,3,0)","v":"06:30:00"},{"$f":"VLOOKUP($AA275,DATA!$B$3:$E$6,4,0)","v":3.125E-2},0.30208333333333326,0.30208333333333326,{"$f":"DATA!$C$9","v":0.89},{"$f":"DATA!$C$10","v":64},1,407.81249999999989,407.81249999999989,0,"","",0,"","",0,"","","","",null,{"$f":"X268","v":13},null,{"$f":"TEXT(Y273,\"ddd\")","v":"za"},"ND",{"$f":"IFERROR(HLOOKUP(Y273,[1]DATA!$A$1:$NB$5,5,0),\"\")","v":"-"},null,null,null,null,0,"","",""]
["13zoDD",{"$f":"VLOOKUP($AA276,DATA!$B$3:$E$6,2,0)","v":"06:30:00"},{"$f":"VLOOKUP($AA276,DATA!$B$3:$E$6,3,0)","v":"14:30:00"},{"$f":"VLOOKUP($AA276,DATA!$B$3:$E$6,4,0)","v":3.125E-2},0.30208333333333331,0.30208333333333331,{"$f":"DATA!$C$9","v":0.89},{"$f":"DATA!$C$10","v":64},1,407.8125,407.8125,0,"","",0,"","",0,"","","","",null,{"$f":"X268","v":13},{"$f":"Y273+1","v":"2018-04-01"},{"$f":"TEXT(Y276,\"ddd\")","v":"zo"},"DD",{"$f":"IFERROR(HLOOKUP(Y276,[1]DATA!$A$1:$NB$5,3,0),\"\")","v":"-"},null,null,null,null,0,"","",""]
["13zoMD",{"$f":"VLOOKUP($AA277,DATA!$B$3:$E$6,2,0)","v":"14:30:00"},{"$f":"VLOOKUP($AA277,DATA!$B$3:$E$6,3,0)","v":"22:30:00"},{"$f":"VLOOKUP($AA277,DATA!$B$3:$E$6,4,0)","v":3.125E-2},0.30208333333333337,0.30208333333333337,{"$f":"DATA!$C$9","v":0.89},{"$f":"DATA!$C$10","v":64},1,407.81250000000006,407.81250000000006,0,"","",0,"","",0,"","","","",null,{"$f":"X268","v":13},null,{"$f":"TEXT(Y276,\"ddd\")","v":"zo"},"MD",{"$f":"IFERROR(HLOOKUP(Y276,[1]DATA!$A$1:$NB$5,4,0),\"\")","v":"-"},null,null,null,null,0,"","",""]
["13zoZND",{"$f":"VLOOKUP($AA278,DATA!$B$3:$E$6,2,0)","v":"00:00:00"},{"$f":"VLOOKUP($AA278,DATA!$B$3:$E$6,3,0)","v":"00:00:00"},{"$f":"VLOOKUP($AA278,DATA!$B$3:$E$6,4,0)","v":0},0,0,{"$f":"DATA!$C$9","v":0.89},{"$f":"DATA!$C$10","v":64},1,0,0,0,"","",0,"","",0,"","","","",null,{"$f":"X268","v":13},null,{"$f":"TEXT(Y276,\"ddd\")","v":"zo"},"ZND",{"$f":"IFERROR(HLOOKUP(Y276,[1]DATA!$A$1:$NB$5,5,0),\"\")","v":"-"},null,null,null,null,0,"","",""]
["14maDD",{"$f":"VLOOKUP($AA279,DATA!$B$3:$E$6,2,0)","v":"06:30:00"},{"$f":"VLOOKUP($AA279,DATA!$B$3:$E$6,3,0)","v":"14:30:00"},{"$f":"VLOOKUP($AA279,DATA!$B$3:$E$6,4,0)","v":3.125E-2},0.30208333333333331,0.30208333333333331,{"$f":"DATA!$C$9","v":0.89},{"$f":"DATA!$C$10","v":64},1,407.8125,407.8125,0,"","",{"$f":"TIME(INT($AD279/60),INT(MOD($AD279,60)/1),0)","v":0},"","",0,"","","","",null,{"$f":"X289","v":14},{"$f":"Y276+1","v":"2018-04-02"},{"$f":"TEXT(Y279,\"ddd\")","v":"ma"},"DD",{"$f":"IFERROR(HLOOKUP(Y279,[1]DATA!$A$1:$NB$5,3,0),\"\")","v":"D3"},null,null,null,0,0,"","","",3487.5,2478,0.71053763440860218,118.125,3.3870967741935487E-2,0,0,0.94217610970579879,"",0.93105470244608424,0.95329751696551346,891.375,0.25559139784946233,950.8,177]
["14maMD",{"$f":"VLOOKUP($AA280,DATA!$B$3:$E$6,2,0)","v":"14:30:00"},{"$f":"VLOOKUP($AA280,DATA!$B$3:$E$6,3,0)","v":"22:30:00"},{"$f":"VLOOKUP($AA280,DATA!$B$3:$E$6,4,0)","v":3.125E-2},0.30208333333333337,0.30208333333333337,{"$f":"DATA!$C$9","v":0.89},{"$f":"DATA!$C$10","v":64},1,407.81250000000006,407.81250000000006,0,"","",{"$f":"TIME(INT(AD280/60),INT(MOD(AD280,60)/1),0)","v":0},"","",0,"","","","",null,{"$f":"X289","v":14},null,{"$f":"TEXT(Y279,\"ddd\")","v":"ma"},"MD",{"$f":"IFERROR(HLOOKUP(Y279,[1]DATA!$A$1:$NB$5,4,0),\"\")","v":"D2"},null,null,null,0,0,"","",""]
["14maND",{"$f":"VLOOKUP($AA281,DATA!$B$3:$E$6,2,0)","v":"22:30:00"},{"$f":"VLOOKUP($AA281,DATA!$B$3:$E$6,3,0)","v":"06:30:00"},{"$f":"VLOOKUP($AA281,DATA!$B$3:$E$6,4,0)","v":3.125E-2},0.30208333333333326,0.30208333333333326,{"$f":"DATA!$C$9","v":0.89},{"$f":"DATA!$C$10","v":64},1,407.81249999999989,407.81249999999989,0,"","",0,"","",0,"","","","",null,{"$f":"X289","v":14},null,{"$f":"TEXT(Y279,\"ddd\")","v":"ma"},"ND",{"$f":"IFERROR(HLOOKUP(Y279,[1]DATA!$A$1:$NB$5,5,0),\"\")","v":"D1"},null,null,null,null,0,"","",""]
["14diDD",{"$f":"VLOOKUP($AA282,DATA!$B$3:$E$6,2,0)","v":"06:30:00"},{"$f":"VLOOKUP($AA282,DATA!$B$3:$E$6,3,0)","v":"14:30:00"},{"$f":"VLOOKUP($AA282,DATA!$B$3:$E$6,4,0)","v":3.125E-2},0.30208333333333331,0.29930555555555555,{"$f":"DATA!$C$9","v":0.89},{"$f":"DATA!$C$10","v":64},1,404.0625,407.8125,2.7777777777777779E-3,3.75,9.1954022988505746E-3,0,"","",295.46666666666664,267,"","",267,null,{"$f":"X289","v":14},{"$f":"Y279+1","v":"2018-04-03"},{"$f":"TEXT(Y282,\"ddd\")","v":"di"},"DD",{"$f":"IFERROR(HLOOKUP(Y282,[1]DATA!$A$1:$NB$5,3,0),\"\")","v":"D3"},4,null,10,277,12,-165.18750000000006,0.61247311827956985,0.96097137901127494]
["14diMD",{"$f":"VLOOKUP($AA283,DATA!$B$3:$E$6,2,0)","v":"14:30:00"},{"$f":"VLOOKUP($AA283,DATA!$B$3:$E$6,3,0)","v":"22:30:00"},{"$f":"VLOOKUP($AA283,DATA!$B$3:$E$6,4,0)","v":3.125E-2},0.30208333333333337,0.29305555555555557,{"$f":"DATA!$C$9","v":0.89},{"$f":"DATA!$C$10","v":64},1,395.625,407.81250000000006,9.0277777777777787E-3,12.187500000000002,2.9885057471264367E-2,0,"","",310.39999999999998,274,"",274,"",null,{"$f":"X289","v":14},null,{"$f":"TEXT(Y282,\"ddd\")","v":"di"},"MD",{"$f":"IFERROR(HLOOKUP(Y282,[1]DATA!$A$1:$NB$5,4,0),\"\")","v":"D2"},13,null,17,291,17,-149.74999999999994,0.62853046594982087,0.94807574832009778]
["14diND",{"$f":"VLOOKUP($AA284,DATA!$B$3:$E$6,2,0)","v":"22:30:00"},{"$f":"VLOOKUP($AA284,DATA!$B$3:$E$6,3,0)","v":"06:30:00"},{"$f":"VLOOKUP($AA284,DATA!$B$3:$E$6,4,0)","v":3.125E-2},{"$f":"(C284-B284+(B284>C284))-D284","v":0.30208333333333326},{"$f":"E284-O284-L284","v":0.30208333333333326},{"$f":"DATA!$C$9","v":0.89},{"$f":"DATA!$C$10","v":64},1,{"$f":"F284*86400/H284*I284","v":407.81249999999989},{"$f":"E284*86400/H284","v":407.81249999999989},0,"","",0,"","",{"$f":"AF284*AG$2","v":0},{"$f":"IF(AF284-AE284=0,\"\",AF284-AE284)","v":""},"","","",null,{"$f":"X289","v":14},null,{"$f":"TEXT(Y282,\"ddd\")","v":"di"},"ND",{"$f":"IFERROR(HLOOKUP(Y282,[1]DATA!$A$1:$NB$5,5,0),\"\")","v":"D1"},null,null,null,null,0,"","",""]
["14woDD",{"$f":"VLOOKUP($AA285,DATA!$B$3:$E$6,2,0)","v":"06:30:00"},{"$f":"VLOOKUP($AA285,DATA!$B$3:$E$6,3,0)","v":"14:30:00"},{"$f":"VLOOKUP($AA285,DATA!$B$3:$E$6,4,0)","v":3.125E-2},0.30208333333333331,0.28125,{"$f":"DATA!$C$9","v":0.89},{"$f":"DATA!$C$10","v":64},1,379.6875,407.8125,2.0833333333333332E-2,28.125,6.8965517241379309E-2,0,"","",396.8,340,"","",340,null,{"$f":"X289","v":14},{"$f":"Y282+1","v":"2018-04-04"},{"$f":"TEXT(Y285,\"ddd\")","v":"wo"},"DD",{"$f":"IFERROR(HLOOKUP(Y285,[1]DATA!$A$1:$NB$5,3,0),\"\")","v":"D3"},30,null,32,372,24,-67.812500000000057,0.77992831541218643,0.94296577946768056]
["14woMD",{"$f":"VLOOKUP($AA286,DATA!$B$3:$E$6,2,0)","v":"14:30:00"},{"$f":"VLOOKUP($AA286,DATA!$B$3:$E$6,3,0)","v":"22:30:00"},{"$f":"VLOOKUP($AA286,DATA!$B$3:$E$6,4,0)","v":3.125E-2},0.30208333333333337,0.29305555555555557,{"$f":"DATA!$C$9","v":0.89},{"$f":"DATA!$C$10","v":64},1,395.625,407.81250000000006,9.0277777777777787E-3,12.187500000000002,2.9885057471264367E-2,0,"","",372.26666666666665,325,"",325,"",null,{"$f":"X289","v":14},null,{"$f":"TEXT(Y285,\"ddd\")","v":"wo"},"MD",{"$f":"IFERROR(HLOOKUP(Y285,[1]DATA!$A$1:$NB$5,4,0),\"\")","v":"D2"},13,null,24,349,39,-98.749999999999943,0.7455197132616489,0.90517101637218345]
["14woND",{"$f":"VLOOKUP($AA287,DATA!$B$3:$E$6,2,0)","v":"22:30:00"},{"$f":"VLOOKUP($AA287,DATA!$B$3:$E$6,3,0)","v":"06:30:00"},{"$f":"VLOOKUP($AA287,DATA!$B$3:$E$6,4,0)","v":3.125E-2},0.30208333333333326,0.30208333333333326,{"$f":"DATA!$C$9","v":0.89},{"$f":"DATA!$C$10","v":64},1,407.81249999999989,407.81249999999989,0,"","",0,"","",0,"","","","",null,{"$f":"X289","v":14},null,{"$f":"TEXT(Y285,\"ddd\")","v":"wo"},"ND",{"$f":"IFERROR(HLOOKUP(Y285,[1]DATA!$A$1:$NB$5,5,0),\"\")","v":"D1"},null,null,null,null,0,"","",""]
["14doDD",{"$f":"VLOOKUP($AA288,DATA!$B$3:$E$6,2,0)","v":"06:30:00"},{"$f":"VLOOKUP($AA288,DATA!$B$3:$E$6,3,0)","v":"14:30:00"},{"$f":"VLOOKUP($AA288,DATA!$B$3:$E$6,4,0)","v":3.125E-2},0.30208333333333331,0.28402777777777777,{"$f":"DATA!$C$9","v":0.89},{"$f":"DATA!$C$10","v":64},1,383.4375,407.8125,1.8055555555555557E-2,24.375000000000004,5.9770114942528742E-2,0,"","",359.46666666666664,320,"","",320,null,{"$f":"X289","v":14},{"$f":"Y285+1","v":"2018-04-05"},{"$f":"TEXT(Y288,\"ddd\")","v":"do"},"DD",{"$f":"IFERROR(HLOOKUP(Y288,[1]DATA!$A$1:$NB$5,3,0),\"\")","v":"D3"},26,null,17,337,30,-91.562500000000057,0.73405017921146953,0.92297158507360488]
["14doMD",{"$f":"VLOOKUP($AA289,DATA!$B$3:$E$6,2,0)","v":"14:30:00"},{"$f":"VLOOKUP($AA289,DATA!$B$3:$E$6,3,0)","v":"22:30:00"},{"$f":"VLOOKUP($AA289,DATA!$B$3:$E$6,4,0)","v":3.125E-2},0.30208333333333337,0.27777777777777779,{"$f":"DATA!$C$9","v":0.89},{"$f":"DATA!$C$10","v":64},1,375,407.81250000000006,2.4305555555555556E-2,32.8125,8.0459770114942514E-2,0,"","",354.13333333333333,316,"",316,"",null,{"$f":"WEEKNUM($Y279)","v":14},null,{"$f":"TEXT(Y288,\"ddd\")","v":"do"},"MD",{"$f":"IFERROR(HLOOKUP(Y288,[1]DATA!$A$1:$NB$5,4,0),\"\")","v":"D2"},35,null,16,332,21,-87.124999999999943,0.72487455197132622,0.94401990403412117]
["14doND",{"$f":"VLOOKUP($AA290,DATA!$B$3:$E$6,2,0)","v":"22:30:00"},{"$f":"VLOOKUP($AA290,DATA!$B$3:$E$6,3,0)","v":"06:30:00"},{"$f":"VLOOKUP($AA290,DATA!$B$3:$E$6,4,0)","v":3.125E-2},0.30208333333333326,0.30208333333333326,{"$f":"DATA!$C$9","v":0.89},{"$f":"DATA!$C$10","v":64},1,407.81249999999989,407.81249999999989,0,"","",0,"","",0,"","","","",null,{"$f":"X289","v":14},null,{"$f":"TEXT(Y288,\"ddd\")","v":"do"},"ND",{"$f":"IFERROR(HLOOKUP(Y288,[1]DATA!$A$1:$NB$5,5,0),\"\")","v":"D1"},null,null,null,null,0,"","",""]
["14vrDD",{"$f":"VLOOKUP($AA291,DATA!$B$3:$E$6,2,0)","v":"06:30:00"},{"$f":"VLOOKUP($AA291,DATA!$B$3:$E$6,3,0)","v":"14:30:00"},{"$f":"VLOOKUP($AA291,DATA!$B$3:$E$6,4,0)","v":3.125E-2},0.30208333333333331,0.30208333333333331,{"$f":"DATA!$C$9","v":0.89},{"$f":"DATA!$C$10","v":64},1,407.8125,407.8125,0,"","",0,"","",359.46666666666664,305,"","",305,null,{"$f":"X289","v":14},{"$f":"Y288+1","v":"2018-04-06"},{"$f":"TEXT(Y291,\"ddd\")","v":"vr"},"DD",{"$f":"IFERROR(HLOOKUP(Y291,[1]DATA!$A$1:$NB$5,3,0),\"\")","v":"D3"},0,null,32,337,5,-130.9375,0.69964157706093189,0.98628132430949333]
["14vrMD",{"$f":"VLOOKUP($AA292,DATA!$B$3:$E$6,2,0)","v":"14:30:00"},{"$f":"VLOOKUP($AA292,DATA!$B$3:$E$6,3,0)","v":"22:30:00"},{"$f":"VLOOKUP($AA292,DATA!$B$3:$E$6,4,0)","v":3.125E-2},0.30208333333333337,0.29861111111111116,{"$f":"DATA!$C$9","v":0.89},{"$f":"DATA!$C$10","v":64},1,403.12500000000006,407.81250000000006,3.472222222222222E-3,4.6875,1.1494252873563216E-2,0,"","",368,331,"",331,"",null,{"$f":"X289","v":14},null,{"$f":"TEXT(Y291,\"ddd\")","v":"vr"},"MD",{"$f":"IFERROR(HLOOKUP(Y291,[1]DATA!$A$1:$NB$5,4,0),\"\")","v":"D2"},5,null,14,345,29,-100.24999999999994,0.75928315412186387,0.92695214105793455]
["14vrND",{"$f":"VLOOKUP($AA293,DATA!$B$3:$E$6,2,0)","v":"22:30:00"},{"$f":"VLOOKUP($AA293,DATA!$B$3:$E$6,3,0)","v":"06:30:00"},{"$f":"VLOOKUP($AA293,DATA!$B$3:$E$6,4,0)","v":3.125E-2},0.30208333333333326,0.30208333333333326,{"$f":"DATA!$C$9","v":0.89},{"$f":"DATA!$C$10","v":64},1,407.81249999999989,407.81249999999989,0,"","",0,"","",0,"","","","",null,{"$f":"X289","v":14},null,{"$f":"TEXT(Y291,\"ddd\")","v":"vr"},"ND",{"$f":"IFERROR(HLOOKUP(Y291,[1]DATA!$A$1:$NB$5,5,0),\"\")","v":"D2"},null,null,null,null,0,"","",""]
["14zaDD",{"$f":"VLOOKUP($AA294,DATA!$B$3:$E$6,2,0)","v":"06:30:00"},{"$f":"VLOOKUP($AA294,DATA!$B$3:$E$6,3,0)","v":"14:30:00"},{"$f":"VLOOKUP($AA294,DATA!$B$3:$E$6,4,0)","v":3.125E-2},0.30208333333333331,0.30208333333333331,{"$f":"DATA!$C$9","v":0.89},{"$f":"DATA!$C$10","v":64},1,407.8125,407.8125,0,"","",0,"","",0,"","","","",null,{"$f":"X289","v":14},{"$f":"Y291+1","v":"2018-04-07"},{"$f":"TEXT(Y294,\"ddd\")","v":"za"},"DD",{"$f":"IFERROR(HLOOKUP(Y294,[1]DATA!$A$1:$NB$5,3,0),\"\")","v":"D3"},null,null,null,null,0,"","",""]
["14zaMD",{"$f":"VLOOKUP($AA295,DATA!$B$3:$E$6,2,0)","v":"14:30:00"},{"$f":"VLOOKUP($AA295,DATA!$B$3:$E$6,3,0)","v":"22:30:00"},{"$f":"VLOOKUP($AA295,DATA!$B$3:$E$6,4,0)","v":3.125E-2},0.30208333333333337,0.30208333333333337,{"$f":"DATA!$C$9","v":0.89},{"$f":"DATA!$C$10","v":64},1,407.81250000000006,407.81250000000006,0,"","",0,"","",0,"","","","",null,{"$f":"X289","v":14},null,{"$f":"TEXT(Y294,\"ddd\")","v":"za"},"MD",{"$f":"IFERROR(HLOOKUP(Y294,[1]DATA!$A$1:$NB$5,4,0),\"\")","v":"-"},null,null,null,null,0,"","",""]
["14zaND",{"$f":"VLOOKUP($AA296,DATA!$B$3:$E$6,2,0)","v":"22:30:00"},{"$f":"VLOOKUP($AA296,DATA!$B$3:$E$6,3,0)","v":"06:30:00"},{"$f":"VLOOKUP($AA296,DATA!$B$3:$E$6,4,0)","v":3.125E-2},0.30208333333333326,0.30208333333333326,{"$f":"DATA!$C$9","v":0.89},{"$f":"DATA!$C$10","v":64},1,407.81249999999989,407.81249999999989,0,"","",0,"","",0,"","","","",null,{"$f":"X289","v":14},null,{"$f":"TEXT(Y294,\"ddd\")","v":"za"},"ND",{"$f":"IFERROR(HLOOKUP(Y294,[1]DATA!$A$1:$NB$5,5,0),\"\")","v":"-"},null,null,null,null,0,"","",""]
["14zoDD",{"$f":"VLOOKUP($AA297,DATA!$B$3:$E$6,2,0)","v":"06:30:00"},{"$f":"VLOOKUP($AA297,DATA!$B$3:$E$6,3,0)","v":"14:30:00"},{"$f":"VLOOKUP($AA297,DATA!$B$3:$E$6,4,0)","v":3.125E-2},0.30208333333333331,0.30208333333333331,{"$f":"DATA!$C$9","v":0.89},{"$f":"DATA!$C$10","v":64},1,407.8125,407.8125,0,"","",0,"","",0,"","","","",null,{"$f":"X289","v":14},{"$f":"Y294+1","v":"2018-04-08"},{"$f":"TEXT(Y297,\"ddd\")","v":"zo"},"DD",{"$f":"IFERROR(HLOOKUP(Y297,[1]DATA!$A$1:$NB$5,3,0),\"\")","v":"-"},null,null,null,null,0,"","",""]
["14zoMD",{"$f":"VLOOKUP($AA298,DATA!$B$3:$E$6,2,0)","v":"14:30:00"},{"$f":"VLOOKUP($AA298,DATA!$B$3:$E$6,3,0)","v":"22:30:00"},{"$f":"VLOOKUP($AA298,DATA!$B$3:$E$6,4,0)","v":3.125E-2},0.30208333333333337,0.30208333333333337,{"$f":"DATA!$C$9","v":0.89},{"$f":"DATA!$C$10","v":64},1,407.81250000000006,407.81250000000006,0,"","",0,"","",0,"","","","",null,{"$f":"X289","v":14},null,{"$f":"TEXT(Y297,\"ddd\")","v":"zo"},"MD",{"$f":"IFERROR(HLOOKUP(Y297,[1]DATA!$A$1:$NB$5,4,0),\"\")","v":"-"},null,null,null,null,0,"","",""]
["14zoZND",{"$f":"VLOOKUP($AA299,DATA!$B$3:$E$6,2,0)","v":"00:00:00"},{"$f":"VLOOKUP($AA299,DATA!$B$3:$E$6,3,0)","v":"00:00:00"},{"$f":"VLOOKUP($AA299,DATA!$B$3:$E$6,4,0)","v":0},0,0,{"$f":"DATA!$C$9","v":0.89},{"$f":"DATA!$C$10","v":64},1,0,0,0,"","",0,"","",0,"","","","",null,{"$f":"X289","v":14},null,{"$f":"TEXT(Y297,\"ddd\")","v":"zo"},"ZND",{"$f":"IFERROR(HLOOKUP(Y297,[1]DATA!$A$1:$NB$5,5,0),\"\")","v":"-"},null,null,null,null,0,"","",""]
["15maDD",{"$f":"VLOOKUP($AA300,DATA!$B$3:$E$6,2,0)","v":"06:30:00"},{"$f":"VLOOKUP($AA300,DATA!$B$3:$E$6,3,0)","v":"14:30:00"},{"$f":"VLOOKUP($AA300,DATA!$B$3:$E$6,4,0)","v":3.125E-2},0.30208333333333331,0.28749999999999998,{"$f":"DATA!$C$9","v":0.89},{"$f":"DATA!$C$10","v":64},1,388.12499999999994,407.8125,1.4583333333333332E-2,19.687499999999996,4.827586206896551E-2,{"$f":"TIME(INT($AD300/60),INT(MOD($AD300,60)/1),0)","v":0},"","",288,254,"",254,"",null,{"$f":"X310","v":15},{"$f":"Y297+1","v":"2018-04-09"},{"$f":"TEXT(Y300,\"ddd\")","v":"ma"},"DD",{"$f":"IFERROR(HLOOKUP(Y300,[1]DATA!$A$1:$NB$5,3,0),\"\")","v":"D2"},21,null,16,270,{"$f":"VLOOKUP(Y300,[1]SRA!$S$4:$AA$368,6,0)","v":26},{"$f":"IFERROR(S300-J300,\"\")","v":-134.12499999999994},{"$f":"IFERROR(IF(S300/(E300*86400/H300)<=0,\"\",S300/(E300*86400/H300)),\"\")","v":0.6228352490421456},{"$f":"IFERROR(R300/(R300+AG300),\"\")","v":0.91719745222929938},{"$f":"IF(SUMIF(S300:S320,\">0\",K300:K320)=0,\"\",SUMIF(S300:S320,\">0\",K300:K320))","v":4078.125},{"$f":"IF(SUM(S300:S320)=0,\"\",SUM(S300:S320))","v":3028},{"$f":"IFERROR(AL300/AK300,\"-\")","v":0.74249808429118769},{"$f":"IF(SUM(M300:M320)=0,\"0\",SUM(M300:M320))","v":105},{"$f":"IFERROR(AN300/AK300,\"-\")","v":2.574712643678161E-2},{"$f":"IF(SUM(P300:P320)=0,0,SUM(P300:P320))","v":0},{"$f":"IFERROR(AP300/AK300,\"-\")","v":0},{"$f":"IFERROR(AVERAGE(AJ300:AJ320),\"-\")","v":0.9478523140383841},{"$f":"IFERROR(SUMIF($AB300:$AB320,AS$5,$AJ300:$AJ320)/COUNTIFS($AB300:$AB320,AS$5,$AJ300:$AJ320,\">0\"),\"\")","v":0.95009337384561854},0.94561125423114911,"",{"$f":"IFERROR((AK300-AL300-AN300-AP300),\"-\")","v":945.125},{"$f":"IFERROR((1-AM300-AO300-AQ300), \"-\")","v":0.23175478927203069},{"$f":"IFERROR((AV300*$AE$2)/60,\"-\")","v":1008.1333333333333},{"$f":"IFERROR(SUM(AG300:AG320),\"\")","v":187}]
["15maMD",{"$f":"VLOOKUP($AA301,DATA!$B$3:$E$6,2,0)","v":"14:30:00"},{"$f":"VLOOKUP($AA301,DATA!$B$3:$E$6,3,0)","v":"22:30:00"},{"$f":"VLOOKUP($AA301,DATA!$B$3:$E$6,4,0)","v":3.125E-2},0.30208333333333337,0.2993055555555556,{"$f":"DATA!$C$9","v":0.89},{"$f":"DATA!$C$10","v":64},1,404.06250000000006,407.81250000000006,2.7777777777777779E-3,3.75,9.1954022988505729E-3,{"$f":"TIME(INT(AD301/60),INT(MOD(AD301,60)/1),0)","v":0},"","",285.86666666666667,258,258,"","",null,{"$f":"X310","v":15},null,{"$f":"TEXT(Y300,\"ddd\")","v":"ma"},"MD",{"$f":"IFERROR(HLOOKUP(Y300,[1]DATA!$A$1:$NB$5,4,0),\"\")","v":"D1"},4,null,10,268,{"$f":"VLOOKUP(Y300,[1]SRA!$S$4:$Z$368,7,0)","v":23},-146.06250000000006,0.63264367816091949,0.92553421109432332]
["15maND",{"$f":"VLOOKUP($AA302,DATA!$B$3:$E$6,2,0)","v":"22:30:00"},{"$f":"VLOOKUP($AA302,DATA!$B$3:$E$6,3,0)","v":"06:30:00"},{"$f":"VLOOKUP($AA302,DATA!$B$3:$E$6,4,0)","v":3.125E-2},0.30208333333333326,0.30208333333333326,{"$f":"DATA!$C$9","v":0.89},{"$f":"DATA!$C$10","v":64},1,407.81249999999989,407.81249999999989,0,"","",0,"","",0,"","","","",null,{"$f":"X310","v":15},null,{"$f":"TEXT(Y300,\"ddd\")","v":"ma"},"ND",{"$f":"IFERROR(HLOOKUP(Y300,[1]DATA!$A$1:$NB$5,5,0),\"\")","v":"D3"},null,null,null,null,{"$f":"VLOOKUP(Y300,[1]SRA!$S$4:$Z$368,8,0)","v":0},"","",""]
["15diDD",{"$f":"VLOOKUP($AA303,DATA!$B$3:$E$6,2,0)","v":"06:30:00"},{"$f":"VLOOKUP($AA303,DATA!$B$3:$E$6,3,0)","v":"14:30:00"},{"$f":"VLOOKUP($AA303,DATA!$B$3:$E$6,4,0)","v":3.125E-2},0.30208333333333331,0.29374999999999996,{"$f":"DATA!$C$9","v":0.89},{"$f":"DATA!$C$10","v":64},1,396.56249999999994,407.8125,8.3333333333333332E-3,11.25,2.7586206896551724E-2,0,"","",397.86666666666667,350,"",350,"",null,{"$f":"X310","v":15},{"$f":"Y300+1","v":"2018-04-10"},{"$f":"TEXT(Y303,\"ddd\")","v":"di"},"DD",{"$f":"IFERROR(HLOOKUP(Y303,[1]DATA!$A$1:$NB$5,3,0),\"\")","v":"D2"},12,null,23,373,{"$f":"VLOOKUP(Y303,[1]SRA!$S$4:$Z$368,6,0)","v":18},-46.562499999999943,0.85823754789272033,0.95671689644116709]
[{"$f":"X304&Z304&AA304","v":"15diMD"},{"$f":"VLOOKUP($AA304,DATA!$B$3:$E$6,2,0)","v":"14:30:00"},{"$f":"VLOOKUP($AA304,DATA!$B$3:$E$6,3,0)","v":"22:30:00"},{"$f":"VLOOKUP($AA304,DATA!$B$3:$E$6,4,0)","v":3.125E-2},0.30208333333333337,0.29583333333333339,{"$f":"DATA!$C$9","v":0.89},{"$f":"DATA!$C$10","v":64},1,399.37500000000006,407.81250000000006,6.2499999999999995E-3,8.4375,2.0689655172413789E-2,0,{"$f":"IF($O304*86400/$H304=0,\"\",$O304*86400/$H304)","v":""},"",355.2,320,320,"","",null,{"$f":"X310","v":15},null,{"$f":"TEXT(Y303,\"ddd\")","v":"di"},"MD",{"$f":"IFERROR(HLOOKUP(Y303,[1]DATA!$A$1:$NB$5,4,0),\"\")","v":"D1"},9,null,13,333,{"$f":"VLOOKUP(Y303,[1]SRA!$S$4:$Z$368,7,0)","v":4},-79.375000000000057,0.78467432950191562,0.98886414253897548]
["15diND",{"$f":"VLOOKUP($AA305,DATA!$B$3:$E$6,2,0)","v":"22:30:00"},{"$f":"VLOOKUP($AA305,DATA!$B$3:$E$6,3,0)","v":"06:30:00"},{"$f":"VLOOKUP($AA305,DATA!$B$3:$E$6,4,0)","v":3.125E-2},0.30208333333333326,0.30208333333333326,{"$f":"DATA!$C$9","v":0.89},{"$f":"DATA!$C$10","v":64},1,407.81249999999989,407.81249999999989,0,"","",0,"","",0,"","","","",null,{"$f":"X310","v":15},null,{"$f":"TEXT(Y303,\"ddd\")","v":"di"},"ND",{"$f":"IFERROR(HLOOKUP(Y303,[1]DATA!$A$1:$NB$5,5,0),\"\")","v":"D3"},null,null,null,null,{"$f":"VLOOKUP(Y303,[1]SRA!$S$4:$Z$368,8,0)","v":0},"","",""]
["15woDD",{"$f":"VLOOKUP($AA306,DATA!$B$3:$E$6,2,0)","v":"06:30:00"},{"$f":"VLOOKUP($AA306,DATA!$B$3:$E$6,3,0)","v":"14:30:00"},{"$f":"VLOOKUP($AA306,DATA!$B$3:$E$6,4,0)","v":3.125E-2},0.30208333333333331,0.29444444444444445,{"$f":"DATA!$C$9","v":0.89},{"$f":"DATA!$C$10","v":64},1,397.5,407.8125,7.6388888888888886E-3,10.3125,2.528735632183908E-2,0,"","",349.86666666666667,306,"",306,"",null,{"$f":"X310","v":15},{"$f":"Y303+1","v":"2018-04-11"},{"$f":"TEXT(Y306,\"ddd\")","v":"wo"},"DD",{"$f":"IFERROR(HLOOKUP(Y306,[1]DATA!$A$1:$NB$5,3,0),\"\")","v":"D2"},11,null,22,328,{"$f":"VLOOKUP(Y306,[1]SRA!$S$4:$Z$368,6,0)","v":30},-91.5,0.75034482758620691,0.92102492102492106]
["15woMD",{"$f":"VLOOKUP($AA307,DATA!$B$3:$E$6,2,0)","v":"14:30:00"},{"$f":"VLOOKUP($AA307,DATA!$B$3:$E$6,3,0)","v":"22:30:00"},{"$f":"VLOOKUP($AA307,DATA!$B$3:$E$6,4,0)","v":3.125E-2},0.30208333333333337,0.28958333333333336,{"$f":"DATA!$C$9","v":0.89},{"$f":"DATA!$C$10","v":64},1,390.93750000000006,407.81250000000006,1.2499999999999999E-2,16.875,4.1379310344827579E-2,0,"","",349.86666666666667,304,304,"","",null,{"$f":"X310","v":15},null,{"$f":"TEXT(Y306,\"ddd\")","v":"wo"},"MD",{"$f":"IFERROR(HLOOKUP(Y306,[1]DATA!$A$1:$NB$5,4,0),\"\")","v":"D1"},18,null,24,328,{"$f":"VLOOKUP(Y306,[1]SRA!$S$4:$Z$368,7,0)","v":17},-86.937500000000057,0.74544061302681985,0.95366163910594226]
["15woND",{"$f":"VLOOKUP($AA308,DATA!$B$3:$E$6,2,0)","v":"22:30:00"},{"$f":"VLOOKUP($AA308,DATA!$B$3:$E$6,3,0)","v":"06:30:00"},{"$f":"VLOOKUP($AA308,DATA!$B$3:$E$6,4,0)","v":3.125E-2},0.30208333333333326,0.30208333333333326,{"$f":"DATA!$C$9","v":0.89},{"$f":"DATA!$C$10","v":64},1,407.81249999999989,407.81249999999989,0,"","",0,"","",0,"","","","",null,{"$f":"X310","v":15},null,{"$f":"TEXT(Y306,\"ddd\")","v":"wo"},"ND",{"$f":"IFERROR(HLOOKUP(Y306,[1]DATA!$A$1:$NB$5,5,0),\"\")","v":"D3"},null,null,null,null,{"$f":"VLOOKUP(Y306,[1]SRA!$S$4:$Z$368,8,0)","v":0},"","",""]
["15doDD",{"$f":"VLOOKUP($AA309,DATA!$B$3:$E$6,2,0)","v":"06:30:00"},{"$f":"VLOOKUP($AA309,DATA!$B$3:$E$6,3,0)","v":"14:30:00"},{"$f":"VLOOKUP($AA309,DATA!$B$3:$E$6,4,0)","v":3.125E-2},0.30208333333333331,0.2895833333333333,{"$f":"DATA!$C$9","v":0.89},{"$f":"DATA!$C$10","v":64},1,390.93749999999994,407.8125,1.2499999999999999E-2,16.875,4.1379310344827586E-2,0,"","",368,314,"",314,"",null,{"$f":"X310","v":15},{"$f":"Y306+1","v":"2018-04-12"},{"$f":"TEXT(Y309,\"ddd\")","v":"do"},"DD",{"$f":"IFERROR(HLOOKUP(Y309,[1]DATA!$A$1:$NB$5,3,0),\"\")","v":"D2"},18,null,31,345,{"$f":"VLOOKUP(Y309,[1]SRA!$S$4:$Z$368,6,0)","v":4},-76.937499999999943,0.76996168582375479,0.989247311827957]
["15doMD",{"$f":"VLOOKUP($AA310,DATA!$B$3:$E$6,2,0)","v":"14:30:00"},{"$f":"VLOOKUP($AA310,DATA!$B$3:$E$6,3,0)","v":"22:30:00"},{"$f":"VLOOKUP($AA310,DATA!$B$3:$E$6,4,0)","v":3.125E-2},0.30208333333333337,0.30208333333333337,{"$f":"DATA!$C$9","v":0.89},{"$f":"DATA!$C$10","v":64},1,407.81250000000006,407.81250000000006,0,"","",0,"","",382.93333333333334,345,345,"","",null,{"$f":"WEEKNUM($Y300)","v":15},null,{"$f":"TEXT(Y309,\"ddd\")","v":"do"},"MD",{"$f":"IFERROR(HLOOKUP(Y309,[1]DATA!$A$1:$NB$5,4,0),\"\")","v":"D1"},0,null,14,359,{"$f":"VLOOKUP(Y309,[1]SRA!$S$4:$Z$368,7,0)","v":34},-62.812500000000057,0.84597701149425275,0.9184521905980173]
["15doND",{"$f":"VLOOKUP($AA311,DATA!$B$3:$E$6,2,0)","v":"22:30:00"},{"$f":"VLOOKUP($AA311,DATA!$B$3:$E$6,3,0)","v":"06:30:00"},{"$f":"VLOOKUP($AA311,DATA!$B$3:$E$6,4,0)","v":3.125E-2},0.30208333333333326,0.30208333333333326,{"$f":"DATA!$C$9","v":0.89},{"$f":"DATA!$C$10","v":64},1,407.81249999999989,407.81249999999989,0,"","",0,"","",0,"","","","",null,{"$f":"X310","v":15},null,{"$f":"TEXT(Y309,\"ddd\")","v":"do"},"ND",{"$f":"IFERROR(HLOOKUP(Y309,[1]DATA!$A$1:$NB$5,5,0),\"\")","v":"D3"},null,null,null,null,{"$f":"VLOOKUP(Y309,[1]SRA!$S$4:$Z$368,8,0)","v":0},"","",""]
["15vrDD",{"$f":"VLOOKUP($AA312,DATA!$B$3:$E$6,2,0)","v":"06:30:00"},{"$f":"VLOOKUP($AA312,DATA!$B$3:$E$6,3,0)","v":"14:30:00"},{"$f":"VLOOKUP($AA312,DATA!$B$3:$E$6,4,0)","v":3.125E-2},0.30208333333333331,0.30208333333333331,{"$f":"DATA!$C$9","v":0.89},{"$f":"DATA!$C$10","v":64},1,407.8125,407.8125,0,"","",0,"","",285.86666666666667,257,"",257,"",null,{"$f":"X310","v":15},{"$f":"Y309+1","v":"2018-04-13"},{"$f":"TEXT(Y312,\"ddd\")","v":"vr"},"DD",{"$f":"IFERROR(HLOOKUP(Y312,[1]DATA!$A$1:$NB$5,3,0),\"\")","v":"D2"},null,null,11,268,{"$f":"VLOOKUP(Y312,[1]SRA!$S$4:$Z$368,6,0)","v":17},-150.8125,0.63019157088122602,0.94386968963240148]
["15vrMD",{"$f":"VLOOKUP($AA313,DATA!$B$3:$E$6,2,0)","v":"14:30:00"},{"$f":"VLOOKUP($AA313,DATA!$B$3:$E$6,3,0)","v":"22:30:00"},{"$f":"VLOOKUP($AA313,DATA!$B$3:$E$6,4,0)","v":3.125E-2},0.30208333333333337,0.28888888888888892,{"$f":"DATA!$C$9","v":0.89},{"$f":"DATA!$C$10","v":64},1,390.00000000000006,407.81250000000006,1.3194444444444444E-2,17.8125,4.3678160919540222E-2,0,"","",374.4,320,320,"","",null,{"$f":"X310","v":15},null,{"$f":"TEXT(Y312,\"ddd\")","v":"vr"},"MD",{"$f":"IFERROR(HLOOKUP(Y312,[1]DATA!$A$1:$NB$5,4,0),\"\")","v":"D1"},19,null,31,351,{"$f":"VLOOKUP(Y312,[1]SRA!$S$4:$Z$368,7,0)","v":14},-70.000000000000057,0.78467432950191562,0.96395468589083422]
["15vrND",{"$f":"VLOOKUP($AA314,DATA!$B$3:$E$6,2,0)","v":"22:30:00"},{"$f":"VLOOKUP($AA314,DATA!$B$3:$E$6,3,0)","v":"06:30:00"},{"$f":"VLOOKUP($AA314,DATA!$B$3:$E$6,4,0)","v":3.125E-2},0.30208333333333326,0.30208333333333326,{"$f":"DATA!$C$9","v":0.89},{"$f":"DATA!$C$10","v":64},1,407.81249999999989,407.81249999999989,0,"","",0,"","",0,"","","","",null,{"$f":"X310","v":15},null,{"$f":"TEXT(Y312,\"ddd\")","v":"vr"},"ND",{"$f":"IFERROR(HLOOKUP(Y312,[1]DATA!$A$1:$NB$5,5,0),\"\")","v":"D3"},null,null,null,null,{"$f":"VLOOKUP(Y312,[1]SRA!$S$4:$Z$368,8,0)","v":0},"","",""]
["15zaDD",{"$f":"VLOOKUP($AA315,DATA!$B$3:$E$6,2,0)","v":"06:30:00"},{"$f":"VLOOKUP($AA315,DATA!$B$3:$E$6,3,0)","v":"14:30:00"},{"$f":"VLOOKUP($AA315,DATA!$B$3:$E$6,4,0)","v":3.125E-2},0.30208333333333331,0.30208333333333331,{"$f":"DATA!$C$9","v":0.89},{"$f":"DATA!$C$10","v":64},1,407.8125,407.8125,0,"","",0,"","",0,"","","","",null,{"$f":"X310","v":15},{"$f":"Y312+1","v":"2018-04-14"},{"$f":"TEXT(Y315,\"ddd\")","v":"za"},"DD",{"$f":"IFERROR(HLOOKUP(Y315,[1]DATA!$A$1:$NB$5,3,0),\"\")","v":"D2"},null,null,null,null,{"$f":"VLOOKUP(Y315,[1]SRA!$S$4:$Z$368,6,0)","v":0},"","",""]
["15zaMD",{"$f":"VLOOKUP($AA316,DATA!$B$3:$E$6,2,0)","v":"14:30:00"},{"$f":"VLOOKUP($AA316,DATA!$B$3:$E$6,3,0)","v":"22:30:00"},{"$f":"VLOOKUP($AA316,DATA!$B$3:$E$6,4,0)","v":3.125E-2},0.30208333333333337,0.30208333333333337,{"$f":"DATA!$C$9","v":0.89},{"$f":"DATA!$C$10","v":64},1,407.81250000000006,407.81250000000006,0,"","",0,"","",0,"","","","",null,{"$f":"X310","v":15},null,{"$f":"TEXT(Y315,\"ddd\")","v":"za"},"MD",{"$f":"IFERROR(HLOOKUP(Y315,[1]DATA!$A$1:$NB$5,4,0),\"\")","v":"-"},null,null,null,null,{"$f":"VLOOKUP(Y315,[1]SRA!$S$4:$Z$368,7,0)","v":0},"","",""]
["15zaND",{"$f":"VLOOKUP($AA317,DATA!$B$3:$E$6,2,0)","v":"22:30:00"},{"$f":"VLOOKUP($AA317,DATA!$B$3:$E$6,3,0)","v":"06:30:00"},{"$f":"VLOOKUP($AA317,DATA!$B$3:$E$6,4,0)","v":3.125E-2},0.30208333333333326,0.30208333333333326,{"$f":"DATA!$C$9","v":0.89},{"$f":"DATA!$C$10","v":64},1,407.81249999999989,407.81249999999989,0,"","",0,"","",0,"","","","",null,{"$f":"X310","v":15},null,{"$f":"TEXT(Y315,\"ddd\")","v":"za"},"ND",{"$f":"IFERROR(HLOOKUP(Y315,[1]DATA!$A$1:$NB$5,5,0),\"\")","v":"-"},null,null,null,null,{"$f":"VLOOKUP(Y315,[1]SRA!$S$4:$Z$368,8,0)","v":0},"","",""]
["15zoDD",{"$f":"VLOOKUP($AA318,DATA!$B$3:$E$6,2,0)","v":"06:30:00"},{"$f":"VLOOKUP($AA318,DATA!$B$3:$E$6,3,0)","v":"14:30:00"},{"$f":"VLOOKUP($AA318,DATA!$B$3:$E$6,4,0)","v":3.125E-2},0.30208333333333331,0.30208333333333331,{"$f":"DATA!$C$9","v":0.89},{"$f":"DATA!$C$10","v":64},1,407.8125,407.8125,0,"","",0,"","",0,"","","","",null,{"$f":"X310","v":15},{"$f":"Y315+1","v":"2018-04-15"},{"$f":"TEXT(Y318,\"ddd\")","v":"zo"},"DD",{"$f":"IFERROR(HLOOKUP(Y318,[1]DATA!$A$1:$NB$5,3,0),\"\")","v":"-"},null,null,null,null,{"$f":"VLOOKUP(Y318,[1]SRA!$S$4:$Z$368,6,0)","v":0},"","",""]
["15zoMD",{"$f":"VLOOKUP($AA319,DATA!$B$3:$E$6,2,0)","v":"14:30:00"},{"$f":"VLOOKUP($AA319,DATA!$B$3:$E$6,3,0)","v":"22:30:00"},{"$f":"VLOOKUP($AA319,DATA!$B$3:$E$6,4,0)","v":3.125E-2},0.30208333333333337,0.30208333333333337,{"$f":"DATA!$C$9","v":0.89},{"$f":"DATA!$C$10","v":64},1,407.81250000000006,407.81250000000006,0,"","",0,"","",0,"","","","",null,{"$f":"X310","v":15},null,{"$f":"TEXT(Y318,\"ddd\")","v":"zo"},"MD",{"$f":"IFERROR(HLOOKUP(Y318,[1]DATA!$A$1:$NB$5,4,0),\"\")","v":"-"},null,null,null,null,{"$f":"VLOOKUP(Y318,[1]SRA!$S$4:$Z$368,7,0)","v":0},"","",""]
["15zoZND",{"$f":"VLOOKUP($AA320,DATA!$B$3:$E$6,2,0)","v":"00:00:00"},{"$f":"VLOOKUP($AA320,DATA!$B$3:$E$6,3,0)","v":"00:00:00"},{"$f":"VLOOKUP($AA320,DATA!$B$3:$E$6,4,0)","v":0},0,0,{"$f":"DATA!$C$9","v":0.89},{"$f":"DATA!$C$10","v":64},1,0,0,0,"","",0,"","",0,"","","","",null,{"$f":"X310","v":15},null,{"$f":"TEXT(Y318,\"ddd\")","v":"zo"},"ZND",{"$f":"IFERROR(HLOOKUP(Y318,[1]DATA!$A$1:$NB$5,5,0),\"\")","v":"-"},null,null,null,null,{"$f":"VLOOKUP(Y318,[1]SRA!$S$4:$Z$368,8,0)","v":0},"","",""]
["16maDD",{"$f":"VLOOKUP($AA321,DATA!$B$3:$E$6,2,0)","v":"06:30:00"},{"$f":"VLOOKUP($AA321,DATA!$B$3:$E$6,3,0)","v":"14:30:00"},{"$f":"VLOOKUP($AA321,DATA!$B$3:$E$6,4,0)","v":3.125E-2},0.30208333333333331,0.30208333333333331,{"$f":"DATA!$C$9","v":0.89},{"$f":"DATA!$C$10","v":64},1,407.8125,407.8125,0,"","",{"$f":"TIME(INT($AD321/60),INT(MOD($AD321,60)/1),0)","v":0},"","",0,"","","","",null,{"$f":"X331","v":16},{"$f":"Y318+1","v":"2018-04-16"},{"$f":"TEXT(Y321,\"ddd\")","v":"ma"},"DD",{"$f":"IFERROR(HLOOKUP(Y321,[1]DATA!$A$1:$NB$5,3,0),\"\")","v":"D1"},null,null,null,null,{"$f":"VLOOKUP(Y321,[1]SRA!$S$4:$AA$368,6,0)","v":45},"","",0,{"$f":"IF(SUMIF(S321:S341,\">0\",K321:K341)=0,\"\",SUMIF(S321:S341,\">0\",K321:K341))","v":""},{"$f":"IF(SUM(S321:S341)=0,\"\",SUM(S321:S341))","v":""},{"$f":"IFERROR(AL321/AK321,\"-\")","v":"-"},{"$f":"IF(SUM(M321:M341)=0,\"0\",SUM(M321:M341))","v":"0"},{"$f":"IFERROR(AN321/AK321,\"-\")","v":"-"},{"$f":"IF(SUM(P321:P341)=0,0,SUM(P321:P341))","v":0},{"$f":"IFERROR(AP321/AK321,\"-\")","v":"-"},0,{"$f":"IFERROR(SUMIF($AB321:$AB341,AS$5,$AJ321:$AJ341)/COUNTIFS($AB321:$AB341,AS$5,$AJ321:$AJ341,\">0\"),\"\")","v":""},"","",{"$f":"IFERROR((AK321-AL321-AN321-AP321),\"-\")","v":"-"},{"$f":"IFERROR((1-AM321-AO321-AQ321), \"-\")","v":"-"},{"$f":"IFERROR((AV321*$AE$2)/60,\"-\")","v":"-"},{"$f":"IFERROR(SUM(AG321:AG341),\"\")","v":548}]
["16maMD",{"$f":"VLOOKUP($AA322,DATA!$B$3:$E$6,2,0)","v":"14:30:00"},{"$f":"VLOOKUP($AA322,DATA!$B$3:$E$6,3,0)","v":"22:30:00"},{"$f":"VLOOKUP($AA322,DATA!$B$3:$E$6,4,0)","v":3.125E-2},0.30208333333333337,0.30208333333333337,{"$f":"DATA!$C$9","v":0.89},{"$f":"DATA!$C$10","v":64},1,407.81250000000006,407.81250000000006,0,"","",{"$f":"TIME(INT(AD322/60),INT(MOD(AD322,60)/1),0)","v":0},"","",0,"","","","",null,{"$f":"X331","v":16},null,{"$f":"TEXT(Y321,\"ddd\")","v":"ma"},"MD",{"$f":"IFERROR(HLOOKUP(Y321,[1]DATA!$A$1:$NB$5,4,0),\"\")","v":"D3"},null,null,null,null,{"$f":"VLOOKUP(Y321,[1]SRA!$S$4:$Z$368,7,0)","v":16},"","",0]
["16maND",{"$f":"VLOOKUP($AA323,DATA!$B$3:$E$6,2,0)","v":"22:30:00"},{"$f":"VLOOKUP($AA323,DATA!$B$3:$E$6,3,0)","v":"06:30:00"},{"$f":"VLOOKUP($AA323,DATA!$B$3:$E$6,4,0)","v":3.125E-2},0.30208333333333326,0.30208333333333326,{"$f":"DATA!$C$9","v":0.89},{"$f":"DATA!$C$10","v":64},1,407.81249999999989,407.81249999999989,0,"","",0,"","",0,"","","","",null,{"$f":"X331","v":16},null,{"$f":"TEXT(Y321,\"ddd\")","v":"ma"},"ND",{"$f":"IFERROR(HLOOKUP(Y321,[1]DATA!$A$1:$NB$5,5,0),\"\")","v":"D2"},null,null,null,null,{"$f":"VLOOKUP(Y321,[1]SRA!$S$4:$Z$368,8,0)","v":24},"","",0]
["16diDD",{"$f":"VLOOKUP($AA324,DATA!$B$3:$E$6,2,0)","v":"06:30:00"},{"$f":"VLOOKUP($AA324,DATA!$B$3:$E$6,3,0)","v":"14:30:00"},{"$f":"VLOOKUP($AA324,DATA!$B$3:$E$6,4,0)","v":3.125E-2},0.30208333333333331,0.30208333333333331,{"$f":"DATA!$C$9","v":0.89},{"$f":"DATA!$C$10","v":64},1,407.8125,407.8125,0,"","",0,"","",0,"","","","",null,{"$f":"X331","v":16},{"$f":"Y321+1","v":"2018-04-17"},{"$f":"TEXT(Y324,\"ddd\")","v":"di"},"DD",{"$f":"IFERROR(HLOOKUP(Y324,[1]DATA!$A$1:$NB$5,3,0),\"\")","v":"D1"},null,null,null,null,{"$f":"VLOOKUP(Y324,[1]SRA!$S$4:$Z$368,6,0)","v":8},"","",0]
["16diMD",{"$f":"VLOOKUP($AA325,DATA!$B$3:$E$6,2,0)","v":"14:30:00"},{"$f":"VLOOKUP($AA325,DATA!$B$3:$E$6,3,0)","v":"22:30:00"},{"$f":"VLOOKUP($AA325,DATA!$B$3:$E$6,4,0)","v":3.125E-2},0.30208333333333337,0.30208333333333337,{"$f":"DATA!$C$9","v":0.89},{"$f":"DATA!$C$10","v":64},1,407.81250000000006,407.81250000000006,0,"","",0,"","",0,"","","","",null,{"$f":"X331","v":16},null,{"$f":"TEXT(Y324,\"ddd\")","v":"di"},"MD",{"$f":"IFERROR(HLOOKUP(Y324,[1]DATA!$A$1:$NB$5,4,0),\"\")","v":"D3"},null,null,null,null,{"$f":"VLOOKUP(Y324,[1]SRA!$S$4:$Z$368,7,0)","v":42},"","",0]
["16diND",{"$f":"VLOOKUP($AA326,DATA!$B$3:$E$6,2,0)","v":"22:30:00"},{"$f":"VLOOKUP($AA326,DATA!$B$3:$E$6,3,0)","v":"06:30:00"},{"$f":"VLOOKUP($AA326,DATA!$B$3:$E$6,4,0)","v":3.125E-2},0.30208333333333326,0.30208333333333326,{"$f":"DATA!$C$9","v":0.89},{"$f":"DATA!$C$10","v":64},1,407.81249999999989,407.81249999999989,0,"","",0,"","",0,"","","","",null,{"$f":"X331","v":16},null,{"$f":"TEXT(Y324,\"ddd\")","v":"di"},"ND",{"$f":"IFERROR(HLOOKUP(Y324,[1]DATA!$A$1:$NB$5,5,0),\"\")","v":"D2"},null,null,null,null,{"$f":"VLOOKUP(Y324,[1]SRA!$S$4:$Z$368,8,0)","v":38},{"$f":"IFERROR(S326-J326,\"\")","v":""},{"$f":"IFERROR(IF(S326/(E326*86400/H326)<=0,\"\",S326/(E326*86400/H326)),\"\")","v":""},0]
["16woDD",{"$f":"VLOOKUP($AA327,DATA!$B$3:$E$6,2,0)","v":"06:30:00"},{"$f":"VLOOKUP($AA327,DATA!$B$3:$E$6,3,0)","v":"14:30:00"},{"$f":"VLOOKUP($AA327,DATA!$B$3:$E$6,4,0)","v":3.125E-2},0.30208333333333331,0.30208333333333331,{"$f":"DATA!$C$9","v":0.89},{"$f":"DATA!$C$10","v":64},1,407.8125,407.8125,{"$f":"TIME(INT($AC327/60),INT(MOD($AC327,60)/1),0)","v":0},{"$f":"IF($L327*86400/$H327=0,\"\",$L327*86400/$H327)","v":""},{"$f":"IFERROR($M327/$K327,\"\")","v":""},0,"",{"$f":"IFERROR($P327/$K327,\"\")","v":""},0,"",{"$f":"IF(IF($AB327=\"D1\",$S327,\"\")=0,\"\",IF($AB327=\"D1\",$S327,\"\"))","v":""},{"$f":"IF(IF($AB327=\"D2\",$S327,\"\")=0,\"\",IF($AB327=\"D2\",$S327,\"\"))","v":""},{"$f":"IF(IF($AB327=\"D3\",$S327,\"\")=0,\"\",IF($AB327=\"D3\",$S327,\"\"))","v":""},null,{"$f":"X331","v":16},{"$f":"Y324+1","v":"2018-04-18"},{"$f":"TEXT(Y327,\"ddd\")","v":"wo"},"DD",{"$f":"IFERROR(HLOOKUP(Y327,[1]DATA!$A$1:$NB$5,3,0),\"\")","v":"D1"},null,null,null,null,{"$f":"VLOOKUP(Y327,[1]SRA!$S$4:$Z$368,6,0)","v":6},"","",0]
["16woMD",{"$f":"VLOOKUP($AA328,DATA!$B$3:$E$6,2,0)","v":"14:30:00"},{"$f":"VLOOKUP($AA328,DATA!$B$3:$E$6,3,0)","v":"22:30:00"},{"$f":"VLOOKUP($AA328,DATA!$B$3:$E$6,4,0)","v":3.125E-2},0.30208333333333337,0.30208333333333337,{"$f":"DATA!$C$9","v":0.89},{"$f":"DATA!$C$10","v":64},1,407.81250000000006,407.81250000000006,0,"","",0,"","",0,"","","","",null,{"$f":"X331","v":16},null,{"$f":"TEXT(Y327,\"ddd\")","v":"wo"},"MD",{"$f":"IFERROR(HLOOKUP(Y327,[1]DATA!$A$1:$NB$5,4,0),\"\")","v":"D3"},null,null,null,null,{"$f":"VLOOKUP(Y327,[1]SRA!$S$4:$Z$368,7,0)","v":48},"","",0]
["16woND",{"$f":"VLOOKUP($AA329,DATA!$B$3:$E$6,2,0)","v":"22:30:00"},{"$f":"VLOOKUP($AA329,DATA!$B$3:$E$6,3,0)","v":"06:30:00"},{"$f":"VLOOKUP($AA329,DATA!$B$3:$E$6,4,0)","v":3.125E-2},0.30208333333333326,0.30208333333333326,{"$f":"DATA!$C$9","v":0.89},{"$f":"DATA!$C$10","v":64},1,407.81249999999989,407.81249999999989,0,"","",0,"","",0,"","","","",null,{"$f":"X331","v":16},null,{"$f":"TEXT(Y327,\"ddd\")","v":"wo"},"ND",{"$f":"IFERROR(HLOOKUP(Y327,[1]DATA!$A$1:$NB$5,5,0),\"\")","v":"D2"},null,null,null,null,{"$f":"VLOOKUP(Y327,[1]SRA!$S$4:$Z$368,8,0)","v":28},"","",0]
["16doDD",{"$f":"VLOOKUP($AA330,DATA!$B$3:$E$6,2,0)","v":"06:30:00"},{"$f":"VLOOKUP($AA330,DATA!$B$3:$E$6,3,0)","v":"14:30:00"},{"$f":"VLOOKUP($AA330,DATA!$B$3:$E$6,4,0)","v":3.125E-2},0.30208333333333331,0.30208333333333331,{"$f":"DATA!$C$9","v":0.89},{"$f":"DATA!$C$10","v":64},1,407.8125,407.8125,0,"","",0,"","",0,"","","","",null,{"$f":"X331","v":16},{"$f":"Y327+1","v":"2018-04-19"},{"$f":"TEXT(Y330,\"ddd\")","v":"do"},"DD",{"$f":"IFERROR(HLOOKUP(Y330,[1]DATA!$A$1:$NB$5,3,0),\"\")","v":"D1"},null,null,null,null,{"$f":"VLOOKUP(Y330,[1]SRA!$S$4:$Z$368,6,0)","v":32},"","",0]
["16doMD",{"$f":"VLOOKUP($AA331,DATA!$B$3:$E$6,2,0)","v":"14:30:00"},{"$f":"VLOOKUP($AA331,DATA!$B$3:$E$6,3,0)","v":"22:30:00"},{"$f":"VLOOKUP($AA331,DATA!$B$3:$E$6,4,0)","v":3.125E-2},0.30208333333333337,0.30208333333333337,{"$f":"DATA!$C$9","v":0.89},{"$f":"DATA!$C$10","v":64},1,407.81250000000006,407.81250000000006,0,"","",0,"","",0,"","","","",null,{"$f":"WEEKNUM($Y321)","v":16},null,{"$f":"TEXT(Y330,\"ddd\")","v":"do"},"MD",{"$f":"IFERROR(HLOOKUP(Y330,[1]DATA!$A$1:$NB$5,4,0),\"\")","v":"D3"},null,null,null,null,{"$f":"VLOOKUP(Y330,[1]SRA!$S$4:$Z$368,7,0)","v":90},"","",0]
["16doND",{"$f":"VLOOKUP($AA332,DATA!$B$3:$E$6,2,0)","v":"22:30:00"},{"$f":"VLOOKUP($AA332,DATA!$B$3:$E$6,3,0)","v":"06:30:00"},{"$f":"VLOOKUP($AA332,DATA!$B$3:$E$6,4,0)","v":3.125E-2},0.30208333333333326,0.30208333333333326,{"$f":"DATA!$C$9","v":0.89},{"$f":"DATA!$C$10","v":64},1,407.81249999999989,407.81249999999989,0,"","",0,"","",0,"","","","",null,{"$f":"X331","v":16},null,{"$f":"TEXT(Y330,\"ddd\")","v":"do"},"ND",{"$f":"IFERROR(HLOOKUP(Y330,[1]DATA!$A$1:$NB$5,5,0),\"\")","v":"D2"},null,null,null,null,{"$f":"VLOOKUP(Y330,[1]SRA!$S$4:$Z$368,8,0)","v":34},"","",0]
["16vrDD",{"$f":"VLOOKUP($AA333,DATA!$B$3:$E$6,2,0)","v":"06:30:00"},{"$f":"VLOOKUP($AA333,DATA!$B$3:$E$6,3,0)","v":"14:30:00"},{"$f":"VLOOKUP($AA333,DATA!$B$3:$E$6,4,0)","v":3.125E-2},0.30208333333333331,0.30208333333333331,{"$f":"DATA!$C$9","v":0.89},{"$f":"DATA!$C$10","v":64},1,407.8125,407.8125,0,"","",0,"","",0,"","","","",null,{"$f":"X331","v":16},{"$f":"Y330+1","v":"2018-04-20"},{"$f":"TEXT(Y333,\"ddd\")","v":"vr"},"DD",{"$f":"IFERROR(HLOOKUP(Y333,[1]DATA!$A$1:$NB$5,3,0),\"\")","v":"D1"},null,null,null,null,{"$f":"VLOOKUP(Y333,[1]SRA!$S$4:$Z$368,6,0)","v":52},"","",0]
["16vrMD",{"$f":"VLOOKUP($AA334,DATA!$B$3:$E$6,2,0)","v":"14:30:00"},{"$f":"VLOOKUP($AA334,DATA!$B$3:$E$6,3,0)","v":"22:30:00"},{"$f":"VLOOKUP($AA334,DATA!$B$3:$E$6,4,0)","v":3.125E-2},0.30208333333333337,0.30208333333333337,{"$f":"DATA!$C$9","v":0.89},{"$f":"DATA!$C$10","v":64},1,407.81250000000006,407.81250000000006,0,"","",0,"","",0,"","","","",null,{"$f":"X331","v":16},null,{"$f":"TEXT(Y333,\"ddd\")","v":"vr"},"MD",{"$f":"IFERROR(HLOOKUP(Y333,[1]DATA!$A$1:$NB$5,4,0),\"\")","v":"D3"},null,null,null,null,{"$f":"VLOOKUP(Y333,[1]SRA!$S$4:$Z$368,7,0)","v":30},"","",0]
["16vrND",{"$f":"VLOOKUP($AA335,DATA!$B$3:$E$6,2,0)","v":"22:30:00"},{"$f":"VLOOKUP($AA335,DATA!$B$3:$E$6,3,0)","v":"06:30:00"},{"$f":"VLOOKUP($AA335,DATA!$B$3:$E$6,4,0)","v":3.125E-2},0.30208333333333326,0.30208333333333326,{"$f":"DATA!$C$9","v":0.89},{"$f":"DATA!$C$10","v":64},1,407.81249999999989,407.81249999999989,0,"","",0,"","",0,"","","","",null,{"$f":"X331","v":16},null,{"$f":"TEXT(Y333,\"ddd\")","v":"vr"},"ND",{"$f":"IFERROR(HLOOKUP(Y333,[1]DATA!$A$1:$NB$5,5,0),\"\")","v":"D2"},null,null,null,null,{"$f":"VLOOKUP(Y333,[1]SRA!$S$4:$Z$368,8,0)","v":37},"","",0]
["16zaDD",{"$f":"VLOOKUP($AA336,DATA!$B$3:$E$6,2,0)","v":"06:30:00"},{"$f":"VLOOKUP($AA336,DATA!$B$3:$E$6,3,0)","v":"14:30:00"},{"$f":"VLOOKUP($AA336,DATA!$B$3:$E$6,4,0)","v":3.125E-2},0.30208333333333331,0.30208333333333331,{"$f":"DATA!$C$9","v":0.89},{"$f":"DATA!$C$10","v":64},1,407.8125,407.8125,0,"","",0,"","",0,"","","","",null,{"$f":"X331","v":16},{"$f":"Y333+1","v":"2018-04-21"},{"$f":"TEXT(Y336,\"ddd\")","v":"za"},"DD",{"$f":"IFERROR(HLOOKUP(Y336,[1]DATA!$A$1:$NB$5,3,0),\"\")","v":"D1"},null,null,null,null,{"$f":"VLOOKUP(Y336,[1]SRA!$S$4:$Z$368,6,0)","v":18},"","",0]
["16zaMD",{"$f":"VLOOKUP($AA337,DATA!$B$3:$E$6,2,0)","v":"14:30:00"},{"$f":"VLOOKUP($AA337,DATA!$B$3:$E$6,3,0)","v":"22:30:00"},{"$f":"VLOOKUP($AA337,DATA!$B$3:$E$6,4,0)","v":3.125E-2},0.30208333333333337,0.30208333333333337,{"$f":"DATA!$C$9","v":0.89},{"$f":"DATA!$C$10","v":64},1,407.81250000000006,407.81250000000006,0,"","",0,"","",0,"","","","",null,{"$f":"X331","v":16},null,{"$f":"TEXT(Y336,\"ddd\")","v":"za"},"MD",{"$f":"IFERROR(HLOOKUP(Y336,[1]DATA!$A$1:$NB$5,4,0),\"\")","v":"-"},null,null,null,null,{"$f":"VLOOKUP(Y336,[1]SRA!$S$4:$Z$368,7,0)","v":0},"","",""]
["16zaND",{"$f":"VLOOKUP($AA338,DATA!$B$3:$E$6,2,0)","v":"22:30:00"},{"$f":"VLOOKUP($AA338,DATA!$B$3:$E$6,3,0)","v":"06:30:00"},{"$f":"VLOOKUP($AA338,DATA!$B$3:$E$6,4,0)","v":3.125E-2},0.30208333333333326,0.30208333333333326,{"$f":"DATA!$C$9","v":0.89},{"$f":"DATA!$C$10","v":64},1,407.81249999999989,407.81249999999989,0,"","",0,"","",0,"","","","",null,{"$f":"X331","v":16},null,{"$f":"TEXT(Y336,\"ddd\")","v":"za"},"ND",{"$f":"IFERROR(HLOOKUP(Y336,[1]DATA!$A$1:$NB$5,5,0),\"\")","v":"-"},null,null,null,null,{"$f":"VLOOKUP(Y336,[1]SRA!$S$4:$Z$368,8,0)","v":0},"","",""]
["16zoDD",{"$f":"VLOOKUP($AA339,DATA!$B$3:$E$6,2,0)","v":"06:30:00"},{"$f":"VLOOKUP($AA339,DATA!$B$3:$E$6,3,0)","v":"14:30:00"},{"$f":"VLOOKUP($AA339,DATA!$B$3:$E$6,4,0)","v":3.125E-2},0.30208333333333331,0.30208333333333331,{"$f":"DATA!$C$9","v":0.89},{"$f":"DATA!$C$10","v":64},1,407.8125,407.8125,0,"","",0,"","",0,"","","","",null,{"$f":"X331","v":16},{"$f":"Y336+1","v":"2018-04-22"},{"$f":"TEXT(Y339,\"ddd\")","v":"zo"},"DD",{"$f":"IFERROR(HLOOKUP(Y339,[1]DATA!$A$1:$NB$5,3,0),\"\")","v":"-"},null,null,null,null,{"$f":"VLOOKUP(Y339,[1]SRA!$S$4:$Z$368,6,0)","v":0},"","",""]
["16zoMD",{"$f":"VLOOKUP($AA340,DATA!$B$3:$E$6,2,0)","v":"14:30:00"},{"$f":"VLOOKUP($AA340,DATA!$B$3:$E$6,3,0)","v":"22:30:00"},{"$f":"VLOOKUP($AA340,DATA!$B$3:$E$6,4,0)","v":3.125E-2},0.30208333333333337,0.30208333333333337,{"$f":"DATA!$C$9","v":0.89},{"$f":"DATA!$C$10","v":64},1,407.81250000000006,407.81250000000006,0,"","",0,"","",0,"","","","",null,{"$f":"X331","v":16},null,{"$f":"TEXT(Y339,\"ddd\")","v":"zo"},"MD",{"$f":"IFERROR(HLOOKUP(Y339,[1]DATA!$A$1:$NB$5,4,0),\"\")","v":"-"},null,null,null,null,{"$f":"VLOOKUP(Y339,[1]SRA!$S$4:$Z$368,7,0)","v":0},"","",""]
["16zoZND",{"$f":"VLOOKUP($AA341,DATA!$B$3:$E$6,2,0)","v":"00:00:00"},{"$f":"VLOOKUP($AA341,DATA!$B$3:$E$6,3,0)","v":"00:00:00"},{"$f":"VLOOKUP($AA341,DATA!$B$3:$E$6,4,0)","v":0},0,0,{"$f":"DATA!$C$9","v":0.89},{"$f":"DATA!$C$10","v":64},1,0,0,0,"","",0,"","",0,"","","","",null,{"$f":"X331","v":16},null,{"$f":"TEXT(Y339,\"ddd\")","v":"zo"},"ZND",{"$f":"IFERROR(HLOOKUP(Y339,[1]DATA!$A$1:$NB$5,5,0),\"\")","v":"-"},null,null,null,null,{"$f":"VLOOKUP(Y339,[1]SRA!$S$4:$Z$368,8,0)","v":0},"","",""]
["17maDD",{"$f":"VLOOKUP($AA342,DATA!$B$3:$E$6,2,0)","v":"06:30:00"},{"$f":"VLOOKUP($AA342,DATA!$B$3:$E$6,3,0)","v":"14:30:00"},{"$f":"VLOOKUP($AA342,DATA!$B$3:$E$6,4,0)","v":3.125E-2},0.30208333333333331,0.28194444444444444,{"$f":"DATA!$C$9","v":0.89},{"$f":"DATA!$C$10","v":64},1,380.625,407.8125,2.013888888888889E-2,27.1875,6.6666666666666666E-2,{"$f":"TIME(INT($AD342/60),INT(MOD($AD342,60)/1),0)","v":0},"","",273.06666666666666,249,"","",249,null,{"$f":"X352","v":17},{"$f":"Y339+1","v":"2018-04-23"},{"$f":"TEXT(Y342,\"ddd\")","v":"ma"},"DD",{"$f":"IFERROR(HLOOKUP(Y342,[1]DATA!$A$1:$NB$5,3,0),\"\")","v":"D3"},29,null,7,256,{"$f":"VLOOKUP(Y342,[1]SRA!$S$4:$AA$368,6,0)","v":28},-131.625,0.61057471264367813,0.90699734278122235,{"$f":"IF(SUMIF(S342:S362,\">0\",K342:K362)=0,\"\",SUMIF(S342:S362,\">0\",K342:K362))","v":4893.75},{"$f":"IF(SUM(S342:S362)=0,\"\",SUM(S342:S362))","v":3374},{"$f":"IFERROR(AL342/AK342,\"-\")","v":0.68945083014048536},{"$f":"IF(SUM(M342:M362)=0,\"0\",SUM(M342:M362))","v":200.625},{"$f":"IFERROR(AN342/AK342,\"-\")","v":4.0996168582375481E-2},{"$f":"IF(SUM(P342:P362)=0,0,SUM(P342:P362))","v":0},{"$f":"IFERROR(AP342/AK342,\"-\")","v":0},{"$f":"IFERROR(AVERAGE(AJ342:AJ362),\"-\")","v":0.94095099669193338},{"$f":"IFERROR(SUMIF($AB342:$AB362,AS$5,$AJ342:$AJ362)/COUNTIFS($AB342:$AB362,AS$5,$AJ342:$AJ362,\">0\"),\"\")","v":0.95728479221171225},0.92196094647847282,0.9436072513856143,{"$f":"IFERROR((AK342-AL342-AN342-AP342),\"-\")","v":1319.125},{"$f":"IFERROR((1-AM342-AO342-AQ342), \"-\")","v":0.26955300127713916},{"$f":"IFERROR((AV342*$AE$2)/60,\"-\")","v":1407.0666666666666},{"$f":"IFERROR(SUM(AG342:AG362),\"\")","v":244}]
["17maMD",{"$f":"VLOOKUP($AA343,DATA!$B$3:$E$6,2,0)","v":"14:30:00"},{"$f":"VLOOKUP($AA343,DATA!$B$3:$E$6,3,0)","v":"22:30:00"},{"$f":"VLOOKUP($AA343,DATA!$B$3:$E$6,4,0)","v":3.125E-2},0.30208333333333337,0.2819444444444445,{"$f":"DATA!$C$9","v":0.89},{"$f":"DATA!$C$10","v":64},1,380.62500000000006,407.81250000000006,2.013888888888889E-2,27.1875,6.6666666666666652E-2,{"$f":"TIME(INT(AD343/60),INT(MOD(AD343,60)/1),0)","v":0},"","",349.86666666666667,296,"",296,"",null,{"$f":"X352","v":17},null,{"$f":"TEXT(Y342,\"ddd\")","v":"ma"},"MD",{"$f":"IFERROR(HLOOKUP(Y342,[1]DATA!$A$1:$NB$5,4,0),\"\")","v":"D2"},29,null,32,328,{"$f":"VLOOKUP(Y342,[1]SRA!$S$4:$Z$368,7,0)","v":33},-84.625000000000057,0.72582375478927197,0.91380811422601427]
["17maND",{"$f":"VLOOKUP($AA344,DATA!$B$3:$E$6,2,0)","v":"22:30:00"},{"$f":"VLOOKUP($AA344,DATA!$B$3:$E$6,3,0)","v":"06:30:00"},{"$f":"VLOOKUP($AA344,DATA!$B$3:$E$6,4,0)","v":3.125E-2},0.30208333333333326,0.28680555555555548,{"$f":"DATA!$C$9","v":0.89},{"$f":"DATA!$C$10","v":64},1,387.18749999999989,407.81249999999989,1.5277777777777777E-2,20.625,5.0574712643678174E-2,0,"","",253.86666666666667,228,228,"","",null,{"$f":"X352","v":17},null,{"$f":"TEXT(Y342,\"ddd\")","v":"ma"},"ND",{"$f":"IFERROR(HLOOKUP(Y342,[1]DATA!$A$1:$NB$5,5,0),\"\")","v":"D1"},22,null,10,238,{"$f":"VLOOKUP(Y342,[1]SRA!$S$4:$Z$368,8,0)","v":8},-159.18749999999989,0.55908045977011511,0.96945010183299385]
["17diDD",{"$f":"VLOOKUP($AA345,DATA!$B$3:$E$6,2,0)","v":"06:30:00"},{"$f":"VLOOKUP($AA345,DATA!$B$3:$E$6,3,0)","v":"14:30:00"},{"$f":"VLOOKUP($AA345,DATA!$B$3:$E$6,4,0)","v":3.125E-2},0.30208333333333331,0.29652777777777778,{"$f":"DATA!$C$9","v":0.89},{"$f":"DATA!$C$10","v":64},1,400.3125,407.8125,5.5555555555555558E-3,7.5,1.8390804597701149E-2,0,"","",331.73333333333335,305,"","",305,null,{"$f":"X352","v":17},{"$f":"Y342+1","v":"2018-04-24"},{"$f":"TEXT(Y345,\"ddd\")","v":"di"},"DD",{"$f":"IFERROR(HLOOKUP(Y345,[1]DATA!$A$1:$NB$5,3,0),\"\")","v":"D3"},8,null,6,311,{"$f":"VLOOKUP(Y345,[1]SRA!$S$4:$Z$368,6,0)","v":5},-95.3125,0.74789272030651344,0.98515145515739455]
["17diMD",{"$f":"VLOOKUP($AA346,DATA!$B$3:$E$6,2,0)","v":"14:30:00"},{"$f":"VLOOKUP($AA346,DATA!$B$3:$E$6,3,0)","v":"22:30:00"},{"$f":"VLOOKUP($AA346,DATA!$B$3:$E$6,4,0)","v":3.125E-2},0.30208333333333337,0.29791666666666672,{"$f":"DATA!$C$9","v":0.89},{"$f":"DATA!$C$10","v":64},1,402.18750000000006,407.81250000000006,4.1666666666666666E-3,5.625,1.379310344827586E-2,0,"","",381.86666666666667,316,"",316,"",null,{"$f":"X352","v":17},null,{"$f":"TEXT(Y345,\"ddd\")","v":"di"},"MD",{"$f":"IFERROR(HLOOKUP(Y345,[1]DATA!$A$1:$NB$5,4,0),\"\")","v":"D2"},6,null,42,358,{"$f":"VLOOKUP(Y345,[1]SRA!$S$4:$Z$368,7,0)","v":38},-86.187500000000057,0.77486590038314163,0.90949507780247696]
["17diND",{"$f":"VLOOKUP($AA347,DATA!$B$3:$E$6,2,0)","v":"22:30:00"},{"$f":"VLOOKUP($AA347,DATA!$B$3:$E$6,3,0)","v":"06:30:00"},{"$f":"VLOOKUP($AA347,DATA!$B$3:$E$6,4,0)","v":3.125E-2},0.30208333333333326,0.2944444444444444,{"$f":"DATA!$C$9","v":0.89},{"$f":"DATA!$C$10","v":64},1,397.49999999999994,407.81249999999989,7.6388888888888886E-3,10.3125,2.5287356321839087E-2,0,"","",270.93333333333334,237,237,"","",null,{"$f":"X352","v":17},null,{"$f":"TEXT(Y345,\"ddd\")","v":"di"},"ND",{"$f":"IFERROR(HLOOKUP(Y345,[1]DATA!$A$1:$NB$5,5,0),\"\")","v":"D1"},11,null,17,254,{"$f":"VLOOKUP(Y345,[1]SRA!$S$4:$Z$368,8,0)","v":18},-160.49999999999994,0.58114942528735647,{"$f":"IFERROR(R347/(R347+AG347),\"\")","v":0.9377018920166128}]
["17woDD",{"$f":"VLOOKUP($AA348,DATA!$B$3:$E$6,2,0)","v":"06:30:00"},{"$f":"VLOOKUP($AA348,DATA!$B$3:$E$6,3,0)","v":"14:30:00"},{"$f":"VLOOKUP($AA348,DATA!$B$3:$E$6,4,0)","v":3.125E-2},{"$f":"(C348-B348+(B348>C348))-D348","v":0.30208333333333331},{"$f":"E348-O348-L348","v":0.28680555555555554},{"$f":"DATA!$C$9","v":0.89},{"$f":"DATA!$C$10","v":64},1,{"$f":"F348*86400/H348*I348","v":387.1875},{"$f":"E348*86400/H348","v":407.8125},1.5277777777777777E-2,20.625,5.057471264367816E-2,0,"","",{"$f":"AF348*AG$2","v":268.8},{"$f":"IF(AF348-AE348=0,\"\",AF348-AE348)","v":242},"","",242,null,{"$f":"X352","v":17},{"$f":"Y345+1","v":"2018-04-25"},{"$f":"TEXT(Y348,\"ddd\")","v":"wo"},"DD",{"$f":"IFERROR(HLOOKUP(Y348,[1]DATA!$A$1:$NB$5,3,0),\"\")","v":"D3"},22,null,10,252,{"$f":"VLOOKUP(Y348,[1]SRA!$S$4:$Z$368,6,0)","v":10},-145.1875,0.59340996168582372,0.96413199426111906]
["17woMD",{"$f":"VLOOKUP($AA349,DATA!$B$3:$E$6,2,0)","v":"14:30:00"},{"$f":"VLOOKUP($AA349,DATA!$B$3:$E$6,3,0)","v":"22:30:00"},{"$f":"VLOOKUP($AA349,DATA!$B$3:$E$6,4,0)","v":3.125E-2},0.30208333333333337,0.28611111111111115,{"$f":"DATA!$C$9","v":0.89},{"$f":"DATA!$C$10","v":64},1,386.25000000000006,407.81250000000006,1.5972222222222224E-2,21.562500000000004,5.2873563218390804E-2,0,"","",306.13333333333333,262,"",262,"",null,{"$f":"X352","v":17},null,{"$f":"TEXT(Y348,\"ddd\")","v":"wo"},"MD",{"$f":"IFERROR(HLOOKUP(Y348,[1]DATA!$A$1:$NB$5,4,0),\"\")","v":"D2"},23,null,25,287,{"$f":"VLOOKUP(Y348,[1]SRA!$S$4:$Z$368,7,0)","v":24},-124.25000000000006,0.64245210727969337,0.9273021001615509]
["17woND",{"$f":"VLOOKUP($AA350,DATA!$B$3:$E$6,2,0)","v":"22:30:00"},{"$f":"VLOOKUP($AA350,DATA!$B$3:$E$6,3,0)","v":"06:30:00"},{"$f":"VLOOKUP($AA350,DATA!$B$3:$E$6,4,0)","v":3.125E-2},0.30208333333333326,0.29513888888888884,{"$f":"DATA!$C$9","v":0.89},{"$f":"DATA!$C$10","v":64},1,398.43749999999994,407.81249999999989,6.9444444444444441E-3,9.375,2.2988505747126443E-2,0,"","",381.86666666666667,343,343,"","",null,{"$f":"X352","v":17},null,{"$f":"TEXT(Y348,\"ddd\")","v":"wo"},"ND",{"$f":"IFERROR(HLOOKUP(Y348,[1]DATA!$A$1:$NB$5,5,0),\"\")","v":"D1"},10,null,15,358,{"$f":"VLOOKUP(Y348,[1]SRA!$S$4:$Z$368,8,0)","v":3},-55.437499999999943,0.84107279693486614,0.99220509267278711]
["17doDD",{"$f":"VLOOKUP($AA351,DATA!$B$3:$E$6,2,0)","v":"06:30:00"},{"$f":"VLOOKUP($AA351,DATA!$B$3:$E$6,3,0)","v":"14:30:00"},{"$f":"VLOOKUP($AA351,DATA!$B$3:$E$6,4,0)","v":3.125E-2},0.30208333333333331,0.30138888888888887,{"$f":"DATA!$C$9","v":0.89},{"$f":"DATA!$C$10","v":64},1,406.875,407.8125,6.9444444444444447E-4,0.9375,2.2988505747126436E-3,0,"","",347.73333333333335,314,"","",314,null,{"$f":"X352","v":17},{"$f":"Y348+1","v":"2018-04-26"},{"$f":"TEXT(Y351,\"ddd\")","v":"do"},"DD",{"$f":"IFERROR(HLOOKUP(Y351,[1]DATA!$A$1:$NB$5,3,0),\"\")","v":"D3"},1,null,12,326,{"$f":"VLOOKUP(Y351,[1]SRA!$S$4:$Z$368,6,0)","v":31},-92.875,0.76996168582375479,0.91814821334272134]
["17doMD",{"$f":"VLOOKUP($AA352,DATA!$B$3:$E$6,2,0)","v":"14:30:00"},{"$f":"VLOOKUP($AA352,DATA!$B$3:$E$6,3,0)","v":"22:30:00"},{"$f":"VLOOKUP($AA352,DATA!$B$3:$E$6,4,0)","v":3.125E-2},0.30208333333333337,0.29236111111111113,{"$f":"DATA!$C$9","v":0.89},{"$f":"DATA!$C$10","v":64},1,394.6875,407.81250000000006,9.7222222222222224E-3,13.125,3.2183908045977004E-2,0,"","",253.86666666666667,230,"",230,"",null,{"$f":"WEEKNUM($Y342)","v":17},null,{"$f":"TEXT(Y351,\"ddd\")","v":"do"},"MD",{"$f":"IFERROR(HLOOKUP(Y351,[1]DATA!$A$1:$NB$5,4,0),\"\")","v":"D2"},14,null,8,238,{"$f":"VLOOKUP(Y351,[1]SRA!$S$4:$Z$368,7,0)","v":17},-164.6875,0.56398467432950183,0.93723849372384938]
["17doND",{"$f":"VLOOKUP($AA353,DATA!$B$3:$E$6,2,0)","v":"22:30:00"},{"$f":"VLOOKUP($AA353,DATA!$B$3:$E$6,3,0)","v":"06:30:00"},{"$f":"VLOOKUP($AA353,DATA!$B$3:$E$6,4,0)","v":3.125E-2},0.30208333333333326,0.27499999999999991,{"$f":"DATA!$C$9","v":0.89},{"$f":"DATA!$C$10","v":64},1,371.24999999999989,407.81249999999989,2.7083333333333334E-2,36.5625,8.965517241379313E-2,0,"","",384,352,352,"","",null,{"$f":"X352","v":17},null,{"$f":"TEXT(Y351,\"ddd\")","v":"do"},"ND",{"$f":"IFERROR(HLOOKUP(Y351,[1]DATA!$A$1:$NB$5,5,0),\"\")","v":"D1"},39,null,8,360,{"$f":"VLOOKUP(Y351,[1]SRA!$S$4:$Z$368,8,0)","v":29},-19.249999999999886,0.8631417624521075,0.92978208232445525]
["17vrDD",{"$f":"VLOOKUP($AA354,DATA!$B$3:$E$6,2,0)","v":"06:30:00"},{"$f":"VLOOKUP($AA354,DATA!$B$3:$E$6,3,0)","v":"14:30:00"},{"$f":"VLOOKUP($AA354,DATA!$B$3:$E$6,4,0)","v":3.125E-2},0.30208333333333331,0.30208333333333331,{"$f":"DATA!$C$9","v":0.89},{"$f":"DATA!$C$10","v":64},1,407.8125,407.8125,0,"","",0,"","",0,"","","","",null,{"$f":"X352","v":17},{"$f":"Y351+1","v":"2018-04-27"},{"$f":"TEXT(Y354,\"ddd\")","v":"vr"},"DD",{"$f":"IFERROR(HLOOKUP(Y354,[1]DATA!$A$1:$NB$5,3,0),\"\")","v":"D3"},null,null,null,null,{"$f":"VLOOKUP(Y354,[1]SRA!$S$4:$Z$368,6,0)","v":0},"","",""]
["17vrMD",{"$f":"VLOOKUP($AA355,DATA!$B$3:$E$6,2,0)","v":"14:30:00"},{"$f":"VLOOKUP($AA355,DATA!$B$3:$E$6,3,0)","v":"22:30:00"},{"$f":"VLOOKUP($AA355,DATA!$B$3:$E$6,4,0)","v":3.125E-2},0.30208333333333337,0.30208333333333337,{"$f":"DATA!$C$9","v":0.89},{"$f":"DATA!$C$10","v":64},1,407.81250000000006,407.81250000000006,0,"","",0,"","",0,"","","","",null,{"$f":"X352","v":17},null,{"$f":"TEXT(Y354,\"ddd\")","v":"vr"},"MD",{"$f":"IFERROR(HLOOKUP(Y354,[1]DATA!$A$1:$NB$5,4,0),\"\")","v":"D2"},null,null,null,null,{"$f":"VLOOKUP(Y354,[1]SRA!$S$4:$Z$368,7,0)","v":0},"","",""]
["17vrND",{"$f":"VLOOKUP($AA356,DATA!$B$3:$E$6,2,0)","v":"22:30:00"},{"$f":"VLOOKUP($AA356,DATA!$B$3:$E$6,3,0)","v":"06:30:00"},{"$f":"VLOOKUP($AA356,DATA!$B$3:$E$6,4,0)","v":3.125E-2},0.30208333333333326,0.30208333333333326,{"$f":"DATA!$C$9","v":0.89},{"$f":"DATA!$C$10","v":64},1,407.81249999999989,407.81249999999989,0,"","",0,"","",0,"","","","",null,{"$f":"X352","v":17},null,{"$f":"TEXT(Y354,\"ddd\")","v":"vr"},"ND",{"$f":"IFERROR(HLOOKUP(Y354,[1]DATA!$A$1:$NB$5,5,0),\"\")","v":"D2"},null,null,null,null,{"$f":"VLOOKUP(Y354,[1]SRA!$S$4:$Z$368,8,0)","v":0},"","",""]
["17zaDD",{"$f":"VLOOKUP($AA357,DATA!$B$3:$E$6,2,0)","v":"06:30:00"},{"$f":"VLOOKUP($AA357,DATA!$B$3:$E$6,3,0)","v":"14:30:00"},{"$f":"VLOOKUP($AA357,DATA!$B$3:$E$6,4,0)","v":3.125E-2},0.30208333333333331,0.30208333333333331,{"$f":"DATA!$C$9","v":0.89},{"$f":"DATA!$C$10","v":64},1,407.8125,407.8125,0,"","",0,"","",0,"","","","",null,{"$f":"X352","v":17},{"$f":"Y354+1","v":"2018-04-28"},{"$f":"TEXT(Y357,\"ddd\")","v":"za"},"DD",{"$f":"IFERROR(HLOOKUP(Y357,[1]DATA!$A$1:$NB$5,3,0),\"\")","v":"D3"},null,null,null,null,{"$f":"VLOOKUP(Y357,[1]SRA!$S$4:$Z$368,6,0)","v":0},"","",""]
["17zaMD",{"$f":"VLOOKUP($AA358,DATA!$B$3:$E$6,2,0)","v":"14:30:00"},{"$f":"VLOOKUP($AA358,DATA!$B$3:$E$6,3,0)","v":"22:30:00"},{"$f":"VLOOKUP($AA358,DATA!$B$3:$E$6,4,0)","v":3.125E-2},0.30208333333333337,0.30208333333333337,{"$f":"DATA!$C$9","v":0.89},{"$f":"DATA!$C$10","v":64},1,407.81250000000006,407.81250000000006,0,"","",0,"","",0,"","","","",null,{"$f":"X352","v":17},null,{"$f":"TEXT(Y357,\"ddd\")","v":"za"},"MD",{"$f":"IFERROR(HLOOKUP(Y357,[1]DATA!$A$1:$NB$5,4,0),\"\")","v":"-"},null,null,null,null,{"$f":"VLOOKUP(Y357,[1]SRA!$S$4:$Z$368,7,0)","v":0},"","",""]
["17zaND",{"$f":"VLOOKUP($AA359,DATA!$B$3:$E$6,2,0)","v":"22:30:00"},{"$f":"VLOOKUP($AA359,DATA!$B$3:$E$6,3,0)","v":"06:30:00"},{"$f":"VLOOKUP($AA359,DATA!$B$3:$E$6,4,0)","v":3.125E-2},0.30208333333333326,0.30208333333333326,{"$f":"DATA!$C$9","v":0.89},{"$f":"DATA!$C$10","v":64},1,407.81249999999989,407.81249999999989,0,"","",0,"","",0,"","","","",null,{"$f":"X352","v":17},null,{"$f":"TEXT(Y357,\"ddd\")","v":"za"},"ND",{"$f":"IFERROR(HLOOKUP(Y357,[1]DATA!$A$1:$NB$5,5,0),\"\")","v":"-"},null,null,null,null,{"$f":"VLOOKUP(Y357,[1]SRA!$S$4:$Z$368,8,0)","v":0},"","",""]
["17zoDD",{"$f":"VLOOKUP($AA360,DATA!$B$3:$E$6,2,0)","v":"06:30:00"},{"$f":"VLOOKUP($AA360,DATA!$B$3:$E$6,3,0)","v":"14:30:00"},{"$f":"VLOOKUP($AA360,DATA!$B$3:$E$6,4,0)","v":3.125E-2},0.30208333333333331,0.30208333333333331,{"$f":"DATA!$C$9","v":0.89},{"$f":"DATA!$C$10","v":64},1,407.8125,407.8125,0,"","",0,"","",0,"","","","",null,{"$f":"X352","v":17},{"$f":"Y357+1","v":"2018-04-29"},{"$f":"TEXT(Y360,\"ddd\")","v":"zo"},"DD",{"$f":"IFERROR(HLOOKUP(Y360,[1]DATA!$A$1:$NB$5,3,0),\"\")","v":"-"},null,null,null,null,{"$f":"VLOOKUP(Y360,[1]SRA!$S$4:$Z$368,6,0)","v":0},"","",""]
["17zoMD",{"$f":"VLOOKUP($AA361,DATA!$B$3:$E$6,2,0)","v":"14:30:00"},{"$f":"VLOOKUP($AA361,DATA!$B$3:$E$6,3,0)","v":"22:30:00"},{"$f":"VLOOKUP($AA361,DATA!$B$3:$E$6,4,0)","v":3.125E-2},0.30208333333333337,0.30208333333333337,{"$f":"DATA!$C$9","v":0.89},{"$f":"DATA!$C$10","v":64},1,407.81250000000006,407.81250000000006,0,"","",0,"","",0,"","","","",null,{"$f":"X352","v":17},null,{"$f":"TEXT(Y360,\"ddd\")","v":"zo"},"MD",{"$f":"IFERROR(HLOOKUP(Y360,[1]DATA!$A$1:$NB$5,4,0),\"\")","v":"-"},null,null,null,null,{"$f":"VLOOKUP(Y360,[1]SRA!$S$4:$Z$368,7,0)","v":0},"","",""]
["17zoZND",{"$f":"VLOOKUP($AA362,DATA!$B$3:$E$6,2,0)","v":"00:00:00"},{"$f":"VLOOKUP($AA362,DATA!$B$3:$E$6,3,0)","v":"00:00:00"},{"$f":"VLOOKUP($AA362,DATA!$B$3:$E$6,4,0)","v":0},0,0,{"$f":"DATA!$C$9","v":0.89},{"$f":"DATA!$C$10","v":64},1,0,0,0,"","",0,"","",0,"","","","",null,{"$f":"X352","v":17},null,{"$f":"TEXT(Y360,\"ddd\")","v":"zo"},"ZND",{"$f":"IFERROR(HLOOKUP(Y360,[1]DATA!$A$1:$NB$5,5,0),\"\")","v":"-"},null,null,null,null,{"$f":"VLOOKUP(Y360,[1]SRA!$S$4:$Z$368,8,0)","v":0},"","",""]
["18maDD",{"$f":"VLOOKUP($AA363,DATA!$B$3:$E$6,2,0)","v":"06:30:00"},{"$f":"VLOOKUP($AA363,DATA!$B$3:$E$6,3,0)","v":"14:30:00"},{"$f":"VLOOKUP($AA363,DATA!$B$3:$E$6,4,0)","v":3.125E-2},0.30208333333333331,0.28263888888888888,{"$f":"DATA!$C$9","v":0.89},{"$f":"DATA!$C$10","v":64},1,381.5625,407.8125,1.9444444444444445E-2,26.25,6.4367816091954022E-2,{"$f":"TIME(INT($AD363/60),INT(MOD($AD363,60)/1),0)","v":0},"","",361.6,328,"",328,"",null,{"$f":"X373","v":18},{"$f":"Y360+1","v":"2018-04-30"},{"$f":"TEXT(Y363,\"ddd\")","v":"ma"},"DD",{"$f":"IFERROR(HLOOKUP(Y363,[1]DATA!$A$1:$NB$5,3,0),\"\")","v":"D2"},28,null,11,339,{"$f":"VLOOKUP(Y363,[1]SRA!$S$4:$AA$368,6,0)","v":11},-53.5625,0.80429118773946362,0.97047772410091249,{"$f":"IF(SUMIF(S363:S383,\">0\",K363:K383)=0,\"\",SUMIF(S363:S383,\">0\",K363:K383))","v":6525},{"$f":"IF(SUM(S363:S383)=0,\"\",SUM(S363:S383))","v":4773},{"$f":"IFERROR(AL363/AK363,\"-\")","v":0.73149425287356318},{"$f":"IF(SUM(M363:M383)=0,\"0\",SUM(M363:M383))","v":395.625},{"$f":"IFERROR(AN363/AK363,\"-\")","v":6.0632183908045978E-2},{"$f":"IF(SUM(P363:P383)=0,0,SUM(P363:P383))","v":0},{"$f":"IFERROR(AP363/AK363,\"-\")","v":0},0.94957175244161796,{"$f":"IFERROR(SUMIF($AB363:$AB383,AS$5,$AJ363:$AJ383)/COUNTIFS($AB363:$AB383,AS$5,$AJ363:$AJ383,\">0\"),\"\")","v":0.94055121951859333},0.94681995284654752,0.96189444487872677,{"$f":"IFERROR((AK363-AL363-AN363-AP363),\"-\")","v":1356.375},{"$f":"IFERROR((1-AM363-AO363-AQ363), \"-\")","v":0.20787356321839084},{"$f":"IFERROR((AV363*$AE$2)/60,\"-\")","v":1446.8},{"$f":"IFERROR(SUM(AG363:AG383),\"\")","v":296}]
["18maMD",{"$f":"VLOOKUP($AA364,DATA!$B$3:$E$6,2,0)","v":"14:30:00"},{"$f":"VLOOKUP($AA364,DATA!$B$3:$E$6,3,0)","v":"22:30:00"},{"$f":"VLOOKUP($AA364,DATA!$B$3:$E$6,4,0)","v":3.125E-2},0.30208333333333337,0.28263888888888894,{"$f":"DATA!$C$9","v":0.89},{"$f":"DATA!$C$10","v":64},1,381.56250000000006,407.81250000000006,1.9444444444444445E-2,26.25,6.4367816091954008E-2,{"$f":"TIME(INT(AD364/60),INT(MOD(AD364,60)/1),0)","v":0},"","",315.73333333333335,282,282,"","",null,{"$f":"X373","v":18},null,{"$f":"TEXT(Y363,\"ddd\")","v":"ma"},"MD",{"$f":"IFERROR(HLOOKUP(Y363,[1]DATA!$A$1:$NB$5,4,0),\"\")","v":"D1"},28,null,14,296,{"$f":"VLOOKUP(Y363,[1]SRA!$S$4:$Z$368,7,0)","v":18},-99.562500000000057,0.69149425287356314,0.94606472233320016]
["18maND",{"$f":"VLOOKUP($AA365,DATA!$B$3:$E$6,2,0)","v":"22:30:00"},{"$f":"VLOOKUP($AA365,DATA!$B$3:$E$6,3,0)","v":"06:30:00"},{"$f":"VLOOKUP($AA365,DATA!$B$3:$E$6,4,0)","v":3.125E-2},0.30208333333333326,0.2805555555555555,{"$f":"DATA!$C$9","v":0.89},{"$f":"DATA!$C$10","v":64},1,378.74999999999994,407.81249999999989,2.1527777777777781E-2,29.062500000000004,7.1264367816091981E-2,0,"","",347.73333333333335,311,"","",311,null,{"$f":"X373","v":18},null,{"$f":"TEXT(Y363,\"ddd\")","v":"ma"},"ND",{"$f":"IFERROR(HLOOKUP(Y363,[1]DATA!$A$1:$NB$5,5,0),\"\")","v":"D3"},31,null,15,326,{"$f":"VLOOKUP(Y363,[1]SRA!$S$4:$Z$368,8,0)","v":0},-67.749999999999943,0.76260536398467449,1]
["18diDD",{"$f":"VLOOKUP($AA366,DATA!$B$3:$E$6,2,0)","v":"06:30:00"},{"$f":"VLOOKUP($AA366,DATA!$B$3:$E$6,3,0)","v":"14:30:00"},{"$f":"VLOOKUP($AA366,DATA!$B$3:$E$6,4,0)","v":3.125E-2},0.30208333333333331,0.28402777777777777,{"$f":"DATA!$C$9","v":0.89},{"$f":"DATA!$C$10","v":64},1,383.4375,407.8125,1.8055555555555557E-2,24.375000000000004,5.9770114942528742E-2,0,"","",349.86666666666667,308,"",308,"",null,{"$f":"X373","v":18},{"$f":"Y363+1","v":"2018-05-01"},{"$f":"TEXT(Y366,\"ddd\")","v":"di"},"DD",{"$f":"IFERROR(HLOOKUP(Y366,[1]DATA!$A$1:$NB$5,3,0),\"\")","v":"D2"},26,null,20,328,{"$f":"VLOOKUP(Y366,[1]SRA!$S$4:$Z$368,6,0)","v":31},-75.4375,0.75524904214559385,0.91860668650446353]
["18diMD",{"$f":"VLOOKUP($AA367,DATA!$B$3:$E$6,2,0)","v":"14:30:00"},{"$f":"VLOOKUP($AA367,DATA!$B$3:$E$6,3,0)","v":"22:30:00"},{"$f":"VLOOKUP($AA367,DATA!$B$3:$E$6,4,0)","v":3.125E-2},0.30208333333333337,0.24652777777777782,{"$f":"DATA!$C$9","v":0.89},{"$f":"DATA!$C$10","v":64},1,332.81250000000006,407.81250000000006,5.5555555555555552E-2,75,0.18390804597701146,0,"","",369.06666666666666,320,320,"","",null,{"$f":"X373","v":18},null,{"$f":"TEXT(Y366,\"ddd\")","v":"di"},"MD",{"$f":"IFERROR(HLOOKUP(Y366,[1]DATA!$A$1:$NB$5,4,0),\"\")","v":"D1"},80,null,26,346,{"$f":"VLOOKUP(Y366,[1]SRA!$S$4:$Z$368,7,0)","v":43},-12.812500000000057,0.78467432950191562,0.89564795340559777]
[{"$f":"X368&Z368&AA368","v":"18diND"},{"$f":"VLOOKUP($AA368,DATA!$B$3:$E$6,2,0)","v":"22:30:00"},{"$f":"VLOOKUP($AA368,DATA!$B$3:$E$6,3,0)","v":"06:30:00"},{"$f":"VLOOKUP($AA368,DATA!$B$3:$E$6,4,0)","v":3.125E-2},0.30208333333333326,0.2715277777777777,{"$f":"DATA!$C$9","v":0.89},{"$f":"DATA!$C$10","v":64},1,366.56249999999989,407.81249999999989,3.0555555555555555E-2,41.25,0.10114942528735635,0,{"$f":"IF($O368*86400/$H368=0,\"\",$O368*86400/$H368)","v":""},"",338.13333333333333,309,"","",309,null,{"$f":"X373","v":18},null,{"$f":"TEXT(Y366,\"ddd\")","v":"di"},"ND",{"$f":"IFERROR(HLOOKUP(Y366,[1]DATA!$A$1:$NB$5,5,0),\"\")","v":"D3"},44,null,8,317,{"$f":"VLOOKUP(Y366,[1]SRA!$S$4:$Z$368,8,0)","v":16},-57.562499999999886,0.75770114942528755,0.95481927710843373]
["18woDD",{"$f":"VLOOKUP($AA369,DATA!$B$3:$E$6,2,0)","v":"06:30:00"},{"$f":"VLOOKUP($AA369,DATA!$B$3:$E$6,3,0)","v":"14:30:00"},{"$f":"VLOOKUP($AA369,DATA!$B$3:$E$6,4,0)","v":3.125E-2},0.30208333333333331,0.29097222222222219,{"$f":"DATA!$C$9","v":0.89},{"$f":"DATA!$C$10","v":64},1,392.81249999999994,407.8125,1.1111111111111112E-2,15,3.6781609195402298E-2,0,"","",379.73333333333335,336,"",336,"",null,{"$f":"X373","v":18},{"$f":"Y366+1","v":"2018-05-02"},{"$f":"TEXT(Y369,\"ddd\")","v":"wo"},"DD",{"$f":"IFERROR(HLOOKUP(Y369,[1]DATA!$A$1:$NB$5,3,0),\"\")","v":"D2"},16,null,20,356,{"$f":"VLOOKUP(Y369,[1]SRA!$S$4:$Z$368,6,0)","v":31},-56.812499999999943,0.82390804597701151,0.92452523940918685]
["18woMD",{"$f":"VLOOKUP($AA370,DATA!$B$3:$E$6,2,0)","v":"14:30:00"},{"$f":"VLOOKUP($AA370,DATA!$B$3:$E$6,3,0)","v":"22:30:00"},{"$f":"VLOOKUP($AA370,DATA!$B$3:$E$6,4,0)","v":3.125E-2},0.30208333333333337,0.27152777777777781,{"$f":"DATA!$C$9","v":0.89},{"$f":"DATA!$C$10","v":64},1,366.56250000000006,407.81250000000006,3.0555555555555555E-2,41.25,0.10114942528735631,0,"","",355.2,315,315,"","",null,{"$f":"X373","v":18},null,{"$f":"TEXT(Y369,\"ddd\")","v":"wo"},"MD",{"$f":"IFERROR(HLOOKUP(Y369,[1]DATA!$A$1:$NB$5,4,0),\"\")","v":"D1"},44,null,18,333,{"$f":"VLOOKUP(Y369,[1]SRA!$S$4:$Z$368,7,0)","v":28},-51.562500000000057,0.77241379310344815,0.92693110647181631]
["18woND",{"$f":"VLOOKUP($AA371,DATA!$B$3:$E$6,2,0)","v":"22:30:00"},{"$f":"VLOOKUP($AA371,DATA!$B$3:$E$6,3,0)","v":"06:30:00"},{"$f":"VLOOKUP($AA371,DATA!$B$3:$E$6,4,0)","v":3.125E-2},0.30208333333333326,0.29861111111111105,{"$f":"DATA!$C$9","v":0.89},{"$f":"DATA!$C$10","v":64},1,403.12499999999994,407.81249999999989,3.472222222222222E-3,4.6875,1.1494252873563222E-2,0,"","",337.06666666666666,305,"","",305,null,{"$f":"X373","v":18},null,{"$f":"TEXT(Y369,\"ddd\")","v":"wo"},"ND",{"$f":"IFERROR(HLOOKUP(Y369,[1]DATA!$A$1:$NB$5,5,0),\"\")","v":"D3"},5,null,11,316,{"$f":"VLOOKUP(Y369,[1]SRA!$S$4:$Z$368,8,0)","v":5},-98.124999999999943,0.74789272030651366,0.98538296628337552]
["18doDD",{"$f":"VLOOKUP($AA372,DATA!$B$3:$E$6,2,0)","v":"06:30:00"},{"$f":"VLOOKUP($AA372,DATA!$B$3:$E$6,3,0)","v":"14:30:00"},{"$f":"VLOOKUP($AA372,DATA!$B$3:$E$6,4,0)","v":3.125E-2},0.30208333333333331,0.27152777777777776,{"$f":"DATA!$C$9","v":0.89},{"$f":"DATA!$C$10","v":64},1,366.5625,407.8125,3.0555555555555555E-2,41.25,0.10114942528735632,0,"","",344.5333333333333,291,"",291,"",null,{"$f":"X373","v":18},{"$f":"Y369+1","v":"2018-05-03"},{"$f":"TEXT(Y372,\"ddd\")","v":"do"},"DD",{"$f":"IFERROR(HLOOKUP(Y372,[1]DATA!$A$1:$NB$5,3,0),\"\")","v":"D2"},44,null,32,323,{"$f":"VLOOKUP(Y372,[1]SRA!$S$4:$Z$368,6,0)","v":10},-75.5625,0.71356321839080461,0.97179390748401651]
["18doMD",{"$f":"VLOOKUP($AA373,DATA!$B$3:$E$6,2,0)","v":"14:30:00"},{"$f":"VLOOKUP($AA373,DATA!$B$3:$E$6,3,0)","v":"22:30:00"},{"$f":"VLOOKUP($AA373,DATA!$B$3:$E$6,4,0)","v":3.125E-2},0.30208333333333337,0.29722222222222228,{"$f":"DATA!$C$9","v":0.89},{"$f":"DATA!$C$10","v":64},1,401.25000000000006,407.81250000000006,4.8611111111111112E-3,6.5625,1.6091954022988502E-2,0,"","",403.2,345,345,"","",null,{"$f":"WEEKNUM($Y363)","v":18},null,{"$f":"TEXT(Y372,\"ddd\")","v":"do"},"MD",{"$f":"IFERROR(HLOOKUP(Y372,[1]DATA!$A$1:$NB$5,4,0),\"\")","v":"D1"},7,null,33,378,{"$f":"VLOOKUP(Y372,[1]SRA!$S$4:$Z$368,7,0)","v":25},-56.250000000000057,0.84597701149425275,0.9416160672582905]
["18doND",{"$f":"VLOOKUP($AA374,DATA!$B$3:$E$6,2,0)","v":"22:30:00"},{"$f":"VLOOKUP($AA374,DATA!$B$3:$E$6,3,0)","v":"06:30:00"},{"$f":"VLOOKUP($AA374,DATA!$B$3:$E$6,4,0)","v":3.125E-2},0.30208333333333326,0.30138888888888882,{"$f":"DATA!$C$9","v":0.89},{"$f":"DATA!$C$10","v":64},1,406.87499999999989,407.81249999999989,6.9444444444444447E-4,0.9375,2.2988505747126445E-3,0,"","",307.2,282,"","",282,null,{"$f":"X373","v":18},null,{"$f":"TEXT(Y372,\"ddd\")","v":"do"},"ND",{"$f":"IFERROR(HLOOKUP(Y372,[1]DATA!$A$1:$NB$5,5,0),\"\")","v":"D3"},1,null,6,288,{"$f":"VLOOKUP(Y372,[1]SRA!$S$4:$Z$368,8,0)","v":15},-124.87499999999989,0.69149425287356336,0.95344506517690875]
["18vrDD",{"$f":"VLOOKUP($AA375,DATA!$B$3:$E$6,2,0)","v":"06:30:00"},{"$f":"VLOOKUP($AA375,DATA!$B$3:$E$6,3,0)","v":"14:30:00"},{"$f":"VLOOKUP($AA375,DATA!$B$3:$E$6,4,0)","v":3.125E-2},0.30208333333333331,0.28194444444444444,{"$f":"DATA!$C$9","v":0.89},{"$f":"DATA!$C$10","v":64},1,380.625,407.8125,2.013888888888889E-2,27.1875,6.6666666666666666E-2,0,"","",265.60000000000002,239,"",239,"",null,{"$f":"X373","v":18},{"$f":"Y372+1","v":"2018-05-04"},{"$f":"TEXT(Y375,\"ddd\")","v":"vr"},"DD",{"$f":"IFERROR(HLOOKUP(Y375,[1]DATA!$A$1:$NB$5,3,0),\"\")","v":"D2"},29,null,10,249,{"$f":"VLOOKUP(Y375,[1]SRA!$S$4:$Z$368,6,0)","v":21},-141.625,0.5860536398467433,0.92672714584787164]
["18vrMD",{"$f":"VLOOKUP($AA376,DATA!$B$3:$E$6,2,0)","v":"14:30:00"},{"$f":"VLOOKUP($AA376,DATA!$B$3:$E$6,3,0)","v":"22:30:00"},{"$f":"VLOOKUP($AA376,DATA!$B$3:$E$6,4,0)","v":3.125E-2},0.30208333333333337,0.27500000000000002,{"$f":"DATA!$C$9","v":0.89},{"$f":"DATA!$C$10","v":64},1,371.25000000000006,407.81250000000006,2.7083333333333334E-2,36.5625,8.9655172413793088E-2,0,"","",264.5333333333333,239,239,"","",null,{"$f":"X373","v":18},null,{"$f":"TEXT(Y375,\"ddd\")","v":"vr"},"MD",{"$f":"IFERROR(HLOOKUP(Y375,[1]DATA!$A$1:$NB$5,4,0),\"\")","v":"D1"},39,null,9,248,{"$f":"VLOOKUP(Y375,[1]SRA!$S$4:$Z$368,7,0)","v":2},-132.25000000000006,0.58605363984674319,0.99249624812406201]
["18vrND",{"$f":"VLOOKUP($AA377,DATA!$B$3:$E$6,2,0)","v":"22:30:00"},{"$f":"VLOOKUP($AA377,DATA!$B$3:$E$6,3,0)","v":"06:30:00"},{"$f":"VLOOKUP($AA377,DATA!$B$3:$E$6,4,0)","v":3.125E-2},0.30208333333333326,0.30208333333333326,{"$f":"DATA!$C$9","v":0.89},{"$f":"DATA!$C$10","v":64},1,407.81249999999989,407.81249999999989,0,"","",0,"","",326.39999999999998,301,"","",301,null,{"$f":"X373","v":18},null,{"$f":"TEXT(Y375,\"ddd\")","v":"vr"},"ND",{"$f":"IFERROR(HLOOKUP(Y375,[1]DATA!$A$1:$NB$5,5,0),\"\")","v":"D3"},0,null,5,306,{"$f":"VLOOKUP(Y375,[1]SRA!$S$4:$Z$368,8,0)","v":30},-106.81249999999989,0.73808429118773966,0.91582491582491588]
["18zaDD",{"$f":"VLOOKUP($AA378,DATA!$B$3:$E$6,2,0)","v":"06:30:00"},{"$f":"VLOOKUP($AA378,DATA!$B$3:$E$6,3,0)","v":"14:30:00"},{"$f":"VLOOKUP($AA378,DATA!$B$3:$E$6,4,0)","v":3.125E-2},0.30208333333333331,0.30208333333333331,{"$f":"DATA!$C$9","v":0.89},{"$f":"DATA!$C$10","v":64},1,407.8125,407.8125,0,"","",0,"","",310.39999999999998,262,"",262,"",null,{"$f":"X373","v":18},{"$f":"Y375+1","v":"2018-05-05"},{"$f":"TEXT(Y378,\"ddd\")","v":"za"},"DD",{"$f":"IFERROR(HLOOKUP(Y378,[1]DATA!$A$1:$NB$5,3,0),\"\")","v":"D2"},0,null,29,291,{"$f":"VLOOKUP(Y378,[1]SRA!$S$4:$Z$368,6,0)","v":10},-145.8125,0.64245210727969349,0.96878901373283399]
["18zaMD",{"$f":"VLOOKUP($AA379,DATA!$B$3:$E$6,2,0)","v":"14:30:00"},{"$f":"VLOOKUP($AA379,DATA!$B$3:$E$6,3,0)","v":"22:30:00"},{"$f":"VLOOKUP($AA379,DATA!$B$3:$E$6,4,0)","v":3.125E-2},0.30208333333333337,0.30208333333333337,{"$f":"DATA!$C$9","v":0.89},{"$f":"DATA!$C$10","v":64},1,407.81250000000006,407.81250000000006,0,"","",0,"","",0,"","","","",null,{"$f":"X373","v":18},null,{"$f":"TEXT(Y378,\"ddd\")","v":"za"},"MD",{"$f":"IFERROR(HLOOKUP(Y378,[1]DATA!$A$1:$NB$5,4,0),\"\")","v":"-"},null,null,null,null,{"$f":"VLOOKUP(Y378,[1]SRA!$S$4:$Z$368,7,0)","v":0},"","",""]
["18zaND",{"$f":"VLOOKUP($AA380,DATA!$B$3:$E$6,2,0)","v":"22:30:00"},{"$f":"VLOOKUP($AA380,DATA!$B$3:$E$6,3,0)","v":"06:30:00"},{"$f":"VLOOKUP($AA380,DATA!$B$3:$E$6,4,0)","v":3.125E-2},0.30208333333333326,0.30208333333333326,{"$f":"DATA!$C$9","v":0.89},{"$f":"DATA!$C$10","v":64},1,407.81249999999989,407.81249999999989,0,"","",0,"","",0,"","","","",null,{"$f":"X373","v":18},null,{"$f":"TEXT(Y378,\"ddd\")","v":"za"},"ND",{"$f":"IFERROR(HLOOKUP(Y378,[1]DATA!$A$1:$NB$5,5,0),\"\")","v":"-"},null,null,null,null,{"$f":"VLOOKUP(Y378,[1]SRA!$S$4:$Z$368,8,0)","v":0},"","",""]
["18zoDD",{"$f":"VLOOKUP($AA381,DATA!$B$3:$E$6,2,0)","v":"06:30:00"},{"$f":"VLOOKUP($AA381,DATA!$B$3:$E$6,3,0)","v":"14:30:00"},{"$f":"VLOOKUP($AA381,DATA!$B$3:$E$6,4,0)","v":3.125E-2},0.30208333333333331,0.30208333333333331,{"$f":"DATA!$C$9","v":0.89},{"$f":"DATA!$C$10","v":64},1,407.8125,407.8125,0,"","",0,"","",0,"","","","",null,{"$f":"X373","v":18},{"$f":"Y378+1","v":"2018-05-06"},{"$f":"TEXT(Y381,\"ddd\")","v":"zo"},"DD",{"$f":"IFERROR(HLOOKUP(Y381,[1]DATA!$A$1:$NB$5,3,0),\"\")","v":"-"},null,null,null,null,{"$f":"VLOOKUP(Y381,[1]SRA!$S$4:$Z$368,6,0)","v":0},"","",""]
["18zoMD",{"$f":"VLOOKUP($AA382,DATA!$B$3:$E$6,2,0)","v":"14:30:00"},{"$f":"VLOOKUP($AA382,DATA!$B$3:$E$6,3,0)","v":"22:30:00"},{"$f":"VLOOKUP($AA382,DATA!$B$3:$E$6,4,0)","v":3.125E-2},0.30208333333333337,0.30208333333333337,{"$f":"DATA!$C$9","v":0.89},{"$f":"DATA!$C$10","v":64},1,407.81250000000006,407.81250000000006,0,"","",0,"","",0,"","","","",null,{"$f":"X373","v":18},null,{"$f":"TEXT(Y381,\"ddd\")","v":"zo"},"MD",{"$f":"IFERROR(HLOOKUP(Y381,[1]DATA!$A$1:$NB$5,4,0),\"\")","v":"-"},null,null,null,null,{"$f":"VLOOKUP(Y381,[1]SRA!$S$4:$Z$368,7,0)","v":0},"","",""]
["18zoZND",{"$f":"VLOOKUP($AA383,DATA!$B$3:$E$6,2,0)","v":"00:00:00"},{"$f":"VLOOKUP($AA383,DATA!$B$3:$E$6,3,0)","v":"00:00:00"},{"$f":"VLOOKUP($AA383,DATA!$B$3:$E$6,4,0)","v":0},0,0,{"$f":"DATA!$C$9","v":0.89},{"$f":"DATA!$C$10","v":64},1,0,0,0,"","",0,"","",0,"","","","",null,{"$f":"X373","v":18},null,{"$f":"TEXT(Y381,\"ddd\")","v":"zo"},"ZND",{"$f":"IFERROR(HLOOKUP(Y381,[1]DATA!$A$1:$NB$5,5,0),\"\")","v":"-"},null,null,null,null,{"$f":"VLOOKUP(Y381,[1]SRA!$S$4:$Z$368,8,0)","v":0},"","",""]
["19maDD",{"$f":"VLOOKUP($AA384,DATA!$B$3:$E$6,2,0)","v":"06:30:00"},{"$f":"VLOOKUP($AA384,DATA!$B$3:$E$6,3,0)","v":"14:30:00"},{"$f":"VLOOKUP($AA384,DATA!$B$3:$E$6,4,0)","v":3.125E-2},0.30208333333333331,0.29722222222222222,{"$f":"DATA!$C$9","v":0.89},{"$f":"DATA!$C$10","v":64},1,401.25,407.8125,4.8611111111111112E-3,6.5625,1.6091954022988506E-2,{"$f":"TIME(INT($AD384/60),INT(MOD($AD384,60)/1),0)","v":0},"","",360.5333333333333,317,317,"","",null,{"$f":"X394","v":19},{"$f":"Y381+1","v":"2018-05-07"},{"$f":"TEXT(Y384,\"ddd\")","v":"ma"},"DD",{"$f":"IFERROR(HLOOKUP(Y384,[1]DATA!$A$1:$NB$5,3,0),\"\")","v":"D1"},7,null,21,338,{"$f":"VLOOKUP(Y384,[1]SRA!$S$4:$AA$368,6,0)","v":16},-84.25,0.77731800766283521,0.95750708215297453,{"$f":"IF(SUMIF(S384:S404,\">0\",K384:K404)=0,\"\",SUMIF(S384:S404,\">0\",K384:K404))","v":5301.5625},{"$f":"IF(SUM(S384:S404)=0,\"\",SUM(S384:S404))","v":3835},{"$f":"IFERROR(AL384/AK384,\"-\")","v":0.7233716475095785},{"$f":"IF(SUM(M384:M404)=0,\"0\",SUM(M384:M404))","v":328.125},{"$f":"IFERROR(AN384/AK384,\"-\")","v":6.1892130857648102E-2},{"$f":"IF(SUM(P384:P404)=0,0,SUM(P384:P404))","v":0},{"$f":"IFERROR(AP384/AK384,\"-\")","v":0},0.94226671237829096,{"$f":"IFERROR(SUMIF($AB384:$AB404,AS$5,$AJ384:$AJ404)/COUNTIFS($AB384:$AB404,AS$5,$AJ384:$AJ404,\">0\"),\"\")","v":0.94202878661775813},0.96818935869365652,0.91664147326359169,{"$f":"IFERROR((AK384-AL384-AN384-AP384),\"-\")","v":1138.4375},{"$f":"IFERROR((1-AM384-AO384-AQ384), \"-\")","v":0.21473622163277339},{"$f":"IFERROR((AV384*$AE$2)/60,\"-\")","v":1214.3333333333333},{"$f":"IFERROR(SUM(AG384:AG404),\"\")","v":267}]
["19maMD",{"$f":"VLOOKUP($AA385,DATA!$B$3:$E$6,2,0)","v":"14:30:00"},{"$f":"VLOOKUP($AA385,DATA!$B$3:$E$6,3,0)","v":"22:30:00"},{"$f":"VLOOKUP($AA385,DATA!$B$3:$E$6,4,0)","v":3.125E-2},0.30208333333333337,0.26319444444444451,{"$f":"DATA!$C$9","v":0.89},{"$f":"DATA!$C$10","v":64},1,355.31250000000011,407.81250000000006,3.888888888888889E-2,52.5,0.12873563218390802,{"$f":"TIME(INT(AD385/60),INT(MOD(AD385,60)/1),0)","v":0},"","",283.73333333333335,262,"","",262,null,{"$f":"X394","v":19},null,{"$f":"TEXT(Y384,\"ddd\")","v":"ma"},"MD",{"$f":"IFERROR(HLOOKUP(Y384,[1]DATA!$A$1:$NB$5,4,0),\"\")","v":"D3"},56,null,4,266,{"$f":"VLOOKUP(Y384,[1]SRA!$S$4:$Z$368,7,0)","v":60},-93.312500000000114,0.64245210727969337,0.82544608223429017]
["19maND",{"$f":"VLOOKUP($AA386,DATA!$B$3:$E$6,2,0)","v":"22:30:00"},{"$f":"VLOOKUP($AA386,DATA!$B$3:$E$6,3,0)","v":"06:30:00"},{"$f":"VLOOKUP($AA386,DATA!$B$3:$E$6,4,0)","v":3.125E-2},0.30208333333333326,0.29236111111111102,{"$f":"DATA!$C$9","v":0.89},{"$f":"DATA!$C$10","v":64},1,394.68749999999989,407.81249999999989,9.7222222222222224E-3,13.125,3.2183908045977018E-2,0,"","",356.26666666666665,318,"",318,"",null,{"$f":"X394","v":19},null,{"$f":"TEXT(Y384,\"ddd\")","v":"ma"},"ND",{"$f":"IFERROR(HLOOKUP(Y384,[1]DATA!$A$1:$NB$5,5,0),\"\")","v":"D2"},14,null,16,334,{"$f":"VLOOKUP(Y384,[1]SRA!$S$4:$Z$368,8,0)","v":6},-76.687499999999886,0.7797701149425289,0.98343761501656235]
["19diDD",{"$f":"VLOOKUP($AA387,DATA!$B$3:$E$6,2,0)","v":"06:30:00"},{"$f":"VLOOKUP($AA387,DATA!$B$3:$E$6,3,0)","v":"14:30:00"},{"$f":"VLOOKUP($AA387,DATA!$B$3:$E$6,4,0)","v":3.125E-2},0.30208333333333331,0.26041666666666663,{"$f":"DATA!$C$9","v":0.89},{"$f":"DATA!$C$10","v":64},1,351.56249999999994,407.8125,4.1666666666666664E-2,56.25,0.13793103448275862,0,"","",377.6,342,342,"","",null,{"$f":"X394","v":19},{"$f":"Y384+1","v":"2018-05-08"},{"$f":"TEXT(Y387,\"ddd\")","v":"di"},"DD",{"$f":"IFERROR(HLOOKUP(Y387,[1]DATA!$A$1:$NB$5,3,0),\"\")","v":"D1"},60,null,12,354,{"$f":"VLOOKUP(Y387,[1]SRA!$S$4:$Z$368,6,0)","v":45},-9.5624999999999432,0.83862068965517245,0.8935163274964506]
["19diMD",{"$f":"VLOOKUP($AA388,DATA!$B$3:$E$6,2,0)","v":"14:30:00"},{"$f":"VLOOKUP($AA388,DATA!$B$3:$E$6,3,0)","v":"22:30:00"},{"$f":"VLOOKUP($AA388,DATA!$B$3:$E$6,4,0)","v":3.125E-2},0.30208333333333337,0.29444444444444451,{"$f":"DATA!$C$9","v":0.89},{"$f":"DATA!$C$10","v":64},1,397.50000000000011,407.81250000000006,7.6388888888888886E-3,10.3125,2.5287356321839077E-2,0,"","",309.33333333333331,286,"","",286,null,{"$f":"X394","v":19},null,{"$f":"TEXT(Y387,\"ddd\")","v":"di"},"MD",{"$f":"IFERROR(HLOOKUP(Y387,[1]DATA!$A$1:$NB$5,4,0),\"\")","v":"D3"},11,null,4,290,{"$f":"VLOOKUP(Y387,[1]SRA!$S$4:$Z$368,7,0)","v":3},-111.50000000000011,0.70130268199233703,0.99039487726787623]
["19diND",{"$f":"VLOOKUP($AA389,DATA!$B$3:$E$6,2,0)","v":"22:30:00"},{"$f":"VLOOKUP($AA389,DATA!$B$3:$E$6,3,0)","v":"06:30:00"},{"$f":"VLOOKUP($AA389,DATA!$B$3:$E$6,4,0)","v":3.125E-2},0.30208333333333326,0.28472222222222215,{"$f":"DATA!$C$9","v":0.89},{"$f":"DATA!$C$10","v":64},1,384.37499999999989,407.81249999999989,1.7361111111111112E-2,23.4375,5.7471264367816105E-2,0,"","",369.06666666666666,307,"",307,"",null,{"$f":"X394","v":19},null,{"$f":"TEXT(Y387,\"ddd\")","v":"di"},"ND",{"$f":"IFERROR(HLOOKUP(Y387,[1]DATA!$A$1:$NB$5,5,0),\"\")","v":"D2"},25,null,39,346,{"$f":"VLOOKUP(Y387,[1]SRA!$S$4:$Z$368,8,0)","v":30},-77.374999999999886,0.7527969348659006,0.92482459071166057]
["19woDD",{"$f":"VLOOKUP($AA390,DATA!$B$3:$E$6,2,0)","v":"06:30:00"},{"$f":"VLOOKUP($AA390,DATA!$B$3:$E$6,3,0)","v":"14:30:00"},{"$f":"VLOOKUP($AA390,DATA!$B$3:$E$6,4,0)","v":3.125E-2},0.30208333333333331,0.28888888888888886,{"$f":"DATA!$C$9","v":0.89},{"$f":"DATA!$C$10","v":64},1,389.99999999999994,407.8125,1.3194444444444444E-2,17.8125,4.3678160919540229E-2,0,"","",346.66666666666669,319,319,"","",null,{"$f":"X394","v":19},{"$f":"Y387+1","v":"2018-05-09"},{"$f":"TEXT(Y390,\"ddd\")","v":"wo"},"DD",{"$f":"IFERROR(HLOOKUP(Y390,[1]DATA!$A$1:$NB$5,3,0),\"\")","v":"D1"},19,null,6,325,{"$f":"VLOOKUP(Y390,[1]SRA!$S$4:$Z$368,6,0)","v":7},{"$f":"IFERROR(S390-J390,\"\")","v":-70.999999999999943},{"$f":"IFERROR(IF(S390/(E390*86400/H390)<=0,\"\",S390/(E390*86400/H390)),\"\")","v":0.78222222222222226},0.98020735155513672]
["19woMD",{"$f":"VLOOKUP($AA391,DATA!$B$3:$E$6,2,0)","v":"14:30:00"},{"$f":"VLOOKUP($AA391,DATA!$B$3:$E$6,3,0)","v":"22:30:00"},{"$f":"VLOOKUP($AA391,DATA!$B$3:$E$6,4,0)","v":3.125E-2},0.30208333333333337,0.28819444444444448,{"$f":"DATA!$C$9","v":0.89},{"$f":"DATA!$C$10","v":64},1,389.06250000000006,407.81250000000006,{"$f":"TIME(INT($AC391/60),INT(MOD($AC391,60)/1),0)","v":1.3888888888888888E-2},{"$f":"IF($L391*86400/$H391=0,\"\",$L391*86400/$H391)","v":18.75},{"$f":"IFERROR($M391/$K391,\"\")","v":4.5977011494252866E-2},0,"",{"$f":"IFERROR($P391/$K391,\"\")","v":""},294.39999999999998,268,{"$f":"IF(IF($AB391=\"D1\",$S391,\"\")=0,\"\",IF($AB391=\"D1\",$S391,\"\"))","v":""},{"$f":"IF(IF($AB391=\"D2\",$S391,\"\")=0,\"\",IF($AB391=\"D2\",$S391,\"\"))","v":""},{"$f":"IF(IF($AB391=\"D3\",$S391,\"\")=0,\"\",IF($AB391=\"D3\",$S391,\"\"))","v":268},null,{"$f":"X394","v":19},null,{"$f":"TEXT(Y390,\"ddd\")","v":"wo"},"MD",{"$f":"IFERROR(HLOOKUP(Y390,[1]DATA!$A$1:$NB$5,4,0),\"\")","v":"D3"},20,null,8,276,{"$f":"VLOOKUP(Y390,[1]SRA!$S$4:$Z$368,7,0)","v":33},-121.06250000000006,0.65716475095785432,0.89920586438607208]
["19woND",{"$f":"VLOOKUP($AA392,DATA!$B$3:$E$6,2,0)","v":"22:30:00"},{"$f":"VLOOKUP($AA392,DATA!$B$3:$E$6,3,0)","v":"06:30:00"},{"$f":"VLOOKUP($AA392,DATA!$B$3:$E$6,4,0)","v":3.125E-2},0.30208333333333326,0.28263888888888883,{"$f":"DATA!$C$9","v":0.89},{"$f":"DATA!$C$10","v":64},1,381.56249999999994,407.81249999999989,1.9444444444444445E-2,26.25,6.4367816091954036E-2,0,"","",339.2,309,"",309,"",null,{"$f":"X394","v":19},null,{"$f":"TEXT(Y390,\"ddd\")","v":"wo"},"ND",{"$f":"IFERROR(HLOOKUP(Y390,[1]DATA!$A$1:$NB$5,5,0),\"\")","v":"D2"},28,null,9,318,{"$f":"VLOOKUP(Y390,[1]SRA!$S$4:$Z$368,8,0)","v":3},-72.562499999999943,0.75770114942528755,0.99123319696084167]
["19doDD",{"$f":"VLOOKUP($AA393,DATA!$B$3:$E$6,2,0)","v":"06:30:00"},{"$f":"VLOOKUP($AA393,DATA!$B$3:$E$6,3,0)","v":"14:30:00"},{"$f":"VLOOKUP($AA393,DATA!$B$3:$E$6,4,0)","v":3.125E-2},0.30208333333333331,0.30208333333333331,{"$f":"DATA!$C$9","v":0.89},{"$f":"DATA!$C$10","v":64},1,407.8125,407.8125,0,"","",0,"","",0,"","","","",null,{"$f":"X394","v":19},{"$f":"Y390+1","v":"2018-05-10"},{"$f":"TEXT(Y393,\"ddd\")","v":"do"},"DD",{"$f":"IFERROR(HLOOKUP(Y393,[1]DATA!$A$1:$NB$5,3,0),\"\")","v":"D1"},null,null,null,null,{"$f":"VLOOKUP(Y393,[1]SRA!$S$4:$Z$368,6,0)","v":0},"","",""]
["19doMD",{"$f":"VLOOKUP($AA394,DATA!$B$3:$E$6,2,0)","v":"14:30:00"},{"$f":"VLOOKUP($AA394,DATA!$B$3:$E$6,3,0)","v":"22:30:00"},{"$f":"VLOOKUP($AA394,DATA!$B$3:$E$6,4,0)","v":3.125E-2},0.30208333333333337,0.30208333333333337,{"$f":"DATA!$C$9","v":0.89},{"$f":"DATA!$C$10","v":64},1,407.81250000000006,407.81250000000006,0,"","",0,"","",0,"","","","",null,{"$f":"WEEKNUM($Y384)","v":19},null,{"$f":"TEXT(Y393,\"ddd\")","v":"do"},"MD",{"$f":"IFERROR(HLOOKUP(Y393,[1]DATA!$A$1:$NB$5,4,0),\"\")","v":"D3"},null,null,null,null,{"$f":"VLOOKUP(Y393,[1]SRA!$S$4:$Z$368,7,0)","v":0},"","",""]
["19doND",{"$f":"VLOOKUP($AA395,DATA!$B$3:$E$6,2,0)","v":"22:30:00"},{"$f":"VLOOKUP($AA395,DATA!$B$3:$E$6,3,0)","v":"06:30:00"},{"$f":"VLOOKUP($AA395,DATA!$B$3:$E$6,4,0)","v":3.125E-2},0.30208333333333326,0.30208333333333326,{"$f":"DATA!$C$9","v":0.89},{"$f":"DATA!$C$10","v":64},1,407.81249999999989,407.81249999999989,0,"","",0,"","",0,"","","","",null,{"$f":"X394","v":19},null,{"$f":"TEXT(Y393,\"ddd\")","v":"do"},"ND",{"$f":"IFERROR(HLOOKUP(Y393,[1]DATA!$A$1:$NB$5,5,0),\"\")","v":"D2"},null,null,null,null,{"$f":"VLOOKUP(Y393,[1]SRA!$S$4:$Z$368,8,0)","v":0},"","",""]
["19vrDD",{"$f":"VLOOKUP($AA396,DATA!$B$3:$E$6,2,0)","v":"06:30:00"},{"$f":"VLOOKUP($AA396,DATA!$B$3:$E$6,3,0)","v":"14:30:00"},{"$f":"VLOOKUP($AA396,DATA!$B$3:$E$6,4,0)","v":3.125E-2},0.30208333333333331,0.28125,{"$f":"DATA!$C$9","v":0.89},{"$f":"DATA!$C$10","v":64},1,379.6875,407.8125,2.0833333333333332E-2,28.125,6.8965517241379309E-2,0,"","",297.60000000000002,274,274,"","",null,{"$f":"X394","v":19},{"$f":"Y393+1","v":"2018-05-11"},{"$f":"TEXT(Y396,\"ddd\")","v":"vr"},"DD",{"$f":"IFERROR(HLOOKUP(Y396,[1]DATA!$A$1:$NB$5,3,0),\"\")","v":"D1"},30,null,5,279,{"$f":"VLOOKUP(Y396,[1]SRA!$S$4:$Z$368,6,0)","v":41},-105.6875,0.67187739463601537,0.87891317188422924]
["19vrMD",{"$f":"VLOOKUP($AA397,DATA!$B$3:$E$6,2,0)","v":"14:30:00"},{"$f":"VLOOKUP($AA397,DATA!$B$3:$E$6,3,0)","v":"22:30:00"},{"$f":"VLOOKUP($AA397,DATA!$B$3:$E$6,4,0)","v":3.125E-2},0.30208333333333337,0.28472222222222227,{"$f":"DATA!$C$9","v":0.89},{"$f":"DATA!$C$10","v":64},1,384.37500000000006,407.81250000000006,1.7361111111111112E-2,23.4375,5.7471264367816084E-2,0,"","",294.39999999999998,268,"","",268,null,{"$f":"X394","v":19},null,{"$f":"TEXT(Y396,\"ddd\")","v":"vr"},"MD",{"$f":"IFERROR(HLOOKUP(Y396,[1]DATA!$A$1:$NB$5,4,0),\"\")","v":"D3"},25,null,8,276,{"$f":"VLOOKUP(Y396,[1]SRA!$S$4:$Z$368,7,0)","v":15},-116.37500000000006,0.65716475095785432,0.95151906916612794]
["19vrND",{"$f":"VLOOKUP($AA398,DATA!$B$3:$E$6,2,0)","v":"22:30:00"},{"$f":"VLOOKUP($AA398,DATA!$B$3:$E$6,3,0)","v":"06:30:00"},{"$f":"VLOOKUP($AA398,DATA!$B$3:$E$6,4,0)","v":3.125E-2},0.30208333333333326,0.27499999999999991,{"$f":"DATA!$C$9","v":0.89},{"$f":"DATA!$C$10","v":64},1,371.24999999999989,407.81249999999989,2.7083333333333334E-2,36.5625,8.965517241379313E-2,0,"","",291.2,263,"",263,"",null,{"$f":"X394","v":19},null,{"$f":"TEXT(Y396,\"ddd\")","v":"vr"},"ND",{"$f":"IFERROR(HLOOKUP(Y396,[1]DATA!$A$1:$NB$5,5,0),\"\")","v":"D2"},39,null,10,273,{"$f":"VLOOKUP(Y396,[1]SRA!$S$4:$Z$368,8,0)","v":8},-108.24999999999989,0.64490421455938718,0.9732620320855615]
["19zaDD",{"$f":"VLOOKUP($AA399,DATA!$B$3:$E$6,2,0)","v":"06:30:00"},{"$f":"VLOOKUP($AA399,DATA!$B$3:$E$6,3,0)","v":"14:30:00"},{"$f":"VLOOKUP($AA399,DATA!$B$3:$E$6,4,0)","v":3.125E-2},0.30208333333333331,0.29097222222222219,{"$f":"DATA!$C$9","v":0.89},{"$f":"DATA!$C$10","v":64},1,392.81249999999994,407.8125,1.1111111111111112E-2,15,3.6781609195402298E-2,0,"","",331.73333333333335,302,302,"","",null,{"$f":"X394","v":19},{"$f":"Y396+1","v":"2018-05-12"},{"$f":"TEXT(Y399,\"ddd\")","v":"za"},"DD",{"$f":"IFERROR(HLOOKUP(Y399,[1]DATA!$A$1:$NB$5,3,0),\"\")","v":"D1"},16,null,9,311,{"$f":"VLOOKUP(Y399,[1]SRA!$S$4:$Z$368,6,0)","v":0},-90.812499999999943,0.74053639846743291,1]
["19zaMD",{"$f":"VLOOKUP($AA400,DATA!$B$3:$E$6,2,0)","v":"14:30:00"},{"$f":"VLOOKUP($AA400,DATA!$B$3:$E$6,3,0)","v":"22:30:00"},{"$f":"VLOOKUP($AA400,DATA!$B$3:$E$6,4,0)","v":3.125E-2},0.30208333333333337,0.30208333333333337,{"$f":"DATA!$C$9","v":0.89},{"$f":"DATA!$C$10","v":64},1,407.81250000000006,407.81250000000006,0,"","",0,"","",0,"","","","",null,{"$f":"X394","v":19},null,{"$f":"TEXT(Y399,\"ddd\")","v":"za"},"MD",{"$f":"IFERROR(HLOOKUP(Y399,[1]DATA!$A$1:$NB$5,4,0),\"\")","v":"-"},null,null,null,null,{"$f":"VLOOKUP(Y399,[1]SRA!$S$4:$Z$368,7,0)","v":0},"","",""]
["19zaND",{"$f":"VLOOKUP($AA401,DATA!$B$3:$E$6,2,0)","v":"22:30:00"},{"$f":"VLOOKUP($AA401,DATA!$B$3:$E$6,3,0)","v":"06:30:00"},{"$f":"VLOOKUP($AA401,DATA!$B$3:$E$6,4,0)","v":3.125E-2},0.30208333333333326,0.30208333333333326,{"$f":"DATA!$C$9","v":0.89},{"$f":"DATA!$C$10","v":64},1,407.81249999999989,407.81249999999989,0,"","",0,"","",0,"","","","",null,{"$f":"X394","v":19},null,{"$f":"TEXT(Y399,\"ddd\")","v":"za"},"ND",{"$f":"IFERROR(HLOOKUP(Y399,[1]DATA!$A$1:$NB$5,5,0),\"\")","v":"-"},null,null,null,null,{"$f":"VLOOKUP(Y399,[1]SRA!$S$4:$Z$368,8,0)","v":0},"","",""]
["19zoDD",{"$f":"VLOOKUP($AA402,DATA!$B$3:$E$6,2,0)","v":"06:30:00"},{"$f":"VLOOKUP($AA402,DATA!$B$3:$E$6,3,0)","v":"14:30:00"},{"$f":"VLOOKUP($AA402,DATA!$B$3:$E$6,4,0)","v":3.125E-2},0.30208333333333331,0.30208333333333331,{"$f":"DATA!$C$9","v":0.89},{"$f":"DATA!$C$10","v":64},1,407.8125,407.8125,0,"","",0,"","",0,"","","","",null,{"$f":"X394","v":19},{"$f":"Y399+1","v":"2018-05-13"},{"$f":"TEXT(Y402,\"ddd\")","v":"zo"},"DD",{"$f":"IFERROR(HLOOKUP(Y402,[1]DATA!$A$1:$NB$5,3,0),\"\")","v":"-"},null,null,null,null,{"$f":"VLOOKUP(Y402,[1]SRA!$S$4:$Z$368,6,0)","v":0},"","",""]
["19zoMD",{"$f":"VLOOKUP($AA403,DATA!$B$3:$E$6,2,0)","v":"14:30:00"},{"$f":"VLOOKUP($AA403,DATA!$B$3:$E$6,3,0)","v":"22:30:00"},{"$f":"VLOOKUP($AA403,DATA!$B$3:$E$6,4,0)","v":3.125E-2},0.30208333333333337,0.30208333333333337,{"$f":"DATA!$C$9","v":0.89},{"$f":"DATA!$C$10","v":64},1,407.81250000000006,407.81250000000006,0,"","",0,"","",0,"","","","",null,{"$f":"X394","v":19},null,{"$f":"TEXT(Y402,\"ddd\")","v":"zo"},"MD",{"$f":"IFERROR(HLOOKUP(Y402,[1]DATA!$A$1:$NB$5,4,0),\"\")","v":"-"},null,null,null,null,{"$f":"VLOOKUP(Y402,[1]SRA!$S$4:$Z$368,7,0)","v":0},"","",""]
["19zoZND",{"$f":"VLOOKUP($AA404,DATA!$B$3:$E$6,2,0)","v":"00:00:00"},{"$f":"VLOOKUP($AA404,DATA!$B$3:$E$6,3,0)","v":"00:00:00"},{"$f":"VLOOKUP($AA404,DATA!$B$3:$E$6,4,0)","v":0},0,0,{"$f":"DATA!$C$9","v":0.89},{"$f":"DATA!$C$10","v":64},1,0,0,0,"","",0,"","",0,"","","","",null,{"$f":"X394","v":19},null,{"$f":"TEXT(Y402,\"ddd\")","v":"zo"},"ZND",{"$f":"IFERROR(HLOOKUP(Y402,[1]DATA!$A$1:$NB$5,5,0),\"\")","v":"-"},null,null,null,null,{"$f":"VLOOKUP(Y402,[1]SRA!$S$4:$Z$368,8,0)","v":0},"","",""]
["20maDD",{"$f":"VLOOKUP($AA405,DATA!$B$3:$E$6,2,0)","v":"06:30:00"},{"$f":"VLOOKUP($AA405,DATA!$B$3:$E$6,3,0)","v":"14:30:00"},{"$f":"VLOOKUP($AA405,DATA!$B$3:$E$6,4,0)","v":3.125E-2},0.30208333333333331,0.2951388888888889,{"$f":"DATA!$C$9","v":0.89},{"$f":"DATA!$C$10","v":64},1,398.4375,407.8125,6.9444444444444441E-3,9.375,2.2988505747126436E-2,{"$f":"TIME(INT($AD405/60),INT(MOD($AD405,60)/1),0)","v":0},"","",291.2,268,"","",268,null,{"$f":"X415","v":20},{"$f":"Y402+1","v":"2018-05-14"},{"$f":"TEXT(Y405,\"ddd\")","v":"ma"},"DD",{"$f":"IFERROR(HLOOKUP(Y405,[1]DATA!$A$1:$NB$5,3,0),\"\")","v":"D3"},10,null,5,273,{"$f":"VLOOKUP(Y405,[1]SRA!$S$4:$AA$368,6,0)","v":30},-130.4375,0.65716475095785443,0.90660024906600245,{"$f":"IF(SUMIF(S405:S425,\">0\",K405:K425)=0,\"\",SUMIF(S405:S425,\">0\",K405:K425))","v":6525},{"$f":"IF(SUM(S405:S425)=0,\"\",SUM(S405:S425))","v":4408},{"$f":"IFERROR(AL405/AK405,\"-\")","v":0.67555555555555558},{"$f":"IF(SUM(M405:M425)=0,\"0\",SUM(M405:M425))","v":372.1875},{"$f":"IFERROR(AN405/AK405,\"-\")","v":5.704022988505747E-2},{"$f":"IF(SUM(P405:P425)=0,0,SUM(P405:P425))","v":0},{"$f":"IFERROR(AP405/AK405,\"-\")","v":0},0.95666564076974248,{"$f":"IFERROR(SUMIF($AB405:$AB425,AS$5,$AJ405:$AJ425)/COUNTIFS($AB405:$AB425,AS$5,$AJ405:$AJ425,\">0\"),\"\")","v":0.97649554596325938},0.96743914561307653,0.93267219913073063,{"$f":"IFERROR((AK405-AL405-AN405-AP405),\"-\")","v":1744.8125},{"$f":"IFERROR((1-AM405-AO405-AQ405), \"-\")","v":0.26740421455938695},{"$f":"IFERROR((AV405*$AE$2)/60,\"-\")","v":1861.1333333333334},{"$f":"IFERROR(SUM(AG405:AG425),\"\")","v":226}]
["20maMD",{"$f":"VLOOKUP($AA406,DATA!$B$3:$E$6,2,0)","v":"14:30:00"},{"$f":"VLOOKUP($AA406,DATA!$B$3:$E$6,3,0)","v":"22:30:00"},{"$f":"VLOOKUP($AA406,DATA!$B$3:$E$6,4,0)","v":3.125E-2},0.30208333333333337,0.2993055555555556,{"$f":"DATA!$C$9","v":0.89},{"$f":"DATA!$C$10","v":64},1,404.06250000000006,407.81250000000006,2.7777777777777779E-3,3.75,9.1954022988505729E-3,{"$f":"TIME(INT(AD406/60),INT(MOD(AD406,60)/1),0)","v":0},"","",385.06666666666666,335,"",335,"",null,{"$f":"X415","v":20},null,{"$f":"TEXT(Y405,\"ddd\")","v":"ma"},"MD",{"$f":"IFERROR(HLOOKUP(Y405,[1]DATA!$A$1:$NB$5,4,0),\"\")","v":"D2"},4,null,26,361,{"$f":"VLOOKUP(Y405,[1]SRA!$S$4:$Z$368,7,0)","v":21},-69.062500000000057,0.82145593869731792,0.94828435396486621]
["20maND",{"$f":"VLOOKUP($AA407,DATA!$B$3:$E$6,2,0)","v":"22:30:00"},{"$f":"VLOOKUP($AA407,DATA!$B$3:$E$6,3,0)","v":"06:30:00"},{"$f":"VLOOKUP($AA407,DATA!$B$3:$E$6,4,0)","v":3.125E-2},0.30208333333333326,0.30069444444444438,{"$f":"DATA!$C$9","v":0.89},{"$f":"DATA!$C$10","v":64},1,405.93749999999989,407.81249999999989,1.3888888888888889E-3,1.875,4.597701149425289E-3,0,"","",329.6,303,303,"","",null,{"$f":"X415","v":20},null,{"$f":"TEXT(Y405,\"ddd\")","v":"ma"},"ND",{"$f":"IFERROR(HLOOKUP(Y405,[1]DATA!$A$1:$NB$5,5,0),\"\")","v":"D1"},2,null,6,309,{"$f":"VLOOKUP(Y405,[1]SRA!$S$4:$Z$368,8,0)","v":7},-102.93749999999989,0.7429885057471266,0.9792038027332145]
["20diDD",{"$f":"VLOOKUP($AA408,DATA!$B$3:$E$6,2,0)","v":"06:30:00"},{"$f":"VLOOKUP($AA408,DATA!$B$3:$E$6,3,0)","v":"14:30:00"},{"$f":"VLOOKUP($AA408,DATA!$B$3:$E$6,4,0)","v":3.125E-2},0.30208333333333331,0.29652777777777778,{"$f":"DATA!$C$9","v":0.89},{"$f":"DATA!$C$10","v":64},1,400.3125,407.8125,5.5555555555555558E-3,7.5,1.8390804597701149E-2,0,"","",314.66666666666669,287,"","",287,null,{"$f":"X415","v":20},{"$f":"Y405+1","v":"2018-05-15"},{"$f":"TEXT(Y408,\"ddd\")","v":"di"},"DD",{"$f":"IFERROR(HLOOKUP(Y408,[1]DATA!$A$1:$NB$5,3,0),\"\")","v":"D3"},8,null,8,295,{"$f":"VLOOKUP(Y408,[1]SRA!$S$4:$Z$368,6,0)","v":0},-113.3125,0.70375478927203061,1]
["20diMD",{"$f":"VLOOKUP($AA409,DATA!$B$3:$E$6,2,0)","v":"14:30:00"},{"$f":"VLOOKUP($AA409,DATA!$B$3:$E$6,3,0)","v":"22:30:00"},{"$f":"VLOOKUP($AA409,DATA!$B$3:$E$6,4,0)","v":3.125E-2},0.30208333333333337,0.30208333333333337,{"$f":"DATA!$C$9","v":0.89},{"$f":"DATA!$C$10","v":64},1,407.81250000000006,407.81250000000006,0,"","",0,"","",413.86666666666667,350,"",350,"",null,{"$f":"X415","v":20},null,{"$f":"TEXT(Y408,\"ddd\")","v":"di"},"MD",{"$f":"IFERROR(HLOOKUP(Y408,[1]DATA!$A$1:$NB$5,4,0),\"\")","v":"D2"},0,null,38,388,{"$f":"VLOOKUP(Y408,[1]SRA!$S$4:$Z$368,7,0)","v":4},-57.812500000000057,0.85823754789272022,0.99042756860242498]
["20diND",{"$f":"VLOOKUP($AA410,DATA!$B$3:$E$6,2,0)","v":"22:30:00"},{"$f":"VLOOKUP($AA410,DATA!$B$3:$E$6,3,0)","v":"06:30:00"},{"$f":"VLOOKUP($AA410,DATA!$B$3:$E$6,4,0)","v":3.125E-2},0.30208333333333326,0.27986111111111106,{"$f":"DATA!$C$9","v":0.89},{"$f":"DATA!$C$10","v":64},1,377.81249999999994,407.81249999999989,2.2222222222222223E-2,30,7.3563218390804624E-2,0,"","",273.06666666666666,243,243,"","",null,{"$f":"X415","v":20},null,{"$f":"TEXT(Y408,\"ddd\")","v":"di"},"ND",{"$f":"IFERROR(HLOOKUP(Y408,[1]DATA!$A$1:$NB$5,5,0),\"\")","v":"D1"},32,null,13,256,{"$f":"VLOOKUP(Y408,[1]SRA!$S$4:$Z$368,8,0)","v":12},-134.81249999999994,0.59586206896551741,0.95790458372310572]
["20woDD",{"$f":"VLOOKUP($AA411,DATA!$B$3:$E$6,2,0)","v":"06:30:00"},{"$f":"VLOOKUP($AA411,DATA!$B$3:$E$6,3,0)","v":"14:30:00"},{"$f":"VLOOKUP($AA411,DATA!$B$3:$E$6,4,0)","v":3.125E-2},0.30208333333333331,0.28125,{"$f":"DATA!$C$9","v":0.89},{"$f":"DATA!$C$10","v":64},1,379.6875,407.8125,2.0833333333333332E-2,28.125,6.8965517241379309E-2,0,"","",326.39999999999998,280,"","",280,null,{"$f":"X415","v":20},{"$f":"Y408+1","v":"2018-05-16"},{"$f":"TEXT(Y411,\"ddd\")","v":"wo"},"DD",{"$f":"IFERROR(HLOOKUP(Y411,[1]DATA!$A$1:$NB$5,3,0),\"\")","v":"D3"},30,null,26,306,{"$f":"VLOOKUP(Y411,[1]SRA!$S$4:$Z$368,6,0)","v":30},-99.6875,0.6865900383141762,{"$f":"IFERROR(R411/(R411+AG411),\"\")","v":0.91582491582491588}]
["20woMD",{"$f":"VLOOKUP($AA412,DATA!$B$3:$E$6,2,0)","v":"14:30:00"},{"$f":"VLOOKUP($AA412,DATA!$B$3:$E$6,3,0)","v":"22:30:00"},{"$f":"VLOOKUP($AA412,DATA!$B$3:$E$6,4,0)","v":3.125E-2},{"$f":"(C412-B412+(B412>C412))-D412","v":0.30208333333333337},{"$f":"E412-O412-L412","v":0.29375000000000001},{"$f":"DATA!$C$9","v":0.89},{"$f":"DATA!$C$10","v":64},1,{"$f":"F412*86400/H412*I412","v":396.5625},{"$f":"E412*86400/H412","v":407.81250000000006},8.3333333333333332E-3,11.25,2.758620689655172E-2,0,"","",{"$f":"AF412*AG$2","v":358.4},{"$f":"IF(AF412-AE412=0,\"\",AF412-AE412)","v":303},"",303,"",null,{"$f":"X415","v":20},null,{"$f":"TEXT(Y411,\"ddd\")","v":"wo"},"MD",{"$f":"IFERROR(HLOOKUP(Y411,[1]DATA!$A$1:$NB$5,4,0),\"\")","v":"D2"},12,null,33,336,{"$f":"VLOOKUP(Y411,[1]SRA!$S$4:$Z$368,7,0)","v":0},-93.5625,0.74298850574712638,1]
["20woND",{"$f":"VLOOKUP($AA413,DATA!$B$3:$E$6,2,0)","v":"22:30:00"},{"$f":"VLOOKUP($AA413,DATA!$B$3:$E$6,3,0)","v":"06:30:00"},{"$f":"VLOOKUP($AA413,DATA!$B$3:$E$6,4,0)","v":3.125E-2},0.30208333333333326,0.27986111111111106,{"$f":"DATA!$C$9","v":0.89},{"$f":"DATA!$C$10","v":64},1,377.81249999999994,407.81249999999989,2.2222222222222223E-2,30,7.3563218390804624E-2,0,"","",342.4,309,309,"","",null,{"$f":"X415","v":20},null,{"$f":"TEXT(Y411,\"ddd\")","v":"wo"},"ND",{"$f":"IFERROR(HLOOKUP(Y411,[1]DATA!$A$1:$NB$5,5,0),\"\")","v":"D1"},32,null,12,321,{"$f":"VLOOKUP(Y411,[1]SRA!$S$4:$Z$368,8,0)","v":11},-68.812499999999943,0.75770114942528755,0.96887379739671764]
["20doDD",{"$f":"VLOOKUP($AA414,DATA!$B$3:$E$6,2,0)","v":"06:30:00"},{"$f":"VLOOKUP($AA414,DATA!$B$3:$E$6,3,0)","v":"14:30:00"},{"$f":"VLOOKUP($AA414,DATA!$B$3:$E$6,4,0)","v":3.125E-2},0.30208333333333331,0.27361111111111108,{"$f":"DATA!$C$9","v":0.89},{"$f":"DATA!$C$10","v":64},1,369.37499999999994,407.8125,2.8472222222222222E-2,38.4375,9.4252873563218389E-2,0,"","",281.60000000000002,255,"","",255,null,{"$f":"X415","v":20},{"$f":"Y411+1","v":"2018-05-17"},{"$f":"TEXT(Y414,\"ddd\")","v":"do"},"DD",{"$f":"IFERROR(HLOOKUP(Y414,[1]DATA!$A$1:$NB$5,3,0),\"\")","v":"D3"},41,null,9,264,{"$f":"VLOOKUP(Y414,[1]SRA!$S$4:$Z$368,6,0)","v":40},-114.37499999999994,0.62528735632183907,0.87562189054726369]
["20doMD",{"$f":"VLOOKUP($AA415,DATA!$B$3:$E$6,2,0)","v":"14:30:00"},{"$f":"VLOOKUP($AA415,DATA!$B$3:$E$6,3,0)","v":"22:30:00"},{"$f":"VLOOKUP($AA415,DATA!$B$3:$E$6,4,0)","v":3.125E-2},0.30208333333333337,0.2729166666666667,{"$f":"DATA!$C$9","v":0.89},{"$f":"DATA!$C$10","v":64},1,368.43750000000006,407.81250000000006,2.9166666666666664E-2,39.374999999999993,9.6551724137931005E-2,0,"","",240,201,"",201,"",null,{"$f":"WEEKNUM($Y405)","v":20},null,{"$f":"TEXT(Y414,\"ddd\")","v":"do"},"MD",{"$f":"IFERROR(HLOOKUP(Y414,[1]DATA!$A$1:$NB$5,4,0),\"\")","v":"D2"},42,null,24,225,{"$f":"VLOOKUP(Y414,[1]SRA!$S$4:$Z$368,7,0)","v":17},-167.43750000000006,0.49287356321839071,0.93385214007782102]
["20doND",{"$f":"VLOOKUP($AA416,DATA!$B$3:$E$6,2,0)","v":"22:30:00"},{"$f":"VLOOKUP($AA416,DATA!$B$3:$E$6,3,0)","v":"06:30:00"},{"$f":"VLOOKUP($AA416,DATA!$B$3:$E$6,4,0)","v":3.125E-2},0.30208333333333326,0.27499999999999991,{"$f":"DATA!$C$9","v":0.89},{"$f":"DATA!$C$10","v":64},1,371.24999999999989,407.81249999999989,2.7083333333333334E-2,36.5625,8.965517241379313E-2,0,"","",254.93333333333334,230,230,"","",null,{"$f":"X415","v":20},null,{"$f":"TEXT(Y414,\"ddd\")","v":"do"},"ND",{"$f":"IFERROR(HLOOKUP(Y414,[1]DATA!$A$1:$NB$5,5,0),\"\")","v":"D1"},39,null,9,239,{"$f":"VLOOKUP(Y414,[1]SRA!$S$4:$Z$368,8,0)","v":0},-141.24999999999989,0.56398467432950206,1]
["20vrDD",{"$f":"VLOOKUP($AA417,DATA!$B$3:$E$6,2,0)","v":"06:30:00"},{"$f":"VLOOKUP($AA417,DATA!$B$3:$E$6,3,0)","v":"14:30:00"},{"$f":"VLOOKUP($AA417,DATA!$B$3:$E$6,4,0)","v":3.125E-2},0.30208333333333331,0.27291666666666664,{"$f":"DATA!$C$9","v":0.89},{"$f":"DATA!$C$10","v":64},1,368.43749999999994,407.8125,2.9166666666666664E-2,39.374999999999993,9.6551724137931019E-2,0,"","",342.4,302,"","",302,null,{"$f":"X415","v":20},{"$f":"Y414+1","v":"2018-05-18"},{"$f":"TEXT(Y417,\"ddd\")","v":"vr"},"DD",{"$f":"IFERROR(HLOOKUP(Y417,[1]DATA!$A$1:$NB$5,3,0),\"\")","v":"D3"},42,null,19,321,{"$f":"VLOOKUP(Y417,[1]SRA!$S$4:$Z$368,6,0)","v":20},-66.437499999999943,0.74053639846743291,0.94481236203090513]
["20vrMD",{"$f":"VLOOKUP($AA418,DATA!$B$3:$E$6,2,0)","v":"14:30:00"},{"$f":"VLOOKUP($AA418,DATA!$B$3:$E$6,3,0)","v":"22:30:00"},{"$f":"VLOOKUP($AA418,DATA!$B$3:$E$6,4,0)","v":3.125E-2},0.30208333333333337,0.28611111111111115,{"$f":"DATA!$C$9","v":0.89},{"$f":"DATA!$C$10","v":64},1,386.25000000000006,407.81250000000006,1.5972222222222224E-2,21.562500000000004,5.2873563218390804E-2,0,"","",301.86666666666667,267,"",267,"",null,{"$f":"X415","v":20},null,{"$f":"TEXT(Y417,\"ddd\")","v":"vr"},"MD",{"$f":"IFERROR(HLOOKUP(Y417,[1]DATA!$A$1:$NB$5,4,0),\"\")","v":"D2"},23,null,16,283,{"$f":"VLOOKUP(Y417,[1]SRA!$S$4:$Z$368,7,0)","v":22},-119.25000000000006,0.65471264367816084,0.9320708110333471]
["20vrND",{"$f":"VLOOKUP($AA419,DATA!$B$3:$E$6,2,0)","v":"22:30:00"},{"$f":"VLOOKUP($AA419,DATA!$B$3:$E$6,3,0)","v":"06:30:00"},{"$f":"VLOOKUP($AA419,DATA!$B$3:$E$6,4,0)","v":3.125E-2},0.30208333333333326,0.25624999999999992,{"$f":"DATA!$C$9","v":0.89},{"$f":"DATA!$C$10","v":64},1,345.93749999999989,407.81249999999989,4.5833333333333337E-2,61.875000000000007,0.15172413793103454,0,"","",288,259,"",259,"",null,{"$f":"X415","v":20},null,{"$f":"TEXT(Y417,\"ddd\")","v":"vr"},"ND",{"$f":"IFERROR(HLOOKUP(Y417,[1]DATA!$A$1:$NB$5,5,0),\"\")","v":"D2"},66,null,11,270,{"$f":"VLOOKUP(Y417,[1]SRA!$S$4:$Z$368,8,0)","v":0},-86.937499999999886,0.63509578544061318,1]
["20zaDD",{"$f":"VLOOKUP($AA420,DATA!$B$3:$E$6,2,0)","v":"06:30:00"},{"$f":"VLOOKUP($AA420,DATA!$B$3:$E$6,3,0)","v":"14:30:00"},{"$f":"VLOOKUP($AA420,DATA!$B$3:$E$6,4,0)","v":3.125E-2},0.30208333333333331,0.29236111111111107,{"$f":"DATA!$C$9","v":0.89},{"$f":"DATA!$C$10","v":64},1,394.68749999999994,407.8125,9.7222222222222224E-3,13.125,3.2183908045977011E-2,0,"","",244.26666666666665,216,"","",216,null,{"$f":"X415","v":20},{"$f":"Y417+1","v":"2018-05-19"},{"$f":"TEXT(Y420,\"ddd\")","v":"za"},"DD",{"$f":"IFERROR(HLOOKUP(Y420,[1]DATA!$A$1:$NB$5,3,0),\"\")","v":"D3"},14,null,13,229,{"$f":"VLOOKUP(Y420,[1]SRA!$S$4:$Z$368,6,0)","v":12},-178.68749999999994,0.52965517241379312,0.95317377731529651]
["20zaMD",{"$f":"VLOOKUP($AA421,DATA!$B$3:$E$6,2,0)","v":"14:30:00"},{"$f":"VLOOKUP($AA421,DATA!$B$3:$E$6,3,0)","v":"22:30:00"},{"$f":"VLOOKUP($AA421,DATA!$B$3:$E$6,4,0)","v":3.125E-2},0.30208333333333337,0.30208333333333337,{"$f":"DATA!$C$9","v":0.89},{"$f":"DATA!$C$10","v":64},1,407.81250000000006,407.81250000000006,0,"","",0,"","",0,"","","","",null,{"$f":"X415","v":20},null,{"$f":"TEXT(Y420,\"ddd\")","v":"za"},"MD",{"$f":"IFERROR(HLOOKUP(Y420,[1]DATA!$A$1:$NB$5,4,0),\"\")","v":"-"},null,null,null,null,{"$f":"VLOOKUP(Y420,[1]SRA!$S$4:$Z$368,7,0)","v":0},"","",""]
["20zaND",{"$f":"VLOOKUP($AA422,DATA!$B$3:$E$6,2,0)","v":"22:30:00"},{"$f":"VLOOKUP($AA422,DATA!$B$3:$E$6,3,0)","v":"06:30:00"},{"$f":"VLOOKUP($AA422,DATA!$B$3:$E$6,4,0)","v":3.125E-2},0.30208333333333326,0.30208333333333326,{"$f":"DATA!$C$9","v":0.89},{"$f":"DATA!$C$10","v":64},1,407.81249999999989,407.81249999999989,0,"","",0,"","",0,"","","","",null,{"$f":"X415","v":20},null,{"$f":"TEXT(Y420,\"ddd\")","v":"za"},"ND",{"$f":"IFERROR(HLOOKUP(Y420,[1]DATA!$A$1:$NB$5,5,0),\"\")","v":"-"},null,null,null,null,{"$f":"VLOOKUP(Y420,[1]SRA!$S$4:$Z$368,8,0)","v":0},"","",""]
["20zoDD",{"$f":"VLOOKUP($AA423,DATA!$B$3:$E$6,2,0)","v":"06:30:00"},{"$f":"VLOOKUP($AA423,DATA!$B$3:$E$6,3,0)","v":"14:30:00"},{"$f":"VLOOKUP($AA423,DATA!$B$3:$E$6,4,0)","v":3.125E-2},0.30208333333333331,0.30208333333333331,{"$f":"DATA!$C$9","v":0.89},{"$f":"DATA!$C$10","v":64},1,407.8125,407.8125,0,"","",0,"","",0,"","","","",null,{"$f":"X415","v":20},{"$f":"Y420+1","v":"2018-05-20"},{"$f":"TEXT(Y423,\"ddd\")","v":"zo"},"DD",{"$f":"IFERROR(HLOOKUP(Y423,[1]DATA!$A$1:$NB$5,3,0),\"\")","v":"-"},null,null,null,null,{"$f":"VLOOKUP(Y423,[1]SRA!$S$4:$Z$368,6,0)","v":0},"","",""]
["20zoMD",{"$f":"VLOOKUP($AA424,DATA!$B$3:$E$6,2,0)","v":"14:30:00"},{"$f":"VLOOKUP($AA424,DATA!$B$3:$E$6,3,0)","v":"22:30:00"},{"$f":"VLOOKUP($AA424,DATA!$B$3:$E$6,4,0)","v":3.125E-2},0.30208333333333337,0.30208333333333337,{"$f":"DATA!$C$9","v":0.89},{"$f":"DATA!$C$10","v":64},1,407.81250000000006,407.81250000000006,0,"","",0,"","",0,"","","","",null,{"$f":"X415","v":20},null,{"$f":"TEXT(Y423,\"ddd\")","v":"zo"},"MD",{"$f":"IFERROR(HLOOKUP(Y423,[1]DATA!$A$1:$NB$5,4,0),\"\")","v":"-"},null,null,null,null,{"$f":"VLOOKUP(Y423,[1]SRA!$S$4:$Z$368,7,0)","v":0},"","",""]
["20zoZND",{"$f":"VLOOKUP($AA425,DATA!$B$3:$E$6,2,0)","v":"00:00:00"},{"$f":"VLOOKUP($AA425,DATA!$B$3:$E$6,3,0)","v":"00:00:00"},{"$f":"VLOOKUP($AA425,DATA!$B$3:$E$6,4,0)","v":0},0,0,{"$f":"DATA!$C$9","v":0.89},{"$f":"DATA!$C$10","v":64},1,0,0,0,"","",0,"","",0,"","","","",null,{"$f":"X415","v":20},null,{"$f":"TEXT(Y423,\"ddd\")","v":"zo"},"ZND",{"$f":"IFERROR(HLOOKUP(Y423,[1]DATA!$A$1:$NB$5,5,0),\"\")","v":"-"},null,null,null,null,{"$f":"VLOOKUP(Y423,[1]SRA!$S$4:$Z$368,8,0)","v":0},"","",""]
["21maDD",{"$f":"VLOOKUP($AA426,DATA!$B$3:$E$6,2,0)","v":"06:30:00"},{"$f":"VLOOKUP($AA426,DATA!$B$3:$E$6,3,0)","v":"14:30:00"},{"$f":"VLOOKUP($AA426,DATA!$B$3:$E$6,4,0)","v":3.125E-2},0.30208333333333331,0.30208333333333331,{"$f":"DATA!$C$9","v":0.89},{"$f":"DATA!$C$10","v":64},1,407.8125,407.8125,0,"","",{"$f":"TIME(INT($AD426/60),INT(MOD($AD426,60)/1),0)","v":0},"","",0,"","","","",null,{"$f":"X436","v":21},{"$f":"Y423+1","v":"2018-05-21"},{"$f":"TEXT(Y426,\"ddd\")","v":"ma"},"DD",{"$f":"IFERROR(HLOOKUP(Y426,[1]DATA!$A$1:$NB$5,3,0),\"\")","v":"D2"},null,null,null,null,{"$f":"VLOOKUP(Y426,[1]SRA!$S$4:$AA$368,6,0)","v":0},"","","",{"$f":"IF(SUMIF(S426:S446,\">0\",K426:K446)=0,\"\",SUMIF(S426:S446,\">0\",K426:K446))","v":4893.75},{"$f":"IF(SUM(S426:S446)=0,\"\",SUM(S426:S446))","v":3719},{"$f":"IFERROR(AL426/AK426,\"-\")","v":0.75994891443167301},{"$f":"IF(SUM(M426:M446)=0,\"0\",SUM(M426:M446))","v":216.5625},{"$f":"IFERROR(AN426/AK426,\"-\")","v":4.4252873563218394E-2},{"$f":"IF(SUM(P426:P446)=0,0,SUM(P426:P446))","v":0},{"$f":"IFERROR(AP426/AK426,\"-\")","v":0},{"$f":"IFERROR(AVERAGE(AJ426:AJ446),\"-\")","v":0.86550977289189024},{"$f":"IFERROR(SUMIF($AB426:$AB446,AS$5,$AJ426:$AJ446)/COUNTIFS($AB426:$AB446,AS$5,$AJ426:$AJ446,\">0\"),\"\")","v":0.96968164766121179},0.96588105255374912,0.87734406168368273,{"$f":"IFERROR((AK426-AL426-AN426-AP426),\"-\")","v":958.1875},{"$f":"IFERROR((1-AM426-AO426-AQ426), \"-\")","v":0.19579821200510861},{"$f":"IFERROR((AV426*$AE$2)/60,\"-\")","v":1022.0666666666667},{"$f":"IFERROR(SUM(AG426:AG446),\"\")","v":360}]
["21maMD",{"$f":"VLOOKUP($AA427,DATA!$B$3:$E$6,2,0)","v":"14:30:00"},{"$f":"VLOOKUP($AA427,DATA!$B$3:$E$6,3,0)","v":"22:30:00"},{"$f":"VLOOKUP($AA427,DATA!$B$3:$E$6,4,0)","v":3.125E-2},0.30208333333333337,0.30208333333333337,{"$f":"DATA!$C$9","v":0.89},{"$f":"DATA!$C$10","v":64},1,407.81250000000006,407.81250000000006,0,"","",{"$f":"TIME(INT(AD427/60),INT(MOD(AD427,60)/1),0)","v":0},"","",0,"","","","",null,{"$f":"X436","v":21},null,{"$f":"TEXT(Y426,\"ddd\")","v":"ma"},"MD",{"$f":"IFERROR(HLOOKUP(Y426,[1]DATA!$A$1:$NB$5,4,0),\"\")","v":"D1"},null,null,null,null,{"$f":"VLOOKUP(Y426,[1]SRA!$S$4:$Z$368,7,0)","v":0},"","",""]
["21maND",{"$f":"VLOOKUP($AA428,DATA!$B$3:$E$6,2,0)","v":"22:30:00"},{"$f":"VLOOKUP($AA428,DATA!$B$3:$E$6,3,0)","v":"06:30:00"},{"$f":"VLOOKUP($AA428,DATA!$B$3:$E$6,4,0)","v":3.125E-2},0.30208333333333326,0.30208333333333326,{"$f":"DATA!$C$9","v":0.89},{"$f":"DATA!$C$10","v":64},1,407.81249999999989,407.81249999999989,0,"","",0,"","",0,"","","","",null,{"$f":"X436","v":21},null,{"$f":"TEXT(Y426,\"ddd\")","v":"ma"},"ND",{"$f":"IFERROR(HLOOKUP(Y426,[1]DATA!$A$1:$NB$5,5,0),\"\")","v":"D3"},null,null,null,null,{"$f":"VLOOKUP(Y426,[1]SRA!$S$4:$Z$368,8,0)","v":0},"","",""]
["21diDD",{"$f":"VLOOKUP($AA429,DATA!$B$3:$E$6,2,0)","v":"06:30:00"},{"$f":"VLOOKUP($AA429,DATA!$B$3:$E$6,3,0)","v":"14:30:00"},{"$f":"VLOOKUP($AA429,DATA!$B$3:$E$6,4,0)","v":3.125E-2},0.30208333333333331,0.28333333333333333,{"$f":"DATA!$C$9","v":0.89},{"$f":"DATA!$C$10","v":64},1,382.5,407.8125,1.8749999999999999E-2,25.3125,6.2068965517241378E-2,0,"","",318.93333333333334,266,"",266,"",null,{"$f":"X436","v":21},{"$f":"Y426+1","v":"2018-05-22"},{"$f":"TEXT(Y429,\"ddd\")","v":"di"},"DD",{"$f":"IFERROR(HLOOKUP(Y429,[1]DATA!$A$1:$NB$5,3,0),\"\")","v":"D2"},27,null,33,299,{"$f":"VLOOKUP(Y429,[1]SRA!$S$4:$Z$368,6,0)","v":17},-116.5,0.65226053639846748,0.94939472117483625]
["21diMD",{"$f":"VLOOKUP($AA430,DATA!$B$3:$E$6,2,0)","v":"14:30:00"},{"$f":"VLOOKUP($AA430,DATA!$B$3:$E$6,3,0)","v":"22:30:00"},{"$f":"VLOOKUP($AA430,DATA!$B$3:$E$6,4,0)","v":3.125E-2},0.30208333333333337,0.28263888888888894,{"$f":"DATA!$C$9","v":0.89},{"$f":"DATA!$C$10","v":64},1,381.56250000000006,407.81250000000006,1.9444444444444445E-2,26.25,6.4367816091954008E-2,0,"","",341.33333333333331,299,299,"","",null,{"$f":"X436","v":21},null,{"$f":"TEXT(Y429,\"ddd\")","v":"di"},"MD",{"$f":"IFERROR(HLOOKUP(Y429,[1]DATA!$A$1:$NB$5,4,0),\"\")","v":"D1"},28,null,21,320,{"$f":"VLOOKUP(Y429,[1]SRA!$S$4:$Z$368,7,0)","v":11},-82.562500000000057,0.73318007662835238,0.96877956480605487]
["21diND",{"$f":"VLOOKUP($AA431,DATA!$B$3:$E$6,2,0)","v":"22:30:00"},{"$f":"VLOOKUP($AA431,DATA!$B$3:$E$6,3,0)","v":"06:30:00"},{"$f":"VLOOKUP($AA431,DATA!$B$3:$E$6,4,0)","v":3.125E-2},0.30208333333333326,0.30208333333333326,{"$f":"DATA!$C$9","v":0.89},{"$f":"DATA!$C$10","v":64},1,407.81249999999989,407.81249999999989,0,"","",0,"","",310.39999999999998,291,"","",291,null,{"$f":"X436","v":21},null,{"$f":"TEXT(Y429,\"ddd\")","v":"di"},"ND",{"$f":"IFERROR(HLOOKUP(Y429,[1]DATA!$A$1:$NB$5,5,0),\"\")","v":"D3"},null,null,null,291,{"$f":"VLOOKUP(Y429,[1]SRA!$S$4:$Z$368,8,0)","v":23},-116.81249999999989,0.71356321839080483,0.93101379724055189]
[{"$f":"X432&Z432&AA432","v":"21woDD"},{"$f":"VLOOKUP($AA432,DATA!$B$3:$E$6,2,0)","v":"06:30:00"},{"$f":"VLOOKUP($AA432,DATA!$B$3:$E$6,3,0)","v":"14:30:00"},{"$f":"VLOOKUP($AA432,DATA!$B$3:$E$6,4,0)","v":3.125E-2},0.30208333333333331,0.27708333333333329,{"$f":"DATA!$C$9","v":0.89},{"$f":"DATA!$C$10","v":64},1,374.06249999999994,407.8125,2.4999999999999998E-2,33.75,8.2758620689655171E-2,0,{"$f":"IF($O432*86400/$H432=0,\"\",$O432*86400/$H432)","v":""},"",385.06666666666666,333,"",333,"",null,{"$f":"X436","v":21},{"$f":"Y429+1","v":"2018-05-23"},{"$f":"TEXT(Y432,\"ddd\")","v":"wo"},"DD",{"$f":"IFERROR(HLOOKUP(Y432,[1]DATA!$A$1:$NB$5,3,0),\"\")","v":"D2"},36,null,28,361,{"$f":"VLOOKUP(Y432,[1]SRA!$S$4:$Z$368,6,0)","v":23},-41.062499999999943,0.81655172413793109,0.9436366606763601]
["21woMD",{"$f":"VLOOKUP($AA433,DATA!$B$3:$E$6,2,0)","v":"14:30:00"},{"$f":"VLOOKUP($AA433,DATA!$B$3:$E$6,3,0)","v":"22:30:00"},{"$f":"VLOOKUP($AA433,DATA!$B$3:$E$6,4,0)","v":3.125E-2},0.30208333333333337,0.28055555555555561,{"$f":"DATA!$C$9","v":0.89},{"$f":"DATA!$C$10","v":64},1,378.75000000000006,407.81250000000006,2.1527777777777781E-2,29.062500000000004,7.1264367816091953E-2,0,"","",365.86666666666667,326,326,"","",null,{"$f":"X436","v":21},null,{"$f":"TEXT(Y432,\"ddd\")","v":"wo"},"MD",{"$f":"IFERROR(HLOOKUP(Y432,[1]DATA!$A$1:$NB$5,4,0),\"\")","v":"D1"},31,null,17,343,{"$f":"VLOOKUP(Y432,[1]SRA!$S$4:$Z$368,7,0)","v":13},-52.750000000000057,0.79938697318007657,0.96568713707548826]
["21woND",{"$f":"VLOOKUP($AA434,DATA!$B$3:$E$6,2,0)","v":"22:30:00"},{"$f":"VLOOKUP($AA434,DATA!$B$3:$E$6,3,0)","v":"06:30:00"},{"$f":"VLOOKUP($AA434,DATA!$B$3:$E$6,4,0)","v":3.125E-2},0.30208333333333326,0.30208333333333326,{"$f":"DATA!$C$9","v":0.89},{"$f":"DATA!$C$10","v":64},1,407.81249999999989,407.81249999999989,0,"","",0,"","",315.73333333333335,296,"","",296,null,{"$f":"X436","v":21},null,{"$f":"TEXT(Y432,\"ddd\")","v":"wo"},"ND",{"$f":"IFERROR(HLOOKUP(Y432,[1]DATA!$A$1:$NB$5,5,0),\"\")","v":"D3"},null,null,null,296,{"$f":"VLOOKUP(Y432,[1]SRA!$S$4:$Z$368,8,0)","v":29},-111.81249999999989,0.72582375478927219,0.9158770063817443]
["21doDD",{"$f":"VLOOKUP($AA435,DATA!$B$3:$E$6,2,0)","v":"06:30:00"},{"$f":"VLOOKUP($AA435,DATA!$B$3:$E$6,3,0)","v":"14:30:00"},{"$f":"VLOOKUP($AA435,DATA!$B$3:$E$6,4,0)","v":3.125E-2},0.30208333333333331,0.28680555555555554,{"$f":"DATA!$C$9","v":0.89},{"$f":"DATA!$C$10","v":64},1,387.1875,407.8125,1.5277777777777777E-2,20.625,5.057471264367816E-2,0,"","",379.73333333333335,326,"",326,"",null,{"$f":"X436","v":21},{"$f":"Y432+1","v":"2018-05-24"},{"$f":"TEXT(Y435,\"ddd\")","v":"do"},"DD",{"$f":"IFERROR(HLOOKUP(Y435,[1]DATA!$A$1:$NB$5,3,0),\"\")","v":"D2"},22,null,30,356,{"$f":"VLOOKUP(Y435,[1]SRA!$S$4:$Z$368,6,0)","v":7},-61.1875,0.79938697318007668,0.98189967247026377]
["21doMD",{"$f":"VLOOKUP($AA436,DATA!$B$3:$E$6,2,0)","v":"14:30:00"},{"$f":"VLOOKUP($AA436,DATA!$B$3:$E$6,3,0)","v":"22:30:00"},{"$f":"VLOOKUP($AA436,DATA!$B$3:$E$6,4,0)","v":3.125E-2},0.30208333333333337,0.28680555555555559,{"$f":"DATA!$C$9","v":0.89},{"$f":"DATA!$C$10","v":64},1,387.18750000000006,407.81250000000006,1.5277777777777777E-2,20.625,5.0574712643678153E-2,0,"","",364.8,328,328,"","",null,{"$f":"WEEKNUM($Y426)","v":21},null,{"$f":"TEXT(Y435,\"ddd\")","v":"do"},"MD",{"$f":"IFERROR(HLOOKUP(Y435,[1]DATA!$A$1:$NB$5,4,0),\"\")","v":"D1"},22,null,14,342,{"$f":"VLOOKUP(Y435,[1]SRA!$S$4:$Z$368,7,0)","v":3},-59.187500000000057,0.80429118773946351,0.99184339314845027]
["21doND",{"$f":"VLOOKUP($AA437,DATA!$B$3:$E$6,2,0)","v":"22:30:00"},{"$f":"VLOOKUP($AA437,DATA!$B$3:$E$6,3,0)","v":"06:30:00"},{"$f":"VLOOKUP($AA437,DATA!$B$3:$E$6,4,0)","v":3.125E-2},0.30208333333333326,0.30208333333333326,{"$f":"DATA!$C$9","v":0.89},{"$f":"DATA!$C$10","v":64},1,407.81249999999989,407.81249999999989,0,"","",0,"","",346.66666666666669,325,"","",325,null,{"$f":"X436","v":21},null,{"$f":"TEXT(Y435,\"ddd\")","v":"do"},"ND",{"$f":"IFERROR(HLOOKUP(Y435,[1]DATA!$A$1:$NB$5,5,0),\"\")","v":"D3"},null,null,null,325,{"$f":"VLOOKUP(Y435,[1]SRA!$S$4:$Z$368,8,0)","v":31},-82.812499999999886,0.79693486590038332,0.91791703442188877]
["21vrDD",{"$f":"VLOOKUP($AA438,DATA!$B$3:$E$6,2,0)","v":"06:30:00"},{"$f":"VLOOKUP($AA438,DATA!$B$3:$E$6,3,0)","v":"14:30:00"},{"$f":"VLOOKUP($AA438,DATA!$B$3:$E$6,4,0)","v":3.125E-2},0.30208333333333331,0.28333333333333333,{"$f":"DATA!$C$9","v":0.89},{"$f":"DATA!$C$10","v":64},1,382.5,407.8125,1.8749999999999999E-2,25.3125,6.2068965517241378E-2,0,"","",346.66666666666669,302,"",302,"",null,{"$f":"X436","v":21},{"$f":"Y435+1","v":"2018-05-25"},{"$f":"TEXT(Y438,\"ddd\")","v":"vr"},"DD",{"$f":"IFERROR(HLOOKUP(Y438,[1]DATA!$A$1:$NB$5,3,0),\"\")","v":"D2"},27,null,23,325,{"$f":"VLOOKUP(Y438,[1]SRA!$S$4:$Z$368,6,0)","v":4},-80.5,0.74053639846743291,0.98859315589353614]
["21vrMD",{"$f":"VLOOKUP($AA439,DATA!$B$3:$E$6,2,0)","v":"14:30:00"},{"$f":"VLOOKUP($AA439,DATA!$B$3:$E$6,3,0)","v":"22:30:00"},{"$f":"VLOOKUP($AA439,DATA!$B$3:$E$6,4,0)","v":3.125E-2},0.30208333333333337,0.27569444444444446,{"$f":"DATA!$C$9","v":0.89},{"$f":"DATA!$C$10","v":64},1,372.1875,407.81250000000006,2.6388888888888889E-2,35.625,8.7356321839080445E-2,0,"","",340.26666666666665,310,310,"","",null,{"$f":"X436","v":21},null,{"$f":"TEXT(Y438,\"ddd\")","v":"vr"},"MD",{"$f":"IFERROR(HLOOKUP(Y438,[1]DATA!$A$1:$NB$5,4,0),\"\")","v":"D1"},38,null,9,319,{"$f":"VLOOKUP(Y438,[1]SRA!$S$4:$Z$368,7,0)","v":17},-62.1875,0.76015325670498068,0.95241649561485353]
["21vrND",{"$f":"VLOOKUP($AA440,DATA!$B$3:$E$6,2,0)","v":"22:30:00"},{"$f":"VLOOKUP($AA440,DATA!$B$3:$E$6,3,0)","v":"06:30:00"},{"$f":"VLOOKUP($AA440,DATA!$B$3:$E$6,4,0)","v":3.125E-2},0.30208333333333326,0.30208333333333326,{"$f":"DATA!$C$9","v":0.89},{"$f":"DATA!$C$10","v":64},1,407.81249999999989,407.81249999999989,0,"","",0,"","",338.13333333333333,317,"","",317,null,{"$f":"X436","v":21},null,{"$f":"TEXT(Y438,\"ddd\")","v":"vr"},"ND",{"$f":"IFERROR(HLOOKUP(Y438,[1]DATA!$A$1:$NB$5,5,0),\"\")","v":"D3"},null,null,null,317,{"$f":"VLOOKUP(Y438,[1]SRA!$S$4:$Z$368,8,0)","v":116},-90.812499999999886,0.77731800766283543,0.74456840869054608]
["21zaDD",{"$f":"VLOOKUP($AA441,DATA!$B$3:$E$6,2,0)","v":"06:30:00"},{"$f":"VLOOKUP($AA441,DATA!$B$3:$E$6,3,0)","v":"14:30:00"},{"$f":"VLOOKUP($AA441,DATA!$B$3:$E$6,4,0)","v":3.125E-2},0.30208333333333331,0.30208333333333331,{"$f":"DATA!$C$9","v":0.89},{"$f":"DATA!$C$10","v":64},1,407.8125,407.8125,0,"","",0,"","",0,"","","","",null,{"$f":"X436","v":21},{"$f":"Y438+1","v":"2018-05-26"},{"$f":"TEXT(Y441,\"ddd\")","v":"za"},"DD",{"$f":"IFERROR(HLOOKUP(Y441,[1]DATA!$A$1:$NB$5,3,0),\"\")","v":"D2"},null,null,null,null,{"$f":"VLOOKUP(Y441,[1]SRA!$S$4:$Z$368,6,0)","v":66},"","",0]
["21zaMD",{"$f":"VLOOKUP($AA442,DATA!$B$3:$E$6,2,0)","v":"14:30:00"},{"$f":"VLOOKUP($AA442,DATA!$B$3:$E$6,3,0)","v":"22:30:00"},{"$f":"VLOOKUP($AA442,DATA!$B$3:$E$6,4,0)","v":3.125E-2},0.30208333333333337,0.30208333333333337,{"$f":"DATA!$C$9","v":0.89},{"$f":"DATA!$C$10","v":64},1,407.81250000000006,407.81250000000006,0,"","",0,"","",0,"","","","",null,{"$f":"X436","v":21},null,{"$f":"TEXT(Y441,\"ddd\")","v":"za"},"MD",{"$f":"IFERROR(HLOOKUP(Y441,[1]DATA!$A$1:$NB$5,4,0),\"\")","v":"-"},null,null,null,null,{"$f":"VLOOKUP(Y441,[1]SRA!$S$4:$Z$368,7,0)","v":0},"","",""]
["21zaND",{"$f":"VLOOKUP($AA443,DATA!$B$3:$E$6,2,0)","v":"22:30:00"},{"$f":"VLOOKUP($AA443,DATA!$B$3:$E$6,3,0)","v":"06:30:00"},{"$f":"VLOOKUP($AA443,DATA!$B$3:$E$6,4,0)","v":3.125E-2},0.30208333333333326,0.30208333333333326,{"$f":"DATA!$C$9","v":0.89},{"$f":"DATA!$C$10","v":64},1,407.81249999999989,407.81249999999989,0,"","",0,"","",0,"","","","",null,{"$f":"X436","v":21},null,{"$f":"TEXT(Y441,\"ddd\")","v":"za"},"ND",{"$f":"IFERROR(HLOOKUP(Y441,[1]DATA!$A$1:$NB$5,5,0),\"\")","v":"-"},null,null,null,null,{"$f":"VLOOKUP(Y441,[1]SRA!$S$4:$Z$368,8,0)","v":0},"","",""]
["21zoDD",{"$f":"VLOOKUP($AA444,DATA!$B$3:$E$6,2,0)","v":"06:30:00"},{"$f":"VLOOKUP($AA444,DATA!$B$3:$E$6,3,0)","v":"14:30:00"},{"$f":"VLOOKUP($AA444,DATA!$B$3:$E$6,4,0)","v":3.125E-2},0.30208333333333331,0.30208333333333331,{"$f":"DATA!$C$9","v":0.89},{"$f":"DATA!$C$10","v":64},1,407.8125,407.8125,0,"","",0,"","",0,"","","","",null,{"$f":"X436","v":21},{"$f":"Y441+1","v":"2018-05-27"},{"$f":"TEXT(Y444,\"ddd\")","v":"zo"},"DD",{"$f":"IFERROR(HLOOKUP(Y444,[1]DATA!$A$1:$NB$5,3,0),\"\")","v":"-"},null,null,null,null,{"$f":"VLOOKUP(Y444,[1]SRA!$S$4:$Z$368,6,0)","v":0},"","",""]
["21zoMD",{"$f":"VLOOKUP($AA445,DATA!$B$3:$E$6,2,0)","v":"14:30:00"},{"$f":"VLOOKUP($AA445,DATA!$B$3:$E$6,3,0)","v":"22:30:00"},{"$f":"VLOOKUP($AA445,DATA!$B$3:$E$6,4,0)","v":3.125E-2},0.30208333333333337,0.30208333333333337,{"$f":"DATA!$C$9","v":0.89},{"$f":"DATA!$C$10","v":64},1,407.81250000000006,407.81250000000006,0,"","",0,"","",0,"","","","",null,{"$f":"X436","v":21},null,{"$f":"TEXT(Y444,\"ddd\")","v":"zo"},"MD",{"$f":"IFERROR(HLOOKUP(Y444,[1]DATA!$A$1:$NB$5,4,0),\"\")","v":"-"},null,null,null,null,{"$f":"VLOOKUP(Y444,[1]SRA!$S$4:$Z$368,7,0)","v":0},"","",""]
["21zoZND",{"$f":"VLOOKUP($AA446,DATA!$B$3:$E$6,2,0)","v":"00:00:00"},{"$f":"VLOOKUP($AA446,DATA!$B$3:$E$6,3,0)","v":"00:00:00"},{"$f":"VLOOKUP($AA446,DATA!$B$3:$E$6,4,0)","v":0},0,0,{"$f":"DATA!$C$9","v":0.89},{"$f":"DATA!$C$10","v":64},1,0,0,0,"","",0,"","",0,"","","","",null,{"$f":"X436","v":21},null,{"$f":"TEXT(Y444,\"ddd\")","v":"zo"},"ZND",{"$f":"IFERROR(HLOOKUP(Y444,[1]DATA!$A$1:$NB$5,5,0),\"\")","v":"-"},null,null,null,null,{"$f":"VLOOKUP(Y444,[1]SRA!$S$4:$Z$368,8,0)","v":0},"","",""]
["22maDD",{"$f":"VLOOKUP($AA447,DATA!$B$3:$E$6,2,0)","v":"06:30:00"},{"$f":"VLOOKUP($AA447,DATA!$B$3:$E$6,3,0)","v":"14:30:00"},{"$f":"VLOOKUP($AA447,DATA!$B$3:$E$6,4,0)","v":3.125E-2},0.30208333333333331,0.28402777777777777,{"$f":"DATA!$C$9","v":0.89},{"$f":"DATA!$C$10","v":64},1,383.4375,407.8125,1.8055555555555557E-2,24.375000000000004,5.9770114942528742E-2,{"$f":"TIME(INT($AD447/60),INT(MOD($AD447,60)/1),0)","v":0},"","",240,206,206,"","",null,{"$f":"X457","v":22},{"$f":"Y444+1","v":"2018-05-28"},{"$f":"TEXT(Y447,\"ddd\")","v":"ma"},"DD",{"$f":"IFERROR(HLOOKUP(Y447,[1]DATA!$A$1:$NB$5,3,0),\"\")","v":"D1"},26,null,19,225,{"$f":"VLOOKUP(Y447,[1]SRA!$S$4:$AA$368,6,0)","v":4},-177.4375,0.50513409961685829,0.98360655737704916,{"$f":"IF(SUMIF(S447:S467,\">0\",K447:K467)=0,\"\",SUMIF(S447:S467,\">0\",K447:K467))","v":5301.5625},{"$f":"IF(SUM(S447:S467)=0,\"\",SUM(S447:S467))","v":3585},{"$f":"IFERROR(AL447/AK447,\"-\")","v":0.67621573828470383},{"$f":"IF(SUM(M447:M467)=0,\"0\",SUM(M447:M467))","v":440.625},{"$f":"IFERROR(AN447/AK447,\"-\")","v":8.3112290008841738E-2},{"$f":"IF(SUM(P447:P467)=0,0,SUM(P447:P467))","v":0},{"$f":"IFERROR(AP447/AK447,\"-\")","v":0},0.89531772795289777,{"$f":"IFERROR(SUMIF($AB447:$AB467,AS$5,$AJ447:$AJ467)/COUNTIFS($AB447:$AB467,AS$5,$AJ447:$AJ467,\">0\"),\"\")","v":0.98594391556790639},0.92633070648589266,0.97485144688936631,{"$f":"IFERROR((AK447-AL447-AN447-AP447),\"-\")","v":1275.9375},{"$f":"IFERROR((1-AM447-AO447-AQ447), \"-\")","v":0.24067197170645444},{"$f":"IFERROR((AV447*$AE$2)/60,\"-\")","v":1361},{"$f":"IFERROR(SUM(AG447:AG467),\"\")","v":178}]
["22maMD",{"$f":"VLOOKUP($AA448,DATA!$B$3:$E$6,2,0)","v":"14:30:00"},{"$f":"VLOOKUP($AA448,DATA!$B$3:$E$6,3,0)","v":"22:30:00"},{"$f":"VLOOKUP($AA448,DATA!$B$3:$E$6,4,0)","v":3.125E-2},0.30208333333333337,0.25416666666666671,{"$f":"DATA!$C$9","v":0.89},{"$f":"DATA!$C$10","v":64},1,343.12500000000006,407.81250000000006,4.7916666666666663E-2,64.6875,0.1586206896551724,{"$f":"TIME(INT(AD448/60),INT(MOD(AD448,60)/1),0)","v":0},"","",216.53333333333333,189,"","",189,null,{"$f":"X457","v":22},null,{"$f":"TEXT(Y447,\"ddd\")","v":"ma"},"MD",{"$f":"IFERROR(HLOOKUP(Y447,[1]DATA!$A$1:$NB$5,4,0),\"\")","v":"D3"},69,null,14,203,{"$f":"VLOOKUP(Y447,[1]SRA!$S$4:$Z$368,7,0)","v":0},-154.12500000000006,0.46344827586206888,1]
["22maND",{"$f":"VLOOKUP($AA449,DATA!$B$3:$E$6,2,0)","v":"22:30:00"},{"$f":"VLOOKUP($AA449,DATA!$B$3:$E$6,3,0)","v":"06:30:00"},{"$f":"VLOOKUP($AA449,DATA!$B$3:$E$6,4,0)","v":3.125E-2},0.30208333333333326,0.27430555555555547,{"$f":"DATA!$C$9","v":0.89},{"$f":"DATA!$C$10","v":64},1,370.31249999999989,407.81249999999989,2.7777777777777776E-2,37.5,9.1954022988505774E-2,0,"","",312.5333333333333,282,"",282,"",null,{"$f":"X457","v":22},null,{"$f":"TEXT(Y447,\"ddd\")","v":"ma"},"ND",{"$f":"IFERROR(HLOOKUP(Y447,[1]DATA!$A$1:$NB$5,5,0),\"\")","v":"D2"},40,null,11,293,{"$f":"VLOOKUP(Y447,[1]SRA!$S$4:$Z$368,8,0)","v":24},-88.312499999999886,0.69149425287356336,0.92868462757527737]
["22diDD",{"$f":"VLOOKUP($AA450,DATA!$B$3:$E$6,2,0)","v":"06:30:00"},{"$f":"VLOOKUP($AA450,DATA!$B$3:$E$6,3,0)","v":"14:30:00"},{"$f":"VLOOKUP($AA450,DATA!$B$3:$E$6,4,0)","v":3.125E-2},0.30208333333333331,0.24999999999999997,{"$f":"DATA!$C$9","v":0.89},{"$f":"DATA!$C$10","v":64},1,337.49999999999994,407.8125,5.2083333333333336E-2,70.3125,0.17241379310344829,0,"","",297.60000000000002,265,265,"","",null,{"$f":"X457","v":22},{"$f":"Y447+1","v":"2018-05-29"},{"$f":"TEXT(Y450,\"ddd\")","v":"di"},"DD",{"$f":"IFERROR(HLOOKUP(Y450,[1]DATA!$A$1:$NB$5,3,0),\"\")","v":"D1"},75,null,14,279,{"$f":"VLOOKUP(Y450,[1]SRA!$S$4:$Z$368,6,0)","v":7},-72.499999999999943,0.6498084291187739,0.97701904136572559]
["22diMD",{"$f":"VLOOKUP($AA451,DATA!$B$3:$E$6,2,0)","v":"14:30:00"},{"$f":"VLOOKUP($AA451,DATA!$B$3:$E$6,3,0)","v":"22:30:00"},{"$f":"VLOOKUP($AA451,DATA!$B$3:$E$6,4,0)","v":3.125E-2},0.30208333333333337,0.29305555555555557,{"$f":"DATA!$C$9","v":0.89},{"$f":"DATA!$C$10","v":64},1,395.625,407.81250000000006,9.0277777777777787E-3,12.187500000000002,2.9885057471264367E-2,0,"","",328.5333333333333,303,"","",303,null,{"$f":"X457","v":22},null,{"$f":"TEXT(Y450,\"ddd\")","v":"di"},"MD",{"$f":"IFERROR(HLOOKUP(Y450,[1]DATA!$A$1:$NB$5,4,0),\"\")","v":"D3"},13,null,5,308,{"$f":"VLOOKUP(Y450,[1]SRA!$S$4:$Z$368,7,0)","v":3},-92.625,0.74298850574712638,0.99095113613512975]
["22diND",{"$f":"VLOOKUP($AA452,DATA!$B$3:$E$6,2,0)","v":"22:30:00"},{"$f":"VLOOKUP($AA452,DATA!$B$3:$E$6,3,0)","v":"06:30:00"},{"$f":"VLOOKUP($AA452,DATA!$B$3:$E$6,4,0)","v":3.125E-2},0.30208333333333326,0.28333333333333327,{"$f":"DATA!$C$9","v":0.89},{"$f":"DATA!$C$10","v":64},1,382.49999999999994,407.81249999999989,1.8749999999999999E-2,25.3125,6.2068965517241399E-2,0,"","",387.2,336,"",336,"",null,{"$f":"X457","v":22},null,{"$f":"TEXT(Y450,\"ddd\")","v":"di"},"ND",{"$f":"IFERROR(HLOOKUP(Y450,[1]DATA!$A$1:$NB$5,5,0),\"\")","v":"D2"},27,null,27,363,{"$f":"VLOOKUP(Y450,[1]SRA!$S$4:$Z$368,8,0)","v":13},-46.499999999999943,0.82390804597701173,0.96751624187906049]
["22woDD",{"$f":"VLOOKUP($AA453,DATA!$B$3:$E$6,2,0)","v":"06:30:00"},{"$f":"VLOOKUP($AA453,DATA!$B$3:$E$6,3,0)","v":"14:30:00"},{"$f":"VLOOKUP($AA453,DATA!$B$3:$E$6,4,0)","v":3.125E-2},0.30208333333333331,0.28055555555555556,{"$f":"DATA!$C$9","v":0.89},{"$f":"DATA!$C$10","v":64},1,378.75,407.8125,2.1527777777777781E-2,29.062500000000004,7.1264367816091967E-2,0,"","",261.33333333333331,227,227,"","",null,{"$f":"X457","v":22},{"$f":"Y450+1","v":"2018-05-30"},{"$f":"TEXT(Y453,\"ddd\")","v":"wo"},"DD",{"$f":"IFERROR(HLOOKUP(Y453,[1]DATA!$A$1:$NB$5,3,0),\"\")","v":"D1"},31,null,18,245,{"$f":"VLOOKUP(Y453,[1]SRA!$S$4:$Z$368,6,0)","v":3},-151.75,0.55662835249042142,0.98865069356872637]
["22woMD",{"$f":"VLOOKUP($AA454,DATA!$B$3:$E$6,2,0)","v":"14:30:00"},{"$f":"VLOOKUP($AA454,DATA!$B$3:$E$6,3,0)","v":"22:30:00"},{"$f":"VLOOKUP($AA454,DATA!$B$3:$E$6,4,0)","v":3.125E-2},0.30208333333333337,0.2729166666666667,{"$f":"DATA!$C$9","v":0.89},{"$f":"DATA!$C$10","v":64},1,368.43750000000006,407.81250000000006,2.9166666666666664E-2,39.374999999999993,9.6551724137931005E-2,0,"","",344.5333333333333,309,"","",309,null,{"$f":"X457","v":22},null,{"$f":"TEXT(Y453,\"ddd\")","v":"wo"},"MD",{"$f":"IFERROR(HLOOKUP(Y453,[1]DATA!$A$1:$NB$5,4,0),\"\")","v":"D3"},42,null,14,323,{"$f":"VLOOKUP(Y453,[1]SRA!$S$4:$Z$368,7,0)","v":8},{"$f":"IFERROR(S454-J454,\"\")","v":-59.437500000000057},{"$f":"IFERROR(IF(S454/(E454*86400/H454)<=0,\"\",S454/(E454*86400/H454)),\"\")","v":0.75770114942528721},0.9773071104387292]
["22woND",{"$f":"VLOOKUP($AA455,DATA!$B$3:$E$6,2,0)","v":"22:30:00"},{"$f":"VLOOKUP($AA455,DATA!$B$3:$E$6,3,0)","v":"06:30:00"},{"$f":"VLOOKUP($AA455,DATA!$B$3:$E$6,4,0)","v":3.125E-2},0.30208333333333326,0.27708333333333324,{"$f":"DATA!$C$9","v":0.89},{"$f":"DATA!$C$10","v":64},1,374.06249999999989,407.81249999999989,{"$f":"TIME(INT($AC455/60),INT(MOD($AC455,60)/1),0)","v":2.4999999999999998E-2},{"$f":"IF($L455*86400/$H455=0,\"\",$L455*86400/$H455)","v":33.75},{"$f":"IFERROR($M455/$K455,\"\")","v":8.2758620689655199E-2},0,"",{"$f":"IFERROR($P455/$K455,\"\")","v":""},281.60000000000002,239,{"$f":"IF(IF($AB455=\"D1\",$S455,\"\")=0,\"\",IF($AB455=\"D1\",$S455,\"\"))","v":""},{"$f":"IF(IF($AB455=\"D2\",$S455,\"\")=0,\"\",IF($AB455=\"D2\",$S455,\"\"))","v":239},{"$f":"IF(IF($AB455=\"D3\",$S455,\"\")=0,\"\",IF($AB455=\"D3\",$S455,\"\"))","v":""},null,{"$f":"X457","v":22},null,{"$f":"TEXT(Y453,\"ddd\")","v":"wo"},"ND",{"$f":"IFERROR(HLOOKUP(Y453,[1]DATA!$A$1:$NB$5,5,0),\"\")","v":"D2"},36,null,25,264,{"$f":"VLOOKUP(Y453,[1]SRA!$S$4:$Z$368,8,0)","v":35},-135.06249999999989,0.58605363984674341,0.88945041061276053]
["22doDD",{"$f":"VLOOKUP($AA456,DATA!$B$3:$E$6,2,0)","v":"06:30:00"},{"$f":"VLOOKUP($AA456,DATA!$B$3:$E$6,3,0)","v":"14:30:00"},{"$f":"VLOOKUP($AA456,DATA!$B$3:$E$6,4,0)","v":3.125E-2},0.30208333333333331,0.2986111111111111,{"$f":"DATA!$C$9","v":0.89},{"$f":"DATA!$C$10","v":64},1,403.125,407.8125,3.472222222222222E-3,4.6875,1.1494252873563218E-2,0,"","",401.06666666666666,359,359,"","",null,{"$f":"X457","v":22},{"$f":"Y453+1","v":"2018-05-31"},{"$f":"TEXT(Y456,\"ddd\")","v":"do"},"DD",{"$f":"IFERROR(HLOOKUP(Y456,[1]DATA!$A$1:$NB$5,3,0),\"\")","v":"D1"},5,null,17,376,{"$f":"VLOOKUP(Y456,[1]SRA!$S$4:$Z$368,6,0)","v":8},-44.125,0.88030651340996169,0.98044328552803128]
["22doMD",{"$f":"VLOOKUP($AA457,DATA!$B$3:$E$6,2,0)","v":"14:30:00"},{"$f":"VLOOKUP($AA457,DATA!$B$3:$E$6,3,0)","v":"22:30:00"},{"$f":"VLOOKUP($AA457,DATA!$B$3:$E$6,4,0)","v":3.125E-2},0.30208333333333337,0.27986111111111117,{"$f":"DATA!$C$9","v":0.89},{"$f":"DATA!$C$10","v":64},1,377.81250000000006,407.81250000000006,2.2222222222222223E-2,30,7.3563218390804583E-2,0,"","",378.66666666666669,326,"","",326,null,{"$f":"WEEKNUM($Y447)","v":22},null,{"$f":"TEXT(Y456,\"ddd\")","v":"do"},"MD",{"$f":"IFERROR(HLOOKUP(Y456,[1]DATA!$A$1:$NB$5,4,0),\"\")","v":"D3"},32,null,29,355,{"$f":"VLOOKUP(Y456,[1]SRA!$S$4:$Z$368,7,0)","v":28},-51.812500000000057,0.79938697318007657,0.93114754098360653]
["22doND",{"$f":"VLOOKUP($AA458,DATA!$B$3:$E$6,2,0)","v":"22:30:00"},{"$f":"VLOOKUP($AA458,DATA!$B$3:$E$6,3,0)","v":"06:30:00"},{"$f":"VLOOKUP($AA458,DATA!$B$3:$E$6,4,0)","v":3.125E-2},0.30208333333333326,0.28402777777777771,{"$f":"DATA!$C$9","v":0.89},{"$f":"DATA!$C$10","v":64},1,383.43749999999989,407.81249999999989,1.8055555555555557E-2,24.375000000000004,5.9770114942528763E-2,0,"","",343.46666666666664,296,"",296,"",null,{"$f":"X457","v":22},null,{"$f":"TEXT(Y456,\"ddd\")","v":"do"},"ND",{"$f":"IFERROR(HLOOKUP(Y456,[1]DATA!$A$1:$NB$5,5,0),\"\")","v":"D2"},26,null,26,322,{"$f":"VLOOKUP(Y456,[1]SRA!$S$4:$Z$368,8,0)","v":30},-87.437499999999886,0.72582375478927219,0.91967154587647271]
["22vrDD",{"$f":"VLOOKUP($AA459,DATA!$B$3:$E$6,2,0)","v":"06:30:00"},{"$f":"VLOOKUP($AA459,DATA!$B$3:$E$6,3,0)","v":"14:30:00"},{"$f":"VLOOKUP($AA459,DATA!$B$3:$E$6,4,0)","v":3.125E-2},0.30208333333333331,0.26874999999999999,{"$f":"DATA!$C$9","v":0.89},{"$f":"DATA!$C$10","v":64},1,362.8125,407.8125,3.3333333333333333E-2,45,0.1103448275862069,0,"","",292.26666666666665,248,248,"","",null,{"$f":"X457","v":22},{"$f":"Y456+1","v":"2018-06-01"},{"$f":"TEXT(Y459,\"ddd\")","v":"vr"},"DD",{"$f":"IFERROR(HLOOKUP(Y459,[1]DATA!$A$1:$NB$5,3,0),\"\")","v":"D1"},48,null,26,274,{"$f":"VLOOKUP(Y459,[1]SRA!$S$4:$Z$368,6,0)","v":0},-114.8125,0.60812260536398466,1]
["22vrMD",{"$f":"VLOOKUP($AA460,DATA!$B$3:$E$6,2,0)","v":"14:30:00"},{"$f":"VLOOKUP($AA460,DATA!$B$3:$E$6,3,0)","v":"22:30:00"},{"$f":"VLOOKUP($AA460,DATA!$B$3:$E$6,4,0)","v":3.125E-2},0.30208333333333337,0.30208333333333337,{"$f":"DATA!$C$9","v":0.89},{"$f":"DATA!$C$10","v":64},1,407.81250000000006,407.81250000000006,0,"","",0,"","",0,"","","","",null,{"$f":"X457","v":22},null,{"$f":"TEXT(Y459,\"ddd\")","v":"vr"},"MD",{"$f":"IFERROR(HLOOKUP(Y459,[1]DATA!$A$1:$NB$5,4,0),\"\")","v":"D3"},null,null,null,null,{"$f":"VLOOKUP(Y459,[1]SRA!$S$4:$Z$368,7,0)","v":0},"","",""]
["22vrND",{"$f":"VLOOKUP($AA461,DATA!$B$3:$E$6,2,0)","v":"22:30:00"},{"$f":"VLOOKUP($AA461,DATA!$B$3:$E$6,3,0)","v":"06:30:00"},{"$f":"VLOOKUP($AA461,DATA!$B$3:$E$6,4,0)","v":3.125E-2},0.30208333333333326,0.30208333333333326,{"$f":"DATA!$C$9","v":0.89},{"$f":"DATA!$C$10","v":64},1,407.81249999999989,407.81249999999989,0,"","",0,"","",0,"","","","",null,{"$f":"X457","v":22},null,{"$f":"TEXT(Y459,\"ddd\")","v":"vr"},"ND",{"$f":"IFERROR(HLOOKUP(Y459,[1]DATA!$A$1:$NB$5,5,0),\"\")","v":"D2"},null,null,null,null,{"$f":"VLOOKUP(Y459,[1]SRA!$S$4:$Z$368,8,0)","v":15},"","",0]
["22zaDD",{"$f":"VLOOKUP($AA462,DATA!$B$3:$E$6,2,0)","v":"06:30:00"},{"$f":"VLOOKUP($AA462,DATA!$B$3:$E$6,3,0)","v":"14:30:00"},{"$f":"VLOOKUP($AA462,DATA!$B$3:$E$6,4,0)","v":3.125E-2},0.30208333333333331,0.30208333333333331,{"$f":"DATA!$C$9","v":0.89},{"$f":"DATA!$C$10","v":64},1,407.8125,407.8125,0,"","",0,"","",0,"","","","",null,{"$f":"X457","v":22},{"$f":"Y459+1","v":"2018-06-02"},{"$f":"TEXT(Y462,\"ddd\")","v":"za"},"DD",{"$f":"IFERROR(HLOOKUP(Y462,[1]DATA!$A$1:$NB$5,3,0),\"\")","v":"D1"},null,null,null,null,{"$f":"VLOOKUP(Y462,[1]SRA!$S$4:$Z$368,6,0)","v":0},"","",""]
["22zaMD",{"$f":"VLOOKUP($AA463,DATA!$B$3:$E$6,2,0)","v":"14:30:00"},{"$f":"VLOOKUP($AA463,DATA!$B$3:$E$6,3,0)","v":"22:30:00"},{"$f":"VLOOKUP($AA463,DATA!$B$3:$E$6,4,0)","v":3.125E-2},0.30208333333333337,0.30208333333333337,{"$f":"DATA!$C$9","v":0.89},{"$f":"DATA!$C$10","v":64},1,407.81250000000006,407.81250000000006,0,"","",0,"","",0,"","","","",null,{"$f":"X457","v":22},null,{"$f":"TEXT(Y462,\"ddd\")","v":"za"},"MD",{"$f":"IFERROR(HLOOKUP(Y462,[1]DATA!$A$1:$NB$5,4,0),\"\")","v":"-"},null,null,null,null,{"$f":"VLOOKUP(Y462,[1]SRA!$S$4:$Z$368,7,0)","v":0},"","",""]
["22zaND",{"$f":"VLOOKUP($AA464,DATA!$B$3:$E$6,2,0)","v":"22:30:00"},{"$f":"VLOOKUP($AA464,DATA!$B$3:$E$6,3,0)","v":"06:30:00"},{"$f":"VLOOKUP($AA464,DATA!$B$3:$E$6,4,0)","v":3.125E-2},0.30208333333333326,0.30208333333333326,{"$f":"DATA!$C$9","v":0.89},{"$f":"DATA!$C$10","v":64},1,407.81249999999989,407.81249999999989,0,"","",0,"","",0,"","","","",null,{"$f":"X457","v":22},null,{"$f":"TEXT(Y462,\"ddd\")","v":"za"},"ND",{"$f":"IFERROR(HLOOKUP(Y462,[1]DATA!$A$1:$NB$5,5,0),\"\")","v":"-"},null,null,null,null,{"$f":"VLOOKUP(Y462,[1]SRA!$S$4:$Z$368,8,0)","v":0},"","",""]
["22zoDD",{"$f":"VLOOKUP($AA465,DATA!$B$3:$E$6,2,0)","v":"06:30:00"},{"$f":"VLOOKUP($AA465,DATA!$B$3:$E$6,3,0)","v":"14:30:00"},{"$f":"VLOOKUP($AA465,DATA!$B$3:$E$6,4,0)","v":3.125E-2},0.30208333333333331,0.30208333333333331,{"$f":"DATA!$C$9","v":0.89},{"$f":"DATA!$C$10","v":64},1,407.8125,407.8125,0,"","",0,"","",0,"","","","",null,{"$f":"X457","v":22},{"$f":"Y462+1","v":"2018-06-03"},{"$f":"TEXT(Y465,\"ddd\")","v":"zo"},"DD",{"$f":"IFERROR(HLOOKUP(Y465,[1]DATA!$A$1:$NB$5,3,0),\"\")","v":"-"},null,null,null,null,{"$f":"VLOOKUP(Y465,[1]SRA!$S$4:$Z$368,6,0)","v":0},"","",""]
["22zoMD",{"$f":"VLOOKUP($AA466,DATA!$B$3:$E$6,2,0)","v":"14:30:00"},{"$f":"VLOOKUP($AA466,DATA!$B$3:$E$6,3,0)","v":"22:30:00"},{"$f":"VLOOKUP($AA466,DATA!$B$3:$E$6,4,0)","v":3.125E-2},0.30208333333333337,0.30208333333333337,{"$f":"DATA!$C$9","v":0.89},{"$f":"DATA!$C$10","v":64},1,407.81250000000006,407.81250000000006,0,"","",0,"","",0,"","","","",null,{"$f":"X457","v":22},null,{"$f":"TEXT(Y465,\"ddd\")","v":"zo"},"MD",{"$f":"IFERROR(HLOOKUP(Y465,[1]DATA!$A$1:$NB$5,4,0),\"\")","v":"-"},null,null,null,null,{"$f":"VLOOKUP(Y465,[1]SRA!$S$4:$Z$368,7,0)","v":0},"","",""]
["22zoZND",{"$f":"VLOOKUP($AA467,DATA!$B$3:$E$6,2,0)","v":"00:00:00"},{"$f":"VLOOKUP($AA467,DATA!$B$3:$E$6,3,0)","v":"00:00:00"},{"$f":"VLOOKUP($AA467,DATA!$B$3:$E$6,4,0)","v":0},0,0,{"$f":"DATA!$C$9","v":0.89},{"$f":"DATA!$C$10","v":64},1,0,0,0,"","",0,"","",0,"","","","",null,{"$f":"X457","v":22},null,{"$f":"TEXT(Y465,\"ddd\")","v":"zo"},"ZND",{"$f":"IFERROR(HLOOKUP(Y465,[1]DATA!$A$1:$NB$5,5,0),\"\")","v":"-"},null,null,null,null,{"$f":"VLOOKUP(Y465,[1]SRA!$S$4:$Z$368,8,0)","v":0},"","",""]
["23maDD",{"$f":"VLOOKUP($AA468,DATA!$B$3:$E$6,2,0)","v":"06:30:00"},{"$f":"VLOOKUP($AA468,DATA!$B$3:$E$6,3,0)","v":"14:30:00"},{"$f":"VLOOKUP($AA468,DATA!$B$3:$E$6,4,0)","v":3.125E-2},0.30208333333333331,0.29583333333333334,{"$f":"DATA!$C$9","v":0.89},{"$f":"DATA!$C$10","v":64},1,399.375,407.8125,6.2499999999999995E-3,8.4375,2.0689655172413793E-2,{"$f":"TIME(INT($AD468/60),INT(MOD($AD468,60)/1),0)","v":0},"","",276.26666666666665,240,"","",240,null,{"$f":"X478","v":23},{"$f":"Y465+1","v":"2018-06-04"},{"$f":"TEXT(Y468,\"ddd\")","v":"ma"},"DD",{"$f":"IFERROR(HLOOKUP(Y468,[1]DATA!$A$1:$NB$5,3,0),\"\")","v":"D3"},9,null,19,259,{"$f":"VLOOKUP(Y468,[1]SRA!$S$4:$AA$368,6,0)","v":20},-159.375,0.58850574712643677,0.93249324932493249,{"$f":"IF(SUMIF(S468:S488,\">0\",K468:K488)=0,\"\",SUMIF(S468:S488,\">0\",K468:K488))","v":6117.1875},{"$f":"IF(SUM(S468:S488)=0,\"\",SUM(S468:S488))","v":4365},{"$f":"IFERROR(AL468/AK468,\"-\")","v":0.71356321839080461},{"$f":"IF(SUM(M468:M488)=0,\"0\",SUM(M468:M488))","v":405},{"$f":"IFERROR(AN468/AK468,\"-\")","v":6.620689655172414E-2},{"$f":"IF(SUM(P468:P488)=0,0,SUM(P468:P488))","v":0},{"$f":"IFERROR(AP468/AK468,\"-\")","v":0},0.94801422967959992,{"$f":"IFERROR(SUMIF($AB468:$AB488,AS$5,$AJ468:$AJ488)/COUNTIFS($AB468:$AB488,AS$5,$AJ468:$AJ488,\">0\"),\"\")","v":0.95871026746890109},0.94727354379573647,0.94034622250879496,{"$f":"IFERROR((AK468-AL468-AN468-AP468),\"-\")","v":1347.1875},{"$f":"IFERROR((1-AM468-AO468-AQ468), \"-\")","v":0.22022988505747126},{"$f":"IFERROR((AV468*$AE$2)/60,\"-\")","v":1437},{"$f":"IFERROR(SUM(AG468:AG488),\"\")","v":287}]
["23maMD",{"$f":"VLOOKUP($AA469,DATA!$B$3:$E$6,2,0)","v":"14:30:00"},{"$f":"VLOOKUP($AA469,DATA!$B$3:$E$6,3,0)","v":"22:30:00"},{"$f":"VLOOKUP($AA469,DATA!$B$3:$E$6,4,0)","v":3.125E-2},0.30208333333333337,0.26111111111111113,{"$f":"DATA!$C$9","v":0.89},{"$f":"DATA!$C$10","v":64},1,352.5,407.81250000000006,4.0972222222222222E-2,55.3125,0.13563218390804596,{"$f":"TIME(INT(AD469/60),INT(MOD(AD469,60)/1),0)","v":0},"","",302.93333333333334,268,"",268,"",null,{"$f":"X478","v":23},null,{"$f":"TEXT(Y468,\"ddd\")","v":"ma"},"MD",{"$f":"IFERROR(HLOOKUP(Y468,[1]DATA!$A$1:$NB$5,4,0),\"\")","v":"D2"},59,null,16,284,{"$f":"VLOOKUP(Y468,[1]SRA!$S$4:$Z$368,7,0)","v":8},-84.5,0.65716475095785432,0.97427101200686106]
["23maND",{"$f":"VLOOKUP($AA470,DATA!$B$3:$E$6,2,0)","v":"22:30:00"},{"$f":"VLOOKUP($AA470,DATA!$B$3:$E$6,3,0)","v":"06:30:00"},{"$f":"VLOOKUP($AA470,DATA!$B$3:$E$6,4,0)","v":3.125E-2},0.30208333333333326,0.2715277777777777,{"$f":"DATA!$C$9","v":0.89},{"$f":"DATA!$C$10","v":64},1,366.56249999999989,407.81249999999989,3.0555555555555555E-2,41.25,0.10114942528735635,0,"","",320,289,289,"","",null,{"$f":"X478","v":23},null,{"$f":"TEXT(Y468,\"ddd\")","v":"ma"},"ND",{"$f":"IFERROR(HLOOKUP(Y468,[1]DATA!$A$1:$NB$5,5,0),\"\")","v":"D1"},44,null,11,300,{"$f":"VLOOKUP(Y468,[1]SRA!$S$4:$Z$368,8,0)","v":8},-77.562499999999886,0.70865900383141778,0.97560975609756095]
["23diDD",{"$f":"VLOOKUP($AA471,DATA!$B$3:$E$6,2,0)","v":"06:30:00"},{"$f":"VLOOKUP($AA471,DATA!$B$3:$E$6,3,0)","v":"14:30:00"},{"$f":"VLOOKUP($AA471,DATA!$B$3:$E$6,4,0)","v":3.125E-2},0.30208333333333331,0.24999999999999997,{"$f":"DATA!$C$9","v":0.89},{"$f":"DATA!$C$10","v":64},1,337.49999999999994,407.8125,5.2083333333333336E-2,70.3125,0.17241379310344829,0,"","",298.66666666666669,267,"","",267,null,{"$f":"X478","v":23},{"$f":"Y468+1","v":"2018-06-05"},{"$f":"TEXT(Y471,\"ddd\")","v":"di"},"DD",{"$f":"IFERROR(HLOOKUP(Y471,[1]DATA!$A$1:$NB$5,3,0),\"\")","v":"D3"},75,null,13,280,{"$f":"VLOOKUP(Y471,[1]SRA!$S$4:$Z$368,6,0)","v":10},-70.499999999999943,0.65471264367816095,0.96760259179265662]
["23diMD",{"$f":"VLOOKUP($AA472,DATA!$B$3:$E$6,2,0)","v":"14:30:00"},{"$f":"VLOOKUP($AA472,DATA!$B$3:$E$6,3,0)","v":"22:30:00"},{"$f":"VLOOKUP($AA472,DATA!$B$3:$E$6,4,0)","v":3.125E-2},0.30208333333333337,0.30208333333333337,{"$f":"DATA!$C$9","v":0.89},{"$f":"DATA!$C$10","v":64},1,407.81250000000006,407.81250000000006,0,"","",0,"","",342.4,290,"",290,"",null,{"$f":"X478","v":23},null,{"$f":"TEXT(Y471,\"ddd\")","v":"di"},"MD",{"$f":"IFERROR(HLOOKUP(Y471,[1]DATA!$A$1:$NB$5,4,0),\"\")","v":"D2"},0,null,31,321,{"$f":"VLOOKUP(Y471,[1]SRA!$S$4:$Z$368,7,0)","v":9},-117.81250000000006,0.71111111111111103,0.97438816163915765]
["23diND",{"$f":"VLOOKUP($AA473,DATA!$B$3:$E$6,2,0)","v":"22:30:00"},{"$f":"VLOOKUP($AA473,DATA!$B$3:$E$6,3,0)","v":"06:30:00"},{"$f":"VLOOKUP($AA473,DATA!$B$3:$E$6,4,0)","v":3.125E-2},0.30208333333333326,0.29513888888888884,{"$f":"DATA!$C$9","v":0.89},{"$f":"DATA!$C$10","v":64},1,398.43749999999994,407.81249999999989,6.9444444444444441E-3,9.375,2.2988505747126443E-2,0,"","",393.6,358,358,"","",null,{"$f":"X478","v":23},null,{"$f":"TEXT(Y471,\"ddd\")","v":"di"},"ND",{"$f":"IFERROR(HLOOKUP(Y471,[1]DATA!$A$1:$NB$5,5,0),\"\")","v":"D1"},10,null,11,369,{"$f":"VLOOKUP(Y471,[1]SRA!$S$4:$Z$368,8,0)","v":24},-40.437499999999943,0.87785440613026844,0.94252873563218387]
["23woDD",{"$f":"VLOOKUP($AA474,DATA!$B$3:$E$6,2,0)","v":"06:30:00"},{"$f":"VLOOKUP($AA474,DATA!$B$3:$E$6,3,0)","v":"14:30:00"},{"$f":"VLOOKUP($AA474,DATA!$B$3:$E$6,4,0)","v":3.125E-2},0.30208333333333331,0.30069444444444443,{"$f":"DATA!$C$9","v":0.89},{"$f":"DATA!$C$10","v":64},1,405.9375,407.8125,1.3888888888888889E-3,1.875,4.5977011494252873E-3,0,"","",337.06666666666666,304,"","",304,null,{"$f":"X478","v":23},{"$f":"Y471+1","v":"2018-06-06"},{"$f":"TEXT(Y474,\"ddd\")","v":"wo"},"DD",{"$f":"IFERROR(HLOOKUP(Y474,[1]DATA!$A$1:$NB$5,3,0),\"\")","v":"D3"},2,null,12,316,{"$f":"VLOOKUP(Y474,[1]SRA!$S$4:$Z$368,6,0)","v":73},-101.9375,0.74544061302681996,0.82198016582669486]
["23woMD",{"$f":"VLOOKUP($AA475,DATA!$B$3:$E$6,2,0)","v":"14:30:00"},{"$f":"VLOOKUP($AA475,DATA!$B$3:$E$6,3,0)","v":"22:30:00"},{"$f":"VLOOKUP($AA475,DATA!$B$3:$E$6,4,0)","v":3.125E-2},0.30208333333333337,0.27569444444444446,{"$f":"DATA!$C$9","v":0.89},{"$f":"DATA!$C$10","v":64},1,372.1875,407.81250000000006,2.6388888888888889E-2,35.625,8.7356321839080445E-2,0,"","",345.6,308,"",308,"",null,{"$f":"X478","v":23},null,{"$f":"TEXT(Y474,\"ddd\")","v":"wo"},"MD",{"$f":"IFERROR(HLOOKUP(Y474,[1]DATA!$A$1:$NB$5,4,0),\"\")","v":"D2"},38,null,16,324,{"$f":"VLOOKUP(Y474,[1]SRA!$S$4:$Z$368,7,0)","v":10},-64.1875,0.75524904214559374,{"$f":"IFERROR(R475/(R475+AG475),\"\")","v":0.97187851518560175}]
["23woND",{"$f":"VLOOKUP($AA476,DATA!$B$3:$E$6,2,0)","v":"22:30:00"},{"$f":"VLOOKUP($AA476,DATA!$B$3:$E$6,3,0)","v":"06:30:00"},{"$f":"VLOOKUP($AA476,DATA!$B$3:$E$6,4,0)","v":3.125E-2},{"$f":"(C476-B476+(B476>C476))-D476","v":0.30208333333333326},{"$f":"E476-O476-L476","v":0.26458333333333328},{"$f":"DATA!$C$9","v":0.89},{"$f":"DATA!$C$10","v":64},1,{"$f":"F476*86400/H476*I476","v":357.18749999999994},{"$f":"E476*86400/H476","v":407.81249999999989},3.7499999999999999E-2,50.625,0.1241379310344828,0,"","",{"$f":"AF476*AG$2","v":309.33333333333331},{"$f":"IF(AF476-AE476=0,\"\",AF476-AE476)","v":281},281,"","",null,{"$f":"X478","v":23},null,{"$f":"TEXT(Y474,\"ddd\")","v":"wo"},"ND",{"$f":"IFERROR(HLOOKUP(Y474,[1]DATA!$A$1:$NB$5,5,0),\"\")","v":"D1"},54,null,9,290,{"$f":"VLOOKUP(Y474,[1]SRA!$S$4:$Z$368,8,0)","v":23},-76.187499999999943,0.68904214559386989,0.93079237713139418]
["23doDD",{"$f":"VLOOKUP($AA477,DATA!$B$3:$E$6,2,0)","v":"06:30:00"},{"$f":"VLOOKUP($AA477,DATA!$B$3:$E$6,3,0)","v":"14:30:00"},{"$f":"VLOOKUP($AA477,DATA!$B$3:$E$6,4,0)","v":3.125E-2},0.30208333333333331,0.29236111111111107,{"$f":"DATA!$C$9","v":0.89},{"$f":"DATA!$C$10","v":64},1,394.68749999999994,407.8125,9.7222222222222224E-3,13.125,3.2183908045977011E-2,0,"","",337.06666666666666,298,"","",298,null,{"$f":"X478","v":23},{"$f":"Y474+1","v":"2018-06-07"},{"$f":"TEXT(Y477,\"ddd\")","v":"do"},"DD",{"$f":"IFERROR(HLOOKUP(Y477,[1]DATA!$A$1:$NB$5,3,0),\"\")","v":"D3"},14,null,18,316,{"$f":"VLOOKUP(Y477,[1]SRA!$S$4:$Z$368,6,0)","v":7},-96.687499999999943,0.73072796934865902,0.97965510559968993]
["23doMD",{"$f":"VLOOKUP($AA478,DATA!$B$3:$E$6,2,0)","v":"14:30:00"},{"$f":"VLOOKUP($AA478,DATA!$B$3:$E$6,3,0)","v":"22:30:00"},{"$f":"VLOOKUP($AA478,DATA!$B$3:$E$6,4,0)","v":3.125E-2},0.30208333333333337,0.2729166666666667,{"$f":"DATA!$C$9","v":0.89},{"$f":"DATA!$C$10","v":64},1,368.43750000000006,407.81250000000006,2.9166666666666664E-2,39.374999999999993,9.6551724137931005E-2,0,"","",321.06666666666666,275,"",275,"",null,{"$f":"WEEKNUM($Y468)","v":23},null,{"$f":"TEXT(Y477,\"ddd\")","v":"do"},"MD",{"$f":"IFERROR(HLOOKUP(Y477,[1]DATA!$A$1:$NB$5,4,0),\"\")","v":"D2"},42,null,26,301,{"$f":"VLOOKUP(Y477,[1]SRA!$S$4:$Z$368,7,0)","v":59},-93.437500000000057,0.67432950191570873,0.84476407647781093]
["23doND",{"$f":"VLOOKUP($AA479,DATA!$B$3:$E$6,2,0)","v":"22:30:00"},{"$f":"VLOOKUP($AA479,DATA!$B$3:$E$6,3,0)","v":"06:30:00"},{"$f":"VLOOKUP($AA479,DATA!$B$3:$E$6,4,0)","v":3.125E-2},0.30208333333333326,0.2541666666666666,{"$f":"DATA!$C$9","v":0.89},{"$f":"DATA!$C$10","v":64},1,343.12499999999989,407.81249999999989,4.7916666666666663E-2,64.6875,0.15862068965517245,0,"","",349.86666666666667,309,309,"","",null,{"$f":"X478","v":23},null,{"$f":"TEXT(Y477,\"ddd\")","v":"do"},"ND",{"$f":"IFERROR(HLOOKUP(Y477,[1]DATA!$A$1:$NB$5,5,0),\"\")","v":"D1"},69,null,19,328,{"$f":"VLOOKUP(Y477,[1]SRA!$S$4:$Z$368,8,0)","v":5},-34.124999999999886,0.75770114942528755,0.98591020101446558]
["23vrDD",{"$f":"VLOOKUP($AA480,DATA!$B$3:$E$6,2,0)","v":"06:30:00"},{"$f":"VLOOKUP($AA480,DATA!$B$3:$E$6,3,0)","v":"14:30:00"},{"$f":"VLOOKUP($AA480,DATA!$B$3:$E$6,4,0)","v":3.125E-2},0.30208333333333331,0.30208333333333331,{"$f":"DATA!$C$9","v":0.89},{"$f":"DATA!$C$10","v":64},1,407.8125,407.8125,0,"","",0,"","",221.86666666666667,208,"","",208,null,{"$f":"X478","v":23},{"$f":"Y477+1","v":"2018-06-08"},{"$f":"TEXT(Y480,\"ddd\")","v":"vr"},"DD",{"$f":"IFERROR(HLOOKUP(Y480,[1]DATA!$A$1:$NB$5,3,0),\"\")","v":"D3"},0,null,0,208,{"$f":"VLOOKUP(Y480,[1]SRA!$S$4:$Z$368,6,0)","v":0},-199.8125,0.51003831417624523,1]
["23vrMD",{"$f":"VLOOKUP($AA481,DATA!$B$3:$E$6,2,0)","v":"14:30:00"},{"$f":"VLOOKUP($AA481,DATA!$B$3:$E$6,3,0)","v":"22:30:00"},{"$f":"VLOOKUP($AA481,DATA!$B$3:$E$6,4,0)","v":3.125E-2},0.30208333333333337,0.29652777777777783,{"$f":"DATA!$C$9","v":0.89},{"$f":"DATA!$C$10","v":64},1,400.31250000000006,407.81250000000006,5.5555555555555558E-3,7.5,1.8390804597701146E-2,0,"","",363.73333333333335,329,"",329,"",null,{"$f":"X478","v":23},null,{"$f":"TEXT(Y480,\"ddd\")","v":"vr"},"MD",{"$f":"IFERROR(HLOOKUP(Y480,[1]DATA!$A$1:$NB$5,4,0),\"\")","v":"D2"},8,null,12,341,{"$f":"VLOOKUP(Y480,[1]SRA!$S$4:$Z$368,7,0)","v":13},-71.312500000000057,0.80674329501915698,0.96549283312688017]
["23vrND",{"$f":"VLOOKUP($AA482,DATA!$B$3:$E$6,2,0)","v":"22:30:00"},{"$f":"VLOOKUP($AA482,DATA!$B$3:$E$6,3,0)","v":"06:30:00"},{"$f":"VLOOKUP($AA482,DATA!$B$3:$E$6,4,0)","v":3.125E-2},0.30208333333333326,0.29652777777777772,{"$f":"DATA!$C$9","v":0.89},{"$f":"DATA!$C$10","v":64},1,400.31249999999994,407.81249999999989,5.5555555555555558E-3,7.5,1.8390804597701156E-2,0,"","",363.73333333333335,341,"",341,"",null,{"$f":"X478","v":23},null,{"$f":"TEXT(Y480,\"ddd\")","v":"vr"},"ND",{"$f":"IFERROR(HLOOKUP(Y480,[1]DATA!$A$1:$NB$5,5,0),\"\")","v":"D2"},8,null,0,341,{"$f":"VLOOKUP(Y480,[1]SRA!$S$4:$Z$368,8,0)","v":18},-59.312499999999943,0.8361685823754792,0.95284666433810683]
["23zaDD",{"$f":"VLOOKUP($AA483,DATA!$B$3:$E$6,2,0)","v":"06:30:00"},{"$f":"VLOOKUP($AA483,DATA!$B$3:$E$6,3,0)","v":"14:30:00"},{"$f":"VLOOKUP($AA483,DATA!$B$3:$E$6,4,0)","v":3.125E-2},0.30208333333333331,0.30208333333333331,{"$f":"DATA!$C$9","v":0.89},{"$f":"DATA!$C$10","v":64},1,407.8125,407.8125,0,"","",0,"","",0,"","","","",null,{"$f":"X478","v":23},{"$f":"Y480+1","v":"2018-06-09"},{"$f":"TEXT(Y483,\"ddd\")","v":"za"},"DD",{"$f":"IFERROR(HLOOKUP(Y483,[1]DATA!$A$1:$NB$5,3,0),\"\")","v":"D3"},null,null,null,null,{"$f":"VLOOKUP(Y483,[1]SRA!$S$4:$Z$368,6,0)","v":0},"","",""]
["23zaMD",{"$f":"VLOOKUP($AA484,DATA!$B$3:$E$6,2,0)","v":"14:30:00"},{"$f":"VLOOKUP($AA484,DATA!$B$3:$E$6,3,0)","v":"22:30:00"},{"$f":"VLOOKUP($AA484,DATA!$B$3:$E$6,4,0)","v":3.125E-2},0.30208333333333337,0.30208333333333337,{"$f":"DATA!$C$9","v":0.89},{"$f":"DATA!$C$10","v":64},1,407.81250000000006,407.81250000000006,0,"","",0,"","",0,"","","","",null,{"$f":"X478","v":23},null,{"$f":"TEXT(Y483,\"ddd\")","v":"za"},"MD",{"$f":"IFERROR(HLOOKUP(Y483,[1]DATA!$A$1:$NB$5,4,0),\"\")","v":"-"},null,null,null,null,{"$f":"VLOOKUP(Y483,[1]SRA!$S$4:$Z$368,7,0)","v":0},"","",""]
["23zaND",{"$f":"VLOOKUP($AA485,DATA!$B$3:$E$6,2,0)","v":"22:30:00"},{"$f":"VLOOKUP($AA485,DATA!$B$3:$E$6,3,0)","v":"06:30:00"},{"$f":"VLOOKUP($AA485,DATA!$B$3:$E$6,4,0)","v":3.125E-2},0.30208333333333326,0.30208333333333326,{"$f":"DATA!$C$9","v":0.89},{"$f":"DATA!$C$10","v":64},1,407.81249999999989,407.81249999999989,0,"","",0,"","",0,"","","","",null,{"$f":"X478","v":23},null,{"$f":"TEXT(Y483,\"ddd\")","v":"za"},"ND",{"$f":"IFERROR(HLOOKUP(Y483,[1]DATA!$A$1:$NB$5,5,0),\"\")","v":"-"},null,null,null,null,{"$f":"VLOOKUP(Y483,[1]SRA!$S$4:$Z$368,8,0)","v":0},"","",""]
["23zoDD",{"$f":"VLOOKUP($AA486,DATA!$B$3:$E$6,2,0)","v":"06:30:00"},{"$f":"VLOOKUP($AA486,DATA!$B$3:$E$6,3,0)","v":"14:30:00"},{"$f":"VLOOKUP($AA486,DATA!$B$3:$E$6,4,0)","v":3.125E-2},0.30208333333333331,0.30208333333333331,{"$f":"DATA!$C$9","v":0.89},{"$f":"DATA!$C$10","v":64},1,407.8125,407.8125,0,"","",0,"","",0,"","","","",null,{"$f":"X478","v":23},{"$f":"Y483+1","v":"2018-06-10"},{"$f":"TEXT(Y486,\"ddd\")","v":"zo"},"DD",{"$f":"IFERROR(HLOOKUP(Y486,[1]DATA!$A$1:$NB$5,3,0),\"\")","v":"-"},null,null,null,null,{"$f":"VLOOKUP(Y486,[1]SRA!$S$4:$Z$368,6,0)","v":0},"","",""]
["23zoMD",{"$f":"VLOOKUP($AA487,DATA!$B$3:$E$6,2,0)","v":"14:30:00"},{"$f":"VLOOKUP($AA487,DATA!$B$3:$E$6,3,0)","v":"22:30:00"},{"$f":"VLOOKUP($AA487,DATA!$B$3:$E$6,4,0)","v":3.125E-2},0.30208333333333337,0.30208333333333337,{"$f":"DATA!$C$9","v":0.89},{"$f":"DATA!$C$10","v":64},1,407.81250000000006,407.81250000000006,0,"","",0,"","",0,"","","","",null,{"$f":"X478","v":23},null,{"$f":"TEXT(Y486,\"ddd\")","v":"zo"},"MD",{"$f":"IFERROR(HLOOKUP(Y486,[1]DATA!$A$1:$NB$5,4,0),\"\")","v":"-"},null,null,null,null,{"$f":"VLOOKUP(Y486,[1]SRA!$S$4:$Z$368,7,0)","v":0},"","",""]
["23zoZND",{"$f":"VLOOKUP($AA488,DATA!$B$3:$E$6,2,0)","v":"00:00:00"},{"$f":"VLOOKUP($AA488,DATA!$B$3:$E$6,3,0)","v":"00:00:00"},{"$f":"VLOOKUP($AA488,DATA!$B$3:$E$6,4,0)","v":0},0,0,{"$f":"DATA!$C$9","v":0.89},{"$f":"DATA!$C$10","v":64},1,0,0,0,"","",0,"","",0,"","","","",null,{"$f":"X478","v":23},null,{"$f":"TEXT(Y486,\"ddd\")","v":"zo"},"ZND",{"$f":"IFERROR(HLOOKUP(Y486,[1]DATA!$A$1:$NB$5,5,0),\"\")","v":"-"},null,null,null,null,{"$f":"VLOOKUP(Y486,[1]SRA!$S$4:$Z$368,8,0)","v":0},"","",""]
["24maDD",{"$f":"VLOOKUP($AA489,DATA!$B$3:$E$6,2,0)","v":"06:30:00"},{"$f":"VLOOKUP($AA489,DATA!$B$3:$E$6,3,0)","v":"14:30:00"},{"$f":"VLOOKUP($AA489,DATA!$B$3:$E$6,4,0)","v":3.125E-2},0.30208333333333331,0.28541666666666665,{"$f":"DATA!$C$9","v":0.89},{"$f":"DATA!$C$10","v":64},1,385.3125,407.8125,1.6666666666666666E-2,22.5,5.5172413793103448E-2,{"$f":"TIME(INT($AD489/60),INT(MOD($AD489,60)/1),0)","v":0},"","",308.26666666666665,267,"",267,"",null,{"$f":"X499","v":24},{"$f":"Y486+1","v":"2018-06-11"},{"$f":"TEXT(Y489,\"ddd\")","v":"ma"},"DD",{"$f":"IFERROR(HLOOKUP(Y489,[1]DATA!$A$1:$NB$5,3,0),\"\")","v":"D2"},24,null,22,289,{"$f":"VLOOKUP(Y489,[1]SRA!$S$4:$AA$368,6,0)","v":14},-118.3125,0.65471264367816095,0.95655771617707908,{"$f":"IF(SUMIF(S489:S509,\">0\",K489:K509)=0,\"\",SUMIF(S489:S509,\">0\",K489:K509))","v":4078.125},{"$f":"IF(SUM(S489:S509)=0,\"\",SUM(S489:S509))","v":2905},{"$f":"IFERROR(AL489/AK489,\"-\")","v":0.71233716475095787},{"$f":"IF(SUM(M489:M509)=0,\"0\",SUM(M489:M509))","v":368.4375},{"$f":"IFERROR(AN489/AK489,\"-\")","v":9.0344827586206891E-2},{"$f":"IF(SUM(P489:P509)=0,0,SUM(P489:P509))","v":0},{"$f":"IFERROR(AP489/AK489,\"-\")","v":0},0.68712127210655372,{"$f":"IFERROR(SUMIF($AB489:$AB509,AS$5,$AJ489:$AJ509)/COUNTIFS($AB489:$AB509,AS$5,$AJ489:$AJ509,\">0\"),\"\")","v":0.95529382385556283},0.96864573804278764,"",{"$f":"IFERROR((AK489-AL489-AN489-AP489),\"-\")","v":804.6875},{"$f":"IFERROR((1-AM489-AO489-AQ489), \"-\")","v":0.19731800766283525},{"$f":"IFERROR((AV489*$AE$2)/60,\"-\")","v":858.33333333333337},{"$f":"IFERROR(SUM(AG489:AG509),\"\")","v":219}]
["24maMD",{"$f":"VLOOKUP($AA490,DATA!$B$3:$E$6,2,0)","v":"14:30:00"},{"$f":"VLOOKUP($AA490,DATA!$B$3:$E$6,3,0)","v":"22:30:00"},{"$f":"VLOOKUP($AA490,DATA!$B$3:$E$6,4,0)","v":3.125E-2},0.30208333333333337,0.28402777777777782,{"$f":"DATA!$C$9","v":0.89},{"$f":"DATA!$C$10","v":64},1,383.43750000000006,407.81250000000006,1.8055555555555557E-2,24.375000000000004,5.9770114942528735E-2,{"$f":"TIME(INT(AD490/60),INT(MOD(AD490,60)/1),0)","v":0},"","",338.13333333333333,308,308,"","",null,{"$f":"X499","v":24},null,{"$f":"TEXT(Y489,\"ddd\")","v":"ma"},"MD",{"$f":"IFERROR(HLOOKUP(Y489,[1]DATA!$A$1:$NB$5,4,0),\"\")","v":"D1"},26,null,9,317,{"$f":"VLOOKUP(Y489,[1]SRA!$S$4:$Z$368,7,0)","v":20},-75.437500000000057,0.75524904214559374,0.94415487714072965]
["24maND",{"$f":"VLOOKUP($AA491,DATA!$B$3:$E$6,2,0)","v":"22:30:00"},{"$f":"VLOOKUP($AA491,DATA!$B$3:$E$6,3,0)","v":"06:30:00"},{"$f":"VLOOKUP($AA491,DATA!$B$3:$E$6,4,0)","v":3.125E-2},0.30208333333333326,0.30208333333333326,{"$f":"DATA!$C$9","v":0.89},{"$f":"DATA!$C$10","v":64},1,407.81249999999989,407.81249999999989,0,"","",0,"","",0,"","","","",null,{"$f":"X499","v":24},null,{"$f":"TEXT(Y489,\"ddd\")","v":"ma"},"ND",{"$f":"IFERROR(HLOOKUP(Y489,[1]DATA!$A$1:$NB$5,5,0),\"\")","v":"D3"},null,null,null,null,{"$f":"VLOOKUP(Y489,[1]SRA!$S$4:$Z$368,8,0)","v":45},"","",0]
["24diDD",{"$f":"VLOOKUP($AA492,DATA!$B$3:$E$6,2,0)","v":"06:30:00"},{"$f":"VLOOKUP($AA492,DATA!$B$3:$E$6,3,0)","v":"14:30:00"},{"$f":"VLOOKUP($AA492,DATA!$B$3:$E$6,4,0)","v":3.125E-2},0.30208333333333331,0.30208333333333331,{"$f":"DATA!$C$9","v":0.89},{"$f":"DATA!$C$10","v":64},1,407.8125,407.8125,0,"","",0,"","",331.73333333333335,301,"",301,"",null,{"$f":"X499","v":24},{"$f":"Y489+1","v":"2018-06-12"},{"$f":"TEXT(Y492,\"ddd\")","v":"di"},"DD",{"$f":"IFERROR(HLOOKUP(Y492,[1]DATA!$A$1:$NB$5,3,0),\"\")","v":"D2"},0,null,10,311,{"$f":"VLOOKUP(Y492,[1]SRA!$S$4:$Z$368,6,0)","v":4},-106.8125,0.73808429118773944,0.98808578236695788]
["24diMD",{"$f":"VLOOKUP($AA493,DATA!$B$3:$E$6,2,0)","v":"14:30:00"},{"$f":"VLOOKUP($AA493,DATA!$B$3:$E$6,3,0)","v":"22:30:00"},{"$f":"VLOOKUP($AA493,DATA!$B$3:$E$6,4,0)","v":3.125E-2},0.30208333333333337,0.28541666666666671,{"$f":"DATA!$C$9","v":0.89},{"$f":"DATA!$C$10","v":64},1,385.31250000000006,407.81250000000006,1.6666666666666666E-2,22.5,5.5172413793103441E-2,0,"","",316.8,289,289,"","",null,{"$f":"X499","v":24},null,{"$f":"TEXT(Y492,\"ddd\")","v":"di"},"MD",{"$f":"IFERROR(HLOOKUP(Y492,[1]DATA!$A$1:$NB$5,4,0),\"\")","v":"D1"},24,null,8,297,{"$f":"VLOOKUP(Y492,[1]SRA!$S$4:$Z$368,7,0)","v":8},-96.312500000000057,0.70865900383141756,0.97536945812807885]
["24diND",{"$f":"VLOOKUP($AA494,DATA!$B$3:$E$6,2,0)","v":"22:30:00"},{"$f":"VLOOKUP($AA494,DATA!$B$3:$E$6,3,0)","v":"06:30:00"},{"$f":"VLOOKUP($AA494,DATA!$B$3:$E$6,4,0)","v":3.125E-2},0.30208333333333326,0.30208333333333326,{"$f":"DATA!$C$9","v":0.89},{"$f":"DATA!$C$10","v":64},1,407.81249999999989,407.81249999999989,0,"","",0,"","",0,"","","","",null,{"$f":"X499","v":24},null,{"$f":"TEXT(Y492,\"ddd\")","v":"di"},"ND",{"$f":"IFERROR(HLOOKUP(Y492,[1]DATA!$A$1:$NB$5,5,0),\"\")","v":"D3"},null,null,null,null,{"$f":"VLOOKUP(Y492,[1]SRA!$S$4:$Z$368,8,0)","v":3},"","",0]
["24woDD",{"$f":"VLOOKUP($AA495,DATA!$B$3:$E$6,2,0)","v":"06:30:00"},{"$f":"VLOOKUP($AA495,DATA!$B$3:$E$6,3,0)","v":"14:30:00"},{"$f":"VLOOKUP($AA495,DATA!$B$3:$E$6,4,0)","v":3.125E-2},0.30208333333333331,0.28333333333333333,{"$f":"DATA!$C$9","v":0.89},{"$f":"DATA!$C$10","v":64},1,382.5,407.8125,1.8749999999999999E-2,25.3125,6.2068965517241378E-2,0,"","",382.93333333333334,326,"",326,"",null,{"$f":"X499","v":24},{"$f":"Y492+1","v":"2018-06-13"},{"$f":"TEXT(Y495,\"ddd\")","v":"wo"},"DD",{"$f":"IFERROR(HLOOKUP(Y495,[1]DATA!$A$1:$NB$5,3,0),\"\")","v":"D2"},27,null,33,359,{"$f":"VLOOKUP(Y495,[1]SRA!$S$4:$Z$368,6,0)","v":8},-56.5,0.79938697318007668,0.97953615279672579]
[{"$f":"X496&Z496&AA496","v":"24woMD"},{"$f":"VLOOKUP($AA496,DATA!$B$3:$E$6,2,0)","v":"14:30:00"},{"$f":"VLOOKUP($AA496,DATA!$B$3:$E$6,3,0)","v":"22:30:00"},{"$f":"VLOOKUP($AA496,DATA!$B$3:$E$6,4,0)","v":3.125E-2},0.30208333333333337,0.28541666666666671,{"$f":"DATA!$C$9","v":0.89},{"$f":"DATA!$C$10","v":64},1,385.31250000000006,407.81250000000006,1.6666666666666666E-2,22.5,5.5172413793103441E-2,0,{"$f":"IF($O496*86400/$H496=0,\"\",$O496*86400/$H496)","v":""},"",333.86666666666667,307,307,"","",null,{"$f":"X499","v":24},null,{"$f":"TEXT(Y495,\"ddd\")","v":"wo"},"MD",{"$f":"IFERROR(HLOOKUP(Y495,[1]DATA!$A$1:$NB$5,4,0),\"\")","v":"D1"},24,null,6,313,{"$f":"VLOOKUP(Y495,[1]SRA!$S$4:$Z$368,7,0)","v":28},-78.312500000000057,0.75279693486590027,0.92262343404568903]
["24woND",{"$f":"VLOOKUP($AA497,DATA!$B$3:$E$6,2,0)","v":"22:30:00"},{"$f":"VLOOKUP($AA497,DATA!$B$3:$E$6,3,0)","v":"06:30:00"},{"$f":"VLOOKUP($AA497,DATA!$B$3:$E$6,4,0)","v":3.125E-2},0.30208333333333326,0.30208333333333326,{"$f":"DATA!$C$9","v":0.89},{"$f":"DATA!$C$10","v":64},1,407.81249999999989,407.81249999999989,0,"","",0,"","",0,"","","","",null,{"$f":"X499","v":24},null,{"$f":"TEXT(Y495,\"ddd\")","v":"wo"},"ND",{"$f":"IFERROR(HLOOKUP(Y495,[1]DATA!$A$1:$NB$5,5,0),\"\")","v":"D3"},null,null,null,null,{"$f":"VLOOKUP(Y495,[1]SRA!$S$4:$Z$368,8,0)","v":17},"","",0]
["24doDD",{"$f":"VLOOKUP($AA498,DATA!$B$3:$E$6,2,0)","v":"06:30:00"},{"$f":"VLOOKUP($AA498,DATA!$B$3:$E$6,3,0)","v":"14:30:00"},{"$f":"VLOOKUP($AA498,DATA!$B$3:$E$6,4,0)","v":3.125E-2},0.30208333333333331,0.26527777777777778,{"$f":"DATA!$C$9","v":0.89},{"$f":"DATA!$C$10","v":64},1,358.125,407.8125,3.6805555555555557E-2,49.6875,0.12183908045977011,0,"","",333.86666666666667,279,"",279,"",null,{"$f":"X499","v":24},{"$f":"Y495+1","v":"2018-06-14"},{"$f":"TEXT(Y498,\"ddd\")","v":"do"},"DD",{"$f":"IFERROR(HLOOKUP(Y498,[1]DATA!$A$1:$NB$5,3,0),\"\")","v":"D2"},53,null,34,313,{"$f":"VLOOKUP(Y498,[1]SRA!$S$4:$Z$368,6,0)","v":17},-79.125,0.68413793103448273,0.95154854645639364]
["24doMD",{"$f":"VLOOKUP($AA499,DATA!$B$3:$E$6,2,0)","v":"14:30:00"},{"$f":"VLOOKUP($AA499,DATA!$B$3:$E$6,3,0)","v":"22:30:00"},{"$f":"VLOOKUP($AA499,DATA!$B$3:$E$6,4,0)","v":3.125E-2},0.30208333333333337,0.23055555555555557,{"$f":"DATA!$C$9","v":0.89},{"$f":"DATA!$C$10","v":64},1,311.25,407.81250000000006,7.1527777777777787E-2,96.562500000000014,0.23678160919540231,0,"","",336,296,296,"","",null,{"$f":"WEEKNUM($Y489)","v":24},null,{"$f":"TEXT(Y498,\"ddd\")","v":"do"},"MD",{"$f":"IFERROR(HLOOKUP(Y498,[1]DATA!$A$1:$NB$5,4,0),\"\")","v":"D1"},103,null,19,315,{"$f":"VLOOKUP(Y498,[1]SRA!$S$4:$Z$368,7,0)","v":14},-15.25,0.72582375478927197,0.96]
["24doND",{"$f":"VLOOKUP($AA500,DATA!$B$3:$E$6,2,0)","v":"22:30:00"},{"$f":"VLOOKUP($AA500,DATA!$B$3:$E$6,3,0)","v":"06:30:00"},{"$f":"VLOOKUP($AA500,DATA!$B$3:$E$6,4,0)","v":3.125E-2},0.30208333333333326,0.30208333333333326,{"$f":"DATA!$C$9","v":0.89},{"$f":"DATA!$C$10","v":64},1,407.81249999999989,407.81249999999989,0,"","",0,"","",0,"","","","",null,{"$f":"X499","v":24},null,{"$f":"TEXT(Y498,\"ddd\")","v":"do"},"ND",{"$f":"IFERROR(HLOOKUP(Y498,[1]DATA!$A$1:$NB$5,5,0),\"\")","v":"D3"},null,null,null,null,{"$f":"VLOOKUP(Y498,[1]SRA!$S$4:$Z$368,8,0)","v":23},"","",0]
["24vrDD",{"$f":"VLOOKUP($AA501,DATA!$B$3:$E$6,2,0)","v":"06:30:00"},{"$f":"VLOOKUP($AA501,DATA!$B$3:$E$6,3,0)","v":"14:30:00"},{"$f":"VLOOKUP($AA501,DATA!$B$3:$E$6,4,0)","v":3.125E-2},0.30208333333333331,0.29374999999999996,{"$f":"DATA!$C$9","v":0.89},{"$f":"DATA!$C$10","v":64},1,396.56249999999994,407.8125,8.3333333333333332E-3,11.25,2.7586206896551724E-2,0,"","",327.46666666666664,298,"",298,"",null,{"$f":"X499","v":24},"2018-06-15",{"$f":"TEXT(Y501,\"ddd\")","v":"vr"},"DD",{"$f":"IFERROR(HLOOKUP(Y501,[1]DATA!$A$1:$NB$5,3,0),\"\")","v":"D2"},12,null,9,307,{"$f":"VLOOKUP(Y501,[1]SRA!$S$4:$Z$368,6,0)","v":11},-98.562499999999943,0.73072796934865902,0.9675004924167816]
["24vrMD",{"$f":"VLOOKUP($AA502,DATA!$B$3:$E$6,2,0)","v":"14:30:00"},{"$f":"VLOOKUP($AA502,DATA!$B$3:$E$6,3,0)","v":"22:30:00"},{"$f":"VLOOKUP($AA502,DATA!$B$3:$E$6,4,0)","v":3.125E-2},0.30208333333333337,0.23263888888888895,{"$f":"DATA!$C$9","v":0.89},{"$f":"DATA!$C$10","v":64},1,314.06250000000006,407.81250000000006,6.9444444444444434E-2,93.749999999999986,0.22988505747126431,0,"","",265.60000000000002,234,234,"","",null,{"$f":"X499","v":24},null,{"$f":"TEXT(Y501,\"ddd\")","v":"vr"},"MD",{"$f":"IFERROR(HLOOKUP(Y501,[1]DATA!$A$1:$NB$5,4,0),\"\")","v":"D1"},100,null,15,249,{"$f":"VLOOKUP(Y501,[1]SRA!$S$4:$Z$368,7,0)","v":7},-80.062500000000057,0.57379310344827583,0.97432134996331621]
["24vrND",{"$f":"VLOOKUP($AA503,DATA!$B$3:$E$6,2,0)","v":"22:30:00"},{"$f":"VLOOKUP($AA503,DATA!$B$3:$E$6,3,0)","v":"06:30:00"},{"$f":"VLOOKUP($AA503,DATA!$B$3:$E$6,4,0)","v":3.125E-2},0.30208333333333326,0.30208333333333326,{"$f":"DATA!$C$9","v":0.89},{"$f":"DATA!$C$10","v":64},1,407.81249999999989,407.81249999999989,0,"","",0,"","",0,"","","","",null,{"$f":"X499","v":24},null,{"$f":"TEXT(Y501,\"ddd\")","v":"vr"},"ND",{"$f":"IFERROR(HLOOKUP(Y501,[1]DATA!$A$1:$NB$5,5,0),\"\")","v":"D3"},null,null,null,null,{"$f":"VLOOKUP(Y501,[1]SRA!$S$4:$Z$368,8,0)","v":0},"","",""]
["24zaDD",{"$f":"VLOOKUP($AA504,DATA!$B$3:$E$6,2,0)","v":"06:30:00"},{"$f":"VLOOKUP($AA504,DATA!$B$3:$E$6,3,0)","v":"14:30:00"},{"$f":"VLOOKUP($AA504,DATA!$B$3:$E$6,4,0)","v":3.125E-2},0.30208333333333331,0.30208333333333331,{"$f":"DATA!$C$9","v":0.89},{"$f":"DATA!$C$10","v":64},1,407.8125,407.8125,0,"","",0,"","",0,"","","","",null,{"$f":"X499","v":24},"2018-06-16",{"$f":"TEXT(Y504,\"ddd\")","v":"za"},"DD",{"$f":"IFERROR(HLOOKUP(Y504,[1]DATA!$A$1:$NB$5,3,0),\"\")","v":"D2"},null,null,null,null,{"$f":"VLOOKUP(Y504,[1]SRA!$S$4:$Z$368,6,0)","v":0},"","",""]
["24zaMD",{"$f":"VLOOKUP($AA505,DATA!$B$3:$E$6,2,0)","v":"14:30:00"},{"$f":"VLOOKUP($AA505,DATA!$B$3:$E$6,3,0)","v":"22:30:00"},{"$f":"VLOOKUP($AA505,DATA!$B$3:$E$6,4,0)","v":3.125E-2},0.30208333333333337,0.30208333333333337,{"$f":"DATA!$C$9","v":0.89},{"$f":"DATA!$C$10","v":64},1,407.81250000000006,407.81250000000006,0,"","",0,"","",0,"","","","",null,{"$f":"X499","v":24},null,{"$f":"TEXT(Y504,\"ddd\")","v":"za"},"MD",{"$f":"IFERROR(HLOOKUP(Y504,[1]DATA!$A$1:$NB$5,4,0),\"\")","v":"-"},null,null,null,null,{"$f":"VLOOKUP(Y504,[1]SRA!$S$4:$Z$368,7,0)","v":0},"","",""]
["24zaND",{"$f":"VLOOKUP($AA506,DATA!$B$3:$E$6,2,0)","v":"22:30:00"},{"$f":"VLOOKUP($AA506,DATA!$B$3:$E$6,3,0)","v":"06:30:00"},{"$f":"VLOOKUP($AA506,DATA!$B$3:$E$6,4,0)","v":3.125E-2},0.30208333333333326,0.30208333333333326,{"$f":"DATA!$C$9","v":0.89},{"$f":"DATA!$C$10","v":64},1,407.81249999999989,407.81249999999989,0,"","",0,"","",0,"","","","",null,{"$f":"X499","v":24},null,{"$f":"TEXT(Y504,\"ddd\")","v":"za"},"ND",{"$f":"IFERROR(HLOOKUP(Y504,[1]DATA!$A$1:$NB$5,5,0),\"\")","v":"-"},null,null,null,null,{"$f":"VLOOKUP(Y504,[1]SRA!$S$4:$Z$368,8,0)","v":0},"","",""]
["24zoDD",{"$f":"VLOOKUP($AA507,DATA!$B$3:$E$6,2,0)","v":"06:30:00"},{"$f":"VLOOKUP($AA507,DATA!$B$3:$E$6,3,0)","v":"14:30:00"},{"$f":"VLOOKUP($AA507,DATA!$B$3:$E$6,4,0)","v":3.125E-2},0.30208333333333331,0.30208333333333331,{"$f":"DATA!$C$9","v":0.89},{"$f":"DATA!$C$10","v":64},1,407.8125,407.8125,0,"","",0,"","",0,"","","","",null,{"$f":"X499","v":24},"2018-06-17",{"$f":"TEXT(Y507,\"ddd\")","v":"zo"},"DD",{"$f":"IFERROR(HLOOKUP(Y507,[1]DATA!$A$1:$NB$5,3,0),\"\")","v":"-"},null,null,null,null,{"$f":"VLOOKUP(Y507,[1]SRA!$S$4:$Z$368,6,0)","v":0},"","",""]
["24zoMD",{"$f":"VLOOKUP($AA508,DATA!$B$3:$E$6,2,0)","v":"14:30:00"},{"$f":"VLOOKUP($AA508,DATA!$B$3:$E$6,3,0)","v":"22:30:00"},{"$f":"VLOOKUP($AA508,DATA!$B$3:$E$6,4,0)","v":3.125E-2},0.30208333333333337,0.30208333333333337,{"$f":"DATA!$C$9","v":0.89},{"$f":"DATA!$C$10","v":64},1,407.81250000000006,407.81250000000006,0,"","",0,"","",0,"","","","",null,{"$f":"X499","v":24},null,{"$f":"TEXT(Y507,\"ddd\")","v":"zo"},"MD",{"$f":"IFERROR(HLOOKUP(Y507,[1]DATA!$A$1:$NB$5,4,0),\"\")","v":"-"},null,null,null,null,{"$f":"VLOOKUP(Y507,[1]SRA!$S$4:$Z$368,7,0)","v":0},"","",""]
["24zoZND",{"$f":"VLOOKUP($AA509,DATA!$B$3:$E$6,2,0)","v":"00:00:00"},{"$f":"VLOOKUP($AA509,DATA!$B$3:$E$6,3,0)","v":"00:00:00"},{"$f":"VLOOKUP($AA509,DATA!$B$3:$E$6,4,0)","v":0},0,0,{"$f":"DATA!$C$9","v":0.89},{"$f":"DATA!$C$10","v":64},1,0,0,0,"","",0,"","",0,"","","","",null,{"$f":"X499","v":24},null,{"$f":"TEXT(Y507,\"ddd\")","v":"zo"},"ZND",{"$f":"IFERROR(HLOOKUP(Y507,[1]DATA!$A$1:$NB$5,5,0),\"\")","v":"-"},null,null,null,null,{"$f":"VLOOKUP(Y507,[1]SRA!$S$4:$Z$368,8,0)","v":0},"","",""]
["25maDD",{"$f":"VLOOKUP($AA510,DATA!$B$3:$E$6,2,0)","v":"06:30:00"},{"$f":"VLOOKUP($AA510,DATA!$B$3:$E$6,3,0)","v":"14:30:00"},{"$f":"VLOOKUP($AA510,DATA!$B$3:$E$6,4,0)","v":3.125E-2},0.30208333333333331,0.2270833333333333,{"$f":"DATA!$C$9","v":0.89},{"$f":"DATA!$C$10","v":64},1,306.56249999999994,407.8125,7.4999999999999997E-2,101.25,0.24827586206896551,{"$f":"TIME(INT($AD510/60),INT(MOD($AD510,60)/1),0)","v":0},"","",274.13333333333333,249,249,"","",null,{"$f":"X520","v":25},"2018-06-18",{"$f":"TEXT(Y510,\"ddd\")","v":"ma"},"DD",{"$f":"IFERROR(HLOOKUP(Y510,[1]DATA!$A$1:$NB$5,3,0),\"\")","v":"D1"},108,null,8,257,{"$f":"VLOOKUP(Y510,[1]SRA!$S$4:$AA$368,6,0)","v":38},-57.562499999999943,0.61057471264367813,0.87825715506193935,{"$f":"IF(SUMIF(S510:S530,\">0\",K510:K530)=0,\"\",SUMIF(S510:S530,\">0\",K510:K530))","v":6117.1875},{"$f":"IF(SUM(S510:S530)=0,\"\",SUM(S510:S530))","v":3917},{"$f":"IFERROR(AL510/AK510,\"-\")","v":0.64032694763729248},{"$f":"IF(SUM(M510:M530)=0,\"0\",SUM(M510:M530))","v":543.75},{"$f":"IFERROR(AN510/AK510,\"-\")","v":8.8888888888888892E-2},{"$f":"IF(SUM(P510:P530)=0,0,SUM(P510:P530))","v":0},{"$f":"IFERROR(AP510/AK510,\"-\")","v":0},{"$f":"IFERROR(AVERAGE(AJ510:AJ530),\"-\")","v":0.96692318633116225},{"$f":"IFERROR(SUMIF($AB510:$AB530,AS$5,$AJ510:$AJ530)/COUNTIFS($AB510:$AB530,AS$5,$AJ510:$AJ530,\">0\"),\"\")","v":0.95090623017752329},0.97900470050801192,0.97085862830795178,{"$f":"IFERROR((AK510-AL510-AN510-AP510),\"-\")","v":1656.4375},{"$f":"IFERROR((1-AM510-AO510-AQ510), \"-\")","v":0.27078416347381862},{"$f":"IFERROR((AV510*$AE$2)/60,\"-\")","v":1766.8666666666666},{"$f":"IFERROR(SUM(AG510:AG530),\"\")","v":164}]
["25maMD",{"$f":"VLOOKUP($AA511,DATA!$B$3:$E$6,2,0)","v":"14:30:00"},{"$f":"VLOOKUP($AA511,DATA!$B$3:$E$6,3,0)","v":"22:30:00"},{"$f":"VLOOKUP($AA511,DATA!$B$3:$E$6,4,0)","v":3.125E-2},0.30208333333333337,0.25208333333333338,{"$f":"DATA!$C$9","v":0.89},{"$f":"DATA!$C$10","v":64},1,340.31250000000006,407.81250000000006,4.9999999999999996E-2,67.5,0.16551724137931031,{"$f":"TIME(INT(AD511/60),INT(MOD(AD511,60)/1),0)","v":0},"","",309.33333333333331,276,"","",276,null,{"$f":"X520","v":25},null,{"$f":"TEXT(Y510,\"ddd\")","v":"ma"},"MD",{"$f":"IFERROR(HLOOKUP(Y510,[1]DATA!$A$1:$NB$5,4,0),\"\")","v":"D3"},72,null,14,290,{"$f":"VLOOKUP(Y510,[1]SRA!$S$4:$Z$368,7,0)","v":14},-64.312500000000057,0.6767816091954022,0.95670103092783509]
["25maND",{"$f":"VLOOKUP($AA512,DATA!$B$3:$E$6,2,0)","v":"22:30:00"},{"$f":"VLOOKUP($AA512,DATA!$B$3:$E$6,3,0)","v":"06:30:00"},{"$f":"VLOOKUP($AA512,DATA!$B$3:$E$6,4,0)","v":3.125E-2},0.30208333333333326,0.25624999999999992,{"$f":"DATA!$C$9","v":0.89},{"$f":"DATA!$C$10","v":64},1,345.93749999999989,407.81249999999989,4.5833333333333337E-2,61.875000000000007,0.15172413793103454,0,"","",253.86666666666667,227,"",227,"",null,{"$f":"X520","v":25},null,{"$f":"TEXT(Y510,\"ddd\")","v":"ma"},"ND",{"$f":"IFERROR(HLOOKUP(Y510,[1]DATA!$A$1:$NB$5,5,0),\"\")","v":"D2"},66,null,11,238,{"$f":"VLOOKUP(Y510,[1]SRA!$S$4:$Z$368,8,0)","v":12},-118.93749999999989,0.55662835249042164,0.95486459378134403]
["25diDD",{"$f":"VLOOKUP($AA513,DATA!$B$3:$E$6,2,0)","v":"06:30:00"},{"$f":"VLOOKUP($AA513,DATA!$B$3:$E$6,3,0)","v":"14:30:00"},{"$f":"VLOOKUP($AA513,DATA!$B$3:$E$6,4,0)","v":3.125E-2},0.30208333333333331,0.25277777777777777,{"$f":"DATA!$C$9","v":0.89},{"$f":"DATA!$C$10","v":64},1,341.25,407.8125,4.9305555555555554E-2,66.5625,0.16321839080459771,0,"","",320,284,284,"","",null,{"$f":"X520","v":25},"2018-06-19",{"$f":"TEXT(Y513,\"ddd\")","v":"di"},"DD",{"$f":"IFERROR(HLOOKUP(Y513,[1]DATA!$A$1:$NB$5,3,0),\"\")","v":"D1"},71,null,16,300,{"$f":"VLOOKUP(Y513,[1]SRA!$S$4:$Z$368,6,0)","v":43},-57.25,0.6963984674329502,0.88154269972451793]
["25diMD",{"$f":"VLOOKUP($AA514,DATA!$B$3:$E$6,2,0)","v":"14:30:00"},{"$f":"VLOOKUP($AA514,DATA!$B$3:$E$6,3,0)","v":"22:30:00"},{"$f":"VLOOKUP($AA514,DATA!$B$3:$E$6,4,0)","v":3.125E-2},0.30208333333333337,0.25347222222222227,{"$f":"DATA!$C$9","v":0.89},{"$f":"DATA!$C$10","v":64},1,342.18750000000006,407.81250000000006,4.8611111111111112E-2,65.625,0.16091954022988503,0,"","",288,260,"","",260,null,{"$f":"X520","v":25},null,{"$f":"TEXT(Y513,\"ddd\")","v":"di"},"MD",{"$f":"IFERROR(HLOOKUP(Y513,[1]DATA!$A$1:$NB$5,4,0),\"\")","v":"D3"},70,null,10,270,{"$f":"VLOOKUP(Y513,[1]SRA!$S$4:$Z$368,7,0)","v":19},-82.187500000000057,0.63754789272030643,0.93811074918566772]
["25diND",{"$f":"VLOOKUP($AA515,DATA!$B$3:$E$6,2,0)","v":"22:30:00"},{"$f":"VLOOKUP($AA515,DATA!$B$3:$E$6,3,0)","v":"06:30:00"},{"$f":"VLOOKUP($AA515,DATA!$B$3:$E$6,4,0)","v":3.125E-2},0.30208333333333326,0.30208333333333326,{"$f":"DATA!$C$9","v":0.89},{"$f":"DATA!$C$10","v":64},1,407.81249999999989,407.81249999999989,0,"","",0,"","",106.66666666666667,96,"",96,"",null,{"$f":"X520","v":25},null,{"$f":"TEXT(Y513,\"ddd\")","v":"di"},"ND",{"$f":"IFERROR(HLOOKUP(Y513,[1]DATA!$A$1:$NB$5,5,0),\"\")","v":"D2"},0,null,4,100,{"$f":"VLOOKUP(Y513,[1]SRA!$S$4:$Z$368,8,0)","v":0},-311.81249999999989,0.23540229885057479,1]
["25woDD",{"$f":"VLOOKUP($AA516,DATA!$B$3:$E$6,2,0)","v":"06:30:00"},{"$f":"VLOOKUP($AA516,DATA!$B$3:$E$6,3,0)","v":"14:30:00"},{"$f":"VLOOKUP($AA516,DATA!$B$3:$E$6,4,0)","v":3.125E-2},0.30208333333333331,0.3,{"$f":"DATA!$C$9","v":0.89},{"$f":"DATA!$C$10","v":64},1,405,407.8125,2.0833333333333333E-3,2.8125,6.8965517241379309E-3,0,"","",174.93333333333334,159,159,"","",null,{"$f":"X520","v":25},"2018-06-20",{"$f":"TEXT(Y516,\"ddd\")","v":"wo"},"DD",{"$f":"IFERROR(HLOOKUP(Y516,[1]DATA!$A$1:$NB$5,3,0),\"\")","v":"D1"},3,null,5,164,{"$f":"VLOOKUP(Y516,[1]SRA!$S$4:$Z$368,6,0)","v":0},-246,0.38988505747126434,1]
["25woMD",{"$f":"VLOOKUP($AA517,DATA!$B$3:$E$6,2,0)","v":"14:30:00"},{"$f":"VLOOKUP($AA517,DATA!$B$3:$E$6,3,0)","v":"22:30:00"},{"$f":"VLOOKUP($AA517,DATA!$B$3:$E$6,4,0)","v":3.125E-2},0.30208333333333337,0.30208333333333337,{"$f":"DATA!$C$9","v":0.89},{"$f":"DATA!$C$10","v":64},1,407.81250000000006,407.81250000000006,0,"","",0,"","",205.86666666666667,189,"","",189,null,{"$f":"X520","v":25},null,{"$f":"TEXT(Y516,\"ddd\")","v":"wo"},"MD",{"$f":"IFERROR(HLOOKUP(Y516,[1]DATA!$A$1:$NB$5,4,0),\"\")","v":"D3"},0,null,4,193,{"$f":"VLOOKUP(Y516,[1]SRA!$S$4:$Z$368,7,0)","v":0},-218.81250000000006,0.46344827586206888,1]
["25woND",{"$f":"VLOOKUP($AA518,DATA!$B$3:$E$6,2,0)","v":"22:30:00"},{"$f":"VLOOKUP($AA518,DATA!$B$3:$E$6,3,0)","v":"06:30:00"},{"$f":"VLOOKUP($AA518,DATA!$B$3:$E$6,4,0)","v":3.125E-2},0.30208333333333326,0.29166666666666657,{"$f":"DATA!$C$9","v":0.89},{"$f":"DATA!$C$10","v":64},1,393.74999999999989,407.81249999999989,1.0416666666666666E-2,14.0625,3.4482758620689662E-2,0,"","",391.46666666666664,338,"",338,"",null,{"$f":"X520","v":25},null,{"$f":"TEXT(Y516,\"ddd\")","v":"wo"},"ND",{"$f":"IFERROR(HLOOKUP(Y516,[1]DATA!$A$1:$NB$5,5,0),\"\")","v":"D2"},15,null,29,367,{"$f":"VLOOKUP(Y516,[1]SRA!$S$4:$Z$368,8,0)","v":5},{"$f":"IFERROR(S518-J518,\"\")","v":-55.749999999999886},{"$f":"IFERROR(IF(S518/(E518*86400/H518)<=0,\"\",S518/(E518*86400/H518)),\"\")","v":0.82881226053639867},0.98738859929376155]
["25doDD",{"$f":"VLOOKUP($AA519,DATA!$B$3:$E$6,2,0)","v":"06:30:00"},{"$f":"VLOOKUP($AA519,DATA!$B$3:$E$6,3,0)","v":"14:30:00"},{"$f":"VLOOKUP($AA519,DATA!$B$3:$E$6,4,0)","v":3.125E-2},0.30208333333333331,0.2583333333333333,{"$f":"DATA!$C$9","v":0.89},{"$f":"DATA!$C$10","v":64},1,348.74999999999994,407.8125,{"$f":"TIME(INT($AC519/60),INT(MOD($AC519,60)/1),0)","v":4.3750000000000004E-2},{"$f":"IF($L519*86400/$H519=0,\"\",$L519*86400/$H519)","v":59.062500000000007},{"$f":"IFERROR($M519/$K519,\"\")","v":0.14482758620689656},0,"",{"$f":"IFERROR($P519/$K519,\"\")","v":""},377.6,322,{"$f":"IF(IF($AB519=\"D1\",$S519,\"\")=0,\"\",IF($AB519=\"D1\",$S519,\"\"))","v":322},{"$f":"IF(IF($AB519=\"D2\",$S519,\"\")=0,\"\",IF($AB519=\"D2\",$S519,\"\"))","v":""},{"$f":"IF(IF($AB519=\"D3\",$S519,\"\")=0,\"\",IF($AB519=\"D3\",$S519,\"\"))","v":""},null,{"$f":"X520","v":25},"2018-06-21",{"$f":"TEXT(Y519,\"ddd\")","v":"do"},"DD",{"$f":"IFERROR(HLOOKUP(Y519,[1]DATA!$A$1:$NB$5,3,0),\"\")","v":"D1"},63,null,32,354,{"$f":"VLOOKUP(Y519,[1]SRA!$S$4:$Z$368,6,0)","v":2},-26.749999999999943,0.78957854406130268,0.99473129610115907]
["25doMD",{"$f":"VLOOKUP($AA520,DATA!$B$3:$E$6,2,0)","v":"14:30:00"},{"$f":"VLOOKUP($AA520,DATA!$B$3:$E$6,3,0)","v":"22:30:00"},{"$f":"VLOOKUP($AA520,DATA!$B$3:$E$6,4,0)","v":3.125E-2},0.30208333333333337,0.28333333333333338,{"$f":"DATA!$C$9","v":0.89},{"$f":"DATA!$C$10","v":64},1,382.50000000000006,407.81250000000006,1.8749999999999999E-2,25.3125,6.2068965517241372E-2,0,"","",361.6,323,"","",323,null,{"$f":"WEEKNUM($Y510)","v":25},null,{"$f":"TEXT(Y519,\"ddd\")","v":"do"},"MD",{"$f":"IFERROR(HLOOKUP(Y519,[1]DATA!$A$1:$NB$5,4,0),\"\")","v":"D3"},27,null,16,339,{"$f":"VLOOKUP(Y519,[1]SRA!$S$4:$Z$368,7,0)","v":0},-59.500000000000057,0.79203065134099604,1]
["25doND",{"$f":"VLOOKUP($AA521,DATA!$B$3:$E$6,2,0)","v":"22:30:00"},{"$f":"VLOOKUP($AA521,DATA!$B$3:$E$6,3,0)","v":"06:30:00"},{"$f":"VLOOKUP($AA521,DATA!$B$3:$E$6,4,0)","v":3.125E-2},0.30208333333333326,0.2944444444444444,{"$f":"DATA!$C$9","v":0.89},{"$f":"DATA!$C$10","v":64},1,397.49999999999994,407.81249999999989,7.6388888888888886E-3,10.3125,2.5287356321839087E-2,0,"","",380.8,346,"",346,"",null,{"$f":"X520","v":25},null,{"$f":"TEXT(Y519,\"ddd\")","v":"do"},"ND",{"$f":"IFERROR(HLOOKUP(Y519,[1]DATA!$A$1:$NB$5,5,0),\"\")","v":"D2"},11,null,11,357,{"$f":"VLOOKUP(Y519,[1]SRA!$S$4:$Z$368,8,0)","v":13},-51.499999999999943,0.84842911877394656,0.96698831894362625]
["25vrDD",{"$f":"VLOOKUP($AA522,DATA!$B$3:$E$6,2,0)","v":"06:30:00"},{"$f":"VLOOKUP($AA522,DATA!$B$3:$E$6,3,0)","v":"14:30:00"},{"$f":"VLOOKUP($AA522,DATA!$B$3:$E$6,4,0)","v":3.125E-2},0.30208333333333331,0.27986111111111112,{"$f":"DATA!$C$9","v":0.89},{"$f":"DATA!$C$10","v":64},1,377.8125,407.8125,2.2222222222222223E-2,30,7.3563218390804597E-2,0,"","",379.73333333333335,337,337,"","",null,{"$f":"X520","v":25},"2018-06-22",{"$f":"TEXT(Y522,\"ddd\")","v":"vr"},"DD",{"$f":"IFERROR(HLOOKUP(Y522,[1]DATA!$A$1:$NB$5,3,0),\"\")","v":"D1"},32,null,19,356,{"$f":"VLOOKUP(Y522,[1]SRA!$S$4:$Z$368,6,0)","v":0},-40.8125,0.82636015325670498,1]
["25vrMD",{"$f":"VLOOKUP($AA523,DATA!$B$3:$E$6,2,0)","v":"14:30:00"},{"$f":"VLOOKUP($AA523,DATA!$B$3:$E$6,3,0)","v":"22:30:00"},{"$f":"VLOOKUP($AA523,DATA!$B$3:$E$6,4,0)","v":3.125E-2},0.30208333333333337,0.28333333333333338,{"$f":"DATA!$C$9","v":0.89},{"$f":"DATA!$C$10","v":64},1,382.50000000000006,407.81250000000006,1.8749999999999999E-2,25.3125,6.2068965517241372E-2,0,"","",355.2,322,"","",322,null,{"$f":"X520","v":25},null,{"$f":"TEXT(Y522,\"ddd\")","v":"vr"},"MD",{"$f":"IFERROR(HLOOKUP(Y522,[1]DATA!$A$1:$NB$5,4,0),\"\")","v":"D3"},27,null,11,333,{"$f":"VLOOKUP(Y522,[1]SRA!$S$4:$Z$368,7,0)","v":15},-60.500000000000057,0.78957854406130257,0.95948136142625606]
["25vrND",{"$f":"VLOOKUP($AA524,DATA!$B$3:$E$6,2,0)","v":"22:30:00"},{"$f":"VLOOKUP($AA524,DATA!$B$3:$E$6,3,0)","v":"06:30:00"},{"$f":"VLOOKUP($AA524,DATA!$B$3:$E$6,4,0)","v":3.125E-2},0.30208333333333326,0.29166666666666657,{"$f":"DATA!$C$9","v":0.89},{"$f":"DATA!$C$10","v":64},1,393.74999999999989,407.81249999999989,1.0416666666666666E-2,14.0625,3.4482758620689662E-2,0,"","",208,189,"",189,"",null,{"$f":"X520","v":25},null,{"$f":"TEXT(Y522,\"ddd\")","v":"vr"},"ND",{"$f":"IFERROR(HLOOKUP(Y522,[1]DATA!$A$1:$NB$5,5,0),\"\")","v":"D2"},15,null,6,195,{"$f":"VLOOKUP(Y522,[1]SRA!$S$4:$Z$368,8,0)","v":3},-204.74999999999989,0.4634482758620691,0.98578199052132698]
["25zaDD",{"$f":"VLOOKUP($AA525,DATA!$B$3:$E$6,2,0)","v":"06:30:00"},{"$f":"VLOOKUP($AA525,DATA!$B$3:$E$6,3,0)","v":"14:30:00"},{"$f":"VLOOKUP($AA525,DATA!$B$3:$E$6,4,0)","v":3.125E-2},0.30208333333333331,0.30208333333333331,{"$f":"DATA!$C$9","v":0.89},{"$f":"DATA!$C$10","v":64},1,407.8125,407.8125,0,"","",0,"","",0,"","","","",null,{"$f":"X520","v":25},"2018-06-23",{"$f":"TEXT(Y525,\"ddd\")","v":"za"},"DD",{"$f":"IFERROR(HLOOKUP(Y525,[1]DATA!$A$1:$NB$5,3,0),\"\")","v":"D1"},null,null,null,null,{"$f":"VLOOKUP(Y525,[1]SRA!$S$4:$Z$368,6,0)","v":0},"","",""]
["25zaMD",{"$f":"VLOOKUP($AA526,DATA!$B$3:$E$6,2,0)","v":"14:30:00"},{"$f":"VLOOKUP($AA526,DATA!$B$3:$E$6,3,0)","v":"22:30:00"},{"$f":"VLOOKUP($AA526,DATA!$B$3:$E$6,4,0)","v":3.125E-2},0.30208333333333337,0.30208333333333337,{"$f":"DATA!$C$9","v":0.89},{"$f":"DATA!$C$10","v":64},1,407.81250000000006,407.81250000000006,0,"","",0,"","",0,"","","","",null,{"$f":"X520","v":25},null,{"$f":"TEXT(Y525,\"ddd\")","v":"za"},"MD",{"$f":"IFERROR(HLOOKUP(Y525,[1]DATA!$A$1:$NB$5,4,0),\"\")","v":"-"},null,null,null,null,{"$f":"VLOOKUP(Y525,[1]SRA!$S$4:$Z$368,7,0)","v":0},"","",""]
["25zaND",{"$f":"VLOOKUP($AA527,DATA!$B$3:$E$6,2,0)","v":"22:30:00"},{"$f":"VLOOKUP($AA527,DATA!$B$3:$E$6,3,0)","v":"06:30:00"},{"$f":"VLOOKUP($AA527,DATA!$B$3:$E$6,4,0)","v":3.125E-2},0.30208333333333326,0.30208333333333326,{"$f":"DATA!$C$9","v":0.89},{"$f":"DATA!$C$10","v":64},1,407.81249999999989,407.81249999999989,0,"","",0,"","",0,"","","","",null,{"$f":"X520","v":25},null,{"$f":"TEXT(Y525,\"ddd\")","v":"za"},"ND",{"$f":"IFERROR(HLOOKUP(Y525,[1]DATA!$A$1:$NB$5,5,0),\"\")","v":"-"},null,null,null,null,{"$f":"VLOOKUP(Y525,[1]SRA!$S$4:$Z$368,8,0)","v":0},"","",""]
["25zoDD",{"$f":"VLOOKUP($AA528,DATA!$B$3:$E$6,2,0)","v":"06:30:00"},{"$f":"VLOOKUP($AA528,DATA!$B$3:$E$6,3,0)","v":"14:30:00"},{"$f":"VLOOKUP($AA528,DATA!$B$3:$E$6,4,0)","v":3.125E-2},0.30208333333333331,0.30208333333333331,{"$f":"DATA!$C$9","v":0.89},{"$f":"DATA!$C$10","v":64},1,407.8125,407.8125,0,"","",0,"","",0,"","","","",null,{"$f":"X520","v":25},"2018-06-24",{"$f":"TEXT(Y528,\"ddd\")","v":"zo"},"DD",{"$f":"IFERROR(HLOOKUP(Y528,[1]DATA!$A$1:$NB$5,3,0),\"\")","v":"-"},null,null,null,null,{"$f":"VLOOKUP(Y528,[1]SRA!$S$4:$Z$368,6,0)","v":0},"","",""]
["25zoMD",{"$f":"VLOOKUP($AA529,DATA!$B$3:$E$6,2,0)","v":"14:30:00"},{"$f":"VLOOKUP($AA529,DATA!$B$3:$E$6,3,0)","v":"22:30:00"},{"$f":"VLOOKUP($AA529,DATA!$B$3:$E$6,4,0)","v":3.125E-2},0.30208333333333337,0.30208333333333337,{"$f":"DATA!$C$9","v":0.89},{"$f":"DATA!$C$10","v":64},1,407.81250000000006,407.81250000000006,0,"","",0,"","",0,"","","","",null,{"$f":"X520","v":25},null,{"$f":"TEXT(Y528,\"ddd\")","v":"zo"},"MD",{"$f":"IFERROR(HLOOKUP(Y528,[1]DATA!$A$1:$NB$5,4,0),\"\")","v":"-"},null,null,null,null,{"$f":"VLOOKUP(Y528,[1]SRA!$S$4:$Z$368,7,0)","v":0},"","",""]
["25zoZND",{"$f":"VLOOKUP($AA530,DATA!$B$3:$E$6,2,0)","v":"00:00:00"},{"$f":"VLOOKUP($AA530,DATA!$B$3:$E$6,3,0)","v":"00:00:00"},{"$f":"VLOOKUP($AA530,DATA!$B$3:$E$6,4,0)","v":0},0,0,{"$f":"DATA!$C$9","v":0.89},{"$f":"DATA!$C$10","v":64},1,0,0,0,"","",0,"","",0,"","","","",null,{"$f":"X520","v":25},null,{"$f":"TEXT(Y528,\"ddd\")","v":"zo"},"ZND",{"$f":"IFERROR(HLOOKUP(Y528,[1]DATA!$A$1:$NB$5,5,0),\"\")","v":"-"},null,null,null,null,{"$f":"VLOOKUP(Y528,[1]SRA!$S$4:$Z$368,8,0)","v":0},"","",""]
["26maDD",{"$f":"VLOOKUP($AA531,DATA!$B$3:$E$6,2,0)","v":"06:30:00"},{"$f":"VLOOKUP($AA531,DATA!$B$3:$E$6,3,0)","v":"14:30:00"},{"$f":"VLOOKUP($AA531,DATA!$B$3:$E$6,4,0)","v":3.125E-2},0.30208333333333331,0.30208333333333331,{"$f":"DATA!$C$9","v":0.89},{"$f":"DATA!$C$10","v":64},1,407.8125,407.8125,0,"","",{"$f":"TIME(INT($AD531/60),INT(MOD($AD531,60)/1),0)","v":0},"","",0,"","","","",null,{"$f":"X541","v":26},"2018-06-25",{"$f":"TEXT(Y531,\"ddd\")","v":"ma"},"DD",{"$f":"IFERROR(HLOOKUP(Y531,[1]DATA!$A$1:$NB$5,3,0),\"\")","v":"D3"},null,null,null,null,{"$f":"VLOOKUP(Y531,[1]SRA!$S$4:$AA$368,6,0)","v":14},"","",0,{"$f":"IF(SUMIF(S531:S551,\">0\",K531:K551)=0,\"\",SUMIF(S531:S551,\">0\",K531:K551))","v":1631.2500000000002},{"$f":"IF(SUM(S531:S551)=0,\"\",SUM(S531:S551))","v":1262},{"$f":"IFERROR(AL531/AK531,\"-\")","v":0.77363984674329489},{"$f":"IF(SUM(M531:M551)=0,\"0\",SUM(M531:M551))","v":57.1875},{"$f":"IFERROR(AN531/AK531,\"-\")","v":3.5057471264367812E-2},{"$f":"IF(SUM(P531:P551)=0,0,SUM(P531:P551))","v":0},{"$f":"IFERROR(AP531/AK531,\"-\")","v":0},0.37794321393729552,{"$f":"IFERROR(SUMIF($AB531:$AB551,AS$5,$AJ531:$AJ551)/COUNTIFS($AB531:$AB551,AS$5,$AJ531:$AJ551,\">0\"),\"\")","v":""},0.94485803484323883,"",{"$f":"IFERROR((AK531-AL531-AN531-AP531),\"-\")","v":312.06250000000023},{"$f":"IFERROR((1-AM531-AO531-AQ531), \"-\")","v":0.1913026819923373},{"$f":"IFERROR((AV531*$AE$2)/60,\"-\")","v":332.8666666666669},{"$f":"IFERROR(SUM(AG531:AG551),\"\")","v":153}]
["26maMD",{"$f":"VLOOKUP($AA532,DATA!$B$3:$E$6,2,0)","v":"14:30:00"},{"$f":"VLOOKUP($AA532,DATA!$B$3:$E$6,3,0)","v":"22:30:00"},{"$f":"VLOOKUP($AA532,DATA!$B$3:$E$6,4,0)","v":3.125E-2},0.30208333333333337,0.29236111111111113,{"$f":"DATA!$C$9","v":0.89},{"$f":"DATA!$C$10","v":64},1,394.6875,407.81250000000006,9.7222222222222224E-3,13.125,3.2183908045977004E-2,{"$f":"TIME(INT(AD532/60),INT(MOD(AD532,60)/1),0)","v":0},"","",372.26666666666665,341,"",341,"",null,{"$f":"X541","v":26},null,{"$f":"TEXT(Y531,\"ddd\")","v":"ma"},"MD",{"$f":"IFERROR(HLOOKUP(Y531,[1]DATA!$A$1:$NB$5,4,0),\"\")","v":"D2"},14,null,8,349,{"$f":"VLOOKUP(Y531,[1]SRA!$S$4:$Z$368,7,0)","v":24},-53.6875,0.83616858237547886,0.93943472409152085]
["26maND",{"$f":"VLOOKUP($AA533,DATA!$B$3:$E$6,2,0)","v":"22:30:00"},{"$f":"VLOOKUP($AA533,DATA!$B$3:$E$6,3,0)","v":"06:30:00"},{"$f":"VLOOKUP($AA533,DATA!$B$3:$E$6,4,0)","v":3.125E-2},0.30208333333333326,0.30208333333333326,{"$f":"DATA!$C$9","v":0.89},{"$f":"DATA!$C$10","v":64},1,407.81249999999989,407.81249999999989,0,"","",0,"","",0,"","","","",null,{"$f":"X541","v":26},null,{"$f":"TEXT(Y531,\"ddd\")","v":"ma"},"ND",{"$f":"IFERROR(HLOOKUP(Y531,[1]DATA!$A$1:$NB$5,5,0),\"\")","v":"D1"},null,null,null,null,{"$f":"VLOOKUP(Y531,[1]SRA!$S$4:$Z$368,8,0)","v":4},"","",0]
["26diDD",{"$f":"VLOOKUP($AA534,DATA!$B$3:$E$6,2,0)","v":"06:30:00"},{"$f":"VLOOKUP($AA534,DATA!$B$3:$E$6,3,0)","v":"14:30:00"},{"$f":"VLOOKUP($AA534,DATA!$B$3:$E$6,4,0)","v":3.125E-2},0.30208333333333331,0.30208333333333331,{"$f":"DATA!$C$9","v":0.89},{"$f":"DATA!$C$10","v":64},1,407.8125,407.8125,0,"","",0,"","",0,"","","","",null,{"$f":"X541","v":26},"2018-06-26",{"$f":"TEXT(Y534,\"ddd\")","v":"di"},"DD",{"$f":"IFERROR(HLOOKUP(Y534,[1]DATA!$A$1:$NB$5,3,0),\"\")","v":"D3"},null,null,null,null,{"$f":"VLOOKUP(Y534,[1]SRA!$S$4:$Z$368,6,0)","v":12},"","",0]
["26diMD",{"$f":"VLOOKUP($AA535,DATA!$B$3:$E$6,2,0)","v":"14:30:00"},{"$f":"VLOOKUP($AA535,DATA!$B$3:$E$6,3,0)","v":"22:30:00"},{"$f":"VLOOKUP($AA535,DATA!$B$3:$E$6,4,0)","v":3.125E-2},0.30208333333333337,0.28472222222222227,{"$f":"DATA!$C$9","v":0.89},{"$f":"DATA!$C$10","v":64},1,384.37500000000006,407.81250000000006,1.7361111111111112E-2,23.4375,5.7471264367816084E-2,0,"","",379.73333333333335,341,"",341,"",null,{"$f":"X541","v":26},null,{"$f":"TEXT(Y534,\"ddd\")","v":"di"},"MD",{"$f":"IFERROR(HLOOKUP(Y534,[1]DATA!$A$1:$NB$5,4,0),\"\")","v":"D2"},25,null,15,356,{"$f":"VLOOKUP(Y534,[1]SRA!$S$4:$Z$368,7,0)","v":5},-43.375000000000057,0.83616858237547886,0.98700398544446366]
["26diND",{"$f":"VLOOKUP($AA536,DATA!$B$3:$E$6,2,0)","v":"22:30:00"},{"$f":"VLOOKUP($AA536,DATA!$B$3:$E$6,3,0)","v":"06:30:00"},{"$f":"VLOOKUP($AA536,DATA!$B$3:$E$6,4,0)","v":3.125E-2},0.30208333333333326,0.30208333333333326,{"$f":"DATA!$C$9","v":0.89},{"$f":"DATA!$C$10","v":64},1,407.81249999999989,407.81249999999989,0,"","",0,"","",0,"","","","",null,{"$f":"X541","v":26},null,{"$f":"TEXT(Y534,\"ddd\")","v":"di"},"ND",{"$f":"IFERROR(HLOOKUP(Y534,[1]DATA!$A$1:$NB$5,5,0),\"\")","v":"D1"},null,null,null,null,{"$f":"VLOOKUP(Y534,[1]SRA!$S$4:$Z$368,8,0)","v":13},"","",0]
["26woDD",{"$f":"VLOOKUP($AA537,DATA!$B$3:$E$6,2,0)","v":"06:30:00"},{"$f":"VLOOKUP($AA537,DATA!$B$3:$E$6,3,0)","v":"14:30:00"},{"$f":"VLOOKUP($AA537,DATA!$B$3:$E$6,4,0)","v":3.125E-2},0.30208333333333331,0.30208333333333331,{"$f":"DATA!$C$9","v":0.89},{"$f":"DATA!$C$10","v":64},1,407.8125,407.8125,0,"","",0,"","",0,"","","","",null,{"$f":"X541","v":26},"2018-06-27",{"$f":"TEXT(Y537,\"ddd\")","v":"wo"},"DD",{"$f":"IFERROR(HLOOKUP(Y537,[1]DATA!$A$1:$NB$5,3,0),\"\")","v":"D3"},null,null,null,null,{"$f":"VLOOKUP(Y537,[1]SRA!$S$4:$Z$368,6,0)","v":15},"","",0]
["26woMD",{"$f":"VLOOKUP($AA538,DATA!$B$3:$E$6,2,0)","v":"14:30:00"},{"$f":"VLOOKUP($AA538,DATA!$B$3:$E$6,3,0)","v":"22:30:00"},{"$f":"VLOOKUP($AA538,DATA!$B$3:$E$6,4,0)","v":3.125E-2},0.30208333333333337,0.29722222222222228,{"$f":"DATA!$C$9","v":0.89},{"$f":"DATA!$C$10","v":64},1,401.25000000000006,407.81250000000006,4.8611111111111112E-3,6.5625,1.6091954022988502E-2,0,"","",359.46666666666664,302,"",302,"",null,{"$f":"X541","v":26},null,{"$f":"TEXT(Y537,\"ddd\")","v":"wo"},"MD",{"$f":"IFERROR(HLOOKUP(Y537,[1]DATA!$A$1:$NB$5,4,0),\"\")","v":"D2"},7,null,35,337,{"$f":"VLOOKUP(Y537,[1]SRA!$S$4:$Z$368,7,0)","v":46},-99.250000000000057,0.7405363984674328,0.88655047681683652]
["26woND",{"$f":"VLOOKUP($AA539,DATA!$B$3:$E$6,2,0)","v":"22:30:00"},{"$f":"VLOOKUP($AA539,DATA!$B$3:$E$6,3,0)","v":"06:30:00"},{"$f":"VLOOKUP($AA539,DATA!$B$3:$E$6,4,0)","v":3.125E-2},0.30208333333333326,0.30208333333333326,{"$f":"DATA!$C$9","v":0.89},{"$f":"DATA!$C$10","v":64},1,407.81249999999989,407.81249999999989,0,"","",0,"","",0,"","","","",null,{"$f":"X541","v":26},null,{"$f":"TEXT(Y537,\"ddd\")","v":"wo"},"ND",{"$f":"IFERROR(HLOOKUP(Y537,[1]DATA!$A$1:$NB$5,5,0),\"\")","v":"D1"},null,null,null,null,{"$f":"VLOOKUP(Y537,[1]SRA!$S$4:$Z$368,8,0)","v":0},"","",{"$f":"IFERROR(R539/(R539+AG539),\"\")","v":""}]
["26doDD",{"$f":"VLOOKUP($AA540,DATA!$B$3:$E$6,2,0)","v":"06:30:00"},{"$f":"VLOOKUP($AA540,DATA!$B$3:$E$6,3,0)","v":"14:30:00"},{"$f":"VLOOKUP($AA540,DATA!$B$3:$E$6,4,0)","v":3.125E-2},{"$f":"(C540-B540+(B540>C540))-D540","v":0.30208333333333331},{"$f":"E540-O540-L540","v":0.30208333333333331},{"$f":"DATA!$C$9","v":0.89},{"$f":"DATA!$C$10","v":64},1,{"$f":"F540*86400/H540*I540","v":407.8125},{"$f":"E540*86400/H540","v":407.8125},0,"","",0,"","",{"$f":"AF540*AG$2","v":0},{"$f":"IF(AF540-AE540=0,\"\",AF540-AE540)","v":""},"","","",null,{"$f":"X541","v":26},"2018-06-28",{"$f":"TEXT(Y540,\"ddd\")","v":"do"},"DD",{"$f":"IFERROR(HLOOKUP(Y540,[1]DATA!$A$1:$NB$5,3,0),\"\")","v":"D3"},null,null,null,null,{"$f":"VLOOKUP(Y540,[1]SRA!$S$4:$Z$368,6,0)","v":9},"","",0]
["26doMD",{"$f":"VLOOKUP($AA541,DATA!$B$3:$E$6,2,0)","v":"14:30:00"},{"$f":"VLOOKUP($AA541,DATA!$B$3:$E$6,3,0)","v":"22:30:00"},{"$f":"VLOOKUP($AA541,DATA!$B$3:$E$6,4,0)","v":3.125E-2},0.30208333333333337,0.29166666666666669,{"$f":"DATA!$C$9","v":0.89},{"$f":"DATA!$C$10","v":64},1,393.75,407.81250000000006,1.0416666666666666E-2,14.0625,3.4482758620689648E-2,0,"","",316.8,278,"",278,"",null,{"$f":"WEEKNUM($Y531)","v":26},null,{"$f":"TEXT(Y540,\"ddd\")","v":"do"},"MD",{"$f":"IFERROR(HLOOKUP(Y540,[1]DATA!$A$1:$NB$5,4,0),\"\")","v":"D2"},15,null,19,297,{"$f":"VLOOKUP(Y540,[1]SRA!$S$4:$Z$368,7,0)","v":11},-115.75,0.68168582375478914,0.96644295302013428]
["26doND",{"$f":"VLOOKUP($AA542,DATA!$B$3:$E$6,2,0)","v":"22:30:00"},{"$f":"VLOOKUP($AA542,DATA!$B$3:$E$6,3,0)","v":"06:30:00"},{"$f":"VLOOKUP($AA542,DATA!$B$3:$E$6,4,0)","v":3.125E-2},0.30208333333333326,0.30208333333333326,{"$f":"DATA!$C$9","v":0.89},{"$f":"DATA!$C$10","v":64},1,407.81249999999989,407.81249999999989,0,"","",0,"","",0,"","","","",null,{"$f":"X541","v":26},null,{"$f":"TEXT(Y540,\"ddd\")","v":"do"},"ND",{"$f":"IFERROR(HLOOKUP(Y540,[1]DATA!$A$1:$NB$5,5,0),\"\")","v":"D1"},null,null,null,null,{"$f":"VLOOKUP(Y540,[1]SRA!$S$4:$Z$368,8,0)","v":0},"","",""]
["26vrDD",{"$f":"VLOOKUP($AA543,DATA!$B$3:$E$6,2,0)","v":"06:30:00"},{"$f":"VLOOKUP($AA543,DATA!$B$3:$E$6,3,0)","v":"14:30:00"},{"$f":"VLOOKUP($AA543,DATA!$B$3:$E$6,4,0)","v":3.125E-2},0.30208333333333331,0.30208333333333331,{"$f":"DATA!$C$9","v":0.89},{"$f":"DATA!$C$10","v":64},1,407.8125,407.8125,0,"","",0,"","",0,"","","","",null,{"$f":"X541","v":26},"2018-06-29",{"$f":"TEXT(Y543,\"ddd\")","v":"vr"},"DD",{"$f":"IFERROR(HLOOKUP(Y543,[1]DATA!$A$1:$NB$5,3,0),\"\")","v":"D3"},null,null,null,null,{"$f":"VLOOKUP(Y543,[1]SRA!$S$4:$Z$368,6,0)","v":0},"","",""]
["26vrMD",{"$f":"VLOOKUP($AA544,DATA!$B$3:$E$6,2,0)","v":"14:30:00"},{"$f":"VLOOKUP($AA544,DATA!$B$3:$E$6,3,0)","v":"22:30:00"},{"$f":"VLOOKUP($AA544,DATA!$B$3:$E$6,4,0)","v":3.125E-2},0.30208333333333337,0.30208333333333337,{"$f":"DATA!$C$9","v":0.89},{"$f":"DATA!$C$10","v":64},1,407.81250000000006,407.81250000000006,0,"","",0,"","",0,"","","","",null,{"$f":"X541","v":26},null,{"$f":"TEXT(Y543,\"ddd\")","v":"vr"},"MD",{"$f":"IFERROR(HLOOKUP(Y543,[1]DATA!$A$1:$NB$5,4,0),\"\")","v":"D2"},null,null,null,null,{"$f":"VLOOKUP(Y543,[1]SRA!$S$4:$Z$368,7,0)","v":0},"","",""]
["26vrND",{"$f":"VLOOKUP($AA545,DATA!$B$3:$E$6,2,0)","v":"22:30:00"},{"$f":"VLOOKUP($AA545,DATA!$B$3:$E$6,3,0)","v":"06:30:00"},{"$f":"VLOOKUP($AA545,DATA!$B$3:$E$6,4,0)","v":3.125E-2},0.30208333333333326,0.30208333333333326,{"$f":"DATA!$C$9","v":0.89},{"$f":"DATA!$C$10","v":64},1,407.81249999999989,407.81249999999989,0,"","",0,"","",0,"","","","",null,{"$f":"X541","v":26},null,{"$f":"TEXT(Y543,\"ddd\")","v":"vr"},"ND",{"$f":"IFERROR(HLOOKUP(Y543,[1]DATA!$A$1:$NB$5,5,0),\"\")","v":"D2"},null,null,null,null,{"$f":"VLOOKUP(Y543,[1]SRA!$S$4:$Z$368,8,0)","v":0},"","",""]
["26zaDD",{"$f":"VLOOKUP($AA546,DATA!$B$3:$E$6,2,0)","v":"06:30:00"},{"$f":"VLOOKUP($AA546,DATA!$B$3:$E$6,3,0)","v":"14:30:00"},{"$f":"VLOOKUP($AA546,DATA!$B$3:$E$6,4,0)","v":3.125E-2},0.30208333333333331,0.30208333333333331,{"$f":"DATA!$C$9","v":0.89},{"$f":"DATA!$C$10","v":64},1,407.8125,407.8125,0,"","",0,"","",0,"","","","",null,{"$f":"X541","v":26},"2018-06-30",{"$f":"TEXT(Y546,\"ddd\")","v":"za"},"DD",{"$f":"IFERROR(HLOOKUP(Y546,[1]DATA!$A$1:$NB$5,3,0),\"\")","v":"D3"},null,null,null,null,{"$f":"VLOOKUP(Y546,[1]SRA!$S$4:$Z$368,6,0)","v":0},"","",""]
["26zaMD",{"$f":"VLOOKUP($AA547,DATA!$B$3:$E$6,2,0)","v":"14:30:00"},{"$f":"VLOOKUP($AA547,DATA!$B$3:$E$6,3,0)","v":"22:30:00"},{"$f":"VLOOKUP($AA547,DATA!$B$3:$E$6,4,0)","v":3.125E-2},0.30208333333333337,0.30208333333333337,{"$f":"DATA!$C$9","v":0.89},{"$f":"DATA!$C$10","v":64},1,407.81250000000006,407.81250000000006,0,"","",0,"","",0,"","","","",null,{"$f":"X541","v":26},null,{"$f":"TEXT(Y546,\"ddd\")","v":"za"},"MD",{"$f":"IFERROR(HLOOKUP(Y546,[1]DATA!$A$1:$NB$5,4,0),\"\")","v":"-"},null,null,null,null,{"$f":"VLOOKUP(Y546,[1]SRA!$S$4:$Z$368,7,0)","v":0},"","",""]
["26zaND",{"$f":"VLOOKUP($AA548,DATA!$B$3:$E$6,2,0)","v":"22:30:00"},{"$f":"VLOOKUP($AA548,DATA!$B$3:$E$6,3,0)","v":"06:30:00"},{"$f":"VLOOKUP($AA548,DATA!$B$3:$E$6,4,0)","v":3.125E-2},0.30208333333333326,0.30208333333333326,{"$f":"DATA!$C$9","v":0.89},{"$f":"DATA!$C$10","v":64},1,407.81249999999989,407.81249999999989,0,"","",0,"","",0,"","","","",null,{"$f":"X541","v":26},null,{"$f":"TEXT(Y546,\"ddd\")","v":"za"},"ND",{"$f":"IFERROR(HLOOKUP(Y546,[1]DATA!$A$1:$NB$5,5,0),\"\")","v":"-"},null,null,null,null,{"$f":"VLOOKUP(Y546,[1]SRA!$S$4:$Z$368,8,0)","v":0},"","",""]
["26zoDD",{"$f":"VLOOKUP($AA549,DATA!$B$3:$E$6,2,0)","v":"06:30:00"},{"$f":"VLOOKUP($AA549,DATA!$B$3:$E$6,3,0)","v":"14:30:00"},{"$f":"VLOOKUP($AA549,DATA!$B$3:$E$6,4,0)","v":3.125E-2},0.30208333333333331,0.30208333333333331,{"$f":"DATA!$C$9","v":0.89},{"$f":"DATA!$C$10","v":64},1,407.8125,407.8125,0,"","",0,"","",0,"","","","",null,{"$f":"X541","v":26},"2018-07-01",{"$f":"TEXT(Y549,\"ddd\")","v":"zo"},"DD",{"$f":"IFERROR(HLOOKUP(Y549,[1]DATA!$A$1:$NB$5,3,0),\"\")","v":"-"},null,null,null,null,{"$f":"VLOOKUP(Y549,[1]SRA!$S$4:$Z$368,6,0)","v":0},"","",""]
["26zoMD",{"$f":"VLOOKUP($AA550,DATA!$B$3:$E$6,2,0)","v":"14:30:00"},{"$f":"VLOOKUP($AA550,DATA!$B$3:$E$6,3,0)","v":"22:30:00"},{"$f":"VLOOKUP($AA550,DATA!$B$3:$E$6,4,0)","v":3.125E-2},0.30208333333333337,0.30208333333333337,{"$f":"DATA!$C$9","v":0.89},{"$f":"DATA!$C$10","v":64},1,407.81250000000006,407.81250000000006,0,"","",0,"","",0,"","","","",null,{"$f":"X541","v":26},null,{"$f":"TEXT(Y549,\"ddd\")","v":"zo"},"MD",{"$f":"IFERROR(HLOOKUP(Y549,[1]DATA!$A$1:$NB$5,4,0),\"\")","v":"-"},null,null,null,null,{"$f":"VLOOKUP(Y549,[1]SRA!$S$4:$Z$368,7,0)","v":0},"","",""]
["26zoZND",{"$f":"VLOOKUP($AA551,DATA!$B$3:$E$6,2,0)","v":"00:00:00"},{"$f":"VLOOKUP($AA551,DATA!$B$3:$E$6,3,0)","v":"00:00:00"},{"$f":"VLOOKUP($AA551,DATA!$B$3:$E$6,4,0)","v":0},0,0,{"$f":"DATA!$C$9","v":0.89},{"$f":"DATA!$C$10","v":64},1,0,0,0,"","",0,"","",0,"","","","",null,{"$f":"X541","v":26},null,{"$f":"TEXT(Y549,\"ddd\")","v":"zo"},"ZND",{"$f":"IFERROR(HLOOKUP(Y549,[1]DATA!$A$1:$NB$5,5,0),\"\")","v":"-"},null,null,null,null,{"$f":"VLOOKUP(Y549,[1]SRA!$S$4:$Z$368,8,0)","v":0},"","",""]
["27maDD",{"$f":"VLOOKUP($AA552,DATA!$B$3:$E$6,2,0)","v":"06:30:00"},{"$f":"VLOOKUP($AA552,DATA!$B$3:$E$6,3,0)","v":"14:30:00"},{"$f":"VLOOKUP($AA552,DATA!$B$3:$E$6,4,0)","v":3.125E-2},0.30208333333333331,0.30208333333333331,{"$f":"DATA!$C$9","v":0.89},{"$f":"DATA!$C$10","v":64},1,407.8125,407.8125,0,"","",{"$f":"TIME(INT($AD552/60),INT(MOD($AD552,60)/1),0)","v":0},"","",0,"","","","",null,{"$f":"X562","v":27},"2018-07-02",{"$f":"TEXT(Y552,\"ddd\")","v":"ma"},"DD",{"$f":"IFERROR(HLOOKUP(Y552,[1]DATA!$A$1:$NB$5,3,0),\"\")","v":"D2"},null,null,null,null,{"$f":"VLOOKUP(Y552,[1]SRA!$S$4:$AA$368,6,0)","v":34},"","",0,{"$f":"IF(SUMIF(S552:S572,\">0\",K552:K572)=0,\"\",SUMIF(S552:S572,\">0\",K552:K572))","v":""},{"$f":"IF(SUM(S552:S572)=0,\"\",SUM(S552:S572))","v":""},{"$f":"IFERROR(AL552/AK552,\"-\")","v":"-"},{"$f":"IF(SUM(M552:M572)=0,\"0\",SUM(M552:M572))","v":"0"},{"$f":"IFERROR(AN552/AK552,\"-\")","v":"-"},{"$f":"IF(SUM(P552:P572)=0,0,SUM(P552:P572))","v":0},{"$f":"IFERROR(AP552/AK552,\"-\")","v":"-"},0,{"$f":"IFERROR(SUMIF($AB552:$AB572,AS$5,$AJ552:$AJ572)/COUNTIFS($AB552:$AB572,AS$5,$AJ552:$AJ572,\">0\"),\"\")","v":""},"","",{"$f":"IFERROR((AK552-AL552-AN552-AP552),\"-\")","v":"-"},{"$f":"IFERROR((1-AM552-AO552-AQ552), \"-\")","v":"-"},{"$f":"IFERROR((AV552*$AE$2)/60,\"-\")","v":"-"},{"$f":"IFERROR(SUM(AG552:AG572),\"\")","v":191}]
["27maMD",{"$f":"VLOOKUP($AA553,DATA!$B$3:$E$6,2,0)","v":"14:30:00"},{"$f":"VLOOKUP($AA553,DATA!$B$3:$E$6,3,0)","v":"22:30:00"},{"$f":"VLOOKUP($AA553,DATA!$B$3:$E$6,4,0)","v":3.125E-2},0.30208333333333337,0.30208333333333337,{"$f":"DATA!$C$9","v":0.89},{"$f":"DATA!$C$10","v":64},1,407.81250000000006,407.81250000000006,0,"","",{"$f":"TIME(INT(AD553/60),INT(MOD(AD553,60)/1),0)","v":0},"","",0,"","","","",null,{"$f":"X562","v":27},null,{"$f":"TEXT(Y552,\"ddd\")","v":"ma"},"MD",{"$f":"IFERROR(HLOOKUP(Y552,[1]DATA!$A$1:$NB$5,4,0),\"\")","v":"D1"},null,null,null,null,{"$f":"VLOOKUP(Y552,[1]SRA!$S$4:$Z$368,7,0)","v":2},"","",0]
["27maND",{"$f":"VLOOKUP($AA554,DATA!$B$3:$E$6,2,0)","v":"22:30:00"},{"$f":"VLOOKUP($AA554,DATA!$B$3:$E$6,3,0)","v":"06:30:00"},{"$f":"VLOOKUP($AA554,DATA!$B$3:$E$6,4,0)","v":3.125E-2},0.30208333333333326,0.30208333333333326,{"$f":"DATA!$C$9","v":0.89},{"$f":"DATA!$C$10","v":64},1,407.81249999999989,407.81249999999989,0,"","",0,"","",0,"","","","",null,{"$f":"X562","v":27},null,{"$f":"TEXT(Y552,\"ddd\")","v":"ma"},"ND",{"$f":"IFERROR(HLOOKUP(Y552,[1]DATA!$A$1:$NB$5,5,0),\"\")","v":"D3"},null,null,null,null,{"$f":"VLOOKUP(Y552,[1]SRA!$S$4:$Z$368,8,0)","v":3},"","",0]
["27diDD",{"$f":"VLOOKUP($AA555,DATA!$B$3:$E$6,2,0)","v":"06:30:00"},{"$f":"VLOOKUP($AA555,DATA!$B$3:$E$6,3,0)","v":"14:30:00"},{"$f":"VLOOKUP($AA555,DATA!$B$3:$E$6,4,0)","v":3.125E-2},0.30208333333333331,0.30208333333333331,{"$f":"DATA!$C$9","v":0.89},{"$f":"DATA!$C$10","v":64},1,407.8125,407.8125,0,"","",0,"","",0,"","","","",null,{"$f":"X562","v":27},"2018-07-03",{"$f":"TEXT(Y555,\"ddd\")","v":"di"},"DD",{"$f":"IFERROR(HLOOKUP(Y555,[1]DATA!$A$1:$NB$5,3,0),\"\")","v":"D2"},null,null,null,null,{"$f":"VLOOKUP(Y555,[1]SRA!$S$4:$Z$368,6,0)","v":33},"","",0]
["27diMD",{"$f":"VLOOKUP($AA556,DATA!$B$3:$E$6,2,0)","v":"14:30:00"},{"$f":"VLOOKUP($AA556,DATA!$B$3:$E$6,3,0)","v":"22:30:00"},{"$f":"VLOOKUP($AA556,DATA!$B$3:$E$6,4,0)","v":3.125E-2},0.30208333333333337,0.30208333333333337,{"$f":"DATA!$C$9","v":0.89},{"$f":"DATA!$C$10","v":64},1,407.81250000000006,407.81250000000006,0,"","",0,"","",0,"","","","",null,{"$f":"X562","v":27},null,{"$f":"TEXT(Y555,\"ddd\")","v":"di"},"MD",{"$f":"IFERROR(HLOOKUP(Y555,[1]DATA!$A$1:$NB$5,4,0),\"\")","v":"D1"},null,null,null,null,{"$f":"VLOOKUP(Y555,[1]SRA!$S$4:$Z$368,7,0)","v":18},"","",0]
["27diND",{"$f":"VLOOKUP($AA557,DATA!$B$3:$E$6,2,0)","v":"22:30:00"},{"$f":"VLOOKUP($AA557,DATA!$B$3:$E$6,3,0)","v":"06:30:00"},{"$f":"VLOOKUP($AA557,DATA!$B$3:$E$6,4,0)","v":3.125E-2},0.30208333333333326,0.30208333333333326,{"$f":"DATA!$C$9","v":0.89},{"$f":"DATA!$C$10","v":64},1,407.81249999999989,407.81249999999989,0,"","",0,"","",0,"","","","",null,{"$f":"X562","v":27},null,{"$f":"TEXT(Y555,\"ddd\")","v":"di"},"ND",{"$f":"IFERROR(HLOOKUP(Y555,[1]DATA!$A$1:$NB$5,5,0),\"\")","v":"D3"},null,null,null,null,{"$f":"VLOOKUP(Y555,[1]SRA!$S$4:$Z$368,8,0)","v":9},"","",0]
["27woDD",{"$f":"VLOOKUP($AA558,DATA!$B$3:$E$6,2,0)","v":"06:30:00"},{"$f":"VLOOKUP($AA558,DATA!$B$3:$E$6,3,0)","v":"14:30:00"},{"$f":"VLOOKUP($AA558,DATA!$B$3:$E$6,4,0)","v":3.125E-2},0.30208333333333331,0.30208333333333331,{"$f":"DATA!$C$9","v":0.89},{"$f":"DATA!$C$10","v":64},1,407.8125,407.8125,0,"","",0,"","",0,"","","","",null,{"$f":"X562","v":27},"2018-07-04",{"$f":"TEXT(Y558,\"ddd\")","v":"wo"},"DD",{"$f":"IFERROR(HLOOKUP(Y558,[1]DATA!$A$1:$NB$5,3,0),\"\")","v":"D2"},null,null,null,null,{"$f":"VLOOKUP(Y558,[1]SRA!$S$4:$Z$368,6,0)","v":28},"","",0]
["27woMD",{"$f":"VLOOKUP($AA559,DATA!$B$3:$E$6,2,0)","v":"14:30:00"},{"$f":"VLOOKUP($AA559,DATA!$B$3:$E$6,3,0)","v":"22:30:00"},{"$f":"VLOOKUP($AA559,DATA!$B$3:$E$6,4,0)","v":3.125E-2},0.30208333333333337,0.30208333333333337,{"$f":"DATA!$C$9","v":0.89},{"$f":"DATA!$C$10","v":64},1,407.81250000000006,407.81250000000006,0,"","",0,"","",0,"","","","",null,{"$f":"X562","v":27},null,{"$f":"TEXT(Y558,\"ddd\")","v":"wo"},"MD",{"$f":"IFERROR(HLOOKUP(Y558,[1]DATA!$A$1:$NB$5,4,0),\"\")","v":"D1"},null,null,null,null,{"$f":"VLOOKUP(Y558,[1]SRA!$S$4:$Z$368,7,0)","v":8},"","",0]
[{"$f":"X560&Z560&AA560","v":"27woND"},{"$f":"VLOOKUP($AA560,DATA!$B$3:$E$6,2,0)","v":"22:30:00"},{"$f":"VLOOKUP($AA560,DATA!$B$3:$E$6,3,0)","v":"06:30:00"},{"$f":"VLOOKUP($AA560,DATA!$B$3:$E$6,4,0)","v":3.125E-2},0.30208333333333326,0.30208333333333326,{"$f":"DATA!$C$9","v":0.89},{"$f":"DATA!$C$10","v":64},1,407.81249999999989,407.81249999999989,0,"","",0,{"$f":"IF($O560*86400/$H560=0,\"\",$O560*86400/$H560)","v":""},"",0,"","","","",null,{"$f":"X562","v":27},null,{"$f":"TEXT(Y558,\"ddd\")","v":"wo"},"ND",{"$f":"IFERROR(HLOOKUP(Y558,[1]DATA!$A$1:$NB$5,5,0),\"\")","v":"D3"},null,null,null,null,{"$f":"VLOOKUP(Y558,[1]SRA!$S$4:$Z$368,8,0)","v":3},"","",0]
["27doDD",{"$f":"VLOOKUP($AA561,DATA!$B$3:$E$6,2,0)","v":"06:30:00"},{"$f":"VLOOKUP($AA561,DATA!$B$3:$E$6,3,0)","v":"14:30:00"},{"$f":"VLOOKUP($AA561,DATA!$B$3:$E$6,4,0)","v":3.125E-2},0.30208333333333331,0.30208333333333331,{"$f":"DATA!$C$9","v":0.89},{"$f":"DATA!$C$10","v":64},1,407.8125,407.8125,0,"","",0,"","",0,"","","","",null,{"$f":"X562","v":27},"2018-07-05",{"$f":"TEXT(Y561,\"ddd\")","v":"do"},"DD",{"$f":"IFERROR(HLOOKUP(Y561,[1]DATA!$A$1:$NB$5,3,0),\"\")","v":"D2"},null,null,null,null,{"$f":"VLOOKUP(Y561,[1]SRA!$S$4:$Z$368,6,0)","v":22},"","",0]
["27doMD",{"$f":"VLOOKUP($AA562,DATA!$B$3:$E$6,2,0)","v":"14:30:00"},{"$f":"VLOOKUP($AA562,DATA!$B$3:$E$6,3,0)","v":"22:30:00"},{"$f":"VLOOKUP($AA562,DATA!$B$3:$E$6,4,0)","v":3.125E-2},0.30208333333333337,0.30208333333333337,{"$f":"DATA!$C$9","v":0.89},{"$f":"DATA!$C$10","v":64},1,407.81250000000006,407.81250000000006,0,"","",0,"","",0,"","","","",null,{"$f":"WEEKNUM($Y552)","v":27},null,{"$f":"TEXT(Y561,\"ddd\")","v":"do"},"MD",{"$f":"IFERROR(HLOOKUP(Y561,[1]DATA!$A$1:$NB$5,4,0),\"\")","v":"D1"},null,null,null,null,{"$f":"VLOOKUP(Y561,[1]SRA!$S$4:$Z$368,7,0)","v":11},"","",0]
["27doND",{"$f":"VLOOKUP($AA563,DATA!$B$3:$E$6,2,0)","v":"22:30:00"},{"$f":"VLOOKUP($AA563,DATA!$B$3:$E$6,3,0)","v":"06:30:00"},{"$f":"VLOOKUP($AA563,DATA!$B$3:$E$6,4,0)","v":3.125E-2},0.30208333333333326,0.30208333333333326,{"$f":"DATA!$C$9","v":0.89},{"$f":"DATA!$C$10","v":64},1,407.81249999999989,407.81249999999989,0,"","",0,"","",0,"","","","",null,{"$f":"X562","v":27},null,{"$f":"TEXT(Y561,\"ddd\")","v":"do"},"ND",{"$f":"IFERROR(HLOOKUP(Y561,[1]DATA!$A$1:$NB$5,5,0),\"\")","v":"D3"},null,null,null,null,{"$f":"VLOOKUP(Y561,[1]SRA!$S$4:$Z$368,8,0)","v":3},"","",0]
["27vrDD",{"$f":"VLOOKUP($AA564,DATA!$B$3:$E$6,2,0)","v":"06:30:00"},{"$f":"VLOOKUP($AA564,DATA!$B$3:$E$6,3,0)","v":"14:30:00"},{"$f":"VLOOKUP($AA564,DATA!$B$3:$E$6,4,0)","v":3.125E-2},0.30208333333333331,0.30208333333333331,{"$f":"DATA!$C$9","v":0.89},{"$f":"DATA!$C$10","v":64},1,407.8125,407.8125,0,"","",0,"","",0,"","","","",null,{"$f":"X562","v":27},{"$f":"Y561+1","v":"2018-07-06"},{"$f":"TEXT(Y564,\"ddd\")","v":"vr"},"DD",{"$f":"IFERROR(HLOOKUP(Y564,[1]DATA!$A$1:$NB$5,3,0),\"\")","v":"D2"},null,null,null,null,{"$f":"VLOOKUP(Y564,[1]SRA!$S$4:$Z$368,6,0)","v":10},"","",0]
["27vrMD",{"$f":"VLOOKUP($AA565,DATA!$B$3:$E$6,2,0)","v":"14:30:00"},{"$f":"VLOOKUP($AA565,DATA!$B$3:$E$6,3,0)","v":"22:30:00"},{"$f":"VLOOKUP($AA565,DATA!$B$3:$E$6,4,0)","v":3.125E-2},0.30208333333333337,0.30208333333333337,{"$f":"DATA!$C$9","v":0.89},{"$f":"DATA!$C$10","v":64},1,407.81250000000006,407.81250000000006,0,"","",0,"","",0,"","","","",null,{"$f":"X562","v":27},null,{"$f":"TEXT(Y564,\"ddd\")","v":"vr"},"MD",{"$f":"IFERROR(HLOOKUP(Y564,[1]DATA!$A$1:$NB$5,4,0),\"\")","v":"D1"},null,null,null,null,{"$f":"VLOOKUP(Y564,[1]SRA!$S$4:$Z$368,7,0)","v":7},"","",0]
["27vrND",{"$f":"VLOOKUP($AA566,DATA!$B$3:$E$6,2,0)","v":"22:30:00"},{"$f":"VLOOKUP($AA566,DATA!$B$3:$E$6,3,0)","v":"06:30:00"},{"$f":"VLOOKUP($AA566,DATA!$B$3:$E$6,4,0)","v":3.125E-2},0.30208333333333326,0.30208333333333326,{"$f":"DATA!$C$9","v":0.89},{"$f":"DATA!$C$10","v":64},1,407.81249999999989,407.81249999999989,0,"","",0,"","",0,"","","","",null,{"$f":"X562","v":27},null,{"$f":"TEXT(Y564,\"ddd\")","v":"vr"},"ND",{"$f":"IFERROR(HLOOKUP(Y564,[1]DATA!$A$1:$NB$5,5,0),\"\")","v":"D3"},null,null,null,null,{"$f":"VLOOKUP(Y564,[1]SRA!$S$4:$Z$368,8,0)","v":0},"","",""]
["27zaDD",{"$f":"VLOOKUP($AA567,DATA!$B$3:$E$6,2,0)","v":"06:30:00"},{"$f":"VLOOKUP($AA567,DATA!$B$3:$E$6,3,0)","v":"14:30:00"},{"$f":"VLOOKUP($AA567,DATA!$B$3:$E$6,4,0)","v":3.125E-2},0.30208333333333331,0.30208333333333331,{"$f":"DATA!$C$9","v":0.89},{"$f":"DATA!$C$10","v":64},1,407.8125,407.8125,0,"","",0,"","",0,"","","","",null,{"$f":"X562","v":27},"2018-07-07",{"$f":"TEXT(Y567,\"ddd\")","v":"za"},"DD",{"$f":"IFERROR(HLOOKUP(Y567,[1]DATA!$A$1:$NB$5,3,0),\"\")","v":"D2"},null,null,null,null,{"$f":"VLOOKUP(Y567,[1]SRA!$S$4:$Z$368,6,0)","v":0},"","",""]
["27zaMD",{"$f":"VLOOKUP($AA568,DATA!$B$3:$E$6,2,0)","v":"14:30:00"},{"$f":"VLOOKUP($AA568,DATA!$B$3:$E$6,3,0)","v":"22:30:00"},{"$f":"VLOOKUP($AA568,DATA!$B$3:$E$6,4,0)","v":3.125E-2},0.30208333333333337,0.30208333333333337,{"$f":"DATA!$C$9","v":0.89},{"$f":"DATA!$C$10","v":64},1,407.81250000000006,407.81250000000006,0,"","",0,"","",0,"","","","",null,{"$f":"X562","v":27},null,{"$f":"TEXT(Y567,\"ddd\")","v":"za"},"MD",{"$f":"IFERROR(HLOOKUP(Y567,[1]DATA!$A$1:$NB$5,4,0),\"\")","v":"-"},null,null,null,null,{"$f":"VLOOKUP(Y567,[1]SRA!$S$4:$Z$368,7,0)","v":0},"","",""]
["27zaND",{"$f":"VLOOKUP($AA569,DATA!$B$3:$E$6,2,0)","v":"22:30:00"},{"$f":"VLOOKUP($AA569,DATA!$B$3:$E$6,3,0)","v":"06:30:00"},{"$f":"VLOOKUP($AA569,DATA!$B$3:$E$6,4,0)","v":3.125E-2},0.30208333333333326,0.30208333333333326,{"$f":"DATA!$C$9","v":0.89},{"$f":"DATA!$C$10","v":64},1,407.81249999999989,407.81249999999989,0,"","",0,"","",0,"","","","",null,{"$f":"X562","v":27},null,{"$f":"TEXT(Y567,\"ddd\")","v":"za"},"ND",{"$f":"IFERROR(HLOOKUP(Y567,[1]DATA!$A$1:$NB$5,5,0),\"\")","v":"-"},null,null,null,null,{"$f":"VLOOKUP(Y567,[1]SRA!$S$4:$Z$368,8,0)","v":0},"","",""]
["27zoDD",{"$f":"VLOOKUP($AA570,DATA!$B$3:$E$6,2,0)","v":"06:30:00"},{"$f":"VLOOKUP($AA570,DATA!$B$3:$E$6,3,0)","v":"14:30:00"},{"$f":"VLOOKUP($AA570,DATA!$B$3:$E$6,4,0)","v":3.125E-2},0.30208333333333331,0.30208333333333331,{"$f":"DATA!$C$9","v":0.89},{"$f":"DATA!$C$10","v":64},1,407.8125,407.8125,0,"","",0,"","",0,"","","","",null,{"$f":"X562","v":27},"2018-07-08",{"$f":"TEXT(Y570,\"ddd\")","v":"zo"},"DD",{"$f":"IFERROR(HLOOKUP(Y570,[1]DATA!$A$1:$NB$5,3,0),\"\")","v":"-"},null,null,null,null,{"$f":"VLOOKUP(Y570,[1]SRA!$S$4:$Z$368,6,0)","v":0},"","",""]
["27zoMD",{"$f":"VLOOKUP($AA571,DATA!$B$3:$E$6,2,0)","v":"14:30:00"},{"$f":"VLOOKUP($AA571,DATA!$B$3:$E$6,3,0)","v":"22:30:00"},{"$f":"VLOOKUP($AA571,DATA!$B$3:$E$6,4,0)","v":3.125E-2},0.30208333333333337,0.30208333333333337,{"$f":"DATA!$C$9","v":0.89},{"$f":"DATA!$C$10","v":64},1,407.81250000000006,407.81250000000006,0,"","",0,"","",0,"","","","",null,{"$f":"X562","v":27},null,{"$f":"TEXT(Y570,\"ddd\")","v":"zo"},"MD",{"$f":"IFERROR(HLOOKUP(Y570,[1]DATA!$A$1:$NB$5,4,0),\"\")","v":"-"},null,null,null,null,{"$f":"VLOOKUP(Y570,[1]SRA!$S$4:$Z$368,7,0)","v":0},"","",""]
["27zoZND",{"$f":"VLOOKUP($AA572,DATA!$B$3:$E$6,2,0)","v":"00:00:00"},{"$f":"VLOOKUP($AA572,DATA!$B$3:$E$6,3,0)","v":"00:00:00"},{"$f":"VLOOKUP($AA572,DATA!$B$3:$E$6,4,0)","v":0},0,0,{"$f":"DATA!$C$9","v":0.89},{"$f":"DATA!$C$10","v":64},1,0,0,0,"","",0,"","",0,"","","","",null,{"$f":"X562","v":27},null,{"$f":"TEXT(Y570,\"ddd\")","v":"zo"},"ZND",{"$f":"IFERROR(HLOOKUP(Y570,[1]DATA!$A$1:$NB$5,5,0),\"\")","v":"-"},null,null,null,null,{"$f":"VLOOKUP(Y570,[1]SRA!$S$4:$Z$368,8,0)","v":0},"","",""]
["28maDD",{"$f":"VLOOKUP($AA573,DATA!$B$3:$E$6,2,0)","v":"06:30:00"},{"$f":"VLOOKUP($AA573,DATA!$B$3:$E$6,3,0)","v":"14:30:00"},{"$f":"VLOOKUP($AA573,DATA!$B$3:$E$6,4,0)","v":3.125E-2},0.30208333333333331,0.30208333333333331,{"$f":"DATA!$C$9","v":0.89},{"$f":"DATA!$C$10","v":64},1,407.8125,407.8125,0,"","",{"$f":"TIME(INT($AD573/60),INT(MOD($AD573,60)/1),0)","v":0},"","",0,"","","","",null,{"$f":"X583","v":28},"2018-07-09",{"$f":"TEXT(Y573,\"ddd\")","v":"ma"},"DD",{"$f":"IFERROR(HLOOKUP(Y573,[1]DATA!$A$1:$NB$5,3,0),\"\")","v":"D1"},null,null,null,null,{"$f":"VLOOKUP(Y573,[1]SRA!$S$4:$AA$368,6,0)","v":4},"","",0,{"$f":"IF(SUMIF(S573:S593,\">0\",K573:K593)=0,\"\",SUMIF(S573:S593,\">0\",K573:K593))","v":""},{"$f":"IF(SUM(S573:S593)=0,\"\",SUM(S573:S593))","v":""},{"$f":"IFERROR(AL573/AK573,\"-\")","v":"-"},{"$f":"IF(SUM(M573:M593)=0,\"0\",SUM(M573:M593))","v":"0"},{"$f":"IFERROR(AN573/AK573,\"-\")","v":"-"},{"$f":"IF(SUM(P573:P593)=0,0,SUM(P573:P593))","v":0},{"$f":"IFERROR(AP573/AK573,\"-\")","v":"-"},0,{"$f":"IFERROR(SUMIF($AB573:$AB593,AS$5,$AJ573:$AJ593)/COUNTIFS($AB573:$AB593,AS$5,$AJ573:$AJ593,\">0\"),\"\")","v":""},"","",{"$f":"IFERROR((AK573-AL573-AN573-AP573),\"-\")","v":"-"},{"$f":"IFERROR((1-AM573-AO573-AQ573), \"-\")","v":"-"},{"$f":"IFERROR((AV573*$AE$2)/60,\"-\")","v":"-"},{"$f":"IFERROR(SUM(AG573:AG593),\"\")","v":143}]
["28maMD",{"$f":"VLOOKUP($AA574,DATA!$B$3:$E$6,2,0)","v":"14:30:00"},{"$f":"VLOOKUP($AA574,DATA!$B$3:$E$6,3,0)","v":"22:30:00"},{"$f":"VLOOKUP($AA574,DATA!$B$3:$E$6,4,0)","v":3.125E-2},0.30208333333333337,0.30208333333333337,{"$f":"DATA!$C$9","v":0.89},{"$f":"DATA!$C$10","v":64},1,407.81250000000006,407.81250000000006,0,"","",{"$f":"TIME(INT(AD574/60),INT(MOD(AD574,60)/1),0)","v":0},"","",0,"","","","",null,{"$f":"X583","v":28},null,{"$f":"TEXT(Y573,\"ddd\")","v":"ma"},"MD",{"$f":"IFERROR(HLOOKUP(Y573,[1]DATA!$A$1:$NB$5,4,0),\"\")","v":"D3"},null,null,null,null,{"$f":"VLOOKUP(Y573,[1]SRA!$S$4:$Z$368,7,0)","v":4},"","",0]
["28maND",{"$f":"VLOOKUP($AA575,DATA!$B$3:$E$6,2,0)","v":"22:30:00"},{"$f":"VLOOKUP($AA575,DATA!$B$3:$E$6,3,0)","v":"06:30:00"},{"$f":"VLOOKUP($AA575,DATA!$B$3:$E$6,4,0)","v":3.125E-2},0.30208333333333326,0.30208333333333326,{"$f":"DATA!$C$9","v":0.89},{"$f":"DATA!$C$10","v":64},1,407.81249999999989,407.81249999999989,0,"","",0,"","",0,"","","","",null,{"$f":"X583","v":28},null,{"$f":"TEXT(Y573,\"ddd\")","v":"ma"},"ND",{"$f":"IFERROR(HLOOKUP(Y573,[1]DATA!$A$1:$NB$5,5,0),\"\")","v":"D2"},null,null,null,null,{"$f":"VLOOKUP(Y573,[1]SRA!$S$4:$Z$368,8,0)","v":34},"","",0]
["28diDD",{"$f":"VLOOKUP($AA576,DATA!$B$3:$E$6,2,0)","v":"06:30:00"},{"$f":"VLOOKUP($AA576,DATA!$B$3:$E$6,3,0)","v":"14:30:00"},{"$f":"VLOOKUP($AA576,DATA!$B$3:$E$6,4,0)","v":3.125E-2},0.30208333333333331,0.30208333333333331,{"$f":"DATA!$C$9","v":0.89},{"$f":"DATA!$C$10","v":64},1,407.8125,407.8125,0,"","",0,"","",0,"","","","",null,{"$f":"X583","v":28},"2018-07-10",{"$f":"TEXT(Y576,\"ddd\")","v":"di"},"DD",{"$f":"IFERROR(HLOOKUP(Y576,[1]DATA!$A$1:$NB$5,3,0),\"\")","v":"D1"},null,null,null,null,{"$f":"VLOOKUP(Y576,[1]SRA!$S$4:$Z$368,6,0)","v":25},"","",0]
["28diMD",{"$f":"VLOOKUP($AA577,DATA!$B$3:$E$6,2,0)","v":"14:30:00"},{"$f":"VLOOKUP($AA577,DATA!$B$3:$E$6,3,0)","v":"22:30:00"},{"$f":"VLOOKUP($AA577,DATA!$B$3:$E$6,4,0)","v":3.125E-2},0.30208333333333337,0.30208333333333337,{"$f":"DATA!$C$9","v":0.89},{"$f":"DATA!$C$10","v":64},1,407.81250000000006,407.81250000000006,0,"","",0,"","",0,"","","","",null,{"$f":"X583","v":28},null,{"$f":"TEXT(Y576,\"ddd\")","v":"di"},"MD",{"$f":"IFERROR(HLOOKUP(Y576,[1]DATA!$A$1:$NB$5,4,0),\"\")","v":"D3"},null,null,null,null,{"$f":"VLOOKUP(Y576,[1]SRA!$S$4:$Z$368,7,0)","v":13},"","",0]
["28diND",{"$f":"VLOOKUP($AA578,DATA!$B$3:$E$6,2,0)","v":"22:30:00"},{"$f":"VLOOKUP($AA578,DATA!$B$3:$E$6,3,0)","v":"06:30:00"},{"$f":"VLOOKUP($AA578,DATA!$B$3:$E$6,4,0)","v":3.125E-2},0.30208333333333326,0.30208333333333326,{"$f":"DATA!$C$9","v":0.89},{"$f":"DATA!$C$10","v":64},1,407.81249999999989,407.81249999999989,0,"","",0,"","",0,"","","","",null,{"$f":"X583","v":28},null,{"$f":"TEXT(Y576,\"ddd\")","v":"di"},"ND",{"$f":"IFERROR(HLOOKUP(Y576,[1]DATA!$A$1:$NB$5,5,0),\"\")","v":"D2"},null,null,null,null,{"$f":"VLOOKUP(Y576,[1]SRA!$S$4:$Z$368,8,0)","v":3},"","",0]
["28woDD",{"$f":"VLOOKUP($AA579,DATA!$B$3:$E$6,2,0)","v":"06:30:00"},{"$f":"VLOOKUP($AA579,DATA!$B$3:$E$6,3,0)","v":"14:30:00"},{"$f":"VLOOKUP($AA579,DATA!$B$3:$E$6,4,0)","v":3.125E-2},0.30208333333333331,0.30208333333333331,{"$f":"DATA!$C$9","v":0.89},{"$f":"DATA!$C$10","v":64},1,407.8125,407.8125,0,"","",0,"","",0,"","","","",null,{"$f":"X583","v":28},"2018-07-11",{"$f":"TEXT(Y579,\"ddd\")","v":"wo"},"DD",{"$f":"IFERROR(HLOOKUP(Y579,[1]DATA!$A$1:$NB$5,3,0),\"\")","v":"D1"},null,null,null,null,{"$f":"VLOOKUP(Y579,[1]SRA!$S$4:$Z$368,6,0)","v":10},"","",0]
["28woMD",{"$f":"VLOOKUP($AA580,DATA!$B$3:$E$6,2,0)","v":"14:30:00"},{"$f":"VLOOKUP($AA580,DATA!$B$3:$E$6,3,0)","v":"22:30:00"},{"$f":"VLOOKUP($AA580,DATA!$B$3:$E$6,4,0)","v":3.125E-2},0.30208333333333337,0.30208333333333337,{"$f":"DATA!$C$9","v":0.89},{"$f":"DATA!$C$10","v":64},1,407.81250000000006,407.81250000000006,0,"","",0,"","",0,"","","","",null,{"$f":"X583","v":28},null,{"$f":"TEXT(Y579,\"ddd\")","v":"wo"},"MD",{"$f":"IFERROR(HLOOKUP(Y579,[1]DATA!$A$1:$NB$5,4,0),\"\")","v":"D3"},null,null,null,null,{"$f":"VLOOKUP(Y579,[1]SRA!$S$4:$Z$368,7,0)","v":8},"","",0]
["28woND",{"$f":"VLOOKUP($AA581,DATA!$B$3:$E$6,2,0)","v":"22:30:00"},{"$f":"VLOOKUP($AA581,DATA!$B$3:$E$6,3,0)","v":"06:30:00"},{"$f":"VLOOKUP($AA581,DATA!$B$3:$E$6,4,0)","v":3.125E-2},0.30208333333333326,0.30208333333333326,{"$f":"DATA!$C$9","v":0.89},{"$f":"DATA!$C$10","v":64},1,407.81249999999989,407.81249999999989,0,"","",0,"","",0,"","","","",null,{"$f":"X583","v":28},null,{"$f":"TEXT(Y579,\"ddd\")","v":"wo"},"ND",{"$f":"IFERROR(HLOOKUP(Y579,[1]DATA!$A$1:$NB$5,5,0),\"\")","v":"D2"},null,null,null,null,{"$f":"VLOOKUP(Y579,[1]SRA!$S$4:$Z$368,8,0)","v":15},"","",0]
["28doDD",{"$f":"VLOOKUP($AA582,DATA!$B$3:$E$6,2,0)","v":"06:30:00"},{"$f":"VLOOKUP($AA582,DATA!$B$3:$E$6,3,0)","v":"14:30:00"},{"$f":"VLOOKUP($AA582,DATA!$B$3:$E$6,4,0)","v":3.125E-2},0.30208333333333331,0.30208333333333331,{"$f":"DATA!$C$9","v":0.89},{"$f":"DATA!$C$10","v":64},1,407.8125,407.8125,0,"","",0,"","",0,"","","","",null,{"$f":"X583","v":28},"2018-07-12",{"$f":"TEXT(Y582,\"ddd\")","v":"do"},"DD",{"$f":"IFERROR(HLOOKUP(Y582,[1]DATA!$A$1:$NB$5,3,0),\"\")","v":"D1"},null,null,null,null,{"$f":"VLOOKUP(Y582,[1]SRA!$S$4:$Z$368,6,0)","v":14},{"$f":"IFERROR(S582-J582,\"\")","v":""},{"$f":"IFERROR(IF(S582/(E582*86400/H582)<=0,\"\",S582/(E582*86400/H582)),\"\")","v":""},0]
["28doMD",{"$f":"VLOOKUP($AA583,DATA!$B$3:$E$6,2,0)","v":"14:30:00"},{"$f":"VLOOKUP($AA583,DATA!$B$3:$E$6,3,0)","v":"22:30:00"},{"$f":"VLOOKUP($AA583,DATA!$B$3:$E$6,4,0)","v":3.125E-2},0.30208333333333337,0.30208333333333337,{"$f":"DATA!$C$9","v":0.89},{"$f":"DATA!$C$10","v":64},1,407.81250000000006,407.81250000000006,{"$f":"TIME(INT($AC583/60),INT(MOD($AC583,60)/1),0)","v":0},{"$f":"IF($L583*86400/$H583=0,\"\",$L583*86400/$H583)","v":""},{"$f":"IFERROR($M583/$K583,\"\")","v":""},0,"",{"$f":"IFERROR($P583/$K583,\"\")","v":""},0,"",{"$f":"IF(IF($AB583=\"D1\",$S583,\"\")=0,\"\",IF($AB583=\"D1\",$S583,\"\"))","v":""},{"$f":"IF(IF($AB583=\"D2\",$S583,\"\")=0,\"\",IF($AB583=\"D2\",$S583,\"\"))","v":""},{"$f":"IF(IF($AB583=\"D3\",$S583,\"\")=0,\"\",IF($AB583=\"D3\",$S583,\"\"))","v":""},null,{"$f":"WEEKNUM($Y573)","v":28},null,{"$f":"TEXT(Y582,\"ddd\")","v":"do"},"MD",{"$f":"IFERROR(HLOOKUP(Y582,[1]DATA!$A$1:$NB$5,4,0),\"\")","v":"D3"},null,null,null,null,{"$f":"VLOOKUP(Y582,[1]SRA!$S$4:$Z$368,7,0)","v":8},"","",0]
["28doND",{"$f":"VLOOKUP($AA584,DATA!$B$3:$E$6,2,0)","v":"22:30:00"},{"$f":"VLOOKUP($AA584,DATA!$B$3:$E$6,3,0)","v":"06:30:00"},{"$f":"VLOOKUP($AA584,DATA!$B$3:$E$6,4,0)","v":3.125E-2},0.30208333333333326,0.30208333333333326,{"$f":"DATA!$C$9","v":0.89},{"$f":"DATA!$C$10","v":64},1,407.81249999999989,407.81249999999989,0,"","",0,"","",0,"","","","",null,{"$f":"X583","v":28},null,{"$f":"TEXT(Y582,\"ddd\")","v":"do"},"ND",{"$f":"IFERROR(HLOOKUP(Y582,[1]DATA!$A$1:$NB$5,5,0),\"\")","v":"D2"},null,null,null,null,{"$f":"VLOOKUP(Y582,[1]SRA!$S$4:$Z$368,8,0)","v":5},"","",0]
["28vrDD",{"$f":"VLOOKUP($AA585,DATA!$B$3:$E$6,2,0)","v":"06:30:00"},{"$f":"VLOOKUP($AA585,DATA!$B$3:$E$6,3,0)","v":"14:30:00"},{"$f":"VLOOKUP($AA585,DATA!$B$3:$E$6,4,0)","v":3.125E-2},0.30208333333333331,0.30208333333333331,{"$f":"DATA!$C$9","v":0.89},{"$f":"DATA!$C$10","v":64},1,407.8125,407.8125,0,"","",0,"","",0,"","","","",null,{"$f":"X583","v":28},"2018-07-13",{"$f":"TEXT(Y585,\"ddd\")","v":"vr"},"DD",{"$f":"IFERROR(HLOOKUP(Y585,[1]DATA!$A$1:$NB$5,3,0),\"\")","v":"D1"},null,null,null,null,{"$f":"VLOOKUP(Y585,[1]SRA!$S$4:$Z$368,6,0)","v":0},"","",""]
["28vrMD",{"$f":"VLOOKUP($AA586,DATA!$B$3:$E$6,2,0)","v":"14:30:00"},{"$f":"VLOOKUP($AA586,DATA!$B$3:$E$6,3,0)","v":"22:30:00"},{"$f":"VLOOKUP($AA586,DATA!$B$3:$E$6,4,0)","v":3.125E-2},0.30208333333333337,0.30208333333333337,{"$f":"DATA!$C$9","v":0.89},{"$f":"DATA!$C$10","v":64},1,407.81250000000006,407.81250000000006,0,"","",0,"","",0,"","","","",null,{"$f":"X583","v":28},null,{"$f":"TEXT(Y585,\"ddd\")","v":"vr"},"MD",{"$f":"IFERROR(HLOOKUP(Y585,[1]DATA!$A$1:$NB$5,4,0),\"\")","v":"D3"},null,null,null,null,{"$f":"VLOOKUP(Y585,[1]SRA!$S$4:$Z$368,7,0)","v":0},"","",""]
["28vrND",{"$f":"VLOOKUP($AA587,DATA!$B$3:$E$6,2,0)","v":"22:30:00"},{"$f":"VLOOKUP($AA587,DATA!$B$3:$E$6,3,0)","v":"06:30:00"},{"$f":"VLOOKUP($AA587,DATA!$B$3:$E$6,4,0)","v":3.125E-2},0.30208333333333326,0.30208333333333326,{"$f":"DATA!$C$9","v":0.89},{"$f":"DATA!$C$10","v":64},1,407.81249999999989,407.81249999999989,0,"","",0,"","",0,"","","","",null,{"$f":"X583","v":28},null,{"$f":"TEXT(Y585,\"ddd\")","v":"vr"},"ND",{"$f":"IFERROR(HLOOKUP(Y585,[1]DATA!$A$1:$NB$5,5,0),\"\")","v":"D2"},null,null,null,null,{"$f":"VLOOKUP(Y585,[1]SRA!$S$4:$Z$368,8,0)","v":0},"","",""]
["28zaDD",{"$f":"VLOOKUP($AA588,DATA!$B$3:$E$6,2,0)","v":"06:30:00"},{"$f":"VLOOKUP($AA588,DATA!$B$3:$E$6,3,0)","v":"14:30:00"},{"$f":"VLOOKUP($AA588,DATA!$B$3:$E$6,4,0)","v":3.125E-2},0.30208333333333331,0.30208333333333331,{"$f":"DATA!$C$9","v":0.89},{"$f":"DATA!$C$10","v":64},1,407.8125,407.8125,0,"","",0,"","",0,"","","","",null,{"$f":"X583","v":28},"2018-07-14",{"$f":"TEXT(Y588,\"ddd\")","v":"za"},"DD",{"$f":"IFERROR(HLOOKUP(Y588,[1]DATA!$A$1:$NB$5,3,0),\"\")","v":"D1"},null,null,null,null,{"$f":"VLOOKUP(Y588,[1]SRA!$S$4:$Z$368,6,0)","v":0},"","",""]
["28zaMD",{"$f":"VLOOKUP($AA589,DATA!$B$3:$E$6,2,0)","v":"14:30:00"},{"$f":"VLOOKUP($AA589,DATA!$B$3:$E$6,3,0)","v":"22:30:00"},{"$f":"VLOOKUP($AA589,DATA!$B$3:$E$6,4,0)","v":3.125E-2},0.30208333333333337,0.30208333333333337,{"$f":"DATA!$C$9","v":0.89},{"$f":"DATA!$C$10","v":64},1,407.81250000000006,407.81250000000006,0,"","",0,"","",0,"","","","",null,{"$f":"X583","v":28},null,{"$f":"TEXT(Y588,\"ddd\")","v":"za"},"MD",{"$f":"IFERROR(HLOOKUP(Y588,[1]DATA!$A$1:$NB$5,4,0),\"\")","v":"-"},null,null,null,null,{"$f":"VLOOKUP(Y588,[1]SRA!$S$4:$Z$368,7,0)","v":0},"","",""]
["28zaND",{"$f":"VLOOKUP($AA590,DATA!$B$3:$E$6,2,0)","v":"22:30:00"},{"$f":"VLOOKUP($AA590,DATA!$B$3:$E$6,3,0)","v":"06:30:00"},{"$f":"VLOOKUP($AA590,DATA!$B$3:$E$6,4,0)","v":3.125E-2},0.30208333333333326,0.30208333333333326,{"$f":"DATA!$C$9","v":0.89},{"$f":"DATA!$C$10","v":64},1,407.81249999999989,407.81249999999989,0,"","",0,"","",0,"","","","",null,{"$f":"X583","v":28},null,{"$f":"TEXT(Y588,\"ddd\")","v":"za"},"ND",{"$f":"IFERROR(HLOOKUP(Y588,[1]DATA!$A$1:$NB$5,5,0),\"\")","v":"-"},null,null,null,null,{"$f":"VLOOKUP(Y588,[1]SRA!$S$4:$Z$368,8,0)","v":0},"","",""]
["28zoDD",{"$f":"VLOOKUP($AA591,DATA!$B$3:$E$6,2,0)","v":"06:30:00"},{"$f":"VLOOKUP($AA591,DATA!$B$3:$E$6,3,0)","v":"14:30:00"},{"$f":"VLOOKUP($AA591,DATA!$B$3:$E$6,4,0)","v":3.125E-2},0.30208333333333331,0.30208333333333331,{"$f":"DATA!$C$9","v":0.89},{"$f":"DATA!$C$10","v":64},1,407.8125,407.8125,0,"","",0,"","",0,"","","","",null,{"$f":"X583","v":28},"2018-07-15",{"$f":"TEXT(Y591,\"ddd\")","v":"zo"},"DD",{"$f":"IFERROR(HLOOKUP(Y591,[1]DATA!$A$1:$NB$5,3,0),\"\")","v":"-"},null,null,null,null,{"$f":"VLOOKUP(Y591,[1]SRA!$S$4:$Z$368,6,0)","v":0},"","",""]
["28zoMD",{"$f":"VLOOKUP($AA592,DATA!$B$3:$E$6,2,0)","v":"14:30:00"},{"$f":"VLOOKUP($AA592,DATA!$B$3:$E$6,3,0)","v":"22:30:00"},{"$f":"VLOOKUP($AA592,DATA!$B$3:$E$6,4,0)","v":3.125E-2},0.30208333333333337,0.30208333333333337,{"$f":"DATA!$C$9","v":0.89},{"$f":"DATA!$C$10","v":64},1,407.81250000000006,407.81250000000006,0,"","",0,"","",0,"","","","",null,{"$f":"X583","v":28},null,{"$f":"TEXT(Y591,\"ddd\")","v":"zo"},"MD",{"$f":"IFERROR(HLOOKUP(Y591,[1]DATA!$A$1:$NB$5,4,0),\"\")","v":"-"},null,null,null,null,{"$f":"VLOOKUP(Y591,[1]SRA!$S$4:$Z$368,7,0)","v":0},"","",""]
["28zoZND",{"$f":"VLOOKUP($AA593,DATA!$B$3:$E$6,2,0)","v":"00:00:00"},{"$f":"VLOOKUP($AA593,DATA!$B$3:$E$6,3,0)","v":"00:00:00"},{"$f":"VLOOKUP($AA593,DATA!$B$3:$E$6,4,0)","v":0},0,0,{"$f":"DATA!$C$9","v":0.89},{"$f":"DATA!$C$10","v":64},1,0,0,0,"","",0,"","",0,"","","","",null,{"$f":"X583","v":28},null,{"$f":"TEXT(Y591,\"ddd\")","v":"zo"},"ZND",{"$f":"IFERROR(HLOOKUP(Y591,[1]DATA!$A$1:$NB$5,5,0),\"\")","v":"-"},null,null,null,null,{"$f":"VLOOKUP(Y591,[1]SRA!$S$4:$Z$368,8,0)","v":0},"","",""]
["29maDD",{"$f":"VLOOKUP($AA594,DATA!$B$3:$E$6,2,0)","v":"06:30:00"},{"$f":"VLOOKUP($AA594,DATA!$B$3:$E$6,3,0)","v":"14:30:00"},{"$f":"VLOOKUP($AA594,DATA!$B$3:$E$6,4,0)","v":3.125E-2},0.30208333333333331,0.30208333333333331,{"$f":"DATA!$C$9","v":0.89},{"$f":"DATA!$C$10","v":64},1,407.8125,407.8125,0,"","",{"$f":"TIME(INT($AD594/60),INT(MOD($AD594,60)/1),0)","v":0},"","",0,"","","","",null,{"$f":"X604","v":29},"2018-07-16",{"$f":"TEXT(Y594,\"ddd\")","v":"ma"},"DD",{"$f":"IFERROR(HLOOKUP(Y594,[1]DATA!$A$1:$NB$5,3,0),\"\")","v":"D3"},null,null,null,null,{"$f":"VLOOKUP(Y594,[1]SRA!$S$4:$AA$368,6,0)","v":10},"","",0,{"$f":"IF(SUMIF(S594:S614,\">0\",K594:K614)=0,\"\",SUMIF(S594:S614,\">0\",K594:K614))","v":""},{"$f":"IF(SUM(S594:S614)=0,\"\",SUM(S594:S614))","v":""},{"$f":"IFERROR(AL594/AK594,\"-\")","v":"-"},{"$f":"IF(SUM(M594:M614)=0,\"0\",SUM(M594:M614))","v":"0"},{"$f":"IFERROR(AN594/AK594,\"-\")","v":"-"},{"$f":"IF(SUM(P594:P614)=0,0,SUM(P594:P614))","v":0},{"$f":"IFERROR(AP594/AK594,\"-\")","v":"-"},{"$f":"IFERROR(AVERAGE(AJ594:AJ614),\"-\")","v":0},{"$f":"IFERROR(SUMIF($AB594:$AB614,AS$5,$AJ594:$AJ614)/COUNTIFS($AB594:$AB614,AS$5,$AJ594:$AJ614,\">0\"),\"\")","v":""},"","",{"$f":"IFERROR((AK594-AL594-AN594-AP594),\"-\")","v":"-"},{"$f":"IFERROR((1-AM594-AO594-AQ594), \"-\")","v":"-"},{"$f":"IFERROR((AV594*$AE$2)/60,\"-\")","v":"-"},{"$f":"IFERROR(SUM(AG594:AG614),\"\")","v":102}]
["29maMD",{"$f":"VLOOKUP($AA595,DATA!$B$3:$E$6,2,0)","v":"14:30:00"},{"$f":"VLOOKUP($AA595,DATA!$B$3:$E$6,3,0)","v":"22:30:00"},{"$f":"VLOOKUP($AA595,DATA!$B$3:$E$6,4,0)","v":3.125E-2},0.30208333333333337,0.30208333333333337,{"$f":"DATA!$C$9","v":0.89},{"$f":"DATA!$C$10","v":64},1,407.81250000000006,407.81250000000006,0,"","",{"$f":"TIME(INT(AD595/60),INT(MOD(AD595,60)/1),0)","v":0},"","",0,"","","","",null,{"$f":"X604","v":29},null,{"$f":"TEXT(Y594,\"ddd\")","v":"ma"},"MD",{"$f":"IFERROR(HLOOKUP(Y594,[1]DATA!$A$1:$NB$5,4,0),\"\")","v":"D2"},null,null,null,null,{"$f":"VLOOKUP(Y594,[1]SRA!$S$4:$Z$368,7,0)","v":8},"","",0]
["29maND",{"$f":"VLOOKUP($AA596,DATA!$B$3:$E$6,2,0)","v":"22:30:00"},{"$f":"VLOOKUP($AA596,DATA!$B$3:$E$6,3,0)","v":"06:30:00"},{"$f":"VLOOKUP($AA596,DATA!$B$3:$E$6,4,0)","v":3.125E-2},0.30208333333333326,0.30208333333333326,{"$f":"DATA!$C$9","v":0.89},{"$f":"DATA!$C$10","v":64},1,407.81249999999989,407.81249999999989,0,"","",0,"","",0,"","","","",null,{"$f":"X604","v":29},null,{"$f":"TEXT(Y594,\"ddd\")","v":"ma"},"ND",{"$f":"IFERROR(HLOOKUP(Y594,[1]DATA!$A$1:$NB$5,5,0),\"\")","v":"D1"},null,null,null,null,{"$f":"VLOOKUP(Y594,[1]SRA!$S$4:$Z$368,8,0)","v":3},"","",0]
["29diDD",{"$f":"VLOOKUP($AA597,DATA!$B$3:$E$6,2,0)","v":"06:30:00"},{"$f":"VLOOKUP($AA597,DATA!$B$3:$E$6,3,0)","v":"14:30:00"},{"$f":"VLOOKUP($AA597,DATA!$B$3:$E$6,4,0)","v":3.125E-2},0.30208333333333331,0.30208333333333331,{"$f":"DATA!$C$9","v":0.89},{"$f":"DATA!$C$10","v":64},1,407.8125,407.8125,0,"","",0,"","",0,"","","","",null,{"$f":"X604","v":29},"2018-07-17",{"$f":"TEXT(Y597,\"ddd\")","v":"di"},"DD",{"$f":"IFERROR(HLOOKUP(Y597,[1]DATA!$A$1:$NB$5,3,0),\"\")","v":"D3"},null,null,null,null,{"$f":"VLOOKUP(Y597,[1]SRA!$S$4:$Z$368,6,0)","v":0},"","",""]
["29diMD",{"$f":"VLOOKUP($AA598,DATA!$B$3:$E$6,2,0)","v":"14:30:00"},{"$f":"VLOOKUP($AA598,DATA!$B$3:$E$6,3,0)","v":"22:30:00"},{"$f":"VLOOKUP($AA598,DATA!$B$3:$E$6,4,0)","v":3.125E-2},0.30208333333333337,0.30208333333333337,{"$f":"DATA!$C$9","v":0.89},{"$f":"DATA!$C$10","v":64},1,407.81250000000006,407.81250000000006,0,"","",0,"","",0,"","","","",null,{"$f":"X604","v":29},null,{"$f":"TEXT(Y597,\"ddd\")","v":"di"},"MD",{"$f":"IFERROR(HLOOKUP(Y597,[1]DATA!$A$1:$NB$5,4,0),\"\")","v":"D2"},null,null,null,null,{"$f":"VLOOKUP(Y597,[1]SRA!$S$4:$Z$368,7,0)","v":19},"","",0]
["29diND",{"$f":"VLOOKUP($AA599,DATA!$B$3:$E$6,2,0)","v":"22:30:00"},{"$f":"VLOOKUP($AA599,DATA!$B$3:$E$6,3,0)","v":"06:30:00"},{"$f":"VLOOKUP($AA599,DATA!$B$3:$E$6,4,0)","v":3.125E-2},0.30208333333333326,0.30208333333333326,{"$f":"DATA!$C$9","v":0.89},{"$f":"DATA!$C$10","v":64},1,407.81249999999989,407.81249999999989,0,"","",0,"","",0,"","","","",null,{"$f":"X604","v":29},null,{"$f":"TEXT(Y597,\"ddd\")","v":"di"},"ND",{"$f":"IFERROR(HLOOKUP(Y597,[1]DATA!$A$1:$NB$5,5,0),\"\")","v":"D1"},null,null,null,null,{"$f":"VLOOKUP(Y597,[1]SRA!$S$4:$Z$368,8,0)","v":13},"","",0]
["29woDD",{"$f":"VLOOKUP($AA600,DATA!$B$3:$E$6,2,0)","v":"06:30:00"},{"$f":"VLOOKUP($AA600,DATA!$B$3:$E$6,3,0)","v":"14:30:00"},{"$f":"VLOOKUP($AA600,DATA!$B$3:$E$6,4,0)","v":3.125E-2},0.30208333333333331,0.30208333333333331,{"$f":"DATA!$C$9","v":0.89},{"$f":"DATA!$C$10","v":64},1,407.8125,407.8125,0,"","",0,"","",0,"","","","",null,{"$f":"X604","v":29},"2018-07-18",{"$f":"TEXT(Y600,\"ddd\")","v":"wo"},"DD",{"$f":"IFERROR(HLOOKUP(Y600,[1]DATA!$A$1:$NB$5,3,0),\"\")","v":"D3"},null,null,null,null,{"$f":"VLOOKUP(Y600,[1]SRA!$S$4:$Z$368,6,0)","v":3},"","",0]
["29woMD",{"$f":"VLOOKUP($AA601,DATA!$B$3:$E$6,2,0)","v":"14:30:00"},{"$f":"VLOOKUP($AA601,DATA!$B$3:$E$6,3,0)","v":"22:30:00"},{"$f":"VLOOKUP($AA601,DATA!$B$3:$E$6,4,0)","v":3.125E-2},0.30208333333333337,0.30208333333333337,{"$f":"DATA!$C$9","v":0.89},{"$f":"DATA!$C$10","v":64},1,407.81250000000006,407.81250000000006,0,"","",0,"","",0,"","","","",null,{"$f":"X604","v":29},null,{"$f":"TEXT(Y600,\"ddd\")","v":"wo"},"MD",{"$f":"IFERROR(HLOOKUP(Y600,[1]DATA!$A$1:$NB$5,4,0),\"\")","v":"D2"},null,null,null,null,{"$f":"VLOOKUP(Y600,[1]SRA!$S$4:$Z$368,7,0)","v":33},"","",0]
["29woND",{"$f":"VLOOKUP($AA602,DATA!$B$3:$E$6,2,0)","v":"22:30:00"},{"$f":"VLOOKUP($AA602,DATA!$B$3:$E$6,3,0)","v":"06:30:00"},{"$f":"VLOOKUP($AA602,DATA!$B$3:$E$6,4,0)","v":3.125E-2},0.30208333333333326,0.30208333333333326,{"$f":"DATA!$C$9","v":0.89},{"$f":"DATA!$C$10","v":64},1,407.81249999999989,407.81249999999989,0,"","",0,"","",0,"","","","",null,{"$f":"X604","v":29},null,{"$f":"TEXT(Y600,\"ddd\")","v":"wo"},"ND",{"$f":"IFERROR(HLOOKUP(Y600,[1]DATA!$A$1:$NB$5,5,0),\"\")","v":"D1"},null,null,null,null,{"$f":"VLOOKUP(Y600,[1]SRA!$S$4:$Z$368,8,0)","v":13},"","",0]
["29doDD",{"$f":"VLOOKUP($AA603,DATA!$B$3:$E$6,2,0)","v":"06:30:00"},{"$f":"VLOOKUP($AA603,DATA!$B$3:$E$6,3,0)","v":"14:30:00"},{"$f":"VLOOKUP($AA603,DATA!$B$3:$E$6,4,0)","v":3.125E-2},0.30208333333333331,0.30208333333333331,{"$f":"DATA!$C$9","v":0.89},{"$f":"DATA!$C$10","v":64},1,407.8125,407.8125,0,"","",0,"","",0,"","","","",null,{"$f":"X604","v":29},"2018-07-19",{"$f":"TEXT(Y603,\"ddd\")","v":"do"},"DD",{"$f":"IFERROR(HLOOKUP(Y603,[1]DATA!$A$1:$NB$5,3,0),\"\")","v":"D3"},null,null,null,null,{"$f":"VLOOKUP(Y603,[1]SRA!$S$4:$Z$368,6,0)","v":0},"","",{"$f":"IFERROR(R603/(R603+AG603),\"\")","v":""}]
["29doMD",{"$f":"VLOOKUP($AA604,DATA!$B$3:$E$6,2,0)","v":"14:30:00"},{"$f":"VLOOKUP($AA604,DATA!$B$3:$E$6,3,0)","v":"22:30:00"},{"$f":"VLOOKUP($AA604,DATA!$B$3:$E$6,4,0)","v":3.125E-2},{"$f":"(C604-B604+(B604>C604))-D604","v":0.30208333333333337},{"$f":"E604-O604-L604","v":0.30208333333333337},{"$f":"DATA!$C$9","v":0.89},{"$f":"DATA!$C$10","v":64},1,{"$f":"F604*86400/H604*I604","v":407.81250000000006},{"$f":"E604*86400/H604","v":407.81250000000006},0,"","",0,"","",{"$f":"AF604*AG$2","v":0},{"$f":"IF(AF604-AE604=0,\"\",AF604-AE604)","v":""},"","","",null,{"$f":"WEEKNUM($Y594)","v":29},null,{"$f":"TEXT(Y603,\"ddd\")","v":"do"},"MD",{"$f":"IFERROR(HLOOKUP(Y603,[1]DATA!$A$1:$NB$5,4,0),\"\")","v":"D2"},null,null,null,null,{"$f":"VLOOKUP(Y603,[1]SRA!$S$4:$Z$368,7,0)","v":0},"","",""]
["29doND",{"$f":"VLOOKUP($AA605,DATA!$B$3:$E$6,2,0)","v":"22:30:00"},{"$f":"VLOOKUP($AA605,DATA!$B$3:$E$6,3,0)","v":"06:30:00"},{"$f":"VLOOKUP($AA605,DATA!$B$3:$E$6,4,0)","v":3.125E-2},0.30208333333333326,0.30208333333333326,{"$f":"DATA!$C$9","v":0.89},{"$f":"DATA!$C$10","v":64},1,407.81249999999989,407.81249999999989,0,"","",0,"","",0,"","","","",null,{"$f":"X604","v":29},null,{"$f":"TEXT(Y603,\"ddd\")","v":"do"},"ND",{"$f":"IFERROR(HLOOKUP(Y603,[1]DATA!$A$1:$NB$5,5,0),\"\")","v":"D1"},null,null,null,null,{"$f":"VLOOKUP(Y603,[1]SRA!$S$4:$Z$368,8,0)","v":0},"","",""]
["29vrDD",{"$f":"VLOOKUP($AA606,DATA!$B$3:$E$6,2,0)","v":"06:30:00"},{"$f":"VLOOKUP($AA606,DATA!$B$3:$E$6,3,0)","v":"14:30:00"},{"$f":"VLOOKUP($AA606,DATA!$B$3:$E$6,4,0)","v":3.125E-2},0.30208333333333331,0.30208333333333331,{"$f":"DATA!$C$9","v":0.89},{"$f":"DATA!$C$10","v":64},1,407.8125,407.8125,0,"","",0,"","",0,"","","","",null,{"$f":"X604","v":29},"2018-07-20",{"$f":"TEXT(Y606,\"ddd\")","v":"vr"},"DD",{"$f":"IFERROR(HLOOKUP(Y606,[1]DATA!$A$1:$NB$5,3,0),\"\")","v":"D3"},null,null,null,null,{"$f":"VLOOKUP(Y606,[1]SRA!$S$4:$Z$368,6,0)","v":0},"","",""]
["29vrMD",{"$f":"VLOOKUP($AA607,DATA!$B$3:$E$6,2,0)","v":"14:30:00"},{"$f":"VLOOKUP($AA607,DATA!$B$3:$E$6,3,0)","v":"22:30:00"},{"$f":"VLOOKUP($AA607,DATA!$B$3:$E$6,4,0)","v":3.125E-2},0.30208333333333337,0.30208333333333337,{"$f":"DATA!$C$9","v":0.89},{"$f":"DATA!$C$10","v":64},1,407.81250000000006,407.81250000000006,0,"","",0,"","",0,"","","","",null,{"$f":"X604","v":29},null,{"$f":"TEXT(Y606,\"ddd\")","v":"vr"},"MD",{"$f":"IFERROR(HLOOKUP(Y606,[1]DATA!$A$1:$NB$5,4,0),\"\")","v":"D2"},null,null,null,null,{"$f":"VLOOKUP(Y606,[1]SRA!$S$4:$Z$368,7,0)","v":0},"","",""]
["29vrND",{"$f":"VLOOKUP($AA608,DATA!$B$3:$E$6,2,0)","v":"22:30:00"},{"$f":"VLOOKUP($AA608,DATA!$B$3:$E$6,3,0)","v":"06:30:00"},{"$f":"VLOOKUP($AA608,DATA!$B$3:$E$6,4,0)","v":3.125E-2},0.30208333333333326,0.30208333333333326,{"$f":"DATA!$C$9","v":0.89},{"$f":"DATA!$C$10","v":64},1,407.81249999999989,407.81249999999989,0,"","",0,"","",0,"","","","",null,{"$f":"X604","v":29},null,{"$f":"TEXT(Y606,\"ddd\")","v":"vr"},"ND",{"$f":"IFERROR(HLOOKUP(Y606,[1]DATA!$A$1:$NB$5,5,0),\"\")","v":"D2"},null,null,null,null,{"$f":"VLOOKUP(Y606,[1]SRA!$S$4:$Z$368,8,0)","v":0},"","",""]
["29zaDD",{"$f":"VLOOKUP($AA609,DATA!$B$3:$E$6,2,0)","v":"06:30:00"},{"$f":"VLOOKUP($AA609,DATA!$B$3:$E$6,3,0)","v":"14:30:00"},{"$f":"VLOOKUP($AA609,DATA!$B$3:$E$6,4,0)","v":3.125E-2},0.30208333333333331,0.30208333333333331,{"$f":"DATA!$C$9","v":0.89},{"$f":"DATA!$C$10","v":64},1,407.8125,407.8125,0,"","",0,"","",0,"","","","",null,{"$f":"X604","v":29},"2018-07-21",{"$f":"TEXT(Y609,\"ddd\")","v":"za"},"DD",{"$f":"IFERROR(HLOOKUP(Y609,[1]DATA!$A$1:$NB$5,3,0),\"\")","v":"D3"},null,null,null,null,{"$f":"VLOOKUP(Y609,[1]SRA!$S$4:$Z$368,6,0)","v":0},"","",""]
["29zaMD",{"$f":"VLOOKUP($AA610,DATA!$B$3:$E$6,2,0)","v":"14:30:00"},{"$f":"VLOOKUP($AA610,DATA!$B$3:$E$6,3,0)","v":"22:30:00"},{"$f":"VLOOKUP($AA610,DATA!$B$3:$E$6,4,0)","v":3.125E-2},0.30208333333333337,0.30208333333333337,{"$f":"DATA!$C$9","v":0.89},{"$f":"DATA!$C$10","v":64},1,407.81250000000006,407.81250000000006,0,"","",0,"","",0,"","","","",null,{"$f":"X604","v":29},null,{"$f":"TEXT(Y609,\"ddd\")","v":"za"},"MD",{"$f":"IFERROR(HLOOKUP(Y609,[1]DATA!$A$1:$NB$5,4,0),\"\")","v":"-"},null,null,null,null,{"$f":"VLOOKUP(Y609,[1]SRA!$S$4:$Z$368,7,0)","v":0},"","",""]
["29zaND",{"$f":"VLOOKUP($AA611,DATA!$B$3:$E$6,2,0)","v":"22:30:00"},{"$f":"VLOOKUP($AA611,DATA!$B$3:$E$6,3,0)","v":"06:30:00"},{"$f":"VLOOKUP($AA611,DATA!$B$3:$E$6,4,0)","v":3.125E-2},0.30208333333333326,0.30208333333333326,{"$f":"DATA!$C$9","v":0.89},{"$f":"DATA!$C$10","v":64},1,407.81249999999989,407.81249999999989,0,"","",0,"","",0,"","","","",null,{"$f":"X604","v":29},null,{"$f":"TEXT(Y609,\"ddd\")","v":"za"},"ND",{"$f":"IFERROR(HLOOKUP(Y609,[1]DATA!$A$1:$NB$5,5,0),\"\")","v":"-"},null,null,null,null,{"$f":"VLOOKUP(Y609,[1]SRA!$S$4:$Z$368,8,0)","v":0},"","",""]
["29zoDD",{"$f":"VLOOKUP($AA612,DATA!$B$3:$E$6,2,0)","v":"06:30:00"},{"$f":"VLOOKUP($AA612,DATA!$B$3:$E$6,3,0)","v":"14:30:00"},{"$f":"VLOOKUP($AA612,DATA!$B$3:$E$6,4,0)","v":3.125E-2},0.30208333333333331,0.30208333333333331,{"$f":"DATA!$C$9","v":0.89},{"$f":"DATA!$C$10","v":64},1,407.8125,407.8125,0,"","",0,"","",0,"","","","",null,{"$f":"X604","v":29},"2018-07-22",{"$f":"TEXT(Y612,\"ddd\")","v":"zo"},"DD",{"$f":"IFERROR(HLOOKUP(Y612,[1]DATA!$A$1:$NB$5,3,0),\"\")","v":"-"},null,null,null,null,{"$f":"VLOOKUP(Y612,[1]SRA!$S$4:$Z$368,6,0)","v":0},"","",""]
["29zoMD",{"$f":"VLOOKUP($AA613,DATA!$B$3:$E$6,2,0)","v":"14:30:00"},{"$f":"VLOOKUP($AA613,DATA!$B$3:$E$6,3,0)","v":"22:30:00"},{"$f":"VLOOKUP($AA613,DATA!$B$3:$E$6,4,0)","v":3.125E-2},0.30208333333333337,0.30208333333333337,{"$f":"DATA!$C$9","v":0.89},{"$f":"DATA!$C$10","v":64},1,407.81250000000006,407.81250000000006,0,"","",0,"","",0,"","","","",null,{"$f":"X604","v":29},null,{"$f":"TEXT(Y612,\"ddd\")","v":"zo"},"MD",{"$f":"IFERROR(HLOOKUP(Y612,[1]DATA!$A$1:$NB$5,4,0),\"\")","v":"-"},null,null,null,null,{"$f":"VLOOKUP(Y612,[1]SRA!$S$4:$Z$368,7,0)","v":0},"","",""]
["29zoZND",{"$f":"VLOOKUP($AA614,DATA!$B$3:$E$6,2,0)","v":"00:00:00"},{"$f":"VLOOKUP($AA614,DATA!$B$3:$E$6,3,0)","v":"00:00:00"},{"$f":"VLOOKUP($AA614,DATA!$B$3:$E$6,4,0)","v":0},0,0,{"$f":"DATA!$C$9","v":0.89},{"$f":"DATA!$C$10","v":64},1,0,0,0,"","",0,"","",0,"","","","",null,{"$f":"X604","v":29},null,{"$f":"TEXT(Y612,\"ddd\")","v":"zo"},"ZND",{"$f":"IFERROR(HLOOKUP(Y612,[1]DATA!$A$1:$NB$5,5,0),\"\")","v":"-"},null,null,null,null,{"$f":"VLOOKUP(Y612,[1]SRA!$S$4:$Z$368,8,0)","v":0},"","",""]
["30maDD",{"$f":"VLOOKUP($AA615,DATA!$B$3:$E$6,2,0)","v":"06:30:00"},{"$f":"VLOOKUP($AA615,DATA!$B$3:$E$6,3,0)","v":"14:30:00"},{"$f":"VLOOKUP($AA615,DATA!$B$3:$E$6,4,0)","v":3.125E-2},0.30208333333333331,0.30208333333333331,{"$f":"DATA!$C$9","v":0.89},{"$f":"DATA!$C$10","v":64},1,407.8125,407.8125,0,"","",{"$f":"TIME(INT($AD615/60),INT(MOD($AD615,60)/1),0)","v":0},"","",0,"","","","",null,{"$f":"X625","v":30},"2018-07-23",{"$f":"TEXT(Y615,\"ddd\")","v":"ma"},"DD",{"$f":"IFERROR(HLOOKUP(Y615,[1]DATA!$A$1:$NB$5,3,0),\"\")","v":"D2"},null,null,null,null,{"$f":"VLOOKUP(Y615,[1]SRA!$S$4:$AA$368,6,0)","v":0},"","","",{"$f":"IF(SUMIF(S615:S635,\">0\",K615:K635)=0,\"\",SUMIF(S615:S635,\">0\",K615:K635))","v":""},{"$f":"IF(SUM(S615:S635)=0,\"\",SUM(S615:S635))","v":""},{"$f":"IFERROR(AL615/AK615,\"-\")","v":"-"},{"$f":"IF(SUM(M615:M635)=0,\"0\",SUM(M615:M635))","v":"0"},{"$f":"IFERROR(AN615/AK615,\"-\")","v":"-"},{"$f":"IF(SUM(P615:P635)=0,0,SUM(P615:P635))","v":0},{"$f":"IFERROR(AP615/AK615,\"-\")","v":"-"},"-",{"$f":"IFERROR(SUMIF($AB615:$AB635,AS$5,$AJ615:$AJ635)/COUNTIFS($AB615:$AB635,AS$5,$AJ615:$AJ635,\">0\"),\"\")","v":""},"","",{"$f":"IFERROR((AK615-AL615-AN615-AP615),\"-\")","v":"-"},{"$f":"IFERROR((1-AM615-AO615-AQ615), \"-\")","v":"-"},{"$f":"IFERROR((AV615*$AE$2)/60,\"-\")","v":"-"},{"$f":"IFERROR(SUM(AG615:AG635),\"\")","v":0}]
["30maMD",{"$f":"VLOOKUP($AA616,DATA!$B$3:$E$6,2,0)","v":"14:30:00"},{"$f":"VLOOKUP($AA616,DATA!$B$3:$E$6,3,0)","v":"22:30:00"},{"$f":"VLOOKUP($AA616,DATA!$B$3:$E$6,4,0)","v":3.125E-2},0.30208333333333337,0.30208333333333337,{"$f":"DATA!$C$9","v":0.89},{"$f":"DATA!$C$10","v":64},1,407.81250000000006,407.81250000000006,0,"","",{"$f":"TIME(INT(AD616/60),INT(MOD(AD616,60)/1),0)","v":0},"","",0,"","","","",null,{"$f":"X625","v":30},null,{"$f":"TEXT(Y615,\"ddd\")","v":"ma"},"MD",{"$f":"IFERROR(HLOOKUP(Y615,[1]DATA!$A$1:$NB$5,4,0),\"\")","v":"D1"},null,null,null,null,{"$f":"VLOOKUP(Y615,[1]SRA!$S$4:$Z$368,7,0)","v":0},"","",""]
["30maND",{"$f":"VLOOKUP($AA617,DATA!$B$3:$E$6,2,0)","v":"22:30:00"},{"$f":"VLOOKUP($AA617,DATA!$B$3:$E$6,3,0)","v":"06:30:00"},{"$f":"VLOOKUP($AA617,DATA!$B$3:$E$6,4,0)","v":3.125E-2},0.30208333333333326,0.30208333333333326,{"$f":"DATA!$C$9","v":0.89},{"$f":"DATA!$C$10","v":64},1,407.81249999999989,407.81249999999989,0,"","",0,"","",0,"","","","",null,{"$f":"X625","v":30},null,{"$f":"TEXT(Y615,\"ddd\")","v":"ma"},"ND",{"$f":"IFERROR(HLOOKUP(Y615,[1]DATA!$A$1:$NB$5,5,0),\"\")","v":"D3"},null,null,null,null,{"$f":"VLOOKUP(Y615,[1]SRA!$S$4:$Z$368,8,0)","v":0},"","",""]
["30diDD",{"$f":"VLOOKUP($AA618,DATA!$B$3:$E$6,2,0)","v":"06:30:00"},{"$f":"VLOOKUP($AA618,DATA!$B$3:$E$6,3,0)","v":"14:30:00"},{"$f":"VLOOKUP($AA618,DATA!$B$3:$E$6,4,0)","v":3.125E-2},0.30208333333333331,0.30208333333333331,{"$f":"DATA!$C$9","v":0.89},{"$f":"DATA!$C$10","v":64},1,407.8125,407.8125,0,"","",0,"","",0,"","","","",null,{"$f":"X625","v":30},"2018-07-24",{"$f":"TEXT(Y618,\"ddd\")","v":"di"},"DD",{"$f":"IFERROR(HLOOKUP(Y618,[1]DATA!$A$1:$NB$5,3,0),\"\")","v":"D2"},null,null,null,null,{"$f":"VLOOKUP(Y618,[1]SRA!$S$4:$Z$368,6,0)","v":0},"","",""]
["30diMD",{"$f":"VLOOKUP($AA619,DATA!$B$3:$E$6,2,0)","v":"14:30:00"},{"$f":"VLOOKUP($AA619,DATA!$B$3:$E$6,3,0)","v":"22:30:00"},{"$f":"VLOOKUP($AA619,DATA!$B$3:$E$6,4,0)","v":3.125E-2},0.30208333333333337,0.30208333333333337,{"$f":"DATA!$C$9","v":0.89},{"$f":"DATA!$C$10","v":64},1,407.81250000000006,407.81250000000006,0,"","",0,"","",0,"","","","",null,{"$f":"X625","v":30},null,{"$f":"TEXT(Y618,\"ddd\")","v":"di"},"MD",{"$f":"IFERROR(HLOOKUP(Y618,[1]DATA!$A$1:$NB$5,4,0),\"\")","v":"D1"},null,null,null,null,{"$f":"VLOOKUP(Y618,[1]SRA!$S$4:$Z$368,7,0)","v":0},"","",""]
["30diND",{"$f":"VLOOKUP($AA620,DATA!$B$3:$E$6,2,0)","v":"22:30:00"},{"$f":"VLOOKUP($AA620,DATA!$B$3:$E$6,3,0)","v":"06:30:00"},{"$f":"VLOOKUP($AA620,DATA!$B$3:$E$6,4,0)","v":3.125E-2},0.30208333333333326,0.30208333333333326,{"$f":"DATA!$C$9","v":0.89},{"$f":"DATA!$C$10","v":64},1,407.81249999999989,407.81249999999989,0,"","",0,"","",0,"","","","",null,{"$f":"X625","v":30},null,{"$f":"TEXT(Y618,\"ddd\")","v":"di"},"ND",{"$f":"IFERROR(HLOOKUP(Y618,[1]DATA!$A$1:$NB$5,5,0),\"\")","v":"D3"},null,null,null,null,{"$f":"VLOOKUP(Y618,[1]SRA!$S$4:$Z$368,8,0)","v":0},"","",""]
["30woDD",{"$f":"VLOOKUP($AA621,DATA!$B$3:$E$6,2,0)","v":"06:30:00"},{"$f":"VLOOKUP($AA621,DATA!$B$3:$E$6,3,0)","v":"14:30:00"},{"$f":"VLOOKUP($AA621,DATA!$B$3:$E$6,4,0)","v":3.125E-2},0.30208333333333331,0.30208333333333331,{"$f":"DATA!$C$9","v":0.89},{"$f":"DATA!$C$10","v":64},1,407.8125,407.8125,0,"","",0,"","",0,"","","","",null,{"$f":"X625","v":30},"2018-07-25",{"$f":"TEXT(Y621,\"ddd\")","v":"wo"},"DD",{"$f":"IFERROR(HLOOKUP(Y621,[1]DATA!$A$1:$NB$5,3,0),\"\")","v":"D2"},null,null,null,null,{"$f":"VLOOKUP(Y621,[1]SRA!$S$4:$Z$368,6,0)","v":0},"","",""]
["30woMD",{"$f":"VLOOKUP($AA622,DATA!$B$3:$E$6,2,0)","v":"14:30:00"},{"$f":"VLOOKUP($AA622,DATA!$B$3:$E$6,3,0)","v":"22:30:00"},{"$f":"VLOOKUP($AA622,DATA!$B$3:$E$6,4,0)","v":3.125E-2},0.30208333333333337,0.30208333333333337,{"$f":"DATA!$C$9","v":0.89},{"$f":"DATA!$C$10","v":64},1,407.81250000000006,407.81250000000006,0,"","",0,"","",0,"","","","",null,{"$f":"X625","v":30},null,{"$f":"TEXT(Y621,\"ddd\")","v":"wo"},"MD",{"$f":"IFERROR(HLOOKUP(Y621,[1]DATA!$A$1:$NB$5,4,0),\"\")","v":"D1"},null,null,null,null,{"$f":"VLOOKUP(Y621,[1]SRA!$S$4:$Z$368,7,0)","v":0},"","",""]
["30woND",{"$f":"VLOOKUP($AA623,DATA!$B$3:$E$6,2,0)","v":"22:30:00"},{"$f":"VLOOKUP($AA623,DATA!$B$3:$E$6,3,0)","v":"06:30:00"},{"$f":"VLOOKUP($AA623,DATA!$B$3:$E$6,4,0)","v":3.125E-2},0.30208333333333326,0.30208333333333326,{"$f":"DATA!$C$9","v":0.89},{"$f":"DATA!$C$10","v":64},1,407.81249999999989,407.81249999999989,0,"","",0,"","",0,"","","","",null,{"$f":"X625","v":30},null,{"$f":"TEXT(Y621,\"ddd\")","v":"wo"},"ND",{"$f":"IFERROR(HLOOKUP(Y621,[1]DATA!$A$1:$NB$5,5,0),\"\")","v":"D3"},null,null,null,null,{"$f":"VLOOKUP(Y621,[1]SRA!$S$4:$Z$368,8,0)","v":0},"","",""]
[{"$f":"X624&Z624&AA624","v":"30doDD"},{"$f":"VLOOKUP($AA624,DATA!$B$3:$E$6,2,0)","v":"06:30:00"},{"$f":"VLOOKUP($AA624,DATA!$B$3:$E$6,3,0)","v":"14:30:00"},{"$f":"VLOOKUP($AA624,DATA!$B$3:$E$6,4,0)","v":3.125E-2},0.30208333333333331,0.30208333333333331,{"$f":"DATA!$C$9","v":0.89},{"$f":"DATA!$C$10","v":64},1,407.8125,407.8125,0,"","",0,{"$f":"IF($O624*86400/$H624=0,\"\",$O624*86400/$H624)","v":""},"",0,"","","","",null,{"$f":"X625","v":30},"2018-07-26",{"$f":"TEXT(Y624,\"ddd\")","v":"do"},"DD",{"$f":"IFERROR(HLOOKUP(Y624,[1]DATA!$A$1:$NB$5,3,0),\"\")","v":"D2"},null,null,null,null,{"$f":"VLOOKUP(Y624,[1]SRA!$S$4:$Z$368,6,0)","v":0},"","",""]
["30doMD",{"$f":"VLOOKUP($AA625,DATA!$B$3:$E$6,2,0)","v":"14:30:00"},{"$f":"VLOOKUP($AA625,DATA!$B$3:$E$6,3,0)","v":"22:30:00"},{"$f":"VLOOKUP($AA625,DATA!$B$3:$E$6,4,0)","v":3.125E-2},0.30208333333333337,0.30208333333333337,{"$f":"DATA!$C$9","v":0.89},{"$f":"DATA!$C$10","v":64},1,407.81250000000006,407.81250000000006,0,"","",0,"","",0,"","","","",null,{"$f":"WEEKNUM($Y615)","v":30},null,{"$f":"TEXT(Y624,\"ddd\")","v":"do"},"MD",{"$f":"IFERROR(HLOOKUP(Y624,[1]DATA!$A$1:$NB$5,4,0),\"\")","v":"D1"},null,null,null,null,{"$f":"VLOOKUP(Y624,[1]SRA!$S$4:$Z$368,7,0)","v":0},"","",""]
["30doND",{"$f":"VLOOKUP($AA626,DATA!$B$3:$E$6,2,0)","v":"22:30:00"},{"$f":"VLOOKUP($AA626,DATA!$B$3:$E$6,3,0)","v":"06:30:00"},{"$f":"VLOOKUP($AA626,DATA!$B$3:$E$6,4,0)","v":3.125E-2},0.30208333333333326,0.30208333333333326,{"$f":"DATA!$C$9","v":0.89},{"$f":"DATA!$C$10","v":64},1,407.81249999999989,407.81249999999989,0,"","",0,"","",0,"","","","",null,{"$f":"X625","v":30},null,{"$f":"TEXT(Y624,\"ddd\")","v":"do"},"ND",{"$f":"IFERROR(HLOOKUP(Y624,[1]DATA!$A$1:$NB$5,5,0),\"\")","v":"D3"},null,null,null,null,{"$f":"VLOOKUP(Y624,[1]SRA!$S$4:$Z$368,8,0)","v":0},"","",""]
["30vrDD",{"$f":"VLOOKUP($AA627,DATA!$B$3:$E$6,2,0)","v":"06:30:00"},{"$f":"VLOOKUP($AA627,DATA!$B$3:$E$6,3,0)","v":"14:30:00"},{"$f":"VLOOKUP($AA627,DATA!$B$3:$E$6,4,0)","v":3.125E-2},0.30208333333333331,0.30208333333333331,{"$f":"DATA!$C$9","v":0.89},{"$f":"DATA!$C$10","v":64},1,407.8125,407.8125,0,"","",0,"","",0,"","","","",null,{"$f":"X625","v":30},"2018-07-27",{"$f":"TEXT(Y627,\"ddd\")","v":"vr"},"DD",{"$f":"IFERROR(HLOOKUP(Y627,[1]DATA!$A$1:$NB$5,3,0),\"\")","v":"D2"},null,null,null,null,{"$f":"VLOOKUP(Y627,[1]SRA!$S$4:$Z$368,6,0)","v":0},"","",""]
["30vrMD",{"$f":"VLOOKUP($AA628,DATA!$B$3:$E$6,2,0)","v":"14:30:00"},{"$f":"VLOOKUP($AA628,DATA!$B$3:$E$6,3,0)","v":"22:30:00"},{"$f":"VLOOKUP($AA628,DATA!$B$3:$E$6,4,0)","v":3.125E-2},0.30208333333333337,0.30208333333333337,{"$f":"DATA!$C$9","v":0.89},{"$f":"DATA!$C$10","v":64},1,407.81250000000006,407.81250000000006,0,"","",0,"","",0,"","","","",null,{"$f":"X625","v":30},null,{"$f":"TEXT(Y627,\"ddd\")","v":"vr"},"MD",{"$f":"IFERROR(HLOOKUP(Y627,[1]DATA!$A$1:$NB$5,4,0),\"\")","v":"D1"},null,null,null,null,{"$f":"VLOOKUP(Y627,[1]SRA!$S$4:$Z$368,7,0)","v":0},"","",""]
["30vrND",{"$f":"VLOOKUP($AA629,DATA!$B$3:$E$6,2,0)","v":"22:30:00"},{"$f":"VLOOKUP($AA629,DATA!$B$3:$E$6,3,0)","v":"06:30:00"},{"$f":"VLOOKUP($AA629,DATA!$B$3:$E$6,4,0)","v":3.125E-2},0.30208333333333326,0.30208333333333326,{"$f":"DATA!$C$9","v":0.89},{"$f":"DATA!$C$10","v":64},1,407.81249999999989,407.81249999999989,0,"","",0,"","",0,"","","","",null,{"$f":"X625","v":30},null,{"$f":"TEXT(Y627,\"ddd\")","v":"vr"},"ND",{"$f":"IFERROR(HLOOKUP(Y627,[1]DATA!$A$1:$NB$5,5,0),\"\")","v":"D3"},null,null,null,null,{"$f":"VLOOKUP(Y627,[1]SRA!$S$4:$Z$368,8,0)","v":0},"","",""]
["30zaDD",{"$f":"VLOOKUP($AA630,DATA!$B$3:$E$6,2,0)","v":"06:30:00"},{"$f":"VLOOKUP($AA630,DATA!$B$3:$E$6,3,0)","v":"14:30:00"},{"$f":"VLOOKUP($AA630,DATA!$B$3:$E$6,4,0)","v":3.125E-2},0.30208333333333331,0.30208333333333331,{"$f":"DATA!$C$9","v":0.89},{"$f":"DATA!$C$10","v":64},1,407.8125,407.8125,0,"","",0,"","",0,"","","","",null,{"$f":"X625","v":30},{"$f":"Y627+1","v":"2018-07-28"},{"$f":"TEXT(Y630,\"ddd\")","v":"za"},"DD",{"$f":"IFERROR(HLOOKUP(Y630,[1]DATA!$A$1:$NB$5,3,0),\"\")","v":"D2"},null,null,null,null,{"$f":"VLOOKUP(Y630,[1]SRA!$S$4:$Z$368,6,0)","v":0},"","",""]
["30zaMD",{"$f":"VLOOKUP($AA631,DATA!$B$3:$E$6,2,0)","v":"14:30:00"},{"$f":"VLOOKUP($AA631,DATA!$B$3:$E$6,3,0)","v":"22:30:00"},{"$f":"VLOOKUP($AA631,DATA!$B$3:$E$6,4,0)","v":3.125E-2},0.30208333333333337,0.30208333333333337,{"$f":"DATA!$C$9","v":0.89},{"$f":"DATA!$C$10","v":64},1,407.81250000000006,407.81250000000006,0,"","",0,"","",0,"","","","",null,{"$f":"X625","v":30},null,{"$f":"TEXT(Y630,\"ddd\")","v":"za"},"MD",{"$f":"IFERROR(HLOOKUP(Y630,[1]DATA!$A$1:$NB$5,4,0),\"\")","v":"-"},null,null,null,null,{"$f":"VLOOKUP(Y630,[1]SRA!$S$4:$Z$368,7,0)","v":0},"","",""]
["30zaND",{"$f":"VLOOKUP($AA632,DATA!$B$3:$E$6,2,0)","v":"22:30:00"},{"$f":"VLOOKUP($AA632,DATA!$B$3:$E$6,3,0)","v":"06:30:00"},{"$f":"VLOOKUP($AA632,DATA!$B$3:$E$6,4,0)","v":3.125E-2},0.30208333333333326,0.30208333333333326,{"$f":"DATA!$C$9","v":0.89},{"$f":"DATA!$C$10","v":64},1,407.81249999999989,407.81249999999989,0,"","",0,"","",0,"","","","",null,{"$f":"X625","v":30},null,{"$f":"TEXT(Y630,\"ddd\")","v":"za"},"ND",{"$f":"IFERROR(HLOOKUP(Y630,[1]DATA!$A$1:$NB$5,5,0),\"\")","v":"-"},null,null,null,null,{"$f":"VLOOKUP(Y630,[1]SRA!$S$4:$Z$368,8,0)","v":0},"","",""]
["30zoDD",{"$f":"VLOOKUP($AA633,DATA!$B$3:$E$6,2,0)","v":"06:30:00"},{"$f":"VLOOKUP($AA633,DATA!$B$3:$E$6,3,0)","v":"14:30:00"},{"$f":"VLOOKUP($AA633,DATA!$B$3:$E$6,4,0)","v":3.125E-2},0.30208333333333331,0.30208333333333331,{"$f":"DATA!$C$9","v":0.89},{"$f":"DATA!$C$10","v":64},1,407.8125,407.8125,0,"","",0,"","",0,"","","","",null,{"$f":"X625","v":30},"2018-07-29",{"$f":"TEXT(Y633,\"ddd\")","v":"zo"},"DD",{"$f":"IFERROR(HLOOKUP(Y633,[1]DATA!$A$1:$NB$5,3,0),\"\")","v":"-"},null,null,null,null,{"$f":"VLOOKUP(Y633,[1]SRA!$S$4:$Z$368,6,0)","v":0},"","",""]
["30zoMD",{"$f":"VLOOKUP($AA634,DATA!$B$3:$E$6,2,0)","v":"14:30:00"},{"$f":"VLOOKUP($AA634,DATA!$B$3:$E$6,3,0)","v":"22:30:00"},{"$f":"VLOOKUP($AA634,DATA!$B$3:$E$6,4,0)","v":3.125E-2},0.30208333333333337,0.30208333333333337,{"$f":"DATA!$C$9","v":0.89},{"$f":"DATA!$C$10","v":64},1,407.81250000000006,407.81250000000006,0,"","",0,"","",0,"","","","",null,{"$f":"X625","v":30},null,{"$f":"TEXT(Y633,\"ddd\")","v":"zo"},"MD",{"$f":"IFERROR(HLOOKUP(Y633,[1]DATA!$A$1:$NB$5,4,0),\"\")","v":"-"},null,null,null,null,{"$f":"VLOOKUP(Y633,[1]SRA!$S$4:$Z$368,7,0)","v":0},"","",""]
["30zoZND",{"$f":"VLOOKUP($AA635,DATA!$B$3:$E$6,2,0)","v":"00:00:00"},{"$f":"VLOOKUP($AA635,DATA!$B$3:$E$6,3,0)","v":"00:00:00"},{"$f":"VLOOKUP($AA635,DATA!$B$3:$E$6,4,0)","v":0},0,0,{"$f":"DATA!$C$9","v":0.89},{"$f":"DATA!$C$10","v":64},1,0,0,0,"","",0,"","",0,"","","","",null,{"$f":"X625","v":30},null,{"$f":"TEXT(Y633,\"ddd\")","v":"zo"},"ZND",{"$f":"IFERROR(HLOOKUP(Y633,[1]DATA!$A$1:$NB$5,5,0),\"\")","v":"-"},null,null,null,null,{"$f":"VLOOKUP(Y633,[1]SRA!$S$4:$Z$368,8,0)","v":0},"","",""]
["31maDD",{"$f":"VLOOKUP($AA636,DATA!$B$3:$E$6,2,0)","v":"06:30:00"},{"$f":"VLOOKUP($AA636,DATA!$B$3:$E$6,3,0)","v":"14:30:00"},{"$f":"VLOOKUP($AA636,DATA!$B$3:$E$6,4,0)","v":3.125E-2},0.30208333333333331,0.30208333333333331,{"$f":"DATA!$C$9","v":0.89},{"$f":"DATA!$C$10","v":64},1,407.8125,407.8125,0,"","",{"$f":"TIME(INT($AD636/60),INT(MOD($AD636,60)/1),0)","v":0},"","",0,"","","","",null,{"$f":"X646","v":31},"2018-07-30",{"$f":"TEXT(Y636,\"ddd\")","v":"ma"},"DD",{"$f":"IFERROR(HLOOKUP(Y636,[1]DATA!$A$1:$NB$5,3,0),\"\")","v":"D1"},null,null,null,null,{"$f":"VLOOKUP(Y636,[1]SRA!$S$4:$AA$368,6,0)","v":0},"","","",{"$f":"IF(SUMIF(S636:S656,\">0\",K636:K656)=0,\"\",SUMIF(S636:S656,\">0\",K636:K656))","v":""},{"$f":"IF(SUM(S636:S656)=0,\"\",SUM(S636:S656))","v":""},{"$f":"IFERROR(AL636/AK636,\"-\")","v":"-"},{"$f":"IF(SUM(M636:M656)=0,\"0\",SUM(M636:M656))","v":"0"},{"$f":"IFERROR(AN636/AK636,\"-\")","v":"-"},{"$f":"IF(SUM(P636:P656)=0,0,SUM(P636:P656))","v":0},{"$f":"IFERROR(AP636/AK636,\"-\")","v":"-"},"-",{"$f":"IFERROR(SUMIF($AB636:$AB656,AS$5,$AJ636:$AJ656)/COUNTIFS($AB636:$AB656,AS$5,$AJ636:$AJ656,\">0\"),\"\")","v":""},"","",{"$f":"IFERROR((AK636-AL636-AN636-AP636),\"-\")","v":"-"},{"$f":"IFERROR((1-AM636-AO636-AQ636), \"-\")","v":"-"},{"$f":"IFERROR((AV636*$AE$2)/60,\"-\")","v":"-"},{"$f":"IFERROR(SUM(AG636:AG656),\"\")","v":0}]
["31maMD",{"$f":"VLOOKUP($AA637,DATA!$B$3:$E$6,2,0)","v":"14:30:00"},{"$f":"VLOOKUP($AA637,DATA!$B$3:$E$6,3,0)","v":"22:30:00"},{"$f":"VLOOKUP($AA637,DATA!$B$3:$E$6,4,0)","v":3.125E-2},0.30208333333333337,0.30208333333333337,{"$f":"DATA!$C$9","v":0.89},{"$f":"DATA!$C$10","v":64},1,407.81250000000006,407.81250000000006,0,"","",{"$f":"TIME(INT(AD637/60),INT(MOD(AD637,60)/1),0)","v":0},"","",0,"","","","",null,{"$f":"X646","v":31},null,{"$f":"TEXT(Y636,\"ddd\")","v":"ma"},"MD",{"$f":"IFERROR(HLOOKUP(Y636,[1]DATA!$A$1:$NB$5,4,0),\"\")","v":"D3"},null,null,null,null,{"$f":"VLOOKUP(Y636,[1]SRA!$S$4:$Z$368,7,0)","v":0},"","",""]
["31maND",{"$f":"VLOOKUP($AA638,DATA!$B$3:$E$6,2,0)","v":"22:30:00"},{"$f":"VLOOKUP($AA638,DATA!$B$3:$E$6,3,0)","v":"06:30:00"},{"$f":"VLOOKUP($AA638,DATA!$B$3:$E$6,4,0)","v":3.125E-2},0.30208333333333326,0.30208333333333326,{"$f":"DATA!$C$9","v":0.89},{"$f":"DATA!$C$10","v":64},1,407.81249999999989,407.81249999999989,0,"","",0,"","",0,"","","","",null,{"$f":"X646","v":31},null,{"$f":"TEXT(Y636,\"ddd\")","v":"ma"},"ND",{"$f":"IFERROR(HLOOKUP(Y636,[1]DATA!$A$1:$NB$5,5,0),\"\")","v":"D2"},null,null,null,null,{"$f":"VLOOKUP(Y636,[1]SRA!$S$4:$Z$368,8,0)","v":0},"","",""]
["31diDD",{"$f":"VLOOKUP($AA639,DATA!$B$3:$E$6,2,0)","v":"06:30:00"},{"$f":"VLOOKUP($AA639,DATA!$B$3:$E$6,3,0)","v":"14:30:00"},{"$f":"VLOOKUP($AA639,DATA!$B$3:$E$6,4,0)","v":3.125E-2},0.30208333333333331,0.30208333333333331,{"$f":"DATA!$C$9","v":0.89},{"$f":"DATA!$C$10","v":64},1,407.8125,407.8125,0,"","",0,"","",0,"","","","",null,{"$f":"X646","v":31},"2018-07-31",{"$f":"TEXT(Y639,\"ddd\")","v":"di"},"DD",{"$f":"IFERROR(HLOOKUP(Y639,[1]DATA!$A$1:$NB$5,3,0),\"\")","v":"D1"},null,null,null,null,{"$f":"VLOOKUP(Y639,[1]SRA!$S$4:$Z$368,6,0)","v":0},"","",""]
["31diMD",{"$f":"VLOOKUP($AA640,DATA!$B$3:$E$6,2,0)","v":"14:30:00"},{"$f":"VLOOKUP($AA640,DATA!$B$3:$E$6,3,0)","v":"22:30:00"},{"$f":"VLOOKUP($AA640,DATA!$B$3:$E$6,4,0)","v":3.125E-2},0.30208333333333337,0.30208333333333337,{"$f":"DATA!$C$9","v":0.89},{"$f":"DATA!$C$10","v":64},1,407.81250000000006,407.81250000000006,0,"","",0,"","",0,"","","","",null,{"$f":"X646","v":31},null,{"$f":"TEXT(Y639,\"ddd\")","v":"di"},"MD",{"$f":"IFERROR(HLOOKUP(Y639,[1]DATA!$A$1:$NB$5,4,0),\"\")","v":"D3"},null,null,null,null,{"$f":"VLOOKUP(Y639,[1]SRA!$S$4:$Z$368,7,0)","v":0},"","",""]
["31diND",{"$f":"VLOOKUP($AA641,DATA!$B$3:$E$6,2,0)","v":"22:30:00"},{"$f":"VLOOKUP($AA641,DATA!$B$3:$E$6,3,0)","v":"06:30:00"},{"$f":"VLOOKUP($AA641,DATA!$B$3:$E$6,4,0)","v":3.125E-2},0.30208333333333326,0.30208333333333326,{"$f":"DATA!$C$9","v":0.89},{"$f":"DATA!$C$10","v":64},1,407.81249999999989,407.81249999999989,0,"","",0,"","",0,"","","","",null,{"$f":"X646","v":31},null,{"$f":"TEXT(Y639,\"ddd\")","v":"di"},"ND",{"$f":"IFERROR(HLOOKUP(Y639,[1]DATA!$A$1:$NB$5,5,0),\"\")","v":"D2"},null,null,null,null,{"$f":"VLOOKUP(Y639,[1]SRA!$S$4:$Z$368,8,0)","v":0},"","",""]
["31woDD",{"$f":"VLOOKUP($AA642,DATA!$B$3:$E$6,2,0)","v":"06:30:00"},{"$f":"VLOOKUP($AA642,DATA!$B$3:$E$6,3,0)","v":"14:30:00"},{"$f":"VLOOKUP($AA642,DATA!$B$3:$E$6,4,0)","v":3.125E-2},0.30208333333333331,0.30208333333333331,{"$f":"DATA!$C$9","v":0.89},{"$f":"DATA!$C$10","v":64},1,407.8125,407.8125,0,"","",0,"","",0,"","","","",null,{"$f":"X646","v":31},"2018-08-01",{"$f":"TEXT(Y642,\"ddd\")","v":"wo"},"DD",{"$f":"IFERROR(HLOOKUP(Y642,[1]DATA!$A$1:$NB$5,3,0),\"\")","v":"D1"},null,null,null,null,{"$f":"VLOOKUP(Y642,[1]SRA!$S$4:$Z$368,6,0)","v":0},"","",""]
["31woMD",{"$f":"VLOOKUP($AA643,DATA!$B$3:$E$6,2,0)","v":"14:30:00"},{"$f":"VLOOKUP($AA643,DATA!$B$3:$E$6,3,0)","v":"22:30:00"},{"$f":"VLOOKUP($AA643,DATA!$B$3:$E$6,4,0)","v":3.125E-2},0.30208333333333337,0.30208333333333337,{"$f":"DATA!$C$9","v":0.89},{"$f":"DATA!$C$10","v":64},1,407.81250000000006,407.81250000000006,0,"","",0,"","",0,"","","","",null,{"$f":"X646","v":31},null,{"$f":"TEXT(Y642,\"ddd\")","v":"wo"},"MD",{"$f":"IFERROR(HLOOKUP(Y642,[1]DATA!$A$1:$NB$5,4,0),\"\")","v":"D3"},null,null,null,null,{"$f":"VLOOKUP(Y642,[1]SRA!$S$4:$Z$368,7,0)","v":0},"","",""]
["31woND",{"$f":"VLOOKUP($AA644,DATA!$B$3:$E$6,2,0)","v":"22:30:00"},{"$f":"VLOOKUP($AA644,DATA!$B$3:$E$6,3,0)","v":"06:30:00"},{"$f":"VLOOKUP($AA644,DATA!$B$3:$E$6,4,0)","v":3.125E-2},0.30208333333333326,0.30208333333333326,{"$f":"DATA!$C$9","v":0.89},{"$f":"DATA!$C$10","v":64},1,407.81249999999989,407.81249999999989,0,"","",0,"","",0,"","","","",null,{"$f":"X646","v":31},null,{"$f":"TEXT(Y642,\"ddd\")","v":"wo"},"ND",{"$f":"IFERROR(HLOOKUP(Y642,[1]DATA!$A$1:$NB$5,5,0),\"\")","v":"D2"},null,null,null,null,{"$f":"VLOOKUP(Y642,[1]SRA!$S$4:$Z$368,8,0)","v":0},"","",""]
["31doDD",{"$f":"VLOOKUP($AA645,DATA!$B$3:$E$6,2,0)","v":"06:30:00"},{"$f":"VLOOKUP($AA645,DATA!$B$3:$E$6,3,0)","v":"14:30:00"},{"$f":"VLOOKUP($AA645,DATA!$B$3:$E$6,4,0)","v":3.125E-2},0.30208333333333331,0.30208333333333331,{"$f":"DATA!$C$9","v":0.89},{"$f":"DATA!$C$10","v":64},1,407.8125,407.8125,0,"","",0,"","",0,"","","","",null,{"$f":"X646","v":31},"2018-08-02",{"$f":"TEXT(Y645,\"ddd\")","v":"do"},"DD",{"$f":"IFERROR(HLOOKUP(Y645,[1]DATA!$A$1:$NB$5,3,0),\"\")","v":"D1"},null,null,null,null,{"$f":"VLOOKUP(Y645,[1]SRA!$S$4:$Z$368,6,0)","v":0},"","",""]
["31doMD",{"$f":"VLOOKUP($AA646,DATA!$B$3:$E$6,2,0)","v":"14:30:00"},{"$f":"VLOOKUP($AA646,DATA!$B$3:$E$6,3,0)","v":"22:30:00"},{"$f":"VLOOKUP($AA646,DATA!$B$3:$E$6,4,0)","v":3.125E-2},0.30208333333333337,0.30208333333333337,{"$f":"DATA!$C$9","v":0.89},{"$f":"DATA!$C$10","v":64},1,407.81250000000006,407.81250000000006,0,"","",0,"","",0,"","","","",null,{"$f":"WEEKNUM($Y636)","v":31},null,{"$f":"TEXT(Y645,\"ddd\")","v":"do"},"MD",{"$f":"IFERROR(HLOOKUP(Y645,[1]DATA!$A$1:$NB$5,4,0),\"\")","v":"D3"},null,null,null,null,{"$f":"VLOOKUP(Y645,[1]SRA!$S$4:$Z$368,7,0)","v":0},{"$f":"IFERROR(S646-J646,\"\")","v":""},{"$f":"IFERROR(IF(S646/(E646*86400/H646)<=0,\"\",S646/(E646*86400/H646)),\"\")","v":""},""]
["31doND",{"$f":"VLOOKUP($AA647,DATA!$B$3:$E$6,2,0)","v":"22:30:00"},{"$f":"VLOOKUP($AA647,DATA!$B$3:$E$6,3,0)","v":"06:30:00"},{"$f":"VLOOKUP($AA647,DATA!$B$3:$E$6,4,0)","v":3.125E-2},0.30208333333333326,0.30208333333333326,{"$f":"DATA!$C$9","v":0.89},{"$f":"DATA!$C$10","v":64},1,407.81249999999989,407.81249999999989,{"$f":"TIME(INT($AC647/60),INT(MOD($AC647,60)/1),0)","v":0},{"$f":"IF($L647*86400/$H647=0,\"\",$L647*86400/$H647)","v":""},{"$f":"IFERROR($M647/$K647,\"\")","v":""},0,"",{"$f":"IFERROR($P647/$K647,\"\")","v":""},0,"",{"$f":"IF(IF($AB647=\"D1\",$S647,\"\")=0,\"\",IF($AB647=\"D1\",$S647,\"\"))","v":""},{"$f":"IF(IF($AB647=\"D2\",$S647,\"\")=0,\"\",IF($AB647=\"D2\",$S647,\"\"))","v":""},{"$f":"IF(IF($AB647=\"D3\",$S647,\"\")=0,\"\",IF($AB647=\"D3\",$S647,\"\"))","v":""},null,{"$f":"X646","v":31},null,{"$f":"TEXT(Y645,\"ddd\")","v":"do"},"ND",{"$f":"IFERROR(HLOOKUP(Y645,[1]DATA!$A$1:$NB$5,5,0),\"\")","v":"D2"},null,null,null,null,{"$f":"VLOOKUP(Y645,[1]SRA!$S$4:$Z$368,8,0)","v":0},"","",""]
["31vrDD",{"$f":"VLOOKUP($AA648,DATA!$B$3:$E$6,2,0)","v":"06:30:00"},{"$f":"VLOOKUP($AA648,DATA!$B$3:$E$6,3,0)","v":"14:30:00"},{"$f":"VLOOKUP($AA648,DATA!$B$3:$E$6,4,0)","v":3.125E-2},0.30208333333333331,0.30208333333333331,{"$f":"DATA!$C$9","v":0.89},{"$f":"DATA!$C$10","v":64},1,407.8125,407.8125,0,"","",0,"","",0,"","","","",null,{"$f":"X646","v":31},"2018-08-03",{"$f":"TEXT(Y648,\"ddd\")","v":"vr"},"DD",{"$f":"IFERROR(HLOOKUP(Y648,[1]DATA!$A$1:$NB$5,3,0),\"\")","v":"D1"},null,null,null,null,{"$f":"VLOOKUP(Y648,[1]SRA!$S$4:$Z$368,6,0)","v":0},"","",""]
["31vrMD",{"$f":"VLOOKUP($AA649,DATA!$B$3:$E$6,2,0)","v":"14:30:00"},{"$f":"VLOOKUP($AA649,DATA!$B$3:$E$6,3,0)","v":"22:30:00"},{"$f":"VLOOKUP($AA649,DATA!$B$3:$E$6,4,0)","v":3.125E-2},0.30208333333333337,0.30208333333333337,{"$f":"DATA!$C$9","v":0.89},{"$f":"DATA!$C$10","v":64},1,407.81250000000006,407.81250000000006,0,"","",0,"","",0,"","","","",null,{"$f":"X646","v":31},null,{"$f":"TEXT(Y648,\"ddd\")","v":"vr"},"MD",{"$f":"IFERROR(HLOOKUP(Y648,[1]DATA!$A$1:$NB$5,4,0),\"\")","v":"D3"},null,null,null,null,{"$f":"VLOOKUP(Y648,[1]SRA!$S$4:$Z$368,7,0)","v":0},"","",""]
["31vrND",{"$f":"VLOOKUP($AA650,DATA!$B$3:$E$6,2,0)","v":"22:30:00"},{"$f":"VLOOKUP($AA650,DATA!$B$3:$E$6,3,0)","v":"06:30:00"},{"$f":"VLOOKUP($AA650,DATA!$B$3:$E$6,4,0)","v":3.125E-2},0.30208333333333326,0.30208333333333326,{"$f":"DATA!$C$9","v":0.89},{"$f":"DATA!$C$10","v":64},1,407.81249999999989,407.81249999999989,0,"","",0,"","",0,"","","","",null,{"$f":"X646","v":31},null,{"$f":"TEXT(Y648,\"ddd\")","v":"vr"},"ND",{"$f":"IFERROR(HLOOKUP(Y648,[1]DATA!$A$1:$NB$5,5,0),\"\")","v":"D2"},null,null,null,null,{"$f":"VLOOKUP(Y648,[1]SRA!$S$4:$Z$368,8,0)","v":0},"","",""]
["31zaDD",{"$f":"VLOOKUP($AA651,DATA!$B$3:$E$6,2,0)","v":"06:30:00"},{"$f":"VLOOKUP($AA651,DATA!$B$3:$E$6,3,0)","v":"14:30:00"},{"$f":"VLOOKUP($AA651,DATA!$B$3:$E$6,4,0)","v":3.125E-2},0.30208333333333331,0.30208333333333331,{"$f":"DATA!$C$9","v":0.89},{"$f":"DATA!$C$10","v":64},1,407.8125,407.8125,0,"","",0,"","",0,"","","","",null,{"$f":"X646","v":31},"2018-08-04",{"$f":"TEXT(Y651,\"ddd\")","v":"za"},"DD",{"$f":"IFERROR(HLOOKUP(Y651,[1]DATA!$A$1:$NB$5,3,0),\"\")","v":"D1"},null,null,null,null,{"$f":"VLOOKUP(Y651,[1]SRA!$S$4:$Z$368,6,0)","v":0},"","",""]
["31zaMD",{"$f":"VLOOKUP($AA652,DATA!$B$3:$E$6,2,0)","v":"14:30:00"},{"$f":"VLOOKUP($AA652,DATA!$B$3:$E$6,3,0)","v":"22:30:00"},{"$f":"VLOOKUP($AA652,DATA!$B$3:$E$6,4,0)","v":3.125E-2},0.30208333333333337,0.30208333333333337,{"$f":"DATA!$C$9","v":0.89},{"$f":"DATA!$C$10","v":64},1,407.81250000000006,407.81250000000006,0,"","",0,"","",0,"","","","",null,{"$f":"X646","v":31},null,{"$f":"TEXT(Y651,\"ddd\")","v":"za"},"MD",{"$f":"IFERROR(HLOOKUP(Y651,[1]DATA!$A$1:$NB$5,4,0),\"\")","v":"-"},null,null,null,null,{"$f":"VLOOKUP(Y651,[1]SRA!$S$4:$Z$368,7,0)","v":0},"","",""]
["31zaND",{"$f":"VLOOKUP($AA653,DATA!$B$3:$E$6,2,0)","v":"22:30:00"},{"$f":"VLOOKUP($AA653,DATA!$B$3:$E$6,3,0)","v":"06:30:00"},{"$f":"VLOOKUP($AA653,DATA!$B$3:$E$6,4,0)","v":3.125E-2},0.30208333333333326,0.30208333333333326,{"$f":"DATA!$C$9","v":0.89},{"$f":"DATA!$C$10","v":64},1,407.81249999999989,407.81249999999989,0,"","",0,"","",0,"","","","",null,{"$f":"X646","v":31},null,{"$f":"TEXT(Y651,\"ddd\")","v":"za"},"ND",{"$f":"IFERROR(HLOOKUP(Y651,[1]DATA!$A$1:$NB$5,5,0),\"\")","v":"-"},null,null,null,null,{"$f":"VLOOKUP(Y651,[1]SRA!$S$4:$Z$368,8,0)","v":0},"","",""]
["31zoDD",{"$f":"VLOOKUP($AA654,DATA!$B$3:$E$6,2,0)","v":"06:30:00"},{"$f":"VLOOKUP($AA654,DATA!$B$3:$E$6,3,0)","v":"14:30:00"},{"$f":"VLOOKUP($AA654,DATA!$B$3:$E$6,4,0)","v":3.125E-2},0.30208333333333331,0.30208333333333331,{"$f":"DATA!$C$9","v":0.89},{"$f":"DATA!$C$10","v":64},1,407.8125,407.8125,0,"","",0,"","",0,"","","","",null,{"$f":"X646","v":31},"2018-08-05",{"$f":"TEXT(Y654,\"ddd\")","v":"zo"},"DD",{"$f":"IFERROR(HLOOKUP(Y654,[1]DATA!$A$1:$NB$5,3,0),\"\")","v":"-"},null,null,null,null,{"$f":"VLOOKUP(Y654,[1]SRA!$S$4:$Z$368,6,0)","v":0},"","",""]
["31zoMD",{"$f":"VLOOKUP($AA655,DATA!$B$3:$E$6,2,0)","v":"14:30:00"},{"$f":"VLOOKUP($AA655,DATA!$B$3:$E$6,3,0)","v":"22:30:00"},{"$f":"VLOOKUP($AA655,DATA!$B$3:$E$6,4,0)","v":3.125E-2},0.30208333333333337,0.30208333333333337,{"$f":"DATA!$C$9","v":0.89},{"$f":"DATA!$C$10","v":64},1,407.81250000000006,407.81250000000006,0,"","",0,"","",0,"","","","",null,{"$f":"X646","v":31},null,{"$f":"TEXT(Y654,\"ddd\")","v":"zo"},"MD",{"$f":"IFERROR(HLOOKUP(Y654,[1]DATA!$A$1:$NB$5,4,0),\"\")","v":"-"},null,null,null,null,{"$f":"VLOOKUP(Y654,[1]SRA!$S$4:$Z$368,7,0)","v":0},"","",""]
["31zoZND",{"$f":"VLOOKUP($AA656,DATA!$B$3:$E$6,2,0)","v":"00:00:00"},{"$f":"VLOOKUP($AA656,DATA!$B$3:$E$6,3,0)","v":"00:00:00"},{"$f":"VLOOKUP($AA656,DATA!$B$3:$E$6,4,0)","v":0},0,0,{"$f":"DATA!$C$9","v":0.89},{"$f":"DATA!$C$10","v":64},1,0,0,0,"","",0,"","",0,"","","","",null,{"$f":"X646","v":31},null,{"$f":"TEXT(Y654,\"ddd\")","v":"zo"},"ZND",{"$f":"IFERROR(HLOOKUP(Y654,[1]DATA!$A$1:$NB$5,5,0),\"\")","v":"-"},null,null,null,null,{"$f":"VLOOKUP(Y654,[1]SRA!$S$4:$Z$368,8,0)","v":0},"","",""]
["32maDD",{"$f":"VLOOKUP($AA657,DATA!$B$3:$E$6,2,0)","v":"06:30:00"},{"$f":"VLOOKUP($AA657,DATA!$B$3:$E$6,3,0)","v":"14:30:00"},{"$f":"VLOOKUP($AA657,DATA!$B$3:$E$6,4,0)","v":3.125E-2},0.30208333333333331,0.30208333333333331,{"$f":"DATA!$C$9","v":0.89},{"$f":"DATA!$C$10","v":64},1,407.8125,407.8125,0,"","",{"$f":"TIME(INT($AD657/60),INT(MOD($AD657,60)/1),0)","v":0},"","",0,"","","","",null,{"$f":"X667","v":32},"2018-08-06",{"$f":"TEXT(Y657,\"ddd\")","v":"ma"},"DD",{"$f":"IFERROR(HLOOKUP(Y657,[1]DATA!$A$1:$NB$5,3,0),\"\")","v":"D3"},null,null,null,null,{"$f":"VLOOKUP(Y657,[1]SRA!$S$4:$AA$368,6,0)","v":0},"","","",{"$f":"IF(SUMIF(S657:S677,\">0\",K657:K677)=0,\"\",SUMIF(S657:S677,\">0\",K657:K677))","v":""},{"$f":"IF(SUM(S657:S677)=0,\"\",SUM(S657:S677))","v":""},{"$f":"IFERROR(AL657/AK657,\"-\")","v":"-"},{"$f":"IF(SUM(M657:M677)=0,\"0\",SUM(M657:M677))","v":"0"},{"$f":"IFERROR(AN657/AK657,\"-\")","v":"-"},{"$f":"IF(SUM(P657:P677)=0,0,SUM(P657:P677))","v":0},{"$f":"IFERROR(AP657/AK657,\"-\")","v":"-"},"-",{"$f":"IFERROR(SUMIF($AB657:$AB677,AS$5,$AJ657:$AJ677)/COUNTIFS($AB657:$AB677,AS$5,$AJ657:$AJ677,\">0\"),\"\")","v":""},"","",{"$f":"IFERROR((AK657-AL657-AN657-AP657),\"-\")","v":"-"},{"$f":"IFERROR((1-AM657-AO657-AQ657), \"-\")","v":"-"},{"$f":"IFERROR((AV657*$AE$2)/60,\"-\")","v":"-"},{"$f":"IFERROR(SUM(AG657:AG677),\"\")","v":0}]
["32maMD",{"$f":"VLOOKUP($AA658,DATA!$B$3:$E$6,2,0)","v":"14:30:00"},{"$f":"VLOOKUP($AA658,DATA!$B$3:$E$6,3,0)","v":"22:30:00"},{"$f":"VLOOKUP($AA658,DATA!$B$3:$E$6,4,0)","v":3.125E-2},0.30208333333333337,0.30208333333333337,{"$f":"DATA!$C$9","v":0.89},{"$f":"DATA!$C$10","v":64},1,407.81250000000006,407.81250000000006,0,"","",{"$f":"TIME(INT(AD658/60),INT(MOD(AD658,60)/1),0)","v":0},"","",0,"","","","",null,{"$f":"X667","v":32},null,{"$f":"TEXT(Y657,\"ddd\")","v":"ma"},"MD",{"$f":"IFERROR(HLOOKUP(Y657,[1]DATA!$A$1:$NB$5,4,0),\"\")","v":"D2"},null,null,null,null,{"$f":"VLOOKUP(Y657,[1]SRA!$S$4:$Z$368,7,0)","v":0},"","",""]
["32maND",{"$f":"VLOOKUP($AA659,DATA!$B$3:$E$6,2,0)","v":"22:30:00"},{"$f":"VLOOKUP($AA659,DATA!$B$3:$E$6,3,0)","v":"06:30:00"},{"$f":"VLOOKUP($AA659,DATA!$B$3:$E$6,4,0)","v":3.125E-2},0.30208333333333326,0.30208333333333326,{"$f":"DATA!$C$9","v":0.89},{"$f":"DATA!$C$10","v":64},1,407.81249999999989,407.81249999999989,0,"","",0,"","",0,"","","","",null,{"$f":"X667","v":32},null,{"$f":"TEXT(Y657,\"ddd\")","v":"ma"},"ND",{"$f":"IFERROR(HLOOKUP(Y657,[1]DATA!$A$1:$NB$5,5,0),\"\")","v":"D1"},null,null,null,null,{"$f":"VLOOKUP(Y657,[1]SRA!$S$4:$Z$368,8,0)","v":0},"","",""]
["32diDD",{"$f":"VLOOKUP($AA660,DATA!$B$3:$E$6,2,0)","v":"06:30:00"},{"$f":"VLOOKUP($AA660,DATA!$B$3:$E$6,3,0)","v":"14:30:00"},{"$f":"VLOOKUP($AA660,DATA!$B$3:$E$6,4,0)","v":3.125E-2},0.30208333333333331,0.30208333333333331,{"$f":"DATA!$C$9","v":0.89},{"$f":"DATA!$C$10","v":64},1,407.8125,407.8125,0,"","",0,"","",0,"","","","",null,{"$f":"X667","v":32},"2018-08-07",{"$f":"TEXT(Y660,\"ddd\")","v":"di"},"DD",{"$f":"IFERROR(HLOOKUP(Y660,[1]DATA!$A$1:$NB$5,3,0),\"\")","v":"D3"},null,null,null,null,{"$f":"VLOOKUP(Y660,[1]SRA!$S$4:$Z$368,6,0)","v":0},"","",""]
["32diMD",{"$f":"VLOOKUP($AA661,DATA!$B$3:$E$6,2,0)","v":"14:30:00"},{"$f":"VLOOKUP($AA661,DATA!$B$3:$E$6,3,0)","v":"22:30:00"},{"$f":"VLOOKUP($AA661,DATA!$B$3:$E$6,4,0)","v":3.125E-2},0.30208333333333337,0.30208333333333337,{"$f":"DATA!$C$9","v":0.89},{"$f":"DATA!$C$10","v":64},1,407.81250000000006,407.81250000000006,0,"","",0,"","",0,"","","","",null,{"$f":"X667","v":32},null,{"$f":"TEXT(Y660,\"ddd\")","v":"di"},"MD",{"$f":"IFERROR(HLOOKUP(Y660,[1]DATA!$A$1:$NB$5,4,0),\"\")","v":"D2"},null,null,null,null,{"$f":"VLOOKUP(Y660,[1]SRA!$S$4:$Z$368,7,0)","v":0},"","",""]
["32diND",{"$f":"VLOOKUP($AA662,DATA!$B$3:$E$6,2,0)","v":"22:30:00"},{"$f":"VLOOKUP($AA662,DATA!$B$3:$E$6,3,0)","v":"06:30:00"},{"$f":"VLOOKUP($AA662,DATA!$B$3:$E$6,4,0)","v":3.125E-2},0.30208333333333326,0.30208333333333326,{"$f":"DATA!$C$9","v":0.89},{"$f":"DATA!$C$10","v":64},1,407.81249999999989,407.81249999999989,0,"","",0,"","",0,"","","","",null,{"$f":"X667","v":32},null,{"$f":"TEXT(Y660,\"ddd\")","v":"di"},"ND",{"$f":"IFERROR(HLOOKUP(Y660,[1]DATA!$A$1:$NB$5,5,0),\"\")","v":"D1"},null,null,null,null,{"$f":"VLOOKUP(Y660,[1]SRA!$S$4:$Z$368,8,0)","v":0},"","",""]
["32woDD",{"$f":"VLOOKUP($AA663,DATA!$B$3:$E$6,2,0)","v":"06:30:00"},{"$f":"VLOOKUP($AA663,DATA!$B$3:$E$6,3,0)","v":"14:30:00"},{"$f":"VLOOKUP($AA663,DATA!$B$3:$E$6,4,0)","v":3.125E-2},0.30208333333333331,0.30208333333333331,{"$f":"DATA!$C$9","v":0.89},{"$f":"DATA!$C$10","v":64},1,407.8125,407.8125,0,"","",0,"","",0,"","","","",null,{"$f":"X667","v":32},"2018-08-08",{"$f":"TEXT(Y663,\"ddd\")","v":"wo"},"DD",{"$f":"IFERROR(HLOOKUP(Y663,[1]DATA!$A$1:$NB$5,3,0),\"\")","v":"D3"},null,null,null,null,{"$f":"VLOOKUP(Y663,[1]SRA!$S$4:$Z$368,6,0)","v":0},"","",""]
["32woMD",{"$f":"VLOOKUP($AA664,DATA!$B$3:$E$6,2,0)","v":"14:30:00"},{"$f":"VLOOKUP($AA664,DATA!$B$3:$E$6,3,0)","v":"22:30:00"},{"$f":"VLOOKUP($AA664,DATA!$B$3:$E$6,4,0)","v":3.125E-2},0.30208333333333337,0.30208333333333337,{"$f":"DATA!$C$9","v":0.89},{"$f":"DATA!$C$10","v":64},1,407.81250000000006,407.81250000000006,0,"","",0,"","",0,"","","","",null,{"$f":"X667","v":32},null,{"$f":"TEXT(Y663,\"ddd\")","v":"wo"},"MD",{"$f":"IFERROR(HLOOKUP(Y663,[1]DATA!$A$1:$NB$5,4,0),\"\")","v":"D2"},null,null,null,null,{"$f":"VLOOKUP(Y663,[1]SRA!$S$4:$Z$368,7,0)","v":0},"","",""]
["32woND",{"$f":"VLOOKUP($AA665,DATA!$B$3:$E$6,2,0)","v":"22:30:00"},{"$f":"VLOOKUP($AA665,DATA!$B$3:$E$6,3,0)","v":"06:30:00"},{"$f":"VLOOKUP($AA665,DATA!$B$3:$E$6,4,0)","v":3.125E-2},0.30208333333333326,0.30208333333333326,{"$f":"DATA!$C$9","v":0.89},{"$f":"DATA!$C$10","v":64},1,407.81249999999989,407.81249999999989,0,"","",0,"","",0,"","","","",null,{"$f":"X667","v":32},null,{"$f":"TEXT(Y663,\"ddd\")","v":"wo"},"ND",{"$f":"IFERROR(HLOOKUP(Y663,[1]DATA!$A$1:$NB$5,5,0),\"\")","v":"D1"},null,null,null,null,{"$f":"VLOOKUP(Y663,[1]SRA!$S$4:$Z$368,8,0)","v":0},"","",""]
["32doDD",{"$f":"VLOOKUP($AA666,DATA!$B$3:$E$6,2,0)","v":"06:30:00"},{"$f":"VLOOKUP($AA666,DATA!$B$3:$E$6,3,0)","v":"14:30:00"},{"$f":"VLOOKUP($AA666,DATA!$B$3:$E$6,4,0)","v":3.125E-2},0.30208333333333331,0.30208333333333331,{"$f":"DATA!$C$9","v":0.89},{"$f":"DATA!$C$10","v":64},1,407.8125,407.8125,0,"","",0,"","",0,"","","","",null,{"$f":"X667","v":32},"2018-08-09",{"$f":"TEXT(Y666,\"ddd\")","v":"do"},"DD",{"$f":"IFERROR(HLOOKUP(Y666,[1]DATA!$A$1:$NB$5,3,0),\"\")","v":"D3"},null,null,null,null,{"$f":"VLOOKUP(Y666,[1]SRA!$S$4:$Z$368,6,0)","v":0},"","",""]
["32doMD",{"$f":"VLOOKUP($AA667,DATA!$B$3:$E$6,2,0)","v":"14:30:00"},{"$f":"VLOOKUP($AA667,DATA!$B$3:$E$6,3,0)","v":"22:30:00"},{"$f":"VLOOKUP($AA667,DATA!$B$3:$E$6,4,0)","v":3.125E-2},0.30208333333333337,0.30208333333333337,{"$f":"DATA!$C$9","v":0.89},{"$f":"DATA!$C$10","v":64},1,407.81250000000006,407.81250000000006,0,"","",0,"","",0,"","","","",null,{"$f":"WEEKNUM($Y657)","v":32},null,{"$f":"TEXT(Y666,\"ddd\")","v":"do"},"MD",{"$f":"IFERROR(HLOOKUP(Y666,[1]DATA!$A$1:$NB$5,4,0),\"\")","v":"D2"},null,null,null,null,{"$f":"VLOOKUP(Y666,[1]SRA!$S$4:$Z$368,7,0)","v":0},"","",{"$f":"IFERROR(R667/(R667+AG667),\"\")","v":""}]
["32doND",{"$f":"VLOOKUP($AA668,DATA!$B$3:$E$6,2,0)","v":"22:30:00"},{"$f":"VLOOKUP($AA668,DATA!$B$3:$E$6,3,0)","v":"06:30:00"},{"$f":"VLOOKUP($AA668,DATA!$B$3:$E$6,4,0)","v":3.125E-2},{"$f":"(C668-B668+(B668>C668))-D668","v":0.30208333333333326},{"$f":"E668-O668-L668","v":0.30208333333333326},{"$f":"DATA!$C$9","v":0.89},{"$f":"DATA!$C$10","v":64},1,{"$f":"F668*86400/H668*I668","v":407.81249999999989},{"$f":"E668*86400/H668","v":407.81249999999989},0,"","",0,"","",{"$f":"AF668*AG$2","v":0},{"$f":"IF(AF668-AE668=0,\"\",AF668-AE668)","v":""},"","","",null,{"$f":"X667","v":32},null,{"$f":"TEXT(Y666,\"ddd\")","v":"do"},"ND",{"$f":"IFERROR(HLOOKUP(Y666,[1]DATA!$A$1:$NB$5,5,0),\"\")","v":"D1"},null,null,null,null,{"$f":"VLOOKUP(Y666,[1]SRA!$S$4:$Z$368,8,0)","v":0},"","",""]
["32vrDD",{"$f":"VLOOKUP($AA669,DATA!$B$3:$E$6,2,0)","v":"06:30:00"},{"$f":"VLOOKUP($AA669,DATA!$B$3:$E$6,3,0)","v":"14:30:00"},{"$f":"VLOOKUP($AA669,DATA!$B$3:$E$6,4,0)","v":3.125E-2},0.30208333333333331,0.30208333333333331,{"$f":"DATA!$C$9","v":0.89},{"$f":"DATA!$C$10","v":64},1,407.8125,407.8125,0,"","",0,"","",0,"","","","",null,{"$f":"X667","v":32},"2018-08-10",{"$f":"TEXT(Y669,\"ddd\")","v":"vr"},"DD",{"$f":"IFERROR(HLOOKUP(Y669,[1]DATA!$A$1:$NB$5,3,0),\"\")","v":"D3"},null,null,null,null,{"$f":"VLOOKUP(Y669,[1]SRA!$S$4:$Z$368,6,0)","v":0},"","",""]
["32vrMD",{"$f":"VLOOKUP($AA670,DATA!$B$3:$E$6,2,0)","v":"14:30:00"},{"$f":"VLOOKUP($AA670,DATA!$B$3:$E$6,3,0)","v":"22:30:00"},{"$f":"VLOOKUP($AA670,DATA!$B$3:$E$6,4,0)","v":3.125E-2},0.30208333333333337,0.30208333333333337,{"$f":"DATA!$C$9","v":0.89},{"$f":"DATA!$C$10","v":64},1,407.81250000000006,407.81250000000006,0,"","",0,"","",0,"","","","",null,{"$f":"X667","v":32},null,{"$f":"TEXT(Y669,\"ddd\")","v":"vr"},"MD",{"$f":"IFERROR(HLOOKUP(Y669,[1]DATA!$A$1:$NB$5,4,0),\"\")","v":"D2"},null,null,null,null,{"$f":"VLOOKUP(Y669,[1]SRA!$S$4:$Z$368,7,0)","v":0},"","",""]
["32vrND",{"$f":"VLOOKUP($AA671,DATA!$B$3:$E$6,2,0)","v":"22:30:00"},{"$f":"VLOOKUP($AA671,DATA!$B$3:$E$6,3,0)","v":"06:30:00"},{"$f":"VLOOKUP($AA671,DATA!$B$3:$E$6,4,0)","v":3.125E-2},0.30208333333333326,0.30208333333333326,{"$f":"DATA!$C$9","v":0.89},{"$f":"DATA!$C$10","v":64},1,407.81249999999989,407.81249999999989,0,"","",0,"","",0,"","","","",null,{"$f":"X667","v":32},null,{"$f":"TEXT(Y669,\"ddd\")","v":"vr"},"ND",{"$f":"IFERROR(HLOOKUP(Y669,[1]DATA!$A$1:$NB$5,5,0),\"\")","v":"D2"},null,null,null,null,{"$f":"VLOOKUP(Y669,[1]SRA!$S$4:$Z$368,8,0)","v":0},"","",""]
["32zaDD",{"$f":"VLOOKUP($AA672,DATA!$B$3:$E$6,2,0)","v":"06:30:00"},{"$f":"VLOOKUP($AA672,DATA!$B$3:$E$6,3,0)","v":"14:30:00"},{"$f":"VLOOKUP($AA672,DATA!$B$3:$E$6,4,0)","v":3.125E-2},0.30208333333333331,0.30208333333333331,{"$f":"DATA!$C$9","v":0.89},{"$f":"DATA!$C$10","v":64},1,407.8125,407.8125,0,"","",0,"","",0,"","","","",null,{"$f":"X667","v":32},"2018-08-11",{"$f":"TEXT(Y672,\"ddd\")","v":"za"},"DD",{"$f":"IFERROR(HLOOKUP(Y672,[1]DATA!$A$1:$NB$5,3,0),\"\")","v":"D3"},null,null,null,null,{"$f":"VLOOKUP(Y672,[1]SRA!$S$4:$Z$368,6,0)","v":0},"","",""]
["32zaMD",{"$f":"VLOOKUP($AA673,DATA!$B$3:$E$6,2,0)","v":"14:30:00"},{"$f":"VLOOKUP($AA673,DATA!$B$3:$E$6,3,0)","v":"22:30:00"},{"$f":"VLOOKUP($AA673,DATA!$B$3:$E$6,4,0)","v":3.125E-2},0.30208333333333337,0.30208333333333337,{"$f":"DATA!$C$9","v":0.89},{"$f":"DATA!$C$10","v":64},1,407.81250000000006,407.81250000000006,0,"","",0,"","",0,"","","","",null,{"$f":"X667","v":32},null,{"$f":"TEXT(Y672,\"ddd\")","v":"za"},"MD",{"$f":"IFERROR(HLOOKUP(Y672,[1]DATA!$A$1:$NB$5,4,0),\"\")","v":"-"},null,null,null,null,{"$f":"VLOOKUP(Y672,[1]SRA!$S$4:$Z$368,7,0)","v":0},"","",""]
["32zaND",{"$f":"VLOOKUP($AA674,DATA!$B$3:$E$6,2,0)","v":"22:30:00"},{"$f":"VLOOKUP($AA674,DATA!$B$3:$E$6,3,0)","v":"06:30:00"},{"$f":"VLOOKUP($AA674,DATA!$B$3:$E$6,4,0)","v":3.125E-2},0.30208333333333326,0.30208333333333326,{"$f":"DATA!$C$9","v":0.89},{"$f":"DATA!$C$10","v":64},1,407.81249999999989,407.81249999999989,0,"","",0,"","",0,"","","","",null,{"$f":"X667","v":32},null,{"$f":"TEXT(Y672,\"ddd\")","v":"za"},"ND",{"$f":"IFERROR(HLOOKUP(Y672,[1]DATA!$A$1:$NB$5,5,0),\"\")","v":"-"},null,null,null,null,{"$f":"VLOOKUP(Y672,[1]SRA!$S$4:$Z$368,8,0)","v":0},"","",""]
["32zoDD",{"$f":"VLOOKUP($AA675,DATA!$B$3:$E$6,2,0)","v":"06:30:00"},{"$f":"VLOOKUP($AA675,DATA!$B$3:$E$6,3,0)","v":"14:30:00"},{"$f":"VLOOKUP($AA675,DATA!$B$3:$E$6,4,0)","v":3.125E-2},0.30208333333333331,0.30208333333333331,{"$f":"DATA!$C$9","v":0.89},{"$f":"DATA!$C$10","v":64},1,407.8125,407.8125,0,"","",0,"","",0,"","","","",null,{"$f":"X667","v":32},"2018-08-12",{"$f":"TEXT(Y675,\"ddd\")","v":"zo"},"DD",{"$f":"IFERROR(HLOOKUP(Y675,[1]DATA!$A$1:$NB$5,3,0),\"\")","v":"-"},null,null,null,null,{"$f":"VLOOKUP(Y675,[1]SRA!$S$4:$Z$368,6,0)","v":0},"","",""]
["32zoMD",{"$f":"VLOOKUP($AA676,DATA!$B$3:$E$6,2,0)","v":"14:30:00"},{"$f":"VLOOKUP($AA676,DATA!$B$3:$E$6,3,0)","v":"22:30:00"},{"$f":"VLOOKUP($AA676,DATA!$B$3:$E$6,4,0)","v":3.125E-2},0.30208333333333337,0.30208333333333337,{"$f":"DATA!$C$9","v":0.89},{"$f":"DATA!$C$10","v":64},1,407.81250000000006,407.81250000000006,0,"","",0,"","",0,"","","","",null,{"$f":"X667","v":32},null,{"$f":"TEXT(Y675,\"ddd\")","v":"zo"},"MD",{"$f":"IFERROR(HLOOKUP(Y675,[1]DATA!$A$1:$NB$5,4,0),\"\")","v":"-"},null,null,null,null,{"$f":"VLOOKUP(Y675,[1]SRA!$S$4:$Z$368,7,0)","v":0},"","",""]
["32zoZND",{"$f":"VLOOKUP($AA677,DATA!$B$3:$E$6,2,0)","v":"00:00:00"},{"$f":"VLOOKUP($AA677,DATA!$B$3:$E$6,3,0)","v":"00:00:00"},{"$f":"VLOOKUP($AA677,DATA!$B$3:$E$6,4,0)","v":0},0,0,{"$f":"DATA!$C$9","v":0.89},{"$f":"DATA!$C$10","v":64},1,0,0,0,"","",0,"","",0,"","","","",null,{"$f":"X667","v":32},null,{"$f":"TEXT(Y675,\"ddd\")","v":"zo"},"ZND",{"$f":"IFERROR(HLOOKUP(Y675,[1]DATA!$A$1:$NB$5,5,0),\"\")","v":"-"},null,null,null,null,{"$f":"VLOOKUP(Y675,[1]SRA!$S$4:$Z$368,8,0)","v":0},"","",""]
["33maDD",{"$f":"VLOOKUP($AA678,DATA!$B$3:$E$6,2,0)","v":"06:30:00"},{"$f":"VLOOKUP($AA678,DATA!$B$3:$E$6,3,0)","v":"14:30:00"},{"$f":"VLOOKUP($AA678,DATA!$B$3:$E$6,4,0)","v":3.125E-2},0.30208333333333331,0.29097222222222219,{"$f":"DATA!$C$9","v":0.89},{"$f":"DATA!$C$10","v":64},1,392.81249999999994,407.8125,1.1111111111111112E-2,15,3.6781609195402298E-2,{"$f":"TIME(INT($AD678/60),INT(MOD($AD678,60)/1),0)","v":0},"","",338.13333333333333,293,"",293,"",null,{"$f":"X688","v":33},"2018-08-13",{"$f":"TEXT(Y678,\"ddd\")","v":"ma"},"DD",{"$f":"IFERROR(HLOOKUP(Y678,[1]DATA!$A$1:$NB$5,3,0),\"\")","v":"D2"},16,null,24,317,{"$f":"VLOOKUP(Y678,[1]SRA!$S$4:$AA$368,6,0)","v":4},-99.812499999999943,0.71846743295019155,0.98830865159781767,{"$f":"IF(SUMIF(S678:S698,\">0\",K678:K698)=0,\"\",SUMIF(S678:S698,\">0\",K678:K698))","v":6117.1875},{"$f":"IF(SUM(S678:S698)=0,\"\",SUM(S678:S698))","v":3954},{"$f":"IFERROR(AL678/AK678,\"-\")","v":0.64637547892720304},{"$f":"IF(SUM(M678:M698)=0,\"0\",SUM(M678:M698))","v":463.125},{"$f":"IFERROR(AN678/AK678,\"-\")","v":7.5708812260536398E-2},{"$f":"IF(SUM(P678:P698)=0,0,SUM(P678:P698))","v":0},{"$f":"IFERROR(AP678/AK678,\"-\")","v":0},{"$f":"IFERROR(AVERAGE(AJ678:AJ698),\"-\")","v":0.96365719109923964},{"$f":"IFERROR(SUMIF($AB678:$AB698,AS$5,$AJ678:$AJ698)/COUNTIFS($AB678:$AB698,AS$5,$AJ678:$AJ698,\">0\"),\"\")","v":0.99112542100682255},0.94363213907825527,0.95935948174623809,{"$f":"IFERROR((AK678-AL678-AN678-AP678),\"-\")","v":1700.0625},{"$f":"IFERROR((1-AM678-AO678-AQ678), \"-\")","v":0.27791570881226058},{"$f":"IFERROR((AV678*$AE$2)/60,\"-\")","v":1813.4},{"$f":"IFERROR(SUM(AG678:AG698),\"\")","v":174}]
["33maMD",{"$f":"VLOOKUP($AA679,DATA!$B$3:$E$6,2,0)","v":"14:30:00"},{"$f":"VLOOKUP($AA679,DATA!$B$3:$E$6,3,0)","v":"22:30:00"},{"$f":"VLOOKUP($AA679,DATA!$B$3:$E$6,4,0)","v":3.125E-2},0.30208333333333337,0.28055555555555561,{"$f":"DATA!$C$9","v":0.89},{"$f":"DATA!$C$10","v":64},1,378.75000000000006,407.81250000000006,2.1527777777777781E-2,29.062500000000004,7.1264367816091953E-2,{"$f":"TIME(INT(AD679/60),INT(MOD(AD679,60)/1),0)","v":0},"","",345.6,307,307,"","",null,{"$f":"X688","v":33},null,{"$f":"TEXT(Y678,\"ddd\")","v":"ma"},"MD",{"$f":"IFERROR(HLOOKUP(Y678,[1]DATA!$A$1:$NB$5,4,0),\"\")","v":"D1"},31,null,17,324,{"$f":"VLOOKUP(Y678,[1]SRA!$S$4:$Z$368,7,0)","v":0},-71.750000000000057,0.75279693486590027,1]
["33maND",{"$f":"VLOOKUP($AA680,DATA!$B$3:$E$6,2,0)","v":"22:30:00"},{"$f":"VLOOKUP($AA680,DATA!$B$3:$E$6,3,0)","v":"06:30:00"},{"$f":"VLOOKUP($AA680,DATA!$B$3:$E$6,4,0)","v":3.125E-2},0.30208333333333326,0.27361111111111103,{"$f":"DATA!$C$9","v":0.89},{"$f":"DATA!$C$10","v":64},1,369.37499999999989,407.81249999999989,2.8472222222222222E-2,38.4375,9.4252873563218417E-2,0,"","",306.13333333333333,268,"","",268,null,{"$f":"X688","v":33},null,{"$f":"TEXT(Y678,\"ddd\")","v":"ma"},"ND",{"$f":"IFERROR(HLOOKUP(Y678,[1]DATA!$A$1:$NB$5,5,0),\"\")","v":"D3"},41,null,19,287,{"$f":"VLOOKUP(Y678,[1]SRA!$S$4:$Z$368,8,0)","v":0},-101.37499999999989,0.65716475095785454,1]
["33diDD",{"$f":"VLOOKUP($AA681,DATA!$B$3:$E$6,2,0)","v":"06:30:00"},{"$f":"VLOOKUP($AA681,DATA!$B$3:$E$6,3,0)","v":"14:30:00"},{"$f":"VLOOKUP($AA681,DATA!$B$3:$E$6,4,0)","v":3.125E-2},0.30208333333333331,0.2722222222222222,{"$f":"DATA!$C$9","v":0.89},{"$f":"DATA!$C$10","v":64},1,367.49999999999994,407.8125,2.9861111111111113E-2,40.3125,9.8850574712643677E-2,0,"","",272,245,"",245,"",null,{"$f":"X688","v":33},"2018-08-14",{"$f":"TEXT(Y681,\"ddd\")","v":"di"},"DD",{"$f":"IFERROR(HLOOKUP(Y681,[1]DATA!$A$1:$NB$5,3,0),\"\")","v":"D2"},43,null,10,255,{"$f":"VLOOKUP(Y681,[1]SRA!$S$4:$Z$368,6,0)","v":45},-122.49999999999994,0.60076628352490424,0.85804416403785488]
["33diMD",{"$f":"VLOOKUP($AA682,DATA!$B$3:$E$6,2,0)","v":"14:30:00"},{"$f":"VLOOKUP($AA682,DATA!$B$3:$E$6,3,0)","v":"22:30:00"},{"$f":"VLOOKUP($AA682,DATA!$B$3:$E$6,4,0)","v":3.125E-2},0.30208333333333337,0.25763888888888892,{"$f":"DATA!$C$9","v":0.89},{"$f":"DATA!$C$10","v":64},1,347.81250000000006,407.81250000000006,4.4444444444444446E-2,60,0.14712643678160917,0,"","",265.60000000000002,238,238,"","",null,{"$f":"X688","v":33},null,{"$f":"TEXT(Y681,\"ddd\")","v":"di"},"MD",{"$f":"IFERROR(HLOOKUP(Y681,[1]DATA!$A$1:$NB$5,4,0),\"\")","v":"D1"},64,null,11,249,{"$f":"VLOOKUP(Y681,[1]SRA!$S$4:$Z$368,7,0)","v":0},-109.81250000000006,0.58360153256704972,1]
["33diND",{"$f":"VLOOKUP($AA683,DATA!$B$3:$E$6,2,0)","v":"22:30:00"},{"$f":"VLOOKUP($AA683,DATA!$B$3:$E$6,3,0)","v":"06:30:00"},{"$f":"VLOOKUP($AA683,DATA!$B$3:$E$6,4,0)","v":3.125E-2},0.30208333333333326,0.29166666666666657,{"$f":"DATA!$C$9","v":0.89},{"$f":"DATA!$C$10","v":64},1,393.74999999999989,407.81249999999989,1.0416666666666666E-2,14.0625,3.4482758620689662E-2,0,"","",260.26666666666665,231,"","",231,null,{"$f":"X688","v":33},null,{"$f":"TEXT(Y681,\"ddd\")","v":"di"},"ND",{"$f":"IFERROR(HLOOKUP(Y681,[1]DATA!$A$1:$NB$5,5,0),\"\")","v":"D3"},15,null,13,244,{"$f":"VLOOKUP(Y681,[1]SRA!$S$4:$Z$368,8,0)","v":35},-162.74999999999989,0.56643678160919553,0.8814630842176564]
["33woDD",{"$f":"VLOOKUP($AA684,DATA!$B$3:$E$6,2,0)","v":"06:30:00"},{"$f":"VLOOKUP($AA684,DATA!$B$3:$E$6,3,0)","v":"14:30:00"},{"$f":"VLOOKUP($AA684,DATA!$B$3:$E$6,4,0)","v":3.125E-2},0.30208333333333331,0.26111111111111107,{"$f":"DATA!$C$9","v":0.89},{"$f":"DATA!$C$10","v":64},1,352.49999999999994,407.8125,4.0972222222222222E-2,55.3125,0.13563218390804599,0,"","",302.93333333333334,266,"",266,"",null,{"$f":"X688","v":33},"2018-08-15",{"$f":"TEXT(Y684,\"ddd\")","v":"wo"},"DD",{"$f":"IFERROR(HLOOKUP(Y684,[1]DATA!$A$1:$NB$5,3,0),\"\")","v":"D2"},59,null,18,284,{"$f":"VLOOKUP(Y684,[1]SRA!$S$4:$Z$368,6,0)","v":31},-86.499999999999943,0.65226053639846748,0.90716709922140149]
["33woMD",{"$f":"VLOOKUP($AA685,DATA!$B$3:$E$6,2,0)","v":"14:30:00"},{"$f":"VLOOKUP($AA685,DATA!$B$3:$E$6,3,0)","v":"22:30:00"},{"$f":"VLOOKUP($AA685,DATA!$B$3:$E$6,4,0)","v":3.125E-2},0.30208333333333337,0.22361111111111115,{"$f":"DATA!$C$9","v":0.89},{"$f":"DATA!$C$10","v":64},1,301.87500000000006,407.81250000000006,7.8472222222222221E-2,105.9375,0.25977011494252872,0,"","",329.6,291,291,"","",null,{"$f":"X688","v":33},null,{"$f":"TEXT(Y684,\"ddd\")","v":"wo"},"MD",{"$f":"IFERROR(HLOOKUP(Y684,[1]DATA!$A$1:$NB$5,4,0),\"\")","v":"D1"},113,null,18,309,{"$f":"VLOOKUP(Y684,[1]SRA!$S$4:$Z$368,7,0)","v":3},-10.875000000000057,0.7135632183908045,0.99098015634395675]
["33woND",{"$f":"VLOOKUP($AA686,DATA!$B$3:$E$6,2,0)","v":"22:30:00"},{"$f":"VLOOKUP($AA686,DATA!$B$3:$E$6,3,0)","v":"06:30:00"},{"$f":"VLOOKUP($AA686,DATA!$B$3:$E$6,4,0)","v":3.125E-2},0.30208333333333326,0.29583333333333328,{"$f":"DATA!$C$9","v":0.89},{"$f":"DATA!$C$10","v":64},1,399.37499999999994,407.81249999999989,6.2499999999999995E-3,8.4375,2.06896551724138E-2,0,"","",257.06666666666666,226,"","",226,null,{"$f":"X688","v":33},null,{"$f":"TEXT(Y684,\"ddd\")","v":"wo"},"ND",{"$f":"IFERROR(HLOOKUP(Y684,[1]DATA!$A$1:$NB$5,5,0),\"\")","v":"D3"},9,null,15,241,{"$f":"VLOOKUP(Y684,[1]SRA!$S$4:$Z$368,8,0)","v":0},-173.37499999999994,0.55417624521072817,1]
["33doDD",{"$f":"VLOOKUP($AA687,DATA!$B$3:$E$6,2,0)","v":"06:30:00"},{"$f":"VLOOKUP($AA687,DATA!$B$3:$E$6,3,0)","v":"14:30:00"},{"$f":"VLOOKUP($AA687,DATA!$B$3:$E$6,4,0)","v":3.125E-2},0.30208333333333331,0.29027777777777775,{"$f":"DATA!$C$9","v":0.89},{"$f":"DATA!$C$10","v":64},1,391.87499999999994,407.8125,1.1805555555555555E-2,15.9375,3.9080459770114942E-2,0,"","",238.93333333333334,215,"",215,"",null,{"$f":"X688","v":33},"2018-08-16",{"$f":"TEXT(Y687,\"ddd\")","v":"do"},"DD",{"$f":"IFERROR(HLOOKUP(Y687,[1]DATA!$A$1:$NB$5,3,0),\"\")","v":"D2"},17,null,9,224,{"$f":"VLOOKUP(Y687,[1]SRA!$S$4:$Z$368,6,0)","v":2},-176.87499999999994,0.52720306513409965,0.99169894853348095]
[{"$f":"X688&Z688&AA688","v":"33doMD"},{"$f":"VLOOKUP($AA688,DATA!$B$3:$E$6,2,0)","v":"14:30:00"},{"$f":"VLOOKUP($AA688,DATA!$B$3:$E$6,3,0)","v":"22:30:00"},{"$f":"VLOOKUP($AA688,DATA!$B$3:$E$6,4,0)","v":3.125E-2},0.30208333333333337,0.27847222222222223,{"$f":"DATA!$C$9","v":0.89},{"$f":"DATA!$C$10","v":64},1,375.9375,407.81250000000006,2.361111111111111E-2,31.875,7.816091954022987E-2,0,{"$f":"IF($O688*86400/$H688=0,\"\",$O688*86400/$H688)","v":""},"",284.8,263,263,"","",null,{"$f":"WEEKNUM($Y678)","v":33},null,{"$f":"TEXT(Y687,\"ddd\")","v":"do"},"MD",{"$f":"IFERROR(HLOOKUP(Y687,[1]DATA!$A$1:$NB$5,4,0),\"\")","v":"D1"},34,null,4,267,{"$f":"VLOOKUP(Y687,[1]SRA!$S$4:$Z$368,7,0)","v":6},-112.9375,0.64490421455938685,0.97936726272352137]
["33doND",{"$f":"VLOOKUP($AA689,DATA!$B$3:$E$6,2,0)","v":"22:30:00"},{"$f":"VLOOKUP($AA689,DATA!$B$3:$E$6,3,0)","v":"06:30:00"},{"$f":"VLOOKUP($AA689,DATA!$B$3:$E$6,4,0)","v":3.125E-2},0.30208333333333326,0.29930555555555549,{"$f":"DATA!$C$9","v":0.89},{"$f":"DATA!$C$10","v":64},1,404.06249999999989,407.81249999999989,2.7777777777777779E-3,3.75,9.1954022988505781E-3,0,"","",304,262,"","",262,null,{"$f":"X688","v":33},null,{"$f":"TEXT(Y687,\"ddd\")","v":"do"},"ND",{"$f":"IFERROR(HLOOKUP(Y687,[1]DATA!$A$1:$NB$5,5,0),\"\")","v":"D3"},4,null,23,285,{"$f":"VLOOKUP(Y687,[1]SRA!$S$4:$Z$368,8,0)","v":14},-142.06249999999989,0.64245210727969371,0.95597484276729561]
["33vrDD",{"$f":"VLOOKUP($AA690,DATA!$B$3:$E$6,2,0)","v":"06:30:00"},{"$f":"VLOOKUP($AA690,DATA!$B$3:$E$6,3,0)","v":"14:30:00"},{"$f":"VLOOKUP($AA690,DATA!$B$3:$E$6,4,0)","v":3.125E-2},0.30208333333333331,0.28888888888888886,{"$f":"DATA!$C$9","v":0.89},{"$f":"DATA!$C$10","v":64},1,389.99999999999994,407.8125,1.3194444444444444E-2,17.8125,4.3678160919540229E-2,0,"","",329.6,298,"",298,"",null,{"$f":"X688","v":33},"2018-08-17",{"$f":"TEXT(Y690,\"ddd\")","v":"vr"},"DD",{"$f":"IFERROR(HLOOKUP(Y690,[1]DATA!$A$1:$NB$5,3,0),\"\")","v":"D2"},19,null,11,309,{"$f":"VLOOKUP(Y690,[1]SRA!$S$4:$Z$368,6,0)","v":30},-91.999999999999943,0.73072796934865902,0.91657397107897665]
["33vrMD",{"$f":"VLOOKUP($AA691,DATA!$B$3:$E$6,2,0)","v":"14:30:00"},{"$f":"VLOOKUP($AA691,DATA!$B$3:$E$6,3,0)","v":"22:30:00"},{"$f":"VLOOKUP($AA691,DATA!$B$3:$E$6,4,0)","v":3.125E-2},0.30208333333333337,0.29722222222222228,{"$f":"DATA!$C$9","v":0.89},{"$f":"DATA!$C$10","v":64},1,401.25000000000006,407.81250000000006,4.8611111111111112E-3,6.5625,1.6091954022988502E-2,0,"","",267.73333333333335,243,243,"","",null,{"$f":"X688","v":33},null,{"$f":"TEXT(Y690,\"ddd\")","v":"vr"},"MD",{"$f":"IFERROR(HLOOKUP(Y690,[1]DATA!$A$1:$NB$5,4,0),\"\")","v":"D1"},7,null,8,251,{"$f":"VLOOKUP(Y690,[1]SRA!$S$4:$Z$368,7,0)","v":4},-158.25000000000006,0.59586206896551719,0.98527968596663396]
["33vrND",{"$f":"VLOOKUP($AA692,DATA!$B$3:$E$6,2,0)","v":"22:30:00"},{"$f":"VLOOKUP($AA692,DATA!$B$3:$E$6,3,0)","v":"06:30:00"},{"$f":"VLOOKUP($AA692,DATA!$B$3:$E$6,4,0)","v":3.125E-2},0.30208333333333326,0.30208333333333326,{"$f":"DATA!$C$9","v":0.89},{"$f":"DATA!$C$10","v":64},1,407.81249999999989,407.81249999999989,0,"","",0,"","",0,"","","","",null,{"$f":"X688","v":33},null,{"$f":"TEXT(Y690,\"ddd\")","v":"vr"},"ND",{"$f":"IFERROR(HLOOKUP(Y690,[1]DATA!$A$1:$NB$5,5,0),\"\")","v":"D3"},0,null,0,0,{"$f":"VLOOKUP(Y690,[1]SRA!$S$4:$Z$368,8,0)","v":0},"","",""]
["33zaDD",{"$f":"VLOOKUP($AA693,DATA!$B$3:$E$6,2,0)","v":"06:30:00"},{"$f":"VLOOKUP($AA693,DATA!$B$3:$E$6,3,0)","v":"14:30:00"},{"$f":"VLOOKUP($AA693,DATA!$B$3:$E$6,4,0)","v":3.125E-2},0.30208333333333331,0.28680555555555554,{"$f":"DATA!$C$9","v":0.89},{"$f":"DATA!$C$10","v":64},1,387.1875,407.8125,1.5277777777777777E-2,20.625,5.057471264367816E-2,0,"","",345.6,308,"",308,"",null,{"$f":"X688","v":33},"2018-08-18",{"$f":"TEXT(Y693,\"ddd\")","v":"za"},"DD",{"$f":"IFERROR(HLOOKUP(Y693,[1]DATA!$A$1:$NB$5,3,0),\"\")","v":"D2"},22,null,16,324,{"$f":"VLOOKUP(Y693,[1]SRA!$S$4:$Z$368,6,0)","v":0},-79.1875,0.75524904214559385,1]
["33zaMD",{"$f":"VLOOKUP($AA694,DATA!$B$3:$E$6,2,0)","v":"14:30:00"},{"$f":"VLOOKUP($AA694,DATA!$B$3:$E$6,3,0)","v":"22:30:00"},{"$f":"VLOOKUP($AA694,DATA!$B$3:$E$6,4,0)","v":3.125E-2},0.30208333333333337,0.30208333333333337,{"$f":"DATA!$C$9","v":0.89},{"$f":"DATA!$C$10","v":64},1,407.81250000000006,407.81250000000006,0,"","",0,"","",0,"","","","",null,{"$f":"X688","v":33},null,{"$f":"TEXT(Y693,\"ddd\")","v":"za"},"MD",{"$f":"IFERROR(HLOOKUP(Y693,[1]DATA!$A$1:$NB$5,4,0),\"\")","v":"-"},null,null,null,null,{"$f":"VLOOKUP(Y693,[1]SRA!$S$4:$Z$368,7,0)","v":0},"","",""]
["33zaND",{"$f":"VLOOKUP($AA695,DATA!$B$3:$E$6,2,0)","v":"22:30:00"},{"$f":"VLOOKUP($AA695,DATA!$B$3:$E$6,3,0)","v":"06:30:00"},{"$f":"VLOOKUP($AA695,DATA!$B$3:$E$6,4,0)","v":3.125E-2},0.30208333333333326,0.30208333333333326,{"$f":"DATA!$C$9","v":0.89},{"$f":"DATA!$C$10","v":64},1,407.81249999999989,407.81249999999989,0,"","",0,"","",0,"","","","",null,{"$f":"X688","v":33},null,{"$f":"TEXT(Y693,\"ddd\")","v":"za"},"ND",{"$f":"IFERROR(HLOOKUP(Y693,[1]DATA!$A$1:$NB$5,5,0),\"\")","v":"-"},null,null,null,null,{"$f":"VLOOKUP(Y693,[1]SRA!$S$4:$Z$368,8,0)","v":0},"","",""]
["33zoDD",{"$f":"VLOOKUP($AA696,DATA!$B$3:$E$6,2,0)","v":"06:30:00"},{"$f":"VLOOKUP($AA696,DATA!$B$3:$E$6,3,0)","v":"14:30:00"},{"$f":"VLOOKUP($AA696,DATA!$B$3:$E$6,4,0)","v":3.125E-2},0.30208333333333331,0.30208333333333331,{"$f":"DATA!$C$9","v":0.89},{"$f":"DATA!$C$10","v":64},1,407.8125,407.8125,0,"","",0,"","",0,"","","","",null,{"$f":"X688","v":33},{"$f":"Y693+1","v":"2018-08-19"},{"$f":"TEXT(Y696,\"ddd\")","v":"zo"},"DD",{"$f":"IFERROR(HLOOKUP(Y696,[1]DATA!$A$1:$NB$5,3,0),\"\")","v":"-"},null,null,null,null,{"$f":"VLOOKUP(Y696,[1]SRA!$S$4:$Z$368,6,0)","v":0},"","",""]
["33zoMD",{"$f":"VLOOKUP($AA697,DATA!$B$3:$E$6,2,0)","v":"14:30:00"},{"$f":"VLOOKUP($AA697,DATA!$B$3:$E$6,3,0)","v":"22:30:00"},{"$f":"VLOOKUP($AA697,DATA!$B$3:$E$6,4,0)","v":3.125E-2},0.30208333333333337,0.30208333333333337,{"$f":"DATA!$C$9","v":0.89},{"$f":"DATA!$C$10","v":64},1,407.81250000000006,407.81250000000006,0,"","",0,"","",0,"","","","",null,{"$f":"X688","v":33},null,{"$f":"TEXT(Y696,\"ddd\")","v":"zo"},"MD",{"$f":"IFERROR(HLOOKUP(Y696,[1]DATA!$A$1:$NB$5,4,0),\"\")","v":"-"},null,null,null,null,{"$f":"VLOOKUP(Y696,[1]SRA!$S$4:$Z$368,7,0)","v":0},"","",""]
["33zoZND",{"$f":"VLOOKUP($AA698,DATA!$B$3:$E$6,2,0)","v":"00:00:00"},{"$f":"VLOOKUP($AA698,DATA!$B$3:$E$6,3,0)","v":"00:00:00"},{"$f":"VLOOKUP($AA698,DATA!$B$3:$E$6,4,0)","v":0},0,0,{"$f":"DATA!$C$9","v":0.89},{"$f":"DATA!$C$10","v":64},1,0,0,0,"","",0,"","",0,"","","","",null,{"$f":"X688","v":33},null,{"$f":"TEXT(Y696,\"ddd\")","v":"zo"},"ZND",{"$f":"IFERROR(HLOOKUP(Y696,[1]DATA!$A$1:$NB$5,5,0),\"\")","v":"-"},null,null,null,null,{"$f":"VLOOKUP(Y696,[1]SRA!$S$4:$Z$368,8,0)","v":0},"","",""]
["34maDD",{"$f":"VLOOKUP($AA699,DATA!$B$3:$E$6,2,0)","v":"06:30:00"},{"$f":"VLOOKUP($AA699,DATA!$B$3:$E$6,3,0)","v":"14:30:00"},{"$f":"VLOOKUP($AA699,DATA!$B$3:$E$6,4,0)","v":3.125E-2},0.30208333333333331,0.26597222222222222,{"$f":"DATA!$C$9","v":0.89},{"$f":"DATA!$C$10","v":64},1,359.0625,407.8125,3.6111111111111115E-2,48.750000000000007,0.11954022988505748,{"$f":"TIME(INT($AD699/60),INT(MOD($AD699,60)/1),0)","v":0},"","",281.60000000000002,249,249,"","",null,{"$f":"X709","v":34},"2018-08-20",{"$f":"TEXT(Y699,\"ddd\")","v":"ma"},"DD",{"$f":"IFERROR(HLOOKUP(Y699,[1]DATA!$A$1:$NB$5,3,0),\"\")","v":"D1"},52,null,15,264,{"$f":"VLOOKUP(Y699,[1]SRA!$S$4:$AA$368,6,0)","v":3},-110.0625,0.61057471264367813,0.98945888966971185,{"$f":"IF(SUMIF(S699:S719,\">0\",K699:K719)=0,\"\",SUMIF(S699:S719,\">0\",K699:K719))","v":6117.1875},{"$f":"IF(SUM(S699:S719)=0,\"\",SUM(S699:S719))","v":4440},{"$f":"IFERROR(AL699/AK699,\"-\")","v":0.72582375478927208},{"$f":"IF(SUM(M699:M719)=0,\"0\",SUM(M699:M719))","v":352.5},{"$f":"IFERROR(AN699/AK699,\"-\")","v":5.7624521072796933E-2},{"$f":"IF(SUM(P699:P719)=0,0,SUM(P699:P719))","v":0},{"$f":"IFERROR(AP699/AK699,\"-\")","v":0},0.96876336532219176,{"$f":"IFERROR(SUMIF($AB699:$AB719,AS$5,$AJ699:$AJ719)/COUNTIFS($AB699:$AB719,AS$5,$AJ699:$AJ719,\">0\"),\"\")","v":0.98995554162993871},0.9712603917003374,0.9450741626362994,{"$f":"IFERROR((AK699-AL699-AN699-AP699),\"-\")","v":1324.6875},{"$f":"IFERROR((1-AM699-AO699-AQ699), \"-\")","v":0.216551724137931},{"$f":"IFERROR((AV699*$AE$2)/60,\"-\")","v":1413},{"$f":"IFERROR(SUM(AG699:AG719),\"\")","v":165}]
["34maMD",{"$f":"VLOOKUP($AA700,DATA!$B$3:$E$6,2,0)","v":"14:30:00"},{"$f":"VLOOKUP($AA700,DATA!$B$3:$E$6,3,0)","v":"22:30:00"},{"$f":"VLOOKUP($AA700,DATA!$B$3:$E$6,4,0)","v":3.125E-2},0.30208333333333337,0.30138888888888893,{"$f":"DATA!$C$9","v":0.89},{"$f":"DATA!$C$10","v":64},1,406.87500000000006,407.81250000000006,6.9444444444444447E-4,0.9375,2.2988505747126432E-3,{"$f":"TIME(INT(AD700/60),INT(MOD(AD700,60)/1),0)","v":0},"","",325.33333333333331,296,"","",296,null,{"$f":"X709","v":34},null,{"$f":"TEXT(Y699,\"ddd\")","v":"ma"},"MD",{"$f":"IFERROR(HLOOKUP(Y699,[1]DATA!$A$1:$NB$5,4,0),\"\")","v":"D3"},1,null,9,305,{"$f":"VLOOKUP(Y699,[1]SRA!$S$4:$Z$368,7,0)","v":7},-110.87500000000006,0.72582375478927197,0.97893681043129388]
["34maND",{"$f":"VLOOKUP($AA701,DATA!$B$3:$E$6,2,0)","v":"22:30:00"},{"$f":"VLOOKUP($AA701,DATA!$B$3:$E$6,3,0)","v":"06:30:00"},{"$f":"VLOOKUP($AA701,DATA!$B$3:$E$6,4,0)","v":3.125E-2},0.30208333333333326,0.26249999999999996,{"$f":"DATA!$C$9","v":0.89},{"$f":"DATA!$C$10","v":64},1,354.37499999999994,407.81249999999989,3.9583333333333331E-2,53.4375,0.13103448275862073,0,"","",278.39999999999998,253,"",253,"",null,{"$f":"X709","v":34},null,{"$f":"TEXT(Y699,\"ddd\")","v":"ma"},"ND",{"$f":"IFERROR(HLOOKUP(Y699,[1]DATA!$A$1:$NB$5,5,0),\"\")","v":"D2"},57,null,8,261,{"$f":"VLOOKUP(Y699,[1]SRA!$S$4:$Z$368,8,0)","v":10},-101.37499999999994,0.62038314176245224,0.96532593619972262]
["34diDD",{"$f":"VLOOKUP($AA702,DATA!$B$3:$E$6,2,0)","v":"06:30:00"},{"$f":"VLOOKUP($AA702,DATA!$B$3:$E$6,3,0)","v":"14:30:00"},{"$f":"VLOOKUP($AA702,DATA!$B$3:$E$6,4,0)","v":3.125E-2},0.30208333333333331,0.28125,{"$f":"DATA!$C$9","v":0.89},{"$f":"DATA!$C$10","v":64},1,379.6875,407.8125,2.0833333333333332E-2,28.125,6.8965517241379309E-2,0,"","",340.26666666666665,304,304,"","",null,{"$f":"X709","v":34},"2018-08-21",{"$f":"TEXT(Y702,\"ddd\")","v":"di"},"DD",{"$f":"IFERROR(HLOOKUP(Y702,[1]DATA!$A$1:$NB$5,3,0),\"\")","v":"D1"},30,null,15,319,{"$f":"VLOOKUP(Y702,[1]SRA!$S$4:$Z$368,6,0)","v":2},-75.6875,0.74544061302681996,0.99415660303856646]
["34diMD",{"$f":"VLOOKUP($AA703,DATA!$B$3:$E$6,2,0)","v":"14:30:00"},{"$f":"VLOOKUP($AA703,DATA!$B$3:$E$6,3,0)","v":"22:30:00"},{"$f":"VLOOKUP($AA703,DATA!$B$3:$E$6,4,0)","v":3.125E-2},0.30208333333333337,0.28819444444444448,{"$f":"DATA!$C$9","v":0.89},{"$f":"DATA!$C$10","v":64},1,389.06250000000006,407.81250000000006,1.3888888888888888E-2,18.75,4.5977011494252866E-2,0,"","",337.06666666666666,302,"","",302,null,{"$f":"X709","v":34},null,{"$f":"TEXT(Y702,\"ddd\")","v":"di"},"MD",{"$f":"IFERROR(HLOOKUP(Y702,[1]DATA!$A$1:$NB$5,4,0),\"\")","v":"D3"},20,null,14,316,{"$f":"VLOOKUP(Y702,[1]SRA!$S$4:$Z$368,7,0)","v":21},-87.062500000000057,0.7405363984674328,0.94135170359337184]
["34diND",{"$f":"VLOOKUP($AA704,DATA!$B$3:$E$6,2,0)","v":"22:30:00"},{"$f":"VLOOKUP($AA704,DATA!$B$3:$E$6,3,0)","v":"06:30:00"},{"$f":"VLOOKUP($AA704,DATA!$B$3:$E$6,4,0)","v":3.125E-2},0.30208333333333326,0.29097222222222213,{"$f":"DATA!$C$9","v":0.89},{"$f":"DATA!$C$10","v":64},1,392.81249999999989,407.81249999999989,1.1111111111111112E-2,15,3.6781609195402312E-2,0,"","",317.86666666666667,272,"",272,"",null,{"$f":"X709","v":34},null,{"$f":"TEXT(Y702,\"ddd\")","v":"di"},"ND",{"$f":"IFERROR(HLOOKUP(Y702,[1]DATA!$A$1:$NB$5,5,0),\"\")","v":"D2"},16,null,26,298,{"$f":"VLOOKUP(Y702,[1]SRA!$S$4:$Z$368,8,0)","v":22},-120.81249999999989,0.66697318007662854,0.93526873283640644]
["34woDD",{"$f":"VLOOKUP($AA705,DATA!$B$3:$E$6,2,0)","v":"06:30:00"},{"$f":"VLOOKUP($AA705,DATA!$B$3:$E$6,3,0)","v":"14:30:00"},{"$f":"VLOOKUP($AA705,DATA!$B$3:$E$6,4,0)","v":3.125E-2},0.30208333333333331,0.29791666666666666,{"$f":"DATA!$C$9","v":0.89},{"$f":"DATA!$C$10","v":64},1,402.1875,407.8125,4.1666666666666666E-3,5.625,1.3793103448275862E-2,0,"","",402.13333333333333,348,348,"","",null,{"$f":"X709","v":34},"2018-08-22",{"$f":"TEXT(Y705,\"ddd\")","v":"wo"},"DD",{"$f":"IFERROR(HLOOKUP(Y705,[1]DATA!$A$1:$NB$5,3,0),\"\")","v":"D1"},6,null,29,377,{"$f":"VLOOKUP(Y705,[1]SRA!$S$4:$Z$368,6,0)","v":5},-54.1875,0.85333333333333339,0.98771901097101689]
["34woMD",{"$f":"VLOOKUP($AA706,DATA!$B$3:$E$6,2,0)","v":"14:30:00"},{"$f":"VLOOKUP($AA706,DATA!$B$3:$E$6,3,0)","v":"22:30:00"},{"$f":"VLOOKUP($AA706,DATA!$B$3:$E$6,4,0)","v":3.125E-2},0.30208333333333337,0.26527777777777783,{"$f":"DATA!$C$9","v":0.89},{"$f":"DATA!$C$10","v":64},1,358.12500000000006,407.81250000000006,3.6805555555555557E-2,49.6875,0.1218390804597701,0,"","",288,264,"","",264,null,{"$f":"X709","v":34},null,{"$f":"TEXT(Y705,\"ddd\")","v":"wo"},"MD",{"$f":"IFERROR(HLOOKUP(Y705,[1]DATA!$A$1:$NB$5,4,0),\"\")","v":"D3"},53,null,6,270,{"$f":"VLOOKUP(Y705,[1]SRA!$S$4:$Z$368,7,0)","v":0},-94.125000000000057,0.64735632183908032,1]
["34woND",{"$f":"VLOOKUP($AA707,DATA!$B$3:$E$6,2,0)","v":"22:30:00"},{"$f":"VLOOKUP($AA707,DATA!$B$3:$E$6,3,0)","v":"06:30:00"},{"$f":"VLOOKUP($AA707,DATA!$B$3:$E$6,4,0)","v":3.125E-2},0.30208333333333326,0.27222222222222214,{"$f":"DATA!$C$9","v":0.89},{"$f":"DATA!$C$10","v":64},1,367.49999999999989,407.81249999999989,2.9861111111111113E-2,40.3125,9.8850574712643705E-2,0,"","",257.06666666666666,231,"",231,"",null,{"$f":"X709","v":34},null,{"$f":"TEXT(Y705,\"ddd\")","v":"wo"},"ND",{"$f":"IFERROR(HLOOKUP(Y705,[1]DATA!$A$1:$NB$5,5,0),\"\")","v":"D2"},43,null,10,241,{"$f":"VLOOKUP(Y705,[1]SRA!$S$4:$Z$368,8,0)","v":6},-136.49999999999989,0.56643678160919553,0.97719209325899647]
["34doDD",{"$f":"VLOOKUP($AA708,DATA!$B$3:$E$6,2,0)","v":"06:30:00"},{"$f":"VLOOKUP($AA708,DATA!$B$3:$E$6,3,0)","v":"14:30:00"},{"$f":"VLOOKUP($AA708,DATA!$B$3:$E$6,4,0)","v":3.125E-2},0.30208333333333331,0.27430555555555552,{"$f":"DATA!$C$9","v":0.89},{"$f":"DATA!$C$10","v":64},1,370.31249999999994,407.8125,2.7777777777777776E-2,37.5,9.1954022988505746E-2,0,"","",348.8,312,312,"","",null,{"$f":"X709","v":34},"2018-08-23",{"$f":"TEXT(Y708,\"ddd\")","v":"do"},"DD",{"$f":"IFERROR(HLOOKUP(Y708,[1]DATA!$A$1:$NB$5,3,0),\"\")","v":"D1"},40,null,15,327,{"$f":"VLOOKUP(Y708,[1]SRA!$S$4:$Z$368,6,0)","v":5},-58.312499999999943,0.76505747126436785,0.98586772187676652]
["34doMD",{"$f":"VLOOKUP($AA709,DATA!$B$3:$E$6,2,0)","v":"14:30:00"},{"$f":"VLOOKUP($AA709,DATA!$B$3:$E$6,3,0)","v":"22:30:00"},{"$f":"VLOOKUP($AA709,DATA!$B$3:$E$6,4,0)","v":3.125E-2},0.30208333333333337,0.29375000000000001,{"$f":"DATA!$C$9","v":0.89},{"$f":"DATA!$C$10","v":64},1,396.5625,407.81250000000006,8.3333333333333332E-3,11.25,2.758620689655172E-2,0,"","",342.4,318,"","",318,null,{"$f":"WEEKNUM($Y699)","v":34},null,{"$f":"TEXT(Y708,\"ddd\")","v":"do"},"MD",{"$f":"IFERROR(HLOOKUP(Y708,[1]DATA!$A$1:$NB$5,4,0),\"\")","v":"D3"},12,null,3,321,{"$f":"VLOOKUP(Y708,[1]SRA!$S$4:$Z$368,7,0)","v":13},-78.5625,0.77977011494252868,0.96342149690489587]
["34doND",{"$f":"VLOOKUP($AA710,DATA!$B$3:$E$6,2,0)","v":"22:30:00"},{"$f":"VLOOKUP($AA710,DATA!$B$3:$E$6,3,0)","v":"06:30:00"},{"$f":"VLOOKUP($AA710,DATA!$B$3:$E$6,4,0)","v":3.125E-2},0.30208333333333326,0.2944444444444444,{"$f":"DATA!$C$9","v":0.89},{"$f":"DATA!$C$10","v":64},1,397.49999999999994,407.81249999999989,7.6388888888888886E-3,10.3125,2.5287356321839087E-2,0,"","",359.46666666666664,308,"",308,"",null,{"$f":"X709","v":34},null,{"$f":"TEXT(Y708,\"ddd\")","v":"do"},"ND",{"$f":"IFERROR(HLOOKUP(Y708,[1]DATA!$A$1:$NB$5,5,0),\"\")","v":"D2"},11,null,29,337,{"$f":"VLOOKUP(Y708,[1]SRA!$S$4:$Z$368,8,0)","v":2},{"$f":"IFERROR(S710-J710,\"\")","v":-89.499999999999943},{"$f":"IFERROR(IF(S710/(E710*86400/H710)<=0,\"\",S710/(E710*86400/H710)),\"\")","v":0.75524904214559407},0.99446698635189967]
["34vrDD",{"$f":"VLOOKUP($AA711,DATA!$B$3:$E$6,2,0)","v":"06:30:00"},{"$f":"VLOOKUP($AA711,DATA!$B$3:$E$6,3,0)","v":"14:30:00"},{"$f":"VLOOKUP($AA711,DATA!$B$3:$E$6,4,0)","v":3.125E-2},0.30208333333333331,0.28194444444444444,{"$f":"DATA!$C$9","v":0.89},{"$f":"DATA!$C$10","v":64},1,380.625,407.8125,{"$f":"TIME(INT($AC711/60),INT(MOD($AC711,60)/1),0)","v":2.013888888888889E-2},{"$f":"IF($L711*86400/$H711=0,\"\",$L711*86400/$H711)","v":27.1875},{"$f":"IFERROR($M711/$K711,\"\")","v":6.6666666666666666E-2},0,"",{"$f":"IFERROR($P711/$K711,\"\")","v":""},401.06666666666666,353,{"$f":"IF(IF($AB711=\"D1\",$S711,\"\")=0,\"\",IF($AB711=\"D1\",$S711,\"\"))","v":353},{"$f":"IF(IF($AB711=\"D2\",$S711,\"\")=0,\"\",IF($AB711=\"D2\",$S711,\"\"))","v":""},{"$f":"IF(IF($AB711=\"D3\",$S711,\"\")=0,\"\",IF($AB711=\"D3\",$S711,\"\"))","v":""},null,{"$f":"X709","v":34},"2018-08-24",{"$f":"TEXT(Y711,\"ddd\")","v":"vr"},"DD",{"$f":"IFERROR(HLOOKUP(Y711,[1]DATA!$A$1:$NB$5,3,0),\"\")","v":"D1"},29,null,23,376,{"$f":"VLOOKUP(Y711,[1]SRA!$S$4:$Z$368,6,0)","v":3},-27.625,0.86559386973180075,0.99257548259363138]
["34vrMD",{"$f":"VLOOKUP($AA712,DATA!$B$3:$E$6,2,0)","v":"14:30:00"},{"$f":"VLOOKUP($AA712,DATA!$B$3:$E$6,3,0)","v":"22:30:00"},{"$f":"VLOOKUP($AA712,DATA!$B$3:$E$6,4,0)","v":3.125E-2},0.30208333333333337,0.30000000000000004,{"$f":"DATA!$C$9","v":0.89},{"$f":"DATA!$C$10","v":64},1,405.00000000000006,407.81250000000006,2.0833333333333333E-3,2.8125,6.8965517241379301E-3,0,"","",318.93333333333334,291,"","",291,null,{"$f":"X709","v":34},null,{"$f":"TEXT(Y711,\"ddd\")","v":"vr"},"MD",{"$f":"IFERROR(HLOOKUP(Y711,[1]DATA!$A$1:$NB$5,4,0),\"\")","v":"D3"},3,null,8,299,{"$f":"VLOOKUP(Y711,[1]SRA!$S$4:$Z$368,7,0)","v":60},-114.00000000000006,0.7135632183908045,0.84166080225193529]
["34vrND",{"$f":"VLOOKUP($AA713,DATA!$B$3:$E$6,2,0)","v":"22:30:00"},{"$f":"VLOOKUP($AA713,DATA!$B$3:$E$6,3,0)","v":"06:30:00"},{"$f":"VLOOKUP($AA713,DATA!$B$3:$E$6,4,0)","v":3.125E-2},0.30208333333333326,0.29999999999999993,{"$f":"DATA!$C$9","v":0.89},{"$f":"DATA!$C$10","v":64},1,404.99999999999989,407.81249999999989,2.0833333333333333E-3,2.8125,6.8965517241379327E-3,0,"","",370.13333333333333,339,"",339,"",null,{"$f":"X709","v":34},null,{"$f":"TEXT(Y711,\"ddd\")","v":"vr"},"ND",{"$f":"IFERROR(HLOOKUP(Y711,[1]DATA!$A$1:$NB$5,5,0),\"\")","v":"D2"},3,null,8,347,{"$f":"VLOOKUP(Y711,[1]SRA!$S$4:$Z$368,8,0)","v":6},-65.999999999999886,0.83126436781609214,0.98404820985466146]
["34zaDD",{"$f":"VLOOKUP($AA714,DATA!$B$3:$E$6,2,0)","v":"06:30:00"},{"$f":"VLOOKUP($AA714,DATA!$B$3:$E$6,3,0)","v":"14:30:00"},{"$f":"VLOOKUP($AA714,DATA!$B$3:$E$6,4,0)","v":3.125E-2},0.30208333333333331,0.30208333333333331,{"$f":"DATA!$C$9","v":0.89},{"$f":"DATA!$C$10","v":64},1,407.8125,407.8125,0,"","",0,"","",0,"","","","",null,{"$f":"X709","v":34},"2018-08-25",{"$f":"TEXT(Y714,\"ddd\")","v":"za"},"DD",{"$f":"IFERROR(HLOOKUP(Y714,[1]DATA!$A$1:$NB$5,3,0),\"\")","v":"D1"},null,null,null,null,{"$f":"VLOOKUP(Y714,[1]SRA!$S$4:$Z$368,6,0)","v":0},"","",""]
["34zaMD",{"$f":"VLOOKUP($AA715,DATA!$B$3:$E$6,2,0)","v":"14:30:00"},{"$f":"VLOOKUP($AA715,DATA!$B$3:$E$6,3,0)","v":"22:30:00"},{"$f":"VLOOKUP($AA715,DATA!$B$3:$E$6,4,0)","v":3.125E-2},0.30208333333333337,0.30208333333333337,{"$f":"DATA!$C$9","v":0.89},{"$f":"DATA!$C$10","v":64},1,407.81250000000006,407.81250000000006,0,"","",0,"","",0,"","","","",null,{"$f":"X709","v":34},null,{"$f":"TEXT(Y714,\"ddd\")","v":"za"},"MD",{"$f":"IFERROR(HLOOKUP(Y714,[1]DATA!$A$1:$NB$5,4,0),\"\")","v":"-"},null,null,null,null,{"$f":"VLOOKUP(Y714,[1]SRA!$S$4:$Z$368,7,0)","v":0},"","",""]
["34zaND",{"$f":"VLOOKUP($AA716,DATA!$B$3:$E$6,2,0)","v":"22:30:00"},{"$f":"VLOOKUP($AA716,DATA!$B$3:$E$6,3,0)","v":"06:30:00"},{"$f":"VLOOKUP($AA716,DATA!$B$3:$E$6,4,0)","v":3.125E-2},0.30208333333333326,0.30208333333333326,{"$f":"DATA!$C$9","v":0.89},{"$f":"DATA!$C$10","v":64},1,407.81249999999989,407.81249999999989,0,"","",0,"","",0,"","","","",null,{"$f":"X709","v":34},null,{"$f":"TEXT(Y714,\"ddd\")","v":"za"},"ND",{"$f":"IFERROR(HLOOKUP(Y714,[1]DATA!$A$1:$NB$5,5,0),\"\")","v":"-"},null,null,null,null,{"$f":"VLOOKUP(Y714,[1]SRA!$S$4:$Z$368,8,0)","v":0},"","",""]
["34zoDD",{"$f":"VLOOKUP($AA717,DATA!$B$3:$E$6,2,0)","v":"06:30:00"},{"$f":"VLOOKUP($AA717,DATA!$B$3:$E$6,3,0)","v":"14:30:00"},{"$f":"VLOOKUP($AA717,DATA!$B$3:$E$6,4,0)","v":3.125E-2},0.30208333333333331,0.30208333333333331,{"$f":"DATA!$C$9","v":0.89},{"$f":"DATA!$C$10","v":64},1,407.8125,407.8125,0,"","",0,"","",0,"","","","",null,{"$f":"X709","v":34},"2018-08-26",{"$f":"TEXT(Y717,\"ddd\")","v":"zo"},"DD",{"$f":"IFERROR(HLOOKUP(Y717,[1]DATA!$A$1:$NB$5,3,0),\"\")","v":"-"},null,null,null,null,{"$f":"VLOOKUP(Y717,[1]SRA!$S$4:$Z$368,6,0)","v":0},"","",""]
["34zoMD",{"$f":"VLOOKUP($AA718,DATA!$B$3:$E$6,2,0)","v":"14:30:00"},{"$f":"VLOOKUP($AA718,DATA!$B$3:$E$6,3,0)","v":"22:30:00"},{"$f":"VLOOKUP($AA718,DATA!$B$3:$E$6,4,0)","v":3.125E-2},0.30208333333333337,0.30208333333333337,{"$f":"DATA!$C$9","v":0.89},{"$f":"DATA!$C$10","v":64},1,407.81250000000006,407.81250000000006,0,"","",0,"","",0,"","","","",null,{"$f":"X709","v":34},null,{"$f":"TEXT(Y717,\"ddd\")","v":"zo"},"MD",{"$f":"IFERROR(HLOOKUP(Y717,[1]DATA!$A$1:$NB$5,4,0),\"\")","v":"-"},null,null,null,null,{"$f":"VLOOKUP(Y717,[1]SRA!$S$4:$Z$368,7,0)","v":0},"","",""]
["34zoZND",{"$f":"VLOOKUP($AA719,DATA!$B$3:$E$6,2,0)","v":"00:00:00"},{"$f":"VLOOKUP($AA719,DATA!$B$3:$E$6,3,0)","v":"00:00:00"},{"$f":"VLOOKUP($AA719,DATA!$B$3:$E$6,4,0)","v":0},0,0,{"$f":"DATA!$C$9","v":0.89},{"$f":"DATA!$C$10","v":64},1,0,0,0,"","",0,"","",0,"","","","",null,{"$f":"X709","v":34},null,{"$f":"TEXT(Y717,\"ddd\")","v":"zo"},"ZND",{"$f":"IFERROR(HLOOKUP(Y717,[1]DATA!$A$1:$NB$5,5,0),\"\")","v":"-"},null,null,null,null,{"$f":"VLOOKUP(Y717,[1]SRA!$S$4:$Z$368,8,0)","v":0},"","",""]
["35maDD",{"$f":"VLOOKUP($AA720,DATA!$B$3:$E$6,2,0)","v":"06:30:00"},{"$f":"VLOOKUP($AA720,DATA!$B$3:$E$6,3,0)","v":"14:30:00"},{"$f":"VLOOKUP($AA720,DATA!$B$3:$E$6,4,0)","v":3.125E-2},0.30208333333333331,0.25486111111111109,{"$f":"DATA!$C$9","v":0.89},{"$f":"DATA!$C$10","v":64},1,344.0625,407.8125,4.7222222222222221E-2,63.75,0.15632183908045977,{"$f":"TIME(INT($AD720/60),INT(MOD($AD720,60)/1),0)","v":0},"","",320,271,"","",271,null,{"$f":"X730","v":35},"2018-08-27",{"$f":"TEXT(Y720,\"ddd\")","v":"ma"},"DD",{"$f":"IFERROR(HLOOKUP(Y720,[1]DATA!$A$1:$NB$5,3,0),\"\")","v":"D3"},68,null,29,300,{"$f":"VLOOKUP(Y720,[1]SRA!$S$4:$AA$368,6,0)","v":35},-73.0625,0.66452107279693484,0.90140845070422537,{"$f":"IF(SUMIF(S720:S740,\">0\",K720:K740)=0,\"\",SUMIF(S720:S740,\">0\",K720:K740))","v":5709.375},{"$f":"IF(SUM(S720:S740)=0,\"\",SUM(S720:S740))","v":4273},{"$f":"IFERROR(AL720/AK720,\"-\")","v":0.74841817186644777},{"$f":"IF(SUM(M720:M740)=0,\"0\",SUM(M720:M740))","v":280.3125},{"$f":"IFERROR(AN720/AK720,\"-\")","v":4.9096880131362888E-2},{"$f":"IF(SUM(P720:P740)=0,0,SUM(P720:P740))","v":0},{"$f":"IFERROR(AP720/AK720,\"-\")","v":0},0.95896089525496542,{"$f":"IFERROR(SUMIF($AB720:$AB740,AS$5,$AJ720:$AJ740)/COUNTIFS($AB720:$AB740,AS$5,$AJ720:$AJ740,\">0\"),\"\")","v":0.98615149284982961},0.97482626346038415,0.92134304897365527,{"$f":"IFERROR((AK720-AL720-AN720-AP720),\"-\")","v":1156.0625},{"$f":"IFERROR((1-AM720-AO720-AQ720), \"-\")","v":0.20248494800218936},{"$f":"IFERROR((AV720*$AE$2)/60,\"-\")","v":1233.1333333333334},{"$f":"IFERROR(SUM(AG720:AG740),\"\")","v":204}]
["35maMD",{"$f":"VLOOKUP($AA721,DATA!$B$3:$E$6,2,0)","v":"14:30:00"},{"$f":"VLOOKUP($AA721,DATA!$B$3:$E$6,3,0)","v":"22:30:00"},{"$f":"VLOOKUP($AA721,DATA!$B$3:$E$6,4,0)","v":3.125E-2},0.30208333333333337,0.28750000000000003,{"$f":"DATA!$C$9","v":0.89},{"$f":"DATA!$C$10","v":64},1,388.12500000000006,407.81250000000006,1.4583333333333332E-2,19.687499999999996,4.8275862068965503E-2,{"$f":"TIME(INT(AD721/60),INT(MOD(AD721,60)/1),0)","v":0},"","",385.06666666666666,341,"",341,"",null,{"$f":"X730","v":35},null,{"$f":"TEXT(Y720,\"ddd\")","v":"ma"},"MD",{"$f":"IFERROR(HLOOKUP(Y720,[1]DATA!$A$1:$NB$5,4,0),\"\")","v":"D2"},21,null,20,361,{"$f":"VLOOKUP(Y720,[1]SRA!$S$4:$Z$368,7,0)","v":17},-47.125000000000057,0.83616858237547886,0.95771845465096994]
["35maND",{"$f":"VLOOKUP($AA722,DATA!$B$3:$E$6,2,0)","v":"22:30:00"},{"$f":"VLOOKUP($AA722,DATA!$B$3:$E$6,3,0)","v":"06:30:00"},{"$f":"VLOOKUP($AA722,DATA!$B$3:$E$6,4,0)","v":3.125E-2},0.30208333333333326,0.28333333333333327,{"$f":"DATA!$C$9","v":0.89},{"$f":"DATA!$C$10","v":64},1,382.49999999999994,407.81249999999989,1.8749999999999999E-2,25.3125,6.2068965517241399E-2,0,"","",384,340,340,"","",null,{"$f":"X730","v":35},null,{"$f":"TEXT(Y720,\"ddd\")","v":"ma"},"ND",{"$f":"IFERROR(HLOOKUP(Y720,[1]DATA!$A$1:$NB$5,5,0),\"\")","v":"D1"},27,null,20,360,{"$f":"VLOOKUP(Y720,[1]SRA!$S$4:$Z$368,8,0)","v":0},-42.499999999999943,0.83371647509578573,1]
["35diDD",{"$f":"VLOOKUP($AA723,DATA!$B$3:$E$6,2,0)","v":"06:30:00"},{"$f":"VLOOKUP($AA723,DATA!$B$3:$E$6,3,0)","v":"14:30:00"},{"$f":"VLOOKUP($AA723,DATA!$B$3:$E$6,4,0)","v":3.125E-2},0.30208333333333331,0.28263888888888888,{"$f":"DATA!$C$9","v":0.89},{"$f":"DATA!$C$10","v":64},1,381.5625,407.8125,1.9444444444444445E-2,26.25,6.4367816091954022E-2,0,"","",370.13333333333333,341,"","",341,null,{"$f":"X730","v":35},"2018-08-28",{"$f":"TEXT(Y723,\"ddd\")","v":"di"},"DD",{"$f":"IFERROR(HLOOKUP(Y723,[1]DATA!$A$1:$NB$5,3,0),\"\")","v":"D3"},28,null,6,347,{"$f":"VLOOKUP(Y723,[1]SRA!$S$4:$Z$368,6,0)","v":3},-40.5625,0.83616858237547897,0.99195997855994278]
["35diMD",{"$f":"VLOOKUP($AA724,DATA!$B$3:$E$6,2,0)","v":"14:30:00"},{"$f":"VLOOKUP($AA724,DATA!$B$3:$E$6,3,0)","v":"22:30:00"},{"$f":"VLOOKUP($AA724,DATA!$B$3:$E$6,4,0)","v":3.125E-2},0.30208333333333337,0.29166666666666669,{"$f":"DATA!$C$9","v":0.89},{"$f":"DATA!$C$10","v":64},1,393.75,407.81250000000006,1.0416666666666666E-2,14.0625,3.4482758620689648E-2,0,"","",371.2,317,"",317,"",null,{"$f":"X730","v":35},null,{"$f":"TEXT(Y723,\"ddd\")","v":"di"},"MD",{"$f":"IFERROR(HLOOKUP(Y723,[1]DATA!$A$1:$NB$5,4,0),\"\")","v":"D2"},15,null,31,348,{"$f":"VLOOKUP(Y723,[1]SRA!$S$4:$Z$368,7,0)","v":12},-76.75,0.7773180076628351,0.96868475991649272]
["35diND",{"$f":"VLOOKUP($AA725,DATA!$B$3:$E$6,2,0)","v":"22:30:00"},{"$f":"VLOOKUP($AA725,DATA!$B$3:$E$6,3,0)","v":"06:30:00"},{"$f":"VLOOKUP($AA725,DATA!$B$3:$E$6,4,0)","v":3.125E-2},0.30208333333333326,0.2805555555555555,{"$f":"DATA!$C$9","v":0.89},{"$f":"DATA!$C$10","v":64},1,378.74999999999994,407.81249999999989,2.1527777777777781E-2,29.062500000000004,7.1264367816091981E-2,0,"","",364.8,332,332,"","",null,{"$f":"X730","v":35},null,{"$f":"TEXT(Y723,\"ddd\")","v":"di"},"ND",{"$f":"IFERROR(HLOOKUP(Y723,[1]DATA!$A$1:$NB$5,5,0),\"\")","v":"D1"},31,null,10,342,{"$f":"VLOOKUP(Y723,[1]SRA!$S$4:$Z$368,8,0)","v":8},-46.749999999999943,0.81409961685823773,0.97854077253218885]
["35woDD",{"$f":"VLOOKUP($AA726,DATA!$B$3:$E$6,2,0)","v":"06:30:00"},{"$f":"VLOOKUP($AA726,DATA!$B$3:$E$6,3,0)","v":"14:30:00"},{"$f":"VLOOKUP($AA726,DATA!$B$3:$E$6,4,0)","v":3.125E-2},0.30208333333333331,0.29097222222222219,{"$f":"DATA!$C$9","v":0.89},{"$f":"DATA!$C$10","v":64},1,392.81249999999994,407.8125,1.1111111111111112E-2,15,3.6781609195402298E-2,0,"","",305.06666666666666,281,"","",281,null,{"$f":"X730","v":35},"2018-08-29",{"$f":"TEXT(Y726,\"ddd\")","v":"wo"},"DD",{"$f":"IFERROR(HLOOKUP(Y726,[1]DATA!$A$1:$NB$5,3,0),\"\")","v":"D3"},16,null,5,286,{"$f":"VLOOKUP(Y726,[1]SRA!$S$4:$Z$368,6,0)","v":33},-111.81249999999994,0.68904214559386978,0.90238611713665939]
["35woMD",{"$f":"VLOOKUP($AA727,DATA!$B$3:$E$6,2,0)","v":"14:30:00"},{"$f":"VLOOKUP($AA727,DATA!$B$3:$E$6,3,0)","v":"22:30:00"},{"$f":"VLOOKUP($AA727,DATA!$B$3:$E$6,4,0)","v":3.125E-2},0.30208333333333337,0.29097222222222224,{"$f":"DATA!$C$9","v":0.89},{"$f":"DATA!$C$10","v":64},1,392.8125,407.81250000000006,1.1111111111111112E-2,15,3.6781609195402291E-2,0,"","",282.66666666666669,257,"",257,"",null,{"$f":"X730","v":35},null,{"$f":"TEXT(Y726,\"ddd\")","v":"wo"},"MD",{"$f":"IFERROR(HLOOKUP(Y726,[1]DATA!$A$1:$NB$5,4,0),\"\")","v":"D2"},16,null,8,265,{"$f":"VLOOKUP(Y726,[1]SRA!$S$4:$Z$368,7,0)","v":0},-135.8125,0.63019157088122602,1]
["35woND",{"$f":"VLOOKUP($AA728,DATA!$B$3:$E$6,2,0)","v":"22:30:00"},{"$f":"VLOOKUP($AA728,DATA!$B$3:$E$6,3,0)","v":"06:30:00"},{"$f":"VLOOKUP($AA728,DATA!$B$3:$E$6,4,0)","v":3.125E-2},0.30208333333333326,0.29791666666666661,{"$f":"DATA!$C$9","v":0.89},{"$f":"DATA!$C$10","v":64},1,402.18749999999994,407.81249999999989,4.1666666666666666E-3,5.625,1.3793103448275865E-2,0,"","",294.39999999999998,263,263,"","",null,{"$f":"X730","v":35},null,{"$f":"TEXT(Y726,\"ddd\")","v":"wo"},"ND",{"$f":"IFERROR(HLOOKUP(Y726,[1]DATA!$A$1:$NB$5,5,0),\"\")","v":"D1"},6,null,13,276,{"$f":"VLOOKUP(Y726,[1]SRA!$S$4:$Z$368,8,0)","v":3},-139.18749999999994,0.64490421455938718,0.98991257565568258]
["35doDD",{"$f":"VLOOKUP($AA729,DATA!$B$3:$E$6,2,0)","v":"06:30:00"},{"$f":"VLOOKUP($AA729,DATA!$B$3:$E$6,3,0)","v":"14:30:00"},{"$f":"VLOOKUP($AA729,DATA!$B$3:$E$6,4,0)","v":3.125E-2},0.30208333333333331,0.30069444444444443,{"$f":"DATA!$C$9","v":0.89},{"$f":"DATA!$C$10","v":64},1,405.9375,407.8125,1.3888888888888889E-3,1.875,4.5977011494252873E-3,0,"","",322.13333333333333,290,"","",290,null,{"$f":"X730","v":35},"2018-08-30",{"$f":"TEXT(Y729,\"ddd\")","v":"do"},"DD",{"$f":"IFERROR(HLOOKUP(Y729,[1]DATA!$A$1:$NB$5,3,0),\"\")","v":"D3"},2,null,12,302,{"$f":"VLOOKUP(Y729,[1]SRA!$S$4:$Z$368,6,0)","v":9},-115.9375,0.71111111111111114,0.97282061606603587]
["35doMD",{"$f":"VLOOKUP($AA730,DATA!$B$3:$E$6,2,0)","v":"14:30:00"},{"$f":"VLOOKUP($AA730,DATA!$B$3:$E$6,3,0)","v":"22:30:00"},{"$f":"VLOOKUP($AA730,DATA!$B$3:$E$6,4,0)","v":3.125E-2},0.30208333333333337,0.30208333333333337,{"$f":"DATA!$C$9","v":0.89},{"$f":"DATA!$C$10","v":64},1,407.81250000000006,407.81250000000006,0,"","",0,"","",398.93333333333334,360,"",360,"",null,{"$f":"WEEKNUM($Y720)","v":35},null,{"$f":"TEXT(Y729,\"ddd\")","v":"do"},"MD",{"$f":"IFERROR(HLOOKUP(Y729,[1]DATA!$A$1:$NB$5,4,0),\"\")","v":"D2"},0,null,14,374,{"$f":"VLOOKUP(Y729,[1]SRA!$S$4:$Z$368,7,0)","v":5},-47.812500000000057,0.88275862068965505,0.98762171975573532]
["35doND",{"$f":"VLOOKUP($AA731,DATA!$B$3:$E$6,2,0)","v":"22:30:00"},{"$f":"VLOOKUP($AA731,DATA!$B$3:$E$6,3,0)","v":"06:30:00"},{"$f":"VLOOKUP($AA731,DATA!$B$3:$E$6,4,0)","v":3.125E-2},0.30208333333333326,0.28749999999999992,{"$f":"DATA!$C$9","v":0.89},{"$f":"DATA!$C$10","v":64},1,388.12499999999989,407.81249999999989,1.4583333333333332E-2,19.687499999999996,4.8275862068965524E-2,0,"","",327.46666666666664,288,288,"","",null,{"$f":"X730","v":35},null,{"$f":"TEXT(Y729,\"ddd\")","v":"do"},"ND",{"$f":"IFERROR(HLOOKUP(Y729,[1]DATA!$A$1:$NB$5,5,0),\"\")","v":"D1"},21,null,19,307,{"$f":"VLOOKUP(Y729,[1]SRA!$S$4:$Z$368,8,0)","v":8},-100.12499999999989,0.70620689655172431,{"$f":"IFERROR(R731/(R731+AG731),\"\")","v":0.97615262321144669}]
["35vrDD",{"$f":"VLOOKUP($AA732,DATA!$B$3:$E$6,2,0)","v":"06:30:00"},{"$f":"VLOOKUP($AA732,DATA!$B$3:$E$6,3,0)","v":"14:30:00"},{"$f":"VLOOKUP($AA732,DATA!$B$3:$E$6,4,0)","v":3.125E-2},{"$f":"(C732-B732+(B732>C732))-D732","v":0.30208333333333331},{"$f":"E732-O732-L732","v":0.27569444444444441},{"$f":"DATA!$C$9","v":0.89},{"$f":"DATA!$C$10","v":64},1,{"$f":"F732*86400/H732*I732","v":372.18749999999994},{"$f":"E732*86400/H732","v":407.8125},2.6388888888888889E-2,35.625,8.7356321839080459E-2,0,"","",{"$f":"AF732*AG$2","v":284.8},{"$f":"IF(AF732-AE732=0,\"\",AF732-AE732)","v":242},"","",242,null,{"$f":"X730","v":35},"2018-08-31",{"$f":"TEXT(Y732,\"ddd\")","v":"vr"},"DD",{"$f":"IFERROR(HLOOKUP(Y732,[1]DATA!$A$1:$NB$5,3,0),\"\")","v":"D3"},38,null,25,267,{"$f":"VLOOKUP(Y732,[1]SRA!$S$4:$Z$368,6,0)","v":55},-130.18749999999994,0.59340996168582372,0.83814008240141258]
["35vrMD",{"$f":"VLOOKUP($AA733,DATA!$B$3:$E$6,2,0)","v":"14:30:00"},{"$f":"VLOOKUP($AA733,DATA!$B$3:$E$6,3,0)","v":"22:30:00"},{"$f":"VLOOKUP($AA733,DATA!$B$3:$E$6,4,0)","v":3.125E-2},0.30208333333333337,0.29513888888888895,{"$f":"DATA!$C$9","v":0.89},{"$f":"DATA!$C$10","v":64},1,398.43750000000006,407.81250000000006,6.9444444444444441E-3,9.375,2.2988505747126433E-2,0,"","",385.06666666666666,350,"",350,"",null,{"$f":"X730","v":35},null,{"$f":"TEXT(Y732,\"ddd\")","v":"vr"},"MD",{"$f":"IFERROR(HLOOKUP(Y732,[1]DATA!$A$1:$NB$5,4,0),\"\")","v":"D2"},10,null,11,361,{"$f":"VLOOKUP(Y732,[1]SRA!$S$4:$Z$368,7,0)","v":16},-48.437500000000057,0.85823754789272022,0.96010638297872342]
["35vrND",{"$f":"VLOOKUP($AA734,DATA!$B$3:$E$6,2,0)","v":"22:30:00"},{"$f":"VLOOKUP($AA734,DATA!$B$3:$E$6,3,0)","v":"06:30:00"},{"$f":"VLOOKUP($AA734,DATA!$B$3:$E$6,4,0)","v":3.125E-2},0.30208333333333326,0.30208333333333326,{"$f":"DATA!$C$9","v":0.89},{"$f":"DATA!$C$10","v":64},1,407.81249999999989,407.81249999999989,0,"","",0,"","",0,"","","","",null,{"$f":"X730","v":35},null,{"$f":"TEXT(Y732,\"ddd\")","v":"vr"},"ND",{"$f":"IFERROR(HLOOKUP(Y732,[1]DATA!$A$1:$NB$5,5,0),\"\")","v":"D2"},null,null,null,null,{"$f":"VLOOKUP(Y732,[1]SRA!$S$4:$Z$368,8,0)","v":0},"","",""]
["35zaDD",{"$f":"VLOOKUP($AA735,DATA!$B$3:$E$6,2,0)","v":"06:30:00"},{"$f":"VLOOKUP($AA735,DATA!$B$3:$E$6,3,0)","v":"14:30:00"},{"$f":"VLOOKUP($AA735,DATA!$B$3:$E$6,4,0)","v":3.125E-2},0.30208333333333331,0.30208333333333331,{"$f":"DATA!$C$9","v":0.89},{"$f":"DATA!$C$10","v":64},1,407.8125,407.8125,0,"","",0,"","",0,"","","","",null,{"$f":"X730","v":35},"2018-09-01",{"$f":"TEXT(Y735,\"ddd\")","v":"za"},"DD",{"$f":"IFERROR(HLOOKUP(Y735,[1]DATA!$A$1:$NB$5,3,0),\"\")","v":"D3"},null,null,null,null,{"$f":"VLOOKUP(Y735,[1]SRA!$S$4:$Z$368,6,0)","v":0},"","",""]
["35zaMD",{"$f":"VLOOKUP($AA736,DATA!$B$3:$E$6,2,0)","v":"14:30:00"},{"$f":"VLOOKUP($AA736,DATA!$B$3:$E$6,3,0)","v":"22:30:00"},{"$f":"VLOOKUP($AA736,DATA!$B$3:$E$6,4,0)","v":3.125E-2},0.30208333333333337,0.30208333333333337,{"$f":"DATA!$C$9","v":0.89},{"$f":"DATA!$C$10","v":64},1,407.81250000000006,407.81250000000006,0,"","",0,"","",0,"","","","",null,{"$f":"X730","v":35},null,{"$f":"TEXT(Y735,\"ddd\")","v":"za"},"MD",{"$f":"IFERROR(HLOOKUP(Y735,[1]DATA!$A$1:$NB$5,4,0),\"\")","v":"-"},null,null,null,null,{"$f":"VLOOKUP(Y735,[1]SRA!$S$4:$Z$368,7,0)","v":0},"","",""]
["35zaND",{"$f":"VLOOKUP($AA737,DATA!$B$3:$E$6,2,0)","v":"22:30:00"},{"$f":"VLOOKUP($AA737,DATA!$B$3:$E$6,3,0)","v":"06:30:00"},{"$f":"VLOOKUP($AA737,DATA!$B$3:$E$6,4,0)","v":3.125E-2},0.30208333333333326,0.30208333333333326,{"$f":"DATA!$C$9","v":0.89},{"$f":"DATA!$C$10","v":64},1,407.81249999999989,407.81249999999989,0,"","",0,"","",0,"","","","",null,{"$f":"X730","v":35},null,{"$f":"TEXT(Y735,\"ddd\")","v":"za"},"ND",{"$f":"IFERROR(HLOOKUP(Y735,[1]DATA!$A$1:$NB$5,5,0),\"\")","v":"-"},null,null,null,null,{"$f":"VLOOKUP(Y735,[1]SRA!$S$4:$Z$368,8,0)","v":0},"","",""]
["35zoDD",{"$f":"VLOOKUP($AA738,DATA!$B$3:$E$6,2,0)","v":"06:30:00"},{"$f":"VLOOKUP($AA738,DATA!$B$3:$E$6,3,0)","v":"14:30:00"},{"$f":"VLOOKUP($AA738,DATA!$B$3:$E$6,4,0)","v":3.125E-2},0.30208333333333331,0.30208333333333331,{"$f":"DATA!$C$9","v":0.89},{"$f":"DATA!$C$10","v":64},1,407.8125,407.8125,0,"","",0,"","",0,"","","","",null,{"$f":"X730","v":35},"2018-09-02",{"$f":"TEXT(Y738,\"ddd\")","v":"zo"},"DD",{"$f":"IFERROR(HLOOKUP(Y738,[1]DATA!$A$1:$NB$5,3,0),\"\")","v":"-"},null,null,null,null,{"$f":"VLOOKUP(Y738,[1]SRA!$S$4:$Z$368,6,0)","v":0},"","",""]
["35zoMD",{"$f":"VLOOKUP($AA739,DATA!$B$3:$E$6,2,0)","v":"14:30:00"},{"$f":"VLOOKUP($AA739,DATA!$B$3:$E$6,3,0)","v":"22:30:00"},{"$f":"VLOOKUP($AA739,DATA!$B$3:$E$6,4,0)","v":3.125E-2},0.30208333333333337,0.30208333333333337,{"$f":"DATA!$C$9","v":0.89},{"$f":"DATA!$C$10","v":64},1,407.81250000000006,407.81250000000006,0,"","",0,"","",0,"","","","",null,{"$f":"X730","v":35},null,{"$f":"TEXT(Y738,\"ddd\")","v":"zo"},"MD",{"$f":"IFERROR(HLOOKUP(Y738,[1]DATA!$A$1:$NB$5,4,0),\"\")","v":"-"},null,null,null,null,{"$f":"VLOOKUP(Y738,[1]SRA!$S$4:$Z$368,7,0)","v":0},"","",""]
["35zoZND",{"$f":"VLOOKUP($AA740,DATA!$B$3:$E$6,2,0)","v":"00:00:00"},{"$f":"VLOOKUP($AA740,DATA!$B$3:$E$6,3,0)","v":"00:00:00"},{"$f":"VLOOKUP($AA740,DATA!$B$3:$E$6,4,0)","v":0},0,0,{"$f":"DATA!$C$9","v":0.89},{"$f":"DATA!$C$10","v":64},1,0,0,0,"","",0,"","",0,"","","","",null,{"$f":"X730","v":35},null,{"$f":"TEXT(Y738,\"ddd\")","v":"zo"},"ZND",{"$f":"IFERROR(HLOOKUP(Y738,[1]DATA!$A$1:$NB$5,5,0),\"\")","v":"-"},null,null,null,null,{"$f":"VLOOKUP(Y738,[1]SRA!$S$4:$Z$368,8,0)","v":0},"","",""]
["36maDD",{"$f":"VLOOKUP($AA741,DATA!$B$3:$E$6,2,0)","v":"06:30:00"},{"$f":"VLOOKUP($AA741,DATA!$B$3:$E$6,3,0)","v":"14:30:00"},{"$f":"VLOOKUP($AA741,DATA!$B$3:$E$6,4,0)","v":3.125E-2},0.30208333333333331,0.29374999999999996,{"$f":"DATA!$C$9","v":0.89},{"$f":"DATA!$C$10","v":64},1,396.56249999999994,407.8125,8.3333333333333332E-3,11.25,2.7586206896551724E-2,{"$f":"TIME(INT($AD741/60),INT(MOD($AD741,60)/1),0)","v":0},"","",299.73333333333335,268,"",268,"",null,{"$f":"X751","v":36},"2018-09-03",{"$f":"TEXT(Y741,\"ddd\")","v":"ma"},"DD",{"$f":"IFERROR(HLOOKUP(Y741,[1]DATA!$A$1:$NB$5,3,0),\"\")","v":"D2"},12,null,13,281,{"$f":"VLOOKUP(Y741,[1]SRA!$S$4:$AA$368,6,0)","v":33},-128.56249999999994,0.65716475095785443,0.9008214786615909,{"$f":"IF(SUMIF(S741:S761,\">0\",K741:K761)=0,\"\",SUMIF(S741:S761,\">0\",K741:K761))","v":6117.1875},{"$f":"IF(SUM(S741:S761)=0,\"\",SUM(S741:S761))","v":4137},{"$f":"IFERROR(AL741/AK741,\"-\")","v":0.67629118773946362},{"$f":"IF(SUM(M741:M761)=0,\"0\",SUM(M741:M761))","v":284.0625},{"$f":"IFERROR(AN741/AK741,\"-\")","v":4.6436781609195399E-2},{"$f":"IF(SUM(P741:P761)=0,0,SUM(P741:P761))","v":0},{"$f":"IFERROR(AP741/AK741,\"-\")","v":0},0.96540016965616149,{"$f":"IFERROR(SUMIF($AB741:$AB761,AS$5,$AJ741:$AJ761)/COUNTIFS($AB741:$AB761,AS$5,$AJ741:$AJ761,\">0\"),\"\")","v":0.97013714640018678},0.95748334499190091,0.96858001757639656,{"$f":"IFERROR((AK741-AL741-AN741-AP741),\"-\")","v":1696.125},{"$f":"IFERROR((1-AM741-AO741-AQ741), \"-\")","v":0.27727203065134098},{"$f":"IFERROR((AV741*$AE$2)/60,\"-\")","v":1809.2},{"$f":"IFERROR(SUM(AG741:AG761),\"\")","v":164},13]
["36maMD",{"$f":"VLOOKUP($AA742,DATA!$B$3:$E$6,2,0)","v":"14:30:00"},{"$f":"VLOOKUP($AA742,DATA!$B$3:$E$6,3,0)","v":"22:30:00"},{"$f":"VLOOKUP($AA742,DATA!$B$3:$E$6,4,0)","v":3.125E-2},0.30208333333333337,0.28750000000000003,{"$f":"DATA!$C$9","v":0.89},{"$f":"DATA!$C$10","v":64},1,388.12500000000006,407.81250000000006,1.4583333333333332E-2,19.687499999999996,4.8275862068965503E-2,{"$f":"TIME(INT(AD742/60),INT(MOD(AD742,60)/1),0)","v":0},"","",332.8,287,287,"","",null,{"$f":"X751","v":36},null,{"$f":"TEXT(Y741,\"ddd\")","v":"ma"},"MD",{"$f":"IFERROR(HLOOKUP(Y741,[1]DATA!$A$1:$NB$5,4,0),\"\")","v":"D1"},21,null,25,312,{"$f":"VLOOKUP(Y741,[1]SRA!$S$4:$Z$368,7,0)","v":22},-101.12500000000006,0.7037547892720305,0.93799323562570458]
["36maND",{"$f":"VLOOKUP($AA743,DATA!$B$3:$E$6,2,0)","v":"22:30:00"},{"$f":"VLOOKUP($AA743,DATA!$B$3:$E$6,3,0)","v":"06:30:00"},{"$f":"VLOOKUP($AA743,DATA!$B$3:$E$6,4,0)","v":3.125E-2},0.30208333333333326,0.29166666666666657,{"$f":"DATA!$C$9","v":0.89},{"$f":"DATA!$C$10","v":64},1,393.74999999999989,407.81249999999989,1.0416666666666666E-2,14.0625,3.4482758620689662E-2,0,"","",362.66666666666669,332,"","",332,null,{"$f":"X751","v":36},null,{"$f":"TEXT(Y741,\"ddd\")","v":"ma"},"ND",{"$f":"IFERROR(HLOOKUP(Y741,[1]DATA!$A$1:$NB$5,5,0),\"\")","v":"D3"},15,null,8,340,{"$f":"VLOOKUP(Y741,[1]SRA!$S$4:$Z$368,8,0)","v":10},-61.749999999999886,0.81409961685823773,0.97316636851520577]
["36diDD",{"$f":"VLOOKUP($AA744,DATA!$B$3:$E$6,2,0)","v":"06:30:00"},{"$f":"VLOOKUP($AA744,DATA!$B$3:$E$6,3,0)","v":"14:30:00"},{"$f":"VLOOKUP($AA744,DATA!$B$3:$E$6,4,0)","v":3.125E-2},0.30208333333333331,0.30138888888888887,{"$f":"DATA!$C$9","v":0.89},{"$f":"DATA!$C$10","v":64},1,406.875,407.8125,6.9444444444444447E-4,0.9375,2.2988505747126436E-3,0,"","",286.93333333333334,265,"",265,"",null,{"$f":"X751","v":36},"2018-09-04",{"$f":"TEXT(Y744,\"ddd\")","v":"di"},"DD",{"$f":"IFERROR(HLOOKUP(Y744,[1]DATA!$A$1:$NB$5,3,0),\"\")","v":"D2"},1,null,4,269,{"$f":"VLOOKUP(Y744,[1]SRA!$S$4:$Z$368,6,0)","v":25},-141.875,0.6498084291187739,0.91985466980123953]
["36diMD",{"$f":"VLOOKUP($AA745,DATA!$B$3:$E$6,2,0)","v":"14:30:00"},{"$f":"VLOOKUP($AA745,DATA!$B$3:$E$6,3,0)","v":"22:30:00"},{"$f":"VLOOKUP($AA745,DATA!$B$3:$E$6,4,0)","v":3.125E-2},0.30208333333333337,0.29652777777777783,{"$f":"DATA!$C$9","v":0.89},{"$f":"DATA!$C$10","v":64},1,400.31250000000006,407.81250000000006,5.5555555555555558E-3,7.5,1.8390804597701146E-2,0,"","",406.4,368,368,"","",null,{"$f":"X751","v":36},null,{"$f":"TEXT(Y744,\"ddd\")","v":"di"},"MD",{"$f":"IFERROR(HLOOKUP(Y744,[1]DATA!$A$1:$NB$5,4,0),\"\")","v":"D1"},8,null,13,381,{"$f":"VLOOKUP(Y744,[1]SRA!$S$4:$Z$368,7,0)","v":14},-32.312500000000057,0.90237547892720293,0.96669838249286388]
["36diND",{"$f":"VLOOKUP($AA746,DATA!$B$3:$E$6,2,0)","v":"22:30:00"},{"$f":"VLOOKUP($AA746,DATA!$B$3:$E$6,3,0)","v":"06:30:00"},{"$f":"VLOOKUP($AA746,DATA!$B$3:$E$6,4,0)","v":3.125E-2},0.30208333333333326,0.2854166666666666,{"$f":"DATA!$C$9","v":0.89},{"$f":"DATA!$C$10","v":64},1,385.31249999999989,407.81249999999989,1.6666666666666666E-2,22.5,5.5172413793103461E-2,0,"","",168.53333333333333,155,"","",155,null,{"$f":"X751","v":36},null,{"$f":"TEXT(Y744,\"ddd\")","v":"di"},"ND",{"$f":"IFERROR(HLOOKUP(Y744,[1]DATA!$A$1:$NB$5,5,0),\"\")","v":"D3"},24,null,3,158,{"$f":"VLOOKUP(Y744,[1]SRA!$S$4:$Z$368,8,0)","v":20},-230.31249999999989,0.38007662835249051,0.89391796322489392]
["36woDD",{"$f":"VLOOKUP($AA747,DATA!$B$3:$E$6,2,0)","v":"06:30:00"},{"$f":"VLOOKUP($AA747,DATA!$B$3:$E$6,3,0)","v":"14:30:00"},{"$f":"VLOOKUP($AA747,DATA!$B$3:$E$6,4,0)","v":3.125E-2},0.30208333333333331,0.27708333333333329,{"$f":"DATA!$C$9","v":0.89},{"$f":"DATA!$C$10","v":64},1,374.06249999999994,407.8125,2.4999999999999998E-2,33.75,8.2758620689655171E-2,0,"","",316.8,265,"",265,"",null,{"$f":"X751","v":36},"2018-09-05",{"$f":"TEXT(Y747,\"ddd\")","v":"wo"},"DD",{"$f":"IFERROR(HLOOKUP(Y747,[1]DATA!$A$1:$NB$5,3,0),\"\")","v":"D2"},36,null,32,297,{"$f":"VLOOKUP(Y747,[1]SRA!$S$4:$Z$368,6,0)","v":0},-109.06249999999994,0.6498084291187739,1]
["36woMD",{"$f":"VLOOKUP($AA748,DATA!$B$3:$E$6,2,0)","v":"14:30:00"},{"$f":"VLOOKUP($AA748,DATA!$B$3:$E$6,3,0)","v":"22:30:00"},{"$f":"VLOOKUP($AA748,DATA!$B$3:$E$6,4,0)","v":3.125E-2},0.30208333333333337,0.28750000000000003,{"$f":"DATA!$C$9","v":0.89},{"$f":"DATA!$C$10","v":64},1,388.12500000000006,407.81250000000006,1.4583333333333332E-2,19.687499999999996,4.8275862068965503E-2,0,"","",344.5333333333333,261,261,"","",null,{"$f":"X751","v":36},null,{"$f":"TEXT(Y747,\"ddd\")","v":"wo"},"MD",{"$f":"IFERROR(HLOOKUP(Y747,[1]DATA!$A$1:$NB$5,4,0),\"\")","v":"D1"},21,null,62,323,{"$f":"VLOOKUP(Y747,[1]SRA!$S$4:$Z$368,7,0)","v":10},-127.12500000000006,0.6399999999999999,0.97179390748401651]
["36woND",{"$f":"VLOOKUP($AA749,DATA!$B$3:$E$6,2,0)","v":"22:30:00"},{"$f":"VLOOKUP($AA749,DATA!$B$3:$E$6,3,0)","v":"06:30:00"},{"$f":"VLOOKUP($AA749,DATA!$B$3:$E$6,4,0)","v":3.125E-2},0.30208333333333326,0.27986111111111106,{"$f":"DATA!$C$9","v":0.89},{"$f":"DATA!$C$10","v":64},1,377.81249999999994,407.81249999999989,2.2222222222222223E-2,30,7.3563218390804624E-2,0,"","",312.5333333333333,280,"","",280,null,{"$f":"X751","v":36},null,{"$f":"TEXT(Y747,\"ddd\")","v":"wo"},"ND",{"$f":"IFERROR(HLOOKUP(Y747,[1]DATA!$A$1:$NB$5,5,0),\"\")","v":"D3"},32,null,13,293,{"$f":"VLOOKUP(Y747,[1]SRA!$S$4:$Z$368,8,0)","v":4},-97.812499999999943,0.68659003831417642,0.98736310025273799]
["36doDD",{"$f":"VLOOKUP($AA750,DATA!$B$3:$E$6,2,0)","v":"06:30:00"},{"$f":"VLOOKUP($AA750,DATA!$B$3:$E$6,3,0)","v":"14:30:00"},{"$f":"VLOOKUP($AA750,DATA!$B$3:$E$6,4,0)","v":3.125E-2},0.30208333333333331,0.28333333333333333,{"$f":"DATA!$C$9","v":0.89},{"$f":"DATA!$C$10","v":64},1,382.5,407.8125,1.8749999999999999E-2,25.3125,6.2068965517241378E-2,0,"","",348.8,299,"",299,"",null,{"$f":"X751","v":36},"2018-09-06",{"$f":"TEXT(Y750,\"ddd\")","v":"do"},"DD",{"$f":"IFERROR(HLOOKUP(Y750,[1]DATA!$A$1:$NB$5,3,0),\"\")","v":"D2"},27,null,28,327,{"$f":"VLOOKUP(Y750,[1]SRA!$S$4:$Z$368,6,0)","v":12},-83.5,0.7331800766283525,0.96674057649667411]
["36doMD",{"$f":"VLOOKUP($AA751,DATA!$B$3:$E$6,2,0)","v":"14:30:00"},{"$f":"VLOOKUP($AA751,DATA!$B$3:$E$6,3,0)","v":"22:30:00"},{"$f":"VLOOKUP($AA751,DATA!$B$3:$E$6,4,0)","v":3.125E-2},0.30208333333333337,0.28402777777777782,{"$f":"DATA!$C$9","v":0.89},{"$f":"DATA!$C$10","v":64},1,383.43750000000006,407.81250000000006,1.8055555555555557E-2,24.375000000000004,5.9770114942528735E-2,0,"","",377.6,340,340,"","",null,{"$f":"WEEKNUM($Y741)","v":36},null,{"$f":"TEXT(Y750,\"ddd\")","v":"do"},"MD",{"$f":"IFERROR(HLOOKUP(Y750,[1]DATA!$A$1:$NB$5,4,0),\"\")","v":"D1"},26,null,14,354,{"$f":"VLOOKUP(Y750,[1]SRA!$S$4:$Z$368,7,0)","v":10},-43.437500000000057,0.83371647509578528,0.97420020639834881]
[{"$f":"X752&Z752&AA752","v":"36doND"},{"$f":"VLOOKUP($AA752,DATA!$B$3:$E$6,2,0)","v":"22:30:00"},{"$f":"VLOOKUP($AA752,DATA!$B$3:$E$6,3,0)","v":"06:30:00"},{"$f":"VLOOKUP($AA752,DATA!$B$3:$E$6,4,0)","v":3.125E-2},0.30208333333333326,0.28472222222222215,{"$f":"DATA!$C$9","v":0.89},{"$f":"DATA!$C$10","v":64},1,384.37499999999989,407.81249999999989,1.7361111111111112E-2,23.4375,5.7471264367816105E-2,0,{"$f":"IF($O752*86400/$H752=0,\"\",$O752*86400/$H752)","v":""},"",342.4,306,"","",306,null,{"$f":"X751","v":36},null,{"$f":"TEXT(Y750,\"ddd\")","v":"do"},"ND",{"$f":"IFERROR(HLOOKUP(Y750,[1]DATA!$A$1:$NB$5,5,0),\"\")","v":"D3"},25,null,15,321,{"$f":"VLOOKUP(Y750,[1]SRA!$S$4:$Z$368,8,0)","v":4},-78.374999999999886,0.75034482758620713,0.98845265588914555]
["36vrDD",{"$f":"VLOOKUP($AA753,DATA!$B$3:$E$6,2,0)","v":"06:30:00"},{"$f":"VLOOKUP($AA753,DATA!$B$3:$E$6,3,0)","v":"14:30:00"},{"$f":"VLOOKUP($AA753,DATA!$B$3:$E$6,4,0)","v":3.125E-2},0.30208333333333331,0.28819444444444442,{"$f":"DATA!$C$9","v":0.89},{"$f":"DATA!$C$10","v":64},1,389.06249999999994,407.8125,1.3888888888888888E-2,18.75,4.5977011494252873E-2,0,"","",275.2,248,"",248,"",null,{"$f":"X751","v":36},"2018-09-07",{"$f":"TEXT(Y753,\"ddd\")","v":"vr"},"DD",{"$f":"IFERROR(HLOOKUP(Y753,[1]DATA!$A$1:$NB$5,3,0),\"\")","v":"D2"},20,null,10,258,{"$f":"VLOOKUP(Y753,[1]SRA!$S$4:$Z$368,6,0)","v":0},-141.06249999999994,0.60812260536398466,1]
["36vrMD",{"$f":"VLOOKUP($AA754,DATA!$B$3:$E$6,2,0)","v":"14:30:00"},{"$f":"VLOOKUP($AA754,DATA!$B$3:$E$6,3,0)","v":"22:30:00"},{"$f":"VLOOKUP($AA754,DATA!$B$3:$E$6,4,0)","v":3.125E-2},0.30208333333333337,0.28958333333333336,{"$f":"DATA!$C$9","v":0.89},{"$f":"DATA!$C$10","v":64},1,390.93750000000006,407.81250000000006,1.2499999999999999E-2,16.875,4.1379310344827579E-2,0,"","",356.26666666666665,322,322,"","",null,{"$f":"X751","v":36},null,{"$f":"TEXT(Y753,\"ddd\")","v":"vr"},"MD",{"$f":"IFERROR(HLOOKUP(Y753,[1]DATA!$A$1:$NB$5,4,0),\"\")","v":"D1"},18,null,12,334,{"$f":"VLOOKUP(Y753,[1]SRA!$S$4:$Z$368,7,0)","v":0},-68.937500000000057,0.78957854406130257,1]
["36vrND",{"$f":"VLOOKUP($AA755,DATA!$B$3:$E$6,2,0)","v":"22:30:00"},{"$f":"VLOOKUP($AA755,DATA!$B$3:$E$6,3,0)","v":"06:30:00"},{"$f":"VLOOKUP($AA755,DATA!$B$3:$E$6,4,0)","v":3.125E-2},0.30208333333333326,0.29027777777777769,{"$f":"DATA!$C$9","v":0.89},{"$f":"DATA!$C$10","v":64},1,391.87499999999989,407.81249999999989,1.1805555555555555E-2,15.9375,3.9080459770114956E-2,0,"","",164.26666666666665,141,"","",141,null,{"$f":"X751","v":36},null,{"$f":"TEXT(Y753,\"ddd\")","v":"vr"},"ND",{"$f":"IFERROR(HLOOKUP(Y753,[1]DATA!$A$1:$NB$5,5,0),\"\")","v":"D3"},17,null,13,154,{"$f":"VLOOKUP(Y753,[1]SRA!$S$4:$Z$368,8,0)","v":0},-250.87499999999989,0.34574712643678168,1]
["36zaDD",{"$f":"VLOOKUP($AA756,DATA!$B$3:$E$6,2,0)","v":"06:30:00"},{"$f":"VLOOKUP($AA756,DATA!$B$3:$E$6,3,0)","v":"14:30:00"},{"$f":"VLOOKUP($AA756,DATA!$B$3:$E$6,4,0)","v":3.125E-2},0.30208333333333331,0.30208333333333331,{"$f":"DATA!$C$9","v":0.89},{"$f":"DATA!$C$10","v":64},1,407.8125,407.8125,0,"","",0,"","",0,"","","","",null,{"$f":"X751","v":36},"2018-09-08",{"$f":"TEXT(Y756,\"ddd\")","v":"za"},"DD",{"$f":"IFERROR(HLOOKUP(Y756,[1]DATA!$A$1:$NB$5,3,0),\"\")","v":"D2"},null,null,null,null,{"$f":"VLOOKUP(Y756,[1]SRA!$S$4:$Z$368,6,0)","v":0},"","",""]
["36zaMD",{"$f":"VLOOKUP($AA757,DATA!$B$3:$E$6,2,0)","v":"14:30:00"},{"$f":"VLOOKUP($AA757,DATA!$B$3:$E$6,3,0)","v":"22:30:00"},{"$f":"VLOOKUP($AA757,DATA!$B$3:$E$6,4,0)","v":3.125E-2},0.30208333333333337,0.30208333333333337,{"$f":"DATA!$C$9","v":0.89},{"$f":"DATA!$C$10","v":64},1,407.81250000000006,407.81250000000006,0,"","",0,"","",0,"","","","",null,{"$f":"X751","v":36},null,{"$f":"TEXT(Y756,\"ddd\")","v":"za"},"MD",{"$f":"IFERROR(HLOOKUP(Y756,[1]DATA!$A$1:$NB$5,4,0),\"\")","v":"-"},null,null,null,null,{"$f":"VLOOKUP(Y756,[1]SRA!$S$4:$Z$368,7,0)","v":0},"","",""]
["36zaND",{"$f":"VLOOKUP($AA758,DATA!$B$3:$E$6,2,0)","v":"22:30:00"},{"$f":"VLOOKUP($AA758,DATA!$B$3:$E$6,3,0)","v":"06:30:00"},{"$f":"VLOOKUP($AA758,DATA!$B$3:$E$6,4,0)","v":3.125E-2},0.30208333333333326,0.30208333333333326,{"$f":"DATA!$C$9","v":0.89},{"$f":"DATA!$C$10","v":64},1,407.81249999999989,407.81249999999989,0,"","",0,"","",0,"","","","",null,{"$f":"X751","v":36},null,{"$f":"TEXT(Y756,\"ddd\")","v":"za"},"ND",{"$f":"IFERROR(HLOOKUP(Y756,[1]DATA!$A$1:$NB$5,5,0),\"\")","v":"-"},null,null,null,null,{"$f":"VLOOKUP(Y756,[1]SRA!$S$4:$Z$368,8,0)","v":0},"","",""]
["36zoDD",{"$f":"VLOOKUP($AA759,DATA!$B$3:$E$6,2,0)","v":"06:30:00"},{"$f":"VLOOKUP($AA759,DATA!$B$3:$E$6,3,0)","v":"14:30:00"},{"$f":"VLOOKUP($AA759,DATA!$B$3:$E$6,4,0)","v":3.125E-2},0.30208333333333331,0.30208333333333331,{"$f":"DATA!$C$9","v":0.89},{"$f":"DATA!$C$10","v":64},1,407.8125,407.8125,0,"","",0,"","",0,"","","","",null,{"$f":"X751","v":36},"2018-09-09",{"$f":"TEXT(Y759,\"ddd\")","v":"zo"},"DD",{"$f":"IFERROR(HLOOKUP(Y759,[1]DATA!$A$1:$NB$5,3,0),\"\")","v":"-"},null,null,null,null,{"$f":"VLOOKUP(Y759,[1]SRA!$S$4:$Z$368,6,0)","v":0},"","",""]
["36zoMD",{"$f":"VLOOKUP($AA760,DATA!$B$3:$E$6,2,0)","v":"14:30:00"},{"$f":"VLOOKUP($AA760,DATA!$B$3:$E$6,3,0)","v":"22:30:00"},{"$f":"VLOOKUP($AA760,DATA!$B$3:$E$6,4,0)","v":3.125E-2},0.30208333333333337,0.30208333333333337,{"$f":"DATA!$C$9","v":0.89},{"$f":"DATA!$C$10","v":64},1,407.81250000000006,407.81250000000006,0,"","",0,"","",0,"","","","",null,{"$f":"X751","v":36},null,{"$f":"TEXT(Y759,\"ddd\")","v":"zo"},"MD",{"$f":"IFERROR(HLOOKUP(Y759,[1]DATA!$A$1:$NB$5,4,0),\"\")","v":"-"},null,null,null,null,{"$f":"VLOOKUP(Y759,[1]SRA!$S$4:$Z$368,7,0)","v":0},"","",""]
["36zoZND",{"$f":"VLOOKUP($AA761,DATA!$B$3:$E$6,2,0)","v":"00:00:00"},{"$f":"VLOOKUP($AA761,DATA!$B$3:$E$6,3,0)","v":"00:00:00"},{"$f":"VLOOKUP($AA761,DATA!$B$3:$E$6,4,0)","v":0},0,0,{"$f":"DATA!$C$9","v":0.89},{"$f":"DATA!$C$10","v":64},1,0,0,0,"","",0,"","",0,"","","","",null,{"$f":"X751","v":36},null,{"$f":"TEXT(Y759,\"ddd\")","v":"zo"},"ZND",{"$f":"IFERROR(HLOOKUP(Y759,[1]DATA!$A$1:$NB$5,5,0),\"\")","v":"-"},null,null,null,null,{"$f":"VLOOKUP(Y759,[1]SRA!$S$4:$Z$368,8,0)","v":0},"","",""]
["37maDD",{"$f":"VLOOKUP($AA762,DATA!$B$3:$E$6,2,0)","v":"06:30:00"},{"$f":"VLOOKUP($AA762,DATA!$B$3:$E$6,3,0)","v":"14:30:00"},{"$f":"VLOOKUP($AA762,DATA!$B$3:$E$6,4,0)","v":3.125E-2},0.30208333333333331,0.27499999999999997,{"$f":"DATA!$C$9","v":0.89},{"$f":"DATA!$C$10","v":64},1,371.24999999999994,407.8125,2.7083333333333334E-2,36.5625,8.9655172413793102E-2,{"$f":"TIME(INT($AD762/60),INT(MOD($AD762,60)/1),0)","v":0},"","",332.8,291,291,"","",null,{"$f":"X772","v":37},{"$f":"Y759+1","v":"2018-09-10"},{"$f":"TEXT(Y762,\"ddd\")","v":"ma"},"DD",{"$f":"IFERROR(HLOOKUP(Y762,[1]DATA!$A$1:$NB$5,3,0),\"\")","v":"D1"},39,null,21,312,{"$f":"VLOOKUP(Y762,[1]SRA!$S$4:$AA$368,6,0)","v":0},-80.249999999999943,0.71356321839080461,1,{"$f":"IF(SUMIF(S762:S782,\">0\",K762:K782)=0,\"\",SUMIF(S762:S782,\">0\",K762:K782))","v":6117.1875},{"$f":"IF(SUM(S762:S782)=0,\"\",SUM(S762:S782))","v":4511},{"$f":"IFERROR(AL762/AK762,\"-\")","v":0.73743039591315451},{"$f":"IF(SUM(M762:M782)=0,\"0\",SUM(M762:M782))","v":313.125},{"$f":"IFERROR(AN762/AK762,\"-\")","v":5.1187739463601535E-2},{"$f":"IF(SUM(P762:P782)=0,0,SUM(P762:P782))","v":0},{"$f":"IFERROR(AP762/AK762,\"-\")","v":0},{"$f":"IFERROR(AVERAGE(AJ762:AJ782),\"-\")","v":0.97425093261704676},{"$f":"IFERROR(SUMIF($AB762:$AB782,AS$5,$AJ762:$AJ782)/COUNTIFS($AB762:$AB782,AS$5,$AJ762:$AJ782,\">0\"),\"\")","v":0.97914732382090364},0.95887431554580138,0.98473115848443515,{"$f":"IFERROR((AK762-AL762-AN762-AP762),\"-\")","v":1293.0625},{"$f":"IFERROR((1-AM762-AO762-AQ762), \"-\")","v":0.21138186462324396},{"$f":"IFERROR((AV762*$AE$2)/60,\"-\")","v":1379.2666666666667},{"$f":"IFERROR(SUM(AG762:AG782),\"\")","v":146}]
["37maMD",{"$f":"VLOOKUP($AA763,DATA!$B$3:$E$6,2,0)","v":"14:30:00"},{"$f":"VLOOKUP($AA763,DATA!$B$3:$E$6,3,0)","v":"22:30:00"},{"$f":"VLOOKUP($AA763,DATA!$B$3:$E$6,4,0)","v":3.125E-2},0.30208333333333337,0.30208333333333337,{"$f":"DATA!$C$9","v":0.89},{"$f":"DATA!$C$10","v":64},1,407.81250000000006,407.81250000000006,0,"","",{"$f":"TIME(INT(AD763/60),INT(MOD(AD763,60)/1),0)","v":0},"","",123.73333333333333,116,"","",116,null,{"$f":"X772","v":37},null,{"$f":"TEXT(Y762,\"ddd\")","v":"ma"},"MD",{"$f":"IFERROR(HLOOKUP(Y762,[1]DATA!$A$1:$NB$5,4,0),\"\")","v":"D3"},0,null,0,116,0,-291.81250000000006,0.28444444444444439,1]
["37maND",{"$f":"VLOOKUP($AA764,DATA!$B$3:$E$6,2,0)","v":"22:30:00"},{"$f":"VLOOKUP($AA764,DATA!$B$3:$E$6,3,0)","v":"06:30:00"},{"$f":"VLOOKUP($AA764,DATA!$B$3:$E$6,4,0)","v":3.125E-2},0.30208333333333326,0.2937499999999999,{"$f":"DATA!$C$9","v":0.89},{"$f":"DATA!$C$10","v":64},1,396.56249999999989,407.81249999999989,8.3333333333333332E-3,11.25,2.7586206896551731E-2,0,"","",358.4,306,"",306,"",null,{"$f":"X772","v":37},null,{"$f":"TEXT(Y762,\"ddd\")","v":"ma"},"ND",{"$f":"IFERROR(HLOOKUP(Y762,[1]DATA!$A$1:$NB$5,5,0),\"\")","v":"D2"},12,null,30,336,0,-90.562499999999886,0.75034482758620713,1]
["37diDD",{"$f":"VLOOKUP($AA765,DATA!$B$3:$E$6,2,0)","v":"06:30:00"},{"$f":"VLOOKUP($AA765,DATA!$B$3:$E$6,3,0)","v":"14:30:00"},{"$f":"VLOOKUP($AA765,DATA!$B$3:$E$6,4,0)","v":3.125E-2},0.30208333333333331,0.30138888888888887,{"$f":"DATA!$C$9","v":0.89},{"$f":"DATA!$C$10","v":64},1,406.875,407.8125,6.9444444444444447E-4,0.9375,2.2988505747126436E-3,0,"","",409.6,367,367,"","",null,{"$f":"X772","v":37},"2018-09-11",{"$f":"TEXT(Y765,\"ddd\")","v":"di"},"DD",{"$f":"IFERROR(HLOOKUP(Y765,[1]DATA!$A$1:$NB$5,3,0),\"\")","v":"D1"},1,null,17,384,{"$f":"VLOOKUP(Y765,[1]SRA!$S$4:$Z$368,6,0)","v":0},-39.875,0.89992337164750957,1]
["37diMD",{"$f":"VLOOKUP($AA766,DATA!$B$3:$E$6,2,0)","v":"14:30:00"},{"$f":"VLOOKUP($AA766,DATA!$B$3:$E$6,3,0)","v":"22:30:00"},{"$f":"VLOOKUP($AA766,DATA!$B$3:$E$6,4,0)","v":3.125E-2},0.30208333333333337,0.27361111111111114,{"$f":"DATA!$C$9","v":0.89},{"$f":"DATA!$C$10","v":64},1,369.37500000000006,407.81250000000006,2.8472222222222222E-2,38.4375,9.4252873563218376E-2,0,"","",279.46666666666664,259,"","",259,null,{"$f":"X772","v":37},null,{"$f":"TEXT(Y765,\"ddd\")","v":"di"},"MD",{"$f":"IFERROR(HLOOKUP(Y765,[1]DATA!$A$1:$NB$5,4,0),\"\")","v":"D3"},41,null,3,262,{"$f":"VLOOKUP(Y765,[1]SRA!$S$4:$Z$368,7,0)","v":4},-110.37500000000006,0.63509578544061296,0.98588899341486358]
["37diND",{"$f":"VLOOKUP($AA767,DATA!$B$3:$E$6,2,0)","v":"22:30:00"},{"$f":"VLOOKUP($AA767,DATA!$B$3:$E$6,3,0)","v":"06:30:00"},{"$f":"VLOOKUP($AA767,DATA!$B$3:$E$6,4,0)","v":3.125E-2},0.30208333333333326,0.2937499999999999,{"$f":"DATA!$C$9","v":0.89},{"$f":"DATA!$C$10","v":64},1,396.56249999999989,407.81249999999989,8.3333333333333332E-3,11.25,2.7586206896551731E-2,0,"","",392.5333333333333,338,"",338,"",null,{"$f":"X772","v":37},null,{"$f":"TEXT(Y765,\"ddd\")","v":"di"},"ND",{"$f":"IFERROR(HLOOKUP(Y765,[1]DATA!$A$1:$NB$5,5,0),\"\")","v":"D2"},12,null,30,368,{"$f":"VLOOKUP(Y765,[1]SRA!$S$4:$Z$368,8,0)","v":28},-58.562499999999886,0.82881226053639867,0.93341788205453391]
["37woDD",{"$f":"VLOOKUP($AA768,DATA!$B$3:$E$6,2,0)","v":"06:30:00"},{"$f":"VLOOKUP($AA768,DATA!$B$3:$E$6,3,0)","v":"14:30:00"},{"$f":"VLOOKUP($AA768,DATA!$B$3:$E$6,4,0)","v":3.125E-2},0.30208333333333331,0.27569444444444441,{"$f":"DATA!$C$9","v":0.89},{"$f":"DATA!$C$10","v":64},1,372.18749999999994,407.8125,2.6388888888888889E-2,35.625,8.7356321839080459E-2,0,"","",322.13333333333333,293,293,"","",null,{"$f":"X772","v":37},"2018-09-12",{"$f":"TEXT(Y768,\"ddd\")","v":"wo"},"DD",{"$f":"IFERROR(HLOOKUP(Y768,[1]DATA!$A$1:$NB$5,3,0),\"\")","v":"D1"},38,null,9,302,{"$f":"VLOOKUP(Y768,[1]SRA!$S$4:$Z$368,6,0)","v":26},-79.187499999999943,0.71846743295019155,0.92531597089237838]
["37woMD",{"$f":"VLOOKUP($AA769,DATA!$B$3:$E$6,2,0)","v":"14:30:00"},{"$f":"VLOOKUP($AA769,DATA!$B$3:$E$6,3,0)","v":"22:30:00"},{"$f":"VLOOKUP($AA769,DATA!$B$3:$E$6,4,0)","v":3.125E-2},0.30208333333333337,0.28472222222222227,{"$f":"DATA!$C$9","v":0.89},{"$f":"DATA!$C$10","v":64},1,384.37500000000006,407.81250000000006,1.7361111111111112E-2,23.4375,5.7471264367816084E-2,0,"","",373.33333333333331,337,"","",337,null,{"$f":"X772","v":37},null,{"$f":"TEXT(Y768,\"ddd\")","v":"wo"},"MD",{"$f":"IFERROR(HLOOKUP(Y768,[1]DATA!$A$1:$NB$5,4,0),\"\")","v":"D3"},25,null,13,350,{"$f":"VLOOKUP(Y768,[1]SRA!$S$4:$Z$368,7,0)","v":11},-47.375000000000057,0.82636015325670487,0.97137901127493498]
["37woND",{"$f":"VLOOKUP($AA770,DATA!$B$3:$E$6,2,0)","v":"22:30:00"},{"$f":"VLOOKUP($AA770,DATA!$B$3:$E$6,3,0)","v":"06:30:00"},{"$f":"VLOOKUP($AA770,DATA!$B$3:$E$6,4,0)","v":3.125E-2},0.30208333333333326,0.27430555555555547,{"$f":"DATA!$C$9","v":0.89},{"$f":"DATA!$C$10","v":64},1,370.31249999999989,407.81249999999989,2.7777777777777776E-2,37.5,9.1954022988505774E-2,0,"","",343.46666666666664,308,"",308,"",null,{"$f":"X772","v":37},null,{"$f":"TEXT(Y768,\"ddd\")","v":"wo"},"ND",{"$f":"IFERROR(HLOOKUP(Y768,[1]DATA!$A$1:$NB$5,5,0),\"\")","v":"D2"},40,null,14,322,{"$f":"VLOOKUP(Y768,[1]SRA!$S$4:$Z$368,8,0)","v":21},-62.312499999999886,0.75524904214559407,0.94238156209987201]
["37doDD",{"$f":"VLOOKUP($AA771,DATA!$B$3:$E$6,2,0)","v":"06:30:00"},{"$f":"VLOOKUP($AA771,DATA!$B$3:$E$6,3,0)","v":"14:30:00"},{"$f":"VLOOKUP($AA771,DATA!$B$3:$E$6,4,0)","v":3.125E-2},0.30208333333333331,0.29791666666666666,{"$f":"DATA!$C$9","v":0.89},{"$f":"DATA!$C$10","v":64},1,402.1875,407.8125,4.1666666666666666E-3,5.625,1.3793103448275862E-2,0,"","",375.46666666666664,342,342,"","",null,{"$f":"X772","v":37},"2018-09-13",{"$f":"TEXT(Y771,\"ddd\")","v":"do"},"DD",{"$f":"IFERROR(HLOOKUP(Y771,[1]DATA!$A$1:$NB$5,3,0),\"\")","v":"D1"},6,null,10,352,{"$f":"VLOOKUP(Y771,[1]SRA!$S$4:$Z$368,6,0)","v":9},-60.1875,0.83862068965517245,0.97659094850008665]
["37doMD",{"$f":"VLOOKUP($AA772,DATA!$B$3:$E$6,2,0)","v":"14:30:00"},{"$f":"VLOOKUP($AA772,DATA!$B$3:$E$6,3,0)","v":"22:30:00"},{"$f":"VLOOKUP($AA772,DATA!$B$3:$E$6,4,0)","v":3.125E-2},0.30208333333333337,0.29166666666666669,{"$f":"DATA!$C$9","v":0.89},{"$f":"DATA!$C$10","v":64},1,393.75,407.81250000000006,1.0416666666666666E-2,14.0625,3.4482758620689648E-2,0,"","",361.6,322,"","",322,null,{"$f":"WEEKNUM($Y762)","v":37},null,{"$f":"TEXT(Y771,\"ddd\")","v":"do"},"MD",{"$f":"IFERROR(HLOOKUP(Y771,[1]DATA!$A$1:$NB$5,4,0),\"\")","v":"D3"},15,null,17,339,{"$f":"VLOOKUP(Y771,[1]SRA!$S$4:$Z$368,7,0)","v":5},-71.75,0.78957854406130257,0.98636115657392254]
["37doND",{"$f":"VLOOKUP($AA773,DATA!$B$3:$E$6,2,0)","v":"22:30:00"},{"$f":"VLOOKUP($AA773,DATA!$B$3:$E$6,3,0)","v":"06:30:00"},{"$f":"VLOOKUP($AA773,DATA!$B$3:$E$6,4,0)","v":3.125E-2},0.30208333333333326,0.29166666666666657,{"$f":"DATA!$C$9","v":0.89},{"$f":"DATA!$C$10","v":64},1,393.74999999999989,407.81249999999989,1.0416666666666666E-2,14.0625,3.4482758620689662E-2,0,"","",372.26666666666665,334,"",334,"",null,{"$f":"X772","v":37},null,{"$f":"TEXT(Y771,\"ddd\")","v":"do"},"ND",{"$f":"IFERROR(HLOOKUP(Y771,[1]DATA!$A$1:$NB$5,5,0),\"\")","v":"D2"},15,null,15,349,{"$f":"VLOOKUP(Y771,[1]SRA!$S$4:$Z$368,8,0)","v":33},-59.749999999999886,0.81900383141762478,0.9185721335746011]
["37vrDD",{"$f":"VLOOKUP($AA774,DATA!$B$3:$E$6,2,0)","v":"06:30:00"},{"$f":"VLOOKUP($AA774,DATA!$B$3:$E$6,3,0)","v":"14:30:00"},{"$f":"VLOOKUP($AA774,DATA!$B$3:$E$6,4,0)","v":3.125E-2},0.30208333333333331,0.29305555555555551,{"$f":"DATA!$C$9","v":0.89},{"$f":"DATA!$C$10","v":64},1,395.62499999999994,407.8125,9.0277777777777787E-3,12.187500000000002,2.9885057471264371E-2,0,"","",322.13333333333333,294,294,"","",null,{"$f":"X772","v":37},"2018-09-14",{"$f":"TEXT(Y774,\"ddd\")","v":"vr"},"DD",{"$f":"IFERROR(HLOOKUP(Y774,[1]DATA!$A$1:$NB$5,3,0),\"\")","v":"D1"},13,null,8,302,{"$f":"VLOOKUP(Y774,[1]SRA!$S$4:$Z$368,6,0)","v":2},{"$f":"IFERROR(S774-J774,\"\")","v":-101.62499999999994},{"$f":"IFERROR(IF(S774/(E774*86400/H774)<=0,\"\",S774/(E774*86400/H774)),\"\")","v":0.72091954022988503},0.99382969971205271]
["37vrMD",{"$f":"VLOOKUP($AA775,DATA!$B$3:$E$6,2,0)","v":"14:30:00"},{"$f":"VLOOKUP($AA775,DATA!$B$3:$E$6,3,0)","v":"22:30:00"},{"$f":"VLOOKUP($AA775,DATA!$B$3:$E$6,4,0)","v":3.125E-2},0.30208333333333337,0.26111111111111113,{"$f":"DATA!$C$9","v":0.89},{"$f":"DATA!$C$10","v":64},1,352.5,407.81250000000006,{"$f":"TIME(INT($AC775/60),INT(MOD($AC775,60)/1),0)","v":4.0972222222222222E-2},{"$f":"IF($L775*86400/$H775=0,\"\",$L775*86400/$H775)","v":55.3125},{"$f":"IFERROR($M775/$K775,\"\")","v":0.13563218390804596},0,"",{"$f":"IFERROR($P775/$K775,\"\")","v":""},343.46666666666664,300,{"$f":"IF(IF($AB775=\"D1\",$S775,\"\")=0,\"\",IF($AB775=\"D1\",$S775,\"\"))","v":""},{"$f":"IF(IF($AB775=\"D2\",$S775,\"\")=0,\"\",IF($AB775=\"D2\",$S775,\"\"))","v":""},{"$f":"IF(IF($AB775=\"D3\",$S775,\"\")=0,\"\",IF($AB775=\"D3\",$S775,\"\"))","v":300},null,{"$f":"X772","v":37},null,{"$f":"TEXT(Y774,\"ddd\")","v":"vr"},"MD",{"$f":"IFERROR(HLOOKUP(Y774,[1]DATA!$A$1:$NB$5,4,0),\"\")","v":"D3"},59,null,22,322,{"$f":"VLOOKUP(Y774,[1]SRA!$S$4:$Z$368,7,0)","v":7},-52.5,0.73563218390804586,0.98002663115845534]
["37vrND",{"$f":"VLOOKUP($AA776,DATA!$B$3:$E$6,2,0)","v":"22:30:00"},{"$f":"VLOOKUP($AA776,DATA!$B$3:$E$6,3,0)","v":"06:30:00"},{"$f":"VLOOKUP($AA776,DATA!$B$3:$E$6,4,0)","v":3.125E-2},0.30208333333333326,0.28958333333333325,{"$f":"DATA!$C$9","v":0.89},{"$f":"DATA!$C$10","v":64},1,390.93749999999989,407.81249999999989,1.2499999999999999E-2,16.875,4.13793103448276E-2,0,"","",338.13333333333333,304,"",304,"",null,{"$f":"X772","v":37},null,{"$f":"TEXT(Y774,\"ddd\")","v":"vr"},"ND",{"$f":"IFERROR(HLOOKUP(Y774,[1]DATA!$A$1:$NB$5,5,0),\"\")","v":"D2"},18,null,13,317,{"$f":"VLOOKUP(Y774,[1]SRA!$S$4:$Z$368,8,0)","v":0},-86.937499999999886,0.74544061302682008,1]
["37zaDD",{"$f":"VLOOKUP($AA777,DATA!$B$3:$E$6,2,0)","v":"06:30:00"},{"$f":"VLOOKUP($AA777,DATA!$B$3:$E$6,3,0)","v":"14:30:00"},{"$f":"VLOOKUP($AA777,DATA!$B$3:$E$6,4,0)","v":3.125E-2},0.30208333333333331,0.30208333333333331,{"$f":"DATA!$C$9","v":0.89},{"$f":"DATA!$C$10","v":64},1,407.8125,407.8125,0,"","",0,"","",0,"","","","",null,{"$f":"X772","v":37},"2018-09-15",{"$f":"TEXT(Y777,\"ddd\")","v":"za"},"DD",{"$f":"IFERROR(HLOOKUP(Y777,[1]DATA!$A$1:$NB$5,3,0),\"\")","v":"D1"},null,null,null,null,{"$f":"VLOOKUP(Y777,[1]SRA!$S$4:$Z$368,6,0)","v":0},"","",""]
["37zaMD",{"$f":"VLOOKUP($AA778,DATA!$B$3:$E$6,2,0)","v":"14:30:00"},{"$f":"VLOOKUP($AA778,DATA!$B$3:$E$6,3,0)","v":"22:30:00"},{"$f":"VLOOKUP($AA778,DATA!$B$3:$E$6,4,0)","v":3.125E-2},0.30208333333333337,0.30208333333333337,{"$f":"DATA!$C$9","v":0.89},{"$f":"DATA!$C$10","v":64},1,407.81250000000006,407.81250000000006,0,"","",0,"","",0,"","","","",null,{"$f":"X772","v":37},null,{"$f":"TEXT(Y777,\"ddd\")","v":"za"},"MD",{"$f":"IFERROR(HLOOKUP(Y777,[1]DATA!$A$1:$NB$5,4,0),\"\")","v":"-"},null,null,null,null,{"$f":"VLOOKUP(Y777,[1]SRA!$S$4:$Z$368,7,0)","v":0},"","",""]
["37zaND",{"$f":"VLOOKUP($AA779,DATA!$B$3:$E$6,2,0)","v":"22:30:00"},{"$f":"VLOOKUP($AA779,DATA!$B$3:$E$6,3,0)","v":"06:30:00"},{"$f":"VLOOKUP($AA779,DATA!$B$3:$E$6,4,0)","v":3.125E-2},0.30208333333333326,0.30208333333333326,{"$f":"DATA!$C$9","v":0.89},{"$f":"DATA!$C$10","v":64},1,407.81249999999989,407.81249999999989,0,"","",0,"","",0,"","","","",null,{"$f":"X772","v":37},null,{"$f":"TEXT(Y777,\"ddd\")","v":"za"},"ND",{"$f":"IFERROR(HLOOKUP(Y777,[1]DATA!$A$1:$NB$5,5,0),\"\")","v":"-"},null,null,null,null,{"$f":"VLOOKUP(Y777,[1]SRA!$S$4:$Z$368,8,0)","v":0},"","",""]
["37zoDD",{"$f":"VLOOKUP($AA780,DATA!$B$3:$E$6,2,0)","v":"06:30:00"},{"$f":"VLOOKUP($AA780,DATA!$B$3:$E$6,3,0)","v":"14:30:00"},{"$f":"VLOOKUP($AA780,DATA!$B$3:$E$6,4,0)","v":3.125E-2},0.30208333333333331,0.30208333333333331,{"$f":"DATA!$C$9","v":0.89},{"$f":"DATA!$C$10","v":64},1,407.8125,407.8125,0,"","",0,"","",0,"","","","",null,{"$f":"X772","v":37},"2018-09-16",{"$f":"TEXT(Y780,\"ddd\")","v":"zo"},"DD",{"$f":"IFERROR(HLOOKUP(Y780,[1]DATA!$A$1:$NB$5,3,0),\"\")","v":"-"},null,null,null,null,{"$f":"VLOOKUP(Y780,[1]SRA!$S$4:$Z$368,6,0)","v":0},"","",""]
["37zoMD",{"$f":"VLOOKUP($AA781,DATA!$B$3:$E$6,2,0)","v":"14:30:00"},{"$f":"VLOOKUP($AA781,DATA!$B$3:$E$6,3,0)","v":"22:30:00"},{"$f":"VLOOKUP($AA781,DATA!$B$3:$E$6,4,0)","v":3.125E-2},0.30208333333333337,0.30208333333333337,{"$f":"DATA!$C$9","v":0.89},{"$f":"DATA!$C$10","v":64},1,407.81250000000006,407.81250000000006,0,"","",0,"","",0,"","","","",null,{"$f":"X772","v":37},null,{"$f":"TEXT(Y780,\"ddd\")","v":"zo"},"MD",{"$f":"IFERROR(HLOOKUP(Y780,[1]DATA!$A$1:$NB$5,4,0),\"\")","v":"-"},null,null,null,null,{"$f":"VLOOKUP(Y780,[1]SRA!$S$4:$Z$368,7,0)","v":0},"","",""]
["37zoZND",{"$f":"VLOOKUP($AA782,DATA!$B$3:$E$6,2,0)","v":"00:00:00"},{"$f":"VLOOKUP($AA782,DATA!$B$3:$E$6,3,0)","v":"00:00:00"},{"$f":"VLOOKUP($AA782,DATA!$B$3:$E$6,4,0)","v":0},0,0,{"$f":"DATA!$C$9","v":0.89},{"$f":"DATA!$C$10","v":64},1,0,0,0,"","",0,"","",0,"","","","",null,{"$f":"X772","v":37},null,{"$f":"TEXT(Y780,\"ddd\")","v":"zo"},"ZND",{"$f":"IFERROR(HLOOKUP(Y780,[1]DATA!$A$1:$NB$5,5,0),\"\")","v":"-"},null,null,null,null,{"$f":"VLOOKUP(Y780,[1]SRA!$S$4:$Z$368,8,0)","v":0},"","",""]
["38maDD",{"$f":"VLOOKUP($AA783,DATA!$B$3:$E$6,2,0)","v":"06:30:00"},{"$f":"VLOOKUP($AA783,DATA!$B$3:$E$6,3,0)","v":"14:30:00"},{"$f":"VLOOKUP($AA783,DATA!$B$3:$E$6,4,0)","v":3.125E-2},0.30208333333333331,0.29652777777777778,{"$f":"DATA!$C$9","v":0.89},{"$f":"DATA!$C$10","v":64},1,400.3125,407.8125,5.5555555555555558E-3,7.5,1.8390804597701149E-2,{"$f":"TIME(INT($AD783/60),INT(MOD($AD783,60)/1),0)","v":0},"","",261.33333333333331,241,"","",241,null,{"$f":"X793","v":38},"2018-09-17",{"$f":"TEXT(Y783,\"ddd\")","v":"ma"},"DD",{"$f":"IFERROR(HLOOKUP(Y783,[1]DATA!$A$1:$NB$5,3,0),\"\")","v":"D3"},8,null,4,245,{"$f":"VLOOKUP(Y783,[1]SRA!$S$4:$AA$368,6,0)","v":0},-159.3125,0.59095785440613025,1,{"$f":"IF(SUMIF(S783:S803,\">0\",K783:K803)=0,\"\",SUMIF(S783:S803,\">0\",K783:K803))","v":6117.1875},{"$f":"IF(SUM(S783:S803)=0,\"\",SUM(S783:S803))","v":4310},{"$f":"IFERROR(AL783/AK783,\"-\")","v":0.70457215836526177},{"$f":"IF(SUM(M783:M803)=0,\"0\",SUM(M783:M803))","v":239.0625},{"$f":"IFERROR(AN783/AK783,\"-\")","v":3.9080459770114942E-2},{"$f":"IF(SUM(P783:P803)=0,0,SUM(P783:P803))","v":0},{"$f":"IFERROR(AP783/AK783,\"-\")","v":0},0.93299715817416196,{"$f":"IFERROR(SUMIF($AB783:$AB803,AS$5,$AJ783:$AJ803)/COUNTIFS($AB783:$AB803,AS$5,$AJ783:$AJ803,\">0\"),\"\")","v":0.91567009413303146},0.94864001088030214,0.92808738615969766,{"$f":"IFERROR((AK783-AL783-AN783-AP783),\"-\")","v":1568.125},{"$f":"IFERROR((1-AM783-AO783-AQ783), \"-\")","v":0.2563473818646233},{"$f":"IFERROR((AV783*$AE$2)/60,\"-\")","v":1672.6666666666667},{"$f":"IFERROR(SUM(AG783:AG803),\"\")","v":366}]
["38maMD",{"$f":"VLOOKUP($AA784,DATA!$B$3:$E$6,2,0)","v":"14:30:00"},{"$f":"VLOOKUP($AA784,DATA!$B$3:$E$6,3,0)","v":"22:30:00"},{"$f":"VLOOKUP($AA784,DATA!$B$3:$E$6,4,0)","v":3.125E-2},0.30208333333333337,0.29166666666666669,{"$f":"DATA!$C$9","v":0.89},{"$f":"DATA!$C$10","v":64},1,393.75,407.81250000000006,1.0416666666666666E-2,14.0625,3.4482758620689648E-2,{"$f":"TIME(INT(AD784/60),INT(MOD(AD784,60)/1),0)","v":0},"","",248.53333333333333,223,"",223,"",null,{"$f":"X793","v":38},null,{"$f":"TEXT(Y783,\"ddd\")","v":"ma"},"MD",{"$f":"IFERROR(HLOOKUP(Y783,[1]DATA!$A$1:$NB$5,4,0),\"\")","v":"D2"},15,null,10,233,{"$f":"VLOOKUP(Y783,[1]SRA!$S$4:$Z$368,7,0)","v":51},-170.75,0.54681992337164742,0.82973514355664379]
["38maND",{"$f":"VLOOKUP($AA785,DATA!$B$3:$E$6,2,0)","v":"22:30:00"},{"$f":"VLOOKUP($AA785,DATA!$B$3:$E$6,3,0)","v":"06:30:00"},{"$f":"VLOOKUP($AA785,DATA!$B$3:$E$6,4,0)","v":3.125E-2},0.30208333333333326,0.29722222222222217,{"$f":"DATA!$C$9","v":0.89},{"$f":"DATA!$C$10","v":64},1,401.24999999999994,407.81249999999989,4.8611111111111112E-3,6.5625,1.6091954022988509E-2,0,"","",318.93333333333334,281,281,"","",null,{"$f":"X793","v":38},null,{"$f":"TEXT(Y783,\"ddd\")","v":"ma"},"ND",{"$f":"IFERROR(HLOOKUP(Y783,[1]DATA!$A$1:$NB$5,5,0),\"\")","v":"D1"},7,null,18,299,{"$f":"VLOOKUP(Y783,[1]SRA!$S$4:$Z$368,8,0)","v":92},-120.24999999999994,0.68904214559386989,0.77611940298507465]
["38diDD",{"$f":"VLOOKUP($AA786,DATA!$B$3:$E$6,2,0)","v":"06:30:00"},{"$f":"VLOOKUP($AA786,DATA!$B$3:$E$6,3,0)","v":"14:30:00"},{"$f":"VLOOKUP($AA786,DATA!$B$3:$E$6,4,0)","v":3.125E-2},0.30208333333333331,0.3,{"$f":"DATA!$C$9","v":0.89},{"$f":"DATA!$C$10","v":64},1,405,407.8125,2.0833333333333333E-3,2.8125,6.8965517241379309E-3,0,"","",345.6,303,"","",303,null,{"$f":"X793","v":38},"2018-09-18",{"$f":"TEXT(Y786,\"ddd\")","v":"di"},"DD",{"$f":"IFERROR(HLOOKUP(Y786,[1]DATA!$A$1:$NB$5,3,0),\"\")","v":"D3"},3,null,21,324,{"$f":"VLOOKUP(Y786,[1]SRA!$S$4:$Z$368,6,0)","v":42},-102,0.74298850574712638,0.89164086687306499]
["38diMD",{"$f":"VLOOKUP($AA787,DATA!$B$3:$E$6,2,0)","v":"14:30:00"},{"$f":"VLOOKUP($AA787,DATA!$B$3:$E$6,3,0)","v":"22:30:00"},{"$f":"VLOOKUP($AA787,DATA!$B$3:$E$6,4,0)","v":3.125E-2},0.30208333333333337,0.27847222222222223,{"$f":"DATA!$C$9","v":0.89},{"$f":"DATA!$C$10","v":64},1,375.9375,407.81250000000006,2.361111111111111E-2,31.875,7.816091954022987E-2,0,"","",332.8,297,"",297,"",null,{"$f":"X793","v":38},null,{"$f":"TEXT(Y786,\"ddd\")","v":"di"},"MD",{"$f":"IFERROR(HLOOKUP(Y786,[1]DATA!$A$1:$NB$5,4,0),\"\")","v":"D2"},34,null,15,312,{"$f":"VLOOKUP(Y786,[1]SRA!$S$4:$Z$368,7,0)","v":0},-78.9375,0.72827586206896544,1]
["38diND",{"$f":"VLOOKUP($AA788,DATA!$B$3:$E$6,2,0)","v":"22:30:00"},{"$f":"VLOOKUP($AA788,DATA!$B$3:$E$6,3,0)","v":"06:30:00"},{"$f":"VLOOKUP($AA788,DATA!$B$3:$E$6,4,0)","v":3.125E-2},0.30208333333333326,0.29930555555555549,{"$f":"DATA!$C$9","v":0.89},{"$f":"DATA!$C$10","v":64},1,404.06249999999989,407.81249999999989,2.7777777777777779E-3,3.75,9.1954022988505781E-3,0,"","",344.5333333333333,319,319,"","",null,{"$f":"X793","v":38},null,{"$f":"TEXT(Y786,\"ddd\")","v":"di"},"ND",{"$f":"IFERROR(HLOOKUP(Y786,[1]DATA!$A$1:$NB$5,5,0),\"\")","v":"D1"},4,null,4,323,{"$f":"VLOOKUP(Y786,[1]SRA!$S$4:$Z$368,8,0)","v":8},-85.062499999999886,0.78222222222222249,0.9773071104387292]
["38woDD",{"$f":"VLOOKUP($AA789,DATA!$B$3:$E$6,2,0)","v":"06:30:00"},{"$f":"VLOOKUP($AA789,DATA!$B$3:$E$6,3,0)","v":"14:30:00"},{"$f":"VLOOKUP($AA789,DATA!$B$3:$E$6,4,0)","v":3.125E-2},0.30208333333333331,0.2951388888888889,{"$f":"DATA!$C$9","v":0.89},{"$f":"DATA!$C$10","v":64},1,398.4375,407.8125,6.9444444444444441E-3,9.375,2.2988505747126436E-2,0,"","",299.73333333333335,271,"","",271,null,{"$f":"X793","v":38},"2018-09-19",{"$f":"TEXT(Y789,\"ddd\")","v":"wo"},"DD",{"$f":"IFERROR(HLOOKUP(Y789,[1]DATA!$A$1:$NB$5,3,0),\"\")","v":"D3"},10,null,10,281,{"$f":"VLOOKUP(Y789,[1]SRA!$S$4:$Z$368,6,0)","v":58},-127.4375,0.66452107279693484,0.83786805814386878]
["38woMD",{"$f":"VLOOKUP($AA790,DATA!$B$3:$E$6,2,0)","v":"14:30:00"},{"$f":"VLOOKUP($AA790,DATA!$B$3:$E$6,3,0)","v":"22:30:00"},{"$f":"VLOOKUP($AA790,DATA!$B$3:$E$6,4,0)","v":3.125E-2},0.30208333333333337,0.28263888888888894,{"$f":"DATA!$C$9","v":0.89},{"$f":"DATA!$C$10","v":64},1,381.56250000000006,407.81250000000006,1.9444444444444445E-2,26.25,6.4367816091954008E-2,0,"","",323.2,293,"",293,"",null,{"$f":"X793","v":38},null,{"$f":"TEXT(Y789,\"ddd\")","v":"wo"},"MD",{"$f":"IFERROR(HLOOKUP(Y789,[1]DATA!$A$1:$NB$5,4,0),\"\")","v":"D2"},28,null,10,303,{"$f":"VLOOKUP(Y789,[1]SRA!$S$4:$Z$368,7,0)","v":10},-88.562500000000057,0.71846743295019144,0.96998799519807921]
["38woND",{"$f":"VLOOKUP($AA791,DATA!$B$3:$E$6,2,0)","v":"22:30:00"},{"$f":"VLOOKUP($AA791,DATA!$B$3:$E$6,3,0)","v":"06:30:00"},{"$f":"VLOOKUP($AA791,DATA!$B$3:$E$6,4,0)","v":3.125E-2},0.30208333333333326,0.28124999999999994,{"$f":"DATA!$C$9","v":0.89},{"$f":"DATA!$C$10","v":64},1,379.68749999999994,407.81249999999989,2.0833333333333332E-2,28.125,6.8965517241379323E-2,0,"","",363.73333333333335,318,318,"","",null,{"$f":"X793","v":38},null,{"$f":"TEXT(Y789,\"ddd\")","v":"wo"},"ND",{"$f":"IFERROR(HLOOKUP(Y789,[1]DATA!$A$1:$NB$5,5,0),\"\")","v":"D1"},30,null,23,341,{"$f":"VLOOKUP(Y789,[1]SRA!$S$4:$Z$368,8,0)","v":20},-61.687499999999943,0.7797701149425289,0.94788047255038221]
["38doDD",{"$f":"VLOOKUP($AA792,DATA!$B$3:$E$6,2,0)","v":"06:30:00"},{"$f":"VLOOKUP($AA792,DATA!$B$3:$E$6,3,0)","v":"14:30:00"},{"$f":"VLOOKUP($AA792,DATA!$B$3:$E$6,4,0)","v":3.125E-2},0.30208333333333331,0.29374999999999996,{"$f":"DATA!$C$9","v":0.89},{"$f":"DATA!$C$10","v":64},1,396.56249999999994,407.8125,8.3333333333333332E-3,11.25,2.7586206896551724E-2,0,"","",353.06666666666666,307,"","",307,null,{"$f":"X793","v":38},"2018-09-20",{"$f":"TEXT(Y792,\"ddd\")","v":"do"},"DD",{"$f":"IFERROR(HLOOKUP(Y792,[1]DATA!$A$1:$NB$5,3,0),\"\")","v":"D3"},12,null,24,331,{"$f":"VLOOKUP(Y792,[1]SRA!$S$4:$Z$368,6,0)","v":26},-89.562499999999943,0.75279693486590038,0.93141048188533238]
["38doMD",{"$f":"VLOOKUP($AA793,DATA!$B$3:$E$6,2,0)","v":"14:30:00"},{"$f":"VLOOKUP($AA793,DATA!$B$3:$E$6,3,0)","v":"22:30:00"},{"$f":"VLOOKUP($AA793,DATA!$B$3:$E$6,4,0)","v":3.125E-2},0.30208333333333337,0.30208333333333337,{"$f":"DATA!$C$9","v":0.89},{"$f":"DATA!$C$10","v":64},1,407.81250000000006,407.81250000000006,0,"","",0,"","",381.86666666666667,345,"",345,"",null,{"$f":"WEEKNUM($Y783)","v":38},null,{"$f":"TEXT(Y792,\"ddd\")","v":"do"},"MD",{"$f":"IFERROR(HLOOKUP(Y792,[1]DATA!$A$1:$NB$5,4,0),\"\")","v":"D2"},0,null,13,358,{"$f":"VLOOKUP(Y792,[1]SRA!$S$4:$Z$368,7,0)","v":12},-62.812500000000057,0.84597701149425275,0.969532836831415]
["38doND",{"$f":"VLOOKUP($AA794,DATA!$B$3:$E$6,2,0)","v":"22:30:00"},{"$f":"VLOOKUP($AA794,DATA!$B$3:$E$6,3,0)","v":"06:30:00"},{"$f":"VLOOKUP($AA794,DATA!$B$3:$E$6,4,0)","v":3.125E-2},0.30208333333333326,0.29166666666666657,{"$f":"DATA!$C$9","v":0.89},{"$f":"DATA!$C$10","v":64},1,393.74999999999989,407.81249999999989,1.0416666666666666E-2,14.0625,3.4482758620689662E-2,0,"","",298.66666666666669,253,253,"","",null,{"$f":"X793","v":38},null,{"$f":"TEXT(Y792,\"ddd\")","v":"do"},"ND",{"$f":"IFERROR(HLOOKUP(Y792,[1]DATA!$A$1:$NB$5,5,0),\"\")","v":"D1"},15,null,27,280,{"$f":"VLOOKUP(Y792,[1]SRA!$S$4:$Z$368,8,0)","v":12},-140.74999999999989,0.62038314176245224,0.96137339055793991]
["38vrDD",{"$f":"VLOOKUP($AA795,DATA!$B$3:$E$6,2,0)","v":"06:30:00"},{"$f":"VLOOKUP($AA795,DATA!$B$3:$E$6,3,0)","v":"14:30:00"},{"$f":"VLOOKUP($AA795,DATA!$B$3:$E$6,4,0)","v":3.125E-2},0.30208333333333331,0.27777777777777773,{"$f":"DATA!$C$9","v":0.89},{"$f":"DATA!$C$10","v":64},1,374.99999999999994,407.8125,2.4305555555555556E-2,32.8125,8.0459770114942528E-2,0,"","",286.93333333333334,258,"","",258,null,{"$f":"X793","v":38},"2018-09-21",{"$f":"TEXT(Y795,\"ddd\")","v":"vr"},"DD",{"$f":"IFERROR(HLOOKUP(Y795,[1]DATA!$A$1:$NB$5,3,0),\"\")","v":"D3"},35,null,11,269,{"$f":"VLOOKUP(Y795,[1]SRA!$S$4:$Z$368,6,0)","v":6},-116.99999999999994,0.63264367816091949,{"$f":"IFERROR(R795/(R795+AG795),\"\")","v":0.97951752389622215}]
["38vrMD",{"$f":"VLOOKUP($AA796,DATA!$B$3:$E$6,2,0)","v":"14:30:00"},{"$f":"VLOOKUP($AA796,DATA!$B$3:$E$6,3,0)","v":"22:30:00"},{"$f":"VLOOKUP($AA796,DATA!$B$3:$E$6,4,0)","v":3.125E-2},{"$f":"(C796-B796+(B796>C796))-D796","v":0.30208333333333337},{"$f":"E796-O796-L796","v":0.29166666666666669},{"$f":"DATA!$C$9","v":0.89},{"$f":"DATA!$C$10","v":64},1,{"$f":"F796*86400/H796*I796","v":393.75},{"$f":"E796*86400/H796","v":407.81250000000006},1.0416666666666666E-2,14.0625,3.4482758620689648E-2,0,"","",{"$f":"AF796*AG$2","v":345.6},{"$f":"IF(AF796-AE796=0,\"\",AF796-AE796)","v":287},"",287,"",null,{"$f":"X793","v":38},null,{"$f":"TEXT(Y795,\"ddd\")","v":"vr"},"MD",{"$f":"IFERROR(HLOOKUP(Y795,[1]DATA!$A$1:$NB$5,4,0),\"\")","v":"D2"},15,null,37,324,{"$f":"VLOOKUP(Y795,[1]SRA!$S$4:$Z$368,7,0)","v":29},-106.75,0.7037547892720305,0.9225840896956754]
["38vrND",{"$f":"VLOOKUP($AA797,DATA!$B$3:$E$6,2,0)","v":"22:30:00"},{"$f":"VLOOKUP($AA797,DATA!$B$3:$E$6,3,0)","v":"06:30:00"},{"$f":"VLOOKUP($AA797,DATA!$B$3:$E$6,4,0)","v":3.125E-2},0.30208333333333326,0.27499999999999991,{"$f":"DATA!$C$9","v":0.89},{"$f":"DATA!$C$10","v":64},1,371.24999999999989,407.81249999999989,2.7083333333333334E-2,36.5625,8.965517241379313E-2,0,"","",357.33333333333331,314,"",314,"",null,{"$f":"X793","v":38},null,{"$f":"TEXT(Y795,\"ddd\")","v":"vr"},"ND",{"$f":"IFERROR(HLOOKUP(Y795,[1]DATA!$A$1:$NB$5,5,0),\"\")","v":"D2"},39,null,21,335,{"$f":"VLOOKUP(Y795,[1]SRA!$S$4:$Z$368,8,0)","v":0},-57.249999999999886,0.76996168582375502,1]
["38zaDD",{"$f":"VLOOKUP($AA798,DATA!$B$3:$E$6,2,0)","v":"06:30:00"},{"$f":"VLOOKUP($AA798,DATA!$B$3:$E$6,3,0)","v":"14:30:00"},{"$f":"VLOOKUP($AA798,DATA!$B$3:$E$6,4,0)","v":3.125E-2},0.30208333333333331,0.30208333333333331,{"$f":"DATA!$C$9","v":0.89},{"$f":"DATA!$C$10","v":64},1,407.8125,407.8125,0,"","",0,"","",0,"","","","",null,{"$f":"X793","v":38},"2018-09-22",{"$f":"TEXT(Y798,\"ddd\")","v":"za"},"DD",{"$f":"IFERROR(HLOOKUP(Y798,[1]DATA!$A$1:$NB$5,3,0),\"\")","v":"D3"},null,null,null,null,{"$f":"VLOOKUP(Y798,[1]SRA!$S$4:$Z$368,6,0)","v":0},"","",""]
["38zaMD",{"$f":"VLOOKUP($AA799,DATA!$B$3:$E$6,2,0)","v":"14:30:00"},{"$f":"VLOOKUP($AA799,DATA!$B$3:$E$6,3,0)","v":"22:30:00"},{"$f":"VLOOKUP($AA799,DATA!$B$3:$E$6,4,0)","v":3.125E-2},0.30208333333333337,0.30208333333333337,{"$f":"DATA!$C$9","v":0.89},{"$f":"DATA!$C$10","v":64},1,407.81250000000006,407.81250000000006,0,"","",0,"","",0,"","","","",null,{"$f":"X793","v":38},null,{"$f":"TEXT(Y798,\"ddd\")","v":"za"},"MD",{"$f":"IFERROR(HLOOKUP(Y798,[1]DATA!$A$1:$NB$5,4,0),\"\")","v":"-"},null,null,null,null,{"$f":"VLOOKUP(Y798,[1]SRA!$S$4:$Z$368,7,0)","v":0},"","",""]
["38zaND",{"$f":"VLOOKUP($AA800,DATA!$B$3:$E$6,2,0)","v":"22:30:00"},{"$f":"VLOOKUP($AA800,DATA!$B$3:$E$6,3,0)","v":"06:30:00"},{"$f":"VLOOKUP($AA800,DATA!$B$3:$E$6,4,0)","v":3.125E-2},0.30208333333333326,0.30208333333333326,{"$f":"DATA!$C$9","v":0.89},{"$f":"DATA!$C$10","v":64},1,407.81249999999989,407.81249999999989,0,"","",0,"","",0,"","","","",null,{"$f":"X793","v":38},null,{"$f":"TEXT(Y798,\"ddd\")","v":"za"},"ND",{"$f":"IFERROR(HLOOKUP(Y798,[1]DATA!$A$1:$NB$5,5,0),\"\")","v":"-"},null,null,null,null,{"$f":"VLOOKUP(Y798,[1]SRA!$S$4:$Z$368,8,0)","v":0},"","",""]
["38zoDD",{"$f":"VLOOKUP($AA801,DATA!$B$3:$E$6,2,0)","v":"06:30:00"},{"$f":"VLOOKUP($AA801,DATA!$B$3:$E$6,3,0)","v":"14:30:00"},{"$f":"VLOOKUP($AA801,DATA!$B$3:$E$6,4,0)","v":3.125E-2},0.30208333333333331,0.30208333333333331,{"$f":"DATA!$C$9","v":0.89},{"$f":"DATA!$C$10","v":64},1,407.8125,407.8125,0,"","",0,"","",0,"","","","",null,{"$f":"X793","v":38},"2018-09-23",{"$f":"TEXT(Y801,\"ddd\")","v":"zo"},"DD",{"$f":"IFERROR(HLOOKUP(Y801,[1]DATA!$A$1:$NB$5,3,0),\"\")","v":"-"},null,null,null,null,{"$f":"VLOOKUP(Y801,[1]SRA!$S$4:$Z$368,6,0)","v":0},"","",""]
["38zoMD",{"$f":"VLOOKUP($AA802,DATA!$B$3:$E$6,2,0)","v":"14:30:00"},{"$f":"VLOOKUP($AA802,DATA!$B$3:$E$6,3,0)","v":"22:30:00"},{"$f":"VLOOKUP($AA802,DATA!$B$3:$E$6,4,0)","v":3.125E-2},0.30208333333333337,0.30208333333333337,{"$f":"DATA!$C$9","v":0.89},{"$f":"DATA!$C$10","v":64},1,407.81250000000006,407.81250000000006,0,"","",0,"","",0,"","","","",null,{"$f":"X793","v":38},null,{"$f":"TEXT(Y801,\"ddd\")","v":"zo"},"MD",{"$f":"IFERROR(HLOOKUP(Y801,[1]DATA!$A$1:$NB$5,4,0),\"\")","v":"-"},null,null,null,null,{"$f":"VLOOKUP(Y801,[1]SRA!$S$4:$Z$368,7,0)","v":0},"","",""]
["38zoZND",{"$f":"VLOOKUP($AA803,DATA!$B$3:$E$6,2,0)","v":"00:00:00"},{"$f":"VLOOKUP($AA803,DATA!$B$3:$E$6,3,0)","v":"00:00:00"},{"$f":"VLOOKUP($AA803,DATA!$B$3:$E$6,4,0)","v":0},0,0,{"$f":"DATA!$C$9","v":0.89},{"$f":"DATA!$C$10","v":64},1,0,0,0,"","",0,"","",0,"","","","",null,{"$f":"X793","v":38},null,{"$f":"TEXT(Y801,\"ddd\")","v":"zo"},"ZND",{"$f":"IFERROR(HLOOKUP(Y801,[1]DATA!$A$1:$NB$5,5,0),\"\")","v":"-"},null,null,null,null,{"$f":"VLOOKUP(Y801,[1]SRA!$S$4:$Z$368,8,0)","v":0},"","",""]
["39maDD",{"$f":"VLOOKUP($AA804,DATA!$B$3:$E$6,2,0)","v":"06:30:00"},{"$f":"VLOOKUP($AA804,DATA!$B$3:$E$6,3,0)","v":"14:30:00"},{"$f":"VLOOKUP($AA804,DATA!$B$3:$E$6,4,0)","v":3.125E-2},0.30208333333333331,0.30208333333333331,{"$f":"DATA!$C$9","v":0.89},{"$f":"DATA!$C$10","v":64},1,407.8125,407.8125,0,"","",{"$f":"TIME(INT($AD804/60),INT(MOD($AD804,60)/1),0)","v":0},"","",0,"","","","",null,{"$f":"X814","v":39},"2018-09-24",{"$f":"TEXT(Y804,\"ddd\")","v":"ma"},"DD",{"$f":"IFERROR(HLOOKUP(Y804,[1]DATA!$A$1:$NB$5,3,0),\"\")","v":"D2"},null,null,null,null,{"$f":"VLOOKUP(Y804,[1]SRA!$S$4:$AA$368,6,0)","v":24},"","",0,{"$f":"IF(SUMIF(S804:S824,\">0\",K804:K824)=0,\"\",SUMIF(S804:S824,\">0\",K804:K824))","v":""},{"$f":"IF(SUM(S804:S824)=0,\"\",SUM(S804:S824))","v":""},{"$f":"IFERROR(AL804/AK804,\"-\")","v":"-"},{"$f":"IF(SUM(M804:M824)=0,\"0\",SUM(M804:M824))","v":"0"},{"$f":"IFERROR(AN804/AK804,\"-\")","v":"-"},{"$f":"IF(SUM(P804:P824)=0,0,SUM(P804:P824))","v":0},{"$f":"IFERROR(AP804/AK804,\"-\")","v":"-"},0,{"$f":"IFERROR(SUMIF($AB804:$AB824,AS$5,$AJ804:$AJ824)/COUNTIFS($AB804:$AB824,AS$5,$AJ804:$AJ824,\">0\"),\"\")","v":""},"","",{"$f":"IFERROR((AK804-AL804-AN804-AP804),\"-\")","v":"-"},{"$f":"IFERROR((1-AM804-AO804-AQ804), \"-\")","v":"-"},{"$f":"IFERROR((AV804*$AE$2)/60,\"-\")","v":"-"},{"$f":"IFERROR(SUM(AG804:AG824),\"\")","v":262}]
["39maMD",{"$f":"VLOOKUP($AA805,DATA!$B$3:$E$6,2,0)","v":"14:30:00"},{"$f":"VLOOKUP($AA805,DATA!$B$3:$E$6,3,0)","v":"22:30:00"},{"$f":"VLOOKUP($AA805,DATA!$B$3:$E$6,4,0)","v":3.125E-2},0.30208333333333337,0.30208333333333337,{"$f":"DATA!$C$9","v":0.89},{"$f":"DATA!$C$10","v":64},1,407.81250000000006,407.81250000000006,0,"","",{"$f":"TIME(INT(AD805/60),INT(MOD(AD805,60)/1),0)","v":0},"","",0,"","","","",null,{"$f":"X814","v":39},null,{"$f":"TEXT(Y804,\"ddd\")","v":"ma"},"MD",{"$f":"IFERROR(HLOOKUP(Y804,[1]DATA!$A$1:$NB$5,4,0),\"\")","v":"D1"},null,null,null,null,{"$f":"VLOOKUP(Y804,[1]SRA!$S$4:$Z$368,7,0)","v":14},"","",0]
["39maND",{"$f":"VLOOKUP($AA806,DATA!$B$3:$E$6,2,0)","v":"22:30:00"},{"$f":"VLOOKUP($AA806,DATA!$B$3:$E$6,3,0)","v":"06:30:00"},{"$f":"VLOOKUP($AA806,DATA!$B$3:$E$6,4,0)","v":3.125E-2},0.30208333333333326,0.30208333333333326,{"$f":"DATA!$C$9","v":0.89},{"$f":"DATA!$C$10","v":64},1,407.81249999999989,407.81249999999989,0,"","",0,"","",0,"","","","",null,{"$f":"X814","v":39},null,{"$f":"TEXT(Y804,\"ddd\")","v":"ma"},"ND",{"$f":"IFERROR(HLOOKUP(Y804,[1]DATA!$A$1:$NB$5,5,0),\"\")","v":"D3"},null,null,null,null,{"$f":"VLOOKUP(Y804,[1]SRA!$S$4:$Z$368,8,0)","v":25},"","",0]
["39diDD",{"$f":"VLOOKUP($AA807,DATA!$B$3:$E$6,2,0)","v":"06:30:00"},{"$f":"VLOOKUP($AA807,DATA!$B$3:$E$6,3,0)","v":"14:30:00"},{"$f":"VLOOKUP($AA807,DATA!$B$3:$E$6,4,0)","v":3.125E-2},0.30208333333333331,0.30208333333333331,{"$f":"DATA!$C$9","v":0.89},{"$f":"DATA!$C$10","v":64},1,407.8125,407.8125,0,"","",0,"","",0,"","","","",null,{"$f":"X814","v":39},"2018-09-25",{"$f":"TEXT(Y807,\"ddd\")","v":"di"},"DD",{"$f":"IFERROR(HLOOKUP(Y807,[1]DATA!$A$1:$NB$5,3,0),\"\")","v":"D2"},null,null,null,null,{"$f":"VLOOKUP(Y807,[1]SRA!$S$4:$Z$368,6,0)","v":9},"","",0]
["39diMD",{"$f":"VLOOKUP($AA808,DATA!$B$3:$E$6,2,0)","v":"14:30:00"},{"$f":"VLOOKUP($AA808,DATA!$B$3:$E$6,3,0)","v":"22:30:00"},{"$f":"VLOOKUP($AA808,DATA!$B$3:$E$6,4,0)","v":3.125E-2},0.30208333333333337,0.30208333333333337,{"$f":"DATA!$C$9","v":0.89},{"$f":"DATA!$C$10","v":64},1,407.81250000000006,407.81250000000006,0,"","",0,"","",0,"","","","",null,{"$f":"X814","v":39},null,{"$f":"TEXT(Y807,\"ddd\")","v":"di"},"MD",{"$f":"IFERROR(HLOOKUP(Y807,[1]DATA!$A$1:$NB$5,4,0),\"\")","v":"D1"},null,null,null,null,{"$f":"VLOOKUP(Y807,[1]SRA!$S$4:$Z$368,7,0)","v":32},"","",0]
["39diND",{"$f":"VLOOKUP($AA809,DATA!$B$3:$E$6,2,0)","v":"22:30:00"},{"$f":"VLOOKUP($AA809,DATA!$B$3:$E$6,3,0)","v":"06:30:00"},{"$f":"VLOOKUP($AA809,DATA!$B$3:$E$6,4,0)","v":3.125E-2},0.30208333333333326,0.30208333333333326,{"$f":"DATA!$C$9","v":0.89},{"$f":"DATA!$C$10","v":64},1,407.81249999999989,407.81249999999989,0,"","",0,"","",0,"","","","",null,{"$f":"X814","v":39},null,{"$f":"TEXT(Y807,\"ddd\")","v":"di"},"ND",{"$f":"IFERROR(HLOOKUP(Y807,[1]DATA!$A$1:$NB$5,5,0),\"\")","v":"D3"},null,null,null,null,{"$f":"VLOOKUP(Y807,[1]SRA!$S$4:$Z$368,8,0)","v":21},"","",0]
["39woDD",{"$f":"VLOOKUP($AA810,DATA!$B$3:$E$6,2,0)","v":"06:30:00"},{"$f":"VLOOKUP($AA810,DATA!$B$3:$E$6,3,0)","v":"14:30:00"},{"$f":"VLOOKUP($AA810,DATA!$B$3:$E$6,4,0)","v":3.125E-2},0.30208333333333331,0.30208333333333331,{"$f":"DATA!$C$9","v":0.89},{"$f":"DATA!$C$10","v":64},1,407.8125,407.8125,0,"","",0,"","",0,"","","","",null,{"$f":"X814","v":39},"2018-09-26",{"$f":"TEXT(Y810,\"ddd\")","v":"wo"},"DD",{"$f":"IFERROR(HLOOKUP(Y810,[1]DATA!$A$1:$NB$5,3,0),\"\")","v":"D2"},null,null,null,null,{"$f":"VLOOKUP(Y810,[1]SRA!$S$4:$Z$368,6,0)","v":28},"","",0]
["39woMD",{"$f":"VLOOKUP($AA811,DATA!$B$3:$E$6,2,0)","v":"14:30:00"},{"$f":"VLOOKUP($AA811,DATA!$B$3:$E$6,3,0)","v":"22:30:00"},{"$f":"VLOOKUP($AA811,DATA!$B$3:$E$6,4,0)","v":3.125E-2},0.30208333333333337,0.30208333333333337,{"$f":"DATA!$C$9","v":0.89},{"$f":"DATA!$C$10","v":64},1,407.81250000000006,407.81250000000006,0,"","",0,"","",0,"","","","",null,{"$f":"X814","v":39},null,{"$f":"TEXT(Y810,\"ddd\")","v":"wo"},"MD",{"$f":"IFERROR(HLOOKUP(Y810,[1]DATA!$A$1:$NB$5,4,0),\"\")","v":"D1"},null,null,null,null,{"$f":"VLOOKUP(Y810,[1]SRA!$S$4:$Z$368,7,0)","v":26},"","",0]
["39woND",{"$f":"VLOOKUP($AA812,DATA!$B$3:$E$6,2,0)","v":"22:30:00"},{"$f":"VLOOKUP($AA812,DATA!$B$3:$E$6,3,0)","v":"06:30:00"},{"$f":"VLOOKUP($AA812,DATA!$B$3:$E$6,4,0)","v":3.125E-2},0.30208333333333326,0.30208333333333326,{"$f":"DATA!$C$9","v":0.89},{"$f":"DATA!$C$10","v":64},1,407.81249999999989,407.81249999999989,0,"","",0,"","",0,"","","","",null,{"$f":"X814","v":39},null,{"$f":"TEXT(Y810,\"ddd\")","v":"wo"},"ND",{"$f":"IFERROR(HLOOKUP(Y810,[1]DATA!$A$1:$NB$5,5,0),\"\")","v":"D3"},null,null,null,null,{"$f":"VLOOKUP(Y810,[1]SRA!$S$4:$Z$368,8,0)","v":5},"","",0]
["39doDD",{"$f":"VLOOKUP($AA813,DATA!$B$3:$E$6,2,0)","v":"06:30:00"},{"$f":"VLOOKUP($AA813,DATA!$B$3:$E$6,3,0)","v":"14:30:00"},{"$f":"VLOOKUP($AA813,DATA!$B$3:$E$6,4,0)","v":3.125E-2},0.30208333333333331,0.30208333333333331,{"$f":"DATA!$C$9","v":0.89},{"$f":"DATA!$C$10","v":64},1,407.8125,407.8125,0,"","",0,"","",0,"","","","",null,{"$f":"X814","v":39},"2018-09-27",{"$f":"TEXT(Y813,\"ddd\")","v":"do"},"DD",{"$f":"IFERROR(HLOOKUP(Y813,[1]DATA!$A$1:$NB$5,3,0),\"\")","v":"D2"},null,null,null,null,{"$f":"VLOOKUP(Y813,[1]SRA!$S$4:$Z$368,6,0)","v":37},"","",0]
["39doMD",{"$f":"VLOOKUP($AA814,DATA!$B$3:$E$6,2,0)","v":"14:30:00"},{"$f":"VLOOKUP($AA814,DATA!$B$3:$E$6,3,0)","v":"22:30:00"},{"$f":"VLOOKUP($AA814,DATA!$B$3:$E$6,4,0)","v":3.125E-2},0.30208333333333337,0.30208333333333337,{"$f":"DATA!$C$9","v":0.89},{"$f":"DATA!$C$10","v":64},1,407.81250000000006,407.81250000000006,0,"","",0,"","",0,"","","","",null,{"$f":"WEEKNUM($Y804)","v":39},null,{"$f":"TEXT(Y813,\"ddd\")","v":"do"},"MD",{"$f":"IFERROR(HLOOKUP(Y813,[1]DATA!$A$1:$NB$5,4,0),\"\")","v":"D1"},null,null,null,null,{"$f":"VLOOKUP(Y813,[1]SRA!$S$4:$Z$368,7,0)","v":22},"","",0]
["39doND",{"$f":"VLOOKUP($AA815,DATA!$B$3:$E$6,2,0)","v":"22:30:00"},{"$f":"VLOOKUP($AA815,DATA!$B$3:$E$6,3,0)","v":"06:30:00"},{"$f":"VLOOKUP($AA815,DATA!$B$3:$E$6,4,0)","v":3.125E-2},0.30208333333333326,0.30208333333333326,{"$f":"DATA!$C$9","v":0.89},{"$f":"DATA!$C$10","v":64},1,407.81249999999989,407.81249999999989,0,"","",0,"","",0,"","","","",null,{"$f":"X814","v":39},null,{"$f":"TEXT(Y813,\"ddd\")","v":"do"},"ND",{"$f":"IFERROR(HLOOKUP(Y813,[1]DATA!$A$1:$NB$5,5,0),\"\")","v":"D3"},null,null,null,null,{"$f":"VLOOKUP(Y813,[1]SRA!$S$4:$Z$368,8,0)","v":19},"","",0]
[{"$f":"X816&Z816&AA816","v":"39vrDD"},{"$f":"VLOOKUP($AA816,DATA!$B$3:$E$6,2,0)","v":"06:30:00"},{"$f":"VLOOKUP($AA816,DATA!$B$3:$E$6,3,0)","v":"14:30:00"},{"$f":"VLOOKUP($AA816,DATA!$B$3:$E$6,4,0)","v":3.125E-2},0.30208333333333331,0.30208333333333331,{"$f":"DATA!$C$9","v":0.89},{"$f":"DATA!$C$10","v":64},1,407.8125,407.8125,0,"","",0,{"$f":"IF($O816*86400/$H816=0,\"\",$O816*86400/$H816)","v":""},"",0,"","","","",null,{"$f":"X814","v":39},"2018-09-28",{"$f":"TEXT(Y816,\"ddd\")","v":"vr"},"DD",{"$f":"IFERROR(HLOOKUP(Y816,[1]DATA!$A$1:$NB$5,3,0),\"\")","v":"D2"},null,null,null,null,{"$f":"VLOOKUP(Y816,[1]SRA!$S$4:$Z$368,6,0)","v":0},"","",""]
["39vrMD",{"$f":"VLOOKUP($AA817,DATA!$B$3:$E$6,2,0)","v":"14:30:00"},{"$f":"VLOOKUP($AA817,DATA!$B$3:$E$6,3,0)","v":"22:30:00"},{"$f":"VLOOKUP($AA817,DATA!$B$3:$E$6,4,0)","v":3.125E-2},0.30208333333333337,0.30208333333333337,{"$f":"DATA!$C$9","v":0.89},{"$f":"DATA!$C$10","v":64},1,407.81250000000006,407.81250000000006,0,"","",0,"","",0,"","","","",null,{"$f":"X814","v":39},null,{"$f":"TEXT(Y816,\"ddd\")","v":"vr"},"MD",{"$f":"IFERROR(HLOOKUP(Y816,[1]DATA!$A$1:$NB$5,4,0),\"\")","v":"D1"},null,null,null,null,{"$f":"VLOOKUP(Y816,[1]SRA!$S$4:$Z$368,7,0)","v":0},"","",""]
["39vrND",{"$f":"VLOOKUP($AA818,DATA!$B$3:$E$6,2,0)","v":"22:30:00"},{"$f":"VLOOKUP($AA818,DATA!$B$3:$E$6,3,0)","v":"06:30:00"},{"$f":"VLOOKUP($AA818,DATA!$B$3:$E$6,4,0)","v":3.125E-2},0.30208333333333326,0.30208333333333326,{"$f":"DATA!$C$9","v":0.89},{"$f":"DATA!$C$10","v":64},1,407.81249999999989,407.81249999999989,0,"","",0,"","",0,"","","","",null,{"$f":"X814","v":39},null,{"$f":"TEXT(Y816,\"ddd\")","v":"vr"},"ND",{"$f":"IFERROR(HLOOKUP(Y816,[1]DATA!$A$1:$NB$5,5,0),\"\")","v":"D3"},null,null,null,null,{"$f":"VLOOKUP(Y816,[1]SRA!$S$4:$Z$368,8,0)","v":0},"","",""]
["39zaDD",{"$f":"VLOOKUP($AA819,DATA!$B$3:$E$6,2,0)","v":"06:30:00"},{"$f":"VLOOKUP($AA819,DATA!$B$3:$E$6,3,0)","v":"14:30:00"},{"$f":"VLOOKUP($AA819,DATA!$B$3:$E$6,4,0)","v":3.125E-2},0.30208333333333331,0.30208333333333331,{"$f":"DATA!$C$9","v":0.89},{"$f":"DATA!$C$10","v":64},1,407.8125,407.8125,0,"","",0,"","",0,"","","","",null,{"$f":"X814","v":39},"2018-09-29",{"$f":"TEXT(Y819,\"ddd\")","v":"za"},"DD",{"$f":"IFERROR(HLOOKUP(Y819,[1]DATA!$A$1:$NB$5,3,0),\"\")","v":"D2"},null,null,null,null,{"$f":"VLOOKUP(Y819,[1]SRA!$S$4:$Z$368,6,0)","v":0},"","",""]
["39zaMD",{"$f":"VLOOKUP($AA820,DATA!$B$3:$E$6,2,0)","v":"14:30:00"},{"$f":"VLOOKUP($AA820,DATA!$B$3:$E$6,3,0)","v":"22:30:00"},{"$f":"VLOOKUP($AA820,DATA!$B$3:$E$6,4,0)","v":3.125E-2},0.30208333333333337,0.30208333333333337,{"$f":"DATA!$C$9","v":0.89},{"$f":"DATA!$C$10","v":64},1,407.81250000000006,407.81250000000006,0,"","",0,"","",0,"","","","",null,{"$f":"X814","v":39},null,{"$f":"TEXT(Y819,\"ddd\")","v":"za"},"MD",{"$f":"IFERROR(HLOOKUP(Y819,[1]DATA!$A$1:$NB$5,4,0),\"\")","v":"-"},null,null,null,null,{"$f":"VLOOKUP(Y819,[1]SRA!$S$4:$Z$368,7,0)","v":0},"","",""]
["39zaND",{"$f":"VLOOKUP($AA821,DATA!$B$3:$E$6,2,0)","v":"22:30:00"},{"$f":"VLOOKUP($AA821,DATA!$B$3:$E$6,3,0)","v":"06:30:00"},{"$f":"VLOOKUP($AA821,DATA!$B$3:$E$6,4,0)","v":3.125E-2},0.30208333333333326,0.30208333333333326,{"$f":"DATA!$C$9","v":0.89},{"$f":"DATA!$C$10","v":64},1,407.81249999999989,407.81249999999989,0,"","",0,"","",0,"","","","",null,{"$f":"X814","v":39},null,{"$f":"TEXT(Y819,\"ddd\")","v":"za"},"ND",{"$f":"IFERROR(HLOOKUP(Y819,[1]DATA!$A$1:$NB$5,5,0),\"\")","v":"-"},null,null,null,null,{"$f":"VLOOKUP(Y819,[1]SRA!$S$4:$Z$368,8,0)","v":0},"","",""]
["39zoDD",{"$f":"VLOOKUP($AA822,DATA!$B$3:$E$6,2,0)","v":"06:30:00"},{"$f":"VLOOKUP($AA822,DATA!$B$3:$E$6,3,0)","v":"14:30:00"},{"$f":"VLOOKUP($AA822,DATA!$B$3:$E$6,4,0)","v":3.125E-2},0.30208333333333331,0.30208333333333331,{"$f":"DATA!$C$9","v":0.89},{"$f":"DATA!$C$10","v":64},1,407.8125,407.8125,0,"","",0,"","",0,"","","","",null,{"$f":"X814","v":39},"2018-09-30",{"$f":"TEXT(Y822,\"ddd\")","v":"zo"},"DD",{"$f":"IFERROR(HLOOKUP(Y822,[1]DATA!$A$1:$NB$5,3,0),\"\")","v":"-"},null,null,null,null,{"$f":"VLOOKUP(Y822,[1]SRA!$S$4:$Z$368,6,0)","v":0},"","",""]
["39zoMD",{"$f":"VLOOKUP($AA823,DATA!$B$3:$E$6,2,0)","v":"14:30:00"},{"$f":"VLOOKUP($AA823,DATA!$B$3:$E$6,3,0)","v":"22:30:00"},{"$f":"VLOOKUP($AA823,DATA!$B$3:$E$6,4,0)","v":3.125E-2},0.30208333333333337,0.30208333333333337,{"$f":"DATA!$C$9","v":0.89},{"$f":"DATA!$C$10","v":64},1,407.81250000000006,407.81250000000006,0,"","",0,"","",0,"","","","",null,{"$f":"X814","v":39},null,{"$f":"TEXT(Y822,\"ddd\")","v":"zo"},"MD",{"$f":"IFERROR(HLOOKUP(Y822,[1]DATA!$A$1:$NB$5,4,0),\"\")","v":"-"},null,null,null,null,{"$f":"VLOOKUP(Y822,[1]SRA!$S$4:$Z$368,7,0)","v":0},"","",""]
["39zoZND",{"$f":"VLOOKUP($AA824,DATA!$B$3:$E$6,2,0)","v":"00:00:00"},{"$f":"VLOOKUP($AA824,DATA!$B$3:$E$6,3,0)","v":"00:00:00"},{"$f":"VLOOKUP($AA824,DATA!$B$3:$E$6,4,0)","v":0},0,0,{"$f":"DATA!$C$9","v":0.89},{"$f":"DATA!$C$10","v":64},1,0,0,0,"","",0,"","",0,"","","","",null,{"$f":"X814","v":39},null,{"$f":"TEXT(Y822,\"ddd\")","v":"zo"},"ZND",{"$f":"IFERROR(HLOOKUP(Y822,[1]DATA!$A$1:$NB$5,5,0),\"\")","v":"-"},null,null,null,null,{"$f":"VLOOKUP(Y822,[1]SRA!$S$4:$Z$368,8,0)","v":0},"","",""]
["40maDD",{"$f":"VLOOKUP($AA825,DATA!$B$3:$E$6,2,0)","v":"06:30:00"},{"$f":"VLOOKUP($AA825,DATA!$B$3:$E$6,3,0)","v":"14:30:00"},{"$f":"VLOOKUP($AA825,DATA!$B$3:$E$6,4,0)","v":3.125E-2},0.30208333333333331,0.30208333333333331,{"$f":"DATA!$C$9","v":0.89},{"$f":"DATA!$C$10","v":64},1,407.8125,407.8125,0,"","",{"$f":"TIME(INT($AD825/60),INT(MOD($AD825,60)/1),0)","v":0},"","",0,"","","","",null,{"$f":"X835","v":40},{"$f":"Y822+1","v":"2018-10-01"},{"$f":"TEXT(Y825,\"ddd\")","v":"ma"},"DD",{"$f":"IFERROR(HLOOKUP(Y825,[1]DATA!$A$1:$NB$5,3,0),\"\")","v":"D1"},null,null,null,null,{"$f":"VLOOKUP(Y825,[1]SRA!$S$4:$AA$368,6,0)","v":0},"","","",{"$f":"IF(SUMIF(S825:S845,\">0\",K825:K845)=0,\"\",SUMIF(S825:S845,\">0\",K825:K845))","v":""},{"$f":"IF(SUM(S825:S845)=0,\"\",SUM(S825:S845))","v":""},{"$f":"IFERROR(AL825/AK825,\"-\")","v":"-"},{"$f":"IF(SUM(M825:M845)=0,\"0\",SUM(M825:M845))","v":"0"},{"$f":"IFERROR(AN825/AK825,\"-\")","v":"-"},{"$f":"IF(SUM(P825:P845)=0,0,SUM(P825:P845))","v":0},{"$f":"IFERROR(AP825/AK825,\"-\")","v":"-"},"-",{"$f":"IFERROR(SUMIF($AB825:$AB845,AS$5,$AJ825:$AJ845)/COUNTIFS($AB825:$AB845,AS$5,$AJ825:$AJ845,\">0\"),\"\")","v":""},"","",{"$f":"IFERROR((AK825-AL825-AN825-AP825),\"-\")","v":"-"},{"$f":"IFERROR((1-AM825-AO825-AQ825), \"-\")","v":"-"},{"$f":"IFERROR((AV825*$AE$2)/60,\"-\")","v":"-"},{"$f":"IFERROR(SUM(AG825:AG845),\"\")","v":0}]
["40maMD",{"$f":"VLOOKUP($AA826,DATA!$B$3:$E$6,2,0)","v":"14:30:00"},{"$f":"VLOOKUP($AA826,DATA!$B$3:$E$6,3,0)","v":"22:30:00"},{"$f":"VLOOKUP($AA826,DATA!$B$3:$E$6,4,0)","v":3.125E-2},0.30208333333333337,0.30208333333333337,{"$f":"DATA!$C$9","v":0.89},{"$f":"DATA!$C$10","v":64},1,407.81250000000006,407.81250000000006,0,"","",{"$f":"TIME(INT(AD826/60),INT(MOD(AD826,60)/1),0)","v":0},"","",0,"","","","",null,{"$f":"X835","v":40},null,{"$f":"TEXT(Y825,\"ddd\")","v":"ma"},"MD",{"$f":"IFERROR(HLOOKUP(Y825,[1]DATA!$A$1:$NB$5,4,0),\"\")","v":"D3"},null,null,null,null,{"$f":"VLOOKUP(Y825,[1]SRA!$S$4:$Z$368,7,0)","v":0},"","",""]
["40maND",{"$f":"VLOOKUP($AA827,DATA!$B$3:$E$6,2,0)","v":"22:30:00"},{"$f":"VLOOKUP($AA827,DATA!$B$3:$E$6,3,0)","v":"06:30:00"},{"$f":"VLOOKUP($AA827,DATA!$B$3:$E$6,4,0)","v":3.125E-2},0.30208333333333326,0.30208333333333326,{"$f":"DATA!$C$9","v":0.89},{"$f":"DATA!$C$10","v":64},1,407.81249999999989,407.81249999999989,0,"","",0,"","",0,"","","","",null,{"$f":"X835","v":40},null,{"$f":"TEXT(Y825,\"ddd\")","v":"ma"},"ND",{"$f":"IFERROR(HLOOKUP(Y825,[1]DATA!$A$1:$NB$5,5,0),\"\")","v":"D2"},null,null,null,null,{"$f":"VLOOKUP(Y825,[1]SRA!$S$4:$Z$368,8,0)","v":0},"","",""]
["40diDD",{"$f":"VLOOKUP($AA828,DATA!$B$3:$E$6,2,0)","v":"06:30:00"},{"$f":"VLOOKUP($AA828,DATA!$B$3:$E$6,3,0)","v":"14:30:00"},{"$f":"VLOOKUP($AA828,DATA!$B$3:$E$6,4,0)","v":3.125E-2},0.30208333333333331,0.30208333333333331,{"$f":"DATA!$C$9","v":0.89},{"$f":"DATA!$C$10","v":64},1,407.8125,407.8125,0,"","",0,"","",0,"","","","",null,{"$f":"X835","v":40},"2018-10-02",{"$f":"TEXT(Y828,\"ddd\")","v":"di"},"DD",{"$f":"IFERROR(HLOOKUP(Y828,[1]DATA!$A$1:$NB$5,3,0),\"\")","v":"D1"},null,null,null,null,{"$f":"VLOOKUP(Y828,[1]SRA!$S$4:$Z$368,6,0)","v":0},"","",""]
["40diMD",{"$f":"VLOOKUP($AA829,DATA!$B$3:$E$6,2,0)","v":"14:30:00"},{"$f":"VLOOKUP($AA829,DATA!$B$3:$E$6,3,0)","v":"22:30:00"},{"$f":"VLOOKUP($AA829,DATA!$B$3:$E$6,4,0)","v":3.125E-2},0.30208333333333337,0.30208333333333337,{"$f":"DATA!$C$9","v":0.89},{"$f":"DATA!$C$10","v":64},1,407.81250000000006,407.81250000000006,0,"","",0,"","",0,"","","","",null,{"$f":"X835","v":40},null,{"$f":"TEXT(Y828,\"ddd\")","v":"di"},"MD",{"$f":"IFERROR(HLOOKUP(Y828,[1]DATA!$A$1:$NB$5,4,0),\"\")","v":"D3"},null,null,null,null,{"$f":"VLOOKUP(Y828,[1]SRA!$S$4:$Z$368,7,0)","v":0},"","",""]
["40diND",{"$f":"VLOOKUP($AA830,DATA!$B$3:$E$6,2,0)","v":"22:30:00"},{"$f":"VLOOKUP($AA830,DATA!$B$3:$E$6,3,0)","v":"06:30:00"},{"$f":"VLOOKUP($AA830,DATA!$B$3:$E$6,4,0)","v":3.125E-2},0.30208333333333326,0.30208333333333326,{"$f":"DATA!$C$9","v":0.89},{"$f":"DATA!$C$10","v":64},1,407.81249999999989,407.81249999999989,0,"","",0,"","",0,"","","","",null,{"$f":"X835","v":40},null,{"$f":"TEXT(Y828,\"ddd\")","v":"di"},"ND",{"$f":"IFERROR(HLOOKUP(Y828,[1]DATA!$A$1:$NB$5,5,0),\"\")","v":"D2"},null,null,null,null,{"$f":"VLOOKUP(Y828,[1]SRA!$S$4:$Z$368,8,0)","v":0},"","",""]
["40woDD",{"$f":"VLOOKUP($AA831,DATA!$B$3:$E$6,2,0)","v":"06:30:00"},{"$f":"VLOOKUP($AA831,DATA!$B$3:$E$6,3,0)","v":"14:30:00"},{"$f":"VLOOKUP($AA831,DATA!$B$3:$E$6,4,0)","v":3.125E-2},0.30208333333333331,0.30208333333333331,{"$f":"DATA!$C$9","v":0.89},{"$f":"DATA!$C$10","v":64},1,407.8125,407.8125,0,"","",0,"","",0,"","","","",null,{"$f":"X835","v":40},"2018-10-03",{"$f":"TEXT(Y831,\"ddd\")","v":"wo"},"DD",{"$f":"IFERROR(HLOOKUP(Y831,[1]DATA!$A$1:$NB$5,3,0),\"\")","v":"D1"},null,null,null,null,{"$f":"VLOOKUP(Y831,[1]SRA!$S$4:$Z$368,6,0)","v":0},"","",""]
["40woMD",{"$f":"VLOOKUP($AA832,DATA!$B$3:$E$6,2,0)","v":"14:30:00"},{"$f":"VLOOKUP($AA832,DATA!$B$3:$E$6,3,0)","v":"22:30:00"},{"$f":"VLOOKUP($AA832,DATA!$B$3:$E$6,4,0)","v":3.125E-2},0.30208333333333337,0.30208333333333337,{"$f":"DATA!$C$9","v":0.89},{"$f":"DATA!$C$10","v":64},1,407.81250000000006,407.81250000000006,0,"","",0,"","",0,"","","","",null,{"$f":"X835","v":40},null,{"$f":"TEXT(Y831,\"ddd\")","v":"wo"},"MD",{"$f":"IFERROR(HLOOKUP(Y831,[1]DATA!$A$1:$NB$5,4,0),\"\")","v":"D3"},null,null,null,null,{"$f":"VLOOKUP(Y831,[1]SRA!$S$4:$Z$368,7,0)","v":0},"","",""]
["40woND",{"$f":"VLOOKUP($AA833,DATA!$B$3:$E$6,2,0)","v":"22:30:00"},{"$f":"VLOOKUP($AA833,DATA!$B$3:$E$6,3,0)","v":"06:30:00"},{"$f":"VLOOKUP($AA833,DATA!$B$3:$E$6,4,0)","v":3.125E-2},0.30208333333333326,0.30208333333333326,{"$f":"DATA!$C$9","v":0.89},{"$f":"DATA!$C$10","v":64},1,407.81249999999989,407.81249999999989,0,"","",0,"","",0,"","","","",null,{"$f":"X835","v":40},null,{"$f":"TEXT(Y831,\"ddd\")","v":"wo"},"ND",{"$f":"IFERROR(HLOOKUP(Y831,[1]DATA!$A$1:$NB$5,5,0),\"\")","v":"D2"},null,null,null,null,{"$f":"VLOOKUP(Y831,[1]SRA!$S$4:$Z$368,8,0)","v":0},"","",""]
["40doDD",{"$f":"VLOOKUP($AA834,DATA!$B$3:$E$6,2,0)","v":"06:30:00"},{"$f":"VLOOKUP($AA834,DATA!$B$3:$E$6,3,0)","v":"14:30:00"},{"$f":"VLOOKUP($AA834,DATA!$B$3:$E$6,4,0)","v":3.125E-2},0.30208333333333331,0.30208333333333331,{"$f":"DATA!$C$9","v":0.89},{"$f":"DATA!$C$10","v":64},1,407.8125,407.8125,0,"","",0,"","",0,"","","","",null,{"$f":"X835","v":40},"2018-10-04",{"$f":"TEXT(Y834,\"ddd\")","v":"do"},"DD",{"$f":"IFERROR(HLOOKUP(Y834,[1]DATA!$A$1:$NB$5,3,0),\"\")","v":"D1"},null,null,null,null,{"$f":"VLOOKUP(Y834,[1]SRA!$S$4:$Z$368,6,0)","v":0},"","",""]
["40doMD",{"$f":"VLOOKUP($AA835,DATA!$B$3:$E$6,2,0)","v":"14:30:00"},{"$f":"VLOOKUP($AA835,DATA!$B$3:$E$6,3,0)","v":"22:30:00"},{"$f":"VLOOKUP($AA835,DATA!$B$3:$E$6,4,0)","v":3.125E-2},0.30208333333333337,0.30208333333333337,{"$f":"DATA!$C$9","v":0.89},{"$f":"DATA!$C$10","v":64},1,407.81250000000006,407.81250000000006,0,"","",0,"","",0,"","","","",null,{"$f":"WEEKNUM($Y825)","v":40},null,{"$f":"TEXT(Y834,\"ddd\")","v":"do"},"MD",{"$f":"IFERROR(HLOOKUP(Y834,[1]DATA!$A$1:$NB$5,4,0),\"\")","v":"D3"},null,null,null,null,{"$f":"VLOOKUP(Y834,[1]SRA!$S$4:$Z$368,7,0)","v":0},"","",""]
["40doND",{"$f":"VLOOKUP($AA836,DATA!$B$3:$E$6,2,0)","v":"22:30:00"},{"$f":"VLOOKUP($AA836,DATA!$B$3:$E$6,3,0)","v":"06:30:00"},{"$f":"VLOOKUP($AA836,DATA!$B$3:$E$6,4,0)","v":3.125E-2},0.30208333333333326,0.30208333333333326,{"$f":"DATA!$C$9","v":0.89},{"$f":"DATA!$C$10","v":64},1,407.81249999999989,407.81249999999989,0,"","",0,"","",0,"","","","",null,{"$f":"X835","v":40},null,{"$f":"TEXT(Y834,\"ddd\")","v":"do"},"ND",{"$f":"IFERROR(HLOOKUP(Y834,[1]DATA!$A$1:$NB$5,5,0),\"\")","v":"D2"},null,null,null,null,{"$f":"VLOOKUP(Y834,[1]SRA!$S$4:$Z$368,8,0)","v":0},"","",""]
["40vrDD",{"$f":"VLOOKUP($AA837,DATA!$B$3:$E$6,2,0)","v":"06:30:00"},{"$f":"VLOOKUP($AA837,DATA!$B$3:$E$6,3,0)","v":"14:30:00"},{"$f":"VLOOKUP($AA837,DATA!$B$3:$E$6,4,0)","v":3.125E-2},0.30208333333333331,0.30208333333333331,{"$f":"DATA!$C$9","v":0.89},{"$f":"DATA!$C$10","v":64},1,407.8125,407.8125,0,"","",0,"","",0,"","","","",null,{"$f":"X835","v":40},"2018-10-05",{"$f":"TEXT(Y837,\"ddd\")","v":"vr"},"DD",{"$f":"IFERROR(HLOOKUP(Y837,[1]DATA!$A$1:$NB$5,3,0),\"\")","v":"D1"},null,null,null,null,{"$f":"VLOOKUP(Y837,[1]SRA!$S$4:$Z$368,6,0)","v":0},"","",""]
["40vrMD",{"$f":"VLOOKUP($AA838,DATA!$B$3:$E$6,2,0)","v":"14:30:00"},{"$f":"VLOOKUP($AA838,DATA!$B$3:$E$6,3,0)","v":"22:30:00"},{"$f":"VLOOKUP($AA838,DATA!$B$3:$E$6,4,0)","v":3.125E-2},0.30208333333333337,0.30208333333333337,{"$f":"DATA!$C$9","v":0.89},{"$f":"DATA!$C$10","v":64},1,407.81250000000006,407.81250000000006,0,"","",0,"","",0,"","","","",null,{"$f":"X835","v":40},null,{"$f":"TEXT(Y837,\"ddd\")","v":"vr"},"MD",{"$f":"IFERROR(HLOOKUP(Y837,[1]DATA!$A$1:$NB$5,4,0),\"\")","v":"D3"},null,null,null,null,{"$f":"VLOOKUP(Y837,[1]SRA!$S$4:$Z$368,7,0)","v":0},{"$f":"IFERROR(S838-J838,\"\")","v":""},{"$f":"IFERROR(IF(S838/(E838*86400/H838)<=0,\"\",S838/(E838*86400/H838)),\"\")","v":""},""]
["40vrND",{"$f":"VLOOKUP($AA839,DATA!$B$3:$E$6,2,0)","v":"22:30:00"},{"$f":"VLOOKUP($AA839,DATA!$B$3:$E$6,3,0)","v":"06:30:00"},{"$f":"VLOOKUP($AA839,DATA!$B$3:$E$6,4,0)","v":3.125E-2},0.30208333333333326,0.30208333333333326,{"$f":"DATA!$C$9","v":0.89},{"$f":"DATA!$C$10","v":64},1,407.81249999999989,407.81249999999989,{"$f":"TIME(INT($AC839/60),INT(MOD($AC839,60)/1),0)","v":0},{"$f":"IF($L839*86400/$H839=0,\"\",$L839*86400/$H839)","v":""},{"$f":"IFERROR($M839/$K839,\"\")","v":""},0,"",{"$f":"IFERROR($P839/$K839,\"\")","v":""},0,"",{"$f":"IF(IF($AB839=\"D1\",$S839,\"\")=0,\"\",IF($AB839=\"D1\",$S839,\"\"))","v":""},{"$f":"IF(IF($AB839=\"D2\",$S839,\"\")=0,\"\",IF($AB839=\"D2\",$S839,\"\"))","v":""},{"$f":"IF(IF($AB839=\"D3\",$S839,\"\")=0,\"\",IF($AB839=\"D3\",$S839,\"\"))","v":""},null,{"$f":"X835","v":40},null,{"$f":"TEXT(Y837,\"ddd\")","v":"vr"},"ND",{"$f":"IFERROR(HLOOKUP(Y837,[1]DATA!$A$1:$NB$5,5,0),\"\")","v":"D2"},null,null,null,null,{"$f":"VLOOKUP(Y837,[1]SRA!$S$4:$Z$368,8,0)","v":0},"","",""]
["40zaDD",{"$f":"VLOOKUP($AA840,DATA!$B$3:$E$6,2,0)","v":"06:30:00"},{"$f":"VLOOKUP($AA840,DATA!$B$3:$E$6,3,0)","v":"14:30:00"},{"$f":"VLOOKUP($AA840,DATA!$B$3:$E$6,4,0)","v":3.125E-2},0.30208333333333331,0.30208333333333331,{"$f":"DATA!$C$9","v":0.89},{"$f":"DATA!$C$10","v":64},1,407.8125,407.8125,0,"","",0,"","",0,"","","","",null,{"$f":"X835","v":40},"2018-10-06",{"$f":"TEXT(Y840,\"ddd\")","v":"za"},"DD",{"$f":"IFERROR(HLOOKUP(Y840,[1]DATA!$A$1:$NB$5,3,0),\"\")","v":"D1"},null,null,null,null,{"$f":"VLOOKUP(Y840,[1]SRA!$S$4:$Z$368,6,0)","v":0},"","",""]
["40zaMD",{"$f":"VLOOKUP($AA841,DATA!$B$3:$E$6,2,0)","v":"14:30:00"},{"$f":"VLOOKUP($AA841,DATA!$B$3:$E$6,3,0)","v":"22:30:00"},{"$f":"VLOOKUP($AA841,DATA!$B$3:$E$6,4,0)","v":3.125E-2},0.30208333333333337,0.30208333333333337,{"$f":"DATA!$C$9","v":0.89},{"$f":"DATA!$C$10","v":64},1,407.81250000000006,407.81250000000006,0,"","",0,"","",0,"","","","",null,{"$f":"X835","v":40},null,{"$f":"TEXT(Y840,\"ddd\")","v":"za"},"MD",{"$f":"IFERROR(HLOOKUP(Y840,[1]DATA!$A$1:$NB$5,4,0),\"\")","v":"-"},null,null,null,null,{"$f":"VLOOKUP(Y840,[1]SRA!$S$4:$Z$368,7,0)","v":0},"","",""]
["40zaND",{"$f":"VLOOKUP($AA842,DATA!$B$3:$E$6,2,0)","v":"22:30:00"},{"$f":"VLOOKUP($AA842,DATA!$B$3:$E$6,3,0)","v":"06:30:00"},{"$f":"VLOOKUP($AA842,DATA!$B$3:$E$6,4,0)","v":3.125E-2},0.30208333333333326,0.30208333333333326,{"$f":"DATA!$C$9","v":0.89},{"$f":"DATA!$C$10","v":64},1,407.81249999999989,407.81249999999989,0,"","",0,"","",0,"","","","",null,{"$f":"X835","v":40},null,{"$f":"TEXT(Y840,\"ddd\")","v":"za"},"ND",{"$f":"IFERROR(HLOOKUP(Y840,[1]DATA!$A$1:$NB$5,5,0),\"\")","v":"-"},null,null,null,null,{"$f":"VLOOKUP(Y840,[1]SRA!$S$4:$Z$368,8,0)","v":0},"","",""]
["40zoDD",{"$f":"VLOOKUP($AA843,DATA!$B$3:$E$6,2,0)","v":"06:30:00"},{"$f":"VLOOKUP($AA843,DATA!$B$3:$E$6,3,0)","v":"14:30:00"},{"$f":"VLOOKUP($AA843,DATA!$B$3:$E$6,4,0)","v":3.125E-2},0.30208333333333331,0.30208333333333331,{"$f":"DATA!$C$9","v":0.89},{"$f":"DATA!$C$10","v":64},1,407.8125,407.8125,0,"","",0,"","",0,"","","","",null,{"$f":"X835","v":40},"2018-10-07",{"$f":"TEXT(Y843,\"ddd\")","v":"zo"},"DD",{"$f":"IFERROR(HLOOKUP(Y843,[1]DATA!$A$1:$NB$5,3,0),\"\")","v":"-"},null,null,null,null,{"$f":"VLOOKUP(Y843,[1]SRA!$S$4:$Z$368,6,0)","v":0},"","",""]
["40zoMD",{"$f":"VLOOKUP($AA844,DATA!$B$3:$E$6,2,0)","v":"14:30:00"},{"$f":"VLOOKUP($AA844,DATA!$B$3:$E$6,3,0)","v":"22:30:00"},{"$f":"VLOOKUP($AA844,DATA!$B$3:$E$6,4,0)","v":3.125E-2},0.30208333333333337,0.30208333333333337,{"$f":"DATA!$C$9","v":0.89},{"$f":"DATA!$C$10","v":64},1,407.81250000000006,407.81250000000006,0,"","",0,"","",0,"","","","",null,{"$f":"X835","v":40},null,{"$f":"TEXT(Y843,\"ddd\")","v":"zo"},"MD",{"$f":"IFERROR(HLOOKUP(Y843,[1]DATA!$A$1:$NB$5,4,0),\"\")","v":"-"},null,null,null,null,{"$f":"VLOOKUP(Y843,[1]SRA!$S$4:$Z$368,7,0)","v":0},"","",""]
["40zoZND",{"$f":"VLOOKUP($AA845,DATA!$B$3:$E$6,2,0)","v":"00:00:00"},{"$f":"VLOOKUP($AA845,DATA!$B$3:$E$6,3,0)","v":"00:00:00"},{"$f":"VLOOKUP($AA845,DATA!$B$3:$E$6,4,0)","v":0},0,0,{"$f":"DATA!$C$9","v":0.89},{"$f":"DATA!$C$10","v":64},1,0,0,0,"","",0,"","",0,"","","","",null,{"$f":"X835","v":40},null,{"$f":"TEXT(Y843,\"ddd\")","v":"zo"},"ZND",{"$f":"IFERROR(HLOOKUP(Y843,[1]DATA!$A$1:$NB$5,5,0),\"\")","v":"-"},null,null,null,null,{"$f":"VLOOKUP(Y843,[1]SRA!$S$4:$Z$368,8,0)","v":0},"","",""]
["41maDD",{"$f":"VLOOKUP($AA846,DATA!$B$3:$E$6,2,0)","v":"06:30:00"},{"$f":"VLOOKUP($AA846,DATA!$B$3:$E$6,3,0)","v":"14:30:00"},{"$f":"VLOOKUP($AA846,DATA!$B$3:$E$6,4,0)","v":3.125E-2},0.30208333333333331,0.30208333333333331,{"$f":"DATA!$C$9","v":0.89},{"$f":"DATA!$C$10","v":64},1,407.8125,407.8125,0,"","",{"$f":"TIME(INT($AD846/60),INT(MOD($AD846,60)/1),0)","v":0},"","",0,"","","","",null,{"$f":"X856","v":41},"2018-10-08",{"$f":"TEXT(Y846,\"ddd\")","v":"ma"},"DD",{"$f":"IFERROR(HLOOKUP(Y846,[1]DATA!$A$1:$NB$5,3,0),\"\")","v":"D3"},null,null,null,null,{"$f":"VLOOKUP(Y846,[1]SRA!$S$4:$AA$368,6,0)","v":0},"","","",{"$f":"IF(SUMIF(S846:S866,\">0\",K846:K866)=0,\"\",SUMIF(S846:S866,\">0\",K846:K866))","v":""},{"$f":"IF(SUM(S846:S866)=0,\"\",SUM(S846:S866))","v":""},{"$f":"IFERROR(AL846/AK846,\"-\")","v":"-"},{"$f":"IF(SUM(M846:M866)=0,\"0\",SUM(M846:M866))","v":"0"},{"$f":"IFERROR(AN846/AK846,\"-\")","v":"-"},{"$f":"IF(SUM(P846:P866)=0,0,SUM(P846:P866))","v":0},{"$f":"IFERROR(AP846/AK846,\"-\")","v":"-"},{"$f":"IFERROR(AVERAGE(AJ846:AJ866),\"-\")","v":"-"},{"$f":"IFERROR(SUMIF($AB846:$AB866,AS$5,$AJ846:$AJ866)/COUNTIFS($AB846:$AB866,AS$5,$AJ846:$AJ866,\">0\"),\"\")","v":""},"","",{"$f":"IFERROR((AK846-AL846-AN846-AP846),\"-\")","v":"-"},{"$f":"IFERROR((1-AM846-AO846-AQ846), \"-\")","v":"-"},{"$f":"IFERROR((AV846*$AE$2)/60,\"-\")","v":"-"},{"$f":"IFERROR(SUM(AG846:AG866),\"\")","v":0}]
["41maMD",{"$f":"VLOOKUP($AA847,DATA!$B$3:$E$6,2,0)","v":"14:30:00"},{"$f":"VLOOKUP($AA847,DATA!$B$3:$E$6,3,0)","v":"22:30:00"},{"$f":"VLOOKUP($AA847,DATA!$B$3:$E$6,4,0)","v":3.125E-2},0.30208333333333337,0.30208333333333337,{"$f":"DATA!$C$9","v":0.89},{"$f":"DATA!$C$10","v":64},1,407.81250000000006,407.81250000000006,0,"","",{"$f":"TIME(INT(AD847/60),INT(MOD(AD847,60)/1),0)","v":0},"","",0,"","","","",null,{"$f":"X856","v":41},null,{"$f":"TEXT(Y846,\"ddd\")","v":"ma"},"MD",{"$f":"IFERROR(HLOOKUP(Y846,[1]DATA!$A$1:$NB$5,4,0),\"\")","v":"D2"},null,null,null,null,{"$f":"VLOOKUP(Y846,[1]SRA!$S$4:$Z$368,7,0)","v":0},"","",""]
["41maND",{"$f":"VLOOKUP($AA848,DATA!$B$3:$E$6,2,0)","v":"22:30:00"},{"$f":"VLOOKUP($AA848,DATA!$B$3:$E$6,3,0)","v":"06:30:00"},{"$f":"VLOOKUP($AA848,DATA!$B$3:$E$6,4,0)","v":3.125E-2},0.30208333333333326,0.30208333333333326,{"$f":"DATA!$C$9","v":0.89},{"$f":"DATA!$C$10","v":64},1,407.81249999999989,407.81249999999989,0,"","",0,"","",0,"","","","",null,{"$f":"X856","v":41},null,{"$f":"TEXT(Y846,\"ddd\")","v":"ma"},"ND",{"$f":"IFERROR(HLOOKUP(Y846,[1]DATA!$A$1:$NB$5,5,0),\"\")","v":"D1"},null,null,null,null,{"$f":"VLOOKUP(Y846,[1]SRA!$S$4:$Z$368,8,0)","v":0},"","",""]
["41diDD",{"$f":"VLOOKUP($AA849,DATA!$B$3:$E$6,2,0)","v":"06:30:00"},{"$f":"VLOOKUP($AA849,DATA!$B$3:$E$6,3,0)","v":"14:30:00"},{"$f":"VLOOKUP($AA849,DATA!$B$3:$E$6,4,0)","v":3.125E-2},0.30208333333333331,0.30208333333333331,{"$f":"DATA!$C$9","v":0.89},{"$f":"DATA!$C$10","v":64},1,407.8125,407.8125,0,"","",0,"","",0,"","","","",null,{"$f":"X856","v":41},"2018-10-09",{"$f":"TEXT(Y849,\"ddd\")","v":"di"},"DD",{"$f":"IFERROR(HLOOKUP(Y849,[1]DATA!$A$1:$NB$5,3,0),\"\")","v":"D3"},null,null,null,null,{"$f":"VLOOKUP(Y849,[1]SRA!$S$4:$Z$368,6,0)","v":0},"","",""]
["41diMD",{"$f":"VLOOKUP($AA850,DATA!$B$3:$E$6,2,0)","v":"14:30:00"},{"$f":"VLOOKUP($AA850,DATA!$B$3:$E$6,3,0)","v":"22:30:00"},{"$f":"VLOOKUP($AA850,DATA!$B$3:$E$6,4,0)","v":3.125E-2},0.30208333333333337,0.30208333333333337,{"$f":"DATA!$C$9","v":0.89},{"$f":"DATA!$C$10","v":64},1,407.81250000000006,407.81250000000006,0,"","",0,"","",0,"","","","",null,{"$f":"X856","v":41},null,{"$f":"TEXT(Y849,\"ddd\")","v":"di"},"MD",{"$f":"IFERROR(HLOOKUP(Y849,[1]DATA!$A$1:$NB$5,4,0),\"\")","v":"D2"},null,null,null,null,{"$f":"VLOOKUP(Y849,[1]SRA!$S$4:$Z$368,7,0)","v":0},"","",""]
["41diND",{"$f":"VLOOKUP($AA851,DATA!$B$3:$E$6,2,0)","v":"22:30:00"},{"$f":"VLOOKUP($AA851,DATA!$B$3:$E$6,3,0)","v":"06:30:00"},{"$f":"VLOOKUP($AA851,DATA!$B$3:$E$6,4,0)","v":3.125E-2},0.30208333333333326,0.30208333333333326,{"$f":"DATA!$C$9","v":0.89},{"$f":"DATA!$C$10","v":64},1,407.81249999999989,407.81249999999989,0,"","",0,"","",0,"","","","",null,{"$f":"X856","v":41},null,{"$f":"TEXT(Y849,\"ddd\")","v":"di"},"ND",{"$f":"IFERROR(HLOOKUP(Y849,[1]DATA!$A$1:$NB$5,5,0),\"\")","v":"D1"},null,null,null,null,{"$f":"VLOOKUP(Y849,[1]SRA!$S$4:$Z$368,8,0)","v":0},"","",""]
["41woDD",{"$f":"VLOOKUP($AA852,DATA!$B$3:$E$6,2,0)","v":"06:30:00"},{"$f":"VLOOKUP($AA852,DATA!$B$3:$E$6,3,0)","v":"14:30:00"},{"$f":"VLOOKUP($AA852,DATA!$B$3:$E$6,4,0)","v":3.125E-2},0.30208333333333331,0.30208333333333331,{"$f":"DATA!$C$9","v":0.89},{"$f":"DATA!$C$10","v":64},1,407.8125,407.8125,0,"","",0,"","",0,"","","","",null,{"$f":"X856","v":41},"2018-10-10",{"$f":"TEXT(Y852,\"ddd\")","v":"wo"},"DD",{"$f":"IFERROR(HLOOKUP(Y852,[1]DATA!$A$1:$NB$5,3,0),\"\")","v":"D3"},null,null,null,null,{"$f":"VLOOKUP(Y852,[1]SRA!$S$4:$Z$368,6,0)","v":0},"","",""]
["41woMD",{"$f":"VLOOKUP($AA853,DATA!$B$3:$E$6,2,0)","v":"14:30:00"},{"$f":"VLOOKUP($AA853,DATA!$B$3:$E$6,3,0)","v":"22:30:00"},{"$f":"VLOOKUP($AA853,DATA!$B$3:$E$6,4,0)","v":3.125E-2},0.30208333333333337,0.30208333333333337,{"$f":"DATA!$C$9","v":0.89},{"$f":"DATA!$C$10","v":64},1,407.81250000000006,407.81250000000006,0,"","",0,"","",0,"","","","",null,{"$f":"X856","v":41},null,{"$f":"TEXT(Y852,\"ddd\")","v":"wo"},"MD",{"$f":"IFERROR(HLOOKUP(Y852,[1]DATA!$A$1:$NB$5,4,0),\"\")","v":"D2"},null,null,null,null,{"$f":"VLOOKUP(Y852,[1]SRA!$S$4:$Z$368,7,0)","v":0},"","",""]
["41woND",{"$f":"VLOOKUP($AA854,DATA!$B$3:$E$6,2,0)","v":"22:30:00"},{"$f":"VLOOKUP($AA854,DATA!$B$3:$E$6,3,0)","v":"06:30:00"},{"$f":"VLOOKUP($AA854,DATA!$B$3:$E$6,4,0)","v":3.125E-2},0.30208333333333326,0.30208333333333326,{"$f":"DATA!$C$9","v":0.89},{"$f":"DATA!$C$10","v":64},1,407.81249999999989,407.81249999999989,0,"","",0,"","",0,"","","","",null,{"$f":"X856","v":41},null,{"$f":"TEXT(Y852,\"ddd\")","v":"wo"},"ND",{"$f":"IFERROR(HLOOKUP(Y852,[1]DATA!$A$1:$NB$5,5,0),\"\")","v":"D1"},null,null,null,null,{"$f":"VLOOKUP(Y852,[1]SRA!$S$4:$Z$368,8,0)","v":0},"","",""]
["41doDD",{"$f":"VLOOKUP($AA855,DATA!$B$3:$E$6,2,0)","v":"06:30:00"},{"$f":"VLOOKUP($AA855,DATA!$B$3:$E$6,3,0)","v":"14:30:00"},{"$f":"VLOOKUP($AA855,DATA!$B$3:$E$6,4,0)","v":3.125E-2},0.30208333333333331,0.30208333333333331,{"$f":"DATA!$C$9","v":0.89},{"$f":"DATA!$C$10","v":64},1,407.8125,407.8125,0,"","",0,"","",0,"","","","",null,{"$f":"X856","v":41},"2018-10-11",{"$f":"TEXT(Y855,\"ddd\")","v":"do"},"DD",{"$f":"IFERROR(HLOOKUP(Y855,[1]DATA!$A$1:$NB$5,3,0),\"\")","v":"D3"},null,null,null,null,{"$f":"VLOOKUP(Y855,[1]SRA!$S$4:$Z$368,6,0)","v":0},"","",""]
["41doMD",{"$f":"VLOOKUP($AA856,DATA!$B$3:$E$6,2,0)","v":"14:30:00"},{"$f":"VLOOKUP($AA856,DATA!$B$3:$E$6,3,0)","v":"22:30:00"},{"$f":"VLOOKUP($AA856,DATA!$B$3:$E$6,4,0)","v":3.125E-2},0.30208333333333337,0.30208333333333337,{"$f":"DATA!$C$9","v":0.89},{"$f":"DATA!$C$10","v":64},1,407.81250000000006,407.81250000000006,0,"","",0,"","",0,"","","","",null,{"$f":"WEEKNUM($Y846)","v":41},null,{"$f":"TEXT(Y855,\"ddd\")","v":"do"},"MD",{"$f":"IFERROR(HLOOKUP(Y855,[1]DATA!$A$1:$NB$5,4,0),\"\")","v":"D2"},null,null,null,null,{"$f":"VLOOKUP(Y855,[1]SRA!$S$4:$Z$368,7,0)","v":0},"","",""]
["41doND",{"$f":"VLOOKUP($AA857,DATA!$B$3:$E$6,2,0)","v":"22:30:00"},{"$f":"VLOOKUP($AA857,DATA!$B$3:$E$6,3,0)","v":"06:30:00"},{"$f":"VLOOKUP($AA857,DATA!$B$3:$E$6,4,0)","v":3.125E-2},0.30208333333333326,0.30208333333333326,{"$f":"DATA!$C$9","v":0.89},{"$f":"DATA!$C$10","v":64},1,407.81249999999989,407.81249999999989,0,"","",0,"","",0,"","","","",null,{"$f":"X856","v":41},null,{"$f":"TEXT(Y855,\"ddd\")","v":"do"},"ND",{"$f":"IFERROR(HLOOKUP(Y855,[1]DATA!$A$1:$NB$5,5,0),\"\")","v":"D1"},null,null,null,null,{"$f":"VLOOKUP(Y855,[1]SRA!$S$4:$Z$368,8,0)","v":0},"","",""]
["41vrDD",{"$f":"VLOOKUP($AA858,DATA!$B$3:$E$6,2,0)","v":"06:30:00"},{"$f":"VLOOKUP($AA858,DATA!$B$3:$E$6,3,0)","v":"14:30:00"},{"$f":"VLOOKUP($AA858,DATA!$B$3:$E$6,4,0)","v":3.125E-2},0.30208333333333331,0.30208333333333331,{"$f":"DATA!$C$9","v":0.89},{"$f":"DATA!$C$10","v":64},1,407.8125,407.8125,0,"","",0,"","",0,"","","","",null,{"$f":"X856","v":41},"2018-10-12",{"$f":"TEXT(Y858,\"ddd\")","v":"vr"},"DD",{"$f":"IFERROR(HLOOKUP(Y858,[1]DATA!$A$1:$NB$5,3,0),\"\")","v":"D3"},null,null,null,null,{"$f":"VLOOKUP(Y858,[1]SRA!$S$4:$Z$368,6,0)","v":0},"","",""]
["41vrMD",{"$f":"VLOOKUP($AA859,DATA!$B$3:$E$6,2,0)","v":"14:30:00"},{"$f":"VLOOKUP($AA859,DATA!$B$3:$E$6,3,0)","v":"22:30:00"},{"$f":"VLOOKUP($AA859,DATA!$B$3:$E$6,4,0)","v":3.125E-2},0.30208333333333337,0.30208333333333337,{"$f":"DATA!$C$9","v":0.89},{"$f":"DATA!$C$10","v":64},1,407.81250000000006,407.81250000000006,0,"","",0,"","",0,"","","","",null,{"$f":"X856","v":41},null,{"$f":"TEXT(Y858,\"ddd\")","v":"vr"},"MD",{"$f":"IFERROR(HLOOKUP(Y858,[1]DATA!$A$1:$NB$5,4,0),\"\")","v":"D2"},null,null,null,null,{"$f":"VLOOKUP(Y858,[1]SRA!$S$4:$Z$368,7,0)","v":0},"","",{"$f":"IFERROR(R859/(R859+AG859),\"\")","v":""}]
["41vrND",{"$f":"VLOOKUP($AA860,DATA!$B$3:$E$6,2,0)","v":"22:30:00"},{"$f":"VLOOKUP($AA860,DATA!$B$3:$E$6,3,0)","v":"06:30:00"},{"$f":"VLOOKUP($AA860,DATA!$B$3:$E$6,4,0)","v":3.125E-2},{"$f":"(C860-B860+(B860>C860))-D860","v":0.30208333333333326},{"$f":"E860-O860-L860","v":0.30208333333333326},{"$f":"DATA!$C$9","v":0.89},{"$f":"DATA!$C$10","v":64},1,{"$f":"F860*86400/H860*I860","v":407.81249999999989},{"$f":"E860*86400/H860","v":407.81249999999989},0,"","",0,"","",{"$f":"AF860*AG$2","v":0},{"$f":"IF(AF860-AE860=0,\"\",AF860-AE860)","v":""},"","","",null,{"$f":"X856","v":41},null,{"$f":"TEXT(Y858,\"ddd\")","v":"vr"},"ND",{"$f":"IFERROR(HLOOKUP(Y858,[1]DATA!$A$1:$NB$5,5,0),\"\")","v":"D2"},null,null,null,null,{"$f":"VLOOKUP(Y858,[1]SRA!$S$4:$Z$368,8,0)","v":0},"","",""]
["41zaDD",{"$f":"VLOOKUP($AA861,DATA!$B$3:$E$6,2,0)","v":"06:30:00"},{"$f":"VLOOKUP($AA861,DATA!$B$3:$E$6,3,0)","v":"14:30:00"},{"$f":"VLOOKUP($AA861,DATA!$B$3:$E$6,4,0)","v":3.125E-2},0.30208333333333331,0.30208333333333331,{"$f":"DATA!$C$9","v":0.89},{"$f":"DATA!$C$10","v":64},1,407.8125,407.8125,0,"","",0,"","",0,"","","","",null,{"$f":"X856","v":41},"2018-10-13",{"$f":"TEXT(Y861,\"ddd\")","v":"za"},"DD",{"$f":"IFERROR(HLOOKUP(Y861,[1]DATA!$A$1:$NB$5,3,0),\"\")","v":"D3"},null,null,null,null,{"$f":"VLOOKUP(Y861,[1]SRA!$S$4:$Z$368,6,0)","v":0},"","",""]
["41zaMD",{"$f":"VLOOKUP($AA862,DATA!$B$3:$E$6,2,0)","v":"14:30:00"},{"$f":"VLOOKUP($AA862,DATA!$B$3:$E$6,3,0)","v":"22:30:00"},{"$f":"VLOOKUP($AA862,DATA!$B$3:$E$6,4,0)","v":3.125E-2},0.30208333333333337,0.30208333333333337,{"$f":"DATA!$C$9","v":0.89},{"$f":"DATA!$C$10","v":64},1,407.81250000000006,407.81250000000006,0,"","",0,"","",0,"","","","",null,{"$f":"X856","v":41},null,{"$f":"TEXT(Y861,\"ddd\")","v":"za"},"MD",{"$f":"IFERROR(HLOOKUP(Y861,[1]DATA!$A$1:$NB$5,4,0),\"\")","v":"-"},null,null,null,null,{"$f":"VLOOKUP(Y861,[1]SRA!$S$4:$Z$368,7,0)","v":0},"","",""]
["41zaND",{"$f":"VLOOKUP($AA863,DATA!$B$3:$E$6,2,0)","v":"22:30:00"},{"$f":"VLOOKUP($AA863,DATA!$B$3:$E$6,3,0)","v":"06:30:00"},{"$f":"VLOOKUP($AA863,DATA!$B$3:$E$6,4,0)","v":3.125E-2},0.30208333333333326,0.30208333333333326,{"$f":"DATA!$C$9","v":0.89},{"$f":"DATA!$C$10","v":64},1,407.81249999999989,407.81249999999989,0,"","",0,"","",0,"","","","",null,{"$f":"X856","v":41},null,{"$f":"TEXT(Y861,\"ddd\")","v":"za"},"ND",{"$f":"IFERROR(HLOOKUP(Y861,[1]DATA!$A$1:$NB$5,5,0),\"\")","v":"-"},null,null,null,null,{"$f":"VLOOKUP(Y861,[1]SRA!$S$4:$Z$368,8,0)","v":0},"","",""]
["41zoDD",{"$f":"VLOOKUP($AA864,DATA!$B$3:$E$6,2,0)","v":"06:30:00"},{"$f":"VLOOKUP($AA864,DATA!$B$3:$E$6,3,0)","v":"14:30:00"},{"$f":"VLOOKUP($AA864,DATA!$B$3:$E$6,4,0)","v":3.125E-2},0.30208333333333331,0.30208333333333331,{"$f":"DATA!$C$9","v":0.89},{"$f":"DATA!$C$10","v":64},1,407.8125,407.8125,0,"","",0,"","",0,"","","","",null,{"$f":"X856","v":41},"2018-10-14",{"$f":"TEXT(Y864,\"ddd\")","v":"zo"},"DD",{"$f":"IFERROR(HLOOKUP(Y864,[1]DATA!$A$1:$NB$5,3,0),\"\")","v":"-"},null,null,null,null,{"$f":"VLOOKUP(Y864,[1]SRA!$S$4:$Z$368,6,0)","v":0},"","",""]
["41zoMD",{"$f":"VLOOKUP($AA865,DATA!$B$3:$E$6,2,0)","v":"14:30:00"},{"$f":"VLOOKUP($AA865,DATA!$B$3:$E$6,3,0)","v":"22:30:00"},{"$f":"VLOOKUP($AA865,DATA!$B$3:$E$6,4,0)","v":3.125E-2},0.30208333333333337,0.30208333333333337,{"$f":"DATA!$C$9","v":0.89},{"$f":"DATA!$C$10","v":64},1,407.81250000000006,407.81250000000006,0,"","",0,"","",0,"","","","",null,{"$f":"X856","v":41},null,{"$f":"TEXT(Y864,\"ddd\")","v":"zo"},"MD",{"$f":"IFERROR(HLOOKUP(Y864,[1]DATA!$A$1:$NB$5,4,0),\"\")","v":"-"},null,null,null,null,{"$f":"VLOOKUP(Y864,[1]SRA!$S$4:$Z$368,7,0)","v":0},"","",""]
["41zoZND",{"$f":"VLOOKUP($AA866,DATA!$B$3:$E$6,2,0)","v":"00:00:00"},{"$f":"VLOOKUP($AA866,DATA!$B$3:$E$6,3,0)","v":"00:00:00"},{"$f":"VLOOKUP($AA866,DATA!$B$3:$E$6,4,0)","v":0},0,0,{"$f":"DATA!$C$9","v":0.89},{"$f":"DATA!$C$10","v":64},1,0,0,0,"","",0,"","",0,"","","","",null,{"$f":"X856","v":41},null,{"$f":"TEXT(Y864,\"ddd\")","v":"zo"},"ZND",{"$f":"IFERROR(HLOOKUP(Y864,[1]DATA!$A$1:$NB$5,5,0),\"\")","v":"-"},null,null,null,null,{"$f":"VLOOKUP(Y864,[1]SRA!$S$4:$Z$368,8,0)","v":0},"","",""]
["42maDD",{"$f":"VLOOKUP($AA867,DATA!$B$3:$E$6,2,0)","v":"06:30:00"},{"$f":"VLOOKUP($AA867,DATA!$B$3:$E$6,3,0)","v":"14:30:00"},{"$f":"VLOOKUP($AA867,DATA!$B$3:$E$6,4,0)","v":3.125E-2},0.30208333333333331,0.30208333333333331,{"$f":"DATA!$C$9","v":0.89},{"$f":"DATA!$C$10","v":64},1,407.8125,407.8125,0,"","",{"$f":"TIME(INT($AD867/60),INT(MOD($AD867,60)/1),0)","v":0},"","",0,"","","","",null,{"$f":"X877","v":42},"2018-10-15",{"$f":"TEXT(Y867,\"ddd\")","v":"ma"},"DD",{"$f":"IFERROR(HLOOKUP(Y867,[1]DATA!$A$1:$NB$5,3,0),\"\")","v":"D2"},null,null,null,null,{"$f":"VLOOKUP(Y867,[1]SRA!$S$4:$AA$368,6,0)","v":0},"","","",{"$f":"IF(SUMIF(S867:S887,\">0\",K867:K887)=0,\"\",SUMIF(S867:S887,\">0\",K867:K887))","v":""},{"$f":"IF(SUM(S867:S887)=0,\"\",SUM(S867:S887))","v":""},{"$f":"IFERROR(AL867/AK867,\"-\")","v":"-"},{"$f":"IF(SUM(M867:M887)=0,\"0\",SUM(M867:M887))","v":"0"},{"$f":"IFERROR(AN867/AK867,\"-\")","v":"-"},{"$f":"IF(SUM(P867:P887)=0,0,SUM(P867:P887))","v":0},{"$f":"IFERROR(AP867/AK867,\"-\")","v":"-"},"-",{"$f":"IFERROR(SUMIF($AB867:$AB887,AS$5,$AJ867:$AJ887)/COUNTIFS($AB867:$AB887,AS$5,$AJ867:$AJ887,\">0\"),\"\")","v":""},"","",{"$f":"IFERROR((AK867-AL867-AN867-AP867),\"-\")","v":"-"},{"$f":"IFERROR((1-AM867-AO867-AQ867), \"-\")","v":"-"},{"$f":"IFERROR((AV867*$AE$2)/60,\"-\")","v":"-"},{"$f":"IFERROR(SUM(AG867:AG887),\"\")","v":0}]
["42maMD",{"$f":"VLOOKUP($AA868,DATA!$B$3:$E$6,2,0)","v":"14:30:00"},{"$f":"VLOOKUP($AA868,DATA!$B$3:$E$6,3,0)","v":"22:30:00"},{"$f":"VLOOKUP($AA868,DATA!$B$3:$E$6,4,0)","v":3.125E-2},0.30208333333333337,0.30208333333333337,{"$f":"DATA!$C$9","v":0.89},{"$f":"DATA!$C$10","v":64},1,407.81250000000006,407.81250000000006,0,"","",{"$f":"TIME(INT(AD868/60),INT(MOD(AD868,60)/1),0)","v":0},"","",0,"","","","",null,{"$f":"X877","v":42},null,{"$f":"TEXT(Y867,\"ddd\")","v":"ma"},"MD",{"$f":"IFERROR(HLOOKUP(Y867,[1]DATA!$A$1:$NB$5,4,0),\"\")","v":"D1"},null,null,null,null,{"$f":"VLOOKUP(Y867,[1]SRA!$S$4:$Z$368,7,0)","v":0},"","",""]
["42maND",{"$f":"VLOOKUP($AA869,DATA!$B$3:$E$6,2,0)","v":"22:30:00"},{"$f":"VLOOKUP($AA869,DATA!$B$3:$E$6,3,0)","v":"06:30:00"},{"$f":"VLOOKUP($AA869,DATA!$B$3:$E$6,4,0)","v":3.125E-2},0.30208333333333326,0.30208333333333326,{"$f":"DATA!$C$9","v":0.89},{"$f":"DATA!$C$10","v":64},1,407.81249999999989,407.81249999999989,0,"","",0,"","",0,"","","","",null,{"$f":"X877","v":42},null,{"$f":"TEXT(Y867,\"ddd\")","v":"ma"},"ND",{"$f":"IFERROR(HLOOKUP(Y867,[1]DATA!$A$1:$NB$5,5,0),\"\")","v":"D3"},null,null,null,null,{"$f":"VLOOKUP(Y867,[1]SRA!$S$4:$Z$368,8,0)","v":0},"","",""]
["42diDD",{"$f":"VLOOKUP($AA870,DATA!$B$3:$E$6,2,0)","v":"06:30:00"},{"$f":"VLOOKUP($AA870,DATA!$B$3:$E$6,3,0)","v":"14:30:00"},{"$f":"VLOOKUP($AA870,DATA!$B$3:$E$6,4,0)","v":3.125E-2},0.30208333333333331,0.30208333333333331,{"$f":"DATA!$C$9","v":0.89},{"$f":"DATA!$C$10","v":64},1,407.8125,407.8125,0,"","",0,"","",0,"","","","",null,{"$f":"X877","v":42},"2018-10-16",{"$f":"TEXT(Y870,\"ddd\")","v":"di"},"DD",{"$f":"IFERROR(HLOOKUP(Y870,[1]DATA!$A$1:$NB$5,3,0),\"\")","v":"D2"},null,null,null,null,{"$f":"VLOOKUP(Y870,[1]SRA!$S$4:$Z$368,6,0)","v":0},"","",""]
["42diMD",{"$f":"VLOOKUP($AA871,DATA!$B$3:$E$6,2,0)","v":"14:30:00"},{"$f":"VLOOKUP($AA871,DATA!$B$3:$E$6,3,0)","v":"22:30:00"},{"$f":"VLOOKUP($AA871,DATA!$B$3:$E$6,4,0)","v":3.125E-2},0.30208333333333337,0.30208333333333337,{"$f":"DATA!$C$9","v":0.89},{"$f":"DATA!$C$10","v":64},1,407.81250000000006,407.81250000000006,0,"","",0,"","",0,"","","","",null,{"$f":"X877","v":42},null,{"$f":"TEXT(Y870,\"ddd\")","v":"di"},"MD",{"$f":"IFERROR(HLOOKUP(Y870,[1]DATA!$A$1:$NB$5,4,0),\"\")","v":"D1"},null,null,null,null,{"$f":"VLOOKUP(Y870,[1]SRA!$S$4:$Z$368,7,0)","v":0},"","",""]
["42diND",{"$f":"VLOOKUP($AA872,DATA!$B$3:$E$6,2,0)","v":"22:30:00"},{"$f":"VLOOKUP($AA872,DATA!$B$3:$E$6,3,0)","v":"06:30:00"},{"$f":"VLOOKUP($AA872,DATA!$B$3:$E$6,4,0)","v":3.125E-2},0.30208333333333326,0.30208333333333326,{"$f":"DATA!$C$9","v":0.89},{"$f":"DATA!$C$10","v":64},1,407.81249999999989,407.81249999999989,0,"","",0,"","",0,"","","","",null,{"$f":"X877","v":42},null,{"$f":"TEXT(Y870,\"ddd\")","v":"di"},"ND",{"$f":"IFERROR(HLOOKUP(Y870,[1]DATA!$A$1:$NB$5,5,0),\"\")","v":"D3"},null,null,null,null,{"$f":"VLOOKUP(Y870,[1]SRA!$S$4:$Z$368,8,0)","v":0},"","",""]
["42woDD",{"$f":"VLOOKUP($AA873,DATA!$B$3:$E$6,2,0)","v":"06:30:00"},{"$f":"VLOOKUP($AA873,DATA!$B$3:$E$6,3,0)","v":"14:30:00"},{"$f":"VLOOKUP($AA873,DATA!$B$3:$E$6,4,0)","v":3.125E-2},0.30208333333333331,0.30208333333333331,{"$f":"DATA!$C$9","v":0.89},{"$f":"DATA!$C$10","v":64},1,407.8125,407.8125,0,"","",0,"","",0,"","","","",null,{"$f":"X877","v":42},"2018-10-17",{"$f":"TEXT(Y873,\"ddd\")","v":"wo"},"DD",{"$f":"IFERROR(HLOOKUP(Y873,[1]DATA!$A$1:$NB$5,3,0),\"\")","v":"D2"},null,null,null,null,{"$f":"VLOOKUP(Y873,[1]SRA!$S$4:$Z$368,6,0)","v":0},"","",""]
["42woMD",{"$f":"VLOOKUP($AA874,DATA!$B$3:$E$6,2,0)","v":"14:30:00"},{"$f":"VLOOKUP($AA874,DATA!$B$3:$E$6,3,0)","v":"22:30:00"},{"$f":"VLOOKUP($AA874,DATA!$B$3:$E$6,4,0)","v":3.125E-2},0.30208333333333337,0.30208333333333337,{"$f":"DATA!$C$9","v":0.89},{"$f":"DATA!$C$10","v":64},1,407.81250000000006,407.81250000000006,0,"","",0,"","",0,"","","","",null,{"$f":"X877","v":42},null,{"$f":"TEXT(Y873,\"ddd\")","v":"wo"},"MD",{"$f":"IFERROR(HLOOKUP(Y873,[1]DATA!$A$1:$NB$5,4,0),\"\")","v":"D1"},null,null,null,null,{"$f":"VLOOKUP(Y873,[1]SRA!$S$4:$Z$368,7,0)","v":0},"","",""]
["42woND",{"$f":"VLOOKUP($AA875,DATA!$B$3:$E$6,2,0)","v":"22:30:00"},{"$f":"VLOOKUP($AA875,DATA!$B$3:$E$6,3,0)","v":"06:30:00"},{"$f":"VLOOKUP($AA875,DATA!$B$3:$E$6,4,0)","v":3.125E-2},0.30208333333333326,0.30208333333333326,{"$f":"DATA!$C$9","v":0.89},{"$f":"DATA!$C$10","v":64},1,407.81249999999989,407.81249999999989,0,"","",0,"","",0,"","","","",null,{"$f":"X877","v":42},null,{"$f":"TEXT(Y873,\"ddd\")","v":"wo"},"ND",{"$f":"IFERROR(HLOOKUP(Y873,[1]DATA!$A$1:$NB$5,5,0),\"\")","v":"D3"},null,null,null,null,{"$f":"VLOOKUP(Y873,[1]SRA!$S$4:$Z$368,8,0)","v":0},"","",""]
["42doDD",{"$f":"VLOOKUP($AA876,DATA!$B$3:$E$6,2,0)","v":"06:30:00"},{"$f":"VLOOKUP($AA876,DATA!$B$3:$E$6,3,0)","v":"14:30:00"},{"$f":"VLOOKUP($AA876,DATA!$B$3:$E$6,4,0)","v":3.125E-2},0.30208333333333331,0.30208333333333331,{"$f":"DATA!$C$9","v":0.89},{"$f":"DATA!$C$10","v":64},1,407.8125,407.8125,0,"","",0,"","",0,"","","","",null,{"$f":"X877","v":42},"2018-10-18",{"$f":"TEXT(Y876,\"ddd\")","v":"do"},"DD",{"$f":"IFERROR(HLOOKUP(Y876,[1]DATA!$A$1:$NB$5,3,0),\"\")","v":"D2"},null,null,null,null,{"$f":"VLOOKUP(Y876,[1]SRA!$S$4:$Z$368,6,0)","v":0},"","",""]
["42doMD",{"$f":"VLOOKUP($AA877,DATA!$B$3:$E$6,2,0)","v":"14:30:00"},{"$f":"VLOOKUP($AA877,DATA!$B$3:$E$6,3,0)","v":"22:30:00"},{"$f":"VLOOKUP($AA877,DATA!$B$3:$E$6,4,0)","v":3.125E-2},0.30208333333333337,0.30208333333333337,{"$f":"DATA!$C$9","v":0.89},{"$f":"DATA!$C$10","v":64},1,407.81250000000006,407.81250000000006,0,"","",0,"","",0,"","","","",null,{"$f":"WEEKNUM($Y867)","v":42},null,{"$f":"TEXT(Y876,\"ddd\")","v":"do"},"MD",{"$f":"IFERROR(HLOOKUP(Y876,[1]DATA!$A$1:$NB$5,4,0),\"\")","v":"D1"},null,null,null,null,{"$f":"VLOOKUP(Y876,[1]SRA!$S$4:$Z$368,7,0)","v":0},"","",""]
["42doND",{"$f":"VLOOKUP($AA878,DATA!$B$3:$E$6,2,0)","v":"22:30:00"},{"$f":"VLOOKUP($AA878,DATA!$B$3:$E$6,3,0)","v":"06:30:00"},{"$f":"VLOOKUP($AA878,DATA!$B$3:$E$6,4,0)","v":3.125E-2},0.30208333333333326,0.30208333333333326,{"$f":"DATA!$C$9","v":0.89},{"$f":"DATA!$C$10","v":64},1,407.81249999999989,407.81249999999989,0,"","",0,"","",0,"","","","",null,{"$f":"X877","v":42},null,{"$f":"TEXT(Y876,\"ddd\")","v":"do"},"ND",{"$f":"IFERROR(HLOOKUP(Y876,[1]DATA!$A$1:$NB$5,5,0),\"\")","v":"D3"},null,null,null,null,{"$f":"VLOOKUP(Y876,[1]SRA!$S$4:$Z$368,8,0)","v":0},"","",""]
["42vrDD",{"$f":"VLOOKUP($AA879,DATA!$B$3:$E$6,2,0)","v":"06:30:00"},{"$f":"VLOOKUP($AA879,DATA!$B$3:$E$6,3,0)","v":"14:30:00"},{"$f":"VLOOKUP($AA879,DATA!$B$3:$E$6,4,0)","v":3.125E-2},0.30208333333333331,0.30208333333333331,{"$f":"DATA!$C$9","v":0.89},{"$f":"DATA!$C$10","v":64},1,407.8125,407.8125,0,"","",0,"","",0,"","","","",null,{"$f":"X877","v":42},"2018-10-19",{"$f":"TEXT(Y879,\"ddd\")","v":"vr"},"DD",{"$f":"IFERROR(HLOOKUP(Y879,[1]DATA!$A$1:$NB$5,3,0),\"\")","v":"D2"},null,null,null,null,{"$f":"VLOOKUP(Y879,[1]SRA!$S$4:$Z$368,6,0)","v":0},"","",""]
[{"$f":"X880&Z880&AA880","v":"42vrMD"},{"$f":"VLOOKUP($AA880,DATA!$B$3:$E$6,2,0)","v":"14:30:00"},{"$f":"VLOOKUP($AA880,DATA!$B$3:$E$6,3,0)","v":"22:30:00"},{"$f":"VLOOKUP($AA880,DATA!$B$3:$E$6,4,0)","v":3.125E-2},0.30208333333333337,0.30208333333333337,{"$f":"DATA!$C$9","v":0.89},{"$f":"DATA!$C$10","v":64},1,407.81250000000006,407.81250000000006,0,"","",0,{"$f":"IF($O880*86400/$H880=0,\"\",$O880*86400/$H880)","v":""},"",0,"","","","",null,{"$f":"X877","v":42},null,{"$f":"TEXT(Y879,\"ddd\")","v":"vr"},"MD",{"$f":"IFERROR(HLOOKUP(Y879,[1]DATA!$A$1:$NB$5,4,0),\"\")","v":"D1"},null,null,null,null,{"$f":"VLOOKUP(Y879,[1]SRA!$S$4:$Z$368,7,0)","v":0},"","",""]
["42vrND",{"$f":"VLOOKUP($AA881,DATA!$B$3:$E$6,2,0)","v":"22:30:00"},{"$f":"VLOOKUP($AA881,DATA!$B$3:$E$6,3,0)","v":"06:30:00"},{"$f":"VLOOKUP($AA881,DATA!$B$3:$E$6,4,0)","v":3.125E-2},0.30208333333333326,0.30208333333333326,{"$f":"DATA!$C$9","v":0.89},{"$f":"DATA!$C$10","v":64},1,407.81249999999989,407.81249999999989,0,"","",0,"","",0,"","","","",null,{"$f":"X877","v":42},null,{"$f":"TEXT(Y879,\"ddd\")","v":"vr"},"ND",{"$f":"IFERROR(HLOOKUP(Y879,[1]DATA!$A$1:$NB$5,5,0),\"\")","v":"D3"},null,null,null,null,{"$f":"VLOOKUP(Y879,[1]SRA!$S$4:$Z$368,8,0)","v":0},"","",""]
["42zaDD",{"$f":"VLOOKUP($AA882,DATA!$B$3:$E$6,2,0)","v":"06:30:00"},{"$f":"VLOOKUP($AA882,DATA!$B$3:$E$6,3,0)","v":"14:30:00"},{"$f":"VLOOKUP($AA882,DATA!$B$3:$E$6,4,0)","v":3.125E-2},0.30208333333333331,0.30208333333333331,{"$f":"DATA!$C$9","v":0.89},{"$f":"DATA!$C$10","v":64},1,407.8125,407.8125,0,"","",0,"","",0,"","","","",null,{"$f":"X877","v":42},"2018-10-20",{"$f":"TEXT(Y882,\"ddd\")","v":"za"},"DD",{"$f":"IFERROR(HLOOKUP(Y882,[1]DATA!$A$1:$NB$5,3,0),\"\")","v":"D2"},null,null,null,null,{"$f":"VLOOKUP(Y882,[1]SRA!$S$4:$Z$368,6,0)","v":0},"","",""]
["42zaMD",{"$f":"VLOOKUP($AA883,DATA!$B$3:$E$6,2,0)","v":"14:30:00"},{"$f":"VLOOKUP($AA883,DATA!$B$3:$E$6,3,0)","v":"22:30:00"},{"$f":"VLOOKUP($AA883,DATA!$B$3:$E$6,4,0)","v":3.125E-2},0.30208333333333337,0.30208333333333337,{"$f":"DATA!$C$9","v":0.89},{"$f":"DATA!$C$10","v":64},1,407.81250000000006,407.81250000000006,0,"","",0,"","",0,"","","","",null,{"$f":"X877","v":42},null,{"$f":"TEXT(Y882,\"ddd\")","v":"za"},"MD",{"$f":"IFERROR(HLOOKUP(Y882,[1]DATA!$A$1:$NB$5,4,0),\"\")","v":"-"},null,null,null,null,{"$f":"VLOOKUP(Y882,[1]SRA!$S$4:$Z$368,7,0)","v":0},"","",""]
["42zaND",{"$f":"VLOOKUP($AA884,DATA!$B$3:$E$6,2,0)","v":"22:30:00"},{"$f":"VLOOKUP($AA884,DATA!$B$3:$E$6,3,0)","v":"06:30:00"},{"$f":"VLOOKUP($AA884,DATA!$B$3:$E$6,4,0)","v":3.125E-2},0.30208333333333326,0.30208333333333326,{"$f":"DATA!$C$9","v":0.89},{"$f":"DATA!$C$10","v":64},1,407.81249999999989,407.81249999999989,0,"","",0,"","",0,"","","","",null,{"$f":"X877","v":42},null,{"$f":"TEXT(Y882,\"ddd\")","v":"za"},"ND",{"$f":"IFERROR(HLOOKUP(Y882,[1]DATA!$A$1:$NB$5,5,0),\"\")","v":"-"},null,null,null,null,{"$f":"VLOOKUP(Y882,[1]SRA!$S$4:$Z$368,8,0)","v":0},"","",""]
["42zoDD",{"$f":"VLOOKUP($AA885,DATA!$B$3:$E$6,2,0)","v":"06:30:00"},{"$f":"VLOOKUP($AA885,DATA!$B$3:$E$6,3,0)","v":"14:30:00"},{"$f":"VLOOKUP($AA885,DATA!$B$3:$E$6,4,0)","v":3.125E-2},0.30208333333333331,0.30208333333333331,{"$f":"DATA!$C$9","v":0.89},{"$f":"DATA!$C$10","v":64},1,407.8125,407.8125,0,"","",0,"","",0,"","","","",null,{"$f":"X877","v":42},"2018-10-21",{"$f":"TEXT(Y885,\"ddd\")","v":"zo"},"DD",{"$f":"IFERROR(HLOOKUP(Y885,[1]DATA!$A$1:$NB$5,3,0),\"\")","v":"-"},null,null,null,null,{"$f":"VLOOKUP(Y885,[1]SRA!$S$4:$Z$368,6,0)","v":0},"","",""]
["42zoMD",{"$f":"VLOOKUP($AA886,DATA!$B$3:$E$6,2,0)","v":"14:30:00"},{"$f":"VLOOKUP($AA886,DATA!$B$3:$E$6,3,0)","v":"22:30:00"},{"$f":"VLOOKUP($AA886,DATA!$B$3:$E$6,4,0)","v":3.125E-2},0.30208333333333337,0.30208333333333337,{"$f":"DATA!$C$9","v":0.89},{"$f":"DATA!$C$10","v":64},1,407.81250000000006,407.81250000000006,0,"","",0,"","",0,"","","","",null,{"$f":"X877","v":42},null,{"$f":"TEXT(Y885,\"ddd\")","v":"zo"},"MD",{"$f":"IFERROR(HLOOKUP(Y885,[1]DATA!$A$1:$NB$5,4,0),\"\")","v":"-"},null,null,null,null,{"$f":"VLOOKUP(Y885,[1]SRA!$S$4:$Z$368,7,0)","v":0},"","",""]
["42zoZND",{"$f":"VLOOKUP($AA887,DATA!$B$3:$E$6,2,0)","v":"00:00:00"},{"$f":"VLOOKUP($AA887,DATA!$B$3:$E$6,3,0)","v":"00:00:00"},{"$f":"VLOOKUP($AA887,DATA!$B$3:$E$6,4,0)","v":0},0,0,{"$f":"DATA!$C$9","v":0.89},{"$f":"DATA!$C$10","v":64},1,0,0,0,"","",0,"","",0,"","","","",null,{"$f":"X877","v":42},null,{"$f":"TEXT(Y885,\"ddd\")","v":"zo"},"ZND",{"$f":"IFERROR(HLOOKUP(Y885,[1]DATA!$A$1:$NB$5,5,0),\"\")","v":"-"},null,null,null,null,{"$f":"VLOOKUP(Y885,[1]SRA!$S$4:$Z$368,8,0)","v":0},"","",""]
["43maDD",{"$f":"VLOOKUP($AA888,DATA!$B$3:$E$6,2,0)","v":"06:30:00"},{"$f":"VLOOKUP($AA888,DATA!$B$3:$E$6,3,0)","v":"14:30:00"},{"$f":"VLOOKUP($AA888,DATA!$B$3:$E$6,4,0)","v":3.125E-2},0.30208333333333331,0.30208333333333331,{"$f":"DATA!$C$9","v":0.89},{"$f":"DATA!$C$10","v":64},1,407.8125,407.8125,0,"","",{"$f":"TIME(INT($AD888/60),INT(MOD($AD888,60)/1),0)","v":0},"","",0,"","","","",null,{"$f":"X898","v":43},"2018-10-22",{"$f":"TEXT(Y888,\"ddd\")","v":"ma"},"DD",{"$f":"IFERROR(HLOOKUP(Y888,[1]DATA!$A$1:$NB$5,3,0),\"\")","v":"D1"},null,null,null,null,{"$f":"VLOOKUP(Y888,[1]SRA!$S$4:$AA$368,6,0)","v":0},"","","",{"$f":"IF(SUMIF(S888:S908,\">0\",K888:K908)=0,\"\",SUMIF(S888:S908,\">0\",K888:K908))","v":""},{"$f":"IF(SUM(S888:S908)=0,\"\",SUM(S888:S908))","v":""},{"$f":"IFERROR(AL888/AK888,\"-\")","v":"-"},{"$f":"IF(SUM(M888:M908)=0,\"0\",SUM(M888:M908))","v":"0"},{"$f":"IFERROR(AN888/AK888,\"-\")","v":"-"},{"$f":"IF(SUM(P888:P908)=0,0,SUM(P888:P908))","v":0},{"$f":"IFERROR(AP888/AK888,\"-\")","v":"-"},"-",{"$f":"IFERROR(SUMIF($AB888:$AB908,AS$5,$AJ888:$AJ908)/COUNTIFS($AB888:$AB908,AS$5,$AJ888:$AJ908,\">0\"),\"\")","v":""},"","",{"$f":"IFERROR((AK888-AL888-AN888-AP888),\"-\")","v":"-"},{"$f":"IFERROR((1-AM888-AO888-AQ888), \"-\")","v":"-"},{"$f":"IFERROR((AV888*$AE$2)/60,\"-\")","v":"-"},{"$f":"IFERROR(SUM(AG888:AG908),\"\")","v":0}]
["43maMD",{"$f":"VLOOKUP($AA889,DATA!$B$3:$E$6,2,0)","v":"14:30:00"},{"$f":"VLOOKUP($AA889,DATA!$B$3:$E$6,3,0)","v":"22:30:00"},{"$f":"VLOOKUP($AA889,DATA!$B$3:$E$6,4,0)","v":3.125E-2},0.30208333333333337,0.30208333333333337,{"$f":"DATA!$C$9","v":0.89},{"$f":"DATA!$C$10","v":64},1,407.81250000000006,407.81250000000006,0,"","",{"$f":"TIME(INT(AD889/60),INT(MOD(AD889,60)/1),0)","v":0},"","",0,"","","","",null,{"$f":"X898","v":43},null,{"$f":"TEXT(Y888,\"ddd\")","v":"ma"},"MD",{"$f":"IFERROR(HLOOKUP(Y888,[1]DATA!$A$1:$NB$5,4,0),\"\")","v":"D3"},null,null,null,null,{"$f":"VLOOKUP(Y888,[1]SRA!$S$4:$Z$368,7,0)","v":0},"","",""]
["43maND",{"$f":"VLOOKUP($AA890,DATA!$B$3:$E$6,2,0)","v":"22:30:00"},{"$f":"VLOOKUP($AA890,DATA!$B$3:$E$6,3,0)","v":"06:30:00"},{"$f":"VLOOKUP($AA890,DATA!$B$3:$E$6,4,0)","v":3.125E-2},0.30208333333333326,0.30208333333333326,{"$f":"DATA!$C$9","v":0.89},{"$f":"DATA!$C$10","v":64},1,407.81249999999989,407.81249999999989,0,"","",0,"","",0,"","","","",null,{"$f":"X898","v":43},null,{"$f":"TEXT(Y888,\"ddd\")","v":"ma"},"ND",{"$f":"IFERROR(HLOOKUP(Y888,[1]DATA!$A$1:$NB$5,5,0),\"\")","v":"D2"},null,null,null,null,{"$f":"VLOOKUP(Y888,[1]SRA!$S$4:$Z$368,8,0)","v":0},"","",""]
["43diDD",{"$f":"VLOOKUP($AA891,DATA!$B$3:$E$6,2,0)","v":"06:30:00"},{"$f":"VLOOKUP($AA891,DATA!$B$3:$E$6,3,0)","v":"14:30:00"},{"$f":"VLOOKUP($AA891,DATA!$B$3:$E$6,4,0)","v":3.125E-2},0.30208333333333331,0.30208333333333331,{"$f":"DATA!$C$9","v":0.89},{"$f":"DATA!$C$10","v":64},1,407.8125,407.8125,0,"","",0,"","",0,"","","","",null,{"$f":"X898","v":43},{"$f":"Y888+1","v":"2018-10-23"},{"$f":"TEXT(Y891,\"ddd\")","v":"di"},"DD",{"$f":"IFERROR(HLOOKUP(Y891,[1]DATA!$A$1:$NB$5,3,0),\"\")","v":"D1"},null,null,null,null,{"$f":"VLOOKUP(Y891,[1]SRA!$S$4:$Z$368,6,0)","v":0},"","",""]
["43diMD",{"$f":"VLOOKUP($AA892,DATA!$B$3:$E$6,2,0)","v":"14:30:00"},{"$f":"VLOOKUP($AA892,DATA!$B$3:$E$6,3,0)","v":"22:30:00"},{"$f":"VLOOKUP($AA892,DATA!$B$3:$E$6,4,0)","v":3.125E-2},0.30208333333333337,0.30208333333333337,{"$f":"DATA!$C$9","v":0.89},{"$f":"DATA!$C$10","v":64},1,407.81250000000006,407.81250000000006,0,"","",0,"","",0,"","","","",null,{"$f":"X898","v":43},null,{"$f":"TEXT(Y891,\"ddd\")","v":"di"},"MD",{"$f":"IFERROR(HLOOKUP(Y891,[1]DATA!$A$1:$NB$5,4,0),\"\")","v":"D3"},null,null,null,null,{"$f":"VLOOKUP(Y891,[1]SRA!$S$4:$Z$368,7,0)","v":0},"","",""]
["43diND",{"$f":"VLOOKUP($AA893,DATA!$B$3:$E$6,2,0)","v":"22:30:00"},{"$f":"VLOOKUP($AA893,DATA!$B$3:$E$6,3,0)","v":"06:30:00"},{"$f":"VLOOKUP($AA893,DATA!$B$3:$E$6,4,0)","v":3.125E-2},0.30208333333333326,0.30208333333333326,{"$f":"DATA!$C$9","v":0.89},{"$f":"DATA!$C$10","v":64},1,407.81249999999989,407.81249999999989,0,"","",0,"","",0,"","","","",null,{"$f":"X898","v":43},null,{"$f":"TEXT(Y891,\"ddd\")","v":"di"},"ND",{"$f":"IFERROR(HLOOKUP(Y891,[1]DATA!$A$1:$NB$5,5,0),\"\")","v":"D2"},null,null,null,null,{"$f":"VLOOKUP(Y891,[1]SRA!$S$4:$Z$368,8,0)","v":0},"","",""]
["43woDD",{"$f":"VLOOKUP($AA894,DATA!$B$3:$E$6,2,0)","v":"06:30:00"},{"$f":"VLOOKUP($AA894,DATA!$B$3:$E$6,3,0)","v":"14:30:00"},{"$f":"VLOOKUP($AA894,DATA!$B$3:$E$6,4,0)","v":3.125E-2},0.30208333333333331,0.30208333333333331,{"$f":"DATA!$C$9","v":0.89},{"$f":"DATA!$C$10","v":64},1,407.8125,407.8125,0,"","",0,"","",0,"","","","",null,{"$f":"X898","v":43},"2018-10-24",{"$f":"TEXT(Y894,\"ddd\")","v":"wo"},"DD",{"$f":"IFERROR(HLOOKUP(Y894,[1]DATA!$A$1:$NB$5,3,0),\"\")","v":"D1"},null,null,null,null,{"$f":"VLOOKUP(Y894,[1]SRA!$S$4:$Z$368,6,0)","v":0},"","",""]
["43woMD",{"$f":"VLOOKUP($AA895,DATA!$B$3:$E$6,2,0)","v":"14:30:00"},{"$f":"VLOOKUP($AA895,DATA!$B$3:$E$6,3,0)","v":"22:30:00"},{"$f":"VLOOKUP($AA895,DATA!$B$3:$E$6,4,0)","v":3.125E-2},0.30208333333333337,0.30208333333333337,{"$f":"DATA!$C$9","v":0.89},{"$f":"DATA!$C$10","v":64},1,407.81250000000006,407.81250000000006,0,"","",0,"","",0,"","","","",null,{"$f":"X898","v":43},null,{"$f":"TEXT(Y894,\"ddd\")","v":"wo"},"MD",{"$f":"IFERROR(HLOOKUP(Y894,[1]DATA!$A$1:$NB$5,4,0),\"\")","v":"D3"},null,null,null,null,{"$f":"VLOOKUP(Y894,[1]SRA!$S$4:$Z$368,7,0)","v":0},"","",""]
["43woND",{"$f":"VLOOKUP($AA896,DATA!$B$3:$E$6,2,0)","v":"22:30:00"},{"$f":"VLOOKUP($AA896,DATA!$B$3:$E$6,3,0)","v":"06:30:00"},{"$f":"VLOOKUP($AA896,DATA!$B$3:$E$6,4,0)","v":3.125E-2},0.30208333333333326,0.30208333333333326,{"$f":"DATA!$C$9","v":0.89},{"$f":"DATA!$C$10","v":64},1,407.81249999999989,407.81249999999989,0,"","",0,"","",0,"","","","",null,{"$f":"X898","v":43},null,{"$f":"TEXT(Y894,\"ddd\")","v":"wo"},"ND",{"$f":"IFERROR(HLOOKUP(Y894,[1]DATA!$A$1:$NB$5,5,0),\"\")","v":"D2"},null,null,null,null,{"$f":"VLOOKUP(Y894,[1]SRA!$S$4:$Z$368,8,0)","v":0},"","",""]
["43doDD",{"$f":"VLOOKUP($AA897,DATA!$B$3:$E$6,2,0)","v":"06:30:00"},{"$f":"VLOOKUP($AA897,DATA!$B$3:$E$6,3,0)","v":"14:30:00"},{"$f":"VLOOKUP($AA897,DATA!$B$3:$E$6,4,0)","v":3.125E-2},0.30208333333333331,0.30208333333333331,{"$f":"DATA!$C$9","v":0.89},{"$f":"DATA!$C$10","v":64},1,407.8125,407.8125,0,"","",0,"","",0,"","","","",null,{"$f":"X898","v":43},"2018-10-25",{"$f":"TEXT(Y897,\"ddd\")","v":"do"},"DD",{"$f":"IFERROR(HLOOKUP(Y897,[1]DATA!$A$1:$NB$5,3,0),\"\")","v":"D1"},null,null,null,null,{"$f":"VLOOKUP(Y897,[1]SRA!$S$4:$Z$368,6,0)","v":0},"","",""]
["43doMD",{"$f":"VLOOKUP($AA898,DATA!$B$3:$E$6,2,0)","v":"14:30:00"},{"$f":"VLOOKUP($AA898,DATA!$B$3:$E$6,3,0)","v":"22:30:00"},{"$f":"VLOOKUP($AA898,DATA!$B$3:$E$6,4,0)","v":3.125E-2},0.30208333333333337,0.30208333333333337,{"$f":"DATA!$C$9","v":0.89},{"$f":"DATA!$C$10","v":64},1,407.81250000000006,407.81250000000006,0,"","",0,"","",0,"","","","",null,{"$f":"WEEKNUM($Y888)","v":43},null,{"$f":"TEXT(Y897,\"ddd\")","v":"do"},"MD",{"$f":"IFERROR(HLOOKUP(Y897,[1]DATA!$A$1:$NB$5,4,0),\"\")","v":"D3"},null,null,null,null,{"$f":"VLOOKUP(Y897,[1]SRA!$S$4:$Z$368,7,0)","v":0},"","",""]
["43doND",{"$f":"VLOOKUP($AA899,DATA!$B$3:$E$6,2,0)","v":"22:30:00"},{"$f":"VLOOKUP($AA899,DATA!$B$3:$E$6,3,0)","v":"06:30:00"},{"$f":"VLOOKUP($AA899,DATA!$B$3:$E$6,4,0)","v":3.125E-2},0.30208333333333326,0.30208333333333326,{"$f":"DATA!$C$9","v":0.89},{"$f":"DATA!$C$10","v":64},1,407.81249999999989,407.81249999999989,0,"","",0,"","",0,"","","","",null,{"$f":"X898","v":43},null,{"$f":"TEXT(Y897,\"ddd\")","v":"do"},"ND",{"$f":"IFERROR(HLOOKUP(Y897,[1]DATA!$A$1:$NB$5,5,0),\"\")","v":"D2"},null,null,null,null,{"$f":"VLOOKUP(Y897,[1]SRA!$S$4:$Z$368,8,0)","v":0},"","",""]
["43vrDD",{"$f":"VLOOKUP($AA900,DATA!$B$3:$E$6,2,0)","v":"06:30:00"},{"$f":"VLOOKUP($AA900,DATA!$B$3:$E$6,3,0)","v":"14:30:00"},{"$f":"VLOOKUP($AA900,DATA!$B$3:$E$6,4,0)","v":3.125E-2},0.30208333333333331,0.30208333333333331,{"$f":"DATA!$C$9","v":0.89},{"$f":"DATA!$C$10","v":64},1,407.8125,407.8125,0,"","",0,"","",0,"","","","",null,{"$f":"X898","v":43},"2018-10-26",{"$f":"TEXT(Y900,\"ddd\")","v":"vr"},"DD",{"$f":"IFERROR(HLOOKUP(Y900,[1]DATA!$A$1:$NB$5,3,0),\"\")","v":"D1"},null,null,null,null,{"$f":"VLOOKUP(Y900,[1]SRA!$S$4:$Z$368,6,0)","v":0},"","",""]
["43vrMD",{"$f":"VLOOKUP($AA901,DATA!$B$3:$E$6,2,0)","v":"14:30:00"},{"$f":"VLOOKUP($AA901,DATA!$B$3:$E$6,3,0)","v":"22:30:00"},{"$f":"VLOOKUP($AA901,DATA!$B$3:$E$6,4,0)","v":3.125E-2},0.30208333333333337,0.30208333333333337,{"$f":"DATA!$C$9","v":0.89},{"$f":"DATA!$C$10","v":64},1,407.81250000000006,407.81250000000006,0,"","",0,"","",0,"","","","",null,{"$f":"X898","v":43},null,{"$f":"TEXT(Y900,\"ddd\")","v":"vr"},"MD",{"$f":"IFERROR(HLOOKUP(Y900,[1]DATA!$A$1:$NB$5,4,0),\"\")","v":"D3"},null,null,null,null,{"$f":"VLOOKUP(Y900,[1]SRA!$S$4:$Z$368,7,0)","v":0},"","",""]
["43vrND",{"$f":"VLOOKUP($AA902,DATA!$B$3:$E$6,2,0)","v":"22:30:00"},{"$f":"VLOOKUP($AA902,DATA!$B$3:$E$6,3,0)","v":"06:30:00"},{"$f":"VLOOKUP($AA902,DATA!$B$3:$E$6,4,0)","v":3.125E-2},0.30208333333333326,0.30208333333333326,{"$f":"DATA!$C$9","v":0.89},{"$f":"DATA!$C$10","v":64},1,407.81249999999989,407.81249999999989,0,"","",0,"","",0,"","","","",null,{"$f":"X898","v":43},null,{"$f":"TEXT(Y900,\"ddd\")","v":"vr"},"ND",{"$f":"IFERROR(HLOOKUP(Y900,[1]DATA!$A$1:$NB$5,5,0),\"\")","v":"D2"},null,null,null,null,{"$f":"VLOOKUP(Y900,[1]SRA!$S$4:$Z$368,8,0)","v":0},{"$f":"IFERROR(S902-J902,\"\")","v":""},{"$f":"IFERROR(IF(S902/(E902*86400/H902)<=0,\"\",S902/(E902*86400/H902)),\"\")","v":""},""]
["43zaDD",{"$f":"VLOOKUP($AA903,DATA!$B$3:$E$6,2,0)","v":"06:30:00"},{"$f":"VLOOKUP($AA903,DATA!$B$3:$E$6,3,0)","v":"14:30:00"},{"$f":"VLOOKUP($AA903,DATA!$B$3:$E$6,4,0)","v":3.125E-2},0.30208333333333331,0.30208333333333331,{"$f":"DATA!$C$9","v":0.89},{"$f":"DATA!$C$10","v":64},1,407.8125,407.8125,{"$f":"TIME(INT($AC903/60),INT(MOD($AC903,60)/1),0)","v":0},{"$f":"IF($L903*86400/$H903=0,\"\",$L903*86400/$H903)","v":""},{"$f":"IFERROR($M903/$K903,\"\")","v":""},0,"",{"$f":"IFERROR($P903/$K903,\"\")","v":""},0,"",{"$f":"IF(IF($AB903=\"D1\",$S903,\"\")=0,\"\",IF($AB903=\"D1\",$S903,\"\"))","v":""},{"$f":"IF(IF($AB903=\"D2\",$S903,\"\")=0,\"\",IF($AB903=\"D2\",$S903,\"\"))","v":""},{"$f":"IF(IF($AB903=\"D3\",$S903,\"\")=0,\"\",IF($AB903=\"D3\",$S903,\"\"))","v":""},null,{"$f":"X898","v":43},"2018-10-27",{"$f":"TEXT(Y903,\"ddd\")","v":"za"},"DD",{"$f":"IFERROR(HLOOKUP(Y903,[1]DATA!$A$1:$NB$5,3,0),\"\")","v":"D1"},null,null,null,null,{"$f":"VLOOKUP(Y903,[1]SRA!$S$4:$Z$368,6,0)","v":0},"","",""]
["43zaMD",{"$f":"VLOOKUP($AA904,DATA!$B$3:$E$6,2,0)","v":"14:30:00"},{"$f":"VLOOKUP($AA904,DATA!$B$3:$E$6,3,0)","v":"22:30:00"},{"$f":"VLOOKUP($AA904,DATA!$B$3:$E$6,4,0)","v":3.125E-2},0.30208333333333337,0.30208333333333337,{"$f":"DATA!$C$9","v":0.89},{"$f":"DATA!$C$10","v":64},1,407.81250000000006,407.81250000000006,0,"","",0,"","",0,"","","","",null,{"$f":"X898","v":43},null,{"$f":"TEXT(Y903,\"ddd\")","v":"za"},"MD",{"$f":"IFERROR(HLOOKUP(Y903,[1]DATA!$A$1:$NB$5,4,0),\"\")","v":"-"},null,null,null,null,{"$f":"VLOOKUP(Y903,[1]SRA!$S$4:$Z$368,7,0)","v":0},"","",""]
["43zaND",{"$f":"VLOOKUP($AA905,DATA!$B$3:$E$6,2,0)","v":"22:30:00"},{"$f":"VLOOKUP($AA905,DATA!$B$3:$E$6,3,0)","v":"06:30:00"},{"$f":"VLOOKUP($AA905,DATA!$B$3:$E$6,4,0)","v":3.125E-2},0.30208333333333326,0.30208333333333326,{"$f":"DATA!$C$9","v":0.89},{"$f":"DATA!$C$10","v":64},1,407.81249999999989,407.81249999999989,0,"","",0,"","",0,"","","","",null,{"$f":"X898","v":43},null,{"$f":"TEXT(Y903,\"ddd\")","v":"za"},"ND",{"$f":"IFERROR(HLOOKUP(Y903,[1]DATA!$A$1:$NB$5,5,0),\"\")","v":"-"},null,null,null,null,{"$f":"VLOOKUP(Y903,[1]SRA!$S$4:$Z$368,8,0)","v":0},"","",""]
["43zoDD",{"$f":"VLOOKUP($AA906,DATA!$B$3:$E$6,2,0)","v":"06:30:00"},{"$f":"VLOOKUP($AA906,DATA!$B$3:$E$6,3,0)","v":"14:30:00"},{"$f":"VLOOKUP($AA906,DATA!$B$3:$E$6,4,0)","v":3.125E-2},0.30208333333333331,0.30208333333333331,{"$f":"DATA!$C$9","v":0.89},{"$f":"DATA!$C$10","v":64},1,407.8125,407.8125,0,"","",0,"","",0,"","","","",null,{"$f":"X898","v":43},"2018-10-28",{"$f":"TEXT(Y906,\"ddd\")","v":"zo"},"DD",{"$f":"IFERROR(HLOOKUP(Y906,[1]DATA!$A$1:$NB$5,3,0),\"\")","v":"-"},null,null,null,null,{"$f":"VLOOKUP(Y906,[1]SRA!$S$4:$Z$368,6,0)","v":0},"","",""]
["43zoMD",{"$f":"VLOOKUP($AA907,DATA!$B$3:$E$6,2,0)","v":"14:30:00"},{"$f":"VLOOKUP($AA907,DATA!$B$3:$E$6,3,0)","v":"22:30:00"},{"$f":"VLOOKUP($AA907,DATA!$B$3:$E$6,4,0)","v":3.125E-2},0.30208333333333337,0.30208333333333337,{"$f":"DATA!$C$9","v":0.89},{"$f":"DATA!$C$10","v":64},1,407.81250000000006,407.81250000000006,0,"","",0,"","",0,"","","","",null,{"$f":"X898","v":43},null,{"$f":"TEXT(Y906,\"ddd\")","v":"zo"},"MD",{"$f":"IFERROR(HLOOKUP(Y906,[1]DATA!$A$1:$NB$5,4,0),\"\")","v":"-"},null,null,null,null,{"$f":"VLOOKUP(Y906,[1]SRA!$S$4:$Z$368,7,0)","v":0},"","",""]
["43zoZND",{"$f":"VLOOKUP($AA908,DATA!$B$3:$E$6,2,0)","v":"00:00:00"},{"$f":"VLOOKUP($AA908,DATA!$B$3:$E$6,3,0)","v":"00:00:00"},{"$f":"VLOOKUP($AA908,DATA!$B$3:$E$6,4,0)","v":0},0,0,{"$f":"DATA!$C$9","v":0.89},{"$f":"DATA!$C$10","v":64},1,0,0,0,"","",0,"","",0,"","","","",null,{"$f":"X898","v":43},null,{"$f":"TEXT(Y906,\"ddd\")","v":"zo"},"ZND",{"$f":"IFERROR(HLOOKUP(Y906,[1]DATA!$A$1:$NB$5,5,0),\"\")","v":"-"},null,null,null,null,{"$f":"VLOOKUP(Y906,[1]SRA!$S$4:$Z$368,8,0)","v":0},"","",""]
["44maDD",{"$f":"VLOOKUP($AA909,DATA!$B$3:$E$6,2,0)","v":"06:30:00"},{"$f":"VLOOKUP($AA909,DATA!$B$3:$E$6,3,0)","v":"14:30:00"},{"$f":"VLOOKUP($AA909,DATA!$B$3:$E$6,4,0)","v":3.125E-2},0.30208333333333331,0.30208333333333331,{"$f":"DATA!$C$9","v":0.89},{"$f":"DATA!$C$10","v":64},1,407.8125,407.8125,0,"","",{"$f":"TIME(INT($AD909/60),INT(MOD($AD909,60)/1),0)","v":0},"","",0,"","","","",null,{"$f":"X919","v":44},"2018-10-29",{"$f":"TEXT(Y909,\"ddd\")","v":"ma"},"DD",{"$f":"IFERROR(HLOOKUP(Y909,[1]DATA!$A$1:$NB$5,3,0),\"\")","v":"D3"},null,null,null,null,{"$f":"VLOOKUP(Y909,[1]SRA!$S$4:$AA$368,6,0)","v":0},"","","",{"$f":"IF(SUMIF(S909:S929,\">0\",K909:K929)=0,\"\",SUMIF(S909:S929,\">0\",K909:K929))","v":""},{"$f":"IF(SUM(S909:S929)=0,\"\",SUM(S909:S929))","v":""},{"$f":"IFERROR(AL909/AK909,\"-\")","v":"-"},{"$f":"IF(SUM(M909:M929)=0,\"0\",SUM(M909:M929))","v":"0"},{"$f":"IFERROR(AN909/AK909,\"-\")","v":"-"},{"$f":"IF(SUM(P909:P929)=0,0,SUM(P909:P929))","v":0},{"$f":"IFERROR(AP909/AK909,\"-\")","v":"-"},"-",{"$f":"IFERROR(SUMIF($AB909:$AB929,AS$5,$AJ909:$AJ929)/COUNTIFS($AB909:$AB929,AS$5,$AJ909:$AJ929,\">0\"),\"\")","v":""},"","",{"$f":"IFERROR((AK909-AL909-AN909-AP909),\"-\")","v":"-"},{"$f":"IFERROR((1-AM909-AO909-AQ909), \"-\")","v":"-"},{"$f":"IFERROR((AV909*$AE$2)/60,\"-\")","v":"-"},{"$f":"IFERROR(SUM(AG909:AG929),\"\")","v":0}]
["44maMD",{"$f":"VLOOKUP($AA910,DATA!$B$3:$E$6,2,0)","v":"14:30:00"},{"$f":"VLOOKUP($AA910,DATA!$B$3:$E$6,3,0)","v":"22:30:00"},{"$f":"VLOOKUP($AA910,DATA!$B$3:$E$6,4,0)","v":3.125E-2},0.30208333333333337,0.30208333333333337,{"$f":"DATA!$C$9","v":0.89},{"$f":"DATA!$C$10","v":64},1,407.81250000000006,407.81250000000006,0,"","",{"$f":"TIME(INT(AD910/60),INT(MOD(AD910,60)/1),0)","v":0},"","",0,"","","","",null,{"$f":"X919","v":44},null,{"$f":"TEXT(Y909,\"ddd\")","v":"ma"},"MD",{"$f":"IFERROR(HLOOKUP(Y909,[1]DATA!$A$1:$NB$5,4,0),\"\")","v":"D2"},null,null,null,null,{"$f":"VLOOKUP(Y909,[1]SRA!$S$4:$Z$368,7,0)","v":0},"","",""]
["44maND",{"$f":"VLOOKUP($AA911,DATA!$B$3:$E$6,2,0)","v":"22:30:00"},{"$f":"VLOOKUP($AA911,DATA!$B$3:$E$6,3,0)","v":"06:30:00"},{"$f":"VLOOKUP($AA911,DATA!$B$3:$E$6,4,0)","v":3.125E-2},0.30208333333333326,0.30208333333333326,{"$f":"DATA!$C$9","v":0.89},{"$f":"DATA!$C$10","v":64},1,407.81249999999989,407.81249999999989,0,"","",0,"","",0,"","","","",null,{"$f":"X919","v":44},null,{"$f":"TEXT(Y909,\"ddd\")","v":"ma"},"ND",{"$f":"IFERROR(HLOOKUP(Y909,[1]DATA!$A$1:$NB$5,5,0),\"\")","v":"D1"},null,null,null,null,{"$f":"VLOOKUP(Y909,[1]SRA!$S$4:$Z$368,8,0)","v":0},"","",""]
["44diDD",{"$f":"VLOOKUP($AA912,DATA!$B$3:$E$6,2,0)","v":"06:30:00"},{"$f":"VLOOKUP($AA912,DATA!$B$3:$E$6,3,0)","v":"14:30:00"},{"$f":"VLOOKUP($AA912,DATA!$B$3:$E$6,4,0)","v":3.125E-2},0.30208333333333331,0.30208333333333331,{"$f":"DATA!$C$9","v":0.89},{"$f":"DATA!$C$10","v":64},1,407.8125,407.8125,0,"","",0,"","",0,"","","","",null,{"$f":"X919","v":44},"2018-10-30",{"$f":"TEXT(Y912,\"ddd\")","v":"di"},"DD",{"$f":"IFERROR(HLOOKUP(Y912,[1]DATA!$A$1:$NB$5,3,0),\"\")","v":"D3"},null,null,null,null,{"$f":"VLOOKUP(Y912,[1]SRA!$S$4:$Z$368,6,0)","v":0},"","",""]
["44diMD",{"$f":"VLOOKUP($AA913,DATA!$B$3:$E$6,2,0)","v":"14:30:00"},{"$f":"VLOOKUP($AA913,DATA!$B$3:$E$6,3,0)","v":"22:30:00"},{"$f":"VLOOKUP($AA913,DATA!$B$3:$E$6,4,0)","v":3.125E-2},0.30208333333333337,0.30208333333333337,{"$f":"DATA!$C$9","v":0.89},{"$f":"DATA!$C$10","v":64},1,407.81250000000006,407.81250000000006,0,"","",0,"","",0,"","","","",null,{"$f":"X919","v":44},null,{"$f":"TEXT(Y912,\"ddd\")","v":"di"},"MD",{"$f":"IFERROR(HLOOKUP(Y912,[1]DATA!$A$1:$NB$5,4,0),\"\")","v":"D2"},null,null,null,null,{"$f":"VLOOKUP(Y912,[1]SRA!$S$4:$Z$368,7,0)","v":0},"","",""]
["44diND",{"$f":"VLOOKUP($AA914,DATA!$B$3:$E$6,2,0)","v":"22:30:00"},{"$f":"VLOOKUP($AA914,DATA!$B$3:$E$6,3,0)","v":"06:30:00"},{"$f":"VLOOKUP($AA914,DATA!$B$3:$E$6,4,0)","v":3.125E-2},0.30208333333333326,0.30208333333333326,{"$f":"DATA!$C$9","v":0.89},{"$f":"DATA!$C$10","v":64},1,407.81249999999989,407.81249999999989,0,"","",0,"","",0,"","","","",null,{"$f":"X919","v":44},null,{"$f":"TEXT(Y912,\"ddd\")","v":"di"},"ND",{"$f":"IFERROR(HLOOKUP(Y912,[1]DATA!$A$1:$NB$5,5,0),\"\")","v":"D1"},null,null,null,null,{"$f":"VLOOKUP(Y912,[1]SRA!$S$4:$Z$368,8,0)","v":0},"","",""]
["44woDD",{"$f":"VLOOKUP($AA915,DATA!$B$3:$E$6,2,0)","v":"06:30:00"},{"$f":"VLOOKUP($AA915,DATA!$B$3:$E$6,3,0)","v":"14:30:00"},{"$f":"VLOOKUP($AA915,DATA!$B$3:$E$6,4,0)","v":3.125E-2},0.30208333333333331,0.30208333333333331,{"$f":"DATA!$C$9","v":0.89},{"$f":"DATA!$C$10","v":64},1,407.8125,407.8125,0,"","",0,"","",0,"","","","",null,{"$f":"X919","v":44},"2018-10-31",{"$f":"TEXT(Y915,\"ddd\")","v":"wo"},"DD",{"$f":"IFERROR(HLOOKUP(Y915,[1]DATA!$A$1:$NB$5,3,0),\"\")","v":"D3"},null,null,null,null,{"$f":"VLOOKUP(Y915,[1]SRA!$S$4:$Z$368,6,0)","v":0},"","",""]
["44woMD",{"$f":"VLOOKUP($AA916,DATA!$B$3:$E$6,2,0)","v":"14:30:00"},{"$f":"VLOOKUP($AA916,DATA!$B$3:$E$6,3,0)","v":"22:30:00"},{"$f":"VLOOKUP($AA916,DATA!$B$3:$E$6,4,0)","v":3.125E-2},0.30208333333333337,0.30208333333333337,{"$f":"DATA!$C$9","v":0.89},{"$f":"DATA!$C$10","v":64},1,407.81250000000006,407.81250000000006,0,"","",0,"","",0,"","","","",null,{"$f":"X919","v":44},null,{"$f":"TEXT(Y915,\"ddd\")","v":"wo"},"MD",{"$f":"IFERROR(HLOOKUP(Y915,[1]DATA!$A$1:$NB$5,4,0),\"\")","v":"D2"},null,null,null,null,{"$f":"VLOOKUP(Y915,[1]SRA!$S$4:$Z$368,7,0)","v":0},"","",""]
["44woND",{"$f":"VLOOKUP($AA917,DATA!$B$3:$E$6,2,0)","v":"22:30:00"},{"$f":"VLOOKUP($AA917,DATA!$B$3:$E$6,3,0)","v":"06:30:00"},{"$f":"VLOOKUP($AA917,DATA!$B$3:$E$6,4,0)","v":3.125E-2},0.30208333333333326,0.30208333333333326,{"$f":"DATA!$C$9","v":0.89},{"$f":"DATA!$C$10","v":64},1,407.81249999999989,407.81249999999989,0,"","",0,"","",0,"","","","",null,{"$f":"X919","v":44},null,{"$f":"TEXT(Y915,\"ddd\")","v":"wo"},"ND",{"$f":"IFERROR(HLOOKUP(Y915,[1]DATA!$A$1:$NB$5,5,0),\"\")","v":"D1"},null,null,null,null,{"$f":"VLOOKUP(Y915,[1]SRA!$S$4:$Z$368,8,0)","v":0},"","",""]
["44doDD",{"$f":"VLOOKUP($AA918,DATA!$B$3:$E$6,2,0)","v":"06:30:00"},{"$f":"VLOOKUP($AA918,DATA!$B$3:$E$6,3,0)","v":"14:30:00"},{"$f":"VLOOKUP($AA918,DATA!$B$3:$E$6,4,0)","v":3.125E-2},0.30208333333333331,0.30208333333333331,{"$f":"DATA!$C$9","v":0.89},{"$f":"DATA!$C$10","v":64},1,407.8125,407.8125,0,"","",0,"","",0,"","","","",null,{"$f":"X919","v":44},"2018-11-01",{"$f":"TEXT(Y918,\"ddd\")","v":"do"},"DD",{"$f":"IFERROR(HLOOKUP(Y918,[1]DATA!$A$1:$NB$5,3,0),\"\")","v":"D3"},null,null,null,null,{"$f":"VLOOKUP(Y918,[1]SRA!$S$4:$Z$368,6,0)","v":0},"","",""]
["44doMD",{"$f":"VLOOKUP($AA919,DATA!$B$3:$E$6,2,0)","v":"14:30:00"},{"$f":"VLOOKUP($AA919,DATA!$B$3:$E$6,3,0)","v":"22:30:00"},{"$f":"VLOOKUP($AA919,DATA!$B$3:$E$6,4,0)","v":3.125E-2},0.30208333333333337,0.30208333333333337,{"$f":"DATA!$C$9","v":0.89},{"$f":"DATA!$C$10","v":64},1,407.81250000000006,407.81250000000006,0,"","",0,"","",0,"","","","",null,{"$f":"WEEKNUM($Y909)","v":44},null,{"$f":"TEXT(Y918,\"ddd\")","v":"do"},"MD",{"$f":"IFERROR(HLOOKUP(Y918,[1]DATA!$A$1:$NB$5,4,0),\"\")","v":"D2"},null,null,null,null,{"$f":"VLOOKUP(Y918,[1]SRA!$S$4:$Z$368,7,0)","v":0},"","",""]
["44doND",{"$f":"VLOOKUP($AA920,DATA!$B$3:$E$6,2,0)","v":"22:30:00"},{"$f":"VLOOKUP($AA920,DATA!$B$3:$E$6,3,0)","v":"06:30:00"},{"$f":"VLOOKUP($AA920,DATA!$B$3:$E$6,4,0)","v":3.125E-2},0.30208333333333326,0.30208333333333326,{"$f":"DATA!$C$9","v":0.89},{"$f":"DATA!$C$10","v":64},1,407.81249999999989,407.81249999999989,0,"","",0,"","",0,"","","","",null,{"$f":"X919","v":44},null,{"$f":"TEXT(Y918,\"ddd\")","v":"do"},"ND",{"$f":"IFERROR(HLOOKUP(Y918,[1]DATA!$A$1:$NB$5,5,0),\"\")","v":"D1"},null,null,null,null,{"$f":"VLOOKUP(Y918,[1]SRA!$S$4:$Z$368,8,0)","v":0},"","",""]
["44vrDD",{"$f":"VLOOKUP($AA921,DATA!$B$3:$E$6,2,0)","v":"06:30:00"},{"$f":"VLOOKUP($AA921,DATA!$B$3:$E$6,3,0)","v":"14:30:00"},{"$f":"VLOOKUP($AA921,DATA!$B$3:$E$6,4,0)","v":3.125E-2},0.30208333333333331,0.30208333333333331,{"$f":"DATA!$C$9","v":0.89},{"$f":"DATA!$C$10","v":64},1,407.8125,407.8125,0,"","",0,"","",0,"","","","",null,{"$f":"X919","v":44},"2018-11-02",{"$f":"TEXT(Y921,\"ddd\")","v":"vr"},"DD",{"$f":"IFERROR(HLOOKUP(Y921,[1]DATA!$A$1:$NB$5,3,0),\"\")","v":"D3"},null,null,null,null,{"$f":"VLOOKUP(Y921,[1]SRA!$S$4:$Z$368,6,0)","v":0},"","",""]
["44vrMD",{"$f":"VLOOKUP($AA922,DATA!$B$3:$E$6,2,0)","v":"14:30:00"},{"$f":"VLOOKUP($AA922,DATA!$B$3:$E$6,3,0)","v":"22:30:00"},{"$f":"VLOOKUP($AA922,DATA!$B$3:$E$6,4,0)","v":3.125E-2},0.30208333333333337,0.30208333333333337,{"$f":"DATA!$C$9","v":0.89},{"$f":"DATA!$C$10","v":64},1,407.81250000000006,407.81250000000006,0,"","",0,"","",0,"","","","",null,{"$f":"X919","v":44},null,{"$f":"TEXT(Y921,\"ddd\")","v":"vr"},"MD",{"$f":"IFERROR(HLOOKUP(Y921,[1]DATA!$A$1:$NB$5,4,0),\"\")","v":"D2"},null,null,null,null,{"$f":"VLOOKUP(Y921,[1]SRA!$S$4:$Z$368,7,0)","v":0},"","",""]
["44vrND",{"$f":"VLOOKUP($AA923,DATA!$B$3:$E$6,2,0)","v":"22:30:00"},{"$f":"VLOOKUP($AA923,DATA!$B$3:$E$6,3,0)","v":"06:30:00"},{"$f":"VLOOKUP($AA923,DATA!$B$3:$E$6,4,0)","v":3.125E-2},0.30208333333333326,0.30208333333333326,{"$f":"DATA!$C$9","v":0.89},{"$f":"DATA!$C$10","v":64},1,407.81249999999989,407.81249999999989,0,"","",0,"","",0,"","","","",null,{"$f":"X919","v":44},null,{"$f":"TEXT(Y921,\"ddd\")","v":"vr"},"ND",{"$f":"IFERROR(HLOOKUP(Y921,[1]DATA!$A$1:$NB$5,5,0),\"\")","v":"D2"},null,null,null,null,{"$f":"VLOOKUP(Y921,[1]SRA!$S$4:$Z$368,8,0)","v":0},"","",{"$f":"IFERROR(R923/(R923+AG923),\"\")","v":""}]
["44zaDD",{"$f":"VLOOKUP($AA924,DATA!$B$3:$E$6,2,0)","v":"06:30:00"},{"$f":"VLOOKUP($AA924,DATA!$B$3:$E$6,3,0)","v":"14:30:00"},{"$f":"VLOOKUP($AA924,DATA!$B$3:$E$6,4,0)","v":3.125E-2},{"$f":"(C924-B924+(B924>C924))-D924","v":0.30208333333333331},{"$f":"E924-O924-L924","v":0.30208333333333331},{"$f":"DATA!$C$9","v":0.89},{"$f":"DATA!$C$10","v":64},1,{"$f":"F924*86400/H924*I924","v":407.8125},{"$f":"E924*86400/H924","v":407.8125},0,"","",0,"","",{"$f":"AF924*AG$2","v":0},{"$f":"IF(AF924-AE924=0,\"\",AF924-AE924)","v":""},"","","",null,{"$f":"X919","v":44},"2018-11-03",{"$f":"TEXT(Y924,\"ddd\")","v":"za"},"DD",{"$f":"IFERROR(HLOOKUP(Y924,[1]DATA!$A$1:$NB$5,3,0),\"\")","v":"D3"},null,null,null,null,{"$f":"VLOOKUP(Y924,[1]SRA!$S$4:$Z$368,6,0)","v":0},"","",""]
["44zaMD",{"$f":"VLOOKUP($AA925,DATA!$B$3:$E$6,2,0)","v":"14:30:00"},{"$f":"VLOOKUP($AA925,DATA!$B$3:$E$6,3,0)","v":"22:30:00"},{"$f":"VLOOKUP($AA925,DATA!$B$3:$E$6,4,0)","v":3.125E-2},0.30208333333333337,0.30208333333333337,{"$f":"DATA!$C$9","v":0.89},{"$f":"DATA!$C$10","v":64},1,407.81250000000006,407.81250000000006,0,"","",0,"","",0,"","","","",null,{"$f":"X919","v":44},null,{"$f":"TEXT(Y924,\"ddd\")","v":"za"},"MD",{"$f":"IFERROR(HLOOKUP(Y924,[1]DATA!$A$1:$NB$5,4,0),\"\")","v":"-"},null,null,null,null,{"$f":"VLOOKUP(Y924,[1]SRA!$S$4:$Z$368,7,0)","v":0},"","",""]
["44zaND",{"$f":"VLOOKUP($AA926,DATA!$B$3:$E$6,2,0)","v":"22:30:00"},{"$f":"VLOOKUP($AA926,DATA!$B$3:$E$6,3,0)","v":"06:30:00"},{"$f":"VLOOKUP($AA926,DATA!$B$3:$E$6,4,0)","v":3.125E-2},0.30208333333333326,0.30208333333333326,{"$f":"DATA!$C$9","v":0.89},{"$f":"DATA!$C$10","v":64},1,407.81249999999989,407.81249999999989,0,"","",0,"","",0,"","","","",null,{"$f":"X919","v":44},null,{"$f":"TEXT(Y924,\"ddd\")","v":"za"},"ND",{"$f":"IFERROR(HLOOKUP(Y924,[1]DATA!$A$1:$NB$5,5,0),\"\")","v":"-"},null,null,null,null,{"$f":"VLOOKUP(Y924,[1]SRA!$S$4:$Z$368,8,0)","v":0},"","",""]
["44zoDD",{"$f":"VLOOKUP($AA927,DATA!$B$3:$E$6,2,0)","v":"06:30:00"},{"$f":"VLOOKUP($AA927,DATA!$B$3:$E$6,3,0)","v":"14:30:00"},{"$f":"VLOOKUP($AA927,DATA!$B$3:$E$6,4,0)","v":3.125E-2},0.30208333333333331,0.30208333333333331,{"$f":"DATA!$C$9","v":0.89},{"$f":"DATA!$C$10","v":64},1,407.8125,407.8125,0,"","",0,"","",0,"","","","",null,{"$f":"X919","v":44},"2018-11-04",{"$f":"TEXT(Y927,\"ddd\")","v":"zo"},"DD",{"$f":"IFERROR(HLOOKUP(Y927,[1]DATA!$A$1:$NB$5,3,0),\"\")","v":"-"},null,null,null,null,{"$f":"VLOOKUP(Y927,[1]SRA!$S$4:$Z$368,6,0)","v":0},"","",""]
["44zoMD",{"$f":"VLOOKUP($AA928,DATA!$B$3:$E$6,2,0)","v":"14:30:00"},{"$f":"VLOOKUP($AA928,DATA!$B$3:$E$6,3,0)","v":"22:30:00"},{"$f":"VLOOKUP($AA928,DATA!$B$3:$E$6,4,0)","v":3.125E-2},0.30208333333333337,0.30208333333333337,{"$f":"DATA!$C$9","v":0.89},{"$f":"DATA!$C$10","v":64},1,407.81250000000006,407.81250000000006,0,"","",0,"","",0,"","","","",null,{"$f":"X919","v":44},null,{"$f":"TEXT(Y927,\"ddd\")","v":"zo"},"MD",{"$f":"IFERROR(HLOOKUP(Y927,[1]DATA!$A$1:$NB$5,4,0),\"\")","v":"-"},null,null,null,null,{"$f":"VLOOKUP(Y927,[1]SRA!$S$4:$Z$368,7,0)","v":0},"","",""]
["44zoZND",{"$f":"VLOOKUP($AA929,DATA!$B$3:$E$6,2,0)","v":"00:00:00"},{"$f":"VLOOKUP($AA929,DATA!$B$3:$E$6,3,0)","v":"00:00:00"},{"$f":"VLOOKUP($AA929,DATA!$B$3:$E$6,4,0)","v":0},0,0,{"$f":"DATA!$C$9","v":0.89},{"$f":"DATA!$C$10","v":64},1,0,0,0,"","",0,"","",0,"","","","",null,{"$f":"X919","v":44},null,{"$f":"TEXT(Y927,\"ddd\")","v":"zo"},"ZND",{"$f":"IFERROR(HLOOKUP(Y927,[1]DATA!$A$1:$NB$5,5,0),\"\")","v":"-"},null,null,null,null,{"$f":"VLOOKUP(Y927,[1]SRA!$S$4:$Z$368,8,0)","v":0},"","",""]
["45maDD",{"$f":"VLOOKUP($AA930,DATA!$B$3:$E$6,2,0)","v":"06:30:00"},{"$f":"VLOOKUP($AA930,DATA!$B$3:$E$6,3,0)","v":"14:30:00"},{"$f":"VLOOKUP($AA930,DATA!$B$3:$E$6,4,0)","v":3.125E-2},0.30208333333333331,0.30208333333333331,{"$f":"DATA!$C$9","v":0.89},{"$f":"DATA!$C$10","v":64},1,407.8125,407.8125,0,"","",{"$f":"TIME(INT($AD930/60),INT(MOD($AD930,60)/1),0)","v":0},"","",0,"","","","",null,{"$f":"X940","v":45},"2018-11-05",{"$f":"TEXT(Y930,\"ddd\")","v":"ma"},"DD",{"$f":"IFERROR(HLOOKUP(Y930,[1]DATA!$A$1:$NB$5,3,0),\"\")","v":"D2"},null,null,null,null,{"$f":"VLOOKUP(Y930,[1]SRA!$S$4:$AA$368,6,0)","v":0},"","","",{"$f":"IF(SUMIF(S930:S950,\">0\",K930:K950)=0,\"\",SUMIF(S930:S950,\">0\",K930:K950))","v":""},{"$f":"IF(SUM(S930:S950)=0,\"\",SUM(S930:S950))","v":""},{"$f":"IFERROR(AL930/AK930,\"-\")","v":"-"},{"$f":"IF(SUM(M930:M950)=0,\"0\",SUM(M930:M950))","v":"0"},{"$f":"IFERROR(AN930/AK930,\"-\")","v":"-"},{"$f":"IF(SUM(P930:P950)=0,0,SUM(P930:P950))","v":0},{"$f":"IFERROR(AP930/AK930,\"-\")","v":"-"},{"$f":"IFERROR(AVERAGE(AJ930:AJ950),\"-\")","v":"-"},{"$f":"IFERROR(SUMIF($AB930:$AB950,AS$5,$AJ930:$AJ950)/COUNTIFS($AB930:$AB950,AS$5,$AJ930:$AJ950,\">0\"),\"\")","v":""},"","",{"$f":"IFERROR((AK930-AL930-AN930-AP930),\"-\")","v":"-"},{"$f":"IFERROR((1-AM930-AO930-AQ930), \"-\")","v":"-"},{"$f":"IFERROR((AV930*$AE$2)/60,\"-\")","v":"-"},{"$f":"IFERROR(SUM(AG930:AG950),\"\")","v":0}]
["45maMD",{"$f":"VLOOKUP($AA931,DATA!$B$3:$E$6,2,0)","v":"14:30:00"},{"$f":"VLOOKUP($AA931,DATA!$B$3:$E$6,3,0)","v":"22:30:00"},{"$f":"VLOOKUP($AA931,DATA!$B$3:$E$6,4,0)","v":3.125E-2},0.30208333333333337,0.30208333333333337,{"$f":"DATA!$C$9","v":0.89},{"$f":"DATA!$C$10","v":64},1,407.81250000000006,407.81250000000006,0,"","",{"$f":"TIME(INT(AD931/60),INT(MOD(AD931,60)/1),0)","v":0},"","",0,"","","","",null,{"$f":"X940","v":45},null,{"$f":"TEXT(Y930,\"ddd\")","v":"ma"},"MD",{"$f":"IFERROR(HLOOKUP(Y930,[1]DATA!$A$1:$NB$5,4,0),\"\")","v":"D1"},null,null,null,null,{"$f":"VLOOKUP(Y930,[1]SRA!$S$4:$Z$368,7,0)","v":0},"","",""]
["45maND",{"$f":"VLOOKUP($AA932,DATA!$B$3:$E$6,2,0)","v":"22:30:00"},{"$f":"VLOOKUP($AA932,DATA!$B$3:$E$6,3,0)","v":"06:30:00"},{"$f":"VLOOKUP($AA932,DATA!$B$3:$E$6,4,0)","v":3.125E-2},0.30208333333333326,0.30208333333333326,{"$f":"DATA!$C$9","v":0.89},{"$f":"DATA!$C$10","v":64},1,407.81249999999989,407.81249999999989,0,"","",0,"","",0,"","","","",null,{"$f":"X940","v":45},null,{"$f":"TEXT(Y930,\"ddd\")","v":"ma"},"ND",{"$f":"IFERROR(HLOOKUP(Y930,[1]DATA!$A$1:$NB$5,5,0),\"\")","v":"D3"},null,null,null,null,{"$f":"VLOOKUP(Y930,[1]SRA!$S$4:$Z$368,8,0)","v":0},"","",""]
["45diDD",{"$f":"VLOOKUP($AA933,DATA!$B$3:$E$6,2,0)","v":"06:30:00"},{"$f":"VLOOKUP($AA933,DATA!$B$3:$E$6,3,0)","v":"14:30:00"},{"$f":"VLOOKUP($AA933,DATA!$B$3:$E$6,4,0)","v":3.125E-2},0.30208333333333331,0.30208333333333331,{"$f":"DATA!$C$9","v":0.89},{"$f":"DATA!$C$10","v":64},1,407.8125,407.8125,0,"","",0,"","",0,"","","","",null,{"$f":"X940","v":45},"2018-11-06",{"$f":"TEXT(Y933,\"ddd\")","v":"di"},"DD",{"$f":"IFERROR(HLOOKUP(Y933,[1]DATA!$A$1:$NB$5,3,0),\"\")","v":"D2"},null,null,null,null,{"$f":"VLOOKUP(Y933,[1]SRA!$S$4:$Z$368,6,0)","v":0},"","",""]
["45diMD",{"$f":"VLOOKUP($AA934,DATA!$B$3:$E$6,2,0)","v":"14:30:00"},{"$f":"VLOOKUP($AA934,DATA!$B$3:$E$6,3,0)","v":"22:30:00"},{"$f":"VLOOKUP($AA934,DATA!$B$3:$E$6,4,0)","v":3.125E-2},0.30208333333333337,0.30208333333333337,{"$f":"DATA!$C$9","v":0.89},{"$f":"DATA!$C$10","v":64},1,407.81250000000006,407.81250000000006,0,"","",0,"","",0,"","","","",null,{"$f":"X940","v":45},null,{"$f":"TEXT(Y933,\"ddd\")","v":"di"},"MD",{"$f":"IFERROR(HLOOKUP(Y933,[1]DATA!$A$1:$NB$5,4,0),\"\")","v":"D1"},null,null,null,null,{"$f":"VLOOKUP(Y933,[1]SRA!$S$4:$Z$368,7,0)","v":0},"","",""]
["45diND",{"$f":"VLOOKUP($AA935,DATA!$B$3:$E$6,2,0)","v":"22:30:00"},{"$f":"VLOOKUP($AA935,DATA!$B$3:$E$6,3,0)","v":"06:30:00"},{"$f":"VLOOKUP($AA935,DATA!$B$3:$E$6,4,0)","v":3.125E-2},0.30208333333333326,0.30208333333333326,{"$f":"DATA!$C$9","v":0.89},{"$f":"DATA!$C$10","v":64},1,407.81249999999989,407.81249999999989,0,"","",0,"","",0,"","","","",null,{"$f":"X940","v":45},null,{"$f":"TEXT(Y933,\"ddd\")","v":"di"},"ND",{"$f":"IFERROR(HLOOKUP(Y933,[1]DATA!$A$1:$NB$5,5,0),\"\")","v":"D3"},null,null,null,null,{"$f":"VLOOKUP(Y933,[1]SRA!$S$4:$Z$368,8,0)","v":0},"","",""]
["45woDD",{"$f":"VLOOKUP($AA936,DATA!$B$3:$E$6,2,0)","v":"06:30:00"},{"$f":"VLOOKUP($AA936,DATA!$B$3:$E$6,3,0)","v":"14:30:00"},{"$f":"VLOOKUP($AA936,DATA!$B$3:$E$6,4,0)","v":3.125E-2},0.30208333333333331,0.30208333333333331,{"$f":"DATA!$C$9","v":0.89},{"$f":"DATA!$C$10","v":64},1,407.8125,407.8125,0,"","",0,"","",0,"","","","",null,{"$f":"X940","v":45},"2018-11-07",{"$f":"TEXT(Y936,\"ddd\")","v":"wo"},"DD",{"$f":"IFERROR(HLOOKUP(Y936,[1]DATA!$A$1:$NB$5,3,0),\"\")","v":"D2"},null,null,null,null,{"$f":"VLOOKUP(Y936,[1]SRA!$S$4:$Z$368,6,0)","v":0},"","",""]
["45woMD",{"$f":"VLOOKUP($AA937,DATA!$B$3:$E$6,2,0)","v":"14:30:00"},{"$f":"VLOOKUP($AA937,DATA!$B$3:$E$6,3,0)","v":"22:30:00"},{"$f":"VLOOKUP($AA937,DATA!$B$3:$E$6,4,0)","v":3.125E-2},0.30208333333333337,0.30208333333333337,{"$f":"DATA!$C$9","v":0.89},{"$f":"DATA!$C$10","v":64},1,407.81250000000006,407.81250000000006,0,"","",0,"","",0,"","","","",null,{"$f":"X940","v":45},null,{"$f":"TEXT(Y936,\"ddd\")","v":"wo"},"MD",{"$f":"IFERROR(HLOOKUP(Y936,[1]DATA!$A$1:$NB$5,4,0),\"\")","v":"D1"},null,null,null,null,{"$f":"VLOOKUP(Y936,[1]SRA!$S$4:$Z$368,7,0)","v":0},"","",""]
["45woND",{"$f":"VLOOKUP($AA938,DATA!$B$3:$E$6,2,0)","v":"22:30:00"},{"$f":"VLOOKUP($AA938,DATA!$B$3:$E$6,3,0)","v":"06:30:00"},{"$f":"VLOOKUP($AA938,DATA!$B$3:$E$6,4,0)","v":3.125E-2},0.30208333333333326,0.30208333333333326,{"$f":"DATA!$C$9","v":0.89},{"$f":"DATA!$C$10","v":64},1,407.81249999999989,407.81249999999989,0,"","",0,"","",0,"","","","",null,{"$f":"X940","v":45},null,{"$f":"TEXT(Y936,\"ddd\")","v":"wo"},"ND",{"$f":"IFERROR(HLOOKUP(Y936,[1]DATA!$A$1:$NB$5,5,0),\"\")","v":"D3"},null,null,null,null,{"$f":"VLOOKUP(Y936,[1]SRA!$S$4:$Z$368,8,0)","v":0},"","",""]
["45doDD",{"$f":"VLOOKUP($AA939,DATA!$B$3:$E$6,2,0)","v":"06:30:00"},{"$f":"VLOOKUP($AA939,DATA!$B$3:$E$6,3,0)","v":"14:30:00"},{"$f":"VLOOKUP($AA939,DATA!$B$3:$E$6,4,0)","v":3.125E-2},0.30208333333333331,0.30208333333333331,{"$f":"DATA!$C$9","v":0.89},{"$f":"DATA!$C$10","v":64},1,407.8125,407.8125,0,"","",0,"","",0,"","","","",null,{"$f":"X940","v":45},"2018-11-08",{"$f":"TEXT(Y939,\"ddd\")","v":"do"},"DD",{"$f":"IFERROR(HLOOKUP(Y939,[1]DATA!$A$1:$NB$5,3,0),\"\")","v":"D2"},null,null,null,null,{"$f":"VLOOKUP(Y939,[1]SRA!$S$4:$Z$368,6,0)","v":0},"","",""]
["45doMD",{"$f":"VLOOKUP($AA940,DATA!$B$3:$E$6,2,0)","v":"14:30:00"},{"$f":"VLOOKUP($AA940,DATA!$B$3:$E$6,3,0)","v":"22:30:00"},{"$f":"VLOOKUP($AA940,DATA!$B$3:$E$6,4,0)","v":3.125E-2},0.30208333333333337,0.30208333333333337,{"$f":"DATA!$C$9","v":0.89},{"$f":"DATA!$C$10","v":64},1,407.81250000000006,407.81250000000006,0,"","",0,"","",0,"","","","",null,{"$f":"WEEKNUM($Y930)","v":45},null,{"$f":"TEXT(Y939,\"ddd\")","v":"do"},"MD",{"$f":"IFERROR(HLOOKUP(Y939,[1]DATA!$A$1:$NB$5,4,0),\"\")","v":"D1"},null,null,null,null,{"$f":"VLOOKUP(Y939,[1]SRA!$S$4:$Z$368,7,0)","v":0},"","",""]
["45doND",{"$f":"VLOOKUP($AA941,DATA!$B$3:$E$6,2,0)","v":"22:30:00"},{"$f":"VLOOKUP($AA941,DATA!$B$3:$E$6,3,0)","v":"06:30:00"},{"$f":"VLOOKUP($AA941,DATA!$B$3:$E$6,4,0)","v":3.125E-2},0.30208333333333326,0.30208333333333326,{"$f":"DATA!$C$9","v":0.89},{"$f":"DATA!$C$10","v":64},1,407.81249999999989,407.81249999999989,0,"","",0,"","",0,"","","","",null,{"$f":"X940","v":45},null,{"$f":"TEXT(Y939,\"ddd\")","v":"do"},"ND",{"$f":"IFERROR(HLOOKUP(Y939,[1]DATA!$A$1:$NB$5,5,0),\"\")","v":"D3"},null,null,null,null,{"$f":"VLOOKUP(Y939,[1]SRA!$S$4:$Z$368,8,0)","v":0},"","",""]
["45vrDD",{"$f":"VLOOKUP($AA942,DATA!$B$3:$E$6,2,0)","v":"06:30:00"},{"$f":"VLOOKUP($AA942,DATA!$B$3:$E$6,3,0)","v":"14:30:00"},{"$f":"VLOOKUP($AA942,DATA!$B$3:$E$6,4,0)","v":3.125E-2},0.30208333333333331,0.30208333333333331,{"$f":"DATA!$C$9","v":0.89},{"$f":"DATA!$C$10","v":64},1,407.8125,407.8125,0,"","",0,"","",0,"","","","",null,{"$f":"X940","v":45},"2018-11-09",{"$f":"TEXT(Y942,\"ddd\")","v":"vr"},"DD",{"$f":"IFERROR(HLOOKUP(Y942,[1]DATA!$A$1:$NB$5,3,0),\"\")","v":"D2"},null,null,null,null,{"$f":"VLOOKUP(Y942,[1]SRA!$S$4:$Z$368,6,0)","v":0},"","",""]
["45vrMD",{"$f":"VLOOKUP($AA943,DATA!$B$3:$E$6,2,0)","v":"14:30:00"},{"$f":"VLOOKUP($AA943,DATA!$B$3:$E$6,3,0)","v":"22:30:00"},{"$f":"VLOOKUP($AA943,DATA!$B$3:$E$6,4,0)","v":3.125E-2},0.30208333333333337,0.30208333333333337,{"$f":"DATA!$C$9","v":0.89},{"$f":"DATA!$C$10","v":64},1,407.81250000000006,407.81250000000006,0,"","",0,"","",0,"","","","",null,{"$f":"X940","v":45},null,{"$f":"TEXT(Y942,\"ddd\")","v":"vr"},"MD",{"$f":"IFERROR(HLOOKUP(Y942,[1]DATA!$A$1:$NB$5,4,0),\"\")","v":"D1"},null,null,null,null,{"$f":"VLOOKUP(Y942,[1]SRA!$S$4:$Z$368,7,0)","v":0},"","",""]
[{"$f":"X944&Z944&AA944","v":"45vrND"},{"$f":"VLOOKUP($AA944,DATA!$B$3:$E$6,2,0)","v":"22:30:00"},{"$f":"VLOOKUP($AA944,DATA!$B$3:$E$6,3,0)","v":"06:30:00"},{"$f":"VLOOKUP($AA944,DATA!$B$3:$E$6,4,0)","v":3.125E-2},0.30208333333333326,0.30208333333333326,{"$f":"DATA!$C$9","v":0.89},{"$f":"DATA!$C$10","v":64},1,407.81249999999989,407.81249999999989,0,"","",0,{"$f":"IF($O944*86400/$H944=0,\"\",$O944*86400/$H944)","v":""},"",0,"","","","",null,{"$f":"X940","v":45},null,{"$f":"TEXT(Y942,\"ddd\")","v":"vr"},"ND",{"$f":"IFERROR(HLOOKUP(Y942,[1]DATA!$A$1:$NB$5,5,0),\"\")","v":"D3"},null,null,null,null,{"$f":"VLOOKUP(Y942,[1]SRA!$S$4:$Z$368,8,0)","v":0},"","",""]
["45zaDD",{"$f":"VLOOKUP($AA945,DATA!$B$3:$E$6,2,0)","v":"06:30:00"},{"$f":"VLOOKUP($AA945,DATA!$B$3:$E$6,3,0)","v":"14:30:00"},{"$f":"VLOOKUP($AA945,DATA!$B$3:$E$6,4,0)","v":3.125E-2},0.30208333333333331,0.30208333333333331,{"$f":"DATA!$C$9","v":0.89},{"$f":"DATA!$C$10","v":64},1,407.8125,407.8125,0,"","",0,"","",0,"","","","",null,{"$f":"X940","v":45},"2018-11-10",{"$f":"TEXT(Y945,\"ddd\")","v":"za"},"DD",{"$f":"IFERROR(HLOOKUP(Y945,[1]DATA!$A$1:$NB$5,3,0),\"\")","v":"D2"},null,null,null,null,{"$f":"VLOOKUP(Y945,[1]SRA!$S$4:$Z$368,6,0)","v":0},"","",""]
["45zaMD",{"$f":"VLOOKUP($AA946,DATA!$B$3:$E$6,2,0)","v":"14:30:00"},{"$f":"VLOOKUP($AA946,DATA!$B$3:$E$6,3,0)","v":"22:30:00"},{"$f":"VLOOKUP($AA946,DATA!$B$3:$E$6,4,0)","v":3.125E-2},0.30208333333333337,0.30208333333333337,{"$f":"DATA!$C$9","v":0.89},{"$f":"DATA!$C$10","v":64},1,407.81250000000006,407.81250000000006,0,"","",0,"","",0,"","","","",null,{"$f":"X940","v":45},null,{"$f":"TEXT(Y945,\"ddd\")","v":"za"},"MD",{"$f":"IFERROR(HLOOKUP(Y945,[1]DATA!$A$1:$NB$5,4,0),\"\")","v":"-"},null,null,null,null,{"$f":"VLOOKUP(Y945,[1]SRA!$S$4:$Z$368,7,0)","v":0},"","",""]
["45zaND",{"$f":"VLOOKUP($AA947,DATA!$B$3:$E$6,2,0)","v":"22:30:00"},{"$f":"VLOOKUP($AA947,DATA!$B$3:$E$6,3,0)","v":"06:30:00"},{"$f":"VLOOKUP($AA947,DATA!$B$3:$E$6,4,0)","v":3.125E-2},0.30208333333333326,0.30208333333333326,{"$f":"DATA!$C$9","v":0.89},{"$f":"DATA!$C$10","v":64},1,407.81249999999989,407.81249999999989,0,"","",0,"","",0,"","","","",null,{"$f":"X940","v":45},null,{"$f":"TEXT(Y945,\"ddd\")","v":"za"},"ND",{"$f":"IFERROR(HLOOKUP(Y945,[1]DATA!$A$1:$NB$5,5,0),\"\")","v":"-"},null,null,null,null,{"$f":"VLOOKUP(Y945,[1]SRA!$S$4:$Z$368,8,0)","v":0},"","",""]
["45zoDD",{"$f":"VLOOKUP($AA948,DATA!$B$3:$E$6,2,0)","v":"06:30:00"},{"$f":"VLOOKUP($AA948,DATA!$B$3:$E$6,3,0)","v":"14:30:00"},{"$f":"VLOOKUP($AA948,DATA!$B$3:$E$6,4,0)","v":3.125E-2},0.30208333333333331,0.30208333333333331,{"$f":"DATA!$C$9","v":0.89},{"$f":"DATA!$C$10","v":64},1,407.8125,407.8125,0,"","",0,"","",0,"","","","",null,{"$f":"X940","v":45},"2018-11-11",{"$f":"TEXT(Y948,\"ddd\")","v":"zo"},"DD",{"$f":"IFERROR(HLOOKUP(Y948,[1]DATA!$A$1:$NB$5,3,0),\"\")","v":"-"},null,null,null,null,{"$f":"VLOOKUP(Y948,[1]SRA!$S$4:$Z$368,6,0)","v":0},"","",""]
["45zoMD",{"$f":"VLOOKUP($AA949,DATA!$B$3:$E$6,2,0)","v":"14:30:00"},{"$f":"VLOOKUP($AA949,DATA!$B$3:$E$6,3,0)","v":"22:30:00"},{"$f":"VLOOKUP($AA949,DATA!$B$3:$E$6,4,0)","v":3.125E-2},0.30208333333333337,0.30208333333333337,{"$f":"DATA!$C$9","v":0.89},{"$f":"DATA!$C$10","v":64},1,407.81250000000006,407.81250000000006,0,"","",0,"","",0,"","","","",null,{"$f":"X940","v":45},null,{"$f":"TEXT(Y948,\"ddd\")","v":"zo"},"MD",{"$f":"IFERROR(HLOOKUP(Y948,[1]DATA!$A$1:$NB$5,4,0),\"\")","v":"-"},null,null,null,null,{"$f":"VLOOKUP(Y948,[1]SRA!$S$4:$Z$368,7,0)","v":0},"","",""]
["45zoZND",{"$f":"VLOOKUP($AA950,DATA!$B$3:$E$6,2,0)","v":"00:00:00"},{"$f":"VLOOKUP($AA950,DATA!$B$3:$E$6,3,0)","v":"00:00:00"},{"$f":"VLOOKUP($AA950,DATA!$B$3:$E$6,4,0)","v":0},0,0,{"$f":"DATA!$C$9","v":0.89},{"$f":"DATA!$C$10","v":64},1,0,0,0,"","",0,"","",0,"","","","",null,{"$f":"X940","v":45},null,{"$f":"TEXT(Y948,\"ddd\")","v":"zo"},"ZND",{"$f":"IFERROR(HLOOKUP(Y948,[1]DATA!$A$1:$NB$5,5,0),\"\")","v":"-"},null,null,null,null,{"$f":"VLOOKUP(Y948,[1]SRA!$S$4:$Z$368,8,0)","v":0},"","",""]
["46maDD",{"$f":"VLOOKUP($AA951,DATA!$B$3:$E$6,2,0)","v":"06:30:00"},{"$f":"VLOOKUP($AA951,DATA!$B$3:$E$6,3,0)","v":"14:30:00"},{"$f":"VLOOKUP($AA951,DATA!$B$3:$E$6,4,0)","v":3.125E-2},0.30208333333333331,0.30208333333333331,{"$f":"DATA!$C$9","v":0.89},{"$f":"DATA!$C$10","v":64},1,407.8125,407.8125,0,"","",{"$f":"TIME(INT($AD951/60),INT(MOD($AD951,60)/1),0)","v":0},"","",0,"","","","",null,{"$f":"X961","v":46},"2018-11-12",{"$f":"TEXT(Y951,\"ddd\")","v":"ma"},"DD",{"$f":"IFERROR(HLOOKUP(Y951,[1]DATA!$A$1:$NB$5,3,0),\"\")","v":"D1"},null,null,null,null,{"$f":"VLOOKUP(Y951,[1]SRA!$S$4:$AA$368,6,0)","v":0},"","","",{"$f":"IF(SUMIF(S951:S971,\">0\",K951:K971)=0,\"\",SUMIF(S951:S971,\">0\",K951:K971))","v":""},{"$f":"IF(SUM(S951:S971)=0,\"\",SUM(S951:S971))","v":""},{"$f":"IFERROR(AL951/AK951,\"-\")","v":"-"},{"$f":"IF(SUM(M951:M971)=0,\"0\",SUM(M951:M971))","v":"0"},{"$f":"IFERROR(AN951/AK951,\"-\")","v":"-"},{"$f":"IF(SUM(P951:P971)=0,0,SUM(P951:P971))","v":0},{"$f":"IFERROR(AP951/AK951,\"-\")","v":"-"},"-",{"$f":"IFERROR(SUMIF($AB951:$AB971,AS$5,$AJ951:$AJ971)/COUNTIFS($AB951:$AB971,AS$5,$AJ951:$AJ971,\">0\"),\"\")","v":""},"","",{"$f":"IFERROR((AK951-AL951-AN951-AP951),\"-\")","v":"-"},{"$f":"IFERROR((1-AM951-AO951-AQ951), \"-\")","v":"-"},{"$f":"IFERROR((AV951*$AE$2)/60,\"-\")","v":"-"},{"$f":"IFERROR(SUM(AG951:AG971),\"\")","v":0}]
["46maMD",{"$f":"VLOOKUP($AA952,DATA!$B$3:$E$6,2,0)","v":"14:30:00"},{"$f":"VLOOKUP($AA952,DATA!$B$3:$E$6,3,0)","v":"22:30:00"},{"$f":"VLOOKUP($AA952,DATA!$B$3:$E$6,4,0)","v":3.125E-2},0.30208333333333337,0.30208333333333337,{"$f":"DATA!$C$9","v":0.89},{"$f":"DATA!$C$10","v":64},1,407.81250000000006,407.81250000000006,0,"","",{"$f":"TIME(INT(AD952/60),INT(MOD(AD952,60)/1),0)","v":0},"","",0,"","","","",null,{"$f":"X961","v":46},null,{"$f":"TEXT(Y951,\"ddd\")","v":"ma"},"MD",{"$f":"IFERROR(HLOOKUP(Y951,[1]DATA!$A$1:$NB$5,4,0),\"\")","v":"D3"},null,null,null,null,{"$f":"VLOOKUP(Y951,[1]SRA!$S$4:$Z$368,7,0)","v":0},"","",""]
["46maND",{"$f":"VLOOKUP($AA953,DATA!$B$3:$E$6,2,0)","v":"22:30:00"},{"$f":"VLOOKUP($AA953,DATA!$B$3:$E$6,3,0)","v":"06:30:00"},{"$f":"VLOOKUP($AA953,DATA!$B$3:$E$6,4,0)","v":3.125E-2},0.30208333333333326,0.30208333333333326,{"$f":"DATA!$C$9","v":0.89},{"$f":"DATA!$C$10","v":64},1,407.81249999999989,407.81249999999989,0,"","",0,"","",0,"","","","",null,{"$f":"X961","v":46},null,{"$f":"TEXT(Y951,\"ddd\")","v":"ma"},"ND",{"$f":"IFERROR(HLOOKUP(Y951,[1]DATA!$A$1:$NB$5,5,0),\"\")","v":"D2"},null,null,null,null,{"$f":"VLOOKUP(Y951,[1]SRA!$S$4:$Z$368,8,0)","v":0},"","",""]
["46diDD",{"$f":"VLOOKUP($AA954,DATA!$B$3:$E$6,2,0)","v":"06:30:00"},{"$f":"VLOOKUP($AA954,DATA!$B$3:$E$6,3,0)","v":"14:30:00"},{"$f":"VLOOKUP($AA954,DATA!$B$3:$E$6,4,0)","v":3.125E-2},0.30208333333333331,0.30208333333333331,{"$f":"DATA!$C$9","v":0.89},{"$f":"DATA!$C$10","v":64},1,407.8125,407.8125,0,"","",0,"","",0,"","","","",null,{"$f":"X961","v":46},"2018-11-13",{"$f":"TEXT(Y954,\"ddd\")","v":"di"},"DD",{"$f":"IFERROR(HLOOKUP(Y954,[1]DATA!$A$1:$NB$5,3,0),\"\")","v":"D1"},null,null,null,null,{"$f":"VLOOKUP(Y954,[1]SRA!$S$4:$Z$368,6,0)","v":0},"","",""]
["46diMD",{"$f":"VLOOKUP($AA955,DATA!$B$3:$E$6,2,0)","v":"14:30:00"},{"$f":"VLOOKUP($AA955,DATA!$B$3:$E$6,3,0)","v":"22:30:00"},{"$f":"VLOOKUP($AA955,DATA!$B$3:$E$6,4,0)","v":3.125E-2},0.30208333333333337,0.30208333333333337,{"$f":"DATA!$C$9","v":0.89},{"$f":"DATA!$C$10","v":64},1,407.81250000000006,407.81250000000006,0,"","",0,"","",0,"","","","",null,{"$f":"X961","v":46},null,{"$f":"TEXT(Y954,\"ddd\")","v":"di"},"MD",{"$f":"IFERROR(HLOOKUP(Y954,[1]DATA!$A$1:$NB$5,4,0),\"\")","v":"D3"},null,null,null,null,{"$f":"VLOOKUP(Y954,[1]SRA!$S$4:$Z$368,7,0)","v":0},"","",""]
["46diND",{"$f":"VLOOKUP($AA956,DATA!$B$3:$E$6,2,0)","v":"22:30:00"},{"$f":"VLOOKUP($AA956,DATA!$B$3:$E$6,3,0)","v":"06:30:00"},{"$f":"VLOOKUP($AA956,DATA!$B$3:$E$6,4,0)","v":3.125E-2},0.30208333333333326,0.30208333333333326,{"$f":"DATA!$C$9","v":0.89},{"$f":"DATA!$C$10","v":64},1,407.81249999999989,407.81249999999989,0,"","",0,"","",0,"","","","",null,{"$f":"X961","v":46},null,{"$f":"TEXT(Y954,\"ddd\")","v":"di"},"ND",{"$f":"IFERROR(HLOOKUP(Y954,[1]DATA!$A$1:$NB$5,5,0),\"\")","v":"D2"},null,null,null,null,{"$f":"VLOOKUP(Y954,[1]SRA!$S$4:$Z$368,8,0)","v":0},"","",""]
["46woDD",{"$f":"VLOOKUP($AA957,DATA!$B$3:$E$6,2,0)","v":"06:30:00"},{"$f":"VLOOKUP($AA957,DATA!$B$3:$E$6,3,0)","v":"14:30:00"},{"$f":"VLOOKUP($AA957,DATA!$B$3:$E$6,4,0)","v":3.125E-2},0.30208333333333331,0.30208333333333331,{"$f":"DATA!$C$9","v":0.89},{"$f":"DATA!$C$10","v":64},1,407.8125,407.8125,0,"","",0,"","",0,"","","","",null,{"$f":"X961","v":46},{"$f":"Y954+1","v":"2018-11-14"},{"$f":"TEXT(Y957,\"ddd\")","v":"wo"},"DD",{"$f":"IFERROR(HLOOKUP(Y957,[1]DATA!$A$1:$NB$5,3,0),\"\")","v":"D1"},null,null,null,null,{"$f":"VLOOKUP(Y957,[1]SRA!$S$4:$Z$368,6,0)","v":0},"","",""]
["46woMD",{"$f":"VLOOKUP($AA958,DATA!$B$3:$E$6,2,0)","v":"14:30:00"},{"$f":"VLOOKUP($AA958,DATA!$B$3:$E$6,3,0)","v":"22:30:00"},{"$f":"VLOOKUP($AA958,DATA!$B$3:$E$6,4,0)","v":3.125E-2},0.30208333333333337,0.30208333333333337,{"$f":"DATA!$C$9","v":0.89},{"$f":"DATA!$C$10","v":64},1,407.81250000000006,407.81250000000006,0,"","",0,"","",0,"","","","",null,{"$f":"X961","v":46},null,{"$f":"TEXT(Y957,\"ddd\")","v":"wo"},"MD",{"$f":"IFERROR(HLOOKUP(Y957,[1]DATA!$A$1:$NB$5,4,0),\"\")","v":"D3"},null,null,null,null,{"$f":"VLOOKUP(Y957,[1]SRA!$S$4:$Z$368,7,0)","v":0},"","",""]
["46woND",{"$f":"VLOOKUP($AA959,DATA!$B$3:$E$6,2,0)","v":"22:30:00"},{"$f":"VLOOKUP($AA959,DATA!$B$3:$E$6,3,0)","v":"06:30:00"},{"$f":"VLOOKUP($AA959,DATA!$B$3:$E$6,4,0)","v":3.125E-2},0.30208333333333326,0.30208333333333326,{"$f":"DATA!$C$9","v":0.89},{"$f":"DATA!$C$10","v":64},1,407.81249999999989,407.81249999999989,0,"","",0,"","",0,"","","","",null,{"$f":"X961","v":46},null,{"$f":"TEXT(Y957,\"ddd\")","v":"wo"},"ND",{"$f":"IFERROR(HLOOKUP(Y957,[1]DATA!$A$1:$NB$5,5,0),\"\")","v":"D2"},null,null,null,null,{"$f":"VLOOKUP(Y957,[1]SRA!$S$4:$Z$368,8,0)","v":0},"","",""]
["46doDD",{"$f":"VLOOKUP($AA960,DATA!$B$3:$E$6,2,0)","v":"06:30:00"},{"$f":"VLOOKUP($AA960,DATA!$B$3:$E$6,3,0)","v":"14:30:00"},{"$f":"VLOOKUP($AA960,DATA!$B$3:$E$6,4,0)","v":3.125E-2},0.30208333333333331,0.30208333333333331,{"$f":"DATA!$C$9","v":0.89},{"$f":"DATA!$C$10","v":64},1,407.8125,407.8125,0,"","",0,"","",0,"","","","",null,{"$f":"X961","v":46},"2018-11-15",{"$f":"TEXT(Y960,\"ddd\")","v":"do"},"DD",{"$f":"IFERROR(HLOOKUP(Y960,[1]DATA!$A$1:$NB$5,3,0),\"\")","v":"D1"},null,null,null,null,{"$f":"VLOOKUP(Y960,[1]SRA!$S$4:$Z$368,6,0)","v":0},"","",""]
["46doMD",{"$f":"VLOOKUP($AA961,DATA!$B$3:$E$6,2,0)","v":"14:30:00"},{"$f":"VLOOKUP($AA961,DATA!$B$3:$E$6,3,0)","v":"22:30:00"},{"$f":"VLOOKUP($AA961,DATA!$B$3:$E$6,4,0)","v":3.125E-2},0.30208333333333337,0.30208333333333337,{"$f":"DATA!$C$9","v":0.89},{"$f":"DATA!$C$10","v":64},1,407.81250000000006,407.81250000000006,0,"","",0,"","",0,"","","","",null,{"$f":"WEEKNUM($Y951)","v":46},null,{"$f":"TEXT(Y960,\"ddd\")","v":"do"},"MD",{"$f":"IFERROR(HLOOKUP(Y960,[1]DATA!$A$1:$NB$5,4,0),\"\")","v":"D3"},null,null,null,null,{"$f":"VLOOKUP(Y960,[1]SRA!$S$4:$Z$368,7,0)","v":0},"","",""]
["46doND",{"$f":"VLOOKUP($AA962,DATA!$B$3:$E$6,2,0)","v":"22:30:00"},{"$f":"VLOOKUP($AA962,DATA!$B$3:$E$6,3,0)","v":"06:30:00"},{"$f":"VLOOKUP($AA962,DATA!$B$3:$E$6,4,0)","v":3.125E-2},0.30208333333333326,0.30208333333333326,{"$f":"DATA!$C$9","v":0.89},{"$f":"DATA!$C$10","v":64},1,407.81249999999989,407.81249999999989,0,"","",0,"","",0,"","","","",null,{"$f":"X961","v":46},null,{"$f":"TEXT(Y960,\"ddd\")","v":"do"},"ND",{"$f":"IFERROR(HLOOKUP(Y960,[1]DATA!$A$1:$NB$5,5,0),\"\")","v":"D2"},null,null,null,null,{"$f":"VLOOKUP(Y960,[1]SRA!$S$4:$Z$368,8,0)","v":0},"","",""]
["46vrDD",{"$f":"VLOOKUP($AA963,DATA!$B$3:$E$6,2,0)","v":"06:30:00"},{"$f":"VLOOKUP($AA963,DATA!$B$3:$E$6,3,0)","v":"14:30:00"},{"$f":"VLOOKUP($AA963,DATA!$B$3:$E$6,4,0)","v":3.125E-2},0.30208333333333331,0.30208333333333331,{"$f":"DATA!$C$9","v":0.89},{"$f":"DATA!$C$10","v":64},1,407.8125,407.8125,0,"","",0,"","",0,"","","","",null,{"$f":"X961","v":46},"2018-11-16",{"$f":"TEXT(Y963,\"ddd\")","v":"vr"},"DD",{"$f":"IFERROR(HLOOKUP(Y963,[1]DATA!$A$1:$NB$5,3,0),\"\")","v":"D1"},null,null,null,null,{"$f":"VLOOKUP(Y963,[1]SRA!$S$4:$Z$368,6,0)","v":0},"","",""]
["46vrMD",{"$f":"VLOOKUP($AA964,DATA!$B$3:$E$6,2,0)","v":"14:30:00"},{"$f":"VLOOKUP($AA964,DATA!$B$3:$E$6,3,0)","v":"22:30:00"},{"$f":"VLOOKUP($AA964,DATA!$B$3:$E$6,4,0)","v":3.125E-2},0.30208333333333337,0.30208333333333337,{"$f":"DATA!$C$9","v":0.89},{"$f":"DATA!$C$10","v":64},1,407.81250000000006,407.81250000000006,0,"","",0,"","",0,"","","","",null,{"$f":"X961","v":46},null,{"$f":"TEXT(Y963,\"ddd\")","v":"vr"},"MD",{"$f":"IFERROR(HLOOKUP(Y963,[1]DATA!$A$1:$NB$5,4,0),\"\")","v":"D3"},null,null,null,null,{"$f":"VLOOKUP(Y963,[1]SRA!$S$4:$Z$368,7,0)","v":0},"","",""]
["46vrND",{"$f":"VLOOKUP($AA965,DATA!$B$3:$E$6,2,0)","v":"22:30:00"},{"$f":"VLOOKUP($AA965,DATA!$B$3:$E$6,3,0)","v":"06:30:00"},{"$f":"VLOOKUP($AA965,DATA!$B$3:$E$6,4,0)","v":3.125E-2},0.30208333333333326,0.30208333333333326,{"$f":"DATA!$C$9","v":0.89},{"$f":"DATA!$C$10","v":64},1,407.81249999999989,407.81249999999989,0,"","",0,"","",0,"","","","",null,{"$f":"X961","v":46},null,{"$f":"TEXT(Y963,\"ddd\")","v":"vr"},"ND",{"$f":"IFERROR(HLOOKUP(Y963,[1]DATA!$A$1:$NB$5,5,0),\"\")","v":"D2"},null,null,null,null,{"$f":"VLOOKUP(Y963,[1]SRA!$S$4:$Z$368,8,0)","v":0},"","",""]
["46zaDD",{"$f":"VLOOKUP($AA966,DATA!$B$3:$E$6,2,0)","v":"06:30:00"},{"$f":"VLOOKUP($AA966,DATA!$B$3:$E$6,3,0)","v":"14:30:00"},{"$f":"VLOOKUP($AA966,DATA!$B$3:$E$6,4,0)","v":3.125E-2},0.30208333333333331,0.30208333333333331,{"$f":"DATA!$C$9","v":0.89},{"$f":"DATA!$C$10","v":64},1,407.8125,407.8125,0,"","",0,"","",0,"","","","",null,{"$f":"X961","v":46},"2018-11-17",{"$f":"TEXT(Y966,\"ddd\")","v":"za"},"DD",{"$f":"IFERROR(HLOOKUP(Y966,[1]DATA!$A$1:$NB$5,3,0),\"\")","v":"D1"},null,null,null,null,{"$f":"VLOOKUP(Y966,[1]SRA!$S$4:$Z$368,6,0)","v":0},{"$f":"IFERROR(S966-J966,\"\")","v":""},{"$f":"IFERROR(IF(S966/(E966*86400/H966)<=0,\"\",S966/(E966*86400/H966)),\"\")","v":""},""]
["46zaMD",{"$f":"VLOOKUP($AA967,DATA!$B$3:$E$6,2,0)","v":"14:30:00"},{"$f":"VLOOKUP($AA967,DATA!$B$3:$E$6,3,0)","v":"22:30:00"},{"$f":"VLOOKUP($AA967,DATA!$B$3:$E$6,4,0)","v":3.125E-2},0.30208333333333337,0.30208333333333337,{"$f":"DATA!$C$9","v":0.89},{"$f":"DATA!$C$10","v":64},1,407.81250000000006,407.81250000000006,{"$f":"TIME(INT($AC967/60),INT(MOD($AC967,60)/1),0)","v":0},{"$f":"IF($L967*86400/$H967=0,\"\",$L967*86400/$H967)","v":""},{"$f":"IFERROR($M967/$K967,\"\")","v":""},0,"",{"$f":"IFERROR($P967/$K967,\"\")","v":""},0,"",{"$f":"IF(IF($AB967=\"D1\",$S967,\"\")=0,\"\",IF($AB967=\"D1\",$S967,\"\"))","v":""},{"$f":"IF(IF($AB967=\"D2\",$S967,\"\")=0,\"\",IF($AB967=\"D2\",$S967,\"\"))","v":""},{"$f":"IF(IF($AB967=\"D3\",$S967,\"\")=0,\"\",IF($AB967=\"D3\",$S967,\"\"))","v":""},null,{"$f":"X961","v":46},null,{"$f":"TEXT(Y966,\"ddd\")","v":"za"},"MD",{"$f":"IFERROR(HLOOKUP(Y966,[1]DATA!$A$1:$NB$5,4,0),\"\")","v":"-"},null,null,null,null,{"$f":"VLOOKUP(Y966,[1]SRA!$S$4:$Z$368,7,0)","v":0},"","",""]
["46zaND",{"$f":"VLOOKUP($AA968,DATA!$B$3:$E$6,2,0)","v":"22:30:00"},{"$f":"VLOOKUP($AA968,DATA!$B$3:$E$6,3,0)","v":"06:30:00"},{"$f":"VLOOKUP($AA968,DATA!$B$3:$E$6,4,0)","v":3.125E-2},0.30208333333333326,0.30208333333333326,{"$f":"DATA!$C$9","v":0.89},{"$f":"DATA!$C$10","v":64},1,407.81249999999989,407.81249999999989,0,"","",0,"","",0,"","","","",null,{"$f":"X961","v":46},null,{"$f":"TEXT(Y966,\"ddd\")","v":"za"},"ND",{"$f":"IFERROR(HLOOKUP(Y966,[1]DATA!$A$1:$NB$5,5,0),\"\")","v":"-"},null,null,null,null,{"$f":"VLOOKUP(Y966,[1]SRA!$S$4:$Z$368,8,0)","v":0},"","",""]
["46zoDD",{"$f":"VLOOKUP($AA969,DATA!$B$3:$E$6,2,0)","v":"06:30:00"},{"$f":"VLOOKUP($AA969,DATA!$B$3:$E$6,3,0)","v":"14:30:00"},{"$f":"VLOOKUP($AA969,DATA!$B$3:$E$6,4,0)","v":3.125E-2},0.30208333333333331,0.30208333333333331,{"$f":"DATA!$C$9","v":0.89},{"$f":"DATA!$C$10","v":64},1,407.8125,407.8125,0,"","",0,"","",0,"","","","",null,{"$f":"X961","v":46},"2018-11-18",{"$f":"TEXT(Y969,\"ddd\")","v":"zo"},"DD",{"$f":"IFERROR(HLOOKUP(Y969,[1]DATA!$A$1:$NB$5,3,0),\"\")","v":"-"},null,null,null,null,{"$f":"VLOOKUP(Y969,[1]SRA!$S$4:$Z$368,6,0)","v":0},"","",""]
["46zoMD",{"$f":"VLOOKUP($AA970,DATA!$B$3:$E$6,2,0)","v":"14:30:00"},{"$f":"VLOOKUP($AA970,DATA!$B$3:$E$6,3,0)","v":"22:30:00"},{"$f":"VLOOKUP($AA970,DATA!$B$3:$E$6,4,0)","v":3.125E-2},0.30208333333333337,0.30208333333333337,{"$f":"DATA!$C$9","v":0.89},{"$f":"DATA!$C$10","v":64},1,407.81250000000006,407.81250000000006,0,"","",0,"","",0,"","","","",null,{"$f":"X961","v":46},null,{"$f":"TEXT(Y969,\"ddd\")","v":"zo"},"MD",{"$f":"IFERROR(HLOOKUP(Y969,[1]DATA!$A$1:$NB$5,4,0),\"\")","v":"-"},null,null,null,null,{"$f":"VLOOKUP(Y969,[1]SRA!$S$4:$Z$368,7,0)","v":0},"","",""]
["46zoZND",{"$f":"VLOOKUP($AA971,DATA!$B$3:$E$6,2,0)","v":"00:00:00"},{"$f":"VLOOKUP($AA971,DATA!$B$3:$E$6,3,0)","v":"00:00:00"},{"$f":"VLOOKUP($AA971,DATA!$B$3:$E$6,4,0)","v":0},0,0,{"$f":"DATA!$C$9","v":0.89},{"$f":"DATA!$C$10","v":64},1,0,0,0,"","",0,"","",0,"","","","",null,{"$f":"X961","v":46},null,{"$f":"TEXT(Y969,\"ddd\")","v":"zo"},"ZND",{"$f":"IFERROR(HLOOKUP(Y969,[1]DATA!$A$1:$NB$5,5,0),\"\")","v":"-"},null,null,null,null,{"$f":"VLOOKUP(Y969,[1]SRA!$S$4:$Z$368,8,0)","v":0},"","",""]
["47maDD",{"$f":"VLOOKUP($AA972,DATA!$B$3:$E$6,2,0)","v":"06:30:00"},{"$f":"VLOOKUP($AA972,DATA!$B$3:$E$6,3,0)","v":"14:30:00"},{"$f":"VLOOKUP($AA972,DATA!$B$3:$E$6,4,0)","v":3.125E-2},0.30208333333333331,0.30208333333333331,{"$f":"DATA!$C$9","v":0.89},{"$f":"DATA!$C$10","v":64},1,407.8125,407.8125,0,"","",{"$f":"TIME(INT($AD972/60),INT(MOD($AD972,60)/1),0)","v":0},"","",0,"","","","",null,{"$f":"X982","v":47},"2018-11-19",{"$f":"TEXT(Y972,\"ddd\")","v":"ma"},"DD",{"$f":"IFERROR(HLOOKUP(Y972,[1]DATA!$A$1:$NB$5,3,0),\"\")","v":"D3"},null,null,null,null,{"$f":"VLOOKUP(Y972,[1]SRA!$S$4:$AA$368,6,0)","v":0},"","","",{"$f":"IF(SUMIF(S972:S992,\">0\",K972:K992)=0,\"\",SUMIF(S972:S992,\">0\",K972:K992))","v":""},{"$f":"IF(SUM(S972:S992)=0,\"\",SUM(S972:S992))","v":""},{"$f":"IFERROR(AL972/AK972,\"-\")","v":"-"},{"$f":"IF(SUM(M972:M992)=0,\"0\",SUM(M972:M992))","v":"0"},{"$f":"IFERROR(AN972/AK972,\"-\")","v":"-"},{"$f":"IF(SUM(P972:P992)=0,0,SUM(P972:P992))","v":0},{"$f":"IFERROR(AP972/AK972,\"-\")","v":"-"},{"$f":"IFERROR(AVERAGE(AJ972:AJ992),\"-\")","v":"-"},{"$f":"IFERROR(SUMIF($AB972:$AB992,AS$5,$AJ972:$AJ992)/COUNTIFS($AB972:$AB992,AS$5,$AJ972:$AJ992,\">0\"),\"\")","v":""},"","",{"$f":"IFERROR((AK972-AL972-AN972-AP972),\"-\")","v":"-"},{"$f":"IFERROR((1-AM972-AO972-AQ972), \"-\")","v":"-"},{"$f":"IFERROR((AV972*$AE$2)/60,\"-\")","v":"-"},{"$f":"IFERROR(SUM(AG972:AG992),\"\")","v":0}]
["47maMD",{"$f":"VLOOKUP($AA973,DATA!$B$3:$E$6,2,0)","v":"14:30:00"},{"$f":"VLOOKUP($AA973,DATA!$B$3:$E$6,3,0)","v":"22:30:00"},{"$f":"VLOOKUP($AA973,DATA!$B$3:$E$6,4,0)","v":3.125E-2},0.30208333333333337,0.30208333333333337,{"$f":"DATA!$C$9","v":0.89},{"$f":"DATA!$C$10","v":64},1,407.81250000000006,407.81250000000006,0,"","",{"$f":"TIME(INT(AD973/60),INT(MOD(AD973,60)/1),0)","v":0},"","",0,"","","","",null,{"$f":"X982","v":47},null,{"$f":"TEXT(Y972,\"ddd\")","v":"ma"},"MD",{"$f":"IFERROR(HLOOKUP(Y972,[1]DATA!$A$1:$NB$5,4,0),\"\")","v":"D2"},null,null,null,null,{"$f":"VLOOKUP(Y972,[1]SRA!$S$4:$Z$368,7,0)","v":0},"","",""]
["47maND",{"$f":"VLOOKUP($AA974,DATA!$B$3:$E$6,2,0)","v":"22:30:00"},{"$f":"VLOOKUP($AA974,DATA!$B$3:$E$6,3,0)","v":"06:30:00"},{"$f":"VLOOKUP($AA974,DATA!$B$3:$E$6,4,0)","v":3.125E-2},0.30208333333333326,0.30208333333333326,{"$f":"DATA!$C$9","v":0.89},{"$f":"DATA!$C$10","v":64},1,407.81249999999989,407.81249999999989,0,"","",0,"","",0,"","","","",null,{"$f":"X982","v":47},null,{"$f":"TEXT(Y972,\"ddd\")","v":"ma"},"ND",{"$f":"IFERROR(HLOOKUP(Y972,[1]DATA!$A$1:$NB$5,5,0),\"\")","v":"D1"},null,null,null,null,{"$f":"VLOOKUP(Y972,[1]SRA!$S$4:$Z$368,8,0)","v":0},"","",""]
["47diDD",{"$f":"VLOOKUP($AA975,DATA!$B$3:$E$6,2,0)","v":"06:30:00"},{"$f":"VLOOKUP($AA975,DATA!$B$3:$E$6,3,0)","v":"14:30:00"},{"$f":"VLOOKUP($AA975,DATA!$B$3:$E$6,4,0)","v":3.125E-2},0.30208333333333331,0.30208333333333331,{"$f":"DATA!$C$9","v":0.89},{"$f":"DATA!$C$10","v":64},1,407.8125,407.8125,0,"","",0,"","",0,"","","","",null,{"$f":"X982","v":47},"2018-11-20",{"$f":"TEXT(Y975,\"ddd\")","v":"di"},"DD",{"$f":"IFERROR(HLOOKUP(Y975,[1]DATA!$A$1:$NB$5,3,0),\"\")","v":"D3"},null,null,null,null,{"$f":"VLOOKUP(Y975,[1]SRA!$S$4:$Z$368,6,0)","v":0},"","",""]
["47diMD",{"$f":"VLOOKUP($AA976,DATA!$B$3:$E$6,2,0)","v":"14:30:00"},{"$f":"VLOOKUP($AA976,DATA!$B$3:$E$6,3,0)","v":"22:30:00"},{"$f":"VLOOKUP($AA976,DATA!$B$3:$E$6,4,0)","v":3.125E-2},0.30208333333333337,0.30208333333333337,{"$f":"DATA!$C$9","v":0.89},{"$f":"DATA!$C$10","v":64},1,407.81250000000006,407.81250000000006,0,"","",0,"","",0,"","","","",null,{"$f":"X982","v":47},null,{"$f":"TEXT(Y975,\"ddd\")","v":"di"},"MD",{"$f":"IFERROR(HLOOKUP(Y975,[1]DATA!$A$1:$NB$5,4,0),\"\")","v":"D2"},null,null,null,null,{"$f":"VLOOKUP(Y975,[1]SRA!$S$4:$Z$368,7,0)","v":0},"","",""]
["47diND",{"$f":"VLOOKUP($AA977,DATA!$B$3:$E$6,2,0)","v":"22:30:00"},{"$f":"VLOOKUP($AA977,DATA!$B$3:$E$6,3,0)","v":"06:30:00"},{"$f":"VLOOKUP($AA977,DATA!$B$3:$E$6,4,0)","v":3.125E-2},0.30208333333333326,0.30208333333333326,{"$f":"DATA!$C$9","v":0.89},{"$f":"DATA!$C$10","v":64},1,407.81249999999989,407.81249999999989,0,"","",0,"","",0,"","","","",null,{"$f":"X982","v":47},null,{"$f":"TEXT(Y975,\"ddd\")","v":"di"},"ND",{"$f":"IFERROR(HLOOKUP(Y975,[1]DATA!$A$1:$NB$5,5,0),\"\")","v":"D1"},null,null,null,null,{"$f":"VLOOKUP(Y975,[1]SRA!$S$4:$Z$368,8,0)","v":0},"","",""]
["47woDD",{"$f":"VLOOKUP($AA978,DATA!$B$3:$E$6,2,0)","v":"06:30:00"},{"$f":"VLOOKUP($AA978,DATA!$B$3:$E$6,3,0)","v":"14:30:00"},{"$f":"VLOOKUP($AA978,DATA!$B$3:$E$6,4,0)","v":3.125E-2},0.30208333333333331,0.30208333333333331,{"$f":"DATA!$C$9","v":0.89},{"$f":"DATA!$C$10","v":64},1,407.8125,407.8125,0,"","",0,"","",0,"","","","",null,{"$f":"X982","v":47},"2018-11-21",{"$f":"TEXT(Y978,\"ddd\")","v":"wo"},"DD",{"$f":"IFERROR(HLOOKUP(Y978,[1]DATA!$A$1:$NB$5,3,0),\"\")","v":"D3"},null,null,null,null,{"$f":"VLOOKUP(Y978,[1]SRA!$S$4:$Z$368,6,0)","v":0},"","",""]
["47woMD",{"$f":"VLOOKUP($AA979,DATA!$B$3:$E$6,2,0)","v":"14:30:00"},{"$f":"VLOOKUP($AA979,DATA!$B$3:$E$6,3,0)","v":"22:30:00"},{"$f":"VLOOKUP($AA979,DATA!$B$3:$E$6,4,0)","v":3.125E-2},0.30208333333333337,0.30208333333333337,{"$f":"DATA!$C$9","v":0.89},{"$f":"DATA!$C$10","v":64},1,407.81250000000006,407.81250000000006,0,"","",0,"","",0,"","","","",null,{"$f":"X982","v":47},null,{"$f":"TEXT(Y978,\"ddd\")","v":"wo"},"MD",{"$f":"IFERROR(HLOOKUP(Y978,[1]DATA!$A$1:$NB$5,4,0),\"\")","v":"D2"},null,null,null,null,{"$f":"VLOOKUP(Y978,[1]SRA!$S$4:$Z$368,7,0)","v":0},"","",""]
["47woND",{"$f":"VLOOKUP($AA980,DATA!$B$3:$E$6,2,0)","v":"22:30:00"},{"$f":"VLOOKUP($AA980,DATA!$B$3:$E$6,3,0)","v":"06:30:00"},{"$f":"VLOOKUP($AA980,DATA!$B$3:$E$6,4,0)","v":3.125E-2},0.30208333333333326,0.30208333333333326,{"$f":"DATA!$C$9","v":0.89},{"$f":"DATA!$C$10","v":64},1,407.81249999999989,407.81249999999989,0,"","",0,"","",0,"","","","",null,{"$f":"X982","v":47},null,{"$f":"TEXT(Y978,\"ddd\")","v":"wo"},"ND",{"$f":"IFERROR(HLOOKUP(Y978,[1]DATA!$A$1:$NB$5,5,0),\"\")","v":"D1"},null,null,null,null,{"$f":"VLOOKUP(Y978,[1]SRA!$S$4:$Z$368,8,0)","v":0},"","",""]
["47doDD",{"$f":"VLOOKUP($AA981,DATA!$B$3:$E$6,2,0)","v":"06:30:00"},{"$f":"VLOOKUP($AA981,DATA!$B$3:$E$6,3,0)","v":"14:30:00"},{"$f":"VLOOKUP($AA981,DATA!$B$3:$E$6,4,0)","v":3.125E-2},0.30208333333333331,0.30208333333333331,{"$f":"DATA!$C$9","v":0.89},{"$f":"DATA!$C$10","v":64},1,407.8125,407.8125,0,"","",0,"","",0,"","","","",null,{"$f":"X982","v":47},"2018-11-22",{"$f":"TEXT(Y981,\"ddd\")","v":"do"},"DD",{"$f":"IFERROR(HLOOKUP(Y981,[1]DATA!$A$1:$NB$5,3,0),\"\")","v":"D3"},null,null,null,null,{"$f":"VLOOKUP(Y981,[1]SRA!$S$4:$Z$368,6,0)","v":0},"","",""]
["47doMD",{"$f":"VLOOKUP($AA982,DATA!$B$3:$E$6,2,0)","v":"14:30:00"},{"$f":"VLOOKUP($AA982,DATA!$B$3:$E$6,3,0)","v":"22:30:00"},{"$f":"VLOOKUP($AA982,DATA!$B$3:$E$6,4,0)","v":3.125E-2},0.30208333333333337,0.30208333333333337,{"$f":"DATA!$C$9","v":0.89},{"$f":"DATA!$C$10","v":64},1,407.81250000000006,407.81250000000006,0,"","",0,"","",0,"","","","",null,{"$f":"WEEKNUM($Y972)","v":47},null,{"$f":"TEXT(Y981,\"ddd\")","v":"do"},"MD",{"$f":"IFERROR(HLOOKUP(Y981,[1]DATA!$A$1:$NB$5,4,0),\"\")","v":"D2"},null,null,null,null,{"$f":"VLOOKUP(Y981,[1]SRA!$S$4:$Z$368,7,0)","v":0},"","",""]
["47doND",{"$f":"VLOOKUP($AA983,DATA!$B$3:$E$6,2,0)","v":"22:30:00"},{"$f":"VLOOKUP($AA983,DATA!$B$3:$E$6,3,0)","v":"06:30:00"},{"$f":"VLOOKUP($AA983,DATA!$B$3:$E$6,4,0)","v":3.125E-2},0.30208333333333326,0.30208333333333326,{"$f":"DATA!$C$9","v":0.89},{"$f":"DATA!$C$10","v":64},1,407.81249999999989,407.81249999999989,0,"","",0,"","",0,"","","","",null,{"$f":"X982","v":47},null,{"$f":"TEXT(Y981,\"ddd\")","v":"do"},"ND",{"$f":"IFERROR(HLOOKUP(Y981,[1]DATA!$A$1:$NB$5,5,0),\"\")","v":"D1"},null,null,null,null,{"$f":"VLOOKUP(Y981,[1]SRA!$S$4:$Z$368,8,0)","v":0},"","",""]
["47vrDD",{"$f":"VLOOKUP($AA984,DATA!$B$3:$E$6,2,0)","v":"06:30:00"},{"$f":"VLOOKUP($AA984,DATA!$B$3:$E$6,3,0)","v":"14:30:00"},{"$f":"VLOOKUP($AA984,DATA!$B$3:$E$6,4,0)","v":3.125E-2},0.30208333333333331,0.30208333333333331,{"$f":"DATA!$C$9","v":0.89},{"$f":"DATA!$C$10","v":64},1,407.8125,407.8125,0,"","",0,"","",0,"","","","",null,{"$f":"X982","v":47},"2018-11-23",{"$f":"TEXT(Y984,\"ddd\")","v":"vr"},"DD",{"$f":"IFERROR(HLOOKUP(Y984,[1]DATA!$A$1:$NB$5,3,0),\"\")","v":"D3"},null,null,null,null,{"$f":"VLOOKUP(Y984,[1]SRA!$S$4:$Z$368,6,0)","v":0},"","",""]
["47vrMD",{"$f":"VLOOKUP($AA985,DATA!$B$3:$E$6,2,0)","v":"14:30:00"},{"$f":"VLOOKUP($AA985,DATA!$B$3:$E$6,3,0)","v":"22:30:00"},{"$f":"VLOOKUP($AA985,DATA!$B$3:$E$6,4,0)","v":3.125E-2},0.30208333333333337,0.30208333333333337,{"$f":"DATA!$C$9","v":0.89},{"$f":"DATA!$C$10","v":64},1,407.81250000000006,407.81250000000006,0,"","",0,"","",0,"","","","",null,{"$f":"X982","v":47},null,{"$f":"TEXT(Y984,\"ddd\")","v":"vr"},"MD",{"$f":"IFERROR(HLOOKUP(Y984,[1]DATA!$A$1:$NB$5,4,0),\"\")","v":"D2"},null,null,null,null,{"$f":"VLOOKUP(Y984,[1]SRA!$S$4:$Z$368,7,0)","v":0},"","",""]
["47vrND",{"$f":"VLOOKUP($AA986,DATA!$B$3:$E$6,2,0)","v":"22:30:00"},{"$f":"VLOOKUP($AA986,DATA!$B$3:$E$6,3,0)","v":"06:30:00"},{"$f":"VLOOKUP($AA986,DATA!$B$3:$E$6,4,0)","v":3.125E-2},0.30208333333333326,0.30208333333333326,{"$f":"DATA!$C$9","v":0.89},{"$f":"DATA!$C$10","v":64},1,407.81249999999989,407.81249999999989,0,"","",0,"","",0,"","","","",null,{"$f":"X982","v":47},null,{"$f":"TEXT(Y984,\"ddd\")","v":"vr"},"ND",{"$f":"IFERROR(HLOOKUP(Y984,[1]DATA!$A$1:$NB$5,5,0),\"\")","v":"D2"},null,null,null,null,{"$f":"VLOOKUP(Y984,[1]SRA!$S$4:$Z$368,8,0)","v":0},"","",""]
["47zaDD",{"$f":"VLOOKUP($AA987,DATA!$B$3:$E$6,2,0)","v":"06:30:00"},{"$f":"VLOOKUP($AA987,DATA!$B$3:$E$6,3,0)","v":"14:30:00"},{"$f":"VLOOKUP($AA987,DATA!$B$3:$E$6,4,0)","v":3.125E-2},0.30208333333333331,0.30208333333333331,{"$f":"DATA!$C$9","v":0.89},{"$f":"DATA!$C$10","v":64},1,407.8125,407.8125,0,"","",0,"","",0,"","","","",null,{"$f":"X982","v":47},"2018-11-24",{"$f":"TEXT(Y987,\"ddd\")","v":"za"},"DD",{"$f":"IFERROR(HLOOKUP(Y987,[1]DATA!$A$1:$NB$5,3,0),\"\")","v":"D3"},null,null,null,null,{"$f":"VLOOKUP(Y987,[1]SRA!$S$4:$Z$368,6,0)","v":0},"","",{"$f":"IFERROR(R987/(R987+AG987),\"\")","v":""}]
["47zaMD",{"$f":"VLOOKUP($AA988,DATA!$B$3:$E$6,2,0)","v":"14:30:00"},{"$f":"VLOOKUP($AA988,DATA!$B$3:$E$6,3,0)","v":"22:30:00"},{"$f":"VLOOKUP($AA988,DATA!$B$3:$E$6,4,0)","v":3.125E-2},{"$f":"(C988-B988+(B988>C988))-D988","v":0.30208333333333337},{"$f":"E988-O988-L988","v":0.30208333333333337},{"$f":"DATA!$C$9","v":0.89},{"$f":"DATA!$C$10","v":64},1,{"$f":"F988*86400/H988*I988","v":407.81250000000006},{"$f":"E988*86400/H988","v":407.81250000000006},0,"","",0,"","",{"$f":"AF988*AG$2","v":0},{"$f":"IF(AF988-AE988=0,\"\",AF988-AE988)","v":""},"","","",null,{"$f":"X982","v":47},null,{"$f":"TEXT(Y987,\"ddd\")","v":"za"},"MD",{"$f":"IFERROR(HLOOKUP(Y987,[1]DATA!$A$1:$NB$5,4,0),\"\")","v":"-"},null,null,null,null,{"$f":"VLOOKUP(Y987,[1]SRA!$S$4:$Z$368,7,0)","v":0},"","",""]
["47zaND",{"$f":"VLOOKUP($AA989,DATA!$B$3:$E$6,2,0)","v":"22:30:00"},{"$f":"VLOOKUP($AA989,DATA!$B$3:$E$6,3,0)","v":"06:30:00"},{"$f":"VLOOKUP($AA989,DATA!$B$3:$E$6,4,0)","v":3.125E-2},0.30208333333333326,0.30208333333333326,{"$f":"DATA!$C$9","v":0.89},{"$f":"DATA!$C$10","v":64},1,407.81249999999989,407.81249999999989,0,"","",0,"","",0,"","","","",null,{"$f":"X982","v":47},null,{"$f":"TEXT(Y987,\"ddd\")","v":"za"},"ND",{"$f":"IFERROR(HLOOKUP(Y987,[1]DATA!$A$1:$NB$5,5,0),\"\")","v":"-"},null,null,null,null,{"$f":"VLOOKUP(Y987,[1]SRA!$S$4:$Z$368,8,0)","v":0},"","",""]
["47zoDD",{"$f":"VLOOKUP($AA990,DATA!$B$3:$E$6,2,0)","v":"06:30:00"},{"$f":"VLOOKUP($AA990,DATA!$B$3:$E$6,3,0)","v":"14:30:00"},{"$f":"VLOOKUP($AA990,DATA!$B$3:$E$6,4,0)","v":3.125E-2},0.30208333333333331,0.30208333333333331,{"$f":"DATA!$C$9","v":0.89},{"$f":"DATA!$C$10","v":64},1,407.8125,407.8125,0,"","",0,"","",0,"","","","",null,{"$f":"X982","v":47},"2018-11-25",{"$f":"TEXT(Y990,\"ddd\")","v":"zo"},"DD",{"$f":"IFERROR(HLOOKUP(Y990,[1]DATA!$A$1:$NB$5,3,0),\"\")","v":"-"},null,null,null,null,{"$f":"VLOOKUP(Y990,[1]SRA!$S$4:$Z$368,6,0)","v":0},"","",""]
["47zoMD",{"$f":"VLOOKUP($AA991,DATA!$B$3:$E$6,2,0)","v":"14:30:00"},{"$f":"VLOOKUP($AA991,DATA!$B$3:$E$6,3,0)","v":"22:30:00"},{"$f":"VLOOKUP($AA991,DATA!$B$3:$E$6,4,0)","v":3.125E-2},0.30208333333333337,0.30208333333333337,{"$f":"DATA!$C$9","v":0.89},{"$f":"DATA!$C$10","v":64},1,407.81250000000006,407.81250000000006,0,"","",0,"","",0,"","","","",null,{"$f":"X982","v":47},null,{"$f":"TEXT(Y990,\"ddd\")","v":"zo"},"MD",{"$f":"IFERROR(HLOOKUP(Y990,[1]DATA!$A$1:$NB$5,4,0),\"\")","v":"-"},null,null,null,null,{"$f":"VLOOKUP(Y990,[1]SRA!$S$4:$Z$368,7,0)","v":0},"","",""]
["47zoZND",{"$f":"VLOOKUP($AA992,DATA!$B$3:$E$6,2,0)","v":"00:00:00"},{"$f":"VLOOKUP($AA992,DATA!$B$3:$E$6,3,0)","v":"00:00:00"},{"$f":"VLOOKUP($AA992,DATA!$B$3:$E$6,4,0)","v":0},0,0,{"$f":"DATA!$C$9","v":0.89},{"$f":"DATA!$C$10","v":64},1,0,0,0,"","",0,"","",0,"","","","",null,{"$f":"X982","v":47},null,{"$f":"TEXT(Y990,\"ddd\")","v":"zo"},"ZND",{"$f":"IFERROR(HLOOKUP(Y990,[1]DATA!$A$1:$NB$5,5,0),\"\")","v":"-"},null,null,null,null,{"$f":"VLOOKUP(Y990,[1]SRA!$S$4:$Z$368,8,0)","v":0},"","",""]
["48maDD",{"$f":"VLOOKUP($AA993,DATA!$B$3:$E$6,2,0)","v":"06:30:00"},{"$f":"VLOOKUP($AA993,DATA!$B$3:$E$6,3,0)","v":"14:30:00"},{"$f":"VLOOKUP($AA993,DATA!$B$3:$E$6,4,0)","v":3.125E-2},0.30208333333333331,0.30208333333333331,{"$f":"DATA!$C$9","v":0.89},{"$f":"DATA!$C$10","v":64},1,407.8125,407.8125,0,"","",{"$f":"TIME(INT($AD993/60),INT(MOD($AD993,60)/1),0)","v":0},"","",0,"","","","",null,{"$f":"X1003","v":48},"2018-11-26",{"$f":"TEXT(Y993,\"ddd\")","v":"ma"},"DD",{"$f":"IFERROR(HLOOKUP(Y993,[1]DATA!$A$1:$NB$5,3,0),\"\")","v":"D2"},null,null,null,null,{"$f":"VLOOKUP(Y993,[1]SRA!$S$4:$AA$368,6,0)","v":0},"","","",{"$f":"IF(SUMIF(S993:S1013,\">0\",K993:K1013)=0,\"\",SUMIF(S993:S1013,\">0\",K993:K1013))","v":""},{"$f":"IF(SUM(S993:S1013)=0,\"\",SUM(S993:S1013))","v":""},{"$f":"IFERROR(AL993/AK993,\"-\")","v":"-"},{"$f":"IF(SUM(M993:M1013)=0,\"0\",SUM(M993:M1013))","v":"0"},{"$f":"IFERROR(AN993/AK993,\"-\")","v":"-"},{"$f":"IF(SUM(P993:P1013)=0,0,SUM(P993:P1013))","v":0},{"$f":"IFERROR(AP993/AK993,\"-\")","v":"-"},"-",{"$f":"IFERROR(SUMIF($AB993:$AB1013,AS$5,$AJ993:$AJ1013)/COUNTIFS($AB993:$AB1013,AS$5,$AJ993:$AJ1013,\">0\"),\"\")","v":""},"","",{"$f":"IFERROR((AK993-AL993-AN993-AP993),\"-\")","v":"-"},{"$f":"IFERROR((1-AM993-AO993-AQ993), \"-\")","v":"-"},{"$f":"IFERROR((AV993*$AE$2)/60,\"-\")","v":"-"},{"$f":"IFERROR(SUM(AG993:AG1013),\"\")","v":0}]
["48maMD",{"$f":"VLOOKUP($AA994,DATA!$B$3:$E$6,2,0)","v":"14:30:00"},{"$f":"VLOOKUP($AA994,DATA!$B$3:$E$6,3,0)","v":"22:30:00"},{"$f":"VLOOKUP($AA994,DATA!$B$3:$E$6,4,0)","v":3.125E-2},0.30208333333333337,0.30208333333333337,{"$f":"DATA!$C$9","v":0.89},{"$f":"DATA!$C$10","v":64},1,407.81250000000006,407.81250000000006,0,"","",{"$f":"TIME(INT(AD994/60),INT(MOD(AD994,60)/1),0)","v":0},"","",0,"","","","",null,{"$f":"X1003","v":48},null,{"$f":"TEXT(Y993,\"ddd\")","v":"ma"},"MD",{"$f":"IFERROR(HLOOKUP(Y993,[1]DATA!$A$1:$NB$5,4,0),\"\")","v":"D1"},null,null,null,null,{"$f":"VLOOKUP(Y993,[1]SRA!$S$4:$Z$368,7,0)","v":0},"","",""]
["48maND",{"$f":"VLOOKUP($AA995,DATA!$B$3:$E$6,2,0)","v":"22:30:00"},{"$f":"VLOOKUP($AA995,DATA!$B$3:$E$6,3,0)","v":"06:30:00"},{"$f":"VLOOKUP($AA995,DATA!$B$3:$E$6,4,0)","v":3.125E-2},0.30208333333333326,0.30208333333333326,{"$f":"DATA!$C$9","v":0.89},{"$f":"DATA!$C$10","v":64},1,407.81249999999989,407.81249999999989,0,"","",0,"","",0,"","","","",null,{"$f":"X1003","v":48},null,{"$f":"TEXT(Y993,\"ddd\")","v":"ma"},"ND",{"$f":"IFERROR(HLOOKUP(Y993,[1]DATA!$A$1:$NB$5,5,0),\"\")","v":"D3"},null,null,null,null,{"$f":"VLOOKUP(Y993,[1]SRA!$S$4:$Z$368,8,0)","v":0},"","",""]
["48diDD",{"$f":"VLOOKUP($AA996,DATA!$B$3:$E$6,2,0)","v":"06:30:00"},{"$f":"VLOOKUP($AA996,DATA!$B$3:$E$6,3,0)","v":"14:30:00"},{"$f":"VLOOKUP($AA996,DATA!$B$3:$E$6,4,0)","v":3.125E-2},0.30208333333333331,0.30208333333333331,{"$f":"DATA!$C$9","v":0.89},{"$f":"DATA!$C$10","v":64},1,407.8125,407.8125,0,"","",0,"","",0,"","","","",null,{"$f":"X1003","v":48},"2018-11-27",{"$f":"TEXT(Y996,\"ddd\")","v":"di"},"DD",{"$f":"IFERROR(HLOOKUP(Y996,[1]DATA!$A$1:$NB$5,3,0),\"\")","v":"D2"},null,null,null,null,{"$f":"VLOOKUP(Y996,[1]SRA!$S$4:$Z$368,6,0)","v":0},"","",""]
["48diMD",{"$f":"VLOOKUP($AA997,DATA!$B$3:$E$6,2,0)","v":"14:30:00"},{"$f":"VLOOKUP($AA997,DATA!$B$3:$E$6,3,0)","v":"22:30:00"},{"$f":"VLOOKUP($AA997,DATA!$B$3:$E$6,4,0)","v":3.125E-2},0.30208333333333337,0.30208333333333337,{"$f":"DATA!$C$9","v":0.89},{"$f":"DATA!$C$10","v":64},1,407.81250000000006,407.81250000000006,0,"","",0,"","",0,"","","","",null,{"$f":"X1003","v":48},null,{"$f":"TEXT(Y996,\"ddd\")","v":"di"},"MD",{"$f":"IFERROR(HLOOKUP(Y996,[1]DATA!$A$1:$NB$5,4,0),\"\")","v":"D1"},null,null,null,null,{"$f":"VLOOKUP(Y996,[1]SRA!$S$4:$Z$368,7,0)","v":0},"","",""]
["48diND",{"$f":"VLOOKUP($AA998,DATA!$B$3:$E$6,2,0)","v":"22:30:00"},{"$f":"VLOOKUP($AA998,DATA!$B$3:$E$6,3,0)","v":"06:30:00"},{"$f":"VLOOKUP($AA998,DATA!$B$3:$E$6,4,0)","v":3.125E-2},0.30208333333333326,0.30208333333333326,{"$f":"DATA!$C$9","v":0.89},{"$f":"DATA!$C$10","v":64},1,407.81249999999989,407.81249999999989,0,"","",0,"","",0,"","","","",null,{"$f":"X1003","v":48},null,{"$f":"TEXT(Y996,\"ddd\")","v":"di"},"ND",{"$f":"IFERROR(HLOOKUP(Y996,[1]DATA!$A$1:$NB$5,5,0),\"\")","v":"D3"},null,null,null,null,{"$f":"VLOOKUP(Y996,[1]SRA!$S$4:$Z$368,8,0)","v":0},"","",""]
["48woDD",{"$f":"VLOOKUP($AA999,DATA!$B$3:$E$6,2,0)","v":"06:30:00"},{"$f":"VLOOKUP($AA999,DATA!$B$3:$E$6,3,0)","v":"14:30:00"},{"$f":"VLOOKUP($AA999,DATA!$B$3:$E$6,4,0)","v":3.125E-2},0.30208333333333331,0.30208333333333331,{"$f":"DATA!$C$9","v":0.89},{"$f":"DATA!$C$10","v":64},1,407.8125,407.8125,0,"","",0,"","",0,"","","","",null,{"$f":"X1003","v":48},"2018-11-28",{"$f":"TEXT(Y999,\"ddd\")","v":"wo"},"DD",{"$f":"IFERROR(HLOOKUP(Y999,[1]DATA!$A$1:$NB$5,3,0),\"\")","v":"D2"},null,null,null,null,{"$f":"VLOOKUP(Y999,[1]SRA!$S$4:$Z$368,6,0)","v":0},"","",""]
["48woMD",{"$f":"VLOOKUP($AA1000,DATA!$B$3:$E$6,2,0)","v":"14:30:00"},{"$f":"VLOOKUP($AA1000,DATA!$B$3:$E$6,3,0)","v":"22:30:00"},{"$f":"VLOOKUP($AA1000,DATA!$B$3:$E$6,4,0)","v":3.125E-2},0.30208333333333337,0.30208333333333337,{"$f":"DATA!$C$9","v":0.89},{"$f":"DATA!$C$10","v":64},1,407.81250000000006,407.81250000000006,0,"","",0,"","",0,"","","","",null,{"$f":"X1003","v":48},null,{"$f":"TEXT(Y999,\"ddd\")","v":"wo"},"MD",{"$f":"IFERROR(HLOOKUP(Y999,[1]DATA!$A$1:$NB$5,4,0),\"\")","v":"D1"},null,null,null,null,{"$f":"VLOOKUP(Y999,[1]SRA!$S$4:$Z$368,7,0)","v":0},"","",""]
["48woND",{"$f":"VLOOKUP($AA1001,DATA!$B$3:$E$6,2,0)","v":"22:30:00"},{"$f":"VLOOKUP($AA1001,DATA!$B$3:$E$6,3,0)","v":"06:30:00"},{"$f":"VLOOKUP($AA1001,DATA!$B$3:$E$6,4,0)","v":3.125E-2},0.30208333333333326,0.30208333333333326,{"$f":"DATA!$C$9","v":0.89},{"$f":"DATA!$C$10","v":64},1,407.81249999999989,407.81249999999989,0,"","",0,"","",0,"","","","",null,{"$f":"X1003","v":48},null,{"$f":"TEXT(Y999,\"ddd\")","v":"wo"},"ND",{"$f":"IFERROR(HLOOKUP(Y999,[1]DATA!$A$1:$NB$5,5,0),\"\")","v":"D3"},null,null,null,null,{"$f":"VLOOKUP(Y999,[1]SRA!$S$4:$Z$368,8,0)","v":0},"","",""]
["48doDD",{"$f":"VLOOKUP($AA1002,DATA!$B$3:$E$6,2,0)","v":"06:30:00"},{"$f":"VLOOKUP($AA1002,DATA!$B$3:$E$6,3,0)","v":"14:30:00"},{"$f":"VLOOKUP($AA1002,DATA!$B$3:$E$6,4,0)","v":3.125E-2},0.30208333333333331,0.30208333333333331,{"$f":"DATA!$C$9","v":0.89},{"$f":"DATA!$C$10","v":64},1,407.8125,407.8125,0,"","",0,"","",0,"","","","",null,{"$f":"X1003","v":48},"2018-11-29",{"$f":"TEXT(Y1002,\"ddd\")","v":"do"},"DD",{"$f":"IFERROR(HLOOKUP(Y1002,[1]DATA!$A$1:$NB$5,3,0),\"\")","v":"D2"},null,null,null,null,{"$f":"VLOOKUP(Y1002,[1]SRA!$S$4:$Z$368,6,0)","v":0},"","",""]
["48doMD",{"$f":"VLOOKUP($AA1003,DATA!$B$3:$E$6,2,0)","v":"14:30:00"},{"$f":"VLOOKUP($AA1003,DATA!$B$3:$E$6,3,0)","v":"22:30:00"},{"$f":"VLOOKUP($AA1003,DATA!$B$3:$E$6,4,0)","v":3.125E-2},0.30208333333333337,0.30208333333333337,{"$f":"DATA!$C$9","v":0.89},{"$f":"DATA!$C$10","v":64},1,407.81250000000006,407.81250000000006,0,"","",0,"","",0,"","","","",null,{"$f":"WEEKNUM($Y993)","v":48},null,{"$f":"TEXT(Y1002,\"ddd\")","v":"do"},"MD",{"$f":"IFERROR(HLOOKUP(Y1002,[1]DATA!$A$1:$NB$5,4,0),\"\")","v":"D1"},null,null,null,null,{"$f":"VLOOKUP(Y1002,[1]SRA!$S$4:$Z$368,7,0)","v":0},"","",""]
["48doND",{"$f":"VLOOKUP($AA1004,DATA!$B$3:$E$6,2,0)","v":"22:30:00"},{"$f":"VLOOKUP($AA1004,DATA!$B$3:$E$6,3,0)","v":"06:30:00"},{"$f":"VLOOKUP($AA1004,DATA!$B$3:$E$6,4,0)","v":3.125E-2},0.30208333333333326,0.30208333333333326,{"$f":"DATA!$C$9","v":0.89},{"$f":"DATA!$C$10","v":64},1,407.81249999999989,407.81249999999989,0,"","",0,"","",0,"","","","",null,{"$f":"X1003","v":48},null,{"$f":"TEXT(Y1002,\"ddd\")","v":"do"},"ND",{"$f":"IFERROR(HLOOKUP(Y1002,[1]DATA!$A$1:$NB$5,5,0),\"\")","v":"D3"},null,null,null,null,{"$f":"VLOOKUP(Y1002,[1]SRA!$S$4:$Z$368,8,0)","v":0},"","",""]
["48vrDD",{"$f":"VLOOKUP($AA1005,DATA!$B$3:$E$6,2,0)","v":"06:30:00"},{"$f":"VLOOKUP($AA1005,DATA!$B$3:$E$6,3,0)","v":"14:30:00"},{"$f":"VLOOKUP($AA1005,DATA!$B$3:$E$6,4,0)","v":3.125E-2},0.30208333333333331,0.30208333333333331,{"$f":"DATA!$C$9","v":0.89},{"$f":"DATA!$C$10","v":64},1,407.8125,407.8125,0,"","",0,"","",0,"","","","",null,{"$f":"X1003","v":48},"2018-11-30",{"$f":"TEXT(Y1005,\"ddd\")","v":"vr"},"DD",{"$f":"IFERROR(HLOOKUP(Y1005,[1]DATA!$A$1:$NB$5,3,0),\"\")","v":"D2"},null,null,null,null,{"$f":"VLOOKUP(Y1005,[1]SRA!$S$4:$Z$368,6,0)","v":0},"","",""]
["48vrMD",{"$f":"VLOOKUP($AA1006,DATA!$B$3:$E$6,2,0)","v":"14:30:00"},{"$f":"VLOOKUP($AA1006,DATA!$B$3:$E$6,3,0)","v":"22:30:00"},{"$f":"VLOOKUP($AA1006,DATA!$B$3:$E$6,4,0)","v":3.125E-2},0.30208333333333337,0.30208333333333337,{"$f":"DATA!$C$9","v":0.89},{"$f":"DATA!$C$10","v":64},1,407.81250000000006,407.81250000000006,0,"","",0,"","",0,"","","","",null,{"$f":"X1003","v":48},null,{"$f":"TEXT(Y1005,\"ddd\")","v":"vr"},"MD",{"$f":"IFERROR(HLOOKUP(Y1005,[1]DATA!$A$1:$NB$5,4,0),\"\")","v":"D1"},null,null,null,null,{"$f":"VLOOKUP(Y1005,[1]SRA!$S$4:$Z$368,7,0)","v":0},"","",""]
["48vrND",{"$f":"VLOOKUP($AA1007,DATA!$B$3:$E$6,2,0)","v":"22:30:00"},{"$f":"VLOOKUP($AA1007,DATA!$B$3:$E$6,3,0)","v":"06:30:00"},{"$f":"VLOOKUP($AA1007,DATA!$B$3:$E$6,4,0)","v":3.125E-2},0.30208333333333326,0.30208333333333326,{"$f":"DATA!$C$9","v":0.89},{"$f":"DATA!$C$10","v":64},1,407.81249999999989,407.81249999999989,0,"","",0,"","",0,"","","","",null,{"$f":"X1003","v":48},null,{"$f":"TEXT(Y1005,\"ddd\")","v":"vr"},"ND",{"$f":"IFERROR(HLOOKUP(Y1005,[1]DATA!$A$1:$NB$5,5,0),\"\")","v":"D3"},null,null,null,null,{"$f":"VLOOKUP(Y1005,[1]SRA!$S$4:$Z$368,8,0)","v":0},"","",""]
[{"$f":"X1008&Z1008&AA1008","v":"48zaDD"},{"$f":"VLOOKUP($AA1008,DATA!$B$3:$E$6,2,0)","v":"06:30:00"},{"$f":"VLOOKUP($AA1008,DATA!$B$3:$E$6,3,0)","v":"14:30:00"},{"$f":"VLOOKUP($AA1008,DATA!$B$3:$E$6,4,0)","v":3.125E-2},0.30208333333333331,0.30208333333333331,{"$f":"DATA!$C$9","v":0.89},{"$f":"DATA!$C$10","v":64},1,407.8125,407.8125,0,"","",0,{"$f":"IF($O1008*86400/$H1008=0,\"\",$O1008*86400/$H1008)","v":""},"",0,"","","","",null,{"$f":"X1003","v":48},"2018-12-01",{"$f":"TEXT(Y1008,\"ddd\")","v":"za"},"DD",{"$f":"IFERROR(HLOOKUP(Y1008,[1]DATA!$A$1:$NB$5,3,0),\"\")","v":"D2"},null,null,null,null,{"$f":"VLOOKUP(Y1008,[1]SRA!$S$4:$Z$368,6,0)","v":0},"","",""]
["48zaMD",{"$f":"VLOOKUP($AA1009,DATA!$B$3:$E$6,2,0)","v":"14:30:00"},{"$f":"VLOOKUP($AA1009,DATA!$B$3:$E$6,3,0)","v":"22:30:00"},{"$f":"VLOOKUP($AA1009,DATA!$B$3:$E$6,4,0)","v":3.125E-2},0.30208333333333337,0.30208333333333337,{"$f":"DATA!$C$9","v":0.89},{"$f":"DATA!$C$10","v":64},1,407.81250000000006,407.81250000000006,0,"","",0,"","",0,"","","","",null,{"$f":"X1003","v":48},null,{"$f":"TEXT(Y1008,\"ddd\")","v":"za"},"MD",{"$f":"IFERROR(HLOOKUP(Y1008,[1]DATA!$A$1:$NB$5,4,0),\"\")","v":"-"},null,null,null,null,{"$f":"VLOOKUP(Y1008,[1]SRA!$S$4:$Z$368,7,0)","v":0},"","",""]
["48zaND",{"$f":"VLOOKUP($AA1010,DATA!$B$3:$E$6,2,0)","v":"22:30:00"},{"$f":"VLOOKUP($AA1010,DATA!$B$3:$E$6,3,0)","v":"06:30:00"},{"$f":"VLOOKUP($AA1010,DATA!$B$3:$E$6,4,0)","v":3.125E-2},0.30208333333333326,0.30208333333333326,{"$f":"DATA!$C$9","v":0.89},{"$f":"DATA!$C$10","v":64},1,407.81249999999989,407.81249999999989,0,"","",0,"","",0,"","","","",null,{"$f":"X1003","v":48},null,{"$f":"TEXT(Y1008,\"ddd\")","v":"za"},"ND",{"$f":"IFERROR(HLOOKUP(Y1008,[1]DATA!$A$1:$NB$5,5,0),\"\")","v":"-"},null,null,null,null,{"$f":"VLOOKUP(Y1008,[1]SRA!$S$4:$Z$368,8,0)","v":0},"","",""]
["48zoDD",{"$f":"VLOOKUP($AA1011,DATA!$B$3:$E$6,2,0)","v":"06:30:00"},{"$f":"VLOOKUP($AA1011,DATA!$B$3:$E$6,3,0)","v":"14:30:00"},{"$f":"VLOOKUP($AA1011,DATA!$B$3:$E$6,4,0)","v":3.125E-2},0.30208333333333331,0.30208333333333331,{"$f":"DATA!$C$9","v":0.89},{"$f":"DATA!$C$10","v":64},1,407.8125,407.8125,0,"","",0,"","",0,"","","","",null,{"$f":"X1003","v":48},"2018-12-02",{"$f":"TEXT(Y1011,\"ddd\")","v":"zo"},"DD",{"$f":"IFERROR(HLOOKUP(Y1011,[1]DATA!$A$1:$NB$5,3,0),\"\")","v":"-"},null,null,null,null,{"$f":"VLOOKUP(Y1011,[1]SRA!$S$4:$Z$368,6,0)","v":0},"","",""]
["48zoMD",{"$f":"VLOOKUP($AA1012,DATA!$B$3:$E$6,2,0)","v":"14:30:00"},{"$f":"VLOOKUP($AA1012,DATA!$B$3:$E$6,3,0)","v":"22:30:00"},{"$f":"VLOOKUP($AA1012,DATA!$B$3:$E$6,4,0)","v":3.125E-2},0.30208333333333337,0.30208333333333337,{"$f":"DATA!$C$9","v":0.89},{"$f":"DATA!$C$10","v":64},1,407.81250000000006,407.81250000000006,0,"","",0,"","",0,"","","","",null,{"$f":"X1003","v":48},null,{"$f":"TEXT(Y1011,\"ddd\")","v":"zo"},"MD",{"$f":"IFERROR(HLOOKUP(Y1011,[1]DATA!$A$1:$NB$5,4,0),\"\")","v":"-"},null,null,null,null,{"$f":"VLOOKUP(Y1011,[1]SRA!$S$4:$Z$368,7,0)","v":0},"","",""]
["48zoZND",{"$f":"VLOOKUP($AA1013,DATA!$B$3:$E$6,2,0)","v":"00:00:00"},{"$f":"VLOOKUP($AA1013,DATA!$B$3:$E$6,3,0)","v":"00:00:00"},{"$f":"VLOOKUP($AA1013,DATA!$B$3:$E$6,4,0)","v":0},0,0,{"$f":"DATA!$C$9","v":0.89},{"$f":"DATA!$C$10","v":64},1,0,0,0,"","",0,"","",0,"","","","",null,{"$f":"X1003","v":48},null,{"$f":"TEXT(Y1011,\"ddd\")","v":"zo"},"ZND",{"$f":"IFERROR(HLOOKUP(Y1011,[1]DATA!$A$1:$NB$5,5,0),\"\")","v":"-"},null,null,null,null,{"$f":"VLOOKUP(Y1011,[1]SRA!$S$4:$Z$368,8,0)","v":0},"","",""]
["49maDD",{"$f":"VLOOKUP($AA1014,DATA!$B$3:$E$6,2,0)","v":"06:30:00"},{"$f":"VLOOKUP($AA1014,DATA!$B$3:$E$6,3,0)","v":"14:30:00"},{"$f":"VLOOKUP($AA1014,DATA!$B$3:$E$6,4,0)","v":3.125E-2},0.30208333333333331,0.30208333333333331,{"$f":"DATA!$C$9","v":0.89},{"$f":"DATA!$C$10","v":64},1,407.8125,407.8125,0,"","",{"$f":"TIME(INT($AD1014/60),INT(MOD($AD1014,60)/1),0)","v":0},"","",0,"","","","",null,{"$f":"X1024","v":49},"2018-12-03",{"$f":"TEXT(Y1014,\"ddd\")","v":"ma"},"DD",{"$f":"IFERROR(HLOOKUP(Y1014,[1]DATA!$A$1:$NB$5,3,0),\"\")","v":"D1"},null,null,null,null,{"$f":"VLOOKUP(Y1014,[1]SRA!$S$4:$AA$368,6,0)","v":0},"","","",{"$f":"IF(SUMIF(S1014:S1034,\">0\",K1014:K1034)=0,\"\",SUMIF(S1014:S1034,\">0\",K1014:K1034))","v":""},{"$f":"IF(SUM(S1014:S1034)=0,\"\",SUM(S1014:S1034))","v":""},{"$f":"IFERROR(AL1014/AK1014,\"-\")","v":"-"},{"$f":"IF(SUM(M1014:M1034)=0,\"0\",SUM(M1014:M1034))","v":"0"},{"$f":"IFERROR(AN1014/AK1014,\"-\")","v":"-"},{"$f":"IF(SUM(P1014:P1034)=0,0,SUM(P1014:P1034))","v":0},{"$f":"IFERROR(AP1014/AK1014,\"-\")","v":"-"},"-",{"$f":"IFERROR(SUMIF($AB1014:$AB1034,AS$5,$AJ1014:$AJ1034)/COUNTIFS($AB1014:$AB1034,AS$5,$AJ1014:$AJ1034,\">0\"),\"\")","v":""},"","",{"$f":"IFERROR((AK1014-AL1014-AN1014-AP1014),\"-\")","v":"-"},{"$f":"IFERROR((1-AM1014-AO1014-AQ1014), \"-\")","v":"-"},{"$f":"IFERROR((AV1014*$AE$2)/60,\"-\")","v":"-"},{"$f":"IFERROR(SUM(AG1014:AG1034),\"\")","v":0}]
["49maMD",{"$f":"VLOOKUP($AA1015,DATA!$B$3:$E$6,2,0)","v":"14:30:00"},{"$f":"VLOOKUP($AA1015,DATA!$B$3:$E$6,3,0)","v":"22:30:00"},{"$f":"VLOOKUP($AA1015,DATA!$B$3:$E$6,4,0)","v":3.125E-2},0.30208333333333337,0.30208333333333337,{"$f":"DATA!$C$9","v":0.89},{"$f":"DATA!$C$10","v":64},1,407.81250000000006,407.81250000000006,0,"","",{"$f":"TIME(INT(AD1015/60),INT(MOD(AD1015,60)/1),0)","v":0},"","",0,"","","","",null,{"$f":"X1024","v":49},null,{"$f":"TEXT(Y1014,\"ddd\")","v":"ma"},"MD",{"$f":"IFERROR(HLOOKUP(Y1014,[1]DATA!$A$1:$NB$5,4,0),\"\")","v":"D3"},null,null,null,null,{"$f":"VLOOKUP(Y1014,[1]SRA!$S$4:$Z$368,7,0)","v":0},"","",""]
["49maND",{"$f":"VLOOKUP($AA1016,DATA!$B$3:$E$6,2,0)","v":"22:30:00"},{"$f":"VLOOKUP($AA1016,DATA!$B$3:$E$6,3,0)","v":"06:30:00"},{"$f":"VLOOKUP($AA1016,DATA!$B$3:$E$6,4,0)","v":3.125E-2},0.30208333333333326,0.30208333333333326,{"$f":"DATA!$C$9","v":0.89},{"$f":"DATA!$C$10","v":64},1,407.81249999999989,407.81249999999989,0,"","",0,"","",0,"","","","",null,{"$f":"X1024","v":49},null,{"$f":"TEXT(Y1014,\"ddd\")","v":"ma"},"ND",{"$f":"IFERROR(HLOOKUP(Y1014,[1]DATA!$A$1:$NB$5,5,0),\"\")","v":"D2"},null,null,null,null,{"$f":"VLOOKUP(Y1014,[1]SRA!$S$4:$Z$368,8,0)","v":0},"","",""]
["49diDD",{"$f":"VLOOKUP($AA1017,DATA!$B$3:$E$6,2,0)","v":"06:30:00"},{"$f":"VLOOKUP($AA1017,DATA!$B$3:$E$6,3,0)","v":"14:30:00"},{"$f":"VLOOKUP($AA1017,DATA!$B$3:$E$6,4,0)","v":3.125E-2},0.30208333333333331,0.30208333333333331,{"$f":"DATA!$C$9","v":0.89},{"$f":"DATA!$C$10","v":64},1,407.8125,407.8125,0,"","",0,"","",0,"","","","",null,{"$f":"X1024","v":49},"2018-12-04",{"$f":"TEXT(Y1017,\"ddd\")","v":"di"},"DD",{"$f":"IFERROR(HLOOKUP(Y1017,[1]DATA!$A$1:$NB$5,3,0),\"\")","v":"D1"},null,null,null,null,{"$f":"VLOOKUP(Y1017,[1]SRA!$S$4:$Z$368,6,0)","v":0},"","",""]
["49diMD",{"$f":"VLOOKUP($AA1018,DATA!$B$3:$E$6,2,0)","v":"14:30:00"},{"$f":"VLOOKUP($AA1018,DATA!$B$3:$E$6,3,0)","v":"22:30:00"},{"$f":"VLOOKUP($AA1018,DATA!$B$3:$E$6,4,0)","v":3.125E-2},0.30208333333333337,0.30208333333333337,{"$f":"DATA!$C$9","v":0.89},{"$f":"DATA!$C$10","v":64},1,407.81250000000006,407.81250000000006,0,"","",0,"","",0,"","","","",null,{"$f":"X1024","v":49},null,{"$f":"TEXT(Y1017,\"ddd\")","v":"di"},"MD",{"$f":"IFERROR(HLOOKUP(Y1017,[1]DATA!$A$1:$NB$5,4,0),\"\")","v":"D3"},null,null,null,null,{"$f":"VLOOKUP(Y1017,[1]SRA!$S$4:$Z$368,7,0)","v":0},"","",""]
["49diND",{"$f":"VLOOKUP($AA1019,DATA!$B$3:$E$6,2,0)","v":"22:30:00"},{"$f":"VLOOKUP($AA1019,DATA!$B$3:$E$6,3,0)","v":"06:30:00"},{"$f":"VLOOKUP($AA1019,DATA!$B$3:$E$6,4,0)","v":3.125E-2},0.30208333333333326,0.30208333333333326,{"$f":"DATA!$C$9","v":0.89},{"$f":"DATA!$C$10","v":64},1,407.81249999999989,407.81249999999989,0,"","",0,"","",0,"","","","",null,{"$f":"X1024","v":49},null,{"$f":"TEXT(Y1017,\"ddd\")","v":"di"},"ND",{"$f":"IFERROR(HLOOKUP(Y1017,[1]DATA!$A$1:$NB$5,5,0),\"\")","v":"D2"},null,null,null,null,{"$f":"VLOOKUP(Y1017,[1]SRA!$S$4:$Z$368,8,0)","v":0},"","",""]
["49woDD",{"$f":"VLOOKUP($AA1020,DATA!$B$3:$E$6,2,0)","v":"06:30:00"},{"$f":"VLOOKUP($AA1020,DATA!$B$3:$E$6,3,0)","v":"14:30:00"},{"$f":"VLOOKUP($AA1020,DATA!$B$3:$E$6,4,0)","v":3.125E-2},0.30208333333333331,0.30208333333333331,{"$f":"DATA!$C$9","v":0.89},{"$f":"DATA!$C$10","v":64},1,407.8125,407.8125,0,"","",0,"","",0,"","","","",null,{"$f":"X1024","v":49},"2018-12-05",{"$f":"TEXT(Y1020,\"ddd\")","v":"wo"},"DD",{"$f":"IFERROR(HLOOKUP(Y1020,[1]DATA!$A$1:$NB$5,3,0),\"\")","v":"D1"},null,null,null,null,{"$f":"VLOOKUP(Y1020,[1]SRA!$S$4:$Z$368,6,0)","v":0},"","",""]
["49woMD",{"$f":"VLOOKUP($AA1021,DATA!$B$3:$E$6,2,0)","v":"14:30:00"},{"$f":"VLOOKUP($AA1021,DATA!$B$3:$E$6,3,0)","v":"22:30:00"},{"$f":"VLOOKUP($AA1021,DATA!$B$3:$E$6,4,0)","v":3.125E-2},0.30208333333333337,0.30208333333333337,{"$f":"DATA!$C$9","v":0.89},{"$f":"DATA!$C$10","v":64},1,407.81250000000006,407.81250000000006,0,"","",0,"","",0,"","","","",null,{"$f":"X1024","v":49},null,{"$f":"TEXT(Y1020,\"ddd\")","v":"wo"},"MD",{"$f":"IFERROR(HLOOKUP(Y1020,[1]DATA!$A$1:$NB$5,4,0),\"\")","v":"D3"},null,null,null,null,{"$f":"VLOOKUP(Y1020,[1]SRA!$S$4:$Z$368,7,0)","v":0},"","",""]
["49woND",{"$f":"VLOOKUP($AA1022,DATA!$B$3:$E$6,2,0)","v":"22:30:00"},{"$f":"VLOOKUP($AA1022,DATA!$B$3:$E$6,3,0)","v":"06:30:00"},{"$f":"VLOOKUP($AA1022,DATA!$B$3:$E$6,4,0)","v":3.125E-2},0.30208333333333326,0.30208333333333326,{"$f":"DATA!$C$9","v":0.89},{"$f":"DATA!$C$10","v":64},1,407.81249999999989,407.81249999999989,0,"","",0,"","",0,"","","","",null,{"$f":"X1024","v":49},null,{"$f":"TEXT(Y1020,\"ddd\")","v":"wo"},"ND",{"$f":"IFERROR(HLOOKUP(Y1020,[1]DATA!$A$1:$NB$5,5,0),\"\")","v":"D2"},null,null,null,null,{"$f":"VLOOKUP(Y1020,[1]SRA!$S$4:$Z$368,8,0)","v":0},"","",""]
["49doDD",{"$f":"VLOOKUP($AA1023,DATA!$B$3:$E$6,2,0)","v":"06:30:00"},{"$f":"VLOOKUP($AA1023,DATA!$B$3:$E$6,3,0)","v":"14:30:00"},{"$f":"VLOOKUP($AA1023,DATA!$B$3:$E$6,4,0)","v":3.125E-2},0.30208333333333331,0.30208333333333331,{"$f":"DATA!$C$9","v":0.89},{"$f":"DATA!$C$10","v":64},1,407.8125,407.8125,0,"","",0,"","",0,"","","","",null,{"$f":"X1024","v":49},{"$f":"Y1020+1","v":"2018-12-06"},{"$f":"TEXT(Y1023,\"ddd\")","v":"do"},"DD",{"$f":"IFERROR(HLOOKUP(Y1023,[1]DATA!$A$1:$NB$5,3,0),\"\")","v":"D1"},null,null,null,null,{"$f":"VLOOKUP(Y1023,[1]SRA!$S$4:$Z$368,6,0)","v":0},"","",""]
["49doMD",{"$f":"VLOOKUP($AA1024,DATA!$B$3:$E$6,2,0)","v":"14:30:00"},{"$f":"VLOOKUP($AA1024,DATA!$B$3:$E$6,3,0)","v":"22:30:00"},{"$f":"VLOOKUP($AA1024,DATA!$B$3:$E$6,4,0)","v":3.125E-2},0.30208333333333337,0.30208333333333337,{"$f":"DATA!$C$9","v":0.89},{"$f":"DATA!$C$10","v":64},1,407.81250000000006,407.81250000000006,0,"","",0,"","",0,"","","","",null,{"$f":"WEEKNUM($Y1014)","v":49},null,{"$f":"TEXT(Y1023,\"ddd\")","v":"do"},"MD",{"$f":"IFERROR(HLOOKUP(Y1023,[1]DATA!$A$1:$NB$5,4,0),\"\")","v":"D3"},null,null,null,null,{"$f":"VLOOKUP(Y1023,[1]SRA!$S$4:$Z$368,7,0)","v":0},"","",""]
["49doND",{"$f":"VLOOKUP($AA1025,DATA!$B$3:$E$6,2,0)","v":"22:30:00"},{"$f":"VLOOKUP($AA1025,DATA!$B$3:$E$6,3,0)","v":"06:30:00"},{"$f":"VLOOKUP($AA1025,DATA!$B$3:$E$6,4,0)","v":3.125E-2},0.30208333333333326,0.30208333333333326,{"$f":"DATA!$C$9","v":0.89},{"$f":"DATA!$C$10","v":64},1,407.81249999999989,407.81249999999989,0,"","",0,"","",0,"","","","",null,{"$f":"X1024","v":49},null,{"$f":"TEXT(Y1023,\"ddd\")","v":"do"},"ND",{"$f":"IFERROR(HLOOKUP(Y1023,[1]DATA!$A$1:$NB$5,5,0),\"\")","v":"D2"},null,null,null,null,{"$f":"VLOOKUP(Y1023,[1]SRA!$S$4:$Z$368,8,0)","v":0},"","",""]
["49vrDD",{"$f":"VLOOKUP($AA1026,DATA!$B$3:$E$6,2,0)","v":"06:30:00"},{"$f":"VLOOKUP($AA1026,DATA!$B$3:$E$6,3,0)","v":"14:30:00"},{"$f":"VLOOKUP($AA1026,DATA!$B$3:$E$6,4,0)","v":3.125E-2},0.30208333333333331,0.30208333333333331,{"$f":"DATA!$C$9","v":0.89},{"$f":"DATA!$C$10","v":64},1,407.8125,407.8125,0,"","",0,"","",0,"","","","",null,{"$f":"X1024","v":49},"2018-12-07",{"$f":"TEXT(Y1026,\"ddd\")","v":"vr"},"DD",{"$f":"IFERROR(HLOOKUP(Y1026,[1]DATA!$A$1:$NB$5,3,0),\"\")","v":"D1"},null,null,null,null,{"$f":"VLOOKUP(Y1026,[1]SRA!$S$4:$Z$368,6,0)","v":0},"","",""]
["49vrMD",{"$f":"VLOOKUP($AA1027,DATA!$B$3:$E$6,2,0)","v":"14:30:00"},{"$f":"VLOOKUP($AA1027,DATA!$B$3:$E$6,3,0)","v":"22:30:00"},{"$f":"VLOOKUP($AA1027,DATA!$B$3:$E$6,4,0)","v":3.125E-2},0.30208333333333337,0.30208333333333337,{"$f":"DATA!$C$9","v":0.89},{"$f":"DATA!$C$10","v":64},1,407.81250000000006,407.81250000000006,0,"","",0,"","",0,"","","","",null,{"$f":"X1024","v":49},null,{"$f":"TEXT(Y1026,\"ddd\")","v":"vr"},"MD",{"$f":"IFERROR(HLOOKUP(Y1026,[1]DATA!$A$1:$NB$5,4,0),\"\")","v":"D3"},null,null,null,null,{"$f":"VLOOKUP(Y1026,[1]SRA!$S$4:$Z$368,7,0)","v":0},"","",""]
["49vrND",{"$f":"VLOOKUP($AA1028,DATA!$B$3:$E$6,2,0)","v":"22:30:00"},{"$f":"VLOOKUP($AA1028,DATA!$B$3:$E$6,3,0)","v":"06:30:00"},{"$f":"VLOOKUP($AA1028,DATA!$B$3:$E$6,4,0)","v":3.125E-2},0.30208333333333326,0.30208333333333326,{"$f":"DATA!$C$9","v":0.89},{"$f":"DATA!$C$10","v":64},1,407.81249999999989,407.81249999999989,0,"","",0,"","",0,"","","","",null,{"$f":"X1024","v":49},null,{"$f":"TEXT(Y1026,\"ddd\")","v":"vr"},"ND",{"$f":"IFERROR(HLOOKUP(Y1026,[1]DATA!$A$1:$NB$5,5,0),\"\")","v":"D2"},null,null,null,null,{"$f":"VLOOKUP(Y1026,[1]SRA!$S$4:$Z$368,8,0)","v":0},"","",""]
["49zaDD",{"$f":"VLOOKUP($AA1029,DATA!$B$3:$E$6,2,0)","v":"06:30:00"},{"$f":"VLOOKUP($AA1029,DATA!$B$3:$E$6,3,0)","v":"14:30:00"},{"$f":"VLOOKUP($AA1029,DATA!$B$3:$E$6,4,0)","v":3.125E-2},0.30208333333333331,0.30208333333333331,{"$f":"DATA!$C$9","v":0.89},{"$f":"DATA!$C$10","v":64},1,407.8125,407.8125,0,"","",0,"","",0,"","","","",null,{"$f":"X1024","v":49},"2018-12-08",{"$f":"TEXT(Y1029,\"ddd\")","v":"za"},"DD",{"$f":"IFERROR(HLOOKUP(Y1029,[1]DATA!$A$1:$NB$5,3,0),\"\")","v":"D1"},null,null,null,null,{"$f":"VLOOKUP(Y1029,[1]SRA!$S$4:$Z$368,6,0)","v":0},"","",""]
["49zaMD",{"$f":"VLOOKUP($AA1030,DATA!$B$3:$E$6,2,0)","v":"14:30:00"},{"$f":"VLOOKUP($AA1030,DATA!$B$3:$E$6,3,0)","v":"22:30:00"},{"$f":"VLOOKUP($AA1030,DATA!$B$3:$E$6,4,0)","v":3.125E-2},0.30208333333333337,0.30208333333333337,{"$f":"DATA!$C$9","v":0.89},{"$f":"DATA!$C$10","v":64},1,407.81250000000006,407.81250000000006,0,"","",0,"","",0,"","","","",null,{"$f":"X1024","v":49},null,{"$f":"TEXT(Y1029,\"ddd\")","v":"za"},"MD",{"$f":"IFERROR(HLOOKUP(Y1029,[1]DATA!$A$1:$NB$5,4,0),\"\")","v":"-"},null,null,null,null,{"$f":"VLOOKUP(Y1029,[1]SRA!$S$4:$Z$368,7,0)","v":0},{"$f":"IFERROR(S1030-J1030,\"\")","v":""},{"$f":"IFERROR(IF(S1030/(E1030*86400/H1030)<=0,\"\",S1030/(E1030*86400/H1030)),\"\")","v":""},""]
["49zaND",{"$f":"VLOOKUP($AA1031,DATA!$B$3:$E$6,2,0)","v":"22:30:00"},{"$f":"VLOOKUP($AA1031,DATA!$B$3:$E$6,3,0)","v":"06:30:00"},{"$f":"VLOOKUP($AA1031,DATA!$B$3:$E$6,4,0)","v":3.125E-2},0.30208333333333326,0.30208333333333326,{"$f":"DATA!$C$9","v":0.89},{"$f":"DATA!$C$10","v":64},1,407.81249999999989,407.81249999999989,{"$f":"TIME(INT($AC1031/60),INT(MOD($AC1031,60)/1),0)","v":0},{"$f":"IF($L1031*86400/$H1031=0,\"\",$L1031*86400/$H1031)","v":""},{"$f":"IFERROR($M1031/$K1031,\"\")","v":""},0,"",{"$f":"IFERROR($P1031/$K1031,\"\")","v":""},0,"",{"$f":"IF(IF($AB1031=\"D1\",$S1031,\"\")=0,\"\",IF($AB1031=\"D1\",$S1031,\"\"))","v":""},{"$f":"IF(IF($AB1031=\"D2\",$S1031,\"\")=0,\"\",IF($AB1031=\"D2\",$S1031,\"\"))","v":""},{"$f":"IF(IF($AB1031=\"D3\",$S1031,\"\")=0,\"\",IF($AB1031=\"D3\",$S1031,\"\"))","v":""},null,{"$f":"X1024","v":49},null,{"$f":"TEXT(Y1029,\"ddd\")","v":"za"},"ND",{"$f":"IFERROR(HLOOKUP(Y1029,[1]DATA!$A$1:$NB$5,5,0),\"\")","v":"-"},null,null,null,null,{"$f":"VLOOKUP(Y1029,[1]SRA!$S$4:$Z$368,8,0)","v":0},"","",""]
["49zoDD",{"$f":"VLOOKUP($AA1032,DATA!$B$3:$E$6,2,0)","v":"06:30:00"},{"$f":"VLOOKUP($AA1032,DATA!$B$3:$E$6,3,0)","v":"14:30:00"},{"$f":"VLOOKUP($AA1032,DATA!$B$3:$E$6,4,0)","v":3.125E-2},0.30208333333333331,0.30208333333333331,{"$f":"DATA!$C$9","v":0.89},{"$f":"DATA!$C$10","v":64},1,407.8125,407.8125,0,"","",0,"","",0,"","","","",null,{"$f":"X1024","v":49},"2018-12-09",{"$f":"TEXT(Y1032,\"ddd\")","v":"zo"},"DD",{"$f":"IFERROR(HLOOKUP(Y1032,[1]DATA!$A$1:$NB$5,3,0),\"\")","v":"-"},null,null,null,null,{"$f":"VLOOKUP(Y1032,[1]SRA!$S$4:$Z$368,6,0)","v":0},"","",""]
["49zoMD",{"$f":"VLOOKUP($AA1033,DATA!$B$3:$E$6,2,0)","v":"14:30:00"},{"$f":"VLOOKUP($AA1033,DATA!$B$3:$E$6,3,0)","v":"22:30:00"},{"$f":"VLOOKUP($AA1033,DATA!$B$3:$E$6,4,0)","v":3.125E-2},0.30208333333333337,0.30208333333333337,{"$f":"DATA!$C$9","v":0.89},{"$f":"DATA!$C$10","v":64},1,407.81250000000006,407.81250000000006,0,"","",0,"","",0,"","","","",null,{"$f":"X1024","v":49},null,{"$f":"TEXT(Y1032,\"ddd\")","v":"zo"},"MD",{"$f":"IFERROR(HLOOKUP(Y1032,[1]DATA!$A$1:$NB$5,4,0),\"\")","v":"-"},null,null,null,null,{"$f":"VLOOKUP(Y1032,[1]SRA!$S$4:$Z$368,7,0)","v":0},"","",""]
["49zoZND",{"$f":"VLOOKUP($AA1034,DATA!$B$3:$E$6,2,0)","v":"00:00:00"},{"$f":"VLOOKUP($AA1034,DATA!$B$3:$E$6,3,0)","v":"00:00:00"},{"$f":"VLOOKUP($AA1034,DATA!$B$3:$E$6,4,0)","v":0},0,0,{"$f":"DATA!$C$9","v":0.89},{"$f":"DATA!$C$10","v":64},1,0,0,0,"","",0,"","",0,"","","","",null,{"$f":"X1024","v":49},null,{"$f":"TEXT(Y1032,\"ddd\")","v":"zo"},"ZND",{"$f":"IFERROR(HLOOKUP(Y1032,[1]DATA!$A$1:$NB$5,5,0),\"\")","v":"-"},null,null,null,null,{"$f":"VLOOKUP(Y1032,[1]SRA!$S$4:$Z$368,8,0)","v":0},"","",""]
["50maDD",{"$f":"VLOOKUP($AA1035,DATA!$B$3:$E$6,2,0)","v":"06:30:00"},{"$f":"VLOOKUP($AA1035,DATA!$B$3:$E$6,3,0)","v":"14:30:00"},{"$f":"VLOOKUP($AA1035,DATA!$B$3:$E$6,4,0)","v":3.125E-2},0.30208333333333331,0.30208333333333331,{"$f":"DATA!$C$9","v":0.89},{"$f":"DATA!$C$10","v":64},1,407.8125,407.8125,0,"","",{"$f":"TIME(INT($AD1035/60),INT(MOD($AD1035,60)/1),0)","v":0},"","",0,"","","","",null,{"$f":"X1045","v":50},"2018-12-10",{"$f":"TEXT(Y1035,\"ddd\")","v":"ma"},"DD",{"$f":"IFERROR(HLOOKUP(Y1035,[1]DATA!$A$1:$NB$5,3,0),\"\")","v":"D3"},null,null,null,null,{"$f":"VLOOKUP(Y1035,[1]SRA!$S$4:$AA$368,6,0)","v":0},"","","",{"$f":"IF(SUMIF(S1035:S1055,\">0\",K1035:K1055)=0,\"\",SUMIF(S1035:S1055,\">0\",K1035:K1055))","v":""},{"$f":"IF(SUM(S1035:S1055)=0,\"\",SUM(S1035:S1055))","v":""},{"$f":"IFERROR(AL1035/AK1035,\"-\")","v":"-"},{"$f":"IF(SUM(M1035:M1055)=0,\"0\",SUM(M1035:M1055))","v":"0"},{"$f":"IFERROR(AN1035/AK1035,\"-\")","v":"-"},{"$f":"IF(SUM(P1035:P1055)=0,0,SUM(P1035:P1055))","v":0},{"$f":"IFERROR(AP1035/AK1035,\"-\")","v":"-"},"-",{"$f":"IFERROR(SUMIF($AB1035:$AB1055,AS$5,$AJ1035:$AJ1055)/COUNTIFS($AB1035:$AB1055,AS$5,$AJ1035:$AJ1055,\">0\"),\"\")","v":""},"","",{"$f":"IFERROR((AK1035-AL1035-AN1035-AP1035),\"-\")","v":"-"},{"$f":"IFERROR((1-AM1035-AO1035-AQ1035), \"-\")","v":"-"},{"$f":"IFERROR((AV1035*$AE$2)/60,\"-\")","v":"-"},{"$f":"IFERROR(SUM(AG1035:AG1055),\"\")","v":0}]
["50maMD",{"$f":"VLOOKUP($AA1036,DATA!$B$3:$E$6,2,0)","v":"14:30:00"},{"$f":"VLOOKUP($AA1036,DATA!$B$3:$E$6,3,0)","v":"22:30:00"},{"$f":"VLOOKUP($AA1036,DATA!$B$3:$E$6,4,0)","v":3.125E-2},0.30208333333333337,0.30208333333333337,{"$f":"DATA!$C$9","v":0.89},{"$f":"DATA!$C$10","v":64},1,407.81250000000006,407.81250000000006,0,"","",{"$f":"TIME(INT(AD1036/60),INT(MOD(AD1036,60)/1),0)","v":0},"","",0,"","","","",null,{"$f":"X1045","v":50},null,{"$f":"TEXT(Y1035,\"ddd\")","v":"ma"},"MD",{"$f":"IFERROR(HLOOKUP(Y1035,[1]DATA!$A$1:$NB$5,4,0),\"\")","v":"D2"},null,null,null,null,{"$f":"VLOOKUP(Y1035,[1]SRA!$S$4:$Z$368,7,0)","v":0},"","",""]
["50maND",{"$f":"VLOOKUP($AA1037,DATA!$B$3:$E$6,2,0)","v":"22:30:00"},{"$f":"VLOOKUP($AA1037,DATA!$B$3:$E$6,3,0)","v":"06:30:00"},{"$f":"VLOOKUP($AA1037,DATA!$B$3:$E$6,4,0)","v":3.125E-2},0.30208333333333326,0.30208333333333326,{"$f":"DATA!$C$9","v":0.89},{"$f":"DATA!$C$10","v":64},1,407.81249999999989,407.81249999999989,0,"","",0,"","",0,"","","","",null,{"$f":"X1045","v":50},null,{"$f":"TEXT(Y1035,\"ddd\")","v":"ma"},"ND",{"$f":"IFERROR(HLOOKUP(Y1035,[1]DATA!$A$1:$NB$5,5,0),\"\")","v":"D1"},null,null,null,null,{"$f":"VLOOKUP(Y1035,[1]SRA!$S$4:$Z$368,8,0)","v":0},"","",""]
["50diDD",{"$f":"VLOOKUP($AA1038,DATA!$B$3:$E$6,2,0)","v":"06:30:00"},{"$f":"VLOOKUP($AA1038,DATA!$B$3:$E$6,3,0)","v":"14:30:00"},{"$f":"VLOOKUP($AA1038,DATA!$B$3:$E$6,4,0)","v":3.125E-2},0.30208333333333331,0.30208333333333331,{"$f":"DATA!$C$9","v":0.89},{"$f":"DATA!$C$10","v":64},1,407.8125,407.8125,0,"","",0,"","",0,"","","","",null,{"$f":"X1045","v":50},"2018-12-11",{"$f":"TEXT(Y1038,\"ddd\")","v":"di"},"DD",{"$f":"IFERROR(HLOOKUP(Y1038,[1]DATA!$A$1:$NB$5,3,0),\"\")","v":"D3"},null,null,null,null,{"$f":"VLOOKUP(Y1038,[1]SRA!$S$4:$Z$368,6,0)","v":0},"","",""]
["50diMD",{"$f":"VLOOKUP($AA1039,DATA!$B$3:$E$6,2,0)","v":"14:30:00"},{"$f":"VLOOKUP($AA1039,DATA!$B$3:$E$6,3,0)","v":"22:30:00"},{"$f":"VLOOKUP($AA1039,DATA!$B$3:$E$6,4,0)","v":3.125E-2},0.30208333333333337,0.30208333333333337,{"$f":"DATA!$C$9","v":0.89},{"$f":"DATA!$C$10","v":64},1,407.81250000000006,407.81250000000006,0,"","",0,"","",0,"","","","",null,{"$f":"X1045","v":50},null,{"$f":"TEXT(Y1038,\"ddd\")","v":"di"},"MD",{"$f":"IFERROR(HLOOKUP(Y1038,[1]DATA!$A$1:$NB$5,4,0),\"\")","v":"D2"},null,null,null,null,{"$f":"VLOOKUP(Y1038,[1]SRA!$S$4:$Z$368,7,0)","v":0},"","",""]
["50diND",{"$f":"VLOOKUP($AA1040,DATA!$B$3:$E$6,2,0)","v":"22:30:00"},{"$f":"VLOOKUP($AA1040,DATA!$B$3:$E$6,3,0)","v":"06:30:00"},{"$f":"VLOOKUP($AA1040,DATA!$B$3:$E$6,4,0)","v":3.125E-2},0.30208333333333326,0.30208333333333326,{"$f":"DATA!$C$9","v":0.89},{"$f":"DATA!$C$10","v":64},1,407.81249999999989,407.81249999999989,0,"","",0,"","",0,"","","","",null,{"$f":"X1045","v":50},null,{"$f":"TEXT(Y1038,\"ddd\")","v":"di"},"ND",{"$f":"IFERROR(HLOOKUP(Y1038,[1]DATA!$A$1:$NB$5,5,0),\"\")","v":"D1"},null,null,null,null,{"$f":"VLOOKUP(Y1038,[1]SRA!$S$4:$Z$368,8,0)","v":0},"","",""]
["50woDD",{"$f":"VLOOKUP($AA1041,DATA!$B$3:$E$6,2,0)","v":"06:30:00"},{"$f":"VLOOKUP($AA1041,DATA!$B$3:$E$6,3,0)","v":"14:30:00"},{"$f":"VLOOKUP($AA1041,DATA!$B$3:$E$6,4,0)","v":3.125E-2},0.30208333333333331,0.30208333333333331,{"$f":"DATA!$C$9","v":0.89},{"$f":"DATA!$C$10","v":64},1,407.8125,407.8125,0,"","",0,"","",0,"","","","",null,{"$f":"X1045","v":50},"2018-12-12",{"$f":"TEXT(Y1041,\"ddd\")","v":"wo"},"DD",{"$f":"IFERROR(HLOOKUP(Y1041,[1]DATA!$A$1:$NB$5,3,0),\"\")","v":"D3"},null,null,null,null,{"$f":"VLOOKUP(Y1041,[1]SRA!$S$4:$Z$368,6,0)","v":0},"","",""]
["50woMD",{"$f":"VLOOKUP($AA1042,DATA!$B$3:$E$6,2,0)","v":"14:30:00"},{"$f":"VLOOKUP($AA1042,DATA!$B$3:$E$6,3,0)","v":"22:30:00"},{"$f":"VLOOKUP($AA1042,DATA!$B$3:$E$6,4,0)","v":3.125E-2},0.30208333333333337,0.30208333333333337,{"$f":"DATA!$C$9","v":0.89},{"$f":"DATA!$C$10","v":64},1,407.81250000000006,407.81250000000006,0,"","",0,"","",0,"","","","",null,{"$f":"X1045","v":50},null,{"$f":"TEXT(Y1041,\"ddd\")","v":"wo"},"MD",{"$f":"IFERROR(HLOOKUP(Y1041,[1]DATA!$A$1:$NB$5,4,0),\"\")","v":"D2"},null,null,null,null,{"$f":"VLOOKUP(Y1041,[1]SRA!$S$4:$Z$368,7,0)","v":0},"","",""]
["50woND",{"$f":"VLOOKUP($AA1043,DATA!$B$3:$E$6,2,0)","v":"22:30:00"},{"$f":"VLOOKUP($AA1043,DATA!$B$3:$E$6,3,0)","v":"06:30:00"},{"$f":"VLOOKUP($AA1043,DATA!$B$3:$E$6,4,0)","v":3.125E-2},0.30208333333333326,0.30208333333333326,{"$f":"DATA!$C$9","v":0.89},{"$f":"DATA!$C$10","v":64},1,407.81249999999989,407.81249999999989,0,"","",0,"","",0,"","","","",null,{"$f":"X1045","v":50},null,{"$f":"TEXT(Y1041,\"ddd\")","v":"wo"},"ND",{"$f":"IFERROR(HLOOKUP(Y1041,[1]DATA!$A$1:$NB$5,5,0),\"\")","v":"D1"},null,null,null,null,{"$f":"VLOOKUP(Y1041,[1]SRA!$S$4:$Z$368,8,0)","v":0},"","",""]
["50doDD",{"$f":"VLOOKUP($AA1044,DATA!$B$3:$E$6,2,0)","v":"06:30:00"},{"$f":"VLOOKUP($AA1044,DATA!$B$3:$E$6,3,0)","v":"14:30:00"},{"$f":"VLOOKUP($AA1044,DATA!$B$3:$E$6,4,0)","v":3.125E-2},0.30208333333333331,0.30208333333333331,{"$f":"DATA!$C$9","v":0.89},{"$f":"DATA!$C$10","v":64},1,407.8125,407.8125,0,"","",0,"","",0,"","","","",null,{"$f":"X1045","v":50},"2018-12-13",{"$f":"TEXT(Y1044,\"ddd\")","v":"do"},"DD",{"$f":"IFERROR(HLOOKUP(Y1044,[1]DATA!$A$1:$NB$5,3,0),\"\")","v":"D3"},null,null,null,null,{"$f":"VLOOKUP(Y1044,[1]SRA!$S$4:$Z$368,6,0)","v":0},"","",""]
["50doMD",{"$f":"VLOOKUP($AA1045,DATA!$B$3:$E$6,2,0)","v":"14:30:00"},{"$f":"VLOOKUP($AA1045,DATA!$B$3:$E$6,3,0)","v":"22:30:00"},{"$f":"VLOOKUP($AA1045,DATA!$B$3:$E$6,4,0)","v":3.125E-2},0.30208333333333337,0.30208333333333337,{"$f":"DATA!$C$9","v":0.89},{"$f":"DATA!$C$10","v":64},1,407.81250000000006,407.81250000000006,0,"","",0,"","",0,"","","","",null,{"$f":"WEEKNUM($Y1035)","v":50},null,{"$f":"TEXT(Y1044,\"ddd\")","v":"do"},"MD",{"$f":"IFERROR(HLOOKUP(Y1044,[1]DATA!$A$1:$NB$5,4,0),\"\")","v":"D2"},null,null,null,null,{"$f":"VLOOKUP(Y1044,[1]SRA!$S$4:$Z$368,7,0)","v":0},"","",""]
["50doND",{"$f":"VLOOKUP($AA1046,DATA!$B$3:$E$6,2,0)","v":"22:30:00"},{"$f":"VLOOKUP($AA1046,DATA!$B$3:$E$6,3,0)","v":"06:30:00"},{"$f":"VLOOKUP($AA1046,DATA!$B$3:$E$6,4,0)","v":3.125E-2},0.30208333333333326,0.30208333333333326,{"$f":"DATA!$C$9","v":0.89},{"$f":"DATA!$C$10","v":64},1,407.81249999999989,407.81249999999989,0,"","",0,"","",0,"","","","",null,{"$f":"X1045","v":50},null,{"$f":"TEXT(Y1044,\"ddd\")","v":"do"},"ND",{"$f":"IFERROR(HLOOKUP(Y1044,[1]DATA!$A$1:$NB$5,5,0),\"\")","v":"D1"},null,null,null,null,{"$f":"VLOOKUP(Y1044,[1]SRA!$S$4:$Z$368,8,0)","v":0},"","",""]
["50vrDD",{"$f":"VLOOKUP($AA1047,DATA!$B$3:$E$6,2,0)","v":"06:30:00"},{"$f":"VLOOKUP($AA1047,DATA!$B$3:$E$6,3,0)","v":"14:30:00"},{"$f":"VLOOKUP($AA1047,DATA!$B$3:$E$6,4,0)","v":3.125E-2},0.30208333333333331,0.30208333333333331,{"$f":"DATA!$C$9","v":0.89},{"$f":"DATA!$C$10","v":64},1,407.8125,407.8125,0,"","",0,"","",0,"","","","",null,{"$f":"X1045","v":50},"2018-12-14",{"$f":"TEXT(Y1047,\"ddd\")","v":"vr"},"DD",{"$f":"IFERROR(HLOOKUP(Y1047,[1]DATA!$A$1:$NB$5,3,0),\"\")","v":"D3"},null,null,null,null,{"$f":"VLOOKUP(Y1047,[1]SRA!$S$4:$Z$368,6,0)","v":0},"","",""]
["50vrMD",{"$f":"VLOOKUP($AA1048,DATA!$B$3:$E$6,2,0)","v":"14:30:00"},{"$f":"VLOOKUP($AA1048,DATA!$B$3:$E$6,3,0)","v":"22:30:00"},{"$f":"VLOOKUP($AA1048,DATA!$B$3:$E$6,4,0)","v":3.125E-2},0.30208333333333337,0.30208333333333337,{"$f":"DATA!$C$9","v":0.89},{"$f":"DATA!$C$10","v":64},1,407.81250000000006,407.81250000000006,0,"","",0,"","",0,"","","","",null,{"$f":"X1045","v":50},null,{"$f":"TEXT(Y1047,\"ddd\")","v":"vr"},"MD",{"$f":"IFERROR(HLOOKUP(Y1047,[1]DATA!$A$1:$NB$5,4,0),\"\")","v":"D2"},null,null,null,null,{"$f":"VLOOKUP(Y1047,[1]SRA!$S$4:$Z$368,7,0)","v":0},"","",""]
["50vrND",{"$f":"VLOOKUP($AA1049,DATA!$B$3:$E$6,2,0)","v":"22:30:00"},{"$f":"VLOOKUP($AA1049,DATA!$B$3:$E$6,3,0)","v":"06:30:00"},{"$f":"VLOOKUP($AA1049,DATA!$B$3:$E$6,4,0)","v":3.125E-2},0.30208333333333326,0.30208333333333326,{"$f":"DATA!$C$9","v":0.89},{"$f":"DATA!$C$10","v":64},1,407.81249999999989,407.81249999999989,0,"","",0,"","",0,"","","","",null,{"$f":"X1045","v":50},null,{"$f":"TEXT(Y1047,\"ddd\")","v":"vr"},"ND",{"$f":"IFERROR(HLOOKUP(Y1047,[1]DATA!$A$1:$NB$5,5,0),\"\")","v":"D2"},null,null,null,null,{"$f":"VLOOKUP(Y1047,[1]SRA!$S$4:$Z$368,8,0)","v":0},"","",""]
["50zaDD",{"$f":"VLOOKUP($AA1050,DATA!$B$3:$E$6,2,0)","v":"06:30:00"},{"$f":"VLOOKUP($AA1050,DATA!$B$3:$E$6,3,0)","v":"14:30:00"},{"$f":"VLOOKUP($AA1050,DATA!$B$3:$E$6,4,0)","v":3.125E-2},0.30208333333333331,0.30208333333333331,{"$f":"DATA!$C$9","v":0.89},{"$f":"DATA!$C$10","v":64},1,407.8125,407.8125,0,"","",0,"","",0,"","","","",null,{"$f":"X1045","v":50},"2018-12-15",{"$f":"TEXT(Y1050,\"ddd\")","v":"za"},"DD",{"$f":"IFERROR(HLOOKUP(Y1050,[1]DATA!$A$1:$NB$5,3,0),\"\")","v":"D3"},null,null,null,null,{"$f":"VLOOKUP(Y1050,[1]SRA!$S$4:$Z$368,6,0)","v":0},"","",""]
["50zaMD",{"$f":"VLOOKUP($AA1051,DATA!$B$3:$E$6,2,0)","v":"14:30:00"},{"$f":"VLOOKUP($AA1051,DATA!$B$3:$E$6,3,0)","v":"22:30:00"},{"$f":"VLOOKUP($AA1051,DATA!$B$3:$E$6,4,0)","v":3.125E-2},0.30208333333333337,0.30208333333333337,{"$f":"DATA!$C$9","v":0.89},{"$f":"DATA!$C$10","v":64},1,407.81250000000006,407.81250000000006,0,"","",0,"","",0,"","","","",null,{"$f":"X1045","v":50},null,{"$f":"TEXT(Y1050,\"ddd\")","v":"za"},"MD",{"$f":"IFERROR(HLOOKUP(Y1050,[1]DATA!$A$1:$NB$5,4,0),\"\")","v":"-"},null,null,null,null,{"$f":"VLOOKUP(Y1050,[1]SRA!$S$4:$Z$368,7,0)","v":0},"","",{"$f":"IFERROR(R1051/(R1051+AG1051),\"\")","v":""}]
["50zaND",{"$f":"VLOOKUP($AA1052,DATA!$B$3:$E$6,2,0)","v":"22:30:00"},{"$f":"VLOOKUP($AA1052,DATA!$B$3:$E$6,3,0)","v":"06:30:00"},{"$f":"VLOOKUP($AA1052,DATA!$B$3:$E$6,4,0)","v":3.125E-2},{"$f":"(C1052-B1052+(B1052>C1052))-D1052","v":0.30208333333333326},{"$f":"E1052-O1052-L1052","v":0.30208333333333326},{"$f":"DATA!$C$9","v":0.89},{"$f":"DATA!$C$10","v":64},1,{"$f":"F1052*86400/H1052*I1052","v":407.81249999999989},{"$f":"E1052*86400/H1052","v":407.81249999999989},0,"","",0,"","",{"$f":"AF1052*AG$2","v":0},{"$f":"IF(AF1052-AE1052=0,\"\",AF1052-AE1052)","v":""},"","","",null,{"$f":"X1045","v":50},null,{"$f":"TEXT(Y1050,\"ddd\")","v":"za"},"ND",{"$f":"IFERROR(HLOOKUP(Y1050,[1]DATA!$A$1:$NB$5,5,0),\"\")","v":"-"},null,null,null,null,{"$f":"VLOOKUP(Y1050,[1]SRA!$S$4:$Z$368,8,0)","v":0},"","",""]
["50zoDD",{"$f":"VLOOKUP($AA1053,DATA!$B$3:$E$6,2,0)","v":"06:30:00"},{"$f":"VLOOKUP($AA1053,DATA!$B$3:$E$6,3,0)","v":"14:30:00"},{"$f":"VLOOKUP($AA1053,DATA!$B$3:$E$6,4,0)","v":3.125E-2},0.30208333333333331,0.30208333333333331,{"$f":"DATA!$C$9","v":0.89},{"$f":"DATA!$C$10","v":64},1,407.8125,407.8125,0,"","",0,"","",0,"","","","",null,{"$f":"X1045","v":50},"2018-12-16",{"$f":"TEXT(Y1053,\"ddd\")","v":"zo"},"DD",{"$f":"IFERROR(HLOOKUP(Y1053,[1]DATA!$A$1:$NB$5,3,0),\"\")","v":"-"},null,null,null,null,{"$f":"VLOOKUP(Y1053,[1]SRA!$S$4:$Z$368,6,0)","v":0},"","",""]
["50zoMD",{"$f":"VLOOKUP($AA1054,DATA!$B$3:$E$6,2,0)","v":"14:30:00"},{"$f":"VLOOKUP($AA1054,DATA!$B$3:$E$6,3,0)","v":"22:30:00"},{"$f":"VLOOKUP($AA1054,DATA!$B$3:$E$6,4,0)","v":3.125E-2},0.30208333333333337,0.30208333333333337,{"$f":"DATA!$C$9","v":0.89},{"$f":"DATA!$C$10","v":64},1,407.81250000000006,407.81250000000006,0,"","",0,"","",0,"","","","",null,{"$f":"X1045","v":50},null,{"$f":"TEXT(Y1053,\"ddd\")","v":"zo"},"MD",{"$f":"IFERROR(HLOOKUP(Y1053,[1]DATA!$A$1:$NB$5,4,0),\"\")","v":"-"},null,null,null,null,{"$f":"VLOOKUP(Y1053,[1]SRA!$S$4:$Z$368,7,0)","v":0},"","",""]
["50zoZND",{"$f":"VLOOKUP($AA1055,DATA!$B$3:$E$6,2,0)","v":"00:00:00"},{"$f":"VLOOKUP($AA1055,DATA!$B$3:$E$6,3,0)","v":"00:00:00"},{"$f":"VLOOKUP($AA1055,DATA!$B$3:$E$6,4,0)","v":0},0,0,{"$f":"DATA!$C$9","v":0.89},{"$f":"DATA!$C$10","v":64},1,0,0,0,"","",0,"","",0,"","","","",null,{"$f":"X1045","v":50},null,{"$f":"TEXT(Y1053,\"ddd\")","v":"zo"},"ZND",{"$f":"IFERROR(HLOOKUP(Y1053,[1]DATA!$A$1:$NB$5,5,0),\"\")","v":"-"},null,null,null,null,{"$f":"VLOOKUP(Y1053,[1]SRA!$S$4:$Z$368,8,0)","v":0},"","",""]
["51maDD",{"$f":"VLOOKUP($AA1056,DATA!$B$3:$E$6,2,0)","v":"06:30:00"},{"$f":"VLOOKUP($AA1056,DATA!$B$3:$E$6,3,0)","v":"14:30:00"},{"$f":"VLOOKUP($AA1056,DATA!$B$3:$E$6,4,0)","v":3.125E-2},0.30208333333333331,0.30208333333333331,{"$f":"DATA!$C$9","v":0.89},{"$f":"DATA!$C$10","v":64},1,407.8125,407.8125,0,"","",{"$f":"TIME(INT($AD1056/60),INT(MOD($AD1056,60)/1),0)","v":0},"","",0,"","","","",null,{"$f":"X1066","v":51},"2018-12-17",{"$f":"TEXT(Y1056,\"ddd\")","v":"ma"},"DD",{"$f":"IFERROR(HLOOKUP(Y1056,[1]DATA!$A$1:$NB$5,3,0),\"\")","v":"D2"},null,null,null,null,{"$f":"VLOOKUP(Y1056,[1]SRA!$S$4:$AA$368,6,0)","v":0},"","","",{"$f":"IF(SUMIF(S1056:S1076,\">0\",K1056:K1076)=0,\"\",SUMIF(S1056:S1076,\">0\",K1056:K1076))","v":""},{"$f":"IF(SUM(S1056:S1076)=0,\"\",SUM(S1056:S1076))","v":""},{"$f":"IFERROR(AL1056/AK1056,\"-\")","v":"-"},{"$f":"IF(SUM(M1056:M1076)=0,\"0\",SUM(M1056:M1076))","v":"0"},{"$f":"IFERROR(AN1056/AK1056,\"-\")","v":"-"},{"$f":"IF(SUM(P1056:P1076)=0,0,SUM(P1056:P1076))","v":0},{"$f":"IFERROR(AP1056/AK1056,\"-\")","v":"-"},{"$f":"IFERROR(AVERAGE(AJ1056:AJ1076),\"-\")","v":"-"},{"$f":"IFERROR(SUMIF($AB1056:$AB1076,AS$5,$AJ1056:$AJ1076)/COUNTIFS($AB1056:$AB1076,AS$5,$AJ1056:$AJ1076,\">0\"),\"\")","v":""},"","",{"$f":"IFERROR((AK1056-AL1056-AN1056-AP1056),\"-\")","v":"-"},{"$f":"IFERROR((1-AM1056-AO1056-AQ1056), \"-\")","v":"-"},{"$f":"IFERROR((AV1056*$AE$2)/60,\"-\")","v":"-"},{"$f":"IFERROR(SUM(AG1056:AG1076),\"\")","v":0}]
["51maMD",{"$f":"VLOOKUP($AA1057,DATA!$B$3:$E$6,2,0)","v":"14:30:00"},{"$f":"VLOOKUP($AA1057,DATA!$B$3:$E$6,3,0)","v":"22:30:00"},{"$f":"VLOOKUP($AA1057,DATA!$B$3:$E$6,4,0)","v":3.125E-2},0.30208333333333337,0.30208333333333337,{"$f":"DATA!$C$9","v":0.89},{"$f":"DATA!$C$10","v":64},1,407.81250000000006,407.81250000000006,0,"","",{"$f":"TIME(INT(AD1057/60),INT(MOD(AD1057,60)/1),0)","v":0},"","",0,"","","","",null,{"$f":"X1066","v":51},null,{"$f":"TEXT(Y1056,\"ddd\")","v":"ma"},"MD",{"$f":"IFERROR(HLOOKUP(Y1056,[1]DATA!$A$1:$NB$5,4,0),\"\")","v":"D1"},null,null,null,null,{"$f":"VLOOKUP(Y1056,[1]SRA!$S$4:$Z$368,7,0)","v":0},"","",""]
["51maND",{"$f":"VLOOKUP($AA1058,DATA!$B$3:$E$6,2,0)","v":"22:30:00"},{"$f":"VLOOKUP($AA1058,DATA!$B$3:$E$6,3,0)","v":"06:30:00"},{"$f":"VLOOKUP($AA1058,DATA!$B$3:$E$6,4,0)","v":3.125E-2},0.30208333333333326,0.30208333333333326,{"$f":"DATA!$C$9","v":0.89},{"$f":"DATA!$C$10","v":64},1,407.81249999999989,407.81249999999989,0,"","",0,"","",0,"","","","",null,{"$f":"X1066","v":51},null,{"$f":"TEXT(Y1056,\"ddd\")","v":"ma"},"ND",{"$f":"IFERROR(HLOOKUP(Y1056,[1]DATA!$A$1:$NB$5,5,0),\"\")","v":"D3"},null,null,null,null,{"$f":"VLOOKUP(Y1056,[1]SRA!$S$4:$Z$368,8,0)","v":0},"","",""]
["51diDD",{"$f":"VLOOKUP($AA1059,DATA!$B$3:$E$6,2,0)","v":"06:30:00"},{"$f":"VLOOKUP($AA1059,DATA!$B$3:$E$6,3,0)","v":"14:30:00"},{"$f":"VLOOKUP($AA1059,DATA!$B$3:$E$6,4,0)","v":3.125E-2},0.30208333333333331,0.30208333333333331,{"$f":"DATA!$C$9","v":0.89},{"$f":"DATA!$C$10","v":64},1,407.8125,407.8125,0,"","",0,"","",0,"","","","",null,{"$f":"X1066","v":51},"2018-12-18",{"$f":"TEXT(Y1059,\"ddd\")","v":"di"},"DD",{"$f":"IFERROR(HLOOKUP(Y1059,[1]DATA!$A$1:$NB$5,3,0),\"\")","v":"D2"},null,null,null,null,{"$f":"VLOOKUP(Y1059,[1]SRA!$S$4:$Z$368,6,0)","v":0},"","",""]
["51diMD",{"$f":"VLOOKUP($AA1060,DATA!$B$3:$E$6,2,0)","v":"14:30:00"},{"$f":"VLOOKUP($AA1060,DATA!$B$3:$E$6,3,0)","v":"22:30:00"},{"$f":"VLOOKUP($AA1060,DATA!$B$3:$E$6,4,0)","v":3.125E-2},0.30208333333333337,0.30208333333333337,{"$f":"DATA!$C$9","v":0.89},{"$f":"DATA!$C$10","v":64},1,407.81250000000006,407.81250000000006,0,"","",0,"","",0,"","","","",null,{"$f":"X1066","v":51},null,{"$f":"TEXT(Y1059,\"ddd\")","v":"di"},"MD",{"$f":"IFERROR(HLOOKUP(Y1059,[1]DATA!$A$1:$NB$5,4,0),\"\")","v":"D1"},null,null,null,null,{"$f":"VLOOKUP(Y1059,[1]SRA!$S$4:$Z$368,7,0)","v":0},"","",""]
["51diND",{"$f":"VLOOKUP($AA1061,DATA!$B$3:$E$6,2,0)","v":"22:30:00"},{"$f":"VLOOKUP($AA1061,DATA!$B$3:$E$6,3,0)","v":"06:30:00"},{"$f":"VLOOKUP($AA1061,DATA!$B$3:$E$6,4,0)","v":3.125E-2},0.30208333333333326,0.30208333333333326,{"$f":"DATA!$C$9","v":0.89},{"$f":"DATA!$C$10","v":64},1,407.81249999999989,407.81249999999989,0,"","",0,"","",0,"","","","",null,{"$f":"X1066","v":51},null,{"$f":"TEXT(Y1059,\"ddd\")","v":"di"},"ND",{"$f":"IFERROR(HLOOKUP(Y1059,[1]DATA!$A$1:$NB$5,5,0),\"\")","v":"D3"},null,null,null,null,{"$f":"VLOOKUP(Y1059,[1]SRA!$S$4:$Z$368,8,0)","v":0},"","",""]
["51woDD",{"$f":"VLOOKUP($AA1062,DATA!$B$3:$E$6,2,0)","v":"06:30:00"},{"$f":"VLOOKUP($AA1062,DATA!$B$3:$E$6,3,0)","v":"14:30:00"},{"$f":"VLOOKUP($AA1062,DATA!$B$3:$E$6,4,0)","v":3.125E-2},0.30208333333333331,0.30208333333333331,{"$f":"DATA!$C$9","v":0.89},{"$f":"DATA!$C$10","v":64},1,407.8125,407.8125,0,"","",0,"","",0,"","","","",null,{"$f":"X1066","v":51},"2018-12-19",{"$f":"TEXT(Y1062,\"ddd\")","v":"wo"},"DD",{"$f":"IFERROR(HLOOKUP(Y1062,[1]DATA!$A$1:$NB$5,3,0),\"\")","v":"D2"},null,null,null,null,{"$f":"VLOOKUP(Y1062,[1]SRA!$S$4:$Z$368,6,0)","v":0},"","",""]
["51woMD",{"$f":"VLOOKUP($AA1063,DATA!$B$3:$E$6,2,0)","v":"14:30:00"},{"$f":"VLOOKUP($AA1063,DATA!$B$3:$E$6,3,0)","v":"22:30:00"},{"$f":"VLOOKUP($AA1063,DATA!$B$3:$E$6,4,0)","v":3.125E-2},0.30208333333333337,0.30208333333333337,{"$f":"DATA!$C$9","v":0.89},{"$f":"DATA!$C$10","v":64},1,407.81250000000006,407.81250000000006,0,"","",0,"","",0,"","","","",null,{"$f":"X1066","v":51},null,{"$f":"TEXT(Y1062,\"ddd\")","v":"wo"},"MD",{"$f":"IFERROR(HLOOKUP(Y1062,[1]DATA!$A$1:$NB$5,4,0),\"\")","v":"D1"},null,null,null,null,{"$f":"VLOOKUP(Y1062,[1]SRA!$S$4:$Z$368,7,0)","v":0},"","",""]
["51woND",{"$f":"VLOOKUP($AA1064,DATA!$B$3:$E$6,2,0)","v":"22:30:00"},{"$f":"VLOOKUP($AA1064,DATA!$B$3:$E$6,3,0)","v":"06:30:00"},{"$f":"VLOOKUP($AA1064,DATA!$B$3:$E$6,4,0)","v":3.125E-2},0.30208333333333326,0.30208333333333326,{"$f":"DATA!$C$9","v":0.89},{"$f":"DATA!$C$10","v":64},1,407.81249999999989,407.81249999999989,0,"","",0,"","",0,"","","","",null,{"$f":"X1066","v":51},null,{"$f":"TEXT(Y1062,\"ddd\")","v":"wo"},"ND",{"$f":"IFERROR(HLOOKUP(Y1062,[1]DATA!$A$1:$NB$5,5,0),\"\")","v":"D3"},null,null,null,null,{"$f":"VLOOKUP(Y1062,[1]SRA!$S$4:$Z$368,8,0)","v":0},"","",""]
["51doDD",{"$f":"VLOOKUP($AA1065,DATA!$B$3:$E$6,2,0)","v":"06:30:00"},{"$f":"VLOOKUP($AA1065,DATA!$B$3:$E$6,3,0)","v":"14:30:00"},{"$f":"VLOOKUP($AA1065,DATA!$B$3:$E$6,4,0)","v":3.125E-2},0.30208333333333331,0.30208333333333331,{"$f":"DATA!$C$9","v":0.89},{"$f":"DATA!$C$10","v":64},1,407.8125,407.8125,0,"","",0,"","",0,"","","","",null,{"$f":"X1066","v":51},"2018-12-20",{"$f":"TEXT(Y1065,\"ddd\")","v":"do"},"DD",{"$f":"IFERROR(HLOOKUP(Y1065,[1]DATA!$A$1:$NB$5,3,0),\"\")","v":"D2"},null,null,null,null,{"$f":"VLOOKUP(Y1065,[1]SRA!$S$4:$Z$368,6,0)","v":0},"","",""]
["51doMD",{"$f":"VLOOKUP($AA1066,DATA!$B$3:$E$6,2,0)","v":"14:30:00"},{"$f":"VLOOKUP($AA1066,DATA!$B$3:$E$6,3,0)","v":"22:30:00"},{"$f":"VLOOKUP($AA1066,DATA!$B$3:$E$6,4,0)","v":3.125E-2},0.30208333333333337,0.30208333333333337,{"$f":"DATA!$C$9","v":0.89},{"$f":"DATA!$C$10","v":64},1,407.81250000000006,407.81250000000006,0,"","",0,"","",0,"","","","",null,{"$f":"WEEKNUM($Y1056)","v":51},null,{"$f":"TEXT(Y1065,\"ddd\")","v":"do"},"MD",{"$f":"IFERROR(HLOOKUP(Y1065,[1]DATA!$A$1:$NB$5,4,0),\"\")","v":"D1"},null,null,null,null,{"$f":"VLOOKUP(Y1065,[1]SRA!$S$4:$Z$368,7,0)","v":0},"","",""]
["51doND",{"$f":"VLOOKUP($AA1067,DATA!$B$3:$E$6,2,0)","v":"22:30:00"},{"$f":"VLOOKUP($AA1067,DATA!$B$3:$E$6,3,0)","v":"06:30:00"},{"$f":"VLOOKUP($AA1067,DATA!$B$3:$E$6,4,0)","v":3.125E-2},0.30208333333333326,0.30208333333333326,{"$f":"DATA!$C$9","v":0.89},{"$f":"DATA!$C$10","v":64},1,407.81249999999989,407.81249999999989,0,"","",0,"","",0,"","","","",null,{"$f":"X1066","v":51},null,{"$f":"TEXT(Y1065,\"ddd\")","v":"do"},"ND",{"$f":"IFERROR(HLOOKUP(Y1065,[1]DATA!$A$1:$NB$5,5,0),\"\")","v":"D3"},null,null,null,null,{"$f":"VLOOKUP(Y1065,[1]SRA!$S$4:$Z$368,8,0)","v":0},"","",""]
["51vrDD",{"$f":"VLOOKUP($AA1068,DATA!$B$3:$E$6,2,0)","v":"06:30:00"},{"$f":"VLOOKUP($AA1068,DATA!$B$3:$E$6,3,0)","v":"14:30:00"},{"$f":"VLOOKUP($AA1068,DATA!$B$3:$E$6,4,0)","v":3.125E-2},0.30208333333333331,0.30208333333333331,{"$f":"DATA!$C$9","v":0.89},{"$f":"DATA!$C$10","v":64},1,407.8125,407.8125,0,"","",0,"","",0,"","","","",null,{"$f":"X1066","v":51},"2018-12-21",{"$f":"TEXT(Y1068,\"ddd\")","v":"vr"},"DD",{"$f":"IFERROR(HLOOKUP(Y1068,[1]DATA!$A$1:$NB$5,3,0),\"\")","v":"D2"},null,null,null,null,{"$f":"VLOOKUP(Y1068,[1]SRA!$S$4:$Z$368,6,0)","v":0},"","",""]
["51vrMD",{"$f":"VLOOKUP($AA1069,DATA!$B$3:$E$6,2,0)","v":"14:30:00"},{"$f":"VLOOKUP($AA1069,DATA!$B$3:$E$6,3,0)","v":"22:30:00"},{"$f":"VLOOKUP($AA1069,DATA!$B$3:$E$6,4,0)","v":3.125E-2},0.30208333333333337,0.30208333333333337,{"$f":"DATA!$C$9","v":0.89},{"$f":"DATA!$C$10","v":64},1,407.81250000000006,407.81250000000006,0,"","",0,"","",0,"","","","",null,{"$f":"X1066","v":51},null,{"$f":"TEXT(Y1068,\"ddd\")","v":"vr"},"MD",{"$f":"IFERROR(HLOOKUP(Y1068,[1]DATA!$A$1:$NB$5,4,0),\"\")","v":"D1"},null,null,null,null,{"$f":"VLOOKUP(Y1068,[1]SRA!$S$4:$Z$368,7,0)","v":0},"","",""]
["51vrND",{"$f":"VLOOKUP($AA1070,DATA!$B$3:$E$6,2,0)","v":"22:30:00"},{"$f":"VLOOKUP($AA1070,DATA!$B$3:$E$6,3,0)","v":"06:30:00"},{"$f":"VLOOKUP($AA1070,DATA!$B$3:$E$6,4,0)","v":3.125E-2},0.30208333333333326,0.30208333333333326,{"$f":"DATA!$C$9","v":0.89},{"$f":"DATA!$C$10","v":64},1,407.81249999999989,407.81249999999989,0,"","",0,"","",0,"","","","",null,{"$f":"X1066","v":51},null,{"$f":"TEXT(Y1068,\"ddd\")","v":"vr"},"ND",{"$f":"IFERROR(HLOOKUP(Y1068,[1]DATA!$A$1:$NB$5,5,0),\"\")","v":"D3"},null,null,null,null,{"$f":"VLOOKUP(Y1068,[1]SRA!$S$4:$Z$368,8,0)","v":0},"","",""]
["51zaDD",{"$f":"VLOOKUP($AA1071,DATA!$B$3:$E$6,2,0)","v":"06:30:00"},{"$f":"VLOOKUP($AA1071,DATA!$B$3:$E$6,3,0)","v":"14:30:00"},{"$f":"VLOOKUP($AA1071,DATA!$B$3:$E$6,4,0)","v":3.125E-2},0.30208333333333331,0.30208333333333331,{"$f":"DATA!$C$9","v":0.89},{"$f":"DATA!$C$10","v":64},1,407.8125,407.8125,0,"","",0,"","",0,"","","","",null,{"$f":"X1066","v":51},"2018-12-22",{"$f":"TEXT(Y1071,\"ddd\")","v":"za"},"DD",{"$f":"IFERROR(HLOOKUP(Y1071,[1]DATA!$A$1:$NB$5,3,0),\"\")","v":"D2"},null,null,null,null,{"$f":"VLOOKUP(Y1071,[1]SRA!$S$4:$Z$368,6,0)","v":0},"","",""]
[{"$f":"X1072&Z1072&AA1072","v":"51zaMD"},{"$f":"VLOOKUP($AA1072,DATA!$B$3:$E$6,2,0)","v":"14:30:00"},{"$f":"VLOOKUP($AA1072,DATA!$B$3:$E$6,3,0)","v":"22:30:00"},{"$f":"VLOOKUP($AA1072,DATA!$B$3:$E$6,4,0)","v":3.125E-2},0.30208333333333337,0.30208333333333337,{"$f":"DATA!$C$9","v":0.89},{"$f":"DATA!$C$10","v":64},1,407.81250000000006,407.81250000000006,0,"","",0,{"$f":"IF($O1072*86400/$H1072=0,\"\",$O1072*86400/$H1072)","v":""},"",0,"","","","",null,{"$f":"X1066","v":51},null,{"$f":"TEXT(Y1071,\"ddd\")","v":"za"},"MD",{"$f":"IFERROR(HLOOKUP(Y1071,[1]DATA!$A$1:$NB$5,4,0),\"\")","v":"-"},null,null,null,null,{"$f":"VLOOKUP(Y1071,[1]SRA!$S$4:$Z$368,7,0)","v":0},"","",""]
["51zaND",{"$f":"VLOOKUP($AA1073,DATA!$B$3:$E$6,2,0)","v":"22:30:00"},{"$f":"VLOOKUP($AA1073,DATA!$B$3:$E$6,3,0)","v":"06:30:00"},{"$f":"VLOOKUP($AA1073,DATA!$B$3:$E$6,4,0)","v":3.125E-2},0.30208333333333326,0.30208333333333326,{"$f":"DATA!$C$9","v":0.89},{"$f":"DATA!$C$10","v":64},1,407.81249999999989,407.81249999999989,0,"","",0,"","",0,"","","","",null,{"$f":"X1066","v":51},null,{"$f":"TEXT(Y1071,\"ddd\")","v":"za"},"ND",{"$f":"IFERROR(HLOOKUP(Y1071,[1]DATA!$A$1:$NB$5,5,0),\"\")","v":"-"},null,null,null,null,{"$f":"VLOOKUP(Y1071,[1]SRA!$S$4:$Z$368,8,0)","v":0},"","",""]
["51zoDD",{"$f":"VLOOKUP($AA1074,DATA!$B$3:$E$6,2,0)","v":"06:30:00"},{"$f":"VLOOKUP($AA1074,DATA!$B$3:$E$6,3,0)","v":"14:30:00"},{"$f":"VLOOKUP($AA1074,DATA!$B$3:$E$6,4,0)","v":3.125E-2},0.30208333333333331,0.30208333333333331,{"$f":"DATA!$C$9","v":0.89},{"$f":"DATA!$C$10","v":64},1,407.8125,407.8125,0,"","",0,"","",0,"","","","",null,{"$f":"X1066","v":51},"2018-12-23",{"$f":"TEXT(Y1074,\"ddd\")","v":"zo"},"DD",{"$f":"IFERROR(HLOOKUP(Y1074,[1]DATA!$A$1:$NB$5,3,0),\"\")","v":"-"},null,null,null,null,{"$f":"VLOOKUP(Y1074,[1]SRA!$S$4:$Z$368,6,0)","v":0},"","",""]
["51zoMD",{"$f":"VLOOKUP($AA1075,DATA!$B$3:$E$6,2,0)","v":"14:30:00"},{"$f":"VLOOKUP($AA1075,DATA!$B$3:$E$6,3,0)","v":"22:30:00"},{"$f":"VLOOKUP($AA1075,DATA!$B$3:$E$6,4,0)","v":3.125E-2},0.30208333333333337,0.30208333333333337,{"$f":"DATA!$C$9","v":0.89},{"$f":"DATA!$C$10","v":64},1,407.81250000000006,407.81250000000006,0,"","",0,"","",0,"","","","",null,{"$f":"X1066","v":51},null,{"$f":"TEXT(Y1074,\"ddd\")","v":"zo"},"MD",{"$f":"IFERROR(HLOOKUP(Y1074,[1]DATA!$A$1:$NB$5,4,0),\"\")","v":"-"},null,null,null,null,{"$f":"VLOOKUP(Y1074,[1]SRA!$S$4:$Z$368,7,0)","v":0},"","",""]
["51zoZND",{"$f":"VLOOKUP($AA1076,DATA!$B$3:$E$6,2,0)","v":"00:00:00"},{"$f":"VLOOKUP($AA1076,DATA!$B$3:$E$6,3,0)","v":"00:00:00"},{"$f":"VLOOKUP($AA1076,DATA!$B$3:$E$6,4,0)","v":0},0,0,{"$f":"DATA!$C$9","v":0.89},{"$f":"DATA!$C$10","v":64},1,0,0,0,"","",0,"","",0,"","","","",null,{"$f":"X1066","v":51},null,{"$f":"TEXT(Y1074,\"ddd\")","v":"zo"},"ZND",{"$f":"IFERROR(HLOOKUP(Y1074,[1]DATA!$A$1:$NB$5,5,0),\"\")","v":"-"},null,null,null,null,{"$f":"VLOOKUP(Y1074,[1]SRA!$S$4:$Z$368,8,0)","v":0},"","",""]
["52maDD",{"$f":"VLOOKUP($AA1077,DATA!$B$3:$E$6,2,0)","v":"06:30:00"},{"$f":"VLOOKUP($AA1077,DATA!$B$3:$E$6,3,0)","v":"14:30:00"},{"$f":"VLOOKUP($AA1077,DATA!$B$3:$E$6,4,0)","v":3.125E-2},0.30208333333333331,0.30208333333333331,{"$f":"DATA!$C$9","v":0.89},{"$f":"DATA!$C$10","v":64},1,407.8125,407.8125,0,"","",{"$f":"TIME(INT($AD1077/60),INT(MOD($AD1077,60)/1),0)","v":0},"","",0,"","","","",null,{"$f":"X1087","v":52},"2018-12-24",{"$f":"TEXT(Y1077,\"ddd\")","v":"ma"},"DD",{"$f":"IFERROR(HLOOKUP(Y1077,[1]DATA!$A$1:$NB$5,3,0),\"\")","v":"D1"},null,null,null,null,{"$f":"VLOOKUP(Y1077,[1]SRA!$S$4:$AA$368,6,0)","v":0},"","","",{"$f":"IF(SUMIF(S1077:S1097,\">0\",K1077:K1097)=0,\"\",SUMIF(S1077:S1097,\">0\",K1077:K1097))","v":""},{"$f":"IF(SUM(S1077:S1097)=0,\"\",SUM(S1077:S1097))","v":""},{"$f":"IFERROR(AL1077/AK1077,\"-\")","v":"-"},{"$f":"IF(SUM(M1077:M1097)=0,\"0\",SUM(M1077:M1097))","v":"0"},{"$f":"IFERROR(AN1077/AK1077,\"-\")","v":"-"},{"$f":"IF(SUM(P1077:P1097)=0,0,SUM(P1077:P1097))","v":0},{"$f":"IFERROR(AP1077/AK1077,\"-\")","v":"-"},"-",{"$f":"IFERROR(SUMIF($AB1077:$AB1097,AS$5,$AJ1077:$AJ1097)/COUNTIFS($AB1077:$AB1097,AS$5,$AJ1077:$AJ1097,\">0\"),\"\")","v":""},"","",{"$f":"IFERROR((AK1077-AL1077-AN1077-AP1077),\"-\")","v":"-"},{"$f":"IFERROR((1-AM1077-AO1077-AQ1077), \"-\")","v":"-"},{"$f":"IFERROR((AV1077*$AE$2)/60,\"-\")","v":"-"},{"$f":"IFERROR(SUM(AG1077:AG1097),\"\")","v":0}]
["52maMD",{"$f":"VLOOKUP($AA1078,DATA!$B$3:$E$6,2,0)","v":"14:30:00"},{"$f":"VLOOKUP($AA1078,DATA!$B$3:$E$6,3,0)","v":"22:30:00"},{"$f":"VLOOKUP($AA1078,DATA!$B$3:$E$6,4,0)","v":3.125E-2},0.30208333333333337,0.30208333333333337,{"$f":"DATA!$C$9","v":0.89},{"$f":"DATA!$C$10","v":64},1,407.81250000000006,407.81250000000006,0,"","",{"$f":"TIME(INT(AD1078/60),INT(MOD(AD1078,60)/1),0)","v":0},"","",0,"","","","",null,{"$f":"X1087","v":52},null,{"$f":"TEXT(Y1077,\"ddd\")","v":"ma"},"MD",{"$f":"IFERROR(HLOOKUP(Y1077,[1]DATA!$A$1:$NB$5,4,0),\"\")","v":"D3"},null,null,null,null,{"$f":"VLOOKUP(Y1077,[1]SRA!$S$4:$Z$368,7,0)","v":0},"","",""]
["52maND",{"$f":"VLOOKUP($AA1079,DATA!$B$3:$E$6,2,0)","v":"22:30:00"},{"$f":"VLOOKUP($AA1079,DATA!$B$3:$E$6,3,0)","v":"06:30:00"},{"$f":"VLOOKUP($AA1079,DATA!$B$3:$E$6,4,0)","v":3.125E-2},0.30208333333333326,0.30208333333333326,{"$f":"DATA!$C$9","v":0.89},{"$f":"DATA!$C$10","v":64},1,407.81249999999989,407.81249999999989,0,"","",0,"","",0,"","","","",null,{"$f":"X1087","v":52},null,{"$f":"TEXT(Y1077,\"ddd\")","v":"ma"},"ND",{"$f":"IFERROR(HLOOKUP(Y1077,[1]DATA!$A$1:$NB$5,5,0),\"\")","v":"D2"},null,null,null,null,{"$f":"VLOOKUP(Y1077,[1]SRA!$S$4:$Z$368,8,0)","v":0},"","",""]
["52diDD",{"$f":"VLOOKUP($AA1080,DATA!$B$3:$E$6,2,0)","v":"06:30:00"},{"$f":"VLOOKUP($AA1080,DATA!$B$3:$E$6,3,0)","v":"14:30:00"},{"$f":"VLOOKUP($AA1080,DATA!$B$3:$E$6,4,0)","v":3.125E-2},0.30208333333333331,0.30208333333333331,{"$f":"DATA!$C$9","v":0.89},{"$f":"DATA!$C$10","v":64},1,407.8125,407.8125,0,"","",0,"","",0,"","","","",null,{"$f":"X1087","v":52},"2018-12-25",{"$f":"TEXT(Y1080,\"ddd\")","v":"di"},"DD",{"$f":"IFERROR(HLOOKUP(Y1080,[1]DATA!$A$1:$NB$5,3,0),\"\")","v":"D1"},null,null,null,null,{"$f":"VLOOKUP(Y1080,[1]SRA!$S$4:$Z$368,6,0)","v":0},"","",""]
["52diMD",{"$f":"VLOOKUP($AA1081,DATA!$B$3:$E$6,2,0)","v":"14:30:00"},{"$f":"VLOOKUP($AA1081,DATA!$B$3:$E$6,3,0)","v":"22:30:00"},{"$f":"VLOOKUP($AA1081,DATA!$B$3:$E$6,4,0)","v":3.125E-2},0.30208333333333337,0.30208333333333337,{"$f":"DATA!$C$9","v":0.89},{"$f":"DATA!$C$10","v":64},1,407.81250000000006,407.81250000000006,0,"","",0,"","",0,"","","","",null,{"$f":"X1087","v":52},null,{"$f":"TEXT(Y1080,\"ddd\")","v":"di"},"MD",{"$f":"IFERROR(HLOOKUP(Y1080,[1]DATA!$A$1:$NB$5,4,0),\"\")","v":"D3"},null,null,null,null,{"$f":"VLOOKUP(Y1080,[1]SRA!$S$4:$Z$368,7,0)","v":0},"","",""]
["52diND",{"$f":"VLOOKUP($AA1082,DATA!$B$3:$E$6,2,0)","v":"22:30:00"},{"$f":"VLOOKUP($AA1082,DATA!$B$3:$E$6,3,0)","v":"06:30:00"},{"$f":"VLOOKUP($AA1082,DATA!$B$3:$E$6,4,0)","v":3.125E-2},0.30208333333333326,0.30208333333333326,{"$f":"DATA!$C$9","v":0.89},{"$f":"DATA!$C$10","v":64},1,407.81249999999989,407.81249999999989,0,"","",0,"","",0,"","","","",null,{"$f":"X1087","v":52},null,{"$f":"TEXT(Y1080,\"ddd\")","v":"di"},"ND",{"$f":"IFERROR(HLOOKUP(Y1080,[1]DATA!$A$1:$NB$5,5,0),\"\")","v":"D2"},null,null,null,null,{"$f":"VLOOKUP(Y1080,[1]SRA!$S$4:$Z$368,8,0)","v":0},"","",""]
["52woDD",{"$f":"VLOOKUP($AA1083,DATA!$B$3:$E$6,2,0)","v":"06:30:00"},{"$f":"VLOOKUP($AA1083,DATA!$B$3:$E$6,3,0)","v":"14:30:00"},{"$f":"VLOOKUP($AA1083,DATA!$B$3:$E$6,4,0)","v":3.125E-2},0.30208333333333331,0.30208333333333331,{"$f":"DATA!$C$9","v":0.89},{"$f":"DATA!$C$10","v":64},1,407.8125,407.8125,0,"","",0,"","",0,"","","","",null,{"$f":"X1087","v":52},"2018-12-26",{"$f":"TEXT(Y1083,\"ddd\")","v":"wo"},"DD",{"$f":"IFERROR(HLOOKUP(Y1083,[1]DATA!$A$1:$NB$5,3,0),\"\")","v":"D1"},null,null,null,null,{"$f":"VLOOKUP(Y1083,[1]SRA!$S$4:$Z$368,6,0)","v":0},"","",""]
["52woMD",{"$f":"VLOOKUP($AA1084,DATA!$B$3:$E$6,2,0)","v":"14:30:00"},{"$f":"VLOOKUP($AA1084,DATA!$B$3:$E$6,3,0)","v":"22:30:00"},{"$f":"VLOOKUP($AA1084,DATA!$B$3:$E$6,4,0)","v":3.125E-2},0.30208333333333337,0.30208333333333337,{"$f":"DATA!$C$9","v":0.89},{"$f":"DATA!$C$10","v":64},1,407.81250000000006,407.81250000000006,0,"","",0,"","",0,"","","","",null,{"$f":"X1087","v":52},null,{"$f":"TEXT(Y1083,\"ddd\")","v":"wo"},"MD",{"$f":"IFERROR(HLOOKUP(Y1083,[1]DATA!$A$1:$NB$5,4,0),\"\")","v":"D3"},null,null,null,null,{"$f":"VLOOKUP(Y1083,[1]SRA!$S$4:$Z$368,7,0)","v":0},"","",""]
["52woND",{"$f":"VLOOKUP($AA1085,DATA!$B$3:$E$6,2,0)","v":"22:30:00"},{"$f":"VLOOKUP($AA1085,DATA!$B$3:$E$6,3,0)","v":"06:30:00"},{"$f":"VLOOKUP($AA1085,DATA!$B$3:$E$6,4,0)","v":3.125E-2},0.30208333333333326,0.30208333333333326,{"$f":"DATA!$C$9","v":0.89},{"$f":"DATA!$C$10","v":64},1,407.81249999999989,407.81249999999989,0,"","",0,"","",0,"","","","",null,{"$f":"X1087","v":52},null,{"$f":"TEXT(Y1083,\"ddd\")","v":"wo"},"ND",{"$f":"IFERROR(HLOOKUP(Y1083,[1]DATA!$A$1:$NB$5,5,0),\"\")","v":"D2"},null,null,null,null,{"$f":"VLOOKUP(Y1083,[1]SRA!$S$4:$Z$368,8,0)","v":0},"","",""]
["52doDD",{"$f":"VLOOKUP($AA1086,DATA!$B$3:$E$6,2,0)","v":"06:30:00"},{"$f":"VLOOKUP($AA1086,DATA!$B$3:$E$6,3,0)","v":"14:30:00"},{"$f":"VLOOKUP($AA1086,DATA!$B$3:$E$6,4,0)","v":3.125E-2},0.30208333333333331,0.30208333333333331,{"$f":"DATA!$C$9","v":0.89},{"$f":"DATA!$C$10","v":64},1,407.8125,407.8125,0,"","",0,"","",0,"","","","",null,{"$f":"X1087","v":52},"2018-12-27",{"$f":"TEXT(Y1086,\"ddd\")","v":"do"},"DD",{"$f":"IFERROR(HLOOKUP(Y1086,[1]DATA!$A$1:$NB$5,3,0),\"\")","v":"D1"},null,null,null,null,{"$f":"VLOOKUP(Y1086,[1]SRA!$S$4:$Z$368,6,0)","v":0},"","",""]
["52doMD",{"$f":"VLOOKUP($AA1087,DATA!$B$3:$E$6,2,0)","v":"14:30:00"},{"$f":"VLOOKUP($AA1087,DATA!$B$3:$E$6,3,0)","v":"22:30:00"},{"$f":"VLOOKUP($AA1087,DATA!$B$3:$E$6,4,0)","v":3.125E-2},0.30208333333333337,0.30208333333333337,{"$f":"DATA!$C$9","v":0.89},{"$f":"DATA!$C$10","v":64},1,407.81250000000006,407.81250000000006,0,"","",0,"","",0,"","","","",null,{"$f":"WEEKNUM($Y1077)","v":52},null,{"$f":"TEXT(Y1086,\"ddd\")","v":"do"},"MD",{"$f":"IFERROR(HLOOKUP(Y1086,[1]DATA!$A$1:$NB$5,4,0),\"\")","v":"D3"},null,null,null,null,{"$f":"VLOOKUP(Y1086,[1]SRA!$S$4:$Z$368,7,0)","v":0},"","",""]
["52doND",{"$f":"VLOOKUP($AA1088,DATA!$B$3:$E$6,2,0)","v":"22:30:00"},{"$f":"VLOOKUP($AA1088,DATA!$B$3:$E$6,3,0)","v":"06:30:00"},{"$f":"VLOOKUP($AA1088,DATA!$B$3:$E$6,4,0)","v":3.125E-2},0.30208333333333326,0.30208333333333326,{"$f":"DATA!$C$9","v":0.89},{"$f":"DATA!$C$10","v":64},1,407.81249999999989,407.81249999999989,0,"","",0,"","",0,"","","","",null,{"$f":"X1087","v":52},null,{"$f":"TEXT(Y1086,\"ddd\")","v":"do"},"ND",{"$f":"IFERROR(HLOOKUP(Y1086,[1]DATA!$A$1:$NB$5,5,0),\"\")","v":"D2"},null,null,null,null,{"$f":"VLOOKUP(Y1086,[1]SRA!$S$4:$Z$368,8,0)","v":0},"","",""]
["52vrDD",{"$f":"VLOOKUP($AA1089,DATA!$B$3:$E$6,2,0)","v":"06:30:00"},{"$f":"VLOOKUP($AA1089,DATA!$B$3:$E$6,3,0)","v":"14:30:00"},{"$f":"VLOOKUP($AA1089,DATA!$B$3:$E$6,4,0)","v":3.125E-2},0.30208333333333331,0.30208333333333331,{"$f":"DATA!$C$9","v":0.89},{"$f":"DATA!$C$10","v":64},1,407.8125,407.8125,0,"","",0,"","",0,"","","","",null,{"$f":"X1087","v":52},{"$f":"Y1086+1","v":"2018-12-28"},{"$f":"TEXT(Y1089,\"ddd\")","v":"vr"},"DD",{"$f":"IFERROR(HLOOKUP(Y1089,[1]DATA!$A$1:$NB$5,3,0),\"\")","v":"D1"},null,null,null,null,{"$f":"VLOOKUP(Y1089,[1]SRA!$S$4:$Z$368,6,0)","v":0},"","",""]
["52vrMD",{"$f":"VLOOKUP($AA1090,DATA!$B$3:$E$6,2,0)","v":"14:30:00"},{"$f":"VLOOKUP($AA1090,DATA!$B$3:$E$6,3,0)","v":"22:30:00"},{"$f":"VLOOKUP($AA1090,DATA!$B$3:$E$6,4,0)","v":3.125E-2},0.30208333333333337,0.30208333333333337,{"$f":"DATA!$C$9","v":0.89},{"$f":"DATA!$C$10","v":64},1,407.81250000000006,407.81250000000006,0,"","",0,"","",0,"","","","",null,{"$f":"X1087","v":52},null,{"$f":"TEXT(Y1089,\"ddd\")","v":"vr"},"MD",{"$f":"IFERROR(HLOOKUP(Y1089,[1]DATA!$A$1:$NB$5,4,0),\"\")","v":"D3"},null,null,null,null,{"$f":"VLOOKUP(Y1089,[1]SRA!$S$4:$Z$368,7,0)","v":0},"","",""]
["52vrND",{"$f":"VLOOKUP($AA1091,DATA!$B$3:$E$6,2,0)","v":"22:30:00"},{"$f":"VLOOKUP($AA1091,DATA!$B$3:$E$6,3,0)","v":"06:30:00"},{"$f":"VLOOKUP($AA1091,DATA!$B$3:$E$6,4,0)","v":3.125E-2},0.30208333333333326,0.30208333333333326,{"$f":"DATA!$C$9","v":0.89},{"$f":"DATA!$C$10","v":64},1,407.81249999999989,407.81249999999989,0,"","",0,"","",0,"","","","",null,{"$f":"X1087","v":52},null,{"$f":"TEXT(Y1089,\"ddd\")","v":"vr"},"ND",{"$f":"IFERROR(HLOOKUP(Y1089,[1]DATA!$A$1:$NB$5,5,0),\"\")","v":"D2"},null,null,null,null,{"$f":"VLOOKUP(Y1089,[1]SRA!$S$4:$Z$368,8,0)","v":0},"","",""]
["52zaDD",{"$f":"VLOOKUP($AA1092,DATA!$B$3:$E$6,2,0)","v":"06:30:00"},{"$f":"VLOOKUP($AA1092,DATA!$B$3:$E$6,3,0)","v":"14:30:00"},{"$f":"VLOOKUP($AA1092,DATA!$B$3:$E$6,4,0)","v":3.125E-2},0.30208333333333331,0.30208333333333331,{"$f":"DATA!$C$9","v":0.89},{"$f":"DATA!$C$10","v":64},1,407.8125,407.8125,0,"","",0,"","",0,"","","","",null,{"$f":"X1087","v":52},"2018-12-29",{"$f":"TEXT(Y1092,\"ddd\")","v":"za"},"DD",{"$f":"IFERROR(HLOOKUP(Y1092,[1]DATA!$A$1:$NB$5,3,0),\"\")","v":"D1"},null,null,null,null,{"$f":"VLOOKUP(Y1092,[1]SRA!$S$4:$Z$368,6,0)","v":0},"","",""]
["52zaMD",{"$f":"VLOOKUP($AA1093,DATA!$B$3:$E$6,2,0)","v":"14:30:00"},{"$f":"VLOOKUP($AA1093,DATA!$B$3:$E$6,3,0)","v":"22:30:00"},{"$f":"VLOOKUP($AA1093,DATA!$B$3:$E$6,4,0)","v":3.125E-2},0.30208333333333337,0.30208333333333337,{"$f":"DATA!$C$9","v":0.89},{"$f":"DATA!$C$10","v":64},1,407.81250000000006,407.81250000000006,0,"","",0,"","",0,"","","","",null,{"$f":"X1087","v":52},null,{"$f":"TEXT(Y1092,\"ddd\")","v":"za"},"MD",{"$f":"IFERROR(HLOOKUP(Y1092,[1]DATA!$A$1:$NB$5,4,0),\"\")","v":"-"},null,null,null,null,{"$f":"VLOOKUP(Y1092,[1]SRA!$S$4:$Z$368,7,0)","v":0},"","",""]
["52zaND",{"$f":"VLOOKUP($AA1094,DATA!$B$3:$E$6,2,0)","v":"22:30:00"},{"$f":"VLOOKUP($AA1094,DATA!$B$3:$E$6,3,0)","v":"06:30:00"},{"$f":"VLOOKUP($AA1094,DATA!$B$3:$E$6,4,0)","v":3.125E-2},0.30208333333333326,0.30208333333333326,{"$f":"DATA!$C$9","v":0.89},{"$f":"DATA!$C$10","v":64},1,407.81249999999989,407.81249999999989,0,"","",0,"","",0,"","","","",null,{"$f":"X1087","v":52},null,{"$f":"TEXT(Y1092,\"ddd\")","v":"za"},"ND",{"$f":"IFERROR(HLOOKUP(Y1092,[1]DATA!$A$1:$NB$5,5,0),\"\")","v":"-"},null,null,null,null,{"$f":"VLOOKUP(Y1092,[1]SRA!$S$4:$Z$368,8,0)","v":0},{"$f":"IFERROR(S1094-J1094,\"\")","v":""},{"$f":"IFERROR(IF(S1094/(E1094*86400/H1094)<=0,\"\",S1094/(E1094*86400/H1094)),\"\")","v":""},""]
["52zoDD",{"$f":"VLOOKUP($AA1095,DATA!$B$3:$E$6,2,0)","v":"06:30:00"},{"$f":"VLOOKUP($AA1095,DATA!$B$3:$E$6,3,0)","v":"14:30:00"},{"$f":"VLOOKUP($AA1095,DATA!$B$3:$E$6,4,0)","v":3.125E-2},0.30208333333333331,0.30208333333333331,{"$f":"DATA!$C$9","v":0.89},{"$f":"DATA!$C$10","v":64},1,407.8125,407.8125,{"$f":"TIME(INT($AC1095/60),INT(MOD($AC1095,60)/1),0)","v":0},{"$f":"IF($L1095*86400/$H1095=0,\"\",$L1095*86400/$H1095)","v":""},{"$f":"IFERROR($M1095/$K1095,\"\")","v":""},0,"",{"$f":"IFERROR($P1095/$K1095,\"\")","v":""},0,"",{"$f":"IF(IF($AB1095=\"D1\",$S1095,\"\")=0,\"\",IF($AB1095=\"D1\",$S1095,\"\"))","v":""},{"$f":"IF(IF($AB1095=\"D2\",$S1095,\"\")=0,\"\",IF($AB1095=\"D2\",$S1095,\"\"))","v":""},{"$f":"IF(IF($AB1095=\"D3\",$S1095,\"\")=0,\"\",IF($AB1095=\"D3\",$S1095,\"\"))","v":""},null,{"$f":"X1087","v":52},"2018-12-30",{"$f":"TEXT(Y1095,\"ddd\")","v":"zo"},"DD",{"$f":"IFERROR(HLOOKUP(Y1095,[1]DATA!$A$1:$NB$5,3,0),\"\")","v":"-"},null,null,null,null,{"$f":"VLOOKUP(Y1095,[1]SRA!$S$4:$Z$368,6,0)","v":0},"","",""]
["52zoMD",{"$f":"VLOOKUP($AA1096,DATA!$B$3:$E$6,2,0)","v":"14:30:00"},{"$f":"VLOOKUP($AA1096,DATA!$B$3:$E$6,3,0)","v":"22:30:00"},{"$f":"VLOOKUP($AA1096,DATA!$B$3:$E$6,4,0)","v":3.125E-2},0.30208333333333337,0.30208333333333337,{"$f":"DATA!$C$9","v":0.89},{"$f":"DATA!$C$10","v":64},1,407.81250000000006,407.81250000000006,0,"","",0,"","",0,"","","","",null,{"$f":"X1087","v":52},null,{"$f":"TEXT(Y1095,\"ddd\")","v":"zo"},"MD",{"$f":"IFERROR(HLOOKUP(Y1095,[1]DATA!$A$1:$NB$5,4,0),\"\")","v":"-"},null,null,null,null,{"$f":"VLOOKUP(Y1095,[1]SRA!$S$4:$Z$368,7,0)","v":0},"","",""]
["52zoZND",{"$f":"VLOOKUP($AA1097,DATA!$B$3:$E$6,2,0)","v":"00:00:00"},{"$f":"VLOOKUP($AA1097,DATA!$B$3:$E$6,3,0)","v":"00:00:00"},{"$f":"VLOOKUP($AA1097,DATA!$B$3:$E$6,4,0)","v":0},0,0,{"$f":"DATA!$C$9","v":0.89},{"$f":"DATA!$C$10","v":64},1,0,0,0,"","",0,"","",0,"","","","",null,{"$f":"X1087","v":52},null,{"$f":"TEXT(Y1095,\"ddd\")","v":"zo"},"ZND",{"$f":"IFERROR(HLOOKUP(Y1095,[1]DATA!$A$1:$NB$5,5,0),\"\")","v":"-"},null,null,null,null,{"$f":"VLOOKUP(Y1095,[1]SRA!$S$4:$Z$368,8,0)","v":0},"","",""]
["53maDD",{"$f":"VLOOKUP($AA1098,DATA!$B$3:$E$6,2,0)","v":"06:30:00"},{"$f":"VLOOKUP($AA1098,DATA!$B$3:$E$6,3,0)","v":"14:30:00"},{"$f":"VLOOKUP($AA1098,DATA!$B$3:$E$6,4,0)","v":3.125E-2},0.30208333333333331,0.30208333333333331,{"$f":"DATA!$C$9","v":0.89},{"$f":"DATA!$C$10","v":64},1,407.8125,407.8125,0,"","",{"$f":"TIME(INT($AD1098/60),INT(MOD($AD1098,60)/1),0)","v":0},"","",0,"","","","",null,{"$f":"X1108","v":53},"2018-12-31",{"$f":"TEXT(Y1098,\"ddd\")","v":"ma"},"DD",{"$f":"IFERROR(HLOOKUP(Y1098,[1]DATA!$A$1:$NB$5,3,0),\"\")","v":"D3"},null,null,null,null,{"$f":"VLOOKUP(Y1098,[1]SRA!$S$4:$AA$368,6,0)","v":0},"","","",{"$f":"IF(SUMIF(S1098:S1118,\">0\",K1098:K1118)=0,\"\",SUMIF(S1098:S1118,\">0\",K1098:K1118))","v":""},{"$f":"IF(SUM(S1098:S1118)=0,\"\",SUM(S1098:S1118))","v":""},{"$f":"IFERROR(AL1098/AK1098,\"-\")","v":"-"},{"$f":"IF(SUM(M1098:M1118)=0,\"0\",SUM(M1098:M1118))","v":"0"},{"$f":"IFERROR(AN1098/AK1098,\"-\")","v":"-"},{"$f":"IF(SUM(P1098:P1118)=0,0,SUM(P1098:P1118))","v":0},{"$f":"IFERROR(AP1098/AK1098,\"-\")","v":"-"},"-",{"$f":"IFERROR(SUMIF($AB1098:$AB1118,AS$5,$AJ1098:$AJ1118)/COUNTIFS($AB1098:$AB1118,AS$5,$AJ1098:$AJ1118,\">0\"),\"\")","v":""},"","",{"$f":"IFERROR((AK1098-AL1098-AN1098-AP1098),\"-\")","v":"-"},{"$f":"IFERROR((1-AM1098-AO1098-AQ1098), \"-\")","v":"-"},{"$f":"IFERROR((AV1098*$AE$2)/60,\"-\")","v":"-"},{"$f":"IFERROR(SUM(AG1098:AG1118),\"\")","v":""}]
["53maMD",{"$f":"VLOOKUP($AA1099,DATA!$B$3:$E$6,2,0)","v":"14:30:00"},{"$f":"VLOOKUP($AA1099,DATA!$B$3:$E$6,3,0)","v":"22:30:00"},{"$f":"VLOOKUP($AA1099,DATA!$B$3:$E$6,4,0)","v":3.125E-2},0.30208333333333337,0.30208333333333337,{"$f":"DATA!$C$9","v":0.89},{"$f":"DATA!$C$10","v":64},1,407.81250000000006,407.81250000000006,0,"","",{"$f":"TIME(INT(AD1099/60),INT(MOD(AD1099,60)/1),0)","v":0},"","",0,"","","","",null,{"$f":"X1108","v":53},null,{"$f":"TEXT(Y1098,\"ddd\")","v":"ma"},"MD",{"$f":"IFERROR(HLOOKUP(Y1098,[1]DATA!$A$1:$NB$5,4,0),\"\")","v":"D2"},null,null,null,null,{"$f":"VLOOKUP(Y1098,[1]SRA!$S$4:$Z$368,7,0)","v":0},"","",""]
["53maND",{"$f":"VLOOKUP($AA1100,DATA!$B$3:$E$6,2,0)","v":"22:30:00"},{"$f":"VLOOKUP($AA1100,DATA!$B$3:$E$6,3,0)","v":"06:30:00"},{"$f":"VLOOKUP($AA1100,DATA!$B$3:$E$6,4,0)","v":3.125E-2},0.30208333333333326,0.30208333333333326,{"$f":"DATA!$C$9","v":0.89},{"$f":"DATA!$C$10","v":64},1,407.81249999999989,407.81249999999989,0,"","",0,"","",0,"","","","",null,{"$f":"X1108","v":53},null,{"$f":"TEXT(Y1098,\"ddd\")","v":"ma"},"ND",{"$f":"IFERROR(HLOOKUP(Y1098,[1]DATA!$A$1:$NB$5,5,0),\"\")","v":"D1"},null,null,null,null,{"$f":"VLOOKUP(Y1098,[1]SRA!$S$4:$Z$368,8,0)","v":0},"","",""]
["53diDD",{"$f":"VLOOKUP($AA1101,DATA!$B$3:$E$6,2,0)","v":"06:30:00"},{"$f":"VLOOKUP($AA1101,DATA!$B$3:$E$6,3,0)","v":"14:30:00"},{"$f":"VLOOKUP($AA1101,DATA!$B$3:$E$6,4,0)","v":3.125E-2},0.30208333333333331,0.30208333333333331,{"$f":"DATA!$C$9","v":0.89},{"$f":"DATA!$C$10","v":64},1,407.8125,407.8125,0,"","",0,"","",0,"","","","",null,{"$f":"X1108","v":53},"2019-01-01",{"$f":"TEXT(Y1101,\"ddd\")","v":"di"},"DD",{"$f":"IFERROR(HLOOKUP(Y1101,[1]DATA!$A$1:$NB$5,3,0),\"\")","v":""},null,null,null,null,{"$f":"VLOOKUP(Y1101,[1]SRA!$S$4:$Z$368,6,0)","v":{"$error":"#N/A"}},"","",""]
["53diMD",{"$f":"VLOOKUP($AA1102,DATA!$B$3:$E$6,2,0)","v":"14:30:00"},{"$f":"VLOOKUP($AA1102,DATA!$B$3:$E$6,3,0)","v":"22:30:00"},{"$f":"VLOOKUP($AA1102,DATA!$B$3:$E$6,4,0)","v":3.125E-2},0.30208333333333337,0.30208333333333337,{"$f":"DATA!$C$9","v":0.89},{"$f":"DATA!$C$10","v":64},1,407.81250000000006,407.81250000000006,0,"","",0,"","",0,"","","","",null,{"$f":"X1108","v":53},null,{"$f":"TEXT(Y1101,\"ddd\")","v":"di"},"MD",{"$f":"IFERROR(HLOOKUP(Y1101,[1]DATA!$A$1:$NB$5,4,0),\"\")","v":""},null,null,null,null,{"$f":"VLOOKUP(Y1101,[1]SRA!$S$4:$Z$368,7,0)","v":{"$error":"#N/A"}},"","",""]
["53diND",{"$f":"VLOOKUP($AA1103,DATA!$B$3:$E$6,2,0)","v":"22:30:00"},{"$f":"VLOOKUP($AA1103,DATA!$B$3:$E$6,3,0)","v":"06:30:00"},{"$f":"VLOOKUP($AA1103,DATA!$B$3:$E$6,4,0)","v":3.125E-2},0.30208333333333326,0.30208333333333326,{"$f":"DATA!$C$9","v":0.89},{"$f":"DATA!$C$10","v":64},1,407.81249999999989,407.81249999999989,0,"","",0,"","",0,"","","","",null,{"$f":"X1108","v":53},null,{"$f":"TEXT(Y1101,\"ddd\")","v":"di"},"ND",{"$f":"IFERROR(HLOOKUP(Y1101,[1]DATA!$A$1:$NB$5,5,0),\"\")","v":""},null,null,null,null,{"$f":"VLOOKUP(Y1101,[1]SRA!$S$4:$Z$368,8,0)","v":{"$error":"#N/A"}},"","",""]
["53woDD",{"$f":"VLOOKUP($AA1104,DATA!$B$3:$E$6,2,0)","v":"06:30:00"},{"$f":"VLOOKUP($AA1104,DATA!$B$3:$E$6,3,0)","v":"14:30:00"},{"$f":"VLOOKUP($AA1104,DATA!$B$3:$E$6,4,0)","v":3.125E-2},0.30208333333333331,0.30208333333333331,{"$f":"DATA!$C$9","v":0.89},{"$f":"DATA!$C$10","v":64},1,407.8125,407.8125,0,"","",0,"","",0,"","","","",null,{"$f":"X1108","v":53},"2019-01-02",{"$f":"TEXT(Y1104,\"ddd\")","v":"wo"},"DD",{"$f":"IFERROR(HLOOKUP(Y1104,[1]DATA!$A$1:$NB$5,3,0),\"\")","v":""},null,null,null,null,{"$f":"VLOOKUP(Y1104,[1]SRA!$S$4:$Z$368,6,0)","v":{"$error":"#N/A"}},"","",""]
["53woMD",{"$f":"VLOOKUP($AA1105,DATA!$B$3:$E$6,2,0)","v":"14:30:00"},{"$f":"VLOOKUP($AA1105,DATA!$B$3:$E$6,3,0)","v":"22:30:00"},{"$f":"VLOOKUP($AA1105,DATA!$B$3:$E$6,4,0)","v":3.125E-2},0.30208333333333337,0.30208333333333337,{"$f":"DATA!$C$9","v":0.89},{"$f":"DATA!$C$10","v":64},1,407.81250000000006,407.81250000000006,0,"","",0,"","",0,"","","","",null,{"$f":"X1108","v":53},null,{"$f":"TEXT(Y1104,\"ddd\")","v":"wo"},"MD",{"$f":"IFERROR(HLOOKUP(Y1104,[1]DATA!$A$1:$NB$5,4,0),\"\")","v":""},null,null,null,null,{"$f":"VLOOKUP(Y1104,[1]SRA!$S$4:$Z$368,7,0)","v":{"$error":"#N/A"}},"","",""]
["53woND",{"$f":"VLOOKUP($AA1106,DATA!$B$3:$E$6,2,0)","v":"22:30:00"},{"$f":"VLOOKUP($AA1106,DATA!$B$3:$E$6,3,0)","v":"06:30:00"},{"$f":"VLOOKUP($AA1106,DATA!$B$3:$E$6,4,0)","v":3.125E-2},0.30208333333333326,0.30208333333333326,{"$f":"DATA!$C$9","v":0.89},{"$f":"DATA!$C$10","v":64},1,407.81249999999989,407.81249999999989,0,"","",0,"","",0,"","","","",null,{"$f":"X1108","v":53},null,{"$f":"TEXT(Y1104,\"ddd\")","v":"wo"},"ND",{"$f":"IFERROR(HLOOKUP(Y1104,[1]DATA!$A$1:$NB$5,5,0),\"\")","v":""},null,null,null,null,{"$f":"VLOOKUP(Y1104,[1]SRA!$S$4:$Z$368,8,0)","v":{"$error":"#N/A"}},"","",""]
["53doDD",{"$f":"VLOOKUP($AA1107,DATA!$B$3:$E$6,2,0)","v":"06:30:00"},{"$f":"VLOOKUP($AA1107,DATA!$B$3:$E$6,3,0)","v":"14:30:00"},{"$f":"VLOOKUP($AA1107,DATA!$B$3:$E$6,4,0)","v":3.125E-2},0.30208333333333331,0.30208333333333331,{"$f":"DATA!$C$9","v":0.89},{"$f":"DATA!$C$10","v":64},1,407.8125,407.8125,0,"","",0,"","",0,"","","","",null,{"$f":"X1108","v":53},"2019-01-03",{"$f":"TEXT(Y1107,\"ddd\")","v":"do"},"DD",{"$f":"IFERROR(HLOOKUP(Y1107,[1]DATA!$A$1:$NB$5,3,0),\"\")","v":""},null,null,null,null,{"$f":"VLOOKUP(Y1107,[1]SRA!$S$4:$Z$368,6,0)","v":{"$error":"#N/A"}},"","",""]
["53doMD",{"$f":"VLOOKUP($AA1108,DATA!$B$3:$E$6,2,0)","v":"14:30:00"},{"$f":"VLOOKUP($AA1108,DATA!$B$3:$E$6,3,0)","v":"22:30:00"},{"$f":"VLOOKUP($AA1108,DATA!$B$3:$E$6,4,0)","v":3.125E-2},0.30208333333333337,0.30208333333333337,{"$f":"DATA!$C$9","v":0.89},{"$f":"DATA!$C$10","v":64},1,407.81250000000006,407.81250000000006,0,"","",0,"","",0,"","","","",null,{"$f":"WEEKNUM($Y1098)","v":53},null,{"$f":"TEXT(Y1107,\"ddd\")","v":"do"},"MD",{"$f":"IFERROR(HLOOKUP(Y1107,[1]DATA!$A$1:$NB$5,4,0),\"\")","v":""},null,null,null,null,{"$f":"VLOOKUP(Y1107,[1]SRA!$S$4:$Z$368,7,0)","v":{"$error":"#N/A"}},"","",""]
["53doND",{"$f":"VLOOKUP($AA1109,DATA!$B$3:$E$6,2,0)","v":"22:30:00"},{"$f":"VLOOKUP($AA1109,DATA!$B$3:$E$6,3,0)","v":"06:30:00"},{"$f":"VLOOKUP($AA1109,DATA!$B$3:$E$6,4,0)","v":3.125E-2},0.30208333333333326,0.30208333333333326,{"$f":"DATA!$C$9","v":0.89},{"$f":"DATA!$C$10","v":64},1,407.81249999999989,407.81249999999989,0,"","",0,"","",0,"","","","",null,{"$f":"X1108","v":53},null,{"$f":"TEXT(Y1107,\"ddd\")","v":"do"},"ND",{"$f":"IFERROR(HLOOKUP(Y1107,[1]DATA!$A$1:$NB$5,5,0),\"\")","v":""},null,null,null,null,{"$f":"VLOOKUP(Y1107,[1]SRA!$S$4:$Z$368,8,0)","v":{"$error":"#N/A"}},"","",""]
["53vrDD",{"$f":"VLOOKUP($AA1110,DATA!$B$3:$E$6,2,0)","v":"06:30:00"},{"$f":"VLOOKUP($AA1110,DATA!$B$3:$E$6,3,0)","v":"14:30:00"},{"$f":"VLOOKUP($AA1110,DATA!$B$3:$E$6,4,0)","v":3.125E-2},0.30208333333333331,0.30208333333333331,{"$f":"DATA!$C$9","v":0.89},{"$f":"DATA!$C$10","v":64},1,407.8125,407.8125,0,"","",0,"","",0,"","","","",null,{"$f":"X1108","v":53},"2019-01-04",{"$f":"TEXT(Y1110,\"ddd\")","v":"vr"},"DD",{"$f":"IFERROR(HLOOKUP(Y1110,[1]DATA!$A$1:$NB$5,3,0),\"\")","v":""},null,null,null,null,{"$f":"VLOOKUP(Y1110,[1]SRA!$S$4:$Z$368,6,0)","v":{"$error":"#N/A"}},"","",""]
["53vrMD",{"$f":"VLOOKUP($AA1111,DATA!$B$3:$E$6,2,0)","v":"14:30:00"},{"$f":"VLOOKUP($AA1111,DATA!$B$3:$E$6,3,0)","v":"22:30:00"},{"$f":"VLOOKUP($AA1111,DATA!$B$3:$E$6,4,0)","v":3.125E-2},0.30208333333333337,0.30208333333333337,{"$f":"DATA!$C$9","v":0.89},{"$f":"DATA!$C$10","v":64},1,407.81250000000006,407.81250000000006,0,"","",0,"","",0,"","","","",null,{"$f":"X1108","v":53},null,{"$f":"TEXT(Y1110,\"ddd\")","v":"vr"},"MD",{"$f":"IFERROR(HLOOKUP(Y1110,[1]DATA!$A$1:$NB$5,4,0),\"\")","v":""},null,null,null,null,{"$f":"VLOOKUP(Y1110,[1]SRA!$S$4:$Z$368,7,0)","v":{"$error":"#N/A"}},"","",""]
["53vrND",{"$f":"VLOOKUP($AA1112,DATA!$B$3:$E$6,2,0)","v":"22:30:00"},{"$f":"VLOOKUP($AA1112,DATA!$B$3:$E$6,3,0)","v":"06:30:00"},{"$f":"VLOOKUP($AA1112,DATA!$B$3:$E$6,4,0)","v":3.125E-2},0.30208333333333326,0.30208333333333326,{"$f":"DATA!$C$9","v":0.89},{"$f":"DATA!$C$10","v":64},1,407.81249999999989,407.81249999999989,0,"","",0,"","",0,"","","","",null,{"$f":"X1108","v":53},null,{"$f":"TEXT(Y1110,\"ddd\")","v":"vr"},"ND",{"$f":"IFERROR(HLOOKUP(Y1110,[1]DATA!$A$1:$NB$5,5,0),\"\")","v":""},null,null,null,null,{"$f":"VLOOKUP(Y1110,[1]SRA!$S$4:$Z$368,8,0)","v":{"$error":"#N/A"}},"","",""]
["53zaDD",{"$f":"VLOOKUP($AA1113,DATA!$B$3:$E$6,2,0)","v":"06:30:00"},{"$f":"VLOOKUP($AA1113,DATA!$B$3:$E$6,3,0)","v":"14:30:00"},{"$f":"VLOOKUP($AA1113,DATA!$B$3:$E$6,4,0)","v":3.125E-2},0.30208333333333331,0.30208333333333331,{"$f":"DATA!$C$9","v":0.89},{"$f":"DATA!$C$10","v":64},1,407.8125,407.8125,0,"","",0,"","",0,"","","","",null,{"$f":"X1108","v":53},"2019-01-05",{"$f":"TEXT(Y1113,\"ddd\")","v":"za"},"DD",{"$f":"IFERROR(HLOOKUP(Y1113,[1]DATA!$A$1:$NB$5,3,0),\"\")","v":""},null,null,null,null,{"$f":"VLOOKUP(Y1113,[1]SRA!$S$4:$Z$368,6,0)","v":{"$error":"#N/A"}},"","",""]
["53zaMD",{"$f":"VLOOKUP($AA1114,DATA!$B$3:$E$6,2,0)","v":"14:30:00"},{"$f":"VLOOKUP($AA1114,DATA!$B$3:$E$6,3,0)","v":"22:30:00"},{"$f":"VLOOKUP($AA1114,DATA!$B$3:$E$6,4,0)","v":3.125E-2},0.30208333333333337,0.30208333333333337,{"$f":"DATA!$C$9","v":0.89},{"$f":"DATA!$C$10","v":64},1,407.81250000000006,407.81250000000006,0,"","",0,"","",0,"","","","",null,{"$f":"X1108","v":53},null,{"$f":"TEXT(Y1113,\"ddd\")","v":"za"},"MD",{"$f":"IFERROR(HLOOKUP(Y1113,[1]DATA!$A$1:$NB$5,4,0),\"\")","v":""},null,null,null,null,{"$f":"VLOOKUP(Y1113,[1]SRA!$S$4:$Z$368,7,0)","v":{"$error":"#N/A"}},"","",""]
["53zaND",{"$f":"VLOOKUP($AA1115,DATA!$B$3:$E$6,2,0)","v":"22:30:00"},{"$f":"VLOOKUP($AA1115,DATA!$B$3:$E$6,3,0)","v":"06:30:00"},{"$f":"VLOOKUP($AA1115,DATA!$B$3:$E$6,4,0)","v":3.125E-2},0.30208333333333326,0.30208333333333326,{"$f":"DATA!$C$9","v":0.89},{"$f":"DATA!$C$10","v":64},1,407.81249999999989,407.81249999999989,0,"","",0,"","",0,"","","","",null,{"$f":"X1108","v":53},null,{"$f":"TEXT(Y1113,\"ddd\")","v":"za"},"ND",{"$f":"IFERROR(HLOOKUP(Y1113,[1]DATA!$A$1:$NB$5,5,0),\"\")","v":""},null,null,null,null,{"$f":"VLOOKUP(Y1113,[1]SRA!$S$4:$Z$368,8,0)","v":{"$error":"#N/A"}},"","",""]
["53zoDD",{"$f":"VLOOKUP($AA1116,DATA!$B$3:$E$6,2,0)","v":"06:30:00"},{"$f":"VLOOKUP($AA1116,DATA!$B$3:$E$6,3,0)","v":"14:30:00"},{"$f":"VLOOKUP($AA1116,DATA!$B$3:$E$6,4,0)","v":3.125E-2},{"$f":"(C1116-B1116+(B1116>C1116))-D1116","v":0.30208333333333331},{"$f":"E1116-O1116-L1116","v":0.30208333333333331},{"$f":"DATA!$C$9","v":0.89},{"$f":"DATA!$C$10","v":64},1,{"$f":"F1116*86400/H1116*I1116","v":407.8125},{"$f":"E1116*86400/H1116","v":407.8125},0,"","",0,"","",{"$f":"AF1116*AG$2","v":0},{"$f":"IF(AF1116-AE1116=0,\"\",AF1116-AE1116)","v":""},"","","",null,{"$f":"X1108","v":53},"2019-01-06",{"$f":"TEXT(Y1116,\"ddd\")","v":"zo"},"DD",{"$f":"IFERROR(HLOOKUP(Y1116,[1]DATA!$A$1:$NB$5,3,0),\"\")","v":""},null,null,null,null,{"$f":"VLOOKUP(Y1116,[1]SRA!$S$4:$Z$368,6,0)","v":{"$error":"#N/A"}},"","",""]
["53zoMD",{"$f":"VLOOKUP($AA1117,DATA!$B$3:$E$6,2,0)","v":"14:30:00"},{"$f":"VLOOKUP($AA1117,DATA!$B$3:$E$6,3,0)","v":"22:30:00"},{"$f":"VLOOKUP($AA1117,DATA!$B$3:$E$6,4,0)","v":3.125E-2},0.30208333333333337,0.30208333333333337,{"$f":"DATA!$C$9","v":0.89},{"$f":"DATA!$C$10","v":64},1,407.81250000000006,407.81250000000006,0,"","",0,"","",0,"","","","",null,{"$f":"X1108","v":53},null,{"$f":"TEXT(Y1116,\"ddd\")","v":"zo"},"MD",{"$f":"IFERROR(HLOOKUP(Y1116,[1]DATA!$A$1:$NB$5,4,0),\"\")","v":""},null,null,null,null,{"$f":"VLOOKUP(Y1116,[1]SRA!$S$4:$Z$368,7,0)","v":{"$error":"#N/A"}},"","",""]
["53zoZND",{"$f":"VLOOKUP($AA1118,DATA!$B$3:$E$6,2,0)","v":"00:00:00"},{"$f":"VLOOKUP($AA1118,DATA!$B$3:$E$6,3,0)","v":"00:00:00"},{"$f":"VLOOKUP($AA1118,DATA!$B$3:$E$6,4,0)","v":0},0,0,{"$f":"DATA!$C$9","v":0.89},{"$f":"DATA!$C$10","v":64},1,0,0,0,"","",0,"","",0,"","","","",null,{"$f":"X1108","v":53},null,{"$f":"TEXT(Y1116,\"ddd\")","v":"zo"},"ZND",{"$f":"IFERROR(HLOOKUP(Y1116,[1]DATA!$A$1:$NB$5,5,0),\"\")","v":""},null,null,null,null,{"$f":"VLOOKUP(Y1116,[1]SRA!$S$4:$Z$368,8,0)","v":{"$error":"#N/A"}},"","",""]

{"sheet":"Grafieken","index":3,"n_rows":20,"n_cols":28,"rows_kept":20,"cut":false,"hidden":false,"merged":[[9,27,11,27]]}
[]
[]
[null,null,null,null,null,null,null,null,null,null,null,null,null,null,null,0.89]
[null,null,null,null,null,null,null,null,null,null,null,null,null,null,null,0.89]
[null,null,null,null,null,null,null,null,null,null,null,null,null,null,null,0.89]
[null,null,null,null,null,null,null,null,null,null,null,null,null,null,null,0.89]
[null,null,null,null,null,null,null,null,null,null,null,null,null,null,null,0.89]
[null,null,null,null,null,null,null,null,null,null,null,null,null,null,null,0.89]
[null,null,null,null,null,null,null,null,null,null,null,null,null,null,null,0.89,null,null,null,null,null,null,null,null,null,null,null,"Week"]
[null,null,null,null,null,null,null,null,null,null,null,null,null,null,null,0.89,null,null,null,null,null,null,null,null,null,null,null,39]
[null,null,null,null,null,null,null,null,null,null,null,null,null,null,null,0.89]
[null,null,null,null,null,null,null,null,null,null,null,null,null,null,null,0.89]
[null,null,null,null,null,null,null,null,null,null,null,null,null,null,null,0.89]
[null,null,null,null,null,null,null,null,null,null,null,null,null,null,null,0.89]
[null,null,null,null,null,null,null,null,null,null,null,null,null,null,null,0.89]
[null,null,null,null,null,null,null,null,null,null,null,null,null,null,null,0.89]
[null,null,null,null,null,null,null,null,null,null,null,null,null,null,null,0.89]
[null,null,null,null,null,null,null,null,null,null,null,null,null,null,null,0.89]
[null,null,null,null,null,null,null,null,null,null,null,null,null,null,null,0.89]
[null,null,null,null,null,null,null,null,null,null,null,null,null,null,null,0.89]

{"sheet":"Data voor grafieken","index":4,"n_rows":63,"n_cols":23,"rows_kept":63,"cut":false,"hidden":true,"merged":[[20,1,21,1],[33,1,34,1],[33,20,33,22],[2,18,9,18],[11,18,18,18],[33,2,33,4],[33,5,33,7],[33,8,33,10],[33,11,33,13],[33,14,33,16],[33,17,33,19],[20,11,20,16],[20,2,20,7]]}
[{"$f":"Grafieken!AB10","v":39},0]
[null,"Week",null,null,"Parts Target\n[TA 100%]","Parts Actual","Availability (Total Time)\n[%]","Loss due to Blocked/ Starved\n[Theoretical]","Loss Blocked/ Starved [%]","Loss due to\nPlanned Stop/ Early Finish","Loss \nPlanned Stop/ Early Finish\n[%]","Technical Availability Total\n[%]","Technical Availability \nShift D1\n[%]","Technical Availability Shift D2\n[%]","Technical Availability Shift D3\n[%]","Downtime [Parts]","Total Downtime\n[%]","Target TA [%]"]
[2017,{"$f":"B4-1","v":33},null,null,{"$f":"VLOOKUP($B3,'TA SRA LH'!$X$6:$AY$1118,14,FALSE)","v":6117.1875},{"$f":"VLOOKUP($B3,'TA SRA LH'!$X$6:$AY$1118,15,FALSE)","v":4056},{"$f":"VLOOKUP($B3,'TA SRA LH'!$X$6:$AY$1118,16,FALSE)","v":0.66304980842911876},{"$f":"VLOOKUP($B3,'TA SRA LH'!$X$6:$AY$1118,17,FALSE)","v":1385.625},{"$f":"VLOOKUP($B3,'TA SRA LH'!$X$6:$AY$1118,18,FALSE)","v":0.22651340996168581},{"$f":"VLOOKUP($B3,'TA SRA LH'!$X$6:$AY$1118,19,FALSE)","v":0},{"$f":"VLOOKUP($B3,'TA SRA LH'!$X$6:$AY$1118,20,FALSE)","v":0},{"$f":"VLOOKUP($B3,'TA SRA LH'!$X$6:$AY$1118,21,FALSE)","v":0.92979645914256848},{"$f":"VLOOKUP($B3,'TA SRA LH'!$X$6:$AY$1118,22,FALSE)","v":0.89449666894718938},{"$f":"VLOOKUP($B3,'TA SRA LH'!$X$6:$AY$1118,23,FALSE)","v":0.94218669076104111},{"$f":"VLOOKUP($B3,'TA SRA LH'!$X$6:$AY$1118,24,FALSE)","v":0.95533584945908345},{"$f":"VLOOKUP($B3,'TA SRA LH'!$X$6:$AY$1118,25,FALSE)","v":675.5625},{"$f":"VLOOKUP($B3,'TA SRA LH'!$X$6:$AY$1118,26,FALSE)","v":0.11043678160919543},{"$f":"DATA!$C$9","v":0.89},"SRI LH"]
[null,34,null,null,{"$f":"VLOOKUP($B4,'TA SRA LH'!$X$6:$AY$1118,14,FALSE)","v":6117.1875},{"$f":"VLOOKUP($B4,'TA SRA LH'!$X$6:$AY$1118,15,FALSE)","v":4369},{"$f":"VLOOKUP($B4,'TA SRA LH'!$X$6:$AY$1118,16,FALSE)","v":0.71421711366538954},{"$f":"VLOOKUP($B4,'TA SRA LH'!$X$6:$AY$1118,17,FALSE)","v":340.3125},{"$f":"VLOOKUP($B4,'TA SRA LH'!$X$6:$AY$1118,18,FALSE)","v":5.563218390804598E-2},{"$f":"VLOOKUP($B4,'TA SRA LH'!$X$6:$AY$1118,19,FALSE)","v":0},{"$f":"VLOOKUP($B4,'TA SRA LH'!$X$6:$AY$1118,20,FALSE)","v":0},{"$f":"VLOOKUP($B4,'TA SRA LH'!$X$6:$AY$1118,21,FALSE)","v":0.95457116883881155},{"$f":"VLOOKUP($B4,'TA SRA LH'!$X$6:$AY$1118,22,FALSE)","v":0.94647657730063572},{"$f":"VLOOKUP($B4,'TA SRA LH'!$X$6:$AY$1118,23,FALSE)","v":0.98246868463257564},{"$f":"VLOOKUP($B4,'TA SRA LH'!$X$6:$AY$1118,24,FALSE)","v":0.93476824458322327},{"$f":"VLOOKUP($B4,'TA SRA LH'!$X$6:$AY$1118,25,FALSE)","v":1407.875},{"$f":"VLOOKUP($B4,'TA SRA LH'!$X$6:$AY$1118,26,FALSE)","v":0.23015070242656449},{"$f":"DATA!$C$9","v":0.89}]
[null,35,null,null,{"$f":"VLOOKUP($B5,'TA SRA LH'!$X$6:$AY$1118,14,FALSE)","v":5709.375},{"$f":"VLOOKUP($B5,'TA SRA LH'!$X$6:$AY$1118,15,FALSE)","v":4253},{"$f":"VLOOKUP($B5,'TA SRA LH'!$X$6:$AY$1118,16,FALSE)","v":0.74491516146688563},{"$f":"VLOOKUP($B5,'TA SRA LH'!$X$6:$AY$1118,17,FALSE)","v":226.875},{"$f":"VLOOKUP($B5,'TA SRA LH'!$X$6:$AY$1118,18,FALSE)","v":3.9737274220032842E-2},{"$f":"VLOOKUP($B5,'TA SRA LH'!$X$6:$AY$1118,19,FALSE)","v":0},{"$f":"VLOOKUP($B5,'TA SRA LH'!$X$6:$AY$1118,20,FALSE)","v":0},{"$f":"VLOOKUP($B5,'TA SRA LH'!$X$6:$AY$1118,21,FALSE)","v":0.94535297124146089},{"$f":"VLOOKUP($B5,'TA SRA LH'!$X$6:$AY$1118,22,FALSE)","v":0.96240362054366069},{"$f":"VLOOKUP($B5,'TA SRA LH'!$X$6:$AY$1118,23,FALSE)","v":0.94524695098846312},{"$f":"VLOOKUP($B5,'TA SRA LH'!$X$6:$AY$1118,24,FALSE)","v":0.93181847205269874},{"$f":"VLOOKUP($B5,'TA SRA LH'!$X$6:$AY$1118,25,FALSE)","v":1229.5},{"$f":"VLOOKUP($B5,'TA SRA LH'!$X$6:$AY$1118,26,FALSE)","v":0.21534756431308152},{"$f":"DATA!$C$9","v":0.89}]
[null,{"$f":"B7-1","v":36},null,null,{"$f":"VLOOKUP($B6,'TA SRA LH'!$X$6:$AY$1118,14,FALSE)","v":6117.1875},{"$f":"VLOOKUP($B6,'TA SRA LH'!$X$6:$AY$1118,15,FALSE)","v":4098},{"$f":"VLOOKUP($B6,'TA SRA LH'!$X$6:$AY$1118,16,FALSE)","v":0.66991570881226059},{"$f":"VLOOKUP($B6,'TA SRA LH'!$X$6:$AY$1118,17,FALSE)","v":300},{"$f":"VLOOKUP($B6,'TA SRA LH'!$X$6:$AY$1118,18,FALSE)","v":4.9042145593869733E-2},{"$f":"VLOOKUP($B6,'TA SRA LH'!$X$6:$AY$1118,19,FALSE)","v":0},{"$f":"VLOOKUP($B6,'TA SRA LH'!$X$6:$AY$1118,20,FALSE)","v":0},{"$f":"VLOOKUP($B6,'TA SRA LH'!$X$6:$AY$1118,21,FALSE)","v":0.93685076684200952},{"$f":"VLOOKUP($B6,'TA SRA LH'!$X$6:$AY$1118,22,FALSE)","v":0.90694687551385333},{"$f":"VLOOKUP($B6,'TA SRA LH'!$X$6:$AY$1118,23,FALSE)","v":0.9128004683081008},{"$f":"VLOOKUP($B6,'TA SRA LH'!$X$6:$AY$1118,24,FALSE)","v":0.99080495670407376},{"$f":"VLOOKUP($B6,'TA SRA LH'!$X$6:$AY$1118,25,FALSE)","v":1719.1875},{"$f":"VLOOKUP($B6,'TA SRA LH'!$X$6:$AY$1118,26,FALSE)","v":0.2810421455938697},{"$f":"DATA!$C$9","v":0.89}]
[null,{"$f":"B8-1","v":37},null,null,{"$f":"VLOOKUP($B7,'TA SRA LH'!$X$6:$AY$1118,14,FALSE)","v":6117.1875},{"$f":"VLOOKUP($B7,'TA SRA LH'!$X$6:$AY$1118,15,FALSE)","v":4499},{"$f":"VLOOKUP($B7,'TA SRA LH'!$X$6:$AY$1118,16,FALSE)","v":0.73546871008939974},{"$f":"VLOOKUP($B7,'TA SRA LH'!$X$6:$AY$1118,17,FALSE)","v":251.25},{"$f":"VLOOKUP($B7,'TA SRA LH'!$X$6:$AY$1118,18,FALSE)","v":4.1072796934865902E-2},{"$f":"VLOOKUP($B7,'TA SRA LH'!$X$6:$AY$1118,19,FALSE)","v":0},{"$f":"VLOOKUP($B7,'TA SRA LH'!$X$6:$AY$1118,20,FALSE)","v":0},{"$f":"VLOOKUP($B7,'TA SRA LH'!$X$6:$AY$1118,21,FALSE)","v":0.97007873037215131},{"$f":"VLOOKUP($B7,'TA SRA LH'!$X$6:$AY$1118,22,FALSE)","v":0.96518225509659406},{"$f":"VLOOKUP($B7,'TA SRA LH'!$X$6:$AY$1118,23,FALSE)","v":0.96488041096565702},{"$f":"VLOOKUP($B7,'TA SRA LH'!$X$6:$AY$1118,24,FALSE)","v":0.98017352505420285},{"$f":"VLOOKUP($B7,'TA SRA LH'!$X$6:$AY$1118,25,FALSE)","v":1366.9375},{"$f":"VLOOKUP($B7,'TA SRA LH'!$X$6:$AY$1118,26,FALSE)","v":0.22345849297573436},{"$f":"DATA!$C$9","v":0.89}]
[null,38,null,null,{"$f":"VLOOKUP($B8,'TA SRA LH'!$X$6:$AY$1118,14,FALSE)","v":6117.1875},{"$f":"VLOOKUP($B8,'TA SRA LH'!$X$6:$AY$1118,15,FALSE)","v":4156},{"$f":"VLOOKUP($B8,'TA SRA LH'!$X$6:$AY$1118,16,FALSE)","v":0.67939719029374201},{"$f":"VLOOKUP($B8,'TA SRA LH'!$X$6:$AY$1118,17,FALSE)","v":338.4375},{"$f":"VLOOKUP($B8,'TA SRA LH'!$X$6:$AY$1118,18,FALSE)","v":5.5325670498084289E-2},{"$f":"VLOOKUP($B8,'TA SRA LH'!$X$6:$AY$1118,19,FALSE)","v":0},{"$f":"VLOOKUP($B8,'TA SRA LH'!$X$6:$AY$1118,20,FALSE)","v":0},{"$f":"VLOOKUP($B8,'TA SRA LH'!$X$6:$AY$1118,21,FALSE)","v":0.85637664787417578},{"$f":"VLOOKUP($B8,'TA SRA LH'!$X$6:$AY$1118,22,FALSE)","v":0.86554761525458335},{"$f":"VLOOKUP($B8,'TA SRA LH'!$X$6:$AY$1118,23,FALSE)","v":0.92841647221391577},{"$f":"VLOOKUP($B8,'TA SRA LH'!$X$6:$AY$1118,24,FALSE)","v":0.76259208476216145},{"$f":"VLOOKUP($B8,'TA SRA LH'!$X$6:$AY$1118,25,FALSE)","v":1622.75},{"$f":"VLOOKUP($B8,'TA SRA LH'!$X$6:$AY$1118,26,FALSE)","v":0.2652771392081737},{"$f":"DATA!$C$9","v":0.89}]
[null,{"$f":"A1","v":39},null,null,{"$f":"VLOOKUP($B9,'TA SRA LH'!$X$6:$AY$1118,14,FALSE)","v":""},{"$f":"VLOOKUP($B9,'TA SRA LH'!$X$6:$AY$1118,15,FALSE)","v":""},{"$f":"VLOOKUP($B9,'TA SRA LH'!$X$6:$AY$1118,16,FALSE)","v":"-"},{"$f":"VLOOKUP($B9,'TA SRA LH'!$X$6:$AY$1118,17,FALSE)","v":"0"},{"$f":"VLOOKUP($B9,'TA SRA LH'!$X$6:$AY$1118,18,FALSE)","v":"-"},{"$f":"VLOOKUP($B9,'TA SRA LH'!$X$6:$AY$1118,19,FALSE)","v":0},{"$f":"VLOOKUP($B9,'TA SRA LH'!$X$6:$AY$1118,20,FALSE)","v":"-"},{"$f":"VLOOKUP($B9,'TA SRA LH'!$X$6:$AY$1118,21,FALSE)","v":0},{"$f":"VLOOKUP($B9,'TA SRA LH'!$X$6:$AY$1118,22,FALSE)","v":""},{"$f":"VLOOKUP($B9,'TA SRA LH'!$X$6:$AY$1118,23,FALSE)","v":""},{"$f":"VLOOKUP($B9,'TA SRA LH'!$X$6:$AY$1118,24,FALSE)","v":""},{"$f":"VLOOKUP($B9,'TA SRA LH'!$X$6:$AY$1118,25,FALSE)","v":"-"},{"$f":"VLOOKUP($B9,'TA SRA LH'!$X$6:$AY$1118,26,FALSE)","v":"-"},{"$f":"DATA!$C$9","v":0.89}]
[null,{"$f":"B9+1","v":40},null,null,{"$f":"VLOOKUP($B10,'TA SRA LH'!$X$6:$AY$1118,14,FALSE)","v":""},{"$f":"VLOOKUP($B10,'TA SRA LH'!$X$6:$AY$1118,15,FALSE)","v":""},{"$f":"VLOOKUP($B10,'TA SRA LH'!$X$6:$AY$1118,16,FALSE)","v":"-"},{"$f":"VLOOKUP($B10,'TA SRA LH'!$X$6:$AY$1118,17,FALSE)","v":"0"},{"$f":"VLOOKUP($B10,'TA SRA LH'!$X$6:$AY$1118,18,FALSE)","v":"-"},{"$f":"VLOOKUP($B10,'TA SRA LH'!$X$6:$AY$1118,19,FALSE)","v":0},{"$f":"VLOOKUP($B10,'TA SRA LH'!$X$6:$AY$1118,20,FALSE)","v":"-"},{"$f":"VLOOKUP($B10,'TA SRA LH'!$X$6:$AY$1118,21,FALSE)","v":"-"},{"$f":"VLOOKUP($B10,'TA SRA LH'!$X$6:$AY$1118,22,FALSE)","v":""},{"$f":"VLOOKUP($B10,'TA SRA LH'!$X$6:$AY$1118,23,FALSE)","v":""},{"$f":"VLOOKUP($B10,'TA SRA LH'!$X$6:$AY$1118,24,FALSE)","v":""},{"$f":"VLOOKUP($B10,'TA SRA LH'!$X$6:$AY$1118,25,FALSE)","v":"-"},{"$f":"VLOOKUP($B10,'TA SRA LH'!$X$6:$AY$1118,26,FALSE)","v":"-"},{"$f":"DATA!$C$9","v":0.89}]
[]
[null,{"$f":"$B$3","v":33},null,null,{"$f":"VLOOKUP($B12,'TA SRA RH'!$X$6:$AY$1118,14,FALSE)","v":6117.1875},{"$f":"VLOOKUP($B12,'TA SRA RH'!$X$6:$AY$1118,15,FALSE)","v":3954},{"$f":"VLOOKUP($B12,'TA SRA RH'!$X$6:$AY$1118,16,FALSE)","v":0.64637547892720304},{"$f":"VLOOKUP($B12,'TA SRA RH'!$X$6:$AY$1118,17,FALSE)","v":463.125},{"$f":"VLOOKUP($B12,'TA SRA RH'!$X$6:$AY$1118,18,FALSE)","v":7.5708812260536398E-2},{"$f":"VLOOKUP($B12,'TA SRA RH'!$X$6:$AY$1118,19,FALSE)","v":0},{"$f":"VLOOKUP($B12,'TA SRA RH'!$X$6:$AY$1118,20,FALSE)","v":0},{"$f":"VLOOKUP($B12,'TA SRA RH'!$X$6:$AY$1118,21,FALSE)","v":0.96365719109923964},{"$f":"VLOOKUP($B12,'TA SRA RH'!$X$6:$AY$1118,22,FALSE)","v":0.99112542100682255},{"$f":"VLOOKUP($B12,'TA SRA RH'!$X$6:$AY$1118,23,FALSE)","v":0.94363213907825527},{"$f":"VLOOKUP($B12,'TA SRA RH'!$X$6:$AY$1118,24,FALSE)","v":0.95935948174623809},{"$f":"VLOOKUP($B12,'TA SRA RH'!$X$6:$AY$1118,25,FALSE)","v":1700.0625},{"$f":"VLOOKUP($B12,'TA SRA RH'!$X$6:$AY$1118,26,FALSE)","v":0.27791570881226058},{"$f":"DATA!$C$9","v":0.89},"SRI RH"]
[null,{"$f":"$B$4","v":34},null,null,{"$f":"VLOOKUP($B13,'TA SRA RH'!$X$6:$AY$1118,14,FALSE)","v":6117.1875},{"$f":"VLOOKUP($B13,'TA SRA RH'!$X$6:$AY$1118,15,FALSE)","v":4440},{"$f":"VLOOKUP($B13,'TA SRA RH'!$X$6:$AY$1118,16,FALSE)","v":0.72582375478927208},{"$f":"VLOOKUP($B13,'TA SRA RH'!$X$6:$AY$1118,17,FALSE)","v":352.5},{"$f":"VLOOKUP($B13,'TA SRA RH'!$X$6:$AY$1118,18,FALSE)","v":5.7624521072796933E-2},{"$f":"VLOOKUP($B13,'TA SRA RH'!$X$6:$AY$1118,19,FALSE)","v":0},{"$f":"VLOOKUP($B13,'TA SRA RH'!$X$6:$AY$1118,20,FALSE)","v":0},{"$f":"VLOOKUP($B13,'TA SRA RH'!$X$6:$AY$1118,21,FALSE)","v":0.96876336532219176},{"$f":"VLOOKUP($B13,'TA SRA RH'!$X$6:$AY$1118,22,FALSE)","v":0.98995554162993871},{"$f":"VLOOKUP($B13,'TA SRA RH'!$X$6:$AY$1118,23,FALSE)","v":0.9712603917003374},{"$f":"VLOOKUP($B13,'TA SRA RH'!$X$6:$AY$1118,24,FALSE)","v":0.9450741626362994},{"$f":"VLOOKUP($B13,'TA SRA RH'!$X$6:$AY$1118,25,FALSE)","v":1324.6875},{"$f":"VLOOKUP($B13,'TA SRA RH'!$X$6:$AY$1118,26,FALSE)","v":0.216551724137931},{"$f":"DATA!$C$9","v":0.89}]
[null,{"$f":"$B$5","v":35},null,null,{"$f":"VLOOKUP($B14,'TA SRA RH'!$X$6:$AY$1118,14,FALSE)","v":5709.375},{"$f":"VLOOKUP($B14,'TA SRA RH'!$X$6:$AY$1118,15,FALSE)","v":4273},{"$f":"VLOOKUP($B14,'TA SRA RH'!$X$6:$AY$1118,16,FALSE)","v":0.74841817186644777},{"$f":"VLOOKUP($B14,'TA SRA RH'!$X$6:$AY$1118,17,FALSE)","v":280.3125},{"$f":"VLOOKUP($B14,'TA SRA RH'!$X$6:$AY$1118,18,FALSE)","v":4.9096880131362888E-2},{"$f":"VLOOKUP($B14,'TA SRA RH'!$X$6:$AY$1118,19,FALSE)","v":0},{"$f":"VLOOKUP($B14,'TA SRA RH'!$X$6:$AY$1118,20,FALSE)","v":0},{"$f":"VLOOKUP($B14,'TA SRA RH'!$X$6:$AY$1118,21,FALSE)","v":0.95896089525496542},{"$f":"VLOOKUP($B14,'TA SRA RH'!$X$6:$AY$1118,22,FALSE)","v":0.98615149284982961},{"$f":"VLOOKUP($B14,'TA SRA RH'!$X$6:$AY$1118,23,FALSE)","v":0.97482626346038415},{"$f":"VLOOKUP($B14,'TA SRA RH'!$X$6:$AY$1118,24,FALSE)","v":0.92134304897365527},{"$f":"VLOOKUP($B14,'TA SRA RH'!$X$6:$AY$1118,25,FALSE)","v":1156.0625},{"$f":"VLOOKUP($B14,'TA SRA RH'!$X$6:$AY$1118,26,FALSE)","v":0.20248494800218936},{"$f":"DATA!$C$9","v":0.89}]
[null,{"$f":"$B$6","v":36},null,null,{"$f":"VLOOKUP($B15,'TA SRA RH'!$X$6:$AY$1118,14,FALSE)","v":6117.1875},{"$f":"VLOOKUP($B15,'TA SRA RH'!$X$6:$AY$1118,15,FALSE)","v":4137},{"$f":"VLOOKUP($B15,'TA SRA RH'!$X$6:$AY$1118,16,FALSE)","v":0.67629118773946362},{"$f":"VLOOKUP($B15,'TA SRA RH'!$X$6:$AY$1118,17,FALSE)","v":284.0625},{"$f":"VLOOKUP($B15,'TA SRA RH'!$X$6:$AY$1118,18,FALSE)","v":4.6436781609195399E-2},{"$f":"VLOOKUP($B15,'TA SRA RH'!$X$6:$AY$1118,19,FALSE)","v":0},{"$f":"VLOOKUP($B15,'TA SRA RH'!$X$6:$AY$1118,20,FALSE)","v":0},{"$f":"VLOOKUP($B15,'TA SRA RH'!$X$6:$AY$1118,21,FALSE)","v":0.96540016965616149},{"$f":"VLOOKUP($B15,'TA SRA RH'!$X$6:$AY$1118,22,FALSE)","v":0.97013714640018678},{"$f":"VLOOKUP($B15,'TA SRA RH'!$X$6:$AY$1118,23,FALSE)","v":0.95748334499190091},{"$f":"VLOOKUP($B15,'TA SRA RH'!$X$6:$AY$1118,24,FALSE)","v":0.96858001757639656},{"$f":"VLOOKUP($B15,'TA SRA RH'!$X$6:$AY$1118,25,FALSE)","v":1696.125},{"$f":"VLOOKUP($B15,'TA SRA RH'!$X$6:$AY$1118,26,FALSE)","v":0.27727203065134098},{"$f":"DATA!$C$9","v":0.89}]
[null,{"$f":"$B$7","v":37},null,null,{"$f":"VLOOKUP($B16,'TA SRA RH'!$X$6:$AY$1118,14,FALSE)","v":6117.1875},{"$f":"VLOOKUP($B16,'TA SRA RH'!$X$6:$AY$1118,15,FALSE)","v":4511},{"$f":"VLOOKUP($B16,'TA SRA RH'!$X$6:$AY$1118,16,FALSE)","v":0.73743039591315451},{"$f":"VLOOKUP($B16,'TA SRA RH'!$X$6:$AY$1118,17,FALSE)","v":313.125},{"$f":"VLOOKUP($B16,'TA SRA RH'!$X$6:$AY$1118,18,FALSE)","v":5.1187739463601535E-2},{"$f":"VLOOKUP($B16,'TA SRA RH'!$X$6:$AY$1118,19,FALSE)","v":0},{"$f":"VLOOKUP($B16,'TA SRA RH'!$X$6:$AY$1118,20,FALSE)","v":0},{"$f":"VLOOKUP($B16,'TA SRA RH'!$X$6:$AY$1118,21,FALSE)","v":0.97425093261704676},{"$f":"VLOOKUP($B16,'TA SRA RH'!$X$6:$AY$1118,22,FALSE)","v":0.97914732382090364},{"$f":"VLOOKUP($B16,'TA SRA RH'!$X$6:$AY$1118,23,FALSE)","v":0.95887431554580138},{"$f":"VLOOKUP($B16,'TA SRA RH'!$X$6:$AY$1118,24,FALSE)","v":0.98473115848443515},{"$f":"VLOOKUP($B16,'TA SRA RH'!$X$6:$AY$1118,25,FALSE)","v":1293.0625},{"$f":"VLOOKUP($B16,'TA SRA RH'!$X$6:$AY$1118,26,FALSE)","v":0.21138186462324396},{"$f":"DATA!$C$9","v":0.89}]
[null,{"$f":"$B$8","v":38},null,null,{"$f":"VLOOKUP($B17,'TA SRA RH'!$X$6:$AY$1118,14,FALSE)","v":6117.1875},{"$f":"VLOOKUP($B17,'TA SRA RH'!$X$6:$AY$1118,15,FALSE)","v":4310},{"$f":"VLOOKUP($B17,'TA SRA RH'!$X$6:$AY$1118,16,FALSE)","v":0.70457215836526177},{"$f":"VLOOKUP($B17,'TA SRA RH'!$X$6:$AY$1118,17,FALSE)","v":239.0625},{"$f":"VLOOKUP($B17,'TA SRA RH'!$X$6:$AY$1118,18,FALSE)","v":3.9080459770114942E-2},{"$f":"VLOOKUP($B17,'TA SRA RH'!$X$6:$AY$1118,19,FALSE)","v":0},{"$f":"VLOOKUP($B17,'TA SRA RH'!$X$6:$AY$1118,20,FALSE)","v":0},{"$f":"VLOOKUP($B17,'TA SRA RH'!$X$6:$AY$1118,21,FALSE)","v":0.93299715817416196},{"$f":"VLOOKUP($B17,'TA SRA RH'!$X$6:$AY$1118,22,FALSE)","v":0.91567009413303146},{"$f":"VLOOKUP($B17,'TA SRA RH'!$X$6:$AY$1118,23,FALSE)","v":0.94864001088030214},{"$f":"VLOOKUP($B17,'TA SRA RH'!$X$6:$AY$1118,24,FALSE)","v":0.92808738615969766},{"$f":"VLOOKUP($B17,'TA SRA RH'!$X$6:$AY$1118,25,FALSE)","v":1568.125},{"$f":"VLOOKUP($B17,'TA SRA RH'!$X$6:$AY$1118,26,FALSE)","v":0.2563473818646233},{"$f":"DATA!$C$9","v":0.89}]
[null,{"$f":"$B$9","v":39},null,null,{"$f":"VLOOKUP($B18,'TA SRA RH'!$X$6:$AY$1118,14,FALSE)","v":""},{"$f":"VLOOKUP($B18,'TA SRA RH'!$X$6:$AY$1118,15,FALSE)","v":""},{"$f":"VLOOKUP($B18,'TA SRA RH'!$X$6:$AY$1118,16,FALSE)","v":"-"},{"$f":"VLOOKUP($B18,'TA SRA RH'!$X$6:$AY$1118,17,FALSE)","v":"0"},{"$f":"VLOOKUP($B18,'TA SRA RH'!$X$6:$AY$1118,18,FALSE)","v":"-"},{"$f":"VLOOKUP($B18,'TA SRA RH'!$X$6:$AY$1118,19,FALSE)","v":0},{"$f":"VLOOKUP($B18,'TA SRA RH'!$X$6:$AY$1118,20,FALSE)","v":"-"},{"$f":"VLOOKUP($B18,'TA SRA RH'!$X$6:$AY$1118,21,FALSE)","v":0},{"$f":"VLOOKUP($B18,'TA SRA RH'!$X$6:$AY$1118,22,FALSE)","v":""},{"$f":"VLOOKUP($B18,'TA SRA RH'!$X$6:$AY$1118,23,FALSE)","v":""},{"$f":"VLOOKUP($B18,'TA SRA RH'!$X$6:$AY$1118,24,FALSE)","v":""},{"$f":"VLOOKUP($B18,'TA SRA RH'!$X$6:$AY$1118,25,FALSE)","v":"-"},{"$f":"VLOOKUP($B18,'TA SRA RH'!$X$6:$AY$1118,26,FALSE)","v":"-"},{"$f":"DATA!$C$9","v":0.89}]
[null,{"$f":"$B$10","v":40},null,null,{"$f":"VLOOKUP($B19,'TA SRA RH'!$X$6:$AY$1118,14,FALSE)","v":""},{"$f":"VLOOKUP($B19,'TA SRA RH'!$X$6:$AY$1118,15,FALSE)","v":""},{"$f":"VLOOKUP($B19,'TA SRA RH'!$X$6:$AY$1118,16,FALSE)","v":"-"},{"$f":"VLOOKUP($B19,'TA SRA RH'!$X$6:$AY$1118,17,FALSE)","v":"0"},{"$f":"VLOOKUP($B19,'TA SRA RH'!$X$6:$AY$1118,18,FALSE)","v":"-"},{"$f":"VLOOKUP($B19,'TA SRA RH'!$X$6:$AY$1118,19,FALSE)","v":0},{"$f":"VLOOKUP($B19,'TA SRA RH'!$X$6:$AY$1118,20,FALSE)","v":"-"},{"$f":"VLOOKUP($B19,'TA SRA RH'!$X$6:$AY$1118,21,FALSE)","v":"-"},{"$f":"VLOOKUP($B19,'TA SRA RH'!$X$6:$AY$1118,22,FALSE)","v":""},{"$f":"VLOOKUP($B19,'TA SRA RH'!$X$6:$AY$1118,23,FALSE)","v":""},{"$f":"VLOOKUP($B19,'TA SRA RH'!$X$6:$AY$1118,24,FALSE)","v":""},{"$f":"VLOOKUP($B19,'TA SRA RH'!$X$6:$AY$1118,25,FALSE)","v":"-"},{"$f":"VLOOKUP($B19,'TA SRA RH'!$X$6:$AY$1118,26,FALSE)","v":"-"},{"$f":"DATA!$C$9","v":0.89}]
[]
[null,"Week",{"$f":"\"Technical Downtime SAP \"&DATA!C15","v":"Technical Downtime SAP SRA LH"},null,null,null,null,null,null,null,null,{"$f":"\"Technical Downtime SAP \"&DATA!C16","v":"Technical Downtime SAP SRA RH"}]
[null,null,"F48 [min]","Freq","Running [min]","Freq","Totaal","Feq",null,null,null,"F48 [min]","Freq","Running [min]","Freq","Totaal","Feq"]
[null,{"$f":"$B$3","v":33},{"$f":"VLOOKUP($B23,[1]SRA!$A$4:$P$55,2,0)","v":24},{"$f":"VLOOKUP($B23,[1]SRA!$A$4:$P$55,3,0)","v":5},{"$f":"VLOOKUP($B23,[1]SRA!$A$4:$P$55,4,0)","v":333},{"$f":"VLOOKUP($B23,[1]SRA!$A$4:$P$55,5,0)","v":41},{"$f":"VLOOKUP($B23,[1]SRA!$A$4:$P$55,6,0)","v":357},{"$f":"VLOOKUP($B23,[1]SRA!$A$4:$P$55,7,0)","v":46},null,null,null,{"$f":"VLOOKUP($B23,[1]SRA!$A$4:$P$55,11,0)","v":31},{"$f":"VLOOKUP($B23,[1]SRA!$A$4:$P$55,12,0)","v":3},{"$f":"VLOOKUP($B23,[1]SRA!$A$4:$P$55,13,0)","v":143},{"$f":"VLOOKUP($B23,[1]SRA!$A$4:$P$55,14,0)","v":20},{"$f":"VLOOKUP($B23,[1]SRA!$A$4:$P$55,15,0)","v":174},{"$f":"VLOOKUP($B23,[1]SRA!$A$4:$P$55,16,0)","v":23}]
[null,{"$f":"$B$4","v":34},{"$f":"VLOOKUP($B24,[1]SRA!$A$4:$P$55,2,0)","v":26},{"$f":"VLOOKUP($B24,[1]SRA!$A$4:$P$55,3,0)","v":3},{"$f":"VLOOKUP($B24,[1]SRA!$A$4:$P$55,4,0)","v":233},{"$f":"VLOOKUP($B24,[1]SRA!$A$4:$P$55,5,0)","v":31},{"$f":"VLOOKUP($B24,[1]SRA!$A$4:$P$55,6,0)","v":259},{"$f":"VLOOKUP($B24,[1]SRA!$A$4:$P$55,7,0)","v":34},null,null,null,{"$f":"VLOOKUP($B24,[1]SRA!$A$4:$P$55,11,0)","v":31},{"$f":"VLOOKUP($B24,[1]SRA!$A$4:$P$55,12,0)","v":4},{"$f":"VLOOKUP($B24,[1]SRA!$A$4:$P$55,13,0)","v":134},{"$f":"VLOOKUP($B24,[1]SRA!$A$4:$P$55,14,0)","v":23},{"$f":"VLOOKUP($B24,[1]SRA!$A$4:$P$55,15,0)","v":165},{"$f":"VLOOKUP($B24,[1]SRA!$A$4:$P$55,16,0)","v":27}]
[null,{"$f":"$B$5","v":35},{"$f":"VLOOKUP($B25,[1]SRA!$A$4:$P$55,2,0)","v":88},{"$f":"VLOOKUP($B25,[1]SRA!$A$4:$P$55,3,0)","v":10},{"$f":"VLOOKUP($B25,[1]SRA!$A$4:$P$55,4,0)","v":184},{"$f":"VLOOKUP($B25,[1]SRA!$A$4:$P$55,5,0)","v":32},{"$f":"VLOOKUP($B25,[1]SRA!$A$4:$P$55,6,0)","v":272},{"$f":"VLOOKUP($B25,[1]SRA!$A$4:$P$55,7,0)","v":42},null,null,null,{"$f":"VLOOKUP($B25,[1]SRA!$A$4:$P$55,11,0)","v":51},{"$f":"VLOOKUP($B25,[1]SRA!$A$4:$P$55,12,0)","v":5},{"$f":"VLOOKUP($B25,[1]SRA!$A$4:$P$55,13,0)","v":153},{"$f":"VLOOKUP($B25,[1]SRA!$A$4:$P$55,14,0)","v":23},{"$f":"VLOOKUP($B25,[1]SRA!$A$4:$P$55,15,0)","v":204},{"$f":"VLOOKUP($B25,[1]SRA!$A$4:$P$55,16,0)","v":28}]
[null,{"$f":"$B$6","v":36},{"$f":"VLOOKUP($B26,[1]SRA!$A$4:$P$55,2,0)","v":115},{"$f":"VLOOKUP($B26,[1]SRA!$A$4:$P$55,3,0)","v":11},{"$f":"VLOOKUP($B26,[1]SRA!$A$4:$P$55,4,0)","v":230},{"$f":"VLOOKUP($B26,[1]SRA!$A$4:$P$55,5,0)","v":32},{"$f":"VLOOKUP($B26,[1]SRA!$A$4:$P$55,6,0)","v":345},{"$f":"VLOOKUP($B26,[1]SRA!$A$4:$P$55,7,0)","v":43},null,null,null,{"$f":"VLOOKUP($B26,[1]SRA!$A$4:$P$55,11,0)","v":64},{"$f":"VLOOKUP($B26,[1]SRA!$A$4:$P$55,12,0)","v":4},{"$f":"VLOOKUP($B26,[1]SRA!$A$4:$P$55,13,0)","v":100},{"$f":"VLOOKUP($B26,[1]SRA!$A$4:$P$55,14,0)","v":20},{"$f":"VLOOKUP($B26,[1]SRA!$A$4:$P$55,15,0)","v":164},{"$f":"VLOOKUP($B26,[1]SRA!$A$4:$P$55,16,0)","v":24}]
[null,{"$f":"$B$7","v":37},{"$f":"VLOOKUP($B27,[1]SRA!$A$4:$P$55,2,0)","v":46},{"$f":"VLOOKUP($B27,[1]SRA!$A$4:$P$55,3,0)","v":9},{"$f":"VLOOKUP($B27,[1]SRA!$A$4:$P$55,4,0)","v":167},{"$f":"VLOOKUP($B27,[1]SRA!$A$4:$P$55,5,0)","v":34},{"$f":"VLOOKUP($B27,[1]SRA!$A$4:$P$55,6,0)","v":213},{"$f":"VLOOKUP($B27,[1]SRA!$A$4:$P$55,7,0)","v":43},null,null,null,{"$f":"VLOOKUP($B27,[1]SRA!$A$4:$P$55,11,0)","v":43},{"$f":"VLOOKUP($B27,[1]SRA!$A$4:$P$55,12,0)","v":5},{"$f":"VLOOKUP($B27,[1]SRA!$A$4:$P$55,13,0)","v":157},{"$f":"VLOOKUP($B27,[1]SRA!$A$4:$P$55,14,0)","v":25},{"$f":"VLOOKUP($B27,[1]SRA!$A$4:$P$55,15,0)","v":200},{"$f":"VLOOKUP($B27,[1]SRA!$A$4:$P$55,16,0)","v":30}]
[null,{"$f":"$B$8","v":38},{"$f":"VLOOKUP($B28,[1]SRA!$A$4:$P$55,2,0)","v":172},{"$f":"VLOOKUP($B28,[1]SRA!$A$4:$P$55,3,0)","v":14},{"$f":"VLOOKUP($B28,[1]SRA!$A$4:$P$55,4,0)","v":689},{"$f":"VLOOKUP($B28,[1]SRA!$A$4:$P$55,5,0)","v":74},{"$f":"VLOOKUP($B28,[1]SRA!$A$4:$P$55,6,0)","v":861},{"$f":"VLOOKUP($B28,[1]SRA!$A$4:$P$55,7,0)","v":88},null,null,null,{"$f":"VLOOKUP($B28,[1]SRA!$A$4:$P$55,11,0)","v":82},{"$f":"VLOOKUP($B28,[1]SRA!$A$4:$P$55,12,0)","v":9},{"$f":"VLOOKUP($B28,[1]SRA!$A$4:$P$55,13,0)","v":284},{"$f":"VLOOKUP($B28,[1]SRA!$A$4:$P$55,14,0)","v":33},{"$f":"VLOOKUP($B28,[1]SRA!$A$4:$P$55,15,0)","v":366},{"$f":"VLOOKUP($B28,[1]SRA!$A$4:$P$55,16,0)","v":42}]
[null,{"$f":"$B$9","v":39},{"$f":"VLOOKUP($B29,[1]SRA!$A$4:$P$55,2,0)","v":30},{"$f":"VLOOKUP($B29,[1]SRA!$A$4:$P$55,3,0)","v":6},{"$f":"VLOOKUP($B29,[1]SRA!$A$4:$P$55,4,0)","v":179},{"$f":"VLOOKUP($B29,[1]SRA!$A$4:$P$55,5,0)","v":46},{"$f":"VLOOKUP($B29,[1]SRA!$A$4:$P$55,6,0)","v":209},{"$f":"VLOOKUP($B29,[1]SRA!$A$4:$P$55,7,0)","v":52},null,null,null,{"$f":"VLOOKUP($B29,[1]SRA!$A$4:$P$55,11,0)","v":39},{"$f":"VLOOKUP($B29,[1]SRA!$A$4:$P$55,12,0)","v":7},{"$f":"VLOOKUP($B29,[1]SRA!$A$4:$P$55,13,0)","v":223},{"$f":"VLOOKUP($B29,[1]SRA!$A$4:$P$55,14,0)","v":41},{"$f":"VLOOKUP($B29,[1]SRA!$A$4:$P$55,15,0)","v":262},{"$f":"VLOOKUP($B29,[1]SRA!$A$4:$P$55,16,0)","v":48}]
[null,{"$f":"$B$10","v":40},{"$f":"VLOOKUP($B30,[1]SRA!$A$4:$P$55,2,0)","v":0},{"$f":"VLOOKUP($B30,[1]SRA!$A$4:$P$55,3,0)","v":0},{"$f":"VLOOKUP($B30,[1]SRA!$A$4:$P$55,4,0)","v":0},{"$f":"VLOOKUP($B30,[1]SRA!$A$4:$P$55,5,0)","v":0},{"$f":"VLOOKUP($B30,[1]SRA!$A$4:$P$55,6,0)","v":0},{"$f":"VLOOKUP($B30,[1]SRA!$A$4:$P$55,7,0)","v":0},null,null,null,{"$f":"VLOOKUP($B30,[1]SRA!$A$4:$P$55,11,0)","v":0},{"$f":"VLOOKUP($B30,[1]SRA!$A$4:$P$55,12,0)","v":0},{"$f":"VLOOKUP($B30,[1]SRA!$A$4:$P$55,13,0)","v":0},{"$f":"VLOOKUP($B30,[1]SRA!$A$4:$P$55,14,0)","v":0},{"$f":"VLOOKUP($B30,[1]SRA!$A$4:$P$55,15,0)","v":0},{"$f":"VLOOKUP($B30,[1]SRA!$A$4:$P$55,16,0)","v":0}]
[]
[]
[null,null,{"$f":"$B$36&$C$34&C35","v":"39MaDD"},{"$f":"$B$36&$C$34&D35","v":"39MaMD"},{"$f":"$B$36&$C$34&E35","v":"39MaND"},{"$f":"$B$36&$F$34&F35","v":"39DiDD"},{"$f":"$B$36&$F$34&G35","v":"39DiMD"},{"$f":"$B$36&$F$34&H35","v":"39DiND"},{"$f":"$B$36&$I$34&I35","v":"39WoDD"},{"$f":"$B$36&$I$34&J35","v":"39WoMD"},{"$f":"$B$36&$I$34&K35","v":"39WoND"},{"$f":"$B$36&$L$34&L35","v":"39DoDD"},{"$f":"$B$36&$L$34&M35","v":"39DoMD"},{"$f":"$B$36&$L$34&N35","v":"39DoND"},{"$f":"$B$36&$O$34&O35","v":"39VrDD"},{"$f":"$B$36&$O$34&P35","v":"39VrMD"},{"$f":"$B$36&$O$34&Q35","v":"39VrND"},{"$f":"$B$36&$R$34&R35","v":"39ZaDD"},{"$f":"$B$36&$R$34&S35","v":"39ZaMD"},{"$f":"$B$36&$R$34&T35","v":"39ZaND"},{"$f":"$B$36&$U$34&U35","v":"39ZaDD"},{"$f":"$B$36&$U$34&V35","v":"39ZaMD"},{"$f":"$B$36&$U$34&W35","v":"39ZaND"}]
[null,"Week","Ma",null,null,"Di",null,null,"Wo",null,null,"Do",null,null,"Vr",null,null,"Za",null,null,"Za"]
[null,null,"DD","MD","ND","DD","MD","ND","DD","MD","ND","DD","MD","ND","DD","MD","ND","DD","MD","ND","DD","MD","ND"]
[{"$f":"\"TA SRA LH Week \"&B36","v":"TA SRA LH Week 39"},{"$f":"Grafieken!AB10","v":39},{"$f":"VLOOKUP(C$33,'TA SRA LH'!$A$6:$AJ$1120,36,0)","v":0},{"$f":"VLOOKUP(D$33,'TA SRA LH'!$A$6:$AJ$1120,36,0)","v":0},{"$f":"VLOOKUP(E$33,'TA SRA LH'!$A$6:$AJ$1120,36,0)","v":0},{"$f":"VLOOKUP(F$33,'TA SRA LH'!$A$6:$AJ$1120,36,0)","v":0},{"$f":"VLOOKUP(G$33,'TA SRA LH'!$A$6:$AJ$1120,36,0)","v":0},{"$f":"VLOOKUP(H$33,'TA SRA LH'!$A$6:$AJ$1120,36,0)","v":0},{"$f":"VLOOKUP(I$33,'TA SRA LH'!$A$6:$AJ$1120,36,0)","v":0},{"$f":"VLOOKUP(J$33,'TA SRA LH'!$A$6:$AJ$1120,36,0)","v":0},{"$f":"VLOOKUP(K$33,'TA SRA LH'!$A$6:$AJ$1120,36,0)","v":0},{"$f":"VLOOKUP(L$33,'TA SRA LH'!$A$6:$AJ$1120,36,0)","v":0},{"$f":"VLOOKUP(M$33,'TA SRA LH'!$A$6:$AJ$1120,36,0)","v":0},{"$f":"VLOOKUP(N$33,'TA SRA LH'!$A$6:$AJ$1120,36,0)","v":0},{"$f":"VLOOKUP(O$33,'TA SRA LH'!$A$6:$AJ$1120,36,0)","v":""},{"$f":"VLOOKUP(P$33,'TA SRA LH'!$A$6:$AJ$1120,36,0)","v":""},{"$f":"VLOOKUP(Q$33,'TA SRA LH'!$A$6:$AJ$1120,36,0)","v":""},{"$f":"VLOOKUP(R$33,'TA SRA LH'!$A$6:$AJ$1120,36,0)","v":""},{"$f":"VLOOKUP(S$33,'TA SRA LH'!$A$6:$AJ$1120,36,0)","v":""},{"$f":"VLOOKUP(T$33,'TA SRA LH'!$A$6:$AJ$1120,36,0)","v":""},{"$f":"VLOOKUP(U$33,'TA SRA LH'!$A$6:$AJ$1120,36,0)","v":""},{"$f":"VLOOKUP(V$33,'TA SRA LH'!$A$6:$AJ$1120,36,0)","v":""},{"$f":"VLOOKUP(W$33,'TA SRA LH'!$A$6:$AJ$1120,36,0)","v":""}]
[{"$f":"\"TA SRA RH Week \"&B37","v":"TA SRA RH Week 39"},{"$f":"Grafieken!AB10","v":39},{"$f":"VLOOKUP(C$33,'TA SRA RH'!$A$6:$AJ$1120,36,0)","v":0},{"$f":"VLOOKUP(D$33,'TA SRA RH'!$A$6:$AJ$1120,36,0)","v":0},{"$f":"VLOOKUP(E$33,'TA SRA RH'!$A$6:$AJ$1120,36,0)","v":0},{"$f":"VLOOKUP(F$33,'TA SRA RH'!$A$6:$AJ$1120,36,0)","v":0},{"$f":"VLOOKUP(G$33,'TA SRA RH'!$A$6:$AJ$1120,36,0)","v":0},{"$f":"VLOOKUP(H$33,'TA SRA RH'!$A$6:$AJ$1120,36,0)","v":0},{"$f":"VLOOKUP(I$33,'TA SRA RH'!$A$6:$AJ$1120,36,0)","v":0},{"$f":"VLOOKUP(J$33,'TA SRA RH'!$A$6:$AJ$1120,36,0)","v":0},{"$f":"VLOOKUP(K$33,'TA SRA RH'!$A$6:$AJ$1120,36,0)","v":0},{"$f":"VLOOKUP(L$33,'TA SRA RH'!$A$6:$AJ$1120,36,0)","v":0},{"$f":"VLOOKUP(M$33,'TA SRA RH'!$A$6:$AJ$1120,36,0)","v":0},{"$f":"VLOOKUP(N$33,'TA SRA RH'!$A$6:$AJ$1120,36,0)","v":0},{"$f":"VLOOKUP(O$33,'TA SRA RH'!$A$6:$AJ$1120,36,0)","v":""},{"$f":"VLOOKUP(P$33,'TA SRA RH'!$A$6:$AJ$1120,36,0)","v":""},{"$f":"VLOOKUP(Q$33,'TA SRA RH'!$A$6:$AJ$1120,36,0)","v":""},{"$f":"VLOOKUP(R$33,'TA SRA RH'!$A$6:$AJ$1120,36,0)","v":""},{"$f":"VLOOKUP(S$33,'TA SRA RH'!$A$6:$AJ$1120,36,0)","v":""},{"$f":"VLOOKUP(T$33,'TA SRA RH'!$A$6:$AJ$1120,36,0)","v":""},{"$f":"VLOOKUP(U$33,'TA SRA RH'!$A$6:$AJ$1120,36,0)","v":""},{"$f":"VLOOKUP(V$33,'TA SRA RH'!$A$6:$AJ$1120,36,0)","v":""},{"$f":"VLOOKUP(W$33,'TA SRA RH'!$A$6:$AJ$1120,36,0)","v":""}]
["Target [%]",null,{"$f":"DATA!$C$9","v":0.89},{"$f":"DATA!$C$9","v":0.89},{"$f":"DATA!$C$9","v":0.89},{"$f":"DATA!$C$9","v":0.89},{"$f":"DATA!$C$9","v":0.89},{"$f":"DATA!$C$9","v":0.89},{"$f":"DATA!$C$9","v":0.89},{"$f":"DATA!$C$9","v":0.89},{"$f":"DATA!$C$9","v":0.89},{"$f":"DATA!$C$9","v":0.89},{"$f":"DATA!$C$9","v":0.89},{"$f":"DATA!$C$9","v":0.89},{"$f":"DATA!$C$9","v":0.89},{"$f":"DATA!$C$9","v":0.89},{"$f":"DATA!$C$9","v":0.89},{"$f":"DATA!$C$9","v":0.89},{"$f":"DATA!$C$9","v":0.89},{"$f":"DATA!$C$9","v":0.89},{"$f":"DATA!$C$9","v":0.89},{"$f":"DATA!$C$9","v":0.89},{"$f":"DATA!$C$9","v":0.89}]
[]
[]
[]
[null,null,null,null,{"$f":"\"Major Items \"&DATA!C15&\" Week \"&$B36&\" \"&J63&\" min\"","v":"Major Items SRA LH Week 39 15 min"},null,null,null,null,"Downtime",null,null,null,{"$f":"\"Major Items \"&DATA!C16&\" Week \"&$B36&\" \"&S63&\" min\"","v":"Major Items SRA RH Week 39 30 min"},null,null,null,null,"Downtime"]
[null,null,{"$f":"$B$36&\"M\"&DATA!$C$15&DATA!$C27","v":"39MSRA LH1"},null,{"$f":"IFERROR(VLOOKUP($C43,'[1]Downtime SAP'!$V$2:$Z$20001,2,0),\"\")","v":"63FX01 stop"},null,null,null,null,{"$f":"IFERROR(VLOOKUP($C43,'[1]Downtime SAP'!$V$2:$Z$20001,3,0),\"\")","v":15},null,{"$f":"$B$36&\"M\"&DATA!$C$16&DATA!$C27","v":"39MSRA RH1"},null,{"$f":"IFERROR(VLOOKUP($L43,'[1]Downtime SAP'!$V$2:$Z$20001,2,0),\"\")","v":"cytec vervangen"},null,null,null,null,{"$f":"IFERROR(VLOOKUP($L43,'[1]Downtime SAP'!$V$2:$Z$20001,3,0),\"\")","v":30}]
[null,null,{"$f":"$B$36&\"M\"&DATA!$C$15&DATA!$C28","v":"39MSRA LH2"},null,{"$f":"IFERROR(VLOOKUP($C44,'[1]Downtime SAP'!$V$2:$Z$20001,2,0),\"\")","v":""},null,null,null,null,{"$f":"IFERROR(VLOOKUP($C44,'[1]Downtime SAP'!$V$2:$Z$20001,3,0),\"\")","v":""},null,{"$f":"$B$36&\"M\"&DATA!$C$16&DATA!$C28","v":"39MSRA RH2"},null,{"$f":"IFERROR(VLOOKUP($L44,'[1]Downtime SAP'!$V$2:$Z$20001,2,0),\"\")","v":""},null,null,null,null,{"$f":"IFERROR(VLOOKUP($L44,'[1]Downtime SAP'!$V$2:$Z$20001,3,0),\"\")","v":""}]
[null,null,{"$f":"$B$36&\"M\"&DATA!$C$15&DATA!$C29","v":"39MSRA LH3"},null,{"$f":"IFERROR(VLOOKUP($C45,'[1]Downtime SAP'!$V$2:$Z$20001,2,0),\"\")","v":""},null,null,null,null,{"$f":"IFERROR(VLOOKUP($C45,'[1]Downtime SAP'!$V$2:$Z$20001,3,0),\"\")","v":""},null,{"$f":"$B$36&\"M\"&DATA!$C$16&DATA!$C29","v":"39MSRA RH3"},null,{"$f":"IFERROR(VLOOKUP($L45,'[1]Downtime SAP'!$V$2:$Z$20001,2,0),\"\")","v":""},null,null,null,null,{"$f":"IFERROR(VLOOKUP($L45,'[1]Downtime SAP'!$V$2:$Z$20001,3,0),\"\")","v":""}]
[null,null,{"$f":"$B$36&\"M\"&DATA!$C$15&DATA!$C30","v":"39MSRA LH4"},null,{"$f":"IFERROR(VLOOKUP($C46,'[1]Downtime SAP'!$V$2:$Z$20001,2,0),\"\")","v":""},null,null,null,null,{"$f":"IFERROR(VLOOKUP($C46,'[1]Downtime SAP'!$V$2:$Z$20001,3,0),\"\")","v":""},null,{"$f":"$B$36&\"M\"&DATA!$C$16&DATA!$C30","v":"39MSRA RH4"},null,{"$f":"IFERROR(VLOOKUP($L46,'[1]Downtime SAP'!$V$2:$Z$20001,2,0),\"\")","v":""},null,null,null,null,{"$f":"IFERROR(VLOOKUP($L46,'[1]Downtime SAP'!$V$2:$Z$20001,3,0),\"\")","v":""}]
[null,null,{"$f":"$B$36&\"M\"&DATA!$C$15&DATA!$C31","v":"39MSRA LH5"},null,{"$f":"IFERROR(VLOOKUP($C47,'[1]Downtime SAP'!$V$2:$Z$20001,2,0),\"\")","v":""},null,null,null,null,{"$f":"IFERROR(VLOOKUP($C47,'[1]Downtime SAP'!$V$2:$Z$20001,3,0),\"\")","v":""},null,{"$f":"$B$36&\"M\"&DATA!$C$16&DATA!$C31","v":"39MSRA RH5"},null,{"$f":"IFERROR(VLOOKUP($L47,'[1]Downtime SAP'!$V$2:$Z$20001,2,0),\"\")","v":""},null,null,null,null,{"$f":"IFERROR(VLOOKUP($L47,'[1]Downtime SAP'!$V$2:$Z$20001,3,0),\"\")","v":""}]
[null,null,{"$f":"$B$36&\"M\"&DATA!$C$15&DATA!$C32","v":"39MSRA LH6"},null,{"$f":"IFERROR(VLOOKUP($C48,'[1]Downtime SAP'!$V$2:$Z$20001,2,0),\"\")","v":""},null,null,null,null,{"$f":"IFERROR(VLOOKUP($C48,'[1]Downtime SAP'!$V$2:$Z$20001,3,0),\"\")","v":""},null,{"$f":"$B$36&\"M\"&DATA!$C$16&DATA!$C32","v":"39MSRA RH6"},null,{"$f":"IFERROR(VLOOKUP($L48,'[1]Downtime SAP'!$V$2:$Z$20001,2,0),\"\")","v":""},null,null,null,null,{"$f":"IFERROR(VLOOKUP($L48,'[1]Downtime SAP'!$V$2:$Z$20001,3,0),\"\")","v":""}]
[null,null,{"$f":"$B$36&\"M\"&DATA!$C$15&DATA!$C33","v":"39MSRA LH7"},null,{"$f":"IFERROR(VLOOKUP($C49,'[1]Downtime SAP'!$V$2:$Z$20001,2,0),\"\")","v":""},null,null,null,null,{"$f":"IFERROR(VLOOKUP($C49,'[1]Downtime SAP'!$V$2:$Z$20001,3,0),\"\")","v":""},null,{"$f":"$B$36&\"M\"&DATA!$C$16&DATA!$C33","v":"39MSRA RH7"},null,{"$f":"IFERROR(VLOOKUP($L49,'[1]Downtime SAP'!$V$2:$Z$20001,2,0),\"\")","v":""},null,null,null,null,{"$f":"IFERROR(VLOOKUP($L49,'[1]Downtime SAP'!$V$2:$Z$20001,3,0),\"\")","v":""}]
[null,null,{"$f":"$B$36&\"M\"&DATA!$C$15&DATA!$C34","v":"39MSRA LH8"},null,{"$f":"IFERROR(VLOOKUP($C50,'[1]Downtime SAP'!$V$2:$Z$20001,2,0),\"\")","v":""},null,null,null,null,{"$f":"IFERROR(VLOOKUP($C50,'[1]Downtime SAP'!$V$2:$Z$20001,3,0),\"\")","v":""},null,{"$f":"$B$36&\"M\"&DATA!$C$16&DATA!$C34","v":"39MSRA RH8"},null,{"$f":"IFERROR(VLOOKUP($L50,'[1]Downtime SAP'!$V$2:$Z$20001,2,0),\"\")","v":""},null,null,null,null,{"$f":"IFERROR(VLOOKUP($L50,'[1]Downtime SAP'!$V$2:$Z$20001,3,0),\"\")","v":""}]
[null,null,{"$f":"$B$36&\"M\"&DATA!$C$15&DATA!$C35","v":"39MSRA LH9"},null,{"$f":"IFERROR(VLOOKUP($C51,'[1]Downtime SAP'!$V$2:$Z$20001,2,0),\"\")","v":""},null,null,null,null,{"$f":"IFERROR(VLOOKUP($C51,'[1]Downtime SAP'!$V$2:$Z$20001,3,0),\"\")","v":""},null,{"$f":"$B$36&\"M\"&DATA!$C$16&DATA!$C35","v":"39MSRA RH9"},null,{"$f":"IFERROR(VLOOKUP($L51,'[1]Downtime SAP'!$V$2:$Z$20001,2,0),\"\")","v":""},null,null,null,null,{"$f":"IFERROR(VLOOKUP($L51,'[1]Downtime SAP'!$V$2:$Z$20001,3,0),\"\")","v":""}]
[null,null,{"$f":"$B$36&\"M\"&DATA!$C$15&DATA!$C36","v":"39MSRA LH10"},null,{"$f":"IFERROR(VLOOKUP($C52,'[1]Downtime SAP'!$V$2:$Z$20001,2,0),\"\")","v":""},null,null,null,null,{"$f":"IFERROR(VLOOKUP($C52,'[1]Downtime SAP'!$V$2:$Z$20001,3,0),\"\")","v":""},null,{"$f":"$B$36&\"M\"&DATA!$C$16&DATA!$C36","v":"39MSRA RH10"},null,{"$f":"IFERROR(VLOOKUP($L52,'[1]Downtime SAP'!$V$2:$Z$20001,2,0),\"\")","v":""},null,null,null,null,{"$f":"IFERROR(VLOOKUP($L52,'[1]Downtime SAP'!$V$2:$Z$20001,3,0),\"\")","v":""}]
[null,null,{"$f":"$B$36&\"M\"&DATA!$C$15&DATA!$C37","v":"39MSRA LH11"},null,{"$f":"IFERROR(VLOOKUP($C53,'[1]Downtime SAP'!$V$2:$Z$20001,2,0),\"\")","v":""},null,null,null,null,{"$f":"IFERROR(VLOOKUP($C53,'[1]Downtime SAP'!$V$2:$Z$20001,3,0),\"\")","v":""},null,{"$f":"$B$36&\"M\"&DATA!$C$16&DATA!$C37","v":"39MSRA RH11"},null,{"$f":"IFERROR(VLOOKUP($L53,'[1]Downtime SAP'!$V$2:$Z$20001,2,0),\"\")","v":""},null,null,null,null,{"$f":"IFERROR(VLOOKUP($L53,'[1]Downtime SAP'!$V$2:$Z$20001,3,0),\"\")","v":""}]
[null,null,{"$f":"$B$36&\"M\"&DATA!$C$15&DATA!$C38","v":"39MSRA LH12"},null,{"$f":"IFERROR(VLOOKUP($C54,'[1]Downtime SAP'!$V$2:$Z$20001,2,0),\"\")","v":""},null,null,null,null,{"$f":"IFERROR(VLOOKUP($C54,'[1]Downtime SAP'!$V$2:$Z$20001,3,0),\"\")","v":""},null,{"$f":"$B$36&\"M\"&DATA!$C$16&DATA!$C38","v":"39MSRA RH12"},null,{"$f":"IFERROR(VLOOKUP($L54,'[1]Downtime SAP'!$V$2:$Z$20001,2,0),\"\")","v":""},null,null,null,null,{"$f":"IFERROR(VLOOKUP($L54,'[1]Downtime SAP'!$V$2:$Z$20001,3,0),\"\")","v":""}]
[null,null,{"$f":"$B$36&\"M\"&DATA!$C$15&DATA!$C39","v":"39MSRA LH13"},null,{"$f":"IFERROR(VLOOKUP($C55,'[1]Downtime SAP'!$V$2:$Z$20001,2,0),\"\")","v":""},null,null,null,null,{"$f":"IFERROR(VLOOKUP($C55,'[1]Downtime SAP'!$V$2:$Z$20001,3,0),\"\")","v":""},null,{"$f":"$B$36&\"M\"&DATA!$C$16&DATA!$C39","v":"39MSRA RH13"},null,{"$f":"IFERROR(VLOOKUP($L55,'[1]Downtime SAP'!$V$2:$Z$20001,2,0),\"\")","v":""},null,null,null,null,{"$f":"IFERROR(VLOOKUP($L55,'[1]Downtime SAP'!$V$2:$Z$20001,3,0),\"\")","v":""}]
[null,null,{"$f":"$B$36&\"M\"&DATA!$C$15&DATA!$C40","v":"39MSRA LH14"},null,{"$f":"IFERROR(VLOOKUP($C56,'[1]Downtime SAP'!$V$2:$Z$20001,2,0),\"\")","v":""},null,null,null,null,{"$f":"IFERROR(VLOOKUP($C56,'[1]Downtime SAP'!$V$2:$Z$20001,3,0),\"\")","v":""},null,{"$f":"$B$36&\"M\"&DATA!$C$16&DATA!$C40","v":"39MSRA RH14"},null,{"$f":"IFERROR(VLOOKUP($L56,'[1]Downtime SAP'!$V$2:$Z$20001,2,0),\"\")","v":""},null,null,null,null,{"$f":"IFERROR(VLOOKUP($L56,'[1]Downtime SAP'!$V$2:$Z$20001,3,0),\"\")","v":""}]
[null,null,{"$f":"$B$36&\"M\"&DATA!$C$15&DATA!$C41","v":"39MSRA LH15"},null,{"$f":"IFERROR(VLOOKUP($C57,'[1]Downtime SAP'!$V$2:$Z$20001,2,0),\"\")","v":""},null,null,null,null,{"$f":"IFERROR(VLOOKUP($C57,'[1]Downtime SAP'!$V$2:$Z$20001,3,0),\"\")","v":""},null,{"$f":"$B$36&\"M\"&DATA!$C$16&DATA!$C41","v":"39MSRA RH15"},null,{"$f":"IFERROR(VLOOKUP($L57,'[1]Downtime SAP'!$V$2:$Z$20001,2,0),\"\")","v":""},null,null,null,null,{"$f":"IFERROR(VLOOKUP($L57,'[1]Downtime SAP'!$V$2:$Z$20001,3,0),\"\")","v":""}]
[null,null,{"$f":"$B$36&\"M\"&DATA!$C$15&DATA!$C42","v":"39MSRA LH16"},null,{"$f":"IFERROR(VLOOKUP($C58,'[1]Downtime SAP'!$V$2:$Z$20001,2,0),\"\")","v":""},null,null,null,null,{"$f":"IFERROR(VLOOKUP($C58,'[1]Downtime SAP'!$V$2:$Z$20001,3,0),\"\")","v":""},null,{"$f":"$B$36&\"M\"&DATA!$C$16&DATA!$C42","v":"39MSRA RH16"},null,{"$f":"IFERROR(VLOOKUP($L58,'[1]Downtime SAP'!$V$2:$Z$20001,2,0),\"\")","v":""},null,null,null,null,{"$f":"IFERROR(VLOOKUP($L58,'[1]Downtime SAP'!$V$2:$Z$20001,3,0),\"\")","v":""}]
[null,null,{"$f":"$B$36&\"M\"&DATA!$C$15&DATA!$C43","v":"39MSRA LH17"},null,{"$f":"IFERROR(VLOOKUP($C59,'[1]Downtime SAP'!$V$2:$Z$20001,2,0),\"\")","v":""},null,null,null,null,{"$f":"IFERROR(VLOOKUP($C59,'[1]Downtime SAP'!$V$2:$Z$20001,3,0),\"\")","v":""},null,{"$f":"$B$36&\"M\"&DATA!$C$16&DATA!$C43","v":"39MSRA RH17"},null,{"$f":"IFERROR(VLOOKUP($L59,'[1]Downtime SAP'!$V$2:$Z$20001,2,0),\"\")","v":""},null,null,null,null,{"$f":"IFERROR(VLOOKUP($L59,'[1]Downtime SAP'!$V$2:$Z$20001,3,0),\"\")","v":""}]
[null,null,{"$f":"$B$36&\"M\"&DATA!$C$15&DATA!$C44","v":"39MSRA LH18"},null,{"$f":"IFERROR(VLOOKUP($C60,'[1]Downtime SAP'!$V$2:$Z$20001,2,0),\"\")","v":""},null,null,null,null,{"$f":"IFERROR(VLOOKUP($C60,'[1]Downtime SAP'!$V$2:$Z$20001,3,0),\"\")","v":""},null,{"$f":"$B$36&\"M\"&DATA!$C$16&DATA!$C44","v":"39MSRA RH18"},null,{"$f":"IFERROR(VLOOKUP($L60,'[1]Downtime SAP'!$V$2:$Z$20001,2,0),\"\")","v":""},null,null,null,null,{"$f":"IFERROR(VLOOKUP($L60,'[1]Downtime SAP'!$V$2:$Z$20001,3,0),\"\")","v":""}]
[null,null,{"$f":"$B$36&\"M\"&DATA!$C$15&DATA!$C45","v":"39MSRA LH19"},null,{"$f":"IFERROR(VLOOKUP($C61,'[1]Downtime SAP'!$V$2:$Z$20001,2,0),\"\")","v":""},null,null,null,null,{"$f":"IFERROR(VLOOKUP($C61,'[1]Downtime SAP'!$V$2:$Z$20001,3,0),\"\")","v":""},null,{"$f":"$B$36&\"M\"&DATA!$C$16&DATA!$C45","v":"39MSRA RH19"},null,{"$f":"IFERROR(VLOOKUP($L61,'[1]Downtime SAP'!$V$2:$Z$20001,2,0),\"\")","v":""},null,null,null,null,{"$f":"IFERROR(VLOOKUP($L61,'[1]Downtime SAP'!$V$2:$Z$20001,3,0),\"\")","v":""}]
[null,null,{"$f":"$B$36&\"M\"&DATA!$C$15&DATA!$C46","v":"39MSRA LH20"},null,{"$f":"IFERROR(VLOOKUP($C62,'[1]Downtime SAP'!$V$2:$Z$20001,2,0),\"\")","v":""},null,null,null,null,{"$f":"IFERROR(VLOOKUP($C62,'[1]Downtime SAP'!$V$2:$Z$20001,3,0),\"\")","v":""},null,{"$f":"$B$36&\"M\"&DATA!$C$16&DATA!$C46","v":"39MSRA RH20"},null,{"$f":"IFERROR(VLOOKUP($L62,'[1]Downtime SAP'!$V$2:$Z$20001,2,0),\"\")","v":""},null,null,null,null,{"$f":"IFERROR(VLOOKUP($L62,'[1]Downtime SAP'!$V$2:$Z$20001,3,0),\"\")","v":""}]
[null,null,null,null,null,null,null,null,"Totaal",{"$f":"SUM(J43:J62)","v":15},null,null,null,null,null,null,null,"Totaal",{"$f":"SUM(S43:S62)","v":30}]

{"sheet":"DATA","index":5,"n_rows":46,"n_cols":5,"rows_kept":46,"cut":false,"hidden":true,"merged":[]}
[]
[null,null,"Werktijden",null,"Breaktimes"]
[null,"DD","06:30:00","14:30:00","00:45:00"]
[null,"MD","14:30:00","22:30:00","00:45:00"]
[null,"ND","22:30:00","06:30:00","00:45:00"]
[null,"ZND"]
[]
[]
[null,"Target SRI",0.89]
[null,"Cycle Time",64]
[]
[null,null,"KS"]
[null,null,"X"]
[null,null,"R"]
[null,null,"SRA LH"]
[null,null,"SRA RH"]
[]
[]
[]
[null,null,{"$f":"\"UPTIME \"&C15","v":"UPTIME SRA LH"}]
[null,null,{"$f":"\"UPTIME \"&C16","v":"UPTIME SRA RH"}]
[null,null,{"$f":"\"TA \"&C15&\" TREND\"","v":"TA SRA LH TREND"}]
[null,null,{"$f":"\"TA \"&C16&\" TREND\"","v":"TA SRA RH TREND"}]
[null,null,{"$f":"\"DOWNTIME SAP \"&C15","v":"DOWNTIME SAP SRA LH"}]
[null,null,{"$f":"\"DOWNTIME SAP \"&C16","v":"DOWNTIME SAP SRA RH"}]
[]
[null,null,1]
[null,null,2]
[null,null,3]
[null,null,4]
[null,null,5]
[null,null,6]
[null,null,7]
[null,null,8]
[null,null,9]
[null,null,10]
[null,null,11]
[null,null,12]
[null,null,13]
[null,null,14]
[null,null,15]
[null,null,16]
[null,null,17]
[null,null,18]
[null,null,19]
[null,null,20]