{"text_format":"1","workbook":"xlsx","n_sheets":6,"sheets":["BSC Master ","TA SRI LH","TA SRI RH","Grafieken","Data voor grafieken","DATA"],"not_rendered":{"charts":19,"images":3,"macros":1,"external_links":1,"defined_names":4,"comments":0,"pivot_tables":0},"unopened":[],"bounds":{"document_bytes":16777216,"sheet_cells":100000,"rows_first":2000,"rows_last":500,"rows_between":2000,"halvings":0,"cell_chars":16384,"cell_head_chars":4096},"cells_cut":0,"cells_raw":0,"read":"whole","date_system":"1900"}

{"sheet":"BSC Master ","index":0,"n_rows":20,"n_cols":15,"rows_kept":20,"cut":false,"hidden":false,"merged":[[40,0,49,0],[50,0,59,0],[60,0,69,0],[20,0,29,0],[30,0,39,0],[11,1,12,11],[1,1,2,2],[1,3,2,3],[1,5,1,6],[1,8,1,14],[2,5,8,6],[3,1,5,2],[3,3,5,3],[6,1,8,2],[6,3,8,3]]}
[]
[null,"Document Owner",null,"E. Berghmans",null,"Subject",null,null,"Status Overview Actionlog"]
[null,null,null,null,null,"SRI LH/RH",null,null,"Date:",{"$f":"TODAY()","v":"2018-10-02"}]
[null,"Revision",null,"1.1"]
[null,null,null,null,null,null,null,null,null,"Status","Count"]
[null,null,null,null,null,null,null,null,null,"Ready",{"$f":"COUNTIF($M$21:$M$50,\"=Ready\")","v":0}]
[null,"Revision date",null,"2014-10-23",null,null,null,null,null,"Late",{"$f":"COUNTIF($M$21:$M$50,\"=Late\")","v":0}]
[null,null,null,null,null,null,null,null,null,"Pending",{"$f":"COUNTIF($M$21:$M$50,\"=Pending\")","v":0}]
[]
[]
[]
[]
[]
[]
[]
[]
[]
[]
[]
[null,"Nr.","Type","Station","Probleem","TAF ","Oorzaak","Actie","Resp.","Date\nAssigned","Target \nCompletion Date","Actual Completion Date","Status","Beheerder","Prio"]

{"sheet":"TA SRI LH","index":1,"n_rows":1118,"n_cols":52,"rows_kept":1118,"cut":false,"hidden":false,"merged":[[0,23,2,27],[5,24,7,24],[5,36,25,36],[2,28,2,31],[5,50,25,50],[8,24,10,24],[11,24,13,24],[14,24,16,24],[17,24,19,24],[20,24,22,24],[23,24,25,24],[5,43,25,43],[5,44,25,44],[5,45,25,45],[5,46,25,46],[5,47,25,47],[5,48,25,48],[5,37,25,37],[5,38,25,38],[5,39,25,39],[5,40,25,40],[5,41,25,41],[5,42,25,42],[0,38,2,38],[0,37,2,37],[4,41,4,42],[4,39,4,40],[4,37,4,38],[0,43,1,46],[2,43,2,46],[0,41,2,41],[5,49,25,49],[35,24,37,24],[38,24,40,24],[41,24,43,24],[44,24,46,24],[26,41,46,41],[26,42,46,42],[26,43,46,43],[26,44,46,44],[26,45,46,45],[26,46,46,46],[26,24,28,24],[26,36,46,36],[26,37,46,37],[26,38,46,38],[26,39,46,39],[26,40,46,40],[26,49,46,49],[0,42,2,42],[0,28,0,29],[1,28,1,29],[0,30,0,31],[1,30,1,31],[47,47,67,47],[47,48,67,48],[47,50,67,50],[50,24,52,24],[53,24,55,24],[56,24,58,24],[59,24,61,24],[62,24,64,24],[65,24,67,24],[47,41,67,41],[47,42,67,42],[47,43,67,43],[47,44,67,44],[47,45,67,45],[47,46,67,46],[47,24,49,24],[47,36,67,36],[47,37,67,37],[47,38,67,38],[47,39,67,39],[47,40,67,40],[47,49,67,49],[26,47,46,47],[26,48,46,48],[26,50,46,50],[29,24,31,24],[32,24,34,24],[68,47,88,47],[68,48,88,48],[68,50,88,50],[71,24,73,24],[74,24,76,24],[77,24,79,24],[80,24,82,24],[83,24,85,24],[86,24,88,24],[68,41,88,41],[68,42,88,42],[68,43,88,43],[68,44,88,44],[68,45,88,45],[68,46,88,46],[68,24,70,24],[68,36,88,36],[68,37,88,37],[68,38,88,38],[68,39,88,39],[68,40,88,40],[68,49,88,49],[89,47,109,47],[89,48,109,48],[89,50,109,50],[92,24,94,24],[95,24,97,24],[98,24,100,24],[101,24,103,24],[104,24,106,24],[107,24,109,24],[89,41,109,41],[89,42,109,42],[89,43,109,43],[89,44,109,44],[89,45,109,45],[89,46,109,46],[89,24,91,24],[89,36,109,36],[89,37,109,37],[89,38,109,38],[89,39,109,39],[89,40,109,40],[89,49,109,49],[110,47,130,47],[110,48,130,48],[110,50,130,50],[113,24,115,24],[116,24,118,24],[119,24,121,24],[122,24,124,24],[125,24,127,24],[128,24,130,24],[110,41,130,41],[110,42,130,42],[110,43,130,43],[110,44,130,44],[110,45,130,45],[110,46,130,46],[110,24,112,24],[110,36,130,36],[110,37,130,37],[110,38,130,38],[110,39,130,39],[110,40,130,40],[110,49,130,49],[131,47,151,47],[131,48,151,48],[131,50,151,50],[134,24,136,24],[137,24,139,24],[140,24,142,24],[143,24,145,24],[146,24,148,24],[149,24,151,24],[131,41,151,41],[131,42,151,42],[131,43,151,43],[131,44,151,44],[131,45,151,45],[131,46,151,46],[131,24,133,24],[131,36,151,36],[131,37,151,37],[131,38,151,38],[131,39,151,39],[131,40,151,40],[131,49,151,49],[152,47,172,47],[152,48,172,48],[152,50,172,50],[155,24,157,24],[158,24,160,24],[161,24,163,24],[164,24,166,24],[167,24,169,24],[170,24,172,24],[152,41,172,41],[152,42,172,42],[152,43,172,43],[152,44,172,44],[152,45,172,45],[152,46,172,46],[152,24,154,24],[152,36,172,36],[152,37,172,37],[152,38,172,38],[152,39,172,39],[152,40,172,40],[152,49,172,49],[173,47,193,47],[173,48,193,48],[173,50,193,50],[176,24,178,24],[179,24,181,24],[182,24,184,24],[185,24,187,24],[188,24,190,24],[191,24,193,24],[173,41,193,41],[173,42,193,42],[173,43,193,43],[173,44,193,44],[173,45,193,45],[173,46,193,46],[173,24,175,24],[173,36,193,36],[173,37,193,37],[173,38,193,38],[173,39,193,39],[173,40,193,40],[173,49,193,49],[194,47,214,47],[194,48,214,48],[194,50,214,50],[197,24,199,24],[200,24,202,24],[203,24,205,24],[206,24,208,24],[209,24,211,24],[212,24,214,24],[194,41,214,41],[194,42,214,42],[194,43,214,43],[194,44,214,44],[194,45,214,45],[194,46,214,46],[194,24,196,24],[194,36,214,36],[194,37,214,37],[194,38,214,38],[194,39,214,39],[194,40,214,40],[194,49,214,49],[215,47,235,47],[215,48,235,48],[215,50,235,50],[218,24,220,24],[221,24,223,24],[224,24,226,24],[227,24,229,24],[230,24,232,24],[233,24,235,24],[215,41,235,41],[215,42,235,42],[215,43,235,43],[215,44,235,44],[215,45,235,45],[215,46,235,46],[215,24,217,24],[215,36,235,36],[215,37,235,37],[215,38,235,38],[215,39,235,39],[215,40,235,40],[215,49,235,49],[236,47,256,47],[236,48,256,48],[236,50,256,50],[239,24,241,24],[242,24,244,24],[245,24,247,24],[248,24,250,24],[251,24,253,24],[254,24,256,24],[236,41,256,41],[236,42,256,42],[236,43,256,43],[236,44,256,44],[236,45,256,45],[236,46,256,46],[236,24,238,24],[236,36,256,36],[236,37,256,37],[236,38,256,38],[236,39,256,39],[236,40,256,40],[236,49,256,49],[257,47,277,47],[257,48,277,48],[257,50,277,50],[260,24,262,24],[263,24,265,24],[266,24,268,24],[269,24,271,24],[272,24,274,24],[275,24,277,24],[257,41,277,41],[257,42,277,42],[257,43,277,43],[257,44,277,44],[257,45,277,45],[257,46,277,46],[257,24,259,24],[257,36,277,36],[257,37,277,37],[257,38,277,38],[257,39,277,39],[257,40,277,40],[257,49,277,49],[278,47,298,47],[278,48,298,48],[278,50,298,50],[281,24,283,24],[284,24,286,24],[287,24,289,24],[290,24,292,24],[293,24,295,24],[296,24,298,24],[278,41,298,41],[278,42,298,42],[278,43,298,43],[278,44,298,44],[278,45,298,45],[278,46,298,46],[278,24,280,24],[278,36,298,36],[278,37,298,37],[278,38,298,38],[278,39,298,39],[278,40,298,40],[278,49,298,49],[299,47,319,47],[299,48,319,48],[299,50,319,50],[302,24,304,24],[305,24,307,24],[308,24,310,24],[311,24,313,24],[314,24,316,24],[317,24,319,24],[299,41,319,41],[299,42,319,42],[299,43,319,43],[299,44,319,44],[299,45,319,45],[299,46,319,46],[299,24,301,24],[299,36,319,36],[299,37,319,37],[299,38,319,38],[299,39,319,39],[299,40,319,40],[299,49,319,49],[320,47,340,47],[320,48,340,48],[320,50,340,50],[323,24,325,24],[326,24,328,24],[329,24,331,24],[332,24,334,24],[335,24,337,24],[338,24,340,24],[320,41,340,41],[320,42,340,42],[320,43,340,43],[320,44,340,44],[320,45,340,45],[320,46,340,46],[320,24,322,24],[320,36,340,36],[320,37,340,37],[320,38,340,38],[320,39,340,39],[320,40,340,40],[320,49,340,49],[341,47,361,47],[341,48,361,48],[341,50,361,50],[344,24,346,24],[347,24,349,24],[350,24,352,24],[353,24,355,24],[356,24,358,24],[359,24,361,24],[341,41,361,41],[341,42,361,42],[341,43,361,43],[341,44,361,44],[341,45,361,45],[341,46,361,46],[341,24,343,24],[341,36,361,36],[341,37,361,37],[341,38,361,38],[341,39,361,39],[341,40,361,40],[341,49,361,49],[362,47,382,47],[362,48,382,48],[362,50,382,50],[365,24,367,24],[368,24,370,24],[371,24,373,24],[374,24,376,24],[377,24,379,24],[380,24,382,24],[362,41,382,41],[362,42,382,42],[362,43,382,43],[362,44,382,44],[362,45,382,45],[362,46,382,46],[362,24,364,24],[362,36,382,36],[362,37,382,37],[362,38,382,38],[362,39,382,39],[362,40,382,40],[362,49,382,49],[383,47,403,47],[383,48,403,48],[383,50,403,50],[386,24,388,24],[389,24,391,24],[392,24,394,24],[395,24,397,24],[398,24,400,24],[401,24,403,24],[383,41,403,41],[383,42,403,42],[383,43,403,43],[383,44,403,44],[383,45,403,45],[383,46,403,46],[383,24,385,24],[383,36,403,36],[383,37,403,37],[383,38,403,38],[383,39,403,39],[383,40,403,40],[383,49,403,49],[404,47,424,47],[404,48,424,48],[404,50,424,50],[407,24,409,24],[410,24,412,24],[413,24,415,24],[416,24,418,24],[419,24,421,24],[422,24,424,24],[404,41,424,41],[404,42,424,42],[404,43,424,43],[404,44,424,44],[404,45,424,45],[404,46,424,46],[404,24,406,24],[404,36,424,36],[404,37,424,37],[404,38,424,38],[404,39,424,39],[404,40,424,40],[404,49,424,49],[425,47,445,47],[425,48,445,48],[425,50,445,50],[428,24,430,24],[431,24,433,24],[434,24,436,24],[437,24,439,24],[440,24,442,24],[443,24,445,24],[425,41,445,41],[425,42,445,42],[425,43,445,43],[425,44,445,44],[425,45,445,45],[425,46,445,46],[425,24,427,24],[425,36,445,36],[425,37,445,37],[425,38,445,38],[425,39,445,39],[425,40,445,40],[425,49,445,49],[446,47,466,47],[446,48,466,48],[446,50,466,50],[449,24,451,24],[452,24,454,24],[455,24,457,24],[458,24,460,24],[461,24,463,24],[464,24,466,24],[446,41,466,41],[446,42,466,42],[446,43,466,43],[446,44,466,44],[446,45,466,45],[446,46,466,46],[446,24,448,24],[446,36,466,36],[446,37,466,37],[446,38,466,38],[446,39,466,39],[446,40,466,40],[446,49,466,49],[467,47,487,47],[467,48,487,48],[467,50,487,50],[470,24,472,24],[473,24,475,24],[476,24,478,24],[479,24,481,24],[482,24,484,24],[485,24,487,24],[467,41,487,41],[467,42,487,42],[467,43,487,43],[467,44,487,44],[467,45,487,45],[467,46,487,46],[467,24,469,24],[467,36,487,36],[467,37,487,37],[467,38,487,38],[467,39,487,39],[467,40,487,40],[467,49,487,49],[488,46,508,46],[488,47,508,47],[488,48,508,48],[488,50,508,50],[491,24,493,24],[494,24,496,24],[497,24,499,24],[500,24,502,24],[503,24,505,24],[506,24,508,24],[488,40,508,40],[488,41,508,41],[488,42,508,42],[488,43,508,43],[488,44,508,44],[488,45,508,45],[488,24,490,24],[488,36,508,36],[488,37,508,37],[488,38,508,38],[488,39,508,39],[488,49,508,49],[509,46,529,46],[509,47,529,47],[509,48,529,48],[509,50,529,50],[512,24,514,24],[515,24,517,24],[518,24,520,24],[521,24,523,24],[524,24,526,24],[527,24,529,24],[509,40,529,40],[509,41,529,41],[509,42,529,42],[509,43,529,43],[509,44,529,44],[509,45,529,45],[509,24,511,24],[509,36,529,36],[509,37,529,37],[509,38,529,38],[509,39,529,39],[509,49,529,49],[530,46,550,46],[530,47,550,47],[530,48,550,48],[530,50,550,50],[533,24,535,24],[536,24,538,24],[539,24,541,24],[542,24,544,24],[545,24,547,24],[548,24,550,24],[530,40,550,40],[530,41,550,41],[530,42,550,42],[530,43,550,43],[530,44,550,44],[530,45,550,45],[530,24,532,24],[530,36,550,36],[530,37,550,37],[530,38,550,38],[530,39,550,39],[530,49,550,49],[551,46,571,46],[551,47,571,47],[551,48,571,48],[551,50,571,50],[554,24,556,24],[557,24,559,24],[560,24,562,24],[563,24,565,24],[566,24,568,24],[569,24,571,24],[551,40,571,40],[551,41,571,41],[551,42,571,42],[551,43,571,43],[551,44,571,44],[551,45,571,45],[551,24,553,24],[551,36,571,36],[551,37,571,37],[551,38,571,38],[551,39,571,39],[551,49,571,49],[572,46,592,46],[572,47,592,47],[572,48,592,48],[572,50,592,50],[575,24,577,24],[578,24,580,24],[581,24,583,24],[584,24,586,24],[587,24,589,24],[590,24,592,24],[572,40,592,40],[572,41,592,41],[572,42,592,42],[572,43,592,43],[572,44,592,44],[572,45,592,45],[572,24,574,24],[572,36,592,36],[572,37,592,37],[572,38,592,38],[572,39,592,39],[572,49,592,49],[593,46,613,46],[593,47,613,47],[593,48,613,48],[593,50,613,50],[596,24,598,24],[599,24,601,24],[602,24,604,24],[605,24,607,24],[608,24,610,24],[611,24,613,24],[593,40,613,40],[593,41,613,41],[593,42,613,42],[593,43,613,43],[593,44,613,44],[593,45,613,45],[593,24,595,24],[593,36,613,36],[593,37,613,37],[593,38,613,38],[593,39,613,39],[593,49,613,49],[614,46,634,46],[614,47,634,47],[614,48,634,48],[614,50,634,50],[617,24,619,24],[620,24,622,24],[623,24,625,24],[626,24,628,24],[629,24,631,24],[632,24,634,24],[614,40,634,40],[614,41,634,41],[614,42,634,42],[614,43,634,43],[614,44,634,44],[614,45,634,45],[614,24,616,24],[614,36,634,36],[614,37,634,37],[614,38,634,38],[614,39,634,39],[614,49,634,49],[635,46,655,46],[635,47,655,47],[635,48,655,48],[635,50,655,50],[638,24,640,24],[641,24,643,24],[644,24,646,24],[647,24,649,24],[650,24,652,24],[653,24,655,24],[635,40,655,40],[635,41,655,41],[635,42,655,42],[635,43,655,43],[635,44,655,44],[635,45,655,45],[635,24,637,24],[635,36,655,36],[635,37,655,37],[635,38,655,38],[635,39,655,39],[635,49,655,49],[656,46,676,46],[656,47,676,47],[656,48,676,48],[656,50,676,50],[659,24,661,24],[662,24,664,24],[665,24,667,24],[668,24,670,24],[671,24,673,24],[674,24,676,24],[656,40,676,40],[656,41,676,41],[656,42,676,42],[656,43,676,43],[656,44,676,44],[656,45,676,45],[656,24,658,24],[656,36,676,36],[656,37,676,37],[656,38,676,38],[656,39,676,39],[656,49,676,49],[677,46,697,46],[677,47,697,47],[677,48,697,48],[677,50,697,50],[680,24,682,24],[683,24,685,24],[686,24,688,24],[689,24,691,24],[692,24,694,24],[695,24,697,24],[677,40,697,40],[677,41,697,41],[677,42,697,42],[677,43,697,43],[677,44,697,44],[677,45,697,45],[677,24,679,24],[677,36,697,36],[677,37,697,37],[677,38,697,38],[677,39,697,39],[677,49,697,49],[698,46,718,46],[698,47,718,47],[698,48,718,48],[698,50,718,50],[701,24,703,24],[704,24,706,24],[707,24,709,24],[710,24,712,24],[713,24,715,24],[716,24,718,24],[698,40,718,40],[698,41,718,41],[698,42,718,42],[698,43,718,43],[698,44,718,44],[698,45,718,45],[698,24,700,24],[698,36,718,36],[698,37,718,37],[698,38,718,38],[698,39,718,39],[698,49,718,49],[719,46,739,46],[719,47,739,47],[719,48,739,48],[719,50,739,50],[722,24,724,24],[725,24,727,24],[728,24,730,24],[731,24,733,24],[734,24,736,24],[737,24,739,24],[719,40,739,40],[719,41,739,41],[719,42,739,42],[719,43,739,43],[719,44,739,44],[719,45,739,45],[719,24,721,24],[719,36,739,36],[719,37,739,37],[719,38,739,38],[719,39,739,39],[719,49,739,49],[740,46,760,46],[740,47,760,47],[740,48,760,48],[740,50,760,50],[743,24,745,24],[746,24,748,24],[749,24,751,24],[752,24,754,24],[755,24,757,24],[758,24,760,24],[740,40,760,40],[740,41,760,41],[740,42,760,42],[740,43,760,43],[740,44,760,44],[740,45,760,45],[740,24,742,24],[740,36,760,36],[740,37,760,37],[740,38,760,38],[740,39,760,39],[740,49,760,49],[761,46,781,46],[761,47,781,47],[761,48,781,48],[761,50,781,50],[764,24,766,24],[767,24,769,24],[770,24,772,24],[773,24,775,24],[776,24,778,24],[779,24,781,24],[761,40,781,40],[761,41,781,41],[761,42,781,42],[761,43,781,43],[761,44,781,44],[761,45,781,45],[761,24,763,24],[761,36,781,36],[761,37,781,37],[761,38,781,38],[761,39,781,39],[761,49,781,49],[782,46,802,46],[782,47,802,47],[782,48,802,48],[782,50,802,50],[785,24,787,24],[788,24,790,24],[791,24,793,24],[794,24,796,24],[797,24,799,24],[800,24,802,24],[782,40,802,40],[782,41,802,41],[782,42,802,42],[782,43,802,43],[782,44,802,44],[782,45,802,45],[782,24,784,24],[782,36,802,36],[782,37,802,37],[782,38,802,38],[782,39,802,39],[782,49,802,49],[803,46,823,46],[803,47,823,47],[803,48,823,48],[803,50,823,50],[806,24,808,24],[809,24,811,24],[812,24,814,24],[815,24,817,24],[818,24,820,24],[821,24,823,24],[803,40,823,40],[803,41,823,41],[803,42,823,42],[803,43,823,43],[803,44,823,44],[803,45,823,45],[803,24,805,24],[803,36,823,36],[803,37,823,37],[803,38,823,38],[803,39,823,39],[803,49,823,49],[824,46,844,46],[824,47,844,47],[824,48,844,48],[824,50,844,50],[827,24,829,24],[830,24,832,24],[833,24,835,24],[836,24,838,24],[839,24,841,24],[842,24,844,24],[824,40,844,40],[824,41,844,41],[824,42,844,42],[824,43,844,43],[824,44,844,44],[824,45,844,45],[824,24,826,24],[824,36,844,36],[824,37,844,37],[824,38,844,38],[824,39,844,39],[824,49,844,49],[845,46,865,46],[845,47,865,47],[845,48,865,48],[845,50,865,50],[848,24,850,24],[851,24,853,24],[854,24,856,24],[857,24,859,24],[860,24,862,24],[863,24,865,24],[845,40,865,40],[845,41,865,41],[845,42,865,42],[845,43,865,43],[845,44,865,44],[845,45,865,45],[845,24,847,24],[845,36,865,36],[845,37,865,37],[845,38,865,38],[845,39,865,39],[845,49,865,49],[866,46,886,46],[866,47,886,47],[866,48,886,48],[866,50,886,50],[869,24,871,24],[872,24,874,24],[875,24,877,24],[878,24,880,24],[881,24,883,24],[884,24,886,24],[866,40,886,40],[866,41,886,41],[866,42,886,42],[866,43,886,43],[866,44,886,44],[866,45,886,45],[866,24,868,24],[866,36,886,36],[866,37,886,37],[866,38,886,38],[866,39,886,39],[866,49,886,49],[887,46,907,46],[887,47,907,47],[887,48,907,48],[887,50,907,50],[890,24,892,24],[893,24,895,24],[896,24,898,24],[899,24,901,24],[902,24,904,24],[905,24,907,24],[887,40,907,40],[887,41,907,41],[887,42,907,42],[887,43,907,43],[887,44,907,44],[887,45,907,45],[887,24,889,24],[887,36,907,36],[887,37,907,37],[887,38,907,38],[887,39,907,39],[887,49,907,49],[908,46,928,46],[908,47,928,47],[908,48,928,48],[908,50,928,50],[911,24,913,24],[914,24,916,24],[917,24,919,24],[920,24,922,24],[923,24,925,24],[926,24,928,24],[908,40,928,40],[908,41,928,41],[908,42,928,42],[908,43,928,43],[908,44,928,44],[908,45,928,45],[908,24,910,24],[908,36,928,36],[908,37,928,37],[908,38,928,38],[908,39,928,39],[908,49,928,49],[929,46,949,46],[929,47,949,47],[929,48,949,48],[929,50,949,50],[932,24,934,24],[935,24,937,24],[938,24,940,24],[941,24,943,24],[944,24,946,24],[947,24,949,24],[929,40,949,40],[929,41,949,41],[929,42,949,42],[929,43,949,43],[929,44,949,44],[929,45,949,45],[929,24,931,24]],"merged_total":1181,"flags":["merged_cut"]}
[null,null,null,null,null,null,null,null,null,null,null,null,null,null,null,null,null,null,null,null,null,null,null,{"$f":"DATA!$C$15","v":"SRI LH"},null,null,null,null,"TA Target",null,{"$f":"DATA!$C$9","v":0.89},null,null,null,null,null,null,null,null,null,null,"TA","=","[ A ]"]
[null,null,null,null,null,null,null,null,null,null,null,null,null,null,null,null,null,null,null,null,null,null,null,null,null,null,null,null,"Cycle Time",null,{"$f":"DATA!$C$10","v":64},null,{"$f":"AE2/60","v":1.0666666666666667}]
[null,null,null,null,null,null,null,null,null,null,null,null,null,null,null,null,null,null,null,null,null,null,null,null,null,null,null,null,"Enter Data",null,null,null,null,null,null,null,null,null,null,null,null,null,null,"[ T ] - [ BS ] - [ PS ]"]
["ID","Shift\n Start Time","Shift \nEnd Time","Break Time","Total \nShift time [Hour]","Available\nProduction Time [Hour]","Target [%]","Cycle time [s]","Target Ouput [56/H]","Parts Target \n[56/H]","Parts Target\n[100% Availability]","Blocked / Starved\n[Hour]","Loss Blocked/ Starved [Parts]","Loss Blocked/ Starved [%]","Planned Stop/ Early Finish\n[Hour]","Loss Planned Stop/ Early Finish [Parts]","Loss \nPlanned Stop/ Early Finish\n[%]","Rekenkolom Benodigde tijd ","Produced Parts Actual","Produced Parts Shift D1","Produced Parts Shift D2","Produced Parts Shift D3",null,"Week ","Date","Day","Shift","Shift","Blocked / Starved [Min]","Planned Stop / Early Finish\n[Min]","Parts during break","Produced Parts Total","Downtime Technical SAP[min]","Delta [Parts]","Availability (Total Time)\n[%]","Technical Availabilty SRI LH\n[%]","Parts Target\n[100% Availability]  ","Parts Actual                        ","Availability (Total Time)\n[%]","Loss Blocked/ Starved [Parts]","Loss Blocked/ Starved [%] ","Loss \nPlanned Stop/ Early Finish [Parts]","Loss \nPlanned Stop/ Early Finish\n[%]","Technical Availability Total LH\n[%]","Technical Availability \nShift D1\n[%]","Technical Availability Shift D2\n[%]","Technical Availability Shift D3\n[%]","Total Downtime [Parts]","Total Downtime\n[%]","Total Downtime [Min]","Geregistreerd SAP Technical Downtime [Min]","Major Items Downtime"]
[null,null,null,null,null,null,null,null,null,null,null,null,null,null,null,null,null,null,null,null,null,null,null,null,null,null,null,null,null,null,null,null,null,null,null,null,"[T]","[A]",null,"[BS]",null,"[PS]",null,null,"D1","D2","D3"]
[{"$f":"X6&Z6&AA6","v":"1maDD"},{"$f":"VLOOKUP($AA6,DATA!$B$3:$E$6,2,0)","v":"06:30:00"},{"$f":"VLOOKUP($AA6,DATA!$B$3:$E$6,3,0)","v":"14:30:00"},{"$f":"VLOOKUP($AA6,DATA!$B$3:$E$6,4,0)","v":3.125E-2},{"$f":"(C6-B6+(B6>C6))-D6","v":0.30208333333333331},{"$f":"E6-O6-L6","v":0.30208333333333331},{"$f":"DATA!$C$9","v":0.89},{"$f":"DATA!$C$10","v":64},1,{"$f":"F6*86400/H6*I6","v":407.8125},{"$f":"E6*86400/H6","v":407.8125},{"$f":"TIME(INT($AC6/60),INT(MOD($AC6,60)/1),0)","v":0},{"$f":"IF($L6*86400/$H6=0,\"\",$L6*86400/$H6)","v":""},{"$f":"IFERROR($M6/$K6,\"\")","v":""},{"$f":"TIME(INT($AD6/60),INT(MOD($AD6,60)/1),0)","v":0},{"$f":"IF($O6*86400/$H6=0,\"\",$O6*86400/$H6)","v":""},{"$f":"IFERROR($P6/$K6,\"\")","v":""},{"$f":"AF6*AG$2","v":0},{"$f":"IF(AF6-AE6=0,\"\",AF6-AE6)","v":""},{"$f":"IF(IF($AB6=\"D1\",$S6,\"\")=0,\"\",IF($AB6=\"D1\",$S6,\"\"))","v":""},{"$f":"IF(IF($AB6=\"D2\",$S6,\"\")=0,\"\",IF($AB6=\"D2\",$S6,\"\"))","v":""},{"$f":"IF(IF($AB6=\"D3\",$S6,\"\")=0,\"\",IF($AB6=\"D3\",$S6,\"\"))","v":""},null,{"$f":"X16","v":1},"2018-01-01",{"$f":"TEXT(Y6,\"ddd\")","v":"ma"},"DD",{"$f":"IFERROR(HLOOKUP(Y6,[1]DATA!$A$1:$NB$5,3,0),\"\")","v":"D1"},null,null,null,null,0,"","","",3487.5,2392,0.6858781362007168,916.875,0.26290322580645159,56.25,1.6129032258064516E-2,0.96792819353839898,0.96792753937479747,"",0.96792884770200027,122.375,3.508960573476709E-2,130.53333333333333,94]
["1maMD",{"$f":"VLOOKUP($AA7,DATA!$B$3:$E$6,2,0)","v":"14:30:00"},{"$f":"VLOOKUP($AA7,DATA!$B$3:$E$6,3,0)","v":"22:30:00"},{"$f":"VLOOKUP($AA7,DATA!$B$3:$E$6,4,0)","v":3.125E-2},{"$f":"(C7-B7+(B7>C7))-D7","v":0.30208333333333337},{"$f":"E7-O7-L7","v":0.30208333333333337},{"$f":"DATA!$C$9","v":0.89},{"$f":"DATA!$C$10","v":64},1,{"$f":"F7*86400/H7*I7","v":407.81250000000006},{"$f":"E7*86400/H7","v":407.81250000000006},{"$f":"TIME(INT($AC7/60),INT(MOD($AC7,60)/1),0)","v":0},{"$f":"IF($L7*86400/$H7=0,\"\",$L7*86400/$H7)","v":""},{"$f":"IFERROR($M7/$K7,\"\")","v":""},{"$f":"TIME(INT(AD7/60),INT(MOD(AD7,60)/1),0)","v":0},"",{"$f":"IFERROR($P7/$K7,\"\")","v":""},{"$f":"AF7*AG$2","v":0},{"$f":"IF(AF7-AE7=0,\"\",AF7-AE7)","v":""},{"$f":"IF(IF($AB7=\"D1\",$S7,\"\")=0,\"\",IF($AB7=\"D1\",$S7,\"\"))","v":""},{"$f":"IF(IF($AB7=\"D2\",$S7,\"\")=0,\"\",IF($AB7=\"D2\",$S7,\"\"))","v":""},{"$f":"IF(IF($AB7=\"D3\",$S7,\"\")=0,\"\",IF($AB7=\"D3\",$S7,\"\"))","v":""},null,{"$f":"X16","v":1},null,{"$f":"TEXT(Y6,\"ddd\")","v":"ma"},"MD",{"$f":"IFERROR(HLOOKUP(Y6,[1]DATA!$A$1:$NB$5,4,0),\"\")","v":"D3"},null,null,null,null,0,"","",""]
["1maND",{"$f":"VLOOKUP($AA8,DATA!$B$3:$E$6,2,0)","v":"22:30:00"},{"$f":"VLOOKUP($AA8,DATA!$B$3:$E$6,3,0)","v":"06:30:00"},{"$f":"VLOOKUP($AA8,DATA!$B$3:$E$6,4,0)","v":3.125E-2},0.30208333333333326,0.30208333333333326,{"$f":"DATA!$C$9","v":0.89},{"$f":"DATA!$C$10","v":64},1,407.81249999999989,407.81249999999989,0,"","",0,"","",0,"","","","",null,{"$f":"X16","v":1},null,{"$f":"TEXT(Y6,\"ddd\")","v":"ma"},"ND",{"$f":"IFERROR(HLOOKUP(Y6,[1]DATA!$A$1:$NB$5,5,0),\"\")","v":"D2"},null,null,null,null,0,"","",""]
["1diDD",{"$f":"VLOOKUP($AA9,DATA!$B$3:$E$6,2,0)","v":"06:30:00"},{"$f":"VLOOKUP($AA9,DATA!$B$3:$E$6,3,0)","v":"14:30:00"},{"$f":"VLOOKUP($AA9,DATA!$B$3:$E$6,4,0)","v":3.125E-2},0.30208333333333331,0.21111111111111108,{"$f":"DATA!$C$9","v":0.89},{"$f":"DATA!$C$10","v":64},1,284.99999999999994,407.8125,9.0972222222222218E-2,122.8125,0.30114942528735633,0,"","",263.46666666666664,226,226,"","",null,{"$f":"X16","v":1},{"$f":"Y6+1","v":"2018-01-02"},{"$f":"TEXT(Y9,\"ddd\")","v":"di"},"DD",{"$f":"IFERROR(HLOOKUP(Y9,[1]DATA!$A$1:$NB$5,3,0),\"\")","v":"D1"},131,null,21,247,3,-87.125,0.51842293906810033,0.98874155616712534]
["1diMD",{"$f":"VLOOKUP($AA10,DATA!$B$3:$E$6,2,0)","v":"14:30:00"},{"$f":"VLOOKUP($AA10,DATA!$B$3:$E$6,3,0)","v":"22:30:00"},{"$f":"VLOOKUP($AA10,DATA!$B$3:$E$6,4,0)","v":3.125E-2},0.30208333333333337,0.28611111111111115,{"$f":"DATA!$C$9","v":0.89},{"$f":"DATA!$C$10","v":64},1,386.25000000000006,407.81250000000006,1.5972222222222224E-2,21.562500000000004,5.2873563218390804E-2,0,"","",385.06666666666666,339,"","",339,null,{"$f":"X16","v":1},null,{"$f":"TEXT(Y9,\"ddd\")","v":"di"},"MD",{"$f":"IFERROR(HLOOKUP(Y9,[1]DATA!$A$1:$NB$5,4,0),\"\")","v":"D3"},23,null,22,361,30,-75.374999999999943,0.77763440860215061,0.92772245422422106]
["1diND",{"$f":"VLOOKUP($AA11,DATA!$B$3:$E$6,2,0)","v":"22:30:00"},{"$f":"VLOOKUP($AA11,DATA!$B$3:$E$6,3,0)","v":"06:30:00"},{"$f":"VLOOKUP($AA11,DATA!$B$3:$E$6,4,0)","v":3.125E-2},0.30208333333333326,0.30208333333333326,{"$f":"DATA!$C$9","v":0.89},{"$f":"DATA!$C$10","v":64},1,407.81249999999989,407.81249999999989,0,"","",0,"","",0,"","","","",null,{"$f":"X16","v":1},null,{"$f":"TEXT(Y9,\"ddd\")","v":"di"},"ND",{"$f":"IFERROR(HLOOKUP(Y9,[1]DATA!$A$1:$NB$5,5,0),\"\")","v":"D2"},null,null,null,null,0,"","",""]
["1woDD",{"$f":"VLOOKUP($AA12,DATA!$B$3:$E$6,2,0)","v":"06:30:00"},{"$f":"VLOOKUP($AA12,DATA!$B$3:$E$6,3,0)","v":"14:30:00"},{"$f":"VLOOKUP($AA12,DATA!$B$3:$E$6,4,0)","v":3.125E-2},0.30208333333333331,0.22847222222222219,{"$f":"DATA!$C$9","v":0.89},{"$f":"DATA!$C$10","v":64},1,308.43749999999994,407.8125,7.3611111111111113E-2,99.375,0.24367816091954023,0,"","",360.5333333333333,323,323,"","",null,{"$f":"X16","v":1},{"$f":"Y9+1","v":"2018-01-03"},{"$f":"TEXT(Y12,\"ddd\")","v":"wo"},"DD",{"$f":"IFERROR(HLOOKUP(Y12,[1]DATA!$A$1:$NB$5,3,0),\"\")","v":"D1"},106,null,15,338,0,-13.5625,0.74093189964157702,1]
["1woMD",{"$f":"VLOOKUP($AA13,DATA!$B$3:$E$6,2,0)","v":"14:30:00"},{"$f":"VLOOKUP($AA13,DATA!$B$3:$E$6,3,0)","v":"22:30:00"},{"$f":"VLOOKUP($AA13,DATA!$B$3:$E$6,4,0)","v":3.125E-2},0.30208333333333337,0.22222222222222227,{"$f":"DATA!$C$9","v":0.89},{"$f":"DATA!$C$10","v":64},1,300.00000000000006,407.81250000000006,7.9861111111111105E-2,107.81249999999999,0.26436781609195398,0,"","",375.46666666666664,343,"","",343,null,{"$f":"X16","v":1},null,{"$f":"TEXT(Y12,\"ddd\")","v":"wo"},"MD",{"$f":"IFERROR(HLOOKUP(Y12,[1]DATA!$A$1:$NB$5,4,0),\"\")","v":"D3"},115,null,9,352,5,14.875000000000057,0.78681003584229403,0.98685824426143332]
["1woND",{"$f":"VLOOKUP($AA14,DATA!$B$3:$E$6,2,0)","v":"22:30:00"},{"$f":"VLOOKUP($AA14,DATA!$B$3:$E$6,3,0)","v":"06:30:00"},{"$f":"VLOOKUP($AA14,DATA!$B$3:$E$6,4,0)","v":3.125E-2},0.30208333333333326,0.30208333333333326,{"$f":"DATA!$C$9","v":0.89},{"$f":"DATA!$C$10","v":64},1,407.81249999999989,407.81249999999989,0,"","",0,"","",0,"","","","",null,{"$f":"X16","v":1},null,{"$f":"TEXT(Y12,\"ddd\")","v":"wo"},"ND",{"$f":"IFERROR(HLOOKUP(Y12,[1]DATA!$A$1:$NB$5,5,0),\"\")","v":"D2"},null,null,null,null,0,"","",""]
["1doDD",{"$f":"VLOOKUP($AA15,DATA!$B$3:$E$6,2,0)","v":"06:30:00"},{"$f":"VLOOKUP($AA15,DATA!$B$3:$E$6,3,0)","v":"14:30:00"},{"$f":"VLOOKUP($AA15,DATA!$B$3:$E$6,4,0)","v":3.125E-2},0.30208333333333331,0.14861111111111108,{"$f":"DATA!$C$9","v":0.89},{"$f":"DATA!$C$10","v":64},1,200.62499999999997,407.8125,0.15347222222222223,207.1875,0.50804597701149423,0,"","",300.8,262,262,"","",null,{"$f":"X16","v":1},{"$f":"Y12+1","v":"2018-01-04"},{"$f":"TEXT(Y15,\"ddd\")","v":"do"},"DD",{"$f":"IFERROR(HLOOKUP(Y15,[1]DATA!$A$1:$NB$5,3,0),\"\")","v":"D1"},221,null,20,282,0,33.25,0.60100358422939071,1]
["1doMD",{"$f":"VLOOKUP($AA16,DATA!$B$3:$E$6,2,0)","v":"14:30:00"},{"$f":"VLOOKUP($AA16,DATA!$B$3:$E$6,3,0)","v":"22:30:00"},{"$f":"VLOOKUP($AA16,DATA!$B$3:$E$6,4,0)","v":3.125E-2},0.30208333333333337,0.20694444444444449,{"$f":"DATA!$C$9","v":0.89},{"$f":"DATA!$C$10","v":64},1,279.37500000000006,407.81250000000006,9.5138888888888884E-2,128.4375,0.31494252873563217,0,"","",361.6,324,"","",324,null,{"$f":"WEEKNUM($Y6)","v":1},null,{"$f":"TEXT(Y15,\"ddd\")","v":"do"},"MD",{"$f":"IFERROR(HLOOKUP(Y15,[1]DATA!$A$1:$NB$5,4,0),\"\")","v":"D3"},137,null,15,339,0,16.500000000000057,0.74322580645161296,1]
["1doND",{"$f":"VLOOKUP($AA17,DATA!$B$3:$E$6,2,0)","v":"22:30:00"},{"$f":"VLOOKUP($AA17,DATA!$B$3:$E$6,3,0)","v":"06:30:00"},{"$f":"VLOOKUP($AA17,DATA!$B$3:$E$6,4,0)","v":3.125E-2},0.30208333333333326,0.30208333333333326,{"$f":"DATA!$C$9","v":0.89},{"$f":"DATA!$C$10","v":64},1,407.81249999999989,407.81249999999989,0,"","",0,"","",0,"","","","",null,{"$f":"X16","v":1},null,{"$f":"TEXT(Y15,\"ddd\")","v":"do"},"ND",{"$f":"IFERROR(HLOOKUP(Y15,[1]DATA!$A$1:$NB$5,5,0),\"\")","v":"D2"},null,null,null,null,0,"","",""]
["1vrDD",{"$f":"VLOOKUP($AA18,DATA!$B$3:$E$6,2,0)","v":"06:30:00"},{"$f":"VLOOKUP($AA18,DATA!$B$3:$E$6,3,0)","v":"14:30:00"},{"$f":"VLOOKUP($AA18,DATA!$B$3:$E$6,4,0)","v":3.125E-2},0.30208333333333331,0.18055555555555552,{"$f":"DATA!$C$9","v":0.89},{"$f":"DATA!$C$10","v":64},1,243.74999999999997,407.8125,9.375E-2,126.5625,0.31034482758620691,2.7777777777777776E-2,37.5,9.1954022988505746E-2,309.33333333333331,274,274,"","",null,{"$f":"X16","v":1},{"$f":"Y15+1","v":"2018-01-05"},{"$f":"TEXT(Y18,\"ddd\")","v":"vr"},"DD",{"$f":"IFERROR(HLOOKUP(Y18,[1]DATA!$A$1:$NB$5,3,0),\"\")","v":"D1"},135,40,16,290,41,2.125,0.62853046594982076,0.88296860133206467]
["1vrMD",{"$f":"VLOOKUP($AA19,DATA!$B$3:$E$6,2,0)","v":"14:30:00"},{"$f":"VLOOKUP($AA19,DATA!$B$3:$E$6,3,0)","v":"22:30:00"},{"$f":"VLOOKUP($AA19,DATA!$B$3:$E$6,4,0)","v":3.125E-2},0.30208333333333337,0.21180555555555558,{"$f":"DATA!$C$9","v":0.89},{"$f":"DATA!$C$10","v":64},1,285.93750000000006,407.81250000000006,7.6388888888888895E-2,103.12500000000001,0.25287356321839083,1.3888888888888888E-2,18.75,4.5977011494252866E-2,334.93333333333334,301,"","",301,null,{"$f":"X16","v":1},null,{"$f":"TEXT(Y18,\"ddd\")","v":"vr"},"MD",{"$f":"IFERROR(HLOOKUP(Y18,[1]DATA!$A$1:$NB$5,4,0),\"\")","v":"D3"},110,20,13,314,15,-13.062499999999943,0.69046594982078857,0.95713469232234716]
["1vrND",{"$f":"VLOOKUP($AA20,DATA!$B$3:$E$6,2,0)","v":"22:30:00"},{"$f":"VLOOKUP($AA20,DATA!$B$3:$E$6,3,0)","v":"06:30:00"},{"$f":"VLOOKUP($AA20,DATA!$B$3:$E$6,4,0)","v":3.125E-2},0.30208333333333326,0.30208333333333326,{"$f":"DATA!$C$9","v":0.89},{"$f":"DATA!$C$10","v":64},1,407.81249999999989,407.81249999999989,0,"","",0,"","",0,"","","","",null,{"$f":"X16","v":1},null,{"$f":"TEXT(Y18,\"ddd\")","v":"vr"},"ND",{"$f":"IFERROR(HLOOKUP(Y18,[1]DATA!$A$1:$NB$5,5,0),\"\")","v":"-"},null,null,null,null,0,"","",""]
["1zaDD",{"$f":"VLOOKUP($AA21,DATA!$B$3:$E$6,2,0)","v":"06:30:00"},{"$f":"VLOOKUP($AA21,DATA!$B$3:$E$6,3,0)","v":"14:30:00"},{"$f":"VLOOKUP($AA21,DATA!$B$3:$E$6,4,0)","v":3.125E-2},0.30208333333333331,0.30208333333333331,{"$f":"DATA!$C$9","v":0.89},{"$f":"DATA!$C$10","v":64},1,407.8125,407.8125,0,"","",0,"","",0,"","","","",null,{"$f":"X16","v":1},{"$f":"Y18+1","v":"2018-01-06"},{"$f":"TEXT(Y21,\"ddd\")","v":"za"},"DD",{"$f":"IFERROR(HLOOKUP(Y21,[1]DATA!$A$1:$NB$5,3,0),\"\")","v":"-"},null,null,null,null,0,"","",""]
["1zaMD",{"$f":"VLOOKUP($AA22,DATA!$B$3:$E$6,2,0)","v":"14:30:00"},{"$f":"VLOOKUP($AA22,DATA!$B$3:$E$6,3,0)","v":"22:30:00"},{"$f":"VLOOKUP($AA22,DATA!$B$3:$E$6,4,0)","v":3.125E-2},0.30208333333333337,0.30208333333333337,{"$f":"DATA!$C$9","v":0.89},{"$f":"DATA!$C$10","v":64},1,407.81250000000006,407.81250000000006,0,"","",0,"","",0,"","","","",null,{"$f":"X16","v":1},null,{"$f":"TEXT(Y21,\"ddd\")","v":"za"},"MD",{"$f":"IFERROR(HLOOKUP(Y21,[1]DATA!$A$1:$NB$5,4,0),\"\")","v":"-"},null,null,null,null,0,"","",""]
["1zaND",{"$f":"VLOOKUP($AA23,DATA!$B$3:$E$6,2,0)","v":"22:30:00"},{"$f":"VLOOKUP($AA23,DATA!$B$3:$E$6,3,0)","v":"06:30:00"},{"$f":"VLOOKUP($AA23,DATA!$B$3:$E$6,4,0)","v":3.125E-2},0.30208333333333326,0.30208333333333326,{"$f":"DATA!$C$9","v":0.89},{"$f":"DATA!$C$10","v":64},1,407.81249999999989,407.81249999999989,0,"","",0,"","",0,"","","","",null,{"$f":"X16","v":1},null,{"$f":"TEXT(Y21,\"ddd\")","v":"za"},"ND",{"$f":"IFERROR(HLOOKUP(Y21,[1]DATA!$A$1:$NB$5,5,0),\"\")","v":"-"},null,null,null,null,0,"","",""]
["1zoDD",{"$f":"VLOOKUP($AA24,DATA!$B$3:$E$6,2,0)","v":"06:30:00"},{"$f":"VLOOKUP($AA24,DATA!$B$3:$E$6,3,0)","v":"14:30:00"},{"$f":"VLOOKUP($AA24,DATA!$B$3:$E$6,4,0)","v":3.125E-2},0.30208333333333331,0.30208333333333331,{"$f":"DATA!$C$9","v":0.89},{"$f":"DATA!$C$10","v":64},1,407.8125,407.8125,0,"","",0,"","",0,"","","","",null,{"$f":"X16","v":1},{"$f":"Y21+1","v":"2018-01-07"},{"$f":"TEXT(Y24,\"ddd\")","v":"zo"},"DD",{"$f":"IFERROR(HLOOKUP(Y24,[1]DATA!$A$1:$NB$5,3,0),\"\")","v":"-"},null,null,null,null,0,"","",""]
["1zoMD",{"$f":"VLOOKUP($AA25,DATA!$B$3:$E$6,2,0)","v":"14:30:00"},{"$f":"VLOOKUP($AA25,DATA!$B$3:$E$6,3,0)","v":"22:30:00"},{"$f":"VLOOKUP($AA25,DATA!$B$3:$E$6,4,0)","v":3.125E-2},0.30208333333333337,0.30208333333333337,{"$f":"DATA!$C$9","v":0.89},{"$f":"DATA!$C$10","v":64},1,407.81250000000006,407.81250000000006,0,"","",0,"","",0,"","","","",null,{"$f":"X16","v":1},null,{"$f":"TEXT(Y24,\"ddd\")","v":"zo"},"MD",{"$f":"IFERROR(HLOOKUP(Y24,[1]DATA!$A$1:$NB$5,4,0),\"\")","v":"-"},null,null,null,null,0,"","",""]
["1zoZND",{"$f":"VLOOKUP($AA26,DATA!$B$3:$E$6,2,0)","v":"00:00:00"},{"$f":"VLOOKUP($AA26,DATA!$B$3:$E$6,3,0)","v":"00:00:00"},{"$f":"VLOOKUP($AA26,DATA!$B$3:$E$6,4,0)","v":3.125E-2},-3.125E-2,-3.125E-2,{"$f":"DATA!$C$9","v":0.89},{"$f":"DATA!$C$10","v":64},1,-42.1875,-42.1875,0,"","",0,"","",0,"","","","",null,{"$f":"X16","v":1},null,{"$f":"TEXT(Y24,\"ddd\")","v":"zo"},"ZND",{"$f":"IFERROR(HLOOKUP(Y24,[1]DATA!$A$1:$NB$5,5,0),\"\")","v":"D1"},null,null,null,null,0,"","",""]
["2maDD",{"$f":"VLOOKUP($AA27,DATA!$B$3:$E$6,2,0)","v":"06:30:00"},{"$f":"VLOOKUP($AA27,DATA!$B$3:$E$6,3,0)","v":"14:30:00"},{"$f":"VLOOKUP($AA27,DATA!$B$3:$E$6,4,0)","v":3.125E-2},0.30208333333333331,0.13402777777777775,{"$f":"DATA!$C$9","v":0.89},{"$f":"DATA!$C$10","v":64},1,{"$f":"F27*86400/H27*I27","v":180.93749999999994},{"$f":"E27*86400/H27","v":407.8125},{"$f":"TIME(INT($AC27/60),INT(MOD($AC27,60)/1),0)","v":9.0277777777777776E-2},{"$f":"IF($L27*86400/$H27=0,\"\",$L27*86400/$H27)","v":121.875},{"$f":"IFERROR($M27/$K27,\"\")","v":0.2988505747126437},{"$f":"TIME(INT($AD27/60),INT(MOD($AD27,60)/1),0)","v":7.7777777777777779E-2},105,{"$f":"IFERROR($P27/$K27,\"\")","v":0.25747126436781609},{"$f":"AF27*AG$2","v":230.4},{"$f":"IF(AF27-AE27=0,\"\",AF27-AE27)","v":209},{"$f":"IF(IF($AB27=\"D1\",$S27,\"\")=0,\"\",IF($AB27=\"D1\",$S27,\"\"))","v":""},{"$f":"IF(IF($AB27=\"D2\",$S27,\"\")=0,\"\",IF($AB27=\"D2\",$S27,\"\"))","v":""},{"$f":"IF(IF($AB27=\"D3\",$S27,\"\")=0,\"\",IF($AB27=\"D3\",$S27,\"\"))","v":209},null,{"$f":"X37","v":2},{"$f":"Y24+1","v":"2018-01-08"},{"$f":"TEXT(Y27,\"ddd\")","v":"ma"},"DD",{"$f":"IFERROR(HLOOKUP(Y27,[1]DATA!$A$1:$NB$5,3,0),\"\")","v":"D3"},130,112,7,216,20,-6.25E-2,0.47942652329749103,0.92012779552715651,4359.375,3146,0.72166308243727595,1083.75,0.2486021505376344,105,2.4086021505376344E-2,0.96854263748396985,"",0.9800251908759261,0.9570600840920136,24.625,5.6487455197133038E-3,26.266666666666666,115]
["2maMD",{"$f":"VLOOKUP($AA28,DATA!$B$3:$E$6,2,0)","v":"14:30:00"},{"$f":"VLOOKUP($AA28,DATA!$B$3:$E$6,3,0)","v":"22:30:00"},{"$f":"VLOOKUP($AA28,DATA!$B$3:$E$6,4,0)","v":3.125E-2},{"$f":"(C28-B28+(B28>C28))-D28","v":0.30208333333333337},{"$f":"E28-O28-L28","v":0.19583333333333336},{"$f":"DATA!$C$9","v":0.89},{"$f":"DATA!$C$10","v":64},1,{"$f":"F28*86400/H28*I28","v":264.37500000000006},{"$f":"E28*86400/H28","v":407.81250000000006},0.10625,143.4375,0.35172413793103441,{"$f":"TIME(INT(AD28/60),INT(MOD(AD28,60)/1),0)","v":0},"","",{"$f":"AF28*AG$2","v":358.4},{"$f":"IF(AF28-AE28=0,\"\",AF28-AE28)","v":320},"",320,"",null,{"$f":"X37","v":2},null,{"$f":"TEXT(Y27,\"ddd\")","v":"ma"},"MD",{"$f":"IFERROR(HLOOKUP(Y27,[1]DATA!$A$1:$NB$5,4,0),\"\")","v":"D2"},153,null,16,336,3,27.500000000000057,0.73405017921146964,0.99169894853348095]
["2maND",{"$f":"VLOOKUP($AA29,DATA!$B$3:$E$6,2,0)","v":"22:30:00"},{"$f":"VLOOKUP($AA29,DATA!$B$3:$E$6,3,0)","v":"06:30:00"},{"$f":"VLOOKUP($AA29,DATA!$B$3:$E$6,4,0)","v":3.125E-2},0.30208333333333326,0.30208333333333326,{"$f":"DATA!$C$9","v":0.89},{"$f":"DATA!$C$10","v":64},1,407.81249999999989,407.81249999999989,0,"","",0,"","",0,"","","","",null,{"$f":"X37","v":2},null,{"$f":"TEXT(Y27,\"ddd\")","v":"ma"},"ND",{"$f":"IFERROR(HLOOKUP(Y27,[1]DATA!$A$1:$NB$5,5,0),\"\")","v":"D1"},null,null,null,null,0,"","",""]
["2diDD",{"$f":"VLOOKUP($AA30,DATA!$B$3:$E$6,2,0)","v":"06:30:00"},{"$f":"VLOOKUP($AA30,DATA!$B$3:$E$6,3,0)","v":"14:30:00"},{"$f":"VLOOKUP($AA30,DATA!$B$3:$E$6,4,0)","v":3.125E-2},0.30208333333333331,0.17222222222222219,{"$f":"DATA!$C$9","v":0.89},{"$f":"DATA!$C$10","v":64},1,232.49999999999997,407.8125,0.12986111111111112,175.3125,0.42988505747126438,0,"","",330.66666666666669,287,"","",287,null,{"$f":"X37","v":2},{"$f":"Y27+1","v":"2018-01-09"},{"$f":"TEXT(Y30,\"ddd\")","v":"di"},"DD",{"$f":"IFERROR(HLOOKUP(Y30,[1]DATA!$A$1:$NB$5,3,0),\"\")","v":"D3"},187,null,23,310,5,26.375,0.65835125448028675,0.9851042701092354]
["2diMD",{"$f":"VLOOKUP($AA31,DATA!$B$3:$E$6,2,0)","v":"14:30:00"},{"$f":"VLOOKUP($AA31,DATA!$B$3:$E$6,3,0)","v":"22:30:00"},{"$f":"VLOOKUP($AA31,DATA!$B$3:$E$6,4,0)","v":3.125E-2},0.30208333333333337,0.21388888888888891,{"$f":"DATA!$C$9","v":0.89},{"$f":"DATA!$C$10","v":64},1,288.75,407.81250000000006,8.819444444444445E-2,119.06250000000001,0.29195402298850576,0,"","",349.86666666666667,314,"",314,"",null,{"$f":"X37","v":2},null,{"$f":"TEXT(Y30,\"ddd\")","v":"di"},"MD",{"$f":"IFERROR(HLOOKUP(Y30,[1]DATA!$A$1:$NB$5,4,0),\"\")","v":"D2"},127,null,14,328,0,-2.8749999999999432,0.72028673835125456,1]
["2diND",{"$f":"VLOOKUP($AA32,DATA!$B$3:$E$6,2,0)","v":"22:30:00"},{"$f":"VLOOKUP($AA32,DATA!$B$3:$E$6,3,0)","v":"06:30:00"},{"$f":"VLOOKUP($AA32,DATA!$B$3:$E$6,4,0)","v":3.125E-2},0.30208333333333326,0.30208333333333326,{"$f":"DATA!$C$9","v":0.89},{"$f":"DATA!$C$10","v":64},1,407.81249999999989,407.81249999999989,0,"","",0,"","",0,"","","","",null,{"$f":"X37","v":2},null,{"$f":"TEXT(Y30,\"ddd\")","v":"di"},"ND",{"$f":"IFERROR(HLOOKUP(Y30,[1]DATA!$A$1:$NB$5,5,0),\"\")","v":"D1"},null,null,null,null,0,"","",""]
["2woDD",{"$f":"VLOOKUP($AA33,DATA!$B$3:$E$6,2,0)","v":"06:30:00"},{"$f":"VLOOKUP($AA33,DATA!$B$3:$E$6,3,0)","v":"14:30:00"},{"$f":"VLOOKUP($AA33,DATA!$B$3:$E$6,4,0)","v":3.125E-2},0.30208333333333331,0.29236111111111107,{"$f":"DATA!$C$9","v":0.89},{"$f":"DATA!$C$10","v":64},1,394.68749999999994,407.8125,9.7222222222222224E-3,13.125,3.2183908045977011E-2,0,"","",400,363,"","",363,null,{"$f":"X37","v":2},{"$f":"Y30+1","v":"2018-01-10"},{"$f":"TEXT(Y33,\"ddd\")","v":"wo"},"DD",{"$f":"IFERROR(HLOOKUP(Y33,[1]DATA!$A$1:$NB$5,3,0),\"\")","v":"D3"},14,null,12,375,10,-59.8125,0.83268817204301071,0.97560975609756095]
["2woMD",{"$f":"VLOOKUP($AA34,DATA!$B$3:$E$6,2,0)","v":"14:30:00"},{"$f":"VLOOKUP($AA34,DATA!$B$3:$E$6,3,0)","v":"22:30:00"},{"$f":"VLOOKUP($AA34,DATA!$B$3:$E$6,4,0)","v":3.125E-2},0.30208333333333337,0.18402777777777779,{"$f":"DATA!$C$9","v":0.89},{"$f":"DATA!$C$10","v":64},1,248.43750000000003,407.81250000000006,0.11805555555555557,159.37500000000003,0.39080459770114945,0,"","",328.5333333333333,292,"",292,"",null,{"$f":"X37","v":2},null,{"$f":"TEXT(Y33,\"ddd\")","v":"wo"},"MD",{"$f":"IFERROR(HLOOKUP(Y33,[1]DATA!$A$1:$NB$5,4,0),\"\")","v":"D2"},170,null,16,308,3,15.437500000000057,0.669820788530466,0.99095113613512975]
["2woND",{"$f":"VLOOKUP($AA35,DATA!$B$3:$E$6,2,0)","v":"22:30:00"},{"$f":"VLOOKUP($AA35,DATA!$B$3:$E$6,3,0)","v":"06:30:00"},{"$f":"VLOOKUP($AA35,DATA!$B$3:$E$6,4,0)","v":3.125E-2},0.30208333333333326,0.30208333333333326,{"$f":"DATA!$C$9","v":0.89},{"$f":"DATA!$C$10","v":64},1,407.81249999999989,407.81249999999989,0,"","",0,"","",0,"","","","",null,{"$f":"X37","v":2},null,{"$f":"TEXT(Y33,\"ddd\")","v":"wo"},"ND",{"$f":"IFERROR(HLOOKUP(Y33,[1]DATA!$A$1:$NB$5,5,0),\"\")","v":"D1"},null,null,null,null,0,"","",""]
["2doDD",{"$f":"VLOOKUP($AA36,DATA!$B$3:$E$6,2,0)","v":"06:30:00"},{"$f":"VLOOKUP($AA36,DATA!$B$3:$E$6,3,0)","v":"14:30:00"},{"$f":"VLOOKUP($AA36,DATA!$B$3:$E$6,4,0)","v":3.125E-2},0.30208333333333331,0.21944444444444444,{"$f":"DATA!$C$9","v":0.89},{"$f":"DATA!$C$10","v":64},1,296.25,407.8125,8.2638888888888887E-2,111.5625,0.27356321839080461,0,"","",390.4,344,"","",344,null,{"$f":"X37","v":2},{"$f":"Y33+1","v":"2018-01-11"},{"$f":"TEXT(Y36,\"ddd\")","v":"do"},"DD",{"$f":"IFERROR(HLOOKUP(Y36,[1]DATA!$A$1:$NB$5,3,0),\"\")","v":"D3"},119,null,22,366,0,19.624999999999943,0.78910394265232975,1]
["2doMD",{"$f":"VLOOKUP($AA37,DATA!$B$3:$E$6,2,0)","v":"14:30:00"},{"$f":"VLOOKUP($AA37,DATA!$B$3:$E$6,3,0)","v":"22:30:00"},{"$f":"VLOOKUP($AA37,DATA!$B$3:$E$6,4,0)","v":3.125E-2},0.30208333333333337,0.2680555555555556,{"$f":"DATA!$C$9","v":0.89},{"$f":"DATA!$C$10","v":64},1,361.87500000000006,407.81250000000006,3.4027777777777775E-2,45.937499999999993,0.11264367816091951,0,"","",384,341,"",341,"",null,{"$f":"WEEKNUM($Y27)","v":2},null,{"$f":"TEXT(Y36,\"ddd\")","v":"do"},"MD",{"$f":"IFERROR(HLOOKUP(Y36,[1]DATA!$A$1:$NB$5,4,0),\"\")","v":"D2"},49,null,19,360,30,-48.999999999999943,0.78222222222222237,0.92753623188405798]
["2doND",{"$f":"VLOOKUP($AA38,DATA!$B$3:$E$6,2,0)","v":"22:30:00"},{"$f":"VLOOKUP($AA38,DATA!$B$3:$E$6,3,0)","v":"06:30:00"},{"$f":"VLOOKUP($AA38,DATA!$B$3:$E$6,4,0)","v":3.125E-2},0.30208333333333326,0.30208333333333326,{"$f":"DATA!$C$9","v":0.89},{"$f":"DATA!$C$10","v":64},1,407.81249999999989,407.81249999999989,0,"","",0,"","",0,"","","","",null,{"$f":"X37","v":2},null,{"$f":"TEXT(Y36,\"ddd\")","v":"do"},"ND",{"$f":"IFERROR(HLOOKUP(Y36,[1]DATA!$A$1:$NB$5,5,0),\"\")","v":"D1"},null,null,null,null,0,"","",""]
["2vrDD",{"$f":"VLOOKUP($AA39,DATA!$B$3:$E$6,2,0)","v":"06:30:00"},{"$f":"VLOOKUP($AA39,DATA!$B$3:$E$6,3,0)","v":"14:30:00"},{"$f":"VLOOKUP($AA39,DATA!$B$3:$E$6,4,0)","v":3.125E-2},0.30208333333333331,0.25416666666666665,{"$f":"DATA!$C$9","v":0.89},{"$f":"DATA!$C$10","v":64},1,343.125,407.8125,4.7916666666666663E-2,64.6875,0.15862068965517243,0,"","",378.66666666666669,330,"","",330,null,{"$f":"X37","v":2},{"$f":"Y36+1","v":"2018-01-12"},{"$f":"TEXT(Y39,\"ddd\")","v":"vr"},"DD",{"$f":"IFERROR(HLOOKUP(Y39,[1]DATA!$A$1:$NB$5,3,0),\"\")","v":"D3"},69,null,25,355,40,-41.250000000000057,0.75698924731182793,0.90445859872611467]
["2vrMD",{"$f":"VLOOKUP($AA40,DATA!$B$3:$E$6,2,0)","v":"14:30:00"},{"$f":"VLOOKUP($AA40,DATA!$B$3:$E$6,3,0)","v":"22:30:00"},{"$f":"VLOOKUP($AA40,DATA!$B$3:$E$6,4,0)","v":3.125E-2},0.30208333333333337,0.20625000000000004,{"$f":"DATA!$C$9","v":0.89},{"$f":"DATA!$C$10","v":64},1,278.43750000000006,407.81250000000006,9.5833333333333326E-2,129.375,0.3172413793103448,0,"","",393.6,346,"",346,"",null,{"$f":"X37","v":2},null,{"$f":"TEXT(Y39,\"ddd\")","v":"vr"},"MD",{"$f":"IFERROR(HLOOKUP(Y39,[1]DATA!$A$1:$NB$5,4,0),\"\")","v":"D2"},138,null,23,369,4,39.437500000000057,0.79369175627240152,0.98993963782696182]
["2vrND",{"$f":"VLOOKUP($AA41,DATA!$B$3:$E$6,2,0)","v":"22:30:00"},{"$f":"VLOOKUP($AA41,DATA!$B$3:$E$6,3,0)","v":"06:30:00"},{"$f":"VLOOKUP($AA41,DATA!$B$3:$E$6,4,0)","v":3.125E-2},0.30208333333333326,0.30208333333333326,{"$f":"DATA!$C$9","v":0.89},{"$f":"DATA!$C$10","v":64},1,407.81249999999989,407.81249999999989,0,"","",0,"","",0,"","","","",null,{"$f":"X37","v":2},null,{"$f":"TEXT(Y39,\"ddd\")","v":"vr"},"ND",{"$f":"IFERROR(HLOOKUP(Y39,[1]DATA!$A$1:$NB$5,5,0),\"\")","v":"-"},null,null,null,null,0,"","",""]
["2zaDD",{"$f":"VLOOKUP($AA42,DATA!$B$3:$E$6,2,0)","v":"06:30:00"},{"$f":"VLOOKUP($AA42,DATA!$B$3:$E$6,3,0)","v":"14:30:00"},{"$f":"VLOOKUP($AA42,DATA!$B$3:$E$6,4,0)","v":3.125E-2},0.30208333333333331,0.30208333333333331,{"$f":"DATA!$C$9","v":0.89},{"$f":"DATA!$C$10","v":64},1,407.8125,407.8125,0,"","",0,"","",0,"","","","",null,{"$f":"X37","v":2},{"$f":"Y39+1","v":"2018-01-13"},{"$f":"TEXT(Y42,\"ddd\")","v":"za"},"DD",{"$f":"IFERROR(HLOOKUP(Y42,[1]DATA!$A$1:$NB$5,3,0),\"\")","v":"-"},null,null,null,null,0,"","",""]
["2zaMD",{"$f":"VLOOKUP($AA43,DATA!$B$3:$E$6,2,0)","v":"14:30:00"},{"$f":"VLOOKUP($AA43,DATA!$B$3:$E$6,3,0)","v":"22:30:00"},{"$f":"VLOOKUP($AA43,DATA!$B$3:$E$6,4,0)","v":3.125E-2},0.30208333333333337,0.30208333333333337,{"$f":"DATA!$C$9","v":0.89},{"$f":"DATA!$C$10","v":64},1,407.81250000000006,407.81250000000006,0,"","",0,"","",0,"","","","",null,{"$f":"X37","v":2},null,{"$f":"TEXT(Y42,\"ddd\")","v":"za"},"MD",{"$f":"IFERROR(HLOOKUP(Y42,[1]DATA!$A$1:$NB$5,4,0),\"\")","v":"-"},null,null,null,null,0,"","",""]
["2zaND",{"$f":"VLOOKUP($AA44,DATA!$B$3:$E$6,2,0)","v":"22:30:00"},{"$f":"VLOOKUP($AA44,DATA!$B$3:$E$6,3,0)","v":"06:30:00"},{"$f":"VLOOKUP($AA44,DATA!$B$3:$E$6,4,0)","v":3.125E-2},0.30208333333333326,0.30208333333333326,{"$f":"DATA!$C$9","v":0.89},{"$f":"DATA!$C$10","v":64},1,407.81249999999989,407.81249999999989,0,"","",0,"","",0,"","","","",null,{"$f":"X37","v":2},null,{"$f":"TEXT(Y42,\"ddd\")","v":"za"},"ND",{"$f":"IFERROR(HLOOKUP(Y42,[1]DATA!$A$1:$NB$5,5,0),\"\")","v":"-"},null,null,null,null,0,"","",""]
["2zoDD",{"$f":"VLOOKUP($AA45,DATA!$B$3:$E$6,2,0)","v":"06:30:00"},{"$f":"VLOOKUP($AA45,DATA!$B$3:$E$6,3,0)","v":"14:30:00"},{"$f":"VLOOKUP($AA45,DATA!$B$3:$E$6,4,0)","v":3.125E-2},0.30208333333333331,0.30208333333333331,{"$f":"DATA!$C$9","v":0.89},{"$f":"DATA!$C$10","v":64},1,407.8125,407.8125,0,"","",0,"","",0,"","","","",null,{"$f":"X37","v":2},{"$f":"Y42+1","v":"2018-01-14"},{"$f":"TEXT(Y45,\"ddd\")","v":"zo"},"DD",{"$f":"IFERROR(HLOOKUP(Y45,[1]DATA!$A$1:$NB$5,3,0),\"\")","v":"-"},null,null,null,null,0,"","",""]
["2zoMD",{"$f":"VLOOKUP($AA46,DATA!$B$3:$E$6,2,0)","v":"14:30:00"},{"$f":"VLOOKUP($AA46,DATA!$B$3:$E$6,3,0)","v":"22:30:00"},{"$f":"VLOOKUP($AA46,DATA!$B$3:$E$6,4,0)","v":3.125E-2},0.30208333333333337,0.30208333333333337,{"$f":"DATA!$C$9","v":0.89},{"$f":"DATA!$C$10","v":64},1,407.81250000000006,407.81250000000006,0,"","",0,"","",0,"","","","",null,{"$f":"X37","v":2},null,{"$f":"TEXT(Y45,\"ddd\")","v":"zo"},"MD",{"$f":"IFERROR(HLOOKUP(Y45,[1]DATA!$A$1:$NB$5,4,0),\"\")","v":"-"},null,null,null,null,0,"","",""]
["2zoZND",{"$f":"VLOOKUP($AA47,DATA!$B$3:$E$6,2,0)","v":"00:00:00"},{"$f":"VLOOKUP($AA47,DATA!$B$3:$E$6,3,0)","v":"00:00:00"},{"$f":"VLOOKUP($AA47,DATA!$B$3:$E$6,4,0)","v":3.125E-2},-3.125E-2,-3.125E-2,{"$f":"DATA!$C$9","v":0.89},{"$f":"DATA!$C$10","v":64},1,-42.1875,-42.1875,0,"","",0,"","",0,"","","","",null,{"$f":"X37","v":2},null,{"$f":"TEXT(Y45,\"ddd\")","v":"zo"},"ZND",{"$f":"IFERROR(HLOOKUP(Y45,[1]DATA!$A$1:$NB$5,5,0),\"\")","v":"D3"},null,null,null,null,0,"","",""]
[{"$f":"X48&Z48&AA48","v":"3maDD"},{"$f":"VLOOKUP($AA48,DATA!$B$3:$E$6,2,0)","v":"06:30:00"},{"$f":"VLOOKUP($AA48,DATA!$B$3:$E$6,3,0)","v":"14:30:00"},{"$f":"VLOOKUP($AA48,DATA!$B$3:$E$6,4,0)","v":3.125E-2},0.30208333333333331,0.20277777777777778,{"$f":"DATA!$C$9","v":0.89},{"$f":"DATA!$C$10","v":64},1,273.75,407.8125,9.930555555555555E-2,134.0625,0.32873563218390806,{"$f":"TIME(INT($AD48/60),INT(MOD($AD48,60)/1),0)","v":0},{"$f":"IF($O48*86400/$H48=0,\"\",$O48*86400/$H48)","v":""},"",350.93333333333334,307,"",307,"",null,{"$f":"X58","v":3},{"$f":"Y45+1","v":"2018-01-15"},{"$f":"TEXT(Y48,\"ddd\")","v":"ma"},"DD",{"$f":"IFERROR(HLOOKUP(Y48,[1]DATA!$A$1:$NB$5,3,0),\"\")","v":"D2"},143,null,22,329,10,5.1249999999999432,0.70422939068100354,0.97229405245659406,4359.375,2881,0.66087455197132616,1325.625,0.30408602150537634,0,0,0.91813735618196923,0.96654369626230707,0.86973101610163117,"",152.75,3.5039426523297501E-2,162.93333333333334,260]
["3maMD",{"$f":"VLOOKUP($AA49,DATA!$B$3:$E$6,2,0)","v":"14:30:00"},{"$f":"VLOOKUP($AA49,DATA!$B$3:$E$6,3,0)","v":"22:30:00"},{"$f":"VLOOKUP($AA49,DATA!$B$3:$E$6,4,0)","v":3.125E-2},0.30208333333333337,0.19444444444444448,{"$f":"DATA!$C$9","v":0.89},{"$f":"DATA!$C$10","v":64},1,262.50000000000006,407.81250000000006,0.1076388888888889,145.3125,0.35632183908045972,{"$f":"TIME(INT(AD49/60),INT(MOD(AD49,60)/1),0)","v":0},"","",330.66666666666669,295,295,"","",null,{"$f":"X58","v":3},null,{"$f":"TEXT(Y48,\"ddd\")","v":"ma"},"MD",{"$f":"IFERROR(HLOOKUP(Y48,[1]DATA!$A$1:$NB$5,4,0),\"\")","v":"D1"},155,null,15,310,0,4.3750000000000568,0.6767025089605736,1]
["3maND",{"$f":"VLOOKUP($AA50,DATA!$B$3:$E$6,2,0)","v":"22:30:00"},{"$f":"VLOOKUP($AA50,DATA!$B$3:$E$6,3,0)","v":"06:30:00"},{"$f":"VLOOKUP($AA50,DATA!$B$3:$E$6,4,0)","v":3.125E-2},0.30208333333333326,0.30208333333333326,{"$f":"DATA!$C$9","v":0.89},{"$f":"DATA!$C$10","v":64},1,407.81249999999989,407.81249999999989,0,"","",0,"","",0,"","","","",null,{"$f":"X58","v":3},null,{"$f":"TEXT(Y48,\"ddd\")","v":"ma"},"ND",{"$f":"IFERROR(HLOOKUP(Y48,[1]DATA!$A$1:$NB$5,5,0),\"\")","v":"D3"},null,null,null,null,0,"","",""]
["3diDD",{"$f":"VLOOKUP($AA51,DATA!$B$3:$E$6,2,0)","v":"06:30:00"},{"$f":"VLOOKUP($AA51,DATA!$B$3:$E$6,3,0)","v":"14:30:00"},{"$f":"VLOOKUP($AA51,DATA!$B$3:$E$6,4,0)","v":3.125E-2},0.30208333333333331,0.21249999999999997,{"$f":"DATA!$C$9","v":0.89},{"$f":"DATA!$C$10","v":64},1,286.87499999999994,407.8125,8.9583333333333334E-2,120.9375,0.29655172413793102,0,"","",331.73333333333335,300,"",300,"",null,{"$f":"X58","v":3},{"$f":"Y48+1","v":"2018-01-16"},{"$f":"TEXT(Y51,\"ddd\")","v":"di"},"DD",{"$f":"IFERROR(HLOOKUP(Y51,[1]DATA!$A$1:$NB$5,3,0),\"\")","v":"D2"},129,null,11,311,0,-15,0.68817204301075274,1]
["3diMD",{"$f":"VLOOKUP($AA52,DATA!$B$3:$E$6,2,0)","v":"14:30:00"},{"$f":"VLOOKUP($AA52,DATA!$B$3:$E$6,3,0)","v":"22:30:00"},{"$f":"VLOOKUP($AA52,DATA!$B$3:$E$6,4,0)","v":3.125E-2},0.30208333333333337,0.22847222222222224,{"$f":"DATA!$C$9","v":0.89},{"$f":"DATA!$C$10","v":64},1,308.4375,407.81250000000006,7.3611111111111113E-2,99.375,0.2436781609195402,0,"","",405.33333333333331,354,354,"","",null,{"$f":"X58","v":3},null,{"$f":"TEXT(Y51,\"ddd\")","v":"di"},"MD",{"$f":"IFERROR(HLOOKUP(Y51,[1]DATA!$A$1:$NB$5,4,0),\"\")","v":"D1"},106,null,26,380,0,17.437500000000057,0.81204301075268825,1]
["3diND",{"$f":"VLOOKUP($AA53,DATA!$B$3:$E$6,2,0)","v":"22:30:00"},{"$f":"VLOOKUP($AA53,DATA!$B$3:$E$6,3,0)","v":"06:30:00"},{"$f":"VLOOKUP($AA53,DATA!$B$3:$E$6,4,0)","v":3.125E-2},0.30208333333333326,0.30208333333333326,{"$f":"DATA!$C$9","v":0.89},{"$f":"DATA!$C$10","v":64},1,407.81249999999989,407.81249999999989,0,"","",0,"","",0,"","","","",null,{"$f":"X58","v":3},null,{"$f":"TEXT(Y51,\"ddd\")","v":"di"},"ND",{"$f":"IFERROR(HLOOKUP(Y51,[1]DATA!$A$1:$NB$5,5,0),\"\")","v":"D3"},null,null,null,null,0,"","",""]
["3woDD",{"$f":"VLOOKUP($AA54,DATA!$B$3:$E$6,2,0)","v":"06:30:00"},{"$f":"VLOOKUP($AA54,DATA!$B$3:$E$6,3,0)","v":"14:30:00"},{"$f":"VLOOKUP($AA54,DATA!$B$3:$E$6,4,0)","v":3.125E-2},0.30208333333333331,0.12569444444444441,{"$f":"DATA!$C$9","v":0.89},{"$f":"DATA!$C$10","v":64},1,169.68749999999997,407.8125,0.1763888888888889,238.12500000000003,0.58390804597701151,0,"","",133.33333333333334,118,"",118,"",null,{"$f":"X58","v":3},{"$f":"Y51+1","v":"2018-01-17"},{"$f":"TEXT(Y54,\"ddd\")","v":"wo"},"DD",{"$f":"IFERROR(HLOOKUP(Y54,[1]DATA!$A$1:$NB$5,3,0),\"\")","v":"D2"},254,null,7,125,120,-79.8125,0.27068100358422942,0.52631578947368418]
["3woMD",{"$f":"VLOOKUP($AA55,DATA!$B$3:$E$6,2,0)","v":"14:30:00"},{"$f":"VLOOKUP($AA55,DATA!$B$3:$E$6,3,0)","v":"22:30:00"},{"$f":"VLOOKUP($AA55,DATA!$B$3:$E$6,4,0)","v":3.125E-2},0.30208333333333337,0.27847222222222223,{"$f":"DATA!$C$9","v":0.89},{"$f":"DATA!$C$10","v":64},1,375.9375,407.81250000000006,2.361111111111111E-2,31.875,7.816091954022987E-2,0,"","",392.5333333333333,328,328,"","",null,{"$f":"X58","v":3},null,{"$f":"TEXT(Y54,\"ddd\")","v":"wo"},"MD",{"$f":"IFERROR(HLOOKUP(Y54,[1]DATA!$A$1:$NB$5,4,0),\"\")","v":"D1"},34,null,40,368,74,-76.062499999999886,0.75240143369175638,0.84138325235781652]
["3woND",{"$f":"VLOOKUP($AA56,DATA!$B$3:$E$6,2,0)","v":"22:30:00"},{"$f":"VLOOKUP($AA56,DATA!$B$3:$E$6,3,0)","v":"06:30:00"},{"$f":"VLOOKUP($AA56,DATA!$B$3:$E$6,4,0)","v":3.125E-2},0.30208333333333326,0.30208333333333326,{"$f":"DATA!$C$9","v":0.89},{"$f":"DATA!$C$10","v":64},1,407.81249999999989,407.81249999999989,0,"","",0,"","",0,"","","","",null,{"$f":"X58","v":3},null,{"$f":"TEXT(Y54,\"ddd\")","v":"wo"},"ND",{"$f":"IFERROR(HLOOKUP(Y54,[1]DATA!$A$1:$NB$5,5,0),\"\")","v":"D3"},null,null,null,null,0,"","",""]
["3doDD",{"$f":"VLOOKUP($AA57,DATA!$B$3:$E$6,2,0)","v":"06:30:00"},{"$f":"VLOOKUP($AA57,DATA!$B$3:$E$6,3,0)","v":"14:30:00"},{"$f":"VLOOKUP($AA57,DATA!$B$3:$E$6,4,0)","v":3.125E-2},0.30208333333333331,0.15486111111111109,{"$f":"DATA!$C$9","v":0.89},{"$f":"DATA!$C$10","v":64},1,209.06249999999997,407.8125,0.14722222222222223,198.75,0.48735632183908045,0,"","",249.6,225,"",225,"",null,{"$f":"X58","v":3},{"$f":"Y54+1","v":"2018-01-18"},{"$f":"TEXT(Y57,\"ddd\")","v":"do"},"DD",{"$f":"IFERROR(HLOOKUP(Y57,[1]DATA!$A$1:$NB$5,3,0),\"\")","v":"D2"},212,null,9,234,18,-12.187500000000028,0.5161290322580645,0.93273542600896853]
["3doMD",{"$f":"VLOOKUP($AA58,DATA!$B$3:$E$6,2,0)","v":"14:30:00"},{"$f":"VLOOKUP($AA58,DATA!$B$3:$E$6,3,0)","v":"22:30:00"},{"$f":"VLOOKUP($AA58,DATA!$B$3:$E$6,4,0)","v":3.125E-2},0.30208333333333337,0.20138888888888895,{"$f":"DATA!$C$9","v":0.89},{"$f":"DATA!$C$10","v":64},1,271.87500000000006,407.81250000000006,0.10069444444444443,135.93749999999997,0.3333333333333332,0,"","",368,321,321,"","",null,{"$f":"WEEKNUM($Y48)","v":3},null,{"$f":"TEXT(Y57,\"ddd\")","v":"do"},"MD",{"$f":"IFERROR(HLOOKUP(Y57,[1]DATA!$A$1:$NB$5,4,0),\"\")","v":"D1"},145,null,24,345,1,21,0.73634408602150547,0.99728997289972898]
["3doND",{"$f":"VLOOKUP($AA59,DATA!$B$3:$E$6,2,0)","v":"22:30:00"},{"$f":"VLOOKUP($AA59,DATA!$B$3:$E$6,3,0)","v":"06:30:00"},{"$f":"VLOOKUP($AA59,DATA!$B$3:$E$6,4,0)","v":3.125E-2},0.30208333333333326,0.30208333333333326,{"$f":"DATA!$C$9","v":0.89},{"$f":"DATA!$C$10","v":64},1,407.81249999999989,407.81249999999989,0,"","",0,"","",0,"","","","",null,{"$f":"X58","v":3},null,{"$f":"TEXT(Y57,\"ddd\")","v":"do"},"ND",{"$f":"IFERROR(HLOOKUP(Y57,[1]DATA!$A$1:$NB$5,5,0),\"\")","v":"D3"},null,null,null,null,0,"","",""]
["3vrDD",{"$f":"VLOOKUP($AA60,DATA!$B$3:$E$6,2,0)","v":"06:30:00"},{"$f":"VLOOKUP($AA60,DATA!$B$3:$E$6,3,0)","v":"14:30:00"},{"$f":"VLOOKUP($AA60,DATA!$B$3:$E$6,4,0)","v":3.125E-2},0.30208333333333331,0.25624999999999998,{"$f":"DATA!$C$9","v":0.89},{"$f":"DATA!$C$10","v":64},1,345.93749999999994,407.8125,4.5833333333333337E-2,61.875000000000007,0.15172413793103451,0,"","",388.26666666666665,343,"",343,"",null,{"$f":"X58","v":3},{"$f":"Y57+1","v":"2018-01-19"},{"$f":"TEXT(Y60,\"ddd\")","v":"vr"},"DD",{"$f":"IFERROR(HLOOKUP(Y60,[1]DATA!$A$1:$NB$5,3,0),\"\")","v":"D2"},66,null,21,364,35,-31.0625,0.78681003584229392,0.91730981256890853]
["3vrMD",{"$f":"VLOOKUP($AA61,DATA!$B$3:$E$6,2,0)","v":"14:30:00"},{"$f":"VLOOKUP($AA61,DATA!$B$3:$E$6,3,0)","v":"22:30:00"},{"$f":"VLOOKUP($AA61,DATA!$B$3:$E$6,4,0)","v":3.125E-2},0.30208333333333337,0.18402777777777779,{"$f":"DATA!$C$9","v":0.89},{"$f":"DATA!$C$10","v":64},1,248.43750000000003,407.81250000000006,0.11805555555555557,159.37500000000003,0.39080459770114945,0,"","",333.86666666666667,290,290,"","",null,{"$f":"X58","v":3},null,{"$f":"TEXT(Y60,\"ddd\")","v":"vr"},"MD",{"$f":"IFERROR(HLOOKUP(Y60,[1]DATA!$A$1:$NB$5,4,0),\"\")","v":"D1"},170,null,23,313,2,13.437500000000057,0.66523297491039435,0.99404525605398963]
["3vrND",{"$f":"VLOOKUP($AA62,DATA!$B$3:$E$6,2,0)","v":"22:30:00"},{"$f":"VLOOKUP($AA62,DATA!$B$3:$E$6,3,0)","v":"06:30:00"},{"$f":"VLOOKUP($AA62,DATA!$B$3:$E$6,4,0)","v":3.125E-2},0.30208333333333326,0.30208333333333326,{"$f":"DATA!$C$9","v":0.89},{"$f":"DATA!$C$10","v":64},1,407.81249999999989,407.81249999999989,0,"","",0,"","",0,"","","","",null,{"$f":"X58","v":3},null,{"$f":"TEXT(Y60,\"ddd\")","v":"vr"},"ND",{"$f":"IFERROR(HLOOKUP(Y60,[1]DATA!$A$1:$NB$5,5,0),\"\")","v":"-"},null,null,null,null,0,"","",""]
["3zaDD",{"$f":"VLOOKUP($AA63,DATA!$B$3:$E$6,2,0)","v":"06:30:00"},{"$f":"VLOOKUP($AA63,DATA!$B$3:$E$6,3,0)","v":"14:30:00"},{"$f":"VLOOKUP($AA63,DATA!$B$3:$E$6,4,0)","v":3.125E-2},0.30208333333333331,0.30208333333333331,{"$f":"DATA!$C$9","v":0.89},{"$f":"DATA!$C$10","v":64},1,407.8125,407.8125,0,"","",0,"","",0,"","","","",null,{"$f":"X58","v":3},{"$f":"Y60+1","v":"2018-01-20"},{"$f":"TEXT(Y63,\"ddd\")","v":"za"},"DD",{"$f":"IFERROR(HLOOKUP(Y63,[1]DATA!$A$1:$NB$5,3,0),\"\")","v":"-"},null,null,null,null,0,"","",""]
["3zaMD",{"$f":"VLOOKUP($AA64,DATA!$B$3:$E$6,2,0)","v":"14:30:00"},{"$f":"VLOOKUP($AA64,DATA!$B$3:$E$6,3,0)","v":"22:30:00"},{"$f":"VLOOKUP($AA64,DATA!$B$3:$E$6,4,0)","v":3.125E-2},0.30208333333333337,0.30208333333333337,{"$f":"DATA!$C$9","v":0.89},{"$f":"DATA!$C$10","v":64},1,407.81250000000006,407.81250000000006,0,"","",0,"","",0,"","","","",null,{"$f":"X58","v":3},null,{"$f":"TEXT(Y63,\"ddd\")","v":"za"},"MD",{"$f":"IFERROR(HLOOKUP(Y63,[1]DATA!$A$1:$NB$5,4,0),\"\")","v":"-"},null,null,null,null,0,"","",""]
["3zaND",{"$f":"VLOOKUP($AA65,DATA!$B$3:$E$6,2,0)","v":"22:30:00"},{"$f":"VLOOKUP($AA65,DATA!$B$3:$E$6,3,0)","v":"06:30:00"},{"$f":"VLOOKUP($AA65,DATA!$B$3:$E$6,4,0)","v":3.125E-2},0.30208333333333326,0.30208333333333326,{"$f":"DATA!$C$9","v":0.89},{"$f":"DATA!$C$10","v":64},1,407.81249999999989,407.81249999999989,0,"","",0,"","",0,"","","","",null,{"$f":"X58","v":3},null,{"$f":"TEXT(Y63,\"ddd\")","v":"za"},"ND",{"$f":"IFERROR(HLOOKUP(Y63,[1]DATA!$A$1:$NB$5,5,0),\"\")","v":"-"},null,null,null,null,0,"","",""]
["3zoDD",{"$f":"VLOOKUP($AA66,DATA!$B$3:$E$6,2,0)","v":"06:30:00"},{"$f":"VLOOKUP($AA66,DATA!$B$3:$E$6,3,0)","v":"14:30:00"},{"$f":"VLOOKUP($AA66,DATA!$B$3:$E$6,4,0)","v":3.125E-2},0.30208333333333331,0.30208333333333331,{"$f":"DATA!$C$9","v":0.89},{"$f":"DATA!$C$10","v":64},1,407.8125,407.8125,0,"","",0,"","",0,"","","","",null,{"$f":"X58","v":3},{"$f":"Y63+1","v":"2018-01-21"},{"$f":"TEXT(Y66,\"ddd\")","v":"zo"},"DD",{"$f":"IFERROR(HLOOKUP(Y66,[1]DATA!$A$1:$NB$5,3,0),\"\")","v":"-"},null,null,null,null,0,"","",""]
["3zoMD",{"$f":"VLOOKUP($AA67,DATA!$B$3:$E$6,2,0)","v":"14:30:00"},{"$f":"VLOOKUP($AA67,DATA!$B$3:$E$6,3,0)","v":"22:30:00"},{"$f":"VLOOKUP($AA67,DATA!$B$3:$E$6,4,0)","v":3.125E-2},0.30208333333333337,0.30208333333333337,{"$f":"DATA!$C$9","v":0.89},{"$f":"DATA!$C$10","v":64},1,407.81250000000006,407.81250000000006,0,"","",0,"","",0,"","","","",null,{"$f":"X58","v":3},null,{"$f":"TEXT(Y66,\"ddd\")","v":"zo"},"MD",{"$f":"IFERROR(HLOOKUP(Y66,[1]DATA!$A$1:$NB$5,4,0),\"\")","v":"-"},null,null,null,null,0,"","",""]
["3zoZND",{"$f":"VLOOKUP($AA68,DATA!$B$3:$E$6,2,0)","v":"00:00:00"},{"$f":"VLOOKUP($AA68,DATA!$B$3:$E$6,3,0)","v":"00:00:00"},{"$f":"VLOOKUP($AA68,DATA!$B$3:$E$6,4,0)","v":3.125E-2},-3.125E-2,-3.125E-2,{"$f":"DATA!$C$9","v":0.89},{"$f":"DATA!$C$10","v":64},1,-42.1875,-42.1875,0,"","",0,"","",0,"","","","",null,{"$f":"X58","v":3},null,{"$f":"TEXT(Y66,\"ddd\")","v":"zo"},"ZND",{"$f":"IFERROR(HLOOKUP(Y66,[1]DATA!$A$1:$NB$5,5,0),\"\")","v":"D2"},null,null,null,null,0,"","",""]
["4maDD",{"$f":"VLOOKUP($AA69,DATA!$B$3:$E$6,2,0)","v":"06:30:00"},{"$f":"VLOOKUP($AA69,DATA!$B$3:$E$6,3,0)","v":"14:30:00"},{"$f":"VLOOKUP($AA69,DATA!$B$3:$E$6,4,0)","v":3.125E-2},0.30208333333333331,0.24583333333333332,{"$f":"DATA!$C$9","v":0.89},{"$f":"DATA!$C$10","v":64},1,331.875,407.8125,5.6250000000000001E-2,75.9375,0.18620689655172415,{"$f":"TIME(INT($AD69/60),INT(MOD($AD69,60)/1),0)","v":0},"","",390.4,354,354,"","",null,{"$f":"X79","v":4},{"$f":"Y66+1","v":"2018-01-22"},{"$f":"TEXT(Y69,\"ddd\")","v":"ma"},"DD",{"$f":"IFERROR(HLOOKUP(Y69,[1]DATA!$A$1:$NB$5,3,0),\"\")","v":"D1"},81,null,12,366,5,-6,0.81204301075268814,0.98735457764289325,4359.375,3220,0.73863799283154119,1039.6875,0.23849462365591398,0,0,0.97666915617368422,0.99315261482859363,"",0.96018569751877469,99.6875,2.2867383512544831E-2,106.33333333333333,96]
["4maMD",{"$f":"VLOOKUP($AA70,DATA!$B$3:$E$6,2,0)","v":"14:30:00"},{"$f":"VLOOKUP($AA70,DATA!$B$3:$E$6,3,0)","v":"22:30:00"},{"$f":"VLOOKUP($AA70,DATA!$B$3:$E$6,4,0)","v":3.125E-2},0.30208333333333337,0.22916666666666669,{"$f":"DATA!$C$9","v":0.89},{"$f":"DATA!$C$10","v":64},1,{"$f":"F70*86400/H70*I70","v":309.375},{"$f":"E70*86400/H70","v":407.81250000000006},7.2916666666666671E-2,98.4375,0.24137931034482754,{"$f":"TIME(INT(AD70/60),INT(MOD(AD70,60)/1),0)","v":0},"","",{"$f":"AF70*AG$2","v":392.5333333333333},{"$f":"IF(AF70-AE70=0,\"\",AF70-AE70)","v":347},"","",347,null,{"$f":"X79","v":4},null,{"$f":"TEXT(Y69,\"ddd\")","v":"ma"},"MD",{"$f":"IFERROR(HLOOKUP(Y69,[1]DATA!$A$1:$NB$5,4,0),\"\")","v":"D3"},105,null,21,368,7,9.5000000000000568,0.79598566308243734,0.98247955948606702]
["4maND",{"$f":"VLOOKUP($AA71,DATA!$B$3:$E$6,2,0)","v":"22:30:00"},{"$f":"VLOOKUP($AA71,DATA!$B$3:$E$6,3,0)","v":"06:30:00"},{"$f":"VLOOKUP($AA71,DATA!$B$3:$E$6,4,0)","v":3.125E-2},0.30208333333333326,0.30208333333333326,{"$f":"DATA!$C$9","v":0.89},{"$f":"DATA!$C$10","v":64},1,407.81249999999989,407.81249999999989,{"$f":"TIME(INT($AC71/60),INT(MOD($AC71,60)/1),0)","v":0},{"$f":"IF($L71*86400/$H71=0,\"\",$L71*86400/$H71)","v":""},{"$f":"IFERROR($M71/$K71,\"\")","v":""},0,"",{"$f":"IFERROR($P71/$K71,\"\")","v":""},0,"",{"$f":"IF(IF($AB71=\"D1\",$S71,\"\")=0,\"\",IF($AB71=\"D1\",$S71,\"\"))","v":""},{"$f":"IF(IF($AB71=\"D2\",$S71,\"\")=0,\"\",IF($AB71=\"D2\",$S71,\"\"))","v":""},{"$f":"IF(IF($AB71=\"D3\",$S71,\"\")=0,\"\",IF($AB71=\"D3\",$S71,\"\"))","v":""},null,{"$f":"X79","v":4},null,{"$f":"TEXT(Y69,\"ddd\")","v":"ma"},"ND",{"$f":"IFERROR(HLOOKUP(Y69,[1]DATA!$A$1:$NB$5,5,0),\"\")","v":"D2"},null,null,null,null,0,"","",""]
["4diDD",{"$f":"VLOOKUP($AA72,DATA!$B$3:$E$6,2,0)","v":"06:30:00"},{"$f":"VLOOKUP($AA72,DATA!$B$3:$E$6,3,0)","v":"14:30:00"},{"$f":"VLOOKUP($AA72,DATA!$B$3:$E$6,4,0)","v":3.125E-2},0.30208333333333331,0.22083333333333333,{"$f":"DATA!$C$9","v":0.89},{"$f":"DATA!$C$10","v":64},1,298.125,407.8125,8.1250000000000003E-2,109.6875,0.26896551724137929,0,"","",387.2,346,346,"","",null,{"$f":"X79","v":4},{"$f":"Y69+1","v":"2018-01-23"},{"$f":"TEXT(Y72,\"ddd\")","v":"di"},"DD",{"$f":"IFERROR(HLOOKUP(Y72,[1]DATA!$A$1:$NB$5,3,0),\"\")","v":"D1"},117,null,17,363,0,19.749999999999943,0.79369175627240141,1]
["4diMD",{"$f":"VLOOKUP($AA73,DATA!$B$3:$E$6,2,0)","v":"14:30:00"},{"$f":"VLOOKUP($AA73,DATA!$B$3:$E$6,3,0)","v":"22:30:00"},{"$f":"VLOOKUP($AA73,DATA!$B$3:$E$6,4,0)","v":3.125E-2},0.30208333333333337,0.20902777777777781,{"$f":"DATA!$C$9","v":0.89},{"$f":"DATA!$C$10","v":64},1,282.18750000000006,407.81250000000006,9.3055555555555558E-2,125.625,0.30804597701149422,0,"","",328.5333333333333,286,"","",286,null,{"$f":"X79","v":4},null,{"$f":"TEXT(Y72,\"ddd\")","v":"di"},"MD",{"$f":"IFERROR(HLOOKUP(Y72,[1]DATA!$A$1:$NB$5,4,0),\"\")","v":"D3"},134,null,22,308,17,-24.312499999999943,0.65605734767025103,0.95080069457842953]
["4diND",{"$f":"VLOOKUP($AA74,DATA!$B$3:$E$6,2,0)","v":"22:30:00"},{"$f":"VLOOKUP($AA74,DATA!$B$3:$E$6,3,0)","v":"06:30:00"},{"$f":"VLOOKUP($AA74,DATA!$B$3:$E$6,4,0)","v":3.125E-2},0.30208333333333326,0.30208333333333326,{"$f":"DATA!$C$9","v":0.89},{"$f":"DATA!$C$10","v":64},1,407.81249999999989,407.81249999999989,0,"","",0,"","",0,"","","","",null,{"$f":"X79","v":4},null,{"$f":"TEXT(Y72,\"ddd\")","v":"di"},"ND",{"$f":"IFERROR(HLOOKUP(Y72,[1]DATA!$A$1:$NB$5,5,0),\"\")","v":"D2"},null,null,null,null,0,"","",""]
["4woDD",{"$f":"VLOOKUP($AA75,DATA!$B$3:$E$6,2,0)","v":"06:30:00"},{"$f":"VLOOKUP($AA75,DATA!$B$3:$E$6,3,0)","v":"14:30:00"},{"$f":"VLOOKUP($AA75,DATA!$B$3:$E$6,4,0)","v":3.125E-2},0.30208333333333331,0.21805555555555556,{"$f":"DATA!$C$9","v":0.89},{"$f":"DATA!$C$10","v":64},1,294.375,407.8125,8.4027777777777771E-2,113.43749999999999,0.27816091954022987,0,"","",366.93333333333334,328,328,"","",null,{"$f":"X79","v":4},{"$f":"Y72+1","v":"2018-01-24"},{"$f":"TEXT(Y75,\"ddd\")","v":"wo"},"DD",{"$f":"IFERROR(HLOOKUP(Y75,[1]DATA!$A$1:$NB$5,3,0),\"\")","v":"D1"},121,null,16,344,3,5.4999999999999432,0.75240143369175627,0.99189043070823568]
["4woMD",{"$f":"VLOOKUP($AA76,DATA!$B$3:$E$6,2,0)","v":"14:30:00"},{"$f":"VLOOKUP($AA76,DATA!$B$3:$E$6,3,0)","v":"22:30:00"},{"$f":"VLOOKUP($AA76,DATA!$B$3:$E$6,4,0)","v":3.125E-2},0.30208333333333337,0.28958333333333336,{"$f":"DATA!$C$9","v":0.89},{"$f":"DATA!$C$10","v":64},1,390.93750000000006,407.81250000000006,1.2499999999999999E-2,16.875,4.1379310344827579E-2,0,"","",434.13333333333333,381,"","",381,null,{"$f":"X79","v":4},null,{"$f":"TEXT(Y75,\"ddd\")","v":"wo"},"MD",{"$f":"IFERROR(HLOOKUP(Y75,[1]DATA!$A$1:$NB$5,4,0),\"\")","v":"D3"},18,null,26,407,34,-38.062499999999943,0.87397849462365607,0.92737111933921956]
["4woND",{"$f":"VLOOKUP($AA77,DATA!$B$3:$E$6,2,0)","v":"22:30:00"},{"$f":"VLOOKUP($AA77,DATA!$B$3:$E$6,3,0)","v":"06:30:00"},{"$f":"VLOOKUP($AA77,DATA!$B$3:$E$6,4,0)","v":3.125E-2},0.30208333333333326,0.30208333333333326,{"$f":"DATA!$C$9","v":0.89},{"$f":"DATA!$C$10","v":64},1,407.81249999999989,407.81249999999989,0,"","",0,"","",0,"","","","",null,{"$f":"X79","v":4},null,{"$f":"TEXT(Y75,\"ddd\")","v":"wo"},"ND",{"$f":"IFERROR(HLOOKUP(Y75,[1]DATA!$A$1:$NB$5,5,0),\"\")","v":"D2"},null,null,null,null,0,"","",""]
["4doDD",{"$f":"VLOOKUP($AA78,DATA!$B$3:$E$6,2,0)","v":"06:30:00"},{"$f":"VLOOKUP($AA78,DATA!$B$3:$E$6,3,0)","v":"14:30:00"},{"$f":"VLOOKUP($AA78,DATA!$B$3:$E$6,4,0)","v":3.125E-2},0.30208333333333331,0.12569444444444441,{"$f":"DATA!$C$9","v":0.89},{"$f":"DATA!$C$10","v":64},1,169.68749999999997,407.8125,0.1763888888888889,238.12500000000003,0.58390804597701151,0,"","",253.86666666666667,223,223,"","",null,{"$f":"X79","v":4},{"$f":"Y75+1","v":"2018-01-25"},{"$f":"TEXT(Y78,\"ddd\")","v":"do"},"DD",{"$f":"IFERROR(HLOOKUP(Y78,[1]DATA!$A$1:$NB$5,3,0),\"\")","v":"D1"},254,null,15,238,0,25.1875,0.51154121863799284,1]
["4doMD",{"$f":"VLOOKUP($AA79,DATA!$B$3:$E$6,2,0)","v":"14:30:00"},{"$f":"VLOOKUP($AA79,DATA!$B$3:$E$6,3,0)","v":"22:30:00"},{"$f":"VLOOKUP($AA79,DATA!$B$3:$E$6,4,0)","v":3.125E-2},0.30208333333333337,0.27638888888888891,{"$f":"DATA!$C$9","v":0.89},{"$f":"DATA!$C$10","v":64},1,373.125,407.81250000000006,2.5694444444444447E-2,34.6875,8.5057471264367801E-2,0,"","",393.6,332,"","",332,null,{"$f":"WEEKNUM($Y69)","v":4},null,{"$f":"TEXT(Y78,\"ddd\")","v":"do"},"MD",{"$f":"IFERROR(HLOOKUP(Y78,[1]DATA!$A$1:$NB$5,4,0),\"\")","v":"D3"},37,null,37,369,25,-69.249999999999943,0.7615770609318997,0.94027711419015769]
["4doND",{"$f":"VLOOKUP($AA80,DATA!$B$3:$E$6,2,0)","v":"22:30:00"},{"$f":"VLOOKUP($AA80,DATA!$B$3:$E$6,3,0)","v":"06:30:00"},{"$f":"VLOOKUP($AA80,DATA!$B$3:$E$6,4,0)","v":3.125E-2},0.30208333333333326,0.30208333333333326,{"$f":"DATA!$C$9","v":0.89},{"$f":"DATA!$C$10","v":64},1,407.81249999999989,407.81249999999989,0,"","",0,"","",0,"","","","",null,{"$f":"X79","v":4},null,{"$f":"TEXT(Y78,\"ddd\")","v":"do"},"ND",{"$f":"IFERROR(HLOOKUP(Y78,[1]DATA!$A$1:$NB$5,5,0),\"\")","v":"D2"},null,null,null,null,0,"","",""]
["4vrDD",{"$f":"VLOOKUP($AA81,DATA!$B$3:$E$6,2,0)","v":"06:30:00"},{"$f":"VLOOKUP($AA81,DATA!$B$3:$E$6,3,0)","v":"14:30:00"},{"$f":"VLOOKUP($AA81,DATA!$B$3:$E$6,4,0)","v":3.125E-2},0.30208333333333331,0.2673611111111111,{"$f":"DATA!$C$9","v":0.89},{"$f":"DATA!$C$10","v":64},1,360.9375,407.8125,3.4722222222222224E-2,46.875,0.11494252873563218,0,"","",365.86666666666667,330,330,"","",null,{"$f":"X79","v":4},{"$f":"Y78+1","v":"2018-01-26"},{"$f":"TEXT(Y81,\"ddd\")","v":"vr"},"DD",{"$f":"IFERROR(HLOOKUP(Y81,[1]DATA!$A$1:$NB$5,3,0),\"\")","v":"D1"},50,null,13,343,5,-59.062500000000057,0.75698924731182793,0.98651806579183898]
["4vrMD",{"$f":"VLOOKUP($AA82,DATA!$B$3:$E$6,2,0)","v":"14:30:00"},{"$f":"VLOOKUP($AA82,DATA!$B$3:$E$6,3,0)","v":"22:30:00"},{"$f":"VLOOKUP($AA82,DATA!$B$3:$E$6,4,0)","v":3.125E-2},0.30208333333333337,0.16875000000000004,{"$f":"DATA!$C$9","v":0.89},{"$f":"DATA!$C$10","v":64},1,227.81250000000006,407.81250000000006,0.13333333333333333,180,0.44137931034482752,0,"","",322.13333333333333,293,"","",293,null,{"$f":"X79","v":4},null,{"$f":"TEXT(Y81,\"ddd\")","v":"vr"},"MD",{"$f":"IFERROR(HLOOKUP(Y81,[1]DATA!$A$1:$NB$5,4,0),\"\")","v":"D3"},192,null,9,302,0,37.062500000000057,0.67211469534050183,1]
["4vrND",{"$f":"VLOOKUP($AA83,DATA!$B$3:$E$6,2,0)","v":"22:30:00"},{"$f":"VLOOKUP($AA83,DATA!$B$3:$E$6,3,0)","v":"06:30:00"},{"$f":"VLOOKUP($AA83,DATA!$B$3:$E$6,4,0)","v":3.125E-2},0.30208333333333326,0.30208333333333326,{"$f":"DATA!$C$9","v":0.89},{"$f":"DATA!$C$10","v":64},1,407.81249999999989,407.81249999999989,0,"","",0,"","",0,"","","","",null,{"$f":"X79","v":4},null,{"$f":"TEXT(Y81,\"ddd\")","v":"vr"},"ND",{"$f":"IFERROR(HLOOKUP(Y81,[1]DATA!$A$1:$NB$5,5,0),\"\")","v":"-"},null,null,null,null,0,"","",""]
["4zaDD",{"$f":"VLOOKUP($AA84,DATA!$B$3:$E$6,2,0)","v":"06:30:00"},{"$f":"VLOOKUP($AA84,DATA!$B$3:$E$6,3,0)","v":"14:30:00"},{"$f":"VLOOKUP($AA84,DATA!$B$3:$E$6,4,0)","v":3.125E-2},0.30208333333333331,0.30208333333333331,{"$f":"DATA!$C$9","v":0.89},{"$f":"DATA!$C$10","v":64},1,407.8125,407.8125,0,"","",0,"","",0,"","","","",null,{"$f":"X79","v":4},{"$f":"Y81+1","v":"2018-01-27"},{"$f":"TEXT(Y84,\"ddd\")","v":"za"},"DD",{"$f":"IFERROR(HLOOKUP(Y84,[1]DATA!$A$1:$NB$5,3,0),\"\")","v":"-"},null,null,null,null,0,"","",""]
["4zaMD",{"$f":"VLOOKUP($AA85,DATA!$B$3:$E$6,2,0)","v":"14:30:00"},{"$f":"VLOOKUP($AA85,DATA!$B$3:$E$6,3,0)","v":"22:30:00"},{"$f":"VLOOKUP($AA85,DATA!$B$3:$E$6,4,0)","v":3.125E-2},0.30208333333333337,0.30208333333333337,{"$f":"DATA!$C$9","v":0.89},{"$f":"DATA!$C$10","v":64},1,407.81250000000006,407.81250000000006,0,"","",0,"","",0,"","","","",null,{"$f":"X79","v":4},null,{"$f":"TEXT(Y84,\"ddd\")","v":"za"},"MD",{"$f":"IFERROR(HLOOKUP(Y84,[1]DATA!$A$1:$NB$5,4,0),\"\")","v":"-"},null,null,null,null,0,"","",""]
["4zaND",{"$f":"VLOOKUP($AA86,DATA!$B$3:$E$6,2,0)","v":"22:30:00"},{"$f":"VLOOKUP($AA86,DATA!$B$3:$E$6,3,0)","v":"06:30:00"},{"$f":"VLOOKUP($AA86,DATA!$B$3:$E$6,4,0)","v":3.125E-2},0.30208333333333326,0.30208333333333326,{"$f":"DATA!$C$9","v":0.89},{"$f":"DATA!$C$10","v":64},1,407.81249999999989,407.81249999999989,0,"","",0,"","",0,"","","","",null,{"$f":"X79","v":4},null,{"$f":"TEXT(Y84,\"ddd\")","v":"za"},"ND",{"$f":"IFERROR(HLOOKUP(Y84,[1]DATA!$A$1:$NB$5,5,0),\"\")","v":"-"},null,null,null,null,0,"","",""]
["4zoDD",{"$f":"VLOOKUP($AA87,DATA!$B$3:$E$6,2,0)","v":"06:30:00"},{"$f":"VLOOKUP($AA87,DATA!$B$3:$E$6,3,0)","v":"14:30:00"},{"$f":"VLOOKUP($AA87,DATA!$B$3:$E$6,4,0)","v":3.125E-2},0.30208333333333331,0.30208333333333331,{"$f":"DATA!$C$9","v":0.89},{"$f":"DATA!$C$10","v":64},1,407.8125,407.8125,0,"","",0,"","",0,"","","","",null,{"$f":"X79","v":4},{"$f":"Y84+1","v":"2018-01-28"},{"$f":"TEXT(Y87,\"ddd\")","v":"zo"},"DD",{"$f":"IFERROR(HLOOKUP(Y87,[1]DATA!$A$1:$NB$5,3,0),\"\")","v":"-"},null,null,null,null,0,"","",""]
["4zoMD",{"$f":"VLOOKUP($AA88,DATA!$B$3:$E$6,2,0)","v":"14:30:00"},{"$f":"VLOOKUP($AA88,DATA!$B$3:$E$6,3,0)","v":"22:30:00"},{"$f":"VLOOKUP($AA88,DATA!$B$3:$E$6,4,0)","v":3.125E-2},0.30208333333333337,0.30208333333333337,{"$f":"DATA!$C$9","v":0.89},{"$f":"DATA!$C$10","v":64},1,407.81250000000006,407.81250000000006,0,"","",0,"","",0,"","","","",null,{"$f":"X79","v":4},null,{"$f":"TEXT(Y87,\"ddd\")","v":"zo"},"MD",{"$f":"IFERROR(HLOOKUP(Y87,[1]DATA!$A$1:$NB$5,4,0),\"\")","v":"-"},null,null,null,null,0,"","",""]
["4zoZND",{"$f":"VLOOKUP($AA89,DATA!$B$3:$E$6,2,0)","v":"00:00:00"},{"$f":"VLOOKUP($AA89,DATA!$B$3:$E$6,3,0)","v":"00:00:00"},{"$f":"VLOOKUP($AA89,DATA!$B$3:$E$6,4,0)","v":3.125E-2},-3.125E-2,-3.125E-2,{"$f":"DATA!$C$9","v":0.89},{"$f":"DATA!$C$10","v":64},1,-42.1875,-42.1875,0,"","",0,"","",0,"","","","",null,{"$f":"X79","v":4},null,{"$f":"TEXT(Y87,\"ddd\")","v":"zo"},"ZND",{"$f":"IFERROR(HLOOKUP(Y87,[1]DATA!$A$1:$NB$5,5,0),\"\")","v":"D1"},null,null,null,null,0,"","",""]
["5maDD",{"$f":"VLOOKUP($AA90,DATA!$B$3:$E$6,2,0)","v":"06:30:00"},{"$f":"VLOOKUP($AA90,DATA!$B$3:$E$6,3,0)","v":"14:30:00"},{"$f":"VLOOKUP($AA90,DATA!$B$3:$E$6,4,0)","v":3.125E-2},0.30208333333333331,0.16249999999999998,{"$f":"DATA!$C$9","v":0.89},{"$f":"DATA!$C$10","v":64},1,219.37499999999997,407.8125,0.13958333333333334,188.4375,0.46206896551724136,{"$f":"TIME(INT($AD90/60),INT(MOD($AD90,60)/1),0)","v":0},"","",308.26666666666665,266,"","",266,null,{"$f":"X100","v":5},{"$f":"Y87+1","v":"2018-01-29"},{"$f":"TEXT(Y90,\"ddd\")","v":"ma"},"DD",{"$f":"IFERROR(HLOOKUP(Y90,[1]DATA!$A$1:$NB$5,3,0),\"\")","v":"D3"},201,null,23,289,5,18.499999999999972,0.61017921146953402,0.98403915726750368,4359.375,2870,0.65835125448028675,1085.625,0.24903225806451612,225,5.1612903225806452E-2,0.96434914895139379,"",0.94681509451481671,0.98188320338797097,178.75,4.1003584229390676E-2,190.66666666666666,130]
["5maMD",{"$f":"VLOOKUP($AA91,DATA!$B$3:$E$6,2,0)","v":"14:30:00"},{"$f":"VLOOKUP($AA91,DATA!$B$3:$E$6,3,0)","v":"22:30:00"},{"$f":"VLOOKUP($AA91,DATA!$B$3:$E$6,4,0)","v":3.125E-2},0.30208333333333337,0.23125000000000004,{"$f":"DATA!$C$9","v":0.89},{"$f":"DATA!$C$10","v":64},1,312.18750000000006,407.81250000000006,7.0833333333333331E-2,95.625,0.23448275862068962,{"$f":"TIME(INT(AD91/60),INT(MOD(AD91,60)/1),0)","v":0},"","",361.6,328,"",328,"",null,{"$f":"X100","v":5},null,{"$f":"TEXT(Y90,\"ddd\")","v":"ma"},"MD",{"$f":"IFERROR(HLOOKUP(Y90,[1]DATA!$A$1:$NB$5,4,0),\"\")","v":"D2"},102,null,11,339,14,-12.3125,0.75240143369175638,0.96272630457933972]
["5maND",{"$f":"VLOOKUP($AA92,DATA!$B$3:$E$6,2,0)","v":"22:30:00"},{"$f":"VLOOKUP($AA92,DATA!$B$3:$E$6,3,0)","v":"06:30:00"},{"$f":"VLOOKUP($AA92,DATA!$B$3:$E$6,4,0)","v":3.125E-2},{"$f":"(C92-B92+(B92>C92))-D92","v":0.30208333333333326},{"$f":"E92-O92-L92","v":0.30208333333333326},{"$f":"DATA!$C$9","v":0.89},{"$f":"DATA!$C$10","v":64},1,407.81249999999989,407.81249999999989,0,"","",0,"","",0,"","","","",null,{"$f":"X100","v":5},null,{"$f":"TEXT(Y90,\"ddd\")","v":"ma"},"ND",{"$f":"IFERROR(HLOOKUP(Y90,[1]DATA!$A$1:$NB$5,5,0),\"\")","v":"D1"},null,null,null,null,0,"","",""]
["5diDD",{"$f":"VLOOKUP($AA93,DATA!$B$3:$E$6,2,0)","v":"06:30:00"},{"$f":"VLOOKUP($AA93,DATA!$B$3:$E$6,3,0)","v":"14:30:00"},{"$f":"VLOOKUP($AA93,DATA!$B$3:$E$6,4,0)","v":3.125E-2},0.30208333333333331,0.21805555555555556,{"$f":"DATA!$C$9","v":0.89},{"$f":"DATA!$C$10","v":64},1,294.375,407.8125,8.4027777777777771E-2,113.43749999999999,0.27816091954022987,0,"","",341.33333333333331,307,"","",307,null,{"$f":"X100","v":5},{"$f":"Y90+1","v":"2018-01-30"},{"$f":"TEXT(Y93,\"ddd\")","v":"di"},"DD",{"$f":"IFERROR(HLOOKUP(Y93,[1]DATA!$A$1:$NB$5,3,0),\"\")","v":"D3"},121,null,13,320,3,-15.500000000000057,0.70422939068100354,0.99128751210067767]
["5diMD",{"$f":"VLOOKUP($AA94,DATA!$B$3:$E$6,2,0)","v":"14:30:00"},{"$f":"VLOOKUP($AA94,DATA!$B$3:$E$6,3,0)","v":"22:30:00"},{"$f":"VLOOKUP($AA94,DATA!$B$3:$E$6,4,0)","v":3.125E-2},0.30208333333333337,0.26250000000000007,{"$f":"DATA!$C$9","v":0.89},{"$f":"DATA!$C$10","v":64},1,354.37500000000011,407.81250000000006,3.9583333333333331E-2,53.4375,0.13103448275862067,0,"","",408.5333333333333,368,"",368,"",null,{"$f":"X100","v":5},null,{"$f":"TEXT(Y93,\"ddd\")","v":"di"},"MD",{"$f":"IFERROR(HLOOKUP(Y93,[1]DATA!$A$1:$NB$5,4,0),\"\")","v":"D2"},57,null,15,383,12,-14.5,0.84415770609319007,0.97146480659480028]
["5diND",{"$f":"VLOOKUP($AA95,DATA!$B$3:$E$6,2,0)","v":"22:30:00"},{"$f":"VLOOKUP($AA95,DATA!$B$3:$E$6,3,0)","v":"06:30:00"},{"$f":"VLOOKUP($AA95,DATA!$B$3:$E$6,4,0)","v":3.125E-2},0.30208333333333326,0.30208333333333326,{"$f":"DATA!$C$9","v":0.89},{"$f":"DATA!$C$10","v":64},1,407.81249999999989,407.81249999999989,0,"","",0,"","",0,"","","","",null,{"$f":"X100","v":5},null,{"$f":"TEXT(Y93,\"ddd\")","v":"di"},"ND",{"$f":"IFERROR(HLOOKUP(Y93,[1]DATA!$A$1:$NB$5,5,0),\"\")","v":"D1"},null,null,null,null,0,"","",""]
["5woDD",{"$f":"VLOOKUP($AA96,DATA!$B$3:$E$6,2,0)","v":"06:30:00"},{"$f":"VLOOKUP($AA96,DATA!$B$3:$E$6,3,0)","v":"14:30:00"},{"$f":"VLOOKUP($AA96,DATA!$B$3:$E$6,4,0)","v":3.125E-2},0.30208333333333331,0.14930555555555552,{"$f":"DATA!$C$9","v":0.89},{"$f":"DATA!$C$10","v":64},1,201.56249999999997,407.8125,0.125,168.75,0.41379310344827586,2.7777777777777776E-2,37.5,9.1954022988505746E-2,251.73333333333332,231,"","",231,null,{"$f":"X100","v":5},{"$f":"Y93+1","v":"2018-01-31"},{"$f":"TEXT(Y96,\"ddd\")","v":"wo"},"DD",{"$f":"IFERROR(HLOOKUP(Y96,[1]DATA!$A$1:$NB$5,3,0),\"\")","v":"D3"},180,40,5,236,3,1.3125,0.52989247311827958,0.9882229782779377]
["5woMD",{"$f":"VLOOKUP($AA97,DATA!$B$3:$E$6,2,0)","v":"14:30:00"},{"$f":"VLOOKUP($AA97,DATA!$B$3:$E$6,3,0)","v":"22:30:00"},{"$f":"VLOOKUP($AA97,DATA!$B$3:$E$6,4,0)","v":3.125E-2},0.30208333333333337,0.13750000000000004,{"$f":"DATA!$C$9","v":0.89},{"$f":"DATA!$C$10","v":64},1,185.62500000000006,407.81250000000006,2.5694444444444447E-2,34.6875,8.5057471264367801E-2,0.1388888888888889,187.5,0.45977011494252867,236.79999999999998,207,"",207,"",null,{"$f":"X100","v":5},null,{"$f":"TEXT(Y96,\"ddd\")","v":"wo"},"MD",{"$f":"IFERROR(HLOOKUP(Y96,[1]DATA!$A$1:$NB$5,4,0),\"\")","v":"D2"},37,200,15,222,4,-6.7499999999999432,0.47483870967741942,0.98338870431893688]
["5woND",{"$f":"VLOOKUP($AA98,DATA!$B$3:$E$6,2,0)","v":"22:30:00"},{"$f":"VLOOKUP($AA98,DATA!$B$3:$E$6,3,0)","v":"06:30:00"},{"$f":"VLOOKUP($AA98,DATA!$B$3:$E$6,4,0)","v":3.125E-2},0.30208333333333326,0.30208333333333326,{"$f":"DATA!$C$9","v":0.89},{"$f":"DATA!$C$10","v":64},1,407.81249999999989,407.81249999999989,0,"","",0,"","",0,"","","","",null,{"$f":"X100","v":5},null,{"$f":"TEXT(Y96,\"ddd\")","v":"wo"},"ND",{"$f":"IFERROR(HLOOKUP(Y96,[1]DATA!$A$1:$NB$5,5,0),\"\")","v":"D1"},null,null,null,null,0,"","",""]
["5doDD",{"$f":"VLOOKUP($AA99,DATA!$B$3:$E$6,2,0)","v":"06:30:00"},{"$f":"VLOOKUP($AA99,DATA!$B$3:$E$6,3,0)","v":"14:30:00"},{"$f":"VLOOKUP($AA99,DATA!$B$3:$E$6,4,0)","v":3.125E-2},0.30208333333333331,0.21249999999999997,{"$f":"DATA!$C$9","v":0.89},{"$f":"DATA!$C$10","v":64},1,286.87499999999994,407.8125,8.9583333333333334E-2,120.9375,0.29655172413793102,0,"","",294.39999999999998,273,"","",273,null,{"$f":"X100","v":5},{"$f":"Y96+1","v":"2018-02-01"},{"$f":"TEXT(Y99,\"ddd\")","v":"do"},"DD",{"$f":"IFERROR(HLOOKUP(Y99,[1]DATA!$A$1:$NB$5,3,0),\"\")","v":"D3"},129,null,3,276,9,-42,0.62623655913978493,0.97033618984838499]
["5doMD",{"$f":"VLOOKUP($AA100,DATA!$B$3:$E$6,2,0)","v":"14:30:00"},{"$f":"VLOOKUP($AA100,DATA!$B$3:$E$6,3,0)","v":"22:30:00"},{"$f":"VLOOKUP($AA100,DATA!$B$3:$E$6,4,0)","v":3.125E-2},0.30208333333333337,0.26111111111111113,{"$f":"DATA!$C$9","v":0.89},{"$f":"DATA!$C$10","v":64},1,352.5,407.81250000000006,4.0972222222222222E-2,55.3125,0.13563218390804596,0,"","",334.93333333333334,283,"",283,"",null,{"$f":"WEEKNUM($Y90)","v":5},null,{"$f":"TEXT(Y99,\"ddd\")","v":"do"},"MD",{"$f":"IFERROR(HLOOKUP(Y99,[1]DATA!$A$1:$NB$5,4,0),\"\")","v":"D2"},59,null,31,314,61,-97.624999999999943,0.64917562724014344,0.84593365886512883]
["5doND",{"$f":"VLOOKUP($AA101,DATA!$B$3:$E$6,2,0)","v":"22:30:00"},{"$f":"VLOOKUP($AA101,DATA!$B$3:$E$6,3,0)","v":"06:30:00"},{"$f":"VLOOKUP($AA101,DATA!$B$3:$E$6,4,0)","v":3.125E-2},0.30208333333333326,0.30208333333333326,{"$f":"DATA!$C$9","v":0.89},{"$f":"DATA!$C$10","v":64},1,407.81249999999989,407.81249999999989,0,"","",0,"","",0,"","","","",null,{"$f":"X100","v":5},null,{"$f":"TEXT(Y99,\"ddd\")","v":"do"},"ND",{"$f":"IFERROR(HLOOKUP(Y99,[1]DATA!$A$1:$NB$5,5,0),\"\")","v":"D1"},null,null,null,null,0,"","",""]
["5vrDD",{"$f":"VLOOKUP($AA102,DATA!$B$3:$E$6,2,0)","v":"06:30:00"},{"$f":"VLOOKUP($AA102,DATA!$B$3:$E$6,3,0)","v":"14:30:00"},{"$f":"VLOOKUP($AA102,DATA!$B$3:$E$6,4,0)","v":3.125E-2},0.30208333333333331,0.21111111111111108,{"$f":"DATA!$C$9","v":0.89},{"$f":"DATA!$C$10","v":64},1,284.99999999999994,407.8125,9.0972222222222218E-2,122.8125,0.30114942528735633,0,"","",318.93333333333334,295,"","",295,null,{"$f":"X100","v":5},{"$f":"Y99+1","v":"2018-02-02"},{"$f":"TEXT(Y102,\"ddd\")","v":"vr"},"DD",{"$f":"IFERROR(HLOOKUP(Y102,[1]DATA!$A$1:$NB$5,3,0),\"\")","v":"D3"},131,null,4,299,8,-18.125,0.67670250896057349,0.9755301794453507]
["5vrMD",{"$f":"VLOOKUP($AA103,DATA!$B$3:$E$6,2,0)","v":"14:30:00"},{"$f":"VLOOKUP($AA103,DATA!$B$3:$E$6,3,0)","v":"22:30:00"},{"$f":"VLOOKUP($AA103,DATA!$B$3:$E$6,4,0)","v":3.125E-2},0.30208333333333337,0.20416666666666672,{"$f":"DATA!$C$9","v":0.89},{"$f":"DATA!$C$10","v":64},1,275.62500000000006,407.81250000000006,9.7916666666666666E-2,132.1875,0.32413793103448274,0,"","",362.66666666666669,312,"",312,"",null,{"$f":"X100","v":5},null,{"$f":"TEXT(Y102,\"ddd\")","v":"vr"},"MD",{"$f":"IFERROR(HLOOKUP(Y102,[1]DATA!$A$1:$NB$5,4,0),\"\")","v":"D2"},141,null,28,340,11,8.2500000000000568,0.71569892473118291,0.97056199821587863]
["5vrND",{"$f":"VLOOKUP($AA104,DATA!$B$3:$E$6,2,0)","v":"22:30:00"},{"$f":"VLOOKUP($AA104,DATA!$B$3:$E$6,3,0)","v":"06:30:00"},{"$f":"VLOOKUP($AA104,DATA!$B$3:$E$6,4,0)","v":3.125E-2},0.30208333333333326,0.30208333333333326,{"$f":"DATA!$C$9","v":0.89},{"$f":"DATA!$C$10","v":64},1,407.81249999999989,407.81249999999989,0,"","",0,"","",0,"","","","",null,{"$f":"X100","v":5},null,{"$f":"TEXT(Y102,\"ddd\")","v":"vr"},"ND",{"$f":"IFERROR(HLOOKUP(Y102,[1]DATA!$A$1:$NB$5,5,0),\"\")","v":"-"},null,null,null,null,0,"","",""]
["5zaDD",{"$f":"VLOOKUP($AA105,DATA!$B$3:$E$6,2,0)","v":"06:30:00"},{"$f":"VLOOKUP($AA105,DATA!$B$3:$E$6,3,0)","v":"14:30:00"},{"$f":"VLOOKUP($AA105,DATA!$B$3:$E$6,4,0)","v":3.125E-2},0.30208333333333331,0.30208333333333331,{"$f":"DATA!$C$9","v":0.89},{"$f":"DATA!$C$10","v":64},1,407.8125,407.8125,0,"","",0,"","",0,"","","","",null,{"$f":"X100","v":5},{"$f":"Y102+1","v":"2018-02-03"},{"$f":"TEXT(Y105,\"ddd\")","v":"za"},"DD",{"$f":"IFERROR(HLOOKUP(Y105,[1]DATA!$A$1:$NB$5,3,0),\"\")","v":"-"},null,null,null,null,0,"","",""]
["5zaMD",{"$f":"VLOOKUP($AA106,DATA!$B$3:$E$6,2,0)","v":"14:30:00"},{"$f":"VLOOKUP($AA106,DATA!$B$3:$E$6,3,0)","v":"22:30:00"},{"$f":"VLOOKUP($AA106,DATA!$B$3:$E$6,4,0)","v":3.125E-2},0.30208333333333337,0.30208333333333337,{"$f":"DATA!$C$9","v":0.89},{"$f":"DATA!$C$10","v":64},1,407.81250000000006,407.81250000000006,0,"","",0,"","",0,"","","","",null,{"$f":"X100","v":5},null,{"$f":"TEXT(Y105,\"ddd\")","v":"za"},"MD",{"$f":"IFERROR(HLOOKUP(Y105,[1]DATA!$A$1:$NB$5,4,0),\"\")","v":"-"},null,null,null,null,0,"","",""]
["5zaND",{"$f":"VLOOKUP($AA107,DATA!$B$3:$E$6,2,0)","v":"22:30:00"},{"$f":"VLOOKUP($AA107,DATA!$B$3:$E$6,3,0)","v":"06:30:00"},{"$f":"VLOOKUP($AA107,DATA!$B$3:$E$6,4,0)","v":3.125E-2},0.30208333333333326,0.30208333333333326,{"$f":"DATA!$C$9","v":0.89},{"$f":"DATA!$C$10","v":64},1,407.81249999999989,407.81249999999989,0,"","",0,"","",0,"","","","",null,{"$f":"X100","v":5},null,{"$f":"TEXT(Y105,\"ddd\")","v":"za"},"ND",{"$f":"IFERROR(HLOOKUP(Y105,[1]DATA!$A$1:$NB$5,5,0),\"\")","v":"-"},null,null,null,null,0,"","",""]
["5zoDD",{"$f":"VLOOKUP($AA108,DATA!$B$3:$E$6,2,0)","v":"06:30:00"},{"$f":"VLOOKUP($AA108,DATA!$B$3:$E$6,3,0)","v":"14:30:00"},{"$f":"VLOOKUP($AA108,DATA!$B$3:$E$6,4,0)","v":3.125E-2},0.30208333333333331,0.30208333333333331,{"$f":"DATA!$C$9","v":0.89},{"$f":"DATA!$C$10","v":64},1,407.8125,407.8125,0,"","",0,"","",0,"","","","",null,{"$f":"X100","v":5},{"$f":"Y105+1","v":"2018-02-04"},{"$f":"TEXT(Y108,\"ddd\")","v":"zo"},"DD",{"$f":"IFERROR(HLOOKUP(Y108,[1]DATA!$A$1:$NB$5,3,0),\"\")","v":"-"},null,null,null,null,0,"","",""]
["5zoMD",{"$f":"VLOOKUP($AA109,DATA!$B$3:$E$6,2,0)","v":"14:30:00"},{"$f":"VLOOKUP($AA109,DATA!$B$3:$E$6,3,0)","v":"22:30:00"},{"$f":"VLOOKUP($AA109,DATA!$B$3:$E$6,4,0)","v":3.125E-2},0.30208333333333337,0.30208333333333337,{"$f":"DATA!$C$9","v":0.89},{"$f":"DATA!$C$10","v":64},1,407.81250000000006,407.81250000000006,0,"","",0,"","",0,"","","","",null,{"$f":"X100","v":5},null,{"$f":"TEXT(Y108,\"ddd\")","v":"zo"},"MD",{"$f":"IFERROR(HLOOKUP(Y108,[1]DATA!$A$1:$NB$5,4,0),\"\")","v":"-"},null,null,null,null,0,"","",""]
["5zoZND",{"$f":"VLOOKUP($AA110,DATA!$B$3:$E$6,2,0)","v":"00:00:00"},{"$f":"VLOOKUP($AA110,DATA!$B$3:$E$6,3,0)","v":"00:00:00"},{"$f":"VLOOKUP($AA110,DATA!$B$3:$E$6,4,0)","v":3.125E-2},-3.125E-2,-3.125E-2,{"$f":"DATA!$C$9","v":0.89},{"$f":"DATA!$C$10","v":64},1,-42.1875,-42.1875,0,"","",0,"","",0,"","","","",null,{"$f":"X100","v":5},null,{"$f":"TEXT(Y108,\"ddd\")","v":"zo"},"ZND",{"$f":"IFERROR(HLOOKUP(Y108,[1]DATA!$A$1:$NB$5,5,0),\"\")","v":"D3"},null,null,null,null,0,"","",""]
["6maDD",{"$f":"VLOOKUP($AA111,DATA!$B$3:$E$6,2,0)","v":"06:30:00"},{"$f":"VLOOKUP($AA111,DATA!$B$3:$E$6,3,0)","v":"14:30:00"},{"$f":"VLOOKUP($AA111,DATA!$B$3:$E$6,4,0)","v":3.125E-2},0.30208333333333331,0.20347222222222222,{"$f":"DATA!$C$9","v":0.89},{"$f":"DATA!$C$10","v":64},1,274.6875,407.8125,9.8611111111111108E-2,133.125,0.32643678160919543,{"$f":"TIME(INT($AD111/60),INT(MOD($AD111,60)/1),0)","v":0},"","",308.26666666666665,273,"",273,"",null,{"$f":"X121","v":6},{"$f":"Y108+1","v":"2018-02-05"},{"$f":"TEXT(Y111,\"ddd\")","v":"ma"},"DD",{"$f":"IFERROR(HLOOKUP(Y111,[1]DATA!$A$1:$NB$5,3,0),\"\")","v":"D2"},142,null,16,289,16,-29.812500000000057,0.62623655913978493,0.95065789473684215,4359.375,3043,0.69803584229390681,1128.75,0.25892473118279569,0,0,0.93633307361952645,0.8943864394969514,0.97827970774210138,"",187.625,4.3039426523297508E-2,200.13333333333333,269]
[{"$f":"X112&Z112&AA112","v":"6maMD"},{"$f":"VLOOKUP($AA112,DATA!$B$3:$E$6,2,0)","v":"14:30:00"},{"$f":"VLOOKUP($AA112,DATA!$B$3:$E$6,3,0)","v":"22:30:00"},{"$f":"VLOOKUP($AA112,DATA!$B$3:$E$6,4,0)","v":3.125E-2},0.30208333333333337,0.20902777777777781,{"$f":"DATA!$C$9","v":0.89},{"$f":"DATA!$C$10","v":64},1,282.18750000000006,407.81250000000006,9.3055555555555558E-2,125.625,0.30804597701149422,{"$f":"TIME(INT(AD112/60),INT(MOD(AD112,60)/1),0)","v":0},{"$f":"IF($O112*86400/$H112=0,\"\",$O112*86400/$H112)","v":""},"",363.73333333333335,325,325,"","",null,{"$f":"X121","v":6},null,{"$f":"TEXT(Y111,\"ddd\")","v":"ma"},"MD",{"$f":"IFERROR(HLOOKUP(Y111,[1]DATA!$A$1:$NB$5,4,0),\"\")","v":"D1"},134,null,16,341,0,14.687500000000057,0.7455197132616489,1]
["6maND",{"$f":"VLOOKUP($AA113,DATA!$B$3:$E$6,2,0)","v":"22:30:00"},{"$f":"VLOOKUP($AA113,DATA!$B$3:$E$6,3,0)","v":"06:30:00"},{"$f":"VLOOKUP($AA113,DATA!$B$3:$E$6,4,0)","v":3.125E-2},0.30208333333333326,0.30208333333333326,{"$f":"DATA!$C$9","v":0.89},{"$f":"DATA!$C$10","v":64},1,407.81249999999989,407.81249999999989,0,"","",0,"","",0,"","","","",null,{"$f":"X121","v":6},null,{"$f":"TEXT(Y111,\"ddd\")","v":"ma"},"ND",{"$f":"IFERROR(HLOOKUP(Y111,[1]DATA!$A$1:$NB$5,5,0),\"\")","v":"D3"},null,null,null,null,0,"","",""]
["6diDD",{"$f":"VLOOKUP($AA114,DATA!$B$3:$E$6,2,0)","v":"06:30:00"},{"$f":"VLOOKUP($AA114,DATA!$B$3:$E$6,3,0)","v":"14:30:00"},{"$f":"VLOOKUP($AA114,DATA!$B$3:$E$6,4,0)","v":3.125E-2},0.30208333333333331,0.26666666666666666,{"$f":"DATA!$C$9","v":0.89},{"$f":"DATA!$C$10","v":64},1,360,407.8125,3.5416666666666666E-2,47.8125,0.11724137931034483,0,"","",349.86666666666667,316,"",316,"",null,{"$f":"X121","v":6},{"$f":"Y111+1","v":"2018-02-06"},{"$f":"TEXT(Y114,\"ddd\")","v":"di"},"DD",{"$f":"IFERROR(HLOOKUP(Y114,[1]DATA!$A$1:$NB$5,3,0),\"\")","v":"D2"},51,null,12,328,6,-72.125000000000057,0.72487455197132622,0.98313975271637322]
["6diMD",{"$f":"VLOOKUP($AA115,DATA!$B$3:$E$6,2,0)","v":"14:30:00"},{"$f":"VLOOKUP($AA115,DATA!$B$3:$E$6,3,0)","v":"22:30:00"},{"$f":"VLOOKUP($AA115,DATA!$B$3:$E$6,4,0)","v":3.125E-2},0.30208333333333337,0.25486111111111115,{"$f":"DATA!$C$9","v":0.89},{"$f":"DATA!$C$10","v":64},1,344.06250000000006,407.81250000000006,4.7222222222222221E-2,63.75,0.15632183908045974,0,"","",218.66666666666666,200,200,"","",null,{"$f":"X121","v":6},null,{"$f":"TEXT(Y114,\"ddd\")","v":"di"},"MD",{"$f":"IFERROR(HLOOKUP(Y114,[1]DATA!$A$1:$NB$5,4,0),\"\")","v":"D1"},68,null,5,205,220,-172.18749999999994,0.45878136200716851,0.49848024316109424]
["6diND",{"$f":"VLOOKUP($AA116,DATA!$B$3:$E$6,2,0)","v":"22:30:00"},{"$f":"VLOOKUP($AA116,DATA!$B$3:$E$6,3,0)","v":"06:30:00"},{"$f":"VLOOKUP($AA116,DATA!$B$3:$E$6,4,0)","v":3.125E-2},0.30208333333333326,0.30208333333333326,{"$f":"DATA!$C$9","v":0.89},{"$f":"DATA!$C$10","v":64},1,407.81249999999989,407.81249999999989,0,"","",0,"","",0,"","","","",null,{"$f":"X121","v":6},null,{"$f":"TEXT(Y114,\"ddd\")","v":"di"},"ND",{"$f":"IFERROR(HLOOKUP(Y114,[1]DATA!$A$1:$NB$5,5,0),\"\")","v":"D3"},null,null,null,null,0,"","",""]
["6woDD",{"$f":"VLOOKUP($AA117,DATA!$B$3:$E$6,2,0)","v":"06:30:00"},{"$f":"VLOOKUP($AA117,DATA!$B$3:$E$6,3,0)","v":"14:30:00"},{"$f":"VLOOKUP($AA117,DATA!$B$3:$E$6,4,0)","v":3.125E-2},0.30208333333333331,0.19444444444444442,{"$f":"DATA!$C$9","v":0.89},{"$f":"DATA!$C$10","v":64},1,262.49999999999994,407.8125,0.1076388888888889,145.3125,0.35632183908045978,0,"","",389.33333333333331,335,"",335,"",null,{"$f":"X121","v":6},{"$f":"Y114+1","v":"2018-02-07"},{"$f":"TEXT(Y117,\"ddd\")","v":"wo"},"DD",{"$f":"IFERROR(HLOOKUP(Y117,[1]DATA!$A$1:$NB$5,3,0),\"\")","v":"D2"},155,null,30,365,14,44.375,0.76845878136200718,0.96528925619834716]
["6woMD",{"$f":"VLOOKUP($AA118,DATA!$B$3:$E$6,2,0)","v":"14:30:00"},{"$f":"VLOOKUP($AA118,DATA!$B$3:$E$6,3,0)","v":"22:30:00"},{"$f":"VLOOKUP($AA118,DATA!$B$3:$E$6,4,0)","v":3.125E-2},0.30208333333333337,0.1680555555555556,{"$f":"DATA!$C$9","v":0.89},{"$f":"DATA!$C$10","v":64},1,226.87500000000006,407.81250000000006,0.13402777777777777,180.9375,0.44367816091954015,0,"","",297.60000000000002,259,259,"","",null,{"$f":"X121","v":6},null,{"$f":"TEXT(Y117,\"ddd\")","v":"wo"},"MD",{"$f":"IFERROR(HLOOKUP(Y117,[1]DATA!$A$1:$NB$5,4,0),\"\")","v":"D1"},193,null,20,279,0,4.0000000000000568,0.59412186379928322,1]
["6woND",{"$f":"VLOOKUP($AA119,DATA!$B$3:$E$6,2,0)","v":"22:30:00"},{"$f":"VLOOKUP($AA119,DATA!$B$3:$E$6,3,0)","v":"06:30:00"},{"$f":"VLOOKUP($AA119,DATA!$B$3:$E$6,4,0)","v":3.125E-2},0.30208333333333326,0.30208333333333326,{"$f":"DATA!$C$9","v":0.89},{"$f":"DATA!$C$10","v":64},1,407.81249999999989,407.81249999999989,0,"","",0,"","",0,"","","","",null,{"$f":"X121","v":6},null,{"$f":"TEXT(Y117,\"ddd\")","v":"wo"},"ND",{"$f":"IFERROR(HLOOKUP(Y117,[1]DATA!$A$1:$NB$5,5,0),\"\")","v":"D3"},null,null,null,null,0,"","",""]
["6doDD",{"$f":"VLOOKUP($AA120,DATA!$B$3:$E$6,2,0)","v":"06:30:00"},{"$f":"VLOOKUP($AA120,DATA!$B$3:$E$6,3,0)","v":"14:30:00"},{"$f":"VLOOKUP($AA120,DATA!$B$3:$E$6,4,0)","v":3.125E-2},0.30208333333333331,0.21736111111111112,{"$f":"DATA!$C$9","v":0.89},{"$f":"DATA!$C$10","v":64},1,293.4375,407.8125,8.4722222222222213E-2,114.37499999999999,0.2804597701149425,0,"","",371.2,332,"",332,"",null,{"$f":"X121","v":6},{"$f":"Y117+1","v":"2018-02-08"},{"$f":"TEXT(Y120,\"ddd\")","v":"do"},"DD",{"$f":"IFERROR(HLOOKUP(Y120,[1]DATA!$A$1:$NB$5,3,0),\"\")","v":"D2"},122,null,16,348,0,10.437499999999943,0.7615770609318997,1]
["6doMD",{"$f":"VLOOKUP($AA121,DATA!$B$3:$E$6,2,0)","v":"14:30:00"},{"$f":"VLOOKUP($AA121,DATA!$B$3:$E$6,3,0)","v":"22:30:00"},{"$f":"VLOOKUP($AA121,DATA!$B$3:$E$6,4,0)","v":3.125E-2},0.30208333333333337,0.18888888888888894,{"$f":"DATA!$C$9","v":0.89},{"$f":"DATA!$C$10","v":64},1,255.00000000000006,407.81250000000006,0.11319444444444444,152.8125,0.37471264367816087,0,"","",357.33333333333331,314,314,"","",null,{"$f":"WEEKNUM($Y111)","v":6},null,{"$f":"TEXT(Y120,\"ddd\")","v":"do"},"MD",{"$f":"IFERROR(HLOOKUP(Y120,[1]DATA!$A$1:$NB$5,4,0),\"\")","v":"D1"},163,null,21,335,5,30.875000000000057,0.72028673835125456,0.98620055197792089]
["6doND",{"$f":"VLOOKUP($AA122,DATA!$B$3:$E$6,2,0)","v":"22:30:00"},{"$f":"VLOOKUP($AA122,DATA!$B$3:$E$6,3,0)","v":"06:30:00"},{"$f":"VLOOKUP($AA122,DATA!$B$3:$E$6,4,0)","v":3.125E-2},0.30208333333333326,0.30208333333333326,{"$f":"DATA!$C$9","v":0.89},{"$f":"DATA!$C$10","v":64},1,407.81249999999989,407.81249999999989,0,"","",0,"","",0,"","","","",null,{"$f":"X121","v":6},null,{"$f":"TEXT(Y120,\"ddd\")","v":"do"},"ND",{"$f":"IFERROR(HLOOKUP(Y120,[1]DATA!$A$1:$NB$5,5,0),\"\")","v":"D3"},null,null,null,null,0,"","",""]
["6vrDD",{"$f":"VLOOKUP($AA123,DATA!$B$3:$E$6,2,0)","v":"06:30:00"},{"$f":"VLOOKUP($AA123,DATA!$B$3:$E$6,3,0)","v":"14:30:00"},{"$f":"VLOOKUP($AA123,DATA!$B$3:$E$6,4,0)","v":3.125E-2},0.30208333333333331,0.25624999999999998,{"$f":"DATA!$C$9","v":0.89},{"$f":"DATA!$C$10","v":64},1,345.93749999999994,407.8125,4.5833333333333337E-2,61.875000000000007,0.15172413793103451,0,"","",387.2,338,"",338,"",null,{"$f":"X121","v":6},{"$f":"Y120+1","v":"2018-02-09"},{"$f":"TEXT(Y123,\"ddd\")","v":"vr"},"DD",{"$f":"IFERROR(HLOOKUP(Y123,[1]DATA!$A$1:$NB$5,3,0),\"\")","v":"D2"},66,null,25,363,3,-36.0625,0.77534050179211467,0.99231163505894415]
["6vrMD",{"$f":"VLOOKUP($AA124,DATA!$B$3:$E$6,2,0)","v":"14:30:00"},{"$f":"VLOOKUP($AA124,DATA!$B$3:$E$6,3,0)","v":"22:30:00"},{"$f":"VLOOKUP($AA124,DATA!$B$3:$E$6,4,0)","v":3.125E-2},0.30208333333333337,0.22569444444444448,{"$f":"DATA!$C$9","v":0.89},{"$f":"DATA!$C$10","v":64},1,304.68750000000006,407.81250000000006,7.6388888888888895E-2,103.12500000000001,0.25287356321839083,0,"","",387.2,351,351,"","",null,{"$f":"X121","v":6},null,{"$f":"TEXT(Y123,\"ddd\")","v":"vr"},"MD",{"$f":"IFERROR(HLOOKUP(Y123,[1]DATA!$A$1:$NB$5,4,0),\"\")","v":"D1"},110,null,12,363,5,18.187500000000057,0.80516129032258077,0.98725140234574194]
["6vrND",{"$f":"VLOOKUP($AA125,DATA!$B$3:$E$6,2,0)","v":"22:30:00"},{"$f":"VLOOKUP($AA125,DATA!$B$3:$E$6,3,0)","v":"06:30:00"},{"$f":"VLOOKUP($AA125,DATA!$B$3:$E$6,4,0)","v":3.125E-2},0.30208333333333326,0.30208333333333326,{"$f":"DATA!$C$9","v":0.89},{"$f":"DATA!$C$10","v":64},1,407.81249999999989,407.81249999999989,0,"","",0,"","",0,"","","","",null,{"$f":"X121","v":6},null,{"$f":"TEXT(Y123,\"ddd\")","v":"vr"},"ND",{"$f":"IFERROR(HLOOKUP(Y123,[1]DATA!$A$1:$NB$5,5,0),\"\")","v":"-"},null,null,null,null,0,"","",""]
["6zaDD",{"$f":"VLOOKUP($AA126,DATA!$B$3:$E$6,2,0)","v":"06:30:00"},{"$f":"VLOOKUP($AA126,DATA!$B$3:$E$6,3,0)","v":"14:30:00"},{"$f":"VLOOKUP($AA126,DATA!$B$3:$E$6,4,0)","v":3.125E-2},0.30208333333333331,0.30208333333333331,{"$f":"DATA!$C$9","v":0.89},{"$f":"DATA!$C$10","v":64},1,407.8125,407.8125,0,"","",0,"","",0,"","","","",null,{"$f":"X121","v":6},{"$f":"Y123+1","v":"2018-02-10"},{"$f":"TEXT(Y126,\"ddd\")","v":"za"},"DD",{"$f":"IFERROR(HLOOKUP(Y126,[1]DATA!$A$1:$NB$5,3,0),\"\")","v":"-"},null,null,null,null,0,"","",""]
["6zaMD",{"$f":"VLOOKUP($AA127,DATA!$B$3:$E$6,2,0)","v":"14:30:00"},{"$f":"VLOOKUP($AA127,DATA!$B$3:$E$6,3,0)","v":"22:30:00"},{"$f":"VLOOKUP($AA127,DATA!$B$3:$E$6,4,0)","v":3.125E-2},0.30208333333333337,0.30208333333333337,{"$f":"DATA!$C$9","v":0.89},{"$f":"DATA!$C$10","v":64},1,407.81250000000006,407.81250000000006,0,"","",0,"","",0,"","","","",null,{"$f":"X121","v":6},null,{"$f":"TEXT(Y126,\"ddd\")","v":"za"},"MD",{"$f":"IFERROR(HLOOKUP(Y126,[1]DATA!$A$1:$NB$5,4,0),\"\")","v":"-"},null,null,null,null,0,"","",""]
["6zaND",{"$f":"VLOOKUP($AA128,DATA!$B$3:$E$6,2,0)","v":"22:30:00"},{"$f":"VLOOKUP($AA128,DATA!$B$3:$E$6,3,0)","v":"06:30:00"},{"$f":"VLOOKUP($AA128,DATA!$B$3:$E$6,4,0)","v":3.125E-2},0.30208333333333326,0.30208333333333326,{"$f":"DATA!$C$9","v":0.89},{"$f":"DATA!$C$10","v":64},1,407.81249999999989,407.81249999999989,0,"","",0,"","",0,"","","","",null,{"$f":"X121","v":6},null,{"$f":"TEXT(Y126,\"ddd\")","v":"za"},"ND",{"$f":"IFERROR(HLOOKUP(Y126,[1]DATA!$A$1:$NB$5,5,0),\"\")","v":"-"},null,null,null,null,0,"","",""]
["6zoDD",{"$f":"VLOOKUP($AA129,DATA!$B$3:$E$6,2,0)","v":"06:30:00"},{"$f":"VLOOKUP($AA129,DATA!$B$3:$E$6,3,0)","v":"14:30:00"},{"$f":"VLOOKUP($AA129,DATA!$B$3:$E$6,4,0)","v":3.125E-2},0.30208333333333331,0.30208333333333331,{"$f":"DATA!$C$9","v":0.89},{"$f":"DATA!$C$10","v":64},1,407.8125,407.8125,0,"","",0,"","",0,"","","","",null,{"$f":"X121","v":6},{"$f":"Y126+1","v":"2018-02-11"},{"$f":"TEXT(Y129,\"ddd\")","v":"zo"},"DD",{"$f":"IFERROR(HLOOKUP(Y129,[1]DATA!$A$1:$NB$5,3,0),\"\")","v":"-"},null,null,null,null,0,"","",""]
["6zoMD",{"$f":"VLOOKUP($AA130,DATA!$B$3:$E$6,2,0)","v":"14:30:00"},{"$f":"VLOOKUP($AA130,DATA!$B$3:$E$6,3,0)","v":"22:30:00"},{"$f":"VLOOKUP($AA130,DATA!$B$3:$E$6,4,0)","v":3.125E-2},0.30208333333333337,0.30208333333333337,{"$f":"DATA!$C$9","v":0.89},{"$f":"DATA!$C$10","v":64},1,407.81250000000006,407.81250000000006,0,"","",0,"","",0,"","","","",null,{"$f":"X121","v":6},null,{"$f":"TEXT(Y129,\"ddd\")","v":"zo"},"MD",{"$f":"IFERROR(HLOOKUP(Y129,[1]DATA!$A$1:$NB$5,4,0),\"\")","v":"-"},null,null,null,null,0,"","",""]
["6zoZND",{"$f":"VLOOKUP($AA131,DATA!$B$3:$E$6,2,0)","v":"00:00:00"},{"$f":"VLOOKUP($AA131,DATA!$B$3:$E$6,3,0)","v":"00:00:00"},{"$f":"VLOOKUP($AA131,DATA!$B$3:$E$6,4,0)","v":3.125E-2},-3.125E-2,-3.125E-2,{"$f":"DATA!$C$9","v":0.89},{"$f":"DATA!$C$10","v":64},1,-42.1875,-42.1875,0,"","",0,"","",0,"","","","",null,{"$f":"X121","v":6},null,{"$f":"TEXT(Y129,\"ddd\")","v":"zo"},"ZND",{"$f":"IFERROR(HLOOKUP(Y129,[1]DATA!$A$1:$NB$5,5,0),\"\")","v":"D2"},null,null,null,null,0,"","",""]
["7maDD",{"$f":"VLOOKUP($AA132,DATA!$B$3:$E$6,2,0)","v":"06:30:00"},{"$f":"VLOOKUP($AA132,DATA!$B$3:$E$6,3,0)","v":"14:30:00"},{"$f":"VLOOKUP($AA132,DATA!$B$3:$E$6,4,0)","v":3.125E-2},0.30208333333333331,0.30208333333333331,{"$f":"DATA!$C$9","v":0.89},{"$f":"DATA!$C$10","v":64},1,407.8125,407.8125,0,"","",{"$f":"TIME(INT($AD132/60),INT(MOD($AD132,60)/1),0)","v":0},"","",0,"","","","",null,{"$f":"X142","v":7},{"$f":"Y129+1","v":"2018-02-12"},{"$f":"TEXT(Y132,\"ddd\")","v":"ma"},"DD",{"$f":"IFERROR(HLOOKUP(Y132,[1]DATA!$A$1:$NB$5,3,0),\"\")","v":"D1"},null,null,null,null,0,"","","",3487.5,2447,0.70164874551971324,1035.9375,0.29704301075268819,0,0,0.98957277535618882,0.99001430589852657,"",0.98913124481385117,4.5625,1.3082437275985792E-3,4.8666666666666663,29]
["7maMD",{"$f":"VLOOKUP($AA133,DATA!$B$3:$E$6,2,0)","v":"14:30:00"},{"$f":"VLOOKUP($AA133,DATA!$B$3:$E$6,3,0)","v":"22:30:00"},{"$f":"VLOOKUP($AA133,DATA!$B$3:$E$6,4,0)","v":3.125E-2},0.30208333333333337,0.30208333333333337,{"$f":"DATA!$C$9","v":0.89},{"$f":"DATA!$C$10","v":64},1,407.81250000000006,407.81250000000006,0,"","",{"$f":"TIME(INT(AD133/60),INT(MOD(AD133,60)/1),0)","v":0},"","",0,"","","","",null,{"$f":"X142","v":7},null,{"$f":"TEXT(Y132,\"ddd\")","v":"ma"},"MD",{"$f":"IFERROR(HLOOKUP(Y132,[1]DATA!$A$1:$NB$5,4,0),\"\")","v":"D3"},null,null,null,null,0,"","",""]
["7maND",{"$f":"VLOOKUP($AA134,DATA!$B$3:$E$6,2,0)","v":"22:30:00"},{"$f":"VLOOKUP($AA134,DATA!$B$3:$E$6,3,0)","v":"06:30:00"},{"$f":"VLOOKUP($AA134,DATA!$B$3:$E$6,4,0)","v":3.125E-2},0.30208333333333326,0.30208333333333326,{"$f":"DATA!$C$9","v":0.89},{"$f":"DATA!$C$10","v":64},1,{"$f":"F134*86400/H134*I134","v":407.81249999999989},{"$f":"E134*86400/H134","v":407.81249999999989},0,"","",0,"","",{"$f":"AF134*AG$2","v":0},{"$f":"IF(AF134-AE134=0,\"\",AF134-AE134)","v":""},"","","",null,{"$f":"X142","v":7},null,{"$f":"TEXT(Y132,\"ddd\")","v":"ma"},"ND",{"$f":"IFERROR(HLOOKUP(Y132,[1]DATA!$A$1:$NB$5,5,0),\"\")","v":"D2"},null,null,null,null,0,"","",""]
["7diDD",{"$f":"VLOOKUP($AA135,DATA!$B$3:$E$6,2,0)","v":"06:30:00"},{"$f":"VLOOKUP($AA135,DATA!$B$3:$E$6,3,0)","v":"14:30:00"},{"$f":"VLOOKUP($AA135,DATA!$B$3:$E$6,4,0)","v":3.125E-2},0.30208333333333331,0.19513888888888886,{"$f":"DATA!$C$9","v":0.89},{"$f":"DATA!$C$10","v":64},1,263.43749999999994,407.8125,{"$f":"TIME(INT($AC135/60),INT(MOD($AC135,60)/1),0)","v":0.10694444444444444},{"$f":"IF($L135*86400/$H135=0,\"\",$L135*86400/$H135)","v":144.375},{"$f":"IFERROR($M135/$K135,\"\")","v":0.35402298850574715},0,"",{"$f":"IFERROR($P135/$K135,\"\")","v":""},321.06666666666666,277,{"$f":"IF(IF($AB135=\"D1\",$S135,\"\")=0,\"\",IF($AB135=\"D1\",$S135,\"\"))","v":277},{"$f":"IF(IF($AB135=\"D2\",$S135,\"\")=0,\"\",IF($AB135=\"D2\",$S135,\"\"))","v":""},{"$f":"IF(IF($AB135=\"D3\",$S135,\"\")=0,\"\",IF($AB135=\"D3\",$S135,\"\"))","v":""},null,{"$f":"X142","v":7},{"$f":"Y132+1","v":"2018-02-13"},{"$f":"TEXT(Y135,\"ddd\")","v":"di"},"DD",{"$f":"IFERROR(HLOOKUP(Y135,[1]DATA!$A$1:$NB$5,3,0),\"\")","v":"D1"},154,null,24,301,5,-14.5625,0.63541218637992836,0.98466571253322432]
["7diMD",{"$f":"VLOOKUP($AA136,DATA!$B$3:$E$6,2,0)","v":"14:30:00"},{"$f":"VLOOKUP($AA136,DATA!$B$3:$E$6,3,0)","v":"22:30:00"},{"$f":"VLOOKUP($AA136,DATA!$B$3:$E$6,4,0)","v":3.125E-2},0.30208333333333337,0.26527777777777783,{"$f":"DATA!$C$9","v":0.89},{"$f":"DATA!$C$10","v":64},1,358.12500000000006,407.81250000000006,3.6805555555555557E-2,49.6875,0.1218390804597701,0,"","",404.26666666666665,361,"","",361,null,{"$f":"X142","v":7},null,{"$f":"TEXT(Y135,\"ddd\")","v":"di"},"MD",{"$f":"IFERROR(HLOOKUP(Y135,[1]DATA!$A$1:$NB$5,4,0),\"\")","v":"D3"},53,null,18,379,0,-25.25,0.82810035842293916,1]
["7diND",{"$f":"VLOOKUP($AA137,DATA!$B$3:$E$6,2,0)","v":"22:30:00"},{"$f":"VLOOKUP($AA137,DATA!$B$3:$E$6,3,0)","v":"06:30:00"},{"$f":"VLOOKUP($AA137,DATA!$B$3:$E$6,4,0)","v":3.125E-2},0.30208333333333326,0.30208333333333326,{"$f":"DATA!$C$9","v":0.89},{"$f":"DATA!$C$10","v":64},1,407.81249999999989,407.81249999999989,0,"","",0,"","",0,"","","","",null,{"$f":"X142","v":7},null,{"$f":"TEXT(Y135,\"ddd\")","v":"di"},"ND",{"$f":"IFERROR(HLOOKUP(Y135,[1]DATA!$A$1:$NB$5,5,0),\"\")","v":"D2"},null,null,null,null,0,"","",""]
["7woDD",{"$f":"VLOOKUP($AA138,DATA!$B$3:$E$6,2,0)","v":"06:30:00"},{"$f":"VLOOKUP($AA138,DATA!$B$3:$E$6,3,0)","v":"14:30:00"},{"$f":"VLOOKUP($AA138,DATA!$B$3:$E$6,4,0)","v":3.125E-2},0.30208333333333331,0.24166666666666664,{"$f":"DATA!$C$9","v":0.89},{"$f":"DATA!$C$10","v":64},1,326.24999999999994,407.8125,6.0416666666666667E-2,81.5625,0.2,0,"","",389.33333333333331,344,344,"","",null,{"$f":"X142","v":7},{"$f":"Y135+1","v":"2018-02-14"},{"$f":"TEXT(Y138,\"ddd\")","v":"wo"},"DD",{"$f":"IFERROR(HLOOKUP(Y138,[1]DATA!$A$1:$NB$5,3,0),\"\")","v":"D1"},87,null,21,365,3,-10.375,0.78910394265232975,0.99235344095157174]
["7woMD",{"$f":"VLOOKUP($AA139,DATA!$B$3:$E$6,2,0)","v":"14:30:00"},{"$f":"VLOOKUP($AA139,DATA!$B$3:$E$6,3,0)","v":"22:30:00"},{"$f":"VLOOKUP($AA139,DATA!$B$3:$E$6,4,0)","v":3.125E-2},0.30208333333333337,0.21597222222222223,{"$f":"DATA!$C$9","v":0.89},{"$f":"DATA!$C$10","v":64},1,291.5625,407.81250000000006,8.6111111111111124E-2,116.25000000000001,0.28505747126436781,0,"","",349.86666666666667,306,"","",306,null,{"$f":"X142","v":7},null,{"$f":"TEXT(Y138,\"ddd\")","v":"wo"},"MD",{"$f":"IFERROR(HLOOKUP(Y138,[1]DATA!$A$1:$NB$5,4,0),\"\")","v":"D3"},124,null,22,328,5,-13.687499999999886,0.70193548387096782,0.98591020101446558]
["7woND",{"$f":"VLOOKUP($AA140,DATA!$B$3:$E$6,2,0)","v":"22:30:00"},{"$f":"VLOOKUP($AA140,DATA!$B$3:$E$6,3,0)","v":"06:30:00"},{"$f":"VLOOKUP($AA140,DATA!$B$3:$E$6,4,0)","v":3.125E-2},0.30208333333333326,0.30208333333333326,{"$f":"DATA!$C$9","v":0.89},{"$f":"DATA!$C$10","v":64},1,407.81249999999989,407.81249999999989,0,"","",0,"","",0,"","","","",null,{"$f":"X142","v":7},null,{"$f":"TEXT(Y138,\"ddd\")","v":"wo"},"ND",{"$f":"IFERROR(HLOOKUP(Y138,[1]DATA!$A$1:$NB$5,5,0),\"\")","v":"D2"},null,null,null,null,0,"","",""]
["7doDD",{"$f":"VLOOKUP($AA141,DATA!$B$3:$E$6,2,0)","v":"06:30:00"},{"$f":"VLOOKUP($AA141,DATA!$B$3:$E$6,3,0)","v":"14:30:00"},{"$f":"VLOOKUP($AA141,DATA!$B$3:$E$6,4,0)","v":3.125E-2},0.30208333333333331,0.19722222222222219,{"$f":"DATA!$C$9","v":0.89},{"$f":"DATA!$C$10","v":64},1,266.24999999999994,407.8125,0.10486111111111111,141.5625,0.3471264367816092,0,"","",347.73333333333335,309,309,"","",null,{"$f":"X142","v":7},{"$f":"Y138+1","v":"2018-02-15"},{"$f":"TEXT(Y141,\"ddd\")","v":"do"},"DD",{"$f":"IFERROR(HLOOKUP(Y141,[1]DATA!$A$1:$NB$5,3,0),\"\")","v":"D1"},151,null,17,326,6,14.625,0.70881720430107531,0.98303807010931021]
["7doMD",{"$f":"VLOOKUP($AA142,DATA!$B$3:$E$6,2,0)","v":"14:30:00"},{"$f":"VLOOKUP($AA142,DATA!$B$3:$E$6,3,0)","v":"22:30:00"},{"$f":"VLOOKUP($AA142,DATA!$B$3:$E$6,4,0)","v":3.125E-2},0.30208333333333337,0.20763888888888893,{"$f":"DATA!$C$9","v":0.89},{"$f":"DATA!$C$10","v":64},1,280.31250000000006,407.81250000000006,9.4444444444444442E-2,127.5,0.31264367816091948,0,"","",361.6,315,"","",315,null,{"$f":"WEEKNUM($Y132)","v":7},null,{"$f":"TEXT(Y141,\"ddd\")","v":"do"},"MD",{"$f":"IFERROR(HLOOKUP(Y141,[1]DATA!$A$1:$NB$5,4,0),\"\")","v":"D3"},136,null,24,339,5,6.5625000000000568,0.72258064516129039,0.98636115657392254]
["7doND",{"$f":"VLOOKUP($AA143,DATA!$B$3:$E$6,2,0)","v":"22:30:00"},{"$f":"VLOOKUP($AA143,DATA!$B$3:$E$6,3,0)","v":"06:30:00"},{"$f":"VLOOKUP($AA143,DATA!$B$3:$E$6,4,0)","v":3.125E-2},0.30208333333333326,0.30208333333333326,{"$f":"DATA!$C$9","v":0.89},{"$f":"DATA!$C$10","v":64},1,407.81249999999989,407.81249999999989,0,"","",0,"","",0,"","","","",null,{"$f":"X142","v":7},null,{"$f":"TEXT(Y141,\"ddd\")","v":"do"},"ND",{"$f":"IFERROR(HLOOKUP(Y141,[1]DATA!$A$1:$NB$5,5,0),\"\")","v":"D2"},null,null,null,null,0,"","",""]
["7vrDD",{"$f":"VLOOKUP($AA144,DATA!$B$3:$E$6,2,0)","v":"06:30:00"},{"$f":"VLOOKUP($AA144,DATA!$B$3:$E$6,3,0)","v":"14:30:00"},{"$f":"VLOOKUP($AA144,DATA!$B$3:$E$6,4,0)","v":3.125E-2},0.30208333333333331,0.15208333333333332,{"$f":"DATA!$C$9","v":0.89},{"$f":"DATA!$C$10","v":64},1,205.31249999999997,407.8125,0.15,202.5,0.49655172413793103,0,"","",279.46666666666664,250,250,"","",null,{"$f":"X142","v":7},{"$f":"Y141+1","v":"2018-02-16"},{"$f":"TEXT(Y144,\"ddd\")","v":"vr"},"DD",{"$f":"IFERROR(HLOOKUP(Y144,[1]DATA!$A$1:$NB$5,3,0),\"\")","v":"D1"},216,null,12,262,0,16.562499999999972,0.57347670250896055,1]
["7vrMD",{"$f":"VLOOKUP($AA145,DATA!$B$3:$E$6,2,0)","v":"14:30:00"},{"$f":"VLOOKUP($AA145,DATA!$B$3:$E$6,3,0)","v":"22:30:00"},{"$f":"VLOOKUP($AA145,DATA!$B$3:$E$6,4,0)","v":3.125E-2},0.30208333333333337,0.17430555555555557,{"$f":"DATA!$C$9","v":0.89},{"$f":"DATA!$C$10","v":64},1,235.31250000000003,407.81250000000006,0.1277777777777778,172.50000000000003,0.42298850574712643,0,"","",312.5333333333333,285,"","",285,null,{"$f":"X142","v":7},null,{"$f":"TEXT(Y144,\"ddd\")","v":"vr"},"MD",{"$f":"IFERROR(HLOOKUP(Y144,[1]DATA!$A$1:$NB$5,4,0),\"\")","v":"D3"},184,null,8,293,5,21.562500000000057,0.65376344086021509,0.98425362166701658]
["7vrND",{"$f":"VLOOKUP($AA146,DATA!$B$3:$E$6,2,0)","v":"22:30:00"},{"$f":"VLOOKUP($AA146,DATA!$B$3:$E$6,3,0)","v":"06:30:00"},{"$f":"VLOOKUP($AA146,DATA!$B$3:$E$6,4,0)","v":3.125E-2},0.30208333333333326,0.30208333333333326,{"$f":"DATA!$C$9","v":0.89},{"$f":"DATA!$C$10","v":64},1,407.81249999999989,407.81249999999989,0,"","",0,"","",0,"","","","",null,{"$f":"X142","v":7},null,{"$f":"TEXT(Y144,\"ddd\")","v":"vr"},"ND",{"$f":"IFERROR(HLOOKUP(Y144,[1]DATA!$A$1:$NB$5,5,0),\"\")","v":"-"},null,null,null,null,0,"","",""]
["7zaDD",{"$f":"VLOOKUP($AA147,DATA!$B$3:$E$6,2,0)","v":"06:30:00"},{"$f":"VLOOKUP($AA147,DATA!$B$3:$E$6,3,0)","v":"14:30:00"},{"$f":"VLOOKUP($AA147,DATA!$B$3:$E$6,4,0)","v":3.125E-2},0.30208333333333331,0.30208333333333331,{"$f":"DATA!$C$9","v":0.89},{"$f":"DATA!$C$10","v":64},1,407.8125,407.8125,0,"","",0,"","",0,"","","","",null,{"$f":"X142","v":7},{"$f":"Y144+1","v":"2018-02-17"},{"$f":"TEXT(Y147,\"ddd\")","v":"za"},"DD",{"$f":"IFERROR(HLOOKUP(Y147,[1]DATA!$A$1:$NB$5,3,0),\"\")","v":"-"},null,null,null,null,0,"","",""]
["7zaMD",{"$f":"VLOOKUP($AA148,DATA!$B$3:$E$6,2,0)","v":"14:30:00"},{"$f":"VLOOKUP($AA148,DATA!$B$3:$E$6,3,0)","v":"22:30:00"},{"$f":"VLOOKUP($AA148,DATA!$B$3:$E$6,4,0)","v":3.125E-2},0.30208333333333337,0.30208333333333337,{"$f":"DATA!$C$9","v":0.89},{"$f":"DATA!$C$10","v":64},1,407.81250000000006,407.81250000000006,0,"","",0,"","",0,"","","","",null,{"$f":"X142","v":7},null,{"$f":"TEXT(Y147,\"ddd\")","v":"za"},"MD",{"$f":"IFERROR(HLOOKUP(Y147,[1]DATA!$A$1:$NB$5,4,0),\"\")","v":"-"},null,null,null,null,0,"","",""]
["7zaND",{"$f":"VLOOKUP($AA149,DATA!$B$3:$E$6,2,0)","v":"22:30:00"},{"$f":"VLOOKUP($AA149,DATA!$B$3:$E$6,3,0)","v":"06:30:00"},{"$f":"VLOOKUP($AA149,DATA!$B$3:$E$6,4,0)","v":3.125E-2},0.30208333333333326,0.30208333333333326,{"$f":"DATA!$C$9","v":0.89},{"$f":"DATA!$C$10","v":64},1,407.81249999999989,407.81249999999989,0,"","",0,"","",0,"","","","",null,{"$f":"X142","v":7},null,{"$f":"TEXT(Y147,\"ddd\")","v":"za"},"ND",{"$f":"IFERROR(HLOOKUP(Y147,[1]DATA!$A$1:$NB$5,5,0),\"\")","v":"-"},null,null,null,null,0,"","",""]
["7zoDD",{"$f":"VLOOKUP($AA150,DATA!$B$3:$E$6,2,0)","v":"06:30:00"},{"$f":"VLOOKUP($AA150,DATA!$B$3:$E$6,3,0)","v":"14:30:00"},{"$f":"VLOOKUP($AA150,DATA!$B$3:$E$6,4,0)","v":3.125E-2},0.30208333333333331,0.30208333333333331,{"$f":"DATA!$C$9","v":0.89},{"$f":"DATA!$C$10","v":64},1,407.8125,407.8125,0,"","",0,"","",0,"","","","",null,{"$f":"X142","v":7},{"$f":"Y147+1","v":"2018-02-18"},{"$f":"TEXT(Y150,\"ddd\")","v":"zo"},"DD",{"$f":"IFERROR(HLOOKUP(Y150,[1]DATA!$A$1:$NB$5,3,0),\"\")","v":"-"},null,null,null,null,0,"","",""]
["7zoMD",{"$f":"VLOOKUP($AA151,DATA!$B$3:$E$6,2,0)","v":"14:30:00"},{"$f":"VLOOKUP($AA151,DATA!$B$3:$E$6,3,0)","v":"22:30:00"},{"$f":"VLOOKUP($AA151,DATA!$B$3:$E$6,4,0)","v":3.125E-2},0.30208333333333337,0.30208333333333337,{"$f":"DATA!$C$9","v":0.89},{"$f":"DATA!$C$10","v":64},1,407.81250000000006,407.81250000000006,0,"","",0,"","",0,"","","","",null,{"$f":"X142","v":7},null,{"$f":"TEXT(Y150,\"ddd\")","v":"zo"},"MD",{"$f":"IFERROR(HLOOKUP(Y150,[1]DATA!$A$1:$NB$5,4,0),\"\")","v":"-"},null,null,null,null,0,"","",""]
["7zoZND",{"$f":"VLOOKUP($AA152,DATA!$B$3:$E$6,2,0)","v":"00:00:00"},{"$f":"VLOOKUP($AA152,DATA!$B$3:$E$6,3,0)","v":"00:00:00"},{"$f":"VLOOKUP($AA152,DATA!$B$3:$E$6,4,0)","v":3.125E-2},-3.125E-2,-3.125E-2,{"$f":"DATA!$C$9","v":0.89},{"$f":"DATA!$C$10","v":64},1,-42.1875,-42.1875,0,"","",0,"","",0,"","","","",null,{"$f":"X142","v":7},null,{"$f":"TEXT(Y150,\"ddd\")","v":"zo"},"ZND",{"$f":"IFERROR(HLOOKUP(Y150,[1]DATA!$A$1:$NB$5,5,0),\"\")","v":"D1"},null,null,null,null,0,"","",""]
["8maDD",{"$f":"VLOOKUP($AA153,DATA!$B$3:$E$6,2,0)","v":"06:30:00"},{"$f":"VLOOKUP($AA153,DATA!$B$3:$E$6,3,0)","v":"14:30:00"},{"$f":"VLOOKUP($AA153,DATA!$B$3:$E$6,4,0)","v":3.125E-2},0.30208333333333331,0.25624999999999998,{"$f":"DATA!$C$9","v":0.89},{"$f":"DATA!$C$10","v":64},1,345.93749999999994,407.8125,4.5833333333333337E-2,61.875000000000007,0.15172413793103451,{"$f":"TIME(INT($AD153/60),INT(MOD($AD153,60)/1),0)","v":0},"","",411.73333333333335,362,"","",362,null,{"$f":"X163","v":8},{"$f":"Y150+1","v":"2018-02-19"},{"$f":"TEXT(Y153,\"ddd\")","v":"ma"},"DD",{"$f":"IFERROR(HLOOKUP(Y153,[1]DATA!$A$1:$NB$5,3,0),\"\")","v":"D3"},66,null,24,386,3,-12.0625,0.83039426523297488,0.99276643626426619,3923.4375,2896,0.73812823576264441,870,0.22174432497013141,0,0,0.93159513501654601,"",0.99348165222790963,0.85423698850234164,157.4375,4.0127439267224174E-2,167.93333333333334,282]
["8maMD",{"$f":"VLOOKUP($AA154,DATA!$B$3:$E$6,2,0)","v":"14:30:00"},{"$f":"VLOOKUP($AA154,DATA!$B$3:$E$6,3,0)","v":"22:30:00"},{"$f":"VLOOKUP($AA154,DATA!$B$3:$E$6,4,0)","v":3.125E-2},0.30208333333333337,0.23402777777777783,{"$f":"DATA!$C$9","v":0.89},{"$f":"DATA!$C$10","v":64},1,315.93750000000006,407.81250000000006,6.805555555555555E-2,91.874999999999986,0.22528735632183902,{"$f":"TIME(INT(AD154/60),INT(MOD(AD154,60)/1),0)","v":0},"","",392.5333333333333,345,"",345,"",null,{"$f":"X163","v":8},null,{"$f":"TEXT(Y153,\"ddd\")","v":"ma"},"MD",{"$f":"IFERROR(HLOOKUP(Y153,[1]DATA!$A$1:$NB$5,4,0),\"\")","v":"D2"},98,null,23,368,5,0.9375,0.79139784946236569,0.98742243836994803]
["8maND",{"$f":"VLOOKUP($AA155,DATA!$B$3:$E$6,2,0)","v":"22:30:00"},{"$f":"VLOOKUP($AA155,DATA!$B$3:$E$6,3,0)","v":"06:30:00"},{"$f":"VLOOKUP($AA155,DATA!$B$3:$E$6,4,0)","v":3.125E-2},0.30208333333333326,0.30208333333333326,{"$f":"DATA!$C$9","v":0.89},{"$f":"DATA!$C$10","v":64},1,407.81249999999989,407.81249999999989,0,"","",0,"","",0,"","","","",null,{"$f":"X163","v":8},null,{"$f":"TEXT(Y153,\"ddd\")","v":"ma"},"ND",{"$f":"IFERROR(HLOOKUP(Y153,[1]DATA!$A$1:$NB$5,5,0),\"\")","v":"D1"},null,null,null,null,0,"","",""]
["8diDD",{"$f":"VLOOKUP($AA156,DATA!$B$3:$E$6,2,0)","v":"06:30:00"},{"$f":"VLOOKUP($AA156,DATA!$B$3:$E$6,3,0)","v":"14:30:00"},{"$f":"VLOOKUP($AA156,DATA!$B$3:$E$6,4,0)","v":3.125E-2},{"$f":"(C156-B156+(B156>C156))-D156","v":0.30208333333333331},{"$f":"E156-O156-L156","v":0.30208333333333331},{"$f":"DATA!$C$9","v":0.89},{"$f":"DATA!$C$10","v":64},1,407.8125,407.8125,0,"","",0,"","",229.33333333333334,206,"","",206,null,{"$f":"X163","v":8},{"$f":"Y153+1","v":"2018-02-20"},{"$f":"TEXT(Y156,\"ddd\")","v":"di"},"DD",{"$f":"IFERROR(HLOOKUP(Y156,[1]DATA!$A$1:$NB$5,3,0),\"\")","v":"D3"},0,null,9,215,244,-229.9375,0.47254480286738354,0.48450704225352109]
["8diMD",{"$f":"VLOOKUP($AA157,DATA!$B$3:$E$6,2,0)","v":"14:30:00"},{"$f":"VLOOKUP($AA157,DATA!$B$3:$E$6,3,0)","v":"22:30:00"},{"$f":"VLOOKUP($AA157,DATA!$B$3:$E$6,4,0)","v":3.125E-2},0.30208333333333337,0.24652777777777782,{"$f":"DATA!$C$9","v":0.89},{"$f":"DATA!$C$10","v":64},1,332.81250000000006,407.81250000000006,5.5555555555555552E-2,75,0.18390804597701146,0,"","",449.06666666666666,387,"",387,"",null,{"$f":"X163","v":8},null,{"$f":"TEXT(Y156,\"ddd\")","v":"di"},"MD",{"$f":"IFERROR(HLOOKUP(Y156,[1]DATA!$A$1:$NB$5,4,0),\"\")","v":"D2"},80,null,34,421,0,26.062500000000057,0.88774193548387104,1]
["8diND",{"$f":"VLOOKUP($AA158,DATA!$B$3:$E$6,2,0)","v":"22:30:00"},{"$f":"VLOOKUP($AA158,DATA!$B$3:$E$6,3,0)","v":"06:30:00"},{"$f":"VLOOKUP($AA158,DATA!$B$3:$E$6,4,0)","v":3.125E-2},0.30208333333333326,0.30208333333333326,{"$f":"DATA!$C$9","v":0.89},{"$f":"DATA!$C$10","v":64},1,407.81249999999989,407.81249999999989,0,"","",0,"","",0,"","","","",null,{"$f":"X163","v":8},null,{"$f":"TEXT(Y156,\"ddd\")","v":"di"},"ND",{"$f":"IFERROR(HLOOKUP(Y156,[1]DATA!$A$1:$NB$5,5,0),\"\")","v":"D1"},null,null,null,null,0,"","",""]
["8woDD",{"$f":"VLOOKUP($AA159,DATA!$B$3:$E$6,2,0)","v":"06:30:00"},{"$f":"VLOOKUP($AA159,DATA!$B$3:$E$6,3,0)","v":"14:30:00"},{"$f":"VLOOKUP($AA159,DATA!$B$3:$E$6,4,0)","v":3.125E-2},0.30208333333333331,0.23472222222222222,{"$f":"DATA!$C$9","v":0.89},{"$f":"DATA!$C$10","v":64},1,316.875,407.8125,6.7361111111111108E-2,90.9375,0.22298850574712645,0,"","",352,321,"","",321,null,{"$f":"X163","v":8},{"$f":"Y156+1","v":"2018-02-21"},{"$f":"TEXT(Y159,\"ddd\")","v":"wo"},"DD",{"$f":"IFERROR(HLOOKUP(Y159,[1]DATA!$A$1:$NB$5,3,0),\"\")","v":"D3"},97,null,9,330,8,-24.000000000000057,0.73634408602150536,0.97777777777777775]
["8woMD",{"$f":"VLOOKUP($AA160,DATA!$B$3:$E$6,2,0)","v":"14:30:00"},{"$f":"VLOOKUP($AA160,DATA!$B$3:$E$6,3,0)","v":"22:30:00"},{"$f":"VLOOKUP($AA160,DATA!$B$3:$E$6,4,0)","v":3.125E-2},0.30208333333333337,0.20277777777777783,{"$f":"DATA!$C$9","v":0.89},{"$f":"DATA!$C$10","v":64},1,273.75000000000006,407.81250000000006,9.930555555555555E-2,134.0625,0.328735632183908,0,"","",381.86666666666667,326,"",326,"",null,{"$f":"X163","v":8},null,{"$f":"TEXT(Y159,\"ddd\")","v":"wo"},"MD",{"$f":"IFERROR(HLOOKUP(Y159,[1]DATA!$A$1:$NB$5,4,0),\"\")","v":"D2"},143,null,32,358,0,24.125,0.74781362007168473,1]
["8woND",{"$f":"VLOOKUP($AA161,DATA!$B$3:$E$6,2,0)","v":"22:30:00"},{"$f":"VLOOKUP($AA161,DATA!$B$3:$E$6,3,0)","v":"06:30:00"},{"$f":"VLOOKUP($AA161,DATA!$B$3:$E$6,4,0)","v":3.125E-2},0.30208333333333326,0.30208333333333326,{"$f":"DATA!$C$9","v":0.89},{"$f":"DATA!$C$10","v":64},1,407.81249999999989,407.81249999999989,0,"","",0,"","",0,"","","","",null,{"$f":"X163","v":8},null,{"$f":"TEXT(Y159,\"ddd\")","v":"wo"},"ND",{"$f":"IFERROR(HLOOKUP(Y159,[1]DATA!$A$1:$NB$5,5,0),\"\")","v":"D1"},null,null,null,null,0,"","",""]
["8doDD",{"$f":"VLOOKUP($AA162,DATA!$B$3:$E$6,2,0)","v":"06:30:00"},{"$f":"VLOOKUP($AA162,DATA!$B$3:$E$6,3,0)","v":"14:30:00"},{"$f":"VLOOKUP($AA162,DATA!$B$3:$E$6,4,0)","v":3.125E-2},0.30208333333333331,0.22361111111111109,{"$f":"DATA!$C$9","v":0.89},{"$f":"DATA!$C$10","v":64},1,301.875,407.8125,7.8472222222222221E-2,105.9375,0.25977011494252872,0,"","",378.66666666666669,334,"","",334,null,{"$f":"X163","v":8},{"$f":"Y159+1","v":"2018-02-22"},{"$f":"TEXT(Y162,\"ddd\")","v":"do"},"DD",{"$f":"IFERROR(HLOOKUP(Y162,[1]DATA!$A$1:$NB$5,3,0),\"\")","v":"D3"},113,null,21,355,15,4,0.76616487455197135,0.96189669771380182]
["8doMD",{"$f":"VLOOKUP($AA163,DATA!$B$3:$E$6,2,0)","v":"14:30:00"},{"$f":"VLOOKUP($AA163,DATA!$B$3:$E$6,3,0)","v":"22:30:00"},{"$f":"VLOOKUP($AA163,DATA!$B$3:$E$6,4,0)","v":3.125E-2},0.30208333333333337,0.2104166666666667,{"$f":"DATA!$C$9","v":0.89},{"$f":"DATA!$C$10","v":64},1,284.06250000000006,407.81250000000006,9.1666666666666674E-2,123.75000000000001,0.30344827586206896,0,"","",396.8,333,"",333,"",null,{"$f":"WEEKNUM($Y153)","v":8},null,{"$f":"TEXT(Y162,\"ddd\")","v":"do"},"MD",{"$f":"IFERROR(HLOOKUP(Y162,[1]DATA!$A$1:$NB$5,4,0),\"\")","v":"D2"},132,null,39,372,3,20.812500000000057,0.76387096774193564,0.99249624812406201]
["8doND",{"$f":"VLOOKUP($AA164,DATA!$B$3:$E$6,2,0)","v":"22:30:00"},{"$f":"VLOOKUP($AA164,DATA!$B$3:$E$6,3,0)","v":"06:30:00"},{"$f":"VLOOKUP($AA164,DATA!$B$3:$E$6,4,0)","v":3.125E-2},0.30208333333333326,0.30208333333333326,{"$f":"DATA!$C$9","v":0.89},{"$f":"DATA!$C$10","v":64},1,407.81249999999989,407.81249999999989,0,"","",0,"","",0,"","","","",null,{"$f":"X163","v":8},null,{"$f":"TEXT(Y162,\"ddd\")","v":"do"},"ND",{"$f":"IFERROR(HLOOKUP(Y162,[1]DATA!$A$1:$NB$5,5,0),\"\")","v":"D1"},null,null,null,null,0,"","",""]
["8vrDD",{"$f":"VLOOKUP($AA165,DATA!$B$3:$E$6,2,0)","v":"06:30:00"},{"$f":"VLOOKUP($AA165,DATA!$B$3:$E$6,3,0)","v":"14:30:00"},{"$f":"VLOOKUP($AA165,DATA!$B$3:$E$6,4,0)","v":3.125E-2},0.30208333333333331,0.30208333333333331,{"$f":"DATA!$C$9","v":0.89},{"$f":"DATA!$C$10","v":64},1,407.8125,407.8125,0,"","",0,"","",0,"","","","",null,{"$f":"X163","v":8},{"$f":"Y162+1","v":"2018-02-23"},{"$f":"TEXT(Y165,\"ddd\")","v":"vr"},"DD",{"$f":"IFERROR(HLOOKUP(Y165,[1]DATA!$A$1:$NB$5,3,0),\"\")","v":"D3"},0,null,0,0,0,"","",""]
["8vrMD",{"$f":"VLOOKUP($AA166,DATA!$B$3:$E$6,2,0)","v":"14:30:00"},{"$f":"VLOOKUP($AA166,DATA!$B$3:$E$6,3,0)","v":"22:30:00"},{"$f":"VLOOKUP($AA166,DATA!$B$3:$E$6,4,0)","v":3.125E-2},0.30208333333333337,0.16388888888888895,{"$f":"DATA!$C$9","v":0.89},{"$f":"DATA!$C$10","v":64},1,221.25000000000009,407.81250000000006,0.13819444444444443,186.56249999999997,0.45747126436781593,0,"","",315.73333333333335,282,"",282,"",null,{"$f":"X163","v":8},null,{"$f":"TEXT(Y165,\"ddd\")","v":"vr"},"MD",{"$f":"IFERROR(HLOOKUP(Y165,[1]DATA!$A$1:$NB$5,4,0),\"\")","v":"D2"},199,null,14,296,4,32.625000000000028,0.64688172043010761,0.98748957464553799]
["8vrND",{"$f":"VLOOKUP($AA167,DATA!$B$3:$E$6,2,0)","v":"22:30:00"},{"$f":"VLOOKUP($AA167,DATA!$B$3:$E$6,3,0)","v":"06:30:00"},{"$f":"VLOOKUP($AA167,DATA!$B$3:$E$6,4,0)","v":3.125E-2},0.30208333333333326,0.30208333333333326,{"$f":"DATA!$C$9","v":0.89},{"$f":"DATA!$C$10","v":64},1,407.81249999999989,407.81249999999989,0,"","",0,"","",0,"","","","",null,{"$f":"X163","v":8},null,{"$f":"TEXT(Y165,\"ddd\")","v":"vr"},"ND",{"$f":"IFERROR(HLOOKUP(Y165,[1]DATA!$A$1:$NB$5,5,0),\"\")","v":"-"},null,null,null,null,0,"","",""]
["8zaDD",{"$f":"VLOOKUP($AA168,DATA!$B$3:$E$6,2,0)","v":"06:30:00"},{"$f":"VLOOKUP($AA168,DATA!$B$3:$E$6,3,0)","v":"14:30:00"},{"$f":"VLOOKUP($AA168,DATA!$B$3:$E$6,4,0)","v":3.125E-2},0.30208333333333331,0.30208333333333331,{"$f":"DATA!$C$9","v":0.89},{"$f":"DATA!$C$10","v":64},1,407.8125,407.8125,0,"","",0,"","",0,"","","","",null,{"$f":"X163","v":8},{"$f":"Y165+1","v":"2018-02-24"},{"$f":"TEXT(Y168,\"ddd\")","v":"za"},"DD",{"$f":"IFERROR(HLOOKUP(Y168,[1]DATA!$A$1:$NB$5,3,0),\"\")","v":"-"},null,null,null,null,0,"","",""]
["8zaMD",{"$f":"VLOOKUP($AA169,DATA!$B$3:$E$6,2,0)","v":"14:30:00"},{"$f":"VLOOKUP($AA169,DATA!$B$3:$E$6,3,0)","v":"22:30:00"},{"$f":"VLOOKUP($AA169,DATA!$B$3:$E$6,4,0)","v":3.125E-2},0.30208333333333337,0.30208333333333337,{"$f":"DATA!$C$9","v":0.89},{"$f":"DATA!$C$10","v":64},1,407.81250000000006,407.81250000000006,0,"","",0,"","",0,"","","","",null,{"$f":"X163","v":8},null,{"$f":"TEXT(Y168,\"ddd\")","v":"za"},"MD",{"$f":"IFERROR(HLOOKUP(Y168,[1]DATA!$A$1:$NB$5,4,0),\"\")","v":"-"},null,null,null,null,0,"","",""]
["8zaND",{"$f":"VLOOKUP($AA170,DATA!$B$3:$E$6,2,0)","v":"22:30:00"},{"$f":"VLOOKUP($AA170,DATA!$B$3:$E$6,3,0)","v":"06:30:00"},{"$f":"VLOOKUP($AA170,DATA!$B$3:$E$6,4,0)","v":3.125E-2},0.30208333333333326,0.30208333333333326,{"$f":"DATA!$C$9","v":0.89},{"$f":"DATA!$C$10","v":64},1,407.81249999999989,407.81249999999989,0,"","",0,"","",0,"","","","",null,{"$f":"X163","v":8},null,{"$f":"TEXT(Y168,\"ddd\")","v":"za"},"ND",{"$f":"IFERROR(HLOOKUP(Y168,[1]DATA!$A$1:$NB$5,5,0),\"\")","v":"-"},null,null,null,null,0,"","",""]
["8zoDD",{"$f":"VLOOKUP($AA171,DATA!$B$3:$E$6,2,0)","v":"06:30:00"},{"$f":"VLOOKUP($AA171,DATA!$B$3:$E$6,3,0)","v":"14:30:00"},{"$f":"VLOOKUP($AA171,DATA!$B$3:$E$6,4,0)","v":3.125E-2},0.30208333333333331,0.30208333333333331,{"$f":"DATA!$C$9","v":0.89},{"$f":"DATA!$C$10","v":64},1,407.8125,407.8125,0,"","",0,"","",0,"","","","",null,{"$f":"X163","v":8},{"$f":"Y168+1","v":"2018-02-25"},{"$f":"TEXT(Y171,\"ddd\")","v":"zo"},"DD",{"$f":"IFERROR(HLOOKUP(Y171,[1]DATA!$A$1:$NB$5,3,0),\"\")","v":"-"},null,null,null,null,0,"","",""]
["8zoMD",{"$f":"VLOOKUP($AA172,DATA!$B$3:$E$6,2,0)","v":"14:30:00"},{"$f":"VLOOKUP($AA172,DATA!$B$3:$E$6,3,0)","v":"22:30:00"},{"$f":"VLOOKUP($AA172,DATA!$B$3:$E$6,4,0)","v":3.125E-2},0.30208333333333337,0.30208333333333337,{"$f":"DATA!$C$9","v":0.89},{"$f":"DATA!$C$10","v":64},1,407.81250000000006,407.81250000000006,0,"","",0,"","",0,"","","","",null,{"$f":"X163","v":8},null,{"$f":"TEXT(Y171,\"ddd\")","v":"zo"},"MD",{"$f":"IFERROR(HLOOKUP(Y171,[1]DATA!$A$1:$NB$5,4,0),\"\")","v":"-"},null,null,null,null,0,"","",""]
["8zoZND",{"$f":"VLOOKUP($AA173,DATA!$B$3:$E$6,2,0)","v":"00:00:00"},{"$f":"VLOOKUP($AA173,DATA!$B$3:$E$6,3,0)","v":"00:00:00"},{"$f":"VLOOKUP($AA173,DATA!$B$3:$E$6,4,0)","v":3.125E-2},-3.125E-2,-3.125E-2,{"$f":"DATA!$C$9","v":0.89},{"$f":"DATA!$C$10","v":64},1,-42.1875,-42.1875,0,"","",0,"","",0,"","","","",null,{"$f":"X163","v":8},null,{"$f":"TEXT(Y171,\"ddd\")","v":"zo"},"ZND",{"$f":"IFERROR(HLOOKUP(Y171,[1]DATA!$A$1:$NB$5,5,0),\"\")","v":"D3"},null,null,null,null,0,"","",""]
["9maDD",{"$f":"VLOOKUP($AA174,DATA!$B$3:$E$6,2,0)","v":"06:30:00"},{"$f":"VLOOKUP($AA174,DATA!$B$3:$E$6,3,0)","v":"14:30:00"},{"$f":"VLOOKUP($AA174,DATA!$B$3:$E$6,4,0)","v":3.125E-2},0.30208333333333331,6.0416666666666646E-2,{"$f":"DATA!$C$9","v":0.89},{"$f":"DATA!$C$10","v":64},1,81.562499999999972,407.8125,0.24166666666666667,326.25,0.8,{"$f":"TIME(INT($AD174/60),INT(MOD($AD174,60)/1),0)","v":0},"","",144,124,"",124,"",null,{"$f":"X184","v":9},{"$f":"Y171+1","v":"2018-02-26"},{"$f":"TEXT(Y174,\"ddd\")","v":"ma"},"DD",{"$f":"IFERROR(HLOOKUP(Y174,[1]DATA!$A$1:$NB$5,3,0),\"\")","v":"D2"},348,null,11,135,0,14.312499999999972,0.28444444444444444,1,4359.375,3178,0.72900358422939071,1042.5,0.23913978494623656,0,0,0.9674090954433211,0.95098637263546271,0.98383181825117938,"",138.875,3.1856630824372734E-2,148.13333333333333,142]
["9maMD",{"$f":"VLOOKUP($AA175,DATA!$B$3:$E$6,2,0)","v":"14:30:00"},{"$f":"VLOOKUP($AA175,DATA!$B$3:$E$6,3,0)","v":"22:30:00"},{"$f":"VLOOKUP($AA175,DATA!$B$3:$E$6,4,0)","v":3.125E-2},0.30208333333333337,0.2194444444444445,{"$f":"DATA!$C$9","v":0.89},{"$f":"DATA!$C$10","v":64},1,296.25000000000006,407.81250000000006,8.2638888888888887E-2,111.5625,0.27356321839080455,{"$f":"TIME(INT(AD175/60),INT(MOD(AD175,60)/1),0)","v":0},"","",364.8,321,321,"","",null,{"$f":"X184","v":9},null,{"$f":"TEXT(Y174,\"ddd\")","v":"ma"},"MD",{"$f":"IFERROR(HLOOKUP(Y174,[1]DATA!$A$1:$NB$5,4,0),\"\")","v":"D1"},119,null,21,342,2,-3.375,0.73634408602150547,0.99454743729552886]
[{"$f":"X176&Z176&AA176","v":"9maND"},{"$f":"VLOOKUP($AA176,DATA!$B$3:$E$6,2,0)","v":"22:30:00"},{"$f":"VLOOKUP($AA176,DATA!$B$3:$E$6,3,0)","v":"06:30:00"},{"$f":"VLOOKUP($AA176,DATA!$B$3:$E$6,4,0)","v":3.125E-2},0.30208333333333326,0.30208333333333326,{"$f":"DATA!$C$9","v":0.89},{"$f":"DATA!$C$10","v":64},1,407.81249999999989,407.81249999999989,0,"","",0,{"$f":"IF($O176*86400/$H176=0,\"\",$O176*86400/$H176)","v":""},"",0,"","","","",null,{"$f":"X184","v":9},null,{"$f":"TEXT(Y174,\"ddd\")","v":"ma"},"ND",{"$f":"IFERROR(HLOOKUP(Y174,[1]DATA!$A$1:$NB$5,5,0),\"\")","v":"D3"},null,null,null,null,0,"","",""]
["9diDD",{"$f":"VLOOKUP($AA177,DATA!$B$3:$E$6,2,0)","v":"06:30:00"},{"$f":"VLOOKUP($AA177,DATA!$B$3:$E$6,3,0)","v":"14:30:00"},{"$f":"VLOOKUP($AA177,DATA!$B$3:$E$6,4,0)","v":3.125E-2},0.30208333333333331,0.2583333333333333,{"$f":"DATA!$C$9","v":0.89},{"$f":"DATA!$C$10","v":64},1,348.74999999999994,407.8125,4.3750000000000004E-2,59.062500000000007,0.14482758620689656,0,"","",422.4,382,"",382,"",null,{"$f":"X184","v":9},{"$f":"Y174+1","v":"2018-02-27"},{"$f":"TEXT(Y177,\"ddd\")","v":"di"},"DD",{"$f":"IFERROR(HLOOKUP(Y177,[1]DATA!$A$1:$NB$5,3,0),\"\")","v":"D2"},63,null,14,396,8,5.125,0.87627240143369178,0.98141263940520451]
["9diMD",{"$f":"VLOOKUP($AA178,DATA!$B$3:$E$6,2,0)","v":"14:30:00"},{"$f":"VLOOKUP($AA178,DATA!$B$3:$E$6,3,0)","v":"22:30:00"},{"$f":"VLOOKUP($AA178,DATA!$B$3:$E$6,4,0)","v":3.125E-2},0.30208333333333337,0.20972222222222225,{"$f":"DATA!$C$9","v":0.89},{"$f":"DATA!$C$10","v":64},1,283.12500000000006,407.81250000000006,9.2361111111111116E-2,124.6875,0.30574712643678159,0,"","",362.66666666666669,318,318,"","",null,{"$f":"X184","v":9},null,{"$f":"TEXT(Y177,\"ddd\")","v":"di"},"MD",{"$f":"IFERROR(HLOOKUP(Y177,[1]DATA!$A$1:$NB$5,4,0),\"\")","v":"D1"},133,null,22,340,2,6.7500000000000568,0.72946236559139799,0.99451553930530168]
["9diND",{"$f":"VLOOKUP($AA179,DATA!$B$3:$E$6,2,0)","v":"22:30:00"},{"$f":"VLOOKUP($AA179,DATA!$B$3:$E$6,3,0)","v":"06:30:00"},{"$f":"VLOOKUP($AA179,DATA!$B$3:$E$6,4,0)","v":3.125E-2},0.30208333333333326,0.30208333333333326,{"$f":"DATA!$C$9","v":0.89},{"$f":"DATA!$C$10","v":64},1,407.81249999999989,407.81249999999989,0,"","",0,"","",0,"","","","",null,{"$f":"X184","v":9},null,{"$f":"TEXT(Y177,\"ddd\")","v":"di"},"ND",{"$f":"IFERROR(HLOOKUP(Y177,[1]DATA!$A$1:$NB$5,5,0),\"\")","v":"D3"},null,null,null,null,0,"","",""]
["9woDD",{"$f":"VLOOKUP($AA180,DATA!$B$3:$E$6,2,0)","v":"06:30:00"},{"$f":"VLOOKUP($AA180,DATA!$B$3:$E$6,3,0)","v":"14:30:00"},{"$f":"VLOOKUP($AA180,DATA!$B$3:$E$6,4,0)","v":3.125E-2},0.30208333333333331,0.25902777777777775,{"$f":"DATA!$C$9","v":0.89},{"$f":"DATA!$C$10","v":64},1,349.68749999999994,407.8125,4.3055555555555562E-2,58.125000000000007,0.14252873563218393,0,"","",387.2,342,"",342,"",null,{"$f":"X184","v":9},{"$f":"Y177+1","v":"2018-02-28"},{"$f":"TEXT(Y180,\"ddd\")","v":"wo"},"DD",{"$f":"IFERROR(HLOOKUP(Y180,[1]DATA!$A$1:$NB$5,3,0),\"\")","v":"D2"},62,null,21,363,5,-35.8125,0.78451612903225809,0.98725140234574194]
["9woMD",{"$f":"VLOOKUP($AA181,DATA!$B$3:$E$6,2,0)","v":"14:30:00"},{"$f":"VLOOKUP($AA181,DATA!$B$3:$E$6,3,0)","v":"22:30:00"},{"$f":"VLOOKUP($AA181,DATA!$B$3:$E$6,4,0)","v":3.125E-2},0.30208333333333337,0.28611111111111115,{"$f":"DATA!$C$9","v":0.89},{"$f":"DATA!$C$10","v":64},1,386.25000000000006,407.81250000000006,1.5972222222222224E-2,21.562500000000004,5.2873563218390804E-2,0,"","",343.46666666666664,305,305,"","",null,{"$f":"X184","v":9},null,{"$f":"TEXT(Y180,\"ddd\")","v":"wo"},"MD",{"$f":"IFERROR(HLOOKUP(Y180,[1]DATA!$A$1:$NB$5,4,0),\"\")","v":"D1"},23,null,17,322,105,-109.37499999999994,0.699641577060932,0.76586888657648278]
["9woND",{"$f":"VLOOKUP($AA182,DATA!$B$3:$E$6,2,0)","v":"22:30:00"},{"$f":"VLOOKUP($AA182,DATA!$B$3:$E$6,3,0)","v":"06:30:00"},{"$f":"VLOOKUP($AA182,DATA!$B$3:$E$6,4,0)","v":3.125E-2},0.30208333333333326,0.30208333333333326,{"$f":"DATA!$C$9","v":0.89},{"$f":"DATA!$C$10","v":64},1,407.81249999999989,407.81249999999989,0,"","",0,"","",0,"","","","",null,{"$f":"X184","v":9},null,{"$f":"TEXT(Y180,\"ddd\")","v":"wo"},"ND",{"$f":"IFERROR(HLOOKUP(Y180,[1]DATA!$A$1:$NB$5,5,0),\"\")","v":"D3"},null,null,null,null,0,"","",""]
["9doDD",{"$f":"VLOOKUP($AA183,DATA!$B$3:$E$6,2,0)","v":"06:30:00"},{"$f":"VLOOKUP($AA183,DATA!$B$3:$E$6,3,0)","v":"14:30:00"},{"$f":"VLOOKUP($AA183,DATA!$B$3:$E$6,4,0)","v":3.125E-2},0.30208333333333331,0.2361111111111111,{"$f":"DATA!$C$9","v":0.89},{"$f":"DATA!$C$10","v":64},1,318.75,407.8125,6.5972222222222224E-2,89.0625,0.21839080459770116,0,"","",390.4,345,"",345,"",null,{"$f":"X184","v":9},{"$f":"Y180+1","v":"2018-03-01"},{"$f":"TEXT(Y183,\"ddd\")","v":"do"},"DD",{"$f":"IFERROR(HLOOKUP(Y183,[1]DATA!$A$1:$NB$5,3,0),\"\")","v":"D2"},95,null,21,366,0,-1.8750000000000568,0.79139784946236558,1]
["9doMD",{"$f":"VLOOKUP($AA184,DATA!$B$3:$E$6,2,0)","v":"14:30:00"},{"$f":"VLOOKUP($AA184,DATA!$B$3:$E$6,3,0)","v":"22:30:00"},{"$f":"VLOOKUP($AA184,DATA!$B$3:$E$6,4,0)","v":3.125E-2},0.30208333333333337,0.22430555555555559,{"$f":"DATA!$C$9","v":0.89},{"$f":"DATA!$C$10","v":64},1,302.81250000000006,407.81250000000006,7.7777777777777779E-2,105,0.25747126436781603,0,"","",397.86666666666667,353,353,"","",null,{"$f":"WEEKNUM($Y174)","v":9},null,{"$f":"TEXT(Y183,\"ddd\")","v":"do"},"MD",{"$f":"IFERROR(HLOOKUP(Y183,[1]DATA!$A$1:$NB$5,4,0),\"\")","v":"D1"},112,null,20,373,0,22.062500000000057,0.80974910394265243,1]
["9doND",{"$f":"VLOOKUP($AA185,DATA!$B$3:$E$6,2,0)","v":"22:30:00"},{"$f":"VLOOKUP($AA185,DATA!$B$3:$E$6,3,0)","v":"06:30:00"},{"$f":"VLOOKUP($AA185,DATA!$B$3:$E$6,4,0)","v":3.125E-2},0.30208333333333326,0.30208333333333326,{"$f":"DATA!$C$9","v":0.89},{"$f":"DATA!$C$10","v":64},1,407.81249999999989,407.81249999999989,0,"","",0,"","",0,"","","","",null,{"$f":"X184","v":9},null,{"$f":"TEXT(Y183,\"ddd\")","v":"do"},"ND",{"$f":"IFERROR(HLOOKUP(Y183,[1]DATA!$A$1:$NB$5,5,0),\"\")","v":"D3"},null,null,null,null,0,"","",""]
["9vrDD",{"$f":"VLOOKUP($AA186,DATA!$B$3:$E$6,2,0)","v":"06:30:00"},{"$f":"VLOOKUP($AA186,DATA!$B$3:$E$6,3,0)","v":"14:30:00"},{"$f":"VLOOKUP($AA186,DATA!$B$3:$E$6,4,0)","v":3.125E-2},0.30208333333333331,0.2409722222222222,{"$f":"DATA!$C$9","v":0.89},{"$f":"DATA!$C$10","v":64},1,325.31249999999994,407.8125,6.1111111111111116E-2,82.5,0.20229885057471264,0,"","",384,326,"",326,"",null,{"$f":"X184","v":9},{"$f":"Y183+1","v":"2018-03-02"},{"$f":"TEXT(Y186,\"ddd\")","v":"vr"},"DD",{"$f":"IFERROR(HLOOKUP(Y186,[1]DATA!$A$1:$NB$5,3,0),\"\")","v":"D2"},88,null,34,360,20,-27.4375,0.74781362007168461,0.95049504950495045]
["9vrMD",{"$f":"VLOOKUP($AA187,DATA!$B$3:$E$6,2,0)","v":"14:30:00"},{"$f":"VLOOKUP($AA187,DATA!$B$3:$E$6,3,0)","v":"22:30:00"},{"$f":"VLOOKUP($AA187,DATA!$B$3:$E$6,4,0)","v":3.125E-2},0.30208333333333337,0.25416666666666671,{"$f":"DATA!$C$9","v":0.89},{"$f":"DATA!$C$10","v":64},1,343.12500000000006,407.81250000000006,4.7916666666666663E-2,64.6875,0.1586206896551724,0,"","",406.4,362,362,"","",null,{"$f":"X184","v":9},null,{"$f":"TEXT(Y186,\"ddd\")","v":"vr"},"MD",{"$f":"IFERROR(HLOOKUP(Y186,[1]DATA!$A$1:$NB$5,4,0),\"\")","v":"D1"},69,null,19,381,0,-9.2499999999999432,0.83039426523297499,1]
["9vrND",{"$f":"VLOOKUP($AA188,DATA!$B$3:$E$6,2,0)","v":"22:30:00"},{"$f":"VLOOKUP($AA188,DATA!$B$3:$E$6,3,0)","v":"06:30:00"},{"$f":"VLOOKUP($AA188,DATA!$B$3:$E$6,4,0)","v":3.125E-2},0.30208333333333326,0.30208333333333326,{"$f":"DATA!$C$9","v":0.89},{"$f":"DATA!$C$10","v":64},1,407.81249999999989,407.81249999999989,0,"","",0,"","",0,"","","","",null,{"$f":"X184","v":9},null,{"$f":"TEXT(Y186,\"ddd\")","v":"vr"},"ND",{"$f":"IFERROR(HLOOKUP(Y186,[1]DATA!$A$1:$NB$5,5,0),\"\")","v":"-"},null,null,null,null,0,"","",""]
["9zaDD",{"$f":"VLOOKUP($AA189,DATA!$B$3:$E$6,2,0)","v":"06:30:00"},{"$f":"VLOOKUP($AA189,DATA!$B$3:$E$6,3,0)","v":"14:30:00"},{"$f":"VLOOKUP($AA189,DATA!$B$3:$E$6,4,0)","v":3.125E-2},0.30208333333333331,0.30208333333333331,{"$f":"DATA!$C$9","v":0.89},{"$f":"DATA!$C$10","v":64},1,407.8125,407.8125,0,"","",0,"","",0,"","","","",null,{"$f":"X184","v":9},{"$f":"Y186+1","v":"2018-03-03"},{"$f":"TEXT(Y189,\"ddd\")","v":"za"},"DD",{"$f":"IFERROR(HLOOKUP(Y189,[1]DATA!$A$1:$NB$5,3,0),\"\")","v":"-"},null,null,null,null,0,"","",""]
["9zaMD",{"$f":"VLOOKUP($AA190,DATA!$B$3:$E$6,2,0)","v":"14:30:00"},{"$f":"VLOOKUP($AA190,DATA!$B$3:$E$6,3,0)","v":"22:30:00"},{"$f":"VLOOKUP($AA190,DATA!$B$3:$E$6,4,0)","v":3.125E-2},0.30208333333333337,0.30208333333333337,{"$f":"DATA!$C$9","v":0.89},{"$f":"DATA!$C$10","v":64},1,407.81250000000006,407.81250000000006,0,"","",0,"","",0,"","","","",null,{"$f":"X184","v":9},null,{"$f":"TEXT(Y189,\"ddd\")","v":"za"},"MD",{"$f":"IFERROR(HLOOKUP(Y189,[1]DATA!$A$1:$NB$5,4,0),\"\")","v":"-"},null,null,null,null,0,"","",""]
["9zaND",{"$f":"VLOOKUP($AA191,DATA!$B$3:$E$6,2,0)","v":"22:30:00"},{"$f":"VLOOKUP($AA191,DATA!$B$3:$E$6,3,0)","v":"06:30:00"},{"$f":"VLOOKUP($AA191,DATA!$B$3:$E$6,4,0)","v":3.125E-2},0.30208333333333326,0.30208333333333326,{"$f":"DATA!$C$9","v":0.89},{"$f":"DATA!$C$10","v":64},1,407.81249999999989,407.81249999999989,0,"","",0,"","",0,"","","","",null,{"$f":"X184","v":9},null,{"$f":"TEXT(Y189,\"ddd\")","v":"za"},"ND",{"$f":"IFERROR(HLOOKUP(Y189,[1]DATA!$A$1:$NB$5,5,0),\"\")","v":"-"},null,null,null,null,0,"","",""]
["9zoDD",{"$f":"VLOOKUP($AA192,DATA!$B$3:$E$6,2,0)","v":"06:30:00"},{"$f":"VLOOKUP($AA192,DATA!$B$3:$E$6,3,0)","v":"14:30:00"},{"$f":"VLOOKUP($AA192,DATA!$B$3:$E$6,4,0)","v":3.125E-2},0.30208333333333331,0.30208333333333331,{"$f":"DATA!$C$9","v":0.89},{"$f":"DATA!$C$10","v":64},1,407.8125,407.8125,0,"","",0,"","",0,"","","","",null,{"$f":"X184","v":9},{"$f":"Y189+1","v":"2018-03-04"},{"$f":"TEXT(Y192,\"ddd\")","v":"zo"},"DD",{"$f":"IFERROR(HLOOKUP(Y192,[1]DATA!$A$1:$NB$5,3,0),\"\")","v":"-"},null,null,null,null,0,"","",""]
["9zoMD",{"$f":"VLOOKUP($AA193,DATA!$B$3:$E$6,2,0)","v":"14:30:00"},{"$f":"VLOOKUP($AA193,DATA!$B$3:$E$6,3,0)","v":"22:30:00"},{"$f":"VLOOKUP($AA193,DATA!$B$3:$E$6,4,0)","v":3.125E-2},0.30208333333333337,0.30208333333333337,{"$f":"DATA!$C$9","v":0.89},{"$f":"DATA!$C$10","v":64},1,407.81250000000006,407.81250000000006,0,"","",0,"","",0,"","","","",null,{"$f":"X184","v":9},null,{"$f":"TEXT(Y192,\"ddd\")","v":"zo"},"MD",{"$f":"IFERROR(HLOOKUP(Y192,[1]DATA!$A$1:$NB$5,4,0),\"\")","v":"-"},null,null,null,null,0,"","",""]
["9zoZND",{"$f":"VLOOKUP($AA194,DATA!$B$3:$E$6,2,0)","v":"00:00:00"},{"$f":"VLOOKUP($AA194,DATA!$B$3:$E$6,3,0)","v":"00:00:00"},{"$f":"VLOOKUP($AA194,DATA!$B$3:$E$6,4,0)","v":3.125E-2},-3.125E-2,-3.125E-2,{"$f":"DATA!$C$9","v":0.89},{"$f":"DATA!$C$10","v":64},1,-42.1875,-42.1875,0,"","",0,"","",0,"","","","",null,{"$f":"X184","v":9},null,{"$f":"TEXT(Y192,\"ddd\")","v":"zo"},"ZND",{"$f":"IFERROR(HLOOKUP(Y192,[1]DATA!$A$1:$NB$5,5,0),\"\")","v":"D2"},null,null,null,null,0,"","",""]
["10maDD",{"$f":"VLOOKUP($AA195,DATA!$B$3:$E$6,2,0)","v":"06:30:00"},{"$f":"VLOOKUP($AA195,DATA!$B$3:$E$6,3,0)","v":"14:30:00"},{"$f":"VLOOKUP($AA195,DATA!$B$3:$E$6,4,0)","v":3.125E-2},0.30208333333333331,0.17499999999999999,{"$f":"DATA!$C$9","v":0.89},{"$f":"DATA!$C$10","v":64},1,236.24999999999997,407.8125,0.12708333333333333,171.5625,0.4206896551724138,{"$f":"TIME(INT($AD195/60),INT(MOD($AD195,60)/1),0)","v":0},"","",316.8,283,283,"","",null,{"$f":"X205","v":10},{"$f":"Y192+1","v":"2018-03-05"},{"$f":"TEXT(Y195,\"ddd\")","v":"ma"},"DD",{"$f":"IFERROR(HLOOKUP(Y195,[1]DATA!$A$1:$NB$5,3,0),\"\")","v":"D1"},183,null,14,297,2,18.624999999999943,0.64917562724014333,0.99372647427854455,4359.375,2954,0.67762007168458782,1126.875,0.25849462365591397,0,0,0.98347185528637504,0.98512598810085561,"",0.98181772247189447,278.5,6.388530465949821E-2,297.06666666666666,62]
["10maMD",{"$f":"VLOOKUP($AA196,DATA!$B$3:$E$6,2,0)","v":"14:30:00"},{"$f":"VLOOKUP($AA196,DATA!$B$3:$E$6,3,0)","v":"22:30:00"},{"$f":"VLOOKUP($AA196,DATA!$B$3:$E$6,4,0)","v":3.125E-2},0.30208333333333337,0.21875000000000006,{"$f":"DATA!$C$9","v":0.89},{"$f":"DATA!$C$10","v":64},1,295.31250000000006,407.81250000000006,8.3333333333333329E-2,112.5,0.27586206896551718,{"$f":"TIME(INT(AD196/60),INT(MOD(AD196,60)/1),0)","v":0},"","",366.93333333333334,328,"","",328,null,{"$f":"X205","v":10},null,{"$f":"TEXT(Y195,\"ddd\")","v":"ma"},"MD",{"$f":"IFERROR(HLOOKUP(Y195,[1]DATA!$A$1:$NB$5,4,0),\"\")","v":"D3"},120,null,16,344,3,4.5625,0.75240143369175638,0.99189043070823568]
["10maND",{"$f":"VLOOKUP($AA197,DATA!$B$3:$E$6,2,0)","v":"22:30:00"},{"$f":"VLOOKUP($AA197,DATA!$B$3:$E$6,3,0)","v":"06:30:00"},{"$f":"VLOOKUP($AA197,DATA!$B$3:$E$6,4,0)","v":3.125E-2},0.30208333333333326,0.30208333333333326,{"$f":"DATA!$C$9","v":0.89},{"$f":"DATA!$C$10","v":64},1,407.81249999999989,407.81249999999989,0,"","",0,"","",0,"","","","",null,{"$f":"X205","v":10},null,{"$f":"TEXT(Y195,\"ddd\")","v":"ma"},"ND",{"$f":"IFERROR(HLOOKUP(Y195,[1]DATA!$A$1:$NB$5,5,0),\"\")","v":"D2"},null,null,null,null,0,"","",""]
["10diDD",{"$f":"VLOOKUP($AA198,DATA!$B$3:$E$6,2,0)","v":"06:30:00"},{"$f":"VLOOKUP($AA198,DATA!$B$3:$E$6,3,0)","v":"14:30:00"},{"$f":"VLOOKUP($AA198,DATA!$B$3:$E$6,4,0)","v":3.125E-2},0.30208333333333331,0.18124999999999997,{"$f":"DATA!$C$9","v":0.89},{"$f":"DATA!$C$10","v":64},1,{"$f":"F198*86400/H198*I198","v":244.68749999999994},{"$f":"E198*86400/H198","v":407.8125},0.12083333333333333,163.125,0.4,0,"","",{"$f":"AF198*AG$2","v":248.53333333333333},{"$f":"IF(AF198-AE198=0,\"\",AF198-AE198)","v":215},215,"","",null,{"$f":"X205","v":10},{"$f":"Y195+1","v":"2018-03-06"},{"$f":"TEXT(Y198,\"ddd\")","v":"di"},"DD",{"$f":"IFERROR(HLOOKUP(Y198,[1]DATA!$A$1:$NB$5,3,0),\"\")","v":"D1"},174,null,18,233,0,-57.8125,0.49318996415770611,1]
["10diMD",{"$f":"VLOOKUP($AA199,DATA!$B$3:$E$6,2,0)","v":"14:30:00"},{"$f":"VLOOKUP($AA199,DATA!$B$3:$E$6,3,0)","v":"22:30:00"},{"$f":"VLOOKUP($AA199,DATA!$B$3:$E$6,4,0)","v":3.125E-2},0.30208333333333337,0.2,{"$f":"DATA!$C$9","v":0.89},{"$f":"DATA!$C$10","v":64},1,270,407.81250000000006,{"$f":"TIME(INT($AC199/60),INT(MOD($AC199,60)/1),0)","v":0.10208333333333335},{"$f":"IF($L199*86400/$H199=0,\"\",$L199*86400/$H199)","v":137.81250000000003},{"$f":"IFERROR($M199/$K199,\"\")","v":0.33793103448275863},0,"",{"$f":"IFERROR($P199/$K199,\"\")","v":""},354.13333333333333,319,{"$f":"IF(IF($AB199=\"D1\",$S199,\"\")=0,\"\",IF($AB199=\"D1\",$S199,\"\"))","v":""},{"$f":"IF(IF($AB199=\"D2\",$S199,\"\")=0,\"\",IF($AB199=\"D2\",$S199,\"\"))","v":""},{"$f":"IF(IF($AB199=\"D3\",$S199,\"\")=0,\"\",IF($AB199=\"D3\",$S199,\"\"))","v":319},null,{"$f":"X205","v":10},null,{"$f":"TEXT(Y198,\"ddd\")","v":"di"},"MD",{"$f":"IFERROR(HLOOKUP(Y198,[1]DATA!$A$1:$NB$5,4,0),\"\")","v":"D3"},147,null,13,332,6,20.875000000000057,0.73175627240143382,0.98333950388744906]
["10diND",{"$f":"VLOOKUP($AA200,DATA!$B$3:$E$6,2,0)","v":"22:30:00"},{"$f":"VLOOKUP($AA200,DATA!$B$3:$E$6,3,0)","v":"06:30:00"},{"$f":"VLOOKUP($AA200,DATA!$B$3:$E$6,4,0)","v":3.125E-2},0.30208333333333326,0.30208333333333326,{"$f":"DATA!$C$9","v":0.89},{"$f":"DATA!$C$10","v":64},1,407.81249999999989,407.81249999999989,0,"","",0,"","",0,"","","","",null,{"$f":"X205","v":10},null,{"$f":"TEXT(Y198,\"ddd\")","v":"di"},"ND",{"$f":"IFERROR(HLOOKUP(Y198,[1]DATA!$A$1:$NB$5,5,0),\"\")","v":"D2"},null,null,null,null,0,"","",""]
["10woDD",{"$f":"VLOOKUP($AA201,DATA!$B$3:$E$6,2,0)","v":"06:30:00"},{"$f":"VLOOKUP($AA201,DATA!$B$3:$E$6,3,0)","v":"14:30:00"},{"$f":"VLOOKUP($AA201,DATA!$B$3:$E$6,4,0)","v":3.125E-2},0.30208333333333331,0.22291666666666665,{"$f":"DATA!$C$9","v":0.89},{"$f":"DATA!$C$10","v":64},1,300.9375,407.8125,7.9166666666666663E-2,106.875,0.2620689655172414,0,"","",323.2,283,283,"","",null,{"$f":"X205","v":10},{"$f":"Y198+1","v":"2018-03-07"},{"$f":"TEXT(Y201,\"ddd\")","v":"wo"},"DD",{"$f":"IFERROR(HLOOKUP(Y201,[1]DATA!$A$1:$NB$5,3,0),\"\")","v":"D1"},114,null,20,303,17,-46.062500000000057,0.64917562724014333,0.95002939447383894]
["10woMD",{"$f":"VLOOKUP($AA202,DATA!$B$3:$E$6,2,0)","v":"14:30:00"},{"$f":"VLOOKUP($AA202,DATA!$B$3:$E$6,3,0)","v":"22:30:00"},{"$f":"VLOOKUP($AA202,DATA!$B$3:$E$6,4,0)","v":3.125E-2},0.30208333333333337,0.29236111111111113,{"$f":"DATA!$C$9","v":0.89},{"$f":"DATA!$C$10","v":64},1,394.6875,407.81250000000006,9.7222222222222224E-3,13.125,3.2183908045977004E-2,0,"","",428.8,374,"","",374,null,{"$f":"X205","v":10},null,{"$f":"TEXT(Y201,\"ddd\")","v":"wo"},"MD",{"$f":"IFERROR(HLOOKUP(Y201,[1]DATA!$A$1:$NB$5,4,0),\"\")","v":"D3"},14,null,28,402,19,-48.812499999999943,0.85792114695340516,0.95757034390352835]
["10woND",{"$f":"VLOOKUP($AA203,DATA!$B$3:$E$6,2,0)","v":"22:30:00"},{"$f":"VLOOKUP($AA203,DATA!$B$3:$E$6,3,0)","v":"06:30:00"},{"$f":"VLOOKUP($AA203,DATA!$B$3:$E$6,4,0)","v":3.125E-2},0.30208333333333326,0.30208333333333326,{"$f":"DATA!$C$9","v":0.89},{"$f":"DATA!$C$10","v":64},1,407.81249999999989,407.81249999999989,0,"","",0,"","",0,"","","","",null,{"$f":"X205","v":10},null,{"$f":"TEXT(Y201,\"ddd\")","v":"wo"},"ND",{"$f":"IFERROR(HLOOKUP(Y201,[1]DATA!$A$1:$NB$5,5,0),\"\")","v":"D2"},null,null,null,null,0,"","",""]
["10doDD",{"$f":"VLOOKUP($AA204,DATA!$B$3:$E$6,2,0)","v":"06:30:00"},{"$f":"VLOOKUP($AA204,DATA!$B$3:$E$6,3,0)","v":"14:30:00"},{"$f":"VLOOKUP($AA204,DATA!$B$3:$E$6,4,0)","v":3.125E-2},0.30208333333333331,0.15624999999999997,{"$f":"DATA!$C$9","v":0.89},{"$f":"DATA!$C$10","v":64},1,210.93749999999997,407.8125,0.14583333333333334,196.875,0.48275862068965519,0,"","",221.86666666666667,207,207,"","",null,{"$f":"X205","v":10},{"$f":"Y201+1","v":"2018-03-08"},{"$f":"TEXT(Y204,\"ddd\")","v":"do"},"DD",{"$f":"IFERROR(HLOOKUP(Y204,[1]DATA!$A$1:$NB$5,3,0),\"\")","v":"D1"},210,null,1,208,3,-32.0625,0.47483870967741937,0.98665876074710945]
["10doMD",{"$f":"VLOOKUP($AA205,DATA!$B$3:$E$6,2,0)","v":"14:30:00"},{"$f":"VLOOKUP($AA205,DATA!$B$3:$E$6,3,0)","v":"22:30:00"},{"$f":"VLOOKUP($AA205,DATA!$B$3:$E$6,4,0)","v":3.125E-2},0.30208333333333337,0.13541666666666671,{"$f":"DATA!$C$9","v":0.89},{"$f":"DATA!$C$10","v":64},1,182.81250000000006,407.81250000000006,0.16666666666666666,225,0.55172413793103436,0,"","",224,197,"","",197,null,{"$f":"WEEKNUM($Y195)","v":10},null,{"$f":"TEXT(Y204,\"ddd\")","v":"do"},"MD",{"$f":"IFERROR(HLOOKUP(Y204,[1]DATA!$A$1:$NB$5,4,0),\"\")","v":"D3"},240,null,13,210,0,-13.937499999999972,0.45189964157706097,1]
["10doND",{"$f":"VLOOKUP($AA206,DATA!$B$3:$E$6,2,0)","v":"22:30:00"},{"$f":"VLOOKUP($AA206,DATA!$B$3:$E$6,3,0)","v":"06:30:00"},{"$f":"VLOOKUP($AA206,DATA!$B$3:$E$6,4,0)","v":3.125E-2},0.30208333333333326,0.30208333333333326,{"$f":"DATA!$C$9","v":0.89},{"$f":"DATA!$C$10","v":64},1,407.81249999999989,407.81249999999989,0,"","",0,"","",0,"","","","",null,{"$f":"X205","v":10},null,{"$f":"TEXT(Y204,\"ddd\")","v":"do"},"ND",{"$f":"IFERROR(HLOOKUP(Y204,[1]DATA!$A$1:$NB$5,5,0),\"\")","v":"D2"},null,null,null,null,0,"","",""]
["10vrDD",{"$f":"VLOOKUP($AA207,DATA!$B$3:$E$6,2,0)","v":"06:30:00"},{"$f":"VLOOKUP($AA207,DATA!$B$3:$E$6,3,0)","v":"14:30:00"},{"$f":"VLOOKUP($AA207,DATA!$B$3:$E$6,4,0)","v":3.125E-2},0.30208333333333331,0.30208333333333331,{"$f":"DATA!$C$9","v":0.89},{"$f":"DATA!$C$10","v":64},1,407.8125,407.8125,0,"","",0,"","",416,377,377,"","",null,{"$f":"X205","v":10},{"$f":"Y204+1","v":"2018-03-09"},{"$f":"TEXT(Y207,\"ddd\")","v":"vr"},"DD",{"$f":"IFERROR(HLOOKUP(Y207,[1]DATA!$A$1:$NB$5,3,0),\"\")","v":"D1"},0,null,13,390,2,-58.9375,0.86480286738351253,0.99521531100478466]
["10vrMD",{"$f":"VLOOKUP($AA208,DATA!$B$3:$E$6,2,0)","v":"14:30:00"},{"$f":"VLOOKUP($AA208,DATA!$B$3:$E$6,3,0)","v":"22:30:00"},{"$f":"VLOOKUP($AA208,DATA!$B$3:$E$6,4,0)","v":3.125E-2},0.30208333333333337,0.30208333333333337,{"$f":"DATA!$C$9","v":0.89},{"$f":"DATA!$C$10","v":64},1,407.81250000000006,407.81250000000006,0,"","",0,"","",411.73333333333335,371,"","",371,null,{"$f":"X205","v":10},null,{"$f":"TEXT(Y207,\"ddd\")","v":"vr"},"MD",{"$f":"IFERROR(HLOOKUP(Y207,[1]DATA!$A$1:$NB$5,4,0),\"\")","v":"D3"},0,null,15,386,10,-64.937499999999943,0.85103942652329756,0.97628833386025926]
["10vrND",{"$f":"VLOOKUP($AA209,DATA!$B$3:$E$6,2,0)","v":"22:30:00"},{"$f":"VLOOKUP($AA209,DATA!$B$3:$E$6,3,0)","v":"06:30:00"},{"$f":"VLOOKUP($AA209,DATA!$B$3:$E$6,4,0)","v":3.125E-2},0.30208333333333326,0.30208333333333326,{"$f":"DATA!$C$9","v":0.89},{"$f":"DATA!$C$10","v":64},1,407.81249999999989,407.81249999999989,0,"","",0,"","",0,"","","","",null,{"$f":"X205","v":10},null,{"$f":"TEXT(Y207,\"ddd\")","v":"vr"},"ND",{"$f":"IFERROR(HLOOKUP(Y207,[1]DATA!$A$1:$NB$5,5,0),\"\")","v":"-"},null,null,null,null,0,"","",""]
["10zaDD",{"$f":"VLOOKUP($AA210,DATA!$B$3:$E$6,2,0)","v":"06:30:00"},{"$f":"VLOOKUP($AA210,DATA!$B$3:$E$6,3,0)","v":"14:30:00"},{"$f":"VLOOKUP($AA210,DATA!$B$3:$E$6,4,0)","v":3.125E-2},0.30208333333333331,0.30208333333333331,{"$f":"DATA!$C$9","v":0.89},{"$f":"DATA!$C$10","v":64},1,407.8125,407.8125,0,"","",0,"","",0,"","","","",null,{"$f":"X205","v":10},{"$f":"Y207+1","v":"2018-03-10"},{"$f":"TEXT(Y210,\"ddd\")","v":"za"},"DD",{"$f":"IFERROR(HLOOKUP(Y210,[1]DATA!$A$1:$NB$5,3,0),\"\")","v":"-"},null,null,null,null,0,"","",""]
["10zaMD",{"$f":"VLOOKUP($AA211,DATA!$B$3:$E$6,2,0)","v":"14:30:00"},{"$f":"VLOOKUP($AA211,DATA!$B$3:$E$6,3,0)","v":"22:30:00"},{"$f":"VLOOKUP($AA211,DATA!$B$3:$E$6,4,0)","v":3.125E-2},0.30208333333333337,0.30208333333333337,{"$f":"DATA!$C$9","v":0.89},{"$f":"DATA!$C$10","v":64},1,407.81250000000006,407.81250000000006,0,"","",0,"","",0,"","","","",null,{"$f":"X205","v":10},null,{"$f":"TEXT(Y210,\"ddd\")","v":"za"},"MD",{"$f":"IFERROR(HLOOKUP(Y210,[1]DATA!$A$1:$NB$5,4,0),\"\")","v":"-"},null,null,null,null,0,"","",""]
["10zaND",{"$f":"VLOOKUP($AA212,DATA!$B$3:$E$6,2,0)","v":"22:30:00"},{"$f":"VLOOKUP($AA212,DATA!$B$3:$E$6,3,0)","v":"06:30:00"},{"$f":"VLOOKUP($AA212,DATA!$B$3:$E$6,4,0)","v":3.125E-2},0.30208333333333326,0.30208333333333326,{"$f":"DATA!$C$9","v":0.89},{"$f":"DATA!$C$10","v":64},1,407.81249999999989,407.81249999999989,0,"","",0,"","",0,"","","","",null,{"$f":"X205","v":10},null,{"$f":"TEXT(Y210,\"ddd\")","v":"za"},"ND",{"$f":"IFERROR(HLOOKUP(Y210,[1]DATA!$A$1:$NB$5,5,0),\"\")","v":"-"},null,null,null,null,0,"","",""]
["10zoDD",{"$f":"VLOOKUP($AA213,DATA!$B$3:$E$6,2,0)","v":"06:30:00"},{"$f":"VLOOKUP($AA213,DATA!$B$3:$E$6,3,0)","v":"14:30:00"},{"$f":"VLOOKUP($AA213,DATA!$B$3:$E$6,4,0)","v":3.125E-2},0.30208333333333331,0.30208333333333331,{"$f":"DATA!$C$9","v":0.89},{"$f":"DATA!$C$10","v":64},1,407.8125,407.8125,0,"","",0,"","",0,"","","","",null,{"$f":"X205","v":10},{"$f":"Y210+1","v":"2018-03-11"},{"$f":"TEXT(Y213,\"ddd\")","v":"zo"},"DD",{"$f":"IFERROR(HLOOKUP(Y213,[1]DATA!$A$1:$NB$5,3,0),\"\")","v":"-"},null,null,null,null,0,"","",""]
["10zoMD",{"$f":"VLOOKUP($AA214,DATA!$B$3:$E$6,2,0)","v":"14:30:00"},{"$f":"VLOOKUP($AA214,DATA!$B$3:$E$6,3,0)","v":"22:30:00"},{"$f":"VLOOKUP($AA214,DATA!$B$3:$E$6,4,0)","v":3.125E-2},0.30208333333333337,0.30208333333333337,{"$f":"DATA!$C$9","v":0.89},{"$f":"DATA!$C$10","v":64},1,407.81250000000006,407.81250000000006,0,"","",0,"","",0,"","","","",null,{"$f":"X205","v":10},null,{"$f":"TEXT(Y213,\"ddd\")","v":"zo"},"MD",{"$f":"IFERROR(HLOOKUP(Y213,[1]DATA!$A$1:$NB$5,4,0),\"\")","v":"-"},null,null,null,null,0,"","",""]
["10zoZND",{"$f":"VLOOKUP($AA215,DATA!$B$3:$E$6,2,0)","v":"00:00:00"},{"$f":"VLOOKUP($AA215,DATA!$B$3:$E$6,3,0)","v":"00:00:00"},{"$f":"VLOOKUP($AA215,DATA!$B$3:$E$6,4,0)","v":3.125E-2},-3.125E-2,-3.125E-2,{"$f":"DATA!$C$9","v":0.89},{"$f":"DATA!$C$10","v":64},1,-42.1875,-42.1875,0,"","",0,"","",0,"","","","",null,{"$f":"X205","v":10},null,{"$f":"TEXT(Y213,\"ddd\")","v":"zo"},"ZND",{"$f":"IFERROR(HLOOKUP(Y213,[1]DATA!$A$1:$NB$5,5,0),\"\")","v":"D1"},null,null,null,null,0,"","",""]
["11maDD",{"$f":"VLOOKUP($AA216,DATA!$B$3:$E$6,2,0)","v":"06:30:00"},{"$f":"VLOOKUP($AA216,DATA!$B$3:$E$6,3,0)","v":"14:30:00"},{"$f":"VLOOKUP($AA216,DATA!$B$3:$E$6,4,0)","v":3.125E-2},0.30208333333333331,0.22430555555555554,{"$f":"DATA!$C$9","v":0.89},{"$f":"DATA!$C$10","v":64},1,302.8125,407.8125,7.7777777777777779E-2,105,0.25747126436781609,{"$f":"TIME(INT($AD216/60),INT(MOD($AD216,60)/1),0)","v":0},"","",362.66666666666669,319,"","",319,null,{"$f":"X226","v":11},{"$f":"Y213+1","v":"2018-03-12"},{"$f":"TEXT(Y216,\"ddd\")","v":"ma"},"DD",{"$f":"IFERROR(HLOOKUP(Y216,[1]DATA!$A$1:$NB$5,3,0),\"\")","v":"D3"},112,null,21,340,0,-11.9375,0.7317562724014337,1,4359.375,2880,0.66064516129032258,1304.0625,0.29913978494623655,0,0,0.9683202266956179,"",0.95442381965672907,0.98221663373450707,175.3125,4.0215053763440867E-2,187,121]
["11maMD",{"$f":"VLOOKUP($AA217,DATA!$B$3:$E$6,2,0)","v":"14:30:00"},{"$f":"VLOOKUP($AA217,DATA!$B$3:$E$6,3,0)","v":"22:30:00"},{"$f":"VLOOKUP($AA217,DATA!$B$3:$E$6,4,0)","v":3.125E-2},0.30208333333333337,0.24652777777777782,{"$f":"DATA!$C$9","v":0.89},{"$f":"DATA!$C$10","v":64},1,332.81250000000006,407.81250000000006,5.5555555555555552E-2,75,0.18390804597701146,{"$f":"TIME(INT(AD217/60),INT(MOD(AD217,60)/1),0)","v":0},"","",397.86666666666667,334,"",334,"",null,{"$f":"X226","v":11},null,{"$f":"TEXT(Y216,\"ddd\")","v":"ma"},"MD",{"$f":"IFERROR(HLOOKUP(Y216,[1]DATA!$A$1:$NB$5,4,0),\"\")","v":"D2"},80,null,39,373,48,-26.937499999999943,0.76616487455197146,0.89234449760765555]
["11maND",{"$f":"VLOOKUP($AA218,DATA!$B$3:$E$6,2,0)","v":"22:30:00"},{"$f":"VLOOKUP($AA218,DATA!$B$3:$E$6,3,0)","v":"06:30:00"},{"$f":"VLOOKUP($AA218,DATA!$B$3:$E$6,4,0)","v":3.125E-2},0.30208333333333326,0.30208333333333326,{"$f":"DATA!$C$9","v":0.89},{"$f":"DATA!$C$10","v":64},1,407.81249999999989,407.81249999999989,0,"","",0,"","",0,"","","","",null,{"$f":"X226","v":11},null,{"$f":"TEXT(Y216,\"ddd\")","v":"ma"},"ND",{"$f":"IFERROR(HLOOKUP(Y216,[1]DATA!$A$1:$NB$5,5,0),\"\")","v":"D1"},null,null,null,null,0,"","",""]
["11diDD",{"$f":"VLOOKUP($AA219,DATA!$B$3:$E$6,2,0)","v":"06:30:00"},{"$f":"VLOOKUP($AA219,DATA!$B$3:$E$6,3,0)","v":"14:30:00"},{"$f":"VLOOKUP($AA219,DATA!$B$3:$E$6,4,0)","v":3.125E-2},0.30208333333333331,0.20833333333333331,{"$f":"DATA!$C$9","v":0.89},{"$f":"DATA!$C$10","v":64},1,281.25,407.8125,9.375E-2,126.5625,0.31034482758620691,0,"","",305.06666666666666,279,"","",279,null,{"$f":"X226","v":11},{"$f":"Y216+1","v":"2018-03-13"},{"$f":"TEXT(Y219,\"ddd\")","v":"di"},"DD",{"$f":"IFERROR(HLOOKUP(Y219,[1]DATA!$A$1:$NB$5,3,0),\"\")","v":"D3"},135,null,7,286,0,-30.375,0.64,1]
["11diMD",{"$f":"VLOOKUP($AA220,DATA!$B$3:$E$6,2,0)","v":"14:30:00"},{"$f":"VLOOKUP($AA220,DATA!$B$3:$E$6,3,0)","v":"22:30:00"},{"$f":"VLOOKUP($AA220,DATA!$B$3:$E$6,4,0)","v":3.125E-2},{"$f":"(C220-B220+(B220>C220))-D220","v":0.30208333333333337},{"$f":"E220-O220-L220","v":0.18750000000000006},{"$f":"DATA!$C$9","v":0.89},{"$f":"DATA!$C$10","v":64},1,253.12500000000009,407.81250000000006,0.11458333333333333,154.6875,0.37931034482758613,0,"","",357.33333333333331,289,"",289,"",null,{"$f":"X226","v":11},null,{"$f":"TEXT(Y219,\"ddd\")","v":"di"},"MD",{"$f":"IFERROR(HLOOKUP(Y219,[1]DATA!$A$1:$NB$5,4,0),\"\")","v":"D2"},165,null,46,335,7,7.75,0.66293906810035852,0.9807868252516011]
["11diND",{"$f":"VLOOKUP($AA221,DATA!$B$3:$E$6,2,0)","v":"22:30:00"},{"$f":"VLOOKUP($AA221,DATA!$B$3:$E$6,3,0)","v":"06:30:00"},{"$f":"VLOOKUP($AA221,DATA!$B$3:$E$6,4,0)","v":3.125E-2},0.30208333333333326,0.30208333333333326,{"$f":"DATA!$C$9","v":0.89},{"$f":"DATA!$C$10","v":64},1,407.81249999999989,407.81249999999989,0,"","",0,"","",0,"","","","",null,{"$f":"X226","v":11},null,{"$f":"TEXT(Y219,\"ddd\")","v":"di"},"ND",{"$f":"IFERROR(HLOOKUP(Y219,[1]DATA!$A$1:$NB$5,5,0),\"\")","v":"D1"},null,null,null,null,0,"","",""]
["11woDD",{"$f":"VLOOKUP($AA222,DATA!$B$3:$E$6,2,0)","v":"06:30:00"},{"$f":"VLOOKUP($AA222,DATA!$B$3:$E$6,3,0)","v":"14:30:00"},{"$f":"VLOOKUP($AA222,DATA!$B$3:$E$6,4,0)","v":3.125E-2},0.30208333333333331,0.15694444444444441,{"$f":"DATA!$C$9","v":0.89},{"$f":"DATA!$C$10","v":64},1,211.87499999999997,407.8125,0.1451388888888889,195.93750000000003,0.48045977011494262,0,"","",284.8,255,"","",255,null,{"$f":"X226","v":11},{"$f":"Y219+1","v":"2018-03-14"},{"$f":"TEXT(Y222,\"ddd\")","v":"wo"},"DD",{"$f":"IFERROR(HLOOKUP(Y222,[1]DATA!$A$1:$NB$5,3,0),\"\")","v":"D3"},209,null,12,267,0,15,0.5849462365591398,1]
["11woMD",{"$f":"VLOOKUP($AA223,DATA!$B$3:$E$6,2,0)","v":"14:30:00"},{"$f":"VLOOKUP($AA223,DATA!$B$3:$E$6,3,0)","v":"22:30:00"},{"$f":"VLOOKUP($AA223,DATA!$B$3:$E$6,4,0)","v":3.125E-2},0.30208333333333337,0.23888888888888893,{"$f":"DATA!$C$9","v":0.89},{"$f":"DATA!$C$10","v":64},1,322.50000000000006,407.81250000000006,6.3194444444444442E-2,85.3125,0.20919540229885056,0,"","",366.93333333333334,322,"",322,"",null,{"$f":"X226","v":11},null,{"$f":"TEXT(Y222,\"ddd\")","v":"wo"},"MD",{"$f":"IFERROR(HLOOKUP(Y222,[1]DATA!$A$1:$NB$5,4,0),\"\")","v":"D2"},91,null,22,344,5,-28.624999999999943,0.7386379928315413,0.9865567305968812]
["11woND",{"$f":"VLOOKUP($AA224,DATA!$B$3:$E$6,2,0)","v":"22:30:00"},{"$f":"VLOOKUP($AA224,DATA!$B$3:$E$6,3,0)","v":"06:30:00"},{"$f":"VLOOKUP($AA224,DATA!$B$3:$E$6,4,0)","v":3.125E-2},0.30208333333333326,0.30208333333333326,{"$f":"DATA!$C$9","v":0.89},{"$f":"DATA!$C$10","v":64},1,407.81249999999989,407.81249999999989,0,"","",0,"","",0,"","","","",null,{"$f":"X226","v":11},null,{"$f":"TEXT(Y222,\"ddd\")","v":"wo"},"ND",{"$f":"IFERROR(HLOOKUP(Y222,[1]DATA!$A$1:$NB$5,5,0),\"\")","v":"D1"},null,null,null,null,0,"","",""]
["11doDD",{"$f":"VLOOKUP($AA225,DATA!$B$3:$E$6,2,0)","v":"06:30:00"},{"$f":"VLOOKUP($AA225,DATA!$B$3:$E$6,3,0)","v":"14:30:00"},{"$f":"VLOOKUP($AA225,DATA!$B$3:$E$6,4,0)","v":3.125E-2},0.30208333333333331,0.23888888888888887,{"$f":"DATA!$C$9","v":0.89},{"$f":"DATA!$C$10","v":64},1,322.5,407.8125,6.3194444444444442E-2,85.3125,0.20919540229885059,0,"","",338.13333333333333,300,"","",300,null,{"$f":"X226","v":11},{"$f":"Y222+1","v":"2018-03-15"},{"$f":"TEXT(Y225,\"ddd\")","v":"do"},"DD",{"$f":"IFERROR(HLOOKUP(Y225,[1]DATA!$A$1:$NB$5,3,0),\"\")","v":"D3"},91,null,17,317,33,-50.625,0.68817204301075274,0.91108316867253458]
["11doMD",{"$f":"VLOOKUP($AA226,DATA!$B$3:$E$6,2,0)","v":"14:30:00"},{"$f":"VLOOKUP($AA226,DATA!$B$3:$E$6,3,0)","v":"22:30:00"},{"$f":"VLOOKUP($AA226,DATA!$B$3:$E$6,4,0)","v":3.125E-2},0.30208333333333337,0.20347222222222228,{"$f":"DATA!$C$9","v":0.89},{"$f":"DATA!$C$10","v":64},1,274.68750000000006,407.81250000000006,9.8611111111111108E-2,133.125,0.32643678160919537,0,"","",330.66666666666669,291,"",291,"",null,{"$f":"WEEKNUM($Y216)","v":11},null,{"$f":"TEXT(Y225,\"ddd\")","v":"do"},"MD",{"$f":"IFERROR(HLOOKUP(Y225,[1]DATA!$A$1:$NB$5,4,0),\"\")","v":"D2"},142,null,19,310,10,-11.8125,0.66752688172043018,0.97064579256360073]
["11doND",{"$f":"VLOOKUP($AA227,DATA!$B$3:$E$6,2,0)","v":"22:30:00"},{"$f":"VLOOKUP($AA227,DATA!$B$3:$E$6,3,0)","v":"06:30:00"},{"$f":"VLOOKUP($AA227,DATA!$B$3:$E$6,4,0)","v":3.125E-2},0.30208333333333326,0.30208333333333326,{"$f":"DATA!$C$9","v":0.89},{"$f":"DATA!$C$10","v":64},1,407.81249999999989,407.81249999999989,0,"","",0,"","",0,"","","","",null,{"$f":"X226","v":11},null,{"$f":"TEXT(Y225,\"ddd\")","v":"do"},"ND",{"$f":"IFERROR(HLOOKUP(Y225,[1]DATA!$A$1:$NB$5,5,0),\"\")","v":"D1"},null,null,null,null,0,"","",""]
["11vrDD",{"$f":"VLOOKUP($AA228,DATA!$B$3:$E$6,2,0)","v":"06:30:00"},{"$f":"VLOOKUP($AA228,DATA!$B$3:$E$6,3,0)","v":"14:30:00"},{"$f":"VLOOKUP($AA228,DATA!$B$3:$E$6,4,0)","v":3.125E-2},0.30208333333333331,0.18263888888888885,{"$f":"DATA!$C$9","v":0.89},{"$f":"DATA!$C$10","v":64},1,246.56249999999994,407.8125,0.11944444444444445,161.25,0.39540229885057471,0,"","",285.86666666666667,251,"","",251,null,{"$f":"X226","v":11},{"$f":"Y225+1","v":"2018-03-16"},{"$f":"TEXT(Y228,\"ddd\")","v":"vr"},"DD",{"$f":"IFERROR(HLOOKUP(Y228,[1]DATA!$A$1:$NB$5,3,0),\"\")","v":"D3"},172,null,17,268,0,-23.6875,0.57577060931899637,1]
["11vrMD",{"$f":"VLOOKUP($AA229,DATA!$B$3:$E$6,2,0)","v":"14:30:00"},{"$f":"VLOOKUP($AA229,DATA!$B$3:$E$6,3,0)","v":"22:30:00"},{"$f":"VLOOKUP($AA229,DATA!$B$3:$E$6,4,0)","v":3.125E-2},0.30208333333333337,0.16736111111111115,{"$f":"DATA!$C$9","v":0.89},{"$f":"DATA!$C$10","v":64},1,225.93750000000006,407.81250000000006,0.13472222222222222,181.875,0.44597701149425278,0,"","",291.2,240,"",240,"",null,{"$f":"X226","v":11},null,{"$f":"TEXT(Y228,\"ddd\")","v":"vr"},"MD",{"$f":"IFERROR(HLOOKUP(Y228,[1]DATA!$A$1:$NB$5,4,0),\"\")","v":"D2"},194,null,33,273,18,-14.062499999999972,0.55053763440860226,0.94178525226390686]
["11vrND",{"$f":"VLOOKUP($AA230,DATA!$B$3:$E$6,2,0)","v":"22:30:00"},{"$f":"VLOOKUP($AA230,DATA!$B$3:$E$6,3,0)","v":"06:30:00"},{"$f":"VLOOKUP($AA230,DATA!$B$3:$E$6,4,0)","v":3.125E-2},0.30208333333333326,0.30208333333333326,{"$f":"DATA!$C$9","v":0.89},{"$f":"DATA!$C$10","v":64},1,407.81249999999989,407.81249999999989,0,"","",0,"","",0,"","","","",null,{"$f":"X226","v":11},null,{"$f":"TEXT(Y228,\"ddd\")","v":"vr"},"ND",{"$f":"IFERROR(HLOOKUP(Y228,[1]DATA!$A$1:$NB$5,5,0),\"\")","v":"-"},null,null,null,null,0,"","",""]
["11zaDD",{"$f":"VLOOKUP($AA231,DATA!$B$3:$E$6,2,0)","v":"06:30:00"},{"$f":"VLOOKUP($AA231,DATA!$B$3:$E$6,3,0)","v":"14:30:00"},{"$f":"VLOOKUP($AA231,DATA!$B$3:$E$6,4,0)","v":3.125E-2},0.30208333333333331,0.30208333333333331,{"$f":"DATA!$C$9","v":0.89},{"$f":"DATA!$C$10","v":64},1,407.8125,407.8125,0,"","",0,"","",0,"","","","",null,{"$f":"X226","v":11},{"$f":"Y228+1","v":"2018-03-17"},{"$f":"TEXT(Y231,\"ddd\")","v":"za"},"DD",{"$f":"IFERROR(HLOOKUP(Y231,[1]DATA!$A$1:$NB$5,3,0),\"\")","v":"-"},null,null,null,null,0,"","",""]
["11zaMD",{"$f":"VLOOKUP($AA232,DATA!$B$3:$E$6,2,0)","v":"14:30:00"},{"$f":"VLOOKUP($AA232,DATA!$B$3:$E$6,3,0)","v":"22:30:00"},{"$f":"VLOOKUP($AA232,DATA!$B$3:$E$6,4,0)","v":3.125E-2},0.30208333333333337,0.30208333333333337,{"$f":"DATA!$C$9","v":0.89},{"$f":"DATA!$C$10","v":64},1,407.81250000000006,407.81250000000006,0,"","",0,"","",0,"","","","",null,{"$f":"X226","v":11},null,{"$f":"TEXT(Y231,\"ddd\")","v":"za"},"MD",{"$f":"IFERROR(HLOOKUP(Y231,[1]DATA!$A$1:$NB$5,4,0),\"\")","v":"-"},null,null,null,null,0,"","",""]
["11zaND",{"$f":"VLOOKUP($AA233,DATA!$B$3:$E$6,2,0)","v":"22:30:00"},{"$f":"VLOOKUP($AA233,DATA!$B$3:$E$6,3,0)","v":"06:30:00"},{"$f":"VLOOKUP($AA233,DATA!$B$3:$E$6,4,0)","v":3.125E-2},0.30208333333333326,0.30208333333333326,{"$f":"DATA!$C$9","v":0.89},{"$f":"DATA!$C$10","v":64},1,407.81249999999989,407.81249999999989,0,"","",0,"","",0,"","","","",null,{"$f":"X226","v":11},null,{"$f":"TEXT(Y231,\"ddd\")","v":"za"},"ND",{"$f":"IFERROR(HLOOKUP(Y231,[1]DATA!$A$1:$NB$5,5,0),\"\")","v":"-"},null,null,null,null,0,"","",""]
["11zoDD",{"$f":"VLOOKUP($AA234,DATA!$B$3:$E$6,2,0)","v":"06:30:00"},{"$f":"VLOOKUP($AA234,DATA!$B$3:$E$6,3,0)","v":"14:30:00"},{"$f":"VLOOKUP($AA234,DATA!$B$3:$E$6,4,0)","v":3.125E-2},0.30208333333333331,0.30208333333333331,{"$f":"DATA!$C$9","v":0.89},{"$f":"DATA!$C$10","v":64},1,407.8125,407.8125,0,"","",0,"","",0,"","","","",null,{"$f":"X226","v":11},{"$f":"Y231+1","v":"2018-03-18"},{"$f":"TEXT(Y234,\"ddd\")","v":"zo"},"DD",{"$f":"IFERROR(HLOOKUP(Y234,[1]DATA!$A$1:$NB$5,3,0),\"\")","v":"-"},null,null,null,null,0,"","",""]
["11zoMD",{"$f":"VLOOKUP($AA235,DATA!$B$3:$E$6,2,0)","v":"14:30:00"},{"$f":"VLOOKUP($AA235,DATA!$B$3:$E$6,3,0)","v":"22:30:00"},{"$f":"VLOOKUP($AA235,DATA!$B$3:$E$6,4,0)","v":3.125E-2},0.30208333333333337,0.30208333333333337,{"$f":"DATA!$C$9","v":0.89},{"$f":"DATA!$C$10","v":64},1,407.81250000000006,407.81250000000006,0,"","",0,"","",0,"","","","",null,{"$f":"X226","v":11},null,{"$f":"TEXT(Y234,\"ddd\")","v":"zo"},"MD",{"$f":"IFERROR(HLOOKUP(Y234,[1]DATA!$A$1:$NB$5,4,0),\"\")","v":"-"},null,null,null,null,0,"","",""]
["11zoZND",{"$f":"VLOOKUP($AA236,DATA!$B$3:$E$6,2,0)","v":"00:00:00"},{"$f":"VLOOKUP($AA236,DATA!$B$3:$E$6,3,0)","v":"00:00:00"},{"$f":"VLOOKUP($AA236,DATA!$B$3:$E$6,4,0)","v":3.125E-2},-3.125E-2,-3.125E-2,{"$f":"DATA!$C$9","v":0.89},{"$f":"DATA!$C$10","v":64},1,-42.1875,-42.1875,0,"","",0,"","",0,"","","","",null,{"$f":"X226","v":11},null,{"$f":"TEXT(Y234,\"ddd\")","v":"zo"},"ZND",{"$f":"IFERROR(HLOOKUP(Y234,[1]DATA!$A$1:$NB$5,5,0),\"\")","v":"D3"},null,null,null,null,0,"","",""]
["12maDD",{"$f":"VLOOKUP($AA237,DATA!$B$3:$E$6,2,0)","v":"06:30:00"},{"$f":"VLOOKUP($AA237,DATA!$B$3:$E$6,3,0)","v":"14:30:00"},{"$f":"VLOOKUP($AA237,DATA!$B$3:$E$6,4,0)","v":3.125E-2},0.30208333333333331,0.13263888888888889,{"$f":"DATA!$C$9","v":0.89},{"$f":"DATA!$C$10","v":64},1,179.0625,407.8125,0.16944444444444443,228.74999999999997,0.56091954022988499,{"$f":"TIME(INT($AD237/60),INT(MOD($AD237,60)/1),0)","v":0},"","",254.93333333333334,231,"",231,"",null,{"$f":"X247","v":12},{"$f":"Y234+1","v":"2018-03-19"},{"$f":"TEXT(Y237,\"ddd\")","v":"ma"},"DD",{"$f":"IFERROR(HLOOKUP(Y237,[1]DATA!$A$1:$NB$5,3,0),\"\")","v":"D2"},244,null,8,239,4,23.812499999999943,0.52989247311827958,0.98455200823892897,4359.375,3035,0.69620071684587814,1127.8125,0.25870967741935486,0,0,0.97287235461015098,0.95251658974430009,0.99322811947600198,"",196.5625,4.5089605734767002E-2,209.66666666666666,98]
["12maMD",{"$f":"VLOOKUP($AA238,DATA!$B$3:$E$6,2,0)","v":"14:30:00"},{"$f":"VLOOKUP($AA238,DATA!$B$3:$E$6,3,0)","v":"22:30:00"},{"$f":"VLOOKUP($AA238,DATA!$B$3:$E$6,4,0)","v":3.125E-2},0.30208333333333337,0.18888888888888894,{"$f":"DATA!$C$9","v":0.89},{"$f":"DATA!$C$10","v":64},1,255.00000000000006,407.81250000000006,0.11319444444444444,152.8125,0.37471264367816087,{"$f":"TIME(INT(AD238/60),INT(MOD(AD238,60)/1),0)","v":0},"","",276.26666666666665,245,245,"","",null,{"$f":"X247","v":12},null,{"$f":"TEXT(Y237,\"ddd\")","v":"ma"},"MD",{"$f":"IFERROR(HLOOKUP(Y237,[1]DATA!$A$1:$NB$5,4,0),\"\")","v":"D1"},163,null,14,259,13,-38.124999999999943,0.5620071684587814,0.95505876930168243]
["12maND",{"$f":"VLOOKUP($AA239,DATA!$B$3:$E$6,2,0)","v":"22:30:00"},{"$f":"VLOOKUP($AA239,DATA!$B$3:$E$6,3,0)","v":"06:30:00"},{"$f":"VLOOKUP($AA239,DATA!$B$3:$E$6,4,0)","v":3.125E-2},0.30208333333333326,0.30208333333333326,{"$f":"DATA!$C$9","v":0.89},{"$f":"DATA!$C$10","v":64},1,407.81249999999989,407.81249999999989,0,"","",0,"","",0,"","","","",null,{"$f":"X247","v":12},null,{"$f":"TEXT(Y237,\"ddd\")","v":"ma"},"ND",{"$f":"IFERROR(HLOOKUP(Y237,[1]DATA!$A$1:$NB$5,5,0),\"\")","v":"D3"},null,null,null,null,0,"","",""]
[{"$f":"X240&Z240&AA240","v":"12diDD"},{"$f":"VLOOKUP($AA240,DATA!$B$3:$E$6,2,0)","v":"06:30:00"},{"$f":"VLOOKUP($AA240,DATA!$B$3:$E$6,3,0)","v":"14:30:00"},{"$f":"VLOOKUP($AA240,DATA!$B$3:$E$6,4,0)","v":3.125E-2},0.30208333333333331,0.17986111111111108,{"$f":"DATA!$C$9","v":0.89},{"$f":"DATA!$C$10","v":64},1,242.81249999999997,407.8125,0.12222222222222223,165,0.40459770114942528,0,{"$f":"IF($O240*86400/$H240=0,\"\",$O240*86400/$H240)","v":""},"",330.66666666666669,301,"",301,"",null,{"$f":"X247","v":12},{"$f":"Y237+1","v":"2018-03-20"},{"$f":"TEXT(Y240,\"ddd\")","v":"di"},"DD",{"$f":"IFERROR(HLOOKUP(Y240,[1]DATA!$A$1:$NB$5,3,0),\"\")","v":"D2"},176,null,9,310,2,30.0625,0.69046594982078857,0.9939879759519038]
["12diMD",{"$f":"VLOOKUP($AA241,DATA!$B$3:$E$6,2,0)","v":"14:30:00"},{"$f":"VLOOKUP($AA241,DATA!$B$3:$E$6,3,0)","v":"22:30:00"},{"$f":"VLOOKUP($AA241,DATA!$B$3:$E$6,4,0)","v":3.125E-2},0.30208333333333337,0.23541666666666672,{"$f":"DATA!$C$9","v":0.89},{"$f":"DATA!$C$10","v":64},1,317.81250000000006,407.81250000000006,6.6666666666666666E-2,90,0.22068965517241376,0,"","",330.66666666666669,292,292,"","",null,{"$f":"X247","v":12},null,{"$f":"TEXT(Y240,\"ddd\")","v":"di"},"MD",{"$f":"IFERROR(HLOOKUP(Y240,[1]DATA!$A$1:$NB$5,4,0),\"\")","v":"D1"},96,null,18,310,4,-53.937499999999943,0.669820788530466,0.98804780876494025]
["12diND",{"$f":"VLOOKUP($AA242,DATA!$B$3:$E$6,2,0)","v":"22:30:00"},{"$f":"VLOOKUP($AA242,DATA!$B$3:$E$6,3,0)","v":"06:30:00"},{"$f":"VLOOKUP($AA242,DATA!$B$3:$E$6,4,0)","v":3.125E-2},0.30208333333333326,0.30208333333333326,{"$f":"DATA!$C$9","v":0.89},{"$f":"DATA!$C$10","v":64},1,407.81249999999989,407.81249999999989,0,"","",0,"","",0,"","","","",null,{"$f":"X247","v":12},null,{"$f":"TEXT(Y240,\"ddd\")","v":"di"},"ND",{"$f":"IFERROR(HLOOKUP(Y240,[1]DATA!$A$1:$NB$5,5,0),\"\")","v":"D3"},null,null,null,null,0,"","",""]
["12woDD",{"$f":"VLOOKUP($AA243,DATA!$B$3:$E$6,2,0)","v":"06:30:00"},{"$f":"VLOOKUP($AA243,DATA!$B$3:$E$6,3,0)","v":"14:30:00"},{"$f":"VLOOKUP($AA243,DATA!$B$3:$E$6,4,0)","v":3.125E-2},0.30208333333333331,0.26527777777777778,{"$f":"DATA!$C$9","v":0.89},{"$f":"DATA!$C$10","v":64},1,358.125,407.8125,3.6805555555555557E-2,49.6875,0.12183908045977011,0,"","",443.73333333333335,380,"",380,"",null,{"$f":"X247","v":12},{"$f":"Y240+1","v":"2018-03-21"},{"$f":"TEXT(Y243,\"ddd\")","v":"wo"},"DD",{"$f":"IFERROR(HLOOKUP(Y243,[1]DATA!$A$1:$NB$5,3,0),\"\")","v":"D2"},53,null,36,416,3,-6.2500000000000568,0.87168458781362013,0.99328458439038947]
["12woMD",{"$f":"VLOOKUP($AA244,DATA!$B$3:$E$6,2,0)","v":"14:30:00"},{"$f":"VLOOKUP($AA244,DATA!$B$3:$E$6,3,0)","v":"22:30:00"},{"$f":"VLOOKUP($AA244,DATA!$B$3:$E$6,4,0)","v":3.125E-2},0.30208333333333337,0.27777777777777779,{"$f":"DATA!$C$9","v":0.89},{"$f":"DATA!$C$10","v":64},1,375,407.81250000000006,2.4305555555555556E-2,32.8125,8.0459770114942514E-2,0,"","",377.6,335,335,"","",null,{"$f":"X247","v":12},null,{"$f":"TEXT(Y243,\"ddd\")","v":"wo"},"MD",{"$f":"IFERROR(HLOOKUP(Y243,[1]DATA!$A$1:$NB$5,4,0),\"\")","v":"D1"},35,null,19,354,13,-68.124999999999943,0.76845878136200729,0.96671786994367637]
["12woND",{"$f":"VLOOKUP($AA245,DATA!$B$3:$E$6,2,0)","v":"22:30:00"},{"$f":"VLOOKUP($AA245,DATA!$B$3:$E$6,3,0)","v":"06:30:00"},{"$f":"VLOOKUP($AA245,DATA!$B$3:$E$6,4,0)","v":3.125E-2},0.30208333333333326,0.30208333333333326,{"$f":"DATA!$C$9","v":0.89},{"$f":"DATA!$C$10","v":64},1,407.81249999999989,407.81249999999989,0,"","",0,"","",0,"","","","",null,{"$f":"X247","v":12},null,{"$f":"TEXT(Y243,\"ddd\")","v":"wo"},"ND",{"$f":"IFERROR(HLOOKUP(Y243,[1]DATA!$A$1:$NB$5,5,0),\"\")","v":"D3"},null,null,null,null,0,"","",""]
["12doDD",{"$f":"VLOOKUP($AA246,DATA!$B$3:$E$6,2,0)","v":"06:30:00"},{"$f":"VLOOKUP($AA246,DATA!$B$3:$E$6,3,0)","v":"14:30:00"},{"$f":"VLOOKUP($AA246,DATA!$B$3:$E$6,4,0)","v":3.125E-2},0.30208333333333331,0.18541666666666667,{"$f":"DATA!$C$9","v":0.89},{"$f":"DATA!$C$10","v":64},1,250.3125,407.8125,0.11666666666666665,157.49999999999997,0.38620689655172408,0,"","",349.86666666666667,300,"",300,"",null,{"$f":"X247","v":12},{"$f":"Y243+1","v":"2018-03-22"},{"$f":"TEXT(Y246,\"ddd\")","v":"do"},"DD",{"$f":"IFERROR(HLOOKUP(Y246,[1]DATA!$A$1:$NB$5,3,0),\"\")","v":"D2"},168,null,28,328,2,21.562499999999943,0.68817204301075274,0.99431602879878744]
["12doMD",{"$f":"VLOOKUP($AA247,DATA!$B$3:$E$6,2,0)","v":"14:30:00"},{"$f":"VLOOKUP($AA247,DATA!$B$3:$E$6,3,0)","v":"22:30:00"},{"$f":"VLOOKUP($AA247,DATA!$B$3:$E$6,4,0)","v":3.125E-2},0.30208333333333337,0.24722222222222226,{"$f":"DATA!$C$9","v":0.89},{"$f":"DATA!$C$10","v":64},1,333.75000000000006,407.81250000000006,5.486111111111111E-2,74.0625,0.18160919540229883,0,"","",354.13333333333333,318,318,"","",null,{"$f":"WEEKNUM($Y237)","v":12},null,{"$f":"TEXT(Y246,\"ddd\")","v":"do"},"MD",{"$f":"IFERROR(HLOOKUP(Y246,[1]DATA!$A$1:$NB$5,4,0),\"\")","v":"D1"},79,null,14,332,3,-43.874999999999886,0.72946236559139799,0.99159977599402649]
["12doND",{"$f":"VLOOKUP($AA248,DATA!$B$3:$E$6,2,0)","v":"22:30:00"},{"$f":"VLOOKUP($AA248,DATA!$B$3:$E$6,3,0)","v":"06:30:00"},{"$f":"VLOOKUP($AA248,DATA!$B$3:$E$6,4,0)","v":3.125E-2},0.30208333333333326,0.30208333333333326,{"$f":"DATA!$C$9","v":0.89},{"$f":"DATA!$C$10","v":64},1,407.81249999999989,407.81249999999989,0,"","",0,"","",0,"","","","",null,{"$f":"X247","v":12},null,{"$f":"TEXT(Y246,\"ddd\")","v":"do"},"ND",{"$f":"IFERROR(HLOOKUP(Y246,[1]DATA!$A$1:$NB$5,5,0),\"\")","v":"D3"},null,null,null,null,0,"","",""]
["12vrDD",{"$f":"VLOOKUP($AA249,DATA!$B$3:$E$6,2,0)","v":"06:30:00"},{"$f":"VLOOKUP($AA249,DATA!$B$3:$E$6,3,0)","v":"14:30:00"},{"$f":"VLOOKUP($AA249,DATA!$B$3:$E$6,4,0)","v":3.125E-2},0.30208333333333331,0.21249999999999997,{"$f":"DATA!$C$9","v":0.89},{"$f":"DATA!$C$10","v":64},1,286.87499999999994,407.8125,8.9583333333333334E-2,120.9375,0.29655172413793102,0,"","",368,324,"",324,"",null,{"$f":"X247","v":12},{"$f":"Y246+1","v":"2018-03-23"},{"$f":"TEXT(Y249,\"ddd\")","v":"vr"},"DD",{"$f":"IFERROR(HLOOKUP(Y249,[1]DATA!$A$1:$NB$5,3,0),\"\")","v":"D2"},129,null,21,345,0,9,0.74322580645161296,1]
["12vrMD",{"$f":"VLOOKUP($AA250,DATA!$B$3:$E$6,2,0)","v":"14:30:00"},{"$f":"VLOOKUP($AA250,DATA!$B$3:$E$6,3,0)","v":"22:30:00"},{"$f":"VLOOKUP($AA250,DATA!$B$3:$E$6,4,0)","v":3.125E-2},0.30208333333333337,0.26041666666666669,{"$f":"DATA!$C$9","v":0.89},{"$f":"DATA!$C$10","v":64},1,351.5625,407.81250000000006,4.1666666666666664E-2,56.25,0.13793103448275859,0,"","",334.93333333333334,309,309,"","",null,{"$f":"X247","v":12},null,{"$f":"TEXT(Y249,\"ddd\")","v":"vr"},"MD",{"$f":"IFERROR(HLOOKUP(Y249,[1]DATA!$A$1:$NB$5,4,0),\"\")","v":"D1"},60,null,5,314,54,-70.687499999999943,0.70881720430107531,0.86115872471717514]
["12vrND",{"$f":"VLOOKUP($AA251,DATA!$B$3:$E$6,2,0)","v":"22:30:00"},{"$f":"VLOOKUP($AA251,DATA!$B$3:$E$6,3,0)","v":"06:30:00"},{"$f":"VLOOKUP($AA251,DATA!$B$3:$E$6,4,0)","v":3.125E-2},0.30208333333333326,0.30208333333333326,{"$f":"DATA!$C$9","v":0.89},{"$f":"DATA!$C$10","v":64},1,407.81249999999989,407.81249999999989,0,"","",0,"","",0,"","","","",null,{"$f":"X247","v":12},null,{"$f":"TEXT(Y249,\"ddd\")","v":"vr"},"ND",{"$f":"IFERROR(HLOOKUP(Y249,[1]DATA!$A$1:$NB$5,5,0),\"\")","v":"-"},null,null,null,null,0,"","",""]
["12zaDD",{"$f":"VLOOKUP($AA252,DATA!$B$3:$E$6,2,0)","v":"06:30:00"},{"$f":"VLOOKUP($AA252,DATA!$B$3:$E$6,3,0)","v":"14:30:00"},{"$f":"VLOOKUP($AA252,DATA!$B$3:$E$6,4,0)","v":3.125E-2},0.30208333333333331,0.30208333333333331,{"$f":"DATA!$C$9","v":0.89},{"$f":"DATA!$C$10","v":64},1,407.8125,407.8125,0,"","",0,"","",0,"","","","",null,{"$f":"X247","v":12},{"$f":"Y249+1","v":"2018-03-24"},{"$f":"TEXT(Y252,\"ddd\")","v":"za"},"DD",{"$f":"IFERROR(HLOOKUP(Y252,[1]DATA!$A$1:$NB$5,3,0),\"\")","v":"-"},null,null,null,null,0,"","",""]
["12zaMD",{"$f":"VLOOKUP($AA253,DATA!$B$3:$E$6,2,0)","v":"14:30:00"},{"$f":"VLOOKUP($AA253,DATA!$B$3:$E$6,3,0)","v":"22:30:00"},{"$f":"VLOOKUP($AA253,DATA!$B$3:$E$6,4,0)","v":3.125E-2},0.30208333333333337,0.30208333333333337,{"$f":"DATA!$C$9","v":0.89},{"$f":"DATA!$C$10","v":64},1,407.81250000000006,407.81250000000006,0,"","",0,"","",0,"","","","",null,{"$f":"X247","v":12},null,{"$f":"TEXT(Y252,\"ddd\")","v":"za"},"MD",{"$f":"IFERROR(HLOOKUP(Y252,[1]DATA!$A$1:$NB$5,4,0),\"\")","v":"-"},null,null,null,null,0,"","",""]
["12zaND",{"$f":"VLOOKUP($AA254,DATA!$B$3:$E$6,2,0)","v":"22:30:00"},{"$f":"VLOOKUP($AA254,DATA!$B$3:$E$6,3,0)","v":"06:30:00"},{"$f":"VLOOKUP($AA254,DATA!$B$3:$E$6,4,0)","v":3.125E-2},0.30208333333333326,0.30208333333333326,{"$f":"DATA!$C$9","v":0.89},{"$f":"DATA!$C$10","v":64},1,407.81249999999989,407.81249999999989,0,"","",0,"","",0,"","","","",null,{"$f":"X247","v":12},null,{"$f":"TEXT(Y252,\"ddd\")","v":"za"},"ND",{"$f":"IFERROR(HLOOKUP(Y252,[1]DATA!$A$1:$NB$5,5,0),\"\")","v":"-"},null,null,null,null,0,"","",""]
["12zoDD",{"$f":"VLOOKUP($AA255,DATA!$B$3:$E$6,2,0)","v":"06:30:00"},{"$f":"VLOOKUP($AA255,DATA!$B$3:$E$6,3,0)","v":"14:30:00"},{"$f":"VLOOKUP($AA255,DATA!$B$3:$E$6,4,0)","v":3.125E-2},0.30208333333333331,0.30208333333333331,{"$f":"DATA!$C$9","v":0.89},{"$f":"DATA!$C$10","v":64},1,407.8125,407.8125,0,"","",0,"","",0,"","","","",null,{"$f":"X247","v":12},{"$f":"Y252+1","v":"2018-03-25"},{"$f":"TEXT(Y255,\"ddd\")","v":"zo"},"DD",{"$f":"IFERROR(HLOOKUP(Y255,[1]DATA!$A$1:$NB$5,3,0),\"\")","v":"-"},null,null,null,null,0,"","",""]
["12zoMD",{"$f":"VLOOKUP($AA256,DATA!$B$3:$E$6,2,0)","v":"14:30:00"},{"$f":"VLOOKUP($AA256,DATA!$B$3:$E$6,3,0)","v":"22:30:00"},{"$f":"VLOOKUP($AA256,DATA!$B$3:$E$6,4,0)","v":3.125E-2},0.30208333333333337,0.30208333333333337,{"$f":"DATA!$C$9","v":0.89},{"$f":"DATA!$C$10","v":64},1,407.81250000000006,407.81250000000006,0,"","",0,"","",0,"","","","",null,{"$f":"X247","v":12},null,{"$f":"TEXT(Y255,\"ddd\")","v":"zo"},"MD",{"$f":"IFERROR(HLOOKUP(Y255,[1]DATA!$A$1:$NB$5,4,0),\"\")","v":"-"},null,null,null,null,0,"","",""]
["12zoZND",{"$f":"VLOOKUP($AA257,DATA!$B$3:$E$6,2,0)","v":"00:00:00"},{"$f":"VLOOKUP($AA257,DATA!$B$3:$E$6,3,0)","v":"00:00:00"},{"$f":"VLOOKUP($AA257,DATA!$B$3:$E$6,4,0)","v":3.125E-2},-3.125E-2,-3.125E-2,{"$f":"DATA!$C$9","v":0.89},{"$f":"DATA!$C$10","v":64},1,-42.1875,-42.1875,0,"","",0,"","",0,"","","","",null,{"$f":"X247","v":12},null,{"$f":"TEXT(Y255,\"ddd\")","v":"zo"},"ZND",{"$f":"IFERROR(HLOOKUP(Y255,[1]DATA!$A$1:$NB$5,5,0),\"\")","v":"D2"},null,null,null,null,0,"","",""]
["13maDD",{"$f":"VLOOKUP($AA258,DATA!$B$3:$E$6,2,0)","v":"06:30:00"},{"$f":"VLOOKUP($AA258,DATA!$B$3:$E$6,3,0)","v":"14:30:00"},{"$f":"VLOOKUP($AA258,DATA!$B$3:$E$6,4,0)","v":3.125E-2},0.30208333333333331,0.30208333333333331,{"$f":"DATA!$C$9","v":0.89},{"$f":"DATA!$C$10","v":64},1,407.8125,407.8125,0,"","",{"$f":"TIME(INT($AD258/60),INT(MOD($AD258,60)/1),0)","v":0},"","",342.4,321,321,"","",null,{"$f":"X268","v":13},{"$f":"Y255+1","v":"2018-03-26"},{"$f":"TEXT(Y258,\"ddd\")","v":"ma"},"DD",{"$f":"IFERROR(HLOOKUP(Y258,[1]DATA!$A$1:$NB$5,3,0),\"\")","v":"D1"},null,null,null,321,0,-114.9375,0.73634408602150536,1,4359.375,3240,0.74322580645161296,"0",0,0,0,0.9718715496790914,0.97115174988916719,"",0.97259134946901571,1119.375,0.25677419354838704,1194,107]
["13maMD",{"$f":"VLOOKUP($AA259,DATA!$B$3:$E$6,2,0)","v":"14:30:00"},{"$f":"VLOOKUP($AA259,DATA!$B$3:$E$6,3,0)","v":"22:30:00"},{"$f":"VLOOKUP($AA259,DATA!$B$3:$E$6,4,0)","v":3.125E-2},0.30208333333333337,0.30208333333333337,{"$f":"DATA!$C$9","v":0.89},{"$f":"DATA!$C$10","v":64},1,407.81250000000006,407.81250000000006,0,"","",{"$f":"TIME(INT(AD259/60),INT(MOD(AD259,60)/1),0)","v":0},"","",363.73333333333335,341,"","",341,null,{"$f":"X268","v":13},null,{"$f":"TEXT(Y258,\"ddd\")","v":"ma"},"MD",{"$f":"IFERROR(HLOOKUP(Y258,[1]DATA!$A$1:$NB$5,4,0),\"\")","v":"D3"},null,null,null,341,3,-94.937499999999943,0.78222222222222237,0.99181966915106345]
["13maND",{"$f":"VLOOKUP($AA260,DATA!$B$3:$E$6,2,0)","v":"22:30:00"},{"$f":"VLOOKUP($AA260,DATA!$B$3:$E$6,3,0)","v":"06:30:00"},{"$f":"VLOOKUP($AA260,DATA!$B$3:$E$6,4,0)","v":3.125E-2},0.30208333333333326,0.30208333333333326,{"$f":"DATA!$C$9","v":0.89},{"$f":"DATA!$C$10","v":64},1,407.81249999999989,407.81249999999989,0,"","",0,"","",0,"","","","",null,{"$f":"X268","v":13},null,{"$f":"TEXT(Y258,\"ddd\")","v":"ma"},"ND",{"$f":"IFERROR(HLOOKUP(Y258,[1]DATA!$A$1:$NB$5,5,0),\"\")","v":"D2"},null,null,null,null,0,"","",""]
["13diDD",{"$f":"VLOOKUP($AA261,DATA!$B$3:$E$6,2,0)","v":"06:30:00"},{"$f":"VLOOKUP($AA261,DATA!$B$3:$E$6,3,0)","v":"14:30:00"},{"$f":"VLOOKUP($AA261,DATA!$B$3:$E$6,4,0)","v":3.125E-2},0.30208333333333331,0.30208333333333331,{"$f":"DATA!$C$9","v":0.89},{"$f":"DATA!$C$10","v":64},1,407.8125,407.8125,0,"","",0,"","",336,315,315,"","",null,{"$f":"X268","v":13},{"$f":"Y258+1","v":"2018-03-27"},{"$f":"TEXT(Y261,\"ddd\")","v":"di"},"DD",{"$f":"IFERROR(HLOOKUP(Y261,[1]DATA!$A$1:$NB$5,3,0),\"\")","v":"D1"},null,null,null,315,2,-120.9375,0.72258064516129028,0.99408284023668636]
["13diMD",{"$f":"VLOOKUP($AA262,DATA!$B$3:$E$6,2,0)","v":"14:30:00"},{"$f":"VLOOKUP($AA262,DATA!$B$3:$E$6,3,0)","v":"22:30:00"},{"$f":"VLOOKUP($AA262,DATA!$B$3:$E$6,4,0)","v":3.125E-2},0.30208333333333337,0.30208333333333337,{"$f":"DATA!$C$9","v":0.89},{"$f":"DATA!$C$10","v":64},1,{"$f":"F262*86400/H262*I262","v":407.81250000000006},{"$f":"E262*86400/H262","v":407.81250000000006},0,"","",0,"","",{"$f":"AF262*AG$2","v":315.73333333333335},{"$f":"IF(AF262-AE262=0,\"\",AF262-AE262)","v":296},"","",296,null,{"$f":"X268","v":13},null,{"$f":"TEXT(Y261,\"ddd\")","v":"di"},"MD",{"$f":"IFERROR(HLOOKUP(Y261,[1]DATA!$A$1:$NB$5,4,0),\"\")","v":"D3"},null,null,null,296,0,-139.93749999999994,0.67899641577060943,1]
["13diND",{"$f":"VLOOKUP($AA263,DATA!$B$3:$E$6,2,0)","v":"22:30:00"},{"$f":"VLOOKUP($AA263,DATA!$B$3:$E$6,3,0)","v":"06:30:00"},{"$f":"VLOOKUP($AA263,DATA!$B$3:$E$6,4,0)","v":3.125E-2},0.30208333333333326,0.30208333333333326,{"$f":"DATA!$C$9","v":0.89},{"$f":"DATA!$C$10","v":64},1,407.81249999999989,407.81249999999989,{"$f":"TIME(INT($AC263/60),INT(MOD($AC263,60)/1),0)","v":0},{"$f":"IF($L263*86400/$H263=0,\"\",$L263*86400/$H263)","v":""},{"$f":"IFERROR($M263/$K263,\"\")","v":""},0,"",{"$f":"IFERROR($P263/$K263,\"\")","v":""},0,"",{"$f":"IF(IF($AB263=\"D1\",$S263,\"\")=0,\"\",IF($AB263=\"D1\",$S263,\"\"))","v":""},{"$f":"IF(IF($AB263=\"D2\",$S263,\"\")=0,\"\",IF($AB263=\"D2\",$S263,\"\"))","v":""},{"$f":"IF(IF($AB263=\"D3\",$S263,\"\")=0,\"\",IF($AB263=\"D3\",$S263,\"\"))","v":""},null,{"$f":"X268","v":13},null,{"$f":"TEXT(Y261,\"ddd\")","v":"di"},"ND",{"$f":"IFERROR(HLOOKUP(Y261,[1]DATA!$A$1:$NB$5,5,0),\"\")","v":"D2"},null,null,null,null,0,"","",""]
["13woDD",{"$f":"VLOOKUP($AA264,DATA!$B$3:$E$6,2,0)","v":"06:30:00"},{"$f":"VLOOKUP($AA264,DATA!$B$3:$E$6,3,0)","v":"14:30:00"},{"$f":"VLOOKUP($AA264,DATA!$B$3:$E$6,4,0)","v":3.125E-2},0.30208333333333331,0.30208333333333331,{"$f":"DATA!$C$9","v":0.89},{"$f":"DATA!$C$10","v":64},1,407.8125,407.8125,0,"","",0,"","",393.6,369,369,"","",null,{"$f":"X268","v":13},{"$f":"Y261+1","v":"2018-03-28"},{"$f":"TEXT(Y264,\"ddd\")","v":"wo"},"DD",{"$f":"IFERROR(HLOOKUP(Y264,[1]DATA!$A$1:$NB$5,3,0),\"\")","v":"D1"},null,null,null,369,13,-66.9375,0.84645161290322579,0.96802754549926218]
["13woMD",{"$f":"VLOOKUP($AA265,DATA!$B$3:$E$6,2,0)","v":"14:30:00"},{"$f":"VLOOKUP($AA265,DATA!$B$3:$E$6,3,0)","v":"22:30:00"},{"$f":"VLOOKUP($AA265,DATA!$B$3:$E$6,4,0)","v":3.125E-2},0.30208333333333337,0.30208333333333337,{"$f":"DATA!$C$9","v":0.89},{"$f":"DATA!$C$10","v":64},1,407.81250000000006,407.81250000000006,0,"","",0,"","",325.33333333333331,305,"","",305,null,{"$f":"X268","v":13},null,{"$f":"TEXT(Y264,\"ddd\")","v":"wo"},"MD",{"$f":"IFERROR(HLOOKUP(Y264,[1]DATA!$A$1:$NB$5,4,0),\"\")","v":"D3"},null,null,null,305,13,-130.93749999999994,0.699641577060932,0.96157635467980296]
["13woND",{"$f":"VLOOKUP($AA266,DATA!$B$3:$E$6,2,0)","v":"22:30:00"},{"$f":"VLOOKUP($AA266,DATA!$B$3:$E$6,3,0)","v":"06:30:00"},{"$f":"VLOOKUP($AA266,DATA!$B$3:$E$6,4,0)","v":3.125E-2},0.30208333333333326,0.30208333333333326,{"$f":"DATA!$C$9","v":0.89},{"$f":"DATA!$C$10","v":64},1,407.81249999999989,407.81249999999989,0,"","",0,"","",0,"","","","",null,{"$f":"X268","v":13},null,{"$f":"TEXT(Y264,\"ddd\")","v":"wo"},"ND",{"$f":"IFERROR(HLOOKUP(Y264,[1]DATA!$A$1:$NB$5,5,0),\"\")","v":"D2"},null,null,null,null,0,"","",""]
["13doDD",{"$f":"VLOOKUP($AA267,DATA!$B$3:$E$6,2,0)","v":"06:30:00"},{"$f":"VLOOKUP($AA267,DATA!$B$3:$E$6,3,0)","v":"14:30:00"},{"$f":"VLOOKUP($AA267,DATA!$B$3:$E$6,4,0)","v":3.125E-2},0.30208333333333331,0.30208333333333331,{"$f":"DATA!$C$9","v":0.89},{"$f":"DATA!$C$10","v":64},1,407.8125,407.8125,0,"","",0,"","",352,330,330,"","",null,{"$f":"X268","v":13},{"$f":"Y264+1","v":"2018-03-29"},{"$f":"TEXT(Y267,\"ddd\")","v":"do"},"DD",{"$f":"IFERROR(HLOOKUP(Y267,[1]DATA!$A$1:$NB$5,3,0),\"\")","v":"D1"},null,null,null,330,37,-105.9375,0.75698924731182793,0.90488431876606679]
["13doMD",{"$f":"VLOOKUP($AA268,DATA!$B$3:$E$6,2,0)","v":"14:30:00"},{"$f":"VLOOKUP($AA268,DATA!$B$3:$E$6,3,0)","v":"22:30:00"},{"$f":"VLOOKUP($AA268,DATA!$B$3:$E$6,4,0)","v":3.125E-2},0.30208333333333337,0.30208333333333337,{"$f":"DATA!$C$9","v":0.89},{"$f":"DATA!$C$10","v":64},1,407.81250000000006,407.81250000000006,0,"","",0,"","",352,330,"","",330,null,{"$f":"WEEKNUM($Y258)","v":13},null,{"$f":"TEXT(Y267,\"ddd\")","v":"do"},"MD",{"$f":"IFERROR(HLOOKUP(Y267,[1]DATA!$A$1:$NB$5,4,0),\"\")","v":"D3"},null,null,null,330,35,-105.93749999999994,0.75698924731182804,0.90956072351421191]
["13doND",{"$f":"VLOOKUP($AA269,DATA!$B$3:$E$6,2,0)","v":"22:30:00"},{"$f":"VLOOKUP($AA269,DATA!$B$3:$E$6,3,0)","v":"06:30:00"},{"$f":"VLOOKUP($AA269,DATA!$B$3:$E$6,4,0)","v":3.125E-2},0.30208333333333326,0.30208333333333326,{"$f":"DATA!$C$9","v":0.89},{"$f":"DATA!$C$10","v":64},1,407.81249999999989,407.81249999999989,0,"","",0,"","",0,"","","","",null,{"$f":"X268","v":13},null,{"$f":"TEXT(Y267,\"ddd\")","v":"do"},"ND",{"$f":"IFERROR(HLOOKUP(Y267,[1]DATA!$A$1:$NB$5,5,0),\"\")","v":"D2"},null,null,null,null,0,"","",""]
["13vrDD",{"$f":"VLOOKUP($AA270,DATA!$B$3:$E$6,2,0)","v":"06:30:00"},{"$f":"VLOOKUP($AA270,DATA!$B$3:$E$6,3,0)","v":"14:30:00"},{"$f":"VLOOKUP($AA270,DATA!$B$3:$E$6,4,0)","v":3.125E-2},0.30208333333333331,0.30208333333333331,{"$f":"DATA!$C$9","v":0.89},{"$f":"DATA!$C$10","v":64},1,407.8125,407.8125,0,"","",0,"","",352,330,330,"","",null,{"$f":"X268","v":13},{"$f":"Y267+1","v":"2018-03-30"},{"$f":"TEXT(Y270,\"ddd\")","v":"vr"},"DD",{"$f":"IFERROR(HLOOKUP(Y270,[1]DATA!$A$1:$NB$5,3,0),\"\")","v":"D1"},null,null,null,330,4,-105.9375,0.75698924731182793,0.9887640449438202]
["13vrMD",{"$f":"VLOOKUP($AA271,DATA!$B$3:$E$6,2,0)","v":"14:30:00"},{"$f":"VLOOKUP($AA271,DATA!$B$3:$E$6,3,0)","v":"22:30:00"},{"$f":"VLOOKUP($AA271,DATA!$B$3:$E$6,4,0)","v":3.125E-2},0.30208333333333337,0.30208333333333337,{"$f":"DATA!$C$9","v":0.89},{"$f":"DATA!$C$10","v":64},1,407.81250000000006,407.81250000000006,0,"","",0,"","",323.2,303,"","",303,null,{"$f":"X268","v":13},null,{"$f":"TEXT(Y270,\"ddd\")","v":"vr"},"MD",{"$f":"IFERROR(HLOOKUP(Y270,[1]DATA!$A$1:$NB$5,4,0),\"\")","v":"D3"},null,null,null,303,0,-132.93749999999994,0.69505376344086034,1]
["13vrND",{"$f":"VLOOKUP($AA272,DATA!$B$3:$E$6,2,0)","v":"22:30:00"},{"$f":"VLOOKUP($AA272,DATA!$B$3:$E$6,3,0)","v":"06:30:00"},{"$f":"VLOOKUP($AA272,DATA!$B$3:$E$6,4,0)","v":3.125E-2},0.30208333333333326,0.30208333333333326,{"$f":"DATA!$C$9","v":0.89},{"$f":"DATA!$C$10","v":64},1,407.81249999999989,407.81249999999989,0,"","",0,"","",0,"","","","",null,{"$f":"X268","v":13},null,{"$f":"TEXT(Y270,\"ddd\")","v":"vr"},"ND",{"$f":"IFERROR(HLOOKUP(Y270,[1]DATA!$A$1:$NB$5,5,0),\"\")","v":"-"},null,null,null,null,0,"","",""]
["13zaDD",{"$f":"VLOOKUP($AA273,DATA!$B$3:$E$6,2,0)","v":"06:30:00"},{"$f":"VLOOKUP($AA273,DATA!$B$3:$E$6,3,0)","v":"14:30:00"},{"$f":"VLOOKUP($AA273,DATA!$B$3:$E$6,4,0)","v":3.125E-2},0.30208333333333331,0.30208333333333331,{"$f":"DATA!$C$9","v":0.89},{"$f":"DATA!$C$10","v":64},1,407.8125,407.8125,0,"","",0,"","",0,"","","","",null,{"$f":"X268","v":13},{"$f":"Y270+1","v":"2018-03-31"},{"$f":"TEXT(Y273,\"ddd\")","v":"za"},"DD",{"$f":"IFERROR(HLOOKUP(Y273,[1]DATA!$A$1:$NB$5,3,0),\"\")","v":"-"},null,null,null,null,0,"","",""]
["13zaMD",{"$f":"VLOOKUP($AA274,DATA!$B$3:$E$6,2,0)","v":"14:30:00"},{"$f":"VLOOKUP($AA274,DATA!$B$3:$E$6,3,0)","v":"22:30:00"},{"$f":"VLOOKUP($AA274,DATA!$B$3:$E$6,4,0)","v":3.125E-2},0.30208333333333337,0.30208333333333337,{"$f":"DATA!$C$9","v":0.89},{"$f":"DATA!$C$10","v":64},1,407.81250000000006,407.81250000000006,0,"","",0,"","",0,"","","","",null,{"$f":"X268","v":13},null,{"$f":"TEXT(Y273,\"ddd\")","v":"za"},"MD",{"$f":"IFERROR(HLOOKUP(Y273,[1]DATA!$A$1:$NB$5,4,0),\"\")","v":"-"},null,null,null,null,0,"","",""]
["13zaND",{"$f":"VLOOKUP($AA275,DATA!$B$3:$E$6,2,0)","v":"22:30:00"},{"$f":"VLOOKUP($AA275,DATA!$B$3:$E$6,3,0)","v":"06:30:00"},{"$f":"VLOOKUP($AA275,DATA!$B$3:$E$6,4,0)","v":3.125E-2},0.30208333333333326,0.30208333333333326,{"$f":"DATA!$C$9","v":0.89},{"$f":"DATA!$C$10","v":64},1,407.81249999999989,407.81249999999989,0,"","",0,"","",0,"","","","",null,{"$f":"X268","v":13},null,{"$f":"TEXT(Y273,\"ddd\")","v":"za"},"ND",{"$f":"IFERROR(HLOOKUP(Y273,[1]DATA!$A$1:$NB$5,5,0),\"\")","v":"-"},null,null,null,null,0,"","",""]
["13zoDD",{"$f":"VLOOKUP($AA276,DATA!$B$3:$E$6,2,0)","v":"06:30:00"},{"$f":"VLOOKUP($AA276,DATA!$B$3:$E$6,3,0)","v":"14:30:00"},{"$f":"VLOOKUP($AA276,DATA!$B$3:$E$6,4,0)","v":3.125E-2},0.30208333333333331,0.30208333333333331,{"$f":"DATA!$C$9","v":0.89},{"$f":"DATA!$C$10","v":64},1,407.8125,407.8125,0,"","",0,"","",0,"","","","",null,{"$f":"X268","v":13},{"$f":"Y273+1","v":"2018-04-01"},{"$f":"TEXT(Y276,\"ddd\")","v":"zo"},"DD",{"$f":"IFERROR(HLOOKUP(Y276,[1]DATA!$A$1:$NB$5,3,0),\"\")","v":"-"},null,null,null,null,0,"","",""]
["13zoMD",{"$f":"VLOOKUP($AA277,DATA!$B$3:$E$6,2,0)","v":"14:30:00"},{"$f":"VLOOKUP($AA277,DATA!$B$3:$E$6,3,0)","v":"22:30:00"},{"$f":"VLOOKUP($AA277,DATA!$B$3:$E$6,4,0)","v":3.125E-2},0.30208333333333337,0.30208333333333337,{"$f":"DATA!$C$9","v":0.89},{"$f":"DATA!$C$10","v":64},1,407.81250000000006,407.81250000000006,0,"","",0,"","",0,"","","","",null,{"$f":"X268","v":13},null,{"$f":"TEXT(Y276,\"ddd\")","v":"zo"},"MD",{"$f":"IFERROR(HLOOKUP(Y276,[1]DATA!$A$1:$NB$5,4,0),\"\")","v":"-"},null,null,null,null,0,"","",""]
["13zoZND",{"$f":"VLOOKUP($AA278,DATA!$B$3:$E$6,2,0)","v":"00:00:00"},{"$f":"VLOOKUP($AA278,DATA!$B$3:$E$6,3,0)","v":"00:00:00"},{"$f":"VLOOKUP($AA278,DATA!$B$3:$E$6,4,0)","v":3.125E-2},-3.125E-2,-3.125E-2,{"$f":"DATA!$C$9","v":0.89},{"$f":"DATA!$C$10","v":64},1,-42.1875,-42.1875,0,"","",0,"","",0,"","","","",null,{"$f":"X268","v":13},null,{"$f":"TEXT(Y276,\"ddd\")","v":"zo"},"ZND",{"$f":"IFERROR(HLOOKUP(Y276,[1]DATA!$A$1:$NB$5,5,0),\"\")","v":"-"},null,null,null,null,0,"","",""]
["14maDD",{"$f":"VLOOKUP($AA279,DATA!$B$3:$E$6,2,0)","v":"06:30:00"},{"$f":"VLOOKUP($AA279,DATA!$B$3:$E$6,3,0)","v":"14:30:00"},{"$f":"VLOOKUP($AA279,DATA!$B$3:$E$6,4,0)","v":3.125E-2},0.30208333333333331,0.30208333333333331,{"$f":"DATA!$C$9","v":0.89},{"$f":"DATA!$C$10","v":64},1,407.8125,407.8125,0,"","",{"$f":"TIME(INT($AD279/60),INT(MOD($AD279,60)/1),0)","v":0},"","",0,"","","","",null,{"$f":"X289","v":14},{"$f":"Y276+1","v":"2018-04-02"},{"$f":"TEXT(Y279,\"ddd\")","v":"ma"},"DD",{"$f":"IFERROR(HLOOKUP(Y279,[1]DATA!$A$1:$NB$5,3,0),\"\")","v":"D3"},null,null,null,0,0,"","","",3487.5,2582,0.74035842293906806,726.5625,0.20833333333333334,0,0,0.93842807534062012,"",0.92676313818543132,0.95009301249580902,178.9375,5.1308243727598596E-2,190.86666666666667,186]
["14maMD",{"$f":"VLOOKUP($AA280,DATA!$B$3:$E$6,2,0)","v":"14:30:00"},{"$f":"VLOOKUP($AA280,DATA!$B$3:$E$6,3,0)","v":"22:30:00"},{"$f":"VLOOKUP($AA280,DATA!$B$3:$E$6,4,0)","v":3.125E-2},0.30208333333333337,0.30208333333333337,{"$f":"DATA!$C$9","v":0.89},{"$f":"DATA!$C$10","v":64},1,407.81250000000006,407.81250000000006,0,"","",{"$f":"TIME(INT(AD280/60),INT(MOD(AD280,60)/1),0)","v":0},"","",0,"","","","",null,{"$f":"X289","v":14},null,{"$f":"TEXT(Y279,\"ddd\")","v":"ma"},"MD",{"$f":"IFERROR(HLOOKUP(Y279,[1]DATA!$A$1:$NB$5,4,0),\"\")","v":"D2"},null,null,null,0,0,"","",""]
["14maND",{"$f":"VLOOKUP($AA281,DATA!$B$3:$E$6,2,0)","v":"22:30:00"},{"$f":"VLOOKUP($AA281,DATA!$B$3:$E$6,3,0)","v":"06:30:00"},{"$f":"VLOOKUP($AA281,DATA!$B$3:$E$6,4,0)","v":3.125E-2},0.30208333333333326,0.30208333333333326,{"$f":"DATA!$C$9","v":0.89},{"$f":"DATA!$C$10","v":64},1,407.81249999999989,407.81249999999989,0,"","",0,"","",0,"","","","",null,{"$f":"X289","v":14},null,{"$f":"TEXT(Y279,\"ddd\")","v":"ma"},"ND",{"$f":"IFERROR(HLOOKUP(Y279,[1]DATA!$A$1:$NB$5,5,0),\"\")","v":"D1"},null,null,null,null,0,"","",""]
["14diDD",{"$f":"VLOOKUP($AA282,DATA!$B$3:$E$6,2,0)","v":"06:30:00"},{"$f":"VLOOKUP($AA282,DATA!$B$3:$E$6,3,0)","v":"14:30:00"},{"$f":"VLOOKUP($AA282,DATA!$B$3:$E$6,4,0)","v":3.125E-2},0.30208333333333331,0.20416666666666666,{"$f":"DATA!$C$9","v":0.89},{"$f":"DATA!$C$10","v":64},1,275.625,407.8125,9.7916666666666666E-2,132.1875,0.32413793103448274,0,"","",350.93333333333334,323,"","",323,null,{"$f":"X289","v":14},{"$f":"Y279+1","v":"2018-04-03"},{"$f":"TEXT(Y282,\"ddd\")","v":"di"},"DD",{"$f":"IFERROR(HLOOKUP(Y282,[1]DATA!$A$1:$NB$5,3,0),\"\")","v":"D3"},141,null,6,329,8,19.249999999999943,0.74093189964157702,0.97771173848439819]
["14diMD",{"$f":"VLOOKUP($AA283,DATA!$B$3:$E$6,2,0)","v":"14:30:00"},{"$f":"VLOOKUP($AA283,DATA!$B$3:$E$6,3,0)","v":"22:30:00"},{"$f":"VLOOKUP($AA283,DATA!$B$3:$E$6,4,0)","v":3.125E-2},0.30208333333333337,0.19583333333333336,{"$f":"DATA!$C$9","v":0.89},{"$f":"DATA!$C$10","v":64},1,264.37500000000006,407.81250000000006,0.10625,143.4375,0.35172413793103441,0,"","",296.5333333333333,277,"",277,"",null,{"$f":"X289","v":14},null,{"$f":"TEXT(Y282,\"ddd\")","v":"di"},"MD",{"$f":"IFERROR(HLOOKUP(Y282,[1]DATA!$A$1:$NB$5,4,0),\"\")","v":"D2"},153,null,1,278,37,-15.499999999999943,0.63541218637992836,0.88906656006396156]
["14diND",{"$f":"VLOOKUP($AA284,DATA!$B$3:$E$6,2,0)","v":"22:30:00"},{"$f":"VLOOKUP($AA284,DATA!$B$3:$E$6,3,0)","v":"06:30:00"},{"$f":"VLOOKUP($AA284,DATA!$B$3:$E$6,4,0)","v":3.125E-2},{"$f":"(C284-B284+(B284>C284))-D284","v":0.30208333333333326},{"$f":"E284-O284-L284","v":0.30208333333333326},{"$f":"DATA!$C$9","v":0.89},{"$f":"DATA!$C$10","v":64},1,407.81249999999989,407.81249999999989,0,"","",0,"","",0,"","","","",null,{"$f":"X289","v":14},null,{"$f":"TEXT(Y282,\"ddd\")","v":"di"},"ND",{"$f":"IFERROR(HLOOKUP(Y282,[1]DATA!$A$1:$NB$5,5,0),\"\")","v":"D1"},null,null,null,null,0,"","",""]
["14woDD",{"$f":"VLOOKUP($AA285,DATA!$B$3:$E$6,2,0)","v":"06:30:00"},{"$f":"VLOOKUP($AA285,DATA!$B$3:$E$6,3,0)","v":"14:30:00"},{"$f":"VLOOKUP($AA285,DATA!$B$3:$E$6,4,0)","v":3.125E-2},0.30208333333333331,0.22430555555555554,{"$f":"DATA!$C$9","v":0.89},{"$f":"DATA!$C$10","v":64},1,302.8125,407.8125,7.7777777777777779E-2,105,0.25747126436781609,0,"","",362.66666666666669,322,"","",322,null,{"$f":"X289","v":14},{"$f":"Y282+1","v":"2018-04-04"},{"$f":"TEXT(Y285,\"ddd\")","v":"wo"},"DD",{"$f":"IFERROR(HLOOKUP(Y285,[1]DATA!$A$1:$NB$5,3,0),\"\")","v":"D3"},112,null,18,340,6,-8.9375,0.73863799283154119,0.98372513562386976]
["14woMD",{"$f":"VLOOKUP($AA286,DATA!$B$3:$E$6,2,0)","v":"14:30:00"},{"$f":"VLOOKUP($AA286,DATA!$B$3:$E$6,3,0)","v":"22:30:00"},{"$f":"VLOOKUP($AA286,DATA!$B$3:$E$6,4,0)","v":3.125E-2},0.30208333333333337,0.2479166666666667,{"$f":"DATA!$C$9","v":0.89},{"$f":"DATA!$C$10","v":64},1,334.68750000000006,407.81250000000006,5.4166666666666669E-2,73.125,0.17931034482758618,0,"","",393.6,357,"",357,"",null,{"$f":"X289","v":14},null,{"$f":"TEXT(Y285,\"ddd\")","v":"wo"},"MD",{"$f":"IFERROR(HLOOKUP(Y285,[1]DATA!$A$1:$NB$5,4,0),\"\")","v":"D2"},78,null,12,369,10,-5.8124999999998863,0.81892473118279585,0.97522299306243809]
["14woND",{"$f":"VLOOKUP($AA287,DATA!$B$3:$E$6,2,0)","v":"22:30:00"},{"$f":"VLOOKUP($AA287,DATA!$B$3:$E$6,3,0)","v":"06:30:00"},{"$f":"VLOOKUP($AA287,DATA!$B$3:$E$6,4,0)","v":3.125E-2},0.30208333333333326,0.30208333333333326,{"$f":"DATA!$C$9","v":0.89},{"$f":"DATA!$C$10","v":64},1,407.81249999999989,407.81249999999989,0,"","",0,"","",0,"","","","",null,{"$f":"X289","v":14},null,{"$f":"TEXT(Y285,\"ddd\")","v":"wo"},"ND",{"$f":"IFERROR(HLOOKUP(Y285,[1]DATA!$A$1:$NB$5,5,0),\"\")","v":"D1"},null,null,null,null,0,"","",""]
["14doDD",{"$f":"VLOOKUP($AA288,DATA!$B$3:$E$6,2,0)","v":"06:30:00"},{"$f":"VLOOKUP($AA288,DATA!$B$3:$E$6,3,0)","v":"14:30:00"},{"$f":"VLOOKUP($AA288,DATA!$B$3:$E$6,4,0)","v":3.125E-2},0.30208333333333331,0.26111111111111107,{"$f":"DATA!$C$9","v":0.89},{"$f":"DATA!$C$10","v":64},1,352.49999999999994,407.8125,4.0972222222222222E-2,55.3125,0.13563218390804599,0,"","",402.13333333333333,362,"","",362,null,{"$f":"X289","v":14},{"$f":"Y285+1","v":"2018-04-05"},{"$f":"TEXT(Y288,\"ddd\")","v":"do"},"DD",{"$f":"IFERROR(HLOOKUP(Y288,[1]DATA!$A$1:$NB$5,3,0),\"\")","v":"D3"},59,null,15,377,29,-18.625,0.83039426523297488,0.93273542600896864]
["14doMD",{"$f":"VLOOKUP($AA289,DATA!$B$3:$E$6,2,0)","v":"14:30:00"},{"$f":"VLOOKUP($AA289,DATA!$B$3:$E$6,3,0)","v":"22:30:00"},{"$f":"VLOOKUP($AA289,DATA!$B$3:$E$6,4,0)","v":3.125E-2},0.30208333333333337,0.2368055555555556,{"$f":"DATA!$C$9","v":0.89},{"$f":"DATA!$C$10","v":64},1,319.68750000000006,407.81250000000006,6.5277777777777782E-2,88.125,0.21609195402298847,0,"","",369.06666666666666,339,"",339,"",null,{"$f":"WEEKNUM($Y279)","v":14},null,{"$f":"TEXT(Y288,\"ddd\")","v":"do"},"MD",{"$f":"IFERROR(HLOOKUP(Y288,[1]DATA!$A$1:$NB$5,4,0),\"\")","v":"D2"},94,null,7,346,33,-8.8124999999999432,0.77763440860215061,0.9179240590283535]
["14doND",{"$f":"VLOOKUP($AA290,DATA!$B$3:$E$6,2,0)","v":"22:30:00"},{"$f":"VLOOKUP($AA290,DATA!$B$3:$E$6,3,0)","v":"06:30:00"},{"$f":"VLOOKUP($AA290,DATA!$B$3:$E$6,4,0)","v":3.125E-2},0.30208333333333326,0.30208333333333326,{"$f":"DATA!$C$9","v":0.89},{"$f":"DATA!$C$10","v":64},1,407.81249999999989,407.81249999999989,0,"","",0,"","",0,"","","","",null,{"$f":"X289","v":14},null,{"$f":"TEXT(Y288,\"ddd\")","v":"do"},"ND",{"$f":"IFERROR(HLOOKUP(Y288,[1]DATA!$A$1:$NB$5,5,0),\"\")","v":"D1"},null,null,null,null,0,"","",""]
["14vrDD",{"$f":"VLOOKUP($AA291,DATA!$B$3:$E$6,2,0)","v":"06:30:00"},{"$f":"VLOOKUP($AA291,DATA!$B$3:$E$6,3,0)","v":"14:30:00"},{"$f":"VLOOKUP($AA291,DATA!$B$3:$E$6,4,0)","v":3.125E-2},0.30208333333333331,0.25624999999999998,{"$f":"DATA!$C$9","v":0.89},{"$f":"DATA!$C$10","v":64},1,345.93749999999994,407.8125,4.5833333333333337E-2,61.875000000000007,0.15172413793103451,0,"","",338.13333333333333,301,"","",301,null,{"$f":"X289","v":14},{"$f":"Y288+1","v":"2018-04-06"},{"$f":"TEXT(Y291,\"ddd\")","v":"vr"},"DD",{"$f":"IFERROR(HLOOKUP(Y291,[1]DATA!$A$1:$NB$5,3,0),\"\")","v":"D3"},66,null,16,317,35,-73.0625,0.69046594982078857,0.9061997498659996]
["14vrMD",{"$f":"VLOOKUP($AA292,DATA!$B$3:$E$6,2,0)","v":"14:30:00"},{"$f":"VLOOKUP($AA292,DATA!$B$3:$E$6,3,0)","v":"22:30:00"},{"$f":"VLOOKUP($AA292,DATA!$B$3:$E$6,4,0)","v":3.125E-2},0.30208333333333337,0.25208333333333338,{"$f":"DATA!$C$9","v":0.89},{"$f":"DATA!$C$10","v":64},1,340.31250000000006,407.81250000000006,4.9999999999999996E-2,67.5,0.16551724137931031,0,"","",344.5333333333333,301,"",301,"",null,{"$f":"X289","v":14},null,{"$f":"TEXT(Y291,\"ddd\")","v":"vr"},"MD",{"$f":"IFERROR(HLOOKUP(Y291,[1]DATA!$A$1:$NB$5,4,0),\"\")","v":"D2"},72,null,22,323,28,-67.437499999999943,0.69046594982078857,0.92483894058697202]
["14vrND",{"$f":"VLOOKUP($AA293,DATA!$B$3:$E$6,2,0)","v":"22:30:00"},{"$f":"VLOOKUP($AA293,DATA!$B$3:$E$6,3,0)","v":"06:30:00"},{"$f":"VLOOKUP($AA293,DATA!$B$3:$E$6,4,0)","v":3.125E-2},0.30208333333333326,0.30208333333333326,{"$f":"DATA!$C$9","v":0.89},{"$f":"DATA!$C$10","v":64},1,407.81249999999989,407.81249999999989,0,"","",0,"","",0,"","","","",null,{"$f":"X289","v":14},null,{"$f":"TEXT(Y291,\"ddd\")","v":"vr"},"ND",{"$f":"IFERROR(HLOOKUP(Y291,[1]DATA!$A$1:$NB$5,5,0),\"\")","v":"D2"},null,null,null,null,0,"","",""]
["14zaDD",{"$f":"VLOOKUP($AA294,DATA!$B$3:$E$6,2,0)","v":"06:30:00"},{"$f":"VLOOKUP($AA294,DATA!$B$3:$E$6,3,0)","v":"14:30:00"},{"$f":"VLOOKUP($AA294,DATA!$B$3:$E$6,4,0)","v":3.125E-2},0.30208333333333331,0.30208333333333331,{"$f":"DATA!$C$9","v":0.89},{"$f":"DATA!$C$10","v":64},1,407.8125,407.8125,0,"","",0,"","",0,"","","","",null,{"$f":"X289","v":14},{"$f":"Y291+1","v":"2018-04-07"},{"$f":"TEXT(Y294,\"ddd\")","v":"za"},"DD",{"$f":"IFERROR(HLOOKUP(Y294,[1]DATA!$A$1:$NB$5,3,0),\"\")","v":"D3"},null,null,null,null,0,"","",""]
["14zaMD",{"$f":"VLOOKUP($AA295,DATA!$B$3:$E$6,2,0)","v":"14:30:00"},{"$f":"VLOOKUP($AA295,DATA!$B$3:$E$6,3,0)","v":"22:30:00"},{"$f":"VLOOKUP($AA295,DATA!$B$3:$E$6,4,0)","v":3.125E-2},0.30208333333333337,0.30208333333333337,{"$f":"DATA!$C$9","v":0.89},{"$f":"DATA!$C$10","v":64},1,407.81250000000006,407.81250000000006,0,"","",0,"","",0,"","","","",null,{"$f":"X289","v":14},null,{"$f":"TEXT(Y294,\"ddd\")","v":"za"},"MD",{"$f":"IFERROR(HLOOKUP(Y294,[1]DATA!$A$1:$NB$5,4,0),\"\")","v":"-"},null,null,null,null,0,"","",""]
["14zaND",{"$f":"VLOOKUP($AA296,DATA!$B$3:$E$6,2,0)","v":"22:30:00"},{"$f":"VLOOKUP($AA296,DATA!$B$3:$E$6,3,0)","v":"06:30:00"},{"$f":"VLOOKUP($AA296,DATA!$B$3:$E$6,4,0)","v":3.125E-2},0.30208333333333326,0.30208333333333326,{"$f":"DATA!$C$9","v":0.89},{"$f":"DATA!$C$10","v":64},1,407.81249999999989,407.81249999999989,0,"","",0,"","",0,"","","","",null,{"$f":"X289","v":14},null,{"$f":"TEXT(Y294,\"ddd\")","v":"za"},"ND",{"$f":"IFERROR(HLOOKUP(Y294,[1]DATA!$A$1:$NB$5,5,0),\"\")","v":"-"},null,null,null,null,0,"","",""]
["14zoDD",{"$f":"VLOOKUP($AA297,DATA!$B$3:$E$6,2,0)","v":"06:30:00"},{"$f":"VLOOKUP($AA297,DATA!$B$3:$E$6,3,0)","v":"14:30:00"},{"$f":"VLOOKUP($AA297,DATA!$B$3:$E$6,4,0)","v":3.125E-2},0.30208333333333331,0.30208333333333331,{"$f":"DATA!$C$9","v":0.89},{"$f":"DATA!$C$10","v":64},1,407.8125,407.8125,0,"","",0,"","",0,"","","","",null,{"$f":"X289","v":14},{"$f":"Y294+1","v":"2018-04-08"},{"$f":"TEXT(Y297,\"ddd\")","v":"zo"},"DD",{"$f":"IFERROR(HLOOKUP(Y297,[1]DATA!$A$1:$NB$5,3,0),\"\")","v":"-"},null,null,null,null,0,"","",""]
["14zoMD",{"$f":"VLOOKUP($AA298,DATA!$B$3:$E$6,2,0)","v":"14:30:00"},{"$f":"VLOOKUP($AA298,DATA!$B$3:$E$6,3,0)","v":"22:30:00"},{"$f":"VLOOKUP($AA298,DATA!$B$3:$E$6,4,0)","v":3.125E-2},0.30208333333333337,0.30208333333333337,{"$f":"DATA!$C$9","v":0.89},{"$f":"DATA!$C$10","v":64},1,407.81250000000006,407.81250000000006,0,"","",0,"","",0,"","","","",null,{"$f":"X289","v":14},null,{"$f":"TEXT(Y297,\"ddd\")","v":"zo"},"MD",{"$f":"IFERROR(HLOOKUP(Y297,[1]DATA!$A$1:$NB$5,4,0),\"\")","v":"-"},null,null,null,null,0,"","",""]
["14zoZND",{"$f":"VLOOKUP($AA299,DATA!$B$3:$E$6,2,0)","v":"00:00:00"},{"$f":"VLOOKUP($AA299,DATA!$B$3:$E$6,3,0)","v":"00:00:00"},{"$f":"VLOOKUP($AA299,DATA!$B$3:$E$6,4,0)","v":3.125E-2},-3.125E-2,-3.125E-2,{"$f":"DATA!$C$9","v":0.89},{"$f":"DATA!$C$10","v":64},1,-42.1875,-42.1875,0,"","",0,"","",0,"","","","",null,{"$f":"X289","v":14},null,{"$f":"TEXT(Y297,\"ddd\")","v":"zo"},"ZND",{"$f":"IFERROR(HLOOKUP(Y297,[1]DATA!$A$1:$NB$5,5,0),\"\")","v":"-"},null,null,null,null,0,"","",""]
["15maDD",{"$f":"VLOOKUP($AA300,DATA!$B$3:$E$6,2,0)","v":"06:30:00"},{"$f":"VLOOKUP($AA300,DATA!$B$3:$E$6,3,0)","v":"14:30:00"},{"$f":"VLOOKUP($AA300,DATA!$B$3:$E$6,4,0)","v":3.125E-2},0.30208333333333331,0.25416666666666665,{"$f":"DATA!$C$9","v":0.89},{"$f":"DATA!$C$10","v":64},1,343.125,407.8125,4.7916666666666663E-2,64.6875,0.15862068965517243,{"$f":"TIME(INT($AD300/60),INT(MOD($AD300,60)/1),0)","v":0},"","",301.86666666666667,258,"",258,"",null,{"$f":"X310","v":15},{"$f":"Y297+1","v":"2018-04-09"},{"$f":"TEXT(Y300,\"ddd\")","v":"ma"},"DD",{"$f":"IFERROR(HLOOKUP(Y300,[1]DATA!$A$1:$NB$5,3,0),\"\")","v":"D2"},69,null,25,283,{"$f":"VLOOKUP(Y300,[1]SRI!$S$4:$Z$368,2,0)","v":59},{"$f":"IFERROR(S300-J300,\"\")","v":-85.125},{"$f":"IFERROR(IF(S300/(E300*86400/H300)<=0,\"\",S300/(E300*86400/H300)),\"\")","v":0.63264367816091949},{"$f":"IFERROR(R300/(R300+AG300),\"\")","v":0.83650471088121192},{"$f":"IF(SUMIF(S300:S320,\">0\",K300:K320)=0,\"\",SUMIF(S300:S320,\">0\",K300:K320))","v":4078.125},{"$f":"IF(SUM(S300:S320)=0,\"\",SUM(S300:S320))","v":2895},{"$f":"IFERROR(AL300/AK300,\"-\")","v":0.7098850574712644},{"$f":"IF(SUM(M300:M320)=0,\"0\",SUM(M300:M320))","v":895.3125},{"$f":"IFERROR(AN300/AK300,\"-\")","v":0.21954022988505748},{"$f":"IF(SUM(P300:P320)=0,0,SUM(P300:P320))","v":0},{"$f":"IFERROR(AP300/AK300,\"-\")","v":0},{"$f":"IFERROR(AVERAGE(AJ300:AJ320),\"-\")","v":0.93165183010533748},{"$f":"IFERROR(SUMIF($AB300:$AB320,AS$5,$AJ300:$AJ320)/COUNTIFS($AB300:$AB320,AS$5,$AJ300:$AJ320,\">0\"),\"\")","v":0.97120916891662346},0.89209449129405127,"",{"$f":"IFERROR((AK300-AL300-AN300-AP300),\"-\")","v":287.8125},{"$f":"IFERROR((1-AM300-AO300-AQ300), \"-\")","v":7.0574712643678122E-2},{"$f":"IFERROR((AV300*$AE$2)/60,\"-\")","v":307},{"$f":"IFERROR(SUM(AG300:AG320),\"\")","v":263}]
["15maMD",{"$f":"VLOOKUP($AA301,DATA!$B$3:$E$6,2,0)","v":"14:30:00"},{"$f":"VLOOKUP($AA301,DATA!$B$3:$E$6,3,0)","v":"22:30:00"},{"$f":"VLOOKUP($AA301,DATA!$B$3:$E$6,4,0)","v":3.125E-2},0.30208333333333337,0.1965277777777778,{"$f":"DATA!$C$9","v":0.89},{"$f":"DATA!$C$10","v":64},1,265.31250000000006,407.81250000000006,0.10555555555555556,142.5,0.34942528735632178,{"$f":"TIME(INT(AD301/60),INT(MOD(AD301,60)/1),0)","v":0},"","",291.2,249,249,"","",null,{"$f":"X310","v":15},null,{"$f":"TEXT(Y300,\"ddd\")","v":"ma"},"MD",{"$f":"IFERROR(HLOOKUP(Y300,[1]DATA!$A$1:$NB$5,4,0),\"\")","v":"D1"},152,null,24,273,{"$f":"VLOOKUP(Y300,[1]SRI!$S$4:$Z$368,3,0)","v":11},-16.312500000000057,0.61057471264367813,0.96360026472534743]
["15maND",{"$f":"VLOOKUP($AA302,DATA!$B$3:$E$6,2,0)","v":"22:30:00"},{"$f":"VLOOKUP($AA302,DATA!$B$3:$E$6,3,0)","v":"06:30:00"},{"$f":"VLOOKUP($AA302,DATA!$B$3:$E$6,4,0)","v":3.125E-2},0.30208333333333326,0.30208333333333326,{"$f":"DATA!$C$9","v":0.89},{"$f":"DATA!$C$10","v":64},1,407.81249999999989,407.81249999999989,0,"","",0,"","",0,"","","","",null,{"$f":"X310","v":15},null,{"$f":"TEXT(Y300,\"ddd\")","v":"ma"},"ND",{"$f":"IFERROR(HLOOKUP(Y300,[1]DATA!$A$1:$NB$5,5,0),\"\")","v":"D3"},null,null,null,null,{"$f":"VLOOKUP(Y300,[1]SRI!$S$4:$Z$368,4,0)","v":0},"","",""]
["15diDD",{"$f":"VLOOKUP($AA303,DATA!$B$3:$E$6,2,0)","v":"06:30:00"},{"$f":"VLOOKUP($AA303,DATA!$B$3:$E$6,3,0)","v":"14:30:00"},{"$f":"VLOOKUP($AA303,DATA!$B$3:$E$6,4,0)","v":3.125E-2},0.30208333333333331,0.24444444444444444,{"$f":"DATA!$C$9","v":0.89},{"$f":"DATA!$C$10","v":64},1,330,407.8125,5.7638888888888885E-2,77.8125,0.19080459770114944,0,"","",341.33333333333331,301,"",301,"",null,{"$f":"X310","v":15},{"$f":"Y300+1","v":"2018-04-10"},{"$f":"TEXT(Y303,\"ddd\")","v":"di"},"DD",{"$f":"IFERROR(HLOOKUP(Y303,[1]DATA!$A$1:$NB$5,3,0),\"\")","v":"D2"},83,null,19,320,{"$f":"VLOOKUP(Y303,[1]SRI!$S$4:$Z$368,2,0)","v":15},-29,0.73808429118773944,0.95790458372310572]
[{"$f":"X304&Z304&AA304","v":"15diMD"},{"$f":"VLOOKUP($AA304,DATA!$B$3:$E$6,2,0)","v":"14:30:00"},{"$f":"VLOOKUP($AA304,DATA!$B$3:$E$6,3,0)","v":"22:30:00"},{"$f":"VLOOKUP($AA304,DATA!$B$3:$E$6,4,0)","v":3.125E-2},0.30208333333333337,0.24861111111111114,{"$f":"DATA!$C$9","v":0.89},{"$f":"DATA!$C$10","v":64},1,335.62500000000006,407.81250000000006,5.347222222222222E-2,72.1875,0.17701149425287355,0,{"$f":"IF($O304*86400/$H304=0,\"\",$O304*86400/$H304)","v":""},"",338.13333333333333,306,306,"","",null,{"$f":"X310","v":15},null,{"$f":"TEXT(Y303,\"ddd\")","v":"di"},"MD",{"$f":"IFERROR(HLOOKUP(Y303,[1]DATA!$A$1:$NB$5,4,0),\"\")","v":"D1"},77,null,11,317,{"$f":"VLOOKUP(Y303,[1]SRI!$S$4:$Z$368,3,0)","v":2},-29.625000000000057,0.7503448275862068,0.99411995295962363]
["15diND",{"$f":"VLOOKUP($AA305,DATA!$B$3:$E$6,2,0)","v":"22:30:00"},{"$f":"VLOOKUP($AA305,DATA!$B$3:$E$6,3,0)","v":"06:30:00"},{"$f":"VLOOKUP($AA305,DATA!$B$3:$E$6,4,0)","v":3.125E-2},0.30208333333333326,0.30208333333333326,{"$f":"DATA!$C$9","v":0.89},{"$f":"DATA!$C$10","v":64},1,407.81249999999989,407.81249999999989,0,"","",0,"","",0,"","","","",null,{"$f":"X310","v":15},null,{"$f":"TEXT(Y303,\"ddd\")","v":"di"},"ND",{"$f":"IFERROR(HLOOKUP(Y303,[1]DATA!$A$1:$NB$5,5,0),\"\")","v":"D3"},null,null,null,null,{"$f":"VLOOKUP(Y303,[1]SRI!$S$4:$Z$368,4,0)","v":0},"","",""]
["15woDD",{"$f":"VLOOKUP($AA306,DATA!$B$3:$E$6,2,0)","v":"06:30:00"},{"$f":"VLOOKUP($AA306,DATA!$B$3:$E$6,3,0)","v":"14:30:00"},{"$f":"VLOOKUP($AA306,DATA!$B$3:$E$6,4,0)","v":3.125E-2},0.30208333333333331,0.17708333333333331,{"$f":"DATA!$C$9","v":0.89},{"$f":"DATA!$C$10","v":64},1,239.06249999999997,407.8125,0.125,168.75,0.41379310344827586,0,"","",285.86666666666667,251,"",251,"",null,{"$f":"X310","v":15},{"$f":"Y303+1","v":"2018-04-11"},{"$f":"TEXT(Y306,\"ddd\")","v":"wo"},"DD",{"$f":"IFERROR(HLOOKUP(Y306,[1]DATA!$A$1:$NB$5,3,0),\"\")","v":"D2"},180,null,17,268,{"$f":"VLOOKUP(Y306,[1]SRI!$S$4:$Z$368,2,0)","v":133},11.937500000000028,0.61547892720306518,0.68247652395352543]
["15woMD",{"$f":"VLOOKUP($AA307,DATA!$B$3:$E$6,2,0)","v":"14:30:00"},{"$f":"VLOOKUP($AA307,DATA!$B$3:$E$6,3,0)","v":"22:30:00"},{"$f":"VLOOKUP($AA307,DATA!$B$3:$E$6,4,0)","v":3.125E-2},0.30208333333333337,0.23402777777777783,{"$f":"DATA!$C$9","v":0.89},{"$f":"DATA!$C$10","v":64},1,315.93750000000006,407.81250000000006,6.805555555555555E-2,91.874999999999986,0.22528735632183902,0,"","",343.46666666666664,291,291,"","",null,{"$f":"X310","v":15},null,{"$f":"TEXT(Y306,\"ddd\")","v":"wo"},"MD",{"$f":"IFERROR(HLOOKUP(Y306,[1]DATA!$A$1:$NB$5,4,0),\"\")","v":"D1"},98,null,31,322,{"$f":"VLOOKUP(Y306,[1]SRI!$S$4:$Z$368,3,0)","v":9},-24.937500000000057,0.7135632183908045,0.97446567051257804]
["15woND",{"$f":"VLOOKUP($AA308,DATA!$B$3:$E$6,2,0)","v":"22:30:00"},{"$f":"VLOOKUP($AA308,DATA!$B$3:$E$6,3,0)","v":"06:30:00"},{"$f":"VLOOKUP($AA308,DATA!$B$3:$E$6,4,0)","v":3.125E-2},0.30208333333333326,0.30208333333333326,{"$f":"DATA!$C$9","v":0.89},{"$f":"DATA!$C$10","v":64},1,407.81249999999989,407.81249999999989,0,"","",0,"","",0,"","","","",null,{"$f":"X310","v":15},null,{"$f":"TEXT(Y306,\"ddd\")","v":"wo"},"ND",{"$f":"IFERROR(HLOOKUP(Y306,[1]DATA!$A$1:$NB$5,5,0),\"\")","v":"D3"},null,null,null,null,{"$f":"VLOOKUP(Y306,[1]SRI!$S$4:$Z$368,4,0)","v":0},"","",""]
["15doDD",{"$f":"VLOOKUP($AA309,DATA!$B$3:$E$6,2,0)","v":"06:30:00"},{"$f":"VLOOKUP($AA309,DATA!$B$3:$E$6,3,0)","v":"14:30:00"},{"$f":"VLOOKUP($AA309,DATA!$B$3:$E$6,4,0)","v":3.125E-2},0.30208333333333331,0.30208333333333331,{"$f":"DATA!$C$9","v":0.89},{"$f":"DATA!$C$10","v":64},1,407.8125,407.8125,0,"","",0,"","",389.33333333333331,335,"",335,"",null,{"$f":"X310","v":15},{"$f":"Y306+1","v":"2018-04-12"},{"$f":"TEXT(Y309,\"ddd\")","v":"do"},"DD",{"$f":"IFERROR(HLOOKUP(Y309,[1]DATA!$A$1:$NB$5,3,0),\"\")","v":"D2"},0,null,30,365,{"$f":"VLOOKUP(Y309,[1]SRI!$S$4:$Z$368,2,0)","v":3},-72.8125,0.82145593869731803,0.99235344095157174]
["15doMD",{"$f":"VLOOKUP($AA310,DATA!$B$3:$E$6,2,0)","v":"14:30:00"},{"$f":"VLOOKUP($AA310,DATA!$B$3:$E$6,3,0)","v":"22:30:00"},{"$f":"VLOOKUP($AA310,DATA!$B$3:$E$6,4,0)","v":3.125E-2},0.30208333333333337,0.25694444444444448,{"$f":"DATA!$C$9","v":0.89},{"$f":"DATA!$C$10","v":64},1,346.87500000000006,407.81250000000006,4.5138888888888888E-2,60.9375,0.14942528735632182,0,"","",369.06666666666666,328,328,"","",null,{"$f":"WEEKNUM($Y300)","v":15},null,{"$f":"TEXT(Y309,\"ddd\")","v":"do"},"MD",{"$f":"IFERROR(HLOOKUP(Y309,[1]DATA!$A$1:$NB$5,4,0),\"\")","v":"D1"},65,null,18,346,{"$f":"VLOOKUP(Y309,[1]SRI!$S$4:$Z$368,3,0)","v":19},-18.875000000000057,0.80429118773946351,0.95103934031953274]
["15doND",{"$f":"VLOOKUP($AA311,DATA!$B$3:$E$6,2,0)","v":"22:30:00"},{"$f":"VLOOKUP($AA311,DATA!$B$3:$E$6,3,0)","v":"06:30:00"},{"$f":"VLOOKUP($AA311,DATA!$B$3:$E$6,4,0)","v":3.125E-2},0.30208333333333326,0.30208333333333326,{"$f":"DATA!$C$9","v":0.89},{"$f":"DATA!$C$10","v":64},1,407.81249999999989,407.81249999999989,0,"","",0,"","",0,"","","","",null,{"$f":"X310","v":15},null,{"$f":"TEXT(Y309,\"ddd\")","v":"do"},"ND",{"$f":"IFERROR(HLOOKUP(Y309,[1]DATA!$A$1:$NB$5,5,0),\"\")","v":"D3"},null,null,null,null,{"$f":"VLOOKUP(Y309,[1]SRI!$S$4:$Z$368,4,0)","v":0},"","",""]
["15vrDD",{"$f":"VLOOKUP($AA312,DATA!$B$3:$E$6,2,0)","v":"06:30:00"},{"$f":"VLOOKUP($AA312,DATA!$B$3:$E$6,3,0)","v":"14:30:00"},{"$f":"VLOOKUP($AA312,DATA!$B$3:$E$6,4,0)","v":3.125E-2},0.30208333333333331,0.23958333333333331,{"$f":"DATA!$C$9","v":0.89},{"$f":"DATA!$C$10","v":64},1,323.4375,407.8125,6.25E-2,84.375,0.20689655172413793,0,"","",339.2,299,"",299,"",null,{"$f":"X310","v":15},{"$f":"Y309+1","v":"2018-04-13"},{"$f":"TEXT(Y312,\"ddd\")","v":"vr"},"DD",{"$f":"IFERROR(HLOOKUP(Y312,[1]DATA!$A$1:$NB$5,3,0),\"\")","v":"D2"},90,null,19,318,{"$f":"VLOOKUP(Y312,[1]SRI!$S$4:$Z$368,2,0)","v":3},-24.4375,0.7331800766283525,0.99123319696084167]
["15vrMD",{"$f":"VLOOKUP($AA313,DATA!$B$3:$E$6,2,0)","v":"14:30:00"},{"$f":"VLOOKUP($AA313,DATA!$B$3:$E$6,3,0)","v":"22:30:00"},{"$f":"VLOOKUP($AA313,DATA!$B$3:$E$6,4,0)","v":3.125E-2},0.30208333333333337,0.20416666666666672,{"$f":"DATA!$C$9","v":0.89},{"$f":"DATA!$C$10","v":64},1,275.62500000000006,407.81250000000006,9.7916666666666666E-2,132.1875,0.32413793103448274,0,"","",322.13333333333333,277,277,"","",null,{"$f":"X310","v":15},null,{"$f":"TEXT(Y312,\"ddd\")","v":"vr"},"MD",{"$f":"IFERROR(HLOOKUP(Y312,[1]DATA!$A$1:$NB$5,4,0),\"\")","v":"D1"},141,null,25,302,{"$f":"VLOOKUP(Y312,[1]SRI!$S$4:$Z$368,3,0)","v":9},1.3749999999999432,0.67923371647509567,0.97282061606603587]
["15vrND",{"$f":"VLOOKUP($AA314,DATA!$B$3:$E$6,2,0)","v":"22:30:00"},{"$f":"VLOOKUP($AA314,DATA!$B$3:$E$6,3,0)","v":"06:30:00"},{"$f":"VLOOKUP($AA314,DATA!$B$3:$E$6,4,0)","v":3.125E-2},0.30208333333333326,0.30208333333333326,{"$f":"DATA!$C$9","v":0.89},{"$f":"DATA!$C$10","v":64},1,407.81249999999989,407.81249999999989,0,"","",0,"","",0,"","","","",null,{"$f":"X310","v":15},null,{"$f":"TEXT(Y312,\"ddd\")","v":"vr"},"ND",{"$f":"IFERROR(HLOOKUP(Y312,[1]DATA!$A$1:$NB$5,5,0),\"\")","v":"D3"},null,null,null,null,{"$f":"VLOOKUP(Y312,[1]SRI!$S$4:$Z$368,4,0)","v":0},"","",""]
["15zaDD",{"$f":"VLOOKUP($AA315,DATA!$B$3:$E$6,2,0)","v":"06:30:00"},{"$f":"VLOOKUP($AA315,DATA!$B$3:$E$6,3,0)","v":"14:30:00"},{"$f":"VLOOKUP($AA315,DATA!$B$3:$E$6,4,0)","v":3.125E-2},0.30208333333333331,0.30208333333333331,{"$f":"DATA!$C$9","v":0.89},{"$f":"DATA!$C$10","v":64},1,407.8125,407.8125,0,"","",0,"","",0,"","","","",null,{"$f":"X310","v":15},{"$f":"Y312+1","v":"2018-04-14"},{"$f":"TEXT(Y315,\"ddd\")","v":"za"},"DD",{"$f":"IFERROR(HLOOKUP(Y315,[1]DATA!$A$1:$NB$5,3,0),\"\")","v":"D2"},null,null,null,null,{"$f":"VLOOKUP(Y315,[1]SRI!$S$4:$Z$368,2,0)","v":0},"","",""]
["15zaMD",{"$f":"VLOOKUP($AA316,DATA!$B$3:$E$6,2,0)","v":"14:30:00"},{"$f":"VLOOKUP($AA316,DATA!$B$3:$E$6,3,0)","v":"22:30:00"},{"$f":"VLOOKUP($AA316,DATA!$B$3:$E$6,4,0)","v":3.125E-2},0.30208333333333337,0.30208333333333337,{"$f":"DATA!$C$9","v":0.89},{"$f":"DATA!$C$10","v":64},1,407.81250000000006,407.81250000000006,0,"","",0,"","",0,"","","","",null,{"$f":"X310","v":15},null,{"$f":"TEXT(Y315,\"ddd\")","v":"za"},"MD",{"$f":"IFERROR(HLOOKUP(Y315,[1]DATA!$A$1:$NB$5,4,0),\"\")","v":"-"},null,null,null,null,{"$f":"VLOOKUP(Y315,[1]SRI!$S$4:$Z$368,3,0)","v":0},"","",""]
["15zaND",{"$f":"VLOOKUP($AA317,DATA!$B$3:$E$6,2,0)","v":"22:30:00"},{"$f":"VLOOKUP($AA317,DATA!$B$3:$E$6,3,0)","v":"06:30:00"},{"$f":"VLOOKUP($AA317,DATA!$B$3:$E$6,4,0)","v":3.125E-2},0.30208333333333326,0.30208333333333326,{"$f":"DATA!$C$9","v":0.89},{"$f":"DATA!$C$10","v":64},1,407.81249999999989,407.81249999999989,0,"","",0,"","",0,"","","","",null,{"$f":"X310","v":15},null,{"$f":"TEXT(Y315,\"ddd\")","v":"za"},"ND",{"$f":"IFERROR(HLOOKUP(Y315,[1]DATA!$A$1:$NB$5,5,0),\"\")","v":"-"},null,null,null,null,{"$f":"VLOOKUP(Y315,[1]SRI!$S$4:$Z$368,4,0)","v":0},"","",""]
["15zoDD",{"$f":"VLOOKUP($AA318,DATA!$B$3:$E$6,2,0)","v":"06:30:00"},{"$f":"VLOOKUP($AA318,DATA!$B$3:$E$6,3,0)","v":"14:30:00"},{"$f":"VLOOKUP($AA318,DATA!$B$3:$E$6,4,0)","v":3.125E-2},0.30208333333333331,0.30208333333333331,{"$f":"DATA!$C$9","v":0.89},{"$f":"DATA!$C$10","v":64},1,407.8125,407.8125,0,"","",0,"","",0,"","","","",null,{"$f":"X310","v":15},{"$f":"Y315+1","v":"2018-04-15"},{"$f":"TEXT(Y318,\"ddd\")","v":"zo"},"DD",{"$f":"IFERROR(HLOOKUP(Y318,[1]DATA!$A$1:$NB$5,3,0),\"\")","v":"-"},null,null,null,null,{"$f":"VLOOKUP(Y318,[1]SRI!$S$4:$Z$368,2,0)","v":0},"","",""]
["15zoMD",{"$f":"VLOOKUP($AA319,DATA!$B$3:$E$6,2,0)","v":"14:30:00"},{"$f":"VLOOKUP($AA319,DATA!$B$3:$E$6,3,0)","v":"22:30:00"},{"$f":"VLOOKUP($AA319,DATA!$B$3:$E$6,4,0)","v":3.125E-2},0.30208333333333337,0.30208333333333337,{"$f":"DATA!$C$9","v":0.89},{"$f":"DATA!$C$10","v":64},1,407.81250000000006,407.81250000000006,0,"","",0,"","",0,"","","","",null,{"$f":"X310","v":15},null,{"$f":"TEXT(Y318,\"ddd\")","v":"zo"},"MD",{"$f":"IFERROR(HLOOKUP(Y318,[1]DATA!$A$1:$NB$5,4,0),\"\")","v":"-"},null,null,null,null,{"$f":"VLOOKUP(Y318,[1]SRI!$S$4:$Z$368,3,0)","v":0},"","",""]
["15zoZND",{"$f":"VLOOKUP($AA320,DATA!$B$3:$E$6,2,0)","v":"00:00:00"},{"$f":"VLOOKUP($AA320,DATA!$B$3:$E$6,3,0)","v":"00:00:00"},{"$f":"VLOOKUP($AA320,DATA!$B$3:$E$6,4,0)","v":3.125E-2},-3.125E-2,-3.125E-2,{"$f":"DATA!$C$9","v":0.89},{"$f":"DATA!$C$10","v":64},1,-42.1875,-42.1875,0,"","",0,"","",0,"","","","",null,{"$f":"X310","v":15},null,{"$f":"TEXT(Y318,\"ddd\")","v":"zo"},"ZND",{"$f":"IFERROR(HLOOKUP(Y318,[1]DATA!$A$1:$NB$5,5,0),\"\")","v":"-"},null,null,null,null,{"$f":"VLOOKUP(Y318,[1]SRI!$S$4:$Z$368,4,0)","v":0},"","",""]
["16maDD",{"$f":"VLOOKUP($AA321,DATA!$B$3:$E$6,2,0)","v":"06:30:00"},{"$f":"VLOOKUP($AA321,DATA!$B$3:$E$6,3,0)","v":"14:30:00"},{"$f":"VLOOKUP($AA321,DATA!$B$3:$E$6,4,0)","v":3.125E-2},0.30208333333333331,0.30208333333333331,{"$f":"DATA!$C$9","v":0.89},{"$f":"DATA!$C$10","v":64},1,407.8125,407.8125,0,"","",{"$f":"TIME(INT($AD321/60),INT(MOD($AD321,60)/1),0)","v":0},"","",0,"","","","",null,{"$f":"X331","v":16},{"$f":"Y318+1","v":"2018-04-16"},{"$f":"TEXT(Y321,\"ddd\")","v":"ma"},"DD",{"$f":"IFERROR(HLOOKUP(Y321,[1]DATA!$A$1:$NB$5,3,0),\"\")","v":"D1"},null,null,null,null,{"$f":"VLOOKUP(Y321,[1]SRI!$S$4:$Z$368,2,0)","v":2},"","",0,{"$f":"IF(SUMIF(S321:S341,\">0\",K321:K341)=0,\"\",SUMIF(S321:S341,\">0\",K321:K341))","v":""},{"$f":"IF(SUM(S321:S341)=0,\"\",SUM(S321:S341))","v":""},{"$f":"IFERROR(AL321/AK321,\"-\")","v":"-"},{"$f":"IF(SUM(M321:M341)=0,\"0\",SUM(M321:M341))","v":"0"},{"$f":"IFERROR(AN321/AK321,\"-\")","v":"-"},{"$f":"IF(SUM(P321:P341)=0,0,SUM(P321:P341))","v":0},{"$f":"IFERROR(AP321/AK321,\"-\")","v":"-"},{"$f":"IFERROR(AVERAGE(AJ321:AJ341),\"-\")","v":0},{"$f":"IFERROR(SUMIF($AB321:$AB341,AS$5,$AJ321:$AJ341)/COUNTIFS($AB321:$AB341,AS$5,$AJ321:$AJ341,\">0\"),\"\")","v":""},"","",{"$f":"IFERROR((AK321-AL321-AN321-AP321),\"-\")","v":"-"},{"$f":"IFERROR((1-AM321-AO321-AQ321), \"-\")","v":"-"},{"$f":"IFERROR((AV321*$AE$2)/60,\"-\")","v":"-"},{"$f":"IFERROR(SUM(AG321:AG341),\"\")","v":170}]
["16maMD",{"$f":"VLOOKUP($AA322,DATA!$B$3:$E$6,2,0)","v":"14:30:00"},{"$f":"VLOOKUP($AA322,DATA!$B$3:$E$6,3,0)","v":"22:30:00"},{"$f":"VLOOKUP($AA322,DATA!$B$3:$E$6,4,0)","v":3.125E-2},0.30208333333333337,0.30208333333333337,{"$f":"DATA!$C$9","v":0.89},{"$f":"DATA!$C$10","v":64},1,407.81250000000006,407.81250000000006,0,"","",{"$f":"TIME(INT(AD322/60),INT(MOD(AD322,60)/1),0)","v":0},"","",0,"","","","",null,{"$f":"X331","v":16},null,{"$f":"TEXT(Y321,\"ddd\")","v":"ma"},"MD",{"$f":"IFERROR(HLOOKUP(Y321,[1]DATA!$A$1:$NB$5,4,0),\"\")","v":"D3"},null,null,null,null,{"$f":"VLOOKUP(Y321,[1]SRI!$S$4:$Z$368,3,0)","v":7},"","",0]
["16maND",{"$f":"VLOOKUP($AA323,DATA!$B$3:$E$6,2,0)","v":"22:30:00"},{"$f":"VLOOKUP($AA323,DATA!$B$3:$E$6,3,0)","v":"06:30:00"},{"$f":"VLOOKUP($AA323,DATA!$B$3:$E$6,4,0)","v":3.125E-2},0.30208333333333326,0.30208333333333326,{"$f":"DATA!$C$9","v":0.89},{"$f":"DATA!$C$10","v":64},1,407.81249999999989,407.81249999999989,0,"","",0,"","",0,"","","","",null,{"$f":"X331","v":16},null,{"$f":"TEXT(Y321,\"ddd\")","v":"ma"},"ND",{"$f":"IFERROR(HLOOKUP(Y321,[1]DATA!$A$1:$NB$5,5,0),\"\")","v":"D2"},null,null,null,null,{"$f":"VLOOKUP(Y321,[1]SRI!$S$4:$Z$368,4,0)","v":3},"","",0]
["16diDD",{"$f":"VLOOKUP($AA324,DATA!$B$3:$E$6,2,0)","v":"06:30:00"},{"$f":"VLOOKUP($AA324,DATA!$B$3:$E$6,3,0)","v":"14:30:00"},{"$f":"VLOOKUP($AA324,DATA!$B$3:$E$6,4,0)","v":3.125E-2},0.30208333333333331,0.30208333333333331,{"$f":"DATA!$C$9","v":0.89},{"$f":"DATA!$C$10","v":64},1,407.8125,407.8125,0,"","",0,"","",0,"","","","",null,{"$f":"X331","v":16},{"$f":"Y321+1","v":"2018-04-17"},{"$f":"TEXT(Y324,\"ddd\")","v":"di"},"DD",{"$f":"IFERROR(HLOOKUP(Y324,[1]DATA!$A$1:$NB$5,3,0),\"\")","v":"D1"},null,null,null,null,{"$f":"VLOOKUP(Y324,[1]SRI!$S$4:$Z$368,2,0)","v":4},"","",0]
["16diMD",{"$f":"VLOOKUP($AA325,DATA!$B$3:$E$6,2,0)","v":"14:30:00"},{"$f":"VLOOKUP($AA325,DATA!$B$3:$E$6,3,0)","v":"22:30:00"},{"$f":"VLOOKUP($AA325,DATA!$B$3:$E$6,4,0)","v":3.125E-2},0.30208333333333337,0.30208333333333337,{"$f":"DATA!$C$9","v":0.89},{"$f":"DATA!$C$10","v":64},1,407.81250000000006,407.81250000000006,0,"","",0,"","",0,"","","","",null,{"$f":"X331","v":16},null,{"$f":"TEXT(Y324,\"ddd\")","v":"di"},"MD",{"$f":"IFERROR(HLOOKUP(Y324,[1]DATA!$A$1:$NB$5,4,0),\"\")","v":"D3"},null,null,null,null,{"$f":"VLOOKUP(Y324,[1]SRI!$S$4:$Z$368,3,0)","v":30},"","",0]
["16diND",{"$f":"VLOOKUP($AA326,DATA!$B$3:$E$6,2,0)","v":"22:30:00"},{"$f":"VLOOKUP($AA326,DATA!$B$3:$E$6,3,0)","v":"06:30:00"},{"$f":"VLOOKUP($AA326,DATA!$B$3:$E$6,4,0)","v":3.125E-2},0.30208333333333326,0.30208333333333326,{"$f":"DATA!$C$9","v":0.89},{"$f":"DATA!$C$10","v":64},1,{"$f":"F326*86400/H326*I326","v":407.81249999999989},{"$f":"E326*86400/H326","v":407.81249999999989},0,"","",0,"","",{"$f":"AF326*AG$2","v":0},{"$f":"IF(AF326-AE326=0,\"\",AF326-AE326)","v":""},"","","",null,{"$f":"X331","v":16},null,{"$f":"TEXT(Y324,\"ddd\")","v":"di"},"ND",{"$f":"IFERROR(HLOOKUP(Y324,[1]DATA!$A$1:$NB$5,5,0),\"\")","v":"D2"},null,null,null,null,{"$f":"VLOOKUP(Y324,[1]SRI!$S$4:$Z$368,4,0)","v":81},{"$f":"IFERROR(S326-J326,\"\")","v":""},{"$f":"IFERROR(IF(S326/(E326*86400/H326)<=0,\"\",S326/(E326*86400/H326)),\"\")","v":""},{"$f":"IFERROR(R326/(R326+AG326),\"\")","v":0}]
["16woDD",{"$f":"VLOOKUP($AA327,DATA!$B$3:$E$6,2,0)","v":"06:30:00"},{"$f":"VLOOKUP($AA327,DATA!$B$3:$E$6,3,0)","v":"14:30:00"},{"$f":"VLOOKUP($AA327,DATA!$B$3:$E$6,4,0)","v":3.125E-2},0.30208333333333331,0.30208333333333331,{"$f":"DATA!$C$9","v":0.89},{"$f":"DATA!$C$10","v":64},1,407.8125,407.8125,{"$f":"TIME(INT($AC327/60),INT(MOD($AC327,60)/1),0)","v":0},{"$f":"IF($L327*86400/$H327=0,\"\",$L327*86400/$H327)","v":""},{"$f":"IFERROR($M327/$K327,\"\")","v":""},0,"",{"$f":"IFERROR($P327/$K327,\"\")","v":""},0,"",{"$f":"IF(IF($AB327=\"D1\",$S327,\"\")=0,\"\",IF($AB327=\"D1\",$S327,\"\"))","v":""},{"$f":"IF(IF($AB327=\"D2\",$S327,\"\")=0,\"\",IF($AB327=\"D2\",$S327,\"\"))","v":""},{"$f":"IF(IF($AB327=\"D3\",$S327,\"\")=0,\"\",IF($AB327=\"D3\",$S327,\"\"))","v":""},null,{"$f":"X331","v":16},{"$f":"Y324+1","v":"2018-04-18"},{"$f":"TEXT(Y327,\"ddd\")","v":"wo"},"DD",{"$f":"IFERROR(HLOOKUP(Y327,[1]DATA!$A$1:$NB$5,3,0),\"\")","v":"D1"},null,null,null,null,{"$f":"VLOOKUP(Y327,[1]SRI!$S$4:$Z$368,2,0)","v":2},"","",0]
["16woMD",{"$f":"VLOOKUP($AA328,DATA!$B$3:$E$6,2,0)","v":"14:30:00"},{"$f":"VLOOKUP($AA328,DATA!$B$3:$E$6,3,0)","v":"22:30:00"},{"$f":"VLOOKUP($AA328,DATA!$B$3:$E$6,4,0)","v":3.125E-2},0.30208333333333337,0.30208333333333337,{"$f":"DATA!$C$9","v":0.89},{"$f":"DATA!$C$10","v":64},1,407.81250000000006,407.81250000000006,0,"","",0,"","",0,"","","","",null,{"$f":"X331","v":16},null,{"$f":"TEXT(Y327,\"ddd\")","v":"wo"},"MD",{"$f":"IFERROR(HLOOKUP(Y327,[1]DATA!$A$1:$NB$5,4,0),\"\")","v":"D3"},null,null,null,null,{"$f":"VLOOKUP(Y327,[1]SRI!$S$4:$Z$368,3,0)","v":0},"","",""]
["16woND",{"$f":"VLOOKUP($AA329,DATA!$B$3:$E$6,2,0)","v":"22:30:00"},{"$f":"VLOOKUP($AA329,DATA!$B$3:$E$6,3,0)","v":"06:30:00"},{"$f":"VLOOKUP($AA329,DATA!$B$3:$E$6,4,0)","v":3.125E-2},0.30208333333333326,0.30208333333333326,{"$f":"DATA!$C$9","v":0.89},{"$f":"DATA!$C$10","v":64},1,407.81249999999989,407.81249999999989,0,"","",0,"","",0,"","","","",null,{"$f":"X331","v":16},null,{"$f":"TEXT(Y327,\"ddd\")","v":"wo"},"ND",{"$f":"IFERROR(HLOOKUP(Y327,[1]DATA!$A$1:$NB$5,5,0),\"\")","v":"D2"},null,null,null,null,{"$f":"VLOOKUP(Y327,[1]SRI!$S$4:$Z$368,4,0)","v":10},"","",0]
["16doDD",{"$f":"VLOOKUP($AA330,DATA!$B$3:$E$6,2,0)","v":"06:30:00"},{"$f":"VLOOKUP($AA330,DATA!$B$3:$E$6,3,0)","v":"14:30:00"},{"$f":"VLOOKUP($AA330,DATA!$B$3:$E$6,4,0)","v":3.125E-2},0.30208333333333331,0.30208333333333331,{"$f":"DATA!$C$9","v":0.89},{"$f":"DATA!$C$10","v":64},1,407.8125,407.8125,0,"","",0,"","",0,"","","","",null,{"$f":"X331","v":16},{"$f":"Y327+1","v":"2018-04-19"},{"$f":"TEXT(Y330,\"ddd\")","v":"do"},"DD",{"$f":"IFERROR(HLOOKUP(Y330,[1]DATA!$A$1:$NB$5,3,0),\"\")","v":"D1"},null,null,null,null,{"$f":"VLOOKUP(Y330,[1]SRI!$S$4:$Z$368,2,0)","v":4},"","",0]
["16doMD",{"$f":"VLOOKUP($AA331,DATA!$B$3:$E$6,2,0)","v":"14:30:00"},{"$f":"VLOOKUP($AA331,DATA!$B$3:$E$6,3,0)","v":"22:30:00"},{"$f":"VLOOKUP($AA331,DATA!$B$3:$E$6,4,0)","v":3.125E-2},0.30208333333333337,0.30208333333333337,{"$f":"DATA!$C$9","v":0.89},{"$f":"DATA!$C$10","v":64},1,407.81250000000006,407.81250000000006,0,"","",0,"","",0,"","","","",null,{"$f":"WEEKNUM($Y321)","v":16},null,{"$f":"TEXT(Y330,\"ddd\")","v":"do"},"MD",{"$f":"IFERROR(HLOOKUP(Y330,[1]DATA!$A$1:$NB$5,4,0),\"\")","v":"D3"},null,null,null,null,{"$f":"VLOOKUP(Y330,[1]SRI!$S$4:$Z$368,3,0)","v":5},"","",0]
["16doND",{"$f":"VLOOKUP($AA332,DATA!$B$3:$E$6,2,0)","v":"22:30:00"},{"$f":"VLOOKUP($AA332,DATA!$B$3:$E$6,3,0)","v":"06:30:00"},{"$f":"VLOOKUP($AA332,DATA!$B$3:$E$6,4,0)","v":3.125E-2},0.30208333333333326,0.30208333333333326,{"$f":"DATA!$C$9","v":0.89},{"$f":"DATA!$C$10","v":64},1,407.81249999999989,407.81249999999989,0,"","",0,"","",0,"","","","",null,{"$f":"X331","v":16},null,{"$f":"TEXT(Y330,\"ddd\")","v":"do"},"ND",{"$f":"IFERROR(HLOOKUP(Y330,[1]DATA!$A$1:$NB$5,5,0),\"\")","v":"D2"},null,null,null,null,{"$f":"VLOOKUP(Y330,[1]SRI!$S$4:$Z$368,4,0)","v":0},"","",""]
["16vrDD",{"$f":"VLOOKUP($AA333,DATA!$B$3:$E$6,2,0)","v":"06:30:00"},{"$f":"VLOOKUP($AA333,DATA!$B$3:$E$6,3,0)","v":"14:30:00"},{"$f":"VLOOKUP($AA333,DATA!$B$3:$E$6,4,0)","v":3.125E-2},0.30208333333333331,0.30208333333333331,{"$f":"DATA!$C$9","v":0.89},{"$f":"DATA!$C$10","v":64},1,407.8125,407.8125,0,"","",0,"","",0,"","","","",null,{"$f":"X331","v":16},{"$f":"Y330+1","v":"2018-04-20"},{"$f":"TEXT(Y333,\"ddd\")","v":"vr"},"DD",{"$f":"IFERROR(HLOOKUP(Y333,[1]DATA!$A$1:$NB$5,3,0),\"\")","v":"D1"},null,null,null,null,{"$f":"VLOOKUP(Y333,[1]SRI!$S$4:$Z$368,2,0)","v":9},"","",0]
["16vrMD",{"$f":"VLOOKUP($AA334,DATA!$B$3:$E$6,2,0)","v":"14:30:00"},{"$f":"VLOOKUP($AA334,DATA!$B$3:$E$6,3,0)","v":"22:30:00"},{"$f":"VLOOKUP($AA334,DATA!$B$3:$E$6,4,0)","v":3.125E-2},0.30208333333333337,0.30208333333333337,{"$f":"DATA!$C$9","v":0.89},{"$f":"DATA!$C$10","v":64},1,407.81250000000006,407.81250000000006,0,"","",0,"","",0,"","","","",null,{"$f":"X331","v":16},null,{"$f":"TEXT(Y333,\"ddd\")","v":"vr"},"MD",{"$f":"IFERROR(HLOOKUP(Y333,[1]DATA!$A$1:$NB$5,4,0),\"\")","v":"D3"},null,null,null,null,{"$f":"VLOOKUP(Y333,[1]SRI!$S$4:$Z$368,3,0)","v":3},"","",0]
["16vrND",{"$f":"VLOOKUP($AA335,DATA!$B$3:$E$6,2,0)","v":"22:30:00"},{"$f":"VLOOKUP($AA335,DATA!$B$3:$E$6,3,0)","v":"06:30:00"},{"$f":"VLOOKUP($AA335,DATA!$B$3:$E$6,4,0)","v":3.125E-2},0.30208333333333326,0.30208333333333326,{"$f":"DATA!$C$9","v":0.89},{"$f":"DATA!$C$10","v":64},1,407.81249999999989,407.81249999999989,0,"","",0,"","",0,"","","","",null,{"$f":"X331","v":16},null,{"$f":"TEXT(Y333,\"ddd\")","v":"vr"},"ND",{"$f":"IFERROR(HLOOKUP(Y333,[1]DATA!$A$1:$NB$5,5,0),\"\")","v":"D2"},null,null,null,null,{"$f":"VLOOKUP(Y333,[1]SRI!$S$4:$Z$368,4,0)","v":0},"","",""]
["16zaDD",{"$f":"VLOOKUP($AA336,DATA!$B$3:$E$6,2,0)","v":"06:30:00"},{"$f":"VLOOKUP($AA336,DATA!$B$3:$E$6,3,0)","v":"14:30:00"},{"$f":"VLOOKUP($AA336,DATA!$B$3:$E$6,4,0)","v":3.125E-2},0.30208333333333331,0.30208333333333331,{"$f":"DATA!$C$9","v":0.89},{"$f":"DATA!$C$10","v":64},1,407.8125,407.8125,0,"","",0,"","",0,"","","","",null,{"$f":"X331","v":16},{"$f":"Y333+1","v":"2018-04-21"},{"$f":"TEXT(Y336,\"ddd\")","v":"za"},"DD",{"$f":"IFERROR(HLOOKUP(Y336,[1]DATA!$A$1:$NB$5,3,0),\"\")","v":"D1"},null,null,null,null,{"$f":"VLOOKUP(Y336,[1]SRI!$S$4:$Z$368,2,0)","v":10},"","",0]
["16zaMD",{"$f":"VLOOKUP($AA337,DATA!$B$3:$E$6,2,0)","v":"14:30:00"},{"$f":"VLOOKUP($AA337,DATA!$B$3:$E$6,3,0)","v":"22:30:00"},{"$f":"VLOOKUP($AA337,DATA!$B$3:$E$6,4,0)","v":3.125E-2},0.30208333333333337,0.30208333333333337,{"$f":"DATA!$C$9","v":0.89},{"$f":"DATA!$C$10","v":64},1,407.81250000000006,407.81250000000006,0,"","",0,"","",0,"","","","",null,{"$f":"X331","v":16},null,{"$f":"TEXT(Y336,\"ddd\")","v":"za"},"MD",{"$f":"IFERROR(HLOOKUP(Y336,[1]DATA!$A$1:$NB$5,4,0),\"\")","v":"-"},null,null,null,null,{"$f":"VLOOKUP(Y336,[1]SRI!$S$4:$Z$368,3,0)","v":0},"","",""]
["16zaND",{"$f":"VLOOKUP($AA338,DATA!$B$3:$E$6,2,0)","v":"22:30:00"},{"$f":"VLOOKUP($AA338,DATA!$B$3:$E$6,3,0)","v":"06:30:00"},{"$f":"VLOOKUP($AA338,DATA!$B$3:$E$6,4,0)","v":3.125E-2},0.30208333333333326,0.30208333333333326,{"$f":"DATA!$C$9","v":0.89},{"$f":"DATA!$C$10","v":64},1,407.81249999999989,407.81249999999989,0,"","",0,"","",0,"","","","",null,{"$f":"X331","v":16},null,{"$f":"TEXT(Y336,\"ddd\")","v":"za"},"ND",{"$f":"IFERROR(HLOOKUP(Y336,[1]DATA!$A$1:$NB$5,5,0),\"\")","v":"-"},null,null,null,null,{"$f":"VLOOKUP(Y336,[1]SRI!$S$4:$Z$368,4,0)","v":0},"","",""]
["16zoDD",{"$f":"VLOOKUP($AA339,DATA!$B$3:$E$6,2,0)","v":"06:30:00"},{"$f":"VLOOKUP($AA339,DATA!$B$3:$E$6,3,0)","v":"14:30:00"},{"$f":"VLOOKUP($AA339,DATA!$B$3:$E$6,4,0)","v":3.125E-2},0.30208333333333331,0.30208333333333331,{"$f":"DATA!$C$9","v":0.89},{"$f":"DATA!$C$10","v":64},1,407.8125,407.8125,0,"","",0,"","",0,"","","","",null,{"$f":"X331","v":16},{"$f":"Y336+1","v":"2018-04-22"},{"$f":"TEXT(Y339,\"ddd\")","v":"zo"},"DD",{"$f":"IFERROR(HLOOKUP(Y339,[1]DATA!$A$1:$NB$5,3,0),\"\")","v":"-"},null,null,null,null,{"$f":"VLOOKUP(Y339,[1]SRI!$S$4:$Z$368,2,0)","v":0},"","",""]
["16zoMD",{"$f":"VLOOKUP($AA340,DATA!$B$3:$E$6,2,0)","v":"14:30:00"},{"$f":"VLOOKUP($AA340,DATA!$B$3:$E$6,3,0)","v":"22:30:00"},{"$f":"VLOOKUP($AA340,DATA!$B$3:$E$6,4,0)","v":3.125E-2},0.30208333333333337,0.30208333333333337,{"$f":"DATA!$C$9","v":0.89},{"$f":"DATA!$C$10","v":64},1,407.81250000000006,407.81250000000006,0,"","",0,"","",0,"","","","",null,{"$f":"X331","v":16},null,{"$f":"TEXT(Y339,\"ddd\")","v":"zo"},"MD",{"$f":"IFERROR(HLOOKUP(Y339,[1]DATA!$A$1:$NB$5,4,0),\"\")","v":"-"},null,null,null,null,{"$f":"VLOOKUP(Y339,[1]SRI!$S$4:$Z$368,3,0)","v":0},"","",""]
["16zoZND",{"$f":"VLOOKUP($AA341,DATA!$B$3:$E$6,2,0)","v":"00:00:00"},{"$f":"VLOOKUP($AA341,DATA!$B$3:$E$6,3,0)","v":"00:00:00"},{"$f":"VLOOKUP($AA341,DATA!$B$3:$E$6,4,0)","v":3.125E-2},-3.125E-2,-3.125E-2,{"$f":"DATA!$C$9","v":0.89},{"$f":"DATA!$C$10","v":64},1,-42.1875,-42.1875,0,"","",0,"","",0,"","","","",null,{"$f":"X331","v":16},null,{"$f":"TEXT(Y339,\"ddd\")","v":"zo"},"ZND",{"$f":"IFERROR(HLOOKUP(Y339,[1]DATA!$A$1:$NB$5,5,0),\"\")","v":"-"},null,null,null,null,{"$f":"VLOOKUP(Y339,[1]SRI!$S$4:$Z$368,4,0)","v":0},"","",""]
["17maDD",{"$f":"VLOOKUP($AA342,DATA!$B$3:$E$6,2,0)","v":"06:30:00"},{"$f":"VLOOKUP($AA342,DATA!$B$3:$E$6,3,0)","v":"14:30:00"},{"$f":"VLOOKUP($AA342,DATA!$B$3:$E$6,4,0)","v":3.125E-2},0.30208333333333331,0.19027777777777777,{"$f":"DATA!$C$9","v":0.89},{"$f":"DATA!$C$10","v":64},1,256.875,407.8125,0.11180555555555556,150.9375,0.37011494252873561,{"$f":"TIME(INT($AD342/60),INT(MOD($AD342,60)/1),0)","v":0},"","",249.6,227,"","",227,null,{"$f":"X352","v":17},{"$f":"Y339+1","v":"2018-04-23"},{"$f":"TEXT(Y342,\"ddd\")","v":"ma"},"DD",{"$f":"IFERROR(HLOOKUP(Y342,[1]DATA!$A$1:$NB$5,3,0),\"\")","v":"D3"},161,null,7,234,{"$f":"VLOOKUP(Y342,[1]SRI!$S$4:$Z$368,2,0)","v":0},-29.875,0.55662835249042142,1,{"$f":"IF(SUMIF(S342:S362,\">0\",K342:K362)=0,\"\",SUMIF(S342:S362,\">0\",K342:K362))","v":4893.75},{"$f":"IF(SUM(S342:S362)=0,\"\",SUM(S342:S362))","v":3423},{"$f":"IFERROR(AL342/AK342,\"-\")","v":0.69946360153256704},{"$f":"IF(SUM(M342:M362)=0,\"0\",SUM(M342:M362))","v":1362.1875},{"$f":"IFERROR(AN342/AK342,\"-\")","v":0.27835249042145593},{"$f":"IF(SUM(P342:P362)=0,0,SUM(P342:P362))","v":0},{"$f":"IFERROR(AP342/AK342,\"-\")","v":0},{"$f":"IFERROR(AVERAGE(AJ342:AJ362),\"-\")","v":0.97504202735770029},{"$f":"IFERROR(SUMIF($AB342:$AB362,AS$5,$AJ342:$AJ362)/COUNTIFS($AB342:$AB362,AS$5,$AJ342:$AJ362,\">0\"),\"\")","v":0.96524031997609816},0.97701382774022938,0.98287193435677378,{"$f":"IFERROR((AK342-AL342-AN342-AP342),\"-\")","v":108.5625},{"$f":"IFERROR((1-AM342-AO342-AQ342), \"-\")","v":2.218390804597703E-2},{"$f":"IFERROR((AV342*$AE$2)/60,\"-\")","v":115.8},{"$f":"IFERROR(SUM(AG342:AG362),\"\")","v":97}]
["17maMD",{"$f":"VLOOKUP($AA343,DATA!$B$3:$E$6,2,0)","v":"14:30:00"},{"$f":"VLOOKUP($AA343,DATA!$B$3:$E$6,3,0)","v":"22:30:00"},{"$f":"VLOOKUP($AA343,DATA!$B$3:$E$6,4,0)","v":3.125E-2},0.30208333333333337,0.27083333333333337,{"$f":"DATA!$C$9","v":0.89},{"$f":"DATA!$C$10","v":64},1,365.62500000000006,407.81250000000006,3.125E-2,42.1875,0.10344827586206895,{"$f":"TIME(INT(AD343/60),INT(MOD(AD343,60)/1),0)","v":0},"","",381.86666666666667,343,"",343,"",null,{"$f":"X352","v":17},null,{"$f":"TEXT(Y342,\"ddd\")","v":"ma"},"MD",{"$f":"IFERROR(HLOOKUP(Y342,[1]DATA!$A$1:$NB$5,4,0),\"\")","v":"D2"},45,null,15,358,{"$f":"VLOOKUP(Y342,[1]SRI!$S$4:$Z$368,3,0)","v":26},-22.625000000000057,0.84107279693486581,0.93625367767244194]
["17maND",{"$f":"VLOOKUP($AA344,DATA!$B$3:$E$6,2,0)","v":"22:30:00"},{"$f":"VLOOKUP($AA344,DATA!$B$3:$E$6,3,0)","v":"06:30:00"},{"$f":"VLOOKUP($AA344,DATA!$B$3:$E$6,4,0)","v":3.125E-2},0.30208333333333326,0.17569444444444438,{"$f":"DATA!$C$9","v":0.89},{"$f":"DATA!$C$10","v":64},1,237.18749999999991,407.81249999999989,0.12638888888888888,170.625,0.41839080459770128,0,"","",235.73333333333332,217,217,"","",null,{"$f":"X352","v":17},null,{"$f":"TEXT(Y342,\"ddd\")","v":"ma"},"ND",{"$f":"IFERROR(HLOOKUP(Y342,[1]DATA!$A$1:$NB$5,5,0),\"\")","v":"D1"},182,null,4,221,{"$f":"VLOOKUP(Y342,[1]SRI!$S$4:$Z$368,4,0)","v":28},-20.187499999999915,0.5321072796934867,0.89383215369059643]
["17diDD",{"$f":"VLOOKUP($AA345,DATA!$B$3:$E$6,2,0)","v":"06:30:00"},{"$f":"VLOOKUP($AA345,DATA!$B$3:$E$6,3,0)","v":"14:30:00"},{"$f":"VLOOKUP($AA345,DATA!$B$3:$E$6,4,0)","v":3.125E-2},0.30208333333333331,0.24305555555555552,{"$f":"DATA!$C$9","v":0.89},{"$f":"DATA!$C$10","v":64},1,328.12499999999994,407.8125,5.9027777777777783E-2,79.687500000000014,0.19540229885057475,0,"","",347.73333333333335,307,"","",307,null,{"$f":"X352","v":17},{"$f":"Y342+1","v":"2018-04-24"},{"$f":"TEXT(Y345,\"ddd\")","v":"di"},"DD",{"$f":"IFERROR(HLOOKUP(Y345,[1]DATA!$A$1:$NB$5,3,0),\"\")","v":"D3"},85,null,19,326,{"$f":"VLOOKUP(Y345,[1]SRI!$S$4:$Z$368,2,0)","v":13},-21.124999999999943,0.75279693486590038,0.96396229902051378]
["17diMD",{"$f":"VLOOKUP($AA346,DATA!$B$3:$E$6,2,0)","v":"14:30:00"},{"$f":"VLOOKUP($AA346,DATA!$B$3:$E$6,3,0)","v":"22:30:00"},{"$f":"VLOOKUP($AA346,DATA!$B$3:$E$6,4,0)","v":3.125E-2},0.30208333333333337,0.22708333333333336,{"$f":"DATA!$C$9","v":0.89},{"$f":"DATA!$C$10","v":64},1,306.56250000000006,407.81250000000006,7.4999999999999997E-2,101.25,0.24827586206896549,0,"","",360.5333333333333,327,"",327,"",null,{"$f":"X352","v":17},null,{"$f":"TEXT(Y345,\"ddd\")","v":"di"},"MD",{"$f":"IFERROR(HLOOKUP(Y345,[1]DATA!$A$1:$NB$5,4,0),\"\")","v":"D2"},108,null,11,338,{"$f":"VLOOKUP(Y345,[1]SRI!$S$4:$Z$368,3,0)","v":8},20.437499999999943,0.80183908045977004,0.97829232995658466]
["17diND",{"$f":"VLOOKUP($AA347,DATA!$B$3:$E$6,2,0)","v":"22:30:00"},{"$f":"VLOOKUP($AA347,DATA!$B$3:$E$6,3,0)","v":"06:30:00"},{"$f":"VLOOKUP($AA347,DATA!$B$3:$E$6,4,0)","v":3.125E-2},0.30208333333333326,0.19513888888888881,{"$f":"DATA!$C$9","v":0.89},{"$f":"DATA!$C$10","v":64},1,263.43749999999989,407.81249999999989,0.10694444444444444,144.375,0.3540229885057472,0,"","",274.13333333333333,242,242,"","",null,{"$f":"X352","v":17},null,{"$f":"TEXT(Y345,\"ddd\")","v":"di"},"ND",{"$f":"IFERROR(HLOOKUP(Y345,[1]DATA!$A$1:$NB$5,5,0),\"\")","v":"D1"},154,null,15,257,{"$f":"VLOOKUP(Y345,[1]SRI!$S$4:$Z$368,4,0)","v":7},-21.437499999999886,0.59340996168582394,0.97510078254683419]
["17woDD",{"$f":"VLOOKUP($AA348,DATA!$B$3:$E$6,2,0)","v":"06:30:00"},{"$f":"VLOOKUP($AA348,DATA!$B$3:$E$6,3,0)","v":"14:30:00"},{"$f":"VLOOKUP($AA348,DATA!$B$3:$E$6,4,0)","v":3.125E-2},{"$f":"(C348-B348+(B348>C348))-D348","v":0.30208333333333331},{"$f":"E348-O348-L348","v":0.20694444444444443},{"$f":"DATA!$C$9","v":0.89},{"$f":"DATA!$C$10","v":64},1,279.375,407.8125,9.5138888888888884E-2,128.4375,0.31494252873563217,0,"","",302.93333333333334,265,"","",265,null,{"$f":"X352","v":17},{"$f":"Y345+1","v":"2018-04-25"},{"$f":"TEXT(Y348,\"ddd\")","v":"wo"},"DD",{"$f":"IFERROR(HLOOKUP(Y348,[1]DATA!$A$1:$NB$5,3,0),\"\")","v":"D3"},137,null,19,284,{"$f":"VLOOKUP(Y348,[1]SRI!$S$4:$Z$368,2,0)","v":5},-14.375,0.6498084291187739,0.98376271920329073]
["17woMD",{"$f":"VLOOKUP($AA349,DATA!$B$3:$E$6,2,0)","v":"14:30:00"},{"$f":"VLOOKUP($AA349,DATA!$B$3:$E$6,3,0)","v":"22:30:00"},{"$f":"VLOOKUP($AA349,DATA!$B$3:$E$6,4,0)","v":3.125E-2},0.30208333333333337,0.18194444444444446,{"$f":"DATA!$C$9","v":0.89},{"$f":"DATA!$C$10","v":64},1,245.62500000000003,407.81250000000006,0.12013888888888889,162.1875,0.39770114942528728,0,"","",307.2,269,"",269,"",null,{"$f":"X352","v":17},null,{"$f":"TEXT(Y348,\"ddd\")","v":"wo"},"MD",{"$f":"IFERROR(HLOOKUP(Y348,[1]DATA!$A$1:$NB$5,4,0),\"\")","v":"D2"},173,null,19,288,{"$f":"VLOOKUP(Y348,[1]SRI!$S$4:$Z$368,3,0)","v":0},23.374999999999972,0.65961685823754779,1]
["17woND",{"$f":"VLOOKUP($AA350,DATA!$B$3:$E$6,2,0)","v":"22:30:00"},{"$f":"VLOOKUP($AA350,DATA!$B$3:$E$6,3,0)","v":"06:30:00"},{"$f":"VLOOKUP($AA350,DATA!$B$3:$E$6,4,0)","v":3.125E-2},0.30208333333333326,0.22499999999999992,{"$f":"DATA!$C$9","v":0.89},{"$f":"DATA!$C$10","v":64},1,303.74999999999989,407.81249999999989,7.7083333333333337E-2,104.0625,0.25517241379310351,0,"","",373.33333333333331,329,329,"","",null,{"$f":"X352","v":17},null,{"$f":"TEXT(Y348,\"ddd\")","v":"wo"},"ND",{"$f":"IFERROR(HLOOKUP(Y348,[1]DATA!$A$1:$NB$5,5,0),\"\")","v":"D1"},111,null,21,350,{"$f":"VLOOKUP(Y348,[1]SRI!$S$4:$Z$368,4,0)","v":3},25.250000000000114,0.80674329501915731,0.99202834366696191]
["17doDD",{"$f":"VLOOKUP($AA351,DATA!$B$3:$E$6,2,0)","v":"06:30:00"},{"$f":"VLOOKUP($AA351,DATA!$B$3:$E$6,3,0)","v":"14:30:00"},{"$f":"VLOOKUP($AA351,DATA!$B$3:$E$6,4,0)","v":3.125E-2},0.30208333333333331,0.23888888888888887,{"$f":"DATA!$C$9","v":0.89},{"$f":"DATA!$C$10","v":64},1,322.5,407.8125,6.3194444444444442E-2,85.3125,0.20919540229885059,0,"","",302.93333333333334,283,"","",283,null,{"$f":"X352","v":17},{"$f":"Y348+1","v":"2018-04-26"},{"$f":"TEXT(Y351,\"ddd\")","v":"do"},"DD",{"$f":"IFERROR(HLOOKUP(Y351,[1]DATA!$A$1:$NB$5,3,0),\"\")","v":"D3"},91,null,1,284,{"$f":"VLOOKUP(Y351,[1]SRI!$S$4:$Z$368,2,0)","v":5},-39.5,0.69394636015325672,0.98376271920329073]
["17doMD",{"$f":"VLOOKUP($AA352,DATA!$B$3:$E$6,2,0)","v":"14:30:00"},{"$f":"VLOOKUP($AA352,DATA!$B$3:$E$6,3,0)","v":"22:30:00"},{"$f":"VLOOKUP($AA352,DATA!$B$3:$E$6,4,0)","v":3.125E-2},0.30208333333333337,0.19236111111111115,{"$f":"DATA!$C$9","v":0.89},{"$f":"DATA!$C$10","v":64},1,259.68750000000006,407.81250000000006,0.10972222222222222,148.125,0.36321839080459767,0,"","",306.13333333333333,283,"",283,"",null,{"$f":"WEEKNUM($Y342)","v":17},null,{"$f":"TEXT(Y351,\"ddd\")","v":"do"},"MD",{"$f":"IFERROR(HLOOKUP(Y351,[1]DATA!$A$1:$NB$5,4,0),\"\")","v":"D2"},158,null,4,287,{"$f":"VLOOKUP(Y351,[1]SRI!$S$4:$Z$368,3,0)","v":2},23.312499999999943,0.69394636015325661,0.99350930333189091]
["17doND",{"$f":"VLOOKUP($AA353,DATA!$B$3:$E$6,2,0)","v":"22:30:00"},{"$f":"VLOOKUP($AA353,DATA!$B$3:$E$6,3,0)","v":"06:30:00"},{"$f":"VLOOKUP($AA353,DATA!$B$3:$E$6,4,0)","v":3.125E-2},0.30208333333333326,0.26874999999999993,{"$f":"DATA!$C$9","v":0.89},{"$f":"DATA!$C$10","v":64},1,362.81249999999989,407.81249999999989,3.3333333333333333E-2,45,0.11034482758620692,0,"","",364.8,331,331,"","",null,{"$f":"X352","v":17},null,{"$f":"TEXT(Y351,\"ddd\")","v":"do"},"ND",{"$f":"IFERROR(HLOOKUP(Y351,[1]DATA!$A$1:$NB$5,5,0),\"\")","v":"D1"},48,null,11,342,{"$f":"VLOOKUP(Y351,[1]SRI!$S$4:$Z$368,4,0)","v":0},-31.812499999999886,0.81164750957854426,1]
["17vrDD",{"$f":"VLOOKUP($AA354,DATA!$B$3:$E$6,2,0)","v":"06:30:00"},{"$f":"VLOOKUP($AA354,DATA!$B$3:$E$6,3,0)","v":"14:30:00"},{"$f":"VLOOKUP($AA354,DATA!$B$3:$E$6,4,0)","v":3.125E-2},0.30208333333333331,0.30208333333333331,{"$f":"DATA!$C$9","v":0.89},{"$f":"DATA!$C$10","v":64},1,407.8125,407.8125,0,"","",0,"","",0,"","","","",null,{"$f":"X352","v":17},{"$f":"Y351+1","v":"2018-04-27"},{"$f":"TEXT(Y354,\"ddd\")","v":"vr"},"DD",{"$f":"IFERROR(HLOOKUP(Y354,[1]DATA!$A$1:$NB$5,3,0),\"\")","v":"D3"},null,null,null,null,{"$f":"VLOOKUP(Y354,[1]SRI!$S$4:$Z$368,2,0)","v":0},"","",""]
["17vrMD",{"$f":"VLOOKUP($AA355,DATA!$B$3:$E$6,2,0)","v":"14:30:00"},{"$f":"VLOOKUP($AA355,DATA!$B$3:$E$6,3,0)","v":"22:30:00"},{"$f":"VLOOKUP($AA355,DATA!$B$3:$E$6,4,0)","v":3.125E-2},0.30208333333333337,0.30208333333333337,{"$f":"DATA!$C$9","v":0.89},{"$f":"DATA!$C$10","v":64},1,407.81250000000006,407.81250000000006,0,"","",0,"","",0,"","","","",null,{"$f":"X352","v":17},null,{"$f":"TEXT(Y354,\"ddd\")","v":"vr"},"MD",{"$f":"IFERROR(HLOOKUP(Y354,[1]DATA!$A$1:$NB$5,4,0),\"\")","v":"D2"},null,null,null,null,{"$f":"VLOOKUP(Y354,[1]SRI!$S$4:$Z$368,3,0)","v":0},"","",""]
["17vrND",{"$f":"VLOOKUP($AA356,DATA!$B$3:$E$6,2,0)","v":"22:30:00"},{"$f":"VLOOKUP($AA356,DATA!$B$3:$E$6,3,0)","v":"06:30:00"},{"$f":"VLOOKUP($AA356,DATA!$B$3:$E$6,4,0)","v":3.125E-2},0.30208333333333326,0.30208333333333326,{"$f":"DATA!$C$9","v":0.89},{"$f":"DATA!$C$10","v":64},1,407.81249999999989,407.81249999999989,0,"","",0,"","",0,"","","","",null,{"$f":"X352","v":17},null,{"$f":"TEXT(Y354,\"ddd\")","v":"vr"},"ND",{"$f":"IFERROR(HLOOKUP(Y354,[1]DATA!$A$1:$NB$5,5,0),\"\")","v":"D2"},null,null,null,null,{"$f":"VLOOKUP(Y354,[1]SRI!$S$4:$Z$368,4,0)","v":0},"","",""]
["17zaDD",{"$f":"VLOOKUP($AA357,DATA!$B$3:$E$6,2,0)","v":"06:30:00"},{"$f":"VLOOKUP($AA357,DATA!$B$3:$E$6,3,0)","v":"14:30:00"},{"$f":"VLOOKUP($AA357,DATA!$B$3:$E$6,4,0)","v":3.125E-2},0.30208333333333331,0.30208333333333331,{"$f":"DATA!$C$9","v":0.89},{"$f":"DATA!$C$10","v":64},1,407.8125,407.8125,0,"","",0,"","",0,"","","","",null,{"$f":"X352","v":17},{"$f":"Y354+1","v":"2018-04-28"},{"$f":"TEXT(Y357,\"ddd\")","v":"za"},"DD",{"$f":"IFERROR(HLOOKUP(Y357,[1]DATA!$A$1:$NB$5,3,0),\"\")","v":"D3"},null,null,null,null,{"$f":"VLOOKUP(Y357,[1]SRI!$S$4:$Z$368,2,0)","v":0},"","",""]
["17zaMD",{"$f":"VLOOKUP($AA358,DATA!$B$3:$E$6,2,0)","v":"14:30:00"},{"$f":"VLOOKUP($AA358,DATA!$B$3:$E$6,3,0)","v":"22:30:00"},{"$f":"VLOOKUP($AA358,DATA!$B$3:$E$6,4,0)","v":3.125E-2},0.30208333333333337,0.30208333333333337,{"$f":"DATA!$C$9","v":0.89},{"$f":"DATA!$C$10","v":64},1,407.81250000000006,407.81250000000006,0,"","",0,"","",0,"","","","",null,{"$f":"X352","v":17},null,{"$f":"TEXT(Y357,\"ddd\")","v":"za"},"MD",{"$f":"IFERROR(HLOOKUP(Y357,[1]DATA!$A$1:$NB$5,4,0),\"\")","v":"-"},null,null,null,null,{"$f":"VLOOKUP(Y357,[1]SRI!$S$4:$Z$368,3,0)","v":0},"","",""]
["17zaND",{"$f":"VLOOKUP($AA359,DATA!$B$3:$E$6,2,0)","v":"22:30:00"},{"$f":"VLOOKUP($AA359,DATA!$B$3:$E$6,3,0)","v":"06:30:00"},{"$f":"VLOOKUP($AA359,DATA!$B$3:$E$6,4,0)","v":3.125E-2},0.30208333333333326,0.30208333333333326,{"$f":"DATA!$C$9","v":0.89},{"$f":"DATA!$C$10","v":64},1,407.81249999999989,407.81249999999989,0,"","",0,"","",0,"","","","",null,{"$f":"X352","v":17},null,{"$f":"TEXT(Y357,\"ddd\")","v":"za"},"ND",{"$f":"IFERROR(HLOOKUP(Y357,[1]DATA!$A$1:$NB$5,5,0),\"\")","v":"-"},null,null,null,null,{"$f":"VLOOKUP(Y357,[1]SRI!$S$4:$Z$368,4,0)","v":0},"","",""]
["17zoDD",{"$f":"VLOOKUP($AA360,DATA!$B$3:$E$6,2,0)","v":"06:30:00"},{"$f":"VLOOKUP($AA360,DATA!$B$3:$E$6,3,0)","v":"14:30:00"},{"$f":"VLOOKUP($AA360,DATA!$B$3:$E$6,4,0)","v":3.125E-2},0.30208333333333331,0.30208333333333331,{"$f":"DATA!$C$9","v":0.89},{"$f":"DATA!$C$10","v":64},1,407.8125,407.8125,0,"","",0,"","",0,"","","","",null,{"$f":"X352","v":17},{"$f":"Y357+1","v":"2018-04-29"},{"$f":"TEXT(Y360,\"ddd\")","v":"zo"},"DD",{"$f":"IFERROR(HLOOKUP(Y360,[1]DATA!$A$1:$NB$5,3,0),\"\")","v":"-"},null,null,null,null,{"$f":"VLOOKUP(Y360,[1]SRI!$S$4:$Z$368,2,0)","v":0},"","",""]
["17zoMD",{"$f":"VLOOKUP($AA361,DATA!$B$3:$E$6,2,0)","v":"14:30:00"},{"$f":"VLOOKUP($AA361,DATA!$B$3:$E$6,3,0)","v":"22:30:00"},{"$f":"VLOOKUP($AA361,DATA!$B$3:$E$6,4,0)","v":3.125E-2},0.30208333333333337,0.30208333333333337,{"$f":"DATA!$C$9","v":0.89},{"$f":"DATA!$C$10","v":64},1,407.81250000000006,407.81250000000006,0,"","",0,"","",0,"","","","",null,{"$f":"X352","v":17},null,{"$f":"TEXT(Y360,\"ddd\")","v":"zo"},"MD",{"$f":"IFERROR(HLOOKUP(Y360,[1]DATA!$A$1:$NB$5,4,0),\"\")","v":"-"},null,null,null,null,{"$f":"VLOOKUP(Y360,[1]SRI!$S$4:$Z$368,3,0)","v":0},"","",""]
["17zoZND",{"$f":"VLOOKUP($AA362,DATA!$B$3:$E$6,2,0)","v":"00:00:00"},{"$f":"VLOOKUP($AA362,DATA!$B$3:$E$6,3,0)","v":"00:00:00"},{"$f":"VLOOKUP($AA362,DATA!$B$3:$E$6,4,0)","v":3.125E-2},-3.125E-2,-3.125E-2,{"$f":"DATA!$C$9","v":0.89},{"$f":"DATA!$C$10","v":64},1,-42.1875,-42.1875,0,"","",0,"","",0,"","","","",null,{"$f":"X352","v":17},null,{"$f":"TEXT(Y360,\"ddd\")","v":"zo"},"ZND",{"$f":"IFERROR(HLOOKUP(Y360,[1]DATA!$A$1:$NB$5,5,0),\"\")","v":"-"},null,null,null,null,{"$f":"VLOOKUP(Y360,[1]SRI!$S$4:$Z$368,4,0)","v":0},"","",""]
["18maDD",{"$f":"VLOOKUP($AA363,DATA!$B$3:$E$6,2,0)","v":"06:30:00"},{"$f":"VLOOKUP($AA363,DATA!$B$3:$E$6,3,0)","v":"14:30:00"},{"$f":"VLOOKUP($AA363,DATA!$B$3:$E$6,4,0)","v":3.125E-2},0.30208333333333331,0.18472222222222223,{"$f":"DATA!$C$9","v":0.89},{"$f":"DATA!$C$10","v":64},1,249.375,407.8125,0.1173611111111111,158.43749999999997,0.38850574712643671,{"$f":"TIME(INT($AD363/60),INT(MOD($AD363,60)/1),0)","v":0},"","",292.26666666666665,257,"",257,"",null,{"$f":"X373","v":18},{"$f":"Y360+1","v":"2018-04-30"},{"$f":"TEXT(Y363,\"ddd\")","v":"ma"},"DD",{"$f":"IFERROR(HLOOKUP(Y363,[1]DATA!$A$1:$NB$5,3,0),\"\")","v":"D2"},169,null,17,274,{"$f":"VLOOKUP(Y363,[1]SRI!$S$4:$Z$368,2,0)","v":7},7.625,0.63019157088122602,0.97660948986411222,{"$f":"IF(SUMIF(S363:S383,\">0\",K363:K383)=0,\"\",SUMIF(S363:S383,\">0\",K363:K383))","v":6525},{"$f":"IF(SUM(S363:S383)=0,\"\",SUM(S363:S383))","v":4773},{"$f":"IFERROR(AL363/AK363,\"-\")","v":0.73149425287356318},{"$f":"IF(SUM(M363:M383)=0,\"0\",SUM(M363:M383))","v":1425.9375},{"$f":"IFERROR(AN363/AK363,\"-\")","v":0.2185344827586207},{"$f":"IF(SUM(P363:P383)=0,0,SUM(P363:P383))","v":0},{"$f":"IFERROR(AP363/AK363,\"-\")","v":0},{"$f":"IFERROR(AVERAGE(AJ363:AJ383),\"-\")","v":0.97526133404446003},{"$f":"IFERROR(SUMIF($AB363:$AB383,AS$5,$AJ363:$AJ383)/COUNTIFS($AB363:$AB383,AS$5,$AJ363:$AJ383,\">0\"),\"\")","v":0.99332011592483627},0.9657391619474246,0.96862915868052679,{"$f":"IFERROR((AK363-AL363-AN363-AP363),\"-\")","v":326.0625},{"$f":"IFERROR((1-AM363-AO363-AQ363), \"-\")","v":4.9971264367816126E-2},{"$f":"IFERROR((AV363*$AE$2)/60,\"-\")","v":347.8},{"$f":"IFERROR(SUM(AG363:AG383),\"\")","v":134}]
["18maMD",{"$f":"VLOOKUP($AA364,DATA!$B$3:$E$6,2,0)","v":"14:30:00"},{"$f":"VLOOKUP($AA364,DATA!$B$3:$E$6,3,0)","v":"22:30:00"},{"$f":"VLOOKUP($AA364,DATA!$B$3:$E$6,4,0)","v":3.125E-2},0.30208333333333337,0.18541666666666673,{"$f":"DATA!$C$9","v":0.89},{"$f":"DATA!$C$10","v":64},1,250.31250000000009,407.81250000000006,0.11666666666666665,157.49999999999997,0.38620689655172402,{"$f":"TIME(INT(AD364/60),INT(MOD(AD364,60)/1),0)","v":0},"","",313.60000000000002,268,268,"","",null,{"$f":"X373","v":18},null,{"$f":"TEXT(Y363,\"ddd\")","v":"ma"},"MD",{"$f":"IFERROR(HLOOKUP(Y363,[1]DATA!$A$1:$NB$5,4,0),\"\")","v":"D1"},168,null,26,294,{"$f":"VLOOKUP(Y363,[1]SRI!$S$4:$Z$368,3,0)","v":2},17.687499999999915,0.65716475095785432,0.99366286438529783]
["18maND",{"$f":"VLOOKUP($AA365,DATA!$B$3:$E$6,2,0)","v":"22:30:00"},{"$f":"VLOOKUP($AA365,DATA!$B$3:$E$6,3,0)","v":"06:30:00"},{"$f":"VLOOKUP($AA365,DATA!$B$3:$E$6,4,0)","v":3.125E-2},0.30208333333333326,0.27083333333333326,{"$f":"DATA!$C$9","v":0.89},{"$f":"DATA!$C$10","v":64},1,365.62499999999989,407.81249999999989,3.125E-2,42.1875,0.10344827586206899,0,"","",380.8,344,"","",344,null,{"$f":"X373","v":18},null,{"$f":"TEXT(Y363,\"ddd\")","v":"ma"},"ND",{"$f":"IFERROR(HLOOKUP(Y363,[1]DATA!$A$1:$NB$5,5,0),\"\")","v":"D3"},45,null,13,357,{"$f":"VLOOKUP(Y363,[1]SRI!$S$4:$Z$368,4,0)","v":0},-21.624999999999886,0.84352490421455961,1]
["18diDD",{"$f":"VLOOKUP($AA366,DATA!$B$3:$E$6,2,0)","v":"06:30:00"},{"$f":"VLOOKUP($AA366,DATA!$B$3:$E$6,3,0)","v":"14:30:00"},{"$f":"VLOOKUP($AA366,DATA!$B$3:$E$6,4,0)","v":3.125E-2},0.30208333333333331,0.27013888888888887,{"$f":"DATA!$C$9","v":0.89},{"$f":"DATA!$C$10","v":64},1,364.6875,407.8125,3.1944444444444449E-2,43.125000000000007,0.10574712643678162,0,"","",373.33333333333331,334,"",334,"",null,{"$f":"X373","v":18},{"$f":"Y363+1","v":"2018-05-01"},{"$f":"TEXT(Y366,\"ddd\")","v":"di"},"DD",{"$f":"IFERROR(HLOOKUP(Y366,[1]DATA!$A$1:$NB$5,3,0),\"\")","v":"D2"},46,null,16,350,{"$f":"VLOOKUP(Y366,[1]SRI!$S$4:$Z$368,2,0)","v":3},-30.6875,0.81900383141762456,0.99202834366696191]
["18diMD",{"$f":"VLOOKUP($AA367,DATA!$B$3:$E$6,2,0)","v":"14:30:00"},{"$f":"VLOOKUP($AA367,DATA!$B$3:$E$6,3,0)","v":"22:30:00"},{"$f":"VLOOKUP($AA367,DATA!$B$3:$E$6,4,0)","v":3.125E-2},0.30208333333333337,0.2055555555555556,{"$f":"DATA!$C$9","v":0.89},{"$f":"DATA!$C$10","v":64},1,277.50000000000006,407.81250000000006,9.6527777777777768E-2,130.3125,0.31954022988505743,0,"","",326.39999999999998,278,278,"","",null,{"$f":"X373","v":18},null,{"$f":"TEXT(Y366,\"ddd\")","v":"di"},"MD",{"$f":"IFERROR(HLOOKUP(Y366,[1]DATA!$A$1:$NB$5,4,0),\"\")","v":"D1"},139,null,28,306,{"$f":"VLOOKUP(Y366,[1]SRI!$S$4:$Z$368,3,0)","v":0},0.49999999999994316,0.68168582375478914,1]
[{"$f":"X368&Z368&AA368","v":"18diND"},{"$f":"VLOOKUP($AA368,DATA!$B$3:$E$6,2,0)","v":"22:30:00"},{"$f":"VLOOKUP($AA368,DATA!$B$3:$E$6,3,0)","v":"06:30:00"},{"$f":"VLOOKUP($AA368,DATA!$B$3:$E$6,4,0)","v":3.125E-2},0.30208333333333326,0.29513888888888884,{"$f":"DATA!$C$9","v":0.89},{"$f":"DATA!$C$10","v":64},1,398.43749999999994,407.81249999999989,6.9444444444444441E-3,9.375,2.2988505747126443E-2,0,{"$f":"IF($O368*86400/$H368=0,\"\",$O368*86400/$H368)","v":""},"",373.33333333333331,336,"","",336,null,{"$f":"X373","v":18},null,{"$f":"TEXT(Y366,\"ddd\")","v":"di"},"ND",{"$f":"IFERROR(HLOOKUP(Y366,[1]DATA!$A$1:$NB$5,5,0),\"\")","v":"D3"},10,null,14,350,{"$f":"VLOOKUP(Y366,[1]SRI!$S$4:$Z$368,4,0)","v":5},-62.437499999999943,0.82390804597701173,0.986784140969163]
["18woDD",{"$f":"VLOOKUP($AA369,DATA!$B$3:$E$6,2,0)","v":"06:30:00"},{"$f":"VLOOKUP($AA369,DATA!$B$3:$E$6,3,0)","v":"14:30:00"},{"$f":"VLOOKUP($AA369,DATA!$B$3:$E$6,4,0)","v":3.125E-2},0.30208333333333331,0.24027777777777776,{"$f":"DATA!$C$9","v":0.89},{"$f":"DATA!$C$10","v":64},1,324.375,407.8125,6.1805555555555558E-2,83.4375,0.2045977011494253,0,"","",366.93333333333334,326,"",326,"",null,{"$f":"X373","v":18},{"$f":"Y366+1","v":"2018-05-02"},{"$f":"TEXT(Y369,\"ddd\")","v":"wo"},"DD",{"$f":"IFERROR(HLOOKUP(Y369,[1]DATA!$A$1:$NB$5,3,0),\"\")","v":"D2"},89,null,18,344,{"$f":"VLOOKUP(Y369,[1]SRI!$S$4:$Z$368,2,0)","v":4},1.625,0.79938697318007668,0.98921639108554993]
["18woMD",{"$f":"VLOOKUP($AA370,DATA!$B$3:$E$6,2,0)","v":"14:30:00"},{"$f":"VLOOKUP($AA370,DATA!$B$3:$E$6,3,0)","v":"22:30:00"},{"$f":"VLOOKUP($AA370,DATA!$B$3:$E$6,4,0)","v":3.125E-2},0.30208333333333337,0.23888888888888893,{"$f":"DATA!$C$9","v":0.89},{"$f":"DATA!$C$10","v":64},1,322.50000000000006,407.81250000000006,6.3194444444444442E-2,85.3125,0.20919540229885056,0,"","",393.6,350,350,"","",null,{"$f":"X373","v":18},null,{"$f":"TEXT(Y369,\"ddd\")","v":"wo"},"MD",{"$f":"IFERROR(HLOOKUP(Y369,[1]DATA!$A$1:$NB$5,4,0),\"\")","v":"D1"},91,null,19,369,{"$f":"VLOOKUP(Y369,[1]SRI!$S$4:$Z$368,3,0)","v":0},27.499999999999943,0.85823754789272022,1]
["18woND",{"$f":"VLOOKUP($AA371,DATA!$B$3:$E$6,2,0)","v":"22:30:00"},{"$f":"VLOOKUP($AA371,DATA!$B$3:$E$6,3,0)","v":"06:30:00"},{"$f":"VLOOKUP($AA371,DATA!$B$3:$E$6,4,0)","v":3.125E-2},0.30208333333333326,0.22986111111111102,{"$f":"DATA!$C$9","v":0.89},{"$f":"DATA!$C$10","v":64},1,310.31249999999989,407.81249999999989,7.2222222222222229E-2,97.500000000000014,0.23908045977011505,0,"","",308.26666666666665,281,"","",281,null,{"$f":"X373","v":18},null,{"$f":"TEXT(Y369,\"ddd\")","v":"wo"},"ND",{"$f":"IFERROR(HLOOKUP(Y369,[1]DATA!$A$1:$NB$5,5,0),\"\")","v":"D3"},104,null,8,289,{"$f":"VLOOKUP(Y369,[1]SRI!$S$4:$Z$368,4,0)","v":8},-29.312499999999886,0.68904214559386989,0.97470489038785835]
["18doDD",{"$f":"VLOOKUP($AA372,DATA!$B$3:$E$6,2,0)","v":"06:30:00"},{"$f":"VLOOKUP($AA372,DATA!$B$3:$E$6,3,0)","v":"14:30:00"},{"$f":"VLOOKUP($AA372,DATA!$B$3:$E$6,4,0)","v":3.125E-2},0.30208333333333331,0.2583333333333333,{"$f":"DATA!$C$9","v":0.89},{"$f":"DATA!$C$10","v":64},1,348.74999999999994,407.8125,4.3750000000000004E-2,59.062500000000007,0.14482758620689656,0,"","",373.33333333333331,336,"",336,"",null,{"$f":"X373","v":18},{"$f":"Y369+1","v":"2018-05-03"},{"$f":"TEXT(Y372,\"ddd\")","v":"do"},"DD",{"$f":"IFERROR(HLOOKUP(Y372,[1]DATA!$A$1:$NB$5,3,0),\"\")","v":"D2"},63,null,14,350,{"$f":"VLOOKUP(Y372,[1]SRI!$S$4:$Z$368,2,0)","v":10},-12.749999999999943,0.82390804597701151,0.97391304347826091]
["18doMD",{"$f":"VLOOKUP($AA373,DATA!$B$3:$E$6,2,0)","v":"14:30:00"},{"$f":"VLOOKUP($AA373,DATA!$B$3:$E$6,3,0)","v":"22:30:00"},{"$f":"VLOOKUP($AA373,DATA!$B$3:$E$6,4,0)","v":3.125E-2},0.30208333333333337,0.24444444444444449,{"$f":"DATA!$C$9","v":0.89},{"$f":"DATA!$C$10","v":64},1,330.00000000000006,407.81250000000006,5.7638888888888885E-2,77.8125,0.19080459770114941,0,"","",388.26666666666665,343,343,"","",null,{"$f":"WEEKNUM($Y363)","v":18},null,{"$f":"TEXT(Y372,\"ddd\")","v":"do"},"MD",{"$f":"IFERROR(HLOOKUP(Y372,[1]DATA!$A$1:$NB$5,4,0),\"\")","v":"D1"},83,null,21,364,{"$f":"VLOOKUP(Y372,[1]SRI!$S$4:$Z$368,3,0)","v":3},12.999999999999943,0.84107279693486581,0.99233259499062876]
["18doND",{"$f":"VLOOKUP($AA374,DATA!$B$3:$E$6,2,0)","v":"22:30:00"},{"$f":"VLOOKUP($AA374,DATA!$B$3:$E$6,3,0)","v":"06:30:00"},{"$f":"VLOOKUP($AA374,DATA!$B$3:$E$6,4,0)","v":3.125E-2},0.30208333333333326,0.24722222222222215,{"$f":"DATA!$C$9","v":0.89},{"$f":"DATA!$C$10","v":64},1,333.74999999999989,407.81249999999989,5.486111111111111E-2,74.0625,0.18160919540229889,0,"","",308.26666666666665,283,"","",283,null,{"$f":"X373","v":18},null,{"$f":"TEXT(Y372,\"ddd\")","v":"do"},"ND",{"$f":"IFERROR(HLOOKUP(Y372,[1]DATA!$A$1:$NB$5,5,0),\"\")","v":"D3"},79,null,6,289,{"$f":"VLOOKUP(Y372,[1]SRI!$S$4:$Z$368,4,0)","v":8},-50.749999999999886,0.69394636015325695,0.97470489038785835]
["18vrDD",{"$f":"VLOOKUP($AA375,DATA!$B$3:$E$6,2,0)","v":"06:30:00"},{"$f":"VLOOKUP($AA375,DATA!$B$3:$E$6,3,0)","v":"14:30:00"},{"$f":"VLOOKUP($AA375,DATA!$B$3:$E$6,4,0)","v":3.125E-2},0.30208333333333331,0.18194444444444441,{"$f":"DATA!$C$9","v":0.89},{"$f":"DATA!$C$10","v":64},1,245.62499999999994,407.8125,0.12013888888888889,162.1875,0.39770114942528734,0,"","",308.26666666666665,264,"",264,"",null,{"$f":"X373","v":18},{"$f":"Y372+1","v":"2018-05-04"},{"$f":"TEXT(Y375,\"ddd\")","v":"vr"},"DD",{"$f":"IFERROR(HLOOKUP(Y375,[1]DATA!$A$1:$NB$5,3,0),\"\")","v":"D2"},173,null,25,289,{"$f":"VLOOKUP(Y375,[1]SRI!$S$4:$Z$368,2,0)","v":3},18.375000000000057,0.64735632183908043,0.99036196187620473]
["18vrMD",{"$f":"VLOOKUP($AA376,DATA!$B$3:$E$6,2,0)","v":"14:30:00"},{"$f":"VLOOKUP($AA376,DATA!$B$3:$E$6,3,0)","v":"22:30:00"},{"$f":"VLOOKUP($AA376,DATA!$B$3:$E$6,4,0)","v":3.125E-2},0.30208333333333337,0.14375000000000004,{"$f":"DATA!$C$9","v":0.89},{"$f":"DATA!$C$10","v":64},1,194.06250000000006,407.81250000000006,0.15833333333333333,213.75,0.5241379310344827,0,"","",252.79999999999998,227,227,"","",null,{"$f":"X373","v":18},null,{"$f":"TEXT(Y375,\"ddd\")","v":"vr"},"MD",{"$f":"IFERROR(HLOOKUP(Y375,[1]DATA!$A$1:$NB$5,4,0),\"\")","v":"D1"},228,null,10,237,{"$f":"VLOOKUP(Y375,[1]SRI!$S$4:$Z$368,3,0)","v":5},32.937499999999943,0.55662835249042142,0.98060512024825452]
["18vrND",{"$f":"VLOOKUP($AA377,DATA!$B$3:$E$6,2,0)","v":"22:30:00"},{"$f":"VLOOKUP($AA377,DATA!$B$3:$E$6,3,0)","v":"06:30:00"},{"$f":"VLOOKUP($AA377,DATA!$B$3:$E$6,4,0)","v":3.125E-2},0.30208333333333326,0.27847222222222212,{"$f":"DATA!$C$9","v":0.89},{"$f":"DATA!$C$10","v":64},1,375.93749999999989,407.81249999999989,2.361111111111111E-2,31.875,7.8160919540229912E-2,0,"","",282.66666666666669,258,"","",258,null,{"$f":"X373","v":18},null,{"$f":"TEXT(Y375,\"ddd\")","v":"vr"},"ND",{"$f":"IFERROR(HLOOKUP(Y375,[1]DATA!$A$1:$NB$5,5,0),\"\")","v":"D3"},34,null,7,265,{"$f":"VLOOKUP(Y375,[1]SRI!$S$4:$Z$368,4,0)","v":29},-117.93749999999989,0.63264367816091971,0.90695187165775404]
["18zaDD",{"$f":"VLOOKUP($AA378,DATA!$B$3:$E$6,2,0)","v":"06:30:00"},{"$f":"VLOOKUP($AA378,DATA!$B$3:$E$6,3,0)","v":"14:30:00"},{"$f":"VLOOKUP($AA378,DATA!$B$3:$E$6,4,0)","v":3.125E-2},0.30208333333333331,0.30208333333333331,{"$f":"DATA!$C$9","v":0.89},{"$f":"DATA!$C$10","v":64},1,407.8125,407.8125,0,"","",0,"","",321.06666666666666,288,"",288,"",null,{"$f":"X373","v":18},{"$f":"Y375+1","v":"2018-05-05"},{"$f":"TEXT(Y378,\"ddd\")","v":"za"},"DD",{"$f":"IFERROR(HLOOKUP(Y378,[1]DATA!$A$1:$NB$5,3,0),\"\")","v":"D2"},0,null,13,301,{"$f":"VLOOKUP(Y378,[1]SRI!$S$4:$Z$368,2,0)","v":47},-119.8125,0.70620689655172408,0.87230574171345776]
["18zaMD",{"$f":"VLOOKUP($AA379,DATA!$B$3:$E$6,2,0)","v":"14:30:00"},{"$f":"VLOOKUP($AA379,DATA!$B$3:$E$6,3,0)","v":"22:30:00"},{"$f":"VLOOKUP($AA379,DATA!$B$3:$E$6,4,0)","v":3.125E-2},0.30208333333333337,0.30208333333333337,{"$f":"DATA!$C$9","v":0.89},{"$f":"DATA!$C$10","v":64},1,407.81250000000006,407.81250000000006,0,"","",0,"","",0,"","","","",null,{"$f":"X373","v":18},null,{"$f":"TEXT(Y378,\"ddd\")","v":"za"},"MD",{"$f":"IFERROR(HLOOKUP(Y378,[1]DATA!$A$1:$NB$5,4,0),\"\")","v":"-"},null,null,null,null,{"$f":"VLOOKUP(Y378,[1]SRI!$S$4:$Z$368,3,0)","v":0},"","",""]
["18zaND",{"$f":"VLOOKUP($AA380,DATA!$B$3:$E$6,2,0)","v":"22:30:00"},{"$f":"VLOOKUP($AA380,DATA!$B$3:$E$6,3,0)","v":"06:30:00"},{"$f":"VLOOKUP($AA380,DATA!$B$3:$E$6,4,0)","v":3.125E-2},0.30208333333333326,0.30208333333333326,{"$f":"DATA!$C$9","v":0.89},{"$f":"DATA!$C$10","v":64},1,407.81249999999989,407.81249999999989,0,"","",0,"","",0,"","","","",null,{"$f":"X373","v":18},null,{"$f":"TEXT(Y378,\"ddd\")","v":"za"},"ND",{"$f":"IFERROR(HLOOKUP(Y378,[1]DATA!$A$1:$NB$5,5,0),\"\")","v":"-"},null,null,null,null,{"$f":"VLOOKUP(Y378,[1]SRI!$S$4:$Z$368,4,0)","v":0},"","",""]
["18zoDD",{"$f":"VLOOKUP($AA381,DATA!$B$3:$E$6,2,0)","v":"06:30:00"},{"$f":"VLOOKUP($AA381,DATA!$B$3:$E$6,3,0)","v":"14:30:00"},{"$f":"VLOOKUP($AA381,DATA!$B$3:$E$6,4,0)","v":3.125E-2},0.30208333333333331,0.30208333333333331,{"$f":"DATA!$C$9","v":0.89},{"$f":"DATA!$C$10","v":64},1,407.8125,407.8125,0,"","",0,"","",0,"","","","",null,{"$f":"X373","v":18},{"$f":"Y378+1","v":"2018-05-06"},{"$f":"TEXT(Y381,\"ddd\")","v":"zo"},"DD",{"$f":"IFERROR(HLOOKUP(Y381,[1]DATA!$A$1:$NB$5,3,0),\"\")","v":"-"},null,null,null,null,{"$f":"VLOOKUP(Y381,[1]SRI!$S$4:$Z$368,2,0)","v":0},"","",""]
["18zoMD",{"$f":"VLOOKUP($AA382,DATA!$B$3:$E$6,2,0)","v":"14:30:00"},{"$f":"VLOOKUP($AA382,DATA!$B$3:$E$6,3,0)","v":"22:30:00"},{"$f":"VLOOKUP($AA382,DATA!$B$3:$E$6,4,0)","v":3.125E-2},0.30208333333333337,0.30208333333333337,{"$f":"DATA!$C$9","v":0.89},{"$f":"DATA!$C$10","v":64},1,407.81250000000006,407.81250000000006,0,"","",0,"","",0,"","","","",null,{"$f":"X373","v":18},null,{"$f":"TEXT(Y381,\"ddd\")","v":"zo"},"MD",{"$f":"IFERROR(HLOOKUP(Y381,[1]DATA!$A$1:$NB$5,4,0),\"\")","v":"-"},null,null,null,null,{"$f":"VLOOKUP(Y381,[1]SRI!$S$4:$Z$368,3,0)","v":0},"","",""]
["18zoZND",{"$f":"VLOOKUP($AA383,DATA!$B$3:$E$6,2,0)","v":"00:00:00"},{"$f":"VLOOKUP($AA383,DATA!$B$3:$E$6,3,0)","v":"00:00:00"},{"$f":"VLOOKUP($AA383,DATA!$B$3:$E$6,4,0)","v":3.125E-2},-3.125E-2,-3.125E-2,{"$f":"DATA!$C$9","v":0.89},{"$f":"DATA!$C$10","v":64},1,-42.1875,-42.1875,0,"","",0,"","",0,"","","","",null,{"$f":"X373","v":18},null,{"$f":"TEXT(Y381,\"ddd\")","v":"zo"},"ZND",{"$f":"IFERROR(HLOOKUP(Y381,[1]DATA!$A$1:$NB$5,5,0),\"\")","v":"-"},null,null,null,null,{"$f":"VLOOKUP(Y381,[1]SRI!$S$4:$Z$368,4,0)","v":0},"","",""]
["19maDD",{"$f":"VLOOKUP($AA384,DATA!$B$3:$E$6,2,0)","v":"06:30:00"},{"$f":"VLOOKUP($AA384,DATA!$B$3:$E$6,3,0)","v":"14:30:00"},{"$f":"VLOOKUP($AA384,DATA!$B$3:$E$6,4,0)","v":3.125E-2},0.30208333333333331,0.26944444444444443,{"$f":"DATA!$C$9","v":0.89},{"$f":"DATA!$C$10","v":64},1,363.75,407.8125,3.2638888888888891E-2,44.0625,0.10804597701149425,{"$f":"TIME(INT($AD384/60),INT(MOD($AD384,60)/1),0)","v":0},"","",326.39999999999998,296,296,"","",null,{"$f":"X394","v":19},{"$f":"Y381+1","v":"2018-05-07"},{"$f":"TEXT(Y384,\"ddd\")","v":"ma"},"DD",{"$f":"IFERROR(HLOOKUP(Y384,[1]DATA!$A$1:$NB$5,3,0),\"\")","v":"D1"},47,null,10,306,{"$f":"VLOOKUP(Y384,[1]SRI!$S$4:$Z$368,2,0)","v":84},-67.75,0.72582375478927208,0.79532163742690054,{"$f":"IF(SUMIF(S384:S404,\">0\",K384:K404)=0,\"\",SUMIF(S384:S404,\">0\",K384:K404))","v":5301.5625},{"$f":"IF(SUM(S384:S404)=0,\"\",SUM(S384:S404))","v":3788},{"$f":"IFERROR(AL384/AK384,\"-\")","v":0.71450633657530205},{"$f":"IF(SUM(M384:M404)=0,\"0\",SUM(M384:M404))","v":1576.875},{"$f":"IFERROR(AN384/AK384,\"-\")","v":0.29743589743589743},{"$f":"IF(SUM(P384:P404)=0,0,SUM(P384:P404))","v":0},{"$f":"IFERROR(AP384/AK384,\"-\")","v":0},{"$f":"IFERROR(AVERAGE(AJ384:AJ404),\"-\")","v":0.95693268720127955},{"$f":"IFERROR(SUMIF($AB384:$AB404,AS$5,$AJ384:$AJ404)/COUNTIFS($AB384:$AB404,AS$5,$AJ384:$AJ404,\">0\"),\"\")","v":0.94729291313810116},0.97151888837914191,0.9543962036023903,{"$f":"IFERROR((AK384-AL384-AN384-AP384),\"-\")","v":-63.3125},{"$f":"IFERROR((1-AM384-AO384-AQ384), \"-\")","v":-1.1942234011199482E-2},{"$f":"IFERROR((AV384*$AE$2)/60,\"-\")","v":-67.533333333333331},{"$f":"IFERROR(SUM(AG384:AG404),\"\")","v":204}]
["19maMD",{"$f":"VLOOKUP($AA385,DATA!$B$3:$E$6,2,0)","v":"14:30:00"},{"$f":"VLOOKUP($AA385,DATA!$B$3:$E$6,3,0)","v":"22:30:00"},{"$f":"VLOOKUP($AA385,DATA!$B$3:$E$6,4,0)","v":3.125E-2},0.30208333333333337,0.22708333333333336,{"$f":"DATA!$C$9","v":0.89},{"$f":"DATA!$C$10","v":64},1,306.56250000000006,407.81250000000006,7.4999999999999997E-2,101.25,0.24827586206896549,{"$f":"TIME(INT(AD385/60),INT(MOD(AD385,60)/1),0)","v":0},"","",323.2,292,"","",292,null,{"$f":"X394","v":19},null,{"$f":"TEXT(Y384,\"ddd\")","v":"ma"},"MD",{"$f":"IFERROR(HLOOKUP(Y384,[1]DATA!$A$1:$NB$5,4,0),\"\")","v":"D3"},108,null,11,303,{"$f":"VLOOKUP(Y384,[1]SRI!$S$4:$Z$368,3,0)","v":12},-14.562500000000057,0.71601532567049797,0.96420047732696901]
["19maND",{"$f":"VLOOKUP($AA386,DATA!$B$3:$E$6,2,0)","v":"22:30:00"},{"$f":"VLOOKUP($AA386,DATA!$B$3:$E$6,3,0)","v":"06:30:00"},{"$f":"VLOOKUP($AA386,DATA!$B$3:$E$6,4,0)","v":3.125E-2},0.30208333333333326,0.24513888888888882,{"$f":"DATA!$C$9","v":0.89},{"$f":"DATA!$C$10","v":64},1,330.93749999999989,407.81249999999989,5.6944444444444443E-2,76.875,0.18850574712643683,0,"","",362.66666666666669,319,"",319,"",null,{"$f":"X394","v":19},null,{"$f":"TEXT(Y384,\"ddd\")","v":"ma"},"ND",{"$f":"IFERROR(HLOOKUP(Y384,[1]DATA!$A$1:$NB$5,5,0),\"\")","v":"D2"},82,null,21,340,{"$f":"VLOOKUP(Y384,[1]SRI!$S$4:$Z$368,4,0)","v":0},-11.937499999999886,0.78222222222222249,1]
["19diDD",{"$f":"VLOOKUP($AA387,DATA!$B$3:$E$6,2,0)","v":"06:30:00"},{"$f":"VLOOKUP($AA387,DATA!$B$3:$E$6,3,0)","v":"14:30:00"},{"$f":"VLOOKUP($AA387,DATA!$B$3:$E$6,4,0)","v":3.125E-2},0.30208333333333331,0.23958333333333331,{"$f":"DATA!$C$9","v":0.89},{"$f":"DATA!$C$10","v":64},1,323.4375,407.8125,6.25E-2,84.375,0.20689655172413793,0,"","",366.93333333333334,335,335,"","",null,{"$f":"X394","v":19},{"$f":"Y384+1","v":"2018-05-08"},{"$f":"TEXT(Y387,\"ddd\")","v":"di"},"DD",{"$f":"IFERROR(HLOOKUP(Y387,[1]DATA!$A$1:$NB$5,3,0),\"\")","v":"D1"},90,null,9,344,{"$f":"VLOOKUP(Y387,[1]SRI!$S$4:$Z$368,2,0)","v":3},11.5625,0.82145593869731803,0.99189043070823568]
["19diMD",{"$f":"VLOOKUP($AA388,DATA!$B$3:$E$6,2,0)","v":"14:30:00"},{"$f":"VLOOKUP($AA388,DATA!$B$3:$E$6,3,0)","v":"22:30:00"},{"$f":"VLOOKUP($AA388,DATA!$B$3:$E$6,4,0)","v":3.125E-2},0.30208333333333337,0.19722222222222224,{"$f":"DATA!$C$9","v":0.89},{"$f":"DATA!$C$10","v":64},1,266.25,407.81250000000006,0.10486111111111111,141.5625,0.34712643678160915,0,"","",347.73333333333335,312,"","",312,null,{"$f":"X394","v":19},null,{"$f":"TEXT(Y387,\"ddd\")","v":"di"},"MD",{"$f":"IFERROR(HLOOKUP(Y387,[1]DATA!$A$1:$NB$5,4,0),\"\")","v":"D3"},151,null,14,326,{"$f":"VLOOKUP(Y387,[1]SRI!$S$4:$Z$368,3,0)","v":5},45.75,0.76505747126436774,0.98582498582498579]
["19diND",{"$f":"VLOOKUP($AA389,DATA!$B$3:$E$6,2,0)","v":"22:30:00"},{"$f":"VLOOKUP($AA389,DATA!$B$3:$E$6,3,0)","v":"06:30:00"},{"$f":"VLOOKUP($AA389,DATA!$B$3:$E$6,4,0)","v":3.125E-2},0.30208333333333326,0.21527777777777768,{"$f":"DATA!$C$9","v":0.89},{"$f":"DATA!$C$10","v":64},1,290.62499999999989,407.81249999999989,8.6805555555555566E-2,117.18750000000001,0.28735632183908055,0,"","",373.33333333333331,336,"",336,"",null,{"$f":"X394","v":19},null,{"$f":"TEXT(Y387,\"ddd\")","v":"di"},"ND",{"$f":"IFERROR(HLOOKUP(Y387,[1]DATA!$A$1:$NB$5,5,0),\"\")","v":"D2"},125,null,14,350,{"$f":"VLOOKUP(Y387,[1]SRI!$S$4:$Z$368,4,0)","v":5},45.375000000000114,0.82390804597701173,0.986784140969163]
["19woDD",{"$f":"VLOOKUP($AA390,DATA!$B$3:$E$6,2,0)","v":"06:30:00"},{"$f":"VLOOKUP($AA390,DATA!$B$3:$E$6,3,0)","v":"14:30:00"},{"$f":"VLOOKUP($AA390,DATA!$B$3:$E$6,4,0)","v":3.125E-2},0.30208333333333331,0.19999999999999996,{"$f":"DATA!$C$9","v":0.89},{"$f":"DATA!$C$10","v":64},1,{"$f":"F390*86400/H390*I390","v":269.99999999999994},{"$f":"E390*86400/H390","v":407.8125},0.10208333333333335,137.81250000000003,0.33793103448275869,0,"","",{"$f":"AF390*AG$2","v":341.33333333333331},{"$f":"IF(AF390-AE390=0,\"\",AF390-AE390)","v":306},306,"","",null,{"$f":"X394","v":19},{"$f":"Y387+1","v":"2018-05-09"},{"$f":"TEXT(Y390,\"ddd\")","v":"wo"},"DD",{"$f":"IFERROR(HLOOKUP(Y390,[1]DATA!$A$1:$NB$5,3,0),\"\")","v":"D1"},147,null,14,320,{"$f":"VLOOKUP(Y390,[1]SRI!$S$4:$Z$368,2,0)","v":4},{"$f":"IFERROR(S390-J390,\"\")","v":36.000000000000057},{"$f":"IFERROR(IF(S390/(E390*86400/H390)<=0,\"\",S390/(E390*86400/H390)),\"\")","v":0.75034482758620691},{"$f":"IFERROR(R390/(R390+AG390),\"\")","v":0.98841698841698844}]
["19woMD",{"$f":"VLOOKUP($AA391,DATA!$B$3:$E$6,2,0)","v":"14:30:00"},{"$f":"VLOOKUP($AA391,DATA!$B$3:$E$6,3,0)","v":"22:30:00"},{"$f":"VLOOKUP($AA391,DATA!$B$3:$E$6,4,0)","v":3.125E-2},0.30208333333333337,0.16180555555555559,{"$f":"DATA!$C$9","v":0.89},{"$f":"DATA!$C$10","v":64},1,218.43750000000006,407.81250000000006,{"$f":"TIME(INT($AC391/60),INT(MOD($AC391,60)/1),0)","v":0.14027777777777778},{"$f":"IF($L391*86400/$H391=0,\"\",$L391*86400/$H391)","v":189.375},{"$f":"IFERROR($M391/$K391,\"\")","v":0.46436781609195393},0,"",{"$f":"IFERROR($P391/$K391,\"\")","v":""},278.39999999999998,239,{"$f":"IF(IF($AB391=\"D1\",$S391,\"\")=0,\"\",IF($AB391=\"D1\",$S391,\"\"))","v":""},{"$f":"IF(IF($AB391=\"D2\",$S391,\"\")=0,\"\",IF($AB391=\"D2\",$S391,\"\"))","v":""},{"$f":"IF(IF($AB391=\"D3\",$S391,\"\")=0,\"\",IF($AB391=\"D3\",$S391,\"\"))","v":239},null,{"$f":"X394","v":19},null,{"$f":"TEXT(Y390,\"ddd\")","v":"wo"},"MD",{"$f":"IFERROR(HLOOKUP(Y390,[1]DATA!$A$1:$NB$5,4,0),\"\")","v":"D3"},202,null,22,261,{"$f":"VLOOKUP(Y390,[1]SRI!$S$4:$Z$368,3,0)","v":7},20.562499999999943,0.58605363984674319,0.97547302032235461]
["19woND",{"$f":"VLOOKUP($AA392,DATA!$B$3:$E$6,2,0)","v":"22:30:00"},{"$f":"VLOOKUP($AA392,DATA!$B$3:$E$6,3,0)","v":"06:30:00"},{"$f":"VLOOKUP($AA392,DATA!$B$3:$E$6,4,0)","v":3.125E-2},0.30208333333333326,0.22847222222222213,{"$f":"DATA!$C$9","v":0.89},{"$f":"DATA!$C$10","v":64},1,308.43749999999989,407.81249999999989,7.3611111111111113E-2,99.375,0.24367816091954031,0,"","",339.2,313,"",313,"",null,{"$f":"X394","v":19},null,{"$f":"TEXT(Y390,\"ddd\")","v":"wo"},"ND",{"$f":"IFERROR(HLOOKUP(Y390,[1]DATA!$A$1:$NB$5,5,0),\"\")","v":"D2"},106,null,5,318,{"$f":"VLOOKUP(Y390,[1]SRI!$S$4:$Z$368,4,0)","v":25},4.5625000000001137,0.76750957854406154,0.93135639758374522]
["19doDD",{"$f":"VLOOKUP($AA393,DATA!$B$3:$E$6,2,0)","v":"06:30:00"},{"$f":"VLOOKUP($AA393,DATA!$B$3:$E$6,3,0)","v":"14:30:00"},{"$f":"VLOOKUP($AA393,DATA!$B$3:$E$6,4,0)","v":3.125E-2},0.30208333333333331,0.30208333333333331,{"$f":"DATA!$C$9","v":0.89},{"$f":"DATA!$C$10","v":64},1,407.8125,407.8125,0,"","",0,"","",0,"","","","",null,{"$f":"X394","v":19},{"$f":"Y390+1","v":"2018-05-10"},{"$f":"TEXT(Y393,\"ddd\")","v":"do"},"DD",{"$f":"IFERROR(HLOOKUP(Y393,[1]DATA!$A$1:$NB$5,3,0),\"\")","v":"D1"},null,null,null,null,{"$f":"VLOOKUP(Y393,[1]SRI!$S$4:$Z$368,2,0)","v":0},"","",""]
["19doMD",{"$f":"VLOOKUP($AA394,DATA!$B$3:$E$6,2,0)","v":"14:30:00"},{"$f":"VLOOKUP($AA394,DATA!$B$3:$E$6,3,0)","v":"22:30:00"},{"$f":"VLOOKUP($AA394,DATA!$B$3:$E$6,4,0)","v":3.125E-2},0.30208333333333337,0.30208333333333337,{"$f":"DATA!$C$9","v":0.89},{"$f":"DATA!$C$10","v":64},1,407.81250000000006,407.81250000000006,0,"","",0,"","",0,"","","","",null,{"$f":"WEEKNUM($Y384)","v":19},null,{"$f":"TEXT(Y393,\"ddd\")","v":"do"},"MD",{"$f":"IFERROR(HLOOKUP(Y393,[1]DATA!$A$1:$NB$5,4,0),\"\")","v":"D3"},null,null,null,null,{"$f":"VLOOKUP(Y393,[1]SRI!$S$4:$Z$368,3,0)","v":0},"","",""]
["19doND",{"$f":"VLOOKUP($AA395,DATA!$B$3:$E$6,2,0)","v":"22:30:00"},{"$f":"VLOOKUP($AA395,DATA!$B$3:$E$6,3,0)","v":"06:30:00"},{"$f":"VLOOKUP($AA395,DATA!$B$3:$E$6,4,0)","v":3.125E-2},0.30208333333333326,0.30208333333333326,{"$f":"DATA!$C$9","v":0.89},{"$f":"DATA!$C$10","v":64},1,407.81249999999989,407.81249999999989,0,"","",0,"","",0,"","","","",null,{"$f":"X394","v":19},null,{"$f":"TEXT(Y393,\"ddd\")","v":"do"},"ND",{"$f":"IFERROR(HLOOKUP(Y393,[1]DATA!$A$1:$NB$5,5,0),\"\")","v":"D2"},null,null,null,null,{"$f":"VLOOKUP(Y393,[1]SRI!$S$4:$Z$368,4,0)","v":0},"","",""]
["19vrDD",{"$f":"VLOOKUP($AA396,DATA!$B$3:$E$6,2,0)","v":"06:30:00"},{"$f":"VLOOKUP($AA396,DATA!$B$3:$E$6,3,0)","v":"14:30:00"},{"$f":"VLOOKUP($AA396,DATA!$B$3:$E$6,4,0)","v":3.125E-2},0.30208333333333331,0.14930555555555555,{"$f":"DATA!$C$9","v":0.89},{"$f":"DATA!$C$10","v":64},1,201.5625,407.8125,0.15277777777777776,206.24999999999997,0.50574712643678155,0,"","",220.79999999999998,185,185,"","",null,{"$f":"X394","v":19},{"$f":"Y393+1","v":"2018-05-11"},{"$f":"TEXT(Y396,\"ddd\")","v":"vr"},"DD",{"$f":"IFERROR(HLOOKUP(Y396,[1]DATA!$A$1:$NB$5,3,0),\"\")","v":"D1"},220,null,22,207,{"$f":"VLOOKUP(Y396,[1]SRI!$S$4:$Z$368,2,0)","v":9},-16.5625,0.45363984674329499,0.96083550913838123]
["19vrMD",{"$f":"VLOOKUP($AA397,DATA!$B$3:$E$6,2,0)","v":"14:30:00"},{"$f":"VLOOKUP($AA397,DATA!$B$3:$E$6,3,0)","v":"22:30:00"},{"$f":"VLOOKUP($AA397,DATA!$B$3:$E$6,4,0)","v":3.125E-2},0.30208333333333337,0.20277777777777783,{"$f":"DATA!$C$9","v":0.89},{"$f":"DATA!$C$10","v":64},1,273.75000000000006,407.81250000000006,9.930555555555555E-2,134.0625,0.328735632183908,0,"","",330.66666666666669,289,"","",289,null,{"$f":"X394","v":19},null,{"$f":"TEXT(Y396,\"ddd\")","v":"vr"},"MD",{"$f":"IFERROR(HLOOKUP(Y396,[1]DATA!$A$1:$NB$5,4,0),\"\")","v":"D3"},143,null,21,310,{"$f":"VLOOKUP(Y396,[1]SRI!$S$4:$Z$368,3,0)","v":40},15.249999999999943,0.70865900383141756,0.8920863309352518]
["19vrND",{"$f":"VLOOKUP($AA398,DATA!$B$3:$E$6,2,0)","v":"22:30:00"},{"$f":"VLOOKUP($AA398,DATA!$B$3:$E$6,3,0)","v":"06:30:00"},{"$f":"VLOOKUP($AA398,DATA!$B$3:$E$6,4,0)","v":3.125E-2},0.30208333333333326,0.21041666666666659,{"$f":"DATA!$C$9","v":0.89},{"$f":"DATA!$C$10","v":64},1,284.06249999999989,407.81249999999989,9.1666666666666674E-2,123.75000000000001,0.30344827586206907,0,"","",301.86666666666667,271,"",271,"",null,{"$f":"X394","v":19},null,{"$f":"TEXT(Y396,\"ddd\")","v":"vr"},"ND",{"$f":"IFERROR(HLOOKUP(Y396,[1]DATA!$A$1:$NB$5,5,0),\"\")","v":"D2"},132,null,12,283,{"$f":"VLOOKUP(Y396,[1]SRI!$S$4:$Z$368,4,0)","v":10},-13.062499999999886,0.66452107279693506,0.96793501496365963]
["19zaDD",{"$f":"VLOOKUP($AA399,DATA!$B$3:$E$6,2,0)","v":"06:30:00"},{"$f":"VLOOKUP($AA399,DATA!$B$3:$E$6,3,0)","v":"14:30:00"},{"$f":"VLOOKUP($AA399,DATA!$B$3:$E$6,4,0)","v":3.125E-2},0.30208333333333331,0.21249999999999997,{"$f":"DATA!$C$9","v":0.89},{"$f":"DATA!$C$10","v":64},1,286.87499999999994,407.8125,8.9583333333333334E-2,120.9375,0.29655172413793102,0,"","",328.5333333333333,295,295,"","",null,{"$f":"X394","v":19},{"$f":"Y396+1","v":"2018-05-12"},{"$f":"TEXT(Y399,\"ddd\")","v":"za"},"DD",{"$f":"IFERROR(HLOOKUP(Y399,[1]DATA!$A$1:$NB$5,3,0),\"\")","v":"D1"},129,null,13,308,{"$f":"VLOOKUP(Y399,[1]SRI!$S$4:$Z$368,2,0)","v":0},8.1250000000000568,0.7233716475095785,1]
["19zaMD",{"$f":"VLOOKUP($AA400,DATA!$B$3:$E$6,2,0)","v":"14:30:00"},{"$f":"VLOOKUP($AA400,DATA!$B$3:$E$6,3,0)","v":"22:30:00"},{"$f":"VLOOKUP($AA400,DATA!$B$3:$E$6,4,0)","v":3.125E-2},0.30208333333333337,0.30208333333333337,{"$f":"DATA!$C$9","v":0.89},{"$f":"DATA!$C$10","v":64},1,407.81250000000006,407.81250000000006,0,"","",0,"","",0,"","","","",null,{"$f":"X394","v":19},null,{"$f":"TEXT(Y399,\"ddd\")","v":"za"},"MD",{"$f":"IFERROR(HLOOKUP(Y399,[1]DATA!$A$1:$NB$5,4,0),\"\")","v":"-"},null,null,null,null,{"$f":"VLOOKUP(Y399,[1]SRI!$S$4:$Z$368,3,0)","v":0},"","",""]
["19zaND",{"$f":"VLOOKUP($AA401,DATA!$B$3:$E$6,2,0)","v":"22:30:00"},{"$f":"VLOOKUP($AA401,DATA!$B$3:$E$6,3,0)","v":"06:30:00"},{"$f":"VLOOKUP($AA401,DATA!$B$3:$E$6,4,0)","v":3.125E-2},0.30208333333333326,0.30208333333333326,{"$f":"DATA!$C$9","v":0.89},{"$f":"DATA!$C$10","v":64},1,407.81249999999989,407.81249999999989,0,"","",0,"","",0,"","","","",null,{"$f":"X394","v":19},null,{"$f":"TEXT(Y399,\"ddd\")","v":"za"},"ND",{"$f":"IFERROR(HLOOKUP(Y399,[1]DATA!$A$1:$NB$5,5,0),\"\")","v":"-"},null,null,null,null,{"$f":"VLOOKUP(Y399,[1]SRI!$S$4:$Z$368,4,0)","v":0},"","",""]
["19zoDD",{"$f":"VLOOKUP($AA402,DATA!$B$3:$E$6,2,0)","v":"06:30:00"},{"$f":"VLOOKUP($AA402,DATA!$B$3:$E$6,3,0)","v":"14:30:00"},{"$f":"VLOOKUP($AA402,DATA!$B$3:$E$6,4,0)","v":3.125E-2},0.30208333333333331,0.30208333333333331,{"$f":"DATA!$C$9","v":0.89},{"$f":"DATA!$C$10","v":64},1,407.8125,407.8125,0,"","",0,"","",0,"","","","",null,{"$f":"X394","v":19},{"$f":"Y399+1","v":"2018-05-13"},{"$f":"TEXT(Y402,\"ddd\")","v":"zo"},"DD",{"$f":"IFERROR(HLOOKUP(Y402,[1]DATA!$A$1:$NB$5,3,0),\"\")","v":"-"},null,null,null,null,{"$f":"VLOOKUP(Y402,[1]SRI!$S$4:$Z$368,2,0)","v":0},"","",""]
["19zoMD",{"$f":"VLOOKUP($AA403,DATA!$B$3:$E$6,2,0)","v":"14:30:00"},{"$f":"VLOOKUP($AA403,DATA!$B$3:$E$6,3,0)","v":"22:30:00"},{"$f":"VLOOKUP($AA403,DATA!$B$3:$E$6,4,0)","v":3.125E-2},0.30208333333333337,0.30208333333333337,{"$f":"DATA!$C$9","v":0.89},{"$f":"DATA!$C$10","v":64},1,407.81250000000006,407.81250000000006,0,"","",0,"","",0,"","","","",null,{"$f":"X394","v":19},null,{"$f":"TEXT(Y402,\"ddd\")","v":"zo"},"MD",{"$f":"IFERROR(HLOOKUP(Y402,[1]DATA!$A$1:$NB$5,4,0),\"\")","v":"-"},null,null,null,null,{"$f":"VLOOKUP(Y402,[1]SRI!$S$4:$Z$368,3,0)","v":0},"","",""]
["19zoZND",{"$f":"VLOOKUP($AA404,DATA!$B$3:$E$6,2,0)","v":"00:00:00"},{"$f":"VLOOKUP($AA404,DATA!$B$3:$E$6,3,0)","v":"00:00:00"},{"$f":"VLOOKUP($AA404,DATA!$B$3:$E$6,4,0)","v":3.125E-2},-3.125E-2,-3.125E-2,{"$f":"DATA!$C$9","v":0.89},{"$f":"DATA!$C$10","v":64},1,-42.1875,-42.1875,0,"","",0,"","",0,"","","","",null,{"$f":"X394","v":19},null,{"$f":"TEXT(Y402,\"ddd\")","v":"zo"},"ZND",{"$f":"IFERROR(HLOOKUP(Y402,[1]DATA!$A$1:$NB$5,5,0),\"\")","v":"-"},null,null,null,null,{"$f":"VLOOKUP(Y402,[1]SRI!$S$4:$Z$368,4,0)","v":0},"","",""]
["20maDD",{"$f":"VLOOKUP($AA405,DATA!$B$3:$E$6,2,0)","v":"06:30:00"},{"$f":"VLOOKUP($AA405,DATA!$B$3:$E$6,3,0)","v":"14:30:00"},{"$f":"VLOOKUP($AA405,DATA!$B$3:$E$6,4,0)","v":3.125E-2},0.30208333333333331,0.25763888888888886,{"$f":"DATA!$C$9","v":0.89},{"$f":"DATA!$C$10","v":64},1,347.81249999999994,407.8125,4.4444444444444446E-2,60,0.14712643678160919,{"$f":"TIME(INT($AD405/60),INT(MOD($AD405,60)/1),0)","v":0},"","",334.93333333333334,302,"","",302,null,{"$f":"X415","v":20},{"$f":"Y402+1","v":"2018-05-14"},{"$f":"TEXT(Y405,\"ddd\")","v":"ma"},"DD",{"$f":"IFERROR(HLOOKUP(Y405,[1]DATA!$A$1:$NB$5,3,0),\"\")","v":"D3"},64,null,12,314,{"$f":"VLOOKUP(Y405,[1]SRI!$S$4:$Z$368,2,0)","v":21},-45.812499999999943,0.74053639846743291,0.94100018730099266,{"$f":"IF(SUMIF(S405:S425,\">0\",K405:K425)=0,\"\",SUMIF(S405:S425,\">0\",K405:K425))","v":6525},{"$f":"IF(SUM(S405:S425)=0,\"\",SUM(S405:S425))","v":4611},{"$f":"IFERROR(AL405/AK405,\"-\")","v":0.70666666666666667},{"$f":"IF(SUM(M405:M425)=0,\"0\",SUM(M405:M425))","v":1570.3125},{"$f":"IFERROR(AN405/AK405,\"-\")","v":0.24066091954022989},{"$f":"IF(SUM(P405:P425)=0,0,SUM(P405:P425))","v":0},{"$f":"IFERROR(AP405/AK405,\"-\")","v":0},{"$f":"IFERROR(AVERAGE(AJ405:AJ425),\"-\")","v":0.97145037101744058},{"$f":"IFERROR(SUMIF($AB405:$AB425,AS$5,$AJ405:$AJ425)/COUNTIFS($AB405:$AB425,AS$5,$AJ405:$AJ425,\">0\"),\"\")","v":0.96095694360641659},0.97228538666489894,0.97761097364399818,{"$f":"IFERROR((AK405-AL405-AN405-AP405),\"-\")","v":343.6875},{"$f":"IFERROR((1-AM405-AO405-AQ405), \"-\")","v":5.2672413793103445E-2},{"$f":"IFERROR((AV405*$AE$2)/60,\"-\")","v":366.6},{"$f":"IFERROR(SUM(AG405:AG425),\"\")","v":174}]
["20maMD",{"$f":"VLOOKUP($AA406,DATA!$B$3:$E$6,2,0)","v":"14:30:00"},{"$f":"VLOOKUP($AA406,DATA!$B$3:$E$6,3,0)","v":"22:30:00"},{"$f":"VLOOKUP($AA406,DATA!$B$3:$E$6,4,0)","v":3.125E-2},0.30208333333333337,0.27638888888888891,{"$f":"DATA!$C$9","v":0.89},{"$f":"DATA!$C$10","v":64},1,373.125,407.81250000000006,2.5694444444444447E-2,34.6875,8.5057471264367801E-2,{"$f":"TIME(INT(AD406/60),INT(MOD(AD406,60)/1),0)","v":0},"","",384,341,"",341,"",null,{"$f":"X415","v":20},null,{"$f":"TEXT(Y405,\"ddd\")","v":"ma"},"MD",{"$f":"IFERROR(HLOOKUP(Y405,[1]DATA!$A$1:$NB$5,4,0),\"\")","v":"D2"},37,null,19,360,{"$f":"VLOOKUP(Y405,[1]SRI!$S$4:$Z$368,3,0)","v":5},-32.125,0.83616858237547886,0.98714652956298199]
["20maND",{"$f":"VLOOKUP($AA407,DATA!$B$3:$E$6,2,0)","v":"22:30:00"},{"$f":"VLOOKUP($AA407,DATA!$B$3:$E$6,3,0)","v":"06:30:00"},{"$f":"VLOOKUP($AA407,DATA!$B$3:$E$6,4,0)","v":3.125E-2},0.30208333333333326,0.21736111111111106,{"$f":"DATA!$C$9","v":0.89},{"$f":"DATA!$C$10","v":64},1,293.43749999999994,407.81249999999989,8.4722222222222213E-2,114.37499999999999,0.28045977011494255,0,"","",310.39999999999998,285,285,"","",null,{"$f":"X415","v":20},null,{"$f":"TEXT(Y405,\"ddd\")","v":"ma"},"ND",{"$f":"IFERROR(HLOOKUP(Y405,[1]DATA!$A$1:$NB$5,5,0),\"\")","v":"D1"},122,null,6,291,{"$f":"VLOOKUP(Y405,[1]SRI!$S$4:$Z$368,4,0)","v":3},-8.4374999999999432,0.69885057471264389,0.99042756860242498]
["20diDD",{"$f":"VLOOKUP($AA408,DATA!$B$3:$E$6,2,0)","v":"06:30:00"},{"$f":"VLOOKUP($AA408,DATA!$B$3:$E$6,3,0)","v":"14:30:00"},{"$f":"VLOOKUP($AA408,DATA!$B$3:$E$6,4,0)","v":3.125E-2},0.30208333333333331,0.24791666666666665,{"$f":"DATA!$C$9","v":0.89},{"$f":"DATA!$C$10","v":64},1,334.6875,407.8125,5.4166666666666669E-2,73.125,0.1793103448275862,0,"","",310.39999999999998,280,"","",280,null,{"$f":"X415","v":20},{"$f":"Y405+1","v":"2018-05-15"},{"$f":"TEXT(Y408,\"ddd\")","v":"di"},"DD",{"$f":"IFERROR(HLOOKUP(Y408,[1]DATA!$A$1:$NB$5,3,0),\"\")","v":"D3"},78,null,11,291,{"$f":"VLOOKUP(Y408,[1]SRI!$S$4:$Z$368,2,0)","v":20},-54.6875,0.6865900383141762,0.93946731234866832]
["20diMD",{"$f":"VLOOKUP($AA409,DATA!$B$3:$E$6,2,0)","v":"14:30:00"},{"$f":"VLOOKUP($AA409,DATA!$B$3:$E$6,3,0)","v":"22:30:00"},{"$f":"VLOOKUP($AA409,DATA!$B$3:$E$6,4,0)","v":3.125E-2},0.30208333333333337,0.30208333333333337,{"$f":"DATA!$C$9","v":0.89},{"$f":"DATA!$C$10","v":64},1,407.81250000000006,407.81250000000006,0,"","",0,"","",393.6,334,"",334,"",null,{"$f":"X415","v":20},null,{"$f":"TEXT(Y408,\"ddd\")","v":"di"},"MD",{"$f":"IFERROR(HLOOKUP(Y408,[1]DATA!$A$1:$NB$5,4,0),\"\")","v":"D2"},0,null,35,369,{"$f":"VLOOKUP(Y408,[1]SRI!$S$4:$Z$368,3,0)","v":50},-73.812500000000057,0.81900383141762445,0.88728584310189362]
["20diND",{"$f":"VLOOKUP($AA410,DATA!$B$3:$E$6,2,0)","v":"22:30:00"},{"$f":"VLOOKUP($AA410,DATA!$B$3:$E$6,3,0)","v":"06:30:00"},{"$f":"VLOOKUP($AA410,DATA!$B$3:$E$6,4,0)","v":3.125E-2},0.30208333333333326,0.2631944444444444,{"$f":"DATA!$C$9","v":0.89},{"$f":"DATA!$C$10","v":64},1,355.31249999999994,407.81249999999989,3.888888888888889E-2,52.5,0.12873563218390807,0,"","",358.4,324,324,"","",null,{"$f":"X415","v":20},null,{"$f":"TEXT(Y408,\"ddd\")","v":"di"},"ND",{"$f":"IFERROR(HLOOKUP(Y408,[1]DATA!$A$1:$NB$5,5,0),\"\")","v":"D1"},56,null,12,336,{"$f":"VLOOKUP(Y408,[1]SRI!$S$4:$Z$368,4,0)","v":15},-31.312499999999943,0.79448275862068984,0.95982860203535081]
["20woDD",{"$f":"VLOOKUP($AA411,DATA!$B$3:$E$6,2,0)","v":"06:30:00"},{"$f":"VLOOKUP($AA411,DATA!$B$3:$E$6,3,0)","v":"14:30:00"},{"$f":"VLOOKUP($AA411,DATA!$B$3:$E$6,4,0)","v":3.125E-2},0.30208333333333331,0.21249999999999997,{"$f":"DATA!$C$9","v":0.89},{"$f":"DATA!$C$10","v":64},1,286.87499999999994,407.8125,8.9583333333333334E-2,120.9375,0.29655172413793102,0,"","",302.93333333333334,267,"","",267,null,{"$f":"X415","v":20},{"$f":"Y408+1","v":"2018-05-16"},{"$f":"TEXT(Y411,\"ddd\")","v":"wo"},"DD",{"$f":"IFERROR(HLOOKUP(Y411,[1]DATA!$A$1:$NB$5,3,0),\"\")","v":"D3"},129,null,17,284,{"$f":"VLOOKUP(Y411,[1]SRI!$S$4:$Z$368,2,0)","v":0},-19.874999999999943,0.65471264367816095,1]
["20woMD",{"$f":"VLOOKUP($AA412,DATA!$B$3:$E$6,2,0)","v":"14:30:00"},{"$f":"VLOOKUP($AA412,DATA!$B$3:$E$6,3,0)","v":"22:30:00"},{"$f":"VLOOKUP($AA412,DATA!$B$3:$E$6,4,0)","v":3.125E-2},{"$f":"(C412-B412+(B412>C412))-D412","v":0.30208333333333337},{"$f":"E412-O412-L412","v":0.24652777777777782},{"$f":"DATA!$C$9","v":0.89},{"$f":"DATA!$C$10","v":64},1,332.81250000000006,407.81250000000006,5.5555555555555552E-2,75,0.18390804597701146,0,"","",354.13333333333333,318,"",318,"",null,{"$f":"X415","v":20},null,{"$f":"TEXT(Y411,\"ddd\")","v":"wo"},"MD",{"$f":"IFERROR(HLOOKUP(Y411,[1]DATA!$A$1:$NB$5,4,0),\"\")","v":"D2"},80,null,14,332,{"$f":"VLOOKUP(Y411,[1]SRI!$S$4:$Z$368,3,0)","v":3},-14.812500000000057,0.77977011494252868,0.99159977599402649]
["20woND",{"$f":"VLOOKUP($AA413,DATA!$B$3:$E$6,2,0)","v":"22:30:00"},{"$f":"VLOOKUP($AA413,DATA!$B$3:$E$6,3,0)","v":"06:30:00"},{"$f":"VLOOKUP($AA413,DATA!$B$3:$E$6,4,0)","v":3.125E-2},0.30208333333333326,0.27708333333333324,{"$f":"DATA!$C$9","v":0.89},{"$f":"DATA!$C$10","v":64},1,374.06249999999989,407.81249999999989,2.4999999999999998E-2,33.75,8.2758620689655199E-2,0,"","",369.06666666666666,335,335,"","",null,{"$f":"X415","v":20},null,{"$f":"TEXT(Y411,\"ddd\")","v":"wo"},"ND",{"$f":"IFERROR(HLOOKUP(Y411,[1]DATA!$A$1:$NB$5,5,0),\"\")","v":"D1"},36,null,11,346,{"$f":"VLOOKUP(Y411,[1]SRI!$S$4:$Z$368,4,0)","v":38},-39.062499999999886,0.82145593869731826,0.90664919751064521]
["20doDD",{"$f":"VLOOKUP($AA414,DATA!$B$3:$E$6,2,0)","v":"06:30:00"},{"$f":"VLOOKUP($AA414,DATA!$B$3:$E$6,3,0)","v":"14:30:00"},{"$f":"VLOOKUP($AA414,DATA!$B$3:$E$6,4,0)","v":3.125E-2},0.30208333333333331,0.16597222222222222,{"$f":"DATA!$C$9","v":0.89},{"$f":"DATA!$C$10","v":64},1,224.0625,407.8125,0.1361111111111111,183.74999999999997,0.4505747126436781,0,"","",266.66666666666669,240,"","",240,null,{"$f":"X415","v":20},{"$f":"Y411+1","v":"2018-05-17"},{"$f":"TEXT(Y414,\"ddd\")","v":"do"},"DD",{"$f":"IFERROR(HLOOKUP(Y414,[1]DATA!$A$1:$NB$5,3,0),\"\")","v":"D3"},196,null,10,250,{"$f":"VLOOKUP(Y414,[1]SRI!$S$4:$Z$368,2,0)","v":0},15.9375,0.58850574712643677,1]
["20doMD",{"$f":"VLOOKUP($AA415,DATA!$B$3:$E$6,2,0)","v":"14:30:00"},{"$f":"VLOOKUP($AA415,DATA!$B$3:$E$6,3,0)","v":"22:30:00"},{"$f":"VLOOKUP($AA415,DATA!$B$3:$E$6,4,0)","v":3.125E-2},0.30208333333333337,0.20069444444444445,{"$f":"DATA!$C$9","v":0.89},{"$f":"DATA!$C$10","v":64},1,270.9375,407.81250000000006,0.1013888888888889,136.87500000000003,0.335632183908046,0,"","",301.86666666666667,271,"",271,"",null,{"$f":"WEEKNUM($Y405)","v":20},null,{"$f":"TEXT(Y414,\"ddd\")","v":"do"},"MD",{"$f":"IFERROR(HLOOKUP(Y414,[1]DATA!$A$1:$NB$5,4,0),\"\")","v":"D2"},146,null,12,283,{"$f":"VLOOKUP(Y414,[1]SRI!$S$4:$Z$368,3,0)","v":0},6.25E-2,0.66452107279693473,1]
["20doND",{"$f":"VLOOKUP($AA416,DATA!$B$3:$E$6,2,0)","v":"22:30:00"},{"$f":"VLOOKUP($AA416,DATA!$B$3:$E$6,3,0)","v":"06:30:00"},{"$f":"VLOOKUP($AA416,DATA!$B$3:$E$6,4,0)","v":3.125E-2},0.30208333333333326,0.19305555555555548,{"$f":"DATA!$C$9","v":0.89},{"$f":"DATA!$C$10","v":64},1,260.62499999999989,407.81249999999989,0.10902777777777778,147.1875,0.36091954022988515,0,"","",301.86666666666667,277,277,"","",null,{"$f":"X415","v":20},null,{"$f":"TEXT(Y414,\"ddd\")","v":"do"},"ND",{"$f":"IFERROR(HLOOKUP(Y414,[1]DATA!$A$1:$NB$5,5,0),\"\")","v":"D1"},157,null,6,283,{"$f":"VLOOKUP(Y414,[1]SRI!$S$4:$Z$368,4,0)","v":4},16.375000000000114,0.67923371647509601,0.98692240627724503]
["20vrDD",{"$f":"VLOOKUP($AA417,DATA!$B$3:$E$6,2,0)","v":"06:30:00"},{"$f":"VLOOKUP($AA417,DATA!$B$3:$E$6,3,0)","v":"14:30:00"},{"$f":"VLOOKUP($AA417,DATA!$B$3:$E$6,4,0)","v":3.125E-2},0.30208333333333331,0.2583333333333333,{"$f":"DATA!$C$9","v":0.89},{"$f":"DATA!$C$10","v":64},1,348.74999999999994,407.8125,4.3750000000000004E-2,59.062500000000007,0.14482758620689656,0,"","",332.8,303,"","",303,null,{"$f":"X415","v":20},{"$f":"Y414+1","v":"2018-05-18"},{"$f":"TEXT(Y417,\"ddd\")","v":"vr"},"DD",{"$f":"IFERROR(HLOOKUP(Y417,[1]DATA!$A$1:$NB$5,3,0),\"\")","v":"D3"},63,null,9,312,{"$f":"VLOOKUP(Y417,[1]SRI!$S$4:$Z$368,2,0)","v":5},-45.749999999999943,0.74298850574712638,0.985198342214328]
["20vrMD",{"$f":"VLOOKUP($AA418,DATA!$B$3:$E$6,2,0)","v":"14:30:00"},{"$f":"VLOOKUP($AA418,DATA!$B$3:$E$6,3,0)","v":"22:30:00"},{"$f":"VLOOKUP($AA418,DATA!$B$3:$E$6,4,0)","v":3.125E-2},0.30208333333333337,0.18958333333333338,{"$f":"DATA!$C$9","v":0.89},{"$f":"DATA!$C$10","v":64},1,255.93750000000006,407.81250000000006,0.1125,151.875,0.37241379310344824,0,"","",316.8,284,"",284,"",null,{"$f":"X415","v":20},null,{"$f":"TEXT(Y417,\"ddd\")","v":"vr"},"MD",{"$f":"IFERROR(HLOOKUP(Y417,[1]DATA!$A$1:$NB$5,4,0),\"\")","v":"D2"},162,null,13,297,{"$f":"VLOOKUP(Y417,[1]SRI!$S$4:$Z$368,3,0)","v":7},28.062499999999943,0.69639846743295009,0.97838171710932675]
["20vrND",{"$f":"VLOOKUP($AA419,DATA!$B$3:$E$6,2,0)","v":"22:30:00"},{"$f":"VLOOKUP($AA419,DATA!$B$3:$E$6,3,0)","v":"06:30:00"},{"$f":"VLOOKUP($AA419,DATA!$B$3:$E$6,4,0)","v":3.125E-2},0.30208333333333326,0.18472222222222218,{"$f":"DATA!$C$9","v":0.89},{"$f":"DATA!$C$10","v":64},1,249.37499999999994,407.81249999999989,0.1173611111111111,158.43749999999997,0.38850574712643682,0,"","",277.33333333333331,244,"",244,"",null,{"$f":"X415","v":20},null,{"$f":"TEXT(Y417,\"ddd\")","v":"vr"},"ND",{"$f":"IFERROR(HLOOKUP(Y417,[1]DATA!$A$1:$NB$5,5,0),\"\")","v":"D2"},169,null,16,260,{"$f":"VLOOKUP(Y417,[1]SRI!$S$4:$Z$368,4,0)","v":3},-5.3749999999999432,0.59831417624521088,0.98929845422116525]
["20zaDD",{"$f":"VLOOKUP($AA420,DATA!$B$3:$E$6,2,0)","v":"06:30:00"},{"$f":"VLOOKUP($AA420,DATA!$B$3:$E$6,3,0)","v":"14:30:00"},{"$f":"VLOOKUP($AA420,DATA!$B$3:$E$6,4,0)","v":3.125E-2},0.30208333333333331,0.17708333333333331,{"$f":"DATA!$C$9","v":0.89},{"$f":"DATA!$C$10","v":64},1,239.06249999999997,407.8125,0.125,168.75,0.41379310344827586,0,"","",228.26666666666665,206,"","",206,null,{"$f":"X415","v":20},{"$f":"Y417+1","v":"2018-05-19"},{"$f":"TEXT(Y420,\"ddd\")","v":"za"},"DD",{"$f":"IFERROR(HLOOKUP(Y420,[1]DATA!$A$1:$NB$5,3,0),\"\")","v":"D3"},180,null,8,214,{"$f":"VLOOKUP(Y420,[1]SRI!$S$4:$Z$368,2,0)","v":0},-33.062499999999972,0.50513409961685829,1]
["20zaMD",{"$f":"VLOOKUP($AA421,DATA!$B$3:$E$6,2,0)","v":"14:30:00"},{"$f":"VLOOKUP($AA421,DATA!$B$3:$E$6,3,0)","v":"22:30:00"},{"$f":"VLOOKUP($AA421,DATA!$B$3:$E$6,4,0)","v":3.125E-2},0.30208333333333337,0.30208333333333337,{"$f":"DATA!$C$9","v":0.89},{"$f":"DATA!$C$10","v":64},1,407.81250000000006,407.81250000000006,0,"","",0,"","",0,"","","","",null,{"$f":"X415","v":20},null,{"$f":"TEXT(Y420,\"ddd\")","v":"za"},"MD",{"$f":"IFERROR(HLOOKUP(Y420,[1]DATA!$A$1:$NB$5,4,0),\"\")","v":"-"},null,null,null,null,{"$f":"VLOOKUP(Y420,[1]SRI!$S$4:$Z$368,3,0)","v":0},"","",""]
["20zaND",{"$f":"VLOOKUP($AA422,DATA!$B$3:$E$6,2,0)","v":"22:30:00"},{"$f":"VLOOKUP($AA422,DATA!$B$3:$E$6,3,0)","v":"06:30:00"},{"$f":"VLOOKUP($AA422,DATA!$B$3:$E$6,4,0)","v":3.125E-2},0.30208333333333326,0.30208333333333326,{"$f":"DATA!$C$9","v":0.89},{"$f":"DATA!$C$10","v":64},1,407.81249999999989,407.81249999999989,0,"","",0,"","",0,"","","","",null,{"$f":"X415","v":20},null,{"$f":"TEXT(Y420,\"ddd\")","v":"za"},"ND",{"$f":"IFERROR(HLOOKUP(Y420,[1]DATA!$A$1:$NB$5,5,0),\"\")","v":"-"},null,null,null,null,{"$f":"VLOOKUP(Y420,[1]SRI!$S$4:$Z$368,4,0)","v":0},"","",""]
["20zoDD",{"$f":"VLOOKUP($AA423,DATA!$B$3:$E$6,2,0)","v":"06:30:00"},{"$f":"VLOOKUP($AA423,DATA!$B$3:$E$6,3,0)","v":"14:30:00"},{"$f":"VLOOKUP($AA423,DATA!$B$3:$E$6,4,0)","v":3.125E-2},0.30208333333333331,0.30208333333333331,{"$f":"DATA!$C$9","v":0.89},{"$f":"DATA!$C$10","v":64},1,407.8125,407.8125,0,"","",0,"","",0,"","","","",null,{"$f":"X415","v":20},{"$f":"Y420+1","v":"2018-05-20"},{"$f":"TEXT(Y423,\"ddd\")","v":"zo"},"DD",{"$f":"IFERROR(HLOOKUP(Y423,[1]DATA!$A$1:$NB$5,3,0),\"\")","v":"-"},null,null,null,null,{"$f":"VLOOKUP(Y423,[1]SRI!$S$4:$Z$368,2,0)","v":0},"","",""]
["20zoMD",{"$f":"VLOOKUP($AA424,DATA!$B$3:$E$6,2,0)","v":"14:30:00"},{"$f":"VLOOKUP($AA424,DATA!$B$3:$E$6,3,0)","v":"22:30:00"},{"$f":"VLOOKUP($AA424,DATA!$B$3:$E$6,4,0)","v":3.125E-2},0.30208333333333337,0.30208333333333337,{"$f":"DATA!$C$9","v":0.89},{"$f":"DATA!$C$10","v":64},1,407.81250000000006,407.81250000000006,0,"","",0,"","",0,"","","","",null,{"$f":"X415","v":20},null,{"$f":"TEXT(Y423,\"ddd\")","v":"zo"},"MD",{"$f":"IFERROR(HLOOKUP(Y423,[1]DATA!$A$1:$NB$5,4,0),\"\")","v":"-"},null,null,null,null,{"$f":"VLOOKUP(Y423,[1]SRI!$S$4:$Z$368,3,0)","v":0},"","",""]
["20zoZND",{"$f":"VLOOKUP($AA425,DATA!$B$3:$E$6,2,0)","v":"00:00:00"},{"$f":"VLOOKUP($AA425,DATA!$B$3:$E$6,3,0)","v":"00:00:00"},{"$f":"VLOOKUP($AA425,DATA!$B$3:$E$6,4,0)","v":3.125E-2},-3.125E-2,-3.125E-2,{"$f":"DATA!$C$9","v":0.89},{"$f":"DATA!$C$10","v":64},1,-42.1875,-42.1875,0,"","",0,"","",0,"","","","",null,{"$f":"X415","v":20},null,{"$f":"TEXT(Y423,\"ddd\")","v":"zo"},"ZND",{"$f":"IFERROR(HLOOKUP(Y423,[1]DATA!$A$1:$NB$5,5,0),\"\")","v":"-"},null,null,null,null,{"$f":"VLOOKUP(Y423,[1]SRI!$S$4:$Z$368,4,0)","v":0},"","",""]
["21maDD",{"$f":"VLOOKUP($AA426,DATA!$B$3:$E$6,2,0)","v":"06:30:00"},{"$f":"VLOOKUP($AA426,DATA!$B$3:$E$6,3,0)","v":"14:30:00"},{"$f":"VLOOKUP($AA426,DATA!$B$3:$E$6,4,0)","v":3.125E-2},0.30208333333333331,0.30208333333333331,{"$f":"DATA!$C$9","v":0.89},{"$f":"DATA!$C$10","v":64},1,407.8125,407.8125,0,"","",{"$f":"TIME(INT($AD426/60),INT(MOD($AD426,60)/1),0)","v":0},"","",0,"","","","",null,{"$f":"X436","v":21},{"$f":"Y423+1","v":"2018-05-21"},{"$f":"TEXT(Y426,\"ddd\")","v":"ma"},"DD",{"$f":"IFERROR(HLOOKUP(Y426,[1]DATA!$A$1:$NB$5,3,0),\"\")","v":"D2"},null,null,null,null,{"$f":"VLOOKUP(Y426,[1]SRI!$S$4:$Z$368,2,0)","v":0},"","","",{"$f":"IF(SUMIF(S426:S446,\">0\",K426:K446)=0,\"\",SUMIF(S426:S446,\">0\",K426:K446))","v":4893.75},{"$f":"IF(SUM(S426:S446)=0,\"\",SUM(S426:S446))","v":3672},{"$f":"IFERROR(AL426/AK426,\"-\")","v":0.75034482758620691},{"$f":"IF(SUM(M426:M446)=0,\"0\",SUM(M426:M446))","v":764.0625},{"$f":"IFERROR(AN426/AK426,\"-\")","v":0.15613026819923373},{"$f":"IF(SUM(P426:P446)=0,0,SUM(P426:P446))","v":0},{"$f":"IFERROR(AP426/AK426,\"-\")","v":0},{"$f":"IFERROR(AVERAGE(AJ426:AJ446),\"-\")","v":0.87385400088648246},{"$f":"IFERROR(SUMIF($AB426:$AB446,AS$5,$AJ426:$AJ446)/COUNTIFS($AB426:$AB446,AS$5,$AJ426:$AJ446,\">0\"),\"\")","v":0.98898442794317054},0.93111031609074457,0.91993075884715303,{"$f":"IFERROR((AK426-AL426-AN426-AP426),\"-\")","v":457.6875},{"$f":"IFERROR((1-AM426-AO426-AQ426), \"-\")","v":9.3524904214559362E-2},{"$f":"IFERROR((AV426*$AE$2)/60,\"-\")","v":488.2},{"$f":"IFERROR(SUM(AG426:AG446),\"\")","v":285}]
["21maMD",{"$f":"VLOOKUP($AA427,DATA!$B$3:$E$6,2,0)","v":"14:30:00"},{"$f":"VLOOKUP($AA427,DATA!$B$3:$E$6,3,0)","v":"22:30:00"},{"$f":"VLOOKUP($AA427,DATA!$B$3:$E$6,4,0)","v":3.125E-2},0.30208333333333337,0.30208333333333337,{"$f":"DATA!$C$9","v":0.89},{"$f":"DATA!$C$10","v":64},1,407.81250000000006,407.81250000000006,0,"","",{"$f":"TIME(INT(AD427/60),INT(MOD(AD427,60)/1),0)","v":0},"","",0,"","","","",null,{"$f":"X436","v":21},null,{"$f":"TEXT(Y426,\"ddd\")","v":"ma"},"MD",{"$f":"IFERROR(HLOOKUP(Y426,[1]DATA!$A$1:$NB$5,4,0),\"\")","v":"D1"},null,null,null,null,{"$f":"VLOOKUP(Y426,[1]SRI!$S$4:$Z$368,3,0)","v":0},"","",""]
["21maND",{"$f":"VLOOKUP($AA428,DATA!$B$3:$E$6,2,0)","v":"22:30:00"},{"$f":"VLOOKUP($AA428,DATA!$B$3:$E$6,3,0)","v":"06:30:00"},{"$f":"VLOOKUP($AA428,DATA!$B$3:$E$6,4,0)","v":3.125E-2},0.30208333333333326,0.30208333333333326,{"$f":"DATA!$C$9","v":0.89},{"$f":"DATA!$C$10","v":64},1,407.81249999999989,407.81249999999989,0,"","",0,"","",0,"","","","",null,{"$f":"X436","v":21},null,{"$f":"TEXT(Y426,\"ddd\")","v":"ma"},"ND",{"$f":"IFERROR(HLOOKUP(Y426,[1]DATA!$A$1:$NB$5,5,0),\"\")","v":"D3"},null,null,null,null,{"$f":"VLOOKUP(Y426,[1]SRI!$S$4:$Z$368,4,0)","v":0},"","",""]
["21diDD",{"$f":"VLOOKUP($AA429,DATA!$B$3:$E$6,2,0)","v":"06:30:00"},{"$f":"VLOOKUP($AA429,DATA!$B$3:$E$6,3,0)","v":"14:30:00"},{"$f":"VLOOKUP($AA429,DATA!$B$3:$E$6,4,0)","v":3.125E-2},0.30208333333333331,0.24583333333333332,{"$f":"DATA!$C$9","v":0.89},{"$f":"DATA!$C$10","v":64},1,331.875,407.8125,5.6250000000000001E-2,75.9375,0.18620689655172415,0,"","",304,256,"",256,"",null,{"$f":"X436","v":21},{"$f":"Y426+1","v":"2018-05-22"},{"$f":"TEXT(Y429,\"ddd\")","v":"di"},"DD",{"$f":"IFERROR(HLOOKUP(Y429,[1]DATA!$A$1:$NB$5,3,0),\"\")","v":"D2"},81,null,29,285,{"$f":"VLOOKUP(Y429,[1]SRI!$S$4:$Z$368,2,0)","v":64},-75.875,0.62773946360153254,0.82608695652173914]
["21diMD",{"$f":"VLOOKUP($AA430,DATA!$B$3:$E$6,2,0)","v":"14:30:00"},{"$f":"VLOOKUP($AA430,DATA!$B$3:$E$6,3,0)","v":"22:30:00"},{"$f":"VLOOKUP($AA430,DATA!$B$3:$E$6,4,0)","v":3.125E-2},0.30208333333333337,0.19513888888888892,{"$f":"DATA!$C$9","v":0.89},{"$f":"DATA!$C$10","v":64},1,263.43750000000006,407.81250000000006,0.10694444444444444,144.375,0.35402298850574709,0,"","",318.93333333333334,282,282,"","",null,{"$f":"X436","v":21},null,{"$f":"TEXT(Y429,\"ddd\")","v":"di"},"MD",{"$f":"IFERROR(HLOOKUP(Y429,[1]DATA!$A$1:$NB$5,4,0),\"\")","v":"D1"},154,null,17,299,{"$f":"VLOOKUP(Y429,[1]SRI!$S$4:$Z$368,3,0)","v":0},18.562499999999943,0.69149425287356314,1]
["21diND",{"$f":"VLOOKUP($AA431,DATA!$B$3:$E$6,2,0)","v":"22:30:00"},{"$f":"VLOOKUP($AA431,DATA!$B$3:$E$6,3,0)","v":"06:30:00"},{"$f":"VLOOKUP($AA431,DATA!$B$3:$E$6,4,0)","v":3.125E-2},0.30208333333333326,0.30208333333333326,{"$f":"DATA!$C$9","v":0.89},{"$f":"DATA!$C$10","v":64},1,407.81249999999989,407.81249999999989,0,"","",0,"","",354.13333333333333,332,"","",332,null,{"$f":"X436","v":21},null,{"$f":"TEXT(Y429,\"ddd\")","v":"di"},"ND",{"$f":"IFERROR(HLOOKUP(Y429,[1]DATA!$A$1:$NB$5,5,0),\"\")","v":"D3"},null,null,null,332,{"$f":"VLOOKUP(Y429,[1]SRI!$S$4:$Z$368,4,0)","v":0},-75.812499999999886,0.81409961685823773,1]
[{"$f":"X432&Z432&AA432","v":"21woDD"},{"$f":"VLOOKUP($AA432,DATA!$B$3:$E$6,2,0)","v":"06:30:00"},{"$f":"VLOOKUP($AA432,DATA!$B$3:$E$6,3,0)","v":"14:30:00"},{"$f":"VLOOKUP($AA432,DATA!$B$3:$E$6,4,0)","v":3.125E-2},0.30208333333333331,0.24305555555555552,{"$f":"DATA!$C$9","v":0.89},{"$f":"DATA!$C$10","v":64},1,328.12499999999994,407.8125,5.9027777777777783E-2,79.687500000000014,0.19540229885057475,0,{"$f":"IF($O432*86400/$H432=0,\"\",$O432*86400/$H432)","v":""},"",309.33333333333331,277,"",277,"",null,{"$f":"X436","v":21},{"$f":"Y429+1","v":"2018-05-23"},{"$f":"TEXT(Y432,\"ddd\")","v":"wo"},"DD",{"$f":"IFERROR(HLOOKUP(Y432,[1]DATA!$A$1:$NB$5,3,0),\"\")","v":"D2"},85,null,13,290,{"$f":"VLOOKUP(Y432,[1]SRI!$S$4:$Z$368,2,0)","v":35},-51.124999999999943,0.67923371647509578,0.89835430784123915]
["21woMD",{"$f":"VLOOKUP($AA433,DATA!$B$3:$E$6,2,0)","v":"14:30:00"},{"$f":"VLOOKUP($AA433,DATA!$B$3:$E$6,3,0)","v":"22:30:00"},{"$f":"VLOOKUP($AA433,DATA!$B$3:$E$6,4,0)","v":3.125E-2},0.30208333333333337,0.2506944444444445,{"$f":"DATA!$C$9","v":0.89},{"$f":"DATA!$C$10","v":64},1,338.43750000000006,407.81250000000006,5.1388888888888894E-2,69.375,0.1701149425287356,0,"","",397.86666666666667,345,345,"","",null,{"$f":"X436","v":21},null,{"$f":"TEXT(Y432,\"ddd\")","v":"wo"},"MD",{"$f":"IFERROR(HLOOKUP(Y432,[1]DATA!$A$1:$NB$5,4,0),\"\")","v":"D1"},74,null,28,373,{"$f":"VLOOKUP(Y432,[1]SRI!$S$4:$Z$368,3,0)","v":3},6.5624999999999432,0.84597701149425275,0.99251621486778652]
["21woND",{"$f":"VLOOKUP($AA434,DATA!$B$3:$E$6,2,0)","v":"22:30:00"},{"$f":"VLOOKUP($AA434,DATA!$B$3:$E$6,3,0)","v":"06:30:00"},{"$f":"VLOOKUP($AA434,DATA!$B$3:$E$6,4,0)","v":3.125E-2},0.30208333333333326,0.30208333333333326,{"$f":"DATA!$C$9","v":0.89},{"$f":"DATA!$C$10","v":64},1,407.81249999999989,407.81249999999989,0,"","",0,"","",317.86666666666667,298,"","",298,null,{"$f":"X436","v":21},null,{"$f":"TEXT(Y432,\"ddd\")","v":"wo"},"ND",{"$f":"IFERROR(HLOOKUP(Y432,[1]DATA!$A$1:$NB$5,5,0),\"\")","v":"D3"},null,null,null,298,{"$f":"VLOOKUP(Y432,[1]SRI!$S$4:$Z$368,4,0)","v":130},-109.81249999999989,0.73072796934865925,0.70973504019053291]
["21doDD",{"$f":"VLOOKUP($AA435,DATA!$B$3:$E$6,2,0)","v":"06:30:00"},{"$f":"VLOOKUP($AA435,DATA!$B$3:$E$6,3,0)","v":"14:30:00"},{"$f":"VLOOKUP($AA435,DATA!$B$3:$E$6,4,0)","v":3.125E-2},0.30208333333333331,0.27083333333333331,{"$f":"DATA!$C$9","v":0.89},{"$f":"DATA!$C$10","v":64},1,365.625,407.8125,3.125E-2,42.1875,0.10344827586206896,0,"","",381.86666666666667,339,"",339,"",null,{"$f":"X436","v":21},{"$f":"Y432+1","v":"2018-05-24"},{"$f":"TEXT(Y435,\"ddd\")","v":"do"},"DD",{"$f":"IFERROR(HLOOKUP(Y435,[1]DATA!$A$1:$NB$5,3,0),\"\")","v":"D2"},45,null,19,358,{"$f":"VLOOKUP(Y435,[1]SRI!$S$4:$Z$368,2,0)","v":0},-26.625,0.83126436781609192,1]
["21doMD",{"$f":"VLOOKUP($AA436,DATA!$B$3:$E$6,2,0)","v":"14:30:00"},{"$f":"VLOOKUP($AA436,DATA!$B$3:$E$6,3,0)","v":"22:30:00"},{"$f":"VLOOKUP($AA436,DATA!$B$3:$E$6,4,0)","v":3.125E-2},0.30208333333333337,0.22291666666666671,{"$f":"DATA!$C$9","v":0.89},{"$f":"DATA!$C$10","v":64},1,300.93750000000006,407.81250000000006,7.9166666666666663E-2,106.875,0.26206896551724135,0,"","",359.46666666666664,318,318,"","",null,{"$f":"WEEKNUM($Y426)","v":21},null,{"$f":"TEXT(Y435,\"ddd\")","v":"do"},"MD",{"$f":"IFERROR(HLOOKUP(Y435,[1]DATA!$A$1:$NB$5,4,0),\"\")","v":"D1"},114,null,19,337,{"$f":"VLOOKUP(Y435,[1]SRI!$S$4:$Z$368,3,0)","v":0},17.062499999999943,0.77977011494252868,1]
["21doND",{"$f":"VLOOKUP($AA437,DATA!$B$3:$E$6,2,0)","v":"22:30:00"},{"$f":"VLOOKUP($AA437,DATA!$B$3:$E$6,3,0)","v":"06:30:00"},{"$f":"VLOOKUP($AA437,DATA!$B$3:$E$6,4,0)","v":3.125E-2},0.30208333333333326,0.30208333333333326,{"$f":"DATA!$C$9","v":0.89},{"$f":"DATA!$C$10","v":64},1,407.81249999999989,407.81249999999989,0,"","",0,"","",341.33333333333331,320,"","",320,null,{"$f":"X436","v":21},null,{"$f":"TEXT(Y435,\"ddd\")","v":"do"},"ND",{"$f":"IFERROR(HLOOKUP(Y435,[1]DATA!$A$1:$NB$5,5,0),\"\")","v":"D3"},null,null,null,320,{"$f":"VLOOKUP(Y435,[1]SRI!$S$4:$Z$368,4,0)","v":0},-87.812499999999886,0.78467432950191596,1]
["21vrDD",{"$f":"VLOOKUP($AA438,DATA!$B$3:$E$6,2,0)","v":"06:30:00"},{"$f":"VLOOKUP($AA438,DATA!$B$3:$E$6,3,0)","v":"14:30:00"},{"$f":"VLOOKUP($AA438,DATA!$B$3:$E$6,4,0)","v":3.125E-2},0.30208333333333331,0.21111111111111108,{"$f":"DATA!$C$9","v":0.89},{"$f":"DATA!$C$10","v":64},1,284.99999999999994,407.8125,9.0972222222222218E-2,122.8125,0.30114942528735633,0,"","",339.2,298,"",298,"",null,{"$f":"X436","v":21},{"$f":"Y435+1","v":"2018-05-25"},{"$f":"TEXT(Y438,\"ddd\")","v":"vr"},"DD",{"$f":"IFERROR(HLOOKUP(Y438,[1]DATA!$A$1:$NB$5,3,0),\"\")","v":"D2"},131,null,20,318,{"$f":"VLOOKUP(Y438,[1]SRI!$S$4:$Z$368,2,0)","v":0},13.000000000000057,0.73072796934865902,1]
["21vrMD",{"$f":"VLOOKUP($AA439,DATA!$B$3:$E$6,2,0)","v":"14:30:00"},{"$f":"VLOOKUP($AA439,DATA!$B$3:$E$6,3,0)","v":"22:30:00"},{"$f":"VLOOKUP($AA439,DATA!$B$3:$E$6,4,0)","v":3.125E-2},0.30208333333333337,0.21111111111111114,{"$f":"DATA!$C$9","v":0.89},{"$f":"DATA!$C$10","v":64},1,285.00000000000006,407.81250000000006,9.0972222222222218E-2,122.8125,0.30114942528735628,0,"","",342.4,304,304,"","",null,{"$f":"X436","v":21},null,{"$f":"TEXT(Y438,\"ddd\")","v":"vr"},"MD",{"$f":"IFERROR(HLOOKUP(Y438,[1]DATA!$A$1:$NB$5,4,0),\"\")","v":"D1"},131,null,17,321,{"$f":"VLOOKUP(Y438,[1]SRI!$S$4:$Z$368,3,0)","v":13},18.999999999999943,0.74544061302681985,0.96342149690489587]
["21vrND",{"$f":"VLOOKUP($AA440,DATA!$B$3:$E$6,2,0)","v":"22:30:00"},{"$f":"VLOOKUP($AA440,DATA!$B$3:$E$6,3,0)","v":"06:30:00"},{"$f":"VLOOKUP($AA440,DATA!$B$3:$E$6,4,0)","v":3.125E-2},0.30208333333333326,0.30208333333333326,{"$f":"DATA!$C$9","v":0.89},{"$f":"DATA!$C$10","v":64},1,407.81249999999989,407.81249999999989,0,"","",0,"","",323.2,303,"","",303,null,{"$f":"X436","v":21},null,{"$f":"TEXT(Y438,\"ddd\")","v":"vr"},"ND",{"$f":"IFERROR(HLOOKUP(Y438,[1]DATA!$A$1:$NB$5,5,0),\"\")","v":"D3"},null,null,null,303,{"$f":"VLOOKUP(Y438,[1]SRI!$S$4:$Z$368,4,0)","v":10},-104.81249999999989,0.7429885057471266,0.96998799519807921]
["21zaDD",{"$f":"VLOOKUP($AA441,DATA!$B$3:$E$6,2,0)","v":"06:30:00"},{"$f":"VLOOKUP($AA441,DATA!$B$3:$E$6,3,0)","v":"14:30:00"},{"$f":"VLOOKUP($AA441,DATA!$B$3:$E$6,4,0)","v":3.125E-2},0.30208333333333331,0.30208333333333331,{"$f":"DATA!$C$9","v":0.89},{"$f":"DATA!$C$10","v":64},1,407.8125,407.8125,0,"","",0,"","",0,"","","","",null,{"$f":"X436","v":21},{"$f":"Y438+1","v":"2018-05-26"},{"$f":"TEXT(Y441,\"ddd\")","v":"za"},"DD",{"$f":"IFERROR(HLOOKUP(Y441,[1]DATA!$A$1:$NB$5,3,0),\"\")","v":"D2"},null,null,null,null,{"$f":"VLOOKUP(Y441,[1]SRI!$S$4:$Z$368,2,0)","v":30},"","",0]
["21zaMD",{"$f":"VLOOKUP($AA442,DATA!$B$3:$E$6,2,0)","v":"14:30:00"},{"$f":"VLOOKUP($AA442,DATA!$B$3:$E$6,3,0)","v":"22:30:00"},{"$f":"VLOOKUP($AA442,DATA!$B$3:$E$6,4,0)","v":3.125E-2},0.30208333333333337,0.30208333333333337,{"$f":"DATA!$C$9","v":0.89},{"$f":"DATA!$C$10","v":64},1,407.81250000000006,407.81250000000006,0,"","",0,"","",0,"","","","",null,{"$f":"X436","v":21},null,{"$f":"TEXT(Y441,\"ddd\")","v":"za"},"MD",{"$f":"IFERROR(HLOOKUP(Y441,[1]DATA!$A$1:$NB$5,4,0),\"\")","v":"-"},null,null,null,null,{"$f":"VLOOKUP(Y441,[1]SRI!$S$4:$Z$368,3,0)","v":0},"","",""]
["21zaND",{"$f":"VLOOKUP($AA443,DATA!$B$3:$E$6,2,0)","v":"22:30:00"},{"$f":"VLOOKUP($AA443,DATA!$B$3:$E$6,3,0)","v":"06:30:00"},{"$f":"VLOOKUP($AA443,DATA!$B$3:$E$6,4,0)","v":3.125E-2},0.30208333333333326,0.30208333333333326,{"$f":"DATA!$C$9","v":0.89},{"$f":"DATA!$C$10","v":64},1,407.81249999999989,407.81249999999989,0,"","",0,"","",0,"","","","",null,{"$f":"X436","v":21},null,{"$f":"TEXT(Y441,\"ddd\")","v":"za"},"ND",{"$f":"IFERROR(HLOOKUP(Y441,[1]DATA!$A$1:$NB$5,5,0),\"\")","v":"-"},null,null,null,null,{"$f":"VLOOKUP(Y441,[1]SRI!$S$4:$Z$368,4,0)","v":0},"","",""]
["21zoDD",{"$f":"VLOOKUP($AA444,DATA!$B$3:$E$6,2,0)","v":"06:30:00"},{"$f":"VLOOKUP($AA444,DATA!$B$3:$E$6,3,0)","v":"14:30:00"},{"$f":"VLOOKUP($AA444,DATA!$B$3:$E$6,4,0)","v":3.125E-2},0.30208333333333331,0.30208333333333331,{"$f":"DATA!$C$9","v":0.89},{"$f":"DATA!$C$10","v":64},1,407.8125,407.8125,0,"","",0,"","",0,"","","","",null,{"$f":"X436","v":21},{"$f":"Y441+1","v":"2018-05-27"},{"$f":"TEXT(Y444,\"ddd\")","v":"zo"},"DD",{"$f":"IFERROR(HLOOKUP(Y444,[1]DATA!$A$1:$NB$5,3,0),\"\")","v":"-"},null,null,null,null,{"$f":"VLOOKUP(Y444,[1]SRI!$S$4:$Z$368,2,0)","v":0},"","",""]
["21zoMD",{"$f":"VLOOKUP($AA445,DATA!$B$3:$E$6,2,0)","v":"14:30:00"},{"$f":"VLOOKUP($AA445,DATA!$B$3:$E$6,3,0)","v":"22:30:00"},{"$f":"VLOOKUP($AA445,DATA!$B$3:$E$6,4,0)","v":3.125E-2},0.30208333333333337,0.30208333333333337,{"$f":"DATA!$C$9","v":0.89},{"$f":"DATA!$C$10","v":64},1,407.81250000000006,407.81250000000006,0,"","",0,"","",0,"","","","",null,{"$f":"X436","v":21},null,{"$f":"TEXT(Y444,\"ddd\")","v":"zo"},"MD",{"$f":"IFERROR(HLOOKUP(Y444,[1]DATA!$A$1:$NB$5,4,0),\"\")","v":"-"},null,null,null,null,{"$f":"VLOOKUP(Y444,[1]SRI!$S$4:$Z$368,3,0)","v":0},"","",""]
["21zoZND",{"$f":"VLOOKUP($AA446,DATA!$B$3:$E$6,2,0)","v":"00:00:00"},{"$f":"VLOOKUP($AA446,DATA!$B$3:$E$6,3,0)","v":"00:00:00"},{"$f":"VLOOKUP($AA446,DATA!$B$3:$E$6,4,0)","v":3.125E-2},-3.125E-2,-3.125E-2,{"$f":"DATA!$C$9","v":0.89},{"$f":"DATA!$C$10","v":64},1,-42.1875,-42.1875,0,"","",0,"","",0,"","","","",null,{"$f":"X436","v":21},null,{"$f":"TEXT(Y444,\"ddd\")","v":"zo"},"ZND",{"$f":"IFERROR(HLOOKUP(Y444,[1]DATA!$A$1:$NB$5,5,0),\"\")","v":"-"},null,null,null,null,{"$f":"VLOOKUP(Y444,[1]SRI!$S$4:$Z$368,4,0)","v":0},"","",""]
["22maDD",{"$f":"VLOOKUP($AA447,DATA!$B$3:$E$6,2,0)","v":"06:30:00"},{"$f":"VLOOKUP($AA447,DATA!$B$3:$E$6,3,0)","v":"14:30:00"},{"$f":"VLOOKUP($AA447,DATA!$B$3:$E$6,4,0)","v":3.125E-2},0.30208333333333331,0.21944444444444444,{"$f":"DATA!$C$9","v":0.89},{"$f":"DATA!$C$10","v":64},1,296.25,407.8125,8.2638888888888887E-2,111.5625,0.27356321839080461,{"$f":"TIME(INT($AD447/60),INT(MOD($AD447,60)/1),0)","v":0},"","",302.93333333333334,268,268,"","",null,{"$f":"X457","v":22},{"$f":"Y444+1","v":"2018-05-28"},{"$f":"TEXT(Y447,\"ddd\")","v":"ma"},"DD",{"$f":"IFERROR(HLOOKUP(Y447,[1]DATA!$A$1:$NB$5,3,0),\"\")","v":"D1"},119,null,16,284,{"$f":"VLOOKUP(Y447,[1]SRI!$S$4:$Z$368,2,0)","v":0},-28.25,0.65716475095785443,1,{"$f":"IF(SUMIF(S447:S467,\">0\",K447:K467)=0,\"\",SUMIF(S447:S467,\">0\",K447:K467))","v":5301.5625},{"$f":"IF(SUM(S447:S467)=0,\"\",SUM(S447:S467))","v":3684},{"$f":"IFERROR(AL447/AK447,\"-\")","v":0.69488947833775416},{"$f":"IF(SUM(M447:M467)=0,\"0\",SUM(M447:M467))","v":1198.125},{"$f":"IFERROR(AN447/AK447,\"-\")","v":0.22599469496021221},{"$f":"IF(SUM(P447:P467)=0,0,SUM(P447:P467))","v":0},{"$f":"IFERROR(AP447/AK447,\"-\")","v":0},{"$f":"IFERROR(AVERAGE(AJ447:AJ467),\"-\")","v":0.95327611761451392},{"$f":"IFERROR(SUMIF($AB447:$AB467,AS$5,$AJ447:$AJ467)/COUNTIFS($AB447:$AB467,AS$5,$AJ447:$AJ467,\">0\"),\"\")","v":0.96428694644486512},0.95917964561539271,0.93360905357569612,{"$f":"IFERROR((AK447-AL447-AN447-AP447),\"-\")","v":419.4375},{"$f":"IFERROR((1-AM447-AO447-AQ447), \"-\")","v":7.9115826702033626E-2},{"$f":"IFERROR((AV447*$AE$2)/60,\"-\")","v":447.4},{"$f":"IFERROR(SUM(AG447:AG467),\"\")","v":227}]
["22maMD",{"$f":"VLOOKUP($AA448,DATA!$B$3:$E$6,2,0)","v":"14:30:00"},{"$f":"VLOOKUP($AA448,DATA!$B$3:$E$6,3,0)","v":"22:30:00"},{"$f":"VLOOKUP($AA448,DATA!$B$3:$E$6,4,0)","v":3.125E-2},0.30208333333333337,0.17291666666666669,{"$f":"DATA!$C$9","v":0.89},{"$f":"DATA!$C$10","v":64},1,233.43750000000003,407.81250000000006,0.12916666666666668,174.37500000000003,0.42758620689655175,{"$f":"TIME(INT(AD448/60),INT(MOD(AD448,60)/1),0)","v":0},"","",214.4,196,"","",196,null,{"$f":"X457","v":22},null,{"$f":"TEXT(Y447,\"ddd\")","v":"ma"},"MD",{"$f":"IFERROR(HLOOKUP(Y447,[1]DATA!$A$1:$NB$5,4,0),\"\")","v":"D3"},186,null,5,201,{"$f":"VLOOKUP(Y447,[1]SRI!$S$4:$Z$368,3,0)","v":11},-37.437500000000028,0.48061302681992329,0.95119787045252879]
["22maND",{"$f":"VLOOKUP($AA449,DATA!$B$3:$E$6,2,0)","v":"22:30:00"},{"$f":"VLOOKUP($AA449,DATA!$B$3:$E$6,3,0)","v":"06:30:00"},{"$f":"VLOOKUP($AA449,DATA!$B$3:$E$6,4,0)","v":3.125E-2},0.30208333333333326,0.18958333333333327,{"$f":"DATA!$C$9","v":0.89},{"$f":"DATA!$C$10","v":64},1,255.93749999999991,407.81249999999989,0.1125,151.875,0.37241379310344835,0,"","",302.93333333333334,272,"",272,"",null,{"$f":"X457","v":22},null,{"$f":"TEXT(Y447,\"ddd\")","v":"ma"},"ND",{"$f":"IFERROR(HLOOKUP(Y447,[1]DATA!$A$1:$NB$5,5,0),\"\")","v":"D2"},162,null,12,284,{"$f":"VLOOKUP(Y447,[1]SRI!$S$4:$Z$368,4,0)","v":7},16.062500000000085,0.66697318007662854,0.97741449774144973]
["22diDD",{"$f":"VLOOKUP($AA450,DATA!$B$3:$E$6,2,0)","v":"06:30:00"},{"$f":"VLOOKUP($AA450,DATA!$B$3:$E$6,3,0)","v":"14:30:00"},{"$f":"VLOOKUP($AA450,DATA!$B$3:$E$6,4,0)","v":3.125E-2},0.30208333333333331,0.17013888888888887,{"$f":"DATA!$C$9","v":0.89},{"$f":"DATA!$C$10","v":64},1,229.68749999999997,407.8125,0.13194444444444445,178.125,0.43678160919540232,0,"","",275.2,240,240,"","",null,{"$f":"X457","v":22},{"$f":"Y447+1","v":"2018-05-29"},{"$f":"TEXT(Y450,\"ddd\")","v":"di"},"DD",{"$f":"IFERROR(HLOOKUP(Y450,[1]DATA!$A$1:$NB$5,3,0),\"\")","v":"D1"},190,null,18,258,{"$f":"VLOOKUP(Y450,[1]SRI!$S$4:$Z$368,2,0)","v":12},10.312500000000028,0.58850574712643677,0.95821727019498604]
["22diMD",{"$f":"VLOOKUP($AA451,DATA!$B$3:$E$6,2,0)","v":"14:30:00"},{"$f":"VLOOKUP($AA451,DATA!$B$3:$E$6,3,0)","v":"22:30:00"},{"$f":"VLOOKUP($AA451,DATA!$B$3:$E$6,4,0)","v":3.125E-2},0.30208333333333337,0.27500000000000002,{"$f":"DATA!$C$9","v":0.89},{"$f":"DATA!$C$10","v":64},1,371.25000000000006,407.81250000000006,2.7083333333333334E-2,36.5625,8.9655172413793088E-2,0,"","",334.93333333333334,302,"","",302,null,{"$f":"X457","v":22},null,{"$f":"TEXT(Y450,\"ddd\")","v":"di"},"MD",{"$f":"IFERROR(HLOOKUP(Y450,[1]DATA!$A$1:$NB$5,4,0),\"\")","v":"D3"},39,null,12,314,{"$f":"VLOOKUP(Y450,[1]SRI!$S$4:$Z$368,3,0)","v":85},-69.250000000000057,0.7405363984674328,0.79758691855850139]
["22diND",{"$f":"VLOOKUP($AA452,DATA!$B$3:$E$6,2,0)","v":"22:30:00"},{"$f":"VLOOKUP($AA452,DATA!$B$3:$E$6,3,0)","v":"06:30:00"},{"$f":"VLOOKUP($AA452,DATA!$B$3:$E$6,4,0)","v":3.125E-2},0.30208333333333326,0.29930555555555549,{"$f":"DATA!$C$9","v":0.89},{"$f":"DATA!$C$10","v":64},1,404.06249999999989,407.81249999999989,2.7777777777777779E-3,3.75,9.1954022988505781E-3,0,"","",378.66666666666669,333,"",333,"",null,{"$f":"X457","v":22},null,{"$f":"TEXT(Y450,\"ddd\")","v":"di"},"ND",{"$f":"IFERROR(HLOOKUP(Y450,[1]DATA!$A$1:$NB$5,5,0),\"\")","v":"D2"},4,null,22,355,{"$f":"VLOOKUP(Y450,[1]SRI!$S$4:$Z$368,4,0)","v":62},-71.062499999999886,0.81655172413793131,0.85930408472012099]
["22woDD",{"$f":"VLOOKUP($AA453,DATA!$B$3:$E$6,2,0)","v":"06:30:00"},{"$f":"VLOOKUP($AA453,DATA!$B$3:$E$6,3,0)","v":"14:30:00"},{"$f":"VLOOKUP($AA453,DATA!$B$3:$E$6,4,0)","v":3.125E-2},0.30208333333333331,0.23333333333333334,{"$f":"DATA!$C$9","v":0.89},{"$f":"DATA!$C$10","v":64},1,315,407.8125,6.8749999999999992E-2,92.812499999999986,0.22758620689655168,0,"","",252.79999999999998,226,226,"","",null,{"$f":"X457","v":22},{"$f":"Y450+1","v":"2018-05-30"},{"$f":"TEXT(Y453,\"ddd\")","v":"wo"},"DD",{"$f":"IFERROR(HLOOKUP(Y453,[1]DATA!$A$1:$NB$5,3,0),\"\")","v":"D1"},99,null,11,237,{"$f":"VLOOKUP(Y453,[1]SRI!$S$4:$Z$368,2,0)","v":0},-89,0.55417624521072795,1]
["22woMD",{"$f":"VLOOKUP($AA454,DATA!$B$3:$E$6,2,0)","v":"14:30:00"},{"$f":"VLOOKUP($AA454,DATA!$B$3:$E$6,3,0)","v":"22:30:00"},{"$f":"VLOOKUP($AA454,DATA!$B$3:$E$6,4,0)","v":3.125E-2},0.30208333333333337,0.22152777777777782,{"$f":"DATA!$C$9","v":0.89},{"$f":"DATA!$C$10","v":64},1,{"$f":"F454*86400/H454*I454","v":299.06250000000006},{"$f":"E454*86400/H454","v":407.81250000000006},8.0555555555555561E-2,108.75,0.26666666666666661,0,"","",{"$f":"AF454*AG$2","v":343.46666666666664},{"$f":"IF(AF454-AE454=0,\"\",AF454-AE454)","v":309},"","",309,null,{"$f":"X457","v":22},null,{"$f":"TEXT(Y453,\"ddd\")","v":"wo"},"MD",{"$f":"IFERROR(HLOOKUP(Y453,[1]DATA!$A$1:$NB$5,4,0),\"\")","v":"D3"},116,null,13,322,{"$f":"VLOOKUP(Y453,[1]SRI!$S$4:$Z$368,3,0)","v":5},{"$f":"IFERROR(S454-J454,\"\")","v":9.9374999999999432},{"$f":"IFERROR(IF(S454/(E454*86400/H454)<=0,\"\",S454/(E454*86400/H454)),\"\")","v":0.75770114942528721},{"$f":"IFERROR(R454/(R454+AG454),\"\")","v":0.98565142529175431}]
["22woND",{"$f":"VLOOKUP($AA455,DATA!$B$3:$E$6,2,0)","v":"22:30:00"},{"$f":"VLOOKUP($AA455,DATA!$B$3:$E$6,3,0)","v":"06:30:00"},{"$f":"VLOOKUP($AA455,DATA!$B$3:$E$6,4,0)","v":3.125E-2},0.30208333333333326,0.22638888888888881,{"$f":"DATA!$C$9","v":0.89},{"$f":"DATA!$C$10","v":64},1,305.62499999999989,407.81249999999989,{"$f":"TIME(INT($AC455/60),INT(MOD($AC455,60)/1),0)","v":7.5694444444444439E-2},{"$f":"IF($L455*86400/$H455=0,\"\",$L455*86400/$H455)","v":102.1875},{"$f":"IFERROR($M455/$K455,\"\")","v":0.25057471264367825},0,"",{"$f":"IFERROR($P455/$K455,\"\")","v":""},340.26666666666665,309,{"$f":"IF(IF($AB455=\"D1\",$S455,\"\")=0,\"\",IF($AB455=\"D1\",$S455,\"\"))","v":""},{"$f":"IF(IF($AB455=\"D2\",$S455,\"\")=0,\"\",IF($AB455=\"D2\",$S455,\"\"))","v":309},{"$f":"IF(IF($AB455=\"D3\",$S455,\"\")=0,\"\",IF($AB455=\"D3\",$S455,\"\"))","v":""},null,{"$f":"X457","v":22},null,{"$f":"TEXT(Y453,\"ddd\")","v":"wo"},"ND",{"$f":"IFERROR(HLOOKUP(Y453,[1]DATA!$A$1:$NB$5,5,0),\"\")","v":"D2"},109,null,10,319,{"$f":"VLOOKUP(Y453,[1]SRI!$S$4:$Z$368,4,0)","v":0},3.3750000000001137,0.75770114942528755,1]
["22doDD",{"$f":"VLOOKUP($AA456,DATA!$B$3:$E$6,2,0)","v":"06:30:00"},{"$f":"VLOOKUP($AA456,DATA!$B$3:$E$6,3,0)","v":"14:30:00"},{"$f":"VLOOKUP($AA456,DATA!$B$3:$E$6,4,0)","v":3.125E-2},0.30208333333333331,0.2673611111111111,{"$f":"DATA!$C$9","v":0.89},{"$f":"DATA!$C$10","v":64},1,360.9375,407.8125,3.4722222222222224E-2,46.875,0.11494252873563218,0,"","",371.2,334,334,"","",null,{"$f":"X457","v":22},{"$f":"Y453+1","v":"2018-05-31"},{"$f":"TEXT(Y456,\"ddd\")","v":"do"},"DD",{"$f":"IFERROR(HLOOKUP(Y456,[1]DATA!$A$1:$NB$5,3,0),\"\")","v":"D1"},50,null,14,348,{"$f":"VLOOKUP(Y456,[1]SRI!$S$4:$Z$368,2,0)","v":10},-26.9375,0.81900383141762456,0.97376705141657927]
["22doMD",{"$f":"VLOOKUP($AA457,DATA!$B$3:$E$6,2,0)","v":"14:30:00"},{"$f":"VLOOKUP($AA457,DATA!$B$3:$E$6,3,0)","v":"22:30:00"},{"$f":"VLOOKUP($AA457,DATA!$B$3:$E$6,4,0)","v":3.125E-2},0.30208333333333337,0.22361111111111115,{"$f":"DATA!$C$9","v":0.89},{"$f":"DATA!$C$10","v":64},1,301.87500000000006,407.81250000000006,7.8472222222222221E-2,105.9375,0.25977011494252872,0,"","",362.66666666666669,317,"","",317,null,{"$f":"WEEKNUM($Y447)","v":22},null,{"$f":"TEXT(Y456,\"ddd\")","v":"do"},"MD",{"$f":"IFERROR(HLOOKUP(Y456,[1]DATA!$A$1:$NB$5,4,0),\"\")","v":"D3"},113,null,23,340,{"$f":"VLOOKUP(Y456,[1]SRI!$S$4:$Z$368,3,0)","v":0},15.124999999999943,0.7773180076628351,1]
["22doND",{"$f":"VLOOKUP($AA458,DATA!$B$3:$E$6,2,0)","v":"22:30:00"},{"$f":"VLOOKUP($AA458,DATA!$B$3:$E$6,3,0)","v":"06:30:00"},{"$f":"VLOOKUP($AA458,DATA!$B$3:$E$6,4,0)","v":3.125E-2},0.30208333333333326,0.26180555555555546,{"$f":"DATA!$C$9","v":0.89},{"$f":"DATA!$C$10","v":64},1,353.43749999999989,407.81249999999989,4.027777777777778E-2,54.375,0.13333333333333336,0,"","",350.93333333333334,318,"",318,"",null,{"$f":"X457","v":22},null,{"$f":"TEXT(Y456,\"ddd\")","v":"do"},"ND",{"$f":"IFERROR(HLOOKUP(Y456,[1]DATA!$A$1:$NB$5,5,0),\"\")","v":"D2"},58,null,11,329,{"$f":"VLOOKUP(Y456,[1]SRI!$S$4:$Z$368,4,0)","v":0},-35.437499999999886,0.7797701149425289,1]
["22vrDD",{"$f":"VLOOKUP($AA459,DATA!$B$3:$E$6,2,0)","v":"06:30:00"},{"$f":"VLOOKUP($AA459,DATA!$B$3:$E$6,3,0)","v":"14:30:00"},{"$f":"VLOOKUP($AA459,DATA!$B$3:$E$6,4,0)","v":3.125E-2},0.30208333333333331,0.27916666666666667,{"$f":"DATA!$C$9","v":0.89},{"$f":"DATA!$C$10","v":64},1,376.875,407.8125,2.2916666666666669E-2,30.937500000000004,7.5862068965517254E-2,0,"","",281.60000000000002,260,260,"","",null,{"$f":"X457","v":22},{"$f":"Y456+1","v":"2018-06-01"},{"$f":"TEXT(Y459,\"ddd\")","v":"vr"},"DD",{"$f":"IFERROR(HLOOKUP(Y459,[1]DATA!$A$1:$NB$5,3,0),\"\")","v":"D1"},33,null,4,264,{"$f":"VLOOKUP(Y459,[1]SRI!$S$4:$Z$368,2,0)","v":35},-116.875,0.63754789272030654,0.88945041061276053]
["22vrMD",{"$f":"VLOOKUP($AA460,DATA!$B$3:$E$6,2,0)","v":"14:30:00"},{"$f":"VLOOKUP($AA460,DATA!$B$3:$E$6,3,0)","v":"22:30:00"},{"$f":"VLOOKUP($AA460,DATA!$B$3:$E$6,4,0)","v":3.125E-2},0.30208333333333337,0.30208333333333337,{"$f":"DATA!$C$9","v":0.89},{"$f":"DATA!$C$10","v":64},1,407.81250000000006,407.81250000000006,0,"","",0,"","",0,"","","","",null,{"$f":"X457","v":22},null,{"$f":"TEXT(Y459,\"ddd\")","v":"vr"},"MD",{"$f":"IFERROR(HLOOKUP(Y459,[1]DATA!$A$1:$NB$5,4,0),\"\")","v":"D3"},null,null,null,null,{"$f":"VLOOKUP(Y459,[1]SRI!$S$4:$Z$368,3,0)","v":0},"","",""]
["22vrND",{"$f":"VLOOKUP($AA461,DATA!$B$3:$E$6,2,0)","v":"22:30:00"},{"$f":"VLOOKUP($AA461,DATA!$B$3:$E$6,3,0)","v":"06:30:00"},{"$f":"VLOOKUP($AA461,DATA!$B$3:$E$6,4,0)","v":3.125E-2},0.30208333333333326,0.30208333333333326,{"$f":"DATA!$C$9","v":0.89},{"$f":"DATA!$C$10","v":64},1,407.81249999999989,407.81249999999989,0,"","",0,"","",0,"","","","",null,{"$f":"X457","v":22},null,{"$f":"TEXT(Y459,\"ddd\")","v":"vr"},"ND",{"$f":"IFERROR(HLOOKUP(Y459,[1]DATA!$A$1:$NB$5,5,0),\"\")","v":"D2"},null,null,null,null,{"$f":"VLOOKUP(Y459,[1]SRI!$S$4:$Z$368,4,0)","v":0},"","",""]
["22zaDD",{"$f":"VLOOKUP($AA462,DATA!$B$3:$E$6,2,0)","v":"06:30:00"},{"$f":"VLOOKUP($AA462,DATA!$B$3:$E$6,3,0)","v":"14:30:00"},{"$f":"VLOOKUP($AA462,DATA!$B$3:$E$6,4,0)","v":3.125E-2},0.30208333333333331,0.30208333333333331,{"$f":"DATA!$C$9","v":0.89},{"$f":"DATA!$C$10","v":64},1,407.8125,407.8125,0,"","",0,"","",0,"","","","",null,{"$f":"X457","v":22},{"$f":"Y459+1","v":"2018-06-02"},{"$f":"TEXT(Y462,\"ddd\")","v":"za"},"DD",{"$f":"IFERROR(HLOOKUP(Y462,[1]DATA!$A$1:$NB$5,3,0),\"\")","v":"D1"},null,null,null,null,{"$f":"VLOOKUP(Y462,[1]SRI!$S$4:$Z$368,2,0)","v":0},"","",""]
["22zaMD",{"$f":"VLOOKUP($AA463,DATA!$B$3:$E$6,2,0)","v":"14:30:00"},{"$f":"VLOOKUP($AA463,DATA!$B$3:$E$6,3,0)","v":"22:30:00"},{"$f":"VLOOKUP($AA463,DATA!$B$3:$E$6,4,0)","v":3.125E-2},0.30208333333333337,0.30208333333333337,{"$f":"DATA!$C$9","v":0.89},{"$f":"DATA!$C$10","v":64},1,407.81250000000006,407.81250000000006,0,"","",0,"","",0,"","","","",null,{"$f":"X457","v":22},null,{"$f":"TEXT(Y462,\"ddd\")","v":"za"},"MD",{"$f":"IFERROR(HLOOKUP(Y462,[1]DATA!$A$1:$NB$5,4,0),\"\")","v":"-"},null,null,null,null,{"$f":"VLOOKUP(Y462,[1]SRI!$S$4:$Z$368,3,0)","v":0},"","",""]
["22zaND",{"$f":"VLOOKUP($AA464,DATA!$B$3:$E$6,2,0)","v":"22:30:00"},{"$f":"VLOOKUP($AA464,DATA!$B$3:$E$6,3,0)","v":"06:30:00"},{"$f":"VLOOKUP($AA464,DATA!$B$3:$E$6,4,0)","v":3.125E-2},0.30208333333333326,0.30208333333333326,{"$f":"DATA!$C$9","v":0.89},{"$f":"DATA!$C$10","v":64},1,407.81249999999989,407.81249999999989,0,"","",0,"","",0,"","","","",null,{"$f":"X457","v":22},null,{"$f":"TEXT(Y462,\"ddd\")","v":"za"},"ND",{"$f":"IFERROR(HLOOKUP(Y462,[1]DATA!$A$1:$NB$5,5,0),\"\")","v":"-"},null,null,null,null,{"$f":"VLOOKUP(Y462,[1]SRI!$S$4:$Z$368,4,0)","v":0},"","",""]
["22zoDD",{"$f":"VLOOKUP($AA465,DATA!$B$3:$E$6,2,0)","v":"06:30:00"},{"$f":"VLOOKUP($AA465,DATA!$B$3:$E$6,3,0)","v":"14:30:00"},{"$f":"VLOOKUP($AA465,DATA!$B$3:$E$6,4,0)","v":3.125E-2},0.30208333333333331,0.30208333333333331,{"$f":"DATA!$C$9","v":0.89},{"$f":"DATA!$C$10","v":64},1,407.8125,407.8125,0,"","",0,"","",0,"","","","",null,{"$f":"X457","v":22},{"$f":"Y462+1","v":"2018-06-03"},{"$f":"TEXT(Y465,\"ddd\")","v":"zo"},"DD",{"$f":"IFERROR(HLOOKUP(Y465,[1]DATA!$A$1:$NB$5,3,0),\"\")","v":"-"},null,null,null,null,{"$f":"VLOOKUP(Y465,[1]SRI!$S$4:$Z$368,2,0)","v":0},"","",""]
["22zoMD",{"$f":"VLOOKUP($AA466,DATA!$B$3:$E$6,2,0)","v":"14:30:00"},{"$f":"VLOOKUP($AA466,DATA!$B$3:$E$6,3,0)","v":"22:30:00"},{"$f":"VLOOKUP($AA466,DATA!$B$3:$E$6,4,0)","v":3.125E-2},0.30208333333333337,0.30208333333333337,{"$f":"DATA!$C$9","v":0.89},{"$f":"DATA!$C$10","v":64},1,407.81250000000006,407.81250000000006,0,"","",0,"","",0,"","","","",null,{"$f":"X457","v":22},null,{"$f":"TEXT(Y465,\"ddd\")","v":"zo"},"MD",{"$f":"IFERROR(HLOOKUP(Y465,[1]DATA!$A$1:$NB$5,4,0),\"\")","v":"-"},null,null,null,null,{"$f":"VLOOKUP(Y465,[1]SRI!$S$4:$Z$368,3,0)","v":0},"","",""]
["22zoZND",{"$f":"VLOOKUP($AA467,DATA!$B$3:$E$6,2,0)","v":"00:00:00"},{"$f":"VLOOKUP($AA467,DATA!$B$3:$E$6,3,0)","v":"00:00:00"},{"$f":"VLOOKUP($AA467,DATA!$B$3:$E$6,4,0)","v":3.125E-2},-3.125E-2,-3.125E-2,{"$f":"DATA!$C$9","v":0.89},{"$f":"DATA!$C$10","v":64},1,-42.1875,-42.1875,0,"","",0,"","",0,"","","","",null,{"$f":"X457","v":22},null,{"$f":"TEXT(Y465,\"ddd\")","v":"zo"},"ZND",{"$f":"IFERROR(HLOOKUP(Y465,[1]DATA!$A$1:$NB$5,5,0),\"\")","v":"-"},null,null,null,null,{"$f":"VLOOKUP(Y465,[1]SRI!$S$4:$Z$368,4,0)","v":0},"","",""]
["23maDD",{"$f":"VLOOKUP($AA468,DATA!$B$3:$E$6,2,0)","v":"06:30:00"},{"$f":"VLOOKUP($AA468,DATA!$B$3:$E$6,3,0)","v":"14:30:00"},{"$f":"VLOOKUP($AA468,DATA!$B$3:$E$6,4,0)","v":3.125E-2},0.30208333333333331,0.18680555555555556,{"$f":"DATA!$C$9","v":0.89},{"$f":"DATA!$C$10","v":64},1,252.1875,407.8125,0.11527777777777777,155.625,0.38160919540229887,{"$f":"TIME(INT($AD468/60),INT(MOD($AD468,60)/1),0)","v":0},"","",286.93333333333334,253,"","",253,null,{"$f":"X478","v":23},{"$f":"Y465+1","v":"2018-06-04"},{"$f":"TEXT(Y468,\"ddd\")","v":"ma"},"DD",{"$f":"IFERROR(HLOOKUP(Y468,[1]DATA!$A$1:$NB$5,3,0),\"\")","v":"D3"},166,null,16,269,{"$f":"VLOOKUP(Y468,[1]SRI!$S$4:$Z$368,2,0)","v":0},0.8125,0.62038314176245213,1,{"$f":"IF(SUMIF(S468:S488,\">0\",K468:K488)=0,\"\",SUMIF(S468:S488,\">0\",K468:K488))","v":6117.1875},{"$f":"IF(SUM(S468:S488)=0,\"\",SUM(S468:S488))","v":4373},{"$f":"IFERROR(AL468/AK468,\"-\")","v":0.71487100893997446},{"$f":"IF(SUM(M468:M488)=0,\"0\",SUM(M468:M488))","v":1430.625},{"$f":"IFERROR(AN468/AK468,\"-\")","v":0.23386973180076628},{"$f":"IF(SUM(P468:P488)=0,0,SUM(P468:P488))","v":0},{"$f":"IFERROR(AP468/AK468,\"-\")","v":0},{"$f":"IFERROR(AVERAGE(AJ468:AJ488),\"-\")","v":0.97419443921891979},{"$f":"IFERROR(SUMIF($AB468:$AB488,AS$5,$AJ468:$AJ488)/COUNTIFS($AB468:$AB488,AS$5,$AJ468:$AJ488,\">0\"),\"\")","v":0.97127334557001199},0.97755669022881675,0.97249661292616962,{"$f":"IFERROR((AK468-AL468-AN468-AP468),\"-\")","v":313.5625},{"$f":"IFERROR((1-AM468-AO468-AQ468), \"-\")","v":5.1259259259259254E-2},{"$f":"IFERROR((AV468*$AE$2)/60,\"-\")","v":334.46666666666664},{"$f":"IFERROR(SUM(AG468:AG488),\"\")","v":137}]
["23maMD",{"$f":"VLOOKUP($AA469,DATA!$B$3:$E$6,2,0)","v":"14:30:00"},{"$f":"VLOOKUP($AA469,DATA!$B$3:$E$6,3,0)","v":"22:30:00"},{"$f":"VLOOKUP($AA469,DATA!$B$3:$E$6,4,0)","v":3.125E-2},0.30208333333333337,0.16111111111111115,{"$f":"DATA!$C$9","v":0.89},{"$f":"DATA!$C$10","v":64},1,217.50000000000006,407.81250000000006,0.14097222222222222,190.3125,0.46666666666666662,{"$f":"TIME(INT(AD469/60),INT(MOD(AD469,60)/1),0)","v":0},"","",278.39999999999998,229,"",229,"",null,{"$f":"X478","v":23},null,{"$f":"TEXT(Y468,\"ddd\")","v":"ma"},"MD",{"$f":"IFERROR(HLOOKUP(Y468,[1]DATA!$A$1:$NB$5,4,0),\"\")","v":"D2"},203,null,32,261,{"$f":"VLOOKUP(Y468,[1]SRI!$S$4:$Z$368,3,0)","v":5},11.499999999999943,0.56153256704980836,0.98235709244883551]
["23maND",{"$f":"VLOOKUP($AA470,DATA!$B$3:$E$6,2,0)","v":"22:30:00"},{"$f":"VLOOKUP($AA470,DATA!$B$3:$E$6,3,0)","v":"06:30:00"},{"$f":"VLOOKUP($AA470,DATA!$B$3:$E$6,4,0)","v":3.125E-2},0.30208333333333326,0.30208333333333326,{"$f":"DATA!$C$9","v":0.89},{"$f":"DATA!$C$10","v":64},1,407.81249999999989,407.81249999999989,0,"","",0,"","",332.8,303,303,"","",null,{"$f":"X478","v":23},null,{"$f":"TEXT(Y468,\"ddd\")","v":"ma"},"ND",{"$f":"IFERROR(HLOOKUP(Y468,[1]DATA!$A$1:$NB$5,5,0),\"\")","v":"D1"},0,null,9,312,{"$f":"VLOOKUP(Y468,[1]SRI!$S$4:$Z$368,4,0)","v":0},-104.81249999999989,0.7429885057471266,1]
["23diDD",{"$f":"VLOOKUP($AA471,DATA!$B$3:$E$6,2,0)","v":"06:30:00"},{"$f":"VLOOKUP($AA471,DATA!$B$3:$E$6,3,0)","v":"14:30:00"},{"$f":"VLOOKUP($AA471,DATA!$B$3:$E$6,4,0)","v":3.125E-2},0.30208333333333331,0.24166666666666664,{"$f":"DATA!$C$9","v":0.89},{"$f":"DATA!$C$10","v":64},1,326.24999999999994,407.8125,6.0416666666666667E-2,81.5625,0.2,0,"","",313.60000000000002,282,"","",282,null,{"$f":"X478","v":23},{"$f":"Y468+1","v":"2018-06-05"},{"$f":"TEXT(Y471,\"ddd\")","v":"di"},"DD",{"$f":"IFERROR(HLOOKUP(Y471,[1]DATA!$A$1:$NB$5,3,0),\"\")","v":"D3"},87,null,12,294,{"$f":"VLOOKUP(Y471,[1]SRI!$S$4:$Z$368,2,0)","v":0},-44.249999999999943,0.69149425287356325,1]
["23diMD",{"$f":"VLOOKUP($AA472,DATA!$B$3:$E$6,2,0)","v":"14:30:00"},{"$f":"VLOOKUP($AA472,DATA!$B$3:$E$6,3,0)","v":"22:30:00"},{"$f":"VLOOKUP($AA472,DATA!$B$3:$E$6,4,0)","v":3.125E-2},0.30208333333333337,0.24513888888888893,{"$f":"DATA!$C$9","v":0.89},{"$f":"DATA!$C$10","v":64},1,330.93750000000006,407.81250000000006,5.6944444444444443E-2,76.875,0.18850574712643675,0,"","",318.93333333333334,288,"",288,"",null,{"$f":"X478","v":23},null,{"$f":"TEXT(Y471,\"ddd\")","v":"di"},"MD",{"$f":"IFERROR(HLOOKUP(Y471,[1]DATA!$A$1:$NB$5,4,0),\"\")","v":"D2"},82,null,11,299,{"$f":"VLOOKUP(Y471,[1]SRI!$S$4:$Z$368,3,0)","v":0},-42.937500000000057,0.70620689655172408,1]
["23diND",{"$f":"VLOOKUP($AA473,DATA!$B$3:$E$6,2,0)","v":"22:30:00"},{"$f":"VLOOKUP($AA473,DATA!$B$3:$E$6,3,0)","v":"06:30:00"},{"$f":"VLOOKUP($AA473,DATA!$B$3:$E$6,4,0)","v":3.125E-2},0.30208333333333326,0.27916666666666656,{"$f":"DATA!$C$9","v":0.89},{"$f":"DATA!$C$10","v":64},1,376.87499999999989,407.81249999999989,2.2916666666666669E-2,30.937500000000004,7.5862068965517268E-2,0,"","",398.93333333333334,361,361,"","",null,{"$f":"X478","v":23},null,{"$f":"TEXT(Y471,\"ddd\")","v":"di"},"ND",{"$f":"IFERROR(HLOOKUP(Y471,[1]DATA!$A$1:$NB$5,5,0),\"\")","v":"D1"},33,null,13,374,{"$f":"VLOOKUP(Y471,[1]SRI!$S$4:$Z$368,4,0)","v":0},-15.874999999999886,0.88521072796934885,1]
["23woDD",{"$f":"VLOOKUP($AA474,DATA!$B$3:$E$6,2,0)","v":"06:30:00"},{"$f":"VLOOKUP($AA474,DATA!$B$3:$E$6,3,0)","v":"14:30:00"},{"$f":"VLOOKUP($AA474,DATA!$B$3:$E$6,4,0)","v":3.125E-2},0.30208333333333331,0.25138888888888888,{"$f":"DATA!$C$9","v":0.89},{"$f":"DATA!$C$10","v":64},1,339.375,407.8125,5.0694444444444452E-2,68.437500000000014,0.16781609195402303,0,"","",355.2,327,"","",327,null,{"$f":"X478","v":23},{"$f":"Y471+1","v":"2018-06-06"},{"$f":"TEXT(Y474,\"ddd\")","v":"wo"},"DD",{"$f":"IFERROR(HLOOKUP(Y474,[1]DATA!$A$1:$NB$5,3,0),\"\")","v":"D3"},73,null,6,333,{"$f":"VLOOKUP(Y474,[1]SRI!$S$4:$Z$368,2,0)","v":8},-12.375,0.80183908045977015,0.97797356828193838]
["23woMD",{"$f":"VLOOKUP($AA475,DATA!$B$3:$E$6,2,0)","v":"14:30:00"},{"$f":"VLOOKUP($AA475,DATA!$B$3:$E$6,3,0)","v":"22:30:00"},{"$f":"VLOOKUP($AA475,DATA!$B$3:$E$6,4,0)","v":3.125E-2},0.30208333333333337,0.20277777777777783,{"$f":"DATA!$C$9","v":0.89},{"$f":"DATA!$C$10","v":64},1,273.75000000000006,407.81250000000006,9.930555555555555E-2,134.0625,0.328735632183908,0,"","",299.73333333333335,261,"",261,"",null,{"$f":"X478","v":23},null,{"$f":"TEXT(Y474,\"ddd\")","v":"wo"},"MD",{"$f":"IFERROR(HLOOKUP(Y474,[1]DATA!$A$1:$NB$5,4,0),\"\")","v":"D2"},143,null,20,281,{"$f":"VLOOKUP(Y474,[1]SRI!$S$4:$Z$368,3,0)","v":18},-12.750000000000057,0.6399999999999999,0.94334872010071336]
["23woND",{"$f":"VLOOKUP($AA476,DATA!$B$3:$E$6,2,0)","v":"22:30:00"},{"$f":"VLOOKUP($AA476,DATA!$B$3:$E$6,3,0)","v":"06:30:00"},{"$f":"VLOOKUP($AA476,DATA!$B$3:$E$6,4,0)","v":3.125E-2},{"$f":"(C476-B476+(B476>C476))-D476","v":0.30208333333333326},{"$f":"E476-O476-L476","v":0.20972222222222214},{"$f":"DATA!$C$9","v":0.89},{"$f":"DATA!$C$10","v":64},1,283.12499999999989,407.81249999999989,9.2361111111111116E-2,124.6875,0.3057471264367817,0,"","",339.2,299,299,"","",null,{"$f":"X478","v":23},null,{"$f":"TEXT(Y474,\"ddd\")","v":"wo"},"ND",{"$f":"IFERROR(HLOOKUP(Y474,[1]DATA!$A$1:$NB$5,5,0),\"\")","v":"D1"},133,null,19,318,{"$f":"VLOOKUP(Y474,[1]SRI!$S$4:$Z$368,4,0)","v":38},15.875000000000114,0.73318007662835272,0.89925768822905616]
["23doDD",{"$f":"VLOOKUP($AA477,DATA!$B$3:$E$6,2,0)","v":"06:30:00"},{"$f":"VLOOKUP($AA477,DATA!$B$3:$E$6,3,0)","v":"14:30:00"},{"$f":"VLOOKUP($AA477,DATA!$B$3:$E$6,4,0)","v":3.125E-2},0.30208333333333331,0.30208333333333331,{"$f":"DATA!$C$9","v":0.89},{"$f":"DATA!$C$10","v":64},1,407.8125,407.8125,0,"","",0,"","",349.86666666666667,321,"","",321,null,{"$f":"X478","v":23},{"$f":"Y474+1","v":"2018-06-07"},{"$f":"TEXT(Y477,\"ddd\")","v":"do"},"DD",{"$f":"IFERROR(HLOOKUP(Y477,[1]DATA!$A$1:$NB$5,3,0),\"\")","v":"D3"},0,null,7,328,{"$f":"VLOOKUP(Y477,[1]SRI!$S$4:$Z$368,2,0)","v":35},-86.8125,0.78712643678160921,0.9090594145158496]
["23doMD",{"$f":"VLOOKUP($AA478,DATA!$B$3:$E$6,2,0)","v":"14:30:00"},{"$f":"VLOOKUP($AA478,DATA!$B$3:$E$6,3,0)","v":"22:30:00"},{"$f":"VLOOKUP($AA478,DATA!$B$3:$E$6,4,0)","v":3.125E-2},0.30208333333333337,0.2194444444444445,{"$f":"DATA!$C$9","v":0.89},{"$f":"DATA!$C$10","v":64},1,296.25000000000006,407.81250000000006,8.2638888888888887E-2,111.5625,0.27356321839080455,0,"","",331.73333333333335,294,"",294,"",null,{"$f":"WEEKNUM($Y468)","v":23},null,{"$f":"TEXT(Y477,\"ddd\")","v":"do"},"MD",{"$f":"IFERROR(HLOOKUP(Y477,[1]DATA!$A$1:$NB$5,4,0),\"\")","v":"D2"},119,null,17,311,{"$f":"VLOOKUP(Y477,[1]SRI!$S$4:$Z$368,3,0)","v":4},-2.2500000000000568,0.72091954022988491,0.98808578236695788]
["23doND",{"$f":"VLOOKUP($AA479,DATA!$B$3:$E$6,2,0)","v":"22:30:00"},{"$f":"VLOOKUP($AA479,DATA!$B$3:$E$6,3,0)","v":"06:30:00"},{"$f":"VLOOKUP($AA479,DATA!$B$3:$E$6,4,0)","v":3.125E-2},0.30208333333333326,0.17638888888888882,{"$f":"DATA!$C$9","v":0.89},{"$f":"DATA!$C$10","v":64},1,238.12499999999991,407.81249999999989,0.12569444444444444,169.6875,0.4160919540229886,0,"","",278.39999999999998,253,253,"","",null,{"$f":"X478","v":23},null,{"$f":"TEXT(Y477,\"ddd\")","v":"do"},"ND",{"$f":"IFERROR(HLOOKUP(Y477,[1]DATA!$A$1:$NB$5,5,0),\"\")","v":"D1"},181,null,8,261,{"$f":"VLOOKUP(Y477,[1]SRI!$S$4:$Z$368,4,0)","v":4},14.875000000000085,0.62038314176245224,0.98583569405099147]
["23vrDD",{"$f":"VLOOKUP($AA480,DATA!$B$3:$E$6,2,0)","v":"06:30:00"},{"$f":"VLOOKUP($AA480,DATA!$B$3:$E$6,3,0)","v":"14:30:00"},{"$f":"VLOOKUP($AA480,DATA!$B$3:$E$6,4,0)","v":3.125E-2},0.30208333333333331,0.24652777777777776,{"$f":"DATA!$C$9","v":0.89},{"$f":"DATA!$C$10","v":64},1,332.8125,407.8125,5.5555555555555552E-2,75,0.18390804597701149,0,"","",317.86666666666667,293,"","",293,null,{"$f":"X478","v":23},{"$f":"Y477+1","v":"2018-06-08"},{"$f":"TEXT(Y480,\"ddd\")","v":"vr"},"DD",{"$f":"IFERROR(HLOOKUP(Y480,[1]DATA!$A$1:$NB$5,3,0),\"\")","v":"D3"},80,null,5,298,{"$f":"VLOOKUP(Y480,[1]SRI!$S$4:$Z$368,2,0)","v":8},-39.8125,0.71846743295019155,0.97545008183306059]
["23vrMD",{"$f":"VLOOKUP($AA481,DATA!$B$3:$E$6,2,0)","v":"14:30:00"},{"$f":"VLOOKUP($AA481,DATA!$B$3:$E$6,3,0)","v":"22:30:00"},{"$f":"VLOOKUP($AA481,DATA!$B$3:$E$6,4,0)","v":3.125E-2},0.30208333333333337,0.22291666666666671,{"$f":"DATA!$C$9","v":0.89},{"$f":"DATA!$C$10","v":64},1,300.93750000000006,407.81250000000006,7.9166666666666663E-2,106.875,0.26206896551724135,0,"","",333.86666666666667,298,"",298,"",null,{"$f":"X478","v":23},null,{"$f":"TEXT(Y480,\"ddd\")","v":"vr"},"MD",{"$f":"IFERROR(HLOOKUP(Y480,[1]DATA!$A$1:$NB$5,4,0),\"\")","v":"D2"},114,null,15,313,{"$f":"VLOOKUP(Y480,[1]SRI!$S$4:$Z$368,3,0)","v":17},-2.9375000000000568,0.73072796934865891,0.95154854645639364]
["23vrND",{"$f":"VLOOKUP($AA482,DATA!$B$3:$E$6,2,0)","v":"22:30:00"},{"$f":"VLOOKUP($AA482,DATA!$B$3:$E$6,3,0)","v":"06:30:00"},{"$f":"VLOOKUP($AA482,DATA!$B$3:$E$6,4,0)","v":3.125E-2},0.30208333333333326,0.22430555555555548,{"$f":"DATA!$C$9","v":0.89},{"$f":"DATA!$C$10","v":64},1,302.81249999999989,407.81249999999989,7.7777777777777779E-2,105,0.25747126436781614,0,"","",348.8,311,"",311,"",null,{"$f":"X478","v":23},null,{"$f":"TEXT(Y480,\"ddd\")","v":"vr"},"ND",{"$f":"IFERROR(HLOOKUP(Y480,[1]DATA!$A$1:$NB$5,5,0),\"\")","v":"D2"},112,null,16,327,{"$f":"VLOOKUP(Y480,[1]SRI!$S$4:$Z$368,4,0)","v":0},8.1875000000001137,0.76260536398467449,1]
["23zaDD",{"$f":"VLOOKUP($AA483,DATA!$B$3:$E$6,2,0)","v":"06:30:00"},{"$f":"VLOOKUP($AA483,DATA!$B$3:$E$6,3,0)","v":"14:30:00"},{"$f":"VLOOKUP($AA483,DATA!$B$3:$E$6,4,0)","v":3.125E-2},0.30208333333333331,0.30208333333333331,{"$f":"DATA!$C$9","v":0.89},{"$f":"DATA!$C$10","v":64},1,407.8125,407.8125,0,"","",0,"","",0,"","","","",null,{"$f":"X478","v":23},{"$f":"Y480+1","v":"2018-06-09"},{"$f":"TEXT(Y483,\"ddd\")","v":"za"},"DD",{"$f":"IFERROR(HLOOKUP(Y483,[1]DATA!$A$1:$NB$5,3,0),\"\")","v":"D3"},null,null,null,null,{"$f":"VLOOKUP(Y483,[1]SRI!$S$4:$Z$368,2,0)","v":0},"","",""]
["23zaMD",{"$f":"VLOOKUP($AA484,DATA!$B$3:$E$6,2,0)","v":"14:30:00"},{"$f":"VLOOKUP($AA484,DATA!$B$3:$E$6,3,0)","v":"22:30:00"},{"$f":"VLOOKUP($AA484,DATA!$B$3:$E$6,4,0)","v":3.125E-2},0.30208333333333337,0.30208333333333337,{"$f":"DATA!$C$9","v":0.89},{"$f":"DATA!$C$10","v":64},1,407.81250000000006,407.81250000000006,0,"","",0,"","",0,"","","","",null,{"$f":"X478","v":23},null,{"$f":"TEXT(Y483,\"ddd\")","v":"za"},"MD",{"$f":"IFERROR(HLOOKUP(Y483,[1]DATA!$A$1:$NB$5,4,0),\"\")","v":"-"},null,null,null,null,{"$f":"VLOOKUP(Y483,[1]SRI!$S$4:$Z$368,3,0)","v":0},"","",""]
["23zaND",{"$f":"VLOOKUP($AA485,DATA!$B$3:$E$6,2,0)","v":"22:30:00"},{"$f":"VLOOKUP($AA485,DATA!$B$3:$E$6,3,0)","v":"06:30:00"},{"$f":"VLOOKUP($AA485,DATA!$B$3:$E$6,4,0)","v":3.125E-2},0.30208333333333326,0.30208333333333326,{"$f":"DATA!$C$9","v":0.89},{"$f":"DATA!$C$10","v":64},1,407.81249999999989,407.81249999999989,0,"","",0,"","",0,"","","","",null,{"$f":"X478","v":23},null,{"$f":"TEXT(Y483,\"ddd\")","v":"za"},"ND",{"$f":"IFERROR(HLOOKUP(Y483,[1]DATA!$A$1:$NB$5,5,0),\"\")","v":"-"},null,null,null,null,{"$f":"VLOOKUP(Y483,[1]SRI!$S$4:$Z$368,4,0)","v":0},"","",""]
["23zoDD",{"$f":"VLOOKUP($AA486,DATA!$B$3:$E$6,2,0)","v":"06:30:00"},{"$f":"VLOOKUP($AA486,DATA!$B$3:$E$6,3,0)","v":"14:30:00"},{"$f":"VLOOKUP($AA486,DATA!$B$3:$E$6,4,0)","v":3.125E-2},0.30208333333333331,0.30208333333333331,{"$f":"DATA!$C$9","v":0.89},{"$f":"DATA!$C$10","v":64},1,407.8125,407.8125,0,"","",0,"","",0,"","","","",null,{"$f":"X478","v":23},{"$f":"Y483+1","v":"2018-06-10"},{"$f":"TEXT(Y486,\"ddd\")","v":"zo"},"DD",{"$f":"IFERROR(HLOOKUP(Y486,[1]DATA!$A$1:$NB$5,3,0),\"\")","v":"-"},null,null,null,null,{"$f":"VLOOKUP(Y486,[1]SRI!$S$4:$Z$368,2,0)","v":0},"","",""]
["23zoMD",{"$f":"VLOOKUP($AA487,DATA!$B$3:$E$6,2,0)","v":"14:30:00"},{"$f":"VLOOKUP($AA487,DATA!$B$3:$E$6,3,0)","v":"22:30:00"},{"$f":"VLOOKUP($AA487,DATA!$B$3:$E$6,4,0)","v":3.125E-2},0.30208333333333337,0.30208333333333337,{"$f":"DATA!$C$9","v":0.89},{"$f":"DATA!$C$10","v":64},1,407.81250000000006,407.81250000000006,0,"","",0,"","",0,"","","","",null,{"$f":"X478","v":23},null,{"$f":"TEXT(Y486,\"ddd\")","v":"zo"},"MD",{"$f":"IFERROR(HLOOKUP(Y486,[1]DATA!$A$1:$NB$5,4,0),\"\")","v":"-"},null,null,null,null,{"$f":"VLOOKUP(Y486,[1]SRI!$S$4:$Z$368,3,0)","v":0},"","",""]
["23zoZND",{"$f":"VLOOKUP($AA488,DATA!$B$3:$E$6,2,0)","v":"00:00:00"},{"$f":"VLOOKUP($AA488,DATA!$B$3:$E$6,3,0)","v":"00:00:00"},{"$f":"VLOOKUP($AA488,DATA!$B$3:$E$6,4,0)","v":3.125E-2},-3.125E-2,-3.125E-2,{"$f":"DATA!$C$9","v":0.89},{"$f":"DATA!$C$10","v":64},1,-42.1875,-42.1875,0,"","",0,"","",0,"","","","",null,{"$f":"X478","v":23},null,{"$f":"TEXT(Y486,\"ddd\")","v":"zo"},"ZND",{"$f":"IFERROR(HLOOKUP(Y486,[1]DATA!$A$1:$NB$5,5,0),\"\")","v":"-"},null,null,null,null,{"$f":"VLOOKUP(Y486,[1]SRI!$S$4:$Z$368,4,0)","v":0},"","",""]
["24maDD",{"$f":"VLOOKUP($AA489,DATA!$B$3:$E$6,2,0)","v":"06:30:00"},{"$f":"VLOOKUP($AA489,DATA!$B$3:$E$6,3,0)","v":"14:30:00"},{"$f":"VLOOKUP($AA489,DATA!$B$3:$E$6,4,0)","v":3.125E-2},0.30208333333333331,0.21388888888888885,{"$f":"DATA!$C$9","v":0.89},{"$f":"DATA!$C$10","v":64},1,288.74999999999994,407.8125,8.819444444444445E-2,119.06250000000001,0.29195402298850576,{"$f":"TIME(INT($AD489/60),INT(MOD($AD489,60)/1),0)","v":0},"","",304,272,"",272,"",null,{"$f":"X499","v":24},{"$f":"Y486+1","v":"2018-06-11"},{"$f":"TEXT(Y489,\"ddd\")","v":"ma"},"DD",{"$f":"IFERROR(HLOOKUP(Y489,[1]DATA!$A$1:$NB$5,3,0),\"\")","v":"D2"},127,null,13,285,{"$f":"VLOOKUP(Y489,[1]SRI!$S$4:$Z$368,2,0)","v":3},-16.749999999999943,0.66697318007662831,0.99022801302931596,{"$f":"IF(SUMIF(S489:S509,\">0\",K489:K509)=0,\"\",SUMIF(S489:S509,\">0\",K489:K509))","v":6117.1875},{"$f":"IF(SUM(S489:S509)=0,\"\",SUM(S489:S509))","v":4289},{"$f":"IFERROR(AL489/AK489,\"-\")","v":0.70113920817369091},{"$f":"IF(SUM(M489:M509)=0,\"0\",SUM(M489:M509))","v":1519.6875},{"$f":"IFERROR(AN489/AK489,\"-\")","v":0.24842911877394636},{"$f":"IF(SUM(P489:P509)=0,0,SUM(P489:P509))","v":0},{"$f":"IFERROR(AP489/AK489,\"-\")","v":0},{"$f":"IFERROR(AVERAGE(AJ489:AJ509),\"-\")","v":0.98483418921165189},{"$f":"IFERROR(SUMIF($AB489:$AB509,AS$5,$AJ489:$AJ509)/COUNTIFS($AB489:$AB509,AS$5,$AJ489:$AJ509,\">0\"),\"\")","v":0.98310297450409556},0.99177930609779374,0.97962028703306603,{"$f":"IFERROR((AK489-AL489-AN489-AP489),\"-\")","v":308.5},{"$f":"IFERROR((1-AM489-AO489-AQ489), \"-\")","v":5.0431673052362735E-2},{"$f":"IFERROR((AV489*$AE$2)/60,\"-\")","v":329.06666666666666},{"$f":"IFERROR(SUM(AG489:AG509),\"\")","v":74}]
["24maMD",{"$f":"VLOOKUP($AA490,DATA!$B$3:$E$6,2,0)","v":"14:30:00"},{"$f":"VLOOKUP($AA490,DATA!$B$3:$E$6,3,0)","v":"22:30:00"},{"$f":"VLOOKUP($AA490,DATA!$B$3:$E$6,4,0)","v":3.125E-2},0.30208333333333337,0.26527777777777783,{"$f":"DATA!$C$9","v":0.89},{"$f":"DATA!$C$10","v":64},1,358.12500000000006,407.81250000000006,3.6805555555555557E-2,49.6875,0.1218390804597701,{"$f":"TIME(INT(AD490/60),INT(MOD(AD490,60)/1),0)","v":0},"","",374.4,339,339,"","",null,{"$f":"X499","v":24},null,{"$f":"TEXT(Y489,\"ddd\")","v":"ma"},"MD",{"$f":"IFERROR(HLOOKUP(Y489,[1]DATA!$A$1:$NB$5,4,0),\"\")","v":"D1"},53,null,12,351,{"$f":"VLOOKUP(Y489,[1]SRI!$S$4:$Z$368,3,0)","v":7},-19.125000000000057,0.83126436781609181,0.9816465652857892]
["24maND",{"$f":"VLOOKUP($AA491,DATA!$B$3:$E$6,2,0)","v":"22:30:00"},{"$f":"VLOOKUP($AA491,DATA!$B$3:$E$6,3,0)","v":"06:30:00"},{"$f":"VLOOKUP($AA491,DATA!$B$3:$E$6,4,0)","v":3.125E-2},0.30208333333333326,0.2763888888888888,{"$f":"DATA!$C$9","v":0.89},{"$f":"DATA!$C$10","v":64},1,373.12499999999989,407.81249999999989,2.5694444444444447E-2,34.6875,8.5057471264367843E-2,0,"","",356.26666666666665,317,"","",317,null,{"$f":"X499","v":24},null,{"$f":"TEXT(Y489,\"ddd\")","v":"ma"},"ND",{"$f":"IFERROR(HLOOKUP(Y489,[1]DATA!$A$1:$NB$5,5,0),\"\")","v":"D3"},37,null,17,334,{"$f":"VLOOKUP(Y489,[1]SRI!$S$4:$Z$368,4,0)","v":0},-56.124999999999886,0.77731800766283543,1]
["24diDD",{"$f":"VLOOKUP($AA492,DATA!$B$3:$E$6,2,0)","v":"06:30:00"},{"$f":"VLOOKUP($AA492,DATA!$B$3:$E$6,3,0)","v":"14:30:00"},{"$f":"VLOOKUP($AA492,DATA!$B$3:$E$6,4,0)","v":3.125E-2},0.30208333333333331,0.2472222222222222,{"$f":"DATA!$C$9","v":0.89},{"$f":"DATA!$C$10","v":64},1,333.75,407.8125,5.486111111111111E-2,74.0625,0.18160919540229886,0,"","",350.93333333333334,309,"",309,"",null,{"$f":"X499","v":24},{"$f":"Y489+1","v":"2018-06-12"},{"$f":"TEXT(Y492,\"ddd\")","v":"di"},"DD",{"$f":"IFERROR(HLOOKUP(Y492,[1]DATA!$A$1:$NB$5,3,0),\"\")","v":"D2"},79,null,20,329,{"$f":"VLOOKUP(Y492,[1]SRI!$S$4:$Z$368,2,0)","v":4},-24.75,0.75770114942528732,0.98873027798647628]
["24diMD",{"$f":"VLOOKUP($AA493,DATA!$B$3:$E$6,2,0)","v":"14:30:00"},{"$f":"VLOOKUP($AA493,DATA!$B$3:$E$6,3,0)","v":"22:30:00"},{"$f":"VLOOKUP($AA493,DATA!$B$3:$E$6,4,0)","v":3.125E-2},0.30208333333333337,0.1680555555555556,{"$f":"DATA!$C$9","v":0.89},{"$f":"DATA!$C$10","v":64},1,226.87500000000006,407.81250000000006,0.13402777777777777,180.9375,0.44367816091954015,0,"","",281.60000000000002,246,246,"","",null,{"$f":"X499","v":24},null,{"$f":"TEXT(Y492,\"ddd\")","v":"di"},"MD",{"$f":"IFERROR(HLOOKUP(Y492,[1]DATA!$A$1:$NB$5,4,0),\"\")","v":"D1"},193,null,18,264,{"$f":"VLOOKUP(Y492,[1]SRI!$S$4:$Z$368,3,0)","v":5},19.124999999999943,0.6032183908045976,0.98255408234473129]
["24diND",{"$f":"VLOOKUP($AA494,DATA!$B$3:$E$6,2,0)","v":"22:30:00"},{"$f":"VLOOKUP($AA494,DATA!$B$3:$E$6,3,0)","v":"06:30:00"},{"$f":"VLOOKUP($AA494,DATA!$B$3:$E$6,4,0)","v":3.125E-2},0.30208333333333326,0.18194444444444435,{"$f":"DATA!$C$9","v":0.89},{"$f":"DATA!$C$10","v":64},1,245.62499999999989,407.81249999999989,0.12013888888888889,162.1875,0.39770114942528745,0,"","",280.5333333333333,254,"","",254,null,{"$f":"X499","v":24},null,{"$f":"TEXT(Y492,\"ddd\")","v":"di"},"ND",{"$f":"IFERROR(HLOOKUP(Y492,[1]DATA!$A$1:$NB$5,5,0),\"\")","v":"D3"},173,null,9,263,{"$f":"VLOOKUP(Y492,[1]SRI!$S$4:$Z$368,4,0)","v":0},8.3750000000001137,0.62283524904214582,1]
["24woDD",{"$f":"VLOOKUP($AA495,DATA!$B$3:$E$6,2,0)","v":"06:30:00"},{"$f":"VLOOKUP($AA495,DATA!$B$3:$E$6,3,0)","v":"14:30:00"},{"$f":"VLOOKUP($AA495,DATA!$B$3:$E$6,4,0)","v":3.125E-2},0.30208333333333331,0.29097222222222219,{"$f":"DATA!$C$9","v":0.89},{"$f":"DATA!$C$10","v":64},1,392.81249999999994,407.8125,1.1111111111111112E-2,15,3.6781609195402298E-2,0,"","",366.93333333333334,334,"",334,"",null,{"$f":"X499","v":24},{"$f":"Y492+1","v":"2018-06-13"},{"$f":"TEXT(Y495,\"ddd\")","v":"wo"},"DD",{"$f":"IFERROR(HLOOKUP(Y495,[1]DATA!$A$1:$NB$5,3,0),\"\")","v":"D2"},16,null,10,344,{"$f":"VLOOKUP(Y495,[1]SRI!$S$4:$Z$368,2,0)","v":3},-58.812499999999943,0.81900383141762456,0.99189043070823568]
[{"$f":"X496&Z496&AA496","v":"24woMD"},{"$f":"VLOOKUP($AA496,DATA!$B$3:$E$6,2,0)","v":"14:30:00"},{"$f":"VLOOKUP($AA496,DATA!$B$3:$E$6,3,0)","v":"22:30:00"},{"$f":"VLOOKUP($AA496,DATA!$B$3:$E$6,4,0)","v":3.125E-2},0.30208333333333337,0.29166666666666669,{"$f":"DATA!$C$9","v":0.89},{"$f":"DATA!$C$10","v":64},1,393.75,407.81250000000006,1.0416666666666666E-2,14.0625,3.4482758620689648E-2,0,{"$f":"IF($O496*86400/$H496=0,\"\",$O496*86400/$H496)","v":""},"",403.2,366,366,"","",null,{"$f":"X499","v":24},null,{"$f":"TEXT(Y495,\"ddd\")","v":"wo"},"MD",{"$f":"IFERROR(HLOOKUP(Y495,[1]DATA!$A$1:$NB$5,4,0),\"\")","v":"D1"},15,null,12,378,{"$f":"VLOOKUP(Y495,[1]SRI!$S$4:$Z$368,3,0)","v":11},-27.75,0.89747126436781599,0.97344278126508932]
["24woND",{"$f":"VLOOKUP($AA497,DATA!$B$3:$E$6,2,0)","v":"22:30:00"},{"$f":"VLOOKUP($AA497,DATA!$B$3:$E$6,3,0)","v":"06:30:00"},{"$f":"VLOOKUP($AA497,DATA!$B$3:$E$6,4,0)","v":3.125E-2},0.30208333333333326,0.17847222222222214,{"$f":"DATA!$C$9","v":0.89},{"$f":"DATA!$C$10","v":64},1,240.93749999999989,407.81249999999989,0.12361111111111112,166.875,0.40919540229885071,0,"","",260.26666666666665,230,"","",230,null,{"$f":"X499","v":24},null,{"$f":"TEXT(Y495,\"ddd\")","v":"wo"},"ND",{"$f":"IFERROR(HLOOKUP(Y495,[1]DATA!$A$1:$NB$5,5,0),\"\")","v":"D3"},178,null,14,244,{"$f":"VLOOKUP(Y495,[1]SRI!$S$4:$Z$368,4,0)","v":25},-10.937499999999886,0.56398467432950206,0.91236270156578636]
["24doDD",{"$f":"VLOOKUP($AA498,DATA!$B$3:$E$6,2,0)","v":"06:30:00"},{"$f":"VLOOKUP($AA498,DATA!$B$3:$E$6,3,0)","v":"14:30:00"},{"$f":"VLOOKUP($AA498,DATA!$B$3:$E$6,4,0)","v":3.125E-2},0.30208333333333331,0.19930555555555551,{"$f":"DATA!$C$9","v":0.89},{"$f":"DATA!$C$10","v":64},1,269.06249999999994,407.8125,0.10277777777777779,138.75,0.34022988505747126,0,"","",330.66666666666669,293,"",293,"",null,{"$f":"X499","v":24},{"$f":"Y495+1","v":"2018-06-14"},{"$f":"TEXT(Y498,\"ddd\")","v":"do"},"DD",{"$f":"IFERROR(HLOOKUP(Y498,[1]DATA!$A$1:$NB$5,3,0),\"\")","v":"D2"},148,null,17,310,{"$f":"VLOOKUP(Y498,[1]SRI!$S$4:$Z$368,2,0)","v":4},23.937500000000057,0.71846743295019155,0.98804780876494025]
["24doMD",{"$f":"VLOOKUP($AA499,DATA!$B$3:$E$6,2,0)","v":"14:30:00"},{"$f":"VLOOKUP($AA499,DATA!$B$3:$E$6,3,0)","v":"22:30:00"},{"$f":"VLOOKUP($AA499,DATA!$B$3:$E$6,4,0)","v":3.125E-2},0.30208333333333337,0.17083333333333336,{"$f":"DATA!$C$9","v":0.89},{"$f":"DATA!$C$10","v":64},1,230.62500000000003,407.81250000000006,0.13125000000000001,177.1875,0.43448275862068958,0,"","",285.86666666666667,254,254,"","",null,{"$f":"WEEKNUM($Y489)","v":24},null,{"$f":"TEXT(Y498,\"ddd\")","v":"do"},"MD",{"$f":"IFERROR(HLOOKUP(Y498,[1]DATA!$A$1:$NB$5,4,0),\"\")","v":"D1"},189,null,14,268,{"$f":"VLOOKUP(Y498,[1]SRI!$S$4:$Z$368,3,0)","v":0},23.374999999999972,0.62283524904214549,1]
["24doND",{"$f":"VLOOKUP($AA500,DATA!$B$3:$E$6,2,0)","v":"22:30:00"},{"$f":"VLOOKUP($AA500,DATA!$B$3:$E$6,3,0)","v":"06:30:00"},{"$f":"VLOOKUP($AA500,DATA!$B$3:$E$6,4,0)","v":3.125E-2},0.30208333333333326,0.30208333333333326,{"$f":"DATA!$C$9","v":0.89},{"$f":"DATA!$C$10","v":64},1,407.81249999999989,407.81249999999989,0,"","",0,"","",345.6,288,"","",288,null,{"$f":"X499","v":24},null,{"$f":"TEXT(Y498,\"ddd\")","v":"do"},"ND",{"$f":"IFERROR(HLOOKUP(Y498,[1]DATA!$A$1:$NB$5,5,0),\"\")","v":"D3"},0,null,36,324,{"$f":"VLOOKUP(Y498,[1]SRI!$S$4:$Z$368,4,0)","v":5},-119.81249999999989,0.70620689655172431,0.98573873359954367]
["24vrDD",{"$f":"VLOOKUP($AA501,DATA!$B$3:$E$6,2,0)","v":"06:30:00"},{"$f":"VLOOKUP($AA501,DATA!$B$3:$E$6,3,0)","v":"14:30:00"},{"$f":"VLOOKUP($AA501,DATA!$B$3:$E$6,4,0)","v":3.125E-2},0.30208333333333331,0.22222222222222221,{"$f":"DATA!$C$9","v":0.89},{"$f":"DATA!$C$10","v":64},1,300,407.8125,7.9861111111111105E-2,107.81249999999999,0.26436781609195398,0,"","",262.39999999999998,239,"",239,"",null,{"$f":"X499","v":24},"2018-06-15",{"$f":"TEXT(Y501,\"ddd\")","v":"vr"},"DD",{"$f":"IFERROR(HLOOKUP(Y501,[1]DATA!$A$1:$NB$5,3,0),\"\")","v":"D2"},115,null,7,246,{"$f":"VLOOKUP(Y501,[1]SRI!$S$4:$Z$368,2,0)","v":0},-61,0.5860536398467433,1]
["24vrMD",{"$f":"VLOOKUP($AA502,DATA!$B$3:$E$6,2,0)","v":"14:30:00"},{"$f":"VLOOKUP($AA502,DATA!$B$3:$E$6,3,0)","v":"22:30:00"},{"$f":"VLOOKUP($AA502,DATA!$B$3:$E$6,4,0)","v":3.125E-2},0.30208333333333337,0.19861111111111113,{"$f":"DATA!$C$9","v":0.89},{"$f":"DATA!$C$10","v":64},1,268.125,407.81250000000006,0.10347222222222223,139.6875,0.34252873563218383,0,"","",309.33333333333331,274,274,"","",null,{"$f":"X499","v":24},null,{"$f":"TEXT(Y501,\"ddd\")","v":"vr"},"MD",{"$f":"IFERROR(HLOOKUP(Y501,[1]DATA!$A$1:$NB$5,4,0),\"\")","v":"D1"},149,null,16,290,{"$f":"VLOOKUP(Y501,[1]SRI!$S$4:$Z$368,3,0)","v":7},5.875,0.67187739463601526,0.97787144362486833]
["24vrND",{"$f":"VLOOKUP($AA503,DATA!$B$3:$E$6,2,0)","v":"22:30:00"},{"$f":"VLOOKUP($AA503,DATA!$B$3:$E$6,3,0)","v":"06:30:00"},{"$f":"VLOOKUP($AA503,DATA!$B$3:$E$6,4,0)","v":3.125E-2},0.30208333333333326,0.19861111111111102,{"$f":"DATA!$C$9","v":0.89},{"$f":"DATA!$C$10","v":64},1,268.12499999999989,407.81249999999989,0.10347222222222223,139.6875,0.342528735632184,0,"","",309.33333333333331,274,"","",274,null,{"$f":"X499","v":24},null,{"$f":"TEXT(Y501,\"ddd\")","v":"vr"},"ND",{"$f":"IFERROR(HLOOKUP(Y501,[1]DATA!$A$1:$NB$5,5,0),\"\")","v":"D3"},149,null,16,290,{"$f":"VLOOKUP(Y501,[1]SRI!$S$4:$Z$368,4,0)","v":0},5.8750000000001137,0.67187739463601548,1]
["24zaDD",{"$f":"VLOOKUP($AA504,DATA!$B$3:$E$6,2,0)","v":"06:30:00"},{"$f":"VLOOKUP($AA504,DATA!$B$3:$E$6,3,0)","v":"14:30:00"},{"$f":"VLOOKUP($AA504,DATA!$B$3:$E$6,4,0)","v":3.125E-2},0.30208333333333331,0.30208333333333331,{"$f":"DATA!$C$9","v":0.89},{"$f":"DATA!$C$10","v":64},1,407.8125,407.8125,0,"","",0,"","",0,"","","","",null,{"$f":"X499","v":24},"2018-06-16",{"$f":"TEXT(Y504,\"ddd\")","v":"za"},"DD",{"$f":"IFERROR(HLOOKUP(Y504,[1]DATA!$A$1:$NB$5,3,0),\"\")","v":"D2"},null,null,null,null,{"$f":"VLOOKUP(Y504,[1]SRI!$S$4:$Z$368,2,0)","v":0},"","",""]
["24zaMD",{"$f":"VLOOKUP($AA505,DATA!$B$3:$E$6,2,0)","v":"14:30:00"},{"$f":"VLOOKUP($AA505,DATA!$B$3:$E$6,3,0)","v":"22:30:00"},{"$f":"VLOOKUP($AA505,DATA!$B$3:$E$6,4,0)","v":3.125E-2},0.30208333333333337,0.30208333333333337,{"$f":"DATA!$C$9","v":0.89},{"$f":"DATA!$C$10","v":64},1,407.81250000000006,407.81250000000006,0,"","",0,"","",0,"","","","",null,{"$f":"X499","v":24},null,{"$f":"TEXT(Y504,\"ddd\")","v":"za"},"MD",{"$f":"IFERROR(HLOOKUP(Y504,[1]DATA!$A$1:$NB$5,4,0),\"\")","v":"-"},null,null,null,null,{"$f":"VLOOKUP(Y504,[1]SRI!$S$4:$Z$368,3,0)","v":0},"","",""]
["24zaND",{"$f":"VLOOKUP($AA506,DATA!$B$3:$E$6,2,0)","v":"22:30:00"},{"$f":"VLOOKUP($AA506,DATA!$B$3:$E$6,3,0)","v":"06:30:00"},{"$f":"VLOOKUP($AA506,DATA!$B$3:$E$6,4,0)","v":3.125E-2},0.30208333333333326,0.30208333333333326,{"$f":"DATA!$C$9","v":0.89},{"$f":"DATA!$C$10","v":64},1,407.81249999999989,407.81249999999989,0,"","",0,"","",0,"","","","",null,{"$f":"X499","v":24},null,{"$f":"TEXT(Y504,\"ddd\")","v":"za"},"ND",{"$f":"IFERROR(HLOOKUP(Y504,[1]DATA!$A$1:$NB$5,5,0),\"\")","v":"-"},null,null,null,null,{"$f":"VLOOKUP(Y504,[1]SRI!$S$4:$Z$368,4,0)","v":0},"","",""]
["24zoDD",{"$f":"VLOOKUP($AA507,DATA!$B$3:$E$6,2,0)","v":"06:30:00"},{"$f":"VLOOKUP($AA507,DATA!$B$3:$E$6,3,0)","v":"14:30:00"},{"$f":"VLOOKUP($AA507,DATA!$B$3:$E$6,4,0)","v":3.125E-2},0.30208333333333331,0.30208333333333331,{"$f":"DATA!$C$9","v":0.89},{"$f":"DATA!$C$10","v":64},1,407.8125,407.8125,0,"","",0,"","",0,"","","","",null,{"$f":"X499","v":24},"2018-06-17",{"$f":"TEXT(Y507,\"ddd\")","v":"zo"},"DD",{"$f":"IFERROR(HLOOKUP(Y507,[1]DATA!$A$1:$NB$5,3,0),\"\")","v":"-"},null,null,null,null,{"$f":"VLOOKUP(Y507,[1]SRI!$S$4:$Z$368,2,0)","v":0},"","",""]
["24zoMD",{"$f":"VLOOKUP($AA508,DATA!$B$3:$E$6,2,0)","v":"14:30:00"},{"$f":"VLOOKUP($AA508,DATA!$B$3:$E$6,3,0)","v":"22:30:00"},{"$f":"VLOOKUP($AA508,DATA!$B$3:$E$6,4,0)","v":3.125E-2},0.30208333333333337,0.30208333333333337,{"$f":"DATA!$C$9","v":0.89},{"$f":"DATA!$C$10","v":64},1,407.81250000000006,407.81250000000006,0,"","",0,"","",0,"","","","",null,{"$f":"X499","v":24},null,{"$f":"TEXT(Y507,\"ddd\")","v":"zo"},"MD",{"$f":"IFERROR(HLOOKUP(Y507,[1]DATA!$A$1:$NB$5,4,0),\"\")","v":"-"},null,null,null,null,{"$f":"VLOOKUP(Y507,[1]SRI!$S$4:$Z$368,3,0)","v":0},"","",""]
["24zoZND",{"$f":"VLOOKUP($AA509,DATA!$B$3:$E$6,2,0)","v":"00:00:00"},{"$f":"VLOOKUP($AA509,DATA!$B$3:$E$6,3,0)","v":"00:00:00"},{"$f":"VLOOKUP($AA509,DATA!$B$3:$E$6,4,0)","v":3.125E-2},-3.125E-2,-3.125E-2,{"$f":"DATA!$C$9","v":0.89},{"$f":"DATA!$C$10","v":64},1,-42.1875,-42.1875,0,"","",0,"","",0,"","","","",null,{"$f":"X499","v":24},null,{"$f":"TEXT(Y507,\"ddd\")","v":"zo"},"ZND",{"$f":"IFERROR(HLOOKUP(Y507,[1]DATA!$A$1:$NB$5,5,0),\"\")","v":"-"},null,null,null,null,{"$f":"VLOOKUP(Y507,[1]SRI!$S$4:$Z$368,4,0)","v":0},"","",""]
["25maDD",{"$f":"VLOOKUP($AA510,DATA!$B$3:$E$6,2,0)","v":"06:30:00"},{"$f":"VLOOKUP($AA510,DATA!$B$3:$E$6,3,0)","v":"14:30:00"},{"$f":"VLOOKUP($AA510,DATA!$B$3:$E$6,4,0)","v":3.125E-2},0.30208333333333331,0.13749999999999998,{"$f":"DATA!$C$9","v":0.89},{"$f":"DATA!$C$10","v":64},1,185.62499999999997,407.8125,0.16458333333333333,222.1875,0.54482758620689653,{"$f":"TIME(INT($AD510/60),INT(MOD($AD510,60)/1),0)","v":0},"","",218.66666666666666,197,197,"","",null,{"$f":"X520","v":25},"2018-06-18",{"$f":"TEXT(Y510,\"ddd\")","v":"ma"},"DD",{"$f":"IFERROR(HLOOKUP(Y510,[1]DATA!$A$1:$NB$5,3,0),\"\")","v":"D1"},237,null,8,205,{"$f":"VLOOKUP(Y510,[1]SRI!$S$4:$Z$368,2,0)","v":2},11.375000000000028,0.48306513409961688,0.99093655589123864,{"$f":"IF(SUMIF(S510:S530,\">0\",K510:K530)=0,\"\",SUMIF(S510:S530,\">0\",K510:K530))","v":6117.1875},{"$f":"IF(SUM(S510:S530)=0,\"\",SUM(S510:S530))","v":3977},{"$f":"IFERROR(AL510/AK510,\"-\")","v":0.65013537675606636},{"$f":"IF(SUM(M510:M530)=0,\"0\",SUM(M510:M530))","v":1290},{"$f":"IFERROR(AN510/AK510,\"-\")","v":0.21088122605363985},{"$f":"IF(SUM(P510:P530)=0,0,SUM(P510:P530))","v":0},{"$f":"IFERROR(AP510/AK510,\"-\")","v":0},{"$f":"IFERROR(AVERAGE(AJ510:AJ530),\"-\")","v":0.99273477792874953},{"$f":"IFERROR(SUMIF($AB510:$AB530,AS$5,$AJ510:$AJ530)/COUNTIFS($AB510:$AB530,AS$5,$AJ510:$AJ530,\">0\"),\"\")","v":0.99123237963928967},0.98807206415795967,0.99889988998899892,{"$f":"IFERROR((AK510-AL510-AN510-AP510),\"-\")","v":850.1875},{"$f":"IFERROR((1-AM510-AO510-AQ510), \"-\")","v":0.13898339719029379},{"$f":"IFERROR((AV510*$AE$2)/60,\"-\")","v":906.86666666666667},{"$f":"IFERROR(SUM(AG510:AG530),\"\")","v":34}]
["25maMD",{"$f":"VLOOKUP($AA511,DATA!$B$3:$E$6,2,0)","v":"14:30:00"},{"$f":"VLOOKUP($AA511,DATA!$B$3:$E$6,3,0)","v":"22:30:00"},{"$f":"VLOOKUP($AA511,DATA!$B$3:$E$6,4,0)","v":3.125E-2},0.30208333333333337,0.16458333333333339,{"$f":"DATA!$C$9","v":0.89},{"$f":"DATA!$C$10","v":64},1,222.18750000000009,407.81250000000006,0.13749999999999998,185.62499999999997,0.4551724137931033,{"$f":"TIME(INT(AD511/60),INT(MOD(AD511,60)/1),0)","v":0},"","",251.73333333333332,220,"","",220,null,{"$f":"X520","v":25},null,{"$f":"TEXT(Y510,\"ddd\")","v":"ma"},"MD",{"$f":"IFERROR(HLOOKUP(Y510,[1]DATA!$A$1:$NB$5,4,0),\"\")","v":"D3"},198,null,16,236,{"$f":"VLOOKUP(Y510,[1]SRI!$S$4:$Z$368,3,0)","v":0},-2.1875000000000853,0.53946360153256701,1]
["25maND",{"$f":"VLOOKUP($AA512,DATA!$B$3:$E$6,2,0)","v":"22:30:00"},{"$f":"VLOOKUP($AA512,DATA!$B$3:$E$6,3,0)","v":"06:30:00"},{"$f":"VLOOKUP($AA512,DATA!$B$3:$E$6,4,0)","v":3.125E-2},0.30208333333333326,0.24999999999999992,{"$f":"DATA!$C$9","v":0.89},{"$f":"DATA!$C$10","v":64},1,337.49999999999989,407.81249999999989,5.2083333333333336E-2,70.3125,0.17241379310344832,0,"","",373.33333333333331,350,"",350,"",null,{"$f":"X520","v":25},null,{"$f":"TEXT(Y510,\"ddd\")","v":"ma"},"ND",{"$f":"IFERROR(HLOOKUP(Y510,[1]DATA!$A$1:$NB$5,5,0),\"\")","v":"D2"},75,null,null,350,{"$f":"VLOOKUP(Y510,[1]SRI!$S$4:$Z$368,4,0)","v":0},12.500000000000114,0.85823754789272055,1]
["25diDD",{"$f":"VLOOKUP($AA513,DATA!$B$3:$E$6,2,0)","v":"06:30:00"},{"$f":"VLOOKUP($AA513,DATA!$B$3:$E$6,3,0)","v":"14:30:00"},{"$f":"VLOOKUP($AA513,DATA!$B$3:$E$6,4,0)","v":3.125E-2},0.30208333333333331,0.22986111111111107,{"$f":"DATA!$C$9","v":0.89},{"$f":"DATA!$C$10","v":64},1,310.31249999999994,407.8125,7.2222222222222229E-2,97.500000000000014,0.23908045977011497,0,"","",323.2,293,293,"","",null,{"$f":"X520","v":25},"2018-06-19",{"$f":"TEXT(Y513,\"ddd\")","v":"di"},"DD",{"$f":"IFERROR(HLOOKUP(Y513,[1]DATA!$A$1:$NB$5,3,0),\"\")","v":"D1"},104,null,10,303,{"$f":"VLOOKUP(Y513,[1]SRI!$S$4:$Z$368,2,0)","v":0},-17.312499999999943,0.71846743295019155,1]
["25diMD",{"$f":"VLOOKUP($AA514,DATA!$B$3:$E$6,2,0)","v":"14:30:00"},{"$f":"VLOOKUP($AA514,DATA!$B$3:$E$6,3,0)","v":"22:30:00"},{"$f":"VLOOKUP($AA514,DATA!$B$3:$E$6,4,0)","v":3.125E-2},0.30208333333333337,0.27361111111111114,{"$f":"DATA!$C$9","v":0.89},{"$f":"DATA!$C$10","v":64},1,369.37500000000006,407.81250000000006,2.8472222222222222E-2,38.4375,9.4252873563218376E-2,0,"","",90.666666666666671,81,"","",81,null,{"$f":"X520","v":25},null,{"$f":"TEXT(Y513,\"ddd\")","v":"di"},"MD",{"$f":"IFERROR(HLOOKUP(Y513,[1]DATA!$A$1:$NB$5,4,0),\"\")","v":"D3"},41,null,4,85,{"$f":"VLOOKUP(Y513,[1]SRI!$S$4:$Z$368,3,0)","v":0},-288.37500000000006,0.19862068965517238,1]
["25diND",{"$f":"VLOOKUP($AA515,DATA!$B$3:$E$6,2,0)","v":"22:30:00"},{"$f":"VLOOKUP($AA515,DATA!$B$3:$E$6,3,0)","v":"06:30:00"},{"$f":"VLOOKUP($AA515,DATA!$B$3:$E$6,4,0)","v":3.125E-2},0.30208333333333326,0.24791666666666659,{"$f":"DATA!$C$9","v":0.89},{"$f":"DATA!$C$10","v":64},1,334.68749999999989,407.81249999999989,5.4166666666666669E-2,73.125,0.17931034482758626,0,"","",270.93333333333334,254,"",254,"",null,{"$f":"X520","v":25},null,{"$f":"TEXT(Y513,\"ddd\")","v":"di"},"ND",{"$f":"IFERROR(HLOOKUP(Y513,[1]DATA!$A$1:$NB$5,5,0),\"\")","v":"D2"},78,null,null,254,{"$f":"VLOOKUP(Y513,[1]SRI!$S$4:$Z$368,4,0)","v":0},-80.687499999999886,0.62283524904214582,1]
["25woDD",{"$f":"VLOOKUP($AA516,DATA!$B$3:$E$6,2,0)","v":"06:30:00"},{"$f":"VLOOKUP($AA516,DATA!$B$3:$E$6,3,0)","v":"14:30:00"},{"$f":"VLOOKUP($AA516,DATA!$B$3:$E$6,4,0)","v":3.125E-2},0.30208333333333331,0.26180555555555551,{"$f":"DATA!$C$9","v":0.89},{"$f":"DATA!$C$10","v":64},1,353.43749999999994,407.8125,4.027777777777778E-2,54.375,0.13333333333333333,0,"","",232.53333333333333,211,211,"","",null,{"$f":"X520","v":25},"2018-06-20",{"$f":"TEXT(Y516,\"ddd\")","v":"wo"},"DD",{"$f":"IFERROR(HLOOKUP(Y516,[1]DATA!$A$1:$NB$5,3,0),\"\")","v":"D1"},58,null,7,218,{"$f":"VLOOKUP(Y516,[1]SRI!$S$4:$Z$368,2,0)","v":0},-142.43749999999994,0.51739463601532565,1]
["25woMD",{"$f":"VLOOKUP($AA517,DATA!$B$3:$E$6,2,0)","v":"14:30:00"},{"$f":"VLOOKUP($AA517,DATA!$B$3:$E$6,3,0)","v":"22:30:00"},{"$f":"VLOOKUP($AA517,DATA!$B$3:$E$6,4,0)","v":3.125E-2},0.30208333333333337,0.26319444444444451,{"$f":"DATA!$C$9","v":0.89},{"$f":"DATA!$C$10","v":64},1,355.31250000000011,407.81250000000006,3.888888888888889E-2,52.5,0.12873563218390802,0,"","",394.66666666666669,349,"","",349,null,{"$f":"X520","v":25},null,{"$f":"TEXT(Y516,\"ddd\")","v":"wo"},"MD",{"$f":"IFERROR(HLOOKUP(Y516,[1]DATA!$A$1:$NB$5,4,0),\"\")","v":"D3"},56,null,21,370,{"$f":"VLOOKUP(Y516,[1]SRI!$S$4:$Z$368,3,0)","v":0},-6.3125000000001137,0.85578544061302675,1]
["25woND",{"$f":"VLOOKUP($AA518,DATA!$B$3:$E$6,2,0)","v":"22:30:00"},{"$f":"VLOOKUP($AA518,DATA!$B$3:$E$6,3,0)","v":"06:30:00"},{"$f":"VLOOKUP($AA518,DATA!$B$3:$E$6,4,0)","v":3.125E-2},0.30208333333333326,0.24166666666666659,{"$f":"DATA!$C$9","v":0.89},{"$f":"DATA!$C$10","v":64},1,{"$f":"F518*86400/H518*I518","v":326.24999999999989},{"$f":"E518*86400/H518","v":407.81249999999989},6.0416666666666667E-2,81.5625,0.20000000000000007,0,"","",{"$f":"AF518*AG$2","v":123.73333333333333},{"$f":"IF(AF518-AE518=0,\"\",AF518-AE518)","v":116},"",116,"",null,{"$f":"X520","v":25},null,{"$f":"TEXT(Y516,\"ddd\")","v":"wo"},"ND",{"$f":"IFERROR(HLOOKUP(Y516,[1]DATA!$A$1:$NB$5,5,0),\"\")","v":"D2"},87,null,null,116,{"$f":"VLOOKUP(Y516,[1]SRI!$S$4:$Z$368,4,0)","v":3},{"$f":"IFERROR(S518-J518,\"\")","v":-210.24999999999989},{"$f":"IFERROR(IF(S518/(E518*86400/H518)<=0,\"\",S518/(E518*86400/H518)),\"\")","v":0.2844444444444445},{"$f":"IFERROR(R518/(R518+AG518),\"\")","v":0.97632824829037346}]
["25doDD",{"$f":"VLOOKUP($AA519,DATA!$B$3:$E$6,2,0)","v":"06:30:00"},{"$f":"VLOOKUP($AA519,DATA!$B$3:$E$6,3,0)","v":"14:30:00"},{"$f":"VLOOKUP($AA519,DATA!$B$3:$E$6,4,0)","v":3.125E-2},0.30208333333333331,0.28749999999999998,{"$f":"DATA!$C$9","v":0.89},{"$f":"DATA!$C$10","v":64},1,388.12499999999994,407.8125,{"$f":"TIME(INT($AC519/60),INT(MOD($AC519,60)/1),0)","v":1.4583333333333332E-2},{"$f":"IF($L519*86400/$H519=0,\"\",$L519*86400/$H519)","v":19.687499999999996},{"$f":"IFERROR($M519/$K519,\"\")","v":4.827586206896551E-2},0,"",{"$f":"IFERROR($P519/$K519,\"\")","v":""},375.46666666666664,344,{"$f":"IF(IF($AB519=\"D1\",$S519,\"\")=0,\"\",IF($AB519=\"D1\",$S519,\"\"))","v":344},{"$f":"IF(IF($AB519=\"D2\",$S519,\"\")=0,\"\",IF($AB519=\"D2\",$S519,\"\"))","v":""},{"$f":"IF(IF($AB519=\"D3\",$S519,\"\")=0,\"\",IF($AB519=\"D3\",$S519,\"\"))","v":""},null,{"$f":"X520","v":25},"2018-06-21",{"$f":"TEXT(Y519,\"ddd\")","v":"do"},"DD",{"$f":"IFERROR(HLOOKUP(Y519,[1]DATA!$A$1:$NB$5,3,0),\"\")","v":"D1"},21,null,8,352,{"$f":"VLOOKUP(Y519,[1]SRI!$S$4:$Z$368,2,0)","v":6},-44.124999999999943,0.84352490421455939,0.98427123383432369]
["25doMD",{"$f":"VLOOKUP($AA520,DATA!$B$3:$E$6,2,0)","v":"14:30:00"},{"$f":"VLOOKUP($AA520,DATA!$B$3:$E$6,3,0)","v":"22:30:00"},{"$f":"VLOOKUP($AA520,DATA!$B$3:$E$6,4,0)","v":3.125E-2},0.30208333333333337,0.27500000000000002,{"$f":"DATA!$C$9","v":0.89},{"$f":"DATA!$C$10","v":64},1,371.25000000000006,407.81250000000006,2.7083333333333334E-2,36.5625,8.9655172413793088E-2,0,"","",361.6,328,"","",328,null,{"$f":"WEEKNUM($Y510)","v":25},null,{"$f":"TEXT(Y519,\"ddd\")","v":"do"},"MD",{"$f":"IFERROR(HLOOKUP(Y519,[1]DATA!$A$1:$NB$5,4,0),\"\")","v":"D3"},39,null,11,339,{"$f":"VLOOKUP(Y519,[1]SRI!$S$4:$Z$368,3,0)","v":2},-43.250000000000057,0.80429118773946351,0.99449944994499451]
["25doND",{"$f":"VLOOKUP($AA521,DATA!$B$3:$E$6,2,0)","v":"22:30:00"},{"$f":"VLOOKUP($AA521,DATA!$B$3:$E$6,3,0)","v":"06:30:00"},{"$f":"VLOOKUP($AA521,DATA!$B$3:$E$6,4,0)","v":3.125E-2},0.30208333333333326,0.24722222222222215,{"$f":"DATA!$C$9","v":0.89},{"$f":"DATA!$C$10","v":64},1,333.74999999999989,407.81249999999989,5.486111111111111E-2,74.0625,0.18160919540229889,0,"","",373.33333333333331,350,"",350,"",null,{"$f":"X520","v":25},null,{"$f":"TEXT(Y519,\"ddd\")","v":"do"},"ND",{"$f":"IFERROR(HLOOKUP(Y519,[1]DATA!$A$1:$NB$5,5,0),\"\")","v":"D2"},79,null,null,350,{"$f":"VLOOKUP(Y519,[1]SRI!$S$4:$Z$368,4,0)","v":11},16.250000000000114,0.85823754789272055,0.97137901127493498]
["25vrDD",{"$f":"VLOOKUP($AA522,DATA!$B$3:$E$6,2,0)","v":"06:30:00"},{"$f":"VLOOKUP($AA522,DATA!$B$3:$E$6,3,0)","v":"14:30:00"},{"$f":"VLOOKUP($AA522,DATA!$B$3:$E$6,4,0)","v":3.125E-2},0.30208333333333331,0.25555555555555554,{"$f":"DATA!$C$9","v":0.89},{"$f":"DATA!$C$10","v":64},1,345,407.8125,4.6527777777777779E-2,62.8125,0.15402298850574714,0,"","",360.5333333333333,332,332,"","",null,{"$f":"X520","v":25},"2018-06-22",{"$f":"TEXT(Y522,\"ddd\")","v":"vr"},"DD",{"$f":"IFERROR(HLOOKUP(Y522,[1]DATA!$A$1:$NB$5,3,0),\"\")","v":"D1"},67,null,6,338,{"$f":"VLOOKUP(Y522,[1]SRI!$S$4:$Z$368,2,0)","v":7},-13,0.81409961685823751,0.98095410847088704]
["25vrMD",{"$f":"VLOOKUP($AA523,DATA!$B$3:$E$6,2,0)","v":"14:30:00"},{"$f":"VLOOKUP($AA523,DATA!$B$3:$E$6,3,0)","v":"22:30:00"},{"$f":"VLOOKUP($AA523,DATA!$B$3:$E$6,4,0)","v":3.125E-2},0.30208333333333337,0.15694444444444447,{"$f":"DATA!$C$9","v":0.89},{"$f":"DATA!$C$10","v":64},1,211.87500000000003,407.81250000000006,0.1451388888888889,195.93750000000003,0.48045977011494251,0,"","",184.53333333333333,172,"","",172,null,{"$f":"X520","v":25},null,{"$f":"TEXT(Y522,\"ddd\")","v":"vr"},"MD",{"$f":"IFERROR(HLOOKUP(Y522,[1]DATA!$A$1:$NB$5,4,0),\"\")","v":"D3"},209,null,1,173,{"$f":"VLOOKUP(Y522,[1]SRI!$S$4:$Z$368,3,0)","v":0},-39.875000000000028,0.42176245210727964,1]
["25vrND",{"$f":"VLOOKUP($AA524,DATA!$B$3:$E$6,2,0)","v":"22:30:00"},{"$f":"VLOOKUP($AA524,DATA!$B$3:$E$6,3,0)","v":"06:30:00"},{"$f":"VLOOKUP($AA524,DATA!$B$3:$E$6,4,0)","v":3.125E-2},0.30208333333333326,0.28333333333333327,{"$f":"DATA!$C$9","v":0.89},{"$f":"DATA!$C$10","v":64},1,382.49999999999994,407.81249999999989,1.8749999999999999E-2,25.3125,6.2068965517241399E-2,0,"","",405.33333333333331,380,"",380,"",null,{"$f":"X520","v":25},null,{"$f":"TEXT(Y522,\"ddd\")","v":"vr"},"ND",{"$f":"IFERROR(HLOOKUP(Y522,[1]DATA!$A$1:$NB$5,5,0),\"\")","v":"D2"},27,null,null,380,{"$f":"VLOOKUP(Y522,[1]SRI!$S$4:$Z$368,4,0)","v":3},-2.4999999999999432,0.93180076628352515,0.99265306122448982]
["25zaDD",{"$f":"VLOOKUP($AA525,DATA!$B$3:$E$6,2,0)","v":"06:30:00"},{"$f":"VLOOKUP($AA525,DATA!$B$3:$E$6,3,0)","v":"14:30:00"},{"$f":"VLOOKUP($AA525,DATA!$B$3:$E$6,4,0)","v":3.125E-2},0.30208333333333331,0.30208333333333331,{"$f":"DATA!$C$9","v":0.89},{"$f":"DATA!$C$10","v":64},1,407.8125,407.8125,0,"","",0,"","",0,"","","","",null,{"$f":"X520","v":25},"2018-06-23",{"$f":"TEXT(Y525,\"ddd\")","v":"za"},"DD",{"$f":"IFERROR(HLOOKUP(Y525,[1]DATA!$A$1:$NB$5,3,0),\"\")","v":"D1"},null,null,null,null,{"$f":"VLOOKUP(Y525,[1]SRI!$S$4:$Z$368,2,0)","v":0},"","",""]
["25zaMD",{"$f":"VLOOKUP($AA526,DATA!$B$3:$E$6,2,0)","v":"14:30:00"},{"$f":"VLOOKUP($AA526,DATA!$B$3:$E$6,3,0)","v":"22:30:00"},{"$f":"VLOOKUP($AA526,DATA!$B$3:$E$6,4,0)","v":3.125E-2},0.30208333333333337,0.30208333333333337,{"$f":"DATA!$C$9","v":0.89},{"$f":"DATA!$C$10","v":64},1,407.81250000000006,407.81250000000006,0,"","",0,"","",0,"","","","",null,{"$f":"X520","v":25},null,{"$f":"TEXT(Y525,\"ddd\")","v":"za"},"MD",{"$f":"IFERROR(HLOOKUP(Y525,[1]DATA!$A$1:$NB$5,4,0),\"\")","v":"-"},null,null,null,null,{"$f":"VLOOKUP(Y525,[1]SRI!$S$4:$Z$368,3,0)","v":0},"","",""]
["25zaND",{"$f":"VLOOKUP($AA527,DATA!$B$3:$E$6,2,0)","v":"22:30:00"},{"$f":"VLOOKUP($AA527,DATA!$B$3:$E$6,3,0)","v":"06:30:00"},{"$f":"VLOOKUP($AA527,DATA!$B$3:$E$6,4,0)","v":3.125E-2},0.30208333333333326,0.30208333333333326,{"$f":"DATA!$C$9","v":0.89},{"$f":"DATA!$C$10","v":64},1,407.81249999999989,407.81249999999989,0,"","",0,"","",0,"","","","",null,{"$f":"X520","v":25},null,{"$f":"TEXT(Y525,\"ddd\")","v":"za"},"ND",{"$f":"IFERROR(HLOOKUP(Y525,[1]DATA!$A$1:$NB$5,5,0),\"\")","v":"-"},null,null,null,null,{"$f":"VLOOKUP(Y525,[1]SRI!$S$4:$Z$368,4,0)","v":0},"","",""]
["25zoDD",{"$f":"VLOOKUP($AA528,DATA!$B$3:$E$6,2,0)","v":"06:30:00"},{"$f":"VLOOKUP($AA528,DATA!$B$3:$E$6,3,0)","v":"14:30:00"},{"$f":"VLOOKUP($AA528,DATA!$B$3:$E$6,4,0)","v":3.125E-2},0.30208333333333331,0.30208333333333331,{"$f":"DATA!$C$9","v":0.89},{"$f":"DATA!$C$10","v":64},1,407.8125,407.8125,0,"","",0,"","",0,"","","","",null,{"$f":"X520","v":25},"2018-06-24",{"$f":"TEXT(Y528,\"ddd\")","v":"zo"},"DD",{"$f":"IFERROR(HLOOKUP(Y528,[1]DATA!$A$1:$NB$5,3,0),\"\")","v":"-"},null,null,null,null,{"$f":"VLOOKUP(Y528,[1]SRI!$S$4:$Z$368,2,0)","v":0},"","",""]
["25zoMD",{"$f":"VLOOKUP($AA529,DATA!$B$3:$E$6,2,0)","v":"14:30:00"},{"$f":"VLOOKUP($AA529,DATA!$B$3:$E$6,3,0)","v":"22:30:00"},{"$f":"VLOOKUP($AA529,DATA!$B$3:$E$6,4,0)","v":3.125E-2},0.30208333333333337,0.30208333333333337,{"$f":"DATA!$C$9","v":0.89},{"$f":"DATA!$C$10","v":64},1,407.81250000000006,407.81250000000006,0,"","",0,"","",0,"","","","",null,{"$f":"X520","v":25},null,{"$f":"TEXT(Y528,\"ddd\")","v":"zo"},"MD",{"$f":"IFERROR(HLOOKUP(Y528,[1]DATA!$A$1:$NB$5,4,0),\"\")","v":"-"},null,null,null,null,{"$f":"VLOOKUP(Y528,[1]SRI!$S$4:$Z$368,3,0)","v":0},"","",""]
["25zoZND",{"$f":"VLOOKUP($AA530,DATA!$B$3:$E$6,2,0)","v":"00:00:00"},{"$f":"VLOOKUP($AA530,DATA!$B$3:$E$6,3,0)","v":"00:00:00"},{"$f":"VLOOKUP($AA530,DATA!$B$3:$E$6,4,0)","v":3.125E-2},-3.125E-2,-3.125E-2,{"$f":"DATA!$C$9","v":0.89},{"$f":"DATA!$C$10","v":64},1,-42.1875,-42.1875,0,"","",0,"","",0,"","","","",null,{"$f":"X520","v":25},null,{"$f":"TEXT(Y528,\"ddd\")","v":"zo"},"ZND",{"$f":"IFERROR(HLOOKUP(Y528,[1]DATA!$A$1:$NB$5,5,0),\"\")","v":"-"},null,null,null,null,{"$f":"VLOOKUP(Y528,[1]SRI!$S$4:$Z$368,4,0)","v":0},"","",""]
["26maDD",{"$f":"VLOOKUP($AA531,DATA!$B$3:$E$6,2,0)","v":"06:30:00"},{"$f":"VLOOKUP($AA531,DATA!$B$3:$E$6,3,0)","v":"14:30:00"},{"$f":"VLOOKUP($AA531,DATA!$B$3:$E$6,4,0)","v":3.125E-2},0.30208333333333331,0.30208333333333331,{"$f":"DATA!$C$9","v":0.89},{"$f":"DATA!$C$10","v":64},1,407.8125,407.8125,0,"","",{"$f":"TIME(INT($AD531/60),INT(MOD($AD531,60)/1),0)","v":0},"","",0,"","","","",null,{"$f":"X541","v":26},"2018-06-25",{"$f":"TEXT(Y531,\"ddd\")","v":"ma"},"DD",{"$f":"IFERROR(HLOOKUP(Y531,[1]DATA!$A$1:$NB$5,3,0),\"\")","v":"D3"},null,null,null,null,{"$f":"VLOOKUP(Y531,[1]SRI!$S$4:$Z$368,2,0)","v":42},"","",0,{"$f":"IF(SUMIF(S531:S551,\">0\",K531:K551)=0,\"\",SUMIF(S531:S551,\">0\",K531:K551))","v":3262.5},{"$f":"IF(SUM(S531:S551)=0,\"\",SUM(S531:S551))","v":2349},{"$f":"IFERROR(AL531/AK531,\"-\")","v":0.72},{"$f":"IF(SUM(M531:M551)=0,\"0\",SUM(M531:M551))","v":101.25},{"$f":"IFERROR(AN531/AK531,\"-\")","v":3.1034482758620689E-2},{"$f":"IF(SUM(P531:P551)=0,0,SUM(P531:P551))","v":0},{"$f":"IFERROR(AP531/AK531,\"-\")","v":0},{"$f":"IFERROR(AVERAGE(AJ531:AJ551),\"-\")","v":0.62631736144791195},{"$f":"IFERROR(SUMIF($AB531:$AB551,AS$5,$AJ531:$AJ551)/COUNTIFS($AB531:$AB551,AS$5,$AJ531:$AJ551,\">0\"),\"\")","v":0.97222222222222221},0.90672986212151385,"",{"$f":"IFERROR((AK531-AL531-AN531-AP531),\"-\")","v":812.25},{"$f":"IFERROR((1-AM531-AO531-AQ531), \"-\")","v":0.24896551724137933},{"$f":"IFERROR((AV531*$AE$2)/60,\"-\")","v":866.4},{"$f":"IFERROR(SUM(AG531:AG551),\"\")","v":277}]
["26maMD",{"$f":"VLOOKUP($AA532,DATA!$B$3:$E$6,2,0)","v":"14:30:00"},{"$f":"VLOOKUP($AA532,DATA!$B$3:$E$6,3,0)","v":"22:30:00"},{"$f":"VLOOKUP($AA532,DATA!$B$3:$E$6,4,0)","v":3.125E-2},0.30208333333333337,0.30208333333333337,{"$f":"DATA!$C$9","v":0.89},{"$f":"DATA!$C$10","v":64},1,407.81250000000006,407.81250000000006,0,"","",{"$f":"TIME(INT(AD532/60),INT(MOD(AD532,60)/1),0)","v":0},"","",392.5333333333333,354,"",354,"",null,{"$f":"X541","v":26},null,{"$f":"TEXT(Y531,\"ddd\")","v":"ma"},"MD",{"$f":"IFERROR(HLOOKUP(Y531,[1]DATA!$A$1:$NB$5,4,0),\"\")","v":"D2"},0,null,14,368,{"$f":"VLOOKUP(Y531,[1]SRI!$S$4:$Z$368,3,0)","v":8},-53.812500000000057,0.86804597701149411,0.98002663115845534]
["26maND",{"$f":"VLOOKUP($AA533,DATA!$B$3:$E$6,2,0)","v":"22:30:00"},{"$f":"VLOOKUP($AA533,DATA!$B$3:$E$6,3,0)","v":"06:30:00"},{"$f":"VLOOKUP($AA533,DATA!$B$3:$E$6,4,0)","v":3.125E-2},0.30208333333333326,0.30208333333333326,{"$f":"DATA!$C$9","v":0.89},{"$f":"DATA!$C$10","v":64},1,407.81249999999989,407.81249999999989,0,"","",0,"","",214.4,201,201,"","",null,{"$f":"X541","v":26},null,{"$f":"TEXT(Y531,\"ddd\")","v":"ma"},"ND",{"$f":"IFERROR(HLOOKUP(Y531,[1]DATA!$A$1:$NB$5,5,0),\"\")","v":"D1"},null,null,null,201,{"$f":"VLOOKUP(Y531,[1]SRI!$S$4:$Z$368,4,0)","v":0},-206.81249999999989,0.49287356321839093,1]
["26diDD",{"$f":"VLOOKUP($AA534,DATA!$B$3:$E$6,2,0)","v":"06:30:00"},{"$f":"VLOOKUP($AA534,DATA!$B$3:$E$6,3,0)","v":"14:30:00"},{"$f":"VLOOKUP($AA534,DATA!$B$3:$E$6,4,0)","v":3.125E-2},0.30208333333333331,0.30208333333333331,{"$f":"DATA!$C$9","v":0.89},{"$f":"DATA!$C$10","v":64},1,407.8125,407.8125,0,"","",0,"","",0,"","","","",null,{"$f":"X541","v":26},"2018-06-26",{"$f":"TEXT(Y534,\"ddd\")","v":"di"},"DD",{"$f":"IFERROR(HLOOKUP(Y534,[1]DATA!$A$1:$NB$5,3,0),\"\")","v":"D3"},null,null,null,null,{"$f":"VLOOKUP(Y534,[1]SRI!$S$4:$Z$368,2,0)","v":10},"","",0]
["26diMD",{"$f":"VLOOKUP($AA535,DATA!$B$3:$E$6,2,0)","v":"14:30:00"},{"$f":"VLOOKUP($AA535,DATA!$B$3:$E$6,3,0)","v":"22:30:00"},{"$f":"VLOOKUP($AA535,DATA!$B$3:$E$6,4,0)","v":3.125E-2},0.30208333333333337,0.30000000000000004,{"$f":"DATA!$C$9","v":0.89},{"$f":"DATA!$C$10","v":64},1,405.00000000000006,407.81250000000006,2.0833333333333333E-3,2.8125,6.8965517241379301E-3,0,"","",374.4,332,"",332,"",null,{"$f":"X541","v":26},null,{"$f":"TEXT(Y534,\"ddd\")","v":"di"},"MD",{"$f":"IFERROR(HLOOKUP(Y534,[1]DATA!$A$1:$NB$5,4,0),\"\")","v":"D2"},3,null,19,351,{"$f":"VLOOKUP(Y534,[1]SRI!$S$4:$Z$368,3,0)","v":12},-73.000000000000057,0.8140996168582374,0.96894409937888204]
["26diND",{"$f":"VLOOKUP($AA536,DATA!$B$3:$E$6,2,0)","v":"22:30:00"},{"$f":"VLOOKUP($AA536,DATA!$B$3:$E$6,3,0)","v":"06:30:00"},{"$f":"VLOOKUP($AA536,DATA!$B$3:$E$6,4,0)","v":3.125E-2},0.30208333333333326,0.30208333333333326,{"$f":"DATA!$C$9","v":0.89},{"$f":"DATA!$C$10","v":64},1,407.81249999999989,407.81249999999989,0,"","",0,"","",324.26666666666665,304,304,"","",null,{"$f":"X541","v":26},null,{"$f":"TEXT(Y534,\"ddd\")","v":"di"},"ND",{"$f":"IFERROR(HLOOKUP(Y534,[1]DATA!$A$1:$NB$5,5,0),\"\")","v":"D1"},null,null,null,304,{"$f":"VLOOKUP(Y534,[1]SRI!$S$4:$Z$368,4,0)","v":0},-103.81249999999989,0.74544061302682008,1]
["26woDD",{"$f":"VLOOKUP($AA537,DATA!$B$3:$E$6,2,0)","v":"06:30:00"},{"$f":"VLOOKUP($AA537,DATA!$B$3:$E$6,3,0)","v":"14:30:00"},{"$f":"VLOOKUP($AA537,DATA!$B$3:$E$6,4,0)","v":3.125E-2},0.30208333333333331,0.30208333333333331,{"$f":"DATA!$C$9","v":0.89},{"$f":"DATA!$C$10","v":64},1,407.8125,407.8125,0,"","",0,"","",0,"","","","",null,{"$f":"X541","v":26},"2018-06-27",{"$f":"TEXT(Y537,\"ddd\")","v":"wo"},"DD",{"$f":"IFERROR(HLOOKUP(Y537,[1]DATA!$A$1:$NB$5,3,0),\"\")","v":"D3"},null,null,null,null,{"$f":"VLOOKUP(Y537,[1]SRI!$S$4:$Z$368,2,0)","v":9},"","",0]
["26woMD",{"$f":"VLOOKUP($AA538,DATA!$B$3:$E$6,2,0)","v":"14:30:00"},{"$f":"VLOOKUP($AA538,DATA!$B$3:$E$6,3,0)","v":"22:30:00"},{"$f":"VLOOKUP($AA538,DATA!$B$3:$E$6,4,0)","v":3.125E-2},0.30208333333333337,0.27083333333333337,{"$f":"DATA!$C$9","v":0.89},{"$f":"DATA!$C$10","v":64},1,365.62500000000006,407.81250000000006,3.125E-2,42.1875,0.10344827586206895,0,"","",357.33333333333331,301,"",301,"",null,{"$f":"X541","v":26},null,{"$f":"TEXT(Y537,\"ddd\")","v":"wo"},"MD",{"$f":"IFERROR(HLOOKUP(Y537,[1]DATA!$A$1:$NB$5,4,0),\"\")","v":"D2"},45,null,34,335,{"$f":"VLOOKUP(Y537,[1]SRI!$S$4:$Z$368,3,0)","v":76},-64.625000000000057,0.73808429118773933,0.82461538461538464]
["26woND",{"$f":"VLOOKUP($AA539,DATA!$B$3:$E$6,2,0)","v":"22:30:00"},{"$f":"VLOOKUP($AA539,DATA!$B$3:$E$6,3,0)","v":"06:30:00"},{"$f":"VLOOKUP($AA539,DATA!$B$3:$E$6,4,0)","v":3.125E-2},0.30208333333333326,0.30208333333333326,{"$f":"DATA!$C$9","v":0.89},{"$f":"DATA!$C$10","v":64},1,407.81249999999989,407.81249999999989,0,"","",0,"","",240,225,225,"","",null,{"$f":"X541","v":26},null,{"$f":"TEXT(Y537,\"ddd\")","v":"wo"},"ND",{"$f":"IFERROR(HLOOKUP(Y537,[1]DATA!$A$1:$NB$5,5,0),\"\")","v":"D1"},null,null,null,225,{"$f":"VLOOKUP(Y537,[1]SRI!$S$4:$Z$368,4,0)","v":30},-182.81249999999989,0.55172413793103459,0.88888888888888884]
["26doDD",{"$f":"VLOOKUP($AA540,DATA!$B$3:$E$6,2,0)","v":"06:30:00"},{"$f":"VLOOKUP($AA540,DATA!$B$3:$E$6,3,0)","v":"14:30:00"},{"$f":"VLOOKUP($AA540,DATA!$B$3:$E$6,4,0)","v":3.125E-2},{"$f":"(C540-B540+(B540>C540))-D540","v":0.30208333333333331},{"$f":"E540-O540-L540","v":0.30208333333333331},{"$f":"DATA!$C$9","v":0.89},{"$f":"DATA!$C$10","v":64},1,407.8125,407.8125,0,"","",0,"","",0,"","","","",null,{"$f":"X541","v":26},"2018-06-28",{"$f":"TEXT(Y540,\"ddd\")","v":"do"},"DD",{"$f":"IFERROR(HLOOKUP(Y540,[1]DATA!$A$1:$NB$5,3,0),\"\")","v":"D3"},null,null,null,null,{"$f":"VLOOKUP(Y540,[1]SRI!$S$4:$Z$368,2,0)","v":35},"","",0]
["26doMD",{"$f":"VLOOKUP($AA541,DATA!$B$3:$E$6,2,0)","v":"14:30:00"},{"$f":"VLOOKUP($AA541,DATA!$B$3:$E$6,3,0)","v":"22:30:00"},{"$f":"VLOOKUP($AA541,DATA!$B$3:$E$6,4,0)","v":3.125E-2},0.30208333333333337,0.26041666666666669,{"$f":"DATA!$C$9","v":0.89},{"$f":"DATA!$C$10","v":64},1,351.5625,407.81250000000006,4.1666666666666664E-2,56.25,0.13793103448275859,0,"","",320,282,"",282,"",null,{"$f":"WEEKNUM($Y531)","v":26},null,{"$f":"TEXT(Y540,\"ddd\")","v":"do"},"MD",{"$f":"IFERROR(HLOOKUP(Y540,[1]DATA!$A$1:$NB$5,4,0),\"\")","v":"D2"},60,null,18,300,{"$f":"VLOOKUP(Y540,[1]SRI!$S$4:$Z$368,3,0)","v":55},-69.5625,0.69149425287356314,0.85333333333333339]
["26doND",{"$f":"VLOOKUP($AA542,DATA!$B$3:$E$6,2,0)","v":"22:30:00"},{"$f":"VLOOKUP($AA542,DATA!$B$3:$E$6,3,0)","v":"06:30:00"},{"$f":"VLOOKUP($AA542,DATA!$B$3:$E$6,4,0)","v":3.125E-2},0.30208333333333326,0.30208333333333326,{"$f":"DATA!$C$9","v":0.89},{"$f":"DATA!$C$10","v":64},1,407.81249999999989,407.81249999999989,0,"","",0,"","",373.33333333333331,350,350,"","",null,{"$f":"X541","v":26},null,{"$f":"TEXT(Y540,\"ddd\")","v":"do"},"ND",{"$f":"IFERROR(HLOOKUP(Y540,[1]DATA!$A$1:$NB$5,5,0),\"\")","v":"D1"},null,null,null,350,{"$f":"VLOOKUP(Y540,[1]SRI!$S$4:$Z$368,4,0)","v":0},-57.812499999999886,0.85823754789272055,1]
["26vrDD",{"$f":"VLOOKUP($AA543,DATA!$B$3:$E$6,2,0)","v":"06:30:00"},{"$f":"VLOOKUP($AA543,DATA!$B$3:$E$6,3,0)","v":"14:30:00"},{"$f":"VLOOKUP($AA543,DATA!$B$3:$E$6,4,0)","v":3.125E-2},0.30208333333333331,0.30208333333333331,{"$f":"DATA!$C$9","v":0.89},{"$f":"DATA!$C$10","v":64},1,407.8125,407.8125,0,"","",0,"","",0,"","","","",null,{"$f":"X541","v":26},"2018-06-29",{"$f":"TEXT(Y543,\"ddd\")","v":"vr"},"DD",{"$f":"IFERROR(HLOOKUP(Y543,[1]DATA!$A$1:$NB$5,3,0),\"\")","v":"D3"},null,null,null,null,{"$f":"VLOOKUP(Y543,[1]SRI!$S$4:$Z$368,2,0)","v":0},"","",""]
["26vrMD",{"$f":"VLOOKUP($AA544,DATA!$B$3:$E$6,2,0)","v":"14:30:00"},{"$f":"VLOOKUP($AA544,DATA!$B$3:$E$6,3,0)","v":"22:30:00"},{"$f":"VLOOKUP($AA544,DATA!$B$3:$E$6,4,0)","v":3.125E-2},0.30208333333333337,0.30208333333333337,{"$f":"DATA!$C$9","v":0.89},{"$f":"DATA!$C$10","v":64},1,407.81250000000006,407.81250000000006,0,"","",0,"","",0,"","","","",null,{"$f":"X541","v":26},null,{"$f":"TEXT(Y543,\"ddd\")","v":"vr"},"MD",{"$f":"IFERROR(HLOOKUP(Y543,[1]DATA!$A$1:$NB$5,4,0),\"\")","v":"D2"},null,null,null,null,{"$f":"VLOOKUP(Y543,[1]SRI!$S$4:$Z$368,3,0)","v":0},"","",""]
["26vrND",{"$f":"VLOOKUP($AA545,DATA!$B$3:$E$6,2,0)","v":"22:30:00"},{"$f":"VLOOKUP($AA545,DATA!$B$3:$E$6,3,0)","v":"06:30:00"},{"$f":"VLOOKUP($AA545,DATA!$B$3:$E$6,4,0)","v":3.125E-2},0.30208333333333326,0.30208333333333326,{"$f":"DATA!$C$9","v":0.89},{"$f":"DATA!$C$10","v":64},1,407.81249999999989,407.81249999999989,0,"","",0,"","",0,"","","","",null,{"$f":"X541","v":26},null,{"$f":"TEXT(Y543,\"ddd\")","v":"vr"},"ND",{"$f":"IFERROR(HLOOKUP(Y543,[1]DATA!$A$1:$NB$5,5,0),\"\")","v":"D2"},null,null,null,null,{"$f":"VLOOKUP(Y543,[1]SRI!$S$4:$Z$368,4,0)","v":0},"","",""]
["26zaDD",{"$f":"VLOOKUP($AA546,DATA!$B$3:$E$6,2,0)","v":"06:30:00"},{"$f":"VLOOKUP($AA546,DATA!$B$3:$E$6,3,0)","v":"14:30:00"},{"$f":"VLOOKUP($AA546,DATA!$B$3:$E$6,4,0)","v":3.125E-2},0.30208333333333331,0.30208333333333331,{"$f":"DATA!$C$9","v":0.89},{"$f":"DATA!$C$10","v":64},1,407.8125,407.8125,0,"","",0,"","",0,"","","","",null,{"$f":"X541","v":26},"2018-06-30",{"$f":"TEXT(Y546,\"ddd\")","v":"za"},"DD",{"$f":"IFERROR(HLOOKUP(Y546,[1]DATA!$A$1:$NB$5,3,0),\"\")","v":"D3"},null,null,null,null,{"$f":"VLOOKUP(Y546,[1]SRI!$S$4:$Z$368,2,0)","v":0},"","",""]
["26zaMD",{"$f":"VLOOKUP($AA547,DATA!$B$3:$E$6,2,0)","v":"14:30:00"},{"$f":"VLOOKUP($AA547,DATA!$B$3:$E$6,3,0)","v":"22:30:00"},{"$f":"VLOOKUP($AA547,DATA!$B$3:$E$6,4,0)","v":3.125E-2},0.30208333333333337,0.30208333333333337,{"$f":"DATA!$C$9","v":0.89},{"$f":"DATA!$C$10","v":64},1,407.81250000000006,407.81250000000006,0,"","",0,"","",0,"","","","",null,{"$f":"X541","v":26},null,{"$f":"TEXT(Y546,\"ddd\")","v":"za"},"MD",{"$f":"IFERROR(HLOOKUP(Y546,[1]DATA!$A$1:$NB$5,4,0),\"\")","v":"-"},null,null,null,null,{"$f":"VLOOKUP(Y546,[1]SRI!$S$4:$Z$368,3,0)","v":0},"","",""]
["26zaND",{"$f":"VLOOKUP($AA548,DATA!$B$3:$E$6,2,0)","v":"22:30:00"},{"$f":"VLOOKUP($AA548,DATA!$B$3:$E$6,3,0)","v":"06:30:00"},{"$f":"VLOOKUP($AA548,DATA!$B$3:$E$6,4,0)","v":3.125E-2},0.30208333333333326,0.30208333333333326,{"$f":"DATA!$C$9","v":0.89},{"$f":"DATA!$C$10","v":64},1,407.81249999999989,407.81249999999989,0,"","",0,"","",0,"","","","",null,{"$f":"X541","v":26},null,{"$f":"TEXT(Y546,\"ddd\")","v":"za"},"ND",{"$f":"IFERROR(HLOOKUP(Y546,[1]DATA!$A$1:$NB$5,5,0),\"\")","v":"-"},null,null,null,null,{"$f":"VLOOKUP(Y546,[1]SRI!$S$4:$Z$368,4,0)","v":0},"","",""]
["26zoDD",{"$f":"VLOOKUP($AA549,DATA!$B$3:$E$6,2,0)","v":"06:30:00"},{"$f":"VLOOKUP($AA549,DATA!$B$3:$E$6,3,0)","v":"14:30:00"},{"$f":"VLOOKUP($AA549,DATA!$B$3:$E$6,4,0)","v":3.125E-2},0.30208333333333331,0.30208333333333331,{"$f":"DATA!$C$9","v":0.89},{"$f":"DATA!$C$10","v":64},1,407.8125,407.8125,0,"","",0,"","",0,"","","","",null,{"$f":"X541","v":26},"2018-07-01",{"$f":"TEXT(Y549,\"ddd\")","v":"zo"},"DD",{"$f":"IFERROR(HLOOKUP(Y549,[1]DATA!$A$1:$NB$5,3,0),\"\")","v":"-"},null,null,null,null,{"$f":"VLOOKUP(Y549,[1]SRI!$S$4:$Z$368,2,0)","v":0},"","",""]
["26zoMD",{"$f":"VLOOKUP($AA550,DATA!$B$3:$E$6,2,0)","v":"14:30:00"},{"$f":"VLOOKUP($AA550,DATA!$B$3:$E$6,3,0)","v":"22:30:00"},{"$f":"VLOOKUP($AA550,DATA!$B$3:$E$6,4,0)","v":3.125E-2},0.30208333333333337,0.30208333333333337,{"$f":"DATA!$C$9","v":0.89},{"$f":"DATA!$C$10","v":64},1,407.81250000000006,407.81250000000006,0,"","",0,"","",0,"","","","",null,{"$f":"X541","v":26},null,{"$f":"TEXT(Y549,\"ddd\")","v":"zo"},"MD",{"$f":"IFERROR(HLOOKUP(Y549,[1]DATA!$A$1:$NB$5,4,0),\"\")","v":"-"},null,null,null,null,{"$f":"VLOOKUP(Y549,[1]SRI!$S$4:$Z$368,3,0)","v":0},"","",""]
["26zoZND",{"$f":"VLOOKUP($AA551,DATA!$B$3:$E$6,2,0)","v":"00:00:00"},{"$f":"VLOOKUP($AA551,DATA!$B$3:$E$6,3,0)","v":"00:00:00"},{"$f":"VLOOKUP($AA551,DATA!$B$3:$E$6,4,0)","v":3.125E-2},-3.125E-2,-3.125E-2,{"$f":"DATA!$C$9","v":0.89},{"$f":"DATA!$C$10","v":64},1,-42.1875,-42.1875,0,"","",0,"","",0,"","","","",null,{"$f":"X541","v":26},null,{"$f":"TEXT(Y549,\"ddd\")","v":"zo"},"ZND",{"$f":"IFERROR(HLOOKUP(Y549,[1]DATA!$A$1:$NB$5,5,0),\"\")","v":"-"},null,null,null,null,{"$f":"VLOOKUP(Y549,[1]SRI!$S$4:$Z$368,4,0)","v":0},"","",""]
["27maDD",{"$f":"VLOOKUP($AA552,DATA!$B$3:$E$6,2,0)","v":"06:30:00"},{"$f":"VLOOKUP($AA552,DATA!$B$3:$E$6,3,0)","v":"14:30:00"},{"$f":"VLOOKUP($AA552,DATA!$B$3:$E$6,4,0)","v":3.125E-2},0.30208333333333331,0.30138888888888887,{"$f":"DATA!$C$9","v":0.89},{"$f":"DATA!$C$10","v":64},1,406.875,407.8125,6.9444444444444447E-4,0.9375,2.2988505747126436E-3,{"$f":"TIME(INT($AD552/60),INT(MOD($AD552,60)/1),0)","v":0},"","",281.60000000000002,254,"",254,"",null,{"$f":"X562","v":27},"2018-07-02",{"$f":"TEXT(Y552,\"ddd\")","v":"ma"},"DD",{"$f":"IFERROR(HLOOKUP(Y552,[1]DATA!$A$1:$NB$5,3,0),\"\")","v":"D2"},1,null,10,264,{"$f":"VLOOKUP(Y552,[1]SRI!$S$4:$Z$368,2,0)","v":133},-152.875,0.6228352490421456,0.6792088760250844,{"$f":"IF(SUMIF(S552:S572,\">0\",K552:K572)=0,\"\",SUMIF(S552:S572,\">0\",K552:K572))","v":407.8125},{"$f":"IF(SUM(S552:S572)=0,\"\",SUM(S552:S572))","v":254},{"$f":"IFERROR(AL552/AK552,\"-\")","v":0.6228352490421456},{"$f":"IF(SUM(M552:M572)=0,\"0\",SUM(M552:M572))","v":0.9375},{"$f":"IFERROR(AN552/AK552,\"-\")","v":2.2988505747126436E-3},{"$f":"IF(SUM(P552:P572)=0,0,SUM(P552:P572))","v":0},{"$f":"IFERROR(AP552/AK552,\"-\")","v":0},{"$f":"IFERROR(AVERAGE(AJ552:AJ572),\"-\")","v":6.1746261456825852E-2},{"$f":"IFERROR(SUMIF($AB552:$AB572,AS$5,$AJ552:$AJ572)/COUNTIFS($AB552:$AB572,AS$5,$AJ552:$AJ572,\">0\"),\"\")","v":""},0.6792088760250844,"",{"$f":"IFERROR((AK552-AL552-AN552-AP552),\"-\")","v":152.875},{"$f":"IFERROR((1-AM552-AO552-AQ552), \"-\")","v":0.37486590038314177},{"$f":"IFERROR((AV552*$AE$2)/60,\"-\")","v":163.06666666666666},{"$f":"IFERROR(SUM(AG552:AG572),\"\")","v":371}]
["27maMD",{"$f":"VLOOKUP($AA553,DATA!$B$3:$E$6,2,0)","v":"14:30:00"},{"$f":"VLOOKUP($AA553,DATA!$B$3:$E$6,3,0)","v":"22:30:00"},{"$f":"VLOOKUP($AA553,DATA!$B$3:$E$6,4,0)","v":3.125E-2},0.30208333333333337,0.30208333333333337,{"$f":"DATA!$C$9","v":0.89},{"$f":"DATA!$C$10","v":64},1,407.81250000000006,407.81250000000006,0,"","",{"$f":"TIME(INT(AD553/60),INT(MOD(AD553,60)/1),0)","v":0},"","",0,"","","","",null,{"$f":"X562","v":27},null,{"$f":"TEXT(Y552,\"ddd\")","v":"ma"},"MD",{"$f":"IFERROR(HLOOKUP(Y552,[1]DATA!$A$1:$NB$5,4,0),\"\")","v":"D1"},null,null,null,null,{"$f":"VLOOKUP(Y552,[1]SRI!$S$4:$Z$368,3,0)","v":40},"","",0]
["27maND",{"$f":"VLOOKUP($AA554,DATA!$B$3:$E$6,2,0)","v":"22:30:00"},{"$f":"VLOOKUP($AA554,DATA!$B$3:$E$6,3,0)","v":"06:30:00"},{"$f":"VLOOKUP($AA554,DATA!$B$3:$E$6,4,0)","v":3.125E-2},0.30208333333333326,0.30208333333333326,{"$f":"DATA!$C$9","v":0.89},{"$f":"DATA!$C$10","v":64},1,407.81249999999989,407.81249999999989,0,"","",0,"","",0,"","","","",null,{"$f":"X562","v":27},null,{"$f":"TEXT(Y552,\"ddd\")","v":"ma"},"ND",{"$f":"IFERROR(HLOOKUP(Y552,[1]DATA!$A$1:$NB$5,5,0),\"\")","v":"D3"},null,null,null,null,{"$f":"VLOOKUP(Y552,[1]SRI!$S$4:$Z$368,4,0)","v":45},"","",0]
["27diDD",{"$f":"VLOOKUP($AA555,DATA!$B$3:$E$6,2,0)","v":"06:30:00"},{"$f":"VLOOKUP($AA555,DATA!$B$3:$E$6,3,0)","v":"14:30:00"},{"$f":"VLOOKUP($AA555,DATA!$B$3:$E$6,4,0)","v":3.125E-2},0.30208333333333331,0.30208333333333331,{"$f":"DATA!$C$9","v":0.89},{"$f":"DATA!$C$10","v":64},1,407.8125,407.8125,0,"","",0,"","",0,"","","","",null,{"$f":"X562","v":27},"2018-07-03",{"$f":"TEXT(Y555,\"ddd\")","v":"di"},"DD",{"$f":"IFERROR(HLOOKUP(Y555,[1]DATA!$A$1:$NB$5,3,0),\"\")","v":"D2"},null,null,null,null,{"$f":"VLOOKUP(Y555,[1]SRI!$S$4:$Z$368,2,0)","v":36},"","",0]
["27diMD",{"$f":"VLOOKUP($AA556,DATA!$B$3:$E$6,2,0)","v":"14:30:00"},{"$f":"VLOOKUP($AA556,DATA!$B$3:$E$6,3,0)","v":"22:30:00"},{"$f":"VLOOKUP($AA556,DATA!$B$3:$E$6,4,0)","v":3.125E-2},0.30208333333333337,0.30208333333333337,{"$f":"DATA!$C$9","v":0.89},{"$f":"DATA!$C$10","v":64},1,407.81250000000006,407.81250000000006,0,"","",0,"","",0,"","","","",null,{"$f":"X562","v":27},null,{"$f":"TEXT(Y555,\"ddd\")","v":"di"},"MD",{"$f":"IFERROR(HLOOKUP(Y555,[1]DATA!$A$1:$NB$5,4,0),\"\")","v":"D1"},null,null,null,null,{"$f":"VLOOKUP(Y555,[1]SRI!$S$4:$Z$368,3,0)","v":15},"","",0]
["27diND",{"$f":"VLOOKUP($AA557,DATA!$B$3:$E$6,2,0)","v":"22:30:00"},{"$f":"VLOOKUP($AA557,DATA!$B$3:$E$6,3,0)","v":"06:30:00"},{"$f":"VLOOKUP($AA557,DATA!$B$3:$E$6,4,0)","v":3.125E-2},0.30208333333333326,0.30208333333333326,{"$f":"DATA!$C$9","v":0.89},{"$f":"DATA!$C$10","v":64},1,407.81249999999989,407.81249999999989,0,"","",0,"","",0,"","","","",null,{"$f":"X562","v":27},null,{"$f":"TEXT(Y555,\"ddd\")","v":"di"},"ND",{"$f":"IFERROR(HLOOKUP(Y555,[1]DATA!$A$1:$NB$5,5,0),\"\")","v":"D3"},null,null,null,null,{"$f":"VLOOKUP(Y555,[1]SRI!$S$4:$Z$368,4,0)","v":0},"","",""]
["27woDD",{"$f":"VLOOKUP($AA558,DATA!$B$3:$E$6,2,0)","v":"06:30:00"},{"$f":"VLOOKUP($AA558,DATA!$B$3:$E$6,3,0)","v":"14:30:00"},{"$f":"VLOOKUP($AA558,DATA!$B$3:$E$6,4,0)","v":3.125E-2},0.30208333333333331,0.30208333333333331,{"$f":"DATA!$C$9","v":0.89},{"$f":"DATA!$C$10","v":64},1,407.8125,407.8125,0,"","",0,"","",0,"","","","",null,{"$f":"X562","v":27},"2018-07-04",{"$f":"TEXT(Y558,\"ddd\")","v":"wo"},"DD",{"$f":"IFERROR(HLOOKUP(Y558,[1]DATA!$A$1:$NB$5,3,0),\"\")","v":"D2"},null,null,null,null,{"$f":"VLOOKUP(Y558,[1]SRI!$S$4:$Z$368,2,0)","v":23},"","",0]
["27woMD",{"$f":"VLOOKUP($AA559,DATA!$B$3:$E$6,2,0)","v":"14:30:00"},{"$f":"VLOOKUP($AA559,DATA!$B$3:$E$6,3,0)","v":"22:30:00"},{"$f":"VLOOKUP($AA559,DATA!$B$3:$E$6,4,0)","v":3.125E-2},0.30208333333333337,0.30208333333333337,{"$f":"DATA!$C$9","v":0.89},{"$f":"DATA!$C$10","v":64},1,407.81250000000006,407.81250000000006,0,"","",0,"","",0,"","","","",null,{"$f":"X562","v":27},null,{"$f":"TEXT(Y558,\"ddd\")","v":"wo"},"MD",{"$f":"IFERROR(HLOOKUP(Y558,[1]DATA!$A$1:$NB$5,4,0),\"\")","v":"D1"},null,null,null,null,{"$f":"VLOOKUP(Y558,[1]SRI!$S$4:$Z$368,3,0)","v":9},"","",0]
[{"$f":"X560&Z560&AA560","v":"27woND"},{"$f":"VLOOKUP($AA560,DATA!$B$3:$E$6,2,0)","v":"22:30:00"},{"$f":"VLOOKUP($AA560,DATA!$B$3:$E$6,3,0)","v":"06:30:00"},{"$f":"VLOOKUP($AA560,DATA!$B$3:$E$6,4,0)","v":3.125E-2},0.30208333333333326,0.30208333333333326,{"$f":"DATA!$C$9","v":0.89},{"$f":"DATA!$C$10","v":64},1,407.81249999999989,407.81249999999989,0,"","",0,{"$f":"IF($O560*86400/$H560=0,\"\",$O560*86400/$H560)","v":""},"",0,"","","","",null,{"$f":"X562","v":27},null,{"$f":"TEXT(Y558,\"ddd\")","v":"wo"},"ND",{"$f":"IFERROR(HLOOKUP(Y558,[1]DATA!$A$1:$NB$5,5,0),\"\")","v":"D3"},null,null,null,null,{"$f":"VLOOKUP(Y558,[1]SRI!$S$4:$Z$368,4,0)","v":5},"","",0]
["27doDD",{"$f":"VLOOKUP($AA561,DATA!$B$3:$E$6,2,0)","v":"06:30:00"},{"$f":"VLOOKUP($AA561,DATA!$B$3:$E$6,3,0)","v":"14:30:00"},{"$f":"VLOOKUP($AA561,DATA!$B$3:$E$6,4,0)","v":3.125E-2},0.30208333333333331,0.30208333333333331,{"$f":"DATA!$C$9","v":0.89},{"$f":"DATA!$C$10","v":64},1,407.8125,407.8125,0,"","",0,"","",0,"","","","",null,{"$f":"X562","v":27},"2018-07-05",{"$f":"TEXT(Y561,\"ddd\")","v":"do"},"DD",{"$f":"IFERROR(HLOOKUP(Y561,[1]DATA!$A$1:$NB$5,3,0),\"\")","v":"D2"},null,null,null,null,{"$f":"VLOOKUP(Y561,[1]SRI!$S$4:$Z$368,2,0)","v":23},"","",0]
["27doMD",{"$f":"VLOOKUP($AA562,DATA!$B$3:$E$6,2,0)","v":"14:30:00"},{"$f":"VLOOKUP($AA562,DATA!$B$3:$E$6,3,0)","v":"22:30:00"},{"$f":"VLOOKUP($AA562,DATA!$B$3:$E$6,4,0)","v":3.125E-2},0.30208333333333337,0.30208333333333337,{"$f":"DATA!$C$9","v":0.89},{"$f":"DATA!$C$10","v":64},1,407.81250000000006,407.81250000000006,0,"","",0,"","",0,"","","","",null,{"$f":"WEEKNUM($Y552)","v":27},null,{"$f":"TEXT(Y561,\"ddd\")","v":"do"},"MD",{"$f":"IFERROR(HLOOKUP(Y561,[1]DATA!$A$1:$NB$5,4,0),\"\")","v":"D1"},null,null,null,null,{"$f":"VLOOKUP(Y561,[1]SRI!$S$4:$Z$368,3,0)","v":0},"","",""]
["27doND",{"$f":"VLOOKUP($AA563,DATA!$B$3:$E$6,2,0)","v":"22:30:00"},{"$f":"VLOOKUP($AA563,DATA!$B$3:$E$6,3,0)","v":"06:30:00"},{"$f":"VLOOKUP($AA563,DATA!$B$3:$E$6,4,0)","v":3.125E-2},0.30208333333333326,0.30208333333333326,{"$f":"DATA!$C$9","v":0.89},{"$f":"DATA!$C$10","v":64},1,407.81249999999989,407.81249999999989,0,"","",0,"","",0,"","","","",null,{"$f":"X562","v":27},null,{"$f":"TEXT(Y561,\"ddd\")","v":"do"},"ND",{"$f":"IFERROR(HLOOKUP(Y561,[1]DATA!$A$1:$NB$5,5,0),\"\")","v":"D3"},null,null,null,null,{"$f":"VLOOKUP(Y561,[1]SRI!$S$4:$Z$368,4,0)","v":3},"","",0]
["27vrDD",{"$f":"VLOOKUP($AA564,DATA!$B$3:$E$6,2,0)","v":"06:30:00"},{"$f":"VLOOKUP($AA564,DATA!$B$3:$E$6,3,0)","v":"14:30:00"},{"$f":"VLOOKUP($AA564,DATA!$B$3:$E$6,4,0)","v":3.125E-2},0.30208333333333331,0.30208333333333331,{"$f":"DATA!$C$9","v":0.89},{"$f":"DATA!$C$10","v":64},1,407.8125,407.8125,0,"","",0,"","",0,"","","","",null,{"$f":"X562","v":27},{"$f":"Y561+1","v":"2018-07-06"},{"$f":"TEXT(Y564,\"ddd\")","v":"vr"},"DD",{"$f":"IFERROR(HLOOKUP(Y564,[1]DATA!$A$1:$NB$5,3,0),\"\")","v":"D2"},null,null,null,null,{"$f":"VLOOKUP(Y564,[1]SRI!$S$4:$Z$368,2,0)","v":0},"","",""]
["27vrMD",{"$f":"VLOOKUP($AA565,DATA!$B$3:$E$6,2,0)","v":"14:30:00"},{"$f":"VLOOKUP($AA565,DATA!$B$3:$E$6,3,0)","v":"22:30:00"},{"$f":"VLOOKUP($AA565,DATA!$B$3:$E$6,4,0)","v":3.125E-2},0.30208333333333337,0.30208333333333337,{"$f":"DATA!$C$9","v":0.89},{"$f":"DATA!$C$10","v":64},1,407.81250000000006,407.81250000000006,0,"","",0,"","",0,"","","","",null,{"$f":"X562","v":27},null,{"$f":"TEXT(Y564,\"ddd\")","v":"vr"},"MD",{"$f":"IFERROR(HLOOKUP(Y564,[1]DATA!$A$1:$NB$5,4,0),\"\")","v":"D1"},null,null,null,null,{"$f":"VLOOKUP(Y564,[1]SRI!$S$4:$Z$368,3,0)","v":39},"","",0]
["27vrND",{"$f":"VLOOKUP($AA566,DATA!$B$3:$E$6,2,0)","v":"22:30:00"},{"$f":"VLOOKUP($AA566,DATA!$B$3:$E$6,3,0)","v":"06:30:00"},{"$f":"VLOOKUP($AA566,DATA!$B$3:$E$6,4,0)","v":3.125E-2},0.30208333333333326,0.30208333333333326,{"$f":"DATA!$C$9","v":0.89},{"$f":"DATA!$C$10","v":64},1,407.81249999999989,407.81249999999989,0,"","",0,"","",0,"","","","",null,{"$f":"X562","v":27},null,{"$f":"TEXT(Y564,\"ddd\")","v":"vr"},"ND",{"$f":"IFERROR(HLOOKUP(Y564,[1]DATA!$A$1:$NB$5,5,0),\"\")","v":"D3"},null,null,null,null,{"$f":"VLOOKUP(Y564,[1]SRI!$S$4:$Z$368,4,0)","v":0},"","",""]
["27zaDD",{"$f":"VLOOKUP($AA567,DATA!$B$3:$E$6,2,0)","v":"06:30:00"},{"$f":"VLOOKUP($AA567,DATA!$B$3:$E$6,3,0)","v":"14:30:00"},{"$f":"VLOOKUP($AA567,DATA!$B$3:$E$6,4,0)","v":3.125E-2},0.30208333333333331,0.30208333333333331,{"$f":"DATA!$C$9","v":0.89},{"$f":"DATA!$C$10","v":64},1,407.8125,407.8125,0,"","",0,"","",0,"","","","",null,{"$f":"X562","v":27},"2018-07-07",{"$f":"TEXT(Y567,\"ddd\")","v":"za"},"DD",{"$f":"IFERROR(HLOOKUP(Y567,[1]DATA!$A$1:$NB$5,3,0),\"\")","v":"D2"},null,null,null,null,{"$f":"VLOOKUP(Y567,[1]SRI!$S$4:$Z$368,2,0)","v":0},"","",""]
["27zaMD",{"$f":"VLOOKUP($AA568,DATA!$B$3:$E$6,2,0)","v":"14:30:00"},{"$f":"VLOOKUP($AA568,DATA!$B$3:$E$6,3,0)","v":"22:30:00"},{"$f":"VLOOKUP($AA568,DATA!$B$3:$E$6,4,0)","v":3.125E-2},0.30208333333333337,0.30208333333333337,{"$f":"DATA!$C$9","v":0.89},{"$f":"DATA!$C$10","v":64},1,407.81250000000006,407.81250000000006,0,"","",0,"","",0,"","","","",null,{"$f":"X562","v":27},null,{"$f":"TEXT(Y567,\"ddd\")","v":"za"},"MD",{"$f":"IFERROR(HLOOKUP(Y567,[1]DATA!$A$1:$NB$5,4,0),\"\")","v":"-"},null,null,null,null,{"$f":"VLOOKUP(Y567,[1]SRI!$S$4:$Z$368,3,0)","v":0},"","",""]
["27zaND",{"$f":"VLOOKUP($AA569,DATA!$B$3:$E$6,2,0)","v":"22:30:00"},{"$f":"VLOOKUP($AA569,DATA!$B$3:$E$6,3,0)","v":"06:30:00"},{"$f":"VLOOKUP($AA569,DATA!$B$3:$E$6,4,0)","v":3.125E-2},0.30208333333333326,0.30208333333333326,{"$f":"DATA!$C$9","v":0.89},{"$f":"DATA!$C$10","v":64},1,407.81249999999989,407.81249999999989,0,"","",0,"","",0,"","","","",null,{"$f":"X562","v":27},null,{"$f":"TEXT(Y567,\"ddd\")","v":"za"},"ND",{"$f":"IFERROR(HLOOKUP(Y567,[1]DATA!$A$1:$NB$5,5,0),\"\")","v":"-"},null,null,null,null,{"$f":"VLOOKUP(Y567,[1]SRI!$S$4:$Z$368,4,0)","v":0},"","",""]
["27zoDD",{"$f":"VLOOKUP($AA570,DATA!$B$3:$E$6,2,0)","v":"06:30:00"},{"$f":"VLOOKUP($AA570,DATA!$B$3:$E$6,3,0)","v":"14:30:00"},{"$f":"VLOOKUP($AA570,DATA!$B$3:$E$6,4,0)","v":3.125E-2},0.30208333333333331,0.30208333333333331,{"$f":"DATA!$C$9","v":0.89},{"$f":"DATA!$C$10","v":64},1,407.8125,407.8125,0,"","",0,"","",0,"","","","",null,{"$f":"X562","v":27},"2018-07-08",{"$f":"TEXT(Y570,\"ddd\")","v":"zo"},"DD",{"$f":"IFERROR(HLOOKUP(Y570,[1]DATA!$A$1:$NB$5,3,0),\"\")","v":"-"},null,null,null,null,{"$f":"VLOOKUP(Y570,[1]SRI!$S$4:$Z$368,2,0)","v":0},"","",""]
["27zoMD",{"$f":"VLOOKUP($AA571,DATA!$B$3:$E$6,2,0)","v":"14:30:00"},{"$f":"VLOOKUP($AA571,DATA!$B$3:$E$6,3,0)","v":"22:30:00"},{"$f":"VLOOKUP($AA571,DATA!$B$3:$E$6,4,0)","v":3.125E-2},0.30208333333333337,0.30208333333333337,{"$f":"DATA!$C$9","v":0.89},{"$f":"DATA!$C$10","v":64},1,407.81250000000006,407.81250000000006,0,"","",0,"","",0,"","","","",null,{"$f":"X562","v":27},null,{"$f":"TEXT(Y570,\"ddd\")","v":"zo"},"MD",{"$f":"IFERROR(HLOOKUP(Y570,[1]DATA!$A$1:$NB$5,4,0),\"\")","v":"-"},null,null,null,null,{"$f":"VLOOKUP(Y570,[1]SRI!$S$4:$Z$368,3,0)","v":0},"","",""]
["27zoZND",{"$f":"VLOOKUP($AA572,DATA!$B$3:$E$6,2,0)","v":"00:00:00"},{"$f":"VLOOKUP($AA572,DATA!$B$3:$E$6,3,0)","v":"00:00:00"},{"$f":"VLOOKUP($AA572,DATA!$B$3:$E$6,4,0)","v":3.125E-2},-3.125E-2,-3.125E-2,{"$f":"DATA!$C$9","v":0.89},{"$f":"DATA!$C$10","v":64},1,-42.1875,-42.1875,0,"","",0,"","",0,"","","","",null,{"$f":"X562","v":27},null,{"$f":"TEXT(Y570,\"ddd\")","v":"zo"},"ZND",{"$f":"IFERROR(HLOOKUP(Y570,[1]DATA!$A$1:$NB$5,5,0),\"\")","v":"-"},null,null,null,null,{"$f":"VLOOKUP(Y570,[1]SRI!$S$4:$Z$368,4,0)","v":0},"","",""]
["28maDD",{"$f":"VLOOKUP($AA573,DATA!$B$3:$E$6,2,0)","v":"06:30:00"},{"$f":"VLOOKUP($AA573,DATA!$B$3:$E$6,3,0)","v":"14:30:00"},{"$f":"VLOOKUP($AA573,DATA!$B$3:$E$6,4,0)","v":3.125E-2},0.30208333333333331,0.30208333333333331,{"$f":"DATA!$C$9","v":0.89},{"$f":"DATA!$C$10","v":64},1,407.8125,407.8125,0,"","",{"$f":"TIME(INT($AD573/60),INT(MOD($AD573,60)/1),0)","v":0},"","",0,"","","","",null,{"$f":"X583","v":28},"2018-07-09",{"$f":"TEXT(Y573,\"ddd\")","v":"ma"},"DD",{"$f":"IFERROR(HLOOKUP(Y573,[1]DATA!$A$1:$NB$5,3,0),\"\")","v":"D1"},null,null,null,null,{"$f":"VLOOKUP(Y573,[1]SRI!$S$4:$Z$368,2,0)","v":20},"","",0,{"$f":"IF(SUMIF(S573:S593,\">0\",K573:K593)=0,\"\",SUMIF(S573:S593,\">0\",K573:K593))","v":""},{"$f":"IF(SUM(S573:S593)=0,\"\",SUM(S573:S593))","v":""},{"$f":"IFERROR(AL573/AK573,\"-\")","v":"-"},{"$f":"IF(SUM(M573:M593)=0,\"0\",SUM(M573:M593))","v":"0"},{"$f":"IFERROR(AN573/AK573,\"-\")","v":"-"},{"$f":"IF(SUM(P573:P593)=0,0,SUM(P573:P593))","v":0},{"$f":"IFERROR(AP573/AK573,\"-\")","v":"-"},{"$f":"IFERROR(AVERAGE(AJ573:AJ593),\"-\")","v":0},{"$f":"IFERROR(SUMIF($AB573:$AB593,AS$5,$AJ573:$AJ593)/COUNTIFS($AB573:$AB593,AS$5,$AJ573:$AJ593,\">0\"),\"\")","v":""},"","",{"$f":"IFERROR((AK573-AL573-AN573-AP573),\"-\")","v":"-"},{"$f":"IFERROR((1-AM573-AO573-AQ573), \"-\")","v":"-"},{"$f":"IFERROR((AV573*$AE$2)/60,\"-\")","v":"-"},{"$f":"IFERROR(SUM(AG573:AG593),\"\")","v":219}]
["28maMD",{"$f":"VLOOKUP($AA574,DATA!$B$3:$E$6,2,0)","v":"14:30:00"},{"$f":"VLOOKUP($AA574,DATA!$B$3:$E$6,3,0)","v":"22:30:00"},{"$f":"VLOOKUP($AA574,DATA!$B$3:$E$6,4,0)","v":3.125E-2},0.30208333333333337,0.30208333333333337,{"$f":"DATA!$C$9","v":0.89},{"$f":"DATA!$C$10","v":64},1,407.81250000000006,407.81250000000006,0,"","",{"$f":"TIME(INT(AD574/60),INT(MOD(AD574,60)/1),0)","v":0},"","",0,"","","","",null,{"$f":"X583","v":28},null,{"$f":"TEXT(Y573,\"ddd\")","v":"ma"},"MD",{"$f":"IFERROR(HLOOKUP(Y573,[1]DATA!$A$1:$NB$5,4,0),\"\")","v":"D3"},null,null,null,null,{"$f":"VLOOKUP(Y573,[1]SRI!$S$4:$Z$368,3,0)","v":10},"","",0]
["28maND",{"$f":"VLOOKUP($AA575,DATA!$B$3:$E$6,2,0)","v":"22:30:00"},{"$f":"VLOOKUP($AA575,DATA!$B$3:$E$6,3,0)","v":"06:30:00"},{"$f":"VLOOKUP($AA575,DATA!$B$3:$E$6,4,0)","v":3.125E-2},0.30208333333333326,0.30208333333333326,{"$f":"DATA!$C$9","v":0.89},{"$f":"DATA!$C$10","v":64},1,407.81249999999989,407.81249999999989,0,"","",0,"","",0,"","","","",null,{"$f":"X583","v":28},null,{"$f":"TEXT(Y573,\"ddd\")","v":"ma"},"ND",{"$f":"IFERROR(HLOOKUP(Y573,[1]DATA!$A$1:$NB$5,5,0),\"\")","v":"D2"},null,null,null,null,{"$f":"VLOOKUP(Y573,[1]SRI!$S$4:$Z$368,4,0)","v":65},"","",0]
["28diDD",{"$f":"VLOOKUP($AA576,DATA!$B$3:$E$6,2,0)","v":"06:30:00"},{"$f":"VLOOKUP($AA576,DATA!$B$3:$E$6,3,0)","v":"14:30:00"},{"$f":"VLOOKUP($AA576,DATA!$B$3:$E$6,4,0)","v":3.125E-2},0.30208333333333331,0.30208333333333331,{"$f":"DATA!$C$9","v":0.89},{"$f":"DATA!$C$10","v":64},1,407.8125,407.8125,0,"","",0,"","",0,"","","","",null,{"$f":"X583","v":28},"2018-07-10",{"$f":"TEXT(Y576,\"ddd\")","v":"di"},"DD",{"$f":"IFERROR(HLOOKUP(Y576,[1]DATA!$A$1:$NB$5,3,0),\"\")","v":"D1"},null,null,null,null,{"$f":"VLOOKUP(Y576,[1]SRI!$S$4:$Z$368,2,0)","v":6},"","",0]
["28diMD",{"$f":"VLOOKUP($AA577,DATA!$B$3:$E$6,2,0)","v":"14:30:00"},{"$f":"VLOOKUP($AA577,DATA!$B$3:$E$6,3,0)","v":"22:30:00"},{"$f":"VLOOKUP($AA577,DATA!$B$3:$E$6,4,0)","v":3.125E-2},0.30208333333333337,0.30208333333333337,{"$f":"DATA!$C$9","v":0.89},{"$f":"DATA!$C$10","v":64},1,407.81250000000006,407.81250000000006,0,"","",0,"","",0,"","","","",null,{"$f":"X583","v":28},null,{"$f":"TEXT(Y576,\"ddd\")","v":"di"},"MD",{"$f":"IFERROR(HLOOKUP(Y576,[1]DATA!$A$1:$NB$5,4,0),\"\")","v":"D3"},null,null,null,null,{"$f":"VLOOKUP(Y576,[1]SRI!$S$4:$Z$368,3,0)","v":26},"","",0]
["28diND",{"$f":"VLOOKUP($AA578,DATA!$B$3:$E$6,2,0)","v":"22:30:00"},{"$f":"VLOOKUP($AA578,DATA!$B$3:$E$6,3,0)","v":"06:30:00"},{"$f":"VLOOKUP($AA578,DATA!$B$3:$E$6,4,0)","v":3.125E-2},0.30208333333333326,0.30208333333333326,{"$f":"DATA!$C$9","v":0.89},{"$f":"DATA!$C$10","v":64},1,407.81249999999989,407.81249999999989,0,"","",0,"","",0,"","","","",null,{"$f":"X583","v":28},null,{"$f":"TEXT(Y576,\"ddd\")","v":"di"},"ND",{"$f":"IFERROR(HLOOKUP(Y576,[1]DATA!$A$1:$NB$5,5,0),\"\")","v":"D2"},null,null,null,null,{"$f":"VLOOKUP(Y576,[1]SRI!$S$4:$Z$368,4,0)","v":22},"","",0]
["28woDD",{"$f":"VLOOKUP($AA579,DATA!$B$3:$E$6,2,0)","v":"06:30:00"},{"$f":"VLOOKUP($AA579,DATA!$B$3:$E$6,3,0)","v":"14:30:00"},{"$f":"VLOOKUP($AA579,DATA!$B$3:$E$6,4,0)","v":3.125E-2},0.30208333333333331,0.30208333333333331,{"$f":"DATA!$C$9","v":0.89},{"$f":"DATA!$C$10","v":64},1,407.8125,407.8125,0,"","",0,"","",0,"","","","",null,{"$f":"X583","v":28},"2018-07-11",{"$f":"TEXT(Y579,\"ddd\")","v":"wo"},"DD",{"$f":"IFERROR(HLOOKUP(Y579,[1]DATA!$A$1:$NB$5,3,0),\"\")","v":"D1"},null,null,null,null,{"$f":"VLOOKUP(Y579,[1]SRI!$S$4:$Z$368,2,0)","v":6},"","",0]
["28woMD",{"$f":"VLOOKUP($AA580,DATA!$B$3:$E$6,2,0)","v":"14:30:00"},{"$f":"VLOOKUP($AA580,DATA!$B$3:$E$6,3,0)","v":"22:30:00"},{"$f":"VLOOKUP($AA580,DATA!$B$3:$E$6,4,0)","v":3.125E-2},0.30208333333333337,0.30208333333333337,{"$f":"DATA!$C$9","v":0.89},{"$f":"DATA!$C$10","v":64},1,407.81250000000006,407.81250000000006,0,"","",0,"","",0,"","","","",null,{"$f":"X583","v":28},null,{"$f":"TEXT(Y579,\"ddd\")","v":"wo"},"MD",{"$f":"IFERROR(HLOOKUP(Y579,[1]DATA!$A$1:$NB$5,4,0),\"\")","v":"D3"},null,null,null,null,{"$f":"VLOOKUP(Y579,[1]SRI!$S$4:$Z$368,3,0)","v":24},"","",0]
["28woND",{"$f":"VLOOKUP($AA581,DATA!$B$3:$E$6,2,0)","v":"22:30:00"},{"$f":"VLOOKUP($AA581,DATA!$B$3:$E$6,3,0)","v":"06:30:00"},{"$f":"VLOOKUP($AA581,DATA!$B$3:$E$6,4,0)","v":3.125E-2},0.30208333333333326,0.30208333333333326,{"$f":"DATA!$C$9","v":0.89},{"$f":"DATA!$C$10","v":64},1,407.81249999999989,407.81249999999989,0,"","",0,"","",0,"","","","",null,{"$f":"X583","v":28},null,{"$f":"TEXT(Y579,\"ddd\")","v":"wo"},"ND",{"$f":"IFERROR(HLOOKUP(Y579,[1]DATA!$A$1:$NB$5,5,0),\"\")","v":"D2"},null,null,null,null,{"$f":"VLOOKUP(Y579,[1]SRI!$S$4:$Z$368,4,0)","v":19},"","",0]
["28doDD",{"$f":"VLOOKUP($AA582,DATA!$B$3:$E$6,2,0)","v":"06:30:00"},{"$f":"VLOOKUP($AA582,DATA!$B$3:$E$6,3,0)","v":"14:30:00"},{"$f":"VLOOKUP($AA582,DATA!$B$3:$E$6,4,0)","v":3.125E-2},0.30208333333333331,0.30208333333333331,{"$f":"DATA!$C$9","v":0.89},{"$f":"DATA!$C$10","v":64},1,{"$f":"F582*86400/H582*I582","v":407.8125},{"$f":"E582*86400/H582","v":407.8125},0,"","",0,"","",{"$f":"AF582*AG$2","v":0},{"$f":"IF(AF582-AE582=0,\"\",AF582-AE582)","v":""},"","","",null,{"$f":"X583","v":28},"2018-07-12",{"$f":"TEXT(Y582,\"ddd\")","v":"do"},"DD",{"$f":"IFERROR(HLOOKUP(Y582,[1]DATA!$A$1:$NB$5,3,0),\"\")","v":"D1"},null,null,null,null,{"$f":"VLOOKUP(Y582,[1]SRI!$S$4:$Z$368,2,0)","v":6},{"$f":"IFERROR(S582-J582,\"\")","v":""},{"$f":"IFERROR(IF(S582/(E582*86400/H582)<=0,\"\",S582/(E582*86400/H582)),\"\")","v":""},{"$f":"IFERROR(R582/(R582+AG582),\"\")","v":0}]
["28doMD",{"$f":"VLOOKUP($AA583,DATA!$B$3:$E$6,2,0)","v":"14:30:00"},{"$f":"VLOOKUP($AA583,DATA!$B$3:$E$6,3,0)","v":"22:30:00"},{"$f":"VLOOKUP($AA583,DATA!$B$3:$E$6,4,0)","v":3.125E-2},0.30208333333333337,0.30208333333333337,{"$f":"DATA!$C$9","v":0.89},{"$f":"DATA!$C$10","v":64},1,407.81250000000006,407.81250000000006,{"$f":"TIME(INT($AC583/60),INT(MOD($AC583,60)/1),0)","v":0},{"$f":"IF($L583*86400/$H583=0,\"\",$L583*86400/$H583)","v":""},{"$f":"IFERROR($M583/$K583,\"\")","v":""},0,"",{"$f":"IFERROR($P583/$K583,\"\")","v":""},0,"",{"$f":"IF(IF($AB583=\"D1\",$S583,\"\")=0,\"\",IF($AB583=\"D1\",$S583,\"\"))","v":""},{"$f":"IF(IF($AB583=\"D2\",$S583,\"\")=0,\"\",IF($AB583=\"D2\",$S583,\"\"))","v":""},{"$f":"IF(IF($AB583=\"D3\",$S583,\"\")=0,\"\",IF($AB583=\"D3\",$S583,\"\"))","v":""},null,{"$f":"WEEKNUM($Y573)","v":28},null,{"$f":"TEXT(Y582,\"ddd\")","v":"do"},"MD",{"$f":"IFERROR(HLOOKUP(Y582,[1]DATA!$A$1:$NB$5,4,0),\"\")","v":"D3"},null,null,null,null,{"$f":"VLOOKUP(Y582,[1]SRI!$S$4:$Z$368,3,0)","v":8},"","",0]
["28doND",{"$f":"VLOOKUP($AA584,DATA!$B$3:$E$6,2,0)","v":"22:30:00"},{"$f":"VLOOKUP($AA584,DATA!$B$3:$E$6,3,0)","v":"06:30:00"},{"$f":"VLOOKUP($AA584,DATA!$B$3:$E$6,4,0)","v":3.125E-2},0.30208333333333326,0.30208333333333326,{"$f":"DATA!$C$9","v":0.89},{"$f":"DATA!$C$10","v":64},1,407.81249999999989,407.81249999999989,0,"","",0,"","",0,"","","","",null,{"$f":"X583","v":28},null,{"$f":"TEXT(Y582,\"ddd\")","v":"do"},"ND",{"$f":"IFERROR(HLOOKUP(Y582,[1]DATA!$A$1:$NB$5,5,0),\"\")","v":"D2"},null,null,null,null,{"$f":"VLOOKUP(Y582,[1]SRI!$S$4:$Z$368,4,0)","v":7},"","",0]
["28vrDD",{"$f":"VLOOKUP($AA585,DATA!$B$3:$E$6,2,0)","v":"06:30:00"},{"$f":"VLOOKUP($AA585,DATA!$B$3:$E$6,3,0)","v":"14:30:00"},{"$f":"VLOOKUP($AA585,DATA!$B$3:$E$6,4,0)","v":3.125E-2},0.30208333333333331,0.30208333333333331,{"$f":"DATA!$C$9","v":0.89},{"$f":"DATA!$C$10","v":64},1,407.8125,407.8125,0,"","",0,"","",0,"","","","",null,{"$f":"X583","v":28},"2018-07-13",{"$f":"TEXT(Y585,\"ddd\")","v":"vr"},"DD",{"$f":"IFERROR(HLOOKUP(Y585,[1]DATA!$A$1:$NB$5,3,0),\"\")","v":"D1"},null,null,null,null,{"$f":"VLOOKUP(Y585,[1]SRI!$S$4:$Z$368,2,0)","v":0},"","",""]
["28vrMD",{"$f":"VLOOKUP($AA586,DATA!$B$3:$E$6,2,0)","v":"14:30:00"},{"$f":"VLOOKUP($AA586,DATA!$B$3:$E$6,3,0)","v":"22:30:00"},{"$f":"VLOOKUP($AA586,DATA!$B$3:$E$6,4,0)","v":3.125E-2},0.30208333333333337,0.30208333333333337,{"$f":"DATA!$C$9","v":0.89},{"$f":"DATA!$C$10","v":64},1,407.81250000000006,407.81250000000006,0,"","",0,"","",0,"","","","",null,{"$f":"X583","v":28},null,{"$f":"TEXT(Y585,\"ddd\")","v":"vr"},"MD",{"$f":"IFERROR(HLOOKUP(Y585,[1]DATA!$A$1:$NB$5,4,0),\"\")","v":"D3"},null,null,null,null,{"$f":"VLOOKUP(Y585,[1]SRI!$S$4:$Z$368,3,0)","v":0},"","",""]
["28vrND",{"$f":"VLOOKUP($AA587,DATA!$B$3:$E$6,2,0)","v":"22:30:00"},{"$f":"VLOOKUP($AA587,DATA!$B$3:$E$6,3,0)","v":"06:30:00"},{"$f":"VLOOKUP($AA587,DATA!$B$3:$E$6,4,0)","v":3.125E-2},0.30208333333333326,0.30208333333333326,{"$f":"DATA!$C$9","v":0.89},{"$f":"DATA!$C$10","v":64},1,407.81249999999989,407.81249999999989,0,"","",0,"","",0,"","","","",null,{"$f":"X583","v":28},null,{"$f":"TEXT(Y585,\"ddd\")","v":"vr"},"ND",{"$f":"IFERROR(HLOOKUP(Y585,[1]DATA!$A$1:$NB$5,5,0),\"\")","v":"D2"},null,null,null,null,{"$f":"VLOOKUP(Y585,[1]SRI!$S$4:$Z$368,4,0)","v":0},"","",""]
["28zaDD",{"$f":"VLOOKUP($AA588,DATA!$B$3:$E$6,2,0)","v":"06:30:00"},{"$f":"VLOOKUP($AA588,DATA!$B$3:$E$6,3,0)","v":"14:30:00"},{"$f":"VLOOKUP($AA588,DATA!$B$3:$E$6,4,0)","v":3.125E-2},0.30208333333333331,0.30208333333333331,{"$f":"DATA!$C$9","v":0.89},{"$f":"DATA!$C$10","v":64},1,407.8125,407.8125,0,"","",0,"","",0,"","","","",null,{"$f":"X583","v":28},"2018-07-14",{"$f":"TEXT(Y588,\"ddd\")","v":"za"},"DD",{"$f":"IFERROR(HLOOKUP(Y588,[1]DATA!$A$1:$NB$5,3,0),\"\")","v":"D1"},null,null,null,null,{"$f":"VLOOKUP(Y588,[1]SRI!$S$4:$Z$368,2,0)","v":0},"","",""]
["28zaMD",{"$f":"VLOOKUP($AA589,DATA!$B$3:$E$6,2,0)","v":"14:30:00"},{"$f":"VLOOKUP($AA589,DATA!$B$3:$E$6,3,0)","v":"22:30:00"},{"$f":"VLOOKUP($AA589,DATA!$B$3:$E$6,4,0)","v":3.125E-2},0.30208333333333337,0.30208333333333337,{"$f":"DATA!$C$9","v":0.89},{"$f":"DATA!$C$10","v":64},1,407.81250000000006,407.81250000000006,0,"","",0,"","",0,"","","","",null,{"$f":"X583","v":28},null,{"$f":"TEXT(Y588,\"ddd\")","v":"za"},"MD",{"$f":"IFERROR(HLOOKUP(Y588,[1]DATA!$A$1:$NB$5,4,0),\"\")","v":"-"},null,null,null,null,{"$f":"VLOOKUP(Y588,[1]SRI!$S$4:$Z$368,3,0)","v":0},"","",""]
["28zaND",{"$f":"VLOOKUP($AA590,DATA!$B$3:$E$6,2,0)","v":"22:30:00"},{"$f":"VLOOKUP($AA590,DATA!$B$3:$E$6,3,0)","v":"06:30:00"},{"$f":"VLOOKUP($AA590,DATA!$B$3:$E$6,4,0)","v":3.125E-2},0.30208333333333326,0.30208333333333326,{"$f":"DATA!$C$9","v":0.89},{"$f":"DATA!$C$10","v":64},1,407.81249999999989,407.81249999999989,0,"","",0,"","",0,"","","","",null,{"$f":"X583","v":28},null,{"$f":"TEXT(Y588,\"ddd\")","v":"za"},"ND",{"$f":"IFERROR(HLOOKUP(Y588,[1]DATA!$A$1:$NB$5,5,0),\"\")","v":"-"},null,null,null,null,{"$f":"VLOOKUP(Y588,[1]SRI!$S$4:$Z$368,4,0)","v":0},"","",""]
["28zoDD",{"$f":"VLOOKUP($AA591,DATA!$B$3:$E$6,2,0)","v":"06:30:00"},{"$f":"VLOOKUP($AA591,DATA!$B$3:$E$6,3,0)","v":"14:30:00"},{"$f":"VLOOKUP($AA591,DATA!$B$3:$E$6,4,0)","v":3.125E-2},0.30208333333333331,0.30208333333333331,{"$f":"DATA!$C$9","v":0.89},{"$f":"DATA!$C$10","v":64},1,407.8125,407.8125,0,"","",0,"","",0,"","","","",null,{"$f":"X583","v":28},"2018-07-15",{"$f":"TEXT(Y591,\"ddd\")","v":"zo"},"DD",{"$f":"IFERROR(HLOOKUP(Y591,[1]DATA!$A$1:$NB$5,3,0),\"\")","v":"-"},null,null,null,null,{"$f":"VLOOKUP(Y591,[1]SRI!$S$4:$Z$368,2,0)","v":0},"","",""]
["28zoMD",{"$f":"VLOOKUP($AA592,DATA!$B$3:$E$6,2,0)","v":"14:30:00"},{"$f":"VLOOKUP($AA592,DATA!$B$3:$E$6,3,0)","v":"22:30:00"},{"$f":"VLOOKUP($AA592,DATA!$B$3:$E$6,4,0)","v":3.125E-2},0.30208333333333337,0.30208333333333337,{"$f":"DATA!$C$9","v":0.89},{"$f":"DATA!$C$10","v":64},1,407.81250000000006,407.81250000000006,0,"","",0,"","",0,"","","","",null,{"$f":"X583","v":28},null,{"$f":"TEXT(Y591,\"ddd\")","v":"zo"},"MD",{"$f":"IFERROR(HLOOKUP(Y591,[1]DATA!$A$1:$NB$5,4,0),\"\")","v":"-"},null,null,null,null,{"$f":"VLOOKUP(Y591,[1]SRI!$S$4:$Z$368,3,0)","v":0},"","",""]
["28zoZND",{"$f":"VLOOKUP($AA593,DATA!$B$3:$E$6,2,0)","v":"00:00:00"},{"$f":"VLOOKUP($AA593,DATA!$B$3:$E$6,3,0)","v":"00:00:00"},{"$f":"VLOOKUP($AA593,DATA!$B$3:$E$6,4,0)","v":3.125E-2},-3.125E-2,-3.125E-2,{"$f":"DATA!$C$9","v":0.89},{"$f":"DATA!$C$10","v":64},1,-42.1875,-42.1875,0,"","",0,"","",0,"","","","",null,{"$f":"X583","v":28},null,{"$f":"TEXT(Y591,\"ddd\")","v":"zo"},"ZND",{"$f":"IFERROR(HLOOKUP(Y591,[1]DATA!$A$1:$NB$5,5,0),\"\")","v":"-"},null,null,null,null,{"$f":"VLOOKUP(Y591,[1]SRI!$S$4:$Z$368,4,0)","v":0},"","",""]
["29maDD",{"$f":"VLOOKUP($AA594,DATA!$B$3:$E$6,2,0)","v":"06:30:00"},{"$f":"VLOOKUP($AA594,DATA!$B$3:$E$6,3,0)","v":"14:30:00"},{"$f":"VLOOKUP($AA594,DATA!$B$3:$E$6,4,0)","v":3.125E-2},0.30208333333333331,0.30208333333333331,{"$f":"DATA!$C$9","v":0.89},{"$f":"DATA!$C$10","v":64},1,407.8125,407.8125,0,"","",{"$f":"TIME(INT($AD594/60),INT(MOD($AD594,60)/1),0)","v":0},"","",0,"","","","",null,{"$f":"X604","v":29},"2018-07-16",{"$f":"TEXT(Y594,\"ddd\")","v":"ma"},"DD",{"$f":"IFERROR(HLOOKUP(Y594,[1]DATA!$A$1:$NB$5,3,0),\"\")","v":"D3"},null,null,null,null,{"$f":"VLOOKUP(Y594,[1]SRI!$S$4:$Z$368,2,0)","v":33},"","",0,{"$f":"IF(SUMIF(S594:S614,\">0\",K594:K614)=0,\"\",SUMIF(S594:S614,\">0\",K594:K614))","v":""},{"$f":"IF(SUM(S594:S614)=0,\"\",SUM(S594:S614))","v":""},{"$f":"IFERROR(AL594/AK594,\"-\")","v":"-"},{"$f":"IF(SUM(M594:M614)=0,\"0\",SUM(M594:M614))","v":"0"},{"$f":"IFERROR(AN594/AK594,\"-\")","v":"-"},{"$f":"IF(SUM(P594:P614)=0,0,SUM(P594:P614))","v":0},{"$f":"IFERROR(AP594/AK594,\"-\")","v":"-"},{"$f":"IFERROR(AVERAGE(AJ594:AJ614),\"-\")","v":0},{"$f":"IFERROR(SUMIF($AB594:$AB614,AS$5,$AJ594:$AJ614)/COUNTIFS($AB594:$AB614,AS$5,$AJ594:$AJ614,\">0\"),\"\")","v":""},"","",{"$f":"IFERROR((AK594-AL594-AN594-AP594),\"-\")","v":"-"},{"$f":"IFERROR((1-AM594-AO594-AQ594), \"-\")","v":"-"},{"$f":"IFERROR((AV594*$AE$2)/60,\"-\")","v":"-"},{"$f":"IFERROR(SUM(AG594:AG614),\"\")","v":70}]
["29maMD",{"$f":"VLOOKUP($AA595,DATA!$B$3:$E$6,2,0)","v":"14:30:00"},{"$f":"VLOOKUP($AA595,DATA!$B$3:$E$6,3,0)","v":"22:30:00"},{"$f":"VLOOKUP($AA595,DATA!$B$3:$E$6,4,0)","v":3.125E-2},0.30208333333333337,0.30208333333333337,{"$f":"DATA!$C$9","v":0.89},{"$f":"DATA!$C$10","v":64},1,407.81250000000006,407.81250000000006,0,"","",{"$f":"TIME(INT(AD595/60),INT(MOD(AD595,60)/1),0)","v":0},"","",0,"","","","",null,{"$f":"X604","v":29},null,{"$f":"TEXT(Y594,\"ddd\")","v":"ma"},"MD",{"$f":"IFERROR(HLOOKUP(Y594,[1]DATA!$A$1:$NB$5,4,0),\"\")","v":"D2"},null,null,null,null,{"$f":"VLOOKUP(Y594,[1]SRI!$S$4:$Z$368,3,0)","v":3},"","",0]
["29maND",{"$f":"VLOOKUP($AA596,DATA!$B$3:$E$6,2,0)","v":"22:30:00"},{"$f":"VLOOKUP($AA596,DATA!$B$3:$E$6,3,0)","v":"06:30:00"},{"$f":"VLOOKUP($AA596,DATA!$B$3:$E$6,4,0)","v":3.125E-2},0.30208333333333326,0.30208333333333326,{"$f":"DATA!$C$9","v":0.89},{"$f":"DATA!$C$10","v":64},1,407.81249999999989,407.81249999999989,0,"","",0,"","",0,"","","","",null,{"$f":"X604","v":29},null,{"$f":"TEXT(Y594,\"ddd\")","v":"ma"},"ND",{"$f":"IFERROR(HLOOKUP(Y594,[1]DATA!$A$1:$NB$5,5,0),\"\")","v":"D1"},null,null,null,null,{"$f":"VLOOKUP(Y594,[1]SRI!$S$4:$Z$368,4,0)","v":2},"","",0]
["29diDD",{"$f":"VLOOKUP($AA597,DATA!$B$3:$E$6,2,0)","v":"06:30:00"},{"$f":"VLOOKUP($AA597,DATA!$B$3:$E$6,3,0)","v":"14:30:00"},{"$f":"VLOOKUP($AA597,DATA!$B$3:$E$6,4,0)","v":3.125E-2},0.30208333333333331,0.30208333333333331,{"$f":"DATA!$C$9","v":0.89},{"$f":"DATA!$C$10","v":64},1,407.8125,407.8125,0,"","",0,"","",0,"","","","",null,{"$f":"X604","v":29},"2018-07-17",{"$f":"TEXT(Y597,\"ddd\")","v":"di"},"DD",{"$f":"IFERROR(HLOOKUP(Y597,[1]DATA!$A$1:$NB$5,3,0),\"\")","v":"D3"},null,null,null,null,{"$f":"VLOOKUP(Y597,[1]SRI!$S$4:$Z$368,2,0)","v":5},"","",0]
["29diMD",{"$f":"VLOOKUP($AA598,DATA!$B$3:$E$6,2,0)","v":"14:30:00"},{"$f":"VLOOKUP($AA598,DATA!$B$3:$E$6,3,0)","v":"22:30:00"},{"$f":"VLOOKUP($AA598,DATA!$B$3:$E$6,4,0)","v":3.125E-2},0.30208333333333337,0.30208333333333337,{"$f":"DATA!$C$9","v":0.89},{"$f":"DATA!$C$10","v":64},1,407.81250000000006,407.81250000000006,0,"","",0,"","",0,"","","","",null,{"$f":"X604","v":29},null,{"$f":"TEXT(Y597,\"ddd\")","v":"di"},"MD",{"$f":"IFERROR(HLOOKUP(Y597,[1]DATA!$A$1:$NB$5,4,0),\"\")","v":"D2"},null,null,null,null,{"$f":"VLOOKUP(Y597,[1]SRI!$S$4:$Z$368,3,0)","v":0},"","",""]
["29diND",{"$f":"VLOOKUP($AA599,DATA!$B$3:$E$6,2,0)","v":"22:30:00"},{"$f":"VLOOKUP($AA599,DATA!$B$3:$E$6,3,0)","v":"06:30:00"},{"$f":"VLOOKUP($AA599,DATA!$B$3:$E$6,4,0)","v":3.125E-2},0.30208333333333326,0.30208333333333326,{"$f":"DATA!$C$9","v":0.89},{"$f":"DATA!$C$10","v":64},1,407.81249999999989,407.81249999999989,0,"","",0,"","",0,"","","","",null,{"$f":"X604","v":29},null,{"$f":"TEXT(Y597,\"ddd\")","v":"di"},"ND",{"$f":"IFERROR(HLOOKUP(Y597,[1]DATA!$A$1:$NB$5,5,0),\"\")","v":"D1"},null,null,null,null,{"$f":"VLOOKUP(Y597,[1]SRI!$S$4:$Z$368,4,0)","v":0},"","",""]
["29woDD",{"$f":"VLOOKUP($AA600,DATA!$B$3:$E$6,2,0)","v":"06:30:00"},{"$f":"VLOOKUP($AA600,DATA!$B$3:$E$6,3,0)","v":"14:30:00"},{"$f":"VLOOKUP($AA600,DATA!$B$3:$E$6,4,0)","v":3.125E-2},0.30208333333333331,0.30208333333333331,{"$f":"DATA!$C$9","v":0.89},{"$f":"DATA!$C$10","v":64},1,407.8125,407.8125,0,"","",0,"","",0,"","","","",null,{"$f":"X604","v":29},"2018-07-18",{"$f":"TEXT(Y600,\"ddd\")","v":"wo"},"DD",{"$f":"IFERROR(HLOOKUP(Y600,[1]DATA!$A$1:$NB$5,3,0),\"\")","v":"D3"},null,null,null,null,{"$f":"VLOOKUP(Y600,[1]SRI!$S$4:$Z$368,2,0)","v":14},"","",0]
["29woMD",{"$f":"VLOOKUP($AA601,DATA!$B$3:$E$6,2,0)","v":"14:30:00"},{"$f":"VLOOKUP($AA601,DATA!$B$3:$E$6,3,0)","v":"22:30:00"},{"$f":"VLOOKUP($AA601,DATA!$B$3:$E$6,4,0)","v":3.125E-2},0.30208333333333337,0.30208333333333337,{"$f":"DATA!$C$9","v":0.89},{"$f":"DATA!$C$10","v":64},1,407.81250000000006,407.81250000000006,0,"","",0,"","",0,"","","","",null,{"$f":"X604","v":29},null,{"$f":"TEXT(Y600,\"ddd\")","v":"wo"},"MD",{"$f":"IFERROR(HLOOKUP(Y600,[1]DATA!$A$1:$NB$5,4,0),\"\")","v":"D2"},null,null,null,null,{"$f":"VLOOKUP(Y600,[1]SRI!$S$4:$Z$368,3,0)","v":13},"","",0]
["29woND",{"$f":"VLOOKUP($AA602,DATA!$B$3:$E$6,2,0)","v":"22:30:00"},{"$f":"VLOOKUP($AA602,DATA!$B$3:$E$6,3,0)","v":"06:30:00"},{"$f":"VLOOKUP($AA602,DATA!$B$3:$E$6,4,0)","v":3.125E-2},0.30208333333333326,0.30208333333333326,{"$f":"DATA!$C$9","v":0.89},{"$f":"DATA!$C$10","v":64},1,407.81249999999989,407.81249999999989,0,"","",0,"","",0,"","","","",null,{"$f":"X604","v":29},null,{"$f":"TEXT(Y600,\"ddd\")","v":"wo"},"ND",{"$f":"IFERROR(HLOOKUP(Y600,[1]DATA!$A$1:$NB$5,5,0),\"\")","v":"D1"},null,null,null,null,{"$f":"VLOOKUP(Y600,[1]SRI!$S$4:$Z$368,4,0)","v":0},"","",""]
["29doDD",{"$f":"VLOOKUP($AA603,DATA!$B$3:$E$6,2,0)","v":"06:30:00"},{"$f":"VLOOKUP($AA603,DATA!$B$3:$E$6,3,0)","v":"14:30:00"},{"$f":"VLOOKUP($AA603,DATA!$B$3:$E$6,4,0)","v":3.125E-2},0.30208333333333331,0.30208333333333331,{"$f":"DATA!$C$9","v":0.89},{"$f":"DATA!$C$10","v":64},1,407.8125,407.8125,0,"","",0,"","",0,"","","","",null,{"$f":"X604","v":29},"2018-07-19",{"$f":"TEXT(Y603,\"ddd\")","v":"do"},"DD",{"$f":"IFERROR(HLOOKUP(Y603,[1]DATA!$A$1:$NB$5,3,0),\"\")","v":"D3"},null,null,null,null,{"$f":"VLOOKUP(Y603,[1]SRI!$S$4:$Z$368,2,0)","v":0},"","",""]
["29doMD",{"$f":"VLOOKUP($AA604,DATA!$B$3:$E$6,2,0)","v":"14:30:00"},{"$f":"VLOOKUP($AA604,DATA!$B$3:$E$6,3,0)","v":"22:30:00"},{"$f":"VLOOKUP($AA604,DATA!$B$3:$E$6,4,0)","v":3.125E-2},{"$f":"(C604-B604+(B604>C604))-D604","v":0.30208333333333337},{"$f":"E604-O604-L604","v":0.30208333333333337},{"$f":"DATA!$C$9","v":0.89},{"$f":"DATA!$C$10","v":64},1,407.81250000000006,407.81250000000006,0,"","",0,"","",0,"","","","",null,{"$f":"WEEKNUM($Y594)","v":29},null,{"$f":"TEXT(Y603,\"ddd\")","v":"do"},"MD",{"$f":"IFERROR(HLOOKUP(Y603,[1]DATA!$A$1:$NB$5,4,0),\"\")","v":"D2"},null,null,null,null,{"$f":"VLOOKUP(Y603,[1]SRI!$S$4:$Z$368,3,0)","v":0},"","",""]
["29doND",{"$f":"VLOOKUP($AA605,DATA!$B$3:$E$6,2,0)","v":"22:30:00"},{"$f":"VLOOKUP($AA605,DATA!$B$3:$E$6,3,0)","v":"06:30:00"},{"$f":"VLOOKUP($AA605,DATA!$B$3:$E$6,4,0)","v":3.125E-2},0.30208333333333326,0.30208333333333326,{"$f":"DATA!$C$9","v":0.89},{"$f":"DATA!$C$10","v":64},1,407.81249999999989,407.81249999999989,0,"","",0,"","",0,"","","","",null,{"$f":"X604","v":29},null,{"$f":"TEXT(Y603,\"ddd\")","v":"do"},"ND",{"$f":"IFERROR(HLOOKUP(Y603,[1]DATA!$A$1:$NB$5,5,0),\"\")","v":"D1"},null,null,null,null,{"$f":"VLOOKUP(Y603,[1]SRI!$S$4:$Z$368,4,0)","v":0},"","",""]
["29vrDD",{"$f":"VLOOKUP($AA606,DATA!$B$3:$E$6,2,0)","v":"06:30:00"},{"$f":"VLOOKUP($AA606,DATA!$B$3:$E$6,3,0)","v":"14:30:00"},{"$f":"VLOOKUP($AA606,DATA!$B$3:$E$6,4,0)","v":3.125E-2},0.30208333333333331,0.30208333333333331,{"$f":"DATA!$C$9","v":0.89},{"$f":"DATA!$C$10","v":64},1,407.8125,407.8125,0,"","",0,"","",0,"","","","",null,{"$f":"X604","v":29},"2018-07-20",{"$f":"TEXT(Y606,\"ddd\")","v":"vr"},"DD",{"$f":"IFERROR(HLOOKUP(Y606,[1]DATA!$A$1:$NB$5,3,0),\"\")","v":"D3"},null,null,null,null,{"$f":"VLOOKUP(Y606,[1]SRI!$S$4:$Z$368,2,0)","v":0},"","",""]
["29vrMD",{"$f":"VLOOKUP($AA607,DATA!$B$3:$E$6,2,0)","v":"14:30:00"},{"$f":"VLOOKUP($AA607,DATA!$B$3:$E$6,3,0)","v":"22:30:00"},{"$f":"VLOOKUP($AA607,DATA!$B$3:$E$6,4,0)","v":3.125E-2},0.30208333333333337,0.30208333333333337,{"$f":"DATA!$C$9","v":0.89},{"$f":"DATA!$C$10","v":64},1,407.81250000000006,407.81250000000006,0,"","",0,"","",0,"","","","",null,{"$f":"X604","v":29},null,{"$f":"TEXT(Y606,\"ddd\")","v":"vr"},"MD",{"$f":"IFERROR(HLOOKUP(Y606,[1]DATA!$A$1:$NB$5,4,0),\"\")","v":"D2"},null,null,null,null,{"$f":"VLOOKUP(Y606,[1]SRI!$S$4:$Z$368,3,0)","v":0},"","",""]
["29vrND",{"$f":"VLOOKUP($AA608,DATA!$B$3:$E$6,2,0)","v":"22:30:00"},{"$f":"VLOOKUP($AA608,DATA!$B$3:$E$6,3,0)","v":"06:30:00"},{"$f":"VLOOKUP($AA608,DATA!$B$3:$E$6,4,0)","v":3.125E-2},0.30208333333333326,0.30208333333333326,{"$f":"DATA!$C$9","v":0.89},{"$f":"DATA!$C$10","v":64},1,407.81249999999989,407.81249999999989,0,"","",0,"","",0,"","","","",null,{"$f":"X604","v":29},null,{"$f":"TEXT(Y606,\"ddd\")","v":"vr"},"ND",{"$f":"IFERROR(HLOOKUP(Y606,[1]DATA!$A$1:$NB$5,5,0),\"\")","v":"D2"},null,null,null,null,{"$f":"VLOOKUP(Y606,[1]SRI!$S$4:$Z$368,4,0)","v":0},"","",""]
["29zaDD",{"$f":"VLOOKUP($AA609,DATA!$B$3:$E$6,2,0)","v":"06:30:00"},{"$f":"VLOOKUP($AA609,DATA!$B$3:$E$6,3,0)","v":"14:30:00"},{"$f":"VLOOKUP($AA609,DATA!$B$3:$E$6,4,0)","v":3.125E-2},0.30208333333333331,0.30208333333333331,{"$f":"DATA!$C$9","v":0.89},{"$f":"DATA!$C$10","v":64},1,407.8125,407.8125,0,"","",0,"","",0,"","","","",null,{"$f":"X604","v":29},"2018-07-21",{"$f":"TEXT(Y609,\"ddd\")","v":"za"},"DD",{"$f":"IFERROR(HLOOKUP(Y609,[1]DATA!$A$1:$NB$5,3,0),\"\")","v":"D3"},null,null,null,null,{"$f":"VLOOKUP(Y609,[1]SRI!$S$4:$Z$368,2,0)","v":0},"","",""]
["29zaMD",{"$f":"VLOOKUP($AA610,DATA!$B$3:$E$6,2,0)","v":"14:30:00"},{"$f":"VLOOKUP($AA610,DATA!$B$3:$E$6,3,0)","v":"22:30:00"},{"$f":"VLOOKUP($AA610,DATA!$B$3:$E$6,4,0)","v":3.125E-2},0.30208333333333337,0.30208333333333337,{"$f":"DATA!$C$9","v":0.89},{"$f":"DATA!$C$10","v":64},1,407.81250000000006,407.81250000000006,0,"","",0,"","",0,"","","","",null,{"$f":"X604","v":29},null,{"$f":"TEXT(Y609,\"ddd\")","v":"za"},"MD",{"$f":"IFERROR(HLOOKUP(Y609,[1]DATA!$A$1:$NB$5,4,0),\"\")","v":"-"},null,null,null,null,{"$f":"VLOOKUP(Y609,[1]SRI!$S$4:$Z$368,3,0)","v":0},"","",""]
["29zaND",{"$f":"VLOOKUP($AA611,DATA!$B$3:$E$6,2,0)","v":"22:30:00"},{"$f":"VLOOKUP($AA611,DATA!$B$3:$E$6,3,0)","v":"06:30:00"},{"$f":"VLOOKUP($AA611,DATA!$B$3:$E$6,4,0)","v":3.125E-2},0.30208333333333326,0.30208333333333326,{"$f":"DATA!$C$9","v":0.89},{"$f":"DATA!$C$10","v":64},1,407.81249999999989,407.81249999999989,0,"","",0,"","",0,"","","","",null,{"$f":"X604","v":29},null,{"$f":"TEXT(Y609,\"ddd\")","v":"za"},"ND",{"$f":"IFERROR(HLOOKUP(Y609,[1]DATA!$A$1:$NB$5,5,0),\"\")","v":"-"},null,null,null,null,{"$f":"VLOOKUP(Y609,[1]SRI!$S$4:$Z$368,4,0)","v":0},"","",""]
["29zoDD",{"$f":"VLOOKUP($AA612,DATA!$B$3:$E$6,2,0)","v":"06:30:00"},{"$f":"VLOOKUP($AA612,DATA!$B$3:$E$6,3,0)","v":"14:30:00"},{"$f":"VLOOKUP($AA612,DATA!$B$3:$E$6,4,0)","v":3.125E-2},0.30208333333333331,0.30208333333333331,{"$f":"DATA!$C$9","v":0.89},{"$f":"DATA!$C$10","v":64},1,407.8125,407.8125,0,"","",0,"","",0,"","","","",null,{"$f":"X604","v":29},"2018-07-22",{"$f":"TEXT(Y612,\"ddd\")","v":"zo"},"DD",{"$f":"IFERROR(HLOOKUP(Y612,[1]DATA!$A$1:$NB$5,3,0),\"\")","v":"-"},null,null,null,null,{"$f":"VLOOKUP(Y612,[1]SRI!$S$4:$Z$368,2,0)","v":0},"","",""]
["29zoMD",{"$f":"VLOOKUP($AA613,DATA!$B$3:$E$6,2,0)","v":"14:30:00"},{"$f":"VLOOKUP($AA613,DATA!$B$3:$E$6,3,0)","v":"22:30:00"},{"$f":"VLOOKUP($AA613,DATA!$B$3:$E$6,4,0)","v":3.125E-2},0.30208333333333337,0.30208333333333337,{"$f":"DATA!$C$9","v":0.89},{"$f":"DATA!$C$10","v":64},1,407.81250000000006,407.81250000000006,0,"","",0,"","",0,"","","","",null,{"$f":"X604","v":29},null,{"$f":"TEXT(Y612,\"ddd\")","v":"zo"},"MD",{"$f":"IFERROR(HLOOKUP(Y612,[1]DATA!$A$1:$NB$5,4,0),\"\")","v":"-"},null,null,null,null,{"$f":"VLOOKUP(Y612,[1]SRI!$S$4:$Z$368,3,0)","v":0},"","",""]
["29zoZND",{"$f":"VLOOKUP($AA614,DATA!$B$3:$E$6,2,0)","v":"00:00:00"},{"$f":"VLOOKUP($AA614,DATA!$B$3:$E$6,3,0)","v":"00:00:00"},{"$f":"VLOOKUP($AA614,DATA!$B$3:$E$6,4,0)","v":3.125E-2},-3.125E-2,-3.125E-2,{"$f":"DATA!$C$9","v":0.89},{"$f":"DATA!$C$10","v":64},1,-42.1875,-42.1875,0,"","",0,"","",0,"","","","",null,{"$f":"X604","v":29},null,{"$f":"TEXT(Y612,\"ddd\")","v":"zo"},"ZND",{"$f":"IFERROR(HLOOKUP(Y612,[1]DATA!$A$1:$NB$5,5,0),\"\")","v":"-"},null,null,null,null,{"$f":"VLOOKUP(Y612,[1]SRI!$S$4:$Z$368,4,0)","v":0},"","",""]
["30maDD",{"$f":"VLOOKUP($AA615,DATA!$B$3:$E$6,2,0)","v":"06:30:00"},{"$f":"VLOOKUP($AA615,DATA!$B$3:$E$6,3,0)","v":"14:30:00"},{"$f":"VLOOKUP($AA615,DATA!$B$3:$E$6,4,0)","v":3.125E-2},0.30208333333333331,0.30208333333333331,{"$f":"DATA!$C$9","v":0.89},{"$f":"DATA!$C$10","v":64},1,407.8125,407.8125,0,"","",{"$f":"TIME(INT($AD615/60),INT(MOD($AD615,60)/1),0)","v":0},"","",0,"","","","",null,{"$f":"X625","v":30},"2018-07-23",{"$f":"TEXT(Y615,\"ddd\")","v":"ma"},"DD",{"$f":"IFERROR(HLOOKUP(Y615,[1]DATA!$A$1:$NB$5,3,0),\"\")","v":"D2"},null,null,null,null,{"$f":"VLOOKUP(Y615,[1]SRI!$S$4:$Z$368,2,0)","v":0},"","","",{"$f":"IF(SUMIF(S615:S635,\">0\",K615:K635)=0,\"\",SUMIF(S615:S635,\">0\",K615:K635))","v":""},{"$f":"IF(SUM(S615:S635)=0,\"\",SUM(S615:S635))","v":""},{"$f":"IFERROR(AL615/AK615,\"-\")","v":"-"},{"$f":"IF(SUM(M615:M635)=0,\"0\",SUM(M615:M635))","v":"0"},{"$f":"IFERROR(AN615/AK615,\"-\")","v":"-"},{"$f":"IF(SUM(P615:P635)=0,0,SUM(P615:P635))","v":0},{"$f":"IFERROR(AP615/AK615,\"-\")","v":"-"},{"$f":"IFERROR(AVERAGE(AJ615:AJ635),\"-\")","v":"-"},{"$f":"IFERROR(SUMIF($AB615:$AB635,AS$5,$AJ615:$AJ635)/COUNTIFS($AB615:$AB635,AS$5,$AJ615:$AJ635,\">0\"),\"\")","v":""},"","",{"$f":"IFERROR((AK615-AL615-AN615-AP615),\"-\")","v":"-"},{"$f":"IFERROR((1-AM615-AO615-AQ615), \"-\")","v":"-"},{"$f":"IFERROR((AV615*$AE$2)/60,\"-\")","v":"-"},{"$f":"IFERROR(SUM(AG615:AG635),\"\")","v":0}]
["30maMD",{"$f":"VLOOKUP($AA616,DATA!$B$3:$E$6,2,0)","v":"14:30:00"},{"$f":"VLOOKUP($AA616,DATA!$B$3:$E$6,3,0)","v":"22:30:00"},{"$f":"VLOOKUP($AA616,DATA!$B$3:$E$6,4,0)","v":3.125E-2},0.30208333333333337,0.30208333333333337,{"$f":"DATA!$C$9","v":0.89},{"$f":"DATA!$C$10","v":64},1,407.81250000000006,407.81250000000006,0,"","",{"$f":"TIME(INT(AD616/60),INT(MOD(AD616,60)/1),0)","v":0},"","",0,"","","","",null,{"$f":"X625","v":30},null,{"$f":"TEXT(Y615,\"ddd\")","v":"ma"},"MD",{"$f":"IFERROR(HLOOKUP(Y615,[1]DATA!$A$1:$NB$5,4,0),\"\")","v":"D1"},null,null,null,null,{"$f":"VLOOKUP(Y615,[1]SRI!$S$4:$Z$368,3,0)","v":0},"","",""]
["30maND",{"$f":"VLOOKUP($AA617,DATA!$B$3:$E$6,2,0)","v":"22:30:00"},{"$f":"VLOOKUP($AA617,DATA!$B$3:$E$6,3,0)","v":"06:30:00"},{"$f":"VLOOKUP($AA617,DATA!$B$3:$E$6,4,0)","v":3.125E-2},0.30208333333333326,0.30208333333333326,{"$f":"DATA!$C$9","v":0.89},{"$f":"DATA!$C$10","v":64},1,407.81249999999989,407.81249999999989,0,"","",0,"","",0,"","","","",null,{"$f":"X625","v":30},null,{"$f":"TEXT(Y615,\"ddd\")","v":"ma"},"ND",{"$f":"IFERROR(HLOOKUP(Y615,[1]DATA!$A$1:$NB$5,5,0),\"\")","v":"D3"},null,null,null,null,{"$f":"VLOOKUP(Y615,[1]SRI!$S$4:$Z$368,4,0)","v":0},"","",""]
["30diDD",{"$f":"VLOOKUP($AA618,DATA!$B$3:$E$6,2,0)","v":"06:30:00"},{"$f":"VLOOKUP($AA618,DATA!$B$3:$E$6,3,0)","v":"14:30:00"},{"$f":"VLOOKUP($AA618,DATA!$B$3:$E$6,4,0)","v":3.125E-2},0.30208333333333331,0.30208333333333331,{"$f":"DATA!$C$9","v":0.89},{"$f":"DATA!$C$10","v":64},1,407.8125,407.8125,0,"","",0,"","",0,"","","","",null,{"$f":"X625","v":30},"2018-07-24",{"$f":"TEXT(Y618,\"ddd\")","v":"di"},"DD",{"$f":"IFERROR(HLOOKUP(Y618,[1]DATA!$A$1:$NB$5,3,0),\"\")","v":"D2"},null,null,null,null,{"$f":"VLOOKUP(Y618,[1]SRI!$S$4:$Z$368,2,0)","v":0},"","",""]
["30diMD",{"$f":"VLOOKUP($AA619,DATA!$B$3:$E$6,2,0)","v":"14:30:00"},{"$f":"VLOOKUP($AA619,DATA!$B$3:$E$6,3,0)","v":"22:30:00"},{"$f":"VLOOKUP($AA619,DATA!$B$3:$E$6,4,0)","v":3.125E-2},0.30208333333333337,0.30208333333333337,{"$f":"DATA!$C$9","v":0.89},{"$f":"DATA!$C$10","v":64},1,407.81250000000006,407.81250000000006,0,"","",0,"","",0,"","","","",null,{"$f":"X625","v":30},null,{"$f":"TEXT(Y618,\"ddd\")","v":"di"},"MD",{"$f":"IFERROR(HLOOKUP(Y618,[1]DATA!$A$1:$NB$5,4,0),\"\")","v":"D1"},null,null,null,null,{"$f":"VLOOKUP(Y618,[1]SRI!$S$4:$Z$368,3,0)","v":0},"","",""]
["30diND",{"$f":"VLOOKUP($AA620,DATA!$B$3:$E$6,2,0)","v":"22:30:00"},{"$f":"VLOOKUP($AA620,DATA!$B$3:$E$6,3,0)","v":"06:30:00"},{"$f":"VLOOKUP($AA620,DATA!$B$3:$E$6,4,0)","v":3.125E-2},0.30208333333333326,0.30208333333333326,{"$f":"DATA!$C$9","v":0.89},{"$f":"DATA!$C$10","v":64},1,407.81249999999989,407.81249999999989,0,"","",0,"","",0,"","","","",null,{"$f":"X625","v":30},null,{"$f":"TEXT(Y618,\"ddd\")","v":"di"},"ND",{"$f":"IFERROR(HLOOKUP(Y618,[1]DATA!$A$1:$NB$5,5,0),\"\")","v":"D3"},null,null,null,null,{"$f":"VLOOKUP(Y618,[1]SRI!$S$4:$Z$368,4,0)","v":0},"","",""]
["30woDD",{"$f":"VLOOKUP($AA621,DATA!$B$3:$E$6,2,0)","v":"06:30:00"},{"$f":"VLOOKUP($AA621,DATA!$B$3:$E$6,3,0)","v":"14:30:00"},{"$f":"VLOOKUP($AA621,DATA!$B$3:$E$6,4,0)","v":3.125E-2},0.30208333333333331,0.30208333333333331,{"$f":"DATA!$C$9","v":0.89},{"$f":"DATA!$C$10","v":64},1,407.8125,407.8125,0,"","",0,"","",0,"","","","",null,{"$f":"X625","v":30},"2018-07-25",{"$f":"TEXT(Y621,\"ddd\")","v":"wo"},"DD",{"$f":"IFERROR(HLOOKUP(Y621,[1]DATA!$A$1:$NB$5,3,0),\"\")","v":"D2"},null,null,null,null,{"$f":"VLOOKUP(Y621,[1]SRI!$S$4:$Z$368,2,0)","v":0},"","",""]
["30woMD",{"$f":"VLOOKUP($AA622,DATA!$B$3:$E$6,2,0)","v":"14:30:00"},{"$f":"VLOOKUP($AA622,DATA!$B$3:$E$6,3,0)","v":"22:30:00"},{"$f":"VLOOKUP($AA622,DATA!$B$3:$E$6,4,0)","v":3.125E-2},0.30208333333333337,0.30208333333333337,{"$f":"DATA!$C$9","v":0.89},{"$f":"DATA!$C$10","v":64},1,407.81250000000006,407.81250000000006,0,"","",0,"","",0,"","","","",null,{"$f":"X625","v":30},null,{"$f":"TEXT(Y621,\"ddd\")","v":"wo"},"MD",{"$f":"IFERROR(HLOOKUP(Y621,[1]DATA!$A$1:$NB$5,4,0),\"\")","v":"D1"},null,null,null,null,{"$f":"VLOOKUP(Y621,[1]SRI!$S$4:$Z$368,3,0)","v":0},"","",""]
["30woND",{"$f":"VLOOKUP($AA623,DATA!$B$3:$E$6,2,0)","v":"22:30:00"},{"$f":"VLOOKUP($AA623,DATA!$B$3:$E$6,3,0)","v":"06:30:00"},{"$f":"VLOOKUP($AA623,DATA!$B$3:$E$6,4,0)","v":3.125E-2},0.30208333333333326,0.30208333333333326,{"$f":"DATA!$C$9","v":0.89},{"$f":"DATA!$C$10","v":64},1,407.81249999999989,407.81249999999989,0,"","",0,"","",0,"","","","",null,{"$f":"X625","v":30},null,{"$f":"TEXT(Y621,\"ddd\")","v":"wo"},"ND",{"$f":"IFERROR(HLOOKUP(Y621,[1]DATA!$A$1:$NB$5,5,0),\"\")","v":"D3"},null,null,null,null,{"$f":"VLOOKUP(Y621,[1]SRI!$S$4:$Z$368,4,0)","v":0},"","",""]
[{"$f":"X624&Z624&AA624","v":"30doDD"},{"$f":"VLOOKUP($AA624,DATA!$B$3:$E$6,2,0)","v":"06:30:00"},{"$f":"VLOOKUP($AA624,DATA!$B$3:$E$6,3,0)","v":"14:30:00"},{"$f":"VLOOKUP($AA624,DATA!$B$3:$E$6,4,0)","v":3.125E-2},0.30208333333333331,0.30208333333333331,{"$f":"DATA!$C$9","v":0.89},{"$f":"DATA!$C$10","v":64},1,407.8125,407.8125,0,"","",0,{"$f":"IF($O624*86400/$H624=0,\"\",$O624*86400/$H624)","v":""},"",0,"","","","",null,{"$f":"X625","v":30},"2018-07-26",{"$f":"TEXT(Y624,\"ddd\")","v":"do"},"DD",{"$f":"IFERROR(HLOOKUP(Y624,[1]DATA!$A$1:$NB$5,3,0),\"\")","v":"D2"},null,null,null,null,{"$f":"VLOOKUP(Y624,[1]SRI!$S$4:$Z$368,2,0)","v":0},"","",""]
["30doMD",{"$f":"VLOOKUP($AA625,DATA!$B$3:$E$6,2,0)","v":"14:30:00"},{"$f":"VLOOKUP($AA625,DATA!$B$3:$E$6,3,0)","v":"22:30:00"},{"$f":"VLOOKUP($AA625,DATA!$B$3:$E$6,4,0)","v":3.125E-2},0.30208333333333337,0.30208333333333337,{"$f":"DATA!$C$9","v":0.89},{"$f":"DATA!$C$10","v":64},1,407.81250000000006,407.81250000000006,0,"","",0,"","",0,"","","","",null,{"$f":"WEEKNUM($Y615)","v":30},null,{"$f":"TEXT(Y624,\"ddd\")","v":"do"},"MD",{"$f":"IFERROR(HLOOKUP(Y624,[1]DATA!$A$1:$NB$5,4,0),\"\")","v":"D1"},null,null,null,null,{"$f":"VLOOKUP(Y624,[1]SRI!$S$4:$Z$368,3,0)","v":0},"","",""]
["30doND",{"$f":"VLOOKUP($AA626,DATA!$B$3:$E$6,2,0)","v":"22:30:00"},{"$f":"VLOOKUP($AA626,DATA!$B$3:$E$6,3,0)","v":"06:30:00"},{"$f":"VLOOKUP($AA626,DATA!$B$3:$E$6,4,0)","v":3.125E-2},0.30208333333333326,0.30208333333333326,{"$f":"DATA!$C$9","v":0.89},{"$f":"DATA!$C$10","v":64},1,407.81249999999989,407.81249999999989,0,"","",0,"","",0,"","","","",null,{"$f":"X625","v":30},null,{"$f":"TEXT(Y624,\"ddd\")","v":"do"},"ND",{"$f":"IFERROR(HLOOKUP(Y624,[1]DATA!$A$1:$NB$5,5,0),\"\")","v":"D3"},null,null,null,null,{"$f":"VLOOKUP(Y624,[1]SRI!$S$4:$Z$368,4,0)","v":0},"","",""]
["30vrDD",{"$f":"VLOOKUP($AA627,DATA!$B$3:$E$6,2,0)","v":"06:30:00"},{"$f":"VLOOKUP($AA627,DATA!$B$3:$E$6,3,0)","v":"14:30:00"},{"$f":"VLOOKUP($AA627,DATA!$B$3:$E$6,4,0)","v":3.125E-2},0.30208333333333331,0.30208333333333331,{"$f":"DATA!$C$9","v":0.89},{"$f":"DATA!$C$10","v":64},1,407.8125,407.8125,0,"","",0,"","",0,"","","","",null,{"$f":"X625","v":30},"2018-07-27",{"$f":"TEXT(Y627,\"ddd\")","v":"vr"},"DD",{"$f":"IFERROR(HLOOKUP(Y627,[1]DATA!$A$1:$NB$5,3,0),\"\")","v":"D2"},null,null,null,null,{"$f":"VLOOKUP(Y627,[1]SRI!$S$4:$Z$368,2,0)","v":0},"","",""]
["30vrMD",{"$f":"VLOOKUP($AA628,DATA!$B$3:$E$6,2,0)","v":"14:30:00"},{"$f":"VLOOKUP($AA628,DATA!$B$3:$E$6,3,0)","v":"22:30:00"},{"$f":"VLOOKUP($AA628,DATA!$B$3:$E$6,4,0)","v":3.125E-2},0.30208333333333337,0.30208333333333337,{"$f":"DATA!$C$9","v":0.89},{"$f":"DATA!$C$10","v":64},1,407.81250000000006,407.81250000000006,0,"","",0,"","",0,"","","","",null,{"$f":"X625","v":30},null,{"$f":"TEXT(Y627,\"ddd\")","v":"vr"},"MD",{"$f":"IFERROR(HLOOKUP(Y627,[1]DATA!$A$1:$NB$5,4,0),\"\")","v":"D1"},null,null,null,null,{"$f":"VLOOKUP(Y627,[1]SRI!$S$4:$Z$368,3,0)","v":0},"","",""]
["30vrND",{"$f":"VLOOKUP($AA629,DATA!$B$3:$E$6,2,0)","v":"22:30:00"},{"$f":"VLOOKUP($AA629,DATA!$B$3:$E$6,3,0)","v":"06:30:00"},{"$f":"VLOOKUP($AA629,DATA!$B$3:$E$6,4,0)","v":3.125E-2},0.30208333333333326,0.30208333333333326,{"$f":"DATA!$C$9","v":0.89},{"$f":"DATA!$C$10","v":64},1,407.81249999999989,407.81249999999989,0,"","",0,"","",0,"","","","",null,{"$f":"X625","v":30},null,{"$f":"TEXT(Y627,\"ddd\")","v":"vr"},"ND",{"$f":"IFERROR(HLOOKUP(Y627,[1]DATA!$A$1:$NB$5,5,0),\"\")","v":"D3"},null,null,null,null,{"$f":"VLOOKUP(Y627,[1]SRI!$S$4:$Z$368,4,0)","v":0},"","",""]
["30zaDD",{"$f":"VLOOKUP($AA630,DATA!$B$3:$E$6,2,0)","v":"06:30:00"},{"$f":"VLOOKUP($AA630,DATA!$B$3:$E$6,3,0)","v":"14:30:00"},{"$f":"VLOOKUP($AA630,DATA!$B$3:$E$6,4,0)","v":3.125E-2},0.30208333333333331,0.30208333333333331,{"$f":"DATA!$C$9","v":0.89},{"$f":"DATA!$C$10","v":64},1,407.8125,407.8125,0,"","",0,"","",0,"","","","",null,{"$f":"X625","v":30},{"$f":"Y627+1","v":"2018-07-28"},{"$f":"TEXT(Y630,\"ddd\")","v":"za"},"DD",{"$f":"IFERROR(HLOOKUP(Y630,[1]DATA!$A$1:$NB$5,3,0),\"\")","v":"D2"},null,null,null,null,{"$f":"VLOOKUP(Y630,[1]SRI!$S$4:$Z$368,2,0)","v":0},"","",""]
["30zaMD",{"$f":"VLOOKUP($AA631,DATA!$B$3:$E$6,2,0)","v":"14:30:00"},{"$f":"VLOOKUP($AA631,DATA!$B$3:$E$6,3,0)","v":"22:30:00"},{"$f":"VLOOKUP($AA631,DATA!$B$3:$E$6,4,0)","v":3.125E-2},0.30208333333333337,0.30208333333333337,{"$f":"DATA!$C$9","v":0.89},{"$f":"DATA!$C$10","v":64},1,407.81250000000006,407.81250000000006,0,"","",0,"","",0,"","","","",null,{"$f":"X625","v":30},null,{"$f":"TEXT(Y630,\"ddd\")","v":"za"},"MD",{"$f":"IFERROR(HLOOKUP(Y630,[1]DATA!$A$1:$NB$5,4,0),\"\")","v":"-"},null,null,null,null,{"$f":"VLOOKUP(Y630,[1]SRI!$S$4:$Z$368,3,0)","v":0},"","",""]
["30zaND",{"$f":"VLOOKUP($AA632,DATA!$B$3:$E$6,2,0)","v":"22:30:00"},{"$f":"VLOOKUP($AA632,DATA!$B$3:$E$6,3,0)","v":"06:30:00"},{"$f":"VLOOKUP($AA632,DATA!$B$3:$E$6,4,0)","v":3.125E-2},0.30208333333333326,0.30208333333333326,{"$f":"DATA!$C$9","v":0.89},{"$f":"DATA!$C$10","v":64},1,407.81249999999989,407.81249999999989,0,"","",0,"","",0,"","","","",null,{"$f":"X625","v":30},null,{"$f":"TEXT(Y630,\"ddd\")","v":"za"},"ND",{"$f":"IFERROR(HLOOKUP(Y630,[1]DATA!$A$1:$NB$5,5,0),\"\")","v":"-"},null,null,null,null,{"$f":"VLOOKUP(Y630,[1]SRI!$S$4:$Z$368,4,0)","v":0},"","",""]
["30zoDD",{"$f":"VLOOKUP($AA633,DATA!$B$3:$E$6,2,0)","v":"06:30:00"},{"$f":"VLOOKUP($AA633,DATA!$B$3:$E$6,3,0)","v":"14:30:00"},{"$f":"VLOOKUP($AA633,DATA!$B$3:$E$6,4,0)","v":3.125E-2},0.30208333333333331,0.30208333333333331,{"$f":"DATA!$C$9","v":0.89},{"$f":"DATA!$C$10","v":64},1,407.8125,407.8125,0,"","",0,"","",0,"","","","",null,{"$f":"X625","v":30},"2018-07-29",{"$f":"TEXT(Y633,\"ddd\")","v":"zo"},"DD",{"$f":"IFERROR(HLOOKUP(Y633,[1]DATA!$A$1:$NB$5,3,0),\"\")","v":"-"},null,null,null,null,{"$f":"VLOOKUP(Y633,[1]SRI!$S$4:$Z$368,2,0)","v":0},"","",""]
["30zoMD",{"$f":"VLOOKUP($AA634,DATA!$B$3:$E$6,2,0)","v":"14:30:00"},{"$f":"VLOOKUP($AA634,DATA!$B$3:$E$6,3,0)","v":"22:30:00"},{"$f":"VLOOKUP($AA634,DATA!$B$3:$E$6,4,0)","v":3.125E-2},0.30208333333333337,0.30208333333333337,{"$f":"DATA!$C$9","v":0.89},{"$f":"DATA!$C$10","v":64},1,407.81250000000006,407.81250000000006,0,"","",0,"","",0,"","","","",null,{"$f":"X625","v":30},null,{"$f":"TEXT(Y633,\"ddd\")","v":"zo"},"MD",{"$f":"IFERROR(HLOOKUP(Y633,[1]DATA!$A$1:$NB$5,4,0),\"\")","v":"-"},null,null,null,null,{"$f":"VLOOKUP(Y633,[1]SRI!$S$4:$Z$368,3,0)","v":0},"","",""]
["30zoZND",{"$f":"VLOOKUP($AA635,DATA!$B$3:$E$6,2,0)","v":"00:00:00"},{"$f":"VLOOKUP($AA635,DATA!$B$3:$E$6,3,0)","v":"00:00:00"},{"$f":"VLOOKUP($AA635,DATA!$B$3:$E$6,4,0)","v":3.125E-2},-3.125E-2,-3.125E-2,{"$f":"DATA!$C$9","v":0.89},{"$f":"DATA!$C$10","v":64},1,-42.1875,-42.1875,0,"","",0,"","",0,"","","","",null,{"$f":"X625","v":30},null,{"$f":"TEXT(Y633,\"ddd\")","v":"zo"},"ZND",{"$f":"IFERROR(HLOOKUP(Y633,[1]DATA!$A$1:$NB$5,5,0),\"\")","v":"-"},null,null,null,null,{"$f":"VLOOKUP(Y633,[1]SRI!$S$4:$Z$368,4,0)","v":0},"","",""]
["31maDD",{"$f":"VLOOKUP($AA636,DATA!$B$3:$E$6,2,0)","v":"06:30:00"},{"$f":"VLOOKUP($AA636,DATA!$B$3:$E$6,3,0)","v":"14:30:00"},{"$f":"VLOOKUP($AA636,DATA!$B$3:$E$6,4,0)","v":3.125E-2},0.30208333333333331,0.30208333333333331,{"$f":"DATA!$C$9","v":0.89},{"$f":"DATA!$C$10","v":64},1,407.8125,407.8125,0,"","",{"$f":"TIME(INT($AD636/60),INT(MOD($AD636,60)/1),0)","v":0},"","",0,"","","","",null,{"$f":"X646","v":31},"2018-07-30",{"$f":"TEXT(Y636,\"ddd\")","v":"ma"},"DD",{"$f":"IFERROR(HLOOKUP(Y636,[1]DATA!$A$1:$NB$5,3,0),\"\")","v":"D1"},null,null,null,null,{"$f":"VLOOKUP(Y636,[1]SRI!$S$4:$Z$368,2,0)","v":0},"","","",{"$f":"IF(SUMIF(S636:S656,\">0\",K636:K656)=0,\"\",SUMIF(S636:S656,\">0\",K636:K656))","v":""},{"$f":"IF(SUM(S636:S656)=0,\"\",SUM(S636:S656))","v":""},{"$f":"IFERROR(AL636/AK636,\"-\")","v":"-"},{"$f":"IF(SUM(M636:M656)=0,\"0\",SUM(M636:M656))","v":"0"},{"$f":"IFERROR(AN636/AK636,\"-\")","v":"-"},{"$f":"IF(SUM(P636:P656)=0,0,SUM(P636:P656))","v":0},{"$f":"IFERROR(AP636/AK636,\"-\")","v":"-"},{"$f":"IFERROR(AVERAGE(AJ636:AJ656),\"-\")","v":"-"},{"$f":"IFERROR(SUMIF($AB636:$AB656,AS$5,$AJ636:$AJ656)/COUNTIFS($AB636:$AB656,AS$5,$AJ636:$AJ656,\">0\"),\"\")","v":""},"","",{"$f":"IFERROR((AK636-AL636-AN636-AP636),\"-\")","v":"-"},{"$f":"IFERROR((1-AM636-AO636-AQ636), \"-\")","v":"-"},{"$f":"IFERROR((AV636*$AE$2)/60,\"-\")","v":"-"},{"$f":"IFERROR(SUM(AG636:AG656),\"\")","v":0}]
["31maMD",{"$f":"VLOOKUP($AA637,DATA!$B$3:$E$6,2,0)","v":"14:30:00"},{"$f":"VLOOKUP($AA637,DATA!$B$3:$E$6,3,0)","v":"22:30:00"},{"$f":"VLOOKUP($AA637,DATA!$B$3:$E$6,4,0)","v":3.125E-2},0.30208333333333337,0.30208333333333337,{"$f":"DATA!$C$9","v":0.89},{"$f":"DATA!$C$10","v":64},1,407.81250000000006,407.81250000000006,0,"","",{"$f":"TIME(INT(AD637/60),INT(MOD(AD637,60)/1),0)","v":0},"","",0,"","","","",null,{"$f":"X646","v":31},null,{"$f":"TEXT(Y636,\"ddd\")","v":"ma"},"MD",{"$f":"IFERROR(HLOOKUP(Y636,[1]DATA!$A$1:$NB$5,4,0),\"\")","v":"D3"},null,null,null,null,{"$f":"VLOOKUP(Y636,[1]SRI!$S$4:$Z$368,3,0)","v":0},"","",""]
["31maND",{"$f":"VLOOKUP($AA638,DATA!$B$3:$E$6,2,0)","v":"22:30:00"},{"$f":"VLOOKUP($AA638,DATA!$B$3:$E$6,3,0)","v":"06:30:00"},{"$f":"VLOOKUP($AA638,DATA!$B$3:$E$6,4,0)","v":3.125E-2},0.30208333333333326,0.30208333333333326,{"$f":"DATA!$C$9","v":0.89},{"$f":"DATA!$C$10","v":64},1,407.81249999999989,407.81249999999989,0,"","",0,"","",0,"","","","",null,{"$f":"X646","v":31},null,{"$f":"TEXT(Y636,\"ddd\")","v":"ma"},"ND",{"$f":"IFERROR(HLOOKUP(Y636,[1]DATA!$A$1:$NB$5,5,0),\"\")","v":"D2"},null,null,null,null,{"$f":"VLOOKUP(Y636,[1]SRI!$S$4:$Z$368,4,0)","v":0},"","",""]
["31diDD",{"$f":"VLOOKUP($AA639,DATA!$B$3:$E$6,2,0)","v":"06:30:00"},{"$f":"VLOOKUP($AA639,DATA!$B$3:$E$6,3,0)","v":"14:30:00"},{"$f":"VLOOKUP($AA639,DATA!$B$3:$E$6,4,0)","v":3.125E-2},0.30208333333333331,0.30208333333333331,{"$f":"DATA!$C$9","v":0.89},{"$f":"DATA!$C$10","v":64},1,407.8125,407.8125,0,"","",0,"","",0,"","","","",null,{"$f":"X646","v":31},"2018-07-31",{"$f":"TEXT(Y639,\"ddd\")","v":"di"},"DD",{"$f":"IFERROR(HLOOKUP(Y639,[1]DATA!$A$1:$NB$5,3,0),\"\")","v":"D1"},null,null,null,null,{"$f":"VLOOKUP(Y639,[1]SRI!$S$4:$Z$368,2,0)","v":0},"","",""]
["31diMD",{"$f":"VLOOKUP($AA640,DATA!$B$3:$E$6,2,0)","v":"14:30:00"},{"$f":"VLOOKUP($AA640,DATA!$B$3:$E$6,3,0)","v":"22:30:00"},{"$f":"VLOOKUP($AA640,DATA!$B$3:$E$6,4,0)","v":3.125E-2},0.30208333333333337,0.30208333333333337,{"$f":"DATA!$C$9","v":0.89},{"$f":"DATA!$C$10","v":64},1,407.81250000000006,407.81250000000006,0,"","",0,"","",0,"","","","",null,{"$f":"X646","v":31},null,{"$f":"TEXT(Y639,\"ddd\")","v":"di"},"MD",{"$f":"IFERROR(HLOOKUP(Y639,[1]DATA!$A$1:$NB$5,4,0),\"\")","v":"D3"},null,null,null,null,{"$f":"VLOOKUP(Y639,[1]SRI!$S$4:$Z$368,3,0)","v":0},"","",""]
["31diND",{"$f":"VLOOKUP($AA641,DATA!$B$3:$E$6,2,0)","v":"22:30:00"},{"$f":"VLOOKUP($AA641,DATA!$B$3:$E$6,3,0)","v":"06:30:00"},{"$f":"VLOOKUP($AA641,DATA!$B$3:$E$6,4,0)","v":3.125E-2},0.30208333333333326,0.30208333333333326,{"$f":"DATA!$C$9","v":0.89},{"$f":"DATA!$C$10","v":64},1,407.81249999999989,407.81249999999989,0,"","",0,"","",0,"","","","",null,{"$f":"X646","v":31},null,{"$f":"TEXT(Y639,\"ddd\")","v":"di"},"ND",{"$f":"IFERROR(HLOOKUP(Y639,[1]DATA!$A$1:$NB$5,5,0),\"\")","v":"D2"},null,null,null,null,{"$f":"VLOOKUP(Y639,[1]SRI!$S$4:$Z$368,4,0)","v":0},"","",""]
["31woDD",{"$f":"VLOOKUP($AA642,DATA!$B$3:$E$6,2,0)","v":"06:30:00"},{"$f":"VLOOKUP($AA642,DATA!$B$3:$E$6,3,0)","v":"14:30:00"},{"$f":"VLOOKUP($AA642,DATA!$B$3:$E$6,4,0)","v":3.125E-2},0.30208333333333331,0.30208333333333331,{"$f":"DATA!$C$9","v":0.89},{"$f":"DATA!$C$10","v":64},1,407.8125,407.8125,0,"","",0,"","",0,"","","","",null,{"$f":"X646","v":31},"2018-08-01",{"$f":"TEXT(Y642,\"ddd\")","v":"wo"},"DD",{"$f":"IFERROR(HLOOKUP(Y642,[1]DATA!$A$1:$NB$5,3,0),\"\")","v":"D1"},null,null,null,null,{"$f":"VLOOKUP(Y642,[1]SRI!$S$4:$Z$368,2,0)","v":0},"","",""]
["31woMD",{"$f":"VLOOKUP($AA643,DATA!$B$3:$E$6,2,0)","v":"14:30:00"},{"$f":"VLOOKUP($AA643,DATA!$B$3:$E$6,3,0)","v":"22:30:00"},{"$f":"VLOOKUP($AA643,DATA!$B$3:$E$6,4,0)","v":3.125E-2},0.30208333333333337,0.30208333333333337,{"$f":"DATA!$C$9","v":0.89},{"$f":"DATA!$C$10","v":64},1,407.81250000000006,407.81250000000006,0,"","",0,"","",0,"","","","",null,{"$f":"X646","v":31},null,{"$f":"TEXT(Y642,\"ddd\")","v":"wo"},"MD",{"$f":"IFERROR(HLOOKUP(Y642,[1]DATA!$A$1:$NB$5,4,0),\"\")","v":"D3"},null,null,null,null,{"$f":"VLOOKUP(Y642,[1]SRI!$S$4:$Z$368,3,0)","v":0},"","",""]
["31woND",{"$f":"VLOOKUP($AA644,DATA!$B$3:$E$6,2,0)","v":"22:30:00"},{"$f":"VLOOKUP($AA644,DATA!$B$3:$E$6,3,0)","v":"06:30:00"},{"$f":"VLOOKUP($AA644,DATA!$B$3:$E$6,4,0)","v":3.125E-2},0.30208333333333326,0.30208333333333326,{"$f":"DATA!$C$9","v":0.89},{"$f":"DATA!$C$10","v":64},1,407.81249999999989,407.81249999999989,0,"","",0,"","",0,"","","","",null,{"$f":"X646","v":31},null,{"$f":"TEXT(Y642,\"ddd\")","v":"wo"},"ND",{"$f":"IFERROR(HLOOKUP(Y642,[1]DATA!$A$1:$NB$5,5,0),\"\")","v":"D2"},null,null,null,null,{"$f":"VLOOKUP(Y642,[1]SRI!$S$4:$Z$368,4,0)","v":0},"","",""]
["31doDD",{"$f":"VLOOKUP($AA645,DATA!$B$3:$E$6,2,0)","v":"06:30:00"},{"$f":"VLOOKUP($AA645,DATA!$B$3:$E$6,3,0)","v":"14:30:00"},{"$f":"VLOOKUP($AA645,DATA!$B$3:$E$6,4,0)","v":3.125E-2},0.30208333333333331,0.30208333333333331,{"$f":"DATA!$C$9","v":0.89},{"$f":"DATA!$C$10","v":64},1,407.8125,407.8125,0,"","",0,"","",0,"","","","",null,{"$f":"X646","v":31},"2018-08-02",{"$f":"TEXT(Y645,\"ddd\")","v":"do"},"DD",{"$f":"IFERROR(HLOOKUP(Y645,[1]DATA!$A$1:$NB$5,3,0),\"\")","v":"D1"},null,null,null,null,{"$f":"VLOOKUP(Y645,[1]SRI!$S$4:$Z$368,2,0)","v":0},"","",""]
["31doMD",{"$f":"VLOOKUP($AA646,DATA!$B$3:$E$6,2,0)","v":"14:30:00"},{"$f":"VLOOKUP($AA646,DATA!$B$3:$E$6,3,0)","v":"22:30:00"},{"$f":"VLOOKUP($AA646,DATA!$B$3:$E$6,4,0)","v":3.125E-2},0.30208333333333337,0.30208333333333337,{"$f":"DATA!$C$9","v":0.89},{"$f":"DATA!$C$10","v":64},1,{"$f":"F646*86400/H646*I646","v":407.81250000000006},{"$f":"E646*86400/H646","v":407.81250000000006},0,"","",0,"","",{"$f":"AF646*AG$2","v":0},{"$f":"IF(AF646-AE646=0,\"\",AF646-AE646)","v":""},"","","",null,{"$f":"WEEKNUM($Y636)","v":31},null,{"$f":"TEXT(Y645,\"ddd\")","v":"do"},"MD",{"$f":"IFERROR(HLOOKUP(Y645,[1]DATA!$A$1:$NB$5,4,0),\"\")","v":"D3"},null,null,null,null,{"$f":"VLOOKUP(Y645,[1]SRI!$S$4:$Z$368,3,0)","v":0},{"$f":"IFERROR(S646-J646,\"\")","v":""},{"$f":"IFERROR(IF(S646/(E646*86400/H646)<=0,\"\",S646/(E646*86400/H646)),\"\")","v":""},{"$f":"IFERROR(R646/(R646+AG646),\"\")","v":""}]
["31doND",{"$f":"VLOOKUP($AA647,DATA!$B$3:$E$6,2,0)","v":"22:30:00"},{"$f":"VLOOKUP($AA647,DATA!$B$3:$E$6,3,0)","v":"06:30:00"},{"$f":"VLOOKUP($AA647,DATA!$B$3:$E$6,4,0)","v":3.125E-2},0.30208333333333326,0.30208333333333326,{"$f":"DATA!$C$9","v":0.89},{"$f":"DATA!$C$10","v":64},1,407.81249999999989,407.81249999999989,{"$f":"TIME(INT($AC647/60),INT(MOD($AC647,60)/1),0)","v":0},{"$f":"IF($L647*86400/$H647=0,\"\",$L647*86400/$H647)","v":""},{"$f":"IFERROR($M647/$K647,\"\")","v":""},0,"",{"$f":"IFERROR($P647/$K647,\"\")","v":""},0,"",{"$f":"IF(IF($AB647=\"D1\",$S647,\"\")=0,\"\",IF($AB647=\"D1\",$S647,\"\"))","v":""},{"$f":"IF(IF($AB647=\"D2\",$S647,\"\")=0,\"\",IF($AB647=\"D2\",$S647,\"\"))","v":""},{"$f":"IF(IF($AB647=\"D3\",$S647,\"\")=0,\"\",IF($AB647=\"D3\",$S647,\"\"))","v":""},null,{"$f":"X646","v":31},null,{"$f":"TEXT(Y645,\"ddd\")","v":"do"},"ND",{"$f":"IFERROR(HLOOKUP(Y645,[1]DATA!$A$1:$NB$5,5,0),\"\")","v":"D2"},null,null,null,null,{"$f":"VLOOKUP(Y645,[1]SRI!$S$4:$Z$368,4,0)","v":0},"","",""]
["31vrDD",{"$f":"VLOOKUP($AA648,DATA!$B$3:$E$6,2,0)","v":"06:30:00"},{"$f":"VLOOKUP($AA648,DATA!$B$3:$E$6,3,0)","v":"14:30:00"},{"$f":"VLOOKUP($AA648,DATA!$B$3:$E$6,4,0)","v":3.125E-2},0.30208333333333331,0.30208333333333331,{"$f":"DATA!$C$9","v":0.89},{"$f":"DATA!$C$10","v":64},1,407.8125,407.8125,0,"","",0,"","",0,"","","","",null,{"$f":"X646","v":31},"2018-08-03",{"$f":"TEXT(Y648,\"ddd\")","v":"vr"},"DD",{"$f":"IFERROR(HLOOKUP(Y648,[1]DATA!$A$1:$NB$5,3,0),\"\")","v":"D1"},null,null,null,null,{"$f":"VLOOKUP(Y648,[1]SRI!$S$4:$Z$368,2,0)","v":0},"","",""]
["31vrMD",{"$f":"VLOOKUP($AA649,DATA!$B$3:$E$6,2,0)","v":"14:30:00"},{"$f":"VLOOKUP($AA649,DATA!$B$3:$E$6,3,0)","v":"22:30:00"},{"$f":"VLOOKUP($AA649,DATA!$B$3:$E$6,4,0)","v":3.125E-2},0.30208333333333337,0.30208333333333337,{"$f":"DATA!$C$9","v":0.89},{"$f":"DATA!$C$10","v":64},1,407.81250000000006,407.81250000000006,0,"","",0,"","",0,"","","","",null,{"$f":"X646","v":31},null,{"$f":"TEXT(Y648,\"ddd\")","v":"vr"},"MD",{"$f":"IFERROR(HLOOKUP(Y648,[1]DATA!$A$1:$NB$5,4,0),\"\")","v":"D3"},null,null,null,null,{"$f":"VLOOKUP(Y648,[1]SRI!$S$4:$Z$368,3,0)","v":0},"","",""]
["31vrND",{"$f":"VLOOKUP($AA650,DATA!$B$3:$E$6,2,0)","v":"22:30:00"},{"$f":"VLOOKUP($AA650,DATA!$B$3:$E$6,3,0)","v":"06:30:00"},{"$f":"VLOOKUP($AA650,DATA!$B$3:$E$6,4,0)","v":3.125E-2},0.30208333333333326,0.30208333333333326,{"$f":"DATA!$C$9","v":0.89},{"$f":"DATA!$C$10","v":64},1,407.81249999999989,407.81249999999989,0,"","",0,"","",0,"","","","",null,{"$f":"X646","v":31},null,{"$f":"TEXT(Y648,\"ddd\")","v":"vr"},"ND",{"$f":"IFERROR(HLOOKUP(Y648,[1]DATA!$A$1:$NB$5,5,0),\"\")","v":"D2"},null,null,null,null,{"$f":"VLOOKUP(Y648,[1]SRI!$S$4:$Z$368,4,0)","v":0},"","",""]
["31zaDD",{"$f":"VLOOKUP($AA651,DATA!$B$3:$E$6,2,0)","v":"06:30:00"},{"$f":"VLOOKUP($AA651,DATA!$B$3:$E$6,3,0)","v":"14:30:00"},{"$f":"VLOOKUP($AA651,DATA!$B$3:$E$6,4,0)","v":3.125E-2},0.30208333333333331,0.30208333333333331,{"$f":"DATA!$C$9","v":0.89},{"$f":"DATA!$C$10","v":64},1,407.8125,407.8125,0,"","",0,"","",0,"","","","",null,{"$f":"X646","v":31},"2018-08-04",{"$f":"TEXT(Y651,\"ddd\")","v":"za"},"DD",{"$f":"IFERROR(HLOOKUP(Y651,[1]DATA!$A$1:$NB$5,3,0),\"\")","v":"D1"},null,null,null,null,{"$f":"VLOOKUP(Y651,[1]SRI!$S$4:$Z$368,2,0)","v":0},"","",""]
["31zaMD",{"$f":"VLOOKUP($AA652,DATA!$B$3:$E$6,2,0)","v":"14:30:00"},{"$f":"VLOOKUP($AA652,DATA!$B$3:$E$6,3,0)","v":"22:30:00"},{"$f":"VLOOKUP($AA652,DATA!$B$3:$E$6,4,0)","v":3.125E-2},0.30208333333333337,0.30208333333333337,{"$f":"DATA!$C$9","v":0.89},{"$f":"DATA!$C$10","v":64},1,407.81250000000006,407.81250000000006,0,"","",0,"","",0,"","","","",null,{"$f":"X646","v":31},null,{"$f":"TEXT(Y651,\"ddd\")","v":"za"},"MD",{"$f":"IFERROR(HLOOKUP(Y651,[1]DATA!$A$1:$NB$5,4,0),\"\")","v":"-"},null,null,null,null,{"$f":"VLOOKUP(Y651,[1]SRI!$S$4:$Z$368,3,0)","v":0},"","",""]
["31zaND",{"$f":"VLOOKUP($AA653,DATA!$B$3:$E$6,2,0)","v":"22:30:00"},{"$f":"VLOOKUP($AA653,DATA!$B$3:$E$6,3,0)","v":"06:30:00"},{"$f":"VLOOKUP($AA653,DATA!$B$3:$E$6,4,0)","v":3.125E-2},0.30208333333333326,0.30208333333333326,{"$f":"DATA!$C$9","v":0.89},{"$f":"DATA!$C$10","v":64},1,407.81249999999989,407.81249999999989,0,"","",0,"","",0,"","","","",null,{"$f":"X646","v":31},null,{"$f":"TEXT(Y651,\"ddd\")","v":"za"},"ND",{"$f":"IFERROR(HLOOKUP(Y651,[1]DATA!$A$1:$NB$5,5,0),\"\")","v":"-"},null,null,null,null,{"$f":"VLOOKUP(Y651,[1]SRI!$S$4:$Z$368,4,0)","v":0},"","",""]
["31zoDD",{"$f":"VLOOKUP($AA654,DATA!$B$3:$E$6,2,0)","v":"06:30:00"},{"$f":"VLOOKUP($AA654,DATA!$B$3:$E$6,3,0)","v":"14:30:00"},{"$f":"VLOOKUP($AA654,DATA!$B$3:$E$6,4,0)","v":3.125E-2},0.30208333333333331,0.30208333333333331,{"$f":"DATA!$C$9","v":0.89},{"$f":"DATA!$C$10","v":64},1,407.8125,407.8125,0,"","",0,"","",0,"","","","",null,{"$f":"X646","v":31},"2018-08-05",{"$f":"TEXT(Y654,\"ddd\")","v":"zo"},"DD",{"$f":"IFERROR(HLOOKUP(Y654,[1]DATA!$A$1:$NB$5,3,0),\"\")","v":"-"},null,null,null,null,{"$f":"VLOOKUP(Y654,[1]SRI!$S$4:$Z$368,2,0)","v":0},"","",""]
["31zoMD",{"$f":"VLOOKUP($AA655,DATA!$B$3:$E$6,2,0)","v":"14:30:00"},{"$f":"VLOOKUP($AA655,DATA!$B$3:$E$6,3,0)","v":"22:30:00"},{"$f":"VLOOKUP($AA655,DATA!$B$3:$E$6,4,0)","v":3.125E-2},0.30208333333333337,0.30208333333333337,{"$f":"DATA!$C$9","v":0.89},{"$f":"DATA!$C$10","v":64},1,407.81250000000006,407.81250000000006,0,"","",0,"","",0,"","","","",null,{"$f":"X646","v":31},null,{"$f":"TEXT(Y654,\"ddd\")","v":"zo"},"MD",{"$f":"IFERROR(HLOOKUP(Y654,[1]DATA!$A$1:$NB$5,4,0),\"\")","v":"-"},null,null,null,null,{"$f":"VLOOKUP(Y654,[1]SRI!$S$4:$Z$368,3,0)","v":0},"","",""]
["31zoZND",{"$f":"VLOOKUP($AA656,DATA!$B$3:$E$6,2,0)","v":"00:00:00"},{"$f":"VLOOKUP($AA656,DATA!$B$3:$E$6,3,0)","v":"00:00:00"},{"$f":"VLOOKUP($AA656,DATA!$B$3:$E$6,4,0)","v":3.125E-2},-3.125E-2,-3.125E-2,{"$f":"DATA!$C$9","v":0.89},{"$f":"DATA!$C$10","v":64},1,-42.1875,-42.1875,0,"","",0,"","",0,"","","","",null,{"$f":"X646","v":31},null,{"$f":"TEXT(Y654,\"ddd\")","v":"zo"},"ZND",{"$f":"IFERROR(HLOOKUP(Y654,[1]DATA!$A$1:$NB$5,5,0),\"\")","v":"-"},null,null,null,null,{"$f":"VLOOKUP(Y654,[1]SRI!$S$4:$Z$368,4,0)","v":0},"","",""]
["32maDD",{"$f":"VLOOKUP($AA657,DATA!$B$3:$E$6,2,0)","v":"06:30:00"},{"$f":"VLOOKUP($AA657,DATA!$B$3:$E$6,3,0)","v":"14:30:00"},{"$f":"VLOOKUP($AA657,DATA!$B$3:$E$6,4,0)","v":3.125E-2},0.30208333333333331,0.30208333333333331,{"$f":"DATA!$C$9","v":0.89},{"$f":"DATA!$C$10","v":64},1,407.8125,407.8125,0,"","",{"$f":"TIME(INT($AD657/60),INT(MOD($AD657,60)/1),0)","v":0},"","",0,"","","","",null,{"$f":"X667","v":32},"2018-08-06",{"$f":"TEXT(Y657,\"ddd\")","v":"ma"},"DD",{"$f":"IFERROR(HLOOKUP(Y657,[1]DATA!$A$1:$NB$5,3,0),\"\")","v":"D3"},null,null,null,null,{"$f":"VLOOKUP(Y657,[1]SRI!$S$4:$Z$368,2,0)","v":0},"","","",{"$f":"IF(SUMIF(S657:S677,\">0\",K657:K677)=0,\"\",SUMIF(S657:S677,\">0\",K657:K677))","v":""},{"$f":"IF(SUM(S657:S677)=0,\"\",SUM(S657:S677))","v":""},{"$f":"IFERROR(AL657/AK657,\"-\")","v":"-"},{"$f":"IF(SUM(M657:M677)=0,\"0\",SUM(M657:M677))","v":"0"},{"$f":"IFERROR(AN657/AK657,\"-\")","v":"-"},{"$f":"IF(SUM(P657:P677)=0,0,SUM(P657:P677))","v":0},{"$f":"IFERROR(AP657/AK657,\"-\")","v":"-"},{"$f":"IFERROR(AVERAGE(AJ657:AJ677),\"-\")","v":"-"},{"$f":"IFERROR(SUMIF($AB657:$AB677,AS$5,$AJ657:$AJ677)/COUNTIFS($AB657:$AB677,AS$5,$AJ657:$AJ677,\">0\"),\"\")","v":""},"","",{"$f":"IFERROR((AK657-AL657-AN657-AP657),\"-\")","v":"-"},{"$f":"IFERROR((1-AM657-AO657-AQ657), \"-\")","v":"-"},{"$f":"IFERROR((AV657*$AE$2)/60,\"-\")","v":"-"},{"$f":"IFERROR(SUM(AG657:AG677),\"\")","v":0}]
["32maMD",{"$f":"VLOOKUP($AA658,DATA!$B$3:$E$6,2,0)","v":"14:30:00"},{"$f":"VLOOKUP($AA658,DATA!$B$3:$E$6,3,0)","v":"22:30:00"},{"$f":"VLOOKUP($AA658,DATA!$B$3:$E$6,4,0)","v":3.125E-2},0.30208333333333337,0.30208333333333337,{"$f":"DATA!$C$9","v":0.89},{"$f":"DATA!$C$10","v":64},1,407.81250000000006,407.81250000000006,0,"","",{"$f":"TIME(INT(AD658/60),INT(MOD(AD658,60)/1),0)","v":0},"","",0,"","","","",null,{"$f":"X667","v":32},null,{"$f":"TEXT(Y657,\"ddd\")","v":"ma"},"MD",{"$f":"IFERROR(HLOOKUP(Y657,[1]DATA!$A$1:$NB$5,4,0),\"\")","v":"D2"},null,null,null,null,{"$f":"VLOOKUP(Y657,[1]SRI!$S$4:$Z$368,3,0)","v":0},"","",""]
["32maND",{"$f":"VLOOKUP($AA659,DATA!$B$3:$E$6,2,0)","v":"22:30:00"},{"$f":"VLOOKUP($AA659,DATA!$B$3:$E$6,3,0)","v":"06:30:00"},{"$f":"VLOOKUP($AA659,DATA!$B$3:$E$6,4,0)","v":3.125E-2},0.30208333333333326,0.30208333333333326,{"$f":"DATA!$C$9","v":0.89},{"$f":"DATA!$C$10","v":64},1,407.81249999999989,407.81249999999989,0,"","",0,"","",0,"","","","",null,{"$f":"X667","v":32},null,{"$f":"TEXT(Y657,\"ddd\")","v":"ma"},"ND",{"$f":"IFERROR(HLOOKUP(Y657,[1]DATA!$A$1:$NB$5,5,0),\"\")","v":"D1"},null,null,null,null,{"$f":"VLOOKUP(Y657,[1]SRI!$S$4:$Z$368,4,0)","v":0},"","",""]
["32diDD",{"$f":"VLOOKUP($AA660,DATA!$B$3:$E$6,2,0)","v":"06:30:00"},{"$f":"VLOOKUP($AA660,DATA!$B$3:$E$6,3,0)","v":"14:30:00"},{"$f":"VLOOKUP($AA660,DATA!$B$3:$E$6,4,0)","v":3.125E-2},0.30208333333333331,0.30208333333333331,{"$f":"DATA!$C$9","v":0.89},{"$f":"DATA!$C$10","v":64},1,407.8125,407.8125,0,"","",0,"","",0,"","","","",null,{"$f":"X667","v":32},"2018-08-07",{"$f":"TEXT(Y660,\"ddd\")","v":"di"},"DD",{"$f":"IFERROR(HLOOKUP(Y660,[1]DATA!$A$1:$NB$5,3,0),\"\")","v":"D3"},null,null,null,null,{"$f":"VLOOKUP(Y660,[1]SRI!$S$4:$Z$368,2,0)","v":0},"","",""]
["32diMD",{"$f":"VLOOKUP($AA661,DATA!$B$3:$E$6,2,0)","v":"14:30:00"},{"$f":"VLOOKUP($AA661,DATA!$B$3:$E$6,3,0)","v":"22:30:00"},{"$f":"VLOOKUP($AA661,DATA!$B$3:$E$6,4,0)","v":3.125E-2},0.30208333333333337,0.30208333333333337,{"$f":"DATA!$C$9","v":0.89},{"$f":"DATA!$C$10","v":64},1,407.81250000000006,407.81250000000006,0,"","",0,"","",0,"","","","",null,{"$f":"X667","v":32},null,{"$f":"TEXT(Y660,\"ddd\")","v":"di"},"MD",{"$f":"IFERROR(HLOOKUP(Y660,[1]DATA!$A$1:$NB$5,4,0),\"\")","v":"D2"},null,null,null,null,{"$f":"VLOOKUP(Y660,[1]SRI!$S$4:$Z$368,3,0)","v":0},"","",""]
["32diND",{"$f":"VLOOKUP($AA662,DATA!$B$3:$E$6,2,0)","v":"22:30:00"},{"$f":"VLOOKUP($AA662,DATA!$B$3:$E$6,3,0)","v":"06:30:00"},{"$f":"VLOOKUP($AA662,DATA!$B$3:$E$6,4,0)","v":3.125E-2},0.30208333333333326,0.30208333333333326,{"$f":"DATA!$C$9","v":0.89},{"$f":"DATA!$C$10","v":64},1,407.81249999999989,407.81249999999989,0,"","",0,"","",0,"","","","",null,{"$f":"X667","v":32},null,{"$f":"TEXT(Y660,\"ddd\")","v":"di"},"ND",{"$f":"IFERROR(HLOOKUP(Y660,[1]DATA!$A$1:$NB$5,5,0),\"\")","v":"D1"},null,null,null,null,{"$f":"VLOOKUP(Y660,[1]SRI!$S$4:$Z$368,4,0)","v":0},"","",""]
["32woDD",{"$f":"VLOOKUP($AA663,DATA!$B$3:$E$6,2,0)","v":"06:30:00"},{"$f":"VLOOKUP($AA663,DATA!$B$3:$E$6,3,0)","v":"14:30:00"},{"$f":"VLOOKUP($AA663,DATA!$B$3:$E$6,4,0)","v":3.125E-2},0.30208333333333331,0.30208333333333331,{"$f":"DATA!$C$9","v":0.89},{"$f":"DATA!$C$10","v":64},1,407.8125,407.8125,0,"","",0,"","",0,"","","","",null,{"$f":"X667","v":32},"2018-08-08",{"$f":"TEXT(Y663,\"ddd\")","v":"wo"},"DD",{"$f":"IFERROR(HLOOKUP(Y663,[1]DATA!$A$1:$NB$5,3,0),\"\")","v":"D3"},null,null,null,null,{"$f":"VLOOKUP(Y663,[1]SRI!$S$4:$Z$368,2,0)","v":0},"","",""]
["32woMD",{"$f":"VLOOKUP($AA664,DATA!$B$3:$E$6,2,0)","v":"14:30:00"},{"$f":"VLOOKUP($AA664,DATA!$B$3:$E$6,3,0)","v":"22:30:00"},{"$f":"VLOOKUP($AA664,DATA!$B$3:$E$6,4,0)","v":3.125E-2},0.30208333333333337,0.30208333333333337,{"$f":"DATA!$C$9","v":0.89},{"$f":"DATA!$C$10","v":64},1,407.81250000000006,407.81250000000006,0,"","",0,"","",0,"","","","",null,{"$f":"X667","v":32},null,{"$f":"TEXT(Y663,\"ddd\")","v":"wo"},"MD",{"$f":"IFERROR(HLOOKUP(Y663,[1]DATA!$A$1:$NB$5,4,0),\"\")","v":"D2"},null,null,null,null,{"$f":"VLOOKUP(Y663,[1]SRI!$S$4:$Z$368,3,0)","v":0},"","",""]
["32woND",{"$f":"VLOOKUP($AA665,DATA!$B$3:$E$6,2,0)","v":"22:30:00"},{"$f":"VLOOKUP($AA665,DATA!$B$3:$E$6,3,0)","v":"06:30:00"},{"$f":"VLOOKUP($AA665,DATA!$B$3:$E$6,4,0)","v":3.125E-2},0.30208333333333326,0.30208333333333326,{"$f":"DATA!$C$9","v":0.89},{"$f":"DATA!$C$10","v":64},1,407.81249999999989,407.81249999999989,0,"","",0,"","",0,"","","","",null,{"$f":"X667","v":32},null,{"$f":"TEXT(Y663,\"ddd\")","v":"wo"},"ND",{"$f":"IFERROR(HLOOKUP(Y663,[1]DATA!$A$1:$NB$5,5,0),\"\")","v":"D1"},null,null,null,null,{"$f":"VLOOKUP(Y663,[1]SRI!$S$4:$Z$368,4,0)","v":0},"","",""]
["32doDD",{"$f":"VLOOKUP($AA666,DATA!$B$3:$E$6,2,0)","v":"06:30:00"},{"$f":"VLOOKUP($AA666,DATA!$B$3:$E$6,3,0)","v":"14:30:00"},{"$f":"VLOOKUP($AA666,DATA!$B$3:$E$6,4,0)","v":3.125E-2},0.30208333333333331,0.30208333333333331,{"$f":"DATA!$C$9","v":0.89},{"$f":"DATA!$C$10","v":64},1,407.8125,407.8125,0,"","",0,"","",0,"","","","",null,{"$f":"X667","v":32},"2018-08-09",{"$f":"TEXT(Y666,\"ddd\")","v":"do"},"DD",{"$f":"IFERROR(HLOOKUP(Y666,[1]DATA!$A$1:$NB$5,3,0),\"\")","v":"D3"},null,null,null,null,{"$f":"VLOOKUP(Y666,[1]SRI!$S$4:$Z$368,2,0)","v":0},"","",""]
["32doMD",{"$f":"VLOOKUP($AA667,DATA!$B$3:$E$6,2,0)","v":"14:30:00"},{"$f":"VLOOKUP($AA667,DATA!$B$3:$E$6,3,0)","v":"22:30:00"},{"$f":"VLOOKUP($AA667,DATA!$B$3:$E$6,4,0)","v":3.125E-2},0.30208333333333337,0.30208333333333337,{"$f":"DATA!$C$9","v":0.89},{"$f":"DATA!$C$10","v":64},1,407.81250000000006,407.81250000000006,0,"","",0,"","",0,"","","","",null,{"$f":"WEEKNUM($Y657)","v":32},null,{"$f":"TEXT(Y666,\"ddd\")","v":"do"},"MD",{"$f":"IFERROR(HLOOKUP(Y666,[1]DATA!$A$1:$NB$5,4,0),\"\")","v":"D2"},null,null,null,null,{"$f":"VLOOKUP(Y666,[1]SRI!$S$4:$Z$368,3,0)","v":0},"","",""]
["32doND",{"$f":"VLOOKUP($AA668,DATA!$B$3:$E$6,2,0)","v":"22:30:00"},{"$f":"VLOOKUP($AA668,DATA!$B$3:$E$6,3,0)","v":"06:30:00"},{"$f":"VLOOKUP($AA668,DATA!$B$3:$E$6,4,0)","v":3.125E-2},{"$f":"(C668-B668+(B668>C668))-D668","v":0.30208333333333326},{"$f":"E668-O668-L668","v":0.30208333333333326},{"$f":"DATA!$C$9","v":0.89},{"$f":"DATA!$C$10","v":64},1,407.81249999999989,407.81249999999989,0,"","",0,"","",0,"","","","",null,{"$f":"X667","v":32},null,{"$f":"TEXT(Y666,\"ddd\")","v":"do"},"ND",{"$f":"IFERROR(HLOOKUP(Y666,[1]DATA!$A$1:$NB$5,5,0),\"\")","v":"D1"},null,null,null,null,{"$f":"VLOOKUP(Y666,[1]SRI!$S$4:$Z$368,4,0)","v":0},"","",""]
["32vrDD",{"$f":"VLOOKUP($AA669,DATA!$B$3:$E$6,2,0)","v":"06:30:00"},{"$f":"VLOOKUP($AA669,DATA!$B$3:$E$6,3,0)","v":"14:30:00"},{"$f":"VLOOKUP($AA669,DATA!$B$3:$E$6,4,0)","v":3.125E-2},0.30208333333333331,0.30208333333333331,{"$f":"DATA!$C$9","v":0.89},{"$f":"DATA!$C$10","v":64},1,407.8125,407.8125,0,"","",0,"","",0,"","","","",null,{"$f":"X667","v":32},"2018-08-10",{"$f":"TEXT(Y669,\"ddd\")","v":"vr"},"DD",{"$f":"IFERROR(HLOOKUP(Y669,[1]DATA!$A$1:$NB$5,3,0),\"\")","v":"D3"},null,null,null,null,{"$f":"VLOOKUP(Y669,[1]SRI!$S$4:$Z$368,2,0)","v":0},"","",""]
["32vrMD",{"$f":"VLOOKUP($AA670,DATA!$B$3:$E$6,2,0)","v":"14:30:00"},{"$f":"VLOOKUP($AA670,DATA!$B$3:$E$6,3,0)","v":"22:30:00"},{"$f":"VLOOKUP($AA670,DATA!$B$3:$E$6,4,0)","v":3.125E-2},0.30208333333333337,0.30208333333333337,{"$f":"DATA!$C$9","v":0.89},{"$f":"DATA!$C$10","v":64},1,407.81250000000006,407.81250000000006,0,"","",0,"","",0,"","","","",null,{"$f":"X667","v":32},null,{"$f":"TEXT(Y669,\"ddd\")","v":"vr"},"MD",{"$f":"IFERROR(HLOOKUP(Y669,[1]DATA!$A$1:$NB$5,4,0),\"\")","v":"D2"},null,null,null,null,{"$f":"VLOOKUP(Y669,[1]SRI!$S$4:$Z$368,3,0)","v":0},"","",""]
["32vrND",{"$f":"VLOOKUP($AA671,DATA!$B$3:$E$6,2,0)","v":"22:30:00"},{"$f":"VLOOKUP($AA671,DATA!$B$3:$E$6,3,0)","v":"06:30:00"},{"$f":"VLOOKUP($AA671,DATA!$B$3:$E$6,4,0)","v":3.125E-2},0.30208333333333326,0.30208333333333326,{"$f":"DATA!$C$9","v":0.89},{"$f":"DATA!$C$10","v":64},1,407.81249999999989,407.81249999999989,0,"","",0,"","",0,"","","","",null,{"$f":"X667","v":32},null,{"$f":"TEXT(Y669,\"ddd\")","v":"vr"},"ND",{"$f":"IFERROR(HLOOKUP(Y669,[1]DATA!$A$1:$NB$5,5,0),\"\")","v":"D2"},null,null,null,null,{"$f":"VLOOKUP(Y669,[1]SRI!$S$4:$Z$368,4,0)","v":0},"","",""]
["32zaDD",{"$f":"VLOOKUP($AA672,DATA!$B$3:$E$6,2,0)","v":"06:30:00"},{"$f":"VLOOKUP($AA672,DATA!$B$3:$E$6,3,0)","v":"14:30:00"},{"$f":"VLOOKUP($AA672,DATA!$B$3:$E$6,4,0)","v":3.125E-2},0.30208333333333331,0.30208333333333331,{"$f":"DATA!$C$9","v":0.89},{"$f":"DATA!$C$10","v":64},1,407.8125,407.8125,0,"","",0,"","",0,"","","","",null,{"$f":"X667","v":32},"2018-08-11",{"$f":"TEXT(Y672,\"ddd\")","v":"za"},"DD",{"$f":"IFERROR(HLOOKUP(Y672,[1]DATA!$A$1:$NB$5,3,0),\"\")","v":"D3"},null,null,null,null,{"$f":"VLOOKUP(Y672,[1]SRI!$S$4:$Z$368,2,0)","v":0},"","",""]
["32zaMD",{"$f":"VLOOKUP($AA673,DATA!$B$3:$E$6,2,0)","v":"14:30:00"},{"$f":"VLOOKUP($AA673,DATA!$B$3:$E$6,3,0)","v":"22:30:00"},{"$f":"VLOOKUP($AA673,DATA!$B$3:$E$6,4,0)","v":3.125E-2},0.30208333333333337,0.30208333333333337,{"$f":"DATA!$C$9","v":0.89},{"$f":"DATA!$C$10","v":64},1,407.81250000000006,407.81250000000006,0,"","",0,"","",0,"","","","",null,{"$f":"X667","v":32},null,{"$f":"TEXT(Y672,\"ddd\")","v":"za"},"MD",{"$f":"IFERROR(HLOOKUP(Y672,[1]DATA!$A$1:$NB$5,4,0),\"\")","v":"-"},null,null,null,null,{"$f":"VLOOKUP(Y672,[1]SRI!$S$4:$Z$368,3,0)","v":0},"","",""]
["32zaND",{"$f":"VLOOKUP($AA674,DATA!$B$3:$E$6,2,0)","v":"22:30:00"},{"$f":"VLOOKUP($AA674,DATA!$B$3:$E$6,3,0)","v":"06:30:00"},{"$f":"VLOOKUP($AA674,DATA!$B$3:$E$6,4,0)","v":3.125E-2},0.30208333333333326,0.30208333333333326,{"$f":"DATA!$C$9","v":0.89},{"$f":"DATA!$C$10","v":64},1,407.81249999999989,407.81249999999989,0,"","",0,"","",0,"","","","",null,{"$f":"X667","v":32},null,{"$f":"TEXT(Y672,\"ddd\")","v":"za"},"ND",{"$f":"IFERROR(HLOOKUP(Y672,[1]DATA!$A$1:$NB$5,5,0),\"\")","v":"-"},null,null,null,null,{"$f":"VLOOKUP(Y672,[1]SRI!$S$4:$Z$368,4,0)","v":0},"","",""]
["32zoDD",{"$f":"VLOOKUP($AA675,DATA!$B$3:$E$6,2,0)","v":"06:30:00"},{"$f":"VLOOKUP($AA675,DATA!$B$3:$E$6,3,0)","v":"14:30:00"},{"$f":"VLOOKUP($AA675,DATA!$B$3:$E$6,4,0)","v":3.125E-2},0.30208333333333331,0.30208333333333331,{"$f":"DATA!$C$9","v":0.89},{"$f":"DATA!$C$10","v":64},1,407.8125,407.8125,0,"","",0,"","",0,"","","","",null,{"$f":"X667","v":32},"2018-08-12",{"$f":"TEXT(Y675,\"ddd\")","v":"zo"},"DD",{"$f":"IFERROR(HLOOKUP(Y675,[1]DATA!$A$1:$NB$5,3,0),\"\")","v":"-"},null,null,null,null,{"$f":"VLOOKUP(Y675,[1]SRI!$S$4:$Z$368,2,0)","v":0},"","",""]
["32zoMD",{"$f":"VLOOKUP($AA676,DATA!$B$3:$E$6,2,0)","v":"14:30:00"},{"$f":"VLOOKUP($AA676,DATA!$B$3:$E$6,3,0)","v":"22:30:00"},{"$f":"VLOOKUP($AA676,DATA!$B$3:$E$6,4,0)","v":3.125E-2},0.30208333333333337,0.30208333333333337,{"$f":"DATA!$C$9","v":0.89},{"$f":"DATA!$C$10","v":64},1,407.81250000000006,407.81250000000006,0,"","",0,"","",0,"","","","",null,{"$f":"X667","v":32},null,{"$f":"TEXT(Y675,\"ddd\")","v":"zo"},"MD",{"$f":"IFERROR(HLOOKUP(Y675,[1]DATA!$A$1:$NB$5,4,0),\"\")","v":"-"},null,null,null,null,{"$f":"VLOOKUP(Y675,[1]SRI!$S$4:$Z$368,3,0)","v":0},"","",""]
["32zoZND",{"$f":"VLOOKUP($AA677,DATA!$B$3:$E$6,2,0)","v":"00:00:00"},{"$f":"VLOOKUP($AA677,DATA!$B$3:$E$6,3,0)","v":"00:00:00"},{"$f":"VLOOKUP($AA677,DATA!$B$3:$E$6,4,0)","v":3.125E-2},-3.125E-2,-3.125E-2,{"$f":"DATA!$C$9","v":0.89},{"$f":"DATA!$C$10","v":64},1,-42.1875,-42.1875,0,"","",0,"","",0,"","","","",null,{"$f":"X667","v":32},null,{"$f":"TEXT(Y675,\"ddd\")","v":"zo"},"ZND",{"$f":"IFERROR(HLOOKUP(Y675,[1]DATA!$A$1:$NB$5,5,0),\"\")","v":"-"},null,null,null,null,{"$f":"VLOOKUP(Y675,[1]SRI!$S$4:$Z$368,4,0)","v":0},"","",""]
["33maDD",{"$f":"VLOOKUP($AA678,DATA!$B$3:$E$6,2,0)","v":"06:30:00"},{"$f":"VLOOKUP($AA678,DATA!$B$3:$E$6,3,0)","v":"14:30:00"},{"$f":"VLOOKUP($AA678,DATA!$B$3:$E$6,4,0)","v":3.125E-2},0.30208333333333331,0.26597222222222222,{"$f":"DATA!$C$9","v":0.89},{"$f":"DATA!$C$10","v":64},1,359.0625,407.8125,3.6111111111111115E-2,48.750000000000007,0.11954022988505748,{"$f":"TIME(INT($AD678/60),INT(MOD($AD678,60)/1),0)","v":0},"","",301.86666666666667,272,"",272,"",null,{"$f":"X688","v":33},"2018-08-13",{"$f":"TEXT(Y678,\"ddd\")","v":"ma"},"DD",{"$f":"IFERROR(HLOOKUP(Y678,[1]DATA!$A$1:$NB$5,3,0),\"\")","v":"D2"},52,null,11,283,{"$f":"VLOOKUP(Y678,[1]SRI!$S$4:$Z$368,2,0)","v":58},-87.0625,0.66697318007662831,0.83882919599851802,{"$f":"IF(SUMIF(S678:S698,\">0\",K678:K698)=0,\"\",SUMIF(S678:S698,\">0\",K678:K698))","v":6117.1875},{"$f":"IF(SUM(S678:S698)=0,\"\",SUM(S678:S698))","v":3873},{"$f":"IFERROR(AL678/AK678,\"-\")","v":0.63313409961685829},{"$f":"IF(SUM(M678:M698)=0,\"0\",SUM(M678:M698))","v":1705.3125},{"$f":"IFERROR(AN678/AK678,\"-\")","v":0.27877394636015324},{"$f":"IF(SUM(P678:P698)=0,0,SUM(P678:P698))","v":0},{"$f":"IFERROR(AP678/AK678,\"-\")","v":0},{"$f":"IFERROR(AVERAGE(AJ678:AJ698),\"-\")","v":0.95618323120198478},{"$f":"IFERROR(SUMIF($AB678:$AB698,AS$5,$AJ678:$AJ698)/COUNTIFS($AB678:$AB698,AS$5,$AJ678:$AJ698,\">0\"),\"\")","v":0.97233172634724707},0.93850227286367671,0.96251904977786962,{"$f":"IFERROR((AK678-AL678-AN678-AP678),\"-\")","v":538.875},{"$f":"IFERROR((1-AM678-AO678-AQ678), \"-\")","v":8.8091954022988472E-2},{"$f":"IFERROR((AV678*$AE$2)/60,\"-\")","v":574.79999999999995},{"$f":"IFERROR(SUM(AG678:AG698),\"\")","v":197}]
["33maMD",{"$f":"VLOOKUP($AA679,DATA!$B$3:$E$6,2,0)","v":"14:30:00"},{"$f":"VLOOKUP($AA679,DATA!$B$3:$E$6,3,0)","v":"22:30:00"},{"$f":"VLOOKUP($AA679,DATA!$B$3:$E$6,4,0)","v":3.125E-2},0.30208333333333337,0.2104166666666667,{"$f":"DATA!$C$9","v":0.89},{"$f":"DATA!$C$10","v":64},1,284.06250000000006,407.81250000000006,9.1666666666666674E-2,123.75000000000001,0.30344827586206896,{"$f":"TIME(INT(AD679/60),INT(MOD(AD679,60)/1),0)","v":0},"","",311.46666666666664,272,272,"","",null,{"$f":"X688","v":33},null,{"$f":"TEXT(Y678,\"ddd\")","v":"ma"},"MD",{"$f":"IFERROR(HLOOKUP(Y678,[1]DATA!$A$1:$NB$5,4,0),\"\")","v":"D1"},132,null,20,292,{"$f":"VLOOKUP(Y678,[1]SRI!$S$4:$Z$368,3,0)","v":10},-12.062500000000057,0.66697318007662831,0.96889257569473253]
["33maND",{"$f":"VLOOKUP($AA680,DATA!$B$3:$E$6,2,0)","v":"22:30:00"},{"$f":"VLOOKUP($AA680,DATA!$B$3:$E$6,3,0)","v":"06:30:00"},{"$f":"VLOOKUP($AA680,DATA!$B$3:$E$6,4,0)","v":3.125E-2},0.30208333333333326,0.22638888888888881,{"$f":"DATA!$C$9","v":0.89},{"$f":"DATA!$C$10","v":64},1,305.62499999999989,407.81249999999989,7.5694444444444439E-2,102.1875,0.25057471264367825,0,"","",321.06666666666666,281,"","",281,null,{"$f":"X688","v":33},null,{"$f":"TEXT(Y678,\"ddd\")","v":"ma"},"ND",{"$f":"IFERROR(HLOOKUP(Y678,[1]DATA!$A$1:$NB$5,5,0),\"\")","v":"D3"},109,null,20,301,{"$f":"VLOOKUP(Y678,[1]SRI!$S$4:$Z$368,4,0)","v":6},-24.624999999999886,0.68904214559386989,0.98165511618426415]
["33diDD",{"$f":"VLOOKUP($AA681,DATA!$B$3:$E$6,2,0)","v":"06:30:00"},{"$f":"VLOOKUP($AA681,DATA!$B$3:$E$6,3,0)","v":"14:30:00"},{"$f":"VLOOKUP($AA681,DATA!$B$3:$E$6,4,0)","v":3.125E-2},0.30208333333333331,0.22777777777777775,{"$f":"DATA!$C$9","v":0.89},{"$f":"DATA!$C$10","v":64},1,307.49999999999994,407.8125,7.4305555555555555E-2,100.3125,0.24597701149425288,0,"","",332.8,281,"",281,"",null,{"$f":"X688","v":33},"2018-08-14",{"$f":"TEXT(Y681,\"ddd\")","v":"di"},"DD",{"$f":"IFERROR(HLOOKUP(Y681,[1]DATA!$A$1:$NB$5,3,0),\"\")","v":"D2"},107,null,31,312,{"$f":"VLOOKUP(Y681,[1]SRI!$S$4:$Z$368,2,0)","v":11},-26.499999999999943,0.68904214559386978,0.96800465386852819]
["33diMD",{"$f":"VLOOKUP($AA682,DATA!$B$3:$E$6,2,0)","v":"14:30:00"},{"$f":"VLOOKUP($AA682,DATA!$B$3:$E$6,3,0)","v":"22:30:00"},{"$f":"VLOOKUP($AA682,DATA!$B$3:$E$6,4,0)","v":3.125E-2},0.30208333333333337,0.14652777777777781,{"$f":"DATA!$C$9","v":0.89},{"$f":"DATA!$C$10","v":64},1,197.81250000000006,407.81250000000006,0.15555555555555556,210,0.51494252873563207,0,"","",264.5333333333333,228,228,"","",null,{"$f":"X688","v":33},null,{"$f":"TEXT(Y681,\"ddd\")","v":"di"},"MD",{"$f":"IFERROR(HLOOKUP(Y681,[1]DATA!$A$1:$NB$5,4,0),\"\")","v":"D1"},224,null,20,248,{"$f":"VLOOKUP(Y681,[1]SRI!$S$4:$Z$368,3,0)","v":6},30.187499999999943,0.55908045977011489,0.97782158698866439]
["33diND",{"$f":"VLOOKUP($AA683,DATA!$B$3:$E$6,2,0)","v":"22:30:00"},{"$f":"VLOOKUP($AA683,DATA!$B$3:$E$6,3,0)","v":"06:30:00"},{"$f":"VLOOKUP($AA683,DATA!$B$3:$E$6,4,0)","v":3.125E-2},0.30208333333333326,0.20138888888888884,{"$f":"DATA!$C$9","v":0.89},{"$f":"DATA!$C$10","v":64},1,271.87499999999994,407.81249999999989,0.10069444444444443,135.93749999999997,0.33333333333333337,0,"","",282.66666666666669,240,"","",240,null,{"$f":"X688","v":33},null,{"$f":"TEXT(Y681,\"ddd\")","v":"di"},"ND",{"$f":"IFERROR(HLOOKUP(Y681,[1]DATA!$A$1:$NB$5,5,0),\"\")","v":"D3"},145,null,25,265,{"$f":"VLOOKUP(Y681,[1]SRI!$S$4:$Z$368,4,0)","v":15},-31.874999999999943,0.588505747126437,0.94960806270996645]
["33woDD",{"$f":"VLOOKUP($AA684,DATA!$B$3:$E$6,2,0)","v":"06:30:00"},{"$f":"VLOOKUP($AA684,DATA!$B$3:$E$6,3,0)","v":"14:30:00"},{"$f":"VLOOKUP($AA684,DATA!$B$3:$E$6,4,0)","v":3.125E-2},0.30208333333333331,0.17361111111111108,{"$f":"DATA!$C$9","v":0.89},{"$f":"DATA!$C$10","v":64},1,234.37499999999994,407.8125,0.12847222222222224,173.43750000000003,0.42528735632183917,0,"","",274.13333333333333,237,"",237,"",null,{"$f":"X688","v":33},"2018-08-15",{"$f":"TEXT(Y684,\"ddd\")","v":"wo"},"DD",{"$f":"IFERROR(HLOOKUP(Y684,[1]DATA!$A$1:$NB$5,3,0),\"\")","v":"D2"},185,null,20,257,{"$f":"VLOOKUP(Y684,[1]SRI!$S$4:$Z$368,2,0)","v":5},2.6250000000000568,0.58114942528735636,0.98208741342249817]
["33woMD",{"$f":"VLOOKUP($AA685,DATA!$B$3:$E$6,2,0)","v":"14:30:00"},{"$f":"VLOOKUP($AA685,DATA!$B$3:$E$6,3,0)","v":"22:30:00"},{"$f":"VLOOKUP($AA685,DATA!$B$3:$E$6,4,0)","v":3.125E-2},0.30208333333333337,0.29375000000000001,{"$f":"DATA!$C$9","v":0.89},{"$f":"DATA!$C$10","v":64},1,396.5625,407.81250000000006,8.3333333333333332E-3,11.25,2.758620689655172E-2,0,"","",309.33333333333331,278,278,"","",null,{"$f":"X688","v":33},null,{"$f":"TEXT(Y684,\"ddd\")","v":"wo"},"MD",{"$f":"IFERROR(HLOOKUP(Y684,[1]DATA!$A$1:$NB$5,4,0),\"\")","v":"D1"},12,null,12,290,{"$f":"VLOOKUP(Y684,[1]SRI!$S$4:$Z$368,3,0)","v":5},-118.5625,0.68168582375478914,0.98409331919406151]
["33woND",{"$f":"VLOOKUP($AA686,DATA!$B$3:$E$6,2,0)","v":"22:30:00"},{"$f":"VLOOKUP($AA686,DATA!$B$3:$E$6,3,0)","v":"06:30:00"},{"$f":"VLOOKUP($AA686,DATA!$B$3:$E$6,4,0)","v":3.125E-2},0.30208333333333326,0.24513888888888882,{"$f":"DATA!$C$9","v":0.89},{"$f":"DATA!$C$10","v":64},1,330.93749999999989,407.81249999999989,5.6944444444444443E-2,76.875,0.18850574712643683,0,"","",354.13333333333333,321,"","",321,null,{"$f":"X688","v":33},null,{"$f":"TEXT(Y684,\"ddd\")","v":"wo"},"ND",{"$f":"IFERROR(HLOOKUP(Y684,[1]DATA!$A$1:$NB$5,5,0),\"\")","v":"D3"},82,null,11,332,{"$f":"VLOOKUP(Y684,[1]SRI!$S$4:$Z$368,4,0)","v":5},-9.9374999999998863,0.78712643678160943,0.98607759420827923]
["33doDD",{"$f":"VLOOKUP($AA687,DATA!$B$3:$E$6,2,0)","v":"06:30:00"},{"$f":"VLOOKUP($AA687,DATA!$B$3:$E$6,3,0)","v":"14:30:00"},{"$f":"VLOOKUP($AA687,DATA!$B$3:$E$6,4,0)","v":3.125E-2},0.30208333333333331,0.14513888888888887,{"$f":"DATA!$C$9","v":0.89},{"$f":"DATA!$C$10","v":64},1,195.93749999999997,407.8125,0.15694444444444444,211.875,0.51954022988505744,0,"","",235.73333333333332,193,"",193,"",null,{"$f":"X688","v":33},"2018-08-16",{"$f":"TEXT(Y687,\"ddd\")","v":"do"},"DD",{"$f":"IFERROR(HLOOKUP(Y687,[1]DATA!$A$1:$NB$5,3,0),\"\")","v":"D2"},226,null,28,221,{"$f":"VLOOKUP(Y687,[1]SRI!$S$4:$Z$368,2,0)","v":39},-2.9374999999999716,0.47325670498084293,0.85804416403785477]
[{"$f":"X688&Z688&AA688","v":"33doMD"},{"$f":"VLOOKUP($AA688,DATA!$B$3:$E$6,2,0)","v":"14:30:00"},{"$f":"VLOOKUP($AA688,DATA!$B$3:$E$6,3,0)","v":"22:30:00"},{"$f":"VLOOKUP($AA688,DATA!$B$3:$E$6,4,0)","v":3.125E-2},0.30208333333333337,0.1965277777777778,{"$f":"DATA!$C$9","v":0.89},{"$f":"DATA!$C$10","v":64},1,265.31250000000006,407.81250000000006,0.10555555555555556,142.5,0.34942528735632178,0,{"$f":"IF($O688*86400/$H688=0,\"\",$O688*86400/$H688)","v":""},"",323.2,286,286,"","",null,{"$f":"WEEKNUM($Y678)","v":33},null,{"$f":"TEXT(Y687,\"ddd\")","v":"do"},"MD",{"$f":"IFERROR(HLOOKUP(Y687,[1]DATA!$A$1:$NB$5,4,0),\"\")","v":"D1"},152,null,17,303,{"$f":"VLOOKUP(Y687,[1]SRI!$S$4:$Z$368,3,0)","v":3},20.687499999999943,0.70130268199233703,0.99080318822808089]
["33doND",{"$f":"VLOOKUP($AA689,DATA!$B$3:$E$6,2,0)","v":"22:30:00"},{"$f":"VLOOKUP($AA689,DATA!$B$3:$E$6,3,0)","v":"06:30:00"},{"$f":"VLOOKUP($AA689,DATA!$B$3:$E$6,4,0)","v":3.125E-2},0.30208333333333326,0.14791666666666659,{"$f":"DATA!$C$9","v":0.89},{"$f":"DATA!$C$10","v":64},1,199.68749999999989,407.81249999999989,0.15416666666666667,208.125,0.51034482758620703,0,"","",249.6,214,"","",214,null,{"$f":"X688","v":33},null,{"$f":"TEXT(Y687,\"ddd\")","v":"do"},"ND",{"$f":"IFERROR(HLOOKUP(Y687,[1]DATA!$A$1:$NB$5,5,0),\"\")","v":"D3"},222,null,20,234,{"$f":"VLOOKUP(Y687,[1]SRI!$S$4:$Z$368,4,0)","v":18},14.312500000000114,0.52475095785440629,0.93273542600896853]
["33vrDD",{"$f":"VLOOKUP($AA690,DATA!$B$3:$E$6,2,0)","v":"06:30:00"},{"$f":"VLOOKUP($AA690,DATA!$B$3:$E$6,3,0)","v":"14:30:00"},{"$f":"VLOOKUP($AA690,DATA!$B$3:$E$6,4,0)","v":3.125E-2},0.30208333333333331,0.2583333333333333,{"$f":"DATA!$C$9","v":0.89},{"$f":"DATA!$C$10","v":64},1,348.74999999999994,407.8125,4.3750000000000004E-2,59.062500000000007,0.14482758620689656,0,"","",370.13333333333333,320,"",320,"",null,{"$f":"X688","v":33},"2018-08-17",{"$f":"TEXT(Y690,\"ddd\")","v":"vr"},"DD",{"$f":"IFERROR(HLOOKUP(Y690,[1]DATA!$A$1:$NB$5,3,0),\"\")","v":"D2"},63,null,27,347,{"$f":"VLOOKUP(Y690,[1]SRI!$S$4:$Z$368,2,0)","v":6},-28.749999999999943,0.78467432950191573,0.98404820985466146]
["33vrMD",{"$f":"VLOOKUP($AA691,DATA!$B$3:$E$6,2,0)","v":"14:30:00"},{"$f":"VLOOKUP($AA691,DATA!$B$3:$E$6,3,0)","v":"22:30:00"},{"$f":"VLOOKUP($AA691,DATA!$B$3:$E$6,4,0)","v":3.125E-2},0.30208333333333337,0.24930555555555559,{"$f":"DATA!$C$9","v":0.89},{"$f":"DATA!$C$10","v":64},1,336.56250000000006,407.81250000000006,5.2777777777777778E-2,71.25,0.17471264367816089,0,"","",156.80000000000001,142,142,"","",null,{"$f":"X688","v":33},null,{"$f":"TEXT(Y690,\"ddd\")","v":"vr"},"MD",{"$f":"IFERROR(HLOOKUP(Y690,[1]DATA!$A$1:$NB$5,4,0),\"\")","v":"D1"},76,null,5,147,{"$f":"VLOOKUP(Y690,[1]SRI!$S$4:$Z$368,3,0)","v":10},-194.56250000000006,0.34819923371647504,0.94004796163069548]
["33vrND",{"$f":"VLOOKUP($AA692,DATA!$B$3:$E$6,2,0)","v":"22:30:00"},{"$f":"VLOOKUP($AA692,DATA!$B$3:$E$6,3,0)","v":"06:30:00"},{"$f":"VLOOKUP($AA692,DATA!$B$3:$E$6,4,0)","v":3.125E-2},0.30208333333333326,0.30208333333333326,{"$f":"DATA!$C$9","v":0.89},{"$f":"DATA!$C$10","v":64},1,407.81249999999989,407.81249999999989,0,"","",0,"","",0,"","","","",null,{"$f":"X688","v":33},null,{"$f":"TEXT(Y690,\"ddd\")","v":"vr"},"ND",{"$f":"IFERROR(HLOOKUP(Y690,[1]DATA!$A$1:$NB$5,5,0),\"\")","v":"D3"},0,null,0,0,{"$f":"VLOOKUP(Y690,[1]SRI!$S$4:$Z$368,4,0)","v":0},"","",""]
["33zaDD",{"$f":"VLOOKUP($AA693,DATA!$B$3:$E$6,2,0)","v":"06:30:00"},{"$f":"VLOOKUP($AA693,DATA!$B$3:$E$6,3,0)","v":"14:30:00"},{"$f":"VLOOKUP($AA693,DATA!$B$3:$E$6,4,0)","v":3.125E-2},0.30208333333333331,0.27986111111111112,{"$f":"DATA!$C$9","v":0.89},{"$f":"DATA!$C$10","v":64},1,377.8125,407.8125,2.2222222222222223E-2,30,7.3563218390804597E-2,0,"","",339.2,308,"",308,"",null,{"$f":"X688","v":33},"2018-08-18",{"$f":"TEXT(Y693,\"ddd\")","v":"za"},"DD",{"$f":"IFERROR(HLOOKUP(Y693,[1]DATA!$A$1:$NB$5,3,0),\"\")","v":"D2"},32,null,10,318,{"$f":"VLOOKUP(Y693,[1]SRI!$S$4:$Z$368,2,0)","v":0},-69.8125,0.75524904214559385,1]
["33zaMD",{"$f":"VLOOKUP($AA694,DATA!$B$3:$E$6,2,0)","v":"14:30:00"},{"$f":"VLOOKUP($AA694,DATA!$B$3:$E$6,3,0)","v":"22:30:00"},{"$f":"VLOOKUP($AA694,DATA!$B$3:$E$6,4,0)","v":3.125E-2},0.30208333333333337,0.30208333333333337,{"$f":"DATA!$C$9","v":0.89},{"$f":"DATA!$C$10","v":64},1,407.81250000000006,407.81250000000006,0,"","",0,"","",0,"","","","",null,{"$f":"X688","v":33},null,{"$f":"TEXT(Y693,\"ddd\")","v":"za"},"MD",{"$f":"IFERROR(HLOOKUP(Y693,[1]DATA!$A$1:$NB$5,4,0),\"\")","v":"-"},null,null,null,null,{"$f":"VLOOKUP(Y693,[1]SRI!$S$4:$Z$368,3,0)","v":0},"","",""]
["33zaND",{"$f":"VLOOKUP($AA695,DATA!$B$3:$E$6,2,0)","v":"22:30:00"},{"$f":"VLOOKUP($AA695,DATA!$B$3:$E$6,3,0)","v":"06:30:00"},{"$f":"VLOOKUP($AA695,DATA!$B$3:$E$6,4,0)","v":3.125E-2},0.30208333333333326,0.30208333333333326,{"$f":"DATA!$C$9","v":0.89},{"$f":"DATA!$C$10","v":64},1,407.81249999999989,407.81249999999989,0,"","",0,"","",0,"","","","",null,{"$f":"X688","v":33},null,{"$f":"TEXT(Y693,\"ddd\")","v":"za"},"ND",{"$f":"IFERROR(HLOOKUP(Y693,[1]DATA!$A$1:$NB$5,5,0),\"\")","v":"-"},null,null,null,null,{"$f":"VLOOKUP(Y693,[1]SRI!$S$4:$Z$368,4,0)","v":0},"","",""]
["33zoDD",{"$f":"VLOOKUP($AA696,DATA!$B$3:$E$6,2,0)","v":"06:30:00"},{"$f":"VLOOKUP($AA696,DATA!$B$3:$E$6,3,0)","v":"14:30:00"},{"$f":"VLOOKUP($AA696,DATA!$B$3:$E$6,4,0)","v":3.125E-2},0.30208333333333331,0.30208333333333331,{"$f":"DATA!$C$9","v":0.89},{"$f":"DATA!$C$10","v":64},1,407.8125,407.8125,0,"","",0,"","",0,"","","","",null,{"$f":"X688","v":33},{"$f":"Y693+1","v":"2018-08-19"},{"$f":"TEXT(Y696,\"ddd\")","v":"zo"},"DD",{"$f":"IFERROR(HLOOKUP(Y696,[1]DATA!$A$1:$NB$5,3,0),\"\")","v":"-"},null,null,null,null,{"$f":"VLOOKUP(Y696,[1]SRI!$S$4:$Z$368,2,0)","v":0},"","",""]
["33zoMD",{"$f":"VLOOKUP($AA697,DATA!$B$3:$E$6,2,0)","v":"14:30:00"},{"$f":"VLOOKUP($AA697,DATA!$B$3:$E$6,3,0)","v":"22:30:00"},{"$f":"VLOOKUP($AA697,DATA!$B$3:$E$6,4,0)","v":3.125E-2},0.30208333333333337,0.30208333333333337,{"$f":"DATA!$C$9","v":0.89},{"$f":"DATA!$C$10","v":64},1,407.81250000000006,407.81250000000006,0,"","",0,"","",0,"","","","",null,{"$f":"X688","v":33},null,{"$f":"TEXT(Y696,\"ddd\")","v":"zo"},"MD",{"$f":"IFERROR(HLOOKUP(Y696,[1]DATA!$A$1:$NB$5,4,0),\"\")","v":"-"},null,null,null,null,{"$f":"VLOOKUP(Y696,[1]SRI!$S$4:$Z$368,3,0)","v":0},"","",""]
["33zoZND",{"$f":"VLOOKUP($AA698,DATA!$B$3:$E$6,2,0)","v":"00:00:00"},{"$f":"VLOOKUP($AA698,DATA!$B$3:$E$6,3,0)","v":"00:00:00"},{"$f":"VLOOKUP($AA698,DATA!$B$3:$E$6,4,0)","v":3.125E-2},-3.125E-2,-3.125E-2,{"$f":"DATA!$C$9","v":0.89},{"$f":"DATA!$C$10","v":64},1,-42.1875,-42.1875,0,"","",0,"","",0,"","","","",null,{"$f":"X688","v":33},null,{"$f":"TEXT(Y696,\"ddd\")","v":"zo"},"ZND",{"$f":"IFERROR(HLOOKUP(Y696,[1]DATA!$A$1:$NB$5,5,0),\"\")","v":"-"},null,null,null,null,{"$f":"VLOOKUP(Y696,[1]SRI!$S$4:$Z$368,4,0)","v":0},"","",""]
["34maDD",{"$f":"VLOOKUP($AA699,DATA!$B$3:$E$6,2,0)","v":"06:30:00"},{"$f":"VLOOKUP($AA699,DATA!$B$3:$E$6,3,0)","v":"14:30:00"},{"$f":"VLOOKUP($AA699,DATA!$B$3:$E$6,4,0)","v":3.125E-2},0.30208333333333331,0.24236111111111108,{"$f":"DATA!$C$9","v":0.89},{"$f":"DATA!$C$10","v":64},1,327.18749999999994,407.8125,5.9722222222222225E-2,80.625,0.19770114942528735,{"$f":"TIME(INT($AD699/60),INT(MOD($AD699,60)/1),0)","v":0},"","",360.5333333333333,322,322,"","",null,{"$f":"X709","v":34},"2018-08-20",{"$f":"TEXT(Y699,\"ddd\")","v":"ma"},"DD",{"$f":"IFERROR(HLOOKUP(Y699,[1]DATA!$A$1:$NB$5,3,0),\"\")","v":"D1"},86,null,16,338,{"$f":"VLOOKUP(Y699,[1]SRI!$S$4:$Z$368,2,0)","v":10},-5.1874999999999432,0.78957854406130268,0.97301187477509898,{"$f":"IF(SUMIF(S699:S719,\">0\",K699:K719)=0,\"\",SUMIF(S699:S719,\">0\",K699:K719))","v":6117.1875},{"$f":"IF(SUM(S699:S719)=0,\"\",SUM(S699:S719))","v":4463},{"$f":"IFERROR(AL699/AK699,\"-\")","v":0.7295836526181354},{"$f":"IF(SUM(M699:M719)=0,\"0\",SUM(M699:M719))","v":1125.9375},{"$f":"IFERROR(AN699/AK699,\"-\")","v":0.18406130268199233},{"$f":"IF(SUM(P699:P719)=0,0,SUM(P699:P719))","v":0},{"$f":"IFERROR(AP699/AK699,\"-\")","v":0},{"$f":"IFERROR(AVERAGE(AJ699:AJ719),\"-\")","v":0.95132327677116657},{"$f":"IFERROR(SUMIF($AB699:$AB719,AS$5,$AJ699:$AJ719)/COUNTIFS($AB699:$AB719,AS$5,$AJ699:$AJ719,\">0\"),\"\")","v":0.98389256148085358},0.94940032863264157,0.92067694020000468,{"$f":"IFERROR((AK699-AL699-AN699-AP699),\"-\")","v":528.25},{"$f":"IFERROR((1-AM699-AO699-AQ699), \"-\")","v":8.6355044699872263E-2},{"$f":"IFERROR((AV699*$AE$2)/60,\"-\")","v":563.4666666666667},{"$f":"IFERROR(SUM(AG699:AG719),\"\")","v":260}]
["34maMD",{"$f":"VLOOKUP($AA700,DATA!$B$3:$E$6,2,0)","v":"14:30:00"},{"$f":"VLOOKUP($AA700,DATA!$B$3:$E$6,3,0)","v":"22:30:00"},{"$f":"VLOOKUP($AA700,DATA!$B$3:$E$6,4,0)","v":3.125E-2},0.30208333333333337,0.24236111111111114,{"$f":"DATA!$C$9","v":0.89},{"$f":"DATA!$C$10","v":64},1,327.18750000000006,407.81250000000006,5.9722222222222225E-2,80.625,0.19770114942528733,{"$f":"TIME(INT(AD700/60),INT(MOD(AD700,60)/1),0)","v":0},"","",360.5333333333333,322,"","",322,null,{"$f":"X709","v":34},null,{"$f":"TEXT(Y699,\"ddd\")","v":"ma"},"MD",{"$f":"IFERROR(HLOOKUP(Y699,[1]DATA!$A$1:$NB$5,4,0),\"\")","v":"D3"},86,null,16,338,{"$f":"VLOOKUP(Y699,[1]SRI!$S$4:$Z$368,3,0)","v":3},-5.1875000000000568,0.78957854406130257,0.99174766183752061]
["34maND",{"$f":"VLOOKUP($AA701,DATA!$B$3:$E$6,2,0)","v":"22:30:00"},{"$f":"VLOOKUP($AA701,DATA!$B$3:$E$6,3,0)","v":"06:30:00"},{"$f":"VLOOKUP($AA701,DATA!$B$3:$E$6,4,0)","v":3.125E-2},0.30208333333333326,0.12777777777777768,{"$f":"DATA!$C$9","v":0.89},{"$f":"DATA!$C$10","v":64},1,172.49999999999989,407.81249999999989,0.17430555555555557,235.31250000000003,0.57701149425287379,0,"","",224,196,"",196,"",null,{"$f":"X709","v":34},null,{"$f":"TEXT(Y699,\"ddd\")","v":"ma"},"ND",{"$f":"IFERROR(HLOOKUP(Y699,[1]DATA!$A$1:$NB$5,5,0),\"\")","v":"D2"},251,null,14,210,{"$f":"VLOOKUP(Y699,[1]SRI!$S$4:$Z$368,4,0)","v":0},23.500000000000114,0.48061302681992352,1]
["34diDD",{"$f":"VLOOKUP($AA702,DATA!$B$3:$E$6,2,0)","v":"06:30:00"},{"$f":"VLOOKUP($AA702,DATA!$B$3:$E$6,3,0)","v":"14:30:00"},{"$f":"VLOOKUP($AA702,DATA!$B$3:$E$6,4,0)","v":3.125E-2},0.30208333333333331,0.24027777777777776,{"$f":"DATA!$C$9","v":0.89},{"$f":"DATA!$C$10","v":64},1,324.375,407.8125,6.1805555555555558E-2,83.4375,0.2045977011494253,0,"","",337.06666666666666,302,302,"","",null,{"$f":"X709","v":34},"2018-08-21",{"$f":"TEXT(Y702,\"ddd\")","v":"di"},"DD",{"$f":"IFERROR(HLOOKUP(Y702,[1]DATA!$A$1:$NB$5,3,0),\"\")","v":"D1"},89,null,14,316,{"$f":"VLOOKUP(Y702,[1]SRI!$S$4:$Z$368,2,0)","v":12},-22.375,0.74053639846743291,0.96562261268143623]
["34diMD",{"$f":"VLOOKUP($AA703,DATA!$B$3:$E$6,2,0)","v":"14:30:00"},{"$f":"VLOOKUP($AA703,DATA!$B$3:$E$6,3,0)","v":"22:30:00"},{"$f":"VLOOKUP($AA703,DATA!$B$3:$E$6,4,0)","v":3.125E-2},0.30208333333333337,0.22291666666666671,{"$f":"DATA!$C$9","v":0.89},{"$f":"DATA!$C$10","v":64},1,300.93750000000006,407.81250000000006,7.9166666666666663E-2,106.875,0.26206896551724135,0,"","",317.86666666666667,293,"","",293,null,{"$f":"X709","v":34},null,{"$f":"TEXT(Y702,\"ddd\")","v":"di"},"MD",{"$f":"IFERROR(HLOOKUP(Y702,[1]DATA!$A$1:$NB$5,4,0),\"\")","v":"D3"},114,null,5,298,{"$f":"VLOOKUP(Y702,[1]SRI!$S$4:$Z$368,3,0)","v":15},-7.9375000000000568,0.71846743295019144,0.95493691167634687]
["34diND",{"$f":"VLOOKUP($AA704,DATA!$B$3:$E$6,2,0)","v":"22:30:00"},{"$f":"VLOOKUP($AA704,DATA!$B$3:$E$6,3,0)","v":"06:30:00"},{"$f":"VLOOKUP($AA704,DATA!$B$3:$E$6,4,0)","v":3.125E-2},0.30208333333333326,0.30208333333333326,{"$f":"DATA!$C$9","v":0.89},{"$f":"DATA!$C$10","v":64},1,407.81249999999989,407.81249999999989,0,"","",0,"","",345.6,288,"",288,"",null,{"$f":"X709","v":34},null,{"$f":"TEXT(Y702,\"ddd\")","v":"di"},"ND",{"$f":"IFERROR(HLOOKUP(Y702,[1]DATA!$A$1:$NB$5,5,0),\"\")","v":"D2"},0,null,36,324,{"$f":"VLOOKUP(Y702,[1]SRI!$S$4:$Z$368,4,0)","v":84},-119.81249999999989,0.70620689655172431,0.8044692737430168]
["34woDD",{"$f":"VLOOKUP($AA705,DATA!$B$3:$E$6,2,0)","v":"06:30:00"},{"$f":"VLOOKUP($AA705,DATA!$B$3:$E$6,3,0)","v":"14:30:00"},{"$f":"VLOOKUP($AA705,DATA!$B$3:$E$6,4,0)","v":3.125E-2},0.30208333333333331,0.29027777777777775,{"$f":"DATA!$C$9","v":0.89},{"$f":"DATA!$C$10","v":64},1,391.87499999999994,407.8125,1.1805555555555555E-2,15.9375,3.9080459770114942E-2,0,"","",411.73333333333335,369,369,"","",null,{"$f":"X709","v":34},"2018-08-22",{"$f":"TEXT(Y705,\"ddd\")","v":"wo"},"DD",{"$f":"IFERROR(HLOOKUP(Y705,[1]DATA!$A$1:$NB$5,3,0),\"\")","v":"D1"},17,null,17,386,{"$f":"VLOOKUP(Y705,[1]SRI!$S$4:$Z$368,2,0)","v":2},-22.874999999999943,0.90482758620689652,0.99516596841766036]
["34woMD",{"$f":"VLOOKUP($AA706,DATA!$B$3:$E$6,2,0)","v":"14:30:00"},{"$f":"VLOOKUP($AA706,DATA!$B$3:$E$6,3,0)","v":"22:30:00"},{"$f":"VLOOKUP($AA706,DATA!$B$3:$E$6,4,0)","v":3.125E-2},0.30208333333333337,0.21666666666666673,{"$f":"DATA!$C$9","v":0.89},{"$f":"DATA!$C$10","v":64},1,292.50000000000006,407.81250000000006,8.5416666666666655E-2,115.31249999999999,0.28275862068965507,0,"","",224,194,"","",194,null,{"$f":"X709","v":34},null,{"$f":"TEXT(Y705,\"ddd\")","v":"wo"},"MD",{"$f":"IFERROR(HLOOKUP(Y705,[1]DATA!$A$1:$NB$5,4,0),\"\")","v":"D3"},123,null,16,210,{"$f":"VLOOKUP(Y705,[1]SRI!$S$4:$Z$368,3,0)","v":80},-98.500000000000057,0.47570881226053635,0.73684210526315785]
["34woND",{"$f":"VLOOKUP($AA707,DATA!$B$3:$E$6,2,0)","v":"22:30:00"},{"$f":"VLOOKUP($AA707,DATA!$B$3:$E$6,3,0)","v":"06:30:00"},{"$f":"VLOOKUP($AA707,DATA!$B$3:$E$6,4,0)","v":3.125E-2},0.30208333333333326,0.23194444444444437,{"$f":"DATA!$C$9","v":0.89},{"$f":"DATA!$C$10","v":64},1,313.12499999999989,407.81249999999989,7.013888888888889E-2,94.6875,0.23218390804597708,0,"","",349.86666666666667,295,"",295,"",null,{"$f":"X709","v":34},null,{"$f":"TEXT(Y705,\"ddd\")","v":"wo"},"ND",{"$f":"IFERROR(HLOOKUP(Y705,[1]DATA!$A$1:$NB$5,5,0),\"\")","v":"D2"},101,null,33,328,{"$f":"VLOOKUP(Y705,[1]SRI!$S$4:$Z$368,4,0)","v":2},-18.124999999999886,0.72337164750957872,0.99431602879878744]
["34doDD",{"$f":"VLOOKUP($AA708,DATA!$B$3:$E$6,2,0)","v":"06:30:00"},{"$f":"VLOOKUP($AA708,DATA!$B$3:$E$6,3,0)","v":"14:30:00"},{"$f":"VLOOKUP($AA708,DATA!$B$3:$E$6,4,0)","v":3.125E-2},0.30208333333333331,0.2409722222222222,{"$f":"DATA!$C$9","v":0.89},{"$f":"DATA!$C$10","v":64},1,325.31249999999994,407.8125,6.1111111111111116E-2,82.5,0.20229885057471264,0,"","",330.66666666666669,301,301,"","",null,{"$f":"X709","v":34},"2018-08-23",{"$f":"TEXT(Y708,\"ddd\")","v":"do"},"DD",{"$f":"IFERROR(HLOOKUP(Y708,[1]DATA!$A$1:$NB$5,3,0),\"\")","v":"D1"},88,null,9,310,{"$f":"VLOOKUP(Y708,[1]SRI!$S$4:$Z$368,2,0)","v":2},-24.312499999999943,0.73808429118773944,0.9939879759519038]
["34doMD",{"$f":"VLOOKUP($AA709,DATA!$B$3:$E$6,2,0)","v":"14:30:00"},{"$f":"VLOOKUP($AA709,DATA!$B$3:$E$6,3,0)","v":"22:30:00"},{"$f":"VLOOKUP($AA709,DATA!$B$3:$E$6,4,0)","v":3.125E-2},0.30208333333333337,0.21527777777777779,{"$f":"DATA!$C$9","v":0.89},{"$f":"DATA!$C$10","v":64},1,290.625,407.81250000000006,8.6805555555555566E-2,117.18750000000001,0.28735632183908044,0,"","",340.26666666666665,305,"","",305,null,{"$f":"WEEKNUM($Y699)","v":34},null,{"$f":"TEXT(Y708,\"ddd\")","v":"do"},"MD",{"$f":"IFERROR(HLOOKUP(Y708,[1]DATA!$A$1:$NB$5,4,0),\"\")","v":"D3"},125,null,14,319,{"$f":"VLOOKUP(Y708,[1]SRI!$S$4:$Z$368,3,0)","v":3},14.375,0.74789272030651333,0.99126043892017868]
["34doND",{"$f":"VLOOKUP($AA710,DATA!$B$3:$E$6,2,0)","v":"22:30:00"},{"$f":"VLOOKUP($AA710,DATA!$B$3:$E$6,3,0)","v":"06:30:00"},{"$f":"VLOOKUP($AA710,DATA!$B$3:$E$6,4,0)","v":3.125E-2},0.30208333333333326,0.24374999999999994,{"$f":"DATA!$C$9","v":0.89},{"$f":"DATA!$C$10","v":64},1,{"$f":"F710*86400/H710*I710","v":329.06249999999994},{"$f":"E710*86400/H710","v":407.81249999999989},5.8333333333333327E-2,78.749999999999986,0.19310344827586209,0,"","",{"$f":"AF710*AG$2","v":329.6},{"$f":"IF(AF710-AE710=0,\"\",AF710-AE710)","v":299},"",299,"",null,{"$f":"X709","v":34},null,{"$f":"TEXT(Y708,\"ddd\")","v":"do"},"ND",{"$f":"IFERROR(HLOOKUP(Y708,[1]DATA!$A$1:$NB$5,5,0),\"\")","v":"D2"},84,null,10,309,{"$f":"VLOOKUP(Y708,[1]SRI!$S$4:$Z$368,4,0)","v":18},{"$f":"IFERROR(S710-J710,\"\")","v":-30.062499999999943},{"$f":"IFERROR(IF(S710/(E710*86400/H710)<=0,\"\",S710/(E710*86400/H710)),\"\")","v":0.73318007662835272},{"$f":"IFERROR(R710/(R710+AG710),\"\")","v":0.94821634062140392}]
["34vrDD",{"$f":"VLOOKUP($AA711,DATA!$B$3:$E$6,2,0)","v":"06:30:00"},{"$f":"VLOOKUP($AA711,DATA!$B$3:$E$6,3,0)","v":"14:30:00"},{"$f":"VLOOKUP($AA711,DATA!$B$3:$E$6,4,0)","v":3.125E-2},0.30208333333333331,0.29722222222222222,{"$f":"DATA!$C$9","v":0.89},{"$f":"DATA!$C$10","v":64},1,401.25,407.8125,{"$f":"TIME(INT($AC711/60),INT(MOD($AC711,60)/1),0)","v":4.8611111111111112E-3},{"$f":"IF($L711*86400/$H711=0,\"\",$L711*86400/$H711)","v":6.5625},{"$f":"IFERROR($M711/$K711,\"\")","v":1.6091954022988506E-2},0,"",{"$f":"IFERROR($P711/$K711,\"\")","v":""},357.33333333333331,326,{"$f":"IF(IF($AB711=\"D1\",$S711,\"\")=0,\"\",IF($AB711=\"D1\",$S711,\"\"))","v":326},{"$f":"IF(IF($AB711=\"D2\",$S711,\"\")=0,\"\",IF($AB711=\"D2\",$S711,\"\"))","v":""},{"$f":"IF(IF($AB711=\"D3\",$S711,\"\")=0,\"\",IF($AB711=\"D3\",$S711,\"\"))","v":""},null,{"$f":"X709","v":34},"2018-08-24",{"$f":"TEXT(Y711,\"ddd\")","v":"vr"},"DD",{"$f":"IFERROR(HLOOKUP(Y711,[1]DATA!$A$1:$NB$5,3,0),\"\")","v":"D1"},7,null,9,335,{"$f":"VLOOKUP(Y711,[1]SRI!$S$4:$Z$368,2,0)","v":3},-75.25,0.79938697318007668,0.9916743755781684]
["34vrMD",{"$f":"VLOOKUP($AA712,DATA!$B$3:$E$6,2,0)","v":"14:30:00"},{"$f":"VLOOKUP($AA712,DATA!$B$3:$E$6,3,0)","v":"22:30:00"},{"$f":"VLOOKUP($AA712,DATA!$B$3:$E$6,4,0)","v":3.125E-2},0.30208333333333337,0.30208333333333337,{"$f":"DATA!$C$9","v":0.89},{"$f":"DATA!$C$10","v":64},1,407.81250000000006,407.81250000000006,0,"","",0,"","",338.13333333333333,304,"","",304,null,{"$f":"X709","v":34},null,{"$f":"TEXT(Y711,\"ddd\")","v":"vr"},"MD",{"$f":"IFERROR(HLOOKUP(Y711,[1]DATA!$A$1:$NB$5,4,0),\"\")","v":"D3"},0,null,13,317,{"$f":"VLOOKUP(Y711,[1]SRI!$S$4:$Z$368,3,0)","v":26},-103.81250000000006,0.74544061302681985,0.9285975833028195]
["34vrND",{"$f":"VLOOKUP($AA713,DATA!$B$3:$E$6,2,0)","v":"22:30:00"},{"$f":"VLOOKUP($AA713,DATA!$B$3:$E$6,3,0)","v":"06:30:00"},{"$f":"VLOOKUP($AA713,DATA!$B$3:$E$6,4,0)","v":3.125E-2},0.30208333333333326,0.28124999999999994,{"$f":"DATA!$C$9","v":0.89},{"$f":"DATA!$C$10","v":64},1,379.68749999999994,407.81249999999989,2.0833333333333332E-2,28.125,6.8965517241379323E-2,0,"","",394.66666666666669,347,"",347,"",null,{"$f":"X709","v":34},null,{"$f":"TEXT(Y711,\"ddd\")","v":"vr"},"ND",{"$f":"IFERROR(HLOOKUP(Y711,[1]DATA!$A$1:$NB$5,5,0),\"\")","v":"D2"},30,null,23,370,{"$f":"VLOOKUP(Y711,[1]SRI!$S$4:$Z$368,4,0)","v":0},-32.687499999999943,0.85088122605364014,1]
["34zaDD",{"$f":"VLOOKUP($AA714,DATA!$B$3:$E$6,2,0)","v":"06:30:00"},{"$f":"VLOOKUP($AA714,DATA!$B$3:$E$6,3,0)","v":"14:30:00"},{"$f":"VLOOKUP($AA714,DATA!$B$3:$E$6,4,0)","v":3.125E-2},0.30208333333333331,0.30208333333333331,{"$f":"DATA!$C$9","v":0.89},{"$f":"DATA!$C$10","v":64},1,407.8125,407.8125,0,"","",0,"","",0,"","","","",null,{"$f":"X709","v":34},"2018-08-25",{"$f":"TEXT(Y714,\"ddd\")","v":"za"},"DD",{"$f":"IFERROR(HLOOKUP(Y714,[1]DATA!$A$1:$NB$5,3,0),\"\")","v":"D1"},null,null,null,null,{"$f":"VLOOKUP(Y714,[1]SRI!$S$4:$Z$368,2,0)","v":0},"","",""]
["34zaMD",{"$f":"VLOOKUP($AA715,DATA!$B$3:$E$6,2,0)","v":"14:30:00"},{"$f":"VLOOKUP($AA715,DATA!$B$3:$E$6,3,0)","v":"22:30:00"},{"$f":"VLOOKUP($AA715,DATA!$B$3:$E$6,4,0)","v":3.125E-2},0.30208333333333337,0.30208333333333337,{"$f":"DATA!$C$9","v":0.89},{"$f":"DATA!$C$10","v":64},1,407.81250000000006,407.81250000000006,0,"","",0,"","",0,"","","","",null,{"$f":"X709","v":34},null,{"$f":"TEXT(Y714,\"ddd\")","v":"za"},"MD",{"$f":"IFERROR(HLOOKUP(Y714,[1]DATA!$A$1:$NB$5,4,0),\"\")","v":"-"},null,null,null,null,{"$f":"VLOOKUP(Y714,[1]SRI!$S$4:$Z$368,3,0)","v":0},"","",""]
["34zaND",{"$f":"VLOOKUP($AA716,DATA!$B$3:$E$6,2,0)","v":"22:30:00"},{"$f":"VLOOKUP($AA716,DATA!$B$3:$E$6,3,0)","v":"06:30:00"},{"$f":"VLOOKUP($AA716,DATA!$B$3:$E$6,4,0)","v":3.125E-2},0.30208333333333326,0.30208333333333326,{"$f":"DATA!$C$9","v":0.89},{"$f":"DATA!$C$10","v":64},1,407.81249999999989,407.81249999999989,0,"","",0,"","",0,"","","","",null,{"$f":"X709","v":34},null,{"$f":"TEXT(Y714,\"ddd\")","v":"za"},"ND",{"$f":"IFERROR(HLOOKUP(Y714,[1]DATA!$A$1:$NB$5,5,0),\"\")","v":"-"},null,null,null,null,{"$f":"VLOOKUP(Y714,[1]SRI!$S$4:$Z$368,4,0)","v":0},"","",""]
["34zoDD",{"$f":"VLOOKUP($AA717,DATA!$B$3:$E$6,2,0)","v":"06:30:00"},{"$f":"VLOOKUP($AA717,DATA!$B$3:$E$6,3,0)","v":"14:30:00"},{"$f":"VLOOKUP($AA717,DATA!$B$3:$E$6,4,0)","v":3.125E-2},0.30208333333333331,0.30208333333333331,{"$f":"DATA!$C$9","v":0.89},{"$f":"DATA!$C$10","v":64},1,407.8125,407.8125,0,"","",0,"","",0,"","","","",null,{"$f":"X709","v":34},"2018-08-26",{"$f":"TEXT(Y717,\"ddd\")","v":"zo"},"DD",{"$f":"IFERROR(HLOOKUP(Y717,[1]DATA!$A$1:$NB$5,3,0),\"\")","v":"-"},null,null,null,null,{"$f":"VLOOKUP(Y717,[1]SRI!$S$4:$Z$368,2,0)","v":0},"","",""]
["34zoMD",{"$f":"VLOOKUP($AA718,DATA!$B$3:$E$6,2,0)","v":"14:30:00"},{"$f":"VLOOKUP($AA718,DATA!$B$3:$E$6,3,0)","v":"22:30:00"},{"$f":"VLOOKUP($AA718,DATA!$B$3:$E$6,4,0)","v":3.125E-2},0.30208333333333337,0.30208333333333337,{"$f":"DATA!$C$9","v":0.89},{"$f":"DATA!$C$10","v":64},1,407.81250000000006,407.81250000000006,0,"","",0,"","",0,"","","","",null,{"$f":"X709","v":34},null,{"$f":"TEXT(Y717,\"ddd\")","v":"zo"},"MD",{"$f":"IFERROR(HLOOKUP(Y717,[1]DATA!$A$1:$NB$5,4,0),\"\")","v":"-"},null,null,null,null,{"$f":"VLOOKUP(Y717,[1]SRI!$S$4:$Z$368,3,0)","v":0},"","",""]
["34zoZND",{"$f":"VLOOKUP($AA719,DATA!$B$3:$E$6,2,0)","v":"00:00:00"},{"$f":"VLOOKUP($AA719,DATA!$B$3:$E$6,3,0)","v":"00:00:00"},{"$f":"VLOOKUP($AA719,DATA!$B$3:$E$6,4,0)","v":3.125E-2},-3.125E-2,-3.125E-2,{"$f":"DATA!$C$9","v":0.89},{"$f":"DATA!$C$10","v":64},1,-42.1875,-42.1875,0,"","",0,"","",0,"","","","",null,{"$f":"X709","v":34},null,{"$f":"TEXT(Y717,\"ddd\")","v":"zo"},"ZND",{"$f":"IFERROR(HLOOKUP(Y717,[1]DATA!$A$1:$NB$5,5,0),\"\")","v":"-"},null,null,null,null,{"$f":"VLOOKUP(Y717,[1]SRI!$S$4:$Z$368,4,0)","v":0},"","",""]
["35maDD",{"$f":"VLOOKUP($AA720,DATA!$B$3:$E$6,2,0)","v":"06:30:00"},{"$f":"VLOOKUP($AA720,DATA!$B$3:$E$6,3,0)","v":"14:30:00"},{"$f":"VLOOKUP($AA720,DATA!$B$3:$E$6,4,0)","v":3.125E-2},0.30208333333333331,0.16111111111111109,{"$f":"DATA!$C$9","v":0.89},{"$f":"DATA!$C$10","v":64},1,217.49999999999997,407.8125,0.14097222222222222,190.3125,0.46666666666666667,{"$f":"TIME(INT($AD720/60),INT(MOD($AD720,60)/1),0)","v":0},"","",212.26666666666665,193,"","",193,null,{"$f":"X730","v":35},"2018-08-27",{"$f":"TEXT(Y720,\"ddd\")","v":"ma"},"DD",{"$f":"IFERROR(HLOOKUP(Y720,[1]DATA!$A$1:$NB$5,3,0),\"\")","v":"D3"},203,null,6,199,{"$f":"VLOOKUP(Y720,[1]SRI!$S$4:$Z$368,2,0)","v":15},-24.499999999999972,0.47325670498084293,0.93399823995306541,{"$f":"IF(SUMIF(S720:S740,\">0\",K720:K740)=0,\"\",SUMIF(S720:S740,\">0\",K720:K740))","v":5709.375},{"$f":"IF(SUM(S720:S740)=0,\"\",SUM(S720:S740))","v":4260},{"$f":"IFERROR(AL720/AK720,\"-\")","v":0.74614121510673237},{"$f":"IF(SUM(M720:M740)=0,\"0\",SUM(M720:M740))","v":647.8125},{"$f":"IFERROR(AN720/AK720,\"-\")","v":0.11346469622331691},{"$f":"IF(SUM(P720:P740)=0,0,SUM(P720:P740))","v":0},{"$f":"IFERROR(AP720/AK720,\"-\")","v":0},{"$f":"IFERROR(AVERAGE(AJ720:AJ740),\"-\")","v":0.92989179260291122},{"$f":"IFERROR(SUMIF($AB720:$AB740,AS$5,$AJ720:$AJ740)/COUNTIFS($AB720:$AB740,AS$5,$AJ720:$AJ740,\">0\"),\"\")","v":0.94548803557473093},0.94072087630979162,0.90658571451857539,{"$f":"IFERROR((AK720-AL720-AN720-AP720),\"-\")","v":801.5625},{"$f":"IFERROR((1-AM720-AO720-AQ720), \"-\")","v":0.14039408866995073},{"$f":"IFERROR((AV720*$AE$2)/60,\"-\")","v":855},{"$f":"IFERROR(SUM(AG720:AG740),\"\")","v":382}]
["35maMD",{"$f":"VLOOKUP($AA721,DATA!$B$3:$E$6,2,0)","v":"14:30:00"},{"$f":"VLOOKUP($AA721,DATA!$B$3:$E$6,3,0)","v":"22:30:00"},{"$f":"VLOOKUP($AA721,DATA!$B$3:$E$6,4,0)","v":3.125E-2},0.30208333333333337,0.29791666666666672,{"$f":"DATA!$C$9","v":0.89},{"$f":"DATA!$C$10","v":64},1,402.18750000000006,407.81250000000006,4.1666666666666666E-3,5.625,1.379310344827586E-2,{"$f":"TIME(INT(AD721/60),INT(MOD(AD721,60)/1),0)","v":0},"","",411.73333333333335,360,"",360,"",null,{"$f":"X730","v":35},null,{"$f":"TEXT(Y720,\"ddd\")","v":"ma"},"MD",{"$f":"IFERROR(HLOOKUP(Y720,[1]DATA!$A$1:$NB$5,4,0),\"\")","v":"D2"},6,null,26,386,{"$f":"VLOOKUP(Y720,[1]SRI!$S$4:$Z$368,3,0)","v":34},-42.187500000000057,0.88275862068965505,0.92372120849536343]
["35maND",{"$f":"VLOOKUP($AA722,DATA!$B$3:$E$6,2,0)","v":"22:30:00"},{"$f":"VLOOKUP($AA722,DATA!$B$3:$E$6,3,0)","v":"06:30:00"},{"$f":"VLOOKUP($AA722,DATA!$B$3:$E$6,4,0)","v":3.125E-2},0.30208333333333326,0.2944444444444444,{"$f":"DATA!$C$9","v":0.89},{"$f":"DATA!$C$10","v":64},1,397.49999999999994,407.81249999999989,7.6388888888888886E-3,10.3125,2.5287356321839087E-2,0,"","",417.06666666666666,379,379,"","",null,{"$f":"X730","v":35},null,{"$f":"TEXT(Y720,\"ddd\")","v":"ma"},"ND",{"$f":"IFERROR(HLOOKUP(Y720,[1]DATA!$A$1:$NB$5,5,0),\"\")","v":"D1"},11,null,12,391,{"$f":"VLOOKUP(Y720,[1]SRI!$S$4:$Z$368,4,0)","v":6},-18.499999999999943,0.92934865900383168,0.98581783800819411]
["35diDD",{"$f":"VLOOKUP($AA723,DATA!$B$3:$E$6,2,0)","v":"06:30:00"},{"$f":"VLOOKUP($AA723,DATA!$B$3:$E$6,3,0)","v":"14:30:00"},{"$f":"VLOOKUP($AA723,DATA!$B$3:$E$6,4,0)","v":3.125E-2},0.30208333333333331,0.30208333333333331,{"$f":"DATA!$C$9","v":0.89},{"$f":"DATA!$C$10","v":64},1,407.8125,407.8125,0,"","",0,"","",290.13333333333333,255,"","",255,null,{"$f":"X730","v":35},"2018-08-28",{"$f":"TEXT(Y723,\"ddd\")","v":"di"},"DD",{"$f":"IFERROR(HLOOKUP(Y723,[1]DATA!$A$1:$NB$5,3,0),\"\")","v":"D3"},0,null,17,272,{"$f":"VLOOKUP(Y723,[1]SRI!$S$4:$Z$368,2,0)","v":147},-152.8125,0.62528735632183907,0.66371816379441817]
["35diMD",{"$f":"VLOOKUP($AA724,DATA!$B$3:$E$6,2,0)","v":"14:30:00"},{"$f":"VLOOKUP($AA724,DATA!$B$3:$E$6,3,0)","v":"22:30:00"},{"$f":"VLOOKUP($AA724,DATA!$B$3:$E$6,4,0)","v":3.125E-2},0.30208333333333337,0.29722222222222228,{"$f":"DATA!$C$9","v":0.89},{"$f":"DATA!$C$10","v":64},1,401.25000000000006,407.81250000000006,4.8611111111111112E-3,6.5625,1.6091954022988502E-2,0,"","",412.8,356,"",356,"",null,{"$f":"X730","v":35},null,{"$f":"TEXT(Y723,\"ddd\")","v":"di"},"MD",{"$f":"IFERROR(HLOOKUP(Y723,[1]DATA!$A$1:$NB$5,4,0),\"\")","v":"D2"},7,null,31,387,{"$f":"VLOOKUP(Y723,[1]SRI!$S$4:$Z$368,3,0)","v":3},-45.250000000000057,0.87295019157088105,0.99278499278499277]
["35diND",{"$f":"VLOOKUP($AA725,DATA!$B$3:$E$6,2,0)","v":"22:30:00"},{"$f":"VLOOKUP($AA725,DATA!$B$3:$E$6,3,0)","v":"06:30:00"},{"$f":"VLOOKUP($AA725,DATA!$B$3:$E$6,4,0)","v":3.125E-2},0.30208333333333326,0.29166666666666657,{"$f":"DATA!$C$9","v":0.89},{"$f":"DATA!$C$10","v":64},1,393.74999999999989,407.81249999999989,1.0416666666666666E-2,14.0625,3.4482758620689662E-2,0,"","",397.86666666666667,360,360,"","",null,{"$f":"X730","v":35},null,{"$f":"TEXT(Y723,\"ddd\")","v":"di"},"ND",{"$f":"IFERROR(HLOOKUP(Y723,[1]DATA!$A$1:$NB$5,5,0),\"\")","v":"D1"},15,null,13,373,{"$f":"VLOOKUP(Y723,[1]SRI!$S$4:$Z$368,4,0)","v":18},-33.749999999999886,0.88275862068965538,0.95671689644116709]
["35woDD",{"$f":"VLOOKUP($AA726,DATA!$B$3:$E$6,2,0)","v":"06:30:00"},{"$f":"VLOOKUP($AA726,DATA!$B$3:$E$6,3,0)","v":"14:30:00"},{"$f":"VLOOKUP($AA726,DATA!$B$3:$E$6,4,0)","v":3.125E-2},0.30208333333333331,0.29305555555555551,{"$f":"DATA!$C$9","v":0.89},{"$f":"DATA!$C$10","v":64},1,395.62499999999994,407.8125,9.0277777777777787E-3,12.187500000000002,2.9885057471264371E-2,0,"","",259.2,243,"","",243,null,{"$f":"X730","v":35},"2018-08-29",{"$f":"TEXT(Y726,\"ddd\")","v":"wo"},"DD",{"$f":"IFERROR(HLOOKUP(Y726,[1]DATA!$A$1:$NB$5,3,0),\"\")","v":"D3"},13,null,0,243,{"$f":"VLOOKUP(Y726,[1]SRI!$S$4:$Z$368,2,0)","v":6},-152.62499999999994,0.59586206896551719,0.9773755656108597]
["35woMD",{"$f":"VLOOKUP($AA727,DATA!$B$3:$E$6,2,0)","v":"14:30:00"},{"$f":"VLOOKUP($AA727,DATA!$B$3:$E$6,3,0)","v":"22:30:00"},{"$f":"VLOOKUP($AA727,DATA!$B$3:$E$6,4,0)","v":3.125E-2},0.30208333333333337,0.30208333333333337,{"$f":"DATA!$C$9","v":0.89},{"$f":"DATA!$C$10","v":64},1,407.81250000000006,407.81250000000006,0,"","",0,"","",362.66666666666669,312,"",312,"",null,{"$f":"X730","v":35},null,{"$f":"TEXT(Y726,\"ddd\")","v":"wo"},"MD",{"$f":"IFERROR(HLOOKUP(Y726,[1]DATA!$A$1:$NB$5,4,0),\"\")","v":"D2"},0,null,28,340,{"$f":"VLOOKUP(Y726,[1]SRI!$S$4:$Z$368,3,0)","v":65},-95.812500000000057,0.76505747126436774,0.848012470771629]
["35woND",{"$f":"VLOOKUP($AA728,DATA!$B$3:$E$6,2,0)","v":"22:30:00"},{"$f":"VLOOKUP($AA728,DATA!$B$3:$E$6,3,0)","v":"06:30:00"},{"$f":"VLOOKUP($AA728,DATA!$B$3:$E$6,4,0)","v":3.125E-2},0.30208333333333326,0.25694444444444436,{"$f":"DATA!$C$9","v":0.89},{"$f":"DATA!$C$10","v":64},1,346.87499999999989,407.81249999999989,4.5138888888888888E-2,60.9375,0.14942528735632188,0,"","",279.46666666666664,251,251,"","",null,{"$f":"X730","v":35},null,{"$f":"TEXT(Y726,\"ddd\")","v":"wo"},"ND",{"$f":"IFERROR(HLOOKUP(Y726,[1]DATA!$A$1:$NB$5,5,0),\"\")","v":"D1"},65,null,11,262,{"$f":"VLOOKUP(Y726,[1]SRI!$S$4:$Z$368,4,0)","v":13},-95.874999999999886,0.6154789272030653,0.95555049008434012]
["35doDD",{"$f":"VLOOKUP($AA729,DATA!$B$3:$E$6,2,0)","v":"06:30:00"},{"$f":"VLOOKUP($AA729,DATA!$B$3:$E$6,3,0)","v":"14:30:00"},{"$f":"VLOOKUP($AA729,DATA!$B$3:$E$6,4,0)","v":3.125E-2},0.30208333333333331,0.21527777777777773,{"$f":"DATA!$C$9","v":0.89},{"$f":"DATA!$C$10","v":64},1,290.62499999999994,407.8125,8.6805555555555566E-2,117.18750000000001,0.2873563218390805,0,"","",308.26666666666665,266,"","",266,null,{"$f":"X730","v":35},"2018-08-30",{"$f":"TEXT(Y729,\"ddd\")","v":"do"},"DD",{"$f":"IFERROR(HLOOKUP(Y729,[1]DATA!$A$1:$NB$5,3,0),\"\")","v":"D3"},125,null,23,289,{"$f":"VLOOKUP(Y729,[1]SRI!$S$4:$Z$368,2,0)","v":11},-24.624999999999943,0.65226053639846748,0.96554604301524327]
["35doMD",{"$f":"VLOOKUP($AA730,DATA!$B$3:$E$6,2,0)","v":"14:30:00"},{"$f":"VLOOKUP($AA730,DATA!$B$3:$E$6,3,0)","v":"22:30:00"},{"$f":"VLOOKUP($AA730,DATA!$B$3:$E$6,4,0)","v":3.125E-2},0.30208333333333337,0.28333333333333338,{"$f":"DATA!$C$9","v":0.89},{"$f":"DATA!$C$10","v":64},1,382.50000000000006,407.81250000000006,1.8749999999999999E-2,25.3125,6.2068965517241372E-2,0,"","",423.46666666666664,356,"",356,"",null,{"$f":"WEEKNUM($Y720)","v":35},null,{"$f":"TEXT(Y729,\"ddd\")","v":"do"},"MD",{"$f":"IFERROR(HLOOKUP(Y729,[1]DATA!$A$1:$NB$5,4,0),\"\")","v":"D2"},27,null,41,397,{"$f":"VLOOKUP(Y729,[1]SRI!$S$4:$Z$368,3,0)","v":8},-26.500000000000057,0.87295019157088105,0.98145859085290477]
["35doND",{"$f":"VLOOKUP($AA731,DATA!$B$3:$E$6,2,0)","v":"22:30:00"},{"$f":"VLOOKUP($AA731,DATA!$B$3:$E$6,3,0)","v":"06:30:00"},{"$f":"VLOOKUP($AA731,DATA!$B$3:$E$6,4,0)","v":3.125E-2},0.30208333333333326,0.23194444444444437,{"$f":"DATA!$C$9","v":0.89},{"$f":"DATA!$C$10","v":64},1,313.12499999999989,407.81249999999989,7.013888888888889E-2,94.6875,0.23218390804597708,0,"","",281.60000000000002,252,252,"","",null,{"$f":"X730","v":35},null,{"$f":"TEXT(Y729,\"ddd\")","v":"do"},"ND",{"$f":"IFERROR(HLOOKUP(Y729,[1]DATA!$A$1:$NB$5,5,0),\"\")","v":"D1"},101,null,12,264,{"$f":"VLOOKUP(Y729,[1]SRI!$S$4:$Z$368,4,0)","v":37},-61.124999999999886,0.61793103448275877,0.88386691776522286]
["35vrDD",{"$f":"VLOOKUP($AA732,DATA!$B$3:$E$6,2,0)","v":"06:30:00"},{"$f":"VLOOKUP($AA732,DATA!$B$3:$E$6,3,0)","v":"14:30:00"},{"$f":"VLOOKUP($AA732,DATA!$B$3:$E$6,4,0)","v":3.125E-2},{"$f":"(C732-B732+(B732>C732))-D732","v":0.30208333333333331},{"$f":"E732-O732-L732","v":0.2631944444444444},{"$f":"DATA!$C$9","v":0.89},{"$f":"DATA!$C$10","v":64},1,355.31249999999994,407.8125,3.888888888888889E-2,52.5,0.12873563218390804,0,"","",386.13333333333333,349,"","",349,null,{"$f":"X730","v":35},"2018-08-31",{"$f":"TEXT(Y732,\"ddd\")","v":"vr"},"DD",{"$f":"IFERROR(HLOOKUP(Y732,[1]DATA!$A$1:$NB$5,3,0),\"\")","v":"D3"},56,null,13,362,{"$f":"VLOOKUP(Y732,[1]SRI!$S$4:$Z$368,2,0)","v":3},-6.3124999999999432,0.85578544061302686,0.99229056021929074]
["35vrMD",{"$f":"VLOOKUP($AA733,DATA!$B$3:$E$6,2,0)","v":"14:30:00"},{"$f":"VLOOKUP($AA733,DATA!$B$3:$E$6,3,0)","v":"22:30:00"},{"$f":"VLOOKUP($AA733,DATA!$B$3:$E$6,4,0)","v":3.125E-2},0.30208333333333337,0.2590277777777778,{"$f":"DATA!$C$9","v":0.89},{"$f":"DATA!$C$10","v":64},1,349.68750000000006,407.81250000000006,4.3055555555555562E-2,58.125000000000007,0.14252873563218391,0,"","",361.6,328,"",328,"",null,{"$f":"X730","v":35},null,{"$f":"TEXT(Y732,\"ddd\")","v":"vr"},"MD",{"$f":"IFERROR(HLOOKUP(Y732,[1]DATA!$A$1:$NB$5,4,0),\"\")","v":"D2"},62,null,11,339,{"$f":"VLOOKUP(Y732,[1]SRI!$S$4:$Z$368,3,0)","v":16},-21.687500000000057,0.80429118773946351,0.9576271186440678]
["35vrND",{"$f":"VLOOKUP($AA734,DATA!$B$3:$E$6,2,0)","v":"22:30:00"},{"$f":"VLOOKUP($AA734,DATA!$B$3:$E$6,3,0)","v":"06:30:00"},{"$f":"VLOOKUP($AA734,DATA!$B$3:$E$6,4,0)","v":3.125E-2},0.30208333333333326,0.30208333333333326,{"$f":"DATA!$C$9","v":0.89},{"$f":"DATA!$C$10","v":64},1,407.81249999999989,407.81249999999989,0,"","",0,"","",0,"","","","",null,{"$f":"X730","v":35},null,{"$f":"TEXT(Y732,\"ddd\")","v":"vr"},"ND",{"$f":"IFERROR(HLOOKUP(Y732,[1]DATA!$A$1:$NB$5,5,0),\"\")","v":"D2"},null,null,null,null,{"$f":"VLOOKUP(Y732,[1]SRI!$S$4:$Z$368,4,0)","v":0},"","",""]
["35zaDD",{"$f":"VLOOKUP($AA735,DATA!$B$3:$E$6,2,0)","v":"06:30:00"},{"$f":"VLOOKUP($AA735,DATA!$B$3:$E$6,3,0)","v":"14:30:00"},{"$f":"VLOOKUP($AA735,DATA!$B$3:$E$6,4,0)","v":3.125E-2},0.30208333333333331,0.30208333333333331,{"$f":"DATA!$C$9","v":0.89},{"$f":"DATA!$C$10","v":64},1,407.8125,407.8125,0,"","",0,"","",0,"","","","",null,{"$f":"X730","v":35},"2018-09-01",{"$f":"TEXT(Y735,\"ddd\")","v":"za"},"DD",{"$f":"IFERROR(HLOOKUP(Y735,[1]DATA!$A$1:$NB$5,3,0),\"\")","v":"D3"},null,null,null,null,{"$f":"VLOOKUP(Y735,[1]SRI!$S$4:$Z$368,2,0)","v":0},"","",""]
["35zaMD",{"$f":"VLOOKUP($AA736,DATA!$B$3:$E$6,2,0)","v":"14:30:00"},{"$f":"VLOOKUP($AA736,DATA!$B$3:$E$6,3,0)","v":"22:30:00"},{"$f":"VLOOKUP($AA736,DATA!$B$3:$E$6,4,0)","v":3.125E-2},0.30208333333333337,0.30208333333333337,{"$f":"DATA!$C$9","v":0.89},{"$f":"DATA!$C$10","v":64},1,407.81250000000006,407.81250000000006,0,"","",0,"","",0,"","","","",null,{"$f":"X730","v":35},null,{"$f":"TEXT(Y735,\"ddd\")","v":"za"},"MD",{"$f":"IFERROR(HLOOKUP(Y735,[1]DATA!$A$1:$NB$5,4,0),\"\")","v":"-"},null,null,null,null,{"$f":"VLOOKUP(Y735,[1]SRI!$S$4:$Z$368,3,0)","v":0},"","",""]
["35zaND",{"$f":"VLOOKUP($AA737,DATA!$B$3:$E$6,2,0)","v":"22:30:00"},{"$f":"VLOOKUP($AA737,DATA!$B$3:$E$6,3,0)","v":"06:30:00"},{"$f":"VLOOKUP($AA737,DATA!$B$3:$E$6,4,0)","v":3.125E-2},0.30208333333333326,0.30208333333333326,{"$f":"DATA!$C$9","v":0.89},{"$f":"DATA!$C$10","v":64},1,407.81249999999989,407.81249999999989,0,"","",0,"","",0,"","","","",null,{"$f":"X730","v":35},null,{"$f":"TEXT(Y735,\"ddd\")","v":"za"},"ND",{"$f":"IFERROR(HLOOKUP(Y735,[1]DATA!$A$1:$NB$5,5,0),\"\")","v":"-"},null,null,null,null,{"$f":"VLOOKUP(Y735,[1]SRI!$S$4:$Z$368,4,0)","v":0},"","",""]
["35zoDD",{"$f":"VLOOKUP($AA738,DATA!$B$3:$E$6,2,0)","v":"06:30:00"},{"$f":"VLOOKUP($AA738,DATA!$B$3:$E$6,3,0)","v":"14:30:00"},{"$f":"VLOOKUP($AA738,DATA!$B$3:$E$6,4,0)","v":3.125E-2},0.30208333333333331,0.30208333333333331,{"$f":"DATA!$C$9","v":0.89},{"$f":"DATA!$C$10","v":64},1,407.8125,407.8125,0,"","",0,"","",0,"","","","",null,{"$f":"X730","v":35},"2018-09-02",{"$f":"TEXT(Y738,\"ddd\")","v":"zo"},"DD",{"$f":"IFERROR(HLOOKUP(Y738,[1]DATA!$A$1:$NB$5,3,0),\"\")","v":"-"},null,null,null,null,{"$f":"VLOOKUP(Y738,[1]SRI!$S$4:$Z$368,2,0)","v":0},"","",""]
["35zoMD",{"$f":"VLOOKUP($AA739,DATA!$B$3:$E$6,2,0)","v":"14:30:00"},{"$f":"VLOOKUP($AA739,DATA!$B$3:$E$6,3,0)","v":"22:30:00"},{"$f":"VLOOKUP($AA739,DATA!$B$3:$E$6,4,0)","v":3.125E-2},0.30208333333333337,0.30208333333333337,{"$f":"DATA!$C$9","v":0.89},{"$f":"DATA!$C$10","v":64},1,407.81250000000006,407.81250000000006,0,"","",0,"","",0,"","","","",null,{"$f":"X730","v":35},null,{"$f":"TEXT(Y738,\"ddd\")","v":"zo"},"MD",{"$f":"IFERROR(HLOOKUP(Y738,[1]DATA!$A$1:$NB$5,4,0),\"\")","v":"-"},null,null,null,null,{"$f":"VLOOKUP(Y738,[1]SRI!$S$4:$Z$368,3,0)","v":0},"","",""]
["35zoZND",{"$f":"VLOOKUP($AA740,DATA!$B$3:$E$6,2,0)","v":"00:00:00"},{"$f":"VLOOKUP($AA740,DATA!$B$3:$E$6,3,0)","v":"00:00:00"},{"$f":"VLOOKUP($AA740,DATA!$B$3:$E$6,4,0)","v":3.125E-2},-3.125E-2,-3.125E-2,{"$f":"DATA!$C$9","v":0.89},{"$f":"DATA!$C$10","v":64},1,-42.1875,-42.1875,0,"","",0,"","",0,"","","","",null,{"$f":"X730","v":35},null,{"$f":"TEXT(Y738,\"ddd\")","v":"zo"},"ZND",{"$f":"IFERROR(HLOOKUP(Y738,[1]DATA!$A$1:$NB$5,5,0),\"\")","v":"-"},null,null,null,null,{"$f":"VLOOKUP(Y738,[1]SRI!$S$4:$Z$368,4,0)","v":0},"","",""]
["36maDD",{"$f":"VLOOKUP($AA741,DATA!$B$3:$E$6,2,0)","v":"06:30:00"},{"$f":"VLOOKUP($AA741,DATA!$B$3:$E$6,3,0)","v":"14:30:00"},{"$f":"VLOOKUP($AA741,DATA!$B$3:$E$6,4,0)","v":3.125E-2},0.30208333333333331,0.19305555555555554,{"$f":"DATA!$C$9","v":0.89},{"$f":"DATA!$C$10","v":64},1,260.625,407.8125,0.10902777777777778,147.1875,0.36091954022988504,{"$f":"TIME(INT($AD741/60),INT(MOD($AD741,60)/1),0)","v":0},"","",307.2,256,"",256,"",null,{"$f":"X751","v":36},"2018-09-03",{"$f":"TEXT(Y741,\"ddd\")","v":"ma"},"DD",{"$f":"IFERROR(HLOOKUP(Y741,[1]DATA!$A$1:$NB$5,3,0),\"\")","v":"D2"},157,null,32,288,{"$f":"VLOOKUP(Y741,[1]SRI!$S$4:$Z$368,2,0)","v":3},-4.625,0.62773946360153254,0.99032882011605416,{"$f":"IF(SUMIF(S741:S761,\">0\",K741:K761)=0,\"\",SUMIF(S741:S761,\">0\",K741:K761))","v":6525},{"$f":"IF(SUM(S741:S761)=0,\"\",SUM(S741:S761))","v":4409},{"$f":"IFERROR(AL741/AK741,\"-\")","v":0.67570881226053636},{"$f":"IF(SUM(M741:M761)=0,\"0\",SUM(M741:M761))","v":1601.25},{"$f":"IFERROR(AN741/AK741,\"-\")","v":0.24540229885057471},{"$f":"IF(SUM(P741:P761)=0,0,SUM(P741:P761))","v":0},{"$f":"IFERROR(AP741/AK741,\"-\")","v":0},{"$f":"IFERROR(AVERAGE(AJ741:AJ761),\"-\")","v":0.98524936229671667},{"$f":"IFERROR(SUMIF($AB741:$AB761,AS$5,$AJ741:$AJ761)/COUNTIFS($AB741:$AB761,AS$5,$AJ741:$AJ761,\">0\"),\"\")","v":0.98477375651803878},0.9823233410419645,0.98923619358109716,{"$f":"IFERROR((AK741-AL741-AN741-AP741),\"-\")","v":514.75},{"$f":"IFERROR((1-AM741-AO741-AQ741), \"-\")","v":7.8888888888888925E-2},{"$f":"IFERROR((AV741*$AE$2)/60,\"-\")","v":549.06666666666672},{"$f":"IFERROR(SUM(AG741:AG761),\"\")","v":80}]
["36maMD",{"$f":"VLOOKUP($AA742,DATA!$B$3:$E$6,2,0)","v":"14:30:00"},{"$f":"VLOOKUP($AA742,DATA!$B$3:$E$6,3,0)","v":"22:30:00"},{"$f":"VLOOKUP($AA742,DATA!$B$3:$E$6,4,0)","v":3.125E-2},0.30208333333333337,0.21388888888888891,{"$f":"DATA!$C$9","v":0.89},{"$f":"DATA!$C$10","v":64},1,288.75,407.81250000000006,8.819444444444445E-2,119.06250000000001,0.29195402298850576,{"$f":"TIME(INT(AD742/60),INT(MOD(AD742,60)/1),0)","v":0},"","",322.13333333333333,284,284,"","",null,{"$f":"X751","v":36},null,{"$f":"TEXT(Y741,\"ddd\")","v":"ma"},"MD",{"$f":"IFERROR(HLOOKUP(Y741,[1]DATA!$A$1:$NB$5,4,0),\"\")","v":"D1"},127,null,18,302,{"$f":"VLOOKUP(Y741,[1]SRI!$S$4:$Z$368,3,0)","v":3},-4.75,0.69639846743295009,0.99077301619848268]
["36maND",{"$f":"VLOOKUP($AA743,DATA!$B$3:$E$6,2,0)","v":"22:30:00"},{"$f":"VLOOKUP($AA743,DATA!$B$3:$E$6,3,0)","v":"06:30:00"},{"$f":"VLOOKUP($AA743,DATA!$B$3:$E$6,4,0)","v":3.125E-2},0.30208333333333326,0.21527777777777768,{"$f":"DATA!$C$9","v":0.89},{"$f":"DATA!$C$10","v":64},1,290.62499999999989,407.81249999999989,8.6805555555555566E-2,117.18750000000001,0.28735632183908055,0,"","",308.26666666666665,266,"","",266,null,{"$f":"X751","v":36},null,{"$f":"TEXT(Y741,\"ddd\")","v":"ma"},"ND",{"$f":"IFERROR(HLOOKUP(Y741,[1]DATA!$A$1:$NB$5,5,0),\"\")","v":"D3"},125,null,23,289,{"$f":"VLOOKUP(Y741,[1]SRI!$S$4:$Z$368,4,0)","v":7},-24.624999999999886,0.65226053639846759,0.97779657432861067]
["36diDD",{"$f":"VLOOKUP($AA744,DATA!$B$3:$E$6,2,0)","v":"06:30:00"},{"$f":"VLOOKUP($AA744,DATA!$B$3:$E$6,3,0)","v":"14:30:00"},{"$f":"VLOOKUP($AA744,DATA!$B$3:$E$6,4,0)","v":3.125E-2},0.30208333333333331,0.16111111111111109,{"$f":"DATA!$C$9","v":0.89},{"$f":"DATA!$C$10","v":64},1,217.49999999999997,407.8125,0.14097222222222222,190.3125,0.46666666666666667,0,"","",250.66666666666666,233,"",233,"",null,{"$f":"X751","v":36},"2018-09-04",{"$f":"TEXT(Y744,\"ddd\")","v":"di"},"DD",{"$f":"IFERROR(HLOOKUP(Y744,[1]DATA!$A$1:$NB$5,3,0),\"\")","v":"D2"},203,null,2,235,{"$f":"VLOOKUP(Y744,[1]SRI!$S$4:$Z$368,2,0)","v":3},15.500000000000028,0.57134099616858236,0.98817345597897499]
["36diMD",{"$f":"VLOOKUP($AA745,DATA!$B$3:$E$6,2,0)","v":"14:30:00"},{"$f":"VLOOKUP($AA745,DATA!$B$3:$E$6,3,0)","v":"22:30:00"},{"$f":"VLOOKUP($AA745,DATA!$B$3:$E$6,4,0)","v":3.125E-2},0.30208333333333337,0.29791666666666672,{"$f":"DATA!$C$9","v":0.89},{"$f":"DATA!$C$10","v":64},1,402.18750000000006,407.81250000000006,4.1666666666666666E-3,5.625,1.379310344827586E-2,0,"","",359.46666666666664,328,328,"","",null,{"$f":"X751","v":36},null,{"$f":"TEXT(Y744,\"ddd\")","v":"di"},"MD",{"$f":"IFERROR(HLOOKUP(Y744,[1]DATA!$A$1:$NB$5,4,0),\"\")","v":"D1"},6,null,9,337,{"$f":"VLOOKUP(Y744,[1]SRI!$S$4:$Z$368,3,0)","v":18},-74.187500000000057,0.80429118773946351,0.95231367008124335]
["36diND",{"$f":"VLOOKUP($AA746,DATA!$B$3:$E$6,2,0)","v":"22:30:00"},{"$f":"VLOOKUP($AA746,DATA!$B$3:$E$6,3,0)","v":"06:30:00"},{"$f":"VLOOKUP($AA746,DATA!$B$3:$E$6,4,0)","v":3.125E-2},0.30208333333333326,0.2631944444444444,{"$f":"DATA!$C$9","v":0.89},{"$f":"DATA!$C$10","v":64},1,355.31249999999994,407.81249999999989,3.888888888888889E-2,52.5,0.12873563218390807,0,"","",386.13333333333333,349,"","",349,null,{"$f":"X751","v":36},null,{"$f":"TEXT(Y744,\"ddd\")","v":"di"},"ND",{"$f":"IFERROR(HLOOKUP(Y744,[1]DATA!$A$1:$NB$5,5,0),\"\")","v":"D3"},56,null,13,362,{"$f":"VLOOKUP(Y744,[1]SRI!$S$4:$Z$368,4,0)","v":0},-6.3124999999999432,0.85578544061302708,1]
["36woDD",{"$f":"VLOOKUP($AA747,DATA!$B$3:$E$6,2,0)","v":"06:30:00"},{"$f":"VLOOKUP($AA747,DATA!$B$3:$E$6,3,0)","v":"14:30:00"},{"$f":"VLOOKUP($AA747,DATA!$B$3:$E$6,4,0)","v":3.125E-2},0.30208333333333331,0.24374999999999999,{"$f":"DATA!$C$9","v":0.89},{"$f":"DATA!$C$10","v":64},1,329.0625,407.8125,5.8333333333333327E-2,78.749999999999986,0.19310344827586204,0,"","",311.46666666666664,286,"",286,"",null,{"$f":"X751","v":36},"2018-09-05",{"$f":"TEXT(Y747,\"ddd\")","v":"wo"},"DD",{"$f":"IFERROR(HLOOKUP(Y747,[1]DATA!$A$1:$NB$5,3,0),\"\")","v":"D2"},84,null,6,292,{"$f":"VLOOKUP(Y747,[1]SRI!$S$4:$Z$368,2,0)","v":21},-43.0625,0.70130268199233714,0.93683577300982557]
["36woMD",{"$f":"VLOOKUP($AA748,DATA!$B$3:$E$6,2,0)","v":"14:30:00"},{"$f":"VLOOKUP($AA748,DATA!$B$3:$E$6,3,0)","v":"22:30:00"},{"$f":"VLOOKUP($AA748,DATA!$B$3:$E$6,4,0)","v":3.125E-2},0.30208333333333337,0.28958333333333336,{"$f":"DATA!$C$9","v":0.89},{"$f":"DATA!$C$10","v":64},1,390.93750000000006,407.81250000000006,1.2499999999999999E-2,16.875,4.1379310344827579E-2,0,"","",420.26666666666665,377,377,"","",null,{"$f":"X751","v":36},null,{"$f":"TEXT(Y747,\"ddd\")","v":"wo"},"MD",{"$f":"IFERROR(HLOOKUP(Y747,[1]DATA!$A$1:$NB$5,4,0),\"\")","v":"D1"},18,null,17,394,{"$f":"VLOOKUP(Y747,[1]SRI!$S$4:$Z$368,3,0)","v":2},-13.937500000000057,0.92444444444444429,0.99526365645721504]
["36woND",{"$f":"VLOOKUP($AA749,DATA!$B$3:$E$6,2,0)","v":"22:30:00"},{"$f":"VLOOKUP($AA749,DATA!$B$3:$E$6,3,0)","v":"06:30:00"},{"$f":"VLOOKUP($AA749,DATA!$B$3:$E$6,4,0)","v":3.125E-2},0.30208333333333326,0.19652777777777769,{"$f":"DATA!$C$9","v":0.89},{"$f":"DATA!$C$10","v":64},1,265.31249999999989,407.81249999999989,0.10555555555555556,142.5,0.34942528735632195,0,"","",233.6,204,"","",204,null,{"$f":"X751","v":36},null,{"$f":"TEXT(Y747,\"ddd\")","v":"wo"},"ND",{"$f":"IFERROR(HLOOKUP(Y747,[1]DATA!$A$1:$NB$5,5,0),\"\")","v":"D3"},152,null,15,219,{"$f":"VLOOKUP(Y747,[1]SRI!$S$4:$Z$368,4,0)","v":3},-61.312499999999886,0.50022988505747146,0.9873203719357565]
["36doDD",{"$f":"VLOOKUP($AA750,DATA!$B$3:$E$6,2,0)","v":"06:30:00"},{"$f":"VLOOKUP($AA750,DATA!$B$3:$E$6,3,0)","v":"14:30:00"},{"$f":"VLOOKUP($AA750,DATA!$B$3:$E$6,4,0)","v":3.125E-2},0.30208333333333331,0.22222222222222221,{"$f":"DATA!$C$9","v":0.89},{"$f":"DATA!$C$10","v":64},1,300,407.8125,7.9861111111111105E-2,107.81249999999999,0.26436781609195398,0,"","",365.86666666666667,321,"",321,"",null,{"$f":"X751","v":36},"2018-09-06",{"$f":"TEXT(Y750,\"ddd\")","v":"do"},"DD",{"$f":"IFERROR(HLOOKUP(Y750,[1]DATA!$A$1:$NB$5,3,0),\"\")","v":"D2"},115,null,22,343,{"$f":"VLOOKUP(Y750,[1]SRI!$S$4:$Z$368,2,0)","v":8},21,0.78712643678160921,0.97860199714693297]
["36doMD",{"$f":"VLOOKUP($AA751,DATA!$B$3:$E$6,2,0)","v":"14:30:00"},{"$f":"VLOOKUP($AA751,DATA!$B$3:$E$6,3,0)","v":"22:30:00"},{"$f":"VLOOKUP($AA751,DATA!$B$3:$E$6,4,0)","v":3.125E-2},0.30208333333333337,0.20416666666666672,{"$f":"DATA!$C$9","v":0.89},{"$f":"DATA!$C$10","v":64},1,275.62500000000006,407.81250000000006,9.7916666666666666E-2,132.1875,0.32413793103448274,0,"","",340.26666666666665,303,303,"","",null,{"$f":"WEEKNUM($Y741)","v":36},null,{"$f":"TEXT(Y750,\"ddd\")","v":"do"},"MD",{"$f":"IFERROR(HLOOKUP(Y750,[1]DATA!$A$1:$NB$5,4,0),\"\")","v":"D1"},141,null,16,319,{"$f":"VLOOKUP(Y750,[1]SRI!$S$4:$Z$368,3,0)","v":5},27.374999999999943,0.74298850574712638,0.98551843985325349]
[{"$f":"X752&Z752&AA752","v":"36doND"},{"$f":"VLOOKUP($AA752,DATA!$B$3:$E$6,2,0)","v":"22:30:00"},{"$f":"VLOOKUP($AA752,DATA!$B$3:$E$6,3,0)","v":"06:30:00"},{"$f":"VLOOKUP($AA752,DATA!$B$3:$E$6,4,0)","v":3.125E-2},0.30208333333333326,0.24374999999999994,{"$f":"DATA!$C$9","v":0.89},{"$f":"DATA!$C$10","v":64},1,329.06249999999994,407.81249999999989,5.8333333333333327E-2,78.749999999999986,0.19310344827586209,0,{"$f":"IF($O752*86400/$H752=0,\"\",$O752*86400/$H752)","v":""},"",362.66666666666669,331,"","",331,null,{"$f":"X751","v":36},null,{"$f":"TEXT(Y750,\"ddd\")","v":"do"},"ND",{"$f":"IFERROR(HLOOKUP(Y750,[1]DATA!$A$1:$NB$5,5,0),\"\")","v":"D3"},84,null,9,340,{"$f":"VLOOKUP(Y750,[1]SRI!$S$4:$Z$368,4,0)","v":7},1.9375000000000568,0.81164750957854426,0.98106402164111817]
["36vrDD",{"$f":"VLOOKUP($AA753,DATA!$B$3:$E$6,2,0)","v":"06:30:00"},{"$f":"VLOOKUP($AA753,DATA!$B$3:$E$6,3,0)","v":"14:30:00"},{"$f":"VLOOKUP($AA753,DATA!$B$3:$E$6,4,0)","v":3.125E-2},0.30208333333333331,0.19097222222222221,{"$f":"DATA!$C$9","v":0.89},{"$f":"DATA!$C$10","v":64},1,257.8125,407.8125,0.1111111111111111,150,0.36781609195402298,0,"","",284.8,251,"",251,"",null,{"$f":"X751","v":36},"2018-09-07",{"$f":"TEXT(Y753,\"ddd\")","v":"vr"},"DD",{"$f":"IFERROR(HLOOKUP(Y753,[1]DATA!$A$1:$NB$5,3,0),\"\")","v":"D2"},160,null,16,267,{"$f":"VLOOKUP(Y753,[1]SRI!$S$4:$Z$368,2,0)","v":0},-6.8125,0.61547892720306518,1]
["36vrMD",{"$f":"VLOOKUP($AA754,DATA!$B$3:$E$6,2,0)","v":"14:30:00"},{"$f":"VLOOKUP($AA754,DATA!$B$3:$E$6,3,0)","v":"22:30:00"},{"$f":"VLOOKUP($AA754,DATA!$B$3:$E$6,4,0)","v":3.125E-2},0.30208333333333337,0.23819444444444449,{"$f":"DATA!$C$9","v":0.89},{"$f":"DATA!$C$10","v":64},1,321.56250000000006,407.81250000000006,6.3888888888888884E-2,86.25,0.21149425287356319,0,"","",340.26666666666665,307,307,"","",null,{"$f":"X751","v":36},null,{"$f":"TEXT(Y753,\"ddd\")","v":"vr"},"MD",{"$f":"IFERROR(HLOOKUP(Y753,[1]DATA!$A$1:$NB$5,4,0),\"\")","v":"D1"},92,null,12,319,{"$f":"VLOOKUP(Y753,[1]SRI!$S$4:$Z$368,3,0)","v":0},-14.562500000000057,0.75279693486590027,1]
["36vrND",{"$f":"VLOOKUP($AA755,DATA!$B$3:$E$6,2,0)","v":"22:30:00"},{"$f":"VLOOKUP($AA755,DATA!$B$3:$E$6,3,0)","v":"06:30:00"},{"$f":"VLOOKUP($AA755,DATA!$B$3:$E$6,4,0)","v":3.125E-2},0.30208333333333326,0.28958333333333325,{"$f":"DATA!$C$9","v":0.89},{"$f":"DATA!$C$10","v":64},1,390.93749999999989,407.81249999999989,1.2499999999999999E-2,16.875,4.13793103448276E-2,0,"","",166.4,150,"","",150,null,{"$f":"X751","v":36},null,{"$f":"TEXT(Y753,\"ddd\")","v":"vr"},"ND",{"$f":"IFERROR(HLOOKUP(Y753,[1]DATA!$A$1:$NB$5,5,0),\"\")","v":"D3"},18,null,6,156,{"$f":"VLOOKUP(Y753,[1]SRI!$S$4:$Z$368,4,0)","v":0},-240.93749999999989,0.36781609195402309,1]
["36zaDD",{"$f":"VLOOKUP($AA756,DATA!$B$3:$E$6,2,0)","v":"06:30:00"},{"$f":"VLOOKUP($AA756,DATA!$B$3:$E$6,3,0)","v":"14:30:00"},{"$f":"VLOOKUP($AA756,DATA!$B$3:$E$6,4,0)","v":3.125E-2},0.30208333333333331,0.18402777777777773,{"$f":"DATA!$C$9","v":0.89},{"$f":"DATA!$C$10","v":64},1,248.43749999999994,407.8125,0.11805555555555557,159.37500000000003,0.3908045977011495,0,"","",177.06666666666666,163,"",163,"",null,{"$f":"X751","v":36},"2018-09-08",{"$f":"TEXT(Y756,\"ddd\")","v":"za"},"DD",{"$f":"IFERROR(HLOOKUP(Y756,[1]DATA!$A$1:$NB$5,3,0),\"\")","v":"D2"},170,null,3,166,{"$f":"VLOOKUP(Y756,[1]SRI!$S$4:$Z$368,2,0)","v":0},-85.437499999999943,0.39969348659003834,1]
["36zaMD",{"$f":"VLOOKUP($AA757,DATA!$B$3:$E$6,2,0)","v":"14:30:00"},{"$f":"VLOOKUP($AA757,DATA!$B$3:$E$6,3,0)","v":"22:30:00"},{"$f":"VLOOKUP($AA757,DATA!$B$3:$E$6,4,0)","v":3.125E-2},0.30208333333333337,0.30208333333333337,{"$f":"DATA!$C$9","v":0.89},{"$f":"DATA!$C$10","v":64},1,407.81250000000006,407.81250000000006,0,"","",0,"","",0,"","","","",null,{"$f":"X751","v":36},null,{"$f":"TEXT(Y756,\"ddd\")","v":"za"},"MD",{"$f":"IFERROR(HLOOKUP(Y756,[1]DATA!$A$1:$NB$5,4,0),\"\")","v":"-"},null,null,null,null,{"$f":"VLOOKUP(Y756,[1]SRI!$S$4:$Z$368,3,0)","v":0},"","",""]
["36zaND",{"$f":"VLOOKUP($AA758,DATA!$B$3:$E$6,2,0)","v":"22:30:00"},{"$f":"VLOOKUP($AA758,DATA!$B$3:$E$6,3,0)","v":"06:30:00"},{"$f":"VLOOKUP($AA758,DATA!$B$3:$E$6,4,0)","v":3.125E-2},0.30208333333333326,0.30208333333333326,{"$f":"DATA!$C$9","v":0.89},{"$f":"DATA!$C$10","v":64},1,407.81249999999989,407.81249999999989,0,"","",0,"","",0,"","","","",null,{"$f":"X751","v":36},null,{"$f":"TEXT(Y756,\"ddd\")","v":"za"},"ND",{"$f":"IFERROR(HLOOKUP(Y756,[1]DATA!$A$1:$NB$5,5,0),\"\")","v":"-"},null,null,null,null,{"$f":"VLOOKUP(Y756,[1]SRI!$S$4:$Z$368,4,0)","v":0},"","",""]
["36zoDD",{"$f":"VLOOKUP($AA759,DATA!$B$3:$E$6,2,0)","v":"06:30:00"},{"$f":"VLOOKUP($AA759,DATA!$B$3:$E$6,3,0)","v":"14:30:00"},{"$f":"VLOOKUP($AA759,DATA!$B$3:$E$6,4,0)","v":3.125E-2},0.30208333333333331,0.30208333333333331,{"$f":"DATA!$C$9","v":0.89},{"$f":"DATA!$C$10","v":64},1,407.8125,407.8125,0,"","",0,"","",0,"","","","",null,{"$f":"X751","v":36},"2018-09-09",{"$f":"TEXT(Y759,\"ddd\")","v":"zo"},"DD",{"$f":"IFERROR(HLOOKUP(Y759,[1]DATA!$A$1:$NB$5,3,0),\"\")","v":"-"},null,null,null,null,{"$f":"VLOOKUP(Y759,[1]SRI!$S$4:$Z$368,2,0)","v":0},"","",""]
["36zoMD",{"$f":"VLOOKUP($AA760,DATA!$B$3:$E$6,2,0)","v":"14:30:00"},{"$f":"VLOOKUP($AA760,DATA!$B$3:$E$6,3,0)","v":"22:30:00"},{"$f":"VLOOKUP($AA760,DATA!$B$3:$E$6,4,0)","v":3.125E-2},0.30208333333333337,0.30208333333333337,{"$f":"DATA!$C$9","v":0.89},{"$f":"DATA!$C$10","v":64},1,407.81250000000006,407.81250000000006,0,"","",0,"","",0,"","","","",null,{"$f":"X751","v":36},null,{"$f":"TEXT(Y759,\"ddd\")","v":"zo"},"MD",{"$f":"IFERROR(HLOOKUP(Y759,[1]DATA!$A$1:$NB$5,4,0),\"\")","v":"-"},null,null,null,null,{"$f":"VLOOKUP(Y759,[1]SRI!$S$4:$Z$368,3,0)","v":0},"","",""]
["36zoZND",{"$f":"VLOOKUP($AA761,DATA!$B$3:$E$6,2,0)","v":"00:00:00"},{"$f":"VLOOKUP($AA761,DATA!$B$3:$E$6,3,0)","v":"00:00:00"},{"$f":"VLOOKUP($AA761,DATA!$B$3:$E$6,4,0)","v":3.125E-2},-3.125E-2,-3.125E-2,{"$f":"DATA!$C$9","v":0.89},{"$f":"DATA!$C$10","v":64},1,-42.1875,-42.1875,0,"","",0,"","",0,"","","","",null,{"$f":"X751","v":36},null,{"$f":"TEXT(Y759,\"ddd\")","v":"zo"},"ZND",{"$f":"IFERROR(HLOOKUP(Y759,[1]DATA!$A$1:$NB$5,5,0),\"\")","v":"-"},null,null,null,null,{"$f":"VLOOKUP(Y759,[1]SRI!$S$4:$Z$368,4,0)","v":0},"","",""]
["37maDD",{"$f":"VLOOKUP($AA762,DATA!$B$3:$E$6,2,0)","v":"06:30:00"},{"$f":"VLOOKUP($AA762,DATA!$B$3:$E$6,3,0)","v":"14:30:00"},{"$f":"VLOOKUP($AA762,DATA!$B$3:$E$6,4,0)","v":3.125E-2},0.30208333333333331,0.23055555555555551,{"$f":"DATA!$C$9","v":0.89},{"$f":"DATA!$C$10","v":64},1,311.24999999999994,407.8125,7.1527777777777787E-2,96.562500000000014,0.23678160919540234,{"$f":"TIME(INT($AD762/60),INT(MOD($AD762,60)/1),0)","v":0},"","",362.66666666666669,323,323,"","",null,{"$f":"X772","v":37},{"$f":"Y759+1","v":"2018-09-10"},{"$f":"TEXT(Y762,\"ddd\")","v":"ma"},"DD",{"$f":"IFERROR(HLOOKUP(Y762,[1]DATA!$A$1:$NB$5,3,0),\"\")","v":"D1"},103,null,17,340,{"$f":"VLOOKUP(Y762,[1]SRI!$S$4:$Z$368,2,0)","v":0},11.750000000000057,0.79203065134099615,1,{"$f":"IF(SUMIF(S762:S782,\">0\",K762:K782)=0,\"\",SUMIF(S762:S782,\">0\",K762:K782))","v":6117.1875},{"$f":"IF(SUM(S762:S782)=0,\"\",SUM(S762:S782))","v":4525},{"$f":"IFERROR(AL762/AK762,\"-\")","v":0.73971902937420175},{"$f":"IF(SUM(M762:M782)=0,\"0\",SUM(M762:M782))","v":1023.75},{"$f":"IFERROR(AN762/AK762,\"-\")","v":0.16735632183908045},{"$f":"IF(SUM(P762:P782)=0,0,SUM(P762:P782))","v":0},{"$f":"IFERROR(AP762/AK762,\"-\")","v":0},{"$f":"IFERROR(AVERAGE(AJ762:AJ782),\"-\")","v":0.98261771349349325},{"$f":"IFERROR(SUMIF($AB762:$AB782,AS$5,$AJ762:$AJ782)/COUNTIFS($AB762:$AB782,AS$5,$AJ762:$AJ782,\">0\"),\"\")","v":0.99893730074388942},0.98837910519857031,0.9605367345380198,{"$f":"IFERROR((AK762-AL762-AN762-AP762),\"-\")","v":568.4375},{"$f":"IFERROR((1-AM762-AO762-AQ762), \"-\")","v":9.2924648786717801E-2},{"$f":"IFERROR((AV762*$AE$2)/60,\"-\")","v":606.33333333333337},{"$f":"IFERROR(SUM(AG762:AG782),\"\")","v":78}]
["37maMD",{"$f":"VLOOKUP($AA763,DATA!$B$3:$E$6,2,0)","v":"14:30:00"},{"$f":"VLOOKUP($AA763,DATA!$B$3:$E$6,3,0)","v":"22:30:00"},{"$f":"VLOOKUP($AA763,DATA!$B$3:$E$6,4,0)","v":3.125E-2},0.30208333333333337,0.25208333333333338,{"$f":"DATA!$C$9","v":0.89},{"$f":"DATA!$C$10","v":64},1,340.31250000000006,407.81250000000006,4.9999999999999996E-2,67.5,0.16551724137931031,{"$f":"TIME(INT(AD763/60),INT(MOD(AD763,60)/1),0)","v":0},"","",150.4,133,"","",133,null,{"$f":"X772","v":37},null,{"$f":"TEXT(Y762,\"ddd\")","v":"ma"},"MD",{"$f":"IFERROR(HLOOKUP(Y762,[1]DATA!$A$1:$NB$5,4,0),\"\")","v":"D3"},72,null,8,141,{"$f":"VLOOKUP(Y762,[1]SRI!$S$4:$Z$368,3,0)","v":15},-207.31250000000006,0.32613026819923369,0.90931076178960102]
["37maND",{"$f":"VLOOKUP($AA764,DATA!$B$3:$E$6,2,0)","v":"22:30:00"},{"$f":"VLOOKUP($AA764,DATA!$B$3:$E$6,3,0)","v":"06:30:00"},{"$f":"VLOOKUP($AA764,DATA!$B$3:$E$6,4,0)","v":3.125E-2},0.30208333333333326,0.23472222222222217,{"$f":"DATA!$C$9","v":0.89},{"$f":"DATA!$C$10","v":64},1,316.87499999999994,407.81249999999989,6.7361111111111108E-2,90.9375,0.2229885057471265,0,"","",337.06666666666666,302,"",302,"",null,{"$f":"X772","v":37},null,{"$f":"TEXT(Y762,\"ddd\")","v":"ma"},"ND",{"$f":"IFERROR(HLOOKUP(Y762,[1]DATA!$A$1:$NB$5,5,0),\"\")","v":"D2"},97,null,14,316,{"$f":"VLOOKUP(Y762,[1]SRI!$S$4:$Z$368,4,0)","v":0},-14.874999999999943,0.74053639846743313,1]
["37diDD",{"$f":"VLOOKUP($AA765,DATA!$B$3:$E$6,2,0)","v":"06:30:00"},{"$f":"VLOOKUP($AA765,DATA!$B$3:$E$6,3,0)","v":"14:30:00"},{"$f":"VLOOKUP($AA765,DATA!$B$3:$E$6,4,0)","v":3.125E-2},0.30208333333333331,0.25763888888888886,{"$f":"DATA!$C$9","v":0.89},{"$f":"DATA!$C$10","v":64},1,347.81249999999994,407.8125,4.4444444444444446E-2,60,0.14712643678160919,0,"","",361.6,318,318,"","",null,{"$f":"X772","v":37},"2018-09-11",{"$f":"TEXT(Y765,\"ddd\")","v":"di"},"DD",{"$f":"IFERROR(HLOOKUP(Y765,[1]DATA!$A$1:$NB$5,3,0),\"\")","v":"D1"},64,null,21,339,{"$f":"VLOOKUP(Y765,[1]SRI!$S$4:$Z$368,2,0)","v":0},-29.812499999999943,0.77977011494252868,1]
["37diMD",{"$f":"VLOOKUP($AA766,DATA!$B$3:$E$6,2,0)","v":"14:30:00"},{"$f":"VLOOKUP($AA766,DATA!$B$3:$E$6,3,0)","v":"22:30:00"},{"$f":"VLOOKUP($AA766,DATA!$B$3:$E$6,4,0)","v":3.125E-2},0.30208333333333337,0.24722222222222226,{"$f":"DATA!$C$9","v":0.89},{"$f":"DATA!$C$10","v":64},1,333.75000000000006,407.81250000000006,5.486111111111111E-2,74.0625,0.18160919540229883,0,"","",346.66666666666669,318,"","",318,null,{"$f":"X772","v":37},null,{"$f":"TEXT(Y765,\"ddd\")","v":"di"},"MD",{"$f":"IFERROR(HLOOKUP(Y765,[1]DATA!$A$1:$NB$5,4,0),\"\")","v":"D3"},79,null,7,325,{"$f":"VLOOKUP(Y765,[1]SRI!$S$4:$Z$368,3,0)","v":0},-15.750000000000057,0.77977011494252868,1]
["37diND",{"$f":"VLOOKUP($AA767,DATA!$B$3:$E$6,2,0)","v":"22:30:00"},{"$f":"VLOOKUP($AA767,DATA!$B$3:$E$6,3,0)","v":"06:30:00"},{"$f":"VLOOKUP($AA767,DATA!$B$3:$E$6,4,0)","v":3.125E-2},0.30208333333333326,0.26736111111111105,{"$f":"DATA!$C$9","v":0.89},{"$f":"DATA!$C$10","v":64},1,360.93749999999994,407.81249999999989,3.4722222222222224E-2,46.875,0.11494252873563221,0,"","",342.4,300,"",300,"",null,{"$f":"X772","v":37},null,{"$f":"TEXT(Y765,\"ddd\")","v":"di"},"ND",{"$f":"IFERROR(HLOOKUP(Y765,[1]DATA!$A$1:$NB$5,5,0),\"\")","v":"D2"},50,null,21,321,{"$f":"VLOOKUP(Y765,[1]SRI!$S$4:$Z$368,4,0)","v":16},-60.937499999999943,0.73563218390804619,0.9553571428571429]
["37woDD",{"$f":"VLOOKUP($AA768,DATA!$B$3:$E$6,2,0)","v":"06:30:00"},{"$f":"VLOOKUP($AA768,DATA!$B$3:$E$6,3,0)","v":"14:30:00"},{"$f":"VLOOKUP($AA768,DATA!$B$3:$E$6,4,0)","v":3.125E-2},0.30208333333333331,0.26111111111111107,{"$f":"DATA!$C$9","v":0.89},{"$f":"DATA!$C$10","v":64},1,352.49999999999994,407.8125,4.0972222222222222E-2,55.3125,0.13563218390804599,0,"","",362.66666666666669,327,327,"","",null,{"$f":"X772","v":37},"2018-09-12",{"$f":"TEXT(Y768,\"ddd\")","v":"wo"},"DD",{"$f":"IFERROR(HLOOKUP(Y768,[1]DATA!$A$1:$NB$5,3,0),\"\")","v":"D1"},59,null,13,340,{"$f":"VLOOKUP(Y768,[1]SRI!$S$4:$Z$368,2,0)","v":0},-25.499999999999943,0.80183908045977015,1]
["37woMD",{"$f":"VLOOKUP($AA769,DATA!$B$3:$E$6,2,0)","v":"14:30:00"},{"$f":"VLOOKUP($AA769,DATA!$B$3:$E$6,3,0)","v":"22:30:00"},{"$f":"VLOOKUP($AA769,DATA!$B$3:$E$6,4,0)","v":3.125E-2},0.30208333333333337,0.2506944444444445,{"$f":"DATA!$C$9","v":0.89},{"$f":"DATA!$C$10","v":64},1,338.43750000000006,407.81250000000006,5.1388888888888894E-2,69.375,0.1701149425287356,0,"","",332.8,299,"","",299,null,{"$f":"X772","v":37},null,{"$f":"TEXT(Y768,\"ddd\")","v":"wo"},"MD",{"$f":"IFERROR(HLOOKUP(Y768,[1]DATA!$A$1:$NB$5,4,0),\"\")","v":"D3"},74,null,13,312,{"$f":"VLOOKUP(Y768,[1]SRI!$S$4:$Z$368,3,0)","v":21},-39.437500000000057,0.73318007662835238,0.94064443188241942]
["37woND",{"$f":"VLOOKUP($AA770,DATA!$B$3:$E$6,2,0)","v":"22:30:00"},{"$f":"VLOOKUP($AA770,DATA!$B$3:$E$6,3,0)","v":"06:30:00"},{"$f":"VLOOKUP($AA770,DATA!$B$3:$E$6,4,0)","v":3.125E-2},0.30208333333333326,0.24652777777777771,{"$f":"DATA!$C$9","v":0.89},{"$f":"DATA!$C$10","v":64},1,332.81249999999989,407.81249999999989,5.5555555555555552E-2,75,0.18390804597701155,0,"","",373.33333333333331,329,"",329,"",null,{"$f":"X772","v":37},null,{"$f":"TEXT(Y768,\"ddd\")","v":"wo"},"ND",{"$f":"IFERROR(HLOOKUP(Y768,[1]DATA!$A$1:$NB$5,5,0),\"\")","v":"D2"},80,null,21,350,{"$f":"VLOOKUP(Y768,[1]SRI!$S$4:$Z$368,4,0)","v":2},-3.8124999999998863,0.80674329501915731,0.99467140319715808]
["37doDD",{"$f":"VLOOKUP($AA771,DATA!$B$3:$E$6,2,0)","v":"06:30:00"},{"$f":"VLOOKUP($AA771,DATA!$B$3:$E$6,3,0)","v":"14:30:00"},{"$f":"VLOOKUP($AA771,DATA!$B$3:$E$6,4,0)","v":3.125E-2},0.30208333333333331,0.24583333333333332,{"$f":"DATA!$C$9","v":0.89},{"$f":"DATA!$C$10","v":64},1,331.875,407.8125,5.6250000000000001E-2,75.9375,0.18620689655172415,0,"","",374.4,325,325,"","",null,{"$f":"X772","v":37},"2018-09-13",{"$f":"TEXT(Y771,\"ddd\")","v":"do"},"DD",{"$f":"IFERROR(HLOOKUP(Y771,[1]DATA!$A$1:$NB$5,3,0),\"\")","v":"D1"},81,null,26,351,{"$f":"VLOOKUP(Y771,[1]SRI!$S$4:$Z$368,2,0)","v":2},-6.875,0.79693486590038309,0.99468650371944745]
["37doMD",{"$f":"VLOOKUP($AA772,DATA!$B$3:$E$6,2,0)","v":"14:30:00"},{"$f":"VLOOKUP($AA772,DATA!$B$3:$E$6,3,0)","v":"22:30:00"},{"$f":"VLOOKUP($AA772,DATA!$B$3:$E$6,4,0)","v":3.125E-2},0.30208333333333337,0.24652777777777782,{"$f":"DATA!$C$9","v":0.89},{"$f":"DATA!$C$10","v":64},1,332.81250000000006,407.81250000000006,5.5555555555555552E-2,75,0.18390804597701146,0,"","",350.93333333333334,307,"","",307,null,{"$f":"WEEKNUM($Y762)","v":37},null,{"$f":"TEXT(Y771,\"ddd\")","v":"do"},"MD",{"$f":"IFERROR(HLOOKUP(Y771,[1]DATA!$A$1:$NB$5,4,0),\"\")","v":"D3"},80,null,22,329,{"$f":"VLOOKUP(Y771,[1]SRI!$S$4:$Z$368,3,0)","v":0},-25.812500000000057,0.75279693486590027,1]
["37doND",{"$f":"VLOOKUP($AA773,DATA!$B$3:$E$6,2,0)","v":"22:30:00"},{"$f":"VLOOKUP($AA773,DATA!$B$3:$E$6,3,0)","v":"06:30:00"},{"$f":"VLOOKUP($AA773,DATA!$B$3:$E$6,4,0)","v":3.125E-2},0.30208333333333326,0.24444444444444438,{"$f":"DATA!$C$9","v":0.89},{"$f":"DATA!$C$10","v":64},1,329.99999999999989,407.81249999999989,5.7638888888888885E-2,77.8125,0.19080459770114949,0,"","",365.86666666666667,327,"",327,"",null,{"$f":"X772","v":37},null,{"$f":"TEXT(Y771,\"ddd\")","v":"do"},"ND",{"$f":"IFERROR(HLOOKUP(Y771,[1]DATA!$A$1:$NB$5,5,0),\"\")","v":"D2"},83,null,16,343,{"$f":"VLOOKUP(Y771,[1]SRI!$S$4:$Z$368,4,0)","v":3},-2.9999999999998863,0.80183908045977037,0.99186697993855055]
["37vrDD",{"$f":"VLOOKUP($AA774,DATA!$B$3:$E$6,2,0)","v":"06:30:00"},{"$f":"VLOOKUP($AA774,DATA!$B$3:$E$6,3,0)","v":"14:30:00"},{"$f":"VLOOKUP($AA774,DATA!$B$3:$E$6,4,0)","v":3.125E-2},0.30208333333333331,0.20902777777777776,{"$f":"DATA!$C$9","v":0.89},{"$f":"DATA!$C$10","v":64},1,{"$f":"F774*86400/H774*I774","v":282.1875},{"$f":"E774*86400/H774","v":407.8125},9.3055555555555558E-2,125.625,0.30804597701149428,0,"","",{"$f":"AF774*AG$2","v":264.5333333333333},{"$f":"IF(AF774-AE774=0,\"\",AF774-AE774)","v":233},233,"","",null,{"$f":"X772","v":37},"2018-09-14",{"$f":"TEXT(Y774,\"ddd\")","v":"vr"},"DD",{"$f":"IFERROR(HLOOKUP(Y774,[1]DATA!$A$1:$NB$5,3,0),\"\")","v":"D1"},134,null,15,248,{"$f":"VLOOKUP(Y774,[1]SRI!$S$4:$Z$368,2,0)","v":0},{"$f":"IFERROR(S774-J774,\"\")","v":-49.1875},{"$f":"IFERROR(IF(S774/(E774*86400/H774)<=0,\"\",S774/(E774*86400/H774)),\"\")","v":0.57134099616858236},{"$f":"IFERROR(R774/(R774+AG774),\"\")","v":1}]
["37vrMD",{"$f":"VLOOKUP($AA775,DATA!$B$3:$E$6,2,0)","v":"14:30:00"},{"$f":"VLOOKUP($AA775,DATA!$B$3:$E$6,3,0)","v":"22:30:00"},{"$f":"VLOOKUP($AA775,DATA!$B$3:$E$6,4,0)","v":3.125E-2},0.30208333333333337,0.27708333333333335,{"$f":"DATA!$C$9","v":0.89},{"$f":"DATA!$C$10","v":64},1,374.0625,407.81250000000006,{"$f":"TIME(INT($AC775/60),INT(MOD($AC775,60)/1),0)","v":2.4999999999999998E-2},{"$f":"IF($L775*86400/$H775=0,\"\",$L775*86400/$H775)","v":33.75},{"$f":"IFERROR($M775/$K775,\"\")","v":8.2758620689655157E-2},0,"",{"$f":"IFERROR($P775/$K775,\"\")","v":""},382.93333333333334,335,{"$f":"IF(IF($AB775=\"D1\",$S775,\"\")=0,\"\",IF($AB775=\"D1\",$S775,\"\"))","v":""},{"$f":"IF(IF($AB775=\"D2\",$S775,\"\")=0,\"\",IF($AB775=\"D2\",$S775,\"\"))","v":""},{"$f":"IF(IF($AB775=\"D3\",$S775,\"\")=0,\"\",IF($AB775=\"D3\",$S775,\"\"))","v":335},null,{"$f":"X772","v":37},null,{"$f":"TEXT(Y774,\"ddd\")","v":"vr"},"MD",{"$f":"IFERROR(HLOOKUP(Y774,[1]DATA!$A$1:$NB$5,4,0),\"\")","v":"D3"},36,null,24,359,{"$f":"VLOOKUP(Y774,[1]SRI!$S$4:$Z$368,3,0)","v":19},-39.0625,0.82145593869731792,0.95272847901807933]
["37vrND",{"$f":"VLOOKUP($AA776,DATA!$B$3:$E$6,2,0)","v":"22:30:00"},{"$f":"VLOOKUP($AA776,DATA!$B$3:$E$6,3,0)","v":"06:30:00"},{"$f":"VLOOKUP($AA776,DATA!$B$3:$E$6,4,0)","v":3.125E-2},0.30208333333333326,0.30208333333333326,{"$f":"DATA!$C$9","v":0.89},{"$f":"DATA!$C$10","v":64},1,407.81249999999989,407.81249999999989,0,"","",0,"","",380.8,349,"",349,"",null,{"$f":"X772","v":37},null,{"$f":"TEXT(Y774,\"ddd\")","v":"vr"},"ND",{"$f":"IFERROR(HLOOKUP(Y774,[1]DATA!$A$1:$NB$5,5,0),\"\")","v":"D2"},0,null,8,357,{"$f":"VLOOKUP(Y774,[1]SRI!$S$4:$Z$368,4,0)","v":0},-58.812499999999886,0.85578544061302708,1]
["37zaDD",{"$f":"VLOOKUP($AA777,DATA!$B$3:$E$6,2,0)","v":"06:30:00"},{"$f":"VLOOKUP($AA777,DATA!$B$3:$E$6,3,0)","v":"14:30:00"},{"$f":"VLOOKUP($AA777,DATA!$B$3:$E$6,4,0)","v":3.125E-2},0.30208333333333331,0.30208333333333331,{"$f":"DATA!$C$9","v":0.89},{"$f":"DATA!$C$10","v":64},1,407.8125,407.8125,0,"","",0,"","",0,"","","","",null,{"$f":"X772","v":37},"2018-09-15",{"$f":"TEXT(Y777,\"ddd\")","v":"za"},"DD",{"$f":"IFERROR(HLOOKUP(Y777,[1]DATA!$A$1:$NB$5,3,0),\"\")","v":"D1"},null,null,null,null,{"$f":"VLOOKUP(Y777,[1]SRI!$S$4:$Z$368,2,0)","v":0},"","",""]
["37zaMD",{"$f":"VLOOKUP($AA778,DATA!$B$3:$E$6,2,0)","v":"14:30:00"},{"$f":"VLOOKUP($AA778,DATA!$B$3:$E$6,3,0)","v":"22:30:00"},{"$f":"VLOOKUP($AA778,DATA!$B$3:$E$6,4,0)","v":3.125E-2},0.30208333333333337,0.30208333333333337,{"$f":"DATA!$C$9","v":0.89},{"$f":"DATA!$C$10","v":64},1,407.81250000000006,407.81250000000006,0,"","",0,"","",0,"","","","",null,{"$f":"X772","v":37},null,{"$f":"TEXT(Y777,\"ddd\")","v":"za"},"MD",{"$f":"IFERROR(HLOOKUP(Y777,[1]DATA!$A$1:$NB$5,4,0),\"\")","v":"-"},null,null,null,null,{"$f":"VLOOKUP(Y777,[1]SRI!$S$4:$Z$368,3,0)","v":0},"","",""]
["37zaND",{"$f":"VLOOKUP($AA779,DATA!$B$3:$E$6,2,0)","v":"22:30:00"},{"$f":"VLOOKUP($AA779,DATA!$B$3:$E$6,3,0)","v":"06:30:00"},{"$f":"VLOOKUP($AA779,DATA!$B$3:$E$6,4,0)","v":3.125E-2},0.30208333333333326,0.30208333333333326,{"$f":"DATA!$C$9","v":0.89},{"$f":"DATA!$C$10","v":64},1,407.81249999999989,407.81249999999989,0,"","",0,"","",0,"","","","",null,{"$f":"X772","v":37},null,{"$f":"TEXT(Y777,\"ddd\")","v":"za"},"ND",{"$f":"IFERROR(HLOOKUP(Y777,[1]DATA!$A$1:$NB$5,5,0),\"\")","v":"-"},null,null,null,null,{"$f":"VLOOKUP(Y777,[1]SRI!$S$4:$Z$368,4,0)","v":0},"","",""]
["37zoDD",{"$f":"VLOOKUP($AA780,DATA!$B$3:$E$6,2,0)","v":"06:30:00"},{"$f":"VLOOKUP($AA780,DATA!$B$3:$E$6,3,0)","v":"14:30:00"},{"$f":"VLOOKUP($AA780,DATA!$B$3:$E$6,4,0)","v":3.125E-2},0.30208333333333331,0.30208333333333331,{"$f":"DATA!$C$9","v":0.89},{"$f":"DATA!$C$10","v":64},1,407.8125,407.8125,0,"","",0,"","",0,"","","","",null,{"$f":"X772","v":37},"2018-09-16",{"$f":"TEXT(Y780,\"ddd\")","v":"zo"},"DD",{"$f":"IFERROR(HLOOKUP(Y780,[1]DATA!$A$1:$NB$5,3,0),\"\")","v":"-"},null,null,null,null,{"$f":"VLOOKUP(Y780,[1]SRI!$S$4:$Z$368,2,0)","v":0},"","",""]
["37zoMD",{"$f":"VLOOKUP($AA781,DATA!$B$3:$E$6,2,0)","v":"14:30:00"},{"$f":"VLOOKUP($AA781,DATA!$B$3:$E$6,3,0)","v":"22:30:00"},{"$f":"VLOOKUP($AA781,DATA!$B$3:$E$6,4,0)","v":3.125E-2},0.30208333333333337,0.30208333333333337,{"$f":"DATA!$C$9","v":0.89},{"$f":"DATA!$C$10","v":64},1,407.81250000000006,407.81250000000006,0,"","",0,"","",0,"","","","",null,{"$f":"X772","v":37},null,{"$f":"TEXT(Y780,\"ddd\")","v":"zo"},"MD",{"$f":"IFERROR(HLOOKUP(Y780,[1]DATA!$A$1:$NB$5,4,0),\"\")","v":"-"},null,null,null,null,{"$f":"VLOOKUP(Y780,[1]SRI!$S$4:$Z$368,3,0)","v":0},"","",""]
["37zoZND",{"$f":"VLOOKUP($AA782,DATA!$B$3:$E$6,2,0)","v":"00:00:00"},{"$f":"VLOOKUP($AA782,DATA!$B$3:$E$6,3,0)","v":"00:00:00"},{"$f":"VLOOKUP($AA782,DATA!$B$3:$E$6,4,0)","v":3.125E-2},-3.125E-2,-3.125E-2,{"$f":"DATA!$C$9","v":0.89},{"$f":"DATA!$C$10","v":64},1,-42.1875,-42.1875,0,"","",0,"","",0,"","","","",null,{"$f":"X772","v":37},null,{"$f":"TEXT(Y780,\"ddd\")","v":"zo"},"ZND",{"$f":"IFERROR(HLOOKUP(Y780,[1]DATA!$A$1:$NB$5,5,0),\"\")","v":"-"},null,null,null,null,{"$f":"VLOOKUP(Y780,[1]SRI!$S$4:$Z$368,4,0)","v":0},"","",""]
["38maDD",{"$f":"VLOOKUP($AA783,DATA!$B$3:$E$6,2,0)","v":"06:30:00"},{"$f":"VLOOKUP($AA783,DATA!$B$3:$E$6,3,0)","v":"14:30:00"},{"$f":"VLOOKUP($AA783,DATA!$B$3:$E$6,4,0)","v":3.125E-2},0.30208333333333331,0.25208333333333333,{"$f":"DATA!$C$9","v":0.89},{"$f":"DATA!$C$10","v":64},1,340.3125,407.8125,4.9999999999999996E-2,67.5,0.16551724137931034,{"$f":"TIME(INT($AD783/60),INT(MOD($AD783,60)/1),0)","v":0},"","",316.8,288,"","",288,null,{"$f":"X793","v":38},"2018-09-17",{"$f":"TEXT(Y783,\"ddd\")","v":"ma"},"DD",{"$f":"IFERROR(HLOOKUP(Y783,[1]DATA!$A$1:$NB$5,3,0),\"\")","v":"D3"},72,null,9,297,{"$f":"VLOOKUP(Y783,[1]SRI!$S$4:$Z$368,2,0)","v":0},-52.3125,0.70620689655172408,1,{"$f":"IF(SUMIF(S783:S803,\">0\",K783:K803)=0,\"\",SUMIF(S783:S803,\">0\",K783:K803))","v":6117.1875},{"$f":"IF(SUM(S783:S803)=0,\"\",SUM(S783:S803))","v":4297},{"$f":"IFERROR(AL783/AK783,\"-\")","v":0.70244699872286076},{"$f":"IF(SUM(M783:M803)=0,\"0\",SUM(M783:M803))","v":1579.6875},{"$f":"IFERROR(AN783/AK783,\"-\")","v":0.2582375478927203},{"$f":"IF(SUM(P783:P803)=0,0,SUM(P783:P803))","v":0},{"$f":"IFERROR(AP783/AK783,\"-\")","v":0},{"$f":"IFERROR(AVERAGE(AJ783:AJ803),\"-\")","v":0.96795365664910704},{"$f":"IFERROR(SUMIF($AB783:$AB803,AS$5,$AJ783:$AJ803)/COUNTIFS($AB783:$AB803,AS$5,$AJ783:$AJ803,\">0\"),\"\")","v":0.97657528800589644},0.97578702031690112,0.95165631516232296,{"$f":"IFERROR((AK783-AL783-AN783-AP783),\"-\")","v":240.5},{"$f":"IFERROR((1-AM783-AO783-AQ783), \"-\")","v":3.9315453384418941E-2},{"$f":"IFERROR((AV783*$AE$2)/60,\"-\")","v":256.53333333333336},{"$f":"IFERROR(SUM(AG783:AG803),\"\")","v":170}]
["38maMD",{"$f":"VLOOKUP($AA784,DATA!$B$3:$E$6,2,0)","v":"14:30:00"},{"$f":"VLOOKUP($AA784,DATA!$B$3:$E$6,3,0)","v":"22:30:00"},{"$f":"VLOOKUP($AA784,DATA!$B$3:$E$6,4,0)","v":3.125E-2},0.30208333333333337,0.18402777777777779,{"$f":"DATA!$C$9","v":0.89},{"$f":"DATA!$C$10","v":64},1,248.43750000000003,407.81250000000006,0.11805555555555557,159.37500000000003,0.39080459770114945,{"$f":"TIME(INT(AD784/60),INT(MOD(AD784,60)/1),0)","v":0},"","",272,247,"",247,"",null,{"$f":"X793","v":38},null,{"$f":"TEXT(Y783,\"ddd\")","v":"ma"},"MD",{"$f":"IFERROR(HLOOKUP(Y783,[1]DATA!$A$1:$NB$5,4,0),\"\")","v":"D2"},170,null,8,255,{"$f":"VLOOKUP(Y783,[1]SRI!$S$4:$Z$368,3,0)","v":0},-1.4375000000000284,0.60567049808429108,1]
["38maND",{"$f":"VLOOKUP($AA785,DATA!$B$3:$E$6,2,0)","v":"22:30:00"},{"$f":"VLOOKUP($AA785,DATA!$B$3:$E$6,3,0)","v":"06:30:00"},{"$f":"VLOOKUP($AA785,DATA!$B$3:$E$6,4,0)","v":3.125E-2},0.30208333333333326,0.17361111111111102,{"$f":"DATA!$C$9","v":0.89},{"$f":"DATA!$C$10","v":64},1,234.37499999999989,407.81249999999989,0.12847222222222224,173.43750000000003,0.42528735632183928,0,"","",284.8,253,253,"","",null,{"$f":"X793","v":38},null,{"$f":"TEXT(Y783,\"ddd\")","v":"ma"},"ND",{"$f":"IFERROR(HLOOKUP(Y783,[1]DATA!$A$1:$NB$5,5,0),\"\")","v":"D1"},185,null,14,267,{"$f":"VLOOKUP(Y783,[1]SRI!$S$4:$Z$368,4,0)","v":0},18.625000000000114,0.62038314176245224,1]
["38diDD",{"$f":"VLOOKUP($AA786,DATA!$B$3:$E$6,2,0)","v":"06:30:00"},{"$f":"VLOOKUP($AA786,DATA!$B$3:$E$6,3,0)","v":"14:30:00"},{"$f":"VLOOKUP($AA786,DATA!$B$3:$E$6,4,0)","v":3.125E-2},0.30208333333333331,0.23888888888888887,{"$f":"DATA!$C$9","v":0.89},{"$f":"DATA!$C$10","v":64},1,322.5,407.8125,6.3194444444444442E-2,85.3125,0.20919540229885059,0,"","",338.13333333333333,298,"","",298,null,{"$f":"X793","v":38},"2018-09-18",{"$f":"TEXT(Y786,\"ddd\")","v":"di"},"DD",{"$f":"IFERROR(HLOOKUP(Y786,[1]DATA!$A$1:$NB$5,3,0),\"\")","v":"D3"},91,null,19,317,{"$f":"VLOOKUP(Y786,[1]SRI!$S$4:$Z$368,2,0)","v":3},-24.5,0.73072796934865902,0.9912057846394372]
["38diMD",{"$f":"VLOOKUP($AA787,DATA!$B$3:$E$6,2,0)","v":"14:30:00"},{"$f":"VLOOKUP($AA787,DATA!$B$3:$E$6,3,0)","v":"22:30:00"},{"$f":"VLOOKUP($AA787,DATA!$B$3:$E$6,4,0)","v":3.125E-2},0.30208333333333337,0.24236111111111114,{"$f":"DATA!$C$9","v":0.89},{"$f":"DATA!$C$10","v":64},1,327.18750000000006,407.81250000000006,5.9722222222222225E-2,80.625,0.19770114942528733,0,"","",321.06666666666666,283,"",283,"",null,{"$f":"X793","v":38},null,{"$f":"TEXT(Y786,\"ddd\")","v":"di"},"MD",{"$f":"IFERROR(HLOOKUP(Y786,[1]DATA!$A$1:$NB$5,4,0),\"\")","v":"D2"},86,null,18,301,{"$f":"VLOOKUP(Y786,[1]SRI!$S$4:$Z$368,3,0)","v":16},-44.187500000000057,0.69394636015325661,0.95253164556962022]
["38diND",{"$f":"VLOOKUP($AA788,DATA!$B$3:$E$6,2,0)","v":"22:30:00"},{"$f":"VLOOKUP($AA788,DATA!$B$3:$E$6,3,0)","v":"06:30:00"},{"$f":"VLOOKUP($AA788,DATA!$B$3:$E$6,4,0)","v":3.125E-2},0.30208333333333326,0.21597222222222212,{"$f":"DATA!$C$9","v":0.89},{"$f":"DATA!$C$10","v":64},1,291.56249999999989,407.81249999999989,8.6111111111111124E-2,116.25000000000001,0.28505747126436792,0,"","",313.60000000000002,277,277,"","",null,{"$f":"X793","v":38},null,{"$f":"TEXT(Y786,\"ddd\")","v":"di"},"ND",{"$f":"IFERROR(HLOOKUP(Y786,[1]DATA!$A$1:$NB$5,5,0),\"\")","v":"D1"},124,null,17,294,{"$f":"VLOOKUP(Y786,[1]SRI!$S$4:$Z$368,4,0)","v":2},-14.562499999999886,0.67923371647509601,0.99366286438529783]
["38woDD",{"$f":"VLOOKUP($AA789,DATA!$B$3:$E$6,2,0)","v":"06:30:00"},{"$f":"VLOOKUP($AA789,DATA!$B$3:$E$6,3,0)","v":"14:30:00"},{"$f":"VLOOKUP($AA789,DATA!$B$3:$E$6,4,0)","v":3.125E-2},0.30208333333333331,0.21736111111111112,{"$f":"DATA!$C$9","v":0.89},{"$f":"DATA!$C$10","v":64},1,293.4375,407.8125,8.4722222222222213E-2,114.37499999999999,0.2804597701149425,0,"","",252.79999999999998,219,"","",219,null,{"$f":"X793","v":38},"2018-09-19",{"$f":"TEXT(Y789,\"ddd\")","v":"wo"},"DD",{"$f":"IFERROR(HLOOKUP(Y789,[1]DATA!$A$1:$NB$5,3,0),\"\")","v":"D3"},122,null,18,237,{"$f":"VLOOKUP(Y789,[1]SRI!$S$4:$Z$368,2,0)","v":46},-74.4375,0.53701149425287353,0.84605087014725577]
["38woMD",{"$f":"VLOOKUP($AA790,DATA!$B$3:$E$6,2,0)","v":"14:30:00"},{"$f":"VLOOKUP($AA790,DATA!$B$3:$E$6,3,0)","v":"22:30:00"},{"$f":"VLOOKUP($AA790,DATA!$B$3:$E$6,4,0)","v":3.125E-2},0.30208333333333337,0.30208333333333337,{"$f":"DATA!$C$9","v":0.89},{"$f":"DATA!$C$10","v":64},1,407.81250000000006,407.81250000000006,0,"","",0,"","",365.86666666666667,316,"",316,"",null,{"$f":"X793","v":38},null,{"$f":"TEXT(Y789,\"ddd\")","v":"wo"},"MD",{"$f":"IFERROR(HLOOKUP(Y789,[1]DATA!$A$1:$NB$5,4,0),\"\")","v":"D2"},0,null,27,343,{"$f":"VLOOKUP(Y789,[1]SRI!$S$4:$Z$368,3,0)","v":30},-91.812500000000057,0.77486590038314163,0.92421690804984846]
["38woND",{"$f":"VLOOKUP($AA791,DATA!$B$3:$E$6,2,0)","v":"22:30:00"},{"$f":"VLOOKUP($AA791,DATA!$B$3:$E$6,3,0)","v":"06:30:00"},{"$f":"VLOOKUP($AA791,DATA!$B$3:$E$6,4,0)","v":3.125E-2},0.30208333333333326,0.28749999999999992,{"$f":"DATA!$C$9","v":0.89},{"$f":"DATA!$C$10","v":64},1,388.12499999999989,407.81249999999989,1.4583333333333332E-2,19.687499999999996,4.8275862068965524E-2,0,"","",396.8,351,351,"","",null,{"$f":"X793","v":38},null,{"$f":"TEXT(Y789,\"ddd\")","v":"wo"},"ND",{"$f":"IFERROR(HLOOKUP(Y789,[1]DATA!$A$1:$NB$5,5,0),\"\")","v":"D1"},21,null,21,372,{"$f":"VLOOKUP(Y789,[1]SRI!$S$4:$Z$368,4,0)","v":19},-37.124999999999886,0.86068965517241403,0.95430495430495432]
["38doDD",{"$f":"VLOOKUP($AA792,DATA!$B$3:$E$6,2,0)","v":"06:30:00"},{"$f":"VLOOKUP($AA792,DATA!$B$3:$E$6,3,0)","v":"14:30:00"},{"$f":"VLOOKUP($AA792,DATA!$B$3:$E$6,4,0)","v":3.125E-2},0.30208333333333331,0.23958333333333331,{"$f":"DATA!$C$9","v":0.89},{"$f":"DATA!$C$10","v":64},1,323.4375,407.8125,6.25E-2,84.375,0.20689655172413793,0,"","",349.86666666666667,313,"","",313,null,{"$f":"X793","v":38},"2018-09-20",{"$f":"TEXT(Y792,\"ddd\")","v":"do"},"DD",{"$f":"IFERROR(HLOOKUP(Y792,[1]DATA!$A$1:$NB$5,3,0),\"\")","v":"D3"},90,null,15,328,{"$f":"VLOOKUP(Y792,[1]SRI!$S$4:$Z$368,2,0)","v":30},-10.4375,0.76750957854406132,0.92102492102492106]
["38doMD",{"$f":"VLOOKUP($AA793,DATA!$B$3:$E$6,2,0)","v":"14:30:00"},{"$f":"VLOOKUP($AA793,DATA!$B$3:$E$6,3,0)","v":"22:30:00"},{"$f":"VLOOKUP($AA793,DATA!$B$3:$E$6,4,0)","v":3.125E-2},0.30208333333333337,0.22500000000000003,{"$f":"DATA!$C$9","v":0.89},{"$f":"DATA!$C$10","v":64},1,303.75000000000006,407.81250000000006,7.7083333333333337E-2,104.0625,0.2551724137931034,0,"","",349.86666666666667,317,"",317,"",null,{"$f":"WEEKNUM($Y783)","v":38},null,{"$f":"TEXT(Y792,\"ddd\")","v":"do"},"MD",{"$f":"IFERROR(HLOOKUP(Y792,[1]DATA!$A$1:$NB$5,4,0),\"\")","v":"D2"},111,null,11,328,{"$f":"VLOOKUP(Y792,[1]SRI!$S$4:$Z$368,3,0)","v":0},13.249999999999943,0.7773180076628351,1]
["38doND",{"$f":"VLOOKUP($AA794,DATA!$B$3:$E$6,2,0)","v":"22:30:00"},{"$f":"VLOOKUP($AA794,DATA!$B$3:$E$6,3,0)","v":"06:30:00"},{"$f":"VLOOKUP($AA794,DATA!$B$3:$E$6,4,0)","v":3.125E-2},0.30208333333333326,0.22569444444444436,{"$f":"DATA!$C$9","v":0.89},{"$f":"DATA!$C$10","v":64},1,304.68749999999989,407.81249999999989,7.6388888888888895E-2,103.12500000000001,0.25287356321839088,0,"","",368,314,314,"","",null,{"$f":"X793","v":38},null,{"$f":"TEXT(Y792,\"ddd\")","v":"do"},"ND",{"$f":"IFERROR(HLOOKUP(Y792,[1]DATA!$A$1:$NB$5,5,0),\"\")","v":"D1"},110,null,31,345,{"$f":"VLOOKUP(Y792,[1]SRI!$S$4:$Z$368,4,0)","v":16},9.3125000000001137,0.76996168582375502,0.95833333333333337]
["38vrDD",{"$f":"VLOOKUP($AA795,DATA!$B$3:$E$6,2,0)","v":"06:30:00"},{"$f":"VLOOKUP($AA795,DATA!$B$3:$E$6,3,0)","v":"14:30:00"},{"$f":"VLOOKUP($AA795,DATA!$B$3:$E$6,4,0)","v":3.125E-2},0.30208333333333331,0.14652777777777776,{"$f":"DATA!$C$9","v":0.89},{"$f":"DATA!$C$10","v":64},1,197.81249999999997,407.8125,0.15555555555555556,210,0.51494252873563218,0,"","",243.2,219,"","",219,null,{"$f":"X793","v":38},"2018-09-21",{"$f":"TEXT(Y795,\"ddd\")","v":"vr"},"DD",{"$f":"IFERROR(HLOOKUP(Y795,[1]DATA!$A$1:$NB$5,3,0),\"\")","v":"D3"},224,null,9,228,{"$f":"VLOOKUP(Y795,[1]SRI!$S$4:$Z$368,2,0)","v":0},21.187500000000028,0.53701149425287353,1]
["38vrMD",{"$f":"VLOOKUP($AA796,DATA!$B$3:$E$6,2,0)","v":"14:30:00"},{"$f":"VLOOKUP($AA796,DATA!$B$3:$E$6,3,0)","v":"22:30:00"},{"$f":"VLOOKUP($AA796,DATA!$B$3:$E$6,4,0)","v":3.125E-2},{"$f":"(C796-B796+(B796>C796))-D796","v":0.30208333333333337},{"$f":"E796-O796-L796","v":0.21180555555555558},{"$f":"DATA!$C$9","v":0.89},{"$f":"DATA!$C$10","v":64},1,285.93750000000006,407.81250000000006,9.0277777777777776E-2,121.875,0.29885057471264365,0,"","",355.2,312,"",312,"",null,{"$f":"X793","v":38},null,{"$f":"TEXT(Y795,\"ddd\")","v":"vr"},"MD",{"$f":"IFERROR(HLOOKUP(Y795,[1]DATA!$A$1:$NB$5,4,0),\"\")","v":"D2"},130,null,21,333,{"$f":"VLOOKUP(Y795,[1]SRI!$S$4:$Z$368,3,0)","v":8},26.062499999999943,0.76505747126436774,0.97797356828193838]
["38vrND",{"$f":"VLOOKUP($AA797,DATA!$B$3:$E$6,2,0)","v":"22:30:00"},{"$f":"VLOOKUP($AA797,DATA!$B$3:$E$6,3,0)","v":"06:30:00"},{"$f":"VLOOKUP($AA797,DATA!$B$3:$E$6,4,0)","v":3.125E-2},0.30208333333333326,0.19861111111111102,{"$f":"DATA!$C$9","v":0.89},{"$f":"DATA!$C$10","v":64},1,268.12499999999989,407.81249999999989,0.10347222222222223,139.6875,0.342528735632184,0,"","",332.8,290,"",290,"",null,{"$f":"X793","v":38},null,{"$f":"TEXT(Y795,\"ddd\")","v":"vr"},"ND",{"$f":"IFERROR(HLOOKUP(Y795,[1]DATA!$A$1:$NB$5,5,0),\"\")","v":"D2"},149,null,22,312,{"$f":"VLOOKUP(Y795,[1]SRI!$S$4:$Z$368,4,0)","v":0},21.875000000000114,0.71111111111111136,1]
["38zaDD",{"$f":"VLOOKUP($AA798,DATA!$B$3:$E$6,2,0)","v":"06:30:00"},{"$f":"VLOOKUP($AA798,DATA!$B$3:$E$6,3,0)","v":"14:30:00"},{"$f":"VLOOKUP($AA798,DATA!$B$3:$E$6,4,0)","v":3.125E-2},0.30208333333333331,0.30208333333333331,{"$f":"DATA!$C$9","v":0.89},{"$f":"DATA!$C$10","v":64},1,407.8125,407.8125,0,"","",0,"","",0,"","","","",null,{"$f":"X793","v":38},"2018-09-22",{"$f":"TEXT(Y798,\"ddd\")","v":"za"},"DD",{"$f":"IFERROR(HLOOKUP(Y798,[1]DATA!$A$1:$NB$5,3,0),\"\")","v":"D3"},null,null,null,null,{"$f":"VLOOKUP(Y798,[1]SRI!$S$4:$Z$368,2,0)","v":0},"","",""]
["38zaMD",{"$f":"VLOOKUP($AA799,DATA!$B$3:$E$6,2,0)","v":"14:30:00"},{"$f":"VLOOKUP($AA799,DATA!$B$3:$E$6,3,0)","v":"22:30:00"},{"$f":"VLOOKUP($AA799,DATA!$B$3:$E$6,4,0)","v":3.125E-2},0.30208333333333337,0.30208333333333337,{"$f":"DATA!$C$9","v":0.89},{"$f":"DATA!$C$10","v":64},1,407.81250000000006,407.81250000000006,0,"","",0,"","",0,"","","","",null,{"$f":"X793","v":38},null,{"$f":"TEXT(Y798,\"ddd\")","v":"za"},"MD",{"$f":"IFERROR(HLOOKUP(Y798,[1]DATA!$A$1:$NB$5,4,0),\"\")","v":"-"},null,null,null,null,{"$f":"VLOOKUP(Y798,[1]SRI!$S$4:$Z$368,3,0)","v":0},"","",""]
["38zaND",{"$f":"VLOOKUP($AA800,DATA!$B$3:$E$6,2,0)","v":"22:30:00"},{"$f":"VLOOKUP($AA800,DATA!$B$3:$E$6,3,0)","v":"06:30:00"},{"$f":"VLOOKUP($AA800,DATA!$B$3:$E$6,4,0)","v":3.125E-2},0.30208333333333326,0.30208333333333326,{"$f":"DATA!$C$9","v":0.89},{"$f":"DATA!$C$10","v":64},1,407.81249999999989,407.81249999999989,0,"","",0,"","",0,"","","","",null,{"$f":"X793","v":38},null,{"$f":"TEXT(Y798,\"ddd\")","v":"za"},"ND",{"$f":"IFERROR(HLOOKUP(Y798,[1]DATA!$A$1:$NB$5,5,0),\"\")","v":"-"},null,null,null,null,{"$f":"VLOOKUP(Y798,[1]SRI!$S$4:$Z$368,4,0)","v":0},"","",""]
["38zoDD",{"$f":"VLOOKUP($AA801,DATA!$B$3:$E$6,2,0)","v":"06:30:00"},{"$f":"VLOOKUP($AA801,DATA!$B$3:$E$6,3,0)","v":"14:30:00"},{"$f":"VLOOKUP($AA801,DATA!$B$3:$E$6,4,0)","v":3.125E-2},0.30208333333333331,0.30208333333333331,{"$f":"DATA!$C$9","v":0.89},{"$f":"DATA!$C$10","v":64},1,407.8125,407.8125,0,"","",0,"","",0,"","","","",null,{"$f":"X793","v":38},"2018-09-23",{"$f":"TEXT(Y801,\"ddd\")","v":"zo"},"DD",{"$f":"IFERROR(HLOOKUP(Y801,[1]DATA!$A$1:$NB$5,3,0),\"\")","v":"-"},null,null,null,null,{"$f":"VLOOKUP(Y801,[1]SRI!$S$4:$Z$368,2,0)","v":0},"","",""]
["38zoMD",{"$f":"VLOOKUP($AA802,DATA!$B$3:$E$6,2,0)","v":"14:30:00"},{"$f":"VLOOKUP($AA802,DATA!$B$3:$E$6,3,0)","v":"22:30:00"},{"$f":"VLOOKUP($AA802,DATA!$B$3:$E$6,4,0)","v":3.125E-2},0.30208333333333337,0.30208333333333337,{"$f":"DATA!$C$9","v":0.89},{"$f":"DATA!$C$10","v":64},1,407.81250000000006,407.81250000000006,0,"","",0,"","",0,"","","","",null,{"$f":"X793","v":38},null,{"$f":"TEXT(Y801,\"ddd\")","v":"zo"},"MD",{"$f":"IFERROR(HLOOKUP(Y801,[1]DATA!$A$1:$NB$5,4,0),\"\")","v":"-"},null,null,null,null,{"$f":"VLOOKUP(Y801,[1]SRI!$S$4:$Z$368,3,0)","v":0},"","",""]
["38zoZND",{"$f":"VLOOKUP($AA803,DATA!$B$3:$E$6,2,0)","v":"00:00:00"},{"$f":"VLOOKUP($AA803,DATA!$B$3:$E$6,3,0)","v":"00:00:00"},{"$f":"VLOOKUP($AA803,DATA!$B$3:$E$6,4,0)","v":3.125E-2},-3.125E-2,-3.125E-2,{"$f":"DATA!$C$9","v":0.89},{"$f":"DATA!$C$10","v":64},1,-42.1875,-42.1875,0,"","",0,"","",0,"","","","",null,{"$f":"X793","v":38},null,{"$f":"TEXT(Y801,\"ddd\")","v":"zo"},"ZND",{"$f":"IFERROR(HLOOKUP(Y801,[1]DATA!$A$1:$NB$5,5,0),\"\")","v":"-"},null,null,null,null,{"$f":"VLOOKUP(Y801,[1]SRI!$S$4:$Z$368,4,0)","v":0},"","",""]
["39maDD",{"$f":"VLOOKUP($AA804,DATA!$B$3:$E$6,2,0)","v":"06:30:00"},{"$f":"VLOOKUP($AA804,DATA!$B$3:$E$6,3,0)","v":"14:30:00"},{"$f":"VLOOKUP($AA804,DATA!$B$3:$E$6,4,0)","v":3.125E-2},0.30208333333333331,0.30208333333333331,{"$f":"DATA!$C$9","v":0.89},{"$f":"DATA!$C$10","v":64},1,407.8125,407.8125,0,"","",{"$f":"TIME(INT($AD804/60),INT(MOD($AD804,60)/1),0)","v":0},"","",0,"","","","",null,{"$f":"X814","v":39},"2018-09-24",{"$f":"TEXT(Y804,\"ddd\")","v":"ma"},"DD",{"$f":"IFERROR(HLOOKUP(Y804,[1]DATA!$A$1:$NB$5,3,0),\"\")","v":"D2"},null,null,null,null,{"$f":"VLOOKUP(Y804,[1]SRI!$S$4:$Z$368,2,0)","v":0},"","","",{"$f":"IF(SUMIF(S804:S824,\">0\",K804:K824)=0,\"\",SUMIF(S804:S824,\">0\",K804:K824))","v":""},{"$f":"IF(SUM(S804:S824)=0,\"\",SUM(S804:S824))","v":""},{"$f":"IFERROR(AL804/AK804,\"-\")","v":"-"},{"$f":"IF(SUM(M804:M824)=0,\"0\",SUM(M804:M824))","v":"0"},{"$f":"IFERROR(AN804/AK804,\"-\")","v":"-"},{"$f":"IF(SUM(P804:P824)=0,0,SUM(P804:P824))","v":0},{"$f":"IFERROR(AP804/AK804,\"-\")","v":"-"},{"$f":"IFERROR(AVERAGE(AJ804:AJ824),\"-\")","v":0},{"$f":"IFERROR(SUMIF($AB804:$AB824,AS$5,$AJ804:$AJ824)/COUNTIFS($AB804:$AB824,AS$5,$AJ804:$AJ824,\">0\"),\"\")","v":""},"","",{"$f":"IFERROR((AK804-AL804-AN804-AP804),\"-\")","v":"-"},{"$f":"IFERROR((1-AM804-AO804-AQ804), \"-\")","v":"-"},{"$f":"IFERROR((AV804*$AE$2)/60,\"-\")","v":"-"},{"$f":"IFERROR(SUM(AG804:AG824),\"\")","v":84}]
["39maMD",{"$f":"VLOOKUP($AA805,DATA!$B$3:$E$6,2,0)","v":"14:30:00"},{"$f":"VLOOKUP($AA805,DATA!$B$3:$E$6,3,0)","v":"22:30:00"},{"$f":"VLOOKUP($AA805,DATA!$B$3:$E$6,4,0)","v":3.125E-2},0.30208333333333337,0.30208333333333337,{"$f":"DATA!$C$9","v":0.89},{"$f":"DATA!$C$10","v":64},1,407.81250000000006,407.81250000000006,0,"","",{"$f":"TIME(INT(AD805/60),INT(MOD(AD805,60)/1),0)","v":0},"","",0,"","","","",null,{"$f":"X814","v":39},null,{"$f":"TEXT(Y804,\"ddd\")","v":"ma"},"MD",{"$f":"IFERROR(HLOOKUP(Y804,[1]DATA!$A$1:$NB$5,4,0),\"\")","v":"D1"},null,null,null,null,{"$f":"VLOOKUP(Y804,[1]SRI!$S$4:$Z$368,3,0)","v":30},"","",0]
["39maND",{"$f":"VLOOKUP($AA806,DATA!$B$3:$E$6,2,0)","v":"22:30:00"},{"$f":"VLOOKUP($AA806,DATA!$B$3:$E$6,3,0)","v":"06:30:00"},{"$f":"VLOOKUP($AA806,DATA!$B$3:$E$6,4,0)","v":3.125E-2},0.30208333333333326,0.30208333333333326,{"$f":"DATA!$C$9","v":0.89},{"$f":"DATA!$C$10","v":64},1,407.81249999999989,407.81249999999989,0,"","",0,"","",0,"","","","",null,{"$f":"X814","v":39},null,{"$f":"TEXT(Y804,\"ddd\")","v":"ma"},"ND",{"$f":"IFERROR(HLOOKUP(Y804,[1]DATA!$A$1:$NB$5,5,0),\"\")","v":"D3"},null,null,null,null,{"$f":"VLOOKUP(Y804,[1]SRI!$S$4:$Z$368,4,0)","v":10},"","",0]
["39diDD",{"$f":"VLOOKUP($AA807,DATA!$B$3:$E$6,2,0)","v":"06:30:00"},{"$f":"VLOOKUP($AA807,DATA!$B$3:$E$6,3,0)","v":"14:30:00"},{"$f":"VLOOKUP($AA807,DATA!$B$3:$E$6,4,0)","v":3.125E-2},0.30208333333333331,0.30208333333333331,{"$f":"DATA!$C$9","v":0.89},{"$f":"DATA!$C$10","v":64},1,407.8125,407.8125,0,"","",0,"","",0,"","","","",null,{"$f":"X814","v":39},"2018-09-25",{"$f":"TEXT(Y807,\"ddd\")","v":"di"},"DD",{"$f":"IFERROR(HLOOKUP(Y807,[1]DATA!$A$1:$NB$5,3,0),\"\")","v":"D2"},null,null,null,null,{"$f":"VLOOKUP(Y807,[1]SRI!$S$4:$Z$368,2,0)","v":9},"","",0]
["39diMD",{"$f":"VLOOKUP($AA808,DATA!$B$3:$E$6,2,0)","v":"14:30:00"},{"$f":"VLOOKUP($AA808,DATA!$B$3:$E$6,3,0)","v":"22:30:00"},{"$f":"VLOOKUP($AA808,DATA!$B$3:$E$6,4,0)","v":3.125E-2},0.30208333333333337,0.30208333333333337,{"$f":"DATA!$C$9","v":0.89},{"$f":"DATA!$C$10","v":64},1,407.81250000000006,407.81250000000006,0,"","",0,"","",0,"","","","",null,{"$f":"X814","v":39},null,{"$f":"TEXT(Y807,\"ddd\")","v":"di"},"MD",{"$f":"IFERROR(HLOOKUP(Y807,[1]DATA!$A$1:$NB$5,4,0),\"\")","v":"D1"},null,null,null,null,{"$f":"VLOOKUP(Y807,[1]SRI!$S$4:$Z$368,3,0)","v":12},"","",0]
["39diND",{"$f":"VLOOKUP($AA809,DATA!$B$3:$E$6,2,0)","v":"22:30:00"},{"$f":"VLOOKUP($AA809,DATA!$B$3:$E$6,3,0)","v":"06:30:00"},{"$f":"VLOOKUP($AA809,DATA!$B$3:$E$6,4,0)","v":3.125E-2},0.30208333333333326,0.30208333333333326,{"$f":"DATA!$C$9","v":0.89},{"$f":"DATA!$C$10","v":64},1,407.81249999999989,407.81249999999989,0,"","",0,"","",0,"","","","",null,{"$f":"X814","v":39},null,{"$f":"TEXT(Y807,\"ddd\")","v":"di"},"ND",{"$f":"IFERROR(HLOOKUP(Y807,[1]DATA!$A$1:$NB$5,5,0),\"\")","v":"D3"},null,null,null,null,{"$f":"VLOOKUP(Y807,[1]SRI!$S$4:$Z$368,4,0)","v":0},"","",""]
["39woDD",{"$f":"VLOOKUP($AA810,DATA!$B$3:$E$6,2,0)","v":"06:30:00"},{"$f":"VLOOKUP($AA810,DATA!$B$3:$E$6,3,0)","v":"14:30:00"},{"$f":"VLOOKUP($AA810,DATA!$B$3:$E$6,4,0)","v":3.125E-2},0.30208333333333331,0.30208333333333331,{"$f":"DATA!$C$9","v":0.89},{"$f":"DATA!$C$10","v":64},1,407.8125,407.8125,0,"","",0,"","",0,"","","","",null,{"$f":"X814","v":39},"2018-09-26",{"$f":"TEXT(Y810,\"ddd\")","v":"wo"},"DD",{"$f":"IFERROR(HLOOKUP(Y810,[1]DATA!$A$1:$NB$5,3,0),\"\")","v":"D2"},null,null,null,null,{"$f":"VLOOKUP(Y810,[1]SRI!$S$4:$Z$368,2,0)","v":15},"","",0]
["39woMD",{"$f":"VLOOKUP($AA811,DATA!$B$3:$E$6,2,0)","v":"14:30:00"},{"$f":"VLOOKUP($AA811,DATA!$B$3:$E$6,3,0)","v":"22:30:00"},{"$f":"VLOOKUP($AA811,DATA!$B$3:$E$6,4,0)","v":3.125E-2},0.30208333333333337,0.30208333333333337,{"$f":"DATA!$C$9","v":0.89},{"$f":"DATA!$C$10","v":64},1,407.81250000000006,407.81250000000006,0,"","",0,"","",0,"","","","",null,{"$f":"X814","v":39},null,{"$f":"TEXT(Y810,\"ddd\")","v":"wo"},"MD",{"$f":"IFERROR(HLOOKUP(Y810,[1]DATA!$A$1:$NB$5,4,0),\"\")","v":"D1"},null,null,null,null,{"$f":"VLOOKUP(Y810,[1]SRI!$S$4:$Z$368,3,0)","v":5},"","",0]
["39woND",{"$f":"VLOOKUP($AA812,DATA!$B$3:$E$6,2,0)","v":"22:30:00"},{"$f":"VLOOKUP($AA812,DATA!$B$3:$E$6,3,0)","v":"06:30:00"},{"$f":"VLOOKUP($AA812,DATA!$B$3:$E$6,4,0)","v":3.125E-2},0.30208333333333326,0.30208333333333326,{"$f":"DATA!$C$9","v":0.89},{"$f":"DATA!$C$10","v":64},1,407.81249999999989,407.81249999999989,0,"","",0,"","",0,"","","","",null,{"$f":"X814","v":39},null,{"$f":"TEXT(Y810,\"ddd\")","v":"wo"},"ND",{"$f":"IFERROR(HLOOKUP(Y810,[1]DATA!$A$1:$NB$5,5,0),\"\")","v":"D3"},null,null,null,null,{"$f":"VLOOKUP(Y810,[1]SRI!$S$4:$Z$368,4,0)","v":0},"","",""]
["39doDD",{"$f":"VLOOKUP($AA813,DATA!$B$3:$E$6,2,0)","v":"06:30:00"},{"$f":"VLOOKUP($AA813,DATA!$B$3:$E$6,3,0)","v":"14:30:00"},{"$f":"VLOOKUP($AA813,DATA!$B$3:$E$6,4,0)","v":3.125E-2},0.30208333333333331,0.30208333333333331,{"$f":"DATA!$C$9","v":0.89},{"$f":"DATA!$C$10","v":64},1,407.8125,407.8125,0,"","",0,"","",0,"","","","",null,{"$f":"X814","v":39},"2018-09-27",{"$f":"TEXT(Y813,\"ddd\")","v":"do"},"DD",{"$f":"IFERROR(HLOOKUP(Y813,[1]DATA!$A$1:$NB$5,3,0),\"\")","v":"D2"},null,null,null,null,{"$f":"VLOOKUP(Y813,[1]SRI!$S$4:$Z$368,2,0)","v":0},"","",""]
["39doMD",{"$f":"VLOOKUP($AA814,DATA!$B$3:$E$6,2,0)","v":"14:30:00"},{"$f":"VLOOKUP($AA814,DATA!$B$3:$E$6,3,0)","v":"22:30:00"},{"$f":"VLOOKUP($AA814,DATA!$B$3:$E$6,4,0)","v":3.125E-2},0.30208333333333337,0.30208333333333337,{"$f":"DATA!$C$9","v":0.89},{"$f":"DATA!$C$10","v":64},1,407.81250000000006,407.81250000000006,0,"","",0,"","",0,"","","","",null,{"$f":"WEEKNUM($Y804)","v":39},null,{"$f":"TEXT(Y813,\"ddd\")","v":"do"},"MD",{"$f":"IFERROR(HLOOKUP(Y813,[1]DATA!$A$1:$NB$5,4,0),\"\")","v":"D1"},null,null,null,null,{"$f":"VLOOKUP(Y813,[1]SRI!$S$4:$Z$368,3,0)","v":3},"","",0]
["39doND",{"$f":"VLOOKUP($AA815,DATA!$B$3:$E$6,2,0)","v":"22:30:00"},{"$f":"VLOOKUP($AA815,DATA!$B$3:$E$6,3,0)","v":"06:30:00"},{"$f":"VLOOKUP($AA815,DATA!$B$3:$E$6,4,0)","v":3.125E-2},0.30208333333333326,0.30208333333333326,{"$f":"DATA!$C$9","v":0.89},{"$f":"DATA!$C$10","v":64},1,407.81249999999989,407.81249999999989,0,"","",0,"","",0,"","","","",null,{"$f":"X814","v":39},null,{"$f":"TEXT(Y813,\"ddd\")","v":"do"},"ND",{"$f":"IFERROR(HLOOKUP(Y813,[1]DATA!$A$1:$NB$5,5,0),\"\")","v":"D3"},null,null,null,null,{"$f":"VLOOKUP(Y813,[1]SRI!$S$4:$Z$368,4,0)","v":0},"","",""]
[{"$f":"X816&Z816&AA816","v":"39vrDD"},{"$f":"VLOOKUP($AA816,DATA!$B$3:$E$6,2,0)","v":"06:30:00"},{"$f":"VLOOKUP($AA816,DATA!$B$3:$E$6,3,0)","v":"14:30:00"},{"$f":"VLOOKUP($AA816,DATA!$B$3:$E$6,4,0)","v":3.125E-2},0.30208333333333331,0.30208333333333331,{"$f":"DATA!$C$9","v":0.89},{"$f":"DATA!$C$10","v":64},1,407.8125,407.8125,0,"","",0,{"$f":"IF($O816*86400/$H816=0,\"\",$O816*86400/$H816)","v":""},"",0,"","","","",null,{"$f":"X814","v":39},"2018-09-28",{"$f":"TEXT(Y816,\"ddd\")","v":"vr"},"DD",{"$f":"IFERROR(HLOOKUP(Y816,[1]DATA!$A$1:$NB$5,3,0),\"\")","v":"D2"},null,null,null,null,{"$f":"VLOOKUP(Y816,[1]SRI!$S$4:$Z$368,2,0)","v":0},"","",""]
["39vrMD",{"$f":"VLOOKUP($AA817,DATA!$B$3:$E$6,2,0)","v":"14:30:00"},{"$f":"VLOOKUP($AA817,DATA!$B$3:$E$6,3,0)","v":"22:30:00"},{"$f":"VLOOKUP($AA817,DATA!$B$3:$E$6,4,0)","v":3.125E-2},0.30208333333333337,0.30208333333333337,{"$f":"DATA!$C$9","v":0.89},{"$f":"DATA!$C$10","v":64},1,407.81250000000006,407.81250000000006,0,"","",0,"","",0,"","","","",null,{"$f":"X814","v":39},null,{"$f":"TEXT(Y816,\"ddd\")","v":"vr"},"MD",{"$f":"IFERROR(HLOOKUP(Y816,[1]DATA!$A$1:$NB$5,4,0),\"\")","v":"D1"},null,null,null,null,{"$f":"VLOOKUP(Y816,[1]SRI!$S$4:$Z$368,3,0)","v":0},"","",""]
["39vrND",{"$f":"VLOOKUP($AA818,DATA!$B$3:$E$6,2,0)","v":"22:30:00"},{"$f":"VLOOKUP($AA818,DATA!$B$3:$E$6,3,0)","v":"06:30:00"},{"$f":"VLOOKUP($AA818,DATA!$B$3:$E$6,4,0)","v":3.125E-2},0.30208333333333326,0.30208333333333326,{"$f":"DATA!$C$9","v":0.89},{"$f":"DATA!$C$10","v":64},1,407.81249999999989,407.81249999999989,0,"","",0,"","",0,"","","","",null,{"$f":"X814","v":39},null,{"$f":"TEXT(Y816,\"ddd\")","v":"vr"},"ND",{"$f":"IFERROR(HLOOKUP(Y816,[1]DATA!$A$1:$NB$5,5,0),\"\")","v":"D3"},null,null,null,null,{"$f":"VLOOKUP(Y816,[1]SRI!$S$4:$Z$368,4,0)","v":0},"","",""]
["39zaDD",{"$f":"VLOOKUP($AA819,DATA!$B$3:$E$6,2,0)","v":"06:30:00"},{"$f":"VLOOKUP($AA819,DATA!$B$3:$E$6,3,0)","v":"14:30:00"},{"$f":"VLOOKUP($AA819,DATA!$B$3:$E$6,4,0)","v":3.125E-2},0.30208333333333331,0.30208333333333331,{"$f":"DATA!$C$9","v":0.89},{"$f":"DATA!$C$10","v":64},1,407.8125,407.8125,0,"","",0,"","",0,"","","","",null,{"$f":"X814","v":39},"2018-09-29",{"$f":"TEXT(Y819,\"ddd\")","v":"za"},"DD",{"$f":"IFERROR(HLOOKUP(Y819,[1]DATA!$A$1:$NB$5,3,0),\"\")","v":"D2"},null,null,null,null,{"$f":"VLOOKUP(Y819,[1]SRI!$S$4:$Z$368,2,0)","v":0},"","",""]
["39zaMD",{"$f":"VLOOKUP($AA820,DATA!$B$3:$E$6,2,0)","v":"14:30:00"},{"$f":"VLOOKUP($AA820,DATA!$B$3:$E$6,3,0)","v":"22:30:00"},{"$f":"VLOOKUP($AA820,DATA!$B$3:$E$6,4,0)","v":3.125E-2},0.30208333333333337,0.30208333333333337,{"$f":"DATA!$C$9","v":0.89},{"$f":"DATA!$C$10","v":64},1,407.81250000000006,407.81250000000006,0,"","",0,"","",0,"","","","",null,{"$f":"X814","v":39},null,{"$f":"TEXT(Y819,\"ddd\")","v":"za"},"MD",{"$f":"IFERROR(HLOOKUP(Y819,[1]DATA!$A$1:$NB$5,4,0),\"\")","v":"-"},null,null,null,null,{"$f":"VLOOKUP(Y819,[1]SRI!$S$4:$Z$368,3,0)","v":0},"","",""]
["39zaND",{"$f":"VLOOKUP($AA821,DATA!$B$3:$E$6,2,0)","v":"22:30:00"},{"$f":"VLOOKUP($AA821,DATA!$B$3:$E$6,3,0)","v":"06:30:00"},{"$f":"VLOOKUP($AA821,DATA!$B$3:$E$6,4,0)","v":3.125E-2},0.30208333333333326,0.30208333333333326,{"$f":"DATA!$C$9","v":0.89},{"$f":"DATA!$C$10","v":64},1,407.81249999999989,407.81249999999989,0,"","",0,"","",0,"","","","",null,{"$f":"X814","v":39},null,{"$f":"TEXT(Y819,\"ddd\")","v":"za"},"ND",{"$f":"IFERROR(HLOOKUP(Y819,[1]DATA!$A$1:$NB$5,5,0),\"\")","v":"-"},null,null,null,null,{"$f":"VLOOKUP(Y819,[1]SRI!$S$4:$Z$368,4,0)","v":0},"","",""]
["39zoDD",{"$f":"VLOOKUP($AA822,DATA!$B$3:$E$6,2,0)","v":"06:30:00"},{"$f":"VLOOKUP($AA822,DATA!$B$3:$E$6,3,0)","v":"14:30:00"},{"$f":"VLOOKUP($AA822,DATA!$B$3:$E$6,4,0)","v":3.125E-2},0.30208333333333331,0.30208333333333331,{"$f":"DATA!$C$9","v":0.89},{"$f":"DATA!$C$10","v":64},1,407.8125,407.8125,0,"","",0,"","",0,"","","","",null,{"$f":"X814","v":39},"2018-09-30",{"$f":"TEXT(Y822,\"ddd\")","v":"zo"},"DD",{"$f":"IFERROR(HLOOKUP(Y822,[1]DATA!$A$1:$NB$5,3,0),\"\")","v":"-"},null,null,null,null,{"$f":"VLOOKUP(Y822,[1]SRI!$S$4:$Z$368,2,0)","v":0},"","",""]
["39zoMD",{"$f":"VLOOKUP($AA823,DATA!$B$3:$E$6,2,0)","v":"14:30:00"},{"$f":"VLOOKUP($AA823,DATA!$B$3:$E$6,3,0)","v":"22:30:00"},{"$f":"VLOOKUP($AA823,DATA!$B$3:$E$6,4,0)","v":3.125E-2},0.30208333333333337,0.30208333333333337,{"$f":"DATA!$C$9","v":0.89},{"$f":"DATA!$C$10","v":64},1,407.81250000000006,407.81250000000006,0,"","",0,"","",0,"","","","",null,{"$f":"X814","v":39},null,{"$f":"TEXT(Y822,\"ddd\")","v":"zo"},"MD",{"$f":"IFERROR(HLOOKUP(Y822,[1]DATA!$A$1:$NB$5,4,0),\"\")","v":"-"},null,null,null,null,{"$f":"VLOOKUP(Y822,[1]SRI!$S$4:$Z$368,3,0)","v":0},"","",""]
["39zoZND",{"$f":"VLOOKUP($AA824,DATA!$B$3:$E$6,2,0)","v":"00:00:00"},{"$f":"VLOOKUP($AA824,DATA!$B$3:$E$6,3,0)","v":"00:00:00"},{"$f":"VLOOKUP($AA824,DATA!$B$3:$E$6,4,0)","v":3.125E-2},-3.125E-2,-3.125E-2,{"$f":"DATA!$C$9","v":0.89},{"$f":"DATA!$C$10","v":64},1,-42.1875,-42.1875,0,"","",0,"","",0,"","","","",null,{"$f":"X814","v":39},null,{"$f":"TEXT(Y822,\"ddd\")","v":"zo"},"ZND",{"$f":"IFERROR(HLOOKUP(Y822,[1]DATA!$A$1:$NB$5,5,0),\"\")","v":"-"},null,null,null,null,{"$f":"VLOOKUP(Y822,[1]SRI!$S$4:$Z$368,4,0)","v":0},"","",""]
["40maDD",{"$f":"VLOOKUP($AA825,DATA!$B$3:$E$6,2,0)","v":"06:30:00"},{"$f":"VLOOKUP($AA825,DATA!$B$3:$E$6,3,0)","v":"14:30:00"},{"$f":"VLOOKUP($AA825,DATA!$B$3:$E$6,4,0)","v":3.125E-2},0.30208333333333331,0.30208333333333331,{"$f":"DATA!$C$9","v":0.89},{"$f":"DATA!$C$10","v":64},1,407.8125,407.8125,0,"","",{"$f":"TIME(INT($AD825/60),INT(MOD($AD825,60)/1),0)","v":0},"","",0,"","","","",null,{"$f":"X835","v":40},{"$f":"Y822+1","v":"2018-10-01"},{"$f":"TEXT(Y825,\"ddd\")","v":"ma"},"DD",{"$f":"IFERROR(HLOOKUP(Y825,[1]DATA!$A$1:$NB$5,3,0),\"\")","v":"D1"},null,null,null,null,{"$f":"VLOOKUP(Y825,[1]SRI!$S$4:$Z$368,2,0)","v":0},"","","",{"$f":"IF(SUMIF(S825:S845,\">0\",K825:K845)=0,\"\",SUMIF(S825:S845,\">0\",K825:K845))","v":""},{"$f":"IF(SUM(S825:S845)=0,\"\",SUM(S825:S845))","v":""},{"$f":"IFERROR(AL825/AK825,\"-\")","v":"-"},{"$f":"IF(SUM(M825:M845)=0,\"0\",SUM(M825:M845))","v":"0"},{"$f":"IFERROR(AN825/AK825,\"-\")","v":"-"},{"$f":"IF(SUM(P825:P845)=0,0,SUM(P825:P845))","v":0},{"$f":"IFERROR(AP825/AK825,\"-\")","v":"-"},{"$f":"IFERROR(AVERAGE(AJ825:AJ845),\"-\")","v":"-"},{"$f":"IFERROR(SUMIF($AB825:$AB845,AS$5,$AJ825:$AJ845)/COUNTIFS($AB825:$AB845,AS$5,$AJ825:$AJ845,\">0\"),\"\")","v":""},"","",{"$f":"IFERROR((AK825-AL825-AN825-AP825),\"-\")","v":"-"},{"$f":"IFERROR((1-AM825-AO825-AQ825), \"-\")","v":"-"},{"$f":"IFERROR((AV825*$AE$2)/60,\"-\")","v":"-"},{"$f":"IFERROR(SUM(AG825:AG845),\"\")","v":0}]
["40maMD",{"$f":"VLOOKUP($AA826,DATA!$B$3:$E$6,2,0)","v":"14:30:00"},{"$f":"VLOOKUP($AA826,DATA!$B$3:$E$6,3,0)","v":"22:30:00"},{"$f":"VLOOKUP($AA826,DATA!$B$3:$E$6,4,0)","v":3.125E-2},0.30208333333333337,0.30208333333333337,{"$f":"DATA!$C$9","v":0.89},{"$f":"DATA!$C$10","v":64},1,407.81250000000006,407.81250000000006,0,"","",{"$f":"TIME(INT(AD826/60),INT(MOD(AD826,60)/1),0)","v":0},"","",0,"","","","",null,{"$f":"X835","v":40},null,{"$f":"TEXT(Y825,\"ddd\")","v":"ma"},"MD",{"$f":"IFERROR(HLOOKUP(Y825,[1]DATA!$A$1:$NB$5,4,0),\"\")","v":"D3"},null,null,null,null,{"$f":"VLOOKUP(Y825,[1]SRI!$S$4:$Z$368,3,0)","v":0},"","",""]
["40maND",{"$f":"VLOOKUP($AA827,DATA!$B$3:$E$6,2,0)","v":"22:30:00"},{"$f":"VLOOKUP($AA827,DATA!$B$3:$E$6,3,0)","v":"06:30:00"},{"$f":"VLOOKUP($AA827,DATA!$B$3:$E$6,4,0)","v":3.125E-2},0.30208333333333326,0.30208333333333326,{"$f":"DATA!$C$9","v":0.89},{"$f":"DATA!$C$10","v":64},1,407.81249999999989,407.81249999999989,0,"","",0,"","",0,"","","","",null,{"$f":"X835","v":40},null,{"$f":"TEXT(Y825,\"ddd\")","v":"ma"},"ND",{"$f":"IFERROR(HLOOKUP(Y825,[1]DATA!$A$1:$NB$5,5,0),\"\")","v":"D2"},null,null,null,null,{"$f":"VLOOKUP(Y825,[1]SRI!$S$4:$Z$368,4,0)","v":0},"","",""]
["40diDD",{"$f":"VLOOKUP($AA828,DATA!$B$3:$E$6,2,0)","v":"06:30:00"},{"$f":"VLOOKUP($AA828,DATA!$B$3:$E$6,3,0)","v":"14:30:00"},{"$f":"VLOOKUP($AA828,DATA!$B$3:$E$6,4,0)","v":3.125E-2},0.30208333333333331,0.30208333333333331,{"$f":"DATA!$C$9","v":0.89},{"$f":"DATA!$C$10","v":64},1,407.8125,407.8125,0,"","",0,"","",0,"","","","",null,{"$f":"X835","v":40},"2018-10-02",{"$f":"TEXT(Y828,\"ddd\")","v":"di"},"DD",{"$f":"IFERROR(HLOOKUP(Y828,[1]DATA!$A$1:$NB$5,3,0),\"\")","v":"D1"},null,null,null,null,{"$f":"VLOOKUP(Y828,[1]SRI!$S$4:$Z$368,2,0)","v":0},"","",""]
["40diMD",{"$f":"VLOOKUP($AA829,DATA!$B$3:$E$6,2,0)","v":"14:30:00"},{"$f":"VLOOKUP($AA829,DATA!$B$3:$E$6,3,0)","v":"22:30:00"},{"$f":"VLOOKUP($AA829,DATA!$B$3:$E$6,4,0)","v":3.125E-2},0.30208333333333337,0.30208333333333337,{"$f":"DATA!$C$9","v":0.89},{"$f":"DATA!$C$10","v":64},1,407.81250000000006,407.81250000000006,0,"","",0,"","",0,"","","","",null,{"$f":"X835","v":40},null,{"$f":"TEXT(Y828,\"ddd\")","v":"di"},"MD",{"$f":"IFERROR(HLOOKUP(Y828,[1]DATA!$A$1:$NB$5,4,0),\"\")","v":"D3"},null,null,null,null,{"$f":"VLOOKUP(Y828,[1]SRI!$S$4:$Z$368,3,0)","v":0},"","",""]
["40diND",{"$f":"VLOOKUP($AA830,DATA!$B$3:$E$6,2,0)","v":"22:30:00"},{"$f":"VLOOKUP($AA830,DATA!$B$3:$E$6,3,0)","v":"06:30:00"},{"$f":"VLOOKUP($AA830,DATA!$B$3:$E$6,4,0)","v":3.125E-2},0.30208333333333326,0.30208333333333326,{"$f":"DATA!$C$9","v":0.89},{"$f":"DATA!$C$10","v":64},1,407.81249999999989,407.81249999999989,0,"","",0,"","",0,"","","","",null,{"$f":"X835","v":40},null,{"$f":"TEXT(Y828,\"ddd\")","v":"di"},"ND",{"$f":"IFERROR(HLOOKUP(Y828,[1]DATA!$A$1:$NB$5,5,0),\"\")","v":"D2"},null,null,null,null,{"$f":"VLOOKUP(Y828,[1]SRI!$S$4:$Z$368,4,0)","v":0},"","",""]
["40woDD",{"$f":"VLOOKUP($AA831,DATA!$B$3:$E$6,2,0)","v":"06:30:00"},{"$f":"VLOOKUP($AA831,DATA!$B$3:$E$6,3,0)","v":"14:30:00"},{"$f":"VLOOKUP($AA831,DATA!$B$3:$E$6,4,0)","v":3.125E-2},0.30208333333333331,0.30208333333333331,{"$f":"DATA!$C$9","v":0.89},{"$f":"DATA!$C$10","v":64},1,407.8125,407.8125,0,"","",0,"","",0,"","","","",null,{"$f":"X835","v":40},"2018-10-03",{"$f":"TEXT(Y831,\"ddd\")","v":"wo"},"DD",{"$f":"IFERROR(HLOOKUP(Y831,[1]DATA!$A$1:$NB$5,3,0),\"\")","v":"D1"},null,null,null,null,{"$f":"VLOOKUP(Y831,[1]SRI!$S$4:$Z$368,2,0)","v":0},"","",""]
["40woMD",{"$f":"VLOOKUP($AA832,DATA!$B$3:$E$6,2,0)","v":"14:30:00"},{"$f":"VLOOKUP($AA832,DATA!$B$3:$E$6,3,0)","v":"22:30:00"},{"$f":"VLOOKUP($AA832,DATA!$B$3:$E$6,4,0)","v":3.125E-2},0.30208333333333337,0.30208333333333337,{"$f":"DATA!$C$9","v":0.89},{"$f":"DATA!$C$10","v":64},1,407.81250000000006,407.81250000000006,0,"","",0,"","",0,"","","","",null,{"$f":"X835","v":40},null,{"$f":"TEXT(Y831,\"ddd\")","v":"wo"},"MD",{"$f":"IFERROR(HLOOKUP(Y831,[1]DATA!$A$1:$NB$5,4,0),\"\")","v":"D3"},null,null,null,null,{"$f":"VLOOKUP(Y831,[1]SRI!$S$4:$Z$368,3,0)","v":0},"","",""]
["40woND",{"$f":"VLOOKUP($AA833,DATA!$B$3:$E$6,2,0)","v":"22:30:00"},{"$f":"VLOOKUP($AA833,DATA!$B$3:$E$6,3,0)","v":"06:30:00"},{"$f":"VLOOKUP($AA833,DATA!$B$3:$E$6,4,0)","v":3.125E-2},0.30208333333333326,0.30208333333333326,{"$f":"DATA!$C$9","v":0.89},{"$f":"DATA!$C$10","v":64},1,407.81249999999989,407.81249999999989,0,"","",0,"","",0,"","","","",null,{"$f":"X835","v":40},null,{"$f":"TEXT(Y831,\"ddd\")","v":"wo"},"ND",{"$f":"IFERROR(HLOOKUP(Y831,[1]DATA!$A$1:$NB$5,5,0),\"\")","v":"D2"},null,null,null,null,{"$f":"VLOOKUP(Y831,[1]SRI!$S$4:$Z$368,4,0)","v":0},"","",""]
["40doDD",{"$f":"VLOOKUP($AA834,DATA!$B$3:$E$6,2,0)","v":"06:30:00"},{"$f":"VLOOKUP($AA834,DATA!$B$3:$E$6,3,0)","v":"14:30:00"},{"$f":"VLOOKUP($AA834,DATA!$B$3:$E$6,4,0)","v":3.125E-2},0.30208333333333331,0.30208333333333331,{"$f":"DATA!$C$9","v":0.89},{"$f":"DATA!$C$10","v":64},1,407.8125,407.8125,0,"","",0,"","",0,"","","","",null,{"$f":"X835","v":40},"2018-10-04",{"$f":"TEXT(Y834,\"ddd\")","v":"do"},"DD",{"$f":"IFERROR(HLOOKUP(Y834,[1]DATA!$A$1:$NB$5,3,0),\"\")","v":"D1"},null,null,null,null,{"$f":"VLOOKUP(Y834,[1]SRI!$S$4:$Z$368,2,0)","v":0},"","",""]
["40doMD",{"$f":"VLOOKUP($AA835,DATA!$B$3:$E$6,2,0)","v":"14:30:00"},{"$f":"VLOOKUP($AA835,DATA!$B$3:$E$6,3,0)","v":"22:30:00"},{"$f":"VLOOKUP($AA835,DATA!$B$3:$E$6,4,0)","v":3.125E-2},0.30208333333333337,0.30208333333333337,{"$f":"DATA!$C$9","v":0.89},{"$f":"DATA!$C$10","v":64},1,407.81250000000006,407.81250000000006,0,"","",0,"","",0,"","","","",null,{"$f":"WEEKNUM($Y825)","v":40},null,{"$f":"TEXT(Y834,\"ddd\")","v":"do"},"MD",{"$f":"IFERROR(HLOOKUP(Y834,[1]DATA!$A$1:$NB$5,4,0),\"\")","v":"D3"},null,null,null,null,{"$f":"VLOOKUP(Y834,[1]SRI!$S$4:$Z$368,3,0)","v":0},"","",""]
["40doND",{"$f":"VLOOKUP($AA836,DATA!$B$3:$E$6,2,0)","v":"22:30:00"},{"$f":"VLOOKUP($AA836,DATA!$B$3:$E$6,3,0)","v":"06:30:00"},{"$f":"VLOOKUP($AA836,DATA!$B$3:$E$6,4,0)","v":3.125E-2},0.30208333333333326,0.30208333333333326,{"$f":"DATA!$C$9","v":0.89},{"$f":"DATA!$C$10","v":64},1,407.81249999999989,407.81249999999989,0,"","",0,"","",0,"","","","",null,{"$f":"X835","v":40},null,{"$f":"TEXT(Y834,\"ddd\")","v":"do"},"ND",{"$f":"IFERROR(HLOOKUP(Y834,[1]DATA!$A$1:$NB$5,5,0),\"\")","v":"D2"},null,null,null,null,{"$f":"VLOOKUP(Y834,[1]SRI!$S$4:$Z$368,4,0)","v":0},"","",""]
["40vrDD",{"$f":"VLOOKUP($AA837,DATA!$B$3:$E$6,2,0)","v":"06:30:00"},{"$f":"VLOOKUP($AA837,DATA!$B$3:$E$6,3,0)","v":"14:30:00"},{"$f":"VLOOKUP($AA837,DATA!$B$3:$E$6,4,0)","v":3.125E-2},0.30208333333333331,0.30208333333333331,{"$f":"DATA!$C$9","v":0.89},{"$f":"DATA!$C$10","v":64},1,407.8125,407.8125,0,"","",0,"","",0,"","","","",null,{"$f":"X835","v":40},"2018-10-05",{"$f":"TEXT(Y837,\"ddd\")","v":"vr"},"DD",{"$f":"IFERROR(HLOOKUP(Y837,[1]DATA!$A$1:$NB$5,3,0),\"\")","v":"D1"},null,null,null,null,{"$f":"VLOOKUP(Y837,[1]SRI!$S$4:$Z$368,2,0)","v":0},"","",""]
["40vrMD",{"$f":"VLOOKUP($AA838,DATA!$B$3:$E$6,2,0)","v":"14:30:00"},{"$f":"VLOOKUP($AA838,DATA!$B$3:$E$6,3,0)","v":"22:30:00"},{"$f":"VLOOKUP($AA838,DATA!$B$3:$E$6,4,0)","v":3.125E-2},0.30208333333333337,0.30208333333333337,{"$f":"DATA!$C$9","v":0.89},{"$f":"DATA!$C$10","v":64},1,{"$f":"F838*86400/H838*I838","v":407.81250000000006},{"$f":"E838*86400/H838","v":407.81250000000006},0,"","",0,"","",{"$f":"AF838*AG$2","v":0},{"$f":"IF(AF838-AE838=0,\"\",AF838-AE838)","v":""},"","","",null,{"$f":"X835","v":40},null,{"$f":"TEXT(Y837,\"ddd\")","v":"vr"},"MD",{"$f":"IFERROR(HLOOKUP(Y837,[1]DATA!$A$1:$NB$5,4,0),\"\")","v":"D3"},null,null,null,null,{"$f":"VLOOKUP(Y837,[1]SRI!$S$4:$Z$368,3,0)","v":0},{"$f":"IFERROR(S838-J838,\"\")","v":""},{"$f":"IFERROR(IF(S838/(E838*86400/H838)<=0,\"\",S838/(E838*86400/H838)),\"\")","v":""},{"$f":"IFERROR(R838/(R838+AG838),\"\")","v":""}]
["40vrND",{"$f":"VLOOKUP($AA839,DATA!$B$3:$E$6,2,0)","v":"22:30:00"},{"$f":"VLOOKUP($AA839,DATA!$B$3:$E$6,3,0)","v":"06:30:00"},{"$f":"VLOOKUP($AA839,DATA!$B$3:$E$6,4,0)","v":3.125E-2},0.30208333333333326,0.30208333333333326,{"$f":"DATA!$C$9","v":0.89},{"$f":"DATA!$C$10","v":64},1,407.81249999999989,407.81249999999989,{"$f":"TIME(INT($AC839/60),INT(MOD($AC839,60)/1),0)","v":0},{"$f":"IF($L839*86400/$H839=0,\"\",$L839*86400/$H839)","v":""},{"$f":"IFERROR($M839/$K839,\"\")","v":""},0,"",{"$f":"IFERROR($P839/$K839,\"\")","v":""},0,"",{"$f":"IF(IF($AB839=\"D1\",$S839,\"\")=0,\"\",IF($AB839=\"D1\",$S839,\"\"))","v":""},{"$f":"IF(IF($AB839=\"D2\",$S839,\"\")=0,\"\",IF($AB839=\"D2\",$S839,\"\"))","v":""},{"$f":"IF(IF($AB839=\"D3\",$S839,\"\")=0,\"\",IF($AB839=\"D3\",$S839,\"\"))","v":""},null,{"$f":"X835","v":40},null,{"$f":"TEXT(Y837,\"ddd\")","v":"vr"},"ND",{"$f":"IFERROR(HLOOKUP(Y837,[1]DATA!$A$1:$NB$5,5,0),\"\")","v":"D2"},null,null,null,null,{"$f":"VLOOKUP(Y837,[1]SRI!$S$4:$Z$368,4,0)","v":0},"","",""]
["40zaDD",{"$f":"VLOOKUP($AA840,DATA!$B$3:$E$6,2,0)","v":"06:30:00"},{"$f":"VLOOKUP($AA840,DATA!$B$3:$E$6,3,0)","v":"14:30:00"},{"$f":"VLOOKUP($AA840,DATA!$B$3:$E$6,4,0)","v":3.125E-2},0.30208333333333331,0.30208333333333331,{"$f":"DATA!$C$9","v":0.89},{"$f":"DATA!$C$10","v":64},1,407.8125,407.8125,0,"","",0,"","",0,"","","","",null,{"$f":"X835","v":40},"2018-10-06",{"$f":"TEXT(Y840,\"ddd\")","v":"za"},"DD",{"$f":"IFERROR(HLOOKUP(Y840,[1]DATA!$A$1:$NB$5,3,0),\"\")","v":"D1"},null,null,null,null,{"$f":"VLOOKUP(Y840,[1]SRI!$S$4:$Z$368,2,0)","v":0},"","",""]
["40zaMD",{"$f":"VLOOKUP($AA841,DATA!$B$3:$E$6,2,0)","v":"14:30:00"},{"$f":"VLOOKUP($AA841,DATA!$B$3:$E$6,3,0)","v":"22:30:00"},{"$f":"VLOOKUP($AA841,DATA!$B$3:$E$6,4,0)","v":3.125E-2},0.30208333333333337,0.30208333333333337,{"$f":"DATA!$C$9","v":0.89},{"$f":"DATA!$C$10","v":64},1,407.81250000000006,407.81250000000006,0,"","",0,"","",0,"","","","",null,{"$f":"X835","v":40},null,{"$f":"TEXT(Y840,\"ddd\")","v":"za"},"MD",{"$f":"IFERROR(HLOOKUP(Y840,[1]DATA!$A$1:$NB$5,4,0),\"\")","v":"-"},null,null,null,null,{"$f":"VLOOKUP(Y840,[1]SRI!$S$4:$Z$368,3,0)","v":0},"","",""]
["40zaND",{"$f":"VLOOKUP($AA842,DATA!$B$3:$E$6,2,0)","v":"22:30:00"},{"$f":"VLOOKUP($AA842,DATA!$B$3:$E$6,3,0)","v":"06:30:00"},{"$f":"VLOOKUP($AA842,DATA!$B$3:$E$6,4,0)","v":3.125E-2},0.30208333333333326,0.30208333333333326,{"$f":"DATA!$C$9","v":0.89},{"$f":"DATA!$C$10","v":64},1,407.81249999999989,407.81249999999989,0,"","",0,"","",0,"","","","",null,{"$f":"X835","v":40},null,{"$f":"TEXT(Y840,\"ddd\")","v":"za"},"ND",{"$f":"IFERROR(HLOOKUP(Y840,[1]DATA!$A$1:$NB$5,5,0),\"\")","v":"-"},null,null,null,null,{"$f":"VLOOKUP(Y840,[1]SRI!$S$4:$Z$368,4,0)","v":0},"","",""]
["40zoDD",{"$f":"VLOOKUP($AA843,DATA!$B$3:$E$6,2,0)","v":"06:30:00"},{"$f":"VLOOKUP($AA843,DATA!$B$3:$E$6,3,0)","v":"14:30:00"},{"$f":"VLOOKUP($AA843,DATA!$B$3:$E$6,4,0)","v":3.125E-2},0.30208333333333331,0.30208333333333331,{"$f":"DATA!$C$9","v":0.89},{"$f":"DATA!$C$10","v":64},1,407.8125,407.8125,0,"","",0,"","",0,"","","","",null,{"$f":"X835","v":40},"2018-10-07",{"$f":"TEXT(Y843,\"ddd\")","v":"zo"},"DD",{"$f":"IFERROR(HLOOKUP(Y843,[1]DATA!$A$1:$NB$5,3,0),\"\")","v":"-"},null,null,null,null,{"$f":"VLOOKUP(Y843,[1]SRI!$S$4:$Z$368,2,0)","v":0},"","",""]
["40zoMD",{"$f":"VLOOKUP($AA844,DATA!$B$3:$E$6,2,0)","v":"14:30:00"},{"$f":"VLOOKUP($AA844,DATA!$B$3:$E$6,3,0)","v":"22:30:00"},{"$f":"VLOOKUP($AA844,DATA!$B$3:$E$6,4,0)","v":3.125E-2},0.30208333333333337,0.30208333333333337,{"$f":"DATA!$C$9","v":0.89},{"$f":"DATA!$C$10","v":64},1,407.81250000000006,407.81250000000006,0,"","",0,"","",0,"","","","",null,{"$f":"X835","v":40},null,{"$f":"TEXT(Y843,\"ddd\")","v":"zo"},"MD",{"$f":"IFERROR(HLOOKUP(Y843,[1]DATA!$A$1:$NB$5,4,0),\"\")","v":"-"},null,null,null,null,{"$f":"VLOOKUP(Y843,[1]SRI!$S$4:$Z$368,3,0)","v":0},"","",""]
["40zoZND",{"$f":"VLOOKUP($AA845,DATA!$B$3:$E$6,2,0)","v":"00:00:00"},{"$f":"VLOOKUP($AA845,DATA!$B$3:$E$6,3,0)","v":"00:00:00"},{"$f":"VLOOKUP($AA845,DATA!$B$3:$E$6,4,0)","v":3.125E-2},-3.125E-2,-3.125E-2,{"$f":"DATA!$C$9","v":0.89},{"$f":"DATA!$C$10","v":64},1,-42.1875,-42.1875,0,"","",0,"","",0,"","","","",null,{"$f":"X835","v":40},null,{"$f":"TEXT(Y843,\"ddd\")","v":"zo"},"ZND",{"$f":"IFERROR(HLOOKUP(Y843,[1]DATA!$A$1:$NB$5,5,0),\"\")","v":"-"},null,null,null,null,{"$f":"VLOOKUP(Y843,[1]SRI!$S$4:$Z$368,4,0)","v":0},"","",""]
["41maDD",{"$f":"VLOOKUP($AA846,DATA!$B$3:$E$6,2,0)","v":"06:30:00"},{"$f":"VLOOKUP($AA846,DATA!$B$3:$E$6,3,0)","v":"14:30:00"},{"$f":"VLOOKUP($AA846,DATA!$B$3:$E$6,4,0)","v":3.125E-2},0.30208333333333331,0.30208333333333331,{"$f":"DATA!$C$9","v":0.89},{"$f":"DATA!$C$10","v":64},1,407.8125,407.8125,0,"","",{"$f":"TIME(INT($AD846/60),INT(MOD($AD846,60)/1),0)","v":0},"","",0,"","","","",null,{"$f":"X856","v":41},"2018-10-08",{"$f":"TEXT(Y846,\"ddd\")","v":"ma"},"DD",{"$f":"IFERROR(HLOOKUP(Y846,[1]DATA!$A$1:$NB$5,3,0),\"\")","v":"D3"},null,null,null,null,{"$f":"VLOOKUP(Y846,[1]SRI!$S$4:$Z$368,2,0)","v":0},"","","",{"$f":"IF(SUMIF(S846:S866,\">0\",K846:K866)=0,\"\",SUMIF(S846:S866,\">0\",K846:K866))","v":""},{"$f":"IF(SUM(S846:S866)=0,\"\",SUM(S846:S866))","v":""},{"$f":"IFERROR(AL846/AK846,\"-\")","v":"-"},{"$f":"IF(SUM(M846:M866)=0,\"0\",SUM(M846:M866))","v":"0"},{"$f":"IFERROR(AN846/AK846,\"-\")","v":"-"},{"$f":"IF(SUM(P846:P866)=0,0,SUM(P846:P866))","v":0},{"$f":"IFERROR(AP846/AK846,\"-\")","v":"-"},{"$f":"IFERROR(AVERAGE(AJ846:AJ866),\"-\")","v":"-"},{"$f":"IFERROR(SUMIF($AB846:$AB866,AS$5,$AJ846:$AJ866)/COUNTIFS($AB846:$AB866,AS$5,$AJ846:$AJ866,\">0\"),\"\")","v":""},"","",{"$f":"IFERROR((AK846-AL846-AN846-AP846),\"-\")","v":"-"},{"$f":"IFERROR((1-AM846-AO846-AQ846), \"-\")","v":"-"},{"$f":"IFERROR((AV846*$AE$2)/60,\"-\")","v":"-"},{"$f":"IFERROR(SUM(AG846:AG866),\"\")","v":0}]
["41maMD",{"$f":"VLOOKUP($AA847,DATA!$B$3:$E$6,2,0)","v":"14:30:00"},{"$f":"VLOOKUP($AA847,DATA!$B$3:$E$6,3,0)","v":"22:30:00"},{"$f":"VLOOKUP($AA847,DATA!$B$3:$E$6,4,0)","v":3.125E-2},0.30208333333333337,0.30208333333333337,{"$f":"DATA!$C$9","v":0.89},{"$f":"DATA!$C$10","v":64},1,407.81250000000006,407.81250000000006,0,"","",{"$f":"TIME(INT(AD847/60),INT(MOD(AD847,60)/1),0)","v":0},"","",0,"","","","",null,{"$f":"X856","v":41},null,{"$f":"TEXT(Y846,\"ddd\")","v":"ma"},"MD",{"$f":"IFERROR(HLOOKUP(Y846,[1]DATA!$A$1:$NB$5,4,0),\"\")","v":"D2"},null,null,null,null,{"$f":"VLOOKUP(Y846,[1]SRI!$S$4:$Z$368,3,0)","v":0},"","",""]
["41maND",{"$f":"VLOOKUP($AA848,DATA!$B$3:$E$6,2,0)","v":"22:30:00"},{"$f":"VLOOKUP($AA848,DATA!$B$3:$E$6,3,0)","v":"06:30:00"},{"$f":"VLOOKUP($AA848,DATA!$B$3:$E$6,4,0)","v":3.125E-2},0.30208333333333326,0.30208333333333326,{"$f":"DATA!$C$9","v":0.89},{"$f":"DATA!$C$10","v":64},1,407.81249999999989,407.81249999999989,0,"","",0,"","",0,"","","","",null,{"$f":"X856","v":41},null,{"$f":"TEXT(Y846,\"ddd\")","v":"ma"},"ND",{"$f":"IFERROR(HLOOKUP(Y846,[1]DATA!$A$1:$NB$5,5,0),\"\")","v":"D1"},null,null,null,null,{"$f":"VLOOKUP(Y846,[1]SRI!$S$4:$Z$368,4,0)","v":0},"","",""]
["41diDD",{"$f":"VLOOKUP($AA849,DATA!$B$3:$E$6,2,0)","v":"06:30:00"},{"$f":"VLOOKUP($AA849,DATA!$B$3:$E$6,3,0)","v":"14:30:00"},{"$f":"VLOOKUP($AA849,DATA!$B$3:$E$6,4,0)","v":3.125E-2},0.30208333333333331,0.30208333333333331,{"$f":"DATA!$C$9","v":0.89},{"$f":"DATA!$C$10","v":64},1,407.8125,407.8125,0,"","",0,"","",0,"","","","",null,{"$f":"X856","v":41},"2018-10-09",{"$f":"TEXT(Y849,\"ddd\")","v":"di"},"DD",{"$f":"IFERROR(HLOOKUP(Y849,[1]DATA!$A$1:$NB$5,3,0),\"\")","v":"D3"},null,null,null,null,{"$f":"VLOOKUP(Y849,[1]SRI!$S$4:$Z$368,2,0)","v":0},"","",""]
["41diMD",{"$f":"VLOOKUP($AA850,DATA!$B$3:$E$6,2,0)","v":"14:30:00"},{"$f":"VLOOKUP($AA850,DATA!$B$3:$E$6,3,0)","v":"22:30:00"},{"$f":"VLOOKUP($AA850,DATA!$B$3:$E$6,4,0)","v":3.125E-2},0.30208333333333337,0.30208333333333337,{"$f":"DATA!$C$9","v":0.89},{"$f":"DATA!$C$10","v":64},1,407.81250000000006,407.81250000000006,0,"","",0,"","",0,"","","","",null,{"$f":"X856","v":41},null,{"$f":"TEXT(Y849,\"ddd\")","v":"di"},"MD",{"$f":"IFERROR(HLOOKUP(Y849,[1]DATA!$A$1:$NB$5,4,0),\"\")","v":"D2"},null,null,null,null,{"$f":"VLOOKUP(Y849,[1]SRI!$S$4:$Z$368,3,0)","v":0},"","",""]
["41diND",{"$f":"VLOOKUP($AA851,DATA!$B$3:$E$6,2,0)","v":"22:30:00"},{"$f":"VLOOKUP($AA851,DATA!$B$3:$E$6,3,0)","v":"06:30:00"},{"$f":"VLOOKUP($AA851,DATA!$B$3:$E$6,4,0)","v":3.125E-2},0.30208333333333326,0.30208333333333326,{"$f":"DATA!$C$9","v":0.89},{"$f":"DATA!$C$10","v":64},1,407.81249999999989,407.81249999999989,0,"","",0,"","",0,"","","","",null,{"$f":"X856","v":41},null,{"$f":"TEXT(Y849,\"ddd\")","v":"di"},"ND",{"$f":"IFERROR(HLOOKUP(Y849,[1]DATA!$A$1:$NB$5,5,0),\"\")","v":"D1"},null,null,null,null,{"$f":"VLOOKUP(Y849,[1]SRI!$S$4:$Z$368,4,0)","v":0},"","",""]
["41woDD",{"$f":"VLOOKUP($AA852,DATA!$B$3:$E$6,2,0)","v":"06:30:00"},{"$f":"VLOOKUP($AA852,DATA!$B$3:$E$6,3,0)","v":"14:30:00"},{"$f":"VLOOKUP($AA852,DATA!$B$3:$E$6,4,0)","v":3.125E-2},0.30208333333333331,0.30208333333333331,{"$f":"DATA!$C$9","v":0.89},{"$f":"DATA!$C$10","v":64},1,407.8125,407.8125,0,"","",0,"","",0,"","","","",null,{"$f":"X856","v":41},"2018-10-10",{"$f":"TEXT(Y852,\"ddd\")","v":"wo"},"DD",{"$f":"IFERROR(HLOOKUP(Y852,[1]DATA!$A$1:$NB$5,3,0),\"\")","v":"D3"},null,null,null,null,{"$f":"VLOOKUP(Y852,[1]SRI!$S$4:$Z$368,2,0)","v":0},"","",""]
["41woMD",{"$f":"VLOOKUP($AA853,DATA!$B$3:$E$6,2,0)","v":"14:30:00"},{"$f":"VLOOKUP($AA853,DATA!$B$3:$E$6,3,0)","v":"22:30:00"},{"$f":"VLOOKUP($AA853,DATA!$B$3:$E$6,4,0)","v":3.125E-2},0.30208333333333337,0.30208333333333337,{"$f":"DATA!$C$9","v":0.89},{"$f":"DATA!$C$10","v":64},1,407.81250000000006,407.81250000000006,0,"","",0,"","",0,"","","","",null,{"$f":"X856","v":41},null,{"$f":"TEXT(Y852,\"ddd\")","v":"wo"},"MD",{"$f":"IFERROR(HLOOKUP(Y852,[1]DATA!$A$1:$NB$5,4,0),\"\")","v":"D2"},null,null,null,null,{"$f":"VLOOKUP(Y852,[1]SRI!$S$4:$Z$368,3,0)","v":0},"","",""]
["41woND",{"$f":"VLOOKUP($AA854,DATA!$B$3:$E$6,2,0)","v":"22:30:00"},{"$f":"VLOOKUP($AA854,DATA!$B$3:$E$6,3,0)","v":"06:30:00"},{"$f":"VLOOKUP($AA854,DATA!$B$3:$E$6,4,0)","v":3.125E-2},0.30208333333333326,0.30208333333333326,{"$f":"DATA!$C$9","v":0.89},{"$f":"DATA!$C$10","v":64},1,407.81249999999989,407.81249999999989,0,"","",0,"","",0,"","","","",null,{"$f":"X856","v":41},null,{"$f":"TEXT(Y852,\"ddd\")","v":"wo"},"ND",{"$f":"IFERROR(HLOOKUP(Y852,[1]DATA!$A$1:$NB$5,5,0),\"\")","v":"D1"},null,null,null,null,{"$f":"VLOOKUP(Y852,[1]SRI!$S$4:$Z$368,4,0)","v":0},"","",""]
["41doDD",{"$f":"VLOOKUP($AA855,DATA!$B$3:$E$6,2,0)","v":"06:30:00"},{"$f":"VLOOKUP($AA855,DATA!$B$3:$E$6,3,0)","v":"14:30:00"},{"$f":"VLOOKUP($AA855,DATA!$B$3:$E$6,4,0)","v":3.125E-2},0.30208333333333331,0.30208333333333331,{"$f":"DATA!$C$9","v":0.89},{"$f":"DATA!$C$10","v":64},1,407.8125,407.8125,0,"","",0,"","",0,"","","","",null,{"$f":"X856","v":41},"2018-10-11",{"$f":"TEXT(Y855,\"ddd\")","v":"do"},"DD",{"$f":"IFERROR(HLOOKUP(Y855,[1]DATA!$A$1:$NB$5,3,0),\"\")","v":"D3"},null,null,null,null,{"$f":"VLOOKUP(Y855,[1]SRI!$S$4:$Z$368,2,0)","v":0},"","",""]
["41doMD",{"$f":"VLOOKUP($AA856,DATA!$B$3:$E$6,2,0)","v":"14:30:00"},{"$f":"VLOOKUP($AA856,DATA!$B$3:$E$6,3,0)","v":"22:30:00"},{"$f":"VLOOKUP($AA856,DATA!$B$3:$E$6,4,0)","v":3.125E-2},0.30208333333333337,0.30208333333333337,{"$f":"DATA!$C$9","v":0.89},{"$f":"DATA!$C$10","v":64},1,407.81250000000006,407.81250000000006,0,"","",0,"","",0,"","","","",null,{"$f":"WEEKNUM($Y846)","v":41},null,{"$f":"TEXT(Y855,\"ddd\")","v":"do"},"MD",{"$f":"IFERROR(HLOOKUP(Y855,[1]DATA!$A$1:$NB$5,4,0),\"\")","v":"D2"},null,null,null,null,{"$f":"VLOOKUP(Y855,[1]SRI!$S$4:$Z$368,3,0)","v":0},"","",""]
["41doND",{"$f":"VLOOKUP($AA857,DATA!$B$3:$E$6,2,0)","v":"22:30:00"},{"$f":"VLOOKUP($AA857,DATA!$B$3:$E$6,3,0)","v":"06:30:00"},{"$f":"VLOOKUP($AA857,DATA!$B$3:$E$6,4,0)","v":3.125E-2},0.30208333333333326,0.30208333333333326,{"$f":"DATA!$C$9","v":0.89},{"$f":"DATA!$C$10","v":64},1,407.81249999999989,407.81249999999989,0,"","",0,"","",0,"","","","",null,{"$f":"X856","v":41},null,{"$f":"TEXT(Y855,\"ddd\")","v":"do"},"ND",{"$f":"IFERROR(HLOOKUP(Y855,[1]DATA!$A$1:$NB$5,5,0),\"\")","v":"D1"},null,null,null,null,{"$f":"VLOOKUP(Y855,[1]SRI!$S$4:$Z$368,4,0)","v":0},"","",""]
["41vrDD",{"$f":"VLOOKUP($AA858,DATA!$B$3:$E$6,2,0)","v":"06:30:00"},{"$f":"VLOOKUP($AA858,DATA!$B$3:$E$6,3,0)","v":"14:30:00"},{"$f":"VLOOKUP($AA858,DATA!$B$3:$E$6,4,0)","v":3.125E-2},0.30208333333333331,0.30208333333333331,{"$f":"DATA!$C$9","v":0.89},{"$f":"DATA!$C$10","v":64},1,407.8125,407.8125,0,"","",0,"","",0,"","","","",null,{"$f":"X856","v":41},"2018-10-12",{"$f":"TEXT(Y858,\"ddd\")","v":"vr"},"DD",{"$f":"IFERROR(HLOOKUP(Y858,[1]DATA!$A$1:$NB$5,3,0),\"\")","v":"D3"},null,null,null,null,{"$f":"VLOOKUP(Y858,[1]SRI!$S$4:$Z$368,2,0)","v":0},"","",""]
["41vrMD",{"$f":"VLOOKUP($AA859,DATA!$B$3:$E$6,2,0)","v":"14:30:00"},{"$f":"VLOOKUP($AA859,DATA!$B$3:$E$6,3,0)","v":"22:30:00"},{"$f":"VLOOKUP($AA859,DATA!$B$3:$E$6,4,0)","v":3.125E-2},0.30208333333333337,0.30208333333333337,{"$f":"DATA!$C$9","v":0.89},{"$f":"DATA!$C$10","v":64},1,407.81250000000006,407.81250000000006,0,"","",0,"","",0,"","","","",null,{"$f":"X856","v":41},null,{"$f":"TEXT(Y858,\"ddd\")","v":"vr"},"MD",{"$f":"IFERROR(HLOOKUP(Y858,[1]DATA!$A$1:$NB$5,4,0),\"\")","v":"D2"},null,null,null,null,{"$f":"VLOOKUP(Y858,[1]SRI!$S$4:$Z$368,3,0)","v":0},"","",""]
["41vrND",{"$f":"VLOOKUP($AA860,DATA!$B$3:$E$6,2,0)","v":"22:30:00"},{"$f":"VLOOKUP($AA860,DATA!$B$3:$E$6,3,0)","v":"06:30:00"},{"$f":"VLOOKUP($AA860,DATA!$B$3:$E$6,4,0)","v":3.125E-2},{"$f":"(C860-B860+(B860>C860))-D860","v":0.30208333333333326},{"$f":"E860-O860-L860","v":0.30208333333333326},{"$f":"DATA!$C$9","v":0.89},{"$f":"DATA!$C$10","v":64},1,407.81249999999989,407.81249999999989,0,"","",0,"","",0,"","","","",null,{"$f":"X856","v":41},null,{"$f":"TEXT(Y858,\"ddd\")","v":"vr"},"ND",{"$f":"IFERROR(HLOOKUP(Y858,[1]DATA!$A$1:$NB$5,5,0),\"\")","v":"D2"},null,null,null,null,{"$f":"VLOOKUP(Y858,[1]SRI!$S$4:$Z$368,4,0)","v":0},"","",""]
["41zaDD",{"$f":"VLOOKUP($AA861,DATA!$B$3:$E$6,2,0)","v":"06:30:00"},{"$f":"VLOOKUP($AA861,DATA!$B$3:$E$6,3,0)","v":"14:30:00"},{"$f":"VLOOKUP($AA861,DATA!$B$3:$E$6,4,0)","v":3.125E-2},0.30208333333333331,0.30208333333333331,{"$f":"DATA!$C$9","v":0.89},{"$f":"DATA!$C$10","v":64},1,407.8125,407.8125,0,"","",0,"","",0,"","","","",null,{"$f":"X856","v":41},"2018-10-13",{"$f":"TEXT(Y861,\"ddd\")","v":"za"},"DD",{"$f":"IFERROR(HLOOKUP(Y861,[1]DATA!$A$1:$NB$5,3,0),\"\")","v":"D3"},null,null,null,null,{"$f":"VLOOKUP(Y861,[1]SRI!$S$4:$Z$368,2,0)","v":0},"","",""]
["41zaMD",{"$f":"VLOOKUP($AA862,DATA!$B$3:$E$6,2,0)","v":"14:30:00"},{"$f":"VLOOKUP($AA862,DATA!$B$3:$E$6,3,0)","v":"22:30:00"},{"$f":"VLOOKUP($AA862,DATA!$B$3:$E$6,4,0)","v":3.125E-2},0.30208333333333337,0.30208333333333337,{"$f":"DATA!$C$9","v":0.89},{"$f":"DATA!$C$10","v":64},1,407.81250000000006,407.81250000000006,0,"","",0,"","",0,"","","","",null,{"$f":"X856","v":41},null,{"$f":"TEXT(Y861,\"ddd\")","v":"za"},"MD",{"$f":"IFERROR(HLOOKUP(Y861,[1]DATA!$A$1:$NB$5,4,0),\"\")","v":"-"},null,null,null,null,{"$f":"VLOOKUP(Y861,[1]SRI!$S$4:$Z$368,3,0)","v":0},"","",""]
["41zaND",{"$f":"VLOOKUP($AA863,DATA!$B$3:$E$6,2,0)","v":"22:30:00"},{"$f":"VLOOKUP($AA863,DATA!$B$3:$E$6,3,0)","v":"06:30:00"},{"$f":"VLOOKUP($AA863,DATA!$B$3:$E$6,4,0)","v":3.125E-2},0.30208333333333326,0.30208333333333326,{"$f":"DATA!$C$9","v":0.89},{"$f":"DATA!$C$10","v":64},1,407.81249999999989,407.81249999999989,0,"","",0,"","",0,"","","","",null,{"$f":"X856","v":41},null,{"$f":"TEXT(Y861,\"ddd\")","v":"za"},"ND",{"$f":"IFERROR(HLOOKUP(Y861,[1]DATA!$A$1:$NB$5,5,0),\"\")","v":"-"},null,null,null,null,{"$f":"VLOOKUP(Y861,[1]SRI!$S$4:$Z$368,4,0)","v":0},"","",""]
["41zoDD",{"$f":"VLOOKUP($AA864,DATA!$B$3:$E$6,2,0)","v":"06:30:00"},{"$f":"VLOOKUP($AA864,DATA!$B$3:$E$6,3,0)","v":"14:30:00"},{"$f":"VLOOKUP($AA864,DATA!$B$3:$E$6,4,0)","v":3.125E-2},0.30208333333333331,0.30208333333333331,{"$f":"DATA!$C$9","v":0.89},{"$f":"DATA!$C$10","v":64},1,407.8125,407.8125,0,"","",0,"","",0,"","","","",null,{"$f":"X856","v":41},"2018-10-14",{"$f":"TEXT(Y864,\"ddd\")","v":"zo"},"DD",{"$f":"IFERROR(HLOOKUP(Y864,[1]DATA!$A$1:$NB$5,3,0),\"\")","v":"-"},null,null,null,null,{"$f":"VLOOKUP(Y864,[1]SRI!$S$4:$Z$368,2,0)","v":0},"","",""]
["41zoMD",{"$f":"VLOOKUP($AA865,DATA!$B$3:$E$6,2,0)","v":"14:30:00"},{"$f":"VLOOKUP($AA865,DATA!$B$3:$E$6,3,0)","v":"22:30:00"},{"$f":"VLOOKUP($AA865,DATA!$B$3:$E$6,4,0)","v":3.125E-2},0.30208333333333337,0.30208333333333337,{"$f":"DATA!$C$9","v":0.89},{"$f":"DATA!$C$10","v":64},1,407.81250000000006,407.81250000000006,0,"","",0,"","",0,"","","","",null,{"$f":"X856","v":41},null,{"$f":"TEXT(Y864,\"ddd\")","v":"zo"},"MD",{"$f":"IFERROR(HLOOKUP(Y864,[1]DATA!$A$1:$NB$5,4,0),\"\")","v":"-"},null,null,null,null,{"$f":"VLOOKUP(Y864,[1]SRI!$S$4:$Z$368,3,0)","v":0},"","",""]
["41zoZND",{"$f":"VLOOKUP($AA866,DATA!$B$3:$E$6,2,0)","v":"00:00:00"},{"$f":"VLOOKUP($AA866,DATA!$B$3:$E$6,3,0)","v":"00:00:00"},{"$f":"VLOOKUP($AA866,DATA!$B$3:$E$6,4,0)","v":3.125E-2},-3.125E-2,-3.125E-2,{"$f":"DATA!$C$9","v":0.89},{"$f":"DATA!$C$10","v":64},1,-42.1875,-42.1875,0,"","",0,"","",0,"","","","",null,{"$f":"X856","v":41},null,{"$f":"TEXT(Y864,\"ddd\")","v":"zo"},"ZND",{"$f":"IFERROR(HLOOKUP(Y864,[1]DATA!$A$1:$NB$5,5,0),\"\")","v":"-"},null,null,null,null,{"$f":"VLOOKUP(Y864,[1]SRI!$S$4:$Z$368,4,0)","v":0},"","",""]
["42maDD",{"$f":"VLOOKUP($AA867,DATA!$B$3:$E$6,2,0)","v":"06:30:00"},{"$f":"VLOOKUP($AA867,DATA!$B$3:$E$6,3,0)","v":"14:30:00"},{"$f":"VLOOKUP($AA867,DATA!$B$3:$E$6,4,0)","v":3.125E-2},0.30208333333333331,0.30208333333333331,{"$f":"DATA!$C$9","v":0.89},{"$f":"DATA!$C$10","v":64},1,407.8125,407.8125,0,"","",{"$f":"TIME(INT($AD867/60),INT(MOD($AD867,60)/1),0)","v":0},"","",0,"","","","",null,{"$f":"X877","v":42},"2018-10-15",{"$f":"TEXT(Y867,\"ddd\")","v":"ma"},"DD",{"$f":"IFERROR(HLOOKUP(Y867,[1]DATA!$A$1:$NB$5,3,0),\"\")","v":"D2"},null,null,null,null,{"$f":"VLOOKUP(Y867,[1]SRI!$S$4:$Z$368,2,0)","v":0},"","","",{"$f":"IF(SUMIF(S867:S887,\">0\",K867:K887)=0,\"\",SUMIF(S867:S887,\">0\",K867:K887))","v":""},{"$f":"IF(SUM(S867:S887)=0,\"\",SUM(S867:S887))","v":""},{"$f":"IFERROR(AL867/AK867,\"-\")","v":"-"},{"$f":"IF(SUM(M867:M887)=0,\"0\",SUM(M867:M887))","v":"0"},{"$f":"IFERROR(AN867/AK867,\"-\")","v":"-"},{"$f":"IF(SUM(P867:P887)=0,0,SUM(P867:P887))","v":0},{"$f":"IFERROR(AP867/AK867,\"-\")","v":"-"},{"$f":"IFERROR(AVERAGE(AJ867:AJ887),\"-\")","v":"-"},{"$f":"IFERROR(SUMIF($AB867:$AB887,AS$5,$AJ867:$AJ887)/COUNTIFS($AB867:$AB887,AS$5,$AJ867:$AJ887,\">0\"),\"\")","v":""},"","",{"$f":"IFERROR((AK867-AL867-AN867-AP867),\"-\")","v":"-"},{"$f":"IFERROR((1-AM867-AO867-AQ867), \"-\")","v":"-"},{"$f":"IFERROR((AV867*$AE$2)/60,\"-\")","v":"-"},{"$f":"IFERROR(SUM(AG867:AG887),\"\")","v":0}]
["42maMD",{"$f":"VLOOKUP($AA868,DATA!$B$3:$E$6,2,0)","v":"14:30:00"},{"$f":"VLOOKUP($AA868,DATA!$B$3:$E$6,3,0)","v":"22:30:00"},{"$f":"VLOOKUP($AA868,DATA!$B$3:$E$6,4,0)","v":3.125E-2},0.30208333333333337,0.30208333333333337,{"$f":"DATA!$C$9","v":0.89},{"$f":"DATA!$C$10","v":64},1,407.81250000000006,407.81250000000006,0,"","",{"$f":"TIME(INT(AD868/60),INT(MOD(AD868,60)/1),0)","v":0},"","",0,"","","","",null,{"$f":"X877","v":42},null,{"$f":"TEXT(Y867,\"ddd\")","v":"ma"},"MD",{"$f":"IFERROR(HLOOKUP(Y867,[1]DATA!$A$1:$NB$5,4,0),\"\")","v":"D1"},null,null,null,null,{"$f":"VLOOKUP(Y867,[1]SRI!$S$4:$Z$368,3,0)","v":0},"","",""]
["42maND",{"$f":"VLOOKUP($AA869,DATA!$B$3:$E$6,2,0)","v":"22:30:00"},{"$f":"VLOOKUP($AA869,DATA!$B$3:$E$6,3,0)","v":"06:30:00"},{"$f":"VLOOKUP($AA869,DATA!$B$3:$E$6,4,0)","v":3.125E-2},0.30208333333333326,0.30208333333333326,{"$f":"DATA!$C$9","v":0.89},{"$f":"DATA!$C$10","v":64},1,407.81249999999989,407.81249999999989,0,"","",0,"","",0,"","","","",null,{"$f":"X877","v":42},null,{"$f":"TEXT(Y867,\"ddd\")","v":"ma"},"ND",{"$f":"IFERROR(HLOOKUP(Y867,[1]DATA!$A$1:$NB$5,5,0),\"\")","v":"D3"},null,null,null,null,{"$f":"VLOOKUP(Y867,[1]SRI!$S$4:$Z$368,4,0)","v":0},"","",""]
["42diDD",{"$f":"VLOOKUP($AA870,DATA!$B$3:$E$6,2,0)","v":"06:30:00"},{"$f":"VLOOKUP($AA870,DATA!$B$3:$E$6,3,0)","v":"14:30:00"},{"$f":"VLOOKUP($AA870,DATA!$B$3:$E$6,4,0)","v":3.125E-2},0.30208333333333331,0.30208333333333331,{"$f":"DATA!$C$9","v":0.89},{"$f":"DATA!$C$10","v":64},1,407.8125,407.8125,0,"","",0,"","",0,"","","","",null,{"$f":"X877","v":42},"2018-10-16",{"$f":"TEXT(Y870,\"ddd\")","v":"di"},"DD",{"$f":"IFERROR(HLOOKUP(Y870,[1]DATA!$A$1:$NB$5,3,0),\"\")","v":"D2"},null,null,null,null,{"$f":"VLOOKUP(Y870,[1]SRI!$S$4:$Z$368,2,0)","v":0},"","",""]
["42diMD",{"$f":"VLOOKUP($AA871,DATA!$B$3:$E$6,2,0)","v":"14:30:00"},{"$f":"VLOOKUP($AA871,DATA!$B$3:$E$6,3,0)","v":"22:30:00"},{"$f":"VLOOKUP($AA871,DATA!$B$3:$E$6,4,0)","v":3.125E-2},0.30208333333333337,0.30208333333333337,{"$f":"DATA!$C$9","v":0.89},{"$f":"DATA!$C$10","v":64},1,407.81250000000006,407.81250000000006,0,"","",0,"","",0,"","","","",null,{"$f":"X877","v":42},null,{"$f":"TEXT(Y870,\"ddd\")","v":"di"},"MD",{"$f":"IFERROR(HLOOKUP(Y870,[1]DATA!$A$1:$NB$5,4,0),\"\")","v":"D1"},null,null,null,null,{"$f":"VLOOKUP(Y870,[1]SRI!$S$4:$Z$368,3,0)","v":0},"","",""]
["42diND",{"$f":"VLOOKUP($AA872,DATA!$B$3:$E$6,2,0)","v":"22:30:00"},{"$f":"VLOOKUP($AA872,DATA!$B$3:$E$6,3,0)","v":"06:30:00"},{"$f":"VLOOKUP($AA872,DATA!$B$3:$E$6,4,0)","v":3.125E-2},0.30208333333333326,0.30208333333333326,{"$f":"DATA!$C$9","v":0.89},{"$f":"DATA!$C$10","v":64},1,407.81249999999989,407.81249999999989,0,"","",0,"","",0,"","","","",null,{"$f":"X877","v":42},null,{"$f":"TEXT(Y870,\"ddd\")","v":"di"},"ND",{"$f":"IFERROR(HLOOKUP(Y870,[1]DATA!$A$1:$NB$5,5,0),\"\")","v":"D3"},null,null,null,null,{"$f":"VLOOKUP(Y870,[1]SRI!$S$4:$Z$368,4,0)","v":0},"","",""]
["42woDD",{"$f":"VLOOKUP($AA873,DATA!$B$3:$E$6,2,0)","v":"06:30:00"},{"$f":"VLOOKUP($AA873,DATA!$B$3:$E$6,3,0)","v":"14:30:00"},{"$f":"VLOOKUP($AA873,DATA!$B$3:$E$6,4,0)","v":3.125E-2},0.30208333333333331,0.30208333333333331,{"$f":"DATA!$C$9","v":0.89},{"$f":"DATA!$C$10","v":64},1,407.8125,407.8125,0,"","",0,"","",0,"","","","",null,{"$f":"X877","v":42},"2018-10-17",{"$f":"TEXT(Y873,\"ddd\")","v":"wo"},"DD",{"$f":"IFERROR(HLOOKUP(Y873,[1]DATA!$A$1:$NB$5,3,0),\"\")","v":"D2"},null,null,null,null,{"$f":"VLOOKUP(Y873,[1]SRI!$S$4:$Z$368,2,0)","v":0},"","",""]
["42woMD",{"$f":"VLOOKUP($AA874,DATA!$B$3:$E$6,2,0)","v":"14:30:00"},{"$f":"VLOOKUP($AA874,DATA!$B$3:$E$6,3,0)","v":"22:30:00"},{"$f":"VLOOKUP($AA874,DATA!$B$3:$E$6,4,0)","v":3.125E-2},0.30208333333333337,0.30208333333333337,{"$f":"DATA!$C$9","v":0.89},{"$f":"DATA!$C$10","v":64},1,407.81250000000006,407.81250000000006,0,"","",0,"","",0,"","","","",null,{"$f":"X877","v":42},null,{"$f":"TEXT(Y873,\"ddd\")","v":"wo"},"MD",{"$f":"IFERROR(HLOOKUP(Y873,[1]DATA!$A$1:$NB$5,4,0),\"\")","v":"D1"},null,null,null,null,{"$f":"VLOOKUP(Y873,[1]SRI!$S$4:$Z$368,3,0)","v":0},"","",""]
["42woND",{"$f":"VLOOKUP($AA875,DATA!$B$3:$E$6,2,0)","v":"22:30:00"},{"$f":"VLOOKUP($AA875,DATA!$B$3:$E$6,3,0)","v":"06:30:00"},{"$f":"VLOOKUP($AA875,DATA!$B$3:$E$6,4,0)","v":3.125E-2},0.30208333333333326,0.30208333333333326,{"$f":"DATA!$C$9","v":0.89},{"$f":"DATA!$C$10","v":64},1,407.81249999999989,407.81249999999989,0,"","",0,"","",0,"","","","",null,{"$f":"X877","v":42},null,{"$f":"TEXT(Y873,\"ddd\")","v":"wo"},"ND",{"$f":"IFERROR(HLOOKUP(Y873,[1]DATA!$A$1:$NB$5,5,0),\"\")","v":"D3"},null,null,null,null,{"$f":"VLOOKUP(Y873,[1]SRI!$S$4:$Z$368,4,0)","v":0},"","",""]
["42doDD",{"$f":"VLOOKUP($AA876,DATA!$B$3:$E$6,2,0)","v":"06:30:00"},{"$f":"VLOOKUP($AA876,DATA!$B$3:$E$6,3,0)","v":"14:30:00"},{"$f":"VLOOKUP($AA876,DATA!$B$3:$E$6,4,0)","v":3.125E-2},0.30208333333333331,0.30208333333333331,{"$f":"DATA!$C$9","v":0.89},{"$f":"DATA!$C$10","v":64},1,407.8125,407.8125,0,"","",0,"","",0,"","","","",null,{"$f":"X877","v":42},"2018-10-18",{"$f":"TEXT(Y876,\"ddd\")","v":"do"},"DD",{"$f":"IFERROR(HLOOKUP(Y876,[1]DATA!$A$1:$NB$5,3,0),\"\")","v":"D2"},null,null,null,null,{"$f":"VLOOKUP(Y876,[1]SRI!$S$4:$Z$368,2,0)","v":0},"","",""]
["42doMD",{"$f":"VLOOKUP($AA877,DATA!$B$3:$E$6,2,0)","v":"14:30:00"},{"$f":"VLOOKUP($AA877,DATA!$B$3:$E$6,3,0)","v":"22:30:00"},{"$f":"VLOOKUP($AA877,DATA!$B$3:$E$6,4,0)","v":3.125E-2},0.30208333333333337,0.30208333333333337,{"$f":"DATA!$C$9","v":0.89},{"$f":"DATA!$C$10","v":64},1,407.81250000000006,407.81250000000006,0,"","",0,"","",0,"","","","",null,{"$f":"WEEKNUM($Y867)","v":42},null,{"$f":"TEXT(Y876,\"ddd\")","v":"do"},"MD",{"$f":"IFERROR(HLOOKUP(Y876,[1]DATA!$A$1:$NB$5,4,0),\"\")","v":"D1"},null,null,null,null,{"$f":"VLOOKUP(Y876,[1]SRI!$S$4:$Z$368,3,0)","v":0},"","",""]
["42doND",{"$f":"VLOOKUP($AA878,DATA!$B$3:$E$6,2,0)","v":"22:30:00"},{"$f":"VLOOKUP($AA878,DATA!$B$3:$E$6,3,0)","v":"06:30:00"},{"$f":"VLOOKUP($AA878,DATA!$B$3:$E$6,4,0)","v":3.125E-2},0.30208333333333326,0.30208333333333326,{"$f":"DATA!$C$9","v":0.89},{"$f":"DATA!$C$10","v":64},1,407.81249999999989,407.81249999999989,0,"","",0,"","",0,"","","","",null,{"$f":"X877","v":42},null,{"$f":"TEXT(Y876,\"ddd\")","v":"do"},"ND",{"$f":"IFERROR(HLOOKUP(Y876,[1]DATA!$A$1:$NB$5,5,0),\"\")","v":"D3"},null,null,null,null,{"$f":"VLOOKUP(Y876,[1]SRI!$S$4:$Z$368,4,0)","v":0},"","",""]
["42vrDD",{"$f":"VLOOKUP($AA879,DATA!$B$3:$E$6,2,0)","v":"06:30:00"},{"$f":"VLOOKUP($AA879,DATA!$B$3:$E$6,3,0)","v":"14:30:00"},{"$f":"VLOOKUP($AA879,DATA!$B$3:$E$6,4,0)","v":3.125E-2},0.30208333333333331,0.30208333333333331,{"$f":"DATA!$C$9","v":0.89},{"$f":"DATA!$C$10","v":64},1,407.8125,407.8125,0,"","",0,"","",0,"","","","",null,{"$f":"X877","v":42},"2018-10-19",{"$f":"TEXT(Y879,\"ddd\")","v":"vr"},"DD",{"$f":"IFERROR(HLOOKUP(Y879,[1]DATA!$A$1:$NB$5,3,0),\"\")","v":"D2"},null,null,null,null,{"$f":"VLOOKUP(Y879,[1]SRI!$S$4:$Z$368,2,0)","v":0},"","",""]
[{"$f":"X880&Z880&AA880","v":"42vrMD"},{"$f":"VLOOKUP($AA880,DATA!$B$3:$E$6,2,0)","v":"14:30:00"},{"$f":"VLOOKUP($AA880,DATA!$B$3:$E$6,3,0)","v":"22:30:00"},{"$f":"VLOOKUP($AA880,DATA!$B$3:$E$6,4,0)","v":3.125E-2},0.30208333333333337,0.30208333333333337,{"$f":"DATA!$C$9","v":0.89},{"$f":"DATA!$C$10","v":64},1,407.81250000000006,407.81250000000006,0,"","",0,{"$f":"IF($O880*86400/$H880=0,\"\",$O880*86400/$H880)","v":""},"",0,"","","","",null,{"$f":"X877","v":42},null,{"$f":"TEXT(Y879,\"ddd\")","v":"vr"},"MD",{"$f":"IFERROR(HLOOKUP(Y879,[1]DATA!$A$1:$NB$5,4,0),\"\")","v":"D1"},null,null,null,null,{"$f":"VLOOKUP(Y879,[1]SRI!$S$4:$Z$368,3,0)","v":0},"","",""]
["42vrND",{"$f":"VLOOKUP($AA881,DATA!$B$3:$E$6,2,0)","v":"22:30:00"},{"$f":"VLOOKUP($AA881,DATA!$B$3:$E$6,3,0)","v":"06:30:00"},{"$f":"VLOOKUP($AA881,DATA!$B$3:$E$6,4,0)","v":3.125E-2},0.30208333333333326,0.30208333333333326,{"$f":"DATA!$C$9","v":0.89},{"$f":"DATA!$C$10","v":64},1,407.81249999999989,407.81249999999989,0,"","",0,"","",0,"","","","",null,{"$f":"X877","v":42},null,{"$f":"TEXT(Y879,\"ddd\")","v":"vr"},"ND",{"$f":"IFERROR(HLOOKUP(Y879,[1]DATA!$A$1:$NB$5,5,0),\"\")","v":"D3"},null,null,null,null,{"$f":"VLOOKUP(Y879,[1]SRI!$S$4:$Z$368,4,0)","v":0},"","",""]
["42zaDD",{"$f":"VLOOKUP($AA882,DATA!$B$3:$E$6,2,0)","v":"06:30:00"},{"$f":"VLOOKUP($AA882,DATA!$B$3:$E$6,3,0)","v":"14:30:00"},{"$f":"VLOOKUP($AA882,DATA!$B$3:$E$6,4,0)","v":3.125E-2},0.30208333333333331,0.30208333333333331,{"$f":"DATA!$C$9","v":0.89},{"$f":"DATA!$C$10","v":64},1,407.8125,407.8125,0,"","",0,"","",0,"","","","",null,{"$f":"X877","v":42},"2018-10-20",{"$f":"TEXT(Y882,\"ddd\")","v":"za"},"DD",{"$f":"IFERROR(HLOOKUP(Y882,[1]DATA!$A$1:$NB$5,3,0),\"\")","v":"D2"},null,null,null,null,{"$f":"VLOOKUP(Y882,[1]SRI!$S$4:$Z$368,2,0)","v":0},"","",""]
["42zaMD",{"$f":"VLOOKUP($AA883,DATA!$B$3:$E$6,2,0)","v":"14:30:00"},{"$f":"VLOOKUP($AA883,DATA!$B$3:$E$6,3,0)","v":"22:30:00"},{"$f":"VLOOKUP($AA883,DATA!$B$3:$E$6,4,0)","v":3.125E-2},0.30208333333333337,0.30208333333333337,{"$f":"DATA!$C$9","v":0.89},{"$f":"DATA!$C$10","v":64},1,407.81250000000006,407.81250000000006,0,"","",0,"","",0,"","","","",null,{"$f":"X877","v":42},null,{"$f":"TEXT(Y882,\"ddd\")","v":"za"},"MD",{"$f":"IFERROR(HLOOKUP(Y882,[1]DATA!$A$1:$NB$5,4,0),\"\")","v":"-"},null,null,null,null,{"$f":"VLOOKUP(Y882,[1]SRI!$S$4:$Z$368,3,0)","v":0},"","",""]
["42zaND",{"$f":"VLOOKUP($AA884,DATA!$B$3:$E$6,2,0)","v":"22:30:00"},{"$f":"VLOOKUP($AA884,DATA!$B$3:$E$6,3,0)","v":"06:30:00"},{"$f":"VLOOKUP($AA884,DATA!$B$3:$E$6,4,0)","v":3.125E-2},0.30208333333333326,0.30208333333333326,{"$f":"DATA!$C$9","v":0.89},{"$f":"DATA!$C$10","v":64},1,407.81249999999989,407.81249999999989,0,"","",0,"","",0,"","","","",null,{"$f":"X877","v":42},null,{"$f":"TEXT(Y882,\"ddd\")","v":"za"},"ND",{"$f":"IFERROR(HLOOKUP(Y882,[1]DATA!$A$1:$NB$5,5,0),\"\")","v":"-"},null,null,null,null,{"$f":"VLOOKUP(Y882,[1]SRI!$S$4:$Z$368,4,0)","v":0},"","",""]
["42zoDD",{"$f":"VLOOKUP($AA885,DATA!$B$3:$E$6,2,0)","v":"06:30:00"},{"$f":"VLOOKUP($AA885,DATA!$B$3:$E$6,3,0)","v":"14:30:00"},{"$f":"VLOOKUP($AA885,DATA!$B$3:$E$6,4,0)","v":3.125E-2},0.30208333333333331,0.30208333333333331,{"$f":"DATA!$C$9","v":0.89},{"$f":"DATA!$C$10","v":64},1,407.8125,407.8125,0,"","",0,"","",0,"","","","",null,{"$f":"X877","v":42},"2018-10-21",{"$f":"TEXT(Y885,\"ddd\")","v":"zo"},"DD",{"$f":"IFERROR(HLOOKUP(Y885,[1]DATA!$A$1:$NB$5,3,0),\"\")","v":"-"},null,null,null,null,{"$f":"VLOOKUP(Y885,[1]SRI!$S$4:$Z$368,2,0)","v":0},"","",""]
["42zoMD",{"$f":"VLOOKUP($AA886,DATA!$B$3:$E$6,2,0)","v":"14:30:00"},{"$f":"VLOOKUP($AA886,DATA!$B$3:$E$6,3,0)","v":"22:30:00"},{"$f":"VLOOKUP($AA886,DATA!$B$3:$E$6,4,0)","v":3.125E-2},0.30208333333333337,0.30208333333333337,{"$f":"DATA!$C$9","v":0.89},{"$f":"DATA!$C$10","v":64},1,407.81250000000006,407.81250000000006,0,"","",0,"","",0,"","","","",null,{"$f":"X877","v":42},null,{"$f":"TEXT(Y885,\"ddd\")","v":"zo"},"MD",{"$f":"IFERROR(HLOOKUP(Y885,[1]DATA!$A$1:$NB$5,4,0),\"\")","v":"-"},null,null,null,null,{"$f":"VLOOKUP(Y885,[1]SRI!$S$4:$Z$368,3,0)","v":0},"","",""]
["42zoZND",{"$f":"VLOOKUP($AA887,DATA!$B$3:$E$6,2,0)","v":"00:00:00"},{"$f":"VLOOKUP($AA887,DATA!$B$3:$E$6,3,0)","v":"00:00:00"},{"$f":"VLOOKUP($AA887,DATA!$B$3:$E$6,4,0)","v":3.125E-2},-3.125E-2,-3.125E-2,{"$f":"DATA!$C$9","v":0.89},{"$f":"DATA!$C$10","v":64},1,-42.1875,-42.1875,0,"","",0,"","",0,"","","","",null,{"$f":"X877","v":42},null,{"$f":"TEXT(Y885,\"ddd\")","v":"zo"},"ZND",{"$f":"IFERROR(HLOOKUP(Y885,[1]DATA!$A$1:$NB$5,5,0),\"\")","v":"-"},null,null,null,null,{"$f":"VLOOKUP(Y885,[1]SRI!$S$4:$Z$368,4,0)","v":0},"","",""]
["43maDD",{"$f":"VLOOKUP($AA888,DATA!$B$3:$E$6,2,0)","v":"06:30:00"},{"$f":"VLOOKUP($AA888,DATA!$B$3:$E$6,3,0)","v":"14:30:00"},{"$f":"VLOOKUP($AA888,DATA!$B$3:$E$6,4,0)","v":3.125E-2},0.30208333333333331,0.30208333333333331,{"$f":"DATA!$C$9","v":0.89},{"$f":"DATA!$C$10","v":64},1,407.8125,407.8125,0,"","",{"$f":"TIME(INT($AD888/60),INT(MOD($AD888,60)/1),0)","v":0},"","",0,"","","","",null,{"$f":"X898","v":43},"2018-10-22",{"$f":"TEXT(Y888,\"ddd\")","v":"ma"},"DD",{"$f":"IFERROR(HLOOKUP(Y888,[1]DATA!$A$1:$NB$5,3,0),\"\")","v":"D1"},null,null,null,null,{"$f":"VLOOKUP(Y888,[1]SRI!$S$4:$Z$368,2,0)","v":0},"","","",{"$f":"IF(SUMIF(S888:S908,\">0\",K888:K908)=0,\"\",SUMIF(S888:S908,\">0\",K888:K908))","v":""},{"$f":"IF(SUM(S888:S908)=0,\"\",SUM(S888:S908))","v":""},{"$f":"IFERROR(AL888/AK888,\"-\")","v":"-"},{"$f":"IF(SUM(M888:M908)=0,\"0\",SUM(M888:M908))","v":"0"},{"$f":"IFERROR(AN888/AK888,\"-\")","v":"-"},{"$f":"IF(SUM(P888:P908)=0,0,SUM(P888:P908))","v":0},{"$f":"IFERROR(AP888/AK888,\"-\")","v":"-"},{"$f":"IFERROR(AVERAGE(AJ888:AJ908),\"-\")","v":"-"},{"$f":"IFERROR(SUMIF($AB888:$AB908,AS$5,$AJ888:$AJ908)/COUNTIFS($AB888:$AB908,AS$5,$AJ888:$AJ908,\">0\"),\"\")","v":""},"","",{"$f":"IFERROR((AK888-AL888-AN888-AP888),\"-\")","v":"-"},{"$f":"IFERROR((1-AM888-AO888-AQ888), \"-\")","v":"-"},{"$f":"IFERROR((AV888*$AE$2)/60,\"-\")","v":"-"},{"$f":"IFERROR(SUM(AG888:AG908),\"\")","v":0}]
["43maMD",{"$f":"VLOOKUP($AA889,DATA!$B$3:$E$6,2,0)","v":"14:30:00"},{"$f":"VLOOKUP($AA889,DATA!$B$3:$E$6,3,0)","v":"22:30:00"},{"$f":"VLOOKUP($AA889,DATA!$B$3:$E$6,4,0)","v":3.125E-2},0.30208333333333337,0.30208333333333337,{"$f":"DATA!$C$9","v":0.89},{"$f":"DATA!$C$10","v":64},1,407.81250000000006,407.81250000000006,0,"","",{"$f":"TIME(INT(AD889/60),INT(MOD(AD889,60)/1),0)","v":0},"","",0,"","","","",null,{"$f":"X898","v":43},null,{"$f":"TEXT(Y888,\"ddd\")","v":"ma"},"MD",{"$f":"IFERROR(HLOOKUP(Y888,[1]DATA!$A$1:$NB$5,4,0),\"\")","v":"D3"},null,null,null,null,{"$f":"VLOOKUP(Y888,[1]SRI!$S$4:$Z$368,3,0)","v":0},"","",""]
["43maND",{"$f":"VLOOKUP($AA890,DATA!$B$3:$E$6,2,0)","v":"22:30:00"},{"$f":"VLOOKUP($AA890,DATA!$B$3:$E$6,3,0)","v":"06:30:00"},{"$f":"VLOOKUP($AA890,DATA!$B$3:$E$6,4,0)","v":3.125E-2},0.30208333333333326,0.30208333333333326,{"$f":"DATA!$C$9","v":0.89},{"$f":"DATA!$C$10","v":64},1,407.81249999999989,407.81249999999989,0,"","",0,"","",0,"","","","",null,{"$f":"X898","v":43},null,{"$f":"TEXT(Y888,\"ddd\")","v":"ma"},"ND",{"$f":"IFERROR(HLOOKUP(Y888,[1]DATA!$A$1:$NB$5,5,0),\"\")","v":"D2"},null,null,null,null,{"$f":"VLOOKUP(Y888,[1]SRI!$S$4:$Z$368,4,0)","v":0},"","",""]
["43diDD",{"$f":"VLOOKUP($AA891,DATA!$B$3:$E$6,2,0)","v":"06:30:00"},{"$f":"VLOOKUP($AA891,DATA!$B$3:$E$6,3,0)","v":"14:30:00"},{"$f":"VLOOKUP($AA891,DATA!$B$3:$E$6,4,0)","v":3.125E-2},0.30208333333333331,0.30208333333333331,{"$f":"DATA!$C$9","v":0.89},{"$f":"DATA!$C$10","v":64},1,407.8125,407.8125,0,"","",0,"","",0,"","","","",null,{"$f":"X898","v":43},{"$f":"Y888+1","v":"2018-10-23"},{"$f":"TEXT(Y891,\"ddd\")","v":"di"},"DD",{"$f":"IFERROR(HLOOKUP(Y891,[1]DATA!$A$1:$NB$5,3,0),\"\")","v":"D1"},null,null,null,null,{"$f":"VLOOKUP(Y891,[1]SRI!$S$4:$Z$368,2,0)","v":0},"","",""]
["43diMD",{"$f":"VLOOKUP($AA892,DATA!$B$3:$E$6,2,0)","v":"14:30:00"},{"$f":"VLOOKUP($AA892,DATA!$B$3:$E$6,3,0)","v":"22:30:00"},{"$f":"VLOOKUP($AA892,DATA!$B$3:$E$6,4,0)","v":3.125E-2},0.30208333333333337,0.30208333333333337,{"$f":"DATA!$C$9","v":0.89},{"$f":"DATA!$C$10","v":64},1,407.81250000000006,407.81250000000006,0,"","",0,"","",0,"","","","",null,{"$f":"X898","v":43},null,{"$f":"TEXT(Y891,\"ddd\")","v":"di"},"MD",{"$f":"IFERROR(HLOOKUP(Y891,[1]DATA!$A$1:$NB$5,4,0),\"\")","v":"D3"},null,null,null,null,{"$f":"VLOOKUP(Y891,[1]SRI!$S$4:$Z$368,3,0)","v":0},"","",""]
["43diND",{"$f":"VLOOKUP($AA893,DATA!$B$3:$E$6,2,0)","v":"22:30:00"},{"$f":"VLOOKUP($AA893,DATA!$B$3:$E$6,3,0)","v":"06:30:00"},{"$f":"VLOOKUP($AA893,DATA!$B$3:$E$6,4,0)","v":3.125E-2},0.30208333333333326,0.30208333333333326,{"$f":"DATA!$C$9","v":0.89},{"$f":"DATA!$C$10","v":64},1,407.81249999999989,407.81249999999989,0,"","",0,"","",0,"","","","",null,{"$f":"X898","v":43},null,{"$f":"TEXT(Y891,\"ddd\")","v":"di"},"ND",{"$f":"IFERROR(HLOOKUP(Y891,[1]DATA!$A$1:$NB$5,5,0),\"\")","v":"D2"},null,null,null,null,{"$f":"VLOOKUP(Y891,[1]SRI!$S$4:$Z$368,4,0)","v":0},"","",""]
["43woDD",{"$f":"VLOOKUP($AA894,DATA!$B$3:$E$6,2,0)","v":"06:30:00"},{"$f":"VLOOKUP($AA894,DATA!$B$3:$E$6,3,0)","v":"14:30:00"},{"$f":"VLOOKUP($AA894,DATA!$B$3:$E$6,4,0)","v":3.125E-2},0.30208333333333331,0.30208333333333331,{"$f":"DATA!$C$9","v":0.89},{"$f":"DATA!$C$10","v":64},1,407.8125,407.8125,0,"","",0,"","",0,"","","","",null,{"$f":"X898","v":43},"2018-10-24",{"$f":"TEXT(Y894,\"ddd\")","v":"wo"},"DD",{"$f":"IFERROR(HLOOKUP(Y894,[1]DATA!$A$1:$NB$5,3,0),\"\")","v":"D1"},null,null,null,null,{"$f":"VLOOKUP(Y894,[1]SRI!$S$4:$Z$368,2,0)","v":0},"","",""]
["43woMD",{"$f":"VLOOKUP($AA895,DATA!$B$3:$E$6,2,0)","v":"14:30:00"},{"$f":"VLOOKUP($AA895,DATA!$B$3:$E$6,3,0)","v":"22:30:00"},{"$f":"VLOOKUP($AA895,DATA!$B$3:$E$6,4,0)","v":3.125E-2},0.30208333333333337,0.30208333333333337,{"$f":"DATA!$C$9","v":0.89},{"$f":"DATA!$C$10","v":64},1,407.81250000000006,407.81250000000006,0,"","",0,"","",0,"","","","",null,{"$f":"X898","v":43},null,{"$f":"TEXT(Y894,\"ddd\")","v":"wo"},"MD",{"$f":"IFERROR(HLOOKUP(Y894,[1]DATA!$A$1:$NB$5,4,0),\"\")","v":"D3"},null,null,null,null,{"$f":"VLOOKUP(Y894,[1]SRI!$S$4:$Z$368,3,0)","v":0},"","",""]
["43woND",{"$f":"VLOOKUP($AA896,DATA!$B$3:$E$6,2,0)","v":"22:30:00"},{"$f":"VLOOKUP($AA896,DATA!$B$3:$E$6,3,0)","v":"06:30:00"},{"$f":"VLOOKUP($AA896,DATA!$B$3:$E$6,4,0)","v":3.125E-2},0.30208333333333326,0.30208333333333326,{"$f":"DATA!$C$9","v":0.89},{"$f":"DATA!$C$10","v":64},1,407.81249999999989,407.81249999999989,0,"","",0,"","",0,"","","","",null,{"$f":"X898","v":43},null,{"$f":"TEXT(Y894,\"ddd\")","v":"wo"},"ND",{"$f":"IFERROR(HLOOKUP(Y894,[1]DATA!$A$1:$NB$5,5,0),\"\")","v":"D2"},null,null,null,null,{"$f":"VLOOKUP(Y894,[1]SRI!$S$4:$Z$368,4,0)","v":0},"","",""]
["43doDD",{"$f":"VLOOKUP($AA897,DATA!$B$3:$E$6,2,0)","v":"06:30:00"},{"$f":"VLOOKUP($AA897,DATA!$B$3:$E$6,3,0)","v":"14:30:00"},{"$f":"VLOOKUP($AA897,DATA!$B$3:$E$6,4,0)","v":3.125E-2},0.30208333333333331,0.30208333333333331,{"$f":"DATA!$C$9","v":0.89},{"$f":"DATA!$C$10","v":64},1,407.8125,407.8125,0,"","",0,"","",0,"","","","",null,{"$f":"X898","v":43},"2018-10-25",{"$f":"TEXT(Y897,\"ddd\")","v":"do"},"DD",{"$f":"IFERROR(HLOOKUP(Y897,[1]DATA!$A$1:$NB$5,3,0),\"\")","v":"D1"},null,null,null,null,{"$f":"VLOOKUP(Y897,[1]SRI!$S$4:$Z$368,2,0)","v":0},"","",""]
["43doMD",{"$f":"VLOOKUP($AA898,DATA!$B$3:$E$6,2,0)","v":"14:30:00"},{"$f":"VLOOKUP($AA898,DATA!$B$3:$E$6,3,0)","v":"22:30:00"},{"$f":"VLOOKUP($AA898,DATA!$B$3:$E$6,4,0)","v":3.125E-2},0.30208333333333337,0.30208333333333337,{"$f":"DATA!$C$9","v":0.89},{"$f":"DATA!$C$10","v":64},1,407.81250000000006,407.81250000000006,0,"","",0,"","",0,"","","","",null,{"$f":"WEEKNUM($Y888)","v":43},null,{"$f":"TEXT(Y897,\"ddd\")","v":"do"},"MD",{"$f":"IFERROR(HLOOKUP(Y897,[1]DATA!$A$1:$NB$5,4,0),\"\")","v":"D3"},null,null,null,null,{"$f":"VLOOKUP(Y897,[1]SRI!$S$4:$Z$368,3,0)","v":0},"","",""]
["43doND",{"$f":"VLOOKUP($AA899,DATA!$B$3:$E$6,2,0)","v":"22:30:00"},{"$f":"VLOOKUP($AA899,DATA!$B$3:$E$6,3,0)","v":"06:30:00"},{"$f":"VLOOKUP($AA899,DATA!$B$3:$E$6,4,0)","v":3.125E-2},0.30208333333333326,0.30208333333333326,{"$f":"DATA!$C$9","v":0.89},{"$f":"DATA!$C$10","v":64},1,407.81249999999989,407.81249999999989,0,"","",0,"","",0,"","","","",null,{"$f":"X898","v":43},null,{"$f":"TEXT(Y897,\"ddd\")","v":"do"},"ND",{"$f":"IFERROR(HLOOKUP(Y897,[1]DATA!$A$1:$NB$5,5,0),\"\")","v":"D2"},null,null,null,null,{"$f":"VLOOKUP(Y897,[1]SRI!$S$4:$Z$368,4,0)","v":0},"","",""]
["43vrDD",{"$f":"VLOOKUP($AA900,DATA!$B$3:$E$6,2,0)","v":"06:30:00"},{"$f":"VLOOKUP($AA900,DATA!$B$3:$E$6,3,0)","v":"14:30:00"},{"$f":"VLOOKUP($AA900,DATA!$B$3:$E$6,4,0)","v":3.125E-2},0.30208333333333331,0.30208333333333331,{"$f":"DATA!$C$9","v":0.89},{"$f":"DATA!$C$10","v":64},1,407.8125,407.8125,0,"","",0,"","",0,"","","","",null,{"$f":"X898","v":43},"2018-10-26",{"$f":"TEXT(Y900,\"ddd\")","v":"vr"},"DD",{"$f":"IFERROR(HLOOKUP(Y900,[1]DATA!$A$1:$NB$5,3,0),\"\")","v":"D1"},null,null,null,null,{"$f":"VLOOKUP(Y900,[1]SRI!$S$4:$Z$368,2,0)","v":0},"","",""]
["43vrMD",{"$f":"VLOOKUP($AA901,DATA!$B$3:$E$6,2,0)","v":"14:30:00"},{"$f":"VLOOKUP($AA901,DATA!$B$3:$E$6,3,0)","v":"22:30:00"},{"$f":"VLOOKUP($AA901,DATA!$B$3:$E$6,4,0)","v":3.125E-2},0.30208333333333337,0.30208333333333337,{"$f":"DATA!$C$9","v":0.89},{"$f":"DATA!$C$10","v":64},1,407.81250000000006,407.81250000000006,0,"","",0,"","",0,"","","","",null,{"$f":"X898","v":43},null,{"$f":"TEXT(Y900,\"ddd\")","v":"vr"},"MD",{"$f":"IFERROR(HLOOKUP(Y900,[1]DATA!$A$1:$NB$5,4,0),\"\")","v":"D3"},null,null,null,null,{"$f":"VLOOKUP(Y900,[1]SRI!$S$4:$Z$368,3,0)","v":0},"","",""]
["43vrND",{"$f":"VLOOKUP($AA902,DATA!$B$3:$E$6,2,0)","v":"22:30:00"},{"$f":"VLOOKUP($AA902,DATA!$B$3:$E$6,3,0)","v":"06:30:00"},{"$f":"VLOOKUP($AA902,DATA!$B$3:$E$6,4,0)","v":3.125E-2},0.30208333333333326,0.30208333333333326,{"$f":"DATA!$C$9","v":0.89},{"$f":"DATA!$C$10","v":64},1,{"$f":"F902*86400/H902*I902","v":407.81249999999989},{"$f":"E902*86400/H902","v":407.81249999999989},0,"","",0,"","",{"$f":"AF902*AG$2","v":0},{"$f":"IF(AF902-AE902=0,\"\",AF902-AE902)","v":""},"","","",null,{"$f":"X898","v":43},null,{"$f":"TEXT(Y900,\"ddd\")","v":"vr"},"ND",{"$f":"IFERROR(HLOOKUP(Y900,[1]DATA!$A$1:$NB$5,5,0),\"\")","v":"D2"},null,null,null,null,{"$f":"VLOOKUP(Y900,[1]SRI!$S$4:$Z$368,4,0)","v":0},{"$f":"IFERROR(S902-J902,\"\")","v":""},{"$f":"IFERROR(IF(S902/(E902*86400/H902)<=0,\"\",S902/(E902*86400/H902)),\"\")","v":""},{"$f":"IFERROR(R902/(R902+AG902),\"\")","v":""}]
["43zaDD",{"$f":"VLOOKUP($AA903,DATA!$B$3:$E$6,2,0)","v":"06:30:00"},{"$f":"VLOOKUP($AA903,DATA!$B$3:$E$6,3,0)","v":"14:30:00"},{"$f":"VLOOKUP($AA903,DATA!$B$3:$E$6,4,0)","v":3.125E-2},0.30208333333333331,0.30208333333333331,{"$f":"DATA!$C$9","v":0.89},{"$f":"DATA!$C$10","v":64},1,407.8125,407.8125,{"$f":"TIME(INT($AC903/60),INT(MOD($AC903,60)/1),0)","v":0},{"$f":"IF($L903*86400/$H903=0,\"\",$L903*86400/$H903)","v":""},{"$f":"IFERROR($M903/$K903,\"\")","v":""},0,"",{"$f":"IFERROR($P903/$K903,\"\")","v":""},0,"",{"$f":"IF(IF($AB903=\"D1\",$S903,\"\")=0,\"\",IF($AB903=\"D1\",$S903,\"\"))","v":""},{"$f":"IF(IF($AB903=\"D2\",$S903,\"\")=0,\"\",IF($AB903=\"D2\",$S903,\"\"))","v":""},{"$f":"IF(IF($AB903=\"D3\",$S903,\"\")=0,\"\",IF($AB903=\"D3\",$S903,\"\"))","v":""},null,{"$f":"X898","v":43},"2018-10-27",{"$f":"TEXT(Y903,\"ddd\")","v":"za"},"DD",{"$f":"IFERROR(HLOOKUP(Y903,[1]DATA!$A$1:$NB$5,3,0),\"\")","v":"D1"},null,null,null,null,{"$f":"VLOOKUP(Y903,[1]SRI!$S$4:$Z$368,2,0)","v":0},"","",""]
["43zaMD",{"$f":"VLOOKUP($AA904,DATA!$B$3:$E$6,2,0)","v":"14:30:00"},{"$f":"VLOOKUP($AA904,DATA!$B$3:$E$6,3,0)","v":"22:30:00"},{"$f":"VLOOKUP($AA904,DATA!$B$3:$E$6,4,0)","v":3.125E-2},0.30208333333333337,0.30208333333333337,{"$f":"DATA!$C$9","v":0.89},{"$f":"DATA!$C$10","v":64},1,407.81250000000006,407.81250000000006,0,"","",0,"","",0,"","","","",null,{"$f":"X898","v":43},null,{"$f":"TEXT(Y903,\"ddd\")","v":"za"},"MD",{"$f":"IFERROR(HLOOKUP(Y903,[1]DATA!$A$1:$NB$5,4,0),\"\")","v":"-"},null,null,null,null,{"$f":"VLOOKUP(Y903,[1]SRI!$S$4:$Z$368,3,0)","v":0},"","",""]
["43zaND",{"$f":"VLOOKUP($AA905,DATA!$B$3:$E$6,2,0)","v":"22:30:00"},{"$f":"VLOOKUP($AA905,DATA!$B$3:$E$6,3,0)","v":"06:30:00"},{"$f":"VLOOKUP($AA905,DATA!$B$3:$E$6,4,0)","v":3.125E-2},0.30208333333333326,0.30208333333333326,{"$f":"DATA!$C$9","v":0.89},{"$f":"DATA!$C$10","v":64},1,407.81249999999989,407.81249999999989,0,"","",0,"","",0,"","","","",null,{"$f":"X898","v":43},null,{"$f":"TEXT(Y903,\"ddd\")","v":"za"},"ND",{"$f":"IFERROR(HLOOKUP(Y903,[1]DATA!$A$1:$NB$5,5,0),\"\")","v":"-"},null,null,null,null,{"$f":"VLOOKUP(Y903,[1]SRI!$S$4:$Z$368,4,0)","v":0},"","",""]
["43zoDD",{"$f":"VLOOKUP($AA906,DATA!$B$3:$E$6,2,0)","v":"06:30:00"},{"$f":"VLOOKUP($AA906,DATA!$B$3:$E$6,3,0)","v":"14:30:00"},{"$f":"VLOOKUP($AA906,DATA!$B$3:$E$6,4,0)","v":3.125E-2},0.30208333333333331,0.30208333333333331,{"$f":"DATA!$C$9","v":0.89},{"$f":"DATA!$C$10","v":64},1,407.8125,407.8125,0,"","",0,"","",0,"","","","",null,{"$f":"X898","v":43},"2018-10-28",{"$f":"TEXT(Y906,\"ddd\")","v":"zo"},"DD",{"$f":"IFERROR(HLOOKUP(Y906,[1]DATA!$A$1:$NB$5,3,0),\"\")","v":"-"},null,null,null,null,{"$f":"VLOOKUP(Y906,[1]SRI!$S$4:$Z$368,2,0)","v":0},"","",""]
["43zoMD",{"$f":"VLOOKUP($AA907,DATA!$B$3:$E$6,2,0)","v":"14:30:00"},{"$f":"VLOOKUP($AA907,DATA!$B$3:$E$6,3,0)","v":"22:30:00"},{"$f":"VLOOKUP($AA907,DATA!$B$3:$E$6,4,0)","v":3.125E-2},0.30208333333333337,0.30208333333333337,{"$f":"DATA!$C$9","v":0.89},{"$f":"DATA!$C$10","v":64},1,407.81250000000006,407.81250000000006,0,"","",0,"","",0,"","","","",null,{"$f":"X898","v":43},null,{"$f":"TEXT(Y906,\"ddd\")","v":"zo"},"MD",{"$f":"IFERROR(HLOOKUP(Y906,[1]DATA!$A$1:$NB$5,4,0),\"\")","v":"-"},null,null,null,null,{"$f":"VLOOKUP(Y906,[1]SRI!$S$4:$Z$368,3,0)","v":0},"","",""]
["43zoZND",{"$f":"VLOOKUP($AA908,DATA!$B$3:$E$6,2,0)","v":"00:00:00"},{"$f":"VLOOKUP($AA908,DATA!$B$3:$E$6,3,0)","v":"00:00:00"},{"$f":"VLOOKUP($AA908,DATA!$B$3:$E$6,4,0)","v":3.125E-2},-3.125E-2,-3.125E-2,{"$f":"DATA!$C$9","v":0.89},{"$f":"DATA!$C$10","v":64},1,-42.1875,-42.1875,0,"","",0,"","",0,"","","","",null,{"$f":"X898","v":43},null,{"$f":"TEXT(Y906,\"ddd\")","v":"zo"},"ZND",{"$f":"IFERROR(HLOOKUP(Y906,[1]DATA!$A$1:$NB$5,5,0),\"\")","v":"-"},null,null,null,null,{"$f":"VLOOKUP(Y906,[1]SRI!$S$4:$Z$368,4,0)","v":0},"","",""]
["44maDD",{"$f":"VLOOKUP($AA909,DATA!$B$3:$E$6,2,0)","v":"06:30:00"},{"$f":"VLOOKUP($AA909,DATA!$B$3:$E$6,3,0)","v":"14:30:00"},{"$f":"VLOOKUP($AA909,DATA!$B$3:$E$6,4,0)","v":3.125E-2},0.30208333333333331,0.30208333333333331,{"$f":"DATA!$C$9","v":0.89},{"$f":"DATA!$C$10","v":64},1,407.8125,407.8125,0,"","",{"$f":"TIME(INT($AD909/60),INT(MOD($AD909,60)/1),0)","v":0},"","",0,"","","","",null,{"$f":"X919","v":44},"2018-10-29",{"$f":"TEXT(Y909,\"ddd\")","v":"ma"},"DD",{"$f":"IFERROR(HLOOKUP(Y909,[1]DATA!$A$1:$NB$5,3,0),\"\")","v":"D3"},null,null,null,null,{"$f":"VLOOKUP(Y909,[1]SRI!$S$4:$Z$368,2,0)","v":0},"","","",{"$f":"IF(SUMIF(S909:S929,\">0\",K909:K929)=0,\"\",SUMIF(S909:S929,\">0\",K909:K929))","v":""},{"$f":"IF(SUM(S909:S929)=0,\"\",SUM(S909:S929))","v":""},{"$f":"IFERROR(AL909/AK909,\"-\")","v":"-"},{"$f":"IF(SUM(M909:M929)=0,\"0\",SUM(M909:M929))","v":"0"},{"$f":"IFERROR(AN909/AK909,\"-\")","v":"-"},{"$f":"IF(SUM(P909:P929)=0,0,SUM(P909:P929))","v":0},{"$f":"IFERROR(AP909/AK909,\"-\")","v":"-"},{"$f":"IFERROR(AVERAGE(AJ909:AJ929),\"-\")","v":"-"},{"$f":"IFERROR(SUMIF($AB909:$AB929,AS$5,$AJ909:$AJ929)/COUNTIFS($AB909:$AB929,AS$5,$AJ909:$AJ929,\">0\"),\"\")","v":""},"","",{"$f":"IFERROR((AK909-AL909-AN909-AP909),\"-\")","v":"-"},{"$f":"IFERROR((1-AM909-AO909-AQ909), \"-\")","v":"-"},{"$f":"IFERROR((AV909*$AE$2)/60,\"-\")","v":"-"},{"$f":"IFERROR(SUM(AG909:AG929),\"\")","v":0}]
["44maMD",{"$f":"VLOOKUP($AA910,DATA!$B$3:$E$6,2,0)","v":"14:30:00"},{"$f":"VLOOKUP($AA910,DATA!$B$3:$E$6,3,0)","v":"22:30:00"},{"$f":"VLOOKUP($AA910,DATA!$B$3:$E$6,4,0)","v":3.125E-2},0.30208333333333337,0.30208333333333337,{"$f":"DATA!$C$9","v":0.89},{"$f":"DATA!$C$10","v":64},1,407.81250000000006,407.81250000000006,0,"","",{"$f":"TIME(INT(AD910/60),INT(MOD(AD910,60)/1),0)","v":0},"","",0,"","","","",null,{"$f":"X919","v":44},null,{"$f":"TEXT(Y909,\"ddd\")","v":"ma"},"MD",{"$f":"IFERROR(HLOOKUP(Y909,[1]DATA!$A$1:$NB$5,4,0),\"\")","v":"D2"},null,null,null,null,{"$f":"VLOOKUP(Y909,[1]SRI!$S$4:$Z$368,3,0)","v":0},"","",""]
["44maND",{"$f":"VLOOKUP($AA911,DATA!$B$3:$E$6,2,0)","v":"22:30:00"},{"$f":"VLOOKUP($AA911,DATA!$B$3:$E$6,3,0)","v":"06:30:00"},{"$f":"VLOOKUP($AA911,DATA!$B$3:$E$6,4,0)","v":3.125E-2},0.30208333333333326,0.30208333333333326,{"$f":"DATA!$C$9","v":0.89},{"$f":"DATA!$C$10","v":64},1,407.81249999999989,407.81249999999989,0,"","",0,"","",0,"","","","",null,{"$f":"X919","v":44},null,{"$f":"TEXT(Y909,\"ddd\")","v":"ma"},"ND",{"$f":"IFERROR(HLOOKUP(Y909,[1]DATA!$A$1:$NB$5,5,0),\"\")","v":"D1"},null,null,null,null,{"$f":"VLOOKUP(Y909,[1]SRI!$S$4:$Z$368,4,0)","v":0},"","",""]
["44diDD",{"$f":"VLOOKUP($AA912,DATA!$B$3:$E$6,2,0)","v":"06:30:00"},{"$f":"VLOOKUP($AA912,DATA!$B$3:$E$6,3,0)","v":"14:30:00"},{"$f":"VLOOKUP($AA912,DATA!$B$3:$E$6,4,0)","v":3.125E-2},0.30208333333333331,0.30208333333333331,{"$f":"DATA!$C$9","v":0.89},{"$f":"DATA!$C$10","v":64},1,407.8125,407.8125,0,"","",0,"","",0,"","","","",null,{"$f":"X919","v":44},"2018-10-30",{"$f":"TEXT(Y912,\"ddd\")","v":"di"},"DD",{"$f":"IFERROR(HLOOKUP(Y912,[1]DATA!$A$1:$NB$5,3,0),\"\")","v":"D3"},null,null,null,null,{"$f":"VLOOKUP(Y912,[1]SRI!$S$4:$Z$368,2,0)","v":0},"","",""]
["44diMD",{"$f":"VLOOKUP($AA913,DATA!$B$3:$E$6,2,0)","v":"14:30:00"},{"$f":"VLOOKUP($AA913,DATA!$B$3:$E$6,3,0)","v":"22:30:00"},{"$f":"VLOOKUP($AA913,DATA!$B$3:$E$6,4,0)","v":3.125E-2},0.30208333333333337,0.30208333333333337,{"$f":"DATA!$C$9","v":0.89},{"$f":"DATA!$C$10","v":64},1,407.81250000000006,407.81250000000006,0,"","",0,"","",0,"","","","",null,{"$f":"X919","v":44},null,{"$f":"TEXT(Y912,\"ddd\")","v":"di"},"MD",{"$f":"IFERROR(HLOOKUP(Y912,[1]DATA!$A$1:$NB$5,4,0),\"\")","v":"D2"},null,null,null,null,{"$f":"VLOOKUP(Y912,[1]SRI!$S$4:$Z$368,3,0)","v":0},"","",""]
["44diND",{"$f":"VLOOKUP($AA914,DATA!$B$3:$E$6,2,0)","v":"22:30:00"},{"$f":"VLOOKUP($AA914,DATA!$B$3:$E$6,3,0)","v":"06:30:00"},{"$f":"VLOOKUP($AA914,DATA!$B$3:$E$6,4,0)","v":3.125E-2},0.30208333333333326,0.30208333333333326,{"$f":"DATA!$C$9","v":0.89},{"$f":"DATA!$C$10","v":64},1,407.81249999999989,407.81249999999989,0,"","",0,"","",0,"","","","",null,{"$f":"X919","v":44},null,{"$f":"TEXT(Y912,\"ddd\")","v":"di"},"ND",{"$f":"IFERROR(HLOOKUP(Y912,[1]DATA!$A$1:$NB$5,5,0),\"\")","v":"D1"},null,null,null,null,{"$f":"VLOOKUP(Y912,[1]SRI!$S$4:$Z$368,4,0)","v":0},"","",""]
["44woDD",{"$f":"VLOOKUP($AA915,DATA!$B$3:$E$6,2,0)","v":"06:30:00"},{"$f":"VLOOKUP($AA915,DATA!$B$3:$E$6,3,0)","v":"14:30:00"},{"$f":"VLOOKUP($AA915,DATA!$B$3:$E$6,4,0)","v":3.125E-2},0.30208333333333331,0.30208333333333331,{"$f":"DATA!$C$9","v":0.89},{"$f":"DATA!$C$10","v":64},1,407.8125,407.8125,0,"","",0,"","",0,"","","","",null,{"$f":"X919","v":44},"2018-10-31",{"$f":"TEXT(Y915,\"ddd\")","v":"wo"},"DD",{"$f":"IFERROR(HLOOKUP(Y915,[1]DATA!$A$1:$NB$5,3,0),\"\")","v":"D3"},null,null,null,null,{"$f":"VLOOKUP(Y915,[1]SRI!$S$4:$Z$368,2,0)","v":0},"","",""]
["44woMD",{"$f":"VLOOKUP($AA916,DATA!$B$3:$E$6,2,0)","v":"14:30:00"},{"$f":"VLOOKUP($AA916,DATA!$B$3:$E$6,3,0)","v":"22:30:00"},{"$f":"VLOOKUP($AA916,DATA!$B$3:$E$6,4,0)","v":3.125E-2},0.30208333333333337,0.30208333333333337,{"$f":"DATA!$C$9","v":0.89},{"$f":"DATA!$C$10","v":64},1,407.81250000000006,407.81250000000006,0,"","",0,"","",0,"","","","",null,{"$f":"X919","v":44},null,{"$f":"TEXT(Y915,\"ddd\")","v":"wo"},"MD",{"$f":"IFERROR(HLOOKUP(Y915,[1]DATA!$A$1:$NB$5,4,0),\"\")","v":"D2"},null,null,null,null,{"$f":"VLOOKUP(Y915,[1]SRI!$S$4:$Z$368,3,0)","v":0},"","",""]
["44woND",{"$f":"VLOOKUP($AA917,DATA!$B$3:$E$6,2,0)","v":"22:30:00"},{"$f":"VLOOKUP($AA917,DATA!$B$3:$E$6,3,0)","v":"06:30:00"},{"$f":"VLOOKUP($AA917,DATA!$B$3:$E$6,4,0)","v":3.125E-2},0.30208333333333326,0.30208333333333326,{"$f":"DATA!$C$9","v":0.89},{"$f":"DATA!$C$10","v":64},1,407.81249999999989,407.81249999999989,0,"","",0,"","",0,"","","","",null,{"$f":"X919","v":44},null,{"$f":"TEXT(Y915,\"ddd\")","v":"wo"},"ND",{"$f":"IFERROR(HLOOKUP(Y915,[1]DATA!$A$1:$NB$5,5,0),\"\")","v":"D1"},null,null,null,null,{"$f":"VLOOKUP(Y915,[1]SRI!$S$4:$Z$368,4,0)","v":0},"","",""]
["44doDD",{"$f":"VLOOKUP($AA918,DATA!$B$3:$E$6,2,0)","v":"06:30:00"},{"$f":"VLOOKUP($AA918,DATA!$B$3:$E$6,3,0)","v":"14:30:00"},{"$f":"VLOOKUP($AA918,DATA!$B$3:$E$6,4,0)","v":3.125E-2},0.30208333333333331,0.30208333333333331,{"$f":"DATA!$C$9","v":0.89},{"$f":"DATA!$C$10","v":64},1,407.8125,407.8125,0,"","",0,"","",0,"","","","",null,{"$f":"X919","v":44},"2018-11-01",{"$f":"TEXT(Y918,\"ddd\")","v":"do"},"DD",{"$f":"IFERROR(HLOOKUP(Y918,[1]DATA!$A$1:$NB$5,3,0),\"\")","v":"D3"},null,null,null,null,{"$f":"VLOOKUP(Y918,[1]SRI!$S$4:$Z$368,2,0)","v":0},"","",""]
["44doMD",{"$f":"VLOOKUP($AA919,DATA!$B$3:$E$6,2,0)","v":"14:30:00"},{"$f":"VLOOKUP($AA919,DATA!$B$3:$E$6,3,0)","v":"22:30:00"},{"$f":"VLOOKUP($AA919,DATA!$B$3:$E$6,4,0)","v":3.125E-2},0.30208333333333337,0.30208333333333337,{"$f":"DATA!$C$9","v":0.89},{"$f":"DATA!$C$10","v":64},1,407.81250000000006,407.81250000000006,0,"","",0,"","",0,"","","","",null,{"$f":"WEEKNUM($Y909)","v":44},null,{"$f":"TEXT(Y918,\"ddd\")","v":"do"},"MD",{"$f":"IFERROR(HLOOKUP(Y918,[1]DATA!$A$1:$NB$5,4,0),\"\")","v":"D2"},null,null,null,null,{"$f":"VLOOKUP(Y918,[1]SRI!$S$4:$Z$368,3,0)","v":0},"","",""]
["44doND",{"$f":"VLOOKUP($AA920,DATA!$B$3:$E$6,2,0)","v":"22:30:00"},{"$f":"VLOOKUP($AA920,DATA!$B$3:$E$6,3,0)","v":"06:30:00"},{"$f":"VLOOKUP($AA920,DATA!$B$3:$E$6,4,0)","v":3.125E-2},0.30208333333333326,0.30208333333333326,{"$f":"DATA!$C$9","v":0.89},{"$f":"DATA!$C$10","v":64},1,407.81249999999989,407.81249999999989,0,"","",0,"","",0,"","","","",null,{"$f":"X919","v":44},null,{"$f":"TEXT(Y918,\"ddd\")","v":"do"},"ND",{"$f":"IFERROR(HLOOKUP(Y918,[1]DATA!$A$1:$NB$5,5,0),\"\")","v":"D1"},null,null,null,null,{"$f":"VLOOKUP(Y918,[1]SRI!$S$4:$Z$368,4,0)","v":0},"","",""]
["44vrDD",{"$f":"VLOOKUP($AA921,DATA!$B$3:$E$6,2,0)","v":"06:30:00"},{"$f":"VLOOKUP($AA921,DATA!$B$3:$E$6,3,0)","v":"14:30:00"},{"$f":"VLOOKUP($AA921,DATA!$B$3:$E$6,4,0)","v":3.125E-2},0.30208333333333331,0.30208333333333331,{"$f":"DATA!$C$9","v":0.89},{"$f":"DATA!$C$10","v":64},1,407.8125,407.8125,0,"","",0,"","",0,"","","","",null,{"$f":"X919","v":44},"2018-11-02",{"$f":"TEXT(Y921,\"ddd\")","v":"vr"},"DD",{"$f":"IFERROR(HLOOKUP(Y921,[1]DATA!$A$1:$NB$5,3,0),\"\")","v":"D3"},null,null,null,null,{"$f":"VLOOKUP(Y921,[1]SRI!$S$4:$Z$368,2,0)","v":0},"","",""]
["44vrMD",{"$f":"VLOOKUP($AA922,DATA!$B$3:$E$6,2,0)","v":"14:30:00"},{"$f":"VLOOKUP($AA922,DATA!$B$3:$E$6,3,0)","v":"22:30:00"},{"$f":"VLOOKUP($AA922,DATA!$B$3:$E$6,4,0)","v":3.125E-2},0.30208333333333337,0.30208333333333337,{"$f":"DATA!$C$9","v":0.89},{"$f":"DATA!$C$10","v":64},1,407.81250000000006,407.81250000000006,0,"","",0,"","",0,"","","","",null,{"$f":"X919","v":44},null,{"$f":"TEXT(Y921,\"ddd\")","v":"vr"},"MD",{"$f":"IFERROR(HLOOKUP(Y921,[1]DATA!$A$1:$NB$5,4,0),\"\")","v":"D2"},null,null,null,null,{"$f":"VLOOKUP(Y921,[1]SRI!$S$4:$Z$368,3,0)","v":0},"","",""]
["44vrND",{"$f":"VLOOKUP($AA923,DATA!$B$3:$E$6,2,0)","v":"22:30:00"},{"$f":"VLOOKUP($AA923,DATA!$B$3:$E$6,3,0)","v":"06:30:00"},{"$f":"VLOOKUP($AA923,DATA!$B$3:$E$6,4,0)","v":3.125E-2},0.30208333333333326,0.30208333333333326,{"$f":"DATA!$C$9","v":0.89},{"$f":"DATA!$C$10","v":64},1,407.81249999999989,407.81249999999989,0,"","",0,"","",0,"","","","",null,{"$f":"X919","v":44},null,{"$f":"TEXT(Y921,\"ddd\")","v":"vr"},"ND",{"$f":"IFERROR(HLOOKUP(Y921,[1]DATA!$A$1:$NB$5,5,0),\"\")","v":"D2"},null,null,null,null,{"$f":"VLOOKUP(Y921,[1]SRI!$S$4:$Z$368,4,0)","v":0},"","",""]
["44zaDD",{"$f":"VLOOKUP($AA924,DATA!$B$3:$E$6,2,0)","v":"06:30:00"},{"$f":"VLOOKUP($AA924,DATA!$B$3:$E$6,3,0)","v":"14:30:00"},{"$f":"VLOOKUP($AA924,DATA!$B$3:$E$6,4,0)","v":3.125E-2},{"$f":"(C924-B924+(B924>C924))-D924","v":0.30208333333333331},{"$f":"E924-O924-L924","v":0.30208333333333331},{"$f":"DATA!$C$9","v":0.89},{"$f":"DATA!$C$10","v":64},1,407.8125,407.8125,0,"","",0,"","",0,"","","","",null,{"$f":"X919","v":44},"2018-11-03",{"$f":"TEXT(Y924,\"ddd\")","v":"za"},"DD",{"$f":"IFERROR(HLOOKUP(Y924,[1]DATA!$A$1:$NB$5,3,0),\"\")","v":"D3"},null,null,null,null,{"$f":"VLOOKUP(Y924,[1]SRI!$S$4:$Z$368,2,0)","v":0},"","",""]
["44zaMD",{"$f":"VLOOKUP($AA925,DATA!$B$3:$E$6,2,0)","v":"14:30:00"},{"$f":"VLOOKUP($AA925,DATA!$B$3:$E$6,3,0)","v":"22:30:00"},{"$f":"VLOOKUP($AA925,DATA!$B$3:$E$6,4,0)","v":3.125E-2},0.30208333333333337,0.30208333333333337,{"$f":"DATA!$C$9","v":0.89},{"$f":"DATA!$C$10","v":64},1,407.81250000000006,407.81250000000006,0,"","",0,"","",0,"","","","",null,{"$f":"X919","v":44},null,{"$f":"TEXT(Y924,\"ddd\")","v":"za"},"MD",{"$f":"IFERROR(HLOOKUP(Y924,[1]DATA!$A$1:$NB$5,4,0),\"\")","v":"-"},null,null,null,null,{"$f":"VLOOKUP(Y924,[1]SRI!$S$4:$Z$368,3,0)","v":0},"","",""]
["44zaND",{"$f":"VLOOKUP($AA926,DATA!$B$3:$E$6,2,0)","v":"22:30:00"},{"$f":"VLOOKUP($AA926,DATA!$B$3:$E$6,3,0)","v":"06:30:00"},{"$f":"VLOOKUP($AA926,DATA!$B$3:$E$6,4,0)","v":3.125E-2},0.30208333333333326,0.30208333333333326,{"$f":"DATA!$C$9","v":0.89},{"$f":"DATA!$C$10","v":64},1,407.81249999999989,407.81249999999989,0,"","",0,"","",0,"","","","",null,{"$f":"X919","v":44},null,{"$f":"TEXT(Y924,\"ddd\")","v":"za"},"ND",{"$f":"IFERROR(HLOOKUP(Y924,[1]DATA!$A$1:$NB$5,5,0),\"\")","v":"-"},null,null,null,null,{"$f":"VLOOKUP(Y924,[1]SRI!$S$4:$Z$368,4,0)","v":0},"","",""]
["44zoDD",{"$f":"VLOOKUP($AA927,DATA!$B$3:$E$6,2,0)","v":"06:30:00"},{"$f":"VLOOKUP($AA927,DATA!$B$3:$E$6,3,0)","v":"14:30:00"},{"$f":"VLOOKUP($AA927,DATA!$B$3:$E$6,4,0)","v":3.125E-2},0.30208333333333331,0.30208333333333331,{"$f":"DATA!$C$9","v":0.89},{"$f":"DATA!$C$10","v":64},1,407.8125,407.8125,0,"","",0,"","",0,"","","","",null,{"$f":"X919","v":44},"2018-11-04",{"$f":"TEXT(Y927,\"ddd\")","v":"zo"},"DD",{"$f":"IFERROR(HLOOKUP(Y927,[1]DATA!$A$1:$NB$5,3,0),\"\")","v":"-"},null,null,null,null,{"$f":"VLOOKUP(Y927,[1]SRI!$S$4:$Z$368,2,0)","v":0},"","",""]
["44zoMD",{"$f":"VLOOKUP($AA928,DATA!$B$3:$E$6,2,0)","v":"14:30:00"},{"$f":"VLOOKUP($AA928,DATA!$B$3:$E$6,3,0)","v":"22:30:00"},{"$f":"VLOOKUP($AA928,DATA!$B$3:$E$6,4,0)","v":3.125E-2},0.30208333333333337,0.30208333333333337,{"$f":"DATA!$C$9","v":0.89},{"$f":"DATA!$C$10","v":64},1,407.81250000000006,407.81250000000006,0,"","",0,"","",0,"","","","",null,{"$f":"X919","v":44},null,{"$f":"TEXT(Y927,\"ddd\")","v":"zo"},"MD",{"$f":"IFERROR(HLOOKUP(Y927,[1]DATA!$A$1:$NB$5,4,0),\"\")","v":"-"},null,null,null,null,{"$f":"VLOOKUP(Y927,[1]SRI!$S$4:$Z$368,3,0)","v":0},"","",""]
["44zoZND",{"$f":"VLOOKUP($AA929,DATA!$B$3:$E$6,2,0)","v":"00:00:00"},{"$f":"VLOOKUP($AA929,DATA!$B$3:$E$6,3,0)","v":"00:00:00"},{"$f":"VLOOKUP($AA929,DATA!$B$3:$E$6,4,0)","v":3.125E-2},-3.125E-2,-3.125E-2,{"$f":"DATA!$C$9","v":0.89},{"$f":"DATA!$C$10","v":64},1,-42.1875,-42.1875,0,"","",0,"","",0,"","","","",null,{"$f":"X919","v":44},null,{"$f":"TEXT(Y927,\"ddd\")","v":"zo"},"ZND",{"$f":"IFERROR(HLOOKUP(Y927,[1]DATA!$A$1:$NB$5,5,0),\"\")","v":"-"},null,null,null,null,{"$f":"VLOOKUP(Y927,[1]SRI!$S$4:$Z$368,4,0)","v":0},"","",""]
["45maDD",{"$f":"VLOOKUP($AA930,DATA!$B$3:$E$6,2,0)","v":"06:30:00"},{"$f":"VLOOKUP($AA930,DATA!$B$3:$E$6,3,0)","v":"14:30:00"},{"$f":"VLOOKUP($AA930,DATA!$B$3:$E$6,4,0)","v":3.125E-2},0.30208333333333331,0.30208333333333331,{"$f":"DATA!$C$9","v":0.89},{"$f":"DATA!$C$10","v":64},1,407.8125,407.8125,0,"","",{"$f":"TIME(INT($AD930/60),INT(MOD($AD930,60)/1),0)","v":0},"","",0,"","","","",null,{"$f":"X940","v":45},"2018-11-05",{"$f":"TEXT(Y930,\"ddd\")","v":"ma"},"DD",{"$f":"IFERROR(HLOOKUP(Y930,[1]DATA!$A$1:$NB$5,3,0),\"\")","v":"D2"},null,null,null,null,{"$f":"VLOOKUP(Y930,[1]SRI!$S$4:$Z$368,2,0)","v":0},"","","",{"$f":"IF(SUMIF(S930:S950,\">0\",K930:K950)=0,\"\",SUMIF(S930:S950,\">0\",K930:K950))","v":""},{"$f":"IF(SUM(S930:S950)=0,\"\",SUM(S930:S950))","v":""},{"$f":"IFERROR(AL930/AK930,\"-\")","v":"-"},{"$f":"IF(SUM(M930:M950)=0,\"0\",SUM(M930:M950))","v":"0"},{"$f":"IFERROR(AN930/AK930,\"-\")","v":"-"},{"$f":"IF(SUM(P930:P950)=0,0,SUM(P930:P950))","v":0},{"$f":"IFERROR(AP930/AK930,\"-\")","v":"-"},{"$f":"IFERROR(AVERAGE(AJ930:AJ950),\"-\")","v":"-"},{"$f":"IFERROR(SUMIF($AB930:$AB950,AS$5,$AJ930:$AJ950)/COUNTIFS($AB930:$AB950,AS$5,$AJ930:$AJ950,\">0\"),\"\")","v":""},"","",{"$f":"IFERROR((AK930-AL930-AN930-AP930),\"-\")","v":"-"},{"$f":"IFERROR((1-AM930-AO930-AQ930), \"-\")","v":"-"},{"$f":"IFERROR((AV930*$AE$2)/60,\"-\")","v":"-"},{"$f":"IFERROR(SUM(AG930:AG950),\"\")","v":0}]
["45maMD",{"$f":"VLOOKUP($AA931,DATA!$B$3:$E$6,2,0)","v":"14:30:00"},{"$f":"VLOOKUP($AA931,DATA!$B$3:$E$6,3,0)","v":"22:30:00"},{"$f":"VLOOKUP($AA931,DATA!$B$3:$E$6,4,0)","v":3.125E-2},0.30208333333333337,0.30208333333333337,{"$f":"DATA!$C$9","v":0.89},{"$f":"DATA!$C$10","v":64},1,407.81250000000006,407.81250000000006,0,"","",{"$f":"TIME(INT(AD931/60),INT(MOD(AD931,60)/1),0)","v":0},"","",0,"","","","",null,{"$f":"X940","v":45},null,{"$f":"TEXT(Y930,\"ddd\")","v":"ma"},"MD",{"$f":"IFERROR(HLOOKUP(Y930,[1]DATA!$A$1:$NB$5,4,0),\"\")","v":"D1"},null,null,null,null,{"$f":"VLOOKUP(Y930,[1]SRI!$S$4:$Z$368,3,0)","v":0},"","",""]
["45maND",{"$f":"VLOOKUP($AA932,DATA!$B$3:$E$6,2,0)","v":"22:30:00"},{"$f":"VLOOKUP($AA932,DATA!$B$3:$E$6,3,0)","v":"06:30:00"},{"$f":"VLOOKUP($AA932,DATA!$B$3:$E$6,4,0)","v":3.125E-2},0.30208333333333326,0.30208333333333326,{"$f":"DATA!$C$9","v":0.89},{"$f":"DATA!$C$10","v":64},1,407.81249999999989,407.81249999999989,0,"","",0,"","",0,"","","","",null,{"$f":"X940","v":45},null,{"$f":"TEXT(Y930,\"ddd\")","v":"ma"},"ND",{"$f":"IFERROR(HLOOKUP(Y930,[1]DATA!$A$1:$NB$5,5,0),\"\")","v":"D3"},null,null,null,null,{"$f":"VLOOKUP(Y930,[1]SRI!$S$4:$Z$368,4,0)","v":0},"","",""]
["45diDD",{"$f":"VLOOKUP($AA933,DATA!$B$3:$E$6,2,0)","v":"06:30:00"},{"$f":"VLOOKUP($AA933,DATA!$B$3:$E$6,3,0)","v":"14:30:00"},{"$f":"VLOOKUP($AA933,DATA!$B$3:$E$6,4,0)","v":3.125E-2},0.30208333333333331,0.30208333333333331,{"$f":"DATA!$C$9","v":0.89},{"$f":"DATA!$C$10","v":64},1,407.8125,407.8125,0,"","",0,"","",0,"","","","",null,{"$f":"X940","v":45},"2018-11-06",{"$f":"TEXT(Y933,\"ddd\")","v":"di"},"DD",{"$f":"IFERROR(HLOOKUP(Y933,[1]DATA!$A$1:$NB$5,3,0),\"\")","v":"D2"},null,null,null,null,{"$f":"VLOOKUP(Y933,[1]SRI!$S$4:$Z$368,2,0)","v":0},"","",""]
["45diMD",{"$f":"VLOOKUP($AA934,DATA!$B$3:$E$6,2,0)","v":"14:30:00"},{"$f":"VLOOKUP($AA934,DATA!$B$3:$E$6,3,0)","v":"22:30:00"},{"$f":"VLOOKUP($AA934,DATA!$B$3:$E$6,4,0)","v":3.125E-2},0.30208333333333337,0.30208333333333337,{"$f":"DATA!$C$9","v":0.89},{"$f":"DATA!$C$10","v":64},1,407.81250000000006,407.81250000000006,0,"","",0,"","",0,"","","","",null,{"$f":"X940","v":45},null,{"$f":"TEXT(Y933,\"ddd\")","v":"di"},"MD",{"$f":"IFERROR(HLOOKUP(Y933,[1]DATA!$A$1:$NB$5,4,0),\"\")","v":"D1"},null,null,null,null,{"$f":"VLOOKUP(Y933,[1]SRI!$S$4:$Z$368,3,0)","v":0},"","",""]
["45diND",{"$f":"VLOOKUP($AA935,DATA!$B$3:$E$6,2,0)","v":"22:30:00"},{"$f":"VLOOKUP($AA935,DATA!$B$3:$E$6,3,0)","v":"06:30:00"},{"$f":"VLOOKUP($AA935,DATA!$B$3:$E$6,4,0)","v":3.125E-2},0.30208333333333326,0.30208333333333326,{"$f":"DATA!$C$9","v":0.89},{"$f":"DATA!$C$10","v":64},1,407.81249999999989,407.81249999999989,0,"","",0,"","",0,"","","","",null,{"$f":"X940","v":45},null,{"$f":"TEXT(Y933,\"ddd\")","v":"di"},"ND",{"$f":"IFERROR(HLOOKUP(Y933,[1]DATA!$A$1:$NB$5,5,0),\"\")","v":"D3"},null,null,null,null,{"$f":"VLOOKUP(Y933,[1]SRI!$S$4:$Z$368,4,0)","v":0},"","",""]
["45woDD",{"$f":"VLOOKUP($AA936,DATA!$B$3:$E$6,2,0)","v":"06:30:00"},{"$f":"VLOOKUP($AA936,DATA!$B$3:$E$6,3,0)","v":"14:30:00"},{"$f":"VLOOKUP($AA936,DATA!$B$3:$E$6,4,0)","v":3.125E-2},0.30208333333333331,0.30208333333333331,{"$f":"DATA!$C$9","v":0.89},{"$f":"DATA!$C$10","v":64},1,407.8125,407.8125,0,"","",0,"","",0,"","","","",null,{"$f":"X940","v":45},"2018-11-07",{"$f":"TEXT(Y936,\"ddd\")","v":"wo"},"DD",{"$f":"IFERROR(HLOOKUP(Y936,[1]DATA!$A$1:$NB$5,3,0),\"\")","v":"D2"},null,null,null,null,{"$f":"VLOOKUP(Y936,[1]SRI!$S$4:$Z$368,2,0)","v":0},"","",""]
["45woMD",{"$f":"VLOOKUP($AA937,DATA!$B$3:$E$6,2,0)","v":"14:30:00"},{"$f":"VLOOKUP($AA937,DATA!$B$3:$E$6,3,0)","v":"22:30:00"},{"$f":"VLOOKUP($AA937,DATA!$B$3:$E$6,4,0)","v":3.125E-2},0.30208333333333337,0.30208333333333337,{"$f":"DATA!$C$9","v":0.89},{"$f":"DATA!$C$10","v":64},1,407.81250000000006,407.81250000000006,0,"","",0,"","",0,"","","","",null,{"$f":"X940","v":45},null,{"$f":"TEXT(Y936,\"ddd\")","v":"wo"},"MD",{"$f":"IFERROR(HLOOKUP(Y936,[1]DATA!$A$1:$NB$5,4,0),\"\")","v":"D1"},null,null,null,null,{"$f":"VLOOKUP(Y936,[1]SRI!$S$4:$Z$368,3,0)","v":0},"","",""]
["45woND",{"$f":"VLOOKUP($AA938,DATA!$B$3:$E$6,2,0)","v":"22:30:00"},{"$f":"VLOOKUP($AA938,DATA!$B$3:$E$6,3,0)","v":"06:30:00"},{"$f":"VLOOKUP($AA938,DATA!$B$3:$E$6,4,0)","v":3.125E-2},0.30208333333333326,0.30208333333333326,{"$f":"DATA!$C$9","v":0.89},{"$f":"DATA!$C$10","v":64},1,407.81249999999989,407.81249999999989,0,"","",0,"","",0,"","","","",null,{"$f":"X940","v":45},null,{"$f":"TEXT(Y936,\"ddd\")","v":"wo"},"ND",{"$f":"IFERROR(HLOOKUP(Y936,[1]DATA!$A$1:$NB$5,5,0),\"\")","v":"D3"},null,null,null,null,{"$f":"VLOOKUP(Y936,[1]SRI!$S$4:$Z$368,4,0)","v":0},"","",""]
["45doDD",{"$f":"VLOOKUP($AA939,DATA!$B$3:$E$6,2,0)","v":"06:30:00"},{"$f":"VLOOKUP($AA939,DATA!$B$3:$E$6,3,0)","v":"14:30:00"},{"$f":"VLOOKUP($AA939,DATA!$B$3:$E$6,4,0)","v":3.125E-2},0.30208333333333331,0.30208333333333331,{"$f":"DATA!$C$9","v":0.89},{"$f":"DATA!$C$10","v":64},1,407.8125,407.8125,0,"","",0,"","",0,"","","","",null,{"$f":"X940","v":45},"2018-11-08",{"$f":"TEXT(Y939,\"ddd\")","v":"do"},"DD",{"$f":"IFERROR(HLOOKUP(Y939,[1]DATA!$A$1:$NB$5,3,0),\"\")","v":"D2"},null,null,null,null,{"$f":"VLOOKUP(Y939,[1]SRI!$S$4:$Z$368,2,0)","v":0},"","",""]
["45doMD",{"$f":"VLOOKUP($AA940,DATA!$B$3:$E$6,2,0)","v":"14:30:00"},{"$f":"VLOOKUP($AA940,DATA!$B$3:$E$6,3,0)","v":"22:30:00"},{"$f":"VLOOKUP($AA940,DATA!$B$3:$E$6,4,0)","v":3.125E-2},0.30208333333333337,0.30208333333333337,{"$f":"DATA!$C$9","v":0.89},{"$f":"DATA!$C$10","v":64},1,407.81250000000006,407.81250000000006,0,"","",0,"","",0,"","","","",null,{"$f":"WEEKNUM($Y930)","v":45},null,{"$f":"TEXT(Y939,\"ddd\")","v":"do"},"MD",{"$f":"IFERROR(HLOOKUP(Y939,[1]DATA!$A$1:$NB$5,4,0),\"\")","v":"D1"},null,null,null,null,{"$f":"VLOOKUP(Y939,[1]SRI!$S$4:$Z$368,3,0)","v":0},"","",""]
["45doND",{"$f":"VLOOKUP($AA941,DATA!$B$3:$E$6,2,0)","v":"22:30:00"},{"$f":"VLOOKUP($AA941,DATA!$B$3:$E$6,3,0)","v":"06:30:00"},{"$f":"VLOOKUP($AA941,DATA!$B$3:$E$6,4,0)","v":3.125E-2},0.30208333333333326,0.30208333333333326,{"$f":"DATA!$C$9","v":0.89},{"$f":"DATA!$C$10","v":64},1,407.81249999999989,407.81249999999989,0,"","",0,"","",0,"","","","",null,{"$f":"X940","v":45},null,{"$f":"TEXT(Y939,\"ddd\")","v":"do"},"ND",{"$f":"IFERROR(HLOOKUP(Y939,[1]DATA!$A$1:$NB$5,5,0),\"\")","v":"D3"},null,null,null,null,{"$f":"VLOOKUP(Y939,[1]SRI!$S$4:$Z$368,4,0)","v":0},"","",""]
["45vrDD",{"$f":"VLOOKUP($AA942,DATA!$B$3:$E$6,2,0)","v":"06:30:00"},{"$f":"VLOOKUP($AA942,DATA!$B$3:$E$6,3,0)","v":"14:30:00"},{"$f":"VLOOKUP($AA942,DATA!$B$3:$E$6,4,0)","v":3.125E-2},0.30208333333333331,0.30208333333333331,{"$f":"DATA!$C$9","v":0.89},{"$f":"DATA!$C$10","v":64},1,407.8125,407.8125,0,"","",0,"","",0,"","","","",null,{"$f":"X940","v":45},"2018-11-09",{"$f":"TEXT(Y942,\"ddd\")","v":"vr"},"DD",{"$f":"IFERROR(HLOOKUP(Y942,[1]DATA!$A$1:$NB$5,3,0),\"\")","v":"D2"},null,null,null,null,{"$f":"VLOOKUP(Y942,[1]SRI!$S$4:$Z$368,2,0)","v":0},"","",""]
["45vrMD",{"$f":"VLOOKUP($AA943,DATA!$B$3:$E$6,2,0)","v":"14:30:00"},{"$f":"VLOOKUP($AA943,DATA!$B$3:$E$6,3,0)","v":"22:30:00"},{"$f":"VLOOKUP($AA943,DATA!$B$3:$E$6,4,0)","v":3.125E-2},0.30208333333333337,0.30208333333333337,{"$f":"DATA!$C$9","v":0.89},{"$f":"DATA!$C$10","v":64},1,407.81250000000006,407.81250000000006,0,"","",0,"","",0,"","","","",null,{"$f":"X940","v":45},null,{"$f":"TEXT(Y942,\"ddd\")","v":"vr"},"MD",{"$f":"IFERROR(HLOOKUP(Y942,[1]DATA!$A$1:$NB$5,4,0),\"\")","v":"D1"},null,null,null,null,{"$f":"VLOOKUP(Y942,[1]SRI!$S$4:$Z$368,3,0)","v":0},"","",""]
[{"$f":"X944&Z944&AA944","v":"45vrND"},{"$f":"VLOOKUP($AA944,DATA!$B$3:$E$6,2,0)","v":"22:30:00"},{"$f":"VLOOKUP($AA944,DATA!$B$3:$E$6,3,0)","v":"06:30:00"},{"$f":"VLOOKUP($AA944,DATA!$B$3:$E$6,4,0)","v":3.125E-2},0.30208333333333326,0.30208333333333326,{"$f":"DATA!$C$9","v":0.89},{"$f":"DATA!$C$10","v":64},1,407.81249999999989,407.81249999999989,0,"","",0,{"$f":"IF($O944*86400/$H944=0,\"\",$O944*86400/$H944)","v":""},"",0,"","","","",null,{"$f":"X940","v":45},null,{"$f":"TEXT(Y942,\"ddd\")","v":"vr"},"ND",{"$f":"IFERROR(HLOOKUP(Y942,[1]DATA!$A$1:$NB$5,5,0),\"\")","v":"D3"},null,null,null,null,{"$f":"VLOOKUP(Y942,[1]SRI!$S$4:$Z$368,4,0)","v":0},"","",""]
["45zaDD",{"$f":"VLOOKUP($AA945,DATA!$B$3:$E$6,2,0)","v":"06:30:00"},{"$f":"VLOOKUP($AA945,DATA!$B$3:$E$6,3,0)","v":"14:30:00"},{"$f":"VLOOKUP($AA945,DATA!$B$3:$E$6,4,0)","v":3.125E-2},0.30208333333333331,0.30208333333333331,{"$f":"DATA!$C$9","v":0.89},{"$f":"DATA!$C$10","v":64},1,407.8125,407.8125,0,"","",0,"","",0,"","","","",null,{"$f":"X940","v":45},"2018-11-10",{"$f":"TEXT(Y945,\"ddd\")","v":"za"},"DD",{"$f":"IFERROR(HLOOKUP(Y945,[1]DATA!$A$1:$NB$5,3,0),\"\")","v":"D2"},null,null,null,null,{"$f":"VLOOKUP(Y945,[1]SRI!$S$4:$Z$368,2,0)","v":0},"","",""]
["45zaMD",{"$f":"VLOOKUP($AA946,DATA!$B$3:$E$6,2,0)","v":"14:30:00"},{"$f":"VLOOKUP($AA946,DATA!$B$3:$E$6,3,0)","v":"22:30:00"},{"$f":"VLOOKUP($AA946,DATA!$B$3:$E$6,4,0)","v":3.125E-2},0.30208333333333337,0.30208333333333337,{"$f":"DATA!$C$9","v":0.89},{"$f":"DATA!$C$10","v":64},1,407.81250000000006,407.81250000000006,0,"","",0,"","",0,"","","","",null,{"$f":"X940","v":45},null,{"$f":"TEXT(Y945,\"ddd\")","v":"za"},"MD",{"$f":"IFERROR(HLOOKUP(Y945,[1]DATA!$A$1:$NB$5,4,0),\"\")","v":"-"},null,null,null,null,{"$f":"VLOOKUP(Y945,[1]SRI!$S$4:$Z$368,3,0)","v":0},"","",""]
["45zaND",{"$f":"VLOOKUP($AA947,DATA!$B$3:$E$6,2,0)","v":"22:30:00"},{"$f":"VLOOKUP($AA947,DATA!$B$3:$E$6,3,0)","v":"06:30:00"},{"$f":"VLOOKUP($AA947,DATA!$B$3:$E$6,4,0)","v":3.125E-2},0.30208333333333326,0.30208333333333326,{"$f":"DATA!$C$9","v":0.89},{"$f":"DATA!$C$10","v":64},1,407.81249999999989,407.81249999999989,0,"","",0,"","",0,"","","","",null,{"$f":"X940","v":45},null,{"$f":"TEXT(Y945,\"ddd\")","v":"za"},"ND",{"$f":"IFERROR(HLOOKUP(Y945,[1]DATA!$A$1:$NB$5,5,0),\"\")","v":"-"},null,null,null,null,{"$f":"VLOOKUP(Y945,[1]SRI!$S$4:$Z$368,4,0)","v":0},"","",""]
["45zoDD",{"$f":"VLOOKUP($AA948,DATA!$B$3:$E$6,2,0)","v":"06:30:00"},{"$f":"VLOOKUP($AA948,DATA!$B$3:$E$6,3,0)","v":"14:30:00"},{"$f":"VLOOKUP($AA948,DATA!$B$3:$E$6,4,0)","v":3.125E-2},0.30208333333333331,0.30208333333333331,{"$f":"DATA!$C$9","v":0.89},{"$f":"DATA!$C$10","v":64},1,407.8125,407.8125,0,"","",0,"","",0,"","","","",null,{"$f":"X940","v":45},"2018-11-11",{"$f":"TEXT(Y948,\"ddd\")","v":"zo"},"DD",{"$f":"IFERROR(HLOOKUP(Y948,[1]DATA!$A$1:$NB$5,3,0),\"\")","v":"-"},null,null,null,null,{"$f":"VLOOKUP(Y948,[1]SRI!$S$4:$Z$368,2,0)","v":0},"","",""]
["45zoMD",{"$f":"VLOOKUP($AA949,DATA!$B$3:$E$6,2,0)","v":"14:30:00"},{"$f":"VLOOKUP($AA949,DATA!$B$3:$E$6,3,0)","v":"22:30:00"},{"$f":"VLOOKUP($AA949,DATA!$B$3:$E$6,4,0)","v":3.125E-2},0.30208333333333337,0.30208333333333337,{"$f":"DATA!$C$9","v":0.89},{"$f":"DATA!$C$10","v":64},1,407.81250000000006,407.81250000000006,0,"","",0,"","",0,"","","","",null,{"$f":"X940","v":45},null,{"$f":"TEXT(Y948,\"ddd\")","v":"zo"},"MD",{"$f":"IFERROR(HLOOKUP(Y948,[1]DATA!$A$1:$NB$5,4,0),\"\")","v":"-"},null,null,null,null,{"$f":"VLOOKUP(Y948,[1]SRI!$S$4:$Z$368,3,0)","v":0},"","",""]
["45zoZND",{"$f":"VLOOKUP($AA950,DATA!$B$3:$E$6,2,0)","v":"00:00:00"},{"$f":"VLOOKUP($AA950,DATA!$B$3:$E$6,3,0)","v":"00:00:00"},{"$f":"VLOOKUP($AA950,DATA!$B$3:$E$6,4,0)","v":3.125E-2},-3.125E-2,-3.125E-2,{"$f":"DATA!$C$9","v":0.89},{"$f":"DATA!$C$10","v":64},1,-42.1875,-42.1875,0,"","",0,"","",0,"","","","",null,{"$f":"X940","v":45},null,{"$f":"TEXT(Y948,\"ddd\")","v":"zo"},"ZND",{"$f":"IFERROR(HLOOKUP(Y948,[1]DATA!$A$1:$NB$5,5,0),\"\")","v":"-"},null,null,null,null,{"$f":"VLOOKUP(Y948,[1]SRI!$S$4:$Z$368,4,0)","v":0},"","",""]
["46maDD",{"$f":"VLOOKUP($AA951,DATA!$B$3:$E$6,2,0)","v":"06:30:00"},{"$f":"VLOOKUP($AA951,DATA!$B$3:$E$6,3,0)","v":"14:30:00"},{"$f":"VLOOKUP($AA951,DATA!$B$3:$E$6,4,0)","v":3.125E-2},0.30208333333333331,0.30208333333333331,{"$f":"DATA!$C$9","v":0.89},{"$f":"DATA!$C$10","v":64},1,407.8125,407.8125,0,"","",{"$f":"TIME(INT($AD951/60),INT(MOD($AD951,60)/1),0)","v":0},"","",0,"","","","",null,{"$f":"X961","v":46},"2018-11-12",{"$f":"TEXT(Y951,\"ddd\")","v":"ma"},"DD",{"$f":"IFERROR(HLOOKUP(Y951,[1]DATA!$A$1:$NB$5,3,0),\"\")","v":"D1"},null,null,null,null,{"$f":"VLOOKUP(Y951,[1]SRI!$S$4:$Z$368,2,0)","v":0},"","","",{"$f":"IF(SUMIF(S951:S971,\">0\",K951:K971)=0,\"\",SUMIF(S951:S971,\">0\",K951:K971))","v":""},{"$f":"IF(SUM(S951:S971)=0,\"\",SUM(S951:S971))","v":""},{"$f":"IFERROR(AL951/AK951,\"-\")","v":"-"},{"$f":"IF(SUM(M951:M971)=0,\"0\",SUM(M951:M971))","v":"0"},{"$f":"IFERROR(AN951/AK951,\"-\")","v":"-"},{"$f":"IF(SUM(P951:P971)=0,0,SUM(P951:P971))","v":0},{"$f":"IFERROR(AP951/AK951,\"-\")","v":"-"},{"$f":"IFERROR(AVERAGE(AJ951:AJ971),\"-\")","v":"-"},{"$f":"IFERROR(SUMIF($AB951:$AB971,AS$5,$AJ951:$AJ971)/COUNTIFS($AB951:$AB971,AS$5,$AJ951:$AJ971,\">0\"),\"\")","v":""},"","",{"$f":"IFERROR((AK951-AL951-AN951-AP951),\"-\")","v":"-"},{"$f":"IFERROR((1-AM951-AO951-AQ951), \"-\")","v":"-"},{"$f":"IFERROR((AV951*$AE$2)/60,\"-\")","v":"-"},{"$f":"IFERROR(SUM(AG951:AG971),\"\")","v":0}]
["46maMD",{"$f":"VLOOKUP($AA952,DATA!$B$3:$E$6,2,0)","v":"14:30:00"},{"$f":"VLOOKUP($AA952,DATA!$B$3:$E$6,3,0)","v":"22:30:00"},{"$f":"VLOOKUP($AA952,DATA!$B$3:$E$6,4,0)","v":3.125E-2},0.30208333333333337,0.30208333333333337,{"$f":"DATA!$C$9","v":0.89},{"$f":"DATA!$C$10","v":64},1,407.81250000000006,407.81250000000006,0,"","",{"$f":"TIME(INT(AD952/60),INT(MOD(AD952,60)/1),0)","v":0},"","",0,"","","","",null,{"$f":"X961","v":46},null,{"$f":"TEXT(Y951,\"ddd\")","v":"ma"},"MD",{"$f":"IFERROR(HLOOKUP(Y951,[1]DATA!$A$1:$NB$5,4,0),\"\")","v":"D3"},null,null,null,null,{"$f":"VLOOKUP(Y951,[1]SRI!$S$4:$Z$368,3,0)","v":0},"","",""]
["46maND",{"$f":"VLOOKUP($AA953,DATA!$B$3:$E$6,2,0)","v":"22:30:00"},{"$f":"VLOOKUP($AA953,DATA!$B$3:$E$6,3,0)","v":"06:30:00"},{"$f":"VLOOKUP($AA953,DATA!$B$3:$E$6,4,0)","v":3.125E-2},0.30208333333333326,0.30208333333333326,{"$f":"DATA!$C$9","v":0.89},{"$f":"DATA!$C$10","v":64},1,407.81249999999989,407.81249999999989,0,"","",0,"","",0,"","","","",null,{"$f":"X961","v":46},null,{"$f":"TEXT(Y951,\"ddd\")","v":"ma"},"ND",{"$f":"IFERROR(HLOOKUP(Y951,[1]DATA!$A$1:$NB$5,5,0),\"\")","v":"D2"},null,null,null,null,{"$f":"VLOOKUP(Y951,[1]SRI!$S$4:$Z$368,4,0)","v":0},"","",""]
["46diDD",{"$f":"VLOOKUP($AA954,DATA!$B$3:$E$6,2,0)","v":"06:30:00"},{"$f":"VLOOKUP($AA954,DATA!$B$3:$E$6,3,0)","v":"14:30:00"},{"$f":"VLOOKUP($AA954,DATA!$B$3:$E$6,4,0)","v":3.125E-2},0.30208333333333331,0.30208333333333331,{"$f":"DATA!$C$9","v":0.89},{"$f":"DATA!$C$10","v":64},1,407.8125,407.8125,0,"","",0,"","",0,"","","","",null,{"$f":"X961","v":46},"2018-11-13",{"$f":"TEXT(Y954,\"ddd\")","v":"di"},"DD",{"$f":"IFERROR(HLOOKUP(Y954,[1]DATA!$A$1:$NB$5,3,0),\"\")","v":"D1"},null,null,null,null,{"$f":"VLOOKUP(Y954,[1]SRI!$S$4:$Z$368,2,0)","v":0},"","",""]
["46diMD",{"$f":"VLOOKUP($AA955,DATA!$B$3:$E$6,2,0)","v":"14:30:00"},{"$f":"VLOOKUP($AA955,DATA!$B$3:$E$6,3,0)","v":"22:30:00"},{"$f":"VLOOKUP($AA955,DATA!$B$3:$E$6,4,0)","v":3.125E-2},0.30208333333333337,0.30208333333333337,{"$f":"DATA!$C$9","v":0.89},{"$f":"DATA!$C$10","v":64},1,407.81250000000006,407.81250000000006,0,"","",0,"","",0,"","","","",null,{"$f":"X961","v":46},null,{"$f":"TEXT(Y954,\"ddd\")","v":"di"},"MD",{"$f":"IFERROR(HLOOKUP(Y954,[1]DATA!$A$1:$NB$5,4,0),\"\")","v":"D3"},null,null,null,null,{"$f":"VLOOKUP(Y954,[1]SRI!$S$4:$Z$368,3,0)","v":0},"","",""]
["46diND",{"$f":"VLOOKUP($AA956,DATA!$B$3:$E$6,2,0)","v":"22:30:00"},{"$f":"VLOOKUP($AA956,DATA!$B$3:$E$6,3,0)","v":"06:30:00"},{"$f":"VLOOKUP($AA956,DATA!$B$3:$E$6,4,0)","v":3.125E-2},0.30208333333333326,0.30208333333333326,{"$f":"DATA!$C$9","v":0.89},{"$f":"DATA!$C$10","v":64},1,407.81249999999989,407.81249999999989,0,"","",0,"","",0,"","","","",null,{"$f":"X961","v":46},null,{"$f":"TEXT(Y954,\"ddd\")","v":"di"},"ND",{"$f":"IFERROR(HLOOKUP(Y954,[1]DATA!$A$1:$NB$5,5,0),\"\")","v":"D2"},null,null,null,null,{"$f":"VLOOKUP(Y954,[1]SRI!$S$4:$Z$368,4,0)","v":0},"","",""]
["46woDD",{"$f":"VLOOKUP($AA957,DATA!$B$3:$E$6,2,0)","v":"06:30:00"},{"$f":"VLOOKUP($AA957,DATA!$B$3:$E$6,3,0)","v":"14:30:00"},{"$f":"VLOOKUP($AA957,DATA!$B$3:$E$6,4,0)","v":3.125E-2},0.30208333333333331,0.30208333333333331,{"$f":"DATA!$C$9","v":0.89},{"$f":"DATA!$C$10","v":64},1,407.8125,407.8125,0,"","",0,"","",0,"","","","",null,{"$f":"X961","v":46},{"$f":"Y954+1","v":"2018-11-14"},{"$f":"TEXT(Y957,\"ddd\")","v":"wo"},"DD",{"$f":"IFERROR(HLOOKUP(Y957,[1]DATA!$A$1:$NB$5,3,0),\"\")","v":"D1"},null,null,null,null,{"$f":"VLOOKUP(Y957,[1]SRI!$S$4:$Z$368,2,0)","v":0},"","",""]
["46woMD",{"$f":"VLOOKUP($AA958,DATA!$B$3:$E$6,2,0)","v":"14:30:00"},{"$f":"VLOOKUP($AA958,DATA!$B$3:$E$6,3,0)","v":"22:30:00"},{"$f":"VLOOKUP($AA958,DATA!$B$3:$E$6,4,0)","v":3.125E-2},0.30208333333333337,0.30208333333333337,{"$f":"DATA!$C$9","v":0.89},{"$f":"DATA!$C$10","v":64},1,407.81250000000006,407.81250000000006,0,"","",0,"","",0,"","","","",null,{"$f":"X961","v":46},null,{"$f":"TEXT(Y957,\"ddd\")","v":"wo"},"MD",{"$f":"IFERROR(HLOOKUP(Y957,[1]DATA!$A$1:$NB$5,4,0),\"\")","v":"D3"},null,null,null,null,{"$f":"VLOOKUP(Y957,[1]SRI!$S$4:$Z$368,3,0)","v":0},"","",""]
["46woND",{"$f":"VLOOKUP($AA959,DATA!$B$3:$E$6,2,0)","v":"22:30:00"},{"$f":"VLOOKUP($AA959,DATA!$B$3:$E$6,3,0)","v":"06:30:00"},{"$f":"VLOOKUP($AA959,DATA!$B$3:$E$6,4,0)","v":3.125E-2},0.30208333333333326,0.30208333333333326,{"$f":"DATA!$C$9","v":0.89},{"$f":"DATA!$C$10","v":64},1,407.81249999999989,407.81249999999989,0,"","",0,"","",0,"","","","",null,{"$f":"X961","v":46},null,{"$f":"TEXT(Y957,\"ddd\")","v":"wo"},"ND",{"$f":"IFERROR(HLOOKUP(Y957,[1]DATA!$A$1:$NB$5,5,0),\"\")","v":"D2"},null,null,null,null,{"$f":"VLOOKUP(Y957,[1]SRI!$S$4:$Z$368,4,0)","v":0},"","",""]
["46doDD",{"$f":"VLOOKUP($AA960,DATA!$B$3:$E$6,2,0)","v":"06:30:00"},{"$f":"VLOOKUP($AA960,DATA!$B$3:$E$6,3,0)","v":"14:30:00"},{"$f":"VLOOKUP($AA960,DATA!$B$3:$E$6,4,0)","v":3.125E-2},0.30208333333333331,0.30208333333333331,{"$f":"DATA!$C$9","v":0.89},{"$f":"DATA!$C$10","v":64},1,407.8125,407.8125,0,"","",0,"","",0,"","","","",null,{"$f":"X961","v":46},"2018-11-15",{"$f":"TEXT(Y960,\"ddd\")","v":"do"},"DD",{"$f":"IFERROR(HLOOKUP(Y960,[1]DATA!$A$1:$NB$5,3,0),\"\")","v":"D1"},null,null,null,null,{"$f":"VLOOKUP(Y960,[1]SRI!$S$4:$Z$368,2,0)","v":0},"","",""]
["46doMD",{"$f":"VLOOKUP($AA961,DATA!$B$3:$E$6,2,0)","v":"14:30:00"},{"$f":"VLOOKUP($AA961,DATA!$B$3:$E$6,3,0)","v":"22:30:00"},{"$f":"VLOOKUP($AA961,DATA!$B$3:$E$6,4,0)","v":3.125E-2},0.30208333333333337,0.30208333333333337,{"$f":"DATA!$C$9","v":0.89},{"$f":"DATA!$C$10","v":64},1,407.81250000000006,407.81250000000006,0,"","",0,"","",0,"","","","",null,{"$f":"WEEKNUM($Y951)","v":46},null,{"$f":"TEXT(Y960,\"ddd\")","v":"do"},"MD",{"$f":"IFERROR(HLOOKUP(Y960,[1]DATA!$A$1:$NB$5,4,0),\"\")","v":"D3"},null,null,null,null,{"$f":"VLOOKUP(Y960,[1]SRI!$S$4:$Z$368,3,0)","v":0},"","",""]
["46doND",{"$f":"VLOOKUP($AA962,DATA!$B$3:$E$6,2,0)","v":"22:30:00"},{"$f":"VLOOKUP($AA962,DATA!$B$3:$E$6,3,0)","v":"06:30:00"},{"$f":"VLOOKUP($AA962,DATA!$B$3:$E$6,4,0)","v":3.125E-2},0.30208333333333326,0.30208333333333326,{"$f":"DATA!$C$9","v":0.89},{"$f":"DATA!$C$10","v":64},1,407.81249999999989,407.81249999999989,0,"","",0,"","",0,"","","","",null,{"$f":"X961","v":46},null,{"$f":"TEXT(Y960,\"ddd\")","v":"do"},"ND",{"$f":"IFERROR(HLOOKUP(Y960,[1]DATA!$A$1:$NB$5,5,0),\"\")","v":"D2"},null,null,null,null,{"$f":"VLOOKUP(Y960,[1]SRI!$S$4:$Z$368,4,0)","v":0},"","",""]
["46vrDD",{"$f":"VLOOKUP($AA963,DATA!$B$3:$E$6,2,0)","v":"06:30:00"},{"$f":"VLOOKUP($AA963,DATA!$B$3:$E$6,3,0)","v":"14:30:00"},{"$f":"VLOOKUP($AA963,DATA!$B$3:$E$6,4,0)","v":3.125E-2},0.30208333333333331,0.30208333333333331,{"$f":"DATA!$C$9","v":0.89},{"$f":"DATA!$C$10","v":64},1,407.8125,407.8125,0,"","",0,"","",0,"","","","",null,{"$f":"X961","v":46},"2018-11-16",{"$f":"TEXT(Y963,\"ddd\")","v":"vr"},"DD",{"$f":"IFERROR(HLOOKUP(Y963,[1]DATA!$A$1:$NB$5,3,0),\"\")","v":"D1"},null,null,null,null,{"$f":"VLOOKUP(Y963,[1]SRI!$S$4:$Z$368,2,0)","v":0},"","",""]
["46vrMD",{"$f":"VLOOKUP($AA964,DATA!$B$3:$E$6,2,0)","v":"14:30:00"},{"$f":"VLOOKUP($AA964,DATA!$B$3:$E$6,3,0)","v":"22:30:00"},{"$f":"VLOOKUP($AA964,DATA!$B$3:$E$6,4,0)","v":3.125E-2},0.30208333333333337,0.30208333333333337,{"$f":"DATA!$C$9","v":0.89},{"$f":"DATA!$C$10","v":64},1,407.81250000000006,407.81250000000006,0,"","",0,"","",0,"","","","",null,{"$f":"X961","v":46},null,{"$f":"TEXT(Y963,\"ddd\")","v":"vr"},"MD",{"$f":"IFERROR(HLOOKUP(Y963,[1]DATA!$A$1:$NB$5,4,0),\"\")","v":"D3"},null,null,null,null,{"$f":"VLOOKUP(Y963,[1]SRI!$S$4:$Z$368,3,0)","v":0},"","",""]
["46vrND",{"$f":"VLOOKUP($AA965,DATA!$B$3:$E$6,2,0)","v":"22:30:00"},{"$f":"VLOOKUP($AA965,DATA!$B$3:$E$6,3,0)","v":"06:30:00"},{"$f":"VLOOKUP($AA965,DATA!$B$3:$E$6,4,0)","v":3.125E-2},0.30208333333333326,0.30208333333333326,{"$f":"DATA!$C$9","v":0.89},{"$f":"DATA!$C$10","v":64},1,407.81249999999989,407.81249999999989,0,"","",0,"","",0,"","","","",null,{"$f":"X961","v":46},null,{"$f":"TEXT(Y963,\"ddd\")","v":"vr"},"ND",{"$f":"IFERROR(HLOOKUP(Y963,[1]DATA!$A$1:$NB$5,5,0),\"\")","v":"D2"},null,null,null,null,{"$f":"VLOOKUP(Y963,[1]SRI!$S$4:$Z$368,4,0)","v":0},"","",""]
["46zaDD",{"$f":"VLOOKUP($AA966,DATA!$B$3:$E$6,2,0)","v":"06:30:00"},{"$f":"VLOOKUP($AA966,DATA!$B$3:$E$6,3,0)","v":"14:30:00"},{"$f":"VLOOKUP($AA966,DATA!$B$3:$E$6,4,0)","v":3.125E-2},0.30208333333333331,0.30208333333333331,{"$f":"DATA!$C$9","v":0.89},{"$f":"DATA!$C$10","v":64},1,{"$f":"F966*86400/H966*I966","v":407.8125},{"$f":"E966*86400/H966","v":407.8125},0,"","",0,"","",{"$f":"AF966*AG$2","v":0},{"$f":"IF(AF966-AE966=0,\"\",AF966-AE966)","v":""},"","","",null,{"$f":"X961","v":46},"2018-11-17",{"$f":"TEXT(Y966,\"ddd\")","v":"za"},"DD",{"$f":"IFERROR(HLOOKUP(Y966,[1]DATA!$A$1:$NB$5,3,0),\"\")","v":"D1"},null,null,null,null,{"$f":"VLOOKUP(Y966,[1]SRI!$S$4:$Z$368,2,0)","v":0},{"$f":"IFERROR(S966-J966,\"\")","v":""},{"$f":"IFERROR(IF(S966/(E966*86400/H966)<=0,\"\",S966/(E966*86400/H966)),\"\")","v":""},{"$f":"IFERROR(R966/(R966+AG966),\"\")","v":""}]
["46zaMD",{"$f":"VLOOKUP($AA967,DATA!$B$3:$E$6,2,0)","v":"14:30:00"},{"$f":"VLOOKUP($AA967,DATA!$B$3:$E$6,3,0)","v":"22:30:00"},{"$f":"VLOOKUP($AA967,DATA!$B$3:$E$6,4,0)","v":3.125E-2},0.30208333333333337,0.30208333333333337,{"$f":"DATA!$C$9","v":0.89},{"$f":"DATA!$C$10","v":64},1,407.81250000000006,407.81250000000006,{"$f":"TIME(INT($AC967/60),INT(MOD($AC967,60)/1),0)","v":0},{"$f":"IF($L967*86400/$H967=0,\"\",$L967*86400/$H967)","v":""},{"$f":"IFERROR($M967/$K967,\"\")","v":""},0,"",{"$f":"IFERROR($P967/$K967,\"\")","v":""},0,"",{"$f":"IF(IF($AB967=\"D1\",$S967,\"\")=0,\"\",IF($AB967=\"D1\",$S967,\"\"))","v":""},{"$f":"IF(IF($AB967=\"D2\",$S967,\"\")=0,\"\",IF($AB967=\"D2\",$S967,\"\"))","v":""},{"$f":"IF(IF($AB967=\"D3\",$S967,\"\")=0,\"\",IF($AB967=\"D3\",$S967,\"\"))","v":""},null,{"$f":"X961","v":46},null,{"$f":"TEXT(Y966,\"ddd\")","v":"za"},"MD",{"$f":"IFERROR(HLOOKUP(Y966,[1]DATA!$A$1:$NB$5,4,0),\"\")","v":"-"},null,null,null,null,{"$f":"VLOOKUP(Y966,[1]SRI!$S$4:$Z$368,3,0)","v":0},"","",""]
["46zaND",{"$f":"VLOOKUP($AA968,DATA!$B$3:$E$6,2,0)","v":"22:30:00"},{"$f":"VLOOKUP($AA968,DATA!$B$3:$E$6,3,0)","v":"06:30:00"},{"$f":"VLOOKUP($AA968,DATA!$B$3:$E$6,4,0)","v":3.125E-2},0.30208333333333326,0.30208333333333326,{"$f":"DATA!$C$9","v":0.89},{"$f":"DATA!$C$10","v":64},1,407.81249999999989,407.81249999999989,0,"","",0,"","",0,"","","","",null,{"$f":"X961","v":46},null,{"$f":"TEXT(Y966,\"ddd\")","v":"za"},"ND",{"$f":"IFERROR(HLOOKUP(Y966,[1]DATA!$A$1:$NB$5,5,0),\"\")","v":"-"},null,null,null,null,{"$f":"VLOOKUP(Y966,[1]SRI!$S$4:$Z$368,4,0)","v":0},"","",""]
["46zoDD",{"$f":"VLOOKUP($AA969,DATA!$B$3:$E$6,2,0)","v":"06:30:00"},{"$f":"VLOOKUP($AA969,DATA!$B$3:$E$6,3,0)","v":"14:30:00"},{"$f":"VLOOKUP($AA969,DATA!$B$3:$E$6,4,0)","v":3.125E-2},0.30208333333333331,0.30208333333333331,{"$f":"DATA!$C$9","v":0.89},{"$f":"DATA!$C$10","v":64},1,407.8125,407.8125,0,"","",0,"","",0,"","","","",null,{"$f":"X961","v":46},"2018-11-18",{"$f":"TEXT(Y969,\"ddd\")","v":"zo"},"DD",{"$f":"IFERROR(HLOOKUP(Y969,[1]DATA!$A$1:$NB$5,3,0),\"\")","v":"-"},null,null,null,null,{"$f":"VLOOKUP(Y969,[1]SRI!$S$4:$Z$368,2,0)","v":0},"","",""]
["46zoMD",{"$f":"VLOOKUP($AA970,DATA!$B$3:$E$6,2,0)","v":"14:30:00"},{"$f":"VLOOKUP($AA970,DATA!$B$3:$E$6,3,0)","v":"22:30:00"},{"$f":"VLOOKUP($AA970,DATA!$B$3:$E$6,4,0)","v":3.125E-2},0.30208333333333337,0.30208333333333337,{"$f":"DATA!$C$9","v":0.89},{"$f":"DATA!$C$10","v":64},1,407.81250000000006,407.81250000000006,0,"","",0,"","",0,"","","","",null,{"$f":"X961","v":46},null,{"$f":"TEXT(Y969,\"ddd\")","v":"zo"},"MD",{"$f":"IFERROR(HLOOKUP(Y969,[1]DATA!$A$1:$NB$5,4,0),\"\")","v":"-"},null,null,null,null,{"$f":"VLOOKUP(Y969,[1]SRI!$S$4:$Z$368,3,0)","v":0},"","",""]
["46zoZND",{"$f":"VLOOKUP($AA971,DATA!$B$3:$E$6,2,0)","v":"00:00:00"},{"$f":"VLOOKUP($AA971,DATA!$B$3:$E$6,3,0)","v":"00:00:00"},{"$f":"VLOOKUP($AA971,DATA!$B$3:$E$6,4,0)","v":3.125E-2},-3.125E-2,-3.125E-2,{"$f":"DATA!$C$9","v":0.89},{"$f":"DATA!$C$10","v":64},1,-42.1875,-42.1875,0,"","",0,"","",0,"","","","",null,{"$f":"X961","v":46},null,{"$f":"TEXT(Y969,\"ddd\")","v":"zo"},"ZND",{"$f":"IFERROR(HLOOKUP(Y969,[1]DATA!$A$1:$NB$5,5,0),\"\")","v":"-"},null,null,null,null,{"$f":"VLOOKUP(Y969,[1]SRI!$S$4:$Z$368,4,0)","v":0},"","",""]
["47maDD",{"$f":"VLOOKUP($AA972,DATA!$B$3:$E$6,2,0)","v":"06:30:00"},{"$f":"VLOOKUP($AA972,DATA!$B$3:$E$6,3,0)","v":"14:30:00"},{"$f":"VLOOKUP($AA972,DATA!$B$3:$E$6,4,0)","v":3.125E-2},0.30208333333333331,0.30208333333333331,{"$f":"DATA!$C$9","v":0.89},{"$f":"DATA!$C$10","v":64},1,407.8125,407.8125,0,"","",{"$f":"TIME(INT($AD972/60),INT(MOD($AD972,60)/1),0)","v":0},"","",0,"","","","",null,{"$f":"X982","v":47},"2018-11-19",{"$f":"TEXT(Y972,\"ddd\")","v":"ma"},"DD",{"$f":"IFERROR(HLOOKUP(Y972,[1]DATA!$A$1:$NB$5,3,0),\"\")","v":"D3"},null,null,null,null,{"$f":"VLOOKUP(Y972,[1]SRI!$S$4:$Z$368,2,0)","v":0},"","","",{"$f":"IF(SUMIF(S972:S992,\">0\",K972:K992)=0,\"\",SUMIF(S972:S992,\">0\",K972:K992))","v":""},{"$f":"IF(SUM(S972:S992)=0,\"\",SUM(S972:S992))","v":""},{"$f":"IFERROR(AL972/AK972,\"-\")","v":"-"},{"$f":"IF(SUM(M972:M992)=0,\"0\",SUM(M972:M992))","v":"0"},{"$f":"IFERROR(AN972/AK972,\"-\")","v":"-"},{"$f":"IF(SUM(P972:P992)=0,0,SUM(P972:P992))","v":0},{"$f":"IFERROR(AP972/AK972,\"-\")","v":"-"},{"$f":"IFERROR(AVERAGE(AJ972:AJ992),\"-\")","v":"-"},{"$f":"IFERROR(SUMIF($AB972:$AB992,AS$5,$AJ972:$AJ992)/COUNTIFS($AB972:$AB992,AS$5,$AJ972:$AJ992,\">0\"),\"\")","v":""},"","",{"$f":"IFERROR((AK972-AL972-AN972-AP972),\"-\")","v":"-"},{"$f":"IFERROR((1-AM972-AO972-AQ972), \"-\")","v":"-"},{"$f":"IFERROR((AV972*$AE$2)/60,\"-\")","v":"-"},{"$f":"IFERROR(SUM(AG972:AG992),\"\")","v":0}]
["47maMD",{"$f":"VLOOKUP($AA973,DATA!$B$3:$E$6,2,0)","v":"14:30:00"},{"$f":"VLOOKUP($AA973,DATA!$B$3:$E$6,3,0)","v":"22:30:00"},{"$f":"VLOOKUP($AA973,DATA!$B$3:$E$6,4,0)","v":3.125E-2},0.30208333333333337,0.30208333333333337,{"$f":"DATA!$C$9","v":0.89},{"$f":"DATA!$C$10","v":64},1,407.81250000000006,407.81250000000006,0,"","",{"$f":"TIME(INT(AD973/60),INT(MOD(AD973,60)/1),0)","v":0},"","",0,"","","","",null,{"$f":"X982","v":47},null,{"$f":"TEXT(Y972,\"ddd\")","v":"ma"},"MD",{"$f":"IFERROR(HLOOKUP(Y972,[1]DATA!$A$1:$NB$5,4,0),\"\")","v":"D2"},null,null,null,null,{"$f":"VLOOKUP(Y972,[1]SRI!$S$4:$Z$368,3,0)","v":0},"","",""]
["47maND",{"$f":"VLOOKUP($AA974,DATA!$B$3:$E$6,2,0)","v":"22:30:00"},{"$f":"VLOOKUP($AA974,DATA!$B$3:$E$6,3,0)","v":"06:30:00"},{"$f":"VLOOKUP($AA974,DATA!$B$3:$E$6,4,0)","v":3.125E-2},0.30208333333333326,0.30208333333333326,{"$f":"DATA!$C$9","v":0.89},{"$f":"DATA!$C$10","v":64},1,407.81249999999989,407.81249999999989,0,"","",0,"","",0,"","","","",null,{"$f":"X982","v":47},null,{"$f":"TEXT(Y972,\"ddd\")","v":"ma"},"ND",{"$f":"IFERROR(HLOOKUP(Y972,[1]DATA!$A$1:$NB$5,5,0),\"\")","v":"D1"},null,null,null,null,{"$f":"VLOOKUP(Y972,[1]SRI!$S$4:$Z$368,4,0)","v":0},"","",""]
["47diDD",{"$f":"VLOOKUP($AA975,DATA!$B$3:$E$6,2,0)","v":"06:30:00"},{"$f":"VLOOKUP($AA975,DATA!$B$3:$E$6,3,0)","v":"14:30:00"},{"$f":"VLOOKUP($AA975,DATA!$B$3:$E$6,4,0)","v":3.125E-2},0.30208333333333331,0.30208333333333331,{"$f":"DATA!$C$9","v":0.89},{"$f":"DATA!$C$10","v":64},1,407.8125,407.8125,0,"","",0,"","",0,"","","","",null,{"$f":"X982","v":47},"2018-11-20",{"$f":"TEXT(Y975,\"ddd\")","v":"di"},"DD",{"$f":"IFERROR(HLOOKUP(Y975,[1]DATA!$A$1:$NB$5,3,0),\"\")","v":"D3"},null,null,null,null,{"$f":"VLOOKUP(Y975,[1]SRI!$S$4:$Z$368,2,0)","v":0},"","",""]
["47diMD",{"$f":"VLOOKUP($AA976,DATA!$B$3:$E$6,2,0)","v":"14:30:00"},{"$f":"VLOOKUP($AA976,DATA!$B$3:$E$6,3,0)","v":"22:30:00"},{"$f":"VLOOKUP($AA976,DATA!$B$3:$E$6,4,0)","v":3.125E-2},0.30208333333333337,0.30208333333333337,{"$f":"DATA!$C$9","v":0.89},{"$f":"DATA!$C$10","v":64},1,407.81250000000006,407.81250000000006,0,"","",0,"","",0,"","","","",null,{"$f":"X982","v":47},null,{"$f":"TEXT(Y975,\"ddd\")","v":"di"},"MD",{"$f":"IFERROR(HLOOKUP(Y975,[1]DATA!$A$1:$NB$5,4,0),\"\")","v":"D2"},null,null,null,null,{"$f":"VLOOKUP(Y975,[1]SRI!$S$4:$Z$368,3,0)","v":0},"","",""]
["47diND",{"$f":"VLOOKUP($AA977,DATA!$B$3:$E$6,2,0)","v":"22:30:00"},{"$f":"VLOOKUP($AA977,DATA!$B$3:$E$6,3,0)","v":"06:30:00"},{"$f":"VLOOKUP($AA977,DATA!$B$3:$E$6,4,0)","v":3.125E-2},0.30208333333333326,0.30208333333333326,{"$f":"DATA!$C$9","v":0.89},{"$f":"DATA!$C$10","v":64},1,407.81249999999989,407.81249999999989,0,"","",0,"","",0,"","","","",null,{"$f":"X982","v":47},null,{"$f":"TEXT(Y975,\"ddd\")","v":"di"},"ND",{"$f":"IFERROR(HLOOKUP(Y975,[1]DATA!$A$1:$NB$5,5,0),\"\")","v":"D1"},null,null,null,null,{"$f":"VLOOKUP(Y975,[1]SRI!$S$4:$Z$368,4,0)","v":0},"","",""]
["47woDD",{"$f":"VLOOKUP($AA978,DATA!$B$3:$E$6,2,0)","v":"06:30:00"},{"$f":"VLOOKUP($AA978,DATA!$B$3:$E$6,3,0)","v":"14:30:00"},{"$f":"VLOOKUP($AA978,DATA!$B$3:$E$6,4,0)","v":3.125E-2},0.30208333333333331,0.30208333333333331,{"$f":"DATA!$C$9","v":0.89},{"$f":"DATA!$C$10","v":64},1,407.8125,407.8125,0,"","",0,"","",0,"","","","",null,{"$f":"X982","v":47},"2018-11-21",{"$f":"TEXT(Y978,\"ddd\")","v":"wo"},"DD",{"$f":"IFERROR(HLOOKUP(Y978,[1]DATA!$A$1:$NB$5,3,0),\"\")","v":"D3"},null,null,null,null,{"$f":"VLOOKUP(Y978,[1]SRI!$S$4:$Z$368,2,0)","v":0},"","",""]
["47woMD",{"$f":"VLOOKUP($AA979,DATA!$B$3:$E$6,2,0)","v":"14:30:00"},{"$f":"VLOOKUP($AA979,DATA!$B$3:$E$6,3,0)","v":"22:30:00"},{"$f":"VLOOKUP($AA979,DATA!$B$3:$E$6,4,0)","v":3.125E-2},0.30208333333333337,0.30208333333333337,{"$f":"DATA!$C$9","v":0.89},{"$f":"DATA!$C$10","v":64},1,407.81250000000006,407.81250000000006,0,"","",0,"","",0,"","","","",null,{"$f":"X982","v":47},null,{"$f":"TEXT(Y978,\"ddd\")","v":"wo"},"MD",{"$f":"IFERROR(HLOOKUP(Y978,[1]DATA!$A$1:$NB$5,4,0),\"\")","v":"D2"},null,null,null,null,{"$f":"VLOOKUP(Y978,[1]SRI!$S$4:$Z$368,3,0)","v":0},"","",""]
["47woND",{"$f":"VLOOKUP($AA980,DATA!$B$3:$E$6,2,0)","v":"22:30:00"},{"$f":"VLOOKUP($AA980,DATA!$B$3:$E$6,3,0)","v":"06:30:00"},{"$f":"VLOOKUP($AA980,DATA!$B$3:$E$6,4,0)","v":3.125E-2},0.30208333333333326,0.30208333333333326,{"$f":"DATA!$C$9","v":0.89},{"$f":"DATA!$C$10","v":64},1,407.81249999999989,407.81249999999989,0,"","",0,"","",0,"","","","",null,{"$f":"X982","v":47},null,{"$f":"TEXT(Y978,\"ddd\")","v":"wo"},"ND",{"$f":"IFERROR(HLOOKUP(Y978,[1]DATA!$A$1:$NB$5,5,0),\"\")","v":"D1"},null,null,null,null,{"$f":"VLOOKUP(Y978,[1]SRI!$S$4:$Z$368,4,0)","v":0},"","",""]
["47doDD",{"$f":"VLOOKUP($AA981,DATA!$B$3:$E$6,2,0)","v":"06:30:00"},{"$f":"VLOOKUP($AA981,DATA!$B$3:$E$6,3,0)","v":"14:30:00"},{"$f":"VLOOKUP($AA981,DATA!$B$3:$E$6,4,0)","v":3.125E-2},0.30208333333333331,0.30208333333333331,{"$f":"DATA!$C$9","v":0.89},{"$f":"DATA!$C$10","v":64},1,407.8125,407.8125,0,"","",0,"","",0,"","","","",null,{"$f":"X982","v":47},"2018-11-22",{"$f":"TEXT(Y981,\"ddd\")","v":"do"},"DD",{"$f":"IFERROR(HLOOKUP(Y981,[1]DATA!$A$1:$NB$5,3,0),\"\")","v":"D3"},null,null,null,null,{"$f":"VLOOKUP(Y981,[1]SRI!$S$4:$Z$368,2,0)","v":0},"","",""]
["47doMD",{"$f":"VLOOKUP($AA982,DATA!$B$3:$E$6,2,0)","v":"14:30:00"},{"$f":"VLOOKUP($AA982,DATA!$B$3:$E$6,3,0)","v":"22:30:00"},{"$f":"VLOOKUP($AA982,DATA!$B$3:$E$6,4,0)","v":3.125E-2},0.30208333333333337,0.30208333333333337,{"$f":"DATA!$C$9","v":0.89},{"$f":"DATA!$C$10","v":64},1,407.81250000000006,407.81250000000006,0,"","",0,"","",0,"","","","",null,{"$f":"WEEKNUM($Y972)","v":47},null,{"$f":"TEXT(Y981,\"ddd\")","v":"do"},"MD",{"$f":"IFERROR(HLOOKUP(Y981,[1]DATA!$A$1:$NB$5,4,0),\"\")","v":"D2"},null,null,null,null,{"$f":"VLOOKUP(Y981,[1]SRI!$S$4:$Z$368,3,0)","v":0},"","",""]
["47doND",{"$f":"VLOOKUP($AA983,DATA!$B$3:$E$6,2,0)","v":"22:30:00"},{"$f":"VLOOKUP($AA983,DATA!$B$3:$E$6,3,0)","v":"06:30:00"},{"$f":"VLOOKUP($AA983,DATA!$B$3:$E$6,4,0)","v":3.125E-2},0.30208333333333326,0.30208333333333326,{"$f":"DATA!$C$9","v":0.89},{"$f":"DATA!$C$10","v":64},1,407.81249999999989,407.81249999999989,0,"","",0,"","",0,"","","","",null,{"$f":"X982","v":47},null,{"$f":"TEXT(Y981,\"ddd\")","v":"do"},"ND",{"$f":"IFERROR(HLOOKUP(Y981,[1]DATA!$A$1:$NB$5,5,0),\"\")","v":"D1"},null,null,null,null,{"$f":"VLOOKUP(Y981,[1]SRI!$S$4:$Z$368,4,0)","v":0},"","",""]
["47vrDD",{"$f":"VLOOKUP($AA984,DATA!$B$3:$E$6,2,0)","v":"06:30:00"},{"$f":"VLOOKUP($AA984,DATA!$B$3:$E$6,3,0)","v":"14:30:00"},{"$f":"VLOOKUP($AA984,DATA!$B$3:$E$6,4,0)","v":3.125E-2},0.30208333333333331,0.30208333333333331,{"$f":"DATA!$C$9","v":0.89},{"$f":"DATA!$C$10","v":64},1,407.8125,407.8125,0,"","",0,"","",0,"","","","",null,{"$f":"X982","v":47},"2018-11-23",{"$f":"TEXT(Y984,\"ddd\")","v":"vr"},"DD",{"$f":"IFERROR(HLOOKUP(Y984,[1]DATA!$A$1:$NB$5,3,0),\"\")","v":"D3"},null,null,null,null,{"$f":"VLOOKUP(Y984,[1]SRI!$S$4:$Z$368,2,0)","v":0},"","",""]
["47vrMD",{"$f":"VLOOKUP($AA985,DATA!$B$3:$E$6,2,0)","v":"14:30:00"},{"$f":"VLOOKUP($AA985,DATA!$B$3:$E$6,3,0)","v":"22:30:00"},{"$f":"VLOOKUP($AA985,DATA!$B$3:$E$6,4,0)","v":3.125E-2},0.30208333333333337,0.30208333333333337,{"$f":"DATA!$C$9","v":0.89},{"$f":"DATA!$C$10","v":64},1,407.81250000000006,407.81250000000006,0,"","",0,"","",0,"","","","",null,{"$f":"X982","v":47},null,{"$f":"TEXT(Y984,\"ddd\")","v":"vr"},"MD",{"$f":"IFERROR(HLOOKUP(Y984,[1]DATA!$A$1:$NB$5,4,0),\"\")","v":"D2"},null,null,null,null,{"$f":"VLOOKUP(Y984,[1]SRI!$S$4:$Z$368,3,0)","v":0},"","",""]
["47vrND",{"$f":"VLOOKUP($AA986,DATA!$B$3:$E$6,2,0)","v":"22:30:00"},{"$f":"VLOOKUP($AA986,DATA!$B$3:$E$6,3,0)","v":"06:30:00"},{"$f":"VLOOKUP($AA986,DATA!$B$3:$E$6,4,0)","v":3.125E-2},0.30208333333333326,0.30208333333333326,{"$f":"DATA!$C$9","v":0.89},{"$f":"DATA!$C$10","v":64},1,407.81249999999989,407.81249999999989,0,"","",0,"","",0,"","","","",null,{"$f":"X982","v":47},null,{"$f":"TEXT(Y984,\"ddd\")","v":"vr"},"ND",{"$f":"IFERROR(HLOOKUP(Y984,[1]DATA!$A$1:$NB$5,5,0),\"\")","v":"D2"},null,null,null,null,{"$f":"VLOOKUP(Y984,[1]SRI!$S$4:$Z$368,4,0)","v":0},"","",""]
["47zaDD",{"$f":"VLOOKUP($AA987,DATA!$B$3:$E$6,2,0)","v":"06:30:00"},{"$f":"VLOOKUP($AA987,DATA!$B$3:$E$6,3,0)","v":"14:30:00"},{"$f":"VLOOKUP($AA987,DATA!$B$3:$E$6,4,0)","v":3.125E-2},0.30208333333333331,0.30208333333333331,{"$f":"DATA!$C$9","v":0.89},{"$f":"DATA!$C$10","v":64},1,407.8125,407.8125,0,"","",0,"","",0,"","","","",null,{"$f":"X982","v":47},"2018-11-24",{"$f":"TEXT(Y987,\"ddd\")","v":"za"},"DD",{"$f":"IFERROR(HLOOKUP(Y987,[1]DATA!$A$1:$NB$5,3,0),\"\")","v":"D3"},null,null,null,null,{"$f":"VLOOKUP(Y987,[1]SRI!$S$4:$Z$368,2,0)","v":0},"","",""]
["47zaMD",{"$f":"VLOOKUP($AA988,DATA!$B$3:$E$6,2,0)","v":"14:30:00"},{"$f":"VLOOKUP($AA988,DATA!$B$3:$E$6,3,0)","v":"22:30:00"},{"$f":"VLOOKUP($AA988,DATA!$B$3:$E$6,4,0)","v":3.125E-2},{"$f":"(C988-B988+(B988>C988))-D988","v":0.30208333333333337},{"$f":"E988-O988-L988","v":0.30208333333333337},{"$f":"DATA!$C$9","v":0.89},{"$f":"DATA!$C$10","v":64},1,407.81250000000006,407.81250000000006,0,"","",0,"","",0,"","","","",null,{"$f":"X982","v":47},null,{"$f":"TEXT(Y987,\"ddd\")","v":"za"},"MD",{"$f":"IFERROR(HLOOKUP(Y987,[1]DATA!$A$1:$NB$5,4,0),\"\")","v":"-"},null,null,null,null,{"$f":"VLOOKUP(Y987,[1]SRI!$S$4:$Z$368,3,0)","v":0},"","",""]
["47zaND",{"$f":"VLOOKUP($AA989,DATA!$B$3:$E$6,2,0)","v":"22:30:00"},{"$f":"VLOOKUP($AA989,DATA!$B$3:$E$6,3,0)","v":"06:30:00"},{"$f":"VLOOKUP($AA989,DATA!$B$3:$E$6,4,0)","v":3.125E-2},0.30208333333333326,0.30208333333333326,{"$f":"DATA!$C$9","v":0.89},{"$f":"DATA!$C$10","v":64},1,407.81249999999989,407.81249999999989,0,"","",0,"","",0,"","","","",null,{"$f":"X982","v":47},null,{"$f":"TEXT(Y987,\"ddd\")","v":"za"},"ND",{"$f":"IFERROR(HLOOKUP(Y987,[1]DATA!$A$1:$NB$5,5,0),\"\")","v":"-"},null,null,null,null,{"$f":"VLOOKUP(Y987,[1]SRI!$S$4:$Z$368,4,0)","v":0},"","",""]
["47zoDD",{"$f":"VLOOKUP($AA990,DATA!$B$3:$E$6,2,0)","v":"06:30:00"},{"$f":"VLOOKUP($AA990,DATA!$B$3:$E$6,3,0)","v":"14:30:00"},{"$f":"VLOOKUP($AA990,DATA!$B$3:$E$6,4,0)","v":3.125E-2},0.30208333333333331,0.30208333333333331,{"$f":"DATA!$C$9","v":0.89},{"$f":"DATA!$C$10","v":64},1,407.8125,407.8125,0,"","",0,"","",0,"","","","",null,{"$f":"X982","v":47},"2018-11-25",{"$f":"TEXT(Y990,\"ddd\")","v":"zo"},"DD",{"$f":"IFERROR(HLOOKUP(Y990,[1]DATA!$A$1:$NB$5,3,0),\"\")","v":"-"},null,null,null,null,{"$f":"VLOOKUP(Y990,[1]SRI!$S$4:$Z$368,2,0)","v":0},"","",""]
["47zoMD",{"$f":"VLOOKUP($AA991,DATA!$B$3:$E$6,2,0)","v":"14:30:00"},{"$f":"VLOOKUP($AA991,DATA!$B$3:$E$6,3,0)","v":"22:30:00"},{"$f":"VLOOKUP($AA991,DATA!$B$3:$E$6,4,0)","v":3.125E-2},0.30208333333333337,0.30208333333333337,{"$f":"DATA!$C$9","v":0.89},{"$f":"DATA!$C$10","v":64},1,407.81250000000006,407.81250000000006,0,"","",0,"","",0,"","","","",null,{"$f":"X982","v":47},null,{"$f":"TEXT(Y990,\"ddd\")","v":"zo"},"MD",{"$f":"IFERROR(HLOOKUP(Y990,[1]DATA!$A$1:$NB$5,4,0),\"\")","v":"-"},null,null,null,null,{"$f":"VLOOKUP(Y990,[1]SRI!$S$4:$Z$368,3,0)","v":0},"","",""]
["47zoZND",{"$f":"VLOOKUP($AA992,DATA!$B$3:$E$6,2,0)","v":"00:00:00"},{"$f":"VLOOKUP($AA992,DATA!$B$3:$E$6,3,0)","v":"00:00:00"},{"$f":"VLOOKUP($AA992,DATA!$B$3:$E$6,4,0)","v":3.125E-2},-3.125E-2,-3.125E-2,{"$f":"DATA!$C$9","v":0.89},{"$f":"DATA!$C$10","v":64},1,-42.1875,-42.1875,0,"","",0,"","",0,"","","","",null,{"$f":"X982","v":47},null,{"$f":"TEXT(Y990,\"ddd\")","v":"zo"},"ZND",{"$f":"IFERROR(HLOOKUP(Y990,[1]DATA!$A$1:$NB$5,5,0),\"\")","v":"-"},null,null,null,null,{"$f":"VLOOKUP(Y990,[1]SRI!$S$4:$Z$368,4,0)","v":0},"","",""]
["48maDD",{"$f":"VLOOKUP($AA993,DATA!$B$3:$E$6,2,0)","v":"06:30:00"},{"$f":"VLOOKUP($AA993,DATA!$B$3:$E$6,3,0)","v":"14:30:00"},{"$f":"VLOOKUP($AA993,DATA!$B$3:$E$6,4,0)","v":3.125E-2},0.30208333333333331,0.30208333333333331,{"$f":"DATA!$C$9","v":0.89},{"$f":"DATA!$C$10","v":64},1,407.8125,407.8125,0,"","",{"$f":"TIME(INT($AD993/60),INT(MOD($AD993,60)/1),0)","v":0},"","",0,"","","","",null,{"$f":"X1003","v":48},"2018-11-26",{"$f":"TEXT(Y993,\"ddd\")","v":"ma"},"DD",{"$f":"IFERROR(HLOOKUP(Y993,[1]DATA!$A$1:$NB$5,3,0),\"\")","v":"D2"},null,null,null,null,{"$f":"VLOOKUP(Y993,[1]SRI!$S$4:$Z$368,2,0)","v":0},"","","",{"$f":"IF(SUMIF(S993:S1013,\">0\",K993:K1013)=0,\"\",SUMIF(S993:S1013,\">0\",K993:K1013))","v":""},{"$f":"IF(SUM(S993:S1013)=0,\"\",SUM(S993:S1013))","v":""},{"$f":"IFERROR(AL993/AK993,\"-\")","v":"-"},{"$f":"IF(SUM(M993:M1013)=0,\"0\",SUM(M993:M1013))","v":"0"},{"$f":"IFERROR(AN993/AK993,\"-\")","v":"-"},{"$f":"IF(SUM(P993:P1013)=0,0,SUM(P993:P1013))","v":0},{"$f":"IFERROR(AP993/AK993,\"-\")","v":"-"},{"$f":"IFERROR(AVERAGE(AJ993:AJ1013),\"-\")","v":"-"},{"$f":"IFERROR(SUMIF($AB993:$AB1013,AS$5,$AJ993:$AJ1013)/COUNTIFS($AB993:$AB1013,AS$5,$AJ993:$AJ1013,\">0\"),\"\")","v":""},"","",{"$f":"IFERROR((AK993-AL993-AN993-AP993),\"-\")","v":"-"},{"$f":"IFERROR((1-AM993-AO993-AQ993), \"-\")","v":"-"},{"$f":"IFERROR((AV993*$AE$2)/60,\"-\")","v":"-"},{"$f":"IFERROR(SUM(AG993:AG1013),\"\")","v":0}]
["48maMD",{"$f":"VLOOKUP($AA994,DATA!$B$3:$E$6,2,0)","v":"14:30:00"},{"$f":"VLOOKUP($AA994,DATA!$B$3:$E$6,3,0)","v":"22:30:00"},{"$f":"VLOOKUP($AA994,DATA!$B$3:$E$6,4,0)","v":3.125E-2},0.30208333333333337,0.30208333333333337,{"$f":"DATA!$C$9","v":0.89},{"$f":"DATA!$C$10","v":64},1,407.81250000000006,407.81250000000006,0,"","",{"$f":"TIME(INT(AD994/60),INT(MOD(AD994,60)/1),0)","v":0},"","",0,"","","","",null,{"$f":"X1003","v":48},null,{"$f":"TEXT(Y993,\"ddd\")","v":"ma"},"MD",{"$f":"IFERROR(HLOOKUP(Y993,[1]DATA!$A$1:$NB$5,4,0),\"\")","v":"D1"},null,null,null,null,{"$f":"VLOOKUP(Y993,[1]SRI!$S$4:$Z$368,3,0)","v":0},"","",""]
["48maND",{"$f":"VLOOKUP($AA995,DATA!$B$3:$E$6,2,0)","v":"22:30:00"},{"$f":"VLOOKUP($AA995,DATA!$B$3:$E$6,3,0)","v":"06:30:00"},{"$f":"VLOOKUP($AA995,DATA!$B$3:$E$6,4,0)","v":3.125E-2},0.30208333333333326,0.30208333333333326,{"$f":"DATA!$C$9","v":0.89},{"$f":"DATA!$C$10","v":64},1,407.81249999999989,407.81249999999989,0,"","",0,"","",0,"","","","",null,{"$f":"X1003","v":48},null,{"$f":"TEXT(Y993,\"ddd\")","v":"ma"},"ND",{"$f":"IFERROR(HLOOKUP(Y993,[1]DATA!$A$1:$NB$5,5,0),\"\")","v":"D3"},null,null,null,null,{"$f":"VLOOKUP(Y993,[1]SRI!$S$4:$Z$368,4,0)","v":0},"","",""]
["48diDD",{"$f":"VLOOKUP($AA996,DATA!$B$3:$E$6,2,0)","v":"06:30:00"},{"$f":"VLOOKUP($AA996,DATA!$B$3:$E$6,3,0)","v":"14:30:00"},{"$f":"VLOOKUP($AA996,DATA!$B$3:$E$6,4,0)","v":3.125E-2},0.30208333333333331,0.30208333333333331,{"$f":"DATA!$C$9","v":0.89},{"$f":"DATA!$C$10","v":64},1,407.8125,407.8125,0,"","",0,"","",0,"","","","",null,{"$f":"X1003","v":48},"2018-11-27",{"$f":"TEXT(Y996,\"ddd\")","v":"di"},"DD",{"$f":"IFERROR(HLOOKUP(Y996,[1]DATA!$A$1:$NB$5,3,0),\"\")","v":"D2"},null,null,null,null,{"$f":"VLOOKUP(Y996,[1]SRI!$S$4:$Z$368,2,0)","v":0},"","",""]
["48diMD",{"$f":"VLOOKUP($AA997,DATA!$B$3:$E$6,2,0)","v":"14:30:00"},{"$f":"VLOOKUP($AA997,DATA!$B$3:$E$6,3,0)","v":"22:30:00"},{"$f":"VLOOKUP($AA997,DATA!$B$3:$E$6,4,0)","v":3.125E-2},0.30208333333333337,0.30208333333333337,{"$f":"DATA!$C$9","v":0.89},{"$f":"DATA!$C$10","v":64},1,407.81250000000006,407.81250000000006,0,"","",0,"","",0,"","","","",null,{"$f":"X1003","v":48},null,{"$f":"TEXT(Y996,\"ddd\")","v":"di"},"MD",{"$f":"IFERROR(HLOOKUP(Y996,[1]DATA!$A$1:$NB$5,4,0),\"\")","v":"D1"},null,null,null,null,{"$f":"VLOOKUP(Y996,[1]SRI!$S$4:$Z$368,3,0)","v":0},"","",""]
["48diND",{"$f":"VLOOKUP($AA998,DATA!$B$3:$E$6,2,0)","v":"22:30:00"},{"$f":"VLOOKUP($AA998,DATA!$B$3:$E$6,3,0)","v":"06:30:00"},{"$f":"VLOOKUP($AA998,DATA!$B$3:$E$6,4,0)","v":3.125E-2},0.30208333333333326,0.30208333333333326,{"$f":"DATA!$C$9","v":0.89},{"$f":"DATA!$C$10","v":64},1,407.81249999999989,407.81249999999989,0,"","",0,"","",0,"","","","",null,{"$f":"X1003","v":48},null,{"$f":"TEXT(Y996,\"ddd\")","v":"di"},"ND",{"$f":"IFERROR(HLOOKUP(Y996,[1]DATA!$A$1:$NB$5,5,0),\"\")","v":"D3"},null,null,null,null,{"$f":"VLOOKUP(Y996,[1]SRI!$S$4:$Z$368,4,0)","v":0},"","",""]
["48woDD",{"$f":"VLOOKUP($AA999,DATA!$B$3:$E$6,2,0)","v":"06:30:00"},{"$f":"VLOOKUP($AA999,DATA!$B$3:$E$6,3,0)","v":"14:30:00"},{"$f":"VLOOKUP($AA999,DATA!$B$3:$E$6,4,0)","v":3.125E-2},0.30208333333333331,0.30208333333333331,{"$f":"DATA!$C$9","v":0.89},{"$f":"DATA!$C$10","v":64},1,407.8125,407.8125,0,"","",0,"","",0,"","","","",null,{"$f":"X1003","v":48},"2018-11-28",{"$f":"TEXT(Y999,\"ddd\")","v":"wo"},"DD",{"$f":"IFERROR(HLOOKUP(Y999,[1]DATA!$A$1:$NB$5,3,0),\"\")","v":"D2"},null,null,null,null,{"$f":"VLOOKUP(Y999,[1]SRI!$S$4:$Z$368,2,0)","v":0},"","",""]
["48woMD",{"$f":"VLOOKUP($AA1000,DATA!$B$3:$E$6,2,0)","v":"14:30:00"},{"$f":"VLOOKUP($AA1000,DATA!$B$3:$E$6,3,0)","v":"22:30:00"},{"$f":"VLOOKUP($AA1000,DATA!$B$3:$E$6,4,0)","v":3.125E-2},0.30208333333333337,0.30208333333333337,{"$f":"DATA!$C$9","v":0.89},{"$f":"DATA!$C$10","v":64},1,407.81250000000006,407.81250000000006,0,"","",0,"","",0,"","","","",null,{"$f":"X1003","v":48},null,{"$f":"TEXT(Y999,\"ddd\")","v":"wo"},"MD",{"$f":"IFERROR(HLOOKUP(Y999,[1]DATA!$A$1:$NB$5,4,0),\"\")","v":"D1"},null,null,null,null,{"$f":"VLOOKUP(Y999,[1]SRI!$S$4:$Z$368,3,0)","v":0},"","",""]
["48woND",{"$f":"VLOOKUP($AA1001,DATA!$B$3:$E$6,2,0)","v":"22:30:00"},{"$f":"VLOOKUP($AA1001,DATA!$B$3:$E$6,3,0)","v":"06:30:00"},{"$f":"VLOOKUP($AA1001,DATA!$B$3:$E$6,4,0)","v":3.125E-2},0.30208333333333326,0.30208333333333326,{"$f":"DATA!$C$9","v":0.89},{"$f":"DATA!$C$10","v":64},1,407.81249999999989,407.81249999999989,0,"","",0,"","",0,"","","","",null,{"$f":"X1003","v":48},null,{"$f":"TEXT(Y999,\"ddd\")","v":"wo"},"ND",{"$f":"IFERROR(HLOOKUP(Y999,[1]DATA!$A$1:$NB$5,5,0),\"\")","v":"D3"},null,null,null,null,{"$f":"VLOOKUP(Y999,[1]SRI!$S$4:$Z$368,4,0)","v":0},"","",""]
["48doDD",{"$f":"VLOOKUP($AA1002,DATA!$B$3:$E$6,2,0)","v":"06:30:00"},{"$f":"VLOOKUP($AA1002,DATA!$B$3:$E$6,3,0)","v":"14:30:00"},{"$f":"VLOOKUP($AA1002,DATA!$B$3:$E$6,4,0)","v":3.125E-2},0.30208333333333331,0.30208333333333331,{"$f":"DATA!$C$9","v":0.89},{"$f":"DATA!$C$10","v":64},1,407.8125,407.8125,0,"","",0,"","",0,"","","","",null,{"$f":"X1003","v":48},"2018-11-29",{"$f":"TEXT(Y1002,\"ddd\")","v":"do"},"DD",{"$f":"IFERROR(HLOOKUP(Y1002,[1]DATA!$A$1:$NB$5,3,0),\"\")","v":"D2"},null,null,null,null,{"$f":"VLOOKUP(Y1002,[1]SRI!$S$4:$Z$368,2,0)","v":0},"","",""]
["48doMD",{"$f":"VLOOKUP($AA1003,DATA!$B$3:$E$6,2,0)","v":"14:30:00"},{"$f":"VLOOKUP($AA1003,DATA!$B$3:$E$6,3,0)","v":"22:30:00"},{"$f":"VLOOKUP($AA1003,DATA!$B$3:$E$6,4,0)","v":3.125E-2},0.30208333333333337,0.30208333333333337,{"$f":"DATA!$C$9","v":0.89},{"$f":"DATA!$C$10","v":64},1,407.81250000000006,407.81250000000006,0,"","",0,"","",0,"","","","",null,{"$f":"WEEKNUM($Y993)","v":48},null,{"$f":"TEXT(Y1002,\"ddd\")","v":"do"},"MD",{"$f":"IFERROR(HLOOKUP(Y1002,[1]DATA!$A$1:$NB$5,4,0),\"\")","v":"D1"},null,null,null,null,{"$f":"VLOOKUP(Y1002,[1]SRI!$S$4:$Z$368,3,0)","v":0},"","",""]
["48doND",{"$f":"VLOOKUP($AA1004,DATA!$B$3:$E$6,2,0)","v":"22:30:00"},{"$f":"VLOOKUP($AA1004,DATA!$B$3:$E$6,3,0)","v":"06:30:00"},{"$f":"VLOOKUP($AA1004,DATA!$B$3:$E$6,4,0)","v":3.125E-2},0.30208333333333326,0.30208333333333326,{"$f":"DATA!$C$9","v":0.89},{"$f":"DATA!$C$10","v":64},1,407.81249999999989,407.81249999999989,0,"","",0,"","",0,"","","","",null,{"$f":"X1003","v":48},null,{"$f":"TEXT(Y1002,\"ddd\")","v":"do"},"ND",{"$f":"IFERROR(HLOOKUP(Y1002,[1]DATA!$A$1:$NB$5,5,0),\"\")","v":"D3"},null,null,null,null,{"$f":"VLOOKUP(Y1002,[1]SRI!$S$4:$Z$368,4,0)","v":0},"","",""]
["48vrDD",{"$f":"VLOOKUP($AA1005,DATA!$B$3:$E$6,2,0)","v":"06:30:00"},{"$f":"VLOOKUP($AA1005,DATA!$B$3:$E$6,3,0)","v":"14:30:00"},{"$f":"VLOOKUP($AA1005,DATA!$B$3:$E$6,4,0)","v":3.125E-2},0.30208333333333331,0.30208333333333331,{"$f":"DATA!$C$9","v":0.89},{"$f":"DATA!$C$10","v":64},1,407.8125,407.8125,0,"","",0,"","",0,"","","","",null,{"$f":"X1003","v":48},"2018-11-30",{"$f":"TEXT(Y1005,\"ddd\")","v":"vr"},"DD",{"$f":"IFERROR(HLOOKUP(Y1005,[1]DATA!$A$1:$NB$5,3,0),\"\")","v":"D2"},null,null,null,null,{"$f":"VLOOKUP(Y1005,[1]SRI!$S$4:$Z$368,2,0)","v":0},"","",""]
["48vrMD",{"$f":"VLOOKUP($AA1006,DATA!$B$3:$E$6,2,0)","v":"14:30:00"},{"$f":"VLOOKUP($AA1006,DATA!$B$3:$E$6,3,0)","v":"22:30:00"},{"$f":"VLOOKUP($AA1006,DATA!$B$3:$E$6,4,0)","v":3.125E-2},0.30208333333333337,0.30208333333333337,{"$f":"DATA!$C$9","v":0.89},{"$f":"DATA!$C$10","v":64},1,407.81250000000006,407.81250000000006,0,"","",0,"","",0,"","","","",null,{"$f":"X1003","v":48},null,{"$f":"TEXT(Y1005,\"ddd\")","v":"vr"},"MD",{"$f":"IFERROR(HLOOKUP(Y1005,[1]DATA!$A$1:$NB$5,4,0),\"\")","v":"D1"},null,null,null,null,{"$f":"VLOOKUP(Y1005,[1]SRI!$S$4:$Z$368,3,0)","v":0},"","",""]
["48vrND",{"$f":"VLOOKUP($AA1007,DATA!$B$3:$E$6,2,0)","v":"22:30:00"},{"$f":"VLOOKUP($AA1007,DATA!$B$3:$E$6,3,0)","v":"06:30:00"},{"$f":"VLOOKUP($AA1007,DATA!$B$3:$E$6,4,0)","v":3.125E-2},0.30208333333333326,0.30208333333333326,{"$f":"DATA!$C$9","v":0.89},{"$f":"DATA!$C$10","v":64},1,407.81249999999989,407.81249999999989,0,"","",0,"","",0,"","","","",null,{"$f":"X1003","v":48},null,{"$f":"TEXT(Y1005,\"ddd\")","v":"vr"},"ND",{"$f":"IFERROR(HLOOKUP(Y1005,[1]DATA!$A$1:$NB$5,5,0),\"\")","v":"D3"},null,null,null,null,{"$f":"VLOOKUP(Y1005,[1]SRI!$S$4:$Z$368,4,0)","v":0},"","",""]
[{"$f":"X1008&Z1008&AA1008","v":"48zaDD"},{"$f":"VLOOKUP($AA1008,DATA!$B$3:$E$6,2,0)","v":"06:30:00"},{"$f":"VLOOKUP($AA1008,DATA!$B$3:$E$6,3,0)","v":"14:30:00"},{"$f":"VLOOKUP($AA1008,DATA!$B$3:$E$6,4,0)","v":3.125E-2},0.30208333333333331,0.30208333333333331,{"$f":"DATA!$C$9","v":0.89},{"$f":"DATA!$C$10","v":64},1,407.8125,407.8125,0,"","",0,{"$f":"IF($O1008*86400/$H1008=0,\"\",$O1008*86400/$H1008)","v":""},"",0,"","","","",null,{"$f":"X1003","v":48},"2018-12-01",{"$f":"TEXT(Y1008,\"ddd\")","v":"za"},"DD",{"$f":"IFERROR(HLOOKUP(Y1008,[1]DATA!$A$1:$NB$5,3,0),\"\")","v":"D2"},null,null,null,null,{"$f":"VLOOKUP(Y1008,[1]SRI!$S$4:$Z$368,2,0)","v":0},"","",""]
["48zaMD",{"$f":"VLOOKUP($AA1009,DATA!$B$3:$E$6,2,0)","v":"14:30:00"},{"$f":"VLOOKUP($AA1009,DATA!$B$3:$E$6,3,0)","v":"22:30:00"},{"$f":"VLOOKUP($AA1009,DATA!$B$3:$E$6,4,0)","v":3.125E-2},0.30208333333333337,0.30208333333333337,{"$f":"DATA!$C$9","v":0.89},{"$f":"DATA!$C$10","v":64},1,407.81250000000006,407.81250000000006,0,"","",0,"","",0,"","","","",null,{"$f":"X1003","v":48},null,{"$f":"TEXT(Y1008,\"ddd\")","v":"za"},"MD",{"$f":"IFERROR(HLOOKUP(Y1008,[1]DATA!$A$1:$NB$5,4,0),\"\")","v":"-"},null,null,null,null,{"$f":"VLOOKUP(Y1008,[1]SRI!$S$4:$Z$368,3,0)","v":0},"","",""]
["48zaND",{"$f":"VLOOKUP($AA1010,DATA!$B$3:$E$6,2,0)","v":"22:30:00"},{"$f":"VLOOKUP($AA1010,DATA!$B$3:$E$6,3,0)","v":"06:30:00"},{"$f":"VLOOKUP($AA1010,DATA!$B$3:$E$6,4,0)","v":3.125E-2},0.30208333333333326,0.30208333333333326,{"$f":"DATA!$C$9","v":0.89},{"$f":"DATA!$C$10","v":64},1,407.81249999999989,407.81249999999989,0,"","",0,"","",0,"","","","",null,{"$f":"X1003","v":48},null,{"$f":"TEXT(Y1008,\"ddd\")","v":"za"},"ND",{"$f":"IFERROR(HLOOKUP(Y1008,[1]DATA!$A$1:$NB$5,5,0),\"\")","v":"-"},null,null,null,null,{"$f":"VLOOKUP(Y1008,[1]SRI!$S$4:$Z$368,4,0)","v":0},"","",""]
["48zoDD",{"$f":"VLOOKUP($AA1011,DATA!$B$3:$E$6,2,0)","v":"06:30:00"},{"$f":"VLOOKUP($AA1011,DATA!$B$3:$E$6,3,0)","v":"14:30:00"},{"$f":"VLOOKUP($AA1011,DATA!$B$3:$E$6,4,0)","v":3.125E-2},0.30208333333333331,0.30208333333333331,{"$f":"DATA!$C$9","v":0.89},{"$f":"DATA!$C$10","v":64},1,407.8125,407.8125,0,"","",0,"","",0,"","","","",null,{"$f":"X1003","v":48},"2018-12-02",{"$f":"TEXT(Y1011,\"ddd\")","v":"zo"},"DD",{"$f":"IFERROR(HLOOKUP(Y1011,[1]DATA!$A$1:$NB$5,3,0),\"\")","v":"-"},null,null,null,null,{"$f":"VLOOKUP(Y1011,[1]SRI!$S$4:$Z$368,2,0)","v":0},"","",""]
["48zoMD",{"$f":"VLOOKUP($AA1012,DATA!$B$3:$E$6,2,0)","v":"14:30:00"},{"$f":"VLOOKUP($AA1012,DATA!$B$3:$E$6,3,0)","v":"22:30:00"},{"$f":"VLOOKUP($AA1012,DATA!$B$3:$E$6,4,0)","v":3.125E-2},0.30208333333333337,0.30208333333333337,{"$f":"DATA!$C$9","v":0.89},{"$f":"DATA!$C$10","v":64},1,407.81250000000006,407.81250000000006,0,"","",0,"","",0,"","","","",null,{"$f":"X1003","v":48},null,{"$f":"TEXT(Y1011,\"ddd\")","v":"zo"},"MD",{"$f":"IFERROR(HLOOKUP(Y1011,[1]DATA!$A$1:$NB$5,4,0),\"\")","v":"-"},null,null,null,null,{"$f":"VLOOKUP(Y1011,[1]SRI!$S$4:$Z$368,3,0)","v":0},"","",""]
["48zoZND",{"$f":"VLOOKUP($AA1013,DATA!$B$3:$E$6,2,0)","v":"00:00:00"},{"$f":"VLOOKUP($AA1013,DATA!$B$3:$E$6,3,0)","v":"00:00:00"},{"$f":"VLOOKUP($AA1013,DATA!$B$3:$E$6,4,0)","v":3.125E-2},-3.125E-2,-3.125E-2,{"$f":"DATA!$C$9","v":0.89},{"$f":"DATA!$C$10","v":64},1,-42.1875,-42.1875,0,"","",0,"","",0,"","","","",null,{"$f":"X1003","v":48},null,{"$f":"TEXT(Y1011,\"ddd\")","v":"zo"},"ZND",{"$f":"IFERROR(HLOOKUP(Y1011,[1]DATA!$A$1:$NB$5,5,0),\"\")","v":"-"},null,null,null,null,{"$f":"VLOOKUP(Y1011,[1]SRI!$S$4:$Z$368,4,0)","v":0},"","",""]
["49maDD",{"$f":"VLOOKUP($AA1014,DATA!$B$3:$E$6,2,0)","v":"06:30:00"},{"$f":"VLOOKUP($AA1014,DATA!$B$3:$E$6,3,0)","v":"14:30:00"},{"$f":"VLOOKUP($AA1014,DATA!$B$3:$E$6,4,0)","v":3.125E-2},0.30208333333333331,0.30208333333333331,{"$f":"DATA!$C$9","v":0.89},{"$f":"DATA!$C$10","v":64},1,407.8125,407.8125,0,"","",{"$f":"TIME(INT($AD1014/60),INT(MOD($AD1014,60)/1),0)","v":0},"","",0,"","","","",null,{"$f":"X1024","v":49},"2018-12-03",{"$f":"TEXT(Y1014,\"ddd\")","v":"ma"},"DD",{"$f":"IFERROR(HLOOKUP(Y1014,[1]DATA!$A$1:$NB$5,3,0),\"\")","v":"D1"},null,null,null,null,{"$f":"VLOOKUP(Y1014,[1]SRI!$S$4:$Z$368,2,0)","v":0},"","","",{"$f":"IF(SUMIF(S1014:S1034,\">0\",K1014:K1034)=0,\"\",SUMIF(S1014:S1034,\">0\",K1014:K1034))","v":""},{"$f":"IF(SUM(S1014:S1034)=0,\"\",SUM(S1014:S1034))","v":""},{"$f":"IFERROR(AL1014/AK1014,\"-\")","v":"-"},{"$f":"IF(SUM(M1014:M1034)=0,\"0\",SUM(M1014:M1034))","v":"0"},{"$f":"IFERROR(AN1014/AK1014,\"-\")","v":"-"},{"$f":"IF(SUM(P1014:P1034)=0,0,SUM(P1014:P1034))","v":0},{"$f":"IFERROR(AP1014/AK1014,\"-\")","v":"-"},{"$f":"IFERROR(AVERAGE(AJ1014:AJ1034),\"-\")","v":"-"},{"$f":"IFERROR(SUMIF($AB1014:$AB1034,AS$5,$AJ1014:$AJ1034)/COUNTIFS($AB1014:$AB1034,AS$5,$AJ1014:$AJ1034,\">0\"),\"\")","v":""},"","",{"$f":"IFERROR((AK1014-AL1014-AN1014-AP1014),\"-\")","v":"-"},{"$f":"IFERROR((1-AM1014-AO1014-AQ1014), \"-\")","v":"-"},{"$f":"IFERROR((AV1014*$AE$2)/60,\"-\")","v":"-"},{"$f":"IFERROR(SUM(AG1014:AG1034),\"\")","v":0}]
["49maMD",{"$f":"VLOOKUP($AA1015,DATA!$B$3:$E$6,2,0)","v":"14:30:00"},{"$f":"VLOOKUP($AA1015,DATA!$B$3:$E$6,3,0)","v":"22:30:00"},{"$f":"VLOOKUP($AA1015,DATA!$B$3:$E$6,4,0)","v":3.125E-2},0.30208333333333337,0.30208333333333337,{"$f":"DATA!$C$9","v":0.89},{"$f":"DATA!$C$10","v":64},1,407.81250000000006,407.81250000000006,0,"","",{"$f":"TIME(INT(AD1015/60),INT(MOD(AD1015,60)/1),0)","v":0},"","",0,"","","","",null,{"$f":"X1024","v":49},null,{"$f":"TEXT(Y1014,\"ddd\")","v":"ma"},"MD",{"$f":"IFERROR(HLOOKUP(Y1014,[1]DATA!$A$1:$NB$5,4,0),\"\")","v":"D3"},null,null,null,null,{"$f":"VLOOKUP(Y1014,[1]SRI!$S$4:$Z$368,3,0)","v":0},"","",""]
["49maND",{"$f":"VLOOKUP($AA1016,DATA!$B$3:$E$6,2,0)","v":"22:30:00"},{"$f":"VLOOKUP($AA1016,DATA!$B$3:$E$6,3,0)","v":"06:30:00"},{"$f":"VLOOKUP($AA1016,DATA!$B$3:$E$6,4,0)","v":3.125E-2},0.30208333333333326,0.30208333333333326,{"$f":"DATA!$C$9","v":0.89},{"$f":"DATA!$C$10","v":64},1,407.81249999999989,407.81249999999989,0,"","",0,"","",0,"","","","",null,{"$f":"X1024","v":49},null,{"$f":"TEXT(Y1014,\"ddd\")","v":"ma"},"ND",{"$f":"IFERROR(HLOOKUP(Y1014,[1]DATA!$A$1:$NB$5,5,0),\"\")","v":"D2"},null,null,null,null,{"$f":"VLOOKUP(Y1014,[1]SRI!$S$4:$Z$368,4,0)","v":0},"","",""]
["49diDD",{"$f":"VLOOKUP($AA1017,DATA!$B$3:$E$6,2,0)","v":"06:30:00"},{"$f":"VLOOKUP($AA1017,DATA!$B$3:$E$6,3,0)","v":"14:30:00"},{"$f":"VLOOKUP($AA1017,DATA!$B$3:$E$6,4,0)","v":3.125E-2},0.30208333333333331,0.30208333333333331,{"$f":"DATA!$C$9","v":0.89},{"$f":"DATA!$C$10","v":64},1,407.8125,407.8125,0,"","",0,"","",0,"","","","",null,{"$f":"X1024","v":49},"2018-12-04",{"$f":"TEXT(Y1017,\"ddd\")","v":"di"},"DD",{"$f":"IFERROR(HLOOKUP(Y1017,[1]DATA!$A$1:$NB$5,3,0),\"\")","v":"D1"},null,null,null,null,{"$f":"VLOOKUP(Y1017,[1]SRI!$S$4:$Z$368,2,0)","v":0},"","",""]
["49diMD",{"$f":"VLOOKUP($AA1018,DATA!$B$3:$E$6,2,0)","v":"14:30:00"},{"$f":"VLOOKUP($AA1018,DATA!$B$3:$E$6,3,0)","v":"22:30:00"},{"$f":"VLOOKUP($AA1018,DATA!$B$3:$E$6,4,0)","v":3.125E-2},0.30208333333333337,0.30208333333333337,{"$f":"DATA!$C$9","v":0.89},{"$f":"DATA!$C$10","v":64},1,407.81250000000006,407.81250000000006,0,"","",0,"","",0,"","","","",null,{"$f":"X1024","v":49},null,{"$f":"TEXT(Y1017,\"ddd\")","v":"di"},"MD",{"$f":"IFERROR(HLOOKUP(Y1017,[1]DATA!$A$1:$NB$5,4,0),\"\")","v":"D3"},null,null,null,null,{"$f":"VLOOKUP(Y1017,[1]SRI!$S$4:$Z$368,3,0)","v":0},"","",""]
["49diND",{"$f":"VLOOKUP($AA1019,DATA!$B$3:$E$6,2,0)","v":"22:30:00"},{"$f":"VLOOKUP($AA1019,DATA!$B$3:$E$6,3,0)","v":"06:30:00"},{"$f":"VLOOKUP($AA1019,DATA!$B$3:$E$6,4,0)","v":3.125E-2},0.30208333333333326,0.30208333333333326,{"$f":"DATA!$C$9","v":0.89},{"$f":"DATA!$C$10","v":64},1,407.81249999999989,407.81249999999989,0,"","",0,"","",0,"","","","",null,{"$f":"X1024","v":49},null,{"$f":"TEXT(Y1017,\"ddd\")","v":"di"},"ND",{"$f":"IFERROR(HLOOKUP(Y1017,[1]DATA!$A$1:$NB$5,5,0),\"\")","v":"D2"},null,null,null,null,{"$f":"VLOOKUP(Y1017,[1]SRI!$S$4:$Z$368,4,0)","v":0},"","",""]
["49woDD",{"$f":"VLOOKUP($AA1020,DATA!$B$3:$E$6,2,0)","v":"06:30:00"},{"$f":"VLOOKUP($AA1020,DATA!$B$3:$E$6,3,0)","v":"14:30:00"},{"$f":"VLOOKUP($AA1020,DATA!$B$3:$E$6,4,0)","v":3.125E-2},0.30208333333333331,0.30208333333333331,{"$f":"DATA!$C$9","v":0.89},{"$f":"DATA!$C$10","v":64},1,407.8125,407.8125,0,"","",0,"","",0,"","","","",null,{"$f":"X1024","v":49},"2018-12-05",{"$f":"TEXT(Y1020,\"ddd\")","v":"wo"},"DD",{"$f":"IFERROR(HLOOKUP(Y1020,[1]DATA!$A$1:$NB$5,3,0),\"\")","v":"D1"},null,null,null,null,{"$f":"VLOOKUP(Y1020,[1]SRI!$S$4:$Z$368,2,0)","v":0},"","",""]
["49woMD",{"$f":"VLOOKUP($AA1021,DATA!$B$3:$E$6,2,0)","v":"14:30:00"},{"$f":"VLOOKUP($AA1021,DATA!$B$3:$E$6,3,0)","v":"22:30:00"},{"$f":"VLOOKUP($AA1021,DATA!$B$3:$E$6,4,0)","v":3.125E-2},0.30208333333333337,0.30208333333333337,{"$f":"DATA!$C$9","v":0.89},{"$f":"DATA!$C$10","v":64},1,407.81250000000006,407.81250000000006,0,"","",0,"","",0,"","","","",null,{"$f":"X1024","v":49},null,{"$f":"TEXT(Y1020,\"ddd\")","v":"wo"},"MD",{"$f":"IFERROR(HLOOKUP(Y1020,[1]DATA!$A$1:$NB$5,4,0),\"\")","v":"D3"},null,null,null,null,{"$f":"VLOOKUP(Y1020,[1]SRI!$S$4:$Z$368,3,0)","v":0},"","",""]
["49woND",{"$f":"VLOOKUP($AA1022,DATA!$B$3:$E$6,2,0)","v":"22:30:00"},{"$f":"VLOOKUP($AA1022,DATA!$B$3:$E$6,3,0)","v":"06:30:00"},{"$f":"VLOOKUP($AA1022,DATA!$B$3:$E$6,4,0)","v":3.125E-2},0.30208333333333326,0.30208333333333326,{"$f":"DATA!$C$9","v":0.89},{"$f":"DATA!$C$10","v":64},1,407.81249999999989,407.81249999999989,0,"","",0,"","",0,"","","","",null,{"$f":"X1024","v":49},null,{"$f":"TEXT(Y1020,\"ddd\")","v":"wo"},"ND",{"$f":"IFERROR(HLOOKUP(Y1020,[1]DATA!$A$1:$NB$5,5,0),\"\")","v":"D2"},null,null,null,null,{"$f":"VLOOKUP(Y1020,[1]SRI!$S$4:$Z$368,4,0)","v":0},"","",""]
["49doDD",{"$f":"VLOOKUP($AA1023,DATA!$B$3:$E$6,2,0)","v":"06:30:00"},{"$f":"VLOOKUP($AA1023,DATA!$B$3:$E$6,3,0)","v":"14:30:00"},{"$f":"VLOOKUP($AA1023,DATA!$B$3:$E$6,4,0)","v":3.125E-2},0.30208333333333331,0.30208333333333331,{"$f":"DATA!$C$9","v":0.89},{"$f":"DATA!$C$10","v":64},1,407.8125,407.8125,0,"","",0,"","",0,"","","","",null,{"$f":"X1024","v":49},{"$f":"Y1020+1","v":"2018-12-06"},{"$f":"TEXT(Y1023,\"ddd\")","v":"do"},"DD",{"$f":"IFERROR(HLOOKUP(Y1023,[1]DATA!$A$1:$NB$5,3,0),\"\")","v":"D1"},null,null,null,null,{"$f":"VLOOKUP(Y1023,[1]SRI!$S$4:$Z$368,2,0)","v":0},"","",""]
["49doMD",{"$f":"VLOOKUP($AA1024,DATA!$B$3:$E$6,2,0)","v":"14:30:00"},{"$f":"VLOOKUP($AA1024,DATA!$B$3:$E$6,3,0)","v":"22:30:00"},{"$f":"VLOOKUP($AA1024,DATA!$B$3:$E$6,4,0)","v":3.125E-2},0.30208333333333337,0.30208333333333337,{"$f":"DATA!$C$9","v":0.89},{"$f":"DATA!$C$10","v":64},1,407.81250000000006,407.81250000000006,0,"","",0,"","",0,"","","","",null,{"$f":"WEEKNUM($Y1014)","v":49},null,{"$f":"TEXT(Y1023,\"ddd\")","v":"do"},"MD",{"$f":"IFERROR(HLOOKUP(Y1023,[1]DATA!$A$1:$NB$5,4,0),\"\")","v":"D3"},null,null,null,null,{"$f":"VLOOKUP(Y1023,[1]SRI!$S$4:$Z$368,3,0)","v":0},"","",""]
["49doND",{"$f":"VLOOKUP($AA1025,DATA!$B$3:$E$6,2,0)","v":"22:30:00"},{"$f":"VLOOKUP($AA1025,DATA!$B$3:$E$6,3,0)","v":"06:30:00"},{"$f":"VLOOKUP($AA1025,DATA!$B$3:$E$6,4,0)","v":3.125E-2},0.30208333333333326,0.30208333333333326,{"$f":"DATA!$C$9","v":0.89},{"$f":"DATA!$C$10","v":64},1,407.81249999999989,407.81249999999989,0,"","",0,"","",0,"","","","",null,{"$f":"X1024","v":49},null,{"$f":"TEXT(Y1023,\"ddd\")","v":"do"},"ND",{"$f":"IFERROR(HLOOKUP(Y1023,[1]DATA!$A$1:$NB$5,5,0),\"\")","v":"D2"},null,null,null,null,{"$f":"VLOOKUP(Y1023,[1]SRI!$S$4:$Z$368,4,0)","v":0},"","",""]
["49vrDD",{"$f":"VLOOKUP($AA1026,DATA!$B$3:$E$6,2,0)","v":"06:30:00"},{"$f":"VLOOKUP($AA1026,DATA!$B$3:$E$6,3,0)","v":"14:30:00"},{"$f":"VLOOKUP($AA1026,DATA!$B$3:$E$6,4,0)","v":3.125E-2},0.30208333333333331,0.30208333333333331,{"$f":"DATA!$C$9","v":0.89},{"$f":"DATA!$C$10","v":64},1,407.8125,407.8125,0,"","",0,"","",0,"","","","",null,{"$f":"X1024","v":49},"2018-12-07",{"$f":"TEXT(Y1026,\"ddd\")","v":"vr"},"DD",{"$f":"IFERROR(HLOOKUP(Y1026,[1]DATA!$A$1:$NB$5,3,0),\"\")","v":"D1"},null,null,null,null,{"$f":"VLOOKUP(Y1026,[1]SRI!$S$4:$Z$368,2,0)","v":0},"","",""]
["49vrMD",{"$f":"VLOOKUP($AA1027,DATA!$B$3:$E$6,2,0)","v":"14:30:00"},{"$f":"VLOOKUP($AA1027,DATA!$B$3:$E$6,3,0)","v":"22:30:00"},{"$f":"VLOOKUP($AA1027,DATA!$B$3:$E$6,4,0)","v":3.125E-2},0.30208333333333337,0.30208333333333337,{"$f":"DATA!$C$9","v":0.89},{"$f":"DATA!$C$10","v":64},1,407.81250000000006,407.81250000000006,0,"","",0,"","",0,"","","","",null,{"$f":"X1024","v":49},null,{"$f":"TEXT(Y1026,\"ddd\")","v":"vr"},"MD",{"$f":"IFERROR(HLOOKUP(Y1026,[1]DATA!$A$1:$NB$5,4,0),\"\")","v":"D3"},null,null,null,null,{"$f":"VLOOKUP(Y1026,[1]SRI!$S$4:$Z$368,3,0)","v":0},"","",""]
["49vrND",{"$f":"VLOOKUP($AA1028,DATA!$B$3:$E$6,2,0)","v":"22:30:00"},{"$f":"VLOOKUP($AA1028,DATA!$B$3:$E$6,3,0)","v":"06:30:00"},{"$f":"VLOOKUP($AA1028,DATA!$B$3:$E$6,4,0)","v":3.125E-2},0.30208333333333326,0.30208333333333326,{"$f":"DATA!$C$9","v":0.89},{"$f":"DATA!$C$10","v":64},1,407.81249999999989,407.81249999999989,0,"","",0,"","",0,"","","","",null,{"$f":"X1024","v":49},null,{"$f":"TEXT(Y1026,\"ddd\")","v":"vr"},"ND",{"$f":"IFERROR(HLOOKUP(Y1026,[1]DATA!$A$1:$NB$5,5,0),\"\")","v":"D2"},null,null,null,null,{"$f":"VLOOKUP(Y1026,[1]SRI!$S$4:$Z$368,4,0)","v":0},"","",""]
["49zaDD",{"$f":"VLOOKUP($AA1029,DATA!$B$3:$E$6,2,0)","v":"06:30:00"},{"$f":"VLOOKUP($AA1029,DATA!$B$3:$E$6,3,0)","v":"14:30:00"},{"$f":"VLOOKUP($AA1029,DATA!$B$3:$E$6,4,0)","v":3.125E-2},0.30208333333333331,0.30208333333333331,{"$f":"DATA!$C$9","v":0.89},{"$f":"DATA!$C$10","v":64},1,407.8125,407.8125,0,"","",0,"","",0,"","","","",null,{"$f":"X1024","v":49},"2018-12-08",{"$f":"TEXT(Y1029,\"ddd\")","v":"za"},"DD",{"$f":"IFERROR(HLOOKUP(Y1029,[1]DATA!$A$1:$NB$5,3,0),\"\")","v":"D1"},null,null,null,null,{"$f":"VLOOKUP(Y1029,[1]SRI!$S$4:$Z$368,2,0)","v":0},"","",""]
["49zaMD",{"$f":"VLOOKUP($AA1030,DATA!$B$3:$E$6,2,0)","v":"14:30:00"},{"$f":"VLOOKUP($AA1030,DATA!$B$3:$E$6,3,0)","v":"22:30:00"},{"$f":"VLOOKUP($AA1030,DATA!$B$3:$E$6,4,0)","v":3.125E-2},0.30208333333333337,0.30208333333333337,{"$f":"DATA!$C$9","v":0.89},{"$f":"DATA!$C$10","v":64},1,{"$f":"F1030*86400/H1030*I1030","v":407.81250000000006},{"$f":"E1030*86400/H1030","v":407.81250000000006},0,"","",0,"","",{"$f":"AF1030*AG$2","v":0},{"$f":"IF(AF1030-AE1030=0,\"\",AF1030-AE1030)","v":""},"","","",null,{"$f":"X1024","v":49},null,{"$f":"TEXT(Y1029,\"ddd\")","v":"za"},"MD",{"$f":"IFERROR(HLOOKUP(Y1029,[1]DATA!$A$1:$NB$5,4,0),\"\")","v":"-"},null,null,null,null,{"$f":"VLOOKUP(Y1029,[1]SRI!$S$4:$Z$368,3,0)","v":0},{"$f":"IFERROR(S1030-J1030,\"\")","v":""},{"$f":"IFERROR(IF(S1030/(E1030*86400/H1030)<=0,\"\",S1030/(E1030*86400/H1030)),\"\")","v":""},{"$f":"IFERROR(R1030/(R1030+AG1030),\"\")","v":""}]
["49zaND",{"$f":"VLOOKUP($AA1031,DATA!$B$3:$E$6,2,0)","v":"22:30:00"},{"$f":"VLOOKUP($AA1031,DATA!$B$3:$E$6,3,0)","v":"06:30:00"},{"$f":"VLOOKUP($AA1031,DATA!$B$3:$E$6,4,0)","v":3.125E-2},0.30208333333333326,0.30208333333333326,{"$f":"DATA!$C$9","v":0.89},{"$f":"DATA!$C$10","v":64},1,407.81249999999989,407.81249999999989,{"$f":"TIME(INT($AC1031/60),INT(MOD($AC1031,60)/1),0)","v":0},{"$f":"IF($L1031*86400/$H1031=0,\"\",$L1031*86400/$H1031)","v":""},{"$f":"IFERROR($M1031/$K1031,\"\")","v":""},0,"",{"$f":"IFERROR($P1031/$K1031,\"\")","v":""},0,"",{"$f":"IF(IF($AB1031=\"D1\",$S1031,\"\")=0,\"\",IF($AB1031=\"D1\",$S1031,\"\"))","v":""},{"$f":"IF(IF($AB1031=\"D2\",$S1031,\"\")=0,\"\",IF($AB1031=\"D2\",$S1031,\"\"))","v":""},{"$f":"IF(IF($AB1031=\"D3\",$S1031,\"\")=0,\"\",IF($AB1031=\"D3\",$S1031,\"\"))","v":""},null,{"$f":"X1024","v":49},null,{"$f":"TEXT(Y1029,\"ddd\")","v":"za"},"ND",{"$f":"IFERROR(HLOOKUP(Y1029,[1]DATA!$A$1:$NB$5,5,0),\"\")","v":"-"},null,null,null,null,{"$f":"VLOOKUP(Y1029,[1]SRI!$S$4:$Z$368,4,0)","v":0},"","",""]
["49zoDD",{"$f":"VLOOKUP($AA1032,DATA!$B$3:$E$6,2,0)","v":"06:30:00"},{"$f":"VLOOKUP($AA1032,DATA!$B$3:$E$6,3,0)","v":"14:30:00"},{"$f":"VLOOKUP($AA1032,DATA!$B$3:$E$6,4,0)","v":3.125E-2},0.30208333333333331,0.30208333333333331,{"$f":"DATA!$C$9","v":0.89},{"$f":"DATA!$C$10","v":64},1,407.8125,407.8125,0,"","",0,"","",0,"","","","",null,{"$f":"X1024","v":49},"2018-12-09",{"$f":"TEXT(Y1032,\"ddd\")","v":"zo"},"DD",{"$f":"IFERROR(HLOOKUP(Y1032,[1]DATA!$A$1:$NB$5,3,0),\"\")","v":"-"},null,null,null,null,{"$f":"VLOOKUP(Y1032,[1]SRI!$S$4:$Z$368,2,0)","v":0},"","",""]
["49zoMD",{"$f":"VLOOKUP($AA1033,DATA!$B$3:$E$6,2,0)","v":"14:30:00"},{"$f":"VLOOKUP($AA1033,DATA!$B$3:$E$6,3,0)","v":"22:30:00"},{"$f":"VLOOKUP($AA1033,DATA!$B$3:$E$6,4,0)","v":3.125E-2},0.30208333333333337,0.30208333333333337,{"$f":"DATA!$C$9","v":0.89},{"$f":"DATA!$C$10","v":64},1,407.81250000000006,407.81250000000006,0,"","",0,"","",0,"","","","",null,{"$f":"X1024","v":49},null,{"$f":"TEXT(Y1032,\"ddd\")","v":"zo"},"MD",{"$f":"IFERROR(HLOOKUP(Y1032,[1]DATA!$A$1:$NB$5,4,0),\"\")","v":"-"},null,null,null,null,{"$f":"VLOOKUP(Y1032,[1]SRI!$S$4:$Z$368,3,0)","v":0},"","",""]
["49zoZND",{"$f":"VLOOKUP($AA1034,DATA!$B$3:$E$6,2,0)","v":"00:00:00"},{"$f":"VLOOKUP($AA1034,DATA!$B$3:$E$6,3,0)","v":"00:00:00"},{"$f":"VLOOKUP($AA1034,DATA!$B$3:$E$6,4,0)","v":3.125E-2},-3.125E-2,-3.125E-2,{"$f":"DATA!$C$9","v":0.89},{"$f":"DATA!$C$10","v":64},1,-42.1875,-42.1875,0,"","",0,"","",0,"","","","",null,{"$f":"X1024","v":49},null,{"$f":"TEXT(Y1032,\"ddd\")","v":"zo"},"ZND",{"$f":"IFERROR(HLOOKUP(Y1032,[1]DATA!$A$1:$NB$5,5,0),\"\")","v":"-"},null,null,null,null,{"$f":"VLOOKUP(Y1032,[1]SRI!$S$4:$Z$368,4,0)","v":0},"","",""]
["50maDD",{"$f":"VLOOKUP($AA1035,DATA!$B$3:$E$6,2,0)","v":"06:30:00"},{"$f":"VLOOKUP($AA1035,DATA!$B$3:$E$6,3,0)","v":"14:30:00"},{"$f":"VLOOKUP($AA1035,DATA!$B$3:$E$6,4,0)","v":3.125E-2},0.30208333333333331,0.30208333333333331,{"$f":"DATA!$C$9","v":0.89},{"$f":"DATA!$C$10","v":64},1,407.8125,407.8125,0,"","",{"$f":"TIME(INT($AD1035/60),INT(MOD($AD1035,60)/1),0)","v":0},"","",0,"","","","",null,{"$f":"X1045","v":50},"2018-12-10",{"$f":"TEXT(Y1035,\"ddd\")","v":"ma"},"DD",{"$f":"IFERROR(HLOOKUP(Y1035,[1]DATA!$A$1:$NB$5,3,0),\"\")","v":"D3"},null,null,null,null,{"$f":"VLOOKUP(Y1035,[1]SRI!$S$4:$Z$368,2,0)","v":0},"","","",{"$f":"IF(SUMIF(S1035:S1055,\">0\",K1035:K1055)=0,\"\",SUMIF(S1035:S1055,\">0\",K1035:K1055))","v":""},{"$f":"IF(SUM(S1035:S1055)=0,\"\",SUM(S1035:S1055))","v":""},{"$f":"IFERROR(AL1035/AK1035,\"-\")","v":"-"},{"$f":"IF(SUM(M1035:M1055)=0,\"0\",SUM(M1035:M1055))","v":"0"},{"$f":"IFERROR(AN1035/AK1035,\"-\")","v":"-"},{"$f":"IF(SUM(P1035:P1055)=0,0,SUM(P1035:P1055))","v":0},{"$f":"IFERROR(AP1035/AK1035,\"-\")","v":"-"},{"$f":"IFERROR(AVERAGE(AJ1035:AJ1055),\"-\")","v":"-"},{"$f":"IFERROR(SUMIF($AB1035:$AB1055,AS$5,$AJ1035:$AJ1055)/COUNTIFS($AB1035:$AB1055,AS$5,$AJ1035:$AJ1055,\">0\"),\"\")","v":""},"","",{"$f":"IFERROR((AK1035-AL1035-AN1035-AP1035),\"-\")","v":"-"},{"$f":"IFERROR((1-AM1035-AO1035-AQ1035), \"-\")","v":"-"},{"$f":"IFERROR((AV1035*$AE$2)/60,\"-\")","v":"-"},{"$f":"IFERROR(SUM(AG1035:AG1055),\"\")","v":0}]
["50maMD",{"$f":"VLOOKUP($AA1036,DATA!$B$3:$E$6,2,0)","v":"14:30:00"},{"$f":"VLOOKUP($AA1036,DATA!$B$3:$E$6,3,0)","v":"22:30:00"},{"$f":"VLOOKUP($AA1036,DATA!$B$3:$E$6,4,0)","v":3.125E-2},0.30208333333333337,0.30208333333333337,{"$f":"DATA!$C$9","v":0.89},{"$f":"DATA!$C$10","v":64},1,407.81250000000006,407.81250000000006,0,"","",{"$f":"TIME(INT(AD1036/60),INT(MOD(AD1036,60)/1),0)","v":0},"","",0,"","","","",null,{"$f":"X1045","v":50},null,{"$f":"TEXT(Y1035,\"ddd\")","v":"ma"},"MD",{"$f":"IFERROR(HLOOKUP(Y1035,[1]DATA!$A$1:$NB$5,4,0),\"\")","v":"D2"},null,null,null,null,{"$f":"VLOOKUP(Y1035,[1]SRI!$S$4:$Z$368,3,0)","v":0},"","",""]
["50maND",{"$f":"VLOOKUP($AA1037,DATA!$B$3:$E$6,2,0)","v":"22:30:00"},{"$f":"VLOOKUP($AA1037,DATA!$B$3:$E$6,3,0)","v":"06:30:00"},{"$f":"VLOOKUP($AA1037,DATA!$B$3:$E$6,4,0)","v":3.125E-2},0.30208333333333326,0.30208333333333326,{"$f":"DATA!$C$9","v":0.89},{"$f":"DATA!$C$10","v":64},1,407.81249999999989,407.81249999999989,0,"","",0,"","",0,"","","","",null,{"$f":"X1045","v":50},null,{"$f":"TEXT(Y1035,\"ddd\")","v":"ma"},"ND",{"$f":"IFERROR(HLOOKUP(Y1035,[1]DATA!$A$1:$NB$5,5,0),\"\")","v":"D1"},null,null,null,null,{"$f":"VLOOKUP(Y1035,[1]SRI!$S$4:$Z$368,4,0)","v":0},"","",""]
["50diDD",{"$f":"VLOOKUP($AA1038,DATA!$B$3:$E$6,2,0)","v":"06:30:00"},{"$f":"VLOOKUP($AA1038,DATA!$B$3:$E$6,3,0)","v":"14:30:00"},{"$f":"VLOOKUP($AA1038,DATA!$B$3:$E$6,4,0)","v":3.125E-2},0.30208333333333331,0.30208333333333331,{"$f":"DATA!$C$9","v":0.89},{"$f":"DATA!$C$10","v":64},1,407.8125,407.8125,0,"","",0,"","",0,"","","","",null,{"$f":"X1045","v":50},"2018-12-11",{"$f":"TEXT(Y1038,\"ddd\")","v":"di"},"DD",{"$f":"IFERROR(HLOOKUP(Y1038,[1]DATA!$A$1:$NB$5,3,0),\"\")","v":"D3"},null,null,null,null,{"$f":"VLOOKUP(Y1038,[1]SRI!$S$4:$Z$368,2,0)","v":0},"","",""]
["50diMD",{"$f":"VLOOKUP($AA1039,DATA!$B$3:$E$6,2,0)","v":"14:30:00"},{"$f":"VLOOKUP($AA1039,DATA!$B$3:$E$6,3,0)","v":"22:30:00"},{"$f":"VLOOKUP($AA1039,DATA!$B$3:$E$6,4,0)","v":3.125E-2},0.30208333333333337,0.30208333333333337,{"$f":"DATA!$C$9","v":0.89},{"$f":"DATA!$C$10","v":64},1,407.81250000000006,407.81250000000006,0,"","",0,"","",0,"","","","",null,{"$f":"X1045","v":50},null,{"$f":"TEXT(Y1038,\"ddd\")","v":"di"},"MD",{"$f":"IFERROR(HLOOKUP(Y1038,[1]DATA!$A$1:$NB$5,4,0),\"\")","v":"D2"},null,null,null,null,{"$f":"VLOOKUP(Y1038,[1]SRI!$S$4:$Z$368,3,0)","v":0},"","",""]
["50diND",{"$f":"VLOOKUP($AA1040,DATA!$B$3:$E$6,2,0)","v":"22:30:00"},{"$f":"VLOOKUP($AA1040,DATA!$B$3:$E$6,3,0)","v":"06:30:00"},{"$f":"VLOOKUP($AA1040,DATA!$B$3:$E$6,4,0)","v":3.125E-2},0.30208333333333326,0.30208333333333326,{"$f":"DATA!$C$9","v":0.89},{"$f":"DATA!$C$10","v":64},1,407.81249999999989,407.81249999999989,0,"","",0,"","",0,"","","","",null,{"$f":"X1045","v":50},null,{"$f":"TEXT(Y1038,\"ddd\")","v":"di"},"ND",{"$f":"IFERROR(HLOOKUP(Y1038,[1]DATA!$A$1:$NB$5,5,0),\"\")","v":"D1"},null,null,null,null,{"$f":"VLOOKUP(Y1038,[1]SRI!$S$4:$Z$368,4,0)","v":0},"","",""]
["50woDD",{"$f":"VLOOKUP($AA1041,DATA!$B$3:$E$6,2,0)","v":"06:30:00"},{"$f":"VLOOKUP($AA1041,DATA!$B$3:$E$6,3,0)","v":"14:30:00"},{"$f":"VLOOKUP($AA1041,DATA!$B$3:$E$6,4,0)","v":3.125E-2},0.30208333333333331,0.30208333333333331,{"$f":"DATA!$C$9","v":0.89},{"$f":"DATA!$C$10","v":64},1,407.8125,407.8125,0,"","",0,"","",0,"","","","",null,{"$f":"X1045","v":50},"2018-12-12",{"$f":"TEXT(Y1041,\"ddd\")","v":"wo"},"DD",{"$f":"IFERROR(HLOOKUP(Y1041,[1]DATA!$A$1:$NB$5,3,0),\"\")","v":"D3"},null,null,null,null,{"$f":"VLOOKUP(Y1041,[1]SRI!$S$4:$Z$368,2,0)","v":0},"","",""]
["50woMD",{"$f":"VLOOKUP($AA1042,DATA!$B$3:$E$6,2,0)","v":"14:30:00"},{"$f":"VLOOKUP($AA1042,DATA!$B$3:$E$6,3,0)","v":"22:30:00"},{"$f":"VLOOKUP($AA1042,DATA!$B$3:$E$6,4,0)","v":3.125E-2},0.30208333333333337,0.30208333333333337,{"$f":"DATA!$C$9","v":0.89},{"$f":"DATA!$C$10","v":64},1,407.81250000000006,407.81250000000006,0,"","",0,"","",0,"","","","",null,{"$f":"X1045","v":50},null,{"$f":"TEXT(Y1041,\"ddd\")","v":"wo"},"MD",{"$f":"IFERROR(HLOOKUP(Y1041,[1]DATA!$A$1:$NB$5,4,0),\"\")","v":"D2"},null,null,null,null,{"$f":"VLOOKUP(Y1041,[1]SRI!$S$4:$Z$368,3,0)","v":0},"","",""]
["50woND",{"$f":"VLOOKUP($AA1043,DATA!$B$3:$E$6,2,0)","v":"22:30:00"},{"$f":"VLOOKUP($AA1043,DATA!$B$3:$E$6,3,0)","v":"06:30:00"},{"$f":"VLOOKUP($AA1043,DATA!$B$3:$E$6,4,0)","v":3.125E-2},0.30208333333333326,0.30208333333333326,{"$f":"DATA!$C$9","v":0.89},{"$f":"DATA!$C$10","v":64},1,407.81249999999989,407.81249999999989,0,"","",0,"","",0,"","","","",null,{"$f":"X1045","v":50},null,{"$f":"TEXT(Y1041,\"ddd\")","v":"wo"},"ND",{"$f":"IFERROR(HLOOKUP(Y1041,[1]DATA!$A$1:$NB$5,5,0),\"\")","v":"D1"},null,null,null,null,{"$f":"VLOOKUP(Y1041,[1]SRI!$S$4:$Z$368,4,0)","v":0},"","",""]
["50doDD",{"$f":"VLOOKUP($AA1044,DATA!$B$3:$E$6,2,0)","v":"06:30:00"},{"$f":"VLOOKUP($AA1044,DATA!$B$3:$E$6,3,0)","v":"14:30:00"},{"$f":"VLOOKUP($AA1044,DATA!$B$3:$E$6,4,0)","v":3.125E-2},0.30208333333333331,0.30208333333333331,{"$f":"DATA!$C$9","v":0.89},{"$f":"DATA!$C$10","v":64},1,407.8125,407.8125,0,"","",0,"","",0,"","","","",null,{"$f":"X1045","v":50},"2018-12-13",{"$f":"TEXT(Y1044,\"ddd\")","v":"do"},"DD",{"$f":"IFERROR(HLOOKUP(Y1044,[1]DATA!$A$1:$NB$5,3,0),\"\")","v":"D3"},null,null,null,null,{"$f":"VLOOKUP(Y1044,[1]SRI!$S$4:$Z$368,2,0)","v":0},"","",""]
["50doMD",{"$f":"VLOOKUP($AA1045,DATA!$B$3:$E$6,2,0)","v":"14:30:00"},{"$f":"VLOOKUP($AA1045,DATA!$B$3:$E$6,3,0)","v":"22:30:00"},{"$f":"VLOOKUP($AA1045,DATA!$B$3:$E$6,4,0)","v":3.125E-2},0.30208333333333337,0.30208333333333337,{"$f":"DATA!$C$9","v":0.89},{"$f":"DATA!$C$10","v":64},1,407.81250000000006,407.81250000000006,0,"","",0,"","",0,"","","","",null,{"$f":"WEEKNUM($Y1035)","v":50},null,{"$f":"TEXT(Y1044,\"ddd\")","v":"do"},"MD",{"$f":"IFERROR(HLOOKUP(Y1044,[1]DATA!$A$1:$NB$5,4,0),\"\")","v":"D2"},null,null,null,null,{"$f":"VLOOKUP(Y1044,[1]SRI!$S$4:$Z$368,3,0)","v":0},"","",""]
["50doND",{"$f":"VLOOKUP($AA1046,DATA!$B$3:$E$6,2,0)","v":"22:30:00"},{"$f":"VLOOKUP($AA1046,DATA!$B$3:$E$6,3,0)","v":"06:30:00"},{"$f":"VLOOKUP($AA1046,DATA!$B$3:$E$6,4,0)","v":3.125E-2},0.30208333333333326,0.30208333333333326,{"$f":"DATA!$C$9","v":0.89},{"$f":"DATA!$C$10","v":64},1,407.81249999999989,407.81249999999989,0,"","",0,"","",0,"","","","",null,{"$f":"X1045","v":50},null,{"$f":"TEXT(Y1044,\"ddd\")","v":"do"},"ND",{"$f":"IFERROR(HLOOKUP(Y1044,[1]DATA!$A$1:$NB$5,5,0),\"\")","v":"D1"},null,null,null,null,{"$f":"VLOOKUP(Y1044,[1]SRI!$S$4:$Z$368,4,0)","v":0},"","",""]
["50vrDD",{"$f":"VLOOKUP($AA1047,DATA!$B$3:$E$6,2,0)","v":"06:30:00"},{"$f":"VLOOKUP($AA1047,DATA!$B$3:$E$6,3,0)","v":"14:30:00"},{"$f":"VLOOKUP($AA1047,DATA!$B$3:$E$6,4,0)","v":3.125E-2},0.30208333333333331,0.30208333333333331,{"$f":"DATA!$C$9","v":0.89},{"$f":"DATA!$C$10","v":64},1,407.8125,407.8125,0,"","",0,"","",0,"","","","",null,{"$f":"X1045","v":50},"2018-12-14",{"$f":"TEXT(Y1047,\"ddd\")","v":"vr"},"DD",{"$f":"IFERROR(HLOOKUP(Y1047,[1]DATA!$A$1:$NB$5,3,0),\"\")","v":"D3"},null,null,null,null,{"$f":"VLOOKUP(Y1047,[1]SRI!$S$4:$Z$368,2,0)","v":0},"","",""]
["50vrMD",{"$f":"VLOOKUP($AA1048,DATA!$B$3:$E$6,2,0)","v":"14:30:00"},{"$f":"VLOOKUP($AA1048,DATA!$B$3:$E$6,3,0)","v":"22:30:00"},{"$f":"VLOOKUP($AA1048,DATA!$B$3:$E$6,4,0)","v":3.125E-2},0.30208333333333337,0.30208333333333337,{"$f":"DATA!$C$9","v":0.89},{"$f":"DATA!$C$10","v":64},1,407.81250000000006,407.81250000000006,0,"","",0,"","",0,"","","","",null,{"$f":"X1045","v":50},null,{"$f":"TEXT(Y1047,\"ddd\")","v":"vr"},"MD",{"$f":"IFERROR(HLOOKUP(Y1047,[1]DATA!$A$1:$NB$5,4,0),\"\")","v":"D2"},null,null,null,null,{"$f":"VLOOKUP(Y1047,[1]SRI!$S$4:$Z$368,3,0)","v":0},"","",""]
["50vrND",{"$f":"VLOOKUP($AA1049,DATA!$B$3:$E$6,2,0)","v":"22:30:00"},{"$f":"VLOOKUP($AA1049,DATA!$B$3:$E$6,3,0)","v":"06:30:00"},{"$f":"VLOOKUP($AA1049,DATA!$B$3:$E$6,4,0)","v":3.125E-2},0.30208333333333326,0.30208333333333326,{"$f":"DATA!$C$9","v":0.89},{"$f":"DATA!$C$10","v":64},1,407.81249999999989,407.81249999999989,0,"","",0,"","",0,"","","","",null,{"$f":"X1045","v":50},null,{"$f":"TEXT(Y1047,\"ddd\")","v":"vr"},"ND",{"$f":"IFERROR(HLOOKUP(Y1047,[1]DATA!$A$1:$NB$5,5,0),\"\")","v":"D2"},null,null,null,null,{"$f":"VLOOKUP(Y1047,[1]SRI!$S$4:$Z$368,4,0)","v":0},"","",""]
["50zaDD",{"$f":"VLOOKUP($AA1050,DATA!$B$3:$E$6,2,0)","v":"06:30:00"},{"$f":"VLOOKUP($AA1050,DATA!$B$3:$E$6,3,0)","v":"14:30:00"},{"$f":"VLOOKUP($AA1050,DATA!$B$3:$E$6,4,0)","v":3.125E-2},0.30208333333333331,0.30208333333333331,{"$f":"DATA!$C$9","v":0.89},{"$f":"DATA!$C$10","v":64},1,407.8125,407.8125,0,"","",0,"","",0,"","","","",null,{"$f":"X1045","v":50},"2018-12-15",{"$f":"TEXT(Y1050,\"ddd\")","v":"za"},"DD",{"$f":"IFERROR(HLOOKUP(Y1050,[1]DATA!$A$1:$NB$5,3,0),\"\")","v":"D3"},null,null,null,null,{"$f":"VLOOKUP(Y1050,[1]SRI!$S$4:$Z$368,2,0)","v":0},"","",""]
["50zaMD",{"$f":"VLOOKUP($AA1051,DATA!$B$3:$E$6,2,0)","v":"14:30:00"},{"$f":"VLOOKUP($AA1051,DATA!$B$3:$E$6,3,0)","v":"22:30:00"},{"$f":"VLOOKUP($AA1051,DATA!$B$3:$E$6,4,0)","v":3.125E-2},0.30208333333333337,0.30208333333333337,{"$f":"DATA!$C$9","v":0.89},{"$f":"DATA!$C$10","v":64},1,407.81250000000006,407.81250000000006,0,"","",0,"","",0,"","","","",null,{"$f":"X1045","v":50},null,{"$f":"TEXT(Y1050,\"ddd\")","v":"za"},"MD",{"$f":"IFERROR(HLOOKUP(Y1050,[1]DATA!$A$1:$NB$5,4,0),\"\")","v":"-"},null,null,null,null,{"$f":"VLOOKUP(Y1050,[1]SRI!$S$4:$Z$368,3,0)","v":0},"","",""]
["50zaND",{"$f":"VLOOKUP($AA1052,DATA!$B$3:$E$6,2,0)","v":"22:30:00"},{"$f":"VLOOKUP($AA1052,DATA!$B$3:$E$6,3,0)","v":"06:30:00"},{"$f":"VLOOKUP($AA1052,DATA!$B$3:$E$6,4,0)","v":3.125E-2},{"$f":"(C1052-B1052+(B1052>C1052))-D1052","v":0.30208333333333326},{"$f":"E1052-O1052-L1052","v":0.30208333333333326},{"$f":"DATA!$C$9","v":0.89},{"$f":"DATA!$C$10","v":64},1,407.81249999999989,407.81249999999989,0,"","",0,"","",0,"","","","",null,{"$f":"X1045","v":50},null,{"$f":"TEXT(Y1050,\"ddd\")","v":"za"},"ND",{"$f":"IFERROR(HLOOKUP(Y1050,[1]DATA!$A$1:$NB$5,5,0),\"\")","v":"-"},null,null,null,null,{"$f":"VLOOKUP(Y1050,[1]SRI!$S$4:$Z$368,4,0)","v":0},"","",""]
["50zoDD",{"$f":"VLOOKUP($AA1053,DATA!$B$3:$E$6,2,0)","v":"06:30:00"},{"$f":"VLOOKUP($AA1053,DATA!$B$3:$E$6,3,0)","v":"14:30:00"},{"$f":"VLOOKUP($AA1053,DATA!$B$3:$E$6,4,0)","v":3.125E-2},0.30208333333333331,0.30208333333333331,{"$f":"DATA!$C$9","v":0.89},{"$f":"DATA!$C$10","v":64},1,407.8125,407.8125,0,"","",0,"","",0,"","","","",null,{"$f":"X1045","v":50},"2018-12-16",{"$f":"TEXT(Y1053,\"ddd\")","v":"zo"},"DD",{"$f":"IFERROR(HLOOKUP(Y1053,[1]DATA!$A$1:$NB$5,3,0),\"\")","v":"-"},null,null,null,null,{"$f":"VLOOKUP(Y1053,[1]SRI!$S$4:$Z$368,2,0)","v":0},"","",""]
["50zoMD",{"$f":"VLOOKUP($AA1054,DATA!$B$3:$E$6,2,0)","v":"14:30:00"},{"$f":"VLOOKUP($AA1054,DATA!$B$3:$E$6,3,0)","v":"22:30:00"},{"$f":"VLOOKUP($AA1054,DATA!$B$3:$E$6,4,0)","v":3.125E-2},0.30208333333333337,0.30208333333333337,{"$f":"DATA!$C$9","v":0.89},{"$f":"DATA!$C$10","v":64},1,407.81250000000006,407.81250000000006,0,"","",0,"","",0,"","","","",null,{"$f":"X1045","v":50},null,{"$f":"TEXT(Y1053,\"ddd\")","v":"zo"},"MD",{"$f":"IFERROR(HLOOKUP(Y1053,[1]DATA!$A$1:$NB$5,4,0),\"\")","v":"-"},null,null,null,null,{"$f":"VLOOKUP(Y1053,[1]SRI!$S$4:$Z$368,3,0)","v":0},"","",""]
["50zoZND",{"$f":"VLOOKUP($AA1055,DATA!$B$3:$E$6,2,0)","v":"00:00:00"},{"$f":"VLOOKUP($AA1055,DATA!$B$3:$E$6,3,0)","v":"00:00:00"},{"$f":"VLOOKUP($AA1055,DATA!$B$3:$E$6,4,0)","v":3.125E-2},-3.125E-2,-3.125E-2,{"$f":"DATA!$C$9","v":0.89},{"$f":"DATA!$C$10","v":64},1,-42.1875,-42.1875,0,"","",0,"","",0,"","","","",null,{"$f":"X1045","v":50},null,{"$f":"TEXT(Y1053,\"ddd\")","v":"zo"},"ZND",{"$f":"IFERROR(HLOOKUP(Y1053,[1]DATA!$A$1:$NB$5,5,0),\"\")","v":"-"},null,null,null,null,{"$f":"VLOOKUP(Y1053,[1]SRI!$S$4:$Z$368,4,0)","v":0},"","",""]
["51maDD",{"$f":"VLOOKUP($AA1056,DATA!$B$3:$E$6,2,0)","v":"06:30:00"},{"$f":"VLOOKUP($AA1056,DATA!$B$3:$E$6,3,0)","v":"14:30:00"},{"$f":"VLOOKUP($AA1056,DATA!$B$3:$E$6,4,0)","v":3.125E-2},0.30208333333333331,0.30208333333333331,{"$f":"DATA!$C$9","v":0.89},{"$f":"DATA!$C$10","v":64},1,407.8125,407.8125,0,"","",{"$f":"TIME(INT($AD1056/60),INT(MOD($AD1056,60)/1),0)","v":0},"","",0,"","","","",null,{"$f":"X1066","v":51},"2018-12-17",{"$f":"TEXT(Y1056,\"ddd\")","v":"ma"},"DD",{"$f":"IFERROR(HLOOKUP(Y1056,[1]DATA!$A$1:$NB$5,3,0),\"\")","v":"D2"},null,null,null,null,{"$f":"VLOOKUP(Y1056,[1]SRI!$S$4:$Z$368,2,0)","v":0},"","","",{"$f":"IF(SUMIF(S1056:S1076,\">0\",K1056:K1076)=0,\"\",SUMIF(S1056:S1076,\">0\",K1056:K1076))","v":""},{"$f":"IF(SUM(S1056:S1076)=0,\"\",SUM(S1056:S1076))","v":""},{"$f":"IFERROR(AL1056/AK1056,\"-\")","v":"-"},{"$f":"IF(SUM(M1056:M1076)=0,\"0\",SUM(M1056:M1076))","v":"0"},{"$f":"IFERROR(AN1056/AK1056,\"-\")","v":"-"},{"$f":"IF(SUM(P1056:P1076)=0,0,SUM(P1056:P1076))","v":0},{"$f":"IFERROR(AP1056/AK1056,\"-\")","v":"-"},{"$f":"IFERROR(AVERAGE(AJ1056:AJ1076),\"-\")","v":"-"},{"$f":"IFERROR(SUMIF($AB1056:$AB1076,AS$5,$AJ1056:$AJ1076)/COUNTIFS($AB1056:$AB1076,AS$5,$AJ1056:$AJ1076,\">0\"),\"\")","v":""},"","",{"$f":"IFERROR((AK1056-AL1056-AN1056-AP1056),\"-\")","v":"-"},{"$f":"IFERROR((1-AM1056-AO1056-AQ1056), \"-\")","v":"-"},{"$f":"IFERROR((AV1056*$AE$2)/60,\"-\")","v":"-"},{"$f":"IFERROR(SUM(AG1056:AG1076),\"\")","v":0}]
["51maMD",{"$f":"VLOOKUP($AA1057,DATA!$B$3:$E$6,2,0)","v":"14:30:00"},{"$f":"VLOOKUP($AA1057,DATA!$B$3:$E$6,3,0)","v":"22:30:00"},{"$f":"VLOOKUP($AA1057,DATA!$B$3:$E$6,4,0)","v":3.125E-2},0.30208333333333337,0.30208333333333337,{"$f":"DATA!$C$9","v":0.89},{"$f":"DATA!$C$10","v":64},1,407.81250000000006,407.81250000000006,0,"","",{"$f":"TIME(INT(AD1057/60),INT(MOD(AD1057,60)/1),0)","v":0},"","",0,"","","","",null,{"$f":"X1066","v":51},null,{"$f":"TEXT(Y1056,\"ddd\")","v":"ma"},"MD",{"$f":"IFERROR(HLOOKUP(Y1056,[1]DATA!$A$1:$NB$5,4,0),\"\")","v":"D1"},null,null,null,null,{"$f":"VLOOKUP(Y1056,[1]SRI!$S$4:$Z$368,3,0)","v":0},"","",""]
["51maND",{"$f":"VLOOKUP($AA1058,DATA!$B$3:$E$6,2,0)","v":"22:30:00"},{"$f":"VLOOKUP($AA1058,DATA!$B$3:$E$6,3,0)","v":"06:30:00"},{"$f":"VLOOKUP($AA1058,DATA!$B$3:$E$6,4,0)","v":3.125E-2},0.30208333333333326,0.30208333333333326,{"$f":"DATA!$C$9","v":0.89},{"$f":"DATA!$C$10","v":64},1,407.81249999999989,407.81249999999989,0,"","",0,"","",0,"","","","",null,{"$f":"X1066","v":51},null,{"$f":"TEXT(Y1056,\"ddd\")","v":"ma"},"ND",{"$f":"IFERROR(HLOOKUP(Y1056,[1]DATA!$A$1:$NB$5,5,0),\"\")","v":"D3"},null,null,null,null,{"$f":"VLOOKUP(Y1056,[1]SRI!$S$4:$Z$368,4,0)","v":0},"","",""]
["51diDD",{"$f":"VLOOKUP($AA1059,DATA!$B$3:$E$6,2,0)","v":"06:30:00"},{"$f":"VLOOKUP($AA1059,DATA!$B$3:$E$6,3,0)","v":"14:30:00"},{"$f":"VLOOKUP($AA1059,DATA!$B$3:$E$6,4,0)","v":3.125E-2},0.30208333333333331,0.30208333333333331,{"$f":"DATA!$C$9","v":0.89},{"$f":"DATA!$C$10","v":64},1,407.8125,407.8125,0,"","",0,"","",0,"","","","",null,{"$f":"X1066","v":51},"2018-12-18",{"$f":"TEXT(Y1059,\"ddd\")","v":"di"},"DD",{"$f":"IFERROR(HLOOKUP(Y1059,[1]DATA!$A$1:$NB$5,3,0),\"\")","v":"D2"},null,null,null,null,{"$f":"VLOOKUP(Y1059,[1]SRI!$S$4:$Z$368,2,0)","v":0},"","",""]
["51diMD",{"$f":"VLOOKUP($AA1060,DATA!$B$3:$E$6,2,0)","v":"14:30:00"},{"$f":"VLOOKUP($AA1060,DATA!$B$3:$E$6,3,0)","v":"22:30:00"},{"$f":"VLOOKUP($AA1060,DATA!$B$3:$E$6,4,0)","v":3.125E-2},0.30208333333333337,0.30208333333333337,{"$f":"DATA!$C$9","v":0.89},{"$f":"DATA!$C$10","v":64},1,407.81250000000006,407.81250000000006,0,"","",0,"","",0,"","","","",null,{"$f":"X1066","v":51},null,{"$f":"TEXT(Y1059,\"ddd\")","v":"di"},"MD",{"$f":"IFERROR(HLOOKUP(Y1059,[1]DATA!$A$1:$NB$5,4,0),\"\")","v":"D1"},null,null,null,null,{"$f":"VLOOKUP(Y1059,[1]SRI!$S$4:$Z$368,3,0)","v":0},"","",""]
["51diND",{"$f":"VLOOKUP($AA1061,DATA!$B$3:$E$6,2,0)","v":"22:30:00"},{"$f":"VLOOKUP($AA1061,DATA!$B$3:$E$6,3,0)","v":"06:30:00"},{"$f":"VLOOKUP($AA1061,DATA!$B$3:$E$6,4,0)","v":3.125E-2},0.30208333333333326,0.30208333333333326,{"$f":"DATA!$C$9","v":0.89},{"$f":"DATA!$C$10","v":64},1,407.81249999999989,407.81249999999989,0,"","",0,"","",0,"","","","",null,{"$f":"X1066","v":51},null,{"$f":"TEXT(Y1059,\"ddd\")","v":"di"},"ND",{"$f":"IFERROR(HLOOKUP(Y1059,[1]DATA!$A$1:$NB$5,5,0),\"\")","v":"D3"},null,null,null,null,{"$f":"VLOOKUP(Y1059,[1]SRI!$S$4:$Z$368,4,0)","v":0},"","",""]
["51woDD",{"$f":"VLOOKUP($AA1062,DATA!$B$3:$E$6,2,0)","v":"06:30:00"},{"$f":"VLOOKUP($AA1062,DATA!$B$3:$E$6,3,0)","v":"14:30:00"},{"$f":"VLOOKUP($AA1062,DATA!$B$3:$E$6,4,0)","v":3.125E-2},0.30208333333333331,0.30208333333333331,{"$f":"DATA!$C$9","v":0.89},{"$f":"DATA!$C$10","v":64},1,407.8125,407.8125,0,"","",0,"","",0,"","","","",null,{"$f":"X1066","v":51},"2018-12-19",{"$f":"TEXT(Y1062,\"ddd\")","v":"wo"},"DD",{"$f":"IFERROR(HLOOKUP(Y1062,[1]DATA!$A$1:$NB$5,3,0),\"\")","v":"D2"},null,null,null,null,{"$f":"VLOOKUP(Y1062,[1]SRI!$S$4:$Z$368,2,0)","v":0},"","",""]
["51woMD",{"$f":"VLOOKUP($AA1063,DATA!$B$3:$E$6,2,0)","v":"14:30:00"},{"$f":"VLOOKUP($AA1063,DATA!$B$3:$E$6,3,0)","v":"22:30:00"},{"$f":"VLOOKUP($AA1063,DATA!$B$3:$E$6,4,0)","v":3.125E-2},0.30208333333333337,0.30208333333333337,{"$f":"DATA!$C$9","v":0.89},{"$f":"DATA!$C$10","v":64},1,407.81250000000006,407.81250000000006,0,"","",0,"","",0,"","","","",null,{"$f":"X1066","v":51},null,{"$f":"TEXT(Y1062,\"ddd\")","v":"wo"},"MD",{"$f":"IFERROR(HLOOKUP(Y1062,[1]DATA!$A$1:$NB$5,4,0),\"\")","v":"D1"},null,null,null,null,{"$f":"VLOOKUP(Y1062,[1]SRI!$S$4:$Z$368,3,0)","v":0},"","",""]
["51woND",{"$f":"VLOOKUP($AA1064,DATA!$B$3:$E$6,2,0)","v":"22:30:00"},{"$f":"VLOOKUP($AA1064,DATA!$B$3:$E$6,3,0)","v":"06:30:00"},{"$f":"VLOOKUP($AA1064,DATA!$B$3:$E$6,4,0)","v":3.125E-2},0.30208333333333326,0.30208333333333326,{"$f":"DATA!$C$9","v":0.89},{"$f":"DATA!$C$10","v":64},1,407.81249999999989,407.81249999999989,0,"","",0,"","",0,"","","","",null,{"$f":"X1066","v":51},null,{"$f":"TEXT(Y1062,\"ddd\")","v":"wo"},"ND",{"$f":"IFERROR(HLOOKUP(Y1062,[1]DATA!$A$1:$NB$5,5,0),\"\")","v":"D3"},null,null,null,null,{"$f":"VLOOKUP(Y1062,[1]SRI!$S$4:$Z$368,4,0)","v":0},"","",""]
["51doDD",{"$f":"VLOOKUP($AA1065,DATA!$B$3:$E$6,2,0)","v":"06:30:00"},{"$f":"VLOOKUP($AA1065,DATA!$B$3:$E$6,3,0)","v":"14:30:00"},{"$f":"VLOOKUP($AA1065,DATA!$B$3:$E$6,4,0)","v":3.125E-2},0.30208333333333331,0.30208333333333331,{"$f":"DATA!$C$9","v":0.89},{"$f":"DATA!$C$10","v":64},1,407.8125,407.8125,0,"","",0,"","",0,"","","","",null,{"$f":"X1066","v":51},"2018-12-20",{"$f":"TEXT(Y1065,\"ddd\")","v":"do"},"DD",{"$f":"IFERROR(HLOOKUP(Y1065,[1]DATA!$A$1:$NB$5,3,0),\"\")","v":"D2"},null,null,null,null,{"$f":"VLOOKUP(Y1065,[1]SRI!$S$4:$Z$368,2,0)","v":0},"","",""]
["51doMD",{"$f":"VLOOKUP($AA1066,DATA!$B$3:$E$6,2,0)","v":"14:30:00"},{"$f":"VLOOKUP($AA1066,DATA!$B$3:$E$6,3,0)","v":"22:30:00"},{"$f":"VLOOKUP($AA1066,DATA!$B$3:$E$6,4,0)","v":3.125E-2},0.30208333333333337,0.30208333333333337,{"$f":"DATA!$C$9","v":0.89},{"$f":"DATA!$C$10","v":64},1,407.81250000000006,407.81250000000006,0,"","",0,"","",0,"","","","",null,{"$f":"WEEKNUM($Y1056)","v":51},null,{"$f":"TEXT(Y1065,\"ddd\")","v":"do"},"MD",{"$f":"IFERROR(HLOOKUP(Y1065,[1]DATA!$A$1:$NB$5,4,0),\"\")","v":"D1"},null,null,null,null,{"$f":"VLOOKUP(Y1065,[1]SRI!$S$4:$Z$368,3,0)","v":0},"","",""]
["51doND",{"$f":"VLOOKUP($AA1067,DATA!$B$3:$E$6,2,0)","v":"22:30:00"},{"$f":"VLOOKUP($AA1067,DATA!$B$3:$E$6,3,0)","v":"06:30:00"},{"$f":"VLOOKUP($AA1067,DATA!$B$3:$E$6,4,0)","v":3.125E-2},0.30208333333333326,0.30208333333333326,{"$f":"DATA!$C$9","v":0.89},{"$f":"DATA!$C$10","v":64},1,407.81249999999989,407.81249999999989,0,"","",0,"","",0,"","","","",null,{"$f":"X1066","v":51},null,{"$f":"TEXT(Y1065,\"ddd\")","v":"do"},"ND",{"$f":"IFERROR(HLOOKUP(Y1065,[1]DATA!$A$1:$NB$5,5,0),\"\")","v":"D3"},null,null,null,null,{"$f":"VLOOKUP(Y1065,[1]SRI!$S$4:$Z$368,4,0)","v":0},"","",""]
["51vrDD",{"$f":"VLOOKUP($AA1068,DATA!$B$3:$E$6,2,0)","v":"06:30:00"},{"$f":"VLOOKUP($AA1068,DATA!$B$3:$E$6,3,0)","v":"14:30:00"},{"$f":"VLOOKUP($AA1068,DATA!$B$3:$E$6,4,0)","v":3.125E-2},0.30208333333333331,0.30208333333333331,{"$f":"DATA!$C$9","v":0.89},{"$f":"DATA!$C$10","v":64},1,407.8125,407.8125,0,"","",0,"","",0,"","","","",null,{"$f":"X1066","v":51},"2018-12-21",{"$f":"TEXT(Y1068,\"ddd\")","v":"vr"},"DD",{"$f":"IFERROR(HLOOKUP(Y1068,[1]DATA!$A$1:$NB$5,3,0),\"\")","v":"D2"},null,null,null,null,{"$f":"VLOOKUP(Y1068,[1]SRI!$S$4:$Z$368,2,0)","v":0},"","",""]
["51vrMD",{"$f":"VLOOKUP($AA1069,DATA!$B$3:$E$6,2,0)","v":"14:30:00"},{"$f":"VLOOKUP($AA1069,DATA!$B$3:$E$6,3,0)","v":"22:30:00"},{"$f":"VLOOKUP($AA1069,DATA!$B$3:$E$6,4,0)","v":3.125E-2},0.30208333333333337,0.30208333333333337,{"$f":"DATA!$C$9","v":0.89},{"$f":"DATA!$C$10","v":64},1,407.81250000000006,407.81250000000006,0,"","",0,"","",0,"","","","",null,{"$f":"X1066","v":51},null,{"$f":"TEXT(Y1068,\"ddd\")","v":"vr"},"MD",{"$f":"IFERROR(HLOOKUP(Y1068,[1]DATA!$A$1:$NB$5,4,0),\"\")","v":"D1"},null,null,null,null,{"$f":"VLOOKUP(Y1068,[1]SRI!$S$4:$Z$368,3,0)","v":0},"","",""]
["51vrND",{"$f":"VLOOKUP($AA1070,DATA!$B$3:$E$6,2,0)","v":"22:30:00"},{"$f":"VLOOKUP($AA1070,DATA!$B$3:$E$6,3,0)","v":"06:30:00"},{"$f":"VLOOKUP($AA1070,DATA!$B$3:$E$6,4,0)","v":3.125E-2},0.30208333333333326,0.30208333333333326,{"$f":"DATA!$C$9","v":0.89},{"$f":"DATA!$C$10","v":64},1,407.81249999999989,407.81249999999989,0,"","",0,"","",0,"","","","",null,{"$f":"X1066","v":51},null,{"$f":"TEXT(Y1068,\"ddd\")","v":"vr"},"ND",{"$f":"IFERROR(HLOOKUP(Y1068,[1]DATA!$A$1:$NB$5,5,0),\"\")","v":"D3"},null,null,null,null,{"$f":"VLOOKUP(Y1068,[1]SRI!$S$4:$Z$368,4,0)","v":0},"","",""]
["51zaDD",{"$f":"VLOOKUP($AA1071,DATA!$B$3:$E$6,2,0)","v":"06:30:00"},{"$f":"VLOOKUP($AA1071,DATA!$B$3:$E$6,3,0)","v":"14:30:00"},{"$f":"VLOOKUP($AA1071,DATA!$B$3:$E$6,4,0)","v":3.125E-2},0.30208333333333331,0.30208333333333331,{"$f":"DATA!$C$9","v":0.89},{"$f":"DATA!$C$10","v":64},1,407.8125,407.8125,0,"","",0,"","",0,"","","","",null,{"$f":"X1066","v":51},"2018-12-22",{"$f":"TEXT(Y1071,\"ddd\")","v":"za"},"DD",{"$f":"IFERROR(HLOOKUP(Y1071,[1]DATA!$A$1:$NB$5,3,0),\"\")","v":"D2"},null,null,null,null,{"$f":"VLOOKUP(Y1071,[1]SRI!$S$4:$Z$368,2,0)","v":0},"","",""]
[{"$f":"X1072&Z1072&AA1072","v":"51zaMD"},{"$f":"VLOOKUP($AA1072,DATA!$B$3:$E$6,2,0)","v":"14:30:00"},{"$f":"VLOOKUP($AA1072,DATA!$B$3:$E$6,3,0)","v":"22:30:00"},{"$f":"VLOOKUP($AA1072,DATA!$B$3:$E$6,4,0)","v":3.125E-2},0.30208333333333337,0.30208333333333337,{"$f":"DATA!$C$9","v":0.89},{"$f":"DATA!$C$10","v":64},1,407.81250000000006,407.81250000000006,0,"","",0,{"$f":"IF($O1072*86400/$H1072=0,\"\",$O1072*86400/$H1072)","v":""},"",0,"","","","",null,{"$f":"X1066","v":51},null,{"$f":"TEXT(Y1071,\"ddd\")","v":"za"},"MD",{"$f":"IFERROR(HLOOKUP(Y1071,[1]DATA!$A$1:$NB$5,4,0),\"\")","v":"-"},null,null,null,null,{"$f":"VLOOKUP(Y1071,[1]SRI!$S$4:$Z$368,3,0)","v":0},"","",""]
["51zaND",{"$f":"VLOOKUP($AA1073,DATA!$B$3:$E$6,2,0)","v":"22:30:00"},{"$f":"VLOOKUP($AA1073,DATA!$B$3:$E$6,3,0)","v":"06:30:00"},{"$f":"VLOOKUP($AA1073,DATA!$B$3:$E$6,4,0)","v":3.125E-2},0.30208333333333326,0.30208333333333326,{"$f":"DATA!$C$9","v":0.89},{"$f":"DATA!$C$10","v":64},1,407.81249999999989,407.81249999999989,0,"","",0,"","",0,"","","","",null,{"$f":"X1066","v":51},null,{"$f":"TEXT(Y1071,\"ddd\")","v":"za"},"ND",{"$f":"IFERROR(HLOOKUP(Y1071,[1]DATA!$A$1:$NB$5,5,0),\"\")","v":"-"},null,null,null,null,{"$f":"VLOOKUP(Y1071,[1]SRI!$S$4:$Z$368,4,0)","v":0},"","",""]
["51zoDD",{"$f":"VLOOKUP($AA1074,DATA!$B$3:$E$6,2,0)","v":"06:30:00"},{"$f":"VLOOKUP($AA1074,DATA!$B$3:$E$6,3,0)","v":"14:30:00"},{"$f":"VLOOKUP($AA1074,DATA!$B$3:$E$6,4,0)","v":3.125E-2},0.30208333333333331,0.30208333333333331,{"$f":"DATA!$C$9","v":0.89},{"$f":"DATA!$C$10","v":64},1,407.8125,407.8125,0,"","",0,"","",0,"","","","",null,{"$f":"X1066","v":51},"2018-12-23",{"$f":"TEXT(Y1074,\"ddd\")","v":"zo"},"DD",{"$f":"IFERROR(HLOOKUP(Y1074,[1]DATA!$A$1:$NB$5,3,0),\"\")","v":"-"},null,null,null,null,{"$f":"VLOOKUP(Y1074,[1]SRI!$S$4:$Z$368,2,0)","v":0},"","",""]
["51zoMD",{"$f":"VLOOKUP($AA1075,DATA!$B$3:$E$6,2,0)","v":"14:30:00"},{"$f":"VLOOKUP($AA1075,DATA!$B$3:$E$6,3,0)","v":"22:30:00"},{"$f":"VLOOKUP($AA1075,DATA!$B$3:$E$6,4,0)","v":3.125E-2},0.30208333333333337,0.30208333333333337,{"$f":"DATA!$C$9","v":0.89},{"$f":"DATA!$C$10","v":64},1,407.81250000000006,407.81250000000006,0,"","",0,"","",0,"","","","",null,{"$f":"X1066","v":51},null,{"$f":"TEXT(Y1074,\"ddd\")","v":"zo"},"MD",{"$f":"IFERROR(HLOOKUP(Y1074,[1]DATA!$A$1:$NB$5,4,0),\"\")","v":"-"},null,null,null,null,{"$f":"VLOOKUP(Y1074,[1]SRI!$S$4:$Z$368,3,0)","v":0},"","",""]
["51zoZND",{"$f":"VLOOKUP($AA1076,DATA!$B$3:$E$6,2,0)","v":"00:00:00"},{"$f":"VLOOKUP($AA1076,DATA!$B$3:$E$6,3,0)","v":"00:00:00"},{"$f":"VLOOKUP($AA1076,DATA!$B$3:$E$6,4,0)","v":3.125E-2},-3.125E-2,-3.125E-2,{"$f":"DATA!$C$9","v":0.89},{"$f":"DATA!$C$10","v":64},1,-42.1875,-42.1875,0,"","",0,"","",0,"","","","",null,{"$f":"X1066","v":51},null,{"$f":"TEXT(Y1074,\"ddd\")","v":"zo"},"ZND",{"$f":"IFERROR(HLOOKUP(Y1074,[1]DATA!$A$1:$NB$5,5,0),\"\")","v":"-"},null,null,null,null,{"$f":"VLOOKUP(Y1074,[1]SRI!$S$4:$Z$368,4,0)","v":0},"","",""]
["52maDD",{"$f":"VLOOKUP($AA1077,DATA!$B$3:$E$6,2,0)","v":"06:30:00"},{"$f":"VLOOKUP($AA1077,DATA!$B$3:$E$6,3,0)","v":"14:30:00"},{"$f":"VLOOKUP($AA1077,DATA!$B$3:$E$6,4,0)","v":3.125E-2},0.30208333333333331,0.30208333333333331,{"$f":"DATA!$C$9","v":0.89},{"$f":"DATA!$C$10","v":64},1,407.8125,407.8125,0,"","",{"$f":"TIME(INT($AD1077/60),INT(MOD($AD1077,60)/1),0)","v":0},"","",0,"","","","",null,{"$f":"X1087","v":52},"2018-12-24",{"$f":"TEXT(Y1077,\"ddd\")","v":"ma"},"DD",{"$f":"IFERROR(HLOOKUP(Y1077,[1]DATA!$A$1:$NB$5,3,0),\"\")","v":"D1"},null,null,null,null,{"$f":"VLOOKUP(Y1077,[1]SRI!$S$4:$Z$368,2,0)","v":0},"","","",{"$f":"IF(SUMIF(S1077:S1097,\">0\",K1077:K1097)=0,\"\",SUMIF(S1077:S1097,\">0\",K1077:K1097))","v":""},{"$f":"IF(SUM(S1077:S1097)=0,\"\",SUM(S1077:S1097))","v":""},{"$f":"IFERROR(AL1077/AK1077,\"-\")","v":"-"},{"$f":"IF(SUM(M1077:M1097)=0,\"0\",SUM(M1077:M1097))","v":"0"},{"$f":"IFERROR(AN1077/AK1077,\"-\")","v":"-"},{"$f":"IF(SUM(P1077:P1097)=0,0,SUM(P1077:P1097))","v":0},{"$f":"IFERROR(AP1077/AK1077,\"-\")","v":"-"},{"$f":"IFERROR(AVERAGE(AJ1077:AJ1097),\"-\")","v":"-"},{"$f":"IFERROR(SUMIF($AB1077:$AB1097,AS$5,$AJ1077:$AJ1097)/COUNTIFS($AB1077:$AB1097,AS$5,$AJ1077:$AJ1097,\">0\"),\"\")","v":""},"","",{"$f":"IFERROR((AK1077-AL1077-AN1077-AP1077),\"-\")","v":"-"},{"$f":"IFERROR((1-AM1077-AO1077-AQ1077), \"-\")","v":"-"},{"$f":"IFERROR((AV1077*$AE$2)/60,\"-\")","v":"-"},{"$f":"IFERROR(SUM(AG1077:AG1097),\"\")","v":0}]
["52maMD",{"$f":"VLOOKUP($AA1078,DATA!$B$3:$E$6,2,0)","v":"14:30:00"},{"$f":"VLOOKUP($AA1078,DATA!$B$3:$E$6,3,0)","v":"22:30:00"},{"$f":"VLOOKUP($AA1078,DATA!$B$3:$E$6,4,0)","v":3.125E-2},0.30208333333333337,0.30208333333333337,{"$f":"DATA!$C$9","v":0.89},{"$f":"DATA!$C$10","v":64},1,407.81250000000006,407.81250000000006,0,"","",{"$f":"TIME(INT(AD1078/60),INT(MOD(AD1078,60)/1),0)","v":0},"","",0,"","","","",null,{"$f":"X1087","v":52},null,{"$f":"TEXT(Y1077,\"ddd\")","v":"ma"},"MD",{"$f":"IFERROR(HLOOKUP(Y1077,[1]DATA!$A$1:$NB$5,4,0),\"\")","v":"D3"},null,null,null,null,{"$f":"VLOOKUP(Y1077,[1]SRI!$S$4:$Z$368,3,0)","v":0},"","",""]
["52maND",{"$f":"VLOOKUP($AA1079,DATA!$B$3:$E$6,2,0)","v":"22:30:00"},{"$f":"VLOOKUP($AA1079,DATA!$B$3:$E$6,3,0)","v":"06:30:00"},{"$f":"VLOOKUP($AA1079,DATA!$B$3:$E$6,4,0)","v":3.125E-2},0.30208333333333326,0.30208333333333326,{"$f":"DATA!$C$9","v":0.89},{"$f":"DATA!$C$10","v":64},1,407.81249999999989,407.81249999999989,0,"","",0,"","",0,"","","","",null,{"$f":"X1087","v":52},null,{"$f":"TEXT(Y1077,\"ddd\")","v":"ma"},"ND",{"$f":"IFERROR(HLOOKUP(Y1077,[1]DATA!$A$1:$NB$5,5,0),\"\")","v":"D2"},null,null,null,null,{"$f":"VLOOKUP(Y1077,[1]SRI!$S$4:$Z$368,4,0)","v":0},"","",""]
["52diDD",{"$f":"VLOOKUP($AA1080,DATA!$B$3:$E$6,2,0)","v":"06:30:00"},{"$f":"VLOOKUP($AA1080,DATA!$B$3:$E$6,3,0)","v":"14:30:00"},{"$f":"VLOOKUP($AA1080,DATA!$B$3:$E$6,4,0)","v":3.125E-2},0.30208333333333331,0.30208333333333331,{"$f":"DATA!$C$9","v":0.89},{"$f":"DATA!$C$10","v":64},1,407.8125,407.8125,0,"","",0,"","",0,"","","","",null,{"$f":"X1087","v":52},"2018-12-25",{"$f":"TEXT(Y1080,\"ddd\")","v":"di"},"DD",{"$f":"IFERROR(HLOOKUP(Y1080,[1]DATA!$A$1:$NB$5,3,0),\"\")","v":"D1"},null,null,null,null,{"$f":"VLOOKUP(Y1080,[1]SRI!$S$4:$Z$368,2,0)","v":0},"","",""]
["52diMD",{"$f":"VLOOKUP($AA1081,DATA!$B$3:$E$6,2,0)","v":"14:30:00"},{"$f":"VLOOKUP($AA1081,DATA!$B$3:$E$6,3,0)","v":"22:30:00"},{"$f":"VLOOKUP($AA1081,DATA!$B$3:$E$6,4,0)","v":3.125E-2},0.30208333333333337,0.30208333333333337,{"$f":"DATA!$C$9","v":0.89},{"$f":"DATA!$C$10","v":64},1,407.81250000000006,407.81250000000006,0,"","",0,"","",0,"","","","",null,{"$f":"X1087","v":52},null,{"$f":"TEXT(Y1080,\"ddd\")","v":"di"},"MD",{"$f":"IFERROR(HLOOKUP(Y1080,[1]DATA!$A$1:$NB$5,4,0),\"\")","v":"D3"},null,null,null,null,{"$f":"VLOOKUP(Y1080,[1]SRI!$S$4:$Z$368,3,0)","v":0},"","",""]
["52diND",{"$f":"VLOOKUP($AA1082,DATA!$B$3:$E$6,2,0)","v":"22:30:00"},{"$f":"VLOOKUP($AA1082,DATA!$B$3:$E$6,3,0)","v":"06:30:00"},{"$f":"VLOOKUP($AA1082,DATA!$B$3:$E$6,4,0)","v":3.125E-2},0.30208333333333326,0.30208333333333326,{"$f":"DATA!$C$9","v":0.89},{"$f":"DATA!$C$10","v":64},1,407.81249999999989,407.81249999999989,0,"","",0,"","",0,"","","","",null,{"$f":"X1087","v":52},null,{"$f":"TEXT(Y1080,\"ddd\")","v":"di"},"ND",{"$f":"IFERROR(HLOOKUP(Y1080,[1]DATA!$A$1:$NB$5,5,0),\"\")","v":"D2"},null,null,null,null,{"$f":"VLOOKUP(Y1080,[1]SRI!$S$4:$Z$368,4,0)","v":0},"","",""]
["52woDD",{"$f":"VLOOKUP($AA1083,DATA!$B$3:$E$6,2,0)","v":"06:30:00"},{"$f":"VLOOKUP($AA1083,DATA!$B$3:$E$6,3,0)","v":"14:30:00"},{"$f":"VLOOKUP($AA1083,DATA!$B$3:$E$6,4,0)","v":3.125E-2},0.30208333333333331,0.30208333333333331,{"$f":"DATA!$C$9","v":0.89},{"$f":"DATA!$C$10","v":64},1,407.8125,407.8125,0,"","",0,"","",0,"","","","",null,{"$f":"X1087","v":52},"2018-12-26",{"$f":"TEXT(Y1083,\"ddd\")","v":"wo"},"DD",{"$f":"IFERROR(HLOOKUP(Y1083,[1]DATA!$A$1:$NB$5,3,0),\"\")","v":"D1"},null,null,null,null,{"$f":"VLOOKUP(Y1083,[1]SRI!$S$4:$Z$368,2,0)","v":0},"","",""]
["52woMD",{"$f":"VLOOKUP($AA1084,DATA!$B$3:$E$6,2,0)","v":"14:30:00"},{"$f":"VLOOKUP($AA1084,DATA!$B$3:$E$6,3,0)","v":"22:30:00"},{"$f":"VLOOKUP($AA1084,DATA!$B$3:$E$6,4,0)","v":3.125E-2},0.30208333333333337,0.30208333333333337,{"$f":"DATA!$C$9","v":0.89},{"$f":"DATA!$C$10","v":64},1,407.81250000000006,407.81250000000006,0,"","",0,"","",0,"","","","",null,{"$f":"X1087","v":52},null,{"$f":"TEXT(Y1083,\"ddd\")","v":"wo"},"MD",{"$f":"IFERROR(HLOOKUP(Y1083,[1]DATA!$A$1:$NB$5,4,0),\"\")","v":"D3"},null,null,null,null,{"$f":"VLOOKUP(Y1083,[1]SRI!$S$4:$Z$368,3,0)","v":0},"","",""]
["52woND",{"$f":"VLOOKUP($AA1085,DATA!$B$3:$E$6,2,0)","v":"22:30:00"},{"$f":"VLOOKUP($AA1085,DATA!$B$3:$E$6,3,0)","v":"06:30:00"},{"$f":"VLOOKUP($AA1085,DATA!$B$3:$E$6,4,0)","v":3.125E-2},0.30208333333333326,0.30208333333333326,{"$f":"DATA!$C$9","v":0.89},{"$f":"DATA!$C$10","v":64},1,407.81249999999989,407.81249999999989,0,"","",0,"","",0,"","","","",null,{"$f":"X1087","v":52},null,{"$f":"TEXT(Y1083,\"ddd\")","v":"wo"},"ND",{"$f":"IFERROR(HLOOKUP(Y1083,[1]DATA!$A$1:$NB$5,5,0),\"\")","v":"D2"},null,null,null,null,{"$f":"VLOOKUP(Y1083,[1]SRI!$S$4:$Z$368,4,0)","v":0},"","",""]
["52doDD",{"$f":"VLOOKUP($AA1086,DATA!$B$3:$E$6,2,0)","v":"06:30:00"},{"$f":"VLOOKUP($AA1086,DATA!$B$3:$E$6,3,0)","v":"14:30:00"},{"$f":"VLOOKUP($AA1086,DATA!$B$3:$E$6,4,0)","v":3.125E-2},0.30208333333333331,0.30208333333333331,{"$f":"DATA!$C$9","v":0.89},{"$f":"DATA!$C$10","v":64},1,407.8125,407.8125,0,"","",0,"","",0,"","","","",null,{"$f":"X1087","v":52},"2018-12-27",{"$f":"TEXT(Y1086,\"ddd\")","v":"do"},"DD",{"$f":"IFERROR(HLOOKUP(Y1086,[1]DATA!$A$1:$NB$5,3,0),\"\")","v":"D1"},null,null,null,null,{"$f":"VLOOKUP(Y1086,[1]SRI!$S$4:$Z$368,2,0)","v":0},"","",""]
["52doMD",{"$f":"VLOOKUP($AA1087,DATA!$B$3:$E$6,2,0)","v":"14:30:00"},{"$f":"VLOOKUP($AA1087,DATA!$B$3:$E$6,3,0)","v":"22:30:00"},{"$f":"VLOOKUP($AA1087,DATA!$B$3:$E$6,4,0)","v":3.125E-2},0.30208333333333337,0.30208333333333337,{"$f":"DATA!$C$9","v":0.89},{"$f":"DATA!$C$10","v":64},1,407.81250000000006,407.81250000000006,0,"","",0,"","",0,"","","","",null,{"$f":"WEEKNUM($Y1077)","v":52},null,{"$f":"TEXT(Y1086,\"ddd\")","v":"do"},"MD",{"$f":"IFERROR(HLOOKUP(Y1086,[1]DATA!$A$1:$NB$5,4,0),\"\")","v":"D3"},null,null,null,null,{"$f":"VLOOKUP(Y1086,[1]SRI!$S$4:$Z$368,3,0)","v":0},"","",""]
["52doND",{"$f":"VLOOKUP($AA1088,DATA!$B$3:$E$6,2,0)","v":"22:30:00"},{"$f":"VLOOKUP($AA1088,DATA!$B$3:$E$6,3,0)","v":"06:30:00"},{"$f":"VLOOKUP($AA1088,DATA!$B$3:$E$6,4,0)","v":3.125E-2},0.30208333333333326,0.30208333333333326,{"$f":"DATA!$C$9","v":0.89},{"$f":"DATA!$C$10","v":64},1,407.81249999999989,407.81249999999989,0,"","",0,"","",0,"","","","",null,{"$f":"X1087","v":52},null,{"$f":"TEXT(Y1086,\"ddd\")","v":"do"},"ND",{"$f":"IFERROR(HLOOKUP(Y1086,[1]DATA!$A$1:$NB$5,5,0),\"\")","v":"D2"},null,null,null,null,{"$f":"VLOOKUP(Y1086,[1]SRI!$S$4:$Z$368,4,0)","v":0},"","",""]
["52vrDD",{"$f":"VLOOKUP($AA1089,DATA!$B$3:$E$6,2,0)","v":"06:30:00"},{"$f":"VLOOKUP($AA1089,DATA!$B$3:$E$6,3,0)","v":"14:30:00"},{"$f":"VLOOKUP($AA1089,DATA!$B$3:$E$6,4,0)","v":3.125E-2},0.30208333333333331,0.30208333333333331,{"$f":"DATA!$C$9","v":0.89},{"$f":"DATA!$C$10","v":64},1,407.8125,407.8125,0,"","",0,"","",0,"","","","",null,{"$f":"X1087","v":52},{"$f":"Y1086+1","v":"2018-12-28"},{"$f":"TEXT(Y1089,\"ddd\")","v":"vr"},"DD",{"$f":"IFERROR(HLOOKUP(Y1089,[1]DATA!$A$1:$NB$5,3,0),\"\")","v":"D1"},null,null,null,null,{"$f":"VLOOKUP(Y1089,[1]SRI!$S$4:$Z$368,2,0)","v":0},"","",""]
["52vrMD",{"$f":"VLOOKUP($AA1090,DATA!$B$3:$E$6,2,0)","v":"14:30:00"},{"$f":"VLOOKUP($AA1090,DATA!$B$3:$E$6,3,0)","v":"22:30:00"},{"$f":"VLOOKUP($AA1090,DATA!$B$3:$E$6,4,0)","v":3.125E-2},0.30208333333333337,0.30208333333333337,{"$f":"DATA!$C$9","v":0.89},{"$f":"DATA!$C$10","v":64},1,407.81250000000006,407.81250000000006,0,"","",0,"","",0,"","","","",null,{"$f":"X1087","v":52},null,{"$f":"TEXT(Y1089,\"ddd\")","v":"vr"},"MD",{"$f":"IFERROR(HLOOKUP(Y1089,[1]DATA!$A$1:$NB$5,4,0),\"\")","v":"D3"},null,null,null,null,{"$f":"VLOOKUP(Y1089,[1]SRI!$S$4:$Z$368,3,0)","v":0},"","",""]
["52vrND",{"$f":"VLOOKUP($AA1091,DATA!$B$3:$E$6,2,0)","v":"22:30:00"},{"$f":"VLOOKUP($AA1091,DATA!$B$3:$E$6,3,0)","v":"06:30:00"},{"$f":"VLOOKUP($AA1091,DATA!$B$3:$E$6,4,0)","v":3.125E-2},0.30208333333333326,0.30208333333333326,{"$f":"DATA!$C$9","v":0.89},{"$f":"DATA!$C$10","v":64},1,407.81249999999989,407.81249999999989,0,"","",0,"","",0,"","","","",null,{"$f":"X1087","v":52},null,{"$f":"TEXT(Y1089,\"ddd\")","v":"vr"},"ND",{"$f":"IFERROR(HLOOKUP(Y1089,[1]DATA!$A$1:$NB$5,5,0),\"\")","v":"D2"},null,null,null,null,{"$f":"VLOOKUP(Y1089,[1]SRI!$S$4:$Z$368,4,0)","v":0},"","",""]
["52zaDD",{"$f":"VLOOKUP($AA1092,DATA!$B$3:$E$6,2,0)","v":"06:30:00"},{"$f":"VLOOKUP($AA1092,DATA!$B$3:$E$6,3,0)","v":"14:30:00"},{"$f":"VLOOKUP($AA1092,DATA!$B$3:$E$6,4,0)","v":3.125E-2},0.30208333333333331,0.30208333333333331,{"$f":"DATA!$C$9","v":0.89},{"$f":"DATA!$C$10","v":64},1,407.8125,407.8125,0,"","",0,"","",0,"","","","",null,{"$f":"X1087","v":52},"2018-12-29",{"$f":"TEXT(Y1092,\"ddd\")","v":"za"},"DD",{"$f":"IFERROR(HLOOKUP(Y1092,[1]DATA!$A$1:$NB$5,3,0),\"\")","v":"D1"},null,null,null,null,{"$f":"VLOOKUP(Y1092,[1]SRI!$S$4:$Z$368,2,0)","v":0},"","",""]
["52zaMD",{"$f":"VLOOKUP($AA1093,DATA!$B$3:$E$6,2,0)","v":"14:30:00"},{"$f":"VLOOKUP($AA1093,DATA!$B$3:$E$6,3,0)","v":"22:30:00"},{"$f":"VLOOKUP($AA1093,DATA!$B$3:$E$6,4,0)","v":3.125E-2},0.30208333333333337,0.30208333333333337,{"$f":"DATA!$C$9","v":0.89},{"$f":"DATA!$C$10","v":64},1,407.81250000000006,407.81250000000006,0,"","",0,"","",0,"","","","",null,{"$f":"X1087","v":52},null,{"$f":"TEXT(Y1092,\"ddd\")","v":"za"},"MD",{"$f":"IFERROR(HLOOKUP(Y1092,[1]DATA!$A$1:$NB$5,4,0),\"\")","v":"-"},null,null,null,null,{"$f":"VLOOKUP(Y1092,[1]SRI!$S$4:$Z$368,3,0)","v":0},"","",""]
["52zaND",{"$f":"VLOOKUP($AA1094,DATA!$B$3:$E$6,2,0)","v":"22:30:00"},{"$f":"VLOOKUP($AA1094,DATA!$B$3:$E$6,3,0)","v":"06:30:00"},{"$f":"VLOOKUP($AA1094,DATA!$B$3:$E$6,4,0)","v":3.125E-2},0.30208333333333326,0.30208333333333326,{"$f":"DATA!$C$9","v":0.89},{"$f":"DATA!$C$10","v":64},1,{"$f":"F1094*86400/H1094*I1094","v":407.81249999999989},{"$f":"E1094*86400/H1094","v":407.81249999999989},0,"","",0,"","",{"$f":"AF1094*AG$2","v":0},{"$f":"IF(AF1094-AE1094=0,\"\",AF1094-AE1094)","v":""},"","","",null,{"$f":"X1087","v":52},null,{"$f":"TEXT(Y1092,\"ddd\")","v":"za"},"ND",{"$f":"IFERROR(HLOOKUP(Y1092,[1]DATA!$A$1:$NB$5,5,0),\"\")","v":"-"},null,null,null,null,{"$f":"VLOOKUP(Y1092,[1]SRI!$S$4:$Z$368,4,0)","v":0},{"$f":"IFERROR(S1094-J1094,\"\")","v":""},{"$f":"IFERROR(IF(S1094/(E1094*86400/H1094)<=0,\"\",S1094/(E1094*86400/H1094)),\"\")","v":""},{"$f":"IFERROR(R1094/(R1094+AG1094),\"\")","v":""}]
["52zoDD",{"$f":"VLOOKUP($AA1095,DATA!$B$3:$E$6,2,0)","v":"06:30:00"},{"$f":"VLOOKUP($AA1095,DATA!$B$3:$E$6,3,0)","v":"14:30:00"},{"$f":"VLOOKUP($AA1095,DATA!$B$3:$E$6,4,0)","v":3.125E-2},0.30208333333333331,0.30208333333333331,{"$f":"DATA!$C$9","v":0.89},{"$f":"DATA!$C$10","v":64},1,407.8125,407.8125,{"$f":"TIME(INT($AC1095/60),INT(MOD($AC1095,60)/1),0)","v":0},{"$f":"IF($L1095*86400/$H1095=0,\"\",$L1095*86400/$H1095)","v":""},{"$f":"IFERROR($M1095/$K1095,\"\")","v":""},0,"",{"$f":"IFERROR($P1095/$K1095,\"\")","v":""},0,"",{"$f":"IF(IF($AB1095=\"D1\",$S1095,\"\")=0,\"\",IF($AB1095=\"D1\",$S1095,\"\"))","v":""},{"$f":"IF(IF($AB1095=\"D2\",$S1095,\"\")=0,\"\",IF($AB1095=\"D2\",$S1095,\"\"))","v":""},{"$f":"IF(IF($AB1095=\"D3\",$S1095,\"\")=0,\"\",IF($AB1095=\"D3\",$S1095,\"\"))","v":""},null,{"$f":"X1087","v":52},"2018-12-30",{"$f":"TEXT(Y1095,\"ddd\")","v":"zo"},"DD",{"$f":"IFERROR(HLOOKUP(Y1095,[1]DATA!$A$1:$NB$5,3,0),\"\")","v":"-"},null,null,null,null,{"$f":"VLOOKUP(Y1095,[1]SRI!$S$4:$Z$368,2,0)","v":0},"","",""]
["52zoMD",{"$f":"VLOOKUP($AA1096,DATA!$B$3:$E$6,2,0)","v":"14:30:00"},{"$f":"VLOOKUP($AA1096,DATA!$B$3:$E$6,3,0)","v":"22:30:00"},{"$f":"VLOOKUP($AA1096,DATA!$B$3:$E$6,4,0)","v":3.125E-2},0.30208333333333337,0.30208333333333337,{"$f":"DATA!$C$9","v":0.89},{"$f":"DATA!$C$10","v":64},1,407.81250000000006,407.81250000000006,0,"","",0,"","",0,"","","","",null,{"$f":"X1087","v":52},null,{"$f":"TEXT(Y1095,\"ddd\")","v":"zo"},"MD",{"$f":"IFERROR(HLOOKUP(Y1095,[1]DATA!$A$1:$NB$5,4,0),\"\")","v":"-"},null,null,null,null,{"$f":"VLOOKUP(Y1095,[1]SRI!$S$4:$Z$368,3,0)","v":0},"","",""]
["52zoZND",{"$f":"VLOOKUP($AA1097,DATA!$B$3:$E$6,2,0)","v":"00:00:00"},{"$f":"VLOOKUP($AA1097,DATA!$B$3:$E$6,3,0)","v":"00:00:00"},{"$f":"VLOOKUP($AA1097,DATA!$B$3:$E$6,4,0)","v":3.125E-2},-3.125E-2,-3.125E-2,{"$f":"DATA!$C$9","v":0.89},{"$f":"DATA!$C$10","v":64},1,-42.1875,-42.1875,0,"","",0,"","",0,"","","","",null,{"$f":"X1087","v":52},null,{"$f":"TEXT(Y1095,\"ddd\")","v":"zo"},"ZND",{"$f":"IFERROR(HLOOKUP(Y1095,[1]DATA!$A$1:$NB$5,5,0),\"\")","v":"-"},null,null,null,null,{"$f":"VLOOKUP(Y1095,[1]SRI!$S$4:$Z$368,4,0)","v":0},"","",""]
["53maDD",{"$f":"VLOOKUP($AA1098,DATA!$B$3:$E$6,2,0)","v":"06:30:00"},{"$f":"VLOOKUP($AA1098,DATA!$B$3:$E$6,3,0)","v":"14:30:00"},{"$f":"VLOOKUP($AA1098,DATA!$B$3:$E$6,4,0)","v":3.125E-2},0.30208333333333331,0.30208333333333331,{"$f":"DATA!$C$9","v":0.89},{"$f":"DATA!$C$10","v":64},1,407.8125,407.8125,0,"","",{"$f":"TIME(INT($AD1098/60),INT(MOD($AD1098,60)/1),0)","v":0},"","",0,"","","","",null,{"$f":"X1108","v":53},"2018-12-31",{"$f":"TEXT(Y1098,\"ddd\")","v":"ma"},"DD",{"$f":"IFERROR(HLOOKUP(Y1098,[1]DATA!$A$1:$NB$5,3,0),\"\")","v":"D3"},null,null,null,null,{"$f":"VLOOKUP(Y1098,[1]SRI!$S$4:$Z$368,2,0)","v":0},"","","",{"$f":"IF(SUMIF(S1098:S1118,\">0\",K1098:K1118)=0,\"\",SUMIF(S1098:S1118,\">0\",K1098:K1118))","v":""},{"$f":"IF(SUM(S1098:S1118)=0,\"\",SUM(S1098:S1118))","v":""},{"$f":"IFERROR(AL1098/AK1098,\"-\")","v":"-"},{"$f":"IF(SUM(M1098:M1118)=0,\"0\",SUM(M1098:M1118))","v":"0"},{"$f":"IFERROR(AN1098/AK1098,\"-\")","v":"-"},{"$f":"IF(SUM(P1098:P1118)=0,0,SUM(P1098:P1118))","v":0},{"$f":"IFERROR(AP1098/AK1098,\"-\")","v":"-"},{"$f":"IFERROR(AVERAGE(AJ1098:AJ1118),\"-\")","v":"-"},{"$f":"IFERROR(SUMIF($AB1098:$AB1118,AS$5,$AJ1098:$AJ1118)/COUNTIFS($AB1098:$AB1118,AS$5,$AJ1098:$AJ1118,\">0\"),\"\")","v":""},"","",{"$f":"IFERROR((AK1098-AL1098-AN1098-AP1098),\"-\")","v":"-"},{"$f":"IFERROR((1-AM1098-AO1098-AQ1098), \"-\")","v":"-"},{"$f":"IFERROR((AV1098*$AE$2)/60,\"-\")","v":"-"},{"$f":"IFERROR(SUM(AG1098:AG1118),\"\")","v":""}]
["53maMD",{"$f":"VLOOKUP($AA1099,DATA!$B$3:$E$6,2,0)","v":"14:30:00"},{"$f":"VLOOKUP($AA1099,DATA!$B$3:$E$6,3,0)","v":"22:30:00"},{"$f":"VLOOKUP($AA1099,DATA!$B$3:$E$6,4,0)","v":3.125E-2},0.30208333333333337,0.30208333333333337,{"$f":"DATA!$C$9","v":0.89},{"$f":"DATA!$C$10","v":64},1,407.81250000000006,407.81250000000006,0,"","",{"$f":"TIME(INT(AD1099/60),INT(MOD(AD1099,60)/1),0)","v":0},"","",0,"","","","",null,{"$f":"X1108","v":53},null,{"$f":"TEXT(Y1098,\"ddd\")","v":"ma"},"MD",{"$f":"IFERROR(HLOOKUP(Y1098,[1]DATA!$A$1:$NB$5,4,0),\"\")","v":"D2"},null,null,null,null,{"$f":"VLOOKUP(Y1098,[1]SRI!$S$4:$Z$368,3,0)","v":0},"","",""]
["53maND",{"$f":"VLOOKUP($AA1100,DATA!$B$3:$E$6,2,0)","v":"22:30:00"},{"$f":"VLOOKUP($AA1100,DATA!$B$3:$E$6,3,0)","v":"06:30:00"},{"$f":"VLOOKUP($AA1100,DATA!$B$3:$E$6,4,0)","v":3.125E-2},0.30208333333333326,0.30208333333333326,{"$f":"DATA!$C$9","v":0.89},{"$f":"DATA!$C$10","v":64},1,407.81249999999989,407.81249999999989,0,"","",0,"","",0,"","","","",null,{"$f":"X1108","v":53},null,{"$f":"TEXT(Y1098,\"ddd\")","v":"ma"},"ND",{"$f":"IFERROR(HLOOKUP(Y1098,[1]DATA!$A$1:$NB$5,5,0),\"\")","v":"D1"},null,null,null,null,{"$f":"VLOOKUP(Y1098,[1]SRI!$S$4:$Z$368,4,0)","v":0},"","",""]
["53diDD",{"$f":"VLOOKUP($AA1101,DATA!$B$3:$E$6,2,0)","v":"06:30:00"},{"$f":"VLOOKUP($AA1101,DATA!$B$3:$E$6,3,0)","v":"14:30:00"},{"$f":"VLOOKUP($AA1101,DATA!$B$3:$E$6,4,0)","v":3.125E-2},0.30208333333333331,0.30208333333333331,{"$f":"DATA!$C$9","v":0.89},{"$f":"DATA!$C$10","v":64},1,407.8125,407.8125,0,"","",0,"","",0,"","","","",null,{"$f":"X1108","v":53},"2019-01-01",{"$f":"TEXT(Y1101,\"ddd\")","v":"di"},"DD",{"$f":"IFERROR(HLOOKUP(Y1101,[1]DATA!$A$1:$NB$5,3,0),\"\")","v":""},null,null,null,null,{"$f":"VLOOKUP(Y1101,[1]SRI!$S$4:$Z$368,2,0)","v":{"$error":"#N/A"}},"","",""]
["53diMD",{"$f":"VLOOKUP($AA1102,DATA!$B$3:$E$6,2,0)","v":"14:30:00"},{"$f":"VLOOKUP($AA1102,DATA!$B$3:$E$6,3,0)","v":"22:30:00"},{"$f":"VLOOKUP($AA1102,DATA!$B$3:$E$6,4,0)","v":3.125E-2},0.30208333333333337,0.30208333333333337,{"$f":"DATA!$C$9","v":0.89},{"$f":"DATA!$C$10","v":64},1,407.81250000000006,407.81250000000006,0,"","",0,"","",0,"","","","",null,{"$f":"X1108","v":53},null,{"$f":"TEXT(Y1101,\"ddd\")","v":"di"},"MD",{"$f":"IFERROR(HLOOKUP(Y1101,[1]DATA!$A$1:$NB$5,4,0),\"\")","v":""},null,null,null,null,{"$f":"VLOOKUP(Y1101,[1]SRI!$S$4:$Z$368,3,0)","v":{"$error":"#N/A"}},"","",""]
["53diND",{"$f":"VLOOKUP($AA1103,DATA!$B$3:$E$6,2,0)","v":"22:30:00"},{"$f":"VLOOKUP($AA1103,DATA!$B$3:$E$6,3,0)","v":"06:30:00"},{"$f":"VLOOKUP($AA1103,DATA!$B$3:$E$6,4,0)","v":3.125E-2},0.30208333333333326,0.30208333333333326,{"$f":"DATA!$C$9","v":0.89},{"$f":"DATA!$C$10","v":64},1,407.81249999999989,407.81249999999989,0,"","",0,"","",0,"","","","",null,{"$f":"X1108","v":53},null,{"$f":"TEXT(Y1101,\"ddd\")","v":"di"},"ND",{"$f":"IFERROR(HLOOKUP(Y1101,[1]DATA!$A$1:$NB$5,5,0),\"\")","v":""},null,null,null,null,{"$f":"VLOOKUP(Y1101,[1]SRI!$S$4:$Z$368,4,0)","v":{"$error":"#N/A"}},"","",""]
["53woDD",{"$f":"VLOOKUP($AA1104,DATA!$B$3:$E$6,2,0)","v":"06:30:00"},{"$f":"VLOOKUP($AA1104,DATA!$B$3:$E$6,3,0)","v":"14:30:00"},{"$f":"VLOOKUP($AA1104,DATA!$B$3:$E$6,4,0)","v":3.125E-2},0.30208333333333331,0.30208333333333331,{"$f":"DATA!$C$9","v":0.89},{"$f":"DATA!$C$10","v":64},1,407.8125,407.8125,0,"","",0,"","",0,"","","","",null,{"$f":"X1108","v":53},"2019-01-02",{"$f":"TEXT(Y1104,\"ddd\")","v":"wo"},"DD",{"$f":"IFERROR(HLOOKUP(Y1104,[1]DATA!$A$1:$NB$5,3,0),\"\")","v":""},null,null,null,null,{"$f":"VLOOKUP(Y1104,[1]SRI!$S$4:$Z$368,2,0)","v":{"$error":"#N/A"}},"","",""]
["53woMD",{"$f":"VLOOKUP($AA1105,DATA!$B$3:$E$6,2,0)","v":"14:30:00"},{"$f":"VLOOKUP($AA1105,DATA!$B$3:$E$6,3,0)","v":"22:30:00"},{"$f":"VLOOKUP($AA1105,DATA!$B$3:$E$6,4,0)","v":3.125E-2},0.30208333333333337,0.30208333333333337,{"$f":"DATA!$C$9","v":0.89},{"$f":"DATA!$C$10","v":64},1,407.81250000000006,407.81250000000006,0,"","",0,"","",0,"","","","",null,{"$f":"X1108","v":53},null,{"$f":"TEXT(Y1104,\"ddd\")","v":"wo"},"MD",{"$f":"IFERROR(HLOOKUP(Y1104,[1]DATA!$A$1:$NB$5,4,0),\"\")","v":""},null,null,null,null,{"$f":"VLOOKUP(Y1104,[1]SRI!$S$4:$Z$368,3,0)","v":{"$error":"#N/A"}},"","",""]
["53woND",{"$f":"VLOOKUP($AA1106,DATA!$B$3:$E$6,2,0)","v":"22:30:00"},{"$f":"VLOOKUP($AA1106,DATA!$B$3:$E$6,3,0)","v":"06:30:00"},{"$f":"VLOOKUP($AA1106,DATA!$B$3:$E$6,4,0)","v":3.125E-2},0.30208333333333326,0.30208333333333326,{"$f":"DATA!$C$9","v":0.89},{"$f":"DATA!$C$10","v":64},1,407.81249999999989,407.81249999999989,0,"","",0,"","",0,"","","","",null,{"$f":"X1108","v":53},null,{"$f":"TEXT(Y1104,\"ddd\")","v":"wo"},"ND",{"$f":"IFERROR(HLOOKUP(Y1104,[1]DATA!$A$1:$NB$5,5,0),\"\")","v":""},null,null,null,null,{"$f":"VLOOKUP(Y1104,[1]SRI!$S$4:$Z$368,4,0)","v":{"$error":"#N/A"}},"","",""]
["53doDD",{"$f":"VLOOKUP($AA1107,DATA!$B$3:$E$6,2,0)","v":"06:30:00"},{"$f":"VLOOKUP($AA1107,DATA!$B$3:$E$6,3,0)","v":"14:30:00"},{"$f":"VLOOKUP($AA1107,DATA!$B$3:$E$6,4,0)","v":3.125E-2},0.30208333333333331,0.30208333333333331,{"$f":"DATA!$C$9","v":0.89},{"$f":"DATA!$C$10","v":64},1,407.8125,407.8125,0,"","",0,"","",0,"","","","",null,{"$f":"X1108","v":53},"2019-01-03",{"$f":"TEXT(Y1107,\"ddd\")","v":"do"},"DD",{"$f":"IFERROR(HLOOKUP(Y1107,[1]DATA!$A$1:$NB$5,3,0),\"\")","v":""},null,null,null,null,{"$f":"VLOOKUP(Y1107,[1]SRI!$S$4:$Z$368,2,0)","v":{"$error":"#N/A"}},"","",""]
["53doMD",{"$f":"VLOOKUP($AA1108,DATA!$B$3:$E$6,2,0)","v":"14:30:00"},{"$f":"VLOOKUP($AA1108,DATA!$B$3:$E$6,3,0)","v":"22:30:00"},{"$f":"VLOOKUP($AA1108,DATA!$B$3:$E$6,4,0)","v":3.125E-2},0.30208333333333337,0.30208333333333337,{"$f":"DATA!$C$9","v":0.89},{"$f":"DATA!$C$10","v":64},1,407.81250000000006,407.81250000000006,0,"","",0,"","",0,"","","","",null,{"$f":"WEEKNUM($Y1098)","v":53},null,{"$f":"TEXT(Y1107,\"ddd\")","v":"do"},"MD",{"$f":"IFERROR(HLOOKUP(Y1107,[1]DATA!$A$1:$NB$5,4,0),\"\")","v":""},null,null,null,null,{"$f":"VLOOKUP(Y1107,[1]SRI!$S$4:$Z$368,3,0)","v":{"$error":"#N/A"}},"","",""]
["53doND",{"$f":"VLOOKUP($AA1109,DATA!$B$3:$E$6,2,0)","v":"22:30:00"},{"$f":"VLOOKUP($AA1109,DATA!$B$3:$E$6,3,0)","v":"06:30:00"},{"$f":"VLOOKUP($AA1109,DATA!$B$3:$E$6,4,0)","v":3.125E-2},0.30208333333333326,0.30208333333333326,{"$f":"DATA!$C$9","v":0.89},{"$f":"DATA!$C$10","v":64},1,407.81249999999989,407.81249999999989,0,"","",0,"","",0,"","","","",null,{"$f":"X1108","v":53},null,{"$f":"TEXT(Y1107,\"ddd\")","v":"do"},"ND",{"$f":"IFERROR(HLOOKUP(Y1107,[1]DATA!$A$1:$NB$5,5,0),\"\")","v":""},null,null,null,null,{"$f":"VLOOKUP(Y1107,[1]SRI!$S$4:$Z$368,4,0)","v":{"$error":"#N/A"}},"","",""]
["53vrDD",{"$f":"VLOOKUP($AA1110,DATA!$B$3:$E$6,2,0)","v":"06:30:00"},{"$f":"VLOOKUP($AA1110,DATA!$B$3:$E$6,3,0)","v":"14:30:00"},{"$f":"VLOOKUP($AA1110,DATA!$B$3:$E$6,4,0)","v":3.125E-2},0.30208333333333331,0.30208333333333331,{"$f":"DATA!$C$9","v":0.89},{"$f":"DATA!$C$10","v":64},1,407.8125,407.8125,0,"","",0,"","",0,"","","","",null,{"$f":"X1108","v":53},"2019-01-04",{"$f":"TEXT(Y1110,\"ddd\")","v":"vr"},"DD",{"$f":"IFERROR(HLOOKUP(Y1110,[1]DATA!$A$1:$NB$5,3,0),\"\")","v":""},null,null,null,null,{"$f":"VLOOKUP(Y1110,[1]SRI!$S$4:$Z$368,2,0)","v":{"$error":"#N/A"}},"","",""]
["53vrMD",{"$f":"VLOOKUP($AA1111,DATA!$B$3:$E$6,2,0)","v":"14:30:00"},{"$f":"VLOOKUP($AA1111,DATA!$B$3:$E$6,3,0)","v":"22:30:00"},{"$f":"VLOOKUP($AA1111,DATA!$B$3:$E$6,4,0)","v":3.125E-2},0.30208333333333337,0.30208333333333337,{"$f":"DATA!$C$9","v":0.89},{"$f":"DATA!$C$10","v":64},1,407.81250000000006,407.81250000000006,0,"","",0,"","",0,"","","","",null,{"$f":"X1108","v":53},null,{"$f":"TEXT(Y1110,\"ddd\")","v":"vr"},"MD",{"$f":"IFERROR(HLOOKUP(Y1110,[1]DATA!$A$1:$NB$5,4,0),\"\")","v":""},null,null,null,null,{"$f":"VLOOKUP(Y1110,[1]SRI!$S$4:$Z$368,3,0)","v":{"$error":"#N/A"}},"","",""]
["53vrND",{"$f":"VLOOKUP($AA1112,DATA!$B$3:$E$6,2,0)","v":"22:30:00"},{"$f":"VLOOKUP($AA1112,DATA!$B$3:$E$6,3,0)","v":"06:30:00"},{"$f":"VLOOKUP($AA1112,DATA!$B$3:$E$6,4,0)","v":3.125E-2},0.30208333333333326,0.30208333333333326,{"$f":"DATA!$C$9","v":0.89},{"$f":"DATA!$C$10","v":64},1,407.81249999999989,407.81249999999989,0,"","",0,"","",0,"","","","",null,{"$f":"X1108","v":53},null,{"$f":"TEXT(Y1110,\"ddd\")","v":"vr"},"ND",{"$f":"IFERROR(HLOOKUP(Y1110,[1]DATA!$A$1:$NB$5,5,0),\"\")","v":""},null,null,null,null,{"$f":"VLOOKUP(Y1110,[1]SRI!$S$4:$Z$368,4,0)","v":{"$error":"#N/A"}},"","",""]
["53zaDD",{"$f":"VLOOKUP($AA1113,DATA!$B$3:$E$6,2,0)","v":"06:30:00"},{"$f":"VLOOKUP($AA1113,DATA!$B$3:$E$6,3,0)","v":"14:30:00"},{"$f":"VLOOKUP($AA1113,DATA!$B$3:$E$6,4,0)","v":3.125E-2},0.30208333333333331,0.30208333333333331,{"$f":"DATA!$C$9","v":0.89},{"$f":"DATA!$C$10","v":64},1,407.8125,407.8125,0,"","",0,"","",0,"","","","",null,{"$f":"X1108","v":53},"2019-01-05",{"$f":"TEXT(Y1113,\"ddd\")","v":"za"},"DD",{"$f":"IFERROR(HLOOKUP(Y1113,[1]DATA!$A$1:$NB$5,3,0),\"\")","v":""},null,null,null,null,{"$f":"VLOOKUP(Y1113,[1]SRI!$S$4:$Z$368,2,0)","v":{"$error":"#N/A"}},"","",""]
["53zaMD",{"$f":"VLOOKUP($AA1114,DATA!$B$3:$E$6,2,0)","v":"14:30:00"},{"$f":"VLOOKUP($AA1114,DATA!$B$3:$E$6,3,0)","v":"22:30:00"},{"$f":"VLOOKUP($AA1114,DATA!$B$3:$E$6,4,0)","v":3.125E-2},0.30208333333333337,0.30208333333333337,{"$f":"DATA!$C$9","v":0.89},{"$f":"DATA!$C$10","v":64},1,407.81250000000006,407.81250000000006,0,"","",0,"","",0,"","","","",null,{"$f":"X1108","v":53},null,{"$f":"TEXT(Y1113,\"ddd\")","v":"za"},"MD",{"$f":"IFERROR(HLOOKUP(Y1113,[1]DATA!$A$1:$NB$5,4,0),\"\")","v":""},null,null,null,null,{"$f":"VLOOKUP(Y1113,[1]SRI!$S$4:$Z$368,3,0)","v":{"$error":"#N/A"}},"","",""]
["53zaND",{"$f":"VLOOKUP($AA1115,DATA!$B$3:$E$6,2,0)","v":"22:30:00"},{"$f":"VLOOKUP($AA1115,DATA!$B$3:$E$6,3,0)","v":"06:30:00"},{"$f":"VLOOKUP($AA1115,DATA!$B$3:$E$6,4,0)","v":3.125E-2},0.30208333333333326,0.30208333333333326,{"$f":"DATA!$C$9","v":0.89},{"$f":"DATA!$C$10","v":64},1,407.81249999999989,407.81249999999989,0,"","",0,"","",0,"","","","",null,{"$f":"X1108","v":53},null,{"$f":"TEXT(Y1113,\"ddd\")","v":"za"},"ND",{"$f":"IFERROR(HLOOKUP(Y1113,[1]DATA!$A$1:$NB$5,5,0),\"\")","v":""},null,null,null,null,{"$f":"VLOOKUP(Y1113,[1]SRI!$S$4:$Z$368,4,0)","v":{"$error":"#N/A"}},"","",""]
["53zoDD",{"$f":"VLOOKUP($AA1116,DATA!$B$3:$E$6,2,0)","v":"06:30:00"},{"$f":"VLOOKUP($AA1116,DATA!$B$3:$E$6,3,0)","v":"14:30:00"},{"$f":"VLOOKUP($AA1116,DATA!$B$3:$E$6,4,0)","v":3.125E-2},{"$f":"(C1116-B1116+(B1116>C1116))-D1116","v":0.30208333333333331},{"$f":"E1116-O1116-L1116","v":0.30208333333333331},{"$f":"DATA!$C$9","v":0.89},{"$f":"DATA!$C$10","v":64},1,407.8125,407.8125,0,"","",0,"","",0,"","","","",null,{"$f":"X1108","v":53},"2019-01-06",{"$f":"TEXT(Y1116,\"ddd\")","v":"zo"},"DD",{"$f":"IFERROR(HLOOKUP(Y1116,[1]DATA!$A$1:$NB$5,3,0),\"\")","v":""},null,null,null,null,{"$f":"VLOOKUP(Y1116,[1]SRI!$S$4:$Z$368,2,0)","v":{"$error":"#N/A"}},"","",""]
["53zoMD",{"$f":"VLOOKUP($AA1117,DATA!$B$3:$E$6,2,0)","v":"14:30:00"},{"$f":"VLOOKUP($AA1117,DATA!$B$3:$E$6,3,0)","v":"22:30:00"},{"$f":"VLOOKUP($AA1117,DATA!$B$3:$E$6,4,0)","v":3.125E-2},0.30208333333333337,0.30208333333333337,{"$f":"DATA!$C$9","v":0.89},{"$f":"DATA!$C$10","v":64},1,407.81250000000006,407.81250000000006,0,"","",0,"","",0,"","","","",null,{"$f":"X1108","v":53},null,{"$f":"TEXT(Y1116,\"ddd\")","v":"zo"},"MD",{"$f":"IFERROR(HLOOKUP(Y1116,[1]DATA!$A$1:$NB$5,4,0),\"\")","v":""},null,null,null,null,{"$f":"VLOOKUP(Y1116,[1]SRI!$S$4:$Z$368,3,0)","v":{"$error":"#N/A"}},"","",""]
["53zoZND",{"$f":"VLOOKUP($AA1118,DATA!$B$3:$E$6,2,0)","v":"00:00:00"},{"$f":"VLOOKUP($AA1118,DATA!$B$3:$E$6,3,0)","v":"00:00:00"},{"$f":"VLOOKUP($AA1118,DATA!$B$3:$E$6,4,0)","v":3.125E-2},-3.125E-2,-3.125E-2,{"$f":"DATA!$C$9","v":0.89},{"$f":"DATA!$C$10","v":64},1,-42.1875,-42.1875,0,"","",0,"","",0,"","","","",null,{"$f":"X1108","v":53},null,{"$f":"TEXT(Y1116,\"ddd\")","v":"zo"},"ZND",{"$f":"IFERROR(HLOOKUP(Y1116,[1]DATA!$A$1:$NB$5,5,0),\"\")","v":""},null,null,null,null,{"$f":"VLOOKUP(Y1116,[1]SRI!$S$4:$Z$368,4,0)","v":{"$error":"#N/A"}},"","",""]

{"sheet":"TA SRI RH","index":2,"n_rows":1118,"n_cols":52,"rows_kept":1118,"cut":false,"hidden":false,"merged":[[1097,47,1117,47],[1097,48,1117,48],[1097,49,1117,49],[1097,50,1117,50],[1100,24,1102,24],[1103,24,1105,24],[1106,24,1108,24],[1109,24,1111,24],[1112,24,1114,24],[1115,24,1117,24],[1097,41,1117,41],[1097,42,1117,42],[1097,43,1117,43],[1097,44,1117,44],[1097,45,1117,45],[1097,46,1117,46],[1097,24,1099,24],[1097,36,1117,36],[1097,37,1117,37],[1097,38,1117,38],[1097,39,1117,39],[1097,40,1117,40],[1076,47,1096,47],[1076,48,1096,48],[1076,49,1096,49],[1076,50,1096,50],[1079,24,1081,24],[1082,24,1084,24],[1085,24,1087,24],[1088,24,1090,24],[1091,24,1093,24],[1094,24,1096,24],[1076,41,1096,41],[1076,42,1096,42],[1076,43,1096,43],[1076,44,1096,44],[1076,45,1096,45],[1076,46,1096,46],[1076,24,1078,24],[1076,36,1096,36],[1076,37,1096,37],[1076,38,1096,38],[1076,39,1096,39],[1076,40,1096,40],[1055,47,1075,47],[1055,48,1075,48],[1055,49,1075,49],[1055,50,1075,50],[1058,24,1060,24],[1061,24,1063,24],[1064,24,1066,24],[1067,24,1069,24],[1070,24,1072,24],[1073,24,1075,24],[1055,41,1075,41],[1055,42,1075,42],[1055,43,1075,43],[1055,44,1075,44],[1055,45,1075,45],[1055,46,1075,46],[1055,24,1057,24],[1055,36,1075,36],[1055,37,1075,37],[1055,38,1075,38],[1055,39,1075,39],[1055,40,1075,40],[1034,47,1054,47],[1034,48,1054,48],[1034,49,1054,49],[1034,50,1054,50],[1037,24,1039,24],[1040,24,1042,24],[1043,24,1045,24],[1046,24,1048,24],[1049,24,1051,24],[1052,24,1054,24],[1034,41,1054,41],[1034,42,1054,42],[1034,43,1054,43],[1034,44,1054,44],[1034,45,1054,45],[1034,46,1054,46],[1034,24,1036,24],[1034,36,1054,36],[1034,37,1054,37],[1034,38,1054,38],[1034,39,1054,39],[1034,40,1054,40],[1013,47,1033,47],[1013,48,1033,48],[1013,49,1033,49],[1013,50,1033,50],[1016,24,1018,24],[1019,24,1021,24],[1022,24,1024,24],[1025,24,1027,24],[1028,24,1030,24],[1031,24,1033,24],[1013,41,1033,41],[1013,42,1033,42],[1013,43,1033,43],[1013,44,1033,44],[1013,45,1033,45],[1013,46,1033,46],[1013,24,1015,24],[1013,36,1033,36],[1013,37,1033,37],[1013,38,1033,38],[1013,39,1033,39],[1013,40,1033,40],[992,47,1012,47],[992,48,1012,48],[992,49,1012,49],[992,50,1012,50],[995,24,997,24],[998,24,1000,24],[1001,24,1003,24],[1004,24,1006,24],[1007,24,1009,24],[1010,24,1012,24],[992,41,1012,41],[992,42,1012,42],[992,43,1012,43],[992,44,1012,44],[992,45,1012,45],[992,46,1012,46],[992,24,994,24],[992,36,1012,36],[992,37,1012,37],[992,38,1012,38],[992,39,1012,39],[992,40,1012,40],[971,47,991,47],[971,48,991,48],[971,49,991,49],[971,50,991,50],[974,24,976,24],[977,24,979,24],[980,24,982,24],[983,24,985,24],[986,24,988,24],[989,24,991,24],[971,41,991,41],[971,42,991,42],[971,43,991,43],[971,44,991,44],[971,45,991,45],[971,46,991,46],[971,24,973,24],[971,36,991,36],[971,37,991,37],[971,38,991,38],[971,39,991,39],[971,40,991,40],[950,47,970,47],[950,48,970,48],[950,49,970,49],[950,50,970,50],[953,24,955,24],[956,24,958,24],[959,24,961,24],[962,24,964,24],[965,24,967,24],[968,24,970,24],[950,41,970,41],[950,42,970,42],[950,43,970,43],[950,44,970,44],[950,45,970,45],[950,46,970,46],[950,24,952,24],[950,36,970,36],[950,37,970,37],[950,38,970,38],[950,39,970,39],[950,40,970,40],[929,47,949,47],[929,48,949,48],[929,49,949,49],[929,50,949,50],[932,24,934,24],[935,24,937,24],[938,24,940,24],[941,24,943,24],[944,24,946,24],[947,24,949,24],[929,41,949,41],[929,42,949,42],[929,43,949,43],[929,44,949,44],[929,45,949,45],[929,46,949,46],[929,24,931,24],[929,36,949,36],[929,37,949,37],[929,38,949,38],[929,39,949,39],[929,40,949,40],[908,47,928,47],[908,48,928,48],[908,49,928,49],[908,50,928,50],[911,24,913,24],[914,24,916,24],[917,24,919,24],[920,24,922,24],[923,24,925,24],[926,24,928,24],[908,41,928,41],[908,42,928,42],[908,43,928,43],[908,44,928,44],[908,45,928,45],[908,46,928,46],[908,24,910,24],[908,36,928,36],[908,37,928,37],[908,38,928,38],[908,39,928,39],[908,40,928,40],[887,47,907,47],[887,48,907,48],[887,49,907,49],[887,50,907,50],[890,24,892,24],[893,24,895,24],[896,24,898,24],[899,24,901,24],[902,24,904,24],[905,24,907,24],[887,41,907,41],[887,42,907,42],[887,43,907,43],[887,44,907,44],[887,45,907,45],[887,46,907,46],[887,24,889,24],[887,36,907,36],[887,37,907,37],[887,38,907,38],[887,39,907,39],[887,40,907,40],[866,47,886,47],[866,48,886,48],[866,49,886,49],[866,50,886,50],[869,24,871,24],[872,24,874,24],[875,24,877,24],[878,24,880,24],[881,24,883,24],[884,24,886,24],[866,41,886,41],[866,42,886,42],[866,43,886,43],[866,44,886,44],[866,45,886,45],[866,46,886,46],[866,24,868,24],[866,36,886,36],[866,37,886,37],[866,38,886,38],[866,39,886,39],[866,40,886,40],[845,47,865,47],[845,48,865,48],[845,49,865,49],[845,50,865,50],[848,24,850,24],[851,24,853,24],[854,24,856,24],[857,24,859,24],[860,24,862,24],[863,24,865,24],[845,41,865,41],[845,42,865,42],[845,43,865,43],[845,44,865,44],[845,45,865,45],[845,46,865,46],[845,24,847,24],[845,36,865,36],[845,37,865,37],[845,38,865,38],[845,39,865,39],[845,40,865,40],[824,47,844,47],[824,48,844,48],[824,49,844,49],[824,50,844,50],[827,24,829,24],[830,24,832,24],[833,24,835,24],[836,24,838,24],[839,24,841,24],[842,24,844,24],[824,41,844,41],[824,42,844,42],[824,43,844,43],[824,44,844,44],[824,45,844,45],[824,46,844,46],[824,24,826,24],[824,36,844,36],[824,37,844,37],[824,38,844,38],[824,39,844,39],[824,40,844,40],[803,47,823,47],[803,48,823,48],[803,49,823,49],[803,50,823,50],[806,24,808,24],[809,24,811,24],[812,24,814,24],[815,24,817,24],[818,24,820,24],[821,24,823,24],[803,41,823,41],[803,42,823,42],[803,43,823,43],[803,44,823,44],[803,45,823,45],[803,46,823,46],[803,24,805,24],[803,36,823,36],[803,37,823,37],[803,38,823,38],[803,39,823,39],[803,40,823,40],[782,47,802,47],[782,48,802,48],[782,49,802,49],[782,50,802,50],[785,24,787,24],[788,24,790,24],[791,24,793,24],[794,24,796,24],[797,24,799,24],[800,24,802,24],[782,41,802,41],[782,42,802,42],[782,43,802,43],[782,44,802,44],[782,45,802,45],[782,46,802,46],[782,24,784,24],[782,36,802,36],[782,37,802,37],[782,38,802,38],[782,39,802,39],[782,40,802,40],[761,47,781,47],[761,48,781,48],[761,49,781,49],[761,50,781,50],[764,24,766,24],[767,24,769,24],[770,24,772,24],[773,24,775,24],[776,24,778,24],[779,24,781,24],[761,41,781,41],[761,42,781,42],[761,43,781,43],[761,44,781,44],[761,45,781,45],[761,46,781,46],[761,24,763,24],[761,36,781,36],[761,37,781,37],[761,38,781,38],[761,39,781,39],[761,40,781,40],[740,47,760,47],[740,48,760,48],[740,49,760,49],[740,50,760,50],[743,24,745,24],[746,24,748,24],[749,24,751,24],[752,24,754,24],[755,24,757,24],[758,24,760,24],[740,41,760,41],[740,42,760,42],[740,43,760,43],[740,44,760,44],[740,45,760,45],[740,46,760,46],[740,24,742,24],[740,36,760,36],[740,37,760,37],[740,38,760,38],[740,39,760,39],[740,40,760,40],[719,47,739,47],[719,48,739,48],[719,49,739,49],[719,50,739,50],[722,24,724,24],[725,24,727,24],[728,24,730,24],[731,24,733,24],[734,24,736,24],[737,24,739,24],[719,41,739,41],[719,42,739,42],[719,43,739,43],[719,44,739,44],[719,45,739,45],[719,46,739,46],[719,24,721,24],[719,36,739,36],[719,37,739,37],[719,38,739,38],[719,39,739,39],[719,40,739,40],[698,47,718,47],[698,48,718,48],[698,49,718,49],[698,50,718,50],[701,24,703,24],[704,24,706,24],[707,24,709,24],[710,24,712,24],[713,24,715,24],[716,24,718,24],[698,41,718,41],[698,42,718,42],[698,43,718,43],[698,44,718,44],[698,45,718,45],[698,46,718,46],[698,24,700,24],[698,36,718,36],[698,37,718,37],[698,38,718,38],[698,39,718,39],[698,40,718,40],[677,47,697,47],[677,48,697,48],[677,49,697,49],[677,50,697,50],[680,24,682,24],[683,24,685,24],[686,24,688,24],[689,24,691,24],[692,24,694,24],[695,24,697,24],[677,41,697,41],[677,42,697,42],[677,43,697,43],[677,44,697,44],[677,45,697,45],[677,46,697,46],[677,24,679,24],[677,36,697,36],[677,37,697,37],[677,38,697,38],[677,39,697,39],[677,40,697,40],[656,47,676,47],[656,48,676,48],[656,49,676,49],[656,50,676,50],[659,24,661,24],[662,24,664,24],[665,24,667,24],[668,24,670,24],[671,24,673,24],[674,24,676,24],[656,41,676,41],[656,42,676,42],[656,43,676,43],[656,44,676,44],[656,45,676,45],[656,46,676,46],[656,24,658,24],[656,36,676,36],[656,37,676,37],[656,38,676,38],[656,39,676,39],[656,40,676,40],[635,47,655,47],[635,48,655,48],[635,49,655,49],[635,50,655,50],[638,24,640,24],[641,24,643,24],[644,24,646,24],[647,24,649,24],[650,24,652,24],[653,24,655,24],[635,41,655,41],[635,42,655,42],[635,43,655,43],[635,44,655,44],[635,45,655,45],[635,46,655,46],[635,24,637,24],[635,36,655,36],[635,37,655,37],[635,38,655,38],[635,39,655,39],[635,40,655,40],[614,47,634,47],[614,48,634,48],[614,49,634,49],[614,50,634,50],[617,24,619,24],[620,24,622,24],[623,24,625,24],[626,24,628,24],[629,24,631,24],[632,24,634,24],[614,41,634,41],[614,42,634,42],[614,43,634,43],[614,44,634,44],[614,45,634,45],[614,46,634,46],[614,24,616,24],[614,36,634,36],[614,37,634,37],[614,38,634,38],[614,39,634,39],[614,40,634,40],[593,47,613,47],[593,48,613,48],[593,49,613,49],[593,50,613,50],[596,24,598,24],[599,24,601,24],[602,24,604,24],[605,24,607,24],[608,24,610,24],[611,24,613,24],[593,41,613,41],[593,42,613,42],[593,43,613,43],[593,44,613,44],[593,45,613,45],[593,46,613,46],[593,24,595,24],[593,36,613,36],[593,37,613,37],[593,38,613,38],[593,39,613,39],[593,40,613,40],[572,47,592,47],[572,48,592,48],[572,49,592,49],[572,50,592,50],[575,24,577,24],[578,24,580,24],[581,24,583,24],[584,24,586,24],[587,24,589,24],[590,24,592,24],[572,41,592,41],[572,42,592,42],[572,43,592,43],[572,44,592,44],[572,45,592,45],[572,46,592,46],[572,24,574,24],[572,36,592,36],[572,37,592,37],[572,38,592,38],[572,39,592,39],[572,40,592,40],[551,47,571,47],[551,48,571,48],[551,49,571,49],[551,50,571,50],[554,24,556,24],[557,24,559,24],[560,24,562,24],[563,24,565,24],[566,24,568,24],[569,24,571,24],[551,41,571,41],[551,42,571,42],[551,43,571,43],[551,44,571,44],[551,45,571,45],[551,46,571,46],[551,24,553,24],[551,36,571,36],[551,37,571,37],[551,38,571,38],[551,39,571,39],[551,40,571,40],[530,47,550,47],[530,48,550,48],[530,49,550,49],[530,50,550,50],[533,24,535,24],[536,24,538,24],[539,24,541,24],[542,24,544,24],[545,24,547,24],[548,24,550,24],[530,41,550,41],[530,42,550,42],[530,43,550,43],[530,44,550,44],[530,45,550,45],[530,46,550,46],[530,24,532,24],[530,36,550,36],[530,37,550,37],[530,38,550,38],[530,39,550,39],[530,40,550,40],[509,47,529,47],[509,48,529,48],[509,49,529,49],[509,50,529,50],[512,24,514,24],[515,24,517,24],[518,24,520,24],[521,24,523,24],[524,24,526,24],[527,24,529,24],[509,41,529,41],[509,42,529,42],[509,43,529,43],[509,44,529,44],[509,45,529,45],[509,46,529,46],[509,24,511,24],[509,36,529,36],[509,37,529,37],[509,38,529,38],[509,39,529,39],[509,40,529,40],[488,47,508,47],[488,48,508,48],[488,49,508,49],[488,50,508,50],[491,24,493,24],[494,24,496,24],[497,24,499,24],[500,24,502,24],[503,24,505,24],[506,24,508,24],[488,41,508,41],[488,42,508,42],[488,43,508,43],[488,44,508,44],[488,45,508,45],[488,46,508,46],[488,24,490,24],[488,36,508,36],[488,37,508,37],[488,38,508,38],[488,39,508,39],[488,40,508,40],[467,47,487,47],[467,48,487,48],[467,49,487,49],[467,50,487,50],[470,24,472,24],[473,24,475,24],[476,24,478,24],[479,24,481,24],[482,24,484,24],[485,24,487,24],[467,41,487,41],[467,42,487,42],[467,43,487,43],[467,44,487,44],[467,45,487,45],[467,46,487,46],[467,24,469,24],[467,36,487,36],[467,37,487,37],[467,38,487,38],[467,39,487,39],[467,40,487,40],[446,47,466,47],[446,48,466,48],[446,49,466,49],[446,50,466,50],[449,24,451,24],[452,24,454,24],[455,24,457,24],[458,24,460,24],[461,24,463,24],[464,24,466,24],[446,41,466,41],[446,42,466,42],[446,43,466,43],[446,44,466,44],[446,45,466,45],[446,46,466,46],[446,24,448,24],[446,36,466,36],[446,37,466,37],[446,38,466,38],[446,39,466,39],[446,40,466,40],[425,47,445,47],[425,48,445,48],[425,49,445,49],[425,50,445,50],[428,24,430,24],[431,24,433,24],[434,24,436,24],[437,24,439,24],[440,24,442,24],[443,24,445,24],[425,41,445,41],[425,42,445,42],[425,43,445,43],[425,44,445,44],[425,45,445,45],[425,46,445,46],[425,24,427,24],[425,36,445,36],[425,37,445,37],[425,38,445,38],[425,39,445,39],[425,40,445,40],[404,47,424,47],[404,48,424,48],[404,49,424,49],[404,50,424,50],[407,24,409,24],[410,24,412,24],[413,24,415,24],[416,24,418,24],[419,24,421,24],[422,24,424,24],[404,41,424,41],[404,42,424,42],[404,43,424,43],[404,44,424,44],[404,45,424,45],[404,46,424,46],[404,24,406,24],[404,36,424,36],[404,37,424,37],[404,38,424,38],[404,39,424,39],[404,40,424,40],[383,47,403,47],[383,48,403,48],[383,49,403,49],[383,50,403,50],[386,24,388,24],[389,24,391,24],[392,24,394,24],[395,24,397,24],[398,24,400,24],[401,24,403,24],[383,41,403,41],[383,42,403,42],[383,43,403,43],[383,44,403,44],[383,45,403,45],[383,46,403,46],[383,24,385,24],[383,36,403,36],[383,37,403,37],[383,38,403,38],[383,39,403,39],[383,40,403,40],[362,47,382,47],[362,48,382,48],[362,49,382,49],[362,50,382,50],[365,24,367,24],[368,24,370,24],[371,24,373,24],[374,24,376,24],[377,24,379,24],[380,24,382,24],[362,41,382,41],[362,42,382,42],[362,43,382,43],[362,44,382,44],[362,45,382,45],[362,46,382,46],[362,24,364,24],[362,36,382,36],[362,37,382,37],[362,38,382,38],[362,39,382,39],[362,40,382,40],[341,47,361,47],[341,48,361,48],[341,49,361,49],[341,50,361,50],[344,24,346,24],[347,24,349,24],[350,24,352,24],[353,24,355,24],[356,24,358,24],[359,24,361,24],[341,41,361,41],[341,42,361,42],[341,43,361,43],[341,44,361,44],[341,45,361,45],[341,46,361,46],[341,24,343,24],[341,36,361,36],[341,37,361,37],[341,38,361,38],[341,39,361,39],[341,40,361,40],[320,47,340,47],[320,48,340,48],[320,49,340,49],[320,50,340,50],[323,24,325,24],[326,24,328,24],[329,24,331,24],[332,24,334,24],[335,24,337,24],[338,24,340,24],[320,41,340,41],[320,42,340,42],[320,43,340,43],[320,44,340,44],[320,45,340,45],[320,46,340,46],[320,24,322,24],[320,36,340,36],[320,37,340,37],[320,38,340,38],[320,39,340,39],[320,40,340,40],[299,47,319,47],[299,48,319,48],[299,49,319,49],[299,50,319,50],[302,24,304,24],[305,24,307,24],[308,24,310,24],[311,24,313,24],[314,24,316,24],[317,24,319,24],[299,41,319,41],[299,42,319,42],[299,43,319,43],[299,44,319,44],[299,45,319,45],[299,46,319,46],[299,24,301,24],[299,36,319,36],[299,37,319,37],[299,38,319,38],[299,39,319,39],[299,40,319,40],[278,47,298,47],[278,48,298,48],[278,49,298,49],[278,50,298,50],[281,24,283,24],[284,24,286,24],[287,24,289,24],[290,24,292,24],[293,24,295,24],[296,24,298,24],[278,41,298,41],[278,42,298,42],[278,43,298,43],[278,44,298,44],[278,45,298,45],[278,46,298,46],[278,24,280,24],[278,36,298,36],[278,37,298,37],[278,38,298,38],[278,39,298,39],[278,40,298,40],[257,47,277,47],[257,48,277,48],[257,49,277,49],[257,50,277,50],[260,24,262,24],[263,24,265,24],[266,24,268,24],[269,24,271,24],[272,24,274,24],[275,24,277,24],[257,41,277,41],[257,42,277,42],[257,43,277,43],[257,44,277,44],[257,45,277,45],[257,46,277,46],[257,24,259,24],[257,36,277,36],[257,37,277,37],[257,38,277,38],[257,39,277,39],[257,40,277,40],[236,47,256,47],[236,48,256,48],[236,49,256,49],[236,50,256,50],[239,24,241,24],[242,24,244,24],[245,24,247,24],[248,24,250,24],[251,24,253,24],[254,24,256,24],[236,41,256,41],[236,42,256,42],[236,43,256,43],[236,44,256,44],[236,45,256,45],[236,46,256,46],[236,24,238,24],[236,36,256,36],[236,37,256,37],[236,38,256,38],[236,39,256,39],[236,40,256,40],[215,47,235,47],[215,48,235,48],[215,49,235,49],[215,50,235,50],[218,24,220,24],[221,24,223,24],[224,24,226,24],[227,24,229,24],[230,24,232,24],[233,24,235,24],[215,41,235,41],[215,42,235,42],[215,43,235,43],[215,44,235,44],[215,45,235,45],[215,46,235,46],[215,24,217,24],[215,36,235,36],[215,37,235,37],[215,38,235,38],[215,39,235,39],[215,40,235,40],[194,47,214,47],[194,48,214,48],[194,49,214,49],[194,50,214,50],[197,24,199,24],[200,24,202,24],[203,24,205,24],[206,24,208,24],[209,24,211,24],[212,24,214,24],[194,41,214,41],[194,42,214,42],[194,43,214,43],[194,44,214,44],[194,45,214,45],[194,46,214,46],[194,24,196,24],[194,36,214,36],[194,37,214,37],[194,38,214,38],[194,39,214,39],[194,40,214,40],[173,47,193,47],[173,48,193,48],[173,49,193,49],[173,50,193,50],[176,24,178,24],[179,24,181,24],[182,24,184,24],[185,24,187,24],[188,24,190,24],[191,24,193,24],[173,41,193,41],[173,42,193,42],[173,43,193,43],[173,44,193,44],[173,45,193,45],[173,46,193,46],[173,24,175,24],[173,36,193,36],[173,37,193,37],[173,38,193,38],[173,39,193,39],[173,40,193,40],[152,47,172,47],[152,48,172,48],[152,49,172,49],[152,50,172,50],[155,24,157,24],[158,24,160,24],[161,24,163,24],[164,24,166,24],[167,24,169,24],[170,24,172,24]],"merged_total":1181,"flags":["merged_cut"]}
[null,null,null,null,null,null,null,null,null,null,null,null,null,null,null,null,null,null,null,null,null,null,null,{"$f":"DATA!$C$16","v":"SRI RH"},null,null,null,null,"TA Target",null,{"$f":"DATA!$C$9","v":0.89},null,null,null,null,null,null,null,null,null,null,"TA","=","[ A ]"]
[null,null,null,null,null,null,null,null,null,null,null,null,null,null,null,null,null,null,null,null,null,null,null,null,null,null,null,null,"Cycle Time",null,{"$f":"DATA!$C$10","v":64},null,{"$f":"AE2/60","v":1.0666666666666667}]
[null,null,null,null,null,null,null,null,null,null,null,null,null,null,null,null,null,null,null,null,null,null,null,null,null,null,null,null,"Enter Data",null,null,null,null,null,null,null,null,null,null,null,null,null,null,"[ T ] - [ BS ] - [ PS ]"]
["ID","Shift\n Start Time","Shift \nEnd Time","Break Time","Total \nShift time [Hour]","Available\nProduction Time [Hour]","Target [%]","Cycle time [s]","Target Ouput [56/H]","Parts Target \n[56/H]","Parts Target\n[100% Availability]","Blocked / Starved\n[Hour]","Loss Blocked/ Starved [Parts]","Loss Blocked/ Starved [%]","Planned Stop/ Early Finish\n[Hour]","Loss Planned Stop/ Early Finish [Parts]","Loss \nPlanned Stop/ Early Finish\n[%]","Rekenkolom Benodigde tijd ","Produced Parts Actual","Produced Parts Shift D1","Produced Parts Shift D2","Produced Parts Shift D3",null,"Week ","Date","Day","Shift","Shift","Blocked / Starved [Min]","Planned Stop / Early Finish\n[Min]","Parts during break","Produced Parts Total","Downtime Technical SAP[min]","Delta [Parts]","Availability (Total Time)\n[%]","Technical Availabilty SRI RH\n[%]","Parts Target\n[100% Availability]  ","Parts Actual                        ","Availability (Total Time)\n[%]","Loss Blocked/ Starved [Parts]","Loss Blocked/ Starved [%] ","Loss \nPlanned Stop/ Early Finish [Parts]","Loss \nPlanned Stop/ Early Finish\n[%]","Technical Availability Total LH\n[%]","Technical Availability \nShift D1\n[%]","Technical Availability Shift D2\n[%]","Technical Availability Shift D3\n[%]","Total Downtime [Parts]","Total Downtime\n[%]","Total Downtime [Min]","Geregistreerd SAP Technical Downtime [Min]","Major Items Downtime"]
[null,null,null,null,null,null,null,null,null,null,null,null,null,null,null,null,null,null,null,null,null,null,null,null,null,null,null,null,null,null,null,null,null,null,null,null,"[T]","[A]",null,"[BS]",null,"[PS]",null,null,"D1","D2","D3"]
[{"$f":"X6&Z6&AA6","v":"1maDD"},{"$f":"VLOOKUP($AA6,DATA!$B$3:$E$6,2,0)","v":"06:30:00"},{"$f":"VLOOKUP($AA6,DATA!$B$3:$E$6,3,0)","v":"14:30:00"},{"$f":"VLOOKUP($AA6,DATA!$B$3:$E$6,4,0)","v":3.125E-2},{"$f":"(C6-B6+(B6>C6))-D6","v":0.30208333333333331},{"$f":"E6-O6-L6","v":0.30208333333333331},{"$f":"DATA!$C$9","v":0.89},{"$f":"DATA!$C$10","v":64},1,{"$f":"F6*86400/H6*I6","v":407.8125},{"$f":"E6*86400/H6","v":407.8125},{"$f":"TIME(INT($AC6/60),INT(MOD($AC6,60)/1),0)","v":0},{"$f":"IF($L6*86400/$H6=0,\"\",$L6*86400/$H6)","v":""},{"$f":"IFERROR($M6/$K6,\"\")","v":""},{"$f":"TIME(INT($AD6/60),INT(MOD($AD6,60)/1),0)","v":0},{"$f":"IF($O6*86400/$H6=0,\"\",$O6*86400/$H6)","v":""},{"$f":"IFERROR($P6/$K6,\"\")","v":""},{"$f":"AF6*AG$2","v":0},{"$f":"IF(AF6-AE6=0,\"\",AF6-AE6)","v":""},{"$f":"IF(IF($AB6=\"D1\",$S6,\"\")=0,\"\",IF($AB6=\"D1\",$S6,\"\"))","v":""},{"$f":"IF(IF($AB6=\"D2\",$S6,\"\")=0,\"\",IF($AB6=\"D2\",$S6,\"\"))","v":""},{"$f":"IF(IF($AB6=\"D3\",$S6,\"\")=0,\"\",IF($AB6=\"D3\",$S6,\"\"))","v":""},null,{"$f":"X16","v":1},"2018-01-01",{"$f":"TEXT(Y6,\"ddd\")","v":"ma"},"DD",{"$f":"IFERROR(HLOOKUP(Y6,[1]DATA!$A$1:$NB$5,3,0),\"\")","v":"D1"},null,null,null,null,0,"","","",3487.5,2358,0.67612903225806453,865.3125,0.24811827956989246,65.625,1.8817204301075269E-2,0.96251177673692023,0.95884562143744811,"",0.96617793203639235,198.5625,5.6935483870967737E-2,211.8,106]
["1maMD",{"$f":"VLOOKUP($AA7,DATA!$B$3:$E$6,2,0)","v":"14:30:00"},{"$f":"VLOOKUP($AA7,DATA!$B$3:$E$6,3,0)","v":"22:30:00"},{"$f":"VLOOKUP($AA7,DATA!$B$3:$E$6,4,0)","v":3.125E-2},{"$f":"(C7-B7+(B7>C7))-D7","v":0.30208333333333337},{"$f":"E7-O7-L7","v":0.30208333333333337},{"$f":"DATA!$C$9","v":0.89},{"$f":"DATA!$C$10","v":64},1,{"$f":"F7*86400/H7*I7","v":407.81250000000006},{"$f":"E7*86400/H7","v":407.81250000000006},{"$f":"TIME(INT($AC7/60),INT(MOD($AC7,60)/1),0)","v":0},{"$f":"IF($L7*86400/$H7=0,\"\",$L7*86400/$H7)","v":""},{"$f":"IFERROR($M7/$K7,\"\")","v":""},{"$f":"TIME(INT(AD7/60),INT(MOD(AD7,60)/1),0)","v":0},"",{"$f":"IFERROR($P7/$K7,\"\")","v":""},{"$f":"AF7*AG$2","v":0},{"$f":"IF(AF7-AE7=0,\"\",AF7-AE7)","v":""},{"$f":"IF(IF($AB7=\"D1\",$S7,\"\")=0,\"\",IF($AB7=\"D1\",$S7,\"\"))","v":""},{"$f":"IF(IF($AB7=\"D2\",$S7,\"\")=0,\"\",IF($AB7=\"D2\",$S7,\"\"))","v":""},{"$f":"IF(IF($AB7=\"D3\",$S7,\"\")=0,\"\",IF($AB7=\"D3\",$S7,\"\"))","v":""},null,{"$f":"X16","v":1},null,{"$f":"TEXT(Y6,\"ddd\")","v":"ma"},"MD",{"$f":"IFERROR(HLOOKUP(Y6,[1]DATA!$A$1:$NB$5,4,0),\"\")","v":"D3"},null,null,null,null,0,"","",""]
["1maND",{"$f":"VLOOKUP($AA8,DATA!$B$3:$E$6,2,0)","v":"22:30:00"},{"$f":"VLOOKUP($AA8,DATA!$B$3:$E$6,3,0)","v":"06:30:00"},{"$f":"VLOOKUP($AA8,DATA!$B$3:$E$6,4,0)","v":3.125E-2},0.30208333333333326,0.30208333333333326,{"$f":"DATA!$C$9","v":0.89},{"$f":"DATA!$C$10","v":64},1,407.81249999999989,407.81249999999989,0,"","",0,"","",0,"","","","",null,{"$f":"X16","v":1},null,{"$f":"TEXT(Y6,\"ddd\")","v":"ma"},"ND",{"$f":"IFERROR(HLOOKUP(Y6,[1]DATA!$A$1:$NB$5,5,0),\"\")","v":"D2"},null,null,null,null,0,"","",""]
["1diDD",{"$f":"VLOOKUP($AA9,DATA!$B$3:$E$6,2,0)","v":"06:30:00"},{"$f":"VLOOKUP($AA9,DATA!$B$3:$E$6,3,0)","v":"14:30:00"},{"$f":"VLOOKUP($AA9,DATA!$B$3:$E$6,4,0)","v":3.125E-2},0.30208333333333331,0.19999999999999996,{"$f":"DATA!$C$9","v":0.89},{"$f":"DATA!$C$10","v":64},1,269.99999999999994,407.8125,0.10208333333333335,137.81250000000003,0.33793103448275869,0,"","",297.60000000000002,256,256,"","",null,{"$f":"X16","v":1},{"$f":"Y6+1","v":"2018-01-02"},{"$f":"TEXT(Y9,\"ddd\")","v":"di"},"DD",{"$f":"IFERROR(HLOOKUP(Y9,[1]DATA!$A$1:$NB$5,3,0),\"\")","v":"D1"},147,null,23,279,0,-42.125,0.58724014336917563,1]
["1diMD",{"$f":"VLOOKUP($AA10,DATA!$B$3:$E$6,2,0)","v":"14:30:00"},{"$f":"VLOOKUP($AA10,DATA!$B$3:$E$6,3,0)","v":"22:30:00"},{"$f":"VLOOKUP($AA10,DATA!$B$3:$E$6,4,0)","v":3.125E-2},0.30208333333333337,0.24652777777777782,{"$f":"DATA!$C$9","v":0.89},{"$f":"DATA!$C$10","v":64},1,332.81250000000006,407.81250000000006,5.5555555555555552E-2,75,0.18390804597701146,0,"","",359.46666666666664,312,"","",312,null,{"$f":"X16","v":1},null,{"$f":"TEXT(Y9,\"ddd\")","v":"di"},"MD",{"$f":"IFERROR(HLOOKUP(Y9,[1]DATA!$A$1:$NB$5,4,0),\"\")","v":"D3"},80,null,25,337,17,-48.937499999999943,0.71569892473118291,0.95484327961749604]
["1diND",{"$f":"VLOOKUP($AA11,DATA!$B$3:$E$6,2,0)","v":"22:30:00"},{"$f":"VLOOKUP($AA11,DATA!$B$3:$E$6,3,0)","v":"06:30:00"},{"$f":"VLOOKUP($AA11,DATA!$B$3:$E$6,4,0)","v":3.125E-2},0.30208333333333326,0.30208333333333326,{"$f":"DATA!$C$9","v":0.89},{"$f":"DATA!$C$10","v":64},1,407.81249999999989,407.81249999999989,0,"","",0,"","",0,"","","","",null,{"$f":"X16","v":1},null,{"$f":"TEXT(Y9,\"ddd\")","v":"di"},"ND",{"$f":"IFERROR(HLOOKUP(Y9,[1]DATA!$A$1:$NB$5,5,0),\"\")","v":"D2"},null,null,null,null,0,"","",""]
["1woDD",{"$f":"VLOOKUP($AA12,DATA!$B$3:$E$6,2,0)","v":"06:30:00"},{"$f":"VLOOKUP($AA12,DATA!$B$3:$E$6,3,0)","v":"14:30:00"},{"$f":"VLOOKUP($AA12,DATA!$B$3:$E$6,4,0)","v":3.125E-2},0.30208333333333331,0.25208333333333333,{"$f":"DATA!$C$9","v":0.89},{"$f":"DATA!$C$10","v":64},1,340.3125,407.8125,4.9999999999999996E-2,67.5,0.16551724137931034,0,"","",366.93333333333334,326,326,"","",null,{"$f":"X16","v":1},{"$f":"Y9+1","v":"2018-01-03"},{"$f":"TEXT(Y12,\"ddd\")","v":"wo"},"DD",{"$f":"IFERROR(HLOOKUP(Y12,[1]DATA!$A$1:$NB$5,3,0),\"\")","v":"D1"},72,null,18,344,12,-42.437500000000057,0.74781362007168461,0.96833216045038706]
["1woMD",{"$f":"VLOOKUP($AA13,DATA!$B$3:$E$6,2,0)","v":"14:30:00"},{"$f":"VLOOKUP($AA13,DATA!$B$3:$E$6,3,0)","v":"22:30:00"},{"$f":"VLOOKUP($AA13,DATA!$B$3:$E$6,4,0)","v":3.125E-2},0.30208333333333337,0.24444444444444449,{"$f":"DATA!$C$9","v":0.89},{"$f":"DATA!$C$10","v":64},1,330.00000000000006,407.81250000000006,5.7638888888888885E-2,77.8125,0.19080459770114941,0,"","",377.6,336,"","",336,null,{"$f":"X16","v":1},null,{"$f":"TEXT(Y12,\"ddd\")","v":"wo"},"MD",{"$f":"IFERROR(HLOOKUP(Y12,[1]DATA!$A$1:$NB$5,4,0),\"\")","v":"D3"},83,null,18,354,15,-22.124999999999943,0.77075268817204312,0.96179317371370354]
["1woND",{"$f":"VLOOKUP($AA14,DATA!$B$3:$E$6,2,0)","v":"22:30:00"},{"$f":"VLOOKUP($AA14,DATA!$B$3:$E$6,3,0)","v":"06:30:00"},{"$f":"VLOOKUP($AA14,DATA!$B$3:$E$6,4,0)","v":3.125E-2},0.30208333333333326,0.30208333333333326,{"$f":"DATA!$C$9","v":0.89},{"$f":"DATA!$C$10","v":64},1,407.81249999999989,407.81249999999989,0,"","",0,"","",0,"","","","",null,{"$f":"X16","v":1},null,{"$f":"TEXT(Y12,\"ddd\")","v":"wo"},"ND",{"$f":"IFERROR(HLOOKUP(Y12,[1]DATA!$A$1:$NB$5,5,0),\"\")","v":"D2"},null,null,null,null,0,"","",""]
["1doDD",{"$f":"VLOOKUP($AA15,DATA!$B$3:$E$6,2,0)","v":"06:30:00"},{"$f":"VLOOKUP($AA15,DATA!$B$3:$E$6,3,0)","v":"14:30:00"},{"$f":"VLOOKUP($AA15,DATA!$B$3:$E$6,4,0)","v":3.125E-2},0.30208333333333331,0.17430555555555552,{"$f":"DATA!$C$9","v":0.89},{"$f":"DATA!$C$10","v":64},1,235.31249999999994,407.8125,0.1277777777777778,172.50000000000003,0.42298850574712649,0,"","",300.8,260,260,"","",null,{"$f":"X16","v":1},{"$f":"Y12+1","v":"2018-01-04"},{"$f":"TEXT(Y15,\"ddd\")","v":"do"},"DD",{"$f":"IFERROR(HLOOKUP(Y15,[1]DATA!$A$1:$NB$5,3,0),\"\")","v":"D1"},184,null,22,282,9,-3.4375,0.59641577060931905,0.97094899935442225]
["1doMD",{"$f":"VLOOKUP($AA16,DATA!$B$3:$E$6,2,0)","v":"14:30:00"},{"$f":"VLOOKUP($AA16,DATA!$B$3:$E$6,3,0)","v":"22:30:00"},{"$f":"VLOOKUP($AA16,DATA!$B$3:$E$6,4,0)","v":3.125E-2},0.30208333333333337,0.21458333333333335,{"$f":"DATA!$C$9","v":0.89},{"$f":"DATA!$C$10","v":64},1,289.6875,407.81250000000006,8.7500000000000008E-2,118.12500000000001,0.28965517241379307,0,"","",342.4,309,"","",309,null,{"$f":"WEEKNUM($Y6)","v":1},null,{"$f":"TEXT(Y15,\"ddd\")","v":"do"},"MD",{"$f":"IFERROR(HLOOKUP(Y15,[1]DATA!$A$1:$NB$5,4,0),\"\")","v":"D3"},126,null,12,321,10,-8.8124999999999432,0.70881720430107531,0.97162315550510781]
["1doND",{"$f":"VLOOKUP($AA17,DATA!$B$3:$E$6,2,0)","v":"22:30:00"},{"$f":"VLOOKUP($AA17,DATA!$B$3:$E$6,3,0)","v":"06:30:00"},{"$f":"VLOOKUP($AA17,DATA!$B$3:$E$6,4,0)","v":3.125E-2},0.30208333333333326,0.30208333333333326,{"$f":"DATA!$C$9","v":0.89},{"$f":"DATA!$C$10","v":64},1,407.81249999999989,407.81249999999989,0,"","",0,"","",0,"","","","",null,{"$f":"X16","v":1},null,{"$f":"TEXT(Y15,\"ddd\")","v":"do"},"ND",{"$f":"IFERROR(HLOOKUP(Y15,[1]DATA!$A$1:$NB$5,5,0),\"\")","v":"D2"},null,null,null,null,0,"","",""]
["1vrDD",{"$f":"VLOOKUP($AA18,DATA!$B$3:$E$6,2,0)","v":"06:30:00"},{"$f":"VLOOKUP($AA18,DATA!$B$3:$E$6,3,0)","v":"14:30:00"},{"$f":"VLOOKUP($AA18,DATA!$B$3:$E$6,4,0)","v":3.125E-2},0.30208333333333331,0.19236111111111109,{"$f":"DATA!$C$9","v":0.89},{"$f":"DATA!$C$10","v":64},1,259.6875,407.8125,7.4999999999999997E-2,101.25,0.24827586206896551,3.4722222222222224E-2,46.875,0.11494252873563218,301.86666666666667,266,266,"","",null,{"$f":"X16","v":1},{"$f":"Y15+1","v":"2018-01-05"},{"$f":"TEXT(Y18,\"ddd\")","v":"vr"},"DD",{"$f":"IFERROR(HLOOKUP(Y18,[1]DATA!$A$1:$NB$5,3,0),\"\")","v":"D1"},108,50,17,283,35,-21.8125,0.61017921146953402,0.89610132594498315]
["1vrMD",{"$f":"VLOOKUP($AA19,DATA!$B$3:$E$6,2,0)","v":"14:30:00"},{"$f":"VLOOKUP($AA19,DATA!$B$3:$E$6,3,0)","v":"22:30:00"},{"$f":"VLOOKUP($AA19,DATA!$B$3:$E$6,4,0)","v":3.125E-2},0.30208333333333337,0.20277777777777783,{"$f":"DATA!$C$9","v":0.89},{"$f":"DATA!$C$10","v":64},1,273.75000000000006,407.81250000000006,8.5416666666666655E-2,115.31249999999999,0.28275862068965507,1.3888888888888888E-2,18.75,4.5977011494252866E-2,331.73333333333335,293,"","",293,null,{"$f":"X16","v":1},null,{"$f":"TEXT(Y18,\"ddd\")","v":"vr"},"MD",{"$f":"IFERROR(HLOOKUP(Y18,[1]DATA!$A$1:$NB$5,4,0),\"\")","v":"D3"},123,20,18,311,8,-8.875,0.67211469534050183,0.97645211930926212]
["1vrND",{"$f":"VLOOKUP($AA20,DATA!$B$3:$E$6,2,0)","v":"22:30:00"},{"$f":"VLOOKUP($AA20,DATA!$B$3:$E$6,3,0)","v":"06:30:00"},{"$f":"VLOOKUP($AA20,DATA!$B$3:$E$6,4,0)","v":3.125E-2},0.30208333333333326,0.30208333333333326,{"$f":"DATA!$C$9","v":0.89},{"$f":"DATA!$C$10","v":64},1,407.81249999999989,407.81249999999989,0,"","",0,"","",0,"","","","",null,{"$f":"X16","v":1},null,{"$f":"TEXT(Y18,\"ddd\")","v":"vr"},"ND",{"$f":"IFERROR(HLOOKUP(Y18,[1]DATA!$A$1:$NB$5,5,0),\"\")","v":"-"},null,null,null,null,0,"","",""]
["1zaDD",{"$f":"VLOOKUP($AA21,DATA!$B$3:$E$6,2,0)","v":"06:30:00"},{"$f":"VLOOKUP($AA21,DATA!$B$3:$E$6,3,0)","v":"14:30:00"},{"$f":"VLOOKUP($AA21,DATA!$B$3:$E$6,4,0)","v":3.125E-2},0.30208333333333331,0.30208333333333331,{"$f":"DATA!$C$9","v":0.89},{"$f":"DATA!$C$10","v":64},1,407.8125,407.8125,0,"","",0,"","",0,"","","","",null,{"$f":"X16","v":1},{"$f":"Y18+1","v":"2018-01-06"},{"$f":"TEXT(Y21,\"ddd\")","v":"za"},"DD",{"$f":"IFERROR(HLOOKUP(Y21,[1]DATA!$A$1:$NB$5,3,0),\"\")","v":"-"},null,null,null,null,0,"","",""]
["1zaMD",{"$f":"VLOOKUP($AA22,DATA!$B$3:$E$6,2,0)","v":"14:30:00"},{"$f":"VLOOKUP($AA22,DATA!$B$3:$E$6,3,0)","v":"22:30:00"},{"$f":"VLOOKUP($AA22,DATA!$B$3:$E$6,4,0)","v":3.125E-2},0.30208333333333337,0.30208333333333337,{"$f":"DATA!$C$9","v":0.89},{"$f":"DATA!$C$10","v":64},1,407.81250000000006,407.81250000000006,0,"","",0,"","",0,"","","","",null,{"$f":"X16","v":1},null,{"$f":"TEXT(Y21,\"ddd\")","v":"za"},"MD",{"$f":"IFERROR(HLOOKUP(Y21,[1]DATA!$A$1:$NB$5,4,0),\"\")","v":"-"},null,null,null,null,0,"","",""]
["1zaND",{"$f":"VLOOKUP($AA23,DATA!$B$3:$E$6,2,0)","v":"22:30:00"},{"$f":"VLOOKUP($AA23,DATA!$B$3:$E$6,3,0)","v":"06:30:00"},{"$f":"VLOOKUP($AA23,DATA!$B$3:$E$6,4,0)","v":3.125E-2},0.30208333333333326,0.30208333333333326,{"$f":"DATA!$C$9","v":0.89},{"$f":"DATA!$C$10","v":64},1,407.81249999999989,407.81249999999989,0,"","",0,"","",0,"","","","",null,{"$f":"X16","v":1},null,{"$f":"TEXT(Y21,\"ddd\")","v":"za"},"ND",{"$f":"IFERROR(HLOOKUP(Y21,[1]DATA!$A$1:$NB$5,5,0),\"\")","v":"-"},null,null,null,null,0,"","",""]
["1zoDD",{"$f":"VLOOKUP($AA24,DATA!$B$3:$E$6,2,0)","v":"06:30:00"},{"$f":"VLOOKUP($AA24,DATA!$B$3:$E$6,3,0)","v":"14:30:00"},{"$f":"VLOOKUP($AA24,DATA!$B$3:$E$6,4,0)","v":3.125E-2},0.30208333333333331,0.30208333333333331,{"$f":"DATA!$C$9","v":0.89},{"$f":"DATA!$C$10","v":64},1,407.8125,407.8125,0,"","",0,"","",0,"","","","",null,{"$f":"X16","v":1},{"$f":"Y21+1","v":"2018-01-07"},{"$f":"TEXT(Y24,\"ddd\")","v":"zo"},"DD",{"$f":"IFERROR(HLOOKUP(Y24,[1]DATA!$A$1:$NB$5,3,0),\"\")","v":"-"},null,null,null,null,0,"","",""]
["1zoMD",{"$f":"VLOOKUP($AA25,DATA!$B$3:$E$6,2,0)","v":"14:30:00"},{"$f":"VLOOKUP($AA25,DATA!$B$3:$E$6,3,0)","v":"22:30:00"},{"$f":"VLOOKUP($AA25,DATA!$B$3:$E$6,4,0)","v":3.125E-2},0.30208333333333337,0.30208333333333337,{"$f":"DATA!$C$9","v":0.89},{"$f":"DATA!$C$10","v":64},1,407.81250000000006,407.81250000000006,0,"","",0,"","",0,"","","","",null,{"$f":"X16","v":1},null,{"$f":"TEXT(Y24,\"ddd\")","v":"zo"},"MD",{"$f":"IFERROR(HLOOKUP(Y24,[1]DATA!$A$1:$NB$5,4,0),\"\")","v":"-"},null,null,null,null,0,"","",""]
["1zoZND",{"$f":"VLOOKUP($AA26,DATA!$B$3:$E$6,2,0)","v":"00:00:00"},{"$f":"VLOOKUP($AA26,DATA!$B$3:$E$6,3,0)","v":"00:00:00"},{"$f":"VLOOKUP($AA26,DATA!$B$3:$E$6,4,0)","v":3.125E-2},-3.125E-2,-3.125E-2,{"$f":"DATA!$C$9","v":0.89},{"$f":"DATA!$C$10","v":64},1,-42.1875,-42.1875,0,"","",0,"","",0,"","","","",null,{"$f":"X16","v":1},null,{"$f":"TEXT(Y24,\"ddd\")","v":"zo"},"ZND",{"$f":"IFERROR(HLOOKUP(Y24,[1]DATA!$A$1:$NB$5,5,0),\"\")","v":"D1"},null,null,null,null,0,"","",""]
["2maDD",{"$f":"VLOOKUP($AA27,DATA!$B$3:$E$6,2,0)","v":"06:30:00"},{"$f":"VLOOKUP($AA27,DATA!$B$3:$E$6,3,0)","v":"14:30:00"},{"$f":"VLOOKUP($AA27,DATA!$B$3:$E$6,4,0)","v":3.125E-2},0.30208333333333331,0.12499999999999997,{"$f":"DATA!$C$9","v":0.89},{"$f":"DATA!$C$10","v":64},1,{"$f":"F27*86400/H27*I27","v":168.74999999999997},{"$f":"E27*86400/H27","v":407.8125},{"$f":"TIME(INT($AC27/60),INT(MOD($AC27,60)/1),0)","v":0.12847222222222224},{"$f":"IF($L27*86400/$H27=0,\"\",$L27*86400/$H27)","v":173.43750000000003},{"$f":"IFERROR($M27/$K27,\"\")","v":0.42528735632183917},{"$f":"TIME(INT($AD27/60),INT(MOD($AD27,60)/1),0)","v":4.8611111111111112E-2},65.625,{"$f":"IFERROR($P27/$K27,\"\")","v":0.16091954022988506},{"$f":"AF27*AG$2","v":227.2},{"$f":"IF(AF27-AE27=0,\"\",AF27-AE27)","v":200},{"$f":"IF(IF($AB27=\"D1\",$S27,\"\")=0,\"\",IF($AB27=\"D1\",$S27,\"\"))","v":""},{"$f":"IF(IF($AB27=\"D2\",$S27,\"\")=0,\"\",IF($AB27=\"D2\",$S27,\"\"))","v":""},{"$f":"IF(IF($AB27=\"D3\",$S27,\"\")=0,\"\",IF($AB27=\"D3\",$S27,\"\"))","v":200},null,{"$f":"X37","v":2},{"$f":"Y24+1","v":"2018-01-08"},{"$f":"TEXT(Y27,\"ddd\")","v":"ma"},"DD",{"$f":"IFERROR(HLOOKUP(Y27,[1]DATA!$A$1:$NB$5,3,0),\"\")","v":"D3"},185,70,13,213,0,3.125,0.45878136200716846,1,4359.375,3128,0.71753405017921146,952.5,0.21849462365591399,65.625,1.5053763440860216E-2,0.98347668837132451,"",0.97472899778195732,0.99222437896069182,213.25,4.8917562724014339E-2,227.46666666666667,68]
["2maMD",{"$f":"VLOOKUP($AA28,DATA!$B$3:$E$6,2,0)","v":"14:30:00"},{"$f":"VLOOKUP($AA28,DATA!$B$3:$E$6,3,0)","v":"22:30:00"},{"$f":"VLOOKUP($AA28,DATA!$B$3:$E$6,4,0)","v":3.125E-2},{"$f":"(C28-B28+(B28>C28))-D28","v":0.30208333333333337},{"$f":"E28-O28-L28","v":0.21111111111111114},{"$f":"DATA!$C$9","v":0.89},{"$f":"DATA!$C$10","v":64},1,{"$f":"F28*86400/H28*I28","v":285.00000000000006},{"$f":"E28*86400/H28","v":407.81250000000006},9.0972222222222218E-2,122.8125,0.30114942528735628,{"$f":"TIME(INT(AD28/60),INT(MOD(AD28,60)/1),0)","v":0},"","",{"$f":"AF28*AG$2","v":359.46666666666664},{"$f":"IF(AF28-AE28=0,\"\",AF28-AE28)","v":320},"",320,"",null,{"$f":"X37","v":2},null,{"$f":"TEXT(Y27,\"ddd\")","v":"ma"},"MD",{"$f":"IFERROR(HLOOKUP(Y27,[1]DATA!$A$1:$NB$5,4,0),\"\")","v":"D2"},131,null,17,337,0,6.8750000000000568,0.73405017921146964,1]
["2maND",{"$f":"VLOOKUP($AA29,DATA!$B$3:$E$6,2,0)","v":"22:30:00"},{"$f":"VLOOKUP($AA29,DATA!$B$3:$E$6,3,0)","v":"06:30:00"},{"$f":"VLOOKUP($AA29,DATA!$B$3:$E$6,4,0)","v":3.125E-2},0.30208333333333326,0.30208333333333326,{"$f":"DATA!$C$9","v":0.89},{"$f":"DATA!$C$10","v":64},1,407.81249999999989,407.81249999999989,0,"","",0,"","",0,"","","","",null,{"$f":"X37","v":2},null,{"$f":"TEXT(Y27,\"ddd\")","v":"ma"},"ND",{"$f":"IFERROR(HLOOKUP(Y27,[1]DATA!$A$1:$NB$5,5,0),\"\")","v":"D1"},null,null,null,null,0,"","",""]
["2diDD",{"$f":"VLOOKUP($AA30,DATA!$B$3:$E$6,2,0)","v":"06:30:00"},{"$f":"VLOOKUP($AA30,DATA!$B$3:$E$6,3,0)","v":"14:30:00"},{"$f":"VLOOKUP($AA30,DATA!$B$3:$E$6,4,0)","v":3.125E-2},0.30208333333333331,0.18472222222222223,{"$f":"DATA!$C$9","v":0.89},{"$f":"DATA!$C$10","v":64},1,249.375,407.8125,0.1173611111111111,158.43749999999997,0.38850574712643671,0,"","",330.66666666666669,287,"","",287,null,{"$f":"X37","v":2},{"$f":"Y27+1","v":"2018-01-09"},{"$f":"TEXT(Y30,\"ddd\")","v":"di"},"DD",{"$f":"IFERROR(HLOOKUP(Y30,[1]DATA!$A$1:$NB$5,3,0),\"\")","v":"D3"},169,null,23,310,3,9.4999999999999432,0.65835125448028675,0.99100899100899098]
["2diMD",{"$f":"VLOOKUP($AA31,DATA!$B$3:$E$6,2,0)","v":"14:30:00"},{"$f":"VLOOKUP($AA31,DATA!$B$3:$E$6,3,0)","v":"22:30:00"},{"$f":"VLOOKUP($AA31,DATA!$B$3:$E$6,4,0)","v":3.125E-2},0.30208333333333337,0.21875000000000006,{"$f":"DATA!$C$9","v":0.89},{"$f":"DATA!$C$10","v":64},1,295.31250000000006,407.81250000000006,8.3333333333333329E-2,112.5,0.27586206896551718,0,"","",349.86666666666667,314,"",314,"",null,{"$f":"X37","v":2},null,{"$f":"TEXT(Y30,\"ddd\")","v":"di"},"MD",{"$f":"IFERROR(HLOOKUP(Y30,[1]DATA!$A$1:$NB$5,4,0),\"\")","v":"D2"},120,null,14,328,0,-9.4375,0.72028673835125456,1]
["2diND",{"$f":"VLOOKUP($AA32,DATA!$B$3:$E$6,2,0)","v":"22:30:00"},{"$f":"VLOOKUP($AA32,DATA!$B$3:$E$6,3,0)","v":"06:30:00"},{"$f":"VLOOKUP($AA32,DATA!$B$3:$E$6,4,0)","v":3.125E-2},0.30208333333333326,0.30208333333333326,{"$f":"DATA!$C$9","v":0.89},{"$f":"DATA!$C$10","v":64},1,407.81249999999989,407.81249999999989,0,"","",0,"","",0,"","","","",null,{"$f":"X37","v":2},null,{"$f":"TEXT(Y30,\"ddd\")","v":"di"},"ND",{"$f":"IFERROR(HLOOKUP(Y30,[1]DATA!$A$1:$NB$5,5,0),\"\")","v":"D1"},null,null,null,null,0,"","",""]
["2woDD",{"$f":"VLOOKUP($AA33,DATA!$B$3:$E$6,2,0)","v":"06:30:00"},{"$f":"VLOOKUP($AA33,DATA!$B$3:$E$6,3,0)","v":"14:30:00"},{"$f":"VLOOKUP($AA33,DATA!$B$3:$E$6,4,0)","v":3.125E-2},0.30208333333333331,0.29722222222222222,{"$f":"DATA!$C$9","v":0.89},{"$f":"DATA!$C$10","v":64},1,401.25,407.8125,4.8611111111111112E-3,6.5625,1.6091954022988506E-2,0,"","",404.26666666666665,368,"","",368,null,{"$f":"X37","v":2},{"$f":"Y30+1","v":"2018-01-10"},{"$f":"TEXT(Y33,\"ddd\")","v":"wo"},"DD",{"$f":"IFERROR(HLOOKUP(Y33,[1]DATA!$A$1:$NB$5,3,0),\"\")","v":"D3"},7,null,11,379,8,-61.375000000000057,0.84415770609318996,0.98059508408796892]
["2woMD",{"$f":"VLOOKUP($AA34,DATA!$B$3:$E$6,2,0)","v":"14:30:00"},{"$f":"VLOOKUP($AA34,DATA!$B$3:$E$6,3,0)","v":"22:30:00"},{"$f":"VLOOKUP($AA34,DATA!$B$3:$E$6,4,0)","v":3.125E-2},0.30208333333333337,0.20625000000000004,{"$f":"DATA!$C$9","v":0.89},{"$f":"DATA!$C$10","v":64},1,278.43750000000006,407.81250000000006,9.5833333333333326E-2,129.375,0.3172413793103448,0,"","",333.86666666666667,302,"",302,"",null,{"$f":"X37","v":2},null,{"$f":"TEXT(Y33,\"ddd\")","v":"wo"},"MD",{"$f":"IFERROR(HLOOKUP(Y33,[1]DATA!$A$1:$NB$5,4,0),\"\")","v":"D2"},138,null,11,313,0,-4.5624999999999432,0.69275985663082451,1]
["2woND",{"$f":"VLOOKUP($AA35,DATA!$B$3:$E$6,2,0)","v":"22:30:00"},{"$f":"VLOOKUP($AA35,DATA!$B$3:$E$6,3,0)","v":"06:30:00"},{"$f":"VLOOKUP($AA35,DATA!$B$3:$E$6,4,0)","v":3.125E-2},0.30208333333333326,0.30208333333333326,{"$f":"DATA!$C$9","v":0.89},{"$f":"DATA!$C$10","v":64},1,407.81249999999989,407.81249999999989,0,"","",0,"","",0,"","","","",null,{"$f":"X37","v":2},null,{"$f":"TEXT(Y33,\"ddd\")","v":"wo"},"ND",{"$f":"IFERROR(HLOOKUP(Y33,[1]DATA!$A$1:$NB$5,5,0),\"\")","v":"D1"},null,null,null,null,0,"","",""]
["2doDD",{"$f":"VLOOKUP($AA36,DATA!$B$3:$E$6,2,0)","v":"06:30:00"},{"$f":"VLOOKUP($AA36,DATA!$B$3:$E$6,3,0)","v":"14:30:00"},{"$f":"VLOOKUP($AA36,DATA!$B$3:$E$6,4,0)","v":3.125E-2},0.30208333333333331,0.25486111111111109,{"$f":"DATA!$C$9","v":0.89},{"$f":"DATA!$C$10","v":64},1,344.0625,407.8125,4.7222222222222221E-2,63.75,0.15632183908045977,0,"","",392.5333333333333,345,"","",345,null,{"$f":"X37","v":2},{"$f":"Y33+1","v":"2018-01-11"},{"$f":"TEXT(Y36,\"ddd\")","v":"do"},"DD",{"$f":"IFERROR(HLOOKUP(Y36,[1]DATA!$A$1:$NB$5,3,0),\"\")","v":"D3"},68,null,23,368,0,-27.1875,0.79139784946236558,1]
["2doMD",{"$f":"VLOOKUP($AA37,DATA!$B$3:$E$6,2,0)","v":"14:30:00"},{"$f":"VLOOKUP($AA37,DATA!$B$3:$E$6,3,0)","v":"22:30:00"},{"$f":"VLOOKUP($AA37,DATA!$B$3:$E$6,4,0)","v":3.125E-2},0.30208333333333337,0.25347222222222227,{"$f":"DATA!$C$9","v":0.89},{"$f":"DATA!$C$10","v":64},1,342.18750000000006,407.81250000000006,4.8611111111111112E-2,65.625,0.16091954022988503,0,"","",389.33333333333331,357,"",357,"",null,{"$f":"WEEKNUM($Y27)","v":2},null,{"$f":"TEXT(Y36,\"ddd\")","v":"do"},"MD",{"$f":"IFERROR(HLOOKUP(Y36,[1]DATA!$A$1:$NB$5,4,0),\"\")","v":"D2"},70,null,8,365,3,-13.312499999999943,0.81892473118279585,0.99235344095157174]
["2doND",{"$f":"VLOOKUP($AA38,DATA!$B$3:$E$6,2,0)","v":"22:30:00"},{"$f":"VLOOKUP($AA38,DATA!$B$3:$E$6,3,0)","v":"06:30:00"},{"$f":"VLOOKUP($AA38,DATA!$B$3:$E$6,4,0)","v":3.125E-2},0.30208333333333326,0.30208333333333326,{"$f":"DATA!$C$9","v":0.89},{"$f":"DATA!$C$10","v":64},1,407.81249999999989,407.81249999999989,0,"","",0,"","",0,"","","","",null,{"$f":"X37","v":2},null,{"$f":"TEXT(Y36,\"ddd\")","v":"do"},"ND",{"$f":"IFERROR(HLOOKUP(Y36,[1]DATA!$A$1:$NB$5,5,0),\"\")","v":"D1"},null,null,null,null,0,"","",""]
["2vrDD",{"$f":"VLOOKUP($AA39,DATA!$B$3:$E$6,2,0)","v":"06:30:00"},{"$f":"VLOOKUP($AA39,DATA!$B$3:$E$6,3,0)","v":"14:30:00"},{"$f":"VLOOKUP($AA39,DATA!$B$3:$E$6,4,0)","v":3.125E-2},0.30208333333333331,0.22569444444444442,{"$f":"DATA!$C$9","v":0.89},{"$f":"DATA!$C$10","v":64},1,304.68749999999994,407.8125,7.6388888888888895E-2,103.12500000000001,0.25287356321839083,0,"","",377.6,328,"","",328,null,{"$f":"X37","v":2},{"$f":"Y36+1","v":"2018-01-12"},{"$f":"TEXT(Y39,\"ddd\")","v":"vr"},"DD",{"$f":"IFERROR(HLOOKUP(Y39,[1]DATA!$A$1:$NB$5,3,0),\"\")","v":"D3"},110,null,26,354,4,-4.8125,0.75240143369175627,0.98951781970649899]
["2vrMD",{"$f":"VLOOKUP($AA40,DATA!$B$3:$E$6,2,0)","v":"14:30:00"},{"$f":"VLOOKUP($AA40,DATA!$B$3:$E$6,3,0)","v":"22:30:00"},{"$f":"VLOOKUP($AA40,DATA!$B$3:$E$6,4,0)","v":3.125E-2},0.30208333333333337,0.28958333333333336,{"$f":"DATA!$C$9","v":0.89},{"$f":"DATA!$C$10","v":64},1,390.93750000000006,407.81250000000006,1.2499999999999999E-2,16.875,4.1379310344827579E-2,0,"","",371.2,307,"",307,"",null,{"$f":"X37","v":2},null,{"$f":"TEXT(Y39,\"ddd\")","v":"vr"},"MD",{"$f":"IFERROR(HLOOKUP(Y39,[1]DATA!$A$1:$NB$5,4,0),\"\")","v":"D2"},18,null,41,348,50,-112.06249999999994,0.70422939068100365,0.88129154795821463]
["2vrND",{"$f":"VLOOKUP($AA41,DATA!$B$3:$E$6,2,0)","v":"22:30:00"},{"$f":"VLOOKUP($AA41,DATA!$B$3:$E$6,3,0)","v":"06:30:00"},{"$f":"VLOOKUP($AA41,DATA!$B$3:$E$6,4,0)","v":3.125E-2},0.30208333333333326,0.30208333333333326,{"$f":"DATA!$C$9","v":0.89},{"$f":"DATA!$C$10","v":64},1,407.81249999999989,407.81249999999989,0,"","",0,"","",0,"","","","",null,{"$f":"X37","v":2},null,{"$f":"TEXT(Y39,\"ddd\")","v":"vr"},"ND",{"$f":"IFERROR(HLOOKUP(Y39,[1]DATA!$A$1:$NB$5,5,0),\"\")","v":"-"},null,null,null,null,0,"","",""]
["2zaDD",{"$f":"VLOOKUP($AA42,DATA!$B$3:$E$6,2,0)","v":"06:30:00"},{"$f":"VLOOKUP($AA42,DATA!$B$3:$E$6,3,0)","v":"14:30:00"},{"$f":"VLOOKUP($AA42,DATA!$B$3:$E$6,4,0)","v":3.125E-2},0.30208333333333331,0.30208333333333331,{"$f":"DATA!$C$9","v":0.89},{"$f":"DATA!$C$10","v":64},1,407.8125,407.8125,0,"","",0,"","",0,"","","","",null,{"$f":"X37","v":2},{"$f":"Y39+1","v":"2018-01-13"},{"$f":"TEXT(Y42,\"ddd\")","v":"za"},"DD",{"$f":"IFERROR(HLOOKUP(Y42,[1]DATA!$A$1:$NB$5,3,0),\"\")","v":"-"},null,null,null,null,0,"","",""]
["2zaMD",{"$f":"VLOOKUP($AA43,DATA!$B$3:$E$6,2,0)","v":"14:30:00"},{"$f":"VLOOKUP($AA43,DATA!$B$3:$E$6,3,0)","v":"22:30:00"},{"$f":"VLOOKUP($AA43,DATA!$B$3:$E$6,4,0)","v":3.125E-2},0.30208333333333337,0.30208333333333337,{"$f":"DATA!$C$9","v":0.89},{"$f":"DATA!$C$10","v":64},1,407.81250000000006,407.81250000000006,0,"","",0,"","",0,"","","","",null,{"$f":"X37","v":2},null,{"$f":"TEXT(Y42,\"ddd\")","v":"za"},"MD",{"$f":"IFERROR(HLOOKUP(Y42,[1]DATA!$A$1:$NB$5,4,0),\"\")","v":"-"},null,null,null,null,0,"","",""]
["2zaND",{"$f":"VLOOKUP($AA44,DATA!$B$3:$E$6,2,0)","v":"22:30:00"},{"$f":"VLOOKUP($AA44,DATA!$B$3:$E$6,3,0)","v":"06:30:00"},{"$f":"VLOOKUP($AA44,DATA!$B$3:$E$6,4,0)","v":3.125E-2},0.30208333333333326,0.30208333333333326,{"$f":"DATA!$C$9","v":0.89},{"$f":"DATA!$C$10","v":64},1,407.81249999999989,407.81249999999989,0,"","",0,"","",0,"","","","",null,{"$f":"X37","v":2},null,{"$f":"TEXT(Y42,\"ddd\")","v":"za"},"ND",{"$f":"IFERROR(HLOOKUP(Y42,[1]DATA!$A$1:$NB$5,5,0),\"\")","v":"-"},null,null,null,null,0,"","",""]
["2zoDD",{"$f":"VLOOKUP($AA45,DATA!$B$3:$E$6,2,0)","v":"06:30:00"},{"$f":"VLOOKUP($AA45,DATA!$B$3:$E$6,3,0)","v":"14:30:00"},{"$f":"VLOOKUP($AA45,DATA!$B$3:$E$6,4,0)","v":3.125E-2},0.30208333333333331,0.30208333333333331,{"$f":"DATA!$C$9","v":0.89},{"$f":"DATA!$C$10","v":64},1,407.8125,407.8125,0,"","",0,"","",0,"","","","",null,{"$f":"X37","v":2},{"$f":"Y42+1","v":"2018-01-14"},{"$f":"TEXT(Y45,\"ddd\")","v":"zo"},"DD",{"$f":"IFERROR(HLOOKUP(Y45,[1]DATA!$A$1:$NB$5,3,0),\"\")","v":"-"},null,null,null,null,0,"","",""]
["2zoMD",{"$f":"VLOOKUP($AA46,DATA!$B$3:$E$6,2,0)","v":"14:30:00"},{"$f":"VLOOKUP($AA46,DATA!$B$3:$E$6,3,0)","v":"22:30:00"},{"$f":"VLOOKUP($AA46,DATA!$B$3:$E$6,4,0)","v":3.125E-2},0.30208333333333337,0.30208333333333337,{"$f":"DATA!$C$9","v":0.89},{"$f":"DATA!$C$10","v":64},1,407.81250000000006,407.81250000000006,0,"","",0,"","",0,"","","","",null,{"$f":"X37","v":2},null,{"$f":"TEXT(Y45,\"ddd\")","v":"zo"},"MD",{"$f":"IFERROR(HLOOKUP(Y45,[1]DATA!$A$1:$NB$5,4,0),\"\")","v":"-"},null,null,null,null,0,"","",""]
["2zoZND",{"$f":"VLOOKUP($AA47,DATA!$B$3:$E$6,2,0)","v":"00:00:00"},{"$f":"VLOOKUP($AA47,DATA!$B$3:$E$6,3,0)","v":"00:00:00"},{"$f":"VLOOKUP($AA47,DATA!$B$3:$E$6,4,0)","v":3.125E-2},-3.125E-2,-3.125E-2,{"$f":"DATA!$C$9","v":0.89},{"$f":"DATA!$C$10","v":64},1,-42.1875,-42.1875,0,"","",0,"","",0,"","","","",null,{"$f":"X37","v":2},null,{"$f":"TEXT(Y45,\"ddd\")","v":"zo"},"ZND",{"$f":"IFERROR(HLOOKUP(Y45,[1]DATA!$A$1:$NB$5,5,0),\"\")","v":"D3"},null,null,null,null,0,"","",""]
[{"$f":"X48&Z48&AA48","v":"3maDD"},{"$f":"VLOOKUP($AA48,DATA!$B$3:$E$6,2,0)","v":"06:30:00"},{"$f":"VLOOKUP($AA48,DATA!$B$3:$E$6,3,0)","v":"14:30:00"},{"$f":"VLOOKUP($AA48,DATA!$B$3:$E$6,4,0)","v":3.125E-2},0.30208333333333331,0.19513888888888886,{"$f":"DATA!$C$9","v":0.89},{"$f":"DATA!$C$10","v":64},1,263.43749999999994,407.8125,0.10694444444444444,144.375,0.35402298850574715,{"$f":"TIME(INT($AD48/60),INT(MOD($AD48,60)/1),0)","v":0},{"$f":"IF($O48*86400/$H48=0,\"\",$O48*86400/$H48)","v":""},"",347.73333333333335,306,"",306,"",null,{"$f":"X58","v":3},{"$f":"Y45+1","v":"2018-01-15"},{"$f":"TEXT(Y48,\"ddd\")","v":"ma"},"DD",{"$f":"IFERROR(HLOOKUP(Y48,[1]DATA!$A$1:$NB$5,3,0),\"\")","v":"D2"},154,null,20,326,3,14.4375,0.70193548387096771,0.99144649306215549,4359.375,2875,0.65949820788530467,1294.6875,0.29698924731182796,28.125,6.4516129032258064E-3,0.97100351030486887,0.96094907280425179,0.98105794780548583,"",161.5625,3.7060931899641561E-2,172.33333333333334,111]
["3maMD",{"$f":"VLOOKUP($AA49,DATA!$B$3:$E$6,2,0)","v":"14:30:00"},{"$f":"VLOOKUP($AA49,DATA!$B$3:$E$6,3,0)","v":"22:30:00"},{"$f":"VLOOKUP($AA49,DATA!$B$3:$E$6,4,0)","v":3.125E-2},0.30208333333333337,0.20833333333333337,{"$f":"DATA!$C$9","v":0.89},{"$f":"DATA!$C$10","v":64},1,281.25000000000006,407.81250000000006,9.375E-2,126.5625,0.31034482758620685,{"$f":"TIME(INT(AD49/60),INT(MOD(AD49,60)/1),0)","v":0},"","",330.66666666666669,302,302,"","",null,{"$f":"X58","v":3},null,{"$f":"TEXT(Y48,\"ddd\")","v":"ma"},"MD",{"$f":"IFERROR(HLOOKUP(Y48,[1]DATA!$A$1:$NB$5,4,0),\"\")","v":"D1"},135,null,8,310,10,-7.3749999999999432,0.69275985663082451,0.97064579256360073]
["3maND",{"$f":"VLOOKUP($AA50,DATA!$B$3:$E$6,2,0)","v":"22:30:00"},{"$f":"VLOOKUP($AA50,DATA!$B$3:$E$6,3,0)","v":"06:30:00"},{"$f":"VLOOKUP($AA50,DATA!$B$3:$E$6,4,0)","v":3.125E-2},0.30208333333333326,0.30208333333333326,{"$f":"DATA!$C$9","v":0.89},{"$f":"DATA!$C$10","v":64},1,407.81249999999989,407.81249999999989,0,"","",0,"","",0,"","","","",null,{"$f":"X58","v":3},null,{"$f":"TEXT(Y48,\"ddd\")","v":"ma"},"ND",{"$f":"IFERROR(HLOOKUP(Y48,[1]DATA!$A$1:$NB$5,5,0),\"\")","v":"D3"},null,null,null,null,0,"","",""]
["3diDD",{"$f":"VLOOKUP($AA51,DATA!$B$3:$E$6,2,0)","v":"06:30:00"},{"$f":"VLOOKUP($AA51,DATA!$B$3:$E$6,3,0)","v":"14:30:00"},{"$f":"VLOOKUP($AA51,DATA!$B$3:$E$6,4,0)","v":3.125E-2},0.30208333333333331,0.24930555555555553,{"$f":"DATA!$C$9","v":0.89},{"$f":"DATA!$C$10","v":64},1,336.56249999999994,407.8125,5.2777777777777778E-2,71.25,0.17471264367816092,0,"","",331.73333333333335,301,"",301,"",null,{"$f":"X58","v":3},{"$f":"Y48+1","v":"2018-01-16"},{"$f":"TEXT(Y51,\"ddd\")","v":"di"},"DD",{"$f":"IFERROR(HLOOKUP(Y51,[1]DATA!$A$1:$NB$5,3,0),\"\")","v":"D2"},76,null,10,311,15,-63.687500000000057,0.69046594982078857,0.95673908863680057]
["3diMD",{"$f":"VLOOKUP($AA52,DATA!$B$3:$E$6,2,0)","v":"14:30:00"},{"$f":"VLOOKUP($AA52,DATA!$B$3:$E$6,3,0)","v":"22:30:00"},{"$f":"VLOOKUP($AA52,DATA!$B$3:$E$6,4,0)","v":3.125E-2},0.30208333333333337,0.26527777777777783,{"$f":"DATA!$C$9","v":0.89},{"$f":"DATA!$C$10","v":64},1,358.12500000000006,407.81250000000006,3.6805555555555557E-2,49.6875,0.1218390804597701,0,"","",381.86666666666667,320,320,"","",null,{"$f":"X58","v":3},null,{"$f":"TEXT(Y51,\"ddd\")","v":"di"},"MD",{"$f":"IFERROR(HLOOKUP(Y51,[1]DATA!$A$1:$NB$5,4,0),\"\")","v":"D1"},53,null,38,358,58,-66.25,0.73405017921146964,0.86814186117005154]
["3diND",{"$f":"VLOOKUP($AA53,DATA!$B$3:$E$6,2,0)","v":"22:30:00"},{"$f":"VLOOKUP($AA53,DATA!$B$3:$E$6,3,0)","v":"06:30:00"},{"$f":"VLOOKUP($AA53,DATA!$B$3:$E$6,4,0)","v":3.125E-2},0.30208333333333326,0.30208333333333326,{"$f":"DATA!$C$9","v":0.89},{"$f":"DATA!$C$10","v":64},1,407.81249999999989,407.81249999999989,0,"","",0,"","",0,"","","","",null,{"$f":"X58","v":3},null,{"$f":"TEXT(Y51,\"ddd\")","v":"di"},"ND",{"$f":"IFERROR(HLOOKUP(Y51,[1]DATA!$A$1:$NB$5,5,0),\"\")","v":"D3"},null,null,null,null,0,"","",""]
["3woDD",{"$f":"VLOOKUP($AA54,DATA!$B$3:$E$6,2,0)","v":"06:30:00"},{"$f":"VLOOKUP($AA54,DATA!$B$3:$E$6,3,0)","v":"14:30:00"},{"$f":"VLOOKUP($AA54,DATA!$B$3:$E$6,4,0)","v":3.125E-2},0.30208333333333331,0.11458333333333331,{"$f":"DATA!$C$9","v":0.89},{"$f":"DATA!$C$10","v":64},1,154.68749999999997,407.8125,0.1875,253.125,0.62068965517241381,0,"","",188.8,170,"",170,"",null,{"$f":"X58","v":3},{"$f":"Y51+1","v":"2018-01-17"},{"$f":"TEXT(Y54,\"ddd\")","v":"wo"},"DD",{"$f":"IFERROR(HLOOKUP(Y54,[1]DATA!$A$1:$NB$5,3,0),\"\")","v":"D2"},270,null,7,177,0,-12.812500000000028,0.38996415770609322,1]
["3woMD",{"$f":"VLOOKUP($AA55,DATA!$B$3:$E$6,2,0)","v":"14:30:00"},{"$f":"VLOOKUP($AA55,DATA!$B$3:$E$6,3,0)","v":"22:30:00"},{"$f":"VLOOKUP($AA55,DATA!$B$3:$E$6,4,0)","v":3.125E-2},0.30208333333333337,0.21180555555555558,{"$f":"DATA!$C$9","v":0.89},{"$f":"DATA!$C$10","v":64},1,285.93750000000006,407.81250000000006,9.0277777777777776E-2,121.875,0.29885057471264365,0,"","",360.5333333333333,311,311,"","",null,{"$f":"X58","v":3},null,{"$f":"TEXT(Y54,\"ddd\")","v":"wo"},"MD",{"$f":"IFERROR(HLOOKUP(Y54,[1]DATA!$A$1:$NB$5,4,0),\"\")","v":"D1"},130,null,27,338,0,-3.0624999999999432,0.71340501792114708,1]
["3woND",{"$f":"VLOOKUP($AA56,DATA!$B$3:$E$6,2,0)","v":"22:30:00"},{"$f":"VLOOKUP($AA56,DATA!$B$3:$E$6,3,0)","v":"06:30:00"},{"$f":"VLOOKUP($AA56,DATA!$B$3:$E$6,4,0)","v":3.125E-2},0.30208333333333326,0.30208333333333326,{"$f":"DATA!$C$9","v":0.89},{"$f":"DATA!$C$10","v":64},1,407.81249999999989,407.81249999999989,0,"","",0,"","",0,"","","","",null,{"$f":"X58","v":3},null,{"$f":"TEXT(Y54,\"ddd\")","v":"wo"},"ND",{"$f":"IFERROR(HLOOKUP(Y54,[1]DATA!$A$1:$NB$5,5,0),\"\")","v":"D3"},null,null,null,null,0,"","",""]
["3doDD",{"$f":"VLOOKUP($AA57,DATA!$B$3:$E$6,2,0)","v":"06:30:00"},{"$f":"VLOOKUP($AA57,DATA!$B$3:$E$6,3,0)","v":"14:30:00"},{"$f":"VLOOKUP($AA57,DATA!$B$3:$E$6,4,0)","v":3.125E-2},0.30208333333333331,0.12569444444444441,{"$f":"DATA!$C$9","v":0.89},{"$f":"DATA!$C$10","v":64},1,169.68749999999997,407.8125,0.16597222222222222,224.0625,0.54942528735632179,1.0416666666666666E-2,14.0625,3.4482758620689655E-2,233.6,207,"",207,"",null,{"$f":"X58","v":3},{"$f":"Y54+1","v":"2018-01-18"},{"$f":"TEXT(Y57,\"ddd\")","v":"do"},"DD",{"$f":"IFERROR(HLOOKUP(Y57,[1]DATA!$A$1:$NB$5,3,0),\"\")","v":"D2"},239,15,12,219,6,9.1875,0.47483870967741937,0.97495826377295491]
["3doMD",{"$f":"VLOOKUP($AA58,DATA!$B$3:$E$6,2,0)","v":"14:30:00"},{"$f":"VLOOKUP($AA58,DATA!$B$3:$E$6,3,0)","v":"22:30:00"},{"$f":"VLOOKUP($AA58,DATA!$B$3:$E$6,4,0)","v":3.125E-2},0.30208333333333337,0.21527777777777779,{"$f":"DATA!$C$9","v":0.89},{"$f":"DATA!$C$10","v":64},1,290.625,407.81250000000006,7.6388888888888895E-2,103.12500000000001,0.25287356321839083,1.0416666666666666E-2,14.0625,3.4482758620689648E-2,368,323,323,"","",null,{"$f":"WEEKNUM($Y48)","v":3},null,{"$f":"TEXT(Y57,\"ddd\")","v":"do"},"MD",{"$f":"IFERROR(HLOOKUP(Y57,[1]DATA!$A$1:$NB$5,4,0),\"\")","v":"D1"},110,15,22,345,2,4.2500000000000568,0.74093189964157713,0.99459459459459465]
["3doND",{"$f":"VLOOKUP($AA59,DATA!$B$3:$E$6,2,0)","v":"22:30:00"},{"$f":"VLOOKUP($AA59,DATA!$B$3:$E$6,3,0)","v":"06:30:00"},{"$f":"VLOOKUP($AA59,DATA!$B$3:$E$6,4,0)","v":3.125E-2},0.30208333333333326,0.30208333333333326,{"$f":"DATA!$C$9","v":0.89},{"$f":"DATA!$C$10","v":64},1,407.81249999999989,407.81249999999989,0,"","",0,"","",0,"","","","",null,{"$f":"X58","v":3},null,{"$f":"TEXT(Y57,\"ddd\")","v":"do"},"ND",{"$f":"IFERROR(HLOOKUP(Y57,[1]DATA!$A$1:$NB$5,5,0),\"\")","v":"D3"},null,null,null,null,0,"","",""]
["3vrDD",{"$f":"VLOOKUP($AA60,DATA!$B$3:$E$6,2,0)","v":"06:30:00"},{"$f":"VLOOKUP($AA60,DATA!$B$3:$E$6,3,0)","v":"14:30:00"},{"$f":"VLOOKUP($AA60,DATA!$B$3:$E$6,4,0)","v":3.125E-2},0.30208333333333331,0.23958333333333331,{"$f":"DATA!$C$9","v":0.89},{"$f":"DATA!$C$10","v":64},1,323.4375,407.8125,6.25E-2,84.375,0.20689655172413793,0,"","",385.06666666666666,338,"",338,"",null,{"$f":"X58","v":3},{"$f":"Y57+1","v":"2018-01-19"},{"$f":"TEXT(Y60,\"ddd\")","v":"vr"},"DD",{"$f":"IFERROR(HLOOKUP(Y60,[1]DATA!$A$1:$NB$5,3,0),\"\")","v":"D2"},90,null,23,361,7,-13.5625,0.77534050179211467,0.98214589355551773]
["3vrMD",{"$f":"VLOOKUP($AA61,DATA!$B$3:$E$6,2,0)","v":"14:30:00"},{"$f":"VLOOKUP($AA61,DATA!$B$3:$E$6,3,0)","v":"22:30:00"},{"$f":"VLOOKUP($AA61,DATA!$B$3:$E$6,4,0)","v":3.125E-2},0.30208333333333337,0.21597222222222223,{"$f":"DATA!$C$9","v":0.89},{"$f":"DATA!$C$10","v":64},1,291.5625,407.81250000000006,8.6111111111111124E-2,116.25000000000001,0.28505747126436781,0,"","",339.2,297,297,"","",null,{"$f":"X58","v":3},null,{"$f":"TEXT(Y60,\"ddd\")","v":"vr"},"MD",{"$f":"IFERROR(HLOOKUP(Y60,[1]DATA!$A$1:$NB$5,4,0),\"\")","v":"D1"},124,null,21,318,10,-22.687499999999886,0.68129032258064526,0.97136311569301259]
["3vrND",{"$f":"VLOOKUP($AA62,DATA!$B$3:$E$6,2,0)","v":"22:30:00"},{"$f":"VLOOKUP($AA62,DATA!$B$3:$E$6,3,0)","v":"06:30:00"},{"$f":"VLOOKUP($AA62,DATA!$B$3:$E$6,4,0)","v":3.125E-2},0.30208333333333326,0.30208333333333326,{"$f":"DATA!$C$9","v":0.89},{"$f":"DATA!$C$10","v":64},1,407.81249999999989,407.81249999999989,0,"","",0,"","",0,"","","","",null,{"$f":"X58","v":3},null,{"$f":"TEXT(Y60,\"ddd\")","v":"vr"},"ND",{"$f":"IFERROR(HLOOKUP(Y60,[1]DATA!$A$1:$NB$5,5,0),\"\")","v":"-"},null,null,null,null,0,"","",""]
["3zaDD",{"$f":"VLOOKUP($AA63,DATA!$B$3:$E$6,2,0)","v":"06:30:00"},{"$f":"VLOOKUP($AA63,DATA!$B$3:$E$6,3,0)","v":"14:30:00"},{"$f":"VLOOKUP($AA63,DATA!$B$3:$E$6,4,0)","v":3.125E-2},0.30208333333333331,0.30208333333333331,{"$f":"DATA!$C$9","v":0.89},{"$f":"DATA!$C$10","v":64},1,407.8125,407.8125,0,"","",0,"","",0,"","","","",null,{"$f":"X58","v":3},{"$f":"Y60+1","v":"2018-01-20"},{"$f":"TEXT(Y63,\"ddd\")","v":"za"},"DD",{"$f":"IFERROR(HLOOKUP(Y63,[1]DATA!$A$1:$NB$5,3,0),\"\")","v":"-"},null,null,null,null,0,"","",""]
["3zaMD",{"$f":"VLOOKUP($AA64,DATA!$B$3:$E$6,2,0)","v":"14:30:00"},{"$f":"VLOOKUP($AA64,DATA!$B$3:$E$6,3,0)","v":"22:30:00"},{"$f":"VLOOKUP($AA64,DATA!$B$3:$E$6,4,0)","v":3.125E-2},0.30208333333333337,0.30208333333333337,{"$f":"DATA!$C$9","v":0.89},{"$f":"DATA!$C$10","v":64},1,407.81250000000006,407.81250000000006,0,"","",0,"","",0,"","","","",null,{"$f":"X58","v":3},null,{"$f":"TEXT(Y63,\"ddd\")","v":"za"},"MD",{"$f":"IFERROR(HLOOKUP(Y63,[1]DATA!$A$1:$NB$5,4,0),\"\")","v":"-"},null,null,null,null,0,"","",""]
["3zaND",{"$f":"VLOOKUP($AA65,DATA!$B$3:$E$6,2,0)","v":"22:30:00"},{"$f":"VLOOKUP($AA65,DATA!$B$3:$E$6,3,0)","v":"06:30:00"},{"$f":"VLOOKUP($AA65,DATA!$B$3:$E$6,4,0)","v":3.125E-2},0.30208333333333326,0.30208333333333326,{"$f":"DATA!$C$9","v":0.89},{"$f":"DATA!$C$10","v":64},1,407.81249999999989,407.81249999999989,0,"","",0,"","",0,"","","","",null,{"$f":"X58","v":3},null,{"$f":"TEXT(Y63,\"ddd\")","v":"za"},"ND",{"$f":"IFERROR(HLOOKUP(Y63,[1]DATA!$A$1:$NB$5,5,0),\"\")","v":"-"},null,null,null,null,0,"","",""]
["3zoDD",{"$f":"VLOOKUP($AA66,DATA!$B$3:$E$6,2,0)","v":"06:30:00"},{"$f":"VLOOKUP($AA66,DATA!$B$3:$E$6,3,0)","v":"14:30:00"},{"$f":"VLOOKUP($AA66,DATA!$B$3:$E$6,4,0)","v":3.125E-2},0.30208333333333331,0.30208333333333331,{"$f":"DATA!$C$9","v":0.89},{"$f":"DATA!$C$10","v":64},1,407.8125,407.8125,0,"","",0,"","",0,"","","","",null,{"$f":"X58","v":3},{"$f":"Y63+1","v":"2018-01-21"},{"$f":"TEXT(Y66,\"ddd\")","v":"zo"},"DD",{"$f":"IFERROR(HLOOKUP(Y66,[1]DATA!$A$1:$NB$5,3,0),\"\")","v":"-"},null,null,null,null,0,"","",""]
["3zoMD",{"$f":"VLOOKUP($AA67,DATA!$B$3:$E$6,2,0)","v":"14:30:00"},{"$f":"VLOOKUP($AA67,DATA!$B$3:$E$6,3,0)","v":"22:30:00"},{"$f":"VLOOKUP($AA67,DATA!$B$3:$E$6,4,0)","v":3.125E-2},0.30208333333333337,0.30208333333333337,{"$f":"DATA!$C$9","v":0.89},{"$f":"DATA!$C$10","v":64},1,407.81250000000006,407.81250000000006,0,"","",0,"","",0,"","","","",null,{"$f":"X58","v":3},null,{"$f":"TEXT(Y66,\"ddd\")","v":"zo"},"MD",{"$f":"IFERROR(HLOOKUP(Y66,[1]DATA!$A$1:$NB$5,4,0),\"\")","v":"-"},null,null,null,null,0,"","",""]
["3zoZND",{"$f":"VLOOKUP($AA68,DATA!$B$3:$E$6,2,0)","v":"00:00:00"},{"$f":"VLOOKUP($AA68,DATA!$B$3:$E$6,3,0)","v":"00:00:00"},{"$f":"VLOOKUP($AA68,DATA!$B$3:$E$6,4,0)","v":3.125E-2},-3.125E-2,-3.125E-2,{"$f":"DATA!$C$9","v":0.89},{"$f":"DATA!$C$10","v":64},1,-42.1875,-42.1875,0,"","",0,"","",0,"","","","",null,{"$f":"X58","v":3},null,{"$f":"TEXT(Y66,\"ddd\")","v":"zo"},"ZND",{"$f":"IFERROR(HLOOKUP(Y66,[1]DATA!$A$1:$NB$5,5,0),\"\")","v":"D2"},null,null,null,null,0,"","",""]
["4maDD",{"$f":"VLOOKUP($AA69,DATA!$B$3:$E$6,2,0)","v":"06:30:00"},{"$f":"VLOOKUP($AA69,DATA!$B$3:$E$6,3,0)","v":"14:30:00"},{"$f":"VLOOKUP($AA69,DATA!$B$3:$E$6,4,0)","v":3.125E-2},0.30208333333333331,0.25972222222222219,{"$f":"DATA!$C$9","v":0.89},{"$f":"DATA!$C$10","v":64},1,350.62499999999994,407.8125,4.2361111111111106E-2,57.187499999999993,0.14022988505747125,{"$f":"TIME(INT($AD69/60),INT(MOD($AD69,60)/1),0)","v":0},"","",370.13333333333333,339,339,"","",null,{"$f":"X79","v":4},{"$f":"Y66+1","v":"2018-01-22"},{"$f":"TEXT(Y69,\"ddd\")","v":"ma"},"DD",{"$f":"IFERROR(HLOOKUP(Y69,[1]DATA!$A$1:$NB$5,3,0),\"\")","v":"D1"},61,null,8,347,4,-39.75,0.7776344086021505,0.98930862437633638,4359.375,3276,0.75148387096774194,786.5625,0.18043010752688171,0,0,0.98136579649900979,0.9916620864450636,"",0.97106950655295621,296.8125,6.8086021505376348E-2,316.60000000000002,70]
["4maMD",{"$f":"VLOOKUP($AA70,DATA!$B$3:$E$6,2,0)","v":"14:30:00"},{"$f":"VLOOKUP($AA70,DATA!$B$3:$E$6,3,0)","v":"22:30:00"},{"$f":"VLOOKUP($AA70,DATA!$B$3:$E$6,4,0)","v":3.125E-2},0.30208333333333337,0.27500000000000002,{"$f":"DATA!$C$9","v":0.89},{"$f":"DATA!$C$10","v":64},1,371.25000000000006,407.81250000000006,2.7083333333333334E-2,36.5625,8.9655172413793088E-2,{"$f":"TIME(INT(AD70/60),INT(MOD(AD70,60)/1),0)","v":0},"","",414.93333333333334,375,"","",375,null,{"$f":"X79","v":4},null,{"$f":"TEXT(Y69,\"ddd\")","v":"ma"},"MD",{"$f":"IFERROR(HLOOKUP(Y69,[1]DATA!$A$1:$NB$5,4,0),\"\")","v":"D3"},39,null,14,389,5,-24.374999999999943,0.86021505376344098,0.98809334815050009]
["4maND",{"$f":"VLOOKUP($AA71,DATA!$B$3:$E$6,2,0)","v":"22:30:00"},{"$f":"VLOOKUP($AA71,DATA!$B$3:$E$6,3,0)","v":"06:30:00"},{"$f":"VLOOKUP($AA71,DATA!$B$3:$E$6,4,0)","v":3.125E-2},0.30208333333333326,0.30208333333333326,{"$f":"DATA!$C$9","v":0.89},{"$f":"DATA!$C$10","v":64},1,407.81249999999989,407.81249999999989,{"$f":"TIME(INT($AC71/60),INT(MOD($AC71,60)/1),0)","v":0},{"$f":"IF($L71*86400/$H71=0,\"\",$L71*86400/$H71)","v":""},{"$f":"IFERROR($M71/$K71,\"\")","v":""},0,"",{"$f":"IFERROR($P71/$K71,\"\")","v":""},0,"",{"$f":"IF(IF($AB71=\"D1\",$S71,\"\")=0,\"\",IF($AB71=\"D1\",$S71,\"\"))","v":""},{"$f":"IF(IF($AB71=\"D2\",$S71,\"\")=0,\"\",IF($AB71=\"D2\",$S71,\"\"))","v":""},{"$f":"IF(IF($AB71=\"D3\",$S71,\"\")=0,\"\",IF($AB71=\"D3\",$S71,\"\"))","v":""},null,{"$f":"X79","v":4},null,{"$f":"TEXT(Y69,\"ddd\")","v":"ma"},"ND",{"$f":"IFERROR(HLOOKUP(Y69,[1]DATA!$A$1:$NB$5,5,0),\"\")","v":"D2"},null,null,null,null,0,"","",""]
["4diDD",{"$f":"VLOOKUP($AA72,DATA!$B$3:$E$6,2,0)","v":"06:30:00"},{"$f":"VLOOKUP($AA72,DATA!$B$3:$E$6,3,0)","v":"14:30:00"},{"$f":"VLOOKUP($AA72,DATA!$B$3:$E$6,4,0)","v":3.125E-2},0.30208333333333331,0.24236111111111108,{"$f":"DATA!$C$9","v":0.89},{"$f":"DATA!$C$10","v":64},1,327.18749999999994,407.8125,5.9722222222222225E-2,80.625,0.19770114942528735,0,"","",375.46666666666664,329,329,"","",null,{"$f":"X79","v":4},{"$f":"Y69+1","v":"2018-01-23"},{"$f":"TEXT(Y72,\"ddd\")","v":"di"},"DD",{"$f":"IFERROR(HLOOKUP(Y72,[1]DATA!$A$1:$NB$5,3,0),\"\")","v":"D1"},86,null,23,352,10,-26.3125,0.7546953405017921,0.97405741957800074]
["4diMD",{"$f":"VLOOKUP($AA73,DATA!$B$3:$E$6,2,0)","v":"14:30:00"},{"$f":"VLOOKUP($AA73,DATA!$B$3:$E$6,3,0)","v":"22:30:00"},{"$f":"VLOOKUP($AA73,DATA!$B$3:$E$6,4,0)","v":3.125E-2},0.30208333333333337,0.21388888888888891,{"$f":"DATA!$C$9","v":0.89},{"$f":"DATA!$C$10","v":64},1,288.75,407.81250000000006,8.819444444444445E-2,119.06250000000001,0.29195402298850576,0,"","",337.06666666666666,299,"","",299,null,{"$f":"X79","v":4},null,{"$f":"TEXT(Y72,\"ddd\")","v":"di"},"MD",{"$f":"IFERROR(HLOOKUP(Y72,[1]DATA!$A$1:$NB$5,4,0),\"\")","v":"D3"},127,null,17,316,8,-17.874999999999943,0.68587813620071691,0.97681607418856264]
["4diND",{"$f":"VLOOKUP($AA74,DATA!$B$3:$E$6,2,0)","v":"22:30:00"},{"$f":"VLOOKUP($AA74,DATA!$B$3:$E$6,3,0)","v":"06:30:00"},{"$f":"VLOOKUP($AA74,DATA!$B$3:$E$6,4,0)","v":3.125E-2},0.30208333333333326,0.30208333333333326,{"$f":"DATA!$C$9","v":0.89},{"$f":"DATA!$C$10","v":64},1,407.81249999999989,407.81249999999989,0,"","",0,"","",0,"","","","",null,{"$f":"X79","v":4},null,{"$f":"TEXT(Y72,\"ddd\")","v":"di"},"ND",{"$f":"IFERROR(HLOOKUP(Y72,[1]DATA!$A$1:$NB$5,5,0),\"\")","v":"D2"},null,null,null,null,0,"","",""]
["4woDD",{"$f":"VLOOKUP($AA75,DATA!$B$3:$E$6,2,0)","v":"06:30:00"},{"$f":"VLOOKUP($AA75,DATA!$B$3:$E$6,3,0)","v":"14:30:00"},{"$f":"VLOOKUP($AA75,DATA!$B$3:$E$6,4,0)","v":3.125E-2},0.30208333333333331,0.25347222222222221,{"$f":"DATA!$C$9","v":0.89},{"$f":"DATA!$C$10","v":64},1,342.1875,407.8125,4.8611111111111112E-2,65.625,0.16091954022988506,0,"","",393.6,352,352,"","",null,{"$f":"X79","v":4},{"$f":"Y72+1","v":"2018-01-24"},{"$f":"TEXT(Y75,\"ddd\")","v":"wo"},"DD",{"$f":"IFERROR(HLOOKUP(Y75,[1]DATA!$A$1:$NB$5,3,0),\"\")","v":"D1"},70,null,17,369,2,-18.312500000000057,0.80745519713261649,0.99494438827098075]
["4woMD",{"$f":"VLOOKUP($AA76,DATA!$B$3:$E$6,2,0)","v":"14:30:00"},{"$f":"VLOOKUP($AA76,DATA!$B$3:$E$6,3,0)","v":"22:30:00"},{"$f":"VLOOKUP($AA76,DATA!$B$3:$E$6,4,0)","v":3.125E-2},0.30208333333333337,0.28055555555555561,{"$f":"DATA!$C$9","v":0.89},{"$f":"DATA!$C$10","v":64},1,378.75000000000006,407.81250000000006,2.1527777777777781E-2,29.062500000000004,7.1264367816091953E-2,0,"","",440.5333333333333,390,"","",390,null,{"$f":"X79","v":4},null,{"$f":"TEXT(Y75,\"ddd\")","v":"wo"},"MD",{"$f":"IFERROR(HLOOKUP(Y75,[1]DATA!$A$1:$NB$5,4,0),\"\")","v":"D3"},31,null,23,413,3,-16.875,0.89462365591397863,0.99323613407485345]
["4woND",{"$f":"VLOOKUP($AA77,DATA!$B$3:$E$6,2,0)","v":"22:30:00"},{"$f":"VLOOKUP($AA77,DATA!$B$3:$E$6,3,0)","v":"06:30:00"},{"$f":"VLOOKUP($AA77,DATA!$B$3:$E$6,4,0)","v":3.125E-2},0.30208333333333326,0.30208333333333326,{"$f":"DATA!$C$9","v":0.89},{"$f":"DATA!$C$10","v":64},1,407.81249999999989,407.81249999999989,0,"","",0,"","",0,"","","","",null,{"$f":"X79","v":4},null,{"$f":"TEXT(Y75,\"ddd\")","v":"wo"},"ND",{"$f":"IFERROR(HLOOKUP(Y75,[1]DATA!$A$1:$NB$5,5,0),\"\")","v":"D2"},null,null,null,null,0,"","",""]
["4doDD",{"$f":"VLOOKUP($AA78,DATA!$B$3:$E$6,2,0)","v":"06:30:00"},{"$f":"VLOOKUP($AA78,DATA!$B$3:$E$6,3,0)","v":"14:30:00"},{"$f":"VLOOKUP($AA78,DATA!$B$3:$E$6,4,0)","v":3.125E-2},0.30208333333333331,0.13819444444444443,{"$f":"DATA!$C$9","v":0.89},{"$f":"DATA!$C$10","v":64},1,186.56249999999997,407.8125,0.16388888888888889,221.25,0.54252873563218396,0,"","",257.06666666666666,227,227,"","",null,{"$f":"X79","v":4},{"$f":"Y75+1","v":"2018-01-25"},{"$f":"TEXT(Y78,\"ddd\")","v":"do"},"DD",{"$f":"IFERROR(HLOOKUP(Y78,[1]DATA!$A$1:$NB$5,3,0),\"\")","v":"D1"},236,null,14,241,0,12.312499999999972,0.52071684587813616,1]
["4doMD",{"$f":"VLOOKUP($AA79,DATA!$B$3:$E$6,2,0)","v":"14:30:00"},{"$f":"VLOOKUP($AA79,DATA!$B$3:$E$6,3,0)","v":"22:30:00"},{"$f":"VLOOKUP($AA79,DATA!$B$3:$E$6,4,0)","v":3.125E-2},0.30208333333333337,0.28402777777777782,{"$f":"DATA!$C$9","v":0.89},{"$f":"DATA!$C$10","v":64},1,383.43750000000006,407.81250000000006,1.8055555555555557E-2,24.375000000000004,5.9770114942528735E-2,0,"","",402.13333333333333,359,"","",359,null,{"$f":"WEEKNUM($Y69)","v":4},null,{"$f":"TEXT(Y78,\"ddd\")","v":"do"},"MD",{"$f":"IFERROR(HLOOKUP(Y78,[1]DATA!$A$1:$NB$5,4,0),\"\")","v":"D3"},26,null,18,377,10,-52.562499999999943,0.82351254480286751,0.97573600776447755]
["4doND",{"$f":"VLOOKUP($AA80,DATA!$B$3:$E$6,2,0)","v":"22:30:00"},{"$f":"VLOOKUP($AA80,DATA!$B$3:$E$6,3,0)","v":"06:30:00"},{"$f":"VLOOKUP($AA80,DATA!$B$3:$E$6,4,0)","v":3.125E-2},0.30208333333333326,0.30208333333333326,{"$f":"DATA!$C$9","v":0.89},{"$f":"DATA!$C$10","v":64},1,407.81249999999989,407.81249999999989,0,"","",0,"","",0,"","","","",null,{"$f":"X79","v":4},null,{"$f":"TEXT(Y78,\"ddd\")","v":"do"},"ND",{"$f":"IFERROR(HLOOKUP(Y78,[1]DATA!$A$1:$NB$5,5,0),\"\")","v":"D2"},null,null,null,null,0,"","",""]
["4vrDD",{"$f":"VLOOKUP($AA81,DATA!$B$3:$E$6,2,0)","v":"06:30:00"},{"$f":"VLOOKUP($AA81,DATA!$B$3:$E$6,3,0)","v":"14:30:00"},{"$f":"VLOOKUP($AA81,DATA!$B$3:$E$6,4,0)","v":3.125E-2},0.30208333333333331,0.27708333333333329,{"$f":"DATA!$C$9","v":0.89},{"$f":"DATA!$C$10","v":64},1,374.06249999999994,407.8125,2.4999999999999998E-2,33.75,8.2758620689655171E-2,0,"","",353.06666666666666,315,315,"","",null,{"$f":"X79","v":4},{"$f":"Y78+1","v":"2018-01-26"},{"$f":"TEXT(Y81,\"ddd\")","v":"vr"},"DD",{"$f":"IFERROR(HLOOKUP(Y81,[1]DATA!$A$1:$NB$5,3,0),\"\")","v":"D1"},36,null,16,331,0,-87.1875,0.72258064516129028,1]
["4vrMD",{"$f":"VLOOKUP($AA82,DATA!$B$3:$E$6,2,0)","v":"14:30:00"},{"$f":"VLOOKUP($AA82,DATA!$B$3:$E$6,3,0)","v":"22:30:00"},{"$f":"VLOOKUP($AA82,DATA!$B$3:$E$6,4,0)","v":3.125E-2},0.30208333333333337,0.21388888888888891,{"$f":"DATA!$C$9","v":0.89},{"$f":"DATA!$C$10","v":64},1,288.75,407.81250000000006,8.819444444444445E-2,119.06250000000001,0.29195402298850576,0,"","",328.5333333333333,291,"","",291,null,{"$f":"X79","v":4},null,{"$f":"TEXT(Y81,\"ddd\")","v":"vr"},"MD",{"$f":"IFERROR(HLOOKUP(Y81,[1]DATA!$A$1:$NB$5,4,0),\"\")","v":"D3"},127,null,17,308,28,-25.874999999999943,0.66752688172043018,0.92146596858638741]
["4vrND",{"$f":"VLOOKUP($AA83,DATA!$B$3:$E$6,2,0)","v":"22:30:00"},{"$f":"VLOOKUP($AA83,DATA!$B$3:$E$6,3,0)","v":"06:30:00"},{"$f":"VLOOKUP($AA83,DATA!$B$3:$E$6,4,0)","v":3.125E-2},0.30208333333333326,0.30208333333333326,{"$f":"DATA!$C$9","v":0.89},{"$f":"DATA!$C$10","v":64},1,407.81249999999989,407.81249999999989,0,"","",0,"","",0,"","","","",null,{"$f":"X79","v":4},null,{"$f":"TEXT(Y81,\"ddd\")","v":"vr"},"ND",{"$f":"IFERROR(HLOOKUP(Y81,[1]DATA!$A$1:$NB$5,5,0),\"\")","v":"-"},null,null,null,null,0,"","",""]
["4zaDD",{"$f":"VLOOKUP($AA84,DATA!$B$3:$E$6,2,0)","v":"06:30:00"},{"$f":"VLOOKUP($AA84,DATA!$B$3:$E$6,3,0)","v":"14:30:00"},{"$f":"VLOOKUP($AA84,DATA!$B$3:$E$6,4,0)","v":3.125E-2},0.30208333333333331,0.30208333333333331,{"$f":"DATA!$C$9","v":0.89},{"$f":"DATA!$C$10","v":64},1,407.8125,407.8125,0,"","",0,"","",0,"","","","",null,{"$f":"X79","v":4},{"$f":"Y81+1","v":"2018-01-27"},{"$f":"TEXT(Y84,\"ddd\")","v":"za"},"DD",{"$f":"IFERROR(HLOOKUP(Y84,[1]DATA!$A$1:$NB$5,3,0),\"\")","v":"-"},null,null,null,null,0,"","",""]
["4zaMD",{"$f":"VLOOKUP($AA85,DATA!$B$3:$E$6,2,0)","v":"14:30:00"},{"$f":"VLOOKUP($AA85,DATA!$B$3:$E$6,3,0)","v":"22:30:00"},{"$f":"VLOOKUP($AA85,DATA!$B$3:$E$6,4,0)","v":3.125E-2},0.30208333333333337,0.30208333333333337,{"$f":"DATA!$C$9","v":0.89},{"$f":"DATA!$C$10","v":64},1,407.81250000000006,407.81250000000006,0,"","",0,"","",0,"","","","",null,{"$f":"X79","v":4},null,{"$f":"TEXT(Y84,\"ddd\")","v":"za"},"MD",{"$f":"IFERROR(HLOOKUP(Y84,[1]DATA!$A$1:$NB$5,4,0),\"\")","v":"-"},null,null,null,null,0,"","",""]
["4zaND",{"$f":"VLOOKUP($AA86,DATA!$B$3:$E$6,2,0)","v":"22:30:00"},{"$f":"VLOOKUP($AA86,DATA!$B$3:$E$6,3,0)","v":"06:30:00"},{"$f":"VLOOKUP($AA86,DATA!$B$3:$E$6,4,0)","v":3.125E-2},0.30208333333333326,0.30208333333333326,{"$f":"DATA!$C$9","v":0.89},{"$f":"DATA!$C$10","v":64},1,407.81249999999989,407.81249999999989,0,"","",0,"","",0,"","","","",null,{"$f":"X79","v":4},null,{"$f":"TEXT(Y84,\"ddd\")","v":"za"},"ND",{"$f":"IFERROR(HLOOKUP(Y84,[1]DATA!$A$1:$NB$5,5,0),\"\")","v":"-"},null,null,null,null,0,"","",""]
["4zoDD",{"$f":"VLOOKUP($AA87,DATA!$B$3:$E$6,2,0)","v":"06:30:00"},{"$f":"VLOOKUP($AA87,DATA!$B$3:$E$6,3,0)","v":"14:30:00"},{"$f":"VLOOKUP($AA87,DATA!$B$3:$E$6,4,0)","v":3.125E-2},0.30208333333333331,0.30208333333333331,{"$f":"DATA!$C$9","v":0.89},{"$f":"DATA!$C$10","v":64},1,407.8125,407.8125,0,"","",0,"","",0,"","","","",null,{"$f":"X79","v":4},{"$f":"Y84+1","v":"2018-01-28"},{"$f":"TEXT(Y87,\"ddd\")","v":"zo"},"DD",{"$f":"IFERROR(HLOOKUP(Y87,[1]DATA!$A$1:$NB$5,3,0),\"\")","v":"-"},null,null,null,null,0,"","",""]
["4zoMD",{"$f":"VLOOKUP($AA88,DATA!$B$3:$E$6,2,0)","v":"14:30:00"},{"$f":"VLOOKUP($AA88,DATA!$B$3:$E$6,3,0)","v":"22:30:00"},{"$f":"VLOOKUP($AA88,DATA!$B$3:$E$6,4,0)","v":3.125E-2},0.30208333333333337,0.30208333333333337,{"$f":"DATA!$C$9","v":0.89},{"$f":"DATA!$C$10","v":64},1,407.81250000000006,407.81250000000006,0,"","",0,"","",0,"","","","",null,{"$f":"X79","v":4},null,{"$f":"TEXT(Y87,\"ddd\")","v":"zo"},"MD",{"$f":"IFERROR(HLOOKUP(Y87,[1]DATA!$A$1:$NB$5,4,0),\"\")","v":"-"},null,null,null,null,0,"","",""]
["4zoZND",{"$f":"VLOOKUP($AA89,DATA!$B$3:$E$6,2,0)","v":"00:00:00"},{"$f":"VLOOKUP($AA89,DATA!$B$3:$E$6,3,0)","v":"00:00:00"},{"$f":"VLOOKUP($AA89,DATA!$B$3:$E$6,4,0)","v":3.125E-2},-3.125E-2,-3.125E-2,{"$f":"DATA!$C$9","v":0.89},{"$f":"DATA!$C$10","v":64},1,-42.1875,-42.1875,0,"","",0,"","",0,"","","","",null,{"$f":"X79","v":4},null,{"$f":"TEXT(Y87,\"ddd\")","v":"zo"},"ZND",{"$f":"IFERROR(HLOOKUP(Y87,[1]DATA!$A$1:$NB$5,5,0),\"\")","v":"D1"},null,null,null,null,0,"","",""]
["5maDD",{"$f":"VLOOKUP($AA90,DATA!$B$3:$E$6,2,0)","v":"06:30:00"},{"$f":"VLOOKUP($AA90,DATA!$B$3:$E$6,3,0)","v":"14:30:00"},{"$f":"VLOOKUP($AA90,DATA!$B$3:$E$6,4,0)","v":3.125E-2},0.30208333333333331,0.1784722222222222,{"$f":"DATA!$C$9","v":0.89},{"$f":"DATA!$C$10","v":64},1,240.93749999999997,407.8125,0.12361111111111112,166.875,0.4091954022988506,{"$f":"TIME(INT($AD90/60),INT(MOD($AD90,60)/1),0)","v":0},"","",309.33333333333331,272,"","",272,null,{"$f":"X100","v":5},{"$f":"Y87+1","v":"2018-01-29"},{"$f":"TEXT(Y90,\"ddd\")","v":"ma"},"DD",{"$f":"IFERROR(HLOOKUP(Y90,[1]DATA!$A$1:$NB$5,3,0),\"\")","v":"D3"},178,null,18,290,10,2.9375,0.6239426523297491,0.96868475991649272,4359.375,2870,0.65835125448028675,1064.0625,0.24408602150537634,225,5.1612903225806452E-2,0.97371923354647871,"",0.97059121208860399,0.97684725500435354,200.3125,4.5949820788530459E-2,213.66666666666666,93]
["5maMD",{"$f":"VLOOKUP($AA91,DATA!$B$3:$E$6,2,0)","v":"14:30:00"},{"$f":"VLOOKUP($AA91,DATA!$B$3:$E$6,3,0)","v":"22:30:00"},{"$f":"VLOOKUP($AA91,DATA!$B$3:$E$6,4,0)","v":3.125E-2},0.30208333333333337,0.23819444444444449,{"$f":"DATA!$C$9","v":0.89},{"$f":"DATA!$C$10","v":64},1,321.56250000000006,407.81250000000006,6.3888888888888884E-2,86.25,0.21149425287356319,{"$f":"TIME(INT(AD91/60),INT(MOD(AD91,60)/1),0)","v":0},"","",359.46666666666664,321,"",321,"",null,{"$f":"X100","v":5},null,{"$f":"TEXT(Y90,\"ddd\")","v":"ma"},"MD",{"$f":"IFERROR(HLOOKUP(Y90,[1]DATA!$A$1:$NB$5,4,0),\"\")","v":"D2"},92,null,16,337,6,-28.687499999999943,0.73634408602150547,0.983582634075155]
["5maND",{"$f":"VLOOKUP($AA92,DATA!$B$3:$E$6,2,0)","v":"22:30:00"},{"$f":"VLOOKUP($AA92,DATA!$B$3:$E$6,3,0)","v":"06:30:00"},{"$f":"VLOOKUP($AA92,DATA!$B$3:$E$6,4,0)","v":3.125E-2},{"$f":"(C92-B92+(B92>C92))-D92","v":0.30208333333333326},{"$f":"E92-O92-L92","v":0.30208333333333326},{"$f":"DATA!$C$9","v":0.89},{"$f":"DATA!$C$10","v":64},1,{"$f":"F92*86400/H92*I92","v":407.81249999999989},{"$f":"E92*86400/H92","v":407.81249999999989},0,"","",0,"","",{"$f":"AF92*AG$2","v":0},{"$f":"IF(AF92-AE92=0,\"\",AF92-AE92)","v":""},"","","",null,{"$f":"X100","v":5},null,{"$f":"TEXT(Y90,\"ddd\")","v":"ma"},"ND",{"$f":"IFERROR(HLOOKUP(Y90,[1]DATA!$A$1:$NB$5,5,0),\"\")","v":"D1"},null,null,null,null,0,"","",""]
["5diDD",{"$f":"VLOOKUP($AA93,DATA!$B$3:$E$6,2,0)","v":"06:30:00"},{"$f":"VLOOKUP($AA93,DATA!$B$3:$E$6,3,0)","v":"14:30:00"},{"$f":"VLOOKUP($AA93,DATA!$B$3:$E$6,4,0)","v":3.125E-2},0.30208333333333331,0.20277777777777778,{"$f":"DATA!$C$9","v":0.89},{"$f":"DATA!$C$10","v":64},1,273.75,407.8125,9.930555555555555E-2,134.0625,0.32873563218390806,0,"","",346.66666666666669,312,"","",312,null,{"$f":"X100","v":5},{"$f":"Y90+1","v":"2018-01-30"},{"$f":"TEXT(Y93,\"ddd\")","v":"di"},"DD",{"$f":"IFERROR(HLOOKUP(Y93,[1]DATA!$A$1:$NB$5,3,0),\"\")","v":"D3"},143,null,13,325,0,10.124999999999943,0.7156989247311828,1]
["5diMD",{"$f":"VLOOKUP($AA94,DATA!$B$3:$E$6,2,0)","v":"14:30:00"},{"$f":"VLOOKUP($AA94,DATA!$B$3:$E$6,3,0)","v":"22:30:00"},{"$f":"VLOOKUP($AA94,DATA!$B$3:$E$6,4,0)","v":3.125E-2},0.30208333333333337,0.27361111111111114,{"$f":"DATA!$C$9","v":0.89},{"$f":"DATA!$C$10","v":64},1,369.37500000000006,407.81250000000006,2.8472222222222222E-2,38.4375,9.4252873563218376E-2,0,"","",398.93333333333334,333,"",333,"",null,{"$f":"X100","v":5},null,{"$f":"TEXT(Y93,\"ddd\")","v":"di"},"MD",{"$f":"IFERROR(HLOOKUP(Y93,[1]DATA!$A$1:$NB$5,4,0),\"\")","v":"D2"},41,null,41,374,9,-64.499999999999943,0.76387096774193564,0.97793757149861094]
["5diND",{"$f":"VLOOKUP($AA95,DATA!$B$3:$E$6,2,0)","v":"22:30:00"},{"$f":"VLOOKUP($AA95,DATA!$B$3:$E$6,3,0)","v":"06:30:00"},{"$f":"VLOOKUP($AA95,DATA!$B$3:$E$6,4,0)","v":3.125E-2},0.30208333333333326,0.30208333333333326,{"$f":"DATA!$C$9","v":0.89},{"$f":"DATA!$C$10","v":64},1,407.81249999999989,407.81249999999989,0,"","",0,"","",0,"","","","",null,{"$f":"X100","v":5},null,{"$f":"TEXT(Y93,\"ddd\")","v":"di"},"ND",{"$f":"IFERROR(HLOOKUP(Y93,[1]DATA!$A$1:$NB$5,5,0),\"\")","v":"D1"},null,null,null,null,0,"","",""]
["5woDD",{"$f":"VLOOKUP($AA96,DATA!$B$3:$E$6,2,0)","v":"06:30:00"},{"$f":"VLOOKUP($AA96,DATA!$B$3:$E$6,3,0)","v":"14:30:00"},{"$f":"VLOOKUP($AA96,DATA!$B$3:$E$6,4,0)","v":3.125E-2},0.30208333333333331,0.15138888888888885,{"$f":"DATA!$C$9","v":0.89},{"$f":"DATA!$C$10","v":64},1,204.37499999999994,407.8125,0.12291666666666667,165.9375,0.40689655172413791,2.7777777777777776E-2,37.5,9.1954022988505746E-2,238.93333333333334,217,"","",217,null,{"$f":"X100","v":5},{"$f":"Y93+1","v":"2018-01-31"},{"$f":"TEXT(Y96,\"ddd\")","v":"wo"},"DD",{"$f":"IFERROR(HLOOKUP(Y96,[1]DATA!$A$1:$NB$5,3,0),\"\")","v":"D3"},177,40,7,224,5,-15.5,0.49777777777777776,0.97950259633779724]
["5woMD",{"$f":"VLOOKUP($AA97,DATA!$B$3:$E$6,2,0)","v":"14:30:00"},{"$f":"VLOOKUP($AA97,DATA!$B$3:$E$6,3,0)","v":"22:30:00"},{"$f":"VLOOKUP($AA97,DATA!$B$3:$E$6,4,0)","v":3.125E-2},0.30208333333333337,0.15763888888888891,{"$f":"DATA!$C$9","v":0.89},{"$f":"DATA!$C$10","v":64},1,212.81250000000003,407.81250000000006,5.5555555555555558E-3,7.5,1.8390804597701146E-2,0.1388888888888889,187.5,0.45977011494252867,263.46666666666664,235,"",235,"",null,{"$f":"X100","v":5},null,{"$f":"TEXT(Y96,\"ddd\")","v":"wo"},"MD",{"$f":"IFERROR(HLOOKUP(Y96,[1]DATA!$A$1:$NB$5,4,0),\"\")","v":"D2"},8,200,12,247,0,-5.9374999999999432,0.53906810035842301,1]
["5woND",{"$f":"VLOOKUP($AA98,DATA!$B$3:$E$6,2,0)","v":"22:30:00"},{"$f":"VLOOKUP($AA98,DATA!$B$3:$E$6,3,0)","v":"06:30:00"},{"$f":"VLOOKUP($AA98,DATA!$B$3:$E$6,4,0)","v":3.125E-2},0.30208333333333326,0.30208333333333326,{"$f":"DATA!$C$9","v":0.89},{"$f":"DATA!$C$10","v":64},1,407.81249999999989,407.81249999999989,0,"","",0,"","",0,"","","","",null,{"$f":"X100","v":5},null,{"$f":"TEXT(Y96,\"ddd\")","v":"wo"},"ND",{"$f":"IFERROR(HLOOKUP(Y96,[1]DATA!$A$1:$NB$5,5,0),\"\")","v":"D1"},null,null,null,null,0,"","",""]
["5doDD",{"$f":"VLOOKUP($AA99,DATA!$B$3:$E$6,2,0)","v":"06:30:00"},{"$f":"VLOOKUP($AA99,DATA!$B$3:$E$6,3,0)","v":"14:30:00"},{"$f":"VLOOKUP($AA99,DATA!$B$3:$E$6,4,0)","v":3.125E-2},0.30208333333333331,0.19027777777777777,{"$f":"DATA!$C$9","v":0.89},{"$f":"DATA!$C$10","v":64},1,256.875,407.8125,0.11180555555555556,150.9375,0.37011494252873561,0,"","",296.5333333333333,270,"","",270,null,{"$f":"X100","v":5},{"$f":"Y96+1","v":"2018-02-01"},{"$f":"TEXT(Y99,\"ddd\")","v":"do"},"DD",{"$f":"IFERROR(HLOOKUP(Y99,[1]DATA!$A$1:$NB$5,3,0),\"\")","v":"D3"},161,null,8,278,18,-15.000000000000057,0.61935483870967745,0.94277236116998731]
["5doMD",{"$f":"VLOOKUP($AA100,DATA!$B$3:$E$6,2,0)","v":"14:30:00"},{"$f":"VLOOKUP($AA100,DATA!$B$3:$E$6,3,0)","v":"22:30:00"},{"$f":"VLOOKUP($AA100,DATA!$B$3:$E$6,4,0)","v":3.125E-2},0.30208333333333337,0.25208333333333338,{"$f":"DATA!$C$9","v":0.89},{"$f":"DATA!$C$10","v":64},1,340.31250000000006,407.81250000000006,4.9999999999999996E-2,67.5,0.16551724137931031,0,"","",380.8,326,"",326,"",null,{"$f":"WEEKNUM($Y90)","v":5},null,{"$f":"TEXT(Y99,\"ddd\")","v":"do"},"MD",{"$f":"IFERROR(HLOOKUP(Y99,[1]DATA!$A$1:$NB$5,4,0),\"\")","v":"D2"},72,null,31,357,26,-42.437499999999943,0.74781362007168473,0.93608652900688294]
["5doND",{"$f":"VLOOKUP($AA101,DATA!$B$3:$E$6,2,0)","v":"22:30:00"},{"$f":"VLOOKUP($AA101,DATA!$B$3:$E$6,3,0)","v":"06:30:00"},{"$f":"VLOOKUP($AA101,DATA!$B$3:$E$6,4,0)","v":3.125E-2},0.30208333333333326,0.30208333333333326,{"$f":"DATA!$C$9","v":0.89},{"$f":"DATA!$C$10","v":64},1,407.81249999999989,407.81249999999989,0,"","",0,"","",0,"","","","",null,{"$f":"X100","v":5},null,{"$f":"TEXT(Y99,\"ddd\")","v":"do"},"ND",{"$f":"IFERROR(HLOOKUP(Y99,[1]DATA!$A$1:$NB$5,5,0),\"\")","v":"D1"},null,null,null,null,0,"","",""]
["5vrDD",{"$f":"VLOOKUP($AA102,DATA!$B$3:$E$6,2,0)","v":"06:30:00"},{"$f":"VLOOKUP($AA102,DATA!$B$3:$E$6,3,0)","v":"14:30:00"},{"$f":"VLOOKUP($AA102,DATA!$B$3:$E$6,4,0)","v":3.125E-2},0.30208333333333331,0.19861111111111107,{"$f":"DATA!$C$9","v":0.89},{"$f":"DATA!$C$10","v":64},1,268.12499999999994,407.8125,0.10347222222222223,139.6875,0.34252873563218389,0,"","",295.46666666666664,270,"","",270,null,{"$f":"X100","v":5},{"$f":"Y99+1","v":"2018-02-02"},{"$f":"TEXT(Y102,\"ddd\")","v":"vr"},"DD",{"$f":"IFERROR(HLOOKUP(Y102,[1]DATA!$A$1:$NB$5,3,0),\"\")","v":"D3"},149,null,7,277,2,-26.25,0.61935483870967745,0.9932765575974899]
["5vrMD",{"$f":"VLOOKUP($AA103,DATA!$B$3:$E$6,2,0)","v":"14:30:00"},{"$f":"VLOOKUP($AA103,DATA!$B$3:$E$6,3,0)","v":"22:30:00"},{"$f":"VLOOKUP($AA103,DATA!$B$3:$E$6,4,0)","v":3.125E-2},0.30208333333333337,0.22291666666666671,{"$f":"DATA!$C$9","v":0.89},{"$f":"DATA!$C$10","v":64},1,300.93750000000006,407.81250000000006,7.9166666666666663E-2,106.875,0.26206896551724135,0,"","",363.73333333333335,314,"",314,"",null,{"$f":"X100","v":5},null,{"$f":"TEXT(Y102,\"ddd\")","v":"vr"},"MD",{"$f":"IFERROR(HLOOKUP(Y102,[1]DATA!$A$1:$NB$5,4,0),\"\")","v":"D2"},114,null,27,341,17,-15.062499999999943,0.72028673835125456,0.95534932586237087]
["5vrND",{"$f":"VLOOKUP($AA104,DATA!$B$3:$E$6,2,0)","v":"22:30:00"},{"$f":"VLOOKUP($AA104,DATA!$B$3:$E$6,3,0)","v":"06:30:00"},{"$f":"VLOOKUP($AA104,DATA!$B$3:$E$6,4,0)","v":3.125E-2},0.30208333333333326,0.30208333333333326,{"$f":"DATA!$C$9","v":0.89},{"$f":"DATA!$C$10","v":64},1,407.81249999999989,407.81249999999989,0,"","",0,"","",0,"","","","",null,{"$f":"X100","v":5},null,{"$f":"TEXT(Y102,\"ddd\")","v":"vr"},"ND",{"$f":"IFERROR(HLOOKUP(Y102,[1]DATA!$A$1:$NB$5,5,0),\"\")","v":"-"},null,null,null,null,0,"","",""]
["5zaDD",{"$f":"VLOOKUP($AA105,DATA!$B$3:$E$6,2,0)","v":"06:30:00"},{"$f":"VLOOKUP($AA105,DATA!$B$3:$E$6,3,0)","v":"14:30:00"},{"$f":"VLOOKUP($AA105,DATA!$B$3:$E$6,4,0)","v":3.125E-2},0.30208333333333331,0.30208333333333331,{"$f":"DATA!$C$9","v":0.89},{"$f":"DATA!$C$10","v":64},1,407.8125,407.8125,0,"","",0,"","",0,"","","","",null,{"$f":"X100","v":5},{"$f":"Y102+1","v":"2018-02-03"},{"$f":"TEXT(Y105,\"ddd\")","v":"za"},"DD",{"$f":"IFERROR(HLOOKUP(Y105,[1]DATA!$A$1:$NB$5,3,0),\"\")","v":"-"},null,null,null,null,0,"","",""]
["5zaMD",{"$f":"VLOOKUP($AA106,DATA!$B$3:$E$6,2,0)","v":"14:30:00"},{"$f":"VLOOKUP($AA106,DATA!$B$3:$E$6,3,0)","v":"22:30:00"},{"$f":"VLOOKUP($AA106,DATA!$B$3:$E$6,4,0)","v":3.125E-2},0.30208333333333337,0.30208333333333337,{"$f":"DATA!$C$9","v":0.89},{"$f":"DATA!$C$10","v":64},1,407.81250000000006,407.81250000000006,0,"","",0,"","",0,"","","","",null,{"$f":"X100","v":5},null,{"$f":"TEXT(Y105,\"ddd\")","v":"za"},"MD",{"$f":"IFERROR(HLOOKUP(Y105,[1]DATA!$A$1:$NB$5,4,0),\"\")","v":"-"},null,null,null,null,0,"","",""]
["5zaND",{"$f":"VLOOKUP($AA107,DATA!$B$3:$E$6,2,0)","v":"22:30:00"},{"$f":"VLOOKUP($AA107,DATA!$B$3:$E$6,3,0)","v":"06:30:00"},{"$f":"VLOOKUP($AA107,DATA!$B$3:$E$6,4,0)","v":3.125E-2},0.30208333333333326,0.30208333333333326,{"$f":"DATA!$C$9","v":0.89},{"$f":"DATA!$C$10","v":64},1,407.81249999999989,407.81249999999989,0,"","",0,"","",0,"","","","",null,{"$f":"X100","v":5},null,{"$f":"TEXT(Y105,\"ddd\")","v":"za"},"ND",{"$f":"IFERROR(HLOOKUP(Y105,[1]DATA!$A$1:$NB$5,5,0),\"\")","v":"-"},null,null,null,null,0,"","",""]
["5zoDD",{"$f":"VLOOKUP($AA108,DATA!$B$3:$E$6,2,0)","v":"06:30:00"},{"$f":"VLOOKUP($AA108,DATA!$B$3:$E$6,3,0)","v":"14:30:00"},{"$f":"VLOOKUP($AA108,DATA!$B$3:$E$6,4,0)","v":3.125E-2},0.30208333333333331,0.30208333333333331,{"$f":"DATA!$C$9","v":0.89},{"$f":"DATA!$C$10","v":64},1,407.8125,407.8125,0,"","",0,"","",0,"","","","",null,{"$f":"X100","v":5},{"$f":"Y105+1","v":"2018-02-04"},{"$f":"TEXT(Y108,\"ddd\")","v":"zo"},"DD",{"$f":"IFERROR(HLOOKUP(Y108,[1]DATA!$A$1:$NB$5,3,0),\"\")","v":"-"},null,null,null,null,0,"","",""]
["5zoMD",{"$f":"VLOOKUP($AA109,DATA!$B$3:$E$6,2,0)","v":"14:30:00"},{"$f":"VLOOKUP($AA109,DATA!$B$3:$E$6,3,0)","v":"22:30:00"},{"$f":"VLOOKUP($AA109,DATA!$B$3:$E$6,4,0)","v":3.125E-2},0.30208333333333337,0.30208333333333337,{"$f":"DATA!$C$9","v":0.89},{"$f":"DATA!$C$10","v":64},1,407.81250000000006,407.81250000000006,0,"","",0,"","",0,"","","","",null,{"$f":"X100","v":5},null,{"$f":"TEXT(Y108,\"ddd\")","v":"zo"},"MD",{"$f":"IFERROR(HLOOKUP(Y108,[1]DATA!$A$1:$NB$5,4,0),\"\")","v":"-"},null,null,null,null,0,"","",""]
["5zoZND",{"$f":"VLOOKUP($AA110,DATA!$B$3:$E$6,2,0)","v":"00:00:00"},{"$f":"VLOOKUP($AA110,DATA!$B$3:$E$6,3,0)","v":"00:00:00"},{"$f":"VLOOKUP($AA110,DATA!$B$3:$E$6,4,0)","v":3.125E-2},-3.125E-2,-3.125E-2,{"$f":"DATA!$C$9","v":0.89},{"$f":"DATA!$C$10","v":64},1,-42.1875,-42.1875,0,"","",0,"","",0,"","","","",null,{"$f":"X100","v":5},null,{"$f":"TEXT(Y108,\"ddd\")","v":"zo"},"ZND",{"$f":"IFERROR(HLOOKUP(Y108,[1]DATA!$A$1:$NB$5,5,0),\"\")","v":"D3"},null,null,null,null,0,"","",""]
["6maDD",{"$f":"VLOOKUP($AA111,DATA!$B$3:$E$6,2,0)","v":"06:30:00"},{"$f":"VLOOKUP($AA111,DATA!$B$3:$E$6,3,0)","v":"14:30:00"},{"$f":"VLOOKUP($AA111,DATA!$B$3:$E$6,4,0)","v":3.125E-2},0.30208333333333331,0.2326388888888889,{"$f":"DATA!$C$9","v":0.89},{"$f":"DATA!$C$10","v":64},1,314.0625,407.8125,6.9444444444444434E-2,93.749999999999986,0.22988505747126434,{"$f":"TIME(INT($AD111/60),INT(MOD($AD111,60)/1),0)","v":0},"","",334.93333333333334,298,"",298,"",null,{"$f":"X121","v":6},{"$f":"Y108+1","v":"2018-02-05"},{"$f":"TEXT(Y111,\"ddd\")","v":"ma"},"DD",{"$f":"IFERROR(HLOOKUP(Y111,[1]DATA!$A$1:$NB$5,3,0),\"\")","v":"D2"},100,null,16,314,8,-44.187500000000057,0.68358422939068098,0.97667185069984452,4359.375,3081,0.70675268817204306,975.9375,0.22387096774193549,0,0,0.96874883366853459,0.97692693693767185,0.96057073039939722,"",302.4375,6.9376344086021446E-2,322.60000000000002,119]
[{"$f":"X112&Z112&AA112","v":"6maMD"},{"$f":"VLOOKUP($AA112,DATA!$B$3:$E$6,2,0)","v":"14:30:00"},{"$f":"VLOOKUP($AA112,DATA!$B$3:$E$6,3,0)","v":"22:30:00"},{"$f":"VLOOKUP($AA112,DATA!$B$3:$E$6,4,0)","v":3.125E-2},0.30208333333333337,0.20972222222222225,{"$f":"DATA!$C$9","v":0.89},{"$f":"DATA!$C$10","v":64},1,283.12500000000006,407.81250000000006,9.2361111111111116E-2,124.6875,0.30574712643678159,{"$f":"TIME(INT(AD112/60),INT(MOD(AD112,60)/1),0)","v":0},{"$f":"IF($O112*86400/$H112=0,\"\",$O112*86400/$H112)","v":""},"",354.13333333333333,310,310,"","",null,{"$f":"X121","v":6},null,{"$f":"TEXT(Y111,\"ddd\")","v":"ma"},"MD",{"$f":"IFERROR(HLOOKUP(Y111,[1]DATA!$A$1:$NB$5,4,0),\"\")","v":"D1"},133,null,22,332,0,-1.2499999999999432,0.71111111111111125,1]
["6maND",{"$f":"VLOOKUP($AA113,DATA!$B$3:$E$6,2,0)","v":"22:30:00"},{"$f":"VLOOKUP($AA113,DATA!$B$3:$E$6,3,0)","v":"06:30:00"},{"$f":"VLOOKUP($AA113,DATA!$B$3:$E$6,4,0)","v":3.125E-2},0.30208333333333326,0.30208333333333326,{"$f":"DATA!$C$9","v":0.89},{"$f":"DATA!$C$10","v":64},1,407.81249999999989,407.81249999999989,0,"","",0,"","",0,"","","","",null,{"$f":"X121","v":6},null,{"$f":"TEXT(Y111,\"ddd\")","v":"ma"},"ND",{"$f":"IFERROR(HLOOKUP(Y111,[1]DATA!$A$1:$NB$5,5,0),\"\")","v":"D3"},null,null,null,null,0,"","",""]
["6diDD",{"$f":"VLOOKUP($AA114,DATA!$B$3:$E$6,2,0)","v":"06:30:00"},{"$f":"VLOOKUP($AA114,DATA!$B$3:$E$6,3,0)","v":"14:30:00"},{"$f":"VLOOKUP($AA114,DATA!$B$3:$E$6,4,0)","v":3.125E-2},0.30208333333333331,0.27986111111111112,{"$f":"DATA!$C$9","v":0.89},{"$f":"DATA!$C$10","v":64},1,377.8125,407.8125,2.2222222222222223E-2,30,7.3563218390804597E-2,0,"","",349.86666666666667,317,"",317,"",null,{"$f":"X121","v":6},{"$f":"Y111+1","v":"2018-02-06"},{"$f":"TEXT(Y114,\"ddd\")","v":"di"},"DD",{"$f":"IFERROR(HLOOKUP(Y114,[1]DATA!$A$1:$NB$5,3,0),\"\")","v":"D2"},32,null,11,328,20,-88.937500000000057,0.72716845878136205,0.94592645998558034]
["6diMD",{"$f":"VLOOKUP($AA115,DATA!$B$3:$E$6,2,0)","v":"14:30:00"},{"$f":"VLOOKUP($AA115,DATA!$B$3:$E$6,3,0)","v":"22:30:00"},{"$f":"VLOOKUP($AA115,DATA!$B$3:$E$6,4,0)","v":3.125E-2},0.30208333333333337,0.17083333333333336,{"$f":"DATA!$C$9","v":0.89},{"$f":"DATA!$C$10","v":64},1,230.62500000000003,407.81250000000006,0.13125000000000001,177.1875,0.43448275862068958,0,"","",245.33333333333334,224,224,"","",null,{"$f":"X121","v":6},null,{"$f":"TEXT(Y114,\"ddd\")","v":"di"},"MD",{"$f":"IFERROR(HLOOKUP(Y114,[1]DATA!$A$1:$NB$5,4,0),\"\")","v":"D1"},189,null,6,230,8,-34.749999999999943,0.51383512544802878,0.96842105263157896]
["6diND",{"$f":"VLOOKUP($AA116,DATA!$B$3:$E$6,2,0)","v":"22:30:00"},{"$f":"VLOOKUP($AA116,DATA!$B$3:$E$6,3,0)","v":"06:30:00"},{"$f":"VLOOKUP($AA116,DATA!$B$3:$E$6,4,0)","v":3.125E-2},0.30208333333333326,0.30208333333333326,{"$f":"DATA!$C$9","v":0.89},{"$f":"DATA!$C$10","v":64},1,407.81249999999989,407.81249999999989,0,"","",0,"","",0,"","","","",null,{"$f":"X121","v":6},null,{"$f":"TEXT(Y114,\"ddd\")","v":"di"},"ND",{"$f":"IFERROR(HLOOKUP(Y114,[1]DATA!$A$1:$NB$5,5,0),\"\")","v":"D3"},null,null,null,null,0,"","",""]
["6woDD",{"$f":"VLOOKUP($AA117,DATA!$B$3:$E$6,2,0)","v":"06:30:00"},{"$f":"VLOOKUP($AA117,DATA!$B$3:$E$6,3,0)","v":"14:30:00"},{"$f":"VLOOKUP($AA117,DATA!$B$3:$E$6,4,0)","v":3.125E-2},0.30208333333333331,0.24999999999999997,{"$f":"DATA!$C$9","v":0.89},{"$f":"DATA!$C$10","v":64},1,337.49999999999994,407.8125,5.2083333333333336E-2,70.3125,0.17241379310344829,0,"","",394.66666666666669,350,"",350,"",null,{"$f":"X121","v":6},{"$f":"Y114+1","v":"2018-02-07"},{"$f":"TEXT(Y117,\"ddd\")","v":"wo"},"DD",{"$f":"IFERROR(HLOOKUP(Y117,[1]DATA!$A$1:$NB$5,3,0),\"\")","v":"D2"},75,null,20,370,42,-15.625000000000057,0.80286738351254483,0.90381679389312974]
["6woMD",{"$f":"VLOOKUP($AA118,DATA!$B$3:$E$6,2,0)","v":"14:30:00"},{"$f":"VLOOKUP($AA118,DATA!$B$3:$E$6,3,0)","v":"22:30:00"},{"$f":"VLOOKUP($AA118,DATA!$B$3:$E$6,4,0)","v":3.125E-2},0.30208333333333337,0.17083333333333336,{"$f":"DATA!$C$9","v":0.89},{"$f":"DATA!$C$10","v":64},1,230.62500000000003,407.81250000000006,0.13125000000000001,177.1875,0.43448275862068958,0,"","",294.39999999999998,258,258,"","",null,{"$f":"X121","v":6},null,{"$f":"TEXT(Y117,\"ddd\")","v":"wo"},"MD",{"$f":"IFERROR(HLOOKUP(Y117,[1]DATA!$A$1:$NB$5,4,0),\"\")","v":"D1"},189,null,18,276,5,-0.74999999999994316,0.59182795698924739,0.98329993319973275]
["6woND",{"$f":"VLOOKUP($AA119,DATA!$B$3:$E$6,2,0)","v":"22:30:00"},{"$f":"VLOOKUP($AA119,DATA!$B$3:$E$6,3,0)","v":"06:30:00"},{"$f":"VLOOKUP($AA119,DATA!$B$3:$E$6,4,0)","v":3.125E-2},0.30208333333333326,0.30208333333333326,{"$f":"DATA!$C$9","v":0.89},{"$f":"DATA!$C$10","v":64},1,407.81249999999989,407.81249999999989,0,"","",0,"","",0,"","","","",null,{"$f":"X121","v":6},null,{"$f":"TEXT(Y117,\"ddd\")","v":"wo"},"ND",{"$f":"IFERROR(HLOOKUP(Y117,[1]DATA!$A$1:$NB$5,5,0),\"\")","v":"D3"},null,null,null,null,0,"","",""]
["6doDD",{"$f":"VLOOKUP($AA120,DATA!$B$3:$E$6,2,0)","v":"06:30:00"},{"$f":"VLOOKUP($AA120,DATA!$B$3:$E$6,3,0)","v":"14:30:00"},{"$f":"VLOOKUP($AA120,DATA!$B$3:$E$6,4,0)","v":3.125E-2},0.30208333333333331,0.26111111111111107,{"$f":"DATA!$C$9","v":0.89},{"$f":"DATA!$C$10","v":64},1,352.49999999999994,407.8125,4.0972222222222222E-2,55.3125,0.13563218390804599,0,"","",369.06666666666666,333,"",333,"",null,{"$f":"X121","v":6},{"$f":"Y117+1","v":"2018-02-08"},{"$f":"TEXT(Y120,\"ddd\")","v":"do"},"DD",{"$f":"IFERROR(HLOOKUP(Y120,[1]DATA!$A$1:$NB$5,3,0),\"\")","v":"D2"},59,null,13,346,6,-47.625,0.76387096774193552,0.98400284393885529]
["6doMD",{"$f":"VLOOKUP($AA121,DATA!$B$3:$E$6,2,0)","v":"14:30:00"},{"$f":"VLOOKUP($AA121,DATA!$B$3:$E$6,3,0)","v":"22:30:00"},{"$f":"VLOOKUP($AA121,DATA!$B$3:$E$6,4,0)","v":3.125E-2},0.30208333333333337,0.21597222222222223,{"$f":"DATA!$C$9","v":0.89},{"$f":"DATA!$C$10","v":64},1,291.5625,407.81250000000006,8.6111111111111124E-2,116.25000000000001,0.28505747126436781,0,"","",355.2,315,315,"","",null,{"$f":"WEEKNUM($Y111)","v":6},null,{"$f":"TEXT(Y120,\"ddd\")","v":"do"},"MD",{"$f":"IFERROR(HLOOKUP(Y120,[1]DATA!$A$1:$NB$5,4,0),\"\")","v":"D1"},124,null,18,333,0,-4.6874999999998863,0.72258064516129039,1]
["6doND",{"$f":"VLOOKUP($AA122,DATA!$B$3:$E$6,2,0)","v":"22:30:00"},{"$f":"VLOOKUP($AA122,DATA!$B$3:$E$6,3,0)","v":"06:30:00"},{"$f":"VLOOKUP($AA122,DATA!$B$3:$E$6,4,0)","v":3.125E-2},0.30208333333333326,0.30208333333333326,{"$f":"DATA!$C$9","v":0.89},{"$f":"DATA!$C$10","v":64},1,407.81249999999989,407.81249999999989,0,"","",0,"","",0,"","","","",null,{"$f":"X121","v":6},null,{"$f":"TEXT(Y120,\"ddd\")","v":"do"},"ND",{"$f":"IFERROR(HLOOKUP(Y120,[1]DATA!$A$1:$NB$5,5,0),\"\")","v":"D3"},null,null,null,null,0,"","",""]
["6vrDD",{"$f":"VLOOKUP($AA123,DATA!$B$3:$E$6,2,0)","v":"06:30:00"},{"$f":"VLOOKUP($AA123,DATA!$B$3:$E$6,3,0)","v":"14:30:00"},{"$f":"VLOOKUP($AA123,DATA!$B$3:$E$6,4,0)","v":3.125E-2},0.30208333333333331,0.25624999999999998,{"$f":"DATA!$C$9","v":0.89},{"$f":"DATA!$C$10","v":64},1,345.93749999999994,407.8125,4.5833333333333337E-2,61.875000000000007,0.15172413793103451,0,"","",393.6,345,"",345,"",null,{"$f":"X121","v":6},{"$f":"Y120+1","v":"2018-02-09"},{"$f":"TEXT(Y123,\"ddd\")","v":"vr"},"DD",{"$f":"IFERROR(HLOOKUP(Y123,[1]DATA!$A$1:$NB$5,3,0),\"\")","v":"D2"},66,null,24,369,3,-29.0625,0.79139784946236558,0.99243570347957644]
["6vrMD",{"$f":"VLOOKUP($AA124,DATA!$B$3:$E$6,2,0)","v":"14:30:00"},{"$f":"VLOOKUP($AA124,DATA!$B$3:$E$6,3,0)","v":"22:30:00"},{"$f":"VLOOKUP($AA124,DATA!$B$3:$E$6,4,0)","v":3.125E-2},0.30208333333333337,0.2506944444444445,{"$f":"DATA!$C$9","v":0.89},{"$f":"DATA!$C$10","v":64},1,338.43750000000006,407.81250000000006,5.1388888888888894E-2,69.375,0.1701149425287356,0,"","",375.46666666666664,331,331,"","",null,{"$f":"X121","v":6},null,{"$f":"TEXT(Y123,\"ddd\")","v":"vr"},"MD",{"$f":"IFERROR(HLOOKUP(Y123,[1]DATA!$A$1:$NB$5,4,0),\"\")","v":"D1"},74,null,21,352,27,-35.5625,0.75928315412186387,0.93291369885704822]
["6vrND",{"$f":"VLOOKUP($AA125,DATA!$B$3:$E$6,2,0)","v":"22:30:00"},{"$f":"VLOOKUP($AA125,DATA!$B$3:$E$6,3,0)","v":"06:30:00"},{"$f":"VLOOKUP($AA125,DATA!$B$3:$E$6,4,0)","v":3.125E-2},0.30208333333333326,0.30208333333333326,{"$f":"DATA!$C$9","v":0.89},{"$f":"DATA!$C$10","v":64},1,407.81249999999989,407.81249999999989,0,"","",0,"","",0,"","","","",null,{"$f":"X121","v":6},null,{"$f":"TEXT(Y123,\"ddd\")","v":"vr"},"ND",{"$f":"IFERROR(HLOOKUP(Y123,[1]DATA!$A$1:$NB$5,5,0),\"\")","v":"-"},null,null,null,null,0,"","",""]
["6zaDD",{"$f":"VLOOKUP($AA126,DATA!$B$3:$E$6,2,0)","v":"06:30:00"},{"$f":"VLOOKUP($AA126,DATA!$B$3:$E$6,3,0)","v":"14:30:00"},{"$f":"VLOOKUP($AA126,DATA!$B$3:$E$6,4,0)","v":3.125E-2},0.30208333333333331,0.30208333333333331,{"$f":"DATA!$C$9","v":0.89},{"$f":"DATA!$C$10","v":64},1,407.8125,407.8125,0,"","",0,"","",0,"","","","",null,{"$f":"X121","v":6},{"$f":"Y123+1","v":"2018-02-10"},{"$f":"TEXT(Y126,\"ddd\")","v":"za"},"DD",{"$f":"IFERROR(HLOOKUP(Y126,[1]DATA!$A$1:$NB$5,3,0),\"\")","v":"-"},null,null,null,null,0,"","",""]
["6zaMD",{"$f":"VLOOKUP($AA127,DATA!$B$3:$E$6,2,0)","v":"14:30:00"},{"$f":"VLOOKUP($AA127,DATA!$B$3:$E$6,3,0)","v":"22:30:00"},{"$f":"VLOOKUP($AA127,DATA!$B$3:$E$6,4,0)","v":3.125E-2},0.30208333333333337,0.30208333333333337,{"$f":"DATA!$C$9","v":0.89},{"$f":"DATA!$C$10","v":64},1,407.81250000000006,407.81250000000006,0,"","",0,"","",0,"","","","",null,{"$f":"X121","v":6},null,{"$f":"TEXT(Y126,\"ddd\")","v":"za"},"MD",{"$f":"IFERROR(HLOOKUP(Y126,[1]DATA!$A$1:$NB$5,4,0),\"\")","v":"-"},null,null,null,null,0,"","",""]
["6zaND",{"$f":"VLOOKUP($AA128,DATA!$B$3:$E$6,2,0)","v":"22:30:00"},{"$f":"VLOOKUP($AA128,DATA!$B$3:$E$6,3,0)","v":"06:30:00"},{"$f":"VLOOKUP($AA128,DATA!$B$3:$E$6,4,0)","v":3.125E-2},0.30208333333333326,0.30208333333333326,{"$f":"DATA!$C$9","v":0.89},{"$f":"DATA!$C$10","v":64},1,407.81249999999989,407.81249999999989,0,"","",0,"","",0,"","","","",null,{"$f":"X121","v":6},null,{"$f":"TEXT(Y126,\"ddd\")","v":"za"},"ND",{"$f":"IFERROR(HLOOKUP(Y126,[1]DATA!$A$1:$NB$5,5,0),\"\")","v":"-"},null,null,null,null,0,"","",""]
["6zoDD",{"$f":"VLOOKUP($AA129,DATA!$B$3:$E$6,2,0)","v":"06:30:00"},{"$f":"VLOOKUP($AA129,DATA!$B$3:$E$6,3,0)","v":"14:30:00"},{"$f":"VLOOKUP($AA129,DATA!$B$3:$E$6,4,0)","v":3.125E-2},0.30208333333333331,0.30208333333333331,{"$f":"DATA!$C$9","v":0.89},{"$f":"DATA!$C$10","v":64},1,407.8125,407.8125,0,"","",0,"","",0,"","","","",null,{"$f":"X121","v":6},{"$f":"Y126+1","v":"2018-02-11"},{"$f":"TEXT(Y129,\"ddd\")","v":"zo"},"DD",{"$f":"IFERROR(HLOOKUP(Y129,[1]DATA!$A$1:$NB$5,3,0),\"\")","v":"-"},null,null,null,null,0,"","",""]
["6zoMD",{"$f":"VLOOKUP($AA130,DATA!$B$3:$E$6,2,0)","v":"14:30:00"},{"$f":"VLOOKUP($AA130,DATA!$B$3:$E$6,3,0)","v":"22:30:00"},{"$f":"VLOOKUP($AA130,DATA!$B$3:$E$6,4,0)","v":3.125E-2},0.30208333333333337,0.30208333333333337,{"$f":"DATA!$C$9","v":0.89},{"$f":"DATA!$C$10","v":64},1,407.81250000000006,407.81250000000006,0,"","",0,"","",0,"","","","",null,{"$f":"X121","v":6},null,{"$f":"TEXT(Y129,\"ddd\")","v":"zo"},"MD",{"$f":"IFERROR(HLOOKUP(Y129,[1]DATA!$A$1:$NB$5,4,0),\"\")","v":"-"},null,null,null,null,0,"","",""]
["6zoZND",{"$f":"VLOOKUP($AA131,DATA!$B$3:$E$6,2,0)","v":"00:00:00"},{"$f":"VLOOKUP($AA131,DATA!$B$3:$E$6,3,0)","v":"00:00:00"},{"$f":"VLOOKUP($AA131,DATA!$B$3:$E$6,4,0)","v":3.125E-2},-3.125E-2,-3.125E-2,{"$f":"DATA!$C$9","v":0.89},{"$f":"DATA!$C$10","v":64},1,-42.1875,-42.1875,0,"","",0,"","",0,"","","","",null,{"$f":"X121","v":6},null,{"$f":"TEXT(Y129,\"ddd\")","v":"zo"},"ZND",{"$f":"IFERROR(HLOOKUP(Y129,[1]DATA!$A$1:$NB$5,5,0),\"\")","v":"D2"},null,null,null,null,0,"","",""]
["7maDD",{"$f":"VLOOKUP($AA132,DATA!$B$3:$E$6,2,0)","v":"06:30:00"},{"$f":"VLOOKUP($AA132,DATA!$B$3:$E$6,3,0)","v":"14:30:00"},{"$f":"VLOOKUP($AA132,DATA!$B$3:$E$6,4,0)","v":3.125E-2},0.30208333333333331,0.30208333333333331,{"$f":"DATA!$C$9","v":0.89},{"$f":"DATA!$C$10","v":64},1,407.8125,407.8125,0,"","",{"$f":"TIME(INT($AD132/60),INT(MOD($AD132,60)/1),0)","v":0},"","",0,"","","","",null,{"$f":"X142","v":7},{"$f":"Y129+1","v":"2018-02-12"},{"$f":"TEXT(Y132,\"ddd\")","v":"ma"},"DD",{"$f":"IFERROR(HLOOKUP(Y132,[1]DATA!$A$1:$NB$5,3,0),\"\")","v":"D1"},null,null,null,null,0,"","","",3487.5,2469,0.70795698924731187,1070.625,0.30698924731182797,0,0,0.98996688753803519,0.98931605763972152,"",0.99061771743634885,-52.125,-1.4946236559139847E-2,-55.6,30]
["7maMD",{"$f":"VLOOKUP($AA133,DATA!$B$3:$E$6,2,0)","v":"14:30:00"},{"$f":"VLOOKUP($AA133,DATA!$B$3:$E$6,3,0)","v":"22:30:00"},{"$f":"VLOOKUP($AA133,DATA!$B$3:$E$6,4,0)","v":3.125E-2},0.30208333333333337,0.30208333333333337,{"$f":"DATA!$C$9","v":0.89},{"$f":"DATA!$C$10","v":64},1,407.81250000000006,407.81250000000006,0,"","",{"$f":"TIME(INT(AD133/60),INT(MOD(AD133,60)/1),0)","v":0},"","",0,"","","","",null,{"$f":"X142","v":7},null,{"$f":"TEXT(Y132,\"ddd\")","v":"ma"},"MD",{"$f":"IFERROR(HLOOKUP(Y132,[1]DATA!$A$1:$NB$5,4,0),\"\")","v":"D3"},null,null,null,null,0,"","",""]
["7maND",{"$f":"VLOOKUP($AA134,DATA!$B$3:$E$6,2,0)","v":"22:30:00"},{"$f":"VLOOKUP($AA134,DATA!$B$3:$E$6,3,0)","v":"06:30:00"},{"$f":"VLOOKUP($AA134,DATA!$B$3:$E$6,4,0)","v":3.125E-2},0.30208333333333326,0.30208333333333326,{"$f":"DATA!$C$9","v":0.89},{"$f":"DATA!$C$10","v":64},1,407.81249999999989,407.81249999999989,0,"","",0,"","",0,"","","","",null,{"$f":"X142","v":7},null,{"$f":"TEXT(Y132,\"ddd\")","v":"ma"},"ND",{"$f":"IFERROR(HLOOKUP(Y132,[1]DATA!$A$1:$NB$5,5,0),\"\")","v":"D2"},null,null,null,null,0,"","",""]
["7diDD",{"$f":"VLOOKUP($AA135,DATA!$B$3:$E$6,2,0)","v":"06:30:00"},{"$f":"VLOOKUP($AA135,DATA!$B$3:$E$6,3,0)","v":"14:30:00"},{"$f":"VLOOKUP($AA135,DATA!$B$3:$E$6,4,0)","v":3.125E-2},0.30208333333333331,0.17986111111111108,{"$f":"DATA!$C$9","v":0.89},{"$f":"DATA!$C$10","v":64},1,242.81249999999997,407.8125,{"$f":"TIME(INT($AC135/60),INT(MOD($AC135,60)/1),0)","v":0.12222222222222223},{"$f":"IF($L135*86400/$H135=0,\"\",$L135*86400/$H135)","v":165},{"$f":"IFERROR($M135/$K135,\"\")","v":0.40459770114942528},0,"",{"$f":"IFERROR($P135/$K135,\"\")","v":""},324.26666666666665,282,{"$f":"IF(IF($AB135=\"D1\",$S135,\"\")=0,\"\",IF($AB135=\"D1\",$S135,\"\"))","v":282},{"$f":"IF(IF($AB135=\"D2\",$S135,\"\")=0,\"\",IF($AB135=\"D2\",$S135,\"\"))","v":""},{"$f":"IF(IF($AB135=\"D3\",$S135,\"\")=0,\"\",IF($AB135=\"D3\",$S135,\"\"))","v":""},null,{"$f":"X142","v":7},{"$f":"Y132+1","v":"2018-02-13"},{"$f":"TEXT(Y135,\"ddd\")","v":"di"},"DD",{"$f":"IFERROR(HLOOKUP(Y135,[1]DATA!$A$1:$NB$5,3,0),\"\")","v":"D1"},176,null,22,304,5,11.0625,0.6468817204301075,0.98481473982587564]
["7diMD",{"$f":"VLOOKUP($AA136,DATA!$B$3:$E$6,2,0)","v":"14:30:00"},{"$f":"VLOOKUP($AA136,DATA!$B$3:$E$6,3,0)","v":"22:30:00"},{"$f":"VLOOKUP($AA136,DATA!$B$3:$E$6,4,0)","v":3.125E-2},0.30208333333333337,0.23333333333333339,{"$f":"DATA!$C$9","v":0.89},{"$f":"DATA!$C$10","v":64},1,315.00000000000006,407.81250000000006,6.8749999999999992E-2,92.812499999999986,0.22758620689655165,0,"","",403.2,360,"","",360,null,{"$f":"X142","v":7},null,{"$f":"TEXT(Y135,\"ddd\")","v":"di"},"MD",{"$f":"IFERROR(HLOOKUP(Y135,[1]DATA!$A$1:$NB$5,4,0),\"\")","v":"D3"},99,null,18,378,4,16.875,0.82580645161290334,0.99017681728880158]
["7diND",{"$f":"VLOOKUP($AA137,DATA!$B$3:$E$6,2,0)","v":"22:30:00"},{"$f":"VLOOKUP($AA137,DATA!$B$3:$E$6,3,0)","v":"06:30:00"},{"$f":"VLOOKUP($AA137,DATA!$B$3:$E$6,4,0)","v":3.125E-2},0.30208333333333326,0.30208333333333326,{"$f":"DATA!$C$9","v":0.89},{"$f":"DATA!$C$10","v":64},1,407.81249999999989,407.81249999999989,0,"","",0,"","",0,"","","","",null,{"$f":"X142","v":7},null,{"$f":"TEXT(Y135,\"ddd\")","v":"di"},"ND",{"$f":"IFERROR(HLOOKUP(Y135,[1]DATA!$A$1:$NB$5,5,0),\"\")","v":"D2"},null,null,null,null,0,"","",""]
["7woDD",{"$f":"VLOOKUP($AA138,DATA!$B$3:$E$6,2,0)","v":"06:30:00"},{"$f":"VLOOKUP($AA138,DATA!$B$3:$E$6,3,0)","v":"14:30:00"},{"$f":"VLOOKUP($AA138,DATA!$B$3:$E$6,4,0)","v":3.125E-2},0.30208333333333331,0.22569444444444442,{"$f":"DATA!$C$9","v":0.89},{"$f":"DATA!$C$10","v":64},1,304.68749999999994,407.8125,7.6388888888888895E-2,103.12500000000001,0.25287356321839083,0,"","",388.26666666666665,344,344,"","",null,{"$f":"X142","v":7},{"$f":"Y135+1","v":"2018-02-14"},{"$f":"TEXT(Y138,\"ddd\")","v":"wo"},"DD",{"$f":"IFERROR(HLOOKUP(Y138,[1]DATA!$A$1:$NB$5,3,0),\"\")","v":"D1"},110,null,20,364,11,11.1875,0.78910394265232975,0.97244949073301057]
["7woMD",{"$f":"VLOOKUP($AA139,DATA!$B$3:$E$6,2,0)","v":"14:30:00"},{"$f":"VLOOKUP($AA139,DATA!$B$3:$E$6,3,0)","v":"22:30:00"},{"$f":"VLOOKUP($AA139,DATA!$B$3:$E$6,4,0)","v":3.125E-2},0.30208333333333337,0.19722222222222224,{"$f":"DATA!$C$9","v":0.89},{"$f":"DATA!$C$10","v":64},1,266.25,407.81250000000006,0.10486111111111111,141.5625,0.34712643678160915,0,"","",350.93333333333334,306,"","",306,null,{"$f":"X142","v":7},null,{"$f":"TEXT(Y138,\"ddd\")","v":"wo"},"MD",{"$f":"IFERROR(HLOOKUP(Y138,[1]DATA!$A$1:$NB$5,4,0),\"\")","v":"D3"},151,null,23,329,10,11.625000000000057,0.70193548387096782,0.97229405245659406]
["7woND",{"$f":"VLOOKUP($AA140,DATA!$B$3:$E$6,2,0)","v":"22:30:00"},{"$f":"VLOOKUP($AA140,DATA!$B$3:$E$6,3,0)","v":"06:30:00"},{"$f":"VLOOKUP($AA140,DATA!$B$3:$E$6,4,0)","v":3.125E-2},0.30208333333333326,0.30208333333333326,{"$f":"DATA!$C$9","v":0.89},{"$f":"DATA!$C$10","v":64},1,407.81249999999989,407.81249999999989,0,"","",0,"","",0,"","","","",null,{"$f":"X142","v":7},null,{"$f":"TEXT(Y138,\"ddd\")","v":"wo"},"ND",{"$f":"IFERROR(HLOOKUP(Y138,[1]DATA!$A$1:$NB$5,5,0),\"\")","v":"D2"},null,null,null,null,0,"","",""]
["7doDD",{"$f":"VLOOKUP($AA141,DATA!$B$3:$E$6,2,0)","v":"06:30:00"},{"$f":"VLOOKUP($AA141,DATA!$B$3:$E$6,3,0)","v":"14:30:00"},{"$f":"VLOOKUP($AA141,DATA!$B$3:$E$6,4,0)","v":3.125E-2},0.30208333333333331,0.20763888888888887,{"$f":"DATA!$C$9","v":0.89},{"$f":"DATA!$C$10","v":64},1,280.3125,407.8125,9.4444444444444442E-2,127.5,0.31264367816091954,0,"","",354.13333333333333,322,322,"","",null,{"$f":"X142","v":7},{"$f":"Y138+1","v":"2018-02-15"},{"$f":"TEXT(Y141,\"ddd\")","v":"do"},"DD",{"$f":"IFERROR(HLOOKUP(Y141,[1]DATA!$A$1:$NB$5,3,0),\"\")","v":"D1"},136,null,10,332,0,13.5625,0.73863799283154119,1]
["7doMD",{"$f":"VLOOKUP($AA142,DATA!$B$3:$E$6,2,0)","v":"14:30:00"},{"$f":"VLOOKUP($AA142,DATA!$B$3:$E$6,3,0)","v":"22:30:00"},{"$f":"VLOOKUP($AA142,DATA!$B$3:$E$6,4,0)","v":3.125E-2},0.30208333333333337,0.22222222222222227,{"$f":"DATA!$C$9","v":0.89},{"$f":"DATA!$C$10","v":64},1,300.00000000000006,407.81250000000006,7.9861111111111105E-2,107.81249999999999,0.26436781609195398,0,"","",365.86666666666667,324,"","",324,null,{"$f":"WEEKNUM($Y132)","v":7},null,{"$f":"TEXT(Y141,\"ddd\")","v":"do"},"MD",{"$f":"IFERROR(HLOOKUP(Y141,[1]DATA!$A$1:$NB$5,4,0),\"\")","v":"D3"},115,null,19,343,0,-4.1249999999999432,0.74322580645161296,1]
["7doND",{"$f":"VLOOKUP($AA143,DATA!$B$3:$E$6,2,0)","v":"22:30:00"},{"$f":"VLOOKUP($AA143,DATA!$B$3:$E$6,3,0)","v":"06:30:00"},{"$f":"VLOOKUP($AA143,DATA!$B$3:$E$6,4,0)","v":3.125E-2},0.30208333333333326,0.30208333333333326,{"$f":"DATA!$C$9","v":0.89},{"$f":"DATA!$C$10","v":64},1,407.81249999999989,407.81249999999989,0,"","",0,"","",0,"","","","",null,{"$f":"X142","v":7},null,{"$f":"TEXT(Y141,\"ddd\")","v":"do"},"ND",{"$f":"IFERROR(HLOOKUP(Y141,[1]DATA!$A$1:$NB$5,5,0),\"\")","v":"D2"},null,null,null,null,0,"","",""]
["7vrDD",{"$f":"VLOOKUP($AA144,DATA!$B$3:$E$6,2,0)","v":"06:30:00"},{"$f":"VLOOKUP($AA144,DATA!$B$3:$E$6,3,0)","v":"14:30:00"},{"$f":"VLOOKUP($AA144,DATA!$B$3:$E$6,4,0)","v":3.125E-2},0.30208333333333331,0.16597222222222222,{"$f":"DATA!$C$9","v":0.89},{"$f":"DATA!$C$10","v":64},1,224.0625,407.8125,0.1361111111111111,183.74999999999997,0.4505747126436781,0,"","",276.26666666666665,246,246,"","",null,{"$f":"X142","v":7},{"$f":"Y141+1","v":"2018-02-16"},{"$f":"TEXT(Y144,\"ddd\")","v":"vr"},"DD",{"$f":"IFERROR(HLOOKUP(Y144,[1]DATA!$A$1:$NB$5,3,0),\"\")","v":"D1"},196,null,13,259,0,-6.1875000000000284,0.56430107526881723,1]
["7vrMD",{"$f":"VLOOKUP($AA145,DATA!$B$3:$E$6,2,0)","v":"14:30:00"},{"$f":"VLOOKUP($AA145,DATA!$B$3:$E$6,3,0)","v":"22:30:00"},{"$f":"VLOOKUP($AA145,DATA!$B$3:$E$6,4,0)","v":3.125E-2},0.30208333333333337,0.19166666666666671,{"$f":"DATA!$C$9","v":0.89},{"$f":"DATA!$C$10","v":64},1,258.75000000000006,407.81250000000006,0.11041666666666666,149.0625,0.3655172413793103,0,"","",313.60000000000002,285,"","",285,null,{"$f":"X142","v":7},null,{"$f":"TEXT(Y144,\"ddd\")","v":"vr"},"MD",{"$f":"IFERROR(HLOOKUP(Y144,[1]DATA!$A$1:$NB$5,4,0),\"\")","v":"D3"},159,null,9,294,0,-1.8749999999999432,0.65376344086021509,1]
["7vrND",{"$f":"VLOOKUP($AA146,DATA!$B$3:$E$6,2,0)","v":"22:30:00"},{"$f":"VLOOKUP($AA146,DATA!$B$3:$E$6,3,0)","v":"06:30:00"},{"$f":"VLOOKUP($AA146,DATA!$B$3:$E$6,4,0)","v":3.125E-2},0.30208333333333326,0.30208333333333326,{"$f":"DATA!$C$9","v":0.89},{"$f":"DATA!$C$10","v":64},1,407.81249999999989,407.81249999999989,0,"","",0,"","",0,"","","","",null,{"$f":"X142","v":7},null,{"$f":"TEXT(Y144,\"ddd\")","v":"vr"},"ND",{"$f":"IFERROR(HLOOKUP(Y144,[1]DATA!$A$1:$NB$5,5,0),\"\")","v":"-"},null,null,null,null,0,"","",""]
["7zaDD",{"$f":"VLOOKUP($AA147,DATA!$B$3:$E$6,2,0)","v":"06:30:00"},{"$f":"VLOOKUP($AA147,DATA!$B$3:$E$6,3,0)","v":"14:30:00"},{"$f":"VLOOKUP($AA147,DATA!$B$3:$E$6,4,0)","v":3.125E-2},0.30208333333333331,0.30208333333333331,{"$f":"DATA!$C$9","v":0.89},{"$f":"DATA!$C$10","v":64},1,407.8125,407.8125,0,"","",0,"","",0,"","","","",null,{"$f":"X142","v":7},{"$f":"Y144+1","v":"2018-02-17"},{"$f":"TEXT(Y147,\"ddd\")","v":"za"},"DD",{"$f":"IFERROR(HLOOKUP(Y147,[1]DATA!$A$1:$NB$5,3,0),\"\")","v":"-"},null,null,null,null,0,"","",""]
["7zaMD",{"$f":"VLOOKUP($AA148,DATA!$B$3:$E$6,2,0)","v":"14:30:00"},{"$f":"VLOOKUP($AA148,DATA!$B$3:$E$6,3,0)","v":"22:30:00"},{"$f":"VLOOKUP($AA148,DATA!$B$3:$E$6,4,0)","v":3.125E-2},0.30208333333333337,0.30208333333333337,{"$f":"DATA!$C$9","v":0.89},{"$f":"DATA!$C$10","v":64},1,407.81250000000006,407.81250000000006,0,"","",0,"","",0,"","","","",null,{"$f":"X142","v":7},null,{"$f":"TEXT(Y147,\"ddd\")","v":"za"},"MD",{"$f":"IFERROR(HLOOKUP(Y147,[1]DATA!$A$1:$NB$5,4,0),\"\")","v":"-"},null,null,null,null,0,"","",""]
["7zaND",{"$f":"VLOOKUP($AA149,DATA!$B$3:$E$6,2,0)","v":"22:30:00"},{"$f":"VLOOKUP($AA149,DATA!$B$3:$E$6,3,0)","v":"06:30:00"},{"$f":"VLOOKUP($AA149,DATA!$B$3:$E$6,4,0)","v":3.125E-2},0.30208333333333326,0.30208333333333326,{"$f":"DATA!$C$9","v":0.89},{"$f":"DATA!$C$10","v":64},1,407.81249999999989,407.81249999999989,0,"","",0,"","",0,"","","","",null,{"$f":"X142","v":7},null,{"$f":"TEXT(Y147,\"ddd\")","v":"za"},"ND",{"$f":"IFERROR(HLOOKUP(Y147,[1]DATA!$A$1:$NB$5,5,0),\"\")","v":"-"},null,null,null,null,0,"","",""]
["7zoDD",{"$f":"VLOOKUP($AA150,DATA!$B$3:$E$6,2,0)","v":"06:30:00"},{"$f":"VLOOKUP($AA150,DATA!$B$3:$E$6,3,0)","v":"14:30:00"},{"$f":"VLOOKUP($AA150,DATA!$B$3:$E$6,4,0)","v":3.125E-2},0.30208333333333331,0.30208333333333331,{"$f":"DATA!$C$9","v":0.89},{"$f":"DATA!$C$10","v":64},1,407.8125,407.8125,0,"","",0,"","",0,"","","","",null,{"$f":"X142","v":7},{"$f":"Y147+1","v":"2018-02-18"},{"$f":"TEXT(Y150,\"ddd\")","v":"zo"},"DD",{"$f":"IFERROR(HLOOKUP(Y150,[1]DATA!$A$1:$NB$5,3,0),\"\")","v":"-"},null,null,null,null,0,"","",""]
["7zoMD",{"$f":"VLOOKUP($AA151,DATA!$B$3:$E$6,2,0)","v":"14:30:00"},{"$f":"VLOOKUP($AA151,DATA!$B$3:$E$6,3,0)","v":"22:30:00"},{"$f":"VLOOKUP($AA151,DATA!$B$3:$E$6,4,0)","v":3.125E-2},0.30208333333333337,0.30208333333333337,{"$f":"DATA!$C$9","v":0.89},{"$f":"DATA!$C$10","v":64},1,407.81250000000006,407.81250000000006,0,"","",0,"","",0,"","","","",null,{"$f":"X142","v":7},null,{"$f":"TEXT(Y150,\"ddd\")","v":"zo"},"MD",{"$f":"IFERROR(HLOOKUP(Y150,[1]DATA!$A$1:$NB$5,4,0),\"\")","v":"-"},null,null,null,null,0,"","",""]
["7zoZND",{"$f":"VLOOKUP($AA152,DATA!$B$3:$E$6,2,0)","v":"00:00:00"},{"$f":"VLOOKUP($AA152,DATA!$B$3:$E$6,3,0)","v":"00:00:00"},{"$f":"VLOOKUP($AA152,DATA!$B$3:$E$6,4,0)","v":3.125E-2},-3.125E-2,-3.125E-2,{"$f":"DATA!$C$9","v":0.89},{"$f":"DATA!$C$10","v":64},1,-42.1875,-42.1875,0,"","",0,"","",0,"","","","",null,{"$f":"X142","v":7},null,{"$f":"TEXT(Y150,\"ddd\")","v":"zo"},"ZND",{"$f":"IFERROR(HLOOKUP(Y150,[1]DATA!$A$1:$NB$5,5,0),\"\")","v":"D1"},null,null,null,null,0,"","",""]
["8maDD",{"$f":"VLOOKUP($AA153,DATA!$B$3:$E$6,2,0)","v":"06:30:00"},{"$f":"VLOOKUP($AA153,DATA!$B$3:$E$6,3,0)","v":"14:30:00"},{"$f":"VLOOKUP($AA153,DATA!$B$3:$E$6,4,0)","v":3.125E-2},0.30208333333333331,0.26249999999999996,{"$f":"DATA!$C$9","v":0.89},{"$f":"DATA!$C$10","v":64},1,354.37499999999994,407.8125,3.9583333333333331E-2,53.4375,0.1310344827586207,{"$f":"TIME(INT($AD153/60),INT(MOD($AD153,60)/1),0)","v":0},"","",404.26666666666665,367,"","",367,null,{"$f":"X163","v":8},{"$f":"Y150+1","v":"2018-02-19"},{"$f":"TEXT(Y153,\"ddd\")","v":"ma"},"DD",{"$f":"IFERROR(HLOOKUP(Y153,[1]DATA!$A$1:$NB$5,3,0),\"\")","v":"D3"},57,null,12,379,7,-15.5,0.84186379928315414,0.98297941319500726,3923.4375,2879,0.73379530067702115,938.4375,0.23918757467144564,0,0,0.98212019201188894,"",0.98411750057943748,0.97962355630245357,106,2.701712465153322E-2,113.06666666666666,55]
["8maMD",{"$f":"VLOOKUP($AA154,DATA!$B$3:$E$6,2,0)","v":"14:30:00"},{"$f":"VLOOKUP($AA154,DATA!$B$3:$E$6,3,0)","v":"22:30:00"},{"$f":"VLOOKUP($AA154,DATA!$B$3:$E$6,4,0)","v":3.125E-2},0.30208333333333337,0.24305555555555558,{"$f":"DATA!$C$9","v":0.89},{"$f":"DATA!$C$10","v":64},1,328.12500000000006,407.81250000000006,5.9027777777777783E-2,79.687500000000014,0.19540229885057472,{"$f":"TIME(INT(AD154/60),INT(MOD(AD154,60)/1),0)","v":0},"","",394.66666666666669,343,"",343,"",null,{"$f":"X163","v":8},null,{"$f":"TEXT(Y153,\"ddd\")","v":"ma"},"MD",{"$f":"IFERROR(HLOOKUP(Y153,[1]DATA!$A$1:$NB$5,4,0),\"\")","v":"D2"},85,null,27,370,0,-13.249999999999943,0.78681003584229403,1]
["8maND",{"$f":"VLOOKUP($AA155,DATA!$B$3:$E$6,2,0)","v":"22:30:00"},{"$f":"VLOOKUP($AA155,DATA!$B$3:$E$6,3,0)","v":"06:30:00"},{"$f":"VLOOKUP($AA155,DATA!$B$3:$E$6,4,0)","v":3.125E-2},0.30208333333333326,0.30208333333333326,{"$f":"DATA!$C$9","v":0.89},{"$f":"DATA!$C$10","v":64},1,407.81249999999989,407.81249999999989,0,"","",0,"","",0,"","","","",null,{"$f":"X163","v":8},null,{"$f":"TEXT(Y153,\"ddd\")","v":"ma"},"ND",{"$f":"IFERROR(HLOOKUP(Y153,[1]DATA!$A$1:$NB$5,5,0),\"\")","v":"D1"},null,null,null,null,0,"","",""]
["8diDD",{"$f":"VLOOKUP($AA156,DATA!$B$3:$E$6,2,0)","v":"06:30:00"},{"$f":"VLOOKUP($AA156,DATA!$B$3:$E$6,3,0)","v":"14:30:00"},{"$f":"VLOOKUP($AA156,DATA!$B$3:$E$6,4,0)","v":3.125E-2},{"$f":"(C156-B156+(B156>C156))-D156","v":0.30208333333333331},{"$f":"E156-O156-L156","v":0.22222222222222221},{"$f":"DATA!$C$9","v":0.89},{"$f":"DATA!$C$10","v":64},1,{"$f":"F156*86400/H156*I156","v":300},{"$f":"E156*86400/H156","v":407.8125},7.9861111111111105E-2,107.81249999999999,0.26436781609195398,0,"","",{"$f":"AF156*AG$2","v":243.2},{"$f":"IF(AF156-AE156=0,\"\",AF156-AE156)","v":220},"","",220,null,{"$f":"X163","v":8},{"$f":"Y153+1","v":"2018-02-20"},{"$f":"TEXT(Y156,\"ddd\")","v":"di"},"DD",{"$f":"IFERROR(HLOOKUP(Y156,[1]DATA!$A$1:$NB$5,3,0),\"\")","v":"D3"},115,null,8,228,9,-108.12500000000006,0.50465949820788536,0.96431403647898495]
["8diMD",{"$f":"VLOOKUP($AA157,DATA!$B$3:$E$6,2,0)","v":"14:30:00"},{"$f":"VLOOKUP($AA157,DATA!$B$3:$E$6,3,0)","v":"22:30:00"},{"$f":"VLOOKUP($AA157,DATA!$B$3:$E$6,4,0)","v":3.125E-2},0.30208333333333337,0.23958333333333337,{"$f":"DATA!$C$9","v":0.89},{"$f":"DATA!$C$10","v":64},1,323.43750000000006,407.81250000000006,6.25E-2,84.375,0.2068965517241379,0,"","",430.93333333333334,368,"",368,"",null,{"$f":"X163","v":8},null,{"$f":"TEXT(Y156,\"ddd\")","v":"di"},"MD",{"$f":"IFERROR(HLOOKUP(Y156,[1]DATA!$A$1:$NB$5,4,0),\"\")","v":"D2"},90,null,36,404,5,16.437500000000057,0.84415770609319007,0.98853035632359687]
["8diND",{"$f":"VLOOKUP($AA158,DATA!$B$3:$E$6,2,0)","v":"22:30:00"},{"$f":"VLOOKUP($AA158,DATA!$B$3:$E$6,3,0)","v":"06:30:00"},{"$f":"VLOOKUP($AA158,DATA!$B$3:$E$6,4,0)","v":3.125E-2},0.30208333333333326,0.30208333333333326,{"$f":"DATA!$C$9","v":0.89},{"$f":"DATA!$C$10","v":64},1,407.81249999999989,407.81249999999989,0,"","",0,"","",0,"","","","",null,{"$f":"X163","v":8},null,{"$f":"TEXT(Y156,\"ddd\")","v":"di"},"ND",{"$f":"IFERROR(HLOOKUP(Y156,[1]DATA!$A$1:$NB$5,5,0),\"\")","v":"D1"},null,null,null,null,0,"","",""]
["8woDD",{"$f":"VLOOKUP($AA159,DATA!$B$3:$E$6,2,0)","v":"06:30:00"},{"$f":"VLOOKUP($AA159,DATA!$B$3:$E$6,3,0)","v":"14:30:00"},{"$f":"VLOOKUP($AA159,DATA!$B$3:$E$6,4,0)","v":3.125E-2},0.30208333333333331,0.21736111111111112,{"$f":"DATA!$C$9","v":0.89},{"$f":"DATA!$C$10","v":64},1,293.4375,407.8125,8.4722222222222213E-2,114.37499999999999,0.2804597701149425,0,"","",366.93333333333334,320,"","",320,null,{"$f":"X163","v":8},{"$f":"Y156+1","v":"2018-02-21"},{"$f":"TEXT(Y159,\"ddd\")","v":"wo"},"DD",{"$f":"IFERROR(HLOOKUP(Y159,[1]DATA!$A$1:$NB$5,3,0),\"\")","v":"D3"},122,null,24,344,3,-1.5625000000000568,0.73405017921146953,0.99189043070823568]
["8woMD",{"$f":"VLOOKUP($AA160,DATA!$B$3:$E$6,2,0)","v":"14:30:00"},{"$f":"VLOOKUP($AA160,DATA!$B$3:$E$6,3,0)","v":"22:30:00"},{"$f":"VLOOKUP($AA160,DATA!$B$3:$E$6,4,0)","v":3.125E-2},0.30208333333333337,0.20833333333333337,{"$f":"DATA!$C$9","v":0.89},{"$f":"DATA!$C$10","v":64},1,281.25000000000006,407.81250000000006,9.375E-2,126.5625,0.31034482758620685,0,"","",384,324,"",324,"",null,{"$f":"X163","v":8},null,{"$f":"TEXT(Y159,\"ddd\")","v":"wo"},"MD",{"$f":"IFERROR(HLOOKUP(Y159,[1]DATA!$A$1:$NB$5,4,0),\"\")","v":"D2"},135,null,36,360,2,14.625000000000057,0.74322580645161296,0.99481865284974091]
["8woND",{"$f":"VLOOKUP($AA161,DATA!$B$3:$E$6,2,0)","v":"22:30:00"},{"$f":"VLOOKUP($AA161,DATA!$B$3:$E$6,3,0)","v":"06:30:00"},{"$f":"VLOOKUP($AA161,DATA!$B$3:$E$6,4,0)","v":3.125E-2},0.30208333333333326,0.30208333333333326,{"$f":"DATA!$C$9","v":0.89},{"$f":"DATA!$C$10","v":64},1,407.81249999999989,407.81249999999989,0,"","",0,"","",0,"","","","",null,{"$f":"X163","v":8},null,{"$f":"TEXT(Y159,\"ddd\")","v":"wo"},"ND",{"$f":"IFERROR(HLOOKUP(Y159,[1]DATA!$A$1:$NB$5,5,0),\"\")","v":"D1"},null,null,null,null,0,"","",""]
["8doDD",{"$f":"VLOOKUP($AA162,DATA!$B$3:$E$6,2,0)","v":"06:30:00"},{"$f":"VLOOKUP($AA162,DATA!$B$3:$E$6,3,0)","v":"14:30:00"},{"$f":"VLOOKUP($AA162,DATA!$B$3:$E$6,4,0)","v":3.125E-2},0.30208333333333331,0.22361111111111109,{"$f":"DATA!$C$9","v":0.89},{"$f":"DATA!$C$10","v":64},1,301.875,407.8125,7.8472222222222221E-2,105.9375,0.25977011494252872,0,"","",378.66666666666669,334,"","",334,null,{"$f":"X163","v":8},{"$f":"Y159+1","v":"2018-02-22"},{"$f":"TEXT(Y162,\"ddd\")","v":"do"},"DD",{"$f":"IFERROR(HLOOKUP(Y162,[1]DATA!$A$1:$NB$5,3,0),\"\")","v":"D3"},113,null,21,355,8,4,0.76616487455197135,0.97931034482758617]
["8doMD",{"$f":"VLOOKUP($AA163,DATA!$B$3:$E$6,2,0)","v":"14:30:00"},{"$f":"VLOOKUP($AA163,DATA!$B$3:$E$6,3,0)","v":"22:30:00"},{"$f":"VLOOKUP($AA163,DATA!$B$3:$E$6,4,0)","v":3.125E-2},0.30208333333333337,0.2104166666666667,{"$f":"DATA!$C$9","v":0.89},{"$f":"DATA!$C$10","v":64},1,284.06250000000006,407.81250000000006,9.1666666666666674E-2,123.75000000000001,0.30344827586206896,0,"","",396.8,333,"",333,"",null,{"$f":"WEEKNUM($Y153)","v":8},null,{"$f":"TEXT(Y162,\"ddd\")","v":"do"},"MD",{"$f":"IFERROR(HLOOKUP(Y162,[1]DATA!$A$1:$NB$5,4,0),\"\")","v":"D2"},132,null,39,372,0,20.812500000000057,0.76387096774193564,1]
["8doND",{"$f":"VLOOKUP($AA164,DATA!$B$3:$E$6,2,0)","v":"22:30:00"},{"$f":"VLOOKUP($AA164,DATA!$B$3:$E$6,3,0)","v":"06:30:00"},{"$f":"VLOOKUP($AA164,DATA!$B$3:$E$6,4,0)","v":3.125E-2},0.30208333333333326,0.30208333333333326,{"$f":"DATA!$C$9","v":0.89},{"$f":"DATA!$C$10","v":64},1,407.81249999999989,407.81249999999989,0,"","",0,"","",0,"","","","",null,{"$f":"X163","v":8},null,{"$f":"TEXT(Y162,\"ddd\")","v":"do"},"ND",{"$f":"IFERROR(HLOOKUP(Y162,[1]DATA!$A$1:$NB$5,5,0),\"\")","v":"D1"},null,null,null,null,0,"","",""]
["8vrDD",{"$f":"VLOOKUP($AA165,DATA!$B$3:$E$6,2,0)","v":"06:30:00"},{"$f":"VLOOKUP($AA165,DATA!$B$3:$E$6,3,0)","v":"14:30:00"},{"$f":"VLOOKUP($AA165,DATA!$B$3:$E$6,4,0)","v":3.125E-2},0.30208333333333331,0.30208333333333331,{"$f":"DATA!$C$9","v":0.89},{"$f":"DATA!$C$10","v":64},1,407.8125,407.8125,0,"","",0,"","",0,"","","","",null,{"$f":"X163","v":8},{"$f":"Y162+1","v":"2018-02-23"},{"$f":"TEXT(Y165,\"ddd\")","v":"vr"},"DD",{"$f":"IFERROR(HLOOKUP(Y165,[1]DATA!$A$1:$NB$5,3,0),\"\")","v":"D3"},0,null,0,0,0,"","",""]
["8vrMD",{"$f":"VLOOKUP($AA166,DATA!$B$3:$E$6,2,0)","v":"14:30:00"},{"$f":"VLOOKUP($AA166,DATA!$B$3:$E$6,3,0)","v":"22:30:00"},{"$f":"VLOOKUP($AA166,DATA!$B$3:$E$6,4,0)","v":3.125E-2},0.30208333333333337,0.1965277777777778,{"$f":"DATA!$C$9","v":0.89},{"$f":"DATA!$C$10","v":64},1,265.31250000000006,407.81250000000006,0.10555555555555556,142.5,0.34942528735632178,0,"","",313.60000000000002,270,"",270,"",null,{"$f":"X163","v":8},null,{"$f":"TEXT(Y165,\"ddd\")","v":"vr"},"MD",{"$f":"IFERROR(HLOOKUP(Y165,[1]DATA!$A$1:$NB$5,4,0),\"\")","v":"D2"},152,null,24,294,21,-23.437499999999943,0.61935483870967745,0.93723849372384938]
["8vrND",{"$f":"VLOOKUP($AA167,DATA!$B$3:$E$6,2,0)","v":"22:30:00"},{"$f":"VLOOKUP($AA167,DATA!$B$3:$E$6,3,0)","v":"06:30:00"},{"$f":"VLOOKUP($AA167,DATA!$B$3:$E$6,4,0)","v":3.125E-2},0.30208333333333326,0.30208333333333326,{"$f":"DATA!$C$9","v":0.89},{"$f":"DATA!$C$10","v":64},1,407.81249999999989,407.81249999999989,0,"","",0,"","",0,"","","","",null,{"$f":"X163","v":8},null,{"$f":"TEXT(Y165,\"ddd\")","v":"vr"},"ND",{"$f":"IFERROR(HLOOKUP(Y165,[1]DATA!$A$1:$NB$5,5,0),\"\")","v":"-"},null,null,null,null,0,"","",""]
["8zaDD",{"$f":"VLOOKUP($AA168,DATA!$B$3:$E$6,2,0)","v":"06:30:00"},{"$f":"VLOOKUP($AA168,DATA!$B$3:$E$6,3,0)","v":"14:30:00"},{"$f":"VLOOKUP($AA168,DATA!$B$3:$E$6,4,0)","v":3.125E-2},0.30208333333333331,0.30208333333333331,{"$f":"DATA!$C$9","v":0.89},{"$f":"DATA!$C$10","v":64},1,407.8125,407.8125,0,"","",0,"","",0,"","","","",null,{"$f":"X163","v":8},{"$f":"Y165+1","v":"2018-02-24"},{"$f":"TEXT(Y168,\"ddd\")","v":"za"},"DD",{"$f":"IFERROR(HLOOKUP(Y168,[1]DATA!$A$1:$NB$5,3,0),\"\")","v":"-"},null,null,null,null,0,"","",""]
["8zaMD",{"$f":"VLOOKUP($AA169,DATA!$B$3:$E$6,2,0)","v":"14:30:00"},{"$f":"VLOOKUP($AA169,DATA!$B$3:$E$6,3,0)","v":"22:30:00"},{"$f":"VLOOKUP($AA169,DATA!$B$3:$E$6,4,0)","v":3.125E-2},0.30208333333333337,0.30208333333333337,{"$f":"DATA!$C$9","v":0.89},{"$f":"DATA!$C$10","v":64},1,407.81250000000006,407.81250000000006,0,"","",0,"","",0,"","","","",null,{"$f":"X163","v":8},null,{"$f":"TEXT(Y168,\"ddd\")","v":"za"},"MD",{"$f":"IFERROR(HLOOKUP(Y168,[1]DATA!$A$1:$NB$5,4,0),\"\")","v":"-"},null,null,null,null,0,"","",""]
["8zaND",{"$f":"VLOOKUP($AA170,DATA!$B$3:$E$6,2,0)","v":"22:30:00"},{"$f":"VLOOKUP($AA170,DATA!$B$3:$E$6,3,0)","v":"06:30:00"},{"$f":"VLOOKUP($AA170,DATA!$B$3:$E$6,4,0)","v":3.125E-2},0.30208333333333326,0.30208333333333326,{"$f":"DATA!$C$9","v":0.89},{"$f":"DATA!$C$10","v":64},1,407.81249999999989,407.81249999999989,0,"","",0,"","",0,"","","","",null,{"$f":"X163","v":8},null,{"$f":"TEXT(Y168,\"ddd\")","v":"za"},"ND",{"$f":"IFERROR(HLOOKUP(Y168,[1]DATA!$A$1:$NB$5,5,0),\"\")","v":"-"},null,null,null,null,0,"","",""]
["8zoDD",{"$f":"VLOOKUP($AA171,DATA!$B$3:$E$6,2,0)","v":"06:30:00"},{"$f":"VLOOKUP($AA171,DATA!$B$3:$E$6,3,0)","v":"14:30:00"},{"$f":"VLOOKUP($AA171,DATA!$B$3:$E$6,4,0)","v":3.125E-2},0.30208333333333331,0.30208333333333331,{"$f":"DATA!$C$9","v":0.89},{"$f":"DATA!$C$10","v":64},1,407.8125,407.8125,0,"","",0,"","",0,"","","","",null,{"$f":"X163","v":8},{"$f":"Y168+1","v":"2018-02-25"},{"$f":"TEXT(Y171,\"ddd\")","v":"zo"},"DD",{"$f":"IFERROR(HLOOKUP(Y171,[1]DATA!$A$1:$NB$5,3,0),\"\")","v":"-"},null,null,null,null,0,"","",""]
["8zoMD",{"$f":"VLOOKUP($AA172,DATA!$B$3:$E$6,2,0)","v":"14:30:00"},{"$f":"VLOOKUP($AA172,DATA!$B$3:$E$6,3,0)","v":"22:30:00"},{"$f":"VLOOKUP($AA172,DATA!$B$3:$E$6,4,0)","v":3.125E-2},0.30208333333333337,0.30208333333333337,{"$f":"DATA!$C$9","v":0.89},{"$f":"DATA!$C$10","v":64},1,407.81250000000006,407.81250000000006,0,"","",0,"","",0,"","","","",null,{"$f":"X163","v":8},null,{"$f":"TEXT(Y171,\"ddd\")","v":"zo"},"MD",{"$f":"IFERROR(HLOOKUP(Y171,[1]DATA!$A$1:$NB$5,4,0),\"\")","v":"-"},null,null,null,null,0,"","",""]
["8zoZND",{"$f":"VLOOKUP($AA173,DATA!$B$3:$E$6,2,0)","v":"00:00:00"},{"$f":"VLOOKUP($AA173,DATA!$B$3:$E$6,3,0)","v":"00:00:00"},{"$f":"VLOOKUP($AA173,DATA!$B$3:$E$6,4,0)","v":3.125E-2},-3.125E-2,-3.125E-2,{"$f":"DATA!$C$9","v":0.89},{"$f":"DATA!$C$10","v":64},1,-42.1875,-42.1875,0,"","",0,"","",0,"","","","",null,{"$f":"X163","v":8},null,{"$f":"TEXT(Y171,\"ddd\")","v":"zo"},"ZND",{"$f":"IFERROR(HLOOKUP(Y171,[1]DATA!$A$1:$NB$5,5,0),\"\")","v":"D3"},null,null,null,null,0,"","",""]
["9maDD",{"$f":"VLOOKUP($AA174,DATA!$B$3:$E$6,2,0)","v":"06:30:00"},{"$f":"VLOOKUP($AA174,DATA!$B$3:$E$6,3,0)","v":"14:30:00"},{"$f":"VLOOKUP($AA174,DATA!$B$3:$E$6,4,0)","v":3.125E-2},0.30208333333333331,6.8055555555555508E-2,{"$f":"DATA!$C$9","v":0.89},{"$f":"DATA!$C$10","v":64},1,91.874999999999929,407.8125,0.23402777777777781,315.93750000000006,0.77471264367816106,{"$f":"TIME(INT($AD174/60),INT(MOD($AD174,60)/1),0)","v":0},"","",141.86666666666667,119,"",119,"",null,{"$f":"X184","v":9},{"$f":"Y171+1","v":"2018-02-26"},{"$f":"TEXT(Y174,\"ddd\")","v":"ma"},"DD",{"$f":"IFERROR(HLOOKUP(Y174,[1]DATA!$A$1:$NB$5,3,0),\"\")","v":"D2"},337,null,14,133,0,-0.99999999999998579,0.27297491039426525,1,4359.375,3139,0.72005734767025087,1073.4375,0.24623655913978496,0,0,0.98154660405487471,0.99211031347206102,0.97098289463768883,"",146.9375,3.3706093189964176E-2,156.73333333333332,75]
["9maMD",{"$f":"VLOOKUP($AA175,DATA!$B$3:$E$6,2,0)","v":"14:30:00"},{"$f":"VLOOKUP($AA175,DATA!$B$3:$E$6,3,0)","v":"22:30:00"},{"$f":"VLOOKUP($AA175,DATA!$B$3:$E$6,4,0)","v":3.125E-2},0.30208333333333337,0.2277777777777778,{"$f":"DATA!$C$9","v":0.89},{"$f":"DATA!$C$10","v":64},1,307.50000000000006,407.81250000000006,7.4305555555555555E-2,100.3125,0.24597701149425283,{"$f":"TIME(INT(AD175/60),INT(MOD(AD175,60)/1),0)","v":0},"","",364.8,323,323,"","",null,{"$f":"X184","v":9},null,{"$f":"TEXT(Y174,\"ddd\")","v":"ma"},"MD",{"$f":"IFERROR(HLOOKUP(Y174,[1]DATA!$A$1:$NB$5,4,0),\"\")","v":"D1"},107,null,19,342,2,-12.624999999999943,0.74093189964157713,0.99454743729552886]
[{"$f":"X176&Z176&AA176","v":"9maND"},{"$f":"VLOOKUP($AA176,DATA!$B$3:$E$6,2,0)","v":"22:30:00"},{"$f":"VLOOKUP($AA176,DATA!$B$3:$E$6,3,0)","v":"06:30:00"},{"$f":"VLOOKUP($AA176,DATA!$B$3:$E$6,4,0)","v":3.125E-2},0.30208333333333326,0.30208333333333326,{"$f":"DATA!$C$9","v":0.89},{"$f":"DATA!$C$10","v":64},1,407.81249999999989,407.81249999999989,0,"","",0,{"$f":"IF($O176*86400/$H176=0,\"\",$O176*86400/$H176)","v":""},"",0,"","","","",null,{"$f":"X184","v":9},null,{"$f":"TEXT(Y174,\"ddd\")","v":"ma"},"ND",{"$f":"IFERROR(HLOOKUP(Y174,[1]DATA!$A$1:$NB$5,5,0),\"\")","v":"D3"},null,null,null,null,0,"","",""]
["9diDD",{"$f":"VLOOKUP($AA177,DATA!$B$3:$E$6,2,0)","v":"06:30:00"},{"$f":"VLOOKUP($AA177,DATA!$B$3:$E$6,3,0)","v":"14:30:00"},{"$f":"VLOOKUP($AA177,DATA!$B$3:$E$6,4,0)","v":3.125E-2},0.30208333333333331,0.28402777777777777,{"$f":"DATA!$C$9","v":0.89},{"$f":"DATA!$C$10","v":64},1,383.4375,407.8125,1.8055555555555557E-2,24.375000000000004,5.9770114942528742E-2,0,"","",426.66666666666669,363,"",363,"",null,{"$f":"X184","v":9},{"$f":"Y174+1","v":"2018-02-27"},{"$f":"TEXT(Y177,\"ddd\")","v":"di"},"DD",{"$f":"IFERROR(HLOOKUP(Y177,[1]DATA!$A$1:$NB$5,3,0),\"\")","v":"D2"},26,null,37,400,19,-48.562500000000057,0.83268817204301071,0.95736724008975316]
["9diMD",{"$f":"VLOOKUP($AA178,DATA!$B$3:$E$6,2,0)","v":"14:30:00"},{"$f":"VLOOKUP($AA178,DATA!$B$3:$E$6,3,0)","v":"22:30:00"},{"$f":"VLOOKUP($AA178,DATA!$B$3:$E$6,4,0)","v":3.125E-2},0.30208333333333337,0.21250000000000002,{"$f":"DATA!$C$9","v":0.89},{"$f":"DATA!$C$10","v":64},1,286.87500000000006,407.81250000000006,8.9583333333333334E-2,120.9375,0.29655172413793102,0,"","",357.33333333333331,309,309,"","",null,{"$f":"X184","v":9},null,{"$f":"TEXT(Y177,\"ddd\")","v":"di"},"MD",{"$f":"IFERROR(HLOOKUP(Y177,[1]DATA!$A$1:$NB$5,4,0),\"\")","v":"D1"},129,null,26,335,8,-5.9999999999999432,0.70881720430107531,0.97810218978102192]
["9diND",{"$f":"VLOOKUP($AA179,DATA!$B$3:$E$6,2,0)","v":"22:30:00"},{"$f":"VLOOKUP($AA179,DATA!$B$3:$E$6,3,0)","v":"06:30:00"},{"$f":"VLOOKUP($AA179,DATA!$B$3:$E$6,4,0)","v":3.125E-2},0.30208333333333326,0.30208333333333326,{"$f":"DATA!$C$9","v":0.89},{"$f":"DATA!$C$10","v":64},1,407.81249999999989,407.81249999999989,0,"","",0,"","",0,"","","","",null,{"$f":"X184","v":9},null,{"$f":"TEXT(Y177,\"ddd\")","v":"di"},"ND",{"$f":"IFERROR(HLOOKUP(Y177,[1]DATA!$A$1:$NB$5,5,0),\"\")","v":"D3"},null,null,null,null,0,"","",""]
["9woDD",{"$f":"VLOOKUP($AA180,DATA!$B$3:$E$6,2,0)","v":"06:30:00"},{"$f":"VLOOKUP($AA180,DATA!$B$3:$E$6,3,0)","v":"14:30:00"},{"$f":"VLOOKUP($AA180,DATA!$B$3:$E$6,4,0)","v":3.125E-2},0.30208333333333331,0.26180555555555551,{"$f":"DATA!$C$9","v":0.89},{"$f":"DATA!$C$10","v":64},1,353.43749999999994,407.8125,4.027777777777778E-2,54.375,0.13333333333333333,0,"","",394.66666666666669,341,"",341,"",null,{"$f":"X184","v":9},{"$f":"Y177+1","v":"2018-02-28"},{"$f":"TEXT(Y180,\"ddd\")","v":"wo"},"DD",{"$f":"IFERROR(HLOOKUP(Y180,[1]DATA!$A$1:$NB$5,3,0),\"\")","v":"D2"},58,null,29,370,26,-40.5625,0.78222222222222226,0.93819334389857367]
["9woMD",{"$f":"VLOOKUP($AA181,DATA!$B$3:$E$6,2,0)","v":"14:30:00"},{"$f":"VLOOKUP($AA181,DATA!$B$3:$E$6,3,0)","v":"22:30:00"},{"$f":"VLOOKUP($AA181,DATA!$B$3:$E$6,4,0)","v":3.125E-2},0.30208333333333337,0.21180555555555558,{"$f":"DATA!$C$9","v":0.89},{"$f":"DATA!$C$10","v":64},1,285.93750000000006,407.81250000000006,9.0277777777777776E-2,121.875,0.29885057471264365,0,"","",353.06666666666666,314,314,"","",null,{"$f":"X184","v":9},null,{"$f":"TEXT(Y180,\"ddd\")","v":"wo"},"MD",{"$f":"IFERROR(HLOOKUP(Y180,[1]DATA!$A$1:$NB$5,4,0),\"\")","v":"D1"},130,null,17,331,0,-6.2499999999943157E-2,0.72028673835125456,1]
["9woND",{"$f":"VLOOKUP($AA182,DATA!$B$3:$E$6,2,0)","v":"22:30:00"},{"$f":"VLOOKUP($AA182,DATA!$B$3:$E$6,3,0)","v":"06:30:00"},{"$f":"VLOOKUP($AA182,DATA!$B$3:$E$6,4,0)","v":3.125E-2},0.30208333333333326,0.30208333333333326,{"$f":"DATA!$C$9","v":0.89},{"$f":"DATA!$C$10","v":64},1,407.81249999999989,407.81249999999989,0,"","",0,"","",0,"","","","",null,{"$f":"X184","v":9},null,{"$f":"TEXT(Y180,\"ddd\")","v":"wo"},"ND",{"$f":"IFERROR(HLOOKUP(Y180,[1]DATA!$A$1:$NB$5,5,0),\"\")","v":"D3"},null,null,null,null,0,"","",""]
["9doDD",{"$f":"VLOOKUP($AA183,DATA!$B$3:$E$6,2,0)","v":"06:30:00"},{"$f":"VLOOKUP($AA183,DATA!$B$3:$E$6,3,0)","v":"14:30:00"},{"$f":"VLOOKUP($AA183,DATA!$B$3:$E$6,4,0)","v":3.125E-2},0.30208333333333331,0.22569444444444442,{"$f":"DATA!$C$9","v":0.89},{"$f":"DATA!$C$10","v":64},1,304.68749999999994,407.8125,7.6388888888888895E-2,103.12500000000001,0.25287356321839083,0,"","",354.13333333333333,316,"",316,"",null,{"$f":"X184","v":9},{"$f":"Y180+1","v":"2018-03-01"},{"$f":"TEXT(Y183,\"ddd\")","v":"do"},"DD",{"$f":"IFERROR(HLOOKUP(Y183,[1]DATA!$A$1:$NB$5,3,0),\"\")","v":"D2"},110,null,16,332,9,-16.8125,0.72487455197132622,0.97521571507251703]
["9doMD",{"$f":"VLOOKUP($AA184,DATA!$B$3:$E$6,2,0)","v":"14:30:00"},{"$f":"VLOOKUP($AA184,DATA!$B$3:$E$6,3,0)","v":"22:30:00"},{"$f":"VLOOKUP($AA184,DATA!$B$3:$E$6,4,0)","v":3.125E-2},0.30208333333333337,0.25138888888888894,{"$f":"DATA!$C$9","v":0.89},{"$f":"DATA!$C$10","v":64},1,339.37500000000006,407.81250000000006,5.0694444444444452E-2,68.437500000000014,0.167816091954023,0,"","",403.2,357,357,"","",null,{"$f":"WEEKNUM($Y174)","v":9},null,{"$f":"TEXT(Y183,\"ddd\")","v":"do"},"MD",{"$f":"IFERROR(HLOOKUP(Y183,[1]DATA!$A$1:$NB$5,4,0),\"\")","v":"D1"},73,null,21,378,3,-10.499999999999943,0.81892473118279585,0.99261447562776961]
["9doND",{"$f":"VLOOKUP($AA185,DATA!$B$3:$E$6,2,0)","v":"22:30:00"},{"$f":"VLOOKUP($AA185,DATA!$B$3:$E$6,3,0)","v":"06:30:00"},{"$f":"VLOOKUP($AA185,DATA!$B$3:$E$6,4,0)","v":3.125E-2},0.30208333333333326,0.30208333333333326,{"$f":"DATA!$C$9","v":0.89},{"$f":"DATA!$C$10","v":64},1,407.81249999999989,407.81249999999989,0,"","",0,"","",0,"","","","",null,{"$f":"X184","v":9},null,{"$f":"TEXT(Y183,\"ddd\")","v":"do"},"ND",{"$f":"IFERROR(HLOOKUP(Y183,[1]DATA!$A$1:$NB$5,5,0),\"\")","v":"D3"},null,null,null,null,0,"","",""]
["9vrDD",{"$f":"VLOOKUP($AA186,DATA!$B$3:$E$6,2,0)","v":"06:30:00"},{"$f":"VLOOKUP($AA186,DATA!$B$3:$E$6,3,0)","v":"14:30:00"},{"$f":"VLOOKUP($AA186,DATA!$B$3:$E$6,4,0)","v":3.125E-2},0.30208333333333331,0.20833333333333331,{"$f":"DATA!$C$9","v":0.89},{"$f":"DATA!$C$10","v":64},1,281.25,407.8125,9.375E-2,126.5625,0.31034482758620691,0,"","",372.26666666666665,313,"",313,"",null,{"$f":"X184","v":9},{"$f":"Y183+1","v":"2018-03-02"},{"$f":"TEXT(Y186,\"ddd\")","v":"vr"},"DD",{"$f":"IFERROR(HLOOKUP(Y186,[1]DATA!$A$1:$NB$5,3,0),\"\")","v":"D2"},135,null,36,349,6,3.625,0.71799283154121862,0.98413817412759963]
["9vrMD",{"$f":"VLOOKUP($AA187,DATA!$B$3:$E$6,2,0)","v":"14:30:00"},{"$f":"VLOOKUP($AA187,DATA!$B$3:$E$6,3,0)","v":"22:30:00"},{"$f":"VLOOKUP($AA187,DATA!$B$3:$E$6,4,0)","v":3.125E-2},0.30208333333333337,0.27430555555555558,{"$f":"DATA!$C$9","v":0.89},{"$f":"DATA!$C$10","v":64},1,370.31250000000006,407.81250000000006,2.7777777777777776E-2,37.5,9.1954022988505732E-2,0,"","",422.4,384,384,"","",null,{"$f":"X184","v":9},null,{"$f":"TEXT(Y186,\"ddd\")","v":"vr"},"MD",{"$f":"IFERROR(HLOOKUP(Y186,[1]DATA!$A$1:$NB$5,4,0),\"\")","v":"D1"},40,null,12,396,2,-14.437499999999943,0.88086021505376355,0.99528746465598494]
["9vrND",{"$f":"VLOOKUP($AA188,DATA!$B$3:$E$6,2,0)","v":"22:30:00"},{"$f":"VLOOKUP($AA188,DATA!$B$3:$E$6,3,0)","v":"06:30:00"},{"$f":"VLOOKUP($AA188,DATA!$B$3:$E$6,4,0)","v":3.125E-2},0.30208333333333326,0.30208333333333326,{"$f":"DATA!$C$9","v":0.89},{"$f":"DATA!$C$10","v":64},1,407.81249999999989,407.81249999999989,0,"","",0,"","",0,"","","","",null,{"$f":"X184","v":9},null,{"$f":"TEXT(Y186,\"ddd\")","v":"vr"},"ND",{"$f":"IFERROR(HLOOKUP(Y186,[1]DATA!$A$1:$NB$5,5,0),\"\")","v":"-"},null,null,null,null,0,"","",""]
["9zaDD",{"$f":"VLOOKUP($AA189,DATA!$B$3:$E$6,2,0)","v":"06:30:00"},{"$f":"VLOOKUP($AA189,DATA!$B$3:$E$6,3,0)","v":"14:30:00"},{"$f":"VLOOKUP($AA189,DATA!$B$3:$E$6,4,0)","v":3.125E-2},0.30208333333333331,0.30208333333333331,{"$f":"DATA!$C$9","v":0.89},{"$f":"DATA!$C$10","v":64},1,407.8125,407.8125,0,"","",0,"","",0,"","","","",null,{"$f":"X184","v":9},{"$f":"Y186+1","v":"2018-03-03"},{"$f":"TEXT(Y189,\"ddd\")","v":"za"},"DD",{"$f":"IFERROR(HLOOKUP(Y189,[1]DATA!$A$1:$NB$5,3,0),\"\")","v":"-"},null,null,null,null,0,"","",""]
["9zaMD",{"$f":"VLOOKUP($AA190,DATA!$B$3:$E$6,2,0)","v":"14:30:00"},{"$f":"VLOOKUP($AA190,DATA!$B$3:$E$6,3,0)","v":"22:30:00"},{"$f":"VLOOKUP($AA190,DATA!$B$3:$E$6,4,0)","v":3.125E-2},0.30208333333333337,0.30208333333333337,{"$f":"DATA!$C$9","v":0.89},{"$f":"DATA!$C$10","v":64},1,407.81250000000006,407.81250000000006,0,"","",0,"","",0,"","","","",null,{"$f":"X184","v":9},null,{"$f":"TEXT(Y189,\"ddd\")","v":"za"},"MD",{"$f":"IFERROR(HLOOKUP(Y189,[1]DATA!$A$1:$NB$5,4,0),\"\")","v":"-"},null,null,null,null,0,"","",""]
["9zaND",{"$f":"VLOOKUP($AA191,DATA!$B$3:$E$6,2,0)","v":"22:30:00"},{"$f":"VLOOKUP($AA191,DATA!$B$3:$E$6,3,0)","v":"06:30:00"},{"$f":"VLOOKUP($AA191,DATA!$B$3:$E$6,4,0)","v":3.125E-2},0.30208333333333326,0.30208333333333326,{"$f":"DATA!$C$9","v":0.89},{"$f":"DATA!$C$10","v":64},1,407.81249999999989,407.81249999999989,0,"","",0,"","",0,"","","","",null,{"$f":"X184","v":9},null,{"$f":"TEXT(Y189,\"ddd\")","v":"za"},"ND",{"$f":"IFERROR(HLOOKUP(Y189,[1]DATA!$A$1:$NB$5,5,0),\"\")","v":"-"},null,null,null,null,0,"","",""]
["9zoDD",{"$f":"VLOOKUP($AA192,DATA!$B$3:$E$6,2,0)","v":"06:30:00"},{"$f":"VLOOKUP($AA192,DATA!$B$3:$E$6,3,0)","v":"14:30:00"},{"$f":"VLOOKUP($AA192,DATA!$B$3:$E$6,4,0)","v":3.125E-2},0.30208333333333331,0.30208333333333331,{"$f":"DATA!$C$9","v":0.89},{"$f":"DATA!$C$10","v":64},1,407.8125,407.8125,0,"","",0,"","",0,"","","","",null,{"$f":"X184","v":9},{"$f":"Y189+1","v":"2018-03-04"},{"$f":"TEXT(Y192,\"ddd\")","v":"zo"},"DD",{"$f":"IFERROR(HLOOKUP(Y192,[1]DATA!$A$1:$NB$5,3,0),\"\")","v":"-"},null,null,null,null,0,"","",""]
["9zoMD",{"$f":"VLOOKUP($AA193,DATA!$B$3:$E$6,2,0)","v":"14:30:00"},{"$f":"VLOOKUP($AA193,DATA!$B$3:$E$6,3,0)","v":"22:30:00"},{"$f":"VLOOKUP($AA193,DATA!$B$3:$E$6,4,0)","v":3.125E-2},0.30208333333333337,0.30208333333333337,{"$f":"DATA!$C$9","v":0.89},{"$f":"DATA!$C$10","v":64},1,407.81250000000006,407.81250000000006,0,"","",0,"","",0,"","","","",null,{"$f":"X184","v":9},null,{"$f":"TEXT(Y192,\"ddd\")","v":"zo"},"MD",{"$f":"IFERROR(HLOOKUP(Y192,[1]DATA!$A$1:$NB$5,4,0),\"\")","v":"-"},null,null,null,null,0,"","",""]
["9zoZND",{"$f":"VLOOKUP($AA194,DATA!$B$3:$E$6,2,0)","v":"00:00:00"},{"$f":"VLOOKUP($AA194,DATA!$B$3:$E$6,3,0)","v":"00:00:00"},{"$f":"VLOOKUP($AA194,DATA!$B$3:$E$6,4,0)","v":3.125E-2},-3.125E-2,-3.125E-2,{"$f":"DATA!$C$9","v":0.89},{"$f":"DATA!$C$10","v":64},1,-42.1875,-42.1875,0,"","",0,"","",0,"","","","",null,{"$f":"X184","v":9},null,{"$f":"TEXT(Y192,\"ddd\")","v":"zo"},"ZND",{"$f":"IFERROR(HLOOKUP(Y192,[1]DATA!$A$1:$NB$5,5,0),\"\")","v":"D2"},null,null,null,null,0,"","",""]
["10maDD",{"$f":"VLOOKUP($AA195,DATA!$B$3:$E$6,2,0)","v":"06:30:00"},{"$f":"VLOOKUP($AA195,DATA!$B$3:$E$6,3,0)","v":"14:30:00"},{"$f":"VLOOKUP($AA195,DATA!$B$3:$E$6,4,0)","v":3.125E-2},0.30208333333333331,0.18819444444444444,{"$f":"DATA!$C$9","v":0.89},{"$f":"DATA!$C$10","v":64},1,254.0625,407.8125,0.11388888888888889,153.75,0.37701149425287356,{"$f":"TIME(INT($AD195/60),INT(MOD($AD195,60)/1),0)","v":0},"","",315.73333333333335,281,281,"","",null,{"$f":"X205","v":10},{"$f":"Y192+1","v":"2018-03-05"},{"$f":"TEXT(Y195,\"ddd\")","v":"ma"},"DD",{"$f":"IFERROR(HLOOKUP(Y195,[1]DATA!$A$1:$NB$5,3,0),\"\")","v":"D1"},164,null,15,296,5,-1.1875000000000568,0.64458781362007167,0.98441072542091046,4359.375,3011,0.69069534050179215,945,0.21677419354838709,0,0,0.94232266761086669,0.92400340377961732,"",0.96064193144211585,403.375,9.2530465949820756E-2,430.26666666666665,241]
["10maMD",{"$f":"VLOOKUP($AA196,DATA!$B$3:$E$6,2,0)","v":"14:30:00"},{"$f":"VLOOKUP($AA196,DATA!$B$3:$E$6,3,0)","v":"22:30:00"},{"$f":"VLOOKUP($AA196,DATA!$B$3:$E$6,4,0)","v":3.125E-2},0.30208333333333337,0.20902777777777781,{"$f":"DATA!$C$9","v":0.89},{"$f":"DATA!$C$10","v":64},1,282.18750000000006,407.81250000000006,9.3055555555555558E-2,125.625,0.30804597701149422,{"$f":"TIME(INT(AD196/60),INT(MOD(AD196,60)/1),0)","v":0},"","",366.93333333333334,325,"","",325,null,{"$f":"X205","v":10},null,{"$f":"TEXT(Y195,\"ddd\")","v":"ma"},"MD",{"$f":"IFERROR(HLOOKUP(Y195,[1]DATA!$A$1:$NB$5,4,0),\"\")","v":"D3"},134,null,19,344,0,14.687500000000057,0.7455197132616489,1]
["10maND",{"$f":"VLOOKUP($AA197,DATA!$B$3:$E$6,2,0)","v":"22:30:00"},{"$f":"VLOOKUP($AA197,DATA!$B$3:$E$6,3,0)","v":"06:30:00"},{"$f":"VLOOKUP($AA197,DATA!$B$3:$E$6,4,0)","v":3.125E-2},0.30208333333333326,0.30208333333333326,{"$f":"DATA!$C$9","v":0.89},{"$f":"DATA!$C$10","v":64},1,407.81249999999989,407.81249999999989,0,"","",0,"","",0,"","","","",null,{"$f":"X205","v":10},null,{"$f":"TEXT(Y195,\"ddd\")","v":"ma"},"ND",{"$f":"IFERROR(HLOOKUP(Y195,[1]DATA!$A$1:$NB$5,5,0),\"\")","v":"D2"},null,null,null,null,0,"","",""]
["10diDD",{"$f":"VLOOKUP($AA198,DATA!$B$3:$E$6,2,0)","v":"06:30:00"},{"$f":"VLOOKUP($AA198,DATA!$B$3:$E$6,3,0)","v":"14:30:00"},{"$f":"VLOOKUP($AA198,DATA!$B$3:$E$6,4,0)","v":3.125E-2},0.30208333333333331,0.23055555555555551,{"$f":"DATA!$C$9","v":0.89},{"$f":"DATA!$C$10","v":64},1,311.24999999999994,407.8125,7.1527777777777787E-2,96.562500000000014,0.23678160919540234,0,"","",330.66666666666669,301,301,"","",null,{"$f":"X205","v":10},{"$f":"Y195+1","v":"2018-03-06"},{"$f":"TEXT(Y198,\"ddd\")","v":"di"},"DD",{"$f":"IFERROR(HLOOKUP(Y198,[1]DATA!$A$1:$NB$5,3,0),\"\")","v":"D1"},103,null,9,310,123,-38.375,0.69046594982078857,0.72887582659808969]
["10diMD",{"$f":"VLOOKUP($AA199,DATA!$B$3:$E$6,2,0)","v":"14:30:00"},{"$f":"VLOOKUP($AA199,DATA!$B$3:$E$6,3,0)","v":"22:30:00"},{"$f":"VLOOKUP($AA199,DATA!$B$3:$E$6,4,0)","v":3.125E-2},0.30208333333333337,0.22083333333333338,{"$f":"DATA!$C$9","v":0.89},{"$f":"DATA!$C$10","v":64},1,298.12500000000006,407.81250000000006,{"$f":"TIME(INT($AC199/60),INT(MOD($AC199,60)/1),0)","v":8.1250000000000003E-2},{"$f":"IF($L199*86400/$H199=0,\"\",$L199*86400/$H199)","v":109.6875},{"$f":"IFERROR($M199/$K199,\"\")","v":0.26896551724137929},0,"",{"$f":"IFERROR($P199/$K199,\"\")","v":""},353.06666666666666,318,{"$f":"IF(IF($AB199=\"D1\",$S199,\"\")=0,\"\",IF($AB199=\"D1\",$S199,\"\"))","v":""},{"$f":"IF(IF($AB199=\"D2\",$S199,\"\")=0,\"\",IF($AB199=\"D2\",$S199,\"\"))","v":""},{"$f":"IF(IF($AB199=\"D3\",$S199,\"\")=0,\"\",IF($AB199=\"D3\",$S199,\"\"))","v":318},null,{"$f":"X205","v":10},null,{"$f":"TEXT(Y198,\"ddd\")","v":"di"},"MD",{"$f":"IFERROR(HLOOKUP(Y198,[1]DATA!$A$1:$NB$5,4,0),\"\")","v":"D3"},117,null,13,331,5,-8.2499999999999432,0.72946236559139799,0.98603611990318374]
["10diND",{"$f":"VLOOKUP($AA200,DATA!$B$3:$E$6,2,0)","v":"22:30:00"},{"$f":"VLOOKUP($AA200,DATA!$B$3:$E$6,3,0)","v":"06:30:00"},{"$f":"VLOOKUP($AA200,DATA!$B$3:$E$6,4,0)","v":3.125E-2},0.30208333333333326,0.30208333333333326,{"$f":"DATA!$C$9","v":0.89},{"$f":"DATA!$C$10","v":64},1,407.81249999999989,407.81249999999989,0,"","",0,"","",0,"","","","",null,{"$f":"X205","v":10},null,{"$f":"TEXT(Y198,\"ddd\")","v":"di"},"ND",{"$f":"IFERROR(HLOOKUP(Y198,[1]DATA!$A$1:$NB$5,5,0),\"\")","v":"D2"},null,null,null,null,0,"","",""]
["10woDD",{"$f":"VLOOKUP($AA201,DATA!$B$3:$E$6,2,0)","v":"06:30:00"},{"$f":"VLOOKUP($AA201,DATA!$B$3:$E$6,3,0)","v":"14:30:00"},{"$f":"VLOOKUP($AA201,DATA!$B$3:$E$6,4,0)","v":3.125E-2},0.30208333333333331,0.25555555555555554,{"$f":"DATA!$C$9","v":0.89},{"$f":"DATA!$C$10","v":64},1,345,407.8125,4.6527777777777779E-2,62.8125,0.15402298850574714,0,"","",329.6,290,290,"","",null,{"$f":"X205","v":10},{"$f":"Y198+1","v":"2018-03-07"},{"$f":"TEXT(Y201,\"ddd\")","v":"wo"},"DD",{"$f":"IFERROR(HLOOKUP(Y201,[1]DATA!$A$1:$NB$5,3,0),\"\")","v":"D1"},67,null,19,309,11,-83.125,0.66523297491039424,0.96770405167351736]
["10woMD",{"$f":"VLOOKUP($AA202,DATA!$B$3:$E$6,2,0)","v":"14:30:00"},{"$f":"VLOOKUP($AA202,DATA!$B$3:$E$6,3,0)","v":"22:30:00"},{"$f":"VLOOKUP($AA202,DATA!$B$3:$E$6,4,0)","v":3.125E-2},0.30208333333333337,0.27361111111111114,{"$f":"DATA!$C$9","v":0.89},{"$f":"DATA!$C$10","v":64},1,369.37500000000006,407.81250000000006,2.8472222222222222E-2,38.4375,9.4252873563218376E-2,0,"","",420.26666666666665,380,"","",380,null,{"$f":"X205","v":10},null,{"$f":"TEXT(Y201,\"ddd\")","v":"wo"},"MD",{"$f":"IFERROR(HLOOKUP(Y201,[1]DATA!$A$1:$NB$5,4,0),\"\")","v":"D3"},41,null,14,394,0,-17.499999999999943,0.87168458781362024,1]
["10woND",{"$f":"VLOOKUP($AA203,DATA!$B$3:$E$6,2,0)","v":"22:30:00"},{"$f":"VLOOKUP($AA203,DATA!$B$3:$E$6,3,0)","v":"06:30:00"},{"$f":"VLOOKUP($AA203,DATA!$B$3:$E$6,4,0)","v":3.125E-2},0.30208333333333326,0.30208333333333326,{"$f":"DATA!$C$9","v":0.89},{"$f":"DATA!$C$10","v":64},1,407.81249999999989,407.81249999999989,0,"","",0,"","",0,"","","","",null,{"$f":"X205","v":10},null,{"$f":"TEXT(Y201,\"ddd\")","v":"wo"},"ND",{"$f":"IFERROR(HLOOKUP(Y201,[1]DATA!$A$1:$NB$5,5,0),\"\")","v":"D2"},null,null,null,null,0,"","",""]
["10doDD",{"$f":"VLOOKUP($AA204,DATA!$B$3:$E$6,2,0)","v":"06:30:00"},{"$f":"VLOOKUP($AA204,DATA!$B$3:$E$6,3,0)","v":"14:30:00"},{"$f":"VLOOKUP($AA204,DATA!$B$3:$E$6,4,0)","v":3.125E-2},0.30208333333333331,0.2326388888888889,{"$f":"DATA!$C$9","v":0.89},{"$f":"DATA!$C$10","v":64},1,314.0625,407.8125,6.9444444444444434E-2,93.749999999999986,0.22988505747126434,0,"","",215.46666666666667,200,200,"","",null,{"$f":"X205","v":10},{"$f":"Y201+1","v":"2018-03-08"},{"$f":"TEXT(Y204,\"ddd\")","v":"do"},"DD",{"$f":"IFERROR(HLOOKUP(Y204,[1]DATA!$A$1:$NB$5,3,0),\"\")","v":"D1"},100,null,2,202,7,-142.18750000000006,0.45878136200716846,0.9685346119268804]
["10doMD",{"$f":"VLOOKUP($AA205,DATA!$B$3:$E$6,2,0)","v":"14:30:00"},{"$f":"VLOOKUP($AA205,DATA!$B$3:$E$6,3,0)","v":"22:30:00"},{"$f":"VLOOKUP($AA205,DATA!$B$3:$E$6,4,0)","v":3.125E-2},0.30208333333333337,0.15138888888888893,{"$f":"DATA!$C$9","v":0.89},{"$f":"DATA!$C$10","v":64},1,204.37500000000006,407.81250000000006,0.15069444444444444,203.4375,0.4988505747126436,0,"","",245.33333333333334,219,"","",219,null,{"$f":"WEEKNUM($Y195)","v":10},null,{"$f":"TEXT(Y204,\"ddd\")","v":"do"},"MD",{"$f":"IFERROR(HLOOKUP(Y204,[1]DATA!$A$1:$NB$5,4,0),\"\")","v":"D3"},217,null,11,230,10,-13.499999999999972,0.50236559139784953,0.96083550913838123]
["10doND",{"$f":"VLOOKUP($AA206,DATA!$B$3:$E$6,2,0)","v":"22:30:00"},{"$f":"VLOOKUP($AA206,DATA!$B$3:$E$6,3,0)","v":"06:30:00"},{"$f":"VLOOKUP($AA206,DATA!$B$3:$E$6,4,0)","v":3.125E-2},0.30208333333333326,0.30208333333333326,{"$f":"DATA!$C$9","v":0.89},{"$f":"DATA!$C$10","v":64},1,407.81249999999989,407.81249999999989,0,"","",0,"","",0,"","","","",null,{"$f":"X205","v":10},null,{"$f":"TEXT(Y204,\"ddd\")","v":"do"},"ND",{"$f":"IFERROR(HLOOKUP(Y204,[1]DATA!$A$1:$NB$5,5,0),\"\")","v":"D2"},null,null,null,null,0,"","",""]
["10vrDD",{"$f":"VLOOKUP($AA207,DATA!$B$3:$E$6,2,0)","v":"06:30:00"},{"$f":"VLOOKUP($AA207,DATA!$B$3:$E$6,3,0)","v":"14:30:00"},{"$f":"VLOOKUP($AA207,DATA!$B$3:$E$6,4,0)","v":3.125E-2},0.30208333333333331,0.27152777777777776,{"$f":"DATA!$C$9","v":0.89},{"$f":"DATA!$C$10","v":64},1,366.5625,407.8125,3.0555555555555555E-2,41.25,0.10114942528735632,0,"","",394.66666666666669,349,349,"","",null,{"$f":"X205","v":10},{"$f":"Y204+1","v":"2018-03-09"},{"$f":"TEXT(Y207,\"ddd\")","v":"vr"},"DD",{"$f":"IFERROR(HLOOKUP(Y207,[1]DATA!$A$1:$NB$5,3,0),\"\")","v":"D1"},44,null,21,370,12,-45.6875,0.800573476702509,0.97049180327868856]
["10vrMD",{"$f":"VLOOKUP($AA208,DATA!$B$3:$E$6,2,0)","v":"14:30:00"},{"$f":"VLOOKUP($AA208,DATA!$B$3:$E$6,3,0)","v":"22:30:00"},{"$f":"VLOOKUP($AA208,DATA!$B$3:$E$6,4,0)","v":3.125E-2},0.30208333333333337,0.28750000000000003,{"$f":"DATA!$C$9","v":0.89},{"$f":"DATA!$C$10","v":64},1,388.12500000000006,407.81250000000006,1.4583333333333332E-2,19.687499999999996,4.8275862068965503E-2,0,"","",405.33333333333331,348,"","",348,null,{"$f":"X205","v":10},null,{"$f":"TEXT(Y207,\"ddd\")","v":"vr"},"MD",{"$f":"IFERROR(HLOOKUP(Y207,[1]DATA!$A$1:$NB$5,4,0),\"\")","v":"D3"},21,null,32,380,68,-68.249999999999943,0.79827956989247317,0.85633802816901405]
["10vrND",{"$f":"VLOOKUP($AA209,DATA!$B$3:$E$6,2,0)","v":"22:30:00"},{"$f":"VLOOKUP($AA209,DATA!$B$3:$E$6,3,0)","v":"06:30:00"},{"$f":"VLOOKUP($AA209,DATA!$B$3:$E$6,4,0)","v":3.125E-2},0.30208333333333326,0.30208333333333326,{"$f":"DATA!$C$9","v":0.89},{"$f":"DATA!$C$10","v":64},1,407.81249999999989,407.81249999999989,0,"","",0,"","",0,"","","","",null,{"$f":"X205","v":10},null,{"$f":"TEXT(Y207,\"ddd\")","v":"vr"},"ND",{"$f":"IFERROR(HLOOKUP(Y207,[1]DATA!$A$1:$NB$5,5,0),\"\")","v":"-"},null,null,null,null,0,"","",""]
["10zaDD",{"$f":"VLOOKUP($AA210,DATA!$B$3:$E$6,2,0)","v":"06:30:00"},{"$f":"VLOOKUP($AA210,DATA!$B$3:$E$6,3,0)","v":"14:30:00"},{"$f":"VLOOKUP($AA210,DATA!$B$3:$E$6,4,0)","v":3.125E-2},0.30208333333333331,0.30208333333333331,{"$f":"DATA!$C$9","v":0.89},{"$f":"DATA!$C$10","v":64},1,407.8125,407.8125,0,"","",0,"","",0,"","","","",null,{"$f":"X205","v":10},{"$f":"Y207+1","v":"2018-03-10"},{"$f":"TEXT(Y210,\"ddd\")","v":"za"},"DD",{"$f":"IFERROR(HLOOKUP(Y210,[1]DATA!$A$1:$NB$5,3,0),\"\")","v":"-"},null,null,null,null,0,"","",""]
["10zaMD",{"$f":"VLOOKUP($AA211,DATA!$B$3:$E$6,2,0)","v":"14:30:00"},{"$f":"VLOOKUP($AA211,DATA!$B$3:$E$6,3,0)","v":"22:30:00"},{"$f":"VLOOKUP($AA211,DATA!$B$3:$E$6,4,0)","v":3.125E-2},0.30208333333333337,0.30208333333333337,{"$f":"DATA!$C$9","v":0.89},{"$f":"DATA!$C$10","v":64},1,407.81250000000006,407.81250000000006,0,"","",0,"","",0,"","","","",null,{"$f":"X205","v":10},null,{"$f":"TEXT(Y210,\"ddd\")","v":"za"},"MD",{"$f":"IFERROR(HLOOKUP(Y210,[1]DATA!$A$1:$NB$5,4,0),\"\")","v":"-"},null,null,null,null,0,"","",""]
["10zaND",{"$f":"VLOOKUP($AA212,DATA!$B$3:$E$6,2,0)","v":"22:30:00"},{"$f":"VLOOKUP($AA212,DATA!$B$3:$E$6,3,0)","v":"06:30:00"},{"$f":"VLOOKUP($AA212,DATA!$B$3:$E$6,4,0)","v":3.125E-2},0.30208333333333326,0.30208333333333326,{"$f":"DATA!$C$9","v":0.89},{"$f":"DATA!$C$10","v":64},1,407.81249999999989,407.81249999999989,0,"","",0,"","",0,"","","","",null,{"$f":"X205","v":10},null,{"$f":"TEXT(Y210,\"ddd\")","v":"za"},"ND",{"$f":"IFERROR(HLOOKUP(Y210,[1]DATA!$A$1:$NB$5,5,0),\"\")","v":"-"},null,null,null,null,0,"","",""]
["10zoDD",{"$f":"VLOOKUP($AA213,DATA!$B$3:$E$6,2,0)","v":"06:30:00"},{"$f":"VLOOKUP($AA213,DATA!$B$3:$E$6,3,0)","v":"14:30:00"},{"$f":"VLOOKUP($AA213,DATA!$B$3:$E$6,4,0)","v":3.125E-2},0.30208333333333331,0.30208333333333331,{"$f":"DATA!$C$9","v":0.89},{"$f":"DATA!$C$10","v":64},1,407.8125,407.8125,0,"","",0,"","",0,"","","","",null,{"$f":"X205","v":10},{"$f":"Y210+1","v":"2018-03-11"},{"$f":"TEXT(Y213,\"ddd\")","v":"zo"},"DD",{"$f":"IFERROR(HLOOKUP(Y213,[1]DATA!$A$1:$NB$5,3,0),\"\")","v":"-"},null,null,null,null,0,"","",""]
["10zoMD",{"$f":"VLOOKUP($AA214,DATA!$B$3:$E$6,2,0)","v":"14:30:00"},{"$f":"VLOOKUP($AA214,DATA!$B$3:$E$6,3,0)","v":"22:30:00"},{"$f":"VLOOKUP($AA214,DATA!$B$3:$E$6,4,0)","v":3.125E-2},0.30208333333333337,0.30208333333333337,{"$f":"DATA!$C$9","v":0.89},{"$f":"DATA!$C$10","v":64},1,407.81250000000006,407.81250000000006,0,"","",0,"","",0,"","","","",null,{"$f":"X205","v":10},null,{"$f":"TEXT(Y213,\"ddd\")","v":"zo"},"MD",{"$f":"IFERROR(HLOOKUP(Y213,[1]DATA!$A$1:$NB$5,4,0),\"\")","v":"-"},null,null,null,null,0,"","",""]
["10zoZND",{"$f":"VLOOKUP($AA215,DATA!$B$3:$E$6,2,0)","v":"00:00:00"},{"$f":"VLOOKUP($AA215,DATA!$B$3:$E$6,3,0)","v":"00:00:00"},{"$f":"VLOOKUP($AA215,DATA!$B$3:$E$6,4,0)","v":3.125E-2},-3.125E-2,-3.125E-2,{"$f":"DATA!$C$9","v":0.89},{"$f":"DATA!$C$10","v":64},1,-42.1875,-42.1875,0,"","",0,"","",0,"","","","",null,{"$f":"X205","v":10},null,{"$f":"TEXT(Y213,\"ddd\")","v":"zo"},"ZND",{"$f":"IFERROR(HLOOKUP(Y213,[1]DATA!$A$1:$NB$5,5,0),\"\")","v":"D1"},null,null,null,null,0,"","",""]
["11maDD",{"$f":"VLOOKUP($AA216,DATA!$B$3:$E$6,2,0)","v":"06:30:00"},{"$f":"VLOOKUP($AA216,DATA!$B$3:$E$6,3,0)","v":"14:30:00"},{"$f":"VLOOKUP($AA216,DATA!$B$3:$E$6,4,0)","v":3.125E-2},0.30208333333333331,0.23124999999999998,{"$f":"DATA!$C$9","v":0.89},{"$f":"DATA!$C$10","v":64},1,312.1875,407.8125,7.0833333333333331E-2,95.625,0.23448275862068965,{"$f":"TIME(INT($AD216/60),INT(MOD($AD216,60)/1),0)","v":0},"","",377.6,334,"","",334,null,{"$f":"X226","v":11},{"$f":"Y213+1","v":"2018-03-12"},{"$f":"TEXT(Y216,\"ddd\")","v":"ma"},"DD",{"$f":"IFERROR(HLOOKUP(Y216,[1]DATA!$A$1:$NB$5,3,0),\"\")","v":"D3"},102,null,20,354,0,-6.3125,0.76616487455197135,1,4359.375,2886,0.66202150537634408,1286.25,0.29505376344086021,0,0,0.98302082659545442,"",0.98582023193435064,0.9802214212565582,187.125,4.2924731182795717E-2,199.6,60]
["11maMD",{"$f":"VLOOKUP($AA217,DATA!$B$3:$E$6,2,0)","v":"14:30:00"},{"$f":"VLOOKUP($AA217,DATA!$B$3:$E$6,3,0)","v":"22:30:00"},{"$f":"VLOOKUP($AA217,DATA!$B$3:$E$6,4,0)","v":3.125E-2},0.30208333333333337,0.21250000000000002,{"$f":"DATA!$C$9","v":0.89},{"$f":"DATA!$C$10","v":64},1,286.87500000000006,407.81250000000006,8.9583333333333334E-2,120.9375,0.29655172413793102,{"$f":"TIME(INT(AD217/60),INT(MOD(AD217,60)/1),0)","v":0},"","",381.86666666666667,333,"",333,"",null,{"$f":"X226","v":11},null,{"$f":"TEXT(Y216,\"ddd\")","v":"ma"},"MD",{"$f":"IFERROR(HLOOKUP(Y216,[1]DATA!$A$1:$NB$5,4,0),\"\")","v":"D2"},129,null,25,358,10,18.000000000000057,0.76387096774193564,0.97448111602585918]
["11maND",{"$f":"VLOOKUP($AA218,DATA!$B$3:$E$6,2,0)","v":"22:30:00"},{"$f":"VLOOKUP($AA218,DATA!$B$3:$E$6,3,0)","v":"06:30:00"},{"$f":"VLOOKUP($AA218,DATA!$B$3:$E$6,4,0)","v":3.125E-2},0.30208333333333326,0.30208333333333326,{"$f":"DATA!$C$9","v":0.89},{"$f":"DATA!$C$10","v":64},1,407.81249999999989,407.81249999999989,0,"","",0,"","",0,"","","","",null,{"$f":"X226","v":11},null,{"$f":"TEXT(Y216,\"ddd\")","v":"ma"},"ND",{"$f":"IFERROR(HLOOKUP(Y216,[1]DATA!$A$1:$NB$5,5,0),\"\")","v":"D1"},null,null,null,null,0,"","",""]
["11diDD",{"$f":"VLOOKUP($AA219,DATA!$B$3:$E$6,2,0)","v":"06:30:00"},{"$f":"VLOOKUP($AA219,DATA!$B$3:$E$6,3,0)","v":"14:30:00"},{"$f":"VLOOKUP($AA219,DATA!$B$3:$E$6,4,0)","v":3.125E-2},0.30208333333333331,0.18958333333333333,{"$f":"DATA!$C$9","v":0.89},{"$f":"DATA!$C$10","v":64},1,255.9375,407.8125,0.1125,151.875,0.3724137931034483,0,"","",301.86666666666667,269,"","",269,null,{"$f":"X226","v":11},{"$f":"Y216+1","v":"2018-03-13"},{"$f":"TEXT(Y219,\"ddd\")","v":"di"},"DD",{"$f":"IFERROR(HLOOKUP(Y219,[1]DATA!$A$1:$NB$5,3,0),\"\")","v":"D3"},162,null,14,283,0,-15.062500000000057,0.61706093189964162,1]
["11diMD",{"$f":"VLOOKUP($AA220,DATA!$B$3:$E$6,2,0)","v":"14:30:00"},{"$f":"VLOOKUP($AA220,DATA!$B$3:$E$6,3,0)","v":"22:30:00"},{"$f":"VLOOKUP($AA220,DATA!$B$3:$E$6,4,0)","v":3.125E-2},{"$f":"(C220-B220+(B220>C220))-D220","v":0.30208333333333337},{"$f":"E220-O220-L220","v":0.20208333333333339},{"$f":"DATA!$C$9","v":0.89},{"$f":"DATA!$C$10","v":64},1,{"$f":"F220*86400/H220*I220","v":272.81250000000006},{"$f":"E220*86400/H220","v":407.81250000000006},9.9999999999999992E-2,135,0.33103448275862063,0,"","",{"$f":"AF220*AG$2","v":354.13333333333333},{"$f":"IF(AF220-AE220=0,\"\",AF220-AE220)","v":287},"",287,"",null,{"$f":"X226","v":11},null,{"$f":"TEXT(Y219,\"ddd\")","v":"di"},"MD",{"$f":"IFERROR(HLOOKUP(Y219,[1]DATA!$A$1:$NB$5,4,0),\"\")","v":"D2"},144,null,45,332,7,-13.9375,0.65835125448028686,0.98061657744138819]
["11diND",{"$f":"VLOOKUP($AA221,DATA!$B$3:$E$6,2,0)","v":"22:30:00"},{"$f":"VLOOKUP($AA221,DATA!$B$3:$E$6,3,0)","v":"06:30:00"},{"$f":"VLOOKUP($AA221,DATA!$B$3:$E$6,4,0)","v":3.125E-2},0.30208333333333326,0.30208333333333326,{"$f":"DATA!$C$9","v":0.89},{"$f":"DATA!$C$10","v":64},1,407.81249999999989,407.81249999999989,0,"","",0,"","",0,"","","","",null,{"$f":"X226","v":11},null,{"$f":"TEXT(Y219,\"ddd\")","v":"di"},"ND",{"$f":"IFERROR(HLOOKUP(Y219,[1]DATA!$A$1:$NB$5,5,0),\"\")","v":"D1"},null,null,null,null,0,"","",""]
["11woDD",{"$f":"VLOOKUP($AA222,DATA!$B$3:$E$6,2,0)","v":"06:30:00"},{"$f":"VLOOKUP($AA222,DATA!$B$3:$E$6,3,0)","v":"14:30:00"},{"$f":"VLOOKUP($AA222,DATA!$B$3:$E$6,4,0)","v":3.125E-2},0.30208333333333331,0.17499999999999999,{"$f":"DATA!$C$9","v":0.89},{"$f":"DATA!$C$10","v":64},1,236.24999999999997,407.8125,0.12708333333333333,171.5625,0.4206896551724138,0,"","",286.93333333333334,250,"","",250,null,{"$f":"X226","v":11},{"$f":"Y219+1","v":"2018-03-14"},{"$f":"TEXT(Y222,\"ddd\")","v":"wo"},"DD",{"$f":"IFERROR(HLOOKUP(Y222,[1]DATA!$A$1:$NB$5,3,0),\"\")","v":"D3"},183,null,19,269,0,-14.375000000000057,0.57347670250896055,1]
["11woMD",{"$f":"VLOOKUP($AA223,DATA!$B$3:$E$6,2,0)","v":"14:30:00"},{"$f":"VLOOKUP($AA223,DATA!$B$3:$E$6,3,0)","v":"22:30:00"},{"$f":"VLOOKUP($AA223,DATA!$B$3:$E$6,4,0)","v":3.125E-2},0.30208333333333337,0.21250000000000002,{"$f":"DATA!$C$9","v":0.89},{"$f":"DATA!$C$10","v":64},1,286.87500000000006,407.81250000000006,8.9583333333333334E-2,120.9375,0.29655172413793102,0,"","",371.2,325,"",325,"",null,{"$f":"X226","v":11},null,{"$f":"TEXT(Y222,\"ddd\")","v":"wo"},"MD",{"$f":"IFERROR(HLOOKUP(Y222,[1]DATA!$A$1:$NB$5,4,0),\"\")","v":"D2"},129,null,23,348,0,10.000000000000057,0.7455197132616489,1]
["11woND",{"$f":"VLOOKUP($AA224,DATA!$B$3:$E$6,2,0)","v":"22:30:00"},{"$f":"VLOOKUP($AA224,DATA!$B$3:$E$6,3,0)","v":"06:30:00"},{"$f":"VLOOKUP($AA224,DATA!$B$3:$E$6,4,0)","v":3.125E-2},0.30208333333333326,0.30208333333333326,{"$f":"DATA!$C$9","v":0.89},{"$f":"DATA!$C$10","v":64},1,407.81249999999989,407.81249999999989,0,"","",0,"","",0,"","","","",null,{"$f":"X226","v":11},null,{"$f":"TEXT(Y222,\"ddd\")","v":"wo"},"ND",{"$f":"IFERROR(HLOOKUP(Y222,[1]DATA!$A$1:$NB$5,5,0),\"\")","v":"D1"},null,null,null,null,0,"","",""]
["11doDD",{"$f":"VLOOKUP($AA225,DATA!$B$3:$E$6,2,0)","v":"06:30:00"},{"$f":"VLOOKUP($AA225,DATA!$B$3:$E$6,3,0)","v":"14:30:00"},{"$f":"VLOOKUP($AA225,DATA!$B$3:$E$6,4,0)","v":3.125E-2},0.30208333333333331,0.24305555555555552,{"$f":"DATA!$C$9","v":0.89},{"$f":"DATA!$C$10","v":64},1,328.12499999999994,407.8125,5.9027777777777783E-2,79.687500000000014,0.19540229885057475,0,"","",365.86666666666667,331,"","",331,null,{"$f":"X226","v":11},{"$f":"Y222+1","v":"2018-03-15"},{"$f":"TEXT(Y225,\"ddd\")","v":"do"},"DD",{"$f":"IFERROR(HLOOKUP(Y225,[1]DATA!$A$1:$NB$5,3,0),\"\")","v":"D3"},85,null,12,343,25,-25.25,0.75928315412186376,0.93603957018591166]
["11doMD",{"$f":"VLOOKUP($AA226,DATA!$B$3:$E$6,2,0)","v":"14:30:00"},{"$f":"VLOOKUP($AA226,DATA!$B$3:$E$6,3,0)","v":"22:30:00"},{"$f":"VLOOKUP($AA226,DATA!$B$3:$E$6,4,0)","v":3.125E-2},0.30208333333333337,0.15972222222222227,{"$f":"DATA!$C$9","v":0.89},{"$f":"DATA!$C$10","v":64},1,215.62500000000006,407.81250000000006,0.1423611111111111,192.1875,0.47126436781609188,0,"","",299.73333333333335,265,"",265,"",null,{"$f":"WEEKNUM($Y216)","v":11},null,{"$f":"TEXT(Y225,\"ddd\")","v":"do"},"MD",{"$f":"IFERROR(HLOOKUP(Y225,[1]DATA!$A$1:$NB$5,4,0),\"\")","v":"D2"},205,null,16,281,8,21.250000000000028,0.6078853046594983,0.97400346620450606]
["11doND",{"$f":"VLOOKUP($AA227,DATA!$B$3:$E$6,2,0)","v":"22:30:00"},{"$f":"VLOOKUP($AA227,DATA!$B$3:$E$6,3,0)","v":"06:30:00"},{"$f":"VLOOKUP($AA227,DATA!$B$3:$E$6,4,0)","v":3.125E-2},0.30208333333333326,0.30208333333333326,{"$f":"DATA!$C$9","v":0.89},{"$f":"DATA!$C$10","v":64},1,407.81249999999989,407.81249999999989,0,"","",0,"","",0,"","","","",null,{"$f":"X226","v":11},null,{"$f":"TEXT(Y225,\"ddd\")","v":"do"},"ND",{"$f":"IFERROR(HLOOKUP(Y225,[1]DATA!$A$1:$NB$5,5,0),\"\")","v":"D1"},null,null,null,null,0,"","",""]
["11vrDD",{"$f":"VLOOKUP($AA228,DATA!$B$3:$E$6,2,0)","v":"06:30:00"},{"$f":"VLOOKUP($AA228,DATA!$B$3:$E$6,3,0)","v":"14:30:00"},{"$f":"VLOOKUP($AA228,DATA!$B$3:$E$6,4,0)","v":3.125E-2},0.30208333333333331,0.25763888888888886,{"$f":"DATA!$C$9","v":0.89},{"$f":"DATA!$C$10","v":64},1,347.81249999999994,407.8125,4.4444444444444446E-2,60,0.14712643678160919,0,"","",276.26666666666665,245,"","",245,null,{"$f":"X226","v":11},{"$f":"Y225+1","v":"2018-03-16"},{"$f":"TEXT(Y228,\"ddd\")","v":"vr"},"DD",{"$f":"IFERROR(HLOOKUP(Y228,[1]DATA!$A$1:$NB$5,3,0),\"\")","v":"D3"},64,null,14,259,10,-130.9375,0.5620071684587814,0.96506753609687934]
["11vrMD",{"$f":"VLOOKUP($AA229,DATA!$B$3:$E$6,2,0)","v":"14:30:00"},{"$f":"VLOOKUP($AA229,DATA!$B$3:$E$6,3,0)","v":"22:30:00"},{"$f":"VLOOKUP($AA229,DATA!$B$3:$E$6,4,0)","v":3.125E-2},0.30208333333333337,0.18472222222222229,{"$f":"DATA!$C$9","v":0.89},{"$f":"DATA!$C$10","v":64},1,249.37500000000009,407.81250000000006,0.1173611111111111,158.43749999999997,0.38850574712643665,0,"","",301.86666666666667,247,"",247,"",null,{"$f":"X226","v":11},null,{"$f":"TEXT(Y228,\"ddd\")","v":"vr"},"MD",{"$f":"IFERROR(HLOOKUP(Y228,[1]DATA!$A$1:$NB$5,4,0),\"\")","v":"D2"},169,null,36,283,0,-30.5,0.56659498207885317,1]
["11vrND",{"$f":"VLOOKUP($AA230,DATA!$B$3:$E$6,2,0)","v":"22:30:00"},{"$f":"VLOOKUP($AA230,DATA!$B$3:$E$6,3,0)","v":"06:30:00"},{"$f":"VLOOKUP($AA230,DATA!$B$3:$E$6,4,0)","v":3.125E-2},0.30208333333333326,0.30208333333333326,{"$f":"DATA!$C$9","v":0.89},{"$f":"DATA!$C$10","v":64},1,407.81249999999989,407.81249999999989,0,"","",0,"","",0,"","","","",null,{"$f":"X226","v":11},null,{"$f":"TEXT(Y228,\"ddd\")","v":"vr"},"ND",{"$f":"IFERROR(HLOOKUP(Y228,[1]DATA!$A$1:$NB$5,5,0),\"\")","v":"-"},null,null,null,null,0,"","",""]
["11zaDD",{"$f":"VLOOKUP($AA231,DATA!$B$3:$E$6,2,0)","v":"06:30:00"},{"$f":"VLOOKUP($AA231,DATA!$B$3:$E$6,3,0)","v":"14:30:00"},{"$f":"VLOOKUP($AA231,DATA!$B$3:$E$6,4,0)","v":3.125E-2},0.30208333333333331,0.30208333333333331,{"$f":"DATA!$C$9","v":0.89},{"$f":"DATA!$C$10","v":64},1,407.8125,407.8125,0,"","",0,"","",0,"","","","",null,{"$f":"X226","v":11},{"$f":"Y228+1","v":"2018-03-17"},{"$f":"TEXT(Y231,\"ddd\")","v":"za"},"DD",{"$f":"IFERROR(HLOOKUP(Y231,[1]DATA!$A$1:$NB$5,3,0),\"\")","v":"-"},null,null,null,null,0,"","",""]
["11zaMD",{"$f":"VLOOKUP($AA232,DATA!$B$3:$E$6,2,0)","v":"14:30:00"},{"$f":"VLOOKUP($AA232,DATA!$B$3:$E$6,3,0)","v":"22:30:00"},{"$f":"VLOOKUP($AA232,DATA!$B$3:$E$6,4,0)","v":3.125E-2},0.30208333333333337,0.30208333333333337,{"$f":"DATA!$C$9","v":0.89},{"$f":"DATA!$C$10","v":64},1,407.81250000000006,407.81250000000006,0,"","",0,"","",0,"","","","",null,{"$f":"X226","v":11},null,{"$f":"TEXT(Y231,\"ddd\")","v":"za"},"MD",{"$f":"IFERROR(HLOOKUP(Y231,[1]DATA!$A$1:$NB$5,4,0),\"\")","v":"-"},null,null,null,null,0,"","",""]
["11zaND",{"$f":"VLOOKUP($AA233,DATA!$B$3:$E$6,2,0)","v":"22:30:00"},{"$f":"VLOOKUP($AA233,DATA!$B$3:$E$6,3,0)","v":"06:30:00"},{"$f":"VLOOKUP($AA233,DATA!$B$3:$E$6,4,0)","v":3.125E-2},0.30208333333333326,0.30208333333333326,{"$f":"DATA!$C$9","v":0.89},{"$f":"DATA!$C$10","v":64},1,407.81249999999989,407.81249999999989,0,"","",0,"","",0,"","","","",null,{"$f":"X226","v":11},null,{"$f":"TEXT(Y231,\"ddd\")","v":"za"},"ND",{"$f":"IFERROR(HLOOKUP(Y231,[1]DATA!$A$1:$NB$5,5,0),\"\")","v":"-"},null,null,null,null,0,"","",""]
["11zoDD",{"$f":"VLOOKUP($AA234,DATA!$B$3:$E$6,2,0)","v":"06:30:00"},{"$f":"VLOOKUP($AA234,DATA!$B$3:$E$6,3,0)","v":"14:30:00"},{"$f":"VLOOKUP($AA234,DATA!$B$3:$E$6,4,0)","v":3.125E-2},0.30208333333333331,0.30208333333333331,{"$f":"DATA!$C$9","v":0.89},{"$f":"DATA!$C$10","v":64},1,407.8125,407.8125,0,"","",0,"","",0,"","","","",null,{"$f":"X226","v":11},{"$f":"Y231+1","v":"2018-03-18"},{"$f":"TEXT(Y234,\"ddd\")","v":"zo"},"DD",{"$f":"IFERROR(HLOOKUP(Y234,[1]DATA!$A$1:$NB$5,3,0),\"\")","v":"-"},null,null,null,null,0,"","",""]
["11zoMD",{"$f":"VLOOKUP($AA235,DATA!$B$3:$E$6,2,0)","v":"14:30:00"},{"$f":"VLOOKUP($AA235,DATA!$B$3:$E$6,3,0)","v":"22:30:00"},{"$f":"VLOOKUP($AA235,DATA!$B$3:$E$6,4,0)","v":3.125E-2},0.30208333333333337,0.30208333333333337,{"$f":"DATA!$C$9","v":0.89},{"$f":"DATA!$C$10","v":64},1,407.81250000000006,407.81250000000006,0,"","",0,"","",0,"","","","",null,{"$f":"X226","v":11},null,{"$f":"TEXT(Y234,\"ddd\")","v":"zo"},"MD",{"$f":"IFERROR(HLOOKUP(Y234,[1]DATA!$A$1:$NB$5,4,0),\"\")","v":"-"},null,null,null,null,0,"","",""]
["11zoZND",{"$f":"VLOOKUP($AA236,DATA!$B$3:$E$6,2,0)","v":"00:00:00"},{"$f":"VLOOKUP($AA236,DATA!$B$3:$E$6,3,0)","v":"00:00:00"},{"$f":"VLOOKUP($AA236,DATA!$B$3:$E$6,4,0)","v":3.125E-2},-3.125E-2,-3.125E-2,{"$f":"DATA!$C$9","v":0.89},{"$f":"DATA!$C$10","v":64},1,-42.1875,-42.1875,0,"","",0,"","",0,"","","","",null,{"$f":"X226","v":11},null,{"$f":"TEXT(Y234,\"ddd\")","v":"zo"},"ZND",{"$f":"IFERROR(HLOOKUP(Y234,[1]DATA!$A$1:$NB$5,5,0),\"\")","v":"D3"},null,null,null,null,0,"","",""]
["12maDD",{"$f":"VLOOKUP($AA237,DATA!$B$3:$E$6,2,0)","v":"06:30:00"},{"$f":"VLOOKUP($AA237,DATA!$B$3:$E$6,3,0)","v":"14:30:00"},{"$f":"VLOOKUP($AA237,DATA!$B$3:$E$6,4,0)","v":3.125E-2},0.30208333333333331,0.1361111111111111,{"$f":"DATA!$C$9","v":0.89},{"$f":"DATA!$C$10","v":64},1,183.74999999999997,407.8125,0.16597222222222222,224.0625,0.54942528735632179,{"$f":"TIME(INT($AD237/60),INT(MOD($AD237,60)/1),0)","v":0},"","",259.2,232,"",232,"",null,{"$f":"X247","v":12},{"$f":"Y234+1","v":"2018-03-19"},{"$f":"TEXT(Y237,\"ddd\")","v":"ma"},"DD",{"$f":"IFERROR(HLOOKUP(Y237,[1]DATA!$A$1:$NB$5,3,0),\"\")","v":"D2"},239,null,11,243,0,20.124999999999972,0.53218637992831541,1,4359.375,2981,0.68381362007168456,1095.9375,0.2513978494623656,0,0,0.96520136700823878,0.96822593678814983,0.96217679722832761,"",282.4375,6.4788530465949845E-2,301.26666666666665,136]
["12maMD",{"$f":"VLOOKUP($AA238,DATA!$B$3:$E$6,2,0)","v":"14:30:00"},{"$f":"VLOOKUP($AA238,DATA!$B$3:$E$6,3,0)","v":"22:30:00"},{"$f":"VLOOKUP($AA238,DATA!$B$3:$E$6,4,0)","v":3.125E-2},0.30208333333333337,0.15972222222222227,{"$f":"DATA!$C$9","v":0.89},{"$f":"DATA!$C$10","v":64},1,215.62500000000006,407.81250000000006,0.1423611111111111,192.1875,0.47126436781609188,{"$f":"TIME(INT(AD238/60),INT(MOD(AD238,60)/1),0)","v":0},"","",272,241,241,"","",null,{"$f":"X247","v":12},null,{"$f":"TEXT(Y237,\"ddd\")","v":"ma"},"MD",{"$f":"IFERROR(HLOOKUP(Y237,[1]DATA!$A$1:$NB$5,4,0),\"\")","v":"D1"},205,null,14,255,3,-2.7499999999999716,0.55283154121863809,0.98909090909090913]
["12maND",{"$f":"VLOOKUP($AA239,DATA!$B$3:$E$6,2,0)","v":"22:30:00"},{"$f":"VLOOKUP($AA239,DATA!$B$3:$E$6,3,0)","v":"06:30:00"},{"$f":"VLOOKUP($AA239,DATA!$B$3:$E$6,4,0)","v":3.125E-2},0.30208333333333326,0.30208333333333326,{"$f":"DATA!$C$9","v":0.89},{"$f":"DATA!$C$10","v":64},1,407.81249999999989,407.81249999999989,0,"","",0,"","",0,"","","","",null,{"$f":"X247","v":12},null,{"$f":"TEXT(Y237,\"ddd\")","v":"ma"},"ND",{"$f":"IFERROR(HLOOKUP(Y237,[1]DATA!$A$1:$NB$5,5,0),\"\")","v":"D3"},null,null,null,null,0,"","",""]
[{"$f":"X240&Z240&AA240","v":"12diDD"},{"$f":"VLOOKUP($AA240,DATA!$B$3:$E$6,2,0)","v":"06:30:00"},{"$f":"VLOOKUP($AA240,DATA!$B$3:$E$6,3,0)","v":"14:30:00"},{"$f":"VLOOKUP($AA240,DATA!$B$3:$E$6,4,0)","v":3.125E-2},0.30208333333333331,0.1958333333333333,{"$f":"DATA!$C$9","v":0.89},{"$f":"DATA!$C$10","v":64},1,264.37499999999994,407.8125,0.10625,143.4375,0.35172413793103446,0,{"$f":"IF($O240*86400/$H240=0,\"\",$O240*86400/$H240)","v":""},"",328.5333333333333,295,"",295,"",null,{"$f":"X247","v":12},{"$f":"Y237+1","v":"2018-03-20"},{"$f":"TEXT(Y240,\"ddd\")","v":"di"},"DD",{"$f":"IFERROR(HLOOKUP(Y240,[1]DATA!$A$1:$NB$5,3,0),\"\")","v":"D2"},153,null,13,308,3,2.5,0.67670250896057349,0.99095113613512975]
["12diMD",{"$f":"VLOOKUP($AA241,DATA!$B$3:$E$6,2,0)","v":"14:30:00"},{"$f":"VLOOKUP($AA241,DATA!$B$3:$E$6,3,0)","v":"22:30:00"},{"$f":"VLOOKUP($AA241,DATA!$B$3:$E$6,4,0)","v":3.125E-2},0.30208333333333337,0.18402777777777779,{"$f":"DATA!$C$9","v":0.89},{"$f":"DATA!$C$10","v":64},1,248.43750000000003,407.81250000000006,0.11805555555555557,159.37500000000003,0.39080459770114945,0,"","",329.6,287,287,"","",null,{"$f":"X247","v":12},null,{"$f":"TEXT(Y240,\"ddd\")","v":"di"},"MD",{"$f":"IFERROR(HLOOKUP(Y240,[1]DATA!$A$1:$NB$5,4,0),\"\")","v":"D1"},170,null,22,309,23,10.437500000000057,0.65835125448028686,0.93477027793533751]
["12diND",{"$f":"VLOOKUP($AA242,DATA!$B$3:$E$6,2,0)","v":"22:30:00"},{"$f":"VLOOKUP($AA242,DATA!$B$3:$E$6,3,0)","v":"06:30:00"},{"$f":"VLOOKUP($AA242,DATA!$B$3:$E$6,4,0)","v":3.125E-2},0.30208333333333326,0.30208333333333326,{"$f":"DATA!$C$9","v":0.89},{"$f":"DATA!$C$10","v":64},1,407.81249999999989,407.81249999999989,0,"","",0,"","",0,"","","","",null,{"$f":"X247","v":12},null,{"$f":"TEXT(Y240,\"ddd\")","v":"di"},"ND",{"$f":"IFERROR(HLOOKUP(Y240,[1]DATA!$A$1:$NB$5,5,0),\"\")","v":"D3"},null,null,null,null,0,"","",""]
["12woDD",{"$f":"VLOOKUP($AA243,DATA!$B$3:$E$6,2,0)","v":"06:30:00"},{"$f":"VLOOKUP($AA243,DATA!$B$3:$E$6,3,0)","v":"14:30:00"},{"$f":"VLOOKUP($AA243,DATA!$B$3:$E$6,4,0)","v":3.125E-2},0.30208333333333331,0.29374999999999996,{"$f":"DATA!$C$9","v":0.89},{"$f":"DATA!$C$10","v":64},1,396.56249999999994,407.8125,8.3333333333333332E-3,11.25,2.7586206896551724E-2,0,"","",419.2,363,"",363,"",null,{"$f":"X247","v":12},{"$f":"Y240+1","v":"2018-03-21"},{"$f":"TEXT(Y243,\"ddd\")","v":"wo"},"DD",{"$f":"IFERROR(HLOOKUP(Y243,[1]DATA!$A$1:$NB$5,3,0),\"\")","v":"D2"},12,null,30,393,52,-61.6875,0.83268817204301071,0.88964346349745327]
["12woMD",{"$f":"VLOOKUP($AA244,DATA!$B$3:$E$6,2,0)","v":"14:30:00"},{"$f":"VLOOKUP($AA244,DATA!$B$3:$E$6,3,0)","v":"22:30:00"},{"$f":"VLOOKUP($AA244,DATA!$B$3:$E$6,4,0)","v":3.125E-2},0.30208333333333337,0.28958333333333336,{"$f":"DATA!$C$9","v":0.89},{"$f":"DATA!$C$10","v":64},1,390.93750000000006,407.81250000000006,1.2499999999999999E-2,16.875,4.1379310344827579E-2,0,"","",416,371,371,"","",null,{"$f":"X247","v":12},null,{"$f":"TEXT(Y243,\"ddd\")","v":"wo"},"MD",{"$f":"IFERROR(HLOOKUP(Y243,[1]DATA!$A$1:$NB$5,4,0),\"\")","v":"D1"},18,null,19,390,14,-48.062499999999943,0.85103942652329756,0.96744186046511627]
["12woND",{"$f":"VLOOKUP($AA245,DATA!$B$3:$E$6,2,0)","v":"22:30:00"},{"$f":"VLOOKUP($AA245,DATA!$B$3:$E$6,3,0)","v":"06:30:00"},{"$f":"VLOOKUP($AA245,DATA!$B$3:$E$6,4,0)","v":3.125E-2},0.30208333333333326,0.30208333333333326,{"$f":"DATA!$C$9","v":0.89},{"$f":"DATA!$C$10","v":64},1,407.81249999999989,407.81249999999989,0,"","",0,"","",0,"","","","",null,{"$f":"X247","v":12},null,{"$f":"TEXT(Y243,\"ddd\")","v":"wo"},"ND",{"$f":"IFERROR(HLOOKUP(Y243,[1]DATA!$A$1:$NB$5,5,0),\"\")","v":"D3"},null,null,null,null,0,"","",""]
["12doDD",{"$f":"VLOOKUP($AA246,DATA!$B$3:$E$6,2,0)","v":"06:30:00"},{"$f":"VLOOKUP($AA246,DATA!$B$3:$E$6,3,0)","v":"14:30:00"},{"$f":"VLOOKUP($AA246,DATA!$B$3:$E$6,4,0)","v":3.125E-2},0.30208333333333331,0.22916666666666663,{"$f":"DATA!$C$9","v":0.89},{"$f":"DATA!$C$10","v":64},1,309.37499999999994,407.8125,7.2916666666666671E-2,98.4375,0.2413793103448276,0,"","",352,304,"",304,"",null,{"$f":"X247","v":12},{"$f":"Y243+1","v":"2018-03-22"},{"$f":"TEXT(Y246,\"ddd\")","v":"do"},"DD",{"$f":"IFERROR(HLOOKUP(Y246,[1]DATA!$A$1:$NB$5,3,0),\"\")","v":"D2"},105,null,26,330,7,-33.5,0.69734767025089606,0.98050139275766013]
["12doMD",{"$f":"VLOOKUP($AA247,DATA!$B$3:$E$6,2,0)","v":"14:30:00"},{"$f":"VLOOKUP($AA247,DATA!$B$3:$E$6,3,0)","v":"22:30:00"},{"$f":"VLOOKUP($AA247,DATA!$B$3:$E$6,4,0)","v":3.125E-2},0.30208333333333337,0.21319444444444446,{"$f":"DATA!$C$9","v":0.89},{"$f":"DATA!$C$10","v":64},1,287.8125,407.81250000000006,8.8888888888888892E-2,120,0.29425287356321833,0,"","",371.2,326,326,"","",null,{"$f":"WEEKNUM($Y237)","v":12},null,{"$f":"TEXT(Y246,\"ddd\")","v":"do"},"MD",{"$f":"IFERROR(HLOOKUP(Y246,[1]DATA!$A$1:$NB$5,4,0),\"\")","v":"D1"},128,null,22,348,10,10.062500000000057,0.74781362007168473,0.97376705141657927]
["12doND",{"$f":"VLOOKUP($AA248,DATA!$B$3:$E$6,2,0)","v":"22:30:00"},{"$f":"VLOOKUP($AA248,DATA!$B$3:$E$6,3,0)","v":"06:30:00"},{"$f":"VLOOKUP($AA248,DATA!$B$3:$E$6,4,0)","v":3.125E-2},0.30208333333333326,0.30208333333333326,{"$f":"DATA!$C$9","v":0.89},{"$f":"DATA!$C$10","v":64},1,407.81249999999989,407.81249999999989,0,"","",0,"","",0,"","","","",null,{"$f":"X247","v":12},null,{"$f":"TEXT(Y246,\"ddd\")","v":"do"},"ND",{"$f":"IFERROR(HLOOKUP(Y246,[1]DATA!$A$1:$NB$5,5,0),\"\")","v":"D3"},null,null,null,null,0,"","",""]
["12vrDD",{"$f":"VLOOKUP($AA249,DATA!$B$3:$E$6,2,0)","v":"06:30:00"},{"$f":"VLOOKUP($AA249,DATA!$B$3:$E$6,3,0)","v":"14:30:00"},{"$f":"VLOOKUP($AA249,DATA!$B$3:$E$6,4,0)","v":3.125E-2},0.30208333333333331,0.26111111111111107,{"$f":"DATA!$C$9","v":0.89},{"$f":"DATA!$C$10","v":64},1,352.49999999999994,407.8125,4.0972222222222222E-2,55.3125,0.13563218390804599,0,"","",283.73333333333335,237,"",237,"",null,{"$f":"X247","v":12},{"$f":"Y246+1","v":"2018-03-23"},{"$f":"TEXT(Y249,\"ddd\")","v":"vr"},"DD",{"$f":"IFERROR(HLOOKUP(Y249,[1]DATA!$A$1:$NB$5,3,0),\"\")","v":"D2"},59,null,29,266,15,-143.625,0.54365591397849466,0.94978799375139478]
["12vrMD",{"$f":"VLOOKUP($AA250,DATA!$B$3:$E$6,2,0)","v":"14:30:00"},{"$f":"VLOOKUP($AA250,DATA!$B$3:$E$6,3,0)","v":"22:30:00"},{"$f":"VLOOKUP($AA250,DATA!$B$3:$E$6,4,0)","v":3.125E-2},0.30208333333333337,0.24652777777777782,{"$f":"DATA!$C$9","v":0.89},{"$f":"DATA!$C$10","v":64},1,332.81250000000006,407.81250000000006,5.5555555555555552E-2,75,0.18390804597701146,0,"","",366.93333333333334,325,325,"","",null,{"$f":"X247","v":12},null,{"$f":"TEXT(Y249,\"ddd\")","v":"vr"},"MD",{"$f":"IFERROR(HLOOKUP(Y249,[1]DATA!$A$1:$NB$5,4,0),\"\")","v":"D1"},80,null,19,344,9,-35.937499999999943,0.7455197132616489,0.97605958503280721]
["12vrND",{"$f":"VLOOKUP($AA251,DATA!$B$3:$E$6,2,0)","v":"22:30:00"},{"$f":"VLOOKUP($AA251,DATA!$B$3:$E$6,3,0)","v":"06:30:00"},{"$f":"VLOOKUP($AA251,DATA!$B$3:$E$6,4,0)","v":3.125E-2},0.30208333333333326,0.30208333333333326,{"$f":"DATA!$C$9","v":0.89},{"$f":"DATA!$C$10","v":64},1,407.81249999999989,407.81249999999989,0,"","",0,"","",0,"","","","",null,{"$f":"X247","v":12},null,{"$f":"TEXT(Y249,\"ddd\")","v":"vr"},"ND",{"$f":"IFERROR(HLOOKUP(Y249,[1]DATA!$A$1:$NB$5,5,0),\"\")","v":"-"},null,null,null,null,0,"","",""]
["12zaDD",{"$f":"VLOOKUP($AA252,DATA!$B$3:$E$6,2,0)","v":"06:30:00"},{"$f":"VLOOKUP($AA252,DATA!$B$3:$E$6,3,0)","v":"14:30:00"},{"$f":"VLOOKUP($AA252,DATA!$B$3:$E$6,4,0)","v":3.125E-2},0.30208333333333331,0.30208333333333331,{"$f":"DATA!$C$9","v":0.89},{"$f":"DATA!$C$10","v":64},1,407.8125,407.8125,0,"","",0,"","",0,"","","","",null,{"$f":"X247","v":12},{"$f":"Y249+1","v":"2018-03-24"},{"$f":"TEXT(Y252,\"ddd\")","v":"za"},"DD",{"$f":"IFERROR(HLOOKUP(Y252,[1]DATA!$A$1:$NB$5,3,0),\"\")","v":"-"},null,null,null,null,0,"","",""]
["12zaMD",{"$f":"VLOOKUP($AA253,DATA!$B$3:$E$6,2,0)","v":"14:30:00"},{"$f":"VLOOKUP($AA253,DATA!$B$3:$E$6,3,0)","v":"22:30:00"},{"$f":"VLOOKUP($AA253,DATA!$B$3:$E$6,4,0)","v":3.125E-2},0.30208333333333337,0.30208333333333337,{"$f":"DATA!$C$9","v":0.89},{"$f":"DATA!$C$10","v":64},1,407.81250000000006,407.81250000000006,0,"","",0,"","",0,"","","","",null,{"$f":"X247","v":12},null,{"$f":"TEXT(Y252,\"ddd\")","v":"za"},"MD",{"$f":"IFERROR(HLOOKUP(Y252,[1]DATA!$A$1:$NB$5,4,0),\"\")","v":"-"},null,null,null,null,0,"","",""]
["12zaND",{"$f":"VLOOKUP($AA254,DATA!$B$3:$E$6,2,0)","v":"22:30:00"},{"$f":"VLOOKUP($AA254,DATA!$B$3:$E$6,3,0)","v":"06:30:00"},{"$f":"VLOOKUP($AA254,DATA!$B$3:$E$6,4,0)","v":3.125E-2},0.30208333333333326,0.30208333333333326,{"$f":"DATA!$C$9","v":0.89},{"$f":"DATA!$C$10","v":64},1,407.81249999999989,407.81249999999989,0,"","",0,"","",0,"","","","",null,{"$f":"X247","v":12},null,{"$f":"TEXT(Y252,\"ddd\")","v":"za"},"ND",{"$f":"IFERROR(HLOOKUP(Y252,[1]DATA!$A$1:$NB$5,5,0),\"\")","v":"-"},null,null,null,null,0,"","",""]
["12zoDD",{"$f":"VLOOKUP($AA255,DATA!$B$3:$E$6,2,0)","v":"06:30:00"},{"$f":"VLOOKUP($AA255,DATA!$B$3:$E$6,3,0)","v":"14:30:00"},{"$f":"VLOOKUP($AA255,DATA!$B$3:$E$6,4,0)","v":3.125E-2},0.30208333333333331,0.30208333333333331,{"$f":"DATA!$C$9","v":0.89},{"$f":"DATA!$C$10","v":64},1,407.8125,407.8125,0,"","",0,"","",0,"","","","",null,{"$f":"X247","v":12},{"$f":"Y252+1","v":"2018-03-25"},{"$f":"TEXT(Y255,\"ddd\")","v":"zo"},"DD",{"$f":"IFERROR(HLOOKUP(Y255,[1]DATA!$A$1:$NB$5,3,0),\"\")","v":"-"},null,null,null,null,0,"","",""]
["12zoMD",{"$f":"VLOOKUP($AA256,DATA!$B$3:$E$6,2,0)","v":"14:30:00"},{"$f":"VLOOKUP($AA256,DATA!$B$3:$E$6,3,0)","v":"22:30:00"},{"$f":"VLOOKUP($AA256,DATA!$B$3:$E$6,4,0)","v":3.125E-2},0.30208333333333337,0.30208333333333337,{"$f":"DATA!$C$9","v":0.89},{"$f":"DATA!$C$10","v":64},1,407.81250000000006,407.81250000000006,0,"","",0,"","",0,"","","","",null,{"$f":"X247","v":12},null,{"$f":"TEXT(Y255,\"ddd\")","v":"zo"},"MD",{"$f":"IFERROR(HLOOKUP(Y255,[1]DATA!$A$1:$NB$5,4,0),\"\")","v":"-"},null,null,null,null,0,"","",""]
["12zoZND",{"$f":"VLOOKUP($AA257,DATA!$B$3:$E$6,2,0)","v":"00:00:00"},{"$f":"VLOOKUP($AA257,DATA!$B$3:$E$6,3,0)","v":"00:00:00"},{"$f":"VLOOKUP($AA257,DATA!$B$3:$E$6,4,0)","v":3.125E-2},-3.125E-2,-3.125E-2,{"$f":"DATA!$C$9","v":0.89},{"$f":"DATA!$C$10","v":64},1,-42.1875,-42.1875,0,"","",0,"","",0,"","","","",null,{"$f":"X247","v":12},null,{"$f":"TEXT(Y255,\"ddd\")","v":"zo"},"ZND",{"$f":"IFERROR(HLOOKUP(Y255,[1]DATA!$A$1:$NB$5,5,0),\"\")","v":"D2"},null,null,null,null,0,"","",""]
["13maDD",{"$f":"VLOOKUP($AA258,DATA!$B$3:$E$6,2,0)","v":"06:30:00"},{"$f":"VLOOKUP($AA258,DATA!$B$3:$E$6,3,0)","v":"14:30:00"},{"$f":"VLOOKUP($AA258,DATA!$B$3:$E$6,4,0)","v":3.125E-2},0.30208333333333331,0.30208333333333331,{"$f":"DATA!$C$9","v":0.89},{"$f":"DATA!$C$10","v":64},1,407.8125,407.8125,0,"","",{"$f":"TIME(INT($AD258/60),INT(MOD($AD258,60)/1),0)","v":0},"","",337.06666666666666,316,316,"","",null,{"$f":"X268","v":13},{"$f":"Y255+1","v":"2018-03-26"},{"$f":"TEXT(Y258,\"ddd\")","v":"ma"},"DD",{"$f":"IFERROR(HLOOKUP(Y258,[1]DATA!$A$1:$NB$5,3,0),\"\")","v":"D1"},null,null,null,316,5,-119.9375,0.72487455197132622,0.98538296628337552,4359.375,3239,0.74299641577060926,"0",0,0,0,0.95248954757028648,0.93874144926689984,"",0.96623764587367289,1120.375,0.25700358422939074,1195.0666666666666,179]
["13maMD",{"$f":"VLOOKUP($AA259,DATA!$B$3:$E$6,2,0)","v":"14:30:00"},{"$f":"VLOOKUP($AA259,DATA!$B$3:$E$6,3,0)","v":"22:30:00"},{"$f":"VLOOKUP($AA259,DATA!$B$3:$E$6,4,0)","v":3.125E-2},0.30208333333333337,0.30208333333333337,{"$f":"DATA!$C$9","v":0.89},{"$f":"DATA!$C$10","v":64},1,407.81250000000006,407.81250000000006,0,"","",{"$f":"TIME(INT(AD259/60),INT(MOD(AD259,60)/1),0)","v":0},"","",363.73333333333335,341,"","",341,null,{"$f":"X268","v":13},null,{"$f":"TEXT(Y258,\"ddd\")","v":"ma"},"MD",{"$f":"IFERROR(HLOOKUP(Y258,[1]DATA!$A$1:$NB$5,4,0),\"\")","v":"D3"},null,null,null,341,3,-94.937499999999943,0.78222222222222237,0.99181966915106345]
["13maND",{"$f":"VLOOKUP($AA260,DATA!$B$3:$E$6,2,0)","v":"22:30:00"},{"$f":"VLOOKUP($AA260,DATA!$B$3:$E$6,3,0)","v":"06:30:00"},{"$f":"VLOOKUP($AA260,DATA!$B$3:$E$6,4,0)","v":3.125E-2},0.30208333333333326,0.30208333333333326,{"$f":"DATA!$C$9","v":0.89},{"$f":"DATA!$C$10","v":64},1,407.81249999999989,407.81249999999989,0,"","",0,"","",0,"","","","",null,{"$f":"X268","v":13},null,{"$f":"TEXT(Y258,\"ddd\")","v":"ma"},"ND",{"$f":"IFERROR(HLOOKUP(Y258,[1]DATA!$A$1:$NB$5,5,0),\"\")","v":"D2"},null,null,null,null,0,"","",""]
["13diDD",{"$f":"VLOOKUP($AA261,DATA!$B$3:$E$6,2,0)","v":"06:30:00"},{"$f":"VLOOKUP($AA261,DATA!$B$3:$E$6,3,0)","v":"14:30:00"},{"$f":"VLOOKUP($AA261,DATA!$B$3:$E$6,4,0)","v":3.125E-2},0.30208333333333331,0.30208333333333331,{"$f":"DATA!$C$9","v":0.89},{"$f":"DATA!$C$10","v":64},1,407.8125,407.8125,0,"","",0,"","",297.60000000000002,279,279,"","",null,{"$f":"X268","v":13},{"$f":"Y258+1","v":"2018-03-27"},{"$f":"TEXT(Y261,\"ddd\")","v":"di"},"DD",{"$f":"IFERROR(HLOOKUP(Y261,[1]DATA!$A$1:$NB$5,3,0),\"\")","v":"D1"},null,null,null,279,80,-156.9375,0.64,0.78813559322033899]
["13diMD",{"$f":"VLOOKUP($AA262,DATA!$B$3:$E$6,2,0)","v":"14:30:00"},{"$f":"VLOOKUP($AA262,DATA!$B$3:$E$6,3,0)","v":"22:30:00"},{"$f":"VLOOKUP($AA262,DATA!$B$3:$E$6,4,0)","v":3.125E-2},0.30208333333333337,0.30208333333333337,{"$f":"DATA!$C$9","v":0.89},{"$f":"DATA!$C$10","v":64},1,407.81250000000006,407.81250000000006,0,"","",0,"","",333.86666666666667,313,"","",313,null,{"$f":"X268","v":13},null,{"$f":"TEXT(Y261,\"ddd\")","v":"di"},"MD",{"$f":"IFERROR(HLOOKUP(Y261,[1]DATA!$A$1:$NB$5,4,0),\"\")","v":"D3"},null,null,null,313,32,-122.93749999999994,0.71799283154121873,0.91253644314868809]
["13diND",{"$f":"VLOOKUP($AA263,DATA!$B$3:$E$6,2,0)","v":"22:30:00"},{"$f":"VLOOKUP($AA263,DATA!$B$3:$E$6,3,0)","v":"06:30:00"},{"$f":"VLOOKUP($AA263,DATA!$B$3:$E$6,4,0)","v":3.125E-2},0.30208333333333326,0.30208333333333326,{"$f":"DATA!$C$9","v":0.89},{"$f":"DATA!$C$10","v":64},1,407.81249999999989,407.81249999999989,{"$f":"TIME(INT($AC263/60),INT(MOD($AC263,60)/1),0)","v":0},{"$f":"IF($L263*86400/$H263=0,\"\",$L263*86400/$H263)","v":""},{"$f":"IFERROR($M263/$K263,\"\")","v":""},0,"",{"$f":"IFERROR($P263/$K263,\"\")","v":""},0,"",{"$f":"IF(IF($AB263=\"D1\",$S263,\"\")=0,\"\",IF($AB263=\"D1\",$S263,\"\"))","v":""},{"$f":"IF(IF($AB263=\"D2\",$S263,\"\")=0,\"\",IF($AB263=\"D2\",$S263,\"\"))","v":""},{"$f":"IF(IF($AB263=\"D3\",$S263,\"\")=0,\"\",IF($AB263=\"D3\",$S263,\"\"))","v":""},null,{"$f":"X268","v":13},null,{"$f":"TEXT(Y261,\"ddd\")","v":"di"},"ND",{"$f":"IFERROR(HLOOKUP(Y261,[1]DATA!$A$1:$NB$5,5,0),\"\")","v":"D2"},null,null,null,null,0,"","",""]
["13woDD",{"$f":"VLOOKUP($AA264,DATA!$B$3:$E$6,2,0)","v":"06:30:00"},{"$f":"VLOOKUP($AA264,DATA!$B$3:$E$6,3,0)","v":"14:30:00"},{"$f":"VLOOKUP($AA264,DATA!$B$3:$E$6,4,0)","v":3.125E-2},0.30208333333333331,0.30208333333333331,{"$f":"DATA!$C$9","v":0.89},{"$f":"DATA!$C$10","v":64},1,407.8125,407.8125,0,"","",0,"","",390.4,366,366,"","",null,{"$f":"X268","v":13},{"$f":"Y261+1","v":"2018-03-28"},{"$f":"TEXT(Y264,\"ddd\")","v":"wo"},"DD",{"$f":"IFERROR(HLOOKUP(Y264,[1]DATA!$A$1:$NB$5,3,0),\"\")","v":"D1"},null,null,null,366,30,-69.9375,0.83956989247311831,0.92863939105613702]
["13woMD",{"$f":"VLOOKUP($AA265,DATA!$B$3:$E$6,2,0)","v":"14:30:00"},{"$f":"VLOOKUP($AA265,DATA!$B$3:$E$6,3,0)","v":"22:30:00"},{"$f":"VLOOKUP($AA265,DATA!$B$3:$E$6,4,0)","v":3.125E-2},0.30208333333333337,0.30208333333333337,{"$f":"DATA!$C$9","v":0.89},{"$f":"DATA!$C$10","v":64},1,407.81250000000006,407.81250000000006,0,"","",0,"","",329.6,309,"","",309,null,{"$f":"X268","v":13},null,{"$f":"TEXT(Y264,\"ddd\")","v":"wo"},"MD",{"$f":"IFERROR(HLOOKUP(Y264,[1]DATA!$A$1:$NB$5,4,0),\"\")","v":"D3"},null,null,null,309,11,-126.93749999999994,0.70881720430107531,0.96770405167351736]
["13woND",{"$f":"VLOOKUP($AA266,DATA!$B$3:$E$6,2,0)","v":"22:30:00"},{"$f":"VLOOKUP($AA266,DATA!$B$3:$E$6,3,0)","v":"06:30:00"},{"$f":"VLOOKUP($AA266,DATA!$B$3:$E$6,4,0)","v":3.125E-2},0.30208333333333326,0.30208333333333326,{"$f":"DATA!$C$9","v":0.89},{"$f":"DATA!$C$10","v":64},1,407.81249999999989,407.81249999999989,0,"","",0,"","",0,"","","","",null,{"$f":"X268","v":13},null,{"$f":"TEXT(Y264,\"ddd\")","v":"wo"},"ND",{"$f":"IFERROR(HLOOKUP(Y264,[1]DATA!$A$1:$NB$5,5,0),\"\")","v":"D2"},null,null,null,null,0,"","",""]
["13doDD",{"$f":"VLOOKUP($AA267,DATA!$B$3:$E$6,2,0)","v":"06:30:00"},{"$f":"VLOOKUP($AA267,DATA!$B$3:$E$6,3,0)","v":"14:30:00"},{"$f":"VLOOKUP($AA267,DATA!$B$3:$E$6,4,0)","v":3.125E-2},0.30208333333333331,0.30208333333333331,{"$f":"DATA!$C$9","v":0.89},{"$f":"DATA!$C$10","v":64},1,407.8125,407.8125,0,"","",0,"","",352,330,330,"","",null,{"$f":"X268","v":13},{"$f":"Y264+1","v":"2018-03-29"},{"$f":"TEXT(Y267,\"ddd\")","v":"do"},"DD",{"$f":"IFERROR(HLOOKUP(Y267,[1]DATA!$A$1:$NB$5,3,0),\"\")","v":"D1"},null,null,null,330,0,-105.9375,0.75698924731182793,1]
["13doMD",{"$f":"VLOOKUP($AA268,DATA!$B$3:$E$6,2,0)","v":"14:30:00"},{"$f":"VLOOKUP($AA268,DATA!$B$3:$E$6,3,0)","v":"22:30:00"},{"$f":"VLOOKUP($AA268,DATA!$B$3:$E$6,4,0)","v":3.125E-2},0.30208333333333337,0.30208333333333337,{"$f":"DATA!$C$9","v":0.89},{"$f":"DATA!$C$10","v":64},1,407.81250000000006,407.81250000000006,0,"","",0,"","",352,330,"","",330,null,{"$f":"WEEKNUM($Y258)","v":13},null,{"$f":"TEXT(Y267,\"ddd\")","v":"do"},"MD",{"$f":"IFERROR(HLOOKUP(Y267,[1]DATA!$A$1:$NB$5,4,0),\"\")","v":"D3"},null,null,null,330,15,-105.93749999999994,0.75698924731182804,0.95912806539509532]
["13doND",{"$f":"VLOOKUP($AA269,DATA!$B$3:$E$6,2,0)","v":"22:30:00"},{"$f":"VLOOKUP($AA269,DATA!$B$3:$E$6,3,0)","v":"06:30:00"},{"$f":"VLOOKUP($AA269,DATA!$B$3:$E$6,4,0)","v":3.125E-2},0.30208333333333326,0.30208333333333326,{"$f":"DATA!$C$9","v":0.89},{"$f":"DATA!$C$10","v":64},1,407.81249999999989,407.81249999999989,0,"","",0,"","",0,"","","","",null,{"$f":"X268","v":13},null,{"$f":"TEXT(Y267,\"ddd\")","v":"do"},"ND",{"$f":"IFERROR(HLOOKUP(Y267,[1]DATA!$A$1:$NB$5,5,0),\"\")","v":"D2"},null,null,null,null,0,"","",""]
["13vrDD",{"$f":"VLOOKUP($AA270,DATA!$B$3:$E$6,2,0)","v":"06:30:00"},{"$f":"VLOOKUP($AA270,DATA!$B$3:$E$6,3,0)","v":"14:30:00"},{"$f":"VLOOKUP($AA270,DATA!$B$3:$E$6,4,0)","v":3.125E-2},0.30208333333333331,0.30208333333333331,{"$f":"DATA!$C$9","v":0.89},{"$f":"DATA!$C$10","v":64},1,407.8125,407.8125,0,"","",0,"","",352,330,330,"","",null,{"$f":"X268","v":13},{"$f":"Y267+1","v":"2018-03-30"},{"$f":"TEXT(Y270,\"ddd\")","v":"vr"},"DD",{"$f":"IFERROR(HLOOKUP(Y270,[1]DATA!$A$1:$NB$5,3,0),\"\")","v":"D1"},null,null,null,330,3,-105.9375,0.75698924731182793,0.9915492957746479]
["13vrMD",{"$f":"VLOOKUP($AA271,DATA!$B$3:$E$6,2,0)","v":"14:30:00"},{"$f":"VLOOKUP($AA271,DATA!$B$3:$E$6,3,0)","v":"22:30:00"},{"$f":"VLOOKUP($AA271,DATA!$B$3:$E$6,4,0)","v":3.125E-2},0.30208333333333337,0.30208333333333337,{"$f":"DATA!$C$9","v":0.89},{"$f":"DATA!$C$10","v":64},1,407.81250000000006,407.81250000000006,0,"","",0,"","",346.66666666666669,325,"","",325,null,{"$f":"X268","v":13},null,{"$f":"TEXT(Y270,\"ddd\")","v":"vr"},"MD",{"$f":"IFERROR(HLOOKUP(Y270,[1]DATA!$A$1:$NB$5,4,0),\"\")","v":"D3"},null,null,null,325,0,-110.93749999999994,0.7455197132616489,1]
["13vrND",{"$f":"VLOOKUP($AA272,DATA!$B$3:$E$6,2,0)","v":"22:30:00"},{"$f":"VLOOKUP($AA272,DATA!$B$3:$E$6,3,0)","v":"06:30:00"},{"$f":"VLOOKUP($AA272,DATA!$B$3:$E$6,4,0)","v":3.125E-2},0.30208333333333326,0.30208333333333326,{"$f":"DATA!$C$9","v":0.89},{"$f":"DATA!$C$10","v":64},1,407.81249999999989,407.81249999999989,0,"","",0,"","",0,"","","","",null,{"$f":"X268","v":13},null,{"$f":"TEXT(Y270,\"ddd\")","v":"vr"},"ND",{"$f":"IFERROR(HLOOKUP(Y270,[1]DATA!$A$1:$NB$5,5,0),\"\")","v":"-"},null,null,null,null,0,"","",""]
["13zaDD",{"$f":"VLOOKUP($AA273,DATA!$B$3:$E$6,2,0)","v":"06:30:00"},{"$f":"VLOOKUP($AA273,DATA!$B$3:$E$6,3,0)","v":"14:30:00"},{"$f":"VLOOKUP($AA273,DATA!$B$3:$E$6,4,0)","v":3.125E-2},0.30208333333333331,0.30208333333333331,{"$f":"DATA!$C$9","v":0.89},{"$f":"DATA!$C$10","v":64},1,407.8125,407.8125,0,"","",0,"","",0,"","","","",null,{"$f":"X268","v":13},{"$f":"Y270+1","v":"2018-03-31"},{"$f":"TEXT(Y273,\"ddd\")","v":"za"},"DD",{"$f":"IFERROR(HLOOKUP(Y273,[1]DATA!$A$1:$NB$5,3,0),\"\")","v":"-"},null,null,null,null,0,"","",""]
["13zaMD",{"$f":"VLOOKUP($AA274,DATA!$B$3:$E$6,2,0)","v":"14:30:00"},{"$f":"VLOOKUP($AA274,DATA!$B$3:$E$6,3,0)","v":"22:30:00"},{"$f":"VLOOKUP($AA274,DATA!$B$3:$E$6,4,0)","v":3.125E-2},0.30208333333333337,0.30208333333333337,{"$f":"DATA!$C$9","v":0.89},{"$f":"DATA!$C$10","v":64},1,407.81250000000006,407.81250000000006,0,"","",0,"","",0,"","","","",null,{"$f":"X268","v":13},null,{"$f":"TEXT(Y273,\"ddd\")","v":"za"},"MD",{"$f":"IFERROR(HLOOKUP(Y273,[1]DATA!$A$1:$NB$5,4,0),\"\")","v":"-"},null,null,null,null,0,"","",""]
["13zaND",{"$f":"VLOOKUP($AA275,DATA!$B$3:$E$6,2,0)","v":"22:30:00"},{"$f":"VLOOKUP($AA275,DATA!$B$3:$E$6,3,0)","v":"06:30:00"},{"$f":"VLOOKUP($AA275,DATA!$B$3:$E$6,4,0)","v":3.125E-2},0.30208333333333326,0.30208333333333326,{"$f":"DATA!$C$9","v":0.89},{"$f":"DATA!$C$10","v":64},1,407.81249999999989,407.81249999999989,0,"","",0,"","",0,"","","","",null,{"$f":"X268","v":13},null,{"$f":"TEXT(Y273,\"ddd\")","v":"za"},"ND",{"$f":"IFERROR(HLOOKUP(Y273,[1]DATA!$A$1:$NB$5,5,0),\"\")","v":"-"},null,null,null,null,0,"","",""]
["13zoDD",{"$f":"VLOOKUP($AA276,DATA!$B$3:$E$6,2,0)","v":"06:30:00"},{"$f":"VLOOKUP($AA276,DATA!$B$3:$E$6,3,0)","v":"14:30:00"},{"$f":"VLOOKUP($AA276,DATA!$B$3:$E$6,4,0)","v":3.125E-2},0.30208333333333331,0.30208333333333331,{"$f":"DATA!$C$9","v":0.89},{"$f":"DATA!$C$10","v":64},1,407.8125,407.8125,0,"","",0,"","",0,"","","","",null,{"$f":"X268","v":13},{"$f":"Y273+1","v":"2018-04-01"},{"$f":"TEXT(Y276,\"ddd\")","v":"zo"},"DD",{"$f":"IFERROR(HLOOKUP(Y276,[1]DATA!$A$1:$NB$5,3,0),\"\")","v":"-"},null,null,null,null,0,"","",""]
["13zoMD",{"$f":"VLOOKUP($AA277,DATA!$B$3:$E$6,2,0)","v":"14:30:00"},{"$f":"VLOOKUP($AA277,DATA!$B$3:$E$6,3,0)","v":"22:30:00"},{"$f":"VLOOKUP($AA277,DATA!$B$3:$E$6,4,0)","v":3.125E-2},0.30208333333333337,0.30208333333333337,{"$f":"DATA!$C$9","v":0.89},{"$f":"DATA!$C$10","v":64},1,407.81250000000006,407.81250000000006,0,"","",0,"","",0,"","","","",null,{"$f":"X268","v":13},null,{"$f":"TEXT(Y276,\"ddd\")","v":"zo"},"MD",{"$f":"IFERROR(HLOOKUP(Y276,[1]DATA!$A$1:$NB$5,4,0),\"\")","v":"-"},null,null,null,null,0,"","",""]
["13zoZND",{"$f":"VLOOKUP($AA278,DATA!$B$3:$E$6,2,0)","v":"00:00:00"},{"$f":"VLOOKUP($AA278,DATA!$B$3:$E$6,3,0)","v":"00:00:00"},{"$f":"VLOOKUP($AA278,DATA!$B$3:$E$6,4,0)","v":3.125E-2},-3.125E-2,-3.125E-2,{"$f":"DATA!$C$9","v":0.89},{"$f":"DATA!$C$10","v":64},1,-42.1875,-42.1875,0,"","",0,"","",0,"","","","",null,{"$f":"X268","v":13},null,{"$f":"TEXT(Y276,\"ddd\")","v":"zo"},"ZND",{"$f":"IFERROR(HLOOKUP(Y276,[1]DATA!$A$1:$NB$5,5,0),\"\")","v":"-"},null,null,null,null,0,"","",""]
["14maDD",{"$f":"VLOOKUP($AA279,DATA!$B$3:$E$6,2,0)","v":"06:30:00"},{"$f":"VLOOKUP($AA279,DATA!$B$3:$E$6,3,0)","v":"14:30:00"},{"$f":"VLOOKUP($AA279,DATA!$B$3:$E$6,4,0)","v":3.125E-2},0.30208333333333331,0.30208333333333331,{"$f":"DATA!$C$9","v":0.89},{"$f":"DATA!$C$10","v":64},1,407.8125,407.8125,0,"","",{"$f":"TIME(INT($AD279/60),INT(MOD($AD279,60)/1),0)","v":0},"","",0,"","","","",null,{"$f":"X289","v":14},{"$f":"Y276+1","v":"2018-04-02"},{"$f":"TEXT(Y279,\"ddd\")","v":"ma"},"DD",{"$f":"IFERROR(HLOOKUP(Y279,[1]DATA!$A$1:$NB$5,3,0),\"\")","v":"D3"},null,null,null,0,0,"","","",3487.5,2506,0.71856630824372758,665.625,0.19086021505376344,0,0,0.95847966949978014,"",0.95039237131152765,0.96656696768803263,315.875,9.0573476702508982E-2,336.93333333333334,121]
["14maMD",{"$f":"VLOOKUP($AA280,DATA!$B$3:$E$6,2,0)","v":"14:30:00"},{"$f":"VLOOKUP($AA280,DATA!$B$3:$E$6,3,0)","v":"22:30:00"},{"$f":"VLOOKUP($AA280,DATA!$B$3:$E$6,4,0)","v":3.125E-2},0.30208333333333337,0.30208333333333337,{"$f":"DATA!$C$9","v":0.89},{"$f":"DATA!$C$10","v":64},1,407.81250000000006,407.81250000000006,0,"","",{"$f":"TIME(INT(AD280/60),INT(MOD(AD280,60)/1),0)","v":0},"","",0,"","","","",null,{"$f":"X289","v":14},null,{"$f":"TEXT(Y279,\"ddd\")","v":"ma"},"MD",{"$f":"IFERROR(HLOOKUP(Y279,[1]DATA!$A$1:$NB$5,4,0),\"\")","v":"D2"},null,null,null,0,0,"","",""]
["14maND",{"$f":"VLOOKUP($AA281,DATA!$B$3:$E$6,2,0)","v":"22:30:00"},{"$f":"VLOOKUP($AA281,DATA!$B$3:$E$6,3,0)","v":"06:30:00"},{"$f":"VLOOKUP($AA281,DATA!$B$3:$E$6,4,0)","v":3.125E-2},0.30208333333333326,0.30208333333333326,{"$f":"DATA!$C$9","v":0.89},{"$f":"DATA!$C$10","v":64},1,407.81249999999989,407.81249999999989,0,"","",0,"","",0,"","","","",null,{"$f":"X289","v":14},null,{"$f":"TEXT(Y279,\"ddd\")","v":"ma"},"ND",{"$f":"IFERROR(HLOOKUP(Y279,[1]DATA!$A$1:$NB$5,5,0),\"\")","v":"D1"},null,null,null,null,0,"","",""]
["14diDD",{"$f":"VLOOKUP($AA282,DATA!$B$3:$E$6,2,0)","v":"06:30:00"},{"$f":"VLOOKUP($AA282,DATA!$B$3:$E$6,3,0)","v":"14:30:00"},{"$f":"VLOOKUP($AA282,DATA!$B$3:$E$6,4,0)","v":3.125E-2},0.30208333333333331,0.27916666666666667,{"$f":"DATA!$C$9","v":0.89},{"$f":"DATA!$C$10","v":64},1,376.875,407.8125,2.2916666666666669E-2,30.937500000000004,7.5862068965517254E-2,0,"","",347.73333333333335,314,"","",314,null,{"$f":"X289","v":14},{"$f":"Y279+1","v":"2018-04-03"},{"$f":"TEXT(Y282,\"ddd\")","v":"di"},"DD",{"$f":"IFERROR(HLOOKUP(Y282,[1]DATA!$A$1:$NB$5,3,0),\"\")","v":"D3"},33,null,12,326,25,-91.000000000000057,0.72028673835125445,0.93292791987122159]
["14diMD",{"$f":"VLOOKUP($AA283,DATA!$B$3:$E$6,2,0)","v":"14:30:00"},{"$f":"VLOOKUP($AA283,DATA!$B$3:$E$6,3,0)","v":"22:30:00"},{"$f":"VLOOKUP($AA283,DATA!$B$3:$E$6,4,0)","v":3.125E-2},0.30208333333333337,0.21875000000000006,{"$f":"DATA!$C$9","v":0.89},{"$f":"DATA!$C$10","v":64},1,295.31250000000006,407.81250000000006,8.3333333333333329E-2,112.5,0.27586206896551718,0,"","",298.66666666666669,266,"",266,"",null,{"$f":"X289","v":14},null,{"$f":"TEXT(Y282,\"ddd\")","v":"di"},"MD",{"$f":"IFERROR(HLOOKUP(Y282,[1]DATA!$A$1:$NB$5,4,0),\"\")","v":"D2"},120,null,14,280,35,-57.4375,0.61017921146953413,0.8951048951048951]
["14diND",{"$f":"VLOOKUP($AA284,DATA!$B$3:$E$6,2,0)","v":"22:30:00"},{"$f":"VLOOKUP($AA284,DATA!$B$3:$E$6,3,0)","v":"06:30:00"},{"$f":"VLOOKUP($AA284,DATA!$B$3:$E$6,4,0)","v":3.125E-2},{"$f":"(C284-B284+(B284>C284))-D284","v":0.30208333333333326},{"$f":"E284-O284-L284","v":0.30208333333333326},{"$f":"DATA!$C$9","v":0.89},{"$f":"DATA!$C$10","v":64},1,{"$f":"F284*86400/H284*I284","v":407.81249999999989},{"$f":"E284*86400/H284","v":407.81249999999989},0,"","",0,"","",{"$f":"AF284*AG$2","v":0},{"$f":"IF(AF284-AE284=0,\"\",AF284-AE284)","v":""},"","","",null,{"$f":"X289","v":14},null,{"$f":"TEXT(Y282,\"ddd\")","v":"di"},"ND",{"$f":"IFERROR(HLOOKUP(Y282,[1]DATA!$A$1:$NB$5,5,0),\"\")","v":"D1"},null,null,null,null,0,"","",""]
["14woDD",{"$f":"VLOOKUP($AA285,DATA!$B$3:$E$6,2,0)","v":"06:30:00"},{"$f":"VLOOKUP($AA285,DATA!$B$3:$E$6,3,0)","v":"14:30:00"},{"$f":"VLOOKUP($AA285,DATA!$B$3:$E$6,4,0)","v":3.125E-2},0.30208333333333331,0.23194444444444443,{"$f":"DATA!$C$9","v":0.89},{"$f":"DATA!$C$10","v":64},1,313.125,407.8125,7.013888888888889E-2,94.6875,0.23218390804597702,0,"","",380.8,338,"","",338,null,{"$f":"X289","v":14},{"$f":"Y282+1","v":"2018-04-04"},{"$f":"TEXT(Y285,\"ddd\")","v":"wo"},"DD",{"$f":"IFERROR(HLOOKUP(Y285,[1]DATA!$A$1:$NB$5,3,0),\"\")","v":"D3"},101,null,19,357,12,-3.25,0.77534050179211467,0.96945010183299385]
["14woMD",{"$f":"VLOOKUP($AA286,DATA!$B$3:$E$6,2,0)","v":"14:30:00"},{"$f":"VLOOKUP($AA286,DATA!$B$3:$E$6,3,0)","v":"22:30:00"},{"$f":"VLOOKUP($AA286,DATA!$B$3:$E$6,4,0)","v":3.125E-2},0.30208333333333337,0.24097222222222225,{"$f":"DATA!$C$9","v":0.89},{"$f":"DATA!$C$10","v":64},1,325.31250000000006,407.81250000000006,6.1111111111111116E-2,82.5,0.20229885057471261,0,"","",375.46666666666664,321,"",321,"",null,{"$f":"X289","v":14},null,{"$f":"TEXT(Y285,\"ddd\")","v":"wo"},"MD",{"$f":"IFERROR(HLOOKUP(Y285,[1]DATA!$A$1:$NB$5,4,0),\"\")","v":"D2"},88,null,31,352,24,-32.437499999999943,0.73634408602150547,0.93991989319092117]
["14woND",{"$f":"VLOOKUP($AA287,DATA!$B$3:$E$6,2,0)","v":"22:30:00"},{"$f":"VLOOKUP($AA287,DATA!$B$3:$E$6,3,0)","v":"06:30:00"},{"$f":"VLOOKUP($AA287,DATA!$B$3:$E$6,4,0)","v":3.125E-2},0.30208333333333326,0.30208333333333326,{"$f":"DATA!$C$9","v":0.89},{"$f":"DATA!$C$10","v":64},1,407.81249999999989,407.81249999999989,0,"","",0,"","",0,"","","","",null,{"$f":"X289","v":14},null,{"$f":"TEXT(Y285,\"ddd\")","v":"wo"},"ND",{"$f":"IFERROR(HLOOKUP(Y285,[1]DATA!$A$1:$NB$5,5,0),\"\")","v":"D1"},null,null,null,null,0,"","",""]
["14doDD",{"$f":"VLOOKUP($AA288,DATA!$B$3:$E$6,2,0)","v":"06:30:00"},{"$f":"VLOOKUP($AA288,DATA!$B$3:$E$6,3,0)","v":"14:30:00"},{"$f":"VLOOKUP($AA288,DATA!$B$3:$E$6,4,0)","v":3.125E-2},0.30208333333333331,0.27430555555555552,{"$f":"DATA!$C$9","v":0.89},{"$f":"DATA!$C$10","v":64},1,370.31249999999994,407.8125,2.7777777777777776E-2,37.5,9.1954022988505746E-2,0,"","",403.2,360,"","",360,null,{"$f":"X289","v":14},{"$f":"Y285+1","v":"2018-04-05"},{"$f":"TEXT(Y288,\"ddd\")","v":"do"},"DD",{"$f":"IFERROR(HLOOKUP(Y288,[1]DATA!$A$1:$NB$5,3,0),\"\")","v":"D3"},40,null,18,378,3,-38.4375,0.82580645161290323,0.99261447562776961]
["14doMD",{"$f":"VLOOKUP($AA289,DATA!$B$3:$E$6,2,0)","v":"14:30:00"},{"$f":"VLOOKUP($AA289,DATA!$B$3:$E$6,3,0)","v":"22:30:00"},{"$f":"VLOOKUP($AA289,DATA!$B$3:$E$6,4,0)","v":3.125E-2},0.30208333333333337,0.21805555555555561,{"$f":"DATA!$C$9","v":0.89},{"$f":"DATA!$C$10","v":64},1,294.37500000000006,407.81250000000006,8.4027777777777771E-2,113.43749999999999,0.27816091954022981,0,"","",365.86666666666667,317,"",317,"",null,{"$f":"WEEKNUM($Y279)","v":14},null,{"$f":"TEXT(Y288,\"ddd\")","v":"do"},"MD",{"$f":"IFERROR(HLOOKUP(Y288,[1]DATA!$A$1:$NB$5,4,0),\"\")","v":"D2"},121,null,26,343,5,-5.5,0.72716845878136205,0.98651806579183898]
["14doND",{"$f":"VLOOKUP($AA290,DATA!$B$3:$E$6,2,0)","v":"22:30:00"},{"$f":"VLOOKUP($AA290,DATA!$B$3:$E$6,3,0)","v":"06:30:00"},{"$f":"VLOOKUP($AA290,DATA!$B$3:$E$6,4,0)","v":3.125E-2},0.30208333333333326,0.30208333333333326,{"$f":"DATA!$C$9","v":0.89},{"$f":"DATA!$C$10","v":64},1,407.81249999999989,407.81249999999989,0,"","",0,"","",0,"","","","",null,{"$f":"X289","v":14},null,{"$f":"TEXT(Y288,\"ddd\")","v":"do"},"ND",{"$f":"IFERROR(HLOOKUP(Y288,[1]DATA!$A$1:$NB$5,5,0),\"\")","v":"D1"},null,null,null,null,0,"","",""]
["14vrDD",{"$f":"VLOOKUP($AA291,DATA!$B$3:$E$6,2,0)","v":"06:30:00"},{"$f":"VLOOKUP($AA291,DATA!$B$3:$E$6,3,0)","v":"14:30:00"},{"$f":"VLOOKUP($AA291,DATA!$B$3:$E$6,4,0)","v":3.125E-2},0.30208333333333331,0.22499999999999998,{"$f":"DATA!$C$9","v":0.89},{"$f":"DATA!$C$10","v":64},1,303.74999999999994,407.8125,7.7083333333333337E-2,104.0625,0.25517241379310346,0,"","",338.13333333333333,297,"","",297,null,{"$f":"X289","v":14},{"$f":"Y288+1","v":"2018-04-06"},{"$f":"TEXT(Y291,\"ddd\")","v":"vr"},"DD",{"$f":"IFERROR(HLOOKUP(Y291,[1]DATA!$A$1:$NB$5,3,0),\"\")","v":"D3"},111,null,20,317,10,-34.875,0.68129032258064515,0.97127537342014558]
["14vrMD",{"$f":"VLOOKUP($AA292,DATA!$B$3:$E$6,2,0)","v":"14:30:00"},{"$f":"VLOOKUP($AA292,DATA!$B$3:$E$6,3,0)","v":"22:30:00"},{"$f":"VLOOKUP($AA292,DATA!$B$3:$E$6,4,0)","v":3.125E-2},0.30208333333333337,0.23541666666666672,{"$f":"DATA!$C$9","v":0.89},{"$f":"DATA!$C$10","v":64},1,317.81250000000006,407.81250000000006,6.6666666666666666E-2,90,0.22068965517241376,0,"","",343.46666666666664,293,"",293,"",null,{"$f":"X289","v":14},null,{"$f":"TEXT(Y291,\"ddd\")","v":"vr"},"MD",{"$f":"IFERROR(HLOOKUP(Y291,[1]DATA!$A$1:$NB$5,4,0),\"\")","v":"D2"},96,null,29,322,7,-52.937499999999943,0.67211469534050183,0.98002663115845534]
["14vrND",{"$f":"VLOOKUP($AA293,DATA!$B$3:$E$6,2,0)","v":"22:30:00"},{"$f":"VLOOKUP($AA293,DATA!$B$3:$E$6,3,0)","v":"06:30:00"},{"$f":"VLOOKUP($AA293,DATA!$B$3:$E$6,4,0)","v":3.125E-2},0.30208333333333326,0.30208333333333326,{"$f":"DATA!$C$9","v":0.89},{"$f":"DATA!$C$10","v":64},1,407.81249999999989,407.81249999999989,0,"","",0,"","",0,"","","","",null,{"$f":"X289","v":14},null,{"$f":"TEXT(Y291,\"ddd\")","v":"vr"},"ND",{"$f":"IFERROR(HLOOKUP(Y291,[1]DATA!$A$1:$NB$5,5,0),\"\")","v":"D2"},null,null,null,null,0,"","",""]
["14zaDD",{"$f":"VLOOKUP($AA294,DATA!$B$3:$E$6,2,0)","v":"06:30:00"},{"$f":"VLOOKUP($AA294,DATA!$B$3:$E$6,3,0)","v":"14:30:00"},{"$f":"VLOOKUP($AA294,DATA!$B$3:$E$6,4,0)","v":3.125E-2},0.30208333333333331,0.30208333333333331,{"$f":"DATA!$C$9","v":0.89},{"$f":"DATA!$C$10","v":64},1,407.8125,407.8125,0,"","",0,"","",0,"","","","",null,{"$f":"X289","v":14},{"$f":"Y291+1","v":"2018-04-07"},{"$f":"TEXT(Y294,\"ddd\")","v":"za"},"DD",{"$f":"IFERROR(HLOOKUP(Y294,[1]DATA!$A$1:$NB$5,3,0),\"\")","v":"D3"},null,null,null,null,0,"","",""]
["14zaMD",{"$f":"VLOOKUP($AA295,DATA!$B$3:$E$6,2,0)","v":"14:30:00"},{"$f":"VLOOKUP($AA295,DATA!$B$3:$E$6,3,0)","v":"22:30:00"},{"$f":"VLOOKUP($AA295,DATA!$B$3:$E$6,4,0)","v":3.125E-2},0.30208333333333337,0.30208333333333337,{"$f":"DATA!$C$9","v":0.89},{"$f":"DATA!$C$10","v":64},1,407.81250000000006,407.81250000000006,0,"","",0,"","",0,"","","","",null,{"$f":"X289","v":14},null,{"$f":"TEXT(Y294,\"ddd\")","v":"za"},"MD",{"$f":"IFERROR(HLOOKUP(Y294,[1]DATA!$A$1:$NB$5,4,0),\"\")","v":"-"},null,null,null,null,0,"","",""]
["14zaND",{"$f":"VLOOKUP($AA296,DATA!$B$3:$E$6,2,0)","v":"22:30:00"},{"$f":"VLOOKUP($AA296,DATA!$B$3:$E$6,3,0)","v":"06:30:00"},{"$f":"VLOOKUP($AA296,DATA!$B$3:$E$6,4,0)","v":3.125E-2},0.30208333333333326,0.30208333333333326,{"$f":"DATA!$C$9","v":0.89},{"$f":"DATA!$C$10","v":64},1,407.81249999999989,407.81249999999989,0,"","",0,"","",0,"","","","",null,{"$f":"X289","v":14},null,{"$f":"TEXT(Y294,\"ddd\")","v":"za"},"ND",{"$f":"IFERROR(HLOOKUP(Y294,[1]DATA!$A$1:$NB$5,5,0),\"\")","v":"-"},null,null,null,null,0,"","",""]
["14zoDD",{"$f":"VLOOKUP($AA297,DATA!$B$3:$E$6,2,0)","v":"06:30:00"},{"$f":"VLOOKUP($AA297,DATA!$B$3:$E$6,3,0)","v":"14:30:00"},{"$f":"VLOOKUP($AA297,DATA!$B$3:$E$6,4,0)","v":3.125E-2},0.30208333333333331,0.30208333333333331,{"$f":"DATA!$C$9","v":0.89},{"$f":"DATA!$C$10","v":64},1,407.8125,407.8125,0,"","",0,"","",0,"","","","",null,{"$f":"X289","v":14},{"$f":"Y294+1","v":"2018-04-08"},{"$f":"TEXT(Y297,\"ddd\")","v":"zo"},"DD",{"$f":"IFERROR(HLOOKUP(Y297,[1]DATA!$A$1:$NB$5,3,0),\"\")","v":"-"},null,null,null,null,0,"","",""]
["14zoMD",{"$f":"VLOOKUP($AA298,DATA!$B$3:$E$6,2,0)","v":"14:30:00"},{"$f":"VLOOKUP($AA298,DATA!$B$3:$E$6,3,0)","v":"22:30:00"},{"$f":"VLOOKUP($AA298,DATA!$B$3:$E$6,4,0)","v":3.125E-2},0.30208333333333337,0.30208333333333337,{"$f":"DATA!$C$9","v":0.89},{"$f":"DATA!$C$10","v":64},1,407.81250000000006,407.81250000000006,0,"","",0,"","",0,"","","","",null,{"$f":"X289","v":14},null,{"$f":"TEXT(Y297,\"ddd\")","v":"zo"},"MD",{"$f":"IFERROR(HLOOKUP(Y297,[1]DATA!$A$1:$NB$5,4,0),\"\")","v":"-"},null,null,null,null,0,"","",""]
["14zoZND",{"$f":"VLOOKUP($AA299,DATA!$B$3:$E$6,2,0)","v":"00:00:00"},{"$f":"VLOOKUP($AA299,DATA!$B$3:$E$6,3,0)","v":"00:00:00"},{"$f":"VLOOKUP($AA299,DATA!$B$3:$E$6,4,0)","v":3.125E-2},-3.125E-2,-3.125E-2,{"$f":"DATA!$C$9","v":0.89},{"$f":"DATA!$C$10","v":64},1,-42.1875,-42.1875,0,"","",0,"","",0,"","","","",null,{"$f":"X289","v":14},null,{"$f":"TEXT(Y297,\"ddd\")","v":"zo"},"ZND",{"$f":"IFERROR(HLOOKUP(Y297,[1]DATA!$A$1:$NB$5,5,0),\"\")","v":"-"},null,null,null,null,0,"","",""]
["15maDD",{"$f":"VLOOKUP($AA300,DATA!$B$3:$E$6,2,0)","v":"06:30:00"},{"$f":"VLOOKUP($AA300,DATA!$B$3:$E$6,3,0)","v":"14:30:00"},{"$f":"VLOOKUP($AA300,DATA!$B$3:$E$6,4,0)","v":3.125E-2},0.30208333333333331,0.22083333333333333,{"$f":"DATA!$C$9","v":0.89},{"$f":"DATA!$C$10","v":64},1,298.125,407.8125,8.1250000000000003E-2,109.6875,0.26896551724137929,{"$f":"TIME(INT($AD300/60),INT(MOD($AD300,60)/1),0)","v":0},"","",294.39999999999998,259,"",259,"",null,{"$f":"X310","v":15},{"$f":"Y297+1","v":"2018-04-09"},{"$f":"TEXT(Y300,\"ddd\")","v":"ma"},"DD",{"$f":"IFERROR(HLOOKUP(Y300,[1]DATA!$A$1:$NB$5,3,0),\"\")","v":"D2"},117,null,17,276,{"$f":"VLOOKUP(Y300,[1]SRI!$S$4:$Z$368,6,0)","v":11},{"$f":"IFERROR(S300-J300,\"\")","v":-39.125},{"$f":"IFERROR(IF(S300/(E300*86400/H300)<=0,\"\",S300/(E300*86400/H300)),\"\")","v":0.63509578544061307},{"$f":"IFERROR(R300/(R300+AG300),\"\")","v":0.96398166339227243},{"$f":"IF(SUMIF(S300:S320,\">0\",K300:K320)=0,\"\",SUMIF(S300:S320,\">0\",K300:K320))","v":4078.125},{"$f":"IF(SUM(S300:S320)=0,\"\",SUM(S300:S320))","v":2943},{"$f":"IFERROR(AL300/AK300,\"-\")","v":0.72165517241379307},{"$f":"IF(SUM(M300:M320)=0,\"0\",SUM(M300:M320))","v":1000.3125},{"$f":"IFERROR(AN300/AK300,\"-\")","v":0.24528735632183907},{"$f":"IF(SUM(P300:P320)=0,0,SUM(P300:P320))","v":0},{"$f":"IFERROR(AP300/AK300,\"-\")","v":0},{"$f":"IFERROR(AVERAGE(AJ300:AJ320),\"-\")","v":0.97008753518220148},{"$f":"IFERROR(SUMIF($AB300:$AB320,AS$5,$AJ300:$AJ320)/COUNTIFS($AB300:$AB320,AS$5,$AJ300:$AJ320,\">0\"),\"\")","v":0.96349967448058127},0.97667539588382191,"",{"$f":"IFERROR((AK300-AL300-AN300-AP300),\"-\")","v":134.8125},{"$f":"IFERROR((1-AM300-AO300-AQ300), \"-\")","v":3.3057471264367866E-2},{"$f":"IFERROR((AV300*$AE$2)/60,\"-\")","v":143.80000000000001},{"$f":"IFERROR(SUM(AG300:AG320),\"\")","v":104}]
["15maMD",{"$f":"VLOOKUP($AA301,DATA!$B$3:$E$6,2,0)","v":"14:30:00"},{"$f":"VLOOKUP($AA301,DATA!$B$3:$E$6,3,0)","v":"22:30:00"},{"$f":"VLOOKUP($AA301,DATA!$B$3:$E$6,4,0)","v":3.125E-2},0.30208333333333337,0.18541666666666673,{"$f":"DATA!$C$9","v":0.89},{"$f":"DATA!$C$10","v":64},1,250.31250000000009,407.81250000000006,0.11666666666666665,157.49999999999997,0.38620689655172402,{"$f":"TIME(INT(AD301/60),INT(MOD(AD301,60)/1),0)","v":0},"","",294.39999999999998,255,255,"","",null,{"$f":"X310","v":15},null,{"$f":"TEXT(Y300,\"ddd\")","v":"ma"},"MD",{"$f":"IFERROR(HLOOKUP(Y300,[1]DATA!$A$1:$NB$5,4,0),\"\")","v":"D1"},168,null,21,276,{"$f":"VLOOKUP(Y300,[1]SRI!$S$4:$Z$368,7,0)","v":14},4.6874999999999147,0.62528735632183896,0.9546044098573282]
["15maND",{"$f":"VLOOKUP($AA302,DATA!$B$3:$E$6,2,0)","v":"22:30:00"},{"$f":"VLOOKUP($AA302,DATA!$B$3:$E$6,3,0)","v":"06:30:00"},{"$f":"VLOOKUP($AA302,DATA!$B$3:$E$6,4,0)","v":3.125E-2},0.30208333333333326,0.30208333333333326,{"$f":"DATA!$C$9","v":0.89},{"$f":"DATA!$C$10","v":64},1,407.81249999999989,407.81249999999989,0,"","",0,"","",0,"","","","",null,{"$f":"X310","v":15},null,{"$f":"TEXT(Y300,\"ddd\")","v":"ma"},"ND",{"$f":"IFERROR(HLOOKUP(Y300,[1]DATA!$A$1:$NB$5,5,0),\"\")","v":"D3"},null,null,null,null,{"$f":"VLOOKUP(Y300,[1]SRI!$S$4:$Z$368,8,0)","v":0},"","",""]
["15diDD",{"$f":"VLOOKUP($AA303,DATA!$B$3:$E$6,2,0)","v":"06:30:00"},{"$f":"VLOOKUP($AA303,DATA!$B$3:$E$6,3,0)","v":"14:30:00"},{"$f":"VLOOKUP($AA303,DATA!$B$3:$E$6,4,0)","v":3.125E-2},0.30208333333333331,0.27291666666666664,{"$f":"DATA!$C$9","v":0.89},{"$f":"DATA!$C$10","v":64},1,368.43749999999994,407.8125,2.9166666666666664E-2,39.374999999999993,9.6551724137931019E-2,0,"","",357.33333333333331,319,"",319,"",null,{"$f":"X310","v":15},{"$f":"Y300+1","v":"2018-04-10"},{"$f":"TEXT(Y303,\"ddd\")","v":"di"},"DD",{"$f":"IFERROR(HLOOKUP(Y303,[1]DATA!$A$1:$NB$5,3,0),\"\")","v":"D2"},42,null,16,335,{"$f":"VLOOKUP(Y303,[1]SRI!$S$4:$Z$368,6,0)","v":22},-49.437499999999943,0.78222222222222226,0.94200351493848855]
[{"$f":"X304&Z304&AA304","v":"15diMD"},{"$f":"VLOOKUP($AA304,DATA!$B$3:$E$6,2,0)","v":"14:30:00"},{"$f":"VLOOKUP($AA304,DATA!$B$3:$E$6,3,0)","v":"22:30:00"},{"$f":"VLOOKUP($AA304,DATA!$B$3:$E$6,4,0)","v":3.125E-2},0.30208333333333337,0.23472222222222228,{"$f":"DATA!$C$9","v":0.89},{"$f":"DATA!$C$10","v":64},1,316.87500000000006,407.81250000000006,6.7361111111111108E-2,90.9375,0.22298850574712639,0,{"$f":"IF($O304*86400/$H304=0,\"\",$O304*86400/$H304)","v":""},"",331.73333333333335,295,295,"","",null,{"$f":"X310","v":15},null,{"$f":"TEXT(Y303,\"ddd\")","v":"di"},"MD",{"$f":"IFERROR(HLOOKUP(Y303,[1]DATA!$A$1:$NB$5,4,0),\"\")","v":"D1"},97,null,16,311,{"$f":"VLOOKUP(Y303,[1]SRI!$S$4:$Z$368,7,0)","v":28},-21.875000000000057,0.7233716475095785,0.92216456634544108]
["15diND",{"$f":"VLOOKUP($AA305,DATA!$B$3:$E$6,2,0)","v":"22:30:00"},{"$f":"VLOOKUP($AA305,DATA!$B$3:$E$6,3,0)","v":"06:30:00"},{"$f":"VLOOKUP($AA305,DATA!$B$3:$E$6,4,0)","v":3.125E-2},0.30208333333333326,0.30208333333333326,{"$f":"DATA!$C$9","v":0.89},{"$f":"DATA!$C$10","v":64},1,407.81249999999989,407.81249999999989,0,"","",0,"","",0,"","","","",null,{"$f":"X310","v":15},null,{"$f":"TEXT(Y303,\"ddd\")","v":"di"},"ND",{"$f":"IFERROR(HLOOKUP(Y303,[1]DATA!$A$1:$NB$5,5,0),\"\")","v":"D3"},null,null,null,null,{"$f":"VLOOKUP(Y303,[1]SRI!$S$4:$Z$368,8,0)","v":0},"","",""]
["15woDD",{"$f":"VLOOKUP($AA306,DATA!$B$3:$E$6,2,0)","v":"06:30:00"},{"$f":"VLOOKUP($AA306,DATA!$B$3:$E$6,3,0)","v":"14:30:00"},{"$f":"VLOOKUP($AA306,DATA!$B$3:$E$6,4,0)","v":3.125E-2},0.30208333333333331,0.20208333333333334,{"$f":"DATA!$C$9","v":0.89},{"$f":"DATA!$C$10","v":64},1,272.8125,407.8125,9.9999999999999992E-2,135,0.33103448275862069,0,"","",291.2,257,"",257,"",null,{"$f":"X310","v":15},{"$f":"Y303+1","v":"2018-04-11"},{"$f":"TEXT(Y306,\"ddd\")","v":"wo"},"DD",{"$f":"IFERROR(HLOOKUP(Y306,[1]DATA!$A$1:$NB$5,3,0),\"\")","v":"D2"},144,null,16,273,{"$f":"VLOOKUP(Y306,[1]SRI!$S$4:$Z$368,6,0)","v":3},-15.8125,0.63019157088122602,0.9898028552005439]
["15woMD",{"$f":"VLOOKUP($AA307,DATA!$B$3:$E$6,2,0)","v":"14:30:00"},{"$f":"VLOOKUP($AA307,DATA!$B$3:$E$6,3,0)","v":"22:30:00"},{"$f":"VLOOKUP($AA307,DATA!$B$3:$E$6,4,0)","v":3.125E-2},0.30208333333333337,0.21805555555555561,{"$f":"DATA!$C$9","v":0.89},{"$f":"DATA!$C$10","v":64},1,294.37500000000006,407.81250000000006,8.4027777777777771E-2,113.43749999999999,0.27816091954022981,0,"","",341.33333333333331,307,307,"","",null,{"$f":"X310","v":15},null,{"$f":"TEXT(Y306,\"ddd\")","v":"wo"},"MD",{"$f":"IFERROR(HLOOKUP(Y306,[1]DATA!$A$1:$NB$5,4,0),\"\")","v":"D1"},121,null,13,320,{"$f":"VLOOKUP(Y306,[1]SRI!$S$4:$Z$368,7,0)","v":6},12.624999999999943,0.75279693486590027,0.98272552783109401]
["15woND",{"$f":"VLOOKUP($AA308,DATA!$B$3:$E$6,2,0)","v":"22:30:00"},{"$f":"VLOOKUP($AA308,DATA!$B$3:$E$6,3,0)","v":"06:30:00"},{"$f":"VLOOKUP($AA308,DATA!$B$3:$E$6,4,0)","v":3.125E-2},0.30208333333333326,0.30208333333333326,{"$f":"DATA!$C$9","v":0.89},{"$f":"DATA!$C$10","v":64},1,407.81249999999989,407.81249999999989,0,"","",0,"","",0,"","","","",null,{"$f":"X310","v":15},null,{"$f":"TEXT(Y306,\"ddd\")","v":"wo"},"ND",{"$f":"IFERROR(HLOOKUP(Y306,[1]DATA!$A$1:$NB$5,5,0),\"\")","v":"D3"},null,null,null,null,{"$f":"VLOOKUP(Y306,[1]SRI!$S$4:$Z$368,8,0)","v":0},"","",""]
["15doDD",{"$f":"VLOOKUP($AA309,DATA!$B$3:$E$6,2,0)","v":"06:30:00"},{"$f":"VLOOKUP($AA309,DATA!$B$3:$E$6,3,0)","v":"14:30:00"},{"$f":"VLOOKUP($AA309,DATA!$B$3:$E$6,4,0)","v":3.125E-2},0.30208333333333331,0.28194444444444444,{"$f":"DATA!$C$9","v":0.89},{"$f":"DATA!$C$10","v":64},1,380.625,407.8125,2.013888888888889E-2,27.1875,6.6666666666666666E-2,0,"","",397.86666666666667,350,"",350,"",null,{"$f":"X310","v":15},{"$f":"Y306+1","v":"2018-04-12"},{"$f":"TEXT(Y309,\"ddd\")","v":"do"},"DD",{"$f":"IFERROR(HLOOKUP(Y309,[1]DATA!$A$1:$NB$5,3,0),\"\")","v":"D2"},29,null,23,373,{"$f":"VLOOKUP(Y309,[1]SRI!$S$4:$Z$368,6,0)","v":5},-30.625,0.85823754789272033,0.9875889458878041]
["15doMD",{"$f":"VLOOKUP($AA310,DATA!$B$3:$E$6,2,0)","v":"14:30:00"},{"$f":"VLOOKUP($AA310,DATA!$B$3:$E$6,3,0)","v":"22:30:00"},{"$f":"VLOOKUP($AA310,DATA!$B$3:$E$6,4,0)","v":3.125E-2},0.30208333333333337,0.22708333333333336,{"$f":"DATA!$C$9","v":0.89},{"$f":"DATA!$C$10","v":64},1,306.56250000000006,407.81250000000006,7.4999999999999997E-2,101.25,0.24827586206896549,0,"","",349.86666666666667,304,304,"","",null,{"$f":"WEEKNUM($Y300)","v":15},null,{"$f":"TEXT(Y309,\"ddd\")","v":"do"},"MD",{"$f":"IFERROR(HLOOKUP(Y309,[1]DATA!$A$1:$NB$5,4,0),\"\")","v":"D1"},108,null,24,328,{"$f":"VLOOKUP(Y309,[1]SRI!$S$4:$Z$368,7,0)","v":13},-2.5625000000000568,0.74544061302681985,0.96417416865699068]
["15doND",{"$f":"VLOOKUP($AA311,DATA!$B$3:$E$6,2,0)","v":"22:30:00"},{"$f":"VLOOKUP($AA311,DATA!$B$3:$E$6,3,0)","v":"06:30:00"},{"$f":"VLOOKUP($AA311,DATA!$B$3:$E$6,4,0)","v":3.125E-2},0.30208333333333326,0.30208333333333326,{"$f":"DATA!$C$9","v":0.89},{"$f":"DATA!$C$10","v":64},1,407.81249999999989,407.81249999999989,0,"","",0,"","",0,"","","","",null,{"$f":"X310","v":15},null,{"$f":"TEXT(Y309,\"ddd\")","v":"do"},"ND",{"$f":"IFERROR(HLOOKUP(Y309,[1]DATA!$A$1:$NB$5,5,0),\"\")","v":"D3"},null,null,null,null,{"$f":"VLOOKUP(Y309,[1]SRI!$S$4:$Z$368,8,0)","v":0},"","",""]
["15vrDD",{"$f":"VLOOKUP($AA312,DATA!$B$3:$E$6,2,0)","v":"06:30:00"},{"$f":"VLOOKUP($AA312,DATA!$B$3:$E$6,3,0)","v":"14:30:00"},{"$f":"VLOOKUP($AA312,DATA!$B$3:$E$6,4,0)","v":3.125E-2},0.30208333333333331,0.24583333333333332,{"$f":"DATA!$C$9","v":0.89},{"$f":"DATA!$C$10","v":64},1,331.875,407.8125,5.6250000000000001E-2,75.9375,0.18620689655172415,0,"","",358.4,318,"",318,"",null,{"$f":"X310","v":15},{"$f":"Y309+1","v":"2018-04-13"},{"$f":"TEXT(Y312,\"ddd\")","v":"vr"},"DD",{"$f":"IFERROR(HLOOKUP(Y312,[1]DATA!$A$1:$NB$5,3,0),\"\")","v":"D2"},81,null,18,336,{"$f":"VLOOKUP(Y312,[1]SRI!$S$4:$Z$368,6,0)","v":0},-13.875,0.77977011494252868,1]
["15vrMD",{"$f":"VLOOKUP($AA313,DATA!$B$3:$E$6,2,0)","v":"14:30:00"},{"$f":"VLOOKUP($AA313,DATA!$B$3:$E$6,3,0)","v":"22:30:00"},{"$f":"VLOOKUP($AA313,DATA!$B$3:$E$6,4,0)","v":3.125E-2},0.30208333333333337,0.19097222222222227,{"$f":"DATA!$C$9","v":0.89},{"$f":"DATA!$C$10","v":64},1,257.81250000000006,407.81250000000006,0.1111111111111111,150,0.36781609195402293,0,"","",322.13333333333333,279,279,"","",null,{"$f":"X310","v":15},null,{"$f":"TEXT(Y312,\"ddd\")","v":"vr"},"MD",{"$f":"IFERROR(HLOOKUP(Y312,[1]DATA!$A$1:$NB$5,4,0),\"\")","v":"D1"},160,null,23,302,{"$f":"VLOOKUP(Y312,[1]SRI!$S$4:$Z$368,7,0)","v":2},21.187499999999943,0.68413793103448262,0.99382969971205271]
["15vrND",{"$f":"VLOOKUP($AA314,DATA!$B$3:$E$6,2,0)","v":"22:30:00"},{"$f":"VLOOKUP($AA314,DATA!$B$3:$E$6,3,0)","v":"06:30:00"},{"$f":"VLOOKUP($AA314,DATA!$B$3:$E$6,4,0)","v":3.125E-2},0.30208333333333326,0.30208333333333326,{"$f":"DATA!$C$9","v":0.89},{"$f":"DATA!$C$10","v":64},1,407.81249999999989,407.81249999999989,0,"","",0,"","",0,"","","","",null,{"$f":"X310","v":15},null,{"$f":"TEXT(Y312,\"ddd\")","v":"vr"},"ND",{"$f":"IFERROR(HLOOKUP(Y312,[1]DATA!$A$1:$NB$5,5,0),\"\")","v":"D3"},null,null,null,null,{"$f":"VLOOKUP(Y312,[1]SRI!$S$4:$Z$368,8,0)","v":0},"","",""]
["15zaDD",{"$f":"VLOOKUP($AA315,DATA!$B$3:$E$6,2,0)","v":"06:30:00"},{"$f":"VLOOKUP($AA315,DATA!$B$3:$E$6,3,0)","v":"14:30:00"},{"$f":"VLOOKUP($AA315,DATA!$B$3:$E$6,4,0)","v":3.125E-2},0.30208333333333331,0.30208333333333331,{"$f":"DATA!$C$9","v":0.89},{"$f":"DATA!$C$10","v":64},1,407.8125,407.8125,0,"","",0,"","",0,"","","","",null,{"$f":"X310","v":15},{"$f":"Y312+1","v":"2018-04-14"},{"$f":"TEXT(Y315,\"ddd\")","v":"za"},"DD",{"$f":"IFERROR(HLOOKUP(Y315,[1]DATA!$A$1:$NB$5,3,0),\"\")","v":"D2"},null,null,null,null,{"$f":"VLOOKUP(Y315,[1]SRI!$S$4:$Z$368,6,0)","v":0},"","",""]
["15zaMD",{"$f":"VLOOKUP($AA316,DATA!$B$3:$E$6,2,0)","v":"14:30:00"},{"$f":"VLOOKUP($AA316,DATA!$B$3:$E$6,3,0)","v":"22:30:00"},{"$f":"VLOOKUP($AA316,DATA!$B$3:$E$6,4,0)","v":3.125E-2},0.30208333333333337,0.30208333333333337,{"$f":"DATA!$C$9","v":0.89},{"$f":"DATA!$C$10","v":64},1,407.81250000000006,407.81250000000006,0,"","",0,"","",0,"","","","",null,{"$f":"X310","v":15},null,{"$f":"TEXT(Y315,\"ddd\")","v":"za"},"MD",{"$f":"IFERROR(HLOOKUP(Y315,[1]DATA!$A$1:$NB$5,4,0),\"\")","v":"-"},null,null,null,null,{"$f":"VLOOKUP(Y315,[1]SRI!$S$4:$Z$368,7,0)","v":0},"","",""]
["15zaND",{"$f":"VLOOKUP($AA317,DATA!$B$3:$E$6,2,0)","v":"22:30:00"},{"$f":"VLOOKUP($AA317,DATA!$B$3:$E$6,3,0)","v":"06:30:00"},{"$f":"VLOOKUP($AA317,DATA!$B$3:$E$6,4,0)","v":3.125E-2},0.30208333333333326,0.30208333333333326,{"$f":"DATA!$C$9","v":0.89},{"$f":"DATA!$C$10","v":64},1,407.81249999999989,407.81249999999989,0,"","",0,"","",0,"","","","",null,{"$f":"X310","v":15},null,{"$f":"TEXT(Y315,\"ddd\")","v":"za"},"ND",{"$f":"IFERROR(HLOOKUP(Y315,[1]DATA!$A$1:$NB$5,5,0),\"\")","v":"-"},null,null,null,null,{"$f":"VLOOKUP(Y315,[1]SRI!$S$4:$Z$368,8,0)","v":0},"","",""]
["15zoDD",{"$f":"VLOOKUP($AA318,DATA!$B$3:$E$6,2,0)","v":"06:30:00"},{"$f":"VLOOKUP($AA318,DATA!$B$3:$E$6,3,0)","v":"14:30:00"},{"$f":"VLOOKUP($AA318,DATA!$B$3:$E$6,4,0)","v":3.125E-2},0.30208333333333331,0.30208333333333331,{"$f":"DATA!$C$9","v":0.89},{"$f":"DATA!$C$10","v":64},1,407.8125,407.8125,0,"","",0,"","",0,"","","","",null,{"$f":"X310","v":15},{"$f":"Y315+1","v":"2018-04-15"},{"$f":"TEXT(Y318,\"ddd\")","v":"zo"},"DD",{"$f":"IFERROR(HLOOKUP(Y318,[1]DATA!$A$1:$NB$5,3,0),\"\")","v":"-"},null,null,null,null,{"$f":"VLOOKUP(Y318,[1]SRI!$S$4:$Z$368,6,0)","v":0},"","",""]
["15zoMD",{"$f":"VLOOKUP($AA319,DATA!$B$3:$E$6,2,0)","v":"14:30:00"},{"$f":"VLOOKUP($AA319,DATA!$B$3:$E$6,3,0)","v":"22:30:00"},{"$f":"VLOOKUP($AA319,DATA!$B$3:$E$6,4,0)","v":3.125E-2},0.30208333333333337,0.30208333333333337,{"$f":"DATA!$C$9","v":0.89},{"$f":"DATA!$C$10","v":64},1,407.81250000000006,407.81250000000006,0,"","",0,"","",0,"","","","",null,{"$f":"X310","v":15},null,{"$f":"TEXT(Y318,\"ddd\")","v":"zo"},"MD",{"$f":"IFERROR(HLOOKUP(Y318,[1]DATA!$A$1:$NB$5,4,0),\"\")","v":"-"},null,null,null,null,{"$f":"VLOOKUP(Y318,[1]SRI!$S$4:$Z$368,7,0)","v":0},"","",""]
["15zoZND",{"$f":"VLOOKUP($AA320,DATA!$B$3:$E$6,2,0)","v":"00:00:00"},{"$f":"VLOOKUP($AA320,DATA!$B$3:$E$6,3,0)","v":"00:00:00"},{"$f":"VLOOKUP($AA320,DATA!$B$3:$E$6,4,0)","v":3.125E-2},-3.125E-2,-3.125E-2,{"$f":"DATA!$C$9","v":0.89},{"$f":"DATA!$C$10","v":64},1,-42.1875,-42.1875,0,"","",0,"","",0,"","","","",null,{"$f":"X310","v":15},null,{"$f":"TEXT(Y318,\"ddd\")","v":"zo"},"ZND",{"$f":"IFERROR(HLOOKUP(Y318,[1]DATA!$A$1:$NB$5,5,0),\"\")","v":"-"},null,null,null,null,{"$f":"VLOOKUP(Y318,[1]SRI!$S$4:$Z$368,8,0)","v":0},"","",""]
["16maDD",{"$f":"VLOOKUP($AA321,DATA!$B$3:$E$6,2,0)","v":"06:30:00"},{"$f":"VLOOKUP($AA321,DATA!$B$3:$E$6,3,0)","v":"14:30:00"},{"$f":"VLOOKUP($AA321,DATA!$B$3:$E$6,4,0)","v":3.125E-2},0.30208333333333331,0.30208333333333331,{"$f":"DATA!$C$9","v":0.89},{"$f":"DATA!$C$10","v":64},1,407.8125,407.8125,0,"","",{"$f":"TIME(INT($AD321/60),INT(MOD($AD321,60)/1),0)","v":0},"","",0,"","","","",null,{"$f":"X331","v":16},{"$f":"Y318+1","v":"2018-04-16"},{"$f":"TEXT(Y321,\"ddd\")","v":"ma"},"DD",{"$f":"IFERROR(HLOOKUP(Y321,[1]DATA!$A$1:$NB$5,3,0),\"\")","v":"D1"},null,null,null,null,{"$f":"VLOOKUP(Y321,[1]SRI!$S$4:$Z$368,6,0)","v":16},"","",0,{"$f":"IF(SUMIF(S321:S341,\">0\",K321:K341)=0,\"\",SUMIF(S321:S341,\">0\",K321:K341))","v":""},{"$f":"IF(SUM(S321:S341)=0,\"\",SUM(S321:S341))","v":""},{"$f":"IFERROR(AL321/AK321,\"-\")","v":"-"},{"$f":"IF(SUM(M321:M341)=0,\"0\",SUM(M321:M341))","v":"0"},{"$f":"IFERROR(AN321/AK321,\"-\")","v":"-"},{"$f":"IF(SUM(P321:P341)=0,0,SUM(P321:P341))","v":0},{"$f":"IFERROR(AP321/AK321,\"-\")","v":"-"},0,{"$f":"IFERROR(SUMIF($AB321:$AB341,AS$5,$AJ321:$AJ341)/COUNTIFS($AB321:$AB341,AS$5,$AJ321:$AJ341,\">0\"),\"\")","v":""},"","",{"$f":"IFERROR((AK321-AL321-AN321-AP321),\"-\")","v":"-"},{"$f":"IFERROR((1-AM321-AO321-AQ321), \"-\")","v":"-"},{"$f":"IFERROR((AV321*$AE$2)/60,\"-\")","v":"-"},{"$f":"IFERROR(SUM(AG321:AG341),\"\")","v":143}]
["16maMD",{"$f":"VLOOKUP($AA322,DATA!$B$3:$E$6,2,0)","v":"14:30:00"},{"$f":"VLOOKUP($AA322,DATA!$B$3:$E$6,3,0)","v":"22:30:00"},{"$f":"VLOOKUP($AA322,DATA!$B$3:$E$6,4,0)","v":3.125E-2},0.30208333333333337,0.30208333333333337,{"$f":"DATA!$C$9","v":0.89},{"$f":"DATA!$C$10","v":64},1,407.81250000000006,407.81250000000006,0,"","",{"$f":"TIME(INT(AD322/60),INT(MOD(AD322,60)/1),0)","v":0},"","",0,"","","","",null,{"$f":"X331","v":16},null,{"$f":"TEXT(Y321,\"ddd\")","v":"ma"},"MD",{"$f":"IFERROR(HLOOKUP(Y321,[1]DATA!$A$1:$NB$5,4,0),\"\")","v":"D3"},null,null,null,null,{"$f":"VLOOKUP(Y321,[1]SRI!$S$4:$Z$368,7,0)","v":19},"","",0]
["16maND",{"$f":"VLOOKUP($AA323,DATA!$B$3:$E$6,2,0)","v":"22:30:00"},{"$f":"VLOOKUP($AA323,DATA!$B$3:$E$6,3,0)","v":"06:30:00"},{"$f":"VLOOKUP($AA323,DATA!$B$3:$E$6,4,0)","v":3.125E-2},0.30208333333333326,0.30208333333333326,{"$f":"DATA!$C$9","v":0.89},{"$f":"DATA!$C$10","v":64},1,407.81249999999989,407.81249999999989,0,"","",0,"","",0,"","","","",null,{"$f":"X331","v":16},null,{"$f":"TEXT(Y321,\"ddd\")","v":"ma"},"ND",{"$f":"IFERROR(HLOOKUP(Y321,[1]DATA!$A$1:$NB$5,5,0),\"\")","v":"D2"},null,null,null,null,{"$f":"VLOOKUP(Y321,[1]SRI!$S$4:$Z$368,8,0)","v":3},"","",0]
["16diDD",{"$f":"VLOOKUP($AA324,DATA!$B$3:$E$6,2,0)","v":"06:30:00"},{"$f":"VLOOKUP($AA324,DATA!$B$3:$E$6,3,0)","v":"14:30:00"},{"$f":"VLOOKUP($AA324,DATA!$B$3:$E$6,4,0)","v":3.125E-2},0.30208333333333331,0.30208333333333331,{"$f":"DATA!$C$9","v":0.89},{"$f":"DATA!$C$10","v":64},1,407.8125,407.8125,0,"","",0,"","",0,"","","","",null,{"$f":"X331","v":16},{"$f":"Y321+1","v":"2018-04-17"},{"$f":"TEXT(Y324,\"ddd\")","v":"di"},"DD",{"$f":"IFERROR(HLOOKUP(Y324,[1]DATA!$A$1:$NB$5,3,0),\"\")","v":"D1"},null,null,null,null,{"$f":"VLOOKUP(Y324,[1]SRI!$S$4:$Z$368,6,0)","v":7},"","",0]
["16diMD",{"$f":"VLOOKUP($AA325,DATA!$B$3:$E$6,2,0)","v":"14:30:00"},{"$f":"VLOOKUP($AA325,DATA!$B$3:$E$6,3,0)","v":"22:30:00"},{"$f":"VLOOKUP($AA325,DATA!$B$3:$E$6,4,0)","v":3.125E-2},0.30208333333333337,0.30208333333333337,{"$f":"DATA!$C$9","v":0.89},{"$f":"DATA!$C$10","v":64},1,407.81250000000006,407.81250000000006,0,"","",0,"","",0,"","","","",null,{"$f":"X331","v":16},null,{"$f":"TEXT(Y324,\"ddd\")","v":"di"},"MD",{"$f":"IFERROR(HLOOKUP(Y324,[1]DATA!$A$1:$NB$5,4,0),\"\")","v":"D3"},null,null,null,null,{"$f":"VLOOKUP(Y324,[1]SRI!$S$4:$Z$368,7,0)","v":12},"","",0]
["16diND",{"$f":"VLOOKUP($AA326,DATA!$B$3:$E$6,2,0)","v":"22:30:00"},{"$f":"VLOOKUP($AA326,DATA!$B$3:$E$6,3,0)","v":"06:30:00"},{"$f":"VLOOKUP($AA326,DATA!$B$3:$E$6,4,0)","v":3.125E-2},0.30208333333333326,0.30208333333333326,{"$f":"DATA!$C$9","v":0.89},{"$f":"DATA!$C$10","v":64},1,407.81249999999989,407.81249999999989,0,"","",0,"","",0,"","","","",null,{"$f":"X331","v":16},null,{"$f":"TEXT(Y324,\"ddd\")","v":"di"},"ND",{"$f":"IFERROR(HLOOKUP(Y324,[1]DATA!$A$1:$NB$5,5,0),\"\")","v":"D2"},null,null,null,null,{"$f":"VLOOKUP(Y324,[1]SRI!$S$4:$Z$368,8,0)","v":3},{"$f":"IFERROR(S326-J326,\"\")","v":""},{"$f":"IFERROR(IF(S326/(E326*86400/H326)<=0,\"\",S326/(E326*86400/H326)),\"\")","v":""},0]
["16woDD",{"$f":"VLOOKUP($AA327,DATA!$B$3:$E$6,2,0)","v":"06:30:00"},{"$f":"VLOOKUP($AA327,DATA!$B$3:$E$6,3,0)","v":"14:30:00"},{"$f":"VLOOKUP($AA327,DATA!$B$3:$E$6,4,0)","v":3.125E-2},0.30208333333333331,0.30208333333333331,{"$f":"DATA!$C$9","v":0.89},{"$f":"DATA!$C$10","v":64},1,407.8125,407.8125,{"$f":"TIME(INT($AC327/60),INT(MOD($AC327,60)/1),0)","v":0},{"$f":"IF($L327*86400/$H327=0,\"\",$L327*86400/$H327)","v":""},{"$f":"IFERROR($M327/$K327,\"\")","v":""},0,"",{"$f":"IFERROR($P327/$K327,\"\")","v":""},0,"",{"$f":"IF(IF($AB327=\"D1\",$S327,\"\")=0,\"\",IF($AB327=\"D1\",$S327,\"\"))","v":""},{"$f":"IF(IF($AB327=\"D2\",$S327,\"\")=0,\"\",IF($AB327=\"D2\",$S327,\"\"))","v":""},{"$f":"IF(IF($AB327=\"D3\",$S327,\"\")=0,\"\",IF($AB327=\"D3\",$S327,\"\"))","v":""},null,{"$f":"X331","v":16},{"$f":"Y324+1","v":"2018-04-18"},{"$f":"TEXT(Y327,\"ddd\")","v":"wo"},"DD",{"$f":"IFERROR(HLOOKUP(Y327,[1]DATA!$A$1:$NB$5,3,0),\"\")","v":"D1"},null,null,null,null,{"$f":"VLOOKUP(Y327,[1]SRI!$S$4:$Z$368,6,0)","v":3},"","",0]
["16woMD",{"$f":"VLOOKUP($AA328,DATA!$B$3:$E$6,2,0)","v":"14:30:00"},{"$f":"VLOOKUP($AA328,DATA!$B$3:$E$6,3,0)","v":"22:30:00"},{"$f":"VLOOKUP($AA328,DATA!$B$3:$E$6,4,0)","v":3.125E-2},0.30208333333333337,0.30208333333333337,{"$f":"DATA!$C$9","v":0.89},{"$f":"DATA!$C$10","v":64},1,407.81250000000006,407.81250000000006,0,"","",0,"","",0,"","","","",null,{"$f":"X331","v":16},null,{"$f":"TEXT(Y327,\"ddd\")","v":"wo"},"MD",{"$f":"IFERROR(HLOOKUP(Y327,[1]DATA!$A$1:$NB$5,4,0),\"\")","v":"D3"},null,null,null,null,{"$f":"VLOOKUP(Y327,[1]SRI!$S$4:$Z$368,7,0)","v":15},"","",0]
["16woND",{"$f":"VLOOKUP($AA329,DATA!$B$3:$E$6,2,0)","v":"22:30:00"},{"$f":"VLOOKUP($AA329,DATA!$B$3:$E$6,3,0)","v":"06:30:00"},{"$f":"VLOOKUP($AA329,DATA!$B$3:$E$6,4,0)","v":3.125E-2},0.30208333333333326,0.30208333333333326,{"$f":"DATA!$C$9","v":0.89},{"$f":"DATA!$C$10","v":64},1,407.81249999999989,407.81249999999989,0,"","",0,"","",0,"","","","",null,{"$f":"X331","v":16},null,{"$f":"TEXT(Y327,\"ddd\")","v":"wo"},"ND",{"$f":"IFERROR(HLOOKUP(Y327,[1]DATA!$A$1:$NB$5,5,0),\"\")","v":"D2"},null,null,null,null,{"$f":"VLOOKUP(Y327,[1]SRI!$S$4:$Z$368,8,0)","v":25},"","",0]
["16doDD",{"$f":"VLOOKUP($AA330,DATA!$B$3:$E$6,2,0)","v":"06:30:00"},{"$f":"VLOOKUP($AA330,DATA!$B$3:$E$6,3,0)","v":"14:30:00"},{"$f":"VLOOKUP($AA330,DATA!$B$3:$E$6,4,0)","v":3.125E-2},0.30208333333333331,0.30208333333333331,{"$f":"DATA!$C$9","v":0.89},{"$f":"DATA!$C$10","v":64},1,407.8125,407.8125,0,"","",0,"","",0,"","","","",null,{"$f":"X331","v":16},{"$f":"Y327+1","v":"2018-04-19"},{"$f":"TEXT(Y330,\"ddd\")","v":"do"},"DD",{"$f":"IFERROR(HLOOKUP(Y330,[1]DATA!$A$1:$NB$5,3,0),\"\")","v":"D1"},null,null,null,null,{"$f":"VLOOKUP(Y330,[1]SRI!$S$4:$Z$368,6,0)","v":0},"","",""]
["16doMD",{"$f":"VLOOKUP($AA331,DATA!$B$3:$E$6,2,0)","v":"14:30:00"},{"$f":"VLOOKUP($AA331,DATA!$B$3:$E$6,3,0)","v":"22:30:00"},{"$f":"VLOOKUP($AA331,DATA!$B$3:$E$6,4,0)","v":3.125E-2},0.30208333333333337,0.30208333333333337,{"$f":"DATA!$C$9","v":0.89},{"$f":"DATA!$C$10","v":64},1,407.81250000000006,407.81250000000006,0,"","",0,"","",0,"","","","",null,{"$f":"WEEKNUM($Y321)","v":16},null,{"$f":"TEXT(Y330,\"ddd\")","v":"do"},"MD",{"$f":"IFERROR(HLOOKUP(Y330,[1]DATA!$A$1:$NB$5,4,0),\"\")","v":"D3"},null,null,null,null,{"$f":"VLOOKUP(Y330,[1]SRI!$S$4:$Z$368,7,0)","v":5},"","",0]
["16doND",{"$f":"VLOOKUP($AA332,DATA!$B$3:$E$6,2,0)","v":"22:30:00"},{"$f":"VLOOKUP($AA332,DATA!$B$3:$E$6,3,0)","v":"06:30:00"},{"$f":"VLOOKUP($AA332,DATA!$B$3:$E$6,4,0)","v":3.125E-2},0.30208333333333326,0.30208333333333326,{"$f":"DATA!$C$9","v":0.89},{"$f":"DATA!$C$10","v":64},1,407.81249999999989,407.81249999999989,0,"","",0,"","",0,"","","","",null,{"$f":"X331","v":16},null,{"$f":"TEXT(Y330,\"ddd\")","v":"do"},"ND",{"$f":"IFERROR(HLOOKUP(Y330,[1]DATA!$A$1:$NB$5,5,0),\"\")","v":"D2"},null,null,null,null,{"$f":"VLOOKUP(Y330,[1]SRI!$S$4:$Z$368,8,0)","v":0},"","",""]
["16vrDD",{"$f":"VLOOKUP($AA333,DATA!$B$3:$E$6,2,0)","v":"06:30:00"},{"$f":"VLOOKUP($AA333,DATA!$B$3:$E$6,3,0)","v":"14:30:00"},{"$f":"VLOOKUP($AA333,DATA!$B$3:$E$6,4,0)","v":3.125E-2},0.30208333333333331,0.30208333333333331,{"$f":"DATA!$C$9","v":0.89},{"$f":"DATA!$C$10","v":64},1,407.8125,407.8125,0,"","",0,"","",0,"","","","",null,{"$f":"X331","v":16},{"$f":"Y330+1","v":"2018-04-20"},{"$f":"TEXT(Y333,\"ddd\")","v":"vr"},"DD",{"$f":"IFERROR(HLOOKUP(Y333,[1]DATA!$A$1:$NB$5,3,0),\"\")","v":"D1"},null,null,null,null,{"$f":"VLOOKUP(Y333,[1]SRI!$S$4:$Z$368,6,0)","v":10},"","",0]
["16vrMD",{"$f":"VLOOKUP($AA334,DATA!$B$3:$E$6,2,0)","v":"14:30:00"},{"$f":"VLOOKUP($AA334,DATA!$B$3:$E$6,3,0)","v":"22:30:00"},{"$f":"VLOOKUP($AA334,DATA!$B$3:$E$6,4,0)","v":3.125E-2},0.30208333333333337,0.30208333333333337,{"$f":"DATA!$C$9","v":0.89},{"$f":"DATA!$C$10","v":64},1,407.81250000000006,407.81250000000006,0,"","",0,"","",0,"","","","",null,{"$f":"X331","v":16},null,{"$f":"TEXT(Y333,\"ddd\")","v":"vr"},"MD",{"$f":"IFERROR(HLOOKUP(Y333,[1]DATA!$A$1:$NB$5,4,0),\"\")","v":"D3"},null,null,null,null,{"$f":"VLOOKUP(Y333,[1]SRI!$S$4:$Z$368,7,0)","v":0},"","",""]
["16vrND",{"$f":"VLOOKUP($AA335,DATA!$B$3:$E$6,2,0)","v":"22:30:00"},{"$f":"VLOOKUP($AA335,DATA!$B$3:$E$6,3,0)","v":"06:30:00"},{"$f":"VLOOKUP($AA335,DATA!$B$3:$E$6,4,0)","v":3.125E-2},0.30208333333333326,0.30208333333333326,{"$f":"DATA!$C$9","v":0.89},{"$f":"DATA!$C$10","v":64},1,407.81249999999989,407.81249999999989,0,"","",0,"","",0,"","","","",null,{"$f":"X331","v":16},null,{"$f":"TEXT(Y333,\"ddd\")","v":"vr"},"ND",{"$f":"IFERROR(HLOOKUP(Y333,[1]DATA!$A$1:$NB$5,5,0),\"\")","v":"D2"},null,null,null,null,{"$f":"VLOOKUP(Y333,[1]SRI!$S$4:$Z$368,8,0)","v":18},"","",0]
["16zaDD",{"$f":"VLOOKUP($AA336,DATA!$B$3:$E$6,2,0)","v":"06:30:00"},{"$f":"VLOOKUP($AA336,DATA!$B$3:$E$6,3,0)","v":"14:30:00"},{"$f":"VLOOKUP($AA336,DATA!$B$3:$E$6,4,0)","v":3.125E-2},0.30208333333333331,0.30208333333333331,{"$f":"DATA!$C$9","v":0.89},{"$f":"DATA!$C$10","v":64},1,407.8125,407.8125,0,"","",0,"","",0,"","","","",null,{"$f":"X331","v":16},{"$f":"Y333+1","v":"2018-04-21"},{"$f":"TEXT(Y336,\"ddd\")","v":"za"},"DD",{"$f":"IFERROR(HLOOKUP(Y336,[1]DATA!$A$1:$NB$5,3,0),\"\")","v":"D1"},null,null,null,null,{"$f":"VLOOKUP(Y336,[1]SRI!$S$4:$Z$368,6,0)","v":7},"","",0]
["16zaMD",{"$f":"VLOOKUP($AA337,DATA!$B$3:$E$6,2,0)","v":"14:30:00"},{"$f":"VLOOKUP($AA337,DATA!$B$3:$E$6,3,0)","v":"22:30:00"},{"$f":"VLOOKUP($AA337,DATA!$B$3:$E$6,4,0)","v":3.125E-2},0.30208333333333337,0.30208333333333337,{"$f":"DATA!$C$9","v":0.89},{"$f":"DATA!$C$10","v":64},1,407.81250000000006,407.81250000000006,0,"","",0,"","",0,"","","","",null,{"$f":"X331","v":16},null,{"$f":"TEXT(Y336,\"ddd\")","v":"za"},"MD",{"$f":"IFERROR(HLOOKUP(Y336,[1]DATA!$A$1:$NB$5,4,0),\"\")","v":"-"},null,null,null,null,{"$f":"VLOOKUP(Y336,[1]SRI!$S$4:$Z$368,7,0)","v":0},"","",""]
["16zaND",{"$f":"VLOOKUP($AA338,DATA!$B$3:$E$6,2,0)","v":"22:30:00"},{"$f":"VLOOKUP($AA338,DATA!$B$3:$E$6,3,0)","v":"06:30:00"},{"$f":"VLOOKUP($AA338,DATA!$B$3:$E$6,4,0)","v":3.125E-2},0.30208333333333326,0.30208333333333326,{"$f":"DATA!$C$9","v":0.89},{"$f":"DATA!$C$10","v":64},1,407.81249999999989,407.81249999999989,0,"","",0,"","",0,"","","","",null,{"$f":"X331","v":16},null,{"$f":"TEXT(Y336,\"ddd\")","v":"za"},"ND",{"$f":"IFERROR(HLOOKUP(Y336,[1]DATA!$A$1:$NB$5,5,0),\"\")","v":"-"},null,null,null,null,{"$f":"VLOOKUP(Y336,[1]SRI!$S$4:$Z$368,8,0)","v":0},"","",""]
["16zoDD",{"$f":"VLOOKUP($AA339,DATA!$B$3:$E$6,2,0)","v":"06:30:00"},{"$f":"VLOOKUP($AA339,DATA!$B$3:$E$6,3,0)","v":"14:30:00"},{"$f":"VLOOKUP($AA339,DATA!$B$3:$E$6,4,0)","v":3.125E-2},0.30208333333333331,0.30208333333333331,{"$f":"DATA!$C$9","v":0.89},{"$f":"DATA!$C$10","v":64},1,407.8125,407.8125,0,"","",0,"","",0,"","","","",null,{"$f":"X331","v":16},{"$f":"Y336+1","v":"2018-04-22"},{"$f":"TEXT(Y339,\"ddd\")","v":"zo"},"DD",{"$f":"IFERROR(HLOOKUP(Y339,[1]DATA!$A$1:$NB$5,3,0),\"\")","v":"-"},null,null,null,null,{"$f":"VLOOKUP(Y339,[1]SRI!$S$4:$Z$368,6,0)","v":0},"","",""]
["16zoMD",{"$f":"VLOOKUP($AA340,DATA!$B$3:$E$6,2,0)","v":"14:30:00"},{"$f":"VLOOKUP($AA340,DATA!$B$3:$E$6,3,0)","v":"22:30:00"},{"$f":"VLOOKUP($AA340,DATA!$B$3:$E$6,4,0)","v":3.125E-2},0.30208333333333337,0.30208333333333337,{"$f":"DATA!$C$9","v":0.89},{"$f":"DATA!$C$10","v":64},1,407.81250000000006,407.81250000000006,0,"","",0,"","",0,"","","","",null,{"$f":"X331","v":16},null,{"$f":"TEXT(Y339,\"ddd\")","v":"zo"},"MD",{"$f":"IFERROR(HLOOKUP(Y339,[1]DATA!$A$1:$NB$5,4,0),\"\")","v":"-"},null,null,null,null,{"$f":"VLOOKUP(Y339,[1]SRI!$S$4:$Z$368,7,0)","v":0},"","",""]
["16zoZND",{"$f":"VLOOKUP($AA341,DATA!$B$3:$E$6,2,0)","v":"00:00:00"},{"$f":"VLOOKUP($AA341,DATA!$B$3:$E$6,3,0)","v":"00:00:00"},{"$f":"VLOOKUP($AA341,DATA!$B$3:$E$6,4,0)","v":3.125E-2},-3.125E-2,-3.125E-2,{"$f":"DATA!$C$9","v":0.89},{"$f":"DATA!$C$10","v":64},1,-42.1875,-42.1875,0,"","",0,"","",0,"","","","",null,{"$f":"X331","v":16},null,{"$f":"TEXT(Y339,\"ddd\")","v":"zo"},"ZND",{"$f":"IFERROR(HLOOKUP(Y339,[1]DATA!$A$1:$NB$5,5,0),\"\")","v":"-"},null,null,null,null,{"$f":"VLOOKUP(Y339,[1]SRI!$S$4:$Z$368,8,0)","v":0},"","",""]
["17maDD",{"$f":"VLOOKUP($AA342,DATA!$B$3:$E$6,2,0)","v":"06:30:00"},{"$f":"VLOOKUP($AA342,DATA!$B$3:$E$6,3,0)","v":"14:30:00"},{"$f":"VLOOKUP($AA342,DATA!$B$3:$E$6,4,0)","v":3.125E-2},0.30208333333333331,0.15486111111111109,{"$f":"DATA!$C$9","v":0.89},{"$f":"DATA!$C$10","v":64},1,209.06249999999997,407.8125,0.14722222222222223,198.75,0.48735632183908045,{"$f":"TIME(INT($AD342/60),INT(MOD($AD342,60)/1),0)","v":0},"","",232.53333333333333,206,"","",206,null,{"$f":"X352","v":17},{"$f":"Y339+1","v":"2018-04-23"},{"$f":"TEXT(Y342,\"ddd\")","v":"ma"},"DD",{"$f":"IFERROR(HLOOKUP(Y342,[1]DATA!$A$1:$NB$5,3,0),\"\")","v":"D3"},212,null,12,218,{"$f":"VLOOKUP(Y342,[1]SRI!$S$4:$Z$368,6,0)","v":0},-3.0624999999999716,0.50513409961685829,1,{"$f":"IF(SUMIF(S342:S362,\">0\",K342:K362)=0,\"\",SUMIF(S342:S362,\">0\",K342:K362))","v":4893.75},{"$f":"IF(SUM(S342:S362)=0,\"\",SUM(S342:S362))","v":3383},{"$f":"IFERROR(AL342/AK342,\"-\")","v":0.69128991060025546},{"$f":"IF(SUM(M342:M362)=0,\"0\",SUM(M342:M362))","v":1418.4375},{"$f":"IFERROR(AN342/AK342,\"-\")","v":0.28984674329501914},{"$f":"IF(SUM(P342:P362)=0,0,SUM(P342:P362))","v":0},{"$f":"IFERROR(AP342/AK342,\"-\")","v":0},{"$f":"IFERROR(AVERAGE(AJ342:AJ362),\"-\")","v":0.98138648147546881},{"$f":"IFERROR(SUMIF($AB342:$AB362,AS$5,$AJ342:$AJ362)/COUNTIFS($AB342:$AB362,AS$5,$AJ342:$AJ362,\">0\"),\"\")","v":0.9907292121514566},0.96514264610576106,0.98828758616918888,{"$f":"IFERROR((AK342-AL342-AN342-AP342),\"-\")","v":92.3125},{"$f":"IFERROR((1-AM342-AO342-AQ342), \"-\")","v":1.8863346104725398E-2},{"$f":"IFERROR((AV342*$AE$2)/60,\"-\")","v":98.466666666666669},{"$f":"IFERROR(SUM(AG342:AG362),\"\")","v":77}]
["17maMD",{"$f":"VLOOKUP($AA343,DATA!$B$3:$E$6,2,0)","v":"14:30:00"},{"$f":"VLOOKUP($AA343,DATA!$B$3:$E$6,3,0)","v":"22:30:00"},{"$f":"VLOOKUP($AA343,DATA!$B$3:$E$6,4,0)","v":3.125E-2},0.30208333333333337,0.28541666666666671,{"$f":"DATA!$C$9","v":0.89},{"$f":"DATA!$C$10","v":64},1,385.31250000000006,407.81250000000006,1.6666666666666666E-2,22.5,5.5172413793103441E-2,{"$f":"TIME(INT(AD343/60),INT(MOD(AD343,60)/1),0)","v":0},"","",370.13333333333333,338,"",338,"",null,{"$f":"X352","v":17},null,{"$f":"TEXT(Y342,\"ddd\")","v":"ma"},"MD",{"$f":"IFERROR(HLOOKUP(Y342,[1]DATA!$A$1:$NB$5,4,0),\"\")","v":"D2"},24,null,9,347,{"$f":"VLOOKUP(Y342,[1]SRI!$S$4:$Z$368,7,0)","v":38},-47.312500000000057,0.82881226053639834,0.90689317216595888]
["17maND",{"$f":"VLOOKUP($AA344,DATA!$B$3:$E$6,2,0)","v":"22:30:00"},{"$f":"VLOOKUP($AA344,DATA!$B$3:$E$6,3,0)","v":"06:30:00"},{"$f":"VLOOKUP($AA344,DATA!$B$3:$E$6,4,0)","v":3.125E-2},0.30208333333333326,0.17013888888888881,{"$f":"DATA!$C$9","v":0.89},{"$f":"DATA!$C$10","v":64},1,229.68749999999989,407.81249999999989,0.13194444444444445,178.125,0.43678160919540243,0,"","",247.46666666666667,221,221,"","",null,{"$f":"X352","v":17},null,{"$f":"TEXT(Y342,\"ddd\")","v":"ma"},"ND",{"$f":"IFERROR(HLOOKUP(Y342,[1]DATA!$A$1:$NB$5,5,0),\"\")","v":"D1"},190,null,11,232,{"$f":"VLOOKUP(Y342,[1]SRI!$S$4:$Z$368,8,0)","v":4},-8.6874999999998863,0.5419157088122607,0.98409331919406151]
["17diDD",{"$f":"VLOOKUP($AA345,DATA!$B$3:$E$6,2,0)","v":"06:30:00"},{"$f":"VLOOKUP($AA345,DATA!$B$3:$E$6,3,0)","v":"14:30:00"},{"$f":"VLOOKUP($AA345,DATA!$B$3:$E$6,4,0)","v":3.125E-2},0.30208333333333331,0.24305555555555552,{"$f":"DATA!$C$9","v":0.89},{"$f":"DATA!$C$10","v":64},1,328.12499999999994,407.8125,5.9027777777777783E-2,79.687500000000014,0.19540229885057475,0,"","",352,309,"","",309,null,{"$f":"X352","v":17},{"$f":"Y342+1","v":"2018-04-24"},{"$f":"TEXT(Y345,\"ddd\")","v":"di"},"DD",{"$f":"IFERROR(HLOOKUP(Y345,[1]DATA!$A$1:$NB$5,3,0),\"\")","v":"D3"},85,null,21,330,{"$f":"VLOOKUP(Y345,[1]SRI!$S$4:$Z$368,6,0)","v":0},-19.124999999999943,0.75770114942528732,1]
["17diMD",{"$f":"VLOOKUP($AA346,DATA!$B$3:$E$6,2,0)","v":"14:30:00"},{"$f":"VLOOKUP($AA346,DATA!$B$3:$E$6,3,0)","v":"22:30:00"},{"$f":"VLOOKUP($AA346,DATA!$B$3:$E$6,4,0)","v":3.125E-2},0.30208333333333337,0.2277777777777778,{"$f":"DATA!$C$9","v":0.89},{"$f":"DATA!$C$10","v":64},1,307.50000000000006,407.81250000000006,7.4305555555555555E-2,100.3125,0.24597701149425283,0,"","",356.26666666666665,323,"",323,"",null,{"$f":"X352","v":17},null,{"$f":"TEXT(Y345,\"ddd\")","v":"di"},"MD",{"$f":"IFERROR(HLOOKUP(Y345,[1]DATA!$A$1:$NB$5,4,0),\"\")","v":"D2"},107,null,11,334,{"$f":"VLOOKUP(Y345,[1]SRI!$S$4:$Z$368,7,0)","v":0},15.499999999999943,0.79203065134099604,1]
["17diND",{"$f":"VLOOKUP($AA347,DATA!$B$3:$E$6,2,0)","v":"22:30:00"},{"$f":"VLOOKUP($AA347,DATA!$B$3:$E$6,3,0)","v":"06:30:00"},{"$f":"VLOOKUP($AA347,DATA!$B$3:$E$6,4,0)","v":3.125E-2},0.30208333333333326,0.17291666666666658,{"$f":"DATA!$C$9","v":0.89},{"$f":"DATA!$C$10","v":64},1,233.43749999999989,407.81249999999989,0.12916666666666668,174.37500000000003,0.42758620689655191,0,"","",277.33333333333331,245,245,"","",null,{"$f":"X352","v":17},null,{"$f":"TEXT(Y345,\"ddd\")","v":"di"},"ND",{"$f":"IFERROR(HLOOKUP(Y345,[1]DATA!$A$1:$NB$5,5,0),\"\")","v":"D1"},186,null,15,260,{"$f":"VLOOKUP(Y345,[1]SRI!$S$4:$Z$368,8,0)","v":6},11.562500000000114,0.60076628352490435,{"$f":"IFERROR(R347/(R347+AG347),\"\")","v":0.97882352941176476}]
["17woDD",{"$f":"VLOOKUP($AA348,DATA!$B$3:$E$6,2,0)","v":"06:30:00"},{"$f":"VLOOKUP($AA348,DATA!$B$3:$E$6,3,0)","v":"14:30:00"},{"$f":"VLOOKUP($AA348,DATA!$B$3:$E$6,4,0)","v":3.125E-2},{"$f":"(C348-B348+(B348>C348))-D348","v":0.30208333333333331},{"$f":"E348-O348-L348","v":0.2097222222222222},{"$f":"DATA!$C$9","v":0.89},{"$f":"DATA!$C$10","v":64},1,{"$f":"F348*86400/H348*I348","v":283.12499999999994},{"$f":"E348*86400/H348","v":407.8125},9.2361111111111116E-2,124.6875,0.30574712643678159,0,"","",{"$f":"AF348*AG$2","v":309.33333333333331},{"$f":"IF(AF348-AE348=0,\"\",AF348-AE348)","v":269},"","",269,null,{"$f":"X352","v":17},{"$f":"Y345+1","v":"2018-04-25"},{"$f":"TEXT(Y348,\"ddd\")","v":"wo"},"DD",{"$f":"IFERROR(HLOOKUP(Y348,[1]DATA!$A$1:$NB$5,3,0),\"\")","v":"D3"},133,null,21,290,{"$f":"VLOOKUP(Y348,[1]SRI!$S$4:$Z$368,6,0)","v":11},-14.124999999999943,0.6596168582375479,0.96566077003121753]
["17woMD",{"$f":"VLOOKUP($AA349,DATA!$B$3:$E$6,2,0)","v":"14:30:00"},{"$f":"VLOOKUP($AA349,DATA!$B$3:$E$6,3,0)","v":"22:30:00"},{"$f":"VLOOKUP($AA349,DATA!$B$3:$E$6,4,0)","v":3.125E-2},0.30208333333333337,0.20625000000000004,{"$f":"DATA!$C$9","v":0.89},{"$f":"DATA!$C$10","v":64},1,278.43750000000006,407.81250000000006,9.5833333333333326E-2,129.375,0.3172413793103448,0,"","",301.86666666666667,268,"",268,"",null,{"$f":"X352","v":17},null,{"$f":"TEXT(Y348,\"ddd\")","v":"wo"},"MD",{"$f":"IFERROR(HLOOKUP(Y348,[1]DATA!$A$1:$NB$5,4,0),\"\")","v":"D2"},138,null,15,283,{"$f":"VLOOKUP(Y348,[1]SRI!$S$4:$Z$368,7,0)","v":6},-10.437500000000057,0.65716475095785432,0.98051104374187958]
["17woND",{"$f":"VLOOKUP($AA350,DATA!$B$3:$E$6,2,0)","v":"22:30:00"},{"$f":"VLOOKUP($AA350,DATA!$B$3:$E$6,3,0)","v":"06:30:00"},{"$f":"VLOOKUP($AA350,DATA!$B$3:$E$6,4,0)","v":3.125E-2},0.30208333333333326,0.26527777777777772,{"$f":"DATA!$C$9","v":0.89},{"$f":"DATA!$C$10","v":64},1,358.12499999999994,407.81249999999989,3.6805555555555557E-2,49.6875,0.12183908045977015,0,"","",374.4,336,336,"","",null,{"$f":"X352","v":17},null,{"$f":"TEXT(Y348,\"ddd\")","v":"wo"},"ND",{"$f":"IFERROR(HLOOKUP(Y348,[1]DATA!$A$1:$NB$5,5,0),\"\")","v":"D1"},53,null,15,351,{"$f":"VLOOKUP(Y348,[1]SRI!$S$4:$Z$368,8,0)","v":0},-22.124999999999943,0.82390804597701173,1]
["17doDD",{"$f":"VLOOKUP($AA351,DATA!$B$3:$E$6,2,0)","v":"06:30:00"},{"$f":"VLOOKUP($AA351,DATA!$B$3:$E$6,3,0)","v":"14:30:00"},{"$f":"VLOOKUP($AA351,DATA!$B$3:$E$6,4,0)","v":3.125E-2},0.30208333333333331,0.21736111111111112,{"$f":"DATA!$C$9","v":0.89},{"$f":"DATA!$C$10","v":64},1,293.4375,407.8125,8.4722222222222213E-2,114.37499999999999,0.2804597701149425,0,"","",315.73333333333335,284,"","",284,null,{"$f":"X352","v":17},{"$f":"Y348+1","v":"2018-04-26"},{"$f":"TEXT(Y351,\"ddd\")","v":"do"},"DD",{"$f":"IFERROR(HLOOKUP(Y351,[1]DATA!$A$1:$NB$5,3,0),\"\")","v":"D3"},122,null,12,296,{"$f":"VLOOKUP(Y351,[1]SRI!$S$4:$Z$368,6,0)","v":4},-9.4375,0.6963984674329502,0.98748957464553799]
["17doMD",{"$f":"VLOOKUP($AA352,DATA!$B$3:$E$6,2,0)","v":"14:30:00"},{"$f":"VLOOKUP($AA352,DATA!$B$3:$E$6,3,0)","v":"22:30:00"},{"$f":"VLOOKUP($AA352,DATA!$B$3:$E$6,4,0)","v":3.125E-2},0.30208333333333337,0.19097222222222227,{"$f":"DATA!$C$9","v":0.89},{"$f":"DATA!$C$10","v":64},1,257.81250000000006,407.81250000000006,0.1111111111111111,150,0.36781609195402293,0,"","",290.13333333333333,269,"",269,"",null,{"$f":"WEEKNUM($Y342)","v":17},null,{"$f":"TEXT(Y351,\"ddd\")","v":"do"},"MD",{"$f":"IFERROR(HLOOKUP(Y351,[1]DATA!$A$1:$NB$5,4,0),\"\")","v":"D2"},160,null,3,272,{"$f":"VLOOKUP(Y351,[1]SRI!$S$4:$Z$368,7,0)","v":8},11.187499999999943,0.65961685823754779,0.97316636851520577]
["17doND",{"$f":"VLOOKUP($AA353,DATA!$B$3:$E$6,2,0)","v":"22:30:00"},{"$f":"VLOOKUP($AA353,DATA!$B$3:$E$6,3,0)","v":"06:30:00"},{"$f":"VLOOKUP($AA353,DATA!$B$3:$E$6,4,0)","v":3.125E-2},0.30208333333333326,0.23055555555555546,{"$f":"DATA!$C$9","v":0.89},{"$f":"DATA!$C$10","v":64},1,311.24999999999989,407.81249999999989,7.1527777777777787E-2,96.562500000000014,0.23678160919540239,0,"","",366.93333333333334,315,315,"","",null,{"$f":"X352","v":17},null,{"$f":"TEXT(Y351,\"ddd\")","v":"do"},"ND",{"$f":"IFERROR(HLOOKUP(Y351,[1]DATA!$A$1:$NB$5,5,0),\"\")","v":"D1"},103,null,29,344,{"$f":"VLOOKUP(Y351,[1]SRI!$S$4:$Z$368,8,0)","v":0},3.7500000000001137,0.77241379310344849,1]
["17vrDD",{"$f":"VLOOKUP($AA354,DATA!$B$3:$E$6,2,0)","v":"06:30:00"},{"$f":"VLOOKUP($AA354,DATA!$B$3:$E$6,3,0)","v":"14:30:00"},{"$f":"VLOOKUP($AA354,DATA!$B$3:$E$6,4,0)","v":3.125E-2},0.30208333333333331,0.30208333333333331,{"$f":"DATA!$C$9","v":0.89},{"$f":"DATA!$C$10","v":64},1,407.8125,407.8125,0,"","",0,"","",0,"","","","",null,{"$f":"X352","v":17},{"$f":"Y351+1","v":"2018-04-27"},{"$f":"TEXT(Y354,\"ddd\")","v":"vr"},"DD",{"$f":"IFERROR(HLOOKUP(Y354,[1]DATA!$A$1:$NB$5,3,0),\"\")","v":"D3"},null,null,null,null,{"$f":"VLOOKUP(Y354,[1]SRI!$S$4:$Z$368,6,0)","v":0},"","",""]
["17vrMD",{"$f":"VLOOKUP($AA355,DATA!$B$3:$E$6,2,0)","v":"14:30:00"},{"$f":"VLOOKUP($AA355,DATA!$B$3:$E$6,3,0)","v":"22:30:00"},{"$f":"VLOOKUP($AA355,DATA!$B$3:$E$6,4,0)","v":3.125E-2},0.30208333333333337,0.30208333333333337,{"$f":"DATA!$C$9","v":0.89},{"$f":"DATA!$C$10","v":64},1,407.81250000000006,407.81250000000006,0,"","",0,"","",0,"","","","",null,{"$f":"X352","v":17},null,{"$f":"TEXT(Y354,\"ddd\")","v":"vr"},"MD",{"$f":"IFERROR(HLOOKUP(Y354,[1]DATA!$A$1:$NB$5,4,0),\"\")","v":"D2"},null,null,null,null,{"$f":"VLOOKUP(Y354,[1]SRI!$S$4:$Z$368,7,0)","v":0},"","",""]
["17vrND",{"$f":"VLOOKUP($AA356,DATA!$B$3:$E$6,2,0)","v":"22:30:00"},{"$f":"VLOOKUP($AA356,DATA!$B$3:$E$6,3,0)","v":"06:30:00"},{"$f":"VLOOKUP($AA356,DATA!$B$3:$E$6,4,0)","v":3.125E-2},0.30208333333333326,0.30208333333333326,{"$f":"DATA!$C$9","v":0.89},{"$f":"DATA!$C$10","v":64},1,407.81249999999989,407.81249999999989,0,"","",0,"","",0,"","","","",null,{"$f":"X352","v":17},null,{"$f":"TEXT(Y354,\"ddd\")","v":"vr"},"ND",{"$f":"IFERROR(HLOOKUP(Y354,[1]DATA!$A$1:$NB$5,5,0),\"\")","v":"D2"},null,null,null,null,{"$f":"VLOOKUP(Y354,[1]SRI!$S$4:$Z$368,8,0)","v":0},"","",""]
["17zaDD",{"$f":"VLOOKUP($AA357,DATA!$B$3:$E$6,2,0)","v":"06:30:00"},{"$f":"VLOOKUP($AA357,DATA!$B$3:$E$6,3,0)","v":"14:30:00"},{"$f":"VLOOKUP($AA357,DATA!$B$3:$E$6,4,0)","v":3.125E-2},0.30208333333333331,0.30208333333333331,{"$f":"DATA!$C$9","v":0.89},{"$f":"DATA!$C$10","v":64},1,407.8125,407.8125,0,"","",0,"","",0,"","","","",null,{"$f":"X352","v":17},{"$f":"Y354+1","v":"2018-04-28"},{"$f":"TEXT(Y357,\"ddd\")","v":"za"},"DD",{"$f":"IFERROR(HLOOKUP(Y357,[1]DATA!$A$1:$NB$5,3,0),\"\")","v":"D3"},null,null,null,null,{"$f":"VLOOKUP(Y357,[1]SRI!$S$4:$Z$368,6,0)","v":0},"","",""]
["17zaMD",{"$f":"VLOOKUP($AA358,DATA!$B$3:$E$6,2,0)","v":"14:30:00"},{"$f":"VLOOKUP($AA358,DATA!$B$3:$E$6,3,0)","v":"22:30:00"},{"$f":"VLOOKUP($AA358,DATA!$B$3:$E$6,4,0)","v":3.125E-2},0.30208333333333337,0.30208333333333337,{"$f":"DATA!$C$9","v":0.89},{"$f":"DATA!$C$10","v":64},1,407.81250000000006,407.81250000000006,0,"","",0,"","",0,"","","","",null,{"$f":"X352","v":17},null,{"$f":"TEXT(Y357,\"ddd\")","v":"za"},"MD",{"$f":"IFERROR(HLOOKUP(Y357,[1]DATA!$A$1:$NB$5,4,0),\"\")","v":"-"},null,null,null,null,{"$f":"VLOOKUP(Y357,[1]SRI!$S$4:$Z$368,7,0)","v":0},"","",""]
["17zaND",{"$f":"VLOOKUP($AA359,DATA!$B$3:$E$6,2,0)","v":"22:30:00"},{"$f":"VLOOKUP($AA359,DATA!$B$3:$E$6,3,0)","v":"06:30:00"},{"$f":"VLOOKUP($AA359,DATA!$B$3:$E$6,4,0)","v":3.125E-2},0.30208333333333326,0.30208333333333326,{"$f":"DATA!$C$9","v":0.89},{"$f":"DATA!$C$10","v":64},1,407.81249999999989,407.81249999999989,0,"","",0,"","",0,"","","","",null,{"$f":"X352","v":17},null,{"$f":"TEXT(Y357,\"ddd\")","v":"za"},"ND",{"$f":"IFERROR(HLOOKUP(Y357,[1]DATA!$A$1:$NB$5,5,0),\"\")","v":"-"},null,null,null,null,{"$f":"VLOOKUP(Y357,[1]SRI!$S$4:$Z$368,8,0)","v":0},"","",""]
["17zoDD",{"$f":"VLOOKUP($AA360,DATA!$B$3:$E$6,2,0)","v":"06:30:00"},{"$f":"VLOOKUP($AA360,DATA!$B$3:$E$6,3,0)","v":"14:30:00"},{"$f":"VLOOKUP($AA360,DATA!$B$3:$E$6,4,0)","v":3.125E-2},0.30208333333333331,0.30208333333333331,{"$f":"DATA!$C$9","v":0.89},{"$f":"DATA!$C$10","v":64},1,407.8125,407.8125,0,"","",0,"","",0,"","","","",null,{"$f":"X352","v":17},{"$f":"Y357+1","v":"2018-04-29"},{"$f":"TEXT(Y360,\"ddd\")","v":"zo"},"DD",{"$f":"IFERROR(HLOOKUP(Y360,[1]DATA!$A$1:$NB$5,3,0),\"\")","v":"-"},null,null,null,null,{"$f":"VLOOKUP(Y360,[1]SRI!$S$4:$Z$368,6,0)","v":0},"","",""]
["17zoMD",{"$f":"VLOOKUP($AA361,DATA!$B$3:$E$6,2,0)","v":"14:30:00"},{"$f":"VLOOKUP($AA361,DATA!$B$3:$E$6,3,0)","v":"22:30:00"},{"$f":"VLOOKUP($AA361,DATA!$B$3:$E$6,4,0)","v":3.125E-2},0.30208333333333337,0.30208333333333337,{"$f":"DATA!$C$9","v":0.89},{"$f":"DATA!$C$10","v":64},1,407.81250000000006,407.81250000000006,0,"","",0,"","",0,"","","","",null,{"$f":"X352","v":17},null,{"$f":"TEXT(Y360,\"ddd\")","v":"zo"},"MD",{"$f":"IFERROR(HLOOKUP(Y360,[1]DATA!$A$1:$NB$5,4,0),\"\")","v":"-"},null,null,null,null,{"$f":"VLOOKUP(Y360,[1]SRI!$S$4:$Z$368,7,0)","v":0},"","",""]
["17zoZND",{"$f":"VLOOKUP($AA362,DATA!$B$3:$E$6,2,0)","v":"00:00:00"},{"$f":"VLOOKUP($AA362,DATA!$B$3:$E$6,3,0)","v":"00:00:00"},{"$f":"VLOOKUP($AA362,DATA!$B$3:$E$6,4,0)","v":3.125E-2},-3.125E-2,-3.125E-2,{"$f":"DATA!$C$9","v":0.89},{"$f":"DATA!$C$10","v":64},1,-42.1875,-42.1875,0,"","",0,"","",0,"","","","",null,{"$f":"X352","v":17},null,{"$f":"TEXT(Y360,\"ddd\")","v":"zo"},"ZND",{"$f":"IFERROR(HLOOKUP(Y360,[1]DATA!$A$1:$NB$5,5,0),\"\")","v":"-"},null,null,null,null,{"$f":"VLOOKUP(Y360,[1]SRI!$S$4:$Z$368,8,0)","v":0},"","",""]
["18maDD",{"$f":"VLOOKUP($AA363,DATA!$B$3:$E$6,2,0)","v":"06:30:00"},{"$f":"VLOOKUP($AA363,DATA!$B$3:$E$6,3,0)","v":"14:30:00"},{"$f":"VLOOKUP($AA363,DATA!$B$3:$E$6,4,0)","v":3.125E-2},0.30208333333333331,0.18958333333333333,{"$f":"DATA!$C$9","v":0.89},{"$f":"DATA!$C$10","v":64},1,255.9375,407.8125,0.1125,151.875,0.3724137931034483,{"$f":"TIME(INT($AD363/60),INT(MOD($AD363,60)/1),0)","v":0},"","",294.39999999999998,256,"",256,"",null,{"$f":"X373","v":18},{"$f":"Y360+1","v":"2018-04-30"},{"$f":"TEXT(Y363,\"ddd\")","v":"ma"},"DD",{"$f":"IFERROR(HLOOKUP(Y363,[1]DATA!$A$1:$NB$5,3,0),\"\")","v":"D2"},162,null,20,276,{"$f":"VLOOKUP(Y363,[1]SRI!$S$4:$Z$368,6,0)","v":5},6.25E-2,0.62773946360153254,0.98329993319973275,{"$f":"IF(SUMIF(S363:S383,\">0\",K363:K383)=0,\"\",SUMIF(S363:S383,\">0\",K363:K383))","v":6525},{"$f":"IF(SUM(S363:S383)=0,\"\",SUM(S363:S383))","v":4742},{"$f":"IFERROR(AL363/AK363,\"-\")","v":0.72674329501915713},{"$f":"IF(SUM(M363:M383)=0,\"0\",SUM(M363:M383))","v":1397.8125},{"$f":"IFERROR(AN363/AK363,\"-\")","v":0.21422413793103448},{"$f":"IF(SUM(P363:P383)=0,0,SUM(P363:P383))","v":0},{"$f":"IFERROR(AP363/AK363,\"-\")","v":0},0.97777075172485639,{"$f":"IFERROR(SUMIF($AB363:$AB383,AS$5,$AJ363:$AJ383)/COUNTIFS($AB363:$AB383,AS$5,$AJ363:$AJ383,\">0\"),\"\")","v":0.97586639590330759},0.9902166020584211,0.96474008714612791,{"$f":"IFERROR((AK363-AL363-AN363-AP363),\"-\")","v":385.1875},{"$f":"IFERROR((1-AM363-AO363-AQ363), \"-\")","v":5.9032567049808388E-2},{"$f":"IFERROR((AV363*$AE$2)/60,\"-\")","v":410.86666666666667},{"$f":"IFERROR(SUM(AG363:AG383),\"\")","v":126}]
["18maMD",{"$f":"VLOOKUP($AA364,DATA!$B$3:$E$6,2,0)","v":"14:30:00"},{"$f":"VLOOKUP($AA364,DATA!$B$3:$E$6,3,0)","v":"22:30:00"},{"$f":"VLOOKUP($AA364,DATA!$B$3:$E$6,4,0)","v":3.125E-2},0.30208333333333337,0.19375000000000003,{"$f":"DATA!$C$9","v":0.89},{"$f":"DATA!$C$10","v":64},1,261.56250000000006,407.81250000000006,0.10833333333333334,146.25,0.35862068965517235,{"$f":"TIME(INT(AD364/60),INT(MOD(AD364,60)/1),0)","v":0},"","",309.33333333333331,265,265,"","",null,{"$f":"X373","v":18},null,{"$f":"TEXT(Y363,\"ddd\")","v":"ma"},"MD",{"$f":"IFERROR(HLOOKUP(Y363,[1]DATA!$A$1:$NB$5,4,0),\"\")","v":"D1"},156,null,25,290,{"$f":"VLOOKUP(Y363,[1]SRI!$S$4:$Z$368,7,0)","v":10},3.4374999999999432,0.6498084291187739,0.96868475991649272]
["18maND",{"$f":"VLOOKUP($AA365,DATA!$B$3:$E$6,2,0)","v":"22:30:00"},{"$f":"VLOOKUP($AA365,DATA!$B$3:$E$6,3,0)","v":"06:30:00"},{"$f":"VLOOKUP($AA365,DATA!$B$3:$E$6,4,0)","v":3.125E-2},0.30208333333333326,0.30138888888888882,{"$f":"DATA!$C$9","v":0.89},{"$f":"DATA!$C$10","v":64},1,406.87499999999989,407.81249999999989,6.9444444444444447E-4,0.9375,2.2988505747126445E-3,0,"","",376.5333333333333,341,"","",341,null,{"$f":"X373","v":18},null,{"$f":"TEXT(Y363,\"ddd\")","v":"ma"},"ND",{"$f":"IFERROR(HLOOKUP(Y363,[1]DATA!$A$1:$NB$5,5,0),\"\")","v":"D3"},1,null,12,353,{"$f":"VLOOKUP(Y363,[1]SRI!$S$4:$Z$368,8,0)","v":9},-65.874999999999886,0.8361685823754792,0.97665571502680271]
["18diDD",{"$f":"VLOOKUP($AA366,DATA!$B$3:$E$6,2,0)","v":"06:30:00"},{"$f":"VLOOKUP($AA366,DATA!$B$3:$E$6,3,0)","v":"14:30:00"},{"$f":"VLOOKUP($AA366,DATA!$B$3:$E$6,4,0)","v":3.125E-2},0.30208333333333331,0.26458333333333334,{"$f":"DATA!$C$9","v":0.89},{"$f":"DATA!$C$10","v":64},1,357.1875,407.8125,3.7499999999999999E-2,50.625,0.12413793103448276,0,"","",374.4,338,"",338,"",null,{"$f":"X373","v":18},{"$f":"Y363+1","v":"2018-05-01"},{"$f":"TEXT(Y366,\"ddd\")","v":"di"},"DD",{"$f":"IFERROR(HLOOKUP(Y366,[1]DATA!$A$1:$NB$5,3,0),\"\")","v":"D2"},54,null,13,351,{"$f":"VLOOKUP(Y366,[1]SRI!$S$4:$Z$368,6,0)","v":9},-19.1875,0.82881226053639845,0.97652582159624413]
["18diMD",{"$f":"VLOOKUP($AA367,DATA!$B$3:$E$6,2,0)","v":"14:30:00"},{"$f":"VLOOKUP($AA367,DATA!$B$3:$E$6,3,0)","v":"22:30:00"},{"$f":"VLOOKUP($AA367,DATA!$B$3:$E$6,4,0)","v":3.125E-2},0.30208333333333337,0.23819444444444449,{"$f":"DATA!$C$9","v":0.89},{"$f":"DATA!$C$10","v":64},1,321.56250000000006,407.81250000000006,6.3888888888888884E-2,86.25,0.21149425287356319,0,"","",331.73333333333335,284,284,"","",null,{"$f":"X373","v":18},null,{"$f":"TEXT(Y366,\"ddd\")","v":"di"},"MD",{"$f":"IFERROR(HLOOKUP(Y366,[1]DATA!$A$1:$NB$5,4,0),\"\")","v":"D1"},92,null,27,311,{"$f":"VLOOKUP(Y366,[1]SRI!$S$4:$Z$368,7,0)","v":12},-37.562500000000057,0.69639846743295009,0.96508921644685808]
[{"$f":"X368&Z368&AA368","v":"18diND"},{"$f":"VLOOKUP($AA368,DATA!$B$3:$E$6,2,0)","v":"22:30:00"},{"$f":"VLOOKUP($AA368,DATA!$B$3:$E$6,3,0)","v":"06:30:00"},{"$f":"VLOOKUP($AA368,DATA!$B$3:$E$6,4,0)","v":3.125E-2},0.30208333333333326,0.28958333333333325,{"$f":"DATA!$C$9","v":0.89},{"$f":"DATA!$C$10","v":64},1,390.93749999999989,407.81249999999989,1.2499999999999999E-2,16.875,4.13793103448276E-2,0,{"$f":"IF($O368*86400/$H368=0,\"\",$O368*86400/$H368)","v":""},"",400,353,"","",353,null,{"$f":"X373","v":18},null,{"$f":"TEXT(Y366,\"ddd\")","v":"di"},"ND",{"$f":"IFERROR(HLOOKUP(Y366,[1]DATA!$A$1:$NB$5,5,0),\"\")","v":"D3"},18,null,22,375,{"$f":"VLOOKUP(Y366,[1]SRI!$S$4:$Z$368,8,0)","v":26},-37.937499999999886,0.86559386973180097,0.93896713615023475]
["18woDD",{"$f":"VLOOKUP($AA369,DATA!$B$3:$E$6,2,0)","v":"06:30:00"},{"$f":"VLOOKUP($AA369,DATA!$B$3:$E$6,3,0)","v":"14:30:00"},{"$f":"VLOOKUP($AA369,DATA!$B$3:$E$6,4,0)","v":3.125E-2},0.30208333333333331,0.20902777777777776,{"$f":"DATA!$C$9","v":0.89},{"$f":"DATA!$C$10","v":64},1,282.1875,407.8125,9.3055555555555558E-2,125.625,0.30804597701149428,0,"","",334.93333333333334,297,"",297,"",null,{"$f":"X373","v":18},{"$f":"Y366+1","v":"2018-05-02"},{"$f":"TEXT(Y369,\"ddd\")","v":"wo"},"DD",{"$f":"IFERROR(HLOOKUP(Y369,[1]DATA!$A$1:$NB$5,3,0),\"\")","v":"D2"},134,null,17,314,{"$f":"VLOOKUP(Y369,[1]SRI!$S$4:$Z$368,6,0)","v":0},14.8125,0.72827586206896555,1]
["18woMD",{"$f":"VLOOKUP($AA370,DATA!$B$3:$E$6,2,0)","v":"14:30:00"},{"$f":"VLOOKUP($AA370,DATA!$B$3:$E$6,3,0)","v":"22:30:00"},{"$f":"VLOOKUP($AA370,DATA!$B$3:$E$6,4,0)","v":3.125E-2},0.30208333333333337,0.27083333333333337,{"$f":"DATA!$C$9","v":0.89},{"$f":"DATA!$C$10","v":64},1,365.62500000000006,407.81250000000006,3.125E-2,42.1875,0.10344827586206895,0,"","",397.86666666666667,357,357,"","",null,{"$f":"X373","v":18},null,{"$f":"TEXT(Y369,\"ddd\")","v":"wo"},"MD",{"$f":"IFERROR(HLOOKUP(Y369,[1]DATA!$A$1:$NB$5,4,0),\"\")","v":"D1"},45,null,16,373,{"$f":"VLOOKUP(Y369,[1]SRI!$S$4:$Z$368,7,0)","v":5},-8.6250000000000568,0.87540229885057463,0.9875889458878041]
["18woND",{"$f":"VLOOKUP($AA371,DATA!$B$3:$E$6,2,0)","v":"22:30:00"},{"$f":"VLOOKUP($AA371,DATA!$B$3:$E$6,3,0)","v":"06:30:00"},{"$f":"VLOOKUP($AA371,DATA!$B$3:$E$6,4,0)","v":3.125E-2},0.30208333333333326,0.21180555555555547,{"$f":"DATA!$C$9","v":0.89},{"$f":"DATA!$C$10","v":64},1,285.93749999999989,407.81249999999989,9.0277777777777776E-2,121.875,0.29885057471264376,0,"","",321.06666666666666,282,"","",282,null,{"$f":"X373","v":18},null,{"$f":"TEXT(Y369,\"ddd\")","v":"wo"},"ND",{"$f":"IFERROR(HLOOKUP(Y369,[1]DATA!$A$1:$NB$5,5,0),\"\")","v":"D3"},130,null,19,301,{"$f":"VLOOKUP(Y369,[1]SRI!$S$4:$Z$368,8,0)","v":5},-3.9374999999998863,0.69149425287356336,0.98466571253322432]
["18doDD",{"$f":"VLOOKUP($AA372,DATA!$B$3:$E$6,2,0)","v":"06:30:00"},{"$f":"VLOOKUP($AA372,DATA!$B$3:$E$6,3,0)","v":"14:30:00"},{"$f":"VLOOKUP($AA372,DATA!$B$3:$E$6,4,0)","v":3.125E-2},0.30208333333333331,0.25694444444444442,{"$f":"DATA!$C$9","v":0.89},{"$f":"DATA!$C$10","v":64},1,346.87499999999994,407.8125,4.5138888888888888E-2,60.9375,0.14942528735632185,0,"","",361.6,324,"",324,"",null,{"$f":"X373","v":18},{"$f":"Y369+1","v":"2018-05-03"},{"$f":"TEXT(Y372,\"ddd\")","v":"do"},"DD",{"$f":"IFERROR(HLOOKUP(Y372,[1]DATA!$A$1:$NB$5,3,0),\"\")","v":"D2"},65,null,15,339,{"$f":"VLOOKUP(Y372,[1]SRI!$S$4:$Z$368,6,0)","v":0},-22.874999999999943,0.79448275862068962,1]
["18doMD",{"$f":"VLOOKUP($AA373,DATA!$B$3:$E$6,2,0)","v":"14:30:00"},{"$f":"VLOOKUP($AA373,DATA!$B$3:$E$6,3,0)","v":"22:30:00"},{"$f":"VLOOKUP($AA373,DATA!$B$3:$E$6,4,0)","v":3.125E-2},0.30208333333333337,0.25833333333333336,{"$f":"DATA!$C$9","v":0.89},{"$f":"DATA!$C$10","v":64},1,348.75000000000006,407.81250000000006,4.3750000000000004E-2,59.062500000000007,0.14482758620689654,0,"","",384,337,337,"","",null,{"$f":"WEEKNUM($Y363)","v":18},null,{"$f":"TEXT(Y372,\"ddd\")","v":"do"},"MD",{"$f":"IFERROR(HLOOKUP(Y372,[1]DATA!$A$1:$NB$5,4,0),\"\")","v":"D1"},63,null,23,360,{"$f":"VLOOKUP(Y372,[1]SRI!$S$4:$Z$368,7,0)","v":12},-11.750000000000057,0.82636015325670487,0.96969696969696972]
["18doND",{"$f":"VLOOKUP($AA374,DATA!$B$3:$E$6,2,0)","v":"22:30:00"},{"$f":"VLOOKUP($AA374,DATA!$B$3:$E$6,3,0)","v":"06:30:00"},{"$f":"VLOOKUP($AA374,DATA!$B$3:$E$6,4,0)","v":3.125E-2},0.30208333333333326,0.22708333333333325,{"$f":"DATA!$C$9","v":0.89},{"$f":"DATA!$C$10","v":64},1,306.56249999999989,407.81249999999989,7.4999999999999997E-2,101.25,0.2482758620689656,0,"","",311.46666666666664,288,"","",288,null,{"$f":"X373","v":18},null,{"$f":"TEXT(Y372,\"ddd\")","v":"do"},"ND",{"$f":"IFERROR(HLOOKUP(Y372,[1]DATA!$A$1:$NB$5,5,0),\"\")","v":"D3"},108,null,4,292,{"$f":"VLOOKUP(Y372,[1]SRI!$S$4:$Z$368,8,0)","v":8},-18.562499999999886,0.70620689655172431,0.97495826377295491]
["18vrDD",{"$f":"VLOOKUP($AA375,DATA!$B$3:$E$6,2,0)","v":"06:30:00"},{"$f":"VLOOKUP($AA375,DATA!$B$3:$E$6,3,0)","v":"14:30:00"},{"$f":"VLOOKUP($AA375,DATA!$B$3:$E$6,4,0)","v":3.125E-2},0.30208333333333331,0.18958333333333333,{"$f":"DATA!$C$9","v":0.89},{"$f":"DATA!$C$10","v":64},1,255.9375,407.8125,0.1125,151.875,0.3724137931034483,0,"","",305.06666666666666,254,"",254,"",null,{"$f":"X373","v":18},{"$f":"Y372+1","v":"2018-05-04"},{"$f":"TEXT(Y375,\"ddd\")","v":"vr"},"DD",{"$f":"IFERROR(HLOOKUP(Y375,[1]DATA!$A$1:$NB$5,3,0),\"\")","v":"D2"},162,null,32,286,{"$f":"VLOOKUP(Y375,[1]SRI!$S$4:$Z$368,6,0)","v":0},-1.9375,0.6228352490421456,1]
["18vrMD",{"$f":"VLOOKUP($AA376,DATA!$B$3:$E$6,2,0)","v":"14:30:00"},{"$f":"VLOOKUP($AA376,DATA!$B$3:$E$6,3,0)","v":"22:30:00"},{"$f":"VLOOKUP($AA376,DATA!$B$3:$E$6,4,0)","v":3.125E-2},0.30208333333333337,0.1541666666666667,{"$f":"DATA!$C$9","v":0.89},{"$f":"DATA!$C$10","v":64},1,208.12500000000006,407.81250000000006,0.14791666666666667,199.6875,0.48965517241379303,0,"","",252.79999999999998,226,226,"","",null,{"$f":"X373","v":18},null,{"$f":"TEXT(Y375,\"ddd\")","v":"vr"},"MD",{"$f":"IFERROR(HLOOKUP(Y375,[1]DATA!$A$1:$NB$5,4,0),\"\")","v":"D1"},213,null,11,237,{"$f":"VLOOKUP(Y375,[1]SRI!$S$4:$Z$368,7,0)","v":3},17.874999999999943,0.55417624521072795,0.98827208756841278]
["18vrND",{"$f":"VLOOKUP($AA377,DATA!$B$3:$E$6,2,0)","v":"22:30:00"},{"$f":"VLOOKUP($AA377,DATA!$B$3:$E$6,3,0)","v":"06:30:00"},{"$f":"VLOOKUP($AA377,DATA!$B$3:$E$6,4,0)","v":3.125E-2},0.30208333333333326,0.27430555555555547,{"$f":"DATA!$C$9","v":0.89},{"$f":"DATA!$C$10","v":64},1,370.31249999999989,407.81249999999989,2.7777777777777776E-2,37.5,9.1954022988505774E-2,0,"","",294.39999999999998,269,"","",269,null,{"$f":"X373","v":18},null,{"$f":"TEXT(Y375,\"ddd\")","v":"vr"},"ND",{"$f":"IFERROR(HLOOKUP(Y375,[1]DATA!$A$1:$NB$5,5,0),\"\")","v":"D3"},40,null,7,276,{"$f":"VLOOKUP(Y375,[1]SRI!$S$4:$Z$368,8,0)","v":16},-101.31249999999989,0.65961685823754812,0.94845360824742264]
["18zaDD",{"$f":"VLOOKUP($AA378,DATA!$B$3:$E$6,2,0)","v":"06:30:00"},{"$f":"VLOOKUP($AA378,DATA!$B$3:$E$6,3,0)","v":"14:30:00"},{"$f":"VLOOKUP($AA378,DATA!$B$3:$E$6,4,0)","v":3.125E-2},0.30208333333333331,0.26874999999999999,{"$f":"DATA!$C$9","v":0.89},{"$f":"DATA!$C$10","v":64},1,362.8125,407.8125,3.3333333333333333E-2,45,0.1103448275862069,0,"","",317.86666666666667,271,"",271,"",null,{"$f":"X373","v":18},{"$f":"Y375+1","v":"2018-05-05"},{"$f":"TEXT(Y378,\"ddd\")","v":"za"},"DD",{"$f":"IFERROR(HLOOKUP(Y378,[1]DATA!$A$1:$NB$5,3,0),\"\")","v":"D2"},48,null,27,298,{"$f":"VLOOKUP(Y378,[1]SRI!$S$4:$Z$368,6,0)","v":6},-91.8125,0.66452107279693484,0.98147385755454919]
["18zaMD",{"$f":"VLOOKUP($AA379,DATA!$B$3:$E$6,2,0)","v":"14:30:00"},{"$f":"VLOOKUP($AA379,DATA!$B$3:$E$6,3,0)","v":"22:30:00"},{"$f":"VLOOKUP($AA379,DATA!$B$3:$E$6,4,0)","v":3.125E-2},0.30208333333333337,0.30208333333333337,{"$f":"DATA!$C$9","v":0.89},{"$f":"DATA!$C$10","v":64},1,407.81250000000006,407.81250000000006,0,"","",0,"","",0,"","","","",null,{"$f":"X373","v":18},null,{"$f":"TEXT(Y378,\"ddd\")","v":"za"},"MD",{"$f":"IFERROR(HLOOKUP(Y378,[1]DATA!$A$1:$NB$5,4,0),\"\")","v":"-"},null,null,null,null,{"$f":"VLOOKUP(Y378,[1]SRI!$S$4:$Z$368,7,0)","v":0},"","",""]
["18zaND",{"$f":"VLOOKUP($AA380,DATA!$B$3:$E$6,2,0)","v":"22:30:00"},{"$f":"VLOOKUP($AA380,DATA!$B$3:$E$6,3,0)","v":"06:30:00"},{"$f":"VLOOKUP($AA380,DATA!$B$3:$E$6,4,0)","v":3.125E-2},0.30208333333333326,0.30208333333333326,{"$f":"DATA!$C$9","v":0.89},{"$f":"DATA!$C$10","v":64},1,407.81249999999989,407.81249999999989,0,"","",0,"","",0,"","","","",null,{"$f":"X373","v":18},null,{"$f":"TEXT(Y378,\"ddd\")","v":"za"},"ND",{"$f":"IFERROR(HLOOKUP(Y378,[1]DATA!$A$1:$NB$5,5,0),\"\")","v":"-"},null,null,null,null,{"$f":"VLOOKUP(Y378,[1]SRI!$S$4:$Z$368,8,0)","v":0},"","",""]
["18zoDD",{"$f":"VLOOKUP($AA381,DATA!$B$3:$E$6,2,0)","v":"06:30:00"},{"$f":"VLOOKUP($AA381,DATA!$B$3:$E$6,3,0)","v":"14:30:00"},{"$f":"VLOOKUP($AA381,DATA!$B$3:$E$6,4,0)","v":3.125E-2},0.30208333333333331,0.30208333333333331,{"$f":"DATA!$C$9","v":0.89},{"$f":"DATA!$C$10","v":64},1,407.8125,407.8125,0,"","",0,"","",0,"","","","",null,{"$f":"X373","v":18},{"$f":"Y378+1","v":"2018-05-06"},{"$f":"TEXT(Y381,\"ddd\")","v":"zo"},"DD",{"$f":"IFERROR(HLOOKUP(Y381,[1]DATA!$A$1:$NB$5,3,0),\"\")","v":"-"},null,null,null,null,{"$f":"VLOOKUP(Y381,[1]SRI!$S$4:$Z$368,6,0)","v":0},"","",""]
["18zoMD",{"$f":"VLOOKUP($AA382,DATA!$B$3:$E$6,2,0)","v":"14:30:00"},{"$f":"VLOOKUP($AA382,DATA!$B$3:$E$6,3,0)","v":"22:30:00"},{"$f":"VLOOKUP($AA382,DATA!$B$3:$E$6,4,0)","v":3.125E-2},0.30208333333333337,0.30208333333333337,{"$f":"DATA!$C$9","v":0.89},{"$f":"DATA!$C$10","v":64},1,407.81250000000006,407.81250000000006,0,"","",0,"","",0,"","","","",null,{"$f":"X373","v":18},null,{"$f":"TEXT(Y381,\"ddd\")","v":"zo"},"MD",{"$f":"IFERROR(HLOOKUP(Y381,[1]DATA!$A$1:$NB$5,4,0),\"\")","v":"-"},null,null,null,null,{"$f":"VLOOKUP(Y381,[1]SRI!$S$4:$Z$368,7,0)","v":0},"","",""]
["18zoZND",{"$f":"VLOOKUP($AA383,DATA!$B$3:$E$6,2,0)","v":"00:00:00"},{"$f":"VLOOKUP($AA383,DATA!$B$3:$E$6,3,0)","v":"00:00:00"},{"$f":"VLOOKUP($AA383,DATA!$B$3:$E$6,4,0)","v":3.125E-2},-3.125E-2,-3.125E-2,{"$f":"DATA!$C$9","v":0.89},{"$f":"DATA!$C$10","v":64},1,-42.1875,-42.1875,0,"","",0,"","",0,"","","","",null,{"$f":"X373","v":18},null,{"$f":"TEXT(Y381,\"ddd\")","v":"zo"},"ZND",{"$f":"IFERROR(HLOOKUP(Y381,[1]DATA!$A$1:$NB$5,5,0),\"\")","v":"-"},null,null,null,null,{"$f":"VLOOKUP(Y381,[1]SRI!$S$4:$Z$368,8,0)","v":0},"","",""]
["19maDD",{"$f":"VLOOKUP($AA384,DATA!$B$3:$E$6,2,0)","v":"06:30:00"},{"$f":"VLOOKUP($AA384,DATA!$B$3:$E$6,3,0)","v":"14:30:00"},{"$f":"VLOOKUP($AA384,DATA!$B$3:$E$6,4,0)","v":3.125E-2},0.30208333333333331,0.24930555555555553,{"$f":"DATA!$C$9","v":0.89},{"$f":"DATA!$C$10","v":64},1,336.56249999999994,407.8125,5.2777777777777778E-2,71.25,0.17471264367816092,{"$f":"TIME(INT($AD384/60),INT(MOD($AD384,60)/1),0)","v":0},"","",342.4,305,305,"","",null,{"$f":"X394","v":19},{"$f":"Y381+1","v":"2018-05-07"},{"$f":"TEXT(Y384,\"ddd\")","v":"ma"},"DD",{"$f":"IFERROR(HLOOKUP(Y384,[1]DATA!$A$1:$NB$5,3,0),\"\")","v":"D1"},76,null,16,321,{"$f":"VLOOKUP(Y384,[1]SRI!$S$4:$Z$368,6,0)","v":12},-31.562499999999943,0.74789272030651344,0.96613995485327309,{"$f":"IF(SUMIF(S384:S404,\">0\",K384:K404)=0,\"\",SUMIF(S384:S404,\">0\",K384:K404))","v":5301.5625},{"$f":"IF(SUM(S384:S404)=0,\"\",SUM(S384:S404))","v":3748},{"$f":"IFERROR(AL384/AK384,\"-\")","v":0.7069613910993221},{"$f":"IF(SUM(M384:M404)=0,\"0\",SUM(M384:M404))","v":1524.375},{"$f":"IFERROR(AN384/AK384,\"-\")","v":0.28753315649867373},{"$f":"IF(SUM(P384:P404)=0,0,SUM(P384:P404))","v":0},{"$f":"IFERROR(AP384/AK384,\"-\")","v":0},0.98167174215627118,{"$f":"IFERROR(SUMIF($AB384:$AB404,AS$5,$AJ384:$AJ404)/COUNTIFS($AB384:$AB404,AS$5,$AJ384:$AJ404,\">0\"),\"\")","v":0.98531227247317921},0.96966090198511146,0.98913191943129597,{"$f":"IFERROR((AK384-AL384-AN384-AP384),\"-\")","v":29.1875},{"$f":"IFERROR((1-AM384-AO384-AQ384), \"-\")","v":5.505452402004174E-3},{"$f":"IFERROR((AV384*$AE$2)/60,\"-\")","v":31.133333333333333},{"$f":"IFERROR(SUM(AG384:AG404),\"\")","v":80}]
["19maMD",{"$f":"VLOOKUP($AA385,DATA!$B$3:$E$6,2,0)","v":"14:30:00"},{"$f":"VLOOKUP($AA385,DATA!$B$3:$E$6,3,0)","v":"22:30:00"},{"$f":"VLOOKUP($AA385,DATA!$B$3:$E$6,4,0)","v":3.125E-2},0.30208333333333337,0.20347222222222228,{"$f":"DATA!$C$9","v":0.89},{"$f":"DATA!$C$10","v":64},1,274.68750000000006,407.81250000000006,9.8611111111111108E-2,133.125,0.32643678160919537,{"$f":"TIME(INT(AD385/60),INT(MOD(AD385,60)/1),0)","v":0},"","",299.73333333333335,268,"","",268,null,{"$f":"X394","v":19},null,{"$f":"TEXT(Y384,\"ddd\")","v":"ma"},"MD",{"$f":"IFERROR(HLOOKUP(Y384,[1]DATA!$A$1:$NB$5,4,0),\"\")","v":"D3"},142,null,13,281,{"$f":"VLOOKUP(Y384,[1]SRI!$S$4:$Z$368,7,0)","v":6},-6.6875000000000568,0.65716475095785432,0.98037505451373741]
["19maND",{"$f":"VLOOKUP($AA386,DATA!$B$3:$E$6,2,0)","v":"22:30:00"},{"$f":"VLOOKUP($AA386,DATA!$B$3:$E$6,3,0)","v":"06:30:00"},{"$f":"VLOOKUP($AA386,DATA!$B$3:$E$6,4,0)","v":3.125E-2},0.30208333333333326,0.24930555555555547,{"$f":"DATA!$C$9","v":0.89},{"$f":"DATA!$C$10","v":64},1,336.56249999999989,407.81249999999989,5.2777777777777778E-2,71.25,0.17471264367816097,0,"","",363.73333333333335,324,"",324,"",null,{"$f":"X394","v":19},null,{"$f":"TEXT(Y384,\"ddd\")","v":"ma"},"ND",{"$f":"IFERROR(HLOOKUP(Y384,[1]DATA!$A$1:$NB$5,5,0),\"\")","v":"D2"},76,null,17,341,{"$f":"VLOOKUP(Y384,[1]SRI!$S$4:$Z$368,8,0)","v":13},-12.562499999999886,0.79448275862068984,0.96549283312688017]
["19diDD",{"$f":"VLOOKUP($AA387,DATA!$B$3:$E$6,2,0)","v":"06:30:00"},{"$f":"VLOOKUP($AA387,DATA!$B$3:$E$6,3,0)","v":"14:30:00"},{"$f":"VLOOKUP($AA387,DATA!$B$3:$E$6,4,0)","v":3.125E-2},0.30208333333333331,0.25208333333333333,{"$f":"DATA!$C$9","v":0.89},{"$f":"DATA!$C$10","v":64},1,340.3125,407.8125,4.9999999999999996E-2,67.5,0.16551724137931034,0,"","",368,335,335,"","",null,{"$f":"X394","v":19},{"$f":"Y384+1","v":"2018-05-08"},{"$f":"TEXT(Y387,\"ddd\")","v":"di"},"DD",{"$f":"IFERROR(HLOOKUP(Y387,[1]DATA!$A$1:$NB$5,3,0),\"\")","v":"D1"},72,null,10,345,{"$f":"VLOOKUP(Y387,[1]SRI!$S$4:$Z$368,6,0)","v":0},-5.3125,0.82145593869731803,1]
["19diMD",{"$f":"VLOOKUP($AA388,DATA!$B$3:$E$6,2,0)","v":"14:30:00"},{"$f":"VLOOKUP($AA388,DATA!$B$3:$E$6,3,0)","v":"22:30:00"},{"$f":"VLOOKUP($AA388,DATA!$B$3:$E$6,4,0)","v":3.125E-2},0.30208333333333337,0.21597222222222223,{"$f":"DATA!$C$9","v":0.89},{"$f":"DATA!$C$10","v":64},1,291.5625,407.81250000000006,8.6111111111111124E-2,116.25000000000001,0.28505747126436781,0,"","",327.46666666666664,290,"","",290,null,{"$f":"X394","v":19},null,{"$f":"TEXT(Y387,\"ddd\")","v":"di"},"MD",{"$f":"IFERROR(HLOOKUP(Y387,[1]DATA!$A$1:$NB$5,4,0),\"\")","v":"D3"},124,null,17,307,{"$f":"VLOOKUP(Y387,[1]SRI!$S$4:$Z$368,7,0)","v":8},-1.5625,0.71111111111111103,0.97615262321144669]
["19diND",{"$f":"VLOOKUP($AA389,DATA!$B$3:$E$6,2,0)","v":"22:30:00"},{"$f":"VLOOKUP($AA389,DATA!$B$3:$E$6,3,0)","v":"06:30:00"},{"$f":"VLOOKUP($AA389,DATA!$B$3:$E$6,4,0)","v":3.125E-2},0.30208333333333326,0.25347222222222215,{"$f":"DATA!$C$9","v":0.89},{"$f":"DATA!$C$10","v":64},1,342.18749999999989,407.81249999999989,4.8611111111111112E-2,65.625,0.16091954022988511,0,"","",384,341,"",341,"",null,{"$f":"X394","v":19},null,{"$f":"TEXT(Y387,\"ddd\")","v":"di"},"ND",{"$f":"IFERROR(HLOOKUP(Y387,[1]DATA!$A$1:$NB$5,5,0),\"\")","v":"D2"},70,null,19,360,{"$f":"VLOOKUP(Y387,[1]SRI!$S$4:$Z$368,8,0)","v":6},-1.1874999999998863,0.8361685823754792,0.98461538461538467]
["19woDD",{"$f":"VLOOKUP($AA390,DATA!$B$3:$E$6,2,0)","v":"06:30:00"},{"$f":"VLOOKUP($AA390,DATA!$B$3:$E$6,3,0)","v":"14:30:00"},{"$f":"VLOOKUP($AA390,DATA!$B$3:$E$6,4,0)","v":3.125E-2},0.30208333333333331,0.21736111111111112,{"$f":"DATA!$C$9","v":0.89},{"$f":"DATA!$C$10","v":64},1,293.4375,407.8125,8.4722222222222213E-2,114.37499999999999,0.2804597701149425,0,"","",338.13333333333333,299,299,"","",null,{"$f":"X394","v":19},{"$f":"Y387+1","v":"2018-05-09"},{"$f":"TEXT(Y390,\"ddd\")","v":"wo"},"DD",{"$f":"IFERROR(HLOOKUP(Y390,[1]DATA!$A$1:$NB$5,3,0),\"\")","v":"D1"},122,null,18,317,{"$f":"VLOOKUP(Y390,[1]SRI!$S$4:$Z$368,6,0)","v":6},{"$f":"IFERROR(S390-J390,\"\")","v":5.5625},{"$f":"IFERROR(IF(S390/(E390*86400/H390)<=0,\"\",S390/(E390*86400/H390)),\"\")","v":0.7331800766283525},0.98256489732661756]
["19woMD",{"$f":"VLOOKUP($AA391,DATA!$B$3:$E$6,2,0)","v":"14:30:00"},{"$f":"VLOOKUP($AA391,DATA!$B$3:$E$6,3,0)","v":"22:30:00"},{"$f":"VLOOKUP($AA391,DATA!$B$3:$E$6,4,0)","v":3.125E-2},0.30208333333333337,0.16388888888888895,{"$f":"DATA!$C$9","v":0.89},{"$f":"DATA!$C$10","v":64},1,221.25000000000009,407.81250000000006,{"$f":"TIME(INT($AC391/60),INT(MOD($AC391,60)/1),0)","v":0.13819444444444443},{"$f":"IF($L391*86400/$H391=0,\"\",$L391*86400/$H391)","v":186.56249999999997},{"$f":"IFERROR($M391/$K391,\"\")","v":0.45747126436781593},0,"",{"$f":"IFERROR($P391/$K391,\"\")","v":""},278.39999999999998,237,{"$f":"IF(IF($AB391=\"D1\",$S391,\"\")=0,\"\",IF($AB391=\"D1\",$S391,\"\"))","v":""},{"$f":"IF(IF($AB391=\"D2\",$S391,\"\")=0,\"\",IF($AB391=\"D2\",$S391,\"\"))","v":""},{"$f":"IF(IF($AB391=\"D3\",$S391,\"\")=0,\"\",IF($AB391=\"D3\",$S391,\"\"))","v":237},null,{"$f":"X394","v":19},null,{"$f":"TEXT(Y390,\"ddd\")","v":"wo"},"MD",{"$f":"IFERROR(HLOOKUP(Y390,[1]DATA!$A$1:$NB$5,4,0),\"\")","v":"D3"},199,null,24,261,{"$f":"VLOOKUP(Y390,[1]SRI!$S$4:$Z$368,7,0)","v":0},15.749999999999915,0.58114942528735625,1]
["19woND",{"$f":"VLOOKUP($AA392,DATA!$B$3:$E$6,2,0)","v":"22:30:00"},{"$f":"VLOOKUP($AA392,DATA!$B$3:$E$6,3,0)","v":"06:30:00"},{"$f":"VLOOKUP($AA392,DATA!$B$3:$E$6,4,0)","v":3.125E-2},0.30208333333333326,0.2180555555555555,{"$f":"DATA!$C$9","v":0.89},{"$f":"DATA!$C$10","v":64},1,294.37499999999994,407.81249999999989,8.4027777777777771E-2,113.43749999999999,0.27816091954022992,0,"","",341.33333333333331,309,"",309,"",null,{"$f":"X394","v":19},null,{"$f":"TEXT(Y390,\"ddd\")","v":"wo"},"ND",{"$f":"IFERROR(HLOOKUP(Y390,[1]DATA!$A$1:$NB$5,5,0),\"\")","v":"D2"},121,null,11,320,{"$f":"VLOOKUP(Y390,[1]SRI!$S$4:$Z$368,8,0)","v":14},14.625000000000057,0.75770114942528755,0.96060037523452158]
["19doDD",{"$f":"VLOOKUP($AA393,DATA!$B$3:$E$6,2,0)","v":"06:30:00"},{"$f":"VLOOKUP($AA393,DATA!$B$3:$E$6,3,0)","v":"14:30:00"},{"$f":"VLOOKUP($AA393,DATA!$B$3:$E$6,4,0)","v":3.125E-2},0.30208333333333331,0.30208333333333331,{"$f":"DATA!$C$9","v":0.89},{"$f":"DATA!$C$10","v":64},1,407.8125,407.8125,0,"","",0,"","",0,"","","","",null,{"$f":"X394","v":19},{"$f":"Y390+1","v":"2018-05-10"},{"$f":"TEXT(Y393,\"ddd\")","v":"do"},"DD",{"$f":"IFERROR(HLOOKUP(Y393,[1]DATA!$A$1:$NB$5,3,0),\"\")","v":"D1"},null,null,null,null,{"$f":"VLOOKUP(Y393,[1]SRI!$S$4:$Z$368,6,0)","v":0},"","",""]
["19doMD",{"$f":"VLOOKUP($AA394,DATA!$B$3:$E$6,2,0)","v":"14:30:00"},{"$f":"VLOOKUP($AA394,DATA!$B$3:$E$6,3,0)","v":"22:30:00"},{"$f":"VLOOKUP($AA394,DATA!$B$3:$E$6,4,0)","v":3.125E-2},0.30208333333333337,0.30208333333333337,{"$f":"DATA!$C$9","v":0.89},{"$f":"DATA!$C$10","v":64},1,407.81250000000006,407.81250000000006,0,"","",0,"","",0,"","","","",null,{"$f":"WEEKNUM($Y384)","v":19},null,{"$f":"TEXT(Y393,\"ddd\")","v":"do"},"MD",{"$f":"IFERROR(HLOOKUP(Y393,[1]DATA!$A$1:$NB$5,4,0),\"\")","v":"D3"},null,null,null,null,{"$f":"VLOOKUP(Y393,[1]SRI!$S$4:$Z$368,7,0)","v":0},"","",""]
["19doND",{"$f":"VLOOKUP($AA395,DATA!$B$3:$E$6,2,0)","v":"22:30:00"},{"$f":"VLOOKUP($AA395,DATA!$B$3:$E$6,3,0)","v":"06:30:00"},{"$f":"VLOOKUP($AA395,DATA!$B$3:$E$6,4,0)","v":3.125E-2},0.30208333333333326,0.30208333333333326,{"$f":"DATA!$C$9","v":0.89},{"$f":"DATA!$C$10","v":64},1,407.81249999999989,407.81249999999989,0,"","",0,"","",0,"","","","",null,{"$f":"X394","v":19},null,{"$f":"TEXT(Y393,\"ddd\")","v":"do"},"ND",{"$f":"IFERROR(HLOOKUP(Y393,[1]DATA!$A$1:$NB$5,5,0),\"\")","v":"D2"},null,null,null,null,{"$f":"VLOOKUP(Y393,[1]SRI!$S$4:$Z$368,8,0)","v":0},"","",""]
["19vrDD",{"$f":"VLOOKUP($AA396,DATA!$B$3:$E$6,2,0)","v":"06:30:00"},{"$f":"VLOOKUP($AA396,DATA!$B$3:$E$6,3,0)","v":"14:30:00"},{"$f":"VLOOKUP($AA396,DATA!$B$3:$E$6,4,0)","v":3.125E-2},0.30208333333333331,0.14930555555555555,{"$f":"DATA!$C$9","v":0.89},{"$f":"DATA!$C$10","v":64},1,201.5625,407.8125,0.15277777777777776,206.24999999999997,0.50574712643678155,0,"","",220.79999999999998,185,185,"","",null,{"$f":"X394","v":19},{"$f":"Y393+1","v":"2018-05-11"},{"$f":"TEXT(Y396,\"ddd\")","v":"vr"},"DD",{"$f":"IFERROR(HLOOKUP(Y396,[1]DATA!$A$1:$NB$5,3,0),\"\")","v":"D1"},220,null,22,207,{"$f":"VLOOKUP(Y396,[1]SRI!$S$4:$Z$368,6,0)","v":5},-16.5625,0.45363984674329499,0.97785651018600528]
["19vrMD",{"$f":"VLOOKUP($AA397,DATA!$B$3:$E$6,2,0)","v":"14:30:00"},{"$f":"VLOOKUP($AA397,DATA!$B$3:$E$6,3,0)","v":"22:30:00"},{"$f":"VLOOKUP($AA397,DATA!$B$3:$E$6,4,0)","v":3.125E-2},0.30208333333333337,0.20277777777777783,{"$f":"DATA!$C$9","v":0.89},{"$f":"DATA!$C$10","v":64},1,273.75000000000006,407.81250000000006,9.930555555555555E-2,134.0625,0.328735632183908,0,"","",330.66666666666669,289,"","",289,null,{"$f":"X394","v":19},null,{"$f":"TEXT(Y396,\"ddd\")","v":"vr"},"MD",{"$f":"IFERROR(HLOOKUP(Y396,[1]DATA!$A$1:$NB$5,4,0),\"\")","v":"D3"},143,null,21,310,{"$f":"VLOOKUP(Y396,[1]SRI!$S$4:$Z$368,7,0)","v":0},15.249999999999943,0.70865900383141756,1]
["19vrND",{"$f":"VLOOKUP($AA398,DATA!$B$3:$E$6,2,0)","v":"22:30:00"},{"$f":"VLOOKUP($AA398,DATA!$B$3:$E$6,3,0)","v":"06:30:00"},{"$f":"VLOOKUP($AA398,DATA!$B$3:$E$6,4,0)","v":3.125E-2},0.30208333333333326,0.21041666666666659,{"$f":"DATA!$C$9","v":0.89},{"$f":"DATA!$C$10","v":64},1,284.06249999999989,407.81249999999989,9.1666666666666674E-2,123.75000000000001,0.30344827586206907,0,"","",301.86666666666667,271,"",271,"",null,{"$f":"X394","v":19},null,{"$f":"TEXT(Y396,\"ddd\")","v":"vr"},"ND",{"$f":"IFERROR(HLOOKUP(Y396,[1]DATA!$A$1:$NB$5,5,0),\"\")","v":"D2"},132,null,12,283,{"$f":"VLOOKUP(Y396,[1]SRI!$S$4:$Z$368,8,0)","v":10},-13.062499999999886,0.66452107279693506,0.96793501496365963]
["19zaDD",{"$f":"VLOOKUP($AA399,DATA!$B$3:$E$6,2,0)","v":"06:30:00"},{"$f":"VLOOKUP($AA399,DATA!$B$3:$E$6,3,0)","v":"14:30:00"},{"$f":"VLOOKUP($AA399,DATA!$B$3:$E$6,4,0)","v":3.125E-2},0.30208333333333331,0.21249999999999997,{"$f":"DATA!$C$9","v":0.89},{"$f":"DATA!$C$10","v":64},1,286.87499999999994,407.8125,8.9583333333333334E-2,120.9375,0.29655172413793102,0,"","",328.5333333333333,295,295,"","",null,{"$f":"X394","v":19},{"$f":"Y396+1","v":"2018-05-12"},{"$f":"TEXT(Y399,\"ddd\")","v":"za"},"DD",{"$f":"IFERROR(HLOOKUP(Y399,[1]DATA!$A$1:$NB$5,3,0),\"\")","v":"D1"},129,null,13,308,{"$f":"VLOOKUP(Y399,[1]SRI!$S$4:$Z$368,6,0)","v":0},8.1250000000000568,0.7233716475095785,1]
["19zaMD",{"$f":"VLOOKUP($AA400,DATA!$B$3:$E$6,2,0)","v":"14:30:00"},{"$f":"VLOOKUP($AA400,DATA!$B$3:$E$6,3,0)","v":"22:30:00"},{"$f":"VLOOKUP($AA400,DATA!$B$3:$E$6,4,0)","v":3.125E-2},0.30208333333333337,0.30208333333333337,{"$f":"DATA!$C$9","v":0.89},{"$f":"DATA!$C$10","v":64},1,407.81250000000006,407.81250000000006,0,"","",0,"","",0,"","","","",null,{"$f":"X394","v":19},null,{"$f":"TEXT(Y399,\"ddd\")","v":"za"},"MD",{"$f":"IFERROR(HLOOKUP(Y399,[1]DATA!$A$1:$NB$5,4,0),\"\")","v":"-"},null,null,null,null,{"$f":"VLOOKUP(Y399,[1]SRI!$S$4:$Z$368,7,0)","v":0},"","",""]
["19zaND",{"$f":"VLOOKUP($AA401,DATA!$B$3:$E$6,2,0)","v":"22:30:00"},{"$f":"VLOOKUP($AA401,DATA!$B$3:$E$6,3,0)","v":"06:30:00"},{"$f":"VLOOKUP($AA401,DATA!$B$3:$E$6,4,0)","v":3.125E-2},0.30208333333333326,0.30208333333333326,{"$f":"DATA!$C$9","v":0.89},{"$f":"DATA!$C$10","v":64},1,407.81249999999989,407.81249999999989,0,"","",0,"","",0,"","","","",null,{"$f":"X394","v":19},null,{"$f":"TEXT(Y399,\"ddd\")","v":"za"},"ND",{"$f":"IFERROR(HLOOKUP(Y399,[1]DATA!$A$1:$NB$5,5,0),\"\")","v":"-"},null,null,null,null,{"$f":"VLOOKUP(Y399,[1]SRI!$S$4:$Z$368,8,0)","v":0},"","",""]
["19zoDD",{"$f":"VLOOKUP($AA402,DATA!$B$3:$E$6,2,0)","v":"06:30:00"},{"$f":"VLOOKUP($AA402,DATA!$B$3:$E$6,3,0)","v":"14:30:00"},{"$f":"VLOOKUP($AA402,DATA!$B$3:$E$6,4,0)","v":3.125E-2},0.30208333333333331,0.30208333333333331,{"$f":"DATA!$C$9","v":0.89},{"$f":"DATA!$C$10","v":64},1,407.8125,407.8125,0,"","",0,"","",0,"","","","",null,{"$f":"X394","v":19},{"$f":"Y399+1","v":"2018-05-13"},{"$f":"TEXT(Y402,\"ddd\")","v":"zo"},"DD",{"$f":"IFERROR(HLOOKUP(Y402,[1]DATA!$A$1:$NB$5,3,0),\"\")","v":"-"},null,null,null,null,{"$f":"VLOOKUP(Y402,[1]SRI!$S$4:$Z$368,6,0)","v":0},"","",""]
["19zoMD",{"$f":"VLOOKUP($AA403,DATA!$B$3:$E$6,2,0)","v":"14:30:00"},{"$f":"VLOOKUP($AA403,DATA!$B$3:$E$6,3,0)","v":"22:30:00"},{"$f":"VLOOKUP($AA403,DATA!$B$3:$E$6,4,0)","v":3.125E-2},0.30208333333333337,0.30208333333333337,{"$f":"DATA!$C$9","v":0.89},{"$f":"DATA!$C$10","v":64},1,407.81250000000006,407.81250000000006,0,"","",0,"","",0,"","","","",null,{"$f":"X394","v":19},null,{"$f":"TEXT(Y402,\"ddd\")","v":"zo"},"MD",{"$f":"IFERROR(HLOOKUP(Y402,[1]DATA!$A$1:$NB$5,4,0),\"\")","v":"-"},null,null,null,null,{"$f":"VLOOKUP(Y402,[1]SRI!$S$4:$Z$368,7,0)","v":0},"","",""]
["19zoZND",{"$f":"VLOOKUP($AA404,DATA!$B$3:$E$6,2,0)","v":"00:00:00"},{"$f":"VLOOKUP($AA404,DATA!$B$3:$E$6,3,0)","v":"00:00:00"},{"$f":"VLOOKUP($AA404,DATA!$B$3:$E$6,4,0)","v":3.125E-2},-3.125E-2,-3.125E-2,{"$f":"DATA!$C$9","v":0.89},{"$f":"DATA!$C$10","v":64},1,-42.1875,-42.1875,0,"","",0,"","",0,"","","","",null,{"$f":"X394","v":19},null,{"$f":"TEXT(Y402,\"ddd\")","v":"zo"},"ZND",{"$f":"IFERROR(HLOOKUP(Y402,[1]DATA!$A$1:$NB$5,5,0),\"\")","v":"-"},null,null,null,null,{"$f":"VLOOKUP(Y402,[1]SRI!$S$4:$Z$368,8,0)","v":0},"","",""]
["20maDD",{"$f":"VLOOKUP($AA405,DATA!$B$3:$E$6,2,0)","v":"06:30:00"},{"$f":"VLOOKUP($AA405,DATA!$B$3:$E$6,3,0)","v":"14:30:00"},{"$f":"VLOOKUP($AA405,DATA!$B$3:$E$6,4,0)","v":3.125E-2},0.30208333333333331,0.25763888888888886,{"$f":"DATA!$C$9","v":0.89},{"$f":"DATA!$C$10","v":64},1,347.81249999999994,407.8125,4.4444444444444446E-2,60,0.14712643678160919,{"$f":"TIME(INT($AD405/60),INT(MOD($AD405,60)/1),0)","v":0},"","",334.93333333333334,302,"","",302,null,{"$f":"X415","v":20},{"$f":"Y402+1","v":"2018-05-14"},{"$f":"TEXT(Y405,\"ddd\")","v":"ma"},"DD",{"$f":"IFERROR(HLOOKUP(Y405,[1]DATA!$A$1:$NB$5,3,0),\"\")","v":"D3"},64,null,12,314,{"$f":"VLOOKUP(Y405,[1]SRI!$S$4:$Z$368,6,0)","v":23},-45.812499999999943,0.74053639846743291,0.93574222387781714,{"$f":"IF(SUMIF(S405:S425,\">0\",K405:K425)=0,\"\",SUMIF(S405:S425,\">0\",K405:K425))","v":6525},{"$f":"IF(SUM(S405:S425)=0,\"\",SUM(S405:S425))","v":4465},{"$f":"IFERROR(AL405/AK405,\"-\")","v":0.68429118773946362},{"$f":"IF(SUM(M405:M425)=0,\"0\",SUM(M405:M425))","v":1744.6875},{"$f":"IFERROR(AN405/AK405,\"-\")","v":0.26738505747126434},{"$f":"IF(SUM(P405:P425)=0,0,SUM(P405:P425))","v":0},{"$f":"IFERROR(AP405/AK405,\"-\")","v":0},0.98013471349419712,{"$f":"IFERROR(SUMIF($AB405:$AB425,AS$5,$AJ405:$AJ425)/COUNTIFS($AB405:$AB425,AS$5,$AJ405:$AJ425,\">0\"),\"\")","v":0.98109705928610247},0.97926875990963247,0.98035910321749142,{"$f":"IFERROR((AK405-AL405-AN405-AP405),\"-\")","v":315.3125},{"$f":"IFERROR((1-AM405-AO405-AQ405), \"-\")","v":4.8323754789272033E-2},{"$f":"IFERROR((AV405*$AE$2)/60,\"-\")","v":336.33333333333331},{"$f":"IFERROR(SUM(AG405:AG425),\"\")","v":104}]
["20maMD",{"$f":"VLOOKUP($AA406,DATA!$B$3:$E$6,2,0)","v":"14:30:00"},{"$f":"VLOOKUP($AA406,DATA!$B$3:$E$6,3,0)","v":"22:30:00"},{"$f":"VLOOKUP($AA406,DATA!$B$3:$E$6,4,0)","v":3.125E-2},0.30208333333333337,0.25972222222222224,{"$f":"DATA!$C$9","v":0.89},{"$f":"DATA!$C$10","v":64},1,350.625,407.81250000000006,4.2361111111111106E-2,57.187499999999993,0.14022988505747122,{"$f":"TIME(INT(AD406/60),INT(MOD(AD406,60)/1),0)","v":0},"","",348.8,313,"",313,"",null,{"$f":"X415","v":20},null,{"$f":"TEXT(Y405,\"ddd\")","v":"ma"},"MD",{"$f":"IFERROR(HLOOKUP(Y405,[1]DATA!$A$1:$NB$5,4,0),\"\")","v":"D2"},61,null,14,327,{"$f":"VLOOKUP(Y405,[1]SRI!$S$4:$Z$368,7,0)","v":15},-37.625,0.76750957854406121,0.95876855415063222]
["20maND",{"$f":"VLOOKUP($AA407,DATA!$B$3:$E$6,2,0)","v":"22:30:00"},{"$f":"VLOOKUP($AA407,DATA!$B$3:$E$6,3,0)","v":"06:30:00"},{"$f":"VLOOKUP($AA407,DATA!$B$3:$E$6,4,0)","v":3.125E-2},0.30208333333333326,0.19722222222222213,{"$f":"DATA!$C$9","v":0.89},{"$f":"DATA!$C$10","v":64},1,266.24999999999989,407.81249999999989,0.10486111111111111,141.5625,0.34712643678160932,0,"","",311.46666666666664,282,282,"","",null,{"$f":"X415","v":20},null,{"$f":"TEXT(Y405,\"ddd\")","v":"ma"},"ND",{"$f":"IFERROR(HLOOKUP(Y405,[1]DATA!$A$1:$NB$5,5,0),\"\")","v":"D1"},151,null,10,292,{"$f":"VLOOKUP(Y405,[1]SRI!$S$4:$Z$368,8,0)","v":0},15.750000000000114,0.69149425287356336,1]
["20diDD",{"$f":"VLOOKUP($AA408,DATA!$B$3:$E$6,2,0)","v":"06:30:00"},{"$f":"VLOOKUP($AA408,DATA!$B$3:$E$6,3,0)","v":"14:30:00"},{"$f":"VLOOKUP($AA408,DATA!$B$3:$E$6,4,0)","v":3.125E-2},0.30208333333333331,0.23541666666666666,{"$f":"DATA!$C$9","v":0.89},{"$f":"DATA!$C$10","v":64},1,317.8125,407.8125,6.6666666666666666E-2,90,0.22068965517241379,0,"","",332.8,293,"","",293,null,{"$f":"X415","v":20},{"$f":"Y405+1","v":"2018-05-15"},{"$f":"TEXT(Y408,\"ddd\")","v":"di"},"DD",{"$f":"IFERROR(HLOOKUP(Y408,[1]DATA!$A$1:$NB$5,3,0),\"\")","v":"D3"},96,null,19,312,{"$f":"VLOOKUP(Y408,[1]SRI!$S$4:$Z$368,6,0)","v":0},-24.8125,0.71846743295019155,1]
["20diMD",{"$f":"VLOOKUP($AA409,DATA!$B$3:$E$6,2,0)","v":"14:30:00"},{"$f":"VLOOKUP($AA409,DATA!$B$3:$E$6,3,0)","v":"22:30:00"},{"$f":"VLOOKUP($AA409,DATA!$B$3:$E$6,4,0)","v":3.125E-2},0.30208333333333337,0.25555555555555559,{"$f":"DATA!$C$9","v":0.89},{"$f":"DATA!$C$10","v":64},1,345.00000000000006,407.81250000000006,4.6527777777777779E-2,62.8125,0.15402298850574711,0,"","",382.93333333333334,347,"",347,"",null,{"$f":"X415","v":20},null,{"$f":"TEXT(Y408,\"ddd\")","v":"di"},"MD",{"$f":"IFERROR(HLOOKUP(Y408,[1]DATA!$A$1:$NB$5,4,0),\"\")","v":"D2"},67,null,12,359,{"$f":"VLOOKUP(Y408,[1]SRI!$S$4:$Z$368,7,0)","v":3},1.9999999999999432,0.85088122605363969,0.99222663672482292]
["20diND",{"$f":"VLOOKUP($AA410,DATA!$B$3:$E$6,2,0)","v":"22:30:00"},{"$f":"VLOOKUP($AA410,DATA!$B$3:$E$6,3,0)","v":"06:30:00"},{"$f":"VLOOKUP($AA410,DATA!$B$3:$E$6,4,0)","v":3.125E-2},0.30208333333333326,0.24305555555555547,{"$f":"DATA!$C$9","v":0.89},{"$f":"DATA!$C$10","v":64},1,328.12499999999989,407.81249999999989,5.9027777777777783E-2,79.687500000000014,0.19540229885057481,0,"","",366.93333333333334,322,322,"","",null,{"$f":"X415","v":20},null,{"$f":"TEXT(Y408,\"ddd\")","v":"di"},"ND",{"$f":"IFERROR(HLOOKUP(Y408,[1]DATA!$A$1:$NB$5,5,0),\"\")","v":"D1"},85,null,22,344,{"$f":"VLOOKUP(Y408,[1]SRI!$S$4:$Z$368,8,0)","v":4},-6.1249999999998863,0.7895785440613029,0.98921639108554993]
["20woDD",{"$f":"VLOOKUP($AA411,DATA!$B$3:$E$6,2,0)","v":"06:30:00"},{"$f":"VLOOKUP($AA411,DATA!$B$3:$E$6,3,0)","v":"14:30:00"},{"$f":"VLOOKUP($AA411,DATA!$B$3:$E$6,4,0)","v":3.125E-2},0.30208333333333331,0.19097222222222221,{"$f":"DATA!$C$9","v":0.89},{"$f":"DATA!$C$10","v":64},1,257.8125,407.8125,0.1111111111111111,150,0.36781609195402298,0,"","",285.86666666666667,244,"","",244,null,{"$f":"X415","v":20},{"$f":"Y408+1","v":"2018-05-16"},{"$f":"TEXT(Y411,\"ddd\")","v":"wo"},"DD",{"$f":"IFERROR(HLOOKUP(Y411,[1]DATA!$A$1:$NB$5,3,0),\"\")","v":"D3"},160,null,24,268,{"$f":"VLOOKUP(Y411,[1]SRI!$S$4:$Z$368,6,0)","v":10},-13.8125,0.59831417624521077,{"$f":"IFERROR(R411/(R411+AG411),\"\")","v":0.96620099143758453}]
["20woMD",{"$f":"VLOOKUP($AA412,DATA!$B$3:$E$6,2,0)","v":"14:30:00"},{"$f":"VLOOKUP($AA412,DATA!$B$3:$E$6,3,0)","v":"22:30:00"},{"$f":"VLOOKUP($AA412,DATA!$B$3:$E$6,4,0)","v":3.125E-2},{"$f":"(C412-B412+(B412>C412))-D412","v":0.30208333333333337},{"$f":"E412-O412-L412","v":0.24861111111111114},{"$f":"DATA!$C$9","v":0.89},{"$f":"DATA!$C$10","v":64},1,{"$f":"F412*86400/H412*I412","v":335.62500000000006},{"$f":"E412*86400/H412","v":407.81250000000006},5.347222222222222E-2,72.1875,0.17701149425287355,0,"","",{"$f":"AF412*AG$2","v":353.06666666666666},{"$f":"IF(AF412-AE412=0,\"\",AF412-AE412)","v":313},"",313,"",null,{"$f":"X415","v":20},null,{"$f":"TEXT(Y411,\"ddd\")","v":"wo"},"MD",{"$f":"IFERROR(HLOOKUP(Y411,[1]DATA!$A$1:$NB$5,4,0),\"\")","v":"D2"},77,null,18,331,{"$f":"VLOOKUP(Y411,[1]SRI!$S$4:$Z$368,7,0)","v":4},-22.625000000000057,0.76750957854406121,0.98879761015683343]
["20woND",{"$f":"VLOOKUP($AA413,DATA!$B$3:$E$6,2,0)","v":"22:30:00"},{"$f":"VLOOKUP($AA413,DATA!$B$3:$E$6,3,0)","v":"06:30:00"},{"$f":"VLOOKUP($AA413,DATA!$B$3:$E$6,4,0)","v":3.125E-2},0.30208333333333326,0.23194444444444437,{"$f":"DATA!$C$9","v":0.89},{"$f":"DATA!$C$10","v":64},1,313.12499999999989,407.81249999999989,7.013888888888889E-2,94.6875,0.23218390804597708,0,"","",370.13333333333333,324,324,"","",null,{"$f":"X415","v":20},null,{"$f":"TEXT(Y411,\"ddd\")","v":"wo"},"ND",{"$f":"IFERROR(HLOOKUP(Y411,[1]DATA!$A$1:$NB$5,5,0),\"\")","v":"D1"},101,null,23,347,{"$f":"VLOOKUP(Y411,[1]SRI!$S$4:$Z$368,8,0)","v":0},10.875000000000114,0.79448275862068984,1]
["20doDD",{"$f":"VLOOKUP($AA414,DATA!$B$3:$E$6,2,0)","v":"06:30:00"},{"$f":"VLOOKUP($AA414,DATA!$B$3:$E$6,3,0)","v":"14:30:00"},{"$f":"VLOOKUP($AA414,DATA!$B$3:$E$6,4,0)","v":3.125E-2},0.30208333333333331,0.18124999999999997,{"$f":"DATA!$C$9","v":0.89},{"$f":"DATA!$C$10","v":64},1,244.68749999999994,407.8125,0.12083333333333333,163.125,0.4,0,"","",269.86666666666667,234,"","",234,null,{"$f":"X415","v":20},{"$f":"Y411+1","v":"2018-05-17"},{"$f":"TEXT(Y414,\"ddd\")","v":"do"},"DD",{"$f":"IFERROR(HLOOKUP(Y414,[1]DATA!$A$1:$NB$5,3,0),\"\")","v":"D3"},174,null,19,253,{"$f":"VLOOKUP(Y414,[1]SRI!$S$4:$Z$368,6,0)","v":3},-10.687499999999943,0.57379310344827583,0.98900561935011]
["20doMD",{"$f":"VLOOKUP($AA415,DATA!$B$3:$E$6,2,0)","v":"14:30:00"},{"$f":"VLOOKUP($AA415,DATA!$B$3:$E$6,3,0)","v":"22:30:00"},{"$f":"VLOOKUP($AA415,DATA!$B$3:$E$6,4,0)","v":3.125E-2},0.30208333333333337,0.2055555555555556,{"$f":"DATA!$C$9","v":0.89},{"$f":"DATA!$C$10","v":64},1,277.50000000000006,407.81250000000006,9.6527777777777768E-2,130.3125,0.31954022988505743,0,"","",205.86666666666667,182,"",182,"",null,{"$f":"WEEKNUM($Y405)","v":20},null,{"$f":"TEXT(Y414,\"ddd\")","v":"do"},"MD",{"$f":"IFERROR(HLOOKUP(Y414,[1]DATA!$A$1:$NB$5,4,0),\"\")","v":"D2"},139,null,11,193,{"$f":"VLOOKUP(Y414,[1]SRI!$S$4:$Z$368,7,0)","v":2},-95.500000000000057,0.44628352490421452,0.99037844772289929]
["20doND",{"$f":"VLOOKUP($AA416,DATA!$B$3:$E$6,2,0)","v":"22:30:00"},{"$f":"VLOOKUP($AA416,DATA!$B$3:$E$6,3,0)","v":"06:30:00"},{"$f":"VLOOKUP($AA416,DATA!$B$3:$E$6,4,0)","v":3.125E-2},0.30208333333333326,0.21249999999999991,{"$f":"DATA!$C$9","v":0.89},{"$f":"DATA!$C$10","v":64},1,286.87499999999989,407.81249999999989,8.9583333333333334E-2,120.9375,0.29655172413793113,0,"","",302.93333333333334,270,270,"","",null,{"$f":"X415","v":20},null,{"$f":"TEXT(Y414,\"ddd\")","v":"do"},"ND",{"$f":"IFERROR(HLOOKUP(Y414,[1]DATA!$A$1:$NB$5,5,0),\"\")","v":"D1"},129,null,14,284,{"$f":"VLOOKUP(Y414,[1]SRI!$S$4:$Z$368,8,0)","v":21},-16.874999999999886,0.66206896551724159,0.93517184605885983]
["20vrDD",{"$f":"VLOOKUP($AA417,DATA!$B$3:$E$6,2,0)","v":"06:30:00"},{"$f":"VLOOKUP($AA417,DATA!$B$3:$E$6,3,0)","v":"14:30:00"},{"$f":"VLOOKUP($AA417,DATA!$B$3:$E$6,4,0)","v":3.125E-2},0.30208333333333331,0.27708333333333329,{"$f":"DATA!$C$9","v":0.89},{"$f":"DATA!$C$10","v":64},1,374.06249999999994,407.8125,2.4999999999999998E-2,33.75,8.2758620689655171E-2,0,"","",338.13333333333333,308,"","",308,null,{"$f":"X415","v":20},{"$f":"Y414+1","v":"2018-05-18"},{"$f":"TEXT(Y417,\"ddd\")","v":"vr"},"DD",{"$f":"IFERROR(HLOOKUP(Y417,[1]DATA!$A$1:$NB$5,3,0),\"\")","v":"D3"},36,null,9,317,{"$f":"VLOOKUP(Y417,[1]SRI!$S$4:$Z$368,6,0)","v":3},-66.062499999999943,0.75524904214559385,0.9912057846394372]
["20vrMD",{"$f":"VLOOKUP($AA418,DATA!$B$3:$E$6,2,0)","v":"14:30:00"},{"$f":"VLOOKUP($AA418,DATA!$B$3:$E$6,3,0)","v":"22:30:00"},{"$f":"VLOOKUP($AA418,DATA!$B$3:$E$6,4,0)","v":3.125E-2},0.30208333333333337,0.21319444444444446,{"$f":"DATA!$C$9","v":0.89},{"$f":"DATA!$C$10","v":64},1,287.8125,407.81250000000006,8.8888888888888892E-2,120,0.29425287356321833,0,"","",321.06666666666666,290,"",290,"",null,{"$f":"X415","v":20},null,{"$f":"TEXT(Y417,\"ddd\")","v":"vr"},"MD",{"$f":"IFERROR(HLOOKUP(Y417,[1]DATA!$A$1:$NB$5,4,0),\"\")","v":"D2"},128,null,11,301,{"$f":"VLOOKUP(Y417,[1]SRI!$S$4:$Z$368,7,0)","v":4},2.1875,0.71111111111111103,0.98769483182936835]
["20vrND",{"$f":"VLOOKUP($AA419,DATA!$B$3:$E$6,2,0)","v":"22:30:00"},{"$f":"VLOOKUP($AA419,DATA!$B$3:$E$6,3,0)","v":"06:30:00"},{"$f":"VLOOKUP($AA419,DATA!$B$3:$E$6,4,0)","v":3.125E-2},0.30208333333333326,0.17916666666666659,{"$f":"DATA!$C$9","v":0.89},{"$f":"DATA!$C$10","v":64},1,241.87499999999989,407.81249999999989,0.12291666666666667,165.9375,0.40689655172413802,0,"","",272,244,"",244,"",null,{"$f":"X415","v":20},null,{"$f":"TEXT(Y417,\"ddd\")","v":"vr"},"ND",{"$f":"IFERROR(HLOOKUP(Y417,[1]DATA!$A$1:$NB$5,5,0),\"\")","v":"D2"},177,null,11,255,{"$f":"VLOOKUP(Y417,[1]SRI!$S$4:$Z$368,8,0)","v":12},2.1250000000001137,0.59831417624521088,0.95774647887323938]
["20zaDD",{"$f":"VLOOKUP($AA420,DATA!$B$3:$E$6,2,0)","v":"06:30:00"},{"$f":"VLOOKUP($AA420,DATA!$B$3:$E$6,3,0)","v":"14:30:00"},{"$f":"VLOOKUP($AA420,DATA!$B$3:$E$6,4,0)","v":3.125E-2},0.30208333333333331,0.15208333333333332,{"$f":"DATA!$C$9","v":0.89},{"$f":"DATA!$C$10","v":64},1,205.31249999999997,407.8125,0.15,202.5,0.49655172413793103,0,"","",225.06666666666666,197,"","",197,null,{"$f":"X415","v":20},{"$f":"Y417+1","v":"2018-05-19"},{"$f":"TEXT(Y420,\"ddd\")","v":"za"},"DD",{"$f":"IFERROR(HLOOKUP(Y420,[1]DATA!$A$1:$NB$5,3,0),\"\")","v":"D3"},216,null,14,211,{"$f":"VLOOKUP(Y420,[1]SRI!$S$4:$Z$368,6,0)","v":0},-8.3124999999999716,0.48306513409961688,1]
["20zaMD",{"$f":"VLOOKUP($AA421,DATA!$B$3:$E$6,2,0)","v":"14:30:00"},{"$f":"VLOOKUP($AA421,DATA!$B$3:$E$6,3,0)","v":"22:30:00"},{"$f":"VLOOKUP($AA421,DATA!$B$3:$E$6,4,0)","v":3.125E-2},0.30208333333333337,0.30208333333333337,{"$f":"DATA!$C$9","v":0.89},{"$f":"DATA!$C$10","v":64},1,407.81250000000006,407.81250000000006,0,"","",0,"","",0,"","","","",null,{"$f":"X415","v":20},null,{"$f":"TEXT(Y420,\"ddd\")","v":"za"},"MD",{"$f":"IFERROR(HLOOKUP(Y420,[1]DATA!$A$1:$NB$5,4,0),\"\")","v":"-"},null,null,null,null,{"$f":"VLOOKUP(Y420,[1]SRI!$S$4:$Z$368,7,0)","v":0},"","",""]
["20zaND",{"$f":"VLOOKUP($AA422,DATA!$B$3:$E$6,2,0)","v":"22:30:00"},{"$f":"VLOOKUP($AA422,DATA!$B$3:$E$6,3,0)","v":"06:30:00"},{"$f":"VLOOKUP($AA422,DATA!$B$3:$E$6,4,0)","v":3.125E-2},0.30208333333333326,0.30208333333333326,{"$f":"DATA!$C$9","v":0.89},{"$f":"DATA!$C$10","v":64},1,407.81249999999989,407.81249999999989,0,"","",0,"","",0,"","","","",null,{"$f":"X415","v":20},null,{"$f":"TEXT(Y420,\"ddd\")","v":"za"},"ND",{"$f":"IFERROR(HLOOKUP(Y420,[1]DATA!$A$1:$NB$5,5,0),\"\")","v":"-"},null,null,null,null,{"$f":"VLOOKUP(Y420,[1]SRI!$S$4:$Z$368,8,0)","v":0},"","",""]
["20zoDD",{"$f":"VLOOKUP($AA423,DATA!$B$3:$E$6,2,0)","v":"06:30:00"},{"$f":"VLOOKUP($AA423,DATA!$B$3:$E$6,3,0)","v":"14:30:00"},{"$f":"VLOOKUP($AA423,DATA!$B$3:$E$6,4,0)","v":3.125E-2},0.30208333333333331,0.30208333333333331,{"$f":"DATA!$C$9","v":0.89},{"$f":"DATA!$C$10","v":64},1,407.8125,407.8125,0,"","",0,"","",0,"","","","",null,{"$f":"X415","v":20},{"$f":"Y420+1","v":"2018-05-20"},{"$f":"TEXT(Y423,\"ddd\")","v":"zo"},"DD",{"$f":"IFERROR(HLOOKUP(Y423,[1]DATA!$A$1:$NB$5,3,0),\"\")","v":"-"},null,null,null,null,{"$f":"VLOOKUP(Y423,[1]SRI!$S$4:$Z$368,6,0)","v":0},"","",""]
["20zoMD",{"$f":"VLOOKUP($AA424,DATA!$B$3:$E$6,2,0)","v":"14:30:00"},{"$f":"VLOOKUP($AA424,DATA!$B$3:$E$6,3,0)","v":"22:30:00"},{"$f":"VLOOKUP($AA424,DATA!$B$3:$E$6,4,0)","v":3.125E-2},0.30208333333333337,0.30208333333333337,{"$f":"DATA!$C$9","v":0.89},{"$f":"DATA!$C$10","v":64},1,407.81250000000006,407.81250000000006,0,"","",0,"","",0,"","","","",null,{"$f":"X415","v":20},null,{"$f":"TEXT(Y423,\"ddd\")","v":"zo"},"MD",{"$f":"IFERROR(HLOOKUP(Y423,[1]DATA!$A$1:$NB$5,4,0),\"\")","v":"-"},null,null,null,null,{"$f":"VLOOKUP(Y423,[1]SRI!$S$4:$Z$368,7,0)","v":0},"","",""]
["20zoZND",{"$f":"VLOOKUP($AA425,DATA!$B$3:$E$6,2,0)","v":"00:00:00"},{"$f":"VLOOKUP($AA425,DATA!$B$3:$E$6,3,0)","v":"00:00:00"},{"$f":"VLOOKUP($AA425,DATA!$B$3:$E$6,4,0)","v":3.125E-2},-3.125E-2,-3.125E-2,{"$f":"DATA!$C$9","v":0.89},{"$f":"DATA!$C$10","v":64},1,-42.1875,-42.1875,0,"","",0,"","",0,"","","","",null,{"$f":"X415","v":20},null,{"$f":"TEXT(Y423,\"ddd\")","v":"zo"},"ZND",{"$f":"IFERROR(HLOOKUP(Y423,[1]DATA!$A$1:$NB$5,5,0),\"\")","v":"-"},null,null,null,null,{"$f":"VLOOKUP(Y423,[1]SRI!$S$4:$Z$368,8,0)","v":0},"","",""]
["21maDD",{"$f":"VLOOKUP($AA426,DATA!$B$3:$E$6,2,0)","v":"06:30:00"},{"$f":"VLOOKUP($AA426,DATA!$B$3:$E$6,3,0)","v":"14:30:00"},{"$f":"VLOOKUP($AA426,DATA!$B$3:$E$6,4,0)","v":3.125E-2},0.30208333333333331,0.30208333333333331,{"$f":"DATA!$C$9","v":0.89},{"$f":"DATA!$C$10","v":64},1,407.8125,407.8125,0,"","",{"$f":"TIME(INT($AD426/60),INT(MOD($AD426,60)/1),0)","v":0},"","",0,"","","","",null,{"$f":"X436","v":21},{"$f":"Y423+1","v":"2018-05-21"},{"$f":"TEXT(Y426,\"ddd\")","v":"ma"},"DD",{"$f":"IFERROR(HLOOKUP(Y426,[1]DATA!$A$1:$NB$5,3,0),\"\")","v":"D2"},null,null,null,null,{"$f":"VLOOKUP(Y426,[1]SRI!$S$4:$Z$368,6,0)","v":0},"","","",{"$f":"IF(SUMIF(S426:S446,\">0\",K426:K446)=0,\"\",SUMIF(S426:S446,\">0\",K426:K446))","v":4893.75},{"$f":"IF(SUM(S426:S446)=0,\"\",SUM(S426:S446))","v":3642},{"$f":"IFERROR(AL426/AK426,\"-\")","v":0.74421455938697323},{"$f":"IF(SUM(M426:M446)=0,\"0\",SUM(M426:M446))","v":720},{"$f":"IFERROR(AN426/AK426,\"-\")","v":0.14712643678160919},{"$f":"IF(SUM(P426:P446)=0,0,SUM(P426:P446))","v":0},{"$f":"IFERROR(AP426/AK426,\"-\")","v":0},{"$f":"IFERROR(AVERAGE(AJ426:AJ446),\"-\")","v":0.90006472662310566},{"$f":"IFERROR(SUMIF($AB426:$AB446,AS$5,$AJ426:$AJ446)/COUNTIFS($AB426:$AB446,AS$5,$AJ426:$AJ446,\">0\"),\"\")","v":0.99255187135156953},0.98244436286541514,0.95021412730810895,{"$f":"IFERROR((AK426-AL426-AN426-AP426),\"-\")","v":531.75},{"$f":"IFERROR((1-AM426-AO426-AQ426), \"-\")","v":0.10865900383141758},{"$f":"IFERROR((AV426*$AE$2)/60,\"-\")","v":567.20000000000005},{"$f":"IFERROR(SUM(AG426:AG446),\"\")","v":136}]
["21maMD",{"$f":"VLOOKUP($AA427,DATA!$B$3:$E$6,2,0)","v":"14:30:00"},{"$f":"VLOOKUP($AA427,DATA!$B$3:$E$6,3,0)","v":"22:30:00"},{"$f":"VLOOKUP($AA427,DATA!$B$3:$E$6,4,0)","v":3.125E-2},0.30208333333333337,0.30208333333333337,{"$f":"DATA!$C$9","v":0.89},{"$f":"DATA!$C$10","v":64},1,407.81250000000006,407.81250000000006,0,"","",{"$f":"TIME(INT(AD427/60),INT(MOD(AD427,60)/1),0)","v":0},"","",0,"","","","",null,{"$f":"X436","v":21},null,{"$f":"TEXT(Y426,\"ddd\")","v":"ma"},"MD",{"$f":"IFERROR(HLOOKUP(Y426,[1]DATA!$A$1:$NB$5,4,0),\"\")","v":"D1"},null,null,null,null,{"$f":"VLOOKUP(Y426,[1]SRI!$S$4:$Z$368,7,0)","v":0},"","",""]
["21maND",{"$f":"VLOOKUP($AA428,DATA!$B$3:$E$6,2,0)","v":"22:30:00"},{"$f":"VLOOKUP($AA428,DATA!$B$3:$E$6,3,0)","v":"06:30:00"},{"$f":"VLOOKUP($AA428,DATA!$B$3:$E$6,4,0)","v":3.125E-2},0.30208333333333326,0.30208333333333326,{"$f":"DATA!$C$9","v":0.89},{"$f":"DATA!$C$10","v":64},1,407.81249999999989,407.81249999999989,0,"","",0,"","",0,"","","","",null,{"$f":"X436","v":21},null,{"$f":"TEXT(Y426,\"ddd\")","v":"ma"},"ND",{"$f":"IFERROR(HLOOKUP(Y426,[1]DATA!$A$1:$NB$5,5,0),\"\")","v":"D3"},null,null,null,null,{"$f":"VLOOKUP(Y426,[1]SRI!$S$4:$Z$368,8,0)","v":0},"","",""]
["21diDD",{"$f":"VLOOKUP($AA429,DATA!$B$3:$E$6,2,0)","v":"06:30:00"},{"$f":"VLOOKUP($AA429,DATA!$B$3:$E$6,3,0)","v":"14:30:00"},{"$f":"VLOOKUP($AA429,DATA!$B$3:$E$6,4,0)","v":3.125E-2},0.30208333333333331,0.23402777777777778,{"$f":"DATA!$C$9","v":0.89},{"$f":"DATA!$C$10","v":64},1,315.9375,407.8125,6.805555555555555E-2,91.874999999999986,0.22528735632183905,0,"","",301.86666666666667,265,"",265,"",null,{"$f":"X436","v":21},{"$f":"Y426+1","v":"2018-05-22"},{"$f":"TEXT(Y429,\"ddd\")","v":"di"},"DD",{"$f":"IFERROR(HLOOKUP(Y429,[1]DATA!$A$1:$NB$5,3,0),\"\")","v":"D2"},98,null,18,283,{"$f":"VLOOKUP(Y429,[1]SRI!$S$4:$Z$368,6,0)","v":11},-50.9375,0.6498084291187739,0.96484125292989564]
["21diMD",{"$f":"VLOOKUP($AA430,DATA!$B$3:$E$6,2,0)","v":"14:30:00"},{"$f":"VLOOKUP($AA430,DATA!$B$3:$E$6,3,0)","v":"22:30:00"},{"$f":"VLOOKUP($AA430,DATA!$B$3:$E$6,4,0)","v":3.125E-2},0.30208333333333337,0.20138888888888895,{"$f":"DATA!$C$9","v":0.89},{"$f":"DATA!$C$10","v":64},1,271.87500000000006,407.81250000000006,0.10069444444444443,135.93749999999997,0.3333333333333332,0,"","",310.39999999999998,279,279,"","",null,{"$f":"X436","v":21},null,{"$f":"TEXT(Y429,\"ddd\")","v":"di"},"MD",{"$f":"IFERROR(HLOOKUP(Y429,[1]DATA!$A$1:$NB$5,4,0),\"\")","v":"D1"},145,null,12,291,{"$f":"VLOOKUP(Y429,[1]SRI!$S$4:$Z$368,7,0)","v":2},7.1249999999999432,0.68413793103448262,0.99359795134443019]
["21diND",{"$f":"VLOOKUP($AA431,DATA!$B$3:$E$6,2,0)","v":"22:30:00"},{"$f":"VLOOKUP($AA431,DATA!$B$3:$E$6,3,0)","v":"06:30:00"},{"$f":"VLOOKUP($AA431,DATA!$B$3:$E$6,4,0)","v":3.125E-2},0.30208333333333326,0.30208333333333326,{"$f":"DATA!$C$9","v":0.89},{"$f":"DATA!$C$10","v":64},1,407.81249999999989,407.81249999999989,0,"","",0,"","",360.5333333333333,338,"","",338,null,{"$f":"X436","v":21},null,{"$f":"TEXT(Y429,\"ddd\")","v":"di"},"ND",{"$f":"IFERROR(HLOOKUP(Y429,[1]DATA!$A$1:$NB$5,5,0),\"\")","v":"D3"},null,null,null,338,{"$f":"VLOOKUP(Y429,[1]SRI!$S$4:$Z$368,8,0)","v":0},-69.812499999999886,0.82881226053639867,1]
[{"$f":"X432&Z432&AA432","v":"21woDD"},{"$f":"VLOOKUP($AA432,DATA!$B$3:$E$6,2,0)","v":"06:30:00"},{"$f":"VLOOKUP($AA432,DATA!$B$3:$E$6,3,0)","v":"14:30:00"},{"$f":"VLOOKUP($AA432,DATA!$B$3:$E$6,4,0)","v":3.125E-2},0.30208333333333331,0.19791666666666663,{"$f":"DATA!$C$9","v":0.89},{"$f":"DATA!$C$10","v":64},1,267.18749999999994,407.8125,0.10416666666666667,140.625,0.34482758620689657,0,{"$f":"IF($O432*86400/$H432=0,\"\",$O432*86400/$H432)","v":""},"",302.93333333333334,266,"",266,"",null,{"$f":"X436","v":21},{"$f":"Y429+1","v":"2018-05-23"},{"$f":"TEXT(Y432,\"ddd\")","v":"wo"},"DD",{"$f":"IFERROR(HLOOKUP(Y432,[1]DATA!$A$1:$NB$5,3,0),\"\")","v":"D2"},150,null,18,284,{"$f":"VLOOKUP(Y432,[1]SRI!$S$4:$Z$368,6,0)","v":3},-1.1874999999999432,0.65226053639846748,0.99019394203530176]
["21woMD",{"$f":"VLOOKUP($AA433,DATA!$B$3:$E$6,2,0)","v":"14:30:00"},{"$f":"VLOOKUP($AA433,DATA!$B$3:$E$6,3,0)","v":"22:30:00"},{"$f":"VLOOKUP($AA433,DATA!$B$3:$E$6,4,0)","v":3.125E-2},0.30208333333333337,0.25625000000000003,{"$f":"DATA!$C$9","v":0.89},{"$f":"DATA!$C$10","v":64},1,345.93750000000006,407.81250000000006,4.5833333333333337E-2,61.875000000000007,0.15172413793103448,0,"","",397.86666666666667,343,343,"","",null,{"$f":"X436","v":21},null,{"$f":"TEXT(Y432,\"ddd\")","v":"wo"},"MD",{"$f":"IFERROR(HLOOKUP(Y432,[1]DATA!$A$1:$NB$5,4,0),\"\")","v":"D1"},66,null,30,373,{"$f":"VLOOKUP(Y432,[1]SRI!$S$4:$Z$368,7,0)","v":3},-2.9375000000000568,0.84107279693486581,0.99251621486778652]
["21woND",{"$f":"VLOOKUP($AA434,DATA!$B$3:$E$6,2,0)","v":"22:30:00"},{"$f":"VLOOKUP($AA434,DATA!$B$3:$E$6,3,0)","v":"06:30:00"},{"$f":"VLOOKUP($AA434,DATA!$B$3:$E$6,4,0)","v":3.125E-2},0.30208333333333326,0.30208333333333326,{"$f":"DATA!$C$9","v":0.89},{"$f":"DATA!$C$10","v":64},1,407.81249999999989,407.81249999999989,0,"","",0,"","",340.26666666666665,319,"","",319,null,{"$f":"X436","v":21},null,{"$f":"TEXT(Y432,\"ddd\")","v":"wo"},"ND",{"$f":"IFERROR(HLOOKUP(Y432,[1]DATA!$A$1:$NB$5,5,0),\"\")","v":"D3"},null,null,null,319,{"$f":"VLOOKUP(Y432,[1]SRI!$S$4:$Z$368,8,0)","v":0},-88.812499999999886,0.78222222222222249,1]
["21doDD",{"$f":"VLOOKUP($AA435,DATA!$B$3:$E$6,2,0)","v":"06:30:00"},{"$f":"VLOOKUP($AA435,DATA!$B$3:$E$6,3,0)","v":"14:30:00"},{"$f":"VLOOKUP($AA435,DATA!$B$3:$E$6,4,0)","v":3.125E-2},0.30208333333333331,0.25486111111111109,{"$f":"DATA!$C$9","v":0.89},{"$f":"DATA!$C$10","v":64},1,344.0625,407.8125,4.7222222222222221E-2,63.75,0.15632183908045977,0,"","",361.6,324,"",324,"",null,{"$f":"X436","v":21},{"$f":"Y432+1","v":"2018-05-24"},{"$f":"TEXT(Y435,\"ddd\")","v":"do"},"DD",{"$f":"IFERROR(HLOOKUP(Y435,[1]DATA!$A$1:$NB$5,3,0),\"\")","v":"D2"},68,null,15,339,{"$f":"VLOOKUP(Y435,[1]SRI!$S$4:$Z$368,6,0)","v":5},-20.0625,0.79448275862068962,0.98636115657392254]
["21doMD",{"$f":"VLOOKUP($AA436,DATA!$B$3:$E$6,2,0)","v":"14:30:00"},{"$f":"VLOOKUP($AA436,DATA!$B$3:$E$6,3,0)","v":"22:30:00"},{"$f":"VLOOKUP($AA436,DATA!$B$3:$E$6,4,0)","v":3.125E-2},0.30208333333333337,0.22361111111111115,{"$f":"DATA!$C$9","v":0.89},{"$f":"DATA!$C$10","v":64},1,301.87500000000006,407.81250000000006,7.8472222222222221E-2,105.9375,0.25977011494252872,0,"","",356.26666666666665,314,314,"","",null,{"$f":"WEEKNUM($Y426)","v":21},null,{"$f":"TEXT(Y435,\"ddd\")","v":"do"},"MD",{"$f":"IFERROR(HLOOKUP(Y435,[1]DATA!$A$1:$NB$5,4,0),\"\")","v":"D1"},113,null,20,334,{"$f":"VLOOKUP(Y435,[1]SRI!$S$4:$Z$368,7,0)","v":0},12.124999999999943,0.76996168582375468,1]
["21doND",{"$f":"VLOOKUP($AA437,DATA!$B$3:$E$6,2,0)","v":"22:30:00"},{"$f":"VLOOKUP($AA437,DATA!$B$3:$E$6,3,0)","v":"06:30:00"},{"$f":"VLOOKUP($AA437,DATA!$B$3:$E$6,4,0)","v":3.125E-2},0.30208333333333326,0.30208333333333326,{"$f":"DATA!$C$9","v":0.89},{"$f":"DATA!$C$10","v":64},1,407.81249999999989,407.81249999999989,0,"","",0,"","",341.33333333333331,320,"","",320,null,{"$f":"X436","v":21},null,{"$f":"TEXT(Y435,\"ddd\")","v":"do"},"ND",{"$f":"IFERROR(HLOOKUP(Y435,[1]DATA!$A$1:$NB$5,5,0),\"\")","v":"D3"},null,null,null,320,{"$f":"VLOOKUP(Y435,[1]SRI!$S$4:$Z$368,8,0)","v":13},-87.812499999999886,0.78467432950191596,0.96331138287864537]
["21vrDD",{"$f":"VLOOKUP($AA438,DATA!$B$3:$E$6,2,0)","v":"06:30:00"},{"$f":"VLOOKUP($AA438,DATA!$B$3:$E$6,3,0)","v":"14:30:00"},{"$f":"VLOOKUP($AA438,DATA!$B$3:$E$6,4,0)","v":3.125E-2},0.30208333333333331,0.22777777777777775,{"$f":"DATA!$C$9","v":0.89},{"$f":"DATA!$C$10","v":64},1,307.49999999999994,407.8125,7.4305555555555555E-2,100.3125,0.24597701149425288,0,"","",340.26666666666665,302,"",302,"",null,{"$f":"X436","v":21},{"$f":"Y435+1","v":"2018-05-25"},{"$f":"TEXT(Y438,\"ddd\")","v":"vr"},"DD",{"$f":"IFERROR(HLOOKUP(Y438,[1]DATA!$A$1:$NB$5,3,0),\"\")","v":"D2"},107,null,17,319,{"$f":"VLOOKUP(Y438,[1]SRI!$S$4:$Z$368,6,0)","v":4},-5.4999999999999432,0.74053639846743291,0.98838109992254064]
["21vrMD",{"$f":"VLOOKUP($AA439,DATA!$B$3:$E$6,2,0)","v":"14:30:00"},{"$f":"VLOOKUP($AA439,DATA!$B$3:$E$6,3,0)","v":"22:30:00"},{"$f":"VLOOKUP($AA439,DATA!$B$3:$E$6,4,0)","v":3.125E-2},0.30208333333333337,0.28750000000000003,{"$f":"DATA!$C$9","v":0.89},{"$f":"DATA!$C$10","v":64},1,388.12500000000006,407.81250000000006,1.4583333333333332E-2,19.687499999999996,4.8275862068965503E-2,0,"","",309.33333333333331,282,282,"","",null,{"$f":"X436","v":21},null,{"$f":"TEXT(Y438,\"ddd\")","v":"vr"},"MD",{"$f":"IFERROR(HLOOKUP(Y438,[1]DATA!$A$1:$NB$5,4,0),\"\")","v":"D1"},21,null,8,290,{"$f":"VLOOKUP(Y438,[1]SRI!$S$4:$Z$368,7,0)","v":5},-106.12500000000006,0.69149425287356314,0.98409331919406151]
["21vrND",{"$f":"VLOOKUP($AA440,DATA!$B$3:$E$6,2,0)","v":"22:30:00"},{"$f":"VLOOKUP($AA440,DATA!$B$3:$E$6,3,0)","v":"06:30:00"},{"$f":"VLOOKUP($AA440,DATA!$B$3:$E$6,4,0)","v":3.125E-2},0.30208333333333326,0.30208333333333326,{"$f":"DATA!$C$9","v":0.89},{"$f":"DATA!$C$10","v":64},1,407.81249999999989,407.81249999999989,0,"","",0,"","",309.33333333333331,290,"","",290,null,{"$f":"X436","v":21},null,{"$f":"TEXT(Y438,\"ddd\")","v":"vr"},"ND",{"$f":"IFERROR(HLOOKUP(Y438,[1]DATA!$A$1:$NB$5,5,0),\"\")","v":"D3"},null,null,null,290,{"$f":"VLOOKUP(Y438,[1]SRI!$S$4:$Z$368,8,0)","v":60},-117.81249999999989,0.71111111111111136,0.83754512635379064]
["21zaDD",{"$f":"VLOOKUP($AA441,DATA!$B$3:$E$6,2,0)","v":"06:30:00"},{"$f":"VLOOKUP($AA441,DATA!$B$3:$E$6,3,0)","v":"14:30:00"},{"$f":"VLOOKUP($AA441,DATA!$B$3:$E$6,4,0)","v":3.125E-2},0.30208333333333331,0.30208333333333331,{"$f":"DATA!$C$9","v":0.89},{"$f":"DATA!$C$10","v":64},1,407.8125,407.8125,0,"","",0,"","",0,"","","","",null,{"$f":"X436","v":21},{"$f":"Y438+1","v":"2018-05-26"},{"$f":"TEXT(Y441,\"ddd\")","v":"za"},"DD",{"$f":"IFERROR(HLOOKUP(Y441,[1]DATA!$A$1:$NB$5,3,0),\"\")","v":"D2"},null,null,null,null,{"$f":"VLOOKUP(Y441,[1]SRI!$S$4:$Z$368,6,0)","v":30},"","",0]
["21zaMD",{"$f":"VLOOKUP($AA442,DATA!$B$3:$E$6,2,0)","v":"14:30:00"},{"$f":"VLOOKUP($AA442,DATA!$B$3:$E$6,3,0)","v":"22:30:00"},{"$f":"VLOOKUP($AA442,DATA!$B$3:$E$6,4,0)","v":3.125E-2},0.30208333333333337,0.30208333333333337,{"$f":"DATA!$C$9","v":0.89},{"$f":"DATA!$C$10","v":64},1,407.81250000000006,407.81250000000006,0,"","",0,"","",0,"","","","",null,{"$f":"X436","v":21},null,{"$f":"TEXT(Y441,\"ddd\")","v":"za"},"MD",{"$f":"IFERROR(HLOOKUP(Y441,[1]DATA!$A$1:$NB$5,4,0),\"\")","v":"-"},null,null,null,null,{"$f":"VLOOKUP(Y441,[1]SRI!$S$4:$Z$368,7,0)","v":0},"","",""]
["21zaND",{"$f":"VLOOKUP($AA443,DATA!$B$3:$E$6,2,0)","v":"22:30:00"},{"$f":"VLOOKUP($AA443,DATA!$B$3:$E$6,3,0)","v":"06:30:00"},{"$f":"VLOOKUP($AA443,DATA!$B$3:$E$6,4,0)","v":3.125E-2},0.30208333333333326,0.30208333333333326,{"$f":"DATA!$C$9","v":0.89},{"$f":"DATA!$C$10","v":64},1,407.81249999999989,407.81249999999989,0,"","",0,"","",0,"","","","",null,{"$f":"X436","v":21},null,{"$f":"TEXT(Y441,\"ddd\")","v":"za"},"ND",{"$f":"IFERROR(HLOOKUP(Y441,[1]DATA!$A$1:$NB$5,5,0),\"\")","v":"-"},null,null,null,null,{"$f":"VLOOKUP(Y441,[1]SRI!$S$4:$Z$368,8,0)","v":0},"","",""]
["21zoDD",{"$f":"VLOOKUP($AA444,DATA!$B$3:$E$6,2,0)","v":"06:30:00"},{"$f":"VLOOKUP($AA444,DATA!$B$3:$E$6,3,0)","v":"14:30:00"},{"$f":"VLOOKUP($AA444,DATA!$B$3:$E$6,4,0)","v":3.125E-2},0.30208333333333331,0.30208333333333331,{"$f":"DATA!$C$9","v":0.89},{"$f":"DATA!$C$10","v":64},1,407.8125,407.8125,0,"","",0,"","",0,"","","","",null,{"$f":"X436","v":21},{"$f":"Y441+1","v":"2018-05-27"},{"$f":"TEXT(Y444,\"ddd\")","v":"zo"},"DD",{"$f":"IFERROR(HLOOKUP(Y444,[1]DATA!$A$1:$NB$5,3,0),\"\")","v":"-"},null,null,null,null,{"$f":"VLOOKUP(Y444,[1]SRI!$S$4:$Z$368,6,0)","v":0},"","",""]
["21zoMD",{"$f":"VLOOKUP($AA445,DATA!$B$3:$E$6,2,0)","v":"14:30:00"},{"$f":"VLOOKUP($AA445,DATA!$B$3:$E$6,3,0)","v":"22:30:00"},{"$f":"VLOOKUP($AA445,DATA!$B$3:$E$6,4,0)","v":3.125E-2},0.30208333333333337,0.30208333333333337,{"$f":"DATA!$C$9","v":0.89},{"$f":"DATA!$C$10","v":64},1,407.81250000000006,407.81250000000006,0,"","",0,"","",0,"","","","",null,{"$f":"X436","v":21},null,{"$f":"TEXT(Y444,\"ddd\")","v":"zo"},"MD",{"$f":"IFERROR(HLOOKUP(Y444,[1]DATA!$A$1:$NB$5,4,0),\"\")","v":"-"},null,null,null,null,{"$f":"VLOOKUP(Y444,[1]SRI!$S$4:$Z$368,7,0)","v":0},"","",""]
["21zoZND",{"$f":"VLOOKUP($AA446,DATA!$B$3:$E$6,2,0)","v":"00:00:00"},{"$f":"VLOOKUP($AA446,DATA!$B$3:$E$6,3,0)","v":"00:00:00"},{"$f":"VLOOKUP($AA446,DATA!$B$3:$E$6,4,0)","v":3.125E-2},-3.125E-2,-3.125E-2,{"$f":"DATA!$C$9","v":0.89},{"$f":"DATA!$C$10","v":64},1,-42.1875,-42.1875,0,"","",0,"","",0,"","","","",null,{"$f":"X436","v":21},null,{"$f":"TEXT(Y444,\"ddd\")","v":"zo"},"ZND",{"$f":"IFERROR(HLOOKUP(Y444,[1]DATA!$A$1:$NB$5,5,0),\"\")","v":"-"},null,null,null,null,{"$f":"VLOOKUP(Y444,[1]SRI!$S$4:$Z$368,8,0)","v":0},"","",""]
["22maDD",{"$f":"VLOOKUP($AA447,DATA!$B$3:$E$6,2,0)","v":"06:30:00"},{"$f":"VLOOKUP($AA447,DATA!$B$3:$E$6,3,0)","v":"14:30:00"},{"$f":"VLOOKUP($AA447,DATA!$B$3:$E$6,4,0)","v":3.125E-2},0.30208333333333331,0.24444444444444444,{"$f":"DATA!$C$9","v":0.89},{"$f":"DATA!$C$10","v":64},1,330,407.8125,5.7638888888888885E-2,77.8125,0.19080459770114944,{"$f":"TIME(INT($AD447/60),INT(MOD($AD447,60)/1),0)","v":0},"","",291.2,257,257,"","",null,{"$f":"X457","v":22},{"$f":"Y444+1","v":"2018-05-28"},{"$f":"TEXT(Y447,\"ddd\")","v":"ma"},"DD",{"$f":"IFERROR(HLOOKUP(Y447,[1]DATA!$A$1:$NB$5,3,0),\"\")","v":"D1"},83,null,16,273,{"$f":"VLOOKUP(Y447,[1]SRI!$S$4:$Z$368,6,0)","v":0},-73,0.63019157088122602,1,{"$f":"IF(SUMIF(S447:S467,\">0\",K447:K467)=0,\"\",SUMIF(S447:S467,\">0\",K447:K467))","v":5301.5625},{"$f":"IF(SUM(S447:S467)=0,\"\",SUM(S447:S467))","v":3645},{"$f":"IFERROR(AL447/AK447,\"-\")","v":0.68753315649867375},{"$f":"IF(SUM(M447:M467)=0,\"0\",SUM(M447:M467))","v":1174.6875},{"$f":"IFERROR(AN447/AK447,\"-\")","v":0.22157382847038021},{"$f":"IF(SUM(P447:P467)=0,0,SUM(P447:P467))","v":0},{"$f":"IFERROR(AP447/AK447,\"-\")","v":0},0.9717154994455639,{"$f":"IFERROR(SUMIF($AB447:$AB467,AS$5,$AJ447:$AJ467)/COUNTIFS($AB447:$AB467,AS$5,$AJ447:$AJ467,\">0\"),\"\")","v":0.9814180073653892},0.97583870190530608,0.95546416208603979,{"$f":"IFERROR((AK447-AL447-AN447-AP447),\"-\")","v":481.875},{"$f":"IFERROR((1-AM447-AO447-AQ447), \"-\")","v":9.0893015030946045E-2},{"$f":"IFERROR((AV447*$AE$2)/60,\"-\")","v":514},{"$f":"IFERROR(SUM(AG447:AG467),\"\")","v":124}]
["22maMD",{"$f":"VLOOKUP($AA448,DATA!$B$3:$E$6,2,0)","v":"14:30:00"},{"$f":"VLOOKUP($AA448,DATA!$B$3:$E$6,3,0)","v":"22:30:00"},{"$f":"VLOOKUP($AA448,DATA!$B$3:$E$6,4,0)","v":3.125E-2},0.30208333333333337,0.14722222222222225,{"$f":"DATA!$C$9","v":0.89},{"$f":"DATA!$C$10","v":64},1,198.75000000000006,407.81250000000006,0.15486111111111112,209.0625,0.51264367816091949,{"$f":"TIME(INT(AD448/60),INT(MOD(AD448,60)/1),0)","v":0},"","",219.73333333333332,200,"","",200,null,{"$f":"X457","v":22},null,{"$f":"TEXT(Y447,\"ddd\")","v":"ma"},"MD",{"$f":"IFERROR(HLOOKUP(Y447,[1]DATA!$A$1:$NB$5,4,0),\"\")","v":"D3"},223,null,6,206,{"$f":"VLOOKUP(Y447,[1]SRI!$S$4:$Z$368,7,0)","v":3},1.2499999999999432,0.49042145593869724,0.98653097874887763]
["22maND",{"$f":"VLOOKUP($AA449,DATA!$B$3:$E$6,2,0)","v":"22:30:00"},{"$f":"VLOOKUP($AA449,DATA!$B$3:$E$6,3,0)","v":"06:30:00"},{"$f":"VLOOKUP($AA449,DATA!$B$3:$E$6,4,0)","v":3.125E-2},0.30208333333333326,0.20694444444444438,{"$f":"DATA!$C$9","v":0.89},{"$f":"DATA!$C$10","v":64},1,279.37499999999989,407.81249999999989,9.5138888888888884E-2,128.4375,0.31494252873563228,0,"","",300.8,250,"",250,"",null,{"$f":"X457","v":22},null,{"$f":"TEXT(Y447,\"ddd\")","v":"ma"},"ND",{"$f":"IFERROR(HLOOKUP(Y447,[1]DATA!$A$1:$NB$5,5,0),\"\")","v":"D2"},137,null,32,282,{"$f":"VLOOKUP(Y447,[1]SRI!$S$4:$Z$368,8,0)","v":20},-29.374999999999886,0.61302681992337182,0.93765586034912718]
["22diDD",{"$f":"VLOOKUP($AA450,DATA!$B$3:$E$6,2,0)","v":"06:30:00"},{"$f":"VLOOKUP($AA450,DATA!$B$3:$E$6,3,0)","v":"14:30:00"},{"$f":"VLOOKUP($AA450,DATA!$B$3:$E$6,4,0)","v":3.125E-2},0.30208333333333331,0.18680555555555556,{"$f":"DATA!$C$9","v":0.89},{"$f":"DATA!$C$10","v":64},1,252.1875,407.8125,0.11527777777777777,155.625,0.38160919540229887,0,"","",277.33333333333331,243,243,"","",null,{"$f":"X457","v":22},{"$f":"Y447+1","v":"2018-05-29"},{"$f":"TEXT(Y450,\"ddd\")","v":"di"},"DD",{"$f":"IFERROR(HLOOKUP(Y450,[1]DATA!$A$1:$NB$5,3,0),\"\")","v":"D1"},166,null,17,260,{"$f":"VLOOKUP(Y450,[1]SRI!$S$4:$Z$368,6,0)","v":22},-9.1875,0.59586206896551719,0.92650334075723828]
["22diMD",{"$f":"VLOOKUP($AA451,DATA!$B$3:$E$6,2,0)","v":"14:30:00"},{"$f":"VLOOKUP($AA451,DATA!$B$3:$E$6,3,0)","v":"22:30:00"},{"$f":"VLOOKUP($AA451,DATA!$B$3:$E$6,4,0)","v":3.125E-2},0.30208333333333337,0.23958333333333337,{"$f":"DATA!$C$9","v":0.89},{"$f":"DATA!$C$10","v":64},1,323.43750000000006,407.81250000000006,6.25E-2,84.375,0.2068965517241379,0,"","",341.33333333333331,313,"","",313,null,{"$f":"X457","v":22},null,{"$f":"TEXT(Y450,\"ddd\")","v":"di"},"MD",{"$f":"IFERROR(HLOOKUP(Y450,[1]DATA!$A$1:$NB$5,4,0),\"\")","v":"D3"},90,null,7,320,{"$f":"VLOOKUP(Y450,[1]SRI!$S$4:$Z$368,7,0)","v":0},-10.437500000000057,0.76750957854406121,1]
["22diND",{"$f":"VLOOKUP($AA452,DATA!$B$3:$E$6,2,0)","v":"22:30:00"},{"$f":"VLOOKUP($AA452,DATA!$B$3:$E$6,3,0)","v":"06:30:00"},{"$f":"VLOOKUP($AA452,DATA!$B$3:$E$6,4,0)","v":3.125E-2},0.30208333333333326,0.27847222222222212,{"$f":"DATA!$C$9","v":0.89},{"$f":"DATA!$C$10","v":64},1,375.93749999999989,407.81249999999989,2.361111111111111E-2,31.875,7.8160919540229912E-2,0,"","",363.73333333333335,325,"",325,"",null,{"$f":"X457","v":22},null,{"$f":"TEXT(Y450,\"ddd\")","v":"di"},"ND",{"$f":"IFERROR(HLOOKUP(Y450,[1]DATA!$A$1:$NB$5,5,0),\"\")","v":"D2"},34,null,16,341,{"$f":"VLOOKUP(Y450,[1]SRI!$S$4:$Z$368,8,0)","v":10},-50.937499999999886,0.79693486590038332,0.97324295397788085]
["22woDD",{"$f":"VLOOKUP($AA453,DATA!$B$3:$E$6,2,0)","v":"06:30:00"},{"$f":"VLOOKUP($AA453,DATA!$B$3:$E$6,3,0)","v":"14:30:00"},{"$f":"VLOOKUP($AA453,DATA!$B$3:$E$6,4,0)","v":3.125E-2},0.30208333333333331,0.25069444444444444,{"$f":"DATA!$C$9","v":0.89},{"$f":"DATA!$C$10","v":64},1,338.4375,407.8125,5.1388888888888894E-2,69.375,0.17011494252873563,0,"","",259.2,229,229,"","",null,{"$f":"X457","v":22},{"$f":"Y450+1","v":"2018-05-30"},{"$f":"TEXT(Y453,\"ddd\")","v":"wo"},"DD",{"$f":"IFERROR(HLOOKUP(Y453,[1]DATA!$A$1:$NB$5,3,0),\"\")","v":"D1"},74,null,14,243,{"$f":"VLOOKUP(Y453,[1]SRI!$S$4:$Z$368,6,0)","v":3},-109.4375,0.56153256704980847,0.98855835240274603]
["22woMD",{"$f":"VLOOKUP($AA454,DATA!$B$3:$E$6,2,0)","v":"14:30:00"},{"$f":"VLOOKUP($AA454,DATA!$B$3:$E$6,3,0)","v":"22:30:00"},{"$f":"VLOOKUP($AA454,DATA!$B$3:$E$6,4,0)","v":3.125E-2},0.30208333333333337,0.2729166666666667,{"$f":"DATA!$C$9","v":0.89},{"$f":"DATA!$C$10","v":64},1,368.43750000000006,407.81250000000006,2.9166666666666664E-2,39.374999999999993,9.6551724137931005E-2,0,"","",344.5333333333333,309,"","",309,null,{"$f":"X457","v":22},null,{"$f":"TEXT(Y453,\"ddd\")","v":"wo"},"MD",{"$f":"IFERROR(HLOOKUP(Y453,[1]DATA!$A$1:$NB$5,4,0),\"\")","v":"D3"},42,null,14,323,{"$f":"VLOOKUP(Y453,[1]SRI!$S$4:$Z$368,7,0)","v":20},{"$f":"IFERROR(S454-J454,\"\")","v":-59.437500000000057},{"$f":"IFERROR(IF(S454/(E454*86400/H454)<=0,\"\",S454/(E454*86400/H454)),\"\")","v":0.75770114942528721},0.94513533284564744]
["22woND",{"$f":"VLOOKUP($AA455,DATA!$B$3:$E$6,2,0)","v":"22:30:00"},{"$f":"VLOOKUP($AA455,DATA!$B$3:$E$6,3,0)","v":"06:30:00"},{"$f":"VLOOKUP($AA455,DATA!$B$3:$E$6,4,0)","v":3.125E-2},0.30208333333333326,0.22916666666666657,{"$f":"DATA!$C$9","v":0.89},{"$f":"DATA!$C$10","v":64},1,309.37499999999989,407.81249999999989,{"$f":"TIME(INT($AC455/60),INT(MOD($AC455,60)/1),0)","v":7.2916666666666671E-2},{"$f":"IF($L455*86400/$H455=0,\"\",$L455*86400/$H455)","v":98.4375},{"$f":"IFERROR($M455/$K455,\"\")","v":0.24137931034482765},0,"",{"$f":"IFERROR($P455/$K455,\"\")","v":""},348.8,316,{"$f":"IF(IF($AB455=\"D1\",$S455,\"\")=0,\"\",IF($AB455=\"D1\",$S455,\"\"))","v":""},{"$f":"IF(IF($AB455=\"D2\",$S455,\"\")=0,\"\",IF($AB455=\"D2\",$S455,\"\"))","v":316},{"$f":"IF(IF($AB455=\"D3\",$S455,\"\")=0,\"\",IF($AB455=\"D3\",$S455,\"\"))","v":""},null,{"$f":"X457","v":22},null,{"$f":"TEXT(Y453,\"ddd\")","v":"wo"},"ND",{"$f":"IFERROR(HLOOKUP(Y453,[1]DATA!$A$1:$NB$5,5,0),\"\")","v":"D2"},105,null,11,327,{"$f":"VLOOKUP(Y453,[1]SRI!$S$4:$Z$368,8,0)","v":0},6.6250000000001137,0.77486590038314196,1]
["22doDD",{"$f":"VLOOKUP($AA456,DATA!$B$3:$E$6,2,0)","v":"06:30:00"},{"$f":"VLOOKUP($AA456,DATA!$B$3:$E$6,3,0)","v":"14:30:00"},{"$f":"VLOOKUP($AA456,DATA!$B$3:$E$6,4,0)","v":3.125E-2},0.30208333333333331,0.23819444444444443,{"$f":"DATA!$C$9","v":0.89},{"$f":"DATA!$C$10","v":64},1,321.5625,407.8125,6.3888888888888884E-2,86.25,0.21149425287356322,0,"","",373.33333333333331,329,329,"","",null,{"$f":"X457","v":22},{"$f":"Y453+1","v":"2018-05-31"},{"$f":"TEXT(Y456,\"ddd\")","v":"do"},"DD",{"$f":"IFERROR(HLOOKUP(Y456,[1]DATA!$A$1:$NB$5,3,0),\"\")","v":"D1"},92,null,21,350,{"$f":"VLOOKUP(Y456,[1]SRI!$S$4:$Z$368,6,0)","v":3},7.4375,0.80674329501915709,0.99202834366696191]
["22doMD",{"$f":"VLOOKUP($AA457,DATA!$B$3:$E$6,2,0)","v":"14:30:00"},{"$f":"VLOOKUP($AA457,DATA!$B$3:$E$6,3,0)","v":"22:30:00"},{"$f":"VLOOKUP($AA457,DATA!$B$3:$E$6,4,0)","v":3.125E-2},0.30208333333333337,0.28958333333333336,{"$f":"DATA!$C$9","v":0.89},{"$f":"DATA!$C$10","v":64},1,390.93750000000006,407.81250000000006,1.2499999999999999E-2,16.875,4.1379310344827579E-2,0,"","",324.26666666666665,279,"","",279,null,{"$f":"WEEKNUM($Y447)","v":22},null,{"$f":"TEXT(Y456,\"ddd\")","v":"do"},"MD",{"$f":"IFERROR(HLOOKUP(Y456,[1]DATA!$A$1:$NB$5,4,0),\"\")","v":"D3"},18,null,25,304,{"$f":"VLOOKUP(Y456,[1]SRI!$S$4:$Z$368,7,0)","v":40},-111.93750000000006,0.68413793103448262,0.89019033674963399]
["22doND",{"$f":"VLOOKUP($AA458,DATA!$B$3:$E$6,2,0)","v":"22:30:00"},{"$f":"VLOOKUP($AA458,DATA!$B$3:$E$6,3,0)","v":"06:30:00"},{"$f":"VLOOKUP($AA458,DATA!$B$3:$E$6,4,0)","v":3.125E-2},0.30208333333333326,0.25694444444444436,{"$f":"DATA!$C$9","v":0.89},{"$f":"DATA!$C$10","v":64},1,346.87499999999989,407.81249999999989,4.5138888888888888E-2,60.9375,0.14942528735632188,0,"","",394.66666666666669,350,"",350,"",null,{"$f":"X457","v":22},null,{"$f":"TEXT(Y456,\"ddd\")","v":"do"},"ND",{"$f":"IFERROR(HLOOKUP(Y456,[1]DATA!$A$1:$NB$5,5,0),\"\")","v":"D2"},65,null,20,370,{"$f":"VLOOKUP(Y456,[1]SRI!$S$4:$Z$368,8,0)","v":3},3.1250000000001137,0.85823754789272055,0.9924559932942163]
["22vrDD",{"$f":"VLOOKUP($AA459,DATA!$B$3:$E$6,2,0)","v":"06:30:00"},{"$f":"VLOOKUP($AA459,DATA!$B$3:$E$6,3,0)","v":"14:30:00"},{"$f":"VLOOKUP($AA459,DATA!$B$3:$E$6,4,0)","v":3.125E-2},0.30208333333333331,0.21597222222222218,{"$f":"DATA!$C$9","v":0.89},{"$f":"DATA!$C$10","v":64},1,291.56249999999994,407.8125,8.6111111111111124E-2,116.25000000000001,0.28505747126436787,0,"","",278.39999999999998,245,245,"","",null,{"$f":"X457","v":22},{"$f":"Y456+1","v":"2018-06-01"},{"$f":"TEXT(Y459,\"ddd\")","v":"vr"},"DD",{"$f":"IFERROR(HLOOKUP(Y459,[1]DATA!$A$1:$NB$5,3,0),\"\")","v":"D1"},124,null,16,261,{"$f":"VLOOKUP(Y459,[1]SRI!$S$4:$Z$368,6,0)","v":0},-46.562499999999943,0.60076628352490424,1]
["22vrMD",{"$f":"VLOOKUP($AA460,DATA!$B$3:$E$6,2,0)","v":"14:30:00"},{"$f":"VLOOKUP($AA460,DATA!$B$3:$E$6,3,0)","v":"22:30:00"},{"$f":"VLOOKUP($AA460,DATA!$B$3:$E$6,4,0)","v":3.125E-2},0.30208333333333337,0.30208333333333337,{"$f":"DATA!$C$9","v":0.89},{"$f":"DATA!$C$10","v":64},1,407.81250000000006,407.81250000000006,0,"","",0,"","",0,"","","","",null,{"$f":"X457","v":22},null,{"$f":"TEXT(Y459,\"ddd\")","v":"vr"},"MD",{"$f":"IFERROR(HLOOKUP(Y459,[1]DATA!$A$1:$NB$5,4,0),\"\")","v":"D3"},null,null,null,null,{"$f":"VLOOKUP(Y459,[1]SRI!$S$4:$Z$368,7,0)","v":0},"","",""]
["22vrND",{"$f":"VLOOKUP($AA461,DATA!$B$3:$E$6,2,0)","v":"22:30:00"},{"$f":"VLOOKUP($AA461,DATA!$B$3:$E$6,3,0)","v":"06:30:00"},{"$f":"VLOOKUP($AA461,DATA!$B$3:$E$6,4,0)","v":3.125E-2},0.30208333333333326,0.30208333333333326,{"$f":"DATA!$C$9","v":0.89},{"$f":"DATA!$C$10","v":64},1,407.81249999999989,407.81249999999989,0,"","",0,"","",0,"","","","",null,{"$f":"X457","v":22},null,{"$f":"TEXT(Y459,\"ddd\")","v":"vr"},"ND",{"$f":"IFERROR(HLOOKUP(Y459,[1]DATA!$A$1:$NB$5,5,0),\"\")","v":"D2"},null,null,null,null,{"$f":"VLOOKUP(Y459,[1]SRI!$S$4:$Z$368,8,0)","v":0},"","",""]
["22zaDD",{"$f":"VLOOKUP($AA462,DATA!$B$3:$E$6,2,0)","v":"06:30:00"},{"$f":"VLOOKUP($AA462,DATA!$B$3:$E$6,3,0)","v":"14:30:00"},{"$f":"VLOOKUP($AA462,DATA!$B$3:$E$6,4,0)","v":3.125E-2},0.30208333333333331,0.30208333333333331,{"$f":"DATA!$C$9","v":0.89},{"$f":"DATA!$C$10","v":64},1,407.8125,407.8125,0,"","",0,"","",0,"","","","",null,{"$f":"X457","v":22},{"$f":"Y459+1","v":"2018-06-02"},{"$f":"TEXT(Y462,\"ddd\")","v":"za"},"DD",{"$f":"IFERROR(HLOOKUP(Y462,[1]DATA!$A$1:$NB$5,3,0),\"\")","v":"D1"},null,null,null,null,{"$f":"VLOOKUP(Y462,[1]SRI!$S$4:$Z$368,6,0)","v":0},"","",""]
["22zaMD",{"$f":"VLOOKUP($AA463,DATA!$B$3:$E$6,2,0)","v":"14:30:00"},{"$f":"VLOOKUP($AA463,DATA!$B$3:$E$6,3,0)","v":"22:30:00"},{"$f":"VLOOKUP($AA463,DATA!$B$3:$E$6,4,0)","v":3.125E-2},0.30208333333333337,0.30208333333333337,{"$f":"DATA!$C$9","v":0.89},{"$f":"DATA!$C$10","v":64},1,407.81250000000006,407.81250000000006,0,"","",0,"","",0,"","","","",null,{"$f":"X457","v":22},null,{"$f":"TEXT(Y462,\"ddd\")","v":"za"},"MD",{"$f":"IFERROR(HLOOKUP(Y462,[1]DATA!$A$1:$NB$5,4,0),\"\")","v":"-"},null,null,null,null,{"$f":"VLOOKUP(Y462,[1]SRI!$S$4:$Z$368,7,0)","v":0},"","",""]
["22zaND",{"$f":"VLOOKUP($AA464,DATA!$B$3:$E$6,2,0)","v":"22:30:00"},{"$f":"VLOOKUP($AA464,DATA!$B$3:$E$6,3,0)","v":"06:30:00"},{"$f":"VLOOKUP($AA464,DATA!$B$3:$E$6,4,0)","v":3.125E-2},0.30208333333333326,0.30208333333333326,{"$f":"DATA!$C$9","v":0.89},{"$f":"DATA!$C$10","v":64},1,407.81249999999989,407.81249999999989,0,"","",0,"","",0,"","","","",null,{"$f":"X457","v":22},null,{"$f":"TEXT(Y462,\"ddd\")","v":"za"},"ND",{"$f":"IFERROR(HLOOKUP(Y462,[1]DATA!$A$1:$NB$5,5,0),\"\")","v":"-"},null,null,null,null,{"$f":"VLOOKUP(Y462,[1]SRI!$S$4:$Z$368,8,0)","v":0},"","",""]
["22zoDD",{"$f":"VLOOKUP($AA465,DATA!$B$3:$E$6,2,0)","v":"06:30:00"},{"$f":"VLOOKUP($AA465,DATA!$B$3:$E$6,3,0)","v":"14:30:00"},{"$f":"VLOOKUP($AA465,DATA!$B$3:$E$6,4,0)","v":3.125E-2},0.30208333333333331,0.30208333333333331,{"$f":"DATA!$C$9","v":0.89},{"$f":"DATA!$C$10","v":64},1,407.8125,407.8125,0,"","",0,"","",0,"","","","",null,{"$f":"X457","v":22},{"$f":"Y462+1","v":"2018-06-03"},{"$f":"TEXT(Y465,\"ddd\")","v":"zo"},"DD",{"$f":"IFERROR(HLOOKUP(Y465,[1]DATA!$A$1:$NB$5,3,0),\"\")","v":"-"},null,null,null,null,{"$f":"VLOOKUP(Y465,[1]SRI!$S$4:$Z$368,6,0)","v":0},"","",""]
["22zoMD",{"$f":"VLOOKUP($AA466,DATA!$B$3:$E$6,2,0)","v":"14:30:00"},{"$f":"VLOOKUP($AA466,DATA!$B$3:$E$6,3,0)","v":"22:30:00"},{"$f":"VLOOKUP($AA466,DATA!$B$3:$E$6,4,0)","v":3.125E-2},0.30208333333333337,0.30208333333333337,{"$f":"DATA!$C$9","v":0.89},{"$f":"DATA!$C$10","v":64},1,407.81250000000006,407.81250000000006,0,"","",0,"","",0,"","","","",null,{"$f":"X457","v":22},null,{"$f":"TEXT(Y465,\"ddd\")","v":"zo"},"MD",{"$f":"IFERROR(HLOOKUP(Y465,[1]DATA!$A$1:$NB$5,4,0),\"\")","v":"-"},null,null,null,null,{"$f":"VLOOKUP(Y465,[1]SRI!$S$4:$Z$368,7,0)","v":0},"","",""]
["22zoZND",{"$f":"VLOOKUP($AA467,DATA!$B$3:$E$6,2,0)","v":"00:00:00"},{"$f":"VLOOKUP($AA467,DATA!$B$3:$E$6,3,0)","v":"00:00:00"},{"$f":"VLOOKUP($AA467,DATA!$B$3:$E$6,4,0)","v":3.125E-2},-3.125E-2,-3.125E-2,{"$f":"DATA!$C$9","v":0.89},{"$f":"DATA!$C$10","v":64},1,-42.1875,-42.1875,0,"","",0,"","",0,"","","","",null,{"$f":"X457","v":22},null,{"$f":"TEXT(Y465,\"ddd\")","v":"zo"},"ZND",{"$f":"IFERROR(HLOOKUP(Y465,[1]DATA!$A$1:$NB$5,5,0),\"\")","v":"-"},null,null,null,null,{"$f":"VLOOKUP(Y465,[1]SRI!$S$4:$Z$368,8,0)","v":0},"","",""]
["23maDD",{"$f":"VLOOKUP($AA468,DATA!$B$3:$E$6,2,0)","v":"06:30:00"},{"$f":"VLOOKUP($AA468,DATA!$B$3:$E$6,3,0)","v":"14:30:00"},{"$f":"VLOOKUP($AA468,DATA!$B$3:$E$6,4,0)","v":3.125E-2},0.30208333333333331,0.21319444444444441,{"$f":"DATA!$C$9","v":0.89},{"$f":"DATA!$C$10","v":64},1,287.81249999999994,407.8125,8.8888888888888892E-2,120,0.29425287356321839,{"$f":"TIME(INT($AD468/60),INT(MOD($AD468,60)/1),0)","v":0},"","",283.73333333333335,236,"","",236,null,{"$f":"X478","v":23},{"$f":"Y465+1","v":"2018-06-04"},{"$f":"TEXT(Y468,\"ddd\")","v":"ma"},"DD",{"$f":"IFERROR(HLOOKUP(Y468,[1]DATA!$A$1:$NB$5,3,0),\"\")","v":"D3"},128,null,30,266,{"$f":"VLOOKUP(Y468,[1]SRI!$S$4:$Z$368,6,0)","v":55},-51.812499999999943,0.57869731800766289,0.83763038771895293,{"$f":"IF(SUMIF(S468:S488,\">0\",K468:K488)=0,\"\",SUMIF(S468:S488,\">0\",K468:K488))","v":6117.1875},{"$f":"IF(SUM(S468:S488)=0,\"\",SUM(S468:S488))","v":4298},{"$f":"IFERROR(AL468/AK468,\"-\")","v":0.70261047254150699},{"$f":"IF(SUM(M468:M488)=0,\"0\",SUM(M468:M488))","v":1496.25},{"$f":"IFERROR(AN468/AK468,\"-\")","v":0.24459770114942528},{"$f":"IF(SUM(P468:P488)=0,0,SUM(P468:P488))","v":0},{"$f":"IFERROR(AP468/AK468,\"-\")","v":0},0.92364211008544772,{"$f":"IFERROR(SUMIF($AB468:$AB488,AS$5,$AJ468:$AJ488)/COUNTIFS($AB468:$AB488,AS$5,$AJ468:$AJ488,\">0\"),\"\")","v":0.98418385697558974},0.9315622213753173,0.86570457902549047,{"$f":"IFERROR((AK468-AL468-AN468-AP468),\"-\")","v":322.9375},{"$f":"IFERROR((1-AM468-AO468-AQ468), \"-\")","v":5.279182630906773E-2},{"$f":"IFERROR((AV468*$AE$2)/60,\"-\")","v":344.46666666666664},{"$f":"IFERROR(SUM(AG468:AG488),\"\")","v":451}]
["23maMD",{"$f":"VLOOKUP($AA469,DATA!$B$3:$E$6,2,0)","v":"14:30:00"},{"$f":"VLOOKUP($AA469,DATA!$B$3:$E$6,3,0)","v":"22:30:00"},{"$f":"VLOOKUP($AA469,DATA!$B$3:$E$6,4,0)","v":3.125E-2},0.30208333333333337,0.17083333333333336,{"$f":"DATA!$C$9","v":0.89},{"$f":"DATA!$C$10","v":64},1,230.62500000000003,407.81250000000006,0.13125000000000001,177.1875,0.43448275862068958,{"$f":"TIME(INT(AD469/60),INT(MOD(AD469,60)/1),0)","v":0},"","",289.06666666666666,234,"",234,"",null,{"$f":"X478","v":23},null,{"$f":"TEXT(Y468,\"ddd\")","v":"ma"},"MD",{"$f":"IFERROR(HLOOKUP(Y468,[1]DATA!$A$1:$NB$5,4,0),\"\")","v":"D2"},189,null,37,271,{"$f":"VLOOKUP(Y468,[1]SRI!$S$4:$Z$368,7,0)","v":0},3.3749999999999716,0.57379310344827583,1]
["23maND",{"$f":"VLOOKUP($AA470,DATA!$B$3:$E$6,2,0)","v":"22:30:00"},{"$f":"VLOOKUP($AA470,DATA!$B$3:$E$6,3,0)","v":"06:30:00"},{"$f":"VLOOKUP($AA470,DATA!$B$3:$E$6,4,0)","v":3.125E-2},0.30208333333333326,0.23194444444444437,{"$f":"DATA!$C$9","v":0.89},{"$f":"DATA!$C$10","v":64},1,313.12499999999989,407.81249999999989,7.013888888888889E-2,94.6875,0.23218390804597708,0,"","",352,308,308,"","",null,{"$f":"X478","v":23},null,{"$f":"TEXT(Y468,\"ddd\")","v":"ma"},"ND",{"$f":"IFERROR(HLOOKUP(Y468,[1]DATA!$A$1:$NB$5,5,0),\"\")","v":"D1"},101,null,22,330,{"$f":"VLOOKUP(Y468,[1]SRI!$S$4:$Z$368,8,0)","v":2},-5.1249999999998863,0.75524904214559407,0.99435028248587576]
["23diDD",{"$f":"VLOOKUP($AA471,DATA!$B$3:$E$6,2,0)","v":"06:30:00"},{"$f":"VLOOKUP($AA471,DATA!$B$3:$E$6,3,0)","v":"14:30:00"},{"$f":"VLOOKUP($AA471,DATA!$B$3:$E$6,4,0)","v":3.125E-2},0.30208333333333331,0.21180555555555552,{"$f":"DATA!$C$9","v":0.89},{"$f":"DATA!$C$10","v":64},1,285.93749999999994,407.8125,9.0277777777777776E-2,121.875,0.2988505747126437,0,"","",262.39999999999998,227,"","",227,null,{"$f":"X478","v":23},{"$f":"Y468+1","v":"2018-06-05"},{"$f":"TEXT(Y471,\"ddd\")","v":"di"},"DD",{"$f":"IFERROR(HLOOKUP(Y471,[1]DATA!$A$1:$NB$5,3,0),\"\")","v":"D3"},130,null,19,246,{"$f":"VLOOKUP(Y471,[1]SRI!$S$4:$Z$368,6,0)","v":36},-58.937499999999943,0.55662835249042142,0.87935656836461129]
["23diMD",{"$f":"VLOOKUP($AA472,DATA!$B$3:$E$6,2,0)","v":"14:30:00"},{"$f":"VLOOKUP($AA472,DATA!$B$3:$E$6,3,0)","v":"22:30:00"},{"$f":"VLOOKUP($AA472,DATA!$B$3:$E$6,4,0)","v":3.125E-2},0.30208333333333337,0.23125000000000004,{"$f":"DATA!$C$9","v":0.89},{"$f":"DATA!$C$10","v":64},1,312.18750000000006,407.81250000000006,7.0833333333333331E-2,95.625,0.23448275862068962,0,"","",346.66666666666669,310,"",310,"",null,{"$f":"X478","v":23},null,{"$f":"TEXT(Y471,\"ddd\")","v":"di"},"MD",{"$f":"IFERROR(HLOOKUP(Y471,[1]DATA!$A$1:$NB$5,4,0),\"\")","v":"D2"},102,null,15,325,{"$f":"VLOOKUP(Y471,[1]SRI!$S$4:$Z$368,7,0)","v":11},-2.1875000000000568,0.76015325670498068,0.96924510717614165]
["23diND",{"$f":"VLOOKUP($AA473,DATA!$B$3:$E$6,2,0)","v":"22:30:00"},{"$f":"VLOOKUP($AA473,DATA!$B$3:$E$6,3,0)","v":"06:30:00"},{"$f":"VLOOKUP($AA473,DATA!$B$3:$E$6,4,0)","v":3.125E-2},0.30208333333333326,0.25069444444444439,{"$f":"DATA!$C$9","v":0.89},{"$f":"DATA!$C$10","v":64},1,338.43749999999994,407.81249999999989,5.1388888888888894E-2,69.375,0.17011494252873569,0,"","",393.6,354,354,"","",null,{"$f":"X478","v":23},null,{"$f":"TEXT(Y471,\"ddd\")","v":"di"},"ND",{"$f":"IFERROR(HLOOKUP(Y471,[1]DATA!$A$1:$NB$5,5,0),\"\")","v":"D1"},74,null,15,369,{"$f":"VLOOKUP(Y471,[1]SRI!$S$4:$Z$368,8,0)","v":0},15.562500000000057,0.86804597701149444,1]
["23woDD",{"$f":"VLOOKUP($AA474,DATA!$B$3:$E$6,2,0)","v":"06:30:00"},{"$f":"VLOOKUP($AA474,DATA!$B$3:$E$6,3,0)","v":"14:30:00"},{"$f":"VLOOKUP($AA474,DATA!$B$3:$E$6,4,0)","v":3.125E-2},0.30208333333333331,0.23819444444444443,{"$f":"DATA!$C$9","v":0.89},{"$f":"DATA!$C$10","v":64},1,321.5625,407.8125,6.3888888888888884E-2,86.25,0.21149425287356322,0,"","",356.26666666666665,326,"","",326,null,{"$f":"X478","v":23},{"$f":"Y471+1","v":"2018-06-06"},{"$f":"TEXT(Y474,\"ddd\")","v":"wo"},"DD",{"$f":"IFERROR(HLOOKUP(Y474,[1]DATA!$A$1:$NB$5,3,0),\"\")","v":"D3"},92,null,8,334,{"$f":"VLOOKUP(Y474,[1]SRI!$S$4:$Z$368,6,0)","v":3},4.4375,0.79938697318007668,0.99164965670810912]
["23woMD",{"$f":"VLOOKUP($AA475,DATA!$B$3:$E$6,2,0)","v":"14:30:00"},{"$f":"VLOOKUP($AA475,DATA!$B$3:$E$6,3,0)","v":"22:30:00"},{"$f":"VLOOKUP($AA475,DATA!$B$3:$E$6,4,0)","v":3.125E-2},0.30208333333333337,0.23055555555555557,{"$f":"DATA!$C$9","v":0.89},{"$f":"DATA!$C$10","v":64},1,311.25,407.81250000000006,7.1527777777777787E-2,96.562500000000014,0.23678160919540231,0,"","",297.60000000000002,261,"",261,"",null,{"$f":"X478","v":23},null,{"$f":"TEXT(Y474,\"ddd\")","v":"wo"},"MD",{"$f":"IFERROR(HLOOKUP(Y474,[1]DATA!$A$1:$NB$5,4,0),\"\")","v":"D2"},103,null,18,279,{"$f":"VLOOKUP(Y474,[1]SRI!$S$4:$Z$368,7,0)","v":45},-50.25,0.6399999999999999,{"$f":"IFERROR(R475/(R475+AG475),\"\")","v":0.86865148861646235}]
["23woND",{"$f":"VLOOKUP($AA476,DATA!$B$3:$E$6,2,0)","v":"22:30:00"},{"$f":"VLOOKUP($AA476,DATA!$B$3:$E$6,3,0)","v":"06:30:00"},{"$f":"VLOOKUP($AA476,DATA!$B$3:$E$6,4,0)","v":3.125E-2},{"$f":"(C476-B476+(B476>C476))-D476","v":0.30208333333333326},{"$f":"E476-O476-L476","v":0.22152777777777771},{"$f":"DATA!$C$9","v":0.89},{"$f":"DATA!$C$10","v":64},1,{"$f":"F476*86400/H476*I476","v":299.06249999999989},{"$f":"E476*86400/H476","v":407.81249999999989},8.0555555555555561E-2,108.75,0.26666666666666672,0,"","",{"$f":"AF476*AG$2","v":340.26666666666665},{"$f":"IF(AF476-AE476=0,\"\",AF476-AE476)","v":305},305,"","",null,{"$f":"X478","v":23},null,{"$f":"TEXT(Y474,\"ddd\")","v":"wo"},"ND",{"$f":"IFERROR(HLOOKUP(Y474,[1]DATA!$A$1:$NB$5,5,0),\"\")","v":"D1"},116,null,14,319,{"$f":"VLOOKUP(Y474,[1]SRI!$S$4:$Z$368,8,0)","v":7},5.9375000000001137,0.74789272030651366,0.97984258014974079]
["23doDD",{"$f":"VLOOKUP($AA477,DATA!$B$3:$E$6,2,0)","v":"06:30:00"},{"$f":"VLOOKUP($AA477,DATA!$B$3:$E$6,3,0)","v":"14:30:00"},{"$f":"VLOOKUP($AA477,DATA!$B$3:$E$6,4,0)","v":3.125E-2},0.30208333333333331,0.28472222222222221,{"$f":"DATA!$C$9","v":0.89},{"$f":"DATA!$C$10","v":64},1,384.375,407.8125,1.7361111111111112E-2,23.4375,5.7471264367816091E-2,0,"","",359.46666666666664,329,"","",329,null,{"$f":"X478","v":23},{"$f":"Y474+1","v":"2018-06-07"},{"$f":"TEXT(Y477,\"ddd\")","v":"do"},"DD",{"$f":"IFERROR(HLOOKUP(Y477,[1]DATA!$A$1:$NB$5,3,0),\"\")","v":"D3"},25,null,8,337,{"$f":"VLOOKUP(Y477,[1]SRI!$S$4:$Z$368,6,0)","v":10},-55.375,0.80674329501915709,0.97293395885961742]
["23doMD",{"$f":"VLOOKUP($AA478,DATA!$B$3:$E$6,2,0)","v":"14:30:00"},{"$f":"VLOOKUP($AA478,DATA!$B$3:$E$6,3,0)","v":"22:30:00"},{"$f":"VLOOKUP($AA478,DATA!$B$3:$E$6,4,0)","v":3.125E-2},0.30208333333333337,0.2194444444444445,{"$f":"DATA!$C$9","v":0.89},{"$f":"DATA!$C$10","v":64},1,296.25000000000006,407.81250000000006,8.2638888888888887E-2,111.5625,0.27356321839080455,0,"","",316.8,282,"",282,"",null,{"$f":"WEEKNUM($Y468)","v":23},null,{"$f":"TEXT(Y477,\"ddd\")","v":"do"},"MD",{"$f":"IFERROR(HLOOKUP(Y477,[1]DATA!$A$1:$NB$5,4,0),\"\")","v":"D2"},119,null,15,297,{"$f":"VLOOKUP(Y477,[1]SRI!$S$4:$Z$368,7,0)","v":0},-14.250000000000057,0.69149425287356314,1]
["23doND",{"$f":"VLOOKUP($AA479,DATA!$B$3:$E$6,2,0)","v":"22:30:00"},{"$f":"VLOOKUP($AA479,DATA!$B$3:$E$6,3,0)","v":"06:30:00"},{"$f":"VLOOKUP($AA479,DATA!$B$3:$E$6,4,0)","v":3.125E-2},0.30208333333333326,0.18819444444444439,{"$f":"DATA!$C$9","v":0.89},{"$f":"DATA!$C$10","v":64},1,254.06249999999991,407.81249999999989,0.11388888888888889,153.75,0.37701149425287367,0,"","",282.66666666666669,252,252,"","",null,{"$f":"X478","v":23},null,{"$f":"TEXT(Y477,\"ddd\")","v":"do"},"ND",{"$f":"IFERROR(HLOOKUP(Y477,[1]DATA!$A$1:$NB$5,5,0),\"\")","v":"D1"},164,null,13,265,{"$f":"VLOOKUP(Y477,[1]SRI!$S$4:$Z$368,8,0)","v":11},-2.0624999999999147,0.61793103448275877,0.96254256526674231]
["23vrDD",{"$f":"VLOOKUP($AA480,DATA!$B$3:$E$6,2,0)","v":"06:30:00"},{"$f":"VLOOKUP($AA480,DATA!$B$3:$E$6,3,0)","v":"14:30:00"},{"$f":"VLOOKUP($AA480,DATA!$B$3:$E$6,4,0)","v":3.125E-2},0.30208333333333331,0.26944444444444443,{"$f":"DATA!$C$9","v":0.89},{"$f":"DATA!$C$10","v":64},1,363.75,407.8125,3.2638888888888891E-2,44.0625,0.10804597701149425,0,"","",285.86666666666667,260,"","",260,null,{"$f":"X478","v":23},{"$f":"Y477+1","v":"2018-06-08"},{"$f":"TEXT(Y480,\"ddd\")","v":"vr"},"DD",{"$f":"IFERROR(HLOOKUP(Y480,[1]DATA!$A$1:$NB$5,3,0),\"\")","v":"D3"},47,null,8,268,{"$f":"VLOOKUP(Y480,[1]SRI!$S$4:$Z$368,6,0)","v":156},-103.75,0.63754789272030654,0.64695232347616172]
["23vrMD",{"$f":"VLOOKUP($AA481,DATA!$B$3:$E$6,2,0)","v":"14:30:00"},{"$f":"VLOOKUP($AA481,DATA!$B$3:$E$6,3,0)","v":"22:30:00"},{"$f":"VLOOKUP($AA481,DATA!$B$3:$E$6,4,0)","v":3.125E-2},0.30208333333333337,0.23263888888888895,{"$f":"DATA!$C$9","v":0.89},{"$f":"DATA!$C$10","v":64},1,314.06250000000006,407.81250000000006,6.9444444444444434E-2,93.749999999999986,0.22988505747126431,0,"","",347.73333333333335,308,"",308,"",null,{"$f":"X478","v":23},null,{"$f":"TEXT(Y480,\"ddd\")","v":"vr"},"MD",{"$f":"IFERROR(HLOOKUP(Y480,[1]DATA!$A$1:$NB$5,4,0),\"\")","v":"D2"},100,null,18,326,{"$f":"VLOOKUP(Y480,[1]SRI!$S$4:$Z$368,7,0)","v":115},-6.0625000000000568,0.75524904214559374,0.7514767324592998]
["23vrND",{"$f":"VLOOKUP($AA482,DATA!$B$3:$E$6,2,0)","v":"22:30:00"},{"$f":"VLOOKUP($AA482,DATA!$B$3:$E$6,3,0)","v":"06:30:00"},{"$f":"VLOOKUP($AA482,DATA!$B$3:$E$6,4,0)","v":3.125E-2},0.30208333333333326,0.22847222222222213,{"$f":"DATA!$C$9","v":0.89},{"$f":"DATA!$C$10","v":64},1,308.43749999999989,407.81249999999989,7.3611111111111113E-2,99.375,0.24367816091954031,0,"","",347.73333333333335,306,"",306,"",null,{"$f":"X478","v":23},null,{"$f":"TEXT(Y480,\"ddd\")","v":"vr"},"ND",{"$f":"IFERROR(HLOOKUP(Y480,[1]DATA!$A$1:$NB$5,5,0),\"\")","v":"D2"},106,null,20,326,{"$f":"VLOOKUP(Y480,[1]SRI!$S$4:$Z$368,8,0)","v":0},-2.4374999999998863,0.75034482758620713,1]
["23zaDD",{"$f":"VLOOKUP($AA483,DATA!$B$3:$E$6,2,0)","v":"06:30:00"},{"$f":"VLOOKUP($AA483,DATA!$B$3:$E$6,3,0)","v":"14:30:00"},{"$f":"VLOOKUP($AA483,DATA!$B$3:$E$6,4,0)","v":3.125E-2},0.30208333333333331,0.30208333333333331,{"$f":"DATA!$C$9","v":0.89},{"$f":"DATA!$C$10","v":64},1,407.8125,407.8125,0,"","",0,"","",0,"","","","",null,{"$f":"X478","v":23},{"$f":"Y480+1","v":"2018-06-09"},{"$f":"TEXT(Y483,\"ddd\")","v":"za"},"DD",{"$f":"IFERROR(HLOOKUP(Y483,[1]DATA!$A$1:$NB$5,3,0),\"\")","v":"D3"},null,null,null,null,{"$f":"VLOOKUP(Y483,[1]SRI!$S$4:$Z$368,6,0)","v":0},"","",""]
["23zaMD",{"$f":"VLOOKUP($AA484,DATA!$B$3:$E$6,2,0)","v":"14:30:00"},{"$f":"VLOOKUP($AA484,DATA!$B$3:$E$6,3,0)","v":"22:30:00"},{"$f":"VLOOKUP($AA484,DATA!$B$3:$E$6,4,0)","v":3.125E-2},0.30208333333333337,0.30208333333333337,{"$f":"DATA!$C$9","v":0.89},{"$f":"DATA!$C$10","v":64},1,407.81250000000006,407.81250000000006,0,"","",0,"","",0,"","","","",null,{"$f":"X478","v":23},null,{"$f":"TEXT(Y483,\"ddd\")","v":"za"},"MD",{"$f":"IFERROR(HLOOKUP(Y483,[1]DATA!$A$1:$NB$5,4,0),\"\")","v":"-"},null,null,null,null,{"$f":"VLOOKUP(Y483,[1]SRI!$S$4:$Z$368,7,0)","v":0},"","",""]
["23zaND",{"$f":"VLOOKUP($AA485,DATA!$B$3:$E$6,2,0)","v":"22:30:00"},{"$f":"VLOOKUP($AA485,DATA!$B$3:$E$6,3,0)","v":"06:30:00"},{"$f":"VLOOKUP($AA485,DATA!$B$3:$E$6,4,0)","v":3.125E-2},0.30208333333333326,0.30208333333333326,{"$f":"DATA!$C$9","v":0.89},{"$f":"DATA!$C$10","v":64},1,407.81249999999989,407.81249999999989,0,"","",0,"","",0,"","","","",null,{"$f":"X478","v":23},null,{"$f":"TEXT(Y483,\"ddd\")","v":"za"},"ND",{"$f":"IFERROR(HLOOKUP(Y483,[1]DATA!$A$1:$NB$5,5,0),\"\")","v":"-"},null,null,null,null,{"$f":"VLOOKUP(Y483,[1]SRI!$S$4:$Z$368,8,0)","v":0},"","",""]
["23zoDD",{"$f":"VLOOKUP($AA486,DATA!$B$3:$E$6,2,0)","v":"06:30:00"},{"$f":"VLOOKUP($AA486,DATA!$B$3:$E$6,3,0)","v":"14:30:00"},{"$f":"VLOOKUP($AA486,DATA!$B$3:$E$6,4,0)","v":3.125E-2},0.30208333333333331,0.30208333333333331,{"$f":"DATA!$C$9","v":0.89},{"$f":"DATA!$C$10","v":64},1,407.8125,407.8125,0,"","",0,"","",0,"","","","",null,{"$f":"X478","v":23},{"$f":"Y483+1","v":"2018-06-10"},{"$f":"TEXT(Y486,\"ddd\")","v":"zo"},"DD",{"$f":"IFERROR(HLOOKUP(Y486,[1]DATA!$A$1:$NB$5,3,0),\"\")","v":"-"},null,null,null,null,{"$f":"VLOOKUP(Y486,[1]SRI!$S$4:$Z$368,6,0)","v":0},"","",""]
["23zoMD",{"$f":"VLOOKUP($AA487,DATA!$B$3:$E$6,2,0)","v":"14:30:00"},{"$f":"VLOOKUP($AA487,DATA!$B$3:$E$6,3,0)","v":"22:30:00"},{"$f":"VLOOKUP($AA487,DATA!$B$3:$E$6,4,0)","v":3.125E-2},0.30208333333333337,0.30208333333333337,{"$f":"DATA!$C$9","v":0.89},{"$f":"DATA!$C$10","v":64},1,407.81250000000006,407.81250000000006,0,"","",0,"","",0,"","","","",null,{"$f":"X478","v":23},null,{"$f":"TEXT(Y486,\"ddd\")","v":"zo"},"MD",{"$f":"IFERROR(HLOOKUP(Y486,[1]DATA!$A$1:$NB$5,4,0),\"\")","v":"-"},null,null,null,null,{"$f":"VLOOKUP(Y486,[1]SRI!$S$4:$Z$368,7,0)","v":0},"","",""]
["23zoZND",{"$f":"VLOOKUP($AA488,DATA!$B$3:$E$6,2,0)","v":"00:00:00"},{"$f":"VLOOKUP($AA488,DATA!$B$3:$E$6,3,0)","v":"00:00:00"},{"$f":"VLOOKUP($AA488,DATA!$B$3:$E$6,4,0)","v":3.125E-2},-3.125E-2,-3.125E-2,{"$f":"DATA!$C$9","v":0.89},{"$f":"DATA!$C$10","v":64},1,-42.1875,-42.1875,0,"","",0,"","",0,"","","","",null,{"$f":"X478","v":23},null,{"$f":"TEXT(Y486,\"ddd\")","v":"zo"},"ZND",{"$f":"IFERROR(HLOOKUP(Y486,[1]DATA!$A$1:$NB$5,5,0),\"\")","v":"-"},null,null,null,null,{"$f":"VLOOKUP(Y486,[1]SRI!$S$4:$Z$368,8,0)","v":0},"","",""]
["24maDD",{"$f":"VLOOKUP($AA489,DATA!$B$3:$E$6,2,0)","v":"06:30:00"},{"$f":"VLOOKUP($AA489,DATA!$B$3:$E$6,3,0)","v":"14:30:00"},{"$f":"VLOOKUP($AA489,DATA!$B$3:$E$6,4,0)","v":3.125E-2},0.30208333333333331,0.23194444444444443,{"$f":"DATA!$C$9","v":0.89},{"$f":"DATA!$C$10","v":64},1,313.125,407.8125,7.013888888888889E-2,94.6875,0.23218390804597702,{"$f":"TIME(INT($AD489/60),INT(MOD($AD489,60)/1),0)","v":0},"","",280.5333333333333,241,"",241,"",null,{"$f":"X499","v":24},{"$f":"Y486+1","v":"2018-06-11"},{"$f":"TEXT(Y489,\"ddd\")","v":"ma"},"DD",{"$f":"IFERROR(HLOOKUP(Y489,[1]DATA!$A$1:$NB$5,3,0),\"\")","v":"D2"},101,null,22,263,{"$f":"VLOOKUP(Y489,[1]SRI!$S$4:$Z$368,6,0)","v":60},-72.125,0.59095785440613025,0.82380579483163663,{"$f":"IF(SUMIF(S489:S509,\">0\",K489:K509)=0,\"\",SUMIF(S489:S509,\">0\",K489:K509))","v":6117.1875},{"$f":"IF(SUM(S489:S509)=0,\"\",SUM(S489:S509))","v":4261},{"$f":"IFERROR(AL489/AK489,\"-\")","v":0.69656194125159643},{"$f":"IF(SUM(M489:M509)=0,\"0\",SUM(M489:M509))","v":1365.9375},{"$f":"IFERROR(AN489/AK489,\"-\")","v":0.22329501915708813},{"$f":"IF(SUM(P489:P509)=0,0,SUM(P489:P509))","v":0},{"$f":"IFERROR(AP489/AK489,\"-\")","v":0},0.97336961913725717,{"$f":"IFERROR(SUMIF($AB489:$AB509,AS$5,$AJ489:$AJ509)/COUNTIFS($AB489:$AB509,AS$5,$AJ489:$AJ509,\">0\"),\"\")","v":0.97433305981145746},0.95339877990291944,0.99237701769739461,{"$f":"IFERROR((AK489-AL489-AN489-AP489),\"-\")","v":490.25},{"$f":"IFERROR((1-AM489-AO489-AQ489), \"-\")","v":8.014303959131544E-2},{"$f":"IFERROR((AV489*$AE$2)/60,\"-\")","v":522.93333333333328},{"$f":"IFERROR(SUM(AG489:AG509),\"\")","v":142}]
["24maMD",{"$f":"VLOOKUP($AA490,DATA!$B$3:$E$6,2,0)","v":"14:30:00"},{"$f":"VLOOKUP($AA490,DATA!$B$3:$E$6,3,0)","v":"22:30:00"},{"$f":"VLOOKUP($AA490,DATA!$B$3:$E$6,4,0)","v":3.125E-2},0.30208333333333337,0.30138888888888893,{"$f":"DATA!$C$9","v":0.89},{"$f":"DATA!$C$10","v":64},1,406.87500000000006,407.81250000000006,6.9444444444444447E-4,0.9375,2.2988505747126432E-3,{"$f":"TIME(INT(AD490/60),INT(MOD(AD490,60)/1),0)","v":0},"","",391.46666666666664,349,349,"","",null,{"$f":"X499","v":24},null,{"$f":"TEXT(Y489,\"ddd\")","v":"ma"},"MD",{"$f":"IFERROR(HLOOKUP(Y489,[1]DATA!$A$1:$NB$5,4,0),\"\")","v":"D1"},1,null,18,367,{"$f":"VLOOKUP(Y489,[1]SRI!$S$4:$Z$368,7,0)","v":34},-57.875000000000057,0.85578544061302675,0.92008774678784078]
["24maND",{"$f":"VLOOKUP($AA491,DATA!$B$3:$E$6,2,0)","v":"22:30:00"},{"$f":"VLOOKUP($AA491,DATA!$B$3:$E$6,3,0)","v":"06:30:00"},{"$f":"VLOOKUP($AA491,DATA!$B$3:$E$6,4,0)","v":3.125E-2},0.30208333333333326,0.30208333333333326,{"$f":"DATA!$C$9","v":0.89},{"$f":"DATA!$C$10","v":64},1,407.81249999999989,407.81249999999989,0,"","",0,"","",388.26666666666665,351,"","",351,null,{"$f":"X499","v":24},null,{"$f":"TEXT(Y489,\"ddd\")","v":"ma"},"ND",{"$f":"IFERROR(HLOOKUP(Y489,[1]DATA!$A$1:$NB$5,5,0),\"\")","v":"D3"},0,null,13,364,{"$f":"VLOOKUP(Y489,[1]SRI!$S$4:$Z$368,8,0)","v":5},-56.812499999999886,0.86068965517241403,0.98728598067469064]
["24diDD",{"$f":"VLOOKUP($AA492,DATA!$B$3:$E$6,2,0)","v":"06:30:00"},{"$f":"VLOOKUP($AA492,DATA!$B$3:$E$6,3,0)","v":"14:30:00"},{"$f":"VLOOKUP($AA492,DATA!$B$3:$E$6,4,0)","v":3.125E-2},0.30208333333333331,0.22847222222222219,{"$f":"DATA!$C$9","v":0.89},{"$f":"DATA!$C$10","v":64},1,308.43749999999994,407.8125,7.3611111111111113E-2,99.375,0.24367816091954023,0,"","",341.33333333333331,295,"",295,"",null,{"$f":"X499","v":24},{"$f":"Y489+1","v":"2018-06-12"},{"$f":"TEXT(Y492,\"ddd\")","v":"di"},"DD",{"$f":"IFERROR(HLOOKUP(Y492,[1]DATA!$A$1:$NB$5,3,0),\"\")","v":"D2"},106,null,25,320,{"$f":"VLOOKUP(Y492,[1]SRI!$S$4:$Z$368,6,0)","v":4},-13.437499999999943,0.7233716475095785,0.98841698841698844]
["24diMD",{"$f":"VLOOKUP($AA493,DATA!$B$3:$E$6,2,0)","v":"14:30:00"},{"$f":"VLOOKUP($AA493,DATA!$B$3:$E$6,3,0)","v":"22:30:00"},{"$f":"VLOOKUP($AA493,DATA!$B$3:$E$6,4,0)","v":3.125E-2},0.30208333333333337,0.17361111111111113,{"$f":"DATA!$C$9","v":0.89},{"$f":"DATA!$C$10","v":64},1,234.37500000000003,407.81250000000006,0.12847222222222224,173.43750000000003,0.42528735632183912,0,"","",279.46666666666664,241,241,"","",null,{"$f":"X499","v":24},null,{"$f":"TEXT(Y492,\"ddd\")","v":"di"},"MD",{"$f":"IFERROR(HLOOKUP(Y492,[1]DATA!$A$1:$NB$5,4,0),\"\")","v":"D1"},185,null,21,262,{"$f":"VLOOKUP(Y492,[1]SRI!$S$4:$Z$368,7,0)","v":0},6.6249999999999716,0.59095785440613013,1]
["24diND",{"$f":"VLOOKUP($AA494,DATA!$B$3:$E$6,2,0)","v":"22:30:00"},{"$f":"VLOOKUP($AA494,DATA!$B$3:$E$6,3,0)","v":"06:30:00"},{"$f":"VLOOKUP($AA494,DATA!$B$3:$E$6,4,0)","v":3.125E-2},0.30208333333333326,0.18819444444444439,{"$f":"DATA!$C$9","v":0.89},{"$f":"DATA!$C$10","v":64},1,254.06249999999991,407.81249999999989,0.11388888888888889,153.75,0.37701149425287367,0,"","",284.8,258,"","",258,null,{"$f":"X499","v":24},null,{"$f":"TEXT(Y492,\"ddd\")","v":"di"},"ND",{"$f":"IFERROR(HLOOKUP(Y492,[1]DATA!$A$1:$NB$5,5,0),\"\")","v":"D3"},164,null,9,267,{"$f":"VLOOKUP(Y492,[1]SRI!$S$4:$Z$368,8,0)","v":0},3.9375000000000853,0.63264367816091971,1]
["24woDD",{"$f":"VLOOKUP($AA495,DATA!$B$3:$E$6,2,0)","v":"06:30:00"},{"$f":"VLOOKUP($AA495,DATA!$B$3:$E$6,3,0)","v":"14:30:00"},{"$f":"VLOOKUP($AA495,DATA!$B$3:$E$6,4,0)","v":3.125E-2},0.30208333333333331,0.28541666666666665,{"$f":"DATA!$C$9","v":0.89},{"$f":"DATA!$C$10","v":64},1,385.3125,407.8125,1.6666666666666666E-2,22.5,5.5172413793103448E-2,0,"","",363.73333333333335,327,"",327,"",null,{"$f":"X499","v":24},{"$f":"Y492+1","v":"2018-06-13"},{"$f":"TEXT(Y495,\"ddd\")","v":"wo"},"DD",{"$f":"IFERROR(HLOOKUP(Y495,[1]DATA!$A$1:$NB$5,3,0),\"\")","v":"D2"},24,null,14,341,{"$f":"VLOOKUP(Y495,[1]SRI!$S$4:$Z$368,6,0)","v":8},-58.3125,0.80183908045977015,0.97847919655667148]
[{"$f":"X496&Z496&AA496","v":"24woMD"},{"$f":"VLOOKUP($AA496,DATA!$B$3:$E$6,2,0)","v":"14:30:00"},{"$f":"VLOOKUP($AA496,DATA!$B$3:$E$6,3,0)","v":"22:30:00"},{"$f":"VLOOKUP($AA496,DATA!$B$3:$E$6,4,0)","v":3.125E-2},0.30208333333333337,0.28333333333333338,{"$f":"DATA!$C$9","v":0.89},{"$f":"DATA!$C$10","v":64},1,382.50000000000006,407.81250000000006,1.8749999999999999E-2,25.3125,6.2068965517241372E-2,0,{"$f":"IF($O496*86400/$H496=0,\"\",$O496*86400/$H496)","v":""},"",405.33333333333331,361,361,"","",null,{"$f":"X499","v":24},null,{"$f":"TEXT(Y495,\"ddd\")","v":"wo"},"MD",{"$f":"IFERROR(HLOOKUP(Y495,[1]DATA!$A$1:$NB$5,4,0),\"\")","v":"D1"},27,null,19,380,{"$f":"VLOOKUP(Y495,[1]SRI!$S$4:$Z$368,7,0)","v":6},-21.500000000000057,0.88521072796934852,0.98541329011345213]
["24woND",{"$f":"VLOOKUP($AA497,DATA!$B$3:$E$6,2,0)","v":"22:30:00"},{"$f":"VLOOKUP($AA497,DATA!$B$3:$E$6,3,0)","v":"06:30:00"},{"$f":"VLOOKUP($AA497,DATA!$B$3:$E$6,4,0)","v":3.125E-2},0.30208333333333326,0.15902777777777768,{"$f":"DATA!$C$9","v":0.89},{"$f":"DATA!$C$10","v":64},1,214.68749999999989,407.81249999999989,0.14305555555555557,193.12500000000003,0.47356321839080479,0,"","",260.26666666666665,221,"","",221,null,{"$f":"X499","v":24},null,{"$f":"TEXT(Y495,\"ddd\")","v":"wo"},"ND",{"$f":"IFERROR(HLOOKUP(Y495,[1]DATA!$A$1:$NB$5,5,0),\"\")","v":"D3"},206,null,23,244,{"$f":"VLOOKUP(Y495,[1]SRI!$S$4:$Z$368,8,0)","v":3},6.3125000000001137,0.5419157088122607,0.98860471005317807]
["24doDD",{"$f":"VLOOKUP($AA498,DATA!$B$3:$E$6,2,0)","v":"06:30:00"},{"$f":"VLOOKUP($AA498,DATA!$B$3:$E$6,3,0)","v":"14:30:00"},{"$f":"VLOOKUP($AA498,DATA!$B$3:$E$6,4,0)","v":3.125E-2},0.30208333333333331,0.20694444444444443,{"$f":"DATA!$C$9","v":0.89},{"$f":"DATA!$C$10","v":64},1,279.375,407.8125,9.5138888888888884E-2,128.4375,0.31494252873563217,0,"","",328.5333333333333,290,"",290,"",null,{"$f":"X499","v":24},{"$f":"Y495+1","v":"2018-06-14"},{"$f":"TEXT(Y498,\"ddd\")","v":"do"},"DD",{"$f":"IFERROR(HLOOKUP(Y498,[1]DATA!$A$1:$NB$5,3,0),\"\")","v":"D2"},137,null,18,308,{"$f":"VLOOKUP(Y498,[1]SRI!$S$4:$Z$368,6,0)","v":4},10.625,0.71111111111111114,0.9879711307137129]
["24doMD",{"$f":"VLOOKUP($AA499,DATA!$B$3:$E$6,2,0)","v":"14:30:00"},{"$f":"VLOOKUP($AA499,DATA!$B$3:$E$6,3,0)","v":"22:30:00"},{"$f":"VLOOKUP($AA499,DATA!$B$3:$E$6,4,0)","v":3.125E-2},0.30208333333333337,0.18263888888888891,{"$f":"DATA!$C$9","v":0.89},{"$f":"DATA!$C$10","v":64},1,246.56250000000003,407.81250000000006,0.11944444444444445,161.25,0.39540229885057465,0,"","",289.06666666666666,262,262,"","",null,{"$f":"WEEKNUM($Y489)","v":24},null,{"$f":"TEXT(Y498,\"ddd\")","v":"do"},"MD",{"$f":"IFERROR(HLOOKUP(Y498,[1]DATA!$A$1:$NB$5,4,0),\"\")","v":"D1"},172,null,9,271,{"$f":"VLOOKUP(Y498,[1]SRI!$S$4:$Z$368,7,0)","v":6},15.437499999999972,0.64245210727969337,0.97966561229100768]
["24doND",{"$f":"VLOOKUP($AA500,DATA!$B$3:$E$6,2,0)","v":"22:30:00"},{"$f":"VLOOKUP($AA500,DATA!$B$3:$E$6,3,0)","v":"06:30:00"},{"$f":"VLOOKUP($AA500,DATA!$B$3:$E$6,4,0)","v":3.125E-2},0.30208333333333326,0.26249999999999996,{"$f":"DATA!$C$9","v":0.89},{"$f":"DATA!$C$10","v":64},1,354.37499999999994,407.81249999999989,3.9583333333333331E-2,53.4375,0.13103448275862073,0,"","",352,318,"","",318,null,{"$f":"X499","v":24},null,{"$f":"TEXT(Y498,\"ddd\")","v":"do"},"ND",{"$f":"IFERROR(HLOOKUP(Y498,[1]DATA!$A$1:$NB$5,5,0),\"\")","v":"D3"},57,null,12,330,{"$f":"VLOOKUP(Y498,[1]SRI!$S$4:$Z$368,8,0)","v":5},-36.374999999999943,0.7797701149425289,0.98599439775910369]
["24vrDD",{"$f":"VLOOKUP($AA501,DATA!$B$3:$E$6,2,0)","v":"06:30:00"},{"$f":"VLOOKUP($AA501,DATA!$B$3:$E$6,3,0)","v":"14:30:00"},{"$f":"VLOOKUP($AA501,DATA!$B$3:$E$6,4,0)","v":3.125E-2},0.30208333333333331,0.25694444444444442,{"$f":"DATA!$C$9","v":0.89},{"$f":"DATA!$C$10","v":64},1,346.87499999999994,407.8125,4.5138888888888888E-2,60.9375,0.14942528735632185,0,"","",253.86666666666667,227,"",227,"",null,{"$f":"X499","v":24},"2018-06-15",{"$f":"TEXT(Y501,\"ddd\")","v":"vr"},"DD",{"$f":"IFERROR(HLOOKUP(Y501,[1]DATA!$A$1:$NB$5,3,0),\"\")","v":"D2"},65,null,11,238,{"$f":"VLOOKUP(Y501,[1]SRI!$S$4:$Z$368,6,0)","v":3},-119.87499999999994,0.55662835249042142,0.98832078899558784]
["24vrMD",{"$f":"VLOOKUP($AA502,DATA!$B$3:$E$6,2,0)","v":"14:30:00"},{"$f":"VLOOKUP($AA502,DATA!$B$3:$E$6,3,0)","v":"22:30:00"},{"$f":"VLOOKUP($AA502,DATA!$B$3:$E$6,4,0)","v":3.125E-2},0.30208333333333337,0.22847222222222224,{"$f":"DATA!$C$9","v":0.89},{"$f":"DATA!$C$10","v":64},1,308.4375,407.81250000000006,7.3611111111111113E-2,99.375,0.2436781609195402,0,"","",292.26666666666665,260,260,"","",null,{"$f":"X499","v":24},null,{"$f":"TEXT(Y501,\"ddd\")","v":"vr"},"MD",{"$f":"IFERROR(HLOOKUP(Y501,[1]DATA!$A$1:$NB$5,4,0),\"\")","v":"D1"},106,null,14,274,{"$f":"VLOOKUP(Y501,[1]SRI!$S$4:$Z$368,7,0)","v":4},-48.4375,0.63754789272030643,0.98649864986498648]
["24vrND",{"$f":"VLOOKUP($AA503,DATA!$B$3:$E$6,2,0)","v":"22:30:00"},{"$f":"VLOOKUP($AA503,DATA!$B$3:$E$6,3,0)","v":"06:30:00"},{"$f":"VLOOKUP($AA503,DATA!$B$3:$E$6,4,0)","v":3.125E-2},0.30208333333333326,0.22847222222222213,{"$f":"DATA!$C$9","v":0.89},{"$f":"DATA!$C$10","v":64},1,308.43749999999989,407.81249999999989,7.3611111111111113E-2,99.375,0.24367816091954031,0,"","",292.26666666666665,260,"","",260,null,{"$f":"X499","v":24},null,{"$f":"TEXT(Y501,\"ddd\")","v":"vr"},"ND",{"$f":"IFERROR(HLOOKUP(Y501,[1]DATA!$A$1:$NB$5,5,0),\"\")","v":"D3"},106,null,14,274,{"$f":"VLOOKUP(Y501,[1]SRI!$S$4:$Z$368,8,0)","v":0},-48.437499999999886,0.63754789272030665,1]
["24zaDD",{"$f":"VLOOKUP($AA504,DATA!$B$3:$E$6,2,0)","v":"06:30:00"},{"$f":"VLOOKUP($AA504,DATA!$B$3:$E$6,3,0)","v":"14:30:00"},{"$f":"VLOOKUP($AA504,DATA!$B$3:$E$6,4,0)","v":3.125E-2},0.30208333333333331,0.30208333333333331,{"$f":"DATA!$C$9","v":0.89},{"$f":"DATA!$C$10","v":64},1,407.8125,407.8125,0,"","",0,"","",0,"","","","",null,{"$f":"X499","v":24},"2018-06-16",{"$f":"TEXT(Y504,\"ddd\")","v":"za"},"DD",{"$f":"IFERROR(HLOOKUP(Y504,[1]DATA!$A$1:$NB$5,3,0),\"\")","v":"D2"},null,null,null,null,{"$f":"VLOOKUP(Y504,[1]SRI!$S$4:$Z$368,6,0)","v":0},"","",""]
["24zaMD",{"$f":"VLOOKUP($AA505,DATA!$B$3:$E$6,2,0)","v":"14:30:00"},{"$f":"VLOOKUP($AA505,DATA!$B$3:$E$6,3,0)","v":"22:30:00"},{"$f":"VLOOKUP($AA505,DATA!$B$3:$E$6,4,0)","v":3.125E-2},0.30208333333333337,0.30208333333333337,{"$f":"DATA!$C$9","v":0.89},{"$f":"DATA!$C$10","v":64},1,407.81250000000006,407.81250000000006,0,"","",0,"","",0,"","","","",null,{"$f":"X499","v":24},null,{"$f":"TEXT(Y504,\"ddd\")","v":"za"},"MD",{"$f":"IFERROR(HLOOKUP(Y504,[1]DATA!$A$1:$NB$5,4,0),\"\")","v":"-"},null,null,null,null,{"$f":"VLOOKUP(Y504,[1]SRI!$S$4:$Z$368,7,0)","v":0},"","",""]
["24zaND",{"$f":"VLOOKUP($AA506,DATA!$B$3:$E$6,2,0)","v":"22:30:00"},{"$f":"VLOOKUP($AA506,DATA!$B$3:$E$6,3,0)","v":"06:30:00"},{"$f":"VLOOKUP($AA506,DATA!$B$3:$E$6,4,0)","v":3.125E-2},0.30208333333333326,0.30208333333333326,{"$f":"DATA!$C$9","v":0.89},{"$f":"DATA!$C$10","v":64},1,407.81249999999989,407.81249999999989,0,"","",0,"","",0,"","","","",null,{"$f":"X499","v":24},null,{"$f":"TEXT(Y504,\"ddd\")","v":"za"},"ND",{"$f":"IFERROR(HLOOKUP(Y504,[1]DATA!$A$1:$NB$5,5,0),\"\")","v":"-"},null,null,null,null,{"$f":"VLOOKUP(Y504,[1]SRI!$S$4:$Z$368,8,0)","v":0},"","",""]
["24zoDD",{"$f":"VLOOKUP($AA507,DATA!$B$3:$E$6,2,0)","v":"06:30:00"},{"$f":"VLOOKUP($AA507,DATA!$B$3:$E$6,3,0)","v":"14:30:00"},{"$f":"VLOOKUP($AA507,DATA!$B$3:$E$6,4,0)","v":3.125E-2},0.30208333333333331,0.30208333333333331,{"$f":"DATA!$C$9","v":0.89},{"$f":"DATA!$C$10","v":64},1,407.8125,407.8125,0,"","",0,"","",0,"","","","",null,{"$f":"X499","v":24},"2018-06-17",{"$f":"TEXT(Y507,\"ddd\")","v":"zo"},"DD",{"$f":"IFERROR(HLOOKUP(Y507,[1]DATA!$A$1:$NB$5,3,0),\"\")","v":"-"},null,null,null,null,{"$f":"VLOOKUP(Y507,[1]SRI!$S$4:$Z$368,6,0)","v":0},"","",""]
["24zoMD",{"$f":"VLOOKUP($AA508,DATA!$B$3:$E$6,2,0)","v":"14:30:00"},{"$f":"VLOOKUP($AA508,DATA!$B$3:$E$6,3,0)","v":"22:30:00"},{"$f":"VLOOKUP($AA508,DATA!$B$3:$E$6,4,0)","v":3.125E-2},0.30208333333333337,0.30208333333333337,{"$f":"DATA!$C$9","v":0.89},{"$f":"DATA!$C$10","v":64},1,407.81250000000006,407.81250000000006,0,"","",0,"","",0,"","","","",null,{"$f":"X499","v":24},null,{"$f":"TEXT(Y507,\"ddd\")","v":"zo"},"MD",{"$f":"IFERROR(HLOOKUP(Y507,[1]DATA!$A$1:$NB$5,4,0),\"\")","v":"-"},null,null,null,null,{"$f":"VLOOKUP(Y507,[1]SRI!$S$4:$Z$368,7,0)","v":0},"","",""]
["24zoZND",{"$f":"VLOOKUP($AA509,DATA!$B$3:$E$6,2,0)","v":"00:00:00"},{"$f":"VLOOKUP($AA509,DATA!$B$3:$E$6,3,0)","v":"00:00:00"},{"$f":"VLOOKUP($AA509,DATA!$B$3:$E$6,4,0)","v":3.125E-2},-3.125E-2,-3.125E-2,{"$f":"DATA!$C$9","v":0.89},{"$f":"DATA!$C$10","v":64},1,-42.1875,-42.1875,0,"","",0,"","",0,"","","","",null,{"$f":"X499","v":24},null,{"$f":"TEXT(Y507,\"ddd\")","v":"zo"},"ZND",{"$f":"IFERROR(HLOOKUP(Y507,[1]DATA!$A$1:$NB$5,5,0),\"\")","v":"-"},null,null,null,null,{"$f":"VLOOKUP(Y507,[1]SRI!$S$4:$Z$368,8,0)","v":0},"","",""]
["25maDD",{"$f":"VLOOKUP($AA510,DATA!$B$3:$E$6,2,0)","v":"06:30:00"},{"$f":"VLOOKUP($AA510,DATA!$B$3:$E$6,3,0)","v":"14:30:00"},{"$f":"VLOOKUP($AA510,DATA!$B$3:$E$6,4,0)","v":3.125E-2},0.30208333333333331,0.30208333333333331,{"$f":"DATA!$C$9","v":0.89},{"$f":"DATA!$C$10","v":64},1,407.8125,407.8125,0,"","",{"$f":"TIME(INT($AD510/60),INT(MOD($AD510,60)/1),0)","v":0},"","",214.4,173,173,"","",null,{"$f":"X520","v":25},"2018-06-18",{"$f":"TEXT(Y510,\"ddd\")","v":"ma"},"DD",{"$f":"IFERROR(HLOOKUP(Y510,[1]DATA!$A$1:$NB$5,3,0),\"\")","v":"D1"},0,null,28,201,{"$f":"VLOOKUP(Y510,[1]SRI!$S$4:$Z$368,6,0)","v":230},-234.8125,0.42421455938697317,0.48244824482448251,{"$f":"IF(SUMIF(S510:S530,\">0\",K510:K530)=0,\"\",SUMIF(S510:S530,\">0\",K510:K530))","v":6117.1875},{"$f":"IF(SUM(S510:S530)=0,\"\",SUM(S510:S530))","v":3893},{"$f":"IFERROR(AL510/AK510,\"-\")","v":0.63640357598978292},{"$f":"IF(SUM(M510:M530)=0,\"0\",SUM(M510:M530))","v":770.625},{"$f":"IFERROR(AN510/AK510,\"-\")","v":0.12597701149425286},{"$f":"IF(SUM(P510:P530)=0,0,SUM(P510:P530))","v":0},{"$f":"IFERROR(AP510/AK510,\"-\")","v":0},{"$f":"IFERROR(AVERAGE(AJ510:AJ530),\"-\")","v":0.93298530763822185},{"$f":"IFERROR(SUMIF($AB510:$AB530,AS$5,$AJ510:$AJ530)/COUNTIFS($AB510:$AB530,AS$5,$AJ510:$AJ530,\">0\"),\"\")","v":0.86646190777062415},0.97581902362697748,0.95667499151706392,{"$f":"IFERROR((AK510-AL510-AN510-AP510),\"-\")","v":1453.5625},{"$f":"IFERROR((1-AM510-AO510-AQ510), \"-\")","v":0.23761941251596422},{"$f":"IFERROR((AV510*$AE$2)/60,\"-\")","v":1550.4666666666667},{"$f":"IFERROR(SUM(AG510:AG530),\"\")","v":403}]
["25maMD",{"$f":"VLOOKUP($AA511,DATA!$B$3:$E$6,2,0)","v":"14:30:00"},{"$f":"VLOOKUP($AA511,DATA!$B$3:$E$6,3,0)","v":"22:30:00"},{"$f":"VLOOKUP($AA511,DATA!$B$3:$E$6,4,0)","v":3.125E-2},0.30208333333333337,0.27152777777777781,{"$f":"DATA!$C$9","v":0.89},{"$f":"DATA!$C$10","v":64},1,366.56250000000006,407.81250000000006,3.0555555555555555E-2,41.25,0.10114942528735631,{"$f":"TIME(INT(AD511/60),INT(MOD(AD511,60)/1),0)","v":0},"","",376.5333333333333,337,"","",337,null,{"$f":"X520","v":25},null,{"$f":"TEXT(Y510,\"ddd\")","v":"ma"},"MD",{"$f":"IFERROR(HLOOKUP(Y510,[1]DATA!$A$1:$NB$5,4,0),\"\")","v":"D3"},44,null,16,353,{"$f":"VLOOKUP(Y510,[1]SRI!$S$4:$Z$368,7,0)","v":16},-29.562500000000057,0.82636015325670487,0.95923913043478259]
["25maND",{"$f":"VLOOKUP($AA512,DATA!$B$3:$E$6,2,0)","v":"22:30:00"},{"$f":"VLOOKUP($AA512,DATA!$B$3:$E$6,3,0)","v":"06:30:00"},{"$f":"VLOOKUP($AA512,DATA!$B$3:$E$6,4,0)","v":3.125E-2},0.30208333333333326,0.17222222222222214,{"$f":"DATA!$C$9","v":0.89},{"$f":"DATA!$C$10","v":64},1,232.49999999999989,407.81249999999989,0.12986111111111112,175.3125,0.42988505747126449,0,"","",254.93333333333334,223,"",223,"",null,{"$f":"X520","v":25},null,{"$f":"TEXT(Y510,\"ddd\")","v":"ma"},"ND",{"$f":"IFERROR(HLOOKUP(Y510,[1]DATA!$A$1:$NB$5,5,0),\"\")","v":"D2"},187,null,16,239,{"$f":"VLOOKUP(Y510,[1]SRI!$S$4:$Z$368,8,0)","v":21},-9.4999999999998863,0.54681992337164764,0.92389466054602565]
["25diDD",{"$f":"VLOOKUP($AA513,DATA!$B$3:$E$6,2,0)","v":"06:30:00"},{"$f":"VLOOKUP($AA513,DATA!$B$3:$E$6,3,0)","v":"14:30:00"},{"$f":"VLOOKUP($AA513,DATA!$B$3:$E$6,4,0)","v":3.125E-2},0.30208333333333331,0.21111111111111108,{"$f":"DATA!$C$9","v":0.89},{"$f":"DATA!$C$10","v":64},1,284.99999999999994,407.8125,9.0972222222222218E-2,122.8125,0.30114942528735633,0,"","",324.26666666666665,286,286,"","",null,{"$f":"X520","v":25},"2018-06-19",{"$f":"TEXT(Y513,\"ddd\")","v":"di"},"DD",{"$f":"IFERROR(HLOOKUP(Y513,[1]DATA!$A$1:$NB$5,3,0),\"\")","v":"D1"},131,null,18,304,{"$f":"VLOOKUP(Y513,[1]SRI!$S$4:$Z$368,6,0)","v":0},1.0000000000000568,0.70130268199233714,1]
["25diMD",{"$f":"VLOOKUP($AA514,DATA!$B$3:$E$6,2,0)","v":"14:30:00"},{"$f":"VLOOKUP($AA514,DATA!$B$3:$E$6,3,0)","v":"22:30:00"},{"$f":"VLOOKUP($AA514,DATA!$B$3:$E$6,4,0)","v":3.125E-2},0.30208333333333337,0.25347222222222227,{"$f":"DATA!$C$9","v":0.89},{"$f":"DATA!$C$10","v":64},1,342.18750000000006,407.81250000000006,4.8611111111111112E-2,65.625,0.16091954022988503,0,"","",263.46666666666664,233,"","",233,null,{"$f":"X520","v":25},null,{"$f":"TEXT(Y513,\"ddd\")","v":"di"},"MD",{"$f":"IFERROR(HLOOKUP(Y513,[1]DATA!$A$1:$NB$5,4,0),\"\")","v":"D3"},70,null,14,247,{"$f":"VLOOKUP(Y513,[1]SRI!$S$4:$Z$368,7,0)","v":45},-109.18750000000006,0.57134099616858225,0.85411713853468774]
["25diND",{"$f":"VLOOKUP($AA515,DATA!$B$3:$E$6,2,0)","v":"22:30:00"},{"$f":"VLOOKUP($AA515,DATA!$B$3:$E$6,3,0)","v":"06:30:00"},{"$f":"VLOOKUP($AA515,DATA!$B$3:$E$6,4,0)","v":3.125E-2},0.30208333333333326,0.30208333333333326,{"$f":"DATA!$C$9","v":0.89},{"$f":"DATA!$C$10","v":64},1,407.81249999999989,407.81249999999989,0,"","",0,"","",89.6,81,"",81,"",null,{"$f":"X520","v":25},null,{"$f":"TEXT(Y513,\"ddd\")","v":"di"},"ND",{"$f":"IFERROR(HLOOKUP(Y513,[1]DATA!$A$1:$NB$5,5,0),\"\")","v":"D2"},0,null,3,84,{"$f":"VLOOKUP(Y513,[1]SRI!$S$4:$Z$368,8,0)","v":0},-326.81249999999989,0.19862068965517246,1]
["25woDD",{"$f":"VLOOKUP($AA516,DATA!$B$3:$E$6,2,0)","v":"06:30:00"},{"$f":"VLOOKUP($AA516,DATA!$B$3:$E$6,3,0)","v":"14:30:00"},{"$f":"VLOOKUP($AA516,DATA!$B$3:$E$6,4,0)","v":3.125E-2},0.30208333333333331,0.26041666666666663,{"$f":"DATA!$C$9","v":0.89},{"$f":"DATA!$C$10","v":64},1,351.56249999999994,407.8125,4.1666666666666664E-2,56.25,0.13793103448275862,0,"","",240,223,223,"","",null,{"$f":"X520","v":25},"2018-06-20",{"$f":"TEXT(Y516,\"ddd\")","v":"wo"},"DD",{"$f":"IFERROR(HLOOKUP(Y516,[1]DATA!$A$1:$NB$5,3,0),\"\")","v":"D1"},60,null,2,225,{"$f":"VLOOKUP(Y516,[1]SRI!$S$4:$Z$368,6,0)","v":0},-128.56249999999994,0.54681992337164753,1]
["25woMD",{"$f":"VLOOKUP($AA517,DATA!$B$3:$E$6,2,0)","v":"14:30:00"},{"$f":"VLOOKUP($AA517,DATA!$B$3:$E$6,3,0)","v":"22:30:00"},{"$f":"VLOOKUP($AA517,DATA!$B$3:$E$6,4,0)","v":3.125E-2},0.30208333333333337,0.23819444444444449,{"$f":"DATA!$C$9","v":0.89},{"$f":"DATA!$C$10","v":64},1,321.56250000000006,407.81250000000006,6.3888888888888884E-2,86.25,0.21149425287356319,0,"","",118.39999999999999,107,"","",107,null,{"$f":"X520","v":25},null,{"$f":"TEXT(Y516,\"ddd\")","v":"wo"},"MD",{"$f":"IFERROR(HLOOKUP(Y516,[1]DATA!$A$1:$NB$5,4,0),\"\")","v":"D3"},92,null,4,111,{"$f":"VLOOKUP(Y516,[1]SRI!$S$4:$Z$368,7,0)","v":0},-214.56250000000006,0.26237547892720303,1]
["25woND",{"$f":"VLOOKUP($AA518,DATA!$B$3:$E$6,2,0)","v":"22:30:00"},{"$f":"VLOOKUP($AA518,DATA!$B$3:$E$6,3,0)","v":"06:30:00"},{"$f":"VLOOKUP($AA518,DATA!$B$3:$E$6,4,0)","v":3.125E-2},0.30208333333333326,0.29930555555555549,{"$f":"DATA!$C$9","v":0.89},{"$f":"DATA!$C$10","v":64},1,404.06249999999989,407.81249999999989,2.7777777777777779E-3,3.75,9.1954022988505781E-3,0,"","",389.33333333333331,355,"",355,"",null,{"$f":"X520","v":25},null,{"$f":"TEXT(Y516,\"ddd\")","v":"wo"},"ND",{"$f":"IFERROR(HLOOKUP(Y516,[1]DATA!$A$1:$NB$5,5,0),\"\")","v":"D2"},4,null,10,365,{"$f":"VLOOKUP(Y516,[1]SRI!$S$4:$Z$368,8,0)","v":5},{"$f":"IFERROR(S518-J518,\"\")","v":-49.062499999999886},{"$f":"IFERROR(IF(S518/(E518*86400/H518)<=0,\"\",S518/(E518*86400/H518)),\"\")","v":0.87049808429118802},0.9873203719357565]
["25doDD",{"$f":"VLOOKUP($AA519,DATA!$B$3:$E$6,2,0)","v":"06:30:00"},{"$f":"VLOOKUP($AA519,DATA!$B$3:$E$6,3,0)","v":"14:30:00"},{"$f":"VLOOKUP($AA519,DATA!$B$3:$E$6,4,0)","v":3.125E-2},0.30208333333333331,0.29930555555555555,{"$f":"DATA!$C$9","v":0.89},{"$f":"DATA!$C$10","v":64},1,404.0625,407.8125,{"$f":"TIME(INT($AC519/60),INT(MOD($AC519,60)/1),0)","v":2.7777777777777779E-3},{"$f":"IF($L519*86400/$H519=0,\"\",$L519*86400/$H519)","v":3.75},{"$f":"IFERROR($M519/$K519,\"\")","v":9.1954022988505746E-3},0,"",{"$f":"IFERROR($P519/$K519,\"\")","v":""},373.33333333333331,331,{"$f":"IF(IF($AB519=\"D1\",$S519,\"\")=0,\"\",IF($AB519=\"D1\",$S519,\"\"))","v":331},{"$f":"IF(IF($AB519=\"D2\",$S519,\"\")=0,\"\",IF($AB519=\"D2\",$S519,\"\"))","v":""},{"$f":"IF(IF($AB519=\"D3\",$S519,\"\")=0,\"\",IF($AB519=\"D3\",$S519,\"\"))","v":""},null,{"$f":"X520","v":25},"2018-06-21",{"$f":"TEXT(Y519,\"ddd\")","v":"do"},"DD",{"$f":"IFERROR(HLOOKUP(Y519,[1]DATA!$A$1:$NB$5,3,0),\"\")","v":"D1"},4,null,19,350,{"$f":"VLOOKUP(Y519,[1]SRI!$S$4:$Z$368,6,0)","v":50},-73.0625,0.81164750957854404,0.88188976377952755]
["25doMD",{"$f":"VLOOKUP($AA520,DATA!$B$3:$E$6,2,0)","v":"14:30:00"},{"$f":"VLOOKUP($AA520,DATA!$B$3:$E$6,3,0)","v":"22:30:00"},{"$f":"VLOOKUP($AA520,DATA!$B$3:$E$6,4,0)","v":3.125E-2},0.30208333333333337,0.29166666666666669,{"$f":"DATA!$C$9","v":0.89},{"$f":"DATA!$C$10","v":64},1,393.75,407.81250000000006,1.0416666666666666E-2,14.0625,3.4482758620689648E-2,0,"","",390.4,353,"","",353,null,{"$f":"WEEKNUM($Y510)","v":25},null,{"$f":"TEXT(Y519,\"ddd\")","v":"do"},"MD",{"$f":"IFERROR(HLOOKUP(Y519,[1]DATA!$A$1:$NB$5,4,0),\"\")","v":"D3"},15,null,13,366,{"$f":"VLOOKUP(Y519,[1]SRI!$S$4:$Z$368,7,0)","v":8},-40.75,0.86559386973180064,0.97991967871485941]
["25doND",{"$f":"VLOOKUP($AA521,DATA!$B$3:$E$6,2,0)","v":"22:30:00"},{"$f":"VLOOKUP($AA521,DATA!$B$3:$E$6,3,0)","v":"06:30:00"},{"$f":"VLOOKUP($AA521,DATA!$B$3:$E$6,4,0)","v":3.125E-2},0.30208333333333326,0.24722222222222215,{"$f":"DATA!$C$9","v":0.89},{"$f":"DATA!$C$10","v":64},1,333.74999999999989,407.81249999999989,5.486111111111111E-2,74.0625,0.18160919540229889,0,"","",361.6,325,"",325,"",null,{"$f":"X520","v":25},null,{"$f":"TEXT(Y519,\"ddd\")","v":"do"},"ND",{"$f":"IFERROR(HLOOKUP(Y519,[1]DATA!$A$1:$NB$5,5,0),\"\")","v":"D2"},79,null,14,339,{"$f":"VLOOKUP(Y519,[1]SRI!$S$4:$Z$368,8,0)","v":12},-8.7499999999998863,0.79693486590038332,0.9678800856531049]
["25vrDD",{"$f":"VLOOKUP($AA522,DATA!$B$3:$E$6,2,0)","v":"06:30:00"},{"$f":"VLOOKUP($AA522,DATA!$B$3:$E$6,3,0)","v":"14:30:00"},{"$f":"VLOOKUP($AA522,DATA!$B$3:$E$6,4,0)","v":3.125E-2},0.30208333333333331,0.25902777777777775,{"$f":"DATA!$C$9","v":0.89},{"$f":"DATA!$C$10","v":64},1,349.68749999999994,407.8125,4.3055555555555562E-2,58.125000000000007,0.14252873563218393,0,"","",362.66666666666669,339,339,"","",null,{"$f":"X520","v":25},"2018-06-22",{"$f":"TEXT(Y522,\"ddd\")","v":"vr"},"DD",{"$f":"IFERROR(HLOOKUP(Y522,[1]DATA!$A$1:$NB$5,3,0),\"\")","v":"D1"},62,null,1,340,{"$f":"VLOOKUP(Y522,[1]SRI!$S$4:$Z$368,6,0)","v":12},-10.687499999999943,0.83126436781609192,0.96797153024911031]
["25vrMD",{"$f":"VLOOKUP($AA523,DATA!$B$3:$E$6,2,0)","v":"14:30:00"},{"$f":"VLOOKUP($AA523,DATA!$B$3:$E$6,3,0)","v":"22:30:00"},{"$f":"VLOOKUP($AA523,DATA!$B$3:$E$6,4,0)","v":3.125E-2},0.30208333333333337,0.28472222222222227,{"$f":"DATA!$C$9","v":0.89},{"$f":"DATA!$C$10","v":64},1,384.37500000000006,407.81250000000006,1.7361111111111112E-2,23.4375,5.7471264367816084E-2,0,"","",400,361,"","",361,null,{"$f":"X520","v":25},null,{"$f":"TEXT(Y522,\"ddd\")","v":"vr"},"MD",{"$f":"IFERROR(HLOOKUP(Y522,[1]DATA!$A$1:$NB$5,4,0),\"\")","v":"D3"},25,null,14,375,{"$f":"VLOOKUP(Y522,[1]SRI!$S$4:$Z$368,7,0)","v":4},-23.375000000000057,0.88521072796934852,0.99009900990099009]
["25vrND",{"$f":"VLOOKUP($AA524,DATA!$B$3:$E$6,2,0)","v":"22:30:00"},{"$f":"VLOOKUP($AA524,DATA!$B$3:$E$6,3,0)","v":"06:30:00"},{"$f":"VLOOKUP($AA524,DATA!$B$3:$E$6,4,0)","v":3.125E-2},0.30208333333333326,0.26805555555555549,{"$f":"DATA!$C$9","v":0.89},{"$f":"DATA!$C$10","v":64},1,361.87499999999989,407.81249999999989,3.4027777777777775E-2,45.937499999999993,0.11264367816091955,0,"","",193.06666666666666,166,"",166,"",null,{"$f":"X520","v":25},null,{"$f":"TEXT(Y522,\"ddd\")","v":"vr"},"ND",{"$f":"IFERROR(HLOOKUP(Y522,[1]DATA!$A$1:$NB$5,5,0),\"\")","v":"D2"},49,null,15,181,{"$f":"VLOOKUP(Y522,[1]SRI!$S$4:$Z$368,8,0)","v":0},-195.87499999999989,0.40704980842911886,1]
["25zaDD",{"$f":"VLOOKUP($AA525,DATA!$B$3:$E$6,2,0)","v":"06:30:00"},{"$f":"VLOOKUP($AA525,DATA!$B$3:$E$6,3,0)","v":"14:30:00"},{"$f":"VLOOKUP($AA525,DATA!$B$3:$E$6,4,0)","v":3.125E-2},0.30208333333333331,0.30208333333333331,{"$f":"DATA!$C$9","v":0.89},{"$f":"DATA!$C$10","v":64},1,407.8125,407.8125,0,"","",0,"","",0,"","","","",null,{"$f":"X520","v":25},"2018-06-23",{"$f":"TEXT(Y525,\"ddd\")","v":"za"},"DD",{"$f":"IFERROR(HLOOKUP(Y525,[1]DATA!$A$1:$NB$5,3,0),\"\")","v":"D1"},null,null,null,null,{"$f":"VLOOKUP(Y525,[1]SRI!$S$4:$Z$368,6,0)","v":0},"","",""]
["25zaMD",{"$f":"VLOOKUP($AA526,DATA!$B$3:$E$6,2,0)","v":"14:30:00"},{"$f":"VLOOKUP($AA526,DATA!$B$3:$E$6,3,0)","v":"22:30:00"},{"$f":"VLOOKUP($AA526,DATA!$B$3:$E$6,4,0)","v":3.125E-2},0.30208333333333337,0.30208333333333337,{"$f":"DATA!$C$9","v":0.89},{"$f":"DATA!$C$10","v":64},1,407.81250000000006,407.81250000000006,0,"","",0,"","",0,"","","","",null,{"$f":"X520","v":25},null,{"$f":"TEXT(Y525,\"ddd\")","v":"za"},"MD",{"$f":"IFERROR(HLOOKUP(Y525,[1]DATA!$A$1:$NB$5,4,0),\"\")","v":"-"},null,null,null,null,{"$f":"VLOOKUP(Y525,[1]SRI!$S$4:$Z$368,7,0)","v":0},"","",""]
["25zaND",{"$f":"VLOOKUP($AA527,DATA!$B$3:$E$6,2,0)","v":"22:30:00"},{"$f":"VLOOKUP($AA527,DATA!$B$3:$E$6,3,0)","v":"06:30:00"},{"$f":"VLOOKUP($AA527,DATA!$B$3:$E$6,4,0)","v":3.125E-2},0.30208333333333326,0.30208333333333326,{"$f":"DATA!$C$9","v":0.89},{"$f":"DATA!$C$10","v":64},1,407.81249999999989,407.81249999999989,0,"","",0,"","",0,"","","","",null,{"$f":"X520","v":25},null,{"$f":"TEXT(Y525,\"ddd\")","v":"za"},"ND",{"$f":"IFERROR(HLOOKUP(Y525,[1]DATA!$A$1:$NB$5,5,0),\"\")","v":"-"},null,null,null,null,{"$f":"VLOOKUP(Y525,[1]SRI!$S$4:$Z$368,8,0)","v":0},"","",""]
["25zoDD",{"$f":"VLOOKUP($AA528,DATA!$B$3:$E$6,2,0)","v":"06:30:00"},{"$f":"VLOOKUP($AA528,DATA!$B$3:$E$6,3,0)","v":"14:30:00"},{"$f":"VLOOKUP($AA528,DATA!$B$3:$E$6,4,0)","v":3.125E-2},0.30208333333333331,0.30208333333333331,{"$f":"DATA!$C$9","v":0.89},{"$f":"DATA!$C$10","v":64},1,407.8125,407.8125,0,"","",0,"","",0,"","","","",null,{"$f":"X520","v":25},"2018-06-24",{"$f":"TEXT(Y528,\"ddd\")","v":"zo"},"DD",{"$f":"IFERROR(HLOOKUP(Y528,[1]DATA!$A$1:$NB$5,3,0),\"\")","v":"-"},null,null,null,null,{"$f":"VLOOKUP(Y528,[1]SRI!$S$4:$Z$368,6,0)","v":0},"","",""]
["25zoMD",{"$f":"VLOOKUP($AA529,DATA!$B$3:$E$6,2,0)","v":"14:30:00"},{"$f":"VLOOKUP($AA529,DATA!$B$3:$E$6,3,0)","v":"22:30:00"},{"$f":"VLOOKUP($AA529,DATA!$B$3:$E$6,4,0)","v":3.125E-2},0.30208333333333337,0.30208333333333337,{"$f":"DATA!$C$9","v":0.89},{"$f":"DATA!$C$10","v":64},1,407.81250000000006,407.81250000000006,0,"","",0,"","",0,"","","","",null,{"$f":"X520","v":25},null,{"$f":"TEXT(Y528,\"ddd\")","v":"zo"},"MD",{"$f":"IFERROR(HLOOKUP(Y528,[1]DATA!$A$1:$NB$5,4,0),\"\")","v":"-"},null,null,null,null,{"$f":"VLOOKUP(Y528,[1]SRI!$S$4:$Z$368,7,0)","v":0},"","",""]
["25zoZND",{"$f":"VLOOKUP($AA530,DATA!$B$3:$E$6,2,0)","v":"00:00:00"},{"$f":"VLOOKUP($AA530,DATA!$B$3:$E$6,3,0)","v":"00:00:00"},{"$f":"VLOOKUP($AA530,DATA!$B$3:$E$6,4,0)","v":3.125E-2},-3.125E-2,-3.125E-2,{"$f":"DATA!$C$9","v":0.89},{"$f":"DATA!$C$10","v":64},1,-42.1875,-42.1875,0,"","",0,"","",0,"","","","",null,{"$f":"X520","v":25},null,{"$f":"TEXT(Y528,\"ddd\")","v":"zo"},"ZND",{"$f":"IFERROR(HLOOKUP(Y528,[1]DATA!$A$1:$NB$5,5,0),\"\")","v":"-"},null,null,null,null,{"$f":"VLOOKUP(Y528,[1]SRI!$S$4:$Z$368,8,0)","v":0},"","",""]
["26maDD",{"$f":"VLOOKUP($AA531,DATA!$B$3:$E$6,2,0)","v":"06:30:00"},{"$f":"VLOOKUP($AA531,DATA!$B$3:$E$6,3,0)","v":"14:30:00"},{"$f":"VLOOKUP($AA531,DATA!$B$3:$E$6,4,0)","v":3.125E-2},0.30208333333333331,0.30208333333333331,{"$f":"DATA!$C$9","v":0.89},{"$f":"DATA!$C$10","v":64},1,407.8125,407.8125,0,"","",{"$f":"TIME(INT($AD531/60),INT(MOD($AD531,60)/1),0)","v":0},"","",0,"","","","",null,{"$f":"X541","v":26},"2018-06-25",{"$f":"TEXT(Y531,\"ddd\")","v":"ma"},"DD",{"$f":"IFERROR(HLOOKUP(Y531,[1]DATA!$A$1:$NB$5,3,0),\"\")","v":"D3"},null,null,null,null,{"$f":"VLOOKUP(Y531,[1]SRI!$S$4:$Z$368,6,0)","v":0},"","","",{"$f":"IF(SUMIF(S531:S551,\">0\",K531:K551)=0,\"\",SUMIF(S531:S551,\">0\",K531:K551))","v":1631.2500000000002},{"$f":"IF(SUM(S531:S551)=0,\"\",SUM(S531:S551))","v":1329},{"$f":"IFERROR(AL531/AK531,\"-\")","v":0.81471264367816076},{"$f":"IF(SUM(M531:M551)=0,\"0\",SUM(M531:M551))","v":215.625},{"$f":"IFERROR(AN531/AK531,\"-\")","v":0.13218390804597699},{"$f":"IF(SUM(P531:P551)=0,0,SUM(P531:P551))","v":0},{"$f":"IFERROR(AP531/AK531,\"-\")","v":0},0.4263954391033396,{"$f":"IFERROR(SUMIF($AB531:$AB551,AS$5,$AJ531:$AJ551)/COUNTIFS($AB531:$AB551,AS$5,$AJ531:$AJ551,\">0\"),\"\")","v":""},0.95938973798251415,"",{"$f":"IFERROR((AK531-AL531-AN531-AP531),\"-\")","v":86.625000000000227},{"$f":"IFERROR((1-AM531-AO531-AQ531), \"-\")","v":5.3103448275862247E-2},{"$f":"IFERROR((AV531*$AE$2)/60,\"-\")","v":92.400000000000247},{"$f":"IFERROR(SUM(AG531:AG551),\"\")","v":102}]
["26maMD",{"$f":"VLOOKUP($AA532,DATA!$B$3:$E$6,2,0)","v":"14:30:00"},{"$f":"VLOOKUP($AA532,DATA!$B$3:$E$6,3,0)","v":"22:30:00"},{"$f":"VLOOKUP($AA532,DATA!$B$3:$E$6,4,0)","v":3.125E-2},0.30208333333333337,0.2416666666666667,{"$f":"DATA!$C$9","v":0.89},{"$f":"DATA!$C$10","v":64},1,326.25000000000006,407.81250000000006,6.0416666666666667E-2,81.5625,0.19999999999999998,{"$f":"TIME(INT(AD532/60),INT(MOD(AD532,60)/1),0)","v":0},"","",380.8,337,"",337,"",null,{"$f":"X541","v":26},null,{"$f":"TEXT(Y531,\"ddd\")","v":"ma"},"MD",{"$f":"IFERROR(HLOOKUP(Y531,[1]DATA!$A$1:$NB$5,4,0),\"\")","v":"D2"},87,null,20,357,{"$f":"VLOOKUP(Y531,[1]SRI!$S$4:$Z$368,7,0)","v":2},10.749999999999943,0.82636015325670487,0.99477533960292586]
["26maND",{"$f":"VLOOKUP($AA533,DATA!$B$3:$E$6,2,0)","v":"22:30:00"},{"$f":"VLOOKUP($AA533,DATA!$B$3:$E$6,3,0)","v":"06:30:00"},{"$f":"VLOOKUP($AA533,DATA!$B$3:$E$6,4,0)","v":3.125E-2},0.30208333333333326,0.30208333333333326,{"$f":"DATA!$C$9","v":0.89},{"$f":"DATA!$C$10","v":64},1,407.81249999999989,407.81249999999989,0,"","",0,"","",0,"","","","",null,{"$f":"X541","v":26},null,{"$f":"TEXT(Y531,\"ddd\")","v":"ma"},"ND",{"$f":"IFERROR(HLOOKUP(Y531,[1]DATA!$A$1:$NB$5,5,0),\"\")","v":"D1"},null,null,null,null,{"$f":"VLOOKUP(Y531,[1]SRI!$S$4:$Z$368,8,0)","v":2},"","",0]
["26diDD",{"$f":"VLOOKUP($AA534,DATA!$B$3:$E$6,2,0)","v":"06:30:00"},{"$f":"VLOOKUP($AA534,DATA!$B$3:$E$6,3,0)","v":"14:30:00"},{"$f":"VLOOKUP($AA534,DATA!$B$3:$E$6,4,0)","v":3.125E-2},0.30208333333333331,0.30208333333333331,{"$f":"DATA!$C$9","v":0.89},{"$f":"DATA!$C$10","v":64},1,407.8125,407.8125,0,"","",0,"","",0,"","","","",null,{"$f":"X541","v":26},"2018-06-26",{"$f":"TEXT(Y534,\"ddd\")","v":"di"},"DD",{"$f":"IFERROR(HLOOKUP(Y534,[1]DATA!$A$1:$NB$5,3,0),\"\")","v":"D3"},null,null,null,null,{"$f":"VLOOKUP(Y534,[1]SRI!$S$4:$Z$368,6,0)","v":20},"","",0]
["26diMD",{"$f":"VLOOKUP($AA535,DATA!$B$3:$E$6,2,0)","v":"14:30:00"},{"$f":"VLOOKUP($AA535,DATA!$B$3:$E$6,3,0)","v":"22:30:00"},{"$f":"VLOOKUP($AA535,DATA!$B$3:$E$6,4,0)","v":3.125E-2},0.30208333333333337,0.2680555555555556,{"$f":"DATA!$C$9","v":0.89},{"$f":"DATA!$C$10","v":64},1,361.87500000000006,407.81250000000006,3.4027777777777775E-2,45.937499999999993,0.11264367816091951,0,"","",397.86666666666667,353,"",353,"",null,{"$f":"X541","v":26},null,{"$f":"TEXT(Y534,\"ddd\")","v":"di"},"MD",{"$f":"IFERROR(HLOOKUP(Y534,[1]DATA!$A$1:$NB$5,4,0),\"\")","v":"D2"},49,null,20,373,{"$f":"VLOOKUP(Y534,[1]SRI!$S$4:$Z$368,7,0)","v":0},-8.8750000000000568,0.86559386973180064,1]
["26diND",{"$f":"VLOOKUP($AA536,DATA!$B$3:$E$6,2,0)","v":"22:30:00"},{"$f":"VLOOKUP($AA536,DATA!$B$3:$E$6,3,0)","v":"06:30:00"},{"$f":"VLOOKUP($AA536,DATA!$B$3:$E$6,4,0)","v":3.125E-2},0.30208333333333326,0.30208333333333326,{"$f":"DATA!$C$9","v":0.89},{"$f":"DATA!$C$10","v":64},1,407.81249999999989,407.81249999999989,0,"","",0,"","",0,"","","","",null,{"$f":"X541","v":26},null,{"$f":"TEXT(Y534,\"ddd\")","v":"di"},"ND",{"$f":"IFERROR(HLOOKUP(Y534,[1]DATA!$A$1:$NB$5,5,0),\"\")","v":"D1"},null,null,null,null,{"$f":"VLOOKUP(Y534,[1]SRI!$S$4:$Z$368,8,0)","v":3},"","",0]
["26woDD",{"$f":"VLOOKUP($AA537,DATA!$B$3:$E$6,2,0)","v":"06:30:00"},{"$f":"VLOOKUP($AA537,DATA!$B$3:$E$6,3,0)","v":"14:30:00"},{"$f":"VLOOKUP($AA537,DATA!$B$3:$E$6,4,0)","v":3.125E-2},0.30208333333333331,0.30208333333333331,{"$f":"DATA!$C$9","v":0.89},{"$f":"DATA!$C$10","v":64},1,407.8125,407.8125,0,"","",0,"","",0,"","","","",null,{"$f":"X541","v":26},"2018-06-27",{"$f":"TEXT(Y537,\"ddd\")","v":"wo"},"DD",{"$f":"IFERROR(HLOOKUP(Y537,[1]DATA!$A$1:$NB$5,3,0),\"\")","v":"D3"},null,null,null,null,{"$f":"VLOOKUP(Y537,[1]SRI!$S$4:$Z$368,6,0)","v":0},"","",""]
["26woMD",{"$f":"VLOOKUP($AA538,DATA!$B$3:$E$6,2,0)","v":"14:30:00"},{"$f":"VLOOKUP($AA538,DATA!$B$3:$E$6,3,0)","v":"22:30:00"},{"$f":"VLOOKUP($AA538,DATA!$B$3:$E$6,4,0)","v":3.125E-2},0.30208333333333337,0.27708333333333335,{"$f":"DATA!$C$9","v":0.89},{"$f":"DATA!$C$10","v":64},1,374.0625,407.81250000000006,2.4999999999999998E-2,33.75,8.2758620689655157E-2,0,"","",363.73333333333335,327,"",327,"",null,{"$f":"X541","v":26},null,{"$f":"TEXT(Y537,\"ddd\")","v":"wo"},"MD",{"$f":"IFERROR(HLOOKUP(Y537,[1]DATA!$A$1:$NB$5,4,0),\"\")","v":"D2"},36,null,14,341,{"$f":"VLOOKUP(Y537,[1]SRI!$S$4:$Z$368,7,0)","v":30},-47.0625,0.80183908045977004,0.92380629867930919]
["26woND",{"$f":"VLOOKUP($AA539,DATA!$B$3:$E$6,2,0)","v":"22:30:00"},{"$f":"VLOOKUP($AA539,DATA!$B$3:$E$6,3,0)","v":"06:30:00"},{"$f":"VLOOKUP($AA539,DATA!$B$3:$E$6,4,0)","v":3.125E-2},0.30208333333333326,0.30208333333333326,{"$f":"DATA!$C$9","v":0.89},{"$f":"DATA!$C$10","v":64},1,407.81249999999989,407.81249999999989,0,"","",0,"","",0,"","","","",null,{"$f":"X541","v":26},null,{"$f":"TEXT(Y537,\"ddd\")","v":"wo"},"ND",{"$f":"IFERROR(HLOOKUP(Y537,[1]DATA!$A$1:$NB$5,5,0),\"\")","v":"D1"},null,null,null,null,{"$f":"VLOOKUP(Y537,[1]SRI!$S$4:$Z$368,8,0)","v":5},"","",{"$f":"IFERROR(R539/(R539+AG539),\"\")","v":0}]
["26doDD",{"$f":"VLOOKUP($AA540,DATA!$B$3:$E$6,2,0)","v":"06:30:00"},{"$f":"VLOOKUP($AA540,DATA!$B$3:$E$6,3,0)","v":"14:30:00"},{"$f":"VLOOKUP($AA540,DATA!$B$3:$E$6,4,0)","v":3.125E-2},{"$f":"(C540-B540+(B540>C540))-D540","v":0.30208333333333331},{"$f":"E540-O540-L540","v":0.30208333333333331},{"$f":"DATA!$C$9","v":0.89},{"$f":"DATA!$C$10","v":64},1,{"$f":"F540*86400/H540*I540","v":407.8125},{"$f":"E540*86400/H540","v":407.8125},0,"","",0,"","",{"$f":"AF540*AG$2","v":0},{"$f":"IF(AF540-AE540=0,\"\",AF540-AE540)","v":""},"","","",null,{"$f":"X541","v":26},"2018-06-28",{"$f":"TEXT(Y540,\"ddd\")","v":"do"},"DD",{"$f":"IFERROR(HLOOKUP(Y540,[1]DATA!$A$1:$NB$5,3,0),\"\")","v":"D3"},null,null,null,null,{"$f":"VLOOKUP(Y540,[1]SRI!$S$4:$Z$368,6,0)","v":10},"","",0]
["26doMD",{"$f":"VLOOKUP($AA541,DATA!$B$3:$E$6,2,0)","v":"14:30:00"},{"$f":"VLOOKUP($AA541,DATA!$B$3:$E$6,3,0)","v":"22:30:00"},{"$f":"VLOOKUP($AA541,DATA!$B$3:$E$6,4,0)","v":3.125E-2},0.30208333333333337,0.26180555555555557,{"$f":"DATA!$C$9","v":0.89},{"$f":"DATA!$C$10","v":64},1,353.4375,407.81250000000006,4.027777777777778E-2,54.375,0.1333333333333333,0,"","",340.26666666666665,312,"",312,"",null,{"$f":"WEEKNUM($Y531)","v":26},null,{"$f":"TEXT(Y540,\"ddd\")","v":"do"},"MD",{"$f":"IFERROR(HLOOKUP(Y540,[1]DATA!$A$1:$NB$5,4,0),\"\")","v":"D2"},58,null,7,319,{"$f":"VLOOKUP(Y540,[1]SRI!$S$4:$Z$368,7,0)","v":30},-41.4375,0.76505747126436774,0.91897731364782143]
["26doND",{"$f":"VLOOKUP($AA542,DATA!$B$3:$E$6,2,0)","v":"22:30:00"},{"$f":"VLOOKUP($AA542,DATA!$B$3:$E$6,3,0)","v":"06:30:00"},{"$f":"VLOOKUP($AA542,DATA!$B$3:$E$6,4,0)","v":3.125E-2},0.30208333333333326,0.30208333333333326,{"$f":"DATA!$C$9","v":0.89},{"$f":"DATA!$C$10","v":64},1,407.81249999999989,407.81249999999989,0,"","",0,"","",0,"","","","",null,{"$f":"X541","v":26},null,{"$f":"TEXT(Y540,\"ddd\")","v":"do"},"ND",{"$f":"IFERROR(HLOOKUP(Y540,[1]DATA!$A$1:$NB$5,5,0),\"\")","v":"D1"},null,null,null,null,{"$f":"VLOOKUP(Y540,[1]SRI!$S$4:$Z$368,8,0)","v":0},"","",""]
["26vrDD",{"$f":"VLOOKUP($AA543,DATA!$B$3:$E$6,2,0)","v":"06:30:00"},{"$f":"VLOOKUP($AA543,DATA!$B$3:$E$6,3,0)","v":"14:30:00"},{"$f":"VLOOKUP($AA543,DATA!$B$3:$E$6,4,0)","v":3.125E-2},0.30208333333333331,0.30208333333333331,{"$f":"DATA!$C$9","v":0.89},{"$f":"DATA!$C$10","v":64},1,407.8125,407.8125,0,"","",0,"","",0,"","","","",null,{"$f":"X541","v":26},"2018-06-29",{"$f":"TEXT(Y543,\"ddd\")","v":"vr"},"DD",{"$f":"IFERROR(HLOOKUP(Y543,[1]DATA!$A$1:$NB$5,3,0),\"\")","v":"D3"},null,null,null,null,{"$f":"VLOOKUP(Y543,[1]SRI!$S$4:$Z$368,6,0)","v":0},"","",""]
["26vrMD",{"$f":"VLOOKUP($AA544,DATA!$B$3:$E$6,2,0)","v":"14:30:00"},{"$f":"VLOOKUP($AA544,DATA!$B$3:$E$6,3,0)","v":"22:30:00"},{"$f":"VLOOKUP($AA544,DATA!$B$3:$E$6,4,0)","v":3.125E-2},0.30208333333333337,0.30208333333333337,{"$f":"DATA!$C$9","v":0.89},{"$f":"DATA!$C$10","v":64},1,407.81250000000006,407.81250000000006,0,"","",0,"","",0,"","","","",null,{"$f":"X541","v":26},null,{"$f":"TEXT(Y543,\"ddd\")","v":"vr"},"MD",{"$f":"IFERROR(HLOOKUP(Y543,[1]DATA!$A$1:$NB$5,4,0),\"\")","v":"D2"},null,null,null,null,{"$f":"VLOOKUP(Y543,[1]SRI!$S$4:$Z$368,7,0)","v":0},"","",""]
["26vrND",{"$f":"VLOOKUP($AA545,DATA!$B$3:$E$6,2,0)","v":"22:30:00"},{"$f":"VLOOKUP($AA545,DATA!$B$3:$E$6,3,0)","v":"06:30:00"},{"$f":"VLOOKUP($AA545,DATA!$B$3:$E$6,4,0)","v":3.125E-2},0.30208333333333326,0.30208333333333326,{"$f":"DATA!$C$9","v":0.89},{"$f":"DATA!$C$10","v":64},1,407.81249999999989,407.81249999999989,0,"","",0,"","",0,"","","","",null,{"$f":"X541","v":26},null,{"$f":"TEXT(Y543,\"ddd\")","v":"vr"},"ND",{"$f":"IFERROR(HLOOKUP(Y543,[1]DATA!$A$1:$NB$5,5,0),\"\")","v":"D2"},null,null,null,null,{"$f":"VLOOKUP(Y543,[1]SRI!$S$4:$Z$368,8,0)","v":0},"","",""]
["26zaDD",{"$f":"VLOOKUP($AA546,DATA!$B$3:$E$6,2,0)","v":"06:30:00"},{"$f":"VLOOKUP($AA546,DATA!$B$3:$E$6,3,0)","v":"14:30:00"},{"$f":"VLOOKUP($AA546,DATA!$B$3:$E$6,4,0)","v":3.125E-2},0.30208333333333331,0.30208333333333331,{"$f":"DATA!$C$9","v":0.89},{"$f":"DATA!$C$10","v":64},1,407.8125,407.8125,0,"","",0,"","",0,"","","","",null,{"$f":"X541","v":26},"2018-06-30",{"$f":"TEXT(Y546,\"ddd\")","v":"za"},"DD",{"$f":"IFERROR(HLOOKUP(Y546,[1]DATA!$A$1:$NB$5,3,0),\"\")","v":"D3"},null,null,null,null,{"$f":"VLOOKUP(Y546,[1]SRI!$S$4:$Z$368,6,0)","v":0},"","",""]
["26zaMD",{"$f":"VLOOKUP($AA547,DATA!$B$3:$E$6,2,0)","v":"14:30:00"},{"$f":"VLOOKUP($AA547,DATA!$B$3:$E$6,3,0)","v":"22:30:00"},{"$f":"VLOOKUP($AA547,DATA!$B$3:$E$6,4,0)","v":3.125E-2},0.30208333333333337,0.30208333333333337,{"$f":"DATA!$C$9","v":0.89},{"$f":"DATA!$C$10","v":64},1,407.81250000000006,407.81250000000006,0,"","",0,"","",0,"","","","",null,{"$f":"X541","v":26},null,{"$f":"TEXT(Y546,\"ddd\")","v":"za"},"MD",{"$f":"IFERROR(HLOOKUP(Y546,[1]DATA!$A$1:$NB$5,4,0),\"\")","v":"-"},null,null,null,null,{"$f":"VLOOKUP(Y546,[1]SRI!$S$4:$Z$368,7,0)","v":0},"","",""]
["26zaND",{"$f":"VLOOKUP($AA548,DATA!$B$3:$E$6,2,0)","v":"22:30:00"},{"$f":"VLOOKUP($AA548,DATA!$B$3:$E$6,3,0)","v":"06:30:00"},{"$f":"VLOOKUP($AA548,DATA!$B$3:$E$6,4,0)","v":3.125E-2},0.30208333333333326,0.30208333333333326,{"$f":"DATA!$C$9","v":0.89},{"$f":"DATA!$C$10","v":64},1,407.81249999999989,407.81249999999989,0,"","",0,"","",0,"","","","",null,{"$f":"X541","v":26},null,{"$f":"TEXT(Y546,\"ddd\")","v":"za"},"ND",{"$f":"IFERROR(HLOOKUP(Y546,[1]DATA!$A$1:$NB$5,5,0),\"\")","v":"-"},null,null,null,null,{"$f":"VLOOKUP(Y546,[1]SRI!$S$4:$Z$368,8,0)","v":0},"","",""]
["26zoDD",{"$f":"VLOOKUP($AA549,DATA!$B$3:$E$6,2,0)","v":"06:30:00"},{"$f":"VLOOKUP($AA549,DATA!$B$3:$E$6,3,0)","v":"14:30:00"},{"$f":"VLOOKUP($AA549,DATA!$B$3:$E$6,4,0)","v":3.125E-2},0.30208333333333331,0.30208333333333331,{"$f":"DATA!$C$9","v":0.89},{"$f":"DATA!$C$10","v":64},1,407.8125,407.8125,0,"","",0,"","",0,"","","","",null,{"$f":"X541","v":26},"2018-07-01",{"$f":"TEXT(Y549,\"ddd\")","v":"zo"},"DD",{"$f":"IFERROR(HLOOKUP(Y549,[1]DATA!$A$1:$NB$5,3,0),\"\")","v":"-"},null,null,null,null,{"$f":"VLOOKUP(Y549,[1]SRI!$S$4:$Z$368,6,0)","v":0},"","",""]
["26zoMD",{"$f":"VLOOKUP($AA550,DATA!$B$3:$E$6,2,0)","v":"14:30:00"},{"$f":"VLOOKUP($AA550,DATA!$B$3:$E$6,3,0)","v":"22:30:00"},{"$f":"VLOOKUP($AA550,DATA!$B$3:$E$6,4,0)","v":3.125E-2},0.30208333333333337,0.30208333333333337,{"$f":"DATA!$C$9","v":0.89},{"$f":"DATA!$C$10","v":64},1,407.81250000000006,407.81250000000006,0,"","",0,"","",0,"","","","",null,{"$f":"X541","v":26},null,{"$f":"TEXT(Y549,\"ddd\")","v":"zo"},"MD",{"$f":"IFERROR(HLOOKUP(Y549,[1]DATA!$A$1:$NB$5,4,0),\"\")","v":"-"},null,null,null,null,{"$f":"VLOOKUP(Y549,[1]SRI!$S$4:$Z$368,7,0)","v":0},"","",""]
["26zoZND",{"$f":"VLOOKUP($AA551,DATA!$B$3:$E$6,2,0)","v":"00:00:00"},{"$f":"VLOOKUP($AA551,DATA!$B$3:$E$6,3,0)","v":"00:00:00"},{"$f":"VLOOKUP($AA551,DATA!$B$3:$E$6,4,0)","v":3.125E-2},-3.125E-2,-3.125E-2,{"$f":"DATA!$C$9","v":0.89},{"$f":"DATA!$C$10","v":64},1,-42.1875,-42.1875,0,"","",0,"","",0,"","","","",null,{"$f":"X541","v":26},null,{"$f":"TEXT(Y549,\"ddd\")","v":"zo"},"ZND",{"$f":"IFERROR(HLOOKUP(Y549,[1]DATA!$A$1:$NB$5,5,0),\"\")","v":"-"},null,null,null,null,{"$f":"VLOOKUP(Y549,[1]SRI!$S$4:$Z$368,8,0)","v":0},"","",""]
["27maDD",{"$f":"VLOOKUP($AA552,DATA!$B$3:$E$6,2,0)","v":"06:30:00"},{"$f":"VLOOKUP($AA552,DATA!$B$3:$E$6,3,0)","v":"14:30:00"},{"$f":"VLOOKUP($AA552,DATA!$B$3:$E$6,4,0)","v":3.125E-2},0.30208333333333331,0.30208333333333331,{"$f":"DATA!$C$9","v":0.89},{"$f":"DATA!$C$10","v":64},1,407.8125,407.8125,0,"","",{"$f":"TIME(INT($AD552/60),INT(MOD($AD552,60)/1),0)","v":0},"","",0,"","","","",null,{"$f":"X562","v":27},"2018-07-02",{"$f":"TEXT(Y552,\"ddd\")","v":"ma"},"DD",{"$f":"IFERROR(HLOOKUP(Y552,[1]DATA!$A$1:$NB$5,3,0),\"\")","v":"D2"},null,null,null,null,{"$f":"VLOOKUP(Y552,[1]SRI!$S$4:$Z$368,6,0)","v":0},"","","",{"$f":"IF(SUMIF(S552:S572,\">0\",K552:K572)=0,\"\",SUMIF(S552:S572,\">0\",K552:K572))","v":""},{"$f":"IF(SUM(S552:S572)=0,\"\",SUM(S552:S572))","v":""},{"$f":"IFERROR(AL552/AK552,\"-\")","v":"-"},{"$f":"IF(SUM(M552:M572)=0,\"0\",SUM(M552:M572))","v":"0"},{"$f":"IFERROR(AN552/AK552,\"-\")","v":"-"},{"$f":"IF(SUM(P552:P572)=0,0,SUM(P552:P572))","v":0},{"$f":"IFERROR(AP552/AK552,\"-\")","v":"-"},0,{"$f":"IFERROR(SUMIF($AB552:$AB572,AS$5,$AJ552:$AJ572)/COUNTIFS($AB552:$AB572,AS$5,$AJ552:$AJ572,\">0\"),\"\")","v":""},"","",{"$f":"IFERROR((AK552-AL552-AN552-AP552),\"-\")","v":"-"},{"$f":"IFERROR((1-AM552-AO552-AQ552), \"-\")","v":"-"},{"$f":"IFERROR((AV552*$AE$2)/60,\"-\")","v":"-"},{"$f":"IFERROR(SUM(AG552:AG572),\"\")","v":103}]
["27maMD",{"$f":"VLOOKUP($AA553,DATA!$B$3:$E$6,2,0)","v":"14:30:00"},{"$f":"VLOOKUP($AA553,DATA!$B$3:$E$6,3,0)","v":"22:30:00"},{"$f":"VLOOKUP($AA553,DATA!$B$3:$E$6,4,0)","v":3.125E-2},0.30208333333333337,0.30208333333333337,{"$f":"DATA!$C$9","v":0.89},{"$f":"DATA!$C$10","v":64},1,407.81250000000006,407.81250000000006,0,"","",{"$f":"TIME(INT(AD553/60),INT(MOD(AD553,60)/1),0)","v":0},"","",0,"","","","",null,{"$f":"X562","v":27},null,{"$f":"TEXT(Y552,\"ddd\")","v":"ma"},"MD",{"$f":"IFERROR(HLOOKUP(Y552,[1]DATA!$A$1:$NB$5,4,0),\"\")","v":"D1"},null,null,null,null,{"$f":"VLOOKUP(Y552,[1]SRI!$S$4:$Z$368,7,0)","v":2},"","",0]
["27maND",{"$f":"VLOOKUP($AA554,DATA!$B$3:$E$6,2,0)","v":"22:30:00"},{"$f":"VLOOKUP($AA554,DATA!$B$3:$E$6,3,0)","v":"06:30:00"},{"$f":"VLOOKUP($AA554,DATA!$B$3:$E$6,4,0)","v":3.125E-2},0.30208333333333326,0.30208333333333326,{"$f":"DATA!$C$9","v":0.89},{"$f":"DATA!$C$10","v":64},1,407.81249999999989,407.81249999999989,0,"","",0,"","",0,"","","","",null,{"$f":"X562","v":27},null,{"$f":"TEXT(Y552,\"ddd\")","v":"ma"},"ND",{"$f":"IFERROR(HLOOKUP(Y552,[1]DATA!$A$1:$NB$5,5,0),\"\")","v":"D3"},null,null,null,null,{"$f":"VLOOKUP(Y552,[1]SRI!$S$4:$Z$368,8,0)","v":5},"","",0]
["27diDD",{"$f":"VLOOKUP($AA555,DATA!$B$3:$E$6,2,0)","v":"06:30:00"},{"$f":"VLOOKUP($AA555,DATA!$B$3:$E$6,3,0)","v":"14:30:00"},{"$f":"VLOOKUP($AA555,DATA!$B$3:$E$6,4,0)","v":3.125E-2},0.30208333333333331,0.30208333333333331,{"$f":"DATA!$C$9","v":0.89},{"$f":"DATA!$C$10","v":64},1,407.8125,407.8125,0,"","",0,"","",0,"","","","",null,{"$f":"X562","v":27},"2018-07-03",{"$f":"TEXT(Y555,\"ddd\")","v":"di"},"DD",{"$f":"IFERROR(HLOOKUP(Y555,[1]DATA!$A$1:$NB$5,3,0),\"\")","v":"D2"},null,null,null,null,{"$f":"VLOOKUP(Y555,[1]SRI!$S$4:$Z$368,6,0)","v":0},"","",""]
["27diMD",{"$f":"VLOOKUP($AA556,DATA!$B$3:$E$6,2,0)","v":"14:30:00"},{"$f":"VLOOKUP($AA556,DATA!$B$3:$E$6,3,0)","v":"22:30:00"},{"$f":"VLOOKUP($AA556,DATA!$B$3:$E$6,4,0)","v":3.125E-2},0.30208333333333337,0.30208333333333337,{"$f":"DATA!$C$9","v":0.89},{"$f":"DATA!$C$10","v":64},1,407.81250000000006,407.81250000000006,0,"","",0,"","",0,"","","","",null,{"$f":"X562","v":27},null,{"$f":"TEXT(Y555,\"ddd\")","v":"di"},"MD",{"$f":"IFERROR(HLOOKUP(Y555,[1]DATA!$A$1:$NB$5,4,0),\"\")","v":"D1"},null,null,null,null,{"$f":"VLOOKUP(Y555,[1]SRI!$S$4:$Z$368,7,0)","v":3},"","",0]
["27diND",{"$f":"VLOOKUP($AA557,DATA!$B$3:$E$6,2,0)","v":"22:30:00"},{"$f":"VLOOKUP($AA557,DATA!$B$3:$E$6,3,0)","v":"06:30:00"},{"$f":"VLOOKUP($AA557,DATA!$B$3:$E$6,4,0)","v":3.125E-2},0.30208333333333326,0.30208333333333326,{"$f":"DATA!$C$9","v":0.89},{"$f":"DATA!$C$10","v":64},1,407.81249999999989,407.81249999999989,0,"","",0,"","",0,"","","","",null,{"$f":"X562","v":27},null,{"$f":"TEXT(Y555,\"ddd\")","v":"di"},"ND",{"$f":"IFERROR(HLOOKUP(Y555,[1]DATA!$A$1:$NB$5,5,0),\"\")","v":"D3"},null,null,null,null,{"$f":"VLOOKUP(Y555,[1]SRI!$S$4:$Z$368,8,0)","v":6},"","",0]
["27woDD",{"$f":"VLOOKUP($AA558,DATA!$B$3:$E$6,2,0)","v":"06:30:00"},{"$f":"VLOOKUP($AA558,DATA!$B$3:$E$6,3,0)","v":"14:30:00"},{"$f":"VLOOKUP($AA558,DATA!$B$3:$E$6,4,0)","v":3.125E-2},0.30208333333333331,0.30208333333333331,{"$f":"DATA!$C$9","v":0.89},{"$f":"DATA!$C$10","v":64},1,407.8125,407.8125,0,"","",0,"","",0,"","","","",null,{"$f":"X562","v":27},"2018-07-04",{"$f":"TEXT(Y558,\"ddd\")","v":"wo"},"DD",{"$f":"IFERROR(HLOOKUP(Y558,[1]DATA!$A$1:$NB$5,3,0),\"\")","v":"D2"},null,null,null,null,{"$f":"VLOOKUP(Y558,[1]SRI!$S$4:$Z$368,6,0)","v":0},"","",""]
["27woMD",{"$f":"VLOOKUP($AA559,DATA!$B$3:$E$6,2,0)","v":"14:30:00"},{"$f":"VLOOKUP($AA559,DATA!$B$3:$E$6,3,0)","v":"22:30:00"},{"$f":"VLOOKUP($AA559,DATA!$B$3:$E$6,4,0)","v":3.125E-2},0.30208333333333337,0.30208333333333337,{"$f":"DATA!$C$9","v":0.89},{"$f":"DATA!$C$10","v":64},1,407.81250000000006,407.81250000000006,0,"","",0,"","",0,"","","","",null,{"$f":"X562","v":27},null,{"$f":"TEXT(Y558,\"ddd\")","v":"wo"},"MD",{"$f":"IFERROR(HLOOKUP(Y558,[1]DATA!$A$1:$NB$5,4,0),\"\")","v":"D1"},null,null,null,null,{"$f":"VLOOKUP(Y558,[1]SRI!$S$4:$Z$368,7,0)","v":11},"","",0]
[{"$f":"X560&Z560&AA560","v":"27woND"},{"$f":"VLOOKUP($AA560,DATA!$B$3:$E$6,2,0)","v":"22:30:00"},{"$f":"VLOOKUP($AA560,DATA!$B$3:$E$6,3,0)","v":"06:30:00"},{"$f":"VLOOKUP($AA560,DATA!$B$3:$E$6,4,0)","v":3.125E-2},0.30208333333333326,0.30208333333333326,{"$f":"DATA!$C$9","v":0.89},{"$f":"DATA!$C$10","v":64},1,407.81249999999989,407.81249999999989,0,"","",0,{"$f":"IF($O560*86400/$H560=0,\"\",$O560*86400/$H560)","v":""},"",0,"","","","",null,{"$f":"X562","v":27},null,{"$f":"TEXT(Y558,\"ddd\")","v":"wo"},"ND",{"$f":"IFERROR(HLOOKUP(Y558,[1]DATA!$A$1:$NB$5,5,0),\"\")","v":"D3"},null,null,null,null,{"$f":"VLOOKUP(Y558,[1]SRI!$S$4:$Z$368,8,0)","v":13},"","",0]
["27doDD",{"$f":"VLOOKUP($AA561,DATA!$B$3:$E$6,2,0)","v":"06:30:00"},{"$f":"VLOOKUP($AA561,DATA!$B$3:$E$6,3,0)","v":"14:30:00"},{"$f":"VLOOKUP($AA561,DATA!$B$3:$E$6,4,0)","v":3.125E-2},0.30208333333333331,0.30208333333333331,{"$f":"DATA!$C$9","v":0.89},{"$f":"DATA!$C$10","v":64},1,407.8125,407.8125,0,"","",0,"","",0,"","","","",null,{"$f":"X562","v":27},"2018-07-05",{"$f":"TEXT(Y561,\"ddd\")","v":"do"},"DD",{"$f":"IFERROR(HLOOKUP(Y561,[1]DATA!$A$1:$NB$5,3,0),\"\")","v":"D2"},null,null,null,null,{"$f":"VLOOKUP(Y561,[1]SRI!$S$4:$Z$368,6,0)","v":22},"","",0]
["27doMD",{"$f":"VLOOKUP($AA562,DATA!$B$3:$E$6,2,0)","v":"14:30:00"},{"$f":"VLOOKUP($AA562,DATA!$B$3:$E$6,3,0)","v":"22:30:00"},{"$f":"VLOOKUP($AA562,DATA!$B$3:$E$6,4,0)","v":3.125E-2},0.30208333333333337,0.30208333333333337,{"$f":"DATA!$C$9","v":0.89},{"$f":"DATA!$C$10","v":64},1,407.81250000000006,407.81250000000006,0,"","",0,"","",0,"","","","",null,{"$f":"WEEKNUM($Y552)","v":27},null,{"$f":"TEXT(Y561,\"ddd\")","v":"do"},"MD",{"$f":"IFERROR(HLOOKUP(Y561,[1]DATA!$A$1:$NB$5,4,0),\"\")","v":"D1"},null,null,null,null,{"$f":"VLOOKUP(Y561,[1]SRI!$S$4:$Z$368,7,0)","v":41},"","",0]
["27doND",{"$f":"VLOOKUP($AA563,DATA!$B$3:$E$6,2,0)","v":"22:30:00"},{"$f":"VLOOKUP($AA563,DATA!$B$3:$E$6,3,0)","v":"06:30:00"},{"$f":"VLOOKUP($AA563,DATA!$B$3:$E$6,4,0)","v":3.125E-2},0.30208333333333326,0.30208333333333326,{"$f":"DATA!$C$9","v":0.89},{"$f":"DATA!$C$10","v":64},1,407.81249999999989,407.81249999999989,0,"","",0,"","",0,"","","","",null,{"$f":"X562","v":27},null,{"$f":"TEXT(Y561,\"ddd\")","v":"do"},"ND",{"$f":"IFERROR(HLOOKUP(Y561,[1]DATA!$A$1:$NB$5,5,0),\"\")","v":"D3"},null,null,null,null,{"$f":"VLOOKUP(Y561,[1]SRI!$S$4:$Z$368,8,0)","v":0},"","",""]
["27vrDD",{"$f":"VLOOKUP($AA564,DATA!$B$3:$E$6,2,0)","v":"06:30:00"},{"$f":"VLOOKUP($AA564,DATA!$B$3:$E$6,3,0)","v":"14:30:00"},{"$f":"VLOOKUP($AA564,DATA!$B$3:$E$6,4,0)","v":3.125E-2},0.30208333333333331,0.30208333333333331,{"$f":"DATA!$C$9","v":0.89},{"$f":"DATA!$C$10","v":64},1,407.8125,407.8125,0,"","",0,"","",0,"","","","",null,{"$f":"X562","v":27},{"$f":"Y561+1","v":"2018-07-06"},{"$f":"TEXT(Y564,\"ddd\")","v":"vr"},"DD",{"$f":"IFERROR(HLOOKUP(Y564,[1]DATA!$A$1:$NB$5,3,0),\"\")","v":"D2"},null,null,null,null,{"$f":"VLOOKUP(Y564,[1]SRI!$S$4:$Z$368,6,0)","v":0},"","",""]
["27vrMD",{"$f":"VLOOKUP($AA565,DATA!$B$3:$E$6,2,0)","v":"14:30:00"},{"$f":"VLOOKUP($AA565,DATA!$B$3:$E$6,3,0)","v":"22:30:00"},{"$f":"VLOOKUP($AA565,DATA!$B$3:$E$6,4,0)","v":3.125E-2},0.30208333333333337,0.30208333333333337,{"$f":"DATA!$C$9","v":0.89},{"$f":"DATA!$C$10","v":64},1,407.81250000000006,407.81250000000006,0,"","",0,"","",0,"","","","",null,{"$f":"X562","v":27},null,{"$f":"TEXT(Y564,\"ddd\")","v":"vr"},"MD",{"$f":"IFERROR(HLOOKUP(Y564,[1]DATA!$A$1:$NB$5,4,0),\"\")","v":"D1"},null,null,null,null,{"$f":"VLOOKUP(Y564,[1]SRI!$S$4:$Z$368,7,0)","v":0},"","",""]
["27vrND",{"$f":"VLOOKUP($AA566,DATA!$B$3:$E$6,2,0)","v":"22:30:00"},{"$f":"VLOOKUP($AA566,DATA!$B$3:$E$6,3,0)","v":"06:30:00"},{"$f":"VLOOKUP($AA566,DATA!$B$3:$E$6,4,0)","v":3.125E-2},0.30208333333333326,0.30208333333333326,{"$f":"DATA!$C$9","v":0.89},{"$f":"DATA!$C$10","v":64},1,407.81249999999989,407.81249999999989,0,"","",0,"","",0,"","","","",null,{"$f":"X562","v":27},null,{"$f":"TEXT(Y564,\"ddd\")","v":"vr"},"ND",{"$f":"IFERROR(HLOOKUP(Y564,[1]DATA!$A$1:$NB$5,5,0),\"\")","v":"D3"},null,null,null,null,{"$f":"VLOOKUP(Y564,[1]SRI!$S$4:$Z$368,8,0)","v":0},"","",""]
["27zaDD",{"$f":"VLOOKUP($AA567,DATA!$B$3:$E$6,2,0)","v":"06:30:00"},{"$f":"VLOOKUP($AA567,DATA!$B$3:$E$6,3,0)","v":"14:30:00"},{"$f":"VLOOKUP($AA567,DATA!$B$3:$E$6,4,0)","v":3.125E-2},0.30208333333333331,0.30208333333333331,{"$f":"DATA!$C$9","v":0.89},{"$f":"DATA!$C$10","v":64},1,407.8125,407.8125,0,"","",0,"","",0,"","","","",null,{"$f":"X562","v":27},"2018-07-07",{"$f":"TEXT(Y567,\"ddd\")","v":"za"},"DD",{"$f":"IFERROR(HLOOKUP(Y567,[1]DATA!$A$1:$NB$5,3,0),\"\")","v":"D2"},null,null,null,null,{"$f":"VLOOKUP(Y567,[1]SRI!$S$4:$Z$368,6,0)","v":0},"","",""]
["27zaMD",{"$f":"VLOOKUP($AA568,DATA!$B$3:$E$6,2,0)","v":"14:30:00"},{"$f":"VLOOKUP($AA568,DATA!$B$3:$E$6,3,0)","v":"22:30:00"},{"$f":"VLOOKUP($AA568,DATA!$B$3:$E$6,4,0)","v":3.125E-2},0.30208333333333337,0.30208333333333337,{"$f":"DATA!$C$9","v":0.89},{"$f":"DATA!$C$10","v":64},1,407.81250000000006,407.81250000000006,0,"","",0,"","",0,"","","","",null,{"$f":"X562","v":27},null,{"$f":"TEXT(Y567,\"ddd\")","v":"za"},"MD",{"$f":"IFERROR(HLOOKUP(Y567,[1]DATA!$A$1:$NB$5,4,0),\"\")","v":"-"},null,null,null,null,{"$f":"VLOOKUP(Y567,[1]SRI!$S$4:$Z$368,7,0)","v":0},"","",""]
["27zaND",{"$f":"VLOOKUP($AA569,DATA!$B$3:$E$6,2,0)","v":"22:30:00"},{"$f":"VLOOKUP($AA569,DATA!$B$3:$E$6,3,0)","v":"06:30:00"},{"$f":"VLOOKUP($AA569,DATA!$B$3:$E$6,4,0)","v":3.125E-2},0.30208333333333326,0.30208333333333326,{"$f":"DATA!$C$9","v":0.89},{"$f":"DATA!$C$10","v":64},1,407.81249999999989,407.81249999999989,0,"","",0,"","",0,"","","","",null,{"$f":"X562","v":27},null,{"$f":"TEXT(Y567,\"ddd\")","v":"za"},"ND",{"$f":"IFERROR(HLOOKUP(Y567,[1]DATA!$A$1:$NB$5,5,0),\"\")","v":"-"},null,null,null,null,{"$f":"VLOOKUP(Y567,[1]SRI!$S$4:$Z$368,8,0)","v":0},"","",""]
["27zoDD",{"$f":"VLOOKUP($AA570,DATA!$B$3:$E$6,2,0)","v":"06:30:00"},{"$f":"VLOOKUP($AA570,DATA!$B$3:$E$6,3,0)","v":"14:30:00"},{"$f":"VLOOKUP($AA570,DATA!$B$3:$E$6,4,0)","v":3.125E-2},0.30208333333333331,0.30208333333333331,{"$f":"DATA!$C$9","v":0.89},{"$f":"DATA!$C$10","v":64},1,407.8125,407.8125,0,"","",0,"","",0,"","","","",null,{"$f":"X562","v":27},"2018-07-08",{"$f":"TEXT(Y570,\"ddd\")","v":"zo"},"DD",{"$f":"IFERROR(HLOOKUP(Y570,[1]DATA!$A$1:$NB$5,3,0),\"\")","v":"-"},null,null,null,null,{"$f":"VLOOKUP(Y570,[1]SRI!$S$4:$Z$368,6,0)","v":0},"","",""]
["27zoMD",{"$f":"VLOOKUP($AA571,DATA!$B$3:$E$6,2,0)","v":"14:30:00"},{"$f":"VLOOKUP($AA571,DATA!$B$3:$E$6,3,0)","v":"22:30:00"},{"$f":"VLOOKUP($AA571,DATA!$B$3:$E$6,4,0)","v":3.125E-2},0.30208333333333337,0.30208333333333337,{"$f":"DATA!$C$9","v":0.89},{"$f":"DATA!$C$10","v":64},1,407.81250000000006,407.81250000000006,0,"","",0,"","",0,"","","","",null,{"$f":"X562","v":27},null,{"$f":"TEXT(Y570,\"ddd\")","v":"zo"},"MD",{"$f":"IFERROR(HLOOKUP(Y570,[1]DATA!$A$1:$NB$5,4,0),\"\")","v":"-"},null,null,null,null,{"$f":"VLOOKUP(Y570,[1]SRI!$S$4:$Z$368,7,0)","v":0},"","",""]
["27zoZND",{"$f":"VLOOKUP($AA572,DATA!$B$3:$E$6,2,0)","v":"00:00:00"},{"$f":"VLOOKUP($AA572,DATA!$B$3:$E$6,3,0)","v":"00:00:00"},{"$f":"VLOOKUP($AA572,DATA!$B$3:$E$6,4,0)","v":3.125E-2},-3.125E-2,-3.125E-2,{"$f":"DATA!$C$9","v":0.89},{"$f":"DATA!$C$10","v":64},1,-42.1875,-42.1875,0,"","",0,"","",0,"","","","",null,{"$f":"X562","v":27},null,{"$f":"TEXT(Y570,\"ddd\")","v":"zo"},"ZND",{"$f":"IFERROR(HLOOKUP(Y570,[1]DATA!$A$1:$NB$5,5,0),\"\")","v":"-"},null,null,null,null,{"$f":"VLOOKUP(Y570,[1]SRI!$S$4:$Z$368,8,0)","v":0},"","",""]
["28maDD",{"$f":"VLOOKUP($AA573,DATA!$B$3:$E$6,2,0)","v":"06:30:00"},{"$f":"VLOOKUP($AA573,DATA!$B$3:$E$6,3,0)","v":"14:30:00"},{"$f":"VLOOKUP($AA573,DATA!$B$3:$E$6,4,0)","v":3.125E-2},0.30208333333333331,0.30208333333333331,{"$f":"DATA!$C$9","v":0.89},{"$f":"DATA!$C$10","v":64},1,407.8125,407.8125,0,"","",{"$f":"TIME(INT($AD573/60),INT(MOD($AD573,60)/1),0)","v":0},"","",0,"","","","",null,{"$f":"X583","v":28},"2018-07-09",{"$f":"TEXT(Y573,\"ddd\")","v":"ma"},"DD",{"$f":"IFERROR(HLOOKUP(Y573,[1]DATA!$A$1:$NB$5,3,0),\"\")","v":"D1"},null,null,null,null,{"$f":"VLOOKUP(Y573,[1]SRI!$S$4:$Z$368,6,0)","v":14},"","",0,{"$f":"IF(SUMIF(S573:S593,\">0\",K573:K593)=0,\"\",SUMIF(S573:S593,\">0\",K573:K593))","v":""},{"$f":"IF(SUM(S573:S593)=0,\"\",SUM(S573:S593))","v":""},{"$f":"IFERROR(AL573/AK573,\"-\")","v":"-"},{"$f":"IF(SUM(M573:M593)=0,\"0\",SUM(M573:M593))","v":"0"},{"$f":"IFERROR(AN573/AK573,\"-\")","v":"-"},{"$f":"IF(SUM(P573:P593)=0,0,SUM(P573:P593))","v":0},{"$f":"IFERROR(AP573/AK573,\"-\")","v":"-"},0,{"$f":"IFERROR(SUMIF($AB573:$AB593,AS$5,$AJ573:$AJ593)/COUNTIFS($AB573:$AB593,AS$5,$AJ573:$AJ593,\">0\"),\"\")","v":""},"","",{"$f":"IFERROR((AK573-AL573-AN573-AP573),\"-\")","v":"-"},{"$f":"IFERROR((1-AM573-AO573-AQ573), \"-\")","v":"-"},{"$f":"IFERROR((AV573*$AE$2)/60,\"-\")","v":"-"},{"$f":"IFERROR(SUM(AG573:AG593),\"\")","v":78}]
["28maMD",{"$f":"VLOOKUP($AA574,DATA!$B$3:$E$6,2,0)","v":"14:30:00"},{"$f":"VLOOKUP($AA574,DATA!$B$3:$E$6,3,0)","v":"22:30:00"},{"$f":"VLOOKUP($AA574,DATA!$B$3:$E$6,4,0)","v":3.125E-2},0.30208333333333337,0.30208333333333337,{"$f":"DATA!$C$9","v":0.89},{"$f":"DATA!$C$10","v":64},1,407.81250000000006,407.81250000000006,0,"","",{"$f":"TIME(INT(AD574/60),INT(MOD(AD574,60)/1),0)","v":0},"","",0,"","","","",null,{"$f":"X583","v":28},null,{"$f":"TEXT(Y573,\"ddd\")","v":"ma"},"MD",{"$f":"IFERROR(HLOOKUP(Y573,[1]DATA!$A$1:$NB$5,4,0),\"\")","v":"D3"},null,null,null,null,{"$f":"VLOOKUP(Y573,[1]SRI!$S$4:$Z$368,7,0)","v":20},"","",0]
["28maND",{"$f":"VLOOKUP($AA575,DATA!$B$3:$E$6,2,0)","v":"22:30:00"},{"$f":"VLOOKUP($AA575,DATA!$B$3:$E$6,3,0)","v":"06:30:00"},{"$f":"VLOOKUP($AA575,DATA!$B$3:$E$6,4,0)","v":3.125E-2},0.30208333333333326,0.30208333333333326,{"$f":"DATA!$C$9","v":0.89},{"$f":"DATA!$C$10","v":64},1,407.81249999999989,407.81249999999989,0,"","",0,"","",0,"","","","",null,{"$f":"X583","v":28},null,{"$f":"TEXT(Y573,\"ddd\")","v":"ma"},"ND",{"$f":"IFERROR(HLOOKUP(Y573,[1]DATA!$A$1:$NB$5,5,0),\"\")","v":"D2"},null,null,null,null,{"$f":"VLOOKUP(Y573,[1]SRI!$S$4:$Z$368,8,0)","v":8},"","",0]
["28diDD",{"$f":"VLOOKUP($AA576,DATA!$B$3:$E$6,2,0)","v":"06:30:00"},{"$f":"VLOOKUP($AA576,DATA!$B$3:$E$6,3,0)","v":"14:30:00"},{"$f":"VLOOKUP($AA576,DATA!$B$3:$E$6,4,0)","v":3.125E-2},0.30208333333333331,0.30208333333333331,{"$f":"DATA!$C$9","v":0.89},{"$f":"DATA!$C$10","v":64},1,407.8125,407.8125,0,"","",0,"","",0,"","","","",null,{"$f":"X583","v":28},"2018-07-10",{"$f":"TEXT(Y576,\"ddd\")","v":"di"},"DD",{"$f":"IFERROR(HLOOKUP(Y576,[1]DATA!$A$1:$NB$5,3,0),\"\")","v":"D1"},null,null,null,null,{"$f":"VLOOKUP(Y576,[1]SRI!$S$4:$Z$368,6,0)","v":2},"","",0]
["28diMD",{"$f":"VLOOKUP($AA577,DATA!$B$3:$E$6,2,0)","v":"14:30:00"},{"$f":"VLOOKUP($AA577,DATA!$B$3:$E$6,3,0)","v":"22:30:00"},{"$f":"VLOOKUP($AA577,DATA!$B$3:$E$6,4,0)","v":3.125E-2},0.30208333333333337,0.30208333333333337,{"$f":"DATA!$C$9","v":0.89},{"$f":"DATA!$C$10","v":64},1,407.81250000000006,407.81250000000006,0,"","",0,"","",0,"","","","",null,{"$f":"X583","v":28},null,{"$f":"TEXT(Y576,\"ddd\")","v":"di"},"MD",{"$f":"IFERROR(HLOOKUP(Y576,[1]DATA!$A$1:$NB$5,4,0),\"\")","v":"D3"},null,null,null,null,{"$f":"VLOOKUP(Y576,[1]SRI!$S$4:$Z$368,7,0)","v":15},"","",0]
["28diND",{"$f":"VLOOKUP($AA578,DATA!$B$3:$E$6,2,0)","v":"22:30:00"},{"$f":"VLOOKUP($AA578,DATA!$B$3:$E$6,3,0)","v":"06:30:00"},{"$f":"VLOOKUP($AA578,DATA!$B$3:$E$6,4,0)","v":3.125E-2},0.30208333333333326,0.30208333333333326,{"$f":"DATA!$C$9","v":0.89},{"$f":"DATA!$C$10","v":64},1,407.81249999999989,407.81249999999989,0,"","",0,"","",0,"","","","",null,{"$f":"X583","v":28},null,{"$f":"TEXT(Y576,\"ddd\")","v":"di"},"ND",{"$f":"IFERROR(HLOOKUP(Y576,[1]DATA!$A$1:$NB$5,5,0),\"\")","v":"D2"},null,null,null,null,{"$f":"VLOOKUP(Y576,[1]SRI!$S$4:$Z$368,8,0)","v":0},"","",""]
["28woDD",{"$f":"VLOOKUP($AA579,DATA!$B$3:$E$6,2,0)","v":"06:30:00"},{"$f":"VLOOKUP($AA579,DATA!$B$3:$E$6,3,0)","v":"14:30:00"},{"$f":"VLOOKUP($AA579,DATA!$B$3:$E$6,4,0)","v":3.125E-2},0.30208333333333331,0.30208333333333331,{"$f":"DATA!$C$9","v":0.89},{"$f":"DATA!$C$10","v":64},1,407.8125,407.8125,0,"","",0,"","",0,"","","","",null,{"$f":"X583","v":28},"2018-07-11",{"$f":"TEXT(Y579,\"ddd\")","v":"wo"},"DD",{"$f":"IFERROR(HLOOKUP(Y579,[1]DATA!$A$1:$NB$5,3,0),\"\")","v":"D1"},null,null,null,null,{"$f":"VLOOKUP(Y579,[1]SRI!$S$4:$Z$368,6,0)","v":0},"","",""]
["28woMD",{"$f":"VLOOKUP($AA580,DATA!$B$3:$E$6,2,0)","v":"14:30:00"},{"$f":"VLOOKUP($AA580,DATA!$B$3:$E$6,3,0)","v":"22:30:00"},{"$f":"VLOOKUP($AA580,DATA!$B$3:$E$6,4,0)","v":3.125E-2},0.30208333333333337,0.30208333333333337,{"$f":"DATA!$C$9","v":0.89},{"$f":"DATA!$C$10","v":64},1,407.81250000000006,407.81250000000006,0,"","",0,"","",0,"","","","",null,{"$f":"X583","v":28},null,{"$f":"TEXT(Y579,\"ddd\")","v":"wo"},"MD",{"$f":"IFERROR(HLOOKUP(Y579,[1]DATA!$A$1:$NB$5,4,0),\"\")","v":"D3"},null,null,null,null,{"$f":"VLOOKUP(Y579,[1]SRI!$S$4:$Z$368,7,0)","v":0},"","",""]
["28woND",{"$f":"VLOOKUP($AA581,DATA!$B$3:$E$6,2,0)","v":"22:30:00"},{"$f":"VLOOKUP($AA581,DATA!$B$3:$E$6,3,0)","v":"06:30:00"},{"$f":"VLOOKUP($AA581,DATA!$B$3:$E$6,4,0)","v":3.125E-2},0.30208333333333326,0.30208333333333326,{"$f":"DATA!$C$9","v":0.89},{"$f":"DATA!$C$10","v":64},1,407.81249999999989,407.81249999999989,0,"","",0,"","",0,"","","","",null,{"$f":"X583","v":28},null,{"$f":"TEXT(Y579,\"ddd\")","v":"wo"},"ND",{"$f":"IFERROR(HLOOKUP(Y579,[1]DATA!$A$1:$NB$5,5,0),\"\")","v":"D2"},null,null,null,null,{"$f":"VLOOKUP(Y579,[1]SRI!$S$4:$Z$368,8,0)","v":3},"","",0]
["28doDD",{"$f":"VLOOKUP($AA582,DATA!$B$3:$E$6,2,0)","v":"06:30:00"},{"$f":"VLOOKUP($AA582,DATA!$B$3:$E$6,3,0)","v":"14:30:00"},{"$f":"VLOOKUP($AA582,DATA!$B$3:$E$6,4,0)","v":3.125E-2},0.30208333333333331,0.30208333333333331,{"$f":"DATA!$C$9","v":0.89},{"$f":"DATA!$C$10","v":64},1,407.8125,407.8125,0,"","",0,"","",0,"","","","",null,{"$f":"X583","v":28},"2018-07-12",{"$f":"TEXT(Y582,\"ddd\")","v":"do"},"DD",{"$f":"IFERROR(HLOOKUP(Y582,[1]DATA!$A$1:$NB$5,3,0),\"\")","v":"D1"},null,null,null,null,{"$f":"VLOOKUP(Y582,[1]SRI!$S$4:$Z$368,6,0)","v":8},{"$f":"IFERROR(S582-J582,\"\")","v":""},{"$f":"IFERROR(IF(S582/(E582*86400/H582)<=0,\"\",S582/(E582*86400/H582)),\"\")","v":""},0]
["28doMD",{"$f":"VLOOKUP($AA583,DATA!$B$3:$E$6,2,0)","v":"14:30:00"},{"$f":"VLOOKUP($AA583,DATA!$B$3:$E$6,3,0)","v":"22:30:00"},{"$f":"VLOOKUP($AA583,DATA!$B$3:$E$6,4,0)","v":3.125E-2},0.30208333333333337,0.30208333333333337,{"$f":"DATA!$C$9","v":0.89},{"$f":"DATA!$C$10","v":64},1,407.81250000000006,407.81250000000006,{"$f":"TIME(INT($AC583/60),INT(MOD($AC583,60)/1),0)","v":0},{"$f":"IF($L583*86400/$H583=0,\"\",$L583*86400/$H583)","v":""},{"$f":"IFERROR($M583/$K583,\"\")","v":""},0,"",{"$f":"IFERROR($P583/$K583,\"\")","v":""},0,"",{"$f":"IF(IF($AB583=\"D1\",$S583,\"\")=0,\"\",IF($AB583=\"D1\",$S583,\"\"))","v":""},{"$f":"IF(IF($AB583=\"D2\",$S583,\"\")=0,\"\",IF($AB583=\"D2\",$S583,\"\"))","v":""},{"$f":"IF(IF($AB583=\"D3\",$S583,\"\")=0,\"\",IF($AB583=\"D3\",$S583,\"\"))","v":""},null,{"$f":"WEEKNUM($Y573)","v":28},null,{"$f":"TEXT(Y582,\"ddd\")","v":"do"},"MD",{"$f":"IFERROR(HLOOKUP(Y582,[1]DATA!$A$1:$NB$5,4,0),\"\")","v":"D3"},null,null,null,null,{"$f":"VLOOKUP(Y582,[1]SRI!$S$4:$Z$368,7,0)","v":5},"","",0]
["28doND",{"$f":"VLOOKUP($AA584,DATA!$B$3:$E$6,2,0)","v":"22:30:00"},{"$f":"VLOOKUP($AA584,DATA!$B$3:$E$6,3,0)","v":"06:30:00"},{"$f":"VLOOKUP($AA584,DATA!$B$3:$E$6,4,0)","v":3.125E-2},0.30208333333333326,0.30208333333333326,{"$f":"DATA!$C$9","v":0.89},{"$f":"DATA!$C$10","v":64},1,407.81249999999989,407.81249999999989,0,"","",0,"","",0,"","","","",null,{"$f":"X583","v":28},null,{"$f":"TEXT(Y582,\"ddd\")","v":"do"},"ND",{"$f":"IFERROR(HLOOKUP(Y582,[1]DATA!$A$1:$NB$5,5,0),\"\")","v":"D2"},null,null,null,null,{"$f":"VLOOKUP(Y582,[1]SRI!$S$4:$Z$368,8,0)","v":3},"","",0]
["28vrDD",{"$f":"VLOOKUP($AA585,DATA!$B$3:$E$6,2,0)","v":"06:30:00"},{"$f":"VLOOKUP($AA585,DATA!$B$3:$E$6,3,0)","v":"14:30:00"},{"$f":"VLOOKUP($AA585,DATA!$B$3:$E$6,4,0)","v":3.125E-2},0.30208333333333331,0.30208333333333331,{"$f":"DATA!$C$9","v":0.89},{"$f":"DATA!$C$10","v":64},1,407.8125,407.8125,0,"","",0,"","",0,"","","","",null,{"$f":"X583","v":28},"2018-07-13",{"$f":"TEXT(Y585,\"ddd\")","v":"vr"},"DD",{"$f":"IFERROR(HLOOKUP(Y585,[1]DATA!$A$1:$NB$5,3,0),\"\")","v":"D1"},null,null,null,null,{"$f":"VLOOKUP(Y585,[1]SRI!$S$4:$Z$368,6,0)","v":0},"","",""]
["28vrMD",{"$f":"VLOOKUP($AA586,DATA!$B$3:$E$6,2,0)","v":"14:30:00"},{"$f":"VLOOKUP($AA586,DATA!$B$3:$E$6,3,0)","v":"22:30:00"},{"$f":"VLOOKUP($AA586,DATA!$B$3:$E$6,4,0)","v":3.125E-2},0.30208333333333337,0.30208333333333337,{"$f":"DATA!$C$9","v":0.89},{"$f":"DATA!$C$10","v":64},1,407.81250000000006,407.81250000000006,0,"","",0,"","",0,"","","","",null,{"$f":"X583","v":28},null,{"$f":"TEXT(Y585,\"ddd\")","v":"vr"},"MD",{"$f":"IFERROR(HLOOKUP(Y585,[1]DATA!$A$1:$NB$5,4,0),\"\")","v":"D3"},null,null,null,null,{"$f":"VLOOKUP(Y585,[1]SRI!$S$4:$Z$368,7,0)","v":0},"","",""]
["28vrND",{"$f":"VLOOKUP($AA587,DATA!$B$3:$E$6,2,0)","v":"22:30:00"},{"$f":"VLOOKUP($AA587,DATA!$B$3:$E$6,3,0)","v":"06:30:00"},{"$f":"VLOOKUP($AA587,DATA!$B$3:$E$6,4,0)","v":3.125E-2},0.30208333333333326,0.30208333333333326,{"$f":"DATA!$C$9","v":0.89},{"$f":"DATA!$C$10","v":64},1,407.81249999999989,407.81249999999989,0,"","",0,"","",0,"","","","",null,{"$f":"X583","v":28},null,{"$f":"TEXT(Y585,\"ddd\")","v":"vr"},"ND",{"$f":"IFERROR(HLOOKUP(Y585,[1]DATA!$A$1:$NB$5,5,0),\"\")","v":"D2"},null,null,null,null,{"$f":"VLOOKUP(Y585,[1]SRI!$S$4:$Z$368,8,0)","v":0},"","",""]
["28zaDD",{"$f":"VLOOKUP($AA588,DATA!$B$3:$E$6,2,0)","v":"06:30:00"},{"$f":"VLOOKUP($AA588,DATA!$B$3:$E$6,3,0)","v":"14:30:00"},{"$f":"VLOOKUP($AA588,DATA!$B$3:$E$6,4,0)","v":3.125E-2},0.30208333333333331,0.30208333333333331,{"$f":"DATA!$C$9","v":0.89},{"$f":"DATA!$C$10","v":64},1,407.8125,407.8125,0,"","",0,"","",0,"","","","",null,{"$f":"X583","v":28},"2018-07-14",{"$f":"TEXT(Y588,\"ddd\")","v":"za"},"DD",{"$f":"IFERROR(HLOOKUP(Y588,[1]DATA!$A$1:$NB$5,3,0),\"\")","v":"D1"},null,null,null,null,{"$f":"VLOOKUP(Y588,[1]SRI!$S$4:$Z$368,6,0)","v":0},"","",""]
["28zaMD",{"$f":"VLOOKUP($AA589,DATA!$B$3:$E$6,2,0)","v":"14:30:00"},{"$f":"VLOOKUP($AA589,DATA!$B$3:$E$6,3,0)","v":"22:30:00"},{"$f":"VLOOKUP($AA589,DATA!$B$3:$E$6,4,0)","v":3.125E-2},0.30208333333333337,0.30208333333333337,{"$f":"DATA!$C$9","v":0.89},{"$f":"DATA!$C$10","v":64},1,407.81250000000006,407.81250000000006,0,"","",0,"","",0,"","","","",null,{"$f":"X583","v":28},null,{"$f":"TEXT(Y588,\"ddd\")","v":"za"},"MD",{"$f":"IFERROR(HLOOKUP(Y588,[1]DATA!$A$1:$NB$5,4,0),\"\")","v":"-"},null,null,null,null,{"$f":"VLOOKUP(Y588,[1]SRI!$S$4:$Z$368,7,0)","v":0},"","",""]
["28zaND",{"$f":"VLOOKUP($AA590,DATA!$B$3:$E$6,2,0)","v":"22:30:00"},{"$f":"VLOOKUP($AA590,DATA!$B$3:$E$6,3,0)","v":"06:30:00"},{"$f":"VLOOKUP($AA590,DATA!$B$3:$E$6,4,0)","v":3.125E-2},0.30208333333333326,0.30208333333333326,{"$f":"DATA!$C$9","v":0.89},{"$f":"DATA!$C$10","v":64},1,407.81249999999989,407.81249999999989,0,"","",0,"","",0,"","","","",null,{"$f":"X583","v":28},null,{"$f":"TEXT(Y588,\"ddd\")","v":"za"},"ND",{"$f":"IFERROR(HLOOKUP(Y588,[1]DATA!$A$1:$NB$5,5,0),\"\")","v":"-"},null,null,null,null,{"$f":"VLOOKUP(Y588,[1]SRI!$S$4:$Z$368,8,0)","v":0},"","",""]
["28zoDD",{"$f":"VLOOKUP($AA591,DATA!$B$3:$E$6,2,0)","v":"06:30:00"},{"$f":"VLOOKUP($AA591,DATA!$B$3:$E$6,3,0)","v":"14:30:00"},{"$f":"VLOOKUP($AA591,DATA!$B$3:$E$6,4,0)","v":3.125E-2},0.30208333333333331,0.30208333333333331,{"$f":"DATA!$C$9","v":0.89},{"$f":"DATA!$C$10","v":64},1,407.8125,407.8125,0,"","",0,"","",0,"","","","",null,{"$f":"X583","v":28},"2018-07-15",{"$f":"TEXT(Y591,\"ddd\")","v":"zo"},"DD",{"$f":"IFERROR(HLOOKUP(Y591,[1]DATA!$A$1:$NB$5,3,0),\"\")","v":"-"},null,null,null,null,{"$f":"VLOOKUP(Y591,[1]SRI!$S$4:$Z$368,6,0)","v":0},"","",""]
["28zoMD",{"$f":"VLOOKUP($AA592,DATA!$B$3:$E$6,2,0)","v":"14:30:00"},{"$f":"VLOOKUP($AA592,DATA!$B$3:$E$6,3,0)","v":"22:30:00"},{"$f":"VLOOKUP($AA592,DATA!$B$3:$E$6,4,0)","v":3.125E-2},0.30208333333333337,0.30208333333333337,{"$f":"DATA!$C$9","v":0.89},{"$f":"DATA!$C$10","v":64},1,407.81250000000006,407.81250000000006,0,"","",0,"","",0,"","","","",null,{"$f":"X583","v":28},null,{"$f":"TEXT(Y591,\"ddd\")","v":"zo"},"MD",{"$f":"IFERROR(HLOOKUP(Y591,[1]DATA!$A$1:$NB$5,4,0),\"\")","v":"-"},null,null,null,null,{"$f":"VLOOKUP(Y591,[1]SRI!$S$4:$Z$368,7,0)","v":0},"","",""]
["28zoZND",{"$f":"VLOOKUP($AA593,DATA!$B$3:$E$6,2,0)","v":"00:00:00"},{"$f":"VLOOKUP($AA593,DATA!$B$3:$E$6,3,0)","v":"00:00:00"},{"$f":"VLOOKUP($AA593,DATA!$B$3:$E$6,4,0)","v":3.125E-2},-3.125E-2,-3.125E-2,{"$f":"DATA!$C$9","v":0.89},{"$f":"DATA!$C$10","v":64},1,-42.1875,-42.1875,0,"","",0,"","",0,"","","","",null,{"$f":"X583","v":28},null,{"$f":"TEXT(Y591,\"ddd\")","v":"zo"},"ZND",{"$f":"IFERROR(HLOOKUP(Y591,[1]DATA!$A$1:$NB$5,5,0),\"\")","v":"-"},null,null,null,null,{"$f":"VLOOKUP(Y591,[1]SRI!$S$4:$Z$368,8,0)","v":0},"","",""]
["29maDD",{"$f":"VLOOKUP($AA594,DATA!$B$3:$E$6,2,0)","v":"06:30:00"},{"$f":"VLOOKUP($AA594,DATA!$B$3:$E$6,3,0)","v":"14:30:00"},{"$f":"VLOOKUP($AA594,DATA!$B$3:$E$6,4,0)","v":3.125E-2},0.30208333333333331,0.30208333333333331,{"$f":"DATA!$C$9","v":0.89},{"$f":"DATA!$C$10","v":64},1,407.8125,407.8125,0,"","",{"$f":"TIME(INT($AD594/60),INT(MOD($AD594,60)/1),0)","v":0},"","",0,"","","","",null,{"$f":"X604","v":29},"2018-07-16",{"$f":"TEXT(Y594,\"ddd\")","v":"ma"},"DD",{"$f":"IFERROR(HLOOKUP(Y594,[1]DATA!$A$1:$NB$5,3,0),\"\")","v":"D3"},null,null,null,null,{"$f":"VLOOKUP(Y594,[1]SRI!$S$4:$Z$368,6,0)","v":18},"","",0,{"$f":"IF(SUMIF(S594:S614,\">0\",K594:K614)=0,\"\",SUMIF(S594:S614,\">0\",K594:K614))","v":""},{"$f":"IF(SUM(S594:S614)=0,\"\",SUM(S594:S614))","v":""},{"$f":"IFERROR(AL594/AK594,\"-\")","v":"-"},{"$f":"IF(SUM(M594:M614)=0,\"0\",SUM(M594:M614))","v":"0"},{"$f":"IFERROR(AN594/AK594,\"-\")","v":"-"},{"$f":"IF(SUM(P594:P614)=0,0,SUM(P594:P614))","v":0},{"$f":"IFERROR(AP594/AK594,\"-\")","v":"-"},{"$f":"IFERROR(AVERAGE(AJ594:AJ614),\"-\")","v":0},{"$f":"IFERROR(SUMIF($AB594:$AB614,AS$5,$AJ594:$AJ614)/COUNTIFS($AB594:$AB614,AS$5,$AJ594:$AJ614,\">0\"),\"\")","v":""},"","",{"$f":"IFERROR((AK594-AL594-AN594-AP594),\"-\")","v":"-"},{"$f":"IFERROR((1-AM594-AO594-AQ594), \"-\")","v":"-"},{"$f":"IFERROR((AV594*$AE$2)/60,\"-\")","v":"-"},{"$f":"IFERROR(SUM(AG594:AG614),\"\")","v":81}]
["29maMD",{"$f":"VLOOKUP($AA595,DATA!$B$3:$E$6,2,0)","v":"14:30:00"},{"$f":"VLOOKUP($AA595,DATA!$B$3:$E$6,3,0)","v":"22:30:00"},{"$f":"VLOOKUP($AA595,DATA!$B$3:$E$6,4,0)","v":3.125E-2},0.30208333333333337,0.30208333333333337,{"$f":"DATA!$C$9","v":0.89},{"$f":"DATA!$C$10","v":64},1,407.81250000000006,407.81250000000006,0,"","",{"$f":"TIME(INT(AD595/60),INT(MOD(AD595,60)/1),0)","v":0},"","",0,"","","","",null,{"$f":"X604","v":29},null,{"$f":"TEXT(Y594,\"ddd\")","v":"ma"},"MD",{"$f":"IFERROR(HLOOKUP(Y594,[1]DATA!$A$1:$NB$5,4,0),\"\")","v":"D2"},null,null,null,null,{"$f":"VLOOKUP(Y594,[1]SRI!$S$4:$Z$368,7,0)","v":50},"","",0]
["29maND",{"$f":"VLOOKUP($AA596,DATA!$B$3:$E$6,2,0)","v":"22:30:00"},{"$f":"VLOOKUP($AA596,DATA!$B$3:$E$6,3,0)","v":"06:30:00"},{"$f":"VLOOKUP($AA596,DATA!$B$3:$E$6,4,0)","v":3.125E-2},0.30208333333333326,0.30208333333333326,{"$f":"DATA!$C$9","v":0.89},{"$f":"DATA!$C$10","v":64},1,407.81249999999989,407.81249999999989,0,"","",0,"","",0,"","","","",null,{"$f":"X604","v":29},null,{"$f":"TEXT(Y594,\"ddd\")","v":"ma"},"ND",{"$f":"IFERROR(HLOOKUP(Y594,[1]DATA!$A$1:$NB$5,5,0),\"\")","v":"D1"},null,null,null,null,{"$f":"VLOOKUP(Y594,[1]SRI!$S$4:$Z$368,8,0)","v":10},"","",0]
["29diDD",{"$f":"VLOOKUP($AA597,DATA!$B$3:$E$6,2,0)","v":"06:30:00"},{"$f":"VLOOKUP($AA597,DATA!$B$3:$E$6,3,0)","v":"14:30:00"},{"$f":"VLOOKUP($AA597,DATA!$B$3:$E$6,4,0)","v":3.125E-2},0.30208333333333331,0.30208333333333331,{"$f":"DATA!$C$9","v":0.89},{"$f":"DATA!$C$10","v":64},1,407.8125,407.8125,0,"","",0,"","",0,"","","","",null,{"$f":"X604","v":29},"2018-07-17",{"$f":"TEXT(Y597,\"ddd\")","v":"di"},"DD",{"$f":"IFERROR(HLOOKUP(Y597,[1]DATA!$A$1:$NB$5,3,0),\"\")","v":"D3"},null,null,null,null,{"$f":"VLOOKUP(Y597,[1]SRI!$S$4:$Z$368,6,0)","v":0},"","",""]
["29diMD",{"$f":"VLOOKUP($AA598,DATA!$B$3:$E$6,2,0)","v":"14:30:00"},{"$f":"VLOOKUP($AA598,DATA!$B$3:$E$6,3,0)","v":"22:30:00"},{"$f":"VLOOKUP($AA598,DATA!$B$3:$E$6,4,0)","v":3.125E-2},0.30208333333333337,0.30208333333333337,{"$f":"DATA!$C$9","v":0.89},{"$f":"DATA!$C$10","v":64},1,407.81250000000006,407.81250000000006,0,"","",0,"","",0,"","","","",null,{"$f":"X604","v":29},null,{"$f":"TEXT(Y597,\"ddd\")","v":"di"},"MD",{"$f":"IFERROR(HLOOKUP(Y597,[1]DATA!$A$1:$NB$5,4,0),\"\")","v":"D2"},null,null,null,null,{"$f":"VLOOKUP(Y597,[1]SRI!$S$4:$Z$368,7,0)","v":3},"","",0]
["29diND",{"$f":"VLOOKUP($AA599,DATA!$B$3:$E$6,2,0)","v":"22:30:00"},{"$f":"VLOOKUP($AA599,DATA!$B$3:$E$6,3,0)","v":"06:30:00"},{"$f":"VLOOKUP($AA599,DATA!$B$3:$E$6,4,0)","v":3.125E-2},0.30208333333333326,0.30208333333333326,{"$f":"DATA!$C$9","v":0.89},{"$f":"DATA!$C$10","v":64},1,407.81249999999989,407.81249999999989,0,"","",0,"","",0,"","","","",null,{"$f":"X604","v":29},null,{"$f":"TEXT(Y597,\"ddd\")","v":"di"},"ND",{"$f":"IFERROR(HLOOKUP(Y597,[1]DATA!$A$1:$NB$5,5,0),\"\")","v":"D1"},null,null,null,null,{"$f":"VLOOKUP(Y597,[1]SRI!$S$4:$Z$368,8,0)","v":0},"","",""]
["29woDD",{"$f":"VLOOKUP($AA600,DATA!$B$3:$E$6,2,0)","v":"06:30:00"},{"$f":"VLOOKUP($AA600,DATA!$B$3:$E$6,3,0)","v":"14:30:00"},{"$f":"VLOOKUP($AA600,DATA!$B$3:$E$6,4,0)","v":3.125E-2},0.30208333333333331,0.30208333333333331,{"$f":"DATA!$C$9","v":0.89},{"$f":"DATA!$C$10","v":64},1,407.8125,407.8125,0,"","",0,"","",0,"","","","",null,{"$f":"X604","v":29},"2018-07-18",{"$f":"TEXT(Y600,\"ddd\")","v":"wo"},"DD",{"$f":"IFERROR(HLOOKUP(Y600,[1]DATA!$A$1:$NB$5,3,0),\"\")","v":"D3"},null,null,null,null,{"$f":"VLOOKUP(Y600,[1]SRI!$S$4:$Z$368,6,0)","v":0},"","",""]
["29woMD",{"$f":"VLOOKUP($AA601,DATA!$B$3:$E$6,2,0)","v":"14:30:00"},{"$f":"VLOOKUP($AA601,DATA!$B$3:$E$6,3,0)","v":"22:30:00"},{"$f":"VLOOKUP($AA601,DATA!$B$3:$E$6,4,0)","v":3.125E-2},0.30208333333333337,0.30208333333333337,{"$f":"DATA!$C$9","v":0.89},{"$f":"DATA!$C$10","v":64},1,407.81250000000006,407.81250000000006,0,"","",0,"","",0,"","","","",null,{"$f":"X604","v":29},null,{"$f":"TEXT(Y600,\"ddd\")","v":"wo"},"MD",{"$f":"IFERROR(HLOOKUP(Y600,[1]DATA!$A$1:$NB$5,4,0),\"\")","v":"D2"},null,null,null,null,{"$f":"VLOOKUP(Y600,[1]SRI!$S$4:$Z$368,7,0)","v":0},"","",""]
["29woND",{"$f":"VLOOKUP($AA602,DATA!$B$3:$E$6,2,0)","v":"22:30:00"},{"$f":"VLOOKUP($AA602,DATA!$B$3:$E$6,3,0)","v":"06:30:00"},{"$f":"VLOOKUP($AA602,DATA!$B$3:$E$6,4,0)","v":3.125E-2},0.30208333333333326,0.30208333333333326,{"$f":"DATA!$C$9","v":0.89},{"$f":"DATA!$C$10","v":64},1,407.81249999999989,407.81249999999989,0,"","",0,"","",0,"","","","",null,{"$f":"X604","v":29},null,{"$f":"TEXT(Y600,\"ddd\")","v":"wo"},"ND",{"$f":"IFERROR(HLOOKUP(Y600,[1]DATA!$A$1:$NB$5,5,0),\"\")","v":"D1"},null,null,null,null,{"$f":"VLOOKUP(Y600,[1]SRI!$S$4:$Z$368,8,0)","v":0},"","",""]
["29doDD",{"$f":"VLOOKUP($AA603,DATA!$B$3:$E$6,2,0)","v":"06:30:00"},{"$f":"VLOOKUP($AA603,DATA!$B$3:$E$6,3,0)","v":"14:30:00"},{"$f":"VLOOKUP($AA603,DATA!$B$3:$E$6,4,0)","v":3.125E-2},0.30208333333333331,0.30208333333333331,{"$f":"DATA!$C$9","v":0.89},{"$f":"DATA!$C$10","v":64},1,407.8125,407.8125,0,"","",0,"","",0,"","","","",null,{"$f":"X604","v":29},"2018-07-19",{"$f":"TEXT(Y603,\"ddd\")","v":"do"},"DD",{"$f":"IFERROR(HLOOKUP(Y603,[1]DATA!$A$1:$NB$5,3,0),\"\")","v":"D3"},null,null,null,null,{"$f":"VLOOKUP(Y603,[1]SRI!$S$4:$Z$368,6,0)","v":0},"","",{"$f":"IFERROR(R603/(R603+AG603),\"\")","v":""}]
["29doMD",{"$f":"VLOOKUP($AA604,DATA!$B$3:$E$6,2,0)","v":"14:30:00"},{"$f":"VLOOKUP($AA604,DATA!$B$3:$E$6,3,0)","v":"22:30:00"},{"$f":"VLOOKUP($AA604,DATA!$B$3:$E$6,4,0)","v":3.125E-2},{"$f":"(C604-B604+(B604>C604))-D604","v":0.30208333333333337},{"$f":"E604-O604-L604","v":0.30208333333333337},{"$f":"DATA!$C$9","v":0.89},{"$f":"DATA!$C$10","v":64},1,{"$f":"F604*86400/H604*I604","v":407.81250000000006},{"$f":"E604*86400/H604","v":407.81250000000006},0,"","",0,"","",{"$f":"AF604*AG$2","v":0},{"$f":"IF(AF604-AE604=0,\"\",AF604-AE604)","v":""},"","","",null,{"$f":"WEEKNUM($Y594)","v":29},null,{"$f":"TEXT(Y603,\"ddd\")","v":"do"},"MD",{"$f":"IFERROR(HLOOKUP(Y603,[1]DATA!$A$1:$NB$5,4,0),\"\")","v":"D2"},null,null,null,null,{"$f":"VLOOKUP(Y603,[1]SRI!$S$4:$Z$368,7,0)","v":0},"","",""]
["29doND",{"$f":"VLOOKUP($AA605,DATA!$B$3:$E$6,2,0)","v":"22:30:00"},{"$f":"VLOOKUP($AA605,DATA!$B$3:$E$6,3,0)","v":"06:30:00"},{"$f":"VLOOKUP($AA605,DATA!$B$3:$E$6,4,0)","v":3.125E-2},0.30208333333333326,0.30208333333333326,{"$f":"DATA!$C$9","v":0.89},{"$f":"DATA!$C$10","v":64},1,407.81249999999989,407.81249999999989,0,"","",0,"","",0,"","","","",null,{"$f":"X604","v":29},null,{"$f":"TEXT(Y603,\"ddd\")","v":"do"},"ND",{"$f":"IFERROR(HLOOKUP(Y603,[1]DATA!$A$1:$NB$5,5,0),\"\")","v":"D1"},null,null,null,null,{"$f":"VLOOKUP(Y603,[1]SRI!$S$4:$Z$368,8,0)","v":0},"","",""]
["29vrDD",{"$f":"VLOOKUP($AA606,DATA!$B$3:$E$6,2,0)","v":"06:30:00"},{"$f":"VLOOKUP($AA606,DATA!$B$3:$E$6,3,0)","v":"14:30:00"},{"$f":"VLOOKUP($AA606,DATA!$B$3:$E$6,4,0)","v":3.125E-2},0.30208333333333331,0.30208333333333331,{"$f":"DATA!$C$9","v":0.89},{"$f":"DATA!$C$10","v":64},1,407.8125,407.8125,0,"","",0,"","",0,"","","","",null,{"$f":"X604","v":29},"2018-07-20",{"$f":"TEXT(Y606,\"ddd\")","v":"vr"},"DD",{"$f":"IFERROR(HLOOKUP(Y606,[1]DATA!$A$1:$NB$5,3,0),\"\")","v":"D3"},null,null,null,null,{"$f":"VLOOKUP(Y606,[1]SRI!$S$4:$Z$368,6,0)","v":0},"","",""]
["29vrMD",{"$f":"VLOOKUP($AA607,DATA!$B$3:$E$6,2,0)","v":"14:30:00"},{"$f":"VLOOKUP($AA607,DATA!$B$3:$E$6,3,0)","v":"22:30:00"},{"$f":"VLOOKUP($AA607,DATA!$B$3:$E$6,4,0)","v":3.125E-2},0.30208333333333337,0.30208333333333337,{"$f":"DATA!$C$9","v":0.89},{"$f":"DATA!$C$10","v":64},1,407.81250000000006,407.81250000000006,0,"","",0,"","",0,"","","","",null,{"$f":"X604","v":29},null,{"$f":"TEXT(Y606,\"ddd\")","v":"vr"},"MD",{"$f":"IFERROR(HLOOKUP(Y606,[1]DATA!$A$1:$NB$5,4,0),\"\")","v":"D2"},null,null,null,null,{"$f":"VLOOKUP(Y606,[1]SRI!$S$4:$Z$368,7,0)","v":0},"","",""]
["29vrND",{"$f":"VLOOKUP($AA608,DATA!$B$3:$E$6,2,0)","v":"22:30:00"},{"$f":"VLOOKUP($AA608,DATA!$B$3:$E$6,3,0)","v":"06:30:00"},{"$f":"VLOOKUP($AA608,DATA!$B$3:$E$6,4,0)","v":3.125E-2},0.30208333333333326,0.30208333333333326,{"$f":"DATA!$C$9","v":0.89},{"$f":"DATA!$C$10","v":64},1,407.81249999999989,407.81249999999989,0,"","",0,"","",0,"","","","",null,{"$f":"X604","v":29},null,{"$f":"TEXT(Y606,\"ddd\")","v":"vr"},"ND",{"$f":"IFERROR(HLOOKUP(Y606,[1]DATA!$A$1:$NB$5,5,0),\"\")","v":"D2"},null,null,null,null,{"$f":"VLOOKUP(Y606,[1]SRI!$S$4:$Z$368,8,0)","v":0},"","",""]
["29zaDD",{"$f":"VLOOKUP($AA609,DATA!$B$3:$E$6,2,0)","v":"06:30:00"},{"$f":"VLOOKUP($AA609,DATA!$B$3:$E$6,3,0)","v":"14:30:00"},{"$f":"VLOOKUP($AA609,DATA!$B$3:$E$6,4,0)","v":3.125E-2},0.30208333333333331,0.30208333333333331,{"$f":"DATA!$C$9","v":0.89},{"$f":"DATA!$C$10","v":64},1,407.8125,407.8125,0,"","",0,"","",0,"","","","",null,{"$f":"X604","v":29},"2018-07-21",{"$f":"TEXT(Y609,\"ddd\")","v":"za"},"DD",{"$f":"IFERROR(HLOOKUP(Y609,[1]DATA!$A$1:$NB$5,3,0),\"\")","v":"D3"},null,null,null,null,{"$f":"VLOOKUP(Y609,[1]SRI!$S$4:$Z$368,6,0)","v":0},"","",""]
["29zaMD",{"$f":"VLOOKUP($AA610,DATA!$B$3:$E$6,2,0)","v":"14:30:00"},{"$f":"VLOOKUP($AA610,DATA!$B$3:$E$6,3,0)","v":"22:30:00"},{"$f":"VLOOKUP($AA610,DATA!$B$3:$E$6,4,0)","v":3.125E-2},0.30208333333333337,0.30208333333333337,{"$f":"DATA!$C$9","v":0.89},{"$f":"DATA!$C$10","v":64},1,407.81250000000006,407.81250000000006,0,"","",0,"","",0,"","","","",null,{"$f":"X604","v":29},null,{"$f":"TEXT(Y609,\"ddd\")","v":"za"},"MD",{"$f":"IFERROR(HLOOKUP(Y609,[1]DATA!$A$1:$NB$5,4,0),\"\")","v":"-"},null,null,null,null,{"$f":"VLOOKUP(Y609,[1]SRI!$S$4:$Z$368,7,0)","v":0},"","",""]
["29zaND",{"$f":"VLOOKUP($AA611,DATA!$B$3:$E$6,2,0)","v":"22:30:00"},{"$f":"VLOOKUP($AA611,DATA!$B$3:$E$6,3,0)","v":"06:30:00"},{"$f":"VLOOKUP($AA611,DATA!$B$3:$E$6,4,0)","v":3.125E-2},0.30208333333333326,0.30208333333333326,{"$f":"DATA!$C$9","v":0.89},{"$f":"DATA!$C$10","v":64},1,407.81249999999989,407.81249999999989,0,"","",0,"","",0,"","","","",null,{"$f":"X604","v":29},null,{"$f":"TEXT(Y609,\"ddd\")","v":"za"},"ND",{"$f":"IFERROR(HLOOKUP(Y609,[1]DATA!$A$1:$NB$5,5,0),\"\")","v":"-"},null,null,null,null,{"$f":"VLOOKUP(Y609,[1]SRI!$S$4:$Z$368,8,0)","v":0},"","",""]
["29zoDD",{"$f":"VLOOKUP($AA612,DATA!$B$3:$E$6,2,0)","v":"06:30:00"},{"$f":"VLOOKUP($AA612,DATA!$B$3:$E$6,3,0)","v":"14:30:00"},{"$f":"VLOOKUP($AA612,DATA!$B$3:$E$6,4,0)","v":3.125E-2},0.30208333333333331,0.30208333333333331,{"$f":"DATA!$C$9","v":0.89},{"$f":"DATA!$C$10","v":64},1,407.8125,407.8125,0,"","",0,"","",0,"","","","",null,{"$f":"X604","v":29},"2018-07-22",{"$f":"TEXT(Y612,\"ddd\")","v":"zo"},"DD",{"$f":"IFERROR(HLOOKUP(Y612,[1]DATA!$A$1:$NB$5,3,0),\"\")","v":"-"},null,null,null,null,{"$f":"VLOOKUP(Y612,[1]SRI!$S$4:$Z$368,6,0)","v":0},"","",""]
["29zoMD",{"$f":"VLOOKUP($AA613,DATA!$B$3:$E$6,2,0)","v":"14:30:00"},{"$f":"VLOOKUP($AA613,DATA!$B$3:$E$6,3,0)","v":"22:30:00"},{"$f":"VLOOKUP($AA613,DATA!$B$3:$E$6,4,0)","v":3.125E-2},0.30208333333333337,0.30208333333333337,{"$f":"DATA!$C$9","v":0.89},{"$f":"DATA!$C$10","v":64},1,407.81250000000006,407.81250000000006,0,"","",0,"","",0,"","","","",null,{"$f":"X604","v":29},null,{"$f":"TEXT(Y612,\"ddd\")","v":"zo"},"MD",{"$f":"IFERROR(HLOOKUP(Y612,[1]DATA!$A$1:$NB$5,4,0),\"\")","v":"-"},null,null,null,null,{"$f":"VLOOKUP(Y612,[1]SRI!$S$4:$Z$368,7,0)","v":0},"","",""]
["29zoZND",{"$f":"VLOOKUP($AA614,DATA!$B$3:$E$6,2,0)","v":"00:00:00"},{"$f":"VLOOKUP($AA614,DATA!$B$3:$E$6,3,0)","v":"00:00:00"},{"$f":"VLOOKUP($AA614,DATA!$B$3:$E$6,4,0)","v":3.125E-2},-3.125E-2,-3.125E-2,{"$f":"DATA!$C$9","v":0.89},{"$f":"DATA!$C$10","v":64},1,-42.1875,-42.1875,0,"","",0,"","",0,"","","","",null,{"$f":"X604","v":29},null,{"$f":"TEXT(Y612,\"ddd\")","v":"zo"},"ZND",{"$f":"IFERROR(HLOOKUP(Y612,[1]DATA!$A$1:$NB$5,5,0),\"\")","v":"-"},null,null,null,null,{"$f":"VLOOKUP(Y612,[1]SRI!$S$4:$Z$368,8,0)","v":0},"","",""]
["30maDD",{"$f":"VLOOKUP($AA615,DATA!$B$3:$E$6,2,0)","v":"06:30:00"},{"$f":"VLOOKUP($AA615,DATA!$B$3:$E$6,3,0)","v":"14:30:00"},{"$f":"VLOOKUP($AA615,DATA!$B$3:$E$6,4,0)","v":3.125E-2},0.30208333333333331,0.30208333333333331,{"$f":"DATA!$C$9","v":0.89},{"$f":"DATA!$C$10","v":64},1,407.8125,407.8125,0,"","",{"$f":"TIME(INT($AD615/60),INT(MOD($AD615,60)/1),0)","v":0},"","",0,"","","","",null,{"$f":"X625","v":30},"2018-07-23",{"$f":"TEXT(Y615,\"ddd\")","v":"ma"},"DD",{"$f":"IFERROR(HLOOKUP(Y615,[1]DATA!$A$1:$NB$5,3,0),\"\")","v":"D2"},null,null,null,null,{"$f":"VLOOKUP(Y615,[1]SRI!$S$4:$Z$368,6,0)","v":0},"","","",{"$f":"IF(SUMIF(S615:S635,\">0\",K615:K635)=0,\"\",SUMIF(S615:S635,\">0\",K615:K635))","v":""},{"$f":"IF(SUM(S615:S635)=0,\"\",SUM(S615:S635))","v":""},{"$f":"IFERROR(AL615/AK615,\"-\")","v":"-"},{"$f":"IF(SUM(M615:M635)=0,\"0\",SUM(M615:M635))","v":"0"},{"$f":"IFERROR(AN615/AK615,\"-\")","v":"-"},{"$f":"IF(SUM(P615:P635)=0,0,SUM(P615:P635))","v":0},{"$f":"IFERROR(AP615/AK615,\"-\")","v":"-"},"-",{"$f":"IFERROR(SUMIF($AB615:$AB635,AS$5,$AJ615:$AJ635)/COUNTIFS($AB615:$AB635,AS$5,$AJ615:$AJ635,\">0\"),\"\")","v":""},"","",{"$f":"IFERROR((AK615-AL615-AN615-AP615),\"-\")","v":"-"},{"$f":"IFERROR((1-AM615-AO615-AQ615), \"-\")","v":"-"},{"$f":"IFERROR((AV615*$AE$2)/60,\"-\")","v":"-"},{"$f":"IFERROR(SUM(AG615:AG635),\"\")","v":0}]
["30maMD",{"$f":"VLOOKUP($AA616,DATA!$B$3:$E$6,2,0)","v":"14:30:00"},{"$f":"VLOOKUP($AA616,DATA!$B$3:$E$6,3,0)","v":"22:30:00"},{"$f":"VLOOKUP($AA616,DATA!$B$3:$E$6,4,0)","v":3.125E-2},0.30208333333333337,0.30208333333333337,{"$f":"DATA!$C$9","v":0.89},{"$f":"DATA!$C$10","v":64},1,407.81250000000006,407.81250000000006,0,"","",{"$f":"TIME(INT(AD616/60),INT(MOD(AD616,60)/1),0)","v":0},"","",0,"","","","",null,{"$f":"X625","v":30},null,{"$f":"TEXT(Y615,\"ddd\")","v":"ma"},"MD",{"$f":"IFERROR(HLOOKUP(Y615,[1]DATA!$A$1:$NB$5,4,0),\"\")","v":"D1"},null,null,null,null,{"$f":"VLOOKUP(Y615,[1]SRI!$S$4:$Z$368,7,0)","v":0},"","",""]
["30maND",{"$f":"VLOOKUP($AA617,DATA!$B$3:$E$6,2,0)","v":"22:30:00"},{"$f":"VLOOKUP($AA617,DATA!$B$3:$E$6,3,0)","v":"06:30:00"},{"$f":"VLOOKUP($AA617,DATA!$B$3:$E$6,4,0)","v":3.125E-2},0.30208333333333326,0.30208333333333326,{"$f":"DATA!$C$9","v":0.89},{"$f":"DATA!$C$10","v":64},1,407.81249999999989,407.81249999999989,0,"","",0,"","",0,"","","","",null,{"$f":"X625","v":30},null,{"$f":"TEXT(Y615,\"ddd\")","v":"ma"},"ND",{"$f":"IFERROR(HLOOKUP(Y615,[1]DATA!$A$1:$NB$5,5,0),\"\")","v":"D3"},null,null,null,null,{"$f":"VLOOKUP(Y615,[1]SRI!$S$4:$Z$368,8,0)","v":0},"","",""]
["30diDD",{"$f":"VLOOKUP($AA618,DATA!$B$3:$E$6,2,0)","v":"06:30:00"},{"$f":"VLOOKUP($AA618,DATA!$B$3:$E$6,3,0)","v":"14:30:00"},{"$f":"VLOOKUP($AA618,DATA!$B$3:$E$6,4,0)","v":3.125E-2},0.30208333333333331,0.30208333333333331,{"$f":"DATA!$C$9","v":0.89},{"$f":"DATA!$C$10","v":64},1,407.8125,407.8125,0,"","",0,"","",0,"","","","",null,{"$f":"X625","v":30},"2018-07-24",{"$f":"TEXT(Y618,\"ddd\")","v":"di"},"DD",{"$f":"IFERROR(HLOOKUP(Y618,[1]DATA!$A$1:$NB$5,3,0),\"\")","v":"D2"},null,null,null,null,{"$f":"VLOOKUP(Y618,[1]SRI!$S$4:$Z$368,6,0)","v":0},"","",""]
["30diMD",{"$f":"VLOOKUP($AA619,DATA!$B$3:$E$6,2,0)","v":"14:30:00"},{"$f":"VLOOKUP($AA619,DATA!$B$3:$E$6,3,0)","v":"22:30:00"},{"$f":"VLOOKUP($AA619,DATA!$B$3:$E$6,4,0)","v":3.125E-2},0.30208333333333337,0.30208333333333337,{"$f":"DATA!$C$9","v":0.89},{"$f":"DATA!$C$10","v":64},1,407.81250000000006,407.81250000000006,0,"","",0,"","",0,"","","","",null,{"$f":"X625","v":30},null,{"$f":"TEXT(Y618,\"ddd\")","v":"di"},"MD",{"$f":"IFERROR(HLOOKUP(Y618,[1]DATA!$A$1:$NB$5,4,0),\"\")","v":"D1"},null,null,null,null,{"$f":"VLOOKUP(Y618,[1]SRI!$S$4:$Z$368,7,0)","v":0},"","",""]
["30diND",{"$f":"VLOOKUP($AA620,DATA!$B$3:$E$6,2,0)","v":"22:30:00"},{"$f":"VLOOKUP($AA620,DATA!$B$3:$E$6,3,0)","v":"06:30:00"},{"$f":"VLOOKUP($AA620,DATA!$B$3:$E$6,4,0)","v":3.125E-2},0.30208333333333326,0.30208333333333326,{"$f":"DATA!$C$9","v":0.89},{"$f":"DATA!$C$10","v":64},1,407.81249999999989,407.81249999999989,0,"","",0,"","",0,"","","","",null,{"$f":"X625","v":30},null,{"$f":"TEXT(Y618,\"ddd\")","v":"di"},"ND",{"$f":"IFERROR(HLOOKUP(Y618,[1]DATA!$A$1:$NB$5,5,0),\"\")","v":"D3"},null,null,null,null,{"$f":"VLOOKUP(Y618,[1]SRI!$S$4:$Z$368,8,0)","v":0},"","",""]
["30woDD",{"$f":"VLOOKUP($AA621,DATA!$B$3:$E$6,2,0)","v":"06:30:00"},{"$f":"VLOOKUP($AA621,DATA!$B$3:$E$6,3,0)","v":"14:30:00"},{"$f":"VLOOKUP($AA621,DATA!$B$3:$E$6,4,0)","v":3.125E-2},0.30208333333333331,0.30208333333333331,{"$f":"DATA!$C$9","v":0.89},{"$f":"DATA!$C$10","v":64},1,407.8125,407.8125,0,"","",0,"","",0,"","","","",null,{"$f":"X625","v":30},"2018-07-25",{"$f":"TEXT(Y621,\"ddd\")","v":"wo"},"DD",{"$f":"IFERROR(HLOOKUP(Y621,[1]DATA!$A$1:$NB$5,3,0),\"\")","v":"D2"},null,null,null,null,{"$f":"VLOOKUP(Y621,[1]SRI!$S$4:$Z$368,6,0)","v":0},"","",""]
["30woMD",{"$f":"VLOOKUP($AA622,DATA!$B$3:$E$6,2,0)","v":"14:30:00"},{"$f":"VLOOKUP($AA622,DATA!$B$3:$E$6,3,0)","v":"22:30:00"},{"$f":"VLOOKUP($AA622,DATA!$B$3:$E$6,4,0)","v":3.125E-2},0.30208333333333337,0.30208333333333337,{"$f":"DATA!$C$9","v":0.89},{"$f":"DATA!$C$10","v":64},1,407.81250000000006,407.81250000000006,0,"","",0,"","",0,"","","","",null,{"$f":"X625","v":30},null,{"$f":"TEXT(Y621,\"ddd\")","v":"wo"},"MD",{"$f":"IFERROR(HLOOKUP(Y621,[1]DATA!$A$1:$NB$5,4,0),\"\")","v":"D1"},null,null,null,null,{"$f":"VLOOKUP(Y621,[1]SRI!$S$4:$Z$368,7,0)","v":0},"","",""]
["30woND",{"$f":"VLOOKUP($AA623,DATA!$B$3:$E$6,2,0)","v":"22:30:00"},{"$f":"VLOOKUP($AA623,DATA!$B$3:$E$6,3,0)","v":"06:30:00"},{"$f":"VLOOKUP($AA623,DATA!$B$3:$E$6,4,0)","v":3.125E-2},0.30208333333333326,0.30208333333333326,{"$f":"DATA!$C$9","v":0.89},{"$f":"DATA!$C$10","v":64},1,407.81249999999989,407.81249999999989,0,"","",0,"","",0,"","","","",null,{"$f":"X625","v":30},null,{"$f":"TEXT(Y621,\"ddd\")","v":"wo"},"ND",{"$f":"IFERROR(HLOOKUP(Y621,[1]DATA!$A$1:$NB$5,5,0),\"\")","v":"D3"},null,null,null,null,{"$f":"VLOOKUP(Y621,[1]SRI!$S$4:$Z$368,8,0)","v":0},"","",""]
[{"$f":"X624&Z624&AA624","v":"30doDD"},{"$f":"VLOOKUP($AA624,DATA!$B$3:$E$6,2,0)","v":"06:30:00"},{"$f":"VLOOKUP($AA624,DATA!$B$3:$E$6,3,0)","v":"14:30:00"},{"$f":"VLOOKUP($AA624,DATA!$B$3:$E$6,4,0)","v":3.125E-2},0.30208333333333331,0.30208333333333331,{"$f":"DATA!$C$9","v":0.89},{"$f":"DATA!$C$10","v":64},1,407.8125,407.8125,0,"","",0,{"$f":"IF($O624*86400/$H624=0,\"\",$O624*86400/$H624)","v":""},"",0,"","","","",null,{"$f":"X625","v":30},"2018-07-26",{"$f":"TEXT(Y624,\"ddd\")","v":"do"},"DD",{"$f":"IFERROR(HLOOKUP(Y624,[1]DATA!$A$1:$NB$5,3,0),\"\")","v":"D2"},null,null,null,null,{"$f":"VLOOKUP(Y624,[1]SRI!$S$4:$Z$368,6,0)","v":0},"","",""]
["30doMD",{"$f":"VLOOKUP($AA625,DATA!$B$3:$E$6,2,0)","v":"14:30:00"},{"$f":"VLOOKUP($AA625,DATA!$B$3:$E$6,3,0)","v":"22:30:00"},{"$f":"VLOOKUP($AA625,DATA!$B$3:$E$6,4,0)","v":3.125E-2},0.30208333333333337,0.30208333333333337,{"$f":"DATA!$C$9","v":0.89},{"$f":"DATA!$C$10","v":64},1,407.81250000000006,407.81250000000006,0,"","",0,"","",0,"","","","",null,{"$f":"WEEKNUM($Y615)","v":30},null,{"$f":"TEXT(Y624,\"ddd\")","v":"do"},"MD",{"$f":"IFERROR(HLOOKUP(Y624,[1]DATA!$A$1:$NB$5,4,0),\"\")","v":"D1"},null,null,null,null,{"$f":"VLOOKUP(Y624,[1]SRI!$S$4:$Z$368,7,0)","v":0},"","",""]
["30doND",{"$f":"VLOOKUP($AA626,DATA!$B$3:$E$6,2,0)","v":"22:30:00"},{"$f":"VLOOKUP($AA626,DATA!$B$3:$E$6,3,0)","v":"06:30:00"},{"$f":"VLOOKUP($AA626,DATA!$B$3:$E$6,4,0)","v":3.125E-2},0.30208333333333326,0.30208333333333326,{"$f":"DATA!$C$9","v":0.89},{"$f":"DATA!$C$10","v":64},1,407.81249999999989,407.81249999999989,0,"","",0,"","",0,"","","","",null,{"$f":"X625","v":30},null,{"$f":"TEXT(Y624,\"ddd\")","v":"do"},"ND",{"$f":"IFERROR(HLOOKUP(Y624,[1]DATA!$A$1:$NB$5,5,0),\"\")","v":"D3"},null,null,null,null,{"$f":"VLOOKUP(Y624,[1]SRI!$S$4:$Z$368,8,0)","v":0},"","",""]
["30vrDD",{"$f":"VLOOKUP($AA627,DATA!$B$3:$E$6,2,0)","v":"06:30:00"},{"$f":"VLOOKUP($AA627,DATA!$B$3:$E$6,3,0)","v":"14:30:00"},{"$f":"VLOOKUP($AA627,DATA!$B$3:$E$6,4,0)","v":3.125E-2},0.30208333333333331,0.30208333333333331,{"$f":"DATA!$C$9","v":0.89},{"$f":"DATA!$C$10","v":64},1,407.8125,407.8125,0,"","",0,"","",0,"","","","",null,{"$f":"X625","v":30},"2018-07-27",{"$f":"TEXT(Y627,\"ddd\")","v":"vr"},"DD",{"$f":"IFERROR(HLOOKUP(Y627,[1]DATA!$A$1:$NB$5,3,0),\"\")","v":"D2"},null,null,null,null,{"$f":"VLOOKUP(Y627,[1]SRI!$S$4:$Z$368,6,0)","v":0},"","",""]
["30vrMD",{"$f":"VLOOKUP($AA628,DATA!$B$3:$E$6,2,0)","v":"14:30:00"},{"$f":"VLOOKUP($AA628,DATA!$B$3:$E$6,3,0)","v":"22:30:00"},{"$f":"VLOOKUP($AA628,DATA!$B$3:$E$6,4,0)","v":3.125E-2},0.30208333333333337,0.30208333333333337,{"$f":"DATA!$C$9","v":0.89},{"$f":"DATA!$C$10","v":64},1,407.81250000000006,407.81250000000006,0,"","",0,"","",0,"","","","",null,{"$f":"X625","v":30},null,{"$f":"TEXT(Y627,\"ddd\")","v":"vr"},"MD",{"$f":"IFERROR(HLOOKUP(Y627,[1]DATA!$A$1:$NB$5,4,0),\"\")","v":"D1"},null,null,null,null,{"$f":"VLOOKUP(Y627,[1]SRI!$S$4:$Z$368,7,0)","v":0},"","",""]
["30vrND",{"$f":"VLOOKUP($AA629,DATA!$B$3:$E$6,2,0)","v":"22:30:00"},{"$f":"VLOOKUP($AA629,DATA!$B$3:$E$6,3,0)","v":"06:30:00"},{"$f":"VLOOKUP($AA629,DATA!$B$3:$E$6,4,0)","v":3.125E-2},0.30208333333333326,0.30208333333333326,{"$f":"DATA!$C$9","v":0.89},{"$f":"DATA!$C$10","v":64},1,407.81249999999989,407.81249999999989,0,"","",0,"","",0,"","","","",null,{"$f":"X625","v":30},null,{"$f":"TEXT(Y627,\"ddd\")","v":"vr"},"ND",{"$f":"IFERROR(HLOOKUP(Y627,[1]DATA!$A$1:$NB$5,5,0),\"\")","v":"D3"},null,null,null,null,{"$f":"VLOOKUP(Y627,[1]SRI!$S$4:$Z$368,8,0)","v":0},"","",""]
["30zaDD",{"$f":"VLOOKUP($AA630,DATA!$B$3:$E$6,2,0)","v":"06:30:00"},{"$f":"VLOOKUP($AA630,DATA!$B$3:$E$6,3,0)","v":"14:30:00"},{"$f":"VLOOKUP($AA630,DATA!$B$3:$E$6,4,0)","v":3.125E-2},0.30208333333333331,0.30208333333333331,{"$f":"DATA!$C$9","v":0.89},{"$f":"DATA!$C$10","v":64},1,407.8125,407.8125,0,"","",0,"","",0,"","","","",null,{"$f":"X625","v":30},{"$f":"Y627+1","v":"2018-07-28"},{"$f":"TEXT(Y630,\"ddd\")","v":"za"},"DD",{"$f":"IFERROR(HLOOKUP(Y630,[1]DATA!$A$1:$NB$5,3,0),\"\")","v":"D2"},null,null,null,null,{"$f":"VLOOKUP(Y630,[1]SRI!$S$4:$Z$368,6,0)","v":0},"","",""]
["30zaMD",{"$f":"VLOOKUP($AA631,DATA!$B$3:$E$6,2,0)","v":"14:30:00"},{"$f":"VLOOKUP($AA631,DATA!$B$3:$E$6,3,0)","v":"22:30:00"},{"$f":"VLOOKUP($AA631,DATA!$B$3:$E$6,4,0)","v":3.125E-2},0.30208333333333337,0.30208333333333337,{"$f":"DATA!$C$9","v":0.89},{"$f":"DATA!$C$10","v":64},1,407.81250000000006,407.81250000000006,0,"","",0,"","",0,"","","","",null,{"$f":"X625","v":30},null,{"$f":"TEXT(Y630,\"ddd\")","v":"za"},"MD",{"$f":"IFERROR(HLOOKUP(Y630,[1]DATA!$A$1:$NB$5,4,0),\"\")","v":"-"},null,null,null,null,{"$f":"VLOOKUP(Y630,[1]SRI!$S$4:$Z$368,7,0)","v":0},"","",""]
["30zaND",{"$f":"VLOOKUP($AA632,DATA!$B$3:$E$6,2,0)","v":"22:30:00"},{"$f":"VLOOKUP($AA632,DATA!$B$3:$E$6,3,0)","v":"06:30:00"},{"$f":"VLOOKUP($AA632,DATA!$B$3:$E$6,4,0)","v":3.125E-2},0.30208333333333326,0.30208333333333326,{"$f":"DATA!$C$9","v":0.89},{"$f":"DATA!$C$10","v":64},1,407.81249999999989,407.81249999999989,0,"","",0,"","",0,"","","","",null,{"$f":"X625","v":30},null,{"$f":"TEXT(Y630,\"ddd\")","v":"za"},"ND",{"$f":"IFERROR(HLOOKUP(Y630,[1]DATA!$A$1:$NB$5,5,0),\"\")","v":"-"},null,null,null,null,{"$f":"VLOOKUP(Y630,[1]SRI!$S$4:$Z$368,8,0)","v":0},"","",""]
["30zoDD",{"$f":"VLOOKUP($AA633,DATA!$B$3:$E$6,2,0)","v":"06:30:00"},{"$f":"VLOOKUP($AA633,DATA!$B$3:$E$6,3,0)","v":"14:30:00"},{"$f":"VLOOKUP($AA633,DATA!$B$3:$E$6,4,0)","v":3.125E-2},0.30208333333333331,0.30208333333333331,{"$f":"DATA!$C$9","v":0.89},{"$f":"DATA!$C$10","v":64},1,407.8125,407.8125,0,"","",0,"","",0,"","","","",null,{"$f":"X625","v":30},"2018-07-29",{"$f":"TEXT(Y633,\"ddd\")","v":"zo"},"DD",{"$f":"IFERROR(HLOOKUP(Y633,[1]DATA!$A$1:$NB$5,3,0),\"\")","v":"-"},null,null,null,null,{"$f":"VLOOKUP(Y633,[1]SRI!$S$4:$Z$368,6,0)","v":0},"","",""]
["30zoMD",{"$f":"VLOOKUP($AA634,DATA!$B$3:$E$6,2,0)","v":"14:30:00"},{"$f":"VLOOKUP($AA634,DATA!$B$3:$E$6,3,0)","v":"22:30:00"},{"$f":"VLOOKUP($AA634,DATA!$B$3:$E$6,4,0)","v":3.125E-2},0.30208333333333337,0.30208333333333337,{"$f":"DATA!$C$9","v":0.89},{"$f":"DATA!$C$10","v":64},1,407.81250000000006,407.81250000000006,0,"","",0,"","",0,"","","","",null,{"$f":"X625","v":30},null,{"$f":"TEXT(Y633,\"ddd\")","v":"zo"},"MD",{"$f":"IFERROR(HLOOKUP(Y633,[1]DATA!$A$1:$NB$5,4,0),\"\")","v":"-"},null,null,null,null,{"$f":"VLOOKUP(Y633,[1]SRI!$S$4:$Z$368,7,0)","v":0},"","",""]
["30zoZND",{"$f":"VLOOKUP($AA635,DATA!$B$3:$E$6,2,0)","v":"00:00:00"},{"$f":"VLOOKUP($AA635,DATA!$B$3:$E$6,3,0)","v":"00:00:00"},{"$f":"VLOOKUP($AA635,DATA!$B$3:$E$6,4,0)","v":3.125E-2},-3.125E-2,-3.125E-2,{"$f":"DATA!$C$9","v":0.89},{"$f":"DATA!$C$10","v":64},1,-42.1875,-42.1875,0,"","",0,"","",0,"","","","",null,{"$f":"X625","v":30},null,{"$f":"TEXT(Y633,\"ddd\")","v":"zo"},"ZND",{"$f":"IFERROR(HLOOKUP(Y633,[1]DATA!$A$1:$NB$5,5,0),\"\")","v":"-"},null,null,null,null,{"$f":"VLOOKUP(Y633,[1]SRI!$S$4:$Z$368,8,0)","v":0},"","",""]
["31maDD",{"$f":"VLOOKUP($AA636,DATA!$B$3:$E$6,2,0)","v":"06:30:00"},{"$f":"VLOOKUP($AA636,DATA!$B$3:$E$6,3,0)","v":"14:30:00"},{"$f":"VLOOKUP($AA636,DATA!$B$3:$E$6,4,0)","v":3.125E-2},0.30208333333333331,0.30208333333333331,{"$f":"DATA!$C$9","v":0.89},{"$f":"DATA!$C$10","v":64},1,407.8125,407.8125,0,"","",{"$f":"TIME(INT($AD636/60),INT(MOD($AD636,60)/1),0)","v":0},"","",0,"","","","",null,{"$f":"X646","v":31},"2018-07-30",{"$f":"TEXT(Y636,\"ddd\")","v":"ma"},"DD",{"$f":"IFERROR(HLOOKUP(Y636,[1]DATA!$A$1:$NB$5,3,0),\"\")","v":"D1"},null,null,null,null,{"$f":"VLOOKUP(Y636,[1]SRI!$S$4:$Z$368,6,0)","v":0},"","","",{"$f":"IF(SUMIF(S636:S656,\">0\",K636:K656)=0,\"\",SUMIF(S636:S656,\">0\",K636:K656))","v":""},{"$f":"IF(SUM(S636:S656)=0,\"\",SUM(S636:S656))","v":""},{"$f":"IFERROR(AL636/AK636,\"-\")","v":"-"},{"$f":"IF(SUM(M636:M656)=0,\"0\",SUM(M636:M656))","v":"0"},{"$f":"IFERROR(AN636/AK636,\"-\")","v":"-"},{"$f":"IF(SUM(P636:P656)=0,0,SUM(P636:P656))","v":0},{"$f":"IFERROR(AP636/AK636,\"-\")","v":"-"},"-",{"$f":"IFERROR(SUMIF($AB636:$AB656,AS$5,$AJ636:$AJ656)/COUNTIFS($AB636:$AB656,AS$5,$AJ636:$AJ656,\">0\"),\"\")","v":""},"","",{"$f":"IFERROR((AK636-AL636-AN636-AP636),\"-\")","v":"-"},{"$f":"IFERROR((1-AM636-AO636-AQ636), \"-\")","v":"-"},{"$f":"IFERROR((AV636*$AE$2)/60,\"-\")","v":"-"},{"$f":"IFERROR(SUM(AG636:AG656),\"\")","v":0}]
["31maMD",{"$f":"VLOOKUP($AA637,DATA!$B$3:$E$6,2,0)","v":"14:30:00"},{"$f":"VLOOKUP($AA637,DATA!$B$3:$E$6,3,0)","v":"22:30:00"},{"$f":"VLOOKUP($AA637,DATA!$B$3:$E$6,4,0)","v":3.125E-2},0.30208333333333337,0.30208333333333337,{"$f":"DATA!$C$9","v":0.89},{"$f":"DATA!$C$10","v":64},1,407.81250000000006,407.81250000000006,0,"","",{"$f":"TIME(INT(AD637/60),INT(MOD(AD637,60)/1),0)","v":0},"","",0,"","","","",null,{"$f":"X646","v":31},null,{"$f":"TEXT(Y636,\"ddd\")","v":"ma"},"MD",{"$f":"IFERROR(HLOOKUP(Y636,[1]DATA!$A$1:$NB$5,4,0),\"\")","v":"D3"},null,null,null,null,{"$f":"VLOOKUP(Y636,[1]SRI!$S$4:$Z$368,7,0)","v":0},"","",""]
["31maND",{"$f":"VLOOKUP($AA638,DATA!$B$3:$E$6,2,0)","v":"22:30:00"},{"$f":"VLOOKUP($AA638,DATA!$B$3:$E$6,3,0)","v":"06:30:00"},{"$f":"VLOOKUP($AA638,DATA!$B$3:$E$6,4,0)","v":3.125E-2},0.30208333333333326,0.30208333333333326,{"$f":"DATA!$C$9","v":0.89},{"$f":"DATA!$C$10","v":64},1,407.81249999999989,407.81249999999989,0,"","",0,"","",0,"","","","",null,{"$f":"X646","v":31},null,{"$f":"TEXT(Y636,\"ddd\")","v":"ma"},"ND",{"$f":"IFERROR(HLOOKUP(Y636,[1]DATA!$A$1:$NB$5,5,0),\"\")","v":"D2"},null,null,null,null,{"$f":"VLOOKUP(Y636,[1]SRI!$S$4:$Z$368,8,0)","v":0},"","",""]
["31diDD",{"$f":"VLOOKUP($AA639,DATA!$B$3:$E$6,2,0)","v":"06:30:00"},{"$f":"VLOOKUP($AA639,DATA!$B$3:$E$6,3,0)","v":"14:30:00"},{"$f":"VLOOKUP($AA639,DATA!$B$3:$E$6,4,0)","v":3.125E-2},0.30208333333333331,0.30208333333333331,{"$f":"DATA!$C$9","v":0.89},{"$f":"DATA!$C$10","v":64},1,407.8125,407.8125,0,"","",0,"","",0,"","","","",null,{"$f":"X646","v":31},"2018-07-31",{"$f":"TEXT(Y639,\"ddd\")","v":"di"},"DD",{"$f":"IFERROR(HLOOKUP(Y639,[1]DATA!$A$1:$NB$5,3,0),\"\")","v":"D1"},null,null,null,null,{"$f":"VLOOKUP(Y639,[1]SRI!$S$4:$Z$368,6,0)","v":0},"","",""]
["31diMD",{"$f":"VLOOKUP($AA640,DATA!$B$3:$E$6,2,0)","v":"14:30:00"},{"$f":"VLOOKUP($AA640,DATA!$B$3:$E$6,3,0)","v":"22:30:00"},{"$f":"VLOOKUP($AA640,DATA!$B$3:$E$6,4,0)","v":3.125E-2},0.30208333333333337,0.30208333333333337,{"$f":"DATA!$C$9","v":0.89},{"$f":"DATA!$C$10","v":64},1,407.81250000000006,407.81250000000006,0,"","",0,"","",0,"","","","",null,{"$f":"X646","v":31},null,{"$f":"TEXT(Y639,\"ddd\")","v":"di"},"MD",{"$f":"IFERROR(HLOOKUP(Y639,[1]DATA!$A$1:$NB$5,4,0),\"\")","v":"D3"},null,null,null,null,{"$f":"VLOOKUP(Y639,[1]SRI!$S$4:$Z$368,7,0)","v":0},"","",""]
["31diND",{"$f":"VLOOKUP($AA641,DATA!$B$3:$E$6,2,0)","v":"22:30:00"},{"$f":"VLOOKUP($AA641,DATA!$B$3:$E$6,3,0)","v":"06:30:00"},{"$f":"VLOOKUP($AA641,DATA!$B$3:$E$6,4,0)","v":3.125E-2},0.30208333333333326,0.30208333333333326,{"$f":"DATA!$C$9","v":0.89},{"$f":"DATA!$C$10","v":64},1,407.81249999999989,407.81249999999989,0,"","",0,"","",0,"","","","",null,{"$f":"X646","v":31},null,{"$f":"TEXT(Y639,\"ddd\")","v":"di"},"ND",{"$f":"IFERROR(HLOOKUP(Y639,[1]DATA!$A$1:$NB$5,5,0),\"\")","v":"D2"},null,null,null,null,{"$f":"VLOOKUP(Y639,[1]SRI!$S$4:$Z$368,8,0)","v":0},"","",""]
["31woDD",{"$f":"VLOOKUP($AA642,DATA!$B$3:$E$6,2,0)","v":"06:30:00"},{"$f":"VLOOKUP($AA642,DATA!$B$3:$E$6,3,0)","v":"14:30:00"},{"$f":"VLOOKUP($AA642,DATA!$B$3:$E$6,4,0)","v":3.125E-2},0.30208333333333331,0.30208333333333331,{"$f":"DATA!$C$9","v":0.89},{"$f":"DATA!$C$10","v":64},1,407.8125,407.8125,0,"","",0,"","",0,"","","","",null,{"$f":"X646","v":31},"2018-08-01",{"$f":"TEXT(Y642,\"ddd\")","v":"wo"},"DD",{"$f":"IFERROR(HLOOKUP(Y642,[1]DATA!$A$1:$NB$5,3,0),\"\")","v":"D1"},null,null,null,null,{"$f":"VLOOKUP(Y642,[1]SRI!$S$4:$Z$368,6,0)","v":0},"","",""]
["31woMD",{"$f":"VLOOKUP($AA643,DATA!$B$3:$E$6,2,0)","v":"14:30:00"},{"$f":"VLOOKUP($AA643,DATA!$B$3:$E$6,3,0)","v":"22:30:00"},{"$f":"VLOOKUP($AA643,DATA!$B$3:$E$6,4,0)","v":3.125E-2},0.30208333333333337,0.30208333333333337,{"$f":"DATA!$C$9","v":0.89},{"$f":"DATA!$C$10","v":64},1,407.81250000000006,407.81250000000006,0,"","",0,"","",0,"","","","",null,{"$f":"X646","v":31},null,{"$f":"TEXT(Y642,\"ddd\")","v":"wo"},"MD",{"$f":"IFERROR(HLOOKUP(Y642,[1]DATA!$A$1:$NB$5,4,0),\"\")","v":"D3"},null,null,null,null,{"$f":"VLOOKUP(Y642,[1]SRI!$S$4:$Z$368,7,0)","v":0},"","",""]
["31woND",{"$f":"VLOOKUP($AA644,DATA!$B$3:$E$6,2,0)","v":"22:30:00"},{"$f":"VLOOKUP($AA644,DATA!$B$3:$E$6,3,0)","v":"06:30:00"},{"$f":"VLOOKUP($AA644,DATA!$B$3:$E$6,4,0)","v":3.125E-2},0.30208333333333326,0.30208333333333326,{"$f":"DATA!$C$9","v":0.89},{"$f":"DATA!$C$10","v":64},1,407.81249999999989,407.81249999999989,0,"","",0,"","",0,"","","","",null,{"$f":"X646","v":31},null,{"$f":"TEXT(Y642,\"ddd\")","v":"wo"},"ND",{"$f":"IFERROR(HLOOKUP(Y642,[1]DATA!$A$1:$NB$5,5,0),\"\")","v":"D2"},null,null,null,null,{"$f":"VLOOKUP(Y642,[1]SRI!$S$4:$Z$368,8,0)","v":0},"","",""]
["31doDD",{"$f":"VLOOKUP($AA645,DATA!$B$3:$E$6,2,0)","v":"06:30:00"},{"$f":"VLOOKUP($AA645,DATA!$B$3:$E$6,3,0)","v":"14:30:00"},{"$f":"VLOOKUP($AA645,DATA!$B$3:$E$6,4,0)","v":3.125E-2},0.30208333333333331,0.30208333333333331,{"$f":"DATA!$C$9","v":0.89},{"$f":"DATA!$C$10","v":64},1,407.8125,407.8125,0,"","",0,"","",0,"","","","",null,{"$f":"X646","v":31},"2018-08-02",{"$f":"TEXT(Y645,\"ddd\")","v":"do"},"DD",{"$f":"IFERROR(HLOOKUP(Y645,[1]DATA!$A$1:$NB$5,3,0),\"\")","v":"D1"},null,null,null,null,{"$f":"VLOOKUP(Y645,[1]SRI!$S$4:$Z$368,6,0)","v":0},"","",""]
["31doMD",{"$f":"VLOOKUP($AA646,DATA!$B$3:$E$6,2,0)","v":"14:30:00"},{"$f":"VLOOKUP($AA646,DATA!$B$3:$E$6,3,0)","v":"22:30:00"},{"$f":"VLOOKUP($AA646,DATA!$B$3:$E$6,4,0)","v":3.125E-2},0.30208333333333337,0.30208333333333337,{"$f":"DATA!$C$9","v":0.89},{"$f":"DATA!$C$10","v":64},1,407.81250000000006,407.81250000000006,0,"","",0,"","",0,"","","","",null,{"$f":"WEEKNUM($Y636)","v":31},null,{"$f":"TEXT(Y645,\"ddd\")","v":"do"},"MD",{"$f":"IFERROR(HLOOKUP(Y645,[1]DATA!$A$1:$NB$5,4,0),\"\")","v":"D3"},null,null,null,null,{"$f":"VLOOKUP(Y645,[1]SRI!$S$4:$Z$368,7,0)","v":0},{"$f":"IFERROR(S646-J646,\"\")","v":""},{"$f":"IFERROR(IF(S646/(E646*86400/H646)<=0,\"\",S646/(E646*86400/H646)),\"\")","v":""},""]
["31doND",{"$f":"VLOOKUP($AA647,DATA!$B$3:$E$6,2,0)","v":"22:30:00"},{"$f":"VLOOKUP($AA647,DATA!$B$3:$E$6,3,0)","v":"06:30:00"},{"$f":"VLOOKUP($AA647,DATA!$B$3:$E$6,4,0)","v":3.125E-2},0.30208333333333326,0.30208333333333326,{"$f":"DATA!$C$9","v":0.89},{"$f":"DATA!$C$10","v":64},1,407.81249999999989,407.81249999999989,{"$f":"TIME(INT($AC647/60),INT(MOD($AC647,60)/1),0)","v":0},{"$f":"IF($L647*86400/$H647=0,\"\",$L647*86400/$H647)","v":""},{"$f":"IFERROR($M647/$K647,\"\")","v":""},0,"",{"$f":"IFERROR($P647/$K647,\"\")","v":""},0,"",{"$f":"IF(IF($AB647=\"D1\",$S647,\"\")=0,\"\",IF($AB647=\"D1\",$S647,\"\"))","v":""},{"$f":"IF(IF($AB647=\"D2\",$S647,\"\")=0,\"\",IF($AB647=\"D2\",$S647,\"\"))","v":""},{"$f":"IF(IF($AB647=\"D3\",$S647,\"\")=0,\"\",IF($AB647=\"D3\",$S647,\"\"))","v":""},null,{"$f":"X646","v":31},null,{"$f":"TEXT(Y645,\"ddd\")","v":"do"},"ND",{"$f":"IFERROR(HLOOKUP(Y645,[1]DATA!$A$1:$NB$5,5,0),\"\")","v":"D2"},null,null,null,null,{"$f":"VLOOKUP(Y645,[1]SRI!$S$4:$Z$368,8,0)","v":0},"","",""]
["31vrDD",{"$f":"VLOOKUP($AA648,DATA!$B$3:$E$6,2,0)","v":"06:30:00"},{"$f":"VLOOKUP($AA648,DATA!$B$3:$E$6,3,0)","v":"14:30:00"},{"$f":"VLOOKUP($AA648,DATA!$B$3:$E$6,4,0)","v":3.125E-2},0.30208333333333331,0.30208333333333331,{"$f":"DATA!$C$9","v":0.89},{"$f":"DATA!$C$10","v":64},1,407.8125,407.8125,0,"","",0,"","",0,"","","","",null,{"$f":"X646","v":31},"2018-08-03",{"$f":"TEXT(Y648,\"ddd\")","v":"vr"},"DD",{"$f":"IFERROR(HLOOKUP(Y648,[1]DATA!$A$1:$NB$5,3,0),\"\")","v":"D1"},null,null,null,null,{"$f":"VLOOKUP(Y648,[1]SRI!$S$4:$Z$368,6,0)","v":0},"","",""]
["31vrMD",{"$f":"VLOOKUP($AA649,DATA!$B$3:$E$6,2,0)","v":"14:30:00"},{"$f":"VLOOKUP($AA649,DATA!$B$3:$E$6,3,0)","v":"22:30:00"},{"$f":"VLOOKUP($AA649,DATA!$B$3:$E$6,4,0)","v":3.125E-2},0.30208333333333337,0.30208333333333337,{"$f":"DATA!$C$9","v":0.89},{"$f":"DATA!$C$10","v":64},1,407.81250000000006,407.81250000000006,0,"","",0,"","",0,"","","","",null,{"$f":"X646","v":31},null,{"$f":"TEXT(Y648,\"ddd\")","v":"vr"},"MD",{"$f":"IFERROR(HLOOKUP(Y648,[1]DATA!$A$1:$NB$5,4,0),\"\")","v":"D3"},null,null,null,null,{"$f":"VLOOKUP(Y648,[1]SRI!$S$4:$Z$368,7,0)","v":0},"","",""]
["31vrND",{"$f":"VLOOKUP($AA650,DATA!$B$3:$E$6,2,0)","v":"22:30:00"},{"$f":"VLOOKUP($AA650,DATA!$B$3:$E$6,3,0)","v":"06:30:00"},{"$f":"VLOOKUP($AA650,DATA!$B$3:$E$6,4,0)","v":3.125E-2},0.30208333333333326,0.30208333333333326,{"$f":"DATA!$C$9","v":0.89},{"$f":"DATA!$C$10","v":64},1,407.81249999999989,407.81249999999989,0,"","",0,"","",0,"","","","",null,{"$f":"X646","v":31},null,{"$f":"TEXT(Y648,\"ddd\")","v":"vr"},"ND",{"$f":"IFERROR(HLOOKUP(Y648,[1]DATA!$A$1:$NB$5,5,0),\"\")","v":"D2"},null,null,null,null,{"$f":"VLOOKUP(Y648,[1]SRI!$S$4:$Z$368,8,0)","v":0},"","",""]
["31zaDD",{"$f":"VLOOKUP($AA651,DATA!$B$3:$E$6,2,0)","v":"06:30:00"},{"$f":"VLOOKUP($AA651,DATA!$B$3:$E$6,3,0)","v":"14:30:00"},{"$f":"VLOOKUP($AA651,DATA!$B$3:$E$6,4,0)","v":3.125E-2},0.30208333333333331,0.30208333333333331,{"$f":"DATA!$C$9","v":0.89},{"$f":"DATA!$C$10","v":64},1,407.8125,407.8125,0,"","",0,"","",0,"","","","",null,{"$f":"X646","v":31},"2018-08-04",{"$f":"TEXT(Y651,\"ddd\")","v":"za"},"DD",{"$f":"IFERROR(HLOOKUP(Y651,[1]DATA!$A$1:$NB$5,3,0),\"\")","v":"D1"},null,null,null,null,{"$f":"VLOOKUP(Y651,[1]SRI!$S$4:$Z$368,6,0)","v":0},"","",""]
["31zaMD",{"$f":"VLOOKUP($AA652,DATA!$B$3:$E$6,2,0)","v":"14:30:00"},{"$f":"VLOOKUP($AA652,DATA!$B$3:$E$6,3,0)","v":"22:30:00"},{"$f":"VLOOKUP($AA652,DATA!$B$3:$E$6,4,0)","v":3.125E-2},0.30208333333333337,0.30208333333333337,{"$f":"DATA!$C$9","v":0.89},{"$f":"DATA!$C$10","v":64},1,407.81250000000006,407.81250000000006,0,"","",0,"","",0,"","","","",null,{"$f":"X646","v":31},null,{"$f":"TEXT(Y651,\"ddd\")","v":"za"},"MD",{"$f":"IFERROR(HLOOKUP(Y651,[1]DATA!$A$1:$NB$5,4,0),\"\")","v":"-"},null,null,null,null,{"$f":"VLOOKUP(Y651,[1]SRI!$S$4:$Z$368,7,0)","v":0},"","",""]
["31zaND",{"$f":"VLOOKUP($AA653,DATA!$B$3:$E$6,2,0)","v":"22:30:00"},{"$f":"VLOOKUP($AA653,DATA!$B$3:$E$6,3,0)","v":"06:30:00"},{"$f":"VLOOKUP($AA653,DATA!$B$3:$E$6,4,0)","v":3.125E-2},0.30208333333333326,0.30208333333333326,{"$f":"DATA!$C$9","v":0.89},{"$f":"DATA!$C$10","v":64},1,407.81249999999989,407.81249999999989,0,"","",0,"","",0,"","","","",null,{"$f":"X646","v":31},null,{"$f":"TEXT(Y651,\"ddd\")","v":"za"},"ND",{"$f":"IFERROR(HLOOKUP(Y651,[1]DATA!$A$1:$NB$5,5,0),\"\")","v":"-"},null,null,null,null,{"$f":"VLOOKUP(Y651,[1]SRI!$S$4:$Z$368,8,0)","v":0},"","",""]
["31zoDD",{"$f":"VLOOKUP($AA654,DATA!$B$3:$E$6,2,0)","v":"06:30:00"},{"$f":"VLOOKUP($AA654,DATA!$B$3:$E$6,3,0)","v":"14:30:00"},{"$f":"VLOOKUP($AA654,DATA!$B$3:$E$6,4,0)","v":3.125E-2},0.30208333333333331,0.30208333333333331,{"$f":"DATA!$C$9","v":0.89},{"$f":"DATA!$C$10","v":64},1,407.8125,407.8125,0,"","",0,"","",0,"","","","",null,{"$f":"X646","v":31},"2018-08-05",{"$f":"TEXT(Y654,\"ddd\")","v":"zo"},"DD",{"$f":"IFERROR(HLOOKUP(Y654,[1]DATA!$A$1:$NB$5,3,0),\"\")","v":"-"},null,null,null,null,{"$f":"VLOOKUP(Y654,[1]SRI!$S$4:$Z$368,6,0)","v":0},"","",""]
["31zoMD",{"$f":"VLOOKUP($AA655,DATA!$B$3:$E$6,2,0)","v":"14:30:00"},{"$f":"VLOOKUP($AA655,DATA!$B$3:$E$6,3,0)","v":"22:30:00"},{"$f":"VLOOKUP($AA655,DATA!$B$3:$E$6,4,0)","v":3.125E-2},0.30208333333333337,0.30208333333333337,{"$f":"DATA!$C$9","v":0.89},{"$f":"DATA!$C$10","v":64},1,407.81250000000006,407.81250000000006,0,"","",0,"","",0,"","","","",null,{"$f":"X646","v":31},null,{"$f":"TEXT(Y654,\"ddd\")","v":"zo"},"MD",{"$f":"IFERROR(HLOOKUP(Y654,[1]DATA!$A$1:$NB$5,4,0),\"\")","v":"-"},null,null,null,null,{"$f":"VLOOKUP(Y654,[1]SRI!$S$4:$Z$368,7,0)","v":0},"","",""]
["31zoZND",{"$f":"VLOOKUP($AA656,DATA!$B$3:$E$6,2,0)","v":"00:00:00"},{"$f":"VLOOKUP($AA656,DATA!$B$3:$E$6,3,0)","v":"00:00:00"},{"$f":"VLOOKUP($AA656,DATA!$B$3:$E$6,4,0)","v":3.125E-2},-3.125E-2,-3.125E-2,{"$f":"DATA!$C$9","v":0.89},{"$f":"DATA!$C$10","v":64},1,-42.1875,-42.1875,0,"","",0,"","",0,"","","","",null,{"$f":"X646","v":31},null,{"$f":"TEXT(Y654,\"ddd\")","v":"zo"},"ZND",{"$f":"IFERROR(HLOOKUP(Y654,[1]DATA!$A$1:$NB$5,5,0),\"\")","v":"-"},null,null,null,null,{"$f":"VLOOKUP(Y654,[1]SRI!$S$4:$Z$368,8,0)","v":0},"","",""]
["32maDD",{"$f":"VLOOKUP($AA657,DATA!$B$3:$E$6,2,0)","v":"06:30:00"},{"$f":"VLOOKUP($AA657,DATA!$B$3:$E$6,3,0)","v":"14:30:00"},{"$f":"VLOOKUP($AA657,DATA!$B$3:$E$6,4,0)","v":3.125E-2},0.30208333333333331,0.30208333333333331,{"$f":"DATA!$C$9","v":0.89},{"$f":"DATA!$C$10","v":64},1,407.8125,407.8125,0,"","",{"$f":"TIME(INT($AD657/60),INT(MOD($AD657,60)/1),0)","v":0},"","",0,"","","","",null,{"$f":"X667","v":32},"2018-08-06",{"$f":"TEXT(Y657,\"ddd\")","v":"ma"},"DD",{"$f":"IFERROR(HLOOKUP(Y657,[1]DATA!$A$1:$NB$5,3,0),\"\")","v":"D3"},null,null,null,null,{"$f":"VLOOKUP(Y657,[1]SRI!$S$4:$Z$368,6,0)","v":0},"","","",{"$f":"IF(SUMIF(S657:S677,\">0\",K657:K677)=0,\"\",SUMIF(S657:S677,\">0\",K657:K677))","v":""},{"$f":"IF(SUM(S657:S677)=0,\"\",SUM(S657:S677))","v":""},{"$f":"IFERROR(AL657/AK657,\"-\")","v":"-"},{"$f":"IF(SUM(M657:M677)=0,\"0\",SUM(M657:M677))","v":"0"},{"$f":"IFERROR(AN657/AK657,\"-\")","v":"-"},{"$f":"IF(SUM(P657:P677)=0,0,SUM(P657:P677))","v":0},{"$f":"IFERROR(AP657/AK657,\"-\")","v":"-"},"-",{"$f":"IFERROR(SUMIF($AB657:$AB677,AS$5,$AJ657:$AJ677)/COUNTIFS($AB657:$AB677,AS$5,$AJ657:$AJ677,\">0\"),\"\")","v":""},"","",{"$f":"IFERROR((AK657-AL657-AN657-AP657),\"-\")","v":"-"},{"$f":"IFERROR((1-AM657-AO657-AQ657), \"-\")","v":"-"},{"$f":"IFERROR((AV657*$AE$2)/60,\"-\")","v":"-"},{"$f":"IFERROR(SUM(AG657:AG677),\"\")","v":0}]
["32maMD",{"$f":"VLOOKUP($AA658,DATA!$B$3:$E$6,2,0)","v":"14:30:00"},{"$f":"VLOOKUP($AA658,DATA!$B$3:$E$6,3,0)","v":"22:30:00"},{"$f":"VLOOKUP($AA658,DATA!$B$3:$E$6,4,0)","v":3.125E-2},0.30208333333333337,0.30208333333333337,{"$f":"DATA!$C$9","v":0.89},{"$f":"DATA!$C$10","v":64},1,407.81250000000006,407.81250000000006,0,"","",{"$f":"TIME(INT(AD658/60),INT(MOD(AD658,60)/1),0)","v":0},"","",0,"","","","",null,{"$f":"X667","v":32},null,{"$f":"TEXT(Y657,\"ddd\")","v":"ma"},"MD",{"$f":"IFERROR(HLOOKUP(Y657,[1]DATA!$A$1:$NB$5,4,0),\"\")","v":"D2"},null,null,null,null,{"$f":"VLOOKUP(Y657,[1]SRI!$S$4:$Z$368,7,0)","v":0},"","",""]
["32maND",{"$f":"VLOOKUP($AA659,DATA!$B$3:$E$6,2,0)","v":"22:30:00"},{"$f":"VLOOKUP($AA659,DATA!$B$3:$E$6,3,0)","v":"06:30:00"},{"$f":"VLOOKUP($AA659,DATA!$B$3:$E$6,4,0)","v":3.125E-2},0.30208333333333326,0.30208333333333326,{"$f":"DATA!$C$9","v":0.89},{"$f":"DATA!$C$10","v":64},1,407.81249999999989,407.81249999999989,0,"","",0,"","",0,"","","","",null,{"$f":"X667","v":32},null,{"$f":"TEXT(Y657,\"ddd\")","v":"ma"},"ND",{"$f":"IFERROR(HLOOKUP(Y657,[1]DATA!$A$1:$NB$5,5,0),\"\")","v":"D1"},null,null,null,null,{"$f":"VLOOKUP(Y657,[1]SRI!$S$4:$Z$368,8,0)","v":0},"","",""]
["32diDD",{"$f":"VLOOKUP($AA660,DATA!$B$3:$E$6,2,0)","v":"06:30:00"},{"$f":"VLOOKUP($AA660,DATA!$B$3:$E$6,3,0)","v":"14:30:00"},{"$f":"VLOOKUP($AA660,DATA!$B$3:$E$6,4,0)","v":3.125E-2},0.30208333333333331,0.30208333333333331,{"$f":"DATA!$C$9","v":0.89},{"$f":"DATA!$C$10","v":64},1,407.8125,407.8125,0,"","",0,"","",0,"","","","",null,{"$f":"X667","v":32},"2018-08-07",{"$f":"TEXT(Y660,\"ddd\")","v":"di"},"DD",{"$f":"IFERROR(HLOOKUP(Y660,[1]DATA!$A$1:$NB$5,3,0),\"\")","v":"D3"},null,null,null,null,{"$f":"VLOOKUP(Y660,[1]SRI!$S$4:$Z$368,6,0)","v":0},"","",""]
["32diMD",{"$f":"VLOOKUP($AA661,DATA!$B$3:$E$6,2,0)","v":"14:30:00"},{"$f":"VLOOKUP($AA661,DATA!$B$3:$E$6,3,0)","v":"22:30:00"},{"$f":"VLOOKUP($AA661,DATA!$B$3:$E$6,4,0)","v":3.125E-2},0.30208333333333337,0.30208333333333337,{"$f":"DATA!$C$9","v":0.89},{"$f":"DATA!$C$10","v":64},1,407.81250000000006,407.81250000000006,0,"","",0,"","",0,"","","","",null,{"$f":"X667","v":32},null,{"$f":"TEXT(Y660,\"ddd\")","v":"di"},"MD",{"$f":"IFERROR(HLOOKUP(Y660,[1]DATA!$A$1:$NB$5,4,0),\"\")","v":"D2"},null,null,null,null,{"$f":"VLOOKUP(Y660,[1]SRI!$S$4:$Z$368,7,0)","v":0},"","",""]
["32diND",{"$f":"VLOOKUP($AA662,DATA!$B$3:$E$6,2,0)","v":"22:30:00"},{"$f":"VLOOKUP($AA662,DATA!$B$3:$E$6,3,0)","v":"06:30:00"},{"$f":"VLOOKUP($AA662,DATA!$B$3:$E$6,4,0)","v":3.125E-2},0.30208333333333326,0.30208333333333326,{"$f":"DATA!$C$9","v":0.89},{"$f":"DATA!$C$10","v":64},1,407.81249999999989,407.81249999999989,0,"","",0,"","",0,"","","","",null,{"$f":"X667","v":32},null,{"$f":"TEXT(Y660,\"ddd\")","v":"di"},"ND",{"$f":"IFERROR(HLOOKUP(Y660,[1]DATA!$A$1:$NB$5,5,0),\"\")","v":"D1"},null,null,null,null,{"$f":"VLOOKUP(Y660,[1]SRI!$S$4:$Z$368,8,0)","v":0},"","",""]
["32woDD",{"$f":"VLOOKUP($AA663,DATA!$B$3:$E$6,2,0)","v":"06:30:00"},{"$f":"VLOOKUP($AA663,DATA!$B$3:$E$6,3,0)","v":"14:30:00"},{"$f":"VLOOKUP($AA663,DATA!$B$3:$E$6,4,0)","v":3.125E-2},0.30208333333333331,0.30208333333333331,{"$f":"DATA!$C$9","v":0.89},{"$f":"DATA!$C$10","v":64},1,407.8125,407.8125,0,"","",0,"","",0,"","","","",null,{"$f":"X667","v":32},"2018-08-08",{"$f":"TEXT(Y663,\"ddd\")","v":"wo"},"DD",{"$f":"IFERROR(HLOOKUP(Y663,[1]DATA!$A$1:$NB$5,3,0),\"\")","v":"D3"},null,null,null,null,{"$f":"VLOOKUP(Y663,[1]SRI!$S$4:$Z$368,6,0)","v":0},"","",""]
["32woMD",{"$f":"VLOOKUP($AA664,DATA!$B$3:$E$6,2,0)","v":"14:30:00"},{"$f":"VLOOKUP($AA664,DATA!$B$3:$E$6,3,0)","v":"22:30:00"},{"$f":"VLOOKUP($AA664,DATA!$B$3:$E$6,4,0)","v":3.125E-2},0.30208333333333337,0.30208333333333337,{"$f":"DATA!$C$9","v":0.89},{"$f":"DATA!$C$10","v":64},1,407.81250000000006,407.81250000000006,0,"","",0,"","",0,"","","","",null,{"$f":"X667","v":32},null,{"$f":"TEXT(Y663,\"ddd\")","v":"wo"},"MD",{"$f":"IFERROR(HLOOKUP(Y663,[1]DATA!$A$1:$NB$5,4,0),\"\")","v":"D2"},null,null,null,null,{"$f":"VLOOKUP(Y663,[1]SRI!$S$4:$Z$368,7,0)","v":0},"","",""]
["32woND",{"$f":"VLOOKUP($AA665,DATA!$B$3:$E$6,2,0)","v":"22:30:00"},{"$f":"VLOOKUP($AA665,DATA!$B$3:$E$6,3,0)","v":"06:30:00"},{"$f":"VLOOKUP($AA665,DATA!$B$3:$E$6,4,0)","v":3.125E-2},0.30208333333333326,0.30208333333333326,{"$f":"DATA!$C$9","v":0.89},{"$f":"DATA!$C$10","v":64},1,407.81249999999989,407.81249999999989,0,"","",0,"","",0,"","","","",null,{"$f":"X667","v":32},null,{"$f":"TEXT(Y663,\"ddd\")","v":"wo"},"ND",{"$f":"IFERROR(HLOOKUP(Y663,[1]DATA!$A$1:$NB$5,5,0),\"\")","v":"D1"},null,null,null,null,{"$f":"VLOOKUP(Y663,[1]SRI!$S$4:$Z$368,8,0)","v":0},"","",""]
["32doDD",{"$f":"VLOOKUP($AA666,DATA!$B$3:$E$6,2,0)","v":"06:30:00"},{"$f":"VLOOKUP($AA666,DATA!$B$3:$E$6,3,0)","v":"14:30:00"},{"$f":"VLOOKUP($AA666,DATA!$B$3:$E$6,4,0)","v":3.125E-2},0.30208333333333331,0.30208333333333331,{"$f":"DATA!$C$9","v":0.89},{"$f":"DATA!$C$10","v":64},1,407.8125,407.8125,0,"","",0,"","",0,"","","","",null,{"$f":"X667","v":32},"2018-08-09",{"$f":"TEXT(Y666,\"ddd\")","v":"do"},"DD",{"$f":"IFERROR(HLOOKUP(Y666,[1]DATA!$A$1:$NB$5,3,0),\"\")","v":"D3"},null,null,null,null,{"$f":"VLOOKUP(Y666,[1]SRI!$S$4:$Z$368,6,0)","v":0},"","",""]
["32doMD",{"$f":"VLOOKUP($AA667,DATA!$B$3:$E$6,2,0)","v":"14:30:00"},{"$f":"VLOOKUP($AA667,DATA!$B$3:$E$6,3,0)","v":"22:30:00"},{"$f":"VLOOKUP($AA667,DATA!$B$3:$E$6,4,0)","v":3.125E-2},0.30208333333333337,0.30208333333333337,{"$f":"DATA!$C$9","v":0.89},{"$f":"DATA!$C$10","v":64},1,407.81250000000006,407.81250000000006,0,"","",0,"","",0,"","","","",null,{"$f":"WEEKNUM($Y657)","v":32},null,{"$f":"TEXT(Y666,\"ddd\")","v":"do"},"MD",{"$f":"IFERROR(HLOOKUP(Y666,[1]DATA!$A$1:$NB$5,4,0),\"\")","v":"D2"},null,null,null,null,{"$f":"VLOOKUP(Y666,[1]SRI!$S$4:$Z$368,7,0)","v":0},"","",{"$f":"IFERROR(R667/(R667+AG667),\"\")","v":""}]
["32doND",{"$f":"VLOOKUP($AA668,DATA!$B$3:$E$6,2,0)","v":"22:30:00"},{"$f":"VLOOKUP($AA668,DATA!$B$3:$E$6,3,0)","v":"06:30:00"},{"$f":"VLOOKUP($AA668,DATA!$B$3:$E$6,4,0)","v":3.125E-2},{"$f":"(C668-B668+(B668>C668))-D668","v":0.30208333333333326},{"$f":"E668-O668-L668","v":0.30208333333333326},{"$f":"DATA!$C$9","v":0.89},{"$f":"DATA!$C$10","v":64},1,{"$f":"F668*86400/H668*I668","v":407.81249999999989},{"$f":"E668*86400/H668","v":407.81249999999989},0,"","",0,"","",{"$f":"AF668*AG$2","v":0},{"$f":"IF(AF668-AE668=0,\"\",AF668-AE668)","v":""},"","","",null,{"$f":"X667","v":32},null,{"$f":"TEXT(Y666,\"ddd\")","v":"do"},"ND",{"$f":"IFERROR(HLOOKUP(Y666,[1]DATA!$A$1:$NB$5,5,0),\"\")","v":"D1"},null,null,null,null,{"$f":"VLOOKUP(Y666,[1]SRI!$S$4:$Z$368,8,0)","v":0},"","",""]
["32vrDD",{"$f":"VLOOKUP($AA669,DATA!$B$3:$E$6,2,0)","v":"06:30:00"},{"$f":"VLOOKUP($AA669,DATA!$B$3:$E$6,3,0)","v":"14:30:00"},{"$f":"VLOOKUP($AA669,DATA!$B$3:$E$6,4,0)","v":3.125E-2},0.30208333333333331,0.30208333333333331,{"$f":"DATA!$C$9","v":0.89},{"$f":"DATA!$C$10","v":64},1,407.8125,407.8125,0,"","",0,"","",0,"","","","",null,{"$f":"X667","v":32},"2018-08-10",{"$f":"TEXT(Y669,\"ddd\")","v":"vr"},"DD",{"$f":"IFERROR(HLOOKUP(Y669,[1]DATA!$A$1:$NB$5,3,0),\"\")","v":"D3"},null,null,null,null,{"$f":"VLOOKUP(Y669,[1]SRI!$S$4:$Z$368,6,0)","v":0},"","",""]
["32vrMD",{"$f":"VLOOKUP($AA670,DATA!$B$3:$E$6,2,0)","v":"14:30:00"},{"$f":"VLOOKUP($AA670,DATA!$B$3:$E$6,3,0)","v":"22:30:00"},{"$f":"VLOOKUP($AA670,DATA!$B$3:$E$6,4,0)","v":3.125E-2},0.30208333333333337,0.30208333333333337,{"$f":"DATA!$C$9","v":0.89},{"$f":"DATA!$C$10","v":64},1,407.81250000000006,407.81250000000006,0,"","",0,"","",0,"","","","",null,{"$f":"X667","v":32},null,{"$f":"TEXT(Y669,\"ddd\")","v":"vr"},"MD",{"$f":"IFERROR(HLOOKUP(Y669,[1]DATA!$A$1:$NB$5,4,0),\"\")","v":"D2"},null,null,null,null,{"$f":"VLOOKUP(Y669,[1]SRI!$S$4:$Z$368,7,0)","v":0},"","",""]
["32vrND",{"$f":"VLOOKUP($AA671,DATA!$B$3:$E$6,2,0)","v":"22:30:00"},{"$f":"VLOOKUP($AA671,DATA!$B$3:$E$6,3,0)","v":"06:30:00"},{"$f":"VLOOKUP($AA671,DATA!$B$3:$E$6,4,0)","v":3.125E-2},0.30208333333333326,0.30208333333333326,{"$f":"DATA!$C$9","v":0.89},{"$f":"DATA!$C$10","v":64},1,407.81249999999989,407.81249999999989,0,"","",0,"","",0,"","","","",null,{"$f":"X667","v":32},null,{"$f":"TEXT(Y669,\"ddd\")","v":"vr"},"ND",{"$f":"IFERROR(HLOOKUP(Y669,[1]DATA!$A$1:$NB$5,5,0),\"\")","v":"D2"},null,null,null,null,{"$f":"VLOOKUP(Y669,[1]SRI!$S$4:$Z$368,8,0)","v":0},"","",""]
["32zaDD",{"$f":"VLOOKUP($AA672,DATA!$B$3:$E$6,2,0)","v":"06:30:00"},{"$f":"VLOOKUP($AA672,DATA!$B$3:$E$6,3,0)","v":"14:30:00"},{"$f":"VLOOKUP($AA672,DATA!$B$3:$E$6,4,0)","v":3.125E-2},0.30208333333333331,0.30208333333333331,{"$f":"DATA!$C$9","v":0.89},{"$f":"DATA!$C$10","v":64},1,407.8125,407.8125,0,"","",0,"","",0,"","","","",null,{"$f":"X667","v":32},"2018-08-11",{"$f":"TEXT(Y672,\"ddd\")","v":"za"},"DD",{"$f":"IFERROR(HLOOKUP(Y672,[1]DATA!$A$1:$NB$5,3,0),\"\")","v":"D3"},null,null,null,null,{"$f":"VLOOKUP(Y672,[1]SRI!$S$4:$Z$368,6,0)","v":0},"","",""]
["32zaMD",{"$f":"VLOOKUP($AA673,DATA!$B$3:$E$6,2,0)","v":"14:30:00"},{"$f":"VLOOKUP($AA673,DATA!$B$3:$E$6,3,0)","v":"22:30:00"},{"$f":"VLOOKUP($AA673,DATA!$B$3:$E$6,4,0)","v":3.125E-2},0.30208333333333337,0.30208333333333337,{"$f":"DATA!$C$9","v":0.89},{"$f":"DATA!$C$10","v":64},1,407.81250000000006,407.81250000000006,0,"","",0,"","",0,"","","","",null,{"$f":"X667","v":32},null,{"$f":"TEXT(Y672,\"ddd\")","v":"za"},"MD",{"$f":"IFERROR(HLOOKUP(Y672,[1]DATA!$A$1:$NB$5,4,0),\"\")","v":"-"},null,null,null,null,{"$f":"VLOOKUP(Y672,[1]SRI!$S$4:$Z$368,7,0)","v":0},"","",""]
["32zaND",{"$f":"VLOOKUP($AA674,DATA!$B$3:$E$6,2,0)","v":"22:30:00"},{"$f":"VLOOKUP($AA674,DATA!$B$3:$E$6,3,0)","v":"06:30:00"},{"$f":"VLOOKUP($AA674,DATA!$B$3:$E$6,4,0)","v":3.125E-2},0.30208333333333326,0.30208333333333326,{"$f":"DATA!$C$9","v":0.89},{"$f":"DATA!$C$10","v":64},1,407.81249999999989,407.81249999999989,0,"","",0,"","",0,"","","","",null,{"$f":"X667","v":32},null,{"$f":"TEXT(Y672,\"ddd\")","v":"za"},"ND",{"$f":"IFERROR(HLOOKUP(Y672,[1]DATA!$A$1:$NB$5,5,0),\"\")","v":"-"},null,null,null,null,{"$f":"VLOOKUP(Y672,[1]SRI!$S$4:$Z$368,8,0)","v":0},"","",""]
["32zoDD",{"$f":"VLOOKUP($AA675,DATA!$B$3:$E$6,2,0)","v":"06:30:00"},{"$f":"VLOOKUP($AA675,DATA!$B$3:$E$6,3,0)","v":"14:30:00"},{"$f":"VLOOKUP($AA675,DATA!$B$3:$E$6,4,0)","v":3.125E-2},0.30208333333333331,0.30208333333333331,{"$f":"DATA!$C$9","v":0.89},{"$f":"DATA!$C$10","v":64},1,407.8125,407.8125,0,"","",0,"","",0,"","","","",null,{"$f":"X667","v":32},"2018-08-12",{"$f":"TEXT(Y675,\"ddd\")","v":"zo"},"DD",{"$f":"IFERROR(HLOOKUP(Y675,[1]DATA!$A$1:$NB$5,3,0),\"\")","v":"-"},null,null,null,null,{"$f":"VLOOKUP(Y675,[1]SRI!$S$4:$Z$368,6,0)","v":0},"","",""]
["32zoMD",{"$f":"VLOOKUP($AA676,DATA!$B$3:$E$6,2,0)","v":"14:30:00"},{"$f":"VLOOKUP($AA676,DATA!$B$3:$E$6,3,0)","v":"22:30:00"},{"$f":"VLOOKUP($AA676,DATA!$B$3:$E$6,4,0)","v":3.125E-2},0.30208333333333337,0.30208333333333337,{"$f":"DATA!$C$9","v":0.89},{"$f":"DATA!$C$10","v":64},1,407.81250000000006,407.81250000000006,0,"","",0,"","",0,"","","","",null,{"$f":"X667","v":32},null,{"$f":"TEXT(Y675,\"ddd\")","v":"zo"},"MD",{"$f":"IFERROR(HLOOKUP(Y675,[1]DATA!$A$1:$NB$5,4,0),\"\")","v":"-"},null,null,null,null,{"$f":"VLOOKUP(Y675,[1]SRI!$S$4:$Z$368,7,0)","v":0},"","",""]
["32zoZND",{"$f":"VLOOKUP($AA677,DATA!$B$3:$E$6,2,0)","v":"00:00:00"},{"$f":"VLOOKUP($AA677,DATA!$B$3:$E$6,3,0)","v":"00:00:00"},{"$f":"VLOOKUP($AA677,DATA!$B$3:$E$6,4,0)","v":3.125E-2},-3.125E-2,-3.125E-2,{"$f":"DATA!$C$9","v":0.89},{"$f":"DATA!$C$10","v":64},1,-42.1875,-42.1875,0,"","",0,"","",0,"","","","",null,{"$f":"X667","v":32},null,{"$f":"TEXT(Y675,\"ddd\")","v":"zo"},"ZND",{"$f":"IFERROR(HLOOKUP(Y675,[1]DATA!$A$1:$NB$5,5,0),\"\")","v":"-"},null,null,null,null,{"$f":"VLOOKUP(Y675,[1]SRI!$S$4:$Z$368,8,0)","v":0},"","",""]
["33maDD",{"$f":"VLOOKUP($AA678,DATA!$B$3:$E$6,2,0)","v":"06:30:00"},{"$f":"VLOOKUP($AA678,DATA!$B$3:$E$6,3,0)","v":"14:30:00"},{"$f":"VLOOKUP($AA678,DATA!$B$3:$E$6,4,0)","v":3.125E-2},0.30208333333333331,0.21944444444444444,{"$f":"DATA!$C$9","v":0.89},{"$f":"DATA!$C$10","v":64},1,296.25,407.8125,8.2638888888888887E-2,111.5625,0.27356321839080461,{"$f":"TIME(INT($AD678/60),INT(MOD($AD678,60)/1),0)","v":0},"","",301.86666666666667,264,"",264,"",null,{"$f":"X688","v":33},"2018-08-13",{"$f":"TEXT(Y678,\"ddd\")","v":"ma"},"DD",{"$f":"IFERROR(HLOOKUP(Y678,[1]DATA!$A$1:$NB$5,3,0),\"\")","v":"D2"},119,null,19,283,{"$f":"VLOOKUP(Y678,[1]SRI!$S$4:$Z$368,6,0)","v":8},-32.25,0.64735632183908043,0.97418244406196208,{"$f":"IF(SUMIF(S678:S698,\">0\",K678:K698)=0,\"\",SUMIF(S678:S698,\">0\",K678:K698))","v":6117.1875},{"$f":"IF(SUM(S678:S698)=0,\"\",SUM(S678:S698))","v":3859},{"$f":"IFERROR(AL678/AK678,\"-\")","v":0.63084546615581094},{"$f":"IF(SUM(M678:M698)=0,\"0\",SUM(M678:M698))","v":1863.75},{"$f":"IFERROR(AN678/AK678,\"-\")","v":0.3046743295019157},{"$f":"IF(SUM(P678:P698)=0,0,SUM(P678:P698))","v":0},{"$f":"IFERROR(AP678/AK678,\"-\")","v":0},{"$f":"IFERROR(AVERAGE(AJ678:AJ698),\"-\")","v":0.97874324412941727},{"$f":"IFERROR(SUMIF($AB678:$AB698,AS$5,$AJ678:$AJ698)/COUNTIFS($AB678:$AB698,AS$5,$AJ678:$AJ698,\">0\"),\"\")","v":0.97862547944525391},0.98068542922454693,0.97597717234192738,{"$f":"IFERROR((AK678-AL678-AN678-AP678),\"-\")","v":394.4375},{"$f":"IFERROR((1-AM678-AO678-AQ678), \"-\")","v":6.4480204342273362E-2},{"$f":"IFERROR((AV678*$AE$2)/60,\"-\")","v":420.73333333333335},{"$f":"IFERROR(SUM(AG678:AG698),\"\")","v":100}]
["33maMD",{"$f":"VLOOKUP($AA679,DATA!$B$3:$E$6,2,0)","v":"14:30:00"},{"$f":"VLOOKUP($AA679,DATA!$B$3:$E$6,3,0)","v":"22:30:00"},{"$f":"VLOOKUP($AA679,DATA!$B$3:$E$6,4,0)","v":3.125E-2},0.30208333333333337,0.17777777777777781,{"$f":"DATA!$C$9","v":0.89},{"$f":"DATA!$C$10","v":64},1,240.00000000000006,407.81250000000006,0.12430555555555556,167.8125,0.41149425287356317,{"$f":"TIME(INT(AD679/60),INT(MOD(AD679,60)/1),0)","v":0},"","",280.5333333333333,247,247,"","",null,{"$f":"X688","v":33},null,{"$f":"TEXT(Y678,\"ddd\")","v":"ma"},"MD",{"$f":"IFERROR(HLOOKUP(Y678,[1]DATA!$A$1:$NB$5,4,0),\"\")","v":"D1"},179,null,16,263,{"$f":"VLOOKUP(Y678,[1]SRI!$S$4:$Z$368,7,0)","v":0},6.9999999999999432,0.60567049808429108,1]
["33maND",{"$f":"VLOOKUP($AA680,DATA!$B$3:$E$6,2,0)","v":"22:30:00"},{"$f":"VLOOKUP($AA680,DATA!$B$3:$E$6,3,0)","v":"06:30:00"},{"$f":"VLOOKUP($AA680,DATA!$B$3:$E$6,4,0)","v":3.125E-2},0.30208333333333326,0.2402777777777777,{"$f":"DATA!$C$9","v":0.89},{"$f":"DATA!$C$10","v":64},1,324.37499999999989,407.81249999999989,6.1805555555555558E-2,83.4375,0.20459770114942535,0,"","",309.33333333333331,282,"","",282,null,{"$f":"X688","v":33},null,{"$f":"TEXT(Y678,\"ddd\")","v":"ma"},"ND",{"$f":"IFERROR(HLOOKUP(Y678,[1]DATA!$A$1:$NB$5,5,0),\"\")","v":"D3"},89,null,8,290,{"$f":"VLOOKUP(Y678,[1]SRI!$S$4:$Z$368,8,0)","v":20},-42.374999999999886,0.69149425287356336,0.93927125506072873]
["33diDD",{"$f":"VLOOKUP($AA681,DATA!$B$3:$E$6,2,0)","v":"06:30:00"},{"$f":"VLOOKUP($AA681,DATA!$B$3:$E$6,3,0)","v":"14:30:00"},{"$f":"VLOOKUP($AA681,DATA!$B$3:$E$6,4,0)","v":3.125E-2},0.30208333333333331,0.26041666666666663,{"$f":"DATA!$C$9","v":0.89},{"$f":"DATA!$C$10","v":64},1,351.56249999999994,407.8125,4.1666666666666664E-2,56.25,0.13793103448275862,0,"","",332.8,283,"",283,"",null,{"$f":"X688","v":33},"2018-08-14",{"$f":"TEXT(Y681,\"ddd\")","v":"di"},"DD",{"$f":"IFERROR(HLOOKUP(Y681,[1]DATA!$A$1:$NB$5,3,0),\"\")","v":"D2"},60,null,29,312,{"$f":"VLOOKUP(Y681,[1]SRI!$S$4:$Z$368,6,0)","v":12},-68.562499999999943,0.69394636015325672,0.96519721577726214]
["33diMD",{"$f":"VLOOKUP($AA682,DATA!$B$3:$E$6,2,0)","v":"14:30:00"},{"$f":"VLOOKUP($AA682,DATA!$B$3:$E$6,3,0)","v":"22:30:00"},{"$f":"VLOOKUP($AA682,DATA!$B$3:$E$6,4,0)","v":3.125E-2},0.30208333333333337,0.1590277777777778,{"$f":"DATA!$C$9","v":0.89},{"$f":"DATA!$C$10","v":64},1,214.68750000000003,407.81250000000006,0.14305555555555557,193.12500000000003,0.47356321839080462,0,"","",260.26666666666665,224,224,"","",null,{"$f":"X688","v":33},null,{"$f":"TEXT(Y681,\"ddd\")","v":"di"},"MD",{"$f":"IFERROR(HLOOKUP(Y681,[1]DATA!$A$1:$NB$5,4,0),\"\")","v":"D1"},206,null,20,244,{"$f":"VLOOKUP(Y681,[1]SRI!$S$4:$Z$368,7,0)","v":3},9.3124999999999716,0.54927203065134089,0.98860471005317807]
["33diND",{"$f":"VLOOKUP($AA683,DATA!$B$3:$E$6,2,0)","v":"22:30:00"},{"$f":"VLOOKUP($AA683,DATA!$B$3:$E$6,3,0)","v":"06:30:00"},{"$f":"VLOOKUP($AA683,DATA!$B$3:$E$6,4,0)","v":3.125E-2},0.30208333333333326,0.17847222222222214,{"$f":"DATA!$C$9","v":0.89},{"$f":"DATA!$C$10","v":64},1,240.93749999999989,407.81249999999989,0.12361111111111112,166.875,0.40919540229885071,0,"","",283.73333333333335,241,"","",241,null,{"$f":"X688","v":33},null,{"$f":"TEXT(Y681,\"ddd\")","v":"di"},"ND",{"$f":"IFERROR(HLOOKUP(Y681,[1]DATA!$A$1:$NB$5,5,0),\"\")","v":"D3"},178,null,25,266,{"$f":"VLOOKUP(Y681,[1]SRI!$S$4:$Z$368,8,0)","v":0},6.2500000000113687E-2,0.59095785440613047,1]
["33woDD",{"$f":"VLOOKUP($AA684,DATA!$B$3:$E$6,2,0)","v":"06:30:00"},{"$f":"VLOOKUP($AA684,DATA!$B$3:$E$6,3,0)","v":"14:30:00"},{"$f":"VLOOKUP($AA684,DATA!$B$3:$E$6,4,0)","v":3.125E-2},0.30208333333333331,0.17986111111111108,{"$f":"DATA!$C$9","v":0.89},{"$f":"DATA!$C$10","v":64},1,242.81249999999997,407.8125,0.12222222222222223,165,0.40459770114942528,0,"","",274.13333333333333,240,"",240,"",null,{"$f":"X688","v":33},"2018-08-15",{"$f":"TEXT(Y684,\"ddd\")","v":"wo"},"DD",{"$f":"IFERROR(HLOOKUP(Y684,[1]DATA!$A$1:$NB$5,3,0),\"\")","v":"D2"},176,null,17,257,{"$f":"VLOOKUP(Y684,[1]SRI!$S$4:$Z$368,6,0)","v":12},-2.8124999999999716,0.58850574712643677,0.95806150978564775]
["33woMD",{"$f":"VLOOKUP($AA685,DATA!$B$3:$E$6,2,0)","v":"14:30:00"},{"$f":"VLOOKUP($AA685,DATA!$B$3:$E$6,3,0)","v":"22:30:00"},{"$f":"VLOOKUP($AA685,DATA!$B$3:$E$6,4,0)","v":3.125E-2},0.30208333333333337,0.28125000000000006,{"$f":"DATA!$C$9","v":0.89},{"$f":"DATA!$C$10","v":64},1,379.68750000000006,407.81250000000006,2.0833333333333332E-2,28.125,6.8965517241379296E-2,0,"","",347.73333333333335,318,318,"","",null,{"$f":"X688","v":33},null,{"$f":"TEXT(Y684,\"ddd\")","v":"wo"},"MD",{"$f":"IFERROR(HLOOKUP(Y684,[1]DATA!$A$1:$NB$5,4,0),\"\")","v":"D1"},30,null,8,326,{"$f":"VLOOKUP(Y684,[1]SRI!$S$4:$Z$368,7,0)","v":19},-61.687500000000057,0.77977011494252868,0.9481912379567351]
["33woND",{"$f":"VLOOKUP($AA686,DATA!$B$3:$E$6,2,0)","v":"22:30:00"},{"$f":"VLOOKUP($AA686,DATA!$B$3:$E$6,3,0)","v":"06:30:00"},{"$f":"VLOOKUP($AA686,DATA!$B$3:$E$6,4,0)","v":3.125E-2},0.30208333333333326,0.2541666666666666,{"$f":"DATA!$C$9","v":0.89},{"$f":"DATA!$C$10","v":64},1,343.12499999999989,407.81249999999989,4.7916666666666663E-2,64.6875,0.15862068965517245,0,"","",377.6,338,"","",338,null,{"$f":"X688","v":33},null,{"$f":"TEXT(Y684,\"ddd\")","v":"wo"},"ND",{"$f":"IFERROR(HLOOKUP(Y684,[1]DATA!$A$1:$NB$5,5,0),\"\")","v":"D3"},69,null,16,354,{"$f":"VLOOKUP(Y684,[1]SRI!$S$4:$Z$368,8,0)","v":6},-5.1249999999998863,0.82881226053639867,0.98435870698644423]
["33doDD",{"$f":"VLOOKUP($AA687,DATA!$B$3:$E$6,2,0)","v":"06:30:00"},{"$f":"VLOOKUP($AA687,DATA!$B$3:$E$6,3,0)","v":"14:30:00"},{"$f":"VLOOKUP($AA687,DATA!$B$3:$E$6,4,0)","v":3.125E-2},0.30208333333333331,0.12986111111111107,{"$f":"DATA!$C$9","v":0.89},{"$f":"DATA!$C$10","v":64},1,175.31249999999994,407.8125,0.17222222222222225,232.50000000000003,0.57011494252873574,0,"","",235.73333333333332,195,"",195,"",null,{"$f":"X688","v":33},"2018-08-16",{"$f":"TEXT(Y687,\"ddd\")","v":"do"},"DD",{"$f":"IFERROR(HLOOKUP(Y687,[1]DATA!$A$1:$NB$5,3,0),\"\")","v":"D2"},248,null,26,221,{"$f":"VLOOKUP(Y687,[1]SRI!$S$4:$Z$368,6,0)","v":0},19.687500000000057,0.47816091954022988,1]
[{"$f":"X688&Z688&AA688","v":"33doMD"},{"$f":"VLOOKUP($AA688,DATA!$B$3:$E$6,2,0)","v":"14:30:00"},{"$f":"VLOOKUP($AA688,DATA!$B$3:$E$6,3,0)","v":"22:30:00"},{"$f":"VLOOKUP($AA688,DATA!$B$3:$E$6,4,0)","v":3.125E-2},0.30208333333333337,0.21319444444444446,{"$f":"DATA!$C$9","v":0.89},{"$f":"DATA!$C$10","v":64},1,287.8125,407.81250000000006,8.8888888888888892E-2,120,0.29425287356321833,0,{"$f":"IF($O688*86400/$H688=0,\"\",$O688*86400/$H688)","v":""},"",248.53333333333333,213,213,"","",null,{"$f":"WEEKNUM($Y678)","v":33},null,{"$f":"TEXT(Y687,\"ddd\")","v":"do"},"MD",{"$f":"IFERROR(HLOOKUP(Y687,[1]DATA!$A$1:$NB$5,4,0),\"\")","v":"D1"},128,null,20,233,{"$f":"VLOOKUP(Y687,[1]SRI!$S$4:$Z$368,7,0)","v":7},-74.8125,0.52229885057471259,0.97260631359248628]
["33doND",{"$f":"VLOOKUP($AA689,DATA!$B$3:$E$6,2,0)","v":"22:30:00"},{"$f":"VLOOKUP($AA689,DATA!$B$3:$E$6,3,0)","v":"06:30:00"},{"$f":"VLOOKUP($AA689,DATA!$B$3:$E$6,4,0)","v":3.125E-2},0.30208333333333326,0.14444444444444438,{"$f":"DATA!$C$9","v":0.89},{"$f":"DATA!$C$10","v":64},1,194.99999999999991,407.81249999999989,0.15763888888888888,212.8125,0.52183908045977023,0,"","",248.53333333333333,213,"","",213,null,{"$f":"X688","v":33},null,{"$f":"TEXT(Y687,\"ddd\")","v":"do"},"ND",{"$f":"IFERROR(HLOOKUP(Y687,[1]DATA!$A$1:$NB$5,5,0),\"\")","v":"D3"},227,null,20,233,{"$f":"VLOOKUP(Y687,[1]SRI!$S$4:$Z$368,8,0)","v":5},18.000000000000085,0.52229885057471281,0.98027872732053645]
["33vrDD",{"$f":"VLOOKUP($AA690,DATA!$B$3:$E$6,2,0)","v":"06:30:00"},{"$f":"VLOOKUP($AA690,DATA!$B$3:$E$6,3,0)","v":"14:30:00"},{"$f":"VLOOKUP($AA690,DATA!$B$3:$E$6,4,0)","v":3.125E-2},0.30208333333333331,0.25694444444444442,{"$f":"DATA!$C$9","v":0.89},{"$f":"DATA!$C$10","v":64},1,346.87499999999994,407.8125,4.5138888888888888E-2,60.9375,0.14942528735632185,0,"","",370.13333333333333,324,"",324,"",null,{"$f":"X688","v":33},"2018-08-17",{"$f":"TEXT(Y690,\"ddd\")","v":"vr"},"DD",{"$f":"IFERROR(HLOOKUP(Y690,[1]DATA!$A$1:$NB$5,3,0),\"\")","v":"D2"},65,null,23,347,{"$f":"VLOOKUP(Y690,[1]SRI!$S$4:$Z$368,6,0)","v":5},-22.874999999999943,0.79448275862068962,0.98667140572240986]
["33vrMD",{"$f":"VLOOKUP($AA691,DATA!$B$3:$E$6,2,0)","v":"14:30:00"},{"$f":"VLOOKUP($AA691,DATA!$B$3:$E$6,3,0)","v":"22:30:00"},{"$f":"VLOOKUP($AA691,DATA!$B$3:$E$6,4,0)","v":3.125E-2},0.30208333333333337,0.17152777777777781,{"$f":"DATA!$C$9","v":0.89},{"$f":"DATA!$C$10","v":64},1,231.56250000000003,407.81250000000006,0.13055555555555556,176.25,0.43218390804597695,0,"","",181.33333333333334,170,170,"","",null,{"$f":"X688","v":33},null,{"$f":"TEXT(Y690,\"ddd\")","v":"vr"},"MD",{"$f":"IFERROR(HLOOKUP(Y690,[1]DATA!$A$1:$NB$5,4,0),\"\")","v":"D1"},188,null,0,170,{"$f":"VLOOKUP(Y690,[1]SRI!$S$4:$Z$368,7,0)","v":3},-61.562500000000028,0.41685823754789264,0.98372513562386976]
["33vrND",{"$f":"VLOOKUP($AA692,DATA!$B$3:$E$6,2,0)","v":"22:30:00"},{"$f":"VLOOKUP($AA692,DATA!$B$3:$E$6,3,0)","v":"06:30:00"},{"$f":"VLOOKUP($AA692,DATA!$B$3:$E$6,4,0)","v":3.125E-2},0.30208333333333326,0.30208333333333326,{"$f":"DATA!$C$9","v":0.89},{"$f":"DATA!$C$10","v":64},1,407.81249999999989,407.81249999999989,0,"","",0,"","",0,"","","","",null,{"$f":"X688","v":33},null,{"$f":"TEXT(Y690,\"ddd\")","v":"vr"},"ND",{"$f":"IFERROR(HLOOKUP(Y690,[1]DATA!$A$1:$NB$5,5,0),\"\")","v":"D3"},0,null,0,0,{"$f":"VLOOKUP(Y690,[1]SRI!$S$4:$Z$368,8,0)","v":0},"","",""]
["33zaDD",{"$f":"VLOOKUP($AA693,DATA!$B$3:$E$6,2,0)","v":"06:30:00"},{"$f":"VLOOKUP($AA693,DATA!$B$3:$E$6,3,0)","v":"14:30:00"},{"$f":"VLOOKUP($AA693,DATA!$B$3:$E$6,4,0)","v":3.125E-2},0.30208333333333331,0.28402777777777777,{"$f":"DATA!$C$9","v":0.89},{"$f":"DATA!$C$10","v":64},1,383.4375,407.8125,1.8055555555555557E-2,24.375000000000004,5.9770114942528742E-2,0,"","",339.2,307,"",307,"",null,{"$f":"X688","v":33},"2018-08-18",{"$f":"TEXT(Y693,\"ddd\")","v":"za"},"DD",{"$f":"IFERROR(HLOOKUP(Y693,[1]DATA!$A$1:$NB$5,3,0),\"\")","v":"D2"},26,null,11,318,{"$f":"VLOOKUP(Y693,[1]SRI!$S$4:$Z$368,6,0)","v":0},-76.4375,0.75279693486590038,1]
["33zaMD",{"$f":"VLOOKUP($AA694,DATA!$B$3:$E$6,2,0)","v":"14:30:00"},{"$f":"VLOOKUP($AA694,DATA!$B$3:$E$6,3,0)","v":"22:30:00"},{"$f":"VLOOKUP($AA694,DATA!$B$3:$E$6,4,0)","v":3.125E-2},0.30208333333333337,0.30208333333333337,{"$f":"DATA!$C$9","v":0.89},{"$f":"DATA!$C$10","v":64},1,407.81250000000006,407.81250000000006,0,"","",0,"","",0,"","","","",null,{"$f":"X688","v":33},null,{"$f":"TEXT(Y693,\"ddd\")","v":"za"},"MD",{"$f":"IFERROR(HLOOKUP(Y693,[1]DATA!$A$1:$NB$5,4,0),\"\")","v":"-"},null,null,null,null,{"$f":"VLOOKUP(Y693,[1]SRI!$S$4:$Z$368,7,0)","v":0},"","",""]
["33zaND",{"$f":"VLOOKUP($AA695,DATA!$B$3:$E$6,2,0)","v":"22:30:00"},{"$f":"VLOOKUP($AA695,DATA!$B$3:$E$6,3,0)","v":"06:30:00"},{"$f":"VLOOKUP($AA695,DATA!$B$3:$E$6,4,0)","v":3.125E-2},0.30208333333333326,0.30208333333333326,{"$f":"DATA!$C$9","v":0.89},{"$f":"DATA!$C$10","v":64},1,407.81249999999989,407.81249999999989,0,"","",0,"","",0,"","","","",null,{"$f":"X688","v":33},null,{"$f":"TEXT(Y693,\"ddd\")","v":"za"},"ND",{"$f":"IFERROR(HLOOKUP(Y693,[1]DATA!$A$1:$NB$5,5,0),\"\")","v":"-"},null,null,null,null,{"$f":"VLOOKUP(Y693,[1]SRI!$S$4:$Z$368,8,0)","v":0},"","",""]
["33zoDD",{"$f":"VLOOKUP($AA696,DATA!$B$3:$E$6,2,0)","v":"06:30:00"},{"$f":"VLOOKUP($AA696,DATA!$B$3:$E$6,3,0)","v":"14:30:00"},{"$f":"VLOOKUP($AA696,DATA!$B$3:$E$6,4,0)","v":3.125E-2},0.30208333333333331,0.30208333333333331,{"$f":"DATA!$C$9","v":0.89},{"$f":"DATA!$C$10","v":64},1,407.8125,407.8125,0,"","",0,"","",0,"","","","",null,{"$f":"X688","v":33},{"$f":"Y693+1","v":"2018-08-19"},{"$f":"TEXT(Y696,\"ddd\")","v":"zo"},"DD",{"$f":"IFERROR(HLOOKUP(Y696,[1]DATA!$A$1:$NB$5,3,0),\"\")","v":"-"},null,null,null,null,{"$f":"VLOOKUP(Y696,[1]SRI!$S$4:$Z$368,6,0)","v":0},"","",""]
["33zoMD",{"$f":"VLOOKUP($AA697,DATA!$B$3:$E$6,2,0)","v":"14:30:00"},{"$f":"VLOOKUP($AA697,DATA!$B$3:$E$6,3,0)","v":"22:30:00"},{"$f":"VLOOKUP($AA697,DATA!$B$3:$E$6,4,0)","v":3.125E-2},0.30208333333333337,0.30208333333333337,{"$f":"DATA!$C$9","v":0.89},{"$f":"DATA!$C$10","v":64},1,407.81250000000006,407.81250000000006,0,"","",0,"","",0,"","","","",null,{"$f":"X688","v":33},null,{"$f":"TEXT(Y696,\"ddd\")","v":"zo"},"MD",{"$f":"IFERROR(HLOOKUP(Y696,[1]DATA!$A$1:$NB$5,4,0),\"\")","v":"-"},null,null,null,null,{"$f":"VLOOKUP(Y696,[1]SRI!$S$4:$Z$368,7,0)","v":0},"","",""]
["33zoZND",{"$f":"VLOOKUP($AA698,DATA!$B$3:$E$6,2,0)","v":"00:00:00"},{"$f":"VLOOKUP($AA698,DATA!$B$3:$E$6,3,0)","v":"00:00:00"},{"$f":"VLOOKUP($AA698,DATA!$B$3:$E$6,4,0)","v":3.125E-2},-3.125E-2,-3.125E-2,{"$f":"DATA!$C$9","v":0.89},{"$f":"DATA!$C$10","v":64},1,-42.1875,-42.1875,0,"","",0,"","",0,"","","","",null,{"$f":"X688","v":33},null,{"$f":"TEXT(Y696,\"ddd\")","v":"zo"},"ZND",{"$f":"IFERROR(HLOOKUP(Y696,[1]DATA!$A$1:$NB$5,5,0),\"\")","v":"-"},null,null,null,null,{"$f":"VLOOKUP(Y696,[1]SRI!$S$4:$Z$368,8,0)","v":0},"","",""]
["34maDD",{"$f":"VLOOKUP($AA699,DATA!$B$3:$E$6,2,0)","v":"06:30:00"},{"$f":"VLOOKUP($AA699,DATA!$B$3:$E$6,3,0)","v":"14:30:00"},{"$f":"VLOOKUP($AA699,DATA!$B$3:$E$6,4,0)","v":3.125E-2},0.30208333333333331,0.23124999999999998,{"$f":"DATA!$C$9","v":0.89},{"$f":"DATA!$C$10","v":64},1,312.1875,407.8125,7.0833333333333331E-2,95.625,0.23448275862068965,{"$f":"TIME(INT($AD699/60),INT(MOD($AD699,60)/1),0)","v":0},"","",345.6,307,307,"","",null,{"$f":"X709","v":34},"2018-08-20",{"$f":"TEXT(Y699,\"ddd\")","v":"ma"},"DD",{"$f":"IFERROR(HLOOKUP(Y699,[1]DATA!$A$1:$NB$5,3,0),\"\")","v":"D1"},102,null,17,324,{"$f":"VLOOKUP(Y699,[1]SRI!$S$4:$Z$368,6,0)","v":0},-5.1875,0.75279693486590038,1,{"$f":"IF(SUMIF(S699:S719,\">0\",K699:K719)=0,\"\",SUMIF(S699:S719,\">0\",K699:K719))","v":6117.1875},{"$f":"IF(SUM(S699:S719)=0,\"\",SUM(S699:S719))","v":4382},{"$f":"IFERROR(AL699/AK699,\"-\")","v":0.71634227330779054},{"$f":"IF(SUM(M699:M719)=0,\"0\",SUM(M699:M719))","v":1626.5625},{"$f":"IFERROR(AN699/AK699,\"-\")","v":0.26590038314176245},{"$f":"IF(SUM(P699:P719)=0,0,SUM(P699:P719))","v":0},{"$f":"IFERROR(AP699/AK699,\"-\")","v":0},0.9780810175052489,{"$f":"IFERROR(SUMIF($AB699:$AB719,AS$5,$AJ699:$AJ719)/COUNTIFS($AB699:$AB719,AS$5,$AJ699:$AJ719,\">0\"),\"\")","v":0.98625002881820301},0.97022209356036038,0.97777093013718352,{"$f":"IFERROR((AK699-AL699-AN699-AP699),\"-\")","v":108.625},{"$f":"IFERROR((1-AM699-AO699-AQ699), \"-\")","v":1.7757343550447002E-2},{"$f":"IFERROR((AV699*$AE$2)/60,\"-\")","v":115.86666666666666},{"$f":"IFERROR(SUM(AG699:AG719),\"\")","v":105}]
["34maMD",{"$f":"VLOOKUP($AA700,DATA!$B$3:$E$6,2,0)","v":"14:30:00"},{"$f":"VLOOKUP($AA700,DATA!$B$3:$E$6,3,0)","v":"22:30:00"},{"$f":"VLOOKUP($AA700,DATA!$B$3:$E$6,4,0)","v":3.125E-2},0.30208333333333337,0.22291666666666671,{"$f":"DATA!$C$9","v":0.89},{"$f":"DATA!$C$10","v":64},1,300.93750000000006,407.81250000000006,7.9166666666666663E-2,106.875,0.26206896551724135,{"$f":"TIME(INT(AD700/60),INT(MOD(AD700,60)/1),0)","v":0},"","",345.6,307,"","",307,null,{"$f":"X709","v":34},null,{"$f":"TEXT(Y699,\"ddd\")","v":"ma"},"MD",{"$f":"IFERROR(HLOOKUP(Y699,[1]DATA!$A$1:$NB$5,4,0),\"\")","v":"D3"},114,null,17,324,{"$f":"VLOOKUP(Y699,[1]SRI!$S$4:$Z$368,7,0)","v":3},6.0624999999999432,0.75279693486590027,0.99139414802065406]
["34maND",{"$f":"VLOOKUP($AA701,DATA!$B$3:$E$6,2,0)","v":"22:30:00"},{"$f":"VLOOKUP($AA701,DATA!$B$3:$E$6,3,0)","v":"06:30:00"},{"$f":"VLOOKUP($AA701,DATA!$B$3:$E$6,4,0)","v":3.125E-2},0.30208333333333326,0.13263888888888883,{"$f":"DATA!$C$9","v":0.89},{"$f":"DATA!$C$10","v":64},1,179.06249999999991,407.81249999999989,0.16944444444444443,228.74999999999997,0.56091954022988511,0,"","",221.86666666666667,187,"",187,"",null,{"$f":"X709","v":34},null,{"$f":"TEXT(Y699,\"ddd\")","v":"ma"},"ND",{"$f":"IFERROR(HLOOKUP(Y699,[1]DATA!$A$1:$NB$5,5,0),\"\")","v":"D2"},244,null,21,208,{"$f":"VLOOKUP(Y699,[1]SRI!$S$4:$Z$368,8,0)","v":26},7.9375000000000853,0.4585440613026821,0.8951048951048951]
["34diDD",{"$f":"VLOOKUP($AA702,DATA!$B$3:$E$6,2,0)","v":"06:30:00"},{"$f":"VLOOKUP($AA702,DATA!$B$3:$E$6,3,0)","v":"14:30:00"},{"$f":"VLOOKUP($AA702,DATA!$B$3:$E$6,4,0)","v":3.125E-2},0.30208333333333331,0.24027777777777776,{"$f":"DATA!$C$9","v":0.89},{"$f":"DATA!$C$10","v":64},1,324.375,407.8125,6.1805555555555558E-2,83.4375,0.2045977011494253,0,"","",339.2,297,297,"","",null,{"$f":"X709","v":34},"2018-08-21",{"$f":"TEXT(Y702,\"ddd\")","v":"di"},"DD",{"$f":"IFERROR(HLOOKUP(Y702,[1]DATA!$A$1:$NB$5,3,0),\"\")","v":"D1"},89,null,21,318,{"$f":"VLOOKUP(Y702,[1]SRI!$S$4:$Z$368,6,0)","v":17},-27.375,0.72827586206896555,0.9522740033688939]
["34diMD",{"$f":"VLOOKUP($AA703,DATA!$B$3:$E$6,2,0)","v":"14:30:00"},{"$f":"VLOOKUP($AA703,DATA!$B$3:$E$6,3,0)","v":"22:30:00"},{"$f":"VLOOKUP($AA703,DATA!$B$3:$E$6,4,0)","v":3.125E-2},0.30208333333333337,0.24444444444444449,{"$f":"DATA!$C$9","v":0.89},{"$f":"DATA!$C$10","v":64},1,330.00000000000006,407.81250000000006,5.7638888888888885E-2,77.8125,0.19080459770114941,0,"","",311.46666666666664,284,"","",284,null,{"$f":"X709","v":34},null,{"$f":"TEXT(Y702,\"ddd\")","v":"di"},"MD",{"$f":"IFERROR(HLOOKUP(Y702,[1]DATA!$A$1:$NB$5,4,0),\"\")","v":"D3"},83,null,8,292,{"$f":"VLOOKUP(Y702,[1]SRI!$S$4:$Z$368,7,0)","v":19},-46.000000000000057,0.69639846743295009,0.9425055477103087]
["34diND",{"$f":"VLOOKUP($AA704,DATA!$B$3:$E$6,2,0)","v":"22:30:00"},{"$f":"VLOOKUP($AA704,DATA!$B$3:$E$6,3,0)","v":"06:30:00"},{"$f":"VLOOKUP($AA704,DATA!$B$3:$E$6,4,0)","v":3.125E-2},0.30208333333333326,0.22499999999999992,{"$f":"DATA!$C$9","v":0.89},{"$f":"DATA!$C$10","v":64},1,303.74999999999989,407.81249999999989,7.7083333333333337E-2,104.0625,0.25517241379310351,0,"","",362.66666666666669,316,"",316,"",null,{"$f":"X709","v":34},null,{"$f":"TEXT(Y702,\"ddd\")","v":"di"},"ND",{"$f":"IFERROR(HLOOKUP(Y702,[1]DATA!$A$1:$NB$5,5,0),\"\")","v":"D2"},111,null,24,340,{"$f":"VLOOKUP(Y702,[1]SRI!$S$4:$Z$368,8,0)","v":4},12.250000000000114,0.77486590038314196,0.98909090909090913]
["34woDD",{"$f":"VLOOKUP($AA705,DATA!$B$3:$E$6,2,0)","v":"06:30:00"},{"$f":"VLOOKUP($AA705,DATA!$B$3:$E$6,3,0)","v":"14:30:00"},{"$f":"VLOOKUP($AA705,DATA!$B$3:$E$6,4,0)","v":3.125E-2},0.30208333333333331,0.27847222222222223,{"$f":"DATA!$C$9","v":0.89},{"$f":"DATA!$C$10","v":64},1,375.9375,407.8125,2.361111111111111E-2,31.875,7.8160919540229884E-2,0,"","",398.93333333333334,352,352,"","",null,{"$f":"X709","v":34},"2018-08-22",{"$f":"TEXT(Y705,\"ddd\")","v":"wo"},"DD",{"$f":"IFERROR(HLOOKUP(Y705,[1]DATA!$A$1:$NB$5,3,0),\"\")","v":"D1"},34,null,22,374,{"$f":"VLOOKUP(Y705,[1]SRI!$S$4:$Z$368,6,0)","v":3},-23.9375,0.86314176245210728,0.99253607563443358]
["34woMD",{"$f":"VLOOKUP($AA706,DATA!$B$3:$E$6,2,0)","v":"14:30:00"},{"$f":"VLOOKUP($AA706,DATA!$B$3:$E$6,3,0)","v":"22:30:00"},{"$f":"VLOOKUP($AA706,DATA!$B$3:$E$6,4,0)","v":3.125E-2},0.30208333333333337,0.13750000000000004,{"$f":"DATA!$C$9","v":0.89},{"$f":"DATA!$C$10","v":64},1,185.62500000000006,407.81250000000006,0.16458333333333333,222.1875,0.54482758620689653,0,"","",224,194,"","",194,null,{"$f":"X709","v":34},null,{"$f":"TEXT(Y705,\"ddd\")","v":"wo"},"MD",{"$f":"IFERROR(HLOOKUP(Y705,[1]DATA!$A$1:$NB$5,4,0),\"\")","v":"D3"},237,null,16,210,{"$f":"VLOOKUP(Y705,[1]SRI!$S$4:$Z$368,7,0)","v":0},8.3749999999999432,0.47570881226053635,1]
["34woND",{"$f":"VLOOKUP($AA707,DATA!$B$3:$E$6,2,0)","v":"22:30:00"},{"$f":"VLOOKUP($AA707,DATA!$B$3:$E$6,3,0)","v":"06:30:00"},{"$f":"VLOOKUP($AA707,DATA!$B$3:$E$6,4,0)","v":3.125E-2},0.30208333333333326,0.21180555555555547,{"$f":"DATA!$C$9","v":0.89},{"$f":"DATA!$C$10","v":64},1,285.93749999999989,407.81249999999989,9.0277777777777776E-2,121.875,0.29885057471264376,0,"","",354.13333333333333,296,"",296,"",null,{"$f":"X709","v":34},null,{"$f":"TEXT(Y705,\"ddd\")","v":"wo"},"ND",{"$f":"IFERROR(HLOOKUP(Y705,[1]DATA!$A$1:$NB$5,5,0),\"\")","v":"D2"},130,null,36,332,{"$f":"VLOOKUP(Y705,[1]SRI!$S$4:$Z$368,8,0)","v":9},10.062500000000114,0.72582375478927219,0.97521571507251703]
["34doDD",{"$f":"VLOOKUP($AA708,DATA!$B$3:$E$6,2,0)","v":"06:30:00"},{"$f":"VLOOKUP($AA708,DATA!$B$3:$E$6,3,0)","v":"14:30:00"},{"$f":"VLOOKUP($AA708,DATA!$B$3:$E$6,4,0)","v":3.125E-2},0.30208333333333331,0.21111111111111108,{"$f":"DATA!$C$9","v":0.89},{"$f":"DATA!$C$10","v":64},1,284.99999999999994,407.8125,9.0972222222222218E-2,122.8125,0.30114942528735633,0,"","",328.5333333333333,293,293,"","",null,{"$f":"X709","v":34},"2018-08-23",{"$f":"TEXT(Y708,\"ddd\")","v":"do"},"DD",{"$f":"IFERROR(HLOOKUP(Y708,[1]DATA!$A$1:$NB$5,3,0),\"\")","v":"D1"},131,null,15,308,{"$f":"VLOOKUP(Y708,[1]SRI!$S$4:$Z$368,6,0)","v":0},8.0000000000000568,0.71846743295019155,1]
["34doMD",{"$f":"VLOOKUP($AA709,DATA!$B$3:$E$6,2,0)","v":"14:30:00"},{"$f":"VLOOKUP($AA709,DATA!$B$3:$E$6,3,0)","v":"22:30:00"},{"$f":"VLOOKUP($AA709,DATA!$B$3:$E$6,4,0)","v":3.125E-2},0.30208333333333337,0.23819444444444449,{"$f":"DATA!$C$9","v":0.89},{"$f":"DATA!$C$10","v":64},1,321.56250000000006,407.81250000000006,6.3888888888888884E-2,86.25,0.21149425287356319,0,"","",339.2,300,"","",300,null,{"$f":"WEEKNUM($Y699)","v":34},null,{"$f":"TEXT(Y708,\"ddd\")","v":"do"},"MD",{"$f":"IFERROR(HLOOKUP(Y708,[1]DATA!$A$1:$NB$5,4,0),\"\")","v":"D3"},92,null,18,318,{"$f":"VLOOKUP(Y708,[1]SRI!$S$4:$Z$368,7,0)","v":16},-21.562500000000057,0.73563218390804586,0.95495495495495497]
["34doND",{"$f":"VLOOKUP($AA710,DATA!$B$3:$E$6,2,0)","v":"22:30:00"},{"$f":"VLOOKUP($AA710,DATA!$B$3:$E$6,3,0)","v":"06:30:00"},{"$f":"VLOOKUP($AA710,DATA!$B$3:$E$6,4,0)","v":3.125E-2},0.30208333333333326,0.22083333333333327,{"$f":"DATA!$C$9","v":0.89},{"$f":"DATA!$C$10","v":64},1,298.12499999999994,407.81249999999989,8.1250000000000003E-2,109.6875,0.2689655172413794,0,"","",347.73333333333335,310,"",310,"",null,{"$f":"X709","v":34},null,{"$f":"TEXT(Y708,\"ddd\")","v":"do"},"ND",{"$f":"IFERROR(HLOOKUP(Y708,[1]DATA!$A$1:$NB$5,5,0),\"\")","v":"D2"},117,null,16,326,{"$f":"VLOOKUP(Y708,[1]SRI!$S$4:$Z$368,8,0)","v":0},{"$f":"IFERROR(S710-J710,\"\")","v":11.875000000000057},{"$f":"IFERROR(IF(S710/(E710*86400/H710)<=0,\"\",S710/(E710*86400/H710)),\"\")","v":0.76015325670498102},1]
["34vrDD",{"$f":"VLOOKUP($AA711,DATA!$B$3:$E$6,2,0)","v":"06:30:00"},{"$f":"VLOOKUP($AA711,DATA!$B$3:$E$6,3,0)","v":"14:30:00"},{"$f":"VLOOKUP($AA711,DATA!$B$3:$E$6,4,0)","v":3.125E-2},0.30208333333333331,0.2409722222222222,{"$f":"DATA!$C$9","v":0.89},{"$f":"DATA!$C$10","v":64},1,325.31249999999994,407.8125,{"$f":"TIME(INT($AC711/60),INT(MOD($AC711,60)/1),0)","v":6.1111111111111116E-2},{"$f":"IF($L711*86400/$H711=0,\"\",$L711*86400/$H711)","v":82.5},{"$f":"IFERROR($M711/$K711,\"\")","v":0.20229885057471264},0,"",{"$f":"IFERROR($P711/$K711,\"\")","v":""},363.73333333333335,317,{"$f":"IF(IF($AB711=\"D1\",$S711,\"\")=0,\"\",IF($AB711=\"D1\",$S711,\"\"))","v":317},{"$f":"IF(IF($AB711=\"D2\",$S711,\"\")=0,\"\",IF($AB711=\"D2\",$S711,\"\"))","v":""},{"$f":"IF(IF($AB711=\"D3\",$S711,\"\")=0,\"\",IF($AB711=\"D3\",$S711,\"\"))","v":""},null,{"$f":"X709","v":34},"2018-08-24",{"$f":"TEXT(Y711,\"ddd\")","v":"vr"},"DD",{"$f":"IFERROR(HLOOKUP(Y711,[1]DATA!$A$1:$NB$5,3,0),\"\")","v":"D1"},88,null,24,341,{"$f":"VLOOKUP(Y711,[1]SRI!$S$4:$Z$368,6,0)","v":5},-8.3124999999999432,0.77731800766283521,0.98644006508768756]
["34vrMD",{"$f":"VLOOKUP($AA712,DATA!$B$3:$E$6,2,0)","v":"14:30:00"},{"$f":"VLOOKUP($AA712,DATA!$B$3:$E$6,3,0)","v":"22:30:00"},{"$f":"VLOOKUP($AA712,DATA!$B$3:$E$6,4,0)","v":3.125E-2},0.30208333333333337,0.23750000000000004,{"$f":"DATA!$C$9","v":0.89},{"$f":"DATA!$C$10","v":64},1,320.62500000000006,407.81250000000006,6.458333333333334E-2,87.187500000000014,0.21379310344827587,0,"","",350.93333333333334,313,"","",313,null,{"$f":"X709","v":34},null,{"$f":"TEXT(Y711,\"ddd\")","v":"vr"},"MD",{"$f":"IFERROR(HLOOKUP(Y711,[1]DATA!$A$1:$NB$5,4,0),\"\")","v":"D3"},93,null,16,329,{"$f":"VLOOKUP(Y711,[1]SRI!$S$4:$Z$368,7,0)","v":0},-7.6250000000000568,0.76750957854406121,1]
["34vrND",{"$f":"VLOOKUP($AA713,DATA!$B$3:$E$6,2,0)","v":"22:30:00"},{"$f":"VLOOKUP($AA713,DATA!$B$3:$E$6,3,0)","v":"06:30:00"},{"$f":"VLOOKUP($AA713,DATA!$B$3:$E$6,4,0)","v":3.125E-2},0.30208333333333326,0.25347222222222215,{"$f":"DATA!$C$9","v":0.89},{"$f":"DATA!$C$10","v":64},1,342.18749999999989,407.81249999999989,4.8611111111111112E-2,65.625,0.16091954022988511,0,"","",358.4,309,"",309,"",null,{"$f":"X709","v":34},null,{"$f":"TEXT(Y711,\"ddd\")","v":"vr"},"ND",{"$f":"IFERROR(HLOOKUP(Y711,[1]DATA!$A$1:$NB$5,5,0),\"\")","v":"D2"},70,null,27,336,{"$f":"VLOOKUP(Y711,[1]SRI!$S$4:$Z$368,8,0)","v":3},-33.187499999999886,0.75770114942528755,0.99169894853348095]
["34zaDD",{"$f":"VLOOKUP($AA714,DATA!$B$3:$E$6,2,0)","v":"06:30:00"},{"$f":"VLOOKUP($AA714,DATA!$B$3:$E$6,3,0)","v":"14:30:00"},{"$f":"VLOOKUP($AA714,DATA!$B$3:$E$6,4,0)","v":3.125E-2},0.30208333333333331,0.30208333333333331,{"$f":"DATA!$C$9","v":0.89},{"$f":"DATA!$C$10","v":64},1,407.8125,407.8125,0,"","",0,"","",0,"","","","",null,{"$f":"X709","v":34},"2018-08-25",{"$f":"TEXT(Y714,\"ddd\")","v":"za"},"DD",{"$f":"IFERROR(HLOOKUP(Y714,[1]DATA!$A$1:$NB$5,3,0),\"\")","v":"D1"},null,null,null,null,{"$f":"VLOOKUP(Y714,[1]SRI!$S$4:$Z$368,6,0)","v":0},"","",""]
["34zaMD",{"$f":"VLOOKUP($AA715,DATA!$B$3:$E$6,2,0)","v":"14:30:00"},{"$f":"VLOOKUP($AA715,DATA!$B$3:$E$6,3,0)","v":"22:30:00"},{"$f":"VLOOKUP($AA715,DATA!$B$3:$E$6,4,0)","v":3.125E-2},0.30208333333333337,0.30208333333333337,{"$f":"DATA!$C$9","v":0.89},{"$f":"DATA!$C$10","v":64},1,407.81250000000006,407.81250000000006,0,"","",0,"","",0,"","","","",null,{"$f":"X709","v":34},null,{"$f":"TEXT(Y714,\"ddd\")","v":"za"},"MD",{"$f":"IFERROR(HLOOKUP(Y714,[1]DATA!$A$1:$NB$5,4,0),\"\")","v":"-"},null,null,null,null,{"$f":"VLOOKUP(Y714,[1]SRI!$S$4:$Z$368,7,0)","v":0},"","",""]
["34zaND",{"$f":"VLOOKUP($AA716,DATA!$B$3:$E$6,2,0)","v":"22:30:00"},{"$f":"VLOOKUP($AA716,DATA!$B$3:$E$6,3,0)","v":"06:30:00"},{"$f":"VLOOKUP($AA716,DATA!$B$3:$E$6,4,0)","v":3.125E-2},0.30208333333333326,0.30208333333333326,{"$f":"DATA!$C$9","v":0.89},{"$f":"DATA!$C$10","v":64},1,407.81249999999989,407.81249999999989,0,"","",0,"","",0,"","","","",null,{"$f":"X709","v":34},null,{"$f":"TEXT(Y714,\"ddd\")","v":"za"},"ND",{"$f":"IFERROR(HLOOKUP(Y714,[1]DATA!$A$1:$NB$5,5,0),\"\")","v":"-"},null,null,null,null,{"$f":"VLOOKUP(Y714,[1]SRI!$S$4:$Z$368,8,0)","v":0},"","",""]
["34zoDD",{"$f":"VLOOKUP($AA717,DATA!$B$3:$E$6,2,0)","v":"06:30:00"},{"$f":"VLOOKUP($AA717,DATA!$B$3:$E$6,3,0)","v":"14:30:00"},{"$f":"VLOOKUP($AA717,DATA!$B$3:$E$6,4,0)","v":3.125E-2},0.30208333333333331,0.30208333333333331,{"$f":"DATA!$C$9","v":0.89},{"$f":"DATA!$C$10","v":64},1,407.8125,407.8125,0,"","",0,"","",0,"","","","",null,{"$f":"X709","v":34},"2018-08-26",{"$f":"TEXT(Y717,\"ddd\")","v":"zo"},"DD",{"$f":"IFERROR(HLOOKUP(Y717,[1]DATA!$A$1:$NB$5,3,0),\"\")","v":"-"},null,null,null,null,{"$f":"VLOOKUP(Y717,[1]SRI!$S$4:$Z$368,6,0)","v":0},"","",""]
["34zoMD",{"$f":"VLOOKUP($AA718,DATA!$B$3:$E$6,2,0)","v":"14:30:00"},{"$f":"VLOOKUP($AA718,DATA!$B$3:$E$6,3,0)","v":"22:30:00"},{"$f":"VLOOKUP($AA718,DATA!$B$3:$E$6,4,0)","v":3.125E-2},0.30208333333333337,0.30208333333333337,{"$f":"DATA!$C$9","v":0.89},{"$f":"DATA!$C$10","v":64},1,407.81250000000006,407.81250000000006,0,"","",0,"","",0,"","","","",null,{"$f":"X709","v":34},null,{"$f":"TEXT(Y717,\"ddd\")","v":"zo"},"MD",{"$f":"IFERROR(HLOOKUP(Y717,[1]DATA!$A$1:$NB$5,4,0),\"\")","v":"-"},null,null,null,null,{"$f":"VLOOKUP(Y717,[1]SRI!$S$4:$Z$368,7,0)","v":0},"","",""]
["34zoZND",{"$f":"VLOOKUP($AA719,DATA!$B$3:$E$6,2,0)","v":"00:00:00"},{"$f":"VLOOKUP($AA719,DATA!$B$3:$E$6,3,0)","v":"00:00:00"},{"$f":"VLOOKUP($AA719,DATA!$B$3:$E$6,4,0)","v":3.125E-2},-3.125E-2,-3.125E-2,{"$f":"DATA!$C$9","v":0.89},{"$f":"DATA!$C$10","v":64},1,-42.1875,-42.1875,0,"","",0,"","",0,"","","","",null,{"$f":"X709","v":34},null,{"$f":"TEXT(Y717,\"ddd\")","v":"zo"},"ZND",{"$f":"IFERROR(HLOOKUP(Y717,[1]DATA!$A$1:$NB$5,5,0),\"\")","v":"-"},null,null,null,null,{"$f":"VLOOKUP(Y717,[1]SRI!$S$4:$Z$368,8,0)","v":0},"","",""]
["35maDD",{"$f":"VLOOKUP($AA720,DATA!$B$3:$E$6,2,0)","v":"06:30:00"},{"$f":"VLOOKUP($AA720,DATA!$B$3:$E$6,3,0)","v":"14:30:00"},{"$f":"VLOOKUP($AA720,DATA!$B$3:$E$6,4,0)","v":3.125E-2},0.30208333333333331,0.14097222222222219,{"$f":"DATA!$C$9","v":0.89},{"$f":"DATA!$C$10","v":64},1,190.31249999999997,407.8125,0.16111111111111112,217.5,0.53333333333333333,{"$f":"TIME(INT($AD720/60),INT(MOD($AD720,60)/1),0)","v":0},"","",193.06666666666666,167,"","",167,null,{"$f":"X730","v":35},"2018-08-27",{"$f":"TEXT(Y720,\"ddd\")","v":"ma"},"DD",{"$f":"IFERROR(HLOOKUP(Y720,[1]DATA!$A$1:$NB$5,3,0),\"\")","v":"D3"},232,null,14,181,{"$f":"VLOOKUP(Y720,[1]SRI!$S$4:$Z$368,6,0)","v":29},-23.312499999999972,0.40950191570881228,0.8694085860102071,{"$f":"IF(SUMIF(S720:S740,\">0\",K720:K740)=0,\"\",SUMIF(S720:S740,\">0\",K720:K740))","v":5709.375},{"$f":"IF(SUM(S720:S740)=0,\"\",SUM(S720:S740))","v":4226},{"$f":"IFERROR(AL720/AK720,\"-\")","v":0.74018609742747676},{"$f":"IF(SUM(M720:M740)=0,\"0\",SUM(M720:M740))","v":1196.25},{"$f":"IFERROR(AN720/AK720,\"-\")","v":0.20952380952380953},{"$f":"IF(SUM(P720:P740)=0,0,SUM(P720:P740))","v":0},{"$f":"IFERROR(AP720/AK720,\"-\")","v":0},0.97006794348288283,{"$f":"IFERROR(SUMIF($AB720:$AB740,AS$5,$AJ720:$AJ740)/COUNTIFS($AB720:$AB740,AS$5,$AJ720:$AJ740,\">0\"),\"\")","v":0.96858294101893172},0.97545381303294332,0.96587007590398299,{"$f":"IFERROR((AK720-AL720-AN720-AP720),\"-\")","v":287.125},{"$f":"IFERROR((1-AM720-AO720-AQ720), \"-\")","v":5.0290093048713708E-2},{"$f":"IFERROR((AV720*$AE$2)/60,\"-\")","v":306.26666666666665},{"$f":"IFERROR(SUM(AG720:AG740),\"\")","v":137}]
["35maMD",{"$f":"VLOOKUP($AA721,DATA!$B$3:$E$6,2,0)","v":"14:30:00"},{"$f":"VLOOKUP($AA721,DATA!$B$3:$E$6,3,0)","v":"22:30:00"},{"$f":"VLOOKUP($AA721,DATA!$B$3:$E$6,4,0)","v":3.125E-2},0.30208333333333337,0.27708333333333335,{"$f":"DATA!$C$9","v":0.89},{"$f":"DATA!$C$10","v":64},1,374.0625,407.81250000000006,2.4999999999999998E-2,33.75,8.2758620689655157E-2,{"$f":"TIME(INT(AD721/60),INT(MOD(AD721,60)/1),0)","v":0},"","",422.4,360,"",360,"",null,{"$f":"X730","v":35},null,{"$f":"TEXT(Y720,\"ddd\")","v":"ma"},"MD",{"$f":"IFERROR(HLOOKUP(Y720,[1]DATA!$A$1:$NB$5,4,0),\"\")","v":"D2"},36,null,36,396,{"$f":"VLOOKUP(Y720,[1]SRI!$S$4:$Z$368,7,0)","v":10},-14.0625,0.88275862068965505,0.97687326549491216]
["35maND",{"$f":"VLOOKUP($AA722,DATA!$B$3:$E$6,2,0)","v":"22:30:00"},{"$f":"VLOOKUP($AA722,DATA!$B$3:$E$6,3,0)","v":"06:30:00"},{"$f":"VLOOKUP($AA722,DATA!$B$3:$E$6,4,0)","v":3.125E-2},0.30208333333333326,0.2715277777777777,{"$f":"DATA!$C$9","v":0.89},{"$f":"DATA!$C$10","v":64},1,366.56249999999989,407.81249999999989,3.0555555555555555E-2,41.25,0.10114942528735635,0,"","",404.26666666666665,358,358,"","",null,{"$f":"X730","v":35},null,{"$f":"TEXT(Y720,\"ddd\")","v":"ma"},"ND",{"$f":"IFERROR(HLOOKUP(Y720,[1]DATA!$A$1:$NB$5,5,0),\"\")","v":"D1"},44,null,21,379,{"$f":"VLOOKUP(Y720,[1]SRI!$S$4:$Z$368,8,0)","v":0},-8.5624999999998863,0.87785440613026844,1]
["35diDD",{"$f":"VLOOKUP($AA723,DATA!$B$3:$E$6,2,0)","v":"06:30:00"},{"$f":"VLOOKUP($AA723,DATA!$B$3:$E$6,3,0)","v":"14:30:00"},{"$f":"VLOOKUP($AA723,DATA!$B$3:$E$6,4,0)","v":3.125E-2},0.30208333333333331,0.23333333333333334,{"$f":"DATA!$C$9","v":0.89},{"$f":"DATA!$C$10","v":64},1,315,407.8125,6.8749999999999992E-2,92.812499999999986,0.22758620689655168,0,"","",339.2,303,"","",303,null,{"$f":"X730","v":35},"2018-08-28",{"$f":"TEXT(Y723,\"ddd\")","v":"di"},"DD",{"$f":"IFERROR(HLOOKUP(Y723,[1]DATA!$A$1:$NB$5,3,0),\"\")","v":"D3"},99,null,15,318,{"$f":"VLOOKUP(Y723,[1]SRI!$S$4:$Z$368,6,0)","v":2},-12,0.74298850574712638,0.99413833528722162]
["35diMD",{"$f":"VLOOKUP($AA724,DATA!$B$3:$E$6,2,0)","v":"14:30:00"},{"$f":"VLOOKUP($AA724,DATA!$B$3:$E$6,3,0)","v":"22:30:00"},{"$f":"VLOOKUP($AA724,DATA!$B$3:$E$6,4,0)","v":3.125E-2},0.30208333333333337,0.2506944444444445,{"$f":"DATA!$C$9","v":0.89},{"$f":"DATA!$C$10","v":64},1,338.43750000000006,407.81250000000006,5.1388888888888894E-2,69.375,0.1701149425287356,0,"","",371.2,313,"",313,"",null,{"$f":"X730","v":35},null,{"$f":"TEXT(Y723,\"ddd\")","v":"di"},"MD",{"$f":"IFERROR(HLOOKUP(Y723,[1]DATA!$A$1:$NB$5,4,0),\"\")","v":"D2"},74,null,35,348,{"$f":"VLOOKUP(Y723,[1]SRI!$S$4:$Z$368,7,0)","v":37},-25.437500000000057,0.76750957854406121,0.90935815776580109]
["35diND",{"$f":"VLOOKUP($AA725,DATA!$B$3:$E$6,2,0)","v":"22:30:00"},{"$f":"VLOOKUP($AA725,DATA!$B$3:$E$6,3,0)","v":"06:30:00"},{"$f":"VLOOKUP($AA725,DATA!$B$3:$E$6,4,0)","v":3.125E-2},0.30208333333333326,0.30208333333333326,{"$f":"DATA!$C$9","v":0.89},{"$f":"DATA!$C$10","v":64},1,407.81249999999989,407.81249999999989,0,"","",0,"","",380.8,348,348,"","",null,{"$f":"X730","v":35},null,{"$f":"TEXT(Y723,\"ddd\")","v":"di"},"ND",{"$f":"IFERROR(HLOOKUP(Y723,[1]DATA!$A$1:$NB$5,5,0),\"\")","v":"D1"},0,null,9,357,{"$f":"VLOOKUP(Y723,[1]SRI!$S$4:$Z$368,8,0)","v":25},-59.812499999999886,0.85333333333333361,0.93839329719073439]
["35woDD",{"$f":"VLOOKUP($AA726,DATA!$B$3:$E$6,2,0)","v":"06:30:00"},{"$f":"VLOOKUP($AA726,DATA!$B$3:$E$6,3,0)","v":"14:30:00"},{"$f":"VLOOKUP($AA726,DATA!$B$3:$E$6,4,0)","v":3.125E-2},0.30208333333333331,0.23194444444444443,{"$f":"DATA!$C$9","v":0.89},{"$f":"DATA!$C$10","v":64},1,313.125,407.8125,7.013888888888889E-2,94.6875,0.23218390804597702,0,"","",304,265,"","",265,null,{"$f":"X730","v":35},"2018-08-29",{"$f":"TEXT(Y726,\"ddd\")","v":"wo"},"DD",{"$f":"IFERROR(HLOOKUP(Y726,[1]DATA!$A$1:$NB$5,3,0),\"\")","v":"D3"},101,null,20,285,{"$f":"VLOOKUP(Y726,[1]SRI!$S$4:$Z$368,6,0)","v":0},-48.125,0.6498084291187739,1]
["35woMD",{"$f":"VLOOKUP($AA727,DATA!$B$3:$E$6,2,0)","v":"14:30:00"},{"$f":"VLOOKUP($AA727,DATA!$B$3:$E$6,3,0)","v":"22:30:00"},{"$f":"VLOOKUP($AA727,DATA!$B$3:$E$6,4,0)","v":3.125E-2},0.30208333333333337,0.23194444444444448,{"$f":"DATA!$C$9","v":0.89},{"$f":"DATA!$C$10","v":64},1,313.12500000000006,407.81250000000006,7.013888888888889E-2,94.6875,0.23218390804597697,0,"","",331.73333333333335,299,"",299,"",null,{"$f":"X730","v":35},null,{"$f":"TEXT(Y726,\"ddd\")","v":"wo"},"MD",{"$f":"IFERROR(HLOOKUP(Y726,[1]DATA!$A$1:$NB$5,4,0),\"\")","v":"D2"},101,null,12,311,{"$f":"VLOOKUP(Y726,[1]SRI!$S$4:$Z$368,7,0)","v":3},-14.125000000000057,0.73318007662835238,0.99103764190400323]
["35woND",{"$f":"VLOOKUP($AA728,DATA!$B$3:$E$6,2,0)","v":"22:30:00"},{"$f":"VLOOKUP($AA728,DATA!$B$3:$E$6,3,0)","v":"06:30:00"},{"$f":"VLOOKUP($AA728,DATA!$B$3:$E$6,4,0)","v":3.125E-2},0.30208333333333326,0.22083333333333327,{"$f":"DATA!$C$9","v":0.89},{"$f":"DATA!$C$10","v":64},1,298.12499999999994,407.81249999999989,8.1250000000000003E-2,109.6875,0.2689655172413794,0,"","",275.2,243,243,"","",null,{"$f":"X730","v":35},null,{"$f":"TEXT(Y726,\"ddd\")","v":"wo"},"ND",{"$f":"IFERROR(HLOOKUP(Y726,[1]DATA!$A$1:$NB$5,5,0),\"\")","v":"D1"},117,null,15,258,{"$f":"VLOOKUP(Y726,[1]SRI!$S$4:$Z$368,8,0)","v":12},-55.124999999999943,0.59586206896551741,0.95821727019498604]
["35doDD",{"$f":"VLOOKUP($AA729,DATA!$B$3:$E$6,2,0)","v":"06:30:00"},{"$f":"VLOOKUP($AA729,DATA!$B$3:$E$6,3,0)","v":"14:30:00"},{"$f":"VLOOKUP($AA729,DATA!$B$3:$E$6,4,0)","v":3.125E-2},0.30208333333333331,0.21597222222222218,{"$f":"DATA!$C$9","v":0.89},{"$f":"DATA!$C$10","v":64},1,291.56249999999994,407.8125,8.6111111111111124E-2,116.25000000000001,0.28505747126436787,0,"","",315.73333333333335,289,"","",289,null,{"$f":"X730","v":35},"2018-08-30",{"$f":"TEXT(Y729,\"ddd\")","v":"do"},"DD",{"$f":"IFERROR(HLOOKUP(Y729,[1]DATA!$A$1:$NB$5,3,0),\"\")","v":"D3"},124,null,7,296,{"$f":"VLOOKUP(Y729,[1]SRI!$S$4:$Z$368,6,0)","v":3},-2.5624999999999432,0.70865900383141767,0.99058774314996867]
["35doMD",{"$f":"VLOOKUP($AA730,DATA!$B$3:$E$6,2,0)","v":"14:30:00"},{"$f":"VLOOKUP($AA730,DATA!$B$3:$E$6,3,0)","v":"22:30:00"},{"$f":"VLOOKUP($AA730,DATA!$B$3:$E$6,4,0)","v":3.125E-2},0.30208333333333337,0.27569444444444446,{"$f":"DATA!$C$9","v":0.89},{"$f":"DATA!$C$10","v":64},1,372.1875,407.81250000000006,2.6388888888888889E-2,35.625,8.7356321839080445E-2,0,"","",423.46666666666664,362,"",362,"",null,{"$f":"WEEKNUM($Y720)","v":35},null,{"$f":"TEXT(Y729,\"ddd\")","v":"do"},"MD",{"$f":"IFERROR(HLOOKUP(Y729,[1]DATA!$A$1:$NB$5,4,0),\"\")","v":"D2"},38,null,35,397,{"$f":"VLOOKUP(Y729,[1]SRI!$S$4:$Z$368,7,0)","v":0},-10.1875,0.88766283524904199,1]
["35doND",{"$f":"VLOOKUP($AA731,DATA!$B$3:$E$6,2,0)","v":"22:30:00"},{"$f":"VLOOKUP($AA731,DATA!$B$3:$E$6,3,0)","v":"06:30:00"},{"$f":"VLOOKUP($AA731,DATA!$B$3:$E$6,4,0)","v":3.125E-2},0.30208333333333326,0.20833333333333326,{"$f":"DATA!$C$9","v":0.89},{"$f":"DATA!$C$10","v":64},1,281.24999999999989,407.81249999999989,9.375E-2,126.5625,0.31034482758620696,0,"","",307.2,270,270,"","",null,{"$f":"X730","v":35},null,{"$f":"TEXT(Y729,\"ddd\")","v":"do"},"ND",{"$f":"IFERROR(HLOOKUP(Y729,[1]DATA!$A$1:$NB$5,5,0),\"\")","v":"D1"},135,null,18,288,{"$f":"VLOOKUP(Y729,[1]SRI!$S$4:$Z$368,8,0)","v":7},-11.249999999999886,0.66206896551724159,{"$f":"IFERROR(R731/(R731+AG731),\"\")","v":0.97772119669000634}]
["35vrDD",{"$f":"VLOOKUP($AA732,DATA!$B$3:$E$6,2,0)","v":"06:30:00"},{"$f":"VLOOKUP($AA732,DATA!$B$3:$E$6,3,0)","v":"14:30:00"},{"$f":"VLOOKUP($AA732,DATA!$B$3:$E$6,4,0)","v":3.125E-2},{"$f":"(C732-B732+(B732>C732))-D732","v":0.30208333333333331},{"$f":"E732-O732-L732","v":0.24027777777777776},{"$f":"DATA!$C$9","v":0.89},{"$f":"DATA!$C$10","v":64},1,{"$f":"F732*86400/H732*I732","v":324.375},{"$f":"E732*86400/H732","v":407.8125},6.1805555555555558E-2,83.4375,0.2045977011494253,0,"","",{"$f":"AF732*AG$2","v":354.13333333333333},{"$f":"IF(AF732-AE732=0,\"\",AF732-AE732)","v":324},"","",324,null,{"$f":"X730","v":35},"2018-08-31",{"$f":"TEXT(Y732,\"ddd\")","v":"vr"},"DD",{"$f":"IFERROR(HLOOKUP(Y732,[1]DATA!$A$1:$NB$5,3,0),\"\")","v":"D3"},89,null,8,332,{"$f":"VLOOKUP(Y732,[1]SRI!$S$4:$Z$368,6,0)","v":9},-0.375,0.79448275862068962,0.97521571507251703]
["35vrMD",{"$f":"VLOOKUP($AA733,DATA!$B$3:$E$6,2,0)","v":"14:30:00"},{"$f":"VLOOKUP($AA733,DATA!$B$3:$E$6,3,0)","v":"22:30:00"},{"$f":"VLOOKUP($AA733,DATA!$B$3:$E$6,4,0)","v":3.125E-2},0.30208333333333337,0.24236111111111114,{"$f":"DATA!$C$9","v":0.89},{"$f":"DATA!$C$10","v":64},1,327.18750000000006,407.81250000000006,5.9722222222222225E-2,80.625,0.19770114942528733,0,"","",365.86666666666667,325,"",325,"",null,{"$f":"X730","v":35},null,{"$f":"TEXT(Y732,\"ddd\")","v":"vr"},"MD",{"$f":"IFERROR(HLOOKUP(Y732,[1]DATA!$A$1:$NB$5,4,0),\"\")","v":"D2"},86,null,18,343,{"$f":"VLOOKUP(Y732,[1]SRI!$S$4:$Z$368,7,0)","v":0},-2.1875000000000568,0.79693486590038298,1]
["35vrND",{"$f":"VLOOKUP($AA734,DATA!$B$3:$E$6,2,0)","v":"22:30:00"},{"$f":"VLOOKUP($AA734,DATA!$B$3:$E$6,3,0)","v":"06:30:00"},{"$f":"VLOOKUP($AA734,DATA!$B$3:$E$6,4,0)","v":3.125E-2},0.30208333333333326,0.30208333333333326,{"$f":"DATA!$C$9","v":0.89},{"$f":"DATA!$C$10","v":64},1,407.81249999999989,407.81249999999989,0,"","",0,"","",0,"","","","",null,{"$f":"X730","v":35},null,{"$f":"TEXT(Y732,\"ddd\")","v":"vr"},"ND",{"$f":"IFERROR(HLOOKUP(Y732,[1]DATA!$A$1:$NB$5,5,0),\"\")","v":"D2"},null,null,null,null,{"$f":"VLOOKUP(Y732,[1]SRI!$S$4:$Z$368,8,0)","v":0},"","",""]
["35zaDD",{"$f":"VLOOKUP($AA735,DATA!$B$3:$E$6,2,0)","v":"06:30:00"},{"$f":"VLOOKUP($AA735,DATA!$B$3:$E$6,3,0)","v":"14:30:00"},{"$f":"VLOOKUP($AA735,DATA!$B$3:$E$6,4,0)","v":3.125E-2},0.30208333333333331,0.30208333333333331,{"$f":"DATA!$C$9","v":0.89},{"$f":"DATA!$C$10","v":64},1,407.8125,407.8125,0,"","",0,"","",0,"","","","",null,{"$f":"X730","v":35},"2018-09-01",{"$f":"TEXT(Y735,\"ddd\")","v":"za"},"DD",{"$f":"IFERROR(HLOOKUP(Y735,[1]DATA!$A$1:$NB$5,3,0),\"\")","v":"D3"},null,null,null,null,{"$f":"VLOOKUP(Y735,[1]SRI!$S$4:$Z$368,6,0)","v":0},"","",""]
["35zaMD",{"$f":"VLOOKUP($AA736,DATA!$B$3:$E$6,2,0)","v":"14:30:00"},{"$f":"VLOOKUP($AA736,DATA!$B$3:$E$6,3,0)","v":"22:30:00"},{"$f":"VLOOKUP($AA736,DATA!$B$3:$E$6,4,0)","v":3.125E-2},0.30208333333333337,0.30208333333333337,{"$f":"DATA!$C$9","v":0.89},{"$f":"DATA!$C$10","v":64},1,407.81250000000006,407.81250000000006,0,"","",0,"","",0,"","","","",null,{"$f":"X730","v":35},null,{"$f":"TEXT(Y735,\"ddd\")","v":"za"},"MD",{"$f":"IFERROR(HLOOKUP(Y735,[1]DATA!$A$1:$NB$5,4,0),\"\")","v":"-"},null,null,null,null,{"$f":"VLOOKUP(Y735,[1]SRI!$S$4:$Z$368,7,0)","v":0},"","",""]
["35zaND",{"$f":"VLOOKUP($AA737,DATA!$B$3:$E$6,2,0)","v":"22:30:00"},{"$f":"VLOOKUP($AA737,DATA!$B$3:$E$6,3,0)","v":"06:30:00"},{"$f":"VLOOKUP($AA737,DATA!$B$3:$E$6,4,0)","v":3.125E-2},0.30208333333333326,0.30208333333333326,{"$f":"DATA!$C$9","v":0.89},{"$f":"DATA!$C$10","v":64},1,407.81249999999989,407.81249999999989,0,"","",0,"","",0,"","","","",null,{"$f":"X730","v":35},null,{"$f":"TEXT(Y735,\"ddd\")","v":"za"},"ND",{"$f":"IFERROR(HLOOKUP(Y735,[1]DATA!$A$1:$NB$5,5,0),\"\")","v":"-"},null,null,null,null,{"$f":"VLOOKUP(Y735,[1]SRI!$S$4:$Z$368,8,0)","v":0},"","",""]
["35zoDD",{"$f":"VLOOKUP($AA738,DATA!$B$3:$E$6,2,0)","v":"06:30:00"},{"$f":"VLOOKUP($AA738,DATA!$B$3:$E$6,3,0)","v":"14:30:00"},{"$f":"VLOOKUP($AA738,DATA!$B$3:$E$6,4,0)","v":3.125E-2},0.30208333333333331,0.30208333333333331,{"$f":"DATA!$C$9","v":0.89},{"$f":"DATA!$C$10","v":64},1,407.8125,407.8125,0,"","",0,"","",0,"","","","",null,{"$f":"X730","v":35},"2018-09-02",{"$f":"TEXT(Y738,\"ddd\")","v":"zo"},"DD",{"$f":"IFERROR(HLOOKUP(Y738,[1]DATA!$A$1:$NB$5,3,0),\"\")","v":"-"},null,null,null,null,{"$f":"VLOOKUP(Y738,[1]SRI!$S$4:$Z$368,6,0)","v":0},"","",""]
["35zoMD",{"$f":"VLOOKUP($AA739,DATA!$B$3:$E$6,2,0)","v":"14:30:00"},{"$f":"VLOOKUP($AA739,DATA!$B$3:$E$6,3,0)","v":"22:30:00"},{"$f":"VLOOKUP($AA739,DATA!$B$3:$E$6,4,0)","v":3.125E-2},0.30208333333333337,0.30208333333333337,{"$f":"DATA!$C$9","v":0.89},{"$f":"DATA!$C$10","v":64},1,407.81250000000006,407.81250000000006,0,"","",0,"","",0,"","","","",null,{"$f":"X730","v":35},null,{"$f":"TEXT(Y738,\"ddd\")","v":"zo"},"MD",{"$f":"IFERROR(HLOOKUP(Y738,[1]DATA!$A$1:$NB$5,4,0),\"\")","v":"-"},null,null,null,null,{"$f":"VLOOKUP(Y738,[1]SRI!$S$4:$Z$368,7,0)","v":0},"","",""]
["35zoZND",{"$f":"VLOOKUP($AA740,DATA!$B$3:$E$6,2,0)","v":"00:00:00"},{"$f":"VLOOKUP($AA740,DATA!$B$3:$E$6,3,0)","v":"00:00:00"},{"$f":"VLOOKUP($AA740,DATA!$B$3:$E$6,4,0)","v":3.125E-2},-3.125E-2,-3.125E-2,{"$f":"DATA!$C$9","v":0.89},{"$f":"DATA!$C$10","v":64},1,-42.1875,-42.1875,0,"","",0,"","",0,"","","","",null,{"$f":"X730","v":35},null,{"$f":"TEXT(Y738,\"ddd\")","v":"zo"},"ZND",{"$f":"IFERROR(HLOOKUP(Y738,[1]DATA!$A$1:$NB$5,5,0),\"\")","v":"-"},null,null,null,null,{"$f":"VLOOKUP(Y738,[1]SRI!$S$4:$Z$368,8,0)","v":0},"","",""]
["36maDD",{"$f":"VLOOKUP($AA741,DATA!$B$3:$E$6,2,0)","v":"06:30:00"},{"$f":"VLOOKUP($AA741,DATA!$B$3:$E$6,3,0)","v":"14:30:00"},{"$f":"VLOOKUP($AA741,DATA!$B$3:$E$6,4,0)","v":3.125E-2},0.30208333333333331,0.22638888888888886,{"$f":"DATA!$C$9","v":0.89},{"$f":"DATA!$C$10","v":64},1,305.62499999999994,407.8125,7.5694444444444439E-2,102.1875,0.25057471264367814,{"$f":"TIME(INT($AD741/60),INT(MOD($AD741,60)/1),0)","v":0},"","",306.13333333333333,270,"",270,"",null,{"$f":"X751","v":36},"2018-09-03",{"$f":"TEXT(Y741,\"ddd\")","v":"ma"},"DD",{"$f":"IFERROR(HLOOKUP(Y741,[1]DATA!$A$1:$NB$5,3,0),\"\")","v":"D2"},109,null,17,287,{"$f":"VLOOKUP(Y741,[1]SRI!$S$4:$Z$368,6,0)","v":32},-35.624999999999943,0.66206896551724137,0.90536277602523663,{"$f":"IF(SUMIF(S741:S761,\">0\",K741:K761)=0,\"\",SUMIF(S741:S761,\">0\",K741:K761))","v":6525},{"$f":"IF(SUM(S741:S761)=0,\"\",SUM(S741:S761))","v":4311},{"$f":"IFERROR(AL741/AK741,\"-\")","v":0.66068965517241385},{"$f":"IF(SUM(M741:M761)=0,\"0\",SUM(M741:M761))","v":1746.5625},{"$f":"IFERROR(AN741/AK741,\"-\")","v":0.26767241379310347},{"$f":"IF(SUM(P741:P761)=0,0,SUM(P741:P761))","v":0},{"$f":"IFERROR(AP741/AK741,\"-\")","v":0},0.9887103425483551,{"$f":"IFERROR(SUMIF($AB741:$AB761,AS$5,$AJ741:$AJ761)/COUNTIFS($AB741:$AB761,AS$5,$AJ741:$AJ761,\">0\"),\"\")","v":0.99331201047271667},0.98422712933753953,0.98948853047697205,{"$f":"IFERROR((AK741-AL741-AN741-AP741),\"-\")","v":467.4375},{"$f":"IFERROR((1-AM741-AO741-AQ741), \"-\")","v":7.1637931034482683E-2},{"$f":"IFERROR((AV741*$AE$2)/60,\"-\")","v":498.6},{"$f":"IFERROR(SUM(AG741:AG761),\"\")","v":61}]
["36maMD",{"$f":"VLOOKUP($AA742,DATA!$B$3:$E$6,2,0)","v":"14:30:00"},{"$f":"VLOOKUP($AA742,DATA!$B$3:$E$6,3,0)","v":"22:30:00"},{"$f":"VLOOKUP($AA742,DATA!$B$3:$E$6,4,0)","v":3.125E-2},0.30208333333333337,0.21388888888888891,{"$f":"DATA!$C$9","v":0.89},{"$f":"DATA!$C$10","v":64},1,288.75,407.81250000000006,8.819444444444445E-2,119.06250000000001,0.29195402298850576,{"$f":"TIME(INT(AD742/60),INT(MOD(AD742,60)/1),0)","v":0},"","",322.13333333333333,284,284,"","",null,{"$f":"X751","v":36},null,{"$f":"TEXT(Y741,\"ddd\")","v":"ma"},"MD",{"$f":"IFERROR(HLOOKUP(Y741,[1]DATA!$A$1:$NB$5,4,0),\"\")","v":"D1"},127,null,18,302,{"$f":"VLOOKUP(Y741,[1]SRI!$S$4:$Z$368,7,0)","v":3},-4.75,0.69639846743295009,0.99077301619848268]
["36maND",{"$f":"VLOOKUP($AA743,DATA!$B$3:$E$6,2,0)","v":"22:30:00"},{"$f":"VLOOKUP($AA743,DATA!$B$3:$E$6,3,0)","v":"06:30:00"},{"$f":"VLOOKUP($AA743,DATA!$B$3:$E$6,4,0)","v":3.125E-2},0.30208333333333326,0.26111111111111102,{"$f":"DATA!$C$9","v":0.89},{"$f":"DATA!$C$10","v":64},1,352.49999999999989,407.81249999999989,4.0972222222222222E-2,55.3125,0.13563218390804602,0,"","",350.93333333333334,320,"","",320,null,{"$f":"X751","v":36},null,{"$f":"TEXT(Y741,\"ddd\")","v":"ma"},"ND",{"$f":"IFERROR(HLOOKUP(Y741,[1]DATA!$A$1:$NB$5,5,0),\"\")","v":"D3"},59,null,9,329,{"$f":"VLOOKUP(Y741,[1]SRI!$S$4:$Z$368,8,0)","v":5},-32.499999999999886,0.78467432950191596,0.98595242554785545]
["36diDD",{"$f":"VLOOKUP($AA744,DATA!$B$3:$E$6,2,0)","v":"06:30:00"},{"$f":"VLOOKUP($AA744,DATA!$B$3:$E$6,3,0)","v":"14:30:00"},{"$f":"VLOOKUP($AA744,DATA!$B$3:$E$6,4,0)","v":3.125E-2},0.30208333333333331,0.17708333333333331,{"$f":"DATA!$C$9","v":0.89},{"$f":"DATA!$C$10","v":64},1,239.06249999999997,407.8125,0.125,168.75,0.41379310344827586,0,"","",250.66666666666666,230,"",230,"",null,{"$f":"X751","v":36},"2018-09-04",{"$f":"TEXT(Y744,\"ddd\")","v":"di"},"DD",{"$f":"IFERROR(HLOOKUP(Y744,[1]DATA!$A$1:$NB$5,3,0),\"\")","v":"D2"},180,null,5,235,{"$f":"VLOOKUP(Y744,[1]SRI!$S$4:$Z$368,6,0)","v":0},-9.0624999999999716,0.56398467432950194,1]
["36diMD",{"$f":"VLOOKUP($AA745,DATA!$B$3:$E$6,2,0)","v":"14:30:00"},{"$f":"VLOOKUP($AA745,DATA!$B$3:$E$6,3,0)","v":"22:30:00"},{"$f":"VLOOKUP($AA745,DATA!$B$3:$E$6,4,0)","v":3.125E-2},0.30208333333333337,0.29791666666666672,{"$f":"DATA!$C$9","v":0.89},{"$f":"DATA!$C$10","v":64},1,402.18750000000006,407.81250000000006,4.1666666666666666E-3,5.625,1.379310344827586E-2,0,"","",359.46666666666664,328,328,"","",null,{"$f":"X751","v":36},null,{"$f":"TEXT(Y744,\"ddd\")","v":"di"},"MD",{"$f":"IFERROR(HLOOKUP(Y744,[1]DATA!$A$1:$NB$5,4,0),\"\")","v":"D1"},6,null,9,337,{"$f":"VLOOKUP(Y744,[1]SRI!$S$4:$Z$368,7,0)","v":2},-74.187500000000057,0.80429118773946351,0.99446698635189967]
["36diND",{"$f":"VLOOKUP($AA746,DATA!$B$3:$E$6,2,0)","v":"22:30:00"},{"$f":"VLOOKUP($AA746,DATA!$B$3:$E$6,3,0)","v":"06:30:00"},{"$f":"VLOOKUP($AA746,DATA!$B$3:$E$6,4,0)","v":3.125E-2},0.30208333333333326,0.10208333333333328,{"$f":"DATA!$C$9","v":0.89},{"$f":"DATA!$C$10","v":64},1,137.81249999999991,407.81249999999989,0.19999999999999998,270,0.66206896551724159,0,"","",262.39999999999998,236,"","",236,null,{"$f":"X751","v":36},null,{"$f":"TEXT(Y744,\"ddd\")","v":"di"},"ND",{"$f":"IFERROR(HLOOKUP(Y744,[1]DATA!$A$1:$NB$5,5,0),\"\")","v":"D3"},288,null,10,246,{"$f":"VLOOKUP(Y744,[1]SRI!$S$4:$Z$368,8,0)","v":0},98.187500000000085,0.578697318007663,1]
["36woDD",{"$f":"VLOOKUP($AA747,DATA!$B$3:$E$6,2,0)","v":"06:30:00"},{"$f":"VLOOKUP($AA747,DATA!$B$3:$E$6,3,0)","v":"14:30:00"},{"$f":"VLOOKUP($AA747,DATA!$B$3:$E$6,4,0)","v":3.125E-2},0.30208333333333331,0.20902777777777776,{"$f":"DATA!$C$9","v":0.89},{"$f":"DATA!$C$10","v":64},1,282.1875,407.8125,9.3055555555555558E-2,125.625,0.30804597701149428,0,"","",321.06666666666666,277,"",277,"",null,{"$f":"X751","v":36},"2018-09-05",{"$f":"TEXT(Y747,\"ddd\")","v":"wo"},"DD",{"$f":"IFERROR(HLOOKUP(Y747,[1]DATA!$A$1:$NB$5,3,0),\"\")","v":"D2"},134,null,24,301,{"$f":"VLOOKUP(Y747,[1]SRI!$S$4:$Z$368,6,0)","v":0},-5.1875,0.67923371647509578,1]
["36woMD",{"$f":"VLOOKUP($AA748,DATA!$B$3:$E$6,2,0)","v":"14:30:00"},{"$f":"VLOOKUP($AA748,DATA!$B$3:$E$6,3,0)","v":"22:30:00"},{"$f":"VLOOKUP($AA748,DATA!$B$3:$E$6,4,0)","v":3.125E-2},0.30208333333333337,0.28958333333333336,{"$f":"DATA!$C$9","v":0.89},{"$f":"DATA!$C$10","v":64},1,390.93750000000006,407.81250000000006,1.2499999999999999E-2,16.875,4.1379310344827579E-2,0,"","",420.26666666666665,377,377,"","",null,{"$f":"X751","v":36},null,{"$f":"TEXT(Y747,\"ddd\")","v":"wo"},"MD",{"$f":"IFERROR(HLOOKUP(Y747,[1]DATA!$A$1:$NB$5,4,0),\"\")","v":"D1"},18,null,17,394,{"$f":"VLOOKUP(Y747,[1]SRI!$S$4:$Z$368,7,0)","v":8},-13.937500000000057,0.92444444444444429,0.98132004981320053]
["36woND",{"$f":"VLOOKUP($AA749,DATA!$B$3:$E$6,2,0)","v":"22:30:00"},{"$f":"VLOOKUP($AA749,DATA!$B$3:$E$6,3,0)","v":"06:30:00"},{"$f":"VLOOKUP($AA749,DATA!$B$3:$E$6,4,0)","v":3.125E-2},0.30208333333333326,0.20138888888888884,{"$f":"DATA!$C$9","v":0.89},{"$f":"DATA!$C$10","v":64},1,271.87499999999994,407.81249999999989,0.10069444444444443,135.93749999999997,0.33333333333333337,0,"","",284.8,254,"","",254,null,{"$f":"X751","v":36},null,{"$f":"TEXT(Y747,\"ddd\")","v":"wo"},"ND",{"$f":"IFERROR(HLOOKUP(Y747,[1]DATA!$A$1:$NB$5,5,0),\"\")","v":"D3"},145,null,13,267,{"$f":"VLOOKUP(Y747,[1]SRI!$S$4:$Z$368,8,0)","v":5},-17.874999999999943,0.62283524904214582,0.98274672187715661]
["36doDD",{"$f":"VLOOKUP($AA750,DATA!$B$3:$E$6,2,0)","v":"06:30:00"},{"$f":"VLOOKUP($AA750,DATA!$B$3:$E$6,3,0)","v":"14:30:00"},{"$f":"VLOOKUP($AA750,DATA!$B$3:$E$6,4,0)","v":3.125E-2},0.30208333333333331,0.23194444444444443,{"$f":"DATA!$C$9","v":0.89},{"$f":"DATA!$C$10","v":64},1,313.125,407.8125,7.013888888888889E-2,94.6875,0.23218390804597702,0,"","",365.86666666666667,322,"",322,"",null,{"$f":"X751","v":36},"2018-09-06",{"$f":"TEXT(Y750,\"ddd\")","v":"do"},"DD",{"$f":"IFERROR(HLOOKUP(Y750,[1]DATA!$A$1:$NB$5,3,0),\"\")","v":"D2"},101,null,21,343,{"$f":"VLOOKUP(Y750,[1]SRI!$S$4:$Z$368,6,0)","v":0},8.875,0.78957854406130268,1]
["36doMD",{"$f":"VLOOKUP($AA751,DATA!$B$3:$E$6,2,0)","v":"14:30:00"},{"$f":"VLOOKUP($AA751,DATA!$B$3:$E$6,3,0)","v":"22:30:00"},{"$f":"VLOOKUP($AA751,DATA!$B$3:$E$6,4,0)","v":3.125E-2},0.30208333333333337,0.20416666666666672,{"$f":"DATA!$C$9","v":0.89},{"$f":"DATA!$C$10","v":64},1,275.62500000000006,407.81250000000006,9.7916666666666666E-2,132.1875,0.32413793103448274,0,"","",340.26666666666665,303,303,"","",null,{"$f":"WEEKNUM($Y741)","v":36},null,{"$f":"TEXT(Y750,\"ddd\")","v":"do"},"MD",{"$f":"IFERROR(HLOOKUP(Y750,[1]DATA!$A$1:$NB$5,4,0),\"\")","v":"D1"},141,null,16,319,{"$f":"VLOOKUP(Y750,[1]SRI!$S$4:$Z$368,7,0)","v":0},27.374999999999943,0.74298850574712638,1]
[{"$f":"X752&Z752&AA752","v":"36doND"},{"$f":"VLOOKUP($AA752,DATA!$B$3:$E$6,2,0)","v":"22:30:00"},{"$f":"VLOOKUP($AA752,DATA!$B$3:$E$6,3,0)","v":"06:30:00"},{"$f":"VLOOKUP($AA752,DATA!$B$3:$E$6,4,0)","v":3.125E-2},0.30208333333333326,0.29166666666666657,{"$f":"DATA!$C$9","v":0.89},{"$f":"DATA!$C$10","v":64},1,393.74999999999989,407.81249999999989,1.0416666666666666E-2,14.0625,3.4482758620689662E-2,0,{"$f":"IF($O752*86400/$H752=0,\"\",$O752*86400/$H752)","v":""},"",276.26666666666665,245,"","",245,null,{"$f":"X751","v":36},null,{"$f":"TEXT(Y750,\"ddd\")","v":"do"},"ND",{"$f":"IFERROR(HLOOKUP(Y750,[1]DATA!$A$1:$NB$5,5,0),\"\")","v":"D3"},15,null,14,259,{"$f":"VLOOKUP(Y750,[1]SRI!$S$4:$Z$368,8,0)","v":6},-148.74999999999989,0.60076628352490435,0.97874350495984885]
["36vrDD",{"$f":"VLOOKUP($AA753,DATA!$B$3:$E$6,2,0)","v":"06:30:00"},{"$f":"VLOOKUP($AA753,DATA!$B$3:$E$6,3,0)","v":"14:30:00"},{"$f":"VLOOKUP($AA753,DATA!$B$3:$E$6,4,0)","v":3.125E-2},0.30208333333333331,0.19791666666666663,{"$f":"DATA!$C$9","v":0.89},{"$f":"DATA!$C$10","v":64},1,267.18749999999994,407.8125,0.10416666666666667,140.625,0.34482758620689657,0,"","",284.8,253,"",253,"",null,{"$f":"X751","v":36},"2018-09-07",{"$f":"TEXT(Y753,\"ddd\")","v":"vr"},"DD",{"$f":"IFERROR(HLOOKUP(Y753,[1]DATA!$A$1:$NB$5,3,0),\"\")","v":"D2"},150,null,14,267,{"$f":"VLOOKUP(Y753,[1]SRI!$S$4:$Z$368,6,0)","v":0},-14.187499999999943,0.62038314176245213,1]
["36vrMD",{"$f":"VLOOKUP($AA754,DATA!$B$3:$E$6,2,0)","v":"14:30:00"},{"$f":"VLOOKUP($AA754,DATA!$B$3:$E$6,3,0)","v":"22:30:00"},{"$f":"VLOOKUP($AA754,DATA!$B$3:$E$6,4,0)","v":3.125E-2},0.30208333333333337,0.23819444444444449,{"$f":"DATA!$C$9","v":0.89},{"$f":"DATA!$C$10","v":64},1,321.56250000000006,407.81250000000006,6.3888888888888884E-2,86.25,0.21149425287356319,0,"","",340.26666666666665,307,307,"","",null,{"$f":"X751","v":36},null,{"$f":"TEXT(Y753,\"ddd\")","v":"vr"},"MD",{"$f":"IFERROR(HLOOKUP(Y753,[1]DATA!$A$1:$NB$5,4,0),\"\")","v":"D1"},92,null,12,319,{"$f":"VLOOKUP(Y753,[1]SRI!$S$4:$Z$368,7,0)","v":0},-14.562500000000057,0.75279693486590027,1]
["36vrND",{"$f":"VLOOKUP($AA755,DATA!$B$3:$E$6,2,0)","v":"22:30:00"},{"$f":"VLOOKUP($AA755,DATA!$B$3:$E$6,3,0)","v":"06:30:00"},{"$f":"VLOOKUP($AA755,DATA!$B$3:$E$6,4,0)","v":3.125E-2},0.30208333333333326,0.28124999999999994,{"$f":"DATA!$C$9","v":0.89},{"$f":"DATA!$C$10","v":64},1,379.68749999999994,407.81249999999989,2.0833333333333332E-2,28.125,6.8965517241379323E-2,0,"","",161.06666666666666,145,"","",145,null,{"$f":"X751","v":36},null,{"$f":"TEXT(Y753,\"ddd\")","v":"vr"},"ND",{"$f":"IFERROR(HLOOKUP(Y753,[1]DATA!$A$1:$NB$5,5,0),\"\")","v":"D3"},30,null,6,151,{"$f":"VLOOKUP(Y753,[1]SRI!$S$4:$Z$368,8,0)","v":0},-234.68749999999994,0.35555555555555568,1]
["36zaDD",{"$f":"VLOOKUP($AA756,DATA!$B$3:$E$6,2,0)","v":"06:30:00"},{"$f":"VLOOKUP($AA756,DATA!$B$3:$E$6,3,0)","v":"14:30:00"},{"$f":"VLOOKUP($AA756,DATA!$B$3:$E$6,4,0)","v":3.125E-2},0.30208333333333331,0.1159722222222222,{"$f":"DATA!$C$9","v":0.89},{"$f":"DATA!$C$10","v":64},1,156.56249999999997,407.8125,0.18611111111111112,251.25,0.61609195402298855,0,"","",176,160,"",160,"",null,{"$f":"X751","v":36},"2018-09-08",{"$f":"TEXT(Y756,\"ddd\")","v":"za"},"DD",{"$f":"IFERROR(HLOOKUP(Y756,[1]DATA!$A$1:$NB$5,3,0),\"\")","v":"D2"},268,null,5,165,{"$f":"VLOOKUP(Y756,[1]SRI!$S$4:$Z$368,6,0)","v":0},3.4375000000000284,0.39233716475095787,1]
["36zaMD",{"$f":"VLOOKUP($AA757,DATA!$B$3:$E$6,2,0)","v":"14:30:00"},{"$f":"VLOOKUP($AA757,DATA!$B$3:$E$6,3,0)","v":"22:30:00"},{"$f":"VLOOKUP($AA757,DATA!$B$3:$E$6,4,0)","v":3.125E-2},0.30208333333333337,0.30208333333333337,{"$f":"DATA!$C$9","v":0.89},{"$f":"DATA!$C$10","v":64},1,407.81250000000006,407.81250000000006,0,"","",0,"","",0,"","","","",null,{"$f":"X751","v":36},null,{"$f":"TEXT(Y756,\"ddd\")","v":"za"},"MD",{"$f":"IFERROR(HLOOKUP(Y756,[1]DATA!$A$1:$NB$5,4,0),\"\")","v":"-"},null,null,null,null,{"$f":"VLOOKUP(Y756,[1]SRI!$S$4:$Z$368,7,0)","v":0},"","",""]
["36zaND",{"$f":"VLOOKUP($AA758,DATA!$B$3:$E$6,2,0)","v":"22:30:00"},{"$f":"VLOOKUP($AA758,DATA!$B$3:$E$6,3,0)","v":"06:30:00"},{"$f":"VLOOKUP($AA758,DATA!$B$3:$E$6,4,0)","v":3.125E-2},0.30208333333333326,0.30208333333333326,{"$f":"DATA!$C$9","v":0.89},{"$f":"DATA!$C$10","v":64},1,407.81249999999989,407.81249999999989,0,"","",0,"","",0,"","","","",null,{"$f":"X751","v":36},null,{"$f":"TEXT(Y756,\"ddd\")","v":"za"},"ND",{"$f":"IFERROR(HLOOKUP(Y756,[1]DATA!$A$1:$NB$5,5,0),\"\")","v":"-"},null,null,null,null,{"$f":"VLOOKUP(Y756,[1]SRI!$S$4:$Z$368,8,0)","v":0},"","",""]
["36zoDD",{"$f":"VLOOKUP($AA759,DATA!$B$3:$E$6,2,0)","v":"06:30:00"},{"$f":"VLOOKUP($AA759,DATA!$B$3:$E$6,3,0)","v":"14:30:00"},{"$f":"VLOOKUP($AA759,DATA!$B$3:$E$6,4,0)","v":3.125E-2},0.30208333333333331,0.30208333333333331,{"$f":"DATA!$C$9","v":0.89},{"$f":"DATA!$C$10","v":64},1,407.8125,407.8125,0,"","",0,"","",0,"","","","",null,{"$f":"X751","v":36},"2018-09-09",{"$f":"TEXT(Y759,\"ddd\")","v":"zo"},"DD",{"$f":"IFERROR(HLOOKUP(Y759,[1]DATA!$A$1:$NB$5,3,0),\"\")","v":"-"},null,null,null,null,{"$f":"VLOOKUP(Y759,[1]SRI!$S$4:$Z$368,6,0)","v":0},"","",""]
["36zoMD",{"$f":"VLOOKUP($AA760,DATA!$B$3:$E$6,2,0)","v":"14:30:00"},{"$f":"VLOOKUP($AA760,DATA!$B$3:$E$6,3,0)","v":"22:30:00"},{"$f":"VLOOKUP($AA760,DATA!$B$3:$E$6,4,0)","v":3.125E-2},0.30208333333333337,0.30208333333333337,{"$f":"DATA!$C$9","v":0.89},{"$f":"DATA!$C$10","v":64},1,407.81250000000006,407.81250000000006,0,"","",0,"","",0,"","","","",null,{"$f":"X751","v":36},null,{"$f":"TEXT(Y759,\"ddd\")","v":"zo"},"MD",{"$f":"IFERROR(HLOOKUP(Y759,[1]DATA!$A$1:$NB$5,4,0),\"\")","v":"-"},null,null,null,null,{"$f":"VLOOKUP(Y759,[1]SRI!$S$4:$Z$368,7,0)","v":0},"","",""]
["36zoZND",{"$f":"VLOOKUP($AA761,DATA!$B$3:$E$6,2,0)","v":"00:00:00"},{"$f":"VLOOKUP($AA761,DATA!$B$3:$E$6,3,0)","v":"00:00:00"},{"$f":"VLOOKUP($AA761,DATA!$B$3:$E$6,4,0)","v":3.125E-2},-3.125E-2,-3.125E-2,{"$f":"DATA!$C$9","v":0.89},{"$f":"DATA!$C$10","v":64},1,-42.1875,-42.1875,0,"","",0,"","",0,"","","","",null,{"$f":"X751","v":36},null,{"$f":"TEXT(Y759,\"ddd\")","v":"zo"},"ZND",{"$f":"IFERROR(HLOOKUP(Y759,[1]DATA!$A$1:$NB$5,5,0),\"\")","v":"-"},null,null,null,null,{"$f":"VLOOKUP(Y759,[1]SRI!$S$4:$Z$368,8,0)","v":0},"","",""]
["37maDD",{"$f":"VLOOKUP($AA762,DATA!$B$3:$E$6,2,0)","v":"06:30:00"},{"$f":"VLOOKUP($AA762,DATA!$B$3:$E$6,3,0)","v":"14:30:00"},{"$f":"VLOOKUP($AA762,DATA!$B$3:$E$6,4,0)","v":3.125E-2},0.30208333333333331,0.22916666666666663,{"$f":"DATA!$C$9","v":0.89},{"$f":"DATA!$C$10","v":64},1,309.37499999999994,407.8125,7.2916666666666671E-2,98.4375,0.2413793103448276,{"$f":"TIME(INT($AD762/60),INT(MOD($AD762,60)/1),0)","v":0},"","",298.66666666666669,257,257,"","",null,{"$f":"X772","v":37},{"$f":"Y759+1","v":"2018-09-10"},{"$f":"TEXT(Y762,\"ddd\")","v":"ma"},"DD",{"$f":"IFERROR(HLOOKUP(Y762,[1]DATA!$A$1:$NB$5,3,0),\"\")","v":"D1"},105,null,23,280,{"$f":"VLOOKUP(Y762,[1]SRI!$S$4:$Z$368,6,0)","v":2},-52.374999999999943,0.63019157088122602,0.99334811529933487,{"$f":"IF(SUMIF(S762:S782,\">0\",K762:K782)=0,\"\",SUMIF(S762:S782,\">0\",K762:K782))","v":6117.1875},{"$f":"IF(SUM(S762:S782)=0,\"\",SUM(S762:S782))","v":4465},{"$f":"IFERROR(AL762/AK762,\"-\")","v":0.72991060025542787},{"$f":"IF(SUM(M762:M782)=0,\"0\",SUM(M762:M782))","v":1249.6875},{"$f":"IFERROR(AN762/AK762,\"-\")","v":0.20429118773946361},{"$f":"IF(SUM(P762:P782)=0,0,SUM(P762:P782))","v":0},{"$f":"IFERROR(AP762/AK762,\"-\")","v":0},{"$f":"IFERROR(AVERAGE(AJ762:AJ782),\"-\")","v":0.97699667678705149},{"$f":"IFERROR(SUMIF($AB762:$AB782,AS$5,$AJ762:$AJ782)/COUNTIFS($AB762:$AB782,AS$5,$AJ762:$AJ782,\">0\"),\"\")","v":0.9873129185910654},0.99895214809640243,0.94472496367368686,{"$f":"IFERROR((AK762-AL762-AN762-AP762),\"-\")","v":402.5},{"$f":"IFERROR((1-AM762-AO762-AQ762), \"-\")","v":6.579821200510852E-2},{"$f":"IFERROR((AV762*$AE$2)/60,\"-\")","v":429.33333333333331},{"$f":"IFERROR(SUM(AG762:AG782),\"\")","v":95}]
["37maMD",{"$f":"VLOOKUP($AA763,DATA!$B$3:$E$6,2,0)","v":"14:30:00"},{"$f":"VLOOKUP($AA763,DATA!$B$3:$E$6,3,0)","v":"22:30:00"},{"$f":"VLOOKUP($AA763,DATA!$B$3:$E$6,4,0)","v":3.125E-2},0.30208333333333337,0.14513888888888893,{"$f":"DATA!$C$9","v":0.89},{"$f":"DATA!$C$10","v":64},1,195.93750000000006,407.81250000000006,0.15694444444444444,211.875,0.51954022988505744,{"$f":"TIME(INT(AD763/60),INT(MOD(AD763,60)/1),0)","v":0},"","",150.4,133,"","",133,null,{"$f":"X772","v":37},null,{"$f":"TEXT(Y762,\"ddd\")","v":"ma"},"MD",{"$f":"IFERROR(HLOOKUP(Y762,[1]DATA!$A$1:$NB$5,4,0),\"\")","v":"D3"},226,null,8,141,{"$f":"VLOOKUP(Y762,[1]SRI!$S$4:$Z$368,7,0)","v":30},-62.937500000000057,0.32613026819923369,0.83370288248337032]
["37maND",{"$f":"VLOOKUP($AA764,DATA!$B$3:$E$6,2,0)","v":"22:30:00"},{"$f":"VLOOKUP($AA764,DATA!$B$3:$E$6,3,0)","v":"06:30:00"},{"$f":"VLOOKUP($AA764,DATA!$B$3:$E$6,4,0)","v":3.125E-2},0.30208333333333326,0.20833333333333326,{"$f":"DATA!$C$9","v":0.89},{"$f":"DATA!$C$10","v":64},1,281.24999999999989,407.81249999999989,9.375E-2,126.5625,0.31034482758620696,0,"","",333.86666666666667,290,"",290,"",null,{"$f":"X772","v":37},null,{"$f":"TEXT(Y762,\"ddd\")","v":"ma"},"ND",{"$f":"IFERROR(HLOOKUP(Y762,[1]DATA!$A$1:$NB$5,5,0),\"\")","v":"D2"},135,null,23,313,{"$f":"VLOOKUP(Y762,[1]SRI!$S$4:$Z$368,8,0)","v":0},8.7500000000001137,0.71111111111111136,1]
["37diDD",{"$f":"VLOOKUP($AA765,DATA!$B$3:$E$6,2,0)","v":"06:30:00"},{"$f":"VLOOKUP($AA765,DATA!$B$3:$E$6,3,0)","v":"14:30:00"},{"$f":"VLOOKUP($AA765,DATA!$B$3:$E$6,4,0)","v":3.125E-2},0.30208333333333331,0.25763888888888886,{"$f":"DATA!$C$9","v":0.89},{"$f":"DATA!$C$10","v":64},1,347.81249999999994,407.8125,4.4444444444444446E-2,60,0.14712643678160919,0,"","",375.46666666666664,329,329,"","",null,{"$f":"X772","v":37},"2018-09-11",{"$f":"TEXT(Y765,\"ddd\")","v":"di"},"DD",{"$f":"IFERROR(HLOOKUP(Y765,[1]DATA!$A$1:$NB$5,3,0),\"\")","v":"D1"},64,null,23,352,{"$f":"VLOOKUP(Y765,[1]SRI!$S$4:$Z$368,6,0)","v":15},-18.812499999999943,0.80674329501915709,0.96158442888850948]
["37diMD",{"$f":"VLOOKUP($AA766,DATA!$B$3:$E$6,2,0)","v":"14:30:00"},{"$f":"VLOOKUP($AA766,DATA!$B$3:$E$6,3,0)","v":"22:30:00"},{"$f":"VLOOKUP($AA766,DATA!$B$3:$E$6,4,0)","v":3.125E-2},0.30208333333333337,0.2479166666666667,{"$f":"DATA!$C$9","v":0.89},{"$f":"DATA!$C$10","v":64},1,334.68750000000006,407.81250000000006,5.4166666666666669E-2,73.125,0.17931034482758618,0,"","",332.8,305,"","",305,null,{"$f":"X772","v":37},null,{"$f":"TEXT(Y765,\"ddd\")","v":"di"},"MD",{"$f":"IFERROR(HLOOKUP(Y765,[1]DATA!$A$1:$NB$5,4,0),\"\")","v":"D3"},78,null,7,312,{"$f":"VLOOKUP(Y765,[1]SRI!$S$4:$Z$368,7,0)","v":3},-29.687500000000057,0.74789272030651333,0.99106611078022633]
["37diND",{"$f":"VLOOKUP($AA767,DATA!$B$3:$E$6,2,0)","v":"22:30:00"},{"$f":"VLOOKUP($AA767,DATA!$B$3:$E$6,3,0)","v":"06:30:00"},{"$f":"VLOOKUP($AA767,DATA!$B$3:$E$6,4,0)","v":3.125E-2},0.30208333333333326,0.2631944444444444,{"$f":"DATA!$C$9","v":0.89},{"$f":"DATA!$C$10","v":64},1,355.31249999999994,407.81249999999989,3.888888888888889E-2,52.5,0.12873563218390807,0,"","",361.6,326,"",326,"",null,{"$f":"X772","v":37},null,{"$f":"TEXT(Y765,\"ddd\")","v":"di"},"ND",{"$f":"IFERROR(HLOOKUP(Y765,[1]DATA!$A$1:$NB$5,5,0),\"\")","v":"D2"},56,null,13,339,{"$f":"VLOOKUP(Y765,[1]SRI!$S$4:$Z$368,8,0)","v":0},-29.312499999999943,0.7993869731800769,1]
["37woDD",{"$f":"VLOOKUP($AA768,DATA!$B$3:$E$6,2,0)","v":"06:30:00"},{"$f":"VLOOKUP($AA768,DATA!$B$3:$E$6,3,0)","v":"14:30:00"},{"$f":"VLOOKUP($AA768,DATA!$B$3:$E$6,4,0)","v":3.125E-2},0.30208333333333331,0.22847222222222219,{"$f":"DATA!$C$9","v":0.89},{"$f":"DATA!$C$10","v":64},1,308.43749999999994,407.8125,7.3611111111111113E-2,99.375,0.24367816091954023,0,"","",344.5333333333333,300,300,"","",null,{"$f":"X772","v":37},"2018-09-12",{"$f":"TEXT(Y768,\"ddd\")","v":"wo"},"DD",{"$f":"IFERROR(HLOOKUP(Y768,[1]DATA!$A$1:$NB$5,3,0),\"\")","v":"D1"},106,null,23,323,{"$f":"VLOOKUP(Y768,[1]SRI!$S$4:$Z$368,6,0)","v":2},-8.4374999999999432,0.73563218390804597,0.99422854944209316]
["37woMD",{"$f":"VLOOKUP($AA769,DATA!$B$3:$E$6,2,0)","v":"14:30:00"},{"$f":"VLOOKUP($AA769,DATA!$B$3:$E$6,3,0)","v":"22:30:00"},{"$f":"VLOOKUP($AA769,DATA!$B$3:$E$6,4,0)","v":3.125E-2},0.30208333333333337,0.22986111111111113,{"$f":"DATA!$C$9","v":0.89},{"$f":"DATA!$C$10","v":64},1,310.3125,407.81250000000006,7.2222222222222229E-2,97.500000000000014,0.23908045977011494,0,"","",332.8,299,"","",299,null,{"$f":"X772","v":37},null,{"$f":"TEXT(Y768,\"ddd\")","v":"wo"},"MD",{"$f":"IFERROR(HLOOKUP(Y768,[1]DATA!$A$1:$NB$5,4,0),\"\")","v":"D3"},104,null,13,312,{"$f":"VLOOKUP(Y768,[1]SRI!$S$4:$Z$368,7,0)","v":5},-11.3125,0.73318007662835238,0.985198342214328]
["37woND",{"$f":"VLOOKUP($AA770,DATA!$B$3:$E$6,2,0)","v":"22:30:00"},{"$f":"VLOOKUP($AA770,DATA!$B$3:$E$6,3,0)","v":"06:30:00"},{"$f":"VLOOKUP($AA770,DATA!$B$3:$E$6,4,0)","v":3.125E-2},0.30208333333333326,0.2763888888888888,{"$f":"DATA!$C$9","v":0.89},{"$f":"DATA!$C$10","v":64},1,373.12499999999989,407.81249999999989,2.5694444444444447E-2,34.6875,8.5057471264367843E-2,0,"","",371.2,340,"",340,"",null,{"$f":"X772","v":37},null,{"$f":"TEXT(Y768,\"ddd\")","v":"wo"},"ND",{"$f":"IFERROR(HLOOKUP(Y768,[1]DATA!$A$1:$NB$5,5,0),\"\")","v":"D2"},37,null,8,348,{"$f":"VLOOKUP(Y768,[1]SRI!$S$4:$Z$368,8,0)","v":0},-33.124999999999886,0.83371647509578573,1]
["37doDD",{"$f":"VLOOKUP($AA771,DATA!$B$3:$E$6,2,0)","v":"06:30:00"},{"$f":"VLOOKUP($AA771,DATA!$B$3:$E$6,3,0)","v":"14:30:00"},{"$f":"VLOOKUP($AA771,DATA!$B$3:$E$6,4,0)","v":3.125E-2},0.30208333333333331,0.24027777777777776,{"$f":"DATA!$C$9","v":0.89},{"$f":"DATA!$C$10","v":64},1,324.375,407.8125,6.1805555555555558E-2,83.4375,0.2045977011494253,0,"","",377.6,331,331,"","",null,{"$f":"X772","v":37},"2018-09-13",{"$f":"TEXT(Y771,\"ddd\")","v":"do"},"DD",{"$f":"IFERROR(HLOOKUP(Y771,[1]DATA!$A$1:$NB$5,3,0),\"\")","v":"D1"},89,null,23,354,{"$f":"VLOOKUP(Y771,[1]SRI!$S$4:$Z$368,6,0)","v":2},6.625,0.81164750957854404,0.99473129610115907]
["37doMD",{"$f":"VLOOKUP($AA772,DATA!$B$3:$E$6,2,0)","v":"14:30:00"},{"$f":"VLOOKUP($AA772,DATA!$B$3:$E$6,3,0)","v":"22:30:00"},{"$f":"VLOOKUP($AA772,DATA!$B$3:$E$6,4,0)","v":3.125E-2},0.30208333333333337,0.22986111111111113,{"$f":"DATA!$C$9","v":0.89},{"$f":"DATA!$C$10","v":64},1,310.3125,407.81250000000006,7.2222222222222229E-2,97.500000000000014,0.23908045977011494,0,"","",334.93333333333334,292,"","",292,null,{"$f":"WEEKNUM($Y762)","v":37},null,{"$f":"TEXT(Y771,\"ddd\")","v":"do"},"MD",{"$f":"IFERROR(HLOOKUP(Y771,[1]DATA!$A$1:$NB$5,4,0),\"\")","v":"D3"},104,null,22,314,{"$f":"VLOOKUP(Y771,[1]SRI!$S$4:$Z$368,7,0)","v":10},-18.3125,0.71601532567049797,0.97100889060688056]
["37doND",{"$f":"VLOOKUP($AA773,DATA!$B$3:$E$6,2,0)","v":"22:30:00"},{"$f":"VLOOKUP($AA773,DATA!$B$3:$E$6,3,0)","v":"06:30:00"},{"$f":"VLOOKUP($AA773,DATA!$B$3:$E$6,4,0)","v":3.125E-2},0.30208333333333326,0.26180555555555546,{"$f":"DATA!$C$9","v":0.89},{"$f":"DATA!$C$10","v":64},1,353.43749999999989,407.81249999999989,4.027777777777778E-2,54.375,0.13333333333333336,0,"","",379.73333333333335,335,"",335,"",null,{"$f":"X772","v":37},null,{"$f":"TEXT(Y771,\"ddd\")","v":"do"},"ND",{"$f":"IFERROR(HLOOKUP(Y771,[1]DATA!$A$1:$NB$5,5,0),\"\")","v":"D2"},58,null,21,356,{"$f":"VLOOKUP(Y771,[1]SRI!$S$4:$Z$368,8,0)","v":2},-18.437499999999886,0.82145593869731826,0.99476074048201191]
["37vrDD",{"$f":"VLOOKUP($AA774,DATA!$B$3:$E$6,2,0)","v":"06:30:00"},{"$f":"VLOOKUP($AA774,DATA!$B$3:$E$6,3,0)","v":"14:30:00"},{"$f":"VLOOKUP($AA774,DATA!$B$3:$E$6,4,0)","v":3.125E-2},0.30208333333333331,0.20277777777777778,{"$f":"DATA!$C$9","v":0.89},{"$f":"DATA!$C$10","v":64},1,273.75,407.8125,9.930555555555555E-2,134.0625,0.32873563218390806,0,"","",270.93333333333334,240,240,"","",null,{"$f":"X772","v":37},"2018-09-14",{"$f":"TEXT(Y774,\"ddd\")","v":"vr"},"DD",{"$f":"IFERROR(HLOOKUP(Y774,[1]DATA!$A$1:$NB$5,3,0),\"\")","v":"D1"},143,null,14,254,{"$f":"VLOOKUP(Y774,[1]SRI!$S$4:$Z$368,6,0)","v":2},{"$f":"IFERROR(S774-J774,\"\")","v":-33.75},{"$f":"IFERROR(IF(S774/(E774*86400/H774)<=0,\"\",S774/(E774*86400/H774)),\"\")","v":0.58850574712643677},0.99267220322423055]
["37vrMD",{"$f":"VLOOKUP($AA775,DATA!$B$3:$E$6,2,0)","v":"14:30:00"},{"$f":"VLOOKUP($AA775,DATA!$B$3:$E$6,3,0)","v":"22:30:00"},{"$f":"VLOOKUP($AA775,DATA!$B$3:$E$6,4,0)","v":3.125E-2},0.30208333333333337,0.28333333333333338,{"$f":"DATA!$C$9","v":0.89},{"$f":"DATA!$C$10","v":64},1,382.50000000000006,407.81250000000006,{"$f":"TIME(INT($AC775/60),INT(MOD($AC775,60)/1),0)","v":1.8749999999999999E-2},{"$f":"IF($L775*86400/$H775=0,\"\",$L775*86400/$H775)","v":25.3125},{"$f":"IFERROR($M775/$K775,\"\")","v":6.2068965517241372E-2},0,"",{"$f":"IFERROR($P775/$K775,\"\")","v":""},361.6,315,{"$f":"IF(IF($AB775=\"D1\",$S775,\"\")=0,\"\",IF($AB775=\"D1\",$S775,\"\"))","v":""},{"$f":"IF(IF($AB775=\"D2\",$S775,\"\")=0,\"\",IF($AB775=\"D2\",$S775,\"\"))","v":""},{"$f":"IF(IF($AB775=\"D3\",$S775,\"\")=0,\"\",IF($AB775=\"D3\",$S775,\"\"))","v":315},null,{"$f":"X772","v":37},null,{"$f":"TEXT(Y774,\"ddd\")","v":"vr"},"MD",{"$f":"IFERROR(HLOOKUP(Y774,[1]DATA!$A$1:$NB$5,4,0),\"\")","v":"D3"},27,null,24,339,{"$f":"VLOOKUP(Y774,[1]SRI!$S$4:$Z$368,7,0)","v":22},-67.500000000000057,0.77241379310344815,0.94264859228362874]
["37vrND",{"$f":"VLOOKUP($AA776,DATA!$B$3:$E$6,2,0)","v":"22:30:00"},{"$f":"VLOOKUP($AA776,DATA!$B$3:$E$6,3,0)","v":"06:30:00"},{"$f":"VLOOKUP($AA776,DATA!$B$3:$E$6,4,0)","v":3.125E-2},0.30208333333333326,0.30138888888888882,{"$f":"DATA!$C$9","v":0.89},{"$f":"DATA!$C$10","v":64},1,406.87499999999989,407.81249999999989,6.9444444444444447E-4,0.9375,2.2988505747126445E-3,0,"","",413.86666666666667,373,"",373,"",null,{"$f":"X772","v":37},null,{"$f":"TEXT(Y774,\"ddd\")","v":"vr"},"ND",{"$f":"IFERROR(HLOOKUP(Y774,[1]DATA!$A$1:$NB$5,5,0),\"\")","v":"D2"},1,null,15,388,{"$f":"VLOOKUP(Y774,[1]SRI!$S$4:$Z$368,8,0)","v":0},-33.874999999999886,0.91463601532567074,1]
["37zaDD",{"$f":"VLOOKUP($AA777,DATA!$B$3:$E$6,2,0)","v":"06:30:00"},{"$f":"VLOOKUP($AA777,DATA!$B$3:$E$6,3,0)","v":"14:30:00"},{"$f":"VLOOKUP($AA777,DATA!$B$3:$E$6,4,0)","v":3.125E-2},0.30208333333333331,0.30208333333333331,{"$f":"DATA!$C$9","v":0.89},{"$f":"DATA!$C$10","v":64},1,407.8125,407.8125,0,"","",0,"","",0,"","","","",null,{"$f":"X772","v":37},"2018-09-15",{"$f":"TEXT(Y777,\"ddd\")","v":"za"},"DD",{"$f":"IFERROR(HLOOKUP(Y777,[1]DATA!$A$1:$NB$5,3,0),\"\")","v":"D1"},null,null,null,null,{"$f":"VLOOKUP(Y777,[1]SRI!$S$4:$Z$368,6,0)","v":0},"","",""]
["37zaMD",{"$f":"VLOOKUP($AA778,DATA!$B$3:$E$6,2,0)","v":"14:30:00"},{"$f":"VLOOKUP($AA778,DATA!$B$3:$E$6,3,0)","v":"22:30:00"},{"$f":"VLOOKUP($AA778,DATA!$B$3:$E$6,4,0)","v":3.125E-2},0.30208333333333337,0.30208333333333337,{"$f":"DATA!$C$9","v":0.89},{"$f":"DATA!$C$10","v":64},1,407.81250000000006,407.81250000000006,0,"","",0,"","",0,"","","","",null,{"$f":"X772","v":37},null,{"$f":"TEXT(Y777,\"ddd\")","v":"za"},"MD",{"$f":"IFERROR(HLOOKUP(Y777,[1]DATA!$A$1:$NB$5,4,0),\"\")","v":"-"},null,null,null,null,{"$f":"VLOOKUP(Y777,[1]SRI!$S$4:$Z$368,7,0)","v":0},"","",""]
["37zaND",{"$f":"VLOOKUP($AA779,DATA!$B$3:$E$6,2,0)","v":"22:30:00"},{"$f":"VLOOKUP($AA779,DATA!$B$3:$E$6,3,0)","v":"06:30:00"},{"$f":"VLOOKUP($AA779,DATA!$B$3:$E$6,4,0)","v":3.125E-2},0.30208333333333326,0.30208333333333326,{"$f":"DATA!$C$9","v":0.89},{"$f":"DATA!$C$10","v":64},1,407.81249999999989,407.81249999999989,0,"","",0,"","",0,"","","","",null,{"$f":"X772","v":37},null,{"$f":"TEXT(Y777,\"ddd\")","v":"za"},"ND",{"$f":"IFERROR(HLOOKUP(Y777,[1]DATA!$A$1:$NB$5,5,0),\"\")","v":"-"},null,null,null,null,{"$f":"VLOOKUP(Y777,[1]SRI!$S$4:$Z$368,8,0)","v":0},"","",""]
["37zoDD",{"$f":"VLOOKUP($AA780,DATA!$B$3:$E$6,2,0)","v":"06:30:00"},{"$f":"VLOOKUP($AA780,DATA!$B$3:$E$6,3,0)","v":"14:30:00"},{"$f":"VLOOKUP($AA780,DATA!$B$3:$E$6,4,0)","v":3.125E-2},0.30208333333333331,0.30208333333333331,{"$f":"DATA!$C$9","v":0.89},{"$f":"DATA!$C$10","v":64},1,407.8125,407.8125,0,"","",0,"","",0,"","","","",null,{"$f":"X772","v":37},"2018-09-16",{"$f":"TEXT(Y780,\"ddd\")","v":"zo"},"DD",{"$f":"IFERROR(HLOOKUP(Y780,[1]DATA!$A$1:$NB$5,3,0),\"\")","v":"-"},null,null,null,null,{"$f":"VLOOKUP(Y780,[1]SRI!$S$4:$Z$368,6,0)","v":0},"","",""]
["37zoMD",{"$f":"VLOOKUP($AA781,DATA!$B$3:$E$6,2,0)","v":"14:30:00"},{"$f":"VLOOKUP($AA781,DATA!$B$3:$E$6,3,0)","v":"22:30:00"},{"$f":"VLOOKUP($AA781,DATA!$B$3:$E$6,4,0)","v":3.125E-2},0.30208333333333337,0.30208333333333337,{"$f":"DATA!$C$9","v":0.89},{"$f":"DATA!$C$10","v":64},1,407.81250000000006,407.81250000000006,0,"","",0,"","",0,"","","","",null,{"$f":"X772","v":37},null,{"$f":"TEXT(Y780,\"ddd\")","v":"zo"},"MD",{"$f":"IFERROR(HLOOKUP(Y780,[1]DATA!$A$1:$NB$5,4,0),\"\")","v":"-"},null,null,null,null,{"$f":"VLOOKUP(Y780,[1]SRI!$S$4:$Z$368,7,0)","v":0},"","",""]
["37zoZND",{"$f":"VLOOKUP($AA782,DATA!$B$3:$E$6,2,0)","v":"00:00:00"},{"$f":"VLOOKUP($AA782,DATA!$B$3:$E$6,3,0)","v":"00:00:00"},{"$f":"VLOOKUP($AA782,DATA!$B$3:$E$6,4,0)","v":3.125E-2},-3.125E-2,-3.125E-2,{"$f":"DATA!$C$9","v":0.89},{"$f":"DATA!$C$10","v":64},1,-42.1875,-42.1875,0,"","",0,"","",0,"","","","",null,{"$f":"X772","v":37},null,{"$f":"TEXT(Y780,\"ddd\")","v":"zo"},"ZND",{"$f":"IFERROR(HLOOKUP(Y780,[1]DATA!$A$1:$NB$5,5,0),\"\")","v":"-"},null,null,null,null,{"$f":"VLOOKUP(Y780,[1]SRI!$S$4:$Z$368,8,0)","v":0},"","",""]
["38maDD",{"$f":"VLOOKUP($AA783,DATA!$B$3:$E$6,2,0)","v":"06:30:00"},{"$f":"VLOOKUP($AA783,DATA!$B$3:$E$6,3,0)","v":"14:30:00"},{"$f":"VLOOKUP($AA783,DATA!$B$3:$E$6,4,0)","v":3.125E-2},0.30208333333333331,0.25208333333333333,{"$f":"DATA!$C$9","v":0.89},{"$f":"DATA!$C$10","v":64},1,340.3125,407.8125,4.9999999999999996E-2,67.5,0.16551724137931034,{"$f":"TIME(INT($AD783/60),INT(MOD($AD783,60)/1),0)","v":0},"","",316.8,288,"","",288,null,{"$f":"X793","v":38},"2018-09-17",{"$f":"TEXT(Y783,\"ddd\")","v":"ma"},"DD",{"$f":"IFERROR(HLOOKUP(Y783,[1]DATA!$A$1:$NB$5,3,0),\"\")","v":"D3"},72,null,9,297,{"$f":"VLOOKUP(Y783,[1]SRI!$S$4:$Z$368,6,0)","v":0},-52.3125,0.70620689655172408,1,{"$f":"IF(SUMIF(S783:S803,\">0\",K783:K803)=0,\"\",SUMIF(S783:S803,\">0\",K783:K803))","v":6117.1875},{"$f":"IF(SUM(S783:S803)=0,\"\",SUM(S783:S803))","v":4255},{"$f":"IFERROR(AL783/AK783,\"-\")","v":0.69558109833971904},{"$f":"IF(SUM(M783:M803)=0,\"0\",SUM(M783:M803))","v":1593.75},{"$f":"IFERROR(AN783/AK783,\"-\")","v":0.26053639846743293},{"$f":"IF(SUM(P783:P803)=0,0,SUM(P783:P803))","v":0},{"$f":"IFERROR(AP783/AK783,\"-\")","v":0},0.97727759136934877,{"$f":"IFERROR(SUMIF($AB783:$AB803,AS$5,$AJ783:$AJ803)/COUNTIFS($AB783:$AB803,AS$5,$AJ783:$AJ803,\">0\"),\"\")","v":0.99544774578879824},0.95538081417486376,0.98901760046717124,{"$f":"IFERROR((AK783-AL783-AN783-AP783),\"-\")","v":268.4375},{"$f":"IFERROR((1-AM783-AO783-AQ783), \"-\")","v":4.3882503192848032E-2},{"$f":"IFERROR((AV783*$AE$2)/60,\"-\")","v":286.33333333333331},{"$f":"IFERROR(SUM(AG783:AG803),\"\")","v":105}]
["38maMD",{"$f":"VLOOKUP($AA784,DATA!$B$3:$E$6,2,0)","v":"14:30:00"},{"$f":"VLOOKUP($AA784,DATA!$B$3:$E$6,3,0)","v":"22:30:00"},{"$f":"VLOOKUP($AA784,DATA!$B$3:$E$6,4,0)","v":3.125E-2},0.30208333333333337,0.20486111111111116,{"$f":"DATA!$C$9","v":0.89},{"$f":"DATA!$C$10","v":64},1,276.56250000000006,407.81250000000006,9.7222222222222224E-2,131.25,0.32183908045977005,{"$f":"TIME(INT(AD784/60),INT(MOD(AD784,60)/1),0)","v":0},"","",233.6,209,"",209,"",null,{"$f":"X793","v":38},null,{"$f":"TEXT(Y783,\"ddd\")","v":"ma"},"MD",{"$f":"IFERROR(HLOOKUP(Y783,[1]DATA!$A$1:$NB$5,4,0),\"\")","v":"D2"},140,null,10,219,{"$f":"VLOOKUP(Y783,[1]SRI!$S$4:$Z$368,7,0)","v":70},-67.562500000000057,0.51249042145593859,0.76943346508563892]
["38maND",{"$f":"VLOOKUP($AA785,DATA!$B$3:$E$6,2,0)","v":"22:30:00"},{"$f":"VLOOKUP($AA785,DATA!$B$3:$E$6,3,0)","v":"06:30:00"},{"$f":"VLOOKUP($AA785,DATA!$B$3:$E$6,4,0)","v":3.125E-2},0.30208333333333326,0.18888888888888883,{"$f":"DATA!$C$9","v":0.89},{"$f":"DATA!$C$10","v":64},1,254.99999999999991,407.81249999999989,0.11319444444444444,152.8125,0.37471264367816104,0,"","",298.66666666666669,261,261,"","",null,{"$f":"X793","v":38},null,{"$f":"TEXT(Y783,\"ddd\")","v":"ma"},"ND",{"$f":"IFERROR(HLOOKUP(Y783,[1]DATA!$A$1:$NB$5,5,0),\"\")","v":"D1"},163,null,19,280,{"$f":"VLOOKUP(Y783,[1]SRI!$S$4:$Z$368,8,0)","v":0},6.0000000000000853,0.64000000000000012,1]
["38diDD",{"$f":"VLOOKUP($AA786,DATA!$B$3:$E$6,2,0)","v":"06:30:00"},{"$f":"VLOOKUP($AA786,DATA!$B$3:$E$6,3,0)","v":"14:30:00"},{"$f":"VLOOKUP($AA786,DATA!$B$3:$E$6,4,0)","v":3.125E-2},0.30208333333333331,0.23888888888888887,{"$f":"DATA!$C$9","v":0.89},{"$f":"DATA!$C$10","v":64},1,322.5,407.8125,6.3194444444444442E-2,85.3125,0.20919540229885059,0,"","",338.13333333333333,298,"","",298,null,{"$f":"X793","v":38},"2018-09-18",{"$f":"TEXT(Y786,\"ddd\")","v":"di"},"DD",{"$f":"IFERROR(HLOOKUP(Y786,[1]DATA!$A$1:$NB$5,3,0),\"\")","v":"D3"},91,null,19,317,{"$f":"VLOOKUP(Y786,[1]SRI!$S$4:$Z$368,6,0)","v":0},-24.5,0.73072796934865902,1]
["38diMD",{"$f":"VLOOKUP($AA787,DATA!$B$3:$E$6,2,0)","v":"14:30:00"},{"$f":"VLOOKUP($AA787,DATA!$B$3:$E$6,3,0)","v":"22:30:00"},{"$f":"VLOOKUP($AA787,DATA!$B$3:$E$6,4,0)","v":3.125E-2},0.30208333333333337,0.21805555555555561,{"$f":"DATA!$C$9","v":0.89},{"$f":"DATA!$C$10","v":64},1,294.37500000000006,407.81250000000006,8.4027777777777771E-2,113.43749999999999,0.27816091954022981,0,"","",321.06666666666666,286,"",286,"",null,{"$f":"X793","v":38},null,{"$f":"TEXT(Y786,\"ddd\")","v":"di"},"MD",{"$f":"IFERROR(HLOOKUP(Y786,[1]DATA!$A$1:$NB$5,4,0),\"\")","v":"D2"},121,null,15,301,{"$f":"VLOOKUP(Y786,[1]SRI!$S$4:$Z$368,7,0)","v":0},-8.3750000000000568,0.70130268199233703,1]
["38diND",{"$f":"VLOOKUP($AA788,DATA!$B$3:$E$6,2,0)","v":"22:30:00"},{"$f":"VLOOKUP($AA788,DATA!$B$3:$E$6,3,0)","v":"06:30:00"},{"$f":"VLOOKUP($AA788,DATA!$B$3:$E$6,4,0)","v":3.125E-2},0.30208333333333326,0.20277777777777772,{"$f":"DATA!$C$9","v":0.89},{"$f":"DATA!$C$10","v":64},1,273.74999999999994,407.81249999999989,9.930555555555555E-2,134.0625,0.32873563218390811,0,"","",316.8,279,279,"","",null,{"$f":"X793","v":38},null,{"$f":"TEXT(Y786,\"ddd\")","v":"di"},"ND",{"$f":"IFERROR(HLOOKUP(Y786,[1]DATA!$A$1:$NB$5,5,0),\"\")","v":"D1"},143,null,18,297,{"$f":"VLOOKUP(Y786,[1]SRI!$S$4:$Z$368,8,0)","v":5},5.2500000000000568,0.68413793103448295,0.98446239900559351]
["38woDD",{"$f":"VLOOKUP($AA789,DATA!$B$3:$E$6,2,0)","v":"06:30:00"},{"$f":"VLOOKUP($AA789,DATA!$B$3:$E$6,3,0)","v":"14:30:00"},{"$f":"VLOOKUP($AA789,DATA!$B$3:$E$6,4,0)","v":3.125E-2},0.30208333333333331,0.21736111111111112,{"$f":"DATA!$C$9","v":0.89},{"$f":"DATA!$C$10","v":64},1,293.4375,407.8125,8.4722222222222213E-2,114.37499999999999,0.2804597701149425,0,"","",252.79999999999998,219,"","",219,null,{"$f":"X793","v":38},"2018-09-19",{"$f":"TEXT(Y789,\"ddd\")","v":"wo"},"DD",{"$f":"IFERROR(HLOOKUP(Y789,[1]DATA!$A$1:$NB$5,3,0),\"\")","v":"D3"},122,null,18,237,{"$f":"VLOOKUP(Y789,[1]SRI!$S$4:$Z$368,6,0)","v":10},-74.4375,0.53701149425287353,0.96194824961948255]
["38woMD",{"$f":"VLOOKUP($AA790,DATA!$B$3:$E$6,2,0)","v":"14:30:00"},{"$f":"VLOOKUP($AA790,DATA!$B$3:$E$6,3,0)","v":"22:30:00"},{"$f":"VLOOKUP($AA790,DATA!$B$3:$E$6,4,0)","v":3.125E-2},0.30208333333333337,0.22986111111111113,{"$f":"DATA!$C$9","v":0.89},{"$f":"DATA!$C$10","v":64},1,310.3125,407.81250000000006,7.2222222222222229E-2,97.500000000000014,0.23908045977011494,0,"","",342.4,310,"",310,"",null,{"$f":"X793","v":38},null,{"$f":"TEXT(Y789,\"ddd\")","v":"wo"},"MD",{"$f":"IFERROR(HLOOKUP(Y789,[1]DATA!$A$1:$NB$5,4,0),\"\")","v":"D2"},104,null,11,321,{"$f":"VLOOKUP(Y789,[1]SRI!$S$4:$Z$368,7,0)","v":3},-0.3125,0.76015325670498068,0.99131441806601039]
["38woND",{"$f":"VLOOKUP($AA791,DATA!$B$3:$E$6,2,0)","v":"22:30:00"},{"$f":"VLOOKUP($AA791,DATA!$B$3:$E$6,3,0)","v":"06:30:00"},{"$f":"VLOOKUP($AA791,DATA!$B$3:$E$6,4,0)","v":3.125E-2},0.30208333333333326,0.23888888888888882,{"$f":"DATA!$C$9","v":0.89},{"$f":"DATA!$C$10","v":64},1,322.49999999999989,407.81249999999989,6.3194444444444442E-2,85.3125,0.20919540229885064,0,"","",373.33333333333331,323,323,"","",null,{"$f":"X793","v":38},null,{"$f":"TEXT(Y789,\"ddd\")","v":"wo"},"ND",{"$f":"IFERROR(HLOOKUP(Y789,[1]DATA!$A$1:$NB$5,5,0),\"\")","v":"D1"},91,null,27,350,{"$f":"VLOOKUP(Y789,[1]SRI!$S$4:$Z$368,8,0)","v":1},0.50000000000011369,0.79203065134099637,0.99732858414959924]
["38doDD",{"$f":"VLOOKUP($AA792,DATA!$B$3:$E$6,2,0)","v":"06:30:00"},{"$f":"VLOOKUP($AA792,DATA!$B$3:$E$6,3,0)","v":"14:30:00"},{"$f":"VLOOKUP($AA792,DATA!$B$3:$E$6,4,0)","v":3.125E-2},0.30208333333333331,0.23958333333333331,{"$f":"DATA!$C$9","v":0.89},{"$f":"DATA!$C$10","v":64},1,323.4375,407.8125,6.25E-2,84.375,0.20689655172413793,0,"","",349.86666666666667,313,"","",313,null,{"$f":"X793","v":38},"2018-09-20",{"$f":"TEXT(Y792,\"ddd\")","v":"do"},"DD",{"$f":"IFERROR(HLOOKUP(Y792,[1]DATA!$A$1:$NB$5,3,0),\"\")","v":"D3"},90,null,15,328,{"$f":"VLOOKUP(Y792,[1]SRI!$S$4:$Z$368,6,0)","v":6},-10.4375,0.76750957854406132,0.98313975271637322]
["38doMD",{"$f":"VLOOKUP($AA793,DATA!$B$3:$E$6,2,0)","v":"14:30:00"},{"$f":"VLOOKUP($AA793,DATA!$B$3:$E$6,3,0)","v":"22:30:00"},{"$f":"VLOOKUP($AA793,DATA!$B$3:$E$6,4,0)","v":3.125E-2},0.30208333333333337,0.27152777777777781,{"$f":"DATA!$C$9","v":0.89},{"$f":"DATA!$C$10","v":64},1,366.56250000000006,407.81250000000006,3.0555555555555555E-2,41.25,0.10114942528735631,0,"","",341.33333333333331,314,"",314,"",null,{"$f":"WEEKNUM($Y783)","v":38},null,{"$f":"TEXT(Y792,\"ddd\")","v":"do"},"MD",{"$f":"IFERROR(HLOOKUP(Y792,[1]DATA!$A$1:$NB$5,4,0),\"\")","v":"D2"},44,null,6,320,{"$f":"VLOOKUP(Y792,[1]SRI!$S$4:$Z$368,7,0)","v":10},-52.562500000000057,0.76996168582375468,0.97153700189753323]
["38doND",{"$f":"VLOOKUP($AA794,DATA!$B$3:$E$6,2,0)","v":"22:30:00"},{"$f":"VLOOKUP($AA794,DATA!$B$3:$E$6,3,0)","v":"06:30:00"},{"$f":"VLOOKUP($AA794,DATA!$B$3:$E$6,4,0)","v":3.125E-2},0.30208333333333326,0.27291666666666659,{"$f":"DATA!$C$9","v":0.89},{"$f":"DATA!$C$10","v":64},1,368.43749999999989,407.81249999999989,2.9166666666666664E-2,39.374999999999993,9.6551724137931047E-2,0,"","",376.5333333333333,332,332,"","",null,{"$f":"X793","v":38},null,{"$f":"TEXT(Y792,\"ddd\")","v":"do"},"ND",{"$f":"IFERROR(HLOOKUP(Y792,[1]DATA!$A$1:$NB$5,5,0),\"\")","v":"D1"},42,null,21,353,{"$f":"VLOOKUP(Y792,[1]SRI!$S$4:$Z$368,8,0)","v":0},-36.437499999999886,0.81409961685823773,1]
["38vrDD",{"$f":"VLOOKUP($AA795,DATA!$B$3:$E$6,2,0)","v":"06:30:00"},{"$f":"VLOOKUP($AA795,DATA!$B$3:$E$6,3,0)","v":"14:30:00"},{"$f":"VLOOKUP($AA795,DATA!$B$3:$E$6,4,0)","v":3.125E-2},0.30208333333333331,0.14652777777777776,{"$f":"DATA!$C$9","v":0.89},{"$f":"DATA!$C$10","v":64},1,197.81249999999997,407.8125,0.15555555555555556,210,0.51494252873563218,0,"","",243.2,219,"","",219,null,{"$f":"X793","v":38},"2018-09-21",{"$f":"TEXT(Y795,\"ddd\")","v":"vr"},"DD",{"$f":"IFERROR(HLOOKUP(Y795,[1]DATA!$A$1:$NB$5,3,0),\"\")","v":"D3"},224,null,9,228,{"$f":"VLOOKUP(Y795,[1]SRI!$S$4:$Z$368,6,0)","v":0},21.187500000000028,0.53701149425287353,{"$f":"IFERROR(R795/(R795+AG795),\"\")","v":1}]
["38vrMD",{"$f":"VLOOKUP($AA796,DATA!$B$3:$E$6,2,0)","v":"14:30:00"},{"$f":"VLOOKUP($AA796,DATA!$B$3:$E$6,3,0)","v":"22:30:00"},{"$f":"VLOOKUP($AA796,DATA!$B$3:$E$6,4,0)","v":3.125E-2},{"$f":"(C796-B796+(B796>C796))-D796","v":0.30208333333333337},{"$f":"E796-O796-L796","v":0.22430555555555559},{"$f":"DATA!$C$9","v":0.89},{"$f":"DATA!$C$10","v":64},1,{"$f":"F796*86400/H796*I796","v":302.81250000000006},{"$f":"E796*86400/H796","v":407.81250000000006},7.7777777777777779E-2,105,0.25747126436781603,0,"","",{"$f":"AF796*AG$2","v":355.2},{"$f":"IF(AF796-AE796=0,\"\",AF796-AE796)","v":309},"",309,"",null,{"$f":"X793","v":38},null,{"$f":"TEXT(Y795,\"ddd\")","v":"vr"},"MD",{"$f":"IFERROR(HLOOKUP(Y795,[1]DATA!$A$1:$NB$5,4,0),\"\")","v":"D2"},112,null,24,333,{"$f":"VLOOKUP(Y795,[1]SRI!$S$4:$Z$368,7,0)","v":0},6.1874999999999432,0.75770114942528721,1]
["38vrND",{"$f":"VLOOKUP($AA797,DATA!$B$3:$E$6,2,0)","v":"22:30:00"},{"$f":"VLOOKUP($AA797,DATA!$B$3:$E$6,3,0)","v":"06:30:00"},{"$f":"VLOOKUP($AA797,DATA!$B$3:$E$6,4,0)","v":3.125E-2},0.30208333333333326,0.20416666666666661,{"$f":"DATA!$C$9","v":0.89},{"$f":"DATA!$C$10","v":64},1,275.62499999999994,407.81249999999989,9.7916666666666666E-2,132.1875,0.32413793103448285,0,"","",333.86666666666667,295,"",295,"",null,{"$f":"X793","v":38},null,{"$f":"TEXT(Y795,\"ddd\")","v":"vr"},"ND",{"$f":"IFERROR(HLOOKUP(Y795,[1]DATA!$A$1:$NB$5,5,0),\"\")","v":"D2"},141,null,18,313,{"$f":"VLOOKUP(Y795,[1]SRI!$S$4:$Z$368,8,0)","v":0},19.375000000000057,0.72337164750957872,1]
["38zaDD",{"$f":"VLOOKUP($AA798,DATA!$B$3:$E$6,2,0)","v":"06:30:00"},{"$f":"VLOOKUP($AA798,DATA!$B$3:$E$6,3,0)","v":"14:30:00"},{"$f":"VLOOKUP($AA798,DATA!$B$3:$E$6,4,0)","v":3.125E-2},0.30208333333333331,0.30208333333333331,{"$f":"DATA!$C$9","v":0.89},{"$f":"DATA!$C$10","v":64},1,407.8125,407.8125,0,"","",0,"","",0,"","","","",null,{"$f":"X793","v":38},"2018-09-22",{"$f":"TEXT(Y798,\"ddd\")","v":"za"},"DD",{"$f":"IFERROR(HLOOKUP(Y798,[1]DATA!$A$1:$NB$5,3,0),\"\")","v":"D3"},null,null,null,null,{"$f":"VLOOKUP(Y798,[1]SRI!$S$4:$Z$368,6,0)","v":0},"","",""]
["38zaMD",{"$f":"VLOOKUP($AA799,DATA!$B$3:$E$6,2,0)","v":"14:30:00"},{"$f":"VLOOKUP($AA799,DATA!$B$3:$E$6,3,0)","v":"22:30:00"},{"$f":"VLOOKUP($AA799,DATA!$B$3:$E$6,4,0)","v":3.125E-2},0.30208333333333337,0.30208333333333337,{"$f":"DATA!$C$9","v":0.89},{"$f":"DATA!$C$10","v":64},1,407.81250000000006,407.81250000000006,0,"","",0,"","",0,"","","","",null,{"$f":"X793","v":38},null,{"$f":"TEXT(Y798,\"ddd\")","v":"za"},"MD",{"$f":"IFERROR(HLOOKUP(Y798,[1]DATA!$A$1:$NB$5,4,0),\"\")","v":"-"},null,null,null,null,{"$f":"VLOOKUP(Y798,[1]SRI!$S$4:$Z$368,7,0)","v":0},"","",""]
["38zaND",{"$f":"VLOOKUP($AA800,DATA!$B$3:$E$6,2,0)","v":"22:30:00"},{"$f":"VLOOKUP($AA800,DATA!$B$3:$E$6,3,0)","v":"06:30:00"},{"$f":"VLOOKUP($AA800,DATA!$B$3:$E$6,4,0)","v":3.125E-2},0.30208333333333326,0.30208333333333326,{"$f":"DATA!$C$9","v":0.89},{"$f":"DATA!$C$10","v":64},1,407.81249999999989,407.81249999999989,0,"","",0,"","",0,"","","","",null,{"$f":"X793","v":38},null,{"$f":"TEXT(Y798,\"ddd\")","v":"za"},"ND",{"$f":"IFERROR(HLOOKUP(Y798,[1]DATA!$A$1:$NB$5,5,0),\"\")","v":"-"},null,null,null,null,{"$f":"VLOOKUP(Y798,[1]SRI!$S$4:$Z$368,8,0)","v":0},"","",""]
["38zoDD",{"$f":"VLOOKUP($AA801,DATA!$B$3:$E$6,2,0)","v":"06:30:00"},{"$f":"VLOOKUP($AA801,DATA!$B$3:$E$6,3,0)","v":"14:30:00"},{"$f":"VLOOKUP($AA801,DATA!$B$3:$E$6,4,0)","v":3.125E-2},0.30208333333333331,0.30208333333333331,{"$f":"DATA!$C$9","v":0.89},{"$f":"DATA!$C$10","v":64},1,407.8125,407.8125,0,"","",0,"","",0,"","","","",null,{"$f":"X793","v":38},"2018-09-23",{"$f":"TEXT(Y801,\"ddd\")","v":"zo"},"DD",{"$f":"IFERROR(HLOOKUP(Y801,[1]DATA!$A$1:$NB$5,3,0),\"\")","v":"-"},null,null,null,null,{"$f":"VLOOKUP(Y801,[1]SRI!$S$4:$Z$368,6,0)","v":0},"","",""]
["38zoMD",{"$f":"VLOOKUP($AA802,DATA!$B$3:$E$6,2,0)","v":"14:30:00"},{"$f":"VLOOKUP($AA802,DATA!$B$3:$E$6,3,0)","v":"22:30:00"},{"$f":"VLOOKUP($AA802,DATA!$B$3:$E$6,4,0)","v":3.125E-2},0.30208333333333337,0.30208333333333337,{"$f":"DATA!$C$9","v":0.89},{"$f":"DATA!$C$10","v":64},1,407.81250000000006,407.81250000000006,0,"","",0,"","",0,"","","","",null,{"$f":"X793","v":38},null,{"$f":"TEXT(Y801,\"ddd\")","v":"zo"},"MD",{"$f":"IFERROR(HLOOKUP(Y801,[1]DATA!$A$1:$NB$5,4,0),\"\")","v":"-"},null,null,null,null,{"$f":"VLOOKUP(Y801,[1]SRI!$S$4:$Z$368,7,0)","v":0},"","",""]
["38zoZND",{"$f":"VLOOKUP($AA803,DATA!$B$3:$E$6,2,0)","v":"00:00:00"},{"$f":"VLOOKUP($AA803,DATA!$B$3:$E$6,3,0)","v":"00:00:00"},{"$f":"VLOOKUP($AA803,DATA!$B$3:$E$6,4,0)","v":3.125E-2},-3.125E-2,-3.125E-2,{"$f":"DATA!$C$9","v":0.89},{"$f":"DATA!$C$10","v":64},1,-42.1875,-42.1875,0,"","",0,"","",0,"","","","",null,{"$f":"X793","v":38},null,{"$f":"TEXT(Y801,\"ddd\")","v":"zo"},"ZND",{"$f":"IFERROR(HLOOKUP(Y801,[1]DATA!$A$1:$NB$5,5,0),\"\")","v":"-"},null,null,null,null,{"$f":"VLOOKUP(Y801,[1]SRI!$S$4:$Z$368,8,0)","v":0},"","",""]
["39maDD",{"$f":"VLOOKUP($AA804,DATA!$B$3:$E$6,2,0)","v":"06:30:00"},{"$f":"VLOOKUP($AA804,DATA!$B$3:$E$6,3,0)","v":"14:30:00"},{"$f":"VLOOKUP($AA804,DATA!$B$3:$E$6,4,0)","v":3.125E-2},0.30208333333333331,0.30208333333333331,{"$f":"DATA!$C$9","v":0.89},{"$f":"DATA!$C$10","v":64},1,407.8125,407.8125,0,"","",{"$f":"TIME(INT($AD804/60),INT(MOD($AD804,60)/1),0)","v":0},"","",0,"","","","",null,{"$f":"X814","v":39},"2018-09-24",{"$f":"TEXT(Y804,\"ddd\")","v":"ma"},"DD",{"$f":"IFERROR(HLOOKUP(Y804,[1]DATA!$A$1:$NB$5,3,0),\"\")","v":"D2"},null,null,null,null,{"$f":"VLOOKUP(Y804,[1]SRI!$S$4:$Z$368,6,0)","v":47},"","",0,{"$f":"IF(SUMIF(S804:S824,\">0\",K804:K824)=0,\"\",SUMIF(S804:S824,\">0\",K804:K824))","v":""},{"$f":"IF(SUM(S804:S824)=0,\"\",SUM(S804:S824))","v":""},{"$f":"IFERROR(AL804/AK804,\"-\")","v":"-"},{"$f":"IF(SUM(M804:M824)=0,\"0\",SUM(M804:M824))","v":"0"},{"$f":"IFERROR(AN804/AK804,\"-\")","v":"-"},{"$f":"IF(SUM(P804:P824)=0,0,SUM(P804:P824))","v":0},{"$f":"IFERROR(AP804/AK804,\"-\")","v":"-"},0,{"$f":"IFERROR(SUMIF($AB804:$AB824,AS$5,$AJ804:$AJ824)/COUNTIFS($AB804:$AB824,AS$5,$AJ804:$AJ824,\">0\"),\"\")","v":""},"","",{"$f":"IFERROR((AK804-AL804-AN804-AP804),\"-\")","v":"-"},{"$f":"IFERROR((1-AM804-AO804-AQ804), \"-\")","v":"-"},{"$f":"IFERROR((AV804*$AE$2)/60,\"-\")","v":"-"},{"$f":"IFERROR(SUM(AG804:AG824),\"\")","v":110}]
["39maMD",{"$f":"VLOOKUP($AA805,DATA!$B$3:$E$6,2,0)","v":"14:30:00"},{"$f":"VLOOKUP($AA805,DATA!$B$3:$E$6,3,0)","v":"22:30:00"},{"$f":"VLOOKUP($AA805,DATA!$B$3:$E$6,4,0)","v":3.125E-2},0.30208333333333337,0.30208333333333337,{"$f":"DATA!$C$9","v":0.89},{"$f":"DATA!$C$10","v":64},1,407.81250000000006,407.81250000000006,0,"","",{"$f":"TIME(INT(AD805/60),INT(MOD(AD805,60)/1),0)","v":0},"","",0,"","","","",null,{"$f":"X814","v":39},null,{"$f":"TEXT(Y804,\"ddd\")","v":"ma"},"MD",{"$f":"IFERROR(HLOOKUP(Y804,[1]DATA!$A$1:$NB$5,4,0),\"\")","v":"D1"},null,null,null,null,{"$f":"VLOOKUP(Y804,[1]SRI!$S$4:$Z$368,7,0)","v":4},"","",0]
["39maND",{"$f":"VLOOKUP($AA806,DATA!$B$3:$E$6,2,0)","v":"22:30:00"},{"$f":"VLOOKUP($AA806,DATA!$B$3:$E$6,3,0)","v":"06:30:00"},{"$f":"VLOOKUP($AA806,DATA!$B$3:$E$6,4,0)","v":3.125E-2},0.30208333333333326,0.30208333333333326,{"$f":"DATA!$C$9","v":0.89},{"$f":"DATA!$C$10","v":64},1,407.81249999999989,407.81249999999989,0,"","",0,"","",0,"","","","",null,{"$f":"X814","v":39},null,{"$f":"TEXT(Y804,\"ddd\")","v":"ma"},"ND",{"$f":"IFERROR(HLOOKUP(Y804,[1]DATA!$A$1:$NB$5,5,0),\"\")","v":"D3"},null,null,null,null,{"$f":"VLOOKUP(Y804,[1]SRI!$S$4:$Z$368,8,0)","v":0},"","",""]
["39diDD",{"$f":"VLOOKUP($AA807,DATA!$B$3:$E$6,2,0)","v":"06:30:00"},{"$f":"VLOOKUP($AA807,DATA!$B$3:$E$6,3,0)","v":"14:30:00"},{"$f":"VLOOKUP($AA807,DATA!$B$3:$E$6,4,0)","v":3.125E-2},0.30208333333333331,0.30208333333333331,{"$f":"DATA!$C$9","v":0.89},{"$f":"DATA!$C$10","v":64},1,407.8125,407.8125,0,"","",0,"","",0,"","","","",null,{"$f":"X814","v":39},"2018-09-25",{"$f":"TEXT(Y807,\"ddd\")","v":"di"},"DD",{"$f":"IFERROR(HLOOKUP(Y807,[1]DATA!$A$1:$NB$5,3,0),\"\")","v":"D2"},null,null,null,null,{"$f":"VLOOKUP(Y807,[1]SRI!$S$4:$Z$368,6,0)","v":10},"","",0]
["39diMD",{"$f":"VLOOKUP($AA808,DATA!$B$3:$E$6,2,0)","v":"14:30:00"},{"$f":"VLOOKUP($AA808,DATA!$B$3:$E$6,3,0)","v":"22:30:00"},{"$f":"VLOOKUP($AA808,DATA!$B$3:$E$6,4,0)","v":3.125E-2},0.30208333333333337,0.30208333333333337,{"$f":"DATA!$C$9","v":0.89},{"$f":"DATA!$C$10","v":64},1,407.81250000000006,407.81250000000006,0,"","",0,"","",0,"","","","",null,{"$f":"X814","v":39},null,{"$f":"TEXT(Y807,\"ddd\")","v":"di"},"MD",{"$f":"IFERROR(HLOOKUP(Y807,[1]DATA!$A$1:$NB$5,4,0),\"\")","v":"D1"},null,null,null,null,{"$f":"VLOOKUP(Y807,[1]SRI!$S$4:$Z$368,7,0)","v":3},"","",0]
["39diND",{"$f":"VLOOKUP($AA809,DATA!$B$3:$E$6,2,0)","v":"22:30:00"},{"$f":"VLOOKUP($AA809,DATA!$B$3:$E$6,3,0)","v":"06:30:00"},{"$f":"VLOOKUP($AA809,DATA!$B$3:$E$6,4,0)","v":3.125E-2},0.30208333333333326,0.30208333333333326,{"$f":"DATA!$C$9","v":0.89},{"$f":"DATA!$C$10","v":64},1,407.81249999999989,407.81249999999989,0,"","",0,"","",0,"","","","",null,{"$f":"X814","v":39},null,{"$f":"TEXT(Y807,\"ddd\")","v":"di"},"ND",{"$f":"IFERROR(HLOOKUP(Y807,[1]DATA!$A$1:$NB$5,5,0),\"\")","v":"D3"},null,null,null,null,{"$f":"VLOOKUP(Y807,[1]SRI!$S$4:$Z$368,8,0)","v":8},"","",0]
["39woDD",{"$f":"VLOOKUP($AA810,DATA!$B$3:$E$6,2,0)","v":"06:30:00"},{"$f":"VLOOKUP($AA810,DATA!$B$3:$E$6,3,0)","v":"14:30:00"},{"$f":"VLOOKUP($AA810,DATA!$B$3:$E$6,4,0)","v":3.125E-2},0.30208333333333331,0.30208333333333331,{"$f":"DATA!$C$9","v":0.89},{"$f":"DATA!$C$10","v":64},1,407.8125,407.8125,0,"","",0,"","",0,"","","","",null,{"$f":"X814","v":39},"2018-09-26",{"$f":"TEXT(Y810,\"ddd\")","v":"wo"},"DD",{"$f":"IFERROR(HLOOKUP(Y810,[1]DATA!$A$1:$NB$5,3,0),\"\")","v":"D2"},null,null,null,null,{"$f":"VLOOKUP(Y810,[1]SRI!$S$4:$Z$368,6,0)","v":3},"","",0]
["39woMD",{"$f":"VLOOKUP($AA811,DATA!$B$3:$E$6,2,0)","v":"14:30:00"},{"$f":"VLOOKUP($AA811,DATA!$B$3:$E$6,3,0)","v":"22:30:00"},{"$f":"VLOOKUP($AA811,DATA!$B$3:$E$6,4,0)","v":3.125E-2},0.30208333333333337,0.30208333333333337,{"$f":"DATA!$C$9","v":0.89},{"$f":"DATA!$C$10","v":64},1,407.81250000000006,407.81250000000006,0,"","",0,"","",0,"","","","",null,{"$f":"X814","v":39},null,{"$f":"TEXT(Y810,\"ddd\")","v":"wo"},"MD",{"$f":"IFERROR(HLOOKUP(Y810,[1]DATA!$A$1:$NB$5,4,0),\"\")","v":"D1"},null,null,null,null,{"$f":"VLOOKUP(Y810,[1]SRI!$S$4:$Z$368,7,0)","v":0},"","",""]
["39woND",{"$f":"VLOOKUP($AA812,DATA!$B$3:$E$6,2,0)","v":"22:30:00"},{"$f":"VLOOKUP($AA812,DATA!$B$3:$E$6,3,0)","v":"06:30:00"},{"$f":"VLOOKUP($AA812,DATA!$B$3:$E$6,4,0)","v":3.125E-2},0.30208333333333326,0.30208333333333326,{"$f":"DATA!$C$9","v":0.89},{"$f":"DATA!$C$10","v":64},1,407.81249999999989,407.81249999999989,0,"","",0,"","",0,"","","","",null,{"$f":"X814","v":39},null,{"$f":"TEXT(Y810,\"ddd\")","v":"wo"},"ND",{"$f":"IFERROR(HLOOKUP(Y810,[1]DATA!$A$1:$NB$5,5,0),\"\")","v":"D3"},null,null,null,null,{"$f":"VLOOKUP(Y810,[1]SRI!$S$4:$Z$368,8,0)","v":0},"","",""]
["39doDD",{"$f":"VLOOKUP($AA813,DATA!$B$3:$E$6,2,0)","v":"06:30:00"},{"$f":"VLOOKUP($AA813,DATA!$B$3:$E$6,3,0)","v":"14:30:00"},{"$f":"VLOOKUP($AA813,DATA!$B$3:$E$6,4,0)","v":3.125E-2},0.30208333333333331,0.30208333333333331,{"$f":"DATA!$C$9","v":0.89},{"$f":"DATA!$C$10","v":64},1,407.8125,407.8125,0,"","",0,"","",0,"","","","",null,{"$f":"X814","v":39},"2018-09-27",{"$f":"TEXT(Y813,\"ddd\")","v":"do"},"DD",{"$f":"IFERROR(HLOOKUP(Y813,[1]DATA!$A$1:$NB$5,3,0),\"\")","v":"D2"},null,null,null,null,{"$f":"VLOOKUP(Y813,[1]SRI!$S$4:$Z$368,6,0)","v":30},"","",0]
["39doMD",{"$f":"VLOOKUP($AA814,DATA!$B$3:$E$6,2,0)","v":"14:30:00"},{"$f":"VLOOKUP($AA814,DATA!$B$3:$E$6,3,0)","v":"22:30:00"},{"$f":"VLOOKUP($AA814,DATA!$B$3:$E$6,4,0)","v":3.125E-2},0.30208333333333337,0.30208333333333337,{"$f":"DATA!$C$9","v":0.89},{"$f":"DATA!$C$10","v":64},1,407.81250000000006,407.81250000000006,0,"","",0,"","",0,"","","","",null,{"$f":"WEEKNUM($Y804)","v":39},null,{"$f":"TEXT(Y813,\"ddd\")","v":"do"},"MD",{"$f":"IFERROR(HLOOKUP(Y813,[1]DATA!$A$1:$NB$5,4,0),\"\")","v":"D1"},null,null,null,null,{"$f":"VLOOKUP(Y813,[1]SRI!$S$4:$Z$368,7,0)","v":5},"","",0]
["39doND",{"$f":"VLOOKUP($AA815,DATA!$B$3:$E$6,2,0)","v":"22:30:00"},{"$f":"VLOOKUP($AA815,DATA!$B$3:$E$6,3,0)","v":"06:30:00"},{"$f":"VLOOKUP($AA815,DATA!$B$3:$E$6,4,0)","v":3.125E-2},0.30208333333333326,0.30208333333333326,{"$f":"DATA!$C$9","v":0.89},{"$f":"DATA!$C$10","v":64},1,407.81249999999989,407.81249999999989,0,"","",0,"","",0,"","","","",null,{"$f":"X814","v":39},null,{"$f":"TEXT(Y813,\"ddd\")","v":"do"},"ND",{"$f":"IFERROR(HLOOKUP(Y813,[1]DATA!$A$1:$NB$5,5,0),\"\")","v":"D3"},null,null,null,null,{"$f":"VLOOKUP(Y813,[1]SRI!$S$4:$Z$368,8,0)","v":0},"","",""]
[{"$f":"X816&Z816&AA816","v":"39vrDD"},{"$f":"VLOOKUP($AA816,DATA!$B$3:$E$6,2,0)","v":"06:30:00"},{"$f":"VLOOKUP($AA816,DATA!$B$3:$E$6,3,0)","v":"14:30:00"},{"$f":"VLOOKUP($AA816,DATA!$B$3:$E$6,4,0)","v":3.125E-2},0.30208333333333331,0.30208333333333331,{"$f":"DATA!$C$9","v":0.89},{"$f":"DATA!$C$10","v":64},1,407.8125,407.8125,0,"","",0,{"$f":"IF($O816*86400/$H816=0,\"\",$O816*86400/$H816)","v":""},"",0,"","","","",null,{"$f":"X814","v":39},"2018-09-28",{"$f":"TEXT(Y816,\"ddd\")","v":"vr"},"DD",{"$f":"IFERROR(HLOOKUP(Y816,[1]DATA!$A$1:$NB$5,3,0),\"\")","v":"D2"},null,null,null,null,{"$f":"VLOOKUP(Y816,[1]SRI!$S$4:$Z$368,6,0)","v":0},"","",""]
["39vrMD",{"$f":"VLOOKUP($AA817,DATA!$B$3:$E$6,2,0)","v":"14:30:00"},{"$f":"VLOOKUP($AA817,DATA!$B$3:$E$6,3,0)","v":"22:30:00"},{"$f":"VLOOKUP($AA817,DATA!$B$3:$E$6,4,0)","v":3.125E-2},0.30208333333333337,0.30208333333333337,{"$f":"DATA!$C$9","v":0.89},{"$f":"DATA!$C$10","v":64},1,407.81250000000006,407.81250000000006,0,"","",0,"","",0,"","","","",null,{"$f":"X814","v":39},null,{"$f":"TEXT(Y816,\"ddd\")","v":"vr"},"MD",{"$f":"IFERROR(HLOOKUP(Y816,[1]DATA!$A$1:$NB$5,4,0),\"\")","v":"D1"},null,null,null,null,{"$f":"VLOOKUP(Y816,[1]SRI!$S$4:$Z$368,7,0)","v":0},"","",""]
["39vrND",{"$f":"VLOOKUP($AA818,DATA!$B$3:$E$6,2,0)","v":"22:30:00"},{"$f":"VLOOKUP($AA818,DATA!$B$3:$E$6,3,0)","v":"06:30:00"},{"$f":"VLOOKUP($AA818,DATA!$B$3:$E$6,4,0)","v":3.125E-2},0.30208333333333326,0.30208333333333326,{"$f":"DATA!$C$9","v":0.89},{"$f":"DATA!$C$10","v":64},1,407.81249999999989,407.81249999999989,0,"","",0,"","",0,"","","","",null,{"$f":"X814","v":39},null,{"$f":"TEXT(Y816,\"ddd\")","v":"vr"},"ND",{"$f":"IFERROR(HLOOKUP(Y816,[1]DATA!$A$1:$NB$5,5,0),\"\")","v":"D3"},null,null,null,null,{"$f":"VLOOKUP(Y816,[1]SRI!$S$4:$Z$368,8,0)","v":0},"","",""]
["39zaDD",{"$f":"VLOOKUP($AA819,DATA!$B$3:$E$6,2,0)","v":"06:30:00"},{"$f":"VLOOKUP($AA819,DATA!$B$3:$E$6,3,0)","v":"14:30:00"},{"$f":"VLOOKUP($AA819,DATA!$B$3:$E$6,4,0)","v":3.125E-2},0.30208333333333331,0.30208333333333331,{"$f":"DATA!$C$9","v":0.89},{"$f":"DATA!$C$10","v":64},1,407.8125,407.8125,0,"","",0,"","",0,"","","","",null,{"$f":"X814","v":39},"2018-09-29",{"$f":"TEXT(Y819,\"ddd\")","v":"za"},"DD",{"$f":"IFERROR(HLOOKUP(Y819,[1]DATA!$A$1:$NB$5,3,0),\"\")","v":"D2"},null,null,null,null,{"$f":"VLOOKUP(Y819,[1]SRI!$S$4:$Z$368,6,0)","v":0},"","",""]
["39zaMD",{"$f":"VLOOKUP($AA820,DATA!$B$3:$E$6,2,0)","v":"14:30:00"},{"$f":"VLOOKUP($AA820,DATA!$B$3:$E$6,3,0)","v":"22:30:00"},{"$f":"VLOOKUP($AA820,DATA!$B$3:$E$6,4,0)","v":3.125E-2},0.30208333333333337,0.30208333333333337,{"$f":"DATA!$C$9","v":0.89},{"$f":"DATA!$C$10","v":64},1,407.81250000000006,407.81250000000006,0,"","",0,"","",0,"","","","",null,{"$f":"X814","v":39},null,{"$f":"TEXT(Y819,\"ddd\")","v":"za"},"MD",{"$f":"IFERROR(HLOOKUP(Y819,[1]DATA!$A$1:$NB$5,4,0),\"\")","v":"-"},null,null,null,null,{"$f":"VLOOKUP(Y819,[1]SRI!$S$4:$Z$368,7,0)","v":0},"","",""]
["39zaND",{"$f":"VLOOKUP($AA821,DATA!$B$3:$E$6,2,0)","v":"22:30:00"},{"$f":"VLOOKUP($AA821,DATA!$B$3:$E$6,3,0)","v":"06:30:00"},{"$f":"VLOOKUP($AA821,DATA!$B$3:$E$6,4,0)","v":3.125E-2},0.30208333333333326,0.30208333333333326,{"$f":"DATA!$C$9","v":0.89},{"$f":"DATA!$C$10","v":64},1,407.81249999999989,407.81249999999989,0,"","",0,"","",0,"","","","",null,{"$f":"X814","v":39},null,{"$f":"TEXT(Y819,\"ddd\")","v":"za"},"ND",{"$f":"IFERROR(HLOOKUP(Y819,[1]DATA!$A$1:$NB$5,5,0),\"\")","v":"-"},null,null,null,null,{"$f":"VLOOKUP(Y819,[1]SRI!$S$4:$Z$368,8,0)","v":0},"","",""]
["39zoDD",{"$f":"VLOOKUP($AA822,DATA!$B$3:$E$6,2,0)","v":"06:30:00"},{"$f":"VLOOKUP($AA822,DATA!$B$3:$E$6,3,0)","v":"14:30:00"},{"$f":"VLOOKUP($AA822,DATA!$B$3:$E$6,4,0)","v":3.125E-2},0.30208333333333331,0.30208333333333331,{"$f":"DATA!$C$9","v":0.89},{"$f":"DATA!$C$10","v":64},1,407.8125,407.8125,0,"","",0,"","",0,"","","","",null,{"$f":"X814","v":39},"2018-09-30",{"$f":"TEXT(Y822,\"ddd\")","v":"zo"},"DD",{"$f":"IFERROR(HLOOKUP(Y822,[1]DATA!$A$1:$NB$5,3,0),\"\")","v":"-"},null,null,null,null,{"$f":"VLOOKUP(Y822,[1]SRI!$S$4:$Z$368,6,0)","v":0},"","",""]
["39zoMD",{"$f":"VLOOKUP($AA823,DATA!$B$3:$E$6,2,0)","v":"14:30:00"},{"$f":"VLOOKUP($AA823,DATA!$B$3:$E$6,3,0)","v":"22:30:00"},{"$f":"VLOOKUP($AA823,DATA!$B$3:$E$6,4,0)","v":3.125E-2},0.30208333333333337,0.30208333333333337,{"$f":"DATA!$C$9","v":0.89},{"$f":"DATA!$C$10","v":64},1,407.81250000000006,407.81250000000006,0,"","",0,"","",0,"","","","",null,{"$f":"X814","v":39},null,{"$f":"TEXT(Y822,\"ddd\")","v":"zo"},"MD",{"$f":"IFERROR(HLOOKUP(Y822,[1]DATA!$A$1:$NB$5,4,0),\"\")","v":"-"},null,null,null,null,{"$f":"VLOOKUP(Y822,[1]SRI!$S$4:$Z$368,7,0)","v":0},"","",""]
["39zoZND",{"$f":"VLOOKUP($AA824,DATA!$B$3:$E$6,2,0)","v":"00:00:00"},{"$f":"VLOOKUP($AA824,DATA!$B$3:$E$6,3,0)","v":"00:00:00"},{"$f":"VLOOKUP($AA824,DATA!$B$3:$E$6,4,0)","v":3.125E-2},-3.125E-2,-3.125E-2,{"$f":"DATA!$C$9","v":0.89},{"$f":"DATA!$C$10","v":64},1,-42.1875,-42.1875,0,"","",0,"","",0,"","","","",null,{"$f":"X814","v":39},null,{"$f":"TEXT(Y822,\"ddd\")","v":"zo"},"ZND",{"$f":"IFERROR(HLOOKUP(Y822,[1]DATA!$A$1:$NB$5,5,0),\"\")","v":"-"},null,null,null,null,{"$f":"VLOOKUP(Y822,[1]SRI!$S$4:$Z$368,8,0)","v":0},"","",""]
["40maDD",{"$f":"VLOOKUP($AA825,DATA!$B$3:$E$6,2,0)","v":"06:30:00"},{"$f":"VLOOKUP($AA825,DATA!$B$3:$E$6,3,0)","v":"14:30:00"},{"$f":"VLOOKUP($AA825,DATA!$B$3:$E$6,4,0)","v":3.125E-2},0.30208333333333331,0.30208333333333331,{"$f":"DATA!$C$9","v":0.89},{"$f":"DATA!$C$10","v":64},1,407.8125,407.8125,0,"","",{"$f":"TIME(INT($AD825/60),INT(MOD($AD825,60)/1),0)","v":0},"","",0,"","","","",null,{"$f":"X835","v":40},{"$f":"Y822+1","v":"2018-10-01"},{"$f":"TEXT(Y825,\"ddd\")","v":"ma"},"DD",{"$f":"IFERROR(HLOOKUP(Y825,[1]DATA!$A$1:$NB$5,3,0),\"\")","v":"D1"},null,null,null,null,{"$f":"VLOOKUP(Y825,[1]SRI!$S$4:$Z$368,6,0)","v":0},"","","",{"$f":"IF(SUMIF(S825:S845,\">0\",K825:K845)=0,\"\",SUMIF(S825:S845,\">0\",K825:K845))","v":""},{"$f":"IF(SUM(S825:S845)=0,\"\",SUM(S825:S845))","v":""},{"$f":"IFERROR(AL825/AK825,\"-\")","v":"-"},{"$f":"IF(SUM(M825:M845)=0,\"0\",SUM(M825:M845))","v":"0"},{"$f":"IFERROR(AN825/AK825,\"-\")","v":"-"},{"$f":"IF(SUM(P825:P845)=0,0,SUM(P825:P845))","v":0},{"$f":"IFERROR(AP825/AK825,\"-\")","v":"-"},"-",{"$f":"IFERROR(SUMIF($AB825:$AB845,AS$5,$AJ825:$AJ845)/COUNTIFS($AB825:$AB845,AS$5,$AJ825:$AJ845,\">0\"),\"\")","v":""},"","",{"$f":"IFERROR((AK825-AL825-AN825-AP825),\"-\")","v":"-"},{"$f":"IFERROR((1-AM825-AO825-AQ825), \"-\")","v":"-"},{"$f":"IFERROR((AV825*$AE$2)/60,\"-\")","v":"-"},{"$f":"IFERROR(SUM(AG825:AG845),\"\")","v":0}]
["40maMD",{"$f":"VLOOKUP($AA826,DATA!$B$3:$E$6,2,0)","v":"14:30:00"},{"$f":"VLOOKUP($AA826,DATA!$B$3:$E$6,3,0)","v":"22:30:00"},{"$f":"VLOOKUP($AA826,DATA!$B$3:$E$6,4,0)","v":3.125E-2},0.30208333333333337,0.30208333333333337,{"$f":"DATA!$C$9","v":0.89},{"$f":"DATA!$C$10","v":64},1,407.81250000000006,407.81250000000006,0,"","",{"$f":"TIME(INT(AD826/60),INT(MOD(AD826,60)/1),0)","v":0},"","",0,"","","","",null,{"$f":"X835","v":40},null,{"$f":"TEXT(Y825,\"ddd\")","v":"ma"},"MD",{"$f":"IFERROR(HLOOKUP(Y825,[1]DATA!$A$1:$NB$5,4,0),\"\")","v":"D3"},null,null,null,null,{"$f":"VLOOKUP(Y825,[1]SRI!$S$4:$Z$368,7,0)","v":0},"","",""]
["40maND",{"$f":"VLOOKUP($AA827,DATA!$B$3:$E$6,2,0)","v":"22:30:00"},{"$f":"VLOOKUP($AA827,DATA!$B$3:$E$6,3,0)","v":"06:30:00"},{"$f":"VLOOKUP($AA827,DATA!$B$3:$E$6,4,0)","v":3.125E-2},0.30208333333333326,0.30208333333333326,{"$f":"DATA!$C$9","v":0.89},{"$f":"DATA!$C$10","v":64},1,407.81249999999989,407.81249999999989,0,"","",0,"","",0,"","","","",null,{"$f":"X835","v":40},null,{"$f":"TEXT(Y825,\"ddd\")","v":"ma"},"ND",{"$f":"IFERROR(HLOOKUP(Y825,[1]DATA!$A$1:$NB$5,5,0),\"\")","v":"D2"},null,null,null,null,{"$f":"VLOOKUP(Y825,[1]SRI!$S$4:$Z$368,8,0)","v":0},"","",""]
["40diDD",{"$f":"VLOOKUP($AA828,DATA!$B$3:$E$6,2,0)","v":"06:30:00"},{"$f":"VLOOKUP($AA828,DATA!$B$3:$E$6,3,0)","v":"14:30:00"},{"$f":"VLOOKUP($AA828,DATA!$B$3:$E$6,4,0)","v":3.125E-2},0.30208333333333331,0.30208333333333331,{"$f":"DATA!$C$9","v":0.89},{"$f":"DATA!$C$10","v":64},1,407.8125,407.8125,0,"","",0,"","",0,"","","","",null,{"$f":"X835","v":40},"2018-10-02",{"$f":"TEXT(Y828,\"ddd\")","v":"di"},"DD",{"$f":"IFERROR(HLOOKUP(Y828,[1]DATA!$A$1:$NB$5,3,0),\"\")","v":"D1"},null,null,null,null,{"$f":"VLOOKUP(Y828,[1]SRI!$S$4:$Z$368,6,0)","v":0},"","",""]
["40diMD",{"$f":"VLOOKUP($AA829,DATA!$B$3:$E$6,2,0)","v":"14:30:00"},{"$f":"VLOOKUP($AA829,DATA!$B$3:$E$6,3,0)","v":"22:30:00"},{"$f":"VLOOKUP($AA829,DATA!$B$3:$E$6,4,0)","v":3.125E-2},0.30208333333333337,0.30208333333333337,{"$f":"DATA!$C$9","v":0.89},{"$f":"DATA!$C$10","v":64},1,407.81250000000006,407.81250000000006,0,"","",0,"","",0,"","","","",null,{"$f":"X835","v":40},null,{"$f":"TEXT(Y828,\"ddd\")","v":"di"},"MD",{"$f":"IFERROR(HLOOKUP(Y828,[1]DATA!$A$1:$NB$5,4,0),\"\")","v":"D3"},null,null,null,null,{"$f":"VLOOKUP(Y828,[1]SRI!$S$4:$Z$368,7,0)","v":0},"","",""]
["40diND",{"$f":"VLOOKUP($AA830,DATA!$B$3:$E$6,2,0)","v":"22:30:00"},{"$f":"VLOOKUP($AA830,DATA!$B$3:$E$6,3,0)","v":"06:30:00"},{"$f":"VLOOKUP($AA830,DATA!$B$3:$E$6,4,0)","v":3.125E-2},0.30208333333333326,0.30208333333333326,{"$f":"DATA!$C$9","v":0.89},{"$f":"DATA!$C$10","v":64},1,407.81249999999989,407.81249999999989,0,"","",0,"","",0,"","","","",null,{"$f":"X835","v":40},null,{"$f":"TEXT(Y828,\"ddd\")","v":"di"},"ND",{"$f":"IFERROR(HLOOKUP(Y828,[1]DATA!$A$1:$NB$5,5,0),\"\")","v":"D2"},null,null,null,null,{"$f":"VLOOKUP(Y828,[1]SRI!$S$4:$Z$368,8,0)","v":0},"","",""]
["40woDD",{"$f":"VLOOKUP($AA831,DATA!$B$3:$E$6,2,0)","v":"06:30:00"},{"$f":"VLOOKUP($AA831,DATA!$B$3:$E$6,3,0)","v":"14:30:00"},{"$f":"VLOOKUP($AA831,DATA!$B$3:$E$6,4,0)","v":3.125E-2},0.30208333333333331,0.30208333333333331,{"$f":"DATA!$C$9","v":0.89},{"$f":"DATA!$C$10","v":64},1,407.8125,407.8125,0,"","",0,"","",0,"","","","",null,{"$f":"X835","v":40},"2018-10-03",{"$f":"TEXT(Y831,\"ddd\")","v":"wo"},"DD",{"$f":"IFERROR(HLOOKUP(Y831,[1]DATA!$A$1:$NB$5,3,0),\"\")","v":"D1"},null,null,null,null,{"$f":"VLOOKUP(Y831,[1]SRI!$S$4:$Z$368,6,0)","v":0},"","",""]
["40woMD",{"$f":"VLOOKUP($AA832,DATA!$B$3:$E$6,2,0)","v":"14:30:00"},{"$f":"VLOOKUP($AA832,DATA!$B$3:$E$6,3,0)","v":"22:30:00"},{"$f":"VLOOKUP($AA832,DATA!$B$3:$E$6,4,0)","v":3.125E-2},0.30208333333333337,0.30208333333333337,{"$f":"DATA!$C$9","v":0.89},{"$f":"DATA!$C$10","v":64},1,407.81250000000006,407.81250000000006,0,"","",0,"","",0,"","","","",null,{"$f":"X835","v":40},null,{"$f":"TEXT(Y831,\"ddd\")","v":"wo"},"MD",{"$f":"IFERROR(HLOOKUP(Y831,[1]DATA!$A$1:$NB$5,4,0),\"\")","v":"D3"},null,null,null,null,{"$f":"VLOOKUP(Y831,[1]SRI!$S$4:$Z$368,7,0)","v":0},"","",""]
["40woND",{"$f":"VLOOKUP($AA833,DATA!$B$3:$E$6,2,0)","v":"22:30:00"},{"$f":"VLOOKUP($AA833,DATA!$B$3:$E$6,3,0)","v":"06:30:00"},{"$f":"VLOOKUP($AA833,DATA!$B$3:$E$6,4,0)","v":3.125E-2},0.30208333333333326,0.30208333333333326,{"$f":"DATA!$C$9","v":0.89},{"$f":"DATA!$C$10","v":64},1,407.81249999999989,407.81249999999989,0,"","",0,"","",0,"","","","",null,{"$f":"X835","v":40},null,{"$f":"TEXT(Y831,\"ddd\")","v":"wo"},"ND",{"$f":"IFERROR(HLOOKUP(Y831,[1]DATA!$A$1:$NB$5,5,0),\"\")","v":"D2"},null,null,null,null,{"$f":"VLOOKUP(Y831,[1]SRI!$S$4:$Z$368,8,0)","v":0},"","",""]
["40doDD",{"$f":"VLOOKUP($AA834,DATA!$B$3:$E$6,2,0)","v":"06:30:00"},{"$f":"VLOOKUP($AA834,DATA!$B$3:$E$6,3,0)","v":"14:30:00"},{"$f":"VLOOKUP($AA834,DATA!$B$3:$E$6,4,0)","v":3.125E-2},0.30208333333333331,0.30208333333333331,{"$f":"DATA!$C$9","v":0.89},{"$f":"DATA!$C$10","v":64},1,407.8125,407.8125,0,"","",0,"","",0,"","","","",null,{"$f":"X835","v":40},"2018-10-04",{"$f":"TEXT(Y834,\"ddd\")","v":"do"},"DD",{"$f":"IFERROR(HLOOKUP(Y834,[1]DATA!$A$1:$NB$5,3,0),\"\")","v":"D1"},null,null,null,null,{"$f":"VLOOKUP(Y834,[1]SRI!$S$4:$Z$368,6,0)","v":0},"","",""]
["40doMD",{"$f":"VLOOKUP($AA835,DATA!$B$3:$E$6,2,0)","v":"14:30:00"},{"$f":"VLOOKUP($AA835,DATA!$B$3:$E$6,3,0)","v":"22:30:00"},{"$f":"VLOOKUP($AA835,DATA!$B$3:$E$6,4,0)","v":3.125E-2},0.30208333333333337,0.30208333333333337,{"$f":"DATA!$C$9","v":0.89},{"$f":"DATA!$C$10","v":64},1,407.81250000000006,407.81250000000006,0,"","",0,"","",0,"","","","",null,{"$f":"WEEKNUM($Y825)","v":40},null,{"$f":"TEXT(Y834,\"ddd\")","v":"do"},"MD",{"$f":"IFERROR(HLOOKUP(Y834,[1]DATA!$A$1:$NB$5,4,0),\"\")","v":"D3"},null,null,null,null,{"$f":"VLOOKUP(Y834,[1]SRI!$S$4:$Z$368,7,0)","v":0},"","",""]
["40doND",{"$f":"VLOOKUP($AA836,DATA!$B$3:$E$6,2,0)","v":"22:30:00"},{"$f":"VLOOKUP($AA836,DATA!$B$3:$E$6,3,0)","v":"06:30:00"},{"$f":"VLOOKUP($AA836,DATA!$B$3:$E$6,4,0)","v":3.125E-2},0.30208333333333326,0.30208333333333326,{"$f":"DATA!$C$9","v":0.89},{"$f":"DATA!$C$10","v":64},1,407.81249999999989,407.81249999999989,0,"","",0,"","",0,"","","","",null,{"$f":"X835","v":40},null,{"$f":"TEXT(Y834,\"ddd\")","v":"do"},"ND",{"$f":"IFERROR(HLOOKUP(Y834,[1]DATA!$A$1:$NB$5,5,0),\"\")","v":"D2"},null,null,null,null,{"$f":"VLOOKUP(Y834,[1]SRI!$S$4:$Z$368,8,0)","v":0},"","",""]
["40vrDD",{"$f":"VLOOKUP($AA837,DATA!$B$3:$E$6,2,0)","v":"06:30:00"},{"$f":"VLOOKUP($AA837,DATA!$B$3:$E$6,3,0)","v":"14:30:00"},{"$f":"VLOOKUP($AA837,DATA!$B$3:$E$6,4,0)","v":3.125E-2},0.30208333333333331,0.30208333333333331,{"$f":"DATA!$C$9","v":0.89},{"$f":"DATA!$C$10","v":64},1,407.8125,407.8125,0,"","",0,"","",0,"","","","",null,{"$f":"X835","v":40},"2018-10-05",{"$f":"TEXT(Y837,\"ddd\")","v":"vr"},"DD",{"$f":"IFERROR(HLOOKUP(Y837,[1]DATA!$A$1:$NB$5,3,0),\"\")","v":"D1"},null,null,null,null,{"$f":"VLOOKUP(Y837,[1]SRI!$S$4:$Z$368,6,0)","v":0},"","",""]
["40vrMD",{"$f":"VLOOKUP($AA838,DATA!$B$3:$E$6,2,0)","v":"14:30:00"},{"$f":"VLOOKUP($AA838,DATA!$B$3:$E$6,3,0)","v":"22:30:00"},{"$f":"VLOOKUP($AA838,DATA!$B$3:$E$6,4,0)","v":3.125E-2},0.30208333333333337,0.30208333333333337,{"$f":"DATA!$C$9","v":0.89},{"$f":"DATA!$C$10","v":64},1,407.81250000000006,407.81250000000006,0,"","",0,"","",0,"","","","",null,{"$f":"X835","v":40},null,{"$f":"TEXT(Y837,\"ddd\")","v":"vr"},"MD",{"$f":"IFERROR(HLOOKUP(Y837,[1]DATA!$A$1:$NB$5,4,0),\"\")","v":"D3"},null,null,null,null,{"$f":"VLOOKUP(Y837,[1]SRI!$S$4:$Z$368,7,0)","v":0},{"$f":"IFERROR(S838-J838,\"\")","v":""},{"$f":"IFERROR(IF(S838/(E838*86400/H838)<=0,\"\",S838/(E838*86400/H838)),\"\")","v":""},""]
["40vrND",{"$f":"VLOOKUP($AA839,DATA!$B$3:$E$6,2,0)","v":"22:30:00"},{"$f":"VLOOKUP($AA839,DATA!$B$3:$E$6,3,0)","v":"06:30:00"},{"$f":"VLOOKUP($AA839,DATA!$B$3:$E$6,4,0)","v":3.125E-2},0.30208333333333326,0.30208333333333326,{"$f":"DATA!$C$9","v":0.89},{"$f":"DATA!$C$10","v":64},1,407.81249999999989,407.81249999999989,{"$f":"TIME(INT($AC839/60),INT(MOD($AC839,60)/1),0)","v":0},{"$f":"IF($L839*86400/$H839=0,\"\",$L839*86400/$H839)","v":""},{"$f":"IFERROR($M839/$K839,\"\")","v":""},0,"",{"$f":"IFERROR($P839/$K839,\"\")","v":""},0,"",{"$f":"IF(IF($AB839=\"D1\",$S839,\"\")=0,\"\",IF($AB839=\"D1\",$S839,\"\"))","v":""},{"$f":"IF(IF($AB839=\"D2\",$S839,\"\")=0,\"\",IF($AB839=\"D2\",$S839,\"\"))","v":""},{"$f":"IF(IF($AB839=\"D3\",$S839,\"\")=0,\"\",IF($AB839=\"D3\",$S839,\"\"))","v":""},null,{"$f":"X835","v":40},null,{"$f":"TEXT(Y837,\"ddd\")","v":"vr"},"ND",{"$f":"IFERROR(HLOOKUP(Y837,[1]DATA!$A$1:$NB$5,5,0),\"\")","v":"D2"},null,null,null,null,{"$f":"VLOOKUP(Y837,[1]SRI!$S$4:$Z$368,8,0)","v":0},"","",""]
["40zaDD",{"$f":"VLOOKUP($AA840,DATA!$B$3:$E$6,2,0)","v":"06:30:00"},{"$f":"VLOOKUP($AA840,DATA!$B$3:$E$6,3,0)","v":"14:30:00"},{"$f":"VLOOKUP($AA840,DATA!$B$3:$E$6,4,0)","v":3.125E-2},0.30208333333333331,0.30208333333333331,{"$f":"DATA!$C$9","v":0.89},{"$f":"DATA!$C$10","v":64},1,407.8125,407.8125,0,"","",0,"","",0,"","","","",null,{"$f":"X835","v":40},"2018-10-06",{"$f":"TEXT(Y840,\"ddd\")","v":"za"},"DD",{"$f":"IFERROR(HLOOKUP(Y840,[1]DATA!$A$1:$NB$5,3,0),\"\")","v":"D1"},null,null,null,null,{"$f":"VLOOKUP(Y840,[1]SRI!$S$4:$Z$368,6,0)","v":0},"","",""]
["40zaMD",{"$f":"VLOOKUP($AA841,DATA!$B$3:$E$6,2,0)","v":"14:30:00"},{"$f":"VLOOKUP($AA841,DATA!$B$3:$E$6,3,0)","v":"22:30:00"},{"$f":"VLOOKUP($AA841,DATA!$B$3:$E$6,4,0)","v":3.125E-2},0.30208333333333337,0.30208333333333337,{"$f":"DATA!$C$9","v":0.89},{"$f":"DATA!$C$10","v":64},1,407.81250000000006,407.81250000000006,0,"","",0,"","",0,"","","","",null,{"$f":"X835","v":40},null,{"$f":"TEXT(Y840,\"ddd\")","v":"za"},"MD",{"$f":"IFERROR(HLOOKUP(Y840,[1]DATA!$A$1:$NB$5,4,0),\"\")","v":"-"},null,null,null,null,{"$f":"VLOOKUP(Y840,[1]SRI!$S$4:$Z$368,7,0)","v":0},"","",""]
["40zaND",{"$f":"VLOOKUP($AA842,DATA!$B$3:$E$6,2,0)","v":"22:30:00"},{"$f":"VLOOKUP($AA842,DATA!$B$3:$E$6,3,0)","v":"06:30:00"},{"$f":"VLOOKUP($AA842,DATA!$B$3:$E$6,4,0)","v":3.125E-2},0.30208333333333326,0.30208333333333326,{"$f":"DATA!$C$9","v":0.89},{"$f":"DATA!$C$10","v":64},1,407.81249999999989,407.81249999999989,0,"","",0,"","",0,"","","","",null,{"$f":"X835","v":40},null,{"$f":"TEXT(Y840,\"ddd\")","v":"za"},"ND",{"$f":"IFERROR(HLOOKUP(Y840,[1]DATA!$A$1:$NB$5,5,0),\"\")","v":"-"},null,null,null,null,{"$f":"VLOOKUP(Y840,[1]SRI!$S$4:$Z$368,8,0)","v":0},"","",""]
["40zoDD",{"$f":"VLOOKUP($AA843,DATA!$B$3:$E$6,2,0)","v":"06:30:00"},{"$f":"VLOOKUP($AA843,DATA!$B$3:$E$6,3,0)","v":"14:30:00"},{"$f":"VLOOKUP($AA843,DATA!$B$3:$E$6,4,0)","v":3.125E-2},0.30208333333333331,0.30208333333333331,{"$f":"DATA!$C$9","v":0.89},{"$f":"DATA!$C$10","v":64},1,407.8125,407.8125,0,"","",0,"","",0,"","","","",null,{"$f":"X835","v":40},"2018-10-07",{"$f":"TEXT(Y843,\"ddd\")","v":"zo"},"DD",{"$f":"IFERROR(HLOOKUP(Y843,[1]DATA!$A$1:$NB$5,3,0),\"\")","v":"-"},null,null,null,null,{"$f":"VLOOKUP(Y843,[1]SRI!$S$4:$Z$368,6,0)","v":0},"","",""]
["40zoMD",{"$f":"VLOOKUP($AA844,DATA!$B$3:$E$6,2,0)","v":"14:30:00"},{"$f":"VLOOKUP($AA844,DATA!$B$3:$E$6,3,0)","v":"22:30:00"},{"$f":"VLOOKUP($AA844,DATA!$B$3:$E$6,4,0)","v":3.125E-2},0.30208333333333337,0.30208333333333337,{"$f":"DATA!$C$9","v":0.89},{"$f":"DATA!$C$10","v":64},1,407.81250000000006,407.81250000000006,0,"","",0,"","",0,"","","","",null,{"$f":"X835","v":40},null,{"$f":"TEXT(Y843,\"ddd\")","v":"zo"},"MD",{"$f":"IFERROR(HLOOKUP(Y843,[1]DATA!$A$1:$NB$5,4,0),\"\")","v":"-"},null,null,null,null,{"$f":"VLOOKUP(Y843,[1]SRI!$S$4:$Z$368,7,0)","v":0},"","",""]
["40zoZND",{"$f":"VLOOKUP($AA845,DATA!$B$3:$E$6,2,0)","v":"00:00:00"},{"$f":"VLOOKUP($AA845,DATA!$B$3:$E$6,3,0)","v":"00:00:00"},{"$f":"VLOOKUP($AA845,DATA!$B$3:$E$6,4,0)","v":3.125E-2},-3.125E-2,-3.125E-2,{"$f":"DATA!$C$9","v":0.89},{"$f":"DATA!$C$10","v":64},1,-42.1875,-42.1875,0,"","",0,"","",0,"","","","",null,{"$f":"X835","v":40},null,{"$f":"TEXT(Y843,\"ddd\")","v":"zo"},"ZND",{"$f":"IFERROR(HLOOKUP(Y843,[1]DATA!$A$1:$NB$5,5,0),\"\")","v":"-"},null,null,null,null,{"$f":"VLOOKUP(Y843,[1]SRI!$S$4:$Z$368,8,0)","v":0},"","",""]
["41maDD",{"$f":"VLOOKUP($AA846,DATA!$B$3:$E$6,2,0)","v":"06:30:00"},{"$f":"VLOOKUP($AA846,DATA!$B$3:$E$6,3,0)","v":"14:30:00"},{"$f":"VLOOKUP($AA846,DATA!$B$3:$E$6,4,0)","v":3.125E-2},0.30208333333333331,0.30208333333333331,{"$f":"DATA!$C$9","v":0.89},{"$f":"DATA!$C$10","v":64},1,407.8125,407.8125,0,"","",{"$f":"TIME(INT($AD846/60),INT(MOD($AD846,60)/1),0)","v":0},"","",0,"","","","",null,{"$f":"X856","v":41},"2018-10-08",{"$f":"TEXT(Y846,\"ddd\")","v":"ma"},"DD",{"$f":"IFERROR(HLOOKUP(Y846,[1]DATA!$A$1:$NB$5,3,0),\"\")","v":"D3"},null,null,null,null,{"$f":"VLOOKUP(Y846,[1]SRI!$S$4:$Z$368,6,0)","v":0},"","","",{"$f":"IF(SUMIF(S846:S866,\">0\",K846:K866)=0,\"\",SUMIF(S846:S866,\">0\",K846:K866))","v":""},{"$f":"IF(SUM(S846:S866)=0,\"\",SUM(S846:S866))","v":""},{"$f":"IFERROR(AL846/AK846,\"-\")","v":"-"},{"$f":"IF(SUM(M846:M866)=0,\"0\",SUM(M846:M866))","v":"0"},{"$f":"IFERROR(AN846/AK846,\"-\")","v":"-"},{"$f":"IF(SUM(P846:P866)=0,0,SUM(P846:P866))","v":0},{"$f":"IFERROR(AP846/AK846,\"-\")","v":"-"},{"$f":"IFERROR(AVERAGE(AJ846:AJ866),\"-\")","v":"-"},{"$f":"IFERROR(SUMIF($AB846:$AB866,AS$5,$AJ846:$AJ866)/COUNTIFS($AB846:$AB866,AS$5,$AJ846:$AJ866,\">0\"),\"\")","v":""},"","",{"$f":"IFERROR((AK846-AL846-AN846-AP846),\"-\")","v":"-"},{"$f":"IFERROR((1-AM846-AO846-AQ846), \"-\")","v":"-"},{"$f":"IFERROR((AV846*$AE$2)/60,\"-\")","v":"-"},{"$f":"IFERROR(SUM(AG846:AG866),\"\")","v":0}]
["41maMD",{"$f":"VLOOKUP($AA847,DATA!$B$3:$E$6,2,0)","v":"14:30:00"},{"$f":"VLOOKUP($AA847,DATA!$B$3:$E$6,3,0)","v":"22:30:00"},{"$f":"VLOOKUP($AA847,DATA!$B$3:$E$6,4,0)","v":3.125E-2},0.30208333333333337,0.30208333333333337,{"$f":"DATA!$C$9","v":0.89},{"$f":"DATA!$C$10","v":64},1,407.81250000000006,407.81250000000006,0,"","",{"$f":"TIME(INT(AD847/60),INT(MOD(AD847,60)/1),0)","v":0},"","",0,"","","","",null,{"$f":"X856","v":41},null,{"$f":"TEXT(Y846,\"ddd\")","v":"ma"},"MD",{"$f":"IFERROR(HLOOKUP(Y846,[1]DATA!$A$1:$NB$5,4,0),\"\")","v":"D2"},null,null,null,null,{"$f":"VLOOKUP(Y846,[1]SRI!$S$4:$Z$368,7,0)","v":0},"","",""]
["41maND",{"$f":"VLOOKUP($AA848,DATA!$B$3:$E$6,2,0)","v":"22:30:00"},{"$f":"VLOOKUP($AA848,DATA!$B$3:$E$6,3,0)","v":"06:30:00"},{"$f":"VLOOKUP($AA848,DATA!$B$3:$E$6,4,0)","v":3.125E-2},0.30208333333333326,0.30208333333333326,{"$f":"DATA!$C$9","v":0.89},{"$f":"DATA!$C$10","v":64},1,407.81249999999989,407.81249999999989,0,"","",0,"","",0,"","","","",null,{"$f":"X856","v":41},null,{"$f":"TEXT(Y846,\"ddd\")","v":"ma"},"ND",{"$f":"IFERROR(HLOOKUP(Y846,[1]DATA!$A$1:$NB$5,5,0),\"\")","v":"D1"},null,null,null,null,{"$f":"VLOOKUP(Y846,[1]SRI!$S$4:$Z$368,8,0)","v":0},"","",""]
["41diDD",{"$f":"VLOOKUP($AA849,DATA!$B$3:$E$6,2,0)","v":"06:30:00"},{"$f":"VLOOKUP($AA849,DATA!$B$3:$E$6,3,0)","v":"14:30:00"},{"$f":"VLOOKUP($AA849,DATA!$B$3:$E$6,4,0)","v":3.125E-2},0.30208333333333331,0.30208333333333331,{"$f":"DATA!$C$9","v":0.89},{"$f":"DATA!$C$10","v":64},1,407.8125,407.8125,0,"","",0,"","",0,"","","","",null,{"$f":"X856","v":41},"2018-10-09",{"$f":"TEXT(Y849,\"ddd\")","v":"di"},"DD",{"$f":"IFERROR(HLOOKUP(Y849,[1]DATA!$A$1:$NB$5,3,0),\"\")","v":"D3"},null,null,null,null,{"$f":"VLOOKUP(Y849,[1]SRI!$S$4:$Z$368,6,0)","v":0},"","",""]
["41diMD",{"$f":"VLOOKUP($AA850,DATA!$B$3:$E$6,2,0)","v":"14:30:00"},{"$f":"VLOOKUP($AA850,DATA!$B$3:$E$6,3,0)","v":"22:30:00"},{"$f":"VLOOKUP($AA850,DATA!$B$3:$E$6,4,0)","v":3.125E-2},0.30208333333333337,0.30208333333333337,{"$f":"DATA!$C$9","v":0.89},{"$f":"DATA!$C$10","v":64},1,407.81250000000006,407.81250000000006,0,"","",0,"","",0,"","","","",null,{"$f":"X856","v":41},null,{"$f":"TEXT(Y849,\"ddd\")","v":"di"},"MD",{"$f":"IFERROR(HLOOKUP(Y849,[1]DATA!$A$1:$NB$5,4,0),\"\")","v":"D2"},null,null,null,null,{"$f":"VLOOKUP(Y849,[1]SRI!$S$4:$Z$368,7,0)","v":0},"","",""]
["41diND",{"$f":"VLOOKUP($AA851,DATA!$B$3:$E$6,2,0)","v":"22:30:00"},{"$f":"VLOOKUP($AA851,DATA!$B$3:$E$6,3,0)","v":"06:30:00"},{"$f":"VLOOKUP($AA851,DATA!$B$3:$E$6,4,0)","v":3.125E-2},0.30208333333333326,0.30208333333333326,{"$f":"DATA!$C$9","v":0.89},{"$f":"DATA!$C$10","v":64},1,407.81249999999989,407.81249999999989,0,"","",0,"","",0,"","","","",null,{"$f":"X856","v":41},null,{"$f":"TEXT(Y849,\"ddd\")","v":"di"},"ND",{"$f":"IFERROR(HLOOKUP(Y849,[1]DATA!$A$1:$NB$5,5,0),\"\")","v":"D1"},null,null,null,null,{"$f":"VLOOKUP(Y849,[1]SRI!$S$4:$Z$368,8,0)","v":0},"","",""]
["41woDD",{"$f":"VLOOKUP($AA852,DATA!$B$3:$E$6,2,0)","v":"06:30:00"},{"$f":"VLOOKUP($AA852,DATA!$B$3:$E$6,3,0)","v":"14:30:00"},{"$f":"VLOOKUP($AA852,DATA!$B$3:$E$6,4,0)","v":3.125E-2},0.30208333333333331,0.30208333333333331,{"$f":"DATA!$C$9","v":0.89},{"$f":"DATA!$C$10","v":64},1,407.8125,407.8125,0,"","",0,"","",0,"","","","",null,{"$f":"X856","v":41},"2018-10-10",{"$f":"TEXT(Y852,\"ddd\")","v":"wo"},"DD",{"$f":"IFERROR(HLOOKUP(Y852,[1]DATA!$A$1:$NB$5,3,0),\"\")","v":"D3"},null,null,null,null,{"$f":"VLOOKUP(Y852,[1]SRI!$S$4:$Z$368,6,0)","v":0},"","",""]
["41woMD",{"$f":"VLOOKUP($AA853,DATA!$B$3:$E$6,2,0)","v":"14:30:00"},{"$f":"VLOOKUP($AA853,DATA!$B$3:$E$6,3,0)","v":"22:30:00"},{"$f":"VLOOKUP($AA853,DATA!$B$3:$E$6,4,0)","v":3.125E-2},0.30208333333333337,0.30208333333333337,{"$f":"DATA!$C$9","v":0.89},{"$f":"DATA!$C$10","v":64},1,407.81250000000006,407.81250000000006,0,"","",0,"","",0,"","","","",null,{"$f":"X856","v":41},null,{"$f":"TEXT(Y852,\"ddd\")","v":"wo"},"MD",{"$f":"IFERROR(HLOOKUP(Y852,[1]DATA!$A$1:$NB$5,4,0),\"\")","v":"D2"},null,null,null,null,{"$f":"VLOOKUP(Y852,[1]SRI!$S$4:$Z$368,7,0)","v":0},"","",""]
["41woND",{"$f":"VLOOKUP($AA854,DATA!$B$3:$E$6,2,0)","v":"22:30:00"},{"$f":"VLOOKUP($AA854,DATA!$B$3:$E$6,3,0)","v":"06:30:00"},{"$f":"VLOOKUP($AA854,DATA!$B$3:$E$6,4,0)","v":3.125E-2},0.30208333333333326,0.30208333333333326,{"$f":"DATA!$C$9","v":0.89},{"$f":"DATA!$C$10","v":64},1,407.81249999999989,407.81249999999989,0,"","",0,"","",0,"","","","",null,{"$f":"X856","v":41},null,{"$f":"TEXT(Y852,\"ddd\")","v":"wo"},"ND",{"$f":"IFERROR(HLOOKUP(Y852,[1]DATA!$A$1:$NB$5,5,0),\"\")","v":"D1"},null,null,null,null,{"$f":"VLOOKUP(Y852,[1]SRI!$S$4:$Z$368,8,0)","v":0},"","",""]
["41doDD",{"$f":"VLOOKUP($AA855,DATA!$B$3:$E$6,2,0)","v":"06:30:00"},{"$f":"VLOOKUP($AA855,DATA!$B$3:$E$6,3,0)","v":"14:30:00"},{"$f":"VLOOKUP($AA855,DATA!$B$3:$E$6,4,0)","v":3.125E-2},0.30208333333333331,0.30208333333333331,{"$f":"DATA!$C$9","v":0.89},{"$f":"DATA!$C$10","v":64},1,407.8125,407.8125,0,"","",0,"","",0,"","","","",null,{"$f":"X856","v":41},"2018-10-11",{"$f":"TEXT(Y855,\"ddd\")","v":"do"},"DD",{"$f":"IFERROR(HLOOKUP(Y855,[1]DATA!$A$1:$NB$5,3,0),\"\")","v":"D3"},null,null,null,null,{"$f":"VLOOKUP(Y855,[1]SRI!$S$4:$Z$368,6,0)","v":0},"","",""]
["41doMD",{"$f":"VLOOKUP($AA856,DATA!$B$3:$E$6,2,0)","v":"14:30:00"},{"$f":"VLOOKUP($AA856,DATA!$B$3:$E$6,3,0)","v":"22:30:00"},{"$f":"VLOOKUP($AA856,DATA!$B$3:$E$6,4,0)","v":3.125E-2},0.30208333333333337,0.30208333333333337,{"$f":"DATA!$C$9","v":0.89},{"$f":"DATA!$C$10","v":64},1,407.81250000000006,407.81250000000006,0,"","",0,"","",0,"","","","",null,{"$f":"WEEKNUM($Y846)","v":41},null,{"$f":"TEXT(Y855,\"ddd\")","v":"do"},"MD",{"$f":"IFERROR(HLOOKUP(Y855,[1]DATA!$A$1:$NB$5,4,0),\"\")","v":"D2"},null,null,null,null,{"$f":"VLOOKUP(Y855,[1]SRI!$S$4:$Z$368,7,0)","v":0},"","",""]
["41doND",{"$f":"VLOOKUP($AA857,DATA!$B$3:$E$6,2,0)","v":"22:30:00"},{"$f":"VLOOKUP($AA857,DATA!$B$3:$E$6,3,0)","v":"06:30:00"},{"$f":"VLOOKUP($AA857,DATA!$B$3:$E$6,4,0)","v":3.125E-2},0.30208333333333326,0.30208333333333326,{"$f":"DATA!$C$9","v":0.89},{"$f":"DATA!$C$10","v":64},1,407.81249999999989,407.81249999999989,0,"","",0,"","",0,"","","","",null,{"$f":"X856","v":41},null,{"$f":"TEXT(Y855,\"ddd\")","v":"do"},"ND",{"$f":"IFERROR(HLOOKUP(Y855,[1]DATA!$A$1:$NB$5,5,0),\"\")","v":"D1"},null,null,null,null,{"$f":"VLOOKUP(Y855,[1]SRI!$S$4:$Z$368,8,0)","v":0},"","",""]
["41vrDD",{"$f":"VLOOKUP($AA858,DATA!$B$3:$E$6,2,0)","v":"06:30:00"},{"$f":"VLOOKUP($AA858,DATA!$B$3:$E$6,3,0)","v":"14:30:00"},{"$f":"VLOOKUP($AA858,DATA!$B$3:$E$6,4,0)","v":3.125E-2},0.30208333333333331,0.30208333333333331,{"$f":"DATA!$C$9","v":0.89},{"$f":"DATA!$C$10","v":64},1,407.8125,407.8125,0,"","",0,"","",0,"","","","",null,{"$f":"X856","v":41},"2018-10-12",{"$f":"TEXT(Y858,\"ddd\")","v":"vr"},"DD",{"$f":"IFERROR(HLOOKUP(Y858,[1]DATA!$A$1:$NB$5,3,0),\"\")","v":"D3"},null,null,null,null,{"$f":"VLOOKUP(Y858,[1]SRI!$S$4:$Z$368,6,0)","v":0},"","",""]
["41vrMD",{"$f":"VLOOKUP($AA859,DATA!$B$3:$E$6,2,0)","v":"14:30:00"},{"$f":"VLOOKUP($AA859,DATA!$B$3:$E$6,3,0)","v":"22:30:00"},{"$f":"VLOOKUP($AA859,DATA!$B$3:$E$6,4,0)","v":3.125E-2},0.30208333333333337,0.30208333333333337,{"$f":"DATA!$C$9","v":0.89},{"$f":"DATA!$C$10","v":64},1,407.81250000000006,407.81250000000006,0,"","",0,"","",0,"","","","",null,{"$f":"X856","v":41},null,{"$f":"TEXT(Y858,\"ddd\")","v":"vr"},"MD",{"$f":"IFERROR(HLOOKUP(Y858,[1]DATA!$A$1:$NB$5,4,0),\"\")","v":"D2"},null,null,null,null,{"$f":"VLOOKUP(Y858,[1]SRI!$S$4:$Z$368,7,0)","v":0},"","",{"$f":"IFERROR(R859/(R859+AG859),\"\")","v":""}]
["41vrND",{"$f":"VLOOKUP($AA860,DATA!$B$3:$E$6,2,0)","v":"22:30:00"},{"$f":"VLOOKUP($AA860,DATA!$B$3:$E$6,3,0)","v":"06:30:00"},{"$f":"VLOOKUP($AA860,DATA!$B$3:$E$6,4,0)","v":3.125E-2},{"$f":"(C860-B860+(B860>C860))-D860","v":0.30208333333333326},{"$f":"E860-O860-L860","v":0.30208333333333326},{"$f":"DATA!$C$9","v":0.89},{"$f":"DATA!$C$10","v":64},1,{"$f":"F860*86400/H860*I860","v":407.81249999999989},{"$f":"E860*86400/H860","v":407.81249999999989},0,"","",0,"","",{"$f":"AF860*AG$2","v":0},{"$f":"IF(AF860-AE860=0,\"\",AF860-AE860)","v":""},"","","",null,{"$f":"X856","v":41},null,{"$f":"TEXT(Y858,\"ddd\")","v":"vr"},"ND",{"$f":"IFERROR(HLOOKUP(Y858,[1]DATA!$A$1:$NB$5,5,0),\"\")","v":"D2"},null,null,null,null,{"$f":"VLOOKUP(Y858,[1]SRI!$S$4:$Z$368,8,0)","v":0},"","",""]
["41zaDD",{"$f":"VLOOKUP($AA861,DATA!$B$3:$E$6,2,0)","v":"06:30:00"},{"$f":"VLOOKUP($AA861,DATA!$B$3:$E$6,3,0)","v":"14:30:00"},{"$f":"VLOOKUP($AA861,DATA!$B$3:$E$6,4,0)","v":3.125E-2},0.30208333333333331,0.30208333333333331,{"$f":"DATA!$C$9","v":0.89},{"$f":"DATA!$C$10","v":64},1,407.8125,407.8125,0,"","",0,"","",0,"","","","",null,{"$f":"X856","v":41},"2018-10-13",{"$f":"TEXT(Y861,\"ddd\")","v":"za"},"DD",{"$f":"IFERROR(HLOOKUP(Y861,[1]DATA!$A$1:$NB$5,3,0),\"\")","v":"D3"},null,null,null,null,{"$f":"VLOOKUP(Y861,[1]SRI!$S$4:$Z$368,6,0)","v":0},"","",""]
["41zaMD",{"$f":"VLOOKUP($AA862,DATA!$B$3:$E$6,2,0)","v":"14:30:00"},{"$f":"VLOOKUP($AA862,DATA!$B$3:$E$6,3,0)","v":"22:30:00"},{"$f":"VLOOKUP($AA862,DATA!$B$3:$E$6,4,0)","v":3.125E-2},0.30208333333333337,0.30208333333333337,{"$f":"DATA!$C$9","v":0.89},{"$f":"DATA!$C$10","v":64},1,407.81250000000006,407.81250000000006,0,"","",0,"","",0,"","","","",null,{"$f":"X856","v":41},null,{"$f":"TEXT(Y861,\"ddd\")","v":"za"},"MD",{"$f":"IFERROR(HLOOKUP(Y861,[1]DATA!$A$1:$NB$5,4,0),\"\")","v":"-"},null,null,null,null,{"$f":"VLOOKUP(Y861,[1]SRI!$S$4:$Z$368,7,0)","v":0},"","",""]
["41zaND",{"$f":"VLOOKUP($AA863,DATA!$B$3:$E$6,2,0)","v":"22:30:00"},{"$f":"VLOOKUP($AA863,DATA!$B$3:$E$6,3,0)","v":"06:30:00"},{"$f":"VLOOKUP($AA863,DATA!$B$3:$E$6,4,0)","v":3.125E-2},0.30208333333333326,0.30208333333333326,{"$f":"DATA!$C$9","v":0.89},{"$f":"DATA!$C$10","v":64},1,407.81249999999989,407.81249999999989,0,"","",0,"","",0,"","","","",null,{"$f":"X856","v":41},null,{"$f":"TEXT(Y861,\"ddd\")","v":"za"},"ND",{"$f":"IFERROR(HLOOKUP(Y861,[1]DATA!$A$1:$NB$5,5,0),\"\")","v":"-"},null,null,null,null,{"$f":"VLOOKUP(Y861,[1]SRI!$S$4:$Z$368,8,0)","v":0},"","",""]
["41zoDD",{"$f":"VLOOKUP($AA864,DATA!$B$3:$E$6,2,0)","v":"06:30:00"},{"$f":"VLOOKUP($AA864,DATA!$B$3:$E$6,3,0)","v":"14:30:00"},{"$f":"VLOOKUP($AA864,DATA!$B$3:$E$6,4,0)","v":3.125E-2},0.30208333333333331,0.30208333333333331,{"$f":"DATA!$C$9","v":0.89},{"$f":"DATA!$C$10","v":64},1,407.8125,407.8125,0,"","",0,"","",0,"","","","",null,{"$f":"X856","v":41},"2018-10-14",{"$f":"TEXT(Y864,\"ddd\")","v":"zo"},"DD",{"$f":"IFERROR(HLOOKUP(Y864,[1]DATA!$A$1:$NB$5,3,0),\"\")","v":"-"},null,null,null,null,{"$f":"VLOOKUP(Y864,[1]SRI!$S$4:$Z$368,6,0)","v":0},"","",""]
["41zoMD",{"$f":"VLOOKUP($AA865,DATA!$B$3:$E$6,2,0)","v":"14:30:00"},{"$f":"VLOOKUP($AA865,DATA!$B$3:$E$6,3,0)","v":"22:30:00"},{"$f":"VLOOKUP($AA865,DATA!$B$3:$E$6,4,0)","v":3.125E-2},0.30208333333333337,0.30208333333333337,{"$f":"DATA!$C$9","v":0.89},{"$f":"DATA!$C$10","v":64},1,407.81250000000006,407.81250000000006,0,"","",0,"","",0,"","","","",null,{"$f":"X856","v":41},null,{"$f":"TEXT(Y864,\"ddd\")","v":"zo"},"MD",{"$f":"IFERROR(HLOOKUP(Y864,[1]DATA!$A$1:$NB$5,4,0),\"\")","v":"-"},null,null,null,null,{"$f":"VLOOKUP(Y864,[1]SRI!$S$4:$Z$368,7,0)","v":0},"","",""]
["41zoZND",{"$f":"VLOOKUP($AA866,DATA!$B$3:$E$6,2,0)","v":"00:00:00"},{"$f":"VLOOKUP($AA866,DATA!$B$3:$E$6,3,0)","v":"00:00:00"},{"$f":"VLOOKUP($AA866,DATA!$B$3:$E$6,4,0)","v":3.125E-2},-3.125E-2,-3.125E-2,{"$f":"DATA!$C$9","v":0.89},{"$f":"DATA!$C$10","v":64},1,-42.1875,-42.1875,0,"","",0,"","",0,"","","","",null,{"$f":"X856","v":41},null,{"$f":"TEXT(Y864,\"ddd\")","v":"zo"},"ZND",{"$f":"IFERROR(HLOOKUP(Y864,[1]DATA!$A$1:$NB$5,5,0),\"\")","v":"-"},null,null,null,null,{"$f":"VLOOKUP(Y864,[1]SRI!$S$4:$Z$368,8,0)","v":0},"","",""]
["42maDD",{"$f":"VLOOKUP($AA867,DATA!$B$3:$E$6,2,0)","v":"06:30:00"},{"$f":"VLOOKUP($AA867,DATA!$B$3:$E$6,3,0)","v":"14:30:00"},{"$f":"VLOOKUP($AA867,DATA!$B$3:$E$6,4,0)","v":3.125E-2},0.30208333333333331,0.30208333333333331,{"$f":"DATA!$C$9","v":0.89},{"$f":"DATA!$C$10","v":64},1,407.8125,407.8125,0,"","",{"$f":"TIME(INT($AD867/60),INT(MOD($AD867,60)/1),0)","v":0},"","",0,"","","","",null,{"$f":"X877","v":42},"2018-10-15",{"$f":"TEXT(Y867,\"ddd\")","v":"ma"},"DD",{"$f":"IFERROR(HLOOKUP(Y867,[1]DATA!$A$1:$NB$5,3,0),\"\")","v":"D2"},null,null,null,null,{"$f":"VLOOKUP(Y867,[1]SRI!$S$4:$Z$368,6,0)","v":0},"","","",{"$f":"IF(SUMIF(S867:S887,\">0\",K867:K887)=0,\"\",SUMIF(S867:S887,\">0\",K867:K887))","v":""},{"$f":"IF(SUM(S867:S887)=0,\"\",SUM(S867:S887))","v":""},{"$f":"IFERROR(AL867/AK867,\"-\")","v":"-"},{"$f":"IF(SUM(M867:M887)=0,\"0\",SUM(M867:M887))","v":"0"},{"$f":"IFERROR(AN867/AK867,\"-\")","v":"-"},{"$f":"IF(SUM(P867:P887)=0,0,SUM(P867:P887))","v":0},{"$f":"IFERROR(AP867/AK867,\"-\")","v":"-"},"-",{"$f":"IFERROR(SUMIF($AB867:$AB887,AS$5,$AJ867:$AJ887)/COUNTIFS($AB867:$AB887,AS$5,$AJ867:$AJ887,\">0\"),\"\")","v":""},"","",{"$f":"IFERROR((AK867-AL867-AN867-AP867),\"-\")","v":"-"},{"$f":"IFERROR((1-AM867-AO867-AQ867), \"-\")","v":"-"},{"$f":"IFERROR((AV867*$AE$2)/60,\"-\")","v":"-"},{"$f":"IFERROR(SUM(AG867:AG887),\"\")","v":0}]
["42maMD",{"$f":"VLOOKUP($AA868,DATA!$B$3:$E$6,2,0)","v":"14:30:00"},{"$f":"VLOOKUP($AA868,DATA!$B$3:$E$6,3,0)","v":"22:30:00"},{"$f":"VLOOKUP($AA868,DATA!$B$3:$E$6,4,0)","v":3.125E-2},0.30208333333333337,0.30208333333333337,{"$f":"DATA!$C$9","v":0.89},{"$f":"DATA!$C$10","v":64},1,407.81250000000006,407.81250000000006,0,"","",{"$f":"TIME(INT(AD868/60),INT(MOD(AD868,60)/1),0)","v":0},"","",0,"","","","",null,{"$f":"X877","v":42},null,{"$f":"TEXT(Y867,\"ddd\")","v":"ma"},"MD",{"$f":"IFERROR(HLOOKUP(Y867,[1]DATA!$A$1:$NB$5,4,0),\"\")","v":"D1"},null,null,null,null,{"$f":"VLOOKUP(Y867,[1]SRI!$S$4:$Z$368,7,0)","v":0},"","",""]
["42maND",{"$f":"VLOOKUP($AA869,DATA!$B$3:$E$6,2,0)","v":"22:30:00"},{"$f":"VLOOKUP($AA869,DATA!$B$3:$E$6,3,0)","v":"06:30:00"},{"$f":"VLOOKUP($AA869,DATA!$B$3:$E$6,4,0)","v":3.125E-2},0.30208333333333326,0.30208333333333326,{"$f":"DATA!$C$9","v":0.89},{"$f":"DATA!$C$10","v":64},1,407.81249999999989,407.81249999999989,0,"","",0,"","",0,"","","","",null,{"$f":"X877","v":42},null,{"$f":"TEXT(Y867,\"ddd\")","v":"ma"},"ND",{"$f":"IFERROR(HLOOKUP(Y867,[1]DATA!$A$1:$NB$5,5,0),\"\")","v":"D3"},null,null,null,null,{"$f":"VLOOKUP(Y867,[1]SRI!$S$4:$Z$368,8,0)","v":0},"","",""]
["42diDD",{"$f":"VLOOKUP($AA870,DATA!$B$3:$E$6,2,0)","v":"06:30:00"},{"$f":"VLOOKUP($AA870,DATA!$B$3:$E$6,3,0)","v":"14:30:00"},{"$f":"VLOOKUP($AA870,DATA!$B$3:$E$6,4,0)","v":3.125E-2},0.30208333333333331,0.30208333333333331,{"$f":"DATA!$C$9","v":0.89},{"$f":"DATA!$C$10","v":64},1,407.8125,407.8125,0,"","",0,"","",0,"","","","",null,{"$f":"X877","v":42},"2018-10-16",{"$f":"TEXT(Y870,\"ddd\")","v":"di"},"DD",{"$f":"IFERROR(HLOOKUP(Y870,[1]DATA!$A$1:$NB$5,3,0),\"\")","v":"D2"},null,null,null,null,{"$f":"VLOOKUP(Y870,[1]SRI!$S$4:$Z$368,6,0)","v":0},"","",""]
["42diMD",{"$f":"VLOOKUP($AA871,DATA!$B$3:$E$6,2,0)","v":"14:30:00"},{"$f":"VLOOKUP($AA871,DATA!$B$3:$E$6,3,0)","v":"22:30:00"},{"$f":"VLOOKUP($AA871,DATA!$B$3:$E$6,4,0)","v":3.125E-2},0.30208333333333337,0.30208333333333337,{"$f":"DATA!$C$9","v":0.89},{"$f":"DATA!$C$10","v":64},1,407.81250000000006,407.81250000000006,0,"","",0,"","",0,"","","","",null,{"$f":"X877","v":42},null,{"$f":"TEXT(Y870,\"ddd\")","v":"di"},"MD",{"$f":"IFERROR(HLOOKUP(Y870,[1]DATA!$A$1:$NB$5,4,0),\"\")","v":"D1"},null,null,null,null,{"$f":"VLOOKUP(Y870,[1]SRI!$S$4:$Z$368,7,0)","v":0},"","",""]
["42diND",{"$f":"VLOOKUP($AA872,DATA!$B$3:$E$6,2,0)","v":"22:30:00"},{"$f":"VLOOKUP($AA872,DATA!$B$3:$E$6,3,0)","v":"06:30:00"},{"$f":"VLOOKUP($AA872,DATA!$B$3:$E$6,4,0)","v":3.125E-2},0.30208333333333326,0.30208333333333326,{"$f":"DATA!$C$9","v":0.89},{"$f":"DATA!$C$10","v":64},1,407.81249999999989,407.81249999999989,0,"","",0,"","",0,"","","","",null,{"$f":"X877","v":42},null,{"$f":"TEXT(Y870,\"ddd\")","v":"di"},"ND",{"$f":"IFERROR(HLOOKUP(Y870,[1]DATA!$A$1:$NB$5,5,0),\"\")","v":"D3"},null,null,null,null,{"$f":"VLOOKUP(Y870,[1]SRI!$S$4:$Z$368,8,0)","v":0},"","",""]
["42woDD",{"$f":"VLOOKUP($AA873,DATA!$B$3:$E$6,2,0)","v":"06:30:00"},{"$f":"VLOOKUP($AA873,DATA!$B$3:$E$6,3,0)","v":"14:30:00"},{"$f":"VLOOKUP($AA873,DATA!$B$3:$E$6,4,0)","v":3.125E-2},0.30208333333333331,0.30208333333333331,{"$f":"DATA!$C$9","v":0.89},{"$f":"DATA!$C$10","v":64},1,407.8125,407.8125,0,"","",0,"","",0,"","","","",null,{"$f":"X877","v":42},"2018-10-17",{"$f":"TEXT(Y873,\"ddd\")","v":"wo"},"DD",{"$f":"IFERROR(HLOOKUP(Y873,[1]DATA!$A$1:$NB$5,3,0),\"\")","v":"D2"},null,null,null,null,{"$f":"VLOOKUP(Y873,[1]SRI!$S$4:$Z$368,6,0)","v":0},"","",""]
["42woMD",{"$f":"VLOOKUP($AA874,DATA!$B$3:$E$6,2,0)","v":"14:30:00"},{"$f":"VLOOKUP($AA874,DATA!$B$3:$E$6,3,0)","v":"22:30:00"},{"$f":"VLOOKUP($AA874,DATA!$B$3:$E$6,4,0)","v":3.125E-2},0.30208333333333337,0.30208333333333337,{"$f":"DATA!$C$9","v":0.89},{"$f":"DATA!$C$10","v":64},1,407.81250000000006,407.81250000000006,0,"","",0,"","",0,"","","","",null,{"$f":"X877","v":42},null,{"$f":"TEXT(Y873,\"ddd\")","v":"wo"},"MD",{"$f":"IFERROR(HLOOKUP(Y873,[1]DATA!$A$1:$NB$5,4,0),\"\")","v":"D1"},null,null,null,null,{"$f":"VLOOKUP(Y873,[1]SRI!$S$4:$Z$368,7,0)","v":0},"","",""]
["42woND",{"$f":"VLOOKUP($AA875,DATA!$B$3:$E$6,2,0)","v":"22:30:00"},{"$f":"VLOOKUP($AA875,DATA!$B$3:$E$6,3,0)","v":"06:30:00"},{"$f":"VLOOKUP($AA875,DATA!$B$3:$E$6,4,0)","v":3.125E-2},0.30208333333333326,0.30208333333333326,{"$f":"DATA!$C$9","v":0.89},{"$f":"DATA!$C$10","v":64},1,407.81249999999989,407.81249999999989,0,"","",0,"","",0,"","","","",null,{"$f":"X877","v":42},null,{"$f":"TEXT(Y873,\"ddd\")","v":"wo"},"ND",{"$f":"IFERROR(HLOOKUP(Y873,[1]DATA!$A$1:$NB$5,5,0),\"\")","v":"D3"},null,null,null,null,{"$f":"VLOOKUP(Y873,[1]SRI!$S$4:$Z$368,8,0)","v":0},"","",""]
["42doDD",{"$f":"VLOOKUP($AA876,DATA!$B$3:$E$6,2,0)","v":"06:30:00"},{"$f":"VLOOKUP($AA876,DATA!$B$3:$E$6,3,0)","v":"14:30:00"},{"$f":"VLOOKUP($AA876,DATA!$B$3:$E$6,4,0)","v":3.125E-2},0.30208333333333331,0.30208333333333331,{"$f":"DATA!$C$9","v":0.89},{"$f":"DATA!$C$10","v":64},1,407.8125,407.8125,0,"","",0,"","",0,"","","","",null,{"$f":"X877","v":42},"2018-10-18",{"$f":"TEXT(Y876,\"ddd\")","v":"do"},"DD",{"$f":"IFERROR(HLOOKUP(Y876,[1]DATA!$A$1:$NB$5,3,0),\"\")","v":"D2"},null,null,null,null,{"$f":"VLOOKUP(Y876,[1]SRI!$S$4:$Z$368,6,0)","v":0},"","",""]
["42doMD",{"$f":"VLOOKUP($AA877,DATA!$B$3:$E$6,2,0)","v":"14:30:00"},{"$f":"VLOOKUP($AA877,DATA!$B$3:$E$6,3,0)","v":"22:30:00"},{"$f":"VLOOKUP($AA877,DATA!$B$3:$E$6,4,0)","v":3.125E-2},0.30208333333333337,0.30208333333333337,{"$f":"DATA!$C$9","v":0.89},{"$f":"DATA!$C$10","v":64},1,407.81250000000006,407.81250000000006,0,"","",0,"","",0,"","","","",null,{"$f":"WEEKNUM($Y867)","v":42},null,{"$f":"TEXT(Y876,\"ddd\")","v":"do"},"MD",{"$f":"IFERROR(HLOOKUP(Y876,[1]DATA!$A$1:$NB$5,4,0),\"\")","v":"D1"},null,null,null,null,{"$f":"VLOOKUP(Y876,[1]SRI!$S$4:$Z$368,7,0)","v":0},"","",""]
["42doND",{"$f":"VLOOKUP($AA878,DATA!$B$3:$E$6,2,0)","v":"22:30:00"},{"$f":"VLOOKUP($AA878,DATA!$B$3:$E$6,3,0)","v":"06:30:00"},{"$f":"VLOOKUP($AA878,DATA!$B$3:$E$6,4,0)","v":3.125E-2},0.30208333333333326,0.30208333333333326,{"$f":"DATA!$C$9","v":0.89},{"$f":"DATA!$C$10","v":64},1,407.81249999999989,407.81249999999989,0,"","",0,"","",0,"","","","",null,{"$f":"X877","v":42},null,{"$f":"TEXT(Y876,\"ddd\")","v":"do"},"ND",{"$f":"IFERROR(HLOOKUP(Y876,[1]DATA!$A$1:$NB$5,5,0),\"\")","v":"D3"},null,null,null,null,{"$f":"VLOOKUP(Y876,[1]SRI!$S$4:$Z$368,8,0)","v":0},"","",""]
["42vrDD",{"$f":"VLOOKUP($AA879,DATA!$B$3:$E$6,2,0)","v":"06:30:00"},{"$f":"VLOOKUP($AA879,DATA!$B$3:$E$6,3,0)","v":"14:30:00"},{"$f":"VLOOKUP($AA879,DATA!$B$3:$E$6,4,0)","v":3.125E-2},0.30208333333333331,0.30208333333333331,{"$f":"DATA!$C$9","v":0.89},{"$f":"DATA!$C$10","v":64},1,407.8125,407.8125,0,"","",0,"","",0,"","","","",null,{"$f":"X877","v":42},"2018-10-19",{"$f":"TEXT(Y879,\"ddd\")","v":"vr"},"DD",{"$f":"IFERROR(HLOOKUP(Y879,[1]DATA!$A$1:$NB$5,3,0),\"\")","v":"D2"},null,null,null,null,{"$f":"VLOOKUP(Y879,[1]SRI!$S$4:$Z$368,6,0)","v":0},"","",""]
[{"$f":"X880&Z880&AA880","v":"42vrMD"},{"$f":"VLOOKUP($AA880,DATA!$B$3:$E$6,2,0)","v":"14:30:00"},{"$f":"VLOOKUP($AA880,DATA!$B$3:$E$6,3,0)","v":"22:30:00"},{"$f":"VLOOKUP($AA880,DATA!$B$3:$E$6,4,0)","v":3.125E-2},0.30208333333333337,0.30208333333333337,{"$f":"DATA!$C$9","v":0.89},{"$f":"DATA!$C$10","v":64},1,407.81250000000006,407.81250000000006,0,"","",0,{"$f":"IF($O880*86400/$H880=0,\"\",$O880*86400/$H880)","v":""},"",0,"","","","",null,{"$f":"X877","v":42},null,{"$f":"TEXT(Y879,\"ddd\")","v":"vr"},"MD",{"$f":"IFERROR(HLOOKUP(Y879,[1]DATA!$A$1:$NB$5,4,0),\"\")","v":"D1"},null,null,null,null,{"$f":"VLOOKUP(Y879,[1]SRI!$S$4:$Z$368,7,0)","v":0},"","",""]
["42vrND",{"$f":"VLOOKUP($AA881,DATA!$B$3:$E$6,2,0)","v":"22:30:00"},{"$f":"VLOOKUP($AA881,DATA!$B$3:$E$6,3,0)","v":"06:30:00"},{"$f":"VLOOKUP($AA881,DATA!$B$3:$E$6,4,0)","v":3.125E-2},0.30208333333333326,0.30208333333333326,{"$f":"DATA!$C$9","v":0.89},{"$f":"DATA!$C$10","v":64},1,407.81249999999989,407.81249999999989,0,"","",0,"","",0,"","","","",null,{"$f":"X877","v":42},null,{"$f":"TEXT(Y879,\"ddd\")","v":"vr"},"ND",{"$f":"IFERROR(HLOOKUP(Y879,[1]DATA!$A$1:$NB$5,5,0),\"\")","v":"D3"},null,null,null,null,{"$f":"VLOOKUP(Y879,[1]SRI!$S$4:$Z$368,8,0)","v":0},"","",""]
["42zaDD",{"$f":"VLOOKUP($AA882,DATA!$B$3:$E$6,2,0)","v":"06:30:00"},{"$f":"VLOOKUP($AA882,DATA!$B$3:$E$6,3,0)","v":"14:30:00"},{"$f":"VLOOKUP($AA882,DATA!$B$3:$E$6,4,0)","v":3.125E-2},0.30208333333333331,0.30208333333333331,{"$f":"DATA!$C$9","v":0.89},{"$f":"DATA!$C$10","v":64},1,407.8125,407.8125,0,"","",0,"","",0,"","","","",null,{"$f":"X877","v":42},"2018-10-20",{"$f":"TEXT(Y882,\"ddd\")","v":"za"},"DD",{"$f":"IFERROR(HLOOKUP(Y882,[1]DATA!$A$1:$NB$5,3,0),\"\")","v":"D2"},null,null,null,null,{"$f":"VLOOKUP(Y882,[1]SRI!$S$4:$Z$368,6,0)","v":0},"","",""]
["42zaMD",{"$f":"VLOOKUP($AA883,DATA!$B$3:$E$6,2,0)","v":"14:30:00"},{"$f":"VLOOKUP($AA883,DATA!$B$3:$E$6,3,0)","v":"22:30:00"},{"$f":"VLOOKUP($AA883,DATA!$B$3:$E$6,4,0)","v":3.125E-2},0.30208333333333337,0.30208333333333337,{"$f":"DATA!$C$9","v":0.89},{"$f":"DATA!$C$10","v":64},1,407.81250000000006,407.81250000000006,0,"","",0,"","",0,"","","","",null,{"$f":"X877","v":42},null,{"$f":"TEXT(Y882,\"ddd\")","v":"za"},"MD",{"$f":"IFERROR(HLOOKUP(Y882,[1]DATA!$A$1:$NB$5,4,0),\"\")","v":"-"},null,null,null,null,{"$f":"VLOOKUP(Y882,[1]SRI!$S$4:$Z$368,7,0)","v":0},"","",""]
["42zaND",{"$f":"VLOOKUP($AA884,DATA!$B$3:$E$6,2,0)","v":"22:30:00"},{"$f":"VLOOKUP($AA884,DATA!$B$3:$E$6,3,0)","v":"06:30:00"},{"$f":"VLOOKUP($AA884,DATA!$B$3:$E$6,4,0)","v":3.125E-2},0.30208333333333326,0.30208333333333326,{"$f":"DATA!$C$9","v":0.89},{"$f":"DATA!$C$10","v":64},1,407.81249999999989,407.81249999999989,0,"","",0,"","",0,"","","","",null,{"$f":"X877","v":42},null,{"$f":"TEXT(Y882,\"ddd\")","v":"za"},"ND",{"$f":"IFERROR(HLOOKUP(Y882,[1]DATA!$A$1:$NB$5,5,0),\"\")","v":"-"},null,null,null,null,{"$f":"VLOOKUP(Y882,[1]SRI!$S$4:$Z$368,8,0)","v":0},"","",""]
["42zoDD",{"$f":"VLOOKUP($AA885,DATA!$B$3:$E$6,2,0)","v":"06:30:00"},{"$f":"VLOOKUP($AA885,DATA!$B$3:$E$6,3,0)","v":"14:30:00"},{"$f":"VLOOKUP($AA885,DATA!$B$3:$E$6,4,0)","v":3.125E-2},0.30208333333333331,0.30208333333333331,{"$f":"DATA!$C$9","v":0.89},{"$f":"DATA!$C$10","v":64},1,407.8125,407.8125,0,"","",0,"","",0,"","","","",null,{"$f":"X877","v":42},"2018-10-21",{"$f":"TEXT(Y885,\"ddd\")","v":"zo"},"DD",{"$f":"IFERROR(HLOOKUP(Y885,[1]DATA!$A$1:$NB$5,3,0),\"\")","v":"-"},null,null,null,null,{"$f":"VLOOKUP(Y885,[1]SRI!$S$4:$Z$368,6,0)","v":0},"","",""]
["42zoMD",{"$f":"VLOOKUP($AA886,DATA!$B$3:$E$6,2,0)","v":"14:30:00"},{"$f":"VLOOKUP($AA886,DATA!$B$3:$E$6,3,0)","v":"22:30:00"},{"$f":"VLOOKUP($AA886,DATA!$B$3:$E$6,4,0)","v":3.125E-2},0.30208333333333337,0.30208333333333337,{"$f":"DATA!$C$9","v":0.89},{"$f":"DATA!$C$10","v":64},1,407.81250000000006,407.81250000000006,0,"","",0,"","",0,"","","","",null,{"$f":"X877","v":42},null,{"$f":"TEXT(Y885,\"ddd\")","v":"zo"},"MD",{"$f":"IFERROR(HLOOKUP(Y885,[1]DATA!$A$1:$NB$5,4,0),\"\")","v":"-"},null,null,null,null,{"$f":"VLOOKUP(Y885,[1]SRI!$S$4:$Z$368,7,0)","v":0},"","",""]
["42zoZND",{"$f":"VLOOKUP($AA887,DATA!$B$3:$E$6,2,0)","v":"00:00:00"},{"$f":"VLOOKUP($AA887,DATA!$B$3:$E$6,3,0)","v":"00:00:00"},{"$f":"VLOOKUP($AA887,DATA!$B$3:$E$6,4,0)","v":3.125E-2},-3.125E-2,-3.125E-2,{"$f":"DATA!$C$9","v":0.89},{"$f":"DATA!$C$10","v":64},1,-42.1875,-42.1875,0,"","",0,"","",0,"","","","",null,{"$f":"X877","v":42},null,{"$f":"TEXT(Y885,\"ddd\")","v":"zo"},"ZND",{"$f":"IFERROR(HLOOKUP(Y885,[1]DATA!$A$1:$NB$5,5,0),\"\")","v":"-"},null,null,null,null,{"$f":"VLOOKUP(Y885,[1]SRI!$S$4:$Z$368,8,0)","v":0},"","",""]
["43maDD",{"$f":"VLOOKUP($AA888,DATA!$B$3:$E$6,2,0)","v":"06:30:00"},{"$f":"VLOOKUP($AA888,DATA!$B$3:$E$6,3,0)","v":"14:30:00"},{"$f":"VLOOKUP($AA888,DATA!$B$3:$E$6,4,0)","v":3.125E-2},0.30208333333333331,0.30208333333333331,{"$f":"DATA!$C$9","v":0.89},{"$f":"DATA!$C$10","v":64},1,407.8125,407.8125,0,"","",{"$f":"TIME(INT($AD888/60),INT(MOD($AD888,60)/1),0)","v":0},"","",0,"","","","",null,{"$f":"X898","v":43},"2018-10-22",{"$f":"TEXT(Y888,\"ddd\")","v":"ma"},"DD",{"$f":"IFERROR(HLOOKUP(Y888,[1]DATA!$A$1:$NB$5,3,0),\"\")","v":"D1"},null,null,null,null,{"$f":"VLOOKUP(Y888,[1]SRI!$S$4:$Z$368,6,0)","v":0},"","","",{"$f":"IF(SUMIF(S888:S908,\">0\",K888:K908)=0,\"\",SUMIF(S888:S908,\">0\",K888:K908))","v":""},{"$f":"IF(SUM(S888:S908)=0,\"\",SUM(S888:S908))","v":""},{"$f":"IFERROR(AL888/AK888,\"-\")","v":"-"},{"$f":"IF(SUM(M888:M908)=0,\"0\",SUM(M888:M908))","v":"0"},{"$f":"IFERROR(AN888/AK888,\"-\")","v":"-"},{"$f":"IF(SUM(P888:P908)=0,0,SUM(P888:P908))","v":0},{"$f":"IFERROR(AP888/AK888,\"-\")","v":"-"},"-",{"$f":"IFERROR(SUMIF($AB888:$AB908,AS$5,$AJ888:$AJ908)/COUNTIFS($AB888:$AB908,AS$5,$AJ888:$AJ908,\">0\"),\"\")","v":""},"","",{"$f":"IFERROR((AK888-AL888-AN888-AP888),\"-\")","v":"-"},{"$f":"IFERROR((1-AM888-AO888-AQ888), \"-\")","v":"-"},{"$f":"IFERROR((AV888*$AE$2)/60,\"-\")","v":"-"},{"$f":"IFERROR(SUM(AG888:AG908),\"\")","v":0}]
["43maMD",{"$f":"VLOOKUP($AA889,DATA!$B$3:$E$6,2,0)","v":"14:30:00"},{"$f":"VLOOKUP($AA889,DATA!$B$3:$E$6,3,0)","v":"22:30:00"},{"$f":"VLOOKUP($AA889,DATA!$B$3:$E$6,4,0)","v":3.125E-2},0.30208333333333337,0.30208333333333337,{"$f":"DATA!$C$9","v":0.89},{"$f":"DATA!$C$10","v":64},1,407.81250000000006,407.81250000000006,0,"","",{"$f":"TIME(INT(AD889/60),INT(MOD(AD889,60)/1),0)","v":0},"","",0,"","","","",null,{"$f":"X898","v":43},null,{"$f":"TEXT(Y888,\"ddd\")","v":"ma"},"MD",{"$f":"IFERROR(HLOOKUP(Y888,[1]DATA!$A$1:$NB$5,4,0),\"\")","v":"D3"},null,null,null,null,{"$f":"VLOOKUP(Y888,[1]SRI!$S$4:$Z$368,7,0)","v":0},"","",""]
["43maND",{"$f":"VLOOKUP($AA890,DATA!$B$3:$E$6,2,0)","v":"22:30:00"},{"$f":"VLOOKUP($AA890,DATA!$B$3:$E$6,3,0)","v":"06:30:00"},{"$f":"VLOOKUP($AA890,DATA!$B$3:$E$6,4,0)","v":3.125E-2},0.30208333333333326,0.30208333333333326,{"$f":"DATA!$C$9","v":0.89},{"$f":"DATA!$C$10","v":64},1,407.81249999999989,407.81249999999989,0,"","",0,"","",0,"","","","",null,{"$f":"X898","v":43},null,{"$f":"TEXT(Y888,\"ddd\")","v":"ma"},"ND",{"$f":"IFERROR(HLOOKUP(Y888,[1]DATA!$A$1:$NB$5,5,0),\"\")","v":"D2"},null,null,null,null,{"$f":"VLOOKUP(Y888,[1]SRI!$S$4:$Z$368,8,0)","v":0},"","",""]
["43diDD",{"$f":"VLOOKUP($AA891,DATA!$B$3:$E$6,2,0)","v":"06:30:00"},{"$f":"VLOOKUP($AA891,DATA!$B$3:$E$6,3,0)","v":"14:30:00"},{"$f":"VLOOKUP($AA891,DATA!$B$3:$E$6,4,0)","v":3.125E-2},0.30208333333333331,0.30208333333333331,{"$f":"DATA!$C$9","v":0.89},{"$f":"DATA!$C$10","v":64},1,407.8125,407.8125,0,"","",0,"","",0,"","","","",null,{"$f":"X898","v":43},{"$f":"Y888+1","v":"2018-10-23"},{"$f":"TEXT(Y891,\"ddd\")","v":"di"},"DD",{"$f":"IFERROR(HLOOKUP(Y891,[1]DATA!$A$1:$NB$5,3,0),\"\")","v":"D1"},null,null,null,null,{"$f":"VLOOKUP(Y891,[1]SRI!$S$4:$Z$368,6,0)","v":0},"","",""]
["43diMD",{"$f":"VLOOKUP($AA892,DATA!$B$3:$E$6,2,0)","v":"14:30:00"},{"$f":"VLOOKUP($AA892,DATA!$B$3:$E$6,3,0)","v":"22:30:00"},{"$f":"VLOOKUP($AA892,DATA!$B$3:$E$6,4,0)","v":3.125E-2},0.30208333333333337,0.30208333333333337,{"$f":"DATA!$C$9","v":0.89},{"$f":"DATA!$C$10","v":64},1,407.81250000000006,407.81250000000006,0,"","",0,"","",0,"","","","",null,{"$f":"X898","v":43},null,{"$f":"TEXT(Y891,\"ddd\")","v":"di"},"MD",{"$f":"IFERROR(HLOOKUP(Y891,[1]DATA!$A$1:$NB$5,4,0),\"\")","v":"D3"},null,null,null,null,{"$f":"VLOOKUP(Y891,[1]SRI!$S$4:$Z$368,7,0)","v":0},"","",""]
["43diND",{"$f":"VLOOKUP($AA893,DATA!$B$3:$E$6,2,0)","v":"22:30:00"},{"$f":"VLOOKUP($AA893,DATA!$B$3:$E$6,3,0)","v":"06:30:00"},{"$f":"VLOOKUP($AA893,DATA!$B$3:$E$6,4,0)","v":3.125E-2},0.30208333333333326,0.30208333333333326,{"$f":"DATA!$C$9","v":0.89},{"$f":"DATA!$C$10","v":64},1,407.81249999999989,407.81249999999989,0,"","",0,"","",0,"","","","",null,{"$f":"X898","v":43},null,{"$f":"TEXT(Y891,\"ddd\")","v":"di"},"ND",{"$f":"IFERROR(HLOOKUP(Y891,[1]DATA!$A$1:$NB$5,5,0),\"\")","v":"D2"},null,null,null,null,{"$f":"VLOOKUP(Y891,[1]SRI!$S$4:$Z$368,8,0)","v":0},"","",""]
["43woDD",{"$f":"VLOOKUP($AA894,DATA!$B$3:$E$6,2,0)","v":"06:30:00"},{"$f":"VLOOKUP($AA894,DATA!$B$3:$E$6,3,0)","v":"14:30:00"},{"$f":"VLOOKUP($AA894,DATA!$B$3:$E$6,4,0)","v":3.125E-2},0.30208333333333331,0.30208333333333331,{"$f":"DATA!$C$9","v":0.89},{"$f":"DATA!$C$10","v":64},1,407.8125,407.8125,0,"","",0,"","",0,"","","","",null,{"$f":"X898","v":43},"2018-10-24",{"$f":"TEXT(Y894,\"ddd\")","v":"wo"},"DD",{"$f":"IFERROR(HLOOKUP(Y894,[1]DATA!$A$1:$NB$5,3,0),\"\")","v":"D1"},null,null,null,null,{"$f":"VLOOKUP(Y894,[1]SRI!$S$4:$Z$368,6,0)","v":0},"","",""]
["43woMD",{"$f":"VLOOKUP($AA895,DATA!$B$3:$E$6,2,0)","v":"14:30:00"},{"$f":"VLOOKUP($AA895,DATA!$B$3:$E$6,3,0)","v":"22:30:00"},{"$f":"VLOOKUP($AA895,DATA!$B$3:$E$6,4,0)","v":3.125E-2},0.30208333333333337,0.30208333333333337,{"$f":"DATA!$C$9","v":0.89},{"$f":"DATA!$C$10","v":64},1,407.81250000000006,407.81250000000006,0,"","",0,"","",0,"","","","",null,{"$f":"X898","v":43},null,{"$f":"TEXT(Y894,\"ddd\")","v":"wo"},"MD",{"$f":"IFERROR(HLOOKUP(Y894,[1]DATA!$A$1:$NB$5,4,0),\"\")","v":"D3"},null,null,null,null,{"$f":"VLOOKUP(Y894,[1]SRI!$S$4:$Z$368,7,0)","v":0},"","",""]
["43woND",{"$f":"VLOOKUP($AA896,DATA!$B$3:$E$6,2,0)","v":"22:30:00"},{"$f":"VLOOKUP($AA896,DATA!$B$3:$E$6,3,0)","v":"06:30:00"},{"$f":"VLOOKUP($AA896,DATA!$B$3:$E$6,4,0)","v":3.125E-2},0.30208333333333326,0.30208333333333326,{"$f":"DATA!$C$9","v":0.89},{"$f":"DATA!$C$10","v":64},1,407.81249999999989,407.81249999999989,0,"","",0,"","",0,"","","","",null,{"$f":"X898","v":43},null,{"$f":"TEXT(Y894,\"ddd\")","v":"wo"},"ND",{"$f":"IFERROR(HLOOKUP(Y894,[1]DATA!$A$1:$NB$5,5,0),\"\")","v":"D2"},null,null,null,null,{"$f":"VLOOKUP(Y894,[1]SRI!$S$4:$Z$368,8,0)","v":0},"","",""]
["43doDD",{"$f":"VLOOKUP($AA897,DATA!$B$3:$E$6,2,0)","v":"06:30:00"},{"$f":"VLOOKUP($AA897,DATA!$B$3:$E$6,3,0)","v":"14:30:00"},{"$f":"VLOOKUP($AA897,DATA!$B$3:$E$6,4,0)","v":3.125E-2},0.30208333333333331,0.30208333333333331,{"$f":"DATA!$C$9","v":0.89},{"$f":"DATA!$C$10","v":64},1,407.8125,407.8125,0,"","",0,"","",0,"","","","",null,{"$f":"X898","v":43},"2018-10-25",{"$f":"TEXT(Y897,\"ddd\")","v":"do"},"DD",{"$f":"IFERROR(HLOOKUP(Y897,[1]DATA!$A$1:$NB$5,3,0),\"\")","v":"D1"},null,null,null,null,{"$f":"VLOOKUP(Y897,[1]SRI!$S$4:$Z$368,6,0)","v":0},"","",""]
["43doMD",{"$f":"VLOOKUP($AA898,DATA!$B$3:$E$6,2,0)","v":"14:30:00"},{"$f":"VLOOKUP($AA898,DATA!$B$3:$E$6,3,0)","v":"22:30:00"},{"$f":"VLOOKUP($AA898,DATA!$B$3:$E$6,4,0)","v":3.125E-2},0.30208333333333337,0.30208333333333337,{"$f":"DATA!$C$9","v":0.89},{"$f":"DATA!$C$10","v":64},1,407.81250000000006,407.81250000000006,0,"","",0,"","",0,"","","","",null,{"$f":"WEEKNUM($Y888)","v":43},null,{"$f":"TEXT(Y897,\"ddd\")","v":"do"},"MD",{"$f":"IFERROR(HLOOKUP(Y897,[1]DATA!$A$1:$NB$5,4,0),\"\")","v":"D3"},null,null,null,null,{"$f":"VLOOKUP(Y897,[1]SRI!$S$4:$Z$368,7,0)","v":0},"","",""]
["43doND",{"$f":"VLOOKUP($AA899,DATA!$B$3:$E$6,2,0)","v":"22:30:00"},{"$f":"VLOOKUP($AA899,DATA!$B$3:$E$6,3,0)","v":"06:30:00"},{"$f":"VLOOKUP($AA899,DATA!$B$3:$E$6,4,0)","v":3.125E-2},0.30208333333333326,0.30208333333333326,{"$f":"DATA!$C$9","v":0.89},{"$f":"DATA!$C$10","v":64},1,407.81249999999989,407.81249999999989,0,"","",0,"","",0,"","","","",null,{"$f":"X898","v":43},null,{"$f":"TEXT(Y897,\"ddd\")","v":"do"},"ND",{"$f":"IFERROR(HLOOKUP(Y897,[1]DATA!$A$1:$NB$5,5,0),\"\")","v":"D2"},null,null,null,null,{"$f":"VLOOKUP(Y897,[1]SRI!$S$4:$Z$368,8,0)","v":0},"","",""]
["43vrDD",{"$f":"VLOOKUP($AA900,DATA!$B$3:$E$6,2,0)","v":"06:30:00"},{"$f":"VLOOKUP($AA900,DATA!$B$3:$E$6,3,0)","v":"14:30:00"},{"$f":"VLOOKUP($AA900,DATA!$B$3:$E$6,4,0)","v":3.125E-2},0.30208333333333331,0.30208333333333331,{"$f":"DATA!$C$9","v":0.89},{"$f":"DATA!$C$10","v":64},1,407.8125,407.8125,0,"","",0,"","",0,"","","","",null,{"$f":"X898","v":43},"2018-10-26",{"$f":"TEXT(Y900,\"ddd\")","v":"vr"},"DD",{"$f":"IFERROR(HLOOKUP(Y900,[1]DATA!$A$1:$NB$5,3,0),\"\")","v":"D1"},null,null,null,null,{"$f":"VLOOKUP(Y900,[1]SRI!$S$4:$Z$368,6,0)","v":0},"","",""]
["43vrMD",{"$f":"VLOOKUP($AA901,DATA!$B$3:$E$6,2,0)","v":"14:30:00"},{"$f":"VLOOKUP($AA901,DATA!$B$3:$E$6,3,0)","v":"22:30:00"},{"$f":"VLOOKUP($AA901,DATA!$B$3:$E$6,4,0)","v":3.125E-2},0.30208333333333337,0.30208333333333337,{"$f":"DATA!$C$9","v":0.89},{"$f":"DATA!$C$10","v":64},1,407.81250000000006,407.81250000000006,0,"","",0,"","",0,"","","","",null,{"$f":"X898","v":43},null,{"$f":"TEXT(Y900,\"ddd\")","v":"vr"},"MD",{"$f":"IFERROR(HLOOKUP(Y900,[1]DATA!$A$1:$NB$5,4,0),\"\")","v":"D3"},null,null,null,null,{"$f":"VLOOKUP(Y900,[1]SRI!$S$4:$Z$368,7,0)","v":0},"","",""]
["43vrND",{"$f":"VLOOKUP($AA902,DATA!$B$3:$E$6,2,0)","v":"22:30:00"},{"$f":"VLOOKUP($AA902,DATA!$B$3:$E$6,3,0)","v":"06:30:00"},{"$f":"VLOOKUP($AA902,DATA!$B$3:$E$6,4,0)","v":3.125E-2},0.30208333333333326,0.30208333333333326,{"$f":"DATA!$C$9","v":0.89},{"$f":"DATA!$C$10","v":64},1,407.81249999999989,407.81249999999989,0,"","",0,"","",0,"","","","",null,{"$f":"X898","v":43},null,{"$f":"TEXT(Y900,\"ddd\")","v":"vr"},"ND",{"$f":"IFERROR(HLOOKUP(Y900,[1]DATA!$A$1:$NB$5,5,0),\"\")","v":"D2"},null,null,null,null,{"$f":"VLOOKUP(Y900,[1]SRI!$S$4:$Z$368,8,0)","v":0},{"$f":"IFERROR(S902-J902,\"\")","v":""},{"$f":"IFERROR(IF(S902/(E902*86400/H902)<=0,\"\",S902/(E902*86400/H902)),\"\")","v":""},""]
["43zaDD",{"$f":"VLOOKUP($AA903,DATA!$B$3:$E$6,2,0)","v":"06:30:00"},{"$f":"VLOOKUP($AA903,DATA!$B$3:$E$6,3,0)","v":"14:30:00"},{"$f":"VLOOKUP($AA903,DATA!$B$3:$E$6,4,0)","v":3.125E-2},0.30208333333333331,0.30208333333333331,{"$f":"DATA!$C$9","v":0.89},{"$f":"DATA!$C$10","v":64},1,407.8125,407.8125,{"$f":"TIME(INT($AC903/60),INT(MOD($AC903,60)/1),0)","v":0},{"$f":"IF($L903*86400/$H903=0,\"\",$L903*86400/$H903)","v":""},{"$f":"IFERROR($M903/$K903,\"\")","v":""},0,"",{"$f":"IFERROR($P903/$K903,\"\")","v":""},0,"",{"$f":"IF(IF($AB903=\"D1\",$S903,\"\")=0,\"\",IF($AB903=\"D1\",$S903,\"\"))","v":""},{"$f":"IF(IF($AB903=\"D2\",$S903,\"\")=0,\"\",IF($AB903=\"D2\",$S903,\"\"))","v":""},{"$f":"IF(IF($AB903=\"D3\",$S903,\"\")=0,\"\",IF($AB903=\"D3\",$S903,\"\"))","v":""},null,{"$f":"X898","v":43},"2018-10-27",{"$f":"TEXT(Y903,\"ddd\")","v":"za"},"DD",{"$f":"IFERROR(HLOOKUP(Y903,[1]DATA!$A$1:$NB$5,3,0),\"\")","v":"D1"},null,null,null,null,{"$f":"VLOOKUP(Y903,[1]SRI!$S$4:$Z$368,6,0)","v":0},"","",""]
["43zaMD",{"$f":"VLOOKUP($AA904,DATA!$B$3:$E$6,2,0)","v":"14:30:00"},{"$f":"VLOOKUP($AA904,DATA!$B$3:$E$6,3,0)","v":"22:30:00"},{"$f":"VLOOKUP($AA904,DATA!$B$3:$E$6,4,0)","v":3.125E-2},0.30208333333333337,0.30208333333333337,{"$f":"DATA!$C$9","v":0.89},{"$f":"DATA!$C$10","v":64},1,407.81250000000006,407.81250000000006,0,"","",0,"","",0,"","","","",null,{"$f":"X898","v":43},null,{"$f":"TEXT(Y903,\"ddd\")","v":"za"},"MD",{"$f":"IFERROR(HLOOKUP(Y903,[1]DATA!$A$1:$NB$5,4,0),\"\")","v":"-"},null,null,null,null,{"$f":"VLOOKUP(Y903,[1]SRI!$S$4:$Z$368,7,0)","v":0},"","",""]
["43zaND",{"$f":"VLOOKUP($AA905,DATA!$B$3:$E$6,2,0)","v":"22:30:00"},{"$f":"VLOOKUP($AA905,DATA!$B$3:$E$6,3,0)","v":"06:30:00"},{"$f":"VLOOKUP($AA905,DATA!$B$3:$E$6,4,0)","v":3.125E-2},0.30208333333333326,0.30208333333333326,{"$f":"DATA!$C$9","v":0.89},{"$f":"DATA!$C$10","v":64},1,407.81249999999989,407.81249999999989,0,"","",0,"","",0,"","","","",null,{"$f":"X898","v":43},null,{"$f":"TEXT(Y903,\"ddd\")","v":"za"},"ND",{"$f":"IFERROR(HLOOKUP(Y903,[1]DATA!$A$1:$NB$5,5,0),\"\")","v":"-"},null,null,null,null,{"$f":"VLOOKUP(Y903,[1]SRI!$S$4:$Z$368,8,0)","v":0},"","",""]
["43zoDD",{"$f":"VLOOKUP($AA906,DATA!$B$3:$E$6,2,0)","v":"06:30:00"},{"$f":"VLOOKUP($AA906,DATA!$B$3:$E$6,3,0)","v":"14:30:00"},{"$f":"VLOOKUP($AA906,DATA!$B$3:$E$6,4,0)","v":3.125E-2},0.30208333333333331,0.30208333333333331,{"$f":"DATA!$C$9","v":0.89},{"$f":"DATA!$C$10","v":64},1,407.8125,407.8125,0,"","",0,"","",0,"","","","",null,{"$f":"X898","v":43},"2018-10-28",{"$f":"TEXT(Y906,\"ddd\")","v":"zo"},"DD",{"$f":"IFERROR(HLOOKUP(Y906,[1]DATA!$A$1:$NB$5,3,0),\"\")","v":"-"},null,null,null,null,{"$f":"VLOOKUP(Y906,[1]SRI!$S$4:$Z$368,6,0)","v":0},"","",""]
["43zoMD",{"$f":"VLOOKUP($AA907,DATA!$B$3:$E$6,2,0)","v":"14:30:00"},{"$f":"VLOOKUP($AA907,DATA!$B$3:$E$6,3,0)","v":"22:30:00"},{"$f":"VLOOKUP($AA907,DATA!$B$3:$E$6,4,0)","v":3.125E-2},0.30208333333333337,0.30208333333333337,{"$f":"DATA!$C$9","v":0.89},{"$f":"DATA!$C$10","v":64},1,407.81250000000006,407.81250000000006,0,"","",0,"","",0,"","","","",null,{"$f":"X898","v":43},null,{"$f":"TEXT(Y906,\"ddd\")","v":"zo"},"MD",{"$f":"IFERROR(HLOOKUP(Y906,[1]DATA!$A$1:$NB$5,4,0),\"\")","v":"-"},null,null,null,null,{"$f":"VLOOKUP(Y906,[1]SRI!$S$4:$Z$368,7,0)","v":0},"","",""]
["43zoZND",{"$f":"VLOOKUP($AA908,DATA!$B$3:$E$6,2,0)","v":"00:00:00"},{"$f":"VLOOKUP($AA908,DATA!$B$3:$E$6,3,0)","v":"00:00:00"},{"$f":"VLOOKUP($AA908,DATA!$B$3:$E$6,4,0)","v":3.125E-2},-3.125E-2,-3.125E-2,{"$f":"DATA!$C$9","v":0.89},{"$f":"DATA!$C$10","v":64},1,-42.1875,-42.1875,0,"","",0,"","",0,"","","","",null,{"$f":"X898","v":43},null,{"$f":"TEXT(Y906,\"ddd\")","v":"zo"},"ZND",{"$f":"IFERROR(HLOOKUP(Y906,[1]DATA!$A$1:$NB$5,5,0),\"\")","v":"-"},null,null,null,null,{"$f":"VLOOKUP(Y906,[1]SRI!$S$4:$Z$368,8,0)","v":0},"","",""]
["44maDD",{"$f":"VLOOKUP($AA909,DATA!$B$3:$E$6,2,0)","v":"06:30:00"},{"$f":"VLOOKUP($AA909,DATA!$B$3:$E$6,3,0)","v":"14:30:00"},{"$f":"VLOOKUP($AA909,DATA!$B$3:$E$6,4,0)","v":3.125E-2},0.30208333333333331,0.30208333333333331,{"$f":"DATA!$C$9","v":0.89},{"$f":"DATA!$C$10","v":64},1,407.8125,407.8125,0,"","",{"$f":"TIME(INT($AD909/60),INT(MOD($AD909,60)/1),0)","v":0},"","",0,"","","","",null,{"$f":"X919","v":44},"2018-10-29",{"$f":"TEXT(Y909,\"ddd\")","v":"ma"},"DD",{"$f":"IFERROR(HLOOKUP(Y909,[1]DATA!$A$1:$NB$5,3,0),\"\")","v":"D3"},null,null,null,null,{"$f":"VLOOKUP(Y909,[1]SRI!$S$4:$Z$368,6,0)","v":0},"","","",{"$f":"IF(SUMIF(S909:S929,\">0\",K909:K929)=0,\"\",SUMIF(S909:S929,\">0\",K909:K929))","v":""},{"$f":"IF(SUM(S909:S929)=0,\"\",SUM(S909:S929))","v":""},{"$f":"IFERROR(AL909/AK909,\"-\")","v":"-"},{"$f":"IF(SUM(M909:M929)=0,\"0\",SUM(M909:M929))","v":"0"},{"$f":"IFERROR(AN909/AK909,\"-\")","v":"-"},{"$f":"IF(SUM(P909:P929)=0,0,SUM(P909:P929))","v":0},{"$f":"IFERROR(AP909/AK909,\"-\")","v":"-"},"-",{"$f":"IFERROR(SUMIF($AB909:$AB929,AS$5,$AJ909:$AJ929)/COUNTIFS($AB909:$AB929,AS$5,$AJ909:$AJ929,\">0\"),\"\")","v":""},"","",{"$f":"IFERROR((AK909-AL909-AN909-AP909),\"-\")","v":"-"},{"$f":"IFERROR((1-AM909-AO909-AQ909), \"-\")","v":"-"},{"$f":"IFERROR((AV909*$AE$2)/60,\"-\")","v":"-"},{"$f":"IFERROR(SUM(AG909:AG929),\"\")","v":0}]
["44maMD",{"$f":"VLOOKUP($AA910,DATA!$B$3:$E$6,2,0)","v":"14:30:00"},{"$f":"VLOOKUP($AA910,DATA!$B$3:$E$6,3,0)","v":"22:30:00"},{"$f":"VLOOKUP($AA910,DATA!$B$3:$E$6,4,0)","v":3.125E-2},0.30208333333333337,0.30208333333333337,{"$f":"DATA!$C$9","v":0.89},{"$f":"DATA!$C$10","v":64},1,407.81250000000006,407.81250000000006,0,"","",{"$f":"TIME(INT(AD910/60),INT(MOD(AD910,60)/1),0)","v":0},"","",0,"","","","",null,{"$f":"X919","v":44},null,{"$f":"TEXT(Y909,\"ddd\")","v":"ma"},"MD",{"$f":"IFERROR(HLOOKUP(Y909,[1]DATA!$A$1:$NB$5,4,0),\"\")","v":"D2"},null,null,null,null,{"$f":"VLOOKUP(Y909,[1]SRI!$S$4:$Z$368,7,0)","v":0},"","",""]
["44maND",{"$f":"VLOOKUP($AA911,DATA!$B$3:$E$6,2,0)","v":"22:30:00"},{"$f":"VLOOKUP($AA911,DATA!$B$3:$E$6,3,0)","v":"06:30:00"},{"$f":"VLOOKUP($AA911,DATA!$B$3:$E$6,4,0)","v":3.125E-2},0.30208333333333326,0.30208333333333326,{"$f":"DATA!$C$9","v":0.89},{"$f":"DATA!$C$10","v":64},1,407.81249999999989,407.81249999999989,0,"","",0,"","",0,"","","","",null,{"$f":"X919","v":44},null,{"$f":"TEXT(Y909,\"ddd\")","v":"ma"},"ND",{"$f":"IFERROR(HLOOKUP(Y909,[1]DATA!$A$1:$NB$5,5,0),\"\")","v":"D1"},null,null,null,null,{"$f":"VLOOKUP(Y909,[1]SRI!$S$4:$Z$368,8,0)","v":0},"","",""]
["44diDD",{"$f":"VLOOKUP($AA912,DATA!$B$3:$E$6,2,0)","v":"06:30:00"},{"$f":"VLOOKUP($AA912,DATA!$B$3:$E$6,3,0)","v":"14:30:00"},{"$f":"VLOOKUP($AA912,DATA!$B$3:$E$6,4,0)","v":3.125E-2},0.30208333333333331,0.30208333333333331,{"$f":"DATA!$C$9","v":0.89},{"$f":"DATA!$C$10","v":64},1,407.8125,407.8125,0,"","",0,"","",0,"","","","",null,{"$f":"X919","v":44},"2018-10-30",{"$f":"TEXT(Y912,\"ddd\")","v":"di"},"DD",{"$f":"IFERROR(HLOOKUP(Y912,[1]DATA!$A$1:$NB$5,3,0),\"\")","v":"D3"},null,null,null,null,{"$f":"VLOOKUP(Y912,[1]SRI!$S$4:$Z$368,6,0)","v":0},"","",""]
["44diMD",{"$f":"VLOOKUP($AA913,DATA!$B$3:$E$6,2,0)","v":"14:30:00"},{"$f":"VLOOKUP($AA913,DATA!$B$3:$E$6,3,0)","v":"22:30:00"},{"$f":"VLOOKUP($AA913,DATA!$B$3:$E$6,4,0)","v":3.125E-2},0.30208333333333337,0.30208333333333337,{"$f":"DATA!$C$9","v":0.89},{"$f":"DATA!$C$10","v":64},1,407.81250000000006,407.81250000000006,0,"","",0,"","",0,"","","","",null,{"$f":"X919","v":44},null,{"$f":"TEXT(Y912,\"ddd\")","v":"di"},"MD",{"$f":"IFERROR(HLOOKUP(Y912,[1]DATA!$A$1:$NB$5,4,0),\"\")","v":"D2"},null,null,null,null,{"$f":"VLOOKUP(Y912,[1]SRI!$S$4:$Z$368,7,0)","v":0},"","",""]
["44diND",{"$f":"VLOOKUP($AA914,DATA!$B$3:$E$6,2,0)","v":"22:30:00"},{"$f":"VLOOKUP($AA914,DATA!$B$3:$E$6,3,0)","v":"06:30:00"},{"$f":"VLOOKUP($AA914,DATA!$B$3:$E$6,4,0)","v":3.125E-2},0.30208333333333326,0.30208333333333326,{"$f":"DATA!$C$9","v":0.89},{"$f":"DATA!$C$10","v":64},1,407.81249999999989,407.81249999999989,0,"","",0,"","",0,"","","","",null,{"$f":"X919","v":44},null,{"$f":"TEXT(Y912,\"ddd\")","v":"di"},"ND",{"$f":"IFERROR(HLOOKUP(Y912,[1]DATA!$A$1:$NB$5,5,0),\"\")","v":"D1"},null,null,null,null,{"$f":"VLOOKUP(Y912,[1]SRI!$S$4:$Z$368,8,0)","v":0},"","",""]
["44woDD",{"$f":"VLOOKUP($AA915,DATA!$B$3:$E$6,2,0)","v":"06:30:00"},{"$f":"VLOOKUP($AA915,DATA!$B$3:$E$6,3,0)","v":"14:30:00"},{"$f":"VLOOKUP($AA915,DATA!$B$3:$E$6,4,0)","v":3.125E-2},0.30208333333333331,0.30208333333333331,{"$f":"DATA!$C$9","v":0.89},{"$f":"DATA!$C$10","v":64},1,407.8125,407.8125,0,"","",0,"","",0,"","","","",null,{"$f":"X919","v":44},"2018-10-31",{"$f":"TEXT(Y915,\"ddd\")","v":"wo"},"DD",{"$f":"IFERROR(HLOOKUP(Y915,[1]DATA!$A$1:$NB$5,3,0),\"\")","v":"D3"},null,null,null,null,{"$f":"VLOOKUP(Y915,[1]SRI!$S$4:$Z$368,6,0)","v":0},"","",""]
["44woMD",{"$f":"VLOOKUP($AA916,DATA!$B$3:$E$6,2,0)","v":"14:30:00"},{"$f":"VLOOKUP($AA916,DATA!$B$3:$E$6,3,0)","v":"22:30:00"},{"$f":"VLOOKUP($AA916,DATA!$B$3:$E$6,4,0)","v":3.125E-2},0.30208333333333337,0.30208333333333337,{"$f":"DATA!$C$9","v":0.89},{"$f":"DATA!$C$10","v":64},1,407.81250000000006,407.81250000000006,0,"","",0,"","",0,"","","","",null,{"$f":"X919","v":44},null,{"$f":"TEXT(Y915,\"ddd\")","v":"wo"},"MD",{"$f":"IFERROR(HLOOKUP(Y915,[1]DATA!$A$1:$NB$5,4,0),\"\")","v":"D2"},null,null,null,null,{"$f":"VLOOKUP(Y915,[1]SRI!$S$4:$Z$368,7,0)","v":0},"","",""]
["44woND",{"$f":"VLOOKUP($AA917,DATA!$B$3:$E$6,2,0)","v":"22:30:00"},{"$f":"VLOOKUP($AA917,DATA!$B$3:$E$6,3,0)","v":"06:30:00"},{"$f":"VLOOKUP($AA917,DATA!$B$3:$E$6,4,0)","v":3.125E-2},0.30208333333333326,0.30208333333333326,{"$f":"DATA!$C$9","v":0.89},{"$f":"DATA!$C$10","v":64},1,407.81249999999989,407.81249999999989,0,"","",0,"","",0,"","","","",null,{"$f":"X919","v":44},null,{"$f":"TEXT(Y915,\"ddd\")","v":"wo"},"ND",{"$f":"IFERROR(HLOOKUP(Y915,[1]DATA!$A$1:$NB$5,5,0),\"\")","v":"D1"},null,null,null,null,{"$f":"VLOOKUP(Y915,[1]SRI!$S$4:$Z$368,8,0)","v":0},"","",""]
["44doDD",{"$f":"VLOOKUP($AA918,DATA!$B$3:$E$6,2,0)","v":"06:30:00"},{"$f":"VLOOKUP($AA918,DATA!$B$3:$E$6,3,0)","v":"14:30:00"},{"$f":"VLOOKUP($AA918,DATA!$B$3:$E$6,4,0)","v":3.125E-2},0.30208333333333331,0.30208333333333331,{"$f":"DATA!$C$9","v":0.89},{"$f":"DATA!$C$10","v":64},1,407.8125,407.8125,0,"","",0,"","",0,"","","","",null,{"$f":"X919","v":44},"2018-11-01",{"$f":"TEXT(Y918,\"ddd\")","v":"do"},"DD",{"$f":"IFERROR(HLOOKUP(Y918,[1]DATA!$A$1:$NB$5,3,0),\"\")","v":"D3"},null,null,null,null,{"$f":"VLOOKUP(Y918,[1]SRI!$S$4:$Z$368,6,0)","v":0},"","",""]
["44doMD",{"$f":"VLOOKUP($AA919,DATA!$B$3:$E$6,2,0)","v":"14:30:00"},{"$f":"VLOOKUP($AA919,DATA!$B$3:$E$6,3,0)","v":"22:30:00"},{"$f":"VLOOKUP($AA919,DATA!$B$3:$E$6,4,0)","v":3.125E-2},0.30208333333333337,0.30208333333333337,{"$f":"DATA!$C$9","v":0.89},{"$f":"DATA!$C$10","v":64},1,407.81250000000006,407.81250000000006,0,"","",0,"","",0,"","","","",null,{"$f":"WEEKNUM($Y909)","v":44},null,{"$f":"TEXT(Y918,\"ddd\")","v":"do"},"MD",{"$f":"IFERROR(HLOOKUP(Y918,[1]DATA!$A$1:$NB$5,4,0),\"\")","v":"D2"},null,null,null,null,{"$f":"VLOOKUP(Y918,[1]SRI!$S$4:$Z$368,7,0)","v":0},"","",""]
["44doND",{"$f":"VLOOKUP($AA920,DATA!$B$3:$E$6,2,0)","v":"22:30:00"},{"$f":"VLOOKUP($AA920,DATA!$B$3:$E$6,3,0)","v":"06:30:00"},{"$f":"VLOOKUP($AA920,DATA!$B$3:$E$6,4,0)","v":3.125E-2},0.30208333333333326,0.30208333333333326,{"$f":"DATA!$C$9","v":0.89},{"$f":"DATA!$C$10","v":64},1,407.81249999999989,407.81249999999989,0,"","",0,"","",0,"","","","",null,{"$f":"X919","v":44},null,{"$f":"TEXT(Y918,\"ddd\")","v":"do"},"ND",{"$f":"IFERROR(HLOOKUP(Y918,[1]DATA!$A$1:$NB$5,5,0),\"\")","v":"D1"},null,null,null,null,{"$f":"VLOOKUP(Y918,[1]SRI!$S$4:$Z$368,8,0)","v":0},"","",""]
["44vrDD",{"$f":"VLOOKUP($AA921,DATA!$B$3:$E$6,2,0)","v":"06:30:00"},{"$f":"VLOOKUP($AA921,DATA!$B$3:$E$6,3,0)","v":"14:30:00"},{"$f":"VLOOKUP($AA921,DATA!$B$3:$E$6,4,0)","v":3.125E-2},0.30208333333333331,0.30208333333333331,{"$f":"DATA!$C$9","v":0.89},{"$f":"DATA!$C$10","v":64},1,407.8125,407.8125,0,"","",0,"","",0,"","","","",null,{"$f":"X919","v":44},"2018-11-02",{"$f":"TEXT(Y921,\"ddd\")","v":"vr"},"DD",{"$f":"IFERROR(HLOOKUP(Y921,[1]DATA!$A$1:$NB$5,3,0),\"\")","v":"D3"},null,null,null,null,{"$f":"VLOOKUP(Y921,[1]SRI!$S$4:$Z$368,6,0)","v":0},"","",""]
["44vrMD",{"$f":"VLOOKUP($AA922,DATA!$B$3:$E$6,2,0)","v":"14:30:00"},{"$f":"VLOOKUP($AA922,DATA!$B$3:$E$6,3,0)","v":"22:30:00"},{"$f":"VLOOKUP($AA922,DATA!$B$3:$E$6,4,0)","v":3.125E-2},0.30208333333333337,0.30208333333333337,{"$f":"DATA!$C$9","v":0.89},{"$f":"DATA!$C$10","v":64},1,407.81250000000006,407.81250000000006,0,"","",0,"","",0,"","","","",null,{"$f":"X919","v":44},null,{"$f":"TEXT(Y921,\"ddd\")","v":"vr"},"MD",{"$f":"IFERROR(HLOOKUP(Y921,[1]DATA!$A$1:$NB$5,4,0),\"\")","v":"D2"},null,null,null,null,{"$f":"VLOOKUP(Y921,[1]SRI!$S$4:$Z$368,7,0)","v":0},"","",""]
["44vrND",{"$f":"VLOOKUP($AA923,DATA!$B$3:$E$6,2,0)","v":"22:30:00"},{"$f":"VLOOKUP($AA923,DATA!$B$3:$E$6,3,0)","v":"06:30:00"},{"$f":"VLOOKUP($AA923,DATA!$B$3:$E$6,4,0)","v":3.125E-2},0.30208333333333326,0.30208333333333326,{"$f":"DATA!$C$9","v":0.89},{"$f":"DATA!$C$10","v":64},1,407.81249999999989,407.81249999999989,0,"","",0,"","",0,"","","","",null,{"$f":"X919","v":44},null,{"$f":"TEXT(Y921,\"ddd\")","v":"vr"},"ND",{"$f":"IFERROR(HLOOKUP(Y921,[1]DATA!$A$1:$NB$5,5,0),\"\")","v":"D2"},null,null,null,null,{"$f":"VLOOKUP(Y921,[1]SRI!$S$4:$Z$368,8,0)","v":0},"","",{"$f":"IFERROR(R923/(R923+AG923),\"\")","v":""}]
["44zaDD",{"$f":"VLOOKUP($AA924,DATA!$B$3:$E$6,2,0)","v":"06:30:00"},{"$f":"VLOOKUP($AA924,DATA!$B$3:$E$6,3,0)","v":"14:30:00"},{"$f":"VLOOKUP($AA924,DATA!$B$3:$E$6,4,0)","v":3.125E-2},{"$f":"(C924-B924+(B924>C924))-D924","v":0.30208333333333331},{"$f":"E924-O924-L924","v":0.30208333333333331},{"$f":"DATA!$C$9","v":0.89},{"$f":"DATA!$C$10","v":64},1,{"$f":"F924*86400/H924*I924","v":407.8125},{"$f":"E924*86400/H924","v":407.8125},0,"","",0,"","",{"$f":"AF924*AG$2","v":0},{"$f":"IF(AF924-AE924=0,\"\",AF924-AE924)","v":""},"","","",null,{"$f":"X919","v":44},"2018-11-03",{"$f":"TEXT(Y924,\"ddd\")","v":"za"},"DD",{"$f":"IFERROR(HLOOKUP(Y924,[1]DATA!$A$1:$NB$5,3,0),\"\")","v":"D3"},null,null,null,null,{"$f":"VLOOKUP(Y924,[1]SRI!$S$4:$Z$368,6,0)","v":0},"","",""]
["44zaMD",{"$f":"VLOOKUP($AA925,DATA!$B$3:$E$6,2,0)","v":"14:30:00"},{"$f":"VLOOKUP($AA925,DATA!$B$3:$E$6,3,0)","v":"22:30:00"},{"$f":"VLOOKUP($AA925,DATA!$B$3:$E$6,4,0)","v":3.125E-2},0.30208333333333337,0.30208333333333337,{"$f":"DATA!$C$9","v":0.89},{"$f":"DATA!$C$10","v":64},1,407.81250000000006,407.81250000000006,0,"","",0,"","",0,"","","","",null,{"$f":"X919","v":44},null,{"$f":"TEXT(Y924,\"ddd\")","v":"za"},"MD",{"$f":"IFERROR(HLOOKUP(Y924,[1]DATA!$A$1:$NB$5,4,0),\"\")","v":"-"},null,null,null,null,{"$f":"VLOOKUP(Y924,[1]SRI!$S$4:$Z$368,7,0)","v":0},"","",""]
["44zaND",{"$f":"VLOOKUP($AA926,DATA!$B$3:$E$6,2,0)","v":"22:30:00"},{"$f":"VLOOKUP($AA926,DATA!$B$3:$E$6,3,0)","v":"06:30:00"},{"$f":"VLOOKUP($AA926,DATA!$B$3:$E$6,4,0)","v":3.125E-2},0.30208333333333326,0.30208333333333326,{"$f":"DATA!$C$9","v":0.89},{"$f":"DATA!$C$10","v":64},1,407.81249999999989,407.81249999999989,0,"","",0,"","",0,"","","","",null,{"$f":"X919","v":44},null,{"$f":"TEXT(Y924,\"ddd\")","v":"za"},"ND",{"$f":"IFERROR(HLOOKUP(Y924,[1]DATA!$A$1:$NB$5,5,0),\"\")","v":"-"},null,null,null,null,{"$f":"VLOOKUP(Y924,[1]SRI!$S$4:$Z$368,8,0)","v":0},"","",""]
["44zoDD",{"$f":"VLOOKUP($AA927,DATA!$B$3:$E$6,2,0)","v":"06:30:00"},{"$f":"VLOOKUP($AA927,DATA!$B$3:$E$6,3,0)","v":"14:30:00"},{"$f":"VLOOKUP($AA927,DATA!$B$3:$E$6,4,0)","v":3.125E-2},0.30208333333333331,0.30208333333333331,{"$f":"DATA!$C$9","v":0.89},{"$f":"DATA!$C$10","v":64},1,407.8125,407.8125,0,"","",0,"","",0,"","","","",null,{"$f":"X919","v":44},"2018-11-04",{"$f":"TEXT(Y927,\"ddd\")","v":"zo"},"DD",{"$f":"IFERROR(HLOOKUP(Y927,[1]DATA!$A$1:$NB$5,3,0),\"\")","v":"-"},null,null,null,null,{"$f":"VLOOKUP(Y927,[1]SRI!$S$4:$Z$368,6,0)","v":0},"","",""]
["44zoMD",{"$f":"VLOOKUP($AA928,DATA!$B$3:$E$6,2,0)","v":"14:30:00"},{"$f":"VLOOKUP($AA928,DATA!$B$3:$E$6,3,0)","v":"22:30:00"},{"$f":"VLOOKUP($AA928,DATA!$B$3:$E$6,4,0)","v":3.125E-2},0.30208333333333337,0.30208333333333337,{"$f":"DATA!$C$9","v":0.89},{"$f":"DATA!$C$10","v":64},1,407.81250000000006,407.81250000000006,0,"","",0,"","",0,"","","","",null,{"$f":"X919","v":44},null,{"$f":"TEXT(Y927,\"ddd\")","v":"zo"},"MD",{"$f":"IFERROR(HLOOKUP(Y927,[1]DATA!$A$1:$NB$5,4,0),\"\")","v":"-"},null,null,null,null,{"$f":"VLOOKUP(Y927,[1]SRI!$S$4:$Z$368,7,0)","v":0},"","",""]
["44zoZND",{"$f":"VLOOKUP($AA929,DATA!$B$3:$E$6,2,0)","v":"00:00:00"},{"$f":"VLOOKUP($AA929,DATA!$B$3:$E$6,3,0)","v":"00:00:00"},{"$f":"VLOOKUP($AA929,DATA!$B$3:$E$6,4,0)","v":3.125E-2},-3.125E-2,-3.125E-2,{"$f":"DATA!$C$9","v":0.89},{"$f":"DATA!$C$10","v":64},1,-42.1875,-42.1875,0,"","",0,"","",0,"","","","",null,{"$f":"X919","v":44},null,{"$f":"TEXT(Y927,\"ddd\")","v":"zo"},"ZND",{"$f":"IFERROR(HLOOKUP(Y927,[1]DATA!$A$1:$NB$5,5,0),\"\")","v":"-"},null,null,null,null,{"$f":"VLOOKUP(Y927,[1]SRI!$S$4:$Z$368,8,0)","v":0},"","",""]
["45maDD",{"$f":"VLOOKUP($AA930,DATA!$B$3:$E$6,2,0)","v":"06:30:00"},{"$f":"VLOOKUP($AA930,DATA!$B$3:$E$6,3,0)","v":"14:30:00"},{"$f":"VLOOKUP($AA930,DATA!$B$3:$E$6,4,0)","v":3.125E-2},0.30208333333333331,0.30208333333333331,{"$f":"DATA!$C$9","v":0.89},{"$f":"DATA!$C$10","v":64},1,407.8125,407.8125,0,"","",{"$f":"TIME(INT($AD930/60),INT(MOD($AD930,60)/1),0)","v":0},"","",0,"","","","",null,{"$f":"X940","v":45},"2018-11-05",{"$f":"TEXT(Y930,\"ddd\")","v":"ma"},"DD",{"$f":"IFERROR(HLOOKUP(Y930,[1]DATA!$A$1:$NB$5,3,0),\"\")","v":"D2"},null,null,null,null,{"$f":"VLOOKUP(Y930,[1]SRI!$S$4:$Z$368,6,0)","v":0},"","","",{"$f":"IF(SUMIF(S930:S950,\">0\",K930:K950)=0,\"\",SUMIF(S930:S950,\">0\",K930:K950))","v":""},{"$f":"IF(SUM(S930:S950)=0,\"\",SUM(S930:S950))","v":""},{"$f":"IFERROR(AL930/AK930,\"-\")","v":"-"},{"$f":"IF(SUM(M930:M950)=0,\"0\",SUM(M930:M950))","v":"0"},{"$f":"IFERROR(AN930/AK930,\"-\")","v":"-"},{"$f":"IF(SUM(P930:P950)=0,0,SUM(P930:P950))","v":0},{"$f":"IFERROR(AP930/AK930,\"-\")","v":"-"},{"$f":"IFERROR(AVERAGE(AJ930:AJ950),\"-\")","v":"-"},{"$f":"IFERROR(SUMIF($AB930:$AB950,AS$5,$AJ930:$AJ950)/COUNTIFS($AB930:$AB950,AS$5,$AJ930:$AJ950,\">0\"),\"\")","v":""},"","",{"$f":"IFERROR((AK930-AL930-AN930-AP930),\"-\")","v":"-"},{"$f":"IFERROR((1-AM930-AO930-AQ930), \"-\")","v":"-"},{"$f":"IFERROR((AV930*$AE$2)/60,\"-\")","v":"-"},{"$f":"IFERROR(SUM(AG930:AG950),\"\")","v":0}]
["45maMD",{"$f":"VLOOKUP($AA931,DATA!$B$3:$E$6,2,0)","v":"14:30:00"},{"$f":"VLOOKUP($AA931,DATA!$B$3:$E$6,3,0)","v":"22:30:00"},{"$f":"VLOOKUP($AA931,DATA!$B$3:$E$6,4,0)","v":3.125E-2},0.30208333333333337,0.30208333333333337,{"$f":"DATA!$C$9","v":0.89},{"$f":"DATA!$C$10","v":64},1,407.81250000000006,407.81250000000006,0,"","",{"$f":"TIME(INT(AD931/60),INT(MOD(AD931,60)/1),0)","v":0},"","",0,"","","","",null,{"$f":"X940","v":45},null,{"$f":"TEXT(Y930,\"ddd\")","v":"ma"},"MD",{"$f":"IFERROR(HLOOKUP(Y930,[1]DATA!$A$1:$NB$5,4,0),\"\")","v":"D1"},null,null,null,null,{"$f":"VLOOKUP(Y930,[1]SRI!$S$4:$Z$368,7,0)","v":0},"","",""]
["45maND",{"$f":"VLOOKUP($AA932,DATA!$B$3:$E$6,2,0)","v":"22:30:00"},{"$f":"VLOOKUP($AA932,DATA!$B$3:$E$6,3,0)","v":"06:30:00"},{"$f":"VLOOKUP($AA932,DATA!$B$3:$E$6,4,0)","v":3.125E-2},0.30208333333333326,0.30208333333333326,{"$f":"DATA!$C$9","v":0.89},{"$f":"DATA!$C$10","v":64},1,407.81249999999989,407.81249999999989,0,"","",0,"","",0,"","","","",null,{"$f":"X940","v":45},null,{"$f":"TEXT(Y930,\"ddd\")","v":"ma"},"ND",{"$f":"IFERROR(HLOOKUP(Y930,[1]DATA!$A$1:$NB$5,5,0),\"\")","v":"D3"},null,null,null,null,{"$f":"VLOOKUP(Y930,[1]SRI!$S$4:$Z$368,8,0)","v":0},"","",""]
["45diDD",{"$f":"VLOOKUP($AA933,DATA!$B$3:$E$6,2,0)","v":"06:30:00"},{"$f":"VLOOKUP($AA933,DATA!$B$3:$E$6,3,0)","v":"14:30:00"},{"$f":"VLOOKUP($AA933,DATA!$B$3:$E$6,4,0)","v":3.125E-2},0.30208333333333331,0.30208333333333331,{"$f":"DATA!$C$9","v":0.89},{"$f":"DATA!$C$10","v":64},1,407.8125,407.8125,0,"","",0,"","",0,"","","","",null,{"$f":"X940","v":45},"2018-11-06",{"$f":"TEXT(Y933,\"ddd\")","v":"di"},"DD",{"$f":"IFERROR(HLOOKUP(Y933,[1]DATA!$A$1:$NB$5,3,0),\"\")","v":"D2"},null,null,null,null,{"$f":"VLOOKUP(Y933,[1]SRI!$S$4:$Z$368,6,0)","v":0},"","",""]
["45diMD",{"$f":"VLOOKUP($AA934,DATA!$B$3:$E$6,2,0)","v":"14:30:00"},{"$f":"VLOOKUP($AA934,DATA!$B$3:$E$6,3,0)","v":"22:30:00"},{"$f":"VLOOKUP($AA934,DATA!$B$3:$E$6,4,0)","v":3.125E-2},0.30208333333333337,0.30208333333333337,{"$f":"DATA!$C$9","v":0.89},{"$f":"DATA!$C$10","v":64},1,407.81250000000006,407.81250000000006,0,"","",0,"","",0,"","","","",null,{"$f":"X940","v":45},null,{"$f":"TEXT(Y933,\"ddd\")","v":"di"},"MD",{"$f":"IFERROR(HLOOKUP(Y933,[1]DATA!$A$1:$NB$5,4,0),\"\")","v":"D1"},null,null,null,null,{"$f":"VLOOKUP(Y933,[1]SRI!$S$4:$Z$368,7,0)","v":0},"","",""]
["45diND",{"$f":"VLOOKUP($AA935,DATA!$B$3:$E$6,2,0)","v":"22:30:00"},{"$f":"VLOOKUP($AA935,DATA!$B$3:$E$6,3,0)","v":"06:30:00"},{"$f":"VLOOKUP($AA935,DATA!$B$3:$E$6,4,0)","v":3.125E-2},0.30208333333333326,0.30208333333333326,{"$f":"DATA!$C$9","v":0.89},{"$f":"DATA!$C$10","v":64},1,407.81249999999989,407.81249999999989,0,"","",0,"","",0,"","","","",null,{"$f":"X940","v":45},null,{"$f":"TEXT(Y933,\"ddd\")","v":"di"},"ND",{"$f":"IFERROR(HLOOKUP(Y933,[1]DATA!$A$1:$NB$5,5,0),\"\")","v":"D3"},null,null,null,null,{"$f":"VLOOKUP(Y933,[1]SRI!$S$4:$Z$368,8,0)","v":0},"","",""]
["45woDD",{"$f":"VLOOKUP($AA936,DATA!$B$3:$E$6,2,0)","v":"06:30:00"},{"$f":"VLOOKUP($AA936,DATA!$B$3:$E$6,3,0)","v":"14:30:00"},{"$f":"VLOOKUP($AA936,DATA!$B$3:$E$6,4,0)","v":3.125E-2},0.30208333333333331,0.30208333333333331,{"$f":"DATA!$C$9","v":0.89},{"$f":"DATA!$C$10","v":64},1,407.8125,407.8125,0,"","",0,"","",0,"","","","",null,{"$f":"X940","v":45},"2018-11-07",{"$f":"TEXT(Y936,\"ddd\")","v":"wo"},"DD",{"$f":"IFERROR(HLOOKUP(Y936,[1]DATA!$A$1:$NB$5,3,0),\"\")","v":"D2"},null,null,null,null,{"$f":"VLOOKUP(Y936,[1]SRI!$S$4:$Z$368,6,0)","v":0},"","",""]
["45woMD",{"$f":"VLOOKUP($AA937,DATA!$B$3:$E$6,2,0)","v":"14:30:00"},{"$f":"VLOOKUP($AA937,DATA!$B$3:$E$6,3,0)","v":"22:30:00"},{"$f":"VLOOKUP($AA937,DATA!$B$3:$E$6,4,0)","v":3.125E-2},0.30208333333333337,0.30208333333333337,{"$f":"DATA!$C$9","v":0.89},{"$f":"DATA!$C$10","v":64},1,407.81250000000006,407.81250000000006,0,"","",0,"","",0,"","","","",null,{"$f":"X940","v":45},null,{"$f":"TEXT(Y936,\"ddd\")","v":"wo"},"MD",{"$f":"IFERROR(HLOOKUP(Y936,[1]DATA!$A$1:$NB$5,4,0),\"\")","v":"D1"},null,null,null,null,{"$f":"VLOOKUP(Y936,[1]SRI!$S$4:$Z$368,7,0)","v":0},"","",""]
["45woND",{"$f":"VLOOKUP($AA938,DATA!$B$3:$E$6,2,0)","v":"22:30:00"},{"$f":"VLOOKUP($AA938,DATA!$B$3:$E$6,3,0)","v":"06:30:00"},{"$f":"VLOOKUP($AA938,DATA!$B$3:$E$6,4,0)","v":3.125E-2},0.30208333333333326,0.30208333333333326,{"$f":"DATA!$C$9","v":0.89},{"$f":"DATA!$C$10","v":64},1,407.81249999999989,407.81249999999989,0,"","",0,"","",0,"","","","",null,{"$f":"X940","v":45},null,{"$f":"TEXT(Y936,\"ddd\")","v":"wo"},"ND",{"$f":"IFERROR(HLOOKUP(Y936,[1]DATA!$A$1:$NB$5,5,0),\"\")","v":"D3"},null,null,null,null,{"$f":"VLOOKUP(Y936,[1]SRI!$S$4:$Z$368,8,0)","v":0},"","",""]
["45doDD",{"$f":"VLOOKUP($AA939,DATA!$B$3:$E$6,2,0)","v":"06:30:00"},{"$f":"VLOOKUP($AA939,DATA!$B$3:$E$6,3,0)","v":"14:30:00"},{"$f":"VLOOKUP($AA939,DATA!$B$3:$E$6,4,0)","v":3.125E-2},0.30208333333333331,0.30208333333333331,{"$f":"DATA!$C$9","v":0.89},{"$f":"DATA!$C$10","v":64},1,407.8125,407.8125,0,"","",0,"","",0,"","","","",null,{"$f":"X940","v":45},"2018-11-08",{"$f":"TEXT(Y939,\"ddd\")","v":"do"},"DD",{"$f":"IFERROR(HLOOKUP(Y939,[1]DATA!$A$1:$NB$5,3,0),\"\")","v":"D2"},null,null,null,null,{"$f":"VLOOKUP(Y939,[1]SRI!$S$4:$Z$368,6,0)","v":0},"","",""]
["45doMD",{"$f":"VLOOKUP($AA940,DATA!$B$3:$E$6,2,0)","v":"14:30:00"},{"$f":"VLOOKUP($AA940,DATA!$B$3:$E$6,3,0)","v":"22:30:00"},{"$f":"VLOOKUP($AA940,DATA!$B$3:$E$6,4,0)","v":3.125E-2},0.30208333333333337,0.30208333333333337,{"$f":"DATA!$C$9","v":0.89},{"$f":"DATA!$C$10","v":64},1,407.81250000000006,407.81250000000006,0,"","",0,"","",0,"","","","",null,{"$f":"WEEKNUM($Y930)","v":45},null,{"$f":"TEXT(Y939,\"ddd\")","v":"do"},"MD",{"$f":"IFERROR(HLOOKUP(Y939,[1]DATA!$A$1:$NB$5,4,0),\"\")","v":"D1"},null,null,null,null,{"$f":"VLOOKUP(Y939,[1]SRI!$S$4:$Z$368,7,0)","v":0},"","",""]
["45doND",{"$f":"VLOOKUP($AA941,DATA!$B$3:$E$6,2,0)","v":"22:30:00"},{"$f":"VLOOKUP($AA941,DATA!$B$3:$E$6,3,0)","v":"06:30:00"},{"$f":"VLOOKUP($AA941,DATA!$B$3:$E$6,4,0)","v":3.125E-2},0.30208333333333326,0.30208333333333326,{"$f":"DATA!$C$9","v":0.89},{"$f":"DATA!$C$10","v":64},1,407.81249999999989,407.81249999999989,0,"","",0,"","",0,"","","","",null,{"$f":"X940","v":45},null,{"$f":"TEXT(Y939,\"ddd\")","v":"do"},"ND",{"$f":"IFERROR(HLOOKUP(Y939,[1]DATA!$A$1:$NB$5,5,0),\"\")","v":"D3"},null,null,null,null,{"$f":"VLOOKUP(Y939,[1]SRI!$S$4:$Z$368,8,0)","v":0},"","",""]
["45vrDD",{"$f":"VLOOKUP($AA942,DATA!$B$3:$E$6,2,0)","v":"06:30:00"},{"$f":"VLOOKUP($AA942,DATA!$B$3:$E$6,3,0)","v":"14:30:00"},{"$f":"VLOOKUP($AA942,DATA!$B$3:$E$6,4,0)","v":3.125E-2},0.30208333333333331,0.30208333333333331,{"$f":"DATA!$C$9","v":0.89},{"$f":"DATA!$C$10","v":64},1,407.8125,407.8125,0,"","",0,"","",0,"","","","",null,{"$f":"X940","v":45},"2018-11-09",{"$f":"TEXT(Y942,\"ddd\")","v":"vr"},"DD",{"$f":"IFERROR(HLOOKUP(Y942,[1]DATA!$A$1:$NB$5,3,0),\"\")","v":"D2"},null,null,null,null,{"$f":"VLOOKUP(Y942,[1]SRI!$S$4:$Z$368,6,0)","v":0},"","",""]
["45vrMD",{"$f":"VLOOKUP($AA943,DATA!$B$3:$E$6,2,0)","v":"14:30:00"},{"$f":"VLOOKUP($AA943,DATA!$B$3:$E$6,3,0)","v":"22:30:00"},{"$f":"VLOOKUP($AA943,DATA!$B$3:$E$6,4,0)","v":3.125E-2},0.30208333333333337,0.30208333333333337,{"$f":"DATA!$C$9","v":0.89},{"$f":"DATA!$C$10","v":64},1,407.81250000000006,407.81250000000006,0,"","",0,"","",0,"","","","",null,{"$f":"X940","v":45},null,{"$f":"TEXT(Y942,\"ddd\")","v":"vr"},"MD",{"$f":"IFERROR(HLOOKUP(Y942,[1]DATA!$A$1:$NB$5,4,0),\"\")","v":"D1"},null,null,null,null,{"$f":"VLOOKUP(Y942,[1]SRI!$S$4:$Z$368,7,0)","v":0},"","",""]
[{"$f":"X944&Z944&AA944","v":"45vrND"},{"$f":"VLOOKUP($AA944,DATA!$B$3:$E$6,2,0)","v":"22:30:00"},{"$f":"VLOOKUP($AA944,DATA!$B$3:$E$6,3,0)","v":"06:30:00"},{"$f":"VLOOKUP($AA944,DATA!$B$3:$E$6,4,0)","v":3.125E-2},0.30208333333333326,0.30208333333333326,{"$f":"DATA!$C$9","v":0.89},{"$f":"DATA!$C$10","v":64},1,407.81249999999989,407.81249999999989,0,"","",0,{"$f":"IF($O944*86400/$H944=0,\"\",$O944*86400/$H944)","v":""},"",0,"","","","",null,{"$f":"X940","v":45},null,{"$f":"TEXT(Y942,\"ddd\")","v":"vr"},"ND",{"$f":"IFERROR(HLOOKUP(Y942,[1]DATA!$A$1:$NB$5,5,0),\"\")","v":"D3"},null,null,null,null,{"$f":"VLOOKUP(Y942,[1]SRI!$S$4:$Z$368,8,0)","v":0},"","",""]
["45zaDD",{"$f":"VLOOKUP($AA945,DATA!$B$3:$E$6,2,0)","v":"06:30:00"},{"$f":"VLOOKUP($AA945,DATA!$B$3:$E$6,3,0)","v":"14:30:00"},{"$f":"VLOOKUP($AA945,DATA!$B$3:$E$6,4,0)","v":3.125E-2},0.30208333333333331,0.30208333333333331,{"$f":"DATA!$C$9","v":0.89},{"$f":"DATA!$C$10","v":64},1,407.8125,407.8125,0,"","",0,"","",0,"","","","",null,{"$f":"X940","v":45},"2018-11-10",{"$f":"TEXT(Y945,\"ddd\")","v":"za"},"DD",{"$f":"IFERROR(HLOOKUP(Y945,[1]DATA!$A$1:$NB$5,3,0),\"\")","v":"D2"},null,null,null,null,{"$f":"VLOOKUP(Y945,[1]SRI!$S$4:$Z$368,6,0)","v":0},"","",""]
["45zaMD",{"$f":"VLOOKUP($AA946,DATA!$B$3:$E$6,2,0)","v":"14:30:00"},{"$f":"VLOOKUP($AA946,DATA!$B$3:$E$6,3,0)","v":"22:30:00"},{"$f":"VLOOKUP($AA946,DATA!$B$3:$E$6,4,0)","v":3.125E-2},0.30208333333333337,0.30208333333333337,{"$f":"DATA!$C$9","v":0.89},{"$f":"DATA!$C$10","v":64},1,407.81250000000006,407.81250000000006,0,"","",0,"","",0,"","","","",null,{"$f":"X940","v":45},null,{"$f":"TEXT(Y945,\"ddd\")","v":"za"},"MD",{"$f":"IFERROR(HLOOKUP(Y945,[1]DATA!$A$1:$NB$5,4,0),\"\")","v":"-"},null,null,null,null,{"$f":"VLOOKUP(Y945,[1]SRI!$S$4:$Z$368,7,0)","v":0},"","",""]
["45zaND",{"$f":"VLOOKUP($AA947,DATA!$B$3:$E$6,2,0)","v":"22:30:00"},{"$f":"VLOOKUP($AA947,DATA!$B$3:$E$6,3,0)","v":"06:30:00"},{"$f":"VLOOKUP($AA947,DATA!$B$3:$E$6,4,0)","v":3.125E-2},0.30208333333333326,0.30208333333333326,{"$f":"DATA!$C$9","v":0.89},{"$f":"DATA!$C$10","v":64},1,407.81249999999989,407.81249999999989,0,"","",0,"","",0,"","","","",null,{"$f":"X940","v":45},null,{"$f":"TEXT(Y945,\"ddd\")","v":"za"},"ND",{"$f":"IFERROR(HLOOKUP(Y945,[1]DATA!$A$1:$NB$5,5,0),\"\")","v":"-"},null,null,null,null,{"$f":"VLOOKUP(Y945,[1]SRI!$S$4:$Z$368,8,0)","v":0},"","",""]
["45zoDD",{"$f":"VLOOKUP($AA948,DATA!$B$3:$E$6,2,0)","v":"06:30:00"},{"$f":"VLOOKUP($AA948,DATA!$B$3:$E$6,3,0)","v":"14:30:00"},{"$f":"VLOOKUP($AA948,DATA!$B$3:$E$6,4,0)","v":3.125E-2},0.30208333333333331,0.30208333333333331,{"$f":"DATA!$C$9","v":0.89},{"$f":"DATA!$C$10","v":64},1,407.8125,407.8125,0,"","",0,"","",0,"","","","",null,{"$f":"X940","v":45},"2018-11-11",{"$f":"TEXT(Y948,\"ddd\")","v":"zo"},"DD",{"$f":"IFERROR(HLOOKUP(Y948,[1]DATA!$A$1:$NB$5,3,0),\"\")","v":"-"},null,null,null,null,{"$f":"VLOOKUP(Y948,[1]SRI!$S$4:$Z$368,6,0)","v":0},"","",""]
["45zoMD",{"$f":"VLOOKUP($AA949,DATA!$B$3:$E$6,2,0)","v":"14:30:00"},{"$f":"VLOOKUP($AA949,DATA!$B$3:$E$6,3,0)","v":"22:30:00"},{"$f":"VLOOKUP($AA949,DATA!$B$3:$E$6,4,0)","v":3.125E-2},0.30208333333333337,0.30208333333333337,{"$f":"DATA!$C$9","v":0.89},{"$f":"DATA!$C$10","v":64},1,407.81250000000006,407.81250000000006,0,"","",0,"","",0,"","","","",null,{"$f":"X940","v":45},null,{"$f":"TEXT(Y948,\"ddd\")","v":"zo"},"MD",{"$f":"IFERROR(HLOOKUP(Y948,[1]DATA!$A$1:$NB$5,4,0),\"\")","v":"-"},null,null,null,null,{"$f":"VLOOKUP(Y948,[1]SRI!$S$4:$Z$368,7,0)","v":0},"","",""]
["45zoZND",{"$f":"VLOOKUP($AA950,DATA!$B$3:$E$6,2,0)","v":"00:00:00"},{"$f":"VLOOKUP($AA950,DATA!$B$3:$E$6,3,0)","v":"00:00:00"},{"$f":"VLOOKUP($AA950,DATA!$B$3:$E$6,4,0)","v":3.125E-2},-3.125E-2,-3.125E-2,{"$f":"DATA!$C$9","v":0.89},{"$f":"DATA!$C$10","v":64},1,-42.1875,-42.1875,0,"","",0,"","",0,"","","","",null,{"$f":"X940","v":45},null,{"$f":"TEXT(Y948,\"ddd\")","v":"zo"},"ZND",{"$f":"IFERROR(HLOOKUP(Y948,[1]DATA!$A$1:$NB$5,5,0),\"\")","v":"-"},null,null,null,null,{"$f":"VLOOKUP(Y948,[1]SRI!$S$4:$Z$368,8,0)","v":0},"","",""]
["46maDD",{"$f":"VLOOKUP($AA951,DATA!$B$3:$E$6,2,0)","v":"06:30:00"},{"$f":"VLOOKUP($AA951,DATA!$B$3:$E$6,3,0)","v":"14:30:00"},{"$f":"VLOOKUP($AA951,DATA!$B$3:$E$6,4,0)","v":3.125E-2},0.30208333333333331,0.30208333333333331,{"$f":"DATA!$C$9","v":0.89},{"$f":"DATA!$C$10","v":64},1,407.8125,407.8125,0,"","",{"$f":"TIME(INT($AD951/60),INT(MOD($AD951,60)/1),0)","v":0},"","",0,"","","","",null,{"$f":"X961","v":46},"2018-11-12",{"$f":"TEXT(Y951,\"ddd\")","v":"ma"},"DD",{"$f":"IFERROR(HLOOKUP(Y951,[1]DATA!$A$1:$NB$5,3,0),\"\")","v":"D1"},null,null,null,null,{"$f":"VLOOKUP(Y951,[1]SRI!$S$4:$Z$368,6,0)","v":0},"","","",{"$f":"IF(SUMIF(S951:S971,\">0\",K951:K971)=0,\"\",SUMIF(S951:S971,\">0\",K951:K971))","v":""},{"$f":"IF(SUM(S951:S971)=0,\"\",SUM(S951:S971))","v":""},{"$f":"IFERROR(AL951/AK951,\"-\")","v":"-"},{"$f":"IF(SUM(M951:M971)=0,\"0\",SUM(M951:M971))","v":"0"},{"$f":"IFERROR(AN951/AK951,\"-\")","v":"-"},{"$f":"IF(SUM(P951:P971)=0,0,SUM(P951:P971))","v":0},{"$f":"IFERROR(AP951/AK951,\"-\")","v":"-"},"-",{"$f":"IFERROR(SUMIF($AB951:$AB971,AS$5,$AJ951:$AJ971)/COUNTIFS($AB951:$AB971,AS$5,$AJ951:$AJ971,\">0\"),\"\")","v":""},"","",{"$f":"IFERROR((AK951-AL951-AN951-AP951),\"-\")","v":"-"},{"$f":"IFERROR((1-AM951-AO951-AQ951), \"-\")","v":"-"},{"$f":"IFERROR((AV951*$AE$2)/60,\"-\")","v":"-"},{"$f":"IFERROR(SUM(AG951:AG971),\"\")","v":0}]
["46maMD",{"$f":"VLOOKUP($AA952,DATA!$B$3:$E$6,2,0)","v":"14:30:00"},{"$f":"VLOOKUP($AA952,DATA!$B$3:$E$6,3,0)","v":"22:30:00"},{"$f":"VLOOKUP($AA952,DATA!$B$3:$E$6,4,0)","v":3.125E-2},0.30208333333333337,0.30208333333333337,{"$f":"DATA!$C$9","v":0.89},{"$f":"DATA!$C$10","v":64},1,407.81250000000006,407.81250000000006,0,"","",{"$f":"TIME(INT(AD952/60),INT(MOD(AD952,60)/1),0)","v":0},"","",0,"","","","",null,{"$f":"X961","v":46},null,{"$f":"TEXT(Y951,\"ddd\")","v":"ma"},"MD",{"$f":"IFERROR(HLOOKUP(Y951,[1]DATA!$A$1:$NB$5,4,0),\"\")","v":"D3"},null,null,null,null,{"$f":"VLOOKUP(Y951,[1]SRI!$S$4:$Z$368,7,0)","v":0},"","",""]
["46maND",{"$f":"VLOOKUP($AA953,DATA!$B$3:$E$6,2,0)","v":"22:30:00"},{"$f":"VLOOKUP($AA953,DATA!$B$3:$E$6,3,0)","v":"06:30:00"},{"$f":"VLOOKUP($AA953,DATA!$B$3:$E$6,4,0)","v":3.125E-2},0.30208333333333326,0.30208333333333326,{"$f":"DATA!$C$9","v":0.89},{"$f":"DATA!$C$10","v":64},1,407.81249999999989,407.81249999999989,0,"","",0,"","",0,"","","","",null,{"$f":"X961","v":46},null,{"$f":"TEXT(Y951,\"ddd\")","v":"ma"},"ND",{"$f":"IFERROR(HLOOKUP(Y951,[1]DATA!$A$1:$NB$5,5,0),\"\")","v":"D2"},null,null,null,null,{"$f":"VLOOKUP(Y951,[1]SRI!$S$4:$Z$368,8,0)","v":0},"","",""]
["46diDD",{"$f":"VLOOKUP($AA954,DATA!$B$3:$E$6,2,0)","v":"06:30:00"},{"$f":"VLOOKUP($AA954,DATA!$B$3:$E$6,3,0)","v":"14:30:00"},{"$f":"VLOOKUP($AA954,DATA!$B$3:$E$6,4,0)","v":3.125E-2},0.30208333333333331,0.30208333333333331,{"$f":"DATA!$C$9","v":0.89},{"$f":"DATA!$C$10","v":64},1,407.8125,407.8125,0,"","",0,"","",0,"","","","",null,{"$f":"X961","v":46},"2018-11-13",{"$f":"TEXT(Y954,\"ddd\")","v":"di"},"DD",{"$f":"IFERROR(HLOOKUP(Y954,[1]DATA!$A$1:$NB$5,3,0),\"\")","v":"D1"},null,null,null,null,{"$f":"VLOOKUP(Y954,[1]SRI!$S$4:$Z$368,6,0)","v":0},"","",""]
["46diMD",{"$f":"VLOOKUP($AA955,DATA!$B$3:$E$6,2,0)","v":"14:30:00"},{"$f":"VLOOKUP($AA955,DATA!$B$3:$E$6,3,0)","v":"22:30:00"},{"$f":"VLOOKUP($AA955,DATA!$B$3:$E$6,4,0)","v":3.125E-2},0.30208333333333337,0.30208333333333337,{"$f":"DATA!$C$9","v":0.89},{"$f":"DATA!$C$10","v":64},1,407.81250000000006,407.81250000000006,0,"","",0,"","",0,"","","","",null,{"$f":"X961","v":46},null,{"$f":"TEXT(Y954,\"ddd\")","v":"di"},"MD",{"$f":"IFERROR(HLOOKUP(Y954,[1]DATA!$A$1:$NB$5,4,0),\"\")","v":"D3"},null,null,null,null,{"$f":"VLOOKUP(Y954,[1]SRI!$S$4:$Z$368,7,0)","v":0},"","",""]
["46diND",{"$f":"VLOOKUP($AA956,DATA!$B$3:$E$6,2,0)","v":"22:30:00"},{"$f":"VLOOKUP($AA956,DATA!$B$3:$E$6,3,0)","v":"06:30:00"},{"$f":"VLOOKUP($AA956,DATA!$B$3:$E$6,4,0)","v":3.125E-2},0.30208333333333326,0.30208333333333326,{"$f":"DATA!$C$9","v":0.89},{"$f":"DATA!$C$10","v":64},1,407.81249999999989,407.81249999999989,0,"","",0,"","",0,"","","","",null,{"$f":"X961","v":46},null,{"$f":"TEXT(Y954,\"ddd\")","v":"di"},"ND",{"$f":"IFERROR(HLOOKUP(Y954,[1]DATA!$A$1:$NB$5,5,0),\"\")","v":"D2"},null,null,null,null,{"$f":"VLOOKUP(Y954,[1]SRI!$S$4:$Z$368,8,0)","v":0},"","",""]
["46woDD",{"$f":"VLOOKUP($AA957,DATA!$B$3:$E$6,2,0)","v":"06:30:00"},{"$f":"VLOOKUP($AA957,DATA!$B$3:$E$6,3,0)","v":"14:30:00"},{"$f":"VLOOKUP($AA957,DATA!$B$3:$E$6,4,0)","v":3.125E-2},0.30208333333333331,0.30208333333333331,{"$f":"DATA!$C$9","v":0.89},{"$f":"DATA!$C$10","v":64},1,407.8125,407.8125,0,"","",0,"","",0,"","","","",null,{"$f":"X961","v":46},{"$f":"Y954+1","v":"2018-11-14"},{"$f":"TEXT(Y957,\"ddd\")","v":"wo"},"DD",{"$f":"IFERROR(HLOOKUP(Y957,[1]DATA!$A$1:$NB$5,3,0),\"\")","v":"D1"},null,null,null,null,{"$f":"VLOOKUP(Y957,[1]SRI!$S$4:$Z$368,6,0)","v":0},"","",""]
["46woMD",{"$f":"VLOOKUP($AA958,DATA!$B$3:$E$6,2,0)","v":"14:30:00"},{"$f":"VLOOKUP($AA958,DATA!$B$3:$E$6,3,0)","v":"22:30:00"},{"$f":"VLOOKUP($AA958,DATA!$B$3:$E$6,4,0)","v":3.125E-2},0.30208333333333337,0.30208333333333337,{"$f":"DATA!$C$9","v":0.89},{"$f":"DATA!$C$10","v":64},1,407.81250000000006,407.81250000000006,0,"","",0,"","",0,"","","","",null,{"$f":"X961","v":46},null,{"$f":"TEXT(Y957,\"ddd\")","v":"wo"},"MD",{"$f":"IFERROR(HLOOKUP(Y957,[1]DATA!$A$1:$NB$5,4,0),\"\")","v":"D3"},null,null,null,null,{"$f":"VLOOKUP(Y957,[1]SRI!$S$4:$Z$368,7,0)","v":0},"","",""]
["46woND",{"$f":"VLOOKUP($AA959,DATA!$B$3:$E$6,2,0)","v":"22:30:00"},{"$f":"VLOOKUP($AA959,DATA!$B$3:$E$6,3,0)","v":"06:30:00"},{"$f":"VLOOKUP($AA959,DATA!$B$3:$E$6,4,0)","v":3.125E-2},0.30208333333333326,0.30208333333333326,{"$f":"DATA!$C$9","v":0.89},{"$f":"DATA!$C$10","v":64},1,407.81249999999989,407.81249999999989,0,"","",0,"","",0,"","","","",null,{"$f":"X961","v":46},null,{"$f":"TEXT(Y957,\"ddd\")","v":"wo"},"ND",{"$f":"IFERROR(HLOOKUP(Y957,[1]DATA!$A$1:$NB$5,5,0),\"\")","v":"D2"},null,null,null,null,{"$f":"VLOOKUP(Y957,[1]SRI!$S$4:$Z$368,8,0)","v":0},"","",""]
["46doDD",{"$f":"VLOOKUP($AA960,DATA!$B$3:$E$6,2,0)","v":"06:30:00"},{"$f":"VLOOKUP($AA960,DATA!$B$3:$E$6,3,0)","v":"14:30:00"},{"$f":"VLOOKUP($AA960,DATA!$B$3:$E$6,4,0)","v":3.125E-2},0.30208333333333331,0.30208333333333331,{"$f":"DATA!$C$9","v":0.89},{"$f":"DATA!$C$10","v":64},1,407.8125,407.8125,0,"","",0,"","",0,"","","","",null,{"$f":"X961","v":46},"2018-11-15",{"$f":"TEXT(Y960,\"ddd\")","v":"do"},"DD",{"$f":"IFERROR(HLOOKUP(Y960,[1]DATA!$A$1:$NB$5,3,0),\"\")","v":"D1"},null,null,null,null,{"$f":"VLOOKUP(Y960,[1]SRI!$S$4:$Z$368,6,0)","v":0},"","",""]
["46doMD",{"$f":"VLOOKUP($AA961,DATA!$B$3:$E$6,2,0)","v":"14:30:00"},{"$f":"VLOOKUP($AA961,DATA!$B$3:$E$6,3,0)","v":"22:30:00"},{"$f":"VLOOKUP($AA961,DATA!$B$3:$E$6,4,0)","v":3.125E-2},0.30208333333333337,0.30208333333333337,{"$f":"DATA!$C$9","v":0.89},{"$f":"DATA!$C$10","v":64},1,407.81250000000006,407.81250000000006,0,"","",0,"","",0,"","","","",null,{"$f":"WEEKNUM($Y951)","v":46},null,{"$f":"TEXT(Y960,\"ddd\")","v":"do"},"MD",{"$f":"IFERROR(HLOOKUP(Y960,[1]DATA!$A$1:$NB$5,4,0),\"\")","v":"D3"},null,null,null,null,{"$f":"VLOOKUP(Y960,[1]SRI!$S$4:$Z$368,7,0)","v":0},"","",""]
["46doND",{"$f":"VLOOKUP($AA962,DATA!$B$3:$E$6,2,0)","v":"22:30:00"},{"$f":"VLOOKUP($AA962,DATA!$B$3:$E$6,3,0)","v":"06:30:00"},{"$f":"VLOOKUP($AA962,DATA!$B$3:$E$6,4,0)","v":3.125E-2},0.30208333333333326,0.30208333333333326,{"$f":"DATA!$C$9","v":0.89},{"$f":"DATA!$C$10","v":64},1,407.81249999999989,407.81249999999989,0,"","",0,"","",0,"","","","",null,{"$f":"X961","v":46},null,{"$f":"TEXT(Y960,\"ddd\")","v":"do"},"ND",{"$f":"IFERROR(HLOOKUP(Y960,[1]DATA!$A$1:$NB$5,5,0),\"\")","v":"D2"},null,null,null,null,{"$f":"VLOOKUP(Y960,[1]SRI!$S$4:$Z$368,8,0)","v":0},"","",""]
["46vrDD",{"$f":"VLOOKUP($AA963,DATA!$B$3:$E$6,2,0)","v":"06:30:00"},{"$f":"VLOOKUP($AA963,DATA!$B$3:$E$6,3,0)","v":"14:30:00"},{"$f":"VLOOKUP($AA963,DATA!$B$3:$E$6,4,0)","v":3.125E-2},0.30208333333333331,0.30208333333333331,{"$f":"DATA!$C$9","v":0.89},{"$f":"DATA!$C$10","v":64},1,407.8125,407.8125,0,"","",0,"","",0,"","","","",null,{"$f":"X961","v":46},"2018-11-16",{"$f":"TEXT(Y963,\"ddd\")","v":"vr"},"DD",{"$f":"IFERROR(HLOOKUP(Y963,[1]DATA!$A$1:$NB$5,3,0),\"\")","v":"D1"},null,null,null,null,{"$f":"VLOOKUP(Y963,[1]SRI!$S$4:$Z$368,6,0)","v":0},"","",""]
["46vrMD",{"$f":"VLOOKUP($AA964,DATA!$B$3:$E$6,2,0)","v":"14:30:00"},{"$f":"VLOOKUP($AA964,DATA!$B$3:$E$6,3,0)","v":"22:30:00"},{"$f":"VLOOKUP($AA964,DATA!$B$3:$E$6,4,0)","v":3.125E-2},0.30208333333333337,0.30208333333333337,{"$f":"DATA!$C$9","v":0.89},{"$f":"DATA!$C$10","v":64},1,407.81250000000006,407.81250000000006,0,"","",0,"","",0,"","","","",null,{"$f":"X961","v":46},null,{"$f":"TEXT(Y963,\"ddd\")","v":"vr"},"MD",{"$f":"IFERROR(HLOOKUP(Y963,[1]DATA!$A$1:$NB$5,4,0),\"\")","v":"D3"},null,null,null,null,{"$f":"VLOOKUP(Y963,[1]SRI!$S$4:$Z$368,7,0)","v":0},"","",""]
["46vrND",{"$f":"VLOOKUP($AA965,DATA!$B$3:$E$6,2,0)","v":"22:30:00"},{"$f":"VLOOKUP($AA965,DATA!$B$3:$E$6,3,0)","v":"06:30:00"},{"$f":"VLOOKUP($AA965,DATA!$B$3:$E$6,4,0)","v":3.125E-2},0.30208333333333326,0.30208333333333326,{"$f":"DATA!$C$9","v":0.89},{"$f":"DATA!$C$10","v":64},1,407.81249999999989,407.81249999999989,0,"","",0,"","",0,"","","","",null,{"$f":"X961","v":46},null,{"$f":"TEXT(Y963,\"ddd\")","v":"vr"},"ND",{"$f":"IFERROR(HLOOKUP(Y963,[1]DATA!$A$1:$NB$5,5,0),\"\")","v":"D2"},null,null,null,null,{"$f":"VLOOKUP(Y963,[1]SRI!$S$4:$Z$368,8,0)","v":0},"","",""]
["46zaDD",{"$f":"VLOOKUP($AA966,DATA!$B$3:$E$6,2,0)","v":"06:30:00"},{"$f":"VLOOKUP($AA966,DATA!$B$3:$E$6,3,0)","v":"14:30:00"},{"$f":"VLOOKUP($AA966,DATA!$B$3:$E$6,4,0)","v":3.125E-2},0.30208333333333331,0.30208333333333331,{"$f":"DATA!$C$9","v":0.89},{"$f":"DATA!$C$10","v":64},1,407.8125,407.8125,0,"","",0,"","",0,"","","","",null,{"$f":"X961","v":46},"2018-11-17",{"$f":"TEXT(Y966,\"ddd\")","v":"za"},"DD",{"$f":"IFERROR(HLOOKUP(Y966,[1]DATA!$A$1:$NB$5,3,0),\"\")","v":"D1"},null,null,null,null,{"$f":"VLOOKUP(Y966,[1]SRI!$S$4:$Z$368,6,0)","v":0},{"$f":"IFERROR(S966-J966,\"\")","v":""},{"$f":"IFERROR(IF(S966/(E966*86400/H966)<=0,\"\",S966/(E966*86400/H966)),\"\")","v":""},""]
["46zaMD",{"$f":"VLOOKUP($AA967,DATA!$B$3:$E$6,2,0)","v":"14:30:00"},{"$f":"VLOOKUP($AA967,DATA!$B$3:$E$6,3,0)","v":"22:30:00"},{"$f":"VLOOKUP($AA967,DATA!$B$3:$E$6,4,0)","v":3.125E-2},0.30208333333333337,0.30208333333333337,{"$f":"DATA!$C$9","v":0.89},{"$f":"DATA!$C$10","v":64},1,407.81250000000006,407.81250000000006,{"$f":"TIME(INT($AC967/60),INT(MOD($AC967,60)/1),0)","v":0},{"$f":"IF($L967*86400/$H967=0,\"\",$L967*86400/$H967)","v":""},{"$f":"IFERROR($M967/$K967,\"\")","v":""},0,"",{"$f":"IFERROR($P967/$K967,\"\")","v":""},0,"",{"$f":"IF(IF($AB967=\"D1\",$S967,\"\")=0,\"\",IF($AB967=\"D1\",$S967,\"\"))","v":""},{"$f":"IF(IF($AB967=\"D2\",$S967,\"\")=0,\"\",IF($AB967=\"D2\",$S967,\"\"))","v":""},{"$f":"IF(IF($AB967=\"D3\",$S967,\"\")=0,\"\",IF($AB967=\"D3\",$S967,\"\"))","v":""},null,{"$f":"X961","v":46},null,{"$f":"TEXT(Y966,\"ddd\")","v":"za"},"MD",{"$f":"IFERROR(HLOOKUP(Y966,[1]DATA!$A$1:$NB$5,4,0),\"\")","v":"-"},null,null,null,null,{"$f":"VLOOKUP(Y966,[1]SRI!$S$4:$Z$368,7,0)","v":0},"","",""]
["46zaND",{"$f":"VLOOKUP($AA968,DATA!$B$3:$E$6,2,0)","v":"22:30:00"},{"$f":"VLOOKUP($AA968,DATA!$B$3:$E$6,3,0)","v":"06:30:00"},{"$f":"VLOOKUP($AA968,DATA!$B$3:$E$6,4,0)","v":3.125E-2},0.30208333333333326,0.30208333333333326,{"$f":"DATA!$C$9","v":0.89},{"$f":"DATA!$C$10","v":64},1,407.81249999999989,407.81249999999989,0,"","",0,"","",0,"","","","",null,{"$f":"X961","v":46},null,{"$f":"TEXT(Y966,\"ddd\")","v":"za"},"ND",{"$f":"IFERROR(HLOOKUP(Y966,[1]DATA!$A$1:$NB$5,5,0),\"\")","v":"-"},null,null,null,null,{"$f":"VLOOKUP(Y966,[1]SRI!$S$4:$Z$368,8,0)","v":0},"","",""]
["46zoDD",{"$f":"VLOOKUP($AA969,DATA!$B$3:$E$6,2,0)","v":"06:30:00"},{"$f":"VLOOKUP($AA969,DATA!$B$3:$E$6,3,0)","v":"14:30:00"},{"$f":"VLOOKUP($AA969,DATA!$B$3:$E$6,4,0)","v":3.125E-2},0.30208333333333331,0.30208333333333331,{"$f":"DATA!$C$9","v":0.89},{"$f":"DATA!$C$10","v":64},1,407.8125,407.8125,0,"","",0,"","",0,"","","","",null,{"$f":"X961","v":46},"2018-11-18",{"$f":"TEXT(Y969,\"ddd\")","v":"zo"},"DD",{"$f":"IFERROR(HLOOKUP(Y969,[1]DATA!$A$1:$NB$5,3,0),\"\")","v":"-"},null,null,null,null,{"$f":"VLOOKUP(Y969,[1]SRI!$S$4:$Z$368,6,0)","v":0},"","",""]
["46zoMD",{"$f":"VLOOKUP($AA970,DATA!$B$3:$E$6,2,0)","v":"14:30:00"},{"$f":"VLOOKUP($AA970,DATA!$B$3:$E$6,3,0)","v":"22:30:00"},{"$f":"VLOOKUP($AA970,DATA!$B$3:$E$6,4,0)","v":3.125E-2},0.30208333333333337,0.30208333333333337,{"$f":"DATA!$C$9","v":0.89},{"$f":"DATA!$C$10","v":64},1,407.81250000000006,407.81250000000006,0,"","",0,"","",0,"","","","",null,{"$f":"X961","v":46},null,{"$f":"TEXT(Y969,\"ddd\")","v":"zo"},"MD",{"$f":"IFERROR(HLOOKUP(Y969,[1]DATA!$A$1:$NB$5,4,0),\"\")","v":"-"},null,null,null,null,{"$f":"VLOOKUP(Y969,[1]SRI!$S$4:$Z$368,7,0)","v":0},"","",""]
["46zoZND",{"$f":"VLOOKUP($AA971,DATA!$B$3:$E$6,2,0)","v":"00:00:00"},{"$f":"VLOOKUP($AA971,DATA!$B$3:$E$6,3,0)","v":"00:00:00"},{"$f":"VLOOKUP($AA971,DATA!$B$3:$E$6,4,0)","v":3.125E-2},-3.125E-2,-3.125E-2,{"$f":"DATA!$C$9","v":0.89},{"$f":"DATA!$C$10","v":64},1,-42.1875,-42.1875,0,"","",0,"","",0,"","","","",null,{"$f":"X961","v":46},null,{"$f":"TEXT(Y969,\"ddd\")","v":"zo"},"ZND",{"$f":"IFERROR(HLOOKUP(Y969,[1]DATA!$A$1:$NB$5,5,0),\"\")","v":"-"},null,null,null,null,{"$f":"VLOOKUP(Y969,[1]SRI!$S$4:$Z$368,8,0)","v":0},"","",""]
["47maDD",{"$f":"VLOOKUP($AA972,DATA!$B$3:$E$6,2,0)","v":"06:30:00"},{"$f":"VLOOKUP($AA972,DATA!$B$3:$E$6,3,0)","v":"14:30:00"},{"$f":"VLOOKUP($AA972,DATA!$B$3:$E$6,4,0)","v":3.125E-2},0.30208333333333331,0.30208333333333331,{"$f":"DATA!$C$9","v":0.89},{"$f":"DATA!$C$10","v":64},1,407.8125,407.8125,0,"","",{"$f":"TIME(INT($AD972/60),INT(MOD($AD972,60)/1),0)","v":0},"","",0,"","","","",null,{"$f":"X982","v":47},"2018-11-19",{"$f":"TEXT(Y972,\"ddd\")","v":"ma"},"DD",{"$f":"IFERROR(HLOOKUP(Y972,[1]DATA!$A$1:$NB$5,3,0),\"\")","v":"D3"},null,null,null,null,{"$f":"VLOOKUP(Y972,[1]SRI!$S$4:$Z$368,6,0)","v":0},"","","",{"$f":"IF(SUMIF(S972:S992,\">0\",K972:K992)=0,\"\",SUMIF(S972:S992,\">0\",K972:K992))","v":""},{"$f":"IF(SUM(S972:S992)=0,\"\",SUM(S972:S992))","v":""},{"$f":"IFERROR(AL972/AK972,\"-\")","v":"-"},{"$f":"IF(SUM(M972:M992)=0,\"0\",SUM(M972:M992))","v":"0"},{"$f":"IFERROR(AN972/AK972,\"-\")","v":"-"},{"$f":"IF(SUM(P972:P992)=0,0,SUM(P972:P992))","v":0},{"$f":"IFERROR(AP972/AK972,\"-\")","v":"-"},{"$f":"IFERROR(AVERAGE(AJ972:AJ992),\"-\")","v":"-"},{"$f":"IFERROR(SUMIF($AB972:$AB992,AS$5,$AJ972:$AJ992)/COUNTIFS($AB972:$AB992,AS$5,$AJ972:$AJ992,\">0\"),\"\")","v":""},"","",{"$f":"IFERROR((AK972-AL972-AN972-AP972),\"-\")","v":"-"},{"$f":"IFERROR((1-AM972-AO972-AQ972), \"-\")","v":"-"},{"$f":"IFERROR((AV972*$AE$2)/60,\"-\")","v":"-"},{"$f":"IFERROR(SUM(AG972:AG992),\"\")","v":0}]
["47maMD",{"$f":"VLOOKUP($AA973,DATA!$B$3:$E$6,2,0)","v":"14:30:00"},{"$f":"VLOOKUP($AA973,DATA!$B$3:$E$6,3,0)","v":"22:30:00"},{"$f":"VLOOKUP($AA973,DATA!$B$3:$E$6,4,0)","v":3.125E-2},0.30208333333333337,0.30208333333333337,{"$f":"DATA!$C$9","v":0.89},{"$f":"DATA!$C$10","v":64},1,407.81250000000006,407.81250000000006,0,"","",{"$f":"TIME(INT(AD973/60),INT(MOD(AD973,60)/1),0)","v":0},"","",0,"","","","",null,{"$f":"X982","v":47},null,{"$f":"TEXT(Y972,\"ddd\")","v":"ma"},"MD",{"$f":"IFERROR(HLOOKUP(Y972,[1]DATA!$A$1:$NB$5,4,0),\"\")","v":"D2"},null,null,null,null,{"$f":"VLOOKUP(Y972,[1]SRI!$S$4:$Z$368,7,0)","v":0},"","",""]
["47maND",{"$f":"VLOOKUP($AA974,DATA!$B$3:$E$6,2,0)","v":"22:30:00"},{"$f":"VLOOKUP($AA974,DATA!$B$3:$E$6,3,0)","v":"06:30:00"},{"$f":"VLOOKUP($AA974,DATA!$B$3:$E$6,4,0)","v":3.125E-2},0.30208333333333326,0.30208333333333326,{"$f":"DATA!$C$9","v":0.89},{"$f":"DATA!$C$10","v":64},1,407.81249999999989,407.81249999999989,0,"","",0,"","",0,"","","","",null,{"$f":"X982","v":47},null,{"$f":"TEXT(Y972,\"ddd\")","v":"ma"},"ND",{"$f":"IFERROR(HLOOKUP(Y972,[1]DATA!$A$1:$NB$5,5,0),\"\")","v":"D1"},null,null,null,null,{"$f":"VLOOKUP(Y972,[1]SRI!$S$4:$Z$368,8,0)","v":0},"","",""]
["47diDD",{"$f":"VLOOKUP($AA975,DATA!$B$3:$E$6,2,0)","v":"06:30:00"},{"$f":"VLOOKUP($AA975,DATA!$B$3:$E$6,3,0)","v":"14:30:00"},{"$f":"VLOOKUP($AA975,DATA!$B$3:$E$6,4,0)","v":3.125E-2},0.30208333333333331,0.30208333333333331,{"$f":"DATA!$C$9","v":0.89},{"$f":"DATA!$C$10","v":64},1,407.8125,407.8125,0,"","",0,"","",0,"","","","",null,{"$f":"X982","v":47},"2018-11-20",{"$f":"TEXT(Y975,\"ddd\")","v":"di"},"DD",{"$f":"IFERROR(HLOOKUP(Y975,[1]DATA!$A$1:$NB$5,3,0),\"\")","v":"D3"},null,null,null,null,{"$f":"VLOOKUP(Y975,[1]SRI!$S$4:$Z$368,6,0)","v":0},"","",""]
["47diMD",{"$f":"VLOOKUP($AA976,DATA!$B$3:$E$6,2,0)","v":"14:30:00"},{"$f":"VLOOKUP($AA976,DATA!$B$3:$E$6,3,0)","v":"22:30:00"},{"$f":"VLOOKUP($AA976,DATA!$B$3:$E$6,4,0)","v":3.125E-2},0.30208333333333337,0.30208333333333337,{"$f":"DATA!$C$9","v":0.89},{"$f":"DATA!$C$10","v":64},1,407.81250000000006,407.81250000000006,0,"","",0,"","",0,"","","","",null,{"$f":"X982","v":47},null,{"$f":"TEXT(Y975,\"ddd\")","v":"di"},"MD",{"$f":"IFERROR(HLOOKUP(Y975,[1]DATA!$A$1:$NB$5,4,0),\"\")","v":"D2"},null,null,null,null,{"$f":"VLOOKUP(Y975,[1]SRI!$S$4:$Z$368,7,0)","v":0},"","",""]
["47diND",{"$f":"VLOOKUP($AA977,DATA!$B$3:$E$6,2,0)","v":"22:30:00"},{"$f":"VLOOKUP($AA977,DATA!$B$3:$E$6,3,0)","v":"06:30:00"},{"$f":"VLOOKUP($AA977,DATA!$B$3:$E$6,4,0)","v":3.125E-2},0.30208333333333326,0.30208333333333326,{"$f":"DATA!$C$9","v":0.89},{"$f":"DATA!$C$10","v":64},1,407.81249999999989,407.81249999999989,0,"","",0,"","",0,"","","","",null,{"$f":"X982","v":47},null,{"$f":"TEXT(Y975,\"ddd\")","v":"di"},"ND",{"$f":"IFERROR(HLOOKUP(Y975,[1]DATA!$A$1:$NB$5,5,0),\"\")","v":"D1"},null,null,null,null,{"$f":"VLOOKUP(Y975,[1]SRI!$S$4:$Z$368,8,0)","v":0},"","",""]
["47woDD",{"$f":"VLOOKUP($AA978,DATA!$B$3:$E$6,2,0)","v":"06:30:00"},{"$f":"VLOOKUP($AA978,DATA!$B$3:$E$6,3,0)","v":"14:30:00"},{"$f":"VLOOKUP($AA978,DATA!$B$3:$E$6,4,0)","v":3.125E-2},0.30208333333333331,0.30208333333333331,{"$f":"DATA!$C$9","v":0.89},{"$f":"DATA!$C$10","v":64},1,407.8125,407.8125,0,"","",0,"","",0,"","","","",null,{"$f":"X982","v":47},"2018-11-21",{"$f":"TEXT(Y978,\"ddd\")","v":"wo"},"DD",{"$f":"IFERROR(HLOOKUP(Y978,[1]DATA!$A$1:$NB$5,3,0),\"\")","v":"D3"},null,null,null,null,{"$f":"VLOOKUP(Y978,[1]SRI!$S$4:$Z$368,6,0)","v":0},"","",""]
["47woMD",{"$f":"VLOOKUP($AA979,DATA!$B$3:$E$6,2,0)","v":"14:30:00"},{"$f":"VLOOKUP($AA979,DATA!$B$3:$E$6,3,0)","v":"22:30:00"},{"$f":"VLOOKUP($AA979,DATA!$B$3:$E$6,4,0)","v":3.125E-2},0.30208333333333337,0.30208333333333337,{"$f":"DATA!$C$9","v":0.89},{"$f":"DATA!$C$10","v":64},1,407.81250000000006,407.81250000000006,0,"","",0,"","",0,"","","","",null,{"$f":"X982","v":47},null,{"$f":"TEXT(Y978,\"ddd\")","v":"wo"},"MD",{"$f":"IFERROR(HLOOKUP(Y978,[1]DATA!$A$1:$NB$5,4,0),\"\")","v":"D2"},null,null,null,null,{"$f":"VLOOKUP(Y978,[1]SRI!$S$4:$Z$368,7,0)","v":0},"","",""]
["47woND",{"$f":"VLOOKUP($AA980,DATA!$B$3:$E$6,2,0)","v":"22:30:00"},{"$f":"VLOOKUP($AA980,DATA!$B$3:$E$6,3,0)","v":"06:30:00"},{"$f":"VLOOKUP($AA980,DATA!$B$3:$E$6,4,0)","v":3.125E-2},0.30208333333333326,0.30208333333333326,{"$f":"DATA!$C$9","v":0.89},{"$f":"DATA!$C$10","v":64},1,407.81249999999989,407.81249999999989,0,"","",0,"","",0,"","","","",null,{"$f":"X982","v":47},null,{"$f":"TEXT(Y978,\"ddd\")","v":"wo"},"ND",{"$f":"IFERROR(HLOOKUP(Y978,[1]DATA!$A$1:$NB$5,5,0),\"\")","v":"D1"},null,null,null,null,{"$f":"VLOOKUP(Y978,[1]SRI!$S$4:$Z$368,8,0)","v":0},"","",""]
["47doDD",{"$f":"VLOOKUP($AA981,DATA!$B$3:$E$6,2,0)","v":"06:30:00"},{"$f":"VLOOKUP($AA981,DATA!$B$3:$E$6,3,0)","v":"14:30:00"},{"$f":"VLOOKUP($AA981,DATA!$B$3:$E$6,4,0)","v":3.125E-2},0.30208333333333331,0.30208333333333331,{"$f":"DATA!$C$9","v":0.89},{"$f":"DATA!$C$10","v":64},1,407.8125,407.8125,0,"","",0,"","",0,"","","","",null,{"$f":"X982","v":47},"2018-11-22",{"$f":"TEXT(Y981,\"ddd\")","v":"do"},"DD",{"$f":"IFERROR(HLOOKUP(Y981,[1]DATA!$A$1:$NB$5,3,0),\"\")","v":"D3"},null,null,null,null,{"$f":"VLOOKUP(Y981,[1]SRI!$S$4:$Z$368,6,0)","v":0},"","",""]
["47doMD",{"$f":"VLOOKUP($AA982,DATA!$B$3:$E$6,2,0)","v":"14:30:00"},{"$f":"VLOOKUP($AA982,DATA!$B$3:$E$6,3,0)","v":"22:30:00"},{"$f":"VLOOKUP($AA982,DATA!$B$3:$E$6,4,0)","v":3.125E-2},0.30208333333333337,0.30208333333333337,{"$f":"DATA!$C$9","v":0.89},{"$f":"DATA!$C$10","v":64},1,407.81250000000006,407.81250000000006,0,"","",0,"","",0,"","","","",null,{"$f":"WEEKNUM($Y972)","v":47},null,{"$f":"TEXT(Y981,\"ddd\")","v":"do"},"MD",{"$f":"IFERROR(HLOOKUP(Y981,[1]DATA!$A$1:$NB$5,4,0),\"\")","v":"D2"},null,null,null,null,{"$f":"VLOOKUP(Y981,[1]SRI!$S$4:$Z$368,7,0)","v":0},"","",""]
["47doND",{"$f":"VLOOKUP($AA983,DATA!$B$3:$E$6,2,0)","v":"22:30:00"},{"$f":"VLOOKUP($AA983,DATA!$B$3:$E$6,3,0)","v":"06:30:00"},{"$f":"VLOOKUP($AA983,DATA!$B$3:$E$6,4,0)","v":3.125E-2},0.30208333333333326,0.30208333333333326,{"$f":"DATA!$C$9","v":0.89},{"$f":"DATA!$C$10","v":64},1,407.81249999999989,407.81249999999989,0,"","",0,"","",0,"","","","",null,{"$f":"X982","v":47},null,{"$f":"TEXT(Y981,\"ddd\")","v":"do"},"ND",{"$f":"IFERROR(HLOOKUP(Y981,[1]DATA!$A$1:$NB$5,5,0),\"\")","v":"D1"},null,null,null,null,{"$f":"VLOOKUP(Y981,[1]SRI!$S$4:$Z$368,8,0)","v":0},"","",""]
["47vrDD",{"$f":"VLOOKUP($AA984,DATA!$B$3:$E$6,2,0)","v":"06:30:00"},{"$f":"VLOOKUP($AA984,DATA!$B$3:$E$6,3,0)","v":"14:30:00"},{"$f":"VLOOKUP($AA984,DATA!$B$3:$E$6,4,0)","v":3.125E-2},0.30208333333333331,0.30208333333333331,{"$f":"DATA!$C$9","v":0.89},{"$f":"DATA!$C$10","v":64},1,407.8125,407.8125,0,"","",0,"","",0,"","","","",null,{"$f":"X982","v":47},"2018-11-23",{"$f":"TEXT(Y984,\"ddd\")","v":"vr"},"DD",{"$f":"IFERROR(HLOOKUP(Y984,[1]DATA!$A$1:$NB$5,3,0),\"\")","v":"D3"},null,null,null,null,{"$f":"VLOOKUP(Y984,[1]SRI!$S$4:$Z$368,6,0)","v":0},"","",""]
["47vrMD",{"$f":"VLOOKUP($AA985,DATA!$B$3:$E$6,2,0)","v":"14:30:00"},{"$f":"VLOOKUP($AA985,DATA!$B$3:$E$6,3,0)","v":"22:30:00"},{"$f":"VLOOKUP($AA985,DATA!$B$3:$E$6,4,0)","v":3.125E-2},0.30208333333333337,0.30208333333333337,{"$f":"DATA!$C$9","v":0.89},{"$f":"DATA!$C$10","v":64},1,407.81250000000006,407.81250000000006,0,"","",0,"","",0,"","","","",null,{"$f":"X982","v":47},null,{"$f":"TEXT(Y984,\"ddd\")","v":"vr"},"MD",{"$f":"IFERROR(HLOOKUP(Y984,[1]DATA!$A$1:$NB$5,4,0),\"\")","v":"D2"},null,null,null,null,{"$f":"VLOOKUP(Y984,[1]SRI!$S$4:$Z$368,7,0)","v":0},"","",""]
["47vrND",{"$f":"VLOOKUP($AA986,DATA!$B$3:$E$6,2,0)","v":"22:30:00"},{"$f":"VLOOKUP($AA986,DATA!$B$3:$E$6,3,0)","v":"06:30:00"},{"$f":"VLOOKUP($AA986,DATA!$B$3:$E$6,4,0)","v":3.125E-2},0.30208333333333326,0.30208333333333326,{"$f":"DATA!$C$9","v":0.89},{"$f":"DATA!$C$10","v":64},1,407.81249999999989,407.81249999999989,0,"","",0,"","",0,"","","","",null,{"$f":"X982","v":47},null,{"$f":"TEXT(Y984,\"ddd\")","v":"vr"},"ND",{"$f":"IFERROR(HLOOKUP(Y984,[1]DATA!$A$1:$NB$5,5,0),\"\")","v":"D2"},null,null,null,null,{"$f":"VLOOKUP(Y984,[1]SRI!$S$4:$Z$368,8,0)","v":0},"","",""]
["47zaDD",{"$f":"VLOOKUP($AA987,DATA!$B$3:$E$6,2,0)","v":"06:30:00"},{"$f":"VLOOKUP($AA987,DATA!$B$3:$E$6,3,0)","v":"14:30:00"},{"$f":"VLOOKUP($AA987,DATA!$B$3:$E$6,4,0)","v":3.125E-2},0.30208333333333331,0.30208333333333331,{"$f":"DATA!$C$9","v":0.89},{"$f":"DATA!$C$10","v":64},1,407.8125,407.8125,0,"","",0,"","",0,"","","","",null,{"$f":"X982","v":47},"2018-11-24",{"$f":"TEXT(Y987,\"ddd\")","v":"za"},"DD",{"$f":"IFERROR(HLOOKUP(Y987,[1]DATA!$A$1:$NB$5,3,0),\"\")","v":"D3"},null,null,null,null,{"$f":"VLOOKUP(Y987,[1]SRI!$S$4:$Z$368,6,0)","v":0},"","",{"$f":"IFERROR(R987/(R987+AG987),\"\")","v":""}]
["47zaMD",{"$f":"VLOOKUP($AA988,DATA!$B$3:$E$6,2,0)","v":"14:30:00"},{"$f":"VLOOKUP($AA988,DATA!$B$3:$E$6,3,0)","v":"22:30:00"},{"$f":"VLOOKUP($AA988,DATA!$B$3:$E$6,4,0)","v":3.125E-2},{"$f":"(C988-B988+(B988>C988))-D988","v":0.30208333333333337},{"$f":"E988-O988-L988","v":0.30208333333333337},{"$f":"DATA!$C$9","v":0.89},{"$f":"DATA!$C$10","v":64},1,{"$f":"F988*86400/H988*I988","v":407.81250000000006},{"$f":"E988*86400/H988","v":407.81250000000006},0,"","",0,"","",{"$f":"AF988*AG$2","v":0},{"$f":"IF(AF988-AE988=0,\"\",AF988-AE988)","v":""},"","","",null,{"$f":"X982","v":47},null,{"$f":"TEXT(Y987,\"ddd\")","v":"za"},"MD",{"$f":"IFERROR(HLOOKUP(Y987,[1]DATA!$A$1:$NB$5,4,0),\"\")","v":"-"},null,null,null,null,{"$f":"VLOOKUP(Y987,[1]SRI!$S$4:$Z$368,7,0)","v":0},"","",""]
["47zaND",{"$f":"VLOOKUP($AA989,DATA!$B$3:$E$6,2,0)","v":"22:30:00"},{"$f":"VLOOKUP($AA989,DATA!$B$3:$E$6,3,0)","v":"06:30:00"},{"$f":"VLOOKUP($AA989,DATA!$B$3:$E$6,4,0)","v":3.125E-2},0.30208333333333326,0.30208333333333326,{"$f":"DATA!$C$9","v":0.89},{"$f":"DATA!$C$10","v":64},1,407.81249999999989,407.81249999999989,0,"","",0,"","",0,"","","","",null,{"$f":"X982","v":47},null,{"$f":"TEXT(Y987,\"ddd\")","v":"za"},"ND",{"$f":"IFERROR(HLOOKUP(Y987,[1]DATA!$A$1:$NB$5,5,0),\"\")","v":"-"},null,null,null,null,{"$f":"VLOOKUP(Y987,[1]SRI!$S$4:$Z$368,8,0)","v":0},"","",""]
["47zoDD",{"$f":"VLOOKUP($AA990,DATA!$B$3:$E$6,2,0)","v":"06:30:00"},{"$f":"VLOOKUP($AA990,DATA!$B$3:$E$6,3,0)","v":"14:30:00"},{"$f":"VLOOKUP($AA990,DATA!$B$3:$E$6,4,0)","v":3.125E-2},0.30208333333333331,0.30208333333333331,{"$f":"DATA!$C$9","v":0.89},{"$f":"DATA!$C$10","v":64},1,407.8125,407.8125,0,"","",0,"","",0,"","","","",null,{"$f":"X982","v":47},"2018-11-25",{"$f":"TEXT(Y990,\"ddd\")","v":"zo"},"DD",{"$f":"IFERROR(HLOOKUP(Y990,[1]DATA!$A$1:$NB$5,3,0),\"\")","v":"-"},null,null,null,null,{"$f":"VLOOKUP(Y990,[1]SRI!$S$4:$Z$368,6,0)","v":0},"","",""]
["47zoMD",{"$f":"VLOOKUP($AA991,DATA!$B$3:$E$6,2,0)","v":"14:30:00"},{"$f":"VLOOKUP($AA991,DATA!$B$3:$E$6,3,0)","v":"22:30:00"},{"$f":"VLOOKUP($AA991,DATA!$B$3:$E$6,4,0)","v":3.125E-2},0.30208333333333337,0.30208333333333337,{"$f":"DATA!$C$9","v":0.89},{"$f":"DATA!$C$10","v":64},1,407.81250000000006,407.81250000000006,0,"","",0,"","",0,"","","","",null,{"$f":"X982","v":47},null,{"$f":"TEXT(Y990,\"ddd\")","v":"zo"},"MD",{"$f":"IFERROR(HLOOKUP(Y990,[1]DATA!$A$1:$NB$5,4,0),\"\")","v":"-"},null,null,null,null,{"$f":"VLOOKUP(Y990,[1]SRI!$S$4:$Z$368,7,0)","v":0},"","",""]
["47zoZND",{"$f":"VLOOKUP($AA992,DATA!$B$3:$E$6,2,0)","v":"00:00:00"},{"$f":"VLOOKUP($AA992,DATA!$B$3:$E$6,3,0)","v":"00:00:00"},{"$f":"VLOOKUP($AA992,DATA!$B$3:$E$6,4,0)","v":3.125E-2},-3.125E-2,-3.125E-2,{"$f":"DATA!$C$9","v":0.89},{"$f":"DATA!$C$10","v":64},1,-42.1875,-42.1875,0,"","",0,"","",0,"","","","",null,{"$f":"X982","v":47},null,{"$f":"TEXT(Y990,\"ddd\")","v":"zo"},"ZND",{"$f":"IFERROR(HLOOKUP(Y990,[1]DATA!$A$1:$NB$5,5,0),\"\")","v":"-"},null,null,null,null,{"$f":"VLOOKUP(Y990,[1]SRI!$S$4:$Z$368,8,0)","v":0},"","",""]
["48maDD",{"$f":"VLOOKUP($AA993,DATA!$B$3:$E$6,2,0)","v":"06:30:00"},{"$f":"VLOOKUP($AA993,DATA!$B$3:$E$6,3,0)","v":"14:30:00"},{"$f":"VLOOKUP($AA993,DATA!$B$3:$E$6,4,0)","v":3.125E-2},0.30208333333333331,0.30208333333333331,{"$f":"DATA!$C$9","v":0.89},{"$f":"DATA!$C$10","v":64},1,407.8125,407.8125,0,"","",{"$f":"TIME(INT($AD993/60),INT(MOD($AD993,60)/1),0)","v":0},"","",0,"","","","",null,{"$f":"X1003","v":48},"2018-11-26",{"$f":"TEXT(Y993,\"ddd\")","v":"ma"},"DD",{"$f":"IFERROR(HLOOKUP(Y993,[1]DATA!$A$1:$NB$5,3,0),\"\")","v":"D2"},null,null,null,null,{"$f":"VLOOKUP(Y993,[1]SRI!$S$4:$Z$368,6,0)","v":0},"","","",{"$f":"IF(SUMIF(S993:S1013,\">0\",K993:K1013)=0,\"\",SUMIF(S993:S1013,\">0\",K993:K1013))","v":""},{"$f":"IF(SUM(S993:S1013)=0,\"\",SUM(S993:S1013))","v":""},{"$f":"IFERROR(AL993/AK993,\"-\")","v":"-"},{"$f":"IF(SUM(M993:M1013)=0,\"0\",SUM(M993:M1013))","v":"0"},{"$f":"IFERROR(AN993/AK993,\"-\")","v":"-"},{"$f":"IF(SUM(P993:P1013)=0,0,SUM(P993:P1013))","v":0},{"$f":"IFERROR(AP993/AK993,\"-\")","v":"-"},"-",{"$f":"IFERROR(SUMIF($AB993:$AB1013,AS$5,$AJ993:$AJ1013)/COUNTIFS($AB993:$AB1013,AS$5,$AJ993:$AJ1013,\">0\"),\"\")","v":""},"","",{"$f":"IFERROR((AK993-AL993-AN993-AP993),\"-\")","v":"-"},{"$f":"IFERROR((1-AM993-AO993-AQ993), \"-\")","v":"-"},{"$f":"IFERROR((AV993*$AE$2)/60,\"-\")","v":"-"},{"$f":"IFERROR(SUM(AG993:AG1013),\"\")","v":0}]
["48maMD",{"$f":"VLOOKUP($AA994,DATA!$B$3:$E$6,2,0)","v":"14:30:00"},{"$f":"VLOOKUP($AA994,DATA!$B$3:$E$6,3,0)","v":"22:30:00"},{"$f":"VLOOKUP($AA994,DATA!$B$3:$E$6,4,0)","v":3.125E-2},0.30208333333333337,0.30208333333333337,{"$f":"DATA!$C$9","v":0.89},{"$f":"DATA!$C$10","v":64},1,407.81250000000006,407.81250000000006,0,"","",{"$f":"TIME(INT(AD994/60),INT(MOD(AD994,60)/1),0)","v":0},"","",0,"","","","",null,{"$f":"X1003","v":48},null,{"$f":"TEXT(Y993,\"ddd\")","v":"ma"},"MD",{"$f":"IFERROR(HLOOKUP(Y993,[1]DATA!$A$1:$NB$5,4,0),\"\")","v":"D1"},null,null,null,null,{"$f":"VLOOKUP(Y993,[1]SRI!$S$4:$Z$368,7,0)","v":0},"","",""]
["48maND",{"$f":"VLOOKUP($AA995,DATA!$B$3:$E$6,2,0)","v":"22:30:00"},{"$f":"VLOOKUP($AA995,DATA!$B$3:$E$6,3,0)","v":"06:30:00"},{"$f":"VLOOKUP($AA995,DATA!$B$3:$E$6,4,0)","v":3.125E-2},0.30208333333333326,0.30208333333333326,{"$f":"DATA!$C$9","v":0.89},{"$f":"DATA!$C$10","v":64},1,407.81249999999989,407.81249999999989,0,"","",0,"","",0,"","","","",null,{"$f":"X1003","v":48},null,{"$f":"TEXT(Y993,\"ddd\")","v":"ma"},"ND",{"$f":"IFERROR(HLOOKUP(Y993,[1]DATA!$A$1:$NB$5,5,0),\"\")","v":"D3"},null,null,null,null,{"$f":"VLOOKUP(Y993,[1]SRI!$S$4:$Z$368,8,0)","v":0},"","",""]
["48diDD",{"$f":"VLOOKUP($AA996,DATA!$B$3:$E$6,2,0)","v":"06:30:00"},{"$f":"VLOOKUP($AA996,DATA!$B$3:$E$6,3,0)","v":"14:30:00"},{"$f":"VLOOKUP($AA996,DATA!$B$3:$E$6,4,0)","v":3.125E-2},0.30208333333333331,0.30208333333333331,{"$f":"DATA!$C$9","v":0.89},{"$f":"DATA!$C$10","v":64},1,407.8125,407.8125,0,"","",0,"","",0,"","","","",null,{"$f":"X1003","v":48},"2018-11-27",{"$f":"TEXT(Y996,\"ddd\")","v":"di"},"DD",{"$f":"IFERROR(HLOOKUP(Y996,[1]DATA!$A$1:$NB$5,3,0),\"\")","v":"D2"},null,null,null,null,{"$f":"VLOOKUP(Y996,[1]SRI!$S$4:$Z$368,6,0)","v":0},"","",""]
["48diMD",{"$f":"VLOOKUP($AA997,DATA!$B$3:$E$6,2,0)","v":"14:30:00"},{"$f":"VLOOKUP($AA997,DATA!$B$3:$E$6,3,0)","v":"22:30:00"},{"$f":"VLOOKUP($AA997,DATA!$B$3:$E$6,4,0)","v":3.125E-2},0.30208333333333337,0.30208333333333337,{"$f":"DATA!$C$9","v":0.89},{"$f":"DATA!$C$10","v":64},1,407.81250000000006,407.81250000000006,0,"","",0,"","",0,"","","","",null,{"$f":"X1003","v":48},null,{"$f":"TEXT(Y996,\"ddd\")","v":"di"},"MD",{"$f":"IFERROR(HLOOKUP(Y996,[1]DATA!$A$1:$NB$5,4,0),\"\")","v":"D1"},null,null,null,null,{"$f":"VLOOKUP(Y996,[1]SRI!$S$4:$Z$368,7,0)","v":0},"","",""]
["48diND",{"$f":"VLOOKUP($AA998,DATA!$B$3:$E$6,2,0)","v":"22:30:00"},{"$f":"VLOOKUP($AA998,DATA!$B$3:$E$6,3,0)","v":"06:30:00"},{"$f":"VLOOKUP($AA998,DATA!$B$3:$E$6,4,0)","v":3.125E-2},0.30208333333333326,0.30208333333333326,{"$f":"DATA!$C$9","v":0.89},{"$f":"DATA!$C$10","v":64},1,407.81249999999989,407.81249999999989,0,"","",0,"","",0,"","","","",null,{"$f":"X1003","v":48},null,{"$f":"TEXT(Y996,\"ddd\")","v":"di"},"ND",{"$f":"IFERROR(HLOOKUP(Y996,[1]DATA!$A$1:$NB$5,5,0),\"\")","v":"D3"},null,null,null,null,{"$f":"VLOOKUP(Y996,[1]SRI!$S$4:$Z$368,8,0)","v":0},"","",""]
["48woDD",{"$f":"VLOOKUP($AA999,DATA!$B$3:$E$6,2,0)","v":"06:30:00"},{"$f":"VLOOKUP($AA999,DATA!$B$3:$E$6,3,0)","v":"14:30:00"},{"$f":"VLOOKUP($AA999,DATA!$B$3:$E$6,4,0)","v":3.125E-2},0.30208333333333331,0.30208333333333331,{"$f":"DATA!$C$9","v":0.89},{"$f":"DATA!$C$10","v":64},1,407.8125,407.8125,0,"","",0,"","",0,"","","","",null,{"$f":"X1003","v":48},"2018-11-28",{"$f":"TEXT(Y999,\"ddd\")","v":"wo"},"DD",{"$f":"IFERROR(HLOOKUP(Y999,[1]DATA!$A$1:$NB$5,3,0),\"\")","v":"D2"},null,null,null,null,{"$f":"VLOOKUP(Y999,[1]SRI!$S$4:$Z$368,6,0)","v":0},"","",""]
["48woMD",{"$f":"VLOOKUP($AA1000,DATA!$B$3:$E$6,2,0)","v":"14:30:00"},{"$f":"VLOOKUP($AA1000,DATA!$B$3:$E$6,3,0)","v":"22:30:00"},{"$f":"VLOOKUP($AA1000,DATA!$B$3:$E$6,4,0)","v":3.125E-2},0.30208333333333337,0.30208333333333337,{"$f":"DATA!$C$9","v":0.89},{"$f":"DATA!$C$10","v":64},1,407.81250000000006,407.81250000000006,0,"","",0,"","",0,"","","","",null,{"$f":"X1003","v":48},null,{"$f":"TEXT(Y999,\"ddd\")","v":"wo"},"MD",{"$f":"IFERROR(HLOOKUP(Y999,[1]DATA!$A$1:$NB$5,4,0),\"\")","v":"D1"},null,null,null,null,{"$f":"VLOOKUP(Y999,[1]SRI!$S$4:$Z$368,7,0)","v":0},"","",""]
["48woND",{"$f":"VLOOKUP($AA1001,DATA!$B$3:$E$6,2,0)","v":"22:30:00"},{"$f":"VLOOKUP($AA1001,DATA!$B$3:$E$6,3,0)","v":"06:30:00"},{"$f":"VLOOKUP($AA1001,DATA!$B$3:$E$6,4,0)","v":3.125E-2},0.30208333333333326,0.30208333333333326,{"$f":"DATA!$C$9","v":0.89},{"$f":"DATA!$C$10","v":64},1,407.81249999999989,407.81249999999989,0,"","",0,"","",0,"","","","",null,{"$f":"X1003","v":48},null,{"$f":"TEXT(Y999,\"ddd\")","v":"wo"},"ND",{"$f":"IFERROR(HLOOKUP(Y999,[1]DATA!$A$1:$NB$5,5,0),\"\")","v":"D3"},null,null,null,null,{"$f":"VLOOKUP(Y999,[1]SRI!$S$4:$Z$368,8,0)","v":0},"","",""]
["48doDD",{"$f":"VLOOKUP($AA1002,DATA!$B$3:$E$6,2,0)","v":"06:30:00"},{"$f":"VLOOKUP($AA1002,DATA!$B$3:$E$6,3,0)","v":"14:30:00"},{"$f":"VLOOKUP($AA1002,DATA!$B$3:$E$6,4,0)","v":3.125E-2},0.30208333333333331,0.30208333333333331,{"$f":"DATA!$C$9","v":0.89},{"$f":"DATA!$C$10","v":64},1,407.8125,407.8125,0,"","",0,"","",0,"","","","",null,{"$f":"X1003","v":48},"2018-11-29",{"$f":"TEXT(Y1002,\"ddd\")","v":"do"},"DD",{"$f":"IFERROR(HLOOKUP(Y1002,[1]DATA!$A$1:$NB$5,3,0),\"\")","v":"D2"},null,null,null,null,{"$f":"VLOOKUP(Y1002,[1]SRI!$S$4:$Z$368,6,0)","v":0},"","",""]
["48doMD",{"$f":"VLOOKUP($AA1003,DATA!$B$3:$E$6,2,0)","v":"14:30:00"},{"$f":"VLOOKUP($AA1003,DATA!$B$3:$E$6,3,0)","v":"22:30:00"},{"$f":"VLOOKUP($AA1003,DATA!$B$3:$E$6,4,0)","v":3.125E-2},0.30208333333333337,0.30208333333333337,{"$f":"DATA!$C$9","v":0.89},{"$f":"DATA!$C$10","v":64},1,407.81250000000006,407.81250000000006,0,"","",0,"","",0,"","","","",null,{"$f":"WEEKNUM($Y993)","v":48},null,{"$f":"TEXT(Y1002,\"ddd\")","v":"do"},"MD",{"$f":"IFERROR(HLOOKUP(Y1002,[1]DATA!$A$1:$NB$5,4,0),\"\")","v":"D1"},null,null,null,null,{"$f":"VLOOKUP(Y1002,[1]SRI!$S$4:$Z$368,7,0)","v":0},"","",""]
["48doND",{"$f":"VLOOKUP($AA1004,DATA!$B$3:$E$6,2,0)","v":"22:30:00"},{"$f":"VLOOKUP($AA1004,DATA!$B$3:$E$6,3,0)","v":"06:30:00"},{"$f":"VLOOKUP($AA1004,DATA!$B$3:$E$6,4,0)","v":3.125E-2},0.30208333333333326,0.30208333333333326,{"$f":"DATA!$C$9","v":0.89},{"$f":"DATA!$C$10","v":64},1,407.81249999999989,407.81249999999989,0,"","",0,"","",0,"","","","",null,{"$f":"X1003","v":48},null,{"$f":"TEXT(Y1002,\"ddd\")","v":"do"},"ND",{"$f":"IFERROR(HLOOKUP(Y1002,[1]DATA!$A$1:$NB$5,5,0),\"\")","v":"D3"},null,null,null,null,{"$f":"VLOOKUP(Y1002,[1]SRI!$S$4:$Z$368,8,0)","v":0},"","",""]
["48vrDD",{"$f":"VLOOKUP($AA1005,DATA!$B$3:$E$6,2,0)","v":"06:30:00"},{"$f":"VLOOKUP($AA1005,DATA!$B$3:$E$6,3,0)","v":"14:30:00"},{"$f":"VLOOKUP($AA1005,DATA!$B$3:$E$6,4,0)","v":3.125E-2},0.30208333333333331,0.30208333333333331,{"$f":"DATA!$C$9","v":0.89},{"$f":"DATA!$C$10","v":64},1,407.8125,407.8125,0,"","",0,"","",0,"","","","",null,{"$f":"X1003","v":48},"2018-11-30",{"$f":"TEXT(Y1005,\"ddd\")","v":"vr"},"DD",{"$f":"IFERROR(HLOOKUP(Y1005,[1]DATA!$A$1:$NB$5,3,0),\"\")","v":"D2"},null,null,null,null,{"$f":"VLOOKUP(Y1005,[1]SRI!$S$4:$Z$368,6,0)","v":0},"","",""]
["48vrMD",{"$f":"VLOOKUP($AA1006,DATA!$B$3:$E$6,2,0)","v":"14:30:00"},{"$f":"VLOOKUP($AA1006,DATA!$B$3:$E$6,3,0)","v":"22:30:00"},{"$f":"VLOOKUP($AA1006,DATA!$B$3:$E$6,4,0)","v":3.125E-2},0.30208333333333337,0.30208333333333337,{"$f":"DATA!$C$9","v":0.89},{"$f":"DATA!$C$10","v":64},1,407.81250000000006,407.81250000000006,0,"","",0,"","",0,"","","","",null,{"$f":"X1003","v":48},null,{"$f":"TEXT(Y1005,\"ddd\")","v":"vr"},"MD",{"$f":"IFERROR(HLOOKUP(Y1005,[1]DATA!$A$1:$NB$5,4,0),\"\")","v":"D1"},null,null,null,null,{"$f":"VLOOKUP(Y1005,[1]SRI!$S$4:$Z$368,7,0)","v":0},"","",""]
["48vrND",{"$f":"VLOOKUP($AA1007,DATA!$B$3:$E$6,2,0)","v":"22:30:00"},{"$f":"VLOOKUP($AA1007,DATA!$B$3:$E$6,3,0)","v":"06:30:00"},{"$f":"VLOOKUP($AA1007,DATA!$B$3:$E$6,4,0)","v":3.125E-2},0.30208333333333326,0.30208333333333326,{"$f":"DATA!$C$9","v":0.89},{"$f":"DATA!$C$10","v":64},1,407.81249999999989,407.81249999999989,0,"","",0,"","",0,"","","","",null,{"$f":"X1003","v":48},null,{"$f":"TEXT(Y1005,\"ddd\")","v":"vr"},"ND",{"$f":"IFERROR(HLOOKUP(Y1005,[1]DATA!$A$1:$NB$5,5,0),\"\")","v":"D3"},null,null,null,null,{"$f":"VLOOKUP(Y1005,[1]SRI!$S$4:$Z$368,8,0)","v":0},"","",""]
[{"$f":"X1008&Z1008&AA1008","v":"48zaDD"},{"$f":"VLOOKUP($AA1008,DATA!$B$3:$E$6,2,0)","v":"06:30:00"},{"$f":"VLOOKUP($AA1008,DATA!$B$3:$E$6,3,0)","v":"14:30:00"},{"$f":"VLOOKUP($AA1008,DATA!$B$3:$E$6,4,0)","v":3.125E-2},0.30208333333333331,0.30208333333333331,{"$f":"DATA!$C$9","v":0.89},{"$f":"DATA!$C$10","v":64},1,407.8125,407.8125,0,"","",0,{"$f":"IF($O1008*86400/$H1008=0,\"\",$O1008*86400/$H1008)","v":""},"",0,"","","","",null,{"$f":"X1003","v":48},"2018-12-01",{"$f":"TEXT(Y1008,\"ddd\")","v":"za"},"DD",{"$f":"IFERROR(HLOOKUP(Y1008,[1]DATA!$A$1:$NB$5,3,0),\"\")","v":"D2"},null,null,null,null,{"$f":"VLOOKUP(Y1008,[1]SRI!$S$4:$Z$368,6,0)","v":0},"","",""]
["48zaMD",{"$f":"VLOOKUP($AA1009,DATA!$B$3:$E$6,2,0)","v":"14:30:00"},{"$f":"VLOOKUP($AA1009,DATA!$B$3:$E$6,3,0)","v":"22:30:00"},{"$f":"VLOOKUP($AA1009,DATA!$B$3:$E$6,4,0)","v":3.125E-2},0.30208333333333337,0.30208333333333337,{"$f":"DATA!$C$9","v":0.89},{"$f":"DATA!$C$10","v":64},1,407.81250000000006,407.81250000000006,0,"","",0,"","",0,"","","","",null,{"$f":"X1003","v":48},null,{"$f":"TEXT(Y1008,\"ddd\")","v":"za"},"MD",{"$f":"IFERROR(HLOOKUP(Y1008,[1]DATA!$A$1:$NB$5,4,0),\"\")","v":"-"},null,null,null,null,{"$f":"VLOOKUP(Y1008,[1]SRI!$S$4:$Z$368,7,0)","v":0},"","",""]
["48zaND",{"$f":"VLOOKUP($AA1010,DATA!$B$3:$E$6,2,0)","v":"22:30:00"},{"$f":"VLOOKUP($AA1010,DATA!$B$3:$E$6,3,0)","v":"06:30:00"},{"$f":"VLOOKUP($AA1010,DATA!$B$3:$E$6,4,0)","v":3.125E-2},0.30208333333333326,0.30208333333333326,{"$f":"DATA!$C$9","v":0.89},{"$f":"DATA!$C$10","v":64},1,407.81249999999989,407.81249999999989,0,"","",0,"","",0,"","","","",null,{"$f":"X1003","v":48},null,{"$f":"TEXT(Y1008,\"ddd\")","v":"za"},"ND",{"$f":"IFERROR(HLOOKUP(Y1008,[1]DATA!$A$1:$NB$5,5,0),\"\")","v":"-"},null,null,null,null,{"$f":"VLOOKUP(Y1008,[1]SRI!$S$4:$Z$368,8,0)","v":0},"","",""]
["48zoDD",{"$f":"VLOOKUP($AA1011,DATA!$B$3:$E$6,2,0)","v":"06:30:00"},{"$f":"VLOOKUP($AA1011,DATA!$B$3:$E$6,3,0)","v":"14:30:00"},{"$f":"VLOOKUP($AA1011,DATA!$B$3:$E$6,4,0)","v":3.125E-2},0.30208333333333331,0.30208333333333331,{"$f":"DATA!$C$9","v":0.89},{"$f":"DATA!$C$10","v":64},1,407.8125,407.8125,0,"","",0,"","",0,"","","","",null,{"$f":"X1003","v":48},"2018-12-02",{"$f":"TEXT(Y1011,\"ddd\")","v":"zo"},"DD",{"$f":"IFERROR(HLOOKUP(Y1011,[1]DATA!$A$1:$NB$5,3,0),\"\")","v":"-"},null,null,null,null,{"$f":"VLOOKUP(Y1011,[1]SRI!$S$4:$Z$368,6,0)","v":0},"","",""]
["48zoMD",{"$f":"VLOOKUP($AA1012,DATA!$B$3:$E$6,2,0)","v":"14:30:00"},{"$f":"VLOOKUP($AA1012,DATA!$B$3:$E$6,3,0)","v":"22:30:00"},{"$f":"VLOOKUP($AA1012,DATA!$B$3:$E$6,4,0)","v":3.125E-2},0.30208333333333337,0.30208333333333337,{"$f":"DATA!$C$9","v":0.89},{"$f":"DATA!$C$10","v":64},1,407.81250000000006,407.81250000000006,0,"","",0,"","",0,"","","","",null,{"$f":"X1003","v":48},null,{"$f":"TEXT(Y1011,\"ddd\")","v":"zo"},"MD",{"$f":"IFERROR(HLOOKUP(Y1011,[1]DATA!$A$1:$NB$5,4,0),\"\")","v":"-"},null,null,null,null,{"$f":"VLOOKUP(Y1011,[1]SRI!$S$4:$Z$368,7,0)","v":0},"","",""]
["48zoZND",{"$f":"VLOOKUP($AA1013,DATA!$B$3:$E$6,2,0)","v":"00:00:00"},{"$f":"VLOOKUP($AA1013,DATA!$B$3:$E$6,3,0)","v":"00:00:00"},{"$f":"VLOOKUP($AA1013,DATA!$B$3:$E$6,4,0)","v":3.125E-2},-3.125E-2,-3.125E-2,{"$f":"DATA!$C$9","v":0.89},{"$f":"DATA!$C$10","v":64},1,-42.1875,-42.1875,0,"","",0,"","",0,"","","","",null,{"$f":"X1003","v":48},null,{"$f":"TEXT(Y1011,\"ddd\")","v":"zo"},"ZND",{"$f":"IFERROR(HLOOKUP(Y1011,[1]DATA!$A$1:$NB$5,5,0),\"\")","v":"-"},null,null,null,null,{"$f":"VLOOKUP(Y1011,[1]SRI!$S$4:$Z$368,8,0)","v":0},"","",""]
["49maDD",{"$f":"VLOOKUP($AA1014,DATA!$B$3:$E$6,2,0)","v":"06:30:00"},{"$f":"VLOOKUP($AA1014,DATA!$B$3:$E$6,3,0)","v":"14:30:00"},{"$f":"VLOOKUP($AA1014,DATA!$B$3:$E$6,4,0)","v":3.125E-2},0.30208333333333331,0.30208333333333331,{"$f":"DATA!$C$9","v":0.89},{"$f":"DATA!$C$10","v":64},1,407.8125,407.8125,0,"","",{"$f":"TIME(INT($AD1014/60),INT(MOD($AD1014,60)/1),0)","v":0},"","",0,"","","","",null,{"$f":"X1024","v":49},"2018-12-03",{"$f":"TEXT(Y1014,\"ddd\")","v":"ma"},"DD",{"$f":"IFERROR(HLOOKUP(Y1014,[1]DATA!$A$1:$NB$5,3,0),\"\")","v":"D1"},null,null,null,null,{"$f":"VLOOKUP(Y1014,[1]SRI!$S$4:$Z$368,6,0)","v":0},"","","",{"$f":"IF(SUMIF(S1014:S1034,\">0\",K1014:K1034)=0,\"\",SUMIF(S1014:S1034,\">0\",K1014:K1034))","v":""},{"$f":"IF(SUM(S1014:S1034)=0,\"\",SUM(S1014:S1034))","v":""},{"$f":"IFERROR(AL1014/AK1014,\"-\")","v":"-"},{"$f":"IF(SUM(M1014:M1034)=0,\"0\",SUM(M1014:M1034))","v":"0"},{"$f":"IFERROR(AN1014/AK1014,\"-\")","v":"-"},{"$f":"IF(SUM(P1014:P1034)=0,0,SUM(P1014:P1034))","v":0},{"$f":"IFERROR(AP1014/AK1014,\"-\")","v":"-"},"-",{"$f":"IFERROR(SUMIF($AB1014:$AB1034,AS$5,$AJ1014:$AJ1034)/COUNTIFS($AB1014:$AB1034,AS$5,$AJ1014:$AJ1034,\">0\"),\"\")","v":""},"","",{"$f":"IFERROR((AK1014-AL1014-AN1014-AP1014),\"-\")","v":"-"},{"$f":"IFERROR((1-AM1014-AO1014-AQ1014), \"-\")","v":"-"},{"$f":"IFERROR((AV1014*$AE$2)/60,\"-\")","v":"-"},{"$f":"IFERROR(SUM(AG1014:AG1034),\"\")","v":0}]
["49maMD",{"$f":"VLOOKUP($AA1015,DATA!$B$3:$E$6,2,0)","v":"14:30:00"},{"$f":"VLOOKUP($AA1015,DATA!$B$3:$E$6,3,0)","v":"22:30:00"},{"$f":"VLOOKUP($AA1015,DATA!$B$3:$E$6,4,0)","v":3.125E-2},0.30208333333333337,0.30208333333333337,{"$f":"DATA!$C$9","v":0.89},{"$f":"DATA!$C$10","v":64},1,407.81250000000006,407.81250000000006,0,"","",{"$f":"TIME(INT(AD1015/60),INT(MOD(AD1015,60)/1),0)","v":0},"","",0,"","","","",null,{"$f":"X1024","v":49},null,{"$f":"TEXT(Y1014,\"ddd\")","v":"ma"},"MD",{"$f":"IFERROR(HLOOKUP(Y1014,[1]DATA!$A$1:$NB$5,4,0),\"\")","v":"D3"},null,null,null,null,{"$f":"VLOOKUP(Y1014,[1]SRI!$S$4:$Z$368,7,0)","v":0},"","",""]
["49maND",{"$f":"VLOOKUP($AA1016,DATA!$B$3:$E$6,2,0)","v":"22:30:00"},{"$f":"VLOOKUP($AA1016,DATA!$B$3:$E$6,3,0)","v":"06:30:00"},{"$f":"VLOOKUP($AA1016,DATA!$B$3:$E$6,4,0)","v":3.125E-2},0.30208333333333326,0.30208333333333326,{"$f":"DATA!$C$9","v":0.89},{"$f":"DATA!$C$10","v":64},1,407.81249999999989,407.81249999999989,0,"","",0,"","",0,"","","","",null,{"$f":"X1024","v":49},null,{"$f":"TEXT(Y1014,\"ddd\")","v":"ma"},"ND",{"$f":"IFERROR(HLOOKUP(Y1014,[1]DATA!$A$1:$NB$5,5,0),\"\")","v":"D2"},null,null,null,null,{"$f":"VLOOKUP(Y1014,[1]SRI!$S$4:$Z$368,8,0)","v":0},"","",""]
["49diDD",{"$f":"VLOOKUP($AA1017,DATA!$B$3:$E$6,2,0)","v":"06:30:00"},{"$f":"VLOOKUP($AA1017,DATA!$B$3:$E$6,3,0)","v":"14:30:00"},{"$f":"VLOOKUP($AA1017,DATA!$B$3:$E$6,4,0)","v":3.125E-2},0.30208333333333331,0.30208333333333331,{"$f":"DATA!$C$9","v":0.89},{"$f":"DATA!$C$10","v":64},1,407.8125,407.8125,0,"","",0,"","",0,"","","","",null,{"$f":"X1024","v":49},"2018-12-04",{"$f":"TEXT(Y1017,\"ddd\")","v":"di"},"DD",{"$f":"IFERROR(HLOOKUP(Y1017,[1]DATA!$A$1:$NB$5,3,0),\"\")","v":"D1"},null,null,null,null,{"$f":"VLOOKUP(Y1017,[1]SRI!$S$4:$Z$368,6,0)","v":0},"","",""]
["49diMD",{"$f":"VLOOKUP($AA1018,DATA!$B$3:$E$6,2,0)","v":"14:30:00"},{"$f":"VLOOKUP($AA1018,DATA!$B$3:$E$6,3,0)","v":"22:30:00"},{"$f":"VLOOKUP($AA1018,DATA!$B$3:$E$6,4,0)","v":3.125E-2},0.30208333333333337,0.30208333333333337,{"$f":"DATA!$C$9","v":0.89},{"$f":"DATA!$C$10","v":64},1,407.81250000000006,407.81250000000006,0,"","",0,"","",0,"","","","",null,{"$f":"X1024","v":49},null,{"$f":"TEXT(Y1017,\"ddd\")","v":"di"},"MD",{"$f":"IFERROR(HLOOKUP(Y1017,[1]DATA!$A$1:$NB$5,4,0),\"\")","v":"D3"},null,null,null,null,{"$f":"VLOOKUP(Y1017,[1]SRI!$S$4:$Z$368,7,0)","v":0},"","",""]
["49diND",{"$f":"VLOOKUP($AA1019,DATA!$B$3:$E$6,2,0)","v":"22:30:00"},{"$f":"VLOOKUP($AA1019,DATA!$B$3:$E$6,3,0)","v":"06:30:00"},{"$f":"VLOOKUP($AA1019,DATA!$B$3:$E$6,4,0)","v":3.125E-2},0.30208333333333326,0.30208333333333326,{"$f":"DATA!$C$9","v":0.89},{"$f":"DATA!$C$10","v":64},1,407.81249999999989,407.81249999999989,0,"","",0,"","",0,"","","","",null,{"$f":"X1024","v":49},null,{"$f":"TEXT(Y1017,\"ddd\")","v":"di"},"ND",{"$f":"IFERROR(HLOOKUP(Y1017,[1]DATA!$A$1:$NB$5,5,0),\"\")","v":"D2"},null,null,null,null,{"$f":"VLOOKUP(Y1017,[1]SRI!$S$4:$Z$368,8,0)","v":0},"","",""]
["49woDD",{"$f":"VLOOKUP($AA1020,DATA!$B$3:$E$6,2,0)","v":"06:30:00"},{"$f":"VLOOKUP($AA1020,DATA!$B$3:$E$6,3,0)","v":"14:30:00"},{"$f":"VLOOKUP($AA1020,DATA!$B$3:$E$6,4,0)","v":3.125E-2},0.30208333333333331,0.30208333333333331,{"$f":"DATA!$C$9","v":0.89},{"$f":"DATA!$C$10","v":64},1,407.8125,407.8125,0,"","",0,"","",0,"","","","",null,{"$f":"X1024","v":49},"2018-12-05",{"$f":"TEXT(Y1020,\"ddd\")","v":"wo"},"DD",{"$f":"IFERROR(HLOOKUP(Y1020,[1]DATA!$A$1:$NB$5,3,0),\"\")","v":"D1"},null,null,null,null,{"$f":"VLOOKUP(Y1020,[1]SRI!$S$4:$Z$368,6,0)","v":0},"","",""]
["49woMD",{"$f":"VLOOKUP($AA1021,DATA!$B$3:$E$6,2,0)","v":"14:30:00"},{"$f":"VLOOKUP($AA1021,DATA!$B$3:$E$6,3,0)","v":"22:30:00"},{"$f":"VLOOKUP($AA1021,DATA!$B$3:$E$6,4,0)","v":3.125E-2},0.30208333333333337,0.30208333333333337,{"$f":"DATA!$C$9","v":0.89},{"$f":"DATA!$C$10","v":64},1,407.81250000000006,407.81250000000006,0,"","",0,"","",0,"","","","",null,{"$f":"X1024","v":49},null,{"$f":"TEXT(Y1020,\"ddd\")","v":"wo"},"MD",{"$f":"IFERROR(HLOOKUP(Y1020,[1]DATA!$A$1:$NB$5,4,0),\"\")","v":"D3"},null,null,null,null,{"$f":"VLOOKUP(Y1020,[1]SRI!$S$4:$Z$368,7,0)","v":0},"","",""]
["49woND",{"$f":"VLOOKUP($AA1022,DATA!$B$3:$E$6,2,0)","v":"22:30:00"},{"$f":"VLOOKUP($AA1022,DATA!$B$3:$E$6,3,0)","v":"06:30:00"},{"$f":"VLOOKUP($AA1022,DATA!$B$3:$E$6,4,0)","v":3.125E-2},0.30208333333333326,0.30208333333333326,{"$f":"DATA!$C$9","v":0.89},{"$f":"DATA!$C$10","v":64},1,407.81249999999989,407.81249999999989,0,"","",0,"","",0,"","","","",null,{"$f":"X1024","v":49},null,{"$f":"TEXT(Y1020,\"ddd\")","v":"wo"},"ND",{"$f":"IFERROR(HLOOKUP(Y1020,[1]DATA!$A$1:$NB$5,5,0),\"\")","v":"D2"},null,null,null,null,{"$f":"VLOOKUP(Y1020,[1]SRI!$S$4:$Z$368,8,0)","v":0},"","",""]
["49doDD",{"$f":"VLOOKUP($AA1023,DATA!$B$3:$E$6,2,0)","v":"06:30:00"},{"$f":"VLOOKUP($AA1023,DATA!$B$3:$E$6,3,0)","v":"14:30:00"},{"$f":"VLOOKUP($AA1023,DATA!$B$3:$E$6,4,0)","v":3.125E-2},0.30208333333333331,0.30208333333333331,{"$f":"DATA!$C$9","v":0.89},{"$f":"DATA!$C$10","v":64},1,407.8125,407.8125,0,"","",0,"","",0,"","","","",null,{"$f":"X1024","v":49},{"$f":"Y1020+1","v":"2018-12-06"},{"$f":"TEXT(Y1023,\"ddd\")","v":"do"},"DD",{"$f":"IFERROR(HLOOKUP(Y1023,[1]DATA!$A$1:$NB$5,3,0),\"\")","v":"D1"},null,null,null,null,{"$f":"VLOOKUP(Y1023,[1]SRI!$S$4:$Z$368,6,0)","v":0},"","",""]
["49doMD",{"$f":"VLOOKUP($AA1024,DATA!$B$3:$E$6,2,0)","v":"14:30:00"},{"$f":"VLOOKUP($AA1024,DATA!$B$3:$E$6,3,0)","v":"22:30:00"},{"$f":"VLOOKUP($AA1024,DATA!$B$3:$E$6,4,0)","v":3.125E-2},0.30208333333333337,0.30208333333333337,{"$f":"DATA!$C$9","v":0.89},{"$f":"DATA!$C$10","v":64},1,407.81250000000006,407.81250000000006,0,"","",0,"","",0,"","","","",null,{"$f":"WEEKNUM($Y1014)","v":49},null,{"$f":"TEXT(Y1023,\"ddd\")","v":"do"},"MD",{"$f":"IFERROR(HLOOKUP(Y1023,[1]DATA!$A$1:$NB$5,4,0),\"\")","v":"D3"},null,null,null,null,{"$f":"VLOOKUP(Y1023,[1]SRI!$S$4:$Z$368,7,0)","v":0},"","",""]
["49doND",{"$f":"VLOOKUP($AA1025,DATA!$B$3:$E$6,2,0)","v":"22:30:00"},{"$f":"VLOOKUP($AA1025,DATA!$B$3:$E$6,3,0)","v":"06:30:00"},{"$f":"VLOOKUP($AA1025,DATA!$B$3:$E$6,4,0)","v":3.125E-2},0.30208333333333326,0.30208333333333326,{"$f":"DATA!$C$9","v":0.89},{"$f":"DATA!$C$10","v":64},1,407.81249999999989,407.81249999999989,0,"","",0,"","",0,"","","","",null,{"$f":"X1024","v":49},null,{"$f":"TEXT(Y1023,\"ddd\")","v":"do"},"ND",{"$f":"IFERROR(HLOOKUP(Y1023,[1]DATA!$A$1:$NB$5,5,0),\"\")","v":"D2"},null,null,null,null,{"$f":"VLOOKUP(Y1023,[1]SRI!$S$4:$Z$368,8,0)","v":0},"","",""]
["49vrDD",{"$f":"VLOOKUP($AA1026,DATA!$B$3:$E$6,2,0)","v":"06:30:00"},{"$f":"VLOOKUP($AA1026,DATA!$B$3:$E$6,3,0)","v":"14:30:00"},{"$f":"VLOOKUP($AA1026,DATA!$B$3:$E$6,4,0)","v":3.125E-2},0.30208333333333331,0.30208333333333331,{"$f":"DATA!$C$9","v":0.89},{"$f":"DATA!$C$10","v":64},1,407.8125,407.8125,0,"","",0,"","",0,"","","","",null,{"$f":"X1024","v":49},"2018-12-07",{"$f":"TEXT(Y1026,\"ddd\")","v":"vr"},"DD",{"$f":"IFERROR(HLOOKUP(Y1026,[1]DATA!$A$1:$NB$5,3,0),\"\")","v":"D1"},null,null,null,null,{"$f":"VLOOKUP(Y1026,[1]SRI!$S$4:$Z$368,6,0)","v":0},"","",""]
["49vrMD",{"$f":"VLOOKUP($AA1027,DATA!$B$3:$E$6,2,0)","v":"14:30:00"},{"$f":"VLOOKUP($AA1027,DATA!$B$3:$E$6,3,0)","v":"22:30:00"},{"$f":"VLOOKUP($AA1027,DATA!$B$3:$E$6,4,0)","v":3.125E-2},0.30208333333333337,0.30208333333333337,{"$f":"DATA!$C$9","v":0.89},{"$f":"DATA!$C$10","v":64},1,407.81250000000006,407.81250000000006,0,"","",0,"","",0,"","","","",null,{"$f":"X1024","v":49},null,{"$f":"TEXT(Y1026,\"ddd\")","v":"vr"},"MD",{"$f":"IFERROR(HLOOKUP(Y1026,[1]DATA!$A$1:$NB$5,4,0),\"\")","v":"D3"},null,null,null,null,{"$f":"VLOOKUP(Y1026,[1]SRI!$S$4:$Z$368,7,0)","v":0},"","",""]
["49vrND",{"$f":"VLOOKUP($AA1028,DATA!$B$3:$E$6,2,0)","v":"22:30:00"},{"$f":"VLOOKUP($AA1028,DATA!$B$3:$E$6,3,0)","v":"06:30:00"},{"$f":"VLOOKUP($AA1028,DATA!$B$3:$E$6,4,0)","v":3.125E-2},0.30208333333333326,0.30208333333333326,{"$f":"DATA!$C$9","v":0.89},{"$f":"DATA!$C$10","v":64},1,407.81249999999989,407.81249999999989,0,"","",0,"","",0,"","","","",null,{"$f":"X1024","v":49},null,{"$f":"TEXT(Y1026,\"ddd\")","v":"vr"},"ND",{"$f":"IFERROR(HLOOKUP(Y1026,[1]DATA!$A$1:$NB$5,5,0),\"\")","v":"D2"},null,null,null,null,{"$f":"VLOOKUP(Y1026,[1]SRI!$S$4:$Z$368,8,0)","v":0},"","",""]
["49zaDD",{"$f":"VLOOKUP($AA1029,DATA!$B$3:$E$6,2,0)","v":"06:30:00"},{"$f":"VLOOKUP($AA1029,DATA!$B$3:$E$6,3,0)","v":"14:30:00"},{"$f":"VLOOKUP($AA1029,DATA!$B$3:$E$6,4,0)","v":3.125E-2},0.30208333333333331,0.30208333333333331,{"$f":"DATA!$C$9","v":0.89},{"$f":"DATA!$C$10","v":64},1,407.8125,407.8125,0,"","",0,"","",0,"","","","",null,{"$f":"X1024","v":49},"2018-12-08",{"$f":"TEXT(Y1029,\"ddd\")","v":"za"},"DD",{"$f":"IFERROR(HLOOKUP(Y1029,[1]DATA!$A$1:$NB$5,3,0),\"\")","v":"D1"},null,null,null,null,{"$f":"VLOOKUP(Y1029,[1]SRI!$S$4:$Z$368,6,0)","v":0},"","",""]
["49zaMD",{"$f":"VLOOKUP($AA1030,DATA!$B$3:$E$6,2,0)","v":"14:30:00"},{"$f":"VLOOKUP($AA1030,DATA!$B$3:$E$6,3,0)","v":"22:30:00"},{"$f":"VLOOKUP($AA1030,DATA!$B$3:$E$6,4,0)","v":3.125E-2},0.30208333333333337,0.30208333333333337,{"$f":"DATA!$C$9","v":0.89},{"$f":"DATA!$C$10","v":64},1,407.81250000000006,407.81250000000006,0,"","",0,"","",0,"","","","",null,{"$f":"X1024","v":49},null,{"$f":"TEXT(Y1029,\"ddd\")","v":"za"},"MD",{"$f":"IFERROR(HLOOKUP(Y1029,[1]DATA!$A$1:$NB$5,4,0),\"\")","v":"-"},null,null,null,null,{"$f":"VLOOKUP(Y1029,[1]SRI!$S$4:$Z$368,7,0)","v":0},{"$f":"IFERROR(S1030-J1030,\"\")","v":""},{"$f":"IFERROR(IF(S1030/(E1030*86400/H1030)<=0,\"\",S1030/(E1030*86400/H1030)),\"\")","v":""},""]
["49zaND",{"$f":"VLOOKUP($AA1031,DATA!$B$3:$E$6,2,0)","v":"22:30:00"},{"$f":"VLOOKUP($AA1031,DATA!$B$3:$E$6,3,0)","v":"06:30:00"},{"$f":"VLOOKUP($AA1031,DATA!$B$3:$E$6,4,0)","v":3.125E-2},0.30208333333333326,0.30208333333333326,{"$f":"DATA!$C$9","v":0.89},{"$f":"DATA!$C$10","v":64},1,407.81249999999989,407.81249999999989,{"$f":"TIME(INT($AC1031/60),INT(MOD($AC1031,60)/1),0)","v":0},{"$f":"IF($L1031*86400/$H1031=0,\"\",$L1031*86400/$H1031)","v":""},{"$f":"IFERROR($M1031/$K1031,\"\")","v":""},0,"",{"$f":"IFERROR($P1031/$K1031,\"\")","v":""},0,"",{"$f":"IF(IF($AB1031=\"D1\",$S1031,\"\")=0,\"\",IF($AB1031=\"D1\",$S1031,\"\"))","v":""},{"$f":"IF(IF($AB1031=\"D2\",$S1031,\"\")=0,\"\",IF($AB1031=\"D2\",$S1031,\"\"))","v":""},{"$f":"IF(IF($AB1031=\"D3\",$S1031,\"\")=0,\"\",IF($AB1031=\"D3\",$S1031,\"\"))","v":""},null,{"$f":"X1024","v":49},null,{"$f":"TEXT(Y1029,\"ddd\")","v":"za"},"ND",{"$f":"IFERROR(HLOOKUP(Y1029,[1]DATA!$A$1:$NB$5,5,0),\"\")","v":"-"},null,null,null,null,{"$f":"VLOOKUP(Y1029,[1]SRI!$S$4:$Z$368,8,0)","v":0},"","",""]
["49zoDD",{"$f":"VLOOKUP($AA1032,DATA!$B$3:$E$6,2,0)","v":"06:30:00"},{"$f":"VLOOKUP($AA1032,DATA!$B$3:$E$6,3,0)","v":"14:30:00"},{"$f":"VLOOKUP($AA1032,DATA!$B$3:$E$6,4,0)","v":3.125E-2},0.30208333333333331,0.30208333333333331,{"$f":"DATA!$C$9","v":0.89},{"$f":"DATA!$C$10","v":64},1,407.8125,407.8125,0,"","",0,"","",0,"","","","",null,{"$f":"X1024","v":49},"2018-12-09",{"$f":"TEXT(Y1032,\"ddd\")","v":"zo"},"DD",{"$f":"IFERROR(HLOOKUP(Y1032,[1]DATA!$A$1:$NB$5,3,0),\"\")","v":"-"},null,null,null,null,{"$f":"VLOOKUP(Y1032,[1]SRI!$S$4:$Z$368,6,0)","v":0},"","",""]
["49zoMD",{"$f":"VLOOKUP($AA1033,DATA!$B$3:$E$6,2,0)","v":"14:30:00"},{"$f":"VLOOKUP($AA1033,DATA!$B$3:$E$6,3,0)","v":"22:30:00"},{"$f":"VLOOKUP($AA1033,DATA!$B$3:$E$6,4,0)","v":3.125E-2},0.30208333333333337,0.30208333333333337,{"$f":"DATA!$C$9","v":0.89},{"$f":"DATA!$C$10","v":64},1,407.81250000000006,407.81250000000006,0,"","",0,"","",0,"","","","",null,{"$f":"X1024","v":49},null,{"$f":"TEXT(Y1032,\"ddd\")","v":"zo"},"MD",{"$f":"IFERROR(HLOOKUP(Y1032,[1]DATA!$A$1:$NB$5,4,0),\"\")","v":"-"},null,null,null,null,{"$f":"VLOOKUP(Y1032,[1]SRI!$S$4:$Z$368,7,0)","v":0},"","",""]
["49zoZND",{"$f":"VLOOKUP($AA1034,DATA!$B$3:$E$6,2,0)","v":"00:00:00"},{"$f":"VLOOKUP($AA1034,DATA!$B$3:$E$6,3,0)","v":"00:00:00"},{"$f":"VLOOKUP($AA1034,DATA!$B$3:$E$6,4,0)","v":3.125E-2},-3.125E-2,-3.125E-2,{"$f":"DATA!$C$9","v":0.89},{"$f":"DATA!$C$10","v":64},1,-42.1875,-42.1875,0,"","",0,"","",0,"","","","",null,{"$f":"X1024","v":49},null,{"$f":"TEXT(Y1032,\"ddd\")","v":"zo"},"ZND",{"$f":"IFERROR(HLOOKUP(Y1032,[1]DATA!$A$1:$NB$5,5,0),\"\")","v":"-"},null,null,null,null,{"$f":"VLOOKUP(Y1032,[1]SRI!$S$4:$Z$368,8,0)","v":0},"","",""]
["50maDD",{"$f":"VLOOKUP($AA1035,DATA!$B$3:$E$6,2,0)","v":"06:30:00"},{"$f":"VLOOKUP($AA1035,DATA!$B$3:$E$6,3,0)","v":"14:30:00"},{"$f":"VLOOKUP($AA1035,DATA!$B$3:$E$6,4,0)","v":3.125E-2},0.30208333333333331,0.30208333333333331,{"$f":"DATA!$C$9","v":0.89},{"$f":"DATA!$C$10","v":64},1,407.8125,407.8125,0,"","",{"$f":"TIME(INT($AD1035/60),INT(MOD($AD1035,60)/1),0)","v":0},"","",0,"","","","",null,{"$f":"X1045","v":50},"2018-12-10",{"$f":"TEXT(Y1035,\"ddd\")","v":"ma"},"DD",{"$f":"IFERROR(HLOOKUP(Y1035,[1]DATA!$A$1:$NB$5,3,0),\"\")","v":"D3"},null,null,null,null,{"$f":"VLOOKUP(Y1035,[1]SRI!$S$4:$Z$368,6,0)","v":0},"","","",{"$f":"IF(SUMIF(S1035:S1055,\">0\",K1035:K1055)=0,\"\",SUMIF(S1035:S1055,\">0\",K1035:K1055))","v":""},{"$f":"IF(SUM(S1035:S1055)=0,\"\",SUM(S1035:S1055))","v":""},{"$f":"IFERROR(AL1035/AK1035,\"-\")","v":"-"},{"$f":"IF(SUM(M1035:M1055)=0,\"0\",SUM(M1035:M1055))","v":"0"},{"$f":"IFERROR(AN1035/AK1035,\"-\")","v":"-"},{"$f":"IF(SUM(P1035:P1055)=0,0,SUM(P1035:P1055))","v":0},{"$f":"IFERROR(AP1035/AK1035,\"-\")","v":"-"},"-",{"$f":"IFERROR(SUMIF($AB1035:$AB1055,AS$5,$AJ1035:$AJ1055)/COUNTIFS($AB1035:$AB1055,AS$5,$AJ1035:$AJ1055,\">0\"),\"\")","v":""},"","",{"$f":"IFERROR((AK1035-AL1035-AN1035-AP1035),\"-\")","v":"-"},{"$f":"IFERROR((1-AM1035-AO1035-AQ1035), \"-\")","v":"-"},{"$f":"IFERROR((AV1035*$AE$2)/60,\"-\")","v":"-"},{"$f":"IFERROR(SUM(AG1035:AG1055),\"\")","v":0}]
["50maMD",{"$f":"VLOOKUP($AA1036,DATA!$B$3:$E$6,2,0)","v":"14:30:00"},{"$f":"VLOOKUP($AA1036,DATA!$B$3:$E$6,3,0)","v":"22:30:00"},{"$f":"VLOOKUP($AA1036,DATA!$B$3:$E$6,4,0)","v":3.125E-2},0.30208333333333337,0.30208333333333337,{"$f":"DATA!$C$9","v":0.89},{"$f":"DATA!$C$10","v":64},1,407.81250000000006,407.81250000000006,0,"","",{"$f":"TIME(INT(AD1036/60),INT(MOD(AD1036,60)/1),0)","v":0},"","",0,"","","","",null,{"$f":"X1045","v":50},null,{"$f":"TEXT(Y1035,\"ddd\")","v":"ma"},"MD",{"$f":"IFERROR(HLOOKUP(Y1035,[1]DATA!$A$1:$NB$5,4,0),\"\")","v":"D2"},null,null,null,null,{"$f":"VLOOKUP(Y1035,[1]SRI!$S$4:$Z$368,7,0)","v":0},"","",""]
["50maND",{"$f":"VLOOKUP($AA1037,DATA!$B$3:$E$6,2,0)","v":"22:30:00"},{"$f":"VLOOKUP($AA1037,DATA!$B$3:$E$6,3,0)","v":"06:30:00"},{"$f":"VLOOKUP($AA1037,DATA!$B$3:$E$6,4,0)","v":3.125E-2},0.30208333333333326,0.30208333333333326,{"$f":"DATA!$C$9","v":0.89},{"$f":"DATA!$C$10","v":64},1,407.81249999999989,407.81249999999989,0,"","",0,"","",0,"","","","",null,{"$f":"X1045","v":50},null,{"$f":"TEXT(Y1035,\"ddd\")","v":"ma"},"ND",{"$f":"IFERROR(HLOOKUP(Y1035,[1]DATA!$A$1:$NB$5,5,0),\"\")","v":"D1"},null,null,null,null,{"$f":"VLOOKUP(Y1035,[1]SRI!$S$4:$Z$368,8,0)","v":0},"","",""]
["50diDD",{"$f":"VLOOKUP($AA1038,DATA!$B$3:$E$6,2,0)","v":"06:30:00"},{"$f":"VLOOKUP($AA1038,DATA!$B$3:$E$6,3,0)","v":"14:30:00"},{"$f":"VLOOKUP($AA1038,DATA!$B$3:$E$6,4,0)","v":3.125E-2},0.30208333333333331,0.30208333333333331,{"$f":"DATA!$C$9","v":0.89},{"$f":"DATA!$C$10","v":64},1,407.8125,407.8125,0,"","",0,"","",0,"","","","",null,{"$f":"X1045","v":50},"2018-12-11",{"$f":"TEXT(Y1038,\"ddd\")","v":"di"},"DD",{"$f":"IFERROR(HLOOKUP(Y1038,[1]DATA!$A$1:$NB$5,3,0),\"\")","v":"D3"},null,null,null,null,{"$f":"VLOOKUP(Y1038,[1]SRI!$S$4:$Z$368,6,0)","v":0},"","",""]
["50diMD",{"$f":"VLOOKUP($AA1039,DATA!$B$3:$E$6,2,0)","v":"14:30:00"},{"$f":"VLOOKUP($AA1039,DATA!$B$3:$E$6,3,0)","v":"22:30:00"},{"$f":"VLOOKUP($AA1039,DATA!$B$3:$E$6,4,0)","v":3.125E-2},0.30208333333333337,0.30208333333333337,{"$f":"DATA!$C$9","v":0.89},{"$f":"DATA!$C$10","v":64},1,407.81250000000006,407.81250000000006,0,"","",0,"","",0,"","","","",null,{"$f":"X1045","v":50},null,{"$f":"TEXT(Y1038,\"ddd\")","v":"di"},"MD",{"$f":"IFERROR(HLOOKUP(Y1038,[1]DATA!$A$1:$NB$5,4,0),\"\")","v":"D2"},null,null,null,null,{"$f":"VLOOKUP(Y1038,[1]SRI!$S$4:$Z$368,7,0)","v":0},"","",""]
["50diND",{"$f":"VLOOKUP($AA1040,DATA!$B$3:$E$6,2,0)","v":"22:30:00"},{"$f":"VLOOKUP($AA1040,DATA!$B$3:$E$6,3,0)","v":"06:30:00"},{"$f":"VLOOKUP($AA1040,DATA!$B$3:$E$6,4,0)","v":3.125E-2},0.30208333333333326,0.30208333333333326,{"$f":"DATA!$C$9","v":0.89},{"$f":"DATA!$C$10","v":64},1,407.81249999999989,407.81249999999989,0,"","",0,"","",0,"","","","",null,{"$f":"X1045","v":50},null,{"$f":"TEXT(Y1038,\"ddd\")","v":"di"},"ND",{"$f":"IFERROR(HLOOKUP(Y1038,[1]DATA!$A$1:$NB$5,5,0),\"\")","v":"D1"},null,null,null,null,{"$f":"VLOOKUP(Y1038,[1]SRI!$S$4:$Z$368,8,0)","v":0},"","",""]
["50woDD",{"$f":"VLOOKUP($AA1041,DATA!$B$3:$E$6,2,0)","v":"06:30:00"},{"$f":"VLOOKUP($AA1041,DATA!$B$3:$E$6,3,0)","v":"14:30:00"},{"$f":"VLOOKUP($AA1041,DATA!$B$3:$E$6,4,0)","v":3.125E-2},0.30208333333333331,0.30208333333333331,{"$f":"DATA!$C$9","v":0.89},{"$f":"DATA!$C$10","v":64},1,407.8125,407.8125,0,"","",0,"","",0,"","","","",null,{"$f":"X1045","v":50},"2018-12-12",{"$f":"TEXT(Y1041,\"ddd\")","v":"wo"},"DD",{"$f":"IFERROR(HLOOKUP(Y1041,[1]DATA!$A$1:$NB$5,3,0),\"\")","v":"D3"},null,null,null,null,{"$f":"VLOOKUP(Y1041,[1]SRI!$S$4:$Z$368,6,0)","v":0},"","",""]
["50woMD",{"$f":"VLOOKUP($AA1042,DATA!$B$3:$E$6,2,0)","v":"14:30:00"},{"$f":"VLOOKUP($AA1042,DATA!$B$3:$E$6,3,0)","v":"22:30:00"},{"$f":"VLOOKUP($AA1042,DATA!$B$3:$E$6,4,0)","v":3.125E-2},0.30208333333333337,0.30208333333333337,{"$f":"DATA!$C$9","v":0.89},{"$f":"DATA!$C$10","v":64},1,407.81250000000006,407.81250000000006,0,"","",0,"","",0,"","","","",null,{"$f":"X1045","v":50},null,{"$f":"TEXT(Y1041,\"ddd\")","v":"wo"},"MD",{"$f":"IFERROR(HLOOKUP(Y1041,[1]DATA!$A$1:$NB$5,4,0),\"\")","v":"D2"},null,null,null,null,{"$f":"VLOOKUP(Y1041,[1]SRI!$S$4:$Z$368,7,0)","v":0},"","",""]
["50woND",{"$f":"VLOOKUP($AA1043,DATA!$B$3:$E$6,2,0)","v":"22:30:00"},{"$f":"VLOOKUP($AA1043,DATA!$B$3:$E$6,3,0)","v":"06:30:00"},{"$f":"VLOOKUP($AA1043,DATA!$B$3:$E$6,4,0)","v":3.125E-2},0.30208333333333326,0.30208333333333326,{"$f":"DATA!$C$9","v":0.89},{"$f":"DATA!$C$10","v":64},1,407.81249999999989,407.81249999999989,0,"","",0,"","",0,"","","","",null,{"$f":"X1045","v":50},null,{"$f":"TEXT(Y1041,\"ddd\")","v":"wo"},"ND",{"$f":"IFERROR(HLOOKUP(Y1041,[1]DATA!$A$1:$NB$5,5,0),\"\")","v":"D1"},null,null,null,null,{"$f":"VLOOKUP(Y1041,[1]SRI!$S$4:$Z$368,8,0)","v":0},"","",""]
["50doDD",{"$f":"VLOOKUP($AA1044,DATA!$B$3:$E$6,2,0)","v":"06:30:00"},{"$f":"VLOOKUP($AA1044,DATA!$B$3:$E$6,3,0)","v":"14:30:00"},{"$f":"VLOOKUP($AA1044,DATA!$B$3:$E$6,4,0)","v":3.125E-2},0.30208333333333331,0.30208333333333331,{"$f":"DATA!$C$9","v":0.89},{"$f":"DATA!$C$10","v":64},1,407.8125,407.8125,0,"","",0,"","",0,"","","","",null,{"$f":"X1045","v":50},"2018-12-13",{"$f":"TEXT(Y1044,\"ddd\")","v":"do"},"DD",{"$f":"IFERROR(HLOOKUP(Y1044,[1]DATA!$A$1:$NB$5,3,0),\"\")","v":"D3"},null,null,null,null,{"$f":"VLOOKUP(Y1044,[1]SRI!$S$4:$Z$368,6,0)","v":0},"","",""]
["50doMD",{"$f":"VLOOKUP($AA1045,DATA!$B$3:$E$6,2,0)","v":"14:30:00"},{"$f":"VLOOKUP($AA1045,DATA!$B$3:$E$6,3,0)","v":"22:30:00"},{"$f":"VLOOKUP($AA1045,DATA!$B$3:$E$6,4,0)","v":3.125E-2},0.30208333333333337,0.30208333333333337,{"$f":"DATA!$C$9","v":0.89},{"$f":"DATA!$C$10","v":64},1,407.81250000000006,407.81250000000006,0,"","",0,"","",0,"","","","",null,{"$f":"WEEKNUM($Y1035)","v":50},null,{"$f":"TEXT(Y1044,\"ddd\")","v":"do"},"MD",{"$f":"IFERROR(HLOOKUP(Y1044,[1]DATA!$A$1:$NB$5,4,0),\"\")","v":"D2"},null,null,null,null,{"$f":"VLOOKUP(Y1044,[1]SRI!$S$4:$Z$368,7,0)","v":0},"","",""]
["50doND",{"$f":"VLOOKUP($AA1046,DATA!$B$3:$E$6,2,0)","v":"22:30:00"},{"$f":"VLOOKUP($AA1046,DATA!$B$3:$E$6,3,0)","v":"06:30:00"},{"$f":"VLOOKUP($AA1046,DATA!$B$3:$E$6,4,0)","v":3.125E-2},0.30208333333333326,0.30208333333333326,{"$f":"DATA!$C$9","v":0.89},{"$f":"DATA!$C$10","v":64},1,407.81249999999989,407.81249999999989,0,"","",0,"","",0,"","","","",null,{"$f":"X1045","v":50},null,{"$f":"TEXT(Y1044,\"ddd\")","v":"do"},"ND",{"$f":"IFERROR(HLOOKUP(Y1044,[1]DATA!$A$1:$NB$5,5,0),\"\")","v":"D1"},null,null,null,null,{"$f":"VLOOKUP(Y1044,[1]SRI!$S$4:$Z$368,8,0)","v":0},"","",""]
["50vrDD",{"$f":"VLOOKUP($AA1047,DATA!$B$3:$E$6,2,0)","v":"06:30:00"},{"$f":"VLOOKUP($AA1047,DATA!$B$3:$E$6,3,0)","v":"14:30:00"},{"$f":"VLOOKUP($AA1047,DATA!$B$3:$E$6,4,0)","v":3.125E-2},0.30208333333333331,0.30208333333333331,{"$f":"DATA!$C$9","v":0.89},{"$f":"DATA!$C$10","v":64},1,407.8125,407.8125,0,"","",0,"","",0,"","","","",null,{"$f":"X1045","v":50},"2018-12-14",{"$f":"TEXT(Y1047,\"ddd\")","v":"vr"},"DD",{"$f":"IFERROR(HLOOKUP(Y1047,[1]DATA!$A$1:$NB$5,3,0),\"\")","v":"D3"},null,null,null,null,{"$f":"VLOOKUP(Y1047,[1]SRI!$S$4:$Z$368,6,0)","v":0},"","",""]
["50vrMD",{"$f":"VLOOKUP($AA1048,DATA!$B$3:$E$6,2,0)","v":"14:30:00"},{"$f":"VLOOKUP($AA1048,DATA!$B$3:$E$6,3,0)","v":"22:30:00"},{"$f":"VLOOKUP($AA1048,DATA!$B$3:$E$6,4,0)","v":3.125E-2},0.30208333333333337,0.30208333333333337,{"$f":"DATA!$C$9","v":0.89},{"$f":"DATA!$C$10","v":64},1,407.81250000000006,407.81250000000006,0,"","",0,"","",0,"","","","",null,{"$f":"X1045","v":50},null,{"$f":"TEXT(Y1047,\"ddd\")","v":"vr"},"MD",{"$f":"IFERROR(HLOOKUP(Y1047,[1]DATA!$A$1:$NB$5,4,0),\"\")","v":"D2"},null,null,null,null,{"$f":"VLOOKUP(Y1047,[1]SRI!$S$4:$Z$368,7,0)","v":0},"","",""]
["50vrND",{"$f":"VLOOKUP($AA1049,DATA!$B$3:$E$6,2,0)","v":"22:30:00"},{"$f":"VLOOKUP($AA1049,DATA!$B$3:$E$6,3,0)","v":"06:30:00"},{"$f":"VLOOKUP($AA1049,DATA!$B$3:$E$6,4,0)","v":3.125E-2},0.30208333333333326,0.30208333333333326,{"$f":"DATA!$C$9","v":0.89},{"$f":"DATA!$C$10","v":64},1,407.81249999999989,407.81249999999989,0,"","",0,"","",0,"","","","",null,{"$f":"X1045","v":50},null,{"$f":"TEXT(Y1047,\"ddd\")","v":"vr"},"ND",{"$f":"IFERROR(HLOOKUP(Y1047,[1]DATA!$A$1:$NB$5,5,0),\"\")","v":"D2"},null,null,null,null,{"$f":"VLOOKUP(Y1047,[1]SRI!$S$4:$Z$368,8,0)","v":0},"","",""]
["50zaDD",{"$f":"VLOOKUP($AA1050,DATA!$B$3:$E$6,2,0)","v":"06:30:00"},{"$f":"VLOOKUP($AA1050,DATA!$B$3:$E$6,3,0)","v":"14:30:00"},{"$f":"VLOOKUP($AA1050,DATA!$B$3:$E$6,4,0)","v":3.125E-2},0.30208333333333331,0.30208333333333331,{"$f":"DATA!$C$9","v":0.89},{"$f":"DATA!$C$10","v":64},1,407.8125,407.8125,0,"","",0,"","",0,"","","","",null,{"$f":"X1045","v":50},"2018-12-15",{"$f":"TEXT(Y1050,\"ddd\")","v":"za"},"DD",{"$f":"IFERROR(HLOOKUP(Y1050,[1]DATA!$A$1:$NB$5,3,0),\"\")","v":"D3"},null,null,null,null,{"$f":"VLOOKUP(Y1050,[1]SRI!$S$4:$Z$368,6,0)","v":0},"","",""]
["50zaMD",{"$f":"VLOOKUP($AA1051,DATA!$B$3:$E$6,2,0)","v":"14:30:00"},{"$f":"VLOOKUP($AA1051,DATA!$B$3:$E$6,3,0)","v":"22:30:00"},{"$f":"VLOOKUP($AA1051,DATA!$B$3:$E$6,4,0)","v":3.125E-2},0.30208333333333337,0.30208333333333337,{"$f":"DATA!$C$9","v":0.89},{"$f":"DATA!$C$10","v":64},1,407.81250000000006,407.81250000000006,0,"","",0,"","",0,"","","","",null,{"$f":"X1045","v":50},null,{"$f":"TEXT(Y1050,\"ddd\")","v":"za"},"MD",{"$f":"IFERROR(HLOOKUP(Y1050,[1]DATA!$A$1:$NB$5,4,0),\"\")","v":"-"},null,null,null,null,{"$f":"VLOOKUP(Y1050,[1]SRI!$S$4:$Z$368,7,0)","v":0},"","",{"$f":"IFERROR(R1051/(R1051+AG1051),\"\")","v":""}]
["50zaND",{"$f":"VLOOKUP($AA1052,DATA!$B$3:$E$6,2,0)","v":"22:30:00"},{"$f":"VLOOKUP($AA1052,DATA!$B$3:$E$6,3,0)","v":"06:30:00"},{"$f":"VLOOKUP($AA1052,DATA!$B$3:$E$6,4,0)","v":3.125E-2},{"$f":"(C1052-B1052+(B1052>C1052))-D1052","v":0.30208333333333326},{"$f":"E1052-O1052-L1052","v":0.30208333333333326},{"$f":"DATA!$C$9","v":0.89},{"$f":"DATA!$C$10","v":64},1,{"$f":"F1052*86400/H1052*I1052","v":407.81249999999989},{"$f":"E1052*86400/H1052","v":407.81249999999989},0,"","",0,"","",{"$f":"AF1052*AG$2","v":0},{"$f":"IF(AF1052-AE1052=0,\"\",AF1052-AE1052)","v":""},"","","",null,{"$f":"X1045","v":50},null,{"$f":"TEXT(Y1050,\"ddd\")","v":"za"},"ND",{"$f":"IFERROR(HLOOKUP(Y1050,[1]DATA!$A$1:$NB$5,5,0),\"\")","v":"-"},null,null,null,null,{"$f":"VLOOKUP(Y1050,[1]SRI!$S$4:$Z$368,8,0)","v":0},"","",""]
["50zoDD",{"$f":"VLOOKUP($AA1053,DATA!$B$3:$E$6,2,0)","v":"06:30:00"},{"$f":"VLOOKUP($AA1053,DATA!$B$3:$E$6,3,0)","v":"14:30:00"},{"$f":"VLOOKUP($AA1053,DATA!$B$3:$E$6,4,0)","v":3.125E-2},0.30208333333333331,0.30208333333333331,{"$f":"DATA!$C$9","v":0.89},{"$f":"DATA!$C$10","v":64},1,407.8125,407.8125,0,"","",0,"","",0,"","","","",null,{"$f":"X1045","v":50},"2018-12-16",{"$f":"TEXT(Y1053,\"ddd\")","v":"zo"},"DD",{"$f":"IFERROR(HLOOKUP(Y1053,[1]DATA!$A$1:$NB$5,3,0),\"\")","v":"-"},null,null,null,null,{"$f":"VLOOKUP(Y1053,[1]SRI!$S$4:$Z$368,6,0)","v":0},"","",""]
["50zoMD",{"$f":"VLOOKUP($AA1054,DATA!$B$3:$E$6,2,0)","v":"14:30:00"},{"$f":"VLOOKUP($AA1054,DATA!$B$3:$E$6,3,0)","v":"22:30:00"},{"$f":"VLOOKUP($AA1054,DATA!$B$3:$E$6,4,0)","v":3.125E-2},0.30208333333333337,0.30208333333333337,{"$f":"DATA!$C$9","v":0.89},{"$f":"DATA!$C$10","v":64},1,407.81250000000006,407.81250000000006,0,"","",0,"","",0,"","","","",null,{"$f":"X1045","v":50},null,{"$f":"TEXT(Y1053,\"ddd\")","v":"zo"},"MD",{"$f":"IFERROR(HLOOKUP(Y1053,[1]DATA!$A$1:$NB$5,4,0),\"\")","v":"-"},null,null,null,null,{"$f":"VLOOKUP(Y1053,[1]SRI!$S$4:$Z$368,7,0)","v":0},"","",""]
["50zoZND",{"$f":"VLOOKUP($AA1055,DATA!$B$3:$E$6,2,0)","v":"00:00:00"},{"$f":"VLOOKUP($AA1055,DATA!$B$3:$E$6,3,0)","v":"00:00:00"},{"$f":"VLOOKUP($AA1055,DATA!$B$3:$E$6,4,0)","v":3.125E-2},-3.125E-2,-3.125E-2,{"$f":"DATA!$C$9","v":0.89},{"$f":"DATA!$C$10","v":64},1,-42.1875,-42.1875,0,"","",0,"","",0,"","","","",null,{"$f":"X1045","v":50},null,{"$f":"TEXT(Y1053,\"ddd\")","v":"zo"},"ZND",{"$f":"IFERROR(HLOOKUP(Y1053,[1]DATA!$A$1:$NB$5,5,0),\"\")","v":"-"},null,null,null,null,{"$f":"VLOOKUP(Y1053,[1]SRI!$S$4:$Z$368,8,0)","v":0},"","",""]
["51maDD",{"$f":"VLOOKUP($AA1056,DATA!$B$3:$E$6,2,0)","v":"06:30:00"},{"$f":"VLOOKUP($AA1056,DATA!$B$3:$E$6,3,0)","v":"14:30:00"},{"$f":"VLOOKUP($AA1056,DATA!$B$3:$E$6,4,0)","v":3.125E-2},0.30208333333333331,0.30208333333333331,{"$f":"DATA!$C$9","v":0.89},{"$f":"DATA!$C$10","v":64},1,407.8125,407.8125,0,"","",{"$f":"TIME(INT($AD1056/60),INT(MOD($AD1056,60)/1),0)","v":0},"","",0,"","","","",null,{"$f":"X1066","v":51},"2018-12-17",{"$f":"TEXT(Y1056,\"ddd\")","v":"ma"},"DD",{"$f":"IFERROR(HLOOKUP(Y1056,[1]DATA!$A$1:$NB$5,3,0),\"\")","v":"D2"},null,null,null,null,{"$f":"VLOOKUP(Y1056,[1]SRI!$S$4:$Z$368,6,0)","v":0},"","","",{"$f":"IF(SUMIF(S1056:S1076,\">0\",K1056:K1076)=0,\"\",SUMIF(S1056:S1076,\">0\",K1056:K1076))","v":""},{"$f":"IF(SUM(S1056:S1076)=0,\"\",SUM(S1056:S1076))","v":""},{"$f":"IFERROR(AL1056/AK1056,\"-\")","v":"-"},{"$f":"IF(SUM(M1056:M1076)=0,\"0\",SUM(M1056:M1076))","v":"0"},{"$f":"IFERROR(AN1056/AK1056,\"-\")","v":"-"},{"$f":"IF(SUM(P1056:P1076)=0,0,SUM(P1056:P1076))","v":0},{"$f":"IFERROR(AP1056/AK1056,\"-\")","v":"-"},{"$f":"IFERROR(AVERAGE(AJ1056:AJ1076),\"-\")","v":"-"},{"$f":"IFERROR(SUMIF($AB1056:$AB1076,AS$5,$AJ1056:$AJ1076)/COUNTIFS($AB1056:$AB1076,AS$5,$AJ1056:$AJ1076,\">0\"),\"\")","v":""},"","",{"$f":"IFERROR((AK1056-AL1056-AN1056-AP1056),\"-\")","v":"-"},{"$f":"IFERROR((1-AM1056-AO1056-AQ1056), \"-\")","v":"-"},{"$f":"IFERROR((AV1056*$AE$2)/60,\"-\")","v":"-"},{"$f":"IFERROR(SUM(AG1056:AG1076),\"\")","v":0}]
["51maMD",{"$f":"VLOOKUP($AA1057,DATA!$B$3:$E$6,2,0)","v":"14:30:00"},{"$f":"VLOOKUP($AA1057,DATA!$B$3:$E$6,3,0)","v":"22:30:00"},{"$f":"VLOOKUP($AA1057,DATA!$B$3:$E$6,4,0)","v":3.125E-2},0.30208333333333337,0.30208333333333337,{"$f":"DATA!$C$9","v":0.89},{"$f":"DATA!$C$10","v":64},1,407.81250000000006,407.81250000000006,0,"","",{"$f":"TIME(INT(AD1057/60),INT(MOD(AD1057,60)/1),0)","v":0},"","",0,"","","","",null,{"$f":"X1066","v":51},null,{"$f":"TEXT(Y1056,\"ddd\")","v":"ma"},"MD",{"$f":"IFERROR(HLOOKUP(Y1056,[1]DATA!$A$1:$NB$5,4,0),\"\")","v":"D1"},null,null,null,null,{"$f":"VLOOKUP(Y1056,[1]SRI!$S$4:$Z$368,7,0)","v":0},"","",""]
["51maND",{"$f":"VLOOKUP($AA1058,DATA!$B$3:$E$6,2,0)","v":"22:30:00"},{"$f":"VLOOKUP($AA1058,DATA!$B$3:$E$6,3,0)","v":"06:30:00"},{"$f":"VLOOKUP($AA1058,DATA!$B$3:$E$6,4,0)","v":3.125E-2},0.30208333333333326,0.30208333333333326,{"$f":"DATA!$C$9","v":0.89},{"$f":"DATA!$C$10","v":64},1,407.81249999999989,407.81249999999989,0,"","",0,"","",0,"","","","",null,{"$f":"X1066","v":51},null,{"$f":"TEXT(Y1056,\"ddd\")","v":"ma"},"ND",{"$f":"IFERROR(HLOOKUP(Y1056,[1]DATA!$A$1:$NB$5,5,0),\"\")","v":"D3"},null,null,null,null,{"$f":"VLOOKUP(Y1056,[1]SRI!$S$4:$Z$368,8,0)","v":0},"","",""]
["51diDD",{"$f":"VLOOKUP($AA1059,DATA!$B$3:$E$6,2,0)","v":"06:30:00"},{"$f":"VLOOKUP($AA1059,DATA!$B$3:$E$6,3,0)","v":"14:30:00"},{"$f":"VLOOKUP($AA1059,DATA!$B$3:$E$6,4,0)","v":3.125E-2},0.30208333333333331,0.30208333333333331,{"$f":"DATA!$C$9","v":0.89},{"$f":"DATA!$C$10","v":64},1,407.8125,407.8125,0,"","",0,"","",0,"","","","",null,{"$f":"X1066","v":51},"2018-12-18",{"$f":"TEXT(Y1059,\"ddd\")","v":"di"},"DD",{"$f":"IFERROR(HLOOKUP(Y1059,[1]DATA!$A$1:$NB$5,3,0),\"\")","v":"D2"},null,null,null,null,{"$f":"VLOOKUP(Y1059,[1]SRI!$S$4:$Z$368,6,0)","v":0},"","",""]
["51diMD",{"$f":"VLOOKUP($AA1060,DATA!$B$3:$E$6,2,0)","v":"14:30:00"},{"$f":"VLOOKUP($AA1060,DATA!$B$3:$E$6,3,0)","v":"22:30:00"},{"$f":"VLOOKUP($AA1060,DATA!$B$3:$E$6,4,0)","v":3.125E-2},0.30208333333333337,0.30208333333333337,{"$f":"DATA!$C$9","v":0.89},{"$f":"DATA!$C$10","v":64},1,407.81250000000006,407.81250000000006,0,"","",0,"","",0,"","","","",null,{"$f":"X1066","v":51},null,{"$f":"TEXT(Y1059,\"ddd\")","v":"di"},"MD",{"$f":"IFERROR(HLOOKUP(Y1059,[1]DATA!$A$1:$NB$5,4,0),\"\")","v":"D1"},null,null,null,null,{"$f":"VLOOKUP(Y1059,[1]SRI!$S$4:$Z$368,7,0)","v":0},"","",""]
["51diND",{"$f":"VLOOKUP($AA1061,DATA!$B$3:$E$6,2,0)","v":"22:30:00"},{"$f":"VLOOKUP($AA1061,DATA!$B$3:$E$6,3,0)","v":"06:30:00"},{"$f":"VLOOKUP($AA1061,DATA!$B$3:$E$6,4,0)","v":3.125E-2},0.30208333333333326,0.30208333333333326,{"$f":"DATA!$C$9","v":0.89},{"$f":"DATA!$C$10","v":64},1,407.81249999999989,407.81249999999989,0,"","",0,"","",0,"","","","",null,{"$f":"X1066","v":51},null,{"$f":"TEXT(Y1059,\"ddd\")","v":"di"},"ND",{"$f":"IFERROR(HLOOKUP(Y1059,[1]DATA!$A$1:$NB$5,5,0),\"\")","v":"D3"},null,null,null,null,{"$f":"VLOOKUP(Y1059,[1]SRI!$S$4:$Z$368,8,0)","v":0},"","",""]
["51woDD",{"$f":"VLOOKUP($AA1062,DATA!$B$3:$E$6,2,0)","v":"06:30:00"},{"$f":"VLOOKUP($AA1062,DATA!$B$3:$E$6,3,0)","v":"14:30:00"},{"$f":"VLOOKUP($AA1062,DATA!$B$3:$E$6,4,0)","v":3.125E-2},0.30208333333333331,0.30208333333333331,{"$f":"DATA!$C$9","v":0.89},{"$f":"DATA!$C$10","v":64},1,407.8125,407.8125,0,"","",0,"","",0,"","","","",null,{"$f":"X1066","v":51},"2018-12-19",{"$f":"TEXT(Y1062,\"ddd\")","v":"wo"},"DD",{"$f":"IFERROR(HLOOKUP(Y1062,[1]DATA!$A$1:$NB$5,3,0),\"\")","v":"D2"},null,null,null,null,{"$f":"VLOOKUP(Y1062,[1]SRI!$S$4:$Z$368,6,0)","v":0},"","",""]
["51woMD",{"$f":"VLOOKUP($AA1063,DATA!$B$3:$E$6,2,0)","v":"14:30:00"},{"$f":"VLOOKUP($AA1063,DATA!$B$3:$E$6,3,0)","v":"22:30:00"},{"$f":"VLOOKUP($AA1063,DATA!$B$3:$E$6,4,0)","v":3.125E-2},0.30208333333333337,0.30208333333333337,{"$f":"DATA!$C$9","v":0.89},{"$f":"DATA!$C$10","v":64},1,407.81250000000006,407.81250000000006,0,"","",0,"","",0,"","","","",null,{"$f":"X1066","v":51},null,{"$f":"TEXT(Y1062,\"ddd\")","v":"wo"},"MD",{"$f":"IFERROR(HLOOKUP(Y1062,[1]DATA!$A$1:$NB$5,4,0),\"\")","v":"D1"},null,null,null,null,{"$f":"VLOOKUP(Y1062,[1]SRI!$S$4:$Z$368,7,0)","v":0},"","",""]
["51woND",{"$f":"VLOOKUP($AA1064,DATA!$B$3:$E$6,2,0)","v":"22:30:00"},{"$f":"VLOOKUP($AA1064,DATA!$B$3:$E$6,3,0)","v":"06:30:00"},{"$f":"VLOOKUP($AA1064,DATA!$B$3:$E$6,4,0)","v":3.125E-2},0.30208333333333326,0.30208333333333326,{"$f":"DATA!$C$9","v":0.89},{"$f":"DATA!$C$10","v":64},1,407.81249999999989,407.81249999999989,0,"","",0,"","",0,"","","","",null,{"$f":"X1066","v":51},null,{"$f":"TEXT(Y1062,\"ddd\")","v":"wo"},"ND",{"$f":"IFERROR(HLOOKUP(Y1062,[1]DATA!$A$1:$NB$5,5,0),\"\")","v":"D3"},null,null,null,null,{"$f":"VLOOKUP(Y1062,[1]SRI!$S$4:$Z$368,8,0)","v":0},"","",""]
["51doDD",{"$f":"VLOOKUP($AA1065,DATA!$B$3:$E$6,2,0)","v":"06:30:00"},{"$f":"VLOOKUP($AA1065,DATA!$B$3:$E$6,3,0)","v":"14:30:00"},{"$f":"VLOOKUP($AA1065,DATA!$B$3:$E$6,4,0)","v":3.125E-2},0.30208333333333331,0.30208333333333331,{"$f":"DATA!$C$9","v":0.89},{"$f":"DATA!$C$10","v":64},1,407.8125,407.8125,0,"","",0,"","",0,"","","","",null,{"$f":"X1066","v":51},"2018-12-20",{"$f":"TEXT(Y1065,\"ddd\")","v":"do"},"DD",{"$f":"IFERROR(HLOOKUP(Y1065,[1]DATA!$A$1:$NB$5,3,0),\"\")","v":"D2"},null,null,null,null,{"$f":"VLOOKUP(Y1065,[1]SRI!$S$4:$Z$368,6,0)","v":0},"","",""]
["51doMD",{"$f":"VLOOKUP($AA1066,DATA!$B$3:$E$6,2,0)","v":"14:30:00"},{"$f":"VLOOKUP($AA1066,DATA!$B$3:$E$6,3,0)","v":"22:30:00"},{"$f":"VLOOKUP($AA1066,DATA!$B$3:$E$6,4,0)","v":3.125E-2},0.30208333333333337,0.30208333333333337,{"$f":"DATA!$C$9","v":0.89},{"$f":"DATA!$C$10","v":64},1,407.81250000000006,407.81250000000006,0,"","",0,"","",0,"","","","",null,{"$f":"WEEKNUM($Y1056)","v":51},null,{"$f":"TEXT(Y1065,\"ddd\")","v":"do"},"MD",{"$f":"IFERROR(HLOOKUP(Y1065,[1]DATA!$A$1:$NB$5,4,0),\"\")","v":"D1"},null,null,null,null,{"$f":"VLOOKUP(Y1065,[1]SRI!$S$4:$Z$368,7,0)","v":0},"","",""]
["51doND",{"$f":"VLOOKUP($AA1067,DATA!$B$3:$E$6,2,0)","v":"22:30:00"},{"$f":"VLOOKUP($AA1067,DATA!$B$3:$E$6,3,0)","v":"06:30:00"},{"$f":"VLOOKUP($AA1067,DATA!$B$3:$E$6,4,0)","v":3.125E-2},0.30208333333333326,0.30208333333333326,{"$f":"DATA!$C$9","v":0.89},{"$f":"DATA!$C$10","v":64},1,407.81249999999989,407.81249999999989,0,"","",0,"","",0,"","","","",null,{"$f":"X1066","v":51},null,{"$f":"TEXT(Y1065,\"ddd\")","v":"do"},"ND",{"$f":"IFERROR(HLOOKUP(Y1065,[1]DATA!$A$1:$NB$5,5,0),\"\")","v":"D3"},null,null,null,null,{"$f":"VLOOKUP(Y1065,[1]SRI!$S$4:$Z$368,8,0)","v":0},"","",""]
["51vrDD",{"$f":"VLOOKUP($AA1068,DATA!$B$3:$E$6,2,0)","v":"06:30:00"},{"$f":"VLOOKUP($AA1068,DATA!$B$3:$E$6,3,0)","v":"14:30:00"},{"$f":"VLOOKUP($AA1068,DATA!$B$3:$E$6,4,0)","v":3.125E-2},0.30208333333333331,0.30208333333333331,{"$f":"DATA!$C$9","v":0.89},{"$f":"DATA!$C$10","v":64},1,407.8125,407.8125,0,"","",0,"","",0,"","","","",null,{"$f":"X1066","v":51},"2018-12-21",{"$f":"TEXT(Y1068,\"ddd\")","v":"vr"},"DD",{"$f":"IFERROR(HLOOKUP(Y1068,[1]DATA!$A$1:$NB$5,3,0),\"\")","v":"D2"},null,null,null,null,{"$f":"VLOOKUP(Y1068,[1]SRI!$S$4:$Z$368,6,0)","v":0},"","",""]
["51vrMD",{"$f":"VLOOKUP($AA1069,DATA!$B$3:$E$6,2,0)","v":"14:30:00"},{"$f":"VLOOKUP($AA1069,DATA!$B$3:$E$6,3,0)","v":"22:30:00"},{"$f":"VLOOKUP($AA1069,DATA!$B$3:$E$6,4,0)","v":3.125E-2},0.30208333333333337,0.30208333333333337,{"$f":"DATA!$C$9","v":0.89},{"$f":"DATA!$C$10","v":64},1,407.81250000000006,407.81250000000006,0,"","",0,"","",0,"","","","",null,{"$f":"X1066","v":51},null,{"$f":"TEXT(Y1068,\"ddd\")","v":"vr"},"MD",{"$f":"IFERROR(HLOOKUP(Y1068,[1]DATA!$A$1:$NB$5,4,0),\"\")","v":"D1"},null,null,null,null,{"$f":"VLOOKUP(Y1068,[1]SRI!$S$4:$Z$368,7,0)","v":0},"","",""]
["51vrND",{"$f":"VLOOKUP($AA1070,DATA!$B$3:$E$6,2,0)","v":"22:30:00"},{"$f":"VLOOKUP($AA1070,DATA!$B$3:$E$6,3,0)","v":"06:30:00"},{"$f":"VLOOKUP($AA1070,DATA!$B$3:$E$6,4,0)","v":3.125E-2},0.30208333333333326,0.30208333333333326,{"$f":"DATA!$C$9","v":0.89},{"$f":"DATA!$C$10","v":64},1,407.81249999999989,407.81249999999989,0,"","",0,"","",0,"","","","",null,{"$f":"X1066","v":51},null,{"$f":"TEXT(Y1068,\"ddd\")","v":"vr"},"ND",{"$f":"IFERROR(HLOOKUP(Y1068,[1]DATA!$A$1:$NB$5,5,0),\"\")","v":"D3"},null,null,null,null,{"$f":"VLOOKUP(Y1068,[1]SRI!$S$4:$Z$368,8,0)","v":0},"","",""]
["51zaDD",{"$f":"VLOOKUP($AA1071,DATA!$B$3:$E$6,2,0)","v":"06:30:00"},{"$f":"VLOOKUP($AA1071,DATA!$B$3:$E$6,3,0)","v":"14:30:00"},{"$f":"VLOOKUP($AA1071,DATA!$B$3:$E$6,4,0)","v":3.125E-2},0.30208333333333331,0.30208333333333331,{"$f":"DATA!$C$9","v":0.89},{"$f":"DATA!$C$10","v":64},1,407.8125,407.8125,0,"","",0,"","",0,"","","","",null,{"$f":"X1066","v":51},"2018-12-22",{"$f":"TEXT(Y1071,\"ddd\")","v":"za"},"DD",{"$f":"IFERROR(HLOOKUP(Y1071,[1]DATA!$A$1:$NB$5,3,0),\"\")","v":"D2"},null,null,null,null,{"$f":"VLOOKUP(Y1071,[1]SRI!$S$4:$Z$368,6,0)","v":0},"","",""]
[{"$f":"X1072&Z1072&AA1072","v":"51zaMD"},{"$f":"VLOOKUP($AA1072,DATA!$B$3:$E$6,2,0)","v":"14:30:00"},{"$f":"VLOOKUP($AA1072,DATA!$B$3:$E$6,3,0)","v":"22:30:00"},{"$f":"VLOOKUP($AA1072,DATA!$B$3:$E$6,4,0)","v":3.125E-2},0.30208333333333337,0.30208333333333337,{"$f":"DATA!$C$9","v":0.89},{"$f":"DATA!$C$10","v":64},1,407.81250000000006,407.81250000000006,0,"","",0,{"$f":"IF($O1072*86400/$H1072=0,\"\",$O1072*86400/$H1072)","v":""},"",0,"","","","",null,{"$f":"X1066","v":51},null,{"$f":"TEXT(Y1071,\"ddd\")","v":"za"},"MD",{"$f":"IFERROR(HLOOKUP(Y1071,[1]DATA!$A$1:$NB$5,4,0),\"\")","v":"-"},null,null,null,null,{"$f":"VLOOKUP(Y1071,[1]SRI!$S$4:$Z$368,7,0)","v":0},"","",""]
["51zaND",{"$f":"VLOOKUP($AA1073,DATA!$B$3:$E$6,2,0)","v":"22:30:00"},{"$f":"VLOOKUP($AA1073,DATA!$B$3:$E$6,3,0)","v":"06:30:00"},{"$f":"VLOOKUP($AA1073,DATA!$B$3:$E$6,4,0)","v":3.125E-2},0.30208333333333326,0.30208333333333326,{"$f":"DATA!$C$9","v":0.89},{"$f":"DATA!$C$10","v":64},1,407.81249999999989,407.81249999999989,0,"","",0,"","",0,"","","","",null,{"$f":"X1066","v":51},null,{"$f":"TEXT(Y1071,\"ddd\")","v":"za"},"ND",{"$f":"IFERROR(HLOOKUP(Y1071,[1]DATA!$A$1:$NB$5,5,0),\"\")","v":"-"},null,null,null,null,{"$f":"VLOOKUP(Y1071,[1]SRI!$S$4:$Z$368,8,0)","v":0},"","",""]
["51zoDD",{"$f":"VLOOKUP($AA1074,DATA!$B$3:$E$6,2,0)","v":"06:30:00"},{"$f":"VLOOKUP($AA1074,DATA!$B$3:$E$6,3,0)","v":"14:30:00"},{"$f":"VLOOKUP($AA1074,DATA!$B$3:$E$6,4,0)","v":3.125E-2},0.30208333333333331,0.30208333333333331,{"$f":"DATA!$C$9","v":0.89},{"$f":"DATA!$C$10","v":64},1,407.8125,407.8125,0,"","",0,"","",0,"","","","",null,{"$f":"X1066","v":51},"2018-12-23",{"$f":"TEXT(Y1074,\"ddd\")","v":"zo"},"DD",{"$f":"IFERROR(HLOOKUP(Y1074,[1]DATA!$A$1:$NB$5,3,0),\"\")","v":"-"},null,null,null,null,{"$f":"VLOOKUP(Y1074,[1]SRI!$S$4:$Z$368,6,0)","v":0},"","",""]
["51zoMD",{"$f":"VLOOKUP($AA1075,DATA!$B$3:$E$6,2,0)","v":"14:30:00"},{"$f":"VLOOKUP($AA1075,DATA!$B$3:$E$6,3,0)","v":"22:30:00"},{"$f":"VLOOKUP($AA1075,DATA!$B$3:$E$6,4,0)","v":3.125E-2},0.30208333333333337,0.30208333333333337,{"$f":"DATA!$C$9","v":0.89},{"$f":"DATA!$C$10","v":64},1,407.81250000000006,407.81250000000006,0,"","",0,"","",0,"","","","",null,{"$f":"X1066","v":51},null,{"$f":"TEXT(Y1074,\"ddd\")","v":"zo"},"MD",{"$f":"IFERROR(HLOOKUP(Y1074,[1]DATA!$A$1:$NB$5,4,0),\"\")","v":"-"},null,null,null,null,{"$f":"VLOOKUP(Y1074,[1]SRI!$S$4:$Z$368,7,0)","v":0},"","",""]
["51zoZND",{"$f":"VLOOKUP($AA1076,DATA!$B$3:$E$6,2,0)","v":"00:00:00"},{"$f":"VLOOKUP($AA1076,DATA!$B$3:$E$6,3,0)","v":"00:00:00"},{"$f":"VLOOKUP($AA1076,DATA!$B$3:$E$6,4,0)","v":3.125E-2},-3.125E-2,-3.125E-2,{"$f":"DATA!$C$9","v":0.89},{"$f":"DATA!$C$10","v":64},1,-42.1875,-42.1875,0,"","",0,"","",0,"","","","",null,{"$f":"X1066","v":51},null,{"$f":"TEXT(Y1074,\"ddd\")","v":"zo"},"ZND",{"$f":"IFERROR(HLOOKUP(Y1074,[1]DATA!$A$1:$NB$5,5,0),\"\")","v":"-"},null,null,null,null,{"$f":"VLOOKUP(Y1074,[1]SRI!$S$4:$Z$368,8,0)","v":0},"","",""]
["52maDD",{"$f":"VLOOKUP($AA1077,DATA!$B$3:$E$6,2,0)","v":"06:30:00"},{"$f":"VLOOKUP($AA1077,DATA!$B$3:$E$6,3,0)","v":"14:30:00"},{"$f":"VLOOKUP($AA1077,DATA!$B$3:$E$6,4,0)","v":3.125E-2},0.30208333333333331,0.30208333333333331,{"$f":"DATA!$C$9","v":0.89},{"$f":"DATA!$C$10","v":64},1,407.8125,407.8125,0,"","",{"$f":"TIME(INT($AD1077/60),INT(MOD($AD1077,60)/1),0)","v":0},"","",0,"","","","",null,{"$f":"X1087","v":52},"2018-12-24",{"$f":"TEXT(Y1077,\"ddd\")","v":"ma"},"DD",{"$f":"IFERROR(HLOOKUP(Y1077,[1]DATA!$A$1:$NB$5,3,0),\"\")","v":"D1"},null,null,null,null,{"$f":"VLOOKUP(Y1077,[1]SRI!$S$4:$Z$368,6,0)","v":0},"","","",{"$f":"IF(SUMIF(S1077:S1097,\">0\",K1077:K1097)=0,\"\",SUMIF(S1077:S1097,\">0\",K1077:K1097))","v":""},{"$f":"IF(SUM(S1077:S1097)=0,\"\",SUM(S1077:S1097))","v":""},{"$f":"IFERROR(AL1077/AK1077,\"-\")","v":"-"},{"$f":"IF(SUM(M1077:M1097)=0,\"0\",SUM(M1077:M1097))","v":"0"},{"$f":"IFERROR(AN1077/AK1077,\"-\")","v":"-"},{"$f":"IF(SUM(P1077:P1097)=0,0,SUM(P1077:P1097))","v":0},{"$f":"IFERROR(AP1077/AK1077,\"-\")","v":"-"},"-",{"$f":"IFERROR(SUMIF($AB1077:$AB1097,AS$5,$AJ1077:$AJ1097)/COUNTIFS($AB1077:$AB1097,AS$5,$AJ1077:$AJ1097,\">0\"),\"\")","v":""},"","",{"$f":"IFERROR((AK1077-AL1077-AN1077-AP1077),\"-\")","v":"-"},{"$f":"IFERROR((1-AM1077-AO1077-AQ1077), \"-\")","v":"-"},{"$f":"IFERROR((AV1077*$AE$2)/60,\"-\")","v":"-"},{"$f":"IFERROR(SUM(AG1077:AG1097),\"\")","v":0}]
["52maMD",{"$f":"VLOOKUP($AA1078,DATA!$B$3:$E$6,2,0)","v":"14:30:00"},{"$f":"VLOOKUP($AA1078,DATA!$B$3:$E$6,3,0)","v":"22:30:00"},{"$f":"VLOOKUP($AA1078,DATA!$B$3:$E$6,4,0)","v":3.125E-2},0.30208333333333337,0.30208333333333337,{"$f":"DATA!$C$9","v":0.89},{"$f":"DATA!$C$10","v":64},1,407.81250000000006,407.81250000000006,0,"","",{"$f":"TIME(INT(AD1078/60),INT(MOD(AD1078,60)/1),0)","v":0},"","",0,"","","","",null,{"$f":"X1087","v":52},null,{"$f":"TEXT(Y1077,\"ddd\")","v":"ma"},"MD",{"$f":"IFERROR(HLOOKUP(Y1077,[1]DATA!$A$1:$NB$5,4,0),\"\")","v":"D3"},null,null,null,null,{"$f":"VLOOKUP(Y1077,[1]SRI!$S$4:$Z$368,7,0)","v":0},"","",""]
["52maND",{"$f":"VLOOKUP($AA1079,DATA!$B$3:$E$6,2,0)","v":"22:30:00"},{"$f":"VLOOKUP($AA1079,DATA!$B$3:$E$6,3,0)","v":"06:30:00"},{"$f":"VLOOKUP($AA1079,DATA!$B$3:$E$6,4,0)","v":3.125E-2},0.30208333333333326,0.30208333333333326,{"$f":"DATA!$C$9","v":0.89},{"$f":"DATA!$C$10","v":64},1,407.81249999999989,407.81249999999989,0,"","",0,"","",0,"","","","",null,{"$f":"X1087","v":52},null,{"$f":"TEXT(Y1077,\"ddd\")","v":"ma"},"ND",{"$f":"IFERROR(HLOOKUP(Y1077,[1]DATA!$A$1:$NB$5,5,0),\"\")","v":"D2"},null,null,null,null,{"$f":"VLOOKUP(Y1077,[1]SRI!$S$4:$Z$368,8,0)","v":0},"","",""]
["52diDD",{"$f":"VLOOKUP($AA1080,DATA!$B$3:$E$6,2,0)","v":"06:30:00"},{"$f":"VLOOKUP($AA1080,DATA!$B$3:$E$6,3,0)","v":"14:30:00"},{"$f":"VLOOKUP($AA1080,DATA!$B$3:$E$6,4,0)","v":3.125E-2},0.30208333333333331,0.30208333333333331,{"$f":"DATA!$C$9","v":0.89},{"$f":"DATA!$C$10","v":64},1,407.8125,407.8125,0,"","",0,"","",0,"","","","",null,{"$f":"X1087","v":52},"2018-12-25",{"$f":"TEXT(Y1080,\"ddd\")","v":"di"},"DD",{"$f":"IFERROR(HLOOKUP(Y1080,[1]DATA!$A$1:$NB$5,3,0),\"\")","v":"D1"},null,null,null,null,{"$f":"VLOOKUP(Y1080,[1]SRI!$S$4:$Z$368,6,0)","v":0},"","",""]
["52diMD",{"$f":"VLOOKUP($AA1081,DATA!$B$3:$E$6,2,0)","v":"14:30:00"},{"$f":"VLOOKUP($AA1081,DATA!$B$3:$E$6,3,0)","v":"22:30:00"},{"$f":"VLOOKUP($AA1081,DATA!$B$3:$E$6,4,0)","v":3.125E-2},0.30208333333333337,0.30208333333333337,{"$f":"DATA!$C$9","v":0.89},{"$f":"DATA!$C$10","v":64},1,407.81250000000006,407.81250000000006,0,"","",0,"","",0,"","","","",null,{"$f":"X1087","v":52},null,{"$f":"TEXT(Y1080,\"ddd\")","v":"di"},"MD",{"$f":"IFERROR(HLOOKUP(Y1080,[1]DATA!$A$1:$NB$5,4,0),\"\")","v":"D3"},null,null,null,null,{"$f":"VLOOKUP(Y1080,[1]SRI!$S$4:$Z$368,7,0)","v":0},"","",""]
["52diND",{"$f":"VLOOKUP($AA1082,DATA!$B$3:$E$6,2,0)","v":"22:30:00"},{"$f":"VLOOKUP($AA1082,DATA!$B$3:$E$6,3,0)","v":"06:30:00"},{"$f":"VLOOKUP($AA1082,DATA!$B$3:$E$6,4,0)","v":3.125E-2},0.30208333333333326,0.30208333333333326,{"$f":"DATA!$C$9","v":0.89},{"$f":"DATA!$C$10","v":64},1,407.81249999999989,407.81249999999989,0,"","",0,"","",0,"","","","",null,{"$f":"X1087","v":52},null,{"$f":"TEXT(Y1080,\"ddd\")","v":"di"},"ND",{"$f":"IFERROR(HLOOKUP(Y1080,[1]DATA!$A$1:$NB$5,5,0),\"\")","v":"D2"},null,null,null,null,{"$f":"VLOOKUP(Y1080,[1]SRI!$S$4:$Z$368,8,0)","v":0},"","",""]
["52woDD",{"$f":"VLOOKUP($AA1083,DATA!$B$3:$E$6,2,0)","v":"06:30:00"},{"$f":"VLOOKUP($AA1083,DATA!$B$3:$E$6,3,0)","v":"14:30:00"},{"$f":"VLOOKUP($AA1083,DATA!$B$3:$E$6,4,0)","v":3.125E-2},0.30208333333333331,0.30208333333333331,{"$f":"DATA!$C$9","v":0.89},{"$f":"DATA!$C$10","v":64},1,407.8125,407.8125,0,"","",0,"","",0,"","","","",null,{"$f":"X1087","v":52},"2018-12-26",{"$f":"TEXT(Y1083,\"ddd\")","v":"wo"},"DD",{"$f":"IFERROR(HLOOKUP(Y1083,[1]DATA!$A$1:$NB$5,3,0),\"\")","v":"D1"},null,null,null,null,{"$f":"VLOOKUP(Y1083,[1]SRI!$S$4:$Z$368,6,0)","v":0},"","",""]
["52woMD",{"$f":"VLOOKUP($AA1084,DATA!$B$3:$E$6,2,0)","v":"14:30:00"},{"$f":"VLOOKUP($AA1084,DATA!$B$3:$E$6,3,0)","v":"22:30:00"},{"$f":"VLOOKUP($AA1084,DATA!$B$3:$E$6,4,0)","v":3.125E-2},0.30208333333333337,0.30208333333333337,{"$f":"DATA!$C$9","v":0.89},{"$f":"DATA!$C$10","v":64},1,407.81250000000006,407.81250000000006,0,"","",0,"","",0,"","","","",null,{"$f":"X1087","v":52},null,{"$f":"TEXT(Y1083,\"ddd\")","v":"wo"},"MD",{"$f":"IFERROR(HLOOKUP(Y1083,[1]DATA!$A$1:$NB$5,4,0),\"\")","v":"D3"},null,null,null,null,{"$f":"VLOOKUP(Y1083,[1]SRI!$S$4:$Z$368,7,0)","v":0},"","",""]
["52woND",{"$f":"VLOOKUP($AA1085,DATA!$B$3:$E$6,2,0)","v":"22:30:00"},{"$f":"VLOOKUP($AA1085,DATA!$B$3:$E$6,3,0)","v":"06:30:00"},{"$f":"VLOOKUP($AA1085,DATA!$B$3:$E$6,4,0)","v":3.125E-2},0.30208333333333326,0.30208333333333326,{"$f":"DATA!$C$9","v":0.89},{"$f":"DATA!$C$10","v":64},1,407.81249999999989,407.81249999999989,0,"","",0,"","",0,"","","","",null,{"$f":"X1087","v":52},null,{"$f":"TEXT(Y1083,\"ddd\")","v":"wo"},"ND",{"$f":"IFERROR(HLOOKUP(Y1083,[1]DATA!$A$1:$NB$5,5,0),\"\")","v":"D2"},null,null,null,null,{"$f":"VLOOKUP(Y1083,[1]SRI!$S$4:$Z$368,8,0)","v":0},"","",""]
["52doDD",{"$f":"VLOOKUP($AA1086,DATA!$B$3:$E$6,2,0)","v":"06:30:00"},{"$f":"VLOOKUP($AA1086,DATA!$B$3:$E$6,3,0)","v":"14:30:00"},{"$f":"VLOOKUP($AA1086,DATA!$B$3:$E$6,4,0)","v":3.125E-2},0.30208333333333331,0.30208333333333331,{"$f":"DATA!$C$9","v":0.89},{"$f":"DATA!$C$10","v":64},1,407.8125,407.8125,0,"","",0,"","",0,"","","","",null,{"$f":"X1087","v":52},"2018-12-27",{"$f":"TEXT(Y1086,\"ddd\")","v":"do"},"DD",{"$f":"IFERROR(HLOOKUP(Y1086,[1]DATA!$A$1:$NB$5,3,0),\"\")","v":"D1"},null,null,null,null,{"$f":"VLOOKUP(Y1086,[1]SRI!$S$4:$Z$368,6,0)","v":0},"","",""]
["52doMD",{"$f":"VLOOKUP($AA1087,DATA!$B$3:$E$6,2,0)","v":"14:30:00"},{"$f":"VLOOKUP($AA1087,DATA!$B$3:$E$6,3,0)","v":"22:30:00"},{"$f":"VLOOKUP($AA1087,DATA!$B$3:$E$6,4,0)","v":3.125E-2},0.30208333333333337,0.30208333333333337,{"$f":"DATA!$C$9","v":0.89},{"$f":"DATA!$C$10","v":64},1,407.81250000000006,407.81250000000006,0,"","",0,"","",0,"","","","",null,{"$f":"WEEKNUM($Y1077)","v":52},null,{"$f":"TEXT(Y1086,\"ddd\")","v":"do"},"MD",{"$f":"IFERROR(HLOOKUP(Y1086,[1]DATA!$A$1:$NB$5,4,0),\"\")","v":"D3"},null,null,null,null,{"$f":"VLOOKUP(Y1086,[1]SRI!$S$4:$Z$368,7,0)","v":0},"","",""]
["52doND",{"$f":"VLOOKUP($AA1088,DATA!$B$3:$E$6,2,0)","v":"22:30:00"},{"$f":"VLOOKUP($AA1088,DATA!$B$3:$E$6,3,0)","v":"06:30:00"},{"$f":"VLOOKUP($AA1088,DATA!$B$3:$E$6,4,0)","v":3.125E-2},0.30208333333333326,0.30208333333333326,{"$f":"DATA!$C$9","v":0.89},{"$f":"DATA!$C$10","v":64},1,407.81249999999989,407.81249999999989,0,"","",0,"","",0,"","","","",null,{"$f":"X1087","v":52},null,{"$f":"TEXT(Y1086,\"ddd\")","v":"do"},"ND",{"$f":"IFERROR(HLOOKUP(Y1086,[1]DATA!$A$1:$NB$5,5,0),\"\")","v":"D2"},null,null,null,null,{"$f":"VLOOKUP(Y1086,[1]SRI!$S$4:$Z$368,8,0)","v":0},"","",""]
["52vrDD",{"$f":"VLOOKUP($AA1089,DATA!$B$3:$E$6,2,0)","v":"06:30:00"},{"$f":"VLOOKUP($AA1089,DATA!$B$3:$E$6,3,0)","v":"14:30:00"},{"$f":"VLOOKUP($AA1089,DATA!$B$3:$E$6,4,0)","v":3.125E-2},0.30208333333333331,0.30208333333333331,{"$f":"DATA!$C$9","v":0.89},{"$f":"DATA!$C$10","v":64},1,407.8125,407.8125,0,"","",0,"","",0,"","","","",null,{"$f":"X1087","v":52},{"$f":"Y1086+1","v":"2018-12-28"},{"$f":"TEXT(Y1089,\"ddd\")","v":"vr"},"DD",{"$f":"IFERROR(HLOOKUP(Y1089,[1]DATA!$A$1:$NB$5,3,0),\"\")","v":"D1"},null,null,null,null,{"$f":"VLOOKUP(Y1089,[1]SRI!$S$4:$Z$368,6,0)","v":0},"","",""]
["52vrMD",{"$f":"VLOOKUP($AA1090,DATA!$B$3:$E$6,2,0)","v":"14:30:00"},{"$f":"VLOOKUP($AA1090,DATA!$B$3:$E$6,3,0)","v":"22:30:00"},{"$f":"VLOOKUP($AA1090,DATA!$B$3:$E$6,4,0)","v":3.125E-2},0.30208333333333337,0.30208333333333337,{"$f":"DATA!$C$9","v":0.89},{"$f":"DATA!$C$10","v":64},1,407.81250000000006,407.81250000000006,0,"","",0,"","",0,"","","","",null,{"$f":"X1087","v":52},null,{"$f":"TEXT(Y1089,\"ddd\")","v":"vr"},"MD",{"$f":"IFERROR(HLOOKUP(Y1089,[1]DATA!$A$1:$NB$5,4,0),\"\")","v":"D3"},null,null,null,null,{"$f":"VLOOKUP(Y1089,[1]SRI!$S$4:$Z$368,7,0)","v":0},"","",""]
["52vrND",{"$f":"VLOOKUP($AA1091,DATA!$B$3:$E$6,2,0)","v":"22:30:00"},{"$f":"VLOOKUP($AA1091,DATA!$B$3:$E$6,3,0)","v":"06:30:00"},{"$f":"VLOOKUP($AA1091,DATA!$B$3:$E$6,4,0)","v":3.125E-2},0.30208333333333326,0.30208333333333326,{"$f":"DATA!$C$9","v":0.89},{"$f":"DATA!$C$10","v":64},1,407.81249999999989,407.81249999999989,0,"","",0,"","",0,"","","","",null,{"$f":"X1087","v":52},null,{"$f":"TEXT(Y1089,\"ddd\")","v":"vr"},"ND",{"$f":"IFERROR(HLOOKUP(Y1089,[1]DATA!$A$1:$NB$5,5,0),\"\")","v":"D2"},null,null,null,null,{"$f":"VLOOKUP(Y1089,[1]SRI!$S$4:$Z$368,8,0)","v":0},"","",""]
["52zaDD",{"$f":"VLOOKUP($AA1092,DATA!$B$3:$E$6,2,0)","v":"06:30:00"},{"$f":"VLOOKUP($AA1092,DATA!$B$3:$E$6,3,0)","v":"14:30:00"},{"$f":"VLOOKUP($AA1092,DATA!$B$3:$E$6,4,0)","v":3.125E-2},0.30208333333333331,0.30208333333333331,{"$f":"DATA!$C$9","v":0.89},{"$f":"DATA!$C$10","v":64},1,407.8125,407.8125,0,"","",0,"","",0,"","","","",null,{"$f":"X1087","v":52},"2018-12-29",{"$f":"TEXT(Y1092,\"ddd\")","v":"za"},"DD",{"$f":"IFERROR(HLOOKUP(Y1092,[1]DATA!$A$1:$NB$5,3,0),\"\")","v":"D1"},null,null,null,null,{"$f":"VLOOKUP(Y1092,[1]SRI!$S$4:$Z$368,6,0)","v":0},"","",""]
["52zaMD",{"$f":"VLOOKUP($AA1093,DATA!$B$3:$E$6,2,0)","v":"14:30:00"},{"$f":"VLOOKUP($AA1093,DATA!$B$3:$E$6,3,0)","v":"22:30:00"},{"$f":"VLOOKUP($AA1093,DATA!$B$3:$E$6,4,0)","v":3.125E-2},0.30208333333333337,0.30208333333333337,{"$f":"DATA!$C$9","v":0.89},{"$f":"DATA!$C$10","v":64},1,407.81250000000006,407.81250000000006,0,"","",0,"","",0,"","","","",null,{"$f":"X1087","v":52},null,{"$f":"TEXT(Y1092,\"ddd\")","v":"za"},"MD",{"$f":"IFERROR(HLOOKUP(Y1092,[1]DATA!$A$1:$NB$5,4,0),\"\")","v":"-"},null,null,null,null,{"$f":"VLOOKUP(Y1092,[1]SRI!$S$4:$Z$368,7,0)","v":0},"","",""]
["52zaND",{"$f":"VLOOKUP($AA1094,DATA!$B$3:$E$6,2,0)","v":"22:30:00"},{"$f":"VLOOKUP($AA1094,DATA!$B$3:$E$6,3,0)","v":"06:30:00"},{"$f":"VLOOKUP($AA1094,DATA!$B$3:$E$6,4,0)","v":3.125E-2},0.30208333333333326,0.30208333333333326,{"$f":"DATA!$C$9","v":0.89},{"$f":"DATA!$C$10","v":64},1,407.81249999999989,407.81249999999989,0,"","",0,"","",0,"","","","",null,{"$f":"X1087","v":52},null,{"$f":"TEXT(Y1092,\"ddd\")","v":"za"},"ND",{"$f":"IFERROR(HLOOKUP(Y1092,[1]DATA!$A$1:$NB$5,5,0),\"\")","v":"-"},null,null,null,null,{"$f":"VLOOKUP(Y1092,[1]SRI!$S$4:$Z$368,8,0)","v":0},{"$f":"IFERROR(S1094-J1094,\"\")","v":""},{"$f":"IFERROR(IF(S1094/(E1094*86400/H1094)<=0,\"\",S1094/(E1094*86400/H1094)),\"\")","v":""},""]
["52zoDD",{"$f":"VLOOKUP($AA1095,DATA!$B$3:$E$6,2,0)","v":"06:30:00"},{"$f":"VLOOKUP($AA1095,DATA!$B$3:$E$6,3,0)","v":"14:30:00"},{"$f":"VLOOKUP($AA1095,DATA!$B$3:$E$6,4,0)","v":3.125E-2},0.30208333333333331,0.30208333333333331,{"$f":"DATA!$C$9","v":0.89},{"$f":"DATA!$C$10","v":64},1,407.8125,407.8125,{"$f":"TIME(INT($AC1095/60),INT(MOD($AC1095,60)/1),0)","v":0},{"$f":"IF($L1095*86400/$H1095=0,\"\",$L1095*86400/$H1095)","v":""},{"$f":"IFERROR($M1095/$K1095,\"\")","v":""},0,"",{"$f":"IFERROR($P1095/$K1095,\"\")","v":""},0,"",{"$f":"IF(IF($AB1095=\"D1\",$S1095,\"\")=0,\"\",IF($AB1095=\"D1\",$S1095,\"\"))","v":""},{"$f":"IF(IF($AB1095=\"D2\",$S1095,\"\")=0,\"\",IF($AB1095=\"D2\",$S1095,\"\"))","v":""},{"$f":"IF(IF($AB1095=\"D3\",$S1095,\"\")=0,\"\",IF($AB1095=\"D3\",$S1095,\"\"))","v":""},null,{"$f":"X1087","v":52},"2018-12-30",{"$f":"TEXT(Y1095,\"ddd\")","v":"zo"},"DD",{"$f":"IFERROR(HLOOKUP(Y1095,[1]DATA!$A$1:$NB$5,3,0),\"\")","v":"-"},null,null,null,null,{"$f":"VLOOKUP(Y1095,[1]SRI!$S$4:$Z$368,6,0)","v":0},"","",""]
["52zoMD",{"$f":"VLOOKUP($AA1096,DATA!$B$3:$E$6,2,0)","v":"14:30:00"},{"$f":"VLOOKUP($AA1096,DATA!$B$3:$E$6,3,0)","v":"22:30:00"},{"$f":"VLOOKUP($AA1096,DATA!$B$3:$E$6,4,0)","v":3.125E-2},0.30208333333333337,0.30208333333333337,{"$f":"DATA!$C$9","v":0.89},{"$f":"DATA!$C$10","v":64},1,407.81250000000006,407.81250000000006,0,"","",0,"","",0,"","","","",null,{"$f":"X1087","v":52},null,{"$f":"TEXT(Y1095,\"ddd\")","v":"zo"},"MD",{"$f":"IFERROR(HLOOKUP(Y1095,[1]DATA!$A$1:$NB$5,4,0),\"\")","v":"-"},null,null,null,null,{"$f":"VLOOKUP(Y1095,[1]SRI!$S$4:$Z$368,7,0)","v":0},"","",""]
["52zoZND",{"$f":"VLOOKUP($AA1097,DATA!$B$3:$E$6,2,0)","v":"00:00:00"},{"$f":"VLOOKUP($AA1097,DATA!$B$3:$E$6,3,0)","v":"00:00:00"},{"$f":"VLOOKUP($AA1097,DATA!$B$3:$E$6,4,0)","v":3.125E-2},-3.125E-2,-3.125E-2,{"$f":"DATA!$C$9","v":0.89},{"$f":"DATA!$C$10","v":64},1,-42.1875,-42.1875,0,"","",0,"","",0,"","","","",null,{"$f":"X1087","v":52},null,{"$f":"TEXT(Y1095,\"ddd\")","v":"zo"},"ZND",{"$f":"IFERROR(HLOOKUP(Y1095,[1]DATA!$A$1:$NB$5,5,0),\"\")","v":"-"},null,null,null,null,{"$f":"VLOOKUP(Y1095,[1]SRI!$S$4:$Z$368,8,0)","v":0},"","",""]
["53maDD",{"$f":"VLOOKUP($AA1098,DATA!$B$3:$E$6,2,0)","v":"06:30:00"},{"$f":"VLOOKUP($AA1098,DATA!$B$3:$E$6,3,0)","v":"14:30:00"},{"$f":"VLOOKUP($AA1098,DATA!$B$3:$E$6,4,0)","v":3.125E-2},0.30208333333333331,0.30208333333333331,{"$f":"DATA!$C$9","v":0.89},{"$f":"DATA!$C$10","v":64},1,407.8125,407.8125,0,"","",{"$f":"TIME(INT($AD1098/60),INT(MOD($AD1098,60)/1),0)","v":0},"","",0,"","","","",null,{"$f":"X1108","v":53},"2018-12-31",{"$f":"TEXT(Y1098,\"ddd\")","v":"ma"},"DD",{"$f":"IFERROR(HLOOKUP(Y1098,[1]DATA!$A$1:$NB$5,3,0),\"\")","v":"D3"},null,null,null,null,{"$f":"VLOOKUP(Y1098,[1]SRI!$S$4:$Z$368,6,0)","v":0},"","","",{"$f":"IF(SUMIF(S1098:S1118,\">0\",K1098:K1118)=0,\"\",SUMIF(S1098:S1118,\">0\",K1098:K1118))","v":""},{"$f":"IF(SUM(S1098:S1118)=0,\"\",SUM(S1098:S1118))","v":""},{"$f":"IFERROR(AL1098/AK1098,\"-\")","v":"-"},{"$f":"IF(SUM(M1098:M1118)=0,\"0\",SUM(M1098:M1118))","v":"0"},{"$f":"IFERROR(AN1098/AK1098,\"-\")","v":"-"},{"$f":"IF(SUM(P1098:P1118)=0,0,SUM(P1098:P1118))","v":0},{"$f":"IFERROR(AP1098/AK1098,\"-\")","v":"-"},"-",{"$f":"IFERROR(SUMIF($AB1098:$AB1118,AS$5,$AJ1098:$AJ1118)/COUNTIFS($AB1098:$AB1118,AS$5,$AJ1098:$AJ1118,\">0\"),\"\")","v":""},"","",{"$f":"IFERROR((AK1098-AL1098-AN1098-AP1098),\"-\")","v":"-"},{"$f":"IFERROR((1-AM1098-AO1098-AQ1098), \"-\")","v":"-"},{"$f":"IFERROR((AV1098*$AE$2)/60,\"-\")","v":"-"},{"$f":"IFERROR(SUM(AG1098:AG1118),\"\")","v":""}]
["53maMD",{"$f":"VLOOKUP($AA1099,DATA!$B$3:$E$6,2,0)","v":"14:30:00"},{"$f":"VLOOKUP($AA1099,DATA!$B$3:$E$6,3,0)","v":"22:30:00"},{"$f":"VLOOKUP($AA1099,DATA!$B$3:$E$6,4,0)","v":3.125E-2},0.30208333333333337,0.30208333333333337,{"$f":"DATA!$C$9","v":0.89},{"$f":"DATA!$C$10","v":64},1,407.81250000000006,407.81250000000006,0,"","",{"$f":"TIME(INT(AD1099/60),INT(MOD(AD1099,60)/1),0)","v":0},"","",0,"","","","",null,{"$f":"X1108","v":53},null,{"$f":"TEXT(Y1098,\"ddd\")","v":"ma"},"MD",{"$f":"IFERROR(HLOOKUP(Y1098,[1]DATA!$A$1:$NB$5,4,0),\"\")","v":"D2"},null,null,null,null,{"$f":"VLOOKUP(Y1098,[1]SRI!$S$4:$Z$368,7,0)","v":0},"","",""]
["53maND",{"$f":"VLOOKUP($AA1100,DATA!$B$3:$E$6,2,0)","v":"22:30:00"},{"$f":"VLOOKUP($AA1100,DATA!$B$3:$E$6,3,0)","v":"06:30:00"},{"$f":"VLOOKUP($AA1100,DATA!$B$3:$E$6,4,0)","v":3.125E-2},0.30208333333333326,0.30208333333333326,{"$f":"DATA!$C$9","v":0.89},{"$f":"DATA!$C$10","v":64},1,407.81249999999989,407.81249999999989,0,"","",0,"","",0,"","","","",null,{"$f":"X1108","v":53},null,{"$f":"TEXT(Y1098,\"ddd\")","v":"ma"},"ND",{"$f":"IFERROR(HLOOKUP(Y1098,[1]DATA!$A$1:$NB$5,5,0),\"\")","v":"D1"},null,null,null,null,{"$f":"VLOOKUP(Y1098,[1]SRI!$S$4:$Z$368,8,0)","v":0},"","",""]
["53diDD",{"$f":"VLOOKUP($AA1101,DATA!$B$3:$E$6,2,0)","v":"06:30:00"},{"$f":"VLOOKUP($AA1101,DATA!$B$3:$E$6,3,0)","v":"14:30:00"},{"$f":"VLOOKUP($AA1101,DATA!$B$3:$E$6,4,0)","v":3.125E-2},0.30208333333333331,0.30208333333333331,{"$f":"DATA!$C$9","v":0.89},{"$f":"DATA!$C$10","v":64},1,407.8125,407.8125,0,"","",0,"","",0,"","","","",null,{"$f":"X1108","v":53},"2019-01-01",{"$f":"TEXT(Y1101,\"ddd\")","v":"di"},"DD",{"$f":"IFERROR(HLOOKUP(Y1101,[1]DATA!$A$1:$NB$5,3,0),\"\")","v":""},null,null,null,null,{"$f":"VLOOKUP(Y1101,[1]SRI!$S$4:$Z$368,6,0)","v":{"$error":"#N/A"}},"","",""]
["53diMD",{"$f":"VLOOKUP($AA1102,DATA!$B$3:$E$6,2,0)","v":"14:30:00"},{"$f":"VLOOKUP($AA1102,DATA!$B$3:$E$6,3,0)","v":"22:30:00"},{"$f":"VLOOKUP($AA1102,DATA!$B$3:$E$6,4,0)","v":3.125E-2},0.30208333333333337,0.30208333333333337,{"$f":"DATA!$C$9","v":0.89},{"$f":"DATA!$C$10","v":64},1,407.81250000000006,407.81250000000006,0,"","",0,"","",0,"","","","",null,{"$f":"X1108","v":53},null,{"$f":"TEXT(Y1101,\"ddd\")","v":"di"},"MD",{"$f":"IFERROR(HLOOKUP(Y1101,[1]DATA!$A$1:$NB$5,4,0),\"\")","v":""},null,null,null,null,{"$f":"VLOOKUP(Y1101,[1]SRI!$S$4:$Z$368,7,0)","v":{"$error":"#N/A"}},"","",""]
["53diND",{"$f":"VLOOKUP($AA1103,DATA!$B$3:$E$6,2,0)","v":"22:30:00"},{"$f":"VLOOKUP($AA1103,DATA!$B$3:$E$6,3,0)","v":"06:30:00"},{"$f":"VLOOKUP($AA1103,DATA!$B$3:$E$6,4,0)","v":3.125E-2},0.30208333333333326,0.30208333333333326,{"$f":"DATA!$C$9","v":0.89},{"$f":"DATA!$C$10","v":64},1,407.81249999999989,407.81249999999989,0,"","",0,"","",0,"","","","",null,{"$f":"X1108","v":53},null,{"$f":"TEXT(Y1101,\"ddd\")","v":"di"},"ND",{"$f":"IFERROR(HLOOKUP(Y1101,[1]DATA!$A$1:$NB$5,5,0),\"\")","v":""},null,null,null,null,{"$f":"VLOOKUP(Y1101,[1]SRI!$S$4:$Z$368,8,0)","v":{"$error":"#N/A"}},"","",""]
["53woDD",{"$f":"VLOOKUP($AA1104,DATA!$B$3:$E$6,2,0)","v":"06:30:00"},{"$f":"VLOOKUP($AA1104,DATA!$B$3:$E$6,3,0)","v":"14:30:00"},{"$f":"VLOOKUP($AA1104,DATA!$B$3:$E$6,4,0)","v":3.125E-2},0.30208333333333331,0.30208333333333331,{"$f":"DATA!$C$9","v":0.89},{"$f":"DATA!$C$10","v":64},1,407.8125,407.8125,0,"","",0,"","",0,"","","","",null,{"$f":"X1108","v":53},"2019-01-02",{"$f":"TEXT(Y1104,\"ddd\")","v":"wo"},"DD",{"$f":"IFERROR(HLOOKUP(Y1104,[1]DATA!$A$1:$NB$5,3,0),\"\")","v":""},null,null,null,null,{"$f":"VLOOKUP(Y1104,[1]SRI!$S$4:$Z$368,6,0)","v":{"$error":"#N/A"}},"","",""]
["53woMD",{"$f":"VLOOKUP($AA1105,DATA!$B$3:$E$6,2,0)","v":"14:30:00"},{"$f":"VLOOKUP($AA1105,DATA!$B$3:$E$6,3,0)","v":"22:30:00"},{"$f":"VLOOKUP($AA1105,DATA!$B$3:$E$6,4,0)","v":3.125E-2},0.30208333333333337,0.30208333333333337,{"$f":"DATA!$C$9","v":0.89},{"$f":"DATA!$C$10","v":64},1,407.81250000000006,407.81250000000006,0,"","",0,"","",0,"","","","",null,{"$f":"X1108","v":53},null,{"$f":"TEXT(Y1104,\"ddd\")","v":"wo"},"MD",{"$f":"IFERROR(HLOOKUP(Y1104,[1]DATA!$A$1:$NB$5,4,0),\"\")","v":""},null,null,null,null,{"$f":"VLOOKUP(Y1104,[1]SRI!$S$4:$Z$368,7,0)","v":{"$error":"#N/A"}},"","",""]
["53woND",{"$f":"VLOOKUP($AA1106,DATA!$B$3:$E$6,2,0)","v":"22:30:00"},{"$f":"VLOOKUP($AA1106,DATA!$B$3:$E$6,3,0)","v":"06:30:00"},{"$f":"VLOOKUP($AA1106,DATA!$B$3:$E$6,4,0)","v":3.125E-2},0.30208333333333326,0.30208333333333326,{"$f":"DATA!$C$9","v":0.89},{"$f":"DATA!$C$10","v":64},1,407.81249999999989,407.81249999999989,0,"","",0,"","",0,"","","","",null,{"$f":"X1108","v":53},null,{"$f":"TEXT(Y1104,\"ddd\")","v":"wo"},"ND",{"$f":"IFERROR(HLOOKUP(Y1104,[1]DATA!$A$1:$NB$5,5,0),\"\")","v":""},null,null,null,null,{"$f":"VLOOKUP(Y1104,[1]SRI!$S$4:$Z$368,8,0)","v":{"$error":"#N/A"}},"","",""]
["53doDD",{"$f":"VLOOKUP($AA1107,DATA!$B$3:$E$6,2,0)","v":"06:30:00"},{"$f":"VLOOKUP($AA1107,DATA!$B$3:$E$6,3,0)","v":"14:30:00"},{"$f":"VLOOKUP($AA1107,DATA!$B$3:$E$6,4,0)","v":3.125E-2},0.30208333333333331,0.30208333333333331,{"$f":"DATA!$C$9","v":0.89},{"$f":"DATA!$C$10","v":64},1,407.8125,407.8125,0,"","",0,"","",0,"","","","",null,{"$f":"X1108","v":53},"2019-01-03",{"$f":"TEXT(Y1107,\"ddd\")","v":"do"},"DD",{"$f":"IFERROR(HLOOKUP(Y1107,[1]DATA!$A$1:$NB$5,3,0),\"\")","v":""},null,null,null,null,{"$f":"VLOOKUP(Y1107,[1]SRI!$S$4:$Z$368,6,0)","v":{"$error":"#N/A"}},"","",""]
["53doMD",{"$f":"VLOOKUP($AA1108,DATA!$B$3:$E$6,2,0)","v":"14:30:00"},{"$f":"VLOOKUP($AA1108,DATA!$B$3:$E$6,3,0)","v":"22:30:00"},{"$f":"VLOOKUP($AA1108,DATA!$B$3:$E$6,4,0)","v":3.125E-2},0.30208333333333337,0.30208333333333337,{"$f":"DATA!$C$9","v":0.89},{"$f":"DATA!$C$10","v":64},1,407.81250000000006,407.81250000000006,0,"","",0,"","",0,"","","","",null,{"$f":"WEEKNUM($Y1098)","v":53},null,{"$f":"TEXT(Y1107,\"ddd\")","v":"do"},"MD",{"$f":"IFERROR(HLOOKUP(Y1107,[1]DATA!$A$1:$NB$5,4,0),\"\")","v":""},null,null,null,null,{"$f":"VLOOKUP(Y1107,[1]SRI!$S$4:$Z$368,7,0)","v":{"$error":"#N/A"}},"","",""]
["53doND",{"$f":"VLOOKUP($AA1109,DATA!$B$3:$E$6,2,0)","v":"22:30:00"},{"$f":"VLOOKUP($AA1109,DATA!$B$3:$E$6,3,0)","v":"06:30:00"},{"$f":"VLOOKUP($AA1109,DATA!$B$3:$E$6,4,0)","v":3.125E-2},0.30208333333333326,0.30208333333333326,{"$f":"DATA!$C$9","v":0.89},{"$f":"DATA!$C$10","v":64},1,407.81249999999989,407.81249999999989,0,"","",0,"","",0,"","","","",null,{"$f":"X1108","v":53},null,{"$f":"TEXT(Y1107,\"ddd\")","v":"do"},"ND",{"$f":"IFERROR(HLOOKUP(Y1107,[1]DATA!$A$1:$NB$5,5,0),\"\")","v":""},null,null,null,null,{"$f":"VLOOKUP(Y1107,[1]SRI!$S$4:$Z$368,8,0)","v":{"$error":"#N/A"}},"","",""]
["53vrDD",{"$f":"VLOOKUP($AA1110,DATA!$B$3:$E$6,2,0)","v":"06:30:00"},{"$f":"VLOOKUP($AA1110,DATA!$B$3:$E$6,3,0)","v":"14:30:00"},{"$f":"VLOOKUP($AA1110,DATA!$B$3:$E$6,4,0)","v":3.125E-2},0.30208333333333331,0.30208333333333331,{"$f":"DATA!$C$9","v":0.89},{"$f":"DATA!$C$10","v":64},1,407.8125,407.8125,0,"","",0,"","",0,"","","","",null,{"$f":"X1108","v":53},"2019-01-04",{"$f":"TEXT(Y1110,\"ddd\")","v":"vr"},"DD",{"$f":"IFERROR(HLOOKUP(Y1110,[1]DATA!$A$1:$NB$5,3,0),\"\")","v":""},null,null,null,null,{"$f":"VLOOKUP(Y1110,[1]SRI!$S$4:$Z$368,6,0)","v":{"$error":"#N/A"}},"","",""]
["53vrMD",{"$f":"VLOOKUP($AA1111,DATA!$B$3:$E$6,2,0)","v":"14:30:00"},{"$f":"VLOOKUP($AA1111,DATA!$B$3:$E$6,3,0)","v":"22:30:00"},{"$f":"VLOOKUP($AA1111,DATA!$B$3:$E$6,4,0)","v":3.125E-2},0.30208333333333337,0.30208333333333337,{"$f":"DATA!$C$9","v":0.89},{"$f":"DATA!$C$10","v":64},1,407.81250000000006,407.81250000000006,0,"","",0,"","",0,"","","","",null,{"$f":"X1108","v":53},null,{"$f":"TEXT(Y1110,\"ddd\")","v":"vr"},"MD",{"$f":"IFERROR(HLOOKUP(Y1110,[1]DATA!$A$1:$NB$5,4,0),\"\")","v":""},null,null,null,null,{"$f":"VLOOKUP(Y1110,[1]SRI!$S$4:$Z$368,7,0)","v":{"$error":"#N/A"}},"","",""]
["53vrND",{"$f":"VLOOKUP($AA1112,DATA!$B$3:$E$6,2,0)","v":"22:30:00"},{"$f":"VLOOKUP($AA1112,DATA!$B$3:$E$6,3,0)","v":"06:30:00"},{"$f":"VLOOKUP($AA1112,DATA!$B$3:$E$6,4,0)","v":3.125E-2},0.30208333333333326,0.30208333333333326,{"$f":"DATA!$C$9","v":0.89},{"$f":"DATA!$C$10","v":64},1,407.81249999999989,407.81249999999989,0,"","",0,"","",0,"","","","",null,{"$f":"X1108","v":53},null,{"$f":"TEXT(Y1110,\"ddd\")","v":"vr"},"ND",{"$f":"IFERROR(HLOOKUP(Y1110,[1]DATA!$A$1:$NB$5,5,0),\"\")","v":""},null,null,null,null,{"$f":"VLOOKUP(Y1110,[1]SRI!$S$4:$Z$368,8,0)","v":{"$error":"#N/A"}},"","",""]
["53zaDD",{"$f":"VLOOKUP($AA1113,DATA!$B$3:$E$6,2,0)","v":"06:30:00"},{"$f":"VLOOKUP($AA1113,DATA!$B$3:$E$6,3,0)","v":"14:30:00"},{"$f":"VLOOKUP($AA1113,DATA!$B$3:$E$6,4,0)","v":3.125E-2},0.30208333333333331,0.30208333333333331,{"$f":"DATA!$C$9","v":0.89},{"$f":"DATA!$C$10","v":64},1,407.8125,407.8125,0,"","",0,"","",0,"","","","",null,{"$f":"X1108","v":53},"2019-01-05",{"$f":"TEXT(Y1113,\"ddd\")","v":"za"},"DD",{"$f":"IFERROR(HLOOKUP(Y1113,[1]DATA!$A$1:$NB$5,3,0),\"\")","v":""},null,null,null,null,{"$f":"VLOOKUP(Y1113,[1]SRI!$S$4:$Z$368,6,0)","v":{"$error":"#N/A"}},"","",""]
["53zaMD",{"$f":"VLOOKUP($AA1114,DATA!$B$3:$E$6,2,0)","v":"14:30:00"},{"$f":"VLOOKUP($AA1114,DATA!$B$3:$E$6,3,0)","v":"22:30:00"},{"$f":"VLOOKUP($AA1114,DATA!$B$3:$E$6,4,0)","v":3.125E-2},0.30208333333333337,0.30208333333333337,{"$f":"DATA!$C$9","v":0.89},{"$f":"DATA!$C$10","v":64},1,407.81250000000006,407.81250000000006,0,"","",0,"","",0,"","","","",null,{"$f":"X1108","v":53},null,{"$f":"TEXT(Y1113,\"ddd\")","v":"za"},"MD",{"$f":"IFERROR(HLOOKUP(Y1113,[1]DATA!$A$1:$NB$5,4,0),\"\")","v":""},null,null,null,null,{"$f":"VLOOKUP(Y1113,[1]SRI!$S$4:$Z$368,7,0)","v":{"$error":"#N/A"}},"","",""]
["53zaND",{"$f":"VLOOKUP($AA1115,DATA!$B$3:$E$6,2,0)","v":"22:30:00"},{"$f":"VLOOKUP($AA1115,DATA!$B$3:$E$6,3,0)","v":"06:30:00"},{"$f":"VLOOKUP($AA1115,DATA!$B$3:$E$6,4,0)","v":3.125E-2},0.30208333333333326,0.30208333333333326,{"$f":"DATA!$C$9","v":0.89},{"$f":"DATA!$C$10","v":64},1,407.81249999999989,407.81249999999989,0,"","",0,"","",0,"","","","",null,{"$f":"X1108","v":53},null,{"$f":"TEXT(Y1113,\"ddd\")","v":"za"},"ND",{"$f":"IFERROR(HLOOKUP(Y1113,[1]DATA!$A$1:$NB$5,5,0),\"\")","v":""},null,null,null,null,{"$f":"VLOOKUP(Y1113,[1]SRI!$S$4:$Z$368,8,0)","v":{"$error":"#N/A"}},"","",{"$f":"IFERROR(R1115/(R1115+AG1115),\"\")","v":""}]
["53zoDD",{"$f":"VLOOKUP($AA1116,DATA!$B$3:$E$6,2,0)","v":"06:30:00"},{"$f":"VLOOKUP($AA1116,DATA!$B$3:$E$6,3,0)","v":"14:30:00"},{"$f":"VLOOKUP($AA1116,DATA!$B$3:$E$6,4,0)","v":3.125E-2},{"$f":"(C1116-B1116+(B1116>C1116))-D1116","v":0.30208333333333331},{"$f":"E1116-O1116-L1116","v":0.30208333333333331},{"$f":"DATA!$C$9","v":0.89},{"$f":"DATA!$C$10","v":64},1,{"$f":"F1116*86400/H1116*I1116","v":407.8125},{"$f":"E1116*86400/H1116","v":407.8125},0,"","",0,"","",{"$f":"AF1116*AG$2","v":0},{"$f":"IF(AF1116-AE1116=0,\"\",AF1116-AE1116)","v":""},"","","",null,{"$f":"X1108","v":53},"2019-01-06",{"$f":"TEXT(Y1116,\"ddd\")","v":"zo"},"DD",{"$f":"IFERROR(HLOOKUP(Y1116,[1]DATA!$A$1:$NB$5,3,0),\"\")","v":""},null,null,null,null,{"$f":"VLOOKUP(Y1116,[1]SRI!$S$4:$Z$368,6,0)","v":{"$error":"#N/A"}},"","",""]
["53zoMD",{"$f":"VLOOKUP($AA1117,DATA!$B$3:$E$6,2,0)","v":"14:30:00"},{"$f":"VLOOKUP($AA1117,DATA!$B$3:$E$6,3,0)","v":"22:30:00"},{"$f":"VLOOKUP($AA1117,DATA!$B$3:$E$6,4,0)","v":3.125E-2},0.30208333333333337,0.30208333333333337,{"$f":"DATA!$C$9","v":0.89},{"$f":"DATA!$C$10","v":64},1,407.81250000000006,407.81250000000006,0,"","",0,"","",0,"","","","",null,{"$f":"X1108","v":53},null,{"$f":"TEXT(Y1116,\"ddd\")","v":"zo"},"MD",{"$f":"IFERROR(HLOOKUP(Y1116,[1]DATA!$A$1:$NB$5,4,0),\"\")","v":""},null,null,null,null,{"$f":"VLOOKUP(Y1116,[1]SRI!$S$4:$Z$368,7,0)","v":{"$error":"#N/A"}},"","",""]
["53zoZND",{"$f":"VLOOKUP($AA1118,DATA!$B$3:$E$6,2,0)","v":"00:00:00"},{"$f":"VLOOKUP($AA1118,DATA!$B$3:$E$6,3,0)","v":"00:00:00"},{"$f":"VLOOKUP($AA1118,DATA!$B$3:$E$6,4,0)","v":3.125E-2},-3.125E-2,-3.125E-2,{"$f":"DATA!$C$9","v":0.89},{"$f":"DATA!$C$10","v":64},1,-42.1875,-42.1875,0,"","",0,"","",0,"","","","",null,{"$f":"X1108","v":53},null,{"$f":"TEXT(Y1116,\"ddd\")","v":"zo"},"ZND",{"$f":"IFERROR(HLOOKUP(Y1116,[1]DATA!$A$1:$NB$5,5,0),\"\")","v":""},null,null,null,null,{"$f":"VLOOKUP(Y1116,[1]SRI!$S$4:$Z$368,8,0)","v":{"$error":"#N/A"}},"","",""]

{"sheet":"Grafieken","index":3,"n_rows":20,"n_cols":28,"rows_kept":20,"cut":false,"hidden":false,"merged":[[9,27,11,27]]}
[]
[]
[null,null,null,null,null,null,null,null,null,null,null,null,null,null,null,0.89]
[null,null,null,null,null,null,null,null,null,null,null,null,null,null,null,0.89]
[null,null,null,null,null,null,null,null,null,null,null,null,null,null,null,0.89]
[null,null,null,null,null,null,null,null,null,null,null,null,null,null,null,0.89]
[null,null,null,null,null,null,null,null,null,null,null,null,null,null,null,0.89]
[null,null,null,null,null,null,null,null,null,null,null,null,null,null,null,0.89]
[null,null,null,null,null,null,null,null,null,null,null,null,null,null,null,0.89,null,null,null,null,null,null,null,null,null,null,null,"Week"]
[null,null,null,null,null,null,null,null,null,null,null,null,null,null,null,0.89,null,null,null,null,null,null,null,null,null,null,null,39]
[null,null,null,null,null,null,null,null,null,null,null,null,null,null,null,0.89]
[null,null,null,null,null,null,null,null,null,null,null,null,null,null,null,0.89]
[null,null,null,null,null,null,null,null,null,null,null,null,null,null,null,0.89]
[null,null,null,null,null,null,null,null,null,null,null,null,null,null,null,0.89]
[null,null,null,null,null,null,null,null,null,null,null,null,null,null,null,0.89]
[null,null,null,null,null,null,null,null,null,null,null,null,null,null,null,0.89]
[null,null,null,null,null,null,null,null,null,null,null,null,null,null,null,0.89]
[null,null,null,null,null,null,null,null,null,null,null,null,null,null,null,0.89]
[null,null,null,null,null,null,null,null,null,null,null,null,null,null,null,0.89]
[null,null,null,null,null,null,null,null,null,null,null,null,null,null,null,0.89]

{"sheet":"Data voor grafieken","index":4,"n_rows":63,"n_cols":23,"rows_kept":63,"cut":false,"hidden":true,"merged":[[20,1,21,1],[33,1,34,1],[33,20,33,22],[2,18,9,18],[11,18,18,18],[33,2,33,4],[33,5,33,7],[33,8,33,10],[33,11,33,13],[33,14,33,16],[33,17,33,19],[20,11,20,16],[20,2,20,7]]}
[{"$f":"Grafieken!AB10","v":39},0]
[null,"Week",null,null,"Parts Target\n[TA 100%]","Parts Actual","Availability (Total Time)\n[%]","Loss due to Blocked/ Starved\n[Theoretical]","Loss Blocked/ Starved [%]","Loss due to\nPlanned Stop/ Early Finish","Loss \nPlanned Stop/ Early Finish\n[%]","Technical Availability Total\n[%]","Technical Availability \nShift D1\n[%]","Technical Availability Shift D2\n[%]","Technical Availability Shift D3\n[%]","Downtime [Parts]","Total Downtime\n[%]","Target TA [%]"]
[2017,{"$f":"B4-1","v":33},null,null,{"$f":"VLOOKUP($B3,'TA SRI LH'!$X$6:$AY$1118,14,FALSE)","v":6117.1875},{"$f":"VLOOKUP($B3,'TA SRI LH'!$X$6:$AY$1118,15,FALSE)","v":3873},{"$f":"VLOOKUP($B3,'TA SRI LH'!$X$6:$AY$1118,16,FALSE)","v":0.63313409961685829},{"$f":"VLOOKUP($B3,'TA SRI LH'!$X$6:$AY$1118,17,FALSE)","v":1705.3125},{"$f":"VLOOKUP($B3,'TA SRI LH'!$X$6:$AY$1118,18,FALSE)","v":0.27877394636015324},{"$f":"VLOOKUP($B3,'TA SRI LH'!$X$6:$AY$1118,19,FALSE)","v":0},{"$f":"VLOOKUP($B3,'TA SRI LH'!$X$6:$AY$1118,20,FALSE)","v":0},{"$f":"VLOOKUP($B3,'TA SRI LH'!$X$6:$AY$1118,21,FALSE)","v":0.95618323120198478},{"$f":"VLOOKUP($B3,'TA SRI LH'!$X$6:$AY$1118,22,FALSE)","v":0.97233172634724707},{"$f":"VLOOKUP($B3,'TA SRI LH'!$X$6:$AY$1118,23,FALSE)","v":0.93850227286367671},{"$f":"VLOOKUP($B3,'TA SRI LH'!$X$6:$AY$1118,24,FALSE)","v":0.96251904977786962},{"$f":"VLOOKUP($B3,'TA SRI LH'!$X$6:$AY$1118,25,FALSE)","v":538.875},{"$f":"VLOOKUP($B3,'TA SRI LH'!$X$6:$AY$1118,26,FALSE)","v":8.8091954022988472E-2},{"$f":"DATA!$C$9","v":0.89},"SRI LH"]
[null,34,null,null,{"$f":"VLOOKUP($B4,'TA SRI LH'!$X$6:$AY$1118,14,FALSE)","v":6117.1875},{"$f":"VLOOKUP($B4,'TA SRI LH'!$X$6:$AY$1118,15,FALSE)","v":4463},{"$f":"VLOOKUP($B4,'TA SRI LH'!$X$6:$AY$1118,16,FALSE)","v":0.7295836526181354},{"$f":"VLOOKUP($B4,'TA SRI LH'!$X$6:$AY$1118,17,FALSE)","v":1125.9375},{"$f":"VLOOKUP($B4,'TA SRI LH'!$X$6:$AY$1118,18,FALSE)","v":0.18406130268199233},{"$f":"VLOOKUP($B4,'TA SRI LH'!$X$6:$AY$1118,19,FALSE)","v":0},{"$f":"VLOOKUP($B4,'TA SRI LH'!$X$6:$AY$1118,20,FALSE)","v":0},{"$f":"VLOOKUP($B4,'TA SRI LH'!$X$6:$AY$1118,21,FALSE)","v":0.95132327677116657},{"$f":"VLOOKUP($B4,'TA SRI LH'!$X$6:$AY$1118,22,FALSE)","v":0.98389256148085358},{"$f":"VLOOKUP($B4,'TA SRI LH'!$X$6:$AY$1118,23,FALSE)","v":0.94940032863264157},{"$f":"VLOOKUP($B4,'TA SRI LH'!$X$6:$AY$1118,24,FALSE)","v":0.92067694020000468},{"$f":"VLOOKUP($B4,'TA SRI LH'!$X$6:$AY$1118,25,FALSE)","v":528.25},{"$f":"VLOOKUP($B4,'TA SRI LH'!$X$6:$AY$1118,26,FALSE)","v":8.6355044699872263E-2},{"$f":"DATA!$C$9","v":0.89}]
[null,35,null,null,{"$f":"VLOOKUP($B5,'TA SRI LH'!$X$6:$AY$1118,14,FALSE)","v":5709.375},{"$f":"VLOOKUP($B5,'TA SRI LH'!$X$6:$AY$1118,15,FALSE)","v":4260},{"$f":"VLOOKUP($B5,'TA SRI LH'!$X$6:$AY$1118,16,FALSE)","v":0.74614121510673237},{"$f":"VLOOKUP($B5,'TA SRI LH'!$X$6:$AY$1118,17,FALSE)","v":647.8125},{"$f":"VLOOKUP($B5,'TA SRI LH'!$X$6:$AY$1118,18,FALSE)","v":0.11346469622331691},{"$f":"VLOOKUP($B5,'TA SRI LH'!$X$6:$AY$1118,19,FALSE)","v":0},{"$f":"VLOOKUP($B5,'TA SRI LH'!$X$6:$AY$1118,20,FALSE)","v":0},{"$f":"VLOOKUP($B5,'TA SRI LH'!$X$6:$AY$1118,21,FALSE)","v":0.92989179260291122},{"$f":"VLOOKUP($B5,'TA SRI LH'!$X$6:$AY$1118,22,FALSE)","v":0.94548803557473093},{"$f":"VLOOKUP($B5,'TA SRI LH'!$X$6:$AY$1118,23,FALSE)","v":0.94072087630979162},{"$f":"VLOOKUP($B5,'TA SRI LH'!$X$6:$AY$1118,24,FALSE)","v":0.90658571451857539},{"$f":"VLOOKUP($B5,'TA SRI LH'!$X$6:$AY$1118,25,FALSE)","v":801.5625},{"$f":"VLOOKUP($B5,'TA SRI LH'!$X$6:$AY$1118,26,FALSE)","v":0.14039408866995073},{"$f":"DATA!$C$9","v":0.89}]
[null,{"$f":"B7-1","v":36},null,null,{"$f":"VLOOKUP($B6,'TA SRI LH'!$X$6:$AY$1118,14,FALSE)","v":6525},{"$f":"VLOOKUP($B6,'TA SRI LH'!$X$6:$AY$1118,15,FALSE)","v":4409},{"$f":"VLOOKUP($B6,'TA SRI LH'!$X$6:$AY$1118,16,FALSE)","v":0.67570881226053636},{"$f":"VLOOKUP($B6,'TA SRI LH'!$X$6:$AY$1118,17,FALSE)","v":1601.25},{"$f":"VLOOKUP($B6,'TA SRI LH'!$X$6:$AY$1118,18,FALSE)","v":0.24540229885057471},{"$f":"VLOOKUP($B6,'TA SRI LH'!$X$6:$AY$1118,19,FALSE)","v":0},{"$f":"VLOOKUP($B6,'TA SRI LH'!$X$6:$AY$1118,20,FALSE)","v":0},{"$f":"VLOOKUP($B6,'TA SRI LH'!$X$6:$AY$1118,21,FALSE)","v":0.98524936229671667},{"$f":"VLOOKUP($B6,'TA SRI LH'!$X$6:$AY$1118,22,FALSE)","v":0.98477375651803878},{"$f":"VLOOKUP($B6,'TA SRI LH'!$X$6:$AY$1118,23,FALSE)","v":0.9823233410419645},{"$f":"VLOOKUP($B6,'TA SRI LH'!$X$6:$AY$1118,24,FALSE)","v":0.98923619358109716},{"$f":"VLOOKUP($B6,'TA SRI LH'!$X$6:$AY$1118,25,FALSE)","v":514.75},{"$f":"VLOOKUP($B6,'TA SRI LH'!$X$6:$AY$1118,26,FALSE)","v":7.8888888888888925E-2},{"$f":"DATA!$C$9","v":0.89}]
[null,{"$f":"B8-1","v":37},null,null,{"$f":"VLOOKUP($B7,'TA SRI LH'!$X$6:$AY$1118,14,FALSE)","v":6117.1875},{"$f":"VLOOKUP($B7,'TA SRI LH'!$X$6:$AY$1118,15,FALSE)","v":4525},{"$f":"VLOOKUP($B7,'TA SRI LH'!$X$6:$AY$1118,16,FALSE)","v":0.73971902937420175},{"$f":"VLOOKUP($B7,'TA SRI LH'!$X$6:$AY$1118,17,FALSE)","v":1023.75},{"$f":"VLOOKUP($B7,'TA SRI LH'!$X$6:$AY$1118,18,FALSE)","v":0.16735632183908045},{"$f":"VLOOKUP($B7,'TA SRI LH'!$X$6:$AY$1118,19,FALSE)","v":0},{"$f":"VLOOKUP($B7,'TA SRI LH'!$X$6:$AY$1118,20,FALSE)","v":0},{"$f":"VLOOKUP($B7,'TA SRI LH'!$X$6:$AY$1118,21,FALSE)","v":0.98261771349349325},{"$f":"VLOOKUP($B7,'TA SRI LH'!$X$6:$AY$1118,22,FALSE)","v":0.99893730074388942},{"$f":"VLOOKUP($B7,'TA SRI LH'!$X$6:$AY$1118,23,FALSE)","v":0.98837910519857031},{"$f":"VLOOKUP($B7,'TA SRI LH'!$X$6:$AY$1118,24,FALSE)","v":0.9605367345380198},{"$f":"VLOOKUP($B7,'TA SRI LH'!$X$6:$AY$1118,25,FALSE)","v":568.4375},{"$f":"VLOOKUP($B7,'TA SRI LH'!$X$6:$AY$1118,26,FALSE)","v":9.2924648786717801E-2},{"$f":"DATA!$C$9","v":0.89}]
[null,38,null,null,{"$f":"VLOOKUP($B8,'TA SRI LH'!$X$6:$AY$1118,14,FALSE)","v":6117.1875},{"$f":"VLOOKUP($B8,'TA SRI LH'!$X$6:$AY$1118,15,FALSE)","v":4297},{"$f":"VLOOKUP($B8,'TA SRI LH'!$X$6:$AY$1118,16,FALSE)","v":0.70244699872286076},{"$f":"VLOOKUP($B8,'TA SRI LH'!$X$6:$AY$1118,17,FALSE)","v":1579.6875},{"$f":"VLOOKUP($B8,'TA SRI LH'!$X$6:$AY$1118,18,FALSE)","v":0.2582375478927203},{"$f":"VLOOKUP($B8,'TA SRI LH'!$X$6:$AY$1118,19,FALSE)","v":0},{"$f":"VLOOKUP($B8,'TA SRI LH'!$X$6:$AY$1118,20,FALSE)","v":0},{"$f":"VLOOKUP($B8,'TA SRI LH'!$X$6:$AY$1118,21,FALSE)","v":0.96795365664910704},{"$f":"VLOOKUP($B8,'TA SRI LH'!$X$6:$AY$1118,22,FALSE)","v":0.97657528800589644},{"$f":"VLOOKUP($B8,'TA SRI LH'!$X$6:$AY$1118,23,FALSE)","v":0.97578702031690112},{"$f":"VLOOKUP($B8,'TA SRI LH'!$X$6:$AY$1118,24,FALSE)","v":0.95165631516232296},{"$f":"VLOOKUP($B8,'TA SRI LH'!$X$6:$AY$1118,25,FALSE)","v":240.5},{"$f":"VLOOKUP($B8,'TA SRI LH'!$X$6:$AY$1118,26,FALSE)","v":3.9315453384418941E-2},{"$f":"DATA!$C$9","v":0.89}]
[null,{"$f":"A1","v":39},null,null,{"$f":"VLOOKUP($B9,'TA SRI LH'!$X$6:$AY$1118,14,FALSE)","v":""},{"$f":"VLOOKUP($B9,'TA SRI LH'!$X$6:$AY$1118,15,FALSE)","v":""},{"$f":"VLOOKUP($B9,'TA SRI LH'!$X$6:$AY$1118,16,FALSE)","v":"-"},{"$f":"VLOOKUP($B9,'TA SRI LH'!$X$6:$AY$1118,17,FALSE)","v":"0"},{"$f":"VLOOKUP($B9,'TA SRI LH'!$X$6:$AY$1118,18,FALSE)","v":"-"},{"$f":"VLOOKUP($B9,'TA SRI LH'!$X$6:$AY$1118,19,FALSE)","v":0},{"$f":"VLOOKUP($B9,'TA SRI LH'!$X$6:$AY$1118,20,FALSE)","v":"-"},{"$f":"VLOOKUP($B9,'TA SRI LH'!$X$6:$AY$1118,21,FALSE)","v":0},{"$f":"VLOOKUP($B9,'TA SRI LH'!$X$6:$AY$1118,22,FALSE)","v":""},{"$f":"VLOOKUP($B9,'TA SRI LH'!$X$6:$AY$1118,23,FALSE)","v":""},{"$f":"VLOOKUP($B9,'TA SRI LH'!$X$6:$AY$1118,24,FALSE)","v":""},{"$f":"VLOOKUP($B9,'TA SRI LH'!$X$6:$AY$1118,25,FALSE)","v":"-"},{"$f":"VLOOKUP($B9,'TA SRI LH'!$X$6:$AY$1118,26,FALSE)","v":"-"},{"$f":"DATA!$C$9","v":0.89}]
[null,{"$f":"B9+1","v":40},null,null,{"$f":"VLOOKUP($B10,'TA SRI LH'!$X$6:$AY$1118,14,FALSE)","v":""},{"$f":"VLOOKUP($B10,'TA SRI LH'!$X$6:$AY$1118,15,FALSE)","v":""},{"$f":"VLOOKUP($B10,'TA SRI LH'!$X$6:$AY$1118,16,FALSE)","v":"-"},{"$f":"VLOOKUP($B10,'TA SRI LH'!$X$6:$AY$1118,17,FALSE)","v":"0"},{"$f":"VLOOKUP($B10,'TA SRI LH'!$X$6:$AY$1118,18,FALSE)","v":"-"},{"$f":"VLOOKUP($B10,'TA SRI LH'!$X$6:$AY$1118,19,FALSE)","v":0},{"$f":"VLOOKUP($B10,'TA SRI LH'!$X$6:$AY$1118,20,FALSE)","v":"-"},{"$f":"VLOOKUP($B10,'TA SRI LH'!$X$6:$AY$1118,21,FALSE)","v":"-"},{"$f":"VLOOKUP($B10,'TA SRI LH'!$X$6:$AY$1118,22,FALSE)","v":""},{"$f":"VLOOKUP($B10,'TA SRI LH'!$X$6:$AY$1118,23,FALSE)","v":""},{"$f":"VLOOKUP($B10,'TA SRI LH'!$X$6:$AY$1118,24,FALSE)","v":""},{"$f":"VLOOKUP($B10,'TA SRI LH'!$X$6:$AY$1118,25,FALSE)","v":"-"},{"$f":"VLOOKUP($B10,'TA SRI LH'!$X$6:$AY$1118,26,FALSE)","v":"-"},{"$f":"DATA!$C$9","v":0.89}]
[]
[null,{"$f":"$B$3","v":33},null,null,{"$f":"VLOOKUP($B12,'TA SRI RH'!$X$6:$AY$1118,14,FALSE)","v":6117.1875},{"$f":"VLOOKUP($B12,'TA SRI RH'!$X$6:$AY$1118,15,FALSE)","v":3859},{"$f":"VLOOKUP($B12,'TA SRI RH'!$X$6:$AY$1118,16,FALSE)","v":0.63084546615581094},{"$f":"VLOOKUP($B12,'TA SRI RH'!$X$6:$AY$1118,17,FALSE)","v":1863.75},{"$f":"VLOOKUP($B12,'TA SRI RH'!$X$6:$AY$1118,18,FALSE)","v":0.3046743295019157},{"$f":"VLOOKUP($B12,'TA SRI RH'!$X$6:$AY$1118,19,FALSE)","v":0},{"$f":"VLOOKUP($B12,'TA SRI RH'!$X$6:$AY$1118,20,FALSE)","v":0},{"$f":"VLOOKUP($B12,'TA SRI RH'!$X$6:$AY$1118,21,FALSE)","v":0.97874324412941727},{"$f":"VLOOKUP($B12,'TA SRI RH'!$X$6:$AY$1118,22,FALSE)","v":0.97862547944525391},{"$f":"VLOOKUP($B12,'TA SRI RH'!$X$6:$AY$1118,23,FALSE)","v":0.98068542922454693},{"$f":"VLOOKUP($B12,'TA SRI RH'!$X$6:$AY$1118,24,FALSE)","v":0.97597717234192738},{"$f":"VLOOKUP($B12,'TA SRI RH'!$X$6:$AY$1118,25,FALSE)","v":394.4375},{"$f":"VLOOKUP($B12,'TA SRI RH'!$X$6:$AY$1118,26,FALSE)","v":6.4480204342273362E-2},{"$f":"DATA!$C$9","v":0.89},"SRI RH"]
[null,{"$f":"$B$4","v":34},null,null,{"$f":"VLOOKUP($B13,'TA SRI RH'!$X$6:$AY$1118,14,FALSE)","v":6117.1875},{"$f":"VLOOKUP($B13,'TA SRI RH'!$X$6:$AY$1118,15,FALSE)","v":4382},{"$f":"VLOOKUP($B13,'TA SRI RH'!$X$6:$AY$1118,16,FALSE)","v":0.71634227330779054},{"$f":"VLOOKUP($B13,'TA SRI RH'!$X$6:$AY$1118,17,FALSE)","v":1626.5625},{"$f":"VLOOKUP($B13,'TA SRI RH'!$X$6:$AY$1118,18,FALSE)","v":0.26590038314176245},{"$f":"VLOOKUP($B13,'TA SRI RH'!$X$6:$AY$1118,19,FALSE)","v":0},{"$f":"VLOOKUP($B13,'TA SRI RH'!$X$6:$AY$1118,20,FALSE)","v":0},{"$f":"VLOOKUP($B13,'TA SRI RH'!$X$6:$AY$1118,21,FALSE)","v":0.9780810175052489},{"$f":"VLOOKUP($B13,'TA SRI RH'!$X$6:$AY$1118,22,FALSE)","v":0.98625002881820301},{"$f":"VLOOKUP($B13,'TA SRI RH'!$X$6:$AY$1118,23,FALSE)","v":0.97022209356036038},{"$f":"VLOOKUP($B13,'TA SRI RH'!$X$6:$AY$1118,24,FALSE)","v":0.97777093013718352},{"$f":"VLOOKUP($B13,'TA SRI RH'!$X$6:$AY$1118,25,FALSE)","v":108.625},{"$f":"VLOOKUP($B13,'TA SRI RH'!$X$6:$AY$1118,26,FALSE)","v":1.7757343550447002E-2},{"$f":"DATA!$C$9","v":0.89}]
[null,{"$f":"$B$5","v":35},null,null,{"$f":"VLOOKUP($B14,'TA SRI RH'!$X$6:$AY$1118,14,FALSE)","v":5709.375},{"$f":"VLOOKUP($B14,'TA SRI RH'!$X$6:$AY$1118,15,FALSE)","v":4226},{"$f":"VLOOKUP($B14,'TA SRI RH'!$X$6:$AY$1118,16,FALSE)","v":0.74018609742747676},{"$f":"VLOOKUP($B14,'TA SRI RH'!$X$6:$AY$1118,17,FALSE)","v":1196.25},{"$f":"VLOOKUP($B14,'TA SRI RH'!$X$6:$AY$1118,18,FALSE)","v":0.20952380952380953},{"$f":"VLOOKUP($B14,'TA SRI RH'!$X$6:$AY$1118,19,FALSE)","v":0},{"$f":"VLOOKUP($B14,'TA SRI RH'!$X$6:$AY$1118,20,FALSE)","v":0},{"$f":"VLOOKUP($B14,'TA SRI RH'!$X$6:$AY$1118,21,FALSE)","v":0.97006794348288283},{"$f":"VLOOKUP($B14,'TA SRI RH'!$X$6:$AY$1118,22,FALSE)","v":0.96858294101893172},{"$f":"VLOOKUP($B14,'TA SRI RH'!$X$6:$AY$1118,23,FALSE)","v":0.97545381303294332},{"$f":"VLOOKUP($B14,'TA SRI RH'!$X$6:$AY$1118,24,FALSE)","v":0.96587007590398299},{"$f":"VLOOKUP($B14,'TA SRI RH'!$X$6:$AY$1118,25,FALSE)","v":287.125},{"$f":"VLOOKUP($B14,'TA SRI RH'!$X$6:$AY$1118,26,FALSE)","v":5.0290093048713708E-2},{"$f":"DATA!$C$9","v":0.89}]
[null,{"$f":"$B$6","v":36},null,null,{"$f":"VLOOKUP($B15,'TA SRI RH'!$X$6:$AY$1118,14,FALSE)","v":6525},{"$f":"VLOOKUP($B15,'TA SRI RH'!$X$6:$AY$1118,15,FALSE)","v":4311},{"$f":"VLOOKUP($B15,'TA SRI RH'!$X$6:$AY$1118,16,FALSE)","v":0.66068965517241385},{"$f":"VLOOKUP($B15,'TA SRI RH'!$X$6:$AY$1118,17,FALSE)","v":1746.5625},{"$f":"VLOOKUP($B15,'TA SRI RH'!$X$6:$AY$1118,18,FALSE)","v":0.26767241379310347},{"$f":"VLOOKUP($B15,'TA SRI RH'!$X$6:$AY$1118,19,FALSE)","v":0},{"$f":"VLOOKUP($B15,'TA SRI RH'!$X$6:$AY$1118,20,FALSE)","v":0},{"$f":"VLOOKUP($B15,'TA SRI RH'!$X$6:$AY$1118,21,FALSE)","v":0.9887103425483551},{"$f":"VLOOKUP($B15,'TA SRI RH'!$X$6:$AY$1118,22,FALSE)","v":0.99331201047271667},{"$f":"VLOOKUP($B15,'TA SRI RH'!$X$6:$AY$1118,23,FALSE)","v":0.98422712933753953},{"$f":"VLOOKUP($B15,'TA SRI RH'!$X$6:$AY$1118,24,FALSE)","v":0.98948853047697205},{"$f":"VLOOKUP($B15,'TA SRI RH'!$X$6:$AY$1118,25,FALSE)","v":467.4375},{"$f":"VLOOKUP($B15,'TA SRI RH'!$X$6:$AY$1118,26,FALSE)","v":7.1637931034482683E-2},{"$f":"DATA!$C$9","v":0.89}]
[null,{"$f":"$B$7","v":37},null,null,{"$f":"VLOOKUP($B16,'TA SRI RH'!$X$6:$AY$1118,14,FALSE)","v":6117.1875},{"$f":"VLOOKUP($B16,'TA SRI RH'!$X$6:$AY$1118,15,FALSE)","v":4465},{"$f":"VLOOKUP($B16,'TA SRI RH'!$X$6:$AY$1118,16,FALSE)","v":0.72991060025542787},{"$f":"VLOOKUP($B16,'TA SRI RH'!$X$6:$AY$1118,17,FALSE)","v":1249.6875},{"$f":"VLOOKUP($B16,'TA SRI RH'!$X$6:$AY$1118,18,FALSE)","v":0.20429118773946361},{"$f":"VLOOKUP($B16,'TA SRI RH'!$X$6:$AY$1118,19,FALSE)","v":0},{"$f":"VLOOKUP($B16,'TA SRI RH'!$X$6:$AY$1118,20,FALSE)","v":0},{"$f":"VLOOKUP($B16,'TA SRI RH'!$X$6:$AY$1118,21,FALSE)","v":0.97699667678705149},{"$f":"VLOOKUP($B16,'TA SRI RH'!$X$6:$AY$1118,22,FALSE)","v":0.9873129185910654},{"$f":"VLOOKUP($B16,'TA SRI RH'!$X$6:$AY$1118,23,FALSE)","v":0.99895214809640243},{"$f":"VLOOKUP($B16,'TA SRI RH'!$X$6:$AY$1118,24,FALSE)","v":0.94472496367368686},{"$f":"VLOOKUP($B16,'TA SRI RH'!$X$6:$AY$1118,25,FALSE)","v":402.5},{"$f":"VLOOKUP($B16,'TA SRI RH'!$X$6:$AY$1118,26,FALSE)","v":6.579821200510852E-2},{"$f":"DATA!$C$9","v":0.89}]
[null,{"$f":"$B$8","v":38},null,null,{"$f":"VLOOKUP($B17,'TA SRI RH'!$X$6:$AY$1118,14,FALSE)","v":6117.1875},{"$f":"VLOOKUP($B17,'TA SRI RH'!$X$6:$AY$1118,15,FALSE)","v":4255},{"$f":"VLOOKUP($B17,'TA SRI RH'!$X$6:$AY$1118,16,FALSE)","v":0.69558109833971904},{"$f":"VLOOKUP($B17,'TA SRI RH'!$X$6:$AY$1118,17,FALSE)","v":1593.75},{"$f":"VLOOKUP($B17,'TA SRI RH'!$X$6:$AY$1118,18,FALSE)","v":0.26053639846743293},{"$f":"VLOOKUP($B17,'TA SRI RH'!$X$6:$AY$1118,19,FALSE)","v":0},{"$f":"VLOOKUP($B17,'TA SRI RH'!$X$6:$AY$1118,20,FALSE)","v":0},{"$f":"VLOOKUP($B17,'TA SRI RH'!$X$6:$AY$1118,21,FALSE)","v":0.97727759136934877},{"$f":"VLOOKUP($B17,'TA SRI RH'!$X$6:$AY$1118,22,FALSE)","v":0.99544774578879824},{"$f":"VLOOKUP($B17,'TA SRI RH'!$X$6:$AY$1118,23,FALSE)","v":0.95538081417486376},{"$f":"VLOOKUP($B17,'TA SRI RH'!$X$6:$AY$1118,24,FALSE)","v":0.98901760046717124},{"$f":"VLOOKUP($B17,'TA SRI RH'!$X$6:$AY$1118,25,FALSE)","v":268.4375},{"$f":"VLOOKUP($B17,'TA SRI RH'!$X$6:$AY$1118,26,FALSE)","v":4.3882503192848032E-2},{"$f":"DATA!$C$9","v":0.89}]
[null,{"$f":"$B$9","v":39},null,null,{"$f":"VLOOKUP($B18,'TA SRI RH'!$X$6:$AY$1118,14,FALSE)","v":""},{"$f":"VLOOKUP($B18,'TA SRI RH'!$X$6:$AY$1118,15,FALSE)","v":""},{"$f":"VLOOKUP($B18,'TA SRI RH'!$X$6:$AY$1118,16,FALSE)","v":"-"},{"$f":"VLOOKUP($B18,'TA SRI RH'!$X$6:$AY$1118,17,FALSE)","v":"0"},{"$f":"VLOOKUP($B18,'TA SRI RH'!$X$6:$AY$1118,18,FALSE)","v":"-"},{"$f":"VLOOKUP($B18,'TA SRI RH'!$X$6:$AY$1118,19,FALSE)","v":0},{"$f":"VLOOKUP($B18,'TA SRI RH'!$X$6:$AY$1118,20,FALSE)","v":"-"},{"$f":"VLOOKUP($B18,'TA SRI RH'!$X$6:$AY$1118,21,FALSE)","v":0},{"$f":"VLOOKUP($B18,'TA SRI RH'!$X$6:$AY$1118,22,FALSE)","v":""},{"$f":"VLOOKUP($B18,'TA SRI RH'!$X$6:$AY$1118,23,FALSE)","v":""},{"$f":"VLOOKUP($B18,'TA SRI RH'!$X$6:$AY$1118,24,FALSE)","v":""},{"$f":"VLOOKUP($B18,'TA SRI RH'!$X$6:$AY$1118,25,FALSE)","v":"-"},{"$f":"VLOOKUP($B18,'TA SRI RH'!$X$6:$AY$1118,26,FALSE)","v":"-"},{"$f":"DATA!$C$9","v":0.89}]
[null,{"$f":"$B$10","v":40},null,null,{"$f":"VLOOKUP($B19,'TA SRI RH'!$X$6:$AY$1118,14,FALSE)","v":""},{"$f":"VLOOKUP($B19,'TA SRI RH'!$X$6:$AY$1118,15,FALSE)","v":""},{"$f":"VLOOKUP($B19,'TA SRI RH'!$X$6:$AY$1118,16,FALSE)","v":"-"},{"$f":"VLOOKUP($B19,'TA SRI RH'!$X$6:$AY$1118,17,FALSE)","v":"0"},{"$f":"VLOOKUP($B19,'TA SRI RH'!$X$6:$AY$1118,18,FALSE)","v":"-"},{"$f":"VLOOKUP($B19,'TA SRI RH'!$X$6:$AY$1118,19,FALSE)","v":0},{"$f":"VLOOKUP($B19,'TA SRI RH'!$X$6:$AY$1118,20,FALSE)","v":"-"},{"$f":"VLOOKUP($B19,'TA SRI RH'!$X$6:$AY$1118,21,FALSE)","v":"-"},{"$f":"VLOOKUP($B19,'TA SRI RH'!$X$6:$AY$1118,22,FALSE)","v":""},{"$f":"VLOOKUP($B19,'TA SRI RH'!$X$6:$AY$1118,23,FALSE)","v":""},{"$f":"VLOOKUP($B19,'TA SRI RH'!$X$6:$AY$1118,24,FALSE)","v":""},{"$f":"VLOOKUP($B19,'TA SRI RH'!$X$6:$AY$1118,25,FALSE)","v":"-"},{"$f":"VLOOKUP($B19,'TA SRI RH'!$X$6:$AY$1118,26,FALSE)","v":"-"},{"$f":"DATA!$C$9","v":0.89}]
[]
[null,"Week",{"$f":"\"Technical Downtime SAP \"&DATA!C15","v":"Technical Downtime SAP SRI LH"},null,null,null,null,null,null,null,null,{"$f":"\"Technical Downtime SAP \"&DATA!C16","v":"Technical Downtime SAP SRI RH"}]
[null,null,"F48 [min]","Freq","Running [min]","Freq","Totaal","Feq",null,null,null,"F48 [min]","Freq","Running [min]","Freq","Totaal","Feq"]
[null,{"$f":"$B$3","v":33},{"$f":"VLOOKUP($B23,[1]SRI!$A$4:$P$55,2,0)","v":36},{"$f":"VLOOKUP($B23,[1]SRI!$A$4:$P$55,3,0)","v":4},{"$f":"VLOOKUP($B23,[1]SRI!$A$4:$P$55,4,0)","v":161},{"$f":"VLOOKUP($B23,[1]SRI!$A$4:$P$55,5,0)","v":25},{"$f":"VLOOKUP($B23,[1]SRI!$A$4:$P$55,6,0)","v":197},{"$f":"VLOOKUP($B23,[1]SRI!$A$4:$P$55,7,0)","v":29},null,null,null,{"$f":"VLOOKUP($B23,[1]SRI!$A$4:$P$55,11,0)","v":24},{"$f":"VLOOKUP($B23,[1]SRI!$A$4:$P$55,12,0)","v":3},{"$f":"VLOOKUP($B23,[1]SRI!$A$4:$P$55,13,0)","v":76},{"$f":"VLOOKUP($B23,[1]SRI!$A$4:$P$55,14,0)","v":16},{"$f":"VLOOKUP($B23,[1]SRI!$A$4:$P$55,15,0)","v":100},{"$f":"VLOOKUP($B23,[1]SRI!$A$4:$P$55,16,0)","v":19}]
[null,{"$f":"$B$4","v":34},{"$f":"VLOOKUP($B24,[1]SRI!$A$4:$P$55,2,0)","v":110},{"$f":"VLOOKUP($B24,[1]SRI!$A$4:$P$55,3,0)","v":3},{"$f":"VLOOKUP($B24,[1]SRI!$A$4:$P$55,4,0)","v":150},{"$f":"VLOOKUP($B24,[1]SRI!$A$4:$P$55,5,0)","v":20},{"$f":"VLOOKUP($B24,[1]SRI!$A$4:$P$55,6,0)","v":260},{"$f":"VLOOKUP($B24,[1]SRI!$A$4:$P$55,7,0)","v":23},null,null,null,{"$f":"VLOOKUP($B24,[1]SRI!$A$4:$P$55,11,0)","v":6},{"$f":"VLOOKUP($B24,[1]SRI!$A$4:$P$55,12,0)","v":1},{"$f":"VLOOKUP($B24,[1]SRI!$A$4:$P$55,13,0)","v":99},{"$f":"VLOOKUP($B24,[1]SRI!$A$4:$P$55,14,0)","v":17},{"$f":"VLOOKUP($B24,[1]SRI!$A$4:$P$55,15,0)","v":105},{"$f":"VLOOKUP($B24,[1]SRI!$A$4:$P$55,16,0)","v":18}]
[null,{"$f":"$B$5","v":35},{"$f":"VLOOKUP($B25,[1]SRI!$A$4:$P$55,2,0)","v":49},{"$f":"VLOOKUP($B25,[1]SRI!$A$4:$P$55,3,0)","v":5},{"$f":"VLOOKUP($B25,[1]SRI!$A$4:$P$55,4,0)","v":333},{"$f":"VLOOKUP($B25,[1]SRI!$A$4:$P$55,5,0)","v":34},{"$f":"VLOOKUP($B25,[1]SRI!$A$4:$P$55,6,0)","v":382},{"$f":"VLOOKUP($B25,[1]SRI!$A$4:$P$55,7,0)","v":39},null,null,null,{"$f":"VLOOKUP($B25,[1]SRI!$A$4:$P$55,11,0)","v":30},{"$f":"VLOOKUP($B25,[1]SRI!$A$4:$P$55,12,0)","v":2},{"$f":"VLOOKUP($B25,[1]SRI!$A$4:$P$55,13,0)","v":107},{"$f":"VLOOKUP($B25,[1]SRI!$A$4:$P$55,14,0)","v":19},{"$f":"VLOOKUP($B25,[1]SRI!$A$4:$P$55,15,0)","v":137},{"$f":"VLOOKUP($B25,[1]SRI!$A$4:$P$55,16,0)","v":21}]
[null,{"$f":"$B$6","v":36},{"$f":"VLOOKUP($B26,[1]SRI!$A$4:$P$55,2,0)","v":20},{"$f":"VLOOKUP($B26,[1]SRI!$A$4:$P$55,3,0)","v":4},{"$f":"VLOOKUP($B26,[1]SRI!$A$4:$P$55,4,0)","v":60},{"$f":"VLOOKUP($B26,[1]SRI!$A$4:$P$55,5,0)","v":16},{"$f":"VLOOKUP($B26,[1]SRI!$A$4:$P$55,6,0)","v":80},{"$f":"VLOOKUP($B26,[1]SRI!$A$4:$P$55,7,0)","v":20},null,null,null,{"$f":"VLOOKUP($B26,[1]SRI!$A$4:$P$55,11,0)","v":4},{"$f":"VLOOKUP($B26,[1]SRI!$A$4:$P$55,12,0)","v":1},{"$f":"VLOOKUP($B26,[1]SRI!$A$4:$P$55,13,0)","v":57},{"$f":"VLOOKUP($B26,[1]SRI!$A$4:$P$55,14,0)","v":9},{"$f":"VLOOKUP($B26,[1]SRI!$A$4:$P$55,15,0)","v":61},{"$f":"VLOOKUP($B26,[1]SRI!$A$4:$P$55,16,0)","v":10}]
[null,{"$f":"$B$7","v":37},{"$f":"VLOOKUP($B27,[1]SRI!$A$4:$P$55,2,0)","v":7},{"$f":"VLOOKUP($B27,[1]SRI!$A$4:$P$55,3,0)","v":1},{"$f":"VLOOKUP($B27,[1]SRI!$A$4:$P$55,4,0)","v":71},{"$f":"VLOOKUP($B27,[1]SRI!$A$4:$P$55,5,0)","v":15},{"$f":"VLOOKUP($B27,[1]SRI!$A$4:$P$55,6,0)","v":78},{"$f":"VLOOKUP($B27,[1]SRI!$A$4:$P$55,7,0)","v":16},null,null,null,{"$f":"VLOOKUP($B27,[1]SRI!$A$4:$P$55,11,0)","v":19},{"$f":"VLOOKUP($B27,[1]SRI!$A$4:$P$55,12,0)","v":4},{"$f":"VLOOKUP($B27,[1]SRI!$A$4:$P$55,13,0)","v":76},{"$f":"VLOOKUP($B27,[1]SRI!$A$4:$P$55,14,0)","v":12},{"$f":"VLOOKUP($B27,[1]SRI!$A$4:$P$55,15,0)","v":95},{"$f":"VLOOKUP($B27,[1]SRI!$A$4:$P$55,16,0)","v":16}]
[null,{"$f":"$B$8","v":38},{"$f":"VLOOKUP($B28,[1]SRI!$A$4:$P$55,2,0)","v":45},{"$f":"VLOOKUP($B28,[1]SRI!$A$4:$P$55,3,0)","v":4},{"$f":"VLOOKUP($B28,[1]SRI!$A$4:$P$55,4,0)","v":125},{"$f":"VLOOKUP($B28,[1]SRI!$A$4:$P$55,5,0)","v":21},{"$f":"VLOOKUP($B28,[1]SRI!$A$4:$P$55,6,0)","v":170},{"$f":"VLOOKUP($B28,[1]SRI!$A$4:$P$55,7,0)","v":25},null,null,null,{"$f":"VLOOKUP($B28,[1]SRI!$A$4:$P$55,11,0)","v":5},{"$f":"VLOOKUP($B28,[1]SRI!$A$4:$P$55,12,0)","v":1},{"$f":"VLOOKUP($B28,[1]SRI!$A$4:$P$55,13,0)","v":100},{"$f":"VLOOKUP($B28,[1]SRI!$A$4:$P$55,14,0)","v":11},{"$f":"VLOOKUP($B28,[1]SRI!$A$4:$P$55,15,0)","v":105},{"$f":"VLOOKUP($B28,[1]SRI!$A$4:$P$55,16,0)","v":12}]
[null,{"$f":"$B$9","v":39},{"$f":"VLOOKUP($B29,[1]SRI!$A$4:$P$55,2,0)","v":24},{"$f":"VLOOKUP($B29,[1]SRI!$A$4:$P$55,3,0)","v":3},{"$f":"VLOOKUP($B29,[1]SRI!$A$4:$P$55,4,0)","v":60},{"$f":"VLOOKUP($B29,[1]SRI!$A$4:$P$55,5,0)","v":9},{"$f":"VLOOKUP($B29,[1]SRI!$A$4:$P$55,6,0)","v":84},{"$f":"VLOOKUP($B29,[1]SRI!$A$4:$P$55,7,0)","v":12},null,null,null,{"$f":"VLOOKUP($B29,[1]SRI!$A$4:$P$55,11,0)","v":12},{"$f":"VLOOKUP($B29,[1]SRI!$A$4:$P$55,12,0)","v":2},{"$f":"VLOOKUP($B29,[1]SRI!$A$4:$P$55,13,0)","v":98},{"$f":"VLOOKUP($B29,[1]SRI!$A$4:$P$55,14,0)","v":12},{"$f":"VLOOKUP($B29,[1]SRI!$A$4:$P$55,15,0)","v":110},{"$f":"VLOOKUP($B29,[1]SRI!$A$4:$P$55,16,0)","v":14}]
[null,{"$f":"$B$10","v":40},{"$f":"VLOOKUP($B30,[1]SRI!$A$4:$P$55,2,0)","v":0},{"$f":"VLOOKUP($B30,[1]SRI!$A$4:$P$55,3,0)","v":0},{"$f":"VLOOKUP($B30,[1]SRI!$A$4:$P$55,4,0)","v":0},{"$f":"VLOOKUP($B30,[1]SRI!$A$4:$P$55,5,0)","v":0},{"$f":"VLOOKUP($B30,[1]SRI!$A$4:$P$55,6,0)","v":0},{"$f":"VLOOKUP($B30,[1]SRI!$A$4:$P$55,7,0)","v":0},null,null,null,{"$f":"VLOOKUP($B30,[1]SRI!$A$4:$P$55,11,0)","v":0},{"$f":"VLOOKUP($B30,[1]SRI!$A$4:$P$55,12,0)","v":0},{"$f":"VLOOKUP($B30,[1]SRI!$A$4:$P$55,13,0)","v":0},{"$f":"VLOOKUP($B30,[1]SRI!$A$4:$P$55,14,0)","v":0},{"$f":"VLOOKUP($B30,[1]SRI!$A$4:$P$55,15,0)","v":0},{"$f":"VLOOKUP($B30,[1]SRI!$A$4:$P$55,16,0)","v":0}]
[]
[]
[null,null,{"$f":"$B$36&$C$34&C35","v":"39MaDD"},{"$f":"$B$36&$C$34&D35","v":"39MaMD"},{"$f":"$B$36&$C$34&E35","v":"39MaND"},{"$f":"$B$36&$F$34&F35","v":"39DiDD"},{"$f":"$B$36&$F$34&G35","v":"39DiMD"},{"$f":"$B$36&$F$34&H35","v":"39DiND"},{"$f":"$B$36&$I$34&I35","v":"39WoDD"},{"$f":"$B$36&$I$34&J35","v":"39WoMD"},{"$f":"$B$36&$I$34&K35","v":"39WoND"},{"$f":"$B$36&$L$34&L35","v":"39DoDD"},{"$f":"$B$36&$L$34&M35","v":"39DoMD"},{"$f":"$B$36&$L$34&N35","v":"39DoND"},{"$f":"$B$36&$O$34&O35","v":"39VrDD"},{"$f":"$B$36&$O$34&P35","v":"39VrMD"},{"$f":"$B$36&$O$34&Q35","v":"39VrND"},{"$f":"$B$36&$R$34&R35","v":"39ZaDD"},{"$f":"$B$36&$R$34&S35","v":"39ZaMD"},{"$f":"$B$36&$R$34&T35","v":"39ZaND"},{"$f":"$B$36&$U$34&U35","v":"39ZaDD"},{"$f":"$B$36&$U$34&V35","v":"39ZaMD"},{"$f":"$B$36&$U$34&W35","v":"39ZaND"}]
[null,"Week","Ma",null,null,"Di",null,null,"Wo",null,null,"Do",null,null,"Vr",null,null,"Za",null,null,"Za"]
[null,null,"DD","MD","ND","DD","MD","ND","DD","MD","ND","DD","MD","ND","DD","MD","ND","DD","MD","ND","DD","MD","ND"]
[{"$f":"\"TA SRI LH Week \"&B36","v":"TA SRI LH Week 39"},{"$f":"Grafieken!AB10","v":39},{"$f":"VLOOKUP(C$33,'TA SRI LH'!$A$6:$AJ$1120,36,0)","v":""},{"$f":"VLOOKUP(D$33,'TA SRI LH'!$A$6:$AJ$1120,36,0)","v":0},{"$f":"VLOOKUP(E$33,'TA SRI LH'!$A$6:$AJ$1120,36,0)","v":0},{"$f":"VLOOKUP(F$33,'TA SRI LH'!$A$6:$AJ$1120,36,0)","v":0},{"$f":"VLOOKUP(G$33,'TA SRI LH'!$A$6:$AJ$1120,36,0)","v":0},{"$f":"VLOOKUP(H$33,'TA SRI LH'!$A$6:$AJ$1120,36,0)","v":""},{"$f":"VLOOKUP(I$33,'TA SRI LH'!$A$6:$AJ$1120,36,0)","v":0},{"$f":"VLOOKUP(J$33,'TA SRI LH'!$A$6:$AJ$1120,36,0)","v":0},{"$f":"VLOOKUP(K$33,'TA SRI LH'!$A$6:$AJ$1120,36,0)","v":""},{"$f":"VLOOKUP(L$33,'TA SRI LH'!$A$6:$AJ$1120,36,0)","v":""},{"$f":"VLOOKUP(M$33,'TA SRI LH'!$A$6:$AJ$1120,36,0)","v":0},{"$f":"VLOOKUP(N$33,'TA SRI LH'!$A$6:$AJ$1120,36,0)","v":""},{"$f":"VLOOKUP(O$33,'TA SRI LH'!$A$6:$AJ$1120,36,0)","v":""},{"$f":"VLOOKUP(P$33,'TA SRI LH'!$A$6:$AJ$1120,36,0)","v":""},{"$f":"VLOOKUP(Q$33,'TA SRI LH'!$A$6:$AJ$1120,36,0)","v":""},{"$f":"VLOOKUP(R$33,'TA SRI LH'!$A$6:$AJ$1120,36,0)","v":""},{"$f":"VLOOKUP(S$33,'TA SRI LH'!$A$6:$AJ$1120,36,0)","v":""},{"$f":"VLOOKUP(T$33,'TA SRI LH'!$A$6:$AJ$1120,36,0)","v":""},{"$f":"VLOOKUP(U$33,'TA SRI LH'!$A$6:$AJ$1120,36,0)","v":""},{"$f":"VLOOKUP(V$33,'TA SRI LH'!$A$6:$AJ$1120,36,0)","v":""},{"$f":"VLOOKUP(W$33,'TA SRI LH'!$A$6:$AJ$1120,36,0)","v":""}]
[{"$f":"\"TA SRI RH Week \"&B37","v":"TA SRI RH Week 39"},{"$f":"Grafieken!AB10","v":39},{"$f":"VLOOKUP(C$33,'TA SRI RH'!$A$6:$AJ$1120,36,0)","v":0},{"$f":"VLOOKUP(D$33,'TA SRI RH'!$A$6:$AJ$1120,36,0)","v":0},{"$f":"VLOOKUP(E$33,'TA SRI RH'!$A$6:$AJ$1120,36,0)","v":""},{"$f":"VLOOKUP(F$33,'TA SRI RH'!$A$6:$AJ$1120,36,0)","v":0},{"$f":"VLOOKUP(G$33,'TA SRI RH'!$A$6:$AJ$1120,36,0)","v":0},{"$f":"VLOOKUP(H$33,'TA SRI RH'!$A$6:$AJ$1120,36,0)","v":0},{"$f":"VLOOKUP(I$33,'TA SRI RH'!$A$6:$AJ$1120,36,0)","v":0},{"$f":"VLOOKUP(J$33,'TA SRI RH'!$A$6:$AJ$1120,36,0)","v":""},{"$f":"VLOOKUP(K$33,'TA SRI RH'!$A$6:$AJ$1120,36,0)","v":""},{"$f":"VLOOKUP(L$33,'TA SRI RH'!$A$6:$AJ$1120,36,0)","v":0},{"$f":"VLOOKUP(M$33,'TA SRI RH'!$A$6:$AJ$1120,36,0)","v":0},{"$f":"VLOOKUP(N$33,'TA SRI RH'!$A$6:$AJ$1120,36,0)","v":""},{"$f":"VLOOKUP(O$33,'TA SRI RH'!$A$6:$AJ$1120,36,0)","v":""},{"$f":"VLOOKUP(P$33,'TA SRI RH'!$A$6:$AJ$1120,36,0)","v":""},{"$f":"VLOOKUP(Q$33,'TA SRI RH'!$A$6:$AJ$1120,36,0)","v":""},{"$f":"VLOOKUP(R$33,'TA SRI RH'!$A$6:$AJ$1120,36,0)","v":""},{"$f":"VLOOKUP(S$33,'TA SRI RH'!$A$6:$AJ$1120,36,0)","v":""},{"$f":"VLOOKUP(T$33,'TA SRI RH'!$A$6:$AJ$1120,36,0)","v":""},{"$f":"VLOOKUP(U$33,'TA SRI RH'!$A$6:$AJ$1120,36,0)","v":""},{"$f":"VLOOKUP(V$33,'TA SRI RH'!$A$6:$AJ$1120,36,0)","v":""},{"$f":"VLOOKUP(W$33,'TA SRI RH'!$A$6:$AJ$1120,36,0)","v":""}]
["Target [%]",null,{"$f":"DATA!$C$9","v":0.89},{"$f":"DATA!$C$9","v":0.89},{"$f":"DATA!$C$9","v":0.89},{"$f":"DATA!$C$9","v":0.89},{"$f":"DATA!$C$9","v":0.89},{"$f":"DATA!$C$9","v":0.89},{"$f":"DATA!$C$9","v":0.89},{"$f":"DATA!$C$9","v":0.89},{"$f":"DATA!$C$9","v":0.89},{"$f":"DATA!$C$9","v":0.89},{"$f":"DATA!$C$9","v":0.89},{"$f":"DATA!$C$9","v":0.89},{"$f":"DATA!$C$9","v":0.89},{"$f":"DATA!$C$9","v":0.89},{"$f":"DATA!$C$9","v":0.89},{"$f":"DATA!$C$9","v":0.89},{"$f":"DATA!$C$9","v":0.89},{"$f":"DATA!$C$9","v":0.89},{"$f":"DATA!$C$9","v":0.89},{"$f":"DATA!$C$9","v":0.89},{"$f":"DATA!$C$9","v":0.89}]
[]
[]
[]
[null,null,null,null,{"$f":"\"Major Items \"&DATA!C15&\" Week \"&$B36&\" \"&J63&\" min\"","v":"Major Items SRI LH Week 39 45 min"},null,null,null,null,"Downtime",null,null,null,{"$f":"\"Major Items \"&DATA!C16&\" Week \"&$B36&\" \"&S63&\" min\"","v":"Major Items SRI RH Week 39 67 min"},null,null,null,null,"Downtime"]
[null,null,{"$f":"$B$36&\"M\"&DATA!$C$15&DATA!$C27","v":"39MSRI LH1"},null,{"$f":"IFERROR(VLOOKUP($C43,'[1]Downtime SAP'!$V$2:$Z$20000,2,0),\"\")","v":"02R02 F60 tip af tijdens lassen"},null,null,null,null,{"$f":"IFERROR(VLOOKUP($C43,'[1]Downtime SAP'!$V$2:$Z$20000,3,0),\"\")","v":30},null,{"$f":"$B$36&\"M\"&DATA!$C$16&DATA!$C27","v":"39MSRI RH1"},null,{"$f":"IFERROR(VLOOKUP($L43,'[1]Downtime SAP'!$V$2:$Z$20000,2,0),\"\")","v":"Max Time Expired Z22.5 (F57) 10x"},null,null,null,null,{"$f":"IFERROR(VLOOKUP($L43,'[1]Downtime SAP'!$V$2:$Z$20000,3,0),\"\")","v":17}]
[null,null,{"$f":"$B$36&\"M\"&DATA!$C$15&DATA!$C28","v":"39MSRI LH2"},null,{"$f":"IFERROR(VLOOKUP($C44,'[1]Downtime SAP'!$V$2:$Z$20000,2,0),\"\")","v":"66FX01 geen retract melding DEV0153"},null,null,null,null,{"$f":"IFERROR(VLOOKUP($C44,'[1]Downtime SAP'!$V$2:$Z$20000,3,0),\"\")","v":15},null,{"$f":"$B$36&\"M\"&DATA!$C$16&DATA!$C28","v":"39MSRI RH2"},null,{"$f":"IFERROR(VLOOKUP($L44,'[1]Downtime SAP'!$V$2:$Z$20000,2,0),\"\")","v":"Delen uit trolley gevallen (crash)"},null,null,null,null,{"$f":"IFERROR(VLOOKUP($L44,'[1]Downtime SAP'!$V$2:$Z$20000,3,0),\"\")","v":30}]
[null,null,{"$f":"$B$36&\"M\"&DATA!$C$15&DATA!$C29","v":"39MSRI LH3"},null,{"$f":"IFERROR(VLOOKUP($C45,'[1]Downtime SAP'!$V$2:$Z$20000,2,0),\"\")","v":""},null,null,null,null,{"$f":"IFERROR(VLOOKUP($C45,'[1]Downtime SAP'!$V$2:$Z$20000,3,0),\"\")","v":""},null,{"$f":"$B$36&\"M\"&DATA!$C$16&DATA!$C29","v":"39MSRI RH3"},null,{"$f":"IFERROR(VLOOKUP($L45,'[1]Downtime SAP'!$V$2:$Z$20000,2,0),\"\")","v":"05R01 verkeerde stap (S11)"},null,null,null,null,{"$f":"IFERROR(VLOOKUP($L45,'[1]Downtime SAP'!$V$2:$Z$20000,3,0),\"\")","v":20}]
[null,null,{"$f":"$B$36&\"M\"&DATA!$C$15&DATA!$C30","v":"39MSRI LH4"},null,{"$f":"IFERROR(VLOOKUP($C46,'[1]Downtime SAP'!$V$2:$Z$20000,2,0),\"\")","v":""},null,null,null,null,{"$f":"IFERROR(VLOOKUP($C46,'[1]Downtime SAP'!$V$2:$Z$20000,3,0),\"\")","v":""},null,{"$f":"$B$36&\"M\"&DATA!$C$16&DATA!$C30","v":"39MSRI RH4"},null,{"$f":"IFERROR(VLOOKUP($L46,'[1]Downtime SAP'!$V$2:$Z$20000,2,0),\"\")","v":""},null,null,null,null,{"$f":"IFERROR(VLOOKUP($L46,'[1]Downtime SAP'!$V$2:$Z$20000,3,0),\"\")","v":""}]
[null,null,{"$f":"$B$36&\"M\"&DATA!$C$15&DATA!$C31","v":"39MSRI LH5"},null,{"$f":"IFERROR(VLOOKUP($C47,'[1]Downtime SAP'!$V$2:$Z$20000,2,0),\"\")","v":""},null,null,null,null,{"$f":"IFERROR(VLOOKUP($C47,'[1]Downtime SAP'!$V$2:$Z$20000,3,0),\"\")","v":""},null,{"$f":"$B$36&\"M\"&DATA!$C$16&DATA!$C31","v":"39MSRI RH5"},null,{"$f":"IFERROR(VLOOKUP($L47,'[1]Downtime SAP'!$V$2:$Z$20000,2,0),\"\")","v":""},null,null,null,null,{"$f":"IFERROR(VLOOKUP($L47,'[1]Downtime SAP'!$V$2:$Z$20000,3,0),\"\")","v":""}]
[null,null,{"$f":"$B$36&\"M\"&DATA!$C$15&DATA!$C32","v":"39MSRI LH6"},null,{"$f":"IFERROR(VLOOKUP($C48,'[1]Downtime SAP'!$V$2:$Z$20000,2,0),\"\")","v":""},null,null,null,null,{"$f":"IFERROR(VLOOKUP($C48,'[1]Downtime SAP'!$V$2:$Z$20000,3,0),\"\")","v":""},null,{"$f":"$B$36&\"M\"&DATA!$C$16&DATA!$C32","v":"39MSRI RH6"},null,{"$f":"IFERROR(VLOOKUP($L48,'[1]Downtime SAP'!$V$2:$Z$20000,2,0),\"\")","v":""},null,null,null,null,{"$f":"IFERROR(VLOOKUP($L48,'[1]Downtime SAP'!$V$2:$Z$20000,3,0),\"\")","v":""}]
[null,null,{"$f":"$B$36&\"M\"&DATA!$C$15&DATA!$C33","v":"39MSRI LH7"},null,{"$f":"IFERROR(VLOOKUP($C49,'[1]Downtime SAP'!$V$2:$Z$20000,2,0),\"\")","v":""},null,null,null,null,{"$f":"IFERROR(VLOOKUP($C49,'[1]Downtime SAP'!$V$2:$Z$20000,3,0),\"\")","v":""},null,{"$f":"$B$36&\"M\"&DATA!$C$16&DATA!$C33","v":"39MSRI RH7"},null,{"$f":"IFERROR(VLOOKUP($L49,'[1]Downtime SAP'!$V$2:$Z$20000,2,0),\"\")","v":""},null,null,null,null,{"$f":"IFERROR(VLOOKUP($L49,'[1]Downtime SAP'!$V$2:$Z$20000,3,0),\"\")","v":""}]
[null,null,{"$f":"$B$36&\"M\"&DATA!$C$15&DATA!$C34","v":"39MSRI LH8"},null,{"$f":"IFERROR(VLOOKUP($C50,'[1]Downtime SAP'!$V$2:$Z$20000,2,0),\"\")","v":""},null,null,null,null,{"$f":"IFERROR(VLOOKUP($C50,'[1]Downtime SAP'!$V$2:$Z$20000,3,0),\"\")","v":""},null,{"$f":"$B$36&\"M\"&DATA!$C$16&DATA!$C34","v":"39MSRI RH8"},null,{"$f":"IFERROR(VLOOKUP($L50,'[1]Downtime SAP'!$V$2:$Z$20000,2,0),\"\")","v":""},null,null,null,null,{"$f":"IFERROR(VLOOKUP($L50,'[1]Downtime SAP'!$V$2:$Z$20000,3,0),\"\")","v":""}]
[null,null,{"$f":"$B$36&\"M\"&DATA!$C$15&DATA!$C35","v":"39MSRI LH9"},null,{"$f":"IFERROR(VLOOKUP($C51,'[1]Downtime SAP'!$V$2:$Z$20000,2,0),\"\")","v":""},null,null,null,null,{"$f":"IFERROR(VLOOKUP($C51,'[1]Downtime SAP'!$V$2:$Z$20000,3,0),\"\")","v":""},null,{"$f":"$B$36&\"M\"&DATA!$C$16&DATA!$C35","v":"39MSRI RH9"},null,{"$f":"IFERROR(VLOOKUP($L51,'[1]Downtime SAP'!$V$2:$Z$20000,2,0),\"\")","v":""},null,null,null,null,{"$f":"IFERROR(VLOOKUP($L51,'[1]Downtime SAP'!$V$2:$Z$20000,3,0),\"\")","v":""}]
[null,null,{"$f":"$B$36&\"M\"&DATA!$C$15&DATA!$C36","v":"39MSRI LH10"},null,{"$f":"IFERROR(VLOOKUP($C52,'[1]Downtime SAP'!$V$2:$Z$20000,2,0),\"\")","v":""},null,null,null,null,{"$f":"IFERROR(VLOOKUP($C52,'[1]Downtime SAP'!$V$2:$Z$20000,3,0),\"\")","v":""},null,{"$f":"$B$36&\"M\"&DATA!$C$16&DATA!$C36","v":"39MSRI RH10"},null,{"$f":"IFERROR(VLOOKUP($L52,'[1]Downtime SAP'!$V$2:$Z$20000,2,0),\"\")","v":""},null,null,null,null,{"$f":"IFERROR(VLOOKUP($L52,'[1]Downtime SAP'!$V$2:$Z$20000,3,0),\"\")","v":""}]
[null,null,{"$f":"$B$36&\"M\"&DATA!$C$15&DATA!$C37","v":"39MSRI LH11"},null,{"$f":"IFERROR(VLOOKUP($C53,'[1]Downtime SAP'!$V$2:$Z$20000,2,0),\"\")","v":""},null,null,null,null,{"$f":"IFERROR(VLOOKUP($C53,'[1]Downtime SAP'!$V$2:$Z$20000,3,0),\"\")","v":""},null,{"$f":"$B$36&\"M\"&DATA!$C$16&DATA!$C37","v":"39MSRI RH11"},null,{"$f":"IFERROR(VLOOKUP($L53,'[1]Downtime SAP'!$V$2:$Z$20000,2,0),\"\")","v":""},null,null,null,null,{"$f":"IFERROR(VLOOKUP($L53,'[1]Downtime SAP'!$V$2:$Z$20000,3,0),\"\")","v":""}]
[null,null,{"$f":"$B$36&\"M\"&DATA!$C$15&DATA!$C38","v":"39MSRI LH12"},null,{"$f":"IFERROR(VLOOKUP($C54,'[1]Downtime SAP'!$V$2:$Z$20000,2,0),\"\")","v":""},null,null,null,null,{"$f":"IFERROR(VLOOKUP($C54,'[1]Downtime SAP'!$V$2:$Z$20000,3,0),\"\")","v":""},null,{"$f":"$B$36&\"M\"&DATA!$C$16&DATA!$C38","v":"39MSRI RH12"},null,{"$f":"IFERROR(VLOOKUP($L54,'[1]Downtime SAP'!$V$2:$Z$20000,2,0),\"\")","v":""},null,null,null,null,{"$f":"IFERROR(VLOOKUP($L54,'[1]Downtime SAP'!$V$2:$Z$20000,3,0),\"\")","v":""}]
[null,null,{"$f":"$B$36&\"M\"&DATA!$C$15&DATA!$C39","v":"39MSRI LH13"},null,{"$f":"IFERROR(VLOOKUP($C55,'[1]Downtime SAP'!$V$2:$Z$20000,2,0),\"\")","v":""},null,null,null,null,{"$f":"IFERROR(VLOOKUP($C55,'[1]Downtime SAP'!$V$2:$Z$20000,3,0),\"\")","v":""},null,{"$f":"$B$36&\"M\"&DATA!$C$16&DATA!$C39","v":"39MSRI RH13"},null,{"$f":"IFERROR(VLOOKUP($L55,'[1]Downtime SAP'!$V$2:$Z$20000,2,0),\"\")","v":""},null,null,null,null,{"$f":"IFERROR(VLOOKUP($L55,'[1]Downtime SAP'!$V$2:$Z$20000,3,0),\"\")","v":""}]
[null,null,{"$f":"$B$36&\"M\"&DATA!$C$15&DATA!$C40","v":"39MSRI LH14"},null,{"$f":"IFERROR(VLOOKUP($C56,'[1]Downtime SAP'!$V$2:$Z$20000,2,0),\"\")","v":""},null,null,null,null,{"$f":"IFERROR(VLOOKUP($C56,'[1]Downtime SAP'!$V$2:$Z$20000,3,0),\"\")","v":""},null,{"$f":"$B$36&\"M\"&DATA!$C$16&DATA!$C40","v":"39MSRI RH14"},null,{"$f":"IFERROR(VLOOKUP($L56,'[1]Downtime SAP'!$V$2:$Z$20000,2,0),\"\")","v":""},null,null,null,null,{"$f":"IFERROR(VLOOKUP($L56,'[1]Downtime SAP'!$V$2:$Z$20000,3,0),\"\")","v":""}]
[null,null,{"$f":"$B$36&\"M\"&DATA!$C$15&DATA!$C41","v":"39MSRI LH15"},null,{"$f":"IFERROR(VLOOKUP($C57,'[1]Downtime SAP'!$V$2:$Z$20000,2,0),\"\")","v":""},null,null,null,null,{"$f":"IFERROR(VLOOKUP($C57,'[1]Downtime SAP'!$V$2:$Z$20000,3,0),\"\")","v":""},null,{"$f":"$B$36&\"M\"&DATA!$C$16&DATA!$C41","v":"39MSRI RH15"},null,{"$f":"IFERROR(VLOOKUP($L57,'[1]Downtime SAP'!$V$2:$Z$20000,2,0),\"\")","v":""},null,null,null,null,{"$f":"IFERROR(VLOOKUP($L57,'[1]Downtime SAP'!$V$2:$Z$20000,3,0),\"\")","v":""}]
[null,null,{"$f":"$B$36&\"M\"&DATA!$C$15&DATA!$C42","v":"39MSRI LH16"},null,{"$f":"IFERROR(VLOOKUP($C58,'[1]Downtime SAP'!$V$2:$Z$20000,2,0),\"\")","v":""},null,null,null,null,{"$f":"IFERROR(VLOOKUP($C58,'[1]Downtime SAP'!$V$2:$Z$20000,3,0),\"\")","v":""},null,{"$f":"$B$36&\"M\"&DATA!$C$16&DATA!$C42","v":"39MSRI RH16"},null,{"$f":"IFERROR(VLOOKUP($L58,'[1]Downtime SAP'!$V$2:$Z$20000,2,0),\"\")","v":""},null,null,null,null,{"$f":"IFERROR(VLOOKUP($L58,'[1]Downtime SAP'!$V$2:$Z$20000,3,0),\"\")","v":""}]
[null,null,{"$f":"$B$36&\"M\"&DATA!$C$15&DATA!$C43","v":"39MSRI LH17"},null,{"$f":"IFERROR(VLOOKUP($C59,'[1]Downtime SAP'!$V$2:$Z$20000,2,0),\"\")","v":""},null,null,null,null,{"$f":"IFERROR(VLOOKUP($C59,'[1]Downtime SAP'!$V$2:$Z$20000,3,0),\"\")","v":""},null,{"$f":"$B$36&\"M\"&DATA!$C$16&DATA!$C43","v":"39MSRI RH17"},null,{"$f":"IFERROR(VLOOKUP($L59,'[1]Downtime SAP'!$V$2:$Z$20000,2,0),\"\")","v":""},null,null,null,null,{"$f":"IFERROR(VLOOKUP($L59,'[1]Downtime SAP'!$V$2:$Z$20000,3,0),\"\")","v":""}]
[null,null,{"$f":"$B$36&\"M\"&DATA!$C$15&DATA!$C44","v":"39MSRI LH18"},null,{"$f":"IFERROR(VLOOKUP($C60,'[1]Downtime SAP'!$V$2:$Z$20000,2,0),\"\")","v":""},null,null,null,null,{"$f":"IFERROR(VLOOKUP($C60,'[1]Downtime SAP'!$V$2:$Z$20000,3,0),\"\")","v":""},null,{"$f":"$B$36&\"M\"&DATA!$C$16&DATA!$C44","v":"39MSRI RH18"},null,{"$f":"IFERROR(VLOOKUP($L60,'[1]Downtime SAP'!$V$2:$Z$20000,2,0),\"\")","v":""},null,null,null,null,{"$f":"IFERROR(VLOOKUP($L60,'[1]Downtime SAP'!$V$2:$Z$20000,3,0),\"\")","v":""}]
[null,null,{"$f":"$B$36&\"M\"&DATA!$C$15&DATA!$C45","v":"39MSRI LH19"},null,{"$f":"IFERROR(VLOOKUP($C61,'[1]Downtime SAP'!$V$2:$Z$20000,2,0),\"\")","v":""},null,null,null,null,{"$f":"IFERROR(VLOOKUP($C61,'[1]Downtime SAP'!$V$2:$Z$20000,3,0),\"\")","v":""},null,{"$f":"$B$36&\"M\"&DATA!$C$16&DATA!$C45","v":"39MSRI RH19"},null,{"$f":"IFERROR(VLOOKUP($L61,'[1]Downtime SAP'!$V$2:$Z$20000,2,0),\"\")","v":""},null,null,null,null,{"$f":"IFERROR(VLOOKUP($L61,'[1]Downtime SAP'!$V$2:$Z$20000,3,0),\"\")","v":""}]
[null,null,{"$f":"$B$36&\"M\"&DATA!$C$15&DATA!$C46","v":"39MSRI LH20"},null,{"$f":"IFERROR(VLOOKUP($C62,'[1]Downtime SAP'!$V$2:$Z$20000,2,0),\"\")","v":""},null,null,null,null,{"$f":"IFERROR(VLOOKUP($C62,'[1]Downtime SAP'!$V$2:$Z$20000,3,0),\"\")","v":""},null,{"$f":"$B$36&\"M\"&DATA!$C$16&DATA!$C46","v":"39MSRI RH20"},null,{"$f":"IFERROR(VLOOKUP($L62,'[1]Downtime SAP'!$V$2:$Z$20000,2,0),\"\")","v":""},null,null,null,null,{"$f":"IFERROR(VLOOKUP($L62,'[1]Downtime SAP'!$V$2:$Z$20000,3,0),\"\")","v":""}]
[null,null,null,null,null,null,null,null,"Totaal",{"$f":"SUM(J43:J62)","v":45},null,null,null,null,null,null,null,"Totaal",{"$f":"SUM(S43:S62)","v":67}]

{"sheet":"DATA","index":5,"n_rows":46,"n_cols":5,"rows_kept":46,"cut":false,"hidden":true,"merged":[[1,1,1,3]]}
[]
[null,"Werktijden",null,null,"Breaktimes"]
[null,"DD","06:30:00","14:30:00","00:45:00"]
[null,"MD","14:30:00","22:30:00","00:45:00"]
[null,"ND","22:30:00","06:30:00","00:45:00"]
[null,"ZND",null,null,"00:45:00"]
[]
[]
[null,"Target SRI",0.89]
[null,"Cycle Time",64]
[]
[null,null,"KS"]
[null,null,"X"]
[null,null,"R"]
[null,null,"SRI LH"]
[null,null,"SRI RH"]
[]
[]
[]
[null,null,{"$f":"\"UPTIME \"&C15","v":"UPTIME SRI LH"}]
[null,null,{"$f":"\"UPTIME \"&C16","v":"UPTIME SRI RH"}]
[null,null,{"$f":"\"TA \"&C15&\" TREND\"","v":"TA SRI LH TREND"}]
[null,null,{"$f":"\"TA \"&C16&\" TREND\"","v":"TA SRI RH TREND"}]
[null,null,{"$f":"\"DOWNTIME SAP \"&C15","v":"DOWNTIME SAP SRI LH"}]
[null,null,{"$f":"\"DOWNTIME SAP \"&C16","v":"DOWNTIME SAP SRI RH"}]
[]
[null,null,1]
[null,null,2]
[null,null,3]
[null,null,4]
[null,null,5]
[null,null,6]
[null,null,7]
[null,null,8]
[null,null,9]
[null,null,10]
[null,null,11]
[null,null,12]
[null,null,13]
[null,null,14]
[null,null,15]
[null,null,16]
[null,null,17]
[null,null,18]
[null,null,19]
[null,null,20]