{"text_format":"1","workbook":"xlsx","n_sheets":6,"sheets":["BSC Master ","TA SRM LH","TA SRM RH","Grafieken","Data voor grafieken","DATA"],"not_rendered":{"charts":19,"images":3,"macros":1,"external_links":1,"defined_names":4,"comments":0,"pivot_tables":0},"unopened":[],"bounds":{"document_bytes":16777216,"sheet_cells":100000,"rows_first":2000,"rows_last":500,"rows_between":2000,"halvings":0,"cell_chars":16384,"cell_head_chars":4096},"cells_cut":0,"cells_raw":0,"read":"whole","date_system":"1900"}

{"sheet":"BSC Master ","index":0,"n_rows":61,"n_cols":15,"rows_kept":61,"cut":false,"hidden":false,"merged":[[11,1,12,11],[1,1,2,2],[1,3,2,3],[1,5,1,6],[1,8,1,14],[2,5,8,6],[3,1,5,2],[3,3,5,3],[6,1,8,2],[6,3,8,3],[40,0,49,0],[50,0,59,0],[60,0,69,0],[20,0,29,0],[30,0,39,0]]}
[]
[null,"Document Owner",null,"E. Berghmans",null,"Subject",null,null,"Status Overview Actionlog"]
[null,null,null,null,null,"SRM LH/RH",null,null,"Date:",{"$f":"TODAY()","v":"2018-10-02"}]
[null,"Revision",null,"1.1"]
[null,null,null,null,null,null,null,null,null,"Status","Count"]
[null,null,null,null,null,null,null,null,null,"Ready",{"$f":"COUNTIF($M$21:$M$50,\"=Ready\")","v":0}]
[null,"Revision date",null,"2014-10-23",null,null,null,null,null,"Late",{"$f":"COUNTIF($M$21:$M$50,\"=Late\")","v":0}]
[null,null,null,null,null,null,null,null,null,"Pending",{"$f":"COUNTIF($M$21:$M$50,\"=Pending\")","v":1}]
[]
[]
[]
[]
[]
[]
[]
[]
[]
[]
[]
[null,"Nr.","Type","Station","Probleem","TAF ","Oorzaak","Actie","Resp.","Date\nAssigned","Target \nCompletion Date","Actual Completion Date","Status","Beheerder","Prio"]
[1,null,"All",10,"Veel onterechte afkeur door IFM camera",null,null,"Zorgen voor constante lichtcondities door plaatstsen LED armatuur..",null,null,null,"2018-01-15","Installed","Sides"]
[null,null,null,null,null,null,null,"Vision offerte ter beoordeling PD","PD","2018-08-13","2019-01-01",null,"Offerte","PD"]
[]
[]
[null,null,"F48","SG5","F48 deel wordt geraakt door onbekende oorzaak",null,"Camera geplaatst om oorzaak te achterhalen",null,null,"2018-04-30","2018-09-10","2018-09-10","Done","Sides"]
[null,null,null,null,null,null,"6-09-2018, oorzaak gevonden"]
[null,null,null,null,null,null,"41R01 gaat afdokken en als 42R1 een F48 deel gaat picken raakt de onderzijde ","Positie 41R01 is aangepast. Iets teruggezet richting hekwerk en meer gekanteld."]
[null,null,null,null,null,null,"van het Leonipakket van 41R01 het F48 deel van 42R01","Er is geen extra collisionzone gemaakt door EMB."]
[]
[]
[2,null,"F48",6,"06R01 Mitte LH/RH verkeerde sensoren. B03PP en B04PP F48",null,"06R01 Mitte LH/RH verkeerde sensoren. B03PP en B04PP F48","Zijn nieuwe sensoren voor besteld, zouden aanwezig zijn. Werk is van FFT overgedragen naar Will Kroonen. Planning zondag 24-9-2017 op dagdienst pennen plaatsen door EMB.\nUpdate: pensensoren niet ingebouwd, FFT heeft te weinig tooling geleverd. Onduidelijk wanneer inbouw en levering plaatsvinden. Thema ligt bij FFT\nUpdate 5-10-2017: 6 oktober wordt termijn afgegeven door FFT.\nUpdate 19-10-2017: tooling wordt waarschijnlijk weekend van KW43 of 44 ingebouwd. Nieuwe tooling aan te laten maken door B. Benders, tekeningen aan te leveren door F. van Dijck.\nUpdate 20-10-2017: tekeningen worden opgesteld adhv Catia door T. Jacobs. IW bespreken met M. Hamers dd 23-10-2017.\nUpdate 7-11-2017: nog steeds niets ingebouwd.\nNieuwe leverdatum 8-12-2017 Gepland in kerststop .                               Nw plandatum 28/1/2018 FvD.","FFT/Will Kroonen","2017-09-21","2018-01-28",null,"pending",null,1]
[]
[]
[]
[]
[]
[]
[]
[]
[]
[3]
[]
[]
[]
[]
[]
[]
[]
[]
[]
[4]
[]
[]
[]
[]
[]
[]
[]
[]
[]
[5]

{"sheet":"TA SRM LH","index":1,"n_rows":1118,"n_cols":52,"rows_kept":1118,"cut":false,"hidden":false,"merged":[[1097,46,1117,46],[1097,47,1117,47],[1097,48,1117,48],[1097,50,1117,50],[1100,24,1102,24],[1103,24,1105,24],[1106,24,1108,24],[1109,24,1111,24],[1112,24,1114,24],[1115,24,1117,24],[1097,40,1117,40],[1097,41,1117,41],[1097,42,1117,42],[1097,43,1117,43],[1097,44,1117,44],[1097,45,1117,45],[1097,24,1099,24],[1097,36,1117,36],[1097,37,1117,37],[1097,38,1117,38],[1097,39,1117,39],[1097,49,1117,49],[1076,46,1096,46],[1076,47,1096,47],[1076,48,1096,48],[1076,50,1096,50],[1079,24,1081,24],[1082,24,1084,24],[1085,24,1087,24],[1088,24,1090,24],[1091,24,1093,24],[1094,24,1096,24],[1076,40,1096,40],[1076,41,1096,41],[1076,42,1096,42],[1076,43,1096,43],[1076,44,1096,44],[1076,45,1096,45],[1076,24,1078,24],[1076,36,1096,36],[1076,37,1096,37],[1076,38,1096,38],[1076,39,1096,39],[1076,49,1096,49],[1055,46,1075,46],[1055,47,1075,47],[1055,48,1075,48],[1055,50,1075,50],[1058,24,1060,24],[1061,24,1063,24],[1064,24,1066,24],[1067,24,1069,24],[1070,24,1072,24],[1073,24,1075,24],[1055,40,1075,40],[1055,41,1075,41],[1055,42,1075,42],[1055,43,1075,43],[1055,44,1075,44],[1055,45,1075,45],[1055,24,1057,24],[1055,36,1075,36],[1055,37,1075,37],[1055,38,1075,38],[1055,39,1075,39],[1055,49,1075,49],[1034,46,1054,46],[1034,47,1054,47],[1034,48,1054,48],[1034,50,1054,50],[1037,24,1039,24],[1040,24,1042,24],[1043,24,1045,24],[1046,24,1048,24],[1049,24,1051,24],[1052,24,1054,24],[1034,40,1054,40],[1034,41,1054,41],[1034,42,1054,42],[1034,43,1054,43],[1034,44,1054,44],[1034,45,1054,45],[1034,24,1036,24],[1034,36,1054,36],[1034,37,1054,37],[1034,38,1054,38],[1034,39,1054,39],[1034,49,1054,49],[1013,46,1033,46],[1013,47,1033,47],[1013,48,1033,48],[1013,50,1033,50],[1016,24,1018,24],[1019,24,1021,24],[1022,24,1024,24],[1025,24,1027,24],[1028,24,1030,24],[1031,24,1033,24],[1013,40,1033,40],[1013,41,1033,41],[1013,42,1033,42],[1013,43,1033,43],[1013,44,1033,44],[1013,45,1033,45],[1013,24,1015,24],[1013,36,1033,36],[1013,37,1033,37],[1013,38,1033,38],[1013,39,1033,39],[1013,49,1033,49],[992,46,1012,46],[992,47,1012,47],[992,48,1012,48],[992,50,1012,50],[995,24,997,24],[998,24,1000,24],[1001,24,1003,24],[1004,24,1006,24],[1007,24,1009,24],[1010,24,1012,24],[992,40,1012,40],[992,41,1012,41],[992,42,1012,42],[992,43,1012,43],[992,44,1012,44],[992,45,1012,45],[992,24,994,24],[992,36,1012,36],[992,37,1012,37],[992,38,1012,38],[992,39,1012,39],[992,49,1012,49],[971,46,991,46],[971,47,991,47],[971,48,991,48],[971,50,991,50],[974,24,976,24],[977,24,979,24],[980,24,982,24],[983,24,985,24],[986,24,988,24],[989,24,991,24],[971,40,991,40],[971,41,991,41],[971,42,991,42],[971,43,991,43],[971,44,991,44],[971,45,991,45],[971,24,973,24],[971,36,991,36],[971,37,991,37],[971,38,991,38],[971,39,991,39],[971,49,991,49],[950,46,970,46],[950,47,970,47],[950,48,970,48],[950,50,970,50],[953,24,955,24],[956,24,958,24],[959,24,961,24],[962,24,964,24],[965,24,967,24],[968,24,970,24],[950,40,970,40],[950,41,970,41],[950,42,970,42],[950,43,970,43],[950,44,970,44],[950,45,970,45],[950,24,952,24],[950,36,970,36],[950,37,970,37],[950,38,970,38],[950,39,970,39],[950,49,970,49],[929,46,949,46],[929,47,949,47],[929,48,949,48],[929,50,949,50],[932,24,934,24],[935,24,937,24],[938,24,940,24],[941,24,943,24],[944,24,946,24],[947,24,949,24],[929,40,949,40],[929,41,949,41],[929,42,949,42],[929,43,949,43],[929,44,949,44],[929,45,949,45],[929,24,931,24],[929,36,949,36],[929,37,949,37],[929,38,949,38],[929,39,949,39],[929,49,949,49],[908,46,928,46],[908,47,928,47],[908,48,928,48],[908,50,928,50],[911,24,913,24],[914,24,916,24],[917,24,919,24],[920,24,922,24],[923,24,925,24],[926,24,928,24],[908,40,928,40],[908,41,928,41],[908,42,928,42],[908,43,928,43],[908,44,928,44],[908,45,928,45],[908,24,910,24],[908,36,928,36],[908,37,928,37],[908,38,928,38],[908,39,928,39],[908,49,928,49],[887,46,907,46],[887,47,907,47],[887,48,907,48],[887,50,907,50],[890,24,892,24],[893,24,895,24],[896,24,898,24],[899,24,901,24],[902,24,904,24],[905,24,907,24],[887,40,907,40],[887,41,907,41],[887,42,907,42],[887,43,907,43],[887,44,907,44],[887,45,907,45],[887,24,889,24],[887,36,907,36],[887,37,907,37],[887,38,907,38],[887,39,907,39],[887,49,907,49],[866,46,886,46],[866,47,886,47],[866,48,886,48],[866,50,886,50],[869,24,871,24],[872,24,874,24],[875,24,877,24],[878,24,880,24],[881,24,883,24],[884,24,886,24],[866,40,886,40],[866,41,886,41],[866,42,886,42],[866,43,886,43],[866,44,886,44],[866,45,886,45],[866,24,868,24],[866,36,886,36],[866,37,886,37],[866,38,886,38],[866,39,886,39],[866,49,886,49],[845,46,865,46],[845,47,865,47],[845,48,865,48],[845,50,865,50],[848,24,850,24],[851,24,853,24],[854,24,856,24],[857,24,859,24],[860,24,862,24],[863,24,865,24],[845,40,865,40],[845,41,865,41],[845,42,865,42],[845,43,865,43],[845,44,865,44],[845,45,865,45],[845,24,847,24],[845,36,865,36],[845,37,865,37],[845,38,865,38],[845,39,865,39],[845,49,865,49],[824,46,844,46],[824,47,844,47],[824,48,844,48],[824,50,844,50],[827,24,829,24],[830,24,832,24],[833,24,835,24],[836,24,838,24],[839,24,841,24],[842,24,844,24],[824,40,844,40],[824,41,844,41],[824,42,844,42],[824,43,844,43],[824,44,844,44],[824,45,844,45],[824,24,826,24],[824,36,844,36],[824,37,844,37],[824,38,844,38],[824,39,844,39],[824,49,844,49],[803,46,823,46],[803,47,823,47],[803,48,823,48],[803,50,823,50],[806,24,808,24],[809,24,811,24],[812,24,814,24],[815,24,817,24],[818,24,820,24],[821,24,823,24],[803,40,823,40],[803,41,823,41],[803,42,823,42],[803,43,823,43],[803,44,823,44],[803,45,823,45],[803,24,805,24],[803,36,823,36],[803,37,823,37],[803,38,823,38],[803,39,823,39],[803,49,823,49],[782,46,802,46],[782,47,802,47],[782,48,802,48],[782,50,802,50],[785,24,787,24],[788,24,790,24],[791,24,793,24],[794,24,796,24],[797,24,799,24],[800,24,802,24],[782,40,802,40],[782,41,802,41],[782,42,802,42],[782,43,802,43],[782,44,802,44],[782,45,802,45],[782,24,784,24],[782,36,802,36],[782,37,802,37],[782,38,802,38],[782,39,802,39],[782,49,802,49],[761,46,781,46],[761,47,781,47],[761,48,781,48],[761,50,781,50],[764,24,766,24],[767,24,769,24],[770,24,772,24],[773,24,775,24],[776,24,778,24],[779,24,781,24],[761,40,781,40],[761,41,781,41],[761,42,781,42],[761,43,781,43],[761,44,781,44],[761,45,781,45],[761,24,763,24],[761,36,781,36],[761,37,781,37],[761,38,781,38],[761,39,781,39],[761,49,781,49],[740,46,760,46],[740,47,760,47],[740,48,760,48],[740,50,760,50],[743,24,745,24],[746,24,748,24],[749,24,751,24],[752,24,754,24],[755,24,757,24],[758,24,760,24],[740,40,760,40],[740,41,760,41],[740,42,760,42],[740,43,760,43],[740,44,760,44],[740,45,760,45],[740,24,742,24],[740,36,760,36],[740,37,760,37],[740,38,760,38],[740,39,760,39],[740,49,760,49],[719,46,739,46],[719,47,739,47],[719,48,739,48],[719,50,739,50],[722,24,724,24],[725,24,727,24],[728,24,730,24],[731,24,733,24],[734,24,736,24],[737,24,739,24],[719,40,739,40],[719,41,739,41],[719,42,739,42],[719,43,739,43],[719,44,739,44],[719,45,739,45],[719,24,721,24],[719,36,739,36],[719,37,739,37],[719,38,739,38],[719,39,739,39],[719,49,739,49],[698,46,718,46],[698,47,718,47],[698,48,718,48],[698,50,718,50],[701,24,703,24],[704,24,706,24],[707,24,709,24],[710,24,712,24],[713,24,715,24],[716,24,718,24],[698,40,718,40],[698,41,718,41],[698,42,718,42],[698,43,718,43],[698,44,718,44],[698,45,718,45],[698,24,700,24],[698,36,718,36],[698,37,718,37],[698,38,718,38],[698,39,718,39],[698,49,718,49],[677,46,697,46],[677,47,697,47],[677,48,697,48],[677,50,697,50],[680,24,682,24],[683,24,685,24],[686,24,688,24],[689,24,691,24],[692,24,694,24],[695,24,697,24],[677,40,697,40],[677,41,697,41],[677,42,697,42],[677,43,697,43],[677,44,697,44],[677,45,697,45],[677,24,679,24],[677,36,697,36],[677,37,697,37],[677,38,697,38],[677,39,697,39],[677,49,697,49],[656,46,676,46],[656,47,676,47],[656,48,676,48],[656,50,676,50],[659,24,661,24],[662,24,664,24],[665,24,667,24],[668,24,670,24],[671,24,673,24],[674,24,676,24],[656,40,676,40],[656,41,676,41],[656,42,676,42],[656,43,676,43],[656,44,676,44],[656,45,676,45],[656,24,658,24],[656,36,676,36],[656,37,676,37],[656,38,676,38],[656,39,676,39],[656,49,676,49],[635,46,655,46],[635,47,655,47],[635,48,655,48],[635,50,655,50],[638,24,640,24],[641,24,643,24],[644,24,646,24],[647,24,649,24],[650,24,652,24],[653,24,655,24],[635,40,655,40],[635,41,655,41],[635,42,655,42],[635,43,655,43],[635,44,655,44],[635,45,655,45],[635,24,637,24],[635,36,655,36],[635,37,655,37],[635,38,655,38],[635,39,655,39],[635,49,655,49],[614,46,634,46],[614,47,634,47],[614,48,634,48],[614,50,634,50],[617,24,619,24],[620,24,622,24],[623,24,625,24],[626,24,628,24],[629,24,631,24],[632,24,634,24],[614,40,634,40],[614,41,634,41],[614,42,634,42],[614,43,634,43],[614,44,634,44],[614,45,634,45],[614,24,616,24],[614,36,634,36],[614,37,634,37],[614,38,634,38],[614,39,634,39],[614,49,634,49],[593,46,613,46],[593,47,613,47],[593,48,613,48],[593,50,613,50],[596,24,598,24],[599,24,601,24],[602,24,604,24],[605,24,607,24],[608,24,610,24],[611,24,613,24],[593,40,613,40],[593,41,613,41],[593,42,613,42],[593,43,613,43],[593,44,613,44],[593,45,613,45],[593,24,595,24],[593,36,613,36],[593,37,613,37],[593,38,613,38],[593,39,613,39],[593,49,613,49],[572,46,592,46],[572,47,592,47],[572,48,592,48],[572,50,592,50],[575,24,577,24],[578,24,580,24],[581,24,583,24],[584,24,586,24],[587,24,589,24],[590,24,592,24],[572,40,592,40],[572,41,592,41],[572,42,592,42],[572,43,592,43],[572,44,592,44],[572,45,592,45],[572,24,574,24],[572,36,592,36],[572,37,592,37],[572,38,592,38],[572,39,592,39],[572,49,592,49],[551,46,571,46],[551,47,571,47],[551,48,571,48],[551,50,571,50],[554,24,556,24],[557,24,559,24],[560,24,562,24],[563,24,565,24],[566,24,568,24],[569,24,571,24],[551,40,571,40],[551,41,571,41],[551,42,571,42],[551,43,571,43],[551,44,571,44],[551,45,571,45],[551,24,553,24],[551,36,571,36],[551,37,571,37],[551,38,571,38],[551,39,571,39],[551,49,571,49],[530,46,550,46],[530,47,550,47],[530,48,550,48],[530,50,550,50],[533,24,535,24],[536,24,538,24],[539,24,541,24],[542,24,544,24],[545,24,547,24],[548,24,550,24],[530,40,550,40],[530,41,550,41],[530,42,550,42],[530,43,550,43],[530,44,550,44],[530,45,550,45],[530,24,532,24],[530,36,550,36],[530,37,550,37],[530,38,550,38],[530,39,550,39],[530,49,550,49],[509,46,529,46],[509,47,529,47],[509,48,529,48],[509,50,529,50],[512,24,514,24],[515,24,517,24],[518,24,520,24],[521,24,523,24],[524,24,526,24],[527,24,529,24],[509,40,529,40],[509,41,529,41],[509,42,529,42],[509,43,529,43],[509,44,529,44],[509,45,529,45],[509,24,511,24],[509,36,529,36],[509,37,529,37],[509,38,529,38],[509,39,529,39],[509,49,529,49],[488,46,508,46],[488,47,508,47],[488,48,508,48],[488,50,508,50],[491,24,493,24],[494,24,496,24],[497,24,499,24],[500,24,502,24],[503,24,505,24],[506,24,508,24],[488,40,508,40],[488,41,508,41],[488,42,508,42],[488,43,508,43],[488,44,508,44],[488,45,508,45],[488,24,490,24],[488,36,508,36],[488,37,508,37],[488,38,508,38],[488,39,508,39],[488,49,508,49],[467,47,487,47],[467,48,487,48],[467,50,487,50],[470,24,472,24],[473,24,475,24],[476,24,478,24],[479,24,481,24],[482,24,484,24],[485,24,487,24],[467,41,487,41],[467,42,487,42],[467,43,487,43],[467,44,487,44],[467,45,487,45],[467,46,487,46],[467,24,469,24],[467,36,487,36],[467,37,487,37],[467,38,487,38],[467,39,487,39],[467,40,487,40],[467,49,487,49],[446,47,466,47],[446,48,466,48],[446,50,466,50],[449,24,451,24],[452,24,454,24],[455,24,457,24],[458,24,460,24],[461,24,463,24],[464,24,466,24],[446,41,466,41],[446,42,466,42],[446,43,466,43],[446,44,466,44],[446,45,466,45],[446,46,466,46],[446,24,448,24],[446,36,466,36],[446,37,466,37],[446,38,466,38],[446,39,466,39],[446,40,466,40],[446,49,466,49],[425,47,445,47],[425,48,445,48],[425,50,445,50],[428,24,430,24],[431,24,433,24],[434,24,436,24],[437,24,439,24],[440,24,442,24],[443,24,445,24],[425,41,445,41],[425,42,445,42],[425,43,445,43],[425,44,445,44],[425,45,445,45],[425,46,445,46],[425,24,427,24],[425,36,445,36],[425,37,445,37],[425,38,445,38],[425,39,445,39],[425,40,445,40],[425,49,445,49],[404,47,424,47],[404,48,424,48],[404,50,424,50],[407,24,409,24],[410,24,412,24],[413,24,415,24],[416,24,418,24],[419,24,421,24],[422,24,424,24],[404,41,424,41],[404,42,424,42],[404,43,424,43],[404,44,424,44],[404,45,424,45],[404,46,424,46],[404,24,406,24],[404,36,424,36],[404,37,424,37],[404,38,424,38],[404,39,424,39],[404,40,424,40],[404,49,424,49],[383,47,403,47],[383,48,403,48],[383,50,403,50],[386,24,388,24],[389,24,391,24],[392,24,394,24],[395,24,397,24],[398,24,400,24],[401,24,403,24],[383,41,403,41],[383,42,403,42],[383,43,403,43],[383,44,403,44],[383,45,403,45],[383,46,403,46],[383,24,385,24],[383,36,403,36],[383,37,403,37],[383,38,403,38],[383,39,403,39],[383,40,403,40],[383,49,403,49],[362,47,382,47],[362,48,382,48],[362,50,382,50],[365,24,367,24],[368,24,370,24],[371,24,373,24],[374,24,376,24],[377,24,379,24],[380,24,382,24],[362,41,382,41],[362,42,382,42],[362,43,382,43],[362,44,382,44],[362,45,382,45],[362,46,382,46],[362,24,364,24],[362,36,382,36],[362,37,382,37],[362,38,382,38],[362,39,382,39],[362,40,382,40],[362,49,382,49],[341,47,361,47],[341,48,361,48],[341,50,361,50],[344,24,346,24],[347,24,349,24],[350,24,352,24],[353,24,355,24],[356,24,358,24],[359,24,361,24],[341,41,361,41],[341,42,361,42],[341,43,361,43],[341,44,361,44],[341,45,361,45],[341,46,361,46],[341,24,343,24],[341,36,361,36],[341,37,361,37],[341,38,361,38],[341,39,361,39],[341,40,361,40],[341,49,361,49],[320,47,340,47],[320,48,340,48],[320,50,340,50],[323,24,325,24],[326,24,328,24],[329,24,331,24],[332,24,334,24],[335,24,337,24],[338,24,340,24],[320,41,340,41],[320,42,340,42],[320,43,340,43],[320,44,340,44],[320,45,340,45],[320,46,340,46],[320,24,322,24],[320,36,340,36],[320,37,340,37],[320,38,340,38],[320,39,340,39],[320,40,340,40],[320,49,340,49],[299,47,319,47],[299,48,319,48],[299,50,319,50],[302,24,304,24],[305,24,307,24],[308,24,310,24],[311,24,313,24],[314,24,316,24],[317,24,319,24],[299,41,319,41],[299,42,319,42],[299,43,319,43],[299,44,319,44],[299,45,319,45],[299,46,319,46],[299,24,301,24],[299,36,319,36],[299,37,319,37],[299,38,319,38],[299,39,319,39],[299,40,319,40],[299,49,319,49],[278,47,298,47],[278,48,298,48],[278,50,298,50],[281,24,283,24],[284,24,286,24],[287,24,289,24],[290,24,292,24],[293,24,295,24],[296,24,298,24],[278,41,298,41],[278,42,298,42],[278,43,298,43],[278,44,298,44],[278,45,298,45],[278,46,298,46],[278,24,280,24],[278,36,298,36],[278,37,298,37],[278,38,298,38],[278,39,298,39],[278,40,298,40],[278,49,298,49],[257,47,277,47],[257,48,277,48],[257,50,277,50],[260,24,262,24],[263,24,265,24],[266,24,268,24],[269,24,271,24],[272,24,274,24],[275,24,277,24],[257,41,277,41],[257,42,277,42],[257,43,277,43],[257,44,277,44],[257,45,277,45],[257,46,277,46],[257,24,259,24],[257,36,277,36],[257,37,277,37],[257,38,277,38],[257,39,277,39],[257,40,277,40],[257,49,277,49],[236,47,256,47],[236,48,256,48],[236,50,256,50],[239,24,241,24],[242,24,244,24],[245,24,247,24],[248,24,250,24],[251,24,253,24],[254,24,256,24],[236,41,256,41],[236,42,256,42],[236,43,256,43],[236,44,256,44],[236,45,256,45],[236,46,256,46],[236,24,238,24],[236,36,256,36],[236,37,256,37],[236,38,256,38],[236,39,256,39],[236,40,256,40],[236,49,256,49],[215,47,235,47],[215,48,235,48],[215,50,235,50],[218,24,220,24],[221,24,223,24],[224,24,226,24],[227,24,229,24],[230,24,232,24],[233,24,235,24],[215,41,235,41],[215,42,235,42],[215,43,235,43],[215,44,235,44],[215,45,235,45],[215,46,235,46],[215,24,217,24],[215,36,235,36],[215,37,235,37],[215,38,235,38],[215,39,235,39],[215,40,235,40],[215,49,235,49],[194,47,214,47],[194,48,214,48],[194,50,214,50],[197,24,199,24],[200,24,202,24],[203,24,205,24],[206,24,208,24],[209,24,211,24],[212,24,214,24],[194,41,214,41],[194,42,214,42],[194,43,214,43],[194,44,214,44],[194,45,214,45],[194,46,214,46],[194,24,196,24],[194,36,214,36],[194,37,214,37],[194,38,214,38],[194,39,214,39],[194,40,214,40],[194,49,214,49],[173,47,193,47],[173,48,193,48],[173,50,193,50],[176,24,178,24],[179,24,181,24],[182,24,184,24],[185,24,187,24],[188,24,190,24],[191,24,193,24],[173,41,193,41],[173,42,193,42],[173,43,193,43],[173,44,193,44],[173,45,193,45],[173,46,193,46],[173,24,175,24],[173,36,193,36],[173,37,193,37],[173,38,193,38],[173,39,193,39],[173,40,193,40],[173,49,193,49],[152,47,172,47],[152,48,172,48],[152,50,172,50],[155,24,157,24],[158,24,160,24],[161,24,163,24],[164,24,166,24],[167,24,169,24],[170,24,172,24],[152,41,172,41]],"merged_total":1181,"flags":["merged_cut"]}
[null,null,null,null,null,null,null,null,null,null,null,null,null,null,null,null,null,null,null,null,null,null,null,{"$f":"DATA!$C$15","v":"SRM LH"},null,null,null,null,"TA Target",null,{"$f":"DATA!$C$9","v":0.89},null,null,null,null,null,null,null,null,null,null,"TA","=","[ A ]"]
[null,null,null,null,null,null,null,null,null,null,null,null,null,null,null,null,null,null,null,null,null,null,null,null,null,null,null,null,"Cycle Time",null,{"$f":"DATA!$C$10","v":64},null,{"$f":"AE2/60","v":1.0666666666666667}]
[null,null,null,null,null,null,null,null,null,null,null,null,null,null,null,null,null,null,null,null,null,null,null,null,null,null,null,null,"Enter Data",null,null,null,null,null,null,null,null,null,null,null,null,null,null,"[ T ] - [ BS ] - [ PS ]"]
["ID","Shift\n Start Time","Shift \nEnd Time","Break Time","Total \nShift time [Hour]","Available\nProduction Time [Hour]","Target [%]","Cycle time [s]","Target Ouput [56/H]","Parts Target \n[56/H]","Parts Target\n[100% Availability]","Blocked / Starved\n[Hour]","Loss Blocked/ Starved [Parts]","Loss Blocked/ Starved [%]","Planned Stop/ Early Finish\n[Hour]","Loss Planned Stop/ Early Finish [Parts]","Loss \nPlanned Stop/ Early Finish\n[%]","Rekenkolom Benodigde tijd ","Produced Parts Actual","Produced Parts Shift D1","Produced Parts Shift D2","Produced Parts Shift D3",null,"Week ","Date","Day","Shift","Shift","Blocked / Starved [Min]","Planned Stop / Early Finish\n[Min]","Parts during break","Produced Parts Total","Downtime Technical SAP[min]","Delta [Parts]","Availability (Total Time)\n[%]","Technical Availabilty SRI LH\n[%]","Parts Target\n[100% Availability]  ","Parts Actual                        ","Availability (Total Time)\n[%]","Loss Blocked/ Starved [Parts]","Loss Blocked/ Starved [%] ","Loss \nPlanned Stop/ Early Finish [Parts]","Loss \nPlanned Stop/ Early Finish\n[%]","Technical Availability Total LH\n[%]","Technical Availability \nShift D1\n[%]","Technical Availability Shift D2\n[%]","Technical Availability Shift D3\n[%]","Total Downtime [Parts]","Total Downtime\n[%]","Total Downtime [Min]","Geregistreerd SAP Technical Downtime [Min]","Major Items Downtime"]
[null,null,null,null,null,null,null,null,null,null,null,null,null,null,null,null,null,null,null,null,null,null,null,null,null,null,null,null,null,null,null,null,null,null,null,null,"[T]","[A]",null,"[BS]",null,"[PS]",null,null,"D1","D2","D3"]
[{"$f":"X6&Z6&AA6","v":"1maDD"},{"$f":"VLOOKUP($AA6,DATA!$B$3:$E6,2,0)","v":"06:30:00"},{"$f":"VLOOKUP($AA6,DATA!$B$3:$E6,3,0)","v":"14:30:00"},{"$f":"VLOOKUP($AA6,DATA!$B$3:$E6,4,0)","v":3.125E-2},{"$f":"(C6-B6+(B6>C6))-D6","v":0.30208333333333331},{"$f":"E6-O6-L6","v":0.30208333333333331},{"$f":"DATA!$C$9","v":0.89},{"$f":"DATA!$C$10","v":64},1,{"$f":"F6*86400/H6*I6","v":407.8125},{"$f":"E6*86400/H6","v":407.8125},{"$f":"TIME(INT($AC6/60),INT(MOD($AC6,60)/1),0)","v":0},{"$f":"IF($L6*86400/$H6=0,\"\",$L6*86400/$H6)","v":""},{"$f":"IFERROR($M6/$K6,\"\")","v":""},{"$f":"TIME(INT($AD6/60),INT(MOD($AD6,60)/1),0)","v":0},{"$f":"IF($O6*86400/$H6=0,\"\",$O6*86400/$H6)","v":""},{"$f":"IFERROR($P6/$K6,\"\")","v":""},{"$f":"AF6*AG$2","v":0},{"$f":"IF(AF6-AE6=0,\"\",AF6-AE6)","v":""},{"$f":"IF(IF($AB6=\"D1\",$S6,\"\")=0,\"\",IF($AB6=\"D1\",$S6,\"\"))","v":""},{"$f":"IF(IF($AB6=\"D2\",$S6,\"\")=0,\"\",IF($AB6=\"D2\",$S6,\"\"))","v":""},{"$f":"IF(IF($AB6=\"D3\",$S6,\"\")=0,\"\",IF($AB6=\"D3\",$S6,\"\"))","v":""},null,{"$f":"X16","v":1},"2018-01-01",{"$f":"TEXT(Y6,\"ddd\")","v":"ma"},"DD",{"$f":"IFERROR(HLOOKUP(Y6,[1]DATA!$A$1:$NB$5,3,0),\"\")","v":"D1"},null,null,null,null,0,"","","",3487.5,2340,0.67096774193548392,614.0625,0.17607526881720431,328.125,9.4086021505376344E-2,0.9200835285974085,0.92865187740245458,"",0.91151517979236274,205.3125,5.8870967741935426E-2,219,244]
["1maMD",{"$f":"VLOOKUP($AA7,DATA!$B$3:$E7,2,0)","v":"14:30:00"},{"$f":"VLOOKUP($AA7,DATA!$B$3:$E7,3,0)","v":"22:30:00"},{"$f":"VLOOKUP($AA7,DATA!$B$3:$E7,4,0)","v":3.125E-2},{"$f":"(C7-B7+(B7>C7))-D7","v":0.30208333333333337},{"$f":"E7-O7-L7","v":0.30208333333333337},{"$f":"DATA!$C$9","v":0.89},{"$f":"DATA!$C$10","v":64},1,{"$f":"F7*86400/H7*I7","v":407.81250000000006},{"$f":"E7*86400/H7","v":407.81250000000006},{"$f":"TIME(INT($AC7/60),INT(MOD($AC7,60)/1),0)","v":0},{"$f":"IF($L7*86400/$H7=0,\"\",$L7*86400/$H7)","v":""},{"$f":"IFERROR($M7/$K7,\"\")","v":""},{"$f":"TIME(INT(AD7/60),INT(MOD(AD7,60)/1),0)","v":0},"",{"$f":"IFERROR($P7/$K7,\"\")","v":""},{"$f":"AF7*AG$2","v":0},{"$f":"IF(AF7-AE7=0,\"\",AF7-AE7)","v":""},{"$f":"IF(IF($AB7=\"D1\",$S7,\"\")=0,\"\",IF($AB7=\"D1\",$S7,\"\"))","v":""},{"$f":"IF(IF($AB7=\"D2\",$S7,\"\")=0,\"\",IF($AB7=\"D2\",$S7,\"\"))","v":""},{"$f":"IF(IF($AB7=\"D3\",$S7,\"\")=0,\"\",IF($AB7=\"D3\",$S7,\"\"))","v":""},null,{"$f":"X16","v":1},null,{"$f":"TEXT(Y6,\"ddd\")","v":"ma"},"MD",{"$f":"IFERROR(HLOOKUP(Y6,[1]DATA!$A$1:$NB$5,4,0),\"\")","v":"D3"},null,null,null,null,0,"","",""]
["1maND",{"$f":"VLOOKUP($AA8,DATA!$B$3:$E8,2,0)","v":"22:30:00"},{"$f":"VLOOKUP($AA8,DATA!$B$3:$E8,3,0)","v":"06:30:00"},{"$f":"VLOOKUP($AA8,DATA!$B$3:$E8,4,0)","v":3.125E-2},0.30208333333333326,0.30208333333333326,{"$f":"DATA!$C$9","v":0.89},{"$f":"DATA!$C$10","v":64},1,407.81249999999989,407.81249999999989,0,"","",0,"","",0,"","","","",null,{"$f":"X16","v":1},null,{"$f":"TEXT(Y6,\"ddd\")","v":"ma"},"ND",{"$f":"IFERROR(HLOOKUP(Y6,[1]DATA!$A$1:$NB$5,5,0),\"\")","v":"D2"},null,null,null,null,0,"","",""]
["1diDD",{"$f":"VLOOKUP($AA9,DATA!$B$3:$E9,2,0)","v":"06:30:00"},{"$f":"VLOOKUP($AA9,DATA!$B$3:$E9,3,0)","v":"14:30:00"},{"$f":"VLOOKUP($AA9,DATA!$B$3:$E9,4,0)","v":3.125E-2},0.30208333333333331,0.2076388888888889,{"$f":"DATA!$C$9","v":0.89},{"$f":"DATA!$C$10","v":64},1,280.3125,407.8125,1.1111111111111112E-2,15,3.6781609195402298E-2,8.3333333333333329E-2,112.5,0.27586206896551724,307.2,276,276,"","",null,{"$f":"X16","v":1},{"$f":"Y6+1","v":"2018-01-02"},{"$f":"TEXT(Y9,\"ddd\")","v":"di"},"DD",{"$f":"IFERROR(HLOOKUP(Y9,[1]DATA!$A$1:$NB$5,3,0),\"\")","v":"D1"},16,120,12,288,70,-32.437500000000057,0.63311827956989253,0.81442205726405092]
["1diMD",{"$f":"VLOOKUP($AA10,DATA!$B$3:$E10,2,0)","v":"14:30:00"},{"$f":"VLOOKUP($AA10,DATA!$B$3:$E10,3,0)","v":"22:30:00"},{"$f":"VLOOKUP($AA10,DATA!$B$3:$E10,4,0)","v":3.125E-2},0.30208333333333337,0.21111111111111117,{"$f":"DATA!$C$9","v":0.89},{"$f":"DATA!$C$10","v":64},1,285.00000000000006,407.81250000000006,7.6388888888888886E-3,10.3125,2.5287356321839077E-2,8.3333333333333329E-2,112.5,0.27586206896551718,341.33333333333331,288,"","",288,null,{"$f":"X16","v":1},null,{"$f":"TEXT(Y9,\"ddd\")","v":"di"},"MD",{"$f":"IFERROR(HLOOKUP(Y9,[1]DATA!$A$1:$NB$5,4,0),\"\")","v":"D3"},11,120,32,320,76,-25.125,0.66064516129032269,0.8178913738019169]
["1diND",{"$f":"VLOOKUP($AA11,DATA!$B$3:$E11,2,0)","v":"22:30:00"},{"$f":"VLOOKUP($AA11,DATA!$B$3:$E11,3,0)","v":"06:30:00"},{"$f":"VLOOKUP($AA11,DATA!$B$3:$E11,4,0)","v":3.125E-2},0.30208333333333326,0.30208333333333326,{"$f":"DATA!$C$9","v":0.89},{"$f":"DATA!$C$10","v":64},1,407.81249999999989,407.81249999999989,0,"","",0,"","",0,"","","","",null,{"$f":"X16","v":1},null,{"$f":"TEXT(Y9,\"ddd\")","v":"di"},"ND",{"$f":"IFERROR(HLOOKUP(Y9,[1]DATA!$A$1:$NB$5,5,0),\"\")","v":"D2"},null,null,null,null,0,"","",""]
["1woDD",{"$f":"VLOOKUP($AA12,DATA!$B$3:$E12,2,0)","v":"06:30:00"},{"$f":"VLOOKUP($AA12,DATA!$B$3:$E12,3,0)","v":"14:30:00"},{"$f":"VLOOKUP($AA12,DATA!$B$3:$E12,4,0)","v":3.125E-2},0.30208333333333331,0.25347222222222221,{"$f":"DATA!$C$9","v":0.89},{"$f":"DATA!$C$10","v":64},1,342.1875,407.8125,0,"","",4.8611111111111112E-2,65.625,0.16091954022988506,346.66666666666669,312,312,"","",null,{"$f":"X16","v":1},{"$f":"Y9+1","v":"2018-01-03"},{"$f":"TEXT(Y12,\"ddd\")","v":"wo"},"DD",{"$f":"IFERROR(HLOOKUP(Y12,[1]DATA!$A$1:$NB$5,3,0),\"\")","v":"D1"},0,70,13,325,20,-58.312500000000057,0.7156989247311828,0.94545454545454544]
["1woMD",{"$f":"VLOOKUP($AA13,DATA!$B$3:$E13,2,0)","v":"14:30:00"},{"$f":"VLOOKUP($AA13,DATA!$B$3:$E13,3,0)","v":"22:30:00"},{"$f":"VLOOKUP($AA13,DATA!$B$3:$E13,4,0)","v":3.125E-2},0.30208333333333337,0.24444444444444449,{"$f":"DATA!$C$9","v":0.89},{"$f":"DATA!$C$10","v":64},1,330.00000000000006,407.81250000000006,3.6805555555555557E-2,49.6875,0.1218390804597701,2.0833333333333332E-2,28.125,6.8965517241379296E-2,386.13333333333333,331,"","",331,null,{"$f":"X16","v":1},null,{"$f":"TEXT(Y12,\"ddd\")","v":"wo"},"MD",{"$f":"IFERROR(HLOOKUP(Y12,[1]DATA!$A$1:$NB$5,4,0),\"\")","v":"D3"},53,30,31,362,5,-27.125,0.75928315412186387,0.98721663541844218]
["1woND",{"$f":"VLOOKUP($AA14,DATA!$B$3:$E14,2,0)","v":"22:30:00"},{"$f":"VLOOKUP($AA14,DATA!$B$3:$E14,3,0)","v":"06:30:00"},{"$f":"VLOOKUP($AA14,DATA!$B$3:$E14,4,0)","v":3.125E-2},0.30208333333333326,0.30208333333333326,{"$f":"DATA!$C$9","v":0.89},{"$f":"DATA!$C$10","v":64},1,407.81249999999989,407.81249999999989,0,"","",0,"","",0,"","","","",null,{"$f":"X16","v":1},null,{"$f":"TEXT(Y12,\"ddd\")","v":"wo"},"ND",{"$f":"IFERROR(HLOOKUP(Y12,[1]DATA!$A$1:$NB$5,5,0),\"\")","v":"D2"},null,null,null,null,0,"","",""]
["1doDD",{"$f":"VLOOKUP($AA15,DATA!$B$3:$E15,2,0)","v":"06:30:00"},{"$f":"VLOOKUP($AA15,DATA!$B$3:$E15,3,0)","v":"14:30:00"},{"$f":"VLOOKUP($AA15,DATA!$B$3:$E15,4,0)","v":3.125E-2},0.30208333333333331,0.16874999999999998,{"$f":"DATA!$C$9","v":0.89},{"$f":"DATA!$C$10","v":64},1,227.81249999999997,407.8125,0.13333333333333333,180,0.44137931034482758,0,"","",280.5333333333333,253,253,"","",null,{"$f":"X16","v":1},{"$f":"Y12+1","v":"2018-01-04"},{"$f":"TEXT(Y15,\"ddd\")","v":"do"},"DD",{"$f":"IFERROR(HLOOKUP(Y15,[1]DATA!$A$1:$NB$5,3,0),\"\")","v":"D1"},192,null,10,263,4,-2.9375000000000284,0.58035842293906814,0.98594189315838798]
["1doMD",{"$f":"VLOOKUP($AA16,DATA!$B$3:$E16,2,0)","v":"14:30:00"},{"$f":"VLOOKUP($AA16,DATA!$B$3:$E16,3,0)","v":"22:30:00"},{"$f":"VLOOKUP($AA16,DATA!$B$3:$E16,4,0)","v":3.125E-2},0.30208333333333337,0.24444444444444449,{"$f":"DATA!$C$9","v":0.89},{"$f":"DATA!$C$10","v":64},1,330.00000000000006,407.81250000000006,5.7638888888888885E-2,77.8125,0.19080459770114941,0,"","",376.5333333333333,330,"","",330,null,{"$f":"WEEKNUM($Y6)","v":1},null,{"$f":"TEXT(Y15,\"ddd\")","v":"do"},"MD",{"$f":"IFERROR(HLOOKUP(Y15,[1]DATA!$A$1:$NB$5,4,0),\"\")","v":"D3"},83,null,23,353,10,-28.124999999999943,0.75698924731182804,0.97412901000344942]
["1doND",{"$f":"VLOOKUP($AA17,DATA!$B$3:$E17,2,0)","v":"22:30:00"},{"$f":"VLOOKUP($AA17,DATA!$B$3:$E17,3,0)","v":"06:30:00"},{"$f":"VLOOKUP($AA17,DATA!$B$3:$E17,4,0)","v":3.125E-2},0.30208333333333326,0.30208333333333326,{"$f":"DATA!$C$9","v":0.89},{"$f":"DATA!$C$10","v":64},1,407.81249999999989,407.81249999999989,0,"","",0,"","",0,"","","","",null,{"$f":"X16","v":1},null,{"$f":"TEXT(Y15,\"ddd\")","v":"do"},"ND",{"$f":"IFERROR(HLOOKUP(Y15,[1]DATA!$A$1:$NB$5,5,0),\"\")","v":"D2"},null,null,null,null,0,"","",""]
["1vrDD",{"$f":"VLOOKUP($AA18,DATA!$B$3:$E18,2,0)","v":"06:30:00"},{"$f":"VLOOKUP($AA18,DATA!$B$3:$E18,3,0)","v":"14:30:00"},{"$f":"VLOOKUP($AA18,DATA!$B$3:$E18,4,0)","v":3.125E-2},0.30208333333333331,0.17291666666666666,{"$f":"DATA!$C$9","v":0.89},{"$f":"DATA!$C$10","v":64},1,233.4375,407.8125,0.12222222222222223,165,0.40459770114942528,6.9444444444444441E-3,9.375,2.2988505747126436E-2,310.39999999999998,259,259,"","",null,{"$f":"X16","v":1},{"$f":"Y15+1","v":"2018-01-05"},{"$f":"TEXT(Y18,\"ddd\")","v":"vr"},"DD",{"$f":"IFERROR(HLOOKUP(Y18,[1]DATA!$A$1:$NB$5,3,0),\"\")","v":"D1"},176,10,32,291,10,-2.5625000000000568,0.59412186379928311,0.96878901373283399]
["1vrMD",{"$f":"VLOOKUP($AA19,DATA!$B$3:$E19,2,0)","v":"14:30:00"},{"$f":"VLOOKUP($AA19,DATA!$B$3:$E19,3,0)","v":"22:30:00"},{"$f":"VLOOKUP($AA19,DATA!$B$3:$E19,4,0)","v":3.125E-2},0.30208333333333337,0.21597222222222223,{"$f":"DATA!$C$9","v":0.89},{"$f":"DATA!$C$10","v":64},1,291.5625,407.81250000000006,8.6111111111111124E-2,116.25000000000001,0.28505747126436781,0,"","",318.93333333333334,291,"","",291,null,{"$f":"X16","v":1},null,{"$f":"TEXT(Y18,\"ddd\")","v":"vr"},"MD",{"$f":"IFERROR(HLOOKUP(Y18,[1]DATA!$A$1:$NB$5,4,0),\"\")","v":"D3"},124,null,8,299,49,-28.687499999999886,0.66752688172043018,0.86682369994564235]
["1vrND",{"$f":"VLOOKUP($AA20,DATA!$B$3:$E20,2,0)","v":"22:30:00"},{"$f":"VLOOKUP($AA20,DATA!$B$3:$E20,3,0)","v":"06:30:00"},{"$f":"VLOOKUP($AA20,DATA!$B$3:$E20,4,0)","v":3.125E-2},0.30208333333333326,0.30208333333333326,{"$f":"DATA!$C$9","v":0.89},{"$f":"DATA!$C$10","v":64},1,407.81249999999989,407.81249999999989,0,"","",0,"","",0,"","","","",null,{"$f":"X16","v":1},null,{"$f":"TEXT(Y18,\"ddd\")","v":"vr"},"ND",{"$f":"IFERROR(HLOOKUP(Y18,[1]DATA!$A$1:$NB$5,5,0),\"\")","v":"-"},null,null,null,null,0,"","",""]
["1zaDD",{"$f":"VLOOKUP($AA21,DATA!$B$3:$E21,2,0)","v":"06:30:00"},{"$f":"VLOOKUP($AA21,DATA!$B$3:$E21,3,0)","v":"14:30:00"},{"$f":"VLOOKUP($AA21,DATA!$B$3:$E21,4,0)","v":3.125E-2},0.30208333333333331,0.30208333333333331,{"$f":"DATA!$C$9","v":0.89},{"$f":"DATA!$C$10","v":64},1,407.8125,407.8125,0,"","",0,"","",0,"","","","",null,{"$f":"X16","v":1},{"$f":"Y18+1","v":"2018-01-06"},{"$f":"TEXT(Y21,\"ddd\")","v":"za"},"DD",{"$f":"IFERROR(HLOOKUP(Y21,[1]DATA!$A$1:$NB$5,3,0),\"\")","v":"-"},null,null,null,null,0,"","",""]
["1zaMD",{"$f":"VLOOKUP($AA22,DATA!$B$3:$E22,2,0)","v":"14:30:00"},{"$f":"VLOOKUP($AA22,DATA!$B$3:$E22,3,0)","v":"22:30:00"},{"$f":"VLOOKUP($AA22,DATA!$B$3:$E22,4,0)","v":3.125E-2},0.30208333333333337,0.30208333333333337,{"$f":"DATA!$C$9","v":0.89},{"$f":"DATA!$C$10","v":64},1,407.81250000000006,407.81250000000006,0,"","",0,"","",0,"","","","",null,{"$f":"X16","v":1},null,{"$f":"TEXT(Y21,\"ddd\")","v":"za"},"MD",{"$f":"IFERROR(HLOOKUP(Y21,[1]DATA!$A$1:$NB$5,4,0),\"\")","v":"-"},null,null,null,null,0,"","",""]
["1zaND",{"$f":"VLOOKUP($AA23,DATA!$B$3:$E23,2,0)","v":"22:30:00"},{"$f":"VLOOKUP($AA23,DATA!$B$3:$E23,3,0)","v":"06:30:00"},{"$f":"VLOOKUP($AA23,DATA!$B$3:$E23,4,0)","v":3.125E-2},0.30208333333333326,0.30208333333333326,{"$f":"DATA!$C$9","v":0.89},{"$f":"DATA!$C$10","v":64},1,407.81249999999989,407.81249999999989,0,"","",0,"","",0,"","","","",null,{"$f":"X16","v":1},null,{"$f":"TEXT(Y21,\"ddd\")","v":"za"},"ND",{"$f":"IFERROR(HLOOKUP(Y21,[1]DATA!$A$1:$NB$5,5,0),\"\")","v":"-"},null,null,null,null,0,"","",""]
["1zoDD",{"$f":"VLOOKUP($AA24,DATA!$B$3:$E24,2,0)","v":"06:30:00"},{"$f":"VLOOKUP($AA24,DATA!$B$3:$E24,3,0)","v":"14:30:00"},{"$f":"VLOOKUP($AA24,DATA!$B$3:$E24,4,0)","v":3.125E-2},0.30208333333333331,0.30208333333333331,{"$f":"DATA!$C$9","v":0.89},{"$f":"DATA!$C$10","v":64},1,407.8125,407.8125,0,"","",0,"","",0,"","","","",null,{"$f":"X16","v":1},{"$f":"Y21+1","v":"2018-01-07"},{"$f":"TEXT(Y24,\"ddd\")","v":"zo"},"DD",{"$f":"IFERROR(HLOOKUP(Y24,[1]DATA!$A$1:$NB$5,3,0),\"\")","v":"-"},null,null,null,null,0,"","",""]
["1zoMD",{"$f":"VLOOKUP($AA25,DATA!$B$3:$E25,2,0)","v":"14:30:00"},{"$f":"VLOOKUP($AA25,DATA!$B$3:$E25,3,0)","v":"22:30:00"},{"$f":"VLOOKUP($AA25,DATA!$B$3:$E25,4,0)","v":3.125E-2},0.30208333333333337,0.30208333333333337,{"$f":"DATA!$C$9","v":0.89},{"$f":"DATA!$C$10","v":64},1,407.81250000000006,407.81250000000006,0,"","",0,"","",0,"","","","",null,{"$f":"X16","v":1},null,{"$f":"TEXT(Y24,\"ddd\")","v":"zo"},"MD",{"$f":"IFERROR(HLOOKUP(Y24,[1]DATA!$A$1:$NB$5,4,0),\"\")","v":"-"},null,null,null,null,0,"","",""]
["1zoZND",{"$f":"VLOOKUP($AA26,DATA!$B$3:$E26,2,0)","v":"00:00:00"},{"$f":"VLOOKUP($AA26,DATA!$B$3:$E26,3,0)","v":"00:00:00"},{"$f":"VLOOKUP($AA26,DATA!$B$3:$E26,4,0)","v":0},0,0,{"$f":"DATA!$C$9","v":0.89},{"$f":"DATA!$C$10","v":64},1,0,0,0,"","",0,"","",0,"","","","",null,{"$f":"X16","v":1},null,{"$f":"TEXT(Y24,\"ddd\")","v":"zo"},"ZND",{"$f":"IFERROR(HLOOKUP(Y24,[1]DATA!$A$1:$NB$5,5,0),\"\")","v":"D1"},null,null,null,null,0,"","",""]
["2maDD",{"$f":"VLOOKUP($AA27,DATA!$B$3:$E27,2,0)","v":"06:30:00"},{"$f":"VLOOKUP($AA27,DATA!$B$3:$E27,3,0)","v":"14:30:00"},{"$f":"VLOOKUP($AA27,DATA!$B$3:$E27,4,0)","v":3.125E-2},0.30208333333333331,0.10624999999999998,{"$f":"DATA!$C$9","v":0.89},{"$f":"DATA!$C$10","v":64},1,{"$f":"F27*86400/H27*I27","v":143.43749999999997},{"$f":"E27*86400/H27","v":407.8125},{"$f":"TIME(INT($AC27/60),INT(MOD($AC27,60)/1),0)","v":0.19583333333333333},{"$f":"IF($L27*86400/$H27=0,\"\",$L27*86400/$H27)","v":264.375},{"$f":"IFERROR($M27/$K27,\"\")","v":0.64827586206896548},{"$f":"TIME(INT($AD27/60),INT(MOD($AD27,60)/1),0)","v":0},"",{"$f":"IFERROR($P27/$K27,\"\")","v":""},{"$f":"AF27*AG$2","v":208},{"$f":"IF(AF27-AE27=0,\"\",AF27-AE27)","v":178},{"$f":"IF(IF($AB27=\"D1\",$S27,\"\")=0,\"\",IF($AB27=\"D1\",$S27,\"\"))","v":""},{"$f":"IF(IF($AB27=\"D2\",$S27,\"\")=0,\"\",IF($AB27=\"D2\",$S27,\"\"))","v":""},{"$f":"IF(IF($AB27=\"D3\",$S27,\"\")=0,\"\",IF($AB27=\"D3\",$S27,\"\"))","v":178},null,{"$f":"X37","v":2},{"$f":"Y24+1","v":"2018-01-08"},{"$f":"TEXT(Y27,\"ddd\")","v":"ma"},"DD",{"$f":"IFERROR(HLOOKUP(Y27,[1]DATA!$A$1:$NB$5,3,0),\"\")","v":"D3"},282,null,17,195,12,6.4374999999999716,0.40831541218637996,0.94545454545454544,4359.375,3004,0.68908960573476707,1195.3125,0.27419354838709675,0,0,0.93427232281356498,"",0.9186301512065107,0.94991449442061915,160.0625,3.6716845878136173E-2,170.73333333333332,252]
["2maMD",{"$f":"VLOOKUP($AA28,DATA!$B$3:$E28,2,0)","v":"14:30:00"},{"$f":"VLOOKUP($AA28,DATA!$B$3:$E28,3,0)","v":"22:30:00"},{"$f":"VLOOKUP($AA28,DATA!$B$3:$E28,4,0)","v":3.125E-2},{"$f":"(C28-B28+(B28>C28))-D28","v":0.30208333333333337},{"$f":"E28-O28-L28","v":0.18541666666666673},{"$f":"DATA!$C$9","v":0.89},{"$f":"DATA!$C$10","v":64},1,{"$f":"F28*86400/H28*I28","v":250.31250000000009},{"$f":"E28*86400/H28","v":407.81250000000006},0.11666666666666665,157.49999999999997,0.38620689655172402,{"$f":"TIME(INT(AD28/60),INT(MOD(AD28,60)/1),0)","v":0},"","",{"$f":"AF28*AG$2","v":349.86666666666667},{"$f":"IF(AF28-AE28=0,\"\",AF28-AE28)","v":296},"",296,"",null,{"$f":"X37","v":2},null,{"$f":"TEXT(Y27,\"ddd\")","v":"ma"},"MD",{"$f":"IFERROR(HLOOKUP(Y27,[1]DATA!$A$1:$NB$5,4,0),\"\")","v":"D2"},168,null,32,328,10,17.5625,0.67899641577060943,0.9722119303445721]
["2maND",{"$f":"VLOOKUP($AA29,DATA!$B$3:$E29,2,0)","v":"22:30:00"},{"$f":"VLOOKUP($AA29,DATA!$B$3:$E29,3,0)","v":"06:30:00"},{"$f":"VLOOKUP($AA29,DATA!$B$3:$E29,4,0)","v":3.125E-2},0.30208333333333326,0.30208333333333326,{"$f":"DATA!$C$9","v":0.89},{"$f":"DATA!$C$10","v":64},1,407.81249999999989,407.81249999999989,0,"","",0,"","",0,"","","","",null,{"$f":"X37","v":2},null,{"$f":"TEXT(Y27,\"ddd\")","v":"ma"},"ND",{"$f":"IFERROR(HLOOKUP(Y27,[1]DATA!$A$1:$NB$5,5,0),\"\")","v":"D1"},null,null,null,null,0,"","",""]
["2diDD",{"$f":"VLOOKUP($AA30,DATA!$B$3:$E30,2,0)","v":"06:30:00"},{"$f":"VLOOKUP($AA30,DATA!$B$3:$E30,3,0)","v":"14:30:00"},{"$f":"VLOOKUP($AA30,DATA!$B$3:$E30,4,0)","v":3.125E-2},0.30208333333333331,0.20902777777777776,{"$f":"DATA!$C$9","v":0.89},{"$f":"DATA!$C$10","v":64},1,282.1875,407.8125,9.3055555555555558E-2,125.625,0.30804597701149428,0,"","",306.13333333333333,264,"","",264,null,{"$f":"X37","v":2},{"$f":"Y27+1","v":"2018-01-09"},{"$f":"TEXT(Y30,\"ddd\")","v":"di"},"DD",{"$f":"IFERROR(HLOOKUP(Y30,[1]DATA!$A$1:$NB$5,3,0),\"\")","v":"D3"},134,null,23,287,17,-46.3125,0.60559139784946237,0.94739013822983287]
["2diMD",{"$f":"VLOOKUP($AA31,DATA!$B$3:$E31,2,0)","v":"14:30:00"},{"$f":"VLOOKUP($AA31,DATA!$B$3:$E31,3,0)","v":"22:30:00"},{"$f":"VLOOKUP($AA31,DATA!$B$3:$E31,4,0)","v":3.125E-2},0.30208333333333337,0.23472222222222228,{"$f":"DATA!$C$9","v":0.89},{"$f":"DATA!$C$10","v":64},1,316.87500000000006,407.81250000000006,6.7361111111111108E-2,90.9375,0.22298850574712639,0,"","",356.26666666666665,306,"",306,"",null,{"$f":"X37","v":2},null,{"$f":"TEXT(Y30,\"ddd\")","v":"di"},"MD",{"$f":"IFERROR(HLOOKUP(Y30,[1]DATA!$A$1:$NB$5,4,0),\"\")","v":"D2"},97,null,28,334,24,-39,0.70193548387096782,0.93688639551192143]
["2diND",{"$f":"VLOOKUP($AA32,DATA!$B$3:$E32,2,0)","v":"22:30:00"},{"$f":"VLOOKUP($AA32,DATA!$B$3:$E32,3,0)","v":"06:30:00"},{"$f":"VLOOKUP($AA32,DATA!$B$3:$E32,4,0)","v":3.125E-2},0.30208333333333326,0.30208333333333326,{"$f":"DATA!$C$9","v":0.89},{"$f":"DATA!$C$10","v":64},1,407.81249999999989,407.81249999999989,0,"","",0,"","",0,"","","","",null,{"$f":"X37","v":2},null,{"$f":"TEXT(Y30,\"ddd\")","v":"di"},"ND",{"$f":"IFERROR(HLOOKUP(Y30,[1]DATA!$A$1:$NB$5,5,0),\"\")","v":"D1"},null,null,null,null,0,"","",""]
["2woDD",{"$f":"VLOOKUP($AA33,DATA!$B$3:$E33,2,0)","v":"06:30:00"},{"$f":"VLOOKUP($AA33,DATA!$B$3:$E33,3,0)","v":"14:30:00"},{"$f":"VLOOKUP($AA33,DATA!$B$3:$E33,4,0)","v":3.125E-2},0.30208333333333331,0.25347222222222221,{"$f":"DATA!$C$9","v":0.89},{"$f":"DATA!$C$10","v":64},1,342.1875,407.8125,4.8611111111111112E-2,65.625,0.16091954022988506,0,"","",400,350,"","",350,null,{"$f":"X37","v":2},{"$f":"Y30+1","v":"2018-01-10"},{"$f":"TEXT(Y33,\"ddd\")","v":"wo"},"DD",{"$f":"IFERROR(HLOOKUP(Y33,[1]DATA!$A$1:$NB$5,3,0),\"\")","v":"D3"},70,null,25,375,55,-20.312500000000057,0.80286738351254483,0.87912087912087911]
["2woMD",{"$f":"VLOOKUP($AA34,DATA!$B$3:$E34,2,0)","v":"14:30:00"},{"$f":"VLOOKUP($AA34,DATA!$B$3:$E34,3,0)","v":"22:30:00"},{"$f":"VLOOKUP($AA34,DATA!$B$3:$E34,4,0)","v":3.125E-2},0.30208333333333337,0.18333333333333335,{"$f":"DATA!$C$9","v":0.89},{"$f":"DATA!$C$10","v":64},1,247.50000000000003,407.81250000000006,0.11875000000000001,160.3125,0.39310344827586202,0,"","",307.2,282,"",282,"",null,{"$f":"X37","v":2},null,{"$f":"TEXT(Y33,\"ddd\")","v":"wo"},"MD",{"$f":"IFERROR(HLOOKUP(Y33,[1]DATA!$A$1:$NB$5,4,0),\"\")","v":"D2"},171,null,6,288,37,6.3750000000000568,0.64688172043010761,0.89250435793143523]
["2woND",{"$f":"VLOOKUP($AA35,DATA!$B$3:$E35,2,0)","v":"22:30:00"},{"$f":"VLOOKUP($AA35,DATA!$B$3:$E35,3,0)","v":"06:30:00"},{"$f":"VLOOKUP($AA35,DATA!$B$3:$E35,4,0)","v":3.125E-2},0.30208333333333326,0.30208333333333326,{"$f":"DATA!$C$9","v":0.89},{"$f":"DATA!$C$10","v":64},1,407.81249999999989,407.81249999999989,0,"","",0,"","",0,"","","","",null,{"$f":"X37","v":2},null,{"$f":"TEXT(Y33,\"ddd\")","v":"wo"},"ND",{"$f":"IFERROR(HLOOKUP(Y33,[1]DATA!$A$1:$NB$5,5,0),\"\")","v":"D1"},null,null,null,null,0,"","",""]
["2doDD",{"$f":"VLOOKUP($AA36,DATA!$B$3:$E36,2,0)","v":"06:30:00"},{"$f":"VLOOKUP($AA36,DATA!$B$3:$E36,3,0)","v":"14:30:00"},{"$f":"VLOOKUP($AA36,DATA!$B$3:$E36,4,0)","v":3.125E-2},0.30208333333333331,0.23819444444444443,{"$f":"DATA!$C$9","v":0.89},{"$f":"DATA!$C$10","v":64},1,321.5625,407.8125,6.3888888888888884E-2,86.25,0.21149425287356322,0,"","",411.73333333333335,351,"","",351,null,{"$f":"X37","v":2},{"$f":"Y33+1","v":"2018-01-11"},{"$f":"TEXT(Y36,\"ddd\")","v":"do"},"DD",{"$f":"IFERROR(HLOOKUP(Y36,[1]DATA!$A$1:$NB$5,3,0),\"\")","v":"D3"},92,null,35,386,5,1.3124999999999432,0.80516129032258066,0.98800191969284912]
["2doMD",{"$f":"VLOOKUP($AA37,DATA!$B$3:$E37,2,0)","v":"14:30:00"},{"$f":"VLOOKUP($AA37,DATA!$B$3:$E37,3,0)","v":"22:30:00"},{"$f":"VLOOKUP($AA37,DATA!$B$3:$E37,4,0)","v":3.125E-2},0.30208333333333337,0.26736111111111116,{"$f":"DATA!$C$9","v":0.89},{"$f":"DATA!$C$10","v":64},1,360.93750000000006,407.81250000000006,3.4722222222222224E-2,46.875,0.11494252873563217,0,"","",381.86666666666667,336,"",336,"",null,{"$f":"WEEKNUM($Y27)","v":2},null,{"$f":"TEXT(Y36,\"ddd\")","v":"do"},"MD",{"$f":"IFERROR(HLOOKUP(Y36,[1]DATA!$A$1:$NB$5,4,0),\"\")","v":"D2"},50,null,22,358,60,-53.062499999999943,0.77075268817204312,0.86421243210621601]
["2doND",{"$f":"VLOOKUP($AA38,DATA!$B$3:$E38,2,0)","v":"22:30:00"},{"$f":"VLOOKUP($AA38,DATA!$B$3:$E38,3,0)","v":"06:30:00"},{"$f":"VLOOKUP($AA38,DATA!$B$3:$E38,4,0)","v":3.125E-2},0.30208333333333326,0.30208333333333326,{"$f":"DATA!$C$9","v":0.89},{"$f":"DATA!$C$10","v":64},1,407.81249999999989,407.81249999999989,0,"","",0,"","",0,"","","","",null,{"$f":"X37","v":2},null,{"$f":"TEXT(Y36,\"ddd\")","v":"do"},"ND",{"$f":"IFERROR(HLOOKUP(Y36,[1]DATA!$A$1:$NB$5,5,0),\"\")","v":"D1"},null,null,null,null,0,"","",""]
["2vrDD",{"$f":"VLOOKUP($AA39,DATA!$B$3:$E39,2,0)","v":"06:30:00"},{"$f":"VLOOKUP($AA39,DATA!$B$3:$E39,3,0)","v":"14:30:00"},{"$f":"VLOOKUP($AA39,DATA!$B$3:$E39,4,0)","v":3.125E-2},0.30208333333333331,0.2097222222222222,{"$f":"DATA!$C$9","v":0.89},{"$f":"DATA!$C$10","v":64},1,283.12499999999994,407.8125,9.2361111111111116E-2,124.6875,0.30574712643678159,0,"","",380.8,324,"","",324,null,{"$f":"X37","v":2},{"$f":"Y36+1","v":"2018-01-12"},{"$f":"TEXT(Y39,\"ddd\")","v":"vr"},"DD",{"$f":"IFERROR(HLOOKUP(Y39,[1]DATA!$A$1:$NB$5,3,0),\"\")","v":"D3"},133,null,33,357,4,12.75,0.74322580645161296,0.98960498960498966]
["2vrMD",{"$f":"VLOOKUP($AA40,DATA!$B$3:$E40,2,0)","v":"14:30:00"},{"$f":"VLOOKUP($AA40,DATA!$B$3:$E40,3,0)","v":"22:30:00"},{"$f":"VLOOKUP($AA40,DATA!$B$3:$E40,4,0)","v":3.125E-2},0.30208333333333337,0.2479166666666667,{"$f":"DATA!$C$9","v":0.89},{"$f":"DATA!$C$10","v":64},1,334.68750000000006,407.81250000000006,5.4166666666666669E-2,73.125,0.17931034482758618,0,"","",357.33333333333331,317,"",317,"",null,{"$f":"X37","v":2},null,{"$f":"TEXT(Y39,\"ddd\")","v":"vr"},"MD",{"$f":"IFERROR(HLOOKUP(Y39,[1]DATA!$A$1:$NB$5,4,0),\"\")","v":"D2"},78,null,18,335,28,-45.812499999999886,0.72716845878136205,0.9273356401384083]
["2vrND",{"$f":"VLOOKUP($AA41,DATA!$B$3:$E41,2,0)","v":"22:30:00"},{"$f":"VLOOKUP($AA41,DATA!$B$3:$E41,3,0)","v":"06:30:00"},{"$f":"VLOOKUP($AA41,DATA!$B$3:$E41,4,0)","v":3.125E-2},0.30208333333333326,0.30208333333333326,{"$f":"DATA!$C$9","v":0.89},{"$f":"DATA!$C$10","v":64},1,407.81249999999989,407.81249999999989,0,"","",0,"","",0,"","","","",null,{"$f":"X37","v":2},null,{"$f":"TEXT(Y39,\"ddd\")","v":"vr"},"ND",{"$f":"IFERROR(HLOOKUP(Y39,[1]DATA!$A$1:$NB$5,5,0),\"\")","v":"-"},null,null,null,null,0,"","",""]
["2zaDD",{"$f":"VLOOKUP($AA42,DATA!$B$3:$E42,2,0)","v":"06:30:00"},{"$f":"VLOOKUP($AA42,DATA!$B$3:$E42,3,0)","v":"14:30:00"},{"$f":"VLOOKUP($AA42,DATA!$B$3:$E42,4,0)","v":3.125E-2},0.30208333333333331,0.30208333333333331,{"$f":"DATA!$C$9","v":0.89},{"$f":"DATA!$C$10","v":64},1,407.8125,407.8125,0,"","",0,"","",0,"","","","",null,{"$f":"X37","v":2},{"$f":"Y39+1","v":"2018-01-13"},{"$f":"TEXT(Y42,\"ddd\")","v":"za"},"DD",{"$f":"IFERROR(HLOOKUP(Y42,[1]DATA!$A$1:$NB$5,3,0),\"\")","v":"-"},null,null,null,null,0,"","",""]
["2zaMD",{"$f":"VLOOKUP($AA43,DATA!$B$3:$E43,2,0)","v":"14:30:00"},{"$f":"VLOOKUP($AA43,DATA!$B$3:$E43,3,0)","v":"22:30:00"},{"$f":"VLOOKUP($AA43,DATA!$B$3:$E43,4,0)","v":3.125E-2},0.30208333333333337,0.30208333333333337,{"$f":"DATA!$C$9","v":0.89},{"$f":"DATA!$C$10","v":64},1,407.81250000000006,407.81250000000006,0,"","",0,"","",0,"","","","",null,{"$f":"X37","v":2},null,{"$f":"TEXT(Y42,\"ddd\")","v":"za"},"MD",{"$f":"IFERROR(HLOOKUP(Y42,[1]DATA!$A$1:$NB$5,4,0),\"\")","v":"-"},null,null,null,null,0,"","",""]
["2zaND",{"$f":"VLOOKUP($AA44,DATA!$B$3:$E44,2,0)","v":"22:30:00"},{"$f":"VLOOKUP($AA44,DATA!$B$3:$E44,3,0)","v":"06:30:00"},{"$f":"VLOOKUP($AA44,DATA!$B$3:$E44,4,0)","v":3.125E-2},0.30208333333333326,0.30208333333333326,{"$f":"DATA!$C$9","v":0.89},{"$f":"DATA!$C$10","v":64},1,407.81249999999989,407.81249999999989,0,"","",0,"","",0,"","","","",null,{"$f":"X37","v":2},null,{"$f":"TEXT(Y42,\"ddd\")","v":"za"},"ND",{"$f":"IFERROR(HLOOKUP(Y42,[1]DATA!$A$1:$NB$5,5,0),\"\")","v":"-"},null,null,null,null,0,"","",""]
["2zoDD",{"$f":"VLOOKUP($AA45,DATA!$B$3:$E45,2,0)","v":"06:30:00"},{"$f":"VLOOKUP($AA45,DATA!$B$3:$E45,3,0)","v":"14:30:00"},{"$f":"VLOOKUP($AA45,DATA!$B$3:$E45,4,0)","v":3.125E-2},0.30208333333333331,0.30208333333333331,{"$f":"DATA!$C$9","v":0.89},{"$f":"DATA!$C$10","v":64},1,407.8125,407.8125,0,"","",0,"","",0,"","","","",null,{"$f":"X37","v":2},{"$f":"Y42+1","v":"2018-01-14"},{"$f":"TEXT(Y45,\"ddd\")","v":"zo"},"DD",{"$f":"IFERROR(HLOOKUP(Y45,[1]DATA!$A$1:$NB$5,3,0),\"\")","v":"-"},null,null,null,null,0,"","",""]
["2zoMD",{"$f":"VLOOKUP($AA46,DATA!$B$3:$E46,2,0)","v":"14:30:00"},{"$f":"VLOOKUP($AA46,DATA!$B$3:$E46,3,0)","v":"22:30:00"},{"$f":"VLOOKUP($AA46,DATA!$B$3:$E46,4,0)","v":3.125E-2},0.30208333333333337,0.30208333333333337,{"$f":"DATA!$C$9","v":0.89},{"$f":"DATA!$C$10","v":64},1,407.81250000000006,407.81250000000006,0,"","",0,"","",0,"","","","",null,{"$f":"X37","v":2},null,{"$f":"TEXT(Y45,\"ddd\")","v":"zo"},"MD",{"$f":"IFERROR(HLOOKUP(Y45,[1]DATA!$A$1:$NB$5,4,0),\"\")","v":"-"},null,null,null,null,0,"","",""]
["2zoZND",{"$f":"VLOOKUP($AA47,DATA!$B$3:$E47,2,0)","v":"00:00:00"},{"$f":"VLOOKUP($AA47,DATA!$B$3:$E47,3,0)","v":"00:00:00"},{"$f":"VLOOKUP($AA47,DATA!$B$3:$E47,4,0)","v":0},0,0,{"$f":"DATA!$C$9","v":0.89},{"$f":"DATA!$C$10","v":64},1,0,0,0,"","",0,"","",0,"","","","",null,{"$f":"X37","v":2},null,{"$f":"TEXT(Y45,\"ddd\")","v":"zo"},"ZND",{"$f":"IFERROR(HLOOKUP(Y45,[1]DATA!$A$1:$NB$5,5,0),\"\")","v":"D3"},null,null,null,null,0,"","",""]
[{"$f":"X48&Z48&AA48","v":"3maDD"},{"$f":"VLOOKUP($AA48,DATA!$B$3:$E48,2,0)","v":"06:30:00"},{"$f":"VLOOKUP($AA48,DATA!$B$3:$E48,3,0)","v":"14:30:00"},{"$f":"VLOOKUP($AA48,DATA!$B$3:$E48,4,0)","v":3.125E-2},0.30208333333333331,0.2048611111111111,{"$f":"DATA!$C$9","v":0.89},{"$f":"DATA!$C$10","v":64},1,276.5625,407.8125,9.7222222222222224E-2,131.25,0.32183908045977011,{"$f":"TIME(INT($AD48/60),INT(MOD($AD48,60)/1),0)","v":0},{"$f":"IF($O48*86400/$H48=0,\"\",$O48*86400/$H48)","v":""},"",331.73333333333335,280,"",280,"",null,{"$f":"X58","v":3},{"$f":"Y45+1","v":"2018-01-15"},{"$f":"TEXT(Y48,\"ddd\")","v":"ma"},"DD",{"$f":"IFERROR(HLOOKUP(Y48,[1]DATA!$A$1:$NB$5,3,0),\"\")","v":"D2"},140,null,31,311,54,-24.687500000000057,0.64229390681003584,0.86000691323885237,4359.375,2892,0.66339784946236557,734.0625,0.16838709677419356,112.5,2.5806451612903226E-2,0.90825818684556237,0.94049123161843284,0.87602514207269166,"",620.8125,0.14240860215053763,662.2,332]
["3maMD",{"$f":"VLOOKUP($AA49,DATA!$B$3:$E49,2,0)","v":"14:30:00"},{"$f":"VLOOKUP($AA49,DATA!$B$3:$E49,3,0)","v":"22:30:00"},{"$f":"VLOOKUP($AA49,DATA!$B$3:$E49,4,0)","v":3.125E-2},0.30208333333333337,0.20694444444444449,{"$f":"DATA!$C$9","v":0.89},{"$f":"DATA!$C$10","v":64},1,279.37500000000006,407.81250000000006,9.5138888888888884E-2,128.4375,0.31494252873563217,{"$f":"TIME(INT(AD49/60),INT(MOD(AD49,60)/1),0)","v":0},"","",330.66666666666669,286,286,"","",null,{"$f":"X58","v":3},null,{"$f":"TEXT(Y48,\"ddd\")","v":"ma"},"MD",{"$f":"IFERROR(HLOOKUP(Y48,[1]DATA!$A$1:$NB$5,4,0),\"\")","v":"D1"},137,null,24,310,0,-21.499999999999943,0.65605734767025103,1]
["3maND",{"$f":"VLOOKUP($AA50,DATA!$B$3:$E50,2,0)","v":"22:30:00"},{"$f":"VLOOKUP($AA50,DATA!$B$3:$E50,3,0)","v":"06:30:00"},{"$f":"VLOOKUP($AA50,DATA!$B$3:$E50,4,0)","v":3.125E-2},0.30208333333333326,0.30208333333333326,{"$f":"DATA!$C$9","v":0.89},{"$f":"DATA!$C$10","v":64},1,407.81249999999989,407.81249999999989,0,"","",0,"","",0,"","","","",null,{"$f":"X58","v":3},null,{"$f":"TEXT(Y48,\"ddd\")","v":"ma"},"ND",{"$f":"IFERROR(HLOOKUP(Y48,[1]DATA!$A$1:$NB$5,5,0),\"\")","v":"D3"},null,null,null,null,0,"","",""]
["3diDD",{"$f":"VLOOKUP($AA51,DATA!$B$3:$E51,2,0)","v":"06:30:00"},{"$f":"VLOOKUP($AA51,DATA!$B$3:$E51,3,0)","v":"14:30:00"},{"$f":"VLOOKUP($AA51,DATA!$B$3:$E51,4,0)","v":3.125E-2},0.30208333333333331,0.23194444444444443,{"$f":"DATA!$C$9","v":0.89},{"$f":"DATA!$C$10","v":64},1,313.125,407.8125,7.013888888888889E-2,94.6875,0.23218390804597702,0,"","",360.5333333333333,319,"",319,"",null,{"$f":"X58","v":3},{"$f":"Y48+1","v":"2018-01-16"},{"$f":"TEXT(Y51,\"ddd\")","v":"di"},"DD",{"$f":"IFERROR(HLOOKUP(Y51,[1]DATA!$A$1:$NB$5,3,0),\"\")","v":"D2"},101,null,19,338,13,-22.25,0.7317562724014337,0.96519721577726214]
["3diMD",{"$f":"VLOOKUP($AA52,DATA!$B$3:$E52,2,0)","v":"14:30:00"},{"$f":"VLOOKUP($AA52,DATA!$B$3:$E52,3,0)","v":"22:30:00"},{"$f":"VLOOKUP($AA52,DATA!$B$3:$E52,4,0)","v":3.125E-2},0.30208333333333337,0.23750000000000004,{"$f":"DATA!$C$9","v":0.89},{"$f":"DATA!$C$10","v":64},1,320.62500000000006,407.81250000000006,6.458333333333334E-2,87.187500000000014,0.21379310344827587,0,"","",411.73333333333335,364,364,"","",null,{"$f":"X58","v":3},null,{"$f":"TEXT(Y51,\"ddd\")","v":"di"},"MD",{"$f":"IFERROR(HLOOKUP(Y51,[1]DATA!$A$1:$NB$5,4,0),\"\")","v":"D1"},93,null,22,386,0,15.250000000000057,0.83498207885304665,1]
["3diND",{"$f":"VLOOKUP($AA53,DATA!$B$3:$E53,2,0)","v":"22:30:00"},{"$f":"VLOOKUP($AA53,DATA!$B$3:$E53,3,0)","v":"06:30:00"},{"$f":"VLOOKUP($AA53,DATA!$B$3:$E53,4,0)","v":3.125E-2},0.30208333333333326,0.30208333333333326,{"$f":"DATA!$C$9","v":0.89},{"$f":"DATA!$C$10","v":64},1,407.81249999999989,407.81249999999989,0,"","",0,"","",0,"","","","",null,{"$f":"X58","v":3},null,{"$f":"TEXT(Y51,\"ddd\")","v":"di"},"ND",{"$f":"IFERROR(HLOOKUP(Y51,[1]DATA!$A$1:$NB$5,5,0),\"\")","v":"D3"},null,null,null,null,0,"","",""]
["3woDD",{"$f":"VLOOKUP($AA54,DATA!$B$3:$E54,2,0)","v":"06:30:00"},{"$f":"VLOOKUP($AA54,DATA!$B$3:$E54,3,0)","v":"14:30:00"},{"$f":"VLOOKUP($AA54,DATA!$B$3:$E54,4,0)","v":3.125E-2},0.30208333333333331,0.25416666666666665,{"$f":"DATA!$C$9","v":0.89},{"$f":"DATA!$C$10","v":64},1,343.125,407.8125,4.7916666666666663E-2,64.6875,0.15862068965517243,0,"","",211.2,188,"",188,"",null,{"$f":"X58","v":3},{"$f":"Y51+1","v":"2018-01-17"},{"$f":"TEXT(Y54,\"ddd\")","v":"wo"},"DD",{"$f":"IFERROR(HLOOKUP(Y54,[1]DATA!$A$1:$NB$5,3,0),\"\")","v":"D2"},69,null,10,198,55,-183.25000000000006,0.43125448028673835,0.79338842975206614]
["3woMD",{"$f":"VLOOKUP($AA55,DATA!$B$3:$E55,2,0)","v":"14:30:00"},{"$f":"VLOOKUP($AA55,DATA!$B$3:$E55,3,0)","v":"22:30:00"},{"$f":"VLOOKUP($AA55,DATA!$B$3:$E55,4,0)","v":3.125E-2},0.30208333333333337,0.25138888888888894,{"$f":"DATA!$C$9","v":0.89},{"$f":"DATA!$C$10","v":64},1,339.37500000000006,407.81250000000006,5.0694444444444452E-2,68.437500000000014,0.167816091954023,0,"","",359.46666666666664,305,305,"","",null,{"$f":"X58","v":3},null,{"$f":"TEXT(Y54,\"ddd\")","v":"wo"},"MD",{"$f":"IFERROR(HLOOKUP(Y54,[1]DATA!$A$1:$NB$5,4,0),\"\")","v":"D1"},73,null,32,337,20,-62.499999999999943,0.699641577060932,0.94729444834855936]
["3woND",{"$f":"VLOOKUP($AA56,DATA!$B$3:$E56,2,0)","v":"22:30:00"},{"$f":"VLOOKUP($AA56,DATA!$B$3:$E56,3,0)","v":"06:30:00"},{"$f":"VLOOKUP($AA56,DATA!$B$3:$E56,4,0)","v":3.125E-2},0.30208333333333326,0.30208333333333326,{"$f":"DATA!$C$9","v":0.89},{"$f":"DATA!$C$10","v":64},1,407.81249999999989,407.81249999999989,0,"","",0,"","",0,"","","","",null,{"$f":"X58","v":3},null,{"$f":"TEXT(Y54,\"ddd\")","v":"wo"},"ND",{"$f":"IFERROR(HLOOKUP(Y54,[1]DATA!$A$1:$NB$5,5,0),\"\")","v":"D3"},null,null,null,null,0,"","",""]
["3doDD",{"$f":"VLOOKUP($AA57,DATA!$B$3:$E57,2,0)","v":"06:30:00"},{"$f":"VLOOKUP($AA57,DATA!$B$3:$E57,3,0)","v":"14:30:00"},{"$f":"VLOOKUP($AA57,DATA!$B$3:$E57,4,0)","v":3.125E-2},0.30208333333333331,0.1736111111111111,{"$f":"DATA!$C$9","v":0.89},{"$f":"DATA!$C$10","v":64},1,234.375,407.8125,4.5138888888888888E-2,60.9375,0.14942528735632185,8.3333333333333329E-2,112.5,0.27586206896551724,246.4,219,"",219,"",null,{"$f":"X58","v":3},{"$f":"Y54+1","v":"2018-01-18"},{"$f":"TEXT(Y57,\"ddd\")","v":"do"},"DD",{"$f":"IFERROR(HLOOKUP(Y57,[1]DATA!$A$1:$NB$5,3,0),\"\")","v":"D2"},65,120,12,231,33,-43.500000000000057,0.50236559139784942,0.88188976377952766]
["3doMD",{"$f":"VLOOKUP($AA58,DATA!$B$3:$E58,2,0)","v":"14:30:00"},{"$f":"VLOOKUP($AA58,DATA!$B$3:$E58,3,0)","v":"22:30:00"},{"$f":"VLOOKUP($AA58,DATA!$B$3:$E58,4,0)","v":3.125E-2},0.30208333333333337,0.23472222222222228,{"$f":"DATA!$C$9","v":0.89},{"$f":"DATA!$C$10","v":64},1,316.87500000000006,407.81250000000006,6.7361111111111108E-2,90.9375,0.22298850574712639,0,"","",350.93333333333334,299,299,"","",null,{"$f":"WEEKNUM($Y48)","v":3},null,{"$f":"TEXT(Y57,\"ddd\")","v":"do"},"MD",{"$f":"IFERROR(HLOOKUP(Y57,[1]DATA!$A$1:$NB$5,4,0),\"\")","v":"D1"},97,null,30,329,28,-46,0.68587813620071691,0.92610837438423643]
["3doND",{"$f":"VLOOKUP($AA59,DATA!$B$3:$E59,2,0)","v":"22:30:00"},{"$f":"VLOOKUP($AA59,DATA!$B$3:$E59,3,0)","v":"06:30:00"},{"$f":"VLOOKUP($AA59,DATA!$B$3:$E59,4,0)","v":3.125E-2},0.30208333333333326,0.30208333333333326,{"$f":"DATA!$C$9","v":0.89},{"$f":"DATA!$C$10","v":64},1,407.81249999999989,407.81249999999989,0,"","",0,"","",0,"","","","",null,{"$f":"X58","v":3},null,{"$f":"TEXT(Y57,\"ddd\")","v":"do"},"ND",{"$f":"IFERROR(HLOOKUP(Y57,[1]DATA!$A$1:$NB$5,5,0),\"\")","v":"D3"},null,null,null,null,0,"","",""]
["3vrDD",{"$f":"VLOOKUP($AA60,DATA!$B$3:$E60,2,0)","v":"06:30:00"},{"$f":"VLOOKUP($AA60,DATA!$B$3:$E60,3,0)","v":"14:30:00"},{"$f":"VLOOKUP($AA60,DATA!$B$3:$E60,4,0)","v":3.125E-2},0.30208333333333331,0.30208333333333331,{"$f":"DATA!$C$9","v":0.89},{"$f":"DATA!$C$10","v":64},1,407.8125,407.8125,0,"","",0,"","",394.66666666666669,335,"",335,"",null,{"$f":"X58","v":3},{"$f":"Y57+1","v":"2018-01-19"},{"$f":"TEXT(Y60,\"ddd\")","v":"vr"},"DD",{"$f":"IFERROR(HLOOKUP(Y60,[1]DATA!$A$1:$NB$5,3,0),\"\")","v":"D2"},0,null,35,370,54,-100.9375,0.76845878136200718,0.87964338781575035]
["3vrMD",{"$f":"VLOOKUP($AA61,DATA!$B$3:$E61,2,0)","v":"14:30:00"},{"$f":"VLOOKUP($AA61,DATA!$B$3:$E61,3,0)","v":"22:30:00"},{"$f":"VLOOKUP($AA61,DATA!$B$3:$E61,4,0)","v":3.125E-2},0.30208333333333337,0.29652777777777783,{"$f":"DATA!$C$9","v":0.89},{"$f":"DATA!$C$10","v":64},1,400.31250000000006,407.81250000000006,5.5555555555555558E-3,7.5,1.8390804597701146E-2,0,"","",363.73333333333335,297,297,"","",null,{"$f":"X58","v":3},null,{"$f":"TEXT(Y60,\"ddd\")","v":"vr"},"MD",{"$f":"IFERROR(HLOOKUP(Y60,[1]DATA!$A$1:$NB$5,4,0),\"\")","v":"D1"},8,null,44,341,75,-131.4375,0.68129032258064526,0.82905333535936787]
["3vrND",{"$f":"VLOOKUP($AA62,DATA!$B$3:$E62,2,0)","v":"22:30:00"},{"$f":"VLOOKUP($AA62,DATA!$B$3:$E62,3,0)","v":"06:30:00"},{"$f":"VLOOKUP($AA62,DATA!$B$3:$E62,4,0)","v":3.125E-2},0.30208333333333326,0.30208333333333326,{"$f":"DATA!$C$9","v":0.89},{"$f":"DATA!$C$10","v":64},1,407.81249999999989,407.81249999999989,0,"","",0,"","",0,"","","","",null,{"$f":"X58","v":3},null,{"$f":"TEXT(Y60,\"ddd\")","v":"vr"},"ND",{"$f":"IFERROR(HLOOKUP(Y60,[1]DATA!$A$1:$NB$5,5,0),\"\")","v":"-"},null,null,null,null,0,"","",""]
["3zaDD",{"$f":"VLOOKUP($AA63,DATA!$B$3:$E63,2,0)","v":"06:30:00"},{"$f":"VLOOKUP($AA63,DATA!$B$3:$E63,3,0)","v":"14:30:00"},{"$f":"VLOOKUP($AA63,DATA!$B$3:$E63,4,0)","v":3.125E-2},0.30208333333333331,0.30208333333333331,{"$f":"DATA!$C$9","v":0.89},{"$f":"DATA!$C$10","v":64},1,407.8125,407.8125,0,"","",0,"","",0,"","","","",null,{"$f":"X58","v":3},{"$f":"Y60+1","v":"2018-01-20"},{"$f":"TEXT(Y63,\"ddd\")","v":"za"},"DD",{"$f":"IFERROR(HLOOKUP(Y63,[1]DATA!$A$1:$NB$5,3,0),\"\")","v":"-"},null,null,null,null,0,"","",""]
["3zaMD",{"$f":"VLOOKUP($AA64,DATA!$B$3:$E64,2,0)","v":"14:30:00"},{"$f":"VLOOKUP($AA64,DATA!$B$3:$E64,3,0)","v":"22:30:00"},{"$f":"VLOOKUP($AA64,DATA!$B$3:$E64,4,0)","v":3.125E-2},0.30208333333333337,0.30208333333333337,{"$f":"DATA!$C$9","v":0.89},{"$f":"DATA!$C$10","v":64},1,407.81250000000006,407.81250000000006,0,"","",0,"","",0,"","","","",null,{"$f":"X58","v":3},null,{"$f":"TEXT(Y63,\"ddd\")","v":"za"},"MD",{"$f":"IFERROR(HLOOKUP(Y63,[1]DATA!$A$1:$NB$5,4,0),\"\")","v":"-"},null,null,null,null,0,"","",""]
["3zaND",{"$f":"VLOOKUP($AA65,DATA!$B$3:$E65,2,0)","v":"22:30:00"},{"$f":"VLOOKUP($AA65,DATA!$B$3:$E65,3,0)","v":"06:30:00"},{"$f":"VLOOKUP($AA65,DATA!$B$3:$E65,4,0)","v":3.125E-2},0.30208333333333326,0.30208333333333326,{"$f":"DATA!$C$9","v":0.89},{"$f":"DATA!$C$10","v":64},1,407.81249999999989,407.81249999999989,0,"","",0,"","",0,"","","","",null,{"$f":"X58","v":3},null,{"$f":"TEXT(Y63,\"ddd\")","v":"za"},"ND",{"$f":"IFERROR(HLOOKUP(Y63,[1]DATA!$A$1:$NB$5,5,0),\"\")","v":"-"},null,null,null,null,0,"","",""]
["3zoDD",{"$f":"VLOOKUP($AA66,DATA!$B$3:$E66,2,0)","v":"06:30:00"},{"$f":"VLOOKUP($AA66,DATA!$B$3:$E66,3,0)","v":"14:30:00"},{"$f":"VLOOKUP($AA66,DATA!$B$3:$E66,4,0)","v":3.125E-2},0.30208333333333331,0.30208333333333331,{"$f":"DATA!$C$9","v":0.89},{"$f":"DATA!$C$10","v":64},1,407.8125,407.8125,0,"","",0,"","",0,"","","","",null,{"$f":"X58","v":3},{"$f":"Y63+1","v":"2018-01-21"},{"$f":"TEXT(Y66,\"ddd\")","v":"zo"},"DD",{"$f":"IFERROR(HLOOKUP(Y66,[1]DATA!$A$1:$NB$5,3,0),\"\")","v":"-"},null,null,null,null,0,"","",""]
["3zoMD",{"$f":"VLOOKUP($AA67,DATA!$B$3:$E67,2,0)","v":"14:30:00"},{"$f":"VLOOKUP($AA67,DATA!$B$3:$E67,3,0)","v":"22:30:00"},{"$f":"VLOOKUP($AA67,DATA!$B$3:$E67,4,0)","v":3.125E-2},0.30208333333333337,0.30208333333333337,{"$f":"DATA!$C$9","v":0.89},{"$f":"DATA!$C$10","v":64},1,407.81250000000006,407.81250000000006,0,"","",0,"","",0,"","","","",null,{"$f":"X58","v":3},null,{"$f":"TEXT(Y66,\"ddd\")","v":"zo"},"MD",{"$f":"IFERROR(HLOOKUP(Y66,[1]DATA!$A$1:$NB$5,4,0),\"\")","v":"-"},null,null,null,null,0,"","",""]
["3zoZND",{"$f":"VLOOKUP($AA68,DATA!$B$3:$E68,2,0)","v":"00:00:00"},{"$f":"VLOOKUP($AA68,DATA!$B$3:$E68,3,0)","v":"00:00:00"},{"$f":"VLOOKUP($AA68,DATA!$B$3:$E68,4,0)","v":0},0,0,{"$f":"DATA!$C$9","v":0.89},{"$f":"DATA!$C$10","v":64},1,0,0,0,"","",0,"","",0,"","","","",null,{"$f":"X58","v":3},null,{"$f":"TEXT(Y66,\"ddd\")","v":"zo"},"ZND",{"$f":"IFERROR(HLOOKUP(Y66,[1]DATA!$A$1:$NB$5,5,0),\"\")","v":"D2"},null,null,null,null,0,"","",""]
["4maDD",{"$f":"VLOOKUP($AA69,DATA!$B$3:$E69,2,0)","v":"06:30:00"},{"$f":"VLOOKUP($AA69,DATA!$B$3:$E69,3,0)","v":"14:30:00"},{"$f":"VLOOKUP($AA69,DATA!$B$3:$E69,4,0)","v":3.125E-2},0.30208333333333331,0.25138888888888888,{"$f":"DATA!$C$9","v":0.89},{"$f":"DATA!$C$10","v":64},1,339.375,407.8125,5.0694444444444452E-2,68.437500000000014,0.16781609195402303,{"$f":"TIME(INT($AD69/60),INT(MOD($AD69,60)/1),0)","v":0},"","",397.86666666666667,330,330,"","",null,{"$f":"X79","v":4},{"$f":"Y66+1","v":"2018-01-22"},{"$f":"TEXT(Y69,\"ddd\")","v":"ma"},"DD",{"$f":"IFERROR(HLOOKUP(Y69,[1]DATA!$A$1:$NB$5,3,0),\"\")","v":"D1"},73,null,43,373,39,-37.500000000000057,0.75698924731182793,0.91072791088051275,4359.375,3127,0.71730465949820787,624.375,0.1432258064516129,0,0,0.90800380879262887,0.90826092072941456,"",0.90774669685584297,608,0.13946953405017923,648.5333333333333,384]
["4maMD",{"$f":"VLOOKUP($AA70,DATA!$B$3:$E70,2,0)","v":"14:30:00"},{"$f":"VLOOKUP($AA70,DATA!$B$3:$E70,3,0)","v":"22:30:00"},{"$f":"VLOOKUP($AA70,DATA!$B$3:$E70,4,0)","v":3.125E-2},0.30208333333333337,0.29652777777777783,{"$f":"DATA!$C$9","v":0.89},{"$f":"DATA!$C$10","v":64},1,{"$f":"F70*86400/H70*I70","v":400.31250000000006},{"$f":"E70*86400/H70","v":407.81250000000006},5.5555555555555558E-3,7.5,1.8390804597701146E-2,{"$f":"TIME(INT(AD70/60),INT(MOD(AD70,60)/1),0)","v":0},"","",{"$f":"AF70*AG$2","v":385.06666666666666},{"$f":"IF(AF70-AE70=0,\"\",AF70-AE70)","v":336},"","",336,null,{"$f":"X79","v":4},null,{"$f":"TEXT(Y69,\"ddd\")","v":"ma"},"MD",{"$f":"IFERROR(HLOOKUP(Y69,[1]DATA!$A$1:$NB$5,4,0),\"\")","v":"D3"},8,null,25,361,41,-92.4375,0.77075268817204312,0.90377092786731339]
["4maND",{"$f":"VLOOKUP($AA71,DATA!$B$3:$E71,2,0)","v":"22:30:00"},{"$f":"VLOOKUP($AA71,DATA!$B$3:$E71,3,0)","v":"06:30:00"},{"$f":"VLOOKUP($AA71,DATA!$B$3:$E71,4,0)","v":3.125E-2},0.30208333333333326,0.30208333333333326,{"$f":"DATA!$C$9","v":0.89},{"$f":"DATA!$C$10","v":64},1,407.81249999999989,407.81249999999989,{"$f":"TIME(INT($AC71/60),INT(MOD($AC71,60)/1),0)","v":0},{"$f":"IF($L71*86400/$H71=0,\"\",$L71*86400/$H71)","v":""},{"$f":"IFERROR($M71/$K71,\"\")","v":""},0,"",{"$f":"IFERROR($P71/$K71,\"\")","v":""},0,"",{"$f":"IF(IF($AB71=\"D1\",$S71,\"\")=0,\"\",IF($AB71=\"D1\",$S71,\"\"))","v":""},{"$f":"IF(IF($AB71=\"D2\",$S71,\"\")=0,\"\",IF($AB71=\"D2\",$S71,\"\"))","v":""},{"$f":"IF(IF($AB71=\"D3\",$S71,\"\")=0,\"\",IF($AB71=\"D3\",$S71,\"\"))","v":""},null,{"$f":"X79","v":4},null,{"$f":"TEXT(Y69,\"ddd\")","v":"ma"},"ND",{"$f":"IFERROR(HLOOKUP(Y69,[1]DATA!$A$1:$NB$5,5,0),\"\")","v":"D2"},null,null,null,null,0,"","",""]
["4diDD",{"$f":"VLOOKUP($AA72,DATA!$B$3:$E72,2,0)","v":"06:30:00"},{"$f":"VLOOKUP($AA72,DATA!$B$3:$E72,3,0)","v":"14:30:00"},{"$f":"VLOOKUP($AA72,DATA!$B$3:$E72,4,0)","v":3.125E-2},0.30208333333333331,0.21944444444444444,{"$f":"DATA!$C$9","v":0.89},{"$f":"DATA!$C$10","v":64},1,296.25,407.8125,8.2638888888888887E-2,111.5625,0.27356321839080461,0,"","",368,333,333,"","",null,{"$f":"X79","v":4},{"$f":"Y69+1","v":"2018-01-23"},{"$f":"TEXT(Y72,\"ddd\")","v":"di"},"DD",{"$f":"IFERROR(HLOOKUP(Y72,[1]DATA!$A$1:$NB$5,3,0),\"\")","v":"D1"},119,null,12,345,15,8.6249999999999432,0.76387096774193552,0.96083550913838123]
["4diMD",{"$f":"VLOOKUP($AA73,DATA!$B$3:$E73,2,0)","v":"14:30:00"},{"$f":"VLOOKUP($AA73,DATA!$B$3:$E73,3,0)","v":"22:30:00"},{"$f":"VLOOKUP($AA73,DATA!$B$3:$E73,4,0)","v":3.125E-2},0.30208333333333337,0.18888888888888894,{"$f":"DATA!$C$9","v":0.89},{"$f":"DATA!$C$10","v":64},1,255.00000000000006,407.81250000000006,0.11319444444444444,152.8125,0.37471264367816087,0,"","",356.26666666666665,305,"","",305,null,{"$f":"X79","v":4},null,{"$f":"TEXT(Y72,\"ddd\")","v":"di"},"MD",{"$f":"IFERROR(HLOOKUP(Y72,[1]DATA!$A$1:$NB$5,4,0),\"\")","v":"D3"},163,null,29,334,55,21.875000000000057,0.699641577060932,0.86626681796077154]
["4diND",{"$f":"VLOOKUP($AA74,DATA!$B$3:$E74,2,0)","v":"22:30:00"},{"$f":"VLOOKUP($AA74,DATA!$B$3:$E74,3,0)","v":"06:30:00"},{"$f":"VLOOKUP($AA74,DATA!$B$3:$E74,4,0)","v":3.125E-2},0.30208333333333326,0.30208333333333326,{"$f":"DATA!$C$9","v":0.89},{"$f":"DATA!$C$10","v":64},1,407.81249999999989,407.81249999999989,0,"","",0,"","",0,"","","","",null,{"$f":"X79","v":4},null,{"$f":"TEXT(Y72,\"ddd\")","v":"di"},"ND",{"$f":"IFERROR(HLOOKUP(Y72,[1]DATA!$A$1:$NB$5,5,0),\"\")","v":"D2"},null,null,null,null,0,"","",""]
["4woDD",{"$f":"VLOOKUP($AA75,DATA!$B$3:$E75,2,0)","v":"06:30:00"},{"$f":"VLOOKUP($AA75,DATA!$B$3:$E75,3,0)","v":"14:30:00"},{"$f":"VLOOKUP($AA75,DATA!$B$3:$E75,4,0)","v":3.125E-2},0.30208333333333331,0.24444444444444444,{"$f":"DATA!$C$9","v":0.89},{"$f":"DATA!$C$10","v":64},1,330,407.8125,5.7638888888888885E-2,77.8125,0.19080459770114944,0,"","",332.8,279,279,"","",null,{"$f":"X79","v":4},{"$f":"Y72+1","v":"2018-01-24"},{"$f":"TEXT(Y75,\"ddd\")","v":"wo"},"DD",{"$f":"IFERROR(HLOOKUP(Y75,[1]DATA!$A$1:$NB$5,3,0),\"\")","v":"D1"},83,null,33,312,110,-79.125,0.64,0.75158084914182477]
["4woMD",{"$f":"VLOOKUP($AA76,DATA!$B$3:$E76,2,0)","v":"14:30:00"},{"$f":"VLOOKUP($AA76,DATA!$B$3:$E76,3,0)","v":"22:30:00"},{"$f":"VLOOKUP($AA76,DATA!$B$3:$E76,4,0)","v":3.125E-2},0.30208333333333337,0.26319444444444451,{"$f":"DATA!$C$9","v":0.89},{"$f":"DATA!$C$10","v":64},1,355.31250000000011,407.81250000000006,3.888888888888889E-2,52.5,0.12873563218390802,0,"","",421.33333333333331,365,"","",365,null,{"$f":"X79","v":4},null,{"$f":"TEXT(Y75,\"ddd\")","v":"wo"},"MD",{"$f":"IFERROR(HLOOKUP(Y75,[1]DATA!$A$1:$NB$5,4,0),\"\")","v":"D3"},56,null,30,395,19,-18.4375,0.83727598566308259,0.95685087055261164]
["4woND",{"$f":"VLOOKUP($AA77,DATA!$B$3:$E77,2,0)","v":"22:30:00"},{"$f":"VLOOKUP($AA77,DATA!$B$3:$E77,3,0)","v":"06:30:00"},{"$f":"VLOOKUP($AA77,DATA!$B$3:$E77,4,0)","v":3.125E-2},0.30208333333333326,0.30208333333333326,{"$f":"DATA!$C$9","v":0.89},{"$f":"DATA!$C$10","v":64},1,407.81249999999989,407.81249999999989,0,"","",0,"","",0,"","","","",null,{"$f":"X79","v":4},null,{"$f":"TEXT(Y75,\"ddd\")","v":"wo"},"ND",{"$f":"IFERROR(HLOOKUP(Y75,[1]DATA!$A$1:$NB$5,5,0),\"\")","v":"D2"},null,null,null,null,0,"","",""]
["4doDD",{"$f":"VLOOKUP($AA78,DATA!$B$3:$E78,2,0)","v":"06:30:00"},{"$f":"VLOOKUP($AA78,DATA!$B$3:$E78,3,0)","v":"14:30:00"},{"$f":"VLOOKUP($AA78,DATA!$B$3:$E78,4,0)","v":3.125E-2},0.30208333333333331,0.22916666666666663,{"$f":"DATA!$C$9","v":0.89},{"$f":"DATA!$C$10","v":64},1,309.37499999999994,407.8125,7.2916666666666671E-2,98.4375,0.2413793103448276,0,"","",257.06666666666666,221,221,"","",null,{"$f":"X79","v":4},{"$f":"Y75+1","v":"2018-01-25"},{"$f":"TEXT(Y78,\"ddd\")","v":"do"},"DD",{"$f":"IFERROR(HLOOKUP(Y78,[1]DATA!$A$1:$NB$5,3,0),\"\")","v":"D1"},105,null,20,241,9,-116.5,0.50695340501792119,0.96617389125532449]
["4doMD",{"$f":"VLOOKUP($AA79,DATA!$B$3:$E79,2,0)","v":"14:30:00"},{"$f":"VLOOKUP($AA79,DATA!$B$3:$E79,3,0)","v":"22:30:00"},{"$f":"VLOOKUP($AA79,DATA!$B$3:$E79,4,0)","v":3.125E-2},0.30208333333333337,0.27847222222222223,{"$f":"DATA!$C$9","v":0.89},{"$f":"DATA!$C$10","v":64},1,375.9375,407.81250000000006,2.361111111111111E-2,31.875,7.816091954022987E-2,0,"","",402.13333333333333,345,"","",345,null,{"$f":"WEEKNUM($Y69)","v":4},null,{"$f":"TEXT(Y78,\"ddd\")","v":"do"},"MD",{"$f":"IFERROR(HLOOKUP(Y78,[1]DATA!$A$1:$NB$5,4,0),\"\")","v":"D3"},34,null,32,377,19,-59.062499999999886,0.79139784946236569,0.954883647300934]
["4doND",{"$f":"VLOOKUP($AA80,DATA!$B$3:$E80,2,0)","v":"22:30:00"},{"$f":"VLOOKUP($AA80,DATA!$B$3:$E80,3,0)","v":"06:30:00"},{"$f":"VLOOKUP($AA80,DATA!$B$3:$E80,4,0)","v":3.125E-2},0.30208333333333326,0.30208333333333326,{"$f":"DATA!$C$9","v":0.89},{"$f":"DATA!$C$10","v":64},1,407.81249999999989,407.81249999999989,0,"","",0,"","",0,"","","","",null,{"$f":"X79","v":4},null,{"$f":"TEXT(Y78,\"ddd\")","v":"do"},"ND",{"$f":"IFERROR(HLOOKUP(Y78,[1]DATA!$A$1:$NB$5,5,0),\"\")","v":"D2"},null,null,null,null,0,"","",""]
["4vrDD",{"$f":"VLOOKUP($AA81,DATA!$B$3:$E81,2,0)","v":"06:30:00"},{"$f":"VLOOKUP($AA81,DATA!$B$3:$E81,3,0)","v":"14:30:00"},{"$f":"VLOOKUP($AA81,DATA!$B$3:$E81,4,0)","v":3.125E-2},0.30208333333333331,0.3,{"$f":"DATA!$C$9","v":0.89},{"$f":"DATA!$C$10","v":64},1,405,407.8125,2.0833333333333333E-3,2.8125,6.8965517241379309E-3,0,"","",337.06666666666666,287,287,"","",null,{"$f":"X79","v":4},{"$f":"Y78+1","v":"2018-01-26"},{"$f":"TEXT(Y81,\"ddd\")","v":"vr"},"DD",{"$f":"IFERROR(HLOOKUP(Y81,[1]DATA!$A$1:$NB$5,3,0),\"\")","v":"D1"},3,null,29,316,17,-146.12500000000006,0.65835125448028675,0.95198644323102999]
["4vrMD",{"$f":"VLOOKUP($AA82,DATA!$B$3:$E82,2,0)","v":"14:30:00"},{"$f":"VLOOKUP($AA82,DATA!$B$3:$E82,3,0)","v":"22:30:00"},{"$f":"VLOOKUP($AA82,DATA!$B$3:$E82,4,0)","v":3.125E-2},0.30208333333333337,0.28680555555555559,{"$f":"DATA!$C$9","v":0.89},{"$f":"DATA!$C$10","v":64},1,387.18750000000006,407.81250000000006,1.5277777777777777E-2,20.625,5.0574712643678153E-2,0,"","",359.46666666666664,326,"","",326,null,{"$f":"X79","v":4},null,{"$f":"TEXT(Y81,\"ddd\")","v":"vr"},"MD",{"$f":"IFERROR(HLOOKUP(Y81,[1]DATA!$A$1:$NB$5,4,0),\"\")","v":"D3"},22,null,11,337,60,-89.312499999999943,0.74781362007168473,0.85696122059758417]
["4vrND",{"$f":"VLOOKUP($AA83,DATA!$B$3:$E83,2,0)","v":"22:30:00"},{"$f":"VLOOKUP($AA83,DATA!$B$3:$E83,3,0)","v":"06:30:00"},{"$f":"VLOOKUP($AA83,DATA!$B$3:$E83,4,0)","v":3.125E-2},0.30208333333333326,0.30208333333333326,{"$f":"DATA!$C$9","v":0.89},{"$f":"DATA!$C$10","v":64},1,407.81249999999989,407.81249999999989,0,"","",0,"","",0,"","","","",null,{"$f":"X79","v":4},null,{"$f":"TEXT(Y81,\"ddd\")","v":"vr"},"ND",{"$f":"IFERROR(HLOOKUP(Y81,[1]DATA!$A$1:$NB$5,5,0),\"\")","v":"-"},null,null,null,null,0,"","",""]
["4zaDD",{"$f":"VLOOKUP($AA84,DATA!$B$3:$E84,2,0)","v":"06:30:00"},{"$f":"VLOOKUP($AA84,DATA!$B$3:$E84,3,0)","v":"14:30:00"},{"$f":"VLOOKUP($AA84,DATA!$B$3:$E84,4,0)","v":3.125E-2},0.30208333333333331,0.30208333333333331,{"$f":"DATA!$C$9","v":0.89},{"$f":"DATA!$C$10","v":64},1,407.8125,407.8125,0,"","",0,"","",0,"","","","",null,{"$f":"X79","v":4},{"$f":"Y81+1","v":"2018-01-27"},{"$f":"TEXT(Y84,\"ddd\")","v":"za"},"DD",{"$f":"IFERROR(HLOOKUP(Y84,[1]DATA!$A$1:$NB$5,3,0),\"\")","v":"-"},null,null,null,null,0,"","",""]
["4zaMD",{"$f":"VLOOKUP($AA85,DATA!$B$3:$E85,2,0)","v":"14:30:00"},{"$f":"VLOOKUP($AA85,DATA!$B$3:$E85,3,0)","v":"22:30:00"},{"$f":"VLOOKUP($AA85,DATA!$B$3:$E85,4,0)","v":3.125E-2},0.30208333333333337,0.30208333333333337,{"$f":"DATA!$C$9","v":0.89},{"$f":"DATA!$C$10","v":64},1,407.81250000000006,407.81250000000006,0,"","",0,"","",0,"","","","",null,{"$f":"X79","v":4},null,{"$f":"TEXT(Y84,\"ddd\")","v":"za"},"MD",{"$f":"IFERROR(HLOOKUP(Y84,[1]DATA!$A$1:$NB$5,4,0),\"\")","v":"-"},null,null,null,null,0,"","",""]
["4zaND",{"$f":"VLOOKUP($AA86,DATA!$B$3:$E86,2,0)","v":"22:30:00"},{"$f":"VLOOKUP($AA86,DATA!$B$3:$E86,3,0)","v":"06:30:00"},{"$f":"VLOOKUP($AA86,DATA!$B$3:$E86,4,0)","v":3.125E-2},0.30208333333333326,0.30208333333333326,{"$f":"DATA!$C$9","v":0.89},{"$f":"DATA!$C$10","v":64},1,407.81249999999989,407.81249999999989,0,"","",0,"","",0,"","","","",null,{"$f":"X79","v":4},null,{"$f":"TEXT(Y84,\"ddd\")","v":"za"},"ND",{"$f":"IFERROR(HLOOKUP(Y84,[1]DATA!$A$1:$NB$5,5,0),\"\")","v":"-"},null,null,null,null,0,"","",""]
["4zoDD",{"$f":"VLOOKUP($AA87,DATA!$B$3:$E87,2,0)","v":"06:30:00"},{"$f":"VLOOKUP($AA87,DATA!$B$3:$E87,3,0)","v":"14:30:00"},{"$f":"VLOOKUP($AA87,DATA!$B$3:$E87,4,0)","v":3.125E-2},0.30208333333333331,0.30208333333333331,{"$f":"DATA!$C$9","v":0.89},{"$f":"DATA!$C$10","v":64},1,407.8125,407.8125,0,"","",0,"","",0,"","","","",null,{"$f":"X79","v":4},{"$f":"Y84+1","v":"2018-01-28"},{"$f":"TEXT(Y87,\"ddd\")","v":"zo"},"DD",{"$f":"IFERROR(HLOOKUP(Y87,[1]DATA!$A$1:$NB$5,3,0),\"\")","v":"-"},null,null,null,null,0,"","",""]
["4zoMD",{"$f":"VLOOKUP($AA88,DATA!$B$3:$E88,2,0)","v":"14:30:00"},{"$f":"VLOOKUP($AA88,DATA!$B$3:$E88,3,0)","v":"22:30:00"},{"$f":"VLOOKUP($AA88,DATA!$B$3:$E88,4,0)","v":3.125E-2},0.30208333333333337,0.30208333333333337,{"$f":"DATA!$C$9","v":0.89},{"$f":"DATA!$C$10","v":64},1,407.81250000000006,407.81250000000006,0,"","",0,"","",0,"","","","",null,{"$f":"X79","v":4},null,{"$f":"TEXT(Y87,\"ddd\")","v":"zo"},"MD",{"$f":"IFERROR(HLOOKUP(Y87,[1]DATA!$A$1:$NB$5,4,0),\"\")","v":"-"},null,null,null,null,0,"","",""]
["4zoZND",{"$f":"VLOOKUP($AA89,DATA!$B$3:$E89,2,0)","v":"00:00:00"},{"$f":"VLOOKUP($AA89,DATA!$B$3:$E89,3,0)","v":"00:00:00"},{"$f":"VLOOKUP($AA89,DATA!$B$3:$E89,4,0)","v":0},0,0,{"$f":"DATA!$C$9","v":0.89},{"$f":"DATA!$C$10","v":64},1,0,0,0,"","",0,"","",0,"","","","",null,{"$f":"X79","v":4},null,{"$f":"TEXT(Y87,\"ddd\")","v":"zo"},"ZND",{"$f":"IFERROR(HLOOKUP(Y87,[1]DATA!$A$1:$NB$5,5,0),\"\")","v":"D1"},null,null,null,null,0,"","",""]
["5maDD",{"$f":"VLOOKUP($AA90,DATA!$B$3:$E90,2,0)","v":"06:30:00"},{"$f":"VLOOKUP($AA90,DATA!$B$3:$E90,3,0)","v":"14:30:00"},{"$f":"VLOOKUP($AA90,DATA!$B$3:$E90,4,0)","v":3.125E-2},0.30208333333333331,0.2006944444444444,{"$f":"DATA!$C$9","v":0.89},{"$f":"DATA!$C$10","v":64},1,270.93749999999994,407.8125,0.1013888888888889,136.87500000000003,0.33563218390804606,{"$f":"TIME(INT($AD90/60),INT(MOD($AD90,60)/1),0)","v":0},"","",312.5333333333333,266,"","",266,null,{"$f":"X100","v":5},{"$f":"Y87+1","v":"2018-01-29"},{"$f":"TEXT(Y90,\"ddd\")","v":"ma"},"DD",{"$f":"IFERROR(HLOOKUP(Y90,[1]DATA!$A$1:$NB$5,3,0),\"\")","v":"D3"},146,null,27,293,22,-33.0625,0.61017921146953402,0.93423674770825027,4359.375,2796,0.64137634408602151,1116.5625,0.25612903225806449,220.3125,5.053763440860215E-2,0.93305383811419473,"",0.94004195168427618,0.92606572454411329,226.5,5.1956989247311847E-2,241.6,236]
["5maMD",{"$f":"VLOOKUP($AA91,DATA!$B$3:$E91,2,0)","v":"14:30:00"},{"$f":"VLOOKUP($AA91,DATA!$B$3:$E91,3,0)","v":"22:30:00"},{"$f":"VLOOKUP($AA91,DATA!$B$3:$E91,4,0)","v":3.125E-2},0.30208333333333337,0.20833333333333337,{"$f":"DATA!$C$9","v":0.89},{"$f":"DATA!$C$10","v":64},1,281.25000000000006,407.81250000000006,9.375E-2,126.5625,0.31034482758620685,{"$f":"TIME(INT(AD91/60),INT(MOD(AD91,60)/1),0)","v":0},"","",365.86666666666667,315,"",315,"",null,{"$f":"X100","v":5},null,{"$f":"TEXT(Y90,\"ddd\")","v":"ma"},"MD",{"$f":"IFERROR(HLOOKUP(Y90,[1]DATA!$A$1:$NB$5,4,0),\"\")","v":"D2"},135,null,28,343,30,5.6250000000000568,0.72258064516129039,0.92421690804984846]
["5maND",{"$f":"VLOOKUP($AA92,DATA!$B$3:$E92,2,0)","v":"22:30:00"},{"$f":"VLOOKUP($AA92,DATA!$B$3:$E92,3,0)","v":"06:30:00"},{"$f":"VLOOKUP($AA92,DATA!$B$3:$E92,4,0)","v":3.125E-2},{"$f":"(C92-B92+(B92>C92))-D92","v":0.30208333333333326},{"$f":"E92-O92-L92","v":0.30208333333333326},{"$f":"DATA!$C$9","v":0.89},{"$f":"DATA!$C$10","v":64},1,407.81249999999989,407.81249999999989,0,"","",0,"","",0,"","","","",null,{"$f":"X100","v":5},null,{"$f":"TEXT(Y90,\"ddd\")","v":"ma"},"ND",{"$f":"IFERROR(HLOOKUP(Y90,[1]DATA!$A$1:$NB$5,5,0),\"\")","v":"D1"},null,null,null,null,0,"","",""]
["5diDD",{"$f":"VLOOKUP($AA93,DATA!$B$3:$E93,2,0)","v":"06:30:00"},{"$f":"VLOOKUP($AA93,DATA!$B$3:$E93,3,0)","v":"14:30:00"},{"$f":"VLOOKUP($AA93,DATA!$B$3:$E93,4,0)","v":3.125E-2},0.30208333333333331,0.21875,{"$f":"DATA!$C$9","v":0.89},{"$f":"DATA!$C$10","v":64},1,295.3125,407.8125,8.3333333333333329E-2,112.5,0.27586206896551724,0,"","",382.93333333333334,330,"","",330,null,{"$f":"X100","v":5},{"$f":"Y90+1","v":"2018-01-30"},{"$f":"TEXT(Y93,\"ddd\")","v":"di"},"DD",{"$f":"IFERROR(HLOOKUP(Y93,[1]DATA!$A$1:$NB$5,3,0),\"\")","v":"D3"},120,null,29,359,11,6.5624999999999432,0.75698924731182793,0.97207649348451519]
["5diMD",{"$f":"VLOOKUP($AA94,DATA!$B$3:$E94,2,0)","v":"14:30:00"},{"$f":"VLOOKUP($AA94,DATA!$B$3:$E94,3,0)","v":"22:30:00"},{"$f":"VLOOKUP($AA94,DATA!$B$3:$E94,4,0)","v":3.125E-2},0.30208333333333337,0.23263888888888895,{"$f":"DATA!$C$9","v":0.89},{"$f":"DATA!$C$10","v":64},1,314.06250000000006,407.81250000000006,6.9444444444444434E-2,93.749999999999986,0.22988505747126431,0,"","",368,323,"",323,"",null,{"$f":"X100","v":5},null,{"$f":"TEXT(Y93,\"ddd\")","v":"di"},"MD",{"$f":"IFERROR(HLOOKUP(Y93,[1]DATA!$A$1:$NB$5,4,0),\"\")","v":"D2"},100,null,22,345,38,-19.1875,0.74093189964157713,0.90640394088669951]
["5diND",{"$f":"VLOOKUP($AA95,DATA!$B$3:$E95,2,0)","v":"22:30:00"},{"$f":"VLOOKUP($AA95,DATA!$B$3:$E95,3,0)","v":"06:30:00"},{"$f":"VLOOKUP($AA95,DATA!$B$3:$E95,4,0)","v":3.125E-2},0.30208333333333326,0.30208333333333326,{"$f":"DATA!$C$9","v":0.89},{"$f":"DATA!$C$10","v":64},1,407.81249999999989,407.81249999999989,0,"","",0,"","",0,"","","","",null,{"$f":"X100","v":5},null,{"$f":"TEXT(Y93,\"ddd\")","v":"di"},"ND",{"$f":"IFERROR(HLOOKUP(Y93,[1]DATA!$A$1:$NB$5,5,0),\"\")","v":"D1"},null,null,null,null,0,"","",""]
["5woDD",{"$f":"VLOOKUP($AA96,DATA!$B$3:$E96,2,0)","v":"06:30:00"},{"$f":"VLOOKUP($AA96,DATA!$B$3:$E96,3,0)","v":"14:30:00"},{"$f":"VLOOKUP($AA96,DATA!$B$3:$E96,4,0)","v":3.125E-2},0.30208333333333331,0.15902777777777777,{"$f":"DATA!$C$9","v":0.89},{"$f":"DATA!$C$10","v":64},1,214.6875,407.8125,9.0972222222222218E-2,122.8125,0.30114942528735633,5.2083333333333336E-2,70.3125,0.17241379310344829,231.46666666666667,212,"","",212,null,{"$f":"X100","v":5},{"$f":"Y93+1","v":"2018-01-31"},{"$f":"TEXT(Y96,\"ddd\")","v":"wo"},"DD",{"$f":"IFERROR(HLOOKUP(Y96,[1]DATA!$A$1:$NB$5,3,0),\"\")","v":"D3"},131,75,5,217,15,-30.812500000000028,0.48630824372759857,0.93913984311604004]
["5woMD",{"$f":"VLOOKUP($AA97,DATA!$B$3:$E97,2,0)","v":"14:30:00"},{"$f":"VLOOKUP($AA97,DATA!$B$3:$E97,3,0)","v":"22:30:00"},{"$f":"VLOOKUP($AA97,DATA!$B$3:$E97,4,0)","v":3.125E-2},0.30208333333333337,0.1430555555555556,{"$f":"DATA!$C$9","v":0.89},{"$f":"DATA!$C$10","v":64},1,193.12500000000006,407.81250000000006,4.7916666666666663E-2,64.6875,0.1586206896551724,0.1111111111111111,150,0.36781609195402293,261.33333333333331,220,"",220,"",null,{"$f":"X100","v":5},null,{"$f":"TEXT(Y96,\"ddd\")","v":"wo"},"MD",{"$f":"IFERROR(HLOOKUP(Y96,[1]DATA!$A$1:$NB$5,4,0),\"\")","v":"D2"},69,160,25,245,10,-1.2499999999999716,0.50465949820788536,0.96314496314496312]
["5woND",{"$f":"VLOOKUP($AA98,DATA!$B$3:$E98,2,0)","v":"22:30:00"},{"$f":"VLOOKUP($AA98,DATA!$B$3:$E98,3,0)","v":"06:30:00"},{"$f":"VLOOKUP($AA98,DATA!$B$3:$E98,4,0)","v":3.125E-2},0.30208333333333326,0.30208333333333326,{"$f":"DATA!$C$9","v":0.89},{"$f":"DATA!$C$10","v":64},1,407.81249999999989,407.81249999999989,0,"","",0,"","",0,"","","","",null,{"$f":"X100","v":5},null,{"$f":"TEXT(Y96,\"ddd\")","v":"wo"},"ND",{"$f":"IFERROR(HLOOKUP(Y96,[1]DATA!$A$1:$NB$5,5,0),\"\")","v":"D1"},null,null,null,null,0,"","",""]
["5doDD",{"$f":"VLOOKUP($AA99,DATA!$B$3:$E99,2,0)","v":"06:30:00"},{"$f":"VLOOKUP($AA99,DATA!$B$3:$E99,3,0)","v":"14:30:00"},{"$f":"VLOOKUP($AA99,DATA!$B$3:$E99,4,0)","v":3.125E-2},0.30208333333333331,0.24166666666666664,{"$f":"DATA!$C$9","v":0.89},{"$f":"DATA!$C$10","v":64},1,326.24999999999994,407.8125,6.0416666666666667E-2,81.5625,0.2,0,"","",327.46666666666664,270,"","",270,null,{"$f":"X100","v":5},{"$f":"Y96+1","v":"2018-02-01"},{"$f":"TEXT(Y99,\"ddd\")","v":"do"},"DD",{"$f":"IFERROR(HLOOKUP(Y99,[1]DATA!$A$1:$NB$5,3,0),\"\")","v":"D3"},87,null,37,307,51,-84.375,0.61935483870967745,0.86524572837766422]
["5doMD",{"$f":"VLOOKUP($AA100,DATA!$B$3:$E100,2,0)","v":"14:30:00"},{"$f":"VLOOKUP($AA100,DATA!$B$3:$E100,3,0)","v":"22:30:00"},{"$f":"VLOOKUP($AA100,DATA!$B$3:$E100,4,0)","v":3.125E-2},0.30208333333333337,0.21736111111111117,{"$f":"DATA!$C$9","v":0.89},{"$f":"DATA!$C$10","v":64},1,293.43750000000006,407.81250000000006,8.4722222222222213E-2,114.37499999999999,0.28045977011494244,0,"","",373.33333333333331,324,"",324,"",null,{"$f":"WEEKNUM($Y90)","v":5},null,{"$f":"TEXT(Y99,\"ddd\")","v":"do"},"MD",{"$f":"IFERROR(HLOOKUP(Y99,[1]DATA!$A$1:$NB$5,4,0),\"\")","v":"D2"},122,null,26,350,11,2.4375,0.74322580645161296,0.97137901127493498]
["5doND",{"$f":"VLOOKUP($AA101,DATA!$B$3:$E101,2,0)","v":"22:30:00"},{"$f":"VLOOKUP($AA101,DATA!$B$3:$E101,3,0)","v":"06:30:00"},{"$f":"VLOOKUP($AA101,DATA!$B$3:$E101,4,0)","v":3.125E-2},0.30208333333333326,0.30208333333333326,{"$f":"DATA!$C$9","v":0.89},{"$f":"DATA!$C$10","v":64},1,407.81249999999989,407.81249999999989,0,"","",0,"","",0,"","","","",null,{"$f":"X100","v":5},null,{"$f":"TEXT(Y99,\"ddd\")","v":"do"},"ND",{"$f":"IFERROR(HLOOKUP(Y99,[1]DATA!$A$1:$NB$5,5,0),\"\")","v":"D1"},null,null,null,null,0,"","",""]
["5vrDD",{"$f":"VLOOKUP($AA102,DATA!$B$3:$E102,2,0)","v":"06:30:00"},{"$f":"VLOOKUP($AA102,DATA!$B$3:$E102,3,0)","v":"14:30:00"},{"$f":"VLOOKUP($AA102,DATA!$B$3:$E102,4,0)","v":3.125E-2},0.30208333333333331,0.20277777777777778,{"$f":"DATA!$C$9","v":0.89},{"$f":"DATA!$C$10","v":64},1,273.75,407.8125,9.930555555555555E-2,134.0625,0.32873563218390806,0,"","",251.73333333333332,218,"","",218,null,{"$f":"X100","v":5},{"$f":"Y99+1","v":"2018-02-02"},{"$f":"TEXT(Y102,\"ddd\")","v":"vr"},"DD",{"$f":"IFERROR(HLOOKUP(Y102,[1]DATA!$A$1:$NB$5,3,0),\"\")","v":"D3"},143,null,18,236,22,-83.875000000000057,0.50007168458781359,0.91962981003409638]
["5vrMD",{"$f":"VLOOKUP($AA103,DATA!$B$3:$E103,2,0)","v":"14:30:00"},{"$f":"VLOOKUP($AA103,DATA!$B$3:$E103,3,0)","v":"22:30:00"},{"$f":"VLOOKUP($AA103,DATA!$B$3:$E103,4,0)","v":3.125E-2},0.30208333333333337,0.20625000000000004,{"$f":"DATA!$C$9","v":0.89},{"$f":"DATA!$C$10","v":64},1,278.43750000000006,407.81250000000006,9.5833333333333326E-2,129.375,0.3172413793103448,0,"","",374.4,318,"",318,"",null,{"$f":"X100","v":5},null,{"$f":"TEXT(Y102,\"ddd\")","v":"vr"},"MD",{"$f":"IFERROR(HLOOKUP(Y102,[1]DATA!$A$1:$NB$5,4,0),\"\")","v":"D2"},138,null,33,351,26,11.437500000000057,0.72946236559139799,0.93506493506493504]
["5vrND",{"$f":"VLOOKUP($AA104,DATA!$B$3:$E104,2,0)","v":"22:30:00"},{"$f":"VLOOKUP($AA104,DATA!$B$3:$E104,3,0)","v":"06:30:00"},{"$f":"VLOOKUP($AA104,DATA!$B$3:$E104,4,0)","v":3.125E-2},0.30208333333333326,0.30208333333333326,{"$f":"DATA!$C$9","v":0.89},{"$f":"DATA!$C$10","v":64},1,407.81249999999989,407.81249999999989,0,"","",0,"","",0,"","","","",null,{"$f":"X100","v":5},null,{"$f":"TEXT(Y102,\"ddd\")","v":"vr"},"ND",{"$f":"IFERROR(HLOOKUP(Y102,[1]DATA!$A$1:$NB$5,5,0),\"\")","v":"-"},null,null,null,null,0,"","",""]
["5zaDD",{"$f":"VLOOKUP($AA105,DATA!$B$3:$E105,2,0)","v":"06:30:00"},{"$f":"VLOOKUP($AA105,DATA!$B$3:$E105,3,0)","v":"14:30:00"},{"$f":"VLOOKUP($AA105,DATA!$B$3:$E105,4,0)","v":3.125E-2},0.30208333333333331,0.30208333333333331,{"$f":"DATA!$C$9","v":0.89},{"$f":"DATA!$C$10","v":64},1,407.8125,407.8125,0,"","",0,"","",0,"","","","",null,{"$f":"X100","v":5},{"$f":"Y102+1","v":"2018-02-03"},{"$f":"TEXT(Y105,\"ddd\")","v":"za"},"DD",{"$f":"IFERROR(HLOOKUP(Y105,[1]DATA!$A$1:$NB$5,3,0),\"\")","v":"-"},null,null,null,null,0,"","",""]
["5zaMD",{"$f":"VLOOKUP($AA106,DATA!$B$3:$E106,2,0)","v":"14:30:00"},{"$f":"VLOOKUP($AA106,DATA!$B$3:$E106,3,0)","v":"22:30:00"},{"$f":"VLOOKUP($AA106,DATA!$B$3:$E106,4,0)","v":3.125E-2},0.30208333333333337,0.30208333333333337,{"$f":"DATA!$C$9","v":0.89},{"$f":"DATA!$C$10","v":64},1,407.81250000000006,407.81250000000006,0,"","",0,"","",0,"","","","",null,{"$f":"X100","v":5},null,{"$f":"TEXT(Y105,\"ddd\")","v":"za"},"MD",{"$f":"IFERROR(HLOOKUP(Y105,[1]DATA!$A$1:$NB$5,4,0),\"\")","v":"-"},null,null,null,null,0,"","",""]
["5zaND",{"$f":"VLOOKUP($AA107,DATA!$B$3:$E107,2,0)","v":"22:30:00"},{"$f":"VLOOKUP($AA107,DATA!$B$3:$E107,3,0)","v":"06:30:00"},{"$f":"VLOOKUP($AA107,DATA!$B$3:$E107,4,0)","v":3.125E-2},0.30208333333333326,0.30208333333333326,{"$f":"DATA!$C$9","v":0.89},{"$f":"DATA!$C$10","v":64},1,407.81249999999989,407.81249999999989,0,"","",0,"","",0,"","","","",null,{"$f":"X100","v":5},null,{"$f":"TEXT(Y105,\"ddd\")","v":"za"},"ND",{"$f":"IFERROR(HLOOKUP(Y105,[1]DATA!$A$1:$NB$5,5,0),\"\")","v":"-"},null,null,null,null,0,"","",""]
["5zoDD",{"$f":"VLOOKUP($AA108,DATA!$B$3:$E108,2,0)","v":"06:30:00"},{"$f":"VLOOKUP($AA108,DATA!$B$3:$E108,3,0)","v":"14:30:00"},{"$f":"VLOOKUP($AA108,DATA!$B$3:$E108,4,0)","v":3.125E-2},0.30208333333333331,0.30208333333333331,{"$f":"DATA!$C$9","v":0.89},{"$f":"DATA!$C$10","v":64},1,407.8125,407.8125,0,"","",0,"","",0,"","","","",null,{"$f":"X100","v":5},{"$f":"Y105+1","v":"2018-02-04"},{"$f":"TEXT(Y108,\"ddd\")","v":"zo"},"DD",{"$f":"IFERROR(HLOOKUP(Y108,[1]DATA!$A$1:$NB$5,3,0),\"\")","v":"-"},null,null,null,null,0,"","",""]
["5zoMD",{"$f":"VLOOKUP($AA109,DATA!$B$3:$E109,2,0)","v":"14:30:00"},{"$f":"VLOOKUP($AA109,DATA!$B$3:$E109,3,0)","v":"22:30:00"},{"$f":"VLOOKUP($AA109,DATA!$B$3:$E109,4,0)","v":3.125E-2},0.30208333333333337,0.30208333333333337,{"$f":"DATA!$C$9","v":0.89},{"$f":"DATA!$C$10","v":64},1,407.81250000000006,407.81250000000006,0,"","",0,"","",0,"","","","",null,{"$f":"X100","v":5},null,{"$f":"TEXT(Y108,\"ddd\")","v":"zo"},"MD",{"$f":"IFERROR(HLOOKUP(Y108,[1]DATA!$A$1:$NB$5,4,0),\"\")","v":"-"},null,null,null,null,0,"","",""]
["5zoZND",{"$f":"VLOOKUP($AA110,DATA!$B$3:$E110,2,0)","v":"00:00:00"},{"$f":"VLOOKUP($AA110,DATA!$B$3:$E110,3,0)","v":"00:00:00"},{"$f":"VLOOKUP($AA110,DATA!$B$3:$E110,4,0)","v":0},0,0,{"$f":"DATA!$C$9","v":0.89},{"$f":"DATA!$C$10","v":64},1,0,0,0,"","",0,"","",0,"","","","",null,{"$f":"X100","v":5},null,{"$f":"TEXT(Y108,\"ddd\")","v":"zo"},"ZND",{"$f":"IFERROR(HLOOKUP(Y108,[1]DATA!$A$1:$NB$5,5,0),\"\")","v":"D3"},null,null,null,null,0,"","",""]
["6maDD",{"$f":"VLOOKUP($AA111,DATA!$B$3:$E111,2,0)","v":"06:30:00"},{"$f":"VLOOKUP($AA111,DATA!$B$3:$E111,3,0)","v":"14:30:00"},{"$f":"VLOOKUP($AA111,DATA!$B$3:$E111,4,0)","v":3.125E-2},0.30208333333333331,0.2013888888888889,{"$f":"DATA!$C$9","v":0.89},{"$f":"DATA!$C$10","v":64},1,271.875,407.8125,0.10069444444444443,135.93749999999997,0.33333333333333326,{"$f":"TIME(INT($AD111/60),INT(MOD($AD111,60)/1),0)","v":0},"","",309.33333333333331,284,"",284,"",null,{"$f":"X121","v":6},{"$f":"Y108+1","v":"2018-02-05"},{"$f":"TEXT(Y111,\"ddd\")","v":"ma"},"DD",{"$f":"IFERROR(HLOOKUP(Y111,[1]DATA!$A$1:$NB$5,3,0),\"\")","v":"D2"},145,null,6,290,23,-16.000000000000057,0.65146953405017927,0.93079237713139418,4359.375,3084,0.70744086021505381,984.375,0.22580645161290322,0,0,0.94342088235260113,0.96719394467160846,0.91964782003359391,"",291,6.6752688172042968E-2,310.39999999999998,221]
[{"$f":"X112&Z112&AA112","v":"6maMD"},{"$f":"VLOOKUP($AA112,DATA!$B$3:$E112,2,0)","v":"14:30:00"},{"$f":"VLOOKUP($AA112,DATA!$B$3:$E112,3,0)","v":"22:30:00"},{"$f":"VLOOKUP($AA112,DATA!$B$3:$E112,4,0)","v":3.125E-2},0.30208333333333337,0.23263888888888895,{"$f":"DATA!$C$9","v":0.89},{"$f":"DATA!$C$10","v":64},1,314.06250000000006,407.81250000000006,6.9444444444444434E-2,93.749999999999986,0.22988505747126431,{"$f":"TIME(INT(AD112/60),INT(MOD(AD112,60)/1),0)","v":0},{"$f":"IF($O112*86400/$H112=0,\"\",$O112*86400/$H112)","v":""},"",358.4,308,308,"","",null,{"$f":"X121","v":6},null,{"$f":"TEXT(Y111,\"ddd\")","v":"ma"},"MD",{"$f":"IFERROR(HLOOKUP(Y111,[1]DATA!$A$1:$NB$5,4,0),\"\")","v":"D1"},100,null,28,336,20,-34.1875,0.70652329749103948,0.94714587737843547]
["6maND",{"$f":"VLOOKUP($AA113,DATA!$B$3:$E113,2,0)","v":"22:30:00"},{"$f":"VLOOKUP($AA113,DATA!$B$3:$E113,3,0)","v":"06:30:00"},{"$f":"VLOOKUP($AA113,DATA!$B$3:$E113,4,0)","v":3.125E-2},0.30208333333333326,0.30208333333333326,{"$f":"DATA!$C$9","v":0.89},{"$f":"DATA!$C$10","v":64},1,407.81249999999989,407.81249999999989,0,"","",0,"","",0,"","","","",null,{"$f":"X121","v":6},null,{"$f":"TEXT(Y111,\"ddd\")","v":"ma"},"ND",{"$f":"IFERROR(HLOOKUP(Y111,[1]DATA!$A$1:$NB$5,5,0),\"\")","v":"D3"},null,null,null,null,0,"","",""]
["6diDD",{"$f":"VLOOKUP($AA114,DATA!$B$3:$E114,2,0)","v":"06:30:00"},{"$f":"VLOOKUP($AA114,DATA!$B$3:$E114,3,0)","v":"14:30:00"},{"$f":"VLOOKUP($AA114,DATA!$B$3:$E114,4,0)","v":3.125E-2},0.30208333333333331,0.24027777777777776,{"$f":"DATA!$C$9","v":0.89},{"$f":"DATA!$C$10","v":64},1,324.375,407.8125,6.1805555555555558E-2,83.4375,0.2045977011494253,0,"","",366.93333333333334,322,"",322,"",null,{"$f":"X121","v":6},{"$f":"Y111+1","v":"2018-02-06"},{"$f":"TEXT(Y114,\"ddd\")","v":"di"},"DD",{"$f":"IFERROR(HLOOKUP(Y114,[1]DATA!$A$1:$NB$5,3,0),\"\")","v":"D2"},89,null,22,344,37,-30.5,0.73863799283154119,0.90840072619244094]
["6diMD",{"$f":"VLOOKUP($AA115,DATA!$B$3:$E115,2,0)","v":"14:30:00"},{"$f":"VLOOKUP($AA115,DATA!$B$3:$E115,3,0)","v":"22:30:00"},{"$f":"VLOOKUP($AA115,DATA!$B$3:$E115,4,0)","v":3.125E-2},0.30208333333333337,0.2680555555555556,{"$f":"DATA!$C$9","v":0.89},{"$f":"DATA!$C$10","v":64},1,361.87500000000006,407.81250000000006,3.4027777777777775E-2,45.937499999999993,0.11264367816091951,0,"","",254.93333333333334,212,212,"","",null,{"$f":"X121","v":6},null,{"$f":"TEXT(Y114,\"ddd\")","v":"di"},"MD",{"$f":"IFERROR(HLOOKUP(Y114,[1]DATA!$A$1:$NB$5,4,0),\"\")","v":"D1"},49,null,27,239,23,-177.99999999999994,0.48630824372759862,0.9172463420484529]
["6diND",{"$f":"VLOOKUP($AA116,DATA!$B$3:$E116,2,0)","v":"22:30:00"},{"$f":"VLOOKUP($AA116,DATA!$B$3:$E116,3,0)","v":"06:30:00"},{"$f":"VLOOKUP($AA116,DATA!$B$3:$E116,4,0)","v":3.125E-2},0.30208333333333326,0.30208333333333326,{"$f":"DATA!$C$9","v":0.89},{"$f":"DATA!$C$10","v":64},1,407.81249999999989,407.81249999999989,0,"","",0,"","",0,"","","","",null,{"$f":"X121","v":6},null,{"$f":"TEXT(Y114,\"ddd\")","v":"di"},"ND",{"$f":"IFERROR(HLOOKUP(Y114,[1]DATA!$A$1:$NB$5,5,0),\"\")","v":"D3"},null,null,null,null,0,"","",""]
["6woDD",{"$f":"VLOOKUP($AA117,DATA!$B$3:$E117,2,0)","v":"06:30:00"},{"$f":"VLOOKUP($AA117,DATA!$B$3:$E117,3,0)","v":"14:30:00"},{"$f":"VLOOKUP($AA117,DATA!$B$3:$E117,4,0)","v":3.125E-2},0.30208333333333331,0.24999999999999997,{"$f":"DATA!$C$9","v":0.89},{"$f":"DATA!$C$10","v":64},1,337.49999999999994,407.8125,5.2083333333333336E-2,70.3125,0.17241379310344829,0,"","",423.46666666666664,364,"",364,"",null,{"$f":"X121","v":6},{"$f":"Y114+1","v":"2018-02-07"},{"$f":"TEXT(Y117,\"ddd\")","v":"wo"},"DD",{"$f":"IFERROR(HLOOKUP(Y117,[1]DATA!$A$1:$NB$5,3,0),\"\")","v":"D2"},75,null,33,397,60,-1.6250000000000568,0.83498207885304665,0.87589630446773303]
["6woMD",{"$f":"VLOOKUP($AA118,DATA!$B$3:$E118,2,0)","v":"14:30:00"},{"$f":"VLOOKUP($AA118,DATA!$B$3:$E118,3,0)","v":"22:30:00"},{"$f":"VLOOKUP($AA118,DATA!$B$3:$E118,4,0)","v":3.125E-2},0.30208333333333337,0.18611111111111117,{"$f":"DATA!$C$9","v":0.89},{"$f":"DATA!$C$10","v":64},1,251.25000000000009,407.81250000000006,0.11597222222222221,156.5625,0.38390804597701145,0,"","",302.93333333333334,268,268,"","",null,{"$f":"X121","v":6},null,{"$f":"TEXT(Y117,\"ddd\")","v":"wo"},"MD",{"$f":"IFERROR(HLOOKUP(Y117,[1]DATA!$A$1:$NB$5,4,0),\"\")","v":"D1"},167,null,16,284,5,-11.375,0.61476702508960579,0.98376271920329073]
["6woND",{"$f":"VLOOKUP($AA119,DATA!$B$3:$E119,2,0)","v":"22:30:00"},{"$f":"VLOOKUP($AA119,DATA!$B$3:$E119,3,0)","v":"06:30:00"},{"$f":"VLOOKUP($AA119,DATA!$B$3:$E119,4,0)","v":3.125E-2},0.30208333333333326,0.30208333333333326,{"$f":"DATA!$C$9","v":0.89},{"$f":"DATA!$C$10","v":64},1,407.81249999999989,407.81249999999989,0,"","",0,"","",0,"","","","",null,{"$f":"X121","v":6},null,{"$f":"TEXT(Y117,\"ddd\")","v":"wo"},"ND",{"$f":"IFERROR(HLOOKUP(Y117,[1]DATA!$A$1:$NB$5,5,0),\"\")","v":"D3"},null,null,null,null,0,"","",""]
["6doDD",{"$f":"VLOOKUP($AA120,DATA!$B$3:$E120,2,0)","v":"06:30:00"},{"$f":"VLOOKUP($AA120,DATA!$B$3:$E120,3,0)","v":"14:30:00"},{"$f":"VLOOKUP($AA120,DATA!$B$3:$E120,4,0)","v":3.125E-2},0.30208333333333331,0.2013888888888889,{"$f":"DATA!$C$9","v":0.89},{"$f":"DATA!$C$10","v":64},1,271.875,407.8125,0.10069444444444443,135.93749999999997,0.33333333333333326,0,"","",364.8,325,"",325,"",null,{"$f":"X121","v":6},{"$f":"Y117+1","v":"2018-02-08"},{"$f":"TEXT(Y120,\"ddd\")","v":"do"},"DD",{"$f":"IFERROR(HLOOKUP(Y120,[1]DATA!$A$1:$NB$5,3,0),\"\")","v":"D2"},145,null,17,342,15,24.999999999999943,0.74551971326164879,0.96050552922590837]
["6doMD",{"$f":"VLOOKUP($AA121,DATA!$B$3:$E121,2,0)","v":"14:30:00"},{"$f":"VLOOKUP($AA121,DATA!$B$3:$E121,3,0)","v":"22:30:00"},{"$f":"VLOOKUP($AA121,DATA!$B$3:$E121,4,0)","v":3.125E-2},0.30208333333333337,0.22708333333333336,{"$f":"DATA!$C$9","v":0.89},{"$f":"DATA!$C$10","v":64},1,306.56250000000006,407.81250000000006,7.4999999999999997E-2,101.25,0.24827586206896549,0,"","",405.33333333333331,355,355,"","",null,{"$f":"WEEKNUM($Y111)","v":6},null,{"$f":"TEXT(Y120,\"ddd\")","v":"do"},"MD",{"$f":"IFERROR(HLOOKUP(Y120,[1]DATA!$A$1:$NB$5,4,0),\"\")","v":"D1"},108,null,25,380,5,20.312500000000057,0.81433691756272408,0.98781478472786355]
["6doND",{"$f":"VLOOKUP($AA122,DATA!$B$3:$E122,2,0)","v":"22:30:00"},{"$f":"VLOOKUP($AA122,DATA!$B$3:$E122,3,0)","v":"06:30:00"},{"$f":"VLOOKUP($AA122,DATA!$B$3:$E122,4,0)","v":3.125E-2},0.30208333333333326,0.30208333333333326,{"$f":"DATA!$C$9","v":0.89},{"$f":"DATA!$C$10","v":64},1,407.81249999999989,407.81249999999989,0,"","",0,"","",0,"","","","",null,{"$f":"X121","v":6},null,{"$f":"TEXT(Y120,\"ddd\")","v":"do"},"ND",{"$f":"IFERROR(HLOOKUP(Y120,[1]DATA!$A$1:$NB$5,5,0),\"\")","v":"D3"},null,null,null,null,0,"","",""]
["6vrDD",{"$f":"VLOOKUP($AA123,DATA!$B$3:$E123,2,0)","v":"06:30:00"},{"$f":"VLOOKUP($AA123,DATA!$B$3:$E123,3,0)","v":"14:30:00"},{"$f":"VLOOKUP($AA123,DATA!$B$3:$E123,4,0)","v":3.125E-2},0.30208333333333331,0.24027777777777776,{"$f":"DATA!$C$9","v":0.89},{"$f":"DATA!$C$10","v":64},1,324.375,407.8125,6.1805555555555558E-2,83.4375,0.2045977011494253,0,"","",393.6,336,"",336,"",null,{"$f":"X121","v":6},{"$f":"Y120+1","v":"2018-02-09"},{"$f":"TEXT(Y123,\"ddd\")","v":"vr"},"DD",{"$f":"IFERROR(HLOOKUP(Y123,[1]DATA!$A$1:$NB$5,3,0),\"\")","v":"D2"},89,null,33,369,33,-16.5,0.77075268817204301,0.92264416315049225]
["6vrMD",{"$f":"VLOOKUP($AA124,DATA!$B$3:$E124,2,0)","v":"14:30:00"},{"$f":"VLOOKUP($AA124,DATA!$B$3:$E124,3,0)","v":"22:30:00"},{"$f":"VLOOKUP($AA124,DATA!$B$3:$E124,4,0)","v":3.125E-2},0.30208333333333337,0.24444444444444449,{"$f":"DATA!$C$9","v":0.89},{"$f":"DATA!$C$10","v":64},1,330.00000000000006,407.81250000000006,5.7638888888888885E-2,77.8125,0.19080459770114941,0,"","",363.73333333333335,310,310,"","",null,{"$f":"X121","v":6},null,{"$f":"TEXT(Y123,\"ddd\")","v":"vr"},"MD",{"$f":"IFERROR(HLOOKUP(Y123,[1]DATA!$A$1:$NB$5,4,0),\"\")","v":"D1"},83,null,31,341,0,-48.124999999999943,0.71111111111111125,1]
["6vrND",{"$f":"VLOOKUP($AA125,DATA!$B$3:$E125,2,0)","v":"22:30:00"},{"$f":"VLOOKUP($AA125,DATA!$B$3:$E125,3,0)","v":"06:30:00"},{"$f":"VLOOKUP($AA125,DATA!$B$3:$E125,4,0)","v":3.125E-2},0.30208333333333326,0.30208333333333326,{"$f":"DATA!$C$9","v":0.89},{"$f":"DATA!$C$10","v":64},1,407.81249999999989,407.81249999999989,0,"","",0,"","",0,"","","","",null,{"$f":"X121","v":6},null,{"$f":"TEXT(Y123,\"ddd\")","v":"vr"},"ND",{"$f":"IFERROR(HLOOKUP(Y123,[1]DATA!$A$1:$NB$5,5,0),\"\")","v":"-"},null,null,null,null,0,"","",""]
["6zaDD",{"$f":"VLOOKUP($AA126,DATA!$B$3:$E126,2,0)","v":"06:30:00"},{"$f":"VLOOKUP($AA126,DATA!$B$3:$E126,3,0)","v":"14:30:00"},{"$f":"VLOOKUP($AA126,DATA!$B$3:$E126,4,0)","v":3.125E-2},0.30208333333333331,0.30208333333333331,{"$f":"DATA!$C$9","v":0.89},{"$f":"DATA!$C$10","v":64},1,407.8125,407.8125,0,"","",0,"","",0,"","","","",null,{"$f":"X121","v":6},{"$f":"Y123+1","v":"2018-02-10"},{"$f":"TEXT(Y126,\"ddd\")","v":"za"},"DD",{"$f":"IFERROR(HLOOKUP(Y126,[1]DATA!$A$1:$NB$5,3,0),\"\")","v":"-"},null,null,null,null,0,"","",""]
["6zaMD",{"$f":"VLOOKUP($AA127,DATA!$B$3:$E127,2,0)","v":"14:30:00"},{"$f":"VLOOKUP($AA127,DATA!$B$3:$E127,3,0)","v":"22:30:00"},{"$f":"VLOOKUP($AA127,DATA!$B$3:$E127,4,0)","v":3.125E-2},0.30208333333333337,0.30208333333333337,{"$f":"DATA!$C$9","v":0.89},{"$f":"DATA!$C$10","v":64},1,407.81250000000006,407.81250000000006,0,"","",0,"","",0,"","","","",null,{"$f":"X121","v":6},null,{"$f":"TEXT(Y126,\"ddd\")","v":"za"},"MD",{"$f":"IFERROR(HLOOKUP(Y126,[1]DATA!$A$1:$NB$5,4,0),\"\")","v":"-"},null,null,null,null,0,"","",""]
["6zaND",{"$f":"VLOOKUP($AA128,DATA!$B$3:$E128,2,0)","v":"22:30:00"},{"$f":"VLOOKUP($AA128,DATA!$B$3:$E128,3,0)","v":"06:30:00"},{"$f":"VLOOKUP($AA128,DATA!$B$3:$E128,4,0)","v":3.125E-2},0.30208333333333326,0.30208333333333326,{"$f":"DATA!$C$9","v":0.89},{"$f":"DATA!$C$10","v":64},1,407.81249999999989,407.81249999999989,0,"","",0,"","",0,"","","","",null,{"$f":"X121","v":6},null,{"$f":"TEXT(Y126,\"ddd\")","v":"za"},"ND",{"$f":"IFERROR(HLOOKUP(Y126,[1]DATA!$A$1:$NB$5,5,0),\"\")","v":"-"},null,null,null,null,0,"","",""]
["6zoDD",{"$f":"VLOOKUP($AA129,DATA!$B$3:$E129,2,0)","v":"06:30:00"},{"$f":"VLOOKUP($AA129,DATA!$B$3:$E129,3,0)","v":"14:30:00"},{"$f":"VLOOKUP($AA129,DATA!$B$3:$E129,4,0)","v":3.125E-2},0.30208333333333331,0.30208333333333331,{"$f":"DATA!$C$9","v":0.89},{"$f":"DATA!$C$10","v":64},1,407.8125,407.8125,0,"","",0,"","",0,"","","","",null,{"$f":"X121","v":6},{"$f":"Y126+1","v":"2018-02-11"},{"$f":"TEXT(Y129,\"ddd\")","v":"zo"},"DD",{"$f":"IFERROR(HLOOKUP(Y129,[1]DATA!$A$1:$NB$5,3,0),\"\")","v":"-"},null,null,null,null,0,"","",""]
["6zoMD",{"$f":"VLOOKUP($AA130,DATA!$B$3:$E130,2,0)","v":"14:30:00"},{"$f":"VLOOKUP($AA130,DATA!$B$3:$E130,3,0)","v":"22:30:00"},{"$f":"VLOOKUP($AA130,DATA!$B$3:$E130,4,0)","v":3.125E-2},0.30208333333333337,0.30208333333333337,{"$f":"DATA!$C$9","v":0.89},{"$f":"DATA!$C$10","v":64},1,407.81250000000006,407.81250000000006,0,"","",0,"","",0,"","","","",null,{"$f":"X121","v":6},null,{"$f":"TEXT(Y129,\"ddd\")","v":"zo"},"MD",{"$f":"IFERROR(HLOOKUP(Y129,[1]DATA!$A$1:$NB$5,4,0),\"\")","v":"-"},null,null,null,null,0,"","",""]
["6zoZND",{"$f":"VLOOKUP($AA131,DATA!$B$3:$E131,2,0)","v":"00:00:00"},{"$f":"VLOOKUP($AA131,DATA!$B$3:$E131,3,0)","v":"00:00:00"},{"$f":"VLOOKUP($AA131,DATA!$B$3:$E131,4,0)","v":0},0,0,{"$f":"DATA!$C$9","v":0.89},{"$f":"DATA!$C$10","v":64},1,0,0,0,"","",0,"","",0,"","","","",null,{"$f":"X121","v":6},null,{"$f":"TEXT(Y129,\"ddd\")","v":"zo"},"ZND",{"$f":"IFERROR(HLOOKUP(Y129,[1]DATA!$A$1:$NB$5,5,0),\"\")","v":"D2"},null,null,null,null,0,"","",""]
["7maDD",{"$f":"VLOOKUP($AA132,DATA!$B$3:$E132,2,0)","v":"06:30:00"},{"$f":"VLOOKUP($AA132,DATA!$B$3:$E132,3,0)","v":"14:30:00"},{"$f":"VLOOKUP($AA132,DATA!$B$3:$E132,4,0)","v":3.125E-2},0.30208333333333331,0.30208333333333331,{"$f":"DATA!$C$9","v":0.89},{"$f":"DATA!$C$10","v":64},1,407.8125,407.8125,0,"","",{"$f":"TIME(INT($AD132/60),INT(MOD($AD132,60)/1),0)","v":0},"","",0,"","","","",null,{"$f":"X142","v":7},{"$f":"Y129+1","v":"2018-02-12"},{"$f":"TEXT(Y132,\"ddd\")","v":"ma"},"DD",{"$f":"IFERROR(HLOOKUP(Y132,[1]DATA!$A$1:$NB$5,3,0),\"\")","v":"D1"},null,null,null,null,0,"","","",3487.5,2398,0.68759856630824367,937.5,0.26881720430107525,32.8125,9.4086021505376347E-3,0.94911323259063318,0.98345632136530747,"",0.91477014381595878,119.1875,3.417562724014344E-2,127.13333333333334,148]
["7maMD",{"$f":"VLOOKUP($AA133,DATA!$B$3:$E133,2,0)","v":"14:30:00"},{"$f":"VLOOKUP($AA133,DATA!$B$3:$E133,3,0)","v":"22:30:00"},{"$f":"VLOOKUP($AA133,DATA!$B$3:$E133,4,0)","v":3.125E-2},0.30208333333333337,0.30208333333333337,{"$f":"DATA!$C$9","v":0.89},{"$f":"DATA!$C$10","v":64},1,407.81250000000006,407.81250000000006,0,"","",{"$f":"TIME(INT(AD133/60),INT(MOD(AD133,60)/1),0)","v":0},"","",0,"","","","",null,{"$f":"X142","v":7},null,{"$f":"TEXT(Y132,\"ddd\")","v":"ma"},"MD",{"$f":"IFERROR(HLOOKUP(Y132,[1]DATA!$A$1:$NB$5,4,0),\"\")","v":"D3"},null,null,null,null,0,"","",""]
["7maND",{"$f":"VLOOKUP($AA134,DATA!$B$3:$E134,2,0)","v":"22:30:00"},{"$f":"VLOOKUP($AA134,DATA!$B$3:$E134,3,0)","v":"06:30:00"},{"$f":"VLOOKUP($AA134,DATA!$B$3:$E134,4,0)","v":3.125E-2},0.30208333333333326,0.30208333333333326,{"$f":"DATA!$C$9","v":0.89},{"$f":"DATA!$C$10","v":64},1,{"$f":"F134*86400/H134*I134","v":407.81249999999989},{"$f":"E134*86400/H134","v":407.81249999999989},0,"","",0,"","",{"$f":"AF134*AG$2","v":0},{"$f":"IF(AF134-AE134=0,\"\",AF134-AE134)","v":""},"","","",null,{"$f":"X142","v":7},null,{"$f":"TEXT(Y132,\"ddd\")","v":"ma"},"ND",{"$f":"IFERROR(HLOOKUP(Y132,[1]DATA!$A$1:$NB$5,5,0),\"\")","v":"D2"},null,null,null,null,0,"","",""]
["7diDD",{"$f":"VLOOKUP($AA135,DATA!$B$3:$E135,2,0)","v":"06:30:00"},{"$f":"VLOOKUP($AA135,DATA!$B$3:$E135,3,0)","v":"14:30:00"},{"$f":"VLOOKUP($AA135,DATA!$B$3:$E135,4,0)","v":3.125E-2},0.30208333333333331,0.19166666666666665,{"$f":"DATA!$C$9","v":0.89},{"$f":"DATA!$C$10","v":64},1,258.75,407.8125,{"$f":"TIME(INT($AC135/60),INT(MOD($AC135,60)/1),0)","v":0.11041666666666666},{"$f":"IF($L135*86400/$H135=0,\"\",$L135*86400/$H135)","v":149.0625},{"$f":"IFERROR($M135/$K135,\"\")","v":0.36551724137931035},0,"",{"$f":"IFERROR($P135/$K135,\"\")","v":""},344.5333333333333,295,{"$f":"IF(IF($AB135=\"D1\",$S135,\"\")=0,\"\",IF($AB135=\"D1\",$S135,\"\"))","v":295},{"$f":"IF(IF($AB135=\"D2\",$S135,\"\")=0,\"\",IF($AB135=\"D2\",$S135,\"\"))","v":""},{"$f":"IF(IF($AB135=\"D3\",$S135,\"\")=0,\"\",IF($AB135=\"D3\",$S135,\"\"))","v":""},null,{"$f":"X142","v":7},{"$f":"Y132+1","v":"2018-02-13"},{"$f":"TEXT(Y135,\"ddd\")","v":"di"},"DD",{"$f":"IFERROR(HLOOKUP(Y135,[1]DATA!$A$1:$NB$5,3,0),\"\")","v":"D1"},159,null,28,323,12,8.1249999999999432,0.67670250896057349,0.96634255796559465]
["7diMD",{"$f":"VLOOKUP($AA136,DATA!$B$3:$E136,2,0)","v":"14:30:00"},{"$f":"VLOOKUP($AA136,DATA!$B$3:$E136,3,0)","v":"22:30:00"},{"$f":"VLOOKUP($AA136,DATA!$B$3:$E136,4,0)","v":3.125E-2},0.30208333333333337,0.22361111111111115,{"$f":"DATA!$C$9","v":0.89},{"$f":"DATA!$C$10","v":64},1,301.87500000000006,407.81250000000006,7.8472222222222221E-2,105.9375,0.25977011494252872,0,"","",360.5333333333333,329,"","",329,null,{"$f":"X142","v":7},null,{"$f":"TEXT(Y135,\"ddd\")","v":"di"},"MD",{"$f":"IFERROR(HLOOKUP(Y135,[1]DATA!$A$1:$NB$5,4,0),\"\")","v":"D3"},113,null,9,338,30,-0.99999999999994316,0.75469534050179221,0.92318197336975072]
["7diND",{"$f":"VLOOKUP($AA137,DATA!$B$3:$E137,2,0)","v":"22:30:00"},{"$f":"VLOOKUP($AA137,DATA!$B$3:$E137,3,0)","v":"06:30:00"},{"$f":"VLOOKUP($AA137,DATA!$B$3:$E137,4,0)","v":3.125E-2},0.30208333333333326,0.30208333333333326,{"$f":"DATA!$C$9","v":0.89},{"$f":"DATA!$C$10","v":64},1,407.81249999999989,407.81249999999989,0,"","",0,"","",0,"","","","",null,{"$f":"X142","v":7},null,{"$f":"TEXT(Y135,\"ddd\")","v":"di"},"ND",{"$f":"IFERROR(HLOOKUP(Y135,[1]DATA!$A$1:$NB$5,5,0),\"\")","v":"D2"},null,null,null,null,0,"","",""]
["7woDD",{"$f":"VLOOKUP($AA138,DATA!$B$3:$E138,2,0)","v":"06:30:00"},{"$f":"VLOOKUP($AA138,DATA!$B$3:$E138,3,0)","v":"14:30:00"},{"$f":"VLOOKUP($AA138,DATA!$B$3:$E138,4,0)","v":3.125E-2},0.30208333333333331,0.22430555555555554,{"$f":"DATA!$C$9","v":0.89},{"$f":"DATA!$C$10","v":64},1,302.8125,407.8125,7.7777777777777779E-2,105,0.25747126436781609,0,"","",393.6,338,338,"","",null,{"$f":"X142","v":7},{"$f":"Y135+1","v":"2018-02-14"},{"$f":"TEXT(Y138,\"ddd\")","v":"wo"},"DD",{"$f":"IFERROR(HLOOKUP(Y138,[1]DATA!$A$1:$NB$5,3,0),\"\")","v":"D1"},112,null,31,369,5,7.0625,0.77534050179211467,0.98745609633718012]
["7woMD",{"$f":"VLOOKUP($AA139,DATA!$B$3:$E139,2,0)","v":"14:30:00"},{"$f":"VLOOKUP($AA139,DATA!$B$3:$E139,3,0)","v":"22:30:00"},{"$f":"VLOOKUP($AA139,DATA!$B$3:$E139,4,0)","v":3.125E-2},0.30208333333333337,0.20416666666666672,{"$f":"DATA!$C$9","v":0.89},{"$f":"DATA!$C$10","v":64},1,275.62500000000006,407.81250000000006,9.7916666666666666E-2,132.1875,0.32413793103448274,0,"","",329.6,289,"","",289,null,{"$f":"X142","v":7},null,{"$f":"TEXT(Y138,\"ddd\")","v":"wo"},"MD",{"$f":"IFERROR(HLOOKUP(Y138,[1]DATA!$A$1:$NB$5,4,0),\"\")","v":"D3"},141,null,20,309,42,-14.749999999999943,0.66293906810035852,0.88697524219590962]
["7woND",{"$f":"VLOOKUP($AA140,DATA!$B$3:$E140,2,0)","v":"22:30:00"},{"$f":"VLOOKUP($AA140,DATA!$B$3:$E140,3,0)","v":"06:30:00"},{"$f":"VLOOKUP($AA140,DATA!$B$3:$E140,4,0)","v":3.125E-2},0.30208333333333326,0.30208333333333326,{"$f":"DATA!$C$9","v":0.89},{"$f":"DATA!$C$10","v":64},1,407.81249999999989,407.81249999999989,0,"","",0,"","",0,"","","","",null,{"$f":"X142","v":7},null,{"$f":"TEXT(Y138,\"ddd\")","v":"wo"},"ND",{"$f":"IFERROR(HLOOKUP(Y138,[1]DATA!$A$1:$NB$5,5,0),\"\")","v":"D2"},null,null,null,null,0,"","",""]
["7doDD",{"$f":"VLOOKUP($AA141,DATA!$B$3:$E141,2,0)","v":"06:30:00"},{"$f":"VLOOKUP($AA141,DATA!$B$3:$E141,3,0)","v":"14:30:00"},{"$f":"VLOOKUP($AA141,DATA!$B$3:$E141,4,0)","v":3.125E-2},0.30208333333333331,0.20694444444444443,{"$f":"DATA!$C$9","v":0.89},{"$f":"DATA!$C$10","v":64},1,279.375,407.8125,9.5138888888888884E-2,128.4375,0.31494252873563217,0,"","",363.73333333333335,317,317,"","",null,{"$f":"X142","v":7},{"$f":"Y138+1","v":"2018-02-15"},{"$f":"TEXT(Y141,\"ddd\")","v":"do"},"DD",{"$f":"IFERROR(HLOOKUP(Y141,[1]DATA!$A$1:$NB$5,3,0),\"\")","v":"D1"},137,null,24,341,0,9.4999999999999432,0.72716845878136205,1]
["7doMD",{"$f":"VLOOKUP($AA142,DATA!$B$3:$E142,2,0)","v":"14:30:00"},{"$f":"VLOOKUP($AA142,DATA!$B$3:$E142,3,0)","v":"22:30:00"},{"$f":"VLOOKUP($AA142,DATA!$B$3:$E142,4,0)","v":3.125E-2},0.30208333333333337,0.19583333333333336,{"$f":"DATA!$C$9","v":0.89},{"$f":"DATA!$C$10","v":64},1,264.37500000000006,407.81250000000006,0.10625,143.4375,0.35172413793103441,0,"","",356.26666666666665,305,"","",305,null,{"$f":"WEEKNUM($Y132)","v":7},null,{"$f":"TEXT(Y141,\"ddd\")","v":"do"},"MD",{"$f":"IFERROR(HLOOKUP(Y141,[1]DATA!$A$1:$NB$5,4,0),\"\")","v":"D3"},153,null,29,334,20,12.500000000000057,0.699641577060932,0.94684620836286326]
["7doND",{"$f":"VLOOKUP($AA143,DATA!$B$3:$E143,2,0)","v":"22:30:00"},{"$f":"VLOOKUP($AA143,DATA!$B$3:$E143,3,0)","v":"06:30:00"},{"$f":"VLOOKUP($AA143,DATA!$B$3:$E143,4,0)","v":3.125E-2},0.30208333333333326,0.30208333333333326,{"$f":"DATA!$C$9","v":0.89},{"$f":"DATA!$C$10","v":64},1,407.81249999999989,407.81249999999989,0,"","",0,"","",0,"","","","",null,{"$f":"X142","v":7},null,{"$f":"TEXT(Y141,\"ddd\")","v":"do"},"ND",{"$f":"IFERROR(HLOOKUP(Y141,[1]DATA!$A$1:$NB$5,5,0),\"\")","v":"D2"},null,null,null,null,0,"","",""]
["7vrDD",{"$f":"VLOOKUP($AA144,DATA!$B$3:$E144,2,0)","v":"06:30:00"},{"$f":"VLOOKUP($AA144,DATA!$B$3:$E144,3,0)","v":"14:30:00"},{"$f":"VLOOKUP($AA144,DATA!$B$3:$E144,4,0)","v":3.125E-2},0.30208333333333331,0.19305555555555554,{"$f":"DATA!$C$9","v":0.89},{"$f":"DATA!$C$10","v":64},1,260.625,407.8125,8.4722222222222213E-2,114.37499999999999,0.2804597701149425,2.4305555555555556E-2,32.8125,8.0459770114942528E-2,294.39999999999998,265,265,"","",null,{"$f":"X142","v":7},{"$f":"Y141+1","v":"2018-02-16"},{"$f":"TEXT(Y144,\"ddd\")","v":"vr"},"DD",{"$f":"IFERROR(HLOOKUP(Y144,[1]DATA!$A$1:$NB$5,3,0),\"\")","v":"D1"},122,35,11,276,6,-23.75,0.60788530465949819,0.98002663115845534]
["7vrMD",{"$f":"VLOOKUP($AA145,DATA!$B$3:$E145,2,0)","v":"14:30:00"},{"$f":"VLOOKUP($AA145,DATA!$B$3:$E145,3,0)","v":"22:30:00"},{"$f":"VLOOKUP($AA145,DATA!$B$3:$E145,4,0)","v":3.125E-2},0.30208333333333337,0.25833333333333336,{"$f":"DATA!$C$9","v":0.89},{"$f":"DATA!$C$10","v":64},1,348.75000000000006,407.81250000000006,4.3750000000000004E-2,59.062500000000007,0.14482758620689654,0,"","",304,260,"","",260,null,{"$f":"X142","v":7},null,{"$f":"TEXT(Y144,\"ddd\")","v":"vr"},"MD",{"$f":"IFERROR(HLOOKUP(Y144,[1]DATA!$A$1:$NB$5,4,0),\"\")","v":"D3"},63,null,25,285,33,-116.87499999999994,0.59641577060931905,0.90207715133531152]
["7vrND",{"$f":"VLOOKUP($AA146,DATA!$B$3:$E146,2,0)","v":"22:30:00"},{"$f":"VLOOKUP($AA146,DATA!$B$3:$E146,3,0)","v":"06:30:00"},{"$f":"VLOOKUP($AA146,DATA!$B$3:$E146,4,0)","v":3.125E-2},0.30208333333333326,0.30208333333333326,{"$f":"DATA!$C$9","v":0.89},{"$f":"DATA!$C$10","v":64},1,407.81249999999989,407.81249999999989,0,"","",0,"","",0,"","","","",null,{"$f":"X142","v":7},null,{"$f":"TEXT(Y144,\"ddd\")","v":"vr"},"ND",{"$f":"IFERROR(HLOOKUP(Y144,[1]DATA!$A$1:$NB$5,5,0),\"\")","v":"-"},null,null,null,null,0,"","",""]
["7zaDD",{"$f":"VLOOKUP($AA147,DATA!$B$3:$E147,2,0)","v":"06:30:00"},{"$f":"VLOOKUP($AA147,DATA!$B$3:$E147,3,0)","v":"14:30:00"},{"$f":"VLOOKUP($AA147,DATA!$B$3:$E147,4,0)","v":3.125E-2},0.30208333333333331,0.30208333333333331,{"$f":"DATA!$C$9","v":0.89},{"$f":"DATA!$C$10","v":64},1,407.8125,407.8125,0,"","",0,"","",0,"","","","",null,{"$f":"X142","v":7},{"$f":"Y144+1","v":"2018-02-17"},{"$f":"TEXT(Y147,\"ddd\")","v":"za"},"DD",{"$f":"IFERROR(HLOOKUP(Y147,[1]DATA!$A$1:$NB$5,3,0),\"\")","v":"-"},null,null,null,null,0,"","",""]
["7zaMD",{"$f":"VLOOKUP($AA148,DATA!$B$3:$E148,2,0)","v":"14:30:00"},{"$f":"VLOOKUP($AA148,DATA!$B$3:$E148,3,0)","v":"22:30:00"},{"$f":"VLOOKUP($AA148,DATA!$B$3:$E148,4,0)","v":3.125E-2},0.30208333333333337,0.30208333333333337,{"$f":"DATA!$C$9","v":0.89},{"$f":"DATA!$C$10","v":64},1,407.81250000000006,407.81250000000006,0,"","",0,"","",0,"","","","",null,{"$f":"X142","v":7},null,{"$f":"TEXT(Y147,\"ddd\")","v":"za"},"MD",{"$f":"IFERROR(HLOOKUP(Y147,[1]DATA!$A$1:$NB$5,4,0),\"\")","v":"-"},null,null,null,null,0,"","",""]
["7zaND",{"$f":"VLOOKUP($AA149,DATA!$B$3:$E149,2,0)","v":"22:30:00"},{"$f":"VLOOKUP($AA149,DATA!$B$3:$E149,3,0)","v":"06:30:00"},{"$f":"VLOOKUP($AA149,DATA!$B$3:$E149,4,0)","v":3.125E-2},0.30208333333333326,0.30208333333333326,{"$f":"DATA!$C$9","v":0.89},{"$f":"DATA!$C$10","v":64},1,407.81249999999989,407.81249999999989,0,"","",0,"","",0,"","","","",null,{"$f":"X142","v":7},null,{"$f":"TEXT(Y147,\"ddd\")","v":"za"},"ND",{"$f":"IFERROR(HLOOKUP(Y147,[1]DATA!$A$1:$NB$5,5,0),\"\")","v":"-"},null,null,null,null,0,"","",""]
["7zoDD",{"$f":"VLOOKUP($AA150,DATA!$B$3:$E150,2,0)","v":"06:30:00"},{"$f":"VLOOKUP($AA150,DATA!$B$3:$E150,3,0)","v":"14:30:00"},{"$f":"VLOOKUP($AA150,DATA!$B$3:$E150,4,0)","v":3.125E-2},0.30208333333333331,0.30208333333333331,{"$f":"DATA!$C$9","v":0.89},{"$f":"DATA!$C$10","v":64},1,407.8125,407.8125,0,"","",0,"","",0,"","","","",null,{"$f":"X142","v":7},{"$f":"Y147+1","v":"2018-02-18"},{"$f":"TEXT(Y150,\"ddd\")","v":"zo"},"DD",{"$f":"IFERROR(HLOOKUP(Y150,[1]DATA!$A$1:$NB$5,3,0),\"\")","v":"-"},null,null,null,null,0,"","",""]
["7zoMD",{"$f":"VLOOKUP($AA151,DATA!$B$3:$E151,2,0)","v":"14:30:00"},{"$f":"VLOOKUP($AA151,DATA!$B$3:$E151,3,0)","v":"22:30:00"},{"$f":"VLOOKUP($AA151,DATA!$B$3:$E151,4,0)","v":3.125E-2},0.30208333333333337,0.30208333333333337,{"$f":"DATA!$C$9","v":0.89},{"$f":"DATA!$C$10","v":64},1,407.81250000000006,407.81250000000006,0,"","",0,"","",0,"","","","",null,{"$f":"X142","v":7},null,{"$f":"TEXT(Y150,\"ddd\")","v":"zo"},"MD",{"$f":"IFERROR(HLOOKUP(Y150,[1]DATA!$A$1:$NB$5,4,0),\"\")","v":"-"},null,null,null,null,0,"","",""]
["7zoZND",{"$f":"VLOOKUP($AA152,DATA!$B$3:$E152,2,0)","v":"00:00:00"},{"$f":"VLOOKUP($AA152,DATA!$B$3:$E152,3,0)","v":"00:00:00"},{"$f":"VLOOKUP($AA152,DATA!$B$3:$E152,4,0)","v":0},0,0,{"$f":"DATA!$C$9","v":0.89},{"$f":"DATA!$C$10","v":64},1,0,0,0,"","",0,"","",0,"","","","",null,{"$f":"X142","v":7},null,{"$f":"TEXT(Y150,\"ddd\")","v":"zo"},"ZND",{"$f":"IFERROR(HLOOKUP(Y150,[1]DATA!$A$1:$NB$5,5,0),\"\")","v":"D1"},null,null,null,null,0,"","",""]
["8maDD",{"$f":"VLOOKUP($AA153,DATA!$B$3:$E153,2,0)","v":"06:30:00"},{"$f":"VLOOKUP($AA153,DATA!$B$3:$E153,3,0)","v":"14:30:00"},{"$f":"VLOOKUP($AA153,DATA!$B$3:$E153,4,0)","v":3.125E-2},0.30208333333333331,0.23333333333333334,{"$f":"DATA!$C$9","v":0.89},{"$f":"DATA!$C$10","v":64},1,315,407.8125,6.8749999999999992E-2,92.812499999999986,0.22758620689655168,{"$f":"TIME(INT($AD153/60),INT(MOD($AD153,60)/1),0)","v":0},"","",392.5333333333333,343,"","",343,null,{"$f":"X163","v":8},{"$f":"Y150+1","v":"2018-02-19"},{"$f":"TEXT(Y153,\"ddd\")","v":"ma"},"DD",{"$f":"IFERROR(HLOOKUP(Y153,[1]DATA!$A$1:$NB$5,3,0),\"\")","v":"D3"},99,null,25,368,50,-0.12500000000005684,0.78681003584229392,0.88701416089183494,3923.4375,2881,0.73430505774591792,908.4375,0.23154121863799282,0,0,0.93670304570512841,"",0.93908529109451511,0.93372523896839477,134,3.415372361608926E-2,142.93333333333334,228]
["8maMD",{"$f":"VLOOKUP($AA154,DATA!$B$3:$E154,2,0)","v":"14:30:00"},{"$f":"VLOOKUP($AA154,DATA!$B$3:$E154,3,0)","v":"22:30:00"},{"$f":"VLOOKUP($AA154,DATA!$B$3:$E154,4,0)","v":3.125E-2},0.30208333333333337,0.24930555555555559,{"$f":"DATA!$C$9","v":0.89},{"$f":"DATA!$C$10","v":64},1,336.56250000000006,407.81250000000006,5.2777777777777778E-2,71.25,0.17471264367816089,{"$f":"TIME(INT(AD154/60),INT(MOD(AD154,60)/1),0)","v":0},"","",409.6,356,"",356,"",null,{"$f":"X163","v":8},null,{"$f":"TEXT(Y153,\"ddd\")","v":"ma"},"MD",{"$f":"IFERROR(HLOOKUP(Y153,[1]DATA!$A$1:$NB$5,4,0),\"\")","v":"D2"},76,null,28,384,50,-8.6875,0.81663082437275991,0.89120974760661442]
["8maND",{"$f":"VLOOKUP($AA155,DATA!$B$3:$E155,2,0)","v":"22:30:00"},{"$f":"VLOOKUP($AA155,DATA!$B$3:$E155,3,0)","v":"06:30:00"},{"$f":"VLOOKUP($AA155,DATA!$B$3:$E155,4,0)","v":3.125E-2},0.30208333333333326,0.30208333333333326,{"$f":"DATA!$C$9","v":0.89},{"$f":"DATA!$C$10","v":64},1,407.81249999999989,407.81249999999989,0,"","",0,"","",0,"","","","",null,{"$f":"X163","v":8},null,{"$f":"TEXT(Y153,\"ddd\")","v":"ma"},"ND",{"$f":"IFERROR(HLOOKUP(Y153,[1]DATA!$A$1:$NB$5,5,0),\"\")","v":"D1"},null,null,null,null,0,"","",""]
["8diDD",{"$f":"VLOOKUP($AA156,DATA!$B$3:$E156,2,0)","v":"06:30:00"},{"$f":"VLOOKUP($AA156,DATA!$B$3:$E156,3,0)","v":"14:30:00"},{"$f":"VLOOKUP($AA156,DATA!$B$3:$E156,4,0)","v":3.125E-2},{"$f":"(C156-B156+(B156>C156))-D156","v":0.30208333333333331},{"$f":"E156-O156-L156","v":0.17430555555555552},{"$f":"DATA!$C$9","v":0.89},{"$f":"DATA!$C$10","v":64},1,235.31249999999994,407.8125,0.1277777777777778,172.50000000000003,0.42298850574712649,0,"","",221.86666666666667,199,"","",199,null,{"$f":"X163","v":8},{"$f":"Y153+1","v":"2018-02-20"},{"$f":"TEXT(Y156,\"ddd\")","v":"di"},"DD",{"$f":"IFERROR(HLOOKUP(Y156,[1]DATA!$A$1:$NB$5,3,0),\"\")","v":"D3"},184,null,9,208,20,-64.4375,0.45648745519713263,0.91730981256890853]
["8diMD",{"$f":"VLOOKUP($AA157,DATA!$B$3:$E157,2,0)","v":"14:30:00"},{"$f":"VLOOKUP($AA157,DATA!$B$3:$E157,3,0)","v":"22:30:00"},{"$f":"VLOOKUP($AA157,DATA!$B$3:$E157,4,0)","v":3.125E-2},0.30208333333333337,0.23472222222222228,{"$f":"DATA!$C$9","v":0.89},{"$f":"DATA!$C$10","v":64},1,316.87500000000006,407.81250000000006,6.7361111111111108E-2,90.9375,0.22298850574712639,0,"","",418.13333333333333,354,"",354,"",null,{"$f":"X163","v":8},null,{"$f":"TEXT(Y156,\"ddd\")","v":"di"},"MD",{"$f":"IFERROR(HLOOKUP(Y156,[1]DATA!$A$1:$NB$5,4,0),\"\")","v":"D2"},97,null,38,392,17,9,0.81204301075268825,0.96093151524436959]
["8diND",{"$f":"VLOOKUP($AA158,DATA!$B$3:$E158,2,0)","v":"22:30:00"},{"$f":"VLOOKUP($AA158,DATA!$B$3:$E158,3,0)","v":"06:30:00"},{"$f":"VLOOKUP($AA158,DATA!$B$3:$E158,4,0)","v":3.125E-2},0.30208333333333326,0.30208333333333326,{"$f":"DATA!$C$9","v":0.89},{"$f":"DATA!$C$10","v":64},1,407.81249999999989,407.81249999999989,0,"","",0,"","",0,"","","","",null,{"$f":"X163","v":8},null,{"$f":"TEXT(Y156,\"ddd\")","v":"di"},"ND",{"$f":"IFERROR(HLOOKUP(Y156,[1]DATA!$A$1:$NB$5,5,0),\"\")","v":"D1"},null,null,null,null,0,"","",""]
["8woDD",{"$f":"VLOOKUP($AA159,DATA!$B$3:$E159,2,0)","v":"06:30:00"},{"$f":"VLOOKUP($AA159,DATA!$B$3:$E159,3,0)","v":"14:30:00"},{"$f":"VLOOKUP($AA159,DATA!$B$3:$E159,4,0)","v":3.125E-2},0.30208333333333331,0.18402777777777773,{"$f":"DATA!$C$9","v":0.89},{"$f":"DATA!$C$10","v":64},1,248.43749999999994,407.8125,0.11805555555555557,159.37500000000003,0.3908045977011495,0,"","",358.4,298,"","",298,null,{"$f":"X163","v":8},{"$f":"Y156+1","v":"2018-02-21"},{"$f":"TEXT(Y159,\"ddd\")","v":"wo"},"DD",{"$f":"IFERROR(HLOOKUP(Y159,[1]DATA!$A$1:$NB$5,3,0),\"\")","v":"D3"},170,null,38,336,0,21.4375,0.68358422939068098,1]
["8woMD",{"$f":"VLOOKUP($AA160,DATA!$B$3:$E160,2,0)","v":"14:30:00"},{"$f":"VLOOKUP($AA160,DATA!$B$3:$E160,3,0)","v":"22:30:00"},{"$f":"VLOOKUP($AA160,DATA!$B$3:$E160,4,0)","v":3.125E-2},0.30208333333333337,0.23958333333333337,{"$f":"DATA!$C$9","v":0.89},{"$f":"DATA!$C$10","v":64},1,323.43750000000006,407.81250000000006,6.25E-2,84.375,0.2068965517241379,0,"","",410.66666666666669,362,"",362,"",null,{"$f":"X163","v":8},null,{"$f":"TEXT(Y159,\"ddd\")","v":"wo"},"MD",{"$f":"IFERROR(HLOOKUP(Y159,[1]DATA!$A$1:$NB$5,4,0),\"\")","v":"D2"},90,null,23,385,22,10.437500000000057,0.83039426523297499,0.94915254237288138]
["8woND",{"$f":"VLOOKUP($AA161,DATA!$B$3:$E161,2,0)","v":"22:30:00"},{"$f":"VLOOKUP($AA161,DATA!$B$3:$E161,3,0)","v":"06:30:00"},{"$f":"VLOOKUP($AA161,DATA!$B$3:$E161,4,0)","v":3.125E-2},0.30208333333333326,0.30208333333333326,{"$f":"DATA!$C$9","v":0.89},{"$f":"DATA!$C$10","v":64},1,407.81249999999989,407.81249999999989,0,"","",0,"","",0,"","","","",null,{"$f":"X163","v":8},null,{"$f":"TEXT(Y159,\"ddd\")","v":"wo"},"ND",{"$f":"IFERROR(HLOOKUP(Y159,[1]DATA!$A$1:$NB$5,5,0),\"\")","v":"D1"},null,null,null,null,0,"","",""]
["8doDD",{"$f":"VLOOKUP($AA162,DATA!$B$3:$E162,2,0)","v":"06:30:00"},{"$f":"VLOOKUP($AA162,DATA!$B$3:$E162,3,0)","v":"14:30:00"},{"$f":"VLOOKUP($AA162,DATA!$B$3:$E162,4,0)","v":3.125E-2},0.30208333333333331,0.24583333333333332,{"$f":"DATA!$C$9","v":0.89},{"$f":"DATA!$C$10","v":64},1,331.875,407.8125,5.6250000000000001E-2,75.9375,0.18620689655172415,0,"","",402.13333333333333,348,"","",348,null,{"$f":"X163","v":8},{"$f":"Y159+1","v":"2018-02-22"},{"$f":"TEXT(Y162,\"ddd\")","v":"do"},"DD",{"$f":"IFERROR(HLOOKUP(Y162,[1]DATA!$A$1:$NB$5,3,0),\"\")","v":"D3"},81,null,29,377,30,-12,0.79827956989247317,0.9305769824128356]
["8doMD",{"$f":"VLOOKUP($AA163,DATA!$B$3:$E163,2,0)","v":"14:30:00"},{"$f":"VLOOKUP($AA163,DATA!$B$3:$E163,3,0)","v":"22:30:00"},{"$f":"VLOOKUP($AA163,DATA!$B$3:$E163,4,0)","v":3.125E-2},0.30208333333333337,0.2729166666666667,{"$f":"DATA!$C$9","v":0.89},{"$f":"DATA!$C$10","v":64},1,368.43750000000006,407.81250000000006,2.9166666666666664E-2,39.374999999999993,9.6551724137931005E-2,0,"","",423.46666666666664,357,"",357,"",null,{"$f":"WEEKNUM($Y153)","v":8},null,{"$f":"TEXT(Y162,\"ddd\")","v":"do"},"MD",{"$f":"IFERROR(HLOOKUP(Y162,[1]DATA!$A$1:$NB$5,4,0),\"\")","v":"D2"},42,null,40,397,13,-39.562499999999943,0.81892473118279585,0.97021536581640444]
["8doND",{"$f":"VLOOKUP($AA164,DATA!$B$3:$E164,2,0)","v":"22:30:00"},{"$f":"VLOOKUP($AA164,DATA!$B$3:$E164,3,0)","v":"06:30:00"},{"$f":"VLOOKUP($AA164,DATA!$B$3:$E164,4,0)","v":3.125E-2},0.30208333333333326,0.30208333333333326,{"$f":"DATA!$C$9","v":0.89},{"$f":"DATA!$C$10","v":64},1,407.81249999999989,407.81249999999989,0,"","",0,"","",0,"","","","",null,{"$f":"X163","v":8},null,{"$f":"TEXT(Y162,\"ddd\")","v":"do"},"ND",{"$f":"IFERROR(HLOOKUP(Y162,[1]DATA!$A$1:$NB$5,5,0),\"\")","v":"D1"},null,null,null,null,0,"","",""]
["8vrDD",{"$f":"VLOOKUP($AA165,DATA!$B$3:$E165,2,0)","v":"06:30:00"},{"$f":"VLOOKUP($AA165,DATA!$B$3:$E165,3,0)","v":"14:30:00"},{"$f":"VLOOKUP($AA165,DATA!$B$3:$E165,4,0)","v":3.125E-2},0.30208333333333331,0.30208333333333331,{"$f":"DATA!$C$9","v":0.89},{"$f":"DATA!$C$10","v":64},1,407.8125,407.8125,0,"","",0,"","",0,"","","","",null,{"$f":"X163","v":8},{"$f":"Y162+1","v":"2018-02-23"},{"$f":"TEXT(Y165,\"ddd\")","v":"vr"},"DD","D3",0,null,0,0,0,"","",""]
["8vrMD",{"$f":"VLOOKUP($AA166,DATA!$B$3:$E166,2,0)","v":"14:30:00"},{"$f":"VLOOKUP($AA166,DATA!$B$3:$E166,3,0)","v":"22:30:00"},{"$f":"VLOOKUP($AA166,DATA!$B$3:$E166,4,0)","v":3.125E-2},0.30208333333333337,0.21180555555555558,{"$f":"DATA!$C$9","v":0.89},{"$f":"DATA!$C$10","v":64},1,285.93750000000006,407.81250000000006,9.0277777777777776E-2,121.875,0.29885057471264365,0,"","",315.73333333333335,264,"",264,"",null,{"$f":"X163","v":8},null,{"$f":"TEXT(Y165,\"ddd\")","v":"vr"},"MD",{"$f":"IFERROR(HLOOKUP(Y165,[1]DATA!$A$1:$NB$5,4,0),\"\")","v":"D2"},130,null,32,296,26,-50.062499999999943,0.60559139784946248,0.92391728443230592]
["8vrND",{"$f":"VLOOKUP($AA167,DATA!$B$3:$E167,2,0)","v":"22:30:00"},{"$f":"VLOOKUP($AA167,DATA!$B$3:$E167,3,0)","v":"06:30:00"},{"$f":"VLOOKUP($AA167,DATA!$B$3:$E167,4,0)","v":3.125E-2},0.30208333333333326,0.30208333333333326,{"$f":"DATA!$C$9","v":0.89},{"$f":"DATA!$C$10","v":64},1,407.81249999999989,407.81249999999989,0,"","",0,"","",0,"","","","",null,{"$f":"X163","v":8},null,{"$f":"TEXT(Y165,\"ddd\")","v":"vr"},"ND",{"$f":"IFERROR(HLOOKUP(Y165,[1]DATA!$A$1:$NB$5,5,0),\"\")","v":"-"},null,null,null,null,0,"","",""]
["8zaDD",{"$f":"VLOOKUP($AA168,DATA!$B$3:$E168,2,0)","v":"06:30:00"},{"$f":"VLOOKUP($AA168,DATA!$B$3:$E168,3,0)","v":"14:30:00"},{"$f":"VLOOKUP($AA168,DATA!$B$3:$E168,4,0)","v":3.125E-2},0.30208333333333331,0.30208333333333331,{"$f":"DATA!$C$9","v":0.89},{"$f":"DATA!$C$10","v":64},1,407.8125,407.8125,0,"","",0,"","",0,"","","","",null,{"$f":"X163","v":8},{"$f":"Y165+1","v":"2018-02-24"},{"$f":"TEXT(Y168,\"ddd\")","v":"za"},"DD",{"$f":"IFERROR(HLOOKUP(Y168,[1]DATA!$A$1:$NB$5,3,0),\"\")","v":"-"},null,null,null,null,0,"","",""]
["8zaMD",{"$f":"VLOOKUP($AA169,DATA!$B$3:$E169,2,0)","v":"14:30:00"},{"$f":"VLOOKUP($AA169,DATA!$B$3:$E169,3,0)","v":"22:30:00"},{"$f":"VLOOKUP($AA169,DATA!$B$3:$E169,4,0)","v":3.125E-2},0.30208333333333337,0.30208333333333337,{"$f":"DATA!$C$9","v":0.89},{"$f":"DATA!$C$10","v":64},1,407.81250000000006,407.81250000000006,0,"","",0,"","",0,"","","","",null,{"$f":"X163","v":8},null,{"$f":"TEXT(Y168,\"ddd\")","v":"za"},"MD",{"$f":"IFERROR(HLOOKUP(Y168,[1]DATA!$A$1:$NB$5,4,0),\"\")","v":"-"},null,null,null,null,0,"","",""]
["8zaND",{"$f":"VLOOKUP($AA170,DATA!$B$3:$E170,2,0)","v":"22:30:00"},{"$f":"VLOOKUP($AA170,DATA!$B$3:$E170,3,0)","v":"06:30:00"},{"$f":"VLOOKUP($AA170,DATA!$B$3:$E170,4,0)","v":3.125E-2},0.30208333333333326,0.30208333333333326,{"$f":"DATA!$C$9","v":0.89},{"$f":"DATA!$C$10","v":64},1,407.81249999999989,407.81249999999989,0,"","",0,"","",0,"","","","",null,{"$f":"X163","v":8},null,{"$f":"TEXT(Y168,\"ddd\")","v":"za"},"ND",{"$f":"IFERROR(HLOOKUP(Y168,[1]DATA!$A$1:$NB$5,5,0),\"\")","v":"-"},null,null,null,null,0,"","",""]
["8zoDD",{"$f":"VLOOKUP($AA171,DATA!$B$3:$E171,2,0)","v":"06:30:00"},{"$f":"VLOOKUP($AA171,DATA!$B$3:$E171,3,0)","v":"14:30:00"},{"$f":"VLOOKUP($AA171,DATA!$B$3:$E171,4,0)","v":3.125E-2},0.30208333333333331,0.30208333333333331,{"$f":"DATA!$C$9","v":0.89},{"$f":"DATA!$C$10","v":64},1,407.8125,407.8125,0,"","",0,"","",0,"","","","",null,{"$f":"X163","v":8},{"$f":"Y168+1","v":"2018-02-25"},{"$f":"TEXT(Y171,\"ddd\")","v":"zo"},"DD",{"$f":"IFERROR(HLOOKUP(Y171,[1]DATA!$A$1:$NB$5,3,0),\"\")","v":"-"},null,null,null,null,0,"","",""]
["8zoMD",{"$f":"VLOOKUP($AA172,DATA!$B$3:$E172,2,0)","v":"14:30:00"},{"$f":"VLOOKUP($AA172,DATA!$B$3:$E172,3,0)","v":"22:30:00"},{"$f":"VLOOKUP($AA172,DATA!$B$3:$E172,4,0)","v":3.125E-2},0.30208333333333337,0.30208333333333337,{"$f":"DATA!$C$9","v":0.89},{"$f":"DATA!$C$10","v":64},1,407.81250000000006,407.81250000000006,0,"","",0,"","",0,"","","","",null,{"$f":"X163","v":8},null,{"$f":"TEXT(Y171,\"ddd\")","v":"zo"},"MD",{"$f":"IFERROR(HLOOKUP(Y171,[1]DATA!$A$1:$NB$5,4,0),\"\")","v":"-"},null,null,null,null,0,"","",""]
["8zoZND",{"$f":"VLOOKUP($AA173,DATA!$B$3:$E173,2,0)","v":"00:00:00"},{"$f":"VLOOKUP($AA173,DATA!$B$3:$E173,3,0)","v":"00:00:00"},{"$f":"VLOOKUP($AA173,DATA!$B$3:$E173,4,0)","v":0},0,0,{"$f":"DATA!$C$9","v":0.89},{"$f":"DATA!$C$10","v":64},1,0,0,0,"","",0,"","",0,"","","","",null,{"$f":"X163","v":8},null,{"$f":"TEXT(Y171,\"ddd\")","v":"zo"},"ZND",{"$f":"IFERROR(HLOOKUP(Y171,[1]DATA!$A$1:$NB$5,5,0),\"\")","v":"D3"},null,null,null,null,0,"","",""]
["9maDD",{"$f":"VLOOKUP($AA174,DATA!$B$3:$E174,2,0)","v":"06:30:00"},{"$f":"VLOOKUP($AA174,DATA!$B$3:$E174,3,0)","v":"14:30:00"},{"$f":"VLOOKUP($AA174,DATA!$B$3:$E174,4,0)","v":3.125E-2},0.30208333333333331,0.30208333333333331,{"$f":"DATA!$C$9","v":0.89},{"$f":"DATA!$C$10","v":64},1,407.8125,407.8125,0,"","",{"$f":"TIME(INT($AD174/60),INT(MOD($AD174,60)/1),0)","v":0},"","",142.93333333333334,120,"",120,"",null,{"$f":"X184","v":9},{"$f":"Y171+1","v":"2018-02-26"},{"$f":"TEXT(Y174,\"ddd\")","v":"ma"},"DD",{"$f":"IFERROR(HLOOKUP(Y174,[1]DATA!$A$1:$NB$5,3,0),\"\")","v":"D2"},null,null,14,134,0,-315.9375,0.27526881720430108,1,4359.375,3117,0.71501075268817205,263.4375,6.0430107526881723E-2,0,0,0.95002344665227445,0.95576549762684304,0.94428139567770619,"",978.9375,0.22455913978494624,1044.2,213]
["9maMD",{"$f":"VLOOKUP($AA175,DATA!$B$3:$E175,2,0)","v":"14:30:00"},{"$f":"VLOOKUP($AA175,DATA!$B$3:$E175,3,0)","v":"22:30:00"},{"$f":"VLOOKUP($AA175,DATA!$B$3:$E175,4,0)","v":3.125E-2},0.30208333333333337,0.30208333333333337,{"$f":"DATA!$C$9","v":0.89},{"$f":"DATA!$C$10","v":64},1,407.81250000000006,407.81250000000006,0,"","",{"$f":"TIME(INT(AD175/60),INT(MOD(AD175,60)/1),0)","v":0},"","",366.93333333333334,314,314,"","",null,{"$f":"X184","v":9},null,{"$f":"TEXT(Y174,\"ddd\")","v":"ma"},"MD",{"$f":"IFERROR(HLOOKUP(Y174,[1]DATA!$A$1:$NB$5,4,0),\"\")","v":"D1"},null,null,30,344,5,-121.93749999999994,0.72028673835125456,0.9865567305968812]
[{"$f":"X176&Z176&AA176","v":"9maND"},{"$f":"VLOOKUP($AA176,DATA!$B$3:$E176,2,0)","v":"22:30:00"},{"$f":"VLOOKUP($AA176,DATA!$B$3:$E176,3,0)","v":"06:30:00"},{"$f":"VLOOKUP($AA176,DATA!$B$3:$E176,4,0)","v":3.125E-2},0.30208333333333326,0.30208333333333326,{"$f":"DATA!$C$9","v":0.89},{"$f":"DATA!$C$10","v":64},1,407.81249999999989,407.81249999999989,0,"","",0,{"$f":"IF($O176*86400/$H176=0,\"\",$O176*86400/$H176)","v":""},"",0,"","","","",null,{"$f":"X184","v":9},null,{"$f":"TEXT(Y174,\"ddd\")","v":"ma"},"ND",{"$f":"IFERROR(HLOOKUP(Y174,[1]DATA!$A$1:$NB$5,5,0),\"\")","v":"D3"},null,null,null,null,0,"","",""]
["9diDD",{"$f":"VLOOKUP($AA177,DATA!$B$3:$E177,2,0)","v":"06:30:00"},{"$f":"VLOOKUP($AA177,DATA!$B$3:$E177,3,0)","v":"14:30:00"},{"$f":"VLOOKUP($AA177,DATA!$B$3:$E177,4,0)","v":3.125E-2},0.30208333333333331,0.30208333333333331,{"$f":"DATA!$C$9","v":0.89},{"$f":"DATA!$C$10","v":64},1,407.8125,407.8125,0,"","",0,"","",403.2,344,"",344,"",null,{"$f":"X184","v":9},{"$f":"Y174+1","v":"2018-02-27"},{"$f":"TEXT(Y177,\"ddd\")","v":"di"},"DD",{"$f":"IFERROR(HLOOKUP(Y177,[1]DATA!$A$1:$NB$5,3,0),\"\")","v":"D2"},null,null,34,378,19,-91.9375,0.78910394265232975,0.95499763145428707]
["9diMD",{"$f":"VLOOKUP($AA178,DATA!$B$3:$E178,2,0)","v":"14:30:00"},{"$f":"VLOOKUP($AA178,DATA!$B$3:$E178,3,0)","v":"22:30:00"},{"$f":"VLOOKUP($AA178,DATA!$B$3:$E178,4,0)","v":3.125E-2},0.30208333333333337,0.30208333333333337,{"$f":"DATA!$C$9","v":0.89},{"$f":"DATA!$C$10","v":64},1,407.81250000000006,407.81250000000006,0,"","",0,"","",406.4,340,340,"","",null,{"$f":"X184","v":9},null,{"$f":"TEXT(Y177,\"ddd\")","v":"di"},"MD",{"$f":"IFERROR(HLOOKUP(Y177,[1]DATA!$A$1:$NB$5,4,0),\"\")","v":"D1"},null,null,41,381,20,-95.937499999999943,0.77992831541218643,0.95309568480300189]
["9diND",{"$f":"VLOOKUP($AA179,DATA!$B$3:$E179,2,0)","v":"22:30:00"},{"$f":"VLOOKUP($AA179,DATA!$B$3:$E179,3,0)","v":"06:30:00"},{"$f":"VLOOKUP($AA179,DATA!$B$3:$E179,4,0)","v":3.125E-2},0.30208333333333326,0.30208333333333326,{"$f":"DATA!$C$9","v":0.89},{"$f":"DATA!$C$10","v":64},1,407.81249999999989,407.81249999999989,0,"","",0,"","",0,"","","","",null,{"$f":"X184","v":9},null,{"$f":"TEXT(Y177,\"ddd\")","v":"di"},"ND",{"$f":"IFERROR(HLOOKUP(Y177,[1]DATA!$A$1:$NB$5,5,0),\"\")","v":"D3"},null,null,null,null,0,"","",""]
["9woDD",{"$f":"VLOOKUP($AA180,DATA!$B$3:$E180,2,0)","v":"06:30:00"},{"$f":"VLOOKUP($AA180,DATA!$B$3:$E180,3,0)","v":"14:30:00"},{"$f":"VLOOKUP($AA180,DATA!$B$3:$E180,4,0)","v":3.125E-2},0.30208333333333331,0.30208333333333331,{"$f":"DATA!$C$9","v":0.89},{"$f":"DATA!$C$10","v":64},1,407.8125,407.8125,0,"","",0,"","",375.46666666666664,317,"",317,"",null,{"$f":"X184","v":9},{"$f":"Y177+1","v":"2018-02-28"},{"$f":"TEXT(Y180,\"ddd\")","v":"wo"},"DD",{"$f":"IFERROR(HLOOKUP(Y180,[1]DATA!$A$1:$NB$5,3,0),\"\")","v":"D2"},null,null,35,352,20,-118.9375,0.72716845878136205,0.94942683749157109]
["9woMD",{"$f":"VLOOKUP($AA181,DATA!$B$3:$E181,2,0)","v":"14:30:00"},{"$f":"VLOOKUP($AA181,DATA!$B$3:$E181,3,0)","v":"22:30:00"},{"$f":"VLOOKUP($AA181,DATA!$B$3:$E181,4,0)","v":3.125E-2},0.30208333333333337,0.30208333333333337,{"$f":"DATA!$C$9","v":0.89},{"$f":"DATA!$C$10","v":64},1,407.81250000000006,407.81250000000006,0,"","",0,"","",421.33333333333331,355,355,"","",null,{"$f":"X184","v":9},null,{"$f":"TEXT(Y180,\"ddd\")","v":"wo"},"MD",{"$f":"IFERROR(HLOOKUP(Y180,[1]DATA!$A$1:$NB$5,4,0),\"\")","v":"D1"},null,null,40,395,10,-80.937499999999943,0.81433691756272408,0.97681607418856264]
["9woND",{"$f":"VLOOKUP($AA182,DATA!$B$3:$E182,2,0)","v":"22:30:00"},{"$f":"VLOOKUP($AA182,DATA!$B$3:$E182,3,0)","v":"06:30:00"},{"$f":"VLOOKUP($AA182,DATA!$B$3:$E182,4,0)","v":3.125E-2},0.30208333333333326,0.30208333333333326,{"$f":"DATA!$C$9","v":0.89},{"$f":"DATA!$C$10","v":64},1,407.81249999999989,407.81249999999989,0,"","",0,"","",0,"","","","",null,{"$f":"X184","v":9},null,{"$f":"TEXT(Y180,\"ddd\")","v":"wo"},"ND",{"$f":"IFERROR(HLOOKUP(Y180,[1]DATA!$A$1:$NB$5,5,0),\"\")","v":"D3"},null,null,null,null,0,"","",""]
["9doDD",{"$f":"VLOOKUP($AA183,DATA!$B$3:$E183,2,0)","v":"06:30:00"},{"$f":"VLOOKUP($AA183,DATA!$B$3:$E183,3,0)","v":"14:30:00"},{"$f":"VLOOKUP($AA183,DATA!$B$3:$E183,4,0)","v":3.125E-2},0.30208333333333331,0.25416666666666665,{"$f":"DATA!$C$9","v":0.89},{"$f":"DATA!$C$10","v":64},1,343.125,407.8125,4.7916666666666663E-2,64.6875,0.15862068965517243,0,"","",381.86666666666667,317,"",317,"",null,{"$f":"X184","v":9},{"$f":"Y180+1","v":"2018-03-01"},{"$f":"TEXT(Y183,\"ddd\")","v":"do"},"DD",{"$f":"IFERROR(HLOOKUP(Y183,[1]DATA!$A$1:$NB$5,3,0),\"\")","v":"D2"},69,null,41,358,30,-54.250000000000057,0.72716845878136205,0.92716089349303987]
["9doMD",{"$f":"VLOOKUP($AA184,DATA!$B$3:$E184,2,0)","v":"14:30:00"},{"$f":"VLOOKUP($AA184,DATA!$B$3:$E184,3,0)","v":"22:30:00"},{"$f":"VLOOKUP($AA184,DATA!$B$3:$E184,4,0)","v":3.125E-2},0.30208333333333337,0.23888888888888893,{"$f":"DATA!$C$9","v":0.89},{"$f":"DATA!$C$10","v":64},1,322.50000000000006,407.81250000000006,6.3194444444444442E-2,85.3125,0.20919540229885056,0,"","",366.93333333333334,326,326,"","",null,{"$f":"WEEKNUM($Y174)","v":9},null,{"$f":"TEXT(Y183,\"ddd\")","v":"do"},"MD",{"$f":"IFERROR(HLOOKUP(Y183,[1]DATA!$A$1:$NB$5,4,0),\"\")","v":"D1"},91,null,18,344,10,-24.624999999999943,0.74781362007168473,0.97347010965688008]
["9doND",{"$f":"VLOOKUP($AA185,DATA!$B$3:$E185,2,0)","v":"22:30:00"},{"$f":"VLOOKUP($AA185,DATA!$B$3:$E185,3,0)","v":"06:30:00"},{"$f":"VLOOKUP($AA185,DATA!$B$3:$E185,4,0)","v":3.125E-2},0.30208333333333326,0.30208333333333326,{"$f":"DATA!$C$9","v":0.89},{"$f":"DATA!$C$10","v":64},1,407.81249999999989,407.81249999999989,0,"","",0,"","",0,"","","","",null,{"$f":"X184","v":9},null,{"$f":"TEXT(Y183,\"ddd\")","v":"do"},"ND",{"$f":"IFERROR(HLOOKUP(Y183,[1]DATA!$A$1:$NB$5,5,0),\"\")","v":"D3"},null,null,null,null,0,"","",""]
["9vrDD",{"$f":"VLOOKUP($AA186,DATA!$B$3:$E186,2,0)","v":"06:30:00"},{"$f":"VLOOKUP($AA186,DATA!$B$3:$E186,3,0)","v":"14:30:00"},{"$f":"VLOOKUP($AA186,DATA!$B$3:$E186,4,0)","v":3.125E-2},0.30208333333333331,0.25902777777777775,{"$f":"DATA!$C$9","v":0.89},{"$f":"DATA!$C$10","v":64},1,349.68749999999994,407.8125,4.3055555555555562E-2,58.125000000000007,0.14252873563218393,0,"","",395.73333333333335,334,"",334,"",null,{"$f":"X184","v":9},{"$f":"Y183+1","v":"2018-03-02"},{"$f":"TEXT(Y186,\"ddd\")","v":"vr"},"DD",{"$f":"IFERROR(HLOOKUP(Y186,[1]DATA!$A$1:$NB$5,3,0),\"\")","v":"D2"},62,null,37,371,49,-43.8125,0.76616487455197135,0.88982161594963272]
["9vrMD",{"$f":"VLOOKUP($AA187,DATA!$B$3:$E187,2,0)","v":"14:30:00"},{"$f":"VLOOKUP($AA187,DATA!$B$3:$E187,3,0)","v":"22:30:00"},{"$f":"VLOOKUP($AA187,DATA!$B$3:$E187,4,0)","v":3.125E-2},0.30208333333333337,0.26111111111111113,{"$f":"DATA!$C$9","v":0.89},{"$f":"DATA!$C$10","v":64},1,352.5,407.81250000000006,4.0972222222222222E-2,55.3125,0.13563218390804596,0,"","",400,350,350,"","",null,{"$f":"X184","v":9},null,{"$f":"TEXT(Y186,\"ddd\")","v":"vr"},"MD",{"$f":"IFERROR(HLOOKUP(Y186,[1]DATA!$A$1:$NB$5,4,0),\"\")","v":"D1"},59,null,25,375,50,-30.624999999999943,0.80286738351254494,0.88888888888888884]
["9vrND",{"$f":"VLOOKUP($AA188,DATA!$B$3:$E188,2,0)","v":"22:30:00"},{"$f":"VLOOKUP($AA188,DATA!$B$3:$E188,3,0)","v":"06:30:00"},{"$f":"VLOOKUP($AA188,DATA!$B$3:$E188,4,0)","v":3.125E-2},0.30208333333333326,0.30208333333333326,{"$f":"DATA!$C$9","v":0.89},{"$f":"DATA!$C$10","v":64},1,407.81249999999989,407.81249999999989,0,"","",0,"","",0,"","","","",null,{"$f":"X184","v":9},null,{"$f":"TEXT(Y186,\"ddd\")","v":"vr"},"ND",{"$f":"IFERROR(HLOOKUP(Y186,[1]DATA!$A$1:$NB$5,5,0),\"\")","v":"-"},null,null,null,null,0,"","",""]
["9zaDD",{"$f":"VLOOKUP($AA189,DATA!$B$3:$E189,2,0)","v":"06:30:00"},{"$f":"VLOOKUP($AA189,DATA!$B$3:$E189,3,0)","v":"14:30:00"},{"$f":"VLOOKUP($AA189,DATA!$B$3:$E189,4,0)","v":3.125E-2},0.30208333333333331,0.30208333333333331,{"$f":"DATA!$C$9","v":0.89},{"$f":"DATA!$C$10","v":64},1,407.8125,407.8125,0,"","",0,"","",0,"","","","",null,{"$f":"X184","v":9},{"$f":"Y186+1","v":"2018-03-03"},{"$f":"TEXT(Y189,\"ddd\")","v":"za"},"DD",{"$f":"IFERROR(HLOOKUP(Y189,[1]DATA!$A$1:$NB$5,3,0),\"\")","v":"-"},null,null,null,null,0,"","",""]
["9zaMD",{"$f":"VLOOKUP($AA190,DATA!$B$3:$E190,2,0)","v":"14:30:00"},{"$f":"VLOOKUP($AA190,DATA!$B$3:$E190,3,0)","v":"22:30:00"},{"$f":"VLOOKUP($AA190,DATA!$B$3:$E190,4,0)","v":3.125E-2},0.30208333333333337,0.30208333333333337,{"$f":"DATA!$C$9","v":0.89},{"$f":"DATA!$C$10","v":64},1,407.81250000000006,407.81250000000006,0,"","",0,"","",0,"","","","",null,{"$f":"X184","v":9},null,{"$f":"TEXT(Y189,\"ddd\")","v":"za"},"MD",{"$f":"IFERROR(HLOOKUP(Y189,[1]DATA!$A$1:$NB$5,4,0),\"\")","v":"-"},null,null,null,null,0,"","",""]
["9zaND",{"$f":"VLOOKUP($AA191,DATA!$B$3:$E191,2,0)","v":"22:30:00"},{"$f":"VLOOKUP($AA191,DATA!$B$3:$E191,3,0)","v":"06:30:00"},{"$f":"VLOOKUP($AA191,DATA!$B$3:$E191,4,0)","v":3.125E-2},0.30208333333333326,0.30208333333333326,{"$f":"DATA!$C$9","v":0.89},{"$f":"DATA!$C$10","v":64},1,407.81249999999989,407.81249999999989,0,"","",0,"","",0,"","","","",null,{"$f":"X184","v":9},null,{"$f":"TEXT(Y189,\"ddd\")","v":"za"},"ND",{"$f":"IFERROR(HLOOKUP(Y189,[1]DATA!$A$1:$NB$5,5,0),\"\")","v":"-"},null,null,null,null,0,"","",""]
["9zoDD",{"$f":"VLOOKUP($AA192,DATA!$B$3:$E192,2,0)","v":"06:30:00"},{"$f":"VLOOKUP($AA192,DATA!$B$3:$E192,3,0)","v":"14:30:00"},{"$f":"VLOOKUP($AA192,DATA!$B$3:$E192,4,0)","v":3.125E-2},0.30208333333333331,0.30208333333333331,{"$f":"DATA!$C$9","v":0.89},{"$f":"DATA!$C$10","v":64},1,407.8125,407.8125,0,"","",0,"","",0,"","","","",null,{"$f":"X184","v":9},{"$f":"Y189+1","v":"2018-03-04"},{"$f":"TEXT(Y192,\"ddd\")","v":"zo"},"DD",{"$f":"IFERROR(HLOOKUP(Y192,[1]DATA!$A$1:$NB$5,3,0),\"\")","v":"-"},null,null,null,null,0,"","",""]
["9zoMD",{"$f":"VLOOKUP($AA193,DATA!$B$3:$E193,2,0)","v":"14:30:00"},{"$f":"VLOOKUP($AA193,DATA!$B$3:$E193,3,0)","v":"22:30:00"},{"$f":"VLOOKUP($AA193,DATA!$B$3:$E193,4,0)","v":3.125E-2},0.30208333333333337,0.30208333333333337,{"$f":"DATA!$C$9","v":0.89},{"$f":"DATA!$C$10","v":64},1,407.81250000000006,407.81250000000006,0,"","",0,"","",0,"","","","",null,{"$f":"X184","v":9},null,{"$f":"TEXT(Y192,\"ddd\")","v":"zo"},"MD",{"$f":"IFERROR(HLOOKUP(Y192,[1]DATA!$A$1:$NB$5,4,0),\"\")","v":"-"},null,null,null,null,0,"","",""]
["9zoZND",{"$f":"VLOOKUP($AA194,DATA!$B$3:$E194,2,0)","v":"00:00:00"},{"$f":"VLOOKUP($AA194,DATA!$B$3:$E194,3,0)","v":"00:00:00"},{"$f":"VLOOKUP($AA194,DATA!$B$3:$E194,4,0)","v":0},0,0,{"$f":"DATA!$C$9","v":0.89},{"$f":"DATA!$C$10","v":64},1,0,0,0,"","",0,"","",0,"","","","",null,{"$f":"X184","v":9},null,{"$f":"TEXT(Y192,\"ddd\")","v":"zo"},"ZND",{"$f":"IFERROR(HLOOKUP(Y192,[1]DATA!$A$1:$NB$5,5,0),\"\")","v":"D2"},null,null,null,null,0,"","",""]
["10maDD",{"$f":"VLOOKUP($AA195,DATA!$B$3:$E195,2,0)","v":"06:30:00"},{"$f":"VLOOKUP($AA195,DATA!$B$3:$E195,3,0)","v":"14:30:00"},{"$f":"VLOOKUP($AA195,DATA!$B$3:$E195,4,0)","v":3.125E-2},0.30208333333333331,0.22638888888888886,{"$f":"DATA!$C$9","v":0.89},{"$f":"DATA!$C$10","v":64},1,305.62499999999994,407.8125,7.5694444444444439E-2,102.1875,0.25057471264367814,{"$f":"TIME(INT($AD195/60),INT(MOD($AD195,60)/1),0)","v":0},"","",380.8,325,325,"","",null,{"$f":"X205","v":10},{"$f":"Y192+1","v":"2018-03-05"},{"$f":"TEXT(Y195,\"ddd\")","v":"ma"},"DD",{"$f":"IFERROR(HLOOKUP(Y195,[1]DATA!$A$1:$NB$5,3,0),\"\")","v":"D1"},109,null,32,357,0,-8.75,0.74551971326164879,1,4359.375,2971,0.68151971326164873,911.25,0.20903225806451614,0,0,0.94357087495401193,0.98398319262452016,"",0.9031585572835038,477.125,0.10944802867383513,508.93333333333334,224]
["10maMD",{"$f":"VLOOKUP($AA196,DATA!$B$3:$E196,2,0)","v":"14:30:00"},{"$f":"VLOOKUP($AA196,DATA!$B$3:$E196,3,0)","v":"22:30:00"},{"$f":"VLOOKUP($AA196,DATA!$B$3:$E196,4,0)","v":3.125E-2},0.30208333333333337,0.20763888888888893,{"$f":"DATA!$C$9","v":0.89},{"$f":"DATA!$C$10","v":64},1,280.31250000000006,407.81250000000006,9.4444444444444442E-2,127.5,0.31264367816091948,{"$f":"TIME(INT(AD196/60),INT(MOD(AD196,60)/1),0)","v":0},"","",317.86666666666667,281,"","",281,null,{"$f":"X205","v":10},null,{"$f":"TEXT(Y195,\"ddd\")","v":"ma"},"MD",{"$f":"IFERROR(HLOOKUP(Y195,[1]DATA!$A$1:$NB$5,4,0),\"\")","v":"D3"},136,null,17,298,30,-27.437499999999943,0.64458781362007178,0.9137600613261786]
["10maND",{"$f":"VLOOKUP($AA197,DATA!$B$3:$E197,2,0)","v":"22:30:00"},{"$f":"VLOOKUP($AA197,DATA!$B$3:$E197,3,0)","v":"06:30:00"},{"$f":"VLOOKUP($AA197,DATA!$B$3:$E197,4,0)","v":3.125E-2},0.30208333333333326,0.30208333333333326,{"$f":"DATA!$C$9","v":0.89},{"$f":"DATA!$C$10","v":64},1,407.81249999999989,407.81249999999989,0,"","",0,"","",0,"","","","",null,{"$f":"X205","v":10},null,{"$f":"TEXT(Y195,\"ddd\")","v":"ma"},"ND",{"$f":"IFERROR(HLOOKUP(Y195,[1]DATA!$A$1:$NB$5,5,0),\"\")","v":"D2"},null,null,null,null,0,"","",""]
["10diDD",{"$f":"VLOOKUP($AA198,DATA!$B$3:$E198,2,0)","v":"06:30:00"},{"$f":"VLOOKUP($AA198,DATA!$B$3:$E198,3,0)","v":"14:30:00"},{"$f":"VLOOKUP($AA198,DATA!$B$3:$E198,4,0)","v":3.125E-2},0.30208333333333331,0.22222222222222221,{"$f":"DATA!$C$9","v":0.89},{"$f":"DATA!$C$10","v":64},1,{"$f":"F198*86400/H198*I198","v":300},{"$f":"E198*86400/H198","v":407.8125},7.9861111111111105E-2,107.81249999999999,0.26436781609195398,0,"","",{"$f":"AF198*AG$2","v":348.8},{"$f":"IF(AF198-AE198=0,\"\",AF198-AE198)","v":304},304,"","",null,{"$f":"X205","v":10},{"$f":"Y195+1","v":"2018-03-06"},{"$f":"TEXT(Y198,\"ddd\")","v":"di"},"DD",{"$f":"IFERROR(HLOOKUP(Y198,[1]DATA!$A$1:$NB$5,3,0),\"\")","v":"D1"},115,null,23,327,4,-24.125000000000057,0.69734767025089606,0.9886621315192744]
["10diMD",{"$f":"VLOOKUP($AA199,DATA!$B$3:$E199,2,0)","v":"14:30:00"},{"$f":"VLOOKUP($AA199,DATA!$B$3:$E199,3,0)","v":"22:30:00"},{"$f":"VLOOKUP($AA199,DATA!$B$3:$E199,4,0)","v":3.125E-2},0.30208333333333337,0.22847222222222224,{"$f":"DATA!$C$9","v":0.89},{"$f":"DATA!$C$10","v":64},1,308.4375,407.81250000000006,{"$f":"TIME(INT($AC199/60),INT(MOD($AC199,60)/1),0)","v":7.3611111111111113E-2},{"$f":"IF($L199*86400/$H199=0,\"\",$L199*86400/$H199)","v":99.375},{"$f":"IFERROR($M199/$K199,\"\")","v":0.2436781609195402},0,"",{"$f":"IFERROR($P199/$K199,\"\")","v":""},337.06666666666666,300,{"$f":"IF(IF($AB199=\"D1\",$S199,\"\")=0,\"\",IF($AB199=\"D1\",$S199,\"\"))","v":""},{"$f":"IF(IF($AB199=\"D2\",$S199,\"\")=0,\"\",IF($AB199=\"D2\",$S199,\"\"))","v":""},{"$f":"IF(IF($AB199=\"D3\",$S199,\"\")=0,\"\",IF($AB199=\"D3\",$S199,\"\"))","v":300},null,{"$f":"X205","v":10},null,{"$f":"TEXT(Y198,\"ddd\")","v":"di"},"MD",{"$f":"IFERROR(HLOOKUP(Y198,[1]DATA!$A$1:$NB$5,4,0),\"\")","v":"D3"},106,null,16,316,50,-36.562499999999943,0.68817204301075274,0.87082328625559768]
["10diND",{"$f":"VLOOKUP($AA200,DATA!$B$3:$E200,2,0)","v":"22:30:00"},{"$f":"VLOOKUP($AA200,DATA!$B$3:$E200,3,0)","v":"06:30:00"},{"$f":"VLOOKUP($AA200,DATA!$B$3:$E200,4,0)","v":3.125E-2},0.30208333333333326,0.30208333333333326,{"$f":"DATA!$C$9","v":0.89},{"$f":"DATA!$C$10","v":64},1,407.81249999999989,407.81249999999989,0,"","",0,"","",0,"","","","",null,{"$f":"X205","v":10},null,{"$f":"TEXT(Y198,\"ddd\")","v":"di"},"ND",{"$f":"IFERROR(HLOOKUP(Y198,[1]DATA!$A$1:$NB$5,5,0),\"\")","v":"D2"},null,null,null,null,0,"","",""]
["10woDD",{"$f":"VLOOKUP($AA201,DATA!$B$3:$E201,2,0)","v":"06:30:00"},{"$f":"VLOOKUP($AA201,DATA!$B$3:$E201,3,0)","v":"14:30:00"},{"$f":"VLOOKUP($AA201,DATA!$B$3:$E201,4,0)","v":3.125E-2},0.30208333333333331,0.24236111111111108,{"$f":"DATA!$C$9","v":0.89},{"$f":"DATA!$C$10","v":64},1,327.18749999999994,407.8125,5.9722222222222225E-2,80.625,0.19770114942528735,0,"","",354.13333333333333,317,317,"","",null,{"$f":"X205","v":10},{"$f":"Y198+1","v":"2018-03-07"},{"$f":"TEXT(Y201,\"ddd\")","v":"wo"},"DD",{"$f":"IFERROR(HLOOKUP(Y201,[1]DATA!$A$1:$NB$5,3,0),\"\")","v":"D1"},86,null,15,332,12,-38.3125,0.72716845878136205,0.96722505462490893]
["10woMD",{"$f":"VLOOKUP($AA202,DATA!$B$3:$E202,2,0)","v":"14:30:00"},{"$f":"VLOOKUP($AA202,DATA!$B$3:$E202,3,0)","v":"22:30:00"},{"$f":"VLOOKUP($AA202,DATA!$B$3:$E202,4,0)","v":3.125E-2},0.30208333333333337,0.28263888888888894,{"$f":"DATA!$C$9","v":0.89},{"$f":"DATA!$C$10","v":64},1,381.56250000000006,407.81250000000006,1.9444444444444445E-2,26.25,6.4367816091954008E-2,0,"","",411.73333333333335,350,"","",350,null,{"$f":"X205","v":10},null,{"$f":"TEXT(Y201,\"ddd\")","v":"wo"},"MD",{"$f":"IFERROR(HLOOKUP(Y201,[1]DATA!$A$1:$NB$5,4,0),\"\")","v":"D3"},28,null,36,386,72,-59.687499999999943,0.80286738351254494,0.85115766262403525]
["10woND",{"$f":"VLOOKUP($AA203,DATA!$B$3:$E203,2,0)","v":"22:30:00"},{"$f":"VLOOKUP($AA203,DATA!$B$3:$E203,3,0)","v":"06:30:00"},{"$f":"VLOOKUP($AA203,DATA!$B$3:$E203,4,0)","v":3.125E-2},0.30208333333333326,0.30208333333333326,{"$f":"DATA!$C$9","v":0.89},{"$f":"DATA!$C$10","v":64},1,407.81249999999989,407.81249999999989,0,"","",0,"","",0,"","","","",null,{"$f":"X205","v":10},null,{"$f":"TEXT(Y201,\"ddd\")","v":"wo"},"ND",{"$f":"IFERROR(HLOOKUP(Y201,[1]DATA!$A$1:$NB$5,5,0),\"\")","v":"D2"},null,null,null,null,0,"","",""]
["10doDD",{"$f":"VLOOKUP($AA204,DATA!$B$3:$E204,2,0)","v":"06:30:00"},{"$f":"VLOOKUP($AA204,DATA!$B$3:$E204,3,0)","v":"14:30:00"},{"$f":"VLOOKUP($AA204,DATA!$B$3:$E204,4,0)","v":3.125E-2},0.30208333333333331,0.19097222222222221,{"$f":"DATA!$C$9","v":0.89},{"$f":"DATA!$C$10","v":64},1,257.8125,407.8125,0.1111111111111111,150,0.36781609195402298,0,"","",221.86666666666667,187,187,"","",null,{"$f":"X205","v":10},{"$f":"Y201+1","v":"2018-03-08"},{"$f":"TEXT(Y204,\"ddd\")","v":"do"},"DD",{"$f":"IFERROR(HLOOKUP(Y204,[1]DATA!$A$1:$NB$5,3,0),\"\")","v":"D1"},160,null,21,208,0,-98.937500000000057,0.42896057347670252,1]
["10doMD",{"$f":"VLOOKUP($AA205,DATA!$B$3:$E205,2,0)","v":"14:30:00"},{"$f":"VLOOKUP($AA205,DATA!$B$3:$E205,3,0)","v":"22:30:00"},{"$f":"VLOOKUP($AA205,DATA!$B$3:$E205,4,0)","v":3.125E-2},0.30208333333333337,0.24027777777777781,{"$f":"DATA!$C$9","v":0.89},{"$f":"DATA!$C$10","v":64},1,324.37500000000006,407.81250000000006,6.1805555555555558E-2,83.4375,0.20459770114942527,0,"","",230.4,198,"","",198,null,{"$f":"WEEKNUM($Y195)","v":10},null,{"$f":"TEXT(Y204,\"ddd\")","v":"do"},"MD",{"$f":"IFERROR(HLOOKUP(Y204,[1]DATA!$A$1:$NB$5,4,0),\"\")","v":"D3"},89,null,18,216,15,-154.49999999999994,0.45419354838709686,0.93887530562347188]
["10doND",{"$f":"VLOOKUP($AA206,DATA!$B$3:$E206,2,0)","v":"22:30:00"},{"$f":"VLOOKUP($AA206,DATA!$B$3:$E206,3,0)","v":"06:30:00"},{"$f":"VLOOKUP($AA206,DATA!$B$3:$E206,4,0)","v":3.125E-2},0.30208333333333326,0.30208333333333326,{"$f":"DATA!$C$9","v":0.89},{"$f":"DATA!$C$10","v":64},1,407.81249999999989,407.81249999999989,0,"","",0,"","",0,"","","","",null,{"$f":"X205","v":10},null,{"$f":"TEXT(Y204,\"ddd\")","v":"do"},"ND",{"$f":"IFERROR(HLOOKUP(Y204,[1]DATA!$A$1:$NB$5,5,0),\"\")","v":"D2"},null,null,null,null,0,"","",""]
["10vrDD",{"$f":"VLOOKUP($AA207,DATA!$B$3:$E207,2,0)","v":"06:30:00"},{"$f":"VLOOKUP($AA207,DATA!$B$3:$E207,3,0)","v":"14:30:00"},{"$f":"VLOOKUP($AA207,DATA!$B$3:$E207,4,0)","v":3.125E-2},0.30208333333333331,0.2472222222222222,{"$f":"DATA!$C$9","v":0.89},{"$f":"DATA!$C$10","v":64},1,333.75,407.8125,5.486111111111111E-2,74.0625,0.18160919540229886,0,"","",428.8,369,369,"","",null,{"$f":"X205","v":10},{"$f":"Y204+1","v":"2018-03-09"},{"$f":"TEXT(Y207,\"ddd\")","v":"vr"},"DD",{"$f":"IFERROR(HLOOKUP(Y207,[1]DATA!$A$1:$NB$5,3,0),\"\")","v":"D1"},79,null,33,402,16,7.1249999999999432,0.84645161290322579,0.96402877697841727]
["10vrMD",{"$f":"VLOOKUP($AA208,DATA!$B$3:$E208,2,0)","v":"14:30:00"},{"$f":"VLOOKUP($AA208,DATA!$B$3:$E208,3,0)","v":"22:30:00"},{"$f":"VLOOKUP($AA208,DATA!$B$3:$E208,4,0)","v":3.125E-2},0.30208333333333337,0.25763888888888892,{"$f":"DATA!$C$9","v":0.89},{"$f":"DATA!$C$10","v":64},1,347.81250000000006,407.81250000000006,4.4444444444444446E-2,60,0.14712643678160917,0,"","",400,340,"","",340,null,{"$f":"X205","v":10},null,{"$f":"TEXT(Y207,\"ddd\")","v":"vr"},"MD",{"$f":"IFERROR(HLOOKUP(Y207,[1]DATA!$A$1:$NB$5,4,0),\"\")","v":"D3"},64,null,35,375,25,-35.937499999999943,0.77992831541218643,0.94117647058823528]
["10vrND",{"$f":"VLOOKUP($AA209,DATA!$B$3:$E209,2,0)","v":"22:30:00"},{"$f":"VLOOKUP($AA209,DATA!$B$3:$E209,3,0)","v":"06:30:00"},{"$f":"VLOOKUP($AA209,DATA!$B$3:$E209,4,0)","v":3.125E-2},0.30208333333333326,0.30208333333333326,{"$f":"DATA!$C$9","v":0.89},{"$f":"DATA!$C$10","v":64},1,407.81249999999989,407.81249999999989,0,"","",0,"","",0,"","","","",null,{"$f":"X205","v":10},null,{"$f":"TEXT(Y207,\"ddd\")","v":"vr"},"ND",{"$f":"IFERROR(HLOOKUP(Y207,[1]DATA!$A$1:$NB$5,5,0),\"\")","v":"-"},null,null,null,null,0,"","",""]
["10zaDD",{"$f":"VLOOKUP($AA210,DATA!$B$3:$E210,2,0)","v":"06:30:00"},{"$f":"VLOOKUP($AA210,DATA!$B$3:$E210,3,0)","v":"14:30:00"},{"$f":"VLOOKUP($AA210,DATA!$B$3:$E210,4,0)","v":3.125E-2},0.30208333333333331,0.30208333333333331,{"$f":"DATA!$C$9","v":0.89},{"$f":"DATA!$C$10","v":64},1,407.8125,407.8125,0,"","",0,"","",0,"","","","",null,{"$f":"X205","v":10},{"$f":"Y207+1","v":"2018-03-10"},{"$f":"TEXT(Y210,\"ddd\")","v":"za"},"DD",{"$f":"IFERROR(HLOOKUP(Y210,[1]DATA!$A$1:$NB$5,3,0),\"\")","v":"-"},null,null,null,null,0,"","",""]
["10zaMD",{"$f":"VLOOKUP($AA211,DATA!$B$3:$E211,2,0)","v":"14:30:00"},{"$f":"VLOOKUP($AA211,DATA!$B$3:$E211,3,0)","v":"22:30:00"},{"$f":"VLOOKUP($AA211,DATA!$B$3:$E211,4,0)","v":3.125E-2},0.30208333333333337,0.30208333333333337,{"$f":"DATA!$C$9","v":0.89},{"$f":"DATA!$C$10","v":64},1,407.81250000000006,407.81250000000006,0,"","",0,"","",0,"","","","",null,{"$f":"X205","v":10},null,{"$f":"TEXT(Y210,\"ddd\")","v":"za"},"MD",{"$f":"IFERROR(HLOOKUP(Y210,[1]DATA!$A$1:$NB$5,4,0),\"\")","v":"-"},null,null,null,null,0,"","",""]
["10zaND",{"$f":"VLOOKUP($AA212,DATA!$B$3:$E212,2,0)","v":"22:30:00"},{"$f":"VLOOKUP($AA212,DATA!$B$3:$E212,3,0)","v":"06:30:00"},{"$f":"VLOOKUP($AA212,DATA!$B$3:$E212,4,0)","v":3.125E-2},0.30208333333333326,0.30208333333333326,{"$f":"DATA!$C$9","v":0.89},{"$f":"DATA!$C$10","v":64},1,407.81249999999989,407.81249999999989,0,"","",0,"","",0,"","","","",null,{"$f":"X205","v":10},null,{"$f":"TEXT(Y210,\"ddd\")","v":"za"},"ND",{"$f":"IFERROR(HLOOKUP(Y210,[1]DATA!$A$1:$NB$5,5,0),\"\")","v":"-"},null,null,null,null,0,"","",""]
["10zoDD",{"$f":"VLOOKUP($AA213,DATA!$B$3:$E213,2,0)","v":"06:30:00"},{"$f":"VLOOKUP($AA213,DATA!$B$3:$E213,3,0)","v":"14:30:00"},{"$f":"VLOOKUP($AA213,DATA!$B$3:$E213,4,0)","v":3.125E-2},0.30208333333333331,0.30208333333333331,{"$f":"DATA!$C$9","v":0.89},{"$f":"DATA!$C$10","v":64},1,407.8125,407.8125,0,"","",0,"","",0,"","","","",null,{"$f":"X205","v":10},{"$f":"Y210+1","v":"2018-03-11"},{"$f":"TEXT(Y213,\"ddd\")","v":"zo"},"DD",{"$f":"IFERROR(HLOOKUP(Y213,[1]DATA!$A$1:$NB$5,3,0),\"\")","v":"-"},null,null,null,null,0,"","",""]
["10zoMD",{"$f":"VLOOKUP($AA214,DATA!$B$3:$E214,2,0)","v":"14:30:00"},{"$f":"VLOOKUP($AA214,DATA!$B$3:$E214,3,0)","v":"22:30:00"},{"$f":"VLOOKUP($AA214,DATA!$B$3:$E214,4,0)","v":3.125E-2},0.30208333333333337,0.30208333333333337,{"$f":"DATA!$C$9","v":0.89},{"$f":"DATA!$C$10","v":64},1,407.81250000000006,407.81250000000006,0,"","",0,"","",0,"","","","",null,{"$f":"X205","v":10},null,{"$f":"TEXT(Y213,\"ddd\")","v":"zo"},"MD",{"$f":"IFERROR(HLOOKUP(Y213,[1]DATA!$A$1:$NB$5,4,0),\"\")","v":"-"},null,null,null,null,0,"","",""]
["10zoZND",{"$f":"VLOOKUP($AA215,DATA!$B$3:$E215,2,0)","v":"00:00:00"},{"$f":"VLOOKUP($AA215,DATA!$B$3:$E215,3,0)","v":"00:00:00"},{"$f":"VLOOKUP($AA215,DATA!$B$3:$E215,4,0)","v":0},0,0,{"$f":"DATA!$C$9","v":0.89},{"$f":"DATA!$C$10","v":64},1,0,0,0,"","",0,"","",0,"","","","",null,{"$f":"X205","v":10},null,{"$f":"TEXT(Y213,\"ddd\")","v":"zo"},"ZND",{"$f":"IFERROR(HLOOKUP(Y213,[1]DATA!$A$1:$NB$5,5,0),\"\")","v":"D1"},null,null,null,null,0,"","",""]
["11maDD",{"$f":"VLOOKUP($AA216,DATA!$B$3:$E216,2,0)","v":"06:30:00"},{"$f":"VLOOKUP($AA216,DATA!$B$3:$E216,3,0)","v":"14:30:00"},{"$f":"VLOOKUP($AA216,DATA!$B$3:$E216,4,0)","v":3.125E-2},0.30208333333333331,0.22013888888888888,{"$f":"DATA!$C$9","v":0.89},{"$f":"DATA!$C$10","v":64},1,297.1875,407.8125,8.1944444444444445E-2,110.625,0.27126436781609198,{"$f":"TIME(INT($AD216/60),INT(MOD($AD216,60)/1),0)","v":0},"","",353.06666666666666,301,"","",301,null,{"$f":"X226","v":11},{"$f":"Y213+1","v":"2018-03-12"},{"$f":"TEXT(Y216,\"ddd\")","v":"ma"},"DD",{"$f":"IFERROR(HLOOKUP(Y216,[1]DATA!$A$1:$NB$5,3,0),\"\")","v":"D3"},118,null,30,331,20,-24.312500000000057,0.69046594982078857,0.94639027877055037,4359.375,2764,0.63403584229390686,702.1875,0.1610752688172043,0,0,0.91892899362244818,"",0.91258526191274369,0.92527272533215255,893.1875,0.20488888888888884,952.73333333333335,285]
["11maMD",{"$f":"VLOOKUP($AA217,DATA!$B$3:$E217,2,0)","v":"14:30:00"},{"$f":"VLOOKUP($AA217,DATA!$B$3:$E217,3,0)","v":"22:30:00"},{"$f":"VLOOKUP($AA217,DATA!$B$3:$E217,4,0)","v":3.125E-2},0.30208333333333337,0.25486111111111115,{"$f":"DATA!$C$9","v":0.89},{"$f":"DATA!$C$10","v":64},1,344.06250000000006,407.81250000000006,4.7222222222222221E-2,63.75,0.15632183908045974,{"$f":"TIME(INT(AD217/60),INT(MOD(AD217,60)/1),0)","v":0},"","",404.26666666666665,359,"",359,"",null,{"$f":"X226","v":11},null,{"$f":"TEXT(Y216,\"ddd\")","v":"ma"},"MD",{"$f":"IFERROR(HLOOKUP(Y216,[1]DATA!$A$1:$NB$5,4,0),\"\")","v":"D2"},68,null,20,379,22,-13.187499999999943,0.82351254480286751,0.94838911479512045]
["11maND",{"$f":"VLOOKUP($AA218,DATA!$B$3:$E218,2,0)","v":"22:30:00"},{"$f":"VLOOKUP($AA218,DATA!$B$3:$E218,3,0)","v":"06:30:00"},{"$f":"VLOOKUP($AA218,DATA!$B$3:$E218,4,0)","v":3.125E-2},0.30208333333333326,0.30208333333333326,{"$f":"DATA!$C$9","v":0.89},{"$f":"DATA!$C$10","v":64},1,407.81249999999989,407.81249999999989,0,"","",0,"","",0,"","","","",null,{"$f":"X226","v":11},null,{"$f":"TEXT(Y216,\"ddd\")","v":"ma"},"ND",{"$f":"IFERROR(HLOOKUP(Y216,[1]DATA!$A$1:$NB$5,5,0),\"\")","v":"D1"},null,null,null,null,0,"","",""]
["11diDD",{"$f":"VLOOKUP($AA219,DATA!$B$3:$E219,2,0)","v":"06:30:00"},{"$f":"VLOOKUP($AA219,DATA!$B$3:$E219,3,0)","v":"14:30:00"},{"$f":"VLOOKUP($AA219,DATA!$B$3:$E219,4,0)","v":3.125E-2},0.30208333333333331,0.22083333333333333,{"$f":"DATA!$C$9","v":0.89},{"$f":"DATA!$C$10","v":64},1,298.125,407.8125,8.1250000000000003E-2,109.6875,0.26896551724137929,0,"","",298.66666666666669,253,"","",253,null,{"$f":"X226","v":11},{"$f":"Y216+1","v":"2018-03-13"},{"$f":"TEXT(Y219,\"ddd\")","v":"di"},"DD",{"$f":"IFERROR(HLOOKUP(Y219,[1]DATA!$A$1:$NB$5,3,0),\"\")","v":"D3"},117,null,27,280,25,-73.250000000000057,0.58035842293906814,0.92276004119464472]
["11diMD",{"$f":"VLOOKUP($AA220,DATA!$B$3:$E220,2,0)","v":"14:30:00"},{"$f":"VLOOKUP($AA220,DATA!$B$3:$E220,3,0)","v":"22:30:00"},{"$f":"VLOOKUP($AA220,DATA!$B$3:$E220,4,0)","v":3.125E-2},{"$f":"(C220-B220+(B220>C220))-D220","v":0.30208333333333337},{"$f":"E220-O220-L220","v":0.23750000000000004},{"$f":"DATA!$C$9","v":0.89},{"$f":"DATA!$C$10","v":64},1,320.62500000000006,407.81250000000006,6.458333333333334E-2,87.187500000000014,0.21379310344827587,0,"","",353.06666666666666,309,"",309,"",null,{"$f":"X226","v":11},null,{"$f":"TEXT(Y219,\"ddd\")","v":"di"},"MD",{"$f":"IFERROR(HLOOKUP(Y219,[1]DATA!$A$1:$NB$5,4,0),\"\")","v":"D2"},93,null,22,331,35,-39.749999999999943,0.70881720430107531,0.90980931111492869]
["11diND",{"$f":"VLOOKUP($AA221,DATA!$B$3:$E221,2,0)","v":"22:30:00"},{"$f":"VLOOKUP($AA221,DATA!$B$3:$E221,3,0)","v":"06:30:00"},{"$f":"VLOOKUP($AA221,DATA!$B$3:$E221,4,0)","v":3.125E-2},0.30208333333333326,0.30208333333333326,{"$f":"DATA!$C$9","v":0.89},{"$f":"DATA!$C$10","v":64},1,407.81249999999989,407.81249999999989,0,"","",0,"","",0,"","","","",null,{"$f":"X226","v":11},null,{"$f":"TEXT(Y219,\"ddd\")","v":"di"},"ND",{"$f":"IFERROR(HLOOKUP(Y219,[1]DATA!$A$1:$NB$5,5,0),\"\")","v":"D1"},null,null,null,null,0,"","",""]
["11woDD",{"$f":"VLOOKUP($AA222,DATA!$B$3:$E222,2,0)","v":"06:30:00"},{"$f":"VLOOKUP($AA222,DATA!$B$3:$E222,3,0)","v":"14:30:00"},{"$f":"VLOOKUP($AA222,DATA!$B$3:$E222,4,0)","v":3.125E-2},0.30208333333333331,0.27152777777777776,{"$f":"DATA!$C$9","v":0.89},{"$f":"DATA!$C$10","v":64},1,366.5625,407.8125,3.0555555555555555E-2,41.25,0.10114942528735632,0,"","",217.6,193,"","",193,null,{"$f":"X226","v":11},{"$f":"Y219+1","v":"2018-03-14"},{"$f":"TEXT(Y222,\"ddd\")","v":"wo"},"DD",{"$f":"IFERROR(HLOOKUP(Y222,[1]DATA!$A$1:$NB$5,3,0),\"\")","v":"D3"},44,null,11,204,32,-201.6875,0.44272401433691755,0.87179487179487181]
["11woMD",{"$f":"VLOOKUP($AA223,DATA!$B$3:$E223,2,0)","v":"14:30:00"},{"$f":"VLOOKUP($AA223,DATA!$B$3:$E223,3,0)","v":"22:30:00"},{"$f":"VLOOKUP($AA223,DATA!$B$3:$E223,4,0)","v":3.125E-2},0.30208333333333337,0.22708333333333336,{"$f":"DATA!$C$9","v":0.89},{"$f":"DATA!$C$10","v":64},1,306.56250000000006,407.81250000000006,7.4999999999999997E-2,101.25,0.24827586206896549,0,"","",331.73333333333335,280,"",280,"",null,{"$f":"X226","v":11},null,{"$f":"TEXT(Y222,\"ddd\")","v":"wo"},"MD",{"$f":"IFERROR(HLOOKUP(Y222,[1]DATA!$A$1:$NB$5,4,0),\"\")","v":"D2"},108,null,31,311,41,-54.687499999999943,0.64229390681003595,0.89000178858880341]
["11woND",{"$f":"VLOOKUP($AA224,DATA!$B$3:$E224,2,0)","v":"22:30:00"},{"$f":"VLOOKUP($AA224,DATA!$B$3:$E224,3,0)","v":"06:30:00"},{"$f":"VLOOKUP($AA224,DATA!$B$3:$E224,4,0)","v":3.125E-2},0.30208333333333326,0.30208333333333326,{"$f":"DATA!$C$9","v":0.89},{"$f":"DATA!$C$10","v":64},1,407.81249999999989,407.81249999999989,0,"","",0,"","",0,"","","","",null,{"$f":"X226","v":11},null,{"$f":"TEXT(Y222,\"ddd\")","v":"wo"},"ND",{"$f":"IFERROR(HLOOKUP(Y222,[1]DATA!$A$1:$NB$5,5,0),\"\")","v":"D1"},null,null,null,null,0,"","",""]
["11doDD",{"$f":"VLOOKUP($AA225,DATA!$B$3:$E225,2,0)","v":"06:30:00"},{"$f":"VLOOKUP($AA225,DATA!$B$3:$E225,3,0)","v":"14:30:00"},{"$f":"VLOOKUP($AA225,DATA!$B$3:$E225,4,0)","v":3.125E-2},0.30208333333333331,0.25972222222222219,{"$f":"DATA!$C$9","v":0.89},{"$f":"DATA!$C$10","v":64},1,350.62499999999994,407.8125,4.2361111111111106E-2,57.187499999999993,0.14022988505747125,0,"","",347.73333333333335,299,"","",299,null,{"$f":"X226","v":11},{"$f":"Y222+1","v":"2018-03-15"},{"$f":"TEXT(Y225,\"ddd\")","v":"do"},"DD",{"$f":"IFERROR(HLOOKUP(Y225,[1]DATA!$A$1:$NB$5,3,0),\"\")","v":"D3"},61,null,27,326,45,-79.75,0.6858781362007168,0.88541843490069594]
["11doMD",{"$f":"VLOOKUP($AA226,DATA!$B$3:$E226,2,0)","v":"14:30:00"},{"$f":"VLOOKUP($AA226,DATA!$B$3:$E226,3,0)","v":"22:30:00"},{"$f":"VLOOKUP($AA226,DATA!$B$3:$E226,4,0)","v":3.125E-2},0.30208333333333337,0.26111111111111113,{"$f":"DATA!$C$9","v":0.89},{"$f":"DATA!$C$10","v":64},1,352.5,407.81250000000006,4.0972222222222222E-2,55.3125,0.13563218390804596,0,"","",281.60000000000002,251,"",251,"",null,{"$f":"WEEKNUM($Y216)","v":11},null,{"$f":"TEXT(Y225,\"ddd\")","v":"do"},"MD",{"$f":"IFERROR(HLOOKUP(Y225,[1]DATA!$A$1:$NB$5,4,0),\"\")","v":"D2"},59,null,13,264,25,-129.62499999999994,0.57577060931899648,0.91846053489889112]
["11doND",{"$f":"VLOOKUP($AA227,DATA!$B$3:$E227,2,0)","v":"22:30:00"},{"$f":"VLOOKUP($AA227,DATA!$B$3:$E227,3,0)","v":"06:30:00"},{"$f":"VLOOKUP($AA227,DATA!$B$3:$E227,4,0)","v":3.125E-2},0.30208333333333326,0.30208333333333326,{"$f":"DATA!$C$9","v":0.89},{"$f":"DATA!$C$10","v":64},1,407.81249999999989,407.81249999999989,0,"","",0,"","",0,"","","","",null,{"$f":"X226","v":11},null,{"$f":"TEXT(Y225,\"ddd\")","v":"do"},"ND",{"$f":"IFERROR(HLOOKUP(Y225,[1]DATA!$A$1:$NB$5,5,0),\"\")","v":"D1"},null,null,null,null,0,"","",""]
["11vrDD",{"$f":"VLOOKUP($AA228,DATA!$B$3:$E228,2,0)","v":"06:30:00"},{"$f":"VLOOKUP($AA228,DATA!$B$3:$E228,3,0)","v":"14:30:00"},{"$f":"VLOOKUP($AA228,DATA!$B$3:$E228,4,0)","v":3.125E-2},0.30208333333333331,0.29236111111111107,{"$f":"DATA!$C$9","v":0.89},{"$f":"DATA!$C$10","v":64},1,394.68749999999994,407.8125,9.7222222222222224E-3,13.125,3.2183908045977011E-2,0,"","",250.66666666666666,214,"","",214,null,{"$f":"X226","v":11},{"$f":"Y225+1","v":"2018-03-16"},{"$f":"TEXT(Y228,\"ddd\")","v":"vr"},"DD",{"$f":"IFERROR(HLOOKUP(Y228,[1]DATA!$A$1:$NB$5,3,0),\"\")","v":"D3"},14,null,21,235,0,-208.8125,0.49089605734767028,1]
["11vrMD",{"$f":"VLOOKUP($AA229,DATA!$B$3:$E229,2,0)","v":"14:30:00"},{"$f":"VLOOKUP($AA229,DATA!$B$3:$E229,3,0)","v":"22:30:00"},{"$f":"VLOOKUP($AA229,DATA!$B$3:$E229,4,0)","v":3.125E-2},0.30208333333333337,0.25555555555555559,{"$f":"DATA!$C$9","v":0.89},{"$f":"DATA!$C$10","v":64},1,345.00000000000006,407.81250000000006,4.6527777777777779E-2,62.8125,0.15402298850574711,0,"","",345.6,305,"",305,"",null,{"$f":"X226","v":11},null,{"$f":"TEXT(Y228,\"ddd\")","v":"vr"},"MD",{"$f":"IFERROR(HLOOKUP(Y228,[1]DATA!$A$1:$NB$5,4,0),\"\")","v":"D2"},67,null,19,324,40,-68.124999999999943,0.699641577060932,0.89626556016597514]
["11vrND",{"$f":"VLOOKUP($AA230,DATA!$B$3:$E230,2,0)","v":"22:30:00"},{"$f":"VLOOKUP($AA230,DATA!$B$3:$E230,3,0)","v":"06:30:00"},{"$f":"VLOOKUP($AA230,DATA!$B$3:$E230,4,0)","v":3.125E-2},0.30208333333333326,0.30208333333333326,{"$f":"DATA!$C$9","v":0.89},{"$f":"DATA!$C$10","v":64},1,407.81249999999989,407.81249999999989,0,"","",0,"","",0,"","","","",null,{"$f":"X226","v":11},null,{"$f":"TEXT(Y228,\"ddd\")","v":"vr"},"ND",{"$f":"IFERROR(HLOOKUP(Y228,[1]DATA!$A$1:$NB$5,5,0),\"\")","v":"-"},null,null,null,null,0,"","",""]
["11zaDD",{"$f":"VLOOKUP($AA231,DATA!$B$3:$E231,2,0)","v":"06:30:00"},{"$f":"VLOOKUP($AA231,DATA!$B$3:$E231,3,0)","v":"14:30:00"},{"$f":"VLOOKUP($AA231,DATA!$B$3:$E231,4,0)","v":3.125E-2},0.30208333333333331,0.30208333333333331,{"$f":"DATA!$C$9","v":0.89},{"$f":"DATA!$C$10","v":64},1,407.8125,407.8125,0,"","",0,"","",0,"","","","",null,{"$f":"X226","v":11},{"$f":"Y228+1","v":"2018-03-17"},{"$f":"TEXT(Y231,\"ddd\")","v":"za"},"DD",{"$f":"IFERROR(HLOOKUP(Y231,[1]DATA!$A$1:$NB$5,3,0),\"\")","v":"-"},null,null,null,null,0,"","",""]
["11zaMD",{"$f":"VLOOKUP($AA232,DATA!$B$3:$E232,2,0)","v":"14:30:00"},{"$f":"VLOOKUP($AA232,DATA!$B$3:$E232,3,0)","v":"22:30:00"},{"$f":"VLOOKUP($AA232,DATA!$B$3:$E232,4,0)","v":3.125E-2},0.30208333333333337,0.30208333333333337,{"$f":"DATA!$C$9","v":0.89},{"$f":"DATA!$C$10","v":64},1,407.81250000000006,407.81250000000006,0,"","",0,"","",0,"","","","",null,{"$f":"X226","v":11},null,{"$f":"TEXT(Y231,\"ddd\")","v":"za"},"MD",{"$f":"IFERROR(HLOOKUP(Y231,[1]DATA!$A$1:$NB$5,4,0),\"\")","v":"-"},null,null,null,null,0,"","",""]
["11zaND",{"$f":"VLOOKUP($AA233,DATA!$B$3:$E233,2,0)","v":"22:30:00"},{"$f":"VLOOKUP($AA233,DATA!$B$3:$E233,3,0)","v":"06:30:00"},{"$f":"VLOOKUP($AA233,DATA!$B$3:$E233,4,0)","v":3.125E-2},0.30208333333333326,0.30208333333333326,{"$f":"DATA!$C$9","v":0.89},{"$f":"DATA!$C$10","v":64},1,407.81249999999989,407.81249999999989,0,"","",0,"","",0,"","","","",null,{"$f":"X226","v":11},null,{"$f":"TEXT(Y231,\"ddd\")","v":"za"},"ND",{"$f":"IFERROR(HLOOKUP(Y231,[1]DATA!$A$1:$NB$5,5,0),\"\")","v":"-"},null,null,null,null,0,"","",""]
["11zoDD",{"$f":"VLOOKUP($AA234,DATA!$B$3:$E234,2,0)","v":"06:30:00"},{"$f":"VLOOKUP($AA234,DATA!$B$3:$E234,3,0)","v":"14:30:00"},{"$f":"VLOOKUP($AA234,DATA!$B$3:$E234,4,0)","v":3.125E-2},0.30208333333333331,0.30208333333333331,{"$f":"DATA!$C$9","v":0.89},{"$f":"DATA!$C$10","v":64},1,407.8125,407.8125,0,"","",0,"","",0,"","","","",null,{"$f":"X226","v":11},{"$f":"Y231+1","v":"2018-03-18"},{"$f":"TEXT(Y234,\"ddd\")","v":"zo"},"DD",{"$f":"IFERROR(HLOOKUP(Y234,[1]DATA!$A$1:$NB$5,3,0),\"\")","v":"-"},null,null,null,null,0,"","",""]
["11zoMD",{"$f":"VLOOKUP($AA235,DATA!$B$3:$E235,2,0)","v":"14:30:00"},{"$f":"VLOOKUP($AA235,DATA!$B$3:$E235,3,0)","v":"22:30:00"},{"$f":"VLOOKUP($AA235,DATA!$B$3:$E235,4,0)","v":3.125E-2},0.30208333333333337,0.30208333333333337,{"$f":"DATA!$C$9","v":0.89},{"$f":"DATA!$C$10","v":64},1,407.81250000000006,407.81250000000006,0,"","",0,"","",0,"","","","",null,{"$f":"X226","v":11},null,{"$f":"TEXT(Y234,\"ddd\")","v":"zo"},"MD",{"$f":"IFERROR(HLOOKUP(Y234,[1]DATA!$A$1:$NB$5,4,0),\"\")","v":"-"},null,null,null,null,0,"","",""]
["11zoZND",{"$f":"VLOOKUP($AA236,DATA!$B$3:$E236,2,0)","v":"00:00:00"},{"$f":"VLOOKUP($AA236,DATA!$B$3:$E236,3,0)","v":"00:00:00"},{"$f":"VLOOKUP($AA236,DATA!$B$3:$E236,4,0)","v":0},0,0,{"$f":"DATA!$C$9","v":0.89},{"$f":"DATA!$C$10","v":64},1,0,0,0,"","",0,"","",0,"","","","",null,{"$f":"X226","v":11},null,{"$f":"TEXT(Y234,\"ddd\")","v":"zo"},"ZND",{"$f":"IFERROR(HLOOKUP(Y234,[1]DATA!$A$1:$NB$5,5,0),\"\")","v":"D3"},null,null,null,null,0,"","",""]
["12maDD",{"$f":"VLOOKUP($AA237,DATA!$B$3:$E237,2,0)","v":"06:30:00"},{"$f":"VLOOKUP($AA237,DATA!$B$3:$E237,3,0)","v":"14:30:00"},{"$f":"VLOOKUP($AA237,DATA!$B$3:$E237,4,0)","v":3.125E-2},0.30208333333333331,0.27013888888888887,{"$f":"DATA!$C$9","v":0.89},{"$f":"DATA!$C$10","v":64},1,364.6875,407.8125,3.1944444444444449E-2,43.125000000000007,0.10574712643678162,{"$f":"TIME(INT($AD237/60),INT(MOD($AD237,60)/1),0)","v":0},"","",236.79999999999998,215,"",215,"",null,{"$f":"X247","v":12},{"$f":"Y234+1","v":"2018-03-19"},{"$f":"TEXT(Y237,\"ddd\")","v":"ma"},"DD",{"$f":"IFERROR(HLOOKUP(Y237,[1]DATA!$A$1:$NB$5,3,0),\"\")","v":"D2"},46,null,7,222,30,-177.8125,0.49318996415770611,0.88755622188905559,4359.375,3022,0.69321863799283157,516.5625,0.11849462365591398,0,0,0.94489126534562229,0.95021398848751848,0.9395685422037261,"",820.8125,0.18828673835125445,875.5333333333333,196]
["12maMD",{"$f":"VLOOKUP($AA238,DATA!$B$3:$E238,2,0)","v":"14:30:00"},{"$f":"VLOOKUP($AA238,DATA!$B$3:$E238,3,0)","v":"22:30:00"},{"$f":"VLOOKUP($AA238,DATA!$B$3:$E238,4,0)","v":3.125E-2},0.30208333333333337,0.28333333333333338,{"$f":"DATA!$C$9","v":0.89},{"$f":"DATA!$C$10","v":64},1,382.50000000000006,407.81250000000006,1.8749999999999999E-2,25.3125,6.2068965517241372E-2,{"$f":"TIME(INT(AD238/60),INT(MOD(AD238,60)/1),0)","v":0},"","",283.73333333333335,249,249,"","",null,{"$f":"X247","v":12},null,{"$f":"TEXT(Y237,\"ddd\")","v":"ma"},"MD",{"$f":"IFERROR(HLOOKUP(Y237,[1]DATA!$A$1:$NB$5,4,0),\"\")","v":"D1"},27,null,17,266,15,-161.62499999999994,0.57118279569892483,0.94978799375139478]
["12maND",{"$f":"VLOOKUP($AA239,DATA!$B$3:$E239,2,0)","v":"22:30:00"},{"$f":"VLOOKUP($AA239,DATA!$B$3:$E239,3,0)","v":"06:30:00"},{"$f":"VLOOKUP($AA239,DATA!$B$3:$E239,4,0)","v":3.125E-2},0.30208333333333326,0.30208333333333326,{"$f":"DATA!$C$9","v":0.89},{"$f":"DATA!$C$10","v":64},1,407.81249999999989,407.81249999999989,0,"","",0,"","",0,"","","","",null,{"$f":"X247","v":12},null,{"$f":"TEXT(Y237,\"ddd\")","v":"ma"},"ND",{"$f":"IFERROR(HLOOKUP(Y237,[1]DATA!$A$1:$NB$5,5,0),\"\")","v":"D3"},null,null,null,null,0,"","",""]
[{"$f":"X240&Z240&AA240","v":"12diDD"},{"$f":"VLOOKUP($AA240,DATA!$B$3:$E240,2,0)","v":"06:30:00"},{"$f":"VLOOKUP($AA240,DATA!$B$3:$E240,3,0)","v":"14:30:00"},{"$f":"VLOOKUP($AA240,DATA!$B$3:$E240,4,0)","v":3.125E-2},0.30208333333333331,0.27708333333333329,{"$f":"DATA!$C$9","v":0.89},{"$f":"DATA!$C$10","v":64},1,374.06249999999994,407.8125,2.4999999999999998E-2,33.75,8.2758620689655171E-2,0,{"$f":"IF($O240*86400/$H240=0,\"\",$O240*86400/$H240)","v":""},"",359.46666666666664,315,"",315,"",null,{"$f":"X247","v":12},{"$f":"Y237+1","v":"2018-03-20"},{"$f":"TEXT(Y240,\"ddd\")","v":"di"},"DD",{"$f":"IFERROR(HLOOKUP(Y240,[1]DATA!$A$1:$NB$5,3,0),\"\")","v":"D2"},36,null,22,337,10,-87.1875,0.72258064516129028,0.97293395885961742]
["12diMD",{"$f":"VLOOKUP($AA241,DATA!$B$3:$E241,2,0)","v":"14:30:00"},{"$f":"VLOOKUP($AA241,DATA!$B$3:$E241,3,0)","v":"22:30:00"},{"$f":"VLOOKUP($AA241,DATA!$B$3:$E241,4,0)","v":3.125E-2},0.30208333333333337,0.25972222222222224,{"$f":"DATA!$C$9","v":0.89},{"$f":"DATA!$C$10","v":64},1,350.625,407.81250000000006,4.2361111111111106E-2,57.187499999999993,0.14022988505747122,0,"","",334.93333333333334,297,297,"","",null,{"$f":"X247","v":12},null,{"$f":"TEXT(Y240,\"ddd\")","v":"di"},"MD",{"$f":"IFERROR(HLOOKUP(Y240,[1]DATA!$A$1:$NB$5,4,0),\"\")","v":"D1"},61,null,17,314,40,-81.749999999999943,0.68129032258064526,0.89331436699857758]
["12diND",{"$f":"VLOOKUP($AA242,DATA!$B$3:$E242,2,0)","v":"22:30:00"},{"$f":"VLOOKUP($AA242,DATA!$B$3:$E242,3,0)","v":"06:30:00"},{"$f":"VLOOKUP($AA242,DATA!$B$3:$E242,4,0)","v":3.125E-2},0.30208333333333326,0.30208333333333326,{"$f":"DATA!$C$9","v":0.89},{"$f":"DATA!$C$10","v":64},1,407.81249999999989,407.81249999999989,0,"","",0,"","",0,"","","","",null,{"$f":"X247","v":12},null,{"$f":"TEXT(Y240,\"ddd\")","v":"di"},"ND",{"$f":"IFERROR(HLOOKUP(Y240,[1]DATA!$A$1:$NB$5,5,0),\"\")","v":"D3"},null,null,null,null,0,"","",""]
["12woDD",{"$f":"VLOOKUP($AA243,DATA!$B$3:$E243,2,0)","v":"06:30:00"},{"$f":"VLOOKUP($AA243,DATA!$B$3:$E243,3,0)","v":"14:30:00"},{"$f":"VLOOKUP($AA243,DATA!$B$3:$E243,4,0)","v":3.125E-2},0.30208333333333331,0.27986111111111112,{"$f":"DATA!$C$9","v":0.89},{"$f":"DATA!$C$10","v":64},1,377.8125,407.8125,2.2222222222222223E-2,30,7.3563218390804597E-2,0,"","",414.93333333333334,355,"",355,"",null,{"$f":"X247","v":12},{"$f":"Y240+1","v":"2018-03-21"},{"$f":"TEXT(Y243,\"ddd\")","v":"wo"},"DD",{"$f":"IFERROR(HLOOKUP(Y243,[1]DATA!$A$1:$NB$5,3,0),\"\")","v":"D2"},32,null,34,389,8,-50.937500000000057,0.81433691756272397,0.98108448928121061]
["12woMD",{"$f":"VLOOKUP($AA244,DATA!$B$3:$E244,2,0)","v":"14:30:00"},{"$f":"VLOOKUP($AA244,DATA!$B$3:$E244,3,0)","v":"22:30:00"},{"$f":"VLOOKUP($AA244,DATA!$B$3:$E244,4,0)","v":3.125E-2},0.30208333333333337,0.27222222222222225,{"$f":"DATA!$C$9","v":0.89},{"$f":"DATA!$C$10","v":64},1,367.50000000000006,407.81250000000006,2.9861111111111113E-2,40.3125,9.8850574712643663E-2,0,"","",376.5333333333333,334,334,"","",null,{"$f":"X247","v":12},null,{"$f":"TEXT(Y243,\"ddd\")","v":"wo"},"MD",{"$f":"IFERROR(HLOOKUP(Y243,[1]DATA!$A$1:$NB$5,4,0),\"\")","v":"D1"},43,null,19,353,4,-61.624999999999943,0.76616487455197146,0.9894884372810091]
["12woND",{"$f":"VLOOKUP($AA245,DATA!$B$3:$E245,2,0)","v":"22:30:00"},{"$f":"VLOOKUP($AA245,DATA!$B$3:$E245,3,0)","v":"06:30:00"},{"$f":"VLOOKUP($AA245,DATA!$B$3:$E245,4,0)","v":3.125E-2},0.30208333333333326,0.30208333333333326,{"$f":"DATA!$C$9","v":0.89},{"$f":"DATA!$C$10","v":64},1,407.81249999999989,407.81249999999989,0,"","",0,"","",0,"","","","",null,{"$f":"X247","v":12},null,{"$f":"TEXT(Y243,\"ddd\")","v":"wo"},"ND",{"$f":"IFERROR(HLOOKUP(Y243,[1]DATA!$A$1:$NB$5,5,0),\"\")","v":"D3"},null,null,null,null,0,"","",""]
["12doDD",{"$f":"VLOOKUP($AA246,DATA!$B$3:$E246,2,0)","v":"06:30:00"},{"$f":"VLOOKUP($AA246,DATA!$B$3:$E246,3,0)","v":"14:30:00"},{"$f":"VLOOKUP($AA246,DATA!$B$3:$E246,4,0)","v":3.125E-2},0.30208333333333331,0.25138888888888888,{"$f":"DATA!$C$9","v":0.89},{"$f":"DATA!$C$10","v":64},1,339.375,407.8125,5.0694444444444452E-2,68.437500000000014,0.16781609195402303,0,"","",375.46666666666664,315,"",315,"",null,{"$f":"X247","v":12},{"$f":"Y243+1","v":"2018-03-22"},{"$f":"TEXT(Y246,\"ddd\")","v":"do"},"DD",{"$f":"IFERROR(HLOOKUP(Y246,[1]DATA!$A$1:$NB$5,3,0),\"\")","v":"D2"},73,null,37,352,11,-52.500000000000057,0.72258064516129028,0.97153700189753323]
["12doMD",{"$f":"VLOOKUP($AA247,DATA!$B$3:$E247,2,0)","v":"14:30:00"},{"$f":"VLOOKUP($AA247,DATA!$B$3:$E247,3,0)","v":"22:30:00"},{"$f":"VLOOKUP($AA247,DATA!$B$3:$E247,4,0)","v":3.125E-2},0.30208333333333337,0.25625000000000003,{"$f":"DATA!$C$9","v":0.89},{"$f":"DATA!$C$10","v":64},1,345.93750000000006,407.81250000000006,4.5833333333333337E-2,61.875000000000007,0.15172413793103448,0,"","",359.46666666666664,318,318,"","",null,{"$f":"WEEKNUM($Y237)","v":12},null,{"$f":"TEXT(Y246,\"ddd\")","v":"do"},"MD",{"$f":"IFERROR(HLOOKUP(Y246,[1]DATA!$A$1:$NB$5,4,0),\"\")","v":"D1"},66,null,19,337,2,-56.062499999999943,0.72946236559139799,0.99446698635189967]
["12doND",{"$f":"VLOOKUP($AA248,DATA!$B$3:$E248,2,0)","v":"22:30:00"},{"$f":"VLOOKUP($AA248,DATA!$B$3:$E248,3,0)","v":"06:30:00"},{"$f":"VLOOKUP($AA248,DATA!$B$3:$E248,4,0)","v":3.125E-2},0.30208333333333326,0.30208333333333326,{"$f":"DATA!$C$9","v":0.89},{"$f":"DATA!$C$10","v":64},1,407.81249999999989,407.81249999999989,0,"","",0,"","",0,"","","","",null,{"$f":"X247","v":12},null,{"$f":"TEXT(Y246,\"ddd\")","v":"do"},"ND",{"$f":"IFERROR(HLOOKUP(Y246,[1]DATA!$A$1:$NB$5,5,0),\"\")","v":"D3"},null,null,null,null,0,"","",""]
["12vrDD",{"$f":"VLOOKUP($AA249,DATA!$B$3:$E249,2,0)","v":"06:30:00"},{"$f":"VLOOKUP($AA249,DATA!$B$3:$E249,3,0)","v":"14:30:00"},{"$f":"VLOOKUP($AA249,DATA!$B$3:$E249,4,0)","v":3.125E-2},0.30208333333333331,0.22847222222222219,{"$f":"DATA!$C$9","v":0.89},{"$f":"DATA!$C$10","v":64},1,308.43749999999994,407.8125,7.3611111111111113E-2,99.375,0.24367816091954023,0,"","",353.06666666666666,302,"",302,"",null,{"$f":"X247","v":12},{"$f":"Y246+1","v":"2018-03-23"},{"$f":"TEXT(Y249,\"ddd\")","v":"vr"},"DD",{"$f":"IFERROR(HLOOKUP(Y249,[1]DATA!$A$1:$NB$5,3,0),\"\")","v":"D2"},106,null,29,331,46,-34.5625,0.6927598566308244,0.88473103909121287]
["12vrMD",{"$f":"VLOOKUP($AA250,DATA!$B$3:$E250,2,0)","v":"14:30:00"},{"$f":"VLOOKUP($AA250,DATA!$B$3:$E250,3,0)","v":"22:30:00"},{"$f":"VLOOKUP($AA250,DATA!$B$3:$E250,4,0)","v":3.125E-2},0.30208333333333337,0.25972222222222224,{"$f":"DATA!$C$9","v":0.89},{"$f":"DATA!$C$10","v":64},1,350.625,407.81250000000006,4.2361111111111106E-2,57.187499999999993,0.14022988505747122,0,"","",364.8,322,322,"","",null,{"$f":"X247","v":12},null,{"$f":"TEXT(Y249,\"ddd\")","v":"vr"},"MD",{"$f":"IFERROR(HLOOKUP(Y249,[1]DATA!$A$1:$NB$5,4,0),\"\")","v":"D1"},61,null,20,342,30,-56.749999999999943,0.7386379928315413,0.92401215805471126]
["12vrND",{"$f":"VLOOKUP($AA251,DATA!$B$3:$E251,2,0)","v":"22:30:00"},{"$f":"VLOOKUP($AA251,DATA!$B$3:$E251,3,0)","v":"06:30:00"},{"$f":"VLOOKUP($AA251,DATA!$B$3:$E251,4,0)","v":3.125E-2},0.30208333333333326,0.30208333333333326,{"$f":"DATA!$C$9","v":0.89},{"$f":"DATA!$C$10","v":64},1,407.81249999999989,407.81249999999989,0,"","",0,"","",0,"","","","",null,{"$f":"X247","v":12},null,{"$f":"TEXT(Y249,\"ddd\")","v":"vr"},"ND",{"$f":"IFERROR(HLOOKUP(Y249,[1]DATA!$A$1:$NB$5,5,0),\"\")","v":"-"},null,null,null,null,0,"","",""]
["12zaDD",{"$f":"VLOOKUP($AA252,DATA!$B$3:$E252,2,0)","v":"06:30:00"},{"$f":"VLOOKUP($AA252,DATA!$B$3:$E252,3,0)","v":"14:30:00"},{"$f":"VLOOKUP($AA252,DATA!$B$3:$E252,4,0)","v":3.125E-2},0.30208333333333331,0.30208333333333331,{"$f":"DATA!$C$9","v":0.89},{"$f":"DATA!$C$10","v":64},1,407.8125,407.8125,0,"","",0,"","",0,"","","","",null,{"$f":"X247","v":12},{"$f":"Y249+1","v":"2018-03-24"},{"$f":"TEXT(Y252,\"ddd\")","v":"za"},"DD",{"$f":"IFERROR(HLOOKUP(Y252,[1]DATA!$A$1:$NB$5,3,0),\"\")","v":"-"},null,null,null,null,0,"","",""]
["12zaMD",{"$f":"VLOOKUP($AA253,DATA!$B$3:$E253,2,0)","v":"14:30:00"},{"$f":"VLOOKUP($AA253,DATA!$B$3:$E253,3,0)","v":"22:30:00"},{"$f":"VLOOKUP($AA253,DATA!$B$3:$E253,4,0)","v":3.125E-2},0.30208333333333337,0.30208333333333337,{"$f":"DATA!$C$9","v":0.89},{"$f":"DATA!$C$10","v":64},1,407.81250000000006,407.81250000000006,0,"","",0,"","",0,"","","","",null,{"$f":"X247","v":12},null,{"$f":"TEXT(Y252,\"ddd\")","v":"za"},"MD",{"$f":"IFERROR(HLOOKUP(Y252,[1]DATA!$A$1:$NB$5,4,0),\"\")","v":"-"},null,null,null,null,0,"","",""]
["12zaND",{"$f":"VLOOKUP($AA254,DATA!$B$3:$E254,2,0)","v":"22:30:00"},{"$f":"VLOOKUP($AA254,DATA!$B$3:$E254,3,0)","v":"06:30:00"},{"$f":"VLOOKUP($AA254,DATA!$B$3:$E254,4,0)","v":3.125E-2},0.30208333333333326,0.30208333333333326,{"$f":"DATA!$C$9","v":0.89},{"$f":"DATA!$C$10","v":64},1,407.81249999999989,407.81249999999989,0,"","",0,"","",0,"","","","",null,{"$f":"X247","v":12},null,{"$f":"TEXT(Y252,\"ddd\")","v":"za"},"ND",{"$f":"IFERROR(HLOOKUP(Y252,[1]DATA!$A$1:$NB$5,5,0),\"\")","v":"-"},null,null,null,null,0,"","",""]
["12zoDD",{"$f":"VLOOKUP($AA255,DATA!$B$3:$E255,2,0)","v":"06:30:00"},{"$f":"VLOOKUP($AA255,DATA!$B$3:$E255,3,0)","v":"14:30:00"},{"$f":"VLOOKUP($AA255,DATA!$B$3:$E255,4,0)","v":3.125E-2},0.30208333333333331,0.30208333333333331,{"$f":"DATA!$C$9","v":0.89},{"$f":"DATA!$C$10","v":64},1,407.8125,407.8125,0,"","",0,"","",0,"","","","",null,{"$f":"X247","v":12},{"$f":"Y252+1","v":"2018-03-25"},{"$f":"TEXT(Y255,\"ddd\")","v":"zo"},"DD",{"$f":"IFERROR(HLOOKUP(Y255,[1]DATA!$A$1:$NB$5,3,0),\"\")","v":"-"},null,null,null,null,0,"","",""]
["12zoMD",{"$f":"VLOOKUP($AA256,DATA!$B$3:$E256,2,0)","v":"14:30:00"},{"$f":"VLOOKUP($AA256,DATA!$B$3:$E256,3,0)","v":"22:30:00"},{"$f":"VLOOKUP($AA256,DATA!$B$3:$E256,4,0)","v":3.125E-2},0.30208333333333337,0.30208333333333337,{"$f":"DATA!$C$9","v":0.89},{"$f":"DATA!$C$10","v":64},1,407.81250000000006,407.81250000000006,0,"","",0,"","",0,"","","","",null,{"$f":"X247","v":12},null,{"$f":"TEXT(Y255,\"ddd\")","v":"zo"},"MD",{"$f":"IFERROR(HLOOKUP(Y255,[1]DATA!$A$1:$NB$5,4,0),\"\")","v":"-"},null,null,null,null,0,"","",""]
["12zoZND",{"$f":"VLOOKUP($AA257,DATA!$B$3:$E257,2,0)","v":"00:00:00"},{"$f":"VLOOKUP($AA257,DATA!$B$3:$E257,3,0)","v":"00:00:00"},{"$f":"VLOOKUP($AA257,DATA!$B$3:$E257,4,0)","v":0},0,0,{"$f":"DATA!$C$9","v":0.89},{"$f":"DATA!$C$10","v":64},1,0,0,0,"","",0,"","",0,"","","","",null,{"$f":"X247","v":12},null,{"$f":"TEXT(Y255,\"ddd\")","v":"zo"},"ZND",{"$f":"IFERROR(HLOOKUP(Y255,[1]DATA!$A$1:$NB$5,5,0),\"\")","v":"D2"},null,null,null,null,0,"","",""]
["13maDD",{"$f":"VLOOKUP($AA258,DATA!$B$3:$E258,2,0)","v":"06:30:00"},{"$f":"VLOOKUP($AA258,DATA!$B$3:$E258,3,0)","v":"14:30:00"},{"$f":"VLOOKUP($AA258,DATA!$B$3:$E258,4,0)","v":3.125E-2},0.30208333333333331,0.30208333333333331,{"$f":"DATA!$C$9","v":0.89},{"$f":"DATA!$C$10","v":64},1,407.8125,407.8125,0,"","",{"$f":"TIME(INT($AD258/60),INT(MOD($AD258,60)/1),0)","v":0},"","",355.2,333,333,"","",null,{"$f":"X268","v":13},{"$f":"Y255+1","v":"2018-03-26"},{"$f":"TEXT(Y258,\"ddd\")","v":"ma"},"DD",{"$f":"IFERROR(HLOOKUP(Y258,[1]DATA!$A$1:$NB$5,3,0),\"\")","v":"D1"},null,null,null,333,0,-102.9375,0.76387096774193552,1,4359.375,3417,0.78382795698924734,"0",0,0,0,0.94988034785776887,0.96864568339496893,"",0.93111501232056848,942.375,0.21617204301075266,1005.2,203]
["13maMD",{"$f":"VLOOKUP($AA259,DATA!$B$3:$E259,2,0)","v":"14:30:00"},{"$f":"VLOOKUP($AA259,DATA!$B$3:$E259,3,0)","v":"22:30:00"},{"$f":"VLOOKUP($AA259,DATA!$B$3:$E259,4,0)","v":3.125E-2},0.30208333333333337,0.30208333333333337,{"$f":"DATA!$C$9","v":0.89},{"$f":"DATA!$C$10","v":64},1,407.81250000000006,407.81250000000006,0,"","",{"$f":"TIME(INT(AD259/60),INT(MOD(AD259,60)/1),0)","v":0},"","",341.33333333333331,320,"","",320,null,{"$f":"X268","v":13},null,{"$f":"TEXT(Y258,\"ddd\")","v":"ma"},"MD",{"$f":"IFERROR(HLOOKUP(Y258,[1]DATA!$A$1:$NB$5,4,0),\"\")","v":"D3"},null,null,null,320,16,-115.93749999999994,0.73405017921146964,0.95522388059701491]
["13maND",{"$f":"VLOOKUP($AA260,DATA!$B$3:$E260,2,0)","v":"22:30:00"},{"$f":"VLOOKUP($AA260,DATA!$B$3:$E260,3,0)","v":"06:30:00"},{"$f":"VLOOKUP($AA260,DATA!$B$3:$E260,4,0)","v":3.125E-2},0.30208333333333326,0.30208333333333326,{"$f":"DATA!$C$9","v":0.89},{"$f":"DATA!$C$10","v":64},1,407.81249999999989,407.81249999999989,0,"","",0,"","",0,"","","","",null,{"$f":"X268","v":13},null,{"$f":"TEXT(Y258,\"ddd\")","v":"ma"},"ND",{"$f":"IFERROR(HLOOKUP(Y258,[1]DATA!$A$1:$NB$5,5,0),\"\")","v":"D2"},null,null,null,null,0,"","",""]
["13diDD",{"$f":"VLOOKUP($AA261,DATA!$B$3:$E261,2,0)","v":"06:30:00"},{"$f":"VLOOKUP($AA261,DATA!$B$3:$E261,3,0)","v":"14:30:00"},{"$f":"VLOOKUP($AA261,DATA!$B$3:$E261,4,0)","v":3.125E-2},0.30208333333333331,0.30208333333333331,{"$f":"DATA!$C$9","v":0.89},{"$f":"DATA!$C$10","v":64},1,407.8125,407.8125,0,"","",0,"","",340.26666666666665,319,319,"","",null,{"$f":"X268","v":13},{"$f":"Y258+1","v":"2018-03-27"},{"$f":"TEXT(Y261,\"ddd\")","v":"di"},"DD",{"$f":"IFERROR(HLOOKUP(Y261,[1]DATA!$A$1:$NB$5,3,0),\"\")","v":"D1"},null,null,null,319,0,-116.9375,0.7317562724014337,1]
["13diMD",{"$f":"VLOOKUP($AA262,DATA!$B$3:$E262,2,0)","v":"14:30:00"},{"$f":"VLOOKUP($AA262,DATA!$B$3:$E262,3,0)","v":"22:30:00"},{"$f":"VLOOKUP($AA262,DATA!$B$3:$E262,4,0)","v":3.125E-2},0.30208333333333337,0.30208333333333337,{"$f":"DATA!$C$9","v":0.89},{"$f":"DATA!$C$10","v":64},1,{"$f":"F262*86400/H262*I262","v":407.81250000000006},{"$f":"E262*86400/H262","v":407.81250000000006},0,"","",0,"","",{"$f":"AF262*AG$2","v":332.8},{"$f":"IF(AF262-AE262=0,\"\",AF262-AE262)","v":312},"","",312,null,{"$f":"X268","v":13},null,{"$f":"TEXT(Y261,\"ddd\")","v":"di"},"MD",{"$f":"IFERROR(HLOOKUP(Y261,[1]DATA!$A$1:$NB$5,4,0),\"\")","v":"D3"},null,null,null,312,29,-123.93749999999994,0.71569892473118291,0.91984521835268107]
["13diND",{"$f":"VLOOKUP($AA263,DATA!$B$3:$E263,2,0)","v":"22:30:00"},{"$f":"VLOOKUP($AA263,DATA!$B$3:$E263,3,0)","v":"06:30:00"},{"$f":"VLOOKUP($AA263,DATA!$B$3:$E263,4,0)","v":3.125E-2},0.30208333333333326,0.30208333333333326,{"$f":"DATA!$C$9","v":0.89},{"$f":"DATA!$C$10","v":64},1,407.81249999999989,407.81249999999989,{"$f":"TIME(INT($AC263/60),INT(MOD($AC263,60)/1),0)","v":0},{"$f":"IF($L263*86400/$H263=0,\"\",$L263*86400/$H263)","v":""},{"$f":"IFERROR($M263/$K263,\"\")","v":""},0,"",{"$f":"IFERROR($P263/$K263,\"\")","v":""},0,"",{"$f":"IF(IF($AB263=\"D1\",$S263,\"\")=0,\"\",IF($AB263=\"D1\",$S263,\"\"))","v":""},{"$f":"IF(IF($AB263=\"D2\",$S263,\"\")=0,\"\",IF($AB263=\"D2\",$S263,\"\"))","v":""},{"$f":"IF(IF($AB263=\"D3\",$S263,\"\")=0,\"\",IF($AB263=\"D3\",$S263,\"\"))","v":""},null,{"$f":"X268","v":13},null,{"$f":"TEXT(Y261,\"ddd\")","v":"di"},"ND",{"$f":"IFERROR(HLOOKUP(Y261,[1]DATA!$A$1:$NB$5,5,0),\"\")","v":"D2"},null,null,null,null,0,"","",""]
["13woDD",{"$f":"VLOOKUP($AA264,DATA!$B$3:$E264,2,0)","v":"06:30:00"},{"$f":"VLOOKUP($AA264,DATA!$B$3:$E264,3,0)","v":"14:30:00"},{"$f":"VLOOKUP($AA264,DATA!$B$3:$E264,4,0)","v":3.125E-2},0.30208333333333331,0.30208333333333331,{"$f":"DATA!$C$9","v":0.89},{"$f":"DATA!$C$10","v":64},1,407.8125,407.8125,0,"","",0,"","",395.73333333333335,371,371,"","",null,{"$f":"X268","v":13},{"$f":"Y261+1","v":"2018-03-28"},{"$f":"TEXT(Y264,\"ddd\")","v":"wo"},"DD",{"$f":"IFERROR(HLOOKUP(Y264,[1]DATA!$A$1:$NB$5,3,0),\"\")","v":"D1"},null,null,null,371,16,-64.9375,0.85103942652329745,0.96113989637305697]
["13woMD",{"$f":"VLOOKUP($AA265,DATA!$B$3:$E265,2,0)","v":"14:30:00"},{"$f":"VLOOKUP($AA265,DATA!$B$3:$E265,3,0)","v":"22:30:00"},{"$f":"VLOOKUP($AA265,DATA!$B$3:$E265,4,0)","v":3.125E-2},0.30208333333333337,0.30208333333333337,{"$f":"DATA!$C$9","v":0.89},{"$f":"DATA!$C$10","v":64},1,407.81250000000006,407.81250000000006,0,"","",0,"","",318.93333333333334,299,"","",299,null,{"$f":"X268","v":13},null,{"$f":"TEXT(Y264,\"ddd\")","v":"wo"},"MD",{"$f":"IFERROR(HLOOKUP(Y264,[1]DATA!$A$1:$NB$5,4,0),\"\")","v":"D3"},null,null,null,299,5,-136.93749999999994,0.68587813620071691,0.98456472525210947]
["13woND",{"$f":"VLOOKUP($AA266,DATA!$B$3:$E266,2,0)","v":"22:30:00"},{"$f":"VLOOKUP($AA266,DATA!$B$3:$E266,3,0)","v":"06:30:00"},{"$f":"VLOOKUP($AA266,DATA!$B$3:$E266,4,0)","v":3.125E-2},0.30208333333333326,0.30208333333333326,{"$f":"DATA!$C$9","v":0.89},{"$f":"DATA!$C$10","v":64},1,407.81249999999989,407.81249999999989,0,"","",0,"","",0,"","","","",null,{"$f":"X268","v":13},null,{"$f":"TEXT(Y264,\"ddd\")","v":"wo"},"ND",{"$f":"IFERROR(HLOOKUP(Y264,[1]DATA!$A$1:$NB$5,5,0),\"\")","v":"D2"},null,null,null,null,0,"","",""]
["13doDD",{"$f":"VLOOKUP($AA267,DATA!$B$3:$E267,2,0)","v":"06:30:00"},{"$f":"VLOOKUP($AA267,DATA!$B$3:$E267,3,0)","v":"14:30:00"},{"$f":"VLOOKUP($AA267,DATA!$B$3:$E267,4,0)","v":3.125E-2},0.30208333333333331,0.30208333333333331,{"$f":"DATA!$C$9","v":0.89},{"$f":"DATA!$C$10","v":64},1,407.8125,407.8125,0,"","",0,"","",419.2,393,393,"","",null,{"$f":"X268","v":13},{"$f":"Y264+1","v":"2018-03-29"},{"$f":"TEXT(Y267,\"ddd\")","v":"do"},"DD",{"$f":"IFERROR(HLOOKUP(Y267,[1]DATA!$A$1:$NB$5,3,0),\"\")","v":"D1"},null,null,null,393,9,-42.9375,0.90150537634408601,0.97898178421298454]
["13doMD",{"$f":"VLOOKUP($AA268,DATA!$B$3:$E268,2,0)","v":"14:30:00"},{"$f":"VLOOKUP($AA268,DATA!$B$3:$E268,3,0)","v":"22:30:00"},{"$f":"VLOOKUP($AA268,DATA!$B$3:$E268,4,0)","v":3.125E-2},0.30208333333333337,0.30208333333333337,{"$f":"DATA!$C$9","v":0.89},{"$f":"DATA!$C$10","v":64},1,407.81250000000006,407.81250000000006,0,"","",0,"","",397.86666666666667,373,"","",373,null,{"$f":"WEEKNUM($Y258)","v":13},null,{"$f":"TEXT(Y267,\"ddd\")","v":"do"},"MD",{"$f":"IFERROR(HLOOKUP(Y267,[1]DATA!$A$1:$NB$5,4,0),\"\")","v":"D3"},null,null,null,373,51,-62.937499999999943,0.85562724014336933,0.88638051388682604]
["13doND",{"$f":"VLOOKUP($AA269,DATA!$B$3:$E269,2,0)","v":"22:30:00"},{"$f":"VLOOKUP($AA269,DATA!$B$3:$E269,3,0)","v":"06:30:00"},{"$f":"VLOOKUP($AA269,DATA!$B$3:$E269,4,0)","v":3.125E-2},0.30208333333333326,0.30208333333333326,{"$f":"DATA!$C$9","v":0.89},{"$f":"DATA!$C$10","v":64},1,407.81249999999989,407.81249999999989,0,"","",0,"","",0,"","","","",null,{"$f":"X268","v":13},null,{"$f":"TEXT(Y267,\"ddd\")","v":"do"},"ND",{"$f":"IFERROR(HLOOKUP(Y267,[1]DATA!$A$1:$NB$5,5,0),\"\")","v":"D2"},null,null,null,null,0,"","",""]
["13vrDD",{"$f":"VLOOKUP($AA270,DATA!$B$3:$E270,2,0)","v":"06:30:00"},{"$f":"VLOOKUP($AA270,DATA!$B$3:$E270,3,0)","v":"14:30:00"},{"$f":"VLOOKUP($AA270,DATA!$B$3:$E270,4,0)","v":3.125E-2},0.30208333333333331,0.30208333333333331,{"$f":"DATA!$C$9","v":0.89},{"$f":"DATA!$C$10","v":64},1,407.8125,407.8125,0,"","",0,"","",391.46666666666664,367,367,"","",null,{"$f":"X268","v":13},{"$f":"Y267+1","v":"2018-03-30"},{"$f":"TEXT(Y270,\"ddd\")","v":"vr"},"DD",{"$f":"IFERROR(HLOOKUP(Y270,[1]DATA!$A$1:$NB$5,3,0),\"\")","v":"D1"},null,null,null,367,42,-68.9375,0.84186379928315414,0.90310673638880345]
["13vrMD",{"$f":"VLOOKUP($AA271,DATA!$B$3:$E271,2,0)","v":"14:30:00"},{"$f":"VLOOKUP($AA271,DATA!$B$3:$E271,3,0)","v":"22:30:00"},{"$f":"VLOOKUP($AA271,DATA!$B$3:$E271,4,0)","v":3.125E-2},0.30208333333333337,0.30208333333333337,{"$f":"DATA!$C$9","v":0.89},{"$f":"DATA!$C$10","v":64},1,407.81250000000006,407.81250000000006,0,"","",0,"","",352,330,"","",330,null,{"$f":"X268","v":13},null,{"$f":"TEXT(Y270,\"ddd\")","v":"vr"},"MD",{"$f":"IFERROR(HLOOKUP(Y270,[1]DATA!$A$1:$NB$5,4,0),\"\")","v":"D3"},null,null,null,330,35,-105.93749999999994,0.75698924731182804,0.90956072351421191]
["13vrND",{"$f":"VLOOKUP($AA272,DATA!$B$3:$E272,2,0)","v":"22:30:00"},{"$f":"VLOOKUP($AA272,DATA!$B$3:$E272,3,0)","v":"06:30:00"},{"$f":"VLOOKUP($AA272,DATA!$B$3:$E272,4,0)","v":3.125E-2},0.30208333333333326,0.30208333333333326,{"$f":"DATA!$C$9","v":0.89},{"$f":"DATA!$C$10","v":64},1,407.81249999999989,407.81249999999989,0,"","",0,"","",0,"","","","",null,{"$f":"X268","v":13},null,{"$f":"TEXT(Y270,\"ddd\")","v":"vr"},"ND",{"$f":"IFERROR(HLOOKUP(Y270,[1]DATA!$A$1:$NB$5,5,0),\"\")","v":"-"},null,null,null,null,0,"","",""]
["13zaDD",{"$f":"VLOOKUP($AA273,DATA!$B$3:$E273,2,0)","v":"06:30:00"},{"$f":"VLOOKUP($AA273,DATA!$B$3:$E273,3,0)","v":"14:30:00"},{"$f":"VLOOKUP($AA273,DATA!$B$3:$E273,4,0)","v":3.125E-2},0.30208333333333331,0.30208333333333331,{"$f":"DATA!$C$9","v":0.89},{"$f":"DATA!$C$10","v":64},1,407.8125,407.8125,0,"","",0,"","",0,"","","","",null,{"$f":"X268","v":13},{"$f":"Y270+1","v":"2018-03-31"},{"$f":"TEXT(Y273,\"ddd\")","v":"za"},"DD",{"$f":"IFERROR(HLOOKUP(Y273,[1]DATA!$A$1:$NB$5,3,0),\"\")","v":"-"},null,null,null,null,0,"","",""]
["13zaMD",{"$f":"VLOOKUP($AA274,DATA!$B$3:$E274,2,0)","v":"14:30:00"},{"$f":"VLOOKUP($AA274,DATA!$B$3:$E274,3,0)","v":"22:30:00"},{"$f":"VLOOKUP($AA274,DATA!$B$3:$E274,4,0)","v":3.125E-2},0.30208333333333337,0.30208333333333337,{"$f":"DATA!$C$9","v":0.89},{"$f":"DATA!$C$10","v":64},1,407.81250000000006,407.81250000000006,0,"","",0,"","",0,"","","","",null,{"$f":"X268","v":13},null,{"$f":"TEXT(Y273,\"ddd\")","v":"za"},"MD",{"$f":"IFERROR(HLOOKUP(Y273,[1]DATA!$A$1:$NB$5,4,0),\"\")","v":"-"},null,null,null,null,0,"","",""]
["13zaND",{"$f":"VLOOKUP($AA275,DATA!$B$3:$E275,2,0)","v":"22:30:00"},{"$f":"VLOOKUP($AA275,DATA!$B$3:$E275,3,0)","v":"06:30:00"},{"$f":"VLOOKUP($AA275,DATA!$B$3:$E275,4,0)","v":3.125E-2},0.30208333333333326,0.30208333333333326,{"$f":"DATA!$C$9","v":0.89},{"$f":"DATA!$C$10","v":64},1,407.81249999999989,407.81249999999989,0,"","",0,"","",0,"","","","",null,{"$f":"X268","v":13},null,{"$f":"TEXT(Y273,\"ddd\")","v":"za"},"ND",{"$f":"IFERROR(HLOOKUP(Y273,[1]DATA!$A$1:$NB$5,5,0),\"\")","v":"-"},null,null,null,null,0,"","",""]
["13zoDD",{"$f":"VLOOKUP($AA276,DATA!$B$3:$E276,2,0)","v":"06:30:00"},{"$f":"VLOOKUP($AA276,DATA!$B$3:$E276,3,0)","v":"14:30:00"},{"$f":"VLOOKUP($AA276,DATA!$B$3:$E276,4,0)","v":3.125E-2},0.30208333333333331,0.30208333333333331,{"$f":"DATA!$C$9","v":0.89},{"$f":"DATA!$C$10","v":64},1,407.8125,407.8125,0,"","",0,"","",0,"","","","",null,{"$f":"X268","v":13},{"$f":"Y273+1","v":"2018-04-01"},{"$f":"TEXT(Y276,\"ddd\")","v":"zo"},"DD",{"$f":"IFERROR(HLOOKUP(Y276,[1]DATA!$A$1:$NB$5,3,0),\"\")","v":"-"},null,null,null,null,0,"","",""]
["13zoMD",{"$f":"VLOOKUP($AA277,DATA!$B$3:$E277,2,0)","v":"14:30:00"},{"$f":"VLOOKUP($AA277,DATA!$B$3:$E277,3,0)","v":"22:30:00"},{"$f":"VLOOKUP($AA277,DATA!$B$3:$E277,4,0)","v":3.125E-2},0.30208333333333337,0.30208333333333337,{"$f":"DATA!$C$9","v":0.89},{"$f":"DATA!$C$10","v":64},1,407.81250000000006,407.81250000000006,0,"","",0,"","",0,"","","","",null,{"$f":"X268","v":13},null,{"$f":"TEXT(Y276,\"ddd\")","v":"zo"},"MD",{"$f":"IFERROR(HLOOKUP(Y276,[1]DATA!$A$1:$NB$5,4,0),\"\")","v":"-"},null,null,null,null,0,"","",""]
["13zoZND",{"$f":"VLOOKUP($AA278,DATA!$B$3:$E278,2,0)","v":"00:00:00"},{"$f":"VLOOKUP($AA278,DATA!$B$3:$E278,3,0)","v":"00:00:00"},{"$f":"VLOOKUP($AA278,DATA!$B$3:$E278,4,0)","v":0},0,0,{"$f":"DATA!$C$9","v":0.89},{"$f":"DATA!$C$10","v":64},1,0,0,0,"","",0,"","",0,"","","","",null,{"$f":"X268","v":13},null,{"$f":"TEXT(Y276,\"ddd\")","v":"zo"},"ZND",{"$f":"IFERROR(HLOOKUP(Y276,[1]DATA!$A$1:$NB$5,5,0),\"\")","v":"-"},null,null,null,null,0,"","",""]
["14maDD",{"$f":"VLOOKUP($AA279,DATA!$B$3:$E279,2,0)","v":"06:30:00"},{"$f":"VLOOKUP($AA279,DATA!$B$3:$E279,3,0)","v":"14:30:00"},{"$f":"VLOOKUP($AA279,DATA!$B$3:$E279,4,0)","v":3.125E-2},0.30208333333333331,0.30208333333333331,{"$f":"DATA!$C$9","v":0.89},{"$f":"DATA!$C$10","v":64},1,407.8125,407.8125,0,"","",{"$f":"TIME(INT($AD279/60),INT(MOD($AD279,60)/1),0)","v":0},"","",0,"","","","",null,{"$f":"X289","v":14},{"$f":"Y276+1","v":"2018-04-02"},{"$f":"TEXT(Y279,\"ddd\")","v":"ma"},"DD",{"$f":"IFERROR(HLOOKUP(Y279,[1]DATA!$A$1:$NB$5,3,0),\"\")","v":"D3"},null,null,null,0,0,"","","",3487.5,2446,0.70136200716845876,563.4375,0.16155913978494624,0,0,0.89409227139841896,"",0.88982841959290715,0.89835612320393055,478.0625,0.13707885304659501,509.93333333333334,356]
["14maMD",{"$f":"VLOOKUP($AA280,DATA!$B$3:$E280,2,0)","v":"14:30:00"},{"$f":"VLOOKUP($AA280,DATA!$B$3:$E280,3,0)","v":"22:30:00"},{"$f":"VLOOKUP($AA280,DATA!$B$3:$E280,4,0)","v":3.125E-2},0.30208333333333337,0.30208333333333337,{"$f":"DATA!$C$9","v":0.89},{"$f":"DATA!$C$10","v":64},1,407.81250000000006,407.81250000000006,0,"","",{"$f":"TIME(INT(AD280/60),INT(MOD(AD280,60)/1),0)","v":0},"","",0,"","","","",null,{"$f":"X289","v":14},null,{"$f":"TEXT(Y279,\"ddd\")","v":"ma"},"MD",{"$f":"IFERROR(HLOOKUP(Y279,[1]DATA!$A$1:$NB$5,4,0),\"\")","v":"D2"},null,null,null,0,0,"","",""]
["14maND",{"$f":"VLOOKUP($AA281,DATA!$B$3:$E281,2,0)","v":"22:30:00"},{"$f":"VLOOKUP($AA281,DATA!$B$3:$E281,3,0)","v":"06:30:00"},{"$f":"VLOOKUP($AA281,DATA!$B$3:$E281,4,0)","v":3.125E-2},0.30208333333333326,0.30208333333333326,{"$f":"DATA!$C$9","v":0.89},{"$f":"DATA!$C$10","v":64},1,407.81249999999989,407.81249999999989,0,"","",0,"","",0,"","","","",null,{"$f":"X289","v":14},null,{"$f":"TEXT(Y279,\"ddd\")","v":"ma"},"ND",{"$f":"IFERROR(HLOOKUP(Y279,[1]DATA!$A$1:$NB$5,5,0),\"\")","v":"D1"},null,null,null,null,0,"","",""]
["14diDD",{"$f":"VLOOKUP($AA282,DATA!$B$3:$E282,2,0)","v":"06:30:00"},{"$f":"VLOOKUP($AA282,DATA!$B$3:$E282,3,0)","v":"14:30:00"},{"$f":"VLOOKUP($AA282,DATA!$B$3:$E282,4,0)","v":3.125E-2},0.30208333333333331,0.23541666666666666,{"$f":"DATA!$C$9","v":0.89},{"$f":"DATA!$C$10","v":64},1,317.8125,407.8125,6.6666666666666666E-2,90,0.22068965517241379,0,"","",323.2,290,"","",290,null,{"$f":"X289","v":14},{"$f":"Y279+1","v":"2018-04-03"},{"$f":"TEXT(Y282,\"ddd\")","v":"di"},"DD",{"$f":"IFERROR(HLOOKUP(Y282,[1]DATA!$A$1:$NB$5,3,0),\"\")","v":"D3"},96,null,13,303,29,-55.937500000000057,0.66523297491039424,0.91766042021578653]
["14diMD",{"$f":"VLOOKUP($AA283,DATA!$B$3:$E283,2,0)","v":"14:30:00"},{"$f":"VLOOKUP($AA283,DATA!$B$3:$E283,3,0)","v":"22:30:00"},{"$f":"VLOOKUP($AA283,DATA!$B$3:$E283,4,0)","v":3.125E-2},0.30208333333333337,0.24444444444444449,{"$f":"DATA!$C$9","v":0.89},{"$f":"DATA!$C$10","v":64},1,330.00000000000006,407.81250000000006,5.7638888888888885E-2,77.8125,0.19080459770114941,0,"","",265.60000000000002,244,"",244,"",null,{"$f":"X289","v":14},null,{"$f":"TEXT(Y282,\"ddd\")","v":"di"},"MD",{"$f":"IFERROR(HLOOKUP(Y282,[1]DATA!$A$1:$NB$5,4,0),\"\")","v":"D2"},83,null,5,249,30,-114.12499999999994,0.55971326164874557,0.89851150202976993]
["14diND",{"$f":"VLOOKUP($AA284,DATA!$B$3:$E284,2,0)","v":"22:30:00"},{"$f":"VLOOKUP($AA284,DATA!$B$3:$E284,3,0)","v":"06:30:00"},{"$f":"VLOOKUP($AA284,DATA!$B$3:$E284,4,0)","v":3.125E-2},{"$f":"(C284-B284+(B284>C284))-D284","v":0.30208333333333326},{"$f":"E284-O284-L284","v":0.30208333333333326},{"$f":"DATA!$C$9","v":0.89},{"$f":"DATA!$C$10","v":64},1,407.81249999999989,407.81249999999989,0,"","",0,"","",0,"","","","",null,{"$f":"X289","v":14},null,{"$f":"TEXT(Y282,\"ddd\")","v":"di"},"ND",{"$f":"IFERROR(HLOOKUP(Y282,[1]DATA!$A$1:$NB$5,5,0),\"\")","v":"D1"},null,null,null,null,0,"","",""]
["14woDD",{"$f":"VLOOKUP($AA285,DATA!$B$3:$E285,2,0)","v":"06:30:00"},{"$f":"VLOOKUP($AA285,DATA!$B$3:$E285,3,0)","v":"14:30:00"},{"$f":"VLOOKUP($AA285,DATA!$B$3:$E285,4,0)","v":3.125E-2},0.30208333333333331,0.2326388888888889,{"$f":"DATA!$C$9","v":0.89},{"$f":"DATA!$C$10","v":64},1,314.0625,407.8125,6.9444444444444434E-2,93.749999999999986,0.22988505747126434,0,"","",379.73333333333335,332,"","",332,null,{"$f":"X289","v":14},{"$f":"Y282+1","v":"2018-04-04"},{"$f":"TEXT(Y285,\"ddd\")","v":"wo"},"DD",{"$f":"IFERROR(HLOOKUP(Y285,[1]DATA!$A$1:$NB$5,3,0),\"\")","v":"D3"},100,null,24,356,12,-10.187500000000057,0.7615770609318997,0.96936691626957117]
["14woMD",{"$f":"VLOOKUP($AA286,DATA!$B$3:$E286,2,0)","v":"14:30:00"},{"$f":"VLOOKUP($AA286,DATA!$B$3:$E286,3,0)","v":"22:30:00"},{"$f":"VLOOKUP($AA286,DATA!$B$3:$E286,4,0)","v":3.125E-2},0.30208333333333337,0.27916666666666667,{"$f":"DATA!$C$9","v":0.89},{"$f":"DATA!$C$10","v":64},1,376.875,407.81250000000006,2.2916666666666669E-2,30.937500000000004,7.586206896551724E-2,0,"","",397.86666666666667,335,"",335,"",null,{"$f":"X289","v":14},null,{"$f":"TEXT(Y285,\"ddd\")","v":"wo"},"MD",{"$f":"IFERROR(HLOOKUP(Y285,[1]DATA!$A$1:$NB$5,4,0),\"\")","v":"D2"},33,null,38,373,87,-69.999999999999886,0.76845878136200729,0.82056922865392545]
["14woND",{"$f":"VLOOKUP($AA287,DATA!$B$3:$E287,2,0)","v":"22:30:00"},{"$f":"VLOOKUP($AA287,DATA!$B$3:$E287,3,0)","v":"06:30:00"},{"$f":"VLOOKUP($AA287,DATA!$B$3:$E287,4,0)","v":3.125E-2},0.30208333333333326,0.30208333333333326,{"$f":"DATA!$C$9","v":0.89},{"$f":"DATA!$C$10","v":64},1,407.81249999999989,407.81249999999989,0,"","",0,"","",0,"","","","",null,{"$f":"X289","v":14},null,{"$f":"TEXT(Y285,\"ddd\")","v":"wo"},"ND",{"$f":"IFERROR(HLOOKUP(Y285,[1]DATA!$A$1:$NB$5,5,0),\"\")","v":"D1"},null,null,null,null,0,"","",""]
["14doDD",{"$f":"VLOOKUP($AA288,DATA!$B$3:$E288,2,0)","v":"06:30:00"},{"$f":"VLOOKUP($AA288,DATA!$B$3:$E288,3,0)","v":"14:30:00"},{"$f":"VLOOKUP($AA288,DATA!$B$3:$E288,4,0)","v":3.125E-2},0.30208333333333331,0.26944444444444443,{"$f":"DATA!$C$9","v":0.89},{"$f":"DATA!$C$10","v":64},1,363.75,407.8125,3.2638888888888891E-2,44.0625,0.10804597701149425,0,"","",398.93333333333334,343,"","",343,null,{"$f":"X289","v":14},{"$f":"Y285+1","v":"2018-04-05"},{"$f":"TEXT(Y288,\"ddd\")","v":"do"},"DD",{"$f":"IFERROR(HLOOKUP(Y288,[1]DATA!$A$1:$NB$5,3,0),\"\")","v":"D3"},47,null,31,374,105,-48.875000000000057,0.78681003584229392,0.7916391057018124]
["14doMD",{"$f":"VLOOKUP($AA289,DATA!$B$3:$E289,2,0)","v":"14:30:00"},{"$f":"VLOOKUP($AA289,DATA!$B$3:$E289,3,0)","v":"22:30:00"},{"$f":"VLOOKUP($AA289,DATA!$B$3:$E289,4,0)","v":3.125E-2},0.30208333333333337,0.22847222222222224,{"$f":"DATA!$C$9","v":0.89},{"$f":"DATA!$C$10","v":64},1,308.4375,407.81250000000006,7.3611111111111113E-2,99.375,0.2436781609195402,0,"","",362.66666666666669,319,"",319,"",null,{"$f":"WEEKNUM($Y279)","v":14},null,{"$f":"TEXT(Y288,\"ddd\")","v":"do"},"MD",{"$f":"IFERROR(HLOOKUP(Y288,[1]DATA!$A$1:$NB$5,4,0),\"\")","v":"D2"},106,null,21,340,27,-17.562499999999943,0.73175627240143382,0.93071000855431996]
["14doND",{"$f":"VLOOKUP($AA290,DATA!$B$3:$E290,2,0)","v":"22:30:00"},{"$f":"VLOOKUP($AA290,DATA!$B$3:$E290,3,0)","v":"06:30:00"},{"$f":"VLOOKUP($AA290,DATA!$B$3:$E290,4,0)","v":3.125E-2},0.30208333333333326,0.30208333333333326,{"$f":"DATA!$C$9","v":0.89},{"$f":"DATA!$C$10","v":64},1,407.81249999999989,407.81249999999989,0,"","",0,"","",0,"","","","",null,{"$f":"X289","v":14},null,{"$f":"TEXT(Y288,\"ddd\")","v":"do"},"ND",{"$f":"IFERROR(HLOOKUP(Y288,[1]DATA!$A$1:$NB$5,5,0),\"\")","v":"D1"},null,null,null,null,0,"","",""]
["14vrDD",{"$f":"VLOOKUP($AA291,DATA!$B$3:$E291,2,0)","v":"06:30:00"},{"$f":"VLOOKUP($AA291,DATA!$B$3:$E291,3,0)","v":"14:30:00"},{"$f":"VLOOKUP($AA291,DATA!$B$3:$E291,4,0)","v":3.125E-2},0.30208333333333331,0.25069444444444444,{"$f":"DATA!$C$9","v":0.89},{"$f":"DATA!$C$10","v":64},1,338.4375,407.8125,5.1388888888888894E-2,69.375,0.17011494252873563,0,"","",354.13333333333333,303,"","",303,null,{"$f":"X289","v":14},{"$f":"Y288+1","v":"2018-04-06"},{"$f":"TEXT(Y291,\"ddd\")","v":"vr"},"DD",{"$f":"IFERROR(HLOOKUP(Y291,[1]DATA!$A$1:$NB$5,3,0),\"\")","v":"D3"},74,null,29,332,33,-63.562500000000057,0.69505376344086023,0.91475805062855176]
["14vrMD",{"$f":"VLOOKUP($AA292,DATA!$B$3:$E292,2,0)","v":"14:30:00"},{"$f":"VLOOKUP($AA292,DATA!$B$3:$E292,3,0)","v":"22:30:00"},{"$f":"VLOOKUP($AA292,DATA!$B$3:$E292,4,0)","v":3.125E-2},0.30208333333333337,0.2590277777777778,{"$f":"DATA!$C$9","v":0.89},{"$f":"DATA!$C$10","v":64},1,349.68750000000006,407.81250000000006,4.3055555555555562E-2,58.125000000000007,0.14252873563218391,0,"","",331.73333333333335,280,"",280,"",null,{"$f":"X289","v":14},null,{"$f":"TEXT(Y291,\"ddd\")","v":"vr"},"MD",{"$f":"IFERROR(HLOOKUP(Y291,[1]DATA!$A$1:$NB$5,4,0),\"\")","v":"D2"},62,null,31,311,33,-97.812499999999943,0.64229390681003595,0.90952293913361359]
["14vrND",{"$f":"VLOOKUP($AA293,DATA!$B$3:$E293,2,0)","v":"22:30:00"},{"$f":"VLOOKUP($AA293,DATA!$B$3:$E293,3,0)","v":"06:30:00"},{"$f":"VLOOKUP($AA293,DATA!$B$3:$E293,4,0)","v":3.125E-2},0.30208333333333326,0.30208333333333326,{"$f":"DATA!$C$9","v":0.89},{"$f":"DATA!$C$10","v":64},1,407.81249999999989,407.81249999999989,0,"","",0,"","",0,"","","","",null,{"$f":"X289","v":14},null,{"$f":"TEXT(Y291,\"ddd\")","v":"vr"},"ND",{"$f":"IFERROR(HLOOKUP(Y291,[1]DATA!$A$1:$NB$5,5,0),\"\")","v":"D2"},null,null,null,null,0,"","",""]
["14zaDD",{"$f":"VLOOKUP($AA294,DATA!$B$3:$E294,2,0)","v":"06:30:00"},{"$f":"VLOOKUP($AA294,DATA!$B$3:$E294,3,0)","v":"14:30:00"},{"$f":"VLOOKUP($AA294,DATA!$B$3:$E294,4,0)","v":3.125E-2},0.30208333333333331,0.30208333333333331,{"$f":"DATA!$C$9","v":0.89},{"$f":"DATA!$C$10","v":64},1,407.8125,407.8125,0,"","",0,"","",0,"","","","",null,{"$f":"X289","v":14},{"$f":"Y291+1","v":"2018-04-07"},{"$f":"TEXT(Y294,\"ddd\")","v":"za"},"DD",{"$f":"IFERROR(HLOOKUP(Y294,[1]DATA!$A$1:$NB$5,3,0),\"\")","v":"D3"},null,null,null,null,0,"","",""]
["14zaMD",{"$f":"VLOOKUP($AA295,DATA!$B$3:$E295,2,0)","v":"14:30:00"},{"$f":"VLOOKUP($AA295,DATA!$B$3:$E295,3,0)","v":"22:30:00"},{"$f":"VLOOKUP($AA295,DATA!$B$3:$E295,4,0)","v":3.125E-2},0.30208333333333337,0.30208333333333337,{"$f":"DATA!$C$9","v":0.89},{"$f":"DATA!$C$10","v":64},1,407.81250000000006,407.81250000000006,0,"","",0,"","",0,"","","","",null,{"$f":"X289","v":14},null,{"$f":"TEXT(Y294,\"ddd\")","v":"za"},"MD",{"$f":"IFERROR(HLOOKUP(Y294,[1]DATA!$A$1:$NB$5,4,0),\"\")","v":"-"},null,null,null,null,0,"","",""]
["14zaND",{"$f":"VLOOKUP($AA296,DATA!$B$3:$E296,2,0)","v":"22:30:00"},{"$f":"VLOOKUP($AA296,DATA!$B$3:$E296,3,0)","v":"06:30:00"},{"$f":"VLOOKUP($AA296,DATA!$B$3:$E296,4,0)","v":3.125E-2},0.30208333333333326,0.30208333333333326,{"$f":"DATA!$C$9","v":0.89},{"$f":"DATA!$C$10","v":64},1,407.81249999999989,407.81249999999989,0,"","",0,"","",0,"","","","",null,{"$f":"X289","v":14},null,{"$f":"TEXT(Y294,\"ddd\")","v":"za"},"ND",{"$f":"IFERROR(HLOOKUP(Y294,[1]DATA!$A$1:$NB$5,5,0),\"\")","v":"-"},null,null,null,null,0,"","",""]
["14zoDD",{"$f":"VLOOKUP($AA297,DATA!$B$3:$E297,2,0)","v":"06:30:00"},{"$f":"VLOOKUP($AA297,DATA!$B$3:$E297,3,0)","v":"14:30:00"},{"$f":"VLOOKUP($AA297,DATA!$B$3:$E297,4,0)","v":3.125E-2},0.30208333333333331,0.30208333333333331,{"$f":"DATA!$C$9","v":0.89},{"$f":"DATA!$C$10","v":64},1,407.8125,407.8125,0,"","",0,"","",0,"","","","",null,{"$f":"X289","v":14},{"$f":"Y294+1","v":"2018-04-08"},{"$f":"TEXT(Y297,\"ddd\")","v":"zo"},"DD",{"$f":"IFERROR(HLOOKUP(Y297,[1]DATA!$A$1:$NB$5,3,0),\"\")","v":"-"},null,null,null,null,0,"","",""]
["14zoMD",{"$f":"VLOOKUP($AA298,DATA!$B$3:$E298,2,0)","v":"14:30:00"},{"$f":"VLOOKUP($AA298,DATA!$B$3:$E298,3,0)","v":"22:30:00"},{"$f":"VLOOKUP($AA298,DATA!$B$3:$E298,4,0)","v":3.125E-2},0.30208333333333337,0.30208333333333337,{"$f":"DATA!$C$9","v":0.89},{"$f":"DATA!$C$10","v":64},1,407.81250000000006,407.81250000000006,0,"","",0,"","",0,"","","","",null,{"$f":"X289","v":14},null,{"$f":"TEXT(Y297,\"ddd\")","v":"zo"},"MD",{"$f":"IFERROR(HLOOKUP(Y297,[1]DATA!$A$1:$NB$5,4,0),\"\")","v":"-"},null,null,null,null,0,"","",""]
["14zoZND",{"$f":"VLOOKUP($AA299,DATA!$B$3:$E299,2,0)","v":"00:00:00"},{"$f":"VLOOKUP($AA299,DATA!$B$3:$E299,3,0)","v":"00:00:00"},{"$f":"VLOOKUP($AA299,DATA!$B$3:$E299,4,0)","v":0},0,0,{"$f":"DATA!$C$9","v":0.89},{"$f":"DATA!$C$10","v":64},1,0,0,0,"","",0,"","",0,"","","","",null,{"$f":"X289","v":14},null,{"$f":"TEXT(Y297,\"ddd\")","v":"zo"},"ZND",{"$f":"IFERROR(HLOOKUP(Y297,[1]DATA!$A$1:$NB$5,5,0),\"\")","v":"-"},null,null,null,null,0,"","",""]
["15maDD",{"$f":"VLOOKUP($AA300,DATA!$B$3:$E300,2,0)","v":"06:30:00"},{"$f":"VLOOKUP($AA300,DATA!$B$3:$E300,3,0)","v":"14:30:00"},{"$f":"VLOOKUP($AA300,DATA!$B$3:$E300,4,0)","v":3.125E-2},0.30208333333333331,0.30208333333333331,{"$f":"DATA!$C$9","v":0.89},{"$f":"DATA!$C$10","v":64},1,407.8125,407.8125,0,"","",{"$f":"TIME(INT($AD300/60),INT(MOD($AD300,60)/1),0)","v":0},"","",275.2,227,"",227,"",null,{"$f":"X310","v":15},{"$f":"Y297+1","v":"2018-04-09"},{"$f":"TEXT(Y300,\"ddd\")","v":"ma"},"DD",{"$f":"IFERROR(HLOOKUP(Y300,[1]DATA!$A$1:$NB$5,3,0),\"\")","v":"D2"},0,null,31,258,{"$f":"VLOOKUP(Y300,[1]SRM!$S$4:$Z$368,2,0)","v":113},{"$f":"IFERROR(S300-J300,\"\")","v":-180.8125},{"$f":"IFERROR(IF(S300/(E300*86400/H300)<=0,\"\",S300/(E300*86400/H300)),\"\")","v":0.55662835249042142},{"$f":"IFERROR(R300/(R300+AG300),\"\")","v":0.70891293147861922},{"$f":"IF(SUMIF(S300:S320,\">0\",K300:K320)=0,\"\",SUMIF(S300:S320,\">0\",K300:K320))","v":4078.125},{"$f":"IF(SUM(S300:S320)=0,\"\",SUM(S300:S320))","v":2893},{"$f":"IFERROR(AL300/AK300,\"-\")","v":0.70939463601532571},{"$f":"IF(SUM(M300:M320)=0,\"0\",SUM(M300:M320))","v":402.1875},{"$f":"IFERROR(AN300/AK300,\"-\")","v":9.8620689655172414E-2},{"$f":"IF(SUM(P300:P320)=0,0,SUM(P300:P320))","v":0},{"$f":"IFERROR(AP300/AK300,\"-\")","v":0},{"$f":"IFERROR(AVERAGE(AJ300:AJ320),\"-\")","v":0.89958954037912631},{"$f":"IFERROR(SUMIF($AB300:$AB320,AS$5,$AJ300:$AJ320)/COUNTIFS($AB300:$AB320,AS$5,$AJ300:$AJ320,\">0\"),\"\")","v":0.94659092759956365},0.85258815315868863,"",{"$f":"IFERROR((AK300-AL300-AN300-AP300),\"-\")","v":782.9375},{"$f":"IFERROR((1-AM300-AO300-AQ300), \"-\")","v":0.19198467432950189},{"$f":"IFERROR((AV300*$AE$2)/60,\"-\")","v":835.13333333333333},{"$f":"IFERROR(SUM(AG300:AG320),\"\")","v":375}]
["15maMD",{"$f":"VLOOKUP($AA301,DATA!$B$3:$E301,2,0)","v":"14:30:00"},{"$f":"VLOOKUP($AA301,DATA!$B$3:$E301,3,0)","v":"22:30:00"},{"$f":"VLOOKUP($AA301,DATA!$B$3:$E301,4,0)","v":3.125E-2},0.30208333333333337,0.30208333333333337,{"$f":"DATA!$C$9","v":0.89},{"$f":"DATA!$C$10","v":64},1,407.81250000000006,407.81250000000006,0,"","",{"$f":"TIME(INT(AD301/60),INT(MOD(AD301,60)/1),0)","v":0},"","",279.46666666666664,237,237,"","",null,{"$f":"X310","v":15},null,{"$f":"TEXT(Y300,\"ddd\")","v":"ma"},"MD",{"$f":"IFERROR(HLOOKUP(Y300,[1]DATA!$A$1:$NB$5,4,0),\"\")","v":"D1"},0,null,25,262,{"$f":"VLOOKUP(Y300,[1]SRM!$S$4:$Z$368,3,0)","v":40},-170.81250000000006,0.58114942528735625,0.87479131886477457]
["15maND",{"$f":"VLOOKUP($AA302,DATA!$B$3:$E302,2,0)","v":"22:30:00"},{"$f":"VLOOKUP($AA302,DATA!$B$3:$E302,3,0)","v":"06:30:00"},{"$f":"VLOOKUP($AA302,DATA!$B$3:$E302,4,0)","v":3.125E-2},0.30208333333333326,0.30208333333333326,{"$f":"DATA!$C$9","v":0.89},{"$f":"DATA!$C$10","v":64},1,407.81249999999989,407.81249999999989,0,"","",0,"","",0,"","","","",null,{"$f":"X310","v":15},null,{"$f":"TEXT(Y300,\"ddd\")","v":"ma"},"ND",{"$f":"IFERROR(HLOOKUP(Y300,[1]DATA!$A$1:$NB$5,5,0),\"\")","v":"D3"},null,null,null,null,{"$f":"VLOOKUP(Y300,[1]SRM!$S$4:$Z$368,4,0)","v":0},"","",""]
["15diDD",{"$f":"VLOOKUP($AA303,DATA!$B$3:$E303,2,0)","v":"06:30:00"},{"$f":"VLOOKUP($AA303,DATA!$B$3:$E303,3,0)","v":"14:30:00"},{"$f":"VLOOKUP($AA303,DATA!$B$3:$E303,4,0)","v":3.125E-2},0.30208333333333331,0.30208333333333331,{"$f":"DATA!$C$9","v":0.89},{"$f":"DATA!$C$10","v":64},1,407.8125,407.8125,0,"","",0,"","",377.6,335,"",335,"",null,{"$f":"X310","v":15},{"$f":"Y300+1","v":"2018-04-10"},{"$f":"TEXT(Y303,\"ddd\")","v":"di"},"DD",{"$f":"IFERROR(HLOOKUP(Y303,[1]DATA!$A$1:$NB$5,3,0),\"\")","v":"D2"},0,null,19,354,{"$f":"VLOOKUP(Y303,[1]SRM!$S$4:$Z$368,2,0)","v":48},-72.8125,0.82145593869731803,0.88721804511278191]
[{"$f":"X304&Z304&AA304","v":"15diMD"},{"$f":"VLOOKUP($AA304,DATA!$B$3:$E304,2,0)","v":"14:30:00"},{"$f":"VLOOKUP($AA304,DATA!$B$3:$E304,3,0)","v":"22:30:00"},{"$f":"VLOOKUP($AA304,DATA!$B$3:$E304,4,0)","v":3.125E-2},0.30208333333333337,0.30208333333333337,{"$f":"DATA!$C$9","v":0.89},{"$f":"DATA!$C$10","v":64},1,407.81250000000006,407.81250000000006,0,"","",0,{"$f":"IF($O304*86400/$H304=0,\"\",$O304*86400/$H304)","v":""},"",356.26666666666665,316,316,"","",null,{"$f":"X310","v":15},null,{"$f":"TEXT(Y303,\"ddd\")","v":"di"},"MD",{"$f":"IFERROR(HLOOKUP(Y303,[1]DATA!$A$1:$NB$5,4,0),\"\")","v":"D1"},0,null,18,334,{"$f":"VLOOKUP(Y303,[1]SRM!$S$4:$Z$368,3,0)","v":23},-91.812500000000057,0.77486590038314163,0.93935665319036732]
["15diND",{"$f":"VLOOKUP($AA305,DATA!$B$3:$E305,2,0)","v":"22:30:00"},{"$f":"VLOOKUP($AA305,DATA!$B$3:$E305,3,0)","v":"06:30:00"},{"$f":"VLOOKUP($AA305,DATA!$B$3:$E305,4,0)","v":3.125E-2},0.30208333333333326,0.30208333333333326,{"$f":"DATA!$C$9","v":0.89},{"$f":"DATA!$C$10","v":64},1,407.81249999999989,407.81249999999989,0,"","",0,"","",0,"","","","",null,{"$f":"X310","v":15},null,{"$f":"TEXT(Y303,\"ddd\")","v":"di"},"ND",{"$f":"IFERROR(HLOOKUP(Y303,[1]DATA!$A$1:$NB$5,5,0),\"\")","v":"D3"},null,null,null,null,{"$f":"VLOOKUP(Y303,[1]SRM!$S$4:$Z$368,4,0)","v":0},"","",""]
["15woDD",{"$f":"VLOOKUP($AA306,DATA!$B$3:$E306,2,0)","v":"06:30:00"},{"$f":"VLOOKUP($AA306,DATA!$B$3:$E306,3,0)","v":"14:30:00"},{"$f":"VLOOKUP($AA306,DATA!$B$3:$E306,4,0)","v":3.125E-2},0.30208333333333331,0.30208333333333331,{"$f":"DATA!$C$9","v":0.89},{"$f":"DATA!$C$10","v":64},1,407.8125,407.8125,0,"","",0,"","",314.66666666666669,285,"",285,"",null,{"$f":"X310","v":15},{"$f":"Y303+1","v":"2018-04-11"},{"$f":"TEXT(Y306,\"ddd\")","v":"wo"},"DD",{"$f":"IFERROR(HLOOKUP(Y306,[1]DATA!$A$1:$NB$5,3,0),\"\")","v":"D2"},0,null,10,295,{"$f":"VLOOKUP(Y306,[1]SRM!$S$4:$Z$368,2,0)","v":44},-122.8125,0.69885057471264367,0.87732342007434949]
["15woMD",{"$f":"VLOOKUP($AA307,DATA!$B$3:$E307,2,0)","v":"14:30:00"},{"$f":"VLOOKUP($AA307,DATA!$B$3:$E307,3,0)","v":"22:30:00"},{"$f":"VLOOKUP($AA307,DATA!$B$3:$E307,4,0)","v":3.125E-2},0.30208333333333337,0.2506944444444445,{"$f":"DATA!$C$9","v":0.89},{"$f":"DATA!$C$10","v":64},1,338.43750000000006,407.81250000000006,5.1388888888888894E-2,69.375,0.1701149425287356,0,"","",331.73333333333335,281,281,"","",null,{"$f":"X310","v":15},null,{"$f":"TEXT(Y306,\"ddd\")","v":"wo"},"MD",{"$f":"IFERROR(HLOOKUP(Y306,[1]DATA!$A$1:$NB$5,4,0),\"\")","v":"D1"},74,null,30,311,{"$f":"VLOOKUP(Y306,[1]SRM!$S$4:$Z$368,3,0)","v":15},-57.437500000000057,0.68904214559386967,0.95673908863680057]
["15woND",{"$f":"VLOOKUP($AA308,DATA!$B$3:$E308,2,0)","v":"22:30:00"},{"$f":"VLOOKUP($AA308,DATA!$B$3:$E308,3,0)","v":"06:30:00"},{"$f":"VLOOKUP($AA308,DATA!$B$3:$E308,4,0)","v":3.125E-2},0.30208333333333326,0.30208333333333326,{"$f":"DATA!$C$9","v":0.89},{"$f":"DATA!$C$10","v":64},1,407.81249999999989,407.81249999999989,0,"","",0,"","",0,"","","","",null,{"$f":"X310","v":15},null,{"$f":"TEXT(Y306,\"ddd\")","v":"wo"},"ND",{"$f":"IFERROR(HLOOKUP(Y306,[1]DATA!$A$1:$NB$5,5,0),\"\")","v":"D3"},null,null,null,null,{"$f":"VLOOKUP(Y306,[1]SRM!$S$4:$Z$368,4,0)","v":0},"","",""]
["15doDD",{"$f":"VLOOKUP($AA309,DATA!$B$3:$E309,2,0)","v":"06:30:00"},{"$f":"VLOOKUP($AA309,DATA!$B$3:$E309,3,0)","v":"14:30:00"},{"$f":"VLOOKUP($AA309,DATA!$B$3:$E309,4,0)","v":3.125E-2},0.30208333333333331,0.25277777777777777,{"$f":"DATA!$C$9","v":0.89},{"$f":"DATA!$C$10","v":64},1,341.25,407.8125,4.9305555555555554E-2,66.5625,0.16321839080459771,0,"","",365.86666666666667,320,"",320,"",null,{"$f":"X310","v":15},{"$f":"Y306+1","v":"2018-04-12"},{"$f":"TEXT(Y309,\"ddd\")","v":"do"},"DD",{"$f":"IFERROR(HLOOKUP(Y309,[1]DATA!$A$1:$NB$5,3,0),\"\")","v":"D2"},71,null,23,343,{"$f":"VLOOKUP(Y309,[1]SRM!$S$4:$Z$368,2,0)","v":30},-21.25,0.78467432950191573,0.92421690804984846]
["15doMD",{"$f":"VLOOKUP($AA310,DATA!$B$3:$E310,2,0)","v":"14:30:00"},{"$f":"VLOOKUP($AA310,DATA!$B$3:$E310,3,0)","v":"22:30:00"},{"$f":"VLOOKUP($AA310,DATA!$B$3:$E310,4,0)","v":3.125E-2},0.30208333333333337,0.23263888888888895,{"$f":"DATA!$C$9","v":0.89},{"$f":"DATA!$C$10","v":64},1,314.06250000000006,407.81250000000006,6.9444444444444434E-2,93.749999999999986,0.22988505747126431,0,"","",384,334,334,"","",null,{"$f":"WEEKNUM($Y300)","v":15},null,{"$f":"TEXT(Y309,\"ddd\")","v":"do"},"MD",{"$f":"IFERROR(HLOOKUP(Y309,[1]DATA!$A$1:$NB$5,4,0),\"\")","v":"D1"},100,null,26,360,{"$f":"VLOOKUP(Y309,[1]SRM!$S$4:$Z$368,3,0)","v":5},19.937499999999943,0.81900383141762445,0.98714652956298199]
["15doND",{"$f":"VLOOKUP($AA311,DATA!$B$3:$E311,2,0)","v":"22:30:00"},{"$f":"VLOOKUP($AA311,DATA!$B$3:$E311,3,0)","v":"06:30:00"},{"$f":"VLOOKUP($AA311,DATA!$B$3:$E311,4,0)","v":3.125E-2},0.30208333333333326,0.30208333333333326,{"$f":"DATA!$C$9","v":0.89},{"$f":"DATA!$C$10","v":64},1,407.81249999999989,407.81249999999989,0,"","",0,"","",0,"","","","",null,{"$f":"X310","v":15},null,{"$f":"TEXT(Y309,\"ddd\")","v":"do"},"ND",{"$f":"IFERROR(HLOOKUP(Y309,[1]DATA!$A$1:$NB$5,5,0),\"\")","v":"D3"},null,null,null,null,{"$f":"VLOOKUP(Y309,[1]SRM!$S$4:$Z$368,4,0)","v":0},"","",""]
["15vrDD",{"$f":"VLOOKUP($AA312,DATA!$B$3:$E312,2,0)","v":"06:30:00"},{"$f":"VLOOKUP($AA312,DATA!$B$3:$E312,3,0)","v":"14:30:00"},{"$f":"VLOOKUP($AA312,DATA!$B$3:$E312,4,0)","v":3.125E-2},0.30208333333333331,0.24236111111111108,{"$f":"DATA!$C$9","v":0.89},{"$f":"DATA!$C$10","v":64},1,327.18749999999994,407.8125,5.9722222222222225E-2,80.625,0.19770114942528735,0,"","",308.26666666666665,254,"",254,"",null,{"$f":"X310","v":15},{"$f":"Y309+1","v":"2018-04-13"},{"$f":"TEXT(Y312,\"ddd\")","v":"vr"},"DD",{"$f":"IFERROR(HLOOKUP(Y312,[1]DATA!$A$1:$NB$5,3,0),\"\")","v":"D2"},86,null,35,289,{"$f":"VLOOKUP(Y312,[1]SRM!$S$4:$Z$368,2,0)","v":48},-73.187499999999943,0.6228352490421456,0.8652694610778443]
["15vrMD",{"$f":"VLOOKUP($AA313,DATA!$B$3:$E313,2,0)","v":"14:30:00"},{"$f":"VLOOKUP($AA313,DATA!$B$3:$E313,3,0)","v":"22:30:00"},{"$f":"VLOOKUP($AA313,DATA!$B$3:$E313,4,0)","v":3.125E-2},0.30208333333333337,0.23402777777777783,{"$f":"DATA!$C$9","v":0.89},{"$f":"DATA!$C$10","v":64},1,315.93750000000006,407.81250000000006,6.805555555555555E-2,91.874999999999986,0.22528735632183902,0,"","",349.86666666666667,304,304,"","",null,{"$f":"X310","v":15},null,{"$f":"TEXT(Y312,\"ddd\")","v":"vr"},"MD",{"$f":"IFERROR(HLOOKUP(Y312,[1]DATA!$A$1:$NB$5,4,0),\"\")","v":"D1"},98,null,24,328,{"$f":"VLOOKUP(Y312,[1]SRM!$S$4:$Z$368,3,0)","v":9},-11.937500000000057,0.74544061302681985,0.97492104774289434]
["15vrND",{"$f":"VLOOKUP($AA314,DATA!$B$3:$E314,2,0)","v":"22:30:00"},{"$f":"VLOOKUP($AA314,DATA!$B$3:$E314,3,0)","v":"06:30:00"},{"$f":"VLOOKUP($AA314,DATA!$B$3:$E314,4,0)","v":3.125E-2},0.30208333333333326,0.30208333333333326,{"$f":"DATA!$C$9","v":0.89},{"$f":"DATA!$C$10","v":64},1,407.81249999999989,407.81249999999989,0,"","",0,"","",0,"","","","",null,{"$f":"X310","v":15},null,{"$f":"TEXT(Y312,\"ddd\")","v":"vr"},"ND",{"$f":"IFERROR(HLOOKUP(Y312,[1]DATA!$A$1:$NB$5,5,0),\"\")","v":"D3"},null,null,null,null,{"$f":"VLOOKUP(Y312,[1]SRM!$S$4:$Z$368,4,0)","v":0},"","",""]
["15zaDD",{"$f":"VLOOKUP($AA315,DATA!$B$3:$E315,2,0)","v":"06:30:00"},{"$f":"VLOOKUP($AA315,DATA!$B$3:$E315,3,0)","v":"14:30:00"},{"$f":"VLOOKUP($AA315,DATA!$B$3:$E315,4,0)","v":3.125E-2},0.30208333333333331,0.30208333333333331,{"$f":"DATA!$C$9","v":0.89},{"$f":"DATA!$C$10","v":64},1,407.8125,407.8125,0,"","",0,"","",0,"","","","",null,{"$f":"X310","v":15},{"$f":"Y312+1","v":"2018-04-14"},{"$f":"TEXT(Y315,\"ddd\")","v":"za"},"DD",{"$f":"IFERROR(HLOOKUP(Y315,[1]DATA!$A$1:$NB$5,3,0),\"\")","v":"D2"},null,null,null,null,{"$f":"VLOOKUP(Y315,[1]SRM!$S$4:$Z$368,2,0)","v":0},"","",""]
["15zaMD",{"$f":"VLOOKUP($AA316,DATA!$B$3:$E316,2,0)","v":"14:30:00"},{"$f":"VLOOKUP($AA316,DATA!$B$3:$E316,3,0)","v":"22:30:00"},{"$f":"VLOOKUP($AA316,DATA!$B$3:$E316,4,0)","v":3.125E-2},0.30208333333333337,0.30208333333333337,{"$f":"DATA!$C$9","v":0.89},{"$f":"DATA!$C$10","v":64},1,407.81250000000006,407.81250000000006,0,"","",0,"","",0,"","","","",null,{"$f":"X310","v":15},null,{"$f":"TEXT(Y315,\"ddd\")","v":"za"},"MD",{"$f":"IFERROR(HLOOKUP(Y315,[1]DATA!$A$1:$NB$5,4,0),\"\")","v":"-"},null,null,null,null,{"$f":"VLOOKUP(Y315,[1]SRM!$S$4:$Z$368,3,0)","v":0},"","",""]
["15zaND",{"$f":"VLOOKUP($AA317,DATA!$B$3:$E317,2,0)","v":"22:30:00"},{"$f":"VLOOKUP($AA317,DATA!$B$3:$E317,3,0)","v":"06:30:00"},{"$f":"VLOOKUP($AA317,DATA!$B$3:$E317,4,0)","v":3.125E-2},0.30208333333333326,0.30208333333333326,{"$f":"DATA!$C$9","v":0.89},{"$f":"DATA!$C$10","v":64},1,407.81249999999989,407.81249999999989,0,"","",0,"","",0,"","","","",null,{"$f":"X310","v":15},null,{"$f":"TEXT(Y315,\"ddd\")","v":"za"},"ND",{"$f":"IFERROR(HLOOKUP(Y315,[1]DATA!$A$1:$NB$5,5,0),\"\")","v":"-"},null,null,null,null,{"$f":"VLOOKUP(Y315,[1]SRM!$S$4:$Z$368,4,0)","v":0},"","",""]
["15zoDD",{"$f":"VLOOKUP($AA318,DATA!$B$3:$E318,2,0)","v":"06:30:00"},{"$f":"VLOOKUP($AA318,DATA!$B$3:$E318,3,0)","v":"14:30:00"},{"$f":"VLOOKUP($AA318,DATA!$B$3:$E318,4,0)","v":3.125E-2},0.30208333333333331,0.30208333333333331,{"$f":"DATA!$C$9","v":0.89},{"$f":"DATA!$C$10","v":64},1,407.8125,407.8125,0,"","",0,"","",0,"","","","",null,{"$f":"X310","v":15},{"$f":"Y315+1","v":"2018-04-15"},{"$f":"TEXT(Y318,\"ddd\")","v":"zo"},"DD",{"$f":"IFERROR(HLOOKUP(Y318,[1]DATA!$A$1:$NB$5,3,0),\"\")","v":"-"},null,null,null,null,{"$f":"VLOOKUP(Y318,[1]SRM!$S$4:$Z$368,2,0)","v":0},"","",""]
["15zoMD",{"$f":"VLOOKUP($AA319,DATA!$B$3:$E319,2,0)","v":"14:30:00"},{"$f":"VLOOKUP($AA319,DATA!$B$3:$E319,3,0)","v":"22:30:00"},{"$f":"VLOOKUP($AA319,DATA!$B$3:$E319,4,0)","v":3.125E-2},0.30208333333333337,0.30208333333333337,{"$f":"DATA!$C$9","v":0.89},{"$f":"DATA!$C$10","v":64},1,407.81250000000006,407.81250000000006,0,"","",0,"","",0,"","","","",null,{"$f":"X310","v":15},null,{"$f":"TEXT(Y318,\"ddd\")","v":"zo"},"MD",{"$f":"IFERROR(HLOOKUP(Y318,[1]DATA!$A$1:$NB$5,4,0),\"\")","v":"-"},null,null,null,null,{"$f":"VLOOKUP(Y318,[1]SRM!$S$4:$Z$368,3,0)","v":0},"","",""]
["15zoZND",{"$f":"VLOOKUP($AA320,DATA!$B$3:$E320,2,0)","v":"00:00:00"},{"$f":"VLOOKUP($AA320,DATA!$B$3:$E320,3,0)","v":"00:00:00"},{"$f":"VLOOKUP($AA320,DATA!$B$3:$E320,4,0)","v":0},0,0,{"$f":"DATA!$C$9","v":0.89},{"$f":"DATA!$C$10","v":64},1,0,0,0,"","",0,"","",0,"","","","",null,{"$f":"X310","v":15},null,{"$f":"TEXT(Y318,\"ddd\")","v":"zo"},"ZND",{"$f":"IFERROR(HLOOKUP(Y318,[1]DATA!$A$1:$NB$5,5,0),\"\")","v":"-"},null,null,null,null,{"$f":"VLOOKUP(Y318,[1]SRM!$S$4:$Z$368,4,0)","v":0},"","",""]
["16maDD",{"$f":"VLOOKUP($AA321,DATA!$B$3:$E321,2,0)","v":"06:30:00"},{"$f":"VLOOKUP($AA321,DATA!$B$3:$E321,3,0)","v":"14:30:00"},{"$f":"VLOOKUP($AA321,DATA!$B$3:$E321,4,0)","v":3.125E-2},0.30208333333333331,0.30208333333333331,{"$f":"DATA!$C$9","v":0.89},{"$f":"DATA!$C$10","v":64},1,407.8125,407.8125,0,"","",{"$f":"TIME(INT($AD321/60),INT(MOD($AD321,60)/1),0)","v":0},"","",0,"","","","",null,{"$f":"X331","v":16},{"$f":"Y318+1","v":"2018-04-16"},{"$f":"TEXT(Y321,\"ddd\")","v":"ma"},"DD",{"$f":"IFERROR(HLOOKUP(Y321,[1]DATA!$A$1:$NB$5,3,0),\"\")","v":"D1"},null,null,null,null,{"$f":"VLOOKUP(Y321,[1]SRM!$S$4:$Z$368,2,0)","v":11},"","",0,{"$f":"IF(SUMIF(S321:S341,\">0\",K321:K341)=0,\"\",SUMIF(S321:S341,\">0\",K321:K341))","v":""},{"$f":"IF(SUM(S321:S341)=0,\"\",SUM(S321:S341))","v":""},{"$f":"IFERROR(AL321/AK321,\"-\")","v":"-"},{"$f":"IF(SUM(M321:M341)=0,\"0\",SUM(M321:M341))","v":"0"},{"$f":"IFERROR(AN321/AK321,\"-\")","v":"-"},{"$f":"IF(SUM(P321:P341)=0,0,SUM(P321:P341))","v":0},{"$f":"IFERROR(AP321/AK321,\"-\")","v":"-"},{"$f":"IFERROR(AVERAGE(AJ321:AJ341),\"-\")","v":0},{"$f":"IFERROR(SUMIF($AB321:$AB341,AS$5,$AJ321:$AJ341)/COUNTIFS($AB321:$AB341,AS$5,$AJ321:$AJ341,\">0\"),\"\")","v":""},"","",{"$f":"IFERROR((AK321-AL321-AN321-AP321),\"-\")","v":"-"},{"$f":"IFERROR((1-AM321-AO321-AQ321), \"-\")","v":"-"},{"$f":"IFERROR((AV321*$AE$2)/60,\"-\")","v":"-"},{"$f":"IFERROR(SUM(AG321:AG341),\"\")","v":758}]
["16maMD",{"$f":"VLOOKUP($AA322,DATA!$B$3:$E322,2,0)","v":"14:30:00"},{"$f":"VLOOKUP($AA322,DATA!$B$3:$E322,3,0)","v":"22:30:00"},{"$f":"VLOOKUP($AA322,DATA!$B$3:$E322,4,0)","v":3.125E-2},0.30208333333333337,0.30208333333333337,{"$f":"DATA!$C$9","v":0.89},{"$f":"DATA!$C$10","v":64},1,407.81250000000006,407.81250000000006,0,"","",{"$f":"TIME(INT(AD322/60),INT(MOD(AD322,60)/1),0)","v":0},"","",0,"","","","",null,{"$f":"X331","v":16},null,{"$f":"TEXT(Y321,\"ddd\")","v":"ma"},"MD",{"$f":"IFERROR(HLOOKUP(Y321,[1]DATA!$A$1:$NB$5,4,0),\"\")","v":"D3"},null,null,null,null,{"$f":"VLOOKUP(Y321,[1]SRM!$S$4:$Z$368,3,0)","v":28},"","",0]
["16maND",{"$f":"VLOOKUP($AA323,DATA!$B$3:$E323,2,0)","v":"22:30:00"},{"$f":"VLOOKUP($AA323,DATA!$B$3:$E323,3,0)","v":"06:30:00"},{"$f":"VLOOKUP($AA323,DATA!$B$3:$E323,4,0)","v":3.125E-2},0.30208333333333326,0.30208333333333326,{"$f":"DATA!$C$9","v":0.89},{"$f":"DATA!$C$10","v":64},1,407.81249999999989,407.81249999999989,0,"","",0,"","",0,"","","","",null,{"$f":"X331","v":16},null,{"$f":"TEXT(Y321,\"ddd\")","v":"ma"},"ND",{"$f":"IFERROR(HLOOKUP(Y321,[1]DATA!$A$1:$NB$5,5,0),\"\")","v":"D2"},null,null,null,null,{"$f":"VLOOKUP(Y321,[1]SRM!$S$4:$Z$368,4,0)","v":33},"","",0]
["16diDD",{"$f":"VLOOKUP($AA324,DATA!$B$3:$E324,2,0)","v":"06:30:00"},{"$f":"VLOOKUP($AA324,DATA!$B$3:$E324,3,0)","v":"14:30:00"},{"$f":"VLOOKUP($AA324,DATA!$B$3:$E324,4,0)","v":3.125E-2},0.30208333333333331,0.30208333333333331,{"$f":"DATA!$C$9","v":0.89},{"$f":"DATA!$C$10","v":64},1,407.8125,407.8125,0,"","",0,"","",0,"","","","",null,{"$f":"X331","v":16},{"$f":"Y321+1","v":"2018-04-17"},{"$f":"TEXT(Y324,\"ddd\")","v":"di"},"DD",{"$f":"IFERROR(HLOOKUP(Y324,[1]DATA!$A$1:$NB$5,3,0),\"\")","v":"D1"},null,null,null,null,{"$f":"VLOOKUP(Y324,[1]SRM!$S$4:$Z$368,2,0)","v":20},"","",0]
["16diMD",{"$f":"VLOOKUP($AA325,DATA!$B$3:$E325,2,0)","v":"14:30:00"},{"$f":"VLOOKUP($AA325,DATA!$B$3:$E325,3,0)","v":"22:30:00"},{"$f":"VLOOKUP($AA325,DATA!$B$3:$E325,4,0)","v":3.125E-2},0.30208333333333337,0.30208333333333337,{"$f":"DATA!$C$9","v":0.89},{"$f":"DATA!$C$10","v":64},1,407.81250000000006,407.81250000000006,0,"","",0,"","",0,"","","","",null,{"$f":"X331","v":16},null,{"$f":"TEXT(Y324,\"ddd\")","v":"di"},"MD",{"$f":"IFERROR(HLOOKUP(Y324,[1]DATA!$A$1:$NB$5,4,0),\"\")","v":"D3"},null,null,null,null,{"$f":"VLOOKUP(Y324,[1]SRM!$S$4:$Z$368,3,0)","v":54},"","",0]
["16diND",{"$f":"VLOOKUP($AA326,DATA!$B$3:$E326,2,0)","v":"22:30:00"},{"$f":"VLOOKUP($AA326,DATA!$B$3:$E326,3,0)","v":"06:30:00"},{"$f":"VLOOKUP($AA326,DATA!$B$3:$E326,4,0)","v":3.125E-2},0.30208333333333326,0.30208333333333326,{"$f":"DATA!$C$9","v":0.89},{"$f":"DATA!$C$10","v":64},1,{"$f":"F326*86400/H326*I326","v":407.81249999999989},{"$f":"E326*86400/H326","v":407.81249999999989},0,"","",0,"","",{"$f":"AF326*AG$2","v":0},{"$f":"IF(AF326-AE326=0,\"\",AF326-AE326)","v":""},"","","",null,{"$f":"X331","v":16},null,{"$f":"TEXT(Y324,\"ddd\")","v":"di"},"ND",{"$f":"IFERROR(HLOOKUP(Y324,[1]DATA!$A$1:$NB$5,5,0),\"\")","v":"D2"},null,null,null,null,{"$f":"VLOOKUP(Y324,[1]SRM!$S$4:$Z$368,4,0)","v":70},{"$f":"IFERROR(S326-J326,\"\")","v":""},{"$f":"IFERROR(IF(S326/(E326*86400/H326)<=0,\"\",S326/(E326*86400/H326)),\"\")","v":""},0]
["16woDD",{"$f":"VLOOKUP($AA327,DATA!$B$3:$E327,2,0)","v":"06:30:00"},{"$f":"VLOOKUP($AA327,DATA!$B$3:$E327,3,0)","v":"14:30:00"},{"$f":"VLOOKUP($AA327,DATA!$B$3:$E327,4,0)","v":3.125E-2},0.30208333333333331,0.30208333333333331,{"$f":"DATA!$C$9","v":0.89},{"$f":"DATA!$C$10","v":64},1,407.8125,407.8125,{"$f":"TIME(INT($AC327/60),INT(MOD($AC327,60)/1),0)","v":0},{"$f":"IF($L327*86400/$H327=0,\"\",$L327*86400/$H327)","v":""},{"$f":"IFERROR($M327/$K327,\"\")","v":""},0,"",{"$f":"IFERROR($P327/$K327,\"\")","v":""},0,"",{"$f":"IF(IF($AB327=\"D1\",$S327,\"\")=0,\"\",IF($AB327=\"D1\",$S327,\"\"))","v":""},{"$f":"IF(IF($AB327=\"D2\",$S327,\"\")=0,\"\",IF($AB327=\"D2\",$S327,\"\"))","v":""},{"$f":"IF(IF($AB327=\"D3\",$S327,\"\")=0,\"\",IF($AB327=\"D3\",$S327,\"\"))","v":""},null,{"$f":"X331","v":16},{"$f":"Y324+1","v":"2018-04-18"},{"$f":"TEXT(Y327,\"ddd\")","v":"wo"},"DD",{"$f":"IFERROR(HLOOKUP(Y327,[1]DATA!$A$1:$NB$5,3,0),\"\")","v":"D1"},null,null,null,null,{"$f":"VLOOKUP(Y327,[1]SRM!$S$4:$Z$368,2,0)","v":62},"","",0]
["16woMD",{"$f":"VLOOKUP($AA328,DATA!$B$3:$E328,2,0)","v":"14:30:00"},{"$f":"VLOOKUP($AA328,DATA!$B$3:$E328,3,0)","v":"22:30:00"},{"$f":"VLOOKUP($AA328,DATA!$B$3:$E328,4,0)","v":3.125E-2},0.30208333333333337,0.30208333333333337,{"$f":"DATA!$C$9","v":0.89},{"$f":"DATA!$C$10","v":64},1,407.81250000000006,407.81250000000006,0,"","",0,"","",0,"","","","",null,{"$f":"X331","v":16},null,{"$f":"TEXT(Y327,\"ddd\")","v":"wo"},"MD",{"$f":"IFERROR(HLOOKUP(Y327,[1]DATA!$A$1:$NB$5,4,0),\"\")","v":"D3"},null,null,null,null,{"$f":"VLOOKUP(Y327,[1]SRM!$S$4:$Z$368,3,0)","v":39},"","",0]
["16woND",{"$f":"VLOOKUP($AA329,DATA!$B$3:$E329,2,0)","v":"22:30:00"},{"$f":"VLOOKUP($AA329,DATA!$B$3:$E329,3,0)","v":"06:30:00"},{"$f":"VLOOKUP($AA329,DATA!$B$3:$E329,4,0)","v":3.125E-2},0.30208333333333326,0.30208333333333326,{"$f":"DATA!$C$9","v":0.89},{"$f":"DATA!$C$10","v":64},1,407.81249999999989,407.81249999999989,0,"","",0,"","",0,"","","","",null,{"$f":"X331","v":16},null,{"$f":"TEXT(Y327,\"ddd\")","v":"wo"},"ND",{"$f":"IFERROR(HLOOKUP(Y327,[1]DATA!$A$1:$NB$5,5,0),\"\")","v":"D2"},null,null,null,null,{"$f":"VLOOKUP(Y327,[1]SRM!$S$4:$Z$368,4,0)","v":170},"","",0]
["16doDD",{"$f":"VLOOKUP($AA330,DATA!$B$3:$E330,2,0)","v":"06:30:00"},{"$f":"VLOOKUP($AA330,DATA!$B$3:$E330,3,0)","v":"14:30:00"},{"$f":"VLOOKUP($AA330,DATA!$B$3:$E330,4,0)","v":3.125E-2},0.30208333333333331,0.30208333333333331,{"$f":"DATA!$C$9","v":0.89},{"$f":"DATA!$C$10","v":64},1,407.8125,407.8125,0,"","",0,"","",0,"","","","",null,{"$f":"X331","v":16},{"$f":"Y327+1","v":"2018-04-19"},{"$f":"TEXT(Y330,\"ddd\")","v":"do"},"DD",{"$f":"IFERROR(HLOOKUP(Y330,[1]DATA!$A$1:$NB$5,3,0),\"\")","v":"D1"},null,null,null,null,{"$f":"VLOOKUP(Y330,[1]SRM!$S$4:$Z$368,2,0)","v":52},"","",0]
["16doMD",{"$f":"VLOOKUP($AA331,DATA!$B$3:$E331,2,0)","v":"14:30:00"},{"$f":"VLOOKUP($AA331,DATA!$B$3:$E331,3,0)","v":"22:30:00"},{"$f":"VLOOKUP($AA331,DATA!$B$3:$E331,4,0)","v":3.125E-2},0.30208333333333337,0.30208333333333337,{"$f":"DATA!$C$9","v":0.89},{"$f":"DATA!$C$10","v":64},1,407.81250000000006,407.81250000000006,0,"","",0,"","",0,"","","","",null,{"$f":"WEEKNUM($Y321)","v":16},null,{"$f":"TEXT(Y330,\"ddd\")","v":"do"},"MD",{"$f":"IFERROR(HLOOKUP(Y330,[1]DATA!$A$1:$NB$5,4,0),\"\")","v":"D3"},null,null,null,null,{"$f":"VLOOKUP(Y330,[1]SRM!$S$4:$Z$368,3,0)","v":33},"","",0]
["16doND",{"$f":"VLOOKUP($AA332,DATA!$B$3:$E332,2,0)","v":"22:30:00"},{"$f":"VLOOKUP($AA332,DATA!$B$3:$E332,3,0)","v":"06:30:00"},{"$f":"VLOOKUP($AA332,DATA!$B$3:$E332,4,0)","v":3.125E-2},0.30208333333333326,0.30208333333333326,{"$f":"DATA!$C$9","v":0.89},{"$f":"DATA!$C$10","v":64},1,407.81249999999989,407.81249999999989,0,"","",0,"","",0,"","","","",null,{"$f":"X331","v":16},null,{"$f":"TEXT(Y330,\"ddd\")","v":"do"},"ND",{"$f":"IFERROR(HLOOKUP(Y330,[1]DATA!$A$1:$NB$5,5,0),\"\")","v":"D2"},null,null,null,null,{"$f":"VLOOKUP(Y330,[1]SRM!$S$4:$Z$368,4,0)","v":19},"","",0]
["16vrDD",{"$f":"VLOOKUP($AA333,DATA!$B$3:$E333,2,0)","v":"06:30:00"},{"$f":"VLOOKUP($AA333,DATA!$B$3:$E333,3,0)","v":"14:30:00"},{"$f":"VLOOKUP($AA333,DATA!$B$3:$E333,4,0)","v":3.125E-2},0.30208333333333331,0.30208333333333331,{"$f":"DATA!$C$9","v":0.89},{"$f":"DATA!$C$10","v":64},1,407.8125,407.8125,0,"","",0,"","",0,"","","","",null,{"$f":"X331","v":16},{"$f":"Y330+1","v":"2018-04-20"},{"$f":"TEXT(Y333,\"ddd\")","v":"vr"},"DD",{"$f":"IFERROR(HLOOKUP(Y333,[1]DATA!$A$1:$NB$5,3,0),\"\")","v":"D1"},null,null,null,null,{"$f":"VLOOKUP(Y333,[1]SRM!$S$4:$Z$368,2,0)","v":10},"","",0]
["16vrMD",{"$f":"VLOOKUP($AA334,DATA!$B$3:$E334,2,0)","v":"14:30:00"},{"$f":"VLOOKUP($AA334,DATA!$B$3:$E334,3,0)","v":"22:30:00"},{"$f":"VLOOKUP($AA334,DATA!$B$3:$E334,4,0)","v":3.125E-2},0.30208333333333337,0.30208333333333337,{"$f":"DATA!$C$9","v":0.89},{"$f":"DATA!$C$10","v":64},1,407.81250000000006,407.81250000000006,0,"","",0,"","",0,"","","","",null,{"$f":"X331","v":16},null,{"$f":"TEXT(Y333,\"ddd\")","v":"vr"},"MD",{"$f":"IFERROR(HLOOKUP(Y333,[1]DATA!$A$1:$NB$5,4,0),\"\")","v":"D3"},null,null,null,null,{"$f":"VLOOKUP(Y333,[1]SRM!$S$4:$Z$368,3,0)","v":116},"","",0]
["16vrND",{"$f":"VLOOKUP($AA335,DATA!$B$3:$E335,2,0)","v":"22:30:00"},{"$f":"VLOOKUP($AA335,DATA!$B$3:$E335,3,0)","v":"06:30:00"},{"$f":"VLOOKUP($AA335,DATA!$B$3:$E335,4,0)","v":3.125E-2},0.30208333333333326,0.30208333333333326,{"$f":"DATA!$C$9","v":0.89},{"$f":"DATA!$C$10","v":64},1,407.81249999999989,407.81249999999989,0,"","",0,"","",0,"","","","",null,{"$f":"X331","v":16},null,{"$f":"TEXT(Y333,\"ddd\")","v":"vr"},"ND",{"$f":"IFERROR(HLOOKUP(Y333,[1]DATA!$A$1:$NB$5,5,0),\"\")","v":"D2"},null,null,null,null,{"$f":"VLOOKUP(Y333,[1]SRM!$S$4:$Z$368,4,0)","v":41},"","",0]
["16zaDD",{"$f":"VLOOKUP($AA336,DATA!$B$3:$E336,2,0)","v":"06:30:00"},{"$f":"VLOOKUP($AA336,DATA!$B$3:$E336,3,0)","v":"14:30:00"},{"$f":"VLOOKUP($AA336,DATA!$B$3:$E336,4,0)","v":3.125E-2},0.30208333333333331,0.30208333333333331,{"$f":"DATA!$C$9","v":0.89},{"$f":"DATA!$C$10","v":64},1,407.8125,407.8125,0,"","",0,"","",0,"","","","",null,{"$f":"X331","v":16},{"$f":"Y333+1","v":"2018-04-21"},{"$f":"TEXT(Y336,\"ddd\")","v":"za"},"DD",{"$f":"IFERROR(HLOOKUP(Y336,[1]DATA!$A$1:$NB$5,3,0),\"\")","v":"D1"},null,null,null,null,{"$f":"VLOOKUP(Y336,[1]SRM!$S$4:$Z$368,2,0)","v":0},"","",""]
["16zaMD",{"$f":"VLOOKUP($AA337,DATA!$B$3:$E337,2,0)","v":"14:30:00"},{"$f":"VLOOKUP($AA337,DATA!$B$3:$E337,3,0)","v":"22:30:00"},{"$f":"VLOOKUP($AA337,DATA!$B$3:$E337,4,0)","v":3.125E-2},0.30208333333333337,0.30208333333333337,{"$f":"DATA!$C$9","v":0.89},{"$f":"DATA!$C$10","v":64},1,407.81250000000006,407.81250000000006,0,"","",0,"","",0,"","","","",null,{"$f":"X331","v":16},null,{"$f":"TEXT(Y336,\"ddd\")","v":"za"},"MD",{"$f":"IFERROR(HLOOKUP(Y336,[1]DATA!$A$1:$NB$5,4,0),\"\")","v":"-"},null,null,null,null,{"$f":"VLOOKUP(Y336,[1]SRM!$S$4:$Z$368,3,0)","v":0},"","",""]
["16zaND",{"$f":"VLOOKUP($AA338,DATA!$B$3:$E338,2,0)","v":"22:30:00"},{"$f":"VLOOKUP($AA338,DATA!$B$3:$E338,3,0)","v":"06:30:00"},{"$f":"VLOOKUP($AA338,DATA!$B$3:$E338,4,0)","v":3.125E-2},0.30208333333333326,0.30208333333333326,{"$f":"DATA!$C$9","v":0.89},{"$f":"DATA!$C$10","v":64},1,407.81249999999989,407.81249999999989,0,"","",0,"","",0,"","","","",null,{"$f":"X331","v":16},null,{"$f":"TEXT(Y336,\"ddd\")","v":"za"},"ND",{"$f":"IFERROR(HLOOKUP(Y336,[1]DATA!$A$1:$NB$5,5,0),\"\")","v":"-"},null,null,null,null,{"$f":"VLOOKUP(Y336,[1]SRM!$S$4:$Z$368,4,0)","v":0},"","",""]
["16zoDD",{"$f":"VLOOKUP($AA339,DATA!$B$3:$E339,2,0)","v":"06:30:00"},{"$f":"VLOOKUP($AA339,DATA!$B$3:$E339,3,0)","v":"14:30:00"},{"$f":"VLOOKUP($AA339,DATA!$B$3:$E339,4,0)","v":3.125E-2},0.30208333333333331,0.30208333333333331,{"$f":"DATA!$C$9","v":0.89},{"$f":"DATA!$C$10","v":64},1,407.8125,407.8125,0,"","",0,"","",0,"","","","",null,{"$f":"X331","v":16},{"$f":"Y336+1","v":"2018-04-22"},{"$f":"TEXT(Y339,\"ddd\")","v":"zo"},"DD",{"$f":"IFERROR(HLOOKUP(Y339,[1]DATA!$A$1:$NB$5,3,0),\"\")","v":"-"},null,null,null,null,{"$f":"VLOOKUP(Y339,[1]SRM!$S$4:$Z$368,2,0)","v":0},"","",""]
["16zoMD",{"$f":"VLOOKUP($AA340,DATA!$B$3:$E340,2,0)","v":"14:30:00"},{"$f":"VLOOKUP($AA340,DATA!$B$3:$E340,3,0)","v":"22:30:00"},{"$f":"VLOOKUP($AA340,DATA!$B$3:$E340,4,0)","v":3.125E-2},0.30208333333333337,0.30208333333333337,{"$f":"DATA!$C$9","v":0.89},{"$f":"DATA!$C$10","v":64},1,407.81250000000006,407.81250000000006,0,"","",0,"","",0,"","","","",null,{"$f":"X331","v":16},null,{"$f":"TEXT(Y339,\"ddd\")","v":"zo"},"MD",{"$f":"IFERROR(HLOOKUP(Y339,[1]DATA!$A$1:$NB$5,4,0),\"\")","v":"-"},null,null,null,null,{"$f":"VLOOKUP(Y339,[1]SRM!$S$4:$Z$368,3,0)","v":0},"","",""]
["16zoZND",{"$f":"VLOOKUP($AA341,DATA!$B$3:$E341,2,0)","v":"00:00:00"},{"$f":"VLOOKUP($AA341,DATA!$B$3:$E341,3,0)","v":"00:00:00"},{"$f":"VLOOKUP($AA341,DATA!$B$3:$E341,4,0)","v":0},0,0,{"$f":"DATA!$C$9","v":0.89},{"$f":"DATA!$C$10","v":64},1,0,0,0,"","",0,"","",0,"","","","",null,{"$f":"X331","v":16},null,{"$f":"TEXT(Y339,\"ddd\")","v":"zo"},"ZND",{"$f":"IFERROR(HLOOKUP(Y339,[1]DATA!$A$1:$NB$5,5,0),\"\")","v":"-"},null,null,null,null,{"$f":"VLOOKUP(Y339,[1]SRM!$S$4:$Z$368,4,0)","v":0},"","",""]
["17maDD",{"$f":"VLOOKUP($AA342,DATA!$B$3:$E342,2,0)","v":"06:30:00"},{"$f":"VLOOKUP($AA342,DATA!$B$3:$E342,3,0)","v":"14:30:00"},{"$f":"VLOOKUP($AA342,DATA!$B$3:$E342,4,0)","v":3.125E-2},0.30208333333333331,0.2472222222222222,{"$f":"DATA!$C$9","v":0.89},{"$f":"DATA!$C$10","v":64},1,333.75,407.8125,5.486111111111111E-2,74.0625,0.18160919540229886,{"$f":"TIME(INT($AD342/60),INT(MOD($AD342,60)/1),0)","v":0},"","",232.53333333333333,203,"","",203,null,{"$f":"X352","v":17},{"$f":"Y339+1","v":"2018-04-23"},{"$f":"TEXT(Y342,\"ddd\")","v":"ma"},"DD",{"$f":"IFERROR(HLOOKUP(Y342,[1]DATA!$A$1:$NB$5,3,0),\"\")","v":"D3"},79,null,15,218,{"$f":"VLOOKUP(Y342,[1]SRM!$S$4:$Z$368,2,0)","v":5},-130.75,0.49777777777777776,0.97895032276171767,{"$f":"IF(SUMIF(S342:S362,\">0\",K342:K362)=0,\"\",SUMIF(S342:S362,\">0\",K342:K362))","v":4893.75},{"$f":"IF(SUM(S342:S362)=0,\"\",SUM(S342:S362))","v":3371},{"$f":"IFERROR(AL342/AK342,\"-\")","v":0.68883780332056199},{"$f":"IF(SUM(M342:M362)=0,\"0\",SUM(M342:M362))","v":585.9375},{"$f":"IFERROR(AN342/AK342,\"-\")","v":0.11973180076628352},{"$f":"IF(SUM(P342:P362)=0,0,SUM(P342:P362))","v":0},{"$f":"IFERROR(AP342/AK342,\"-\")","v":0},{"$f":"IFERROR(AVERAGE(AJ342:AJ362),\"-\")","v":0.89184921869727696},{"$f":"IFERROR(SUMIF($AB342:$AB362,AS$5,$AJ342:$AJ362)/COUNTIFS($AB342:$AB362,AS$5,$AJ342:$AJ362,\">0\"),\"\")","v":0.94522291747332476},0.88905986691284034,0.84126487170566588,{"$f":"IFERROR((AK342-AL342-AN342-AP342),\"-\")","v":936.8125},{"$f":"IFERROR((1-AM342-AO342-AQ342), \"-\")","v":0.19143039591315447},{"$f":"IFERROR((AV342*$AE$2)/60,\"-\")","v":999.26666666666665},{"$f":"IFERROR(SUM(AG342:AG362),\"\")","v":556}]
["17maMD",{"$f":"VLOOKUP($AA343,DATA!$B$3:$E343,2,0)","v":"14:30:00"},{"$f":"VLOOKUP($AA343,DATA!$B$3:$E343,3,0)","v":"22:30:00"},{"$f":"VLOOKUP($AA343,DATA!$B$3:$E343,4,0)","v":3.125E-2},0.30208333333333337,0.25625000000000003,{"$f":"DATA!$C$9","v":0.89},{"$f":"DATA!$C$10","v":64},1,345.93750000000006,407.81250000000006,4.5833333333333337E-2,61.875000000000007,0.15172413793103448,{"$f":"TIME(INT(AD343/60),INT(MOD(AD343,60)/1),0)","v":0},"","",395.73333333333335,352,"",352,"",null,{"$f":"X352","v":17},null,{"$f":"TEXT(Y342,\"ddd\")","v":"ma"},"MD",{"$f":"IFERROR(HLOOKUP(Y342,[1]DATA!$A$1:$NB$5,4,0),\"\")","v":"D2"},66,null,19,371,{"$f":"VLOOKUP(Y342,[1]SRM!$S$4:$Z$368,3,0)","v":67},6.0624999999999432,0.86314176245210716,0.85520818325889647]
["17maND",{"$f":"VLOOKUP($AA344,DATA!$B$3:$E344,2,0)","v":"22:30:00"},{"$f":"VLOOKUP($AA344,DATA!$B$3:$E344,3,0)","v":"06:30:00"},{"$f":"VLOOKUP($AA344,DATA!$B$3:$E344,4,0)","v":3.125E-2},0.30208333333333326,0.24930555555555547,{"$f":"DATA!$C$9","v":0.89},{"$f":"DATA!$C$10","v":64},1,336.56249999999989,407.81249999999989,5.2777777777777778E-2,71.25,0.17471264367816097,0,"","",237.86666666666667,212,212,"","",null,{"$f":"X352","v":17},null,{"$f":"TEXT(Y342,\"ddd\")","v":"ma"},"ND",{"$f":"IFERROR(HLOOKUP(Y342,[1]DATA!$A$1:$NB$5,5,0),\"\")","v":"D1"},76,null,11,223,{"$f":"VLOOKUP(Y342,[1]SRM!$S$4:$Z$368,4,0)","v":10},-124.56249999999989,0.51984674329501934,0.95965572888649808]
["17diDD",{"$f":"VLOOKUP($AA345,DATA!$B$3:$E345,2,0)","v":"06:30:00"},{"$f":"VLOOKUP($AA345,DATA!$B$3:$E345,3,0)","v":"14:30:00"},{"$f":"VLOOKUP($AA345,DATA!$B$3:$E345,4,0)","v":3.125E-2},0.30208333333333331,0.24791666666666665,{"$f":"DATA!$C$9","v":0.89},{"$f":"DATA!$C$10","v":64},1,334.6875,407.8125,5.4166666666666669E-2,73.125,0.1793103448275862,0,"","",369.06666666666666,315,"","",315,null,{"$f":"X352","v":17},{"$f":"Y342+1","v":"2018-04-24"},{"$f":"TEXT(Y345,\"ddd\")","v":"di"},"DD",{"$f":"IFERROR(HLOOKUP(Y345,[1]DATA!$A$1:$NB$5,3,0),\"\")","v":"D3"},78,null,31,346,{"$f":"VLOOKUP(Y345,[1]SRM!$S$4:$Z$368,2,0)","v":54},-19.6875,0.77241379310344827,0.87236054207374725]
["17diMD",{"$f":"VLOOKUP($AA346,DATA!$B$3:$E346,2,0)","v":"14:30:00"},{"$f":"VLOOKUP($AA346,DATA!$B$3:$E346,3,0)","v":"22:30:00"},{"$f":"VLOOKUP($AA346,DATA!$B$3:$E346,4,0)","v":3.125E-2},0.30208333333333337,0.27569444444444446,{"$f":"DATA!$C$9","v":0.89},{"$f":"DATA!$C$10","v":64},1,372.1875,407.81250000000006,2.6388888888888889E-2,35.625,8.7356321839080445E-2,0,"","",327.46666666666664,276,"",276,"",null,{"$f":"X352","v":17},null,{"$f":"TEXT(Y345,\"ddd\")","v":"di"},"MD",{"$f":"IFERROR(HLOOKUP(Y345,[1]DATA!$A$1:$NB$5,4,0),\"\")","v":"D2"},38,null,31,307,{"$f":"VLOOKUP(Y345,[1]SRM!$S$4:$Z$368,3,0)","v":39},-96.1875,0.6767816091954022,0.89357831544478805]
["17diND",{"$f":"VLOOKUP($AA347,DATA!$B$3:$E347,2,0)","v":"22:30:00"},{"$f":"VLOOKUP($AA347,DATA!$B$3:$E347,3,0)","v":"06:30:00"},{"$f":"VLOOKUP($AA347,DATA!$B$3:$E347,4,0)","v":3.125E-2},0.30208333333333326,0.29652777777777772,{"$f":"DATA!$C$9","v":0.89},{"$f":"DATA!$C$10","v":64},1,400.31249999999994,407.81249999999989,5.5555555555555558E-3,7.5,1.8390804597701156E-2,0,"","",249.6,223,223,"","",null,{"$f":"X352","v":17},null,{"$f":"TEXT(Y345,\"ddd\")","v":"di"},"ND",{"$f":"IFERROR(HLOOKUP(Y345,[1]DATA!$A$1:$NB$5,5,0),\"\")","v":"D1"},8,null,11,234,{"$f":"VLOOKUP(Y345,[1]SRM!$S$4:$Z$368,4,0)","v":45},-177.31249999999994,0.54681992337164764,{"$f":"IFERROR(R347/(R347+AG347),\"\")","v":0.84725050916496936}]
["17woDD",{"$f":"VLOOKUP($AA348,DATA!$B$3:$E348,2,0)","v":"06:30:00"},{"$f":"VLOOKUP($AA348,DATA!$B$3:$E348,3,0)","v":"14:30:00"},{"$f":"VLOOKUP($AA348,DATA!$B$3:$E348,4,0)","v":3.125E-2},{"$f":"(C348-B348+(B348>C348))-D348","v":0.30208333333333331},{"$f":"E348-O348-L348","v":0.30208333333333331},{"$f":"DATA!$C$9","v":0.89},{"$f":"DATA!$C$10","v":64},1,407.8125,407.8125,0,"","",0,"","",359.46666666666664,319,"","",319,null,{"$f":"X352","v":17},{"$f":"Y345+1","v":"2018-04-25"},{"$f":"TEXT(Y348,\"ddd\")","v":"wo"},"DD",{"$f":"IFERROR(HLOOKUP(Y348,[1]DATA!$A$1:$NB$5,3,0),\"\")","v":"D3"},0,null,18,337,{"$f":"VLOOKUP(Y348,[1]SRM!$S$4:$Z$368,2,0)","v":227},-88.8125,0.78222222222222226,0.6129362282596339]
["17woMD",{"$f":"VLOOKUP($AA349,DATA!$B$3:$E349,2,0)","v":"14:30:00"},{"$f":"VLOOKUP($AA349,DATA!$B$3:$E349,3,0)","v":"22:30:00"},{"$f":"VLOOKUP($AA349,DATA!$B$3:$E349,4,0)","v":3.125E-2},0.30208333333333337,0.26527777777777783,{"$f":"DATA!$C$9","v":0.89},{"$f":"DATA!$C$10","v":64},1,358.12500000000006,407.81250000000006,3.6805555555555557E-2,49.6875,0.1218390804597701,0,"","",312.5333333333333,262,"",262,"",null,{"$f":"X352","v":17},null,{"$f":"TEXT(Y348,\"ddd\")","v":"wo"},"MD",{"$f":"IFERROR(HLOOKUP(Y348,[1]DATA!$A$1:$NB$5,4,0),\"\")","v":"D2"},53,null,31,293,{"$f":"VLOOKUP(Y348,[1]SRM!$S$4:$Z$368,3,0)","v":32},-96.125000000000057,0.64245210727969337,0.90712074303405577]
["17woND",{"$f":"VLOOKUP($AA350,DATA!$B$3:$E350,2,0)","v":"22:30:00"},{"$f":"VLOOKUP($AA350,DATA!$B$3:$E350,3,0)","v":"06:30:00"},{"$f":"VLOOKUP($AA350,DATA!$B$3:$E350,4,0)","v":3.125E-2},0.30208333333333326,0.26666666666666661,{"$f":"DATA!$C$9","v":0.89},{"$f":"DATA!$C$10","v":64},1,359.99999999999994,407.81249999999989,3.5416666666666666E-2,47.8125,0.11724137931034485,0,"","",374.4,324,324,"","",null,{"$f":"X352","v":17},null,{"$f":"TEXT(Y348,\"ddd\")","v":"wo"},"ND",{"$f":"IFERROR(HLOOKUP(Y348,[1]DATA!$A$1:$NB$5,5,0),\"\")","v":"D1"},51,null,27,351,{"$f":"VLOOKUP(Y348,[1]SRM!$S$4:$Z$368,4,0)","v":10},-35.999999999999943,0.79448275862068984,0.97398543184183139]
["17doDD",{"$f":"VLOOKUP($AA351,DATA!$B$3:$E351,2,0)","v":"06:30:00"},{"$f":"VLOOKUP($AA351,DATA!$B$3:$E351,3,0)","v":"14:30:00"},{"$f":"VLOOKUP($AA351,DATA!$B$3:$E351,4,0)","v":3.125E-2},0.30208333333333331,0.24791666666666665,{"$f":"DATA!$C$9","v":0.89},{"$f":"DATA!$C$10","v":64},1,334.6875,407.8125,5.4166666666666669E-2,73.125,0.1793103448275862,0,"","",317.86666666666667,283,"","",283,null,{"$f":"X352","v":17},{"$f":"Y348+1","v":"2018-04-26"},{"$f":"TEXT(Y351,\"ddd\")","v":"do"},"DD",{"$f":"IFERROR(HLOOKUP(Y351,[1]DATA!$A$1:$NB$5,3,0),\"\")","v":"D3"},78,null,15,298,{"$f":"VLOOKUP(Y351,[1]SRM!$S$4:$Z$368,2,0)","v":35},-51.6875,0.69394636015325672,0.90081239372756472]
["17doMD",{"$f":"VLOOKUP($AA352,DATA!$B$3:$E352,2,0)","v":"14:30:00"},{"$f":"VLOOKUP($AA352,DATA!$B$3:$E352,3,0)","v":"22:30:00"},{"$f":"VLOOKUP($AA352,DATA!$B$3:$E352,4,0)","v":3.125E-2},0.30208333333333337,0.27500000000000002,{"$f":"DATA!$C$9","v":0.89},{"$f":"DATA!$C$10","v":64},1,371.25000000000006,407.81250000000006,2.7083333333333334E-2,36.5625,8.9655172413793088E-2,0,"","",289.06666666666666,254,"",254,"",null,{"$f":"WEEKNUM($Y342)","v":17},null,{"$f":"TEXT(Y351,\"ddd\")","v":"do"},"MD",{"$f":"IFERROR(HLOOKUP(Y351,[1]DATA!$A$1:$NB$5,4,0),\"\")","v":"D2"},39,null,17,271,{"$f":"VLOOKUP(Y351,[1]SRM!$S$4:$Z$368,3,0)","v":32},-117.25000000000006,0.62283524904214549,0.90033222591362128]
["17doND",{"$f":"VLOOKUP($AA353,DATA!$B$3:$E353,2,0)","v":"22:30:00"},{"$f":"VLOOKUP($AA353,DATA!$B$3:$E353,3,0)","v":"06:30:00"},{"$f":"VLOOKUP($AA353,DATA!$B$3:$E353,4,0)","v":3.125E-2},0.30208333333333326,0.26111111111111102,{"$f":"DATA!$C$9","v":0.89},{"$f":"DATA!$C$10","v":64},1,352.49999999999989,407.81249999999989,4.0972222222222222E-2,55.3125,0.13563218390804602,0,"","",387.2,348,348,"","",null,{"$f":"X352","v":17},null,{"$f":"TEXT(Y351,\"ddd\")","v":"do"},"ND",{"$f":"IFERROR(HLOOKUP(Y351,[1]DATA!$A$1:$NB$5,5,0),\"\")","v":"D1"},59,null,15,363,{"$f":"VLOOKUP(Y351,[1]SRM!$S$4:$Z$368,4,0)","v":0},-4.4999999999998863,0.85333333333333361,1]
["17vrDD",{"$f":"VLOOKUP($AA354,DATA!$B$3:$E354,2,0)","v":"06:30:00"},{"$f":"VLOOKUP($AA354,DATA!$B$3:$E354,3,0)","v":"14:30:00"},{"$f":"VLOOKUP($AA354,DATA!$B$3:$E354,4,0)","v":3.125E-2},0.30208333333333331,0.30208333333333331,{"$f":"DATA!$C$9","v":0.89},{"$f":"DATA!$C$10","v":64},1,407.8125,407.8125,0,"","",0,"","",0,"","","","",null,{"$f":"X352","v":17},{"$f":"Y351+1","v":"2018-04-27"},{"$f":"TEXT(Y354,\"ddd\")","v":"vr"},"DD",{"$f":"IFERROR(HLOOKUP(Y354,[1]DATA!$A$1:$NB$5,3,0),\"\")","v":"D3"},null,null,null,null,{"$f":"VLOOKUP(Y354,[1]SRM!$S$4:$Z$368,2,0)","v":0},"","",""]
["17vrMD",{"$f":"VLOOKUP($AA355,DATA!$B$3:$E355,2,0)","v":"14:30:00"},{"$f":"VLOOKUP($AA355,DATA!$B$3:$E355,3,0)","v":"22:30:00"},{"$f":"VLOOKUP($AA355,DATA!$B$3:$E355,4,0)","v":3.125E-2},0.30208333333333337,0.30208333333333337,{"$f":"DATA!$C$9","v":0.89},{"$f":"DATA!$C$10","v":64},1,407.81250000000006,407.81250000000006,0,"","",0,"","",0,"","","","",null,{"$f":"X352","v":17},null,{"$f":"TEXT(Y354,\"ddd\")","v":"vr"},"MD",{"$f":"IFERROR(HLOOKUP(Y354,[1]DATA!$A$1:$NB$5,4,0),\"\")","v":"D2"},null,null,null,null,{"$f":"VLOOKUP(Y354,[1]SRM!$S$4:$Z$368,3,0)","v":0},"","",""]
["17vrND",{"$f":"VLOOKUP($AA356,DATA!$B$3:$E356,2,0)","v":"22:30:00"},{"$f":"VLOOKUP($AA356,DATA!$B$3:$E356,3,0)","v":"06:30:00"},{"$f":"VLOOKUP($AA356,DATA!$B$3:$E356,4,0)","v":3.125E-2},0.30208333333333326,0.30208333333333326,{"$f":"DATA!$C$9","v":0.89},{"$f":"DATA!$C$10","v":64},1,407.81249999999989,407.81249999999989,0,"","",0,"","",0,"","","","",null,{"$f":"X352","v":17},null,{"$f":"TEXT(Y354,\"ddd\")","v":"vr"},"ND",{"$f":"IFERROR(HLOOKUP(Y354,[1]DATA!$A$1:$NB$5,5,0),\"\")","v":"D2"},null,null,null,null,{"$f":"VLOOKUP(Y354,[1]SRM!$S$4:$Z$368,4,0)","v":0},"","",""]
["17zaDD",{"$f":"VLOOKUP($AA357,DATA!$B$3:$E357,2,0)","v":"06:30:00"},{"$f":"VLOOKUP($AA357,DATA!$B$3:$E357,3,0)","v":"14:30:00"},{"$f":"VLOOKUP($AA357,DATA!$B$3:$E357,4,0)","v":3.125E-2},0.30208333333333331,0.30208333333333331,{"$f":"DATA!$C$9","v":0.89},{"$f":"DATA!$C$10","v":64},1,407.8125,407.8125,0,"","",0,"","",0,"","","","",null,{"$f":"X352","v":17},{"$f":"Y354+1","v":"2018-04-28"},{"$f":"TEXT(Y357,\"ddd\")","v":"za"},"DD",{"$f":"IFERROR(HLOOKUP(Y357,[1]DATA!$A$1:$NB$5,3,0),\"\")","v":"D3"},null,null,null,null,{"$f":"VLOOKUP(Y357,[1]SRM!$S$4:$Z$368,2,0)","v":0},"","",""]
["17zaMD",{"$f":"VLOOKUP($AA358,DATA!$B$3:$E358,2,0)","v":"14:30:00"},{"$f":"VLOOKUP($AA358,DATA!$B$3:$E358,3,0)","v":"22:30:00"},{"$f":"VLOOKUP($AA358,DATA!$B$3:$E358,4,0)","v":3.125E-2},0.30208333333333337,0.30208333333333337,{"$f":"DATA!$C$9","v":0.89},{"$f":"DATA!$C$10","v":64},1,407.81250000000006,407.81250000000006,0,"","",0,"","",0,"","","","",null,{"$f":"X352","v":17},null,{"$f":"TEXT(Y357,\"ddd\")","v":"za"},"MD",{"$f":"IFERROR(HLOOKUP(Y357,[1]DATA!$A$1:$NB$5,4,0),\"\")","v":"-"},null,null,null,null,{"$f":"VLOOKUP(Y357,[1]SRM!$S$4:$Z$368,3,0)","v":0},"","",""]
["17zaND",{"$f":"VLOOKUP($AA359,DATA!$B$3:$E359,2,0)","v":"22:30:00"},{"$f":"VLOOKUP($AA359,DATA!$B$3:$E359,3,0)","v":"06:30:00"},{"$f":"VLOOKUP($AA359,DATA!$B$3:$E359,4,0)","v":3.125E-2},0.30208333333333326,0.30208333333333326,{"$f":"DATA!$C$9","v":0.89},{"$f":"DATA!$C$10","v":64},1,407.81249999999989,407.81249999999989,0,"","",0,"","",0,"","","","",null,{"$f":"X352","v":17},null,{"$f":"TEXT(Y357,\"ddd\")","v":"za"},"ND",{"$f":"IFERROR(HLOOKUP(Y357,[1]DATA!$A$1:$NB$5,5,0),\"\")","v":"-"},null,null,null,null,{"$f":"VLOOKUP(Y357,[1]SRM!$S$4:$Z$368,4,0)","v":0},"","",""]
["17zoDD",{"$f":"VLOOKUP($AA360,DATA!$B$3:$E360,2,0)","v":"06:30:00"},{"$f":"VLOOKUP($AA360,DATA!$B$3:$E360,3,0)","v":"14:30:00"},{"$f":"VLOOKUP($AA360,DATA!$B$3:$E360,4,0)","v":3.125E-2},0.30208333333333331,0.30208333333333331,{"$f":"DATA!$C$9","v":0.89},{"$f":"DATA!$C$10","v":64},1,407.8125,407.8125,0,"","",0,"","",0,"","","","",null,{"$f":"X352","v":17},{"$f":"Y357+1","v":"2018-04-29"},{"$f":"TEXT(Y360,\"ddd\")","v":"zo"},"DD",{"$f":"IFERROR(HLOOKUP(Y360,[1]DATA!$A$1:$NB$5,3,0),\"\")","v":"-"},null,null,null,null,{"$f":"VLOOKUP(Y360,[1]SRM!$S$4:$Z$368,2,0)","v":0},"","",""]
["17zoMD",{"$f":"VLOOKUP($AA361,DATA!$B$3:$E361,2,0)","v":"14:30:00"},{"$f":"VLOOKUP($AA361,DATA!$B$3:$E361,3,0)","v":"22:30:00"},{"$f":"VLOOKUP($AA361,DATA!$B$3:$E361,4,0)","v":3.125E-2},0.30208333333333337,0.30208333333333337,{"$f":"DATA!$C$9","v":0.89},{"$f":"DATA!$C$10","v":64},1,407.81250000000006,407.81250000000006,0,"","",0,"","",0,"","","","",null,{"$f":"X352","v":17},null,{"$f":"TEXT(Y360,\"ddd\")","v":"zo"},"MD",{"$f":"IFERROR(HLOOKUP(Y360,[1]DATA!$A$1:$NB$5,4,0),\"\")","v":"-"},null,null,null,null,{"$f":"VLOOKUP(Y360,[1]SRM!$S$4:$Z$368,3,0)","v":0},"","",""]
["17zoZND",{"$f":"VLOOKUP($AA362,DATA!$B$3:$E362,2,0)","v":"00:00:00"},{"$f":"VLOOKUP($AA362,DATA!$B$3:$E362,3,0)","v":"00:00:00"},{"$f":"VLOOKUP($AA362,DATA!$B$3:$E362,4,0)","v":0},0,0,{"$f":"DATA!$C$9","v":0.89},{"$f":"DATA!$C$10","v":64},1,0,0,0,"","",0,"","",0,"","","","",null,{"$f":"X352","v":17},null,{"$f":"TEXT(Y360,\"ddd\")","v":"zo"},"ZND",{"$f":"IFERROR(HLOOKUP(Y360,[1]DATA!$A$1:$NB$5,5,0),\"\")","v":"-"},null,null,null,null,{"$f":"VLOOKUP(Y360,[1]SRM!$S$4:$Z$368,4,0)","v":0},"","",""]
["18maDD",{"$f":"VLOOKUP($AA363,DATA!$B$3:$E363,2,0)","v":"06:30:00"},{"$f":"VLOOKUP($AA363,DATA!$B$3:$E363,3,0)","v":"14:30:00"},{"$f":"VLOOKUP($AA363,DATA!$B$3:$E363,4,0)","v":3.125E-2},0.30208333333333331,0.29444444444444445,{"$f":"DATA!$C$9","v":0.89},{"$f":"DATA!$C$10","v":64},1,397.5,407.8125,7.6388888888888886E-3,10.3125,2.528735632183908E-2,{"$f":"TIME(INT($AD363/60),INT(MOD($AD363,60)/1),0)","v":0},"","",347.73333333333335,290,"",290,"",null,{"$f":"X373","v":18},{"$f":"Y360+1","v":"2018-04-30"},{"$f":"TEXT(Y363,\"ddd\")","v":"ma"},"DD",{"$f":"IFERROR(HLOOKUP(Y363,[1]DATA!$A$1:$NB$5,3,0),\"\")","v":"D2"},11,null,36,326,{"$f":"VLOOKUP(Y363,[1]SRM!$S$4:$Z$368,2,0)","v":24},-107.5,0.71111111111111114,0.93543758967001434,{"$f":"IF(SUMIF(S363:S383,\">0\",K363:K383)=0,\"\",SUMIF(S363:S383,\">0\",K363:K383))","v":6525},{"$f":"IF(SUM(S363:S383)=0,\"\",SUM(S363:S383))","v":4673},{"$f":"IFERROR(AL363/AK363,\"-\")","v":0.71616858237547898},{"$f":"IF(SUM(M363:M383)=0,\"0\",SUM(M363:M383))","v":196.875},{"$f":"IFERROR(AN363/AK363,\"-\")","v":3.017241379310345E-2},{"$f":"IF(SUM(P363:P383)=0,0,SUM(P363:P383))","v":0},{"$f":"IFERROR(AP363/AK363,\"-\")","v":0},{"$f":"IFERROR(AVERAGE(AJ363:AJ383),\"-\")","v":0.89239076355004021},{"$f":"IFERROR(SUMIF($AB363:$AB383,AS$5,$AJ363:$AJ383)/COUNTIFS($AB363:$AB383,AS$5,$AJ363:$AJ383,\">0\"),\"\")","v":0.97834800281704681},0.84198714561390064,0.86691786580640107,{"$f":"IFERROR((AK363-AL363-AN363-AP363),\"-\")","v":1655.125},{"$f":"IFERROR((1-AM363-AO363-AQ363), \"-\")","v":0.2536590038314176},{"$f":"IFERROR((AV363*$AE$2)/60,\"-\")","v":1765.4666666666667},{"$f":"IFERROR(SUM(AG363:AG383),\"\")","v":722}]
["18maMD",{"$f":"VLOOKUP($AA364,DATA!$B$3:$E364,2,0)","v":"14:30:00"},{"$f":"VLOOKUP($AA364,DATA!$B$3:$E364,3,0)","v":"22:30:00"},{"$f":"VLOOKUP($AA364,DATA!$B$3:$E364,4,0)","v":3.125E-2},0.30208333333333337,0.28958333333333336,{"$f":"DATA!$C$9","v":0.89},{"$f":"DATA!$C$10","v":64},1,390.93750000000006,407.81250000000006,1.2499999999999999E-2,16.875,4.1379310344827579E-2,{"$f":"TIME(INT(AD364/60),INT(MOD(AD364,60)/1),0)","v":0},"","",305.06666666666666,263,263,"","",null,{"$f":"X373","v":18},null,{"$f":"TEXT(Y363,\"ddd\")","v":"ma"},"MD",{"$f":"IFERROR(HLOOKUP(Y363,[1]DATA!$A$1:$NB$5,4,0),\"\")","v":"D1"},18,null,23,286,{"$f":"VLOOKUP(Y363,[1]SRM!$S$4:$Z$368,3,0)","v":7},-127.93750000000006,0.64490421455938685,0.97756889553514204]
["18maND",{"$f":"VLOOKUP($AA365,DATA!$B$3:$E365,2,0)","v":"22:30:00"},{"$f":"VLOOKUP($AA365,DATA!$B$3:$E365,3,0)","v":"06:30:00"},{"$f":"VLOOKUP($AA365,DATA!$B$3:$E365,4,0)","v":3.125E-2},0.30208333333333326,0.28611111111111104,{"$f":"DATA!$C$9","v":0.89},{"$f":"DATA!$C$10","v":64},1,386.24999999999989,407.81249999999989,1.5972222222222224E-2,21.562500000000004,5.2873563218390825E-2,0,"","",342.4,303,"","",303,null,{"$f":"X373","v":18},null,{"$f":"TEXT(Y363,\"ddd\")","v":"ma"},"ND",{"$f":"IFERROR(HLOOKUP(Y363,[1]DATA!$A$1:$NB$5,5,0),\"\")","v":"D3"},23,null,18,321,{"$f":"VLOOKUP(Y363,[1]SRM!$S$4:$Z$368,4,0)","v":14},-83.249999999999886,0.7429885057471266,0.96071829405162734]
["18diDD",{"$f":"VLOOKUP($AA366,DATA!$B$3:$E366,2,0)","v":"06:30:00"},{"$f":"VLOOKUP($AA366,DATA!$B$3:$E366,3,0)","v":"14:30:00"},{"$f":"VLOOKUP($AA366,DATA!$B$3:$E366,4,0)","v":3.125E-2},0.30208333333333331,0.29097222222222219,{"$f":"DATA!$C$9","v":0.89},{"$f":"DATA!$C$10","v":64},1,392.81249999999994,407.8125,1.1111111111111112E-2,15,3.6781609195402298E-2,0,"","",372.26666666666665,312,"",312,"",null,{"$f":"X373","v":18},{"$f":"Y363+1","v":"2018-05-01"},{"$f":"TEXT(Y366,\"ddd\")","v":"di"},"DD",{"$f":"IFERROR(HLOOKUP(Y366,[1]DATA!$A$1:$NB$5,3,0),\"\")","v":"D2"},16,null,37,349,{"$f":"VLOOKUP(Y366,[1]SRM!$S$4:$Z$368,2,0)","v":107},-80.812499999999943,0.76505747126436785,0.77674224509667544]
["18diMD",{"$f":"VLOOKUP($AA367,DATA!$B$3:$E367,2,0)","v":"14:30:00"},{"$f":"VLOOKUP($AA367,DATA!$B$3:$E367,3,0)","v":"22:30:00"},{"$f":"VLOOKUP($AA367,DATA!$B$3:$E367,4,0)","v":3.125E-2},0.30208333333333337,0.30000000000000004,{"$f":"DATA!$C$9","v":0.89},{"$f":"DATA!$C$10","v":64},1,405.00000000000006,407.81250000000006,2.0833333333333333E-3,2.8125,6.8965517241379301E-3,0,"","",334.93333333333334,285,285,"","",null,{"$f":"X373","v":18},null,{"$f":"TEXT(Y366,\"ddd\")","v":"di"},"MD",{"$f":"IFERROR(HLOOKUP(Y366,[1]DATA!$A$1:$NB$5,4,0),\"\")","v":"D1"},3,null,29,314,{"$f":"VLOOKUP(Y366,[1]SRM!$S$4:$Z$368,3,0)","v":7},-120.00000000000006,0.69885057471264356,0.97952817313316431]
[{"$f":"X368&Z368&AA368","v":"18diND"},{"$f":"VLOOKUP($AA368,DATA!$B$3:$E368,2,0)","v":"22:30:00"},{"$f":"VLOOKUP($AA368,DATA!$B$3:$E368,3,0)","v":"06:30:00"},{"$f":"VLOOKUP($AA368,DATA!$B$3:$E368,4,0)","v":3.125E-2},0.30208333333333326,0.30208333333333326,{"$f":"DATA!$C$9","v":0.89},{"$f":"DATA!$C$10","v":64},1,407.81249999999989,407.81249999999989,0,"","",0,{"$f":"IF($O368*86400/$H368=0,\"\",$O368*86400/$H368)","v":""},"",374.4,329,"","",329,null,{"$f":"X373","v":18},null,{"$f":"TEXT(Y366,\"ddd\")","v":"di"},"ND",{"$f":"IFERROR(HLOOKUP(Y366,[1]DATA!$A$1:$NB$5,5,0),\"\")","v":"D3"},0,null,22,351,{"$f":"VLOOKUP(Y366,[1]SRM!$S$4:$Z$368,4,0)","v":5},-78.812499999999886,0.80674329501915731,0.98682129678439645]
["18woDD",{"$f":"VLOOKUP($AA369,DATA!$B$3:$E369,2,0)","v":"06:30:00"},{"$f":"VLOOKUP($AA369,DATA!$B$3:$E369,3,0)","v":"14:30:00"},{"$f":"VLOOKUP($AA369,DATA!$B$3:$E369,4,0)","v":3.125E-2},0.30208333333333331,0.30208333333333331,{"$f":"DATA!$C$9","v":0.89},{"$f":"DATA!$C$10","v":64},1,407.8125,407.8125,0,"","",0,"","",353.06666666666666,300,"",300,"",null,{"$f":"X373","v":18},{"$f":"Y366+1","v":"2018-05-02"},{"$f":"TEXT(Y369,\"ddd\")","v":"wo"},"DD",{"$f":"IFERROR(HLOOKUP(Y369,[1]DATA!$A$1:$NB$5,3,0),\"\")","v":"D2"},0,null,31,331,{"$f":"VLOOKUP(Y369,[1]SRM!$S$4:$Z$368,2,0)","v":115},-107.8125,0.73563218390804597,0.75430850306224184]
["18woMD",{"$f":"VLOOKUP($AA370,DATA!$B$3:$E370,2,0)","v":"14:30:00"},{"$f":"VLOOKUP($AA370,DATA!$B$3:$E370,3,0)","v":"22:30:00"},{"$f":"VLOOKUP($AA370,DATA!$B$3:$E370,4,0)","v":3.125E-2},0.30208333333333337,0.30138888888888893,{"$f":"DATA!$C$9","v":0.89},{"$f":"DATA!$C$10","v":64},1,406.87500000000006,407.81250000000006,6.9444444444444447E-4,0.9375,2.2988505747126432E-3,0,"","",394.66666666666669,338,338,"","",null,{"$f":"X373","v":18},null,{"$f":"TEXT(Y369,\"ddd\")","v":"wo"},"MD",{"$f":"IFERROR(HLOOKUP(Y369,[1]DATA!$A$1:$NB$5,4,0),\"\")","v":"D1"},1,null,32,370,{"$f":"VLOOKUP(Y369,[1]SRM!$S$4:$Z$368,3,0)","v":10},-68.875000000000057,0.82881226053639834,0.97528830313014825]
["18woND",{"$f":"VLOOKUP($AA371,DATA!$B$3:$E371,2,0)","v":"22:30:00"},{"$f":"VLOOKUP($AA371,DATA!$B$3:$E371,3,0)","v":"06:30:00"},{"$f":"VLOOKUP($AA371,DATA!$B$3:$E371,4,0)","v":3.125E-2},0.30208333333333326,0.29791666666666661,{"$f":"DATA!$C$9","v":0.89},{"$f":"DATA!$C$10","v":64},1,402.18749999999994,407.81249999999989,4.1666666666666666E-3,5.625,1.3793103448275865E-2,0,"","",332.8,301,"","",301,null,{"$f":"X373","v":18},null,{"$f":"TEXT(Y369,\"ddd\")","v":"wo"},"ND",{"$f":"IFERROR(HLOOKUP(Y369,[1]DATA!$A$1:$NB$5,5,0),\"\")","v":"D3"},6,null,11,312,{"$f":"VLOOKUP(Y369,[1]SRM!$S$4:$Z$368,4,0)","v":160},-101.18749999999994,0.73808429118773966,0.67532467532467533]
["18doDD",{"$f":"VLOOKUP($AA372,DATA!$B$3:$E372,2,0)","v":"06:30:00"},{"$f":"VLOOKUP($AA372,DATA!$B$3:$E372,3,0)","v":"14:30:00"},{"$f":"VLOOKUP($AA372,DATA!$B$3:$E372,4,0)","v":3.125E-2},0.30208333333333331,0.28541666666666665,{"$f":"DATA!$C$9","v":0.89},{"$f":"DATA!$C$10","v":64},1,385.3125,407.8125,1.6666666666666666E-2,22.5,5.5172413793103448E-2,0,"","",332.8,293,"",293,"",null,{"$f":"X373","v":18},{"$f":"Y369+1","v":"2018-05-03"},{"$f":"TEXT(Y372,\"ddd\")","v":"do"},"DD",{"$f":"IFERROR(HLOOKUP(Y372,[1]DATA!$A$1:$NB$5,3,0),\"\")","v":"D2"},24,null,19,312,{"$f":"VLOOKUP(Y372,[1]SRM!$S$4:$Z$368,2,0)","v":16},-92.3125,0.71846743295019155,0.95412844036697253]
["18doMD",{"$f":"VLOOKUP($AA373,DATA!$B$3:$E373,2,0)","v":"14:30:00"},{"$f":"VLOOKUP($AA373,DATA!$B$3:$E373,3,0)","v":"22:30:00"},{"$f":"VLOOKUP($AA373,DATA!$B$3:$E373,4,0)","v":3.125E-2},0.30208333333333337,0.29444444444444451,{"$f":"DATA!$C$9","v":0.89},{"$f":"DATA!$C$10","v":64},1,397.50000000000011,407.81250000000006,7.6388888888888886E-3,10.3125,2.5287356321839077E-2,0,"","",404.26666666666665,360,360,"","",null,{"$f":"WEEKNUM($Y363)","v":18},null,{"$f":"TEXT(Y372,\"ddd\")","v":"do"},"MD",{"$f":"IFERROR(HLOOKUP(Y372,[1]DATA!$A$1:$NB$5,4,0),\"\")","v":"D1"},11,null,19,379,{"$f":"VLOOKUP(Y372,[1]SRM!$S$4:$Z$368,3,0)","v":8},-37.500000000000114,0.88275862068965505,0.98059508408796892]
["18doND",{"$f":"VLOOKUP($AA374,DATA!$B$3:$E374,2,0)","v":"22:30:00"},{"$f":"VLOOKUP($AA374,DATA!$B$3:$E374,3,0)","v":"06:30:00"},{"$f":"VLOOKUP($AA374,DATA!$B$3:$E374,4,0)","v":3.125E-2},0.30208333333333326,0.30208333333333326,{"$f":"DATA!$C$9","v":0.89},{"$f":"DATA!$C$10","v":64},1,407.81249999999989,407.81249999999989,0,"","",0,"","",312.5333333333333,267,"","",267,null,{"$f":"X373","v":18},null,{"$f":"TEXT(Y372,\"ddd\")","v":"do"},"ND",{"$f":"IFERROR(HLOOKUP(Y372,[1]DATA!$A$1:$NB$5,5,0),\"\")","v":"D3"},0,null,26,293,{"$f":"VLOOKUP(Y372,[1]SRM!$S$4:$Z$368,4,0)","v":72},-140.81249999999989,0.65471264367816107,0.81276005547850205]
["18vrDD",{"$f":"VLOOKUP($AA375,DATA!$B$3:$E375,2,0)","v":"06:30:00"},{"$f":"VLOOKUP($AA375,DATA!$B$3:$E375,3,0)","v":"14:30:00"},{"$f":"VLOOKUP($AA375,DATA!$B$3:$E375,4,0)","v":3.125E-2},0.30208333333333331,0.26874999999999999,{"$f":"DATA!$C$9","v":0.89},{"$f":"DATA!$C$10","v":64},1,362.8125,407.8125,3.3333333333333333E-2,45,0.1103448275862069,0,"","",308.26666666666665,267,"",267,"",null,{"$f":"X373","v":18},{"$f":"Y372+1","v":"2018-05-04"},{"$f":"TEXT(Y375,\"ddd\")","v":"vr"},"DD",{"$f":"IFERROR(HLOOKUP(Y375,[1]DATA!$A$1:$NB$5,3,0),\"\")","v":"D2"},48,null,22,289,{"$f":"VLOOKUP(Y375,[1]SRM!$S$4:$Z$368,2,0)","v":44},-95.8125,0.65471264367816095,0.87509462528387583]
["18vrMD",{"$f":"VLOOKUP($AA376,DATA!$B$3:$E376,2,0)","v":"14:30:00"},{"$f":"VLOOKUP($AA376,DATA!$B$3:$E376,3,0)","v":"22:30:00"},{"$f":"VLOOKUP($AA376,DATA!$B$3:$E376,4,0)","v":3.125E-2},0.30208333333333337,0.28750000000000003,{"$f":"DATA!$C$9","v":0.89},{"$f":"DATA!$C$10","v":64},1,388.12500000000006,407.81250000000006,1.4583333333333332E-2,19.687499999999996,4.8275862068965503E-2,0,"","",230.4,207,207,"","",null,{"$f":"X373","v":18},null,{"$f":"TEXT(Y375,\"ddd\")","v":"vr"},"MD",{"$f":"IFERROR(HLOOKUP(Y375,[1]DATA!$A$1:$NB$5,4,0),\"\")","v":"D1"},21,null,9,216,{"$f":"VLOOKUP(Y375,[1]SRM!$S$4:$Z$368,3,0)","v":5},-181.12500000000006,0.50758620689655165,0.97875955819881055]
["18vrND",{"$f":"VLOOKUP($AA377,DATA!$B$3:$E377,2,0)","v":"22:30:00"},{"$f":"VLOOKUP($AA377,DATA!$B$3:$E377,3,0)","v":"06:30:00"},{"$f":"VLOOKUP($AA377,DATA!$B$3:$E377,4,0)","v":3.125E-2},0.30208333333333326,0.29930555555555549,{"$f":"DATA!$C$9","v":0.89},{"$f":"DATA!$C$10","v":64},1,404.06249999999989,407.81249999999989,2.7777777777777779E-3,3.75,9.1954022988505781E-3,0,"","",364.8,328,"","",328,null,{"$f":"X373","v":18},null,{"$f":"TEXT(Y375,\"ddd\")","v":"vr"},"ND",{"$f":"IFERROR(HLOOKUP(Y375,[1]DATA!$A$1:$NB$5,5,0),\"\")","v":"D3"},4,null,14,342,{"$f":"VLOOKUP(Y375,[1]SRM!$S$4:$Z$368,4,0)","v":41},-76.062499999999886,0.80429118773946384,0.89896500739280438]
["18zaDD",{"$f":"VLOOKUP($AA378,DATA!$B$3:$E378,2,0)","v":"06:30:00"},{"$f":"VLOOKUP($AA378,DATA!$B$3:$E378,3,0)","v":"14:30:00"},{"$f":"VLOOKUP($AA378,DATA!$B$3:$E378,4,0)","v":3.125E-2},0.30208333333333331,0.28541666666666665,{"$f":"DATA!$C$9","v":0.89},{"$f":"DATA!$C$10","v":64},1,385.3125,407.8125,1.6666666666666666E-2,22.5,5.5172413793103448E-2,0,"","",269.86666666666667,230,"",230,"",null,{"$f":"X373","v":18},{"$f":"Y375+1","v":"2018-05-05"},{"$f":"TEXT(Y378,\"ddd\")","v":"za"},"DD",{"$f":"IFERROR(HLOOKUP(Y378,[1]DATA!$A$1:$NB$5,3,0),\"\")","v":"D2"},24,null,23,253,{"$f":"VLOOKUP(Y378,[1]SRM!$S$4:$Z$368,2,0)","v":87},-155.3125,0.56398467432950194,0.75621147020362411]
["18zaMD",{"$f":"VLOOKUP($AA379,DATA!$B$3:$E379,2,0)","v":"14:30:00"},{"$f":"VLOOKUP($AA379,DATA!$B$3:$E379,3,0)","v":"22:30:00"},{"$f":"VLOOKUP($AA379,DATA!$B$3:$E379,4,0)","v":3.125E-2},0.30208333333333337,0.30208333333333337,{"$f":"DATA!$C$9","v":0.89},{"$f":"DATA!$C$10","v":64},1,407.81250000000006,407.81250000000006,0,"","",0,"","",0,"","","","",null,{"$f":"X373","v":18},null,{"$f":"TEXT(Y378,\"ddd\")","v":"za"},"MD",{"$f":"IFERROR(HLOOKUP(Y378,[1]DATA!$A$1:$NB$5,4,0),\"\")","v":"-"},null,null,null,null,{"$f":"VLOOKUP(Y378,[1]SRM!$S$4:$Z$368,3,0)","v":0},"","",""]
["18zaND",{"$f":"VLOOKUP($AA380,DATA!$B$3:$E380,2,0)","v":"22:30:00"},{"$f":"VLOOKUP($AA380,DATA!$B$3:$E380,3,0)","v":"06:30:00"},{"$f":"VLOOKUP($AA380,DATA!$B$3:$E380,4,0)","v":3.125E-2},0.30208333333333326,0.30208333333333326,{"$f":"DATA!$C$9","v":0.89},{"$f":"DATA!$C$10","v":64},1,407.81249999999989,407.81249999999989,0,"","",0,"","",0,"","","","",null,{"$f":"X373","v":18},null,{"$f":"TEXT(Y378,\"ddd\")","v":"za"},"ND",{"$f":"IFERROR(HLOOKUP(Y378,[1]DATA!$A$1:$NB$5,5,0),\"\")","v":"-"},null,null,null,null,{"$f":"VLOOKUP(Y378,[1]SRM!$S$4:$Z$368,4,0)","v":0},"","",""]
["18zoDD",{"$f":"VLOOKUP($AA381,DATA!$B$3:$E381,2,0)","v":"06:30:00"},{"$f":"VLOOKUP($AA381,DATA!$B$3:$E381,3,0)","v":"14:30:00"},{"$f":"VLOOKUP($AA381,DATA!$B$3:$E381,4,0)","v":3.125E-2},0.30208333333333331,0.30208333333333331,{"$f":"DATA!$C$9","v":0.89},{"$f":"DATA!$C$10","v":64},1,407.8125,407.8125,0,"","",0,"","",0,"","","","",null,{"$f":"X373","v":18},{"$f":"Y378+1","v":"2018-05-06"},{"$f":"TEXT(Y381,\"ddd\")","v":"zo"},"DD",{"$f":"IFERROR(HLOOKUP(Y381,[1]DATA!$A$1:$NB$5,3,0),\"\")","v":"-"},null,null,null,null,{"$f":"VLOOKUP(Y381,[1]SRM!$S$4:$Z$368,2,0)","v":0},"","",""]
["18zoMD",{"$f":"VLOOKUP($AA382,DATA!$B$3:$E382,2,0)","v":"14:30:00"},{"$f":"VLOOKUP($AA382,DATA!$B$3:$E382,3,0)","v":"22:30:00"},{"$f":"VLOOKUP($AA382,DATA!$B$3:$E382,4,0)","v":3.125E-2},0.30208333333333337,0.30208333333333337,{"$f":"DATA!$C$9","v":0.89},{"$f":"DATA!$C$10","v":64},1,407.81250000000006,407.81250000000006,0,"","",0,"","",0,"","","","",null,{"$f":"X373","v":18},null,{"$f":"TEXT(Y381,\"ddd\")","v":"zo"},"MD",{"$f":"IFERROR(HLOOKUP(Y381,[1]DATA!$A$1:$NB$5,4,0),\"\")","v":"-"},null,null,null,null,{"$f":"VLOOKUP(Y381,[1]SRM!$S$4:$Z$368,3,0)","v":0},"","",""]
["18zoZND",{"$f":"VLOOKUP($AA383,DATA!$B$3:$E383,2,0)","v":"00:00:00"},{"$f":"VLOOKUP($AA383,DATA!$B$3:$E383,3,0)","v":"00:00:00"},{"$f":"VLOOKUP($AA383,DATA!$B$3:$E383,4,0)","v":0},0,0,{"$f":"DATA!$C$9","v":0.89},{"$f":"DATA!$C$10","v":64},1,0,0,0,"","",0,"","",0,"","","","",null,{"$f":"X373","v":18},null,{"$f":"TEXT(Y381,\"ddd\")","v":"zo"},"ZND",{"$f":"IFERROR(HLOOKUP(Y381,[1]DATA!$A$1:$NB$5,5,0),\"\")","v":"-"},null,null,null,null,{"$f":"VLOOKUP(Y381,[1]SRM!$S$4:$Z$368,4,0)","v":0},"","",""]
["19maDD",{"$f":"VLOOKUP($AA384,DATA!$B$3:$E384,2,0)","v":"06:30:00"},{"$f":"VLOOKUP($AA384,DATA!$B$3:$E384,3,0)","v":"14:30:00"},{"$f":"VLOOKUP($AA384,DATA!$B$3:$E384,4,0)","v":3.125E-2},0.30208333333333331,0.28749999999999998,{"$f":"DATA!$C$9","v":0.89},{"$f":"DATA!$C$10","v":64},1,388.12499999999994,407.8125,1.4583333333333332E-2,19.687499999999996,4.827586206896551E-2,{"$f":"TIME(INT($AD384/60),INT(MOD($AD384,60)/1),0)","v":0},"","",346.66666666666669,297,297,"","",null,{"$f":"X394","v":19},{"$f":"Y381+1","v":"2018-05-07"},{"$f":"TEXT(Y384,\"ddd\")","v":"ma"},"DD",{"$f":"IFERROR(HLOOKUP(Y384,[1]DATA!$A$1:$NB$5,3,0),\"\")","v":"D1"},21,null,28,325,{"$f":"VLOOKUP(Y384,[1]SRM!$S$4:$Z$368,2,0)","v":21},-91.124999999999943,0.72827586206896555,0.94288304623753405,{"$f":"IF(SUMIF(S384:S404,\">0\",K384:K404)=0,\"\",SUMIF(S384:S404,\">0\",K384:K404))","v":5301.5625},{"$f":"IF(SUM(S384:S404)=0,\"\",SUM(S384:S404))","v":3703},{"$f":"IFERROR(AL384/AK384,\"-\")","v":0.69847332743884472},{"$f":"IF(SUM(M384:M404)=0,\"0\",SUM(M384:M404))","v":287.8125},{"$f":"IFERROR(AN384/AK384,\"-\")","v":5.4288240495137044E-2},{"$f":"IF(SUM(P384:P404)=0,0,SUM(P384:P404))","v":0},{"$f":"IFERROR(AP384/AK384,\"-\")","v":0},{"$f":"IFERROR(AVERAGE(AJ384:AJ404),\"-\")","v":0.91883855553576244},{"$f":"IFERROR(SUMIF($AB384:$AB404,AS$5,$AJ384:$AJ404)/COUNTIFS($AB384:$AB404,AS$5,$AJ384:$AJ404,\">0\"),\"\")","v":0.96928867634034144},0.92948512391104554,0.84512933615475549,{"$f":"IFERROR((AK384-AL384-AN384-AP384),\"-\")","v":1310.75},{"$f":"IFERROR((1-AM384-AO384-AQ384), \"-\")","v":0.24723843206601825},{"$f":"IFERROR((AV384*$AE$2)/60,\"-\")","v":1398.1333333333334},{"$f":"IFERROR(SUM(AG384:AG404),\"\")","v":405}]
["19maMD",{"$f":"VLOOKUP($AA385,DATA!$B$3:$E385,2,0)","v":"14:30:00"},{"$f":"VLOOKUP($AA385,DATA!$B$3:$E385,3,0)","v":"22:30:00"},{"$f":"VLOOKUP($AA385,DATA!$B$3:$E385,4,0)","v":3.125E-2},0.30208333333333337,0.29236111111111113,{"$f":"DATA!$C$9","v":0.89},{"$f":"DATA!$C$10","v":64},1,394.6875,407.81250000000006,9.7222222222222224E-3,13.125,3.2183908045977004E-2,{"$f":"TIME(INT(AD385/60),INT(MOD(AD385,60)/1),0)","v":0},"","",282.66666666666669,251,"","",251,null,{"$f":"X394","v":19},null,{"$f":"TEXT(Y384,\"ddd\")","v":"ma"},"MD",{"$f":"IFERROR(HLOOKUP(Y384,[1]DATA!$A$1:$NB$5,4,0),\"\")","v":"D3"},14,null,14,265,{"$f":"VLOOKUP(Y384,[1]SRM!$S$4:$Z$368,3,0)","v":139},-143.6875,0.61547892720306507,0.67035573122529646]
["19maND",{"$f":"VLOOKUP($AA386,DATA!$B$3:$E386,2,0)","v":"22:30:00"},{"$f":"VLOOKUP($AA386,DATA!$B$3:$E386,3,0)","v":"06:30:00"},{"$f":"VLOOKUP($AA386,DATA!$B$3:$E386,4,0)","v":3.125E-2},0.30208333333333326,0.29236111111111102,{"$f":"DATA!$C$9","v":0.89},{"$f":"DATA!$C$10","v":64},1,394.68749999999989,407.81249999999989,9.7222222222222224E-3,13.125,3.2183908045977018E-2,0,"","",398.93333333333334,334,"",334,"",null,{"$f":"X394","v":19},null,{"$f":"TEXT(Y384,\"ddd\")","v":"ma"},"ND",{"$f":"IFERROR(HLOOKUP(Y384,[1]DATA!$A$1:$NB$5,5,0),\"\")","v":"D2"},14,null,40,374,{"$f":"VLOOKUP(Y384,[1]SRM!$S$4:$Z$368,4,0)","v":41},-60.687499999999886,0.81900383141762478,0.90680406122139723]
["19diDD",{"$f":"VLOOKUP($AA387,DATA!$B$3:$E387,2,0)","v":"06:30:00"},{"$f":"VLOOKUP($AA387,DATA!$B$3:$E387,3,0)","v":"14:30:00"},{"$f":"VLOOKUP($AA387,DATA!$B$3:$E387,4,0)","v":3.125E-2},0.30208333333333331,0.27361111111111108,{"$f":"DATA!$C$9","v":0.89},{"$f":"DATA!$C$10","v":64},1,369.37499999999994,407.8125,2.8472222222222222E-2,38.4375,9.4252873563218389E-2,0,"","",353.06666666666666,321,321,"","",null,{"$f":"X394","v":19},{"$f":"Y384+1","v":"2018-05-08"},{"$f":"TEXT(Y387,\"ddd\")","v":"di"},"DD",{"$f":"IFERROR(HLOOKUP(Y387,[1]DATA!$A$1:$NB$5,3,0),\"\")","v":"D1"},41,null,10,331,{"$f":"VLOOKUP(Y387,[1]SRM!$S$4:$Z$368,2,0)","v":16},-48.374999999999943,0.78712643678160921,0.95664739884393069]
["19diMD",{"$f":"VLOOKUP($AA388,DATA!$B$3:$E388,2,0)","v":"14:30:00"},{"$f":"VLOOKUP($AA388,DATA!$B$3:$E388,3,0)","v":"22:30:00"},{"$f":"VLOOKUP($AA388,DATA!$B$3:$E388,4,0)","v":3.125E-2},0.30208333333333337,0.27361111111111114,{"$f":"DATA!$C$9","v":0.89},{"$f":"DATA!$C$10","v":64},1,369.37500000000006,407.81250000000006,2.8472222222222222E-2,38.4375,9.4252873563218376E-2,0,"","",333.86666666666667,290,"","",290,null,{"$f":"X394","v":19},null,{"$f":"TEXT(Y387,\"ddd\")","v":"di"},"MD",{"$f":"IFERROR(HLOOKUP(Y387,[1]DATA!$A$1:$NB$5,4,0),\"\")","v":"D3"},41,null,23,313,{"$f":"VLOOKUP(Y387,[1]SRM!$S$4:$Z$368,3,0)","v":25},-79.375000000000057,0.71111111111111103,0.93033624373026191]
["19diND",{"$f":"VLOOKUP($AA389,DATA!$B$3:$E389,2,0)","v":"22:30:00"},{"$f":"VLOOKUP($AA389,DATA!$B$3:$E389,3,0)","v":"06:30:00"},{"$f":"VLOOKUP($AA389,DATA!$B$3:$E389,4,0)","v":3.125E-2},0.30208333333333326,0.2763888888888888,{"$f":"DATA!$C$9","v":0.89},{"$f":"DATA!$C$10","v":64},1,373.12499999999989,407.81249999999989,2.5694444444444447E-2,34.6875,8.5057471264367843E-2,0,"","",341.33333333333331,302,"",302,"",null,{"$f":"X394","v":19},null,{"$f":"TEXT(Y387,\"ddd\")","v":"di"},"ND",{"$f":"IFERROR(HLOOKUP(Y387,[1]DATA!$A$1:$NB$5,5,0),\"\")","v":"D2"},37,null,18,320,{"$f":"VLOOKUP(Y387,[1]SRM!$S$4:$Z$368,4,0)","v":16},-71.124999999999886,0.74053639846743313,0.95522388059701491]
["19woDD",{"$f":"VLOOKUP($AA390,DATA!$B$3:$E390,2,0)","v":"06:30:00"},{"$f":"VLOOKUP($AA390,DATA!$B$3:$E390,3,0)","v":"14:30:00"},{"$f":"VLOOKUP($AA390,DATA!$B$3:$E390,4,0)","v":3.125E-2},0.30208333333333331,0.29236111111111107,{"$f":"DATA!$C$9","v":0.89},{"$f":"DATA!$C$10","v":64},1,{"$f":"F390*86400/H390*I390","v":394.68749999999994},{"$f":"E390*86400/H390","v":407.8125},9.7222222222222224E-3,13.125,3.2183908045977011E-2,0,"","",{"$f":"AF390*AG$2","v":378.66666666666669},{"$f":"IF(AF390-AE390=0,\"\",AF390-AE390)","v":327},327,"","",null,{"$f":"X394","v":19},{"$f":"Y387+1","v":"2018-05-09"},{"$f":"TEXT(Y390,\"ddd\")","v":"wo"},"DD",{"$f":"IFERROR(HLOOKUP(Y390,[1]DATA!$A$1:$NB$5,3,0),\"\")","v":"D1"},14,null,28,355,{"$f":"VLOOKUP(Y390,[1]SRM!$S$4:$Z$368,2,0)","v":8},{"$f":"IFERROR(S390-J390,\"\")","v":-67.687499999999943},{"$f":"IFERROR(IF(S390/(E390*86400/H390)<=0,\"\",S390/(E390*86400/H390)),\"\")","v":0.80183908045977015},0.97931034482758617]
["19woMD",{"$f":"VLOOKUP($AA391,DATA!$B$3:$E391,2,0)","v":"14:30:00"},{"$f":"VLOOKUP($AA391,DATA!$B$3:$E391,3,0)","v":"22:30:00"},{"$f":"VLOOKUP($AA391,DATA!$B$3:$E391,4,0)","v":3.125E-2},0.30208333333333337,0.25972222222222224,{"$f":"DATA!$C$9","v":0.89},{"$f":"DATA!$C$10","v":64},1,350.625,407.81250000000006,{"$f":"TIME(INT($AC391/60),INT(MOD($AC391,60)/1),0)","v":4.2361111111111106E-2},{"$f":"IF($L391*86400/$H391=0,\"\",$L391*86400/$H391)","v":57.187499999999993},{"$f":"IFERROR($M391/$K391,\"\")","v":0.14022988505747122},0,"",{"$f":"IFERROR($P391/$K391,\"\")","v":""},288,252,{"$f":"IF(IF($AB391=\"D1\",$S391,\"\")=0,\"\",IF($AB391=\"D1\",$S391,\"\"))","v":""},{"$f":"IF(IF($AB391=\"D2\",$S391,\"\")=0,\"\",IF($AB391=\"D2\",$S391,\"\"))","v":""},{"$f":"IF(IF($AB391=\"D3\",$S391,\"\")=0,\"\",IF($AB391=\"D3\",$S391,\"\"))","v":252},null,{"$f":"X394","v":19},null,{"$f":"TEXT(Y390,\"ddd\")","v":"wo"},"MD",{"$f":"IFERROR(HLOOKUP(Y390,[1]DATA!$A$1:$NB$5,4,0),\"\")","v":"D3"},61,null,18,270,{"$f":"VLOOKUP(Y390,[1]SRM!$S$4:$Z$368,3,0)","v":33},-98.625,0.61793103448275855,0.89719626168224298]
["19woND",{"$f":"VLOOKUP($AA392,DATA!$B$3:$E392,2,0)","v":"22:30:00"},{"$f":"VLOOKUP($AA392,DATA!$B$3:$E392,3,0)","v":"06:30:00"},{"$f":"VLOOKUP($AA392,DATA!$B$3:$E392,4,0)","v":3.125E-2},0.30208333333333326,0.29027777777777769,{"$f":"DATA!$C$9","v":0.89},{"$f":"DATA!$C$10","v":64},1,391.87499999999989,407.81249999999989,1.1805555555555555E-2,15.9375,3.9080459770114956E-2,0,"","",344.5333333333333,307,"",307,"",null,{"$f":"X394","v":19},null,{"$f":"TEXT(Y390,\"ddd\")","v":"wo"},"ND",{"$f":"IFERROR(HLOOKUP(Y390,[1]DATA!$A$1:$NB$5,5,0),\"\")","v":"D2"},17,null,16,323,{"$f":"VLOOKUP(Y390,[1]SRM!$S$4:$Z$368,4,0)","v":58},-84.874999999999886,0.7527969348659006,0.85591255382577014]
["19doDD",{"$f":"VLOOKUP($AA393,DATA!$B$3:$E393,2,0)","v":"06:30:00"},{"$f":"VLOOKUP($AA393,DATA!$B$3:$E393,3,0)","v":"14:30:00"},{"$f":"VLOOKUP($AA393,DATA!$B$3:$E393,4,0)","v":3.125E-2},0.30208333333333331,0.30208333333333331,{"$f":"DATA!$C$9","v":0.89},{"$f":"DATA!$C$10","v":64},1,407.8125,407.8125,0,"","",0,"","",0,"","","","",null,{"$f":"X394","v":19},{"$f":"Y390+1","v":"2018-05-10"},{"$f":"TEXT(Y393,\"ddd\")","v":"do"},"DD",{"$f":"IFERROR(HLOOKUP(Y393,[1]DATA!$A$1:$NB$5,3,0),\"\")","v":"D1"},null,null,null,null,{"$f":"VLOOKUP(Y393,[1]SRM!$S$4:$Z$368,2,0)","v":0},"","",""]
["19doMD",{"$f":"VLOOKUP($AA394,DATA!$B$3:$E394,2,0)","v":"14:30:00"},{"$f":"VLOOKUP($AA394,DATA!$B$3:$E394,3,0)","v":"22:30:00"},{"$f":"VLOOKUP($AA394,DATA!$B$3:$E394,4,0)","v":3.125E-2},0.30208333333333337,0.30208333333333337,{"$f":"DATA!$C$9","v":0.89},{"$f":"DATA!$C$10","v":64},1,407.81250000000006,407.81250000000006,0,"","",0,"","",0,"","","","",null,{"$f":"WEEKNUM($Y384)","v":19},null,{"$f":"TEXT(Y393,\"ddd\")","v":"do"},"MD",{"$f":"IFERROR(HLOOKUP(Y393,[1]DATA!$A$1:$NB$5,4,0),\"\")","v":"D3"},null,null,null,null,{"$f":"VLOOKUP(Y393,[1]SRM!$S$4:$Z$368,3,0)","v":0},"","",""]
["19doND",{"$f":"VLOOKUP($AA395,DATA!$B$3:$E395,2,0)","v":"22:30:00"},{"$f":"VLOOKUP($AA395,DATA!$B$3:$E395,3,0)","v":"06:30:00"},{"$f":"VLOOKUP($AA395,DATA!$B$3:$E395,4,0)","v":3.125E-2},0.30208333333333326,0.30208333333333326,{"$f":"DATA!$C$9","v":0.89},{"$f":"DATA!$C$10","v":64},1,407.81249999999989,407.81249999999989,0,"","",0,"","",0,"","","","",null,{"$f":"X394","v":19},null,{"$f":"TEXT(Y393,\"ddd\")","v":"do"},"ND",{"$f":"IFERROR(HLOOKUP(Y393,[1]DATA!$A$1:$NB$5,5,0),\"\")","v":"D2"},null,null,null,null,{"$f":"VLOOKUP(Y393,[1]SRM!$S$4:$Z$368,4,0)","v":0},"","",""]
["19vrDD",{"$f":"VLOOKUP($AA396,DATA!$B$3:$E396,2,0)","v":"06:30:00"},{"$f":"VLOOKUP($AA396,DATA!$B$3:$E396,3,0)","v":"14:30:00"},{"$f":"VLOOKUP($AA396,DATA!$B$3:$E396,4,0)","v":3.125E-2},0.30208333333333331,0.29930555555555555,{"$f":"DATA!$C$9","v":0.89},{"$f":"DATA!$C$10","v":64},1,404.0625,407.8125,2.7777777777777779E-3,3.75,9.1954022988505746E-3,0,"","",238.93333333333334,209,209,"","",null,{"$f":"X394","v":19},{"$f":"Y393+1","v":"2018-05-11"},{"$f":"TEXT(Y396,\"ddd\")","v":"vr"},"DD",{"$f":"IFERROR(HLOOKUP(Y396,[1]DATA!$A$1:$NB$5,3,0),\"\")","v":"D1"},4,null,15,224,{"$f":"VLOOKUP(Y396,[1]SRM!$S$4:$Z$368,2,0)","v":8},-195.0625,0.51249042145593871,0.96760259179265662]
["19vrMD",{"$f":"VLOOKUP($AA397,DATA!$B$3:$E397,2,0)","v":"14:30:00"},{"$f":"VLOOKUP($AA397,DATA!$B$3:$E397,3,0)","v":"22:30:00"},{"$f":"VLOOKUP($AA397,DATA!$B$3:$E397,4,0)","v":3.125E-2},0.30208333333333337,0.28055555555555561,{"$f":"DATA!$C$9","v":0.89},{"$f":"DATA!$C$10","v":64},1,378.75000000000006,407.81250000000006,2.1527777777777781E-2,29.062500000000004,7.1264367816091953E-2,0,"","",300.8,263,"","",263,null,{"$f":"X394","v":19},null,{"$f":"TEXT(Y396,\"ddd\")","v":"vr"},"MD",{"$f":"IFERROR(HLOOKUP(Y396,[1]DATA!$A$1:$NB$5,4,0),\"\")","v":"D3"},31,null,19,282,{"$f":"VLOOKUP(Y396,[1]SRM!$S$4:$Z$368,3,0)","v":40},-115.75000000000006,0.64490421455938685,0.88262910798122063]
["19vrND",{"$f":"VLOOKUP($AA398,DATA!$B$3:$E398,2,0)","v":"22:30:00"},{"$f":"VLOOKUP($AA398,DATA!$B$3:$E398,3,0)","v":"06:30:00"},{"$f":"VLOOKUP($AA398,DATA!$B$3:$E398,4,0)","v":3.125E-2},0.30208333333333326,0.2937499999999999,{"$f":"DATA!$C$9","v":0.89},{"$f":"DATA!$C$10","v":64},1,396.56249999999989,407.81249999999989,8.3333333333333332E-3,11.25,2.7586206896551731E-2,0,"","",272,239,"",239,"",null,{"$f":"X394","v":19},null,{"$f":"TEXT(Y396,\"ddd\")","v":"vr"},"ND",{"$f":"IFERROR(HLOOKUP(Y396,[1]DATA!$A$1:$NB$5,5,0),\"\")","v":"D2"},12,null,16,255,{"$f":"VLOOKUP(Y396,[1]SRM!$S$4:$Z$368,4,0)","v":0},-157.56249999999989,0.58605363984674341,1]
["19zaDD",{"$f":"VLOOKUP($AA399,DATA!$B$3:$E399,2,0)","v":"06:30:00"},{"$f":"VLOOKUP($AA399,DATA!$B$3:$E399,3,0)","v":"14:30:00"},{"$f":"VLOOKUP($AA399,DATA!$B$3:$E399,4,0)","v":3.125E-2},0.30208333333333331,0.30208333333333331,{"$f":"DATA!$C$9","v":0.89},{"$f":"DATA!$C$10","v":64},1,407.8125,407.8125,0,"","",0,"","",359.46666666666664,311,311,"","",null,{"$f":"X394","v":19},{"$f":"Y396+1","v":"2018-05-12"},{"$f":"TEXT(Y399,\"ddd\")","v":"za"},"DD",{"$f":"IFERROR(HLOOKUP(Y399,[1]DATA!$A$1:$NB$5,3,0),\"\")","v":"D1"},0,null,26,337,{"$f":"VLOOKUP(Y399,[1]SRM!$S$4:$Z$368,2,0)","v":0},-96.8125,0.76260536398467438,1]
["19zaMD",{"$f":"VLOOKUP($AA400,DATA!$B$3:$E400,2,0)","v":"14:30:00"},{"$f":"VLOOKUP($AA400,DATA!$B$3:$E400,3,0)","v":"22:30:00"},{"$f":"VLOOKUP($AA400,DATA!$B$3:$E400,4,0)","v":3.125E-2},0.30208333333333337,0.30208333333333337,{"$f":"DATA!$C$9","v":0.89},{"$f":"DATA!$C$10","v":64},1,407.81250000000006,407.81250000000006,0,"","",0,"","",0,"","","","",null,{"$f":"X394","v":19},null,{"$f":"TEXT(Y399,\"ddd\")","v":"za"},"MD",{"$f":"IFERROR(HLOOKUP(Y399,[1]DATA!$A$1:$NB$5,4,0),\"\")","v":"-"},null,null,null,null,{"$f":"VLOOKUP(Y399,[1]SRM!$S$4:$Z$368,3,0)","v":0},"","",""]
["19zaND",{"$f":"VLOOKUP($AA401,DATA!$B$3:$E401,2,0)","v":"22:30:00"},{"$f":"VLOOKUP($AA401,DATA!$B$3:$E401,3,0)","v":"06:30:00"},{"$f":"VLOOKUP($AA401,DATA!$B$3:$E401,4,0)","v":3.125E-2},0.30208333333333326,0.30208333333333326,{"$f":"DATA!$C$9","v":0.89},{"$f":"DATA!$C$10","v":64},1,407.81249999999989,407.81249999999989,0,"","",0,"","",0,"","","","",null,{"$f":"X394","v":19},null,{"$f":"TEXT(Y399,\"ddd\")","v":"za"},"ND",{"$f":"IFERROR(HLOOKUP(Y399,[1]DATA!$A$1:$NB$5,5,0),\"\")","v":"-"},null,null,null,null,{"$f":"VLOOKUP(Y399,[1]SRM!$S$4:$Z$368,4,0)","v":0},"","",""]
["19zoDD",{"$f":"VLOOKUP($AA402,DATA!$B$3:$E402,2,0)","v":"06:30:00"},{"$f":"VLOOKUP($AA402,DATA!$B$3:$E402,3,0)","v":"14:30:00"},{"$f":"VLOOKUP($AA402,DATA!$B$3:$E402,4,0)","v":3.125E-2},0.30208333333333331,0.30208333333333331,{"$f":"DATA!$C$9","v":0.89},{"$f":"DATA!$C$10","v":64},1,407.8125,407.8125,0,"","",0,"","",0,"","","","",null,{"$f":"X394","v":19},{"$f":"Y399+1","v":"2018-05-13"},{"$f":"TEXT(Y402,\"ddd\")","v":"zo"},"DD",{"$f":"IFERROR(HLOOKUP(Y402,[1]DATA!$A$1:$NB$5,3,0),\"\")","v":"-"},null,null,null,null,{"$f":"VLOOKUP(Y402,[1]SRM!$S$4:$Z$368,2,0)","v":0},"","",""]
["19zoMD",{"$f":"VLOOKUP($AA403,DATA!$B$3:$E403,2,0)","v":"14:30:00"},{"$f":"VLOOKUP($AA403,DATA!$B$3:$E403,3,0)","v":"22:30:00"},{"$f":"VLOOKUP($AA403,DATA!$B$3:$E403,4,0)","v":3.125E-2},0.30208333333333337,0.30208333333333337,{"$f":"DATA!$C$9","v":0.89},{"$f":"DATA!$C$10","v":64},1,407.81250000000006,407.81250000000006,0,"","",0,"","",0,"","","","",null,{"$f":"X394","v":19},null,{"$f":"TEXT(Y402,\"ddd\")","v":"zo"},"MD",{"$f":"IFERROR(HLOOKUP(Y402,[1]DATA!$A$1:$NB$5,4,0),\"\")","v":"-"},null,null,null,null,{"$f":"VLOOKUP(Y402,[1]SRM!$S$4:$Z$368,3,0)","v":0},"","",""]
["19zoZND",{"$f":"VLOOKUP($AA404,DATA!$B$3:$E404,2,0)","v":"00:00:00"},{"$f":"VLOOKUP($AA404,DATA!$B$3:$E404,3,0)","v":"00:00:00"},{"$f":"VLOOKUP($AA404,DATA!$B$3:$E404,4,0)","v":0},0,0,{"$f":"DATA!$C$9","v":0.89},{"$f":"DATA!$C$10","v":64},1,0,0,0,"","",0,"","",0,"","","","",null,{"$f":"X394","v":19},null,{"$f":"TEXT(Y402,\"ddd\")","v":"zo"},"ZND",{"$f":"IFERROR(HLOOKUP(Y402,[1]DATA!$A$1:$NB$5,5,0),\"\")","v":"-"},null,null,null,null,{"$f":"VLOOKUP(Y402,[1]SRM!$S$4:$Z$368,4,0)","v":0},"","",""]
["20maDD",{"$f":"VLOOKUP($AA405,DATA!$B$3:$E405,2,0)","v":"06:30:00"},{"$f":"VLOOKUP($AA405,DATA!$B$3:$E405,3,0)","v":"14:30:00"},{"$f":"VLOOKUP($AA405,DATA!$B$3:$E405,4,0)","v":3.125E-2},0.30208333333333331,0.22430555555555554,{"$f":"DATA!$C$9","v":0.89},{"$f":"DATA!$C$10","v":64},1,302.8125,407.8125,7.7777777777777779E-2,105,0.25747126436781609,{"$f":"TIME(INT($AD405/60),INT(MOD($AD405,60)/1),0)","v":0},"","",339.2,282,"","",282,null,{"$f":"X415","v":20},{"$f":"Y402+1","v":"2018-05-14"},{"$f":"TEXT(Y405,\"ddd\")","v":"ma"},"DD",{"$f":"IFERROR(HLOOKUP(Y405,[1]DATA!$A$1:$NB$5,3,0),\"\")","v":"D3"},112,null,36,318,{"$f":"VLOOKUP(Y405,[1]SRM!$S$4:$Z$368,2,0)","v":59},-20.8125,0.69149425287356325,0.85183324962330487,{"$f":"IF(SUMIF(S405:S425,\">0\",K405:K425)=0,\"\",SUMIF(S405:S425,\">0\",K405:K425))","v":6525},{"$f":"IF(SUM(S405:S425)=0,\"\",SUM(S405:S425))","v":4438},{"$f":"IFERROR(AL405/AK405,\"-\")","v":0.68015325670498084},{"$f":"IF(SUM(M405:M425)=0,\"0\",SUM(M405:M425))","v":660.9375},{"$f":"IFERROR(AN405/AK405,\"-\")","v":0.10129310344827586},{"$f":"IF(SUM(P405:P425)=0,0,SUM(P405:P425))","v":0},{"$f":"IFERROR(AP405/AK405,\"-\")","v":0},{"$f":"IFERROR(AVERAGE(AJ405:AJ425),\"-\")","v":0.90098627547829346},{"$f":"IFERROR(SUMIF($AB405:$AB425,AS$5,$AJ405:$AJ425)/COUNTIFS($AB405:$AB425,AS$5,$AJ405:$AJ425,\">0\"),\"\")","v":0.91771781131701935},0.90373642398341136,0.88708176974735842,{"$f":"IFERROR((AK405-AL405-AN405-AP405),\"-\")","v":1426.0625},{"$f":"IFERROR((1-AM405-AO405-AQ405), \"-\")","v":0.21855363984674331},{"$f":"IFERROR((AV405*$AE$2)/60,\"-\")","v":1521.1333333333334},{"$f":"IFERROR(SUM(AG405:AG425),\"\")","v":599}]
["20maMD",{"$f":"VLOOKUP($AA406,DATA!$B$3:$E406,2,0)","v":"14:30:00"},{"$f":"VLOOKUP($AA406,DATA!$B$3:$E406,3,0)","v":"22:30:00"},{"$f":"VLOOKUP($AA406,DATA!$B$3:$E406,4,0)","v":3.125E-2},0.30208333333333337,0.28541666666666671,{"$f":"DATA!$C$9","v":0.89},{"$f":"DATA!$C$10","v":64},1,385.31250000000006,407.81250000000006,1.6666666666666666E-2,22.5,5.5172413793103441E-2,{"$f":"TIME(INT(AD406/60),INT(MOD(AD406,60)/1),0)","v":0},"","",341.33333333333331,279,"",279,"",null,{"$f":"X415","v":20},null,{"$f":"TEXT(Y405,\"ddd\")","v":"ma"},"MD",{"$f":"IFERROR(HLOOKUP(Y405,[1]DATA!$A$1:$NB$5,4,0),\"\")","v":"D2"},24,null,41,320,{"$f":"VLOOKUP(Y405,[1]SRM!$S$4:$Z$368,3,0)","v":34},-106.31250000000006,0.68413793103448262,0.90941385435168742]
["20maND",{"$f":"VLOOKUP($AA407,DATA!$B$3:$E407,2,0)","v":"22:30:00"},{"$f":"VLOOKUP($AA407,DATA!$B$3:$E407,3,0)","v":"06:30:00"},{"$f":"VLOOKUP($AA407,DATA!$B$3:$E407,4,0)","v":3.125E-2},0.30208333333333326,0.29236111111111102,{"$f":"DATA!$C$9","v":0.89},{"$f":"DATA!$C$10","v":64},1,394.68749999999989,407.81249999999989,9.7222222222222224E-3,13.125,3.2183908045977018E-2,0,"","",307.2,260,260,"","",null,{"$f":"X415","v":20},null,{"$f":"TEXT(Y405,\"ddd\")","v":"ma"},"ND",{"$f":"IFERROR(HLOOKUP(Y405,[1]DATA!$A$1:$NB$5,5,0),\"\")","v":"D1"},14,null,28,288,{"$f":"VLOOKUP(Y405,[1]SRM!$S$4:$Z$368,4,0)","v":30},-134.68749999999989,0.63754789272030665,0.91103202846975084]
["20diDD",{"$f":"VLOOKUP($AA408,DATA!$B$3:$E408,2,0)","v":"06:30:00"},{"$f":"VLOOKUP($AA408,DATA!$B$3:$E408,3,0)","v":"14:30:00"},{"$f":"VLOOKUP($AA408,DATA!$B$3:$E408,4,0)","v":3.125E-2},0.30208333333333331,0.23958333333333331,{"$f":"DATA!$C$9","v":0.89},{"$f":"DATA!$C$10","v":64},1,323.4375,407.8125,6.25E-2,84.375,0.20689655172413793,0,"","",381.86666666666667,325,"","",325,null,{"$f":"X415","v":20},{"$f":"Y405+1","v":"2018-05-15"},{"$f":"TEXT(Y408,\"ddd\")","v":"di"},"DD",{"$f":"IFERROR(HLOOKUP(Y408,[1]DATA!$A$1:$NB$5,3,0),\"\")","v":"D3"},90,null,33,358,{"$f":"VLOOKUP(Y408,[1]SRM!$S$4:$Z$368,2,0)","v":25},1.5625,0.79693486590038309,0.93855480911027367]
["20diMD",{"$f":"VLOOKUP($AA409,DATA!$B$3:$E409,2,0)","v":"14:30:00"},{"$f":"VLOOKUP($AA409,DATA!$B$3:$E409,3,0)","v":"22:30:00"},{"$f":"VLOOKUP($AA409,DATA!$B$3:$E409,4,0)","v":3.125E-2},0.30208333333333337,0.2368055555555556,{"$f":"DATA!$C$9","v":0.89},{"$f":"DATA!$C$10","v":64},1,319.68750000000006,407.81250000000006,6.5277777777777782E-2,88.125,0.21609195402298847,0,"","",362.66666666666669,310,"",310,"",null,{"$f":"X415","v":20},null,{"$f":"TEXT(Y408,\"ddd\")","v":"di"},"MD",{"$f":"IFERROR(HLOOKUP(Y408,[1]DATA!$A$1:$NB$5,4,0),\"\")","v":"D2"},94,null,30,340,{"$f":"VLOOKUP(Y408,[1]SRM!$S$4:$Z$368,3,0)","v":15},-9.6875000000000568,0.76015325670498068,0.96028243601059138]
["20diND",{"$f":"VLOOKUP($AA410,DATA!$B$3:$E410,2,0)","v":"22:30:00"},{"$f":"VLOOKUP($AA410,DATA!$B$3:$E410,3,0)","v":"06:30:00"},{"$f":"VLOOKUP($AA410,DATA!$B$3:$E410,4,0)","v":3.125E-2},0.30208333333333326,0.2854166666666666,{"$f":"DATA!$C$9","v":0.89},{"$f":"DATA!$C$10","v":64},1,385.31249999999989,407.81249999999989,1.6666666666666666E-2,22.5,5.5172413793103461E-2,0,"","",347.73333333333335,318,318,"","",null,{"$f":"X415","v":20},null,{"$f":"TEXT(Y408,\"ddd\")","v":"di"},"ND",{"$f":"IFERROR(HLOOKUP(Y408,[1]DATA!$A$1:$NB$5,5,0),\"\")","v":"D1"},24,null,8,326,{"$f":"VLOOKUP(Y408,[1]SRM!$S$4:$Z$368,4,0)","v":21},-67.312499999999886,0.7797701149425289,0.94304827336828778]
["20woDD",{"$f":"VLOOKUP($AA411,DATA!$B$3:$E411,2,0)","v":"06:30:00"},{"$f":"VLOOKUP($AA411,DATA!$B$3:$E411,3,0)","v":"14:30:00"},{"$f":"VLOOKUP($AA411,DATA!$B$3:$E411,4,0)","v":3.125E-2},0.30208333333333331,0.28194444444444444,{"$f":"DATA!$C$9","v":0.89},{"$f":"DATA!$C$10","v":64},1,380.625,407.8125,2.013888888888889E-2,27.1875,6.6666666666666666E-2,0,"","",298.66666666666669,261,"","",261,null,{"$f":"X415","v":20},{"$f":"Y408+1","v":"2018-05-16"},{"$f":"TEXT(Y411,\"ddd\")","v":"wo"},"DD",{"$f":"IFERROR(HLOOKUP(Y411,[1]DATA!$A$1:$NB$5,3,0),\"\")","v":"D3"},29,null,19,280,{"$f":"VLOOKUP(Y411,[1]SRM!$S$4:$Z$368,2,0)","v":82},-119.625,0.64,{"$f":"IFERROR(R411/(R411+AG411),\"\")","v":0.78458844133099825}]
["20woMD",{"$f":"VLOOKUP($AA412,DATA!$B$3:$E412,2,0)","v":"14:30:00"},{"$f":"VLOOKUP($AA412,DATA!$B$3:$E412,3,0)","v":"22:30:00"},{"$f":"VLOOKUP($AA412,DATA!$B$3:$E412,4,0)","v":3.125E-2},{"$f":"(C412-B412+(B412>C412))-D412","v":0.30208333333333337},{"$f":"E412-O412-L412","v":0.2993055555555556},{"$f":"DATA!$C$9","v":0.89},{"$f":"DATA!$C$10","v":64},1,404.06250000000006,407.81250000000006,2.7777777777777779E-3,3.75,9.1954022988505729E-3,0,"","",364.8,307,"",307,"",null,{"$f":"X415","v":20},null,{"$f":"TEXT(Y411,\"ddd\")","v":"wo"},"MD",{"$f":"IFERROR(HLOOKUP(Y411,[1]DATA!$A$1:$NB$5,4,0),\"\")","v":"D2"},4,null,35,342,{"$f":"VLOOKUP(Y411,[1]SRM!$S$4:$Z$368,3,0)","v":61},-97.062500000000057,0.75279693486590027,0.85674025364020667]
["20woND",{"$f":"VLOOKUP($AA413,DATA!$B$3:$E413,2,0)","v":"22:30:00"},{"$f":"VLOOKUP($AA413,DATA!$B$3:$E413,3,0)","v":"06:30:00"},{"$f":"VLOOKUP($AA413,DATA!$B$3:$E413,4,0)","v":3.125E-2},0.30208333333333326,0.27847222222222212,{"$f":"DATA!$C$9","v":0.89},{"$f":"DATA!$C$10","v":64},1,375.93749999999989,407.81249999999989,2.361111111111111E-2,31.875,7.8160919540229912E-2,0,"","",357.33333333333331,293,293,"","",null,{"$f":"X415","v":20},null,{"$f":"TEXT(Y411,\"ddd\")","v":"wo"},"ND",{"$f":"IFERROR(HLOOKUP(Y411,[1]DATA!$A$1:$NB$5,5,0),\"\")","v":"D1"},34,null,42,335,{"$f":"VLOOKUP(Y411,[1]SRM!$S$4:$Z$368,4,0)","v":60},-82.937499999999886,0.71846743295019178,0.85623003194888181]
["20doDD",{"$f":"VLOOKUP($AA414,DATA!$B$3:$E414,2,0)","v":"06:30:00"},{"$f":"VLOOKUP($AA414,DATA!$B$3:$E414,3,0)","v":"14:30:00"},{"$f":"VLOOKUP($AA414,DATA!$B$3:$E414,4,0)","v":3.125E-2},0.30208333333333331,0.26180555555555551,{"$f":"DATA!$C$9","v":0.89},{"$f":"DATA!$C$10","v":64},1,353.43749999999994,407.8125,4.027777777777778E-2,54.375,0.13333333333333333,0,"","",265.60000000000002,238,"","",238,null,{"$f":"X415","v":20},{"$f":"Y411+1","v":"2018-05-17"},{"$f":"TEXT(Y414,\"ddd\")","v":"do"},"DD",{"$f":"IFERROR(HLOOKUP(Y414,[1]DATA!$A$1:$NB$5,3,0),\"\")","v":"D3"},58,null,11,249,{"$f":"VLOOKUP(Y414,[1]SRM!$S$4:$Z$368,2,0)","v":15},-115.43749999999994,0.58360153256704983,0.9465431218816821]
["20doMD",{"$f":"VLOOKUP($AA415,DATA!$B$3:$E415,2,0)","v":"14:30:00"},{"$f":"VLOOKUP($AA415,DATA!$B$3:$E415,3,0)","v":"22:30:00"},{"$f":"VLOOKUP($AA415,DATA!$B$3:$E415,4,0)","v":3.125E-2},0.30208333333333337,0.27847222222222223,{"$f":"DATA!$C$9","v":0.89},{"$f":"DATA!$C$10","v":64},1,375.9375,407.81250000000006,2.361111111111111E-2,31.875,7.816091954022987E-2,0,"","",310.39999999999998,254,"",254,"",null,{"$f":"WEEKNUM($Y405)","v":20},null,{"$f":"TEXT(Y414,\"ddd\")","v":"do"},"MD",{"$f":"IFERROR(HLOOKUP(Y414,[1]DATA!$A$1:$NB$5,4,0),\"\")","v":"D2"},34,null,37,291,{"$f":"VLOOKUP(Y414,[1]SRM!$S$4:$Z$368,3,0)","v":46},-121.9375,0.62283524904214549,0.8709315375982043]
["20doND",{"$f":"VLOOKUP($AA416,DATA!$B$3:$E416,2,0)","v":"22:30:00"},{"$f":"VLOOKUP($AA416,DATA!$B$3:$E416,3,0)","v":"06:30:00"},{"$f":"VLOOKUP($AA416,DATA!$B$3:$E416,4,0)","v":3.125E-2},0.30208333333333326,0.28749999999999992,{"$f":"DATA!$C$9","v":0.89},{"$f":"DATA!$C$10","v":64},1,388.12499999999989,407.81249999999989,1.4583333333333332E-2,19.687499999999996,4.8275862068965524E-2,0,"","",292.26666666666665,269,269,"","",null,{"$f":"X415","v":20},null,{"$f":"TEXT(Y414,\"ddd\")","v":"do"},"ND",{"$f":"IFERROR(HLOOKUP(Y414,[1]DATA!$A$1:$NB$5,5,0),\"\")","v":"D1"},21,null,5,274,{"$f":"VLOOKUP(Y414,[1]SRM!$S$4:$Z$368,4,0)","v":12},-119.12499999999989,0.65961685823754812,0.96056091148115685]
["20vrDD",{"$f":"VLOOKUP($AA417,DATA!$B$3:$E417,2,0)","v":"06:30:00"},{"$f":"VLOOKUP($AA417,DATA!$B$3:$E417,3,0)","v":"14:30:00"},{"$f":"VLOOKUP($AA417,DATA!$B$3:$E417,4,0)","v":3.125E-2},0.30208333333333331,0.27638888888888885,{"$f":"DATA!$C$9","v":0.89},{"$f":"DATA!$C$10","v":64},1,373.12499999999994,407.8125,2.5694444444444447E-2,34.6875,8.5057471264367815E-2,0,"","",338.13333333333333,294,"","",294,null,{"$f":"X415","v":20},{"$f":"Y414+1","v":"2018-05-18"},{"$f":"TEXT(Y417,\"ddd\")","v":"vr"},"DD",{"$f":"IFERROR(HLOOKUP(Y417,[1]DATA!$A$1:$NB$5,3,0),\"\")","v":"D3"},37,null,23,317,{"$f":"VLOOKUP(Y417,[1]SRM!$S$4:$Z$368,2,0)","v":74},-79.124999999999943,0.72091954022988503,0.82044645745713363]
["20vrMD",{"$f":"VLOOKUP($AA418,DATA!$B$3:$E418,2,0)","v":"14:30:00"},{"$f":"VLOOKUP($AA418,DATA!$B$3:$E418,3,0)","v":"22:30:00"},{"$f":"VLOOKUP($AA418,DATA!$B$3:$E418,4,0)","v":3.125E-2},0.30208333333333337,0.27638888888888891,{"$f":"DATA!$C$9","v":0.89},{"$f":"DATA!$C$10","v":64},1,373.125,407.81250000000006,2.5694444444444447E-2,34.6875,8.5057471264367801E-2,0,"","",310.39999999999998,266,"",266,"",null,{"$f":"X415","v":20},null,{"$f":"TEXT(Y417,\"ddd\")","v":"vr"},"MD",{"$f":"IFERROR(HLOOKUP(Y417,[1]DATA!$A$1:$NB$5,4,0),\"\")","v":"D2"},37,null,25,291,{"$f":"VLOOKUP(Y417,[1]SRM!$S$4:$Z$368,3,0)","v":48},-107.125,0.65226053639846737,0.8660714285714286]
["20vrND",{"$f":"VLOOKUP($AA419,DATA!$B$3:$E419,2,0)","v":"22:30:00"},{"$f":"VLOOKUP($AA419,DATA!$B$3:$E419,3,0)","v":"06:30:00"},{"$f":"VLOOKUP($AA419,DATA!$B$3:$E419,4,0)","v":3.125E-2},0.30208333333333326,0.26597222222222217,{"$f":"DATA!$C$9","v":0.89},{"$f":"DATA!$C$10","v":64},1,359.06249999999994,407.81249999999989,3.6111111111111115E-2,48.750000000000007,0.11954022988505753,0,"","",280.5333333333333,258,"",258,"",null,{"$f":"X415","v":20},null,{"$f":"TEXT(Y417,\"ddd\")","v":"vr"},"ND",{"$f":"IFERROR(HLOOKUP(Y417,[1]DATA!$A$1:$NB$5,5,0),\"\")","v":"D2"},52,null,5,263,{"$f":"VLOOKUP(Y417,[1]SRM!$S$4:$Z$368,4,0)","v":12},-101.06249999999994,0.63264367816091971,0.95897903372835003]
["20zaDD",{"$f":"VLOOKUP($AA420,DATA!$B$3:$E420,2,0)","v":"06:30:00"},{"$f":"VLOOKUP($AA420,DATA!$B$3:$E420,3,0)","v":"14:30:00"},{"$f":"VLOOKUP($AA420,DATA!$B$3:$E420,4,0)","v":3.125E-2},0.30208333333333331,0.27361111111111108,{"$f":"DATA!$C$9","v":0.89},{"$f":"DATA!$C$10","v":64},1,369.37499999999994,407.8125,2.8472222222222222E-2,38.4375,9.4252873563218389E-2,0,"","",251.73333333333332,224,"","",224,null,{"$f":"X415","v":20},{"$f":"Y417+1","v":"2018-05-19"},{"$f":"TEXT(Y420,\"ddd\")","v":"za"},"DD",{"$f":"IFERROR(HLOOKUP(Y420,[1]DATA!$A$1:$NB$5,3,0),\"\")","v":"D3"},41,null,12,236,{"$f":"VLOOKUP(Y420,[1]SRM!$S$4:$Z$368,2,0)","v":5},-145.37499999999994,0.549272030651341,0.9805245390807581]
["20zaMD",{"$f":"VLOOKUP($AA421,DATA!$B$3:$E421,2,0)","v":"14:30:00"},{"$f":"VLOOKUP($AA421,DATA!$B$3:$E421,3,0)","v":"22:30:00"},{"$f":"VLOOKUP($AA421,DATA!$B$3:$E421,4,0)","v":3.125E-2},0.30208333333333337,0.30208333333333337,{"$f":"DATA!$C$9","v":0.89},{"$f":"DATA!$C$10","v":64},1,407.81250000000006,407.81250000000006,0,"","",0,"","",0,"","","","",null,{"$f":"X415","v":20},null,{"$f":"TEXT(Y420,\"ddd\")","v":"za"},"MD",{"$f":"IFERROR(HLOOKUP(Y420,[1]DATA!$A$1:$NB$5,4,0),\"\")","v":"-"},null,null,null,null,{"$f":"VLOOKUP(Y420,[1]SRM!$S$4:$Z$368,3,0)","v":0},"","",""]
["20zaND",{"$f":"VLOOKUP($AA422,DATA!$B$3:$E422,2,0)","v":"22:30:00"},{"$f":"VLOOKUP($AA422,DATA!$B$3:$E422,3,0)","v":"06:30:00"},{"$f":"VLOOKUP($AA422,DATA!$B$3:$E422,4,0)","v":3.125E-2},0.30208333333333326,0.30208333333333326,{"$f":"DATA!$C$9","v":0.89},{"$f":"DATA!$C$10","v":64},1,407.81249999999989,407.81249999999989,0,"","",0,"","",0,"","","","",null,{"$f":"X415","v":20},null,{"$f":"TEXT(Y420,\"ddd\")","v":"za"},"ND",{"$f":"IFERROR(HLOOKUP(Y420,[1]DATA!$A$1:$NB$5,5,0),\"\")","v":"-"},null,null,null,null,{"$f":"VLOOKUP(Y420,[1]SRM!$S$4:$Z$368,4,0)","v":0},"","",""]
["20zoDD",{"$f":"VLOOKUP($AA423,DATA!$B$3:$E423,2,0)","v":"06:30:00"},{"$f":"VLOOKUP($AA423,DATA!$B$3:$E423,3,0)","v":"14:30:00"},{"$f":"VLOOKUP($AA423,DATA!$B$3:$E423,4,0)","v":3.125E-2},0.30208333333333331,0.30208333333333331,{"$f":"DATA!$C$9","v":0.89},{"$f":"DATA!$C$10","v":64},1,407.8125,407.8125,0,"","",0,"","",0,"","","","",null,{"$f":"X415","v":20},{"$f":"Y420+1","v":"2018-05-20"},{"$f":"TEXT(Y423,\"ddd\")","v":"zo"},"DD",{"$f":"IFERROR(HLOOKUP(Y423,[1]DATA!$A$1:$NB$5,3,0),\"\")","v":"-"},null,null,null,null,{"$f":"VLOOKUP(Y423,[1]SRM!$S$4:$Z$368,2,0)","v":0},"","",""]
["20zoMD",{"$f":"VLOOKUP($AA424,DATA!$B$3:$E424,2,0)","v":"14:30:00"},{"$f":"VLOOKUP($AA424,DATA!$B$3:$E424,3,0)","v":"22:30:00"},{"$f":"VLOOKUP($AA424,DATA!$B$3:$E424,4,0)","v":3.125E-2},0.30208333333333337,0.30208333333333337,{"$f":"DATA!$C$9","v":0.89},{"$f":"DATA!$C$10","v":64},1,407.81250000000006,407.81250000000006,0,"","",0,"","",0,"","","","",null,{"$f":"X415","v":20},null,{"$f":"TEXT(Y423,\"ddd\")","v":"zo"},"MD",{"$f":"IFERROR(HLOOKUP(Y423,[1]DATA!$A$1:$NB$5,4,0),\"\")","v":"-"},null,null,null,null,{"$f":"VLOOKUP(Y423,[1]SRM!$S$4:$Z$368,3,0)","v":0},"","",""]
["20zoZND",{"$f":"VLOOKUP($AA425,DATA!$B$3:$E425,2,0)","v":"00:00:00"},{"$f":"VLOOKUP($AA425,DATA!$B$3:$E425,3,0)","v":"00:00:00"},{"$f":"VLOOKUP($AA425,DATA!$B$3:$E425,4,0)","v":0},0,0,{"$f":"DATA!$C$9","v":0.89},{"$f":"DATA!$C$10","v":64},1,0,0,0,"","",0,"","",0,"","","","",null,{"$f":"X415","v":20},null,{"$f":"TEXT(Y423,\"ddd\")","v":"zo"},"ZND",{"$f":"IFERROR(HLOOKUP(Y423,[1]DATA!$A$1:$NB$5,5,0),\"\")","v":"-"},null,null,null,null,{"$f":"VLOOKUP(Y423,[1]SRM!$S$4:$Z$368,4,0)","v":0},"","",""]
["21maDD",{"$f":"VLOOKUP($AA426,DATA!$B$3:$E426,2,0)","v":"06:30:00"},{"$f":"VLOOKUP($AA426,DATA!$B$3:$E426,3,0)","v":"14:30:00"},{"$f":"VLOOKUP($AA426,DATA!$B$3:$E426,4,0)","v":3.125E-2},0.30208333333333331,0.30208333333333331,{"$f":"DATA!$C$9","v":0.89},{"$f":"DATA!$C$10","v":64},1,407.8125,407.8125,0,"","",{"$f":"TIME(INT($AD426/60),INT(MOD($AD426,60)/1),0)","v":0},"","",0,"","","","",null,{"$f":"X436","v":21},{"$f":"Y423+1","v":"2018-05-21"},{"$f":"TEXT(Y426,\"ddd\")","v":"ma"},"DD",{"$f":"IFERROR(HLOOKUP(Y426,[1]DATA!$A$1:$NB$5,3,0),\"\")","v":"D2"},null,null,null,null,{"$f":"VLOOKUP(Y426,[1]SRM!$S$4:$Z$368,2,0)","v":0},"","","",{"$f":"IF(SUMIF(S426:S446,\">0\",K426:K446)=0,\"\",SUMIF(S426:S446,\">0\",K426:K446))","v":4893.75},{"$f":"IF(SUM(S426:S446)=0,\"\",SUM(S426:S446))","v":3585},{"$f":"IFERROR(AL426/AK426,\"-\")","v":0.73256704980842913},{"$f":"IF(SUM(M426:M446)=0,\"0\",SUM(M426:M446))","v":465},{"$f":"IFERROR(AN426/AK426,\"-\")","v":9.5019157088122599E-2},{"$f":"IF(SUM(P426:P446)=0,0,SUM(P426:P446))","v":0},{"$f":"IFERROR(AP426/AK426,\"-\")","v":0},{"$f":"IFERROR(AVERAGE(AJ426:AJ446),\"-\")","v":0.84474213832674694},{"$f":"IFERROR(SUMIF($AB426:$AB446,AS$5,$AJ426:$AJ446)/COUNTIFS($AB426:$AB446,AS$5,$AJ426:$AJ446,\">0\"),\"\")","v":0.94769929872887648},0.90803002899538077,0.88968262183767022,{"$f":"IFERROR((AK426-AL426-AN426-AP426),\"-\")","v":843.75},{"$f":"IFERROR((1-AM426-AO426-AQ426), \"-\")","v":0.17241379310344829},{"$f":"IFERROR((AV426*$AE$2)/60,\"-\")","v":900},{"$f":"IFERROR(SUM(AG426:AG446),\"\")","v":454}]
["21maMD",{"$f":"VLOOKUP($AA427,DATA!$B$3:$E427,2,0)","v":"14:30:00"},{"$f":"VLOOKUP($AA427,DATA!$B$3:$E427,3,0)","v":"22:30:00"},{"$f":"VLOOKUP($AA427,DATA!$B$3:$E427,4,0)","v":3.125E-2},0.30208333333333337,0.30208333333333337,{"$f":"DATA!$C$9","v":0.89},{"$f":"DATA!$C$10","v":64},1,407.81250000000006,407.81250000000006,0,"","",{"$f":"TIME(INT(AD427/60),INT(MOD(AD427,60)/1),0)","v":0},"","",0,"","","","",null,{"$f":"X436","v":21},null,{"$f":"TEXT(Y426,\"ddd\")","v":"ma"},"MD",{"$f":"IFERROR(HLOOKUP(Y426,[1]DATA!$A$1:$NB$5,4,0),\"\")","v":"D1"},null,null,null,null,{"$f":"VLOOKUP(Y426,[1]SRM!$S$4:$Z$368,3,0)","v":0},"","",""]
["21maND",{"$f":"VLOOKUP($AA428,DATA!$B$3:$E428,2,0)","v":"22:30:00"},{"$f":"VLOOKUP($AA428,DATA!$B$3:$E428,3,0)","v":"06:30:00"},{"$f":"VLOOKUP($AA428,DATA!$B$3:$E428,4,0)","v":3.125E-2},0.30208333333333326,0.30208333333333326,{"$f":"DATA!$C$9","v":0.89},{"$f":"DATA!$C$10","v":64},1,407.81249999999989,407.81249999999989,0,"","",0,"","",0,"","","","",null,{"$f":"X436","v":21},null,{"$f":"TEXT(Y426,\"ddd\")","v":"ma"},"ND",{"$f":"IFERROR(HLOOKUP(Y426,[1]DATA!$A$1:$NB$5,5,0),\"\")","v":"D3"},null,null,null,null,{"$f":"VLOOKUP(Y426,[1]SRM!$S$4:$Z$368,4,0)","v":0},"","",""]
["21diDD",{"$f":"VLOOKUP($AA429,DATA!$B$3:$E429,2,0)","v":"06:30:00"},{"$f":"VLOOKUP($AA429,DATA!$B$3:$E429,3,0)","v":"14:30:00"},{"$f":"VLOOKUP($AA429,DATA!$B$3:$E429,4,0)","v":3.125E-2},0.30208333333333331,0.26597222222222222,{"$f":"DATA!$C$9","v":0.89},{"$f":"DATA!$C$10","v":64},1,359.0625,407.8125,3.6111111111111115E-2,48.750000000000007,0.11954022988505748,0,"","",281.60000000000002,245,"",245,"",null,{"$f":"X436","v":21},{"$f":"Y426+1","v":"2018-05-22"},{"$f":"TEXT(Y429,\"ddd\")","v":"di"},"DD",{"$f":"IFERROR(HLOOKUP(Y429,[1]DATA!$A$1:$NB$5,3,0),\"\")","v":"D2"},52,null,19,264,{"$f":"VLOOKUP(Y429,[1]SRM!$S$4:$Z$368,2,0)","v":22},-114.0625,0.60076628352490424,0.92753623188405798]
["21diMD",{"$f":"VLOOKUP($AA430,DATA!$B$3:$E430,2,0)","v":"14:30:00"},{"$f":"VLOOKUP($AA430,DATA!$B$3:$E430,3,0)","v":"22:30:00"},{"$f":"VLOOKUP($AA430,DATA!$B$3:$E430,4,0)","v":3.125E-2},0.30208333333333337,0.27847222222222223,{"$f":"DATA!$C$9","v":0.89},{"$f":"DATA!$C$10","v":64},1,375.9375,407.81250000000006,2.361111111111111E-2,31.875,7.816091954022987E-2,0,"","",328.5333333333333,302,302,"","",null,{"$f":"X436","v":21},null,{"$f":"TEXT(Y429,\"ddd\")","v":"di"},"MD",{"$f":"IFERROR(HLOOKUP(Y429,[1]DATA!$A$1:$NB$5,4,0),\"\")","v":"D1"},34,null,6,308,{"$f":"VLOOKUP(Y429,[1]SRM!$S$4:$Z$368,3,0)","v":11},-73.9375,0.7405363984674328,0.96760259179265662]
["21diND",{"$f":"VLOOKUP($AA431,DATA!$B$3:$E431,2,0)","v":"22:30:00"},{"$f":"VLOOKUP($AA431,DATA!$B$3:$E431,3,0)","v":"06:30:00"},{"$f":"VLOOKUP($AA431,DATA!$B$3:$E431,4,0)","v":3.125E-2},0.30208333333333326,0.27361111111111103,{"$f":"DATA!$C$9","v":0.89},{"$f":"DATA!$C$10","v":64},1,369.37499999999989,407.81249999999989,2.8472222222222222E-2,38.4375,9.4252873563218417E-2,0,"","",341.33333333333331,299,"","",299,null,{"$f":"X436","v":21},null,{"$f":"TEXT(Y429,\"ddd\")","v":"di"},"ND",{"$f":"IFERROR(HLOOKUP(Y429,[1]DATA!$A$1:$NB$5,5,0),\"\")","v":"D3"},41,null,21,320,{"$f":"VLOOKUP(Y429,[1]SRM!$S$4:$Z$368,4,0)","v":60},-70.374999999999886,0.73318007662835272,0.85049833887043191]
[{"$f":"X432&Z432&AA432","v":"21woDD"},{"$f":"VLOOKUP($AA432,DATA!$B$3:$E432,2,0)","v":"06:30:00"},{"$f":"VLOOKUP($AA432,DATA!$B$3:$E432,3,0)","v":"14:30:00"},{"$f":"VLOOKUP($AA432,DATA!$B$3:$E432,4,0)","v":3.125E-2},0.30208333333333331,0.28194444444444444,{"$f":"DATA!$C$9","v":0.89},{"$f":"DATA!$C$10","v":64},1,380.625,407.8125,2.013888888888889E-2,27.1875,6.6666666666666666E-2,0,{"$f":"IF($O432*86400/$H432=0,\"\",$O432*86400/$H432)","v":""},"",323.2,281,"",281,"",null,{"$f":"X436","v":21},{"$f":"Y429+1","v":"2018-05-23"},{"$f":"TEXT(Y432,\"ddd\")","v":"wo"},"DD",{"$f":"IFERROR(HLOOKUP(Y432,[1]DATA!$A$1:$NB$5,3,0),\"\")","v":"D2"},29,null,22,303,{"$f":"VLOOKUP(Y432,[1]SRM!$S$4:$Z$368,2,0)","v":50},-99.625,0.68904214559386978,0.86602357984994638]
["21woMD",{"$f":"VLOOKUP($AA433,DATA!$B$3:$E433,2,0)","v":"14:30:00"},{"$f":"VLOOKUP($AA433,DATA!$B$3:$E433,3,0)","v":"22:30:00"},{"$f":"VLOOKUP($AA433,DATA!$B$3:$E433,4,0)","v":3.125E-2},0.30208333333333337,0.29722222222222228,{"$f":"DATA!$C$9","v":0.89},{"$f":"DATA!$C$10","v":64},1,401.25000000000006,407.81250000000006,4.8611111111111112E-3,6.5625,1.6091954022988502E-2,0,"","",408.5333333333333,345,345,"","",null,{"$f":"X436","v":21},null,{"$f":"TEXT(Y432,\"ddd\")","v":"wo"},"MD",{"$f":"IFERROR(HLOOKUP(Y432,[1]DATA!$A$1:$NB$5,4,0),\"\")","v":"D1"},7,null,38,383,{"$f":"VLOOKUP(Y432,[1]SRM!$S$4:$Z$368,3,0)","v":40},-56.250000000000057,0.84597701149425275,0.91082045184304394]
["21woND",{"$f":"VLOOKUP($AA434,DATA!$B$3:$E434,2,0)","v":"22:30:00"},{"$f":"VLOOKUP($AA434,DATA!$B$3:$E434,3,0)","v":"06:30:00"},{"$f":"VLOOKUP($AA434,DATA!$B$3:$E434,4,0)","v":3.125E-2},0.30208333333333326,0.26805555555555549,{"$f":"DATA!$C$9","v":0.89},{"$f":"DATA!$C$10","v":64},1,361.87499999999989,407.81249999999989,3.4027777777777775E-2,45.937499999999993,0.11264367816091955,0,"","",356.26666666666665,305,"","",305,null,{"$f":"X436","v":21},null,{"$f":"TEXT(Y432,\"ddd\")","v":"wo"},"ND",{"$f":"IFERROR(HLOOKUP(Y432,[1]DATA!$A$1:$NB$5,5,0),\"\")","v":"D3"},49,null,29,334,{"$f":"VLOOKUP(Y432,[1]SRM!$S$4:$Z$368,4,0)","v":32},-56.874999999999886,0.74789272030651366,0.91758241758241754]
["21doDD",{"$f":"VLOOKUP($AA435,DATA!$B$3:$E435,2,0)","v":"06:30:00"},{"$f":"VLOOKUP($AA435,DATA!$B$3:$E435,3,0)","v":"14:30:00"},{"$f":"VLOOKUP($AA435,DATA!$B$3:$E435,4,0)","v":3.125E-2},0.30208333333333331,0.27152777777777776,{"$f":"DATA!$C$9","v":0.89},{"$f":"DATA!$C$10","v":64},1,366.5625,407.8125,3.0555555555555555E-2,41.25,0.10114942528735632,0,"","",316.8,270,"",270,"",null,{"$f":"X436","v":21},{"$f":"Y432+1","v":"2018-05-24"},{"$f":"TEXT(Y435,\"ddd\")","v":"do"},"DD",{"$f":"IFERROR(HLOOKUP(Y435,[1]DATA!$A$1:$NB$5,3,0),\"\")","v":"D2"},44,null,27,297,{"$f":"VLOOKUP(Y435,[1]SRM!$S$4:$Z$368,2,0)","v":50},-96.5625,0.66206896551724137,0.86368593238822244]
["21doMD",{"$f":"VLOOKUP($AA436,DATA!$B$3:$E436,2,0)","v":"14:30:00"},{"$f":"VLOOKUP($AA436,DATA!$B$3:$E436,3,0)","v":"22:30:00"},{"$f":"VLOOKUP($AA436,DATA!$B$3:$E436,4,0)","v":3.125E-2},0.30208333333333337,0.27152777777777781,{"$f":"DATA!$C$9","v":0.89},{"$f":"DATA!$C$10","v":64},1,366.56250000000006,407.81250000000006,3.0555555555555555E-2,41.25,0.10114942528735631,0,"","",396.8,336,336,"","",null,{"$f":"WEEKNUM($Y426)","v":21},null,{"$f":"TEXT(Y435,\"ddd\")","v":"do"},"MD",{"$f":"IFERROR(HLOOKUP(Y435,[1]DATA!$A$1:$NB$5,4,0),\"\")","v":"D1"},44,null,36,372,{"$f":"VLOOKUP(Y435,[1]SRM!$S$4:$Z$368,3,0)","v":7},-30.562500000000057,0.82390804597701139,0.98266468548786523]
["21doND",{"$f":"VLOOKUP($AA437,DATA!$B$3:$E437,2,0)","v":"22:30:00"},{"$f":"VLOOKUP($AA437,DATA!$B$3:$E437,3,0)","v":"06:30:00"},{"$f":"VLOOKUP($AA437,DATA!$B$3:$E437,4,0)","v":3.125E-2},0.30208333333333326,0.26388888888888884,{"$f":"DATA!$C$9","v":0.89},{"$f":"DATA!$C$10","v":64},1,356.24999999999994,407.81249999999989,3.8194444444444441E-2,51.562499999999993,0.12643678160919541,0,"","",361.6,317,"","",317,null,{"$f":"X436","v":21},null,{"$f":"TEXT(Y435,\"ddd\")","v":"do"},"ND",{"$f":"IFERROR(HLOOKUP(Y435,[1]DATA!$A$1:$NB$5,5,0),\"\")","v":"D3"},55,null,22,339,{"$f":"VLOOKUP(Y435,[1]SRM!$S$4:$Z$368,4,0)","v":19},-39.249999999999943,0.77731800766283543,0.95007882291119283]
["21vrDD",{"$f":"VLOOKUP($AA438,DATA!$B$3:$E438,2,0)","v":"06:30:00"},{"$f":"VLOOKUP($AA438,DATA!$B$3:$E438,3,0)","v":"14:30:00"},{"$f":"VLOOKUP($AA438,DATA!$B$3:$E438,4,0)","v":3.125E-2},0.30208333333333331,0.27152777777777776,{"$f":"DATA!$C$9","v":0.89},{"$f":"DATA!$C$10","v":64},1,366.5625,407.8125,3.0555555555555555E-2,41.25,0.10114942528735632,0,"","",310.39999999999998,268,"",268,"",null,{"$f":"X436","v":21},{"$f":"Y435+1","v":"2018-05-25"},{"$f":"TEXT(Y438,\"ddd\")","v":"vr"},"DD",{"$f":"IFERROR(HLOOKUP(Y438,[1]DATA!$A$1:$NB$5,3,0),\"\")","v":"D2"},44,null,23,291,{"$f":"VLOOKUP(Y438,[1]SRM!$S$4:$Z$368,2,0)","v":8},-98.5625,0.65716475095785443,0.97487437185929648]
["21vrMD",{"$f":"VLOOKUP($AA439,DATA!$B$3:$E439,2,0)","v":"14:30:00"},{"$f":"VLOOKUP($AA439,DATA!$B$3:$E439,3,0)","v":"22:30:00"},{"$f":"VLOOKUP($AA439,DATA!$B$3:$E439,4,0)","v":3.125E-2},0.30208333333333337,0.27638888888888891,{"$f":"DATA!$C$9","v":0.89},{"$f":"DATA!$C$10","v":64},1,373.125,407.81250000000006,2.5694444444444447E-2,34.6875,8.5057471264367801E-2,0,"","",330.66666666666669,287,287,"","",null,{"$f":"X436","v":21},null,{"$f":"TEXT(Y438,\"ddd\")","v":"vr"},"MD",{"$f":"IFERROR(HLOOKUP(Y438,[1]DATA!$A$1:$NB$5,4,0),\"\")","v":"D1"},37,null,23,310,{"$f":"VLOOKUP(Y438,[1]SRM!$S$4:$Z$368,3,0)","v":25},-86.125,0.7037547892720305,0.92970946579194003]
["21vrND",{"$f":"VLOOKUP($AA440,DATA!$B$3:$E440,2,0)","v":"22:30:00"},{"$f":"VLOOKUP($AA440,DATA!$B$3:$E440,3,0)","v":"06:30:00"},{"$f":"VLOOKUP($AA440,DATA!$B$3:$E440,4,0)","v":3.125E-2},0.30208333333333326,0.26041666666666657,{"$f":"DATA!$C$9","v":0.89},{"$f":"DATA!$C$10","v":64},1,351.56249999999989,407.81249999999989,4.1666666666666664E-2,56.25,0.13793103448275865,0,"","",369.06666666666666,330,"","",330,null,{"$f":"X436","v":21},null,{"$f":"TEXT(Y438,\"ddd\")","v":"vr"},"ND",{"$f":"IFERROR(HLOOKUP(Y438,[1]DATA!$A$1:$NB$5,5,0),\"\")","v":"D3"},60,null,16,346,{"$f":"VLOOKUP(Y438,[1]SRM!$S$4:$Z$368,4,0)","v":70},-21.562499999999886,0.80919540229885079,0.84057090798663836]
["21zaDD",{"$f":"VLOOKUP($AA441,DATA!$B$3:$E441,2,0)","v":"06:30:00"},{"$f":"VLOOKUP($AA441,DATA!$B$3:$E441,3,0)","v":"14:30:00"},{"$f":"VLOOKUP($AA441,DATA!$B$3:$E441,4,0)","v":3.125E-2},0.30208333333333331,0.30208333333333331,{"$f":"DATA!$C$9","v":0.89},{"$f":"DATA!$C$10","v":64},1,407.8125,407.8125,0,"","",0,"","",0,"","","","",null,{"$f":"X436","v":21},{"$f":"Y438+1","v":"2018-05-26"},{"$f":"TEXT(Y441,\"ddd\")","v":"za"},"DD",{"$f":"IFERROR(HLOOKUP(Y441,[1]DATA!$A$1:$NB$5,3,0),\"\")","v":"D2"},null,null,null,null,{"$f":"VLOOKUP(Y441,[1]SRM!$S$4:$Z$368,2,0)","v":60},"","",0]
["21zaMD",{"$f":"VLOOKUP($AA442,DATA!$B$3:$E442,2,0)","v":"14:30:00"},{"$f":"VLOOKUP($AA442,DATA!$B$3:$E442,3,0)","v":"22:30:00"},{"$f":"VLOOKUP($AA442,DATA!$B$3:$E442,4,0)","v":3.125E-2},0.30208333333333337,0.30208333333333337,{"$f":"DATA!$C$9","v":0.89},{"$f":"DATA!$C$10","v":64},1,407.81250000000006,407.81250000000006,0,"","",0,"","",0,"","","","",null,{"$f":"X436","v":21},null,{"$f":"TEXT(Y441,\"ddd\")","v":"za"},"MD",{"$f":"IFERROR(HLOOKUP(Y441,[1]DATA!$A$1:$NB$5,4,0),\"\")","v":"-"},null,null,null,null,{"$f":"VLOOKUP(Y441,[1]SRM!$S$4:$Z$368,3,0)","v":0},"","",""]
["21zaND",{"$f":"VLOOKUP($AA443,DATA!$B$3:$E443,2,0)","v":"22:30:00"},{"$f":"VLOOKUP($AA443,DATA!$B$3:$E443,3,0)","v":"06:30:00"},{"$f":"VLOOKUP($AA443,DATA!$B$3:$E443,4,0)","v":3.125E-2},0.30208333333333326,0.30208333333333326,{"$f":"DATA!$C$9","v":0.89},{"$f":"DATA!$C$10","v":64},1,407.81249999999989,407.81249999999989,0,"","",0,"","",0,"","","","",null,{"$f":"X436","v":21},null,{"$f":"TEXT(Y441,\"ddd\")","v":"za"},"ND",{"$f":"IFERROR(HLOOKUP(Y441,[1]DATA!$A$1:$NB$5,5,0),\"\")","v":"-"},null,null,null,null,{"$f":"VLOOKUP(Y441,[1]SRM!$S$4:$Z$368,4,0)","v":0},"","",""]
["21zoDD",{"$f":"VLOOKUP($AA444,DATA!$B$3:$E444,2,0)","v":"06:30:00"},{"$f":"VLOOKUP($AA444,DATA!$B$3:$E444,3,0)","v":"14:30:00"},{"$f":"VLOOKUP($AA444,DATA!$B$3:$E444,4,0)","v":3.125E-2},0.30208333333333331,0.30208333333333331,{"$f":"DATA!$C$9","v":0.89},{"$f":"DATA!$C$10","v":64},1,407.8125,407.8125,0,"","",0,"","",0,"","","","",null,{"$f":"X436","v":21},{"$f":"Y441+1","v":"2018-05-27"},{"$f":"TEXT(Y444,\"ddd\")","v":"zo"},"DD",{"$f":"IFERROR(HLOOKUP(Y444,[1]DATA!$A$1:$NB$5,3,0),\"\")","v":"-"},null,null,null,null,{"$f":"VLOOKUP(Y444,[1]SRM!$S$4:$Z$368,2,0)","v":0},"","",""]
["21zoMD",{"$f":"VLOOKUP($AA445,DATA!$B$3:$E445,2,0)","v":"14:30:00"},{"$f":"VLOOKUP($AA445,DATA!$B$3:$E445,3,0)","v":"22:30:00"},{"$f":"VLOOKUP($AA445,DATA!$B$3:$E445,4,0)","v":3.125E-2},0.30208333333333337,0.30208333333333337,{"$f":"DATA!$C$9","v":0.89},{"$f":"DATA!$C$10","v":64},1,407.81250000000006,407.81250000000006,0,"","",0,"","",0,"","","","",null,{"$f":"X436","v":21},null,{"$f":"TEXT(Y444,\"ddd\")","v":"zo"},"MD",{"$f":"IFERROR(HLOOKUP(Y444,[1]DATA!$A$1:$NB$5,4,0),\"\")","v":"-"},null,null,null,null,{"$f":"VLOOKUP(Y444,[1]SRM!$S$4:$Z$368,3,0)","v":0},"","",""]
["21zoZND",{"$f":"VLOOKUP($AA446,DATA!$B$3:$E446,2,0)","v":"00:00:00"},{"$f":"VLOOKUP($AA446,DATA!$B$3:$E446,3,0)","v":"00:00:00"},{"$f":"VLOOKUP($AA446,DATA!$B$3:$E446,4,0)","v":0},0,0,{"$f":"DATA!$C$9","v":0.89},{"$f":"DATA!$C$10","v":64},1,0,0,0,"","",0,"","",0,"","","","",null,{"$f":"X436","v":21},null,{"$f":"TEXT(Y444,\"ddd\")","v":"zo"},"ZND",{"$f":"IFERROR(HLOOKUP(Y444,[1]DATA!$A$1:$NB$5,5,0),\"\")","v":"-"},null,null,null,null,{"$f":"VLOOKUP(Y444,[1]SRM!$S$4:$Z$368,4,0)","v":0},"","",""]
["22maDD",{"$f":"VLOOKUP($AA447,DATA!$B$3:$E447,2,0)","v":"06:30:00"},{"$f":"VLOOKUP($AA447,DATA!$B$3:$E447,3,0)","v":"14:30:00"},{"$f":"VLOOKUP($AA447,DATA!$B$3:$E447,4,0)","v":3.125E-2},0.30208333333333331,0.26874999999999999,{"$f":"DATA!$C$9","v":0.89},{"$f":"DATA!$C$10","v":64},1,362.8125,407.8125,3.3333333333333333E-2,45,0.1103448275862069,{"$f":"TIME(INT($AD447/60),INT(MOD($AD447,60)/1),0)","v":0},"","",254.93333333333334,224,224,"","",null,{"$f":"X457","v":22},{"$f":"Y444+1","v":"2018-05-28"},{"$f":"TEXT(Y447,\"ddd\")","v":"ma"},"DD",{"$f":"IFERROR(HLOOKUP(Y447,[1]DATA!$A$1:$NB$5,3,0),\"\")","v":"D1"},48,null,15,239,{"$f":"VLOOKUP(Y447,[1]SRM!$S$4:$Z$368,2,0)","v":13},-138.8125,0.549272030651341,0.95148046777805428,{"$f":"IF(SUMIF(S447:S467,\">0\",K447:K467)=0,\"\",SUMIF(S447:S467,\">0\",K447:K467))","v":6117.1875},{"$f":"IF(SUM(S447:S467)=0,\"\",SUM(S447:S467))","v":4178},{"$f":"IFERROR(AL447/AK447,\"-\")","v":0.68299361430395911},{"$f":"IF(SUM(M447:M467)=0,\"0\",SUM(M447:M467))","v":543.75},{"$f":"IFERROR(AN447/AK447,\"-\")","v":8.8888888888888892E-2},{"$f":"IF(SUM(P447:P467)=0,0,SUM(P447:P467))","v":0},{"$f":"IFERROR(AP447/AK447,\"-\")","v":0},{"$f":"IFERROR(AVERAGE(AJ447:AJ467),\"-\")","v":0.92909050973411733},{"$f":"IFERROR(SUMIF($AB447:$AB467,AS$5,$AJ447:$AJ467)/COUNTIFS($AB447:$AB467,AS$5,$AJ447:$AJ467,\">0\"),\"\")","v":0.94827238081504461},0.92470501968079988,0.91429412870650761,{"$f":"IFERROR((AK447-AL447-AN447-AP447),\"-\")","v":1395.4375},{"$f":"IFERROR((1-AM447-AO447-AQ447), \"-\")","v":0.22811749680715199},{"$f":"IFERROR((AV447*$AE$2)/60,\"-\")","v":1488.4666666666667},{"$f":"IFERROR(SUM(AG447:AG467),\"\")","v":376}]
["22maMD",{"$f":"VLOOKUP($AA448,DATA!$B$3:$E448,2,0)","v":"14:30:00"},{"$f":"VLOOKUP($AA448,DATA!$B$3:$E448,3,0)","v":"22:30:00"},{"$f":"VLOOKUP($AA448,DATA!$B$3:$E448,4,0)","v":3.125E-2},0.30208333333333337,0.28125000000000006,{"$f":"DATA!$C$9","v":0.89},{"$f":"DATA!$C$10","v":64},1,379.68750000000006,407.81250000000006,2.0833333333333332E-2,28.125,6.8965517241379296E-2,{"$f":"TIME(INT(AD448/60),INT(MOD(AD448,60)/1),0)","v":0},"","",215.46666666666667,187,"","",187,null,{"$f":"X457","v":22},null,{"$f":"TEXT(Y447,\"ddd\")","v":"ma"},"MD",{"$f":"IFERROR(HLOOKUP(Y447,[1]DATA!$A$1:$NB$5,4,0),\"\")","v":"D3"},30,null,15,202,{"$f":"VLOOKUP(Y447,[1]SRM!$S$4:$Z$368,3,0)","v":21},-192.68750000000006,0.45854406130268194,0.91119255709049907]
["22maND",{"$f":"VLOOKUP($AA449,DATA!$B$3:$E449,2,0)","v":"22:30:00"},{"$f":"VLOOKUP($AA449,DATA!$B$3:$E449,3,0)","v":"06:30:00"},{"$f":"VLOOKUP($AA449,DATA!$B$3:$E449,4,0)","v":3.125E-2},0.30208333333333326,0.27222222222222214,{"$f":"DATA!$C$9","v":0.89},{"$f":"DATA!$C$10","v":64},1,367.49999999999989,407.81249999999989,2.9861111111111113E-2,40.3125,9.8850574712643705E-2,0,"","",297.60000000000002,256,"",256,"",null,{"$f":"X457","v":22},null,{"$f":"TEXT(Y447,\"ddd\")","v":"ma"},"ND",{"$f":"IFERROR(HLOOKUP(Y447,[1]DATA!$A$1:$NB$5,5,0),\"\")","v":"D2"},43,null,23,279,{"$f":"VLOOKUP(Y447,[1]SRM!$S$4:$Z$368,4,0)","v":6},-111.49999999999989,0.62773946360153277,0.98023715415019763]
["22diDD",{"$f":"VLOOKUP($AA450,DATA!$B$3:$E450,2,0)","v":"06:30:00"},{"$f":"VLOOKUP($AA450,DATA!$B$3:$E450,3,0)","v":"14:30:00"},{"$f":"VLOOKUP($AA450,DATA!$B$3:$E450,4,0)","v":3.125E-2},0.30208333333333331,0.24861111111111109,{"$f":"DATA!$C$9","v":0.89},{"$f":"DATA!$C$10","v":64},1,335.62499999999994,407.8125,5.347222222222222E-2,72.1875,0.17701149425287357,0,"","",296.5333333333333,278,278,"","",null,{"$f":"X457","v":22},{"$f":"Y447+1","v":"2018-05-29"},{"$f":"TEXT(Y450,\"ddd\")","v":"di"},"DD",{"$f":"IFERROR(HLOOKUP(Y450,[1]DATA!$A$1:$NB$5,3,0),\"\")","v":"D1"},77,null,0,278,{"$f":"VLOOKUP(Y450,[1]SRM!$S$4:$Z$368,2,0)","v":10},-57.624999999999943,0.68168582375478926,0.96737712048716828]
["22diMD",{"$f":"VLOOKUP($AA451,DATA!$B$3:$E451,2,0)","v":"14:30:00"},{"$f":"VLOOKUP($AA451,DATA!$B$3:$E451,3,0)","v":"22:30:00"},{"$f":"VLOOKUP($AA451,DATA!$B$3:$E451,4,0)","v":3.125E-2},0.30208333333333337,0.30208333333333337,{"$f":"DATA!$C$9","v":0.89},{"$f":"DATA!$C$10","v":64},1,407.81250000000006,407.81250000000006,0,"","",0,"","",355.2,285,"","",285,null,{"$f":"X457","v":22},null,{"$f":"TEXT(Y450,\"ddd\")","v":"di"},"MD",{"$f":"IFERROR(HLOOKUP(Y450,[1]DATA!$A$1:$NB$5,4,0),\"\")","v":"D3"},0,null,48,333,{"$f":"VLOOKUP(Y450,[1]SRM!$S$4:$Z$368,3,0)","v":25},-122.81250000000006,0.69885057471264356,0.93424513413992638]
["22diND",{"$f":"VLOOKUP($AA452,DATA!$B$3:$E452,2,0)","v":"22:30:00"},{"$f":"VLOOKUP($AA452,DATA!$B$3:$E452,3,0)","v":"06:30:00"},{"$f":"VLOOKUP($AA452,DATA!$B$3:$E452,4,0)","v":3.125E-2},0.30208333333333326,0.2541666666666666,{"$f":"DATA!$C$9","v":0.89},{"$f":"DATA!$C$10","v":64},1,343.12499999999989,407.81249999999989,4.7916666666666663E-2,64.6875,0.15862068965517245,0,"","",298.66666666666669,250,"",250,"",null,{"$f":"X457","v":22},null,{"$f":"TEXT(Y450,\"ddd\")","v":"di"},"ND",{"$f":"IFERROR(HLOOKUP(Y450,[1]DATA!$A$1:$NB$5,5,0),\"\")","v":"D2"},69,null,30,280,{"$f":"VLOOKUP(Y450,[1]SRM!$S$4:$Z$368,4,0)","v":80},-93.124999999999886,0.61302681992337182,0.78873239436619724]
["22woDD",{"$f":"VLOOKUP($AA453,DATA!$B$3:$E453,2,0)","v":"06:30:00"},{"$f":"VLOOKUP($AA453,DATA!$B$3:$E453,3,0)","v":"14:30:00"},{"$f":"VLOOKUP($AA453,DATA!$B$3:$E453,4,0)","v":3.125E-2},0.30208333333333331,0.29791666666666666,{"$f":"DATA!$C$9","v":0.89},{"$f":"DATA!$C$10","v":64},1,402.1875,407.8125,4.1666666666666666E-3,5.625,1.3793103448275862E-2,0,"","",302.93333333333334,248,248,"","",null,{"$f":"X457","v":22},{"$f":"Y450+1","v":"2018-05-30"},{"$f":"TEXT(Y453,\"ddd\")","v":"wo"},"DD",{"$f":"IFERROR(HLOOKUP(Y453,[1]DATA!$A$1:$NB$5,3,0),\"\")","v":"D1"},6,null,36,284,{"$f":"VLOOKUP(Y453,[1]SRM!$S$4:$Z$368,2,0)","v":34},-154.1875,0.60812260536398466,0.89908982983775232]
["22woMD",{"$f":"VLOOKUP($AA454,DATA!$B$3:$E454,2,0)","v":"14:30:00"},{"$f":"VLOOKUP($AA454,DATA!$B$3:$E454,3,0)","v":"22:30:00"},{"$f":"VLOOKUP($AA454,DATA!$B$3:$E454,4,0)","v":3.125E-2},0.30208333333333337,0.29652777777777783,{"$f":"DATA!$C$9","v":0.89},{"$f":"DATA!$C$10","v":64},1,{"$f":"F454*86400/H454*I454","v":400.31250000000006},{"$f":"E454*86400/H454","v":407.81250000000006},5.5555555555555558E-3,7.5,1.8390804597701146E-2,0,"","",{"$f":"AF454*AG$2","v":334.93333333333334},{"$f":"IF(AF454-AE454=0,\"\",AF454-AE454)","v":292},"","",292,null,{"$f":"X457","v":22},null,{"$f":"TEXT(Y453,\"ddd\")","v":"wo"},"MD",{"$f":"IFERROR(HLOOKUP(Y453,[1]DATA!$A$1:$NB$5,4,0),\"\")","v":"D3"},8,null,22,314,{"$f":"VLOOKUP(Y453,[1]SRM!$S$4:$Z$368,3,0)","v":37},{"$f":"IFERROR(S454-J454,\"\")","v":-108.31250000000006},{"$f":"IFERROR(IF(S454/(E454*86400/H454)<=0,\"\",S454/(E454*86400/H454)),\"\")","v":0.71601532567049797},0.90051980641692064]
["22woND",{"$f":"VLOOKUP($AA455,DATA!$B$3:$E455,2,0)","v":"22:30:00"},{"$f":"VLOOKUP($AA455,DATA!$B$3:$E455,3,0)","v":"06:30:00"},{"$f":"VLOOKUP($AA455,DATA!$B$3:$E455,4,0)","v":3.125E-2},0.30208333333333326,0.2715277777777777,{"$f":"DATA!$C$9","v":0.89},{"$f":"DATA!$C$10","v":64},1,366.56249999999989,407.81249999999989,{"$f":"TIME(INT($AC455/60),INT(MOD($AC455,60)/1),0)","v":3.0555555555555555E-2},{"$f":"IF($L455*86400/$H455=0,\"\",$L455*86400/$H455)","v":41.25},{"$f":"IFERROR($M455/$K455,\"\")","v":0.10114942528735635},0,"",{"$f":"IFERROR($P455/$K455,\"\")","v":""},346.66666666666669,320,{"$f":"IF(IF($AB455=\"D1\",$S455,\"\")=0,\"\",IF($AB455=\"D1\",$S455,\"\"))","v":""},{"$f":"IF(IF($AB455=\"D2\",$S455,\"\")=0,\"\",IF($AB455=\"D2\",$S455,\"\"))","v":320},{"$f":"IF(IF($AB455=\"D3\",$S455,\"\")=0,\"\",IF($AB455=\"D3\",$S455,\"\"))","v":""},null,{"$f":"X457","v":22},null,{"$f":"TEXT(Y453,\"ddd\")","v":"wo"},"ND",{"$f":"IFERROR(HLOOKUP(Y453,[1]DATA!$A$1:$NB$5,5,0),\"\")","v":"D2"},44,null,5,325,{"$f":"VLOOKUP(Y453,[1]SRM!$S$4:$Z$368,4,0)","v":10},-46.562499999999886,0.78467432950191596,0.9719626168224299]
["22doDD",{"$f":"VLOOKUP($AA456,DATA!$B$3:$E456,2,0)","v":"06:30:00"},{"$f":"VLOOKUP($AA456,DATA!$B$3:$E456,3,0)","v":"14:30:00"},{"$f":"VLOOKUP($AA456,DATA!$B$3:$E456,4,0)","v":3.125E-2},0.30208333333333331,0.25624999999999998,{"$f":"DATA!$C$9","v":0.89},{"$f":"DATA!$C$10","v":64},1,345.93749999999994,407.8125,4.5833333333333337E-2,61.875000000000007,0.15172413793103451,0,"","",366.93333333333334,328,328,"","",null,{"$f":"X457","v":22},{"$f":"Y453+1","v":"2018-05-31"},{"$f":"TEXT(Y456,\"ddd\")","v":"do"},"DD",{"$f":"IFERROR(HLOOKUP(Y456,[1]DATA!$A$1:$NB$5,3,0),\"\")","v":"D1"},66,null,16,344,{"$f":"VLOOKUP(Y456,[1]SRM!$S$4:$Z$368,2,0)","v":16},-17.937499999999943,0.80429118773946362,0.95821727019498604]
["22doMD",{"$f":"VLOOKUP($AA457,DATA!$B$3:$E457,2,0)","v":"14:30:00"},{"$f":"VLOOKUP($AA457,DATA!$B$3:$E457,3,0)","v":"22:30:00"},{"$f":"VLOOKUP($AA457,DATA!$B$3:$E457,4,0)","v":3.125E-2},0.30208333333333337,0.26111111111111113,{"$f":"DATA!$C$9","v":0.89},{"$f":"DATA!$C$10","v":64},1,352.5,407.81250000000006,4.0972222222222222E-2,55.3125,0.13563218390804596,0,"","",377.6,331,"","",331,null,{"$f":"WEEKNUM($Y447)","v":22},null,{"$f":"TEXT(Y456,\"ddd\")","v":"do"},"MD",{"$f":"IFERROR(HLOOKUP(Y456,[1]DATA!$A$1:$NB$5,4,0),\"\")","v":"D3"},59,null,23,354,{"$f":"VLOOKUP(Y456,[1]SRM!$S$4:$Z$368,3,0)","v":29},-21.5,0.81164750957854392,0.92867683226758491]
["22doND",{"$f":"VLOOKUP($AA458,DATA!$B$3:$E458,2,0)","v":"22:30:00"},{"$f":"VLOOKUP($AA458,DATA!$B$3:$E458,3,0)","v":"06:30:00"},{"$f":"VLOOKUP($AA458,DATA!$B$3:$E458,4,0)","v":3.125E-2},0.30208333333333326,0.27430555555555547,{"$f":"DATA!$C$9","v":0.89},{"$f":"DATA!$C$10","v":64},1,370.31249999999989,407.81249999999989,2.7777777777777776E-2,37.5,9.1954022988505774E-2,0,"","",347.73333333333335,299,"",299,"",null,{"$f":"X457","v":22},null,{"$f":"TEXT(Y456,\"ddd\")","v":"do"},"ND",{"$f":"IFERROR(HLOOKUP(Y456,[1]DATA!$A$1:$NB$5,5,0),\"\")","v":"D2"},40,null,27,326,{"$f":"VLOOKUP(Y456,[1]SRM!$S$4:$Z$368,4,0)","v":39},-71.312499999999886,0.73318007662835272,0.89915531804861226]
["22vrDD",{"$f":"VLOOKUP($AA459,DATA!$B$3:$E459,2,0)","v":"06:30:00"},{"$f":"VLOOKUP($AA459,DATA!$B$3:$E459,3,0)","v":"14:30:00"},{"$f":"VLOOKUP($AA459,DATA!$B$3:$E459,4,0)","v":3.125E-2},0.30208333333333331,0.26805555555555555,{"$f":"DATA!$C$9","v":0.89},{"$f":"DATA!$C$10","v":64},1,361.875,407.8125,3.4027777777777775E-2,45.937499999999993,0.11264367816091952,0,"","",277.33333333333331,239,239,"","",null,{"$f":"X457","v":22},{"$f":"Y456+1","v":"2018-06-01"},{"$f":"TEXT(Y459,\"ddd\")","v":"vr"},"DD",{"$f":"IFERROR(HLOOKUP(Y459,[1]DATA!$A$1:$NB$5,3,0),\"\")","v":"D1"},49,null,21,260,{"$f":"VLOOKUP(Y459,[1]SRM!$S$4:$Z$368,2,0)","v":10},-122.875,0.5860536398467433,0.96519721577726214]
["22vrMD",{"$f":"VLOOKUP($AA460,DATA!$B$3:$E460,2,0)","v":"14:30:00"},{"$f":"VLOOKUP($AA460,DATA!$B$3:$E460,3,0)","v":"22:30:00"},{"$f":"VLOOKUP($AA460,DATA!$B$3:$E460,4,0)","v":3.125E-2},0.30208333333333337,0.30208333333333337,{"$f":"DATA!$C$9","v":0.89},{"$f":"DATA!$C$10","v":64},1,407.81250000000006,407.81250000000006,0,"","",0,"","",347.73333333333335,326,"","",326,null,{"$f":"X457","v":22},null,{"$f":"TEXT(Y459,\"ddd\")","v":"vr"},"MD",{"$f":"IFERROR(HLOOKUP(Y459,[1]DATA!$A$1:$NB$5,4,0),\"\")","v":"D3"},null,null,null,326,{"$f":"VLOOKUP(Y459,[1]SRM!$S$4:$Z$368,3,0)","v":40},-81.812500000000057,0.79938697318007657,0.89683631361760663]
["22vrND",{"$f":"VLOOKUP($AA461,DATA!$B$3:$E461,2,0)","v":"22:30:00"},{"$f":"VLOOKUP($AA461,DATA!$B$3:$E461,3,0)","v":"06:30:00"},{"$f":"VLOOKUP($AA461,DATA!$B$3:$E461,4,0)","v":3.125E-2},0.30208333333333326,0.27361111111111103,{"$f":"DATA!$C$9","v":0.89},{"$f":"DATA!$C$10","v":64},1,369.37499999999989,407.81249999999989,2.8472222222222222E-2,38.4375,9.4252873563218417E-2,0,"","",356.26666666666665,315,"",315,"",null,{"$f":"X457","v":22},null,{"$f":"TEXT(Y459,\"ddd\")","v":"vr"},"ND",{"$f":"IFERROR(HLOOKUP(Y459,[1]DATA!$A$1:$NB$5,5,0),\"\")","v":"D2"},41,null,19,334,{"$f":"VLOOKUP(Y459,[1]SRM!$S$4:$Z$368,4,0)","v":6},-54.374999999999886,0.77241379310344849,0.98343761501656235]
["22zaDD",{"$f":"VLOOKUP($AA462,DATA!$B$3:$E462,2,0)","v":"06:30:00"},{"$f":"VLOOKUP($AA462,DATA!$B$3:$E462,3,0)","v":"14:30:00"},{"$f":"VLOOKUP($AA462,DATA!$B$3:$E462,4,0)","v":3.125E-2},0.30208333333333331,0.30208333333333331,{"$f":"DATA!$C$9","v":0.89},{"$f":"DATA!$C$10","v":64},1,407.8125,407.8125,0,"","",0,"","",0,"","","","",null,{"$f":"X457","v":22},{"$f":"Y459+1","v":"2018-06-02"},{"$f":"TEXT(Y462,\"ddd\")","v":"za"},"DD",{"$f":"IFERROR(HLOOKUP(Y462,[1]DATA!$A$1:$NB$5,3,0),\"\")","v":"D1"},null,null,null,null,{"$f":"VLOOKUP(Y462,[1]SRM!$S$4:$Z$368,2,0)","v":0},"","",""]
["22zaMD",{"$f":"VLOOKUP($AA463,DATA!$B$3:$E463,2,0)","v":"14:30:00"},{"$f":"VLOOKUP($AA463,DATA!$B$3:$E463,3,0)","v":"22:30:00"},{"$f":"VLOOKUP($AA463,DATA!$B$3:$E463,4,0)","v":3.125E-2},0.30208333333333337,0.30208333333333337,{"$f":"DATA!$C$9","v":0.89},{"$f":"DATA!$C$10","v":64},1,407.81250000000006,407.81250000000006,0,"","",0,"","",0,"","","","",null,{"$f":"X457","v":22},null,{"$f":"TEXT(Y462,\"ddd\")","v":"za"},"MD",{"$f":"IFERROR(HLOOKUP(Y462,[1]DATA!$A$1:$NB$5,4,0),\"\")","v":"-"},null,null,null,null,{"$f":"VLOOKUP(Y462,[1]SRM!$S$4:$Z$368,3,0)","v":0},"","",""]
["22zaND",{"$f":"VLOOKUP($AA464,DATA!$B$3:$E464,2,0)","v":"22:30:00"},{"$f":"VLOOKUP($AA464,DATA!$B$3:$E464,3,0)","v":"06:30:00"},{"$f":"VLOOKUP($AA464,DATA!$B$3:$E464,4,0)","v":3.125E-2},0.30208333333333326,0.30208333333333326,{"$f":"DATA!$C$9","v":0.89},{"$f":"DATA!$C$10","v":64},1,407.81249999999989,407.81249999999989,0,"","",0,"","",0,"","","","",null,{"$f":"X457","v":22},null,{"$f":"TEXT(Y462,\"ddd\")","v":"za"},"ND",{"$f":"IFERROR(HLOOKUP(Y462,[1]DATA!$A$1:$NB$5,5,0),\"\")","v":"-"},null,null,null,null,{"$f":"VLOOKUP(Y462,[1]SRM!$S$4:$Z$368,4,0)","v":0},"","",""]
["22zoDD",{"$f":"VLOOKUP($AA465,DATA!$B$3:$E465,2,0)","v":"06:30:00"},{"$f":"VLOOKUP($AA465,DATA!$B$3:$E465,3,0)","v":"14:30:00"},{"$f":"VLOOKUP($AA465,DATA!$B$3:$E465,4,0)","v":3.125E-2},0.30208333333333331,0.30208333333333331,{"$f":"DATA!$C$9","v":0.89},{"$f":"DATA!$C$10","v":64},1,407.8125,407.8125,0,"","",0,"","",0,"","","","",null,{"$f":"X457","v":22},{"$f":"Y462+1","v":"2018-06-03"},{"$f":"TEXT(Y465,\"ddd\")","v":"zo"},"DD",{"$f":"IFERROR(HLOOKUP(Y465,[1]DATA!$A$1:$NB$5,3,0),\"\")","v":"-"},null,null,null,null,{"$f":"VLOOKUP(Y465,[1]SRM!$S$4:$Z$368,2,0)","v":0},"","",""]
["22zoMD",{"$f":"VLOOKUP($AA466,DATA!$B$3:$E466,2,0)","v":"14:30:00"},{"$f":"VLOOKUP($AA466,DATA!$B$3:$E466,3,0)","v":"22:30:00"},{"$f":"VLOOKUP($AA466,DATA!$B$3:$E466,4,0)","v":3.125E-2},0.30208333333333337,0.30208333333333337,{"$f":"DATA!$C$9","v":0.89},{"$f":"DATA!$C$10","v":64},1,407.81250000000006,407.81250000000006,0,"","",0,"","",0,"","","","",null,{"$f":"X457","v":22},null,{"$f":"TEXT(Y465,\"ddd\")","v":"zo"},"MD",{"$f":"IFERROR(HLOOKUP(Y465,[1]DATA!$A$1:$NB$5,4,0),\"\")","v":"-"},null,null,null,null,{"$f":"VLOOKUP(Y465,[1]SRM!$S$4:$Z$368,3,0)","v":0},"","",""]
["22zoZND",{"$f":"VLOOKUP($AA467,DATA!$B$3:$E467,2,0)","v":"00:00:00"},{"$f":"VLOOKUP($AA467,DATA!$B$3:$E467,3,0)","v":"00:00:00"},{"$f":"VLOOKUP($AA467,DATA!$B$3:$E467,4,0)","v":0},0,0,{"$f":"DATA!$C$9","v":0.89},{"$f":"DATA!$C$10","v":64},1,0,0,0,"","",0,"","",0,"","","","",null,{"$f":"X457","v":22},null,{"$f":"TEXT(Y465,\"ddd\")","v":"zo"},"ZND",{"$f":"IFERROR(HLOOKUP(Y465,[1]DATA!$A$1:$NB$5,5,0),\"\")","v":"-"},null,null,null,null,{"$f":"VLOOKUP(Y465,[1]SRM!$S$4:$Z$368,4,0)","v":0},"","",""]
["23maDD",{"$f":"VLOOKUP($AA468,DATA!$B$3:$E468,2,0)","v":"06:30:00"},{"$f":"VLOOKUP($AA468,DATA!$B$3:$E468,3,0)","v":"14:30:00"},{"$f":"VLOOKUP($AA468,DATA!$B$3:$E468,4,0)","v":3.125E-2},0.30208333333333331,0.29097222222222219,{"$f":"DATA!$C$9","v":0.89},{"$f":"DATA!$C$10","v":64},1,392.81249999999994,407.8125,1.1111111111111112E-2,15,3.6781609195402298E-2,{"$f":"TIME(INT($AD468/60),INT(MOD($AD468,60)/1),0)","v":0},"","",258.13333333333333,226,"","",226,null,{"$f":"X478","v":23},{"$f":"Y465+1","v":"2018-06-04"},{"$f":"TEXT(Y468,\"ddd\")","v":"ma"},"DD",{"$f":"IFERROR(HLOOKUP(Y468,[1]DATA!$A$1:$NB$5,3,0),\"\")","v":"D3"},16,null,16,242,{"$f":"VLOOKUP(Y468,[1]SRM!$S$4:$Z$368,2,0)","v":53},-166.81249999999994,0.55417624521072795,0.82965502464109708,{"$f":"IF(SUMIF(S468:S488,\">0\",K468:K488)=0,\"\",SUMIF(S468:S488,\">0\",K468:K488))","v":5709.375},{"$f":"IF(SUM(S468:S488)=0,\"\",SUM(S468:S488))","v":3961},{"$f":"IFERROR(AL468/AK468,\"-\")","v":0.69377120963327865},{"$f":"IF(SUM(M468:M488)=0,\"0\",SUM(M468:M488))","v":535.3125},{"$f":"IFERROR(AN468/AK468,\"-\")","v":9.3760262725779961E-2},{"$f":"IF(SUM(P468:P488)=0,0,SUM(P468:P488))","v":0},{"$f":"IFERROR(AP468/AK468,\"-\")","v":0},{"$f":"IFERROR(AVERAGE(AJ468:AJ488),\"-\")","v":0.8170923219478049},{"$f":"IFERROR(SUMIF($AB468:$AB488,AS$5,$AJ468:$AJ488)/COUNTIFS($AB468:$AB488,AS$5,$AJ468:$AJ488,\">0\"),\"\")","v":0.75633741194620197},0.92702684751207132,0.89719328366152884,{"$f":"IFERROR((AK468-AL468-AN468-AP468),\"-\")","v":1213.0625},{"$f":"IFERROR((1-AM468-AO468-AQ468), \"-\")","v":0.21246852764094137},{"$f":"IFERROR((AV468*$AE$2)/60,\"-\")","v":1293.9333333333334},{"$f":"IFERROR(SUM(AG468:AG488),\"\")","v":555}]
["23maMD",{"$f":"VLOOKUP($AA469,DATA!$B$3:$E469,2,0)","v":"14:30:00"},{"$f":"VLOOKUP($AA469,DATA!$B$3:$E469,3,0)","v":"22:30:00"},{"$f":"VLOOKUP($AA469,DATA!$B$3:$E469,4,0)","v":3.125E-2},0.30208333333333337,0.26388888888888895,{"$f":"DATA!$C$9","v":0.89},{"$f":"DATA!$C$10","v":64},1,356.25000000000006,407.81250000000006,3.8194444444444441E-2,51.562499999999993,0.12643678160919536,{"$f":"TIME(INT(AD469/60),INT(MOD(AD469,60)/1),0)","v":0},"","",284.8,231,"",231,"",null,{"$f":"X478","v":23},null,{"$f":"TEXT(Y468,\"ddd\")","v":"ma"},"MD",{"$f":"IFERROR(HLOOKUP(Y468,[1]DATA!$A$1:$NB$5,4,0),\"\")","v":"D2"},55,null,36,267,{"$f":"VLOOKUP(Y468,[1]SRM!$S$4:$Z$368,3,0)","v":38},-125.25000000000006,0.56643678160919531,0.88228004956629491]
["23maND",{"$f":"VLOOKUP($AA470,DATA!$B$3:$E470,2,0)","v":"22:30:00"},{"$f":"VLOOKUP($AA470,DATA!$B$3:$E470,3,0)","v":"06:30:00"},{"$f":"VLOOKUP($AA470,DATA!$B$3:$E470,4,0)","v":3.125E-2},0.30208333333333326,0.30208333333333326,{"$f":"DATA!$C$9","v":0.89},{"$f":"DATA!$C$10","v":64},1,407.81249999999989,407.81249999999989,0,"","",0,"","",332.8,312,312,"","",null,{"$f":"X478","v":23},null,{"$f":"TEXT(Y468,\"ddd\")","v":"ma"},"ND",{"$f":"IFERROR(HLOOKUP(Y468,[1]DATA!$A$1:$NB$5,5,0),\"\")","v":"D1"},0,null,0,312,{"$f":"VLOOKUP(Y468,[1]SRM!$S$4:$Z$368,4,0)","v":33},-95.812499999999886,0.76505747126436807,0.90978676872607978]
["23diDD",{"$f":"VLOOKUP($AA471,DATA!$B$3:$E471,2,0)","v":"06:30:00"},{"$f":"VLOOKUP($AA471,DATA!$B$3:$E471,3,0)","v":"14:30:00"},{"$f":"VLOOKUP($AA471,DATA!$B$3:$E471,4,0)","v":3.125E-2},0.30208333333333331,0.27291666666666664,{"$f":"DATA!$C$9","v":0.89},{"$f":"DATA!$C$10","v":64},1,368.43749999999994,407.8125,2.9166666666666664E-2,39.374999999999993,9.6551724137931019E-2,0,"","",340.26666666666665,305,"","",305,null,{"$f":"X478","v":23},{"$f":"Y468+1","v":"2018-06-05"},{"$f":"TEXT(Y471,\"ddd\")","v":"di"},"DD",{"$f":"IFERROR(HLOOKUP(Y471,[1]DATA!$A$1:$NB$5,3,0),\"\")","v":"D3"},42,null,14,319,{"$f":"VLOOKUP(Y471,[1]SRM!$S$4:$Z$368,2,0)","v":45},-63.437499999999943,0.74789272030651344,0.88319778508392455]
["23diMD",{"$f":"VLOOKUP($AA472,DATA!$B$3:$E472,2,0)","v":"14:30:00"},{"$f":"VLOOKUP($AA472,DATA!$B$3:$E472,3,0)","v":"22:30:00"},{"$f":"VLOOKUP($AA472,DATA!$B$3:$E472,4,0)","v":3.125E-2},0.30208333333333337,0.26319444444444451,{"$f":"DATA!$C$9","v":0.89},{"$f":"DATA!$C$10","v":64},1,355.31250000000011,407.81250000000006,3.888888888888889E-2,52.5,0.12873563218390802,0,"","",314.66666666666669,256,"",256,"",null,{"$f":"X478","v":23},null,{"$f":"TEXT(Y471,\"ddd\")","v":"di"},"MD",{"$f":"IFERROR(HLOOKUP(Y471,[1]DATA!$A$1:$NB$5,4,0),\"\")","v":"D2"},56,null,39,295,{"$f":"VLOOKUP(Y471,[1]SRM!$S$4:$Z$368,3,0)","v":3},-99.312500000000114,0.62773946360153243,0.99055613850996849]
["23diND",{"$f":"VLOOKUP($AA473,DATA!$B$3:$E473,2,0)","v":"22:30:00"},{"$f":"VLOOKUP($AA473,DATA!$B$3:$E473,3,0)","v":"06:30:00"},{"$f":"VLOOKUP($AA473,DATA!$B$3:$E473,4,0)","v":3.125E-2},0.30208333333333326,0.26874999999999993,{"$f":"DATA!$C$9","v":0.89},{"$f":"DATA!$C$10","v":64},1,362.81249999999989,407.81249999999989,3.3333333333333333E-2,45,0.11034482758620692,0,"","",392.5333333333333,345,345,"","",null,{"$f":"X478","v":23},null,{"$f":"TEXT(Y471,\"ddd\")","v":"di"},"ND",{"$f":"IFERROR(HLOOKUP(Y471,[1]DATA!$A$1:$NB$5,5,0),\"\")","v":"D1"},48,null,23,368,{"$f":"VLOOKUP(Y471,[1]SRM!$S$4:$Z$368,4,0)","v":28},-17.812499999999886,0.84597701149425308,0.93341788205453391]
["23woDD",{"$f":"VLOOKUP($AA474,DATA!$B$3:$E474,2,0)","v":"06:30:00"},{"$f":"VLOOKUP($AA474,DATA!$B$3:$E474,3,0)","v":"14:30:00"},{"$f":"VLOOKUP($AA474,DATA!$B$3:$E474,4,0)","v":3.125E-2},0.30208333333333331,0.27430555555555552,{"$f":"DATA!$C$9","v":0.89},{"$f":"DATA!$C$10","v":64},1,370.31249999999994,407.8125,2.7777777777777776E-2,37.5,9.1954022988505746E-2,0,"","",329.6,301,"","",301,null,{"$f":"X478","v":23},{"$f":"Y471+1","v":"2018-06-06"},{"$f":"TEXT(Y474,\"ddd\")","v":"wo"},"DD",{"$f":"IFERROR(HLOOKUP(Y474,[1]DATA!$A$1:$NB$5,3,0),\"\")","v":"D3"},40,null,8,309,{"$f":"VLOOKUP(Y474,[1]SRM!$S$4:$Z$368,2,0)","v":37},-69.312499999999943,0.73808429118773944,0.89907255864702673]
["23woMD",{"$f":"VLOOKUP($AA475,DATA!$B$3:$E475,2,0)","v":"14:30:00"},{"$f":"VLOOKUP($AA475,DATA!$B$3:$E475,3,0)","v":"22:30:00"},{"$f":"VLOOKUP($AA475,DATA!$B$3:$E475,4,0)","v":3.125E-2},0.30208333333333337,0.27500000000000002,{"$f":"DATA!$C$9","v":0.89},{"$f":"DATA!$C$10","v":64},1,371.25000000000006,407.81250000000006,2.7083333333333334E-2,36.5625,8.9655172413793088E-2,0,"","",304,270,"",270,"",null,{"$f":"X478","v":23},null,{"$f":"TEXT(Y474,\"ddd\")","v":"wo"},"MD",{"$f":"IFERROR(HLOOKUP(Y474,[1]DATA!$A$1:$NB$5,4,0),\"\")","v":"D2"},39,null,15,285,{"$f":"VLOOKUP(Y474,[1]SRM!$S$4:$Z$368,3,0)","v":11},-101.25000000000006,0.66206896551724126,{"$f":"IFERROR(R475/(R475+AG475),\"\")","v":0.96507936507936509}]
["23woND",{"$f":"VLOOKUP($AA476,DATA!$B$3:$E476,2,0)","v":"22:30:00"},{"$f":"VLOOKUP($AA476,DATA!$B$3:$E476,3,0)","v":"06:30:00"},{"$f":"VLOOKUP($AA476,DATA!$B$3:$E476,4,0)","v":3.125E-2},{"$f":"(C476-B476+(B476>C476))-D476","v":0.30208333333333326},{"$f":"E476-O476-L476","v":0.28611111111111104},{"$f":"DATA!$C$9","v":0.89},{"$f":"DATA!$C$10","v":64},1,386.24999999999989,407.81249999999989,1.5972222222222224E-2,21.562500000000004,5.2873563218390825E-2,0,"","",20.266666666666666,-15,-15,"","",null,{"$f":"X478","v":23},null,{"$f":"TEXT(Y474,\"ddd\")","v":"wo"},"ND",{"$f":"IFERROR(HLOOKUP(Y474,[1]DATA!$A$1:$NB$5,5,0),\"\")","v":"D1"},23,null,34,19,{"$f":"VLOOKUP(Y474,[1]SRM!$S$4:$Z$368,4,0)","v":91},-401.24999999999989,"",0.18214499700419412]
["23doDD",{"$f":"VLOOKUP($AA477,DATA!$B$3:$E477,2,0)","v":"06:30:00"},{"$f":"VLOOKUP($AA477,DATA!$B$3:$E477,3,0)","v":"14:30:00"},{"$f":"VLOOKUP($AA477,DATA!$B$3:$E477,4,0)","v":3.125E-2},0.30208333333333331,0.29583333333333334,{"$f":"DATA!$C$9","v":0.89},{"$f":"DATA!$C$10","v":64},1,399.375,407.8125,6.2499999999999995E-3,8.4375,2.0689655172413793E-2,0,"","",356.26666666666665,316,"","",316,null,{"$f":"X478","v":23},{"$f":"Y474+1","v":"2018-06-07"},{"$f":"TEXT(Y477,\"ddd\")","v":"do"},"DD",{"$f":"IFERROR(HLOOKUP(Y477,[1]DATA!$A$1:$NB$5,3,0),\"\")","v":"D3"},9,null,18,334,{"$f":"VLOOKUP(Y477,[1]SRM!$S$4:$Z$368,2,0)","v":43},-83.375,0.77486590038314174,0.89230255468358655]
["23doMD",{"$f":"VLOOKUP($AA478,DATA!$B$3:$E478,2,0)","v":"14:30:00"},{"$f":"VLOOKUP($AA478,DATA!$B$3:$E478,3,0)","v":"22:30:00"},{"$f":"VLOOKUP($AA478,DATA!$B$3:$E478,4,0)","v":3.125E-2},0.30208333333333337,0.27222222222222225,{"$f":"DATA!$C$9","v":0.89},{"$f":"DATA!$C$10","v":64},1,367.50000000000006,407.81250000000006,2.9861111111111113E-2,40.3125,9.8850574712643663E-2,0,"","",331.73333333333335,277,"",277,"",null,{"$f":"WEEKNUM($Y468)","v":23},null,{"$f":"TEXT(Y477,\"ddd\")","v":"do"},"MD",{"$f":"IFERROR(HLOOKUP(Y477,[1]DATA!$A$1:$NB$5,4,0),\"\")","v":"D2"},43,null,34,311,{"$f":"VLOOKUP(Y477,[1]SRM!$S$4:$Z$368,3,0)","v":47},-90.500000000000057,0.67923371647509567,0.87590212990670657]
["23doND",{"$f":"VLOOKUP($AA479,DATA!$B$3:$E479,2,0)","v":"22:30:00"},{"$f":"VLOOKUP($AA479,DATA!$B$3:$E479,3,0)","v":"06:30:00"},{"$f":"VLOOKUP($AA479,DATA!$B$3:$E479,4,0)","v":3.125E-2},0.30208333333333326,0.25069444444444439,{"$f":"DATA!$C$9","v":0.89},{"$f":"DATA!$C$10","v":64},1,338.43749999999994,407.81249999999989,5.1388888888888894E-2,69.375,0.17011494252873569,0,"","",321.06666666666666,285,285,"","",null,{"$f":"X478","v":23},null,{"$f":"TEXT(Y477,\"ddd\")","v":"do"},"ND",{"$f":"IFERROR(HLOOKUP(Y477,[1]DATA!$A$1:$NB$5,5,0),\"\")","v":"D1"},74,null,16,301,{"$f":"VLOOKUP(Y477,[1]SRM!$S$4:$Z$368,4,0)","v":0},-53.437499999999943,0.69885057471264389,1]
["23vrDD",{"$f":"VLOOKUP($AA480,DATA!$B$3:$E480,2,0)","v":"06:30:00"},{"$f":"VLOOKUP($AA480,DATA!$B$3:$E480,3,0)","v":"14:30:00"},{"$f":"VLOOKUP($AA480,DATA!$B$3:$E480,4,0)","v":3.125E-2},0.30208333333333331,0.24305555555555552,{"$f":"DATA!$C$9","v":0.89},{"$f":"DATA!$C$10","v":64},1,328.12499999999994,407.8125,5.9027777777777783E-2,79.687500000000014,0.19540229885057475,0,"","",268.8,246,"","",246,null,{"$f":"X478","v":23},{"$f":"Y477+1","v":"2018-06-08"},{"$f":"TEXT(Y480,\"ddd\")","v":"vr"},"DD",{"$f":"IFERROR(HLOOKUP(Y480,[1]DATA!$A$1:$NB$5,3,0),\"\")","v":"D3"},85,null,6,252,{"$f":"VLOOKUP(Y480,[1]SRM!$S$4:$Z$368,2,0)","v":5},-82.124999999999943,0.60321839080459771,0.98173849525200874]
["23vrMD",{"$f":"VLOOKUP($AA481,DATA!$B$3:$E481,2,0)","v":"14:30:00"},{"$f":"VLOOKUP($AA481,DATA!$B$3:$E481,3,0)","v":"22:30:00"},{"$f":"VLOOKUP($AA481,DATA!$B$3:$E481,4,0)","v":3.125E-2},0.30208333333333337,0.29444444444444451,{"$f":"DATA!$C$9","v":0.89},{"$f":"DATA!$C$10","v":64},1,397.50000000000011,407.81250000000006,7.6388888888888886E-3,10.3125,2.5287356321839077E-2,0,"","",390.4,322,"",322,"",null,{"$f":"X478","v":23},null,{"$f":"TEXT(Y480,\"ddd\")","v":"vr"},"MD",{"$f":"IFERROR(HLOOKUP(Y480,[1]DATA!$A$1:$NB$5,4,0),\"\")","v":"D2"},11,null,44,366,{"$f":"VLOOKUP(Y480,[1]SRM!$S$4:$Z$368,3,0)","v":46},-75.500000000000114,0.78957854406130257,0.89459211732355637]
["23vrND",{"$f":"VLOOKUP($AA482,DATA!$B$3:$E482,2,0)","v":"22:30:00"},{"$f":"VLOOKUP($AA482,DATA!$B$3:$E482,3,0)","v":"06:30:00"},{"$f":"VLOOKUP($AA482,DATA!$B$3:$E482,4,0)","v":3.125E-2},0.30208333333333326,0.28124999999999994,{"$f":"DATA!$C$9","v":0.89},{"$f":"DATA!$C$10","v":64},1,379.68749999999994,407.81249999999989,2.0833333333333332E-2,28.125,6.8965517241379323E-2,0,"","",309.33333333333331,284,"",284,"",null,{"$f":"X478","v":23},null,{"$f":"TEXT(Y480,\"ddd\")","v":"vr"},"ND",{"$f":"IFERROR(HLOOKUP(Y480,[1]DATA!$A$1:$NB$5,5,0),\"\")","v":"D2"},30,null,6,290,{"$f":"VLOOKUP(Y480,[1]SRM!$S$4:$Z$368,4,0)","v":15},-95.687499999999943,0.69639846743295042,0.95375128468653647]
["23zaDD",{"$f":"VLOOKUP($AA483,DATA!$B$3:$E483,2,0)","v":"06:30:00"},{"$f":"VLOOKUP($AA483,DATA!$B$3:$E483,3,0)","v":"14:30:00"},{"$f":"VLOOKUP($AA483,DATA!$B$3:$E483,4,0)","v":3.125E-2},0.30208333333333331,0.30208333333333331,{"$f":"DATA!$C$9","v":0.89},{"$f":"DATA!$C$10","v":64},1,407.8125,407.8125,0,"","",0,"","",0,"","","","",null,{"$f":"X478","v":23},{"$f":"Y480+1","v":"2018-06-09"},{"$f":"TEXT(Y483,\"ddd\")","v":"za"},"DD",{"$f":"IFERROR(HLOOKUP(Y483,[1]DATA!$A$1:$NB$5,3,0),\"\")","v":"D3"},null,null,null,null,{"$f":"VLOOKUP(Y483,[1]SRM!$S$4:$Z$368,2,0)","v":0},"","",""]
["23zaMD",{"$f":"VLOOKUP($AA484,DATA!$B$3:$E484,2,0)","v":"14:30:00"},{"$f":"VLOOKUP($AA484,DATA!$B$3:$E484,3,0)","v":"22:30:00"},{"$f":"VLOOKUP($AA484,DATA!$B$3:$E484,4,0)","v":3.125E-2},0.30208333333333337,0.30208333333333337,{"$f":"DATA!$C$9","v":0.89},{"$f":"DATA!$C$10","v":64},1,407.81250000000006,407.81250000000006,0,"","",0,"","",0,"","","","",null,{"$f":"X478","v":23},null,{"$f":"TEXT(Y483,\"ddd\")","v":"za"},"MD",{"$f":"IFERROR(HLOOKUP(Y483,[1]DATA!$A$1:$NB$5,4,0),\"\")","v":"-"},null,null,null,null,{"$f":"VLOOKUP(Y483,[1]SRM!$S$4:$Z$368,3,0)","v":0},"","",""]
["23zaND",{"$f":"VLOOKUP($AA485,DATA!$B$3:$E485,2,0)","v":"22:30:00"},{"$f":"VLOOKUP($AA485,DATA!$B$3:$E485,3,0)","v":"06:30:00"},{"$f":"VLOOKUP($AA485,DATA!$B$3:$E485,4,0)","v":3.125E-2},0.30208333333333326,0.30208333333333326,{"$f":"DATA!$C$9","v":0.89},{"$f":"DATA!$C$10","v":64},1,407.81249999999989,407.81249999999989,0,"","",0,"","",0,"","","","",null,{"$f":"X478","v":23},null,{"$f":"TEXT(Y483,\"ddd\")","v":"za"},"ND",{"$f":"IFERROR(HLOOKUP(Y483,[1]DATA!$A$1:$NB$5,5,0),\"\")","v":"-"},null,null,null,null,{"$f":"VLOOKUP(Y483,[1]SRM!$S$4:$Z$368,4,0)","v":0},"","",""]
["23zoDD",{"$f":"VLOOKUP($AA486,DATA!$B$3:$E486,2,0)","v":"06:30:00"},{"$f":"VLOOKUP($AA486,DATA!$B$3:$E486,3,0)","v":"14:30:00"},{"$f":"VLOOKUP($AA486,DATA!$B$3:$E486,4,0)","v":3.125E-2},0.30208333333333331,0.30208333333333331,{"$f":"DATA!$C$9","v":0.89},{"$f":"DATA!$C$10","v":64},1,407.8125,407.8125,0,"","",0,"","",0,"","","","",null,{"$f":"X478","v":23},{"$f":"Y483+1","v":"2018-06-10"},{"$f":"TEXT(Y486,\"ddd\")","v":"zo"},"DD",{"$f":"IFERROR(HLOOKUP(Y486,[1]DATA!$A$1:$NB$5,3,0),\"\")","v":"-"},null,null,null,null,{"$f":"VLOOKUP(Y486,[1]SRM!$S$4:$Z$368,2,0)","v":0},"","",""]
["23zoMD",{"$f":"VLOOKUP($AA487,DATA!$B$3:$E487,2,0)","v":"14:30:00"},{"$f":"VLOOKUP($AA487,DATA!$B$3:$E487,3,0)","v":"22:30:00"},{"$f":"VLOOKUP($AA487,DATA!$B$3:$E487,4,0)","v":3.125E-2},0.30208333333333337,0.30208333333333337,{"$f":"DATA!$C$9","v":0.89},{"$f":"DATA!$C$10","v":64},1,407.81250000000006,407.81250000000006,0,"","",0,"","",0,"","","","",null,{"$f":"X478","v":23},null,{"$f":"TEXT(Y486,\"ddd\")","v":"zo"},"MD",{"$f":"IFERROR(HLOOKUP(Y486,[1]DATA!$A$1:$NB$5,4,0),\"\")","v":"-"},null,null,null,null,{"$f":"VLOOKUP(Y486,[1]SRM!$S$4:$Z$368,3,0)","v":0},"","",""]
["23zoZND",{"$f":"VLOOKUP($AA488,DATA!$B$3:$E488,2,0)","v":"00:00:00"},{"$f":"VLOOKUP($AA488,DATA!$B$3:$E488,3,0)","v":"00:00:00"},{"$f":"VLOOKUP($AA488,DATA!$B$3:$E488,4,0)","v":0},0,0,{"$f":"DATA!$C$9","v":0.89},{"$f":"DATA!$C$10","v":64},1,0,0,0,"","",0,"","",0,"","","","",null,{"$f":"X478","v":23},null,{"$f":"TEXT(Y486,\"ddd\")","v":"zo"},"ZND",{"$f":"IFERROR(HLOOKUP(Y486,[1]DATA!$A$1:$NB$5,5,0),\"\")","v":"-"},null,null,null,null,{"$f":"VLOOKUP(Y486,[1]SRM!$S$4:$Z$368,4,0)","v":60},"","",0]
["24maDD",{"$f":"VLOOKUP($AA489,DATA!$B$3:$E489,2,0)","v":"06:30:00"},{"$f":"VLOOKUP($AA489,DATA!$B$3:$E489,3,0)","v":"14:30:00"},{"$f":"VLOOKUP($AA489,DATA!$B$3:$E489,4,0)","v":3.125E-2},0.30208333333333331,0.30208333333333331,{"$f":"DATA!$C$9","v":0.89},{"$f":"DATA!$C$10","v":64},1,407.8125,407.8125,0,"","",{"$f":"TIME(INT($AD489/60),INT(MOD($AD489,60)/1),0)","v":0},"","",309.33333333333331,266,"",266,"",null,{"$f":"X499","v":24},{"$f":"Y486+1","v":"2018-06-11"},{"$f":"TEXT(Y489,\"ddd\")","v":"ma"},"DD",{"$f":"IFERROR(HLOOKUP(Y489,[1]DATA!$A$1:$NB$5,3,0),\"\")","v":"D2"},0,null,24,290,{"$f":"VLOOKUP(Y489,[1]SRM!$S$4:$Z$368,2,0)","v":73},-141.8125,0.65226053639846748,0.80906713164777677,{"$f":"IF(SUMIF(S489:S509,\">0\",K489:K509)=0,\"\",SUMIF(S489:S509,\">0\",K489:K509))","v":6117.1875},{"$f":"IF(SUM(S489:S509)=0,\"\",SUM(S489:S509))","v":4137},{"$f":"IFERROR(AL489/AK489,\"-\")","v":0.67629118773946362},{"$f":"IF(SUM(M489:M509)=0,\"0\",SUM(M489:M509))","v":662.8125},{"$f":"IFERROR(AN489/AK489,\"-\")","v":0.10835249042145594},{"$f":"IF(SUM(P489:P509)=0,0,SUM(P489:P509))","v":0},{"$f":"IFERROR(AP489/AK489,\"-\")","v":0},{"$f":"IFERROR(AVERAGE(AJ489:AJ509),\"-\")","v":0.92255288384626033},{"$f":"IFERROR(SUMIF($AB489:$AB509,AS$5,$AJ489:$AJ509)/COUNTIFS($AB489:$AB509,AS$5,$AJ489:$AJ509,\">0\"),\"\")","v":0.9691828327911759},0.89657750431804106,0.90189831442956425,{"$f":"IFERROR((AK489-AL489-AN489-AP489),\"-\")","v":1317.375},{"$f":"IFERROR((1-AM489-AO489-AQ489), \"-\")","v":0.21535632183908043},{"$f":"IFERROR((AV489*$AE$2)/60,\"-\")","v":1405.2},{"$f":"IFERROR(SUM(AG489:AG509),\"\")","v":429}]
["24maMD",{"$f":"VLOOKUP($AA490,DATA!$B$3:$E490,2,0)","v":"14:30:00"},{"$f":"VLOOKUP($AA490,DATA!$B$3:$E490,3,0)","v":"22:30:00"},{"$f":"VLOOKUP($AA490,DATA!$B$3:$E490,4,0)","v":3.125E-2},0.30208333333333337,0.29444444444444451,{"$f":"DATA!$C$9","v":0.89},{"$f":"DATA!$C$10","v":64},1,397.50000000000011,407.81250000000006,7.6388888888888886E-3,10.3125,2.5287356321839077E-2,{"$f":"TIME(INT(AD490/60),INT(MOD(AD490,60)/1),0)","v":0},"","",387.2,327,327,"","",null,{"$f":"X499","v":24},null,{"$f":"TEXT(Y489,\"ddd\")","v":"ma"},"MD",{"$f":"IFERROR(HLOOKUP(Y489,[1]DATA!$A$1:$NB$5,4,0),\"\")","v":"D1"},11,null,36,363,{"$f":"VLOOKUP(Y489,[1]SRM!$S$4:$Z$368,3,0)","v":17},-70.500000000000114,0.80183908045977004,0.9579416130628402]
["24maND",{"$f":"VLOOKUP($AA491,DATA!$B$3:$E491,2,0)","v":"22:30:00"},{"$f":"VLOOKUP($AA491,DATA!$B$3:$E491,3,0)","v":"06:30:00"},{"$f":"VLOOKUP($AA491,DATA!$B$3:$E491,4,0)","v":3.125E-2},0.30208333333333326,0.25347222222222215,{"$f":"DATA!$C$9","v":0.89},{"$f":"DATA!$C$10","v":64},1,342.18749999999989,407.81249999999989,4.8611111111111112E-2,65.625,0.16091954022988511,0,"","",372.26666666666665,327,"","",327,null,{"$f":"X499","v":24},null,{"$f":"TEXT(Y489,\"ddd\")","v":"ma"},"ND",{"$f":"IFERROR(HLOOKUP(Y489,[1]DATA!$A$1:$NB$5,5,0),\"\")","v":"D3"},70,null,22,349,{"$f":"VLOOKUP(Y489,[1]SRM!$S$4:$Z$368,4,0)","v":49},-15.187499999999886,0.80183908045977037,0.88368412723532208]
["24diDD",{"$f":"VLOOKUP($AA492,DATA!$B$3:$E492,2,0)","v":"06:30:00"},{"$f":"VLOOKUP($AA492,DATA!$B$3:$E492,3,0)","v":"14:30:00"},{"$f":"VLOOKUP($AA492,DATA!$B$3:$E492,4,0)","v":3.125E-2},0.30208333333333331,0.24861111111111109,{"$f":"DATA!$C$9","v":0.89},{"$f":"DATA!$C$10","v":64},1,335.62499999999994,407.8125,5.347222222222222E-2,72.1875,0.17701149425287357,0,"","",342.4,291,"",291,"",null,{"$f":"X499","v":24},{"$f":"Y489+1","v":"2018-06-12"},{"$f":"TEXT(Y492,\"ddd\")","v":"di"},"DD",{"$f":"IFERROR(HLOOKUP(Y492,[1]DATA!$A$1:$NB$5,3,0),\"\")","v":"D2"},77,null,30,321,{"$f":"VLOOKUP(Y492,[1]SRM!$S$4:$Z$368,2,0)","v":34},-44.624999999999943,0.71356321839080461,0.90967056323060569]
["24diMD",{"$f":"VLOOKUP($AA493,DATA!$B$3:$E493,2,0)","v":"14:30:00"},{"$f":"VLOOKUP($AA493,DATA!$B$3:$E493,3,0)","v":"22:30:00"},{"$f":"VLOOKUP($AA493,DATA!$B$3:$E493,4,0)","v":3.125E-2},0.30208333333333337,0.26180555555555557,{"$f":"DATA!$C$9","v":0.89},{"$f":"DATA!$C$10","v":64},1,353.4375,407.81250000000006,4.027777777777778E-2,54.375,0.1333333333333333,0,"","",253.86666666666667,219,219,"","",null,{"$f":"X499","v":24},null,{"$f":"TEXT(Y492,\"ddd\")","v":"di"},"MD",{"$f":"IFERROR(HLOOKUP(Y492,[1]DATA!$A$1:$NB$5,4,0),\"\")","v":"D1"},58,null,19,238,{"$f":"VLOOKUP(Y492,[1]SRM!$S$4:$Z$368,3,0)","v":10},-134.4375,0.53701149425287353,0.96210207175341078]
["24diND",{"$f":"VLOOKUP($AA494,DATA!$B$3:$E494,2,0)","v":"22:30:00"},{"$f":"VLOOKUP($AA494,DATA!$B$3:$E494,3,0)","v":"06:30:00"},{"$f":"VLOOKUP($AA494,DATA!$B$3:$E494,4,0)","v":3.125E-2},0.30208333333333326,0.25902777777777769,{"$f":"DATA!$C$9","v":0.89},{"$f":"DATA!$C$10","v":64},1,349.68749999999989,407.81249999999989,4.3055555555555562E-2,58.125000000000007,0.14252873563218396,0,"","",301.86666666666667,267,"","",267,null,{"$f":"X499","v":24},null,{"$f":"TEXT(Y492,\"ddd\")","v":"di"},"ND",{"$f":"IFERROR(HLOOKUP(Y492,[1]DATA!$A$1:$NB$5,5,0),\"\")","v":"D3"},62,null,16,283,{"$f":"VLOOKUP(Y492,[1]SRM!$S$4:$Z$368,4,0)","v":28},-82.687499999999886,0.65471264367816107,0.91511721907841548]
["24woDD",{"$f":"VLOOKUP($AA495,DATA!$B$3:$E495,2,0)","v":"06:30:00"},{"$f":"VLOOKUP($AA495,DATA!$B$3:$E495,3,0)","v":"14:30:00"},{"$f":"VLOOKUP($AA495,DATA!$B$3:$E495,4,0)","v":3.125E-2},0.30208333333333331,0.28263888888888888,{"$f":"DATA!$C$9","v":0.89},{"$f":"DATA!$C$10","v":64},1,381.5625,407.8125,1.9444444444444445E-2,26.25,6.4367816091954022E-2,0,"","",410.66666666666669,347,"",347,"",null,{"$f":"X499","v":24},{"$f":"Y492+1","v":"2018-06-13"},{"$f":"TEXT(Y495,\"ddd\")","v":"wo"},"DD",{"$f":"IFERROR(HLOOKUP(Y495,[1]DATA!$A$1:$NB$5,3,0),\"\")","v":"D2"},28,null,38,385,{"$f":"VLOOKUP(Y495,[1]SRM!$S$4:$Z$368,2,0)","v":69},-34.5625,0.85088122605363981,0.85615010423905491]
[{"$f":"X496&Z496&AA496","v":"24woMD"},{"$f":"VLOOKUP($AA496,DATA!$B$3:$E496,2,0)","v":"14:30:00"},{"$f":"VLOOKUP($AA496,DATA!$B$3:$E496,3,0)","v":"22:30:00"},{"$f":"VLOOKUP($AA496,DATA!$B$3:$E496,4,0)","v":3.125E-2},0.30208333333333337,0.25694444444444448,{"$f":"DATA!$C$9","v":0.89},{"$f":"DATA!$C$10","v":64},1,346.87500000000006,407.81250000000006,4.5138888888888888E-2,60.9375,0.14942528735632182,0,{"$f":"IF($O496*86400/$H496=0,\"\",$O496*86400/$H496)","v":""},"",358.4,321,321,"","",null,{"$f":"X499","v":24},null,{"$f":"TEXT(Y495,\"ddd\")","v":"wo"},"MD",{"$f":"IFERROR(HLOOKUP(Y495,[1]DATA!$A$1:$NB$5,4,0),\"\")","v":"D1"},65,null,15,336,{"$f":"VLOOKUP(Y495,[1]SRM!$S$4:$Z$368,3,0)","v":8},-25.875000000000057,0.7871264367816091,0.97816593886462877]
["24woND",{"$f":"VLOOKUP($AA497,DATA!$B$3:$E497,2,0)","v":"22:30:00"},{"$f":"VLOOKUP($AA497,DATA!$B$3:$E497,3,0)","v":"06:30:00"},{"$f":"VLOOKUP($AA497,DATA!$B$3:$E497,4,0)","v":3.125E-2},0.30208333333333326,0.27083333333333326,{"$f":"DATA!$C$9","v":0.89},{"$f":"DATA!$C$10","v":64},1,365.62499999999989,407.81249999999989,3.125E-2,42.1875,0.10344827586206899,0,"","",251.73333333333332,221,"","",221,null,{"$f":"X499","v":24},null,{"$f":"TEXT(Y495,\"ddd\")","v":"wo"},"ND",{"$f":"IFERROR(HLOOKUP(Y495,[1]DATA!$A$1:$NB$5,5,0),\"\")","v":"D3"},45,null,15,236,{"$f":"VLOOKUP(Y495,[1]SRM!$S$4:$Z$368,4,0)","v":78},-144.62499999999989,0.5419157088122607,0.76344520824909012]
["24doDD",{"$f":"VLOOKUP($AA498,DATA!$B$3:$E498,2,0)","v":"06:30:00"},{"$f":"VLOOKUP($AA498,DATA!$B$3:$E498,3,0)","v":"14:30:00"},{"$f":"VLOOKUP($AA498,DATA!$B$3:$E498,4,0)","v":3.125E-2},0.30208333333333331,0.26041666666666663,{"$f":"DATA!$C$9","v":0.89},{"$f":"DATA!$C$10","v":64},1,351.56249999999994,407.8125,4.1666666666666664E-2,56.25,0.13793103448275862,0,"","",325.33333333333331,274,"",274,"",null,{"$f":"X499","v":24},{"$f":"Y495+1","v":"2018-06-14"},{"$f":"TEXT(Y498,\"ddd\")","v":"do"},"DD",{"$f":"IFERROR(HLOOKUP(Y498,[1]DATA!$A$1:$NB$5,3,0),\"\")","v":"D2"},60,null,31,305,{"$f":"VLOOKUP(Y498,[1]SRM!$S$4:$Z$368,2,0)","v":6},-77.562499999999943,0.67187739463601537,0.98189134808853118]
["24doMD",{"$f":"VLOOKUP($AA499,DATA!$B$3:$E499,2,0)","v":"14:30:00"},{"$f":"VLOOKUP($AA499,DATA!$B$3:$E499,3,0)","v":"22:30:00"},{"$f":"VLOOKUP($AA499,DATA!$B$3:$E499,4,0)","v":3.125E-2},0.30208333333333337,0.25763888888888892,{"$f":"DATA!$C$9","v":0.89},{"$f":"DATA!$C$10","v":64},1,347.81250000000006,407.81250000000006,4.4444444444444446E-2,60,0.14712643678160917,0,"","",336,295,295,"","",null,{"$f":"WEEKNUM($Y489)","v":24},null,{"$f":"TEXT(Y498,\"ddd\")","v":"do"},"MD",{"$f":"IFERROR(HLOOKUP(Y498,[1]DATA!$A$1:$NB$5,4,0),\"\")","v":"D1"},64,null,20,315,{"$f":"VLOOKUP(Y498,[1]SRM!$S$4:$Z$368,3,0)","v":9},-52.812500000000057,0.7233716475095785,0.97391304347826091]
["24doND",{"$f":"VLOOKUP($AA500,DATA!$B$3:$E500,2,0)","v":"22:30:00"},{"$f":"VLOOKUP($AA500,DATA!$B$3:$E500,3,0)","v":"06:30:00"},{"$f":"VLOOKUP($AA500,DATA!$B$3:$E500,4,0)","v":3.125E-2},0.30208333333333326,0.26180555555555546,{"$f":"DATA!$C$9","v":0.89},{"$f":"DATA!$C$10","v":64},1,353.43749999999989,407.81249999999989,4.027777777777778E-2,54.375,0.13333333333333336,0,"","",323.2,275,"","",275,null,{"$f":"X499","v":24},null,{"$f":"TEXT(Y498,\"ddd\")","v":"do"},"ND",{"$f":"IFERROR(HLOOKUP(Y498,[1]DATA!$A$1:$NB$5,5,0),\"\")","v":"D3"},58,null,28,303,{"$f":"VLOOKUP(Y498,[1]SRM!$S$4:$Z$368,4,0)","v":18},-78.437499999999886,0.67432950191570895,0.94724501758499413]
["24vrDD",{"$f":"VLOOKUP($AA501,DATA!$B$3:$E501,2,0)","v":"06:30:00"},{"$f":"VLOOKUP($AA501,DATA!$B$3:$E501,3,0)","v":"14:30:00"},{"$f":"VLOOKUP($AA501,DATA!$B$3:$E501,4,0)","v":3.125E-2},0.30208333333333331,0.27777777777777773,{"$f":"DATA!$C$9","v":0.89},{"$f":"DATA!$C$10","v":64},1,374.99999999999994,407.8125,2.4305555555555556E-2,32.8125,8.0459770114942528E-2,0,"","",300.8,266,"",266,"",null,{"$f":"X499","v":24},"2018-06-15",{"$f":"TEXT(Y501,\"ddd\")","v":"vr"},"DD",{"$f":"IFERROR(HLOOKUP(Y501,[1]DATA!$A$1:$NB$5,3,0),\"\")","v":"D2"},35,null,16,282,{"$f":"VLOOKUP(Y501,[1]SRM!$S$4:$Z$368,2,0)","v":24},-108.99999999999994,0.65226053639846748,0.92610837438423643]
["24vrMD",{"$f":"VLOOKUP($AA502,DATA!$B$3:$E502,2,0)","v":"14:30:00"},{"$f":"VLOOKUP($AA502,DATA!$B$3:$E502,3,0)","v":"22:30:00"},{"$f":"VLOOKUP($AA502,DATA!$B$3:$E502,4,0)","v":3.125E-2},0.30208333333333337,0.27638888888888891,{"$f":"DATA!$C$9","v":0.89},{"$f":"DATA!$C$10","v":64},1,373.125,407.81250000000006,2.5694444444444447E-2,34.6875,8.5057471264367801E-2,0,"","",222.93333333333334,189,189,"","",null,{"$f":"X499","v":24},null,{"$f":"TEXT(Y501,\"ddd\")","v":"vr"},"MD",{"$f":"IFERROR(HLOOKUP(Y501,[1]DATA!$A$1:$NB$5,4,0),\"\")","v":"D1"},37,null,20,209,{"$f":"VLOOKUP(Y501,[1]SRM!$S$4:$Z$368,3,0)","v":6},-184.125,0.46344827586206888,0.97379149679673849]
["24vrND",{"$f":"VLOOKUP($AA503,DATA!$B$3:$E503,2,0)","v":"22:30:00"},{"$f":"VLOOKUP($AA503,DATA!$B$3:$E503,3,0)","v":"06:30:00"},{"$f":"VLOOKUP($AA503,DATA!$B$3:$E503,4,0)","v":3.125E-2},0.30208333333333326,0.2763888888888888,{"$f":"DATA!$C$9","v":0.89},{"$f":"DATA!$C$10","v":64},1,373.12499999999989,407.81249999999989,2.5694444444444447E-2,34.6875,8.5057471264367843E-2,0,"","",295.46666666666664,252,"","",252,null,{"$f":"X499","v":24},null,{"$f":"TEXT(Y501,\"ddd\")","v":"vr"},"ND",{"$f":"IFERROR(HLOOKUP(Y501,[1]DATA!$A$1:$NB$5,5,0),\"\")","v":"D3"},37,null,25,277,{"$f":"VLOOKUP(Y501,[1]SRM!$S$4:$Z$368,4,0)","v":0},-121.12499999999989,0.61793103448275877,1]
["24zaDD",{"$f":"VLOOKUP($AA504,DATA!$B$3:$E504,2,0)","v":"06:30:00"},{"$f":"VLOOKUP($AA504,DATA!$B$3:$E504,3,0)","v":"14:30:00"},{"$f":"VLOOKUP($AA504,DATA!$B$3:$E504,4,0)","v":3.125E-2},0.30208333333333331,0.30208333333333331,{"$f":"DATA!$C$9","v":0.89},{"$f":"DATA!$C$10","v":64},1,407.8125,407.8125,0,"","",0,"","",0,"","","","",null,{"$f":"X499","v":24},"2018-06-16",{"$f":"TEXT(Y504,\"ddd\")","v":"za"},"DD",{"$f":"IFERROR(HLOOKUP(Y504,[1]DATA!$A$1:$NB$5,3,0),\"\")","v":"D2"},null,null,null,null,{"$f":"VLOOKUP(Y504,[1]SRM!$S$4:$Z$368,2,0)","v":0},"","",""]
["24zaMD",{"$f":"VLOOKUP($AA505,DATA!$B$3:$E505,2,0)","v":"14:30:00"},{"$f":"VLOOKUP($AA505,DATA!$B$3:$E505,3,0)","v":"22:30:00"},{"$f":"VLOOKUP($AA505,DATA!$B$3:$E505,4,0)","v":3.125E-2},0.30208333333333337,0.30208333333333337,{"$f":"DATA!$C$9","v":0.89},{"$f":"DATA!$C$10","v":64},1,407.81250000000006,407.81250000000006,0,"","",0,"","",0,"","","","",null,{"$f":"X499","v":24},null,{"$f":"TEXT(Y504,\"ddd\")","v":"za"},"MD",{"$f":"IFERROR(HLOOKUP(Y504,[1]DATA!$A$1:$NB$5,4,0),\"\")","v":"-"},null,null,null,null,{"$f":"VLOOKUP(Y504,[1]SRM!$S$4:$Z$368,3,0)","v":0},"","",""]
["24zaND",{"$f":"VLOOKUP($AA506,DATA!$B$3:$E506,2,0)","v":"22:30:00"},{"$f":"VLOOKUP($AA506,DATA!$B$3:$E506,3,0)","v":"06:30:00"},{"$f":"VLOOKUP($AA506,DATA!$B$3:$E506,4,0)","v":3.125E-2},0.30208333333333326,0.30208333333333326,{"$f":"DATA!$C$9","v":0.89},{"$f":"DATA!$C$10","v":64},1,407.81249999999989,407.81249999999989,0,"","",0,"","",0,"","","","",null,{"$f":"X499","v":24},null,{"$f":"TEXT(Y504,\"ddd\")","v":"za"},"ND",{"$f":"IFERROR(HLOOKUP(Y504,[1]DATA!$A$1:$NB$5,5,0),\"\")","v":"-"},null,null,null,null,{"$f":"VLOOKUP(Y504,[1]SRM!$S$4:$Z$368,4,0)","v":0},"","",""]
["24zoDD",{"$f":"VLOOKUP($AA507,DATA!$B$3:$E507,2,0)","v":"06:30:00"},{"$f":"VLOOKUP($AA507,DATA!$B$3:$E507,3,0)","v":"14:30:00"},{"$f":"VLOOKUP($AA507,DATA!$B$3:$E507,4,0)","v":3.125E-2},0.30208333333333331,0.30208333333333331,{"$f":"DATA!$C$9","v":0.89},{"$f":"DATA!$C$10","v":64},1,407.8125,407.8125,0,"","",0,"","",0,"","","","",null,{"$f":"X499","v":24},"2018-06-17",{"$f":"TEXT(Y507,\"ddd\")","v":"zo"},"DD",{"$f":"IFERROR(HLOOKUP(Y507,[1]DATA!$A$1:$NB$5,3,0),\"\")","v":"-"},null,null,null,null,{"$f":"VLOOKUP(Y507,[1]SRM!$S$4:$Z$368,2,0)","v":0},"","",""]
["24zoMD",{"$f":"VLOOKUP($AA508,DATA!$B$3:$E508,2,0)","v":"14:30:00"},{"$f":"VLOOKUP($AA508,DATA!$B$3:$E508,3,0)","v":"22:30:00"},{"$f":"VLOOKUP($AA508,DATA!$B$3:$E508,4,0)","v":3.125E-2},0.30208333333333337,0.30208333333333337,{"$f":"DATA!$C$9","v":0.89},{"$f":"DATA!$C$10","v":64},1,407.81250000000006,407.81250000000006,0,"","",0,"","",0,"","","","",null,{"$f":"X499","v":24},null,{"$f":"TEXT(Y507,\"ddd\")","v":"zo"},"MD",{"$f":"IFERROR(HLOOKUP(Y507,[1]DATA!$A$1:$NB$5,4,0),\"\")","v":"-"},null,null,null,null,{"$f":"VLOOKUP(Y507,[1]SRM!$S$4:$Z$368,3,0)","v":0},"","",""]
["24zoZND",{"$f":"VLOOKUP($AA509,DATA!$B$3:$E509,2,0)","v":"00:00:00"},{"$f":"VLOOKUP($AA509,DATA!$B$3:$E509,3,0)","v":"00:00:00"},{"$f":"VLOOKUP($AA509,DATA!$B$3:$E509,4,0)","v":0},0,0,{"$f":"DATA!$C$9","v":0.89},{"$f":"DATA!$C$10","v":64},1,0,0,0,"","",0,"","",0,"","","","",null,{"$f":"X499","v":24},null,{"$f":"TEXT(Y507,\"ddd\")","v":"zo"},"ZND",{"$f":"IFERROR(HLOOKUP(Y507,[1]DATA!$A$1:$NB$5,5,0),\"\")","v":"-"},null,null,null,null,{"$f":"VLOOKUP(Y507,[1]SRM!$S$4:$Z$368,4,0)","v":0},"","",""]
["25maDD",{"$f":"VLOOKUP($AA510,DATA!$B$3:$E510,2,0)","v":"06:30:00"},{"$f":"VLOOKUP($AA510,DATA!$B$3:$E510,3,0)","v":"14:30:00"},{"$f":"VLOOKUP($AA510,DATA!$B$3:$E510,4,0)","v":3.125E-2},0.30208333333333331,0.26805555555555555,{"$f":"DATA!$C$9","v":0.89},{"$f":"DATA!$C$10","v":64},1,361.875,407.8125,3.4027777777777775E-2,45.937499999999993,0.11264367816091952,{"$f":"TIME(INT($AD510/60),INT(MOD($AD510,60)/1),0)","v":0},"","",248.53333333333333,227,227,"","",null,{"$f":"X520","v":25},"2018-06-18",{"$f":"TEXT(Y510,\"ddd\")","v":"ma"},"DD",{"$f":"IFERROR(HLOOKUP(Y510,[1]DATA!$A$1:$NB$5,3,0),\"\")","v":"D1"},49,null,6,233,{"$f":"VLOOKUP(Y510,[1]SRM!$S$4:$Z$368,2,0)","v":3},-134.875,0.55662835249042142,0.98807315133845741,{"$f":"IF(SUMIF(S510:S530,\">0\",K510:K530)=0,\"\",SUMIF(S510:S530,\">0\",K510:K530))","v":6117.1875},{"$f":"IF(SUM(S510:S530)=0,\"\",SUM(S510:S530))","v":3859},{"$f":"IFERROR(AL510/AK510,\"-\")","v":0.63084546615581094},{"$f":"IF(SUM(M510:M530)=0,\"0\",SUM(M510:M530))","v":822.1875},{"$f":"IFERROR(AN510/AK510,\"-\")","v":0.13440613026819923},{"$f":"IF(SUM(P510:P530)=0,0,SUM(P510:P530))","v":0},{"$f":"IFERROR(AP510/AK510,\"-\")","v":0},{"$f":"IFERROR(AVERAGE(AJ510:AJ530),\"-\")","v":0.96989074935345876},{"$f":"IFERROR(SUMIF($AB510:$AB530,AS$5,$AJ510:$AJ530)/COUNTIFS($AB510:$AB530,AS$5,$AJ510:$AJ530,\">0\"),\"\")","v":0.98893574887907043},0.9756143711123858,0.94512212806891949,{"$f":"IFERROR((AK510-AL510-AN510-AP510),\"-\")","v":1436},{"$f":"IFERROR((1-AM510-AO510-AQ510), \"-\")","v":0.23474840357598983},{"$f":"IFERROR((AV510*$AE$2)/60,\"-\")","v":1531.7333333333333},{"$f":"IFERROR(SUM(AG510:AG530),\"\")","v":170}]
["25maMD",{"$f":"VLOOKUP($AA511,DATA!$B$3:$E511,2,0)","v":"14:30:00"},{"$f":"VLOOKUP($AA511,DATA!$B$3:$E511,3,0)","v":"22:30:00"},{"$f":"VLOOKUP($AA511,DATA!$B$3:$E511,4,0)","v":3.125E-2},0.30208333333333337,0.26319444444444451,{"$f":"DATA!$C$9","v":0.89},{"$f":"DATA!$C$10","v":64},1,355.31250000000011,407.81250000000006,3.888888888888889E-2,52.5,0.12873563218390802,{"$f":"TIME(INT(AD511/60),INT(MOD(AD511,60)/1),0)","v":0},"","",332.8,308,"","",308,null,{"$f":"X520","v":25},null,{"$f":"TEXT(Y510,\"ddd\")","v":"ma"},"MD",{"$f":"IFERROR(HLOOKUP(Y510,[1]DATA!$A$1:$NB$5,4,0),\"\")","v":"D3"},56,null,4,312,{"$f":"VLOOKUP(Y510,[1]SRM!$S$4:$Z$368,3,0)","v":56},-47.312500000000114,0.75524904214559374,0.8559670781893004]
["25maND",{"$f":"VLOOKUP($AA512,DATA!$B$3:$E512,2,0)","v":"22:30:00"},{"$f":"VLOOKUP($AA512,DATA!$B$3:$E512,3,0)","v":"06:30:00"},{"$f":"VLOOKUP($AA512,DATA!$B$3:$E512,4,0)","v":3.125E-2},0.30208333333333326,0.25069444444444439,{"$f":"DATA!$C$9","v":0.89},{"$f":"DATA!$C$10","v":64},1,338.43749999999994,407.81249999999989,5.1388888888888894E-2,69.375,0.17011494252873569,0,"","",250.66666666666666,232,"",232,"",null,{"$f":"X520","v":25},null,{"$f":"TEXT(Y510,\"ddd\")","v":"ma"},"ND",{"$f":"IFERROR(HLOOKUP(Y510,[1]DATA!$A$1:$NB$5,5,0),\"\")","v":"D2"},74,null,3,235,{"$f":"VLOOKUP(Y510,[1]SRM!$S$4:$Z$368,4,0)","v":0},-106.43749999999994,0.568888888888889,1]
["25diDD",{"$f":"VLOOKUP($AA513,DATA!$B$3:$E513,2,0)","v":"06:30:00"},{"$f":"VLOOKUP($AA513,DATA!$B$3:$E513,3,0)","v":"14:30:00"},{"$f":"VLOOKUP($AA513,DATA!$B$3:$E513,4,0)","v":3.125E-2},0.30208333333333331,0.26249999999999996,{"$f":"DATA!$C$9","v":0.89},{"$f":"DATA!$C$10","v":64},1,354.37499999999994,407.8125,3.9583333333333331E-2,53.4375,0.1310344827586207,0,"","",330.66666666666669,285,285,"","",null,{"$f":"X520","v":25},"2018-06-19",{"$f":"TEXT(Y513,\"ddd\")","v":"di"},"DD",{"$f":"IFERROR(HLOOKUP(Y513,[1]DATA!$A$1:$NB$5,3,0),\"\")","v":"D1"},57,null,25,310,{"$f":"VLOOKUP(Y513,[1]SRM!$S$4:$Z$368,2,0)","v":15},-69.374999999999943,0.69885057471264367,0.95660559305689485]
["25diMD",{"$f":"VLOOKUP($AA514,DATA!$B$3:$E514,2,0)","v":"14:30:00"},{"$f":"VLOOKUP($AA514,DATA!$B$3:$E514,3,0)","v":"22:30:00"},{"$f":"VLOOKUP($AA514,DATA!$B$3:$E514,4,0)","v":3.125E-2},0.30208333333333337,0.2680555555555556,{"$f":"DATA!$C$9","v":0.89},{"$f":"DATA!$C$10","v":64},1,361.87500000000006,407.81250000000006,3.4027777777777775E-2,45.937499999999993,0.11264367816091951,0,"","",280.5333333333333,248,"","",248,null,{"$f":"X520","v":25},null,{"$f":"TEXT(Y513,\"ddd\")","v":"di"},"MD",{"$f":"IFERROR(HLOOKUP(Y513,[1]DATA!$A$1:$NB$5,4,0),\"\")","v":"D3"},49,null,15,263,{"$f":"VLOOKUP(Y513,[1]SRM!$S$4:$Z$368,3,0)","v":5},-113.87500000000006,0.60812260536398455,0.9824889096427738]
["25diND",{"$f":"VLOOKUP($AA515,DATA!$B$3:$E515,2,0)","v":"22:30:00"},{"$f":"VLOOKUP($AA515,DATA!$B$3:$E515,3,0)","v":"06:30:00"},{"$f":"VLOOKUP($AA515,DATA!$B$3:$E515,4,0)","v":3.125E-2},0.30208333333333326,0.2944444444444444,{"$f":"DATA!$C$9","v":0.89},{"$f":"DATA!$C$10","v":64},1,397.49999999999994,407.81249999999989,7.6388888888888886E-3,10.3125,2.5287356321839087E-2,0,"","",100.26666666666667,89,"",89,"",null,{"$f":"X520","v":25},null,{"$f":"TEXT(Y513,\"ddd\")","v":"di"},"ND",{"$f":"IFERROR(HLOOKUP(Y513,[1]DATA!$A$1:$NB$5,5,0),\"\")","v":"D2"},11,null,5,94,{"$f":"VLOOKUP(Y513,[1]SRM!$S$4:$Z$368,4,0)","v":0},-308.49999999999994,0.21823754789272037,1]
["25woDD",{"$f":"VLOOKUP($AA516,DATA!$B$3:$E516,2,0)","v":"06:30:00"},{"$f":"VLOOKUP($AA516,DATA!$B$3:$E516,3,0)","v":"14:30:00"},{"$f":"VLOOKUP($AA516,DATA!$B$3:$E516,4,0)","v":3.125E-2},0.30208333333333331,0.28263888888888888,{"$f":"DATA!$C$9","v":0.89},{"$f":"DATA!$C$10","v":64},1,381.5625,407.8125,1.9444444444444445E-2,26.25,6.4367816091954022E-2,0,"","",212.26666666666665,182,182,"","",null,{"$f":"X520","v":25},"2018-06-20",{"$f":"TEXT(Y516,\"ddd\")","v":"wo"},"DD",{"$f":"IFERROR(HLOOKUP(Y516,[1]DATA!$A$1:$NB$5,3,0),\"\")","v":"D1"},28,null,17,199,{"$f":"VLOOKUP(Y516,[1]SRM!$S$4:$Z$368,2,0)","v":0},-199.5625,0.44628352490421458,1]
["25woMD",{"$f":"VLOOKUP($AA517,DATA!$B$3:$E517,2,0)","v":"14:30:00"},{"$f":"VLOOKUP($AA517,DATA!$B$3:$E517,3,0)","v":"22:30:00"},{"$f":"VLOOKUP($AA517,DATA!$B$3:$E517,4,0)","v":3.125E-2},0.30208333333333337,0.27500000000000002,{"$f":"DATA!$C$9","v":0.89},{"$f":"DATA!$C$10","v":64},1,371.25000000000006,407.81250000000006,2.7083333333333334E-2,36.5625,8.9655172413793088E-2,0,"","",167.46666666666667,141,"","",141,null,{"$f":"X520","v":25},null,{"$f":"TEXT(Y516,\"ddd\")","v":"wo"},"MD",{"$f":"IFERROR(HLOOKUP(Y516,[1]DATA!$A$1:$NB$5,4,0),\"\")","v":"D3"},39,null,16,157,{"$f":"VLOOKUP(Y516,[1]SRM!$S$4:$Z$368,3,0)","v":0},-230.25000000000006,0.34574712643678157,1]
["25woND",{"$f":"VLOOKUP($AA518,DATA!$B$3:$E518,2,0)","v":"22:30:00"},{"$f":"VLOOKUP($AA518,DATA!$B$3:$E518,3,0)","v":"06:30:00"},{"$f":"VLOOKUP($AA518,DATA!$B$3:$E518,4,0)","v":3.125E-2},0.30208333333333326,0.24722222222222215,{"$f":"DATA!$C$9","v":0.89},{"$f":"DATA!$C$10","v":64},1,{"$f":"F518*86400/H518*I518","v":333.74999999999989},{"$f":"E518*86400/H518","v":407.81249999999989},5.486111111111111E-2,74.0625,0.18160919540229889,0,"","",{"$f":"AF518*AG$2","v":360.5333333333333},{"$f":"IF(AF518-AE518=0,\"\",AF518-AE518)","v":292},"",292,"",null,{"$f":"X520","v":25},null,{"$f":"TEXT(Y516,\"ddd\")","v":"wo"},"ND",{"$f":"IFERROR(HLOOKUP(Y516,[1]DATA!$A$1:$NB$5,5,0),\"\")","v":"D2"},79,null,46,338,{"$f":"VLOOKUP(Y516,[1]SRM!$S$4:$Z$368,4,0)","v":20},{"$f":"IFERROR(S518-J518,\"\")","v":-41.749999999999886},{"$f":"IFERROR(IF(S518/(E518*86400/H518)<=0,\"\",S518/(E518*86400/H518)),\"\")","v":0.7160153256704983},0.94744218640504552]
["25doDD",{"$f":"VLOOKUP($AA519,DATA!$B$3:$E519,2,0)","v":"06:30:00"},{"$f":"VLOOKUP($AA519,DATA!$B$3:$E519,3,0)","v":"14:30:00"},{"$f":"VLOOKUP($AA519,DATA!$B$3:$E519,4,0)","v":3.125E-2},0.30208333333333331,0.28472222222222221,{"$f":"DATA!$C$9","v":0.89},{"$f":"DATA!$C$10","v":64},1,384.375,407.8125,{"$f":"TIME(INT($AC519/60),INT(MOD($AC519,60)/1),0)","v":1.7361111111111112E-2},{"$f":"IF($L519*86400/$H519=0,\"\",$L519*86400/$H519)","v":23.4375},{"$f":"IFERROR($M519/$K519,\"\")","v":5.7471264367816091E-2},0,"",{"$f":"IFERROR($P519/$K519,\"\")","v":""},385.06666666666666,324,{"$f":"IF(IF($AB519=\"D1\",$S519,\"\")=0,\"\",IF($AB519=\"D1\",$S519,\"\"))","v":324},{"$f":"IF(IF($AB519=\"D2\",$S519,\"\")=0,\"\",IF($AB519=\"D2\",$S519,\"\"))","v":""},{"$f":"IF(IF($AB519=\"D3\",$S519,\"\")=0,\"\",IF($AB519=\"D3\",$S519,\"\"))","v":""},null,{"$f":"X520","v":25},"2018-06-21",{"$f":"TEXT(Y519,\"ddd\")","v":"do"},"DD",{"$f":"IFERROR(HLOOKUP(Y519,[1]DATA!$A$1:$NB$5,3,0),\"\")","v":"D1"},25,null,37,361,{"$f":"VLOOKUP(Y519,[1]SRM!$S$4:$Z$368,2,0)","v":0},-60.375,0.79448275862068962,1]
["25doMD",{"$f":"VLOOKUP($AA520,DATA!$B$3:$E520,2,0)","v":"14:30:00"},{"$f":"VLOOKUP($AA520,DATA!$B$3:$E520,3,0)","v":"22:30:00"},{"$f":"VLOOKUP($AA520,DATA!$B$3:$E520,4,0)","v":3.125E-2},0.30208333333333337,0.26180555555555557,{"$f":"DATA!$C$9","v":0.89},{"$f":"DATA!$C$10","v":64},1,353.4375,407.81250000000006,4.027777777777778E-2,54.375,0.1333333333333333,0,"","",371.2,313,"","",313,null,{"$f":"WEEKNUM($Y510)","v":25},null,{"$f":"TEXT(Y519,\"ddd\")","v":"do"},"MD",{"$f":"IFERROR(HLOOKUP(Y519,[1]DATA!$A$1:$NB$5,4,0),\"\")","v":"D3"},58,null,35,348,{"$f":"VLOOKUP(Y519,[1]SRM!$S$4:$Z$368,3,0)","v":35},-40.4375,0.76750957854406121,0.91383554899064501]
["25doND",{"$f":"VLOOKUP($AA521,DATA!$B$3:$E521,2,0)","v":"22:30:00"},{"$f":"VLOOKUP($AA521,DATA!$B$3:$E521,3,0)","v":"06:30:00"},{"$f":"VLOOKUP($AA521,DATA!$B$3:$E521,4,0)","v":3.125E-2},0.30208333333333326,0.22499999999999992,{"$f":"DATA!$C$9","v":0.89},{"$f":"DATA!$C$10","v":64},1,303.74999999999989,407.81249999999989,7.7083333333333337E-2,104.0625,0.25517241379310351,0,"","",348.8,297,"",297,"",null,{"$f":"X520","v":25},null,{"$f":"TEXT(Y519,\"ddd\")","v":"do"},"ND",{"$f":"IFERROR(HLOOKUP(Y519,[1]DATA!$A$1:$NB$5,5,0),\"\")","v":"D2"},111,null,30,327,{"$f":"VLOOKUP(Y519,[1]SRM!$S$4:$Z$368,4,0)","v":26},-6.7499999999998863,0.72827586206896577,0.93062966915688372]
["25vrDD",{"$f":"VLOOKUP($AA522,DATA!$B$3:$E522,2,0)","v":"06:30:00"},{"$f":"VLOOKUP($AA522,DATA!$B$3:$E522,3,0)","v":"14:30:00"},{"$f":"VLOOKUP($AA522,DATA!$B$3:$E522,4,0)","v":3.125E-2},0.30208333333333331,0.24791666666666665,{"$f":"DATA!$C$9","v":0.89},{"$f":"DATA!$C$10","v":64},1,334.6875,407.8125,5.4166666666666669E-2,73.125,0.1793103448275862,0,"","",400,339,339,"","",null,{"$f":"X520","v":25},"2018-06-22",{"$f":"TEXT(Y522,\"ddd\")","v":"vr"},"DD",{"$f":"IFERROR(HLOOKUP(Y522,[1]DATA!$A$1:$NB$5,3,0),\"\")","v":"D1"},78,null,36,375,{"$f":"VLOOKUP(Y522,[1]SRM!$S$4:$Z$368,2,0)","v":0},4.3125,0.83126436781609192,1]
["25vrMD",{"$f":"VLOOKUP($AA523,DATA!$B$3:$E523,2,0)","v":"14:30:00"},{"$f":"VLOOKUP($AA523,DATA!$B$3:$E523,3,0)","v":"22:30:00"},{"$f":"VLOOKUP($AA523,DATA!$B$3:$E523,4,0)","v":3.125E-2},0.30208333333333337,0.23819444444444449,{"$f":"DATA!$C$9","v":0.89},{"$f":"DATA!$C$10","v":64},1,321.56250000000006,407.81250000000006,6.3888888888888884E-2,86.25,0.21149425287356319,0,"","",364.8,306,"","",306,null,{"$f":"X520","v":25},null,{"$f":"TEXT(Y522,\"ddd\")","v":"vr"},"MD",{"$f":"IFERROR(HLOOKUP(Y522,[1]DATA!$A$1:$NB$5,4,0),\"\")","v":"D3"},92,null,36,342,{"$f":"VLOOKUP(Y522,[1]SRM!$S$4:$Z$368,3,0)","v":10},-15.562500000000057,0.7503448275862068,0.97331910352187834]
["25vrND",{"$f":"VLOOKUP($AA524,DATA!$B$3:$E524,2,0)","v":"22:30:00"},{"$f":"VLOOKUP($AA524,DATA!$B$3:$E524,3,0)","v":"06:30:00"},{"$f":"VLOOKUP($AA524,DATA!$B$3:$E524,4,0)","v":3.125E-2},0.30208333333333326,0.25277777777777771,{"$f":"DATA!$C$9","v":0.89},{"$f":"DATA!$C$10","v":64},1,341.24999999999989,407.81249999999989,4.9305555555555554E-2,66.5625,0.16321839080459774,0,"","",306.13333333333333,276,"",276,"",null,{"$f":"X520","v":25},null,{"$f":"TEXT(Y522,\"ddd\")","v":"vr"},"ND",{"$f":"IFERROR(HLOOKUP(Y522,[1]DATA!$A$1:$NB$5,5,0),\"\")","v":"D2"},71,null,11,287,{"$f":"VLOOKUP(Y522,[1]SRM!$S$4:$Z$368,4,0)","v":0},-65.249999999999886,0.67678160919540253,1]
["25zaDD",{"$f":"VLOOKUP($AA525,DATA!$B$3:$E525,2,0)","v":"06:30:00"},{"$f":"VLOOKUP($AA525,DATA!$B$3:$E525,3,0)","v":"14:30:00"},{"$f":"VLOOKUP($AA525,DATA!$B$3:$E525,4,0)","v":3.125E-2},0.30208333333333331,0.30208333333333331,{"$f":"DATA!$C$9","v":0.89},{"$f":"DATA!$C$10","v":64},1,407.8125,407.8125,0,"","",0,"","",0,"","","","",null,{"$f":"X520","v":25},"2018-06-23",{"$f":"TEXT(Y525,\"ddd\")","v":"za"},"DD",{"$f":"IFERROR(HLOOKUP(Y525,[1]DATA!$A$1:$NB$5,3,0),\"\")","v":"D1"},null,null,null,null,{"$f":"VLOOKUP(Y525,[1]SRM!$S$4:$Z$368,2,0)","v":0},"","",""]
["25zaMD",{"$f":"VLOOKUP($AA526,DATA!$B$3:$E526,2,0)","v":"14:30:00"},{"$f":"VLOOKUP($AA526,DATA!$B$3:$E526,3,0)","v":"22:30:00"},{"$f":"VLOOKUP($AA526,DATA!$B$3:$E526,4,0)","v":3.125E-2},0.30208333333333337,0.30208333333333337,{"$f":"DATA!$C$9","v":0.89},{"$f":"DATA!$C$10","v":64},1,407.81250000000006,407.81250000000006,0,"","",0,"","",0,"","","","",null,{"$f":"X520","v":25},null,{"$f":"TEXT(Y525,\"ddd\")","v":"za"},"MD",{"$f":"IFERROR(HLOOKUP(Y525,[1]DATA!$A$1:$NB$5,4,0),\"\")","v":"-"},null,null,null,null,{"$f":"VLOOKUP(Y525,[1]SRM!$S$4:$Z$368,3,0)","v":0},"","",""]
["25zaND",{"$f":"VLOOKUP($AA527,DATA!$B$3:$E527,2,0)","v":"22:30:00"},{"$f":"VLOOKUP($AA527,DATA!$B$3:$E527,3,0)","v":"06:30:00"},{"$f":"VLOOKUP($AA527,DATA!$B$3:$E527,4,0)","v":3.125E-2},0.30208333333333326,0.30208333333333326,{"$f":"DATA!$C$9","v":0.89},{"$f":"DATA!$C$10","v":64},1,407.81249999999989,407.81249999999989,0,"","",0,"","",0,"","","","",null,{"$f":"X520","v":25},null,{"$f":"TEXT(Y525,\"ddd\")","v":"za"},"ND",{"$f":"IFERROR(HLOOKUP(Y525,[1]DATA!$A$1:$NB$5,5,0),\"\")","v":"-"},null,null,null,null,{"$f":"VLOOKUP(Y525,[1]SRM!$S$4:$Z$368,4,0)","v":0},"","",""]
["25zoDD",{"$f":"VLOOKUP($AA528,DATA!$B$3:$E528,2,0)","v":"06:30:00"},{"$f":"VLOOKUP($AA528,DATA!$B$3:$E528,3,0)","v":"14:30:00"},{"$f":"VLOOKUP($AA528,DATA!$B$3:$E528,4,0)","v":3.125E-2},0.30208333333333331,0.30208333333333331,{"$f":"DATA!$C$9","v":0.89},{"$f":"DATA!$C$10","v":64},1,407.8125,407.8125,0,"","",0,"","",0,"","","","",null,{"$f":"X520","v":25},"2018-06-24",{"$f":"TEXT(Y528,\"ddd\")","v":"zo"},"DD",{"$f":"IFERROR(HLOOKUP(Y528,[1]DATA!$A$1:$NB$5,3,0),\"\")","v":"-"},null,null,null,null,{"$f":"VLOOKUP(Y528,[1]SRM!$S$4:$Z$368,2,0)","v":0},"","",""]
["25zoMD",{"$f":"VLOOKUP($AA529,DATA!$B$3:$E529,2,0)","v":"14:30:00"},{"$f":"VLOOKUP($AA529,DATA!$B$3:$E529,3,0)","v":"22:30:00"},{"$f":"VLOOKUP($AA529,DATA!$B$3:$E529,4,0)","v":3.125E-2},0.30208333333333337,0.30208333333333337,{"$f":"DATA!$C$9","v":0.89},{"$f":"DATA!$C$10","v":64},1,407.81250000000006,407.81250000000006,0,"","",0,"","",0,"","","","",null,{"$f":"X520","v":25},null,{"$f":"TEXT(Y528,\"ddd\")","v":"zo"},"MD",{"$f":"IFERROR(HLOOKUP(Y528,[1]DATA!$A$1:$NB$5,4,0),\"\")","v":"-"},null,null,null,null,{"$f":"VLOOKUP(Y528,[1]SRM!$S$4:$Z$368,3,0)","v":0},"","",""]
["25zoZND",{"$f":"VLOOKUP($AA530,DATA!$B$3:$E530,2,0)","v":"00:00:00"},{"$f":"VLOOKUP($AA530,DATA!$B$3:$E530,3,0)","v":"00:00:00"},{"$f":"VLOOKUP($AA530,DATA!$B$3:$E530,4,0)","v":0},0,0,{"$f":"DATA!$C$9","v":0.89},{"$f":"DATA!$C$10","v":64},1,0,0,0,"","",0,"","",0,"","","","",null,{"$f":"X520","v":25},null,{"$f":"TEXT(Y528,\"ddd\")","v":"zo"},"ZND",{"$f":"IFERROR(HLOOKUP(Y528,[1]DATA!$A$1:$NB$5,5,0),\"\")","v":"-"},null,null,null,null,{"$f":"VLOOKUP(Y528,[1]SRM!$S$4:$Z$368,4,0)","v":0},"","",""]
["26maDD",{"$f":"VLOOKUP($AA531,DATA!$B$3:$E531,2,0)","v":"06:30:00"},{"$f":"VLOOKUP($AA531,DATA!$B$3:$E531,3,0)","v":"14:30:00"},{"$f":"VLOOKUP($AA531,DATA!$B$3:$E531,4,0)","v":3.125E-2},0.30208333333333331,0.30208333333333331,{"$f":"DATA!$C$9","v":0.89},{"$f":"DATA!$C$10","v":64},1,407.8125,407.8125,0,"","",{"$f":"TIME(INT($AD531/60),INT(MOD($AD531,60)/1),0)","v":0},"","",0,"","","","",null,{"$f":"X541","v":26},"2018-06-25",{"$f":"TEXT(Y531,\"ddd\")","v":"ma"},"DD",{"$f":"IFERROR(HLOOKUP(Y531,[1]DATA!$A$1:$NB$5,3,0),\"\")","v":"D3"},null,null,null,null,{"$f":"VLOOKUP(Y531,[1]SRM!$S$4:$Z$368,2,0)","v":25},"","",0,{"$f":"IF(SUMIF(S531:S551,\">0\",K531:K551)=0,\"\",SUMIF(S531:S551,\">0\",K531:K551))","v":1631.2500000000002},{"$f":"IF(SUM(S531:S551)=0,\"\",SUM(S531:S551))","v":1290},{"$f":"IFERROR(AL531/AK531,\"-\")","v":0.7908045977011493},{"$f":"IF(SUM(M531:M551)=0,\"0\",SUM(M531:M551))","v":235.3125},{"$f":"IFERROR(AN531/AK531,\"-\")","v":0.14425287356321836},{"$f":"IF(SUM(P531:P551)=0,0,SUM(P531:P551))","v":0},{"$f":"IFERROR(AP531/AK531,\"-\")","v":0},{"$f":"IFERROR(AVERAGE(AJ531:AJ551),\"-\")","v":0.38807045463243139},{"$f":"IFERROR(SUMIF($AB531:$AB551,AS$5,$AJ531:$AJ551)/COUNTIFS($AB531:$AB551,AS$5,$AJ531:$AJ551,\">0\"),\"\")","v":""},0.97017613658107849,"",{"$f":"IFERROR((AK531-AL531-AN531-AP531),\"-\")","v":105.93750000000023},{"$f":"IFERROR((1-AM531-AO531-AQ531), \"-\")","v":6.4942528735632332E-2},{"$f":"IFERROR((AV531*$AE$2)/60,\"-\")","v":113.00000000000024},{"$f":"IFERROR(SUM(AG531:AG551),\"\")","v":255}]
["26maMD",{"$f":"VLOOKUP($AA532,DATA!$B$3:$E532,2,0)","v":"14:30:00"},{"$f":"VLOOKUP($AA532,DATA!$B$3:$E532,3,0)","v":"22:30:00"},{"$f":"VLOOKUP($AA532,DATA!$B$3:$E532,4,0)","v":3.125E-2},0.30208333333333337,0.27638888888888891,{"$f":"DATA!$C$9","v":0.89},{"$f":"DATA!$C$10","v":64},1,373.125,407.81250000000006,2.5694444444444447E-2,34.6875,8.5057471264367801E-2,{"$f":"TIME(INT(AD532/60),INT(MOD(AD532,60)/1),0)","v":0},"","",363.73333333333335,322,"",322,"",null,{"$f":"X541","v":26},null,{"$f":"TEXT(Y531,\"ddd\")","v":"ma"},"MD",{"$f":"IFERROR(HLOOKUP(Y531,[1]DATA!$A$1:$NB$5,4,0),\"\")","v":"D2"},37,null,19,341,{"$f":"VLOOKUP(Y531,[1]SRM!$S$4:$Z$368,3,0)","v":14},-51.125,0.78957854406130257,0.96293681609601134]
["26maND",{"$f":"VLOOKUP($AA533,DATA!$B$3:$E533,2,0)","v":"22:30:00"},{"$f":"VLOOKUP($AA533,DATA!$B$3:$E533,3,0)","v":"06:30:00"},{"$f":"VLOOKUP($AA533,DATA!$B$3:$E533,4,0)","v":3.125E-2},0.30208333333333326,0.30208333333333326,{"$f":"DATA!$C$9","v":0.89},{"$f":"DATA!$C$10","v":64},1,407.81249999999989,407.81249999999989,0,"","",0,"","",0,"","","","",null,{"$f":"X541","v":26},null,{"$f":"TEXT(Y531,\"ddd\")","v":"ma"},"ND",{"$f":"IFERROR(HLOOKUP(Y531,[1]DATA!$A$1:$NB$5,5,0),\"\")","v":"D1"},null,null,null,null,{"$f":"VLOOKUP(Y531,[1]SRM!$S$4:$Z$368,4,0)","v":2},"","",0]
["26diDD",{"$f":"VLOOKUP($AA534,DATA!$B$3:$E534,2,0)","v":"06:30:00"},{"$f":"VLOOKUP($AA534,DATA!$B$3:$E534,3,0)","v":"14:30:00"},{"$f":"VLOOKUP($AA534,DATA!$B$3:$E534,4,0)","v":3.125E-2},0.30208333333333331,0.30208333333333331,{"$f":"DATA!$C$9","v":0.89},{"$f":"DATA!$C$10","v":64},1,407.8125,407.8125,0,"","",0,"","",0,"","","","",null,{"$f":"X541","v":26},"2018-06-26",{"$f":"TEXT(Y534,\"ddd\")","v":"di"},"DD",{"$f":"IFERROR(HLOOKUP(Y534,[1]DATA!$A$1:$NB$5,3,0),\"\")","v":"D3"},null,null,null,null,{"$f":"VLOOKUP(Y534,[1]SRM!$S$4:$Z$368,2,0)","v":15},"","",0]
["26diMD",{"$f":"VLOOKUP($AA535,DATA!$B$3:$E535,2,0)","v":"14:30:00"},{"$f":"VLOOKUP($AA535,DATA!$B$3:$E535,3,0)","v":"22:30:00"},{"$f":"VLOOKUP($AA535,DATA!$B$3:$E535,4,0)","v":3.125E-2},0.30208333333333337,0.26666666666666672,{"$f":"DATA!$C$9","v":0.89},{"$f":"DATA!$C$10","v":64},1,360.00000000000006,407.81250000000006,3.5416666666666666E-2,47.8125,0.11724137931034481,0,"","",379.73333333333335,328,"",328,"",null,{"$f":"X541","v":26},null,{"$f":"TEXT(Y534,\"ddd\")","v":"di"},"MD",{"$f":"IFERROR(HLOOKUP(Y534,[1]DATA!$A$1:$NB$5,4,0),\"\")","v":"D2"},51,null,28,356,{"$f":"VLOOKUP(Y534,[1]SRM!$S$4:$Z$368,3,0)","v":28},-32.000000000000057,0.80429118773946351,0.93132766514061482]
["26diND",{"$f":"VLOOKUP($AA536,DATA!$B$3:$E536,2,0)","v":"22:30:00"},{"$f":"VLOOKUP($AA536,DATA!$B$3:$E536,3,0)","v":"06:30:00"},{"$f":"VLOOKUP($AA536,DATA!$B$3:$E536,4,0)","v":3.125E-2},0.30208333333333326,0.30208333333333326,{"$f":"DATA!$C$9","v":0.89},{"$f":"DATA!$C$10","v":64},1,407.81249999999989,407.81249999999989,0,"","",0,"","",0,"","","","",null,{"$f":"X541","v":26},null,{"$f":"TEXT(Y534,\"ddd\")","v":"di"},"ND",{"$f":"IFERROR(HLOOKUP(Y534,[1]DATA!$A$1:$NB$5,5,0),\"\")","v":"D1"},null,null,null,null,{"$f":"VLOOKUP(Y534,[1]SRM!$S$4:$Z$368,4,0)","v":10},"","",0]
["26woDD",{"$f":"VLOOKUP($AA537,DATA!$B$3:$E537,2,0)","v":"06:30:00"},{"$f":"VLOOKUP($AA537,DATA!$B$3:$E537,3,0)","v":"14:30:00"},{"$f":"VLOOKUP($AA537,DATA!$B$3:$E537,4,0)","v":3.125E-2},0.30208333333333331,0.30208333333333331,{"$f":"DATA!$C$9","v":0.89},{"$f":"DATA!$C$10","v":64},1,407.8125,407.8125,0,"","",0,"","",0,"","","","",null,{"$f":"X541","v":26},"2018-06-27",{"$f":"TEXT(Y537,\"ddd\")","v":"wo"},"DD",{"$f":"IFERROR(HLOOKUP(Y537,[1]DATA!$A$1:$NB$5,3,0),\"\")","v":"D3"},null,null,null,null,{"$f":"VLOOKUP(Y537,[1]SRM!$S$4:$Z$368,2,0)","v":13},"","",0]
["26woMD",{"$f":"VLOOKUP($AA538,DATA!$B$3:$E538,2,0)","v":"14:30:00"},{"$f":"VLOOKUP($AA538,DATA!$B$3:$E538,3,0)","v":"22:30:00"},{"$f":"VLOOKUP($AA538,DATA!$B$3:$E538,4,0)","v":3.125E-2},0.30208333333333337,0.2590277777777778,{"$f":"DATA!$C$9","v":0.89},{"$f":"DATA!$C$10","v":64},1,349.68750000000006,407.81250000000006,4.3055555555555562E-2,58.125000000000007,0.14252873563218391,0,"","",375.46666666666664,323,"",323,"",null,{"$f":"X541","v":26},null,{"$f":"TEXT(Y537,\"ddd\")","v":"wo"},"MD",{"$f":"IFERROR(HLOOKUP(Y537,[1]DATA!$A$1:$NB$5,4,0),\"\")","v":"D2"},62,null,29,352,{"$f":"VLOOKUP(Y537,[1]SRM!$S$4:$Z$368,3,0)","v":0},-26.687500000000057,0.79203065134099604,1]
["26woND",{"$f":"VLOOKUP($AA539,DATA!$B$3:$E539,2,0)","v":"22:30:00"},{"$f":"VLOOKUP($AA539,DATA!$B$3:$E539,3,0)","v":"06:30:00"},{"$f":"VLOOKUP($AA539,DATA!$B$3:$E539,4,0)","v":3.125E-2},0.30208333333333326,0.30208333333333326,{"$f":"DATA!$C$9","v":0.89},{"$f":"DATA!$C$10","v":64},1,407.81249999999989,407.81249999999989,0,"","",0,"","",0,"","","","",null,{"$f":"X541","v":26},null,{"$f":"TEXT(Y537,\"ddd\")","v":"wo"},"ND",{"$f":"IFERROR(HLOOKUP(Y537,[1]DATA!$A$1:$NB$5,5,0),\"\")","v":"D1"},null,null,null,null,{"$f":"VLOOKUP(Y537,[1]SRM!$S$4:$Z$368,4,0)","v":0},"","",{"$f":"IFERROR(R539/(R539+AG539),\"\")","v":""}]
["26doDD",{"$f":"VLOOKUP($AA540,DATA!$B$3:$E540,2,0)","v":"06:30:00"},{"$f":"VLOOKUP($AA540,DATA!$B$3:$E540,3,0)","v":"14:30:00"},{"$f":"VLOOKUP($AA540,DATA!$B$3:$E540,4,0)","v":3.125E-2},{"$f":"(C540-B540+(B540>C540))-D540","v":0.30208333333333331},{"$f":"E540-O540-L540","v":0.30208333333333331},{"$f":"DATA!$C$9","v":0.89},{"$f":"DATA!$C$10","v":64},1,407.8125,407.8125,0,"","",0,"","",0,"","","","",null,{"$f":"X541","v":26},"2018-06-28",{"$f":"TEXT(Y540,\"ddd\")","v":"do"},"DD",{"$f":"IFERROR(HLOOKUP(Y540,[1]DATA!$A$1:$NB$5,3,0),\"\")","v":"D3"},null,null,null,null,{"$f":"VLOOKUP(Y540,[1]SRM!$S$4:$Z$368,2,0)","v":143},"","",0]
["26doMD",{"$f":"VLOOKUP($AA541,DATA!$B$3:$E541,2,0)","v":"14:30:00"},{"$f":"VLOOKUP($AA541,DATA!$B$3:$E541,3,0)","v":"22:30:00"},{"$f":"VLOOKUP($AA541,DATA!$B$3:$E541,4,0)","v":3.125E-2},0.30208333333333337,0.23194444444444448,{"$f":"DATA!$C$9","v":0.89},{"$f":"DATA!$C$10","v":64},1,313.12500000000006,407.81250000000006,7.013888888888889E-2,94.6875,0.23218390804597697,0,"","",363.73333333333335,317,"",317,"",null,{"$f":"WEEKNUM($Y531)","v":26},null,{"$f":"TEXT(Y540,\"ddd\")","v":"do"},"MD",{"$f":"IFERROR(HLOOKUP(Y540,[1]DATA!$A$1:$NB$5,4,0),\"\")","v":"D2"},101,null,24,341,{"$f":"VLOOKUP(Y540,[1]SRM!$S$4:$Z$368,3,0)","v":5},3.8749999999999432,0.7773180076628351,0.98644006508768756]
["26doND",{"$f":"VLOOKUP($AA542,DATA!$B$3:$E542,2,0)","v":"22:30:00"},{"$f":"VLOOKUP($AA542,DATA!$B$3:$E542,3,0)","v":"06:30:00"},{"$f":"VLOOKUP($AA542,DATA!$B$3:$E542,4,0)","v":3.125E-2},0.30208333333333326,0.30208333333333326,{"$f":"DATA!$C$9","v":0.89},{"$f":"DATA!$C$10","v":64},1,407.81249999999989,407.81249999999989,0,"","",0,"","",0,"","","","",null,{"$f":"X541","v":26},null,{"$f":"TEXT(Y540,\"ddd\")","v":"do"},"ND",{"$f":"IFERROR(HLOOKUP(Y540,[1]DATA!$A$1:$NB$5,5,0),\"\")","v":"D1"},null,null,null,null,{"$f":"VLOOKUP(Y540,[1]SRM!$S$4:$Z$368,4,0)","v":0},"","",""]
["26vrDD",{"$f":"VLOOKUP($AA543,DATA!$B$3:$E543,2,0)","v":"06:30:00"},{"$f":"VLOOKUP($AA543,DATA!$B$3:$E543,3,0)","v":"14:30:00"},{"$f":"VLOOKUP($AA543,DATA!$B$3:$E543,4,0)","v":3.125E-2},0.30208333333333331,0.30208333333333331,{"$f":"DATA!$C$9","v":0.89},{"$f":"DATA!$C$10","v":64},1,407.8125,407.8125,0,"","",0,"","",0,"","","","",null,{"$f":"X541","v":26},"2018-06-29",{"$f":"TEXT(Y543,\"ddd\")","v":"vr"},"DD",{"$f":"IFERROR(HLOOKUP(Y543,[1]DATA!$A$1:$NB$5,3,0),\"\")","v":"D3"},null,null,null,null,{"$f":"VLOOKUP(Y543,[1]SRM!$S$4:$Z$368,2,0)","v":0},"","",""]
["26vrMD",{"$f":"VLOOKUP($AA544,DATA!$B$3:$E544,2,0)","v":"14:30:00"},{"$f":"VLOOKUP($AA544,DATA!$B$3:$E544,3,0)","v":"22:30:00"},{"$f":"VLOOKUP($AA544,DATA!$B$3:$E544,4,0)","v":3.125E-2},0.30208333333333337,0.30208333333333337,{"$f":"DATA!$C$9","v":0.89},{"$f":"DATA!$C$10","v":64},1,407.81250000000006,407.81250000000006,0,"","",0,"","",0,"","","","",null,{"$f":"X541","v":26},null,{"$f":"TEXT(Y543,\"ddd\")","v":"vr"},"MD",{"$f":"IFERROR(HLOOKUP(Y543,[1]DATA!$A$1:$NB$5,4,0),\"\")","v":"D2"},null,null,null,null,{"$f":"VLOOKUP(Y543,[1]SRM!$S$4:$Z$368,3,0)","v":0},"","",""]
["26vrND",{"$f":"VLOOKUP($AA545,DATA!$B$3:$E545,2,0)","v":"22:30:00"},{"$f":"VLOOKUP($AA545,DATA!$B$3:$E545,3,0)","v":"06:30:00"},{"$f":"VLOOKUP($AA545,DATA!$B$3:$E545,4,0)","v":3.125E-2},0.30208333333333326,0.30208333333333326,{"$f":"DATA!$C$9","v":0.89},{"$f":"DATA!$C$10","v":64},1,407.81249999999989,407.81249999999989,0,"","",0,"","",0,"","","","",null,{"$f":"X541","v":26},null,{"$f":"TEXT(Y543,\"ddd\")","v":"vr"},"ND",{"$f":"IFERROR(HLOOKUP(Y543,[1]DATA!$A$1:$NB$5,5,0),\"\")","v":"D2"},null,null,null,null,{"$f":"VLOOKUP(Y543,[1]SRM!$S$4:$Z$368,4,0)","v":0},"","",""]
["26zaDD",{"$f":"VLOOKUP($AA546,DATA!$B$3:$E546,2,0)","v":"06:30:00"},{"$f":"VLOOKUP($AA546,DATA!$B$3:$E546,3,0)","v":"14:30:00"},{"$f":"VLOOKUP($AA546,DATA!$B$3:$E546,4,0)","v":3.125E-2},0.30208333333333331,0.30208333333333331,{"$f":"DATA!$C$9","v":0.89},{"$f":"DATA!$C$10","v":64},1,407.8125,407.8125,0,"","",0,"","",0,"","","","",null,{"$f":"X541","v":26},"2018-06-30",{"$f":"TEXT(Y546,\"ddd\")","v":"za"},"DD",{"$f":"IFERROR(HLOOKUP(Y546,[1]DATA!$A$1:$NB$5,3,0),\"\")","v":"D3"},null,null,null,null,{"$f":"VLOOKUP(Y546,[1]SRM!$S$4:$Z$368,2,0)","v":0},"","",""]
["26zaMD",{"$f":"VLOOKUP($AA547,DATA!$B$3:$E547,2,0)","v":"14:30:00"},{"$f":"VLOOKUP($AA547,DATA!$B$3:$E547,3,0)","v":"22:30:00"},{"$f":"VLOOKUP($AA547,DATA!$B$3:$E547,4,0)","v":3.125E-2},0.30208333333333337,0.30208333333333337,{"$f":"DATA!$C$9","v":0.89},{"$f":"DATA!$C$10","v":64},1,407.81250000000006,407.81250000000006,0,"","",0,"","",0,"","","","",null,{"$f":"X541","v":26},null,{"$f":"TEXT(Y546,\"ddd\")","v":"za"},"MD",{"$f":"IFERROR(HLOOKUP(Y546,[1]DATA!$A$1:$NB$5,4,0),\"\")","v":"-"},null,null,null,null,{"$f":"VLOOKUP(Y546,[1]SRM!$S$4:$Z$368,3,0)","v":0},"","",""]
["26zaND",{"$f":"VLOOKUP($AA548,DATA!$B$3:$E548,2,0)","v":"22:30:00"},{"$f":"VLOOKUP($AA548,DATA!$B$3:$E548,3,0)","v":"06:30:00"},{"$f":"VLOOKUP($AA548,DATA!$B$3:$E548,4,0)","v":3.125E-2},0.30208333333333326,0.30208333333333326,{"$f":"DATA!$C$9","v":0.89},{"$f":"DATA!$C$10","v":64},1,407.81249999999989,407.81249999999989,0,"","",0,"","",0,"","","","",null,{"$f":"X541","v":26},null,{"$f":"TEXT(Y546,\"ddd\")","v":"za"},"ND",{"$f":"IFERROR(HLOOKUP(Y546,[1]DATA!$A$1:$NB$5,5,0),\"\")","v":"-"},null,null,null,null,{"$f":"VLOOKUP(Y546,[1]SRM!$S$4:$Z$368,4,0)","v":0},"","",""]
["26zoDD",{"$f":"VLOOKUP($AA549,DATA!$B$3:$E549,2,0)","v":"06:30:00"},{"$f":"VLOOKUP($AA549,DATA!$B$3:$E549,3,0)","v":"14:30:00"},{"$f":"VLOOKUP($AA549,DATA!$B$3:$E549,4,0)","v":3.125E-2},0.30208333333333331,0.30208333333333331,{"$f":"DATA!$C$9","v":0.89},{"$f":"DATA!$C$10","v":64},1,407.8125,407.8125,0,"","",0,"","",0,"","","","",null,{"$f":"X541","v":26},"2018-07-01",{"$f":"TEXT(Y549,\"ddd\")","v":"zo"},"DD",{"$f":"IFERROR(HLOOKUP(Y549,[1]DATA!$A$1:$NB$5,3,0),\"\")","v":"-"},null,null,null,null,{"$f":"VLOOKUP(Y549,[1]SRM!$S$4:$Z$368,2,0)","v":0},"","",""]
["26zoMD",{"$f":"VLOOKUP($AA550,DATA!$B$3:$E550,2,0)","v":"14:30:00"},{"$f":"VLOOKUP($AA550,DATA!$B$3:$E550,3,0)","v":"22:30:00"},{"$f":"VLOOKUP($AA550,DATA!$B$3:$E550,4,0)","v":3.125E-2},0.30208333333333337,0.30208333333333337,{"$f":"DATA!$C$9","v":0.89},{"$f":"DATA!$C$10","v":64},1,407.81250000000006,407.81250000000006,0,"","",0,"","",0,"","","","",null,{"$f":"X541","v":26},null,{"$f":"TEXT(Y549,\"ddd\")","v":"zo"},"MD",{"$f":"IFERROR(HLOOKUP(Y549,[1]DATA!$A$1:$NB$5,4,0),\"\")","v":"-"},null,null,null,null,{"$f":"VLOOKUP(Y549,[1]SRM!$S$4:$Z$368,3,0)","v":0},"","",""]
["26zoZND",{"$f":"VLOOKUP($AA551,DATA!$B$3:$E551,2,0)","v":"00:00:00"},{"$f":"VLOOKUP($AA551,DATA!$B$3:$E551,3,0)","v":"00:00:00"},{"$f":"VLOOKUP($AA551,DATA!$B$3:$E551,4,0)","v":0},0,0,{"$f":"DATA!$C$9","v":0.89},{"$f":"DATA!$C$10","v":64},1,0,0,0,"","",0,"","",0,"","","","",null,{"$f":"X541","v":26},null,{"$f":"TEXT(Y549,\"ddd\")","v":"zo"},"ZND",{"$f":"IFERROR(HLOOKUP(Y549,[1]DATA!$A$1:$NB$5,5,0),\"\")","v":"-"},null,null,null,null,{"$f":"VLOOKUP(Y549,[1]SRM!$S$4:$Z$368,4,0)","v":0},"","",""]
["27maDD",{"$f":"VLOOKUP($AA552,DATA!$B$3:$E552,2,0)","v":"06:30:00"},{"$f":"VLOOKUP($AA552,DATA!$B$3:$E552,3,0)","v":"14:30:00"},{"$f":"VLOOKUP($AA552,DATA!$B$3:$E552,4,0)","v":3.125E-2},0.30208333333333331,0.30208333333333331,{"$f":"DATA!$C$9","v":0.89},{"$f":"DATA!$C$10","v":64},1,407.8125,407.8125,0,"","",{"$f":"TIME(INT($AD552/60),INT(MOD($AD552,60)/1),0)","v":0},"","",0,"","","","",null,{"$f":"X562","v":27},"2018-07-02",{"$f":"TEXT(Y552,\"ddd\")","v":"ma"},"DD",{"$f":"IFERROR(HLOOKUP(Y552,[1]DATA!$A$1:$NB$5,3,0),\"\")","v":"D2"},null,null,null,null,{"$f":"VLOOKUP(Y552,[1]SRM!$S$4:$Z$368,2,0)","v":27},"","",0,{"$f":"IF(SUMIF(S552:S572,\">0\",K552:K572)=0,\"\",SUMIF(S552:S572,\">0\",K552:K572))","v":""},{"$f":"IF(SUM(S552:S572)=0,\"\",SUM(S552:S572))","v":""},{"$f":"IFERROR(AL552/AK552,\"-\")","v":"-"},{"$f":"IF(SUM(M552:M572)=0,\"0\",SUM(M552:M572))","v":"0"},{"$f":"IFERROR(AN552/AK552,\"-\")","v":"-"},{"$f":"IF(SUM(P552:P572)=0,0,SUM(P552:P572))","v":0},{"$f":"IFERROR(AP552/AK552,\"-\")","v":"-"},{"$f":"IFERROR(AVERAGE(AJ552:AJ572),\"-\")","v":0},{"$f":"IFERROR(SUMIF($AB552:$AB572,AS$5,$AJ552:$AJ572)/COUNTIFS($AB552:$AB572,AS$5,$AJ552:$AJ572,\">0\"),\"\")","v":""},"","",{"$f":"IFERROR((AK552-AL552-AN552-AP552),\"-\")","v":"-"},{"$f":"IFERROR((1-AM552-AO552-AQ552), \"-\")","v":"-"},{"$f":"IFERROR((AV552*$AE$2)/60,\"-\")","v":"-"},{"$f":"IFERROR(SUM(AG552:AG572),\"\")","v":306}]
["27maMD",{"$f":"VLOOKUP($AA553,DATA!$B$3:$E553,2,0)","v":"14:30:00"},{"$f":"VLOOKUP($AA553,DATA!$B$3:$E553,3,0)","v":"22:30:00"},{"$f":"VLOOKUP($AA553,DATA!$B$3:$E553,4,0)","v":3.125E-2},0.30208333333333337,0.30208333333333337,{"$f":"DATA!$C$9","v":0.89},{"$f":"DATA!$C$10","v":64},1,407.81250000000006,407.81250000000006,0,"","",{"$f":"TIME(INT(AD553/60),INT(MOD(AD553,60)/1),0)","v":0},"","",0,"","","","",null,{"$f":"X562","v":27},null,{"$f":"TEXT(Y552,\"ddd\")","v":"ma"},"MD",{"$f":"IFERROR(HLOOKUP(Y552,[1]DATA!$A$1:$NB$5,4,0),\"\")","v":"D1"},null,null,null,null,{"$f":"VLOOKUP(Y552,[1]SRM!$S$4:$Z$368,3,0)","v":0},"","",""]
["27maND",{"$f":"VLOOKUP($AA554,DATA!$B$3:$E554,2,0)","v":"22:30:00"},{"$f":"VLOOKUP($AA554,DATA!$B$3:$E554,3,0)","v":"06:30:00"},{"$f":"VLOOKUP($AA554,DATA!$B$3:$E554,4,0)","v":3.125E-2},0.30208333333333326,0.30208333333333326,{"$f":"DATA!$C$9","v":0.89},{"$f":"DATA!$C$10","v":64},1,407.81249999999989,407.81249999999989,0,"","",0,"","",0,"","","","",null,{"$f":"X562","v":27},null,{"$f":"TEXT(Y552,\"ddd\")","v":"ma"},"ND",{"$f":"IFERROR(HLOOKUP(Y552,[1]DATA!$A$1:$NB$5,5,0),\"\")","v":"D3"},null,null,null,null,{"$f":"VLOOKUP(Y552,[1]SRM!$S$4:$Z$368,4,0)","v":11},"","",0]
["27diDD",{"$f":"VLOOKUP($AA555,DATA!$B$3:$E555,2,0)","v":"06:30:00"},{"$f":"VLOOKUP($AA555,DATA!$B$3:$E555,3,0)","v":"14:30:00"},{"$f":"VLOOKUP($AA555,DATA!$B$3:$E555,4,0)","v":3.125E-2},0.30208333333333331,0.30208333333333331,{"$f":"DATA!$C$9","v":0.89},{"$f":"DATA!$C$10","v":64},1,407.8125,407.8125,0,"","",0,"","",0,"","","","",null,{"$f":"X562","v":27},"2018-07-03",{"$f":"TEXT(Y555,\"ddd\")","v":"di"},"DD",{"$f":"IFERROR(HLOOKUP(Y555,[1]DATA!$A$1:$NB$5,3,0),\"\")","v":"D2"},null,null,null,null,{"$f":"VLOOKUP(Y555,[1]SRM!$S$4:$Z$368,2,0)","v":24},"","",0]
["27diMD",{"$f":"VLOOKUP($AA556,DATA!$B$3:$E556,2,0)","v":"14:30:00"},{"$f":"VLOOKUP($AA556,DATA!$B$3:$E556,3,0)","v":"22:30:00"},{"$f":"VLOOKUP($AA556,DATA!$B$3:$E556,4,0)","v":3.125E-2},0.30208333333333337,0.30208333333333337,{"$f":"DATA!$C$9","v":0.89},{"$f":"DATA!$C$10","v":64},1,407.81250000000006,407.81250000000006,0,"","",0,"","",0,"","","","",null,{"$f":"X562","v":27},null,{"$f":"TEXT(Y555,\"ddd\")","v":"di"},"MD",{"$f":"IFERROR(HLOOKUP(Y555,[1]DATA!$A$1:$NB$5,4,0),\"\")","v":"D1"},null,null,null,null,{"$f":"VLOOKUP(Y555,[1]SRM!$S$4:$Z$368,3,0)","v":23},"","",0]
["27diND",{"$f":"VLOOKUP($AA557,DATA!$B$3:$E557,2,0)","v":"22:30:00"},{"$f":"VLOOKUP($AA557,DATA!$B$3:$E557,3,0)","v":"06:30:00"},{"$f":"VLOOKUP($AA557,DATA!$B$3:$E557,4,0)","v":3.125E-2},0.30208333333333326,0.30208333333333326,{"$f":"DATA!$C$9","v":0.89},{"$f":"DATA!$C$10","v":64},1,407.81249999999989,407.81249999999989,0,"","",0,"","",0,"","","","",null,{"$f":"X562","v":27},null,{"$f":"TEXT(Y555,\"ddd\")","v":"di"},"ND",{"$f":"IFERROR(HLOOKUP(Y555,[1]DATA!$A$1:$NB$5,5,0),\"\")","v":"D3"},null,null,null,null,{"$f":"VLOOKUP(Y555,[1]SRM!$S$4:$Z$368,4,0)","v":10},"","",0]
["27woDD",{"$f":"VLOOKUP($AA558,DATA!$B$3:$E558,2,0)","v":"06:30:00"},{"$f":"VLOOKUP($AA558,DATA!$B$3:$E558,3,0)","v":"14:30:00"},{"$f":"VLOOKUP($AA558,DATA!$B$3:$E558,4,0)","v":3.125E-2},0.30208333333333331,0.30208333333333331,{"$f":"DATA!$C$9","v":0.89},{"$f":"DATA!$C$10","v":64},1,407.8125,407.8125,0,"","",0,"","",0,"","","","",null,{"$f":"X562","v":27},"2018-07-04",{"$f":"TEXT(Y558,\"ddd\")","v":"wo"},"DD",{"$f":"IFERROR(HLOOKUP(Y558,[1]DATA!$A$1:$NB$5,3,0),\"\")","v":"D2"},null,null,null,null,{"$f":"VLOOKUP(Y558,[1]SRM!$S$4:$Z$368,2,0)","v":31},"","",0]
["27woMD",{"$f":"VLOOKUP($AA559,DATA!$B$3:$E559,2,0)","v":"14:30:00"},{"$f":"VLOOKUP($AA559,DATA!$B$3:$E559,3,0)","v":"22:30:00"},{"$f":"VLOOKUP($AA559,DATA!$B$3:$E559,4,0)","v":3.125E-2},0.30208333333333337,0.30208333333333337,{"$f":"DATA!$C$9","v":0.89},{"$f":"DATA!$C$10","v":64},1,407.81250000000006,407.81250000000006,0,"","",0,"","",0,"","","","",null,{"$f":"X562","v":27},null,{"$f":"TEXT(Y558,\"ddd\")","v":"wo"},"MD",{"$f":"IFERROR(HLOOKUP(Y558,[1]DATA!$A$1:$NB$5,4,0),\"\")","v":"D1"},null,null,null,null,{"$f":"VLOOKUP(Y558,[1]SRM!$S$4:$Z$368,3,0)","v":30},"","",0]
[{"$f":"X560&Z560&AA560","v":"27woND"},{"$f":"VLOOKUP($AA560,DATA!$B$3:$E560,2,0)","v":"22:30:00"},{"$f":"VLOOKUP($AA560,DATA!$B$3:$E560,3,0)","v":"06:30:00"},{"$f":"VLOOKUP($AA560,DATA!$B$3:$E560,4,0)","v":3.125E-2},0.30208333333333326,0.30208333333333326,{"$f":"DATA!$C$9","v":0.89},{"$f":"DATA!$C$10","v":64},1,407.81249999999989,407.81249999999989,0,"","",0,{"$f":"IF($O560*86400/$H560=0,\"\",$O560*86400/$H560)","v":""},"",0,"","","","",null,{"$f":"X562","v":27},null,{"$f":"TEXT(Y558,\"ddd\")","v":"wo"},"ND",{"$f":"IFERROR(HLOOKUP(Y558,[1]DATA!$A$1:$NB$5,5,0),\"\")","v":"D3"},null,null,null,null,{"$f":"VLOOKUP(Y558,[1]SRM!$S$4:$Z$368,4,0)","v":31},"","",0]
["27doDD",{"$f":"VLOOKUP($AA561,DATA!$B$3:$E561,2,0)","v":"06:30:00"},{"$f":"VLOOKUP($AA561,DATA!$B$3:$E561,3,0)","v":"14:30:00"},{"$f":"VLOOKUP($AA561,DATA!$B$3:$E561,4,0)","v":3.125E-2},0.30208333333333331,0.30208333333333331,{"$f":"DATA!$C$9","v":0.89},{"$f":"DATA!$C$10","v":64},1,407.8125,407.8125,0,"","",0,"","",0,"","","","",null,{"$f":"X562","v":27},"2018-07-05",{"$f":"TEXT(Y561,\"ddd\")","v":"do"},"DD",{"$f":"IFERROR(HLOOKUP(Y561,[1]DATA!$A$1:$NB$5,3,0),\"\")","v":"D2"},null,null,null,null,{"$f":"VLOOKUP(Y561,[1]SRM!$S$4:$Z$368,2,0)","v":12},"","",0]
["27doMD",{"$f":"VLOOKUP($AA562,DATA!$B$3:$E562,2,0)","v":"14:30:00"},{"$f":"VLOOKUP($AA562,DATA!$B$3:$E562,3,0)","v":"22:30:00"},{"$f":"VLOOKUP($AA562,DATA!$B$3:$E562,4,0)","v":3.125E-2},0.30208333333333337,0.30208333333333337,{"$f":"DATA!$C$9","v":0.89},{"$f":"DATA!$C$10","v":64},1,407.81250000000006,407.81250000000006,0,"","",0,"","",0,"","","","",null,{"$f":"WEEKNUM($Y552)","v":27},null,{"$f":"TEXT(Y561,\"ddd\")","v":"do"},"MD",{"$f":"IFERROR(HLOOKUP(Y561,[1]DATA!$A$1:$NB$5,4,0),\"\")","v":"D1"},null,null,null,null,{"$f":"VLOOKUP(Y561,[1]SRM!$S$4:$Z$368,3,0)","v":10},"","",0]
["27doND",{"$f":"VLOOKUP($AA563,DATA!$B$3:$E563,2,0)","v":"22:30:00"},{"$f":"VLOOKUP($AA563,DATA!$B$3:$E563,3,0)","v":"06:30:00"},{"$f":"VLOOKUP($AA563,DATA!$B$3:$E563,4,0)","v":3.125E-2},0.30208333333333326,0.30208333333333326,{"$f":"DATA!$C$9","v":0.89},{"$f":"DATA!$C$10","v":64},1,407.81249999999989,407.81249999999989,0,"","",0,"","",0,"","","","",null,{"$f":"X562","v":27},null,{"$f":"TEXT(Y561,\"ddd\")","v":"do"},"ND",{"$f":"IFERROR(HLOOKUP(Y561,[1]DATA!$A$1:$NB$5,5,0),\"\")","v":"D3"},null,null,null,null,{"$f":"VLOOKUP(Y561,[1]SRM!$S$4:$Z$368,4,0)","v":18},"","",0]
["27vrDD",{"$f":"VLOOKUP($AA564,DATA!$B$3:$E564,2,0)","v":"06:30:00"},{"$f":"VLOOKUP($AA564,DATA!$B$3:$E564,3,0)","v":"14:30:00"},{"$f":"VLOOKUP($AA564,DATA!$B$3:$E564,4,0)","v":3.125E-2},0.30208333333333331,0.30208333333333331,{"$f":"DATA!$C$9","v":0.89},{"$f":"DATA!$C$10","v":64},1,407.8125,407.8125,0,"","",0,"","",0,"","","","",null,{"$f":"X562","v":27},{"$f":"Y561+1","v":"2018-07-06"},{"$f":"TEXT(Y564,\"ddd\")","v":"vr"},"DD",{"$f":"IFERROR(HLOOKUP(Y564,[1]DATA!$A$1:$NB$5,3,0),\"\")","v":"D2"},null,null,null,null,{"$f":"VLOOKUP(Y564,[1]SRM!$S$4:$Z$368,2,0)","v":73},"","",0]
["27vrMD",{"$f":"VLOOKUP($AA565,DATA!$B$3:$E565,2,0)","v":"14:30:00"},{"$f":"VLOOKUP($AA565,DATA!$B$3:$E565,3,0)","v":"22:30:00"},{"$f":"VLOOKUP($AA565,DATA!$B$3:$E565,4,0)","v":3.125E-2},0.30208333333333337,0.30208333333333337,{"$f":"DATA!$C$9","v":0.89},{"$f":"DATA!$C$10","v":64},1,407.81250000000006,407.81250000000006,0,"","",0,"","",0,"","","","",null,{"$f":"X562","v":27},null,{"$f":"TEXT(Y564,\"ddd\")","v":"vr"},"MD",{"$f":"IFERROR(HLOOKUP(Y564,[1]DATA!$A$1:$NB$5,4,0),\"\")","v":"D1"},null,null,null,null,{"$f":"VLOOKUP(Y564,[1]SRM!$S$4:$Z$368,3,0)","v":6},"","",0]
["27vrND",{"$f":"VLOOKUP($AA566,DATA!$B$3:$E566,2,0)","v":"22:30:00"},{"$f":"VLOOKUP($AA566,DATA!$B$3:$E566,3,0)","v":"06:30:00"},{"$f":"VLOOKUP($AA566,DATA!$B$3:$E566,4,0)","v":3.125E-2},0.30208333333333326,0.30208333333333326,{"$f":"DATA!$C$9","v":0.89},{"$f":"DATA!$C$10","v":64},1,407.81249999999989,407.81249999999989,0,"","",0,"","",0,"","","","",null,{"$f":"X562","v":27},null,{"$f":"TEXT(Y564,\"ddd\")","v":"vr"},"ND",{"$f":"IFERROR(HLOOKUP(Y564,[1]DATA!$A$1:$NB$5,5,0),\"\")","v":"D3"},null,null,null,null,{"$f":"VLOOKUP(Y564,[1]SRM!$S$4:$Z$368,4,0)","v":0},"","",""]
["27zaDD",{"$f":"VLOOKUP($AA567,DATA!$B$3:$E567,2,0)","v":"06:30:00"},{"$f":"VLOOKUP($AA567,DATA!$B$3:$E567,3,0)","v":"14:30:00"},{"$f":"VLOOKUP($AA567,DATA!$B$3:$E567,4,0)","v":3.125E-2},0.30208333333333331,0.30208333333333331,{"$f":"DATA!$C$9","v":0.89},{"$f":"DATA!$C$10","v":64},1,407.8125,407.8125,0,"","",0,"","",0,"","","","",null,{"$f":"X562","v":27},"2018-07-07",{"$f":"TEXT(Y567,\"ddd\")","v":"za"},"DD",{"$f":"IFERROR(HLOOKUP(Y567,[1]DATA!$A$1:$NB$5,3,0),\"\")","v":"D2"},null,null,null,null,{"$f":"VLOOKUP(Y567,[1]SRM!$S$4:$Z$368,2,0)","v":0},"","",""]
["27zaMD",{"$f":"VLOOKUP($AA568,DATA!$B$3:$E568,2,0)","v":"14:30:00"},{"$f":"VLOOKUP($AA568,DATA!$B$3:$E568,3,0)","v":"22:30:00"},{"$f":"VLOOKUP($AA568,DATA!$B$3:$E568,4,0)","v":3.125E-2},0.30208333333333337,0.30208333333333337,{"$f":"DATA!$C$9","v":0.89},{"$f":"DATA!$C$10","v":64},1,407.81250000000006,407.81250000000006,0,"","",0,"","",0,"","","","",null,{"$f":"X562","v":27},null,{"$f":"TEXT(Y567,\"ddd\")","v":"za"},"MD",{"$f":"IFERROR(HLOOKUP(Y567,[1]DATA!$A$1:$NB$5,4,0),\"\")","v":"-"},null,null,null,null,{"$f":"VLOOKUP(Y567,[1]SRM!$S$4:$Z$368,3,0)","v":0},"","",""]
["27zaND",{"$f":"VLOOKUP($AA569,DATA!$B$3:$E569,2,0)","v":"22:30:00"},{"$f":"VLOOKUP($AA569,DATA!$B$3:$E569,3,0)","v":"06:30:00"},{"$f":"VLOOKUP($AA569,DATA!$B$3:$E569,4,0)","v":3.125E-2},0.30208333333333326,0.30208333333333326,{"$f":"DATA!$C$9","v":0.89},{"$f":"DATA!$C$10","v":64},1,407.81249999999989,407.81249999999989,0,"","",0,"","",0,"","","","",null,{"$f":"X562","v":27},null,{"$f":"TEXT(Y567,\"ddd\")","v":"za"},"ND",{"$f":"IFERROR(HLOOKUP(Y567,[1]DATA!$A$1:$NB$5,5,0),\"\")","v":"-"},null,null,null,null,{"$f":"VLOOKUP(Y567,[1]SRM!$S$4:$Z$368,4,0)","v":0},"","",""]
["27zoDD",{"$f":"VLOOKUP($AA570,DATA!$B$3:$E570,2,0)","v":"06:30:00"},{"$f":"VLOOKUP($AA570,DATA!$B$3:$E570,3,0)","v":"14:30:00"},{"$f":"VLOOKUP($AA570,DATA!$B$3:$E570,4,0)","v":3.125E-2},0.30208333333333331,0.30208333333333331,{"$f":"DATA!$C$9","v":0.89},{"$f":"DATA!$C$10","v":64},1,407.8125,407.8125,0,"","",0,"","",0,"","","","",null,{"$f":"X562","v":27},"2018-07-08",{"$f":"TEXT(Y570,\"ddd\")","v":"zo"},"DD",{"$f":"IFERROR(HLOOKUP(Y570,[1]DATA!$A$1:$NB$5,3,0),\"\")","v":"-"},null,null,null,null,{"$f":"VLOOKUP(Y570,[1]SRM!$S$4:$Z$368,2,0)","v":0},"","",""]
["27zoMD",{"$f":"VLOOKUP($AA571,DATA!$B$3:$E571,2,0)","v":"14:30:00"},{"$f":"VLOOKUP($AA571,DATA!$B$3:$E571,3,0)","v":"22:30:00"},{"$f":"VLOOKUP($AA571,DATA!$B$3:$E571,4,0)","v":3.125E-2},0.30208333333333337,0.30208333333333337,{"$f":"DATA!$C$9","v":0.89},{"$f":"DATA!$C$10","v":64},1,407.81250000000006,407.81250000000006,0,"","",0,"","",0,"","","","",null,{"$f":"X562","v":27},null,{"$f":"TEXT(Y570,\"ddd\")","v":"zo"},"MD",{"$f":"IFERROR(HLOOKUP(Y570,[1]DATA!$A$1:$NB$5,4,0),\"\")","v":"-"},null,null,null,null,{"$f":"VLOOKUP(Y570,[1]SRM!$S$4:$Z$368,3,0)","v":0},"","",""]
["27zoZND",{"$f":"VLOOKUP($AA572,DATA!$B$3:$E572,2,0)","v":"00:00:00"},{"$f":"VLOOKUP($AA572,DATA!$B$3:$E572,3,0)","v":"00:00:00"},{"$f":"VLOOKUP($AA572,DATA!$B$3:$E572,4,0)","v":0},0,0,{"$f":"DATA!$C$9","v":0.89},{"$f":"DATA!$C$10","v":64},1,0,0,0,"","",0,"","",0,"","","","",null,{"$f":"X562","v":27},null,{"$f":"TEXT(Y570,\"ddd\")","v":"zo"},"ZND",{"$f":"IFERROR(HLOOKUP(Y570,[1]DATA!$A$1:$NB$5,5,0),\"\")","v":"-"},null,null,null,null,{"$f":"VLOOKUP(Y570,[1]SRM!$S$4:$Z$368,4,0)","v":0},"","",""]
["28maDD",{"$f":"VLOOKUP($AA573,DATA!$B$3:$E573,2,0)","v":"06:30:00"},{"$f":"VLOOKUP($AA573,DATA!$B$3:$E573,3,0)","v":"14:30:00"},{"$f":"VLOOKUP($AA573,DATA!$B$3:$E573,4,0)","v":3.125E-2},0.30208333333333331,0.30208333333333331,{"$f":"DATA!$C$9","v":0.89},{"$f":"DATA!$C$10","v":64},1,407.8125,407.8125,0,"","",{"$f":"TIME(INT($AD573/60),INT(MOD($AD573,60)/1),0)","v":0},"","",0,"","","","",null,{"$f":"X583","v":28},"2018-07-09",{"$f":"TEXT(Y573,\"ddd\")","v":"ma"},"DD",{"$f":"IFERROR(HLOOKUP(Y573,[1]DATA!$A$1:$NB$5,3,0),\"\")","v":"D1"},null,null,null,null,{"$f":"VLOOKUP(Y573,[1]SRM!$S$4:$Z$368,2,0)","v":35},"","",0,{"$f":"IF(SUMIF(S573:S593,\">0\",K573:K593)=0,\"\",SUMIF(S573:S593,\">0\",K573:K593))","v":""},{"$f":"IF(SUM(S573:S593)=0,\"\",SUM(S573:S593))","v":""},{"$f":"IFERROR(AL573/AK573,\"-\")","v":"-"},{"$f":"IF(SUM(M573:M593)=0,\"0\",SUM(M573:M593))","v":"0"},{"$f":"IFERROR(AN573/AK573,\"-\")","v":"-"},{"$f":"IF(SUM(P573:P593)=0,0,SUM(P573:P593))","v":0},{"$f":"IFERROR(AP573/AK573,\"-\")","v":"-"},{"$f":"IFERROR(AVERAGE(AJ573:AJ593),\"-\")","v":0},{"$f":"IFERROR(SUMIF($AB573:$AB593,AS$5,$AJ573:$AJ593)/COUNTIFS($AB573:$AB593,AS$5,$AJ573:$AJ593,\">0\"),\"\")","v":""},"","",{"$f":"IFERROR((AK573-AL573-AN573-AP573),\"-\")","v":"-"},{"$f":"IFERROR((1-AM573-AO573-AQ573), \"-\")","v":"-"},{"$f":"IFERROR((AV573*$AE$2)/60,\"-\")","v":"-"},{"$f":"IFERROR(SUM(AG573:AG593),\"\")","v":366}]
["28maMD",{"$f":"VLOOKUP($AA574,DATA!$B$3:$E574,2,0)","v":"14:30:00"},{"$f":"VLOOKUP($AA574,DATA!$B$3:$E574,3,0)","v":"22:30:00"},{"$f":"VLOOKUP($AA574,DATA!$B$3:$E574,4,0)","v":3.125E-2},0.30208333333333337,0.30208333333333337,{"$f":"DATA!$C$9","v":0.89},{"$f":"DATA!$C$10","v":64},1,407.81250000000006,407.81250000000006,0,"","",{"$f":"TIME(INT(AD574/60),INT(MOD(AD574,60)/1),0)","v":0},"","",0,"","","","",null,{"$f":"X583","v":28},null,{"$f":"TEXT(Y573,\"ddd\")","v":"ma"},"MD",{"$f":"IFERROR(HLOOKUP(Y573,[1]DATA!$A$1:$NB$5,4,0),\"\")","v":"D3"},null,null,null,null,{"$f":"VLOOKUP(Y573,[1]SRM!$S$4:$Z$368,3,0)","v":48},"","",0]
["28maND",{"$f":"VLOOKUP($AA575,DATA!$B$3:$E575,2,0)","v":"22:30:00"},{"$f":"VLOOKUP($AA575,DATA!$B$3:$E575,3,0)","v":"06:30:00"},{"$f":"VLOOKUP($AA575,DATA!$B$3:$E575,4,0)","v":3.125E-2},0.30208333333333326,0.30208333333333326,{"$f":"DATA!$C$9","v":0.89},{"$f":"DATA!$C$10","v":64},1,407.81249999999989,407.81249999999989,0,"","",0,"","",0,"","","","",null,{"$f":"X583","v":28},null,{"$f":"TEXT(Y573,\"ddd\")","v":"ma"},"ND",{"$f":"IFERROR(HLOOKUP(Y573,[1]DATA!$A$1:$NB$5,5,0),\"\")","v":"D2"},null,null,null,null,{"$f":"VLOOKUP(Y573,[1]SRM!$S$4:$Z$368,4,0)","v":95},"","",0]
["28diDD",{"$f":"VLOOKUP($AA576,DATA!$B$3:$E576,2,0)","v":"06:30:00"},{"$f":"VLOOKUP($AA576,DATA!$B$3:$E576,3,0)","v":"14:30:00"},{"$f":"VLOOKUP($AA576,DATA!$B$3:$E576,4,0)","v":3.125E-2},0.30208333333333331,0.30208333333333331,{"$f":"DATA!$C$9","v":0.89},{"$f":"DATA!$C$10","v":64},1,407.8125,407.8125,0,"","",0,"","",0,"","","","",null,{"$f":"X583","v":28},"2018-07-10",{"$f":"TEXT(Y576,\"ddd\")","v":"di"},"DD",{"$f":"IFERROR(HLOOKUP(Y576,[1]DATA!$A$1:$NB$5,3,0),\"\")","v":"D1"},null,null,null,null,{"$f":"VLOOKUP(Y576,[1]SRM!$S$4:$Z$368,2,0)","v":46},"","",0]
["28diMD",{"$f":"VLOOKUP($AA577,DATA!$B$3:$E577,2,0)","v":"14:30:00"},{"$f":"VLOOKUP($AA577,DATA!$B$3:$E577,3,0)","v":"22:30:00"},{"$f":"VLOOKUP($AA577,DATA!$B$3:$E577,4,0)","v":3.125E-2},0.30208333333333337,0.30208333333333337,{"$f":"DATA!$C$9","v":0.89},{"$f":"DATA!$C$10","v":64},1,407.81250000000006,407.81250000000006,0,"","",0,"","",0,"","","","",null,{"$f":"X583","v":28},null,{"$f":"TEXT(Y576,\"ddd\")","v":"di"},"MD",{"$f":"IFERROR(HLOOKUP(Y576,[1]DATA!$A$1:$NB$5,4,0),\"\")","v":"D3"},null,null,null,null,{"$f":"VLOOKUP(Y576,[1]SRM!$S$4:$Z$368,3,0)","v":58},"","",0]
["28diND",{"$f":"VLOOKUP($AA578,DATA!$B$3:$E578,2,0)","v":"22:30:00"},{"$f":"VLOOKUP($AA578,DATA!$B$3:$E578,3,0)","v":"06:30:00"},{"$f":"VLOOKUP($AA578,DATA!$B$3:$E578,4,0)","v":3.125E-2},0.30208333333333326,0.30208333333333326,{"$f":"DATA!$C$9","v":0.89},{"$f":"DATA!$C$10","v":64},1,407.81249999999989,407.81249999999989,0,"","",0,"","",0,"","","","",null,{"$f":"X583","v":28},null,{"$f":"TEXT(Y576,\"ddd\")","v":"di"},"ND",{"$f":"IFERROR(HLOOKUP(Y576,[1]DATA!$A$1:$NB$5,5,0),\"\")","v":"D2"},null,null,null,null,{"$f":"VLOOKUP(Y576,[1]SRM!$S$4:$Z$368,4,0)","v":7},"","",0]
["28woDD",{"$f":"VLOOKUP($AA579,DATA!$B$3:$E579,2,0)","v":"06:30:00"},{"$f":"VLOOKUP($AA579,DATA!$B$3:$E579,3,0)","v":"14:30:00"},{"$f":"VLOOKUP($AA579,DATA!$B$3:$E579,4,0)","v":3.125E-2},0.30208333333333331,0.30208333333333331,{"$f":"DATA!$C$9","v":0.89},{"$f":"DATA!$C$10","v":64},1,407.8125,407.8125,0,"","",0,"","",0,"","","","",null,{"$f":"X583","v":28},"2018-07-11",{"$f":"TEXT(Y579,\"ddd\")","v":"wo"},"DD",{"$f":"IFERROR(HLOOKUP(Y579,[1]DATA!$A$1:$NB$5,3,0),\"\")","v":"D1"},null,null,null,null,{"$f":"VLOOKUP(Y579,[1]SRM!$S$4:$Z$368,2,0)","v":24},"","",0]
["28woMD",{"$f":"VLOOKUP($AA580,DATA!$B$3:$E580,2,0)","v":"14:30:00"},{"$f":"VLOOKUP($AA580,DATA!$B$3:$E580,3,0)","v":"22:30:00"},{"$f":"VLOOKUP($AA580,DATA!$B$3:$E580,4,0)","v":3.125E-2},0.30208333333333337,0.30208333333333337,{"$f":"DATA!$C$9","v":0.89},{"$f":"DATA!$C$10","v":64},1,407.81250000000006,407.81250000000006,0,"","",0,"","",0,"","","","",null,{"$f":"X583","v":28},null,{"$f":"TEXT(Y579,\"ddd\")","v":"wo"},"MD",{"$f":"IFERROR(HLOOKUP(Y579,[1]DATA!$A$1:$NB$5,4,0),\"\")","v":"D3"},null,null,null,null,{"$f":"VLOOKUP(Y579,[1]SRM!$S$4:$Z$368,3,0)","v":39},"","",0]
["28woND",{"$f":"VLOOKUP($AA581,DATA!$B$3:$E581,2,0)","v":"22:30:00"},{"$f":"VLOOKUP($AA581,DATA!$B$3:$E581,3,0)","v":"06:30:00"},{"$f":"VLOOKUP($AA581,DATA!$B$3:$E581,4,0)","v":3.125E-2},0.30208333333333326,0.30208333333333326,{"$f":"DATA!$C$9","v":0.89},{"$f":"DATA!$C$10","v":64},1,407.81249999999989,407.81249999999989,0,"","",0,"","",0,"","","","",null,{"$f":"X583","v":28},null,{"$f":"TEXT(Y579,\"ddd\")","v":"wo"},"ND",{"$f":"IFERROR(HLOOKUP(Y579,[1]DATA!$A$1:$NB$5,5,0),\"\")","v":"D2"},null,null,null,null,{"$f":"VLOOKUP(Y579,[1]SRM!$S$4:$Z$368,4,0)","v":4},"","",0]
["28doDD",{"$f":"VLOOKUP($AA582,DATA!$B$3:$E582,2,0)","v":"06:30:00"},{"$f":"VLOOKUP($AA582,DATA!$B$3:$E582,3,0)","v":"14:30:00"},{"$f":"VLOOKUP($AA582,DATA!$B$3:$E582,4,0)","v":3.125E-2},0.30208333333333331,0.30208333333333331,{"$f":"DATA!$C$9","v":0.89},{"$f":"DATA!$C$10","v":64},1,{"$f":"F582*86400/H582*I582","v":407.8125},{"$f":"E582*86400/H582","v":407.8125},0,"","",0,"","",{"$f":"AF582*AG$2","v":0},{"$f":"IF(AF582-AE582=0,\"\",AF582-AE582)","v":""},"","","",null,{"$f":"X583","v":28},"2018-07-12",{"$f":"TEXT(Y582,\"ddd\")","v":"do"},"DD",{"$f":"IFERROR(HLOOKUP(Y582,[1]DATA!$A$1:$NB$5,3,0),\"\")","v":"D1"},null,null,null,null,{"$f":"VLOOKUP(Y582,[1]SRM!$S$4:$Z$368,2,0)","v":5},{"$f":"IFERROR(S582-J582,\"\")","v":""},{"$f":"IFERROR(IF(S582/(E582*86400/H582)<=0,\"\",S582/(E582*86400/H582)),\"\")","v":""},0]
["28doMD",{"$f":"VLOOKUP($AA583,DATA!$B$3:$E583,2,0)","v":"14:30:00"},{"$f":"VLOOKUP($AA583,DATA!$B$3:$E583,3,0)","v":"22:30:00"},{"$f":"VLOOKUP($AA583,DATA!$B$3:$E583,4,0)","v":3.125E-2},0.30208333333333337,0.30208333333333337,{"$f":"DATA!$C$9","v":0.89},{"$f":"DATA!$C$10","v":64},1,407.81250000000006,407.81250000000006,{"$f":"TIME(INT($AC583/60),INT(MOD($AC583,60)/1),0)","v":0},{"$f":"IF($L583*86400/$H583=0,\"\",$L583*86400/$H583)","v":""},{"$f":"IFERROR($M583/$K583,\"\")","v":""},0,"",{"$f":"IFERROR($P583/$K583,\"\")","v":""},0,"",{"$f":"IF(IF($AB583=\"D1\",$S583,\"\")=0,\"\",IF($AB583=\"D1\",$S583,\"\"))","v":""},{"$f":"IF(IF($AB583=\"D2\",$S583,\"\")=0,\"\",IF($AB583=\"D2\",$S583,\"\"))","v":""},{"$f":"IF(IF($AB583=\"D3\",$S583,\"\")=0,\"\",IF($AB583=\"D3\",$S583,\"\"))","v":""},null,{"$f":"WEEKNUM($Y573)","v":28},null,{"$f":"TEXT(Y582,\"ddd\")","v":"do"},"MD",{"$f":"IFERROR(HLOOKUP(Y582,[1]DATA!$A$1:$NB$5,4,0),\"\")","v":"D3"},null,null,null,null,{"$f":"VLOOKUP(Y582,[1]SRM!$S$4:$Z$368,3,0)","v":5},"","",0]
["28doND",{"$f":"VLOOKUP($AA584,DATA!$B$3:$E584,2,0)","v":"22:30:00"},{"$f":"VLOOKUP($AA584,DATA!$B$3:$E584,3,0)","v":"06:30:00"},{"$f":"VLOOKUP($AA584,DATA!$B$3:$E584,4,0)","v":3.125E-2},0.30208333333333326,0.30208333333333326,{"$f":"DATA!$C$9","v":0.89},{"$f":"DATA!$C$10","v":64},1,407.81249999999989,407.81249999999989,0,"","",0,"","",0,"","","","",null,{"$f":"X583","v":28},null,{"$f":"TEXT(Y582,\"ddd\")","v":"do"},"ND",{"$f":"IFERROR(HLOOKUP(Y582,[1]DATA!$A$1:$NB$5,5,0),\"\")","v":"D2"},null,null,null,null,{"$f":"VLOOKUP(Y582,[1]SRM!$S$4:$Z$368,4,0)","v":0},"","",""]
["28vrDD",{"$f":"VLOOKUP($AA585,DATA!$B$3:$E585,2,0)","v":"06:30:00"},{"$f":"VLOOKUP($AA585,DATA!$B$3:$E585,3,0)","v":"14:30:00"},{"$f":"VLOOKUP($AA585,DATA!$B$3:$E585,4,0)","v":3.125E-2},0.30208333333333331,0.30208333333333331,{"$f":"DATA!$C$9","v":0.89},{"$f":"DATA!$C$10","v":64},1,407.8125,407.8125,0,"","",0,"","",0,"","","","",null,{"$f":"X583","v":28},"2018-07-13",{"$f":"TEXT(Y585,\"ddd\")","v":"vr"},"DD",{"$f":"IFERROR(HLOOKUP(Y585,[1]DATA!$A$1:$NB$5,3,0),\"\")","v":"D1"},null,null,null,null,{"$f":"VLOOKUP(Y585,[1]SRM!$S$4:$Z$368,2,0)","v":0},"","",""]
["28vrMD",{"$f":"VLOOKUP($AA586,DATA!$B$3:$E586,2,0)","v":"14:30:00"},{"$f":"VLOOKUP($AA586,DATA!$B$3:$E586,3,0)","v":"22:30:00"},{"$f":"VLOOKUP($AA586,DATA!$B$3:$E586,4,0)","v":3.125E-2},0.30208333333333337,0.30208333333333337,{"$f":"DATA!$C$9","v":0.89},{"$f":"DATA!$C$10","v":64},1,407.81250000000006,407.81250000000006,0,"","",0,"","",0,"","","","",null,{"$f":"X583","v":28},null,{"$f":"TEXT(Y585,\"ddd\")","v":"vr"},"MD",{"$f":"IFERROR(HLOOKUP(Y585,[1]DATA!$A$1:$NB$5,4,0),\"\")","v":"D3"},null,null,null,null,{"$f":"VLOOKUP(Y585,[1]SRM!$S$4:$Z$368,3,0)","v":0},"","",""]
["28vrND",{"$f":"VLOOKUP($AA587,DATA!$B$3:$E587,2,0)","v":"22:30:00"},{"$f":"VLOOKUP($AA587,DATA!$B$3:$E587,3,0)","v":"06:30:00"},{"$f":"VLOOKUP($AA587,DATA!$B$3:$E587,4,0)","v":3.125E-2},0.30208333333333326,0.30208333333333326,{"$f":"DATA!$C$9","v":0.89},{"$f":"DATA!$C$10","v":64},1,407.81249999999989,407.81249999999989,0,"","",0,"","",0,"","","","",null,{"$f":"X583","v":28},null,{"$f":"TEXT(Y585,\"ddd\")","v":"vr"},"ND",{"$f":"IFERROR(HLOOKUP(Y585,[1]DATA!$A$1:$NB$5,5,0),\"\")","v":"D2"},null,null,null,null,{"$f":"VLOOKUP(Y585,[1]SRM!$S$4:$Z$368,4,0)","v":0},"","",""]
["28zaDD",{"$f":"VLOOKUP($AA588,DATA!$B$3:$E588,2,0)","v":"06:30:00"},{"$f":"VLOOKUP($AA588,DATA!$B$3:$E588,3,0)","v":"14:30:00"},{"$f":"VLOOKUP($AA588,DATA!$B$3:$E588,4,0)","v":3.125E-2},0.30208333333333331,0.30208333333333331,{"$f":"DATA!$C$9","v":0.89},{"$f":"DATA!$C$10","v":64},1,407.8125,407.8125,0,"","",0,"","",0,"","","","",null,{"$f":"X583","v":28},"2018-07-14",{"$f":"TEXT(Y588,\"ddd\")","v":"za"},"DD",{"$f":"IFERROR(HLOOKUP(Y588,[1]DATA!$A$1:$NB$5,3,0),\"\")","v":"D1"},null,null,null,null,{"$f":"VLOOKUP(Y588,[1]SRM!$S$4:$Z$368,2,0)","v":0},"","",""]
["28zaMD",{"$f":"VLOOKUP($AA589,DATA!$B$3:$E589,2,0)","v":"14:30:00"},{"$f":"VLOOKUP($AA589,DATA!$B$3:$E589,3,0)","v":"22:30:00"},{"$f":"VLOOKUP($AA589,DATA!$B$3:$E589,4,0)","v":3.125E-2},0.30208333333333337,0.30208333333333337,{"$f":"DATA!$C$9","v":0.89},{"$f":"DATA!$C$10","v":64},1,407.81250000000006,407.81250000000006,0,"","",0,"","",0,"","","","",null,{"$f":"X583","v":28},null,{"$f":"TEXT(Y588,\"ddd\")","v":"za"},"MD",{"$f":"IFERROR(HLOOKUP(Y588,[1]DATA!$A$1:$NB$5,4,0),\"\")","v":"-"},null,null,null,null,{"$f":"VLOOKUP(Y588,[1]SRM!$S$4:$Z$368,3,0)","v":0},"","",""]
["28zaND",{"$f":"VLOOKUP($AA590,DATA!$B$3:$E590,2,0)","v":"22:30:00"},{"$f":"VLOOKUP($AA590,DATA!$B$3:$E590,3,0)","v":"06:30:00"},{"$f":"VLOOKUP($AA590,DATA!$B$3:$E590,4,0)","v":3.125E-2},0.30208333333333326,0.30208333333333326,{"$f":"DATA!$C$9","v":0.89},{"$f":"DATA!$C$10","v":64},1,407.81249999999989,407.81249999999989,0,"","",0,"","",0,"","","","",null,{"$f":"X583","v":28},null,{"$f":"TEXT(Y588,\"ddd\")","v":"za"},"ND",{"$f":"IFERROR(HLOOKUP(Y588,[1]DATA!$A$1:$NB$5,5,0),\"\")","v":"-"},null,null,null,null,{"$f":"VLOOKUP(Y588,[1]SRM!$S$4:$Z$368,4,0)","v":0},"","",""]
["28zoDD",{"$f":"VLOOKUP($AA591,DATA!$B$3:$E591,2,0)","v":"06:30:00"},{"$f":"VLOOKUP($AA591,DATA!$B$3:$E591,3,0)","v":"14:30:00"},{"$f":"VLOOKUP($AA591,DATA!$B$3:$E591,4,0)","v":3.125E-2},0.30208333333333331,0.30208333333333331,{"$f":"DATA!$C$9","v":0.89},{"$f":"DATA!$C$10","v":64},1,407.8125,407.8125,0,"","",0,"","",0,"","","","",null,{"$f":"X583","v":28},"2018-07-15",{"$f":"TEXT(Y591,\"ddd\")","v":"zo"},"DD",{"$f":"IFERROR(HLOOKUP(Y591,[1]DATA!$A$1:$NB$5,3,0),\"\")","v":"-"},null,null,null,null,{"$f":"VLOOKUP(Y591,[1]SRM!$S$4:$Z$368,2,0)","v":0},"","",""]
["28zoMD",{"$f":"VLOOKUP($AA592,DATA!$B$3:$E592,2,0)","v":"14:30:00"},{"$f":"VLOOKUP($AA592,DATA!$B$3:$E592,3,0)","v":"22:30:00"},{"$f":"VLOOKUP($AA592,DATA!$B$3:$E592,4,0)","v":3.125E-2},0.30208333333333337,0.30208333333333337,{"$f":"DATA!$C$9","v":0.89},{"$f":"DATA!$C$10","v":64},1,407.81250000000006,407.81250000000006,0,"","",0,"","",0,"","","","",null,{"$f":"X583","v":28},null,{"$f":"TEXT(Y591,\"ddd\")","v":"zo"},"MD",{"$f":"IFERROR(HLOOKUP(Y591,[1]DATA!$A$1:$NB$5,4,0),\"\")","v":"-"},null,null,null,null,{"$f":"VLOOKUP(Y591,[1]SRM!$S$4:$Z$368,3,0)","v":0},"","",""]
["28zoZND",{"$f":"VLOOKUP($AA593,DATA!$B$3:$E593,2,0)","v":"00:00:00"},{"$f":"VLOOKUP($AA593,DATA!$B$3:$E593,3,0)","v":"00:00:00"},{"$f":"VLOOKUP($AA593,DATA!$B$3:$E593,4,0)","v":0},0,0,{"$f":"DATA!$C$9","v":0.89},{"$f":"DATA!$C$10","v":64},1,0,0,0,"","",0,"","",0,"","","","",null,{"$f":"X583","v":28},null,{"$f":"TEXT(Y591,\"ddd\")","v":"zo"},"ZND",{"$f":"IFERROR(HLOOKUP(Y591,[1]DATA!$A$1:$NB$5,5,0),\"\")","v":"-"},null,null,null,null,{"$f":"VLOOKUP(Y591,[1]SRM!$S$4:$Z$368,4,0)","v":0},"","",""]
["29maDD",{"$f":"VLOOKUP($AA594,DATA!$B$3:$E594,2,0)","v":"06:30:00"},{"$f":"VLOOKUP($AA594,DATA!$B$3:$E594,3,0)","v":"14:30:00"},{"$f":"VLOOKUP($AA594,DATA!$B$3:$E594,4,0)","v":3.125E-2},0.30208333333333331,0.30208333333333331,{"$f":"DATA!$C$9","v":0.89},{"$f":"DATA!$C$10","v":64},1,407.8125,407.8125,0,"","",{"$f":"TIME(INT($AD594/60),INT(MOD($AD594,60)/1),0)","v":0},"","",0,"","","","",null,{"$f":"X604","v":29},"2018-07-16",{"$f":"TEXT(Y594,\"ddd\")","v":"ma"},"DD",{"$f":"IFERROR(HLOOKUP(Y594,[1]DATA!$A$1:$NB$5,3,0),\"\")","v":"D3"},null,null,null,null,{"$f":"VLOOKUP(Y594,[1]SRM!$S$4:$Z$368,2,0)","v":69},"","",0,{"$f":"IF(SUMIF(S594:S614,\">0\",K594:K614)=0,\"\",SUMIF(S594:S614,\">0\",K594:K614))","v":""},{"$f":"IF(SUM(S594:S614)=0,\"\",SUM(S594:S614))","v":""},{"$f":"IFERROR(AL594/AK594,\"-\")","v":"-"},{"$f":"IF(SUM(M594:M614)=0,\"0\",SUM(M594:M614))","v":"0"},{"$f":"IFERROR(AN594/AK594,\"-\")","v":"-"},{"$f":"IF(SUM(P594:P614)=0,0,SUM(P594:P614))","v":0},{"$f":"IFERROR(AP594/AK594,\"-\")","v":"-"},{"$f":"IFERROR(AVERAGE(AJ594:AJ614),\"-\")","v":0},{"$f":"IFERROR(SUMIF($AB594:$AB614,AS$5,$AJ594:$AJ614)/COUNTIFS($AB594:$AB614,AS$5,$AJ594:$AJ614,\">0\"),\"\")","v":""},"","",{"$f":"IFERROR((AK594-AL594-AN594-AP594),\"-\")","v":"-"},{"$f":"IFERROR((1-AM594-AO594-AQ594), \"-\")","v":"-"},{"$f":"IFERROR((AV594*$AE$2)/60,\"-\")","v":"-"},{"$f":"IFERROR(SUM(AG594:AG614),\"\")","v":271}]
["29maMD",{"$f":"VLOOKUP($AA595,DATA!$B$3:$E595,2,0)","v":"14:30:00"},{"$f":"VLOOKUP($AA595,DATA!$B$3:$E595,3,0)","v":"22:30:00"},{"$f":"VLOOKUP($AA595,DATA!$B$3:$E595,4,0)","v":3.125E-2},0.30208333333333337,0.30208333333333337,{"$f":"DATA!$C$9","v":0.89},{"$f":"DATA!$C$10","v":64},1,407.81250000000006,407.81250000000006,0,"","",{"$f":"TIME(INT(AD595/60),INT(MOD(AD595,60)/1),0)","v":0},"","",0,"","","","",null,{"$f":"X604","v":29},null,{"$f":"TEXT(Y594,\"ddd\")","v":"ma"},"MD",{"$f":"IFERROR(HLOOKUP(Y594,[1]DATA!$A$1:$NB$5,4,0),\"\")","v":"D2"},null,null,null,null,{"$f":"VLOOKUP(Y594,[1]SRM!$S$4:$Z$368,3,0)","v":17},"","",0]
["29maND",{"$f":"VLOOKUP($AA596,DATA!$B$3:$E596,2,0)","v":"22:30:00"},{"$f":"VLOOKUP($AA596,DATA!$B$3:$E596,3,0)","v":"06:30:00"},{"$f":"VLOOKUP($AA596,DATA!$B$3:$E596,4,0)","v":3.125E-2},0.30208333333333326,0.30208333333333326,{"$f":"DATA!$C$9","v":0.89},{"$f":"DATA!$C$10","v":64},1,407.81249999999989,407.81249999999989,0,"","",0,"","",0,"","","","",null,{"$f":"X604","v":29},null,{"$f":"TEXT(Y594,\"ddd\")","v":"ma"},"ND",{"$f":"IFERROR(HLOOKUP(Y594,[1]DATA!$A$1:$NB$5,5,0),\"\")","v":"D1"},null,null,null,null,{"$f":"VLOOKUP(Y594,[1]SRM!$S$4:$Z$368,4,0)","v":2},"","",0]
["29diDD",{"$f":"VLOOKUP($AA597,DATA!$B$3:$E597,2,0)","v":"06:30:00"},{"$f":"VLOOKUP($AA597,DATA!$B$3:$E597,3,0)","v":"14:30:00"},{"$f":"VLOOKUP($AA597,DATA!$B$3:$E597,4,0)","v":3.125E-2},0.30208333333333331,0.30208333333333331,{"$f":"DATA!$C$9","v":0.89},{"$f":"DATA!$C$10","v":64},1,407.8125,407.8125,0,"","",0,"","",0,"","","","",null,{"$f":"X604","v":29},"2018-07-17",{"$f":"TEXT(Y597,\"ddd\")","v":"di"},"DD",{"$f":"IFERROR(HLOOKUP(Y597,[1]DATA!$A$1:$NB$5,3,0),\"\")","v":"D3"},null,null,null,null,{"$f":"VLOOKUP(Y597,[1]SRM!$S$4:$Z$368,2,0)","v":6},"","",0]
["29diMD",{"$f":"VLOOKUP($AA598,DATA!$B$3:$E598,2,0)","v":"14:30:00"},{"$f":"VLOOKUP($AA598,DATA!$B$3:$E598,3,0)","v":"22:30:00"},{"$f":"VLOOKUP($AA598,DATA!$B$3:$E598,4,0)","v":3.125E-2},0.30208333333333337,0.30208333333333337,{"$f":"DATA!$C$9","v":0.89},{"$f":"DATA!$C$10","v":64},1,407.81250000000006,407.81250000000006,0,"","",0,"","",0,"","","","",null,{"$f":"X604","v":29},null,{"$f":"TEXT(Y597,\"ddd\")","v":"di"},"MD",{"$f":"IFERROR(HLOOKUP(Y597,[1]DATA!$A$1:$NB$5,4,0),\"\")","v":"D2"},null,null,null,null,{"$f":"VLOOKUP(Y597,[1]SRM!$S$4:$Z$368,3,0)","v":108},"","",0]
["29diND",{"$f":"VLOOKUP($AA599,DATA!$B$3:$E599,2,0)","v":"22:30:00"},{"$f":"VLOOKUP($AA599,DATA!$B$3:$E599,3,0)","v":"06:30:00"},{"$f":"VLOOKUP($AA599,DATA!$B$3:$E599,4,0)","v":3.125E-2},0.30208333333333326,0.30208333333333326,{"$f":"DATA!$C$9","v":0.89},{"$f":"DATA!$C$10","v":64},1,407.81249999999989,407.81249999999989,0,"","",0,"","",0,"","","","",null,{"$f":"X604","v":29},null,{"$f":"TEXT(Y597,\"ddd\")","v":"di"},"ND",{"$f":"IFERROR(HLOOKUP(Y597,[1]DATA!$A$1:$NB$5,5,0),\"\")","v":"D1"},null,null,null,null,{"$f":"VLOOKUP(Y597,[1]SRM!$S$4:$Z$368,4,0)","v":4},"","",0]
["29woDD",{"$f":"VLOOKUP($AA600,DATA!$B$3:$E600,2,0)","v":"06:30:00"},{"$f":"VLOOKUP($AA600,DATA!$B$3:$E600,3,0)","v":"14:30:00"},{"$f":"VLOOKUP($AA600,DATA!$B$3:$E600,4,0)","v":3.125E-2},0.30208333333333331,0.30208333333333331,{"$f":"DATA!$C$9","v":0.89},{"$f":"DATA!$C$10","v":64},1,407.8125,407.8125,0,"","",0,"","",0,"","","","",null,{"$f":"X604","v":29},"2018-07-18",{"$f":"TEXT(Y600,\"ddd\")","v":"wo"},"DD",{"$f":"IFERROR(HLOOKUP(Y600,[1]DATA!$A$1:$NB$5,3,0),\"\")","v":"D3"},null,null,null,null,{"$f":"VLOOKUP(Y600,[1]SRM!$S$4:$Z$368,2,0)","v":50},"","",0]
["29woMD",{"$f":"VLOOKUP($AA601,DATA!$B$3:$E601,2,0)","v":"14:30:00"},{"$f":"VLOOKUP($AA601,DATA!$B$3:$E601,3,0)","v":"22:30:00"},{"$f":"VLOOKUP($AA601,DATA!$B$3:$E601,4,0)","v":3.125E-2},0.30208333333333337,0.30208333333333337,{"$f":"DATA!$C$9","v":0.89},{"$f":"DATA!$C$10","v":64},1,407.81250000000006,407.81250000000006,0,"","",0,"","",0,"","","","",null,{"$f":"X604","v":29},null,{"$f":"TEXT(Y600,\"ddd\")","v":"wo"},"MD",{"$f":"IFERROR(HLOOKUP(Y600,[1]DATA!$A$1:$NB$5,4,0),\"\")","v":"D2"},null,null,null,null,{"$f":"VLOOKUP(Y600,[1]SRM!$S$4:$Z$368,3,0)","v":15},"","",0]
["29woND",{"$f":"VLOOKUP($AA602,DATA!$B$3:$E602,2,0)","v":"22:30:00"},{"$f":"VLOOKUP($AA602,DATA!$B$3:$E602,3,0)","v":"06:30:00"},{"$f":"VLOOKUP($AA602,DATA!$B$3:$E602,4,0)","v":3.125E-2},0.30208333333333326,0.30208333333333326,{"$f":"DATA!$C$9","v":0.89},{"$f":"DATA!$C$10","v":64},1,407.81249999999989,407.81249999999989,0,"","",0,"","",0,"","","","",null,{"$f":"X604","v":29},null,{"$f":"TEXT(Y600,\"ddd\")","v":"wo"},"ND",{"$f":"IFERROR(HLOOKUP(Y600,[1]DATA!$A$1:$NB$5,5,0),\"\")","v":"D1"},null,null,null,null,{"$f":"VLOOKUP(Y600,[1]SRM!$S$4:$Z$368,4,0)","v":0},"","",""]
["29doDD",{"$f":"VLOOKUP($AA603,DATA!$B$3:$E603,2,0)","v":"06:30:00"},{"$f":"VLOOKUP($AA603,DATA!$B$3:$E603,3,0)","v":"14:30:00"},{"$f":"VLOOKUP($AA603,DATA!$B$3:$E603,4,0)","v":3.125E-2},0.30208333333333331,0.30208333333333331,{"$f":"DATA!$C$9","v":0.89},{"$f":"DATA!$C$10","v":64},1,407.8125,407.8125,0,"","",0,"","",0,"","","","",null,{"$f":"X604","v":29},"2018-07-19",{"$f":"TEXT(Y603,\"ddd\")","v":"do"},"DD",{"$f":"IFERROR(HLOOKUP(Y603,[1]DATA!$A$1:$NB$5,3,0),\"\")","v":"D3"},null,null,null,null,{"$f":"VLOOKUP(Y603,[1]SRM!$S$4:$Z$368,2,0)","v":0},"","",{"$f":"IFERROR(R603/(R603+AG603),\"\")","v":""}]
["29doMD",{"$f":"VLOOKUP($AA604,DATA!$B$3:$E604,2,0)","v":"14:30:00"},{"$f":"VLOOKUP($AA604,DATA!$B$3:$E604,3,0)","v":"22:30:00"},{"$f":"VLOOKUP($AA604,DATA!$B$3:$E604,4,0)","v":3.125E-2},{"$f":"(C604-B604+(B604>C604))-D604","v":0.30208333333333337},{"$f":"E604-O604-L604","v":0.30208333333333337},{"$f":"DATA!$C$9","v":0.89},{"$f":"DATA!$C$10","v":64},1,407.81250000000006,407.81250000000006,0,"","",0,"","",0,"","","","",null,{"$f":"WEEKNUM($Y594)","v":29},null,{"$f":"TEXT(Y603,\"ddd\")","v":"do"},"MD",{"$f":"IFERROR(HLOOKUP(Y603,[1]DATA!$A$1:$NB$5,4,0),\"\")","v":"D2"},null,null,null,null,{"$f":"VLOOKUP(Y603,[1]SRM!$S$4:$Z$368,3,0)","v":0},"","",""]
["29doND",{"$f":"VLOOKUP($AA605,DATA!$B$3:$E605,2,0)","v":"22:30:00"},{"$f":"VLOOKUP($AA605,DATA!$B$3:$E605,3,0)","v":"06:30:00"},{"$f":"VLOOKUP($AA605,DATA!$B$3:$E605,4,0)","v":3.125E-2},0.30208333333333326,0.30208333333333326,{"$f":"DATA!$C$9","v":0.89},{"$f":"DATA!$C$10","v":64},1,407.81249999999989,407.81249999999989,0,"","",0,"","",0,"","","","",null,{"$f":"X604","v":29},null,{"$f":"TEXT(Y603,\"ddd\")","v":"do"},"ND",{"$f":"IFERROR(HLOOKUP(Y603,[1]DATA!$A$1:$NB$5,5,0),\"\")","v":"D1"},null,null,null,null,{"$f":"VLOOKUP(Y603,[1]SRM!$S$4:$Z$368,4,0)","v":0},"","",""]
["29vrDD",{"$f":"VLOOKUP($AA606,DATA!$B$3:$E606,2,0)","v":"06:30:00"},{"$f":"VLOOKUP($AA606,DATA!$B$3:$E606,3,0)","v":"14:30:00"},{"$f":"VLOOKUP($AA606,DATA!$B$3:$E606,4,0)","v":3.125E-2},0.30208333333333331,0.30208333333333331,{"$f":"DATA!$C$9","v":0.89},{"$f":"DATA!$C$10","v":64},1,407.8125,407.8125,0,"","",0,"","",0,"","","","",null,{"$f":"X604","v":29},"2018-07-20",{"$f":"TEXT(Y606,\"ddd\")","v":"vr"},"DD",{"$f":"IFERROR(HLOOKUP(Y606,[1]DATA!$A$1:$NB$5,3,0),\"\")","v":"D3"},null,null,null,null,{"$f":"VLOOKUP(Y606,[1]SRM!$S$4:$Z$368,2,0)","v":0},"","",""]
["29vrMD",{"$f":"VLOOKUP($AA607,DATA!$B$3:$E607,2,0)","v":"14:30:00"},{"$f":"VLOOKUP($AA607,DATA!$B$3:$E607,3,0)","v":"22:30:00"},{"$f":"VLOOKUP($AA607,DATA!$B$3:$E607,4,0)","v":3.125E-2},0.30208333333333337,0.30208333333333337,{"$f":"DATA!$C$9","v":0.89},{"$f":"DATA!$C$10","v":64},1,407.81250000000006,407.81250000000006,0,"","",0,"","",0,"","","","",null,{"$f":"X604","v":29},null,{"$f":"TEXT(Y606,\"ddd\")","v":"vr"},"MD",{"$f":"IFERROR(HLOOKUP(Y606,[1]DATA!$A$1:$NB$5,4,0),\"\")","v":"D2"},null,null,null,null,{"$f":"VLOOKUP(Y606,[1]SRM!$S$4:$Z$368,3,0)","v":0},"","",""]
["29vrND",{"$f":"VLOOKUP($AA608,DATA!$B$3:$E608,2,0)","v":"22:30:00"},{"$f":"VLOOKUP($AA608,DATA!$B$3:$E608,3,0)","v":"06:30:00"},{"$f":"VLOOKUP($AA608,DATA!$B$3:$E608,4,0)","v":3.125E-2},0.30208333333333326,0.30208333333333326,{"$f":"DATA!$C$9","v":0.89},{"$f":"DATA!$C$10","v":64},1,407.81249999999989,407.81249999999989,0,"","",0,"","",0,"","","","",null,{"$f":"X604","v":29},null,{"$f":"TEXT(Y606,\"ddd\")","v":"vr"},"ND",{"$f":"IFERROR(HLOOKUP(Y606,[1]DATA!$A$1:$NB$5,5,0),\"\")","v":"D2"},null,null,null,null,{"$f":"VLOOKUP(Y606,[1]SRM!$S$4:$Z$368,4,0)","v":0},"","",""]
["29zaDD",{"$f":"VLOOKUP($AA609,DATA!$B$3:$E609,2,0)","v":"06:30:00"},{"$f":"VLOOKUP($AA609,DATA!$B$3:$E609,3,0)","v":"14:30:00"},{"$f":"VLOOKUP($AA609,DATA!$B$3:$E609,4,0)","v":3.125E-2},0.30208333333333331,0.30208333333333331,{"$f":"DATA!$C$9","v":0.89},{"$f":"DATA!$C$10","v":64},1,407.8125,407.8125,0,"","",0,"","",0,"","","","",null,{"$f":"X604","v":29},"2018-07-21",{"$f":"TEXT(Y609,\"ddd\")","v":"za"},"DD",{"$f":"IFERROR(HLOOKUP(Y609,[1]DATA!$A$1:$NB$5,3,0),\"\")","v":"D3"},null,null,null,null,{"$f":"VLOOKUP(Y609,[1]SRM!$S$4:$Z$368,2,0)","v":0},"","",""]
["29zaMD",{"$f":"VLOOKUP($AA610,DATA!$B$3:$E610,2,0)","v":"14:30:00"},{"$f":"VLOOKUP($AA610,DATA!$B$3:$E610,3,0)","v":"22:30:00"},{"$f":"VLOOKUP($AA610,DATA!$B$3:$E610,4,0)","v":3.125E-2},0.30208333333333337,0.30208333333333337,{"$f":"DATA!$C$9","v":0.89},{"$f":"DATA!$C$10","v":64},1,407.81250000000006,407.81250000000006,0,"","",0,"","",0,"","","","",null,{"$f":"X604","v":29},null,{"$f":"TEXT(Y609,\"ddd\")","v":"za"},"MD",{"$f":"IFERROR(HLOOKUP(Y609,[1]DATA!$A$1:$NB$5,4,0),\"\")","v":"-"},null,null,null,null,{"$f":"VLOOKUP(Y609,[1]SRM!$S$4:$Z$368,3,0)","v":0},"","",""]
["29zaND",{"$f":"VLOOKUP($AA611,DATA!$B$3:$E611,2,0)","v":"22:30:00"},{"$f":"VLOOKUP($AA611,DATA!$B$3:$E611,3,0)","v":"06:30:00"},{"$f":"VLOOKUP($AA611,DATA!$B$3:$E611,4,0)","v":3.125E-2},0.30208333333333326,0.30208333333333326,{"$f":"DATA!$C$9","v":0.89},{"$f":"DATA!$C$10","v":64},1,407.81249999999989,407.81249999999989,0,"","",0,"","",0,"","","","",null,{"$f":"X604","v":29},null,{"$f":"TEXT(Y609,\"ddd\")","v":"za"},"ND",{"$f":"IFERROR(HLOOKUP(Y609,[1]DATA!$A$1:$NB$5,5,0),\"\")","v":"-"},null,null,null,null,{"$f":"VLOOKUP(Y609,[1]SRM!$S$4:$Z$368,4,0)","v":0},"","",""]
["29zoDD",{"$f":"VLOOKUP($AA612,DATA!$B$3:$E612,2,0)","v":"06:30:00"},{"$f":"VLOOKUP($AA612,DATA!$B$3:$E612,3,0)","v":"14:30:00"},{"$f":"VLOOKUP($AA612,DATA!$B$3:$E612,4,0)","v":3.125E-2},0.30208333333333331,0.30208333333333331,{"$f":"DATA!$C$9","v":0.89},{"$f":"DATA!$C$10","v":64},1,407.8125,407.8125,0,"","",0,"","",0,"","","","",null,{"$f":"X604","v":29},"2018-07-22",{"$f":"TEXT(Y612,\"ddd\")","v":"zo"},"DD",{"$f":"IFERROR(HLOOKUP(Y612,[1]DATA!$A$1:$NB$5,3,0),\"\")","v":"-"},null,null,null,null,{"$f":"VLOOKUP(Y612,[1]SRM!$S$4:$Z$368,2,0)","v":0},"","",""]
["29zoMD",{"$f":"VLOOKUP($AA613,DATA!$B$3:$E613,2,0)","v":"14:30:00"},{"$f":"VLOOKUP($AA613,DATA!$B$3:$E613,3,0)","v":"22:30:00"},{"$f":"VLOOKUP($AA613,DATA!$B$3:$E613,4,0)","v":3.125E-2},0.30208333333333337,0.30208333333333337,{"$f":"DATA!$C$9","v":0.89},{"$f":"DATA!$C$10","v":64},1,407.81250000000006,407.81250000000006,0,"","",0,"","",0,"","","","",null,{"$f":"X604","v":29},null,{"$f":"TEXT(Y612,\"ddd\")","v":"zo"},"MD",{"$f":"IFERROR(HLOOKUP(Y612,[1]DATA!$A$1:$NB$5,4,0),\"\")","v":"-"},null,null,null,null,{"$f":"VLOOKUP(Y612,[1]SRM!$S$4:$Z$368,3,0)","v":0},"","",""]
["29zoZND",{"$f":"VLOOKUP($AA614,DATA!$B$3:$E614,2,0)","v":"00:00:00"},{"$f":"VLOOKUP($AA614,DATA!$B$3:$E614,3,0)","v":"00:00:00"},{"$f":"VLOOKUP($AA614,DATA!$B$3:$E614,4,0)","v":0},0,0,{"$f":"DATA!$C$9","v":0.89},{"$f":"DATA!$C$10","v":64},1,0,0,0,"","",0,"","",0,"","","","",null,{"$f":"X604","v":29},null,{"$f":"TEXT(Y612,\"ddd\")","v":"zo"},"ZND",{"$f":"IFERROR(HLOOKUP(Y612,[1]DATA!$A$1:$NB$5,5,0),\"\")","v":"-"},null,null,null,null,{"$f":"VLOOKUP(Y612,[1]SRM!$S$4:$Z$368,4,0)","v":0},"","",""]
["30maDD",{"$f":"VLOOKUP($AA615,DATA!$B$3:$E615,2,0)","v":"06:30:00"},{"$f":"VLOOKUP($AA615,DATA!$B$3:$E615,3,0)","v":"14:30:00"},{"$f":"VLOOKUP($AA615,DATA!$B$3:$E615,4,0)","v":3.125E-2},0.30208333333333331,0.30208333333333331,{"$f":"DATA!$C$9","v":0.89},{"$f":"DATA!$C$10","v":64},1,407.8125,407.8125,0,"","",{"$f":"TIME(INT($AD615/60),INT(MOD($AD615,60)/1),0)","v":0},"","",0,"","","","",null,{"$f":"X625","v":30},"2018-07-23",{"$f":"TEXT(Y615,\"ddd\")","v":"ma"},"DD",{"$f":"IFERROR(HLOOKUP(Y615,[1]DATA!$A$1:$NB$5,3,0),\"\")","v":"D2"},null,null,null,null,{"$f":"VLOOKUP(Y615,[1]SRM!$S$4:$Z$368,2,0)","v":0},"","","",{"$f":"IF(SUMIF(S615:S635,\">0\",K615:K635)=0,\"\",SUMIF(S615:S635,\">0\",K615:K635))","v":""},{"$f":"IF(SUM(S615:S635)=0,\"\",SUM(S615:S635))","v":""},{"$f":"IFERROR(AL615/AK615,\"-\")","v":"-"},{"$f":"IF(SUM(M615:M635)=0,\"0\",SUM(M615:M635))","v":"0"},{"$f":"IFERROR(AN615/AK615,\"-\")","v":"-"},{"$f":"IF(SUM(P615:P635)=0,0,SUM(P615:P635))","v":0},{"$f":"IFERROR(AP615/AK615,\"-\")","v":"-"},{"$f":"IFERROR(AVERAGE(AJ615:AJ635),\"-\")","v":"-"},{"$f":"IFERROR(SUMIF($AB615:$AB635,AS$5,$AJ615:$AJ635)/COUNTIFS($AB615:$AB635,AS$5,$AJ615:$AJ635,\">0\"),\"\")","v":""},"","",{"$f":"IFERROR((AK615-AL615-AN615-AP615),\"-\")","v":"-"},{"$f":"IFERROR((1-AM615-AO615-AQ615), \"-\")","v":"-"},{"$f":"IFERROR((AV615*$AE$2)/60,\"-\")","v":"-"},{"$f":"IFERROR(SUM(AG615:AG635),\"\")","v":0}]
["30maMD",{"$f":"VLOOKUP($AA616,DATA!$B$3:$E616,2,0)","v":"14:30:00"},{"$f":"VLOOKUP($AA616,DATA!$B$3:$E616,3,0)","v":"22:30:00"},{"$f":"VLOOKUP($AA616,DATA!$B$3:$E616,4,0)","v":3.125E-2},0.30208333333333337,0.30208333333333337,{"$f":"DATA!$C$9","v":0.89},{"$f":"DATA!$C$10","v":64},1,407.81250000000006,407.81250000000006,0,"","",{"$f":"TIME(INT(AD616/60),INT(MOD(AD616,60)/1),0)","v":0},"","",0,"","","","",null,{"$f":"X625","v":30},null,{"$f":"TEXT(Y615,\"ddd\")","v":"ma"},"MD",{"$f":"IFERROR(HLOOKUP(Y615,[1]DATA!$A$1:$NB$5,4,0),\"\")","v":"D1"},null,null,null,null,{"$f":"VLOOKUP(Y615,[1]SRM!$S$4:$Z$368,3,0)","v":0},"","",""]
["30maND",{"$f":"VLOOKUP($AA617,DATA!$B$3:$E617,2,0)","v":"22:30:00"},{"$f":"VLOOKUP($AA617,DATA!$B$3:$E617,3,0)","v":"06:30:00"},{"$f":"VLOOKUP($AA617,DATA!$B$3:$E617,4,0)","v":3.125E-2},0.30208333333333326,0.30208333333333326,{"$f":"DATA!$C$9","v":0.89},{"$f":"DATA!$C$10","v":64},1,407.81249999999989,407.81249999999989,0,"","",0,"","",0,"","","","",null,{"$f":"X625","v":30},null,{"$f":"TEXT(Y615,\"ddd\")","v":"ma"},"ND",{"$f":"IFERROR(HLOOKUP(Y615,[1]DATA!$A$1:$NB$5,5,0),\"\")","v":"D3"},null,null,null,null,{"$f":"VLOOKUP(Y615,[1]SRM!$S$4:$Z$368,4,0)","v":0},"","",""]
["30diDD",{"$f":"VLOOKUP($AA618,DATA!$B$3:$E618,2,0)","v":"06:30:00"},{"$f":"VLOOKUP($AA618,DATA!$B$3:$E618,3,0)","v":"14:30:00"},{"$f":"VLOOKUP($AA618,DATA!$B$3:$E618,4,0)","v":3.125E-2},0.30208333333333331,0.30208333333333331,{"$f":"DATA!$C$9","v":0.89},{"$f":"DATA!$C$10","v":64},1,407.8125,407.8125,0,"","",0,"","",0,"","","","",null,{"$f":"X625","v":30},"2018-07-24",{"$f":"TEXT(Y618,\"ddd\")","v":"di"},"DD",{"$f":"IFERROR(HLOOKUP(Y618,[1]DATA!$A$1:$NB$5,3,0),\"\")","v":"D2"},null,null,null,null,{"$f":"VLOOKUP(Y618,[1]SRM!$S$4:$Z$368,2,0)","v":0},"","",""]
["30diMD",{"$f":"VLOOKUP($AA619,DATA!$B$3:$E619,2,0)","v":"14:30:00"},{"$f":"VLOOKUP($AA619,DATA!$B$3:$E619,3,0)","v":"22:30:00"},{"$f":"VLOOKUP($AA619,DATA!$B$3:$E619,4,0)","v":3.125E-2},0.30208333333333337,0.30208333333333337,{"$f":"DATA!$C$9","v":0.89},{"$f":"DATA!$C$10","v":64},1,407.81250000000006,407.81250000000006,0,"","",0,"","",0,"","","","",null,{"$f":"X625","v":30},null,{"$f":"TEXT(Y618,\"ddd\")","v":"di"},"MD",{"$f":"IFERROR(HLOOKUP(Y618,[1]DATA!$A$1:$NB$5,4,0),\"\")","v":"D1"},null,null,null,null,{"$f":"VLOOKUP(Y618,[1]SRM!$S$4:$Z$368,3,0)","v":0},"","",""]
["30diND",{"$f":"VLOOKUP($AA620,DATA!$B$3:$E620,2,0)","v":"22:30:00"},{"$f":"VLOOKUP($AA620,DATA!$B$3:$E620,3,0)","v":"06:30:00"},{"$f":"VLOOKUP($AA620,DATA!$B$3:$E620,4,0)","v":3.125E-2},0.30208333333333326,0.30208333333333326,{"$f":"DATA!$C$9","v":0.89},{"$f":"DATA!$C$10","v":64},1,407.81249999999989,407.81249999999989,0,"","",0,"","",0,"","","","",null,{"$f":"X625","v":30},null,{"$f":"TEXT(Y618,\"ddd\")","v":"di"},"ND",{"$f":"IFERROR(HLOOKUP(Y618,[1]DATA!$A$1:$NB$5,5,0),\"\")","v":"D3"},null,null,null,null,{"$f":"VLOOKUP(Y618,[1]SRM!$S$4:$Z$368,4,0)","v":0},"","",""]
["30woDD",{"$f":"VLOOKUP($AA621,DATA!$B$3:$E621,2,0)","v":"06:30:00"},{"$f":"VLOOKUP($AA621,DATA!$B$3:$E621,3,0)","v":"14:30:00"},{"$f":"VLOOKUP($AA621,DATA!$B$3:$E621,4,0)","v":3.125E-2},0.30208333333333331,0.30208333333333331,{"$f":"DATA!$C$9","v":0.89},{"$f":"DATA!$C$10","v":64},1,407.8125,407.8125,0,"","",0,"","",0,"","","","",null,{"$f":"X625","v":30},"2018-07-25",{"$f":"TEXT(Y621,\"ddd\")","v":"wo"},"DD",{"$f":"IFERROR(HLOOKUP(Y621,[1]DATA!$A$1:$NB$5,3,0),\"\")","v":"D2"},null,null,null,null,{"$f":"VLOOKUP(Y621,[1]SRM!$S$4:$Z$368,2,0)","v":0},"","",""]
["30woMD",{"$f":"VLOOKUP($AA622,DATA!$B$3:$E622,2,0)","v":"14:30:00"},{"$f":"VLOOKUP($AA622,DATA!$B$3:$E622,3,0)","v":"22:30:00"},{"$f":"VLOOKUP($AA622,DATA!$B$3:$E622,4,0)","v":3.125E-2},0.30208333333333337,0.30208333333333337,{"$f":"DATA!$C$9","v":0.89},{"$f":"DATA!$C$10","v":64},1,407.81250000000006,407.81250000000006,0,"","",0,"","",0,"","","","",null,{"$f":"X625","v":30},null,{"$f":"TEXT(Y621,\"ddd\")","v":"wo"},"MD",{"$f":"IFERROR(HLOOKUP(Y621,[1]DATA!$A$1:$NB$5,4,0),\"\")","v":"D1"},null,null,null,null,{"$f":"VLOOKUP(Y621,[1]SRM!$S$4:$Z$368,3,0)","v":0},"","",""]
["30woND",{"$f":"VLOOKUP($AA623,DATA!$B$3:$E623,2,0)","v":"22:30:00"},{"$f":"VLOOKUP($AA623,DATA!$B$3:$E623,3,0)","v":"06:30:00"},{"$f":"VLOOKUP($AA623,DATA!$B$3:$E623,4,0)","v":3.125E-2},0.30208333333333326,0.30208333333333326,{"$f":"DATA!$C$9","v":0.89},{"$f":"DATA!$C$10","v":64},1,407.81249999999989,407.81249999999989,0,"","",0,"","",0,"","","","",null,{"$f":"X625","v":30},null,{"$f":"TEXT(Y621,\"ddd\")","v":"wo"},"ND",{"$f":"IFERROR(HLOOKUP(Y621,[1]DATA!$A$1:$NB$5,5,0),\"\")","v":"D3"},null,null,null,null,{"$f":"VLOOKUP(Y621,[1]SRM!$S$4:$Z$368,4,0)","v":0},"","",""]
[{"$f":"X624&Z624&AA624","v":"30doDD"},{"$f":"VLOOKUP($AA624,DATA!$B$3:$E624,2,0)","v":"06:30:00"},{"$f":"VLOOKUP($AA624,DATA!$B$3:$E624,3,0)","v":"14:30:00"},{"$f":"VLOOKUP($AA624,DATA!$B$3:$E624,4,0)","v":3.125E-2},0.30208333333333331,0.30208333333333331,{"$f":"DATA!$C$9","v":0.89},{"$f":"DATA!$C$10","v":64},1,407.8125,407.8125,0,"","",0,{"$f":"IF($O624*86400/$H624=0,\"\",$O624*86400/$H624)","v":""},"",0,"","","","",null,{"$f":"X625","v":30},"2018-07-26",{"$f":"TEXT(Y624,\"ddd\")","v":"do"},"DD",{"$f":"IFERROR(HLOOKUP(Y624,[1]DATA!$A$1:$NB$5,3,0),\"\")","v":"D2"},null,null,null,null,{"$f":"VLOOKUP(Y624,[1]SRM!$S$4:$Z$368,2,0)","v":0},"","",""]
["30doMD",{"$f":"VLOOKUP($AA625,DATA!$B$3:$E625,2,0)","v":"14:30:00"},{"$f":"VLOOKUP($AA625,DATA!$B$3:$E625,3,0)","v":"22:30:00"},{"$f":"VLOOKUP($AA625,DATA!$B$3:$E625,4,0)","v":3.125E-2},0.30208333333333337,0.30208333333333337,{"$f":"DATA!$C$9","v":0.89},{"$f":"DATA!$C$10","v":64},1,407.81250000000006,407.81250000000006,0,"","",0,"","",0,"","","","",null,{"$f":"WEEKNUM($Y615)","v":30},null,{"$f":"TEXT(Y624,\"ddd\")","v":"do"},"MD",{"$f":"IFERROR(HLOOKUP(Y624,[1]DATA!$A$1:$NB$5,4,0),\"\")","v":"D1"},null,null,null,null,{"$f":"VLOOKUP(Y624,[1]SRM!$S$4:$Z$368,3,0)","v":0},"","",""]
["30doND",{"$f":"VLOOKUP($AA626,DATA!$B$3:$E626,2,0)","v":"22:30:00"},{"$f":"VLOOKUP($AA626,DATA!$B$3:$E626,3,0)","v":"06:30:00"},{"$f":"VLOOKUP($AA626,DATA!$B$3:$E626,4,0)","v":3.125E-2},0.30208333333333326,0.30208333333333326,{"$f":"DATA!$C$9","v":0.89},{"$f":"DATA!$C$10","v":64},1,407.81249999999989,407.81249999999989,0,"","",0,"","",0,"","","","",null,{"$f":"X625","v":30},null,{"$f":"TEXT(Y624,\"ddd\")","v":"do"},"ND",{"$f":"IFERROR(HLOOKUP(Y624,[1]DATA!$A$1:$NB$5,5,0),\"\")","v":"D3"},null,null,null,null,{"$f":"VLOOKUP(Y624,[1]SRM!$S$4:$Z$368,4,0)","v":0},"","",""]
["30vrDD",{"$f":"VLOOKUP($AA627,DATA!$B$3:$E627,2,0)","v":"06:30:00"},{"$f":"VLOOKUP($AA627,DATA!$B$3:$E627,3,0)","v":"14:30:00"},{"$f":"VLOOKUP($AA627,DATA!$B$3:$E627,4,0)","v":3.125E-2},0.30208333333333331,0.30208333333333331,{"$f":"DATA!$C$9","v":0.89},{"$f":"DATA!$C$10","v":64},1,407.8125,407.8125,0,"","",0,"","",0,"","","","",null,{"$f":"X625","v":30},"2018-07-27",{"$f":"TEXT(Y627,\"ddd\")","v":"vr"},"DD",{"$f":"IFERROR(HLOOKUP(Y627,[1]DATA!$A$1:$NB$5,3,0),\"\")","v":"D2"},null,null,null,null,{"$f":"VLOOKUP(Y627,[1]SRM!$S$4:$Z$368,2,0)","v":0},"","",""]
["30vrMD",{"$f":"VLOOKUP($AA628,DATA!$B$3:$E628,2,0)","v":"14:30:00"},{"$f":"VLOOKUP($AA628,DATA!$B$3:$E628,3,0)","v":"22:30:00"},{"$f":"VLOOKUP($AA628,DATA!$B$3:$E628,4,0)","v":3.125E-2},0.30208333333333337,0.30208333333333337,{"$f":"DATA!$C$9","v":0.89},{"$f":"DATA!$C$10","v":64},1,407.81250000000006,407.81250000000006,0,"","",0,"","",0,"","","","",null,{"$f":"X625","v":30},null,{"$f":"TEXT(Y627,\"ddd\")","v":"vr"},"MD",{"$f":"IFERROR(HLOOKUP(Y627,[1]DATA!$A$1:$NB$5,4,0),\"\")","v":"D1"},null,null,null,null,{"$f":"VLOOKUP(Y627,[1]SRM!$S$4:$Z$368,3,0)","v":0},"","",""]
["30vrND",{"$f":"VLOOKUP($AA629,DATA!$B$3:$E629,2,0)","v":"22:30:00"},{"$f":"VLOOKUP($AA629,DATA!$B$3:$E629,3,0)","v":"06:30:00"},{"$f":"VLOOKUP($AA629,DATA!$B$3:$E629,4,0)","v":3.125E-2},0.30208333333333326,0.30208333333333326,{"$f":"DATA!$C$9","v":0.89},{"$f":"DATA!$C$10","v":64},1,407.81249999999989,407.81249999999989,0,"","",0,"","",0,"","","","",null,{"$f":"X625","v":30},null,{"$f":"TEXT(Y627,\"ddd\")","v":"vr"},"ND",{"$f":"IFERROR(HLOOKUP(Y627,[1]DATA!$A$1:$NB$5,5,0),\"\")","v":"D3"},null,null,null,null,{"$f":"VLOOKUP(Y627,[1]SRM!$S$4:$Z$368,4,0)","v":0},"","",""]
["30zaDD",{"$f":"VLOOKUP($AA630,DATA!$B$3:$E630,2,0)","v":"06:30:00"},{"$f":"VLOOKUP($AA630,DATA!$B$3:$E630,3,0)","v":"14:30:00"},{"$f":"VLOOKUP($AA630,DATA!$B$3:$E630,4,0)","v":3.125E-2},0.30208333333333331,0.30208333333333331,{"$f":"DATA!$C$9","v":0.89},{"$f":"DATA!$C$10","v":64},1,407.8125,407.8125,0,"","",0,"","",0,"","","","",null,{"$f":"X625","v":30},{"$f":"Y627+1","v":"2018-07-28"},{"$f":"TEXT(Y630,\"ddd\")","v":"za"},"DD",{"$f":"IFERROR(HLOOKUP(Y630,[1]DATA!$A$1:$NB$5,3,0),\"\")","v":"D2"},null,null,null,null,{"$f":"VLOOKUP(Y630,[1]SRM!$S$4:$Z$368,2,0)","v":0},"","",""]
["30zaMD",{"$f":"VLOOKUP($AA631,DATA!$B$3:$E631,2,0)","v":"14:30:00"},{"$f":"VLOOKUP($AA631,DATA!$B$3:$E631,3,0)","v":"22:30:00"},{"$f":"VLOOKUP($AA631,DATA!$B$3:$E631,4,0)","v":3.125E-2},0.30208333333333337,0.30208333333333337,{"$f":"DATA!$C$9","v":0.89},{"$f":"DATA!$C$10","v":64},1,407.81250000000006,407.81250000000006,0,"","",0,"","",0,"","","","",null,{"$f":"X625","v":30},null,{"$f":"TEXT(Y630,\"ddd\")","v":"za"},"MD",{"$f":"IFERROR(HLOOKUP(Y630,[1]DATA!$A$1:$NB$5,4,0),\"\")","v":"-"},null,null,null,null,{"$f":"VLOOKUP(Y630,[1]SRM!$S$4:$Z$368,3,0)","v":0},"","",""]
["30zaND",{"$f":"VLOOKUP($AA632,DATA!$B$3:$E632,2,0)","v":"22:30:00"},{"$f":"VLOOKUP($AA632,DATA!$B$3:$E632,3,0)","v":"06:30:00"},{"$f":"VLOOKUP($AA632,DATA!$B$3:$E632,4,0)","v":3.125E-2},0.30208333333333326,0.30208333333333326,{"$f":"DATA!$C$9","v":0.89},{"$f":"DATA!$C$10","v":64},1,407.81249999999989,407.81249999999989,0,"","",0,"","",0,"","","","",null,{"$f":"X625","v":30},null,{"$f":"TEXT(Y630,\"ddd\")","v":"za"},"ND",{"$f":"IFERROR(HLOOKUP(Y630,[1]DATA!$A$1:$NB$5,5,0),\"\")","v":"-"},null,null,null,null,{"$f":"VLOOKUP(Y630,[1]SRM!$S$4:$Z$368,4,0)","v":0},"","",""]
["30zoDD",{"$f":"VLOOKUP($AA633,DATA!$B$3:$E633,2,0)","v":"06:30:00"},{"$f":"VLOOKUP($AA633,DATA!$B$3:$E633,3,0)","v":"14:30:00"},{"$f":"VLOOKUP($AA633,DATA!$B$3:$E633,4,0)","v":3.125E-2},0.30208333333333331,0.30208333333333331,{"$f":"DATA!$C$9","v":0.89},{"$f":"DATA!$C$10","v":64},1,407.8125,407.8125,0,"","",0,"","",0,"","","","",null,{"$f":"X625","v":30},"2018-07-29",{"$f":"TEXT(Y633,\"ddd\")","v":"zo"},"DD",{"$f":"IFERROR(HLOOKUP(Y633,[1]DATA!$A$1:$NB$5,3,0),\"\")","v":"-"},null,null,null,null,{"$f":"VLOOKUP(Y633,[1]SRM!$S$4:$Z$368,2,0)","v":0},"","",""]
["30zoMD",{"$f":"VLOOKUP($AA634,DATA!$B$3:$E634,2,0)","v":"14:30:00"},{"$f":"VLOOKUP($AA634,DATA!$B$3:$E634,3,0)","v":"22:30:00"},{"$f":"VLOOKUP($AA634,DATA!$B$3:$E634,4,0)","v":3.125E-2},0.30208333333333337,0.30208333333333337,{"$f":"DATA!$C$9","v":0.89},{"$f":"DATA!$C$10","v":64},1,407.81250000000006,407.81250000000006,0,"","",0,"","",0,"","","","",null,{"$f":"X625","v":30},null,{"$f":"TEXT(Y633,\"ddd\")","v":"zo"},"MD",{"$f":"IFERROR(HLOOKUP(Y633,[1]DATA!$A$1:$NB$5,4,0),\"\")","v":"-"},null,null,null,null,{"$f":"VLOOKUP(Y633,[1]SRM!$S$4:$Z$368,3,0)","v":0},"","",""]
["30zoZND",{"$f":"VLOOKUP($AA635,DATA!$B$3:$E635,2,0)","v":"00:00:00"},{"$f":"VLOOKUP($AA635,DATA!$B$3:$E635,3,0)","v":"00:00:00"},{"$f":"VLOOKUP($AA635,DATA!$B$3:$E635,4,0)","v":0},0,0,{"$f":"DATA!$C$9","v":0.89},{"$f":"DATA!$C$10","v":64},1,0,0,0,"","",0,"","",0,"","","","",null,{"$f":"X625","v":30},null,{"$f":"TEXT(Y633,\"ddd\")","v":"zo"},"ZND",{"$f":"IFERROR(HLOOKUP(Y633,[1]DATA!$A$1:$NB$5,5,0),\"\")","v":"-"},null,null,null,null,{"$f":"VLOOKUP(Y633,[1]SRM!$S$4:$Z$368,4,0)","v":0},"","",""]
["31maDD",{"$f":"VLOOKUP($AA636,DATA!$B$3:$E636,2,0)","v":"06:30:00"},{"$f":"VLOOKUP($AA636,DATA!$B$3:$E636,3,0)","v":"14:30:00"},{"$f":"VLOOKUP($AA636,DATA!$B$3:$E636,4,0)","v":3.125E-2},0.30208333333333331,0.30208333333333331,{"$f":"DATA!$C$9","v":0.89},{"$f":"DATA!$C$10","v":64},1,407.8125,407.8125,0,"","",{"$f":"TIME(INT($AD636/60),INT(MOD($AD636,60)/1),0)","v":0},"","",0,"","","","",null,{"$f":"X646","v":31},"2018-07-30",{"$f":"TEXT(Y636,\"ddd\")","v":"ma"},"DD",{"$f":"IFERROR(HLOOKUP(Y636,[1]DATA!$A$1:$NB$5,3,0),\"\")","v":"D1"},null,null,null,null,{"$f":"VLOOKUP(Y636,[1]SRM!$S$4:$Z$368,2,0)","v":0},"","","",{"$f":"IF(SUMIF(S636:S656,\">0\",K636:K656)=0,\"\",SUMIF(S636:S656,\">0\",K636:K656))","v":""},{"$f":"IF(SUM(S636:S656)=0,\"\",SUM(S636:S656))","v":""},{"$f":"IFERROR(AL636/AK636,\"-\")","v":"-"},{"$f":"IF(SUM(M636:M656)=0,\"0\",SUM(M636:M656))","v":"0"},{"$f":"IFERROR(AN636/AK636,\"-\")","v":"-"},{"$f":"IF(SUM(P636:P656)=0,0,SUM(P636:P656))","v":0},{"$f":"IFERROR(AP636/AK636,\"-\")","v":"-"},{"$f":"IFERROR(AVERAGE(AJ636:AJ656),\"-\")","v":"-"},{"$f":"IFERROR(SUMIF($AB636:$AB656,AS$5,$AJ636:$AJ656)/COUNTIFS($AB636:$AB656,AS$5,$AJ636:$AJ656,\">0\"),\"\")","v":""},"","",{"$f":"IFERROR((AK636-AL636-AN636-AP636),\"-\")","v":"-"},{"$f":"IFERROR((1-AM636-AO636-AQ636), \"-\")","v":"-"},{"$f":"IFERROR((AV636*$AE$2)/60,\"-\")","v":"-"},{"$f":"IFERROR(SUM(AG636:AG656),\"\")","v":0}]
["31maMD",{"$f":"VLOOKUP($AA637,DATA!$B$3:$E637,2,0)","v":"14:30:00"},{"$f":"VLOOKUP($AA637,DATA!$B$3:$E637,3,0)","v":"22:30:00"},{"$f":"VLOOKUP($AA637,DATA!$B$3:$E637,4,0)","v":3.125E-2},0.30208333333333337,0.30208333333333337,{"$f":"DATA!$C$9","v":0.89},{"$f":"DATA!$C$10","v":64},1,407.81250000000006,407.81250000000006,0,"","",{"$f":"TIME(INT(AD637/60),INT(MOD(AD637,60)/1),0)","v":0},"","",0,"","","","",null,{"$f":"X646","v":31},null,{"$f":"TEXT(Y636,\"ddd\")","v":"ma"},"MD",{"$f":"IFERROR(HLOOKUP(Y636,[1]DATA!$A$1:$NB$5,4,0),\"\")","v":"D3"},null,null,null,null,{"$f":"VLOOKUP(Y636,[1]SRM!$S$4:$Z$368,3,0)","v":0},"","",""]
["31maND",{"$f":"VLOOKUP($AA638,DATA!$B$3:$E638,2,0)","v":"22:30:00"},{"$f":"VLOOKUP($AA638,DATA!$B$3:$E638,3,0)","v":"06:30:00"},{"$f":"VLOOKUP($AA638,DATA!$B$3:$E638,4,0)","v":3.125E-2},0.30208333333333326,0.30208333333333326,{"$f":"DATA!$C$9","v":0.89},{"$f":"DATA!$C$10","v":64},1,407.81249999999989,407.81249999999989,0,"","",0,"","",0,"","","","",null,{"$f":"X646","v":31},null,{"$f":"TEXT(Y636,\"ddd\")","v":"ma"},"ND",{"$f":"IFERROR(HLOOKUP(Y636,[1]DATA!$A$1:$NB$5,5,0),\"\")","v":"D2"},null,null,null,null,{"$f":"VLOOKUP(Y636,[1]SRM!$S$4:$Z$368,4,0)","v":0},"","",""]
["31diDD",{"$f":"VLOOKUP($AA639,DATA!$B$3:$E639,2,0)","v":"06:30:00"},{"$f":"VLOOKUP($AA639,DATA!$B$3:$E639,3,0)","v":"14:30:00"},{"$f":"VLOOKUP($AA639,DATA!$B$3:$E639,4,0)","v":3.125E-2},0.30208333333333331,0.30208333333333331,{"$f":"DATA!$C$9","v":0.89},{"$f":"DATA!$C$10","v":64},1,407.8125,407.8125,0,"","",0,"","",0,"","","","",null,{"$f":"X646","v":31},"2018-07-31",{"$f":"TEXT(Y639,\"ddd\")","v":"di"},"DD",{"$f":"IFERROR(HLOOKUP(Y639,[1]DATA!$A$1:$NB$5,3,0),\"\")","v":"D1"},null,null,null,null,{"$f":"VLOOKUP(Y639,[1]SRM!$S$4:$Z$368,2,0)","v":0},"","",""]
["31diMD",{"$f":"VLOOKUP($AA640,DATA!$B$3:$E640,2,0)","v":"14:30:00"},{"$f":"VLOOKUP($AA640,DATA!$B$3:$E640,3,0)","v":"22:30:00"},{"$f":"VLOOKUP($AA640,DATA!$B$3:$E640,4,0)","v":3.125E-2},0.30208333333333337,0.30208333333333337,{"$f":"DATA!$C$9","v":0.89},{"$f":"DATA!$C$10","v":64},1,407.81250000000006,407.81250000000006,0,"","",0,"","",0,"","","","",null,{"$f":"X646","v":31},null,{"$f":"TEXT(Y639,\"ddd\")","v":"di"},"MD",{"$f":"IFERROR(HLOOKUP(Y639,[1]DATA!$A$1:$NB$5,4,0),\"\")","v":"D3"},null,null,null,null,{"$f":"VLOOKUP(Y639,[1]SRM!$S$4:$Z$368,3,0)","v":0},"","",""]
["31diND",{"$f":"VLOOKUP($AA641,DATA!$B$3:$E641,2,0)","v":"22:30:00"},{"$f":"VLOOKUP($AA641,DATA!$B$3:$E641,3,0)","v":"06:30:00"},{"$f":"VLOOKUP($AA641,DATA!$B$3:$E641,4,0)","v":3.125E-2},0.30208333333333326,0.30208333333333326,{"$f":"DATA!$C$9","v":0.89},{"$f":"DATA!$C$10","v":64},1,407.81249999999989,407.81249999999989,0,"","",0,"","",0,"","","","",null,{"$f":"X646","v":31},null,{"$f":"TEXT(Y639,\"ddd\")","v":"di"},"ND",{"$f":"IFERROR(HLOOKUP(Y639,[1]DATA!$A$1:$NB$5,5,0),\"\")","v":"D2"},null,null,null,null,{"$f":"VLOOKUP(Y639,[1]SRM!$S$4:$Z$368,4,0)","v":0},"","",""]
["31woDD",{"$f":"VLOOKUP($AA642,DATA!$B$3:$E642,2,0)","v":"06:30:00"},{"$f":"VLOOKUP($AA642,DATA!$B$3:$E642,3,0)","v":"14:30:00"},{"$f":"VLOOKUP($AA642,DATA!$B$3:$E642,4,0)","v":3.125E-2},0.30208333333333331,0.30208333333333331,{"$f":"DATA!$C$9","v":0.89},{"$f":"DATA!$C$10","v":64},1,407.8125,407.8125,0,"","",0,"","",0,"","","","",null,{"$f":"X646","v":31},"2018-08-01",{"$f":"TEXT(Y642,\"ddd\")","v":"wo"},"DD",{"$f":"IFERROR(HLOOKUP(Y642,[1]DATA!$A$1:$NB$5,3,0),\"\")","v":"D1"},null,null,null,null,{"$f":"VLOOKUP(Y642,[1]SRM!$S$4:$Z$368,2,0)","v":0},"","",""]
["31woMD",{"$f":"VLOOKUP($AA643,DATA!$B$3:$E643,2,0)","v":"14:30:00"},{"$f":"VLOOKUP($AA643,DATA!$B$3:$E643,3,0)","v":"22:30:00"},{"$f":"VLOOKUP($AA643,DATA!$B$3:$E643,4,0)","v":3.125E-2},0.30208333333333337,0.30208333333333337,{"$f":"DATA!$C$9","v":0.89},{"$f":"DATA!$C$10","v":64},1,407.81250000000006,407.81250000000006,0,"","",0,"","",0,"","","","",null,{"$f":"X646","v":31},null,{"$f":"TEXT(Y642,\"ddd\")","v":"wo"},"MD",{"$f":"IFERROR(HLOOKUP(Y642,[1]DATA!$A$1:$NB$5,4,0),\"\")","v":"D3"},null,null,null,null,{"$f":"VLOOKUP(Y642,[1]SRM!$S$4:$Z$368,3,0)","v":0},"","",""]
["31woND",{"$f":"VLOOKUP($AA644,DATA!$B$3:$E644,2,0)","v":"22:30:00"},{"$f":"VLOOKUP($AA644,DATA!$B$3:$E644,3,0)","v":"06:30:00"},{"$f":"VLOOKUP($AA644,DATA!$B$3:$E644,4,0)","v":3.125E-2},0.30208333333333326,0.30208333333333326,{"$f":"DATA!$C$9","v":0.89},{"$f":"DATA!$C$10","v":64},1,407.81249999999989,407.81249999999989,0,"","",0,"","",0,"","","","",null,{"$f":"X646","v":31},null,{"$f":"TEXT(Y642,\"ddd\")","v":"wo"},"ND",{"$f":"IFERROR(HLOOKUP(Y642,[1]DATA!$A$1:$NB$5,5,0),\"\")","v":"D2"},null,null,null,null,{"$f":"VLOOKUP(Y642,[1]SRM!$S$4:$Z$368,4,0)","v":0},"","",""]
["31doDD",{"$f":"VLOOKUP($AA645,DATA!$B$3:$E645,2,0)","v":"06:30:00"},{"$f":"VLOOKUP($AA645,DATA!$B$3:$E645,3,0)","v":"14:30:00"},{"$f":"VLOOKUP($AA645,DATA!$B$3:$E645,4,0)","v":3.125E-2},0.30208333333333331,0.30208333333333331,{"$f":"DATA!$C$9","v":0.89},{"$f":"DATA!$C$10","v":64},1,407.8125,407.8125,0,"","",0,"","",0,"","","","",null,{"$f":"X646","v":31},"2018-08-02",{"$f":"TEXT(Y645,\"ddd\")","v":"do"},"DD",{"$f":"IFERROR(HLOOKUP(Y645,[1]DATA!$A$1:$NB$5,3,0),\"\")","v":"D1"},null,null,null,null,{"$f":"VLOOKUP(Y645,[1]SRM!$S$4:$Z$368,2,0)","v":0},"","",""]
["31doMD",{"$f":"VLOOKUP($AA646,DATA!$B$3:$E646,2,0)","v":"14:30:00"},{"$f":"VLOOKUP($AA646,DATA!$B$3:$E646,3,0)","v":"22:30:00"},{"$f":"VLOOKUP($AA646,DATA!$B$3:$E646,4,0)","v":3.125E-2},0.30208333333333337,0.30208333333333337,{"$f":"DATA!$C$9","v":0.89},{"$f":"DATA!$C$10","v":64},1,{"$f":"F646*86400/H646*I646","v":407.81250000000006},{"$f":"E646*86400/H646","v":407.81250000000006},0,"","",0,"","",{"$f":"AF646*AG$2","v":0},{"$f":"IF(AF646-AE646=0,\"\",AF646-AE646)","v":""},"","","",null,{"$f":"WEEKNUM($Y636)","v":31},null,{"$f":"TEXT(Y645,\"ddd\")","v":"do"},"MD",{"$f":"IFERROR(HLOOKUP(Y645,[1]DATA!$A$1:$NB$5,4,0),\"\")","v":"D3"},null,null,null,null,{"$f":"VLOOKUP(Y645,[1]SRM!$S$4:$Z$368,3,0)","v":0},{"$f":"IFERROR(S646-J646,\"\")","v":""},{"$f":"IFERROR(IF(S646/(E646*86400/H646)<=0,\"\",S646/(E646*86400/H646)),\"\")","v":""},""]
["31doND",{"$f":"VLOOKUP($AA647,DATA!$B$3:$E647,2,0)","v":"22:30:00"},{"$f":"VLOOKUP($AA647,DATA!$B$3:$E647,3,0)","v":"06:30:00"},{"$f":"VLOOKUP($AA647,DATA!$B$3:$E647,4,0)","v":3.125E-2},0.30208333333333326,0.30208333333333326,{"$f":"DATA!$C$9","v":0.89},{"$f":"DATA!$C$10","v":64},1,407.81249999999989,407.81249999999989,{"$f":"TIME(INT($AC647/60),INT(MOD($AC647,60)/1),0)","v":0},{"$f":"IF($L647*86400/$H647=0,\"\",$L647*86400/$H647)","v":""},{"$f":"IFERROR($M647/$K647,\"\")","v":""},0,"",{"$f":"IFERROR($P647/$K647,\"\")","v":""},0,"",{"$f":"IF(IF($AB647=\"D1\",$S647,\"\")=0,\"\",IF($AB647=\"D1\",$S647,\"\"))","v":""},{"$f":"IF(IF($AB647=\"D2\",$S647,\"\")=0,\"\",IF($AB647=\"D2\",$S647,\"\"))","v":""},{"$f":"IF(IF($AB647=\"D3\",$S647,\"\")=0,\"\",IF($AB647=\"D3\",$S647,\"\"))","v":""},null,{"$f":"X646","v":31},null,{"$f":"TEXT(Y645,\"ddd\")","v":"do"},"ND",{"$f":"IFERROR(HLOOKUP(Y645,[1]DATA!$A$1:$NB$5,5,0),\"\")","v":"D2"},null,null,null,null,{"$f":"VLOOKUP(Y645,[1]SRM!$S$4:$Z$368,4,0)","v":0},"","",""]
["31vrDD",{"$f":"VLOOKUP($AA648,DATA!$B$3:$E648,2,0)","v":"06:30:00"},{"$f":"VLOOKUP($AA648,DATA!$B$3:$E648,3,0)","v":"14:30:00"},{"$f":"VLOOKUP($AA648,DATA!$B$3:$E648,4,0)","v":3.125E-2},0.30208333333333331,0.30208333333333331,{"$f":"DATA!$C$9","v":0.89},{"$f":"DATA!$C$10","v":64},1,407.8125,407.8125,0,"","",0,"","",0,"","","","",null,{"$f":"X646","v":31},"2018-08-03",{"$f":"TEXT(Y648,\"ddd\")","v":"vr"},"DD",{"$f":"IFERROR(HLOOKUP(Y648,[1]DATA!$A$1:$NB$5,3,0),\"\")","v":"D1"},null,null,null,null,{"$f":"VLOOKUP(Y648,[1]SRM!$S$4:$Z$368,2,0)","v":0},"","",""]
["31vrMD",{"$f":"VLOOKUP($AA649,DATA!$B$3:$E649,2,0)","v":"14:30:00"},{"$f":"VLOOKUP($AA649,DATA!$B$3:$E649,3,0)","v":"22:30:00"},{"$f":"VLOOKUP($AA649,DATA!$B$3:$E649,4,0)","v":3.125E-2},0.30208333333333337,0.30208333333333337,{"$f":"DATA!$C$9","v":0.89},{"$f":"DATA!$C$10","v":64},1,407.81250000000006,407.81250000000006,0,"","",0,"","",0,"","","","",null,{"$f":"X646","v":31},null,{"$f":"TEXT(Y648,\"ddd\")","v":"vr"},"MD",{"$f":"IFERROR(HLOOKUP(Y648,[1]DATA!$A$1:$NB$5,4,0),\"\")","v":"D3"},null,null,null,null,{"$f":"VLOOKUP(Y648,[1]SRM!$S$4:$Z$368,3,0)","v":0},"","",""]
["31vrND",{"$f":"VLOOKUP($AA650,DATA!$B$3:$E650,2,0)","v":"22:30:00"},{"$f":"VLOOKUP($AA650,DATA!$B$3:$E650,3,0)","v":"06:30:00"},{"$f":"VLOOKUP($AA650,DATA!$B$3:$E650,4,0)","v":3.125E-2},0.30208333333333326,0.30208333333333326,{"$f":"DATA!$C$9","v":0.89},{"$f":"DATA!$C$10","v":64},1,407.81249999999989,407.81249999999989,0,"","",0,"","",0,"","","","",null,{"$f":"X646","v":31},null,{"$f":"TEXT(Y648,\"ddd\")","v":"vr"},"ND",{"$f":"IFERROR(HLOOKUP(Y648,[1]DATA!$A$1:$NB$5,5,0),\"\")","v":"D2"},null,null,null,null,{"$f":"VLOOKUP(Y648,[1]SRM!$S$4:$Z$368,4,0)","v":0},"","",""]
["31zaDD",{"$f":"VLOOKUP($AA651,DATA!$B$3:$E651,2,0)","v":"06:30:00"},{"$f":"VLOOKUP($AA651,DATA!$B$3:$E651,3,0)","v":"14:30:00"},{"$f":"VLOOKUP($AA651,DATA!$B$3:$E651,4,0)","v":3.125E-2},0.30208333333333331,0.30208333333333331,{"$f":"DATA!$C$9","v":0.89},{"$f":"DATA!$C$10","v":64},1,407.8125,407.8125,0,"","",0,"","",0,"","","","",null,{"$f":"X646","v":31},"2018-08-04",{"$f":"TEXT(Y651,\"ddd\")","v":"za"},"DD",{"$f":"IFERROR(HLOOKUP(Y651,[1]DATA!$A$1:$NB$5,3,0),\"\")","v":"D1"},null,null,null,null,{"$f":"VLOOKUP(Y651,[1]SRM!$S$4:$Z$368,2,0)","v":0},"","",""]
["31zaMD",{"$f":"VLOOKUP($AA652,DATA!$B$3:$E652,2,0)","v":"14:30:00"},{"$f":"VLOOKUP($AA652,DATA!$B$3:$E652,3,0)","v":"22:30:00"},{"$f":"VLOOKUP($AA652,DATA!$B$3:$E652,4,0)","v":3.125E-2},0.30208333333333337,0.30208333333333337,{"$f":"DATA!$C$9","v":0.89},{"$f":"DATA!$C$10","v":64},1,407.81250000000006,407.81250000000006,0,"","",0,"","",0,"","","","",null,{"$f":"X646","v":31},null,{"$f":"TEXT(Y651,\"ddd\")","v":"za"},"MD",{"$f":"IFERROR(HLOOKUP(Y651,[1]DATA!$A$1:$NB$5,4,0),\"\")","v":"-"},null,null,null,null,{"$f":"VLOOKUP(Y651,[1]SRM!$S$4:$Z$368,3,0)","v":0},"","",""]
["31zaND",{"$f":"VLOOKUP($AA653,DATA!$B$3:$E653,2,0)","v":"22:30:00"},{"$f":"VLOOKUP($AA653,DATA!$B$3:$E653,3,0)","v":"06:30:00"},{"$f":"VLOOKUP($AA653,DATA!$B$3:$E653,4,0)","v":3.125E-2},0.30208333333333326,0.30208333333333326,{"$f":"DATA!$C$9","v":0.89},{"$f":"DATA!$C$10","v":64},1,407.81249999999989,407.81249999999989,0,"","",0,"","",0,"","","","",null,{"$f":"X646","v":31},null,{"$f":"TEXT(Y651,\"ddd\")","v":"za"},"ND",{"$f":"IFERROR(HLOOKUP(Y651,[1]DATA!$A$1:$NB$5,5,0),\"\")","v":"-"},null,null,null,null,{"$f":"VLOOKUP(Y651,[1]SRM!$S$4:$Z$368,4,0)","v":0},"","",""]
["31zoDD",{"$f":"VLOOKUP($AA654,DATA!$B$3:$E654,2,0)","v":"06:30:00"},{"$f":"VLOOKUP($AA654,DATA!$B$3:$E654,3,0)","v":"14:30:00"},{"$f":"VLOOKUP($AA654,DATA!$B$3:$E654,4,0)","v":3.125E-2},0.30208333333333331,0.30208333333333331,{"$f":"DATA!$C$9","v":0.89},{"$f":"DATA!$C$10","v":64},1,407.8125,407.8125,0,"","",0,"","",0,"","","","",null,{"$f":"X646","v":31},"2018-08-05",{"$f":"TEXT(Y654,\"ddd\")","v":"zo"},"DD",{"$f":"IFERROR(HLOOKUP(Y654,[1]DATA!$A$1:$NB$5,3,0),\"\")","v":"-"},null,null,null,null,{"$f":"VLOOKUP(Y654,[1]SRM!$S$4:$Z$368,2,0)","v":0},"","",""]
["31zoMD",{"$f":"VLOOKUP($AA655,DATA!$B$3:$E655,2,0)","v":"14:30:00"},{"$f":"VLOOKUP($AA655,DATA!$B$3:$E655,3,0)","v":"22:30:00"},{"$f":"VLOOKUP($AA655,DATA!$B$3:$E655,4,0)","v":3.125E-2},0.30208333333333337,0.30208333333333337,{"$f":"DATA!$C$9","v":0.89},{"$f":"DATA!$C$10","v":64},1,407.81250000000006,407.81250000000006,0,"","",0,"","",0,"","","","",null,{"$f":"X646","v":31},null,{"$f":"TEXT(Y654,\"ddd\")","v":"zo"},"MD",{"$f":"IFERROR(HLOOKUP(Y654,[1]DATA!$A$1:$NB$5,4,0),\"\")","v":"-"},null,null,null,null,{"$f":"VLOOKUP(Y654,[1]SRM!$S$4:$Z$368,3,0)","v":0},"","",""]
["31zoZND",{"$f":"VLOOKUP($AA656,DATA!$B$3:$E656,2,0)","v":"00:00:00"},{"$f":"VLOOKUP($AA656,DATA!$B$3:$E656,3,0)","v":"00:00:00"},{"$f":"VLOOKUP($AA656,DATA!$B$3:$E656,4,0)","v":0},0,0,{"$f":"DATA!$C$9","v":0.89},{"$f":"DATA!$C$10","v":64},1,0,0,0,"","",0,"","",0,"","","","",null,{"$f":"X646","v":31},null,{"$f":"TEXT(Y654,\"ddd\")","v":"zo"},"ZND",{"$f":"IFERROR(HLOOKUP(Y654,[1]DATA!$A$1:$NB$5,5,0),\"\")","v":"-"},null,null,null,null,{"$f":"VLOOKUP(Y654,[1]SRM!$S$4:$Z$368,4,0)","v":0},"","",""]
["32maDD",{"$f":"VLOOKUP($AA657,DATA!$B$3:$E657,2,0)","v":"06:30:00"},{"$f":"VLOOKUP($AA657,DATA!$B$3:$E657,3,0)","v":"14:30:00"},{"$f":"VLOOKUP($AA657,DATA!$B$3:$E657,4,0)","v":3.125E-2},0.30208333333333331,0.30208333333333331,{"$f":"DATA!$C$9","v":0.89},{"$f":"DATA!$C$10","v":64},1,407.8125,407.8125,0,"","",{"$f":"TIME(INT($AD657/60),INT(MOD($AD657,60)/1),0)","v":0},"","",0,"","","","",null,{"$f":"X667","v":32},"2018-08-06",{"$f":"TEXT(Y657,\"ddd\")","v":"ma"},"DD",{"$f":"IFERROR(HLOOKUP(Y657,[1]DATA!$A$1:$NB$5,3,0),\"\")","v":"D3"},null,null,null,null,{"$f":"VLOOKUP(Y657,[1]SRM!$S$4:$Z$368,2,0)","v":0},"","","",{"$f":"IF(SUMIF(S657:S677,\">0\",K657:K677)=0,\"\",SUMIF(S657:S677,\">0\",K657:K677))","v":""},{"$f":"IF(SUM(S657:S677)=0,\"\",SUM(S657:S677))","v":""},{"$f":"IFERROR(AL657/AK657,\"-\")","v":"-"},{"$f":"IF(SUM(M657:M677)=0,\"0\",SUM(M657:M677))","v":"0"},{"$f":"IFERROR(AN657/AK657,\"-\")","v":"-"},{"$f":"IF(SUM(P657:P677)=0,0,SUM(P657:P677))","v":0},{"$f":"IFERROR(AP657/AK657,\"-\")","v":"-"},{"$f":"IFERROR(AVERAGE(AJ657:AJ677),\"-\")","v":"-"},{"$f":"IFERROR(SUMIF($AB657:$AB677,AS$5,$AJ657:$AJ677)/COUNTIFS($AB657:$AB677,AS$5,$AJ657:$AJ677,\">0\"),\"\")","v":""},"","",{"$f":"IFERROR((AK657-AL657-AN657-AP657),\"-\")","v":"-"},{"$f":"IFERROR((1-AM657-AO657-AQ657), \"-\")","v":"-"},{"$f":"IFERROR((AV657*$AE$2)/60,\"-\")","v":"-"},{"$f":"IFERROR(SUM(AG657:AG677),\"\")","v":0}]
["32maMD",{"$f":"VLOOKUP($AA658,DATA!$B$3:$E658,2,0)","v":"14:30:00"},{"$f":"VLOOKUP($AA658,DATA!$B$3:$E658,3,0)","v":"22:30:00"},{"$f":"VLOOKUP($AA658,DATA!$B$3:$E658,4,0)","v":3.125E-2},0.30208333333333337,0.30208333333333337,{"$f":"DATA!$C$9","v":0.89},{"$f":"DATA!$C$10","v":64},1,407.81250000000006,407.81250000000006,0,"","",{"$f":"TIME(INT(AD658/60),INT(MOD(AD658,60)/1),0)","v":0},"","",0,"","","","",null,{"$f":"X667","v":32},null,{"$f":"TEXT(Y657,\"ddd\")","v":"ma"},"MD",{"$f":"IFERROR(HLOOKUP(Y657,[1]DATA!$A$1:$NB$5,4,0),\"\")","v":"D2"},null,null,null,null,{"$f":"VLOOKUP(Y657,[1]SRM!$S$4:$Z$368,3,0)","v":0},"","",""]
["32maND",{"$f":"VLOOKUP($AA659,DATA!$B$3:$E659,2,0)","v":"22:30:00"},{"$f":"VLOOKUP($AA659,DATA!$B$3:$E659,3,0)","v":"06:30:00"},{"$f":"VLOOKUP($AA659,DATA!$B$3:$E659,4,0)","v":3.125E-2},0.30208333333333326,0.30208333333333326,{"$f":"DATA!$C$9","v":0.89},{"$f":"DATA!$C$10","v":64},1,407.81249999999989,407.81249999999989,0,"","",0,"","",0,"","","","",null,{"$f":"X667","v":32},null,{"$f":"TEXT(Y657,\"ddd\")","v":"ma"},"ND",{"$f":"IFERROR(HLOOKUP(Y657,[1]DATA!$A$1:$NB$5,5,0),\"\")","v":"D1"},null,null,null,null,{"$f":"VLOOKUP(Y657,[1]SRM!$S$4:$Z$368,4,0)","v":0},"","",""]
["32diDD",{"$f":"VLOOKUP($AA660,DATA!$B$3:$E660,2,0)","v":"06:30:00"},{"$f":"VLOOKUP($AA660,DATA!$B$3:$E660,3,0)","v":"14:30:00"},{"$f":"VLOOKUP($AA660,DATA!$B$3:$E660,4,0)","v":3.125E-2},0.30208333333333331,0.30208333333333331,{"$f":"DATA!$C$9","v":0.89},{"$f":"DATA!$C$10","v":64},1,407.8125,407.8125,0,"","",0,"","",0,"","","","",null,{"$f":"X667","v":32},"2018-08-07",{"$f":"TEXT(Y660,\"ddd\")","v":"di"},"DD",{"$f":"IFERROR(HLOOKUP(Y660,[1]DATA!$A$1:$NB$5,3,0),\"\")","v":"D3"},null,null,null,null,{"$f":"VLOOKUP(Y660,[1]SRM!$S$4:$Z$368,2,0)","v":0},"","",""]
["32diMD",{"$f":"VLOOKUP($AA661,DATA!$B$3:$E661,2,0)","v":"14:30:00"},{"$f":"VLOOKUP($AA661,DATA!$B$3:$E661,3,0)","v":"22:30:00"},{"$f":"VLOOKUP($AA661,DATA!$B$3:$E661,4,0)","v":3.125E-2},0.30208333333333337,0.30208333333333337,{"$f":"DATA!$C$9","v":0.89},{"$f":"DATA!$C$10","v":64},1,407.81250000000006,407.81250000000006,0,"","",0,"","",0,"","","","",null,{"$f":"X667","v":32},null,{"$f":"TEXT(Y660,\"ddd\")","v":"di"},"MD",{"$f":"IFERROR(HLOOKUP(Y660,[1]DATA!$A$1:$NB$5,4,0),\"\")","v":"D2"},null,null,null,null,{"$f":"VLOOKUP(Y660,[1]SRM!$S$4:$Z$368,3,0)","v":0},"","",""]
["32diND",{"$f":"VLOOKUP($AA662,DATA!$B$3:$E662,2,0)","v":"22:30:00"},{"$f":"VLOOKUP($AA662,DATA!$B$3:$E662,3,0)","v":"06:30:00"},{"$f":"VLOOKUP($AA662,DATA!$B$3:$E662,4,0)","v":3.125E-2},0.30208333333333326,0.30208333333333326,{"$f":"DATA!$C$9","v":0.89},{"$f":"DATA!$C$10","v":64},1,407.81249999999989,407.81249999999989,0,"","",0,"","",0,"","","","",null,{"$f":"X667","v":32},null,{"$f":"TEXT(Y660,\"ddd\")","v":"di"},"ND",{"$f":"IFERROR(HLOOKUP(Y660,[1]DATA!$A$1:$NB$5,5,0),\"\")","v":"D1"},null,null,null,null,{"$f":"VLOOKUP(Y660,[1]SRM!$S$4:$Z$368,4,0)","v":0},"","",""]
["32woDD",{"$f":"VLOOKUP($AA663,DATA!$B$3:$E663,2,0)","v":"06:30:00"},{"$f":"VLOOKUP($AA663,DATA!$B$3:$E663,3,0)","v":"14:30:00"},{"$f":"VLOOKUP($AA663,DATA!$B$3:$E663,4,0)","v":3.125E-2},0.30208333333333331,0.30208333333333331,{"$f":"DATA!$C$9","v":0.89},{"$f":"DATA!$C$10","v":64},1,407.8125,407.8125,0,"","",0,"","",0,"","","","",null,{"$f":"X667","v":32},"2018-08-08",{"$f":"TEXT(Y663,\"ddd\")","v":"wo"},"DD",{"$f":"IFERROR(HLOOKUP(Y663,[1]DATA!$A$1:$NB$5,3,0),\"\")","v":"D3"},null,null,null,null,{"$f":"VLOOKUP(Y663,[1]SRM!$S$4:$Z$368,2,0)","v":0},"","",""]
["32woMD",{"$f":"VLOOKUP($AA664,DATA!$B$3:$E664,2,0)","v":"14:30:00"},{"$f":"VLOOKUP($AA664,DATA!$B$3:$E664,3,0)","v":"22:30:00"},{"$f":"VLOOKUP($AA664,DATA!$B$3:$E664,4,0)","v":3.125E-2},0.30208333333333337,0.30208333333333337,{"$f":"DATA!$C$9","v":0.89},{"$f":"DATA!$C$10","v":64},1,407.81250000000006,407.81250000000006,0,"","",0,"","",0,"","","","",null,{"$f":"X667","v":32},null,{"$f":"TEXT(Y663,\"ddd\")","v":"wo"},"MD",{"$f":"IFERROR(HLOOKUP(Y663,[1]DATA!$A$1:$NB$5,4,0),\"\")","v":"D2"},null,null,null,null,{"$f":"VLOOKUP(Y663,[1]SRM!$S$4:$Z$368,3,0)","v":0},"","",""]
["32woND",{"$f":"VLOOKUP($AA665,DATA!$B$3:$E665,2,0)","v":"22:30:00"},{"$f":"VLOOKUP($AA665,DATA!$B$3:$E665,3,0)","v":"06:30:00"},{"$f":"VLOOKUP($AA665,DATA!$B$3:$E665,4,0)","v":3.125E-2},0.30208333333333326,0.30208333333333326,{"$f":"DATA!$C$9","v":0.89},{"$f":"DATA!$C$10","v":64},1,407.81249999999989,407.81249999999989,0,"","",0,"","",0,"","","","",null,{"$f":"X667","v":32},null,{"$f":"TEXT(Y663,\"ddd\")","v":"wo"},"ND",{"$f":"IFERROR(HLOOKUP(Y663,[1]DATA!$A$1:$NB$5,5,0),\"\")","v":"D1"},null,null,null,null,{"$f":"VLOOKUP(Y663,[1]SRM!$S$4:$Z$368,4,0)","v":0},"","",""]
["32doDD",{"$f":"VLOOKUP($AA666,DATA!$B$3:$E666,2,0)","v":"06:30:00"},{"$f":"VLOOKUP($AA666,DATA!$B$3:$E666,3,0)","v":"14:30:00"},{"$f":"VLOOKUP($AA666,DATA!$B$3:$E666,4,0)","v":3.125E-2},0.30208333333333331,0.30208333333333331,{"$f":"DATA!$C$9","v":0.89},{"$f":"DATA!$C$10","v":64},1,407.8125,407.8125,0,"","",0,"","",0,"","","","",null,{"$f":"X667","v":32},"2018-08-09",{"$f":"TEXT(Y666,\"ddd\")","v":"do"},"DD",{"$f":"IFERROR(HLOOKUP(Y666,[1]DATA!$A$1:$NB$5,3,0),\"\")","v":"D3"},null,null,null,null,{"$f":"VLOOKUP(Y666,[1]SRM!$S$4:$Z$368,2,0)","v":0},"","",""]
["32doMD",{"$f":"VLOOKUP($AA667,DATA!$B$3:$E667,2,0)","v":"14:30:00"},{"$f":"VLOOKUP($AA667,DATA!$B$3:$E667,3,0)","v":"22:30:00"},{"$f":"VLOOKUP($AA667,DATA!$B$3:$E667,4,0)","v":3.125E-2},0.30208333333333337,0.30208333333333337,{"$f":"DATA!$C$9","v":0.89},{"$f":"DATA!$C$10","v":64},1,407.81250000000006,407.81250000000006,0,"","",0,"","",0,"","","","",null,{"$f":"WEEKNUM($Y657)","v":32},null,{"$f":"TEXT(Y666,\"ddd\")","v":"do"},"MD",{"$f":"IFERROR(HLOOKUP(Y666,[1]DATA!$A$1:$NB$5,4,0),\"\")","v":"D2"},null,null,null,null,{"$f":"VLOOKUP(Y666,[1]SRM!$S$4:$Z$368,3,0)","v":0},"","",{"$f":"IFERROR(R667/(R667+AG667),\"\")","v":""}]
["32doND",{"$f":"VLOOKUP($AA668,DATA!$B$3:$E668,2,0)","v":"22:30:00"},{"$f":"VLOOKUP($AA668,DATA!$B$3:$E668,3,0)","v":"06:30:00"},{"$f":"VLOOKUP($AA668,DATA!$B$3:$E668,4,0)","v":3.125E-2},{"$f":"(C668-B668+(B668>C668))-D668","v":0.30208333333333326},{"$f":"E668-O668-L668","v":0.30208333333333326},{"$f":"DATA!$C$9","v":0.89},{"$f":"DATA!$C$10","v":64},1,407.81249999999989,407.81249999999989,0,"","",0,"","",0,"","","","",null,{"$f":"X667","v":32},null,{"$f":"TEXT(Y666,\"ddd\")","v":"do"},"ND",{"$f":"IFERROR(HLOOKUP(Y666,[1]DATA!$A$1:$NB$5,5,0),\"\")","v":"D1"},null,null,null,null,{"$f":"VLOOKUP(Y666,[1]SRM!$S$4:$Z$368,4,0)","v":0},"","",""]
["32vrDD",{"$f":"VLOOKUP($AA669,DATA!$B$3:$E669,2,0)","v":"06:30:00"},{"$f":"VLOOKUP($AA669,DATA!$B$3:$E669,3,0)","v":"14:30:00"},{"$f":"VLOOKUP($AA669,DATA!$B$3:$E669,4,0)","v":3.125E-2},0.30208333333333331,0.30208333333333331,{"$f":"DATA!$C$9","v":0.89},{"$f":"DATA!$C$10","v":64},1,407.8125,407.8125,0,"","",0,"","",0,"","","","",null,{"$f":"X667","v":32},"2018-08-10",{"$f":"TEXT(Y669,\"ddd\")","v":"vr"},"DD",{"$f":"IFERROR(HLOOKUP(Y669,[1]DATA!$A$1:$NB$5,3,0),\"\")","v":"D3"},null,null,null,null,{"$f":"VLOOKUP(Y669,[1]SRM!$S$4:$Z$368,2,0)","v":0},"","",""]
["32vrMD",{"$f":"VLOOKUP($AA670,DATA!$B$3:$E670,2,0)","v":"14:30:00"},{"$f":"VLOOKUP($AA670,DATA!$B$3:$E670,3,0)","v":"22:30:00"},{"$f":"VLOOKUP($AA670,DATA!$B$3:$E670,4,0)","v":3.125E-2},0.30208333333333337,0.30208333333333337,{"$f":"DATA!$C$9","v":0.89},{"$f":"DATA!$C$10","v":64},1,407.81250000000006,407.81250000000006,0,"","",0,"","",0,"","","","",null,{"$f":"X667","v":32},null,{"$f":"TEXT(Y669,\"ddd\")","v":"vr"},"MD",{"$f":"IFERROR(HLOOKUP(Y669,[1]DATA!$A$1:$NB$5,4,0),\"\")","v":"D2"},null,null,null,null,{"$f":"VLOOKUP(Y669,[1]SRM!$S$4:$Z$368,3,0)","v":0},"","",""]
["32vrND",{"$f":"VLOOKUP($AA671,DATA!$B$3:$E671,2,0)","v":"22:30:00"},{"$f":"VLOOKUP($AA671,DATA!$B$3:$E671,3,0)","v":"06:30:00"},{"$f":"VLOOKUP($AA671,DATA!$B$3:$E671,4,0)","v":3.125E-2},0.30208333333333326,0.30208333333333326,{"$f":"DATA!$C$9","v":0.89},{"$f":"DATA!$C$10","v":64},1,407.81249999999989,407.81249999999989,0,"","",0,"","",0,"","","","",null,{"$f":"X667","v":32},null,{"$f":"TEXT(Y669,\"ddd\")","v":"vr"},"ND",{"$f":"IFERROR(HLOOKUP(Y669,[1]DATA!$A$1:$NB$5,5,0),\"\")","v":"D2"},null,null,null,null,{"$f":"VLOOKUP(Y669,[1]SRM!$S$4:$Z$368,4,0)","v":0},"","",""]
["32zaDD",{"$f":"VLOOKUP($AA672,DATA!$B$3:$E672,2,0)","v":"06:30:00"},{"$f":"VLOOKUP($AA672,DATA!$B$3:$E672,3,0)","v":"14:30:00"},{"$f":"VLOOKUP($AA672,DATA!$B$3:$E672,4,0)","v":3.125E-2},0.30208333333333331,0.30208333333333331,{"$f":"DATA!$C$9","v":0.89},{"$f":"DATA!$C$10","v":64},1,407.8125,407.8125,0,"","",0,"","",0,"","","","",null,{"$f":"X667","v":32},"2018-08-11",{"$f":"TEXT(Y672,\"ddd\")","v":"za"},"DD",{"$f":"IFERROR(HLOOKUP(Y672,[1]DATA!$A$1:$NB$5,3,0),\"\")","v":"D3"},null,null,null,null,{"$f":"VLOOKUP(Y672,[1]SRM!$S$4:$Z$368,2,0)","v":0},"","",""]
["32zaMD",{"$f":"VLOOKUP($AA673,DATA!$B$3:$E673,2,0)","v":"14:30:00"},{"$f":"VLOOKUP($AA673,DATA!$B$3:$E673,3,0)","v":"22:30:00"},{"$f":"VLOOKUP($AA673,DATA!$B$3:$E673,4,0)","v":3.125E-2},0.30208333333333337,0.30208333333333337,{"$f":"DATA!$C$9","v":0.89},{"$f":"DATA!$C$10","v":64},1,407.81250000000006,407.81250000000006,0,"","",0,"","",0,"","","","",null,{"$f":"X667","v":32},null,{"$f":"TEXT(Y672,\"ddd\")","v":"za"},"MD",{"$f":"IFERROR(HLOOKUP(Y672,[1]DATA!$A$1:$NB$5,4,0),\"\")","v":"-"},null,null,null,null,{"$f":"VLOOKUP(Y672,[1]SRM!$S$4:$Z$368,3,0)","v":0},"","",""]
["32zaND",{"$f":"VLOOKUP($AA674,DATA!$B$3:$E674,2,0)","v":"22:30:00"},{"$f":"VLOOKUP($AA674,DATA!$B$3:$E674,3,0)","v":"06:30:00"},{"$f":"VLOOKUP($AA674,DATA!$B$3:$E674,4,0)","v":3.125E-2},0.30208333333333326,0.30208333333333326,{"$f":"DATA!$C$9","v":0.89},{"$f":"DATA!$C$10","v":64},1,407.81249999999989,407.81249999999989,0,"","",0,"","",0,"","","","",null,{"$f":"X667","v":32},null,{"$f":"TEXT(Y672,\"ddd\")","v":"za"},"ND",{"$f":"IFERROR(HLOOKUP(Y672,[1]DATA!$A$1:$NB$5,5,0),\"\")","v":"-"},null,null,null,null,{"$f":"VLOOKUP(Y672,[1]SRM!$S$4:$Z$368,4,0)","v":0},"","",""]
["32zoDD",{"$f":"VLOOKUP($AA675,DATA!$B$3:$E675,2,0)","v":"06:30:00"},{"$f":"VLOOKUP($AA675,DATA!$B$3:$E675,3,0)","v":"14:30:00"},{"$f":"VLOOKUP($AA675,DATA!$B$3:$E675,4,0)","v":3.125E-2},0.30208333333333331,0.30208333333333331,{"$f":"DATA!$C$9","v":0.89},{"$f":"DATA!$C$10","v":64},1,407.8125,407.8125,0,"","",0,"","",0,"","","","",null,{"$f":"X667","v":32},"2018-08-12",{"$f":"TEXT(Y675,\"ddd\")","v":"zo"},"DD",{"$f":"IFERROR(HLOOKUP(Y675,[1]DATA!$A$1:$NB$5,3,0),\"\")","v":"-"},null,null,null,null,{"$f":"VLOOKUP(Y675,[1]SRM!$S$4:$Z$368,2,0)","v":0},"","",""]
["32zoMD",{"$f":"VLOOKUP($AA676,DATA!$B$3:$E676,2,0)","v":"14:30:00"},{"$f":"VLOOKUP($AA676,DATA!$B$3:$E676,3,0)","v":"22:30:00"},{"$f":"VLOOKUP($AA676,DATA!$B$3:$E676,4,0)","v":3.125E-2},0.30208333333333337,0.30208333333333337,{"$f":"DATA!$C$9","v":0.89},{"$f":"DATA!$C$10","v":64},1,407.81250000000006,407.81250000000006,0,"","",0,"","",0,"","","","",null,{"$f":"X667","v":32},null,{"$f":"TEXT(Y675,\"ddd\")","v":"zo"},"MD",{"$f":"IFERROR(HLOOKUP(Y675,[1]DATA!$A$1:$NB$5,4,0),\"\")","v":"-"},null,null,null,null,{"$f":"VLOOKUP(Y675,[1]SRM!$S$4:$Z$368,3,0)","v":0},"","",""]
["32zoZND",{"$f":"VLOOKUP($AA677,DATA!$B$3:$E677,2,0)","v":"00:00:00"},{"$f":"VLOOKUP($AA677,DATA!$B$3:$E677,3,0)","v":"00:00:00"},{"$f":"VLOOKUP($AA677,DATA!$B$3:$E677,4,0)","v":0},0,0,{"$f":"DATA!$C$9","v":0.89},{"$f":"DATA!$C$10","v":64},1,0,0,0,"","",0,"","",0,"","","","",null,{"$f":"X667","v":32},null,{"$f":"TEXT(Y675,\"ddd\")","v":"zo"},"ZND",{"$f":"IFERROR(HLOOKUP(Y675,[1]DATA!$A$1:$NB$5,5,0),\"\")","v":"-"},null,null,null,null,{"$f":"VLOOKUP(Y675,[1]SRM!$S$4:$Z$368,4,0)","v":0},"","",""]
["33maDD",{"$f":"VLOOKUP($AA678,DATA!$B$3:$E678,2,0)","v":"06:30:00"},{"$f":"VLOOKUP($AA678,DATA!$B$3:$E678,3,0)","v":"14:30:00"},{"$f":"VLOOKUP($AA678,DATA!$B$3:$E678,4,0)","v":3.125E-2},0.30208333333333331,0.26041666666666663,{"$f":"DATA!$C$9","v":0.89},{"$f":"DATA!$C$10","v":64},1,351.56249999999994,407.8125,4.1666666666666664E-2,56.25,0.13793103448275862,{"$f":"TIME(INT($AD678/60),INT(MOD($AD678,60)/1),0)","v":0},"","",301.86666666666667,254,"",254,"",null,{"$f":"X688","v":33},"2018-08-13",{"$f":"TEXT(Y678,\"ddd\")","v":"ma"},"DD",{"$f":"IFERROR(HLOOKUP(Y678,[1]DATA!$A$1:$NB$5,3,0),\"\")","v":"D2"},60,null,29,283,47,-97.562499999999943,0.6228352490421456,0.86527804318746415,{"$f":"IF(SUMIF(S678:S698,\">0\",K678:K698)=0,\"\",SUMIF(S678:S698,\">0\",K678:K698))","v":6525},{"$f":"IF(SUM(S678:S698)=0,\"\",SUM(S678:S698))","v":4175},{"$f":"IFERROR(AL678/AK678,\"-\")","v":0.63984674329501912},{"$f":"IF(SUM(M678:M698)=0,\"0\",SUM(M678:M698))","v":707.8125},{"$f":"IFERROR(AN678/AK678,\"-\")","v":0.10847701149425287},{"$f":"IF(SUM(P678:P698)=0,0,SUM(P678:P698))","v":0},{"$f":"IFERROR(AP678/AK678,\"-\")","v":0},{"$f":"IFERROR(AVERAGE(AJ678:AJ698),\"-\")","v":0.96089872966067069},{"$f":"IFERROR(SUMIF($AB678:$AB698,AS$5,$AJ678:$AJ698)/COUNTIFS($AB678:$AB698,AS$5,$AJ678:$AJ698,\">0\"),\"\")","v":0.9814112176109957},0.91730332281345273,0.99270072992700731,{"$f":"IFERROR((AK678-AL678-AN678-AP678),\"-\")","v":1642.1875},{"$f":"IFERROR((1-AM678-AO678-AQ678), \"-\")","v":0.25167624521072801},{"$f":"IFERROR((AV678*$AE$2)/60,\"-\")","v":1751.6666666666667},{"$f":"IFERROR(SUM(AG678:AG698),\"\")","v":212}]
["33maMD",{"$f":"VLOOKUP($AA679,DATA!$B$3:$E679,2,0)","v":"14:30:00"},{"$f":"VLOOKUP($AA679,DATA!$B$3:$E679,3,0)","v":"22:30:00"},{"$f":"VLOOKUP($AA679,DATA!$B$3:$E679,4,0)","v":3.125E-2},0.30208333333333337,0.28819444444444448,{"$f":"DATA!$C$9","v":0.89},{"$f":"DATA!$C$10","v":64},1,389.06250000000006,407.81250000000006,1.3888888888888888E-2,18.75,4.5977011494252866E-2,{"$f":"TIME(INT(AD679/60),INT(MOD(AD679,60)/1),0)","v":0},"","",333.86666666666667,288,288,"","",null,{"$f":"X688","v":33},null,{"$f":"TEXT(Y678,\"ddd\")","v":"ma"},"MD",{"$f":"IFERROR(HLOOKUP(Y678,[1]DATA!$A$1:$NB$5,4,0),\"\")","v":"D1"},20,null,25,313,20,-101.06250000000006,0.70620689655172408,0.94348153730218542]
["33maND",{"$f":"VLOOKUP($AA680,DATA!$B$3:$E680,2,0)","v":"22:30:00"},{"$f":"VLOOKUP($AA680,DATA!$B$3:$E680,3,0)","v":"06:30:00"},{"$f":"VLOOKUP($AA680,DATA!$B$3:$E680,4,0)","v":3.125E-2},0.30208333333333326,0.26736111111111105,{"$f":"DATA!$C$9","v":0.89},{"$f":"DATA!$C$10","v":64},1,360.93749999999994,407.81249999999989,3.4722222222222224E-2,46.875,0.11494252873563221,0,"","",316.8,282,"","",282,null,{"$f":"X688","v":33},null,{"$f":"TEXT(Y678,\"ddd\")","v":"ma"},"ND",{"$f":"IFERROR(HLOOKUP(Y678,[1]DATA!$A$1:$NB$5,5,0),\"\")","v":"D3"},50,null,15,297,{"$f":"VLOOKUP(Y678,[1]SRM!$S$4:$Z$368,4,0)","v":12},-78.937499999999943,0.69149425287356336,0.96350364963503654]
["33diDD",{"$f":"VLOOKUP($AA681,DATA!$B$3:$E681,2,0)","v":"06:30:00"},{"$f":"VLOOKUP($AA681,DATA!$B$3:$E681,3,0)","v":"14:30:00"},{"$f":"VLOOKUP($AA681,DATA!$B$3:$E681,4,0)","v":3.125E-2},0.30208333333333331,0.26597222222222222,{"$f":"DATA!$C$9","v":0.89},{"$f":"DATA!$C$10","v":64},1,359.0625,407.8125,3.6111111111111115E-2,48.750000000000007,0.11954022988505748,0,"","",310.39999999999998,277,"",277,"",null,{"$f":"X688","v":33},"2018-08-14",{"$f":"TEXT(Y681,\"ddd\")","v":"di"},"DD",{"$f":"IFERROR(HLOOKUP(Y681,[1]DATA!$A$1:$NB$5,3,0),\"\")","v":"D2"},52,null,14,291,{"$f":"VLOOKUP(Y681,[1]SRM!$S$4:$Z$368,2,0)","v":44},-82.0625,0.67923371647509578,0.87584650112866813]
["33diMD",{"$f":"VLOOKUP($AA682,DATA!$B$3:$E682,2,0)","v":"14:30:00"},{"$f":"VLOOKUP($AA682,DATA!$B$3:$E682,3,0)","v":"22:30:00"},{"$f":"VLOOKUP($AA682,DATA!$B$3:$E682,4,0)","v":3.125E-2},0.30208333333333337,0.26527777777777783,{"$f":"DATA!$C$9","v":0.89},{"$f":"DATA!$C$10","v":64},1,358.12500000000006,407.81250000000006,3.6805555555555557E-2,49.6875,0.1218390804597701,0,"","",264.5333333333333,229,229,"","",null,{"$f":"X688","v":33},null,{"$f":"TEXT(Y681,\"ddd\")","v":"di"},"MD",{"$f":"IFERROR(HLOOKUP(Y681,[1]DATA!$A$1:$NB$5,4,0),\"\")","v":"D1"},53,null,19,248,{"$f":"VLOOKUP(Y681,[1]SRM!$S$4:$Z$368,3,0)","v":10},-129.12500000000006,0.56153256704980836,0.96357455075279264]
["33diND",{"$f":"VLOOKUP($AA683,DATA!$B$3:$E683,2,0)","v":"22:30:00"},{"$f":"VLOOKUP($AA683,DATA!$B$3:$E683,3,0)","v":"06:30:00"},{"$f":"VLOOKUP($AA683,DATA!$B$3:$E683,4,0)","v":3.125E-2},0.30208333333333326,0.26874999999999993,{"$f":"DATA!$C$9","v":0.89},{"$f":"DATA!$C$10","v":64},1,362.81249999999989,407.81249999999989,3.3333333333333333E-2,45,0.11034482758620692,0,"","",279.46666666666664,249,"","",249,null,{"$f":"X688","v":33},null,{"$f":"TEXT(Y681,\"ddd\")","v":"di"},"ND",{"$f":"IFERROR(HLOOKUP(Y681,[1]DATA!$A$1:$NB$5,5,0),\"\")","v":"D3"},48,null,13,262,{"$f":"VLOOKUP(Y681,[1]SRM!$S$4:$Z$368,4,0)","v":0},-113.81249999999989,0.61057471264367835,1]
["33woDD",{"$f":"VLOOKUP($AA684,DATA!$B$3:$E684,2,0)","v":"06:30:00"},{"$f":"VLOOKUP($AA684,DATA!$B$3:$E684,3,0)","v":"14:30:00"},{"$f":"VLOOKUP($AA684,DATA!$B$3:$E684,4,0)","v":3.125E-2},0.30208333333333331,0.26180555555555551,{"$f":"DATA!$C$9","v":0.89},{"$f":"DATA!$C$10","v":64},1,353.43749999999994,407.8125,4.027777777777778E-2,54.375,0.13333333333333333,0,"","",273.06666666666666,243,"",243,"",null,{"$f":"X688","v":33},"2018-08-15",{"$f":"TEXT(Y684,\"ddd\")","v":"wo"},"DD",{"$f":"IFERROR(HLOOKUP(Y684,[1]DATA!$A$1:$NB$5,3,0),\"\")","v":"D2"},58,null,13,256,56,-110.43749999999994,0.59586206896551719,0.82982171799027549]
["33woMD",{"$f":"VLOOKUP($AA685,DATA!$B$3:$E685,2,0)","v":"14:30:00"},{"$f":"VLOOKUP($AA685,DATA!$B$3:$E685,3,0)","v":"22:30:00"},{"$f":"VLOOKUP($AA685,DATA!$B$3:$E685,4,0)","v":3.125E-2},0.30208333333333337,0.25625000000000003,{"$f":"DATA!$C$9","v":0.89},{"$f":"DATA!$C$10","v":64},1,345.93750000000006,407.81250000000006,4.5833333333333337E-2,61.875000000000007,0.15172413793103448,0,"","",359.46666666666664,310,310,"","",null,{"$f":"X688","v":33},null,{"$f":"TEXT(Y684,\"ddd\")","v":"wo"},"MD",{"$f":"IFERROR(HLOOKUP(Y684,[1]DATA!$A$1:$NB$5,4,0),\"\")","v":"D1"},66,null,27,337,{"$f":"VLOOKUP(Y684,[1]SRM!$S$4:$Z$368,3,0)","v":0},-35.937500000000057,0.76015325670498068,1]
["33woND",{"$f":"VLOOKUP($AA686,DATA!$B$3:$E686,2,0)","v":"22:30:00"},{"$f":"VLOOKUP($AA686,DATA!$B$3:$E686,3,0)","v":"06:30:00"},{"$f":"VLOOKUP($AA686,DATA!$B$3:$E686,4,0)","v":3.125E-2},0.30208333333333326,0.25902777777777769,{"$f":"DATA!$C$9","v":0.89},{"$f":"DATA!$C$10","v":64},1,349.68749999999989,407.81249999999989,4.3055555555555562E-2,58.125000000000007,0.14252873563218396,0,"","",353.06666666666666,317,"","",317,null,{"$f":"X688","v":33},null,{"$f":"TEXT(Y684,\"ddd\")","v":"wo"},"ND",{"$f":"IFERROR(HLOOKUP(Y684,[1]DATA!$A$1:$NB$5,5,0),\"\")","v":"D3"},62,null,14,331,{"$f":"VLOOKUP(Y684,[1]SRM!$S$4:$Z$368,4,0)","v":0},-32.687499999999886,0.77731800766283543,1]
["33doDD",{"$f":"VLOOKUP($AA687,DATA!$B$3:$E687,2,0)","v":"06:30:00"},{"$f":"VLOOKUP($AA687,DATA!$B$3:$E687,3,0)","v":"14:30:00"},{"$f":"VLOOKUP($AA687,DATA!$B$3:$E687,4,0)","v":3.125E-2},0.30208333333333331,0.28749999999999998,{"$f":"DATA!$C$9","v":0.89},{"$f":"DATA!$C$10","v":64},1,388.12499999999994,407.8125,1.4583333333333332E-2,19.687499999999996,4.827586206896551E-2,0,"","",230.4,205,"",205,"",null,{"$f":"X688","v":33},"2018-08-16",{"$f":"TEXT(Y687,\"ddd\")","v":"do"},"DD",{"$f":"IFERROR(HLOOKUP(Y687,[1]DATA!$A$1:$NB$5,3,0),\"\")","v":"D2"},21,null,11,216,{"$f":"VLOOKUP(Y687,[1]SRM!$S$4:$Z$368,2,0)","v":4},-183.12499999999994,0.50268199233716471,0.98293515358361772]
[{"$f":"X688&Z688&AA688","v":"33doMD"},{"$f":"VLOOKUP($AA688,DATA!$B$3:$E688,2,0)","v":"14:30:00"},{"$f":"VLOOKUP($AA688,DATA!$B$3:$E688,3,0)","v":"22:30:00"},{"$f":"VLOOKUP($AA688,DATA!$B$3:$E688,4,0)","v":3.125E-2},0.30208333333333337,0.23611111111111116,{"$f":"DATA!$C$9","v":0.89},{"$f":"DATA!$C$10","v":64},1,318.75000000000006,407.81250000000006,6.5972222222222224E-2,89.0625,0.21839080459770113,0,{"$f":"IF($O688*86400/$H688=0,\"\",$O688*86400/$H688)","v":""},"",311.46666666666664,279,279,"","",null,{"$f":"WEEKNUM($Y678)","v":33},null,{"$f":"TEXT(Y687,\"ddd\")","v":"do"},"MD",{"$f":"IFERROR(HLOOKUP(Y687,[1]DATA!$A$1:$NB$5,4,0),\"\")","v":"D1"},95,null,13,292,{"$f":"VLOOKUP(Y687,[1]SRM!$S$4:$Z$368,3,0)","v":0},-39.750000000000057,0.68413793103448262,1]
["33doND",{"$f":"VLOOKUP($AA689,DATA!$B$3:$E689,2,0)","v":"22:30:00"},{"$f":"VLOOKUP($AA689,DATA!$B$3:$E689,3,0)","v":"06:30:00"},{"$f":"VLOOKUP($AA689,DATA!$B$3:$E689,4,0)","v":3.125E-2},0.30208333333333326,0.26666666666666661,{"$f":"DATA!$C$9","v":0.89},{"$f":"DATA!$C$10","v":64},1,359.99999999999994,407.81249999999989,3.5416666666666666E-2,47.8125,0.11724137931034485,0,"","",312.5333333333333,266,"","",266,null,{"$f":"X688","v":33},null,{"$f":"TEXT(Y687,\"ddd\")","v":"do"},"ND",{"$f":"IFERROR(HLOOKUP(Y687,[1]DATA!$A$1:$NB$5,5,0),\"\")","v":"D3"},51,null,27,293,{"$f":"VLOOKUP(Y687,[1]SRM!$S$4:$Z$368,4,0)","v":0},-93.999999999999943,0.65226053639846759,1]
["33vrDD",{"$f":"VLOOKUP($AA690,DATA!$B$3:$E690,2,0)","v":"06:30:00"},{"$f":"VLOOKUP($AA690,DATA!$B$3:$E690,3,0)","v":"14:30:00"},{"$f":"VLOOKUP($AA690,DATA!$B$3:$E690,4,0)","v":3.125E-2},0.30208333333333331,0.29791666666666666,{"$f":"DATA!$C$9","v":0.89},{"$f":"DATA!$C$10","v":64},1,402.1875,407.8125,4.1666666666666666E-3,5.625,1.3793103448275862E-2,0,"","",360.5333333333333,305,"",305,"",null,{"$f":"X688","v":33},"2018-08-17",{"$f":"TEXT(Y690,\"ddd\")","v":"vr"},"DD",{"$f":"IFERROR(HLOOKUP(Y690,[1]DATA!$A$1:$NB$5,3,0),\"\")","v":"D2"},6,null,33,338,{"$f":"VLOOKUP(Y690,[1]SRM!$S$4:$Z$368,2,0)","v":19},-97.1875,0.74789272030651344,0.94993852099069032]
["33vrMD",{"$f":"VLOOKUP($AA691,DATA!$B$3:$E691,2,0)","v":"14:30:00"},{"$f":"VLOOKUP($AA691,DATA!$B$3:$E691,3,0)","v":"22:30:00"},{"$f":"VLOOKUP($AA691,DATA!$B$3:$E691,4,0)","v":3.125E-2},0.30208333333333337,0.27569444444444446,{"$f":"DATA!$C$9","v":0.89},{"$f":"DATA!$C$10","v":64},1,372.1875,407.81250000000006,2.6388888888888889E-2,35.625,8.7356321839080445E-2,0,"","",230.4,211,211,"","",null,{"$f":"X688","v":33},null,{"$f":"TEXT(Y690,\"ddd\")","v":"vr"},"MD",{"$f":"IFERROR(HLOOKUP(Y690,[1]DATA!$A$1:$NB$5,4,0),\"\")","v":"D1"},38,null,5,216,{"$f":"VLOOKUP(Y690,[1]SRM!$S$4:$Z$368,3,0)","v":0},-161.1875,0.51739463601532565,1]
["33vrND",{"$f":"VLOOKUP($AA692,DATA!$B$3:$E692,2,0)","v":"22:30:00"},{"$f":"VLOOKUP($AA692,DATA!$B$3:$E692,3,0)","v":"06:30:00"},{"$f":"VLOOKUP($AA692,DATA!$B$3:$E692,4,0)","v":3.125E-2},0.30208333333333326,0.29027777777777769,{"$f":"DATA!$C$9","v":0.89},{"$f":"DATA!$C$10","v":64},1,391.87499999999989,407.81249999999989,1.1805555555555555E-2,15.9375,3.9080459770114956E-2,0,"","",133.33333333333334,115,"","",115,null,{"$f":"X688","v":33},null,{"$f":"TEXT(Y690,\"ddd\")","v":"vr"},"ND",{"$f":"IFERROR(HLOOKUP(Y690,[1]DATA!$A$1:$NB$5,5,0),\"\")","v":"D3"},17,null,10,125,{"$f":"VLOOKUP(Y690,[1]SRM!$S$4:$Z$368,4,0)","v":0},-276.87499999999989,0.28199233716475103,1]
["33zaDD",{"$f":"VLOOKUP($AA693,DATA!$B$3:$E693,2,0)","v":"06:30:00"},{"$f":"VLOOKUP($AA693,DATA!$B$3:$E693,3,0)","v":"14:30:00"},{"$f":"VLOOKUP($AA693,DATA!$B$3:$E693,4,0)","v":3.125E-2},0.30208333333333331,0.26180555555555551,{"$f":"DATA!$C$9","v":0.89},{"$f":"DATA!$C$10","v":64},1,353.43749999999994,407.8125,4.027777777777778E-2,54.375,0.13333333333333333,0,"","",408.5333333333333,345,"",345,"",null,{"$f":"X688","v":33},"2018-08-18",{"$f":"TEXT(Y693,\"ddd\")","v":"za"},"DD",{"$f":"IFERROR(HLOOKUP(Y693,[1]DATA!$A$1:$NB$5,3,0),\"\")","v":"D2"},58,null,38,383,{"$f":"VLOOKUP(Y693,[1]SRM!$S$4:$Z$368,2,0)","v":0},-8.4374999999999432,0.84597701149425286,1]
["33zaMD",{"$f":"VLOOKUP($AA694,DATA!$B$3:$E694,2,0)","v":"14:30:00"},{"$f":"VLOOKUP($AA694,DATA!$B$3:$E694,3,0)","v":"22:30:00"},{"$f":"VLOOKUP($AA694,DATA!$B$3:$E694,4,0)","v":3.125E-2},0.30208333333333337,0.30208333333333337,{"$f":"DATA!$C$9","v":0.89},{"$f":"DATA!$C$10","v":64},1,407.81250000000006,407.81250000000006,0,"","",0,"","",0,"","","","",null,{"$f":"X688","v":33},null,{"$f":"TEXT(Y693,\"ddd\")","v":"za"},"MD",{"$f":"IFERROR(HLOOKUP(Y693,[1]DATA!$A$1:$NB$5,4,0),\"\")","v":"-"},null,null,null,null,{"$f":"VLOOKUP(Y693,[1]SRM!$S$4:$Z$368,3,0)","v":0},"","",""]
["33zaND",{"$f":"VLOOKUP($AA695,DATA!$B$3:$E695,2,0)","v":"22:30:00"},{"$f":"VLOOKUP($AA695,DATA!$B$3:$E695,3,0)","v":"06:30:00"},{"$f":"VLOOKUP($AA695,DATA!$B$3:$E695,4,0)","v":3.125E-2},0.30208333333333326,0.30208333333333326,{"$f":"DATA!$C$9","v":0.89},{"$f":"DATA!$C$10","v":64},1,407.81249999999989,407.81249999999989,0,"","",0,"","",0,"","","","",null,{"$f":"X688","v":33},null,{"$f":"TEXT(Y693,\"ddd\")","v":"za"},"ND",{"$f":"IFERROR(HLOOKUP(Y693,[1]DATA!$A$1:$NB$5,5,0),\"\")","v":"-"},null,null,null,null,{"$f":"VLOOKUP(Y693,[1]SRM!$S$4:$Z$368,4,0)","v":0},"","",""]
["33zoDD",{"$f":"VLOOKUP($AA696,DATA!$B$3:$E696,2,0)","v":"06:30:00"},{"$f":"VLOOKUP($AA696,DATA!$B$3:$E696,3,0)","v":"14:30:00"},{"$f":"VLOOKUP($AA696,DATA!$B$3:$E696,4,0)","v":3.125E-2},0.30208333333333331,0.30208333333333331,{"$f":"DATA!$C$9","v":0.89},{"$f":"DATA!$C$10","v":64},1,407.8125,407.8125,0,"","",0,"","",0,"","","","",null,{"$f":"X688","v":33},{"$f":"Y693+1","v":"2018-08-19"},{"$f":"TEXT(Y696,\"ddd\")","v":"zo"},"DD",{"$f":"IFERROR(HLOOKUP(Y696,[1]DATA!$A$1:$NB$5,3,0),\"\")","v":"-"},null,null,null,null,{"$f":"VLOOKUP(Y696,[1]SRM!$S$4:$Z$368,2,0)","v":0},"","",""]
["33zoMD",{"$f":"VLOOKUP($AA697,DATA!$B$3:$E697,2,0)","v":"14:30:00"},{"$f":"VLOOKUP($AA697,DATA!$B$3:$E697,3,0)","v":"22:30:00"},{"$f":"VLOOKUP($AA697,DATA!$B$3:$E697,4,0)","v":3.125E-2},0.30208333333333337,0.30208333333333337,{"$f":"DATA!$C$9","v":0.89},{"$f":"DATA!$C$10","v":64},1,407.81250000000006,407.81250000000006,0,"","",0,"","",0,"","","","",null,{"$f":"X688","v":33},null,{"$f":"TEXT(Y696,\"ddd\")","v":"zo"},"MD",{"$f":"IFERROR(HLOOKUP(Y696,[1]DATA!$A$1:$NB$5,4,0),\"\")","v":"-"},null,null,null,null,{"$f":"VLOOKUP(Y696,[1]SRM!$S$4:$Z$368,3,0)","v":0},"","",""]
["33zoZND",{"$f":"VLOOKUP($AA698,DATA!$B$3:$E698,2,0)","v":"00:00:00"},{"$f":"VLOOKUP($AA698,DATA!$B$3:$E698,3,0)","v":"00:00:00"},{"$f":"VLOOKUP($AA698,DATA!$B$3:$E698,4,0)","v":0},0,0,{"$f":"DATA!$C$9","v":0.89},{"$f":"DATA!$C$10","v":64},1,0,0,0,"","",0,"","",0,"","","","",null,{"$f":"X688","v":33},null,{"$f":"TEXT(Y696,\"ddd\")","v":"zo"},"ZND",{"$f":"IFERROR(HLOOKUP(Y696,[1]DATA!$A$1:$NB$5,5,0),\"\")","v":"-"},null,null,null,null,{"$f":"VLOOKUP(Y696,[1]SRM!$S$4:$Z$368,4,0)","v":0},"","",""]
["34maDD",{"$f":"VLOOKUP($AA699,DATA!$B$3:$E699,2,0)","v":"06:30:00"},{"$f":"VLOOKUP($AA699,DATA!$B$3:$E699,3,0)","v":"14:30:00"},{"$f":"VLOOKUP($AA699,DATA!$B$3:$E699,4,0)","v":3.125E-2},0.30208333333333331,0.26874999999999999,{"$f":"DATA!$C$9","v":0.89},{"$f":"DATA!$C$10","v":64},1,362.8125,407.8125,3.3333333333333333E-2,45,0.1103448275862069,{"$f":"TIME(INT($AD699/60),INT(MOD($AD699,60)/1),0)","v":0},"","",325.33333333333331,274,274,"","",null,{"$f":"X709","v":34},"2018-08-20",{"$f":"TEXT(Y699,\"ddd\")","v":"ma"},"DD",{"$f":"IFERROR(HLOOKUP(Y699,[1]DATA!$A$1:$NB$5,3,0),\"\")","v":"D1"},48,null,31,305,{"$f":"VLOOKUP(Y699,[1]SRM!$S$4:$Z$368,2,0)","v":15},-88.8125,0.67187739463601537,0.95592556317335942,{"$f":"IF(SUMIF(S699:S719,\">0\",K699:K719)=0,\"\",SUMIF(S699:S719,\">0\",K699:K719))","v":6117.1875},{"$f":"IF(SUM(S699:S719)=0,\"\",SUM(S699:S719))","v":4335},{"$f":"IFERROR(AL699/AK699,\"-\")","v":0.70865900383141767},{"$f":"IF(SUM(M699:M719)=0,\"0\",SUM(M699:M719))","v":604.6875},{"$f":"IFERROR(AN699/AK699,\"-\")","v":9.8850574712643677E-2},{"$f":"IF(SUM(P699:P719)=0,0,SUM(P699:P719))","v":0},{"$f":"IFERROR(AP699/AK699,\"-\")","v":0},{"$f":"IFERROR(AVERAGE(AJ699:AJ719),\"-\")","v":0.90638274053396528},{"$f":"IFERROR(SUMIF($AB699:$AB719,AS$5,$AJ699:$AJ719)/COUNTIFS($AB699:$AB719,AS$5,$AJ699:$AJ719,\">0\"),\"\")","v":0.96386942829987032},0.91561688669472741,0.83966190660729845,{"$f":"IFERROR((AK699-AL699-AN699-AP699),\"-\")","v":1177.5},{"$f":"IFERROR((1-AM699-AO699-AQ699), \"-\")","v":0.19249042145593864},{"$f":"IFERROR((AV699*$AE$2)/60,\"-\")","v":1256},{"$f":"IFERROR(SUM(AG699:AG719),\"\")","v":522}]
["34maMD",{"$f":"VLOOKUP($AA700,DATA!$B$3:$E700,2,0)","v":"14:30:00"},{"$f":"VLOOKUP($AA700,DATA!$B$3:$E700,3,0)","v":"22:30:00"},{"$f":"VLOOKUP($AA700,DATA!$B$3:$E700,4,0)","v":3.125E-2},0.30208333333333337,0.29722222222222228,{"$f":"DATA!$C$9","v":0.89},{"$f":"DATA!$C$10","v":64},1,401.25000000000006,407.81250000000006,4.8611111111111112E-3,6.5625,1.6091954022988502E-2,{"$f":"TIME(INT(AD700/60),INT(MOD(AD700,60)/1),0)","v":0},"","",341.33333333333331,313,"","",313,null,{"$f":"X709","v":34},null,{"$f":"TEXT(Y699,\"ddd\")","v":"ma"},"MD",{"$f":"IFERROR(HLOOKUP(Y699,[1]DATA!$A$1:$NB$5,4,0),\"\")","v":"D3"},7,null,7,320,{"$f":"VLOOKUP(Y699,[1]SRM!$S$4:$Z$368,3,0)","v":47},-88.250000000000057,0.76750957854406121,0.87896995708154502]
["34maND",{"$f":"VLOOKUP($AA701,DATA!$B$3:$E701,2,0)","v":"22:30:00"},{"$f":"VLOOKUP($AA701,DATA!$B$3:$E701,3,0)","v":"06:30:00"},{"$f":"VLOOKUP($AA701,DATA!$B$3:$E701,4,0)","v":3.125E-2},0.30208333333333326,0.26111111111111102,{"$f":"DATA!$C$9","v":0.89},{"$f":"DATA!$C$10","v":64},1,352.49999999999989,407.81249999999989,4.0972222222222222E-2,55.3125,0.13563218390804602,0,"","",226.13333333333333,182,"",182,"",null,{"$f":"X709","v":34},null,{"$f":"TEXT(Y699,\"ddd\")","v":"ma"},"ND",{"$f":"IFERROR(HLOOKUP(Y699,[1]DATA!$A$1:$NB$5,5,0),\"\")","v":"D2"},59,null,30,212,{"$f":"VLOOKUP(Y699,[1]SRM!$S$4:$Z$368,4,0)","v":43},-170.49999999999989,0.44628352490421469,0.84022789199900916]
["34diDD",{"$f":"VLOOKUP($AA702,DATA!$B$3:$E702,2,0)","v":"06:30:00"},{"$f":"VLOOKUP($AA702,DATA!$B$3:$E702,3,0)","v":"14:30:00"},{"$f":"VLOOKUP($AA702,DATA!$B$3:$E702,4,0)","v":3.125E-2},0.30208333333333331,0.27361111111111108,{"$f":"DATA!$C$9","v":0.89},{"$f":"DATA!$C$10","v":64},1,369.37499999999994,407.8125,2.8472222222222222E-2,38.4375,9.4252873563218389E-2,0,"","",326.39999999999998,269,269,"","",null,{"$f":"X709","v":34},"2018-08-21",{"$f":"TEXT(Y702,\"ddd\")","v":"di"},"DD",{"$f":"IFERROR(HLOOKUP(Y702,[1]DATA!$A$1:$NB$5,3,0),\"\")","v":"D1"},41,null,37,306,{"$f":"VLOOKUP(Y702,[1]SRM!$S$4:$Z$368,2,0)","v":30},-100.37499999999994,0.6596168582375479,0.91582491582491588]
["34diMD",{"$f":"VLOOKUP($AA703,DATA!$B$3:$E703,2,0)","v":"14:30:00"},{"$f":"VLOOKUP($AA703,DATA!$B$3:$E703,3,0)","v":"22:30:00"},{"$f":"VLOOKUP($AA703,DATA!$B$3:$E703,4,0)","v":3.125E-2},0.30208333333333337,0.30208333333333337,{"$f":"DATA!$C$9","v":0.89},{"$f":"DATA!$C$10","v":64},1,407.81250000000006,407.81250000000006,0,"","",0,"","",352,297,"","",297,null,{"$f":"X709","v":34},null,{"$f":"TEXT(Y702,\"ddd\")","v":"di"},"MD",{"$f":"IFERROR(HLOOKUP(Y702,[1]DATA!$A$1:$NB$5,4,0),\"\")","v":"D3"},0,null,33,330,{"$f":"VLOOKUP(Y702,[1]SRM!$S$4:$Z$368,3,0)","v":104},-110.81250000000006,0.72827586206896544,0.77192982456140347]
["34diND",{"$f":"VLOOKUP($AA704,DATA!$B$3:$E704,2,0)","v":"22:30:00"},{"$f":"VLOOKUP($AA704,DATA!$B$3:$E704,3,0)","v":"06:30:00"},{"$f":"VLOOKUP($AA704,DATA!$B$3:$E704,4,0)","v":3.125E-2},0.30208333333333326,0.25833333333333325,{"$f":"DATA!$C$9","v":0.89},{"$f":"DATA!$C$10","v":64},1,348.74999999999989,407.81249999999989,4.3750000000000004E-2,59.062500000000007,0.14482758620689662,0,"","",357.33333333333331,300,"",300,"",null,{"$f":"X709","v":34},null,{"$f":"TEXT(Y702,\"ddd\")","v":"di"},"ND",{"$f":"IFERROR(HLOOKUP(Y702,[1]DATA!$A$1:$NB$5,5,0),\"\")","v":"D2"},63,null,35,335,{"$f":"VLOOKUP(Y702,[1]SRM!$S$4:$Z$368,4,0)","v":12},-48.749999999999886,0.73563218390804619,0.96750902527075811]
["34woDD",{"$f":"VLOOKUP($AA705,DATA!$B$3:$E705,2,0)","v":"06:30:00"},{"$f":"VLOOKUP($AA705,DATA!$B$3:$E705,3,0)","v":"14:30:00"},{"$f":"VLOOKUP($AA705,DATA!$B$3:$E705,4,0)","v":3.125E-2},0.30208333333333331,0.26111111111111107,{"$f":"DATA!$C$9","v":0.89},{"$f":"DATA!$C$10","v":64},1,352.49999999999994,407.8125,4.0972222222222222E-2,55.3125,0.13563218390804599,0,"","",389.33333333333331,330,330,"","",null,{"$f":"X709","v":34},"2018-08-22",{"$f":"TEXT(Y705,\"ddd\")","v":"wo"},"DD",{"$f":"IFERROR(HLOOKUP(Y705,[1]DATA!$A$1:$NB$5,3,0),\"\")","v":"D1"},59,null,35,365,{"$f":"VLOOKUP(Y705,[1]SRM!$S$4:$Z$368,2,0)","v":8},-22.499999999999943,0.80919540229885056,0.97986577181208057]
["34woMD",{"$f":"VLOOKUP($AA706,DATA!$B$3:$E706,2,0)","v":"14:30:00"},{"$f":"VLOOKUP($AA706,DATA!$B$3:$E706,3,0)","v":"22:30:00"},{"$f":"VLOOKUP($AA706,DATA!$B$3:$E706,4,0)","v":3.125E-2},0.30208333333333337,0.26527777777777783,{"$f":"DATA!$C$9","v":0.89},{"$f":"DATA!$C$10","v":64},1,358.12500000000006,407.81250000000006,3.6805555555555557E-2,49.6875,0.1218390804597701,0,"","",275.2,247,"","",247,null,{"$f":"X709","v":34},null,{"$f":"TEXT(Y705,\"ddd\")","v":"wo"},"MD",{"$f":"IFERROR(HLOOKUP(Y705,[1]DATA!$A$1:$NB$5,4,0),\"\")","v":"D3"},53,null,11,258,{"$f":"VLOOKUP(Y705,[1]SRM!$S$4:$Z$368,3,0)","v":50},-111.12500000000006,0.60567049808429108,0.84624846248462482]
["34woND",{"$f":"VLOOKUP($AA707,DATA!$B$3:$E707,2,0)","v":"22:30:00"},{"$f":"VLOOKUP($AA707,DATA!$B$3:$E707,3,0)","v":"06:30:00"},{"$f":"VLOOKUP($AA707,DATA!$B$3:$E707,4,0)","v":3.125E-2},0.30208333333333326,0.26249999999999996,{"$f":"DATA!$C$9","v":0.89},{"$f":"DATA!$C$10","v":64},1,354.37499999999994,407.81249999999989,3.9583333333333331E-2,53.4375,0.13103448275862073,0,"","",268.8,225,"",225,"",null,{"$f":"X709","v":34},null,{"$f":"TEXT(Y705,\"ddd\")","v":"wo"},"ND",{"$f":"IFERROR(HLOOKUP(Y705,[1]DATA!$A$1:$NB$5,5,0),\"\")","v":"D2"},57,null,27,252,{"$f":"VLOOKUP(Y705,[1]SRM!$S$4:$Z$368,4,0)","v":48},-129.37499999999994,0.55172413793103459,0.84848484848484851]
["34doDD",{"$f":"VLOOKUP($AA708,DATA!$B$3:$E708,2,0)","v":"06:30:00"},{"$f":"VLOOKUP($AA708,DATA!$B$3:$E708,3,0)","v":"14:30:00"},{"$f":"VLOOKUP($AA708,DATA!$B$3:$E708,4,0)","v":3.125E-2},0.30208333333333331,0.29236111111111107,{"$f":"DATA!$C$9","v":0.89},{"$f":"DATA!$C$10","v":64},1,394.68749999999994,407.8125,9.7222222222222224E-3,13.125,3.2183908045977011E-2,0,"","",358.4,305,305,"","",null,{"$f":"X709","v":34},"2018-08-23",{"$f":"TEXT(Y708,\"ddd\")","v":"do"},"DD",{"$f":"IFERROR(HLOOKUP(Y708,[1]DATA!$A$1:$NB$5,3,0),\"\")","v":"D1"},14,null,31,336,{"$f":"VLOOKUP(Y708,[1]SRM!$S$4:$Z$368,2,0)","v":10},-89.687499999999943,0.74789272030651344,0.97285559174809988]
["34doMD",{"$f":"VLOOKUP($AA709,DATA!$B$3:$E709,2,0)","v":"14:30:00"},{"$f":"VLOOKUP($AA709,DATA!$B$3:$E709,3,0)","v":"22:30:00"},{"$f":"VLOOKUP($AA709,DATA!$B$3:$E709,4,0)","v":3.125E-2},0.30208333333333337,0.25625000000000003,{"$f":"DATA!$C$9","v":0.89},{"$f":"DATA!$C$10","v":64},1,345.93750000000006,407.81250000000006,4.5833333333333337E-2,61.875000000000007,0.15172413793103448,0,"","",318.93333333333334,287,"","",287,null,{"$f":"WEEKNUM($Y699)","v":34},null,{"$f":"TEXT(Y708,\"ddd\")","v":"do"},"MD",{"$f":"IFERROR(HLOOKUP(Y708,[1]DATA!$A$1:$NB$5,4,0),\"\")","v":"D3"},66,null,12,299,{"$f":"VLOOKUP(Y708,[1]SRM!$S$4:$Z$368,3,0)","v":90},-58.937500000000057,0.7037547892720305,0.7799152266058037]
["34doND",{"$f":"VLOOKUP($AA710,DATA!$B$3:$E710,2,0)","v":"22:30:00"},{"$f":"VLOOKUP($AA710,DATA!$B$3:$E710,3,0)","v":"06:30:00"},{"$f":"VLOOKUP($AA710,DATA!$B$3:$E710,4,0)","v":3.125E-2},0.30208333333333326,0.27986111111111106,{"$f":"DATA!$C$9","v":0.89},{"$f":"DATA!$C$10","v":64},1,{"$f":"F710*86400/H710*I710","v":377.81249999999994},{"$f":"E710*86400/H710","v":407.81249999999989},2.2222222222222223E-2,30,7.3563218390804624E-2,0,"","",{"$f":"AF710*AG$2","v":389.33333333333331},{"$f":"IF(AF710-AE710=0,\"\",AF710-AE710)","v":338},"",338,"",null,{"$f":"X709","v":34},null,{"$f":"TEXT(Y708,\"ddd\")","v":"do"},"ND",{"$f":"IFERROR(HLOOKUP(Y708,[1]DATA!$A$1:$NB$5,5,0),\"\")","v":"D2"},32,null,27,365,{"$f":"VLOOKUP(Y708,[1]SRM!$S$4:$Z$368,4,0)","v":33},{"$f":"IFERROR(S710-J710,\"\")","v":-39.812499999999943},{"$f":"IFERROR(IF(S710/(E710*86400/H710)<=0,\"\",S710/(E710*86400/H710)),\"\")","v":0.82881226053639867},0.92186266771902126]
["34vrDD",{"$f":"VLOOKUP($AA711,DATA!$B$3:$E711,2,0)","v":"06:30:00"},{"$f":"VLOOKUP($AA711,DATA!$B$3:$E711,3,0)","v":"14:30:00"},{"$f":"VLOOKUP($AA711,DATA!$B$3:$E711,4,0)","v":3.125E-2},0.30208333333333331,0.2631944444444444,{"$f":"DATA!$C$9","v":0.89},{"$f":"DATA!$C$10","v":64},1,355.31249999999994,407.8125,{"$f":"TIME(INT($AC711/60),INT(MOD($AC711,60)/1),0)","v":3.888888888888889E-2},{"$f":"IF($L711*86400/$H711=0,\"\",$L711*86400/$H711)","v":52.5},{"$f":"IFERROR($M711/$K711,\"\")","v":0.12873563218390804},0,"",{"$f":"IFERROR($P711/$K711,\"\")","v":""},388.26666666666665,335,{"$f":"IF(IF($AB711=\"D1\",$S711,\"\")=0,\"\",IF($AB711=\"D1\",$S711,\"\"))","v":335},{"$f":"IF(IF($AB711=\"D2\",$S711,\"\")=0,\"\",IF($AB711=\"D2\",$S711,\"\"))","v":""},{"$f":"IF(IF($AB711=\"D3\",$S711,\"\")=0,\"\",IF($AB711=\"D3\",$S711,\"\"))","v":""},null,{"$f":"X709","v":34},"2018-08-24",{"$f":"TEXT(Y711,\"ddd\")","v":"vr"},"DD",{"$f":"IFERROR(HLOOKUP(Y711,[1]DATA!$A$1:$NB$5,3,0),\"\")","v":"D1"},56,null,29,364,{"$f":"VLOOKUP(Y711,[1]SRM!$S$4:$Z$368,2,0)","v":2},-20.312499999999943,0.82145593869731803,0.9948752989408951]
["34vrMD",{"$f":"VLOOKUP($AA712,DATA!$B$3:$E712,2,0)","v":"14:30:00"},{"$f":"VLOOKUP($AA712,DATA!$B$3:$E712,3,0)","v":"22:30:00"},{"$f":"VLOOKUP($AA712,DATA!$B$3:$E712,4,0)","v":3.125E-2},0.30208333333333337,0.26319444444444451,{"$f":"DATA!$C$9","v":0.89},{"$f":"DATA!$C$10","v":64},1,355.31250000000011,407.81250000000006,3.888888888888889E-2,52.5,0.12873563218390802,0,"","",350.93333333333334,314,"","",314,null,{"$f":"X709","v":34},null,{"$f":"TEXT(Y711,\"ddd\")","v":"vr"},"MD",{"$f":"IFERROR(HLOOKUP(Y711,[1]DATA!$A$1:$NB$5,4,0),\"\")","v":"D3"},56,null,15,329,{"$f":"VLOOKUP(Y711,[1]SRM!$S$4:$Z$368,3,0)","v":30},-41.312500000000114,0.76996168582375468,0.92124606230311512]
["34vrND",{"$f":"VLOOKUP($AA713,DATA!$B$3:$E713,2,0)","v":"22:30:00"},{"$f":"VLOOKUP($AA713,DATA!$B$3:$E713,3,0)","v":"06:30:00"},{"$f":"VLOOKUP($AA713,DATA!$B$3:$E713,4,0)","v":3.125E-2},0.30208333333333326,0.27847222222222212,{"$f":"DATA!$C$9","v":0.89},{"$f":"DATA!$C$10","v":64},1,375.93749999999989,407.81249999999989,2.361111111111111E-2,31.875,7.8160919540229912E-2,0,"","",362.66666666666669,319,"",319,"",null,{"$f":"X709","v":34},null,{"$f":"TEXT(Y711,\"ddd\")","v":"vr"},"ND",{"$f":"IFERROR(HLOOKUP(Y711,[1]DATA!$A$1:$NB$5,5,0),\"\")","v":"D2"},34,null,21,340,{"$f":"VLOOKUP(Y711,[1]SRM!$S$4:$Z$368,4,0)","v":0},-56.937499999999886,0.78222222222222249,1]
["34zaDD",{"$f":"VLOOKUP($AA714,DATA!$B$3:$E714,2,0)","v":"06:30:00"},{"$f":"VLOOKUP($AA714,DATA!$B$3:$E714,3,0)","v":"14:30:00"},{"$f":"VLOOKUP($AA714,DATA!$B$3:$E714,4,0)","v":3.125E-2},0.30208333333333331,0.30208333333333331,{"$f":"DATA!$C$9","v":0.89},{"$f":"DATA!$C$10","v":64},1,407.8125,407.8125,0,"","",0,"","",0,"","","","",null,{"$f":"X709","v":34},"2018-08-25",{"$f":"TEXT(Y714,\"ddd\")","v":"za"},"DD",{"$f":"IFERROR(HLOOKUP(Y714,[1]DATA!$A$1:$NB$5,3,0),\"\")","v":"D1"},null,null,null,null,{"$f":"VLOOKUP(Y714,[1]SRM!$S$4:$Z$368,2,0)","v":0},"","",""]
["34zaMD",{"$f":"VLOOKUP($AA715,DATA!$B$3:$E715,2,0)","v":"14:30:00"},{"$f":"VLOOKUP($AA715,DATA!$B$3:$E715,3,0)","v":"22:30:00"},{"$f":"VLOOKUP($AA715,DATA!$B$3:$E715,4,0)","v":3.125E-2},0.30208333333333337,0.30208333333333337,{"$f":"DATA!$C$9","v":0.89},{"$f":"DATA!$C$10","v":64},1,407.81250000000006,407.81250000000006,0,"","",0,"","",0,"","","","",null,{"$f":"X709","v":34},null,{"$f":"TEXT(Y714,\"ddd\")","v":"za"},"MD",{"$f":"IFERROR(HLOOKUP(Y714,[1]DATA!$A$1:$NB$5,4,0),\"\")","v":"-"},null,null,null,null,{"$f":"VLOOKUP(Y714,[1]SRM!$S$4:$Z$368,3,0)","v":0},"","",""]
["34zaND",{"$f":"VLOOKUP($AA716,DATA!$B$3:$E716,2,0)","v":"22:30:00"},{"$f":"VLOOKUP($AA716,DATA!$B$3:$E716,3,0)","v":"06:30:00"},{"$f":"VLOOKUP($AA716,DATA!$B$3:$E716,4,0)","v":3.125E-2},0.30208333333333326,0.30208333333333326,{"$f":"DATA!$C$9","v":0.89},{"$f":"DATA!$C$10","v":64},1,407.81249999999989,407.81249999999989,0,"","",0,"","",0,"","","","",null,{"$f":"X709","v":34},null,{"$f":"TEXT(Y714,\"ddd\")","v":"za"},"ND",{"$f":"IFERROR(HLOOKUP(Y714,[1]DATA!$A$1:$NB$5,5,0),\"\")","v":"-"},null,null,null,null,{"$f":"VLOOKUP(Y714,[1]SRM!$S$4:$Z$368,4,0)","v":0},"","",""]
["34zoDD",{"$f":"VLOOKUP($AA717,DATA!$B$3:$E717,2,0)","v":"06:30:00"},{"$f":"VLOOKUP($AA717,DATA!$B$3:$E717,3,0)","v":"14:30:00"},{"$f":"VLOOKUP($AA717,DATA!$B$3:$E717,4,0)","v":3.125E-2},0.30208333333333331,0.30208333333333331,{"$f":"DATA!$C$9","v":0.89},{"$f":"DATA!$C$10","v":64},1,407.8125,407.8125,0,"","",0,"","",0,"","","","",null,{"$f":"X709","v":34},"2018-08-26",{"$f":"TEXT(Y717,\"ddd\")","v":"zo"},"DD",{"$f":"IFERROR(HLOOKUP(Y717,[1]DATA!$A$1:$NB$5,3,0),\"\")","v":"-"},null,null,null,null,{"$f":"VLOOKUP(Y717,[1]SRM!$S$4:$Z$368,2,0)","v":0},"","",""]
["34zoMD",{"$f":"VLOOKUP($AA718,DATA!$B$3:$E718,2,0)","v":"14:30:00"},{"$f":"VLOOKUP($AA718,DATA!$B$3:$E718,3,0)","v":"22:30:00"},{"$f":"VLOOKUP($AA718,DATA!$B$3:$E718,4,0)","v":3.125E-2},0.30208333333333337,0.30208333333333337,{"$f":"DATA!$C$9","v":0.89},{"$f":"DATA!$C$10","v":64},1,407.81250000000006,407.81250000000006,0,"","",0,"","",0,"","","","",null,{"$f":"X709","v":34},null,{"$f":"TEXT(Y717,\"ddd\")","v":"zo"},"MD",{"$f":"IFERROR(HLOOKUP(Y717,[1]DATA!$A$1:$NB$5,4,0),\"\")","v":"-"},null,null,null,null,{"$f":"VLOOKUP(Y717,[1]SRM!$S$4:$Z$368,3,0)","v":0},"","",""]
["34zoZND",{"$f":"VLOOKUP($AA719,DATA!$B$3:$E719,2,0)","v":"00:00:00"},{"$f":"VLOOKUP($AA719,DATA!$B$3:$E719,3,0)","v":"00:00:00"},{"$f":"VLOOKUP($AA719,DATA!$B$3:$E719,4,0)","v":0},0,0,{"$f":"DATA!$C$9","v":0.89},{"$f":"DATA!$C$10","v":64},1,0,0,0,"","",0,"","",0,"","","","",null,{"$f":"X709","v":34},null,{"$f":"TEXT(Y717,\"ddd\")","v":"zo"},"ZND",{"$f":"IFERROR(HLOOKUP(Y717,[1]DATA!$A$1:$NB$5,5,0),\"\")","v":"-"},null,null,null,null,{"$f":"VLOOKUP(Y717,[1]SRM!$S$4:$Z$368,4,0)","v":0},"","",""]
["35maDD",{"$f":"VLOOKUP($AA720,DATA!$B$3:$E720,2,0)","v":"06:30:00"},{"$f":"VLOOKUP($AA720,DATA!$B$3:$E720,3,0)","v":"14:30:00"},{"$f":"VLOOKUP($AA720,DATA!$B$3:$E720,4,0)","v":3.125E-2},0.30208333333333331,0.2673611111111111,{"$f":"DATA!$C$9","v":0.89},{"$f":"DATA!$C$10","v":64},1,360.9375,407.8125,3.4722222222222224E-2,46.875,0.11494252873563218,{"$f":"TIME(INT($AD720/60),INT(MOD($AD720,60)/1),0)","v":0},"","",267.73333333333335,232,"","",232,null,{"$f":"X730","v":35},"2018-08-27",{"$f":"TEXT(Y720,\"ddd\")","v":"ma"},"DD",{"$f":"IFERROR(HLOOKUP(Y720,[1]DATA!$A$1:$NB$5,3,0),\"\")","v":"D3"},50,null,19,251,{"$f":"VLOOKUP(Y720,[1]SRM!$S$4:$Z$368,2,0)","v":25},-128.9375,0.56888888888888889,0.91459804144841728,{"$f":"IF(SUMIF(S720:S740,\">0\",K720:K740)=0,\"\",SUMIF(S720:S740,\">0\",K720:K740))","v":6117.1875},{"$f":"IF(SUM(S720:S740)=0,\"\",SUM(S720:S740))","v":4498},{"$f":"IFERROR(AL720/AK720,\"-\")","v":0.7353052362707535},{"$f":"IF(SUM(M720:M740)=0,\"0\",SUM(M720:M740))","v":705},{"$f":"IFERROR(AN720/AK720,\"-\")","v":0.11524904214559387},{"$f":"IF(SUM(P720:P740)=0,0,SUM(P720:P740))","v":0},{"$f":"IFERROR(AP720/AK720,\"-\")","v":0},{"$f":"IFERROR(AVERAGE(AJ720:AJ740),\"-\")","v":0.91560008909182122},{"$f":"IFERROR(SUMIF($AB720:$AB740,AS$5,$AJ720:$AJ740)/COUNTIFS($AB720:$AB740,AS$5,$AJ720:$AJ740,\">0\"),\"\")","v":0.96269157224416302},0.9134719595876325,0.88048065797497477,{"$f":"IFERROR((AK720-AL720-AN720-AP720),\"-\")","v":914.1875},{"$f":"IFERROR((1-AM720-AO720-AQ720), \"-\")","v":0.14944572158365263},{"$f":"IFERROR((AV720*$AE$2)/60,\"-\")","v":975.13333333333333},{"$f":"IFERROR(SUM(AG720:AG740),\"\")","v":507}]
["35maMD",{"$f":"VLOOKUP($AA721,DATA!$B$3:$E721,2,0)","v":"14:30:00"},{"$f":"VLOOKUP($AA721,DATA!$B$3:$E721,3,0)","v":"22:30:00"},{"$f":"VLOOKUP($AA721,DATA!$B$3:$E721,4,0)","v":3.125E-2},0.30208333333333337,0.25833333333333336,{"$f":"DATA!$C$9","v":0.89},{"$f":"DATA!$C$10","v":64},1,348.75000000000006,407.81250000000006,4.3750000000000004E-2,59.062500000000007,0.14482758620689654,{"$f":"TIME(INT(AD721/60),INT(MOD(AD721,60)/1),0)","v":0},"","",393.6,331,"",331,"",null,{"$f":"X730","v":35},null,{"$f":"TEXT(Y720,\"ddd\")","v":"ma"},"MD",{"$f":"IFERROR(HLOOKUP(Y720,[1]DATA!$A$1:$NB$5,4,0),\"\")","v":"D2"},63,null,38,369,{"$f":"VLOOKUP(Y720,[1]SRM!$S$4:$Z$368,3,0)","v":23},-17.750000000000057,0.81164750957854392,0.94479116658665385]
["35maND",{"$f":"VLOOKUP($AA722,DATA!$B$3:$E722,2,0)","v":"22:30:00"},{"$f":"VLOOKUP($AA722,DATA!$B$3:$E722,3,0)","v":"06:30:00"},{"$f":"VLOOKUP($AA722,DATA!$B$3:$E722,4,0)","v":3.125E-2},0.30208333333333326,0.25972222222222213,{"$f":"DATA!$C$9","v":0.89},{"$f":"DATA!$C$10","v":64},1,350.62499999999989,407.81249999999989,4.2361111111111106E-2,57.187499999999993,0.14022988505747128,0,"","",372.26666666666665,319,319,"","",null,{"$f":"X730","v":35},null,{"$f":"TEXT(Y720,\"ddd\")","v":"ma"},"ND",{"$f":"IFERROR(HLOOKUP(Y720,[1]DATA!$A$1:$NB$5,5,0),\"\")","v":"D1"},61,null,30,349,{"$f":"VLOOKUP(Y720,[1]SRM!$S$4:$Z$368,4,0)","v":4},-31.624999999999886,0.78222222222222249,0.98936924167257267]
["35diDD",{"$f":"VLOOKUP($AA723,DATA!$B$3:$E723,2,0)","v":"06:30:00"},{"$f":"VLOOKUP($AA723,DATA!$B$3:$E723,3,0)","v":"14:30:00"},{"$f":"VLOOKUP($AA723,DATA!$B$3:$E723,4,0)","v":3.125E-2},0.30208333333333331,0.26458333333333334,{"$f":"DATA!$C$9","v":0.89},{"$f":"DATA!$C$10","v":64},1,357.1875,407.8125,3.7499999999999999E-2,50.625,0.12413793103448276,0,"","",384,329,"","",329,null,{"$f":"X730","v":35},"2018-08-28",{"$f":"TEXT(Y723,\"ddd\")","v":"di"},"DD",{"$f":"IFERROR(HLOOKUP(Y723,[1]DATA!$A$1:$NB$5,3,0),\"\")","v":"D3"},54,null,31,360,{"$f":"VLOOKUP(Y723,[1]SRM!$S$4:$Z$368,2,0)","v":55},-28.1875,0.80674329501915709,0.87471526195899774]
["35diMD",{"$f":"VLOOKUP($AA724,DATA!$B$3:$E724,2,0)","v":"14:30:00"},{"$f":"VLOOKUP($AA724,DATA!$B$3:$E724,3,0)","v":"22:30:00"},{"$f":"VLOOKUP($AA724,DATA!$B$3:$E724,4,0)","v":3.125E-2},0.30208333333333337,0.27222222222222225,{"$f":"DATA!$C$9","v":0.89},{"$f":"DATA!$C$10","v":64},1,367.50000000000006,407.81250000000006,2.9861111111111113E-2,40.3125,9.8850574712643663E-2,0,"","",368,309,"",309,"",null,{"$f":"X730","v":35},null,{"$f":"TEXT(Y723,\"ddd\")","v":"di"},"MD",{"$f":"IFERROR(HLOOKUP(Y723,[1]DATA!$A$1:$NB$5,4,0),\"\")","v":"D2"},43,null,36,345,{"$f":"VLOOKUP(Y723,[1]SRM!$S$4:$Z$368,3,0)","v":33},-58.500000000000057,0.75770114942528721,0.9177057356608479]
["35diND",{"$f":"VLOOKUP($AA725,DATA!$B$3:$E725,2,0)","v":"22:30:00"},{"$f":"VLOOKUP($AA725,DATA!$B$3:$E725,3,0)","v":"06:30:00"},{"$f":"VLOOKUP($AA725,DATA!$B$3:$E725,4,0)","v":3.125E-2},0.30208333333333326,0.28611111111111104,{"$f":"DATA!$C$9","v":0.89},{"$f":"DATA!$C$10","v":64},1,386.24999999999989,407.81249999999989,1.5972222222222224E-2,21.562500000000004,5.2873563218390825E-2,0,"","",357.33333333333331,307,307,"","",null,{"$f":"X730","v":35},null,{"$f":"TEXT(Y723,\"ddd\")","v":"di"},"ND",{"$f":"IFERROR(HLOOKUP(Y723,[1]DATA!$A$1:$NB$5,5,0),\"\")","v":"D1"},23,null,28,335,{"$f":"VLOOKUP(Y723,[1]SRM!$S$4:$Z$368,4,0)","v":30},-79.249999999999886,0.7527969348659006,0.92254733218588636]
["35woDD",{"$f":"VLOOKUP($AA726,DATA!$B$3:$E726,2,0)","v":"06:30:00"},{"$f":"VLOOKUP($AA726,DATA!$B$3:$E726,3,0)","v":"14:30:00"},{"$f":"VLOOKUP($AA726,DATA!$B$3:$E726,4,0)","v":3.125E-2},0.30208333333333331,0.28055555555555556,{"$f":"DATA!$C$9","v":0.89},{"$f":"DATA!$C$10","v":64},1,378.75,407.8125,2.1527777777777781E-2,29.062500000000004,7.1264367816091967E-2,0,"","",331.73333333333335,291,"","",291,null,{"$f":"X730","v":35},"2018-08-29",{"$f":"TEXT(Y726,\"ddd\")","v":"wo"},"DD",{"$f":"IFERROR(HLOOKUP(Y726,[1]DATA!$A$1:$NB$5,3,0),\"\")","v":"D3"},31,null,20,311,{"$f":"VLOOKUP(Y726,[1]SRM!$S$4:$Z$368,2,0)","v":25},-87.75,0.71356321839080461,0.92991964118856285]
["35woMD",{"$f":"VLOOKUP($AA727,DATA!$B$3:$E727,2,0)","v":"14:30:00"},{"$f":"VLOOKUP($AA727,DATA!$B$3:$E727,3,0)","v":"22:30:00"},{"$f":"VLOOKUP($AA727,DATA!$B$3:$E727,4,0)","v":3.125E-2},0.30208333333333337,0.27013888888888893,{"$f":"DATA!$C$9","v":0.89},{"$f":"DATA!$C$10","v":64},1,364.68750000000006,407.81250000000006,3.1944444444444449E-2,43.125000000000007,0.10574712643678161,0,"","",342.4,303,"",303,"",null,{"$f":"X730","v":35},null,{"$f":"TEXT(Y726,\"ddd\")","v":"wo"},"MD",{"$f":"IFERROR(HLOOKUP(Y726,[1]DATA!$A$1:$NB$5,4,0),\"\")","v":"D2"},46,null,18,321,{"$f":"VLOOKUP(Y726,[1]SRM!$S$4:$Z$368,3,0)","v":85},-61.687500000000057,0.74298850574712638,0.80112306972391201]
["35woND",{"$f":"VLOOKUP($AA728,DATA!$B$3:$E728,2,0)","v":"22:30:00"},{"$f":"VLOOKUP($AA728,DATA!$B$3:$E728,3,0)","v":"06:30:00"},{"$f":"VLOOKUP($AA728,DATA!$B$3:$E728,4,0)","v":3.125E-2},0.30208333333333326,0.26111111111111102,{"$f":"DATA!$C$9","v":0.89},{"$f":"DATA!$C$10","v":64},1,352.49999999999989,407.81249999999989,4.0972222222222222E-2,55.3125,0.13563218390804602,0,"","",275.2,236,236,"","",null,{"$f":"X730","v":35},null,{"$f":"TEXT(Y726,\"ddd\")","v":"wo"},"ND",{"$f":"IFERROR(HLOOKUP(Y726,[1]DATA!$A$1:$NB$5,5,0),\"\")","v":"D1"},59,null,22,258,{"$f":"VLOOKUP(Y726,[1]SRM!$S$4:$Z$368,4,0)","v":2},-116.49999999999989,0.578697318007663,0.99278499278499277]
["35doDD",{"$f":"VLOOKUP($AA729,DATA!$B$3:$E729,2,0)","v":"06:30:00"},{"$f":"VLOOKUP($AA729,DATA!$B$3:$E729,3,0)","v":"14:30:00"},{"$f":"VLOOKUP($AA729,DATA!$B$3:$E729,4,0)","v":3.125E-2},0.30208333333333331,0.26597222222222222,{"$f":"DATA!$C$9","v":0.89},{"$f":"DATA!$C$10","v":64},1,359.0625,407.8125,3.6111111111111115E-2,48.750000000000007,0.11954022988505748,0,"","",321.06666666666666,287,"","",287,null,{"$f":"X730","v":35},"2018-08-30",{"$f":"TEXT(Y729,\"ddd\")","v":"do"},"DD",{"$f":"IFERROR(HLOOKUP(Y729,[1]DATA!$A$1:$NB$5,3,0),\"\")","v":"D3"},52,null,14,301,{"$f":"VLOOKUP(Y729,[1]SRM!$S$4:$Z$368,2,0)","v":45},-72.0625,0.70375478927203061,0.87707157166272076]
["35doMD",{"$f":"VLOOKUP($AA730,DATA!$B$3:$E730,2,0)","v":"14:30:00"},{"$f":"VLOOKUP($AA730,DATA!$B$3:$E730,3,0)","v":"22:30:00"},{"$f":"VLOOKUP($AA730,DATA!$B$3:$E730,4,0)","v":3.125E-2},0.30208333333333337,0.27361111111111114,{"$f":"DATA!$C$9","v":0.89},{"$f":"DATA!$C$10","v":64},1,369.37500000000006,407.81250000000006,2.8472222222222222E-2,38.4375,9.4252873563218376E-2,0,"","",389.33333333333331,323,"",323,"",null,{"$f":"WEEKNUM($Y720)","v":35},null,{"$f":"TEXT(Y729,\"ddd\")","v":"do"},"MD",{"$f":"IFERROR(HLOOKUP(Y729,[1]DATA!$A$1:$NB$5,4,0),\"\")","v":"D2"},41,null,42,365,{"$f":"VLOOKUP(Y729,[1]SRM!$S$4:$Z$368,3,0)","v":12},-46.375000000000057,0.79203065134099604,0.9700996677740864]
["35doND",{"$f":"VLOOKUP($AA731,DATA!$B$3:$E731,2,0)","v":"22:30:00"},{"$f":"VLOOKUP($AA731,DATA!$B$3:$E731,3,0)","v":"06:30:00"},{"$f":"VLOOKUP($AA731,DATA!$B$3:$E731,4,0)","v":3.125E-2},0.30208333333333326,0.23194444444444437,{"$f":"DATA!$C$9","v":0.89},{"$f":"DATA!$C$10","v":64},1,313.12499999999989,407.81249999999989,7.013888888888889E-2,94.6875,0.23218390804597708,0,"","",315.73333333333335,273,273,"","",null,{"$f":"X730","v":35},null,{"$f":"TEXT(Y729,\"ddd\")","v":"do"},"ND",{"$f":"IFERROR(HLOOKUP(Y729,[1]DATA!$A$1:$NB$5,5,0),\"\")","v":"D1"},101,null,23,296,{"$f":"VLOOKUP(Y729,[1]SRM!$S$4:$Z$368,4,0)","v":18},-40.124999999999886,0.66942528735632201,{"$f":"IFERROR(R731/(R731+AG731),\"\")","v":0.94606472233320016}]
["35vrDD",{"$f":"VLOOKUP($AA732,DATA!$B$3:$E732,2,0)","v":"06:30:00"},{"$f":"VLOOKUP($AA732,DATA!$B$3:$E732,3,0)","v":"14:30:00"},{"$f":"VLOOKUP($AA732,DATA!$B$3:$E732,4,0)","v":3.125E-2},{"$f":"(C732-B732+(B732>C732))-D732","v":0.30208333333333331},{"$f":"E732-O732-L732","v":0.27569444444444441},{"$f":"DATA!$C$9","v":0.89},{"$f":"DATA!$C$10","v":64},1,372.18749999999994,407.8125,2.6388888888888889E-2,35.625,8.7356321839080459E-2,0,"","",324.26666666666665,279,"","",279,null,{"$f":"X730","v":35},"2018-08-31",{"$f":"TEXT(Y732,\"ddd\")","v":"vr"},"DD",{"$f":"IFERROR(HLOOKUP(Y732,[1]DATA!$A$1:$NB$5,3,0),\"\")","v":"D3"},38,null,25,304,{"$f":"VLOOKUP(Y732,[1]SRM!$S$4:$Z$368,2,0)","v":78},-93.187499999999943,0.68413793103448273,0.80609877361617499]
["35vrMD",{"$f":"VLOOKUP($AA733,DATA!$B$3:$E733,2,0)","v":"14:30:00"},{"$f":"VLOOKUP($AA733,DATA!$B$3:$E733,3,0)","v":"22:30:00"},{"$f":"VLOOKUP($AA733,DATA!$B$3:$E733,4,0)","v":3.125E-2},0.30208333333333337,0.28541666666666671,{"$f":"DATA!$C$9","v":0.89},{"$f":"DATA!$C$10","v":64},1,385.31250000000006,407.81250000000006,1.6666666666666666E-2,22.5,5.5172413793103441E-2,0,"","",398.93333333333334,335,"",335,"",null,{"$f":"X730","v":35},null,{"$f":"TEXT(Y732,\"ddd\")","v":"vr"},"MD",{"$f":"IFERROR(HLOOKUP(Y732,[1]DATA!$A$1:$NB$5,4,0),\"\")","v":"D2"},24,null,39,374,{"$f":"VLOOKUP(Y732,[1]SRM!$S$4:$Z$368,3,0)","v":72},-50.312500000000057,0.82145593869731792,0.84711211778029449]
["35vrND",{"$f":"VLOOKUP($AA734,DATA!$B$3:$E734,2,0)","v":"22:30:00"},{"$f":"VLOOKUP($AA734,DATA!$B$3:$E734,3,0)","v":"06:30:00"},{"$f":"VLOOKUP($AA734,DATA!$B$3:$E734,4,0)","v":3.125E-2},0.30208333333333326,0.28263888888888883,{"$f":"DATA!$C$9","v":0.89},{"$f":"DATA!$C$10","v":64},1,381.56249999999994,407.81249999999989,1.9444444444444445E-2,26.25,6.4367816091954036E-2,0,"","",395.73333333333335,344,"",344,"",null,{"$f":"X730","v":35},null,{"$f":"TEXT(Y732,\"ddd\")","v":"vr"},"ND",{"$f":"IFERROR(HLOOKUP(Y732,[1]DATA!$A$1:$NB$5,5,0),\"\")","v":"D2"},28,null,27,371,{"$f":"VLOOKUP(Y732,[1]SRM!$S$4:$Z$368,4,0)","v":0},-37.562499999999943,0.84352490421455961,1]
["35zaDD",{"$f":"VLOOKUP($AA735,DATA!$B$3:$E735,2,0)","v":"06:30:00"},{"$f":"VLOOKUP($AA735,DATA!$B$3:$E735,3,0)","v":"14:30:00"},{"$f":"VLOOKUP($AA735,DATA!$B$3:$E735,4,0)","v":3.125E-2},0.30208333333333331,0.27569444444444441,{"$f":"DATA!$C$9","v":0.89},{"$f":"DATA!$C$10","v":64},1,372.18749999999994,407.8125,2.6388888888888889E-2,35.625,8.7356321839080459E-2,0,"","",0,"","","","",null,{"$f":"X730","v":35},"2018-09-01",{"$f":"TEXT(Y735,\"ddd\")","v":"za"},"DD",{"$f":"IFERROR(HLOOKUP(Y735,[1]DATA!$A$1:$NB$5,3,0),\"\")","v":"D3"},38,null,null,null,{"$f":"VLOOKUP(Y735,[1]SRM!$S$4:$Z$368,2,0)","v":0},"","",""]
["35zaMD",{"$f":"VLOOKUP($AA736,DATA!$B$3:$E736,2,0)","v":"14:30:00"},{"$f":"VLOOKUP($AA736,DATA!$B$3:$E736,3,0)","v":"22:30:00"},{"$f":"VLOOKUP($AA736,DATA!$B$3:$E736,4,0)","v":3.125E-2},0.30208333333333337,0.30208333333333337,{"$f":"DATA!$C$9","v":0.89},{"$f":"DATA!$C$10","v":64},1,407.81250000000006,407.81250000000006,0,"","",0,"","",0,"","","","",null,{"$f":"X730","v":35},null,{"$f":"TEXT(Y735,\"ddd\")","v":"za"},"MD",{"$f":"IFERROR(HLOOKUP(Y735,[1]DATA!$A$1:$NB$5,4,0),\"\")","v":"-"},null,null,null,null,{"$f":"VLOOKUP(Y735,[1]SRM!$S$4:$Z$368,3,0)","v":0},"","",""]
["35zaND",{"$f":"VLOOKUP($AA737,DATA!$B$3:$E737,2,0)","v":"22:30:00"},{"$f":"VLOOKUP($AA737,DATA!$B$3:$E737,3,0)","v":"06:30:00"},{"$f":"VLOOKUP($AA737,DATA!$B$3:$E737,4,0)","v":3.125E-2},0.30208333333333326,0.30208333333333326,{"$f":"DATA!$C$9","v":0.89},{"$f":"DATA!$C$10","v":64},1,407.81249999999989,407.81249999999989,0,"","",0,"","",0,"","","","",null,{"$f":"X730","v":35},null,{"$f":"TEXT(Y735,\"ddd\")","v":"za"},"ND",{"$f":"IFERROR(HLOOKUP(Y735,[1]DATA!$A$1:$NB$5,5,0),\"\")","v":"-"},null,null,null,null,{"$f":"VLOOKUP(Y735,[1]SRM!$S$4:$Z$368,4,0)","v":0},"","",""]
["35zoDD",{"$f":"VLOOKUP($AA738,DATA!$B$3:$E738,2,0)","v":"06:30:00"},{"$f":"VLOOKUP($AA738,DATA!$B$3:$E738,3,0)","v":"14:30:00"},{"$f":"VLOOKUP($AA738,DATA!$B$3:$E738,4,0)","v":3.125E-2},0.30208333333333331,0.30208333333333331,{"$f":"DATA!$C$9","v":0.89},{"$f":"DATA!$C$10","v":64},1,407.8125,407.8125,0,"","",0,"","",0,"","","","",null,{"$f":"X730","v":35},"2018-09-02",{"$f":"TEXT(Y738,\"ddd\")","v":"zo"},"DD",{"$f":"IFERROR(HLOOKUP(Y738,[1]DATA!$A$1:$NB$5,3,0),\"\")","v":"-"},null,null,null,null,{"$f":"VLOOKUP(Y738,[1]SRM!$S$4:$Z$368,2,0)","v":0},"","",""]
["35zoMD",{"$f":"VLOOKUP($AA739,DATA!$B$3:$E739,2,0)","v":"14:30:00"},{"$f":"VLOOKUP($AA739,DATA!$B$3:$E739,3,0)","v":"22:30:00"},{"$f":"VLOOKUP($AA739,DATA!$B$3:$E739,4,0)","v":3.125E-2},0.30208333333333337,0.30208333333333337,{"$f":"DATA!$C$9","v":0.89},{"$f":"DATA!$C$10","v":64},1,407.81250000000006,407.81250000000006,0,"","",0,"","",0,"","","","",null,{"$f":"X730","v":35},null,{"$f":"TEXT(Y738,\"ddd\")","v":"zo"},"MD",{"$f":"IFERROR(HLOOKUP(Y738,[1]DATA!$A$1:$NB$5,4,0),\"\")","v":"-"},null,null,null,null,{"$f":"VLOOKUP(Y738,[1]SRM!$S$4:$Z$368,3,0)","v":0},"","",""]
["35zoZND",{"$f":"VLOOKUP($AA740,DATA!$B$3:$E740,2,0)","v":"00:00:00"},{"$f":"VLOOKUP($AA740,DATA!$B$3:$E740,3,0)","v":"00:00:00"},{"$f":"VLOOKUP($AA740,DATA!$B$3:$E740,4,0)","v":0},0,0,{"$f":"DATA!$C$9","v":0.89},{"$f":"DATA!$C$10","v":64},1,0,0,0,"","",0,"","",0,"","","","",null,{"$f":"X730","v":35},null,{"$f":"TEXT(Y738,\"ddd\")","v":"zo"},"ZND",{"$f":"IFERROR(HLOOKUP(Y738,[1]DATA!$A$1:$NB$5,5,0),\"\")","v":"-"},null,null,null,null,{"$f":"VLOOKUP(Y738,[1]SRM!$S$4:$Z$368,4,0)","v":0},"","",""]
["36maDD",{"$f":"VLOOKUP($AA741,DATA!$B$3:$E741,2,0)","v":"06:30:00"},{"$f":"VLOOKUP($AA741,DATA!$B$3:$E741,3,0)","v":"14:30:00"},{"$f":"VLOOKUP($AA741,DATA!$B$3:$E741,4,0)","v":3.125E-2},0.30208333333333331,0.26249999999999996,{"$f":"DATA!$C$9","v":0.89},{"$f":"DATA!$C$10","v":64},1,354.37499999999994,407.8125,3.9583333333333331E-2,53.4375,0.1310344827586207,{"$f":"TIME(INT($AD741/60),INT(MOD($AD741,60)/1),0)","v":0},"","",302.93333333333334,272,"",272,"",null,{"$f":"X751","v":36},"2018-09-03",{"$f":"TEXT(Y741,\"ddd\")","v":"ma"},"DD",{"$f":"IFERROR(HLOOKUP(Y741,[1]DATA!$A$1:$NB$5,3,0),\"\")","v":"D2"},57,null,12,284,{"$f":"VLOOKUP(Y741,[1]SRM!$S$4:$Z$368,2,0)","v":47},-82.374999999999943,0.66697318007662831,0.86568870261002095,{"$f":"IF(SUMIF(S741:S761,\">0\",K741:K761)=0,\"\",SUMIF(S741:S761,\">0\",K741:K761))","v":6525},{"$f":"IF(SUM(S741:S761)=0,\"\",SUM(S741:S761))","v":4201},{"$f":"IFERROR(AL741/AK741,\"-\")","v":0.64383141762452112},{"$f":"IF(SUM(M741:M761)=0,\"0\",SUM(M741:M761))","v":535.3125},{"$f":"IFERROR(AN741/AK741,\"-\")","v":8.2040229885057478E-2},{"$f":"IF(SUM(P741:P761)=0,0,SUM(P741:P761))","v":0},{"$f":"IFERROR(AP741/AK741,\"-\")","v":0},{"$f":"IFERROR(AVERAGE(AJ741:AJ761),\"-\")","v":0.88883708219609747},{"$f":"IFERROR(SUMIF($AB741:$AB761,AS$5,$AJ741:$AJ761)/COUNTIFS($AB741:$AB761,AS$5,$AJ741:$AJ761,\">0\"),\"\")","v":0.98339884250313259},0.89719429788881699,0.78424666305779822,{"$f":"IFERROR((AK741-AL741-AN741-AP741),\"-\")","v":1788.6875},{"$f":"IFERROR((1-AM741-AO741-AQ741), \"-\")","v":0.27412835249042139},{"$f":"IFERROR((AV741*$AE$2)/60,\"-\")","v":1907.9333333333334},{"$f":"IFERROR(SUM(AG741:AG761),\"\")","v":701}]
["36maMD",{"$f":"VLOOKUP($AA742,DATA!$B$3:$E742,2,0)","v":"14:30:00"},{"$f":"VLOOKUP($AA742,DATA!$B$3:$E742,3,0)","v":"22:30:00"},{"$f":"VLOOKUP($AA742,DATA!$B$3:$E742,4,0)","v":3.125E-2},0.30208333333333337,0.28263888888888894,{"$f":"DATA!$C$9","v":0.89},{"$f":"DATA!$C$10","v":64},1,381.56250000000006,407.81250000000006,1.9444444444444445E-2,26.25,6.4367816091954008E-2,{"$f":"TIME(INT(AD742/60),INT(MOD(AD742,60)/1),0)","v":0},"","",345.6,296,296,"","",null,{"$f":"X751","v":36},null,{"$f":"TEXT(Y741,\"ddd\")","v":"ma"},"MD",{"$f":"IFERROR(HLOOKUP(Y741,[1]DATA!$A$1:$NB$5,4,0),\"\")","v":"D1"},28,null,28,324,{"$f":"VLOOKUP(Y741,[1]SRM!$S$4:$Z$368,3,0)","v":14},-85.562500000000057,0.72582375478927197,0.96106785317018906]
["36maND",{"$f":"VLOOKUP($AA743,DATA!$B$3:$E743,2,0)","v":"22:30:00"},{"$f":"VLOOKUP($AA743,DATA!$B$3:$E743,3,0)","v":"06:30:00"},{"$f":"VLOOKUP($AA743,DATA!$B$3:$E743,4,0)","v":3.125E-2},0.30208333333333326,0.27291666666666659,{"$f":"DATA!$C$9","v":0.89},{"$f":"DATA!$C$10","v":64},1,368.43749999999989,407.81249999999989,2.9166666666666664E-2,39.374999999999993,9.6551724137931047E-2,0,"","",338.13333333333333,300,"","",300,null,{"$f":"X751","v":36},null,{"$f":"TEXT(Y741,\"ddd\")","v":"ma"},"ND",{"$f":"IFERROR(HLOOKUP(Y741,[1]DATA!$A$1:$NB$5,5,0),\"\")","v":"D3"},42,null,17,317,{"$f":"VLOOKUP(Y741,[1]SRM!$S$4:$Z$368,4,0)","v":60},-68.437499999999886,0.73563218390804619,0.84929671801741458]
["36diDD",{"$f":"VLOOKUP($AA744,DATA!$B$3:$E744,2,0)","v":"06:30:00"},{"$f":"VLOOKUP($AA744,DATA!$B$3:$E744,3,0)","v":"14:30:00"},{"$f":"VLOOKUP($AA744,DATA!$B$3:$E744,4,0)","v":3.125E-2},0.30208333333333331,0.28194444444444444,{"$f":"DATA!$C$9","v":0.89},{"$f":"DATA!$C$10","v":64},1,380.625,407.8125,2.013888888888889E-2,27.1875,6.6666666666666666E-2,0,"","",307.2,283,"",283,"",null,{"$f":"X751","v":36},"2018-09-04",{"$f":"TEXT(Y744,\"ddd\")","v":"di"},"DD",{"$f":"IFERROR(HLOOKUP(Y744,[1]DATA!$A$1:$NB$5,3,0),\"\")","v":"D2"},29,null,5,288,{"$f":"VLOOKUP(Y744,[1]SRM!$S$4:$Z$368,2,0)","v":47},-97.625,0.69394636015325672,0.86730660643704116]
["36diMD",{"$f":"VLOOKUP($AA745,DATA!$B$3:$E745,2,0)","v":"14:30:00"},{"$f":"VLOOKUP($AA745,DATA!$B$3:$E745,3,0)","v":"22:30:00"},{"$f":"VLOOKUP($AA745,DATA!$B$3:$E745,4,0)","v":3.125E-2},0.30208333333333337,0.28888888888888892,{"$f":"DATA!$C$9","v":0.89},{"$f":"DATA!$C$10","v":64},1,390.00000000000006,407.81250000000006,1.3194444444444444E-2,17.8125,4.3678160919540222E-2,0,"","",370.13333333333333,317,317,"","",null,{"$f":"X751","v":36},null,{"$f":"TEXT(Y744,\"ddd\")","v":"di"},"MD",{"$f":"IFERROR(HLOOKUP(Y744,[1]DATA!$A$1:$NB$5,4,0),\"\")","v":"D1"},19,null,30,347,{"$f":"VLOOKUP(Y744,[1]SRM!$S$4:$Z$368,3,0)","v":0},-73.000000000000057,0.7773180076628351,1]
["36diND",{"$f":"VLOOKUP($AA746,DATA!$B$3:$E746,2,0)","v":"22:30:00"},{"$f":"VLOOKUP($AA746,DATA!$B$3:$E746,3,0)","v":"06:30:00"},{"$f":"VLOOKUP($AA746,DATA!$B$3:$E746,4,0)","v":3.125E-2},0.30208333333333326,0.30208333333333326,{"$f":"DATA!$C$9","v":0.89},{"$f":"DATA!$C$10","v":64},1,407.81249999999989,407.81249999999989,0,"","",0,"","",101.33333333333333,95,"","",95,null,{"$f":"X751","v":36},null,{"$f":"TEXT(Y744,\"ddd\")","v":"di"},"ND",{"$f":"IFERROR(HLOOKUP(Y744,[1]DATA!$A$1:$NB$5,5,0),\"\")","v":"D3"},0,null,0,95,{"$f":"VLOOKUP(Y744,[1]SRM!$S$4:$Z$368,4,0)","v":310},-312.81249999999989,0.23295019157088129,0.24635332252836303]
["36woDD",{"$f":"VLOOKUP($AA747,DATA!$B$3:$E747,2,0)","v":"06:30:00"},{"$f":"VLOOKUP($AA747,DATA!$B$3:$E747,3,0)","v":"14:30:00"},{"$f":"VLOOKUP($AA747,DATA!$B$3:$E747,4,0)","v":3.125E-2},0.30208333333333331,0.29652777777777778,{"$f":"DATA!$C$9","v":0.89},{"$f":"DATA!$C$10","v":64},1,400.3125,407.8125,5.5555555555555558E-3,7.5,1.8390804597701149E-2,0,"","",390.4,335,"",335,"",null,{"$f":"X751","v":36},"2018-09-05",{"$f":"TEXT(Y747,\"ddd\")","v":"wo"},"DD",{"$f":"IFERROR(HLOOKUP(Y747,[1]DATA!$A$1:$NB$5,3,0),\"\")","v":"D2"},8,null,31,366,{"$f":"VLOOKUP(Y747,[1]SRM!$S$4:$Z$368,2,0)","v":101},-65.3125,0.82145593869731803,0.79446479446479445]
["36woMD",{"$f":"VLOOKUP($AA748,DATA!$B$3:$E748,2,0)","v":"14:30:00"},{"$f":"VLOOKUP($AA748,DATA!$B$3:$E748,3,0)","v":"22:30:00"},{"$f":"VLOOKUP($AA748,DATA!$B$3:$E748,4,0)","v":3.125E-2},0.30208333333333337,0.28125000000000006,{"$f":"DATA!$C$9","v":0.89},{"$f":"DATA!$C$10","v":64},1,379.68750000000006,407.81250000000006,2.0833333333333332E-2,28.125,6.8965517241379296E-2,0,"","",402.13333333333333,343,343,"","",null,{"$f":"X751","v":36},null,{"$f":"TEXT(Y747,\"ddd\")","v":"wo"},"MD",{"$f":"IFERROR(HLOOKUP(Y747,[1]DATA!$A$1:$NB$5,4,0),\"\")","v":"D1"},30,null,34,377,{"$f":"VLOOKUP(Y747,[1]SRM!$S$4:$Z$368,3,0)","v":8},-36.687500000000057,0.84107279693486581,0.98049414824447334]
["36woND",{"$f":"VLOOKUP($AA749,DATA!$B$3:$E749,2,0)","v":"22:30:00"},{"$f":"VLOOKUP($AA749,DATA!$B$3:$E749,3,0)","v":"06:30:00"},{"$f":"VLOOKUP($AA749,DATA!$B$3:$E749,4,0)","v":3.125E-2},0.30208333333333326,0.25069444444444439,{"$f":"DATA!$C$9","v":0.89},{"$f":"DATA!$C$10","v":64},1,338.43749999999994,407.81249999999989,5.1388888888888894E-2,69.375,0.17011494252873569,0,"","",280.5333333333333,249,"","",249,null,{"$f":"X751","v":36},null,{"$f":"TEXT(Y747,\"ddd\")","v":"wo"},"ND",{"$f":"IFERROR(HLOOKUP(Y747,[1]DATA!$A$1:$NB$5,5,0),\"\")","v":"D3"},74,null,14,263,{"$f":"VLOOKUP(Y747,[1]SRM!$S$4:$Z$368,4,0)","v":25},-89.437499999999943,0.61057471264367835,0.91817586733580625]
["36doDD",{"$f":"VLOOKUP($AA750,DATA!$B$3:$E750,2,0)","v":"06:30:00"},{"$f":"VLOOKUP($AA750,DATA!$B$3:$E750,3,0)","v":"14:30:00"},{"$f":"VLOOKUP($AA750,DATA!$B$3:$E750,4,0)","v":3.125E-2},0.30208333333333331,0.26041666666666663,{"$f":"DATA!$C$9","v":0.89},{"$f":"DATA!$C$10","v":64},1,351.56249999999994,407.8125,4.1666666666666664E-2,56.25,0.13793103448275862,0,"","",359.46666666666664,315,"",315,"",null,{"$f":"X751","v":36},"2018-09-06",{"$f":"TEXT(Y750,\"ddd\")","v":"do"},"DD",{"$f":"IFERROR(HLOOKUP(Y750,[1]DATA!$A$1:$NB$5,3,0),\"\")","v":"D2"},60,null,22,337,{"$f":"VLOOKUP(Y750,[1]SRM!$S$4:$Z$368,2,0)","v":18},-36.562499999999943,0.77241379310344827,0.95231367008124335]
["36doMD",{"$f":"VLOOKUP($AA751,DATA!$B$3:$E751,2,0)","v":"14:30:00"},{"$f":"VLOOKUP($AA751,DATA!$B$3:$E751,3,0)","v":"22:30:00"},{"$f":"VLOOKUP($AA751,DATA!$B$3:$E751,4,0)","v":3.125E-2},0.30208333333333337,0.26111111111111113,{"$f":"DATA!$C$9","v":0.89},{"$f":"DATA!$C$10","v":64},1,352.5,407.81250000000006,4.0972222222222222E-2,55.3125,0.13563218390804596,0,"","",357.33333333333331,315,315,"","",null,{"$f":"WEEKNUM($Y741)","v":36},null,{"$f":"TEXT(Y750,\"ddd\")","v":"do"},"MD",{"$f":"IFERROR(HLOOKUP(Y750,[1]DATA!$A$1:$NB$5,4,0),\"\")","v":"D1"},59,null,20,335,{"$f":"VLOOKUP(Y750,[1]SRM!$S$4:$Z$368,3,0)","v":9},-37.5,0.77241379310344815,0.97543221110100087]
[{"$f":"X752&Z752&AA752","v":"36doND"},{"$f":"VLOOKUP($AA752,DATA!$B$3:$E752,2,0)","v":"22:30:00"},{"$f":"VLOOKUP($AA752,DATA!$B$3:$E752,3,0)","v":"06:30:00"},{"$f":"VLOOKUP($AA752,DATA!$B$3:$E752,4,0)","v":3.125E-2},0.30208333333333326,0.27986111111111106,{"$f":"DATA!$C$9","v":0.89},{"$f":"DATA!$C$10","v":64},1,377.81249999999994,407.81249999999989,2.2222222222222223E-2,30,7.3563218390804624E-2,0,{"$f":"IF($O752*86400/$H752=0,\"\",$O752*86400/$H752)","v":""},"",313.60000000000002,276,"","",276,null,{"$f":"X751","v":36},null,{"$f":"TEXT(Y750,\"ddd\")","v":"do"},"ND",{"$f":"IFERROR(HLOOKUP(Y750,[1]DATA!$A$1:$NB$5,5,0),\"\")","v":"D3"},32,null,18,294,{"$f":"VLOOKUP(Y750,[1]SRM!$S$4:$Z$368,4,0)","v":32},-101.81249999999994,0.67678160919540253,0.90740740740740744]
["36vrDD",{"$f":"VLOOKUP($AA753,DATA!$B$3:$E753,2,0)","v":"06:30:00"},{"$f":"VLOOKUP($AA753,DATA!$B$3:$E753,3,0)","v":"14:30:00"},{"$f":"VLOOKUP($AA753,DATA!$B$3:$E753,4,0)","v":3.125E-2},0.30208333333333331,0.25486111111111109,{"$f":"DATA!$C$9","v":0.89},{"$f":"DATA!$C$10","v":64},1,344.0625,407.8125,4.7222222222222221E-2,63.75,0.15632183908045977,0,"","",280.5333333333333,245,"",245,"",null,{"$f":"X751","v":36},"2018-09-07",{"$f":"TEXT(Y753,\"ddd\")","v":"vr"},"DD",{"$f":"IFERROR(HLOOKUP(Y753,[1]DATA!$A$1:$NB$5,3,0),\"\")","v":"D2"},68,null,18,263,{"$f":"VLOOKUP(Y753,[1]SRM!$S$4:$Z$368,2,0)","v":30},-99.0625,0.60076628352490424,0.90339201373980249]
["36vrMD",{"$f":"VLOOKUP($AA754,DATA!$B$3:$E754,2,0)","v":"14:30:00"},{"$f":"VLOOKUP($AA754,DATA!$B$3:$E754,3,0)","v":"22:30:00"},{"$f":"VLOOKUP($AA754,DATA!$B$3:$E754,4,0)","v":3.125E-2},0.30208333333333337,0.28055555555555561,{"$f":"DATA!$C$9","v":0.89},{"$f":"DATA!$C$10","v":64},1,378.75000000000006,407.81250000000006,2.1527777777777781E-2,29.062500000000004,7.1264367816091953E-2,0,"","",336,291,291,"","",null,{"$f":"X751","v":36},null,{"$f":"TEXT(Y753,\"ddd\")","v":"vr"},"MD",{"$f":"IFERROR(HLOOKUP(Y753,[1]DATA!$A$1:$NB$5,4,0),\"\")","v":"D1"},31,null,24,315,{"$f":"VLOOKUP(Y753,[1]SRM!$S$4:$Z$368,3,0)","v":0},-87.750000000000057,0.7135632183908045,1]
["36vrND",{"$f":"VLOOKUP($AA755,DATA!$B$3:$E755,2,0)","v":"22:30:00"},{"$f":"VLOOKUP($AA755,DATA!$B$3:$E755,3,0)","v":"06:30:00"},{"$f":"VLOOKUP($AA755,DATA!$B$3:$E755,4,0)","v":3.125E-2},0.30208333333333326,0.30208333333333326,{"$f":"DATA!$C$9","v":0.89},{"$f":"DATA!$C$10","v":64},1,407.81249999999989,407.81249999999989,0,"","",0,"","",115.2,102,"","",102,null,{"$f":"X751","v":36},null,{"$f":"TEXT(Y753,\"ddd\")","v":"vr"},"ND",{"$f":"IFERROR(HLOOKUP(Y753,[1]DATA!$A$1:$NB$5,5,0),\"\")","v":"D3"},0,null,6,108,{"$f":"VLOOKUP(Y753,[1]SRM!$S$4:$Z$368,4,0)","v":0},-305.81249999999989,0.25011494252873573,1]
["36zaDD",{"$f":"VLOOKUP($AA756,DATA!$B$3:$E756,2,0)","v":"06:30:00"},{"$f":"VLOOKUP($AA756,DATA!$B$3:$E756,3,0)","v":"14:30:00"},{"$f":"VLOOKUP($AA756,DATA!$B$3:$E756,4,0)","v":3.125E-2},0.30208333333333331,0.27847222222222223,{"$f":"DATA!$C$9","v":0.89},{"$f":"DATA!$C$10","v":64},1,375.9375,407.8125,2.361111111111111E-2,31.875,7.8160919540229884E-2,0,"","",195.2,167,"",167,"",null,{"$f":"X751","v":36},"2018-09-08",{"$f":"TEXT(Y756,\"ddd\")","v":"za"},"DD",{"$f":"IFERROR(HLOOKUP(Y756,[1]DATA!$A$1:$NB$5,3,0),\"\")","v":"D2"},34,null,16,183,{"$f":"VLOOKUP(Y756,[1]SRM!$S$4:$Z$368,2,0)","v":0},-208.9375,0.40950191570881228,1]
["36zaMD",{"$f":"VLOOKUP($AA757,DATA!$B$3:$E757,2,0)","v":"14:30:00"},{"$f":"VLOOKUP($AA757,DATA!$B$3:$E757,3,0)","v":"22:30:00"},{"$f":"VLOOKUP($AA757,DATA!$B$3:$E757,4,0)","v":3.125E-2},0.30208333333333337,0.30208333333333337,{"$f":"DATA!$C$9","v":0.89},{"$f":"DATA!$C$10","v":64},1,407.81250000000006,407.81250000000006,0,"","",0,"","",0,"","","","",null,{"$f":"X751","v":36},null,{"$f":"TEXT(Y756,\"ddd\")","v":"za"},"MD",{"$f":"IFERROR(HLOOKUP(Y756,[1]DATA!$A$1:$NB$5,4,0),\"\")","v":"-"},null,null,null,null,{"$f":"VLOOKUP(Y756,[1]SRM!$S$4:$Z$368,3,0)","v":0},"","",""]
["36zaND",{"$f":"VLOOKUP($AA758,DATA!$B$3:$E758,2,0)","v":"22:30:00"},{"$f":"VLOOKUP($AA758,DATA!$B$3:$E758,3,0)","v":"06:30:00"},{"$f":"VLOOKUP($AA758,DATA!$B$3:$E758,4,0)","v":3.125E-2},0.30208333333333326,0.30208333333333326,{"$f":"DATA!$C$9","v":0.89},{"$f":"DATA!$C$10","v":64},1,407.81249999999989,407.81249999999989,0,"","",0,"","",0,"","","","",null,{"$f":"X751","v":36},null,{"$f":"TEXT(Y756,\"ddd\")","v":"za"},"ND",{"$f":"IFERROR(HLOOKUP(Y756,[1]DATA!$A$1:$NB$5,5,0),\"\")","v":"-"},null,null,null,null,{"$f":"VLOOKUP(Y756,[1]SRM!$S$4:$Z$368,4,0)","v":0},"","",""]
["36zoDD",{"$f":"VLOOKUP($AA759,DATA!$B$3:$E759,2,0)","v":"06:30:00"},{"$f":"VLOOKUP($AA759,DATA!$B$3:$E759,3,0)","v":"14:30:00"},{"$f":"VLOOKUP($AA759,DATA!$B$3:$E759,4,0)","v":3.125E-2},0.30208333333333331,0.30208333333333331,{"$f":"DATA!$C$9","v":0.89},{"$f":"DATA!$C$10","v":64},1,407.8125,407.8125,0,"","",0,"","",0,"","","","",null,{"$f":"X751","v":36},"2018-09-09",{"$f":"TEXT(Y759,\"ddd\")","v":"zo"},"DD",{"$f":"IFERROR(HLOOKUP(Y759,[1]DATA!$A$1:$NB$5,3,0),\"\")","v":"-"},null,null,null,null,{"$f":"VLOOKUP(Y759,[1]SRM!$S$4:$Z$368,2,0)","v":0},"","",""]
["36zoMD",{"$f":"VLOOKUP($AA760,DATA!$B$3:$E760,2,0)","v":"14:30:00"},{"$f":"VLOOKUP($AA760,DATA!$B$3:$E760,3,0)","v":"22:30:00"},{"$f":"VLOOKUP($AA760,DATA!$B$3:$E760,4,0)","v":3.125E-2},0.30208333333333337,0.30208333333333337,{"$f":"DATA!$C$9","v":0.89},{"$f":"DATA!$C$10","v":64},1,407.81250000000006,407.81250000000006,0,"","",0,"","",0,"","","","",null,{"$f":"X751","v":36},null,{"$f":"TEXT(Y759,\"ddd\")","v":"zo"},"MD",{"$f":"IFERROR(HLOOKUP(Y759,[1]DATA!$A$1:$NB$5,4,0),\"\")","v":"-"},null,null,null,null,{"$f":"VLOOKUP(Y759,[1]SRM!$S$4:$Z$368,3,0)","v":0},"","",""]
["36zoZND",{"$f":"VLOOKUP($AA761,DATA!$B$3:$E761,2,0)","v":"00:00:00"},{"$f":"VLOOKUP($AA761,DATA!$B$3:$E761,3,0)","v":"00:00:00"},{"$f":"VLOOKUP($AA761,DATA!$B$3:$E761,4,0)","v":0},0,0,{"$f":"DATA!$C$9","v":0.89},{"$f":"DATA!$C$10","v":64},1,0,0,0,"","",0,"","",0,"","","","",null,{"$f":"X751","v":36},null,{"$f":"TEXT(Y759,\"ddd\")","v":"zo"},"ZND",{"$f":"IFERROR(HLOOKUP(Y759,[1]DATA!$A$1:$NB$5,5,0),\"\")","v":"-"},null,null,null,null,{"$f":"VLOOKUP(Y759,[1]SRM!$S$4:$Z$368,4,0)","v":0},"","",""]
["37maDD",{"$f":"VLOOKUP($AA762,DATA!$B$3:$E762,2,0)","v":"06:30:00"},{"$f":"VLOOKUP($AA762,DATA!$B$3:$E762,3,0)","v":"14:30:00"},{"$f":"VLOOKUP($AA762,DATA!$B$3:$E762,4,0)","v":3.125E-2},0.30208333333333331,0.27499999999999997,{"$f":"DATA!$C$9","v":0.89},{"$f":"DATA!$C$10","v":64},1,371.24999999999994,407.8125,2.7083333333333334E-2,36.5625,8.9655172413793102E-2,{"$f":"TIME(INT($AD762/60),INT(MOD($AD762,60)/1),0)","v":0},"","",353.06666666666666,299,299,"","",null,{"$f":"X772","v":37},{"$f":"Y759+1","v":"2018-09-10"},{"$f":"TEXT(Y762,\"ddd\")","v":"ma"},"DD",{"$f":"IFERROR(HLOOKUP(Y762,[1]DATA!$A$1:$NB$5,3,0),\"\")","v":"D1"},39,null,32,331,{"$f":"VLOOKUP(Y762,[1]SRM!$S$4:$Z$368,2,0)","v":21},-72.249999999999943,0.7331800766283525,0.94386027446088039,{"$f":"IF(SUMIF(S762:S782,\">0\",K762:K782)=0,\"\",SUMIF(S762:S782,\">0\",K762:K782))","v":6117.1875},{"$f":"IF(SUM(S762:S782)=0,\"\",SUM(S762:S782))","v":4510},{"$f":"IFERROR(AL762/AK762,\"-\")","v":0.73726692209450828},{"$f":"IF(SUM(M762:M782)=0,\"0\",SUM(M762:M782))","v":620.625},{"$f":"IFERROR(AN762/AK762,\"-\")","v":0.101455938697318},{"$f":"IF(SUM(P762:P782)=0,0,SUM(P762:P782))","v":0},{"$f":"IFERROR(AP762/AK762,\"-\")","v":0},{"$f":"IFERROR(AVERAGE(AJ762:AJ782),\"-\")","v":0.9214918007101911},{"$f":"IFERROR(SUMIF($AB762:$AB782,AS$5,$AJ762:$AJ782)/COUNTIFS($AB762:$AB782,AS$5,$AJ762:$AJ782,\">0\"),\"\")","v":0.96270751037751656},0.93860531572998784,0.86316257602306923,{"$f":"IFERROR((AK762-AL762-AN762-AP762),\"-\")","v":986.5625},{"$f":"IFERROR((1-AM762-AO762-AQ762), \"-\")","v":0.16127713920817371},{"$f":"IFERROR((AV762*$AE$2)/60,\"-\")","v":1052.3333333333333},{"$f":"IFERROR(SUM(AG762:AG782),\"\")","v":430}]
["37maMD",{"$f":"VLOOKUP($AA763,DATA!$B$3:$E763,2,0)","v":"14:30:00"},{"$f":"VLOOKUP($AA763,DATA!$B$3:$E763,3,0)","v":"22:30:00"},{"$f":"VLOOKUP($AA763,DATA!$B$3:$E763,4,0)","v":3.125E-2},0.30208333333333337,0.27777777777777779,{"$f":"DATA!$C$9","v":0.89},{"$f":"DATA!$C$10","v":64},1,375,407.81250000000006,2.4305555555555556E-2,32.8125,8.0459770114942514E-2,{"$f":"TIME(INT(AD763/60),INT(MOD(AD763,60)/1),0)","v":0},"","",142.93333333333334,126,"","",126,null,{"$f":"X772","v":37},null,{"$f":"TEXT(Y762,\"ddd\")","v":"ma"},"MD",{"$f":"IFERROR(HLOOKUP(Y762,[1]DATA!$A$1:$NB$5,4,0),\"\")","v":"D3"},35,null,8,134,{"$f":"VLOOKUP(Y762,[1]SRM!$S$4:$Z$368,3,0)","v":30},-249,0.30896551724137927,0.82652274479568233]
["37maND",{"$f":"VLOOKUP($AA764,DATA!$B$3:$E764,2,0)","v":"22:30:00"},{"$f":"VLOOKUP($AA764,DATA!$B$3:$E764,3,0)","v":"06:30:00"},{"$f":"VLOOKUP($AA764,DATA!$B$3:$E764,4,0)","v":3.125E-2},0.30208333333333326,0.25347222222222215,{"$f":"DATA!$C$9","v":0.89},{"$f":"DATA!$C$10","v":64},1,342.18749999999989,407.81249999999989,4.8611111111111112E-2,65.625,0.16091954022988511,0,"","",355.2,309,"",309,"",null,{"$f":"X772","v":37},null,{"$f":"TEXT(Y762,\"ddd\")","v":"ma"},"ND",{"$f":"IFERROR(HLOOKUP(Y762,[1]DATA!$A$1:$NB$5,5,0),\"\")","v":"D2"},70,null,24,333,{"$f":"VLOOKUP(Y762,[1]SRM!$S$4:$Z$368,4,0)","v":66},-33.187499999999886,0.75770114942528755,0.84330484330484334]
["37diDD",{"$f":"VLOOKUP($AA765,DATA!$B$3:$E765,2,0)","v":"06:30:00"},{"$f":"VLOOKUP($AA765,DATA!$B$3:$E765,3,0)","v":"14:30:00"},{"$f":"VLOOKUP($AA765,DATA!$B$3:$E765,4,0)","v":3.125E-2},0.30208333333333331,0.27361111111111108,{"$f":"DATA!$C$9","v":0.89},{"$f":"DATA!$C$10","v":64},1,369.37499999999994,407.8125,2.8472222222222222E-2,38.4375,9.4252873563218389E-2,0,"","",387.2,333,333,"","",null,{"$f":"X772","v":37},"2018-09-11",{"$f":"TEXT(Y765,\"ddd\")","v":"di"},"DD",{"$f":"IFERROR(HLOOKUP(Y765,[1]DATA!$A$1:$NB$5,3,0),\"\")","v":"D1"},41,null,30,363,{"$f":"VLOOKUP(Y765,[1]SRM!$S$4:$Z$368,2,0)","v":0},-36.374999999999943,0.81655172413793109,1]
["37diMD",{"$f":"VLOOKUP($AA766,DATA!$B$3:$E766,2,0)","v":"14:30:00"},{"$f":"VLOOKUP($AA766,DATA!$B$3:$E766,3,0)","v":"22:30:00"},{"$f":"VLOOKUP($AA766,DATA!$B$3:$E766,4,0)","v":3.125E-2},0.30208333333333337,0.25763888888888892,{"$f":"DATA!$C$9","v":0.89},{"$f":"DATA!$C$10","v":64},1,347.81250000000006,407.81250000000006,4.4444444444444446E-2,60,0.14712643678160917,0,"","",329.6,288,"","",288,null,{"$f":"X772","v":37},null,{"$f":"TEXT(Y765,\"ddd\")","v":"di"},"MD",{"$f":"IFERROR(HLOOKUP(Y765,[1]DATA!$A$1:$NB$5,4,0),\"\")","v":"D3"},64,null,21,309,{"$f":"VLOOKUP(Y765,[1]SRM!$S$4:$Z$368,3,0)","v":25},-59.812500000000057,0.70620689655172408,0.92949802594472641]
["37diND",{"$f":"VLOOKUP($AA767,DATA!$B$3:$E767,2,0)","v":"22:30:00"},{"$f":"VLOOKUP($AA767,DATA!$B$3:$E767,3,0)","v":"06:30:00"},{"$f":"VLOOKUP($AA767,DATA!$B$3:$E767,4,0)","v":3.125E-2},0.30208333333333326,0.27291666666666659,{"$f":"DATA!$C$9","v":0.89},{"$f":"DATA!$C$10","v":64},1,368.43749999999989,407.81249999999989,2.9166666666666664E-2,39.374999999999993,9.6551724137931047E-2,0,"","",356.26666666666665,313,"",313,"",null,{"$f":"X772","v":37},null,{"$f":"TEXT(Y765,\"ddd\")","v":"di"},"ND",{"$f":"IFERROR(HLOOKUP(Y765,[1]DATA!$A$1:$NB$5,5,0),\"\")","v":"D2"},42,null,21,334,{"$f":"VLOOKUP(Y765,[1]SRM!$S$4:$Z$368,4,0)","v":22},-55.437499999999886,0.76750957854406154,0.94183997180119849]
["37woDD",{"$f":"VLOOKUP($AA768,DATA!$B$3:$E768,2,0)","v":"06:30:00"},{"$f":"VLOOKUP($AA768,DATA!$B$3:$E768,3,0)","v":"14:30:00"},{"$f":"VLOOKUP($AA768,DATA!$B$3:$E768,4,0)","v":3.125E-2},0.30208333333333331,0.27708333333333329,{"$f":"DATA!$C$9","v":0.89},{"$f":"DATA!$C$10","v":64},1,374.06249999999994,407.8125,2.4999999999999998E-2,33.75,8.2758620689655171E-2,0,"","",354.13333333333333,312,312,"","",null,{"$f":"X772","v":37},"2018-09-12",{"$f":"TEXT(Y768,\"ddd\")","v":"wo"},"DD",{"$f":"IFERROR(HLOOKUP(Y768,[1]DATA!$A$1:$NB$5,3,0),\"\")","v":"D1"},36,null,20,332,{"$f":"VLOOKUP(Y768,[1]SRM!$S$4:$Z$368,2,0)","v":16},-62.062499999999943,0.76505747126436785,0.95677233429394815]
["37woMD",{"$f":"VLOOKUP($AA769,DATA!$B$3:$E769,2,0)","v":"14:30:00"},{"$f":"VLOOKUP($AA769,DATA!$B$3:$E769,3,0)","v":"22:30:00"},{"$f":"VLOOKUP($AA769,DATA!$B$3:$E769,4,0)","v":3.125E-2},0.30208333333333337,0.27430555555555558,{"$f":"DATA!$C$9","v":0.89},{"$f":"DATA!$C$10","v":64},1,370.31250000000006,407.81250000000006,2.7777777777777776E-2,37.5,9.1954022988505732E-2,0,"","",338.13333333333333,298,"","",298,null,{"$f":"X772","v":37},null,{"$f":"TEXT(Y768,\"ddd\")","v":"wo"},"MD",{"$f":"IFERROR(HLOOKUP(Y768,[1]DATA!$A$1:$NB$5,4,0),\"\")","v":"D3"},40,null,19,317,{"$f":"VLOOKUP(Y768,[1]SRM!$S$4:$Z$368,3,0)","v":55},-72.312500000000057,0.73072796934865891,0.86009835509581145]
["37woND",{"$f":"VLOOKUP($AA770,DATA!$B$3:$E770,2,0)","v":"22:30:00"},{"$f":"VLOOKUP($AA770,DATA!$B$3:$E770,3,0)","v":"06:30:00"},{"$f":"VLOOKUP($AA770,DATA!$B$3:$E770,4,0)","v":3.125E-2},0.30208333333333326,0.28888888888888881,{"$f":"DATA!$C$9","v":0.89},{"$f":"DATA!$C$10","v":64},1,389.99999999999989,407.81249999999989,1.3194444444444444E-2,17.8125,4.3678160919540243E-2,0,"","",369.06666666666666,323,"",323,"",null,{"$f":"X772","v":37},null,{"$f":"TEXT(Y768,\"ddd\")","v":"wo"},"ND",{"$f":"IFERROR(HLOOKUP(Y768,[1]DATA!$A$1:$NB$5,5,0),\"\")","v":"D2"},19,null,23,346,{"$f":"VLOOKUP(Y768,[1]SRM!$S$4:$Z$368,4,0)","v":26},-66.999999999999886,0.79203065134099637,0.93418832264596696]
["37doDD",{"$f":"VLOOKUP($AA771,DATA!$B$3:$E771,2,0)","v":"06:30:00"},{"$f":"VLOOKUP($AA771,DATA!$B$3:$E771,3,0)","v":"14:30:00"},{"$f":"VLOOKUP($AA771,DATA!$B$3:$E771,4,0)","v":3.125E-2},0.30208333333333331,0.2638888888888889,{"$f":"DATA!$C$9","v":0.89},{"$f":"DATA!$C$10","v":64},1,356.25,407.8125,3.8194444444444441E-2,51.562499999999993,0.12643678160919539,0,"","",385.06666666666666,336,336,"","",null,{"$f":"X772","v":37},"2018-09-13",{"$f":"TEXT(Y771,\"ddd\")","v":"do"},"DD",{"$f":"IFERROR(HLOOKUP(Y771,[1]DATA!$A$1:$NB$5,3,0),\"\")","v":"D1"},55,null,25,361,{"$f":"VLOOKUP(Y771,[1]SRM!$S$4:$Z$368,2,0)","v":18},-20.25,0.82390804597701151,0.95534237512404896]
["37doMD",{"$f":"VLOOKUP($AA772,DATA!$B$3:$E772,2,0)","v":"14:30:00"},{"$f":"VLOOKUP($AA772,DATA!$B$3:$E772,3,0)","v":"22:30:00"},{"$f":"VLOOKUP($AA772,DATA!$B$3:$E772,4,0)","v":3.125E-2},0.30208333333333337,0.26180555555555557,{"$f":"DATA!$C$9","v":0.89},{"$f":"DATA!$C$10","v":64},1,353.4375,407.81250000000006,4.027777777777778E-2,54.375,0.1333333333333333,0,"","",372.26666666666665,336,"","",336,null,{"$f":"WEEKNUM($Y762)","v":37},null,{"$f":"TEXT(Y771,\"ddd\")","v":"do"},"MD",{"$f":"IFERROR(HLOOKUP(Y771,[1]DATA!$A$1:$NB$5,4,0),\"\")","v":"D3"},58,null,13,349,{"$f":"VLOOKUP(Y771,[1]SRM!$S$4:$Z$368,3,0)","v":78},-17.4375,0.82390804597701139,0.82676932188332841]
["37doND",{"$f":"VLOOKUP($AA773,DATA!$B$3:$E773,2,0)","v":"22:30:00"},{"$f":"VLOOKUP($AA773,DATA!$B$3:$E773,3,0)","v":"06:30:00"},{"$f":"VLOOKUP($AA773,DATA!$B$3:$E773,4,0)","v":3.125E-2},0.30208333333333326,0.2715277777777777,{"$f":"DATA!$C$9","v":0.89},{"$f":"DATA!$C$10","v":64},1,366.56249999999989,407.81249999999989,3.0555555555555555E-2,41.25,0.10114942528735635,0,"","",370.13333333333333,325,"",325,"",null,{"$f":"X772","v":37},null,{"$f":"TEXT(Y771,\"ddd\")","v":"do"},"ND",{"$f":"IFERROR(HLOOKUP(Y771,[1]DATA!$A$1:$NB$5,5,0),\"\")","v":"D2"},44,null,22,347,{"$f":"VLOOKUP(Y771,[1]SRM!$S$4:$Z$368,4,0)","v":10},-41.562499999999886,0.79693486590038332,0.97369344089793053]
["37vrDD",{"$f":"VLOOKUP($AA774,DATA!$B$3:$E774,2,0)","v":"06:30:00"},{"$f":"VLOOKUP($AA774,DATA!$B$3:$E774,3,0)","v":"14:30:00"},{"$f":"VLOOKUP($AA774,DATA!$B$3:$E774,4,0)","v":3.125E-2},0.30208333333333331,0.27083333333333331,{"$f":"DATA!$C$9","v":0.89},{"$f":"DATA!$C$10","v":64},1,{"$f":"F774*86400/H774*I774","v":365.625},{"$f":"E774*86400/H774","v":407.8125},3.125E-2,42.1875,0.10344827586206896,0,"","",{"$f":"AF774*AG$2","v":293.33333333333331},{"$f":"IF(AF774-AE774=0,\"\",AF774-AE774)","v":270},270,"","",null,{"$f":"X772","v":37},"2018-09-14",{"$f":"TEXT(Y774,\"ddd\")","v":"vr"},"DD",{"$f":"IFERROR(HLOOKUP(Y774,[1]DATA!$A$1:$NB$5,3,0),\"\")","v":"D1"},45,null,5,275,{"$f":"VLOOKUP(Y774,[1]SRM!$S$4:$Z$368,2,0)","v":13},{"$f":"IFERROR(S774-J774,\"\")","v":-95.625},{"$f":"IFERROR(IF(S774/(E774*86400/H774)<=0,\"\",S774/(E774*86400/H774)),\"\")","v":0.66206896551724137},0.9575625680087051]
["37vrMD",{"$f":"VLOOKUP($AA775,DATA!$B$3:$E775,2,0)","v":"14:30:00"},{"$f":"VLOOKUP($AA775,DATA!$B$3:$E775,3,0)","v":"22:30:00"},{"$f":"VLOOKUP($AA775,DATA!$B$3:$E775,4,0)","v":3.125E-2},0.30208333333333337,0.27638888888888891,{"$f":"DATA!$C$9","v":0.89},{"$f":"DATA!$C$10","v":64},1,373.125,407.81250000000006,{"$f":"TIME(INT($AC775/60),INT(MOD($AC775,60)/1),0)","v":2.5694444444444447E-2},{"$f":"IF($L775*86400/$H775=0,\"\",$L775*86400/$H775)","v":34.6875},{"$f":"IFERROR($M775/$K775,\"\")","v":8.5057471264367801E-2},0,"",{"$f":"IFERROR($P775/$K775,\"\")","v":""},343.46666666666664,295,{"$f":"IF(IF($AB775=\"D1\",$S775,\"\")=0,\"\",IF($AB775=\"D1\",$S775,\"\"))","v":""},{"$f":"IF(IF($AB775=\"D2\",$S775,\"\")=0,\"\",IF($AB775=\"D2\",$S775,\"\"))","v":""},{"$f":"IF(IF($AB775=\"D3\",$S775,\"\")=0,\"\",IF($AB775=\"D3\",$S775,\"\"))","v":295},null,{"$f":"X772","v":37},null,{"$f":"TEXT(Y774,\"ddd\")","v":"vr"},"MD",{"$f":"IFERROR(HLOOKUP(Y774,[1]DATA!$A$1:$NB$5,4,0),\"\")","v":"D3"},37,null,27,322,{"$f":"VLOOKUP(Y774,[1]SRM!$S$4:$Z$368,3,0)","v":50},-78.125,0.7233716475095785,0.87292443239579798]
["37vrND",{"$f":"VLOOKUP($AA776,DATA!$B$3:$E776,2,0)","v":"22:30:00"},{"$f":"VLOOKUP($AA776,DATA!$B$3:$E776,3,0)","v":"06:30:00"},{"$f":"VLOOKUP($AA776,DATA!$B$3:$E776,4,0)","v":3.125E-2},0.30208333333333326,0.2763888888888888,{"$f":"DATA!$C$9","v":0.89},{"$f":"DATA!$C$10","v":64},1,373.12499999999989,407.81249999999989,2.5694444444444447E-2,34.6875,8.5057471264367843E-2,0,"","",404.26666666666665,347,"",347,"",null,{"$f":"X772","v":37},null,{"$f":"TEXT(Y774,\"ddd\")","v":"vr"},"ND",{"$f":"IFERROR(HLOOKUP(Y774,[1]DATA!$A$1:$NB$5,5,0),\"\")","v":"D2"},37,null,32,379,{"$f":"VLOOKUP(Y774,[1]SRM!$S$4:$Z$368,4,0)","v":0},-26.124999999999886,0.85088122605364014,1]
["37zaDD",{"$f":"VLOOKUP($AA777,DATA!$B$3:$E777,2,0)","v":"06:30:00"},{"$f":"VLOOKUP($AA777,DATA!$B$3:$E777,3,0)","v":"14:30:00"},{"$f":"VLOOKUP($AA777,DATA!$B$3:$E777,4,0)","v":3.125E-2},0.30208333333333331,0.30208333333333331,{"$f":"DATA!$C$9","v":0.89},{"$f":"DATA!$C$10","v":64},1,407.8125,407.8125,0,"","",0,"","",0,"","","","",null,{"$f":"X772","v":37},"2018-09-15",{"$f":"TEXT(Y777,\"ddd\")","v":"za"},"DD",{"$f":"IFERROR(HLOOKUP(Y777,[1]DATA!$A$1:$NB$5,3,0),\"\")","v":"D1"},null,null,null,null,{"$f":"VLOOKUP(Y777,[1]SRM!$S$4:$Z$368,2,0)","v":0},"","",""]
["37zaMD",{"$f":"VLOOKUP($AA778,DATA!$B$3:$E778,2,0)","v":"14:30:00"},{"$f":"VLOOKUP($AA778,DATA!$B$3:$E778,3,0)","v":"22:30:00"},{"$f":"VLOOKUP($AA778,DATA!$B$3:$E778,4,0)","v":3.125E-2},0.30208333333333337,0.30208333333333337,{"$f":"DATA!$C$9","v":0.89},{"$f":"DATA!$C$10","v":64},1,407.81250000000006,407.81250000000006,0,"","",0,"","",0,"","","","",null,{"$f":"X772","v":37},null,{"$f":"TEXT(Y777,\"ddd\")","v":"za"},"MD",{"$f":"IFERROR(HLOOKUP(Y777,[1]DATA!$A$1:$NB$5,4,0),\"\")","v":"-"},null,null,null,null,{"$f":"VLOOKUP(Y777,[1]SRM!$S$4:$Z$368,3,0)","v":0},"","",""]
["37zaND",{"$f":"VLOOKUP($AA779,DATA!$B$3:$E779,2,0)","v":"22:30:00"},{"$f":"VLOOKUP($AA779,DATA!$B$3:$E779,3,0)","v":"06:30:00"},{"$f":"VLOOKUP($AA779,DATA!$B$3:$E779,4,0)","v":3.125E-2},0.30208333333333326,0.30208333333333326,{"$f":"DATA!$C$9","v":0.89},{"$f":"DATA!$C$10","v":64},1,407.81249999999989,407.81249999999989,0,"","",0,"","",0,"","","","",null,{"$f":"X772","v":37},null,{"$f":"TEXT(Y777,\"ddd\")","v":"za"},"ND",{"$f":"IFERROR(HLOOKUP(Y777,[1]DATA!$A$1:$NB$5,5,0),\"\")","v":"-"},null,null,null,null,{"$f":"VLOOKUP(Y777,[1]SRM!$S$4:$Z$368,4,0)","v":0},"","",""]
["37zoDD",{"$f":"VLOOKUP($AA780,DATA!$B$3:$E780,2,0)","v":"06:30:00"},{"$f":"VLOOKUP($AA780,DATA!$B$3:$E780,3,0)","v":"14:30:00"},{"$f":"VLOOKUP($AA780,DATA!$B$3:$E780,4,0)","v":3.125E-2},0.30208333333333331,0.30208333333333331,{"$f":"DATA!$C$9","v":0.89},{"$f":"DATA!$C$10","v":64},1,407.8125,407.8125,0,"","",0,"","",0,"","","","",null,{"$f":"X772","v":37},"2018-09-16",{"$f":"TEXT(Y780,\"ddd\")","v":"zo"},"DD",{"$f":"IFERROR(HLOOKUP(Y780,[1]DATA!$A$1:$NB$5,3,0),\"\")","v":"-"},null,null,null,null,{"$f":"VLOOKUP(Y780,[1]SRM!$S$4:$Z$368,2,0)","v":0},"","",""]
["37zoMD",{"$f":"VLOOKUP($AA781,DATA!$B$3:$E781,2,0)","v":"14:30:00"},{"$f":"VLOOKUP($AA781,DATA!$B$3:$E781,3,0)","v":"22:30:00"},{"$f":"VLOOKUP($AA781,DATA!$B$3:$E781,4,0)","v":3.125E-2},0.30208333333333337,0.30208333333333337,{"$f":"DATA!$C$9","v":0.89},{"$f":"DATA!$C$10","v":64},1,407.81250000000006,407.81250000000006,0,"","",0,"","",0,"","","","",null,{"$f":"X772","v":37},null,{"$f":"TEXT(Y780,\"ddd\")","v":"zo"},"MD",{"$f":"IFERROR(HLOOKUP(Y780,[1]DATA!$A$1:$NB$5,4,0),\"\")","v":"-"},null,null,null,null,{"$f":"VLOOKUP(Y780,[1]SRM!$S$4:$Z$368,3,0)","v":0},"","",""]
["37zoZND",{"$f":"VLOOKUP($AA782,DATA!$B$3:$E782,2,0)","v":"00:00:00"},{"$f":"VLOOKUP($AA782,DATA!$B$3:$E782,3,0)","v":"00:00:00"},{"$f":"VLOOKUP($AA782,DATA!$B$3:$E782,4,0)","v":0},0,0,{"$f":"DATA!$C$9","v":0.89},{"$f":"DATA!$C$10","v":64},1,0,0,0,"","",0,"","",0,"","","","",null,{"$f":"X772","v":37},null,{"$f":"TEXT(Y780,\"ddd\")","v":"zo"},"ZND",{"$f":"IFERROR(HLOOKUP(Y780,[1]DATA!$A$1:$NB$5,5,0),\"\")","v":"-"},null,null,null,null,{"$f":"VLOOKUP(Y780,[1]SRM!$S$4:$Z$368,4,0)","v":0},"","",""]
["38maDD",{"$f":"VLOOKUP($AA783,DATA!$B$3:$E783,2,0)","v":"06:30:00"},{"$f":"VLOOKUP($AA783,DATA!$B$3:$E783,3,0)","v":"14:30:00"},{"$f":"VLOOKUP($AA783,DATA!$B$3:$E783,4,0)","v":3.125E-2},0.30208333333333331,0.25624999999999998,{"$f":"DATA!$C$9","v":0.89},{"$f":"DATA!$C$10","v":64},1,345.93749999999994,407.8125,4.5833333333333337E-2,61.875000000000007,0.15172413793103451,{"$f":"TIME(INT($AD783/60),INT(MOD($AD783,60)/1),0)","v":0},"","",325.33333333333331,289,"","",289,null,{"$f":"X793","v":38},"2018-09-17",{"$f":"TEXT(Y783,\"ddd\")","v":"ma"},"DD",{"$f":"IFERROR(HLOOKUP(Y783,[1]DATA!$A$1:$NB$5,3,0),\"\")","v":"D3"},66,null,16,305,{"$f":"VLOOKUP(Y783,[1]SRM!$S$4:$Z$368,2,0)","v":57},-56.937499999999943,0.70865900383141767,0.85091543156059279,{"$f":"IF(SUMIF(S783:S803,\">0\",K783:K803)=0,\"\",SUMIF(S783:S803,\">0\",K783:K803))","v":6117.1875},{"$f":"IF(SUM(S783:S803)=0,\"\",SUM(S783:S803))","v":4258},{"$f":"IFERROR(AL783/AK783,\"-\")","v":0.69607151979565773},{"$f":"IF(SUM(M783:M803)=0,\"0\",SUM(M783:M803))","v":715.3125},{"$f":"IFERROR(AN783/AK783,\"-\")","v":0.11693486590038314},{"$f":"IF(SUM(P783:P803)=0,0,SUM(P783:P803))","v":0},{"$f":"IFERROR(AP783/AK783,\"-\")","v":0},{"$f":"IFERROR(AVERAGE(AJ783:AJ803),\"-\")","v":0.89934998598277827},{"$f":"IFERROR(SUMIF($AB783:$AB803,AS$5,$AJ783:$AJ803)/COUNTIFS($AB783:$AB803,AS$5,$AJ783:$AJ803,\">0\"),\"\")","v":0.9637795749789233},0.87940630823182986,0.87173872808700037,{"$f":"IFERROR((AK783-AL783-AN783-AP783),\"-\")","v":1143.875},{"$f":"IFERROR((1-AM783-AO783-AQ783), \"-\")","v":0.18699361430395911},{"$f":"IFERROR((AV783*$AE$2)/60,\"-\")","v":1220.1333333333334},{"$f":"IFERROR(SUM(AG783:AG803),\"\")","v":578}]
["38maMD",{"$f":"VLOOKUP($AA784,DATA!$B$3:$E784,2,0)","v":"14:30:00"},{"$f":"VLOOKUP($AA784,DATA!$B$3:$E784,3,0)","v":"22:30:00"},{"$f":"VLOOKUP($AA784,DATA!$B$3:$E784,4,0)","v":3.125E-2},0.30208333333333337,0.28819444444444448,{"$f":"DATA!$C$9","v":0.89},{"$f":"DATA!$C$10","v":64},1,389.06250000000006,407.81250000000006,1.3888888888888888E-2,18.75,4.5977011494252866E-2,{"$f":"TIME(INT(AD784/60),INT(MOD(AD784,60)/1),0)","v":0},"","",258.13333333333333,224,"",224,"",null,{"$f":"X793","v":38},null,{"$f":"TEXT(Y783,\"ddd\")","v":"ma"},"MD",{"$f":"IFERROR(HLOOKUP(Y783,[1]DATA!$A$1:$NB$5,4,0),\"\")","v":"D2"},20,null,18,242,{"$f":"VLOOKUP(Y783,[1]SRM!$S$4:$Z$368,3,0)","v":108},-165.06250000000006,0.54927203065134089,0.7050254916241806]
["38maND",{"$f":"VLOOKUP($AA785,DATA!$B$3:$E785,2,0)","v":"22:30:00"},{"$f":"VLOOKUP($AA785,DATA!$B$3:$E785,3,0)","v":"06:30:00"},{"$f":"VLOOKUP($AA785,DATA!$B$3:$E785,4,0)","v":3.125E-2},0.30208333333333326,0.28472222222222215,{"$f":"DATA!$C$9","v":0.89},{"$f":"DATA!$C$10","v":64},1,384.37499999999989,407.81249999999989,1.7361111111111112E-2,23.4375,5.7471264367816105E-2,0,"","",273.06666666666666,234,234,"","",null,{"$f":"X793","v":38},null,{"$f":"TEXT(Y783,\"ddd\")","v":"ma"},"ND",{"$f":"IFERROR(HLOOKUP(Y783,[1]DATA!$A$1:$NB$5,5,0),\"\")","v":"D1"},25,null,22,256,{"$f":"VLOOKUP(Y783,[1]SRM!$S$4:$Z$368,4,0)","v":17},-150.37499999999989,0.57379310344827605,0.94139278326821418]
["38diDD",{"$f":"VLOOKUP($AA786,DATA!$B$3:$E786,2,0)","v":"06:30:00"},{"$f":"VLOOKUP($AA786,DATA!$B$3:$E786,3,0)","v":"14:30:00"},{"$f":"VLOOKUP($AA786,DATA!$B$3:$E786,4,0)","v":3.125E-2},0.30208333333333331,0.27777777777777773,{"$f":"DATA!$C$9","v":0.89},{"$f":"DATA!$C$10","v":64},1,374.99999999999994,407.8125,2.4305555555555556E-2,32.8125,8.0459770114942528E-2,0,"","",342.4,300,"","",300,null,{"$f":"X793","v":38},"2018-09-18",{"$f":"TEXT(Y786,\"ddd\")","v":"di"},"DD",{"$f":"IFERROR(HLOOKUP(Y786,[1]DATA!$A$1:$NB$5,3,0),\"\")","v":"D3"},35,null,21,321,{"$f":"VLOOKUP(Y786,[1]SRM!$S$4:$Z$368,2,0)","v":10},-74.999999999999943,0.73563218390804597,0.97162315550510781]
["38diMD",{"$f":"VLOOKUP($AA787,DATA!$B$3:$E787,2,0)","v":"14:30:00"},{"$f":"VLOOKUP($AA787,DATA!$B$3:$E787,3,0)","v":"22:30:00"},{"$f":"VLOOKUP($AA787,DATA!$B$3:$E787,4,0)","v":3.125E-2},0.30208333333333337,0.2479166666666667,{"$f":"DATA!$C$9","v":0.89},{"$f":"DATA!$C$10","v":64},1,334.68750000000006,407.81250000000006,5.4166666666666669E-2,73.125,0.17931034482758618,0,"","",332.8,291,"",291,"",null,{"$f":"X793","v":38},null,{"$f":"TEXT(Y786,\"ddd\")","v":"di"},"MD",{"$f":"IFERROR(HLOOKUP(Y786,[1]DATA!$A$1:$NB$5,4,0),\"\")","v":"D2"},78,null,21,312,{"$f":"VLOOKUP(Y786,[1]SRM!$S$4:$Z$368,3,0)","v":63},-43.687500000000057,0.7135632183908045,0.84082870136432541]
["38diND",{"$f":"VLOOKUP($AA788,DATA!$B$3:$E788,2,0)","v":"22:30:00"},{"$f":"VLOOKUP($AA788,DATA!$B$3:$E788,3,0)","v":"06:30:00"},{"$f":"VLOOKUP($AA788,DATA!$B$3:$E788,4,0)","v":3.125E-2},0.30208333333333326,0.26736111111111105,{"$f":"DATA!$C$9","v":0.89},{"$f":"DATA!$C$10","v":64},1,360.93749999999994,407.81249999999989,3.4722222222222224E-2,46.875,0.11494252873563221,0,"","",281.60000000000002,249,249,"","",null,{"$f":"X793","v":38},null,{"$f":"TEXT(Y786,\"ddd\")","v":"di"},"ND",{"$f":"IFERROR(HLOOKUP(Y786,[1]DATA!$A$1:$NB$5,5,0),\"\")","v":"D1"},50,null,15,264,{"$f":"VLOOKUP(Y786,[1]SRM!$S$4:$Z$368,4,0)","v":6},-111.93749999999994,0.61057471264367835,0.97913769123783034]
["38woDD",{"$f":"VLOOKUP($AA789,DATA!$B$3:$E789,2,0)","v":"06:30:00"},{"$f":"VLOOKUP($AA789,DATA!$B$3:$E789,3,0)","v":"14:30:00"},{"$f":"VLOOKUP($AA789,DATA!$B$3:$E789,4,0)","v":3.125E-2},0.30208333333333331,0.26458333333333334,{"$f":"DATA!$C$9","v":0.89},{"$f":"DATA!$C$10","v":64},1,357.1875,407.8125,3.7499999999999999E-2,50.625,0.12413793103448276,0,"","",365.86666666666667,307,"","",307,null,{"$f":"X793","v":38},"2018-09-19",{"$f":"TEXT(Y789,\"ddd\")","v":"wo"},"DD",{"$f":"IFERROR(HLOOKUP(Y789,[1]DATA!$A$1:$NB$5,3,0),\"\")","v":"D3"},54,null,36,343,{"$f":"VLOOKUP(Y789,[1]SRM!$S$4:$Z$368,2,0)","v":95},-50.1875,0.75279693486590038,0.79386662809200059]
["38woMD",{"$f":"VLOOKUP($AA790,DATA!$B$3:$E790,2,0)","v":"14:30:00"},{"$f":"VLOOKUP($AA790,DATA!$B$3:$E790,3,0)","v":"22:30:00"},{"$f":"VLOOKUP($AA790,DATA!$B$3:$E790,4,0)","v":3.125E-2},0.30208333333333337,0.26527777777777783,{"$f":"DATA!$C$9","v":0.89},{"$f":"DATA!$C$10","v":64},1,358.12500000000006,407.81250000000006,3.6805555555555557E-2,49.6875,0.1218390804597701,0,"","",317.86666666666667,267,"",267,"",null,{"$f":"X793","v":38},null,{"$f":"TEXT(Y789,\"ddd\")","v":"wo"},"MD",{"$f":"IFERROR(HLOOKUP(Y789,[1]DATA!$A$1:$NB$5,4,0),\"\")","v":"D2"},53,null,31,298,{"$f":"VLOOKUP(Y789,[1]SRM!$S$4:$Z$368,3,0)","v":86},-91.125000000000057,0.65471264367816084,0.78705843512710461]
["38woND",{"$f":"VLOOKUP($AA791,DATA!$B$3:$E791,2,0)","v":"22:30:00"},{"$f":"VLOOKUP($AA791,DATA!$B$3:$E791,3,0)","v":"06:30:00"},{"$f":"VLOOKUP($AA791,DATA!$B$3:$E791,4,0)","v":3.125E-2},0.30208333333333326,0.27361111111111103,{"$f":"DATA!$C$9","v":0.89},{"$f":"DATA!$C$10","v":64},1,369.37499999999989,407.81249999999989,2.8472222222222222E-2,38.4375,9.4252873563218417E-2,0,"","",378.66666666666669,337,337,"","",null,{"$f":"X793","v":38},null,{"$f":"TEXT(Y789,\"ddd\")","v":"wo"},"ND",{"$f":"IFERROR(HLOOKUP(Y789,[1]DATA!$A$1:$NB$5,5,0),\"\")","v":"D1"},41,null,18,355,{"$f":"VLOOKUP(Y789,[1]SRM!$S$4:$Z$368,4,0)","v":12},-32.374999999999886,0.8263601532567052,0.96928327645051193]
["38doDD",{"$f":"VLOOKUP($AA792,DATA!$B$3:$E792,2,0)","v":"06:30:00"},{"$f":"VLOOKUP($AA792,DATA!$B$3:$E792,3,0)","v":"14:30:00"},{"$f":"VLOOKUP($AA792,DATA!$B$3:$E792,4,0)","v":3.125E-2},0.30208333333333331,0.2673611111111111,{"$f":"DATA!$C$9","v":0.89},{"$f":"DATA!$C$10","v":64},1,360.9375,407.8125,3.4722222222222224E-2,46.875,0.11494252873563218,0,"","",339.2,293,"","",293,null,{"$f":"X793","v":38},"2018-09-20",{"$f":"TEXT(Y792,\"ddd\")","v":"do"},"DD",{"$f":"IFERROR(HLOOKUP(Y792,[1]DATA!$A$1:$NB$5,3,0),\"\")","v":"D3"},50,null,25,318,{"$f":"VLOOKUP(Y792,[1]SRM!$S$4:$Z$368,2,0)","v":61},-67.9375,0.71846743295019155,0.84757621189405297]
["38doMD",{"$f":"VLOOKUP($AA793,DATA!$B$3:$E793,2,0)","v":"14:30:00"},{"$f":"VLOOKUP($AA793,DATA!$B$3:$E793,3,0)","v":"22:30:00"},{"$f":"VLOOKUP($AA793,DATA!$B$3:$E793,4,0)","v":3.125E-2},0.30208333333333337,0.27013888888888893,{"$f":"DATA!$C$9","v":0.89},{"$f":"DATA!$C$10","v":64},1,364.68750000000006,407.81250000000006,3.1944444444444449E-2,43.125000000000007,0.10574712643678161,0,"","",394.66666666666669,339,"",339,"",null,{"$f":"WEEKNUM($Y783)","v":38},null,{"$f":"TEXT(Y792,\"ddd\")","v":"do"},"MD",{"$f":"IFERROR(HLOOKUP(Y792,[1]DATA!$A$1:$NB$5,4,0),\"\")","v":"D2"},46,null,31,370,{"$f":"VLOOKUP(Y792,[1]SRM!$S$4:$Z$368,3,0)","v":3},-25.687500000000057,0.83126436781609181,0.9924559932942163]
["38doND",{"$f":"VLOOKUP($AA794,DATA!$B$3:$E794,2,0)","v":"22:30:00"},{"$f":"VLOOKUP($AA794,DATA!$B$3:$E794,3,0)","v":"06:30:00"},{"$f":"VLOOKUP($AA794,DATA!$B$3:$E794,4,0)","v":3.125E-2},0.30208333333333326,0.24861111111111103,{"$f":"DATA!$C$9","v":0.89},{"$f":"DATA!$C$10","v":64},1,335.62499999999989,407.81249999999989,5.347222222222222E-2,72.1875,0.1770114942528736,0,"","",333.86666666666667,291,291,"","",null,{"$f":"X793","v":38},null,{"$f":"TEXT(Y792,\"ddd\")","v":"do"},"ND",{"$f":"IFERROR(HLOOKUP(Y792,[1]DATA!$A$1:$NB$5,5,0),\"\")","v":"D1"},77,null,22,313,{"$f":"VLOOKUP(Y792,[1]SRM!$S$4:$Z$368,4,0)","v":12},-44.624999999999886,0.71356321839080483,0.96530454895913642]
["38vrDD",{"$f":"VLOOKUP($AA795,DATA!$B$3:$E795,2,0)","v":"06:30:00"},{"$f":"VLOOKUP($AA795,DATA!$B$3:$E795,3,0)","v":"14:30:00"},{"$f":"VLOOKUP($AA795,DATA!$B$3:$E795,4,0)","v":3.125E-2},0.30208333333333331,0.26458333333333334,{"$f":"DATA!$C$9","v":0.89},{"$f":"DATA!$C$10","v":64},1,357.1875,407.8125,3.7499999999999999E-2,50.625,0.12413793103448276,0,"","",254.93333333333334,225,"","",225,null,{"$f":"X793","v":38},"2018-09-21",{"$f":"TEXT(Y795,\"ddd\")","v":"vr"},"DD",{"$f":"IFERROR(HLOOKUP(Y795,[1]DATA!$A$1:$NB$5,3,0),\"\")","v":"D3"},54,null,14,239,{"$f":"VLOOKUP(Y795,[1]SRM!$S$4:$Z$368,2,0)","v":30},-132.1875,0.55172413793103448,{"$f":"IFERROR(R795/(R795+AG795),\"\")","v":0.89471221338324758}]
["38vrMD",{"$f":"VLOOKUP($AA796,DATA!$B$3:$E796,2,0)","v":"14:30:00"},{"$f":"VLOOKUP($AA796,DATA!$B$3:$E796,3,0)","v":"22:30:00"},{"$f":"VLOOKUP($AA796,DATA!$B$3:$E796,4,0)","v":3.125E-2},{"$f":"(C796-B796+(B796>C796))-D796","v":0.30208333333333337},{"$f":"E796-O796-L796","v":0.25277777777777782},{"$f":"DATA!$C$9","v":0.89},{"$f":"DATA!$C$10","v":64},1,341.25000000000006,407.81250000000006,4.9305555555555554E-2,66.5625,0.16321839080459769,0,"","",349.86666666666667,316,"",316,"",null,{"$f":"X793","v":38},null,{"$f":"TEXT(Y795,\"ddd\")","v":"vr"},"MD",{"$f":"IFERROR(HLOOKUP(Y795,[1]DATA!$A$1:$NB$5,4,0),\"\")","v":"D2"},71,null,12,328,{"$f":"VLOOKUP(Y795,[1]SRM!$S$4:$Z$368,3,0)","v":18},-25.250000000000057,0.77486590038314163,0.95106922798115257]
["38vrND",{"$f":"VLOOKUP($AA797,DATA!$B$3:$E797,2,0)","v":"22:30:00"},{"$f":"VLOOKUP($AA797,DATA!$B$3:$E797,3,0)","v":"06:30:00"},{"$f":"VLOOKUP($AA797,DATA!$B$3:$E797,4,0)","v":3.125E-2},0.30208333333333326,0.27222222222222214,{"$f":"DATA!$C$9","v":0.89},{"$f":"DATA!$C$10","v":64},1,367.49999999999989,407.81249999999989,2.9861111111111113E-2,40.3125,9.8850574712643705E-2,0,"","",343.46666666666664,296,"",296,"",null,{"$f":"X793","v":38},null,{"$f":"TEXT(Y795,\"ddd\")","v":"vr"},"ND",{"$f":"IFERROR(HLOOKUP(Y795,[1]DATA!$A$1:$NB$5,5,0),\"\")","v":"D2"},43,null,26,322,{"$f":"VLOOKUP(Y795,[1]SRM!$S$4:$Z$368,4,0)","v":0},-71.499999999999886,0.72582375478927219,1]
["38zaDD",{"$f":"VLOOKUP($AA798,DATA!$B$3:$E798,2,0)","v":"06:30:00"},{"$f":"VLOOKUP($AA798,DATA!$B$3:$E798,3,0)","v":"14:30:00"},{"$f":"VLOOKUP($AA798,DATA!$B$3:$E798,4,0)","v":3.125E-2},0.30208333333333331,0.30208333333333331,{"$f":"DATA!$C$9","v":0.89},{"$f":"DATA!$C$10","v":64},1,407.8125,407.8125,0,"","",0,"","",0,"","","","",null,{"$f":"X793","v":38},"2018-09-22",{"$f":"TEXT(Y798,\"ddd\")","v":"za"},"DD",{"$f":"IFERROR(HLOOKUP(Y798,[1]DATA!$A$1:$NB$5,3,0),\"\")","v":"D3"},null,null,null,null,{"$f":"VLOOKUP(Y798,[1]SRM!$S$4:$Z$368,2,0)","v":0},"","",""]
["38zaMD",{"$f":"VLOOKUP($AA799,DATA!$B$3:$E799,2,0)","v":"14:30:00"},{"$f":"VLOOKUP($AA799,DATA!$B$3:$E799,3,0)","v":"22:30:00"},{"$f":"VLOOKUP($AA799,DATA!$B$3:$E799,4,0)","v":3.125E-2},0.30208333333333337,0.30208333333333337,{"$f":"DATA!$C$9","v":0.89},{"$f":"DATA!$C$10","v":64},1,407.81250000000006,407.81250000000006,0,"","",0,"","",0,"","","","",null,{"$f":"X793","v":38},null,{"$f":"TEXT(Y798,\"ddd\")","v":"za"},"MD",{"$f":"IFERROR(HLOOKUP(Y798,[1]DATA!$A$1:$NB$5,4,0),\"\")","v":"-"},null,null,null,null,{"$f":"VLOOKUP(Y798,[1]SRM!$S$4:$Z$368,3,0)","v":0},"","",""]
["38zaND",{"$f":"VLOOKUP($AA800,DATA!$B$3:$E800,2,0)","v":"22:30:00"},{"$f":"VLOOKUP($AA800,DATA!$B$3:$E800,3,0)","v":"06:30:00"},{"$f":"VLOOKUP($AA800,DATA!$B$3:$E800,4,0)","v":3.125E-2},0.30208333333333326,0.30208333333333326,{"$f":"DATA!$C$9","v":0.89},{"$f":"DATA!$C$10","v":64},1,407.81249999999989,407.81249999999989,0,"","",0,"","",0,"","","","",null,{"$f":"X793","v":38},null,{"$f":"TEXT(Y798,\"ddd\")","v":"za"},"ND",{"$f":"IFERROR(HLOOKUP(Y798,[1]DATA!$A$1:$NB$5,5,0),\"\")","v":"-"},null,null,null,null,{"$f":"VLOOKUP(Y798,[1]SRM!$S$4:$Z$368,4,0)","v":0},"","",""]
["38zoDD",{"$f":"VLOOKUP($AA801,DATA!$B$3:$E801,2,0)","v":"06:30:00"},{"$f":"VLOOKUP($AA801,DATA!$B$3:$E801,3,0)","v":"14:30:00"},{"$f":"VLOOKUP($AA801,DATA!$B$3:$E801,4,0)","v":3.125E-2},0.30208333333333331,0.30208333333333331,{"$f":"DATA!$C$9","v":0.89},{"$f":"DATA!$C$10","v":64},1,407.8125,407.8125,0,"","",0,"","",0,"","","","",null,{"$f":"X793","v":38},"2018-09-23",{"$f":"TEXT(Y801,\"ddd\")","v":"zo"},"DD",{"$f":"IFERROR(HLOOKUP(Y801,[1]DATA!$A$1:$NB$5,3,0),\"\")","v":"-"},null,null,null,null,{"$f":"VLOOKUP(Y801,[1]SRM!$S$4:$Z$368,2,0)","v":0},"","",""]
["38zoMD",{"$f":"VLOOKUP($AA802,DATA!$B$3:$E802,2,0)","v":"14:30:00"},{"$f":"VLOOKUP($AA802,DATA!$B$3:$E802,3,0)","v":"22:30:00"},{"$f":"VLOOKUP($AA802,DATA!$B$3:$E802,4,0)","v":3.125E-2},0.30208333333333337,0.30208333333333337,{"$f":"DATA!$C$9","v":0.89},{"$f":"DATA!$C$10","v":64},1,407.81250000000006,407.81250000000006,0,"","",0,"","",0,"","","","",null,{"$f":"X793","v":38},null,{"$f":"TEXT(Y801,\"ddd\")","v":"zo"},"MD",{"$f":"IFERROR(HLOOKUP(Y801,[1]DATA!$A$1:$NB$5,4,0),\"\")","v":"-"},null,null,null,null,{"$f":"VLOOKUP(Y801,[1]SRM!$S$4:$Z$368,3,0)","v":0},"","",""]
["38zoZND",{"$f":"VLOOKUP($AA803,DATA!$B$3:$E803,2,0)","v":"00:00:00"},{"$f":"VLOOKUP($AA803,DATA!$B$3:$E803,3,0)","v":"00:00:00"},{"$f":"VLOOKUP($AA803,DATA!$B$3:$E803,4,0)","v":0},0,0,{"$f":"DATA!$C$9","v":0.89},{"$f":"DATA!$C$10","v":64},1,0,0,0,"","",0,"","",0,"","","","",null,{"$f":"X793","v":38},null,{"$f":"TEXT(Y801,\"ddd\")","v":"zo"},"ZND",{"$f":"IFERROR(HLOOKUP(Y801,[1]DATA!$A$1:$NB$5,5,0),\"\")","v":"-"},null,null,null,null,{"$f":"VLOOKUP(Y801,[1]SRM!$S$4:$Z$368,4,0)","v":0},"","",""]
["39maDD",{"$f":"VLOOKUP($AA804,DATA!$B$3:$E804,2,0)","v":"06:30:00"},{"$f":"VLOOKUP($AA804,DATA!$B$3:$E804,3,0)","v":"14:30:00"},{"$f":"VLOOKUP($AA804,DATA!$B$3:$E804,4,0)","v":3.125E-2},0.30208333333333331,0.30208333333333331,{"$f":"DATA!$C$9","v":0.89},{"$f":"DATA!$C$10","v":64},1,407.8125,407.8125,0,"","",{"$f":"TIME(INT($AD804/60),INT(MOD($AD804,60)/1),0)","v":0},"","",0,"","","","",null,{"$f":"X814","v":39},"2018-09-24",{"$f":"TEXT(Y804,\"ddd\")","v":"ma"},"DD",{"$f":"IFERROR(HLOOKUP(Y804,[1]DATA!$A$1:$NB$5,3,0),\"\")","v":"D2"},null,null,null,null,{"$f":"VLOOKUP(Y804,[1]SRM!$S$4:$Z$368,2,0)","v":49},"","",0,{"$f":"IF(SUMIF(S804:S824,\">0\",K804:K824)=0,\"\",SUMIF(S804:S824,\">0\",K804:K824))","v":""},{"$f":"IF(SUM(S804:S824)=0,\"\",SUM(S804:S824))","v":""},{"$f":"IFERROR(AL804/AK804,\"-\")","v":"-"},{"$f":"IF(SUM(M804:M824)=0,\"0\",SUM(M804:M824))","v":"0"},{"$f":"IFERROR(AN804/AK804,\"-\")","v":"-"},{"$f":"IF(SUM(P804:P824)=0,0,SUM(P804:P824))","v":0},{"$f":"IFERROR(AP804/AK804,\"-\")","v":"-"},{"$f":"IFERROR(AVERAGE(AJ804:AJ824),\"-\")","v":0},{"$f":"IFERROR(SUMIF($AB804:$AB824,AS$5,$AJ804:$AJ824)/COUNTIFS($AB804:$AB824,AS$5,$AJ804:$AJ824,\">0\"),\"\")","v":""},"","",{"$f":"IFERROR((AK804-AL804-AN804-AP804),\"-\")","v":"-"},{"$f":"IFERROR((1-AM804-AO804-AQ804), \"-\")","v":"-"},{"$f":"IFERROR((AV804*$AE$2)/60,\"-\")","v":"-"},{"$f":"IFERROR(SUM(AG804:AG824),\"\")","v":328}]
["39maMD",{"$f":"VLOOKUP($AA805,DATA!$B$3:$E805,2,0)","v":"14:30:00"},{"$f":"VLOOKUP($AA805,DATA!$B$3:$E805,3,0)","v":"22:30:00"},{"$f":"VLOOKUP($AA805,DATA!$B$3:$E805,4,0)","v":3.125E-2},0.30208333333333337,0.30208333333333337,{"$f":"DATA!$C$9","v":0.89},{"$f":"DATA!$C$10","v":64},1,407.81250000000006,407.81250000000006,0,"","",{"$f":"TIME(INT(AD805/60),INT(MOD(AD805,60)/1),0)","v":0},"","",0,"","","","",null,{"$f":"X814","v":39},null,{"$f":"TEXT(Y804,\"ddd\")","v":"ma"},"MD",{"$f":"IFERROR(HLOOKUP(Y804,[1]DATA!$A$1:$NB$5,4,0),\"\")","v":"D1"},null,null,null,null,{"$f":"VLOOKUP(Y804,[1]SRM!$S$4:$Z$368,3,0)","v":21},"","",0]
["39maND",{"$f":"VLOOKUP($AA806,DATA!$B$3:$E806,2,0)","v":"22:30:00"},{"$f":"VLOOKUP($AA806,DATA!$B$3:$E806,3,0)","v":"06:30:00"},{"$f":"VLOOKUP($AA806,DATA!$B$3:$E806,4,0)","v":3.125E-2},0.30208333333333326,0.30208333333333326,{"$f":"DATA!$C$9","v":0.89},{"$f":"DATA!$C$10","v":64},1,407.81249999999989,407.81249999999989,0,"","",0,"","",0,"","","","",null,{"$f":"X814","v":39},null,{"$f":"TEXT(Y804,\"ddd\")","v":"ma"},"ND",{"$f":"IFERROR(HLOOKUP(Y804,[1]DATA!$A$1:$NB$5,5,0),\"\")","v":"D3"},null,null,null,null,{"$f":"VLOOKUP(Y804,[1]SRM!$S$4:$Z$368,4,0)","v":15},"","",0]
["39diDD",{"$f":"VLOOKUP($AA807,DATA!$B$3:$E807,2,0)","v":"06:30:00"},{"$f":"VLOOKUP($AA807,DATA!$B$3:$E807,3,0)","v":"14:30:00"},{"$f":"VLOOKUP($AA807,DATA!$B$3:$E807,4,0)","v":3.125E-2},0.30208333333333331,0.30208333333333331,{"$f":"DATA!$C$9","v":0.89},{"$f":"DATA!$C$10","v":64},1,407.8125,407.8125,0,"","",0,"","",0,"","","","",null,{"$f":"X814","v":39},"2018-09-25",{"$f":"TEXT(Y807,\"ddd\")","v":"di"},"DD",{"$f":"IFERROR(HLOOKUP(Y807,[1]DATA!$A$1:$NB$5,3,0),\"\")","v":"D2"},null,null,null,null,{"$f":"VLOOKUP(Y807,[1]SRM!$S$4:$Z$368,2,0)","v":24},"","",0]
["39diMD",{"$f":"VLOOKUP($AA808,DATA!$B$3:$E808,2,0)","v":"14:30:00"},{"$f":"VLOOKUP($AA808,DATA!$B$3:$E808,3,0)","v":"22:30:00"},{"$f":"VLOOKUP($AA808,DATA!$B$3:$E808,4,0)","v":3.125E-2},0.30208333333333337,0.30208333333333337,{"$f":"DATA!$C$9","v":0.89},{"$f":"DATA!$C$10","v":64},1,407.81250000000006,407.81250000000006,0,"","",0,"","",0,"","","","",null,{"$f":"X814","v":39},null,{"$f":"TEXT(Y807,\"ddd\")","v":"di"},"MD",{"$f":"IFERROR(HLOOKUP(Y807,[1]DATA!$A$1:$NB$5,4,0),\"\")","v":"D1"},null,null,null,null,{"$f":"VLOOKUP(Y807,[1]SRM!$S$4:$Z$368,3,0)","v":20},"","",0]
["39diND",{"$f":"VLOOKUP($AA809,DATA!$B$3:$E809,2,0)","v":"22:30:00"},{"$f":"VLOOKUP($AA809,DATA!$B$3:$E809,3,0)","v":"06:30:00"},{"$f":"VLOOKUP($AA809,DATA!$B$3:$E809,4,0)","v":3.125E-2},0.30208333333333326,0.30208333333333326,{"$f":"DATA!$C$9","v":0.89},{"$f":"DATA!$C$10","v":64},1,407.81249999999989,407.81249999999989,0,"","",0,"","",0,"","","","",null,{"$f":"X814","v":39},null,{"$f":"TEXT(Y807,\"ddd\")","v":"di"},"ND",{"$f":"IFERROR(HLOOKUP(Y807,[1]DATA!$A$1:$NB$5,5,0),\"\")","v":"D3"},null,null,null,null,{"$f":"VLOOKUP(Y807,[1]SRM!$S$4:$Z$368,4,0)","v":45},"","",0]
["39woDD",{"$f":"VLOOKUP($AA810,DATA!$B$3:$E810,2,0)","v":"06:30:00"},{"$f":"VLOOKUP($AA810,DATA!$B$3:$E810,3,0)","v":"14:30:00"},{"$f":"VLOOKUP($AA810,DATA!$B$3:$E810,4,0)","v":3.125E-2},0.30208333333333331,0.30208333333333331,{"$f":"DATA!$C$9","v":0.89},{"$f":"DATA!$C$10","v":64},1,407.8125,407.8125,0,"","",0,"","",0,"","","","",null,{"$f":"X814","v":39},"2018-09-26",{"$f":"TEXT(Y810,\"ddd\")","v":"wo"},"DD",{"$f":"IFERROR(HLOOKUP(Y810,[1]DATA!$A$1:$NB$5,3,0),\"\")","v":"D2"},null,null,null,null,{"$f":"VLOOKUP(Y810,[1]SRM!$S$4:$Z$368,2,0)","v":58},"","",0]
["39woMD",{"$f":"VLOOKUP($AA811,DATA!$B$3:$E811,2,0)","v":"14:30:00"},{"$f":"VLOOKUP($AA811,DATA!$B$3:$E811,3,0)","v":"22:30:00"},{"$f":"VLOOKUP($AA811,DATA!$B$3:$E811,4,0)","v":3.125E-2},0.30208333333333337,0.30208333333333337,{"$f":"DATA!$C$9","v":0.89},{"$f":"DATA!$C$10","v":64},1,407.81250000000006,407.81250000000006,0,"","",0,"","",0,"","","","",null,{"$f":"X814","v":39},null,{"$f":"TEXT(Y810,\"ddd\")","v":"wo"},"MD",{"$f":"IFERROR(HLOOKUP(Y810,[1]DATA!$A$1:$NB$5,4,0),\"\")","v":"D1"},null,null,null,null,{"$f":"VLOOKUP(Y810,[1]SRM!$S$4:$Z$368,3,0)","v":9},"","",0]
["39woND",{"$f":"VLOOKUP($AA812,DATA!$B$3:$E812,2,0)","v":"22:30:00"},{"$f":"VLOOKUP($AA812,DATA!$B$3:$E812,3,0)","v":"06:30:00"},{"$f":"VLOOKUP($AA812,DATA!$B$3:$E812,4,0)","v":3.125E-2},0.30208333333333326,0.30208333333333326,{"$f":"DATA!$C$9","v":0.89},{"$f":"DATA!$C$10","v":64},1,407.81249999999989,407.81249999999989,0,"","",0,"","",0,"","","","",null,{"$f":"X814","v":39},null,{"$f":"TEXT(Y810,\"ddd\")","v":"wo"},"ND",{"$f":"IFERROR(HLOOKUP(Y810,[1]DATA!$A$1:$NB$5,5,0),\"\")","v":"D3"},null,null,null,null,{"$f":"VLOOKUP(Y810,[1]SRM!$S$4:$Z$368,4,0)","v":40},"","",0]
["39doDD",{"$f":"VLOOKUP($AA813,DATA!$B$3:$E813,2,0)","v":"06:30:00"},{"$f":"VLOOKUP($AA813,DATA!$B$3:$E813,3,0)","v":"14:30:00"},{"$f":"VLOOKUP($AA813,DATA!$B$3:$E813,4,0)","v":3.125E-2},0.30208333333333331,0.30208333333333331,{"$f":"DATA!$C$9","v":0.89},{"$f":"DATA!$C$10","v":64},1,407.8125,407.8125,0,"","",0,"","",0,"","","","",null,{"$f":"X814","v":39},"2018-09-27",{"$f":"TEXT(Y813,\"ddd\")","v":"do"},"DD",{"$f":"IFERROR(HLOOKUP(Y813,[1]DATA!$A$1:$NB$5,3,0),\"\")","v":"D2"},null,null,null,null,{"$f":"VLOOKUP(Y813,[1]SRM!$S$4:$Z$368,2,0)","v":47},"","",0]
["39doMD",{"$f":"VLOOKUP($AA814,DATA!$B$3:$E814,2,0)","v":"14:30:00"},{"$f":"VLOOKUP($AA814,DATA!$B$3:$E814,3,0)","v":"22:30:00"},{"$f":"VLOOKUP($AA814,DATA!$B$3:$E814,4,0)","v":3.125E-2},0.30208333333333337,0.30208333333333337,{"$f":"DATA!$C$9","v":0.89},{"$f":"DATA!$C$10","v":64},1,407.81250000000006,407.81250000000006,0,"","",0,"","",0,"","","","",null,{"$f":"WEEKNUM($Y804)","v":39},null,{"$f":"TEXT(Y813,\"ddd\")","v":"do"},"MD",{"$f":"IFERROR(HLOOKUP(Y813,[1]DATA!$A$1:$NB$5,4,0),\"\")","v":"D1"},null,null,null,null,{"$f":"VLOOKUP(Y813,[1]SRM!$S$4:$Z$368,3,0)","v":0},"","",""]
["39doND",{"$f":"VLOOKUP($AA815,DATA!$B$3:$E815,2,0)","v":"22:30:00"},{"$f":"VLOOKUP($AA815,DATA!$B$3:$E815,3,0)","v":"06:30:00"},{"$f":"VLOOKUP($AA815,DATA!$B$3:$E815,4,0)","v":3.125E-2},0.30208333333333326,0.30208333333333326,{"$f":"DATA!$C$9","v":0.89},{"$f":"DATA!$C$10","v":64},1,407.81249999999989,407.81249999999989,0,"","",0,"","",0,"","","","",null,{"$f":"X814","v":39},null,{"$f":"TEXT(Y813,\"ddd\")","v":"do"},"ND",{"$f":"IFERROR(HLOOKUP(Y813,[1]DATA!$A$1:$NB$5,5,0),\"\")","v":"D3"},null,null,null,null,{"$f":"VLOOKUP(Y813,[1]SRM!$S$4:$Z$368,4,0)","v":0},"","",""]
[{"$f":"X816&Z816&AA816","v":"39vrDD"},{"$f":"VLOOKUP($AA816,DATA!$B$3:$E816,2,0)","v":"06:30:00"},{"$f":"VLOOKUP($AA816,DATA!$B$3:$E816,3,0)","v":"14:30:00"},{"$f":"VLOOKUP($AA816,DATA!$B$3:$E816,4,0)","v":3.125E-2},0.30208333333333331,0.30208333333333331,{"$f":"DATA!$C$9","v":0.89},{"$f":"DATA!$C$10","v":64},1,407.8125,407.8125,0,"","",0,{"$f":"IF($O816*86400/$H816=0,\"\",$O816*86400/$H816)","v":""},"",0,"","","","",null,{"$f":"X814","v":39},"2018-09-28",{"$f":"TEXT(Y816,\"ddd\")","v":"vr"},"DD",{"$f":"IFERROR(HLOOKUP(Y816,[1]DATA!$A$1:$NB$5,3,0),\"\")","v":"D2"},null,null,null,null,{"$f":"VLOOKUP(Y816,[1]SRM!$S$4:$Z$368,2,0)","v":0},"","",""]
["39vrMD",{"$f":"VLOOKUP($AA817,DATA!$B$3:$E817,2,0)","v":"14:30:00"},{"$f":"VLOOKUP($AA817,DATA!$B$3:$E817,3,0)","v":"22:30:00"},{"$f":"VLOOKUP($AA817,DATA!$B$3:$E817,4,0)","v":3.125E-2},0.30208333333333337,0.30208333333333337,{"$f":"DATA!$C$9","v":0.89},{"$f":"DATA!$C$10","v":64},1,407.81250000000006,407.81250000000006,0,"","",0,"","",0,"","","","",null,{"$f":"X814","v":39},null,{"$f":"TEXT(Y816,\"ddd\")","v":"vr"},"MD",{"$f":"IFERROR(HLOOKUP(Y816,[1]DATA!$A$1:$NB$5,4,0),\"\")","v":"D1"},null,null,null,null,{"$f":"VLOOKUP(Y816,[1]SRM!$S$4:$Z$368,3,0)","v":0},"","",""]
["39vrND",{"$f":"VLOOKUP($AA818,DATA!$B$3:$E818,2,0)","v":"22:30:00"},{"$f":"VLOOKUP($AA818,DATA!$B$3:$E818,3,0)","v":"06:30:00"},{"$f":"VLOOKUP($AA818,DATA!$B$3:$E818,4,0)","v":3.125E-2},0.30208333333333326,0.30208333333333326,{"$f":"DATA!$C$9","v":0.89},{"$f":"DATA!$C$10","v":64},1,407.81249999999989,407.81249999999989,0,"","",0,"","",0,"","","","",null,{"$f":"X814","v":39},null,{"$f":"TEXT(Y816,\"ddd\")","v":"vr"},"ND",{"$f":"IFERROR(HLOOKUP(Y816,[1]DATA!$A$1:$NB$5,5,0),\"\")","v":"D3"},null,null,null,null,{"$f":"VLOOKUP(Y816,[1]SRM!$S$4:$Z$368,4,0)","v":0},"","",""]
["39zaDD",{"$f":"VLOOKUP($AA819,DATA!$B$3:$E819,2,0)","v":"06:30:00"},{"$f":"VLOOKUP($AA819,DATA!$B$3:$E819,3,0)","v":"14:30:00"},{"$f":"VLOOKUP($AA819,DATA!$B$3:$E819,4,0)","v":3.125E-2},0.30208333333333331,0.30208333333333331,{"$f":"DATA!$C$9","v":0.89},{"$f":"DATA!$C$10","v":64},1,407.8125,407.8125,0,"","",0,"","",0,"","","","",null,{"$f":"X814","v":39},"2018-09-29",{"$f":"TEXT(Y819,\"ddd\")","v":"za"},"DD",{"$f":"IFERROR(HLOOKUP(Y819,[1]DATA!$A$1:$NB$5,3,0),\"\")","v":"D2"},null,null,null,null,{"$f":"VLOOKUP(Y819,[1]SRM!$S$4:$Z$368,2,0)","v":0},"","",""]
["39zaMD",{"$f":"VLOOKUP($AA820,DATA!$B$3:$E820,2,0)","v":"14:30:00"},{"$f":"VLOOKUP($AA820,DATA!$B$3:$E820,3,0)","v":"22:30:00"},{"$f":"VLOOKUP($AA820,DATA!$B$3:$E820,4,0)","v":3.125E-2},0.30208333333333337,0.30208333333333337,{"$f":"DATA!$C$9","v":0.89},{"$f":"DATA!$C$10","v":64},1,407.81250000000006,407.81250000000006,0,"","",0,"","",0,"","","","",null,{"$f":"X814","v":39},null,{"$f":"TEXT(Y819,\"ddd\")","v":"za"},"MD",{"$f":"IFERROR(HLOOKUP(Y819,[1]DATA!$A$1:$NB$5,4,0),\"\")","v":"-"},null,null,null,null,{"$f":"VLOOKUP(Y819,[1]SRM!$S$4:$Z$368,3,0)","v":0},"","",""]
["39zaND",{"$f":"VLOOKUP($AA821,DATA!$B$3:$E821,2,0)","v":"22:30:00"},{"$f":"VLOOKUP($AA821,DATA!$B$3:$E821,3,0)","v":"06:30:00"},{"$f":"VLOOKUP($AA821,DATA!$B$3:$E821,4,0)","v":3.125E-2},0.30208333333333326,0.30208333333333326,{"$f":"DATA!$C$9","v":0.89},{"$f":"DATA!$C$10","v":64},1,407.81249999999989,407.81249999999989,0,"","",0,"","",0,"","","","",null,{"$f":"X814","v":39},null,{"$f":"TEXT(Y819,\"ddd\")","v":"za"},"ND",{"$f":"IFERROR(HLOOKUP(Y819,[1]DATA!$A$1:$NB$5,5,0),\"\")","v":"-"},null,null,null,null,{"$f":"VLOOKUP(Y819,[1]SRM!$S$4:$Z$368,4,0)","v":0},"","",""]
["39zoDD",{"$f":"VLOOKUP($AA822,DATA!$B$3:$E822,2,0)","v":"06:30:00"},{"$f":"VLOOKUP($AA822,DATA!$B$3:$E822,3,0)","v":"14:30:00"},{"$f":"VLOOKUP($AA822,DATA!$B$3:$E822,4,0)","v":3.125E-2},0.30208333333333331,0.30208333333333331,{"$f":"DATA!$C$9","v":0.89},{"$f":"DATA!$C$10","v":64},1,407.8125,407.8125,0,"","",0,"","",0,"","","","",null,{"$f":"X814","v":39},"2018-09-30",{"$f":"TEXT(Y822,\"ddd\")","v":"zo"},"DD",{"$f":"IFERROR(HLOOKUP(Y822,[1]DATA!$A$1:$NB$5,3,0),\"\")","v":"-"},null,null,null,null,{"$f":"VLOOKUP(Y822,[1]SRM!$S$4:$Z$368,2,0)","v":0},"","",""]
["39zoMD",{"$f":"VLOOKUP($AA823,DATA!$B$3:$E823,2,0)","v":"14:30:00"},{"$f":"VLOOKUP($AA823,DATA!$B$3:$E823,3,0)","v":"22:30:00"},{"$f":"VLOOKUP($AA823,DATA!$B$3:$E823,4,0)","v":3.125E-2},0.30208333333333337,0.30208333333333337,{"$f":"DATA!$C$9","v":0.89},{"$f":"DATA!$C$10","v":64},1,407.81250000000006,407.81250000000006,0,"","",0,"","",0,"","","","",null,{"$f":"X814","v":39},null,{"$f":"TEXT(Y822,\"ddd\")","v":"zo"},"MD",{"$f":"IFERROR(HLOOKUP(Y822,[1]DATA!$A$1:$NB$5,4,0),\"\")","v":"-"},null,null,null,null,{"$f":"VLOOKUP(Y822,[1]SRM!$S$4:$Z$368,3,0)","v":0},"","",""]
["39zoZND",{"$f":"VLOOKUP($AA824,DATA!$B$3:$E824,2,0)","v":"00:00:00"},{"$f":"VLOOKUP($AA824,DATA!$B$3:$E824,3,0)","v":"00:00:00"},{"$f":"VLOOKUP($AA824,DATA!$B$3:$E824,4,0)","v":0},0,0,{"$f":"DATA!$C$9","v":0.89},{"$f":"DATA!$C$10","v":64},1,0,0,0,"","",0,"","",0,"","","","",null,{"$f":"X814","v":39},null,{"$f":"TEXT(Y822,\"ddd\")","v":"zo"},"ZND",{"$f":"IFERROR(HLOOKUP(Y822,[1]DATA!$A$1:$NB$5,5,0),\"\")","v":"-"},null,null,null,null,{"$f":"VLOOKUP(Y822,[1]SRM!$S$4:$Z$368,4,0)","v":0},"","",""]
["40maDD",{"$f":"VLOOKUP($AA825,DATA!$B$3:$E825,2,0)","v":"06:30:00"},{"$f":"VLOOKUP($AA825,DATA!$B$3:$E825,3,0)","v":"14:30:00"},{"$f":"VLOOKUP($AA825,DATA!$B$3:$E825,4,0)","v":3.125E-2},0.30208333333333331,0.30208333333333331,{"$f":"DATA!$C$9","v":0.89},{"$f":"DATA!$C$10","v":64},1,407.8125,407.8125,0,"","",{"$f":"TIME(INT($AD825/60),INT(MOD($AD825,60)/1),0)","v":0},"","",0,"","","","",null,{"$f":"X835","v":40},{"$f":"Y822+1","v":"2018-10-01"},{"$f":"TEXT(Y825,\"ddd\")","v":"ma"},"DD",{"$f":"IFERROR(HLOOKUP(Y825,[1]DATA!$A$1:$NB$5,3,0),\"\")","v":"D1"},null,null,null,null,{"$f":"VLOOKUP(Y825,[1]SRM!$S$4:$Z$368,2,0)","v":0},"","","",{"$f":"IF(SUMIF(S825:S845,\">0\",K825:K845)=0,\"\",SUMIF(S825:S845,\">0\",K825:K845))","v":""},{"$f":"IF(SUM(S825:S845)=0,\"\",SUM(S825:S845))","v":""},{"$f":"IFERROR(AL825/AK825,\"-\")","v":"-"},{"$f":"IF(SUM(M825:M845)=0,\"0\",SUM(M825:M845))","v":"0"},{"$f":"IFERROR(AN825/AK825,\"-\")","v":"-"},{"$f":"IF(SUM(P825:P845)=0,0,SUM(P825:P845))","v":0},{"$f":"IFERROR(AP825/AK825,\"-\")","v":"-"},{"$f":"IFERROR(AVERAGE(AJ825:AJ845),\"-\")","v":"-"},{"$f":"IFERROR(SUMIF($AB825:$AB845,AS$5,$AJ825:$AJ845)/COUNTIFS($AB825:$AB845,AS$5,$AJ825:$AJ845,\">0\"),\"\")","v":""},"","",{"$f":"IFERROR((AK825-AL825-AN825-AP825),\"-\")","v":"-"},{"$f":"IFERROR((1-AM825-AO825-AQ825), \"-\")","v":"-"},{"$f":"IFERROR((AV825*$AE$2)/60,\"-\")","v":"-"},{"$f":"IFERROR(SUM(AG825:AG845),\"\")","v":0}]
["40maMD",{"$f":"VLOOKUP($AA826,DATA!$B$3:$E826,2,0)","v":"14:30:00"},{"$f":"VLOOKUP($AA826,DATA!$B$3:$E826,3,0)","v":"22:30:00"},{"$f":"VLOOKUP($AA826,DATA!$B$3:$E826,4,0)","v":3.125E-2},0.30208333333333337,0.30208333333333337,{"$f":"DATA!$C$9","v":0.89},{"$f":"DATA!$C$10","v":64},1,407.81250000000006,407.81250000000006,0,"","",{"$f":"TIME(INT(AD826/60),INT(MOD(AD826,60)/1),0)","v":0},"","",0,"","","","",null,{"$f":"X835","v":40},null,{"$f":"TEXT(Y825,\"ddd\")","v":"ma"},"MD",{"$f":"IFERROR(HLOOKUP(Y825,[1]DATA!$A$1:$NB$5,4,0),\"\")","v":"D3"},null,null,null,null,{"$f":"VLOOKUP(Y825,[1]SRM!$S$4:$Z$368,3,0)","v":0},"","",""]
["40maND",{"$f":"VLOOKUP($AA827,DATA!$B$3:$E827,2,0)","v":"22:30:00"},{"$f":"VLOOKUP($AA827,DATA!$B$3:$E827,3,0)","v":"06:30:00"},{"$f":"VLOOKUP($AA827,DATA!$B$3:$E827,4,0)","v":3.125E-2},0.30208333333333326,0.30208333333333326,{"$f":"DATA!$C$9","v":0.89},{"$f":"DATA!$C$10","v":64},1,407.81249999999989,407.81249999999989,0,"","",0,"","",0,"","","","",null,{"$f":"X835","v":40},null,{"$f":"TEXT(Y825,\"ddd\")","v":"ma"},"ND",{"$f":"IFERROR(HLOOKUP(Y825,[1]DATA!$A$1:$NB$5,5,0),\"\")","v":"D2"},null,null,null,null,{"$f":"VLOOKUP(Y825,[1]SRM!$S$4:$Z$368,4,0)","v":0},"","",""]
["40diDD",{"$f":"VLOOKUP($AA828,DATA!$B$3:$E828,2,0)","v":"06:30:00"},{"$f":"VLOOKUP($AA828,DATA!$B$3:$E828,3,0)","v":"14:30:00"},{"$f":"VLOOKUP($AA828,DATA!$B$3:$E828,4,0)","v":3.125E-2},0.30208333333333331,0.30208333333333331,{"$f":"DATA!$C$9","v":0.89},{"$f":"DATA!$C$10","v":64},1,407.8125,407.8125,0,"","",0,"","",0,"","","","",null,{"$f":"X835","v":40},"2018-10-02",{"$f":"TEXT(Y828,\"ddd\")","v":"di"},"DD",{"$f":"IFERROR(HLOOKUP(Y828,[1]DATA!$A$1:$NB$5,3,0),\"\")","v":"D1"},null,null,null,null,{"$f":"VLOOKUP(Y828,[1]SRM!$S$4:$Z$368,2,0)","v":0},"","",""]
["40diMD",{"$f":"VLOOKUP($AA829,DATA!$B$3:$E829,2,0)","v":"14:30:00"},{"$f":"VLOOKUP($AA829,DATA!$B$3:$E829,3,0)","v":"22:30:00"},{"$f":"VLOOKUP($AA829,DATA!$B$3:$E829,4,0)","v":3.125E-2},0.30208333333333337,0.30208333333333337,{"$f":"DATA!$C$9","v":0.89},{"$f":"DATA!$C$10","v":64},1,407.81250000000006,407.81250000000006,0,"","",0,"","",0,"","","","",null,{"$f":"X835","v":40},null,{"$f":"TEXT(Y828,\"ddd\")","v":"di"},"MD",{"$f":"IFERROR(HLOOKUP(Y828,[1]DATA!$A$1:$NB$5,4,0),\"\")","v":"D3"},null,null,null,null,{"$f":"VLOOKUP(Y828,[1]SRM!$S$4:$Z$368,3,0)","v":0},"","",""]
["40diND",{"$f":"VLOOKUP($AA830,DATA!$B$3:$E830,2,0)","v":"22:30:00"},{"$f":"VLOOKUP($AA830,DATA!$B$3:$E830,3,0)","v":"06:30:00"},{"$f":"VLOOKUP($AA830,DATA!$B$3:$E830,4,0)","v":3.125E-2},0.30208333333333326,0.30208333333333326,{"$f":"DATA!$C$9","v":0.89},{"$f":"DATA!$C$10","v":64},1,407.81249999999989,407.81249999999989,0,"","",0,"","",0,"","","","",null,{"$f":"X835","v":40},null,{"$f":"TEXT(Y828,\"ddd\")","v":"di"},"ND",{"$f":"IFERROR(HLOOKUP(Y828,[1]DATA!$A$1:$NB$5,5,0),\"\")","v":"D2"},null,null,null,null,{"$f":"VLOOKUP(Y828,[1]SRM!$S$4:$Z$368,4,0)","v":0},"","",""]
["40woDD",{"$f":"VLOOKUP($AA831,DATA!$B$3:$E831,2,0)","v":"06:30:00"},{"$f":"VLOOKUP($AA831,DATA!$B$3:$E831,3,0)","v":"14:30:00"},{"$f":"VLOOKUP($AA831,DATA!$B$3:$E831,4,0)","v":3.125E-2},0.30208333333333331,0.30208333333333331,{"$f":"DATA!$C$9","v":0.89},{"$f":"DATA!$C$10","v":64},1,407.8125,407.8125,0,"","",0,"","",0,"","","","",null,{"$f":"X835","v":40},"2018-10-03",{"$f":"TEXT(Y831,\"ddd\")","v":"wo"},"DD",{"$f":"IFERROR(HLOOKUP(Y831,[1]DATA!$A$1:$NB$5,3,0),\"\")","v":"D1"},null,null,null,null,{"$f":"VLOOKUP(Y831,[1]SRM!$S$4:$Z$368,2,0)","v":0},"","",""]
["40woMD",{"$f":"VLOOKUP($AA832,DATA!$B$3:$E832,2,0)","v":"14:30:00"},{"$f":"VLOOKUP($AA832,DATA!$B$3:$E832,3,0)","v":"22:30:00"},{"$f":"VLOOKUP($AA832,DATA!$B$3:$E832,4,0)","v":3.125E-2},0.30208333333333337,0.30208333333333337,{"$f":"DATA!$C$9","v":0.89},{"$f":"DATA!$C$10","v":64},1,407.81250000000006,407.81250000000006,0,"","",0,"","",0,"","","","",null,{"$f":"X835","v":40},null,{"$f":"TEXT(Y831,\"ddd\")","v":"wo"},"MD",{"$f":"IFERROR(HLOOKUP(Y831,[1]DATA!$A$1:$NB$5,4,0),\"\")","v":"D3"},null,null,null,null,{"$f":"VLOOKUP(Y831,[1]SRM!$S$4:$Z$368,3,0)","v":0},"","",""]
["40woND",{"$f":"VLOOKUP($AA833,DATA!$B$3:$E833,2,0)","v":"22:30:00"},{"$f":"VLOOKUP($AA833,DATA!$B$3:$E833,3,0)","v":"06:30:00"},{"$f":"VLOOKUP($AA833,DATA!$B$3:$E833,4,0)","v":3.125E-2},0.30208333333333326,0.30208333333333326,{"$f":"DATA!$C$9","v":0.89},{"$f":"DATA!$C$10","v":64},1,407.81249999999989,407.81249999999989,0,"","",0,"","",0,"","","","",null,{"$f":"X835","v":40},null,{"$f":"TEXT(Y831,\"ddd\")","v":"wo"},"ND",{"$f":"IFERROR(HLOOKUP(Y831,[1]DATA!$A$1:$NB$5,5,0),\"\")","v":"D2"},null,null,null,null,{"$f":"VLOOKUP(Y831,[1]SRM!$S$4:$Z$368,4,0)","v":0},"","",""]
["40doDD",{"$f":"VLOOKUP($AA834,DATA!$B$3:$E834,2,0)","v":"06:30:00"},{"$f":"VLOOKUP($AA834,DATA!$B$3:$E834,3,0)","v":"14:30:00"},{"$f":"VLOOKUP($AA834,DATA!$B$3:$E834,4,0)","v":3.125E-2},0.30208333333333331,0.30208333333333331,{"$f":"DATA!$C$9","v":0.89},{"$f":"DATA!$C$10","v":64},1,407.8125,407.8125,0,"","",0,"","",0,"","","","",null,{"$f":"X835","v":40},"2018-10-04",{"$f":"TEXT(Y834,\"ddd\")","v":"do"},"DD",{"$f":"IFERROR(HLOOKUP(Y834,[1]DATA!$A$1:$NB$5,3,0),\"\")","v":"D1"},null,null,null,null,{"$f":"VLOOKUP(Y834,[1]SRM!$S$4:$Z$368,2,0)","v":0},"","",""]
["40doMD",{"$f":"VLOOKUP($AA835,DATA!$B$3:$E835,2,0)","v":"14:30:00"},{"$f":"VLOOKUP($AA835,DATA!$B$3:$E835,3,0)","v":"22:30:00"},{"$f":"VLOOKUP($AA835,DATA!$B$3:$E835,4,0)","v":3.125E-2},0.30208333333333337,0.30208333333333337,{"$f":"DATA!$C$9","v":0.89},{"$f":"DATA!$C$10","v":64},1,407.81250000000006,407.81250000000006,0,"","",0,"","",0,"","","","",null,{"$f":"WEEKNUM($Y825)","v":40},null,{"$f":"TEXT(Y834,\"ddd\")","v":"do"},"MD",{"$f":"IFERROR(HLOOKUP(Y834,[1]DATA!$A$1:$NB$5,4,0),\"\")","v":"D3"},null,null,null,null,{"$f":"VLOOKUP(Y834,[1]SRM!$S$4:$Z$368,3,0)","v":0},"","",""]
["40doND",{"$f":"VLOOKUP($AA836,DATA!$B$3:$E836,2,0)","v":"22:30:00"},{"$f":"VLOOKUP($AA836,DATA!$B$3:$E836,3,0)","v":"06:30:00"},{"$f":"VLOOKUP($AA836,DATA!$B$3:$E836,4,0)","v":3.125E-2},0.30208333333333326,0.30208333333333326,{"$f":"DATA!$C$9","v":0.89},{"$f":"DATA!$C$10","v":64},1,407.81249999999989,407.81249999999989,0,"","",0,"","",0,"","","","",null,{"$f":"X835","v":40},null,{"$f":"TEXT(Y834,\"ddd\")","v":"do"},"ND",{"$f":"IFERROR(HLOOKUP(Y834,[1]DATA!$A$1:$NB$5,5,0),\"\")","v":"D2"},null,null,null,null,{"$f":"VLOOKUP(Y834,[1]SRM!$S$4:$Z$368,4,0)","v":0},"","",""]
["40vrDD",{"$f":"VLOOKUP($AA837,DATA!$B$3:$E837,2,0)","v":"06:30:00"},{"$f":"VLOOKUP($AA837,DATA!$B$3:$E837,3,0)","v":"14:30:00"},{"$f":"VLOOKUP($AA837,DATA!$B$3:$E837,4,0)","v":3.125E-2},0.30208333333333331,0.30208333333333331,{"$f":"DATA!$C$9","v":0.89},{"$f":"DATA!$C$10","v":64},1,407.8125,407.8125,0,"","",0,"","",0,"","","","",null,{"$f":"X835","v":40},"2018-10-05",{"$f":"TEXT(Y837,\"ddd\")","v":"vr"},"DD",{"$f":"IFERROR(HLOOKUP(Y837,[1]DATA!$A$1:$NB$5,3,0),\"\")","v":"D1"},null,null,null,null,{"$f":"VLOOKUP(Y837,[1]SRM!$S$4:$Z$368,2,0)","v":0},"","",""]
["40vrMD",{"$f":"VLOOKUP($AA838,DATA!$B$3:$E838,2,0)","v":"14:30:00"},{"$f":"VLOOKUP($AA838,DATA!$B$3:$E838,3,0)","v":"22:30:00"},{"$f":"VLOOKUP($AA838,DATA!$B$3:$E838,4,0)","v":3.125E-2},0.30208333333333337,0.30208333333333337,{"$f":"DATA!$C$9","v":0.89},{"$f":"DATA!$C$10","v":64},1,{"$f":"F838*86400/H838*I838","v":407.81250000000006},{"$f":"E838*86400/H838","v":407.81250000000006},0,"","",0,"","",{"$f":"AF838*AG$2","v":0},{"$f":"IF(AF838-AE838=0,\"\",AF838-AE838)","v":""},"","","",null,{"$f":"X835","v":40},null,{"$f":"TEXT(Y837,\"ddd\")","v":"vr"},"MD",{"$f":"IFERROR(HLOOKUP(Y837,[1]DATA!$A$1:$NB$5,4,0),\"\")","v":"D3"},null,null,null,null,{"$f":"VLOOKUP(Y837,[1]SRM!$S$4:$Z$368,3,0)","v":0},{"$f":"IFERROR(S838-J838,\"\")","v":""},{"$f":"IFERROR(IF(S838/(E838*86400/H838)<=0,\"\",S838/(E838*86400/H838)),\"\")","v":""},""]
["40vrND",{"$f":"VLOOKUP($AA839,DATA!$B$3:$E839,2,0)","v":"22:30:00"},{"$f":"VLOOKUP($AA839,DATA!$B$3:$E839,3,0)","v":"06:30:00"},{"$f":"VLOOKUP($AA839,DATA!$B$3:$E839,4,0)","v":3.125E-2},0.30208333333333326,0.30208333333333326,{"$f":"DATA!$C$9","v":0.89},{"$f":"DATA!$C$10","v":64},1,407.81249999999989,407.81249999999989,{"$f":"TIME(INT($AC839/60),INT(MOD($AC839,60)/1),0)","v":0},{"$f":"IF($L839*86400/$H839=0,\"\",$L839*86400/$H839)","v":""},{"$f":"IFERROR($M839/$K839,\"\")","v":""},0,"",{"$f":"IFERROR($P839/$K839,\"\")","v":""},0,"",{"$f":"IF(IF($AB839=\"D1\",$S839,\"\")=0,\"\",IF($AB839=\"D1\",$S839,\"\"))","v":""},{"$f":"IF(IF($AB839=\"D2\",$S839,\"\")=0,\"\",IF($AB839=\"D2\",$S839,\"\"))","v":""},{"$f":"IF(IF($AB839=\"D3\",$S839,\"\")=0,\"\",IF($AB839=\"D3\",$S839,\"\"))","v":""},null,{"$f":"X835","v":40},null,{"$f":"TEXT(Y837,\"ddd\")","v":"vr"},"ND",{"$f":"IFERROR(HLOOKUP(Y837,[1]DATA!$A$1:$NB$5,5,0),\"\")","v":"D2"},null,null,null,null,{"$f":"VLOOKUP(Y837,[1]SRM!$S$4:$Z$368,4,0)","v":0},"","",""]
["40zaDD",{"$f":"VLOOKUP($AA840,DATA!$B$3:$E840,2,0)","v":"06:30:00"},{"$f":"VLOOKUP($AA840,DATA!$B$3:$E840,3,0)","v":"14:30:00"},{"$f":"VLOOKUP($AA840,DATA!$B$3:$E840,4,0)","v":3.125E-2},0.30208333333333331,0.30208333333333331,{"$f":"DATA!$C$9","v":0.89},{"$f":"DATA!$C$10","v":64},1,407.8125,407.8125,0,"","",0,"","",0,"","","","",null,{"$f":"X835","v":40},"2018-10-06",{"$f":"TEXT(Y840,\"ddd\")","v":"za"},"DD",{"$f":"IFERROR(HLOOKUP(Y840,[1]DATA!$A$1:$NB$5,3,0),\"\")","v":"D1"},null,null,null,null,{"$f":"VLOOKUP(Y840,[1]SRM!$S$4:$Z$368,2,0)","v":0},"","",""]
["40zaMD",{"$f":"VLOOKUP($AA841,DATA!$B$3:$E841,2,0)","v":"14:30:00"},{"$f":"VLOOKUP($AA841,DATA!$B$3:$E841,3,0)","v":"22:30:00"},{"$f":"VLOOKUP($AA841,DATA!$B$3:$E841,4,0)","v":3.125E-2},0.30208333333333337,0.30208333333333337,{"$f":"DATA!$C$9","v":0.89},{"$f":"DATA!$C$10","v":64},1,407.81250000000006,407.81250000000006,0,"","",0,"","",0,"","","","",null,{"$f":"X835","v":40},null,{"$f":"TEXT(Y840,\"ddd\")","v":"za"},"MD",{"$f":"IFERROR(HLOOKUP(Y840,[1]DATA!$A$1:$NB$5,4,0),\"\")","v":"-"},null,null,null,null,{"$f":"VLOOKUP(Y840,[1]SRM!$S$4:$Z$368,3,0)","v":0},"","",""]
["40zaND",{"$f":"VLOOKUP($AA842,DATA!$B$3:$E842,2,0)","v":"22:30:00"},{"$f":"VLOOKUP($AA842,DATA!$B$3:$E842,3,0)","v":"06:30:00"},{"$f":"VLOOKUP($AA842,DATA!$B$3:$E842,4,0)","v":3.125E-2},0.30208333333333326,0.30208333333333326,{"$f":"DATA!$C$9","v":0.89},{"$f":"DATA!$C$10","v":64},1,407.81249999999989,407.81249999999989,0,"","",0,"","",0,"","","","",null,{"$f":"X835","v":40},null,{"$f":"TEXT(Y840,\"ddd\")","v":"za"},"ND",{"$f":"IFERROR(HLOOKUP(Y840,[1]DATA!$A$1:$NB$5,5,0),\"\")","v":"-"},null,null,null,null,{"$f":"VLOOKUP(Y840,[1]SRM!$S$4:$Z$368,4,0)","v":0},"","",""]
["40zoDD",{"$f":"VLOOKUP($AA843,DATA!$B$3:$E843,2,0)","v":"06:30:00"},{"$f":"VLOOKUP($AA843,DATA!$B$3:$E843,3,0)","v":"14:30:00"},{"$f":"VLOOKUP($AA843,DATA!$B$3:$E843,4,0)","v":3.125E-2},0.30208333333333331,0.30208333333333331,{"$f":"DATA!$C$9","v":0.89},{"$f":"DATA!$C$10","v":64},1,407.8125,407.8125,0,"","",0,"","",0,"","","","",null,{"$f":"X835","v":40},"2018-10-07",{"$f":"TEXT(Y843,\"ddd\")","v":"zo"},"DD",{"$f":"IFERROR(HLOOKUP(Y843,[1]DATA!$A$1:$NB$5,3,0),\"\")","v":"-"},null,null,null,null,{"$f":"VLOOKUP(Y843,[1]SRM!$S$4:$Z$368,2,0)","v":0},"","",""]
["40zoMD",{"$f":"VLOOKUP($AA844,DATA!$B$3:$E844,2,0)","v":"14:30:00"},{"$f":"VLOOKUP($AA844,DATA!$B$3:$E844,3,0)","v":"22:30:00"},{"$f":"VLOOKUP($AA844,DATA!$B$3:$E844,4,0)","v":3.125E-2},0.30208333333333337,0.30208333333333337,{"$f":"DATA!$C$9","v":0.89},{"$f":"DATA!$C$10","v":64},1,407.81250000000006,407.81250000000006,0,"","",0,"","",0,"","","","",null,{"$f":"X835","v":40},null,{"$f":"TEXT(Y843,\"ddd\")","v":"zo"},"MD",{"$f":"IFERROR(HLOOKUP(Y843,[1]DATA!$A$1:$NB$5,4,0),\"\")","v":"-"},null,null,null,null,{"$f":"VLOOKUP(Y843,[1]SRM!$S$4:$Z$368,3,0)","v":0},"","",""]
["40zoZND",{"$f":"VLOOKUP($AA845,DATA!$B$3:$E845,2,0)","v":"00:00:00"},{"$f":"VLOOKUP($AA845,DATA!$B$3:$E845,3,0)","v":"00:00:00"},{"$f":"VLOOKUP($AA845,DATA!$B$3:$E845,4,0)","v":0},0,0,{"$f":"DATA!$C$9","v":0.89},{"$f":"DATA!$C$10","v":64},1,0,0,0,"","",0,"","",0,"","","","",null,{"$f":"X835","v":40},null,{"$f":"TEXT(Y843,\"ddd\")","v":"zo"},"ZND",{"$f":"IFERROR(HLOOKUP(Y843,[1]DATA!$A$1:$NB$5,5,0),\"\")","v":"-"},null,null,null,null,{"$f":"VLOOKUP(Y843,[1]SRM!$S$4:$Z$368,4,0)","v":0},"","",""]
["41maDD",{"$f":"VLOOKUP($AA846,DATA!$B$3:$E846,2,0)","v":"06:30:00"},{"$f":"VLOOKUP($AA846,DATA!$B$3:$E846,3,0)","v":"14:30:00"},{"$f":"VLOOKUP($AA846,DATA!$B$3:$E846,4,0)","v":3.125E-2},0.30208333333333331,0.30208333333333331,{"$f":"DATA!$C$9","v":0.89},{"$f":"DATA!$C$10","v":64},1,407.8125,407.8125,0,"","",{"$f":"TIME(INT($AD846/60),INT(MOD($AD846,60)/1),0)","v":0},"","",0,"","","","",null,{"$f":"X856","v":41},"2018-10-08",{"$f":"TEXT(Y846,\"ddd\")","v":"ma"},"DD",{"$f":"IFERROR(HLOOKUP(Y846,[1]DATA!$A$1:$NB$5,3,0),\"\")","v":"D3"},null,null,null,null,{"$f":"VLOOKUP(Y846,[1]SRM!$S$4:$Z$368,2,0)","v":0},"","","",{"$f":"IF(SUMIF(S846:S866,\">0\",K846:K866)=0,\"\",SUMIF(S846:S866,\">0\",K846:K866))","v":""},{"$f":"IF(SUM(S846:S866)=0,\"\",SUM(S846:S866))","v":""},{"$f":"IFERROR(AL846/AK846,\"-\")","v":"-"},{"$f":"IF(SUM(M846:M866)=0,\"0\",SUM(M846:M866))","v":"0"},{"$f":"IFERROR(AN846/AK846,\"-\")","v":"-"},{"$f":"IF(SUM(P846:P866)=0,0,SUM(P846:P866))","v":0},{"$f":"IFERROR(AP846/AK846,\"-\")","v":"-"},{"$f":"IFERROR(AVERAGE(AJ846:AJ866),\"-\")","v":"-"},{"$f":"IFERROR(SUMIF($AB846:$AB866,AS$5,$AJ846:$AJ866)/COUNTIFS($AB846:$AB866,AS$5,$AJ846:$AJ866,\">0\"),\"\")","v":""},"","",{"$f":"IFERROR((AK846-AL846-AN846-AP846),\"-\")","v":"-"},{"$f":"IFERROR((1-AM846-AO846-AQ846), \"-\")","v":"-"},{"$f":"IFERROR((AV846*$AE$2)/60,\"-\")","v":"-"},{"$f":"IFERROR(SUM(AG846:AG866),\"\")","v":0}]
["41maMD",{"$f":"VLOOKUP($AA847,DATA!$B$3:$E847,2,0)","v":"14:30:00"},{"$f":"VLOOKUP($AA847,DATA!$B$3:$E847,3,0)","v":"22:30:00"},{"$f":"VLOOKUP($AA847,DATA!$B$3:$E847,4,0)","v":3.125E-2},0.30208333333333337,0.30208333333333337,{"$f":"DATA!$C$9","v":0.89},{"$f":"DATA!$C$10","v":64},1,407.81250000000006,407.81250000000006,0,"","",{"$f":"TIME(INT(AD847/60),INT(MOD(AD847,60)/1),0)","v":0},"","",0,"","","","",null,{"$f":"X856","v":41},null,{"$f":"TEXT(Y846,\"ddd\")","v":"ma"},"MD",{"$f":"IFERROR(HLOOKUP(Y846,[1]DATA!$A$1:$NB$5,4,0),\"\")","v":"D2"},null,null,null,null,{"$f":"VLOOKUP(Y846,[1]SRM!$S$4:$Z$368,3,0)","v":0},"","",""]
["41maND",{"$f":"VLOOKUP($AA848,DATA!$B$3:$E848,2,0)","v":"22:30:00"},{"$f":"VLOOKUP($AA848,DATA!$B$3:$E848,3,0)","v":"06:30:00"},{"$f":"VLOOKUP($AA848,DATA!$B$3:$E848,4,0)","v":3.125E-2},0.30208333333333326,0.30208333333333326,{"$f":"DATA!$C$9","v":0.89},{"$f":"DATA!$C$10","v":64},1,407.81249999999989,407.81249999999989,0,"","",0,"","",0,"","","","",null,{"$f":"X856","v":41},null,{"$f":"TEXT(Y846,\"ddd\")","v":"ma"},"ND",{"$f":"IFERROR(HLOOKUP(Y846,[1]DATA!$A$1:$NB$5,5,0),\"\")","v":"D1"},null,null,null,null,{"$f":"VLOOKUP(Y846,[1]SRM!$S$4:$Z$368,4,0)","v":0},"","",""]
["41diDD",{"$f":"VLOOKUP($AA849,DATA!$B$3:$E849,2,0)","v":"06:30:00"},{"$f":"VLOOKUP($AA849,DATA!$B$3:$E849,3,0)","v":"14:30:00"},{"$f":"VLOOKUP($AA849,DATA!$B$3:$E849,4,0)","v":3.125E-2},0.30208333333333331,0.30208333333333331,{"$f":"DATA!$C$9","v":0.89},{"$f":"DATA!$C$10","v":64},1,407.8125,407.8125,0,"","",0,"","",0,"","","","",null,{"$f":"X856","v":41},"2018-10-09",{"$f":"TEXT(Y849,\"ddd\")","v":"di"},"DD",{"$f":"IFERROR(HLOOKUP(Y849,[1]DATA!$A$1:$NB$5,3,0),\"\")","v":"D3"},null,null,null,null,{"$f":"VLOOKUP(Y849,[1]SRM!$S$4:$Z$368,2,0)","v":0},"","",""]
["41diMD",{"$f":"VLOOKUP($AA850,DATA!$B$3:$E850,2,0)","v":"14:30:00"},{"$f":"VLOOKUP($AA850,DATA!$B$3:$E850,3,0)","v":"22:30:00"},{"$f":"VLOOKUP($AA850,DATA!$B$3:$E850,4,0)","v":3.125E-2},0.30208333333333337,0.30208333333333337,{"$f":"DATA!$C$9","v":0.89},{"$f":"DATA!$C$10","v":64},1,407.81250000000006,407.81250000000006,0,"","",0,"","",0,"","","","",null,{"$f":"X856","v":41},null,{"$f":"TEXT(Y849,\"ddd\")","v":"di"},"MD",{"$f":"IFERROR(HLOOKUP(Y849,[1]DATA!$A$1:$NB$5,4,0),\"\")","v":"D2"},null,null,null,null,{"$f":"VLOOKUP(Y849,[1]SRM!$S$4:$Z$368,3,0)","v":0},"","",""]
["41diND",{"$f":"VLOOKUP($AA851,DATA!$B$3:$E851,2,0)","v":"22:30:00"},{"$f":"VLOOKUP($AA851,DATA!$B$3:$E851,3,0)","v":"06:30:00"},{"$f":"VLOOKUP($AA851,DATA!$B$3:$E851,4,0)","v":3.125E-2},0.30208333333333326,0.30208333333333326,{"$f":"DATA!$C$9","v":0.89},{"$f":"DATA!$C$10","v":64},1,407.81249999999989,407.81249999999989,0,"","",0,"","",0,"","","","",null,{"$f":"X856","v":41},null,{"$f":"TEXT(Y849,\"ddd\")","v":"di"},"ND",{"$f":"IFERROR(HLOOKUP(Y849,[1]DATA!$A$1:$NB$5,5,0),\"\")","v":"D1"},null,null,null,null,{"$f":"VLOOKUP(Y849,[1]SRM!$S$4:$Z$368,4,0)","v":0},"","",""]
["41woDD",{"$f":"VLOOKUP($AA852,DATA!$B$3:$E852,2,0)","v":"06:30:00"},{"$f":"VLOOKUP($AA852,DATA!$B$3:$E852,3,0)","v":"14:30:00"},{"$f":"VLOOKUP($AA852,DATA!$B$3:$E852,4,0)","v":3.125E-2},0.30208333333333331,0.30208333333333331,{"$f":"DATA!$C$9","v":0.89},{"$f":"DATA!$C$10","v":64},1,407.8125,407.8125,0,"","",0,"","",0,"","","","",null,{"$f":"X856","v":41},"2018-10-10",{"$f":"TEXT(Y852,\"ddd\")","v":"wo"},"DD",{"$f":"IFERROR(HLOOKUP(Y852,[1]DATA!$A$1:$NB$5,3,0),\"\")","v":"D3"},null,null,null,null,{"$f":"VLOOKUP(Y852,[1]SRM!$S$4:$Z$368,2,0)","v":0},"","",""]
["41woMD",{"$f":"VLOOKUP($AA853,DATA!$B$3:$E853,2,0)","v":"14:30:00"},{"$f":"VLOOKUP($AA853,DATA!$B$3:$E853,3,0)","v":"22:30:00"},{"$f":"VLOOKUP($AA853,DATA!$B$3:$E853,4,0)","v":3.125E-2},0.30208333333333337,0.30208333333333337,{"$f":"DATA!$C$9","v":0.89},{"$f":"DATA!$C$10","v":64},1,407.81250000000006,407.81250000000006,0,"","",0,"","",0,"","","","",null,{"$f":"X856","v":41},null,{"$f":"TEXT(Y852,\"ddd\")","v":"wo"},"MD",{"$f":"IFERROR(HLOOKUP(Y852,[1]DATA!$A$1:$NB$5,4,0),\"\")","v":"D2"},null,null,null,null,{"$f":"VLOOKUP(Y852,[1]SRM!$S$4:$Z$368,3,0)","v":0},"","",""]
["41woND",{"$f":"VLOOKUP($AA854,DATA!$B$3:$E854,2,0)","v":"22:30:00"},{"$f":"VLOOKUP($AA854,DATA!$B$3:$E854,3,0)","v":"06:30:00"},{"$f":"VLOOKUP($AA854,DATA!$B$3:$E854,4,0)","v":3.125E-2},0.30208333333333326,0.30208333333333326,{"$f":"DATA!$C$9","v":0.89},{"$f":"DATA!$C$10","v":64},1,407.81249999999989,407.81249999999989,0,"","",0,"","",0,"","","","",null,{"$f":"X856","v":41},null,{"$f":"TEXT(Y852,\"ddd\")","v":"wo"},"ND",{"$f":"IFERROR(HLOOKUP(Y852,[1]DATA!$A$1:$NB$5,5,0),\"\")","v":"D1"},null,null,null,null,{"$f":"VLOOKUP(Y852,[1]SRM!$S$4:$Z$368,4,0)","v":0},"","",""]
["41doDD",{"$f":"VLOOKUP($AA855,DATA!$B$3:$E855,2,0)","v":"06:30:00"},{"$f":"VLOOKUP($AA855,DATA!$B$3:$E855,3,0)","v":"14:30:00"},{"$f":"VLOOKUP($AA855,DATA!$B$3:$E855,4,0)","v":3.125E-2},0.30208333333333331,0.30208333333333331,{"$f":"DATA!$C$9","v":0.89},{"$f":"DATA!$C$10","v":64},1,407.8125,407.8125,0,"","",0,"","",0,"","","","",null,{"$f":"X856","v":41},"2018-10-11",{"$f":"TEXT(Y855,\"ddd\")","v":"do"},"DD",{"$f":"IFERROR(HLOOKUP(Y855,[1]DATA!$A$1:$NB$5,3,0),\"\")","v":"D3"},null,null,null,null,{"$f":"VLOOKUP(Y855,[1]SRM!$S$4:$Z$368,2,0)","v":0},"","",""]
["41doMD",{"$f":"VLOOKUP($AA856,DATA!$B$3:$E856,2,0)","v":"14:30:00"},{"$f":"VLOOKUP($AA856,DATA!$B$3:$E856,3,0)","v":"22:30:00"},{"$f":"VLOOKUP($AA856,DATA!$B$3:$E856,4,0)","v":3.125E-2},0.30208333333333337,0.30208333333333337,{"$f":"DATA!$C$9","v":0.89},{"$f":"DATA!$C$10","v":64},1,407.81250000000006,407.81250000000006,0,"","",0,"","",0,"","","","",null,{"$f":"WEEKNUM($Y846)","v":41},null,{"$f":"TEXT(Y855,\"ddd\")","v":"do"},"MD",{"$f":"IFERROR(HLOOKUP(Y855,[1]DATA!$A$1:$NB$5,4,0),\"\")","v":"D2"},null,null,null,null,{"$f":"VLOOKUP(Y855,[1]SRM!$S$4:$Z$368,3,0)","v":0},"","",""]
["41doND",{"$f":"VLOOKUP($AA857,DATA!$B$3:$E857,2,0)","v":"22:30:00"},{"$f":"VLOOKUP($AA857,DATA!$B$3:$E857,3,0)","v":"06:30:00"},{"$f":"VLOOKUP($AA857,DATA!$B$3:$E857,4,0)","v":3.125E-2},0.30208333333333326,0.30208333333333326,{"$f":"DATA!$C$9","v":0.89},{"$f":"DATA!$C$10","v":64},1,407.81249999999989,407.81249999999989,0,"","",0,"","",0,"","","","",null,{"$f":"X856","v":41},null,{"$f":"TEXT(Y855,\"ddd\")","v":"do"},"ND",{"$f":"IFERROR(HLOOKUP(Y855,[1]DATA!$A$1:$NB$5,5,0),\"\")","v":"D1"},null,null,null,null,{"$f":"VLOOKUP(Y855,[1]SRM!$S$4:$Z$368,4,0)","v":0},"","",""]
["41vrDD",{"$f":"VLOOKUP($AA858,DATA!$B$3:$E858,2,0)","v":"06:30:00"},{"$f":"VLOOKUP($AA858,DATA!$B$3:$E858,3,0)","v":"14:30:00"},{"$f":"VLOOKUP($AA858,DATA!$B$3:$E858,4,0)","v":3.125E-2},0.30208333333333331,0.30208333333333331,{"$f":"DATA!$C$9","v":0.89},{"$f":"DATA!$C$10","v":64},1,407.8125,407.8125,0,"","",0,"","",0,"","","","",null,{"$f":"X856","v":41},"2018-10-12",{"$f":"TEXT(Y858,\"ddd\")","v":"vr"},"DD",{"$f":"IFERROR(HLOOKUP(Y858,[1]DATA!$A$1:$NB$5,3,0),\"\")","v":"D3"},null,null,null,null,{"$f":"VLOOKUP(Y858,[1]SRM!$S$4:$Z$368,2,0)","v":0},"","",""]
["41vrMD",{"$f":"VLOOKUP($AA859,DATA!$B$3:$E859,2,0)","v":"14:30:00"},{"$f":"VLOOKUP($AA859,DATA!$B$3:$E859,3,0)","v":"22:30:00"},{"$f":"VLOOKUP($AA859,DATA!$B$3:$E859,4,0)","v":3.125E-2},0.30208333333333337,0.30208333333333337,{"$f":"DATA!$C$9","v":0.89},{"$f":"DATA!$C$10","v":64},1,407.81250000000006,407.81250000000006,0,"","",0,"","",0,"","","","",null,{"$f":"X856","v":41},null,{"$f":"TEXT(Y858,\"ddd\")","v":"vr"},"MD",{"$f":"IFERROR(HLOOKUP(Y858,[1]DATA!$A$1:$NB$5,4,0),\"\")","v":"D2"},null,null,null,null,{"$f":"VLOOKUP(Y858,[1]SRM!$S$4:$Z$368,3,0)","v":0},"","",{"$f":"IFERROR(R859/(R859+AG859),\"\")","v":""}]
["41vrND",{"$f":"VLOOKUP($AA860,DATA!$B$3:$E860,2,0)","v":"22:30:00"},{"$f":"VLOOKUP($AA860,DATA!$B$3:$E860,3,0)","v":"06:30:00"},{"$f":"VLOOKUP($AA860,DATA!$B$3:$E860,4,0)","v":3.125E-2},{"$f":"(C860-B860+(B860>C860))-D860","v":0.30208333333333326},{"$f":"E860-O860-L860","v":0.30208333333333326},{"$f":"DATA!$C$9","v":0.89},{"$f":"DATA!$C$10","v":64},1,407.81249999999989,407.81249999999989,0,"","",0,"","",0,"","","","",null,{"$f":"X856","v":41},null,{"$f":"TEXT(Y858,\"ddd\")","v":"vr"},"ND",{"$f":"IFERROR(HLOOKUP(Y858,[1]DATA!$A$1:$NB$5,5,0),\"\")","v":"D2"},null,null,null,null,{"$f":"VLOOKUP(Y858,[1]SRM!$S$4:$Z$368,4,0)","v":0},"","",""]
["41zaDD",{"$f":"VLOOKUP($AA861,DATA!$B$3:$E861,2,0)","v":"06:30:00"},{"$f":"VLOOKUP($AA861,DATA!$B$3:$E861,3,0)","v":"14:30:00"},{"$f":"VLOOKUP($AA861,DATA!$B$3:$E861,4,0)","v":3.125E-2},0.30208333333333331,0.30208333333333331,{"$f":"DATA!$C$9","v":0.89},{"$f":"DATA!$C$10","v":64},1,407.8125,407.8125,0,"","",0,"","",0,"","","","",null,{"$f":"X856","v":41},"2018-10-13",{"$f":"TEXT(Y861,\"ddd\")","v":"za"},"DD",{"$f":"IFERROR(HLOOKUP(Y861,[1]DATA!$A$1:$NB$5,3,0),\"\")","v":"D3"},null,null,null,null,{"$f":"VLOOKUP(Y861,[1]SRM!$S$4:$Z$368,2,0)","v":0},"","",""]
["41zaMD",{"$f":"VLOOKUP($AA862,DATA!$B$3:$E862,2,0)","v":"14:30:00"},{"$f":"VLOOKUP($AA862,DATA!$B$3:$E862,3,0)","v":"22:30:00"},{"$f":"VLOOKUP($AA862,DATA!$B$3:$E862,4,0)","v":3.125E-2},0.30208333333333337,0.30208333333333337,{"$f":"DATA!$C$9","v":0.89},{"$f":"DATA!$C$10","v":64},1,407.81250000000006,407.81250000000006,0,"","",0,"","",0,"","","","",null,{"$f":"X856","v":41},null,{"$f":"TEXT(Y861,\"ddd\")","v":"za"},"MD",{"$f":"IFERROR(HLOOKUP(Y861,[1]DATA!$A$1:$NB$5,4,0),\"\")","v":"-"},null,null,null,null,{"$f":"VLOOKUP(Y861,[1]SRM!$S$4:$Z$368,3,0)","v":0},"","",""]
["41zaND",{"$f":"VLOOKUP($AA863,DATA!$B$3:$E863,2,0)","v":"22:30:00"},{"$f":"VLOOKUP($AA863,DATA!$B$3:$E863,3,0)","v":"06:30:00"},{"$f":"VLOOKUP($AA863,DATA!$B$3:$E863,4,0)","v":3.125E-2},0.30208333333333326,0.30208333333333326,{"$f":"DATA!$C$9","v":0.89},{"$f":"DATA!$C$10","v":64},1,407.81249999999989,407.81249999999989,0,"","",0,"","",0,"","","","",null,{"$f":"X856","v":41},null,{"$f":"TEXT(Y861,\"ddd\")","v":"za"},"ND",{"$f":"IFERROR(HLOOKUP(Y861,[1]DATA!$A$1:$NB$5,5,0),\"\")","v":"-"},null,null,null,null,{"$f":"VLOOKUP(Y861,[1]SRM!$S$4:$Z$368,4,0)","v":0},"","",""]
["41zoDD",{"$f":"VLOOKUP($AA864,DATA!$B$3:$E864,2,0)","v":"06:30:00"},{"$f":"VLOOKUP($AA864,DATA!$B$3:$E864,3,0)","v":"14:30:00"},{"$f":"VLOOKUP($AA864,DATA!$B$3:$E864,4,0)","v":3.125E-2},0.30208333333333331,0.30208333333333331,{"$f":"DATA!$C$9","v":0.89},{"$f":"DATA!$C$10","v":64},1,407.8125,407.8125,0,"","",0,"","",0,"","","","",null,{"$f":"X856","v":41},"2018-10-14",{"$f":"TEXT(Y864,\"ddd\")","v":"zo"},"DD",{"$f":"IFERROR(HLOOKUP(Y864,[1]DATA!$A$1:$NB$5,3,0),\"\")","v":"-"},null,null,null,null,{"$f":"VLOOKUP(Y864,[1]SRM!$S$4:$Z$368,2,0)","v":0},"","",""]
["41zoMD",{"$f":"VLOOKUP($AA865,DATA!$B$3:$E865,2,0)","v":"14:30:00"},{"$f":"VLOOKUP($AA865,DATA!$B$3:$E865,3,0)","v":"22:30:00"},{"$f":"VLOOKUP($AA865,DATA!$B$3:$E865,4,0)","v":3.125E-2},0.30208333333333337,0.30208333333333337,{"$f":"DATA!$C$9","v":0.89},{"$f":"DATA!$C$10","v":64},1,407.81250000000006,407.81250000000006,0,"","",0,"","",0,"","","","",null,{"$f":"X856","v":41},null,{"$f":"TEXT(Y864,\"ddd\")","v":"zo"},"MD",{"$f":"IFERROR(HLOOKUP(Y864,[1]DATA!$A$1:$NB$5,4,0),\"\")","v":"-"},null,null,null,null,{"$f":"VLOOKUP(Y864,[1]SRM!$S$4:$Z$368,3,0)","v":0},"","",""]
["41zoZND",{"$f":"VLOOKUP($AA866,DATA!$B$3:$E866,2,0)","v":"00:00:00"},{"$f":"VLOOKUP($AA866,DATA!$B$3:$E866,3,0)","v":"00:00:00"},{"$f":"VLOOKUP($AA866,DATA!$B$3:$E866,4,0)","v":0},0,0,{"$f":"DATA!$C$9","v":0.89},{"$f":"DATA!$C$10","v":64},1,0,0,0,"","",0,"","",0,"","","","",null,{"$f":"X856","v":41},null,{"$f":"TEXT(Y864,\"ddd\")","v":"zo"},"ZND",{"$f":"IFERROR(HLOOKUP(Y864,[1]DATA!$A$1:$NB$5,5,0),\"\")","v":"-"},null,null,null,null,{"$f":"VLOOKUP(Y864,[1]SRM!$S$4:$Z$368,4,0)","v":0},"","",""]
["42maDD",{"$f":"VLOOKUP($AA867,DATA!$B$3:$E867,2,0)","v":"06:30:00"},{"$f":"VLOOKUP($AA867,DATA!$B$3:$E867,3,0)","v":"14:30:00"},{"$f":"VLOOKUP($AA867,DATA!$B$3:$E867,4,0)","v":3.125E-2},0.30208333333333331,0.30208333333333331,{"$f":"DATA!$C$9","v":0.89},{"$f":"DATA!$C$10","v":64},1,407.8125,407.8125,0,"","",{"$f":"TIME(INT($AD867/60),INT(MOD($AD867,60)/1),0)","v":0},"","",0,"","","","",null,{"$f":"X877","v":42},"2018-10-15",{"$f":"TEXT(Y867,\"ddd\")","v":"ma"},"DD",{"$f":"IFERROR(HLOOKUP(Y867,[1]DATA!$A$1:$NB$5,3,0),\"\")","v":"D2"},null,null,null,null,{"$f":"VLOOKUP(Y867,[1]SRM!$S$4:$Z$368,2,0)","v":0},"","","",{"$f":"IF(SUMIF(S867:S887,\">0\",K867:K887)=0,\"\",SUMIF(S867:S887,\">0\",K867:K887))","v":""},{"$f":"IF(SUM(S867:S887)=0,\"\",SUM(S867:S887))","v":""},{"$f":"IFERROR(AL867/AK867,\"-\")","v":"-"},{"$f":"IF(SUM(M867:M887)=0,\"0\",SUM(M867:M887))","v":"0"},{"$f":"IFERROR(AN867/AK867,\"-\")","v":"-"},{"$f":"IF(SUM(P867:P887)=0,0,SUM(P867:P887))","v":0},{"$f":"IFERROR(AP867/AK867,\"-\")","v":"-"},{"$f":"IFERROR(AVERAGE(AJ867:AJ887),\"-\")","v":"-"},{"$f":"IFERROR(SUMIF($AB867:$AB887,AS$5,$AJ867:$AJ887)/COUNTIFS($AB867:$AB887,AS$5,$AJ867:$AJ887,\">0\"),\"\")","v":""},"","",{"$f":"IFERROR((AK867-AL867-AN867-AP867),\"-\")","v":"-"},{"$f":"IFERROR((1-AM867-AO867-AQ867), \"-\")","v":"-"},{"$f":"IFERROR((AV867*$AE$2)/60,\"-\")","v":"-"},{"$f":"IFERROR(SUM(AG867:AG887),\"\")","v":0}]
["42maMD",{"$f":"VLOOKUP($AA868,DATA!$B$3:$E868,2,0)","v":"14:30:00"},{"$f":"VLOOKUP($AA868,DATA!$B$3:$E868,3,0)","v":"22:30:00"},{"$f":"VLOOKUP($AA868,DATA!$B$3:$E868,4,0)","v":3.125E-2},0.30208333333333337,0.30208333333333337,{"$f":"DATA!$C$9","v":0.89},{"$f":"DATA!$C$10","v":64},1,407.81250000000006,407.81250000000006,0,"","",{"$f":"TIME(INT(AD868/60),INT(MOD(AD868,60)/1),0)","v":0},"","",0,"","","","",null,{"$f":"X877","v":42},null,{"$f":"TEXT(Y867,\"ddd\")","v":"ma"},"MD",{"$f":"IFERROR(HLOOKUP(Y867,[1]DATA!$A$1:$NB$5,4,0),\"\")","v":"D1"},null,null,null,null,{"$f":"VLOOKUP(Y867,[1]SRM!$S$4:$Z$368,3,0)","v":0},"","",""]
["42maND",{"$f":"VLOOKUP($AA869,DATA!$B$3:$E869,2,0)","v":"22:30:00"},{"$f":"VLOOKUP($AA869,DATA!$B$3:$E869,3,0)","v":"06:30:00"},{"$f":"VLOOKUP($AA869,DATA!$B$3:$E869,4,0)","v":3.125E-2},0.30208333333333326,0.30208333333333326,{"$f":"DATA!$C$9","v":0.89},{"$f":"DATA!$C$10","v":64},1,407.81249999999989,407.81249999999989,0,"","",0,"","",0,"","","","",null,{"$f":"X877","v":42},null,{"$f":"TEXT(Y867,\"ddd\")","v":"ma"},"ND",{"$f":"IFERROR(HLOOKUP(Y867,[1]DATA!$A$1:$NB$5,5,0),\"\")","v":"D3"},null,null,null,null,{"$f":"VLOOKUP(Y867,[1]SRM!$S$4:$Z$368,4,0)","v":0},"","",""]
["42diDD",{"$f":"VLOOKUP($AA870,DATA!$B$3:$E870,2,0)","v":"06:30:00"},{"$f":"VLOOKUP($AA870,DATA!$B$3:$E870,3,0)","v":"14:30:00"},{"$f":"VLOOKUP($AA870,DATA!$B$3:$E870,4,0)","v":3.125E-2},0.30208333333333331,0.30208333333333331,{"$f":"DATA!$C$9","v":0.89},{"$f":"DATA!$C$10","v":64},1,407.8125,407.8125,0,"","",0,"","",0,"","","","",null,{"$f":"X877","v":42},"2018-10-16",{"$f":"TEXT(Y870,\"ddd\")","v":"di"},"DD",{"$f":"IFERROR(HLOOKUP(Y870,[1]DATA!$A$1:$NB$5,3,0),\"\")","v":"D2"},null,null,null,null,{"$f":"VLOOKUP(Y870,[1]SRM!$S$4:$Z$368,2,0)","v":0},"","",""]
["42diMD",{"$f":"VLOOKUP($AA871,DATA!$B$3:$E871,2,0)","v":"14:30:00"},{"$f":"VLOOKUP($AA871,DATA!$B$3:$E871,3,0)","v":"22:30:00"},{"$f":"VLOOKUP($AA871,DATA!$B$3:$E871,4,0)","v":3.125E-2},0.30208333333333337,0.30208333333333337,{"$f":"DATA!$C$9","v":0.89},{"$f":"DATA!$C$10","v":64},1,407.81250000000006,407.81250000000006,0,"","",0,"","",0,"","","","",null,{"$f":"X877","v":42},null,{"$f":"TEXT(Y870,\"ddd\")","v":"di"},"MD",{"$f":"IFERROR(HLOOKUP(Y870,[1]DATA!$A$1:$NB$5,4,0),\"\")","v":"D1"},null,null,null,null,{"$f":"VLOOKUP(Y870,[1]SRM!$S$4:$Z$368,3,0)","v":0},"","",""]
["42diND",{"$f":"VLOOKUP($AA872,DATA!$B$3:$E872,2,0)","v":"22:30:00"},{"$f":"VLOOKUP($AA872,DATA!$B$3:$E872,3,0)","v":"06:30:00"},{"$f":"VLOOKUP($AA872,DATA!$B$3:$E872,4,0)","v":3.125E-2},0.30208333333333326,0.30208333333333326,{"$f":"DATA!$C$9","v":0.89},{"$f":"DATA!$C$10","v":64},1,407.81249999999989,407.81249999999989,0,"","",0,"","",0,"","","","",null,{"$f":"X877","v":42},null,{"$f":"TEXT(Y870,\"ddd\")","v":"di"},"ND",{"$f":"IFERROR(HLOOKUP(Y870,[1]DATA!$A$1:$NB$5,5,0),\"\")","v":"D3"},null,null,null,null,{"$f":"VLOOKUP(Y870,[1]SRM!$S$4:$Z$368,4,0)","v":0},"","",""]
["42woDD",{"$f":"VLOOKUP($AA873,DATA!$B$3:$E873,2,0)","v":"06:30:00"},{"$f":"VLOOKUP($AA873,DATA!$B$3:$E873,3,0)","v":"14:30:00"},{"$f":"VLOOKUP($AA873,DATA!$B$3:$E873,4,0)","v":3.125E-2},0.30208333333333331,0.30208333333333331,{"$f":"DATA!$C$9","v":0.89},{"$f":"DATA!$C$10","v":64},1,407.8125,407.8125,0,"","",0,"","",0,"","","","",null,{"$f":"X877","v":42},"2018-10-17",{"$f":"TEXT(Y873,\"ddd\")","v":"wo"},"DD",{"$f":"IFERROR(HLOOKUP(Y873,[1]DATA!$A$1:$NB$5,3,0),\"\")","v":"D2"},null,null,null,null,{"$f":"VLOOKUP(Y873,[1]SRM!$S$4:$Z$368,2,0)","v":0},"","",""]
["42woMD",{"$f":"VLOOKUP($AA874,DATA!$B$3:$E874,2,0)","v":"14:30:00"},{"$f":"VLOOKUP($AA874,DATA!$B$3:$E874,3,0)","v":"22:30:00"},{"$f":"VLOOKUP($AA874,DATA!$B$3:$E874,4,0)","v":3.125E-2},0.30208333333333337,0.30208333333333337,{"$f":"DATA!$C$9","v":0.89},{"$f":"DATA!$C$10","v":64},1,407.81250000000006,407.81250000000006,0,"","",0,"","",0,"","","","",null,{"$f":"X877","v":42},null,{"$f":"TEXT(Y873,\"ddd\")","v":"wo"},"MD",{"$f":"IFERROR(HLOOKUP(Y873,[1]DATA!$A$1:$NB$5,4,0),\"\")","v":"D1"},null,null,null,null,{"$f":"VLOOKUP(Y873,[1]SRM!$S$4:$Z$368,3,0)","v":0},"","",""]
["42woND",{"$f":"VLOOKUP($AA875,DATA!$B$3:$E875,2,0)","v":"22:30:00"},{"$f":"VLOOKUP($AA875,DATA!$B$3:$E875,3,0)","v":"06:30:00"},{"$f":"VLOOKUP($AA875,DATA!$B$3:$E875,4,0)","v":3.125E-2},0.30208333333333326,0.30208333333333326,{"$f":"DATA!$C$9","v":0.89},{"$f":"DATA!$C$10","v":64},1,407.81249999999989,407.81249999999989,0,"","",0,"","",0,"","","","",null,{"$f":"X877","v":42},null,{"$f":"TEXT(Y873,\"ddd\")","v":"wo"},"ND",{"$f":"IFERROR(HLOOKUP(Y873,[1]DATA!$A$1:$NB$5,5,0),\"\")","v":"D3"},null,null,null,null,{"$f":"VLOOKUP(Y873,[1]SRM!$S$4:$Z$368,4,0)","v":0},"","",""]
["42doDD",{"$f":"VLOOKUP($AA876,DATA!$B$3:$E876,2,0)","v":"06:30:00"},{"$f":"VLOOKUP($AA876,DATA!$B$3:$E876,3,0)","v":"14:30:00"},{"$f":"VLOOKUP($AA876,DATA!$B$3:$E876,4,0)","v":3.125E-2},0.30208333333333331,0.30208333333333331,{"$f":"DATA!$C$9","v":0.89},{"$f":"DATA!$C$10","v":64},1,407.8125,407.8125,0,"","",0,"","",0,"","","","",null,{"$f":"X877","v":42},"2018-10-18",{"$f":"TEXT(Y876,\"ddd\")","v":"do"},"DD",{"$f":"IFERROR(HLOOKUP(Y876,[1]DATA!$A$1:$NB$5,3,0),\"\")","v":"D2"},null,null,null,null,{"$f":"VLOOKUP(Y876,[1]SRM!$S$4:$Z$368,2,0)","v":0},"","",""]
["42doMD",{"$f":"VLOOKUP($AA877,DATA!$B$3:$E877,2,0)","v":"14:30:00"},{"$f":"VLOOKUP($AA877,DATA!$B$3:$E877,3,0)","v":"22:30:00"},{"$f":"VLOOKUP($AA877,DATA!$B$3:$E877,4,0)","v":3.125E-2},0.30208333333333337,0.30208333333333337,{"$f":"DATA!$C$9","v":0.89},{"$f":"DATA!$C$10","v":64},1,407.81250000000006,407.81250000000006,0,"","",0,"","",0,"","","","",null,{"$f":"WEEKNUM($Y867)","v":42},null,{"$f":"TEXT(Y876,\"ddd\")","v":"do"},"MD",{"$f":"IFERROR(HLOOKUP(Y876,[1]DATA!$A$1:$NB$5,4,0),\"\")","v":"D1"},null,null,null,null,{"$f":"VLOOKUP(Y876,[1]SRM!$S$4:$Z$368,3,0)","v":0},"","",""]
["42doND",{"$f":"VLOOKUP($AA878,DATA!$B$3:$E878,2,0)","v":"22:30:00"},{"$f":"VLOOKUP($AA878,DATA!$B$3:$E878,3,0)","v":"06:30:00"},{"$f":"VLOOKUP($AA878,DATA!$B$3:$E878,4,0)","v":3.125E-2},0.30208333333333326,0.30208333333333326,{"$f":"DATA!$C$9","v":0.89},{"$f":"DATA!$C$10","v":64},1,407.81249999999989,407.81249999999989,0,"","",0,"","",0,"","","","",null,{"$f":"X877","v":42},null,{"$f":"TEXT(Y876,\"ddd\")","v":"do"},"ND",{"$f":"IFERROR(HLOOKUP(Y876,[1]DATA!$A$1:$NB$5,5,0),\"\")","v":"D3"},null,null,null,null,{"$f":"VLOOKUP(Y876,[1]SRM!$S$4:$Z$368,4,0)","v":0},"","",""]
["42vrDD",{"$f":"VLOOKUP($AA879,DATA!$B$3:$E879,2,0)","v":"06:30:00"},{"$f":"VLOOKUP($AA879,DATA!$B$3:$E879,3,0)","v":"14:30:00"},{"$f":"VLOOKUP($AA879,DATA!$B$3:$E879,4,0)","v":3.125E-2},0.30208333333333331,0.30208333333333331,{"$f":"DATA!$C$9","v":0.89},{"$f":"DATA!$C$10","v":64},1,407.8125,407.8125,0,"","",0,"","",0,"","","","",null,{"$f":"X877","v":42},"2018-10-19",{"$f":"TEXT(Y879,\"ddd\")","v":"vr"},"DD",{"$f":"IFERROR(HLOOKUP(Y879,[1]DATA!$A$1:$NB$5,3,0),\"\")","v":"D2"},null,null,null,null,{"$f":"VLOOKUP(Y879,[1]SRM!$S$4:$Z$368,2,0)","v":0},"","",""]
[{"$f":"X880&Z880&AA880","v":"42vrMD"},{"$f":"VLOOKUP($AA880,DATA!$B$3:$E880,2,0)","v":"14:30:00"},{"$f":"VLOOKUP($AA880,DATA!$B$3:$E880,3,0)","v":"22:30:00"},{"$f":"VLOOKUP($AA880,DATA!$B$3:$E880,4,0)","v":3.125E-2},0.30208333333333337,0.30208333333333337,{"$f":"DATA!$C$9","v":0.89},{"$f":"DATA!$C$10","v":64},1,407.81250000000006,407.81250000000006,0,"","",0,{"$f":"IF($O880*86400/$H880=0,\"\",$O880*86400/$H880)","v":""},"",0,"","","","",null,{"$f":"X877","v":42},null,{"$f":"TEXT(Y879,\"ddd\")","v":"vr"},"MD",{"$f":"IFERROR(HLOOKUP(Y879,[1]DATA!$A$1:$NB$5,4,0),\"\")","v":"D1"},null,null,null,null,{"$f":"VLOOKUP(Y879,[1]SRM!$S$4:$Z$368,3,0)","v":0},"","",""]
["42vrND",{"$f":"VLOOKUP($AA881,DATA!$B$3:$E881,2,0)","v":"22:30:00"},{"$f":"VLOOKUP($AA881,DATA!$B$3:$E881,3,0)","v":"06:30:00"},{"$f":"VLOOKUP($AA881,DATA!$B$3:$E881,4,0)","v":3.125E-2},0.30208333333333326,0.30208333333333326,{"$f":"DATA!$C$9","v":0.89},{"$f":"DATA!$C$10","v":64},1,407.81249999999989,407.81249999999989,0,"","",0,"","",0,"","","","",null,{"$f":"X877","v":42},null,{"$f":"TEXT(Y879,\"ddd\")","v":"vr"},"ND",{"$f":"IFERROR(HLOOKUP(Y879,[1]DATA!$A$1:$NB$5,5,0),\"\")","v":"D3"},null,null,null,null,{"$f":"VLOOKUP(Y879,[1]SRM!$S$4:$Z$368,4,0)","v":0},"","",""]
["42zaDD",{"$f":"VLOOKUP($AA882,DATA!$B$3:$E882,2,0)","v":"06:30:00"},{"$f":"VLOOKUP($AA882,DATA!$B$3:$E882,3,0)","v":"14:30:00"},{"$f":"VLOOKUP($AA882,DATA!$B$3:$E882,4,0)","v":3.125E-2},0.30208333333333331,0.30208333333333331,{"$f":"DATA!$C$9","v":0.89},{"$f":"DATA!$C$10","v":64},1,407.8125,407.8125,0,"","",0,"","",0,"","","","",null,{"$f":"X877","v":42},"2018-10-20",{"$f":"TEXT(Y882,\"ddd\")","v":"za"},"DD",{"$f":"IFERROR(HLOOKUP(Y882,[1]DATA!$A$1:$NB$5,3,0),\"\")","v":"D2"},null,null,null,null,{"$f":"VLOOKUP(Y882,[1]SRM!$S$4:$Z$368,2,0)","v":0},"","",""]
["42zaMD",{"$f":"VLOOKUP($AA883,DATA!$B$3:$E883,2,0)","v":"14:30:00"},{"$f":"VLOOKUP($AA883,DATA!$B$3:$E883,3,0)","v":"22:30:00"},{"$f":"VLOOKUP($AA883,DATA!$B$3:$E883,4,0)","v":3.125E-2},0.30208333333333337,0.30208333333333337,{"$f":"DATA!$C$9","v":0.89},{"$f":"DATA!$C$10","v":64},1,407.81250000000006,407.81250000000006,0,"","",0,"","",0,"","","","",null,{"$f":"X877","v":42},null,{"$f":"TEXT(Y882,\"ddd\")","v":"za"},"MD",{"$f":"IFERROR(HLOOKUP(Y882,[1]DATA!$A$1:$NB$5,4,0),\"\")","v":"-"},null,null,null,null,{"$f":"VLOOKUP(Y882,[1]SRM!$S$4:$Z$368,3,0)","v":0},"","",""]
["42zaND",{"$f":"VLOOKUP($AA884,DATA!$B$3:$E884,2,0)","v":"22:30:00"},{"$f":"VLOOKUP($AA884,DATA!$B$3:$E884,3,0)","v":"06:30:00"},{"$f":"VLOOKUP($AA884,DATA!$B$3:$E884,4,0)","v":3.125E-2},0.30208333333333326,0.30208333333333326,{"$f":"DATA!$C$9","v":0.89},{"$f":"DATA!$C$10","v":64},1,407.81249999999989,407.81249999999989,0,"","",0,"","",0,"","","","",null,{"$f":"X877","v":42},null,{"$f":"TEXT(Y882,\"ddd\")","v":"za"},"ND",{"$f":"IFERROR(HLOOKUP(Y882,[1]DATA!$A$1:$NB$5,5,0),\"\")","v":"-"},null,null,null,null,{"$f":"VLOOKUP(Y882,[1]SRM!$S$4:$Z$368,4,0)","v":0},"","",""]
["42zoDD",{"$f":"VLOOKUP($AA885,DATA!$B$3:$E885,2,0)","v":"06:30:00"},{"$f":"VLOOKUP($AA885,DATA!$B$3:$E885,3,0)","v":"14:30:00"},{"$f":"VLOOKUP($AA885,DATA!$B$3:$E885,4,0)","v":3.125E-2},0.30208333333333331,0.30208333333333331,{"$f":"DATA!$C$9","v":0.89},{"$f":"DATA!$C$10","v":64},1,407.8125,407.8125,0,"","",0,"","",0,"","","","",null,{"$f":"X877","v":42},"2018-10-21",{"$f":"TEXT(Y885,\"ddd\")","v":"zo"},"DD",{"$f":"IFERROR(HLOOKUP(Y885,[1]DATA!$A$1:$NB$5,3,0),\"\")","v":"-"},null,null,null,null,{"$f":"VLOOKUP(Y885,[1]SRM!$S$4:$Z$368,2,0)","v":0},"","",""]
["42zoMD",{"$f":"VLOOKUP($AA886,DATA!$B$3:$E886,2,0)","v":"14:30:00"},{"$f":"VLOOKUP($AA886,DATA!$B$3:$E886,3,0)","v":"22:30:00"},{"$f":"VLOOKUP($AA886,DATA!$B$3:$E886,4,0)","v":3.125E-2},0.30208333333333337,0.30208333333333337,{"$f":"DATA!$C$9","v":0.89},{"$f":"DATA!$C$10","v":64},1,407.81250000000006,407.81250000000006,0,"","",0,"","",0,"","","","",null,{"$f":"X877","v":42},null,{"$f":"TEXT(Y885,\"ddd\")","v":"zo"},"MD",{"$f":"IFERROR(HLOOKUP(Y885,[1]DATA!$A$1:$NB$5,4,0),\"\")","v":"-"},null,null,null,null,{"$f":"VLOOKUP(Y885,[1]SRM!$S$4:$Z$368,3,0)","v":0},"","",""]
["42zoZND",{"$f":"VLOOKUP($AA887,DATA!$B$3:$E887,2,0)","v":"00:00:00"},{"$f":"VLOOKUP($AA887,DATA!$B$3:$E887,3,0)","v":"00:00:00"},{"$f":"VLOOKUP($AA887,DATA!$B$3:$E887,4,0)","v":0},0,0,{"$f":"DATA!$C$9","v":0.89},{"$f":"DATA!$C$10","v":64},1,0,0,0,"","",0,"","",0,"","","","",null,{"$f":"X877","v":42},null,{"$f":"TEXT(Y885,\"ddd\")","v":"zo"},"ZND",{"$f":"IFERROR(HLOOKUP(Y885,[1]DATA!$A$1:$NB$5,5,0),\"\")","v":"-"},null,null,null,null,{"$f":"VLOOKUP(Y885,[1]SRM!$S$4:$Z$368,4,0)","v":0},"","",""]
["43maDD",{"$f":"VLOOKUP($AA888,DATA!$B$3:$E888,2,0)","v":"06:30:00"},{"$f":"VLOOKUP($AA888,DATA!$B$3:$E888,3,0)","v":"14:30:00"},{"$f":"VLOOKUP($AA888,DATA!$B$3:$E888,4,0)","v":3.125E-2},0.30208333333333331,0.30208333333333331,{"$f":"DATA!$C$9","v":0.89},{"$f":"DATA!$C$10","v":64},1,407.8125,407.8125,0,"","",{"$f":"TIME(INT($AD888/60),INT(MOD($AD888,60)/1),0)","v":0},"","",0,"","","","",null,{"$f":"X898","v":43},"2018-10-22",{"$f":"TEXT(Y888,\"ddd\")","v":"ma"},"DD",{"$f":"IFERROR(HLOOKUP(Y888,[1]DATA!$A$1:$NB$5,3,0),\"\")","v":"D1"},null,null,null,null,{"$f":"VLOOKUP(Y888,[1]SRM!$S$4:$Z$368,2,0)","v":0},"","","",{"$f":"IF(SUMIF(S888:S908,\">0\",K888:K908)=0,\"\",SUMIF(S888:S908,\">0\",K888:K908))","v":""},{"$f":"IF(SUM(S888:S908)=0,\"\",SUM(S888:S908))","v":""},{"$f":"IFERROR(AL888/AK888,\"-\")","v":"-"},{"$f":"IF(SUM(M888:M908)=0,\"0\",SUM(M888:M908))","v":"0"},{"$f":"IFERROR(AN888/AK888,\"-\")","v":"-"},{"$f":"IF(SUM(P888:P908)=0,0,SUM(P888:P908))","v":0},{"$f":"IFERROR(AP888/AK888,\"-\")","v":"-"},{"$f":"IFERROR(AVERAGE(AJ888:AJ908),\"-\")","v":"-"},{"$f":"IFERROR(SUMIF($AB888:$AB908,AS$5,$AJ888:$AJ908)/COUNTIFS($AB888:$AB908,AS$5,$AJ888:$AJ908,\">0\"),\"\")","v":""},"","",{"$f":"IFERROR((AK888-AL888-AN888-AP888),\"-\")","v":"-"},{"$f":"IFERROR((1-AM888-AO888-AQ888), \"-\")","v":"-"},{"$f":"IFERROR((AV888*$AE$2)/60,\"-\")","v":"-"},{"$f":"IFERROR(SUM(AG888:AG908),\"\")","v":0}]
["43maMD",{"$f":"VLOOKUP($AA889,DATA!$B$3:$E889,2,0)","v":"14:30:00"},{"$f":"VLOOKUP($AA889,DATA!$B$3:$E889,3,0)","v":"22:30:00"},{"$f":"VLOOKUP($AA889,DATA!$B$3:$E889,4,0)","v":3.125E-2},0.30208333333333337,0.30208333333333337,{"$f":"DATA!$C$9","v":0.89},{"$f":"DATA!$C$10","v":64},1,407.81250000000006,407.81250000000006,0,"","",{"$f":"TIME(INT(AD889/60),INT(MOD(AD889,60)/1),0)","v":0},"","",0,"","","","",null,{"$f":"X898","v":43},null,{"$f":"TEXT(Y888,\"ddd\")","v":"ma"},"MD",{"$f":"IFERROR(HLOOKUP(Y888,[1]DATA!$A$1:$NB$5,4,0),\"\")","v":"D3"},null,null,null,null,{"$f":"VLOOKUP(Y888,[1]SRM!$S$4:$Z$368,3,0)","v":0},"","",""]
["43maND",{"$f":"VLOOKUP($AA890,DATA!$B$3:$E890,2,0)","v":"22:30:00"},{"$f":"VLOOKUP($AA890,DATA!$B$3:$E890,3,0)","v":"06:30:00"},{"$f":"VLOOKUP($AA890,DATA!$B$3:$E890,4,0)","v":3.125E-2},0.30208333333333326,0.30208333333333326,{"$f":"DATA!$C$9","v":0.89},{"$f":"DATA!$C$10","v":64},1,407.81249999999989,407.81249999999989,0,"","",0,"","",0,"","","","",null,{"$f":"X898","v":43},null,{"$f":"TEXT(Y888,\"ddd\")","v":"ma"},"ND",{"$f":"IFERROR(HLOOKUP(Y888,[1]DATA!$A$1:$NB$5,5,0),\"\")","v":"D2"},null,null,null,null,{"$f":"VLOOKUP(Y888,[1]SRM!$S$4:$Z$368,4,0)","v":0},"","",""]
["43diDD",{"$f":"VLOOKUP($AA891,DATA!$B$3:$E891,2,0)","v":"06:30:00"},{"$f":"VLOOKUP($AA891,DATA!$B$3:$E891,3,0)","v":"14:30:00"},{"$f":"VLOOKUP($AA891,DATA!$B$3:$E891,4,0)","v":3.125E-2},0.30208333333333331,0.30208333333333331,{"$f":"DATA!$C$9","v":0.89},{"$f":"DATA!$C$10","v":64},1,407.8125,407.8125,0,"","",0,"","",0,"","","","",null,{"$f":"X898","v":43},{"$f":"Y888+1","v":"2018-10-23"},{"$f":"TEXT(Y891,\"ddd\")","v":"di"},"DD",{"$f":"IFERROR(HLOOKUP(Y891,[1]DATA!$A$1:$NB$5,3,0),\"\")","v":"D1"},null,null,null,null,{"$f":"VLOOKUP(Y891,[1]SRM!$S$4:$Z$368,2,0)","v":0},"","",""]
["43diMD",{"$f":"VLOOKUP($AA892,DATA!$B$3:$E892,2,0)","v":"14:30:00"},{"$f":"VLOOKUP($AA892,DATA!$B$3:$E892,3,0)","v":"22:30:00"},{"$f":"VLOOKUP($AA892,DATA!$B$3:$E892,4,0)","v":3.125E-2},0.30208333333333337,0.30208333333333337,{"$f":"DATA!$C$9","v":0.89},{"$f":"DATA!$C$10","v":64},1,407.81250000000006,407.81250000000006,0,"","",0,"","",0,"","","","",null,{"$f":"X898","v":43},null,{"$f":"TEXT(Y891,\"ddd\")","v":"di"},"MD",{"$f":"IFERROR(HLOOKUP(Y891,[1]DATA!$A$1:$NB$5,4,0),\"\")","v":"D3"},null,null,null,null,{"$f":"VLOOKUP(Y891,[1]SRM!$S$4:$Z$368,3,0)","v":0},"","",""]
["43diND",{"$f":"VLOOKUP($AA893,DATA!$B$3:$E893,2,0)","v":"22:30:00"},{"$f":"VLOOKUP($AA893,DATA!$B$3:$E893,3,0)","v":"06:30:00"},{"$f":"VLOOKUP($AA893,DATA!$B$3:$E893,4,0)","v":3.125E-2},0.30208333333333326,0.30208333333333326,{"$f":"DATA!$C$9","v":0.89},{"$f":"DATA!$C$10","v":64},1,407.81249999999989,407.81249999999989,0,"","",0,"","",0,"","","","",null,{"$f":"X898","v":43},null,{"$f":"TEXT(Y891,\"ddd\")","v":"di"},"ND",{"$f":"IFERROR(HLOOKUP(Y891,[1]DATA!$A$1:$NB$5,5,0),\"\")","v":"D2"},null,null,null,null,{"$f":"VLOOKUP(Y891,[1]SRM!$S$4:$Z$368,4,0)","v":0},"","",""]
["43woDD",{"$f":"VLOOKUP($AA894,DATA!$B$3:$E894,2,0)","v":"06:30:00"},{"$f":"VLOOKUP($AA894,DATA!$B$3:$E894,3,0)","v":"14:30:00"},{"$f":"VLOOKUP($AA894,DATA!$B$3:$E894,4,0)","v":3.125E-2},0.30208333333333331,0.30208333333333331,{"$f":"DATA!$C$9","v":0.89},{"$f":"DATA!$C$10","v":64},1,407.8125,407.8125,0,"","",0,"","",0,"","","","",null,{"$f":"X898","v":43},"2018-10-24",{"$f":"TEXT(Y894,\"ddd\")","v":"wo"},"DD",{"$f":"IFERROR(HLOOKUP(Y894,[1]DATA!$A$1:$NB$5,3,0),\"\")","v":"D1"},null,null,null,null,{"$f":"VLOOKUP(Y894,[1]SRM!$S$4:$Z$368,2,0)","v":0},"","",""]
["43woMD",{"$f":"VLOOKUP($AA895,DATA!$B$3:$E895,2,0)","v":"14:30:00"},{"$f":"VLOOKUP($AA895,DATA!$B$3:$E895,3,0)","v":"22:30:00"},{"$f":"VLOOKUP($AA895,DATA!$B$3:$E895,4,0)","v":3.125E-2},0.30208333333333337,0.30208333333333337,{"$f":"DATA!$C$9","v":0.89},{"$f":"DATA!$C$10","v":64},1,407.81250000000006,407.81250000000006,0,"","",0,"","",0,"","","","",null,{"$f":"X898","v":43},null,{"$f":"TEXT(Y894,\"ddd\")","v":"wo"},"MD",{"$f":"IFERROR(HLOOKUP(Y894,[1]DATA!$A$1:$NB$5,4,0),\"\")","v":"D3"},null,null,null,null,{"$f":"VLOOKUP(Y894,[1]SRM!$S$4:$Z$368,3,0)","v":0},"","",""]
["43woND",{"$f":"VLOOKUP($AA896,DATA!$B$3:$E896,2,0)","v":"22:30:00"},{"$f":"VLOOKUP($AA896,DATA!$B$3:$E896,3,0)","v":"06:30:00"},{"$f":"VLOOKUP($AA896,DATA!$B$3:$E896,4,0)","v":3.125E-2},0.30208333333333326,0.30208333333333326,{"$f":"DATA!$C$9","v":0.89},{"$f":"DATA!$C$10","v":64},1,407.81249999999989,407.81249999999989,0,"","",0,"","",0,"","","","",null,{"$f":"X898","v":43},null,{"$f":"TEXT(Y894,\"ddd\")","v":"wo"},"ND",{"$f":"IFERROR(HLOOKUP(Y894,[1]DATA!$A$1:$NB$5,5,0),\"\")","v":"D2"},null,null,null,null,{"$f":"VLOOKUP(Y894,[1]SRM!$S$4:$Z$368,4,0)","v":0},"","",""]
["43doDD",{"$f":"VLOOKUP($AA897,DATA!$B$3:$E897,2,0)","v":"06:30:00"},{"$f":"VLOOKUP($AA897,DATA!$B$3:$E897,3,0)","v":"14:30:00"},{"$f":"VLOOKUP($AA897,DATA!$B$3:$E897,4,0)","v":3.125E-2},0.30208333333333331,0.30208333333333331,{"$f":"DATA!$C$9","v":0.89},{"$f":"DATA!$C$10","v":64},1,407.8125,407.8125,0,"","",0,"","",0,"","","","",null,{"$f":"X898","v":43},"2018-10-25",{"$f":"TEXT(Y897,\"ddd\")","v":"do"},"DD",{"$f":"IFERROR(HLOOKUP(Y897,[1]DATA!$A$1:$NB$5,3,0),\"\")","v":"D1"},null,null,null,null,{"$f":"VLOOKUP(Y897,[1]SRM!$S$4:$Z$368,2,0)","v":0},"","",""]
["43doMD",{"$f":"VLOOKUP($AA898,DATA!$B$3:$E898,2,0)","v":"14:30:00"},{"$f":"VLOOKUP($AA898,DATA!$B$3:$E898,3,0)","v":"22:30:00"},{"$f":"VLOOKUP($AA898,DATA!$B$3:$E898,4,0)","v":3.125E-2},0.30208333333333337,0.30208333333333337,{"$f":"DATA!$C$9","v":0.89},{"$f":"DATA!$C$10","v":64},1,407.81250000000006,407.81250000000006,0,"","",0,"","",0,"","","","",null,{"$f":"WEEKNUM($Y888)","v":43},null,{"$f":"TEXT(Y897,\"ddd\")","v":"do"},"MD",{"$f":"IFERROR(HLOOKUP(Y897,[1]DATA!$A$1:$NB$5,4,0),\"\")","v":"D3"},null,null,null,null,{"$f":"VLOOKUP(Y897,[1]SRM!$S$4:$Z$368,3,0)","v":0},"","",""]
["43doND",{"$f":"VLOOKUP($AA899,DATA!$B$3:$E899,2,0)","v":"22:30:00"},{"$f":"VLOOKUP($AA899,DATA!$B$3:$E899,3,0)","v":"06:30:00"},{"$f":"VLOOKUP($AA899,DATA!$B$3:$E899,4,0)","v":3.125E-2},0.30208333333333326,0.30208333333333326,{"$f":"DATA!$C$9","v":0.89},{"$f":"DATA!$C$10","v":64},1,407.81249999999989,407.81249999999989,0,"","",0,"","",0,"","","","",null,{"$f":"X898","v":43},null,{"$f":"TEXT(Y897,\"ddd\")","v":"do"},"ND",{"$f":"IFERROR(HLOOKUP(Y897,[1]DATA!$A$1:$NB$5,5,0),\"\")","v":"D2"},null,null,null,null,{"$f":"VLOOKUP(Y897,[1]SRM!$S$4:$Z$368,4,0)","v":0},"","",""]
["43vrDD",{"$f":"VLOOKUP($AA900,DATA!$B$3:$E900,2,0)","v":"06:30:00"},{"$f":"VLOOKUP($AA900,DATA!$B$3:$E900,3,0)","v":"14:30:00"},{"$f":"VLOOKUP($AA900,DATA!$B$3:$E900,4,0)","v":3.125E-2},0.30208333333333331,0.30208333333333331,{"$f":"DATA!$C$9","v":0.89},{"$f":"DATA!$C$10","v":64},1,407.8125,407.8125,0,"","",0,"","",0,"","","","",null,{"$f":"X898","v":43},"2018-10-26",{"$f":"TEXT(Y900,\"ddd\")","v":"vr"},"DD",{"$f":"IFERROR(HLOOKUP(Y900,[1]DATA!$A$1:$NB$5,3,0),\"\")","v":"D1"},null,null,null,null,{"$f":"VLOOKUP(Y900,[1]SRM!$S$4:$Z$368,2,0)","v":0},"","",""]
["43vrMD",{"$f":"VLOOKUP($AA901,DATA!$B$3:$E901,2,0)","v":"14:30:00"},{"$f":"VLOOKUP($AA901,DATA!$B$3:$E901,3,0)","v":"22:30:00"},{"$f":"VLOOKUP($AA901,DATA!$B$3:$E901,4,0)","v":3.125E-2},0.30208333333333337,0.30208333333333337,{"$f":"DATA!$C$9","v":0.89},{"$f":"DATA!$C$10","v":64},1,407.81250000000006,407.81250000000006,0,"","",0,"","",0,"","","","",null,{"$f":"X898","v":43},null,{"$f":"TEXT(Y900,\"ddd\")","v":"vr"},"MD",{"$f":"IFERROR(HLOOKUP(Y900,[1]DATA!$A$1:$NB$5,4,0),\"\")","v":"D3"},null,null,null,null,{"$f":"VLOOKUP(Y900,[1]SRM!$S$4:$Z$368,3,0)","v":0},"","",""]
["43vrND",{"$f":"VLOOKUP($AA902,DATA!$B$3:$E902,2,0)","v":"22:30:00"},{"$f":"VLOOKUP($AA902,DATA!$B$3:$E902,3,0)","v":"06:30:00"},{"$f":"VLOOKUP($AA902,DATA!$B$3:$E902,4,0)","v":3.125E-2},0.30208333333333326,0.30208333333333326,{"$f":"DATA!$C$9","v":0.89},{"$f":"DATA!$C$10","v":64},1,{"$f":"F902*86400/H902*I902","v":407.81249999999989},{"$f":"E902*86400/H902","v":407.81249999999989},0,"","",0,"","",{"$f":"AF902*AG$2","v":0},{"$f":"IF(AF902-AE902=0,\"\",AF902-AE902)","v":""},"","","",null,{"$f":"X898","v":43},null,{"$f":"TEXT(Y900,\"ddd\")","v":"vr"},"ND",{"$f":"IFERROR(HLOOKUP(Y900,[1]DATA!$A$1:$NB$5,5,0),\"\")","v":"D2"},null,null,null,null,{"$f":"VLOOKUP(Y900,[1]SRM!$S$4:$Z$368,4,0)","v":0},{"$f":"IFERROR(S902-J902,\"\")","v":""},{"$f":"IFERROR(IF(S902/(E902*86400/H902)<=0,\"\",S902/(E902*86400/H902)),\"\")","v":""},""]
["43zaDD",{"$f":"VLOOKUP($AA903,DATA!$B$3:$E903,2,0)","v":"06:30:00"},{"$f":"VLOOKUP($AA903,DATA!$B$3:$E903,3,0)","v":"14:30:00"},{"$f":"VLOOKUP($AA903,DATA!$B$3:$E903,4,0)","v":3.125E-2},0.30208333333333331,0.30208333333333331,{"$f":"DATA!$C$9","v":0.89},{"$f":"DATA!$C$10","v":64},1,407.8125,407.8125,{"$f":"TIME(INT($AC903/60),INT(MOD($AC903,60)/1),0)","v":0},{"$f":"IF($L903*86400/$H903=0,\"\",$L903*86400/$H903)","v":""},{"$f":"IFERROR($M903/$K903,\"\")","v":""},0,"",{"$f":"IFERROR($P903/$K903,\"\")","v":""},0,"",{"$f":"IF(IF($AB903=\"D1\",$S903,\"\")=0,\"\",IF($AB903=\"D1\",$S903,\"\"))","v":""},{"$f":"IF(IF($AB903=\"D2\",$S903,\"\")=0,\"\",IF($AB903=\"D2\",$S903,\"\"))","v":""},{"$f":"IF(IF($AB903=\"D3\",$S903,\"\")=0,\"\",IF($AB903=\"D3\",$S903,\"\"))","v":""},null,{"$f":"X898","v":43},"2018-10-27",{"$f":"TEXT(Y903,\"ddd\")","v":"za"},"DD",{"$f":"IFERROR(HLOOKUP(Y903,[1]DATA!$A$1:$NB$5,3,0),\"\")","v":"D1"},null,null,null,null,{"$f":"VLOOKUP(Y903,[1]SRM!$S$4:$Z$368,2,0)","v":0},"","",""]
["43zaMD",{"$f":"VLOOKUP($AA904,DATA!$B$3:$E904,2,0)","v":"14:30:00"},{"$f":"VLOOKUP($AA904,DATA!$B$3:$E904,3,0)","v":"22:30:00"},{"$f":"VLOOKUP($AA904,DATA!$B$3:$E904,4,0)","v":3.125E-2},0.30208333333333337,0.30208333333333337,{"$f":"DATA!$C$9","v":0.89},{"$f":"DATA!$C$10","v":64},1,407.81250000000006,407.81250000000006,0,"","",0,"","",0,"","","","",null,{"$f":"X898","v":43},null,{"$f":"TEXT(Y903,\"ddd\")","v":"za"},"MD",{"$f":"IFERROR(HLOOKUP(Y903,[1]DATA!$A$1:$NB$5,4,0),\"\")","v":"-"},null,null,null,null,{"$f":"VLOOKUP(Y903,[1]SRM!$S$4:$Z$368,3,0)","v":0},"","",""]
["43zaND",{"$f":"VLOOKUP($AA905,DATA!$B$3:$E905,2,0)","v":"22:30:00"},{"$f":"VLOOKUP($AA905,DATA!$B$3:$E905,3,0)","v":"06:30:00"},{"$f":"VLOOKUP($AA905,DATA!$B$3:$E905,4,0)","v":3.125E-2},0.30208333333333326,0.30208333333333326,{"$f":"DATA!$C$9","v":0.89},{"$f":"DATA!$C$10","v":64},1,407.81249999999989,407.81249999999989,0,"","",0,"","",0,"","","","",null,{"$f":"X898","v":43},null,{"$f":"TEXT(Y903,\"ddd\")","v":"za"},"ND",{"$f":"IFERROR(HLOOKUP(Y903,[1]DATA!$A$1:$NB$5,5,0),\"\")","v":"-"},null,null,null,null,{"$f":"VLOOKUP(Y903,[1]SRM!$S$4:$Z$368,4,0)","v":0},"","",""]
["43zoDD",{"$f":"VLOOKUP($AA906,DATA!$B$3:$E906,2,0)","v":"06:30:00"},{"$f":"VLOOKUP($AA906,DATA!$B$3:$E906,3,0)","v":"14:30:00"},{"$f":"VLOOKUP($AA906,DATA!$B$3:$E906,4,0)","v":3.125E-2},0.30208333333333331,0.30208333333333331,{"$f":"DATA!$C$9","v":0.89},{"$f":"DATA!$C$10","v":64},1,407.8125,407.8125,0,"","",0,"","",0,"","","","",null,{"$f":"X898","v":43},"2018-10-28",{"$f":"TEXT(Y906,\"ddd\")","v":"zo"},"DD",{"$f":"IFERROR(HLOOKUP(Y906,[1]DATA!$A$1:$NB$5,3,0),\"\")","v":"-"},null,null,null,null,{"$f":"VLOOKUP(Y906,[1]SRM!$S$4:$Z$368,2,0)","v":0},"","",""]
["43zoMD",{"$f":"VLOOKUP($AA907,DATA!$B$3:$E907,2,0)","v":"14:30:00"},{"$f":"VLOOKUP($AA907,DATA!$B$3:$E907,3,0)","v":"22:30:00"},{"$f":"VLOOKUP($AA907,DATA!$B$3:$E907,4,0)","v":3.125E-2},0.30208333333333337,0.30208333333333337,{"$f":"DATA!$C$9","v":0.89},{"$f":"DATA!$C$10","v":64},1,407.81250000000006,407.81250000000006,0,"","",0,"","",0,"","","","",null,{"$f":"X898","v":43},null,{"$f":"TEXT(Y906,\"ddd\")","v":"zo"},"MD",{"$f":"IFERROR(HLOOKUP(Y906,[1]DATA!$A$1:$NB$5,4,0),\"\")","v":"-"},null,null,null,null,{"$f":"VLOOKUP(Y906,[1]SRM!$S$4:$Z$368,3,0)","v":0},"","",""]
["43zoZND",{"$f":"VLOOKUP($AA908,DATA!$B$3:$E908,2,0)","v":"00:00:00"},{"$f":"VLOOKUP($AA908,DATA!$B$3:$E908,3,0)","v":"00:00:00"},{"$f":"VLOOKUP($AA908,DATA!$B$3:$E908,4,0)","v":0},0,0,{"$f":"DATA!$C$9","v":0.89},{"$f":"DATA!$C$10","v":64},1,0,0,0,"","",0,"","",0,"","","","",null,{"$f":"X898","v":43},null,{"$f":"TEXT(Y906,\"ddd\")","v":"zo"},"ZND",{"$f":"IFERROR(HLOOKUP(Y906,[1]DATA!$A$1:$NB$5,5,0),\"\")","v":"-"},null,null,null,null,{"$f":"VLOOKUP(Y906,[1]SRM!$S$4:$Z$368,4,0)","v":0},"","",""]
["44maDD",{"$f":"VLOOKUP($AA909,DATA!$B$3:$E909,2,0)","v":"06:30:00"},{"$f":"VLOOKUP($AA909,DATA!$B$3:$E909,3,0)","v":"14:30:00"},{"$f":"VLOOKUP($AA909,DATA!$B$3:$E909,4,0)","v":3.125E-2},0.30208333333333331,0.30208333333333331,{"$f":"DATA!$C$9","v":0.89},{"$f":"DATA!$C$10","v":64},1,407.8125,407.8125,0,"","",{"$f":"TIME(INT($AD909/60),INT(MOD($AD909,60)/1),0)","v":0},"","",0,"","","","",null,{"$f":"X919","v":44},"2018-10-29",{"$f":"TEXT(Y909,\"ddd\")","v":"ma"},"DD",{"$f":"IFERROR(HLOOKUP(Y909,[1]DATA!$A$1:$NB$5,3,0),\"\")","v":"D3"},null,null,null,null,{"$f":"VLOOKUP(Y909,[1]SRM!$S$4:$Z$368,2,0)","v":0},"","","",{"$f":"IF(SUMIF(S909:S929,\">0\",K909:K929)=0,\"\",SUMIF(S909:S929,\">0\",K909:K929))","v":""},{"$f":"IF(SUM(S909:S929)=0,\"\",SUM(S909:S929))","v":""},{"$f":"IFERROR(AL909/AK909,\"-\")","v":"-"},{"$f":"IF(SUM(M909:M929)=0,\"0\",SUM(M909:M929))","v":"0"},{"$f":"IFERROR(AN909/AK909,\"-\")","v":"-"},{"$f":"IF(SUM(P909:P929)=0,0,SUM(P909:P929))","v":0},{"$f":"IFERROR(AP909/AK909,\"-\")","v":"-"},{"$f":"IFERROR(AVERAGE(AJ909:AJ929),\"-\")","v":"-"},{"$f":"IFERROR(SUMIF($AB909:$AB929,AS$5,$AJ909:$AJ929)/COUNTIFS($AB909:$AB929,AS$5,$AJ909:$AJ929,\">0\"),\"\")","v":""},"","",{"$f":"IFERROR((AK909-AL909-AN909-AP909),\"-\")","v":"-"},{"$f":"IFERROR((1-AM909-AO909-AQ909), \"-\")","v":"-"},{"$f":"IFERROR((AV909*$AE$2)/60,\"-\")","v":"-"},{"$f":"IFERROR(SUM(AG909:AG929),\"\")","v":0}]
["44maMD",{"$f":"VLOOKUP($AA910,DATA!$B$3:$E910,2,0)","v":"14:30:00"},{"$f":"VLOOKUP($AA910,DATA!$B$3:$E910,3,0)","v":"22:30:00"},{"$f":"VLOOKUP($AA910,DATA!$B$3:$E910,4,0)","v":3.125E-2},0.30208333333333337,0.30208333333333337,{"$f":"DATA!$C$9","v":0.89},{"$f":"DATA!$C$10","v":64},1,407.81250000000006,407.81250000000006,0,"","",{"$f":"TIME(INT(AD910/60),INT(MOD(AD910,60)/1),0)","v":0},"","",0,"","","","",null,{"$f":"X919","v":44},null,{"$f":"TEXT(Y909,\"ddd\")","v":"ma"},"MD",{"$f":"IFERROR(HLOOKUP(Y909,[1]DATA!$A$1:$NB$5,4,0),\"\")","v":"D2"},null,null,null,null,{"$f":"VLOOKUP(Y909,[1]SRM!$S$4:$Z$368,3,0)","v":0},"","",""]
["44maND",{"$f":"VLOOKUP($AA911,DATA!$B$3:$E911,2,0)","v":"22:30:00"},{"$f":"VLOOKUP($AA911,DATA!$B$3:$E911,3,0)","v":"06:30:00"},{"$f":"VLOOKUP($AA911,DATA!$B$3:$E911,4,0)","v":3.125E-2},0.30208333333333326,0.30208333333333326,{"$f":"DATA!$C$9","v":0.89},{"$f":"DATA!$C$10","v":64},1,407.81249999999989,407.81249999999989,0,"","",0,"","",0,"","","","",null,{"$f":"X919","v":44},null,{"$f":"TEXT(Y909,\"ddd\")","v":"ma"},"ND",{"$f":"IFERROR(HLOOKUP(Y909,[1]DATA!$A$1:$NB$5,5,0),\"\")","v":"D1"},null,null,null,null,{"$f":"VLOOKUP(Y909,[1]SRM!$S$4:$Z$368,4,0)","v":0},"","",""]
["44diDD",{"$f":"VLOOKUP($AA912,DATA!$B$3:$E912,2,0)","v":"06:30:00"},{"$f":"VLOOKUP($AA912,DATA!$B$3:$E912,3,0)","v":"14:30:00"},{"$f":"VLOOKUP($AA912,DATA!$B$3:$E912,4,0)","v":3.125E-2},0.30208333333333331,0.30208333333333331,{"$f":"DATA!$C$9","v":0.89},{"$f":"DATA!$C$10","v":64},1,407.8125,407.8125,0,"","",0,"","",0,"","","","",null,{"$f":"X919","v":44},"2018-10-30",{"$f":"TEXT(Y912,\"ddd\")","v":"di"},"DD",{"$f":"IFERROR(HLOOKUP(Y912,[1]DATA!$A$1:$NB$5,3,0),\"\")","v":"D3"},null,null,null,null,{"$f":"VLOOKUP(Y912,[1]SRM!$S$4:$Z$368,2,0)","v":0},"","",""]
["44diMD",{"$f":"VLOOKUP($AA913,DATA!$B$3:$E913,2,0)","v":"14:30:00"},{"$f":"VLOOKUP($AA913,DATA!$B$3:$E913,3,0)","v":"22:30:00"},{"$f":"VLOOKUP($AA913,DATA!$B$3:$E913,4,0)","v":3.125E-2},0.30208333333333337,0.30208333333333337,{"$f":"DATA!$C$9","v":0.89},{"$f":"DATA!$C$10","v":64},1,407.81250000000006,407.81250000000006,0,"","",0,"","",0,"","","","",null,{"$f":"X919","v":44},null,{"$f":"TEXT(Y912,\"ddd\")","v":"di"},"MD",{"$f":"IFERROR(HLOOKUP(Y912,[1]DATA!$A$1:$NB$5,4,0),\"\")","v":"D2"},null,null,null,null,{"$f":"VLOOKUP(Y912,[1]SRM!$S$4:$Z$368,3,0)","v":0},"","",""]
["44diND",{"$f":"VLOOKUP($AA914,DATA!$B$3:$E914,2,0)","v":"22:30:00"},{"$f":"VLOOKUP($AA914,DATA!$B$3:$E914,3,0)","v":"06:30:00"},{"$f":"VLOOKUP($AA914,DATA!$B$3:$E914,4,0)","v":3.125E-2},0.30208333333333326,0.30208333333333326,{"$f":"DATA!$C$9","v":0.89},{"$f":"DATA!$C$10","v":64},1,407.81249999999989,407.81249999999989,0,"","",0,"","",0,"","","","",null,{"$f":"X919","v":44},null,{"$f":"TEXT(Y912,\"ddd\")","v":"di"},"ND",{"$f":"IFERROR(HLOOKUP(Y912,[1]DATA!$A$1:$NB$5,5,0),\"\")","v":"D1"},null,null,null,null,{"$f":"VLOOKUP(Y912,[1]SRM!$S$4:$Z$368,4,0)","v":0},"","",""]
["44woDD",{"$f":"VLOOKUP($AA915,DATA!$B$3:$E915,2,0)","v":"06:30:00"},{"$f":"VLOOKUP($AA915,DATA!$B$3:$E915,3,0)","v":"14:30:00"},{"$f":"VLOOKUP($AA915,DATA!$B$3:$E915,4,0)","v":3.125E-2},0.30208333333333331,0.30208333333333331,{"$f":"DATA!$C$9","v":0.89},{"$f":"DATA!$C$10","v":64},1,407.8125,407.8125,0,"","",0,"","",0,"","","","",null,{"$f":"X919","v":44},"2018-10-31",{"$f":"TEXT(Y915,\"ddd\")","v":"wo"},"DD",{"$f":"IFERROR(HLOOKUP(Y915,[1]DATA!$A$1:$NB$5,3,0),\"\")","v":"D3"},null,null,null,null,{"$f":"VLOOKUP(Y915,[1]SRM!$S$4:$Z$368,2,0)","v":0},"","",""]
["44woMD",{"$f":"VLOOKUP($AA916,DATA!$B$3:$E916,2,0)","v":"14:30:00"},{"$f":"VLOOKUP($AA916,DATA!$B$3:$E916,3,0)","v":"22:30:00"},{"$f":"VLOOKUP($AA916,DATA!$B$3:$E916,4,0)","v":3.125E-2},0.30208333333333337,0.30208333333333337,{"$f":"DATA!$C$9","v":0.89},{"$f":"DATA!$C$10","v":64},1,407.81250000000006,407.81250000000006,0,"","",0,"","",0,"","","","",null,{"$f":"X919","v":44},null,{"$f":"TEXT(Y915,\"ddd\")","v":"wo"},"MD",{"$f":"IFERROR(HLOOKUP(Y915,[1]DATA!$A$1:$NB$5,4,0),\"\")","v":"D2"},null,null,null,null,{"$f":"VLOOKUP(Y915,[1]SRM!$S$4:$Z$368,3,0)","v":0},"","",""]
["44woND",{"$f":"VLOOKUP($AA917,DATA!$B$3:$E917,2,0)","v":"22:30:00"},{"$f":"VLOOKUP($AA917,DATA!$B$3:$E917,3,0)","v":"06:30:00"},{"$f":"VLOOKUP($AA917,DATA!$B$3:$E917,4,0)","v":3.125E-2},0.30208333333333326,0.30208333333333326,{"$f":"DATA!$C$9","v":0.89},{"$f":"DATA!$C$10","v":64},1,407.81249999999989,407.81249999999989,0,"","",0,"","",0,"","","","",null,{"$f":"X919","v":44},null,{"$f":"TEXT(Y915,\"ddd\")","v":"wo"},"ND",{"$f":"IFERROR(HLOOKUP(Y915,[1]DATA!$A$1:$NB$5,5,0),\"\")","v":"D1"},null,null,null,null,{"$f":"VLOOKUP(Y915,[1]SRM!$S$4:$Z$368,4,0)","v":0},"","",""]
["44doDD",{"$f":"VLOOKUP($AA918,DATA!$B$3:$E918,2,0)","v":"06:30:00"},{"$f":"VLOOKUP($AA918,DATA!$B$3:$E918,3,0)","v":"14:30:00"},{"$f":"VLOOKUP($AA918,DATA!$B$3:$E918,4,0)","v":3.125E-2},0.30208333333333331,0.30208333333333331,{"$f":"DATA!$C$9","v":0.89},{"$f":"DATA!$C$10","v":64},1,407.8125,407.8125,0,"","",0,"","",0,"","","","",null,{"$f":"X919","v":44},"2018-11-01",{"$f":"TEXT(Y918,\"ddd\")","v":"do"},"DD",{"$f":"IFERROR(HLOOKUP(Y918,[1]DATA!$A$1:$NB$5,3,0),\"\")","v":"D3"},null,null,null,null,{"$f":"VLOOKUP(Y918,[1]SRM!$S$4:$Z$368,2,0)","v":0},"","",""]
["44doMD",{"$f":"VLOOKUP($AA919,DATA!$B$3:$E919,2,0)","v":"14:30:00"},{"$f":"VLOOKUP($AA919,DATA!$B$3:$E919,3,0)","v":"22:30:00"},{"$f":"VLOOKUP($AA919,DATA!$B$3:$E919,4,0)","v":3.125E-2},0.30208333333333337,0.30208333333333337,{"$f":"DATA!$C$9","v":0.89},{"$f":"DATA!$C$10","v":64},1,407.81250000000006,407.81250000000006,0,"","",0,"","",0,"","","","",null,{"$f":"WEEKNUM($Y909)","v":44},null,{"$f":"TEXT(Y918,\"ddd\")","v":"do"},"MD",{"$f":"IFERROR(HLOOKUP(Y918,[1]DATA!$A$1:$NB$5,4,0),\"\")","v":"D2"},null,null,null,null,{"$f":"VLOOKUP(Y918,[1]SRM!$S$4:$Z$368,3,0)","v":0},"","",""]
["44doND",{"$f":"VLOOKUP($AA920,DATA!$B$3:$E920,2,0)","v":"22:30:00"},{"$f":"VLOOKUP($AA920,DATA!$B$3:$E920,3,0)","v":"06:30:00"},{"$f":"VLOOKUP($AA920,DATA!$B$3:$E920,4,0)","v":3.125E-2},0.30208333333333326,0.30208333333333326,{"$f":"DATA!$C$9","v":0.89},{"$f":"DATA!$C$10","v":64},1,407.81249999999989,407.81249999999989,0,"","",0,"","",0,"","","","",null,{"$f":"X919","v":44},null,{"$f":"TEXT(Y918,\"ddd\")","v":"do"},"ND",{"$f":"IFERROR(HLOOKUP(Y918,[1]DATA!$A$1:$NB$5,5,0),\"\")","v":"D1"},null,null,null,null,{"$f":"VLOOKUP(Y918,[1]SRM!$S$4:$Z$368,4,0)","v":0},"","",""]
["44vrDD",{"$f":"VLOOKUP($AA921,DATA!$B$3:$E921,2,0)","v":"06:30:00"},{"$f":"VLOOKUP($AA921,DATA!$B$3:$E921,3,0)","v":"14:30:00"},{"$f":"VLOOKUP($AA921,DATA!$B$3:$E921,4,0)","v":3.125E-2},0.30208333333333331,0.30208333333333331,{"$f":"DATA!$C$9","v":0.89},{"$f":"DATA!$C$10","v":64},1,407.8125,407.8125,0,"","",0,"","",0,"","","","",null,{"$f":"X919","v":44},"2018-11-02",{"$f":"TEXT(Y921,\"ddd\")","v":"vr"},"DD",{"$f":"IFERROR(HLOOKUP(Y921,[1]DATA!$A$1:$NB$5,3,0),\"\")","v":"D3"},null,null,null,null,{"$f":"VLOOKUP(Y921,[1]SRM!$S$4:$Z$368,2,0)","v":0},"","",""]
["44vrMD",{"$f":"VLOOKUP($AA922,DATA!$B$3:$E922,2,0)","v":"14:30:00"},{"$f":"VLOOKUP($AA922,DATA!$B$3:$E922,3,0)","v":"22:30:00"},{"$f":"VLOOKUP($AA922,DATA!$B$3:$E922,4,0)","v":3.125E-2},0.30208333333333337,0.30208333333333337,{"$f":"DATA!$C$9","v":0.89},{"$f":"DATA!$C$10","v":64},1,407.81250000000006,407.81250000000006,0,"","",0,"","",0,"","","","",null,{"$f":"X919","v":44},null,{"$f":"TEXT(Y921,\"ddd\")","v":"vr"},"MD",{"$f":"IFERROR(HLOOKUP(Y921,[1]DATA!$A$1:$NB$5,4,0),\"\")","v":"D2"},null,null,null,null,{"$f":"VLOOKUP(Y921,[1]SRM!$S$4:$Z$368,3,0)","v":0},"","",""]
["44vrND",{"$f":"VLOOKUP($AA923,DATA!$B$3:$E923,2,0)","v":"22:30:00"},{"$f":"VLOOKUP($AA923,DATA!$B$3:$E923,3,0)","v":"06:30:00"},{"$f":"VLOOKUP($AA923,DATA!$B$3:$E923,4,0)","v":3.125E-2},0.30208333333333326,0.30208333333333326,{"$f":"DATA!$C$9","v":0.89},{"$f":"DATA!$C$10","v":64},1,407.81249999999989,407.81249999999989,0,"","",0,"","",0,"","","","",null,{"$f":"X919","v":44},null,{"$f":"TEXT(Y921,\"ddd\")","v":"vr"},"ND",{"$f":"IFERROR(HLOOKUP(Y921,[1]DATA!$A$1:$NB$5,5,0),\"\")","v":"D2"},null,null,null,null,{"$f":"VLOOKUP(Y921,[1]SRM!$S$4:$Z$368,4,0)","v":0},"","",{"$f":"IFERROR(R923/(R923+AG923),\"\")","v":""}]
["44zaDD",{"$f":"VLOOKUP($AA924,DATA!$B$3:$E924,2,0)","v":"06:30:00"},{"$f":"VLOOKUP($AA924,DATA!$B$3:$E924,3,0)","v":"14:30:00"},{"$f":"VLOOKUP($AA924,DATA!$B$3:$E924,4,0)","v":3.125E-2},{"$f":"(C924-B924+(B924>C924))-D924","v":0.30208333333333331},{"$f":"E924-O924-L924","v":0.30208333333333331},{"$f":"DATA!$C$9","v":0.89},{"$f":"DATA!$C$10","v":64},1,407.8125,407.8125,0,"","",0,"","",0,"","","","",null,{"$f":"X919","v":44},"2018-11-03",{"$f":"TEXT(Y924,\"ddd\")","v":"za"},"DD",{"$f":"IFERROR(HLOOKUP(Y924,[1]DATA!$A$1:$NB$5,3,0),\"\")","v":"D3"},null,null,null,null,{"$f":"VLOOKUP(Y924,[1]SRM!$S$4:$Z$368,2,0)","v":0},"","",""]
["44zaMD",{"$f":"VLOOKUP($AA925,DATA!$B$3:$E925,2,0)","v":"14:30:00"},{"$f":"VLOOKUP($AA925,DATA!$B$3:$E925,3,0)","v":"22:30:00"},{"$f":"VLOOKUP($AA925,DATA!$B$3:$E925,4,0)","v":3.125E-2},0.30208333333333337,0.30208333333333337,{"$f":"DATA!$C$9","v":0.89},{"$f":"DATA!$C$10","v":64},1,407.81250000000006,407.81250000000006,0,"","",0,"","",0,"","","","",null,{"$f":"X919","v":44},null,{"$f":"TEXT(Y924,\"ddd\")","v":"za"},"MD",{"$f":"IFERROR(HLOOKUP(Y924,[1]DATA!$A$1:$NB$5,4,0),\"\")","v":"-"},null,null,null,null,{"$f":"VLOOKUP(Y924,[1]SRM!$S$4:$Z$368,3,0)","v":0},"","",""]
["44zaND",{"$f":"VLOOKUP($AA926,DATA!$B$3:$E926,2,0)","v":"22:30:00"},{"$f":"VLOOKUP($AA926,DATA!$B$3:$E926,3,0)","v":"06:30:00"},{"$f":"VLOOKUP($AA926,DATA!$B$3:$E926,4,0)","v":3.125E-2},0.30208333333333326,0.30208333333333326,{"$f":"DATA!$C$9","v":0.89},{"$f":"DATA!$C$10","v":64},1,407.81249999999989,407.81249999999989,0,"","",0,"","",0,"","","","",null,{"$f":"X919","v":44},null,{"$f":"TEXT(Y924,\"ddd\")","v":"za"},"ND",{"$f":"IFERROR(HLOOKUP(Y924,[1]DATA!$A$1:$NB$5,5,0),\"\")","v":"-"},null,null,null,null,{"$f":"VLOOKUP(Y924,[1]SRM!$S$4:$Z$368,4,0)","v":0},"","",""]
["44zoDD",{"$f":"VLOOKUP($AA927,DATA!$B$3:$E927,2,0)","v":"06:30:00"},{"$f":"VLOOKUP($AA927,DATA!$B$3:$E927,3,0)","v":"14:30:00"},{"$f":"VLOOKUP($AA927,DATA!$B$3:$E927,4,0)","v":3.125E-2},0.30208333333333331,0.30208333333333331,{"$f":"DATA!$C$9","v":0.89},{"$f":"DATA!$C$10","v":64},1,407.8125,407.8125,0,"","",0,"","",0,"","","","",null,{"$f":"X919","v":44},"2018-11-04",{"$f":"TEXT(Y927,\"ddd\")","v":"zo"},"DD",{"$f":"IFERROR(HLOOKUP(Y927,[1]DATA!$A$1:$NB$5,3,0),\"\")","v":"-"},null,null,null,null,{"$f":"VLOOKUP(Y927,[1]SRM!$S$4:$Z$368,2,0)","v":0},"","",""]
["44zoMD",{"$f":"VLOOKUP($AA928,DATA!$B$3:$E928,2,0)","v":"14:30:00"},{"$f":"VLOOKUP($AA928,DATA!$B$3:$E928,3,0)","v":"22:30:00"},{"$f":"VLOOKUP($AA928,DATA!$B$3:$E928,4,0)","v":3.125E-2},0.30208333333333337,0.30208333333333337,{"$f":"DATA!$C$9","v":0.89},{"$f":"DATA!$C$10","v":64},1,407.81250000000006,407.81250000000006,0,"","",0,"","",0,"","","","",null,{"$f":"X919","v":44},null,{"$f":"TEXT(Y927,\"ddd\")","v":"zo"},"MD",{"$f":"IFERROR(HLOOKUP(Y927,[1]DATA!$A$1:$NB$5,4,0),\"\")","v":"-"},null,null,null,null,{"$f":"VLOOKUP(Y927,[1]SRM!$S$4:$Z$368,3,0)","v":0},"","",""]
["44zoZND",{"$f":"VLOOKUP($AA929,DATA!$B$3:$E929,2,0)","v":"00:00:00"},{"$f":"VLOOKUP($AA929,DATA!$B$3:$E929,3,0)","v":"00:00:00"},{"$f":"VLOOKUP($AA929,DATA!$B$3:$E929,4,0)","v":0},0,0,{"$f":"DATA!$C$9","v":0.89},{"$f":"DATA!$C$10","v":64},1,0,0,0,"","",0,"","",0,"","","","",null,{"$f":"X919","v":44},null,{"$f":"TEXT(Y927,\"ddd\")","v":"zo"},"ZND",{"$f":"IFERROR(HLOOKUP(Y927,[1]DATA!$A$1:$NB$5,5,0),\"\")","v":"-"},null,null,null,null,{"$f":"VLOOKUP(Y927,[1]SRM!$S$4:$Z$368,4,0)","v":0},"","",""]
["45maDD",{"$f":"VLOOKUP($AA930,DATA!$B$3:$E930,2,0)","v":"06:30:00"},{"$f":"VLOOKUP($AA930,DATA!$B$3:$E930,3,0)","v":"14:30:00"},{"$f":"VLOOKUP($AA930,DATA!$B$3:$E930,4,0)","v":3.125E-2},0.30208333333333331,0.30208333333333331,{"$f":"DATA!$C$9","v":0.89},{"$f":"DATA!$C$10","v":64},1,407.8125,407.8125,0,"","",{"$f":"TIME(INT($AD930/60),INT(MOD($AD930,60)/1),0)","v":0},"","",0,"","","","",null,{"$f":"X940","v":45},"2018-11-05",{"$f":"TEXT(Y930,\"ddd\")","v":"ma"},"DD",{"$f":"IFERROR(HLOOKUP(Y930,[1]DATA!$A$1:$NB$5,3,0),\"\")","v":"D2"},null,null,null,null,{"$f":"VLOOKUP(Y930,[1]SRM!$S$4:$Z$368,2,0)","v":0},"","","",{"$f":"IF(SUMIF(S930:S950,\">0\",K930:K950)=0,\"\",SUMIF(S930:S950,\">0\",K930:K950))","v":""},{"$f":"IF(SUM(S930:S950)=0,\"\",SUM(S930:S950))","v":""},{"$f":"IFERROR(AL930/AK930,\"-\")","v":"-"},{"$f":"IF(SUM(M930:M950)=0,\"0\",SUM(M930:M950))","v":"0"},{"$f":"IFERROR(AN930/AK930,\"-\")","v":"-"},{"$f":"IF(SUM(P930:P950)=0,0,SUM(P930:P950))","v":0},{"$f":"IFERROR(AP930/AK930,\"-\")","v":"-"},{"$f":"IFERROR(AVERAGE(AJ930:AJ950),\"-\")","v":"-"},{"$f":"IFERROR(SUMIF($AB930:$AB950,AS$5,$AJ930:$AJ950)/COUNTIFS($AB930:$AB950,AS$5,$AJ930:$AJ950,\">0\"),\"\")","v":""},"","",{"$f":"IFERROR((AK930-AL930-AN930-AP930),\"-\")","v":"-"},{"$f":"IFERROR((1-AM930-AO930-AQ930), \"-\")","v":"-"},{"$f":"IFERROR((AV930*$AE$2)/60,\"-\")","v":"-"},{"$f":"IFERROR(SUM(AG930:AG950),\"\")","v":0}]
["45maMD",{"$f":"VLOOKUP($AA931,DATA!$B$3:$E931,2,0)","v":"14:30:00"},{"$f":"VLOOKUP($AA931,DATA!$B$3:$E931,3,0)","v":"22:30:00"},{"$f":"VLOOKUP($AA931,DATA!$B$3:$E931,4,0)","v":3.125E-2},0.30208333333333337,0.30208333333333337,{"$f":"DATA!$C$9","v":0.89},{"$f":"DATA!$C$10","v":64},1,407.81250000000006,407.81250000000006,0,"","",{"$f":"TIME(INT(AD931/60),INT(MOD(AD931,60)/1),0)","v":0},"","",0,"","","","",null,{"$f":"X940","v":45},null,{"$f":"TEXT(Y930,\"ddd\")","v":"ma"},"MD",{"$f":"IFERROR(HLOOKUP(Y930,[1]DATA!$A$1:$NB$5,4,0),\"\")","v":"D1"},null,null,null,null,{"$f":"VLOOKUP(Y930,[1]SRM!$S$4:$Z$368,3,0)","v":0},"","",""]
["45maND",{"$f":"VLOOKUP($AA932,DATA!$B$3:$E932,2,0)","v":"22:30:00"},{"$f":"VLOOKUP($AA932,DATA!$B$3:$E932,3,0)","v":"06:30:00"},{"$f":"VLOOKUP($AA932,DATA!$B$3:$E932,4,0)","v":3.125E-2},0.30208333333333326,0.30208333333333326,{"$f":"DATA!$C$9","v":0.89},{"$f":"DATA!$C$10","v":64},1,407.81249999999989,407.81249999999989,0,"","",0,"","",0,"","","","",null,{"$f":"X940","v":45},null,{"$f":"TEXT(Y930,\"ddd\")","v":"ma"},"ND",{"$f":"IFERROR(HLOOKUP(Y930,[1]DATA!$A$1:$NB$5,5,0),\"\")","v":"D3"},null,null,null,null,{"$f":"VLOOKUP(Y930,[1]SRM!$S$4:$Z$368,4,0)","v":0},"","",""]
["45diDD",{"$f":"VLOOKUP($AA933,DATA!$B$3:$E933,2,0)","v":"06:30:00"},{"$f":"VLOOKUP($AA933,DATA!$B$3:$E933,3,0)","v":"14:30:00"},{"$f":"VLOOKUP($AA933,DATA!$B$3:$E933,4,0)","v":3.125E-2},0.30208333333333331,0.30208333333333331,{"$f":"DATA!$C$9","v":0.89},{"$f":"DATA!$C$10","v":64},1,407.8125,407.8125,0,"","",0,"","",0,"","","","",null,{"$f":"X940","v":45},"2018-11-06",{"$f":"TEXT(Y933,\"ddd\")","v":"di"},"DD",{"$f":"IFERROR(HLOOKUP(Y933,[1]DATA!$A$1:$NB$5,3,0),\"\")","v":"D2"},null,null,null,null,{"$f":"VLOOKUP(Y933,[1]SRM!$S$4:$Z$368,2,0)","v":0},"","",""]
["45diMD",{"$f":"VLOOKUP($AA934,DATA!$B$3:$E934,2,0)","v":"14:30:00"},{"$f":"VLOOKUP($AA934,DATA!$B$3:$E934,3,0)","v":"22:30:00"},{"$f":"VLOOKUP($AA934,DATA!$B$3:$E934,4,0)","v":3.125E-2},0.30208333333333337,0.30208333333333337,{"$f":"DATA!$C$9","v":0.89},{"$f":"DATA!$C$10","v":64},1,407.81250000000006,407.81250000000006,0,"","",0,"","",0,"","","","",null,{"$f":"X940","v":45},null,{"$f":"TEXT(Y933,\"ddd\")","v":"di"},"MD",{"$f":"IFERROR(HLOOKUP(Y933,[1]DATA!$A$1:$NB$5,4,0),\"\")","v":"D1"},null,null,null,null,{"$f":"VLOOKUP(Y933,[1]SRM!$S$4:$Z$368,3,0)","v":0},"","",""]
["45diND",{"$f":"VLOOKUP($AA935,DATA!$B$3:$E935,2,0)","v":"22:30:00"},{"$f":"VLOOKUP($AA935,DATA!$B$3:$E935,3,0)","v":"06:30:00"},{"$f":"VLOOKUP($AA935,DATA!$B$3:$E935,4,0)","v":3.125E-2},0.30208333333333326,0.30208333333333326,{"$f":"DATA!$C$9","v":0.89},{"$f":"DATA!$C$10","v":64},1,407.81249999999989,407.81249999999989,0,"","",0,"","",0,"","","","",null,{"$f":"X940","v":45},null,{"$f":"TEXT(Y933,\"ddd\")","v":"di"},"ND",{"$f":"IFERROR(HLOOKUP(Y933,[1]DATA!$A$1:$NB$5,5,0),\"\")","v":"D3"},null,null,null,null,{"$f":"VLOOKUP(Y933,[1]SRM!$S$4:$Z$368,4,0)","v":0},"","",""]
["45woDD",{"$f":"VLOOKUP($AA936,DATA!$B$3:$E936,2,0)","v":"06:30:00"},{"$f":"VLOOKUP($AA936,DATA!$B$3:$E936,3,0)","v":"14:30:00"},{"$f":"VLOOKUP($AA936,DATA!$B$3:$E936,4,0)","v":3.125E-2},0.30208333333333331,0.30208333333333331,{"$f":"DATA!$C$9","v":0.89},{"$f":"DATA!$C$10","v":64},1,407.8125,407.8125,0,"","",0,"","",0,"","","","",null,{"$f":"X940","v":45},"2018-11-07",{"$f":"TEXT(Y936,\"ddd\")","v":"wo"},"DD",{"$f":"IFERROR(HLOOKUP(Y936,[1]DATA!$A$1:$NB$5,3,0),\"\")","v":"D2"},null,null,null,null,{"$f":"VLOOKUP(Y936,[1]SRM!$S$4:$Z$368,2,0)","v":0},"","",""]
["45woMD",{"$f":"VLOOKUP($AA937,DATA!$B$3:$E937,2,0)","v":"14:30:00"},{"$f":"VLOOKUP($AA937,DATA!$B$3:$E937,3,0)","v":"22:30:00"},{"$f":"VLOOKUP($AA937,DATA!$B$3:$E937,4,0)","v":3.125E-2},0.30208333333333337,0.30208333333333337,{"$f":"DATA!$C$9","v":0.89},{"$f":"DATA!$C$10","v":64},1,407.81250000000006,407.81250000000006,0,"","",0,"","",0,"","","","",null,{"$f":"X940","v":45},null,{"$f":"TEXT(Y936,\"ddd\")","v":"wo"},"MD",{"$f":"IFERROR(HLOOKUP(Y936,[1]DATA!$A$1:$NB$5,4,0),\"\")","v":"D1"},null,null,null,null,{"$f":"VLOOKUP(Y936,[1]SRM!$S$4:$Z$368,3,0)","v":0},"","",""]
["45woND",{"$f":"VLOOKUP($AA938,DATA!$B$3:$E938,2,0)","v":"22:30:00"},{"$f":"VLOOKUP($AA938,DATA!$B$3:$E938,3,0)","v":"06:30:00"},{"$f":"VLOOKUP($AA938,DATA!$B$3:$E938,4,0)","v":3.125E-2},0.30208333333333326,0.30208333333333326,{"$f":"DATA!$C$9","v":0.89},{"$f":"DATA!$C$10","v":64},1,407.81249999999989,407.81249999999989,0,"","",0,"","",0,"","","","",null,{"$f":"X940","v":45},null,{"$f":"TEXT(Y936,\"ddd\")","v":"wo"},"ND",{"$f":"IFERROR(HLOOKUP(Y936,[1]DATA!$A$1:$NB$5,5,0),\"\")","v":"D3"},null,null,null,null,{"$f":"VLOOKUP(Y936,[1]SRM!$S$4:$Z$368,4,0)","v":0},"","",""]
["45doDD",{"$f":"VLOOKUP($AA939,DATA!$B$3:$E939,2,0)","v":"06:30:00"},{"$f":"VLOOKUP($AA939,DATA!$B$3:$E939,3,0)","v":"14:30:00"},{"$f":"VLOOKUP($AA939,DATA!$B$3:$E939,4,0)","v":3.125E-2},0.30208333333333331,0.30208333333333331,{"$f":"DATA!$C$9","v":0.89},{"$f":"DATA!$C$10","v":64},1,407.8125,407.8125,0,"","",0,"","",0,"","","","",null,{"$f":"X940","v":45},"2018-11-08",{"$f":"TEXT(Y939,\"ddd\")","v":"do"},"DD",{"$f":"IFERROR(HLOOKUP(Y939,[1]DATA!$A$1:$NB$5,3,0),\"\")","v":"D2"},null,null,null,null,{"$f":"VLOOKUP(Y939,[1]SRM!$S$4:$Z$368,2,0)","v":0},"","",""]
["45doMD",{"$f":"VLOOKUP($AA940,DATA!$B$3:$E940,2,0)","v":"14:30:00"},{"$f":"VLOOKUP($AA940,DATA!$B$3:$E940,3,0)","v":"22:30:00"},{"$f":"VLOOKUP($AA940,DATA!$B$3:$E940,4,0)","v":3.125E-2},0.30208333333333337,0.30208333333333337,{"$f":"DATA!$C$9","v":0.89},{"$f":"DATA!$C$10","v":64},1,407.81250000000006,407.81250000000006,0,"","",0,"","",0,"","","","",null,{"$f":"WEEKNUM($Y930)","v":45},null,{"$f":"TEXT(Y939,\"ddd\")","v":"do"},"MD",{"$f":"IFERROR(HLOOKUP(Y939,[1]DATA!$A$1:$NB$5,4,0),\"\")","v":"D1"},null,null,null,null,{"$f":"VLOOKUP(Y939,[1]SRM!$S$4:$Z$368,3,0)","v":0},"","",""]
["45doND",{"$f":"VLOOKUP($AA941,DATA!$B$3:$E941,2,0)","v":"22:30:00"},{"$f":"VLOOKUP($AA941,DATA!$B$3:$E941,3,0)","v":"06:30:00"},{"$f":"VLOOKUP($AA941,DATA!$B$3:$E941,4,0)","v":3.125E-2},0.30208333333333326,0.30208333333333326,{"$f":"DATA!$C$9","v":0.89},{"$f":"DATA!$C$10","v":64},1,407.81249999999989,407.81249999999989,0,"","",0,"","",0,"","","","",null,{"$f":"X940","v":45},null,{"$f":"TEXT(Y939,\"ddd\")","v":"do"},"ND",{"$f":"IFERROR(HLOOKUP(Y939,[1]DATA!$A$1:$NB$5,5,0),\"\")","v":"D3"},null,null,null,null,{"$f":"VLOOKUP(Y939,[1]SRM!$S$4:$Z$368,4,0)","v":0},"","",""]
["45vrDD",{"$f":"VLOOKUP($AA942,DATA!$B$3:$E942,2,0)","v":"06:30:00"},{"$f":"VLOOKUP($AA942,DATA!$B$3:$E942,3,0)","v":"14:30:00"},{"$f":"VLOOKUP($AA942,DATA!$B$3:$E942,4,0)","v":3.125E-2},0.30208333333333331,0.30208333333333331,{"$f":"DATA!$C$9","v":0.89},{"$f":"DATA!$C$10","v":64},1,407.8125,407.8125,0,"","",0,"","",0,"","","","",null,{"$f":"X940","v":45},"2018-11-09",{"$f":"TEXT(Y942,\"ddd\")","v":"vr"},"DD",{"$f":"IFERROR(HLOOKUP(Y942,[1]DATA!$A$1:$NB$5,3,0),\"\")","v":"D2"},null,null,null,null,{"$f":"VLOOKUP(Y942,[1]SRM!$S$4:$Z$368,2,0)","v":0},"","",""]
["45vrMD",{"$f":"VLOOKUP($AA943,DATA!$B$3:$E943,2,0)","v":"14:30:00"},{"$f":"VLOOKUP($AA943,DATA!$B$3:$E943,3,0)","v":"22:30:00"},{"$f":"VLOOKUP($AA943,DATA!$B$3:$E943,4,0)","v":3.125E-2},0.30208333333333337,0.30208333333333337,{"$f":"DATA!$C$9","v":0.89},{"$f":"DATA!$C$10","v":64},1,407.81250000000006,407.81250000000006,0,"","",0,"","",0,"","","","",null,{"$f":"X940","v":45},null,{"$f":"TEXT(Y942,\"ddd\")","v":"vr"},"MD",{"$f":"IFERROR(HLOOKUP(Y942,[1]DATA!$A$1:$NB$5,4,0),\"\")","v":"D1"},null,null,null,null,{"$f":"VLOOKUP(Y942,[1]SRM!$S$4:$Z$368,3,0)","v":0},"","",""]
[{"$f":"X944&Z944&AA944","v":"45vrND"},{"$f":"VLOOKUP($AA944,DATA!$B$3:$E944,2,0)","v":"22:30:00"},{"$f":"VLOOKUP($AA944,DATA!$B$3:$E944,3,0)","v":"06:30:00"},{"$f":"VLOOKUP($AA944,DATA!$B$3:$E944,4,0)","v":3.125E-2},0.30208333333333326,0.30208333333333326,{"$f":"DATA!$C$9","v":0.89},{"$f":"DATA!$C$10","v":64},1,407.81249999999989,407.81249999999989,0,"","",0,{"$f":"IF($O944*86400/$H944=0,\"\",$O944*86400/$H944)","v":""},"",0,"","","","",null,{"$f":"X940","v":45},null,{"$f":"TEXT(Y942,\"ddd\")","v":"vr"},"ND",{"$f":"IFERROR(HLOOKUP(Y942,[1]DATA!$A$1:$NB$5,5,0),\"\")","v":"D3"},null,null,null,null,{"$f":"VLOOKUP(Y942,[1]SRM!$S$4:$Z$368,4,0)","v":0},"","",""]
["45zaDD",{"$f":"VLOOKUP($AA945,DATA!$B$3:$E945,2,0)","v":"06:30:00"},{"$f":"VLOOKUP($AA945,DATA!$B$3:$E945,3,0)","v":"14:30:00"},{"$f":"VLOOKUP($AA945,DATA!$B$3:$E945,4,0)","v":3.125E-2},0.30208333333333331,0.30208333333333331,{"$f":"DATA!$C$9","v":0.89},{"$f":"DATA!$C$10","v":64},1,407.8125,407.8125,0,"","",0,"","",0,"","","","",null,{"$f":"X940","v":45},"2018-11-10",{"$f":"TEXT(Y945,\"ddd\")","v":"za"},"DD",{"$f":"IFERROR(HLOOKUP(Y945,[1]DATA!$A$1:$NB$5,3,0),\"\")","v":"D2"},null,null,null,null,{"$f":"VLOOKUP(Y945,[1]SRM!$S$4:$Z$368,2,0)","v":0},"","",""]
["45zaMD",{"$f":"VLOOKUP($AA946,DATA!$B$3:$E946,2,0)","v":"14:30:00"},{"$f":"VLOOKUP($AA946,DATA!$B$3:$E946,3,0)","v":"22:30:00"},{"$f":"VLOOKUP($AA946,DATA!$B$3:$E946,4,0)","v":3.125E-2},0.30208333333333337,0.30208333333333337,{"$f":"DATA!$C$9","v":0.89},{"$f":"DATA!$C$10","v":64},1,407.81250000000006,407.81250000000006,0,"","",0,"","",0,"","","","",null,{"$f":"X940","v":45},null,{"$f":"TEXT(Y945,\"ddd\")","v":"za"},"MD",{"$f":"IFERROR(HLOOKUP(Y945,[1]DATA!$A$1:$NB$5,4,0),\"\")","v":"-"},null,null,null,null,{"$f":"VLOOKUP(Y945,[1]SRM!$S$4:$Z$368,3,0)","v":0},"","",""]
["45zaND",{"$f":"VLOOKUP($AA947,DATA!$B$3:$E947,2,0)","v":"22:30:00"},{"$f":"VLOOKUP($AA947,DATA!$B$3:$E947,3,0)","v":"06:30:00"},{"$f":"VLOOKUP($AA947,DATA!$B$3:$E947,4,0)","v":3.125E-2},0.30208333333333326,0.30208333333333326,{"$f":"DATA!$C$9","v":0.89},{"$f":"DATA!$C$10","v":64},1,407.81249999999989,407.81249999999989,0,"","",0,"","",0,"","","","",null,{"$f":"X940","v":45},null,{"$f":"TEXT(Y945,\"ddd\")","v":"za"},"ND",{"$f":"IFERROR(HLOOKUP(Y945,[1]DATA!$A$1:$NB$5,5,0),\"\")","v":"-"},null,null,null,null,{"$f":"VLOOKUP(Y945,[1]SRM!$S$4:$Z$368,4,0)","v":0},"","",""]
["45zoDD",{"$f":"VLOOKUP($AA948,DATA!$B$3:$E948,2,0)","v":"06:30:00"},{"$f":"VLOOKUP($AA948,DATA!$B$3:$E948,3,0)","v":"14:30:00"},{"$f":"VLOOKUP($AA948,DATA!$B$3:$E948,4,0)","v":3.125E-2},0.30208333333333331,0.30208333333333331,{"$f":"DATA!$C$9","v":0.89},{"$f":"DATA!$C$10","v":64},1,407.8125,407.8125,0,"","",0,"","",0,"","","","",null,{"$f":"X940","v":45},"2018-11-11",{"$f":"TEXT(Y948,\"ddd\")","v":"zo"},"DD",{"$f":"IFERROR(HLOOKUP(Y948,[1]DATA!$A$1:$NB$5,3,0),\"\")","v":"-"},null,null,null,null,{"$f":"VLOOKUP(Y948,[1]SRM!$S$4:$Z$368,2,0)","v":0},"","",""]
["45zoMD",{"$f":"VLOOKUP($AA949,DATA!$B$3:$E949,2,0)","v":"14:30:00"},{"$f":"VLOOKUP($AA949,DATA!$B$3:$E949,3,0)","v":"22:30:00"},{"$f":"VLOOKUP($AA949,DATA!$B$3:$E949,4,0)","v":3.125E-2},0.30208333333333337,0.30208333333333337,{"$f":"DATA!$C$9","v":0.89},{"$f":"DATA!$C$10","v":64},1,407.81250000000006,407.81250000000006,0,"","",0,"","",0,"","","","",null,{"$f":"X940","v":45},null,{"$f":"TEXT(Y948,\"ddd\")","v":"zo"},"MD",{"$f":"IFERROR(HLOOKUP(Y948,[1]DATA!$A$1:$NB$5,4,0),\"\")","v":"-"},null,null,null,null,{"$f":"VLOOKUP(Y948,[1]SRM!$S$4:$Z$368,3,0)","v":0},"","",""]
["45zoZND",{"$f":"VLOOKUP($AA950,DATA!$B$3:$E950,2,0)","v":"00:00:00"},{"$f":"VLOOKUP($AA950,DATA!$B$3:$E950,3,0)","v":"00:00:00"},{"$f":"VLOOKUP($AA950,DATA!$B$3:$E950,4,0)","v":0},0,0,{"$f":"DATA!$C$9","v":0.89},{"$f":"DATA!$C$10","v":64},1,0,0,0,"","",0,"","",0,"","","","",null,{"$f":"X940","v":45},null,{"$f":"TEXT(Y948,\"ddd\")","v":"zo"},"ZND",{"$f":"IFERROR(HLOOKUP(Y948,[1]DATA!$A$1:$NB$5,5,0),\"\")","v":"-"},null,null,null,null,{"$f":"VLOOKUP(Y948,[1]SRM!$S$4:$Z$368,4,0)","v":0},"","",""]
["46maDD",{"$f":"VLOOKUP($AA951,DATA!$B$3:$E951,2,0)","v":"06:30:00"},{"$f":"VLOOKUP($AA951,DATA!$B$3:$E951,3,0)","v":"14:30:00"},{"$f":"VLOOKUP($AA951,DATA!$B$3:$E951,4,0)","v":3.125E-2},0.30208333333333331,0.30208333333333331,{"$f":"DATA!$C$9","v":0.89},{"$f":"DATA!$C$10","v":64},1,407.8125,407.8125,0,"","",{"$f":"TIME(INT($AD951/60),INT(MOD($AD951,60)/1),0)","v":0},"","",0,"","","","",null,{"$f":"X961","v":46},"2018-11-12",{"$f":"TEXT(Y951,\"ddd\")","v":"ma"},"DD",{"$f":"IFERROR(HLOOKUP(Y951,[1]DATA!$A$1:$NB$5,3,0),\"\")","v":"D1"},null,null,null,null,{"$f":"VLOOKUP(Y951,[1]SRM!$S$4:$Z$368,2,0)","v":0},"","","",{"$f":"IF(SUMIF(S951:S971,\">0\",K951:K971)=0,\"\",SUMIF(S951:S971,\">0\",K951:K971))","v":""},{"$f":"IF(SUM(S951:S971)=0,\"\",SUM(S951:S971))","v":""},{"$f":"IFERROR(AL951/AK951,\"-\")","v":"-"},{"$f":"IF(SUM(M951:M971)=0,\"0\",SUM(M951:M971))","v":"0"},{"$f":"IFERROR(AN951/AK951,\"-\")","v":"-"},{"$f":"IF(SUM(P951:P971)=0,0,SUM(P951:P971))","v":0},{"$f":"IFERROR(AP951/AK951,\"-\")","v":"-"},{"$f":"IFERROR(AVERAGE(AJ951:AJ971),\"-\")","v":"-"},{"$f":"IFERROR(SUMIF($AB951:$AB971,AS$5,$AJ951:$AJ971)/COUNTIFS($AB951:$AB971,AS$5,$AJ951:$AJ971,\">0\"),\"\")","v":""},"","",{"$f":"IFERROR((AK951-AL951-AN951-AP951),\"-\")","v":"-"},{"$f":"IFERROR((1-AM951-AO951-AQ951), \"-\")","v":"-"},{"$f":"IFERROR((AV951*$AE$2)/60,\"-\")","v":"-"},{"$f":"IFERROR(SUM(AG951:AG971),\"\")","v":0}]
["46maMD",{"$f":"VLOOKUP($AA952,DATA!$B$3:$E952,2,0)","v":"14:30:00"},{"$f":"VLOOKUP($AA952,DATA!$B$3:$E952,3,0)","v":"22:30:00"},{"$f":"VLOOKUP($AA952,DATA!$B$3:$E952,4,0)","v":3.125E-2},0.30208333333333337,0.30208333333333337,{"$f":"DATA!$C$9","v":0.89},{"$f":"DATA!$C$10","v":64},1,407.81250000000006,407.81250000000006,0,"","",{"$f":"TIME(INT(AD952/60),INT(MOD(AD952,60)/1),0)","v":0},"","",0,"","","","",null,{"$f":"X961","v":46},null,{"$f":"TEXT(Y951,\"ddd\")","v":"ma"},"MD",{"$f":"IFERROR(HLOOKUP(Y951,[1]DATA!$A$1:$NB$5,4,0),\"\")","v":"D3"},null,null,null,null,{"$f":"VLOOKUP(Y951,[1]SRM!$S$4:$Z$368,3,0)","v":0},"","",""]
["46maND",{"$f":"VLOOKUP($AA953,DATA!$B$3:$E953,2,0)","v":"22:30:00"},{"$f":"VLOOKUP($AA953,DATA!$B$3:$E953,3,0)","v":"06:30:00"},{"$f":"VLOOKUP($AA953,DATA!$B$3:$E953,4,0)","v":3.125E-2},0.30208333333333326,0.30208333333333326,{"$f":"DATA!$C$9","v":0.89},{"$f":"DATA!$C$10","v":64},1,407.81249999999989,407.81249999999989,0,"","",0,"","",0,"","","","",null,{"$f":"X961","v":46},null,{"$f":"TEXT(Y951,\"ddd\")","v":"ma"},"ND",{"$f":"IFERROR(HLOOKUP(Y951,[1]DATA!$A$1:$NB$5,5,0),\"\")","v":"D2"},null,null,null,null,{"$f":"VLOOKUP(Y951,[1]SRM!$S$4:$Z$368,4,0)","v":0},"","",""]
["46diDD",{"$f":"VLOOKUP($AA954,DATA!$B$3:$E954,2,0)","v":"06:30:00"},{"$f":"VLOOKUP($AA954,DATA!$B$3:$E954,3,0)","v":"14:30:00"},{"$f":"VLOOKUP($AA954,DATA!$B$3:$E954,4,0)","v":3.125E-2},0.30208333333333331,0.30208333333333331,{"$f":"DATA!$C$9","v":0.89},{"$f":"DATA!$C$10","v":64},1,407.8125,407.8125,0,"","",0,"","",0,"","","","",null,{"$f":"X961","v":46},"2018-11-13",{"$f":"TEXT(Y954,\"ddd\")","v":"di"},"DD",{"$f":"IFERROR(HLOOKUP(Y954,[1]DATA!$A$1:$NB$5,3,0),\"\")","v":"D1"},null,null,null,null,{"$f":"VLOOKUP(Y954,[1]SRM!$S$4:$Z$368,2,0)","v":0},"","",""]
["46diMD",{"$f":"VLOOKUP($AA955,DATA!$B$3:$E955,2,0)","v":"14:30:00"},{"$f":"VLOOKUP($AA955,DATA!$B$3:$E955,3,0)","v":"22:30:00"},{"$f":"VLOOKUP($AA955,DATA!$B$3:$E955,4,0)","v":3.125E-2},0.30208333333333337,0.30208333333333337,{"$f":"DATA!$C$9","v":0.89},{"$f":"DATA!$C$10","v":64},1,407.81250000000006,407.81250000000006,0,"","",0,"","",0,"","","","",null,{"$f":"X961","v":46},null,{"$f":"TEXT(Y954,\"ddd\")","v":"di"},"MD",{"$f":"IFERROR(HLOOKUP(Y954,[1]DATA!$A$1:$NB$5,4,0),\"\")","v":"D3"},null,null,null,null,{"$f":"VLOOKUP(Y954,[1]SRM!$S$4:$Z$368,3,0)","v":0},"","",""]
["46diND",{"$f":"VLOOKUP($AA956,DATA!$B$3:$E956,2,0)","v":"22:30:00"},{"$f":"VLOOKUP($AA956,DATA!$B$3:$E956,3,0)","v":"06:30:00"},{"$f":"VLOOKUP($AA956,DATA!$B$3:$E956,4,0)","v":3.125E-2},0.30208333333333326,0.30208333333333326,{"$f":"DATA!$C$9","v":0.89},{"$f":"DATA!$C$10","v":64},1,407.81249999999989,407.81249999999989,0,"","",0,"","",0,"","","","",null,{"$f":"X961","v":46},null,{"$f":"TEXT(Y954,\"ddd\")","v":"di"},"ND",{"$f":"IFERROR(HLOOKUP(Y954,[1]DATA!$A$1:$NB$5,5,0),\"\")","v":"D2"},null,null,null,null,{"$f":"VLOOKUP(Y954,[1]SRM!$S$4:$Z$368,4,0)","v":0},"","",""]
["46woDD",{"$f":"VLOOKUP($AA957,DATA!$B$3:$E957,2,0)","v":"06:30:00"},{"$f":"VLOOKUP($AA957,DATA!$B$3:$E957,3,0)","v":"14:30:00"},{"$f":"VLOOKUP($AA957,DATA!$B$3:$E957,4,0)","v":3.125E-2},0.30208333333333331,0.30208333333333331,{"$f":"DATA!$C$9","v":0.89},{"$f":"DATA!$C$10","v":64},1,407.8125,407.8125,0,"","",0,"","",0,"","","","",null,{"$f":"X961","v":46},{"$f":"Y954+1","v":"2018-11-14"},{"$f":"TEXT(Y957,\"ddd\")","v":"wo"},"DD",{"$f":"IFERROR(HLOOKUP(Y957,[1]DATA!$A$1:$NB$5,3,0),\"\")","v":"D1"},null,null,null,null,{"$f":"VLOOKUP(Y957,[1]SRM!$S$4:$Z$368,2,0)","v":0},"","",""]
["46woMD",{"$f":"VLOOKUP($AA958,DATA!$B$3:$E958,2,0)","v":"14:30:00"},{"$f":"VLOOKUP($AA958,DATA!$B$3:$E958,3,0)","v":"22:30:00"},{"$f":"VLOOKUP($AA958,DATA!$B$3:$E958,4,0)","v":3.125E-2},0.30208333333333337,0.30208333333333337,{"$f":"DATA!$C$9","v":0.89},{"$f":"DATA!$C$10","v":64},1,407.81250000000006,407.81250000000006,0,"","",0,"","",0,"","","","",null,{"$f":"X961","v":46},null,{"$f":"TEXT(Y957,\"ddd\")","v":"wo"},"MD",{"$f":"IFERROR(HLOOKUP(Y957,[1]DATA!$A$1:$NB$5,4,0),\"\")","v":"D3"},null,null,null,null,{"$f":"VLOOKUP(Y957,[1]SRM!$S$4:$Z$368,3,0)","v":0},"","",""]
["46woND",{"$f":"VLOOKUP($AA959,DATA!$B$3:$E959,2,0)","v":"22:30:00"},{"$f":"VLOOKUP($AA959,DATA!$B$3:$E959,3,0)","v":"06:30:00"},{"$f":"VLOOKUP($AA959,DATA!$B$3:$E959,4,0)","v":3.125E-2},0.30208333333333326,0.30208333333333326,{"$f":"DATA!$C$9","v":0.89},{"$f":"DATA!$C$10","v":64},1,407.81249999999989,407.81249999999989,0,"","",0,"","",0,"","","","",null,{"$f":"X961","v":46},null,{"$f":"TEXT(Y957,\"ddd\")","v":"wo"},"ND",{"$f":"IFERROR(HLOOKUP(Y957,[1]DATA!$A$1:$NB$5,5,0),\"\")","v":"D2"},null,null,null,null,{"$f":"VLOOKUP(Y957,[1]SRM!$S$4:$Z$368,4,0)","v":0},"","",""]
["46doDD",{"$f":"VLOOKUP($AA960,DATA!$B$3:$E960,2,0)","v":"06:30:00"},{"$f":"VLOOKUP($AA960,DATA!$B$3:$E960,3,0)","v":"14:30:00"},{"$f":"VLOOKUP($AA960,DATA!$B$3:$E960,4,0)","v":3.125E-2},0.30208333333333331,0.30208333333333331,{"$f":"DATA!$C$9","v":0.89},{"$f":"DATA!$C$10","v":64},1,407.8125,407.8125,0,"","",0,"","",0,"","","","",null,{"$f":"X961","v":46},"2018-11-15",{"$f":"TEXT(Y960,\"ddd\")","v":"do"},"DD",{"$f":"IFERROR(HLOOKUP(Y960,[1]DATA!$A$1:$NB$5,3,0),\"\")","v":"D1"},null,null,null,null,{"$f":"VLOOKUP(Y960,[1]SRM!$S$4:$Z$368,2,0)","v":0},"","",""]
["46doMD",{"$f":"VLOOKUP($AA961,DATA!$B$3:$E961,2,0)","v":"14:30:00"},{"$f":"VLOOKUP($AA961,DATA!$B$3:$E961,3,0)","v":"22:30:00"},{"$f":"VLOOKUP($AA961,DATA!$B$3:$E961,4,0)","v":3.125E-2},0.30208333333333337,0.30208333333333337,{"$f":"DATA!$C$9","v":0.89},{"$f":"DATA!$C$10","v":64},1,407.81250000000006,407.81250000000006,0,"","",0,"","",0,"","","","",null,{"$f":"WEEKNUM($Y951)","v":46},null,{"$f":"TEXT(Y960,\"ddd\")","v":"do"},"MD",{"$f":"IFERROR(HLOOKUP(Y960,[1]DATA!$A$1:$NB$5,4,0),\"\")","v":"D3"},null,null,null,null,{"$f":"VLOOKUP(Y960,[1]SRM!$S$4:$Z$368,3,0)","v":0},"","",""]
["46doND",{"$f":"VLOOKUP($AA962,DATA!$B$3:$E962,2,0)","v":"22:30:00"},{"$f":"VLOOKUP($AA962,DATA!$B$3:$E962,3,0)","v":"06:30:00"},{"$f":"VLOOKUP($AA962,DATA!$B$3:$E962,4,0)","v":3.125E-2},0.30208333333333326,0.30208333333333326,{"$f":"DATA!$C$9","v":0.89},{"$f":"DATA!$C$10","v":64},1,407.81249999999989,407.81249999999989,0,"","",0,"","",0,"","","","",null,{"$f":"X961","v":46},null,{"$f":"TEXT(Y960,\"ddd\")","v":"do"},"ND",{"$f":"IFERROR(HLOOKUP(Y960,[1]DATA!$A$1:$NB$5,5,0),\"\")","v":"D2"},null,null,null,null,{"$f":"VLOOKUP(Y960,[1]SRM!$S$4:$Z$368,4,0)","v":0},"","",""]
["46vrDD",{"$f":"VLOOKUP($AA963,DATA!$B$3:$E963,2,0)","v":"06:30:00"},{"$f":"VLOOKUP($AA963,DATA!$B$3:$E963,3,0)","v":"14:30:00"},{"$f":"VLOOKUP($AA963,DATA!$B$3:$E963,4,0)","v":3.125E-2},0.30208333333333331,0.30208333333333331,{"$f":"DATA!$C$9","v":0.89},{"$f":"DATA!$C$10","v":64},1,407.8125,407.8125,0,"","",0,"","",0,"","","","",null,{"$f":"X961","v":46},"2018-11-16",{"$f":"TEXT(Y963,\"ddd\")","v":"vr"},"DD",{"$f":"IFERROR(HLOOKUP(Y963,[1]DATA!$A$1:$NB$5,3,0),\"\")","v":"D1"},null,null,null,null,{"$f":"VLOOKUP(Y963,[1]SRM!$S$4:$Z$368,2,0)","v":0},"","",""]
["46vrMD",{"$f":"VLOOKUP($AA964,DATA!$B$3:$E964,2,0)","v":"14:30:00"},{"$f":"VLOOKUP($AA964,DATA!$B$3:$E964,3,0)","v":"22:30:00"},{"$f":"VLOOKUP($AA964,DATA!$B$3:$E964,4,0)","v":3.125E-2},0.30208333333333337,0.30208333333333337,{"$f":"DATA!$C$9","v":0.89},{"$f":"DATA!$C$10","v":64},1,407.81250000000006,407.81250000000006,0,"","",0,"","",0,"","","","",null,{"$f":"X961","v":46},null,{"$f":"TEXT(Y963,\"ddd\")","v":"vr"},"MD",{"$f":"IFERROR(HLOOKUP(Y963,[1]DATA!$A$1:$NB$5,4,0),\"\")","v":"D3"},null,null,null,null,{"$f":"VLOOKUP(Y963,[1]SRM!$S$4:$Z$368,3,0)","v":0},"","",""]
["46vrND",{"$f":"VLOOKUP($AA965,DATA!$B$3:$E965,2,0)","v":"22:30:00"},{"$f":"VLOOKUP($AA965,DATA!$B$3:$E965,3,0)","v":"06:30:00"},{"$f":"VLOOKUP($AA965,DATA!$B$3:$E965,4,0)","v":3.125E-2},0.30208333333333326,0.30208333333333326,{"$f":"DATA!$C$9","v":0.89},{"$f":"DATA!$C$10","v":64},1,407.81249999999989,407.81249999999989,0,"","",0,"","",0,"","","","",null,{"$f":"X961","v":46},null,{"$f":"TEXT(Y963,\"ddd\")","v":"vr"},"ND",{"$f":"IFERROR(HLOOKUP(Y963,[1]DATA!$A$1:$NB$5,5,0),\"\")","v":"D2"},null,null,null,null,{"$f":"VLOOKUP(Y963,[1]SRM!$S$4:$Z$368,4,0)","v":0},"","",""]
["46zaDD",{"$f":"VLOOKUP($AA966,DATA!$B$3:$E966,2,0)","v":"06:30:00"},{"$f":"VLOOKUP($AA966,DATA!$B$3:$E966,3,0)","v":"14:30:00"},{"$f":"VLOOKUP($AA966,DATA!$B$3:$E966,4,0)","v":3.125E-2},0.30208333333333331,0.30208333333333331,{"$f":"DATA!$C$9","v":0.89},{"$f":"DATA!$C$10","v":64},1,{"$f":"F966*86400/H966*I966","v":407.8125},{"$f":"E966*86400/H966","v":407.8125},0,"","",0,"","",{"$f":"AF966*AG$2","v":0},{"$f":"IF(AF966-AE966=0,\"\",AF966-AE966)","v":""},"","","",null,{"$f":"X961","v":46},"2018-11-17",{"$f":"TEXT(Y966,\"ddd\")","v":"za"},"DD",{"$f":"IFERROR(HLOOKUP(Y966,[1]DATA!$A$1:$NB$5,3,0),\"\")","v":"D1"},null,null,null,null,{"$f":"VLOOKUP(Y966,[1]SRM!$S$4:$Z$368,2,0)","v":0},{"$f":"IFERROR(S966-J966,\"\")","v":""},{"$f":"IFERROR(IF(S966/(E966*86400/H966)<=0,\"\",S966/(E966*86400/H966)),\"\")","v":""},""]
["46zaMD",{"$f":"VLOOKUP($AA967,DATA!$B$3:$E967,2,0)","v":"14:30:00"},{"$f":"VLOOKUP($AA967,DATA!$B$3:$E967,3,0)","v":"22:30:00"},{"$f":"VLOOKUP($AA967,DATA!$B$3:$E967,4,0)","v":3.125E-2},0.30208333333333337,0.30208333333333337,{"$f":"DATA!$C$9","v":0.89},{"$f":"DATA!$C$10","v":64},1,407.81250000000006,407.81250000000006,{"$f":"TIME(INT($AC967/60),INT(MOD($AC967,60)/1),0)","v":0},{"$f":"IF($L967*86400/$H967=0,\"\",$L967*86400/$H967)","v":""},{"$f":"IFERROR($M967/$K967,\"\")","v":""},0,"",{"$f":"IFERROR($P967/$K967,\"\")","v":""},0,"",{"$f":"IF(IF($AB967=\"D1\",$S967,\"\")=0,\"\",IF($AB967=\"D1\",$S967,\"\"))","v":""},{"$f":"IF(IF($AB967=\"D2\",$S967,\"\")=0,\"\",IF($AB967=\"D2\",$S967,\"\"))","v":""},{"$f":"IF(IF($AB967=\"D3\",$S967,\"\")=0,\"\",IF($AB967=\"D3\",$S967,\"\"))","v":""},null,{"$f":"X961","v":46},null,{"$f":"TEXT(Y966,\"ddd\")","v":"za"},"MD",{"$f":"IFERROR(HLOOKUP(Y966,[1]DATA!$A$1:$NB$5,4,0),\"\")","v":"-"},null,null,null,null,{"$f":"VLOOKUP(Y966,[1]SRM!$S$4:$Z$368,3,0)","v":0},"","",""]
["46zaND",{"$f":"VLOOKUP($AA968,DATA!$B$3:$E968,2,0)","v":"22:30:00"},{"$f":"VLOOKUP($AA968,DATA!$B$3:$E968,3,0)","v":"06:30:00"},{"$f":"VLOOKUP($AA968,DATA!$B$3:$E968,4,0)","v":3.125E-2},0.30208333333333326,0.30208333333333326,{"$f":"DATA!$C$9","v":0.89},{"$f":"DATA!$C$10","v":64},1,407.81249999999989,407.81249999999989,0,"","",0,"","",0,"","","","",null,{"$f":"X961","v":46},null,{"$f":"TEXT(Y966,\"ddd\")","v":"za"},"ND",{"$f":"IFERROR(HLOOKUP(Y966,[1]DATA!$A$1:$NB$5,5,0),\"\")","v":"-"},null,null,null,null,{"$f":"VLOOKUP(Y966,[1]SRM!$S$4:$Z$368,4,0)","v":0},"","",""]
["46zoDD",{"$f":"VLOOKUP($AA969,DATA!$B$3:$E969,2,0)","v":"06:30:00"},{"$f":"VLOOKUP($AA969,DATA!$B$3:$E969,3,0)","v":"14:30:00"},{"$f":"VLOOKUP($AA969,DATA!$B$3:$E969,4,0)","v":3.125E-2},0.30208333333333331,0.30208333333333331,{"$f":"DATA!$C$9","v":0.89},{"$f":"DATA!$C$10","v":64},1,407.8125,407.8125,0,"","",0,"","",0,"","","","",null,{"$f":"X961","v":46},"2018-11-18",{"$f":"TEXT(Y969,\"ddd\")","v":"zo"},"DD",{"$f":"IFERROR(HLOOKUP(Y969,[1]DATA!$A$1:$NB$5,3,0),\"\")","v":"-"},null,null,null,null,{"$f":"VLOOKUP(Y969,[1]SRM!$S$4:$Z$368,2,0)","v":0},"","",""]
["46zoMD",{"$f":"VLOOKUP($AA970,DATA!$B$3:$E970,2,0)","v":"14:30:00"},{"$f":"VLOOKUP($AA970,DATA!$B$3:$E970,3,0)","v":"22:30:00"},{"$f":"VLOOKUP($AA970,DATA!$B$3:$E970,4,0)","v":3.125E-2},0.30208333333333337,0.30208333333333337,{"$f":"DATA!$C$9","v":0.89},{"$f":"DATA!$C$10","v":64},1,407.81250000000006,407.81250000000006,0,"","",0,"","",0,"","","","",null,{"$f":"X961","v":46},null,{"$f":"TEXT(Y969,\"ddd\")","v":"zo"},"MD",{"$f":"IFERROR(HLOOKUP(Y969,[1]DATA!$A$1:$NB$5,4,0),\"\")","v":"-"},null,null,null,null,{"$f":"VLOOKUP(Y969,[1]SRM!$S$4:$Z$368,3,0)","v":0},"","",""]
["46zoZND",{"$f":"VLOOKUP($AA971,DATA!$B$3:$E971,2,0)","v":"00:00:00"},{"$f":"VLOOKUP($AA971,DATA!$B$3:$E971,3,0)","v":"00:00:00"},{"$f":"VLOOKUP($AA971,DATA!$B$3:$E971,4,0)","v":0},0,0,{"$f":"DATA!$C$9","v":0.89},{"$f":"DATA!$C$10","v":64},1,0,0,0,"","",0,"","",0,"","","","",null,{"$f":"X961","v":46},null,{"$f":"TEXT(Y969,\"ddd\")","v":"zo"},"ZND",{"$f":"IFERROR(HLOOKUP(Y969,[1]DATA!$A$1:$NB$5,5,0),\"\")","v":"-"},null,null,null,null,{"$f":"VLOOKUP(Y969,[1]SRM!$S$4:$Z$368,4,0)","v":0},"","",""]
["47maDD",{"$f":"VLOOKUP($AA972,DATA!$B$3:$E972,2,0)","v":"06:30:00"},{"$f":"VLOOKUP($AA972,DATA!$B$3:$E972,3,0)","v":"14:30:00"},{"$f":"VLOOKUP($AA972,DATA!$B$3:$E972,4,0)","v":3.125E-2},0.30208333333333331,0.30208333333333331,{"$f":"DATA!$C$9","v":0.89},{"$f":"DATA!$C$10","v":64},1,407.8125,407.8125,0,"","",{"$f":"TIME(INT($AD972/60),INT(MOD($AD972,60)/1),0)","v":0},"","",0,"","","","",null,{"$f":"X982","v":47},"2018-11-19",{"$f":"TEXT(Y972,\"ddd\")","v":"ma"},"DD",{"$f":"IFERROR(HLOOKUP(Y972,[1]DATA!$A$1:$NB$5,3,0),\"\")","v":"D3"},null,null,null,null,{"$f":"VLOOKUP(Y972,[1]SRM!$S$4:$Z$368,2,0)","v":0},"","","",{"$f":"IF(SUMIF(S972:S992,\">0\",K972:K992)=0,\"\",SUMIF(S972:S992,\">0\",K972:K992))","v":""},{"$f":"IF(SUM(S972:S992)=0,\"\",SUM(S972:S992))","v":""},{"$f":"IFERROR(AL972/AK972,\"-\")","v":"-"},{"$f":"IF(SUM(M972:M992)=0,\"0\",SUM(M972:M992))","v":"0"},{"$f":"IFERROR(AN972/AK972,\"-\")","v":"-"},{"$f":"IF(SUM(P972:P992)=0,0,SUM(P972:P992))","v":0},{"$f":"IFERROR(AP972/AK972,\"-\")","v":"-"},{"$f":"IFERROR(AVERAGE(AJ972:AJ992),\"-\")","v":"-"},{"$f":"IFERROR(SUMIF($AB972:$AB992,AS$5,$AJ972:$AJ992)/COUNTIFS($AB972:$AB992,AS$5,$AJ972:$AJ992,\">0\"),\"\")","v":""},"","",{"$f":"IFERROR((AK972-AL972-AN972-AP972),\"-\")","v":"-"},{"$f":"IFERROR((1-AM972-AO972-AQ972), \"-\")","v":"-"},{"$f":"IFERROR((AV972*$AE$2)/60,\"-\")","v":"-"},{"$f":"IFERROR(SUM(AG972:AG992),\"\")","v":0}]
["47maMD",{"$f":"VLOOKUP($AA973,DATA!$B$3:$E973,2,0)","v":"14:30:00"},{"$f":"VLOOKUP($AA973,DATA!$B$3:$E973,3,0)","v":"22:30:00"},{"$f":"VLOOKUP($AA973,DATA!$B$3:$E973,4,0)","v":3.125E-2},0.30208333333333337,0.30208333333333337,{"$f":"DATA!$C$9","v":0.89},{"$f":"DATA!$C$10","v":64},1,407.81250000000006,407.81250000000006,0,"","",{"$f":"TIME(INT(AD973/60),INT(MOD(AD973,60)/1),0)","v":0},"","",0,"","","","",null,{"$f":"X982","v":47},null,{"$f":"TEXT(Y972,\"ddd\")","v":"ma"},"MD",{"$f":"IFERROR(HLOOKUP(Y972,[1]DATA!$A$1:$NB$5,4,0),\"\")","v":"D2"},null,null,null,null,{"$f":"VLOOKUP(Y972,[1]SRM!$S$4:$Z$368,3,0)","v":0},"","",""]
["47maND",{"$f":"VLOOKUP($AA974,DATA!$B$3:$E974,2,0)","v":"22:30:00"},{"$f":"VLOOKUP($AA974,DATA!$B$3:$E974,3,0)","v":"06:30:00"},{"$f":"VLOOKUP($AA974,DATA!$B$3:$E974,4,0)","v":3.125E-2},0.30208333333333326,0.30208333333333326,{"$f":"DATA!$C$9","v":0.89},{"$f":"DATA!$C$10","v":64},1,407.81249999999989,407.81249999999989,0,"","",0,"","",0,"","","","",null,{"$f":"X982","v":47},null,{"$f":"TEXT(Y972,\"ddd\")","v":"ma"},"ND",{"$f":"IFERROR(HLOOKUP(Y972,[1]DATA!$A$1:$NB$5,5,0),\"\")","v":"D1"},null,null,null,null,{"$f":"VLOOKUP(Y972,[1]SRM!$S$4:$Z$368,4,0)","v":0},"","",""]
["47diDD",{"$f":"VLOOKUP($AA975,DATA!$B$3:$E975,2,0)","v":"06:30:00"},{"$f":"VLOOKUP($AA975,DATA!$B$3:$E975,3,0)","v":"14:30:00"},{"$f":"VLOOKUP($AA975,DATA!$B$3:$E975,4,0)","v":3.125E-2},0.30208333333333331,0.30208333333333331,{"$f":"DATA!$C$9","v":0.89},{"$f":"DATA!$C$10","v":64},1,407.8125,407.8125,0,"","",0,"","",0,"","","","",null,{"$f":"X982","v":47},"2018-11-20",{"$f":"TEXT(Y975,\"ddd\")","v":"di"},"DD",{"$f":"IFERROR(HLOOKUP(Y975,[1]DATA!$A$1:$NB$5,3,0),\"\")","v":"D3"},null,null,null,null,{"$f":"VLOOKUP(Y975,[1]SRM!$S$4:$Z$368,2,0)","v":0},"","",""]
["47diMD",{"$f":"VLOOKUP($AA976,DATA!$B$3:$E976,2,0)","v":"14:30:00"},{"$f":"VLOOKUP($AA976,DATA!$B$3:$E976,3,0)","v":"22:30:00"},{"$f":"VLOOKUP($AA976,DATA!$B$3:$E976,4,0)","v":3.125E-2},0.30208333333333337,0.30208333333333337,{"$f":"DATA!$C$9","v":0.89},{"$f":"DATA!$C$10","v":64},1,407.81250000000006,407.81250000000006,0,"","",0,"","",0,"","","","",null,{"$f":"X982","v":47},null,{"$f":"TEXT(Y975,\"ddd\")","v":"di"},"MD",{"$f":"IFERROR(HLOOKUP(Y975,[1]DATA!$A$1:$NB$5,4,0),\"\")","v":"D2"},null,null,null,null,{"$f":"VLOOKUP(Y975,[1]SRM!$S$4:$Z$368,3,0)","v":0},"","",""]
["47diND",{"$f":"VLOOKUP($AA977,DATA!$B$3:$E977,2,0)","v":"22:30:00"},{"$f":"VLOOKUP($AA977,DATA!$B$3:$E977,3,0)","v":"06:30:00"},{"$f":"VLOOKUP($AA977,DATA!$B$3:$E977,4,0)","v":3.125E-2},0.30208333333333326,0.30208333333333326,{"$f":"DATA!$C$9","v":0.89},{"$f":"DATA!$C$10","v":64},1,407.81249999999989,407.81249999999989,0,"","",0,"","",0,"","","","",null,{"$f":"X982","v":47},null,{"$f":"TEXT(Y975,\"ddd\")","v":"di"},"ND",{"$f":"IFERROR(HLOOKUP(Y975,[1]DATA!$A$1:$NB$5,5,0),\"\")","v":"D1"},null,null,null,null,{"$f":"VLOOKUP(Y975,[1]SRM!$S$4:$Z$368,4,0)","v":0},"","",""]
["47woDD",{"$f":"VLOOKUP($AA978,DATA!$B$3:$E978,2,0)","v":"06:30:00"},{"$f":"VLOOKUP($AA978,DATA!$B$3:$E978,3,0)","v":"14:30:00"},{"$f":"VLOOKUP($AA978,DATA!$B$3:$E978,4,0)","v":3.125E-2},0.30208333333333331,0.30208333333333331,{"$f":"DATA!$C$9","v":0.89},{"$f":"DATA!$C$10","v":64},1,407.8125,407.8125,0,"","",0,"","",0,"","","","",null,{"$f":"X982","v":47},"2018-11-21",{"$f":"TEXT(Y978,\"ddd\")","v":"wo"},"DD",{"$f":"IFERROR(HLOOKUP(Y978,[1]DATA!$A$1:$NB$5,3,0),\"\")","v":"D3"},null,null,null,null,{"$f":"VLOOKUP(Y978,[1]SRM!$S$4:$Z$368,2,0)","v":0},"","",""]
["47woMD",{"$f":"VLOOKUP($AA979,DATA!$B$3:$E979,2,0)","v":"14:30:00"},{"$f":"VLOOKUP($AA979,DATA!$B$3:$E979,3,0)","v":"22:30:00"},{"$f":"VLOOKUP($AA979,DATA!$B$3:$E979,4,0)","v":3.125E-2},0.30208333333333337,0.30208333333333337,{"$f":"DATA!$C$9","v":0.89},{"$f":"DATA!$C$10","v":64},1,407.81250000000006,407.81250000000006,0,"","",0,"","",0,"","","","",null,{"$f":"X982","v":47},null,{"$f":"TEXT(Y978,\"ddd\")","v":"wo"},"MD",{"$f":"IFERROR(HLOOKUP(Y978,[1]DATA!$A$1:$NB$5,4,0),\"\")","v":"D2"},null,null,null,null,{"$f":"VLOOKUP(Y978,[1]SRM!$S$4:$Z$368,3,0)","v":0},"","",""]
["47woND",{"$f":"VLOOKUP($AA980,DATA!$B$3:$E980,2,0)","v":"22:30:00"},{"$f":"VLOOKUP($AA980,DATA!$B$3:$E980,3,0)","v":"06:30:00"},{"$f":"VLOOKUP($AA980,DATA!$B$3:$E980,4,0)","v":3.125E-2},0.30208333333333326,0.30208333333333326,{"$f":"DATA!$C$9","v":0.89},{"$f":"DATA!$C$10","v":64},1,407.81249999999989,407.81249999999989,0,"","",0,"","",0,"","","","",null,{"$f":"X982","v":47},null,{"$f":"TEXT(Y978,\"ddd\")","v":"wo"},"ND",{"$f":"IFERROR(HLOOKUP(Y978,[1]DATA!$A$1:$NB$5,5,0),\"\")","v":"D1"},null,null,null,null,{"$f":"VLOOKUP(Y978,[1]SRM!$S$4:$Z$368,4,0)","v":0},"","",""]
["47doDD",{"$f":"VLOOKUP($AA981,DATA!$B$3:$E981,2,0)","v":"06:30:00"},{"$f":"VLOOKUP($AA981,DATA!$B$3:$E981,3,0)","v":"14:30:00"},{"$f":"VLOOKUP($AA981,DATA!$B$3:$E981,4,0)","v":3.125E-2},0.30208333333333331,0.30208333333333331,{"$f":"DATA!$C$9","v":0.89},{"$f":"DATA!$C$10","v":64},1,407.8125,407.8125,0,"","",0,"","",0,"","","","",null,{"$f":"X982","v":47},"2018-11-22",{"$f":"TEXT(Y981,\"ddd\")","v":"do"},"DD",{"$f":"IFERROR(HLOOKUP(Y981,[1]DATA!$A$1:$NB$5,3,0),\"\")","v":"D3"},null,null,null,null,{"$f":"VLOOKUP(Y981,[1]SRM!$S$4:$Z$368,2,0)","v":0},"","",""]
["47doMD",{"$f":"VLOOKUP($AA982,DATA!$B$3:$E982,2,0)","v":"14:30:00"},{"$f":"VLOOKUP($AA982,DATA!$B$3:$E982,3,0)","v":"22:30:00"},{"$f":"VLOOKUP($AA982,DATA!$B$3:$E982,4,0)","v":3.125E-2},0.30208333333333337,0.30208333333333337,{"$f":"DATA!$C$9","v":0.89},{"$f":"DATA!$C$10","v":64},1,407.81250000000006,407.81250000000006,0,"","",0,"","",0,"","","","",null,{"$f":"WEEKNUM($Y972)","v":47},null,{"$f":"TEXT(Y981,\"ddd\")","v":"do"},"MD",{"$f":"IFERROR(HLOOKUP(Y981,[1]DATA!$A$1:$NB$5,4,0),\"\")","v":"D2"},null,null,null,null,{"$f":"VLOOKUP(Y981,[1]SRM!$S$4:$Z$368,3,0)","v":0},"","",""]
["47doND",{"$f":"VLOOKUP($AA983,DATA!$B$3:$E983,2,0)","v":"22:30:00"},{"$f":"VLOOKUP($AA983,DATA!$B$3:$E983,3,0)","v":"06:30:00"},{"$f":"VLOOKUP($AA983,DATA!$B$3:$E983,4,0)","v":3.125E-2},0.30208333333333326,0.30208333333333326,{"$f":"DATA!$C$9","v":0.89},{"$f":"DATA!$C$10","v":64},1,407.81249999999989,407.81249999999989,0,"","",0,"","",0,"","","","",null,{"$f":"X982","v":47},null,{"$f":"TEXT(Y981,\"ddd\")","v":"do"},"ND",{"$f":"IFERROR(HLOOKUP(Y981,[1]DATA!$A$1:$NB$5,5,0),\"\")","v":"D1"},null,null,null,null,{"$f":"VLOOKUP(Y981,[1]SRM!$S$4:$Z$368,4,0)","v":0},"","",""]
["47vrDD",{"$f":"VLOOKUP($AA984,DATA!$B$3:$E984,2,0)","v":"06:30:00"},{"$f":"VLOOKUP($AA984,DATA!$B$3:$E984,3,0)","v":"14:30:00"},{"$f":"VLOOKUP($AA984,DATA!$B$3:$E984,4,0)","v":3.125E-2},0.30208333333333331,0.30208333333333331,{"$f":"DATA!$C$9","v":0.89},{"$f":"DATA!$C$10","v":64},1,407.8125,407.8125,0,"","",0,"","",0,"","","","",null,{"$f":"X982","v":47},"2018-11-23",{"$f":"TEXT(Y984,\"ddd\")","v":"vr"},"DD",{"$f":"IFERROR(HLOOKUP(Y984,[1]DATA!$A$1:$NB$5,3,0),\"\")","v":"D3"},null,null,null,null,{"$f":"VLOOKUP(Y984,[1]SRM!$S$4:$Z$368,2,0)","v":0},"","",""]
["47vrMD",{"$f":"VLOOKUP($AA985,DATA!$B$3:$E985,2,0)","v":"14:30:00"},{"$f":"VLOOKUP($AA985,DATA!$B$3:$E985,3,0)","v":"22:30:00"},{"$f":"VLOOKUP($AA985,DATA!$B$3:$E985,4,0)","v":3.125E-2},0.30208333333333337,0.30208333333333337,{"$f":"DATA!$C$9","v":0.89},{"$f":"DATA!$C$10","v":64},1,407.81250000000006,407.81250000000006,0,"","",0,"","",0,"","","","",null,{"$f":"X982","v":47},null,{"$f":"TEXT(Y984,\"ddd\")","v":"vr"},"MD",{"$f":"IFERROR(HLOOKUP(Y984,[1]DATA!$A$1:$NB$5,4,0),\"\")","v":"D2"},null,null,null,null,{"$f":"VLOOKUP(Y984,[1]SRM!$S$4:$Z$368,3,0)","v":0},"","",""]
["47vrND",{"$f":"VLOOKUP($AA986,DATA!$B$3:$E986,2,0)","v":"22:30:00"},{"$f":"VLOOKUP($AA986,DATA!$B$3:$E986,3,0)","v":"06:30:00"},{"$f":"VLOOKUP($AA986,DATA!$B$3:$E986,4,0)","v":3.125E-2},0.30208333333333326,0.30208333333333326,{"$f":"DATA!$C$9","v":0.89},{"$f":"DATA!$C$10","v":64},1,407.81249999999989,407.81249999999989,0,"","",0,"","",0,"","","","",null,{"$f":"X982","v":47},null,{"$f":"TEXT(Y984,\"ddd\")","v":"vr"},"ND",{"$f":"IFERROR(HLOOKUP(Y984,[1]DATA!$A$1:$NB$5,5,0),\"\")","v":"D2"},null,null,null,null,{"$f":"VLOOKUP(Y984,[1]SRM!$S$4:$Z$368,4,0)","v":0},"","",""]
["47zaDD",{"$f":"VLOOKUP($AA987,DATA!$B$3:$E987,2,0)","v":"06:30:00"},{"$f":"VLOOKUP($AA987,DATA!$B$3:$E987,3,0)","v":"14:30:00"},{"$f":"VLOOKUP($AA987,DATA!$B$3:$E987,4,0)","v":3.125E-2},0.30208333333333331,0.30208333333333331,{"$f":"DATA!$C$9","v":0.89},{"$f":"DATA!$C$10","v":64},1,407.8125,407.8125,0,"","",0,"","",0,"","","","",null,{"$f":"X982","v":47},"2018-11-24",{"$f":"TEXT(Y987,\"ddd\")","v":"za"},"DD",{"$f":"IFERROR(HLOOKUP(Y987,[1]DATA!$A$1:$NB$5,3,0),\"\")","v":"D3"},null,null,null,null,{"$f":"VLOOKUP(Y987,[1]SRM!$S$4:$Z$368,2,0)","v":0},"","",{"$f":"IFERROR(R987/(R987+AG987),\"\")","v":""}]
["47zaMD",{"$f":"VLOOKUP($AA988,DATA!$B$3:$E988,2,0)","v":"14:30:00"},{"$f":"VLOOKUP($AA988,DATA!$B$3:$E988,3,0)","v":"22:30:00"},{"$f":"VLOOKUP($AA988,DATA!$B$3:$E988,4,0)","v":3.125E-2},{"$f":"(C988-B988+(B988>C988))-D988","v":0.30208333333333337},{"$f":"E988-O988-L988","v":0.30208333333333337},{"$f":"DATA!$C$9","v":0.89},{"$f":"DATA!$C$10","v":64},1,407.81250000000006,407.81250000000006,0,"","",0,"","",0,"","","","",null,{"$f":"X982","v":47},null,{"$f":"TEXT(Y987,\"ddd\")","v":"za"},"MD",{"$f":"IFERROR(HLOOKUP(Y987,[1]DATA!$A$1:$NB$5,4,0),\"\")","v":"-"},null,null,null,null,{"$f":"VLOOKUP(Y987,[1]SRM!$S$4:$Z$368,3,0)","v":0},"","",""]
["47zaND",{"$f":"VLOOKUP($AA989,DATA!$B$3:$E989,2,0)","v":"22:30:00"},{"$f":"VLOOKUP($AA989,DATA!$B$3:$E989,3,0)","v":"06:30:00"},{"$f":"VLOOKUP($AA989,DATA!$B$3:$E989,4,0)","v":3.125E-2},0.30208333333333326,0.30208333333333326,{"$f":"DATA!$C$9","v":0.89},{"$f":"DATA!$C$10","v":64},1,407.81249999999989,407.81249999999989,0,"","",0,"","",0,"","","","",null,{"$f":"X982","v":47},null,{"$f":"TEXT(Y987,\"ddd\")","v":"za"},"ND",{"$f":"IFERROR(HLOOKUP(Y987,[1]DATA!$A$1:$NB$5,5,0),\"\")","v":"-"},null,null,null,null,{"$f":"VLOOKUP(Y987,[1]SRM!$S$4:$Z$368,4,0)","v":0},"","",""]
["47zoDD",{"$f":"VLOOKUP($AA990,DATA!$B$3:$E990,2,0)","v":"06:30:00"},{"$f":"VLOOKUP($AA990,DATA!$B$3:$E990,3,0)","v":"14:30:00"},{"$f":"VLOOKUP($AA990,DATA!$B$3:$E990,4,0)","v":3.125E-2},0.30208333333333331,0.30208333333333331,{"$f":"DATA!$C$9","v":0.89},{"$f":"DATA!$C$10","v":64},1,407.8125,407.8125,0,"","",0,"","",0,"","","","",null,{"$f":"X982","v":47},"2018-11-25",{"$f":"TEXT(Y990,\"ddd\")","v":"zo"},"DD",{"$f":"IFERROR(HLOOKUP(Y990,[1]DATA!$A$1:$NB$5,3,0),\"\")","v":"-"},null,null,null,null,{"$f":"VLOOKUP(Y990,[1]SRM!$S$4:$Z$368,2,0)","v":0},"","",""]
["47zoMD",{"$f":"VLOOKUP($AA991,DATA!$B$3:$E991,2,0)","v":"14:30:00"},{"$f":"VLOOKUP($AA991,DATA!$B$3:$E991,3,0)","v":"22:30:00"},{"$f":"VLOOKUP($AA991,DATA!$B$3:$E991,4,0)","v":3.125E-2},0.30208333333333337,0.30208333333333337,{"$f":"DATA!$C$9","v":0.89},{"$f":"DATA!$C$10","v":64},1,407.81250000000006,407.81250000000006,0,"","",0,"","",0,"","","","",null,{"$f":"X982","v":47},null,{"$f":"TEXT(Y990,\"ddd\")","v":"zo"},"MD",{"$f":"IFERROR(HLOOKUP(Y990,[1]DATA!$A$1:$NB$5,4,0),\"\")","v":"-"},null,null,null,null,{"$f":"VLOOKUP(Y990,[1]SRM!$S$4:$Z$368,3,0)","v":0},"","",""]
["47zoZND",{"$f":"VLOOKUP($AA992,DATA!$B$3:$E992,2,0)","v":"00:00:00"},{"$f":"VLOOKUP($AA992,DATA!$B$3:$E992,3,0)","v":"00:00:00"},{"$f":"VLOOKUP($AA992,DATA!$B$3:$E992,4,0)","v":0},0,0,{"$f":"DATA!$C$9","v":0.89},{"$f":"DATA!$C$10","v":64},1,0,0,0,"","",0,"","",0,"","","","",null,{"$f":"X982","v":47},null,{"$f":"TEXT(Y990,\"ddd\")","v":"zo"},"ZND",{"$f":"IFERROR(HLOOKUP(Y990,[1]DATA!$A$1:$NB$5,5,0),\"\")","v":"-"},null,null,null,null,{"$f":"VLOOKUP(Y990,[1]SRM!$S$4:$Z$368,4,0)","v":0},"","",""]
["48maDD",{"$f":"VLOOKUP($AA993,DATA!$B$3:$E993,2,0)","v":"06:30:00"},{"$f":"VLOOKUP($AA993,DATA!$B$3:$E993,3,0)","v":"14:30:00"},{"$f":"VLOOKUP($AA993,DATA!$B$3:$E993,4,0)","v":3.125E-2},0.30208333333333331,0.30208333333333331,{"$f":"DATA!$C$9","v":0.89},{"$f":"DATA!$C$10","v":64},1,407.8125,407.8125,0,"","",{"$f":"TIME(INT($AD993/60),INT(MOD($AD993,60)/1),0)","v":0},"","",0,"","","","",null,{"$f":"X1003","v":48},"2018-11-26",{"$f":"TEXT(Y993,\"ddd\")","v":"ma"},"DD",{"$f":"IFERROR(HLOOKUP(Y993,[1]DATA!$A$1:$NB$5,3,0),\"\")","v":"D2"},null,null,null,null,{"$f":"VLOOKUP(Y993,[1]SRM!$S$4:$Z$368,2,0)","v":0},"","","",{"$f":"IF(SUMIF(S993:S1013,\">0\",K993:K1013)=0,\"\",SUMIF(S993:S1013,\">0\",K993:K1013))","v":""},{"$f":"IF(SUM(S993:S1013)=0,\"\",SUM(S993:S1013))","v":""},{"$f":"IFERROR(AL993/AK993,\"-\")","v":"-"},{"$f":"IF(SUM(M993:M1013)=0,\"0\",SUM(M993:M1013))","v":"0"},{"$f":"IFERROR(AN993/AK993,\"-\")","v":"-"},{"$f":"IF(SUM(P993:P1013)=0,0,SUM(P993:P1013))","v":0},{"$f":"IFERROR(AP993/AK993,\"-\")","v":"-"},{"$f":"IFERROR(AVERAGE(AJ993:AJ1013),\"-\")","v":"-"},{"$f":"IFERROR(SUMIF($AB993:$AB1013,AS$5,$AJ993:$AJ1013)/COUNTIFS($AB993:$AB1013,AS$5,$AJ993:$AJ1013,\">0\"),\"\")","v":""},"","",{"$f":"IFERROR((AK993-AL993-AN993-AP993),\"-\")","v":"-"},{"$f":"IFERROR((1-AM993-AO993-AQ993), \"-\")","v":"-"},{"$f":"IFERROR((AV993*$AE$2)/60,\"-\")","v":"-"},{"$f":"IFERROR(SUM(AG993:AG1013),\"\")","v":0}]
["48maMD",{"$f":"VLOOKUP($AA994,DATA!$B$3:$E994,2,0)","v":"14:30:00"},{"$f":"VLOOKUP($AA994,DATA!$B$3:$E994,3,0)","v":"22:30:00"},{"$f":"VLOOKUP($AA994,DATA!$B$3:$E994,4,0)","v":3.125E-2},0.30208333333333337,0.30208333333333337,{"$f":"DATA!$C$9","v":0.89},{"$f":"DATA!$C$10","v":64},1,407.81250000000006,407.81250000000006,0,"","",{"$f":"TIME(INT(AD994/60),INT(MOD(AD994,60)/1),0)","v":0},"","",0,"","","","",null,{"$f":"X1003","v":48},null,{"$f":"TEXT(Y993,\"ddd\")","v":"ma"},"MD",{"$f":"IFERROR(HLOOKUP(Y993,[1]DATA!$A$1:$NB$5,4,0),\"\")","v":"D1"},null,null,null,null,{"$f":"VLOOKUP(Y993,[1]SRM!$S$4:$Z$368,3,0)","v":0},"","",""]
["48maND",{"$f":"VLOOKUP($AA995,DATA!$B$3:$E995,2,0)","v":"22:30:00"},{"$f":"VLOOKUP($AA995,DATA!$B$3:$E995,3,0)","v":"06:30:00"},{"$f":"VLOOKUP($AA995,DATA!$B$3:$E995,4,0)","v":3.125E-2},0.30208333333333326,0.30208333333333326,{"$f":"DATA!$C$9","v":0.89},{"$f":"DATA!$C$10","v":64},1,407.81249999999989,407.81249999999989,0,"","",0,"","",0,"","","","",null,{"$f":"X1003","v":48},null,{"$f":"TEXT(Y993,\"ddd\")","v":"ma"},"ND",{"$f":"IFERROR(HLOOKUP(Y993,[1]DATA!$A$1:$NB$5,5,0),\"\")","v":"D3"},null,null,null,null,{"$f":"VLOOKUP(Y993,[1]SRM!$S$4:$Z$368,4,0)","v":0},"","",""]
["48diDD",{"$f":"VLOOKUP($AA996,DATA!$B$3:$E996,2,0)","v":"06:30:00"},{"$f":"VLOOKUP($AA996,DATA!$B$3:$E996,3,0)","v":"14:30:00"},{"$f":"VLOOKUP($AA996,DATA!$B$3:$E996,4,0)","v":3.125E-2},0.30208333333333331,0.30208333333333331,{"$f":"DATA!$C$9","v":0.89},{"$f":"DATA!$C$10","v":64},1,407.8125,407.8125,0,"","",0,"","",0,"","","","",null,{"$f":"X1003","v":48},"2018-11-27",{"$f":"TEXT(Y996,\"ddd\")","v":"di"},"DD",{"$f":"IFERROR(HLOOKUP(Y996,[1]DATA!$A$1:$NB$5,3,0),\"\")","v":"D2"},null,null,null,null,{"$f":"VLOOKUP(Y996,[1]SRM!$S$4:$Z$368,2,0)","v":0},"","",""]
["48diMD",{"$f":"VLOOKUP($AA997,DATA!$B$3:$E997,2,0)","v":"14:30:00"},{"$f":"VLOOKUP($AA997,DATA!$B$3:$E997,3,0)","v":"22:30:00"},{"$f":"VLOOKUP($AA997,DATA!$B$3:$E997,4,0)","v":3.125E-2},0.30208333333333337,0.30208333333333337,{"$f":"DATA!$C$9","v":0.89},{"$f":"DATA!$C$10","v":64},1,407.81250000000006,407.81250000000006,0,"","",0,"","",0,"","","","",null,{"$f":"X1003","v":48},null,{"$f":"TEXT(Y996,\"ddd\")","v":"di"},"MD",{"$f":"IFERROR(HLOOKUP(Y996,[1]DATA!$A$1:$NB$5,4,0),\"\")","v":"D1"},null,null,null,null,{"$f":"VLOOKUP(Y996,[1]SRM!$S$4:$Z$368,3,0)","v":0},"","",""]
["48diND",{"$f":"VLOOKUP($AA998,DATA!$B$3:$E998,2,0)","v":"22:30:00"},{"$f":"VLOOKUP($AA998,DATA!$B$3:$E998,3,0)","v":"06:30:00"},{"$f":"VLOOKUP($AA998,DATA!$B$3:$E998,4,0)","v":3.125E-2},0.30208333333333326,0.30208333333333326,{"$f":"DATA!$C$9","v":0.89},{"$f":"DATA!$C$10","v":64},1,407.81249999999989,407.81249999999989,0,"","",0,"","",0,"","","","",null,{"$f":"X1003","v":48},null,{"$f":"TEXT(Y996,\"ddd\")","v":"di"},"ND",{"$f":"IFERROR(HLOOKUP(Y996,[1]DATA!$A$1:$NB$5,5,0),\"\")","v":"D3"},null,null,null,null,{"$f":"VLOOKUP(Y996,[1]SRM!$S$4:$Z$368,4,0)","v":0},"","",""]
["48woDD",{"$f":"VLOOKUP($AA999,DATA!$B$3:$E999,2,0)","v":"06:30:00"},{"$f":"VLOOKUP($AA999,DATA!$B$3:$E999,3,0)","v":"14:30:00"},{"$f":"VLOOKUP($AA999,DATA!$B$3:$E999,4,0)","v":3.125E-2},0.30208333333333331,0.30208333333333331,{"$f":"DATA!$C$9","v":0.89},{"$f":"DATA!$C$10","v":64},1,407.8125,407.8125,0,"","",0,"","",0,"","","","",null,{"$f":"X1003","v":48},"2018-11-28",{"$f":"TEXT(Y999,\"ddd\")","v":"wo"},"DD",{"$f":"IFERROR(HLOOKUP(Y999,[1]DATA!$A$1:$NB$5,3,0),\"\")","v":"D2"},null,null,null,null,{"$f":"VLOOKUP(Y999,[1]SRM!$S$4:$Z$368,2,0)","v":0},"","",""]
["48woMD",{"$f":"VLOOKUP($AA1000,DATA!$B$3:$E1000,2,0)","v":"14:30:00"},{"$f":"VLOOKUP($AA1000,DATA!$B$3:$E1000,3,0)","v":"22:30:00"},{"$f":"VLOOKUP($AA1000,DATA!$B$3:$E1000,4,0)","v":3.125E-2},0.30208333333333337,0.30208333333333337,{"$f":"DATA!$C$9","v":0.89},{"$f":"DATA!$C$10","v":64},1,407.81250000000006,407.81250000000006,0,"","",0,"","",0,"","","","",null,{"$f":"X1003","v":48},null,{"$f":"TEXT(Y999,\"ddd\")","v":"wo"},"MD",{"$f":"IFERROR(HLOOKUP(Y999,[1]DATA!$A$1:$NB$5,4,0),\"\")","v":"D1"},null,null,null,null,{"$f":"VLOOKUP(Y999,[1]SRM!$S$4:$Z$368,3,0)","v":0},"","",""]
["48woND",{"$f":"VLOOKUP($AA1001,DATA!$B$3:$E1001,2,0)","v":"22:30:00"},{"$f":"VLOOKUP($AA1001,DATA!$B$3:$E1001,3,0)","v":"06:30:00"},{"$f":"VLOOKUP($AA1001,DATA!$B$3:$E1001,4,0)","v":3.125E-2},0.30208333333333326,0.30208333333333326,{"$f":"DATA!$C$9","v":0.89},{"$f":"DATA!$C$10","v":64},1,407.81249999999989,407.81249999999989,0,"","",0,"","",0,"","","","",null,{"$f":"X1003","v":48},null,{"$f":"TEXT(Y999,\"ddd\")","v":"wo"},"ND",{"$f":"IFERROR(HLOOKUP(Y999,[1]DATA!$A$1:$NB$5,5,0),\"\")","v":"D3"},null,null,null,null,{"$f":"VLOOKUP(Y999,[1]SRM!$S$4:$Z$368,4,0)","v":0},"","",""]
["48doDD",{"$f":"VLOOKUP($AA1002,DATA!$B$3:$E1002,2,0)","v":"06:30:00"},{"$f":"VLOOKUP($AA1002,DATA!$B$3:$E1002,3,0)","v":"14:30:00"},{"$f":"VLOOKUP($AA1002,DATA!$B$3:$E1002,4,0)","v":3.125E-2},0.30208333333333331,0.30208333333333331,{"$f":"DATA!$C$9","v":0.89},{"$f":"DATA!$C$10","v":64},1,407.8125,407.8125,0,"","",0,"","",0,"","","","",null,{"$f":"X1003","v":48},"2018-11-29",{"$f":"TEXT(Y1002,\"ddd\")","v":"do"},"DD",{"$f":"IFERROR(HLOOKUP(Y1002,[1]DATA!$A$1:$NB$5,3,0),\"\")","v":"D2"},null,null,null,null,{"$f":"VLOOKUP(Y1002,[1]SRM!$S$4:$Z$368,2,0)","v":0},"","",""]
["48doMD",{"$f":"VLOOKUP($AA1003,DATA!$B$3:$E1003,2,0)","v":"14:30:00"},{"$f":"VLOOKUP($AA1003,DATA!$B$3:$E1003,3,0)","v":"22:30:00"},{"$f":"VLOOKUP($AA1003,DATA!$B$3:$E1003,4,0)","v":3.125E-2},0.30208333333333337,0.30208333333333337,{"$f":"DATA!$C$9","v":0.89},{"$f":"DATA!$C$10","v":64},1,407.81250000000006,407.81250000000006,0,"","",0,"","",0,"","","","",null,{"$f":"WEEKNUM($Y993)","v":48},null,{"$f":"TEXT(Y1002,\"ddd\")","v":"do"},"MD",{"$f":"IFERROR(HLOOKUP(Y1002,[1]DATA!$A$1:$NB$5,4,0),\"\")","v":"D1"},null,null,null,null,{"$f":"VLOOKUP(Y1002,[1]SRM!$S$4:$Z$368,3,0)","v":0},"","",""]
["48doND",{"$f":"VLOOKUP($AA1004,DATA!$B$3:$E1004,2,0)","v":"22:30:00"},{"$f":"VLOOKUP($AA1004,DATA!$B$3:$E1004,3,0)","v":"06:30:00"},{"$f":"VLOOKUP($AA1004,DATA!$B$3:$E1004,4,0)","v":3.125E-2},0.30208333333333326,0.30208333333333326,{"$f":"DATA!$C$9","v":0.89},{"$f":"DATA!$C$10","v":64},1,407.81249999999989,407.81249999999989,0,"","",0,"","",0,"","","","",null,{"$f":"X1003","v":48},null,{"$f":"TEXT(Y1002,\"ddd\")","v":"do"},"ND",{"$f":"IFERROR(HLOOKUP(Y1002,[1]DATA!$A$1:$NB$5,5,0),\"\")","v":"D3"},null,null,null,null,{"$f":"VLOOKUP(Y1002,[1]SRM!$S$4:$Z$368,4,0)","v":0},"","",""]
["48vrDD",{"$f":"VLOOKUP($AA1005,DATA!$B$3:$E1005,2,0)","v":"06:30:00"},{"$f":"VLOOKUP($AA1005,DATA!$B$3:$E1005,3,0)","v":"14:30:00"},{"$f":"VLOOKUP($AA1005,DATA!$B$3:$E1005,4,0)","v":3.125E-2},0.30208333333333331,0.30208333333333331,{"$f":"DATA!$C$9","v":0.89},{"$f":"DATA!$C$10","v":64},1,407.8125,407.8125,0,"","",0,"","",0,"","","","",null,{"$f":"X1003","v":48},"2018-11-30",{"$f":"TEXT(Y1005,\"ddd\")","v":"vr"},"DD",{"$f":"IFERROR(HLOOKUP(Y1005,[1]DATA!$A$1:$NB$5,3,0),\"\")","v":"D2"},null,null,null,null,{"$f":"VLOOKUP(Y1005,[1]SRM!$S$4:$Z$368,2,0)","v":0},"","",""]
["48vrMD",{"$f":"VLOOKUP($AA1006,DATA!$B$3:$E1006,2,0)","v":"14:30:00"},{"$f":"VLOOKUP($AA1006,DATA!$B$3:$E1006,3,0)","v":"22:30:00"},{"$f":"VLOOKUP($AA1006,DATA!$B$3:$E1006,4,0)","v":3.125E-2},0.30208333333333337,0.30208333333333337,{"$f":"DATA!$C$9","v":0.89},{"$f":"DATA!$C$10","v":64},1,407.81250000000006,407.81250000000006,0,"","",0,"","",0,"","","","",null,{"$f":"X1003","v":48},null,{"$f":"TEXT(Y1005,\"ddd\")","v":"vr"},"MD",{"$f":"IFERROR(HLOOKUP(Y1005,[1]DATA!$A$1:$NB$5,4,0),\"\")","v":"D1"},null,null,null,null,{"$f":"VLOOKUP(Y1005,[1]SRM!$S$4:$Z$368,3,0)","v":0},"","",""]
["48vrND",{"$f":"VLOOKUP($AA1007,DATA!$B$3:$E1007,2,0)","v":"22:30:00"},{"$f":"VLOOKUP($AA1007,DATA!$B$3:$E1007,3,0)","v":"06:30:00"},{"$f":"VLOOKUP($AA1007,DATA!$B$3:$E1007,4,0)","v":3.125E-2},0.30208333333333326,0.30208333333333326,{"$f":"DATA!$C$9","v":0.89},{"$f":"DATA!$C$10","v":64},1,407.81249999999989,407.81249999999989,0,"","",0,"","",0,"","","","",null,{"$f":"X1003","v":48},null,{"$f":"TEXT(Y1005,\"ddd\")","v":"vr"},"ND",{"$f":"IFERROR(HLOOKUP(Y1005,[1]DATA!$A$1:$NB$5,5,0),\"\")","v":"D3"},null,null,null,null,{"$f":"VLOOKUP(Y1005,[1]SRM!$S$4:$Z$368,4,0)","v":0},"","",""]
[{"$f":"X1008&Z1008&AA1008","v":"48zaDD"},{"$f":"VLOOKUP($AA1008,DATA!$B$3:$E1008,2,0)","v":"06:30:00"},{"$f":"VLOOKUP($AA1008,DATA!$B$3:$E1008,3,0)","v":"14:30:00"},{"$f":"VLOOKUP($AA1008,DATA!$B$3:$E1008,4,0)","v":3.125E-2},0.30208333333333331,0.30208333333333331,{"$f":"DATA!$C$9","v":0.89},{"$f":"DATA!$C$10","v":64},1,407.8125,407.8125,0,"","",0,{"$f":"IF($O1008*86400/$H1008=0,\"\",$O1008*86400/$H1008)","v":""},"",0,"","","","",null,{"$f":"X1003","v":48},"2018-12-01",{"$f":"TEXT(Y1008,\"ddd\")","v":"za"},"DD",{"$f":"IFERROR(HLOOKUP(Y1008,[1]DATA!$A$1:$NB$5,3,0),\"\")","v":"D2"},null,null,null,null,{"$f":"VLOOKUP(Y1008,[1]SRM!$S$4:$Z$368,2,0)","v":0},"","",""]
["48zaMD",{"$f":"VLOOKUP($AA1009,DATA!$B$3:$E1009,2,0)","v":"14:30:00"},{"$f":"VLOOKUP($AA1009,DATA!$B$3:$E1009,3,0)","v":"22:30:00"},{"$f":"VLOOKUP($AA1009,DATA!$B$3:$E1009,4,0)","v":3.125E-2},0.30208333333333337,0.30208333333333337,{"$f":"DATA!$C$9","v":0.89},{"$f":"DATA!$C$10","v":64},1,407.81250000000006,407.81250000000006,0,"","",0,"","",0,"","","","",null,{"$f":"X1003","v":48},null,{"$f":"TEXT(Y1008,\"ddd\")","v":"za"},"MD",{"$f":"IFERROR(HLOOKUP(Y1008,[1]DATA!$A$1:$NB$5,4,0),\"\")","v":"-"},null,null,null,null,{"$f":"VLOOKUP(Y1008,[1]SRM!$S$4:$Z$368,3,0)","v":0},"","",""]
["48zaND",{"$f":"VLOOKUP($AA1010,DATA!$B$3:$E1010,2,0)","v":"22:30:00"},{"$f":"VLOOKUP($AA1010,DATA!$B$3:$E1010,3,0)","v":"06:30:00"},{"$f":"VLOOKUP($AA1010,DATA!$B$3:$E1010,4,0)","v":3.125E-2},0.30208333333333326,0.30208333333333326,{"$f":"DATA!$C$9","v":0.89},{"$f":"DATA!$C$10","v":64},1,407.81249999999989,407.81249999999989,0,"","",0,"","",0,"","","","",null,{"$f":"X1003","v":48},null,{"$f":"TEXT(Y1008,\"ddd\")","v":"za"},"ND",{"$f":"IFERROR(HLOOKUP(Y1008,[1]DATA!$A$1:$NB$5,5,0),\"\")","v":"-"},null,null,null,null,{"$f":"VLOOKUP(Y1008,[1]SRM!$S$4:$Z$368,4,0)","v":0},"","",""]
["48zoDD",{"$f":"VLOOKUP($AA1011,DATA!$B$3:$E1011,2,0)","v":"06:30:00"},{"$f":"VLOOKUP($AA1011,DATA!$B$3:$E1011,3,0)","v":"14:30:00"},{"$f":"VLOOKUP($AA1011,DATA!$B$3:$E1011,4,0)","v":3.125E-2},0.30208333333333331,0.30208333333333331,{"$f":"DATA!$C$9","v":0.89},{"$f":"DATA!$C$10","v":64},1,407.8125,407.8125,0,"","",0,"","",0,"","","","",null,{"$f":"X1003","v":48},"2018-12-02",{"$f":"TEXT(Y1011,\"ddd\")","v":"zo"},"DD",{"$f":"IFERROR(HLOOKUP(Y1011,[1]DATA!$A$1:$NB$5,3,0),\"\")","v":"-"},null,null,null,null,{"$f":"VLOOKUP(Y1011,[1]SRM!$S$4:$Z$368,2,0)","v":0},"","",""]
["48zoMD",{"$f":"VLOOKUP($AA1012,DATA!$B$3:$E1012,2,0)","v":"14:30:00"},{"$f":"VLOOKUP($AA1012,DATA!$B$3:$E1012,3,0)","v":"22:30:00"},{"$f":"VLOOKUP($AA1012,DATA!$B$3:$E1012,4,0)","v":3.125E-2},0.30208333333333337,0.30208333333333337,{"$f":"DATA!$C$9","v":0.89},{"$f":"DATA!$C$10","v":64},1,407.81250000000006,407.81250000000006,0,"","",0,"","",0,"","","","",null,{"$f":"X1003","v":48},null,{"$f":"TEXT(Y1011,\"ddd\")","v":"zo"},"MD",{"$f":"IFERROR(HLOOKUP(Y1011,[1]DATA!$A$1:$NB$5,4,0),\"\")","v":"-"},null,null,null,null,{"$f":"VLOOKUP(Y1011,[1]SRM!$S$4:$Z$368,3,0)","v":0},"","",""]
["48zoZND",{"$f":"VLOOKUP($AA1013,DATA!$B$3:$E1013,2,0)","v":"00:00:00"},{"$f":"VLOOKUP($AA1013,DATA!$B$3:$E1013,3,0)","v":"00:00:00"},{"$f":"VLOOKUP($AA1013,DATA!$B$3:$E1013,4,0)","v":0},0,0,{"$f":"DATA!$C$9","v":0.89},{"$f":"DATA!$C$10","v":64},1,0,0,0,"","",0,"","",0,"","","","",null,{"$f":"X1003","v":48},null,{"$f":"TEXT(Y1011,\"ddd\")","v":"zo"},"ZND",{"$f":"IFERROR(HLOOKUP(Y1011,[1]DATA!$A$1:$NB$5,5,0),\"\")","v":"-"},null,null,null,null,{"$f":"VLOOKUP(Y1011,[1]SRM!$S$4:$Z$368,4,0)","v":0},"","",""]
["49maDD",{"$f":"VLOOKUP($AA1014,DATA!$B$3:$E1014,2,0)","v":"06:30:00"},{"$f":"VLOOKUP($AA1014,DATA!$B$3:$E1014,3,0)","v":"14:30:00"},{"$f":"VLOOKUP($AA1014,DATA!$B$3:$E1014,4,0)","v":3.125E-2},0.30208333333333331,0.30208333333333331,{"$f":"DATA!$C$9","v":0.89},{"$f":"DATA!$C$10","v":64},1,407.8125,407.8125,0,"","",{"$f":"TIME(INT($AD1014/60),INT(MOD($AD1014,60)/1),0)","v":0},"","",0,"","","","",null,{"$f":"X1024","v":49},"2018-12-03",{"$f":"TEXT(Y1014,\"ddd\")","v":"ma"},"DD",{"$f":"IFERROR(HLOOKUP(Y1014,[1]DATA!$A$1:$NB$5,3,0),\"\")","v":"D1"},null,null,null,null,{"$f":"VLOOKUP(Y1014,[1]SRM!$S$4:$Z$368,2,0)","v":0},"","","",{"$f":"IF(SUMIF(S1014:S1034,\">0\",K1014:K1034)=0,\"\",SUMIF(S1014:S1034,\">0\",K1014:K1034))","v":""},{"$f":"IF(SUM(S1014:S1034)=0,\"\",SUM(S1014:S1034))","v":""},{"$f":"IFERROR(AL1014/AK1014,\"-\")","v":"-"},{"$f":"IF(SUM(M1014:M1034)=0,\"0\",SUM(M1014:M1034))","v":"0"},{"$f":"IFERROR(AN1014/AK1014,\"-\")","v":"-"},{"$f":"IF(SUM(P1014:P1034)=0,0,SUM(P1014:P1034))","v":0},{"$f":"IFERROR(AP1014/AK1014,\"-\")","v":"-"},{"$f":"IFERROR(AVERAGE(AJ1014:AJ1034),\"-\")","v":"-"},{"$f":"IFERROR(SUMIF($AB1014:$AB1034,AS$5,$AJ1014:$AJ1034)/COUNTIFS($AB1014:$AB1034,AS$5,$AJ1014:$AJ1034,\">0\"),\"\")","v":""},"","",{"$f":"IFERROR((AK1014-AL1014-AN1014-AP1014),\"-\")","v":"-"},{"$f":"IFERROR((1-AM1014-AO1014-AQ1014), \"-\")","v":"-"},{"$f":"IFERROR((AV1014*$AE$2)/60,\"-\")","v":"-"},{"$f":"IFERROR(SUM(AG1014:AG1034),\"\")","v":0}]
["49maMD",{"$f":"VLOOKUP($AA1015,DATA!$B$3:$E1015,2,0)","v":"14:30:00"},{"$f":"VLOOKUP($AA1015,DATA!$B$3:$E1015,3,0)","v":"22:30:00"},{"$f":"VLOOKUP($AA1015,DATA!$B$3:$E1015,4,0)","v":3.125E-2},0.30208333333333337,0.30208333333333337,{"$f":"DATA!$C$9","v":0.89},{"$f":"DATA!$C$10","v":64},1,407.81250000000006,407.81250000000006,0,"","",{"$f":"TIME(INT(AD1015/60),INT(MOD(AD1015,60)/1),0)","v":0},"","",0,"","","","",null,{"$f":"X1024","v":49},null,{"$f":"TEXT(Y1014,\"ddd\")","v":"ma"},"MD",{"$f":"IFERROR(HLOOKUP(Y1014,[1]DATA!$A$1:$NB$5,4,0),\"\")","v":"D3"},null,null,null,null,{"$f":"VLOOKUP(Y1014,[1]SRM!$S$4:$Z$368,3,0)","v":0},"","",""]
["49maND",{"$f":"VLOOKUP($AA1016,DATA!$B$3:$E1016,2,0)","v":"22:30:00"},{"$f":"VLOOKUP($AA1016,DATA!$B$3:$E1016,3,0)","v":"06:30:00"},{"$f":"VLOOKUP($AA1016,DATA!$B$3:$E1016,4,0)","v":3.125E-2},0.30208333333333326,0.30208333333333326,{"$f":"DATA!$C$9","v":0.89},{"$f":"DATA!$C$10","v":64},1,407.81249999999989,407.81249999999989,0,"","",0,"","",0,"","","","",null,{"$f":"X1024","v":49},null,{"$f":"TEXT(Y1014,\"ddd\")","v":"ma"},"ND",{"$f":"IFERROR(HLOOKUP(Y1014,[1]DATA!$A$1:$NB$5,5,0),\"\")","v":"D2"},null,null,null,null,{"$f":"VLOOKUP(Y1014,[1]SRM!$S$4:$Z$368,4,0)","v":0},"","",""]
["49diDD",{"$f":"VLOOKUP($AA1017,DATA!$B$3:$E1017,2,0)","v":"06:30:00"},{"$f":"VLOOKUP($AA1017,DATA!$B$3:$E1017,3,0)","v":"14:30:00"},{"$f":"VLOOKUP($AA1017,DATA!$B$3:$E1017,4,0)","v":3.125E-2},0.30208333333333331,0.30208333333333331,{"$f":"DATA!$C$9","v":0.89},{"$f":"DATA!$C$10","v":64},1,407.8125,407.8125,0,"","",0,"","",0,"","","","",null,{"$f":"X1024","v":49},"2018-12-04",{"$f":"TEXT(Y1017,\"ddd\")","v":"di"},"DD",{"$f":"IFERROR(HLOOKUP(Y1017,[1]DATA!$A$1:$NB$5,3,0),\"\")","v":"D1"},null,null,null,null,{"$f":"VLOOKUP(Y1017,[1]SRM!$S$4:$Z$368,2,0)","v":0},"","",""]
["49diMD",{"$f":"VLOOKUP($AA1018,DATA!$B$3:$E1018,2,0)","v":"14:30:00"},{"$f":"VLOOKUP($AA1018,DATA!$B$3:$E1018,3,0)","v":"22:30:00"},{"$f":"VLOOKUP($AA1018,DATA!$B$3:$E1018,4,0)","v":3.125E-2},0.30208333333333337,0.30208333333333337,{"$f":"DATA!$C$9","v":0.89},{"$f":"DATA!$C$10","v":64},1,407.81250000000006,407.81250000000006,0,"","",0,"","",0,"","","","",null,{"$f":"X1024","v":49},null,{"$f":"TEXT(Y1017,\"ddd\")","v":"di"},"MD",{"$f":"IFERROR(HLOOKUP(Y1017,[1]DATA!$A$1:$NB$5,4,0),\"\")","v":"D3"},null,null,null,null,{"$f":"VLOOKUP(Y1017,[1]SRM!$S$4:$Z$368,3,0)","v":0},"","",""]
["49diND",{"$f":"VLOOKUP($AA1019,DATA!$B$3:$E1019,2,0)","v":"22:30:00"},{"$f":"VLOOKUP($AA1019,DATA!$B$3:$E1019,3,0)","v":"06:30:00"},{"$f":"VLOOKUP($AA1019,DATA!$B$3:$E1019,4,0)","v":3.125E-2},0.30208333333333326,0.30208333333333326,{"$f":"DATA!$C$9","v":0.89},{"$f":"DATA!$C$10","v":64},1,407.81249999999989,407.81249999999989,0,"","",0,"","",0,"","","","",null,{"$f":"X1024","v":49},null,{"$f":"TEXT(Y1017,\"ddd\")","v":"di"},"ND",{"$f":"IFERROR(HLOOKUP(Y1017,[1]DATA!$A$1:$NB$5,5,0),\"\")","v":"D2"},null,null,null,null,{"$f":"VLOOKUP(Y1017,[1]SRM!$S$4:$Z$368,4,0)","v":0},"","",""]
["49woDD",{"$f":"VLOOKUP($AA1020,DATA!$B$3:$E1020,2,0)","v":"06:30:00"},{"$f":"VLOOKUP($AA1020,DATA!$B$3:$E1020,3,0)","v":"14:30:00"},{"$f":"VLOOKUP($AA1020,DATA!$B$3:$E1020,4,0)","v":3.125E-2},0.30208333333333331,0.30208333333333331,{"$f":"DATA!$C$9","v":0.89},{"$f":"DATA!$C$10","v":64},1,407.8125,407.8125,0,"","",0,"","",0,"","","","",null,{"$f":"X1024","v":49},"2018-12-05",{"$f":"TEXT(Y1020,\"ddd\")","v":"wo"},"DD",{"$f":"IFERROR(HLOOKUP(Y1020,[1]DATA!$A$1:$NB$5,3,0),\"\")","v":"D1"},null,null,null,null,{"$f":"VLOOKUP(Y1020,[1]SRM!$S$4:$Z$368,2,0)","v":0},"","",""]
["49woMD",{"$f":"VLOOKUP($AA1021,DATA!$B$3:$E1021,2,0)","v":"14:30:00"},{"$f":"VLOOKUP($AA1021,DATA!$B$3:$E1021,3,0)","v":"22:30:00"},{"$f":"VLOOKUP($AA1021,DATA!$B$3:$E1021,4,0)","v":3.125E-2},0.30208333333333337,0.30208333333333337,{"$f":"DATA!$C$9","v":0.89},{"$f":"DATA!$C$10","v":64},1,407.81250000000006,407.81250000000006,0,"","",0,"","",0,"","","","",null,{"$f":"X1024","v":49},null,{"$f":"TEXT(Y1020,\"ddd\")","v":"wo"},"MD",{"$f":"IFERROR(HLOOKUP(Y1020,[1]DATA!$A$1:$NB$5,4,0),\"\")","v":"D3"},null,null,null,null,{"$f":"VLOOKUP(Y1020,[1]SRM!$S$4:$Z$368,3,0)","v":0},"","",""]
["49woND",{"$f":"VLOOKUP($AA1022,DATA!$B$3:$E1022,2,0)","v":"22:30:00"},{"$f":"VLOOKUP($AA1022,DATA!$B$3:$E1022,3,0)","v":"06:30:00"},{"$f":"VLOOKUP($AA1022,DATA!$B$3:$E1022,4,0)","v":3.125E-2},0.30208333333333326,0.30208333333333326,{"$f":"DATA!$C$9","v":0.89},{"$f":"DATA!$C$10","v":64},1,407.81249999999989,407.81249999999989,0,"","",0,"","",0,"","","","",null,{"$f":"X1024","v":49},null,{"$f":"TEXT(Y1020,\"ddd\")","v":"wo"},"ND",{"$f":"IFERROR(HLOOKUP(Y1020,[1]DATA!$A$1:$NB$5,5,0),\"\")","v":"D2"},null,null,null,null,{"$f":"VLOOKUP(Y1020,[1]SRM!$S$4:$Z$368,4,0)","v":0},"","",""]
["49doDD",{"$f":"VLOOKUP($AA1023,DATA!$B$3:$E1023,2,0)","v":"06:30:00"},{"$f":"VLOOKUP($AA1023,DATA!$B$3:$E1023,3,0)","v":"14:30:00"},{"$f":"VLOOKUP($AA1023,DATA!$B$3:$E1023,4,0)","v":3.125E-2},0.30208333333333331,0.30208333333333331,{"$f":"DATA!$C$9","v":0.89},{"$f":"DATA!$C$10","v":64},1,407.8125,407.8125,0,"","",0,"","",0,"","","","",null,{"$f":"X1024","v":49},{"$f":"Y1020+1","v":"2018-12-06"},{"$f":"TEXT(Y1023,\"ddd\")","v":"do"},"DD",{"$f":"IFERROR(HLOOKUP(Y1023,[1]DATA!$A$1:$NB$5,3,0),\"\")","v":"D1"},null,null,null,null,{"$f":"VLOOKUP(Y1023,[1]SRM!$S$4:$Z$368,2,0)","v":0},"","",""]
["49doMD",{"$f":"VLOOKUP($AA1024,DATA!$B$3:$E1024,2,0)","v":"14:30:00"},{"$f":"VLOOKUP($AA1024,DATA!$B$3:$E1024,3,0)","v":"22:30:00"},{"$f":"VLOOKUP($AA1024,DATA!$B$3:$E1024,4,0)","v":3.125E-2},0.30208333333333337,0.30208333333333337,{"$f":"DATA!$C$9","v":0.89},{"$f":"DATA!$C$10","v":64},1,407.81250000000006,407.81250000000006,0,"","",0,"","",0,"","","","",null,{"$f":"WEEKNUM($Y1014)","v":49},null,{"$f":"TEXT(Y1023,\"ddd\")","v":"do"},"MD",{"$f":"IFERROR(HLOOKUP(Y1023,[1]DATA!$A$1:$NB$5,4,0),\"\")","v":"D3"},null,null,null,null,{"$f":"VLOOKUP(Y1023,[1]SRM!$S$4:$Z$368,3,0)","v":0},"","",""]
["49doND",{"$f":"VLOOKUP($AA1025,DATA!$B$3:$E1025,2,0)","v":"22:30:00"},{"$f":"VLOOKUP($AA1025,DATA!$B$3:$E1025,3,0)","v":"06:30:00"},{"$f":"VLOOKUP($AA1025,DATA!$B$3:$E1025,4,0)","v":3.125E-2},0.30208333333333326,0.30208333333333326,{"$f":"DATA!$C$9","v":0.89},{"$f":"DATA!$C$10","v":64},1,407.81249999999989,407.81249999999989,0,"","",0,"","",0,"","","","",null,{"$f":"X1024","v":49},null,{"$f":"TEXT(Y1023,\"ddd\")","v":"do"},"ND",{"$f":"IFERROR(HLOOKUP(Y1023,[1]DATA!$A$1:$NB$5,5,0),\"\")","v":"D2"},null,null,null,null,{"$f":"VLOOKUP(Y1023,[1]SRM!$S$4:$Z$368,4,0)","v":0},"","",""]
["49vrDD",{"$f":"VLOOKUP($AA1026,DATA!$B$3:$E1026,2,0)","v":"06:30:00"},{"$f":"VLOOKUP($AA1026,DATA!$B$3:$E1026,3,0)","v":"14:30:00"},{"$f":"VLOOKUP($AA1026,DATA!$B$3:$E1026,4,0)","v":3.125E-2},0.30208333333333331,0.30208333333333331,{"$f":"DATA!$C$9","v":0.89},{"$f":"DATA!$C$10","v":64},1,407.8125,407.8125,0,"","",0,"","",0,"","","","",null,{"$f":"X1024","v":49},"2018-12-07",{"$f":"TEXT(Y1026,\"ddd\")","v":"vr"},"DD",{"$f":"IFERROR(HLOOKUP(Y1026,[1]DATA!$A$1:$NB$5,3,0),\"\")","v":"D1"},null,null,null,null,{"$f":"VLOOKUP(Y1026,[1]SRM!$S$4:$Z$368,2,0)","v":0},"","",""]
["49vrMD",{"$f":"VLOOKUP($AA1027,DATA!$B$3:$E1027,2,0)","v":"14:30:00"},{"$f":"VLOOKUP($AA1027,DATA!$B$3:$E1027,3,0)","v":"22:30:00"},{"$f":"VLOOKUP($AA1027,DATA!$B$3:$E1027,4,0)","v":3.125E-2},0.30208333333333337,0.30208333333333337,{"$f":"DATA!$C$9","v":0.89},{"$f":"DATA!$C$10","v":64},1,407.81250000000006,407.81250000000006,0,"","",0,"","",0,"","","","",null,{"$f":"X1024","v":49},null,{"$f":"TEXT(Y1026,\"ddd\")","v":"vr"},"MD",{"$f":"IFERROR(HLOOKUP(Y1026,[1]DATA!$A$1:$NB$5,4,0),\"\")","v":"D3"},null,null,null,null,{"$f":"VLOOKUP(Y1026,[1]SRM!$S$4:$Z$368,3,0)","v":0},"","",""]
["49vrND",{"$f":"VLOOKUP($AA1028,DATA!$B$3:$E1028,2,0)","v":"22:30:00"},{"$f":"VLOOKUP($AA1028,DATA!$B$3:$E1028,3,0)","v":"06:30:00"},{"$f":"VLOOKUP($AA1028,DATA!$B$3:$E1028,4,0)","v":3.125E-2},0.30208333333333326,0.30208333333333326,{"$f":"DATA!$C$9","v":0.89},{"$f":"DATA!$C$10","v":64},1,407.81249999999989,407.81249999999989,0,"","",0,"","",0,"","","","",null,{"$f":"X1024","v":49},null,{"$f":"TEXT(Y1026,\"ddd\")","v":"vr"},"ND",{"$f":"IFERROR(HLOOKUP(Y1026,[1]DATA!$A$1:$NB$5,5,0),\"\")","v":"D2"},null,null,null,null,{"$f":"VLOOKUP(Y1026,[1]SRM!$S$4:$Z$368,4,0)","v":0},"","",""]
["49zaDD",{"$f":"VLOOKUP($AA1029,DATA!$B$3:$E1029,2,0)","v":"06:30:00"},{"$f":"VLOOKUP($AA1029,DATA!$B$3:$E1029,3,0)","v":"14:30:00"},{"$f":"VLOOKUP($AA1029,DATA!$B$3:$E1029,4,0)","v":3.125E-2},0.30208333333333331,0.30208333333333331,{"$f":"DATA!$C$9","v":0.89},{"$f":"DATA!$C$10","v":64},1,407.8125,407.8125,0,"","",0,"","",0,"","","","",null,{"$f":"X1024","v":49},"2018-12-08",{"$f":"TEXT(Y1029,\"ddd\")","v":"za"},"DD",{"$f":"IFERROR(HLOOKUP(Y1029,[1]DATA!$A$1:$NB$5,3,0),\"\")","v":"D1"},null,null,null,null,{"$f":"VLOOKUP(Y1029,[1]SRM!$S$4:$Z$368,2,0)","v":0},"","",""]
["49zaMD",{"$f":"VLOOKUP($AA1030,DATA!$B$3:$E1030,2,0)","v":"14:30:00"},{"$f":"VLOOKUP($AA1030,DATA!$B$3:$E1030,3,0)","v":"22:30:00"},{"$f":"VLOOKUP($AA1030,DATA!$B$3:$E1030,4,0)","v":3.125E-2},0.30208333333333337,0.30208333333333337,{"$f":"DATA!$C$9","v":0.89},{"$f":"DATA!$C$10","v":64},1,{"$f":"F1030*86400/H1030*I1030","v":407.81250000000006},{"$f":"E1030*86400/H1030","v":407.81250000000006},0,"","",0,"","",{"$f":"AF1030*AG$2","v":0},{"$f":"IF(AF1030-AE1030=0,\"\",AF1030-AE1030)","v":""},"","","",null,{"$f":"X1024","v":49},null,{"$f":"TEXT(Y1029,\"ddd\")","v":"za"},"MD",{"$f":"IFERROR(HLOOKUP(Y1029,[1]DATA!$A$1:$NB$5,4,0),\"\")","v":"-"},null,null,null,null,{"$f":"VLOOKUP(Y1029,[1]SRM!$S$4:$Z$368,3,0)","v":0},{"$f":"IFERROR(S1030-J1030,\"\")","v":""},{"$f":"IFERROR(IF(S1030/(E1030*86400/H1030)<=0,\"\",S1030/(E1030*86400/H1030)),\"\")","v":""},""]
["49zaND",{"$f":"VLOOKUP($AA1031,DATA!$B$3:$E1031,2,0)","v":"22:30:00"},{"$f":"VLOOKUP($AA1031,DATA!$B$3:$E1031,3,0)","v":"06:30:00"},{"$f":"VLOOKUP($AA1031,DATA!$B$3:$E1031,4,0)","v":3.125E-2},0.30208333333333326,0.30208333333333326,{"$f":"DATA!$C$9","v":0.89},{"$f":"DATA!$C$10","v":64},1,407.81249999999989,407.81249999999989,{"$f":"TIME(INT($AC1031/60),INT(MOD($AC1031,60)/1),0)","v":0},{"$f":"IF($L1031*86400/$H1031=0,\"\",$L1031*86400/$H1031)","v":""},{"$f":"IFERROR($M1031/$K1031,\"\")","v":""},0,"",{"$f":"IFERROR($P1031/$K1031,\"\")","v":""},0,"",{"$f":"IF(IF($AB1031=\"D1\",$S1031,\"\")=0,\"\",IF($AB1031=\"D1\",$S1031,\"\"))","v":""},{"$f":"IF(IF($AB1031=\"D2\",$S1031,\"\")=0,\"\",IF($AB1031=\"D2\",$S1031,\"\"))","v":""},{"$f":"IF(IF($AB1031=\"D3\",$S1031,\"\")=0,\"\",IF($AB1031=\"D3\",$S1031,\"\"))","v":""},null,{"$f":"X1024","v":49},null,{"$f":"TEXT(Y1029,\"ddd\")","v":"za"},"ND",{"$f":"IFERROR(HLOOKUP(Y1029,[1]DATA!$A$1:$NB$5,5,0),\"\")","v":"-"},null,null,null,null,{"$f":"VLOOKUP(Y1029,[1]SRM!$S$4:$Z$368,4,0)","v":0},"","",""]
["49zoDD",{"$f":"VLOOKUP($AA1032,DATA!$B$3:$E1032,2,0)","v":"06:30:00"},{"$f":"VLOOKUP($AA1032,DATA!$B$3:$E1032,3,0)","v":"14:30:00"},{"$f":"VLOOKUP($AA1032,DATA!$B$3:$E1032,4,0)","v":3.125E-2},0.30208333333333331,0.30208333333333331,{"$f":"DATA!$C$9","v":0.89},{"$f":"DATA!$C$10","v":64},1,407.8125,407.8125,0,"","",0,"","",0,"","","","",null,{"$f":"X1024","v":49},"2018-12-09",{"$f":"TEXT(Y1032,\"ddd\")","v":"zo"},"DD",{"$f":"IFERROR(HLOOKUP(Y1032,[1]DATA!$A$1:$NB$5,3,0),\"\")","v":"-"},null,null,null,null,{"$f":"VLOOKUP(Y1032,[1]SRM!$S$4:$Z$368,2,0)","v":0},"","",""]
["49zoMD",{"$f":"VLOOKUP($AA1033,DATA!$B$3:$E1033,2,0)","v":"14:30:00"},{"$f":"VLOOKUP($AA1033,DATA!$B$3:$E1033,3,0)","v":"22:30:00"},{"$f":"VLOOKUP($AA1033,DATA!$B$3:$E1033,4,0)","v":3.125E-2},0.30208333333333337,0.30208333333333337,{"$f":"DATA!$C$9","v":0.89},{"$f":"DATA!$C$10","v":64},1,407.81250000000006,407.81250000000006,0,"","",0,"","",0,"","","","",null,{"$f":"X1024","v":49},null,{"$f":"TEXT(Y1032,\"ddd\")","v":"zo"},"MD",{"$f":"IFERROR(HLOOKUP(Y1032,[1]DATA!$A$1:$NB$5,4,0),\"\")","v":"-"},null,null,null,null,{"$f":"VLOOKUP(Y1032,[1]SRM!$S$4:$Z$368,3,0)","v":0},"","",""]
["49zoZND",{"$f":"VLOOKUP($AA1034,DATA!$B$3:$E1034,2,0)","v":"00:00:00"},{"$f":"VLOOKUP($AA1034,DATA!$B$3:$E1034,3,0)","v":"00:00:00"},{"$f":"VLOOKUP($AA1034,DATA!$B$3:$E1034,4,0)","v":0},0,0,{"$f":"DATA!$C$9","v":0.89},{"$f":"DATA!$C$10","v":64},1,0,0,0,"","",0,"","",0,"","","","",null,{"$f":"X1024","v":49},null,{"$f":"TEXT(Y1032,\"ddd\")","v":"zo"},"ZND",{"$f":"IFERROR(HLOOKUP(Y1032,[1]DATA!$A$1:$NB$5,5,0),\"\")","v":"-"},null,null,null,null,{"$f":"VLOOKUP(Y1032,[1]SRM!$S$4:$Z$368,4,0)","v":0},"","",""]
["50maDD",{"$f":"VLOOKUP($AA1035,DATA!$B$3:$E1035,2,0)","v":"06:30:00"},{"$f":"VLOOKUP($AA1035,DATA!$B$3:$E1035,3,0)","v":"14:30:00"},{"$f":"VLOOKUP($AA1035,DATA!$B$3:$E1035,4,0)","v":3.125E-2},0.30208333333333331,0.30208333333333331,{"$f":"DATA!$C$9","v":0.89},{"$f":"DATA!$C$10","v":64},1,407.8125,407.8125,0,"","",{"$f":"TIME(INT($AD1035/60),INT(MOD($AD1035,60)/1),0)","v":0},"","",0,"","","","",null,{"$f":"X1045","v":50},"2018-12-10",{"$f":"TEXT(Y1035,\"ddd\")","v":"ma"},"DD",{"$f":"IFERROR(HLOOKUP(Y1035,[1]DATA!$A$1:$NB$5,3,0),\"\")","v":"D3"},null,null,null,null,{"$f":"VLOOKUP(Y1035,[1]SRM!$S$4:$Z$368,2,0)","v":0},"","","",{"$f":"IF(SUMIF(S1035:S1055,\">0\",K1035:K1055)=0,\"\",SUMIF(S1035:S1055,\">0\",K1035:K1055))","v":""},{"$f":"IF(SUM(S1035:S1055)=0,\"\",SUM(S1035:S1055))","v":""},{"$f":"IFERROR(AL1035/AK1035,\"-\")","v":"-"},{"$f":"IF(SUM(M1035:M1055)=0,\"0\",SUM(M1035:M1055))","v":"0"},{"$f":"IFERROR(AN1035/AK1035,\"-\")","v":"-"},{"$f":"IF(SUM(P1035:P1055)=0,0,SUM(P1035:P1055))","v":0},{"$f":"IFERROR(AP1035/AK1035,\"-\")","v":"-"},{"$f":"IFERROR(AVERAGE(AJ1035:AJ1055),\"-\")","v":"-"},{"$f":"IFERROR(SUMIF($AB1035:$AB1055,AS$5,$AJ1035:$AJ1055)/COUNTIFS($AB1035:$AB1055,AS$5,$AJ1035:$AJ1055,\">0\"),\"\")","v":""},"","",{"$f":"IFERROR((AK1035-AL1035-AN1035-AP1035),\"-\")","v":"-"},{"$f":"IFERROR((1-AM1035-AO1035-AQ1035), \"-\")","v":"-"},{"$f":"IFERROR((AV1035*$AE$2)/60,\"-\")","v":"-"},{"$f":"IFERROR(SUM(AG1035:AG1055),\"\")","v":0}]
["50maMD",{"$f":"VLOOKUP($AA1036,DATA!$B$3:$E1036,2,0)","v":"14:30:00"},{"$f":"VLOOKUP($AA1036,DATA!$B$3:$E1036,3,0)","v":"22:30:00"},{"$f":"VLOOKUP($AA1036,DATA!$B$3:$E1036,4,0)","v":3.125E-2},0.30208333333333337,0.30208333333333337,{"$f":"DATA!$C$9","v":0.89},{"$f":"DATA!$C$10","v":64},1,407.81250000000006,407.81250000000006,0,"","",{"$f":"TIME(INT(AD1036/60),INT(MOD(AD1036,60)/1),0)","v":0},"","",0,"","","","",null,{"$f":"X1045","v":50},null,{"$f":"TEXT(Y1035,\"ddd\")","v":"ma"},"MD",{"$f":"IFERROR(HLOOKUP(Y1035,[1]DATA!$A$1:$NB$5,4,0),\"\")","v":"D2"},null,null,null,null,{"$f":"VLOOKUP(Y1035,[1]SRM!$S$4:$Z$368,3,0)","v":0},"","",""]
["50maND",{"$f":"VLOOKUP($AA1037,DATA!$B$3:$E1037,2,0)","v":"22:30:00"},{"$f":"VLOOKUP($AA1037,DATA!$B$3:$E1037,3,0)","v":"06:30:00"},{"$f":"VLOOKUP($AA1037,DATA!$B$3:$E1037,4,0)","v":3.125E-2},0.30208333333333326,0.30208333333333326,{"$f":"DATA!$C$9","v":0.89},{"$f":"DATA!$C$10","v":64},1,407.81249999999989,407.81249999999989,0,"","",0,"","",0,"","","","",null,{"$f":"X1045","v":50},null,{"$f":"TEXT(Y1035,\"ddd\")","v":"ma"},"ND",{"$f":"IFERROR(HLOOKUP(Y1035,[1]DATA!$A$1:$NB$5,5,0),\"\")","v":"D1"},null,null,null,null,{"$f":"VLOOKUP(Y1035,[1]SRM!$S$4:$Z$368,4,0)","v":0},"","",""]
["50diDD",{"$f":"VLOOKUP($AA1038,DATA!$B$3:$E1038,2,0)","v":"06:30:00"},{"$f":"VLOOKUP($AA1038,DATA!$B$3:$E1038,3,0)","v":"14:30:00"},{"$f":"VLOOKUP($AA1038,DATA!$B$3:$E1038,4,0)","v":3.125E-2},0.30208333333333331,0.30208333333333331,{"$f":"DATA!$C$9","v":0.89},{"$f":"DATA!$C$10","v":64},1,407.8125,407.8125,0,"","",0,"","",0,"","","","",null,{"$f":"X1045","v":50},"2018-12-11",{"$f":"TEXT(Y1038,\"ddd\")","v":"di"},"DD",{"$f":"IFERROR(HLOOKUP(Y1038,[1]DATA!$A$1:$NB$5,3,0),\"\")","v":"D3"},null,null,null,null,{"$f":"VLOOKUP(Y1038,[1]SRM!$S$4:$Z$368,2,0)","v":0},"","",""]
["50diMD",{"$f":"VLOOKUP($AA1039,DATA!$B$3:$E1039,2,0)","v":"14:30:00"},{"$f":"VLOOKUP($AA1039,DATA!$B$3:$E1039,3,0)","v":"22:30:00"},{"$f":"VLOOKUP($AA1039,DATA!$B$3:$E1039,4,0)","v":3.125E-2},0.30208333333333337,0.30208333333333337,{"$f":"DATA!$C$9","v":0.89},{"$f":"DATA!$C$10","v":64},1,407.81250000000006,407.81250000000006,0,"","",0,"","",0,"","","","",null,{"$f":"X1045","v":50},null,{"$f":"TEXT(Y1038,\"ddd\")","v":"di"},"MD",{"$f":"IFERROR(HLOOKUP(Y1038,[1]DATA!$A$1:$NB$5,4,0),\"\")","v":"D2"},null,null,null,null,{"$f":"VLOOKUP(Y1038,[1]SRM!$S$4:$Z$368,3,0)","v":0},"","",""]
["50diND",{"$f":"VLOOKUP($AA1040,DATA!$B$3:$E1040,2,0)","v":"22:30:00"},{"$f":"VLOOKUP($AA1040,DATA!$B$3:$E1040,3,0)","v":"06:30:00"},{"$f":"VLOOKUP($AA1040,DATA!$B$3:$E1040,4,0)","v":3.125E-2},0.30208333333333326,0.30208333333333326,{"$f":"DATA!$C$9","v":0.89},{"$f":"DATA!$C$10","v":64},1,407.81249999999989,407.81249999999989,0,"","",0,"","",0,"","","","",null,{"$f":"X1045","v":50},null,{"$f":"TEXT(Y1038,\"ddd\")","v":"di"},"ND",{"$f":"IFERROR(HLOOKUP(Y1038,[1]DATA!$A$1:$NB$5,5,0),\"\")","v":"D1"},null,null,null,null,{"$f":"VLOOKUP(Y1038,[1]SRM!$S$4:$Z$368,4,0)","v":0},"","",""]
["50woDD",{"$f":"VLOOKUP($AA1041,DATA!$B$3:$E1041,2,0)","v":"06:30:00"},{"$f":"VLOOKUP($AA1041,DATA!$B$3:$E1041,3,0)","v":"14:30:00"},{"$f":"VLOOKUP($AA1041,DATA!$B$3:$E1041,4,0)","v":3.125E-2},0.30208333333333331,0.30208333333333331,{"$f":"DATA!$C$9","v":0.89},{"$f":"DATA!$C$10","v":64},1,407.8125,407.8125,0,"","",0,"","",0,"","","","",null,{"$f":"X1045","v":50},"2018-12-12",{"$f":"TEXT(Y1041,\"ddd\")","v":"wo"},"DD",{"$f":"IFERROR(HLOOKUP(Y1041,[1]DATA!$A$1:$NB$5,3,0),\"\")","v":"D3"},null,null,null,null,{"$f":"VLOOKUP(Y1041,[1]SRM!$S$4:$Z$368,2,0)","v":0},"","",""]
["50woMD",{"$f":"VLOOKUP($AA1042,DATA!$B$3:$E1042,2,0)","v":"14:30:00"},{"$f":"VLOOKUP($AA1042,DATA!$B$3:$E1042,3,0)","v":"22:30:00"},{"$f":"VLOOKUP($AA1042,DATA!$B$3:$E1042,4,0)","v":3.125E-2},0.30208333333333337,0.30208333333333337,{"$f":"DATA!$C$9","v":0.89},{"$f":"DATA!$C$10","v":64},1,407.81250000000006,407.81250000000006,0,"","",0,"","",0,"","","","",null,{"$f":"X1045","v":50},null,{"$f":"TEXT(Y1041,\"ddd\")","v":"wo"},"MD",{"$f":"IFERROR(HLOOKUP(Y1041,[1]DATA!$A$1:$NB$5,4,0),\"\")","v":"D2"},null,null,null,null,{"$f":"VLOOKUP(Y1041,[1]SRM!$S$4:$Z$368,3,0)","v":0},"","",""]
["50woND",{"$f":"VLOOKUP($AA1043,DATA!$B$3:$E1043,2,0)","v":"22:30:00"},{"$f":"VLOOKUP($AA1043,DATA!$B$3:$E1043,3,0)","v":"06:30:00"},{"$f":"VLOOKUP($AA1043,DATA!$B$3:$E1043,4,0)","v":3.125E-2},0.30208333333333326,0.30208333333333326,{"$f":"DATA!$C$9","v":0.89},{"$f":"DATA!$C$10","v":64},1,407.81249999999989,407.81249999999989,0,"","",0,"","",0,"","","","",null,{"$f":"X1045","v":50},null,{"$f":"TEXT(Y1041,\"ddd\")","v":"wo"},"ND",{"$f":"IFERROR(HLOOKUP(Y1041,[1]DATA!$A$1:$NB$5,5,0),\"\")","v":"D1"},null,null,null,null,{"$f":"VLOOKUP(Y1041,[1]SRM!$S$4:$Z$368,4,0)","v":0},"","",""]
["50doDD",{"$f":"VLOOKUP($AA1044,DATA!$B$3:$E1044,2,0)","v":"06:30:00"},{"$f":"VLOOKUP($AA1044,DATA!$B$3:$E1044,3,0)","v":"14:30:00"},{"$f":"VLOOKUP($AA1044,DATA!$B$3:$E1044,4,0)","v":3.125E-2},0.30208333333333331,0.30208333333333331,{"$f":"DATA!$C$9","v":0.89},{"$f":"DATA!$C$10","v":64},1,407.8125,407.8125,0,"","",0,"","",0,"","","","",null,{"$f":"X1045","v":50},"2018-12-13",{"$f":"TEXT(Y1044,\"ddd\")","v":"do"},"DD",{"$f":"IFERROR(HLOOKUP(Y1044,[1]DATA!$A$1:$NB$5,3,0),\"\")","v":"D3"},null,null,null,null,{"$f":"VLOOKUP(Y1044,[1]SRM!$S$4:$Z$368,2,0)","v":0},"","",""]
["50doMD",{"$f":"VLOOKUP($AA1045,DATA!$B$3:$E1045,2,0)","v":"14:30:00"},{"$f":"VLOOKUP($AA1045,DATA!$B$3:$E1045,3,0)","v":"22:30:00"},{"$f":"VLOOKUP($AA1045,DATA!$B$3:$E1045,4,0)","v":3.125E-2},0.30208333333333337,0.30208333333333337,{"$f":"DATA!$C$9","v":0.89},{"$f":"DATA!$C$10","v":64},1,407.81250000000006,407.81250000000006,0,"","",0,"","",0,"","","","",null,{"$f":"WEEKNUM($Y1035)","v":50},null,{"$f":"TEXT(Y1044,\"ddd\")","v":"do"},"MD",{"$f":"IFERROR(HLOOKUP(Y1044,[1]DATA!$A$1:$NB$5,4,0),\"\")","v":"D2"},null,null,null,null,{"$f":"VLOOKUP(Y1044,[1]SRM!$S$4:$Z$368,3,0)","v":0},"","",""]
["50doND",{"$f":"VLOOKUP($AA1046,DATA!$B$3:$E1046,2,0)","v":"22:30:00"},{"$f":"VLOOKUP($AA1046,DATA!$B$3:$E1046,3,0)","v":"06:30:00"},{"$f":"VLOOKUP($AA1046,DATA!$B$3:$E1046,4,0)","v":3.125E-2},0.30208333333333326,0.30208333333333326,{"$f":"DATA!$C$9","v":0.89},{"$f":"DATA!$C$10","v":64},1,407.81249999999989,407.81249999999989,0,"","",0,"","",0,"","","","",null,{"$f":"X1045","v":50},null,{"$f":"TEXT(Y1044,\"ddd\")","v":"do"},"ND",{"$f":"IFERROR(HLOOKUP(Y1044,[1]DATA!$A$1:$NB$5,5,0),\"\")","v":"D1"},null,null,null,null,{"$f":"VLOOKUP(Y1044,[1]SRM!$S$4:$Z$368,4,0)","v":0},"","",""]
["50vrDD",{"$f":"VLOOKUP($AA1047,DATA!$B$3:$E1047,2,0)","v":"06:30:00"},{"$f":"VLOOKUP($AA1047,DATA!$B$3:$E1047,3,0)","v":"14:30:00"},{"$f":"VLOOKUP($AA1047,DATA!$B$3:$E1047,4,0)","v":3.125E-2},0.30208333333333331,0.30208333333333331,{"$f":"DATA!$C$9","v":0.89},{"$f":"DATA!$C$10","v":64},1,407.8125,407.8125,0,"","",0,"","",0,"","","","",null,{"$f":"X1045","v":50},"2018-12-14",{"$f":"TEXT(Y1047,\"ddd\")","v":"vr"},"DD",{"$f":"IFERROR(HLOOKUP(Y1047,[1]DATA!$A$1:$NB$5,3,0),\"\")","v":"D3"},null,null,null,null,{"$f":"VLOOKUP(Y1047,[1]SRM!$S$4:$Z$368,2,0)","v":0},"","",""]
["50vrMD",{"$f":"VLOOKUP($AA1048,DATA!$B$3:$E1048,2,0)","v":"14:30:00"},{"$f":"VLOOKUP($AA1048,DATA!$B$3:$E1048,3,0)","v":"22:30:00"},{"$f":"VLOOKUP($AA1048,DATA!$B$3:$E1048,4,0)","v":3.125E-2},0.30208333333333337,0.30208333333333337,{"$f":"DATA!$C$9","v":0.89},{"$f":"DATA!$C$10","v":64},1,407.81250000000006,407.81250000000006,0,"","",0,"","",0,"","","","",null,{"$f":"X1045","v":50},null,{"$f":"TEXT(Y1047,\"ddd\")","v":"vr"},"MD",{"$f":"IFERROR(HLOOKUP(Y1047,[1]DATA!$A$1:$NB$5,4,0),\"\")","v":"D2"},null,null,null,null,{"$f":"VLOOKUP(Y1047,[1]SRM!$S$4:$Z$368,3,0)","v":0},"","",""]
["50vrND",{"$f":"VLOOKUP($AA1049,DATA!$B$3:$E1049,2,0)","v":"22:30:00"},{"$f":"VLOOKUP($AA1049,DATA!$B$3:$E1049,3,0)","v":"06:30:00"},{"$f":"VLOOKUP($AA1049,DATA!$B$3:$E1049,4,0)","v":3.125E-2},0.30208333333333326,0.30208333333333326,{"$f":"DATA!$C$9","v":0.89},{"$f":"DATA!$C$10","v":64},1,407.81249999999989,407.81249999999989,0,"","",0,"","",0,"","","","",null,{"$f":"X1045","v":50},null,{"$f":"TEXT(Y1047,\"ddd\")","v":"vr"},"ND",{"$f":"IFERROR(HLOOKUP(Y1047,[1]DATA!$A$1:$NB$5,5,0),\"\")","v":"D2"},null,null,null,null,{"$f":"VLOOKUP(Y1047,[1]SRM!$S$4:$Z$368,4,0)","v":0},"","",""]
["50zaDD",{"$f":"VLOOKUP($AA1050,DATA!$B$3:$E1050,2,0)","v":"06:30:00"},{"$f":"VLOOKUP($AA1050,DATA!$B$3:$E1050,3,0)","v":"14:30:00"},{"$f":"VLOOKUP($AA1050,DATA!$B$3:$E1050,4,0)","v":3.125E-2},0.30208333333333331,0.30208333333333331,{"$f":"DATA!$C$9","v":0.89},{"$f":"DATA!$C$10","v":64},1,407.8125,407.8125,0,"","",0,"","",0,"","","","",null,{"$f":"X1045","v":50},"2018-12-15",{"$f":"TEXT(Y1050,\"ddd\")","v":"za"},"DD",{"$f":"IFERROR(HLOOKUP(Y1050,[1]DATA!$A$1:$NB$5,3,0),\"\")","v":"D3"},null,null,null,null,{"$f":"VLOOKUP(Y1050,[1]SRM!$S$4:$Z$368,2,0)","v":0},"","",""]
["50zaMD",{"$f":"VLOOKUP($AA1051,DATA!$B$3:$E1051,2,0)","v":"14:30:00"},{"$f":"VLOOKUP($AA1051,DATA!$B$3:$E1051,3,0)","v":"22:30:00"},{"$f":"VLOOKUP($AA1051,DATA!$B$3:$E1051,4,0)","v":3.125E-2},0.30208333333333337,0.30208333333333337,{"$f":"DATA!$C$9","v":0.89},{"$f":"DATA!$C$10","v":64},1,407.81250000000006,407.81250000000006,0,"","",0,"","",0,"","","","",null,{"$f":"X1045","v":50},null,{"$f":"TEXT(Y1050,\"ddd\")","v":"za"},"MD",{"$f":"IFERROR(HLOOKUP(Y1050,[1]DATA!$A$1:$NB$5,4,0),\"\")","v":"-"},null,null,null,null,{"$f":"VLOOKUP(Y1050,[1]SRM!$S$4:$Z$368,3,0)","v":0},"","",{"$f":"IFERROR(R1051/(R1051+AG1051),\"\")","v":""}]
["50zaND",{"$f":"VLOOKUP($AA1052,DATA!$B$3:$E1052,2,0)","v":"22:30:00"},{"$f":"VLOOKUP($AA1052,DATA!$B$3:$E1052,3,0)","v":"06:30:00"},{"$f":"VLOOKUP($AA1052,DATA!$B$3:$E1052,4,0)","v":3.125E-2},{"$f":"(C1052-B1052+(B1052>C1052))-D1052","v":0.30208333333333326},{"$f":"E1052-O1052-L1052","v":0.30208333333333326},{"$f":"DATA!$C$9","v":0.89},{"$f":"DATA!$C$10","v":64},1,407.81249999999989,407.81249999999989,0,"","",0,"","",0,"","","","",null,{"$f":"X1045","v":50},null,{"$f":"TEXT(Y1050,\"ddd\")","v":"za"},"ND",{"$f":"IFERROR(HLOOKUP(Y1050,[1]DATA!$A$1:$NB$5,5,0),\"\")","v":"-"},null,null,null,null,{"$f":"VLOOKUP(Y1050,[1]SRM!$S$4:$Z$368,4,0)","v":0},"","",""]
["50zoDD",{"$f":"VLOOKUP($AA1053,DATA!$B$3:$E1053,2,0)","v":"06:30:00"},{"$f":"VLOOKUP($AA1053,DATA!$B$3:$E1053,3,0)","v":"14:30:00"},{"$f":"VLOOKUP($AA1053,DATA!$B$3:$E1053,4,0)","v":3.125E-2},0.30208333333333331,0.30208333333333331,{"$f":"DATA!$C$9","v":0.89},{"$f":"DATA!$C$10","v":64},1,407.8125,407.8125,0,"","",0,"","",0,"","","","",null,{"$f":"X1045","v":50},"2018-12-16",{"$f":"TEXT(Y1053,\"ddd\")","v":"zo"},"DD",{"$f":"IFERROR(HLOOKUP(Y1053,[1]DATA!$A$1:$NB$5,3,0),\"\")","v":"-"},null,null,null,null,{"$f":"VLOOKUP(Y1053,[1]SRM!$S$4:$Z$368,2,0)","v":0},"","",""]
["50zoMD",{"$f":"VLOOKUP($AA1054,DATA!$B$3:$E1054,2,0)","v":"14:30:00"},{"$f":"VLOOKUP($AA1054,DATA!$B$3:$E1054,3,0)","v":"22:30:00"},{"$f":"VLOOKUP($AA1054,DATA!$B$3:$E1054,4,0)","v":3.125E-2},0.30208333333333337,0.30208333333333337,{"$f":"DATA!$C$9","v":0.89},{"$f":"DATA!$C$10","v":64},1,407.81250000000006,407.81250000000006,0,"","",0,"","",0,"","","","",null,{"$f":"X1045","v":50},null,{"$f":"TEXT(Y1053,\"ddd\")","v":"zo"},"MD",{"$f":"IFERROR(HLOOKUP(Y1053,[1]DATA!$A$1:$NB$5,4,0),\"\")","v":"-"},null,null,null,null,{"$f":"VLOOKUP(Y1053,[1]SRM!$S$4:$Z$368,3,0)","v":0},"","",""]
["50zoZND",{"$f":"VLOOKUP($AA1055,DATA!$B$3:$E1055,2,0)","v":"00:00:00"},{"$f":"VLOOKUP($AA1055,DATA!$B$3:$E1055,3,0)","v":"00:00:00"},{"$f":"VLOOKUP($AA1055,DATA!$B$3:$E1055,4,0)","v":0},0,0,{"$f":"DATA!$C$9","v":0.89},{"$f":"DATA!$C$10","v":64},1,0,0,0,"","",0,"","",0,"","","","",null,{"$f":"X1045","v":50},null,{"$f":"TEXT(Y1053,\"ddd\")","v":"zo"},"ZND",{"$f":"IFERROR(HLOOKUP(Y1053,[1]DATA!$A$1:$NB$5,5,0),\"\")","v":"-"},null,null,null,null,{"$f":"VLOOKUP(Y1053,[1]SRM!$S$4:$Z$368,4,0)","v":0},"","",""]
["51maDD",{"$f":"VLOOKUP($AA1056,DATA!$B$3:$E1056,2,0)","v":"06:30:00"},{"$f":"VLOOKUP($AA1056,DATA!$B$3:$E1056,3,0)","v":"14:30:00"},{"$f":"VLOOKUP($AA1056,DATA!$B$3:$E1056,4,0)","v":3.125E-2},0.30208333333333331,0.30208333333333331,{"$f":"DATA!$C$9","v":0.89},{"$f":"DATA!$C$10","v":64},1,407.8125,407.8125,0,"","",{"$f":"TIME(INT($AD1056/60),INT(MOD($AD1056,60)/1),0)","v":0},"","",0,"","","","",null,{"$f":"X1066","v":51},"2018-12-17",{"$f":"TEXT(Y1056,\"ddd\")","v":"ma"},"DD",{"$f":"IFERROR(HLOOKUP(Y1056,[1]DATA!$A$1:$NB$5,3,0),\"\")","v":"D2"},null,null,null,null,{"$f":"VLOOKUP(Y1056,[1]SRM!$S$4:$Z$368,2,0)","v":0},"","","",{"$f":"IF(SUMIF(S1056:S1076,\">0\",K1056:K1076)=0,\"\",SUMIF(S1056:S1076,\">0\",K1056:K1076))","v":""},{"$f":"IF(SUM(S1056:S1076)=0,\"\",SUM(S1056:S1076))","v":""},{"$f":"IFERROR(AL1056/AK1056,\"-\")","v":"-"},{"$f":"IF(SUM(M1056:M1076)=0,\"0\",SUM(M1056:M1076))","v":"0"},{"$f":"IFERROR(AN1056/AK1056,\"-\")","v":"-"},{"$f":"IF(SUM(P1056:P1076)=0,0,SUM(P1056:P1076))","v":0},{"$f":"IFERROR(AP1056/AK1056,\"-\")","v":"-"},{"$f":"IFERROR(AVERAGE(AJ1056:AJ1076),\"-\")","v":"-"},{"$f":"IFERROR(SUMIF($AB1056:$AB1076,AS$5,$AJ1056:$AJ1076)/COUNTIFS($AB1056:$AB1076,AS$5,$AJ1056:$AJ1076,\">0\"),\"\")","v":""},"","",{"$f":"IFERROR((AK1056-AL1056-AN1056-AP1056),\"-\")","v":"-"},{"$f":"IFERROR((1-AM1056-AO1056-AQ1056), \"-\")","v":"-"},{"$f":"IFERROR((AV1056*$AE$2)/60,\"-\")","v":"-"},{"$f":"IFERROR(SUM(AG1056:AG1076),\"\")","v":0}]
["51maMD",{"$f":"VLOOKUP($AA1057,DATA!$B$3:$E1057,2,0)","v":"14:30:00"},{"$f":"VLOOKUP($AA1057,DATA!$B$3:$E1057,3,0)","v":"22:30:00"},{"$f":"VLOOKUP($AA1057,DATA!$B$3:$E1057,4,0)","v":3.125E-2},0.30208333333333337,0.30208333333333337,{"$f":"DATA!$C$9","v":0.89},{"$f":"DATA!$C$10","v":64},1,407.81250000000006,407.81250000000006,0,"","",{"$f":"TIME(INT(AD1057/60),INT(MOD(AD1057,60)/1),0)","v":0},"","",0,"","","","",null,{"$f":"X1066","v":51},null,{"$f":"TEXT(Y1056,\"ddd\")","v":"ma"},"MD",{"$f":"IFERROR(HLOOKUP(Y1056,[1]DATA!$A$1:$NB$5,4,0),\"\")","v":"D1"},null,null,null,null,{"$f":"VLOOKUP(Y1056,[1]SRM!$S$4:$Z$368,3,0)","v":0},"","",""]
["51maND",{"$f":"VLOOKUP($AA1058,DATA!$B$3:$E1058,2,0)","v":"22:30:00"},{"$f":"VLOOKUP($AA1058,DATA!$B$3:$E1058,3,0)","v":"06:30:00"},{"$f":"VLOOKUP($AA1058,DATA!$B$3:$E1058,4,0)","v":3.125E-2},0.30208333333333326,0.30208333333333326,{"$f":"DATA!$C$9","v":0.89},{"$f":"DATA!$C$10","v":64},1,407.81249999999989,407.81249999999989,0,"","",0,"","",0,"","","","",null,{"$f":"X1066","v":51},null,{"$f":"TEXT(Y1056,\"ddd\")","v":"ma"},"ND",{"$f":"IFERROR(HLOOKUP(Y1056,[1]DATA!$A$1:$NB$5,5,0),\"\")","v":"D3"},null,null,null,null,{"$f":"VLOOKUP(Y1056,[1]SRM!$S$4:$Z$368,4,0)","v":0},"","",""]
["51diDD",{"$f":"VLOOKUP($AA1059,DATA!$B$3:$E1059,2,0)","v":"06:30:00"},{"$f":"VLOOKUP($AA1059,DATA!$B$3:$E1059,3,0)","v":"14:30:00"},{"$f":"VLOOKUP($AA1059,DATA!$B$3:$E1059,4,0)","v":3.125E-2},0.30208333333333331,0.30208333333333331,{"$f":"DATA!$C$9","v":0.89},{"$f":"DATA!$C$10","v":64},1,407.8125,407.8125,0,"","",0,"","",0,"","","","",null,{"$f":"X1066","v":51},"2018-12-18",{"$f":"TEXT(Y1059,\"ddd\")","v":"di"},"DD",{"$f":"IFERROR(HLOOKUP(Y1059,[1]DATA!$A$1:$NB$5,3,0),\"\")","v":"D2"},null,null,null,null,{"$f":"VLOOKUP(Y1059,[1]SRM!$S$4:$Z$368,2,0)","v":0},"","",""]
["51diMD",{"$f":"VLOOKUP($AA1060,DATA!$B$3:$E1060,2,0)","v":"14:30:00"},{"$f":"VLOOKUP($AA1060,DATA!$B$3:$E1060,3,0)","v":"22:30:00"},{"$f":"VLOOKUP($AA1060,DATA!$B$3:$E1060,4,0)","v":3.125E-2},0.30208333333333337,0.30208333333333337,{"$f":"DATA!$C$9","v":0.89},{"$f":"DATA!$C$10","v":64},1,407.81250000000006,407.81250000000006,0,"","",0,"","",0,"","","","",null,{"$f":"X1066","v":51},null,{"$f":"TEXT(Y1059,\"ddd\")","v":"di"},"MD",{"$f":"IFERROR(HLOOKUP(Y1059,[1]DATA!$A$1:$NB$5,4,0),\"\")","v":"D1"},null,null,null,null,{"$f":"VLOOKUP(Y1059,[1]SRM!$S$4:$Z$368,3,0)","v":0},"","",""]
["51diND",{"$f":"VLOOKUP($AA1061,DATA!$B$3:$E1061,2,0)","v":"22:30:00"},{"$f":"VLOOKUP($AA1061,DATA!$B$3:$E1061,3,0)","v":"06:30:00"},{"$f":"VLOOKUP($AA1061,DATA!$B$3:$E1061,4,0)","v":3.125E-2},0.30208333333333326,0.30208333333333326,{"$f":"DATA!$C$9","v":0.89},{"$f":"DATA!$C$10","v":64},1,407.81249999999989,407.81249999999989,0,"","",0,"","",0,"","","","",null,{"$f":"X1066","v":51},null,{"$f":"TEXT(Y1059,\"ddd\")","v":"di"},"ND",{"$f":"IFERROR(HLOOKUP(Y1059,[1]DATA!$A$1:$NB$5,5,0),\"\")","v":"D3"},null,null,null,null,{"$f":"VLOOKUP(Y1059,[1]SRM!$S$4:$Z$368,4,0)","v":0},"","",""]
["51woDD",{"$f":"VLOOKUP($AA1062,DATA!$B$3:$E1062,2,0)","v":"06:30:00"},{"$f":"VLOOKUP($AA1062,DATA!$B$3:$E1062,3,0)","v":"14:30:00"},{"$f":"VLOOKUP($AA1062,DATA!$B$3:$E1062,4,0)","v":3.125E-2},0.30208333333333331,0.30208333333333331,{"$f":"DATA!$C$9","v":0.89},{"$f":"DATA!$C$10","v":64},1,407.8125,407.8125,0,"","",0,"","",0,"","","","",null,{"$f":"X1066","v":51},"2018-12-19",{"$f":"TEXT(Y1062,\"ddd\")","v":"wo"},"DD",{"$f":"IFERROR(HLOOKUP(Y1062,[1]DATA!$A$1:$NB$5,3,0),\"\")","v":"D2"},null,null,null,null,{"$f":"VLOOKUP(Y1062,[1]SRM!$S$4:$Z$368,2,0)","v":0},"","",""]
["51woMD",{"$f":"VLOOKUP($AA1063,DATA!$B$3:$E1063,2,0)","v":"14:30:00"},{"$f":"VLOOKUP($AA1063,DATA!$B$3:$E1063,3,0)","v":"22:30:00"},{"$f":"VLOOKUP($AA1063,DATA!$B$3:$E1063,4,0)","v":3.125E-2},0.30208333333333337,0.30208333333333337,{"$f":"DATA!$C$9","v":0.89},{"$f":"DATA!$C$10","v":64},1,407.81250000000006,407.81250000000006,0,"","",0,"","",0,"","","","",null,{"$f":"X1066","v":51},null,{"$f":"TEXT(Y1062,\"ddd\")","v":"wo"},"MD",{"$f":"IFERROR(HLOOKUP(Y1062,[1]DATA!$A$1:$NB$5,4,0),\"\")","v":"D1"},null,null,null,null,{"$f":"VLOOKUP(Y1062,[1]SRM!$S$4:$Z$368,3,0)","v":0},"","",""]
["51woND",{"$f":"VLOOKUP($AA1064,DATA!$B$3:$E1064,2,0)","v":"22:30:00"},{"$f":"VLOOKUP($AA1064,DATA!$B$3:$E1064,3,0)","v":"06:30:00"},{"$f":"VLOOKUP($AA1064,DATA!$B$3:$E1064,4,0)","v":3.125E-2},0.30208333333333326,0.30208333333333326,{"$f":"DATA!$C$9","v":0.89},{"$f":"DATA!$C$10","v":64},1,407.81249999999989,407.81249999999989,0,"","",0,"","",0,"","","","",null,{"$f":"X1066","v":51},null,{"$f":"TEXT(Y1062,\"ddd\")","v":"wo"},"ND",{"$f":"IFERROR(HLOOKUP(Y1062,[1]DATA!$A$1:$NB$5,5,0),\"\")","v":"D3"},null,null,null,null,{"$f":"VLOOKUP(Y1062,[1]SRM!$S$4:$Z$368,4,0)","v":0},"","",""]
["51doDD",{"$f":"VLOOKUP($AA1065,DATA!$B$3:$E1065,2,0)","v":"06:30:00"},{"$f":"VLOOKUP($AA1065,DATA!$B$3:$E1065,3,0)","v":"14:30:00"},{"$f":"VLOOKUP($AA1065,DATA!$B$3:$E1065,4,0)","v":3.125E-2},0.30208333333333331,0.30208333333333331,{"$f":"DATA!$C$9","v":0.89},{"$f":"DATA!$C$10","v":64},1,407.8125,407.8125,0,"","",0,"","",0,"","","","",null,{"$f":"X1066","v":51},"2018-12-20",{"$f":"TEXT(Y1065,\"ddd\")","v":"do"},"DD",{"$f":"IFERROR(HLOOKUP(Y1065,[1]DATA!$A$1:$NB$5,3,0),\"\")","v":"D2"},null,null,null,null,{"$f":"VLOOKUP(Y1065,[1]SRM!$S$4:$Z$368,2,0)","v":0},"","",""]
["51doMD",{"$f":"VLOOKUP($AA1066,DATA!$B$3:$E1066,2,0)","v":"14:30:00"},{"$f":"VLOOKUP($AA1066,DATA!$B$3:$E1066,3,0)","v":"22:30:00"},{"$f":"VLOOKUP($AA1066,DATA!$B$3:$E1066,4,0)","v":3.125E-2},0.30208333333333337,0.30208333333333337,{"$f":"DATA!$C$9","v":0.89},{"$f":"DATA!$C$10","v":64},1,407.81250000000006,407.81250000000006,0,"","",0,"","",0,"","","","",null,{"$f":"WEEKNUM($Y1056)","v":51},null,{"$f":"TEXT(Y1065,\"ddd\")","v":"do"},"MD",{"$f":"IFERROR(HLOOKUP(Y1065,[1]DATA!$A$1:$NB$5,4,0),\"\")","v":"D1"},null,null,null,null,{"$f":"VLOOKUP(Y1065,[1]SRM!$S$4:$Z$368,3,0)","v":0},"","",""]
["51doND",{"$f":"VLOOKUP($AA1067,DATA!$B$3:$E1067,2,0)","v":"22:30:00"},{"$f":"VLOOKUP($AA1067,DATA!$B$3:$E1067,3,0)","v":"06:30:00"},{"$f":"VLOOKUP($AA1067,DATA!$B$3:$E1067,4,0)","v":3.125E-2},0.30208333333333326,0.30208333333333326,{"$f":"DATA!$C$9","v":0.89},{"$f":"DATA!$C$10","v":64},1,407.81249999999989,407.81249999999989,0,"","",0,"","",0,"","","","",null,{"$f":"X1066","v":51},null,{"$f":"TEXT(Y1065,\"ddd\")","v":"do"},"ND",{"$f":"IFERROR(HLOOKUP(Y1065,[1]DATA!$A$1:$NB$5,5,0),\"\")","v":"D3"},null,null,null,null,{"$f":"VLOOKUP(Y1065,[1]SRM!$S$4:$Z$368,4,0)","v":0},"","",""]
["51vrDD",{"$f":"VLOOKUP($AA1068,DATA!$B$3:$E1068,2,0)","v":"06:30:00"},{"$f":"VLOOKUP($AA1068,DATA!$B$3:$E1068,3,0)","v":"14:30:00"},{"$f":"VLOOKUP($AA1068,DATA!$B$3:$E1068,4,0)","v":3.125E-2},0.30208333333333331,0.30208333333333331,{"$f":"DATA!$C$9","v":0.89},{"$f":"DATA!$C$10","v":64},1,407.8125,407.8125,0,"","",0,"","",0,"","","","",null,{"$f":"X1066","v":51},"2018-12-21",{"$f":"TEXT(Y1068,\"ddd\")","v":"vr"},"DD",{"$f":"IFERROR(HLOOKUP(Y1068,[1]DATA!$A$1:$NB$5,3,0),\"\")","v":"D2"},null,null,null,null,{"$f":"VLOOKUP(Y1068,[1]SRM!$S$4:$Z$368,2,0)","v":0},"","",""]
["51vrMD",{"$f":"VLOOKUP($AA1069,DATA!$B$3:$E1069,2,0)","v":"14:30:00"},{"$f":"VLOOKUP($AA1069,DATA!$B$3:$E1069,3,0)","v":"22:30:00"},{"$f":"VLOOKUP($AA1069,DATA!$B$3:$E1069,4,0)","v":3.125E-2},0.30208333333333337,0.30208333333333337,{"$f":"DATA!$C$9","v":0.89},{"$f":"DATA!$C$10","v":64},1,407.81250000000006,407.81250000000006,0,"","",0,"","",0,"","","","",null,{"$f":"X1066","v":51},null,{"$f":"TEXT(Y1068,\"ddd\")","v":"vr"},"MD",{"$f":"IFERROR(HLOOKUP(Y1068,[1]DATA!$A$1:$NB$5,4,0),\"\")","v":"D1"},null,null,null,null,{"$f":"VLOOKUP(Y1068,[1]SRM!$S$4:$Z$368,3,0)","v":0},"","",""]
["51vrND",{"$f":"VLOOKUP($AA1070,DATA!$B$3:$E1070,2,0)","v":"22:30:00"},{"$f":"VLOOKUP($AA1070,DATA!$B$3:$E1070,3,0)","v":"06:30:00"},{"$f":"VLOOKUP($AA1070,DATA!$B$3:$E1070,4,0)","v":3.125E-2},0.30208333333333326,0.30208333333333326,{"$f":"DATA!$C$9","v":0.89},{"$f":"DATA!$C$10","v":64},1,407.81249999999989,407.81249999999989,0,"","",0,"","",0,"","","","",null,{"$f":"X1066","v":51},null,{"$f":"TEXT(Y1068,\"ddd\")","v":"vr"},"ND",{"$f":"IFERROR(HLOOKUP(Y1068,[1]DATA!$A$1:$NB$5,5,0),\"\")","v":"D3"},null,null,null,null,{"$f":"VLOOKUP(Y1068,[1]SRM!$S$4:$Z$368,4,0)","v":0},"","",""]
["51zaDD",{"$f":"VLOOKUP($AA1071,DATA!$B$3:$E1071,2,0)","v":"06:30:00"},{"$f":"VLOOKUP($AA1071,DATA!$B$3:$E1071,3,0)","v":"14:30:00"},{"$f":"VLOOKUP($AA1071,DATA!$B$3:$E1071,4,0)","v":3.125E-2},0.30208333333333331,0.30208333333333331,{"$f":"DATA!$C$9","v":0.89},{"$f":"DATA!$C$10","v":64},1,407.8125,407.8125,0,"","",0,"","",0,"","","","",null,{"$f":"X1066","v":51},"2018-12-22",{"$f":"TEXT(Y1071,\"ddd\")","v":"za"},"DD",{"$f":"IFERROR(HLOOKUP(Y1071,[1]DATA!$A$1:$NB$5,3,0),\"\")","v":"D2"},null,null,null,null,{"$f":"VLOOKUP(Y1071,[1]SRM!$S$4:$Z$368,2,0)","v":0},"","",""]
[{"$f":"X1072&Z1072&AA1072","v":"51zaMD"},{"$f":"VLOOKUP($AA1072,DATA!$B$3:$E1072,2,0)","v":"14:30:00"},{"$f":"VLOOKUP($AA1072,DATA!$B$3:$E1072,3,0)","v":"22:30:00"},{"$f":"VLOOKUP($AA1072,DATA!$B$3:$E1072,4,0)","v":3.125E-2},0.30208333333333337,0.30208333333333337,{"$f":"DATA!$C$9","v":0.89},{"$f":"DATA!$C$10","v":64},1,407.81250000000006,407.81250000000006,0,"","",0,{"$f":"IF($O1072*86400/$H1072=0,\"\",$O1072*86400/$H1072)","v":""},"",0,"","","","",null,{"$f":"X1066","v":51},null,{"$f":"TEXT(Y1071,\"ddd\")","v":"za"},"MD",{"$f":"IFERROR(HLOOKUP(Y1071,[1]DATA!$A$1:$NB$5,4,0),\"\")","v":"-"},null,null,null,null,{"$f":"VLOOKUP(Y1071,[1]SRM!$S$4:$Z$368,3,0)","v":0},"","",""]
["51zaND",{"$f":"VLOOKUP($AA1073,DATA!$B$3:$E1073,2,0)","v":"22:30:00"},{"$f":"VLOOKUP($AA1073,DATA!$B$3:$E1073,3,0)","v":"06:30:00"},{"$f":"VLOOKUP($AA1073,DATA!$B$3:$E1073,4,0)","v":3.125E-2},0.30208333333333326,0.30208333333333326,{"$f":"DATA!$C$9","v":0.89},{"$f":"DATA!$C$10","v":64},1,407.81249999999989,407.81249999999989,0,"","",0,"","",0,"","","","",null,{"$f":"X1066","v":51},null,{"$f":"TEXT(Y1071,\"ddd\")","v":"za"},"ND",{"$f":"IFERROR(HLOOKUP(Y1071,[1]DATA!$A$1:$NB$5,5,0),\"\")","v":"-"},null,null,null,null,{"$f":"VLOOKUP(Y1071,[1]SRM!$S$4:$Z$368,4,0)","v":0},"","",""]
["51zoDD",{"$f":"VLOOKUP($AA1074,DATA!$B$3:$E1074,2,0)","v":"06:30:00"},{"$f":"VLOOKUP($AA1074,DATA!$B$3:$E1074,3,0)","v":"14:30:00"},{"$f":"VLOOKUP($AA1074,DATA!$B$3:$E1074,4,0)","v":3.125E-2},0.30208333333333331,0.30208333333333331,{"$f":"DATA!$C$9","v":0.89},{"$f":"DATA!$C$10","v":64},1,407.8125,407.8125,0,"","",0,"","",0,"","","","",null,{"$f":"X1066","v":51},"2018-12-23",{"$f":"TEXT(Y1074,\"ddd\")","v":"zo"},"DD",{"$f":"IFERROR(HLOOKUP(Y1074,[1]DATA!$A$1:$NB$5,3,0),\"\")","v":"-"},null,null,null,null,{"$f":"VLOOKUP(Y1074,[1]SRM!$S$4:$Z$368,2,0)","v":0},"","",""]
["51zoMD",{"$f":"VLOOKUP($AA1075,DATA!$B$3:$E1075,2,0)","v":"14:30:00"},{"$f":"VLOOKUP($AA1075,DATA!$B$3:$E1075,3,0)","v":"22:30:00"},{"$f":"VLOOKUP($AA1075,DATA!$B$3:$E1075,4,0)","v":3.125E-2},0.30208333333333337,0.30208333333333337,{"$f":"DATA!$C$9","v":0.89},{"$f":"DATA!$C$10","v":64},1,407.81250000000006,407.81250000000006,0,"","",0,"","",0,"","","","",null,{"$f":"X1066","v":51},null,{"$f":"TEXT(Y1074,\"ddd\")","v":"zo"},"MD",{"$f":"IFERROR(HLOOKUP(Y1074,[1]DATA!$A$1:$NB$5,4,0),\"\")","v":"-"},null,null,null,null,{"$f":"VLOOKUP(Y1074,[1]SRM!$S$4:$Z$368,3,0)","v":0},"","",""]
["51zoZND",{"$f":"VLOOKUP($AA1076,DATA!$B$3:$E1076,2,0)","v":"00:00:00"},{"$f":"VLOOKUP($AA1076,DATA!$B$3:$E1076,3,0)","v":"00:00:00"},{"$f":"VLOOKUP($AA1076,DATA!$B$3:$E1076,4,0)","v":0},0,0,{"$f":"DATA!$C$9","v":0.89},{"$f":"DATA!$C$10","v":64},1,0,0,0,"","",0,"","",0,"","","","",null,{"$f":"X1066","v":51},null,{"$f":"TEXT(Y1074,\"ddd\")","v":"zo"},"ZND",{"$f":"IFERROR(HLOOKUP(Y1074,[1]DATA!$A$1:$NB$5,5,0),\"\")","v":"-"},null,null,null,null,{"$f":"VLOOKUP(Y1074,[1]SRM!$S$4:$Z$368,4,0)","v":0},"","",""]
["52maDD",{"$f":"VLOOKUP($AA1077,DATA!$B$3:$E1077,2,0)","v":"06:30:00"},{"$f":"VLOOKUP($AA1077,DATA!$B$3:$E1077,3,0)","v":"14:30:00"},{"$f":"VLOOKUP($AA1077,DATA!$B$3:$E1077,4,0)","v":3.125E-2},0.30208333333333331,0.30208333333333331,{"$f":"DATA!$C$9","v":0.89},{"$f":"DATA!$C$10","v":64},1,407.8125,407.8125,0,"","",{"$f":"TIME(INT($AD1077/60),INT(MOD($AD1077,60)/1),0)","v":0},"","",0,"","","","",null,{"$f":"X1087","v":52},"2018-12-24",{"$f":"TEXT(Y1077,\"ddd\")","v":"ma"},"DD",{"$f":"IFERROR(HLOOKUP(Y1077,[1]DATA!$A$1:$NB$5,3,0),\"\")","v":"D1"},null,null,null,null,{"$f":"VLOOKUP(Y1077,[1]SRM!$S$4:$Z$368,2,0)","v":0},"","","",{"$f":"IF(SUMIF(S1077:S1097,\">0\",K1077:K1097)=0,\"\",SUMIF(S1077:S1097,\">0\",K1077:K1097))","v":""},{"$f":"IF(SUM(S1077:S1097)=0,\"\",SUM(S1077:S1097))","v":""},{"$f":"IFERROR(AL1077/AK1077,\"-\")","v":"-"},{"$f":"IF(SUM(M1077:M1097)=0,\"0\",SUM(M1077:M1097))","v":"0"},{"$f":"IFERROR(AN1077/AK1077,\"-\")","v":"-"},{"$f":"IF(SUM(P1077:P1097)=0,0,SUM(P1077:P1097))","v":0},{"$f":"IFERROR(AP1077/AK1077,\"-\")","v":"-"},{"$f":"IFERROR(AVERAGE(AJ1077:AJ1097),\"-\")","v":"-"},{"$f":"IFERROR(SUMIF($AB1077:$AB1097,AS$5,$AJ1077:$AJ1097)/COUNTIFS($AB1077:$AB1097,AS$5,$AJ1077:$AJ1097,\">0\"),\"\")","v":""},"","",{"$f":"IFERROR((AK1077-AL1077-AN1077-AP1077),\"-\")","v":"-"},{"$f":"IFERROR((1-AM1077-AO1077-AQ1077), \"-\")","v":"-"},{"$f":"IFERROR((AV1077*$AE$2)/60,\"-\")","v":"-"},{"$f":"IFERROR(SUM(AG1077:AG1097),\"\")","v":0}]
["52maMD",{"$f":"VLOOKUP($AA1078,DATA!$B$3:$E1078,2,0)","v":"14:30:00"},{"$f":"VLOOKUP($AA1078,DATA!$B$3:$E1078,3,0)","v":"22:30:00"},{"$f":"VLOOKUP($AA1078,DATA!$B$3:$E1078,4,0)","v":3.125E-2},0.30208333333333337,0.30208333333333337,{"$f":"DATA!$C$9","v":0.89},{"$f":"DATA!$C$10","v":64},1,407.81250000000006,407.81250000000006,0,"","",{"$f":"TIME(INT(AD1078/60),INT(MOD(AD1078,60)/1),0)","v":0},"","",0,"","","","",null,{"$f":"X1087","v":52},null,{"$f":"TEXT(Y1077,\"ddd\")","v":"ma"},"MD",{"$f":"IFERROR(HLOOKUP(Y1077,[1]DATA!$A$1:$NB$5,4,0),\"\")","v":"D3"},null,null,null,null,{"$f":"VLOOKUP(Y1077,[1]SRM!$S$4:$Z$368,3,0)","v":0},"","",""]
["52maND",{"$f":"VLOOKUP($AA1079,DATA!$B$3:$E1079,2,0)","v":"22:30:00"},{"$f":"VLOOKUP($AA1079,DATA!$B$3:$E1079,3,0)","v":"06:30:00"},{"$f":"VLOOKUP($AA1079,DATA!$B$3:$E1079,4,0)","v":3.125E-2},0.30208333333333326,0.30208333333333326,{"$f":"DATA!$C$9","v":0.89},{"$f":"DATA!$C$10","v":64},1,407.81249999999989,407.81249999999989,0,"","",0,"","",0,"","","","",null,{"$f":"X1087","v":52},null,{"$f":"TEXT(Y1077,\"ddd\")","v":"ma"},"ND",{"$f":"IFERROR(HLOOKUP(Y1077,[1]DATA!$A$1:$NB$5,5,0),\"\")","v":"D2"},null,null,null,null,{"$f":"VLOOKUP(Y1077,[1]SRM!$S$4:$Z$368,4,0)","v":0},"","",""]
["52diDD",{"$f":"VLOOKUP($AA1080,DATA!$B$3:$E1080,2,0)","v":"06:30:00"},{"$f":"VLOOKUP($AA1080,DATA!$B$3:$E1080,3,0)","v":"14:30:00"},{"$f":"VLOOKUP($AA1080,DATA!$B$3:$E1080,4,0)","v":3.125E-2},0.30208333333333331,0.30208333333333331,{"$f":"DATA!$C$9","v":0.89},{"$f":"DATA!$C$10","v":64},1,407.8125,407.8125,0,"","",0,"","",0,"","","","",null,{"$f":"X1087","v":52},"2018-12-25",{"$f":"TEXT(Y1080,\"ddd\")","v":"di"},"DD",{"$f":"IFERROR(HLOOKUP(Y1080,[1]DATA!$A$1:$NB$5,3,0),\"\")","v":"D1"},null,null,null,null,{"$f":"VLOOKUP(Y1080,[1]SRM!$S$4:$Z$368,2,0)","v":0},"","",""]
["52diMD",{"$f":"VLOOKUP($AA1081,DATA!$B$3:$E1081,2,0)","v":"14:30:00"},{"$f":"VLOOKUP($AA1081,DATA!$B$3:$E1081,3,0)","v":"22:30:00"},{"$f":"VLOOKUP($AA1081,DATA!$B$3:$E1081,4,0)","v":3.125E-2},0.30208333333333337,0.30208333333333337,{"$f":"DATA!$C$9","v":0.89},{"$f":"DATA!$C$10","v":64},1,407.81250000000006,407.81250000000006,0,"","",0,"","",0,"","","","",null,{"$f":"X1087","v":52},null,{"$f":"TEXT(Y1080,\"ddd\")","v":"di"},"MD",{"$f":"IFERROR(HLOOKUP(Y1080,[1]DATA!$A$1:$NB$5,4,0),\"\")","v":"D3"},null,null,null,null,{"$f":"VLOOKUP(Y1080,[1]SRM!$S$4:$Z$368,3,0)","v":0},"","",""]
["52diND",{"$f":"VLOOKUP($AA1082,DATA!$B$3:$E1082,2,0)","v":"22:30:00"},{"$f":"VLOOKUP($AA1082,DATA!$B$3:$E1082,3,0)","v":"06:30:00"},{"$f":"VLOOKUP($AA1082,DATA!$B$3:$E1082,4,0)","v":3.125E-2},0.30208333333333326,0.30208333333333326,{"$f":"DATA!$C$9","v":0.89},{"$f":"DATA!$C$10","v":64},1,407.81249999999989,407.81249999999989,0,"","",0,"","",0,"","","","",null,{"$f":"X1087","v":52},null,{"$f":"TEXT(Y1080,\"ddd\")","v":"di"},"ND",{"$f":"IFERROR(HLOOKUP(Y1080,[1]DATA!$A$1:$NB$5,5,0),\"\")","v":"D2"},null,null,null,null,{"$f":"VLOOKUP(Y1080,[1]SRM!$S$4:$Z$368,4,0)","v":0},"","",""]
["52woDD",{"$f":"VLOOKUP($AA1083,DATA!$B$3:$E1083,2,0)","v":"06:30:00"},{"$f":"VLOOKUP($AA1083,DATA!$B$3:$E1083,3,0)","v":"14:30:00"},{"$f":"VLOOKUP($AA1083,DATA!$B$3:$E1083,4,0)","v":3.125E-2},0.30208333333333331,0.30208333333333331,{"$f":"DATA!$C$9","v":0.89},{"$f":"DATA!$C$10","v":64},1,407.8125,407.8125,0,"","",0,"","",0,"","","","",null,{"$f":"X1087","v":52},"2018-12-26",{"$f":"TEXT(Y1083,\"ddd\")","v":"wo"},"DD",{"$f":"IFERROR(HLOOKUP(Y1083,[1]DATA!$A$1:$NB$5,3,0),\"\")","v":"D1"},null,null,null,null,{"$f":"VLOOKUP(Y1083,[1]SRM!$S$4:$Z$368,2,0)","v":0},"","",""]
["52woMD",{"$f":"VLOOKUP($AA1084,DATA!$B$3:$E1084,2,0)","v":"14:30:00"},{"$f":"VLOOKUP($AA1084,DATA!$B$3:$E1084,3,0)","v":"22:30:00"},{"$f":"VLOOKUP($AA1084,DATA!$B$3:$E1084,4,0)","v":3.125E-2},0.30208333333333337,0.30208333333333337,{"$f":"DATA!$C$9","v":0.89},{"$f":"DATA!$C$10","v":64},1,407.81250000000006,407.81250000000006,0,"","",0,"","",0,"","","","",null,{"$f":"X1087","v":52},null,{"$f":"TEXT(Y1083,\"ddd\")","v":"wo"},"MD",{"$f":"IFERROR(HLOOKUP(Y1083,[1]DATA!$A$1:$NB$5,4,0),\"\")","v":"D3"},null,null,null,null,{"$f":"VLOOKUP(Y1083,[1]SRM!$S$4:$Z$368,3,0)","v":0},"","",""]
["52woND",{"$f":"VLOOKUP($AA1085,DATA!$B$3:$E1085,2,0)","v":"22:30:00"},{"$f":"VLOOKUP($AA1085,DATA!$B$3:$E1085,3,0)","v":"06:30:00"},{"$f":"VLOOKUP($AA1085,DATA!$B$3:$E1085,4,0)","v":3.125E-2},0.30208333333333326,0.30208333333333326,{"$f":"DATA!$C$9","v":0.89},{"$f":"DATA!$C$10","v":64},1,407.81249999999989,407.81249999999989,0,"","",0,"","",0,"","","","",null,{"$f":"X1087","v":52},null,{"$f":"TEXT(Y1083,\"ddd\")","v":"wo"},"ND",{"$f":"IFERROR(HLOOKUP(Y1083,[1]DATA!$A$1:$NB$5,5,0),\"\")","v":"D2"},null,null,null,null,{"$f":"VLOOKUP(Y1083,[1]SRM!$S$4:$Z$368,4,0)","v":0},"","",""]
["52doDD",{"$f":"VLOOKUP($AA1086,DATA!$B$3:$E1086,2,0)","v":"06:30:00"},{"$f":"VLOOKUP($AA1086,DATA!$B$3:$E1086,3,0)","v":"14:30:00"},{"$f":"VLOOKUP($AA1086,DATA!$B$3:$E1086,4,0)","v":3.125E-2},0.30208333333333331,0.30208333333333331,{"$f":"DATA!$C$9","v":0.89},{"$f":"DATA!$C$10","v":64},1,407.8125,407.8125,0,"","",0,"","",0,"","","","",null,{"$f":"X1087","v":52},"2018-12-27",{"$f":"TEXT(Y1086,\"ddd\")","v":"do"},"DD",{"$f":"IFERROR(HLOOKUP(Y1086,[1]DATA!$A$1:$NB$5,3,0),\"\")","v":"D1"},null,null,null,null,{"$f":"VLOOKUP(Y1086,[1]SRM!$S$4:$Z$368,2,0)","v":0},"","",""]
["52doMD",{"$f":"VLOOKUP($AA1087,DATA!$B$3:$E1087,2,0)","v":"14:30:00"},{"$f":"VLOOKUP($AA1087,DATA!$B$3:$E1087,3,0)","v":"22:30:00"},{"$f":"VLOOKUP($AA1087,DATA!$B$3:$E1087,4,0)","v":3.125E-2},0.30208333333333337,0.30208333333333337,{"$f":"DATA!$C$9","v":0.89},{"$f":"DATA!$C$10","v":64},1,407.81250000000006,407.81250000000006,0,"","",0,"","",0,"","","","",null,{"$f":"WEEKNUM($Y1077)","v":52},null,{"$f":"TEXT(Y1086,\"ddd\")","v":"do"},"MD",{"$f":"IFERROR(HLOOKUP(Y1086,[1]DATA!$A$1:$NB$5,4,0),\"\")","v":"D3"},null,null,null,null,{"$f":"VLOOKUP(Y1086,[1]SRM!$S$4:$Z$368,3,0)","v":0},"","",""]
["52doND",{"$f":"VLOOKUP($AA1088,DATA!$B$3:$E1088,2,0)","v":"22:30:00"},{"$f":"VLOOKUP($AA1088,DATA!$B$3:$E1088,3,0)","v":"06:30:00"},{"$f":"VLOOKUP($AA1088,DATA!$B$3:$E1088,4,0)","v":3.125E-2},0.30208333333333326,0.30208333333333326,{"$f":"DATA!$C$9","v":0.89},{"$f":"DATA!$C$10","v":64},1,407.81249999999989,407.81249999999989,0,"","",0,"","",0,"","","","",null,{"$f":"X1087","v":52},null,{"$f":"TEXT(Y1086,\"ddd\")","v":"do"},"ND",{"$f":"IFERROR(HLOOKUP(Y1086,[1]DATA!$A$1:$NB$5,5,0),\"\")","v":"D2"},null,null,null,null,{"$f":"VLOOKUP(Y1086,[1]SRM!$S$4:$Z$368,4,0)","v":0},"","",""]
["52vrDD",{"$f":"VLOOKUP($AA1089,DATA!$B$3:$E1089,2,0)","v":"06:30:00"},{"$f":"VLOOKUP($AA1089,DATA!$B$3:$E1089,3,0)","v":"14:30:00"},{"$f":"VLOOKUP($AA1089,DATA!$B$3:$E1089,4,0)","v":3.125E-2},0.30208333333333331,0.30208333333333331,{"$f":"DATA!$C$9","v":0.89},{"$f":"DATA!$C$10","v":64},1,407.8125,407.8125,0,"","",0,"","",0,"","","","",null,{"$f":"X1087","v":52},{"$f":"Y1086+1","v":"2018-12-28"},{"$f":"TEXT(Y1089,\"ddd\")","v":"vr"},"DD",{"$f":"IFERROR(HLOOKUP(Y1089,[1]DATA!$A$1:$NB$5,3,0),\"\")","v":"D1"},null,null,null,null,{"$f":"VLOOKUP(Y1089,[1]SRM!$S$4:$Z$368,2,0)","v":0},"","",""]
["52vrMD",{"$f":"VLOOKUP($AA1090,DATA!$B$3:$E1090,2,0)","v":"14:30:00"},{"$f":"VLOOKUP($AA1090,DATA!$B$3:$E1090,3,0)","v":"22:30:00"},{"$f":"VLOOKUP($AA1090,DATA!$B$3:$E1090,4,0)","v":3.125E-2},0.30208333333333337,0.30208333333333337,{"$f":"DATA!$C$9","v":0.89},{"$f":"DATA!$C$10","v":64},1,407.81250000000006,407.81250000000006,0,"","",0,"","",0,"","","","",null,{"$f":"X1087","v":52},null,{"$f":"TEXT(Y1089,\"ddd\")","v":"vr"},"MD",{"$f":"IFERROR(HLOOKUP(Y1089,[1]DATA!$A$1:$NB$5,4,0),\"\")","v":"D3"},null,null,null,null,{"$f":"VLOOKUP(Y1089,[1]SRM!$S$4:$Z$368,3,0)","v":0},"","",""]
["52vrND",{"$f":"VLOOKUP($AA1091,DATA!$B$3:$E1091,2,0)","v":"22:30:00"},{"$f":"VLOOKUP($AA1091,DATA!$B$3:$E1091,3,0)","v":"06:30:00"},{"$f":"VLOOKUP($AA1091,DATA!$B$3:$E1091,4,0)","v":3.125E-2},0.30208333333333326,0.30208333333333326,{"$f":"DATA!$C$9","v":0.89},{"$f":"DATA!$C$10","v":64},1,407.81249999999989,407.81249999999989,0,"","",0,"","",0,"","","","",null,{"$f":"X1087","v":52},null,{"$f":"TEXT(Y1089,\"ddd\")","v":"vr"},"ND",{"$f":"IFERROR(HLOOKUP(Y1089,[1]DATA!$A$1:$NB$5,5,0),\"\")","v":"D2"},null,null,null,null,{"$f":"VLOOKUP(Y1089,[1]SRM!$S$4:$Z$368,4,0)","v":0},"","",""]
["52zaDD",{"$f":"VLOOKUP($AA1092,DATA!$B$3:$E1092,2,0)","v":"06:30:00"},{"$f":"VLOOKUP($AA1092,DATA!$B$3:$E1092,3,0)","v":"14:30:00"},{"$f":"VLOOKUP($AA1092,DATA!$B$3:$E1092,4,0)","v":3.125E-2},0.30208333333333331,0.30208333333333331,{"$f":"DATA!$C$9","v":0.89},{"$f":"DATA!$C$10","v":64},1,407.8125,407.8125,0,"","",0,"","",0,"","","","",null,{"$f":"X1087","v":52},"2018-12-29",{"$f":"TEXT(Y1092,\"ddd\")","v":"za"},"DD",{"$f":"IFERROR(HLOOKUP(Y1092,[1]DATA!$A$1:$NB$5,3,0),\"\")","v":"D1"},null,null,null,null,{"$f":"VLOOKUP(Y1092,[1]SRM!$S$4:$Z$368,2,0)","v":0},"","",""]
["52zaMD",{"$f":"VLOOKUP($AA1093,DATA!$B$3:$E1093,2,0)","v":"14:30:00"},{"$f":"VLOOKUP($AA1093,DATA!$B$3:$E1093,3,0)","v":"22:30:00"},{"$f":"VLOOKUP($AA1093,DATA!$B$3:$E1093,4,0)","v":3.125E-2},0.30208333333333337,0.30208333333333337,{"$f":"DATA!$C$9","v":0.89},{"$f":"DATA!$C$10","v":64},1,407.81250000000006,407.81250000000006,0,"","",0,"","",0,"","","","",null,{"$f":"X1087","v":52},null,{"$f":"TEXT(Y1092,\"ddd\")","v":"za"},"MD",{"$f":"IFERROR(HLOOKUP(Y1092,[1]DATA!$A$1:$NB$5,4,0),\"\")","v":"-"},null,null,null,null,{"$f":"VLOOKUP(Y1092,[1]SRM!$S$4:$Z$368,3,0)","v":0},"","",""]
["52zaND",{"$f":"VLOOKUP($AA1094,DATA!$B$3:$E1094,2,0)","v":"22:30:00"},{"$f":"VLOOKUP($AA1094,DATA!$B$3:$E1094,3,0)","v":"06:30:00"},{"$f":"VLOOKUP($AA1094,DATA!$B$3:$E1094,4,0)","v":3.125E-2},0.30208333333333326,0.30208333333333326,{"$f":"DATA!$C$9","v":0.89},{"$f":"DATA!$C$10","v":64},1,{"$f":"F1094*86400/H1094*I1094","v":407.81249999999989},{"$f":"E1094*86400/H1094","v":407.81249999999989},0,"","",0,"","",{"$f":"AF1094*AG$2","v":0},{"$f":"IF(AF1094-AE1094=0,\"\",AF1094-AE1094)","v":""},"","","",null,{"$f":"X1087","v":52},null,{"$f":"TEXT(Y1092,\"ddd\")","v":"za"},"ND",{"$f":"IFERROR(HLOOKUP(Y1092,[1]DATA!$A$1:$NB$5,5,0),\"\")","v":"-"},null,null,null,null,{"$f":"VLOOKUP(Y1092,[1]SRM!$S$4:$Z$368,4,0)","v":0},{"$f":"IFERROR(S1094-J1094,\"\")","v":""},{"$f":"IFERROR(IF(S1094/(E1094*86400/H1094)<=0,\"\",S1094/(E1094*86400/H1094)),\"\")","v":""},""]
["52zoDD",{"$f":"VLOOKUP($AA1095,DATA!$B$3:$E1095,2,0)","v":"06:30:00"},{"$f":"VLOOKUP($AA1095,DATA!$B$3:$E1095,3,0)","v":"14:30:00"},{"$f":"VLOOKUP($AA1095,DATA!$B$3:$E1095,4,0)","v":3.125E-2},0.30208333333333331,0.30208333333333331,{"$f":"DATA!$C$9","v":0.89},{"$f":"DATA!$C$10","v":64},1,407.8125,407.8125,{"$f":"TIME(INT($AC1095/60),INT(MOD($AC1095,60)/1),0)","v":0},{"$f":"IF($L1095*86400/$H1095=0,\"\",$L1095*86400/$H1095)","v":""},{"$f":"IFERROR($M1095/$K1095,\"\")","v":""},0,"",{"$f":"IFERROR($P1095/$K1095,\"\")","v":""},0,"",{"$f":"IF(IF($AB1095=\"D1\",$S1095,\"\")=0,\"\",IF($AB1095=\"D1\",$S1095,\"\"))","v":""},{"$f":"IF(IF($AB1095=\"D2\",$S1095,\"\")=0,\"\",IF($AB1095=\"D2\",$S1095,\"\"))","v":""},{"$f":"IF(IF($AB1095=\"D3\",$S1095,\"\")=0,\"\",IF($AB1095=\"D3\",$S1095,\"\"))","v":""},null,{"$f":"X1087","v":52},"2018-12-30",{"$f":"TEXT(Y1095,\"ddd\")","v":"zo"},"DD",{"$f":"IFERROR(HLOOKUP(Y1095,[1]DATA!$A$1:$NB$5,3,0),\"\")","v":"-"},null,null,null,null,{"$f":"VLOOKUP(Y1095,[1]SRM!$S$4:$Z$368,2,0)","v":0},"","",""]
["52zoMD",{"$f":"VLOOKUP($AA1096,DATA!$B$3:$E1096,2,0)","v":"14:30:00"},{"$f":"VLOOKUP($AA1096,DATA!$B$3:$E1096,3,0)","v":"22:30:00"},{"$f":"VLOOKUP($AA1096,DATA!$B$3:$E1096,4,0)","v":3.125E-2},0.30208333333333337,0.30208333333333337,{"$f":"DATA!$C$9","v":0.89},{"$f":"DATA!$C$10","v":64},1,407.81250000000006,407.81250000000006,0,"","",0,"","",0,"","","","",null,{"$f":"X1087","v":52},null,{"$f":"TEXT(Y1095,\"ddd\")","v":"zo"},"MD",{"$f":"IFERROR(HLOOKUP(Y1095,[1]DATA!$A$1:$NB$5,4,0),\"\")","v":"-"},null,null,null,null,{"$f":"VLOOKUP(Y1095,[1]SRM!$S$4:$Z$368,3,0)","v":0},"","",""]
["52zoZND",{"$f":"VLOOKUP($AA1097,DATA!$B$3:$E1097,2,0)","v":"00:00:00"},{"$f":"VLOOKUP($AA1097,DATA!$B$3:$E1097,3,0)","v":"00:00:00"},{"$f":"VLOOKUP($AA1097,DATA!$B$3:$E1097,4,0)","v":0},0,0,{"$f":"DATA!$C$9","v":0.89},{"$f":"DATA!$C$10","v":64},1,0,0,0,"","",0,"","",0,"","","","",null,{"$f":"X1087","v":52},null,{"$f":"TEXT(Y1095,\"ddd\")","v":"zo"},"ZND",{"$f":"IFERROR(HLOOKUP(Y1095,[1]DATA!$A$1:$NB$5,5,0),\"\")","v":"-"},null,null,null,null,{"$f":"VLOOKUP(Y1095,[1]SRM!$S$4:$Z$368,4,0)","v":0},"","",""]
["53maDD",{"$f":"VLOOKUP($AA1098,DATA!$B$3:$E1098,2,0)","v":"06:30:00"},{"$f":"VLOOKUP($AA1098,DATA!$B$3:$E1098,3,0)","v":"14:30:00"},{"$f":"VLOOKUP($AA1098,DATA!$B$3:$E1098,4,0)","v":3.125E-2},0.30208333333333331,0.30208333333333331,{"$f":"DATA!$C$9","v":0.89},{"$f":"DATA!$C$10","v":64},1,407.8125,407.8125,0,"","",{"$f":"TIME(INT($AD1098/60),INT(MOD($AD1098,60)/1),0)","v":0},"","",0,"","","","",null,{"$f":"X1108","v":53},"2018-12-31",{"$f":"TEXT(Y1098,\"ddd\")","v":"ma"},"DD",{"$f":"IFERROR(HLOOKUP(Y1098,[1]DATA!$A$1:$NB$5,3,0),\"\")","v":"D3"},null,null,null,null,{"$f":"VLOOKUP(Y1098,[1]SRM!$S$4:$Z$368,2,0)","v":0},"","","",{"$f":"IF(SUMIF(S1098:S1118,\">0\",K1098:K1118)=0,\"\",SUMIF(S1098:S1118,\">0\",K1098:K1118))","v":""},{"$f":"IF(SUM(S1098:S1118)=0,\"\",SUM(S1098:S1118))","v":""},{"$f":"IFERROR(AL1098/AK1098,\"-\")","v":"-"},{"$f":"IF(SUM(M1098:M1118)=0,\"0\",SUM(M1098:M1118))","v":"0"},{"$f":"IFERROR(AN1098/AK1098,\"-\")","v":"-"},{"$f":"IF(SUM(P1098:P1118)=0,0,SUM(P1098:P1118))","v":0},{"$f":"IFERROR(AP1098/AK1098,\"-\")","v":"-"},{"$f":"IFERROR(AVERAGE(AJ1098:AJ1118),\"-\")","v":"-"},{"$f":"IFERROR(SUMIF($AB1098:$AB1118,AS$5,$AJ1098:$AJ1118)/COUNTIFS($AB1098:$AB1118,AS$5,$AJ1098:$AJ1118,\">0\"),\"\")","v":""},"","",{"$f":"IFERROR((AK1098-AL1098-AN1098-AP1098),\"-\")","v":"-"},{"$f":"IFERROR((1-AM1098-AO1098-AQ1098), \"-\")","v":"-"},{"$f":"IFERROR((AV1098*$AE$2)/60,\"-\")","v":"-"},{"$f":"IFERROR(SUM(AG1098:AG1118),\"\")","v":""}]
["53maMD",{"$f":"VLOOKUP($AA1099,DATA!$B$3:$E1099,2,0)","v":"14:30:00"},{"$f":"VLOOKUP($AA1099,DATA!$B$3:$E1099,3,0)","v":"22:30:00"},{"$f":"VLOOKUP($AA1099,DATA!$B$3:$E1099,4,0)","v":3.125E-2},0.30208333333333337,0.30208333333333337,{"$f":"DATA!$C$9","v":0.89},{"$f":"DATA!$C$10","v":64},1,407.81250000000006,407.81250000000006,0,"","",{"$f":"TIME(INT(AD1099/60),INT(MOD(AD1099,60)/1),0)","v":0},"","",0,"","","","",null,{"$f":"X1108","v":53},null,{"$f":"TEXT(Y1098,\"ddd\")","v":"ma"},"MD",{"$f":"IFERROR(HLOOKUP(Y1098,[1]DATA!$A$1:$NB$5,4,0),\"\")","v":"D2"},null,null,null,null,{"$f":"VLOOKUP(Y1098,[1]SRM!$S$4:$Z$368,3,0)","v":0},"","",""]
["53maND",{"$f":"VLOOKUP($AA1100,DATA!$B$3:$E1100,2,0)","v":"22:30:00"},{"$f":"VLOOKUP($AA1100,DATA!$B$3:$E1100,3,0)","v":"06:30:00"},{"$f":"VLOOKUP($AA1100,DATA!$B$3:$E1100,4,0)","v":3.125E-2},0.30208333333333326,0.30208333333333326,{"$f":"DATA!$C$9","v":0.89},{"$f":"DATA!$C$10","v":64},1,407.81249999999989,407.81249999999989,0,"","",0,"","",0,"","","","",null,{"$f":"X1108","v":53},null,{"$f":"TEXT(Y1098,\"ddd\")","v":"ma"},"ND",{"$f":"IFERROR(HLOOKUP(Y1098,[1]DATA!$A$1:$NB$5,5,0),\"\")","v":"D1"},null,null,null,null,{"$f":"VLOOKUP(Y1098,[1]SRM!$S$4:$Z$368,4,0)","v":0},"","",""]
["53diDD",{"$f":"VLOOKUP($AA1101,DATA!$B$3:$E1101,2,0)","v":"06:30:00"},{"$f":"VLOOKUP($AA1101,DATA!$B$3:$E1101,3,0)","v":"14:30:00"},{"$f":"VLOOKUP($AA1101,DATA!$B$3:$E1101,4,0)","v":3.125E-2},0.30208333333333331,0.30208333333333331,{"$f":"DATA!$C$9","v":0.89},{"$f":"DATA!$C$10","v":64},1,407.8125,407.8125,0,"","",0,"","",0,"","","","",null,{"$f":"X1108","v":53},"2019-01-01",{"$f":"TEXT(Y1101,\"ddd\")","v":"di"},"DD",{"$f":"IFERROR(HLOOKUP(Y1101,[1]DATA!$A$1:$NB$5,3,0),\"\")","v":""},null,null,null,null,{"$f":"VLOOKUP(Y1101,[1]SRM!$S$4:$Z$368,2,0)","v":{"$error":"#N/A"}},"","",""]
["53diMD",{"$f":"VLOOKUP($AA1102,DATA!$B$3:$E1102,2,0)","v":"14:30:00"},{"$f":"VLOOKUP($AA1102,DATA!$B$3:$E1102,3,0)","v":"22:30:00"},{"$f":"VLOOKUP($AA1102,DATA!$B$3:$E1102,4,0)","v":3.125E-2},0.30208333333333337,0.30208333333333337,{"$f":"DATA!$C$9","v":0.89},{"$f":"DATA!$C$10","v":64},1,407.81250000000006,407.81250000000006,0,"","",0,"","",0,"","","","",null,{"$f":"X1108","v":53},null,{"$f":"TEXT(Y1101,\"ddd\")","v":"di"},"MD",{"$f":"IFERROR(HLOOKUP(Y1101,[1]DATA!$A$1:$NB$5,4,0),\"\")","v":""},null,null,null,null,{"$f":"VLOOKUP(Y1101,[1]SRM!$S$4:$Z$368,3,0)","v":{"$error":"#N/A"}},"","",""]
["53diND",{"$f":"VLOOKUP($AA1103,DATA!$B$3:$E1103,2,0)","v":"22:30:00"},{"$f":"VLOOKUP($AA1103,DATA!$B$3:$E1103,3,0)","v":"06:30:00"},{"$f":"VLOOKUP($AA1103,DATA!$B$3:$E1103,4,0)","v":3.125E-2},0.30208333333333326,0.30208333333333326,{"$f":"DATA!$C$9","v":0.89},{"$f":"DATA!$C$10","v":64},1,407.81249999999989,407.81249999999989,0,"","",0,"","",0,"","","","",null,{"$f":"X1108","v":53},null,{"$f":"TEXT(Y1101,\"ddd\")","v":"di"},"ND",{"$f":"IFERROR(HLOOKUP(Y1101,[1]DATA!$A$1:$NB$5,5,0),\"\")","v":""},null,null,null,null,{"$f":"VLOOKUP(Y1101,[1]SRM!$S$4:$Z$368,4,0)","v":{"$error":"#N/A"}},"","",""]
["53woDD",{"$f":"VLOOKUP($AA1104,DATA!$B$3:$E1104,2,0)","v":"06:30:00"},{"$f":"VLOOKUP($AA1104,DATA!$B$3:$E1104,3,0)","v":"14:30:00"},{"$f":"VLOOKUP($AA1104,DATA!$B$3:$E1104,4,0)","v":3.125E-2},0.30208333333333331,0.30208333333333331,{"$f":"DATA!$C$9","v":0.89},{"$f":"DATA!$C$10","v":64},1,407.8125,407.8125,0,"","",0,"","",0,"","","","",null,{"$f":"X1108","v":53},"2019-01-02",{"$f":"TEXT(Y1104,\"ddd\")","v":"wo"},"DD",{"$f":"IFERROR(HLOOKUP(Y1104,[1]DATA!$A$1:$NB$5,3,0),\"\")","v":""},null,null,null,null,{"$f":"VLOOKUP(Y1104,[1]SRM!$S$4:$Z$368,2,0)","v":{"$error":"#N/A"}},"","",""]
["53woMD",{"$f":"VLOOKUP($AA1105,DATA!$B$3:$E1105,2,0)","v":"14:30:00"},{"$f":"VLOOKUP($AA1105,DATA!$B$3:$E1105,3,0)","v":"22:30:00"},{"$f":"VLOOKUP($AA1105,DATA!$B$3:$E1105,4,0)","v":3.125E-2},0.30208333333333337,0.30208333333333337,{"$f":"DATA!$C$9","v":0.89},{"$f":"DATA!$C$10","v":64},1,407.81250000000006,407.81250000000006,0,"","",0,"","",0,"","","","",null,{"$f":"X1108","v":53},null,{"$f":"TEXT(Y1104,\"ddd\")","v":"wo"},"MD",{"$f":"IFERROR(HLOOKUP(Y1104,[1]DATA!$A$1:$NB$5,4,0),\"\")","v":""},null,null,null,null,{"$f":"VLOOKUP(Y1104,[1]SRM!$S$4:$Z$368,3,0)","v":{"$error":"#N/A"}},"","",""]
["53woND",{"$f":"VLOOKUP($AA1106,DATA!$B$3:$E1106,2,0)","v":"22:30:00"},{"$f":"VLOOKUP($AA1106,DATA!$B$3:$E1106,3,0)","v":"06:30:00"},{"$f":"VLOOKUP($AA1106,DATA!$B$3:$E1106,4,0)","v":3.125E-2},0.30208333333333326,0.30208333333333326,{"$f":"DATA!$C$9","v":0.89},{"$f":"DATA!$C$10","v":64},1,407.81249999999989,407.81249999999989,0,"","",0,"","",0,"","","","",null,{"$f":"X1108","v":53},null,{"$f":"TEXT(Y1104,\"ddd\")","v":"wo"},"ND",{"$f":"IFERROR(HLOOKUP(Y1104,[1]DATA!$A$1:$NB$5,5,0),\"\")","v":""},null,null,null,null,{"$f":"VLOOKUP(Y1104,[1]SRM!$S$4:$Z$368,4,0)","v":{"$error":"#N/A"}},"","",""]
["53doDD",{"$f":"VLOOKUP($AA1107,DATA!$B$3:$E1107,2,0)","v":"06:30:00"},{"$f":"VLOOKUP($AA1107,DATA!$B$3:$E1107,3,0)","v":"14:30:00"},{"$f":"VLOOKUP($AA1107,DATA!$B$3:$E1107,4,0)","v":3.125E-2},0.30208333333333331,0.30208333333333331,{"$f":"DATA!$C$9","v":0.89},{"$f":"DATA!$C$10","v":64},1,407.8125,407.8125,0,"","",0,"","",0,"","","","",null,{"$f":"X1108","v":53},"2019-01-03",{"$f":"TEXT(Y1107,\"ddd\")","v":"do"},"DD",{"$f":"IFERROR(HLOOKUP(Y1107,[1]DATA!$A$1:$NB$5,3,0),\"\")","v":""},null,null,null,null,{"$f":"VLOOKUP(Y1107,[1]SRM!$S$4:$Z$368,2,0)","v":{"$error":"#N/A"}},"","",""]
["53doMD",{"$f":"VLOOKUP($AA1108,DATA!$B$3:$E1108,2,0)","v":"14:30:00"},{"$f":"VLOOKUP($AA1108,DATA!$B$3:$E1108,3,0)","v":"22:30:00"},{"$f":"VLOOKUP($AA1108,DATA!$B$3:$E1108,4,0)","v":3.125E-2},0.30208333333333337,0.30208333333333337,{"$f":"DATA!$C$9","v":0.89},{"$f":"DATA!$C$10","v":64},1,407.81250000000006,407.81250000000006,0,"","",0,"","",0,"","","","",null,{"$f":"WEEKNUM($Y1098)","v":53},null,{"$f":"TEXT(Y1107,\"ddd\")","v":"do"},"MD",{"$f":"IFERROR(HLOOKUP(Y1107,[1]DATA!$A$1:$NB$5,4,0),\"\")","v":""},null,null,null,null,{"$f":"VLOOKUP(Y1107,[1]SRM!$S$4:$Z$368,3,0)","v":{"$error":"#N/A"}},"","",""]
["53doND",{"$f":"VLOOKUP($AA1109,DATA!$B$3:$E1109,2,0)","v":"22:30:00"},{"$f":"VLOOKUP($AA1109,DATA!$B$3:$E1109,3,0)","v":"06:30:00"},{"$f":"VLOOKUP($AA1109,DATA!$B$3:$E1109,4,0)","v":3.125E-2},0.30208333333333326,0.30208333333333326,{"$f":"DATA!$C$9","v":0.89},{"$f":"DATA!$C$10","v":64},1,407.81249999999989,407.81249999999989,0,"","",0,"","",0,"","","","",null,{"$f":"X1108","v":53},null,{"$f":"TEXT(Y1107,\"ddd\")","v":"do"},"ND",{"$f":"IFERROR(HLOOKUP(Y1107,[1]DATA!$A$1:$NB$5,5,0),\"\")","v":""},null,null,null,null,{"$f":"VLOOKUP(Y1107,[1]SRM!$S$4:$Z$368,4,0)","v":{"$error":"#N/A"}},"","",""]
["53vrDD",{"$f":"VLOOKUP($AA1110,DATA!$B$3:$E1110,2,0)","v":"06:30:00"},{"$f":"VLOOKUP($AA1110,DATA!$B$3:$E1110,3,0)","v":"14:30:00"},{"$f":"VLOOKUP($AA1110,DATA!$B$3:$E1110,4,0)","v":3.125E-2},0.30208333333333331,0.30208333333333331,{"$f":"DATA!$C$9","v":0.89},{"$f":"DATA!$C$10","v":64},1,407.8125,407.8125,0,"","",0,"","",0,"","","","",null,{"$f":"X1108","v":53},"2019-01-04",{"$f":"TEXT(Y1110,\"ddd\")","v":"vr"},"DD",{"$f":"IFERROR(HLOOKUP(Y1110,[1]DATA!$A$1:$NB$5,3,0),\"\")","v":""},null,null,null,null,{"$f":"VLOOKUP(Y1110,[1]SRM!$S$4:$Z$368,2,0)","v":{"$error":"#N/A"}},"","",""]
["53vrMD",{"$f":"VLOOKUP($AA1111,DATA!$B$3:$E1111,2,0)","v":"14:30:00"},{"$f":"VLOOKUP($AA1111,DATA!$B$3:$E1111,3,0)","v":"22:30:00"},{"$f":"VLOOKUP($AA1111,DATA!$B$3:$E1111,4,0)","v":3.125E-2},0.30208333333333337,0.30208333333333337,{"$f":"DATA!$C$9","v":0.89},{"$f":"DATA!$C$10","v":64},1,407.81250000000006,407.81250000000006,0,"","",0,"","",0,"","","","",null,{"$f":"X1108","v":53},null,{"$f":"TEXT(Y1110,\"ddd\")","v":"vr"},"MD",{"$f":"IFERROR(HLOOKUP(Y1110,[1]DATA!$A$1:$NB$5,4,0),\"\")","v":""},null,null,null,null,{"$f":"VLOOKUP(Y1110,[1]SRM!$S$4:$Z$368,3,0)","v":{"$error":"#N/A"}},"","",""]
["53vrND",{"$f":"VLOOKUP($AA1112,DATA!$B$3:$E1112,2,0)","v":"22:30:00"},{"$f":"VLOOKUP($AA1112,DATA!$B$3:$E1112,3,0)","v":"06:30:00"},{"$f":"VLOOKUP($AA1112,DATA!$B$3:$E1112,4,0)","v":3.125E-2},0.30208333333333326,0.30208333333333326,{"$f":"DATA!$C$9","v":0.89},{"$f":"DATA!$C$10","v":64},1,407.81249999999989,407.81249999999989,0,"","",0,"","",0,"","","","",null,{"$f":"X1108","v":53},null,{"$f":"TEXT(Y1110,\"ddd\")","v":"vr"},"ND",{"$f":"IFERROR(HLOOKUP(Y1110,[1]DATA!$A$1:$NB$5,5,0),\"\")","v":""},null,null,null,null,{"$f":"VLOOKUP(Y1110,[1]SRM!$S$4:$Z$368,4,0)","v":{"$error":"#N/A"}},"","",""]
["53zaDD",{"$f":"VLOOKUP($AA1113,DATA!$B$3:$E1113,2,0)","v":"06:30:00"},{"$f":"VLOOKUP($AA1113,DATA!$B$3:$E1113,3,0)","v":"14:30:00"},{"$f":"VLOOKUP($AA1113,DATA!$B$3:$E1113,4,0)","v":3.125E-2},0.30208333333333331,0.30208333333333331,{"$f":"DATA!$C$9","v":0.89},{"$f":"DATA!$C$10","v":64},1,407.8125,407.8125,0,"","",0,"","",0,"","","","",null,{"$f":"X1108","v":53},"2019-01-05",{"$f":"TEXT(Y1113,\"ddd\")","v":"za"},"DD",{"$f":"IFERROR(HLOOKUP(Y1113,[1]DATA!$A$1:$NB$5,3,0),\"\")","v":""},null,null,null,null,{"$f":"VLOOKUP(Y1113,[1]SRM!$S$4:$Z$368,2,0)","v":{"$error":"#N/A"}},"","",""]
["53zaMD",{"$f":"VLOOKUP($AA1114,DATA!$B$3:$E1114,2,0)","v":"14:30:00"},{"$f":"VLOOKUP($AA1114,DATA!$B$3:$E1114,3,0)","v":"22:30:00"},{"$f":"VLOOKUP($AA1114,DATA!$B$3:$E1114,4,0)","v":3.125E-2},0.30208333333333337,0.30208333333333337,{"$f":"DATA!$C$9","v":0.89},{"$f":"DATA!$C$10","v":64},1,407.81250000000006,407.81250000000006,0,"","",0,"","",0,"","","","",null,{"$f":"X1108","v":53},null,{"$f":"TEXT(Y1113,\"ddd\")","v":"za"},"MD",{"$f":"IFERROR(HLOOKUP(Y1113,[1]DATA!$A$1:$NB$5,4,0),\"\")","v":""},null,null,null,null,{"$f":"VLOOKUP(Y1113,[1]SRM!$S$4:$Z$368,3,0)","v":{"$error":"#N/A"}},"","",""]
["53zaND",{"$f":"VLOOKUP($AA1115,DATA!$B$3:$E1115,2,0)","v":"22:30:00"},{"$f":"VLOOKUP($AA1115,DATA!$B$3:$E1115,3,0)","v":"06:30:00"},{"$f":"VLOOKUP($AA1115,DATA!$B$3:$E1115,4,0)","v":3.125E-2},0.30208333333333326,0.30208333333333326,{"$f":"DATA!$C$9","v":0.89},{"$f":"DATA!$C$10","v":64},1,407.81249999999989,407.81249999999989,0,"","",0,"","",0,"","","","",null,{"$f":"X1108","v":53},null,{"$f":"TEXT(Y1113,\"ddd\")","v":"za"},"ND",{"$f":"IFERROR(HLOOKUP(Y1113,[1]DATA!$A$1:$NB$5,5,0),\"\")","v":""},null,null,null,null,{"$f":"VLOOKUP(Y1113,[1]SRM!$S$4:$Z$368,4,0)","v":{"$error":"#N/A"}},"","",{"$f":"IFERROR(R1115/(R1115+AG1115),\"\")","v":""}]
["53zoDD",{"$f":"VLOOKUP($AA1116,DATA!$B$3:$E1116,2,0)","v":"06:30:00"},{"$f":"VLOOKUP($AA1116,DATA!$B$3:$E1116,3,0)","v":"14:30:00"},{"$f":"VLOOKUP($AA1116,DATA!$B$3:$E1116,4,0)","v":3.125E-2},{"$f":"(C1116-B1116+(B1116>C1116))-D1116","v":0.30208333333333331},{"$f":"E1116-O1116-L1116","v":0.30208333333333331},{"$f":"DATA!$C$9","v":0.89},{"$f":"DATA!$C$10","v":64},1,407.8125,407.8125,0,"","",0,"","",0,"","","","",null,{"$f":"X1108","v":53},"2019-01-06",{"$f":"TEXT(Y1116,\"ddd\")","v":"zo"},"DD",{"$f":"IFERROR(HLOOKUP(Y1116,[1]DATA!$A$1:$NB$5,3,0),\"\")","v":""},null,null,null,null,{"$f":"VLOOKUP(Y1116,[1]SRM!$S$4:$Z$368,2,0)","v":{"$error":"#N/A"}},"","",""]
["53zoMD",{"$f":"VLOOKUP($AA1117,DATA!$B$3:$E1117,2,0)","v":"14:30:00"},{"$f":"VLOOKUP($AA1117,DATA!$B$3:$E1117,3,0)","v":"22:30:00"},{"$f":"VLOOKUP($AA1117,DATA!$B$3:$E1117,4,0)","v":3.125E-2},0.30208333333333337,0.30208333333333337,{"$f":"DATA!$C$9","v":0.89},{"$f":"DATA!$C$10","v":64},1,407.81250000000006,407.81250000000006,0,"","",0,"","",0,"","","","",null,{"$f":"X1108","v":53},null,{"$f":"TEXT(Y1116,\"ddd\")","v":"zo"},"MD",{"$f":"IFERROR(HLOOKUP(Y1116,[1]DATA!$A$1:$NB$5,4,0),\"\")","v":""},null,null,null,null,{"$f":"VLOOKUP(Y1116,[1]SRM!$S$4:$Z$368,3,0)","v":{"$error":"#N/A"}},"","",""]
["53zoZND",{"$f":"VLOOKUP($AA1118,DATA!$B$3:$E1118,2,0)","v":"00:00:00"},{"$f":"VLOOKUP($AA1118,DATA!$B$3:$E1118,3,0)","v":"00:00:00"},{"$f":"VLOOKUP($AA1118,DATA!$B$3:$E1118,4,0)","v":0},0,0,{"$f":"DATA!$C$9","v":0.89},{"$f":"DATA!$C$10","v":64},1,0,0,0,"","",0,"","",0,"","","","",null,{"$f":"X1108","v":53},null,{"$f":"TEXT(Y1116,\"ddd\")","v":"zo"},"ZND",{"$f":"IFERROR(HLOOKUP(Y1116,[1]DATA!$A$1:$NB$5,5,0),\"\")","v":""},null,null,null,null,{"$f":"VLOOKUP(Y1116,[1]SRM!$S$4:$Z$368,4,0)","v":{"$error":"#N/A"}},"","",""]

{"sheet":"TA SRM RH","index":2,"n_rows":1118,"n_cols":52,"rows_kept":1118,"cut":false,"hidden":false,"merged":[[0,42,2,42],[0,43,1,46],[1,28,1,29],[1,30,1,31],[2,28,2,31],[2,43,2,46],[0,23,2,27],[0,28,0,29],[0,30,0,31],[0,37,2,37],[0,38,2,38],[0,41,2,41],[5,48,25,48],[5,49,25,49],[5,50,25,50],[8,24,10,24],[11,24,13,24],[14,24,16,24],[17,24,19,24],[20,24,22,24],[23,24,25,24],[5,42,25,42],[5,43,25,43],[5,44,25,44],[5,45,25,45],[5,46,25,46],[5,47,25,47],[4,37,4,38],[4,39,4,40],[4,41,4,42],[5,24,7,24],[5,36,25,36],[5,37,25,37],[5,38,25,38],[5,39,25,39],[5,40,25,40],[5,41,25,41],[26,47,46,47],[26,48,46,48],[26,49,46,49],[26,50,46,50],[29,24,31,24],[32,24,34,24],[35,24,37,24],[38,24,40,24],[41,24,43,24],[44,24,46,24],[26,41,46,41],[26,42,46,42],[26,43,46,43],[26,44,46,44],[26,45,46,45],[26,46,46,46],[26,24,28,24],[26,36,46,36],[26,37,46,37],[26,38,46,38],[26,39,46,39],[26,40,46,40],[47,47,67,47],[47,48,67,48],[47,49,67,49],[47,50,67,50],[50,24,52,24],[53,24,55,24],[56,24,58,24],[59,24,61,24],[62,24,64,24],[65,24,67,24],[47,41,67,41],[47,42,67,42],[47,43,67,43],[47,44,67,44],[47,45,67,45],[47,46,67,46],[47,24,49,24],[47,36,67,36],[47,37,67,37],[47,38,67,38],[47,39,67,39],[47,40,67,40],[68,47,88,47],[68,48,88,48],[68,49,88,49],[68,50,88,50],[71,24,73,24],[74,24,76,24],[77,24,79,24],[80,24,82,24],[83,24,85,24],[86,24,88,24],[68,41,88,41],[68,42,88,42],[68,43,88,43],[68,44,88,44],[68,45,88,45],[68,46,88,46],[68,24,70,24],[68,36,88,36],[68,37,88,37],[68,38,88,38],[68,39,88,39],[68,40,88,40],[89,47,109,47],[89,48,109,48],[89,49,109,49],[89,50,109,50],[92,24,94,24],[95,24,97,24],[98,24,100,24],[101,24,103,24],[104,24,106,24],[107,24,109,24],[89,41,109,41],[89,42,109,42],[89,43,109,43],[89,44,109,44],[89,45,109,45],[89,46,109,46],[89,24,91,24],[89,36,109,36],[89,37,109,37],[89,38,109,38],[89,39,109,39],[89,40,109,40],[110,47,130,47],[110,48,130,48],[110,49,130,49],[110,50,130,50],[113,24,115,24],[116,24,118,24],[119,24,121,24],[122,24,124,24],[125,24,127,24],[128,24,130,24],[110,41,130,41],[110,42,130,42],[110,43,130,43],[110,44,130,44],[110,45,130,45],[110,46,130,46],[110,24,112,24],[110,36,130,36],[110,37,130,37],[110,38,130,38],[110,39,130,39],[110,40,130,40],[131,47,151,47],[131,48,151,48],[131,49,151,49],[131,50,151,50],[134,24,136,24],[137,24,139,24],[140,24,142,24],[143,24,145,24],[146,24,148,24],[149,24,151,24],[131,41,151,41],[131,42,151,42],[131,43,151,43],[131,44,151,44],[131,45,151,45],[131,46,151,46],[131,24,133,24],[131,36,151,36],[131,37,151,37],[131,38,151,38],[131,39,151,39],[131,40,151,40],[152,47,172,47],[152,48,172,48],[152,49,172,49],[152,50,172,50],[155,24,157,24],[158,24,160,24],[161,24,163,24],[164,24,166,24],[167,24,169,24],[170,24,172,24],[152,41,172,41],[152,42,172,42],[152,43,172,43],[152,44,172,44],[152,45,172,45],[152,46,172,46],[152,24,154,24],[152,36,172,36],[152,37,172,37],[152,38,172,38],[152,39,172,39],[152,40,172,40],[173,47,193,47],[173,48,193,48],[173,49,193,49],[173,50,193,50],[176,24,178,24],[179,24,181,24],[182,24,184,24],[185,24,187,24],[188,24,190,24],[191,24,193,24],[173,41,193,41],[173,42,193,42],[173,43,193,43],[173,44,193,44],[173,45,193,45],[173,46,193,46],[173,24,175,24],[173,36,193,36],[173,37,193,37],[173,38,193,38],[173,39,193,39],[173,40,193,40],[194,47,214,47],[194,48,214,48],[194,49,214,49],[194,50,214,50],[197,24,199,24],[200,24,202,24],[203,24,205,24],[206,24,208,24],[209,24,211,24],[212,24,214,24],[194,41,214,41],[194,42,214,42],[194,43,214,43],[194,44,214,44],[194,45,214,45],[194,46,214,46],[194,24,196,24],[194,36,214,36],[194,37,214,37],[194,38,214,38],[194,39,214,39],[194,40,214,40],[215,47,235,47],[215,48,235,48],[215,49,235,49],[215,50,235,50],[218,24,220,24],[221,24,223,24],[224,24,226,24],[227,24,229,24],[230,24,232,24],[233,24,235,24],[215,41,235,41],[215,42,235,42],[215,43,235,43],[215,44,235,44],[215,45,235,45],[215,46,235,46],[215,24,217,24],[215,36,235,36],[215,37,235,37],[215,38,235,38],[215,39,235,39],[215,40,235,40],[236,47,256,47],[236,48,256,48],[236,49,256,49],[236,50,256,50],[239,24,241,24],[242,24,244,24],[245,24,247,24],[248,24,250,24],[251,24,253,24],[254,24,256,24],[236,41,256,41],[236,42,256,42],[236,43,256,43],[236,44,256,44],[236,45,256,45],[236,46,256,46],[236,24,238,24],[236,36,256,36],[236,37,256,37],[236,38,256,38],[236,39,256,39],[236,40,256,40],[257,47,277,47],[257,48,277,48],[257,49,277,49],[257,50,277,50],[260,24,262,24],[263,24,265,24],[266,24,268,24],[269,24,271,24],[272,24,274,24],[275,24,277,24],[257,41,277,41],[257,42,277,42],[257,43,277,43],[257,44,277,44],[257,45,277,45],[257,46,277,46],[257,24,259,24],[257,36,277,36],[257,37,277,37],[257,38,277,38],[257,39,277,39],[257,40,277,40],[278,47,298,47],[278,48,298,48],[278,49,298,49],[278,50,298,50],[281,24,283,24],[284,24,286,24],[287,24,289,24],[290,24,292,24],[293,24,295,24],[296,24,298,24],[278,41,298,41],[278,42,298,42],[278,43,298,43],[278,44,298,44],[278,45,298,45],[278,46,298,46],[278,24,280,24],[278,36,298,36],[278,37,298,37],[278,38,298,38],[278,39,298,39],[278,40,298,40],[299,47,319,47],[299,48,319,48],[299,49,319,49],[299,50,319,50],[302,24,304,24],[305,24,307,24],[308,24,310,24],[311,24,313,24],[314,24,316,24],[317,24,319,24],[299,41,319,41],[299,42,319,42],[299,43,319,43],[299,44,319,44],[299,45,319,45],[299,46,319,46],[299,24,301,24],[299,36,319,36],[299,37,319,37],[299,38,319,38],[299,39,319,39],[299,40,319,40],[320,47,340,47],[320,48,340,48],[320,49,340,49],[320,50,340,50],[323,24,325,24],[326,24,328,24],[329,24,331,24],[332,24,334,24],[335,24,337,24],[338,24,340,24],[320,41,340,41],[320,42,340,42],[320,43,340,43],[320,44,340,44],[320,45,340,45],[320,46,340,46],[320,24,322,24],[320,36,340,36],[320,37,340,37],[320,38,340,38],[320,39,340,39],[320,40,340,40],[341,47,361,47],[341,48,361,48],[341,49,361,49],[341,50,361,50],[344,24,346,24],[347,24,349,24],[350,24,352,24],[353,24,355,24],[356,24,358,24],[359,24,361,24],[341,41,361,41],[341,42,361,42],[341,43,361,43],[341,44,361,44],[341,45,361,45],[341,46,361,46],[341,24,343,24],[341,36,361,36],[341,37,361,37],[341,38,361,38],[341,39,361,39],[341,40,361,40],[362,47,382,47],[362,48,382,48],[362,49,382,49],[362,50,382,50],[365,24,367,24],[368,24,370,24],[371,24,373,24],[374,24,376,24],[377,24,379,24],[380,24,382,24],[362,41,382,41],[362,42,382,42],[362,43,382,43],[362,44,382,44],[362,45,382,45],[362,46,382,46],[362,24,364,24],[362,36,382,36],[362,37,382,37],[362,38,382,38],[362,39,382,39],[362,40,382,40],[383,47,403,47],[383,48,403,48],[383,49,403,49],[383,50,403,50],[386,24,388,24],[389,24,391,24],[392,24,394,24],[395,24,397,24],[398,24,400,24],[401,24,403,24],[383,41,403,41],[383,42,403,42],[383,43,403,43],[383,44,403,44],[383,45,403,45],[383,46,403,46],[383,24,385,24],[383,36,403,36],[383,37,403,37],[383,38,403,38],[383,39,403,39],[383,40,403,40],[404,47,424,47],[404,48,424,48],[404,49,424,49],[404,50,424,50],[407,24,409,24],[410,24,412,24],[413,24,415,24],[416,24,418,24],[419,24,421,24],[422,24,424,24],[404,41,424,41],[404,42,424,42],[404,43,424,43],[404,44,424,44],[404,45,424,45],[404,46,424,46],[404,24,406,24],[404,36,424,36],[404,37,424,37],[404,38,424,38],[404,39,424,39],[404,40,424,40],[425,47,445,47],[425,48,445,48],[425,49,445,49],[425,50,445,50],[428,24,430,24],[431,24,433,24],[434,24,436,24],[437,24,439,24],[440,24,442,24],[443,24,445,24],[425,41,445,41],[425,42,445,42],[425,43,445,43],[425,44,445,44],[425,45,445,45],[425,46,445,46],[425,24,427,24],[425,36,445,36],[425,37,445,37],[425,38,445,38],[425,39,445,39],[425,40,445,40],[446,47,466,47],[446,48,466,48],[446,49,466,49],[446,50,466,50],[449,24,451,24],[452,24,454,24],[455,24,457,24],[458,24,460,24],[461,24,463,24],[464,24,466,24],[446,41,466,41],[446,42,466,42],[446,43,466,43],[446,44,466,44],[446,45,466,45],[446,46,466,46],[446,24,448,24],[446,36,466,36],[446,37,466,37],[446,38,466,38],[446,39,466,39],[446,40,466,40],[467,47,487,47],[467,48,487,48],[467,49,487,49],[467,50,487,50],[470,24,472,24],[473,24,475,24],[476,24,478,24],[479,24,481,24],[482,24,484,24],[485,24,487,24],[467,41,487,41],[467,42,487,42],[467,43,487,43],[467,44,487,44],[467,45,487,45],[467,46,487,46],[467,24,469,24],[467,36,487,36],[467,37,487,37],[467,38,487,38],[467,39,487,39],[467,40,487,40],[488,47,508,47],[488,48,508,48],[488,49,508,49],[488,50,508,50],[491,24,493,24],[494,24,496,24],[497,24,499,24],[500,24,502,24],[503,24,505,24],[506,24,508,24],[488,41,508,41],[488,42,508,42],[488,43,508,43],[488,44,508,44],[488,45,508,45],[488,46,508,46],[488,24,490,24],[488,36,508,36],[488,37,508,37],[488,38,508,38],[488,39,508,39],[488,40,508,40],[509,47,529,47],[509,48,529,48],[509,49,529,49],[509,50,529,50],[512,24,514,24],[515,24,517,24],[518,24,520,24],[521,24,523,24],[524,24,526,24],[527,24,529,24],[509,41,529,41],[509,42,529,42],[509,43,529,43],[509,44,529,44],[509,45,529,45],[509,46,529,46],[509,24,511,24],[509,36,529,36],[509,37,529,37],[509,38,529,38],[509,39,529,39],[509,40,529,40],[530,47,550,47],[530,48,550,48],[530,49,550,49],[530,50,550,50],[533,24,535,24],[536,24,538,24],[539,24,541,24],[542,24,544,24],[545,24,547,24],[548,24,550,24],[530,41,550,41],[530,42,550,42],[530,43,550,43],[530,44,550,44],[530,45,550,45],[530,46,550,46],[530,24,532,24],[530,36,550,36],[530,37,550,37],[530,38,550,38],[530,39,550,39],[530,40,550,40],[551,47,571,47],[551,48,571,48],[551,49,571,49],[551,50,571,50],[554,24,556,24],[557,24,559,24],[560,24,562,24],[563,24,565,24],[566,24,568,24],[569,24,571,24],[551,41,571,41],[551,42,571,42],[551,43,571,43],[551,44,571,44],[551,45,571,45],[551,46,571,46],[551,24,553,24],[551,36,571,36],[551,37,571,37],[551,38,571,38],[551,39,571,39],[551,40,571,40],[572,47,592,47],[572,48,592,48],[572,49,592,49],[572,50,592,50],[575,24,577,24],[578,24,580,24],[581,24,583,24],[584,24,586,24],[587,24,589,24],[590,24,592,24],[572,41,592,41],[572,42,592,42],[572,43,592,43],[572,44,592,44],[572,45,592,45],[572,46,592,46],[572,24,574,24],[572,36,592,36],[572,37,592,37],[572,38,592,38],[572,39,592,39],[572,40,592,40],[593,47,613,47],[593,48,613,48],[593,49,613,49],[593,50,613,50],[596,24,598,24],[599,24,601,24],[602,24,604,24],[605,24,607,24],[608,24,610,24],[611,24,613,24],[593,41,613,41],[593,42,613,42],[593,43,613,43],[593,44,613,44],[593,45,613,45],[593,46,613,46],[593,24,595,24],[593,36,613,36],[593,37,613,37],[593,38,613,38],[593,39,613,39],[593,40,613,40],[614,47,634,47],[614,48,634,48],[614,49,634,49],[614,50,634,50],[617,24,619,24],[620,24,622,24],[623,24,625,24],[626,24,628,24],[629,24,631,24],[632,24,634,24],[614,41,634,41],[614,42,634,42],[614,43,634,43],[614,44,634,44],[614,45,634,45],[614,46,634,46],[614,24,616,24],[614,36,634,36],[614,37,634,37],[614,38,634,38],[614,39,634,39],[614,40,634,40],[635,47,655,47],[635,48,655,48],[635,49,655,49],[635,50,655,50],[638,24,640,24],[641,24,643,24],[644,24,646,24],[647,24,649,24],[650,24,652,24],[653,24,655,24],[635,41,655,41],[635,42,655,42],[635,43,655,43],[635,44,655,44],[635,45,655,45],[635,46,655,46],[635,24,637,24],[635,36,655,36],[635,37,655,37],[635,38,655,38],[635,39,655,39],[635,40,655,40],[656,47,676,47],[656,48,676,48],[656,49,676,49],[656,50,676,50],[659,24,661,24],[662,24,664,24],[665,24,667,24],[668,24,670,24],[671,24,673,24],[674,24,676,24],[656,41,676,41],[656,42,676,42],[656,43,676,43],[656,44,676,44],[656,45,676,45],[656,46,676,46],[656,24,658,24],[656,36,676,36],[656,37,676,37],[656,38,676,38],[656,39,676,39],[656,40,676,40],[677,47,697,47],[677,48,697,48],[677,49,697,49],[677,50,697,50],[680,24,682,24],[683,24,685,24],[686,24,688,24],[689,24,691,24],[692,24,694,24],[695,24,697,24],[677,41,697,41],[677,42,697,42],[677,43,697,43],[677,44,697,44],[677,45,697,45],[677,46,697,46],[677,24,679,24],[677,36,697,36],[677,37,697,37],[677,38,697,38],[677,39,697,39],[677,40,697,40],[698,47,718,47],[698,48,718,48],[698,49,718,49],[698,50,718,50],[701,24,703,24],[704,24,706,24],[707,24,709,24],[710,24,712,24],[713,24,715,24],[716,24,718,24],[698,41,718,41],[698,42,718,42],[698,43,718,43],[698,44,718,44],[698,45,718,45],[698,46,718,46],[698,24,700,24],[698,36,718,36],[698,37,718,37],[698,38,718,38],[698,39,718,39],[698,40,718,40],[719,47,739,47],[719,48,739,48],[719,49,739,49],[719,50,739,50],[722,24,724,24],[725,24,727,24],[728,24,730,24],[731,24,733,24],[734,24,736,24],[737,24,739,24],[719,41,739,41],[719,42,739,42],[719,43,739,43],[719,44,739,44],[719,45,739,45],[719,46,739,46],[719,24,721,24],[719,36,739,36],[719,37,739,37],[719,38,739,38],[719,39,739,39],[719,40,739,40],[740,47,760,47],[740,48,760,48],[740,49,760,49],[740,50,760,50],[743,24,745,24],[746,24,748,24],[749,24,751,24],[752,24,754,24],[755,24,757,24],[758,24,760,24],[740,41,760,41],[740,42,760,42],[740,43,760,43],[740,44,760,44],[740,45,760,45],[740,46,760,46],[740,24,742,24],[740,36,760,36],[740,37,760,37],[740,38,760,38],[740,39,760,39],[740,40,760,40],[761,47,781,47],[761,48,781,48],[761,49,781,49],[761,50,781,50],[764,24,766,24],[767,24,769,24],[770,24,772,24],[773,24,775,24],[776,24,778,24],[779,24,781,24],[761,41,781,41],[761,42,781,42],[761,43,781,43],[761,44,781,44],[761,45,781,45],[761,46,781,46],[761,24,763,24],[761,36,781,36],[761,37,781,37],[761,38,781,38],[761,39,781,39],[761,40,781,40],[782,47,802,47],[782,48,802,48],[782,49,802,49],[782,50,802,50],[785,24,787,24],[788,24,790,24],[791,24,793,24],[794,24,796,24],[797,24,799,24],[800,24,802,24],[782,41,802,41],[782,42,802,42],[782,43,802,43],[782,44,802,44],[782,45,802,45],[782,46,802,46],[782,24,784,24],[782,36,802,36],[782,37,802,37],[782,38,802,38],[782,39,802,39],[782,40,802,40],[803,47,823,47],[803,48,823,48],[803,49,823,49],[803,50,823,50],[806,24,808,24],[809,24,811,24],[812,24,814,24],[815,24,817,24],[818,24,820,24],[821,24,823,24],[803,41,823,41],[803,42,823,42],[803,43,823,43],[803,44,823,44],[803,45,823,45],[803,46,823,46],[803,24,805,24],[803,36,823,36],[803,37,823,37],[803,38,823,38],[803,39,823,39],[803,40,823,40],[824,47,844,47],[824,48,844,48],[824,49,844,49],[824,50,844,50],[827,24,829,24],[830,24,832,24],[833,24,835,24],[836,24,838,24],[839,24,841,24],[842,24,844,24],[824,41,844,41],[824,42,844,42],[824,43,844,43],[824,44,844,44],[824,45,844,45],[824,46,844,46],[824,24,826,24],[824,36,844,36],[824,37,844,37],[824,38,844,38],[824,39,844,39],[824,40,844,40],[845,47,865,47],[845,48,865,48],[845,49,865,49],[845,50,865,50],[848,24,850,24],[851,24,853,24],[854,24,856,24],[857,24,859,24],[860,24,862,24],[863,24,865,24],[845,41,865,41],[845,42,865,42],[845,43,865,43],[845,44,865,44],[845,45,865,45],[845,46,865,46],[845,24,847,24],[845,36,865,36],[845,37,865,37],[845,38,865,38],[845,39,865,39],[845,40,865,40],[866,47,886,47],[866,48,886,48],[866,49,886,49],[866,50,886,50],[869,24,871,24],[872,24,874,24],[875,24,877,24],[878,24,880,24],[881,24,883,24],[884,24,886,24],[866,41,886,41],[866,42,886,42],[866,43,886,43],[866,44,886,44],[866,45,886,45],[866,46,886,46],[866,24,868,24],[866,36,886,36],[866,37,886,37],[866,38,886,38],[866,39,886,39],[866,40,886,40],[887,47,907,47],[887,48,907,48],[887,49,907,49],[887,50,907,50],[890,24,892,24],[893,24,895,24],[896,24,898,24],[899,24,901,24],[902,24,904,24],[905,24,907,24],[887,41,907,41],[887,42,907,42],[887,43,907,43],[887,44,907,44],[887,45,907,45],[887,46,907,46],[887,24,889,24],[887,36,907,36],[887,37,907,37],[887,38,907,38],[887,39,907,39],[887,40,907,40],[908,47,928,47],[908,48,928,48],[908,49,928,49],[908,50,928,50],[911,24,913,24],[914,24,916,24],[917,24,919,24],[920,24,922,24],[923,24,925,24],[926,24,928,24],[908,41,928,41],[908,42,928,42],[908,43,928,43],[908,44,928,44],[908,45,928,45],[908,46,928,46],[908,24,910,24],[908,36,928,36],[908,37,928,37],[908,38,928,38],[908,39,928,39],[908,40,928,40],[929,47,949,47],[929,48,949,48],[929,49,949,49],[929,50,949,50],[932,24,934,24],[935,24,937,24],[938,24,940,24],[941,24,943,24],[944,24,946,24],[947,24,949,24],[929,41,949,41],[929,42,949,42],[929,43,949,43],[929,44,949,44],[929,45,949,45],[929,46,949,46],[929,24,931,24]],"merged_total":1181,"flags":["merged_cut"]}
[null,null,null,null,null,null,null,null,null,null,null,null,null,null,null,null,null,null,null,null,null,null,null,{"$f":"DATA!$C$16","v":"SRM RH"},null,null,null,null,"TA Target",null,{"$f":"DATA!$C$9","v":0.89},null,null,null,null,null,null,null,null,null,null,"TA","=","[ A ]"]
[null,null,null,null,null,null,null,null,null,null,null,null,null,null,null,null,null,null,null,null,null,null,null,null,null,null,null,null,"Cycle Time",null,{"$f":"DATA!$C$10","v":64},null,{"$f":"AE2/60","v":1.0666666666666667}]
[null,null,null,null,null,null,null,null,null,null,null,null,null,null,null,null,null,null,null,null,null,null,null,null,null,null,null,null,"Enter Data",null,null,null,null,null,null,null,null,null,null,null,null,null,null,"[ T ] - [ BS ] - [ PS ]"]
["ID","Shift\n Start Time","Shift \nEnd Time","Break Time","Total \nShift time [Hour]","Available\nProduction Time [Hour]","Target [%]","Cycle time [s]","Target Ouput [56/H]","Parts Target \n[56/H]","Parts Target\n[100% Availability]","Blocked / Starved\n[Hour]","Loss Blocked/ Starved [Parts]","Loss Blocked/ Starved [%]","Planned Stop/ Early Finish\n[Hour]","Loss Planned Stop/ Early Finish [Parts]","Loss \nPlanned Stop/ Early Finish\n[%]","Rekenkolom Benodigde tijd ","Produced Parts Actual","Produced Parts Shift D1","Produced Parts Shift D2","Produced Parts Shift D3",null,"Week ","Date","Day","Shift","Shift","Blocked / Starved [Min]","Planned Stop / Early Finish\n[Min]","Parts during break","Produced Parts Total","Downtime Technical SAP[min]","Delta [Parts]","Availability (Total Time)\n[%]","Technical Availabilty SRI RH\n[%]","Parts Target\n[100% Availability]  ","Parts Actual                        ","Availability (Total Time)\n[%]","Loss Blocked/ Starved [Parts]","Loss Blocked/ Starved [%] ","Loss \nPlanned Stop/ Early Finish [Parts]","Loss \nPlanned Stop/ Early Finish\n[%]","Technical Availability Total LH\n[%]","Technical Availability \nShift D1\n[%]","Technical Availability Shift D2\n[%]","Technical Availability Shift D3\n[%]","Total Downtime [Parts]","Total Downtime\n[%]","Total Downtime [Min]","Geregistreerd SAP Technical Downtime [Min]","Major Items Downtime"]
[null,null,null,null,null,null,null,null,null,null,null,null,null,null,null,null,null,null,null,null,null,null,null,null,null,null,null,null,null,null,null,null,null,null,null,null,"[T]","[A]",null,"[BS]",null,"[PS]",null,null,"D1","D2","D3"]
[{"$f":"X6&Z6&AA6","v":"1maDD"},{"$f":"VLOOKUP($AA6,DATA!$B$3:$E6,2,0)","v":"06:30:00"},{"$f":"VLOOKUP($AA6,DATA!$B$3:$E6,3,0)","v":"14:30:00"},{"$f":"VLOOKUP($AA6,DATA!$B$3:$E6,4,0)","v":3.125E-2},{"$f":"(C6-B6+(B6>C6))-D6","v":0.30208333333333331},{"$f":"E6-O6-L6","v":0.30208333333333331},{"$f":"DATA!$C$9","v":0.89},{"$f":"DATA!$C$10","v":64},1,{"$f":"F6*86400/H6*I6","v":407.8125},{"$f":"E6*86400/H6","v":407.8125},{"$f":"TIME(INT($AC6/60),INT(MOD($AC6,60)/1),0)","v":0},{"$f":"IF($L6*86400/$H6=0,\"\",$L6*86400/$H6)","v":""},{"$f":"IFERROR($M6/$K6,\"\")","v":""},{"$f":"TIME(INT($AD6/60),INT(MOD($AD6,60)/1),0)","v":0},{"$f":"IF($O6*86400/$H6=0,\"\",$O6*86400/$H6)","v":""},{"$f":"IFERROR($P6/$K6,\"\")","v":""},{"$f":"AF6*AG$2","v":0},{"$f":"IF(AF6-AE6=0,\"\",AF6-AE6)","v":""},{"$f":"IF(IF($AB6=\"D1\",$S6,\"\")=0,\"\",IF($AB6=\"D1\",$S6,\"\"))","v":""},{"$f":"IF(IF($AB6=\"D2\",$S6,\"\")=0,\"\",IF($AB6=\"D2\",$S6,\"\"))","v":""},{"$f":"IF(IF($AB6=\"D3\",$S6,\"\")=0,\"\",IF($AB6=\"D3\",$S6,\"\"))","v":""},null,{"$f":"X16","v":1},"2018-01-01",{"$f":"TEXT(Y6,\"ddd\")","v":"ma"},"DD",{"$f":"IFERROR(HLOOKUP(Y6,[1]DATA!$A$1:$NB$5,3,0),\"\")","v":"D1"},null,null,null,null,0,"","","",3487.5,2312,0.66293906810035841,793.125,0.22741935483870968,187.5,5.3763440860215055E-2,0.94370793484273763,0.92883247761845356,"",0.95858339206702181,194.875,5.5878136200716862E-2,207.86666666666667,"-"]
["1maMD",{"$f":"VLOOKUP($AA7,DATA!$B$3:$E7,2,0)","v":"14:30:00"},{"$f":"VLOOKUP($AA7,DATA!$B$3:$E7,3,0)","v":"22:30:00"},{"$f":"VLOOKUP($AA7,DATA!$B$3:$E7,4,0)","v":3.125E-2},{"$f":"(C7-B7+(B7>C7))-D7","v":0.30208333333333337},{"$f":"E7-O7-L7","v":0.30208333333333337},{"$f":"DATA!$C$9","v":0.89},{"$f":"DATA!$C$10","v":64},1,{"$f":"F7*86400/H7*I7","v":407.81250000000006},{"$f":"E7*86400/H7","v":407.81250000000006},{"$f":"TIME(INT($AC7/60),INT(MOD($AC7,60)/1),0)","v":0},{"$f":"IF($L7*86400/$H7=0,\"\",$L7*86400/$H7)","v":""},{"$f":"IFERROR($M7/$K7,\"\")","v":""},{"$f":"TIME(INT(AD7/60),INT(MOD(AD7,60)/1),0)","v":0},"",{"$f":"IFERROR($P7/$K7,\"\")","v":""},{"$f":"AF7*AG$2","v":0},{"$f":"IF(AF7-AE7=0,\"\",AF7-AE7)","v":""},{"$f":"IF(IF($AB7=\"D1\",$S7,\"\")=0,\"\",IF($AB7=\"D1\",$S7,\"\"))","v":""},{"$f":"IF(IF($AB7=\"D2\",$S7,\"\")=0,\"\",IF($AB7=\"D2\",$S7,\"\"))","v":""},{"$f":"IF(IF($AB7=\"D3\",$S7,\"\")=0,\"\",IF($AB7=\"D3\",$S7,\"\"))","v":""},null,{"$f":"X16","v":1},null,{"$f":"TEXT(Y6,\"ddd\")","v":"ma"},"MD",{"$f":"IFERROR(HLOOKUP(Y6,[1]DATA!$A$1:$NB$5,4,0),\"\")","v":"D3"},null,null,null,null,0,"","",""]
["1maND",{"$f":"VLOOKUP($AA8,DATA!$B$3:$E8,2,0)","v":"22:30:00"},{"$f":"VLOOKUP($AA8,DATA!$B$3:$E8,3,0)","v":"06:30:00"},{"$f":"VLOOKUP($AA8,DATA!$B$3:$E8,4,0)","v":3.125E-2},0.30208333333333326,0.30208333333333326,{"$f":"DATA!$C$9","v":0.89},{"$f":"DATA!$C$10","v":64},1,407.81249999999989,407.81249999999989,0,"","",0,"","",0,"","","","",null,{"$f":"X16","v":1},null,{"$f":"TEXT(Y6,\"ddd\")","v":"ma"},"ND",{"$f":"IFERROR(HLOOKUP(Y6,[1]DATA!$A$1:$NB$5,5,0),\"\")","v":"D2"},null,null,null,null,0,"","",""]
["1diDD",{"$f":"VLOOKUP($AA9,DATA!$B$3:$E9,2,0)","v":"06:30:00"},{"$f":"VLOOKUP($AA9,DATA!$B$3:$E9,3,0)","v":"14:30:00"},{"$f":"VLOOKUP($AA9,DATA!$B$3:$E9,4,0)","v":3.125E-2},0.30208333333333331,0.24374999999999997,{"$f":"DATA!$C$9","v":0.89},{"$f":"DATA!$C$10","v":64},1,329.06249999999994,407.8125,6.2499999999999995E-3,8.4375,2.0689655172413793E-2,5.2083333333333336E-2,70.3125,0.17241379310344829,326.39999999999998,270,270,"","",null,{"$f":"X16","v":1},{"$f":"Y6+1","v":"2018-01-02"},{"$f":"TEXT(Y9,\"ddd\")","v":"di"},"DD",{"$f":"IFERROR(HLOOKUP(Y9,[1]DATA!$A$1:$NB$5,3,0),\"\")","v":"D1"},9,75,36,306,120,-87.187500000000057,0.61935483870967745,0.73118279569892475]
["1diMD",{"$f":"VLOOKUP($AA10,DATA!$B$3:$E10,2,0)","v":"14:30:00"},{"$f":"VLOOKUP($AA10,DATA!$B$3:$E10,3,0)","v":"22:30:00"},{"$f":"VLOOKUP($AA10,DATA!$B$3:$E10,4,0)","v":3.125E-2},0.30208333333333337,0.21805555555555559,{"$f":"DATA!$C$9","v":0.89},{"$f":"DATA!$C$10","v":64},1,294.37500000000006,407.81250000000006,5.6250000000000001E-2,75.9375,0.18620689655172412,2.7777777777777776E-2,37.5,9.1954022988505732E-2,340.26666666666665,299,"","",299,null,{"$f":"X16","v":1},null,{"$f":"TEXT(Y9,\"ddd\")","v":"di"},"MD",{"$f":"IFERROR(HLOOKUP(Y9,[1]DATA!$A$1:$NB$5,4,0),\"\")","v":"D3"},81,40,20,319,21,-23.499999999999943,0.68587813620071691,0.94187119394722274]
["1diND",{"$f":"VLOOKUP($AA11,DATA!$B$3:$E11,2,0)","v":"22:30:00"},{"$f":"VLOOKUP($AA11,DATA!$B$3:$E11,3,0)","v":"06:30:00"},{"$f":"VLOOKUP($AA11,DATA!$B$3:$E11,4,0)","v":3.125E-2},0.30208333333333326,0.30208333333333326,{"$f":"DATA!$C$9","v":0.89},{"$f":"DATA!$C$10","v":64},1,407.81249999999989,407.81249999999989,0,"","",0,"","",0,"","","","",null,{"$f":"X16","v":1},null,{"$f":"TEXT(Y9,\"ddd\")","v":"di"},"ND",{"$f":"IFERROR(HLOOKUP(Y9,[1]DATA!$A$1:$NB$5,5,0),\"\")","v":"D2"},null,null,null,null,0,"","",""]
["1woDD",{"$f":"VLOOKUP($AA12,DATA!$B$3:$E12,2,0)","v":"06:30:00"},{"$f":"VLOOKUP($AA12,DATA!$B$3:$E12,3,0)","v":"14:30:00"},{"$f":"VLOOKUP($AA12,DATA!$B$3:$E12,4,0)","v":3.125E-2},0.30208333333333331,0.22499999999999998,{"$f":"DATA!$C$9","v":0.89},{"$f":"DATA!$C$10","v":64},1,303.74999999999994,407.8125,4.5833333333333337E-2,61.875000000000007,0.15172413793103451,3.125E-2,42.1875,0.10344827586206896,349.86666666666667,313,313,"","",null,{"$f":"X16","v":1},{"$f":"Y9+1","v":"2018-01-03"},{"$f":"TEXT(Y12,\"ddd\")","v":"wo"},"DD",{"$f":"IFERROR(HLOOKUP(Y12,[1]DATA!$A$1:$NB$5,3,0),\"\")","v":"D1"},66,45,15,328,0,-18.875,0.71799283154121862,1]
["1woMD",{"$f":"VLOOKUP($AA13,DATA!$B$3:$E13,2,0)","v":"14:30:00"},{"$f":"VLOOKUP($AA13,DATA!$B$3:$E13,3,0)","v":"22:30:00"},{"$f":"VLOOKUP($AA13,DATA!$B$3:$E13,4,0)","v":3.125E-2},0.30208333333333337,0.23333333333333339,{"$f":"DATA!$C$9","v":0.89},{"$f":"DATA!$C$10","v":64},1,315.00000000000006,407.81250000000006,4.7916666666666663E-2,64.6875,0.1586206896551724,2.0833333333333332E-2,28.125,6.8965517241379296E-2,373.33333333333331,322,"","",322,null,{"$f":"X16","v":1},null,{"$f":"TEXT(Y12,\"ddd\")","v":"wo"},"MD",{"$f":"IFERROR(HLOOKUP(Y12,[1]DATA!$A$1:$NB$5,4,0),\"\")","v":"D3"},69,30,28,350,25,-21.125,0.7386379928315413,0.93723849372384938]
["1woND",{"$f":"VLOOKUP($AA14,DATA!$B$3:$E14,2,0)","v":"22:30:00"},{"$f":"VLOOKUP($AA14,DATA!$B$3:$E14,3,0)","v":"06:30:00"},{"$f":"VLOOKUP($AA14,DATA!$B$3:$E14,4,0)","v":3.125E-2},0.30208333333333326,0.30208333333333326,{"$f":"DATA!$C$9","v":0.89},{"$f":"DATA!$C$10","v":64},1,407.81249999999989,407.81249999999989,0,"","",0,"","",0,"","","","",null,{"$f":"X16","v":1},null,{"$f":"TEXT(Y12,\"ddd\")","v":"wo"},"ND",{"$f":"IFERROR(HLOOKUP(Y12,[1]DATA!$A$1:$NB$5,5,0),\"\")","v":"D2"},null,null,null,null,0,"","",""]
["1doDD",{"$f":"VLOOKUP($AA15,DATA!$B$3:$E15,2,0)","v":"06:30:00"},{"$f":"VLOOKUP($AA15,DATA!$B$3:$E15,3,0)","v":"14:30:00"},{"$f":"VLOOKUP($AA15,DATA!$B$3:$E15,4,0)","v":3.125E-2},0.30208333333333331,0.16319444444444442,{"$f":"DATA!$C$9","v":0.89},{"$f":"DATA!$C$10","v":64},1,220.31249999999997,407.8125,0.1388888888888889,187.5,0.45977011494252873,0,"","",275.2,244,244,"","",null,{"$f":"X16","v":1},{"$f":"Y12+1","v":"2018-01-04"},{"$f":"TEXT(Y15,\"ddd\")","v":"do"},"DD",{"$f":"IFERROR(HLOOKUP(Y15,[1]DATA!$A$1:$NB$5,3,0),\"\")","v":"D1"},200,null,14,258,0,-4.4375000000000284,0.55971326164874557,1]
["1doMD",{"$f":"VLOOKUP($AA16,DATA!$B$3:$E16,2,0)","v":"14:30:00"},{"$f":"VLOOKUP($AA16,DATA!$B$3:$E16,3,0)","v":"22:30:00"},{"$f":"VLOOKUP($AA16,DATA!$B$3:$E16,4,0)","v":3.125E-2},0.30208333333333337,0.22986111111111113,{"$f":"DATA!$C$9","v":0.89},{"$f":"DATA!$C$10","v":64},1,310.3125,407.81250000000006,7.2222222222222229E-2,97.500000000000014,0.23908045977011494,0,"","",384,329,"","",329,null,{"$f":"WEEKNUM($Y6)","v":1},null,{"$f":"TEXT(Y15,\"ddd\")","v":"do"},"MD",{"$f":"IFERROR(HLOOKUP(Y15,[1]DATA!$A$1:$NB$5,4,0),\"\")","v":"D3"},104,null,31,360,18,-9.4374999999999432,0.75469534050179221,0.95522388059701491]
["1doND",{"$f":"VLOOKUP($AA17,DATA!$B$3:$E17,2,0)","v":"22:30:00"},{"$f":"VLOOKUP($AA17,DATA!$B$3:$E17,3,0)","v":"06:30:00"},{"$f":"VLOOKUP($AA17,DATA!$B$3:$E17,4,0)","v":3.125E-2},0.30208333333333326,0.30208333333333326,{"$f":"DATA!$C$9","v":0.89},{"$f":"DATA!$C$10","v":64},1,407.81249999999989,407.81249999999989,0,"","",0,"","",0,"","","","",null,{"$f":"X16","v":1},null,{"$f":"TEXT(Y15,\"ddd\")","v":"do"},"ND",{"$f":"IFERROR(HLOOKUP(Y15,[1]DATA!$A$1:$NB$5,5,0),\"\")","v":"D2"},null,null,null,null,0,"","",""]
["1vrDD",{"$f":"VLOOKUP($AA18,DATA!$B$3:$E18,2,0)","v":"06:30:00"},{"$f":"VLOOKUP($AA18,DATA!$B$3:$E18,3,0)","v":"14:30:00"},{"$f":"VLOOKUP($AA18,DATA!$B$3:$E18,4,0)","v":3.125E-2},0.30208333333333331,0.17083333333333334,{"$f":"DATA!$C$9","v":0.89},{"$f":"DATA!$C$10","v":64},1,230.625,407.8125,0.12430555555555556,167.8125,0.41149425287356323,6.9444444444444441E-3,9.375,2.2988505747126436E-2,310.39999999999998,259,259,"","",null,{"$f":"X16","v":1},{"$f":"Y15+1","v":"2018-01-05"},{"$f":"TEXT(Y18,\"ddd\")","v":"vr"},"DD",{"$f":"IFERROR(HLOOKUP(Y18,[1]DATA!$A$1:$NB$5,3,0),\"\")","v":"D1"},179,10,32,291,5,0.24999999999994316,0.59412186379928311,0.98414711477488903]
["1vrMD",{"$f":"VLOOKUP($AA19,DATA!$B$3:$E19,2,0)","v":"14:30:00"},{"$f":"VLOOKUP($AA19,DATA!$B$3:$E19,3,0)","v":"22:30:00"},{"$f":"VLOOKUP($AA19,DATA!$B$3:$E19,4,0)","v":3.125E-2},0.30208333333333337,0.20625000000000004,{"$f":"DATA!$C$9","v":0.89},{"$f":"DATA!$C$10","v":64},1,278.43750000000006,407.81250000000006,9.5833333333333326E-2,129.375,0.3172413793103448,0,"","",317.86666666666667,276,"","",276,null,{"$f":"X16","v":1},null,{"$f":"TEXT(Y18,\"ddd\")","v":"vr"},"MD",{"$f":"IFERROR(HLOOKUP(Y18,[1]DATA!$A$1:$NB$5,4,0),\"\")","v":"D3"},138,null,22,298,0,-30.562499999999943,0.63311827956989253,1]
["1vrND",{"$f":"VLOOKUP($AA20,DATA!$B$3:$E20,2,0)","v":"22:30:00"},{"$f":"VLOOKUP($AA20,DATA!$B$3:$E20,3,0)","v":"06:30:00"},{"$f":"VLOOKUP($AA20,DATA!$B$3:$E20,4,0)","v":3.125E-2},0.30208333333333326,0.30208333333333326,{"$f":"DATA!$C$9","v":0.89},{"$f":"DATA!$C$10","v":64},1,407.81249999999989,407.81249999999989,0,"","",0,"","",0,"","","","",null,{"$f":"X16","v":1},null,{"$f":"TEXT(Y18,\"ddd\")","v":"vr"},"ND",{"$f":"IFERROR(HLOOKUP(Y18,[1]DATA!$A$1:$NB$5,5,0),\"\")","v":"-"},null,null,null,null,0,"","",""]
["1zaDD",{"$f":"VLOOKUP($AA21,DATA!$B$3:$E21,2,0)","v":"06:30:00"},{"$f":"VLOOKUP($AA21,DATA!$B$3:$E21,3,0)","v":"14:30:00"},{"$f":"VLOOKUP($AA21,DATA!$B$3:$E21,4,0)","v":3.125E-2},0.30208333333333331,0.30208333333333331,{"$f":"DATA!$C$9","v":0.89},{"$f":"DATA!$C$10","v":64},1,407.8125,407.8125,0,"","",0,"","",0,"","","","",null,{"$f":"X16","v":1},{"$f":"Y18+1","v":"2018-01-06"},{"$f":"TEXT(Y21,\"ddd\")","v":"za"},"DD",{"$f":"IFERROR(HLOOKUP(Y21,[1]DATA!$A$1:$NB$5,3,0),\"\")","v":"-"},null,null,null,null,0,"","",""]
["1zaMD",{"$f":"VLOOKUP($AA22,DATA!$B$3:$E22,2,0)","v":"14:30:00"},{"$f":"VLOOKUP($AA22,DATA!$B$3:$E22,3,0)","v":"22:30:00"},{"$f":"VLOOKUP($AA22,DATA!$B$3:$E22,4,0)","v":3.125E-2},0.30208333333333337,0.30208333333333337,{"$f":"DATA!$C$9","v":0.89},{"$f":"DATA!$C$10","v":64},1,407.81250000000006,407.81250000000006,0,"","",0,"","",0,"","","","",null,{"$f":"X16","v":1},null,{"$f":"TEXT(Y21,\"ddd\")","v":"za"},"MD",{"$f":"IFERROR(HLOOKUP(Y21,[1]DATA!$A$1:$NB$5,4,0),\"\")","v":"-"},null,null,null,null,0,"","",""]
["1zaND",{"$f":"VLOOKUP($AA23,DATA!$B$3:$E23,2,0)","v":"22:30:00"},{"$f":"VLOOKUP($AA23,DATA!$B$3:$E23,3,0)","v":"06:30:00"},{"$f":"VLOOKUP($AA23,DATA!$B$3:$E23,4,0)","v":3.125E-2},0.30208333333333326,0.30208333333333326,{"$f":"DATA!$C$9","v":0.89},{"$f":"DATA!$C$10","v":64},1,407.81249999999989,407.81249999999989,0,"","",0,"","",0,"","","","",null,{"$f":"X16","v":1},null,{"$f":"TEXT(Y21,\"ddd\")","v":"za"},"ND",{"$f":"IFERROR(HLOOKUP(Y21,[1]DATA!$A$1:$NB$5,5,0),\"\")","v":"-"},null,null,null,null,0,"","",""]
["1zoDD",{"$f":"VLOOKUP($AA24,DATA!$B$3:$E24,2,0)","v":"06:30:00"},{"$f":"VLOOKUP($AA24,DATA!$B$3:$E24,3,0)","v":"14:30:00"},{"$f":"VLOOKUP($AA24,DATA!$B$3:$E24,4,0)","v":3.125E-2},0.30208333333333331,0.30208333333333331,{"$f":"DATA!$C$9","v":0.89},{"$f":"DATA!$C$10","v":64},1,407.8125,407.8125,0,"","",0,"","",0,"","","","",null,{"$f":"X16","v":1},{"$f":"Y21+1","v":"2018-01-07"},{"$f":"TEXT(Y24,\"ddd\")","v":"zo"},"DD",{"$f":"IFERROR(HLOOKUP(Y24,[1]DATA!$A$1:$NB$5,3,0),\"\")","v":"-"},null,null,null,null,0,"","",""]
["1zoMD",{"$f":"VLOOKUP($AA25,DATA!$B$3:$E25,2,0)","v":"14:30:00"},{"$f":"VLOOKUP($AA25,DATA!$B$3:$E25,3,0)","v":"22:30:00"},{"$f":"VLOOKUP($AA25,DATA!$B$3:$E25,4,0)","v":3.125E-2},0.30208333333333337,0.30208333333333337,{"$f":"DATA!$C$9","v":0.89},{"$f":"DATA!$C$10","v":64},1,407.81250000000006,407.81250000000006,0,"","",0,"","",0,"","","","",null,{"$f":"X16","v":1},null,{"$f":"TEXT(Y24,\"ddd\")","v":"zo"},"MD",{"$f":"IFERROR(HLOOKUP(Y24,[1]DATA!$A$1:$NB$5,4,0),\"\")","v":"-"},null,null,null,null,0,"","",""]
["1zoZND",{"$f":"VLOOKUP($AA26,DATA!$B$3:$E26,2,0)","v":"00:00:00"},{"$f":"VLOOKUP($AA26,DATA!$B$3:$E26,3,0)","v":"00:00:00"},{"$f":"VLOOKUP($AA26,DATA!$B$3:$E26,4,0)","v":0},0,0,{"$f":"DATA!$C$9","v":0.89},{"$f":"DATA!$C$10","v":64},1,0,0,0,"","",0,"","",0,"","","","",null,{"$f":"X16","v":1},null,{"$f":"TEXT(Y24,\"ddd\")","v":"zo"},"ZND",{"$f":"IFERROR(HLOOKUP(Y24,[1]DATA!$A$1:$NB$5,5,0),\"\")","v":"D1"},null,null,null,null,0,"","",""]
["2maDD",{"$f":"VLOOKUP($AA27,DATA!$B$3:$E27,2,0)","v":"06:30:00"},{"$f":"VLOOKUP($AA27,DATA!$B$3:$E27,3,0)","v":"14:30:00"},{"$f":"VLOOKUP($AA27,DATA!$B$3:$E27,4,0)","v":3.125E-2},0.30208333333333331,0.11111111111111109,{"$f":"DATA!$C$9","v":0.89},{"$f":"DATA!$C$10","v":64},1,{"$f":"F27*86400/H27*I27","v":149.99999999999997},{"$f":"E27*86400/H27","v":407.8125},{"$f":"TIME(INT($AC27/60),INT(MOD($AC27,60)/1),0)","v":0.11319444444444444},{"$f":"IF($L27*86400/$H27=0,\"\",$L27*86400/$H27)","v":152.8125},{"$f":"IFERROR($M27/$K27,\"\")","v":0.37471264367816093},{"$f":"TIME(INT($AD27/60),INT(MOD($AD27,60)/1),0)","v":7.7777777777777779E-2},105,{"$f":"IFERROR($P27/$K27,\"\")","v":0.25747126436781609},{"$f":"AF27*AG$2","v":210.13333333333333},{"$f":"IF(AF27-AE27=0,\"\",AF27-AE27)","v":180},{"$f":"IF(IF($AB27=\"D1\",$S27,\"\")=0,\"\",IF($AB27=\"D1\",$S27,\"\"))","v":""},{"$f":"IF(IF($AB27=\"D2\",$S27,\"\")=0,\"\",IF($AB27=\"D2\",$S27,\"\"))","v":""},{"$f":"IF(IF($AB27=\"D3\",$S27,\"\")=0,\"\",IF($AB27=\"D3\",$S27,\"\"))","v":180},null,{"$f":"X37","v":2},{"$f":"Y24+1","v":"2018-01-08"},{"$f":"TEXT(Y27,\"ddd\")","v":"ma"},"DD",{"$f":"IFERROR(HLOOKUP(Y27,[1]DATA!$A$1:$NB$5,3,0),\"\")","v":"D3"},163,112,17,197,5,1.8749999999999716,0.41290322580645161,0.97675859931825226,4359.375,2985,0.68473118279569889,1089.375,0.24989247311827956,165.9375,3.8064516129032257E-2,0.93107340843885944,"",0.92311967788762617,0.93902713899009282,119.0625,2.7311827956989297E-2,127,261]
["2maMD",{"$f":"VLOOKUP($AA28,DATA!$B$3:$E28,2,0)","v":"14:30:00"},{"$f":"VLOOKUP($AA28,DATA!$B$3:$E28,3,0)","v":"22:30:00"},{"$f":"VLOOKUP($AA28,DATA!$B$3:$E28,4,0)","v":3.125E-2},{"$f":"(C28-B28+(B28>C28))-D28","v":0.30208333333333337},{"$f":"E28-O28-L28","v":0.20138888888888895},{"$f":"DATA!$C$9","v":0.89},{"$f":"DATA!$C$10","v":64},1,{"$f":"F28*86400/H28*I28","v":271.87500000000006},{"$f":"E28*86400/H28","v":407.81250000000006},0.10069444444444443,135.93749999999997,0.3333333333333332,{"$f":"TIME(INT(AD28/60),INT(MOD(AD28,60)/1),0)","v":0},"","",{"$f":"AF28*AG$2","v":344.5333333333333},{"$f":"IF(AF28-AE28=0,\"\",AF28-AE28)","v":292},"",292,"",null,{"$f":"X37","v":2},null,{"$f":"TEXT(Y27,\"ddd\")","v":"ma"},"MD",{"$f":"IFERROR(HLOOKUP(Y27,[1]DATA!$A$1:$NB$5,4,0),\"\")","v":"D2"},145,null,31,323,43,-8,0.669820788530466,0.88904180285566836]
["2maND",{"$f":"VLOOKUP($AA29,DATA!$B$3:$E29,2,0)","v":"22:30:00"},{"$f":"VLOOKUP($AA29,DATA!$B$3:$E29,3,0)","v":"06:30:00"},{"$f":"VLOOKUP($AA29,DATA!$B$3:$E29,4,0)","v":3.125E-2},0.30208333333333326,0.30208333333333326,{"$f":"DATA!$C$9","v":0.89},{"$f":"DATA!$C$10","v":64},1,407.81249999999989,407.81249999999989,0,"","",0,"","",0,"","","","",null,{"$f":"X37","v":2},null,{"$f":"TEXT(Y27,\"ddd\")","v":"ma"},"ND",{"$f":"IFERROR(HLOOKUP(Y27,[1]DATA!$A$1:$NB$5,5,0),\"\")","v":"D1"},null,null,null,null,0,"","",""]
["2diDD",{"$f":"VLOOKUP($AA30,DATA!$B$3:$E30,2,0)","v":"06:30:00"},{"$f":"VLOOKUP($AA30,DATA!$B$3:$E30,3,0)","v":"14:30:00"},{"$f":"VLOOKUP($AA30,DATA!$B$3:$E30,4,0)","v":3.125E-2},0.30208333333333331,0.22847222222222219,{"$f":"DATA!$C$9","v":0.89},{"$f":"DATA!$C$10","v":64},1,308.43749999999994,407.8125,7.3611111111111113E-2,99.375,0.24367816091954023,0,"","",296.5333333333333,261,"","",261,null,{"$f":"X37","v":2},{"$f":"Y27+1","v":"2018-01-09"},{"$f":"TEXT(Y30,\"ddd\")","v":"di"},"DD",{"$f":"IFERROR(HLOOKUP(Y30,[1]DATA!$A$1:$NB$5,3,0),\"\")","v":"D3"},106,null,17,278,25,-75.5625,0.59870967741935488,0.92224756375699768]
["2diMD",{"$f":"VLOOKUP($AA31,DATA!$B$3:$E31,2,0)","v":"14:30:00"},{"$f":"VLOOKUP($AA31,DATA!$B$3:$E31,3,0)","v":"22:30:00"},{"$f":"VLOOKUP($AA31,DATA!$B$3:$E31,4,0)","v":3.125E-2},0.30208333333333337,0.24305555555555558,{"$f":"DATA!$C$9","v":0.89},{"$f":"DATA!$C$10","v":64},1,328.12500000000006,407.81250000000006,5.9027777777777783E-2,79.687500000000014,0.19540229885057472,0,"","",363.73333333333335,310,"",310,"",null,{"$f":"X37","v":2},null,{"$f":"TEXT(Y30,\"ddd\")","v":"di"},"MD",{"$f":"IFERROR(HLOOKUP(Y30,[1]DATA!$A$1:$NB$5,4,0),\"\")","v":"D2"},85,null,31,341,6,-46.249999999999943,0.71111111111111125,0.98377208799134508]
["2diND",{"$f":"VLOOKUP($AA32,DATA!$B$3:$E32,2,0)","v":"22:30:00"},{"$f":"VLOOKUP($AA32,DATA!$B$3:$E32,3,0)","v":"06:30:00"},{"$f":"VLOOKUP($AA32,DATA!$B$3:$E32,4,0)","v":3.125E-2},0.30208333333333326,0.30208333333333326,{"$f":"DATA!$C$9","v":0.89},{"$f":"DATA!$C$10","v":64},1,407.81249999999989,407.81249999999989,0,"","",0,"","",0,"","","","",null,{"$f":"X37","v":2},null,{"$f":"TEXT(Y30,\"ddd\")","v":"di"},"ND",{"$f":"IFERROR(HLOOKUP(Y30,[1]DATA!$A$1:$NB$5,5,0),\"\")","v":"D1"},null,null,null,null,0,"","",""]
["2woDD",{"$f":"VLOOKUP($AA33,DATA!$B$3:$E33,2,0)","v":"06:30:00"},{"$f":"VLOOKUP($AA33,DATA!$B$3:$E33,3,0)","v":"14:30:00"},{"$f":"VLOOKUP($AA33,DATA!$B$3:$E33,4,0)","v":3.125E-2},0.30208333333333331,0.23333333333333334,{"$f":"DATA!$C$9","v":0.89},{"$f":"DATA!$C$10","v":64},1,315,407.8125,6.8749999999999992E-2,92.812499999999986,0.22758620689655168,0,"","",402.13333333333333,341,"","",341,null,{"$f":"X37","v":2},{"$f":"Y30+1","v":"2018-01-10"},{"$f":"TEXT(Y33,\"ddd\")","v":"wo"},"DD",{"$f":"IFERROR(HLOOKUP(Y33,[1]DATA!$A$1:$NB$5,3,0),\"\")","v":"D3"},99,null,36,377,15,-2.1250000000000568,0.78222222222222226,0.96404027489212085]
["2woMD",{"$f":"VLOOKUP($AA34,DATA!$B$3:$E34,2,0)","v":"14:30:00"},{"$f":"VLOOKUP($AA34,DATA!$B$3:$E34,3,0)","v":"22:30:00"},{"$f":"VLOOKUP($AA34,DATA!$B$3:$E34,4,0)","v":3.125E-2},0.30208333333333337,0.16805555555555557,{"$f":"DATA!$C$9","v":0.89},{"$f":"DATA!$C$10","v":64},1,226.87500000000003,407.81250000000006,8.8888888888888892E-2,120,0.29425287356321833,4.5138888888888888E-2,60.9375,0.14942528735632182,288,259,"",259,"",null,{"$f":"X37","v":2},null,{"$f":"TEXT(Y33,\"ddd\")","v":"wo"},"MD",{"$f":"IFERROR(HLOOKUP(Y33,[1]DATA!$A$1:$NB$5,4,0),\"\")","v":"D2"},128,65,11,270,43,4.0000000000000853,0.59412186379928322,0.87009063444108758]
["2woND",{"$f":"VLOOKUP($AA35,DATA!$B$3:$E35,2,0)","v":"22:30:00"},{"$f":"VLOOKUP($AA35,DATA!$B$3:$E35,3,0)","v":"06:30:00"},{"$f":"VLOOKUP($AA35,DATA!$B$3:$E35,4,0)","v":3.125E-2},0.30208333333333326,0.30208333333333326,{"$f":"DATA!$C$9","v":0.89},{"$f":"DATA!$C$10","v":64},1,407.81249999999989,407.81249999999989,0,"","",0,"","",0,"","","","",null,{"$f":"X37","v":2},null,{"$f":"TEXT(Y33,\"ddd\")","v":"wo"},"ND",{"$f":"IFERROR(HLOOKUP(Y33,[1]DATA!$A$1:$NB$5,5,0),\"\")","v":"D1"},null,null,null,null,0,"","",""]
["2doDD",{"$f":"VLOOKUP($AA36,DATA!$B$3:$E36,2,0)","v":"06:30:00"},{"$f":"VLOOKUP($AA36,DATA!$B$3:$E36,3,0)","v":"14:30:00"},{"$f":"VLOOKUP($AA36,DATA!$B$3:$E36,4,0)","v":3.125E-2},0.30208333333333331,0.24583333333333332,{"$f":"DATA!$C$9","v":0.89},{"$f":"DATA!$C$10","v":64},1,331.875,407.8125,5.6250000000000001E-2,75.9375,0.18620689655172415,0,"","",410.66666666666669,352,"","",352,null,{"$f":"X37","v":2},{"$f":"Y33+1","v":"2018-01-11"},{"$f":"TEXT(Y36,\"ddd\")","v":"do"},"DD",{"$f":"IFERROR(HLOOKUP(Y36,[1]DATA!$A$1:$NB$5,3,0),\"\")","v":"D3"},81,null,33,385,44,-8,0.80745519713261649,0.90322580645161288]
["2doMD",{"$f":"VLOOKUP($AA37,DATA!$B$3:$E37,2,0)","v":"14:30:00"},{"$f":"VLOOKUP($AA37,DATA!$B$3:$E37,3,0)","v":"22:30:00"},{"$f":"VLOOKUP($AA37,DATA!$B$3:$E37,4,0)","v":3.125E-2},0.30208333333333337,0.2993055555555556,{"$f":"DATA!$C$9","v":0.89},{"$f":"DATA!$C$10","v":64},1,404.06250000000006,407.81250000000006,2.7777777777777779E-3,3.75,9.1954022988505729E-3,0,"","",379.73333333333335,347,"",347,"",null,{"$f":"WEEKNUM($Y27)","v":2},null,{"$f":"TEXT(Y36,\"ddd\")","v":"do"},"MD",{"$f":"IFERROR(HLOOKUP(Y36,[1]DATA!$A$1:$NB$5,4,0),\"\")","v":"D2"},4,null,9,356,31,-85.187499999999943,0.79598566308243734,0.92452523940918685]
["2doND",{"$f":"VLOOKUP($AA38,DATA!$B$3:$E38,2,0)","v":"22:30:00"},{"$f":"VLOOKUP($AA38,DATA!$B$3:$E38,3,0)","v":"06:30:00"},{"$f":"VLOOKUP($AA38,DATA!$B$3:$E38,4,0)","v":3.125E-2},0.30208333333333326,0.30208333333333326,{"$f":"DATA!$C$9","v":0.89},{"$f":"DATA!$C$10","v":64},1,407.81249999999989,407.81249999999989,0,"","",0,"","",0,"","","","",null,{"$f":"X37","v":2},null,{"$f":"TEXT(Y36,\"ddd\")","v":"do"},"ND",{"$f":"IFERROR(HLOOKUP(Y36,[1]DATA!$A$1:$NB$5,5,0),\"\")","v":"D1"},null,null,null,null,0,"","",""]
["2vrDD",{"$f":"VLOOKUP($AA39,DATA!$B$3:$E39,2,0)","v":"06:30:00"},{"$f":"VLOOKUP($AA39,DATA!$B$3:$E39,3,0)","v":"14:30:00"},{"$f":"VLOOKUP($AA39,DATA!$B$3:$E39,4,0)","v":3.125E-2},0.30208333333333331,0.14236111111111108,{"$f":"DATA!$C$9","v":0.89},{"$f":"DATA!$C$10","v":64},1,192.18749999999994,407.8125,0.15972222222222224,215.62500000000003,0.52873563218390807,0,"","",378.66666666666669,324,"","",324,null,{"$f":"X37","v":2},{"$f":"Y36+1","v":"2018-01-12"},{"$f":"TEXT(Y39,\"ddd\")","v":"vr"},"DD",{"$f":"IFERROR(HLOOKUP(Y39,[1]DATA!$A$1:$NB$5,3,0),\"\")","v":"D3"},230,null,31,355,29,103.6875,0.74322580645161296,0.92886345053148001]
["2vrMD",{"$f":"VLOOKUP($AA40,DATA!$B$3:$E40,2,0)","v":"14:30:00"},{"$f":"VLOOKUP($AA40,DATA!$B$3:$E40,3,0)","v":"22:30:00"},{"$f":"VLOOKUP($AA40,DATA!$B$3:$E40,4,0)","v":3.125E-2},0.30208333333333337,0.21805555555555561,{"$f":"DATA!$C$9","v":0.89},{"$f":"DATA!$C$10","v":64},1,294.37500000000006,407.81250000000006,8.4027777777777771E-2,113.43749999999999,0.27816091954022981,0,"","",365.86666666666667,319,"",319,"",null,{"$f":"X37","v":2},null,{"$f":"TEXT(Y39,\"ddd\")","v":"vr"},"MD",{"$f":"IFERROR(HLOOKUP(Y39,[1]DATA!$A$1:$NB$5,4,0),\"\")","v":"D2"},121,null,24,343,20,-3.5,0.73175627240143382,0.94816862474084318]
["2vrND",{"$f":"VLOOKUP($AA41,DATA!$B$3:$E41,2,0)","v":"22:30:00"},{"$f":"VLOOKUP($AA41,DATA!$B$3:$E41,3,0)","v":"06:30:00"},{"$f":"VLOOKUP($AA41,DATA!$B$3:$E41,4,0)","v":3.125E-2},0.30208333333333326,0.30208333333333326,{"$f":"DATA!$C$9","v":0.89},{"$f":"DATA!$C$10","v":64},1,407.81249999999989,407.81249999999989,0,"","",0,"","",0,"","","","",null,{"$f":"X37","v":2},null,{"$f":"TEXT(Y39,\"ddd\")","v":"vr"},"ND",{"$f":"IFERROR(HLOOKUP(Y39,[1]DATA!$A$1:$NB$5,5,0),\"\")","v":"-"},null,null,null,null,0,"","",""]
["2zaDD",{"$f":"VLOOKUP($AA42,DATA!$B$3:$E42,2,0)","v":"06:30:00"},{"$f":"VLOOKUP($AA42,DATA!$B$3:$E42,3,0)","v":"14:30:00"},{"$f":"VLOOKUP($AA42,DATA!$B$3:$E42,4,0)","v":3.125E-2},0.30208333333333331,0.30208333333333331,{"$f":"DATA!$C$9","v":0.89},{"$f":"DATA!$C$10","v":64},1,407.8125,407.8125,0,"","",0,"","",0,"","","","",null,{"$f":"X37","v":2},{"$f":"Y39+1","v":"2018-01-13"},{"$f":"TEXT(Y42,\"ddd\")","v":"za"},"DD",{"$f":"IFERROR(HLOOKUP(Y42,[1]DATA!$A$1:$NB$5,3,0),\"\")","v":"-"},null,null,null,null,0,"","",""]
["2zaMD",{"$f":"VLOOKUP($AA43,DATA!$B$3:$E43,2,0)","v":"14:30:00"},{"$f":"VLOOKUP($AA43,DATA!$B$3:$E43,3,0)","v":"22:30:00"},{"$f":"VLOOKUP($AA43,DATA!$B$3:$E43,4,0)","v":3.125E-2},0.30208333333333337,0.30208333333333337,{"$f":"DATA!$C$9","v":0.89},{"$f":"DATA!$C$10","v":64},1,407.81250000000006,407.81250000000006,0,"","",0,"","",0,"","","","",null,{"$f":"X37","v":2},null,{"$f":"TEXT(Y42,\"ddd\")","v":"za"},"MD",{"$f":"IFERROR(HLOOKUP(Y42,[1]DATA!$A$1:$NB$5,4,0),\"\")","v":"-"},null,null,null,null,0,"","",""]
["2zaND",{"$f":"VLOOKUP($AA44,DATA!$B$3:$E44,2,0)","v":"22:30:00"},{"$f":"VLOOKUP($AA44,DATA!$B$3:$E44,3,0)","v":"06:30:00"},{"$f":"VLOOKUP($AA44,DATA!$B$3:$E44,4,0)","v":3.125E-2},0.30208333333333326,0.30208333333333326,{"$f":"DATA!$C$9","v":0.89},{"$f":"DATA!$C$10","v":64},1,407.81249999999989,407.81249999999989,0,"","",0,"","",0,"","","","",null,{"$f":"X37","v":2},null,{"$f":"TEXT(Y42,\"ddd\")","v":"za"},"ND",{"$f":"IFERROR(HLOOKUP(Y42,[1]DATA!$A$1:$NB$5,5,0),\"\")","v":"-"},null,null,null,null,0,"","",""]
["2zoDD",{"$f":"VLOOKUP($AA45,DATA!$B$3:$E45,2,0)","v":"06:30:00"},{"$f":"VLOOKUP($AA45,DATA!$B$3:$E45,3,0)","v":"14:30:00"},{"$f":"VLOOKUP($AA45,DATA!$B$3:$E45,4,0)","v":3.125E-2},0.30208333333333331,0.30208333333333331,{"$f":"DATA!$C$9","v":0.89},{"$f":"DATA!$C$10","v":64},1,407.8125,407.8125,0,"","",0,"","",0,"","","","",null,{"$f":"X37","v":2},{"$f":"Y42+1","v":"2018-01-14"},{"$f":"TEXT(Y45,\"ddd\")","v":"zo"},"DD",{"$f":"IFERROR(HLOOKUP(Y45,[1]DATA!$A$1:$NB$5,3,0),\"\")","v":"-"},null,null,null,null,0,"","",""]
["2zoMD",{"$f":"VLOOKUP($AA46,DATA!$B$3:$E46,2,0)","v":"14:30:00"},{"$f":"VLOOKUP($AA46,DATA!$B$3:$E46,3,0)","v":"22:30:00"},{"$f":"VLOOKUP($AA46,DATA!$B$3:$E46,4,0)","v":3.125E-2},0.30208333333333337,0.30208333333333337,{"$f":"DATA!$C$9","v":0.89},{"$f":"DATA!$C$10","v":64},1,407.81250000000006,407.81250000000006,0,"","",0,"","",0,"","","","",null,{"$f":"X37","v":2},null,{"$f":"TEXT(Y45,\"ddd\")","v":"zo"},"MD",{"$f":"IFERROR(HLOOKUP(Y45,[1]DATA!$A$1:$NB$5,4,0),\"\")","v":"-"},null,null,null,null,0,"","",""]
["2zoZND",{"$f":"VLOOKUP($AA47,DATA!$B$3:$E47,2,0)","v":"00:00:00"},{"$f":"VLOOKUP($AA47,DATA!$B$3:$E47,3,0)","v":"00:00:00"},{"$f":"VLOOKUP($AA47,DATA!$B$3:$E47,4,0)","v":0},0,0,{"$f":"DATA!$C$9","v":0.89},{"$f":"DATA!$C$10","v":64},1,0,0,0,"","",0,"","",0,"","","","",null,{"$f":"X37","v":2},null,{"$f":"TEXT(Y45,\"ddd\")","v":"zo"},"ZND",{"$f":"IFERROR(HLOOKUP(Y45,[1]DATA!$A$1:$NB$5,5,0),\"\")","v":"D3"},null,null,null,null,0,"","",""]
[{"$f":"X48&Z48&AA48","v":"3maDD"},{"$f":"VLOOKUP($AA48,DATA!$B$3:$E48,2,0)","v":"06:30:00"},{"$f":"VLOOKUP($AA48,DATA!$B$3:$E48,3,0)","v":"14:30:00"},{"$f":"VLOOKUP($AA48,DATA!$B$3:$E48,4,0)","v":3.125E-2},0.30208333333333331,0.19722222222222219,{"$f":"DATA!$C$9","v":0.89},{"$f":"DATA!$C$10","v":64},1,266.24999999999994,407.8125,0.10486111111111111,141.5625,0.3471264367816092,{"$f":"TIME(INT($AD48/60),INT(MOD($AD48,60)/1),0)","v":0},{"$f":"IF($O48*86400/$H48=0,\"\",$O48*86400/$H48)","v":""},"",338.13333333333333,296,"",296,"",null,{"$f":"X58","v":3},{"$f":"Y45+1","v":"2018-01-15"},{"$f":"TEXT(Y48,\"ddd\")","v":"ma"},"DD",{"$f":"IFERROR(HLOOKUP(Y48,[1]DATA!$A$1:$NB$5,3,0),\"\")","v":"D2"},151,null,21,317,10,1.625,0.67899641577060932,0.97127537342014558,4359.375,2887,0.66225089605734766,715.3125,0.16408602150537635,168.75,3.870967741935484E-2,0.94970228071211871,0.97943440690766725,0.91997015451657005,"",588.3125,0.13495340501792114,627.5333333333333,170]
["3maMD",{"$f":"VLOOKUP($AA49,DATA!$B$3:$E49,2,0)","v":"14:30:00"},{"$f":"VLOOKUP($AA49,DATA!$B$3:$E49,3,0)","v":"22:30:00"},{"$f":"VLOOKUP($AA49,DATA!$B$3:$E49,4,0)","v":3.125E-2},0.30208333333333337,0.21875000000000006,{"$f":"DATA!$C$9","v":0.89},{"$f":"DATA!$C$10","v":64},1,295.31250000000006,407.81250000000006,8.3333333333333329E-2,112.5,0.27586206896551718,{"$f":"TIME(INT(AD49/60),INT(MOD(AD49,60)/1),0)","v":0},"","",327.46666666666664,283,283,"","",null,{"$f":"X58","v":3},null,{"$f":"TEXT(Y48,\"ddd\")","v":"ma"},"MD",{"$f":"IFERROR(HLOOKUP(Y48,[1]DATA!$A$1:$NB$5,4,0),\"\")","v":"D1"},120,null,24,307,0,-40.4375,0.64917562724014344,1]
["3maND",{"$f":"VLOOKUP($AA50,DATA!$B$3:$E50,2,0)","v":"22:30:00"},{"$f":"VLOOKUP($AA50,DATA!$B$3:$E50,3,0)","v":"06:30:00"},{"$f":"VLOOKUP($AA50,DATA!$B$3:$E50,4,0)","v":3.125E-2},0.30208333333333326,0.30208333333333326,{"$f":"DATA!$C$9","v":0.89},{"$f":"DATA!$C$10","v":64},1,407.81249999999989,407.81249999999989,0,"","",0,"","",0,"","","","",null,{"$f":"X58","v":3},null,{"$f":"TEXT(Y48,\"ddd\")","v":"ma"},"ND",{"$f":"IFERROR(HLOOKUP(Y48,[1]DATA!$A$1:$NB$5,5,0),\"\")","v":"D3"},null,null,null,null,0,"","",""]
["3diDD",{"$f":"VLOOKUP($AA51,DATA!$B$3:$E51,2,0)","v":"06:30:00"},{"$f":"VLOOKUP($AA51,DATA!$B$3:$E51,3,0)","v":"14:30:00"},{"$f":"VLOOKUP($AA51,DATA!$B$3:$E51,4,0)","v":3.125E-2},0.30208333333333331,0.26874999999999999,{"$f":"DATA!$C$9","v":0.89},{"$f":"DATA!$C$10","v":64},1,362.8125,407.8125,3.3333333333333333E-2,45,0.1103448275862069,0,"","",345.6,297,"",297,"",null,{"$f":"X58","v":3},{"$f":"Y48+1","v":"2018-01-16"},{"$f":"TEXT(Y51,\"ddd\")","v":"di"},"DD",{"$f":"IFERROR(HLOOKUP(Y51,[1]DATA!$A$1:$NB$5,3,0),\"\")","v":"D2"},48,null,27,324,55,-93.937500000000057,0.68129032258064515,0.86270594108836751]
["3diMD",{"$f":"VLOOKUP($AA52,DATA!$B$3:$E52,2,0)","v":"14:30:00"},{"$f":"VLOOKUP($AA52,DATA!$B$3:$E52,3,0)","v":"22:30:00"},{"$f":"VLOOKUP($AA52,DATA!$B$3:$E52,4,0)","v":3.125E-2},0.30208333333333337,0.25416666666666671,{"$f":"DATA!$C$9","v":0.89},{"$f":"DATA!$C$10","v":64},1,343.12500000000006,407.81250000000006,4.7916666666666663E-2,64.6875,0.1586206896551724,0,"","",420.26666666666665,362,362,"","",null,{"$f":"X58","v":3},null,{"$f":"TEXT(Y51,\"ddd\")","v":"di"},"MD",{"$f":"IFERROR(HLOOKUP(Y51,[1]DATA!$A$1:$NB$5,4,0),\"\")","v":"D1"},69,null,32,394,17,-9.2499999999999432,0.83039426523297499,0.96112212227473703]
["3diND",{"$f":"VLOOKUP($AA53,DATA!$B$3:$E53,2,0)","v":"22:30:00"},{"$f":"VLOOKUP($AA53,DATA!$B$3:$E53,3,0)","v":"06:30:00"},{"$f":"VLOOKUP($AA53,DATA!$B$3:$E53,4,0)","v":3.125E-2},0.30208333333333326,0.30208333333333326,{"$f":"DATA!$C$9","v":0.89},{"$f":"DATA!$C$10","v":64},1,407.81249999999989,407.81249999999989,0,"","",0,"","",0,"","","","",null,{"$f":"X58","v":3},null,{"$f":"TEXT(Y51,\"ddd\")","v":"di"},"ND",{"$f":"IFERROR(HLOOKUP(Y51,[1]DATA!$A$1:$NB$5,5,0),\"\")","v":"D3"},null,null,null,null,0,"","",""]
["3woDD",{"$f":"VLOOKUP($AA54,DATA!$B$3:$E54,2,0)","v":"06:30:00"},{"$f":"VLOOKUP($AA54,DATA!$B$3:$E54,3,0)","v":"14:30:00"},{"$f":"VLOOKUP($AA54,DATA!$B$3:$E54,4,0)","v":3.125E-2},0.30208333333333331,0.27083333333333331,{"$f":"DATA!$C$9","v":0.89},{"$f":"DATA!$C$10","v":64},1,365.625,407.8125,3.125E-2,42.1875,0.10344827586206896,0,"","",199.46666666666667,171,"",171,"",null,{"$f":"X58","v":3},{"$f":"Y51+1","v":"2018-01-17"},{"$f":"TEXT(Y54,\"ddd\")","v":"wo"},"DD",{"$f":"IFERROR(HLOOKUP(Y54,[1]DATA!$A$1:$NB$5,3,0),\"\")","v":"D2"},45,null,16,187,25,-222.75,0.39225806451612905,0.88862488862488864]
["3woMD",{"$f":"VLOOKUP($AA55,DATA!$B$3:$E55,2,0)","v":"14:30:00"},{"$f":"VLOOKUP($AA55,DATA!$B$3:$E55,3,0)","v":"22:30:00"},{"$f":"VLOOKUP($AA55,DATA!$B$3:$E55,4,0)","v":3.125E-2},0.30208333333333337,0.24722222222222226,{"$f":"DATA!$C$9","v":0.89},{"$f":"DATA!$C$10","v":64},1,333.75000000000006,407.81250000000006,5.486111111111111E-2,74.0625,0.18160919540229883,0,"","",384,333,333,"","",null,{"$f":"X58","v":3},null,{"$f":"TEXT(Y54,\"ddd\")","v":"wo"},"MD",{"$f":"IFERROR(HLOOKUP(Y54,[1]DATA!$A$1:$NB$5,4,0),\"\")","v":"D1"},79,null,27,360,0,-28.874999999999886,0.76387096774193564,1]
["3woND",{"$f":"VLOOKUP($AA56,DATA!$B$3:$E56,2,0)","v":"22:30:00"},{"$f":"VLOOKUP($AA56,DATA!$B$3:$E56,3,0)","v":"06:30:00"},{"$f":"VLOOKUP($AA56,DATA!$B$3:$E56,4,0)","v":3.125E-2},0.30208333333333326,0.30208333333333326,{"$f":"DATA!$C$9","v":0.89},{"$f":"DATA!$C$10","v":64},1,407.81249999999989,407.81249999999989,0,"","",0,"","",0,"","","","",null,{"$f":"X58","v":3},null,{"$f":"TEXT(Y54,\"ddd\")","v":"wo"},"ND",{"$f":"IFERROR(HLOOKUP(Y54,[1]DATA!$A$1:$NB$5,5,0),\"\")","v":"D3"},null,null,null,null,0,"","",""]
["3doDD",{"$f":"VLOOKUP($AA57,DATA!$B$3:$E57,2,0)","v":"06:30:00"},{"$f":"VLOOKUP($AA57,DATA!$B$3:$E57,3,0)","v":"14:30:00"},{"$f":"VLOOKUP($AA57,DATA!$B$3:$E57,4,0)","v":3.125E-2},0.30208333333333331,0.1645833333333333,{"$f":"DATA!$C$9","v":0.89},{"$f":"DATA!$C$10","v":64},1,222.18749999999997,407.8125,6.1111111111111116E-2,82.5,0.20229885057471264,7.6388888888888895E-2,103.12500000000001,0.25287356321839083,256,233,"",233,"",null,{"$f":"X58","v":3},{"$f":"Y54+1","v":"2018-01-18"},{"$f":"TEXT(Y57,\"ddd\")","v":"do"},"DD",{"$f":"IFERROR(HLOOKUP(Y57,[1]DATA!$A$1:$NB$5,3,0),\"\")","v":"D2"},88,110,7,240,22,-17.3125,0.53448028673835124,0.92086330935251803]
["3doMD",{"$f":"VLOOKUP($AA58,DATA!$B$3:$E58,2,0)","v":"14:30:00"},{"$f":"VLOOKUP($AA58,DATA!$B$3:$E58,3,0)","v":"22:30:00"},{"$f":"VLOOKUP($AA58,DATA!$B$3:$E58,4,0)","v":3.125E-2},0.30208333333333337,0.20486111111111116,{"$f":"DATA!$C$9","v":0.89},{"$f":"DATA!$C$10","v":64},1,276.56250000000006,407.81250000000006,9.7222222222222224E-2,131.25,0.32183908045977005,0,"","",334.93333333333334,287,287,"","",null,{"$f":"WEEKNUM($Y48)","v":3},null,{"$f":"TEXT(Y57,\"ddd\")","v":"do"},"MD",{"$f":"IFERROR(HLOOKUP(Y57,[1]DATA!$A$1:$NB$5,4,0),\"\")","v":"D1"},140,null,27,314,7,-17.687499999999943,0.65835125448028686,0.97952817313316431]
["3doND",{"$f":"VLOOKUP($AA59,DATA!$B$3:$E59,2,0)","v":"22:30:00"},{"$f":"VLOOKUP($AA59,DATA!$B$3:$E59,3,0)","v":"06:30:00"},{"$f":"VLOOKUP($AA59,DATA!$B$3:$E59,4,0)","v":3.125E-2},0.30208333333333326,0.30208333333333326,{"$f":"DATA!$C$9","v":0.89},{"$f":"DATA!$C$10","v":64},1,407.81249999999989,407.81249999999989,0,"","",0,"","",0,"","","","",null,{"$f":"X58","v":3},null,{"$f":"TEXT(Y57,\"ddd\")","v":"do"},"ND",{"$f":"IFERROR(HLOOKUP(Y57,[1]DATA!$A$1:$NB$5,5,0),\"\")","v":"D3"},null,null,null,null,0,"","",""]
["3vrDD",{"$f":"VLOOKUP($AA60,DATA!$B$3:$E60,2,0)","v":"06:30:00"},{"$f":"VLOOKUP($AA60,DATA!$B$3:$E60,3,0)","v":"14:30:00"},{"$f":"VLOOKUP($AA60,DATA!$B$3:$E60,4,0)","v":3.125E-2},0.30208333333333331,0.30208333333333331,{"$f":"DATA!$C$9","v":0.89},{"$f":"DATA!$C$10","v":64},1,407.8125,407.8125,0,"","",0,"","",394.66666666666669,336,"",336,"",null,{"$f":"X58","v":3},{"$f":"Y57+1","v":"2018-01-19"},{"$f":"TEXT(Y60,\"ddd\")","v":"vr"},"DD",{"$f":"IFERROR(HLOOKUP(Y60,[1]DATA!$A$1:$NB$5,3,0),\"\")","v":"D2"},0,null,34,370,18,-99.9375,0.77075268817204301,0.95638126009693059]
["3vrMD",{"$f":"VLOOKUP($AA61,DATA!$B$3:$E61,2,0)","v":"14:30:00"},{"$f":"VLOOKUP($AA61,DATA!$B$3:$E61,3,0)","v":"22:30:00"},{"$f":"VLOOKUP($AA61,DATA!$B$3:$E61,4,0)","v":3.125E-2},0.30208333333333337,0.23750000000000004,{"$f":"DATA!$C$9","v":0.89},{"$f":"DATA!$C$10","v":64},1,320.62500000000006,407.81250000000006,1.5972222222222224E-2,21.562500000000004,5.2873563218390804E-2,4.8611111111111112E-2,65.625,0.16091954022988503,352,289,289,"","",null,{"$f":"X58","v":3},null,{"$f":"TEXT(Y60,\"ddd\")","v":"vr"},"MD",{"$f":"IFERROR(HLOOKUP(Y60,[1]DATA!$A$1:$NB$5,4,0),\"\")","v":"D1"},23,70,41,330,16,-59.749999999999943,0.66293906810035852,0.95652173913043481]
["3vrND",{"$f":"VLOOKUP($AA62,DATA!$B$3:$E62,2,0)","v":"22:30:00"},{"$f":"VLOOKUP($AA62,DATA!$B$3:$E62,3,0)","v":"06:30:00"},{"$f":"VLOOKUP($AA62,DATA!$B$3:$E62,4,0)","v":3.125E-2},0.30208333333333326,0.30208333333333326,{"$f":"DATA!$C$9","v":0.89},{"$f":"DATA!$C$10","v":64},1,407.81249999999989,407.81249999999989,0,"","",0,"","",0,"","","","",null,{"$f":"X58","v":3},null,{"$f":"TEXT(Y60,\"ddd\")","v":"vr"},"ND",{"$f":"IFERROR(HLOOKUP(Y60,[1]DATA!$A$1:$NB$5,5,0),\"\")","v":"-"},null,null,null,null,0,"","",""]
["3zaDD",{"$f":"VLOOKUP($AA63,DATA!$B$3:$E63,2,0)","v":"06:30:00"},{"$f":"VLOOKUP($AA63,DATA!$B$3:$E63,3,0)","v":"14:30:00"},{"$f":"VLOOKUP($AA63,DATA!$B$3:$E63,4,0)","v":3.125E-2},0.30208333333333331,0.30208333333333331,{"$f":"DATA!$C$9","v":0.89},{"$f":"DATA!$C$10","v":64},1,407.8125,407.8125,0,"","",0,"","",0,"","","","",null,{"$f":"X58","v":3},{"$f":"Y60+1","v":"2018-01-20"},{"$f":"TEXT(Y63,\"ddd\")","v":"za"},"DD",{"$f":"IFERROR(HLOOKUP(Y63,[1]DATA!$A$1:$NB$5,3,0),\"\")","v":"-"},null,null,null,null,0,"","",""]
["3zaMD",{"$f":"VLOOKUP($AA64,DATA!$B$3:$E64,2,0)","v":"14:30:00"},{"$f":"VLOOKUP($AA64,DATA!$B$3:$E64,3,0)","v":"22:30:00"},{"$f":"VLOOKUP($AA64,DATA!$B$3:$E64,4,0)","v":3.125E-2},0.30208333333333337,0.30208333333333337,{"$f":"DATA!$C$9","v":0.89},{"$f":"DATA!$C$10","v":64},1,407.81250000000006,407.81250000000006,0,"","",0,"","",0,"","","","",null,{"$f":"X58","v":3},null,{"$f":"TEXT(Y63,\"ddd\")","v":"za"},"MD",{"$f":"IFERROR(HLOOKUP(Y63,[1]DATA!$A$1:$NB$5,4,0),\"\")","v":"-"},null,null,null,null,0,"","",""]
["3zaND",{"$f":"VLOOKUP($AA65,DATA!$B$3:$E65,2,0)","v":"22:30:00"},{"$f":"VLOOKUP($AA65,DATA!$B$3:$E65,3,0)","v":"06:30:00"},{"$f":"VLOOKUP($AA65,DATA!$B$3:$E65,4,0)","v":3.125E-2},0.30208333333333326,0.30208333333333326,{"$f":"DATA!$C$9","v":0.89},{"$f":"DATA!$C$10","v":64},1,407.81249999999989,407.81249999999989,0,"","",0,"","",0,"","","","",null,{"$f":"X58","v":3},null,{"$f":"TEXT(Y63,\"ddd\")","v":"za"},"ND",{"$f":"IFERROR(HLOOKUP(Y63,[1]DATA!$A$1:$NB$5,5,0),\"\")","v":"-"},null,null,null,null,0,"","",""]
["3zoDD",{"$f":"VLOOKUP($AA66,DATA!$B$3:$E66,2,0)","v":"06:30:00"},{"$f":"VLOOKUP($AA66,DATA!$B$3:$E66,3,0)","v":"14:30:00"},{"$f":"VLOOKUP($AA66,DATA!$B$3:$E66,4,0)","v":3.125E-2},0.30208333333333331,0.30208333333333331,{"$f":"DATA!$C$9","v":0.89},{"$f":"DATA!$C$10","v":64},1,407.8125,407.8125,0,"","",0,"","",0,"","","","",null,{"$f":"X58","v":3},{"$f":"Y63+1","v":"2018-01-21"},{"$f":"TEXT(Y66,\"ddd\")","v":"zo"},"DD",{"$f":"IFERROR(HLOOKUP(Y66,[1]DATA!$A$1:$NB$5,3,0),\"\")","v":"-"},null,null,null,null,0,"","",""]
["3zoMD",{"$f":"VLOOKUP($AA67,DATA!$B$3:$E67,2,0)","v":"14:30:00"},{"$f":"VLOOKUP($AA67,DATA!$B$3:$E67,3,0)","v":"22:30:00"},{"$f":"VLOOKUP($AA67,DATA!$B$3:$E67,4,0)","v":3.125E-2},0.30208333333333337,0.30208333333333337,{"$f":"DATA!$C$9","v":0.89},{"$f":"DATA!$C$10","v":64},1,407.81250000000006,407.81250000000006,0,"","",0,"","",0,"","","","",null,{"$f":"X58","v":3},null,{"$f":"TEXT(Y66,\"ddd\")","v":"zo"},"MD",{"$f":"IFERROR(HLOOKUP(Y66,[1]DATA!$A$1:$NB$5,4,0),\"\")","v":"-"},null,null,null,null,0,"","",""]
["3zoZND",{"$f":"VLOOKUP($AA68,DATA!$B$3:$E68,2,0)","v":"00:00:00"},{"$f":"VLOOKUP($AA68,DATA!$B$3:$E68,3,0)","v":"00:00:00"},{"$f":"VLOOKUP($AA68,DATA!$B$3:$E68,4,0)","v":0},0,0,{"$f":"DATA!$C$9","v":0.89},{"$f":"DATA!$C$10","v":64},1,0,0,0,"","",0,"","",0,"","","","",null,{"$f":"X58","v":3},null,{"$f":"TEXT(Y66,\"ddd\")","v":"zo"},"ZND",{"$f":"IFERROR(HLOOKUP(Y66,[1]DATA!$A$1:$NB$5,5,0),\"\")","v":"D2"},null,null,null,null,0,"","",""]
["4maDD",{"$f":"VLOOKUP($AA69,DATA!$B$3:$E69,2,0)","v":"06:30:00"},{"$f":"VLOOKUP($AA69,DATA!$B$3:$E69,3,0)","v":"14:30:00"},{"$f":"VLOOKUP($AA69,DATA!$B$3:$E69,4,0)","v":3.125E-2},0.30208333333333331,0.22013888888888888,{"$f":"DATA!$C$9","v":0.89},{"$f":"DATA!$C$10","v":64},1,297.1875,407.8125,8.1944444444444445E-2,110.625,0.27126436781609198,{"$f":"TIME(INT($AD69/60),INT(MOD($AD69,60)/1),0)","v":0},"","",387.2,328,328,"","",null,{"$f":"X79","v":4},{"$f":"Y66+1","v":"2018-01-22"},{"$f":"TEXT(Y69,\"ddd\")","v":"ma"},"DD",{"$f":"IFERROR(HLOOKUP(Y69,[1]DATA!$A$1:$NB$5,3,0),\"\")","v":"D1"},118,null,35,363,0,2.6874999999999432,0.75240143369175627,1,4359.375,3082,0.70698207885304665,641.25,0.14709677419354839,0,0,0.93434650574659417,0.96277572230644426,"",0.90591728918674441,636.125,0.14592114695340497,678.5333333333333,273]
["4maMD",{"$f":"VLOOKUP($AA70,DATA!$B$3:$E70,2,0)","v":"14:30:00"},{"$f":"VLOOKUP($AA70,DATA!$B$3:$E70,3,0)","v":"22:30:00"},{"$f":"VLOOKUP($AA70,DATA!$B$3:$E70,4,0)","v":3.125E-2},0.30208333333333337,0.29722222222222228,{"$f":"DATA!$C$9","v":0.89},{"$f":"DATA!$C$10","v":64},1,401.25000000000006,407.81250000000006,4.8611111111111112E-3,6.5625,1.6091954022988502E-2,{"$f":"TIME(INT(AD70/60),INT(MOD(AD70,60)/1),0)","v":0},"","",372.26666666666665,332,"","",332,null,{"$f":"X79","v":4},null,{"$f":"TEXT(Y69,\"ddd\")","v":"ma"},"MD",{"$f":"IFERROR(HLOOKUP(Y69,[1]DATA!$A$1:$NB$5,4,0),\"\")","v":"D3"},7,null,17,349,95,-97.375,0.7615770609318997,0.79668997003852193]
["4maND",{"$f":"VLOOKUP($AA71,DATA!$B$3:$E71,2,0)","v":"22:30:00"},{"$f":"VLOOKUP($AA71,DATA!$B$3:$E71,3,0)","v":"06:30:00"},{"$f":"VLOOKUP($AA71,DATA!$B$3:$E71,4,0)","v":3.125E-2},0.30208333333333326,0.30208333333333326,{"$f":"DATA!$C$9","v":0.89},{"$f":"DATA!$C$10","v":64},1,407.81249999999989,407.81249999999989,{"$f":"TIME(INT($AC71/60),INT(MOD($AC71,60)/1),0)","v":0},{"$f":"IF($L71*86400/$H71=0,\"\",$L71*86400/$H71)","v":""},{"$f":"IFERROR($M71/$K71,\"\")","v":""},0,"",{"$f":"IFERROR($P71/$K71,\"\")","v":""},0,"",{"$f":"IF(IF($AB71=\"D1\",$S71,\"\")=0,\"\",IF($AB71=\"D1\",$S71,\"\"))","v":""},{"$f":"IF(IF($AB71=\"D2\",$S71,\"\")=0,\"\",IF($AB71=\"D2\",$S71,\"\"))","v":""},{"$f":"IF(IF($AB71=\"D3\",$S71,\"\")=0,\"\",IF($AB71=\"D3\",$S71,\"\"))","v":""},null,{"$f":"X79","v":4},null,{"$f":"TEXT(Y69,\"ddd\")","v":"ma"},"ND",{"$f":"IFERROR(HLOOKUP(Y69,[1]DATA!$A$1:$NB$5,5,0),\"\")","v":"D2"},null,null,null,null,0,"","",""]
["4diDD",{"$f":"VLOOKUP($AA72,DATA!$B$3:$E72,2,0)","v":"06:30:00"},{"$f":"VLOOKUP($AA72,DATA!$B$3:$E72,3,0)","v":"14:30:00"},{"$f":"VLOOKUP($AA72,DATA!$B$3:$E72,4,0)","v":3.125E-2},0.30208333333333331,0.23472222222222222,{"$f":"DATA!$C$9","v":0.89},{"$f":"DATA!$C$10","v":64},1,316.875,407.8125,6.7361111111111108E-2,90.9375,0.22298850574712645,0,"","",364.8,325,325,"","",null,{"$f":"X79","v":4},{"$f":"Y69+1","v":"2018-01-23"},{"$f":"TEXT(Y72,\"ddd\")","v":"di"},"DD",{"$f":"IFERROR(HLOOKUP(Y72,[1]DATA!$A$1:$NB$5,3,0),\"\")","v":"D1"},97,null,17,342,25,-20.000000000000057,0.74551971326164879,0.93586454592098511]
["4diMD",{"$f":"VLOOKUP($AA73,DATA!$B$3:$E73,2,0)","v":"14:30:00"},{"$f":"VLOOKUP($AA73,DATA!$B$3:$E73,3,0)","v":"22:30:00"},{"$f":"VLOOKUP($AA73,DATA!$B$3:$E73,4,0)","v":3.125E-2},0.30208333333333337,0.19166666666666671,{"$f":"DATA!$C$9","v":0.89},{"$f":"DATA!$C$10","v":64},1,258.75000000000006,407.81250000000006,0.11041666666666666,149.0625,0.3655172413793103,0,"","",356.26666666666665,306,"","",306,null,{"$f":"X79","v":4},null,{"$f":"TEXT(Y72,\"ddd\")","v":"di"},"MD",{"$f":"IFERROR(HLOOKUP(Y72,[1]DATA!$A$1:$NB$5,4,0),\"\")","v":"D3"},159,null,28,334,15,19.125000000000057,0.70193548387096782,0.95959777338840002]
["4diND",{"$f":"VLOOKUP($AA74,DATA!$B$3:$E74,2,0)","v":"22:30:00"},{"$f":"VLOOKUP($AA74,DATA!$B$3:$E74,3,0)","v":"06:30:00"},{"$f":"VLOOKUP($AA74,DATA!$B$3:$E74,4,0)","v":3.125E-2},0.30208333333333326,0.30208333333333326,{"$f":"DATA!$C$9","v":0.89},{"$f":"DATA!$C$10","v":64},1,407.81249999999989,407.81249999999989,0,"","",0,"","",0,"","","","",null,{"$f":"X79","v":4},null,{"$f":"TEXT(Y72,\"ddd\")","v":"di"},"ND",{"$f":"IFERROR(HLOOKUP(Y72,[1]DATA!$A$1:$NB$5,5,0),\"\")","v":"D2"},null,null,null,null,0,"","",""]
["4woDD",{"$f":"VLOOKUP($AA75,DATA!$B$3:$E75,2,0)","v":"06:30:00"},{"$f":"VLOOKUP($AA75,DATA!$B$3:$E75,3,0)","v":"14:30:00"},{"$f":"VLOOKUP($AA75,DATA!$B$3:$E75,4,0)","v":3.125E-2},0.30208333333333331,0.24444444444444444,{"$f":"DATA!$C$9","v":0.89},{"$f":"DATA!$C$10","v":64},1,330,407.8125,5.7638888888888885E-2,77.8125,0.19080459770114944,0,"","",346.66666666666669,297,297,"","",null,{"$f":"X79","v":4},{"$f":"Y72+1","v":"2018-01-24"},{"$f":"TEXT(Y75,\"ddd\")","v":"wo"},"DD",{"$f":"IFERROR(HLOOKUP(Y75,[1]DATA!$A$1:$NB$5,3,0),\"\")","v":"D1"},83,null,28,325,10,-61.125,0.68129032258064515,0.9719626168224299]
["4woMD",{"$f":"VLOOKUP($AA76,DATA!$B$3:$E76,2,0)","v":"14:30:00"},{"$f":"VLOOKUP($AA76,DATA!$B$3:$E76,3,0)","v":"22:30:00"},{"$f":"VLOOKUP($AA76,DATA!$B$3:$E76,4,0)","v":3.125E-2},0.30208333333333337,0.26319444444444451,{"$f":"DATA!$C$9","v":0.89},{"$f":"DATA!$C$10","v":64},1,355.31250000000011,407.81250000000006,3.888888888888889E-2,52.5,0.12873563218390802,0,"","",403.2,341,"","",341,null,{"$f":"X79","v":4},null,{"$f":"TEXT(Y75,\"ddd\")","v":"wo"},"MD",{"$f":"IFERROR(HLOOKUP(Y75,[1]DATA!$A$1:$NB$5,4,0),\"\")","v":"D3"},56,null,37,378,48,-42.4375,0.78222222222222237,0.8936170212765957]
["4woND",{"$f":"VLOOKUP($AA77,DATA!$B$3:$E77,2,0)","v":"22:30:00"},{"$f":"VLOOKUP($AA77,DATA!$B$3:$E77,3,0)","v":"06:30:00"},{"$f":"VLOOKUP($AA77,DATA!$B$3:$E77,4,0)","v":3.125E-2},0.30208333333333326,0.30208333333333326,{"$f":"DATA!$C$9","v":0.89},{"$f":"DATA!$C$10","v":64},1,407.81249999999989,407.81249999999989,0,"","",0,"","",0,"","","","",null,{"$f":"X79","v":4},null,{"$f":"TEXT(Y75,\"ddd\")","v":"wo"},"ND",{"$f":"IFERROR(HLOOKUP(Y75,[1]DATA!$A$1:$NB$5,5,0),\"\")","v":"D2"},null,null,null,null,0,"","",""]
["4doDD",{"$f":"VLOOKUP($AA78,DATA!$B$3:$E78,2,0)","v":"06:30:00"},{"$f":"VLOOKUP($AA78,DATA!$B$3:$E78,3,0)","v":"14:30:00"},{"$f":"VLOOKUP($AA78,DATA!$B$3:$E78,4,0)","v":3.125E-2},0.30208333333333331,0.22916666666666663,{"$f":"DATA!$C$9","v":0.89},{"$f":"DATA!$C$10","v":64},1,309.37499999999994,407.8125,7.2916666666666671E-2,98.4375,0.2413793103448276,0,"","",260.26666666666665,214,214,"","",null,{"$f":"X79","v":4},{"$f":"Y75+1","v":"2018-01-25"},{"$f":"TEXT(Y78,\"ddd\")","v":"do"},"DD",{"$f":"IFERROR(HLOOKUP(Y78,[1]DATA!$A$1:$NB$5,3,0),\"\")","v":"D1"},105,null,30,244,8,-123.5,0.49089605734767028,0.97017892644135184]
["4doMD",{"$f":"VLOOKUP($AA79,DATA!$B$3:$E79,2,0)","v":"14:30:00"},{"$f":"VLOOKUP($AA79,DATA!$B$3:$E79,3,0)","v":"22:30:00"},{"$f":"VLOOKUP($AA79,DATA!$B$3:$E79,4,0)","v":3.125E-2},0.30208333333333337,0.27847222222222223,{"$f":"DATA!$C$9","v":0.89},{"$f":"DATA!$C$10","v":64},1,375.9375,407.81250000000006,2.361111111111111E-2,31.875,7.816091954022987E-2,0,"","",387.2,334,"","",334,null,{"$f":"WEEKNUM($Y69)","v":4},null,{"$f":"TEXT(Y78,\"ddd\")","v":"do"},"MD",{"$f":"IFERROR(HLOOKUP(Y78,[1]DATA!$A$1:$NB$5,4,0),\"\")","v":"D3"},34,null,29,363,5,-70.062499999999886,0.76616487455197146,0.98725140234574194]
["4doND",{"$f":"VLOOKUP($AA80,DATA!$B$3:$E80,2,0)","v":"22:30:00"},{"$f":"VLOOKUP($AA80,DATA!$B$3:$E80,3,0)","v":"06:30:00"},{"$f":"VLOOKUP($AA80,DATA!$B$3:$E80,4,0)","v":3.125E-2},0.30208333333333326,0.30208333333333326,{"$f":"DATA!$C$9","v":0.89},{"$f":"DATA!$C$10","v":64},1,407.81249999999989,407.81249999999989,0,"","",0,"","",0,"","","","",null,{"$f":"X79","v":4},null,{"$f":"TEXT(Y78,\"ddd\")","v":"do"},"ND",{"$f":"IFERROR(HLOOKUP(Y78,[1]DATA!$A$1:$NB$5,5,0),\"\")","v":"D2"},null,null,null,null,0,"","",""]
["4vrDD",{"$f":"VLOOKUP($AA81,DATA!$B$3:$E81,2,0)","v":"06:30:00"},{"$f":"VLOOKUP($AA81,DATA!$B$3:$E81,3,0)","v":"14:30:00"},{"$f":"VLOOKUP($AA81,DATA!$B$3:$E81,4,0)","v":3.125E-2},0.30208333333333331,0.3,{"$f":"DATA!$C$9","v":0.89},{"$f":"DATA!$C$10","v":64},1,405,407.8125,2.0833333333333333E-3,2.8125,6.8965517241379309E-3,0,"","",321.06666666666666,268,268,"","",null,{"$f":"X79","v":4},{"$f":"Y78+1","v":"2018-01-26"},{"$f":"TEXT(Y81,\"ddd\")","v":"vr"},"DD",{"$f":"IFERROR(HLOOKUP(Y81,[1]DATA!$A$1:$NB$5,3,0),\"\")","v":"D1"},3,null,33,301,22,-165.12500000000006,0.61476702508960579,0.93587252234745433]
["4vrMD",{"$f":"VLOOKUP($AA82,DATA!$B$3:$E82,2,0)","v":"14:30:00"},{"$f":"VLOOKUP($AA82,DATA!$B$3:$E82,3,0)","v":"22:30:00"},{"$f":"VLOOKUP($AA82,DATA!$B$3:$E82,4,0)","v":3.125E-2},0.30208333333333337,0.28680555555555559,{"$f":"DATA!$C$9","v":0.89},{"$f":"DATA!$C$10","v":64},1,387.18750000000006,407.81250000000006,1.5277777777777777E-2,20.625,5.0574712643678153E-2,0,"","",373.33333333333331,337,"","",337,null,{"$f":"X79","v":4},null,{"$f":"TEXT(Y81,\"ddd\")","v":"vr"},"MD",{"$f":"IFERROR(HLOOKUP(Y81,[1]DATA!$A$1:$NB$5,4,0),\"\")","v":"D3"},22,null,13,350,45,-78.312499999999943,0.77304659498207895,0.89243027888446214]
["4vrND",{"$f":"VLOOKUP($AA83,DATA!$B$3:$E83,2,0)","v":"22:30:00"},{"$f":"VLOOKUP($AA83,DATA!$B$3:$E83,3,0)","v":"06:30:00"},{"$f":"VLOOKUP($AA83,DATA!$B$3:$E83,4,0)","v":3.125E-2},0.30208333333333326,0.30208333333333326,{"$f":"DATA!$C$9","v":0.89},{"$f":"DATA!$C$10","v":64},1,407.81249999999989,407.81249999999989,0,"","",0,"","",0,"","","","",null,{"$f":"X79","v":4},null,{"$f":"TEXT(Y81,\"ddd\")","v":"vr"},"ND",{"$f":"IFERROR(HLOOKUP(Y81,[1]DATA!$A$1:$NB$5,5,0),\"\")","v":"-"},null,null,null,null,0,"","",""]
["4zaDD",{"$f":"VLOOKUP($AA84,DATA!$B$3:$E84,2,0)","v":"06:30:00"},{"$f":"VLOOKUP($AA84,DATA!$B$3:$E84,3,0)","v":"14:30:00"},{"$f":"VLOOKUP($AA84,DATA!$B$3:$E84,4,0)","v":3.125E-2},0.30208333333333331,0.30208333333333331,{"$f":"DATA!$C$9","v":0.89},{"$f":"DATA!$C$10","v":64},1,407.8125,407.8125,0,"","",0,"","",0,"","","","",null,{"$f":"X79","v":4},{"$f":"Y81+1","v":"2018-01-27"},{"$f":"TEXT(Y84,\"ddd\")","v":"za"},"DD",{"$f":"IFERROR(HLOOKUP(Y84,[1]DATA!$A$1:$NB$5,3,0),\"\")","v":"-"},null,null,null,null,0,"","",""]
["4zaMD",{"$f":"VLOOKUP($AA85,DATA!$B$3:$E85,2,0)","v":"14:30:00"},{"$f":"VLOOKUP($AA85,DATA!$B$3:$E85,3,0)","v":"22:30:00"},{"$f":"VLOOKUP($AA85,DATA!$B$3:$E85,4,0)","v":3.125E-2},0.30208333333333337,0.30208333333333337,{"$f":"DATA!$C$9","v":0.89},{"$f":"DATA!$C$10","v":64},1,407.81250000000006,407.81250000000006,0,"","",0,"","",0,"","","","",null,{"$f":"X79","v":4},null,{"$f":"TEXT(Y84,\"ddd\")","v":"za"},"MD",{"$f":"IFERROR(HLOOKUP(Y84,[1]DATA!$A$1:$NB$5,4,0),\"\")","v":"-"},null,null,null,null,0,"","",""]
["4zaND",{"$f":"VLOOKUP($AA86,DATA!$B$3:$E86,2,0)","v":"22:30:00"},{"$f":"VLOOKUP($AA86,DATA!$B$3:$E86,3,0)","v":"06:30:00"},{"$f":"VLOOKUP($AA86,DATA!$B$3:$E86,4,0)","v":3.125E-2},0.30208333333333326,0.30208333333333326,{"$f":"DATA!$C$9","v":0.89},{"$f":"DATA!$C$10","v":64},1,407.81249999999989,407.81249999999989,0,"","",0,"","",0,"","","","",null,{"$f":"X79","v":4},null,{"$f":"TEXT(Y84,\"ddd\")","v":"za"},"ND",{"$f":"IFERROR(HLOOKUP(Y84,[1]DATA!$A$1:$NB$5,5,0),\"\")","v":"-"},null,null,null,null,0,"","",""]
["4zoDD",{"$f":"VLOOKUP($AA87,DATA!$B$3:$E87,2,0)","v":"06:30:00"},{"$f":"VLOOKUP($AA87,DATA!$B$3:$E87,3,0)","v":"14:30:00"},{"$f":"VLOOKUP($AA87,DATA!$B$3:$E87,4,0)","v":3.125E-2},0.30208333333333331,0.30208333333333331,{"$f":"DATA!$C$9","v":0.89},{"$f":"DATA!$C$10","v":64},1,407.8125,407.8125,0,"","",0,"","",0,"","","","",null,{"$f":"X79","v":4},{"$f":"Y84+1","v":"2018-01-28"},{"$f":"TEXT(Y87,\"ddd\")","v":"zo"},"DD",{"$f":"IFERROR(HLOOKUP(Y87,[1]DATA!$A$1:$NB$5,3,0),\"\")","v":"-"},null,null,null,null,0,"","",""]
["4zoMD",{"$f":"VLOOKUP($AA88,DATA!$B$3:$E88,2,0)","v":"14:30:00"},{"$f":"VLOOKUP($AA88,DATA!$B$3:$E88,3,0)","v":"22:30:00"},{"$f":"VLOOKUP($AA88,DATA!$B$3:$E88,4,0)","v":3.125E-2},0.30208333333333337,0.30208333333333337,{"$f":"DATA!$C$9","v":0.89},{"$f":"DATA!$C$10","v":64},1,407.81250000000006,407.81250000000006,0,"","",0,"","",0,"","","","",null,{"$f":"X79","v":4},null,{"$f":"TEXT(Y87,\"ddd\")","v":"zo"},"MD",{"$f":"IFERROR(HLOOKUP(Y87,[1]DATA!$A$1:$NB$5,4,0),\"\")","v":"-"},null,null,null,null,0,"","",""]
["4zoZND",{"$f":"VLOOKUP($AA89,DATA!$B$3:$E89,2,0)","v":"00:00:00"},{"$f":"VLOOKUP($AA89,DATA!$B$3:$E89,3,0)","v":"00:00:00"},{"$f":"VLOOKUP($AA89,DATA!$B$3:$E89,4,0)","v":0},0,0,{"$f":"DATA!$C$9","v":0.89},{"$f":"DATA!$C$10","v":64},1,0,0,0,"","",0,"","",0,"","","","",null,{"$f":"X79","v":4},null,{"$f":"TEXT(Y87,\"ddd\")","v":"zo"},"ZND",{"$f":"IFERROR(HLOOKUP(Y87,[1]DATA!$A$1:$NB$5,5,0),\"\")","v":"D1"},null,null,null,null,0,"","",""]
["5maDD",{"$f":"VLOOKUP($AA90,DATA!$B$3:$E90,2,0)","v":"06:30:00"},{"$f":"VLOOKUP($AA90,DATA!$B$3:$E90,3,0)","v":"14:30:00"},{"$f":"VLOOKUP($AA90,DATA!$B$3:$E90,4,0)","v":3.125E-2},0.30208333333333331,0.18194444444444441,{"$f":"DATA!$C$9","v":0.89},{"$f":"DATA!$C$10","v":64},1,245.62499999999994,407.8125,0.12013888888888889,162.1875,0.39770114942528734,{"$f":"TIME(INT($AD90/60),INT(MOD($AD90,60)/1),0)","v":0},"","",304,258,"","",258,null,{"$f":"X100","v":5},{"$f":"Y87+1","v":"2018-01-29"},{"$f":"TEXT(Y90,\"ddd\")","v":"ma"},"DD",{"$f":"IFERROR(HLOOKUP(Y90,[1]DATA!$A$1:$NB$5,3,0),\"\")","v":"D3"},173,null,27,285,14,-15.75,0.59182795698924728,0.95597484276729561,4359.375,2798,0.64183512544802868,901.875,0.20688172043010752,351.5625,8.0645161290322578E-2,0.91567031564479551,"",0.94304236435893019,0.88829826693066105,307.9375,7.0637992831541221E-2,328.46666666666664,292]
["5maMD",{"$f":"VLOOKUP($AA91,DATA!$B$3:$E91,2,0)","v":"14:30:00"},{"$f":"VLOOKUP($AA91,DATA!$B$3:$E91,3,0)","v":"22:30:00"},{"$f":"VLOOKUP($AA91,DATA!$B$3:$E91,4,0)","v":3.125E-2},0.30208333333333337,0.22083333333333338,{"$f":"DATA!$C$9","v":0.89},{"$f":"DATA!$C$10","v":64},1,298.12500000000006,407.81250000000006,8.1250000000000003E-2,109.6875,0.26896551724137929,{"$f":"TIME(INT(AD91/60),INT(MOD(AD91,60)/1),0)","v":0},"","",374.4,326,"",326,"",null,{"$f":"X100","v":5},null,{"$f":"TEXT(Y90,\"ddd\")","v":"ma"},"MD",{"$f":"IFERROR(HLOOKUP(Y90,[1]DATA!$A$1:$NB$5,4,0),\"\")","v":"D2"},117,null,25,351,15,-0.24999999999994316,0.74781362007168473,0.96147919876733434]
["5maND",{"$f":"VLOOKUP($AA92,DATA!$B$3:$E92,2,0)","v":"22:30:00"},{"$f":"VLOOKUP($AA92,DATA!$B$3:$E92,3,0)","v":"06:30:00"},{"$f":"VLOOKUP($AA92,DATA!$B$3:$E92,4,0)","v":3.125E-2},{"$f":"(C92-B92+(B92>C92))-D92","v":0.30208333333333326},{"$f":"E92-O92-L92","v":0.30208333333333326},{"$f":"DATA!$C$9","v":0.89},{"$f":"DATA!$C$10","v":64},1,{"$f":"F92*86400/H92*I92","v":407.81249999999989},{"$f":"E92*86400/H92","v":407.81249999999989},0,"","",0,"","",{"$f":"AF92*AG$2","v":0},{"$f":"IF(AF92-AE92=0,\"\",AF92-AE92)","v":""},"","","",null,{"$f":"X100","v":5},null,{"$f":"TEXT(Y90,\"ddd\")","v":"ma"},"ND",{"$f":"IFERROR(HLOOKUP(Y90,[1]DATA!$A$1:$NB$5,5,0),\"\")","v":"D1"},null,null,null,null,0,"","",""]
["5diDD",{"$f":"VLOOKUP($AA93,DATA!$B$3:$E93,2,0)","v":"06:30:00"},{"$f":"VLOOKUP($AA93,DATA!$B$3:$E93,3,0)","v":"14:30:00"},{"$f":"VLOOKUP($AA93,DATA!$B$3:$E93,4,0)","v":3.125E-2},0.30208333333333331,0.23749999999999999,{"$f":"DATA!$C$9","v":0.89},{"$f":"DATA!$C$10","v":64},1,320.625,407.8125,6.458333333333334E-2,87.187500000000014,0.2137931034482759,0,"","",385.06666666666666,336,"","",336,null,{"$f":"X100","v":5},{"$f":"Y90+1","v":"2018-01-30"},{"$f":"TEXT(Y93,\"ddd\")","v":"di"},"DD",{"$f":"IFERROR(HLOOKUP(Y93,[1]DATA!$A$1:$NB$5,3,0),\"\")","v":"D3"},93,null,25,361,27,-12.750000000000057,0.77075268817204301,0.93447662190584047]
["5diMD",{"$f":"VLOOKUP($AA94,DATA!$B$3:$E94,2,0)","v":"14:30:00"},{"$f":"VLOOKUP($AA94,DATA!$B$3:$E94,3,0)","v":"22:30:00"},{"$f":"VLOOKUP($AA94,DATA!$B$3:$E94,4,0)","v":3.125E-2},0.30208333333333337,0.24375000000000005,{"$f":"DATA!$C$9","v":0.89},{"$f":"DATA!$C$10","v":64},1,329.06250000000006,407.81250000000006,5.8333333333333327E-2,78.749999999999986,0.19310344827586201,0,"","",363.73333333333335,305,"",305,"",null,{"$f":"X100","v":5},null,{"$f":"TEXT(Y93,\"ddd\")","v":"di"},"MD",{"$f":"IFERROR(HLOOKUP(Y93,[1]DATA!$A$1:$NB$5,4,0),\"\")","v":"D2"},84,null,36,341,12,-52.187499999999943,0.699641577060932,0.96806245564229954]
["5diND",{"$f":"VLOOKUP($AA95,DATA!$B$3:$E95,2,0)","v":"22:30:00"},{"$f":"VLOOKUP($AA95,DATA!$B$3:$E95,3,0)","v":"06:30:00"},{"$f":"VLOOKUP($AA95,DATA!$B$3:$E95,4,0)","v":3.125E-2},0.30208333333333326,0.30208333333333326,{"$f":"DATA!$C$9","v":0.89},{"$f":"DATA!$C$10","v":64},1,407.81249999999989,407.81249999999989,0,"","",0,"","",0,"","","","",null,{"$f":"X100","v":5},null,{"$f":"TEXT(Y93,\"ddd\")","v":"di"},"ND",{"$f":"IFERROR(HLOOKUP(Y93,[1]DATA!$A$1:$NB$5,5,0),\"\")","v":"D1"},null,null,null,null,0,"","",""]
["5woDD",{"$f":"VLOOKUP($AA96,DATA!$B$3:$E96,2,0)","v":"06:30:00"},{"$f":"VLOOKUP($AA96,DATA!$B$3:$E96,3,0)","v":"14:30:00"},{"$f":"VLOOKUP($AA96,DATA!$B$3:$E96,4,0)","v":3.125E-2},0.30208333333333331,0.12847222222222221,{"$f":"DATA!$C$9","v":0.89},{"$f":"DATA!$C$10","v":64},1,173.43749999999997,407.8125,3.4722222222222224E-2,46.875,0.11494252873563218,0.1388888888888889,187.5,0.45977011494252873,225.06666666666666,206,"","",206,null,{"$f":"X100","v":5},{"$f":"Y93+1","v":"2018-01-31"},{"$f":"TEXT(Y96,\"ddd\")","v":"wo"},"DD",{"$f":"IFERROR(HLOOKUP(Y96,[1]DATA!$A$1:$NB$5,3,0),\"\")","v":"D3"},50,200,5,211,68,4.4374999999999716,0.47254480286738354,0.76797088262056412]
["5woMD",{"$f":"VLOOKUP($AA97,DATA!$B$3:$E97,2,0)","v":"14:30:00"},{"$f":"VLOOKUP($AA97,DATA!$B$3:$E97,3,0)","v":"22:30:00"},{"$f":"VLOOKUP($AA97,DATA!$B$3:$E97,4,0)","v":3.125E-2},0.30208333333333337,0.16597222222222224,{"$f":"DATA!$C$9","v":0.89},{"$f":"DATA!$C$10","v":64},1,224.06250000000003,407.81250000000006,1.4583333333333332E-2,19.687499999999996,4.8275862068965503E-2,0.12152777777777778,164.0625,0.4022988505747126,268.8,231,"",231,"",null,{"$f":"X100","v":5},null,{"$f":"TEXT(Y96,\"ddd\")","v":"wo"},"MD",{"$f":"IFERROR(HLOOKUP(Y96,[1]DATA!$A$1:$NB$5,4,0),\"\")","v":"D2"},21,175,21,252,31,-21.187499999999915,0.52989247311827969,0.89659773182121416]
["5woND",{"$f":"VLOOKUP($AA98,DATA!$B$3:$E98,2,0)","v":"22:30:00"},{"$f":"VLOOKUP($AA98,DATA!$B$3:$E98,3,0)","v":"06:30:00"},{"$f":"VLOOKUP($AA98,DATA!$B$3:$E98,4,0)","v":3.125E-2},0.30208333333333326,0.30208333333333326,{"$f":"DATA!$C$9","v":0.89},{"$f":"DATA!$C$10","v":64},1,407.81249999999989,407.81249999999989,0,"","",0,"","",0,"","","","",null,{"$f":"X100","v":5},null,{"$f":"TEXT(Y96,\"ddd\")","v":"wo"},"ND",{"$f":"IFERROR(HLOOKUP(Y96,[1]DATA!$A$1:$NB$5,5,0),\"\")","v":"D1"},null,null,null,null,0,"","",""]
["5doDD",{"$f":"VLOOKUP($AA99,DATA!$B$3:$E99,2,0)","v":"06:30:00"},{"$f":"VLOOKUP($AA99,DATA!$B$3:$E99,3,0)","v":"14:30:00"},{"$f":"VLOOKUP($AA99,DATA!$B$3:$E99,4,0)","v":3.125E-2},0.30208333333333331,0.24444444444444444,{"$f":"DATA!$C$9","v":0.89},{"$f":"DATA!$C$10","v":64},1,330,407.8125,5.7638888888888885E-2,77.8125,0.19080459770114944,0,"","",318.93333333333334,267,"","",267,null,{"$f":"X100","v":5},{"$f":"Y96+1","v":"2018-02-01"},{"$f":"TEXT(Y99,\"ddd\")","v":"do"},"DD",{"$f":"IFERROR(HLOOKUP(Y99,[1]DATA!$A$1:$NB$5,3,0),\"\")","v":"D3"},83,null,32,299,73,-91.125,0.61247311827956985,0.81374383398537165]
["5doMD",{"$f":"VLOOKUP($AA100,DATA!$B$3:$E100,2,0)","v":"14:30:00"},{"$f":"VLOOKUP($AA100,DATA!$B$3:$E100,3,0)","v":"22:30:00"},{"$f":"VLOOKUP($AA100,DATA!$B$3:$E100,4,0)","v":3.125E-2},0.30208333333333337,0.22638888888888892,{"$f":"DATA!$C$9","v":0.89},{"$f":"DATA!$C$10","v":64},1,305.62500000000006,407.81250000000006,7.5694444444444439E-2,102.1875,0.25057471264367814,0,"","",375.46666666666664,325,"",325,"",null,{"$f":"WEEKNUM($Y90)","v":5},null,{"$f":"TEXT(Y99,\"ddd\")","v":"do"},"MD",{"$f":"IFERROR(HLOOKUP(Y99,[1]DATA!$A$1:$NB$5,4,0),\"\")","v":"D2"},109,null,27,352,24,-8.7499999999999432,0.7455197132616489,0.93991989319092117]
["5doND",{"$f":"VLOOKUP($AA101,DATA!$B$3:$E101,2,0)","v":"22:30:00"},{"$f":"VLOOKUP($AA101,DATA!$B$3:$E101,3,0)","v":"06:30:00"},{"$f":"VLOOKUP($AA101,DATA!$B$3:$E101,4,0)","v":3.125E-2},0.30208333333333326,0.30208333333333326,{"$f":"DATA!$C$9","v":0.89},{"$f":"DATA!$C$10","v":64},1,407.81249999999989,407.81249999999989,0,"","",0,"","",0,"","","","",null,{"$f":"X100","v":5},null,{"$f":"TEXT(Y99,\"ddd\")","v":"do"},"ND",{"$f":"IFERROR(HLOOKUP(Y99,[1]DATA!$A$1:$NB$5,5,0),\"\")","v":"D1"},null,null,null,null,0,"","",""]
["5vrDD",{"$f":"VLOOKUP($AA102,DATA!$B$3:$E102,2,0)","v":"06:30:00"},{"$f":"VLOOKUP($AA102,DATA!$B$3:$E102,3,0)","v":"14:30:00"},{"$f":"VLOOKUP($AA102,DATA!$B$3:$E102,4,0)","v":3.125E-2},0.30208333333333331,0.22569444444444442,{"$f":"DATA!$C$9","v":0.89},{"$f":"DATA!$C$10","v":64},1,304.68749999999994,407.8125,7.6388888888888895E-2,103.12500000000001,0.25287356321839083,0,"","",252.79999999999998,220,"","",220,null,{"$f":"X100","v":5},{"$f":"Y99+1","v":"2018-02-02"},{"$f":"TEXT(Y102,\"ddd\")","v":"vr"},"DD",{"$f":"IFERROR(HLOOKUP(Y102,[1]DATA!$A$1:$NB$5,3,0),\"\")","v":"D3"},110,null,17,237,8,-112.8125,0.50465949820788536,0.96932515337423319]
["5vrMD",{"$f":"VLOOKUP($AA103,DATA!$B$3:$E103,2,0)","v":"14:30:00"},{"$f":"VLOOKUP($AA103,DATA!$B$3:$E103,3,0)","v":"22:30:00"},{"$f":"VLOOKUP($AA103,DATA!$B$3:$E103,4,0)","v":3.125E-2},0.30208333333333337,0.21736111111111117,{"$f":"DATA!$C$9","v":0.89},{"$f":"DATA!$C$10","v":64},1,293.43750000000006,407.81250000000006,8.4722222222222213E-2,114.37499999999999,0.28045977011494244,0,"","",373.33333333333331,324,"",324,"",null,{"$f":"X100","v":5},null,{"$f":"TEXT(Y102,\"ddd\")","v":"vr"},"MD",{"$f":"IFERROR(HLOOKUP(Y102,[1]DATA!$A$1:$NB$5,4,0),\"\")","v":"D2"},122,null,26,350,20,2.4375,0.74322580645161296,0.94915254237288138]
["5vrND",{"$f":"VLOOKUP($AA104,DATA!$B$3:$E104,2,0)","v":"22:30:00"},{"$f":"VLOOKUP($AA104,DATA!$B$3:$E104,3,0)","v":"06:30:00"},{"$f":"VLOOKUP($AA104,DATA!$B$3:$E104,4,0)","v":3.125E-2},0.30208333333333326,0.30208333333333326,{"$f":"DATA!$C$9","v":0.89},{"$f":"DATA!$C$10","v":64},1,407.81249999999989,407.81249999999989,0,"","",0,"","",0,"","","","",null,{"$f":"X100","v":5},null,{"$f":"TEXT(Y102,\"ddd\")","v":"vr"},"ND",{"$f":"IFERROR(HLOOKUP(Y102,[1]DATA!$A$1:$NB$5,5,0),\"\")","v":"-"},null,null,null,null,0,"","",""]
["5zaDD",{"$f":"VLOOKUP($AA105,DATA!$B$3:$E105,2,0)","v":"06:30:00"},{"$f":"VLOOKUP($AA105,DATA!$B$3:$E105,3,0)","v":"14:30:00"},{"$f":"VLOOKUP($AA105,DATA!$B$3:$E105,4,0)","v":3.125E-2},0.30208333333333331,0.30208333333333331,{"$f":"DATA!$C$9","v":0.89},{"$f":"DATA!$C$10","v":64},1,407.8125,407.8125,0,"","",0,"","",0,"","","","",null,{"$f":"X100","v":5},{"$f":"Y102+1","v":"2018-02-03"},{"$f":"TEXT(Y105,\"ddd\")","v":"za"},"DD",{"$f":"IFERROR(HLOOKUP(Y105,[1]DATA!$A$1:$NB$5,3,0),\"\")","v":"-"},null,null,null,null,0,"","",""]
["5zaMD",{"$f":"VLOOKUP($AA106,DATA!$B$3:$E106,2,0)","v":"14:30:00"},{"$f":"VLOOKUP($AA106,DATA!$B$3:$E106,3,0)","v":"22:30:00"},{"$f":"VLOOKUP($AA106,DATA!$B$3:$E106,4,0)","v":3.125E-2},0.30208333333333337,0.30208333333333337,{"$f":"DATA!$C$9","v":0.89},{"$f":"DATA!$C$10","v":64},1,407.81250000000006,407.81250000000006,0,"","",0,"","",0,"","","","",null,{"$f":"X100","v":5},null,{"$f":"TEXT(Y105,\"ddd\")","v":"za"},"MD",{"$f":"IFERROR(HLOOKUP(Y105,[1]DATA!$A$1:$NB$5,4,0),\"\")","v":"-"},null,null,null,null,0,"","",""]
["5zaND",{"$f":"VLOOKUP($AA107,DATA!$B$3:$E107,2,0)","v":"22:30:00"},{"$f":"VLOOKUP($AA107,DATA!$B$3:$E107,3,0)","v":"06:30:00"},{"$f":"VLOOKUP($AA107,DATA!$B$3:$E107,4,0)","v":3.125E-2},0.30208333333333326,0.30208333333333326,{"$f":"DATA!$C$9","v":0.89},{"$f":"DATA!$C$10","v":64},1,407.81249999999989,407.81249999999989,0,"","",0,"","",0,"","","","",null,{"$f":"X100","v":5},null,{"$f":"TEXT(Y105,\"ddd\")","v":"za"},"ND",{"$f":"IFERROR(HLOOKUP(Y105,[1]DATA!$A$1:$NB$5,5,0),\"\")","v":"-"},null,null,null,null,0,"","",""]
["5zoDD",{"$f":"VLOOKUP($AA108,DATA!$B$3:$E108,2,0)","v":"06:30:00"},{"$f":"VLOOKUP($AA108,DATA!$B$3:$E108,3,0)","v":"14:30:00"},{"$f":"VLOOKUP($AA108,DATA!$B$3:$E108,4,0)","v":3.125E-2},0.30208333333333331,0.30208333333333331,{"$f":"DATA!$C$9","v":0.89},{"$f":"DATA!$C$10","v":64},1,407.8125,407.8125,0,"","",0,"","",0,"","","","",null,{"$f":"X100","v":5},{"$f":"Y105+1","v":"2018-02-04"},{"$f":"TEXT(Y108,\"ddd\")","v":"zo"},"DD",{"$f":"IFERROR(HLOOKUP(Y108,[1]DATA!$A$1:$NB$5,3,0),\"\")","v":"-"},null,null,null,null,0,"","",""]
["5zoMD",{"$f":"VLOOKUP($AA109,DATA!$B$3:$E109,2,0)","v":"14:30:00"},{"$f":"VLOOKUP($AA109,DATA!$B$3:$E109,3,0)","v":"22:30:00"},{"$f":"VLOOKUP($AA109,DATA!$B$3:$E109,4,0)","v":3.125E-2},0.30208333333333337,0.30208333333333337,{"$f":"DATA!$C$9","v":0.89},{"$f":"DATA!$C$10","v":64},1,407.81250000000006,407.81250000000006,0,"","",0,"","",0,"","","","",null,{"$f":"X100","v":5},null,{"$f":"TEXT(Y108,\"ddd\")","v":"zo"},"MD",{"$f":"IFERROR(HLOOKUP(Y108,[1]DATA!$A$1:$NB$5,4,0),\"\")","v":"-"},null,null,null,null,0,"","",""]
["5zoZND",{"$f":"VLOOKUP($AA110,DATA!$B$3:$E110,2,0)","v":"00:00:00"},{"$f":"VLOOKUP($AA110,DATA!$B$3:$E110,3,0)","v":"00:00:00"},{"$f":"VLOOKUP($AA110,DATA!$B$3:$E110,4,0)","v":0},0,0,{"$f":"DATA!$C$9","v":0.89},{"$f":"DATA!$C$10","v":64},1,0,0,0,"","",0,"","",0,"","","","",null,{"$f":"X100","v":5},null,{"$f":"TEXT(Y108,\"ddd\")","v":"zo"},"ZND",{"$f":"IFERROR(HLOOKUP(Y108,[1]DATA!$A$1:$NB$5,5,0),\"\")","v":"D3"},null,null,null,null,0,"","",""]
["6maDD",{"$f":"VLOOKUP($AA111,DATA!$B$3:$E111,2,0)","v":"06:30:00"},{"$f":"VLOOKUP($AA111,DATA!$B$3:$E111,3,0)","v":"14:30:00"},{"$f":"VLOOKUP($AA111,DATA!$B$3:$E111,4,0)","v":3.125E-2},0.30208333333333331,0.21805555555555556,{"$f":"DATA!$C$9","v":0.89},{"$f":"DATA!$C$10","v":64},1,294.375,407.8125,8.4027777777777771E-2,113.43749999999999,0.27816091954022987,{"$f":"TIME(INT($AD111/60),INT(MOD($AD111,60)/1),0)","v":0},"","",310.39999999999998,278,"",278,"",null,{"$f":"X121","v":6},{"$f":"Y108+1","v":"2018-02-05"},{"$f":"TEXT(Y111,\"ddd\")","v":"ma"},"DD",{"$f":"IFERROR(HLOOKUP(Y111,[1]DATA!$A$1:$NB$5,3,0),\"\")","v":"D2"},121,null,13,291,25,-44.500000000000057,0.63770609318996418,0.92546213476446038,4359.375,3089,0.70858781362007173,795,0.18236559139784947,0,0,0.93252424736752215,0.97379842050496568,0.8912500742300784,"",475.375,0.1090465949820788,507.06666666666666,277]
[{"$f":"X112&Z112&AA112","v":"6maMD"},{"$f":"VLOOKUP($AA112,DATA!$B$3:$E112,2,0)","v":"14:30:00"},{"$f":"VLOOKUP($AA112,DATA!$B$3:$E112,3,0)","v":"22:30:00"},{"$f":"VLOOKUP($AA112,DATA!$B$3:$E112,4,0)","v":3.125E-2},0.30208333333333337,0.24236111111111114,{"$f":"DATA!$C$9","v":0.89},{"$f":"DATA!$C$10","v":64},1,327.18750000000006,407.81250000000006,5.9722222222222225E-2,80.625,0.19770114942528733,{"$f":"TIME(INT(AD112/60),INT(MOD(AD112,60)/1),0)","v":0},{"$f":"IF($O112*86400/$H112=0,\"\",$O112*86400/$H112)","v":""},"",358.4,307,307,"","",null,{"$f":"X121","v":6},null,{"$f":"TEXT(Y111,\"ddd\")","v":"ma"},"MD",{"$f":"IFERROR(HLOOKUP(Y111,[1]DATA!$A$1:$NB$5,4,0),\"\")","v":"D1"},86,null,29,336,20,-48.312499999999943,0.70422939068100365,0.94714587737843547]
["6maND",{"$f":"VLOOKUP($AA113,DATA!$B$3:$E113,2,0)","v":"22:30:00"},{"$f":"VLOOKUP($AA113,DATA!$B$3:$E113,3,0)","v":"06:30:00"},{"$f":"VLOOKUP($AA113,DATA!$B$3:$E113,4,0)","v":3.125E-2},0.30208333333333326,0.30208333333333326,{"$f":"DATA!$C$9","v":0.89},{"$f":"DATA!$C$10","v":64},1,407.81249999999989,407.81249999999989,0,"","",0,"","",0,"","","","",null,{"$f":"X121","v":6},null,{"$f":"TEXT(Y111,\"ddd\")","v":"ma"},"ND",{"$f":"IFERROR(HLOOKUP(Y111,[1]DATA!$A$1:$NB$5,5,0),\"\")","v":"D3"},null,null,null,null,0,"","",""]
["6diDD",{"$f":"VLOOKUP($AA114,DATA!$B$3:$E114,2,0)","v":"06:30:00"},{"$f":"VLOOKUP($AA114,DATA!$B$3:$E114,3,0)","v":"14:30:00"},{"$f":"VLOOKUP($AA114,DATA!$B$3:$E114,4,0)","v":3.125E-2},0.30208333333333331,0.25972222222222219,{"$f":"DATA!$C$9","v":0.89},{"$f":"DATA!$C$10","v":64},1,350.62499999999994,407.8125,4.2361111111111106E-2,57.187499999999993,0.14022988505747125,0,"","",355.2,315,"",315,"",null,{"$f":"X121","v":6},{"$f":"Y111+1","v":"2018-02-06"},{"$f":"TEXT(Y114,\"ddd\")","v":"di"},"DD",{"$f":"IFERROR(HLOOKUP(Y114,[1]DATA!$A$1:$NB$5,3,0),\"\")","v":"D2"},61,null,18,333,35,-63.75,0.72258064516129028,0.91030240902101489]
["6diMD",{"$f":"VLOOKUP($AA115,DATA!$B$3:$E115,2,0)","v":"14:30:00"},{"$f":"VLOOKUP($AA115,DATA!$B$3:$E115,3,0)","v":"22:30:00"},{"$f":"VLOOKUP($AA115,DATA!$B$3:$E115,4,0)","v":3.125E-2},0.30208333333333337,0.2590277777777778,{"$f":"DATA!$C$9","v":0.89},{"$f":"DATA!$C$10","v":64},1,349.68750000000006,407.81250000000006,4.3055555555555562E-2,58.125000000000007,0.14252873563218391,0,"","",268.8,231,231,"","",null,{"$f":"X121","v":6},null,{"$f":"TEXT(Y114,\"ddd\")","v":"di"},"MD",{"$f":"IFERROR(HLOOKUP(Y114,[1]DATA!$A$1:$NB$5,4,0),\"\")","v":"D1"},62,null,21,252,11,-146.81249999999994,0.52989247311827969,0.96068620443173691]
["6diND",{"$f":"VLOOKUP($AA116,DATA!$B$3:$E116,2,0)","v":"22:30:00"},{"$f":"VLOOKUP($AA116,DATA!$B$3:$E116,3,0)","v":"06:30:00"},{"$f":"VLOOKUP($AA116,DATA!$B$3:$E116,4,0)","v":3.125E-2},0.30208333333333326,0.30208333333333326,{"$f":"DATA!$C$9","v":0.89},{"$f":"DATA!$C$10","v":64},1,407.81249999999989,407.81249999999989,0,"","",0,"","",0,"","","","",null,{"$f":"X121","v":6},null,{"$f":"TEXT(Y114,\"ddd\")","v":"di"},"ND",{"$f":"IFERROR(HLOOKUP(Y114,[1]DATA!$A$1:$NB$5,5,0),\"\")","v":"D3"},null,null,null,null,0,"","",""]
["6woDD",{"$f":"VLOOKUP($AA117,DATA!$B$3:$E117,2,0)","v":"06:30:00"},{"$f":"VLOOKUP($AA117,DATA!$B$3:$E117,3,0)","v":"14:30:00"},{"$f":"VLOOKUP($AA117,DATA!$B$3:$E117,4,0)","v":3.125E-2},0.30208333333333331,0.27013888888888887,{"$f":"DATA!$C$9","v":0.89},{"$f":"DATA!$C$10","v":64},1,364.6875,407.8125,3.1944444444444449E-2,43.125000000000007,0.10574712643678162,0,"","",418.13333333333333,361,"",361,"",null,{"$f":"X121","v":6},{"$f":"Y114+1","v":"2018-02-07"},{"$f":"TEXT(Y117,\"ddd\")","v":"wo"},"DD",{"$f":"IFERROR(HLOOKUP(Y117,[1]DATA!$A$1:$NB$5,3,0),\"\")","v":"D2"},46,null,31,392,63,-31.8125,0.82810035842293905,0.86905916585838994]
["6woMD",{"$f":"VLOOKUP($AA118,DATA!$B$3:$E118,2,0)","v":"14:30:00"},{"$f":"VLOOKUP($AA118,DATA!$B$3:$E118,3,0)","v":"22:30:00"},{"$f":"VLOOKUP($AA118,DATA!$B$3:$E118,4,0)","v":3.125E-2},0.30208333333333337,0.20972222222222225,{"$f":"DATA!$C$9","v":0.89},{"$f":"DATA!$C$10","v":64},1,283.12500000000006,407.81250000000006,9.2361111111111116E-2,124.6875,0.30574712643678159,0,"","",302.93333333333334,268,268,"","",null,{"$f":"X121","v":6},null,{"$f":"TEXT(Y117,\"ddd\")","v":"wo"},"MD",{"$f":"IFERROR(HLOOKUP(Y117,[1]DATA!$A$1:$NB$5,4,0),\"\")","v":"D1"},133,null,16,284,0,-43.249999999999943,0.61476702508960579,1]
["6woND",{"$f":"VLOOKUP($AA119,DATA!$B$3:$E119,2,0)","v":"22:30:00"},{"$f":"VLOOKUP($AA119,DATA!$B$3:$E119,3,0)","v":"06:30:00"},{"$f":"VLOOKUP($AA119,DATA!$B$3:$E119,4,0)","v":3.125E-2},0.30208333333333326,0.30208333333333326,{"$f":"DATA!$C$9","v":0.89},{"$f":"DATA!$C$10","v":64},1,407.81249999999989,407.81249999999989,0,"","",0,"","",0,"","","","",null,{"$f":"X121","v":6},null,{"$f":"TEXT(Y117,\"ddd\")","v":"wo"},"ND",{"$f":"IFERROR(HLOOKUP(Y117,[1]DATA!$A$1:$NB$5,5,0),\"\")","v":"D3"},null,null,null,null,0,"","",""]
["6doDD",{"$f":"VLOOKUP($AA120,DATA!$B$3:$E120,2,0)","v":"06:30:00"},{"$f":"VLOOKUP($AA120,DATA!$B$3:$E120,3,0)","v":"14:30:00"},{"$f":"VLOOKUP($AA120,DATA!$B$3:$E120,4,0)","v":3.125E-2},0.30208333333333331,0.21944444444444444,{"$f":"DATA!$C$9","v":0.89},{"$f":"DATA!$C$10","v":64},1,296.25,407.8125,8.2638888888888887E-2,111.5625,0.27356321839080461,0,"","",368,319,"",319,"",null,{"$f":"X121","v":6},{"$f":"Y117+1","v":"2018-02-08"},{"$f":"TEXT(Y120,\"ddd\")","v":"do"},"DD",{"$f":"IFERROR(HLOOKUP(Y120,[1]DATA!$A$1:$NB$5,3,0),\"\")","v":"D2"},119,null,26,345,62,-5.3750000000000568,0.7317562724014337,0.85581395348837208]
["6doMD",{"$f":"VLOOKUP($AA121,DATA!$B$3:$E121,2,0)","v":"14:30:00"},{"$f":"VLOOKUP($AA121,DATA!$B$3:$E121,3,0)","v":"22:30:00"},{"$f":"VLOOKUP($AA121,DATA!$B$3:$E121,4,0)","v":3.125E-2},0.30208333333333337,0.25555555555555559,{"$f":"DATA!$C$9","v":0.89},{"$f":"DATA!$C$10","v":64},1,345.00000000000006,407.81250000000006,4.6527777777777779E-2,62.8125,0.15402298850574711,0,"","",408.5333333333333,358,358,"","",null,{"$f":"WEEKNUM($Y111)","v":6},null,{"$f":"TEXT(Y120,\"ddd\")","v":"do"},"MD",{"$f":"IFERROR(HLOOKUP(Y120,[1]DATA!$A$1:$NB$5,4,0),\"\")","v":"D1"},67,null,25,383,0,-15.124999999999943,0.82121863799283168,1]
["6doND",{"$f":"VLOOKUP($AA122,DATA!$B$3:$E122,2,0)","v":"22:30:00"},{"$f":"VLOOKUP($AA122,DATA!$B$3:$E122,3,0)","v":"06:30:00"},{"$f":"VLOOKUP($AA122,DATA!$B$3:$E122,4,0)","v":3.125E-2},0.30208333333333326,0.30208333333333326,{"$f":"DATA!$C$9","v":0.89},{"$f":"DATA!$C$10","v":64},1,407.81249999999989,407.81249999999989,0,"","",0,"","",0,"","","","",null,{"$f":"X121","v":6},null,{"$f":"TEXT(Y120,\"ddd\")","v":"do"},"ND",{"$f":"IFERROR(HLOOKUP(Y120,[1]DATA!$A$1:$NB$5,5,0),\"\")","v":"D3"},null,null,null,null,0,"","",""]
["6vrDD",{"$f":"VLOOKUP($AA123,DATA!$B$3:$E123,2,0)","v":"06:30:00"},{"$f":"VLOOKUP($AA123,DATA!$B$3:$E123,3,0)","v":"14:30:00"},{"$f":"VLOOKUP($AA123,DATA!$B$3:$E123,4,0)","v":3.125E-2},0.30208333333333331,0.24166666666666664,{"$f":"DATA!$C$9","v":0.89},{"$f":"DATA!$C$10","v":64},1,326.24999999999994,407.8125,6.0416666666666667E-2,81.5625,0.2,0,"","",394.66666666666669,340,"",340,"",null,{"$f":"X121","v":6},{"$f":"Y120+1","v":"2018-02-09"},{"$f":"TEXT(Y123,\"ddd\")","v":"vr"},"DD",{"$f":"IFERROR(HLOOKUP(Y123,[1]DATA!$A$1:$NB$5,3,0),\"\")","v":"D2"},87,null,30,370,46,-14.375,0.77992831541218643,0.89561270801815429]
["6vrMD",{"$f":"VLOOKUP($AA124,DATA!$B$3:$E124,2,0)","v":"14:30:00"},{"$f":"VLOOKUP($AA124,DATA!$B$3:$E124,3,0)","v":"22:30:00"},{"$f":"VLOOKUP($AA124,DATA!$B$3:$E124,4,0)","v":3.125E-2},0.30208333333333337,0.25625000000000003,{"$f":"DATA!$C$9","v":0.89},{"$f":"DATA!$C$10","v":64},1,345.93750000000006,407.81250000000006,4.5833333333333337E-2,61.875000000000007,0.15172413793103448,0,"","",371.2,312,312,"","",null,{"$f":"X121","v":6},null,{"$f":"TEXT(Y123,\"ddd\")","v":"vr"},"MD",{"$f":"IFERROR(HLOOKUP(Y123,[1]DATA!$A$1:$NB$5,4,0),\"\")","v":"D1"},66,null,36,348,15,-62.062499999999943,0.71569892473118291,0.96116002071465567]
["6vrND",{"$f":"VLOOKUP($AA125,DATA!$B$3:$E125,2,0)","v":"22:30:00"},{"$f":"VLOOKUP($AA125,DATA!$B$3:$E125,3,0)","v":"06:30:00"},{"$f":"VLOOKUP($AA125,DATA!$B$3:$E125,4,0)","v":3.125E-2},0.30208333333333326,0.30208333333333326,{"$f":"DATA!$C$9","v":0.89},{"$f":"DATA!$C$10","v":64},1,407.81249999999989,407.81249999999989,0,"","",0,"","",0,"","","","",null,{"$f":"X121","v":6},null,{"$f":"TEXT(Y123,\"ddd\")","v":"vr"},"ND",{"$f":"IFERROR(HLOOKUP(Y123,[1]DATA!$A$1:$NB$5,5,0),\"\")","v":"-"},null,null,null,null,0,"","",""]
["6zaDD",{"$f":"VLOOKUP($AA126,DATA!$B$3:$E126,2,0)","v":"06:30:00"},{"$f":"VLOOKUP($AA126,DATA!$B$3:$E126,3,0)","v":"14:30:00"},{"$f":"VLOOKUP($AA126,DATA!$B$3:$E126,4,0)","v":3.125E-2},0.30208333333333331,0.30208333333333331,{"$f":"DATA!$C$9","v":0.89},{"$f":"DATA!$C$10","v":64},1,407.8125,407.8125,0,"","",0,"","",0,"","","","",null,{"$f":"X121","v":6},{"$f":"Y123+1","v":"2018-02-10"},{"$f":"TEXT(Y126,\"ddd\")","v":"za"},"DD",{"$f":"IFERROR(HLOOKUP(Y126,[1]DATA!$A$1:$NB$5,3,0),\"\")","v":"-"},null,null,null,null,0,"","",""]
["6zaMD",{"$f":"VLOOKUP($AA127,DATA!$B$3:$E127,2,0)","v":"14:30:00"},{"$f":"VLOOKUP($AA127,DATA!$B$3:$E127,3,0)","v":"22:30:00"},{"$f":"VLOOKUP($AA127,DATA!$B$3:$E127,4,0)","v":3.125E-2},0.30208333333333337,0.30208333333333337,{"$f":"DATA!$C$9","v":0.89},{"$f":"DATA!$C$10","v":64},1,407.81250000000006,407.81250000000006,0,"","",0,"","",0,"","","","",null,{"$f":"X121","v":6},null,{"$f":"TEXT(Y126,\"ddd\")","v":"za"},"MD",{"$f":"IFERROR(HLOOKUP(Y126,[1]DATA!$A$1:$NB$5,4,0),\"\")","v":"-"},null,null,null,null,0,"","",""]
["6zaND",{"$f":"VLOOKUP($AA128,DATA!$B$3:$E128,2,0)","v":"22:30:00"},{"$f":"VLOOKUP($AA128,DATA!$B$3:$E128,3,0)","v":"06:30:00"},{"$f":"VLOOKUP($AA128,DATA!$B$3:$E128,4,0)","v":3.125E-2},0.30208333333333326,0.30208333333333326,{"$f":"DATA!$C$9","v":0.89},{"$f":"DATA!$C$10","v":64},1,407.81249999999989,407.81249999999989,0,"","",0,"","",0,"","","","",null,{"$f":"X121","v":6},null,{"$f":"TEXT(Y126,\"ddd\")","v":"za"},"ND",{"$f":"IFERROR(HLOOKUP(Y126,[1]DATA!$A$1:$NB$5,5,0),\"\")","v":"-"},null,null,null,null,0,"","",""]
["6zoDD",{"$f":"VLOOKUP($AA129,DATA!$B$3:$E129,2,0)","v":"06:30:00"},{"$f":"VLOOKUP($AA129,DATA!$B$3:$E129,3,0)","v":"14:30:00"},{"$f":"VLOOKUP($AA129,DATA!$B$3:$E129,4,0)","v":3.125E-2},0.30208333333333331,0.30208333333333331,{"$f":"DATA!$C$9","v":0.89},{"$f":"DATA!$C$10","v":64},1,407.8125,407.8125,0,"","",0,"","",0,"","","","",null,{"$f":"X121","v":6},{"$f":"Y126+1","v":"2018-02-11"},{"$f":"TEXT(Y129,\"ddd\")","v":"zo"},"DD",{"$f":"IFERROR(HLOOKUP(Y129,[1]DATA!$A$1:$NB$5,3,0),\"\")","v":"-"},null,null,null,null,0,"","",""]
["6zoMD",{"$f":"VLOOKUP($AA130,DATA!$B$3:$E130,2,0)","v":"14:30:00"},{"$f":"VLOOKUP($AA130,DATA!$B$3:$E130,3,0)","v":"22:30:00"},{"$f":"VLOOKUP($AA130,DATA!$B$3:$E130,4,0)","v":3.125E-2},0.30208333333333337,0.30208333333333337,{"$f":"DATA!$C$9","v":0.89},{"$f":"DATA!$C$10","v":64},1,407.81250000000006,407.81250000000006,0,"","",0,"","",0,"","","","",null,{"$f":"X121","v":6},null,{"$f":"TEXT(Y129,\"ddd\")","v":"zo"},"MD",{"$f":"IFERROR(HLOOKUP(Y129,[1]DATA!$A$1:$NB$5,4,0),\"\")","v":"-"},null,null,null,null,0,"","",""]
["6zoZND",{"$f":"VLOOKUP($AA131,DATA!$B$3:$E131,2,0)","v":"00:00:00"},{"$f":"VLOOKUP($AA131,DATA!$B$3:$E131,3,0)","v":"00:00:00"},{"$f":"VLOOKUP($AA131,DATA!$B$3:$E131,4,0)","v":0},0,0,{"$f":"DATA!$C$9","v":0.89},{"$f":"DATA!$C$10","v":64},1,0,0,0,"","",0,"","",0,"","","","",null,{"$f":"X121","v":6},null,{"$f":"TEXT(Y129,\"ddd\")","v":"zo"},"ZND",{"$f":"IFERROR(HLOOKUP(Y129,[1]DATA!$A$1:$NB$5,5,0),\"\")","v":"D2"},null,null,null,null,0,"","",""]
["7maDD",{"$f":"VLOOKUP($AA132,DATA!$B$3:$E132,2,0)","v":"06:30:00"},{"$f":"VLOOKUP($AA132,DATA!$B$3:$E132,3,0)","v":"14:30:00"},{"$f":"VLOOKUP($AA132,DATA!$B$3:$E132,4,0)","v":3.125E-2},0.30208333333333331,0.30208333333333331,{"$f":"DATA!$C$9","v":0.89},{"$f":"DATA!$C$10","v":64},1,407.8125,407.8125,0,"","",{"$f":"TIME(INT($AD132/60),INT(MOD($AD132,60)/1),0)","v":0},"","",0,"","","","",null,{"$f":"X142","v":7},{"$f":"Y129+1","v":"2018-02-12"},{"$f":"TEXT(Y132,\"ddd\")","v":"ma"},"DD",{"$f":"IFERROR(HLOOKUP(Y132,[1]DATA!$A$1:$NB$5,3,0),\"\")","v":"D1"},null,null,null,null,0,"","","",3487.5,2409,0.69075268817204305,880.3125,0.2524193548387097,32.8125,9.4086021505376347E-3,0.9443613118321238,0.98444148417629918,"",0.90428113948794842,165.375,4.7419354838709619E-2,176.4,167]
["7maMD",{"$f":"VLOOKUP($AA133,DATA!$B$3:$E133,2,0)","v":"14:30:00"},{"$f":"VLOOKUP($AA133,DATA!$B$3:$E133,3,0)","v":"22:30:00"},{"$f":"VLOOKUP($AA133,DATA!$B$3:$E133,4,0)","v":3.125E-2},0.30208333333333337,0.30208333333333337,{"$f":"DATA!$C$9","v":0.89},{"$f":"DATA!$C$10","v":64},1,407.81250000000006,407.81250000000006,0,"","",{"$f":"TIME(INT(AD133/60),INT(MOD(AD133,60)/1),0)","v":0},"","",0,"","","","",null,{"$f":"X142","v":7},null,{"$f":"TEXT(Y132,\"ddd\")","v":"ma"},"MD",{"$f":"IFERROR(HLOOKUP(Y132,[1]DATA!$A$1:$NB$5,4,0),\"\")","v":"D3"},null,null,null,null,0,"","",""]
["7maND",{"$f":"VLOOKUP($AA134,DATA!$B$3:$E134,2,0)","v":"22:30:00"},{"$f":"VLOOKUP($AA134,DATA!$B$3:$E134,3,0)","v":"06:30:00"},{"$f":"VLOOKUP($AA134,DATA!$B$3:$E134,4,0)","v":3.125E-2},0.30208333333333326,0.30208333333333326,{"$f":"DATA!$C$9","v":0.89},{"$f":"DATA!$C$10","v":64},1,407.81249999999989,407.81249999999989,0,"","",0,"","",0,"","","","",null,{"$f":"X142","v":7},null,{"$f":"TEXT(Y132,\"ddd\")","v":"ma"},"ND",{"$f":"IFERROR(HLOOKUP(Y132,[1]DATA!$A$1:$NB$5,5,0),\"\")","v":"D2"},null,null,null,null,0,"","",""]
["7diDD",{"$f":"VLOOKUP($AA135,DATA!$B$3:$E135,2,0)","v":"06:30:00"},{"$f":"VLOOKUP($AA135,DATA!$B$3:$E135,3,0)","v":"14:30:00"},{"$f":"VLOOKUP($AA135,DATA!$B$3:$E135,4,0)","v":3.125E-2},0.30208333333333331,0.20902777777777776,{"$f":"DATA!$C$9","v":0.89},{"$f":"DATA!$C$10","v":64},1,282.1875,407.8125,{"$f":"TIME(INT($AC135/60),INT(MOD($AC135,60)/1),0)","v":9.3055555555555558E-2},{"$f":"IF($L135*86400/$H135=0,\"\",$L135*86400/$H135)","v":125.625},{"$f":"IFERROR($M135/$K135,\"\")","v":0.30804597701149428},0,"",{"$f":"IFERROR($P135/$K135,\"\")","v":""},350.93333333333334,298,{"$f":"IF(IF($AB135=\"D1\",$S135,\"\")=0,\"\",IF($AB135=\"D1\",$S135,\"\"))","v":298},{"$f":"IF(IF($AB135=\"D2\",$S135,\"\")=0,\"\",IF($AB135=\"D2\",$S135,\"\"))","v":""},{"$f":"IF(IF($AB135=\"D3\",$S135,\"\")=0,\"\",IF($AB135=\"D3\",$S135,\"\"))","v":""},null,{"$f":"X142","v":7},{"$f":"Y132+1","v":"2018-02-13"},{"$f":"TEXT(Y135,\"ddd\")","v":"di"},"DD",{"$f":"IFERROR(HLOOKUP(Y135,[1]DATA!$A$1:$NB$5,3,0),\"\")","v":"D1"},134,null,31,329,10,-12.3125,0.68358422939068098,0.97229405245659406]
["7diMD",{"$f":"VLOOKUP($AA136,DATA!$B$3:$E136,2,0)","v":"14:30:00"},{"$f":"VLOOKUP($AA136,DATA!$B$3:$E136,3,0)","v":"22:30:00"},{"$f":"VLOOKUP($AA136,DATA!$B$3:$E136,4,0)","v":3.125E-2},0.30208333333333337,0.23263888888888895,{"$f":"DATA!$C$9","v":0.89},{"$f":"DATA!$C$10","v":64},1,314.06250000000006,407.81250000000006,6.9444444444444434E-2,93.749999999999986,0.22988505747126431,0,"","",358.4,324,"","",324,null,{"$f":"X142","v":7},null,{"$f":"TEXT(Y135,\"ddd\")","v":"di"},"MD",{"$f":"IFERROR(HLOOKUP(Y135,[1]DATA!$A$1:$NB$5,4,0),\"\")","v":"D3"},100,null,12,336,41,-18.1875,0.74322580645161296,0.89734601902854283]
["7diND",{"$f":"VLOOKUP($AA137,DATA!$B$3:$E137,2,0)","v":"22:30:00"},{"$f":"VLOOKUP($AA137,DATA!$B$3:$E137,3,0)","v":"06:30:00"},{"$f":"VLOOKUP($AA137,DATA!$B$3:$E137,4,0)","v":3.125E-2},0.30208333333333326,0.30208333333333326,{"$f":"DATA!$C$9","v":0.89},{"$f":"DATA!$C$10","v":64},1,407.81249999999989,407.81249999999989,0,"","",0,"","",0,"","","","",null,{"$f":"X142","v":7},null,{"$f":"TEXT(Y135,\"ddd\")","v":"di"},"ND",{"$f":"IFERROR(HLOOKUP(Y135,[1]DATA!$A$1:$NB$5,5,0),\"\")","v":"D2"},null,null,null,null,0,"","",""]
["7woDD",{"$f":"VLOOKUP($AA138,DATA!$B$3:$E138,2,0)","v":"06:30:00"},{"$f":"VLOOKUP($AA138,DATA!$B$3:$E138,3,0)","v":"14:30:00"},{"$f":"VLOOKUP($AA138,DATA!$B$3:$E138,4,0)","v":3.125E-2},0.30208333333333331,0.22847222222222219,{"$f":"DATA!$C$9","v":0.89},{"$f":"DATA!$C$10","v":64},1,308.43749999999994,407.8125,7.3611111111111113E-2,99.375,0.24367816091954023,0,"","",391.46666666666664,334,334,"","",null,{"$f":"X142","v":7},{"$f":"Y135+1","v":"2018-02-14"},{"$f":"TEXT(Y138,\"ddd\")","v":"wo"},"DD",{"$f":"IFERROR(HLOOKUP(Y138,[1]DATA!$A$1:$NB$5,3,0),\"\")","v":"D1"},106,null,33,367,14,-2.5625,0.76616487455197135,0.96547188424860242]
["7woMD",{"$f":"VLOOKUP($AA139,DATA!$B$3:$E139,2,0)","v":"14:30:00"},{"$f":"VLOOKUP($AA139,DATA!$B$3:$E139,3,0)","v":"22:30:00"},{"$f":"VLOOKUP($AA139,DATA!$B$3:$E139,4,0)","v":3.125E-2},0.30208333333333337,0.21458333333333335,{"$f":"DATA!$C$9","v":0.89},{"$f":"DATA!$C$10","v":64},1,289.6875,407.81250000000006,8.7500000000000008E-2,118.12500000000001,0.28965517241379307,0,"","",333.86666666666667,300,"","",300,null,{"$f":"X142","v":7},null,{"$f":"TEXT(Y138,\"ddd\")","v":"wo"},"MD",{"$f":"IFERROR(HLOOKUP(Y138,[1]DATA!$A$1:$NB$5,4,0),\"\")","v":"D3"},126,null,13,313,29,-17.812499999999943,0.68817204301075274,0.92008083777328675]
["7woND",{"$f":"VLOOKUP($AA140,DATA!$B$3:$E140,2,0)","v":"22:30:00"},{"$f":"VLOOKUP($AA140,DATA!$B$3:$E140,3,0)","v":"06:30:00"},{"$f":"VLOOKUP($AA140,DATA!$B$3:$E140,4,0)","v":3.125E-2},0.30208333333333326,0.30208333333333326,{"$f":"DATA!$C$9","v":0.89},{"$f":"DATA!$C$10","v":64},1,407.81249999999989,407.81249999999989,0,"","",0,"","",0,"","","","",null,{"$f":"X142","v":7},null,{"$f":"TEXT(Y138,\"ddd\")","v":"wo"},"ND",{"$f":"IFERROR(HLOOKUP(Y138,[1]DATA!$A$1:$NB$5,5,0),\"\")","v":"D2"},null,null,null,null,0,"","",""]
["7doDD",{"$f":"VLOOKUP($AA141,DATA!$B$3:$E141,2,0)","v":"06:30:00"},{"$f":"VLOOKUP($AA141,DATA!$B$3:$E141,3,0)","v":"14:30:00"},{"$f":"VLOOKUP($AA141,DATA!$B$3:$E141,4,0)","v":3.125E-2},0.30208333333333331,0.20833333333333331,{"$f":"DATA!$C$9","v":0.89},{"$f":"DATA!$C$10","v":64},1,281.25,407.8125,9.375E-2,126.5625,0.31034482758620691,0,"","",362.66666666666669,317,317,"","",null,{"$f":"X142","v":7},{"$f":"Y138+1","v":"2018-02-15"},{"$f":"TEXT(Y141,\"ddd\")","v":"do"},"DD",{"$f":"IFERROR(HLOOKUP(Y141,[1]DATA!$A$1:$NB$5,3,0),\"\")","v":"D1"},135,null,23,340,0,7.625,0.72716845878136205,1]
["7doMD",{"$f":"VLOOKUP($AA142,DATA!$B$3:$E142,2,0)","v":"14:30:00"},{"$f":"VLOOKUP($AA142,DATA!$B$3:$E142,3,0)","v":"22:30:00"},{"$f":"VLOOKUP($AA142,DATA!$B$3:$E142,4,0)","v":3.125E-2},0.30208333333333337,0.20902777777777781,{"$f":"DATA!$C$9","v":0.89},{"$f":"DATA!$C$10","v":64},1,282.18750000000006,407.81250000000006,9.3055555555555558E-2,125.625,0.30804597701149422,0,"","",350.93333333333334,300,"","",300,null,{"$f":"WEEKNUM($Y132)","v":7},null,{"$f":"TEXT(Y141,\"ddd\")","v":"do"},"MD",{"$f":"IFERROR(HLOOKUP(Y141,[1]DATA!$A$1:$NB$5,4,0),\"\")","v":"D3"},134,null,29,329,38,-10.312499999999943,0.68817204301075274,0.90229688035653066]
["7doND",{"$f":"VLOOKUP($AA143,DATA!$B$3:$E143,2,0)","v":"22:30:00"},{"$f":"VLOOKUP($AA143,DATA!$B$3:$E143,3,0)","v":"06:30:00"},{"$f":"VLOOKUP($AA143,DATA!$B$3:$E143,4,0)","v":3.125E-2},0.30208333333333326,0.30208333333333326,{"$f":"DATA!$C$9","v":0.89},{"$f":"DATA!$C$10","v":64},1,407.81249999999989,407.81249999999989,0,"","",0,"","",0,"","","","",null,{"$f":"X142","v":7},null,{"$f":"TEXT(Y141,\"ddd\")","v":"do"},"ND",{"$f":"IFERROR(HLOOKUP(Y141,[1]DATA!$A$1:$NB$5,5,0),\"\")","v":"D2"},null,null,null,null,0,"","",""]
["7vrDD",{"$f":"VLOOKUP($AA144,DATA!$B$3:$E144,2,0)","v":"06:30:00"},{"$f":"VLOOKUP($AA144,DATA!$B$3:$E144,3,0)","v":"14:30:00"},{"$f":"VLOOKUP($AA144,DATA!$B$3:$E144,4,0)","v":3.125E-2},0.30208333333333331,0.17569444444444438,{"$f":"DATA!$C$9","v":0.89},{"$f":"DATA!$C$10","v":64},1,237.18749999999991,407.8125,0.10208333333333335,137.81250000000003,0.33793103448275869,2.4305555555555556E-2,32.8125,8.0459770114942528E-2,296.5333333333333,270,270,"","",null,{"$f":"X142","v":7},{"$f":"Y141+1","v":"2018-02-16"},{"$f":"TEXT(Y144,\"ddd\")","v":"vr"},"DD",{"$f":"IFERROR(HLOOKUP(Y144,[1]DATA!$A$1:$NB$5,3,0),\"\")","v":"D1"},147,35,8,278,0,4.6875000000000568,0.61935483870967745,1]
["7vrMD",{"$f":"VLOOKUP($AA145,DATA!$B$3:$E145,2,0)","v":"14:30:00"},{"$f":"VLOOKUP($AA145,DATA!$B$3:$E145,3,0)","v":"22:30:00"},{"$f":"VLOOKUP($AA145,DATA!$B$3:$E145,4,0)","v":3.125E-2},0.30208333333333337,0.26250000000000007,{"$f":"DATA!$C$9","v":0.89},{"$f":"DATA!$C$10","v":64},1,354.37500000000011,407.81250000000006,3.9583333333333331E-2,53.4375,0.13103448275862067,0,"","",306.13333333333333,266,"","",266,null,{"$f":"X142","v":7},null,{"$f":"TEXT(Y144,\"ddd\")","v":"vr"},"MD",{"$f":"IFERROR(HLOOKUP(Y144,[1]DATA!$A$1:$NB$5,4,0),\"\")","v":"D3"},57,null,21,287,35,-116.5,0.61017921146953413,0.89740082079343364]
["7vrND",{"$f":"VLOOKUP($AA146,DATA!$B$3:$E146,2,0)","v":"22:30:00"},{"$f":"VLOOKUP($AA146,DATA!$B$3:$E146,3,0)","v":"06:30:00"},{"$f":"VLOOKUP($AA146,DATA!$B$3:$E146,4,0)","v":3.125E-2},0.30208333333333326,0.30208333333333326,{"$f":"DATA!$C$9","v":0.89},{"$f":"DATA!$C$10","v":64},1,407.81249999999989,407.81249999999989,0,"","",0,"","",0,"","","","",null,{"$f":"X142","v":7},null,{"$f":"TEXT(Y144,\"ddd\")","v":"vr"},"ND",{"$f":"IFERROR(HLOOKUP(Y144,[1]DATA!$A$1:$NB$5,5,0),\"\")","v":"-"},null,null,null,null,0,"","",""]
["7zaDD",{"$f":"VLOOKUP($AA147,DATA!$B$3:$E147,2,0)","v":"06:30:00"},{"$f":"VLOOKUP($AA147,DATA!$B$3:$E147,3,0)","v":"14:30:00"},{"$f":"VLOOKUP($AA147,DATA!$B$3:$E147,4,0)","v":3.125E-2},0.30208333333333331,0.30208333333333331,{"$f":"DATA!$C$9","v":0.89},{"$f":"DATA!$C$10","v":64},1,407.8125,407.8125,0,"","",0,"","",0,"","","","",null,{"$f":"X142","v":7},{"$f":"Y144+1","v":"2018-02-17"},{"$f":"TEXT(Y147,\"ddd\")","v":"za"},"DD",{"$f":"IFERROR(HLOOKUP(Y147,[1]DATA!$A$1:$NB$5,3,0),\"\")","v":"-"},null,null,null,null,0,"","",""]
["7zaMD",{"$f":"VLOOKUP($AA148,DATA!$B$3:$E148,2,0)","v":"14:30:00"},{"$f":"VLOOKUP($AA148,DATA!$B$3:$E148,3,0)","v":"22:30:00"},{"$f":"VLOOKUP($AA148,DATA!$B$3:$E148,4,0)","v":3.125E-2},0.30208333333333337,0.30208333333333337,{"$f":"DATA!$C$9","v":0.89},{"$f":"DATA!$C$10","v":64},1,407.81250000000006,407.81250000000006,0,"","",0,"","",0,"","","","",null,{"$f":"X142","v":7},null,{"$f":"TEXT(Y147,\"ddd\")","v":"za"},"MD",{"$f":"IFERROR(HLOOKUP(Y147,[1]DATA!$A$1:$NB$5,4,0),\"\")","v":"-"},null,null,null,null,0,"","",""]
["7zaND",{"$f":"VLOOKUP($AA149,DATA!$B$3:$E149,2,0)","v":"22:30:00"},{"$f":"VLOOKUP($AA149,DATA!$B$3:$E149,3,0)","v":"06:30:00"},{"$f":"VLOOKUP($AA149,DATA!$B$3:$E149,4,0)","v":3.125E-2},0.30208333333333326,0.30208333333333326,{"$f":"DATA!$C$9","v":0.89},{"$f":"DATA!$C$10","v":64},1,407.81249999999989,407.81249999999989,0,"","",0,"","",0,"","","","",null,{"$f":"X142","v":7},null,{"$f":"TEXT(Y147,\"ddd\")","v":"za"},"ND",{"$f":"IFERROR(HLOOKUP(Y147,[1]DATA!$A$1:$NB$5,5,0),\"\")","v":"-"},null,null,null,null,0,"","",""]
["7zoDD",{"$f":"VLOOKUP($AA150,DATA!$B$3:$E150,2,0)","v":"06:30:00"},{"$f":"VLOOKUP($AA150,DATA!$B$3:$E150,3,0)","v":"14:30:00"},{"$f":"VLOOKUP($AA150,DATA!$B$3:$E150,4,0)","v":3.125E-2},0.30208333333333331,0.30208333333333331,{"$f":"DATA!$C$9","v":0.89},{"$f":"DATA!$C$10","v":64},1,407.8125,407.8125,0,"","",0,"","",0,"","","","",null,{"$f":"X142","v":7},{"$f":"Y147+1","v":"2018-02-18"},{"$f":"TEXT(Y150,\"ddd\")","v":"zo"},"DD",{"$f":"IFERROR(HLOOKUP(Y150,[1]DATA!$A$1:$NB$5,3,0),\"\")","v":"-"},null,null,null,null,0,"","",""]
["7zoMD",{"$f":"VLOOKUP($AA151,DATA!$B$3:$E151,2,0)","v":"14:30:00"},{"$f":"VLOOKUP($AA151,DATA!$B$3:$E151,3,0)","v":"22:30:00"},{"$f":"VLOOKUP($AA151,DATA!$B$3:$E151,4,0)","v":3.125E-2},0.30208333333333337,0.30208333333333337,{"$f":"DATA!$C$9","v":0.89},{"$f":"DATA!$C$10","v":64},1,407.81250000000006,407.81250000000006,0,"","",0,"","",0,"","","","",null,{"$f":"X142","v":7},null,{"$f":"TEXT(Y150,\"ddd\")","v":"zo"},"MD",{"$f":"IFERROR(HLOOKUP(Y150,[1]DATA!$A$1:$NB$5,4,0),\"\")","v":"-"},null,null,null,null,0,"","",""]
["7zoZND",{"$f":"VLOOKUP($AA152,DATA!$B$3:$E152,2,0)","v":"00:00:00"},{"$f":"VLOOKUP($AA152,DATA!$B$3:$E152,3,0)","v":"00:00:00"},{"$f":"VLOOKUP($AA152,DATA!$B$3:$E152,4,0)","v":0},0,0,{"$f":"DATA!$C$9","v":0.89},{"$f":"DATA!$C$10","v":64},1,0,0,0,"","",0,"","",0,"","","","",null,{"$f":"X142","v":7},null,{"$f":"TEXT(Y150,\"ddd\")","v":"zo"},"ZND",{"$f":"IFERROR(HLOOKUP(Y150,[1]DATA!$A$1:$NB$5,5,0),\"\")","v":"D1"},null,null,null,null,0,"","",""]
["8maDD",{"$f":"VLOOKUP($AA153,DATA!$B$3:$E153,2,0)","v":"06:30:00"},{"$f":"VLOOKUP($AA153,DATA!$B$3:$E153,3,0)","v":"14:30:00"},{"$f":"VLOOKUP($AA153,DATA!$B$3:$E153,4,0)","v":3.125E-2},0.30208333333333331,0.23055555555555551,{"$f":"DATA!$C$9","v":0.89},{"$f":"DATA!$C$10","v":64},1,311.24999999999994,407.8125,7.1527777777777787E-2,96.562500000000014,0.23678160919540234,{"$f":"TIME(INT($AD153/60),INT(MOD($AD153,60)/1),0)","v":0},"","",397.86666666666667,347,"","",347,null,{"$f":"X163","v":8},{"$f":"Y150+1","v":"2018-02-19"},{"$f":"TEXT(Y153,\"ddd\")","v":"ma"},"DD",{"$f":"IFERROR(HLOOKUP(Y153,[1]DATA!$A$1:$NB$5,3,0),\"\")","v":"D3"},103,null,26,373,73,7.625,0.79598566308243723,0.84496672801925532,3923.4375,2879,0.73379530067702115,608.4375,0.15507765830346476,0,0,0.90517847146741992,"",0.95272689194450888,0.84574294587105914,436,0.11112704101951409,465.06666666666666,354]
["8maMD",{"$f":"VLOOKUP($AA154,DATA!$B$3:$E154,2,0)","v":"14:30:00"},{"$f":"VLOOKUP($AA154,DATA!$B$3:$E154,3,0)","v":"22:30:00"},{"$f":"VLOOKUP($AA154,DATA!$B$3:$E154,4,0)","v":3.125E-2},0.30208333333333337,0.25486111111111115,{"$f":"DATA!$C$9","v":0.89},{"$f":"DATA!$C$10","v":64},1,344.06250000000006,407.81250000000006,4.7222222222222221E-2,63.75,0.15632183908045974,{"$f":"TIME(INT(AD154/60),INT(MOD(AD154,60)/1),0)","v":0},"","",400,355,"",355,"",null,{"$f":"X163","v":8},null,{"$f":"TEXT(Y153,\"ddd\")","v":"ma"},"MD",{"$f":"IFERROR(HLOOKUP(Y153,[1]DATA!$A$1:$NB$5,4,0),\"\")","v":"D2"},68,null,20,375,17,-17.187499999999943,0.81433691756272408,0.95923261390887293]
["8maND",{"$f":"VLOOKUP($AA155,DATA!$B$3:$E155,2,0)","v":"22:30:00"},{"$f":"VLOOKUP($AA155,DATA!$B$3:$E155,3,0)","v":"06:30:00"},{"$f":"VLOOKUP($AA155,DATA!$B$3:$E155,4,0)","v":3.125E-2},0.30208333333333326,0.30208333333333326,{"$f":"DATA!$C$9","v":0.89},{"$f":"DATA!$C$10","v":64},1,407.81249999999989,407.81249999999989,0,"","",0,"","",0,"","","","",null,{"$f":"X163","v":8},null,{"$f":"TEXT(Y153,\"ddd\")","v":"ma"},"ND",{"$f":"IFERROR(HLOOKUP(Y153,[1]DATA!$A$1:$NB$5,5,0),\"\")","v":"D1"},null,null,null,null,0,"","",""]
["8diDD",{"$f":"VLOOKUP($AA156,DATA!$B$3:$E156,2,0)","v":"06:30:00"},{"$f":"VLOOKUP($AA156,DATA!$B$3:$E156,3,0)","v":"14:30:00"},{"$f":"VLOOKUP($AA156,DATA!$B$3:$E156,4,0)","v":3.125E-2},{"$f":"(C156-B156+(B156>C156))-D156","v":0.30208333333333331},{"$f":"E156-O156-L156","v":0.2013888888888889},{"$f":"DATA!$C$9","v":0.89},{"$f":"DATA!$C$10","v":64},1,{"$f":"F156*86400/H156*I156","v":271.875},{"$f":"E156*86400/H156","v":407.8125},0.10069444444444443,135.93749999999997,0.33333333333333326,0,"","",{"$f":"AF156*AG$2","v":217.6},{"$f":"IF(AF156-AE156=0,\"\",AF156-AE156)","v":196},"","",196,null,{"$f":"X163","v":8},{"$f":"Y153+1","v":"2018-02-20"},{"$f":"TEXT(Y156,\"ddd\")","v":"di"},"DD",{"$f":"IFERROR(HLOOKUP(Y156,[1]DATA!$A$1:$NB$5,3,0),\"\")","v":"D3"},145,null,8,204,34,-104.00000000000006,0.44960573476702509,0.86486486486486491]
["8diMD",{"$f":"VLOOKUP($AA157,DATA!$B$3:$E157,2,0)","v":"14:30:00"},{"$f":"VLOOKUP($AA157,DATA!$B$3:$E157,3,0)","v":"22:30:00"},{"$f":"VLOOKUP($AA157,DATA!$B$3:$E157,4,0)","v":3.125E-2},0.30208333333333337,0.25763888888888892,{"$f":"DATA!$C$9","v":0.89},{"$f":"DATA!$C$10","v":64},1,347.81250000000006,407.81250000000006,4.4444444444444446E-2,60,0.14712643678160917,0,"","",404.26666666666665,344,"",344,"",null,{"$f":"X163","v":8},null,{"$f":"TEXT(Y156,\"ddd\")","v":"di"},"MD",{"$f":"IFERROR(HLOOKUP(Y156,[1]DATA!$A$1:$NB$5,4,0),\"\")","v":"D2"},64,null,35,379,24,-31.937499999999943,0.78910394265232986,0.94396014943960149]
["8diND",{"$f":"VLOOKUP($AA158,DATA!$B$3:$E158,2,0)","v":"22:30:00"},{"$f":"VLOOKUP($AA158,DATA!$B$3:$E158,3,0)","v":"06:30:00"},{"$f":"VLOOKUP($AA158,DATA!$B$3:$E158,4,0)","v":3.125E-2},0.30208333333333326,0.30208333333333326,{"$f":"DATA!$C$9","v":0.89},{"$f":"DATA!$C$10","v":64},1,407.81249999999989,407.81249999999989,0,"","",0,"","",0,"","","","",null,{"$f":"X163","v":8},null,{"$f":"TEXT(Y156,\"ddd\")","v":"di"},"ND",{"$f":"IFERROR(HLOOKUP(Y156,[1]DATA!$A$1:$NB$5,5,0),\"\")","v":"D1"},null,null,null,null,0,"","",""]
["8woDD",{"$f":"VLOOKUP($AA159,DATA!$B$3:$E159,2,0)","v":"06:30:00"},{"$f":"VLOOKUP($AA159,DATA!$B$3:$E159,3,0)","v":"14:30:00"},{"$f":"VLOOKUP($AA159,DATA!$B$3:$E159,4,0)","v":3.125E-2},0.30208333333333331,0.24583333333333332,{"$f":"DATA!$C$9","v":0.89},{"$f":"DATA!$C$10","v":64},1,331.875,407.8125,5.6250000000000001E-2,75.9375,0.18620689655172415,0,"","",354.13333333333333,298,"","",298,null,{"$f":"X163","v":8},{"$f":"Y156+1","v":"2018-02-21"},{"$f":"TEXT(Y159,\"ddd\")","v":"wo"},"DD",{"$f":"IFERROR(HLOOKUP(Y159,[1]DATA!$A$1:$NB$5,3,0),\"\")","v":"D3"},81,null,34,332,92,-62,0.68358422939068098,0.79378362223550503]
["8woMD",{"$f":"VLOOKUP($AA160,DATA!$B$3:$E160,2,0)","v":"14:30:00"},{"$f":"VLOOKUP($AA160,DATA!$B$3:$E160,3,0)","v":"22:30:00"},{"$f":"VLOOKUP($AA160,DATA!$B$3:$E160,4,0)","v":3.125E-2},0.30208333333333337,0.29166666666666669,{"$f":"DATA!$C$9","v":0.89},{"$f":"DATA!$C$10","v":64},1,393.75,407.81250000000006,1.0416666666666666E-2,14.0625,3.4482758620689648E-2,0,"","",419.2,358,"",358,"",null,{"$f":"X163","v":8},null,{"$f":"TEXT(Y159,\"ddd\")","v":"wo"},"MD",{"$f":"IFERROR(HLOOKUP(Y159,[1]DATA!$A$1:$NB$5,4,0),\"\")","v":"D2"},15,null,35,393,18,-63.874999999999943,0.82121863799283168,0.95882891125343095]
["8woND",{"$f":"VLOOKUP($AA161,DATA!$B$3:$E161,2,0)","v":"22:30:00"},{"$f":"VLOOKUP($AA161,DATA!$B$3:$E161,3,0)","v":"06:30:00"},{"$f":"VLOOKUP($AA161,DATA!$B$3:$E161,4,0)","v":3.125E-2},0.30208333333333326,0.30208333333333326,{"$f":"DATA!$C$9","v":0.89},{"$f":"DATA!$C$10","v":64},1,407.81249999999989,407.81249999999989,0,"","",0,"","",0,"","","","",null,{"$f":"X163","v":8},null,{"$f":"TEXT(Y159,\"ddd\")","v":"wo"},"ND",{"$f":"IFERROR(HLOOKUP(Y159,[1]DATA!$A$1:$NB$5,5,0),\"\")","v":"D1"},null,null,null,null,0,"","",""]
["8doDD",{"$f":"VLOOKUP($AA162,DATA!$B$3:$E162,2,0)","v":"06:30:00"},{"$f":"VLOOKUP($AA162,DATA!$B$3:$E162,3,0)","v":"14:30:00"},{"$f":"VLOOKUP($AA162,DATA!$B$3:$E162,4,0)","v":3.125E-2},0.30208333333333331,0.26041666666666663,{"$f":"DATA!$C$9","v":0.89},{"$f":"DATA!$C$10","v":64},1,351.56249999999994,407.8125,4.1666666666666664E-2,56.25,0.13793103448275862,0,"","",393.6,340,"","",340,null,{"$f":"X163","v":8},{"$f":"Y159+1","v":"2018-02-22"},{"$f":"TEXT(Y162,\"ddd\")","v":"do"},"DD",{"$f":"IFERROR(HLOOKUP(Y162,[1]DATA!$A$1:$NB$5,3,0),\"\")","v":"D3"},60,null,29,369,54,-39.6875,0.77992831541218643,0.87935656836461129]
["8doMD",{"$f":"VLOOKUP($AA163,DATA!$B$3:$E163,2,0)","v":"14:30:00"},{"$f":"VLOOKUP($AA163,DATA!$B$3:$E163,3,0)","v":"22:30:00"},{"$f":"VLOOKUP($AA163,DATA!$B$3:$E163,4,0)","v":3.125E-2},0.30208333333333337,0.29791666666666672,{"$f":"DATA!$C$9","v":0.89},{"$f":"DATA!$C$10","v":64},1,402.18750000000006,407.81250000000006,4.1666666666666666E-3,5.625,1.379310344827586E-2,0,"","",437.33333333333331,369,"",369,"",null,{"$f":"WEEKNUM($Y153)","v":8},null,{"$f":"TEXT(Y162,\"ddd\")","v":"do"},"MD",{"$f":"IFERROR(HLOOKUP(Y162,[1]DATA!$A$1:$NB$5,4,0),\"\")","v":"D2"},6,null,41,410,32,-61.312499999999943,0.8464516129032259,0.93181818181818177]
["8doND",{"$f":"VLOOKUP($AA164,DATA!$B$3:$E164,2,0)","v":"22:30:00"},{"$f":"VLOOKUP($AA164,DATA!$B$3:$E164,3,0)","v":"06:30:00"},{"$f":"VLOOKUP($AA164,DATA!$B$3:$E164,4,0)","v":3.125E-2},0.30208333333333326,0.30208333333333326,{"$f":"DATA!$C$9","v":0.89},{"$f":"DATA!$C$10","v":64},1,407.81249999999989,407.81249999999989,0,"","",0,"","",0,"","","","",null,{"$f":"X163","v":8},null,{"$f":"TEXT(Y162,\"ddd\")","v":"do"},"ND",{"$f":"IFERROR(HLOOKUP(Y162,[1]DATA!$A$1:$NB$5,5,0),\"\")","v":"D1"},null,null,null,null,0,"","",""]
["8vrDD",{"$f":"VLOOKUP($AA165,DATA!$B$3:$E165,2,0)","v":"06:30:00"},{"$f":"VLOOKUP($AA165,DATA!$B$3:$E165,3,0)","v":"14:30:00"},{"$f":"VLOOKUP($AA165,DATA!$B$3:$E165,4,0)","v":3.125E-2},0.30208333333333331,0.30208333333333331,{"$f":"DATA!$C$9","v":0.89},{"$f":"DATA!$C$10","v":64},1,407.8125,407.8125,0,"","",0,"","",0,"","","","",null,{"$f":"X163","v":8},{"$f":"Y162+1","v":"2018-02-23"},{"$f":"TEXT(Y165,\"ddd\")","v":"vr"},"DD",{"$f":"IFERROR(HLOOKUP(Y165,[1]DATA!$A$1:$NB$5,3,0),\"\")","v":"D3"},0,null,0,0,0,"","",""]
["8vrMD",{"$f":"VLOOKUP($AA166,DATA!$B$3:$E166,2,0)","v":"14:30:00"},{"$f":"VLOOKUP($AA166,DATA!$B$3:$E166,3,0)","v":"22:30:00"},{"$f":"VLOOKUP($AA166,DATA!$B$3:$E166,4,0)","v":3.125E-2},0.30208333333333337,0.2277777777777778,{"$f":"DATA!$C$9","v":0.89},{"$f":"DATA!$C$10","v":64},1,307.50000000000006,407.81250000000006,7.4305555555555555E-2,100.3125,0.24597701149425283,0,"","",321.06666666666666,272,"",272,"",null,{"$f":"X163","v":8},null,{"$f":"TEXT(Y165,\"ddd\")","v":"vr"},"MD",{"$f":"IFERROR(HLOOKUP(Y165,[1]DATA!$A$1:$NB$5,4,0),\"\")","v":"D2"},107,null,29,301,10,-63.624999999999943,0.62394265232974921,0.9697946033024567]
["8vrND",{"$f":"VLOOKUP($AA167,DATA!$B$3:$E167,2,0)","v":"22:30:00"},{"$f":"VLOOKUP($AA167,DATA!$B$3:$E167,3,0)","v":"06:30:00"},{"$f":"VLOOKUP($AA167,DATA!$B$3:$E167,4,0)","v":3.125E-2},0.30208333333333326,0.30208333333333326,{"$f":"DATA!$C$9","v":0.89},{"$f":"DATA!$C$10","v":64},1,407.81249999999989,407.81249999999989,0,"","",0,"","",0,"","","","",null,{"$f":"X163","v":8},null,{"$f":"TEXT(Y165,\"ddd\")","v":"vr"},"ND",{"$f":"IFERROR(HLOOKUP(Y165,[1]DATA!$A$1:$NB$5,5,0),\"\")","v":"-"},null,null,null,null,0,"","",""]
["8zaDD",{"$f":"VLOOKUP($AA168,DATA!$B$3:$E168,2,0)","v":"06:30:00"},{"$f":"VLOOKUP($AA168,DATA!$B$3:$E168,3,0)","v":"14:30:00"},{"$f":"VLOOKUP($AA168,DATA!$B$3:$E168,4,0)","v":3.125E-2},0.30208333333333331,0.30208333333333331,{"$f":"DATA!$C$9","v":0.89},{"$f":"DATA!$C$10","v":64},1,407.8125,407.8125,0,"","",0,"","",0,"","","","",null,{"$f":"X163","v":8},{"$f":"Y165+1","v":"2018-02-24"},{"$f":"TEXT(Y168,\"ddd\")","v":"za"},"DD",{"$f":"IFERROR(HLOOKUP(Y168,[1]DATA!$A$1:$NB$5,3,0),\"\")","v":"-"},null,null,null,null,0,"","",""]
["8zaMD",{"$f":"VLOOKUP($AA169,DATA!$B$3:$E169,2,0)","v":"14:30:00"},{"$f":"VLOOKUP($AA169,DATA!$B$3:$E169,3,0)","v":"22:30:00"},{"$f":"VLOOKUP($AA169,DATA!$B$3:$E169,4,0)","v":3.125E-2},0.30208333333333337,0.30208333333333337,{"$f":"DATA!$C$9","v":0.89},{"$f":"DATA!$C$10","v":64},1,407.81250000000006,407.81250000000006,0,"","",0,"","",0,"","","","",null,{"$f":"X163","v":8},null,{"$f":"TEXT(Y168,\"ddd\")","v":"za"},"MD",{"$f":"IFERROR(HLOOKUP(Y168,[1]DATA!$A$1:$NB$5,4,0),\"\")","v":"-"},null,null,null,null,0,"","",""]
["8zaND",{"$f":"VLOOKUP($AA170,DATA!$B$3:$E170,2,0)","v":"22:30:00"},{"$f":"VLOOKUP($AA170,DATA!$B$3:$E170,3,0)","v":"06:30:00"},{"$f":"VLOOKUP($AA170,DATA!$B$3:$E170,4,0)","v":3.125E-2},0.30208333333333326,0.30208333333333326,{"$f":"DATA!$C$9","v":0.89},{"$f":"DATA!$C$10","v":64},1,407.81249999999989,407.81249999999989,0,"","",0,"","",0,"","","","",null,{"$f":"X163","v":8},null,{"$f":"TEXT(Y168,\"ddd\")","v":"za"},"ND",{"$f":"IFERROR(HLOOKUP(Y168,[1]DATA!$A$1:$NB$5,5,0),\"\")","v":"-"},null,null,null,null,0,"","",""]
["8zoDD",{"$f":"VLOOKUP($AA171,DATA!$B$3:$E171,2,0)","v":"06:30:00"},{"$f":"VLOOKUP($AA171,DATA!$B$3:$E171,3,0)","v":"14:30:00"},{"$f":"VLOOKUP($AA171,DATA!$B$3:$E171,4,0)","v":3.125E-2},0.30208333333333331,0.30208333333333331,{"$f":"DATA!$C$9","v":0.89},{"$f":"DATA!$C$10","v":64},1,407.8125,407.8125,0,"","",0,"","",0,"","","","",null,{"$f":"X163","v":8},{"$f":"Y168+1","v":"2018-02-25"},{"$f":"TEXT(Y171,\"ddd\")","v":"zo"},"DD",{"$f":"IFERROR(HLOOKUP(Y171,[1]DATA!$A$1:$NB$5,3,0),\"\")","v":"-"},null,null,null,null,0,"","",""]
["8zoMD",{"$f":"VLOOKUP($AA172,DATA!$B$3:$E172,2,0)","v":"14:30:00"},{"$f":"VLOOKUP($AA172,DATA!$B$3:$E172,3,0)","v":"22:30:00"},{"$f":"VLOOKUP($AA172,DATA!$B$3:$E172,4,0)","v":3.125E-2},0.30208333333333337,0.30208333333333337,{"$f":"DATA!$C$9","v":0.89},{"$f":"DATA!$C$10","v":64},1,407.81250000000006,407.81250000000006,0,"","",0,"","",0,"","","","",null,{"$f":"X163","v":8},null,{"$f":"TEXT(Y171,\"ddd\")","v":"zo"},"MD",{"$f":"IFERROR(HLOOKUP(Y171,[1]DATA!$A$1:$NB$5,4,0),\"\")","v":"-"},null,null,null,null,0,"","",""]
["8zoZND",{"$f":"VLOOKUP($AA173,DATA!$B$3:$E173,2,0)","v":"00:00:00"},{"$f":"VLOOKUP($AA173,DATA!$B$3:$E173,3,0)","v":"00:00:00"},{"$f":"VLOOKUP($AA173,DATA!$B$3:$E173,4,0)","v":0},0,0,{"$f":"DATA!$C$9","v":0.89},{"$f":"DATA!$C$10","v":64},1,0,0,0,"","",0,"","",0,"","","","",null,{"$f":"X163","v":8},null,{"$f":"TEXT(Y171,\"ddd\")","v":"zo"},"ZND",{"$f":"IFERROR(HLOOKUP(Y171,[1]DATA!$A$1:$NB$5,5,0),\"\")","v":"D3"},null,null,null,null,0,"","",""]
["9maDD",{"$f":"VLOOKUP($AA174,DATA!$B$3:$E174,2,0)","v":"06:30:00"},{"$f":"VLOOKUP($AA174,DATA!$B$3:$E174,3,0)","v":"14:30:00"},{"$f":"VLOOKUP($AA174,DATA!$B$3:$E174,4,0)","v":3.125E-2},0.30208333333333331,0.30208333333333331,{"$f":"DATA!$C$9","v":0.89},{"$f":"DATA!$C$10","v":64},1,407.8125,407.8125,0,"","",{"$f":"TIME(INT($AD174/60),INT(MOD($AD174,60)/1),0)","v":0},"","",144,121,"",121,"",null,{"$f":"X184","v":9},{"$f":"Y171+1","v":"2018-02-26"},{"$f":"TEXT(Y174,\"ddd\")","v":"ma"},"DD",{"$f":"IFERROR(HLOOKUP(Y174,[1]DATA!$A$1:$NB$5,3,0),\"\")","v":"D2"},null,null,14,135,0,-314.9375,0.2775627240143369,1,4359.375,3186,0.73083870967741937,258.75,5.9354838709677421E-2,0,0,0.96435367269250849,0.97939801107799984,0.94930933430701736,"",914.625,0.20980645161290321,975.6,153]
["9maMD",{"$f":"VLOOKUP($AA175,DATA!$B$3:$E175,2,0)","v":"14:30:00"},{"$f":"VLOOKUP($AA175,DATA!$B$3:$E175,3,0)","v":"22:30:00"},{"$f":"VLOOKUP($AA175,DATA!$B$3:$E175,4,0)","v":3.125E-2},0.30208333333333337,0.30208333333333337,{"$f":"DATA!$C$9","v":0.89},{"$f":"DATA!$C$10","v":64},1,407.81250000000006,407.81250000000006,0,"","",{"$f":"TIME(INT(AD175/60),INT(MOD(AD175,60)/1),0)","v":0},"","",366.93333333333334,310,310,"","",null,{"$f":"X184","v":9},null,{"$f":"TEXT(Y174,\"ddd\")","v":"ma"},"MD",{"$f":"IFERROR(HLOOKUP(Y174,[1]DATA!$A$1:$NB$5,4,0),\"\")","v":"D1"},null,null,34,344,2,-125.93749999999994,0.71111111111111125,0.99457896638959165]
[{"$f":"X176&Z176&AA176","v":"9maND"},{"$f":"VLOOKUP($AA176,DATA!$B$3:$E176,2,0)","v":"22:30:00"},{"$f":"VLOOKUP($AA176,DATA!$B$3:$E176,3,0)","v":"06:30:00"},{"$f":"VLOOKUP($AA176,DATA!$B$3:$E176,4,0)","v":3.125E-2},0.30208333333333326,0.30208333333333326,{"$f":"DATA!$C$9","v":0.89},{"$f":"DATA!$C$10","v":64},1,407.81249999999989,407.81249999999989,0,"","",0,{"$f":"IF($O176*86400/$H176=0,\"\",$O176*86400/$H176)","v":""},"",0,"","","","",null,{"$f":"X184","v":9},null,{"$f":"TEXT(Y174,\"ddd\")","v":"ma"},"ND",{"$f":"IFERROR(HLOOKUP(Y174,[1]DATA!$A$1:$NB$5,5,0),\"\")","v":"D3"},null,null,null,null,0,"","",""]
["9diDD",{"$f":"VLOOKUP($AA177,DATA!$B$3:$E177,2,0)","v":"06:30:00"},{"$f":"VLOOKUP($AA177,DATA!$B$3:$E177,3,0)","v":"14:30:00"},{"$f":"VLOOKUP($AA177,DATA!$B$3:$E177,4,0)","v":3.125E-2},0.30208333333333331,0.30208333333333331,{"$f":"DATA!$C$9","v":0.89},{"$f":"DATA!$C$10","v":64},1,407.8125,407.8125,0,"","",0,"","",403.2,349,"",349,"",null,{"$f":"X184","v":9},{"$f":"Y174+1","v":"2018-02-27"},{"$f":"TEXT(Y177,\"ddd\")","v":"di"},"DD",{"$f":"IFERROR(HLOOKUP(Y177,[1]DATA!$A$1:$NB$5,3,0),\"\")","v":"D2"},null,null,29,378,22,-86.9375,0.800573476702509,0.94825964252116646]
["9diMD",{"$f":"VLOOKUP($AA178,DATA!$B$3:$E178,2,0)","v":"14:30:00"},{"$f":"VLOOKUP($AA178,DATA!$B$3:$E178,3,0)","v":"22:30:00"},{"$f":"VLOOKUP($AA178,DATA!$B$3:$E178,4,0)","v":3.125E-2},0.30208333333333337,0.30208333333333337,{"$f":"DATA!$C$9","v":0.89},{"$f":"DATA!$C$10","v":64},1,407.81250000000006,407.81250000000006,0,"","",0,"","",403.2,339,339,"","",null,{"$f":"X184","v":9},null,{"$f":"TEXT(Y177,\"ddd\")","v":"di"},"MD",{"$f":"IFERROR(HLOOKUP(Y177,[1]DATA!$A$1:$NB$5,4,0),\"\")","v":"D1"},null,null,39,378,0,-96.937499999999943,0.77763440860215061,1]
["9diND",{"$f":"VLOOKUP($AA179,DATA!$B$3:$E179,2,0)","v":"22:30:00"},{"$f":"VLOOKUP($AA179,DATA!$B$3:$E179,3,0)","v":"06:30:00"},{"$f":"VLOOKUP($AA179,DATA!$B$3:$E179,4,0)","v":3.125E-2},0.30208333333333326,0.30208333333333326,{"$f":"DATA!$C$9","v":0.89},{"$f":"DATA!$C$10","v":64},1,407.81249999999989,407.81249999999989,0,"","",0,"","",0,"","","","",null,{"$f":"X184","v":9},null,{"$f":"TEXT(Y177,\"ddd\")","v":"di"},"ND",{"$f":"IFERROR(HLOOKUP(Y177,[1]DATA!$A$1:$NB$5,5,0),\"\")","v":"D3"},null,null,null,null,0,"","",""]
["9woDD",{"$f":"VLOOKUP($AA180,DATA!$B$3:$E180,2,0)","v":"06:30:00"},{"$f":"VLOOKUP($AA180,DATA!$B$3:$E180,3,0)","v":"14:30:00"},{"$f":"VLOOKUP($AA180,DATA!$B$3:$E180,4,0)","v":3.125E-2},0.30208333333333331,0.30208333333333331,{"$f":"DATA!$C$9","v":0.89},{"$f":"DATA!$C$10","v":64},1,407.8125,407.8125,0,"","",0,"","",393.6,346,"",346,"",null,{"$f":"X184","v":9},{"$f":"Y177+1","v":"2018-02-28"},{"$f":"TEXT(Y180,\"ddd\")","v":"wo"},"DD",{"$f":"IFERROR(HLOOKUP(Y180,[1]DATA!$A$1:$NB$5,3,0),\"\")","v":"D2"},null,null,23,369,21,-89.9375,0.79369175627240141,0.94934876989869754]
["9woMD",{"$f":"VLOOKUP($AA181,DATA!$B$3:$E181,2,0)","v":"14:30:00"},{"$f":"VLOOKUP($AA181,DATA!$B$3:$E181,3,0)","v":"22:30:00"},{"$f":"VLOOKUP($AA181,DATA!$B$3:$E181,4,0)","v":3.125E-2},0.30208333333333337,0.30208333333333337,{"$f":"DATA!$C$9","v":0.89},{"$f":"DATA!$C$10","v":64},1,407.81250000000006,407.81250000000006,0,"","",0,"","",427.73333333333335,366,366,"","",null,{"$f":"X184","v":9},null,{"$f":"TEXT(Y180,\"ddd\")","v":"wo"},"MD",{"$f":"IFERROR(HLOOKUP(Y180,[1]DATA!$A$1:$NB$5,4,0),\"\")","v":"D1"},null,null,35,401,38,-69.937499999999943,0.83956989247311842,0.91840824506155172]
["9woND",{"$f":"VLOOKUP($AA182,DATA!$B$3:$E182,2,0)","v":"22:30:00"},{"$f":"VLOOKUP($AA182,DATA!$B$3:$E182,3,0)","v":"06:30:00"},{"$f":"VLOOKUP($AA182,DATA!$B$3:$E182,4,0)","v":3.125E-2},0.30208333333333326,0.30208333333333326,{"$f":"DATA!$C$9","v":0.89},{"$f":"DATA!$C$10","v":64},1,407.81249999999989,407.81249999999989,0,"","",0,"","",0,"","","","",null,{"$f":"X184","v":9},null,{"$f":"TEXT(Y180,\"ddd\")","v":"wo"},"ND",{"$f":"IFERROR(HLOOKUP(Y180,[1]DATA!$A$1:$NB$5,5,0),\"\")","v":"D3"},null,null,null,null,0,"","",""]
["9doDD",{"$f":"VLOOKUP($AA183,DATA!$B$3:$E183,2,0)","v":"06:30:00"},{"$f":"VLOOKUP($AA183,DATA!$B$3:$E183,3,0)","v":"14:30:00"},{"$f":"VLOOKUP($AA183,DATA!$B$3:$E183,4,0)","v":3.125E-2},0.30208333333333331,0.23819444444444443,{"$f":"DATA!$C$9","v":0.89},{"$f":"DATA!$C$10","v":64},1,321.5625,407.8125,6.3888888888888884E-2,86.25,0.21149425287356322,0,"","",375.46666666666664,323,"",323,"",null,{"$f":"X184","v":9},{"$f":"Y180+1","v":"2018-03-01"},{"$f":"TEXT(Y183,\"ddd\")","v":"do"},"DD",{"$f":"IFERROR(HLOOKUP(Y183,[1]DATA!$A$1:$NB$5,3,0),\"\")","v":"D2"},92,null,29,352,39,-26.687500000000057,0.74093189964157702,0.90590316873089916]
["9doMD",{"$f":"VLOOKUP($AA184,DATA!$B$3:$E184,2,0)","v":"14:30:00"},{"$f":"VLOOKUP($AA184,DATA!$B$3:$E184,3,0)","v":"22:30:00"},{"$f":"VLOOKUP($AA184,DATA!$B$3:$E184,4,0)","v":3.125E-2},0.30208333333333337,0.23472222222222228,{"$f":"DATA!$C$9","v":0.89},{"$f":"DATA!$C$10","v":64},1,316.87500000000006,407.81250000000006,6.7361111111111108E-2,90.9375,0.22298850574712639,0,"","",369.06666666666666,325,325,"","",null,{"$f":"WEEKNUM($Y174)","v":9},null,{"$f":"TEXT(Y183,\"ddd\")","v":"do"},"MD",{"$f":"IFERROR(HLOOKUP(Y183,[1]DATA!$A$1:$NB$5,4,0),\"\")","v":"D1"},97,null,21,346,6,-20,0.7455197132616489,0.98400284393885529]
["9doND",{"$f":"VLOOKUP($AA185,DATA!$B$3:$E185,2,0)","v":"22:30:00"},{"$f":"VLOOKUP($AA185,DATA!$B$3:$E185,3,0)","v":"06:30:00"},{"$f":"VLOOKUP($AA185,DATA!$B$3:$E185,4,0)","v":3.125E-2},0.30208333333333326,0.30208333333333326,{"$f":"DATA!$C$9","v":0.89},{"$f":"DATA!$C$10","v":64},1,407.81249999999989,407.81249999999989,0,"","",0,"","",0,"","","","",null,{"$f":"X184","v":9},null,{"$f":"TEXT(Y183,\"ddd\")","v":"do"},"ND",{"$f":"IFERROR(HLOOKUP(Y183,[1]DATA!$A$1:$NB$5,5,0),\"\")","v":"D3"},null,null,null,null,0,"","",""]
["9vrDD",{"$f":"VLOOKUP($AA186,DATA!$B$3:$E186,2,0)","v":"06:30:00"},{"$f":"VLOOKUP($AA186,DATA!$B$3:$E186,3,0)","v":"14:30:00"},{"$f":"VLOOKUP($AA186,DATA!$B$3:$E186,4,0)","v":3.125E-2},0.30208333333333331,0.27430555555555552,{"$f":"DATA!$C$9","v":0.89},{"$f":"DATA!$C$10","v":64},1,370.31249999999994,407.8125,2.7777777777777776E-2,37.5,9.1954022988505746E-2,0,"","",413.86666666666667,354,"",354,"",null,{"$f":"X184","v":9},{"$f":"Y183+1","v":"2018-03-02"},{"$f":"TEXT(Y186,\"ddd\")","v":"vr"},"DD",{"$f":"IFERROR(HLOOKUP(Y186,[1]DATA!$A$1:$NB$5,3,0),\"\")","v":"D2"},40,null,34,388,25,-44.4375,0.81204301075268814,0.9430350903843232]
["9vrMD",{"$f":"VLOOKUP($AA187,DATA!$B$3:$E187,2,0)","v":"14:30:00"},{"$f":"VLOOKUP($AA187,DATA!$B$3:$E187,3,0)","v":"22:30:00"},{"$f":"VLOOKUP($AA187,DATA!$B$3:$E187,4,0)","v":3.125E-2},0.30208333333333337,0.26944444444444449,{"$f":"DATA!$C$9","v":0.89},{"$f":"DATA!$C$10","v":64},1,363.75000000000006,407.81250000000006,3.2638888888888891E-2,44.0625,0.10804597701149424,0,"","",409.6,353,353,"","",null,{"$f":"X184","v":9},null,{"$f":"TEXT(Y186,\"ddd\")","v":"vr"},"MD",{"$f":"IFERROR(HLOOKUP(Y186,[1]DATA!$A$1:$NB$5,4,0),\"\")","v":"D1"},47,null,31,384,0,-38.874999999999943,0.80974910394265243,1]
["9vrND",{"$f":"VLOOKUP($AA188,DATA!$B$3:$E188,2,0)","v":"22:30:00"},{"$f":"VLOOKUP($AA188,DATA!$B$3:$E188,3,0)","v":"06:30:00"},{"$f":"VLOOKUP($AA188,DATA!$B$3:$E188,4,0)","v":3.125E-2},0.30208333333333326,0.30208333333333326,{"$f":"DATA!$C$9","v":0.89},{"$f":"DATA!$C$10","v":64},1,407.81249999999989,407.81249999999989,0,"","",0,"","",0,"","","","",null,{"$f":"X184","v":9},null,{"$f":"TEXT(Y186,\"ddd\")","v":"vr"},"ND",{"$f":"IFERROR(HLOOKUP(Y186,[1]DATA!$A$1:$NB$5,5,0),\"\")","v":"-"},null,null,null,null,0,"","",""]
["9zaDD",{"$f":"VLOOKUP($AA189,DATA!$B$3:$E189,2,0)","v":"06:30:00"},{"$f":"VLOOKUP($AA189,DATA!$B$3:$E189,3,0)","v":"14:30:00"},{"$f":"VLOOKUP($AA189,DATA!$B$3:$E189,4,0)","v":3.125E-2},0.30208333333333331,0.30208333333333331,{"$f":"DATA!$C$9","v":0.89},{"$f":"DATA!$C$10","v":64},1,407.8125,407.8125,0,"","",0,"","",0,"","","","",null,{"$f":"X184","v":9},{"$f":"Y186+1","v":"2018-03-03"},{"$f":"TEXT(Y189,\"ddd\")","v":"za"},"DD",{"$f":"IFERROR(HLOOKUP(Y189,[1]DATA!$A$1:$NB$5,3,0),\"\")","v":"-"},null,null,null,null,0,"","",""]
["9zaMD",{"$f":"VLOOKUP($AA190,DATA!$B$3:$E190,2,0)","v":"14:30:00"},{"$f":"VLOOKUP($AA190,DATA!$B$3:$E190,3,0)","v":"22:30:00"},{"$f":"VLOOKUP($AA190,DATA!$B$3:$E190,4,0)","v":3.125E-2},0.30208333333333337,0.30208333333333337,{"$f":"DATA!$C$9","v":0.89},{"$f":"DATA!$C$10","v":64},1,407.81250000000006,407.81250000000006,0,"","",0,"","",0,"","","","",null,{"$f":"X184","v":9},null,{"$f":"TEXT(Y189,\"ddd\")","v":"za"},"MD",{"$f":"IFERROR(HLOOKUP(Y189,[1]DATA!$A$1:$NB$5,4,0),\"\")","v":"-"},null,null,null,null,0,"","",""]
["9zaND",{"$f":"VLOOKUP($AA191,DATA!$B$3:$E191,2,0)","v":"22:30:00"},{"$f":"VLOOKUP($AA191,DATA!$B$3:$E191,3,0)","v":"06:30:00"},{"$f":"VLOOKUP($AA191,DATA!$B$3:$E191,4,0)","v":3.125E-2},0.30208333333333326,0.30208333333333326,{"$f":"DATA!$C$9","v":0.89},{"$f":"DATA!$C$10","v":64},1,407.81249999999989,407.81249999999989,0,"","",0,"","",0,"","","","",null,{"$f":"X184","v":9},null,{"$f":"TEXT(Y189,\"ddd\")","v":"za"},"ND",{"$f":"IFERROR(HLOOKUP(Y189,[1]DATA!$A$1:$NB$5,5,0),\"\")","v":"-"},null,null,null,null,0,"","",""]
["9zoDD",{"$f":"VLOOKUP($AA192,DATA!$B$3:$E192,2,0)","v":"06:30:00"},{"$f":"VLOOKUP($AA192,DATA!$B$3:$E192,3,0)","v":"14:30:00"},{"$f":"VLOOKUP($AA192,DATA!$B$3:$E192,4,0)","v":3.125E-2},0.30208333333333331,0.30208333333333331,{"$f":"DATA!$C$9","v":0.89},{"$f":"DATA!$C$10","v":64},1,407.8125,407.8125,0,"","",0,"","",0,"","","","",null,{"$f":"X184","v":9},{"$f":"Y189+1","v":"2018-03-04"},{"$f":"TEXT(Y192,\"ddd\")","v":"zo"},"DD",{"$f":"IFERROR(HLOOKUP(Y192,[1]DATA!$A$1:$NB$5,3,0),\"\")","v":"-"},null,null,null,null,0,"","",""]
["9zoMD",{"$f":"VLOOKUP($AA193,DATA!$B$3:$E193,2,0)","v":"14:30:00"},{"$f":"VLOOKUP($AA193,DATA!$B$3:$E193,3,0)","v":"22:30:00"},{"$f":"VLOOKUP($AA193,DATA!$B$3:$E193,4,0)","v":3.125E-2},0.30208333333333337,0.30208333333333337,{"$f":"DATA!$C$9","v":0.89},{"$f":"DATA!$C$10","v":64},1,407.81250000000006,407.81250000000006,0,"","",0,"","",0,"","","","",null,{"$f":"X184","v":9},null,{"$f":"TEXT(Y192,\"ddd\")","v":"zo"},"MD",{"$f":"IFERROR(HLOOKUP(Y192,[1]DATA!$A$1:$NB$5,4,0),\"\")","v":"-"},null,null,null,null,0,"","",""]
["9zoZND",{"$f":"VLOOKUP($AA194,DATA!$B$3:$E194,2,0)","v":"00:00:00"},{"$f":"VLOOKUP($AA194,DATA!$B$3:$E194,3,0)","v":"00:00:00"},{"$f":"VLOOKUP($AA194,DATA!$B$3:$E194,4,0)","v":0},0,0,{"$f":"DATA!$C$9","v":0.89},{"$f":"DATA!$C$10","v":64},1,0,0,0,"","",0,"","",0,"","","","",null,{"$f":"X184","v":9},null,{"$f":"TEXT(Y192,\"ddd\")","v":"zo"},"ZND",{"$f":"IFERROR(HLOOKUP(Y192,[1]DATA!$A$1:$NB$5,5,0),\"\")","v":"D2"},null,null,null,null,0,"","",""]
["10maDD",{"$f":"VLOOKUP($AA195,DATA!$B$3:$E195,2,0)","v":"06:30:00"},{"$f":"VLOOKUP($AA195,DATA!$B$3:$E195,3,0)","v":"14:30:00"},{"$f":"VLOOKUP($AA195,DATA!$B$3:$E195,4,0)","v":3.125E-2},0.30208333333333331,0.21944444444444444,{"$f":"DATA!$C$9","v":0.89},{"$f":"DATA!$C$10","v":64},1,296.25,407.8125,8.2638888888888887E-2,111.5625,0.27356321839080461,{"$f":"TIME(INT($AD195/60),INT(MOD($AD195,60)/1),0)","v":0},"","",361.6,315,315,"","",null,{"$f":"X205","v":10},{"$f":"Y192+1","v":"2018-03-05"},{"$f":"TEXT(Y195,\"ddd\")","v":"ma"},"DD",{"$f":"IFERROR(HLOOKUP(Y195,[1]DATA!$A$1:$NB$5,3,0),\"\")","v":"D1"},119,null,24,339,0,-9.3750000000000568,0.72258064516129028,1,4359.375,2976,0.68266666666666664,692.8125,0.15892473118279571,0,0,0.93742826349705377,0.94279160933386841,"",0.93206491766023913,690.5625,0.15840860215053765,736.6,235]
["10maMD",{"$f":"VLOOKUP($AA196,DATA!$B$3:$E196,2,0)","v":"14:30:00"},{"$f":"VLOOKUP($AA196,DATA!$B$3:$E196,3,0)","v":"22:30:00"},{"$f":"VLOOKUP($AA196,DATA!$B$3:$E196,4,0)","v":3.125E-2},0.30208333333333337,0.21250000000000002,{"$f":"DATA!$C$9","v":0.89},{"$f":"DATA!$C$10","v":64},1,286.87500000000006,407.81250000000006,8.9583333333333334E-2,120.9375,0.29655172413793102,{"$f":"TIME(INT(AD196/60),INT(MOD(AD196,60)/1),0)","v":0},"","",318.93333333333334,285,"","",285,null,{"$f":"X205","v":10},null,{"$f":"TEXT(Y195,\"ddd\")","v":"ma"},"MD",{"$f":"IFERROR(HLOOKUP(Y195,[1]DATA!$A$1:$NB$5,4,0),\"\")","v":"D3"},129,null,14,299,17,-29.999999999999943,0.65376344086021509,0.94939472117483625]
["10maND",{"$f":"VLOOKUP($AA197,DATA!$B$3:$E197,2,0)","v":"22:30:00"},{"$f":"VLOOKUP($AA197,DATA!$B$3:$E197,3,0)","v":"06:30:00"},{"$f":"VLOOKUP($AA197,DATA!$B$3:$E197,4,0)","v":3.125E-2},0.30208333333333326,0.30208333333333326,{"$f":"DATA!$C$9","v":0.89},{"$f":"DATA!$C$10","v":64},1,407.81249999999989,407.81249999999989,0,"","",0,"","",0,"","","","",null,{"$f":"X205","v":10},null,{"$f":"TEXT(Y195,\"ddd\")","v":"ma"},"ND",{"$f":"IFERROR(HLOOKUP(Y195,[1]DATA!$A$1:$NB$5,5,0),\"\")","v":"D2"},null,null,null,null,0,"","",""]
["10diDD",{"$f":"VLOOKUP($AA198,DATA!$B$3:$E198,2,0)","v":"06:30:00"},{"$f":"VLOOKUP($AA198,DATA!$B$3:$E198,3,0)","v":"14:30:00"},{"$f":"VLOOKUP($AA198,DATA!$B$3:$E198,4,0)","v":3.125E-2},0.30208333333333331,0.23541666666666666,{"$f":"DATA!$C$9","v":0.89},{"$f":"DATA!$C$10","v":64},1,317.8125,407.8125,6.6666666666666666E-2,90,0.22068965517241379,0,"","",353.06666666666666,306,306,"","",null,{"$f":"X205","v":10},{"$f":"Y195+1","v":"2018-03-06"},{"$f":"TEXT(Y198,\"ddd\")","v":"di"},"DD",{"$f":"IFERROR(HLOOKUP(Y198,[1]DATA!$A$1:$NB$5,3,0),\"\")","v":"D1"},96,null,25,331,13,-39.937500000000057,0.70193548387096771,0.964487342924786]
["10diMD",{"$f":"VLOOKUP($AA199,DATA!$B$3:$E199,2,0)","v":"14:30:00"},{"$f":"VLOOKUP($AA199,DATA!$B$3:$E199,3,0)","v":"22:30:00"},{"$f":"VLOOKUP($AA199,DATA!$B$3:$E199,4,0)","v":3.125E-2},0.30208333333333337,0.23750000000000004,{"$f":"DATA!$C$9","v":0.89},{"$f":"DATA!$C$10","v":64},1,320.62500000000006,407.81250000000006,{"$f":"TIME(INT($AC199/60),INT(MOD($AC199,60)/1),0)","v":6.458333333333334E-2},{"$f":"IF($L199*86400/$H199=0,\"\",$L199*86400/$H199)","v":87.187500000000014},{"$f":"IFERROR($M199/$K199,\"\")","v":0.21379310344827587},0,"",{"$f":"IFERROR($P199/$K199,\"\")","v":""},325.33333333333331,287,{"$f":"IF(IF($AB199=\"D1\",$S199,\"\")=0,\"\",IF($AB199=\"D1\",$S199,\"\"))","v":""},{"$f":"IF(IF($AB199=\"D2\",$S199,\"\")=0,\"\",IF($AB199=\"D2\",$S199,\"\"))","v":""},{"$f":"IF(IF($AB199=\"D3\",$S199,\"\")=0,\"\",IF($AB199=\"D3\",$S199,\"\"))","v":287},null,{"$f":"X205","v":10},null,{"$f":"TEXT(Y198,\"ddd\")","v":"di"},"MD",{"$f":"IFERROR(HLOOKUP(Y198,[1]DATA!$A$1:$NB$5,4,0),\"\")","v":"D3"},93,null,18,305,40,-61.749999999999943,0.65835125448028686,0.89051094890510951]
["10diND",{"$f":"VLOOKUP($AA200,DATA!$B$3:$E200,2,0)","v":"22:30:00"},{"$f":"VLOOKUP($AA200,DATA!$B$3:$E200,3,0)","v":"06:30:00"},{"$f":"VLOOKUP($AA200,DATA!$B$3:$E200,4,0)","v":3.125E-2},0.30208333333333326,0.30208333333333326,{"$f":"DATA!$C$9","v":0.89},{"$f":"DATA!$C$10","v":64},1,407.81249999999989,407.81249999999989,0,"","",0,"","",0,"","","","",null,{"$f":"X205","v":10},null,{"$f":"TEXT(Y198,\"ddd\")","v":"di"},"ND",{"$f":"IFERROR(HLOOKUP(Y198,[1]DATA!$A$1:$NB$5,5,0),\"\")","v":"D2"},null,null,null,null,0,"","",""]
["10woDD",{"$f":"VLOOKUP($AA201,DATA!$B$3:$E201,2,0)","v":"06:30:00"},{"$f":"VLOOKUP($AA201,DATA!$B$3:$E201,3,0)","v":"14:30:00"},{"$f":"VLOOKUP($AA201,DATA!$B$3:$E201,4,0)","v":3.125E-2},0.30208333333333331,0.3,{"$f":"DATA!$C$9","v":0.89},{"$f":"DATA!$C$10","v":64},1,405,407.8125,2.0833333333333333E-3,2.8125,6.8965517241379309E-3,0,"","",346.66666666666669,306,306,"","",null,{"$f":"X205","v":10},{"$f":"Y198+1","v":"2018-03-07"},{"$f":"TEXT(Y201,\"ddd\")","v":"wo"},"DD",{"$f":"IFERROR(HLOOKUP(Y201,[1]DATA!$A$1:$NB$5,3,0),\"\")","v":"D1"},3,null,19,325,37,-127.12500000000006,0.70193548387096771,0.90356211989574287]
["10woMD",{"$f":"VLOOKUP($AA202,DATA!$B$3:$E202,2,0)","v":"14:30:00"},{"$f":"VLOOKUP($AA202,DATA!$B$3:$E202,3,0)","v":"22:30:00"},{"$f":"VLOOKUP($AA202,DATA!$B$3:$E202,4,0)","v":3.125E-2},0.30208333333333337,0.27013888888888893,{"$f":"DATA!$C$9","v":0.89},{"$f":"DATA!$C$10","v":64},1,364.68750000000006,407.81250000000006,3.1944444444444449E-2,43.125000000000007,0.10574712643678161,0,"","",424.5333333333333,367,"","",367,null,{"$f":"X205","v":10},null,{"$f":"TEXT(Y201,\"ddd\")","v":"wo"},"MD",{"$f":"IFERROR(HLOOKUP(Y201,[1]DATA!$A$1:$NB$5,4,0),\"\")","v":"D3"},46,null,31,398,33,-25.812499999999943,0.84186379928315425,0.92787410753314881]
["10woND",{"$f":"VLOOKUP($AA203,DATA!$B$3:$E203,2,0)","v":"22:30:00"},{"$f":"VLOOKUP($AA203,DATA!$B$3:$E203,3,0)","v":"06:30:00"},{"$f":"VLOOKUP($AA203,DATA!$B$3:$E203,4,0)","v":3.125E-2},0.30208333333333326,0.30208333333333326,{"$f":"DATA!$C$9","v":0.89},{"$f":"DATA!$C$10","v":64},1,407.81249999999989,407.81249999999989,0,"","",0,"","",0,"","","","",null,{"$f":"X205","v":10},null,{"$f":"TEXT(Y201,\"ddd\")","v":"wo"},"ND",{"$f":"IFERROR(HLOOKUP(Y201,[1]DATA!$A$1:$NB$5,5,0),\"\")","v":"D2"},null,null,null,null,0,"","",""]
["10doDD",{"$f":"VLOOKUP($AA204,DATA!$B$3:$E204,2,0)","v":"06:30:00"},{"$f":"VLOOKUP($AA204,DATA!$B$3:$E204,3,0)","v":"14:30:00"},{"$f":"VLOOKUP($AA204,DATA!$B$3:$E204,4,0)","v":3.125E-2},0.30208333333333331,0.22569444444444442,{"$f":"DATA!$C$9","v":0.89},{"$f":"DATA!$C$10","v":64},1,304.68749999999994,407.8125,7.6388888888888895E-2,103.12500000000001,0.25287356321839083,0,"","",218.66666666666666,183,183,"","",null,{"$f":"X205","v":10},{"$f":"Y201+1","v":"2018-03-08"},{"$f":"TEXT(Y204,\"ddd\")","v":"do"},"DD",{"$f":"IFERROR(HLOOKUP(Y204,[1]DATA!$A$1:$NB$5,3,0),\"\")","v":"D1"},110,null,22,205,21,-149.8125,0.41978494623655915,0.91237830319888735]
["10doMD",{"$f":"VLOOKUP($AA205,DATA!$B$3:$E205,2,0)","v":"14:30:00"},{"$f":"VLOOKUP($AA205,DATA!$B$3:$E205,3,0)","v":"22:30:00"},{"$f":"VLOOKUP($AA205,DATA!$B$3:$E205,4,0)","v":3.125E-2},0.30208333333333337,0.26180555555555557,{"$f":"DATA!$C$9","v":0.89},{"$f":"DATA!$C$10","v":64},1,353.4375,407.81250000000006,4.027777777777778E-2,54.375,0.1333333333333333,0,"","",229.33333333333334,203,"","",203,null,{"$f":"WEEKNUM($Y195)","v":10},null,{"$f":"TEXT(Y204,\"ddd\")","v":"do"},"MD",{"$f":"IFERROR(HLOOKUP(Y204,[1]DATA!$A$1:$NB$5,4,0),\"\")","v":"D3"},58,null,12,215,5,-178.56249999999994,0.46566308243727605,0.97866287339971547]
["10doND",{"$f":"VLOOKUP($AA206,DATA!$B$3:$E206,2,0)","v":"22:30:00"},{"$f":"VLOOKUP($AA206,DATA!$B$3:$E206,3,0)","v":"06:30:00"},{"$f":"VLOOKUP($AA206,DATA!$B$3:$E206,4,0)","v":3.125E-2},0.30208333333333326,0.30208333333333326,{"$f":"DATA!$C$9","v":0.89},{"$f":"DATA!$C$10","v":64},1,407.81249999999989,407.81249999999989,0,"","",0,"","",0,"","","","",null,{"$f":"X205","v":10},null,{"$f":"TEXT(Y204,\"ddd\")","v":"do"},"ND",{"$f":"IFERROR(HLOOKUP(Y204,[1]DATA!$A$1:$NB$5,5,0),\"\")","v":"D2"},null,null,null,null,0,"","",""]
["10vrDD",{"$f":"VLOOKUP($AA207,DATA!$B$3:$E207,2,0)","v":"06:30:00"},{"$f":"VLOOKUP($AA207,DATA!$B$3:$E207,3,0)","v":"14:30:00"},{"$f":"VLOOKUP($AA207,DATA!$B$3:$E207,4,0)","v":3.125E-2},0.30208333333333331,0.27499999999999997,{"$f":"DATA!$C$9","v":0.89},{"$f":"DATA!$C$10","v":64},1,371.24999999999994,407.8125,2.7083333333333334E-2,36.5625,8.9655172413793102E-2,0,"","",421.33333333333331,358,358,"","",null,{"$f":"X205","v":10},{"$f":"Y204+1","v":"2018-03-09"},{"$f":"TEXT(Y207,\"ddd\")","v":"vr"},"DD",{"$f":"IFERROR(HLOOKUP(Y207,[1]DATA!$A$1:$NB$5,3,0),\"\")","v":"D1"},39,null,37,395,30,-41.375,0.82121863799283157,0.93353028064992616]
["10vrMD",{"$f":"VLOOKUP($AA208,DATA!$B$3:$E208,2,0)","v":"14:30:00"},{"$f":"VLOOKUP($AA208,DATA!$B$3:$E208,3,0)","v":"22:30:00"},{"$f":"VLOOKUP($AA208,DATA!$B$3:$E208,4,0)","v":3.125E-2},0.30208333333333337,0.27013888888888893,{"$f":"DATA!$C$9","v":0.89},{"$f":"DATA!$C$10","v":64},1,364.68750000000006,407.81250000000006,3.1944444444444449E-2,43.125000000000007,0.10574712643678161,0,"","",413.86666666666667,366,"","",366,null,{"$f":"X205","v":10},null,{"$f":"TEXT(Y207,\"ddd\")","v":"vr"},"MD",{"$f":"IFERROR(HLOOKUP(Y207,[1]DATA!$A$1:$NB$5,4,0),\"\")","v":"D3"},46,null,22,388,39,-26.812499999999943,0.83956989247311842,0.91388193728838507]
["10vrND",{"$f":"VLOOKUP($AA209,DATA!$B$3:$E209,2,0)","v":"22:30:00"},{"$f":"VLOOKUP($AA209,DATA!$B$3:$E209,3,0)","v":"06:30:00"},{"$f":"VLOOKUP($AA209,DATA!$B$3:$E209,4,0)","v":3.125E-2},0.30208333333333326,0.30208333333333326,{"$f":"DATA!$C$9","v":0.89},{"$f":"DATA!$C$10","v":64},1,407.81249999999989,407.81249999999989,0,"","",0,"","",0,"","","","",null,{"$f":"X205","v":10},null,{"$f":"TEXT(Y207,\"ddd\")","v":"vr"},"ND",{"$f":"IFERROR(HLOOKUP(Y207,[1]DATA!$A$1:$NB$5,5,0),\"\")","v":"-"},null,null,null,null,0,"","",""]
["10zaDD",{"$f":"VLOOKUP($AA210,DATA!$B$3:$E210,2,0)","v":"06:30:00"},{"$f":"VLOOKUP($AA210,DATA!$B$3:$E210,3,0)","v":"14:30:00"},{"$f":"VLOOKUP($AA210,DATA!$B$3:$E210,4,0)","v":3.125E-2},0.30208333333333331,0.30208333333333331,{"$f":"DATA!$C$9","v":0.89},{"$f":"DATA!$C$10","v":64},1,407.8125,407.8125,0,"","",0,"","",0,"","","","",null,{"$f":"X205","v":10},{"$f":"Y207+1","v":"2018-03-10"},{"$f":"TEXT(Y210,\"ddd\")","v":"za"},"DD",{"$f":"IFERROR(HLOOKUP(Y210,[1]DATA!$A$1:$NB$5,3,0),\"\")","v":"-"},null,null,null,null,0,"","",""]
["10zaMD",{"$f":"VLOOKUP($AA211,DATA!$B$3:$E211,2,0)","v":"14:30:00"},{"$f":"VLOOKUP($AA211,DATA!$B$3:$E211,3,0)","v":"22:30:00"},{"$f":"VLOOKUP($AA211,DATA!$B$3:$E211,4,0)","v":3.125E-2},0.30208333333333337,0.30208333333333337,{"$f":"DATA!$C$9","v":0.89},{"$f":"DATA!$C$10","v":64},1,407.81250000000006,407.81250000000006,0,"","",0,"","",0,"","","","",null,{"$f":"X205","v":10},null,{"$f":"TEXT(Y210,\"ddd\")","v":"za"},"MD",{"$f":"IFERROR(HLOOKUP(Y210,[1]DATA!$A$1:$NB$5,4,0),\"\")","v":"-"},null,null,null,null,0,"","",""]
["10zaND",{"$f":"VLOOKUP($AA212,DATA!$B$3:$E212,2,0)","v":"22:30:00"},{"$f":"VLOOKUP($AA212,DATA!$B$3:$E212,3,0)","v":"06:30:00"},{"$f":"VLOOKUP($AA212,DATA!$B$3:$E212,4,0)","v":3.125E-2},0.30208333333333326,0.30208333333333326,{"$f":"DATA!$C$9","v":0.89},{"$f":"DATA!$C$10","v":64},1,407.81249999999989,407.81249999999989,0,"","",0,"","",0,"","","","",null,{"$f":"X205","v":10},null,{"$f":"TEXT(Y210,\"ddd\")","v":"za"},"ND",{"$f":"IFERROR(HLOOKUP(Y210,[1]DATA!$A$1:$NB$5,5,0),\"\")","v":"-"},null,null,null,null,0,"","",""]
["10zoDD",{"$f":"VLOOKUP($AA213,DATA!$B$3:$E213,2,0)","v":"06:30:00"},{"$f":"VLOOKUP($AA213,DATA!$B$3:$E213,3,0)","v":"14:30:00"},{"$f":"VLOOKUP($AA213,DATA!$B$3:$E213,4,0)","v":3.125E-2},0.30208333333333331,0.30208333333333331,{"$f":"DATA!$C$9","v":0.89},{"$f":"DATA!$C$10","v":64},1,407.8125,407.8125,0,"","",0,"","",0,"","","","",null,{"$f":"X205","v":10},{"$f":"Y210+1","v":"2018-03-11"},{"$f":"TEXT(Y213,\"ddd\")","v":"zo"},"DD",{"$f":"IFERROR(HLOOKUP(Y213,[1]DATA!$A$1:$NB$5,3,0),\"\")","v":"-"},null,null,null,null,0,"","",""]
["10zoMD",{"$f":"VLOOKUP($AA214,DATA!$B$3:$E214,2,0)","v":"14:30:00"},{"$f":"VLOOKUP($AA214,DATA!$B$3:$E214,3,0)","v":"22:30:00"},{"$f":"VLOOKUP($AA214,DATA!$B$3:$E214,4,0)","v":3.125E-2},0.30208333333333337,0.30208333333333337,{"$f":"DATA!$C$9","v":0.89},{"$f":"DATA!$C$10","v":64},1,407.81250000000006,407.81250000000006,0,"","",0,"","",0,"","","","",null,{"$f":"X205","v":10},null,{"$f":"TEXT(Y213,\"ddd\")","v":"zo"},"MD",{"$f":"IFERROR(HLOOKUP(Y213,[1]DATA!$A$1:$NB$5,4,0),\"\")","v":"-"},null,null,null,null,0,"","",""]
["10zoZND",{"$f":"VLOOKUP($AA215,DATA!$B$3:$E215,2,0)","v":"00:00:00"},{"$f":"VLOOKUP($AA215,DATA!$B$3:$E215,3,0)","v":"00:00:00"},{"$f":"VLOOKUP($AA215,DATA!$B$3:$E215,4,0)","v":0},0,0,{"$f":"DATA!$C$9","v":0.89},{"$f":"DATA!$C$10","v":64},1,0,0,0,"","",0,"","",0,"","","","",null,{"$f":"X205","v":10},null,{"$f":"TEXT(Y213,\"ddd\")","v":"zo"},"ZND",{"$f":"IFERROR(HLOOKUP(Y213,[1]DATA!$A$1:$NB$5,5,0),\"\")","v":"D1"},null,null,null,null,0,"","",""]
["11maDD",{"$f":"VLOOKUP($AA216,DATA!$B$3:$E216,2,0)","v":"06:30:00"},{"$f":"VLOOKUP($AA216,DATA!$B$3:$E216,3,0)","v":"14:30:00"},{"$f":"VLOOKUP($AA216,DATA!$B$3:$E216,4,0)","v":3.125E-2},0.30208333333333331,0.22916666666666663,{"$f":"DATA!$C$9","v":0.89},{"$f":"DATA!$C$10","v":64},1,309.37499999999994,407.8125,7.2916666666666671E-2,98.4375,0.2413793103448276,{"$f":"TIME(INT($AD216/60),INT(MOD($AD216,60)/1),0)","v":0},"","",357.33333333333331,315,"","",315,null,{"$f":"X226","v":11},{"$f":"Y213+1","v":"2018-03-12"},{"$f":"TEXT(Y216,\"ddd\")","v":"ma"},"DD",{"$f":"IFERROR(HLOOKUP(Y216,[1]DATA!$A$1:$NB$5,3,0),\"\")","v":"D3"},105,null,20,335,60,-22.5,0.72258064516129028,0.85623003194888181,4359.375,2828,0.64871684587813616,491.25,0.11268817204301075,0,0,0.90767881144245022,"",0.87131408310419811,0.94404353978070255,1040.125,0.2385949820788531,1109.4666666666667,376]
["11maMD",{"$f":"VLOOKUP($AA217,DATA!$B$3:$E217,2,0)","v":"14:30:00"},{"$f":"VLOOKUP($AA217,DATA!$B$3:$E217,3,0)","v":"22:30:00"},{"$f":"VLOOKUP($AA217,DATA!$B$3:$E217,4,0)","v":3.125E-2},0.30208333333333337,0.2902777777777778,{"$f":"DATA!$C$9","v":0.89},{"$f":"DATA!$C$10","v":64},1,391.87500000000006,407.81250000000006,1.1805555555555555E-2,15.9375,3.9080459770114935E-2,{"$f":"TIME(INT(AD217/60),INT(MOD(AD217,60)/1),0)","v":0},"","",393.6,350,"",350,"",null,{"$f":"X226","v":11},null,{"$f":"TEXT(Y216,\"ddd\")","v":"ma"},"MD",{"$f":"IFERROR(HLOOKUP(Y216,[1]DATA!$A$1:$NB$5,4,0),\"\")","v":"D2"},17,null,19,369,89,-69.999999999999943,0.80286738351254494,0.8155822627434729]
["11maND",{"$f":"VLOOKUP($AA218,DATA!$B$3:$E218,2,0)","v":"22:30:00"},{"$f":"VLOOKUP($AA218,DATA!$B$3:$E218,3,0)","v":"06:30:00"},{"$f":"VLOOKUP($AA218,DATA!$B$3:$E218,4,0)","v":3.125E-2},0.30208333333333326,0.30208333333333326,{"$f":"DATA!$C$9","v":0.89},{"$f":"DATA!$C$10","v":64},1,407.81249999999989,407.81249999999989,0,"","",0,"","",0,"","","","",null,{"$f":"X226","v":11},null,{"$f":"TEXT(Y216,\"ddd\")","v":"ma"},"ND",{"$f":"IFERROR(HLOOKUP(Y216,[1]DATA!$A$1:$NB$5,5,0),\"\")","v":"D1"},null,null,null,null,0,"","",""]
["11diDD",{"$f":"VLOOKUP($AA219,DATA!$B$3:$E219,2,0)","v":"06:30:00"},{"$f":"VLOOKUP($AA219,DATA!$B$3:$E219,3,0)","v":"14:30:00"},{"$f":"VLOOKUP($AA219,DATA!$B$3:$E219,4,0)","v":3.125E-2},0.30208333333333331,0.25138888888888888,{"$f":"DATA!$C$9","v":0.89},{"$f":"DATA!$C$10","v":64},1,339.375,407.8125,5.0694444444444452E-2,68.437500000000014,0.16781609195402303,0,"","",302.93333333333334,265,"","",265,null,{"$f":"X226","v":11},{"$f":"Y216+1","v":"2018-03-13"},{"$f":"TEXT(Y219,\"ddd\")","v":"di"},"DD",{"$f":"IFERROR(HLOOKUP(Y219,[1]DATA!$A$1:$NB$5,3,0),\"\")","v":"D3"},73,null,19,284,19,-102.50000000000006,0.60788530465949819,0.94098156968316427]
["11diMD",{"$f":"VLOOKUP($AA220,DATA!$B$3:$E220,2,0)","v":"14:30:00"},{"$f":"VLOOKUP($AA220,DATA!$B$3:$E220,3,0)","v":"22:30:00"},{"$f":"VLOOKUP($AA220,DATA!$B$3:$E220,4,0)","v":3.125E-2},{"$f":"(C220-B220+(B220>C220))-D220","v":0.30208333333333337},{"$f":"E220-O220-L220","v":0.25347222222222227},{"$f":"DATA!$C$9","v":0.89},{"$f":"DATA!$C$10","v":64},1,{"$f":"F220*86400/H220*I220","v":342.18750000000006},{"$f":"E220*86400/H220","v":407.81250000000006},4.8611111111111112E-2,65.625,0.16091954022988503,0,"","",{"$f":"AF220*AG$2","v":355.2},{"$f":"IF(AF220-AE220=0,\"\",AF220-AE220)","v":305},"",305,"",null,{"$f":"X226","v":11},null,{"$f":"TEXT(Y219,\"ddd\")","v":"di"},"MD",{"$f":"IFERROR(HLOOKUP(Y219,[1]DATA!$A$1:$NB$5,4,0),\"\")","v":"D2"},70,null,28,333,27,-65.312499999999943,0.699641577060932,0.92935635792778648]
["11diND",{"$f":"VLOOKUP($AA221,DATA!$B$3:$E221,2,0)","v":"22:30:00"},{"$f":"VLOOKUP($AA221,DATA!$B$3:$E221,3,0)","v":"06:30:00"},{"$f":"VLOOKUP($AA221,DATA!$B$3:$E221,4,0)","v":3.125E-2},0.30208333333333326,0.30208333333333326,{"$f":"DATA!$C$9","v":0.89},{"$f":"DATA!$C$10","v":64},1,407.81249999999989,407.81249999999989,0,"","",0,"","",0,"","","","",null,{"$f":"X226","v":11},null,{"$f":"TEXT(Y219,\"ddd\")","v":"di"},"ND",{"$f":"IFERROR(HLOOKUP(Y219,[1]DATA!$A$1:$NB$5,5,0),\"\")","v":"D1"},null,null,null,null,0,"","",""]
["11woDD",{"$f":"VLOOKUP($AA222,DATA!$B$3:$E222,2,0)","v":"06:30:00"},{"$f":"VLOOKUP($AA222,DATA!$B$3:$E222,3,0)","v":"14:30:00"},{"$f":"VLOOKUP($AA222,DATA!$B$3:$E222,4,0)","v":3.125E-2},0.30208333333333331,0.23194444444444443,{"$f":"DATA!$C$9","v":0.89},{"$f":"DATA!$C$10","v":64},1,313.125,407.8125,7.013888888888889E-2,94.6875,0.23218390804597702,0,"","",300.8,262,"","",262,null,{"$f":"X226","v":11},{"$f":"Y219+1","v":"2018-03-14"},{"$f":"TEXT(Y222,\"ddd\")","v":"wo"},"DD",{"$f":"IFERROR(HLOOKUP(Y222,[1]DATA!$A$1:$NB$5,3,0),\"\")","v":"D3"},101,null,20,282,5,-79.25,0.60100358422939071,0.98364944408109878]
["11woMD",{"$f":"VLOOKUP($AA223,DATA!$B$3:$E223,2,0)","v":"14:30:00"},{"$f":"VLOOKUP($AA223,DATA!$B$3:$E223,3,0)","v":"22:30:00"},{"$f":"VLOOKUP($AA223,DATA!$B$3:$E223,4,0)","v":3.125E-2},0.30208333333333337,0.2590277777777778,{"$f":"DATA!$C$9","v":0.89},{"$f":"DATA!$C$10","v":64},1,349.68750000000006,407.81250000000006,4.3055555555555562E-2,58.125000000000007,0.14252873563218391,0,"","",315.73333333333335,280,"",280,"",null,{"$f":"X226","v":11},null,{"$f":"TEXT(Y222,\"ddd\")","v":"wo"},"MD",{"$f":"IFERROR(HLOOKUP(Y222,[1]DATA!$A$1:$NB$5,4,0),\"\")","v":"D2"},62,null,16,296,69,-97.812499999999943,0.64229390681003595,0.82065499913359907]
["11woND",{"$f":"VLOOKUP($AA224,DATA!$B$3:$E224,2,0)","v":"22:30:00"},{"$f":"VLOOKUP($AA224,DATA!$B$3:$E224,3,0)","v":"06:30:00"},{"$f":"VLOOKUP($AA224,DATA!$B$3:$E224,4,0)","v":3.125E-2},0.30208333333333326,0.30208333333333326,{"$f":"DATA!$C$9","v":0.89},{"$f":"DATA!$C$10","v":64},1,407.81249999999989,407.81249999999989,0,"","",0,"","",0,"","","","",null,{"$f":"X226","v":11},null,{"$f":"TEXT(Y222,\"ddd\")","v":"wo"},"ND",{"$f":"IFERROR(HLOOKUP(Y222,[1]DATA!$A$1:$NB$5,5,0),\"\")","v":"D1"},null,null,null,null,0,"","",""]
["11doDD",{"$f":"VLOOKUP($AA225,DATA!$B$3:$E225,2,0)","v":"06:30:00"},{"$f":"VLOOKUP($AA225,DATA!$B$3:$E225,3,0)","v":"14:30:00"},{"$f":"VLOOKUP($AA225,DATA!$B$3:$E225,4,0)","v":3.125E-2},0.30208333333333331,0.25972222222222219,{"$f":"DATA!$C$9","v":0.89},{"$f":"DATA!$C$10","v":64},1,350.62499999999994,407.8125,4.2361111111111106E-2,57.187499999999993,0.14022988505747125,0,"","",356.26666666666665,300,"","",300,null,{"$f":"X226","v":11},{"$f":"Y222+1","v":"2018-03-15"},{"$f":"TEXT(Y225,\"ddd\")","v":"do"},"DD",{"$f":"IFERROR(HLOOKUP(Y225,[1]DATA!$A$1:$NB$5,3,0),\"\")","v":"D3"},61,null,34,334,23,-78.75,0.68817204301075274,0.93935665319036732]
["11doMD",{"$f":"VLOOKUP($AA226,DATA!$B$3:$E226,2,0)","v":"14:30:00"},{"$f":"VLOOKUP($AA226,DATA!$B$3:$E226,3,0)","v":"22:30:00"},{"$f":"VLOOKUP($AA226,DATA!$B$3:$E226,4,0)","v":3.125E-2},0.30208333333333337,0.27777777777777779,{"$f":"DATA!$C$9","v":0.89},{"$f":"DATA!$C$10","v":64},1,375,407.81250000000006,2.4305555555555556E-2,32.8125,8.0459770114942514E-2,0,"","",277.33333333333331,244,"",244,"",null,{"$f":"WEEKNUM($Y216)","v":11},null,{"$f":"TEXT(Y225,\"ddd\")","v":"do"},"MD",{"$f":"IFERROR(HLOOKUP(Y225,[1]DATA!$A$1:$NB$5,4,0),\"\")","v":"D2"},35,null,16,260,4,-159.12499999999994,0.55971326164874557,0.98578199052132698]
["11doND",{"$f":"VLOOKUP($AA227,DATA!$B$3:$E227,2,0)","v":"22:30:00"},{"$f":"VLOOKUP($AA227,DATA!$B$3:$E227,3,0)","v":"06:30:00"},{"$f":"VLOOKUP($AA227,DATA!$B$3:$E227,4,0)","v":3.125E-2},0.30208333333333326,0.30208333333333326,{"$f":"DATA!$C$9","v":0.89},{"$f":"DATA!$C$10","v":64},1,407.81249999999989,407.81249999999989,0,"","",0,"","",0,"","","","",null,{"$f":"X226","v":11},null,{"$f":"TEXT(Y225,\"ddd\")","v":"do"},"ND",{"$f":"IFERROR(HLOOKUP(Y225,[1]DATA!$A$1:$NB$5,5,0),\"\")","v":"D1"},null,null,null,null,0,"","",""]
["11vrDD",{"$f":"VLOOKUP($AA228,DATA!$B$3:$E228,2,0)","v":"06:30:00"},{"$f":"VLOOKUP($AA228,DATA!$B$3:$E228,3,0)","v":"14:30:00"},{"$f":"VLOOKUP($AA228,DATA!$B$3:$E228,4,0)","v":3.125E-2},0.30208333333333331,0.30208333333333331,{"$f":"DATA!$C$9","v":0.89},{"$f":"DATA!$C$10","v":64},1,407.8125,407.8125,0,"","",0,"","",252.79999999999998,221,"","",221,null,{"$f":"X226","v":11},{"$f":"Y225+1","v":"2018-03-16"},{"$f":"TEXT(Y228,\"ddd\")","v":"vr"},"DD",{"$f":"IFERROR(HLOOKUP(Y228,[1]DATA!$A$1:$NB$5,3,0),\"\")","v":"D3"},0,null,16,237,0,-214.9375,0.50695340501792119,1]
["11vrMD",{"$f":"VLOOKUP($AA229,DATA!$B$3:$E229,2,0)","v":"14:30:00"},{"$f":"VLOOKUP($AA229,DATA!$B$3:$E229,3,0)","v":"22:30:00"},{"$f":"VLOOKUP($AA229,DATA!$B$3:$E229,4,0)","v":3.125E-2},0.30208333333333337,0.30208333333333337,{"$f":"DATA!$C$9","v":0.89},{"$f":"DATA!$C$10","v":64},1,407.81250000000006,407.81250000000006,0,"","",0,"","",330.66666666666669,286,"",286,"",null,{"$f":"X226","v":11},null,{"$f":"TEXT(Y228,\"ddd\")","v":"vr"},"MD",{"$f":"IFERROR(HLOOKUP(Y228,[1]DATA!$A$1:$NB$5,4,0),\"\")","v":"D2"},0,null,24,310,80,-149.93749999999994,0.65605734767025103,0.80519480519480524]
["11vrND",{"$f":"VLOOKUP($AA230,DATA!$B$3:$E230,2,0)","v":"22:30:00"},{"$f":"VLOOKUP($AA230,DATA!$B$3:$E230,3,0)","v":"06:30:00"},{"$f":"VLOOKUP($AA230,DATA!$B$3:$E230,4,0)","v":3.125E-2},0.30208333333333326,0.30208333333333326,{"$f":"DATA!$C$9","v":0.89},{"$f":"DATA!$C$10","v":64},1,407.81249999999989,407.81249999999989,0,"","",0,"","",0,"","","","",null,{"$f":"X226","v":11},null,{"$f":"TEXT(Y228,\"ddd\")","v":"vr"},"ND",{"$f":"IFERROR(HLOOKUP(Y228,[1]DATA!$A$1:$NB$5,5,0),\"\")","v":"-"},null,null,null,null,0,"","",""]
["11zaDD",{"$f":"VLOOKUP($AA231,DATA!$B$3:$E231,2,0)","v":"06:30:00"},{"$f":"VLOOKUP($AA231,DATA!$B$3:$E231,3,0)","v":"14:30:00"},{"$f":"VLOOKUP($AA231,DATA!$B$3:$E231,4,0)","v":3.125E-2},0.30208333333333331,0.30208333333333331,{"$f":"DATA!$C$9","v":0.89},{"$f":"DATA!$C$10","v":64},1,407.8125,407.8125,0,"","",0,"","",0,"","","","",null,{"$f":"X226","v":11},{"$f":"Y228+1","v":"2018-03-17"},{"$f":"TEXT(Y231,\"ddd\")","v":"za"},"DD",{"$f":"IFERROR(HLOOKUP(Y231,[1]DATA!$A$1:$NB$5,3,0),\"\")","v":"-"},null,null,null,null,0,"","",""]
["11zaMD",{"$f":"VLOOKUP($AA232,DATA!$B$3:$E232,2,0)","v":"14:30:00"},{"$f":"VLOOKUP($AA232,DATA!$B$3:$E232,3,0)","v":"22:30:00"},{"$f":"VLOOKUP($AA232,DATA!$B$3:$E232,4,0)","v":3.125E-2},0.30208333333333337,0.30208333333333337,{"$f":"DATA!$C$9","v":0.89},{"$f":"DATA!$C$10","v":64},1,407.81250000000006,407.81250000000006,0,"","",0,"","",0,"","","","",null,{"$f":"X226","v":11},null,{"$f":"TEXT(Y231,\"ddd\")","v":"za"},"MD",{"$f":"IFERROR(HLOOKUP(Y231,[1]DATA!$A$1:$NB$5,4,0),\"\")","v":"-"},null,null,null,null,0,"","",""]
["11zaND",{"$f":"VLOOKUP($AA233,DATA!$B$3:$E233,2,0)","v":"22:30:00"},{"$f":"VLOOKUP($AA233,DATA!$B$3:$E233,3,0)","v":"06:30:00"},{"$f":"VLOOKUP($AA233,DATA!$B$3:$E233,4,0)","v":3.125E-2},0.30208333333333326,0.30208333333333326,{"$f":"DATA!$C$9","v":0.89},{"$f":"DATA!$C$10","v":64},1,407.81249999999989,407.81249999999989,0,"","",0,"","",0,"","","","",null,{"$f":"X226","v":11},null,{"$f":"TEXT(Y231,\"ddd\")","v":"za"},"ND",{"$f":"IFERROR(HLOOKUP(Y231,[1]DATA!$A$1:$NB$5,5,0),\"\")","v":"-"},null,null,null,null,0,"","",""]
["11zoDD",{"$f":"VLOOKUP($AA234,DATA!$B$3:$E234,2,0)","v":"06:30:00"},{"$f":"VLOOKUP($AA234,DATA!$B$3:$E234,3,0)","v":"14:30:00"},{"$f":"VLOOKUP($AA234,DATA!$B$3:$E234,4,0)","v":3.125E-2},0.30208333333333331,0.30208333333333331,{"$f":"DATA!$C$9","v":0.89},{"$f":"DATA!$C$10","v":64},1,407.8125,407.8125,0,"","",0,"","",0,"","","","",null,{"$f":"X226","v":11},{"$f":"Y231+1","v":"2018-03-18"},{"$f":"TEXT(Y234,\"ddd\")","v":"zo"},"DD",{"$f":"IFERROR(HLOOKUP(Y234,[1]DATA!$A$1:$NB$5,3,0),\"\")","v":"-"},null,null,null,null,0,"","",""]
["11zoMD",{"$f":"VLOOKUP($AA235,DATA!$B$3:$E235,2,0)","v":"14:30:00"},{"$f":"VLOOKUP($AA235,DATA!$B$3:$E235,3,0)","v":"22:30:00"},{"$f":"VLOOKUP($AA235,DATA!$B$3:$E235,4,0)","v":3.125E-2},0.30208333333333337,0.30208333333333337,{"$f":"DATA!$C$9","v":0.89},{"$f":"DATA!$C$10","v":64},1,407.81250000000006,407.81250000000006,0,"","",0,"","",0,"","","","",null,{"$f":"X226","v":11},null,{"$f":"TEXT(Y234,\"ddd\")","v":"zo"},"MD",{"$f":"IFERROR(HLOOKUP(Y234,[1]DATA!$A$1:$NB$5,4,0),\"\")","v":"-"},null,null,null,null,0,"","",""]
["11zoZND",{"$f":"VLOOKUP($AA236,DATA!$B$3:$E236,2,0)","v":"00:00:00"},{"$f":"VLOOKUP($AA236,DATA!$B$3:$E236,3,0)","v":"00:00:00"},{"$f":"VLOOKUP($AA236,DATA!$B$3:$E236,4,0)","v":0},0,0,{"$f":"DATA!$C$9","v":0.89},{"$f":"DATA!$C$10","v":64},1,0,0,0,"","",0,"","",0,"","","","",null,{"$f":"X226","v":11},null,{"$f":"TEXT(Y234,\"ddd\")","v":"zo"},"ZND",{"$f":"IFERROR(HLOOKUP(Y234,[1]DATA!$A$1:$NB$5,5,0),\"\")","v":"D3"},null,null,null,null,0,"","",""]
["12maDD",{"$f":"VLOOKUP($AA237,DATA!$B$3:$E237,2,0)","v":"06:30:00"},{"$f":"VLOOKUP($AA237,DATA!$B$3:$E237,3,0)","v":"14:30:00"},{"$f":"VLOOKUP($AA237,DATA!$B$3:$E237,4,0)","v":3.125E-2},0.30208333333333331,0.27013888888888887,{"$f":"DATA!$C$9","v":0.89},{"$f":"DATA!$C$10","v":64},1,364.6875,407.8125,3.1944444444444449E-2,43.125000000000007,0.10574712643678162,{"$f":"TIME(INT($AD237/60),INT(MOD($AD237,60)/1),0)","v":0},"","",236.79999999999998,215,"",215,"",null,{"$f":"X247","v":12},{"$f":"Y234+1","v":"2018-03-19"},{"$f":"TEXT(Y237,\"ddd\")","v":"ma"},"DD",{"$f":"IFERROR(HLOOKUP(Y237,[1]DATA!$A$1:$NB$5,3,0),\"\")","v":"D2"},46,null,7,222,19,-177.8125,0.49318996415770611,0.92572322126661455,4359.375,3033,0.69574193548387098,392.8125,9.0107526881720426E-2,0,0,0.95018354338542144,0.98153102396130854,0.91883606280953456,"",933.5625,0.21415053763440861,995.8,188]
["12maMD",{"$f":"VLOOKUP($AA238,DATA!$B$3:$E238,2,0)","v":"14:30:00"},{"$f":"VLOOKUP($AA238,DATA!$B$3:$E238,3,0)","v":"22:30:00"},{"$f":"VLOOKUP($AA238,DATA!$B$3:$E238,4,0)","v":3.125E-2},0.30208333333333337,0.28333333333333338,{"$f":"DATA!$C$9","v":0.89},{"$f":"DATA!$C$10","v":64},1,382.50000000000006,407.81250000000006,1.8749999999999999E-2,25.3125,6.2068965517241372E-2,{"$f":"TIME(INT(AD238/60),INT(MOD(AD238,60)/1),0)","v":0},"","",283.73333333333335,249,249,"","",null,{"$f":"X247","v":12},null,{"$f":"TEXT(Y237,\"ddd\")","v":"ma"},"MD",{"$f":"IFERROR(HLOOKUP(Y237,[1]DATA!$A$1:$NB$5,4,0),\"\")","v":"D1"},27,null,17,266,5,-161.62499999999994,0.57118279569892483,0.98268298314477032]
["12maND",{"$f":"VLOOKUP($AA239,DATA!$B$3:$E239,2,0)","v":"22:30:00"},{"$f":"VLOOKUP($AA239,DATA!$B$3:$E239,3,0)","v":"06:30:00"},{"$f":"VLOOKUP($AA239,DATA!$B$3:$E239,4,0)","v":3.125E-2},0.30208333333333326,0.30208333333333326,{"$f":"DATA!$C$9","v":0.89},{"$f":"DATA!$C$10","v":64},1,407.81249999999989,407.81249999999989,0,"","",0,"","",0,"","","","",null,{"$f":"X247","v":12},null,{"$f":"TEXT(Y237,\"ddd\")","v":"ma"},"ND",{"$f":"IFERROR(HLOOKUP(Y237,[1]DATA!$A$1:$NB$5,5,0),\"\")","v":"D3"},null,null,null,null,0,"","",""]
[{"$f":"X240&Z240&AA240","v":"12diDD"},{"$f":"VLOOKUP($AA240,DATA!$B$3:$E240,2,0)","v":"06:30:00"},{"$f":"VLOOKUP($AA240,DATA!$B$3:$E240,3,0)","v":"14:30:00"},{"$f":"VLOOKUP($AA240,DATA!$B$3:$E240,4,0)","v":3.125E-2},0.30208333333333331,0.27708333333333329,{"$f":"DATA!$C$9","v":0.89},{"$f":"DATA!$C$10","v":64},1,374.06249999999994,407.8125,2.4999999999999998E-2,33.75,8.2758620689655171E-2,0,{"$f":"IF($O240*86400/$H240=0,\"\",$O240*86400/$H240)","v":""},"",359.46666666666664,315,"",315,"",null,{"$f":"X247","v":12},{"$f":"Y237+1","v":"2018-03-20"},{"$f":"TEXT(Y240,\"ddd\")","v":"di"},"DD",{"$f":"IFERROR(HLOOKUP(Y240,[1]DATA!$A$1:$NB$5,3,0),\"\")","v":"D2"},36,null,22,337,23,-87.1875,0.72258064516129028,0.93986404043925398]
["12diMD",{"$f":"VLOOKUP($AA241,DATA!$B$3:$E241,2,0)","v":"14:30:00"},{"$f":"VLOOKUP($AA241,DATA!$B$3:$E241,3,0)","v":"22:30:00"},{"$f":"VLOOKUP($AA241,DATA!$B$3:$E241,4,0)","v":3.125E-2},0.30208333333333337,0.25972222222222224,{"$f":"DATA!$C$9","v":0.89},{"$f":"DATA!$C$10","v":64},1,350.625,407.81250000000006,4.2361111111111106E-2,57.187499999999993,0.14022988505747122,0,"","",334.93333333333334,297,297,"","",null,{"$f":"X247","v":12},null,{"$f":"TEXT(Y240,\"ddd\")","v":"di"},"MD",{"$f":"IFERROR(HLOOKUP(Y240,[1]DATA!$A$1:$NB$5,4,0),\"\")","v":"D1"},61,null,17,314,20,-81.749999999999943,0.68129032258064526,0.94365138993238162]
["12diND",{"$f":"VLOOKUP($AA242,DATA!$B$3:$E242,2,0)","v":"22:30:00"},{"$f":"VLOOKUP($AA242,DATA!$B$3:$E242,3,0)","v":"06:30:00"},{"$f":"VLOOKUP($AA242,DATA!$B$3:$E242,4,0)","v":3.125E-2},0.30208333333333326,0.30208333333333326,{"$f":"DATA!$C$9","v":0.89},{"$f":"DATA!$C$10","v":64},1,407.81249999999989,407.81249999999989,0,"","",0,"","",0,"","","","",null,{"$f":"X247","v":12},null,{"$f":"TEXT(Y240,\"ddd\")","v":"di"},"ND",{"$f":"IFERROR(HLOOKUP(Y240,[1]DATA!$A$1:$NB$5,5,0),\"\")","v":"D3"},null,null,null,null,0,"","",""]
["12woDD",{"$f":"VLOOKUP($AA243,DATA!$B$3:$E243,2,0)","v":"06:30:00"},{"$f":"VLOOKUP($AA243,DATA!$B$3:$E243,3,0)","v":"14:30:00"},{"$f":"VLOOKUP($AA243,DATA!$B$3:$E243,4,0)","v":3.125E-2},0.30208333333333331,0.27986111111111112,{"$f":"DATA!$C$9","v":0.89},{"$f":"DATA!$C$10","v":64},1,377.8125,407.8125,2.2222222222222223E-2,30,7.3563218390804597E-2,0,"","",414.93333333333334,355,"",355,"",null,{"$f":"X247","v":12},{"$f":"Y240+1","v":"2018-03-21"},{"$f":"TEXT(Y243,\"ddd\")","v":"wo"},"DD",{"$f":"IFERROR(HLOOKUP(Y243,[1]DATA!$A$1:$NB$5,3,0),\"\")","v":"D2"},32,null,34,389,43,-50.937500000000057,0.81433691756272397,0.90609986897656136]
["12woMD",{"$f":"VLOOKUP($AA244,DATA!$B$3:$E244,2,0)","v":"14:30:00"},{"$f":"VLOOKUP($AA244,DATA!$B$3:$E244,3,0)","v":"22:30:00"},{"$f":"VLOOKUP($AA244,DATA!$B$3:$E244,4,0)","v":3.125E-2},0.30208333333333337,0.27222222222222225,{"$f":"DATA!$C$9","v":0.89},{"$f":"DATA!$C$10","v":64},1,367.50000000000006,407.81250000000006,2.9861111111111113E-2,40.3125,9.8850574712643663E-2,0,"","",376.5333333333333,334,334,"","",null,{"$f":"X247","v":12},null,{"$f":"TEXT(Y243,\"ddd\")","v":"wo"},"MD",{"$f":"IFERROR(HLOOKUP(Y243,[1]DATA!$A$1:$NB$5,4,0),\"\")","v":"D1"},43,null,19,353,0,-61.624999999999943,0.76616487455197146,1]
["12woND",{"$f":"VLOOKUP($AA245,DATA!$B$3:$E245,2,0)","v":"22:30:00"},{"$f":"VLOOKUP($AA245,DATA!$B$3:$E245,3,0)","v":"06:30:00"},{"$f":"VLOOKUP($AA245,DATA!$B$3:$E245,4,0)","v":3.125E-2},0.30208333333333326,0.30208333333333326,{"$f":"DATA!$C$9","v":0.89},{"$f":"DATA!$C$10","v":64},1,407.81249999999989,407.81249999999989,0,"","",0,"","",0,"","","","",null,{"$f":"X247","v":12},null,{"$f":"TEXT(Y243,\"ddd\")","v":"wo"},"ND",{"$f":"IFERROR(HLOOKUP(Y243,[1]DATA!$A$1:$NB$5,5,0),\"\")","v":"D3"},null,null,null,null,0,"","",""]
["12doDD",{"$f":"VLOOKUP($AA246,DATA!$B$3:$E246,2,0)","v":"06:30:00"},{"$f":"VLOOKUP($AA246,DATA!$B$3:$E246,3,0)","v":"14:30:00"},{"$f":"VLOOKUP($AA246,DATA!$B$3:$E246,4,0)","v":3.125E-2},0.30208333333333331,0.27777777777777773,{"$f":"DATA!$C$9","v":0.89},{"$f":"DATA!$C$10","v":64},1,374.99999999999994,407.8125,2.4305555555555556E-2,32.8125,8.0459770114942528E-2,0,"","",375.46666666666664,315,"",315,"",null,{"$f":"X247","v":12},{"$f":"Y243+1","v":"2018-03-22"},{"$f":"TEXT(Y246,\"ddd\")","v":"do"},"DD",{"$f":"IFERROR(HLOOKUP(Y246,[1]DATA!$A$1:$NB$5,3,0),\"\")","v":"D2"},35,null,37,352,26,-88.125,0.72258064516129028,0.9352374626369977]
["12doMD",{"$f":"VLOOKUP($AA247,DATA!$B$3:$E247,2,0)","v":"14:30:00"},{"$f":"VLOOKUP($AA247,DATA!$B$3:$E247,3,0)","v":"22:30:00"},{"$f":"VLOOKUP($AA247,DATA!$B$3:$E247,4,0)","v":3.125E-2},0.30208333333333337,0.27638888888888891,{"$f":"DATA!$C$9","v":0.89},{"$f":"DATA!$C$10","v":64},1,373.125,407.81250000000006,2.5694444444444447E-2,34.6875,8.5057471264367801E-2,0,"","",361.6,321,321,"","",null,{"$f":"WEEKNUM($Y237)","v":12},null,{"$f":"TEXT(Y246,\"ddd\")","v":"do"},"MD",{"$f":"IFERROR(HLOOKUP(Y246,[1]DATA!$A$1:$NB$5,4,0),\"\")","v":"D1"},37,null,18,339,2,-80.249999999999943,0.73634408602150547,0.99449944994499451]
["12doND",{"$f":"VLOOKUP($AA248,DATA!$B$3:$E248,2,0)","v":"22:30:00"},{"$f":"VLOOKUP($AA248,DATA!$B$3:$E248,3,0)","v":"06:30:00"},{"$f":"VLOOKUP($AA248,DATA!$B$3:$E248,4,0)","v":3.125E-2},0.30208333333333326,0.30208333333333326,{"$f":"DATA!$C$9","v":0.89},{"$f":"DATA!$C$10","v":64},1,407.81249999999989,407.81249999999989,0,"","",0,"","",0,"","","","",null,{"$f":"X247","v":12},null,{"$f":"TEXT(Y246,\"ddd\")","v":"do"},"ND",{"$f":"IFERROR(HLOOKUP(Y246,[1]DATA!$A$1:$NB$5,5,0),\"\")","v":"D3"},null,null,null,null,0,"","",""]
["12vrDD",{"$f":"VLOOKUP($AA249,DATA!$B$3:$E249,2,0)","v":"06:30:00"},{"$f":"VLOOKUP($AA249,DATA!$B$3:$E249,3,0)","v":"14:30:00"},{"$f":"VLOOKUP($AA249,DATA!$B$3:$E249,4,0)","v":3.125E-2},0.30208333333333331,0.24861111111111109,{"$f":"DATA!$C$9","v":0.89},{"$f":"DATA!$C$10","v":64},1,335.62499999999994,407.8125,5.347222222222222E-2,72.1875,0.17701149425287357,0,"","",354.13333333333333,304,"",304,"",null,{"$f":"X247","v":12},{"$f":"Y246+1","v":"2018-03-23"},{"$f":"TEXT(Y249,\"ddd\")","v":"vr"},"DD",{"$f":"IFERROR(HLOOKUP(Y249,[1]DATA!$A$1:$NB$5,3,0),\"\")","v":"D2"},77,null,28,332,45,-59.750000000000057,0.69734767025089606,0.88725572072824455]
["12vrMD",{"$f":"VLOOKUP($AA250,DATA!$B$3:$E250,2,0)","v":"14:30:00"},{"$f":"VLOOKUP($AA250,DATA!$B$3:$E250,3,0)","v":"22:30:00"},{"$f":"VLOOKUP($AA250,DATA!$B$3:$E250,4,0)","v":3.125E-2},0.30208333333333337,0.28472222222222227,{"$f":"DATA!$C$9","v":0.89},{"$f":"DATA!$C$10","v":64},1,384.37500000000006,407.81250000000006,1.7361111111111112E-2,23.4375,5.7471264367816084E-2,0,"","",374.4,328,328,"","",null,{"$f":"X247","v":12},null,{"$f":"TEXT(Y249,\"ddd\")","v":"vr"},"MD",{"$f":"IFERROR(HLOOKUP(Y249,[1]DATA!$A$1:$NB$5,4,0),\"\")","v":"D1"},25,null,23,351,5,-84.499999999999943,0.75240143369175638,0.98682129678439645]
["12vrND",{"$f":"VLOOKUP($AA251,DATA!$B$3:$E251,2,0)","v":"22:30:00"},{"$f":"VLOOKUP($AA251,DATA!$B$3:$E251,3,0)","v":"06:30:00"},{"$f":"VLOOKUP($AA251,DATA!$B$3:$E251,4,0)","v":3.125E-2},0.30208333333333326,0.30208333333333326,{"$f":"DATA!$C$9","v":0.89},{"$f":"DATA!$C$10","v":64},1,407.81249999999989,407.81249999999989,0,"","",0,"","",0,"","","","",null,{"$f":"X247","v":12},null,{"$f":"TEXT(Y249,\"ddd\")","v":"vr"},"ND",{"$f":"IFERROR(HLOOKUP(Y249,[1]DATA!$A$1:$NB$5,5,0),\"\")","v":"-"},null,null,null,null,0,"","",""]
["12zaDD",{"$f":"VLOOKUP($AA252,DATA!$B$3:$E252,2,0)","v":"06:30:00"},{"$f":"VLOOKUP($AA252,DATA!$B$3:$E252,3,0)","v":"14:30:00"},{"$f":"VLOOKUP($AA252,DATA!$B$3:$E252,4,0)","v":3.125E-2},0.30208333333333331,0.30208333333333331,{"$f":"DATA!$C$9","v":0.89},{"$f":"DATA!$C$10","v":64},1,407.8125,407.8125,0,"","",0,"","",0,"","","","",null,{"$f":"X247","v":12},{"$f":"Y249+1","v":"2018-03-24"},{"$f":"TEXT(Y252,\"ddd\")","v":"za"},"DD",{"$f":"IFERROR(HLOOKUP(Y252,[1]DATA!$A$1:$NB$5,3,0),\"\")","v":"-"},null,null,null,null,0,"","",""]
["12zaMD",{"$f":"VLOOKUP($AA253,DATA!$B$3:$E253,2,0)","v":"14:30:00"},{"$f":"VLOOKUP($AA253,DATA!$B$3:$E253,3,0)","v":"22:30:00"},{"$f":"VLOOKUP($AA253,DATA!$B$3:$E253,4,0)","v":3.125E-2},0.30208333333333337,0.30208333333333337,{"$f":"DATA!$C$9","v":0.89},{"$f":"DATA!$C$10","v":64},1,407.81250000000006,407.81250000000006,0,"","",0,"","",0,"","","","",null,{"$f":"X247","v":12},null,{"$f":"TEXT(Y252,\"ddd\")","v":"za"},"MD",{"$f":"IFERROR(HLOOKUP(Y252,[1]DATA!$A$1:$NB$5,4,0),\"\")","v":"-"},null,null,null,null,0,"","",""]
["12zaND",{"$f":"VLOOKUP($AA254,DATA!$B$3:$E254,2,0)","v":"22:30:00"},{"$f":"VLOOKUP($AA254,DATA!$B$3:$E254,3,0)","v":"06:30:00"},{"$f":"VLOOKUP($AA254,DATA!$B$3:$E254,4,0)","v":3.125E-2},0.30208333333333326,0.30208333333333326,{"$f":"DATA!$C$9","v":0.89},{"$f":"DATA!$C$10","v":64},1,407.81249999999989,407.81249999999989,0,"","",0,"","",0,"","","","",null,{"$f":"X247","v":12},null,{"$f":"TEXT(Y252,\"ddd\")","v":"za"},"ND",{"$f":"IFERROR(HLOOKUP(Y252,[1]DATA!$A$1:$NB$5,5,0),\"\")","v":"-"},null,null,null,null,0,"","",""]
["12zoDD",{"$f":"VLOOKUP($AA255,DATA!$B$3:$E255,2,0)","v":"06:30:00"},{"$f":"VLOOKUP($AA255,DATA!$B$3:$E255,3,0)","v":"14:30:00"},{"$f":"VLOOKUP($AA255,DATA!$B$3:$E255,4,0)","v":3.125E-2},0.30208333333333331,0.30208333333333331,{"$f":"DATA!$C$9","v":0.89},{"$f":"DATA!$C$10","v":64},1,407.8125,407.8125,0,"","",0,"","",0,"","","","",null,{"$f":"X247","v":12},{"$f":"Y252+1","v":"2018-03-25"},{"$f":"TEXT(Y255,\"ddd\")","v":"zo"},"DD",{"$f":"IFERROR(HLOOKUP(Y255,[1]DATA!$A$1:$NB$5,3,0),\"\")","v":"-"},null,null,null,null,0,"","",""]
["12zoMD",{"$f":"VLOOKUP($AA256,DATA!$B$3:$E256,2,0)","v":"14:30:00"},{"$f":"VLOOKUP($AA256,DATA!$B$3:$E256,3,0)","v":"22:30:00"},{"$f":"VLOOKUP($AA256,DATA!$B$3:$E256,4,0)","v":3.125E-2},0.30208333333333337,0.30208333333333337,{"$f":"DATA!$C$9","v":0.89},{"$f":"DATA!$C$10","v":64},1,407.81250000000006,407.81250000000006,0,"","",0,"","",0,"","","","",null,{"$f":"X247","v":12},null,{"$f":"TEXT(Y255,\"ddd\")","v":"zo"},"MD",{"$f":"IFERROR(HLOOKUP(Y255,[1]DATA!$A$1:$NB$5,4,0),\"\")","v":"-"},null,null,null,null,0,"","",""]
["12zoZND",{"$f":"VLOOKUP($AA257,DATA!$B$3:$E257,2,0)","v":"00:00:00"},{"$f":"VLOOKUP($AA257,DATA!$B$3:$E257,3,0)","v":"00:00:00"},{"$f":"VLOOKUP($AA257,DATA!$B$3:$E257,4,0)","v":0},0,0,{"$f":"DATA!$C$9","v":0.89},{"$f":"DATA!$C$10","v":64},1,0,0,0,"","",0,"","",0,"","","","",null,{"$f":"X247","v":12},null,{"$f":"TEXT(Y255,\"ddd\")","v":"zo"},"ZND",{"$f":"IFERROR(HLOOKUP(Y255,[1]DATA!$A$1:$NB$5,5,0),\"\")","v":"D2"},null,null,null,null,0,"","",""]
["13maDD",{"$f":"VLOOKUP($AA258,DATA!$B$3:$E258,2,0)","v":"06:30:00"},{"$f":"VLOOKUP($AA258,DATA!$B$3:$E258,3,0)","v":"14:30:00"},{"$f":"VLOOKUP($AA258,DATA!$B$3:$E258,4,0)","v":3.125E-2},0.30208333333333331,0.30208333333333331,{"$f":"DATA!$C$9","v":0.89},{"$f":"DATA!$C$10","v":64},1,407.8125,407.8125,0,"","",{"$f":"TIME(INT($AD258/60),INT(MOD($AD258,60)/1),0)","v":0},"","",353.06666666666666,331,331,"","",null,{"$f":"X268","v":13},{"$f":"Y255+1","v":"2018-03-26"},{"$f":"TEXT(Y258,\"ddd\")","v":"ma"},"DD",{"$f":"IFERROR(HLOOKUP(Y258,[1]DATA!$A$1:$NB$5,3,0),\"\")","v":"D1"},null,null,null,331,30,-104.9375,0.75928315412186376,0.92168465019143753,4359.375,3408,0.7817634408602151,"0",0,0,0,0.91628851546051349,0.9694539027557747,"",0.86312312816525227,951.375,0.2182365591397849,1014.8,358]
["13maMD",{"$f":"VLOOKUP($AA259,DATA!$B$3:$E259,2,0)","v":"14:30:00"},{"$f":"VLOOKUP($AA259,DATA!$B$3:$E259,3,0)","v":"22:30:00"},{"$f":"VLOOKUP($AA259,DATA!$B$3:$E259,4,0)","v":3.125E-2},0.30208333333333337,0.30208333333333337,{"$f":"DATA!$C$9","v":0.89},{"$f":"DATA!$C$10","v":64},1,407.81250000000006,407.81250000000006,0,"","",{"$f":"TIME(INT(AD259/60),INT(MOD(AD259,60)/1),0)","v":0},"","",340.26666666666665,319,"","",319,null,{"$f":"X268","v":13},null,{"$f":"TEXT(Y258,\"ddd\")","v":"ma"},"MD",{"$f":"IFERROR(HLOOKUP(Y258,[1]DATA!$A$1:$NB$5,4,0),\"\")","v":"D3"},null,null,null,319,34,-116.93749999999994,0.73175627240143382,0.90915568222301391]
["13maND",{"$f":"VLOOKUP($AA260,DATA!$B$3:$E260,2,0)","v":"22:30:00"},{"$f":"VLOOKUP($AA260,DATA!$B$3:$E260,3,0)","v":"06:30:00"},{"$f":"VLOOKUP($AA260,DATA!$B$3:$E260,4,0)","v":3.125E-2},0.30208333333333326,0.30208333333333326,{"$f":"DATA!$C$9","v":0.89},{"$f":"DATA!$C$10","v":64},1,407.81249999999989,407.81249999999989,0,"","",0,"","",0,"","","","",null,{"$f":"X268","v":13},null,{"$f":"TEXT(Y258,\"ddd\")","v":"ma"},"ND",{"$f":"IFERROR(HLOOKUP(Y258,[1]DATA!$A$1:$NB$5,5,0),\"\")","v":"D2"},null,null,null,null,0,"","",""]
["13diDD",{"$f":"VLOOKUP($AA261,DATA!$B$3:$E261,2,0)","v":"06:30:00"},{"$f":"VLOOKUP($AA261,DATA!$B$3:$E261,3,0)","v":"14:30:00"},{"$f":"VLOOKUP($AA261,DATA!$B$3:$E261,4,0)","v":3.125E-2},0.30208333333333331,0.30208333333333331,{"$f":"DATA!$C$9","v":0.89},{"$f":"DATA!$C$10","v":64},1,407.8125,407.8125,0,"","",0,"","",337.06666666666666,316,316,"","",null,{"$f":"X268","v":13},{"$f":"Y258+1","v":"2018-03-27"},{"$f":"TEXT(Y261,\"ddd\")","v":"di"},"DD",{"$f":"IFERROR(HLOOKUP(Y261,[1]DATA!$A$1:$NB$5,3,0),\"\")","v":"D1"},null,null,null,316,0,-119.9375,0.72487455197132622,1]
["13diMD",{"$f":"VLOOKUP($AA262,DATA!$B$3:$E262,2,0)","v":"14:30:00"},{"$f":"VLOOKUP($AA262,DATA!$B$3:$E262,3,0)","v":"22:30:00"},{"$f":"VLOOKUP($AA262,DATA!$B$3:$E262,4,0)","v":3.125E-2},0.30208333333333337,0.30208333333333337,{"$f":"DATA!$C$9","v":0.89},{"$f":"DATA!$C$10","v":64},1,407.81250000000006,407.81250000000006,0,"","",0,"","",332.8,312,"","",312,null,{"$f":"X268","v":13},null,{"$f":"TEXT(Y261,\"ddd\")","v":"di"},"MD",{"$f":"IFERROR(HLOOKUP(Y261,[1]DATA!$A$1:$NB$5,4,0),\"\")","v":"D3"},null,null,null,312,18,-123.93749999999994,0.71569892473118291,0.94868871151653367]
["13diND",{"$f":"VLOOKUP($AA263,DATA!$B$3:$E263,2,0)","v":"22:30:00"},{"$f":"VLOOKUP($AA263,DATA!$B$3:$E263,3,0)","v":"06:30:00"},{"$f":"VLOOKUP($AA263,DATA!$B$3:$E263,4,0)","v":3.125E-2},0.30208333333333326,0.30208333333333326,{"$f":"DATA!$C$9","v":0.89},{"$f":"DATA!$C$10","v":64},1,407.81249999999989,407.81249999999989,{"$f":"TIME(INT($AC263/60),INT(MOD($AC263,60)/1),0)","v":0},{"$f":"IF($L263*86400/$H263=0,\"\",$L263*86400/$H263)","v":""},{"$f":"IFERROR($M263/$K263,\"\")","v":""},0,"",{"$f":"IFERROR($P263/$K263,\"\")","v":""},0,"",{"$f":"IF(IF($AB263=\"D1\",$S263,\"\")=0,\"\",IF($AB263=\"D1\",$S263,\"\"))","v":""},{"$f":"IF(IF($AB263=\"D2\",$S263,\"\")=0,\"\",IF($AB263=\"D2\",$S263,\"\"))","v":""},{"$f":"IF(IF($AB263=\"D3\",$S263,\"\")=0,\"\",IF($AB263=\"D3\",$S263,\"\"))","v":""},null,{"$f":"X268","v":13},null,{"$f":"TEXT(Y261,\"ddd\")","v":"di"},"ND",{"$f":"IFERROR(HLOOKUP(Y261,[1]DATA!$A$1:$NB$5,5,0),\"\")","v":"D2"},null,null,null,null,0,"","",""]
["13woDD",{"$f":"VLOOKUP($AA264,DATA!$B$3:$E264,2,0)","v":"06:30:00"},{"$f":"VLOOKUP($AA264,DATA!$B$3:$E264,3,0)","v":"14:30:00"},{"$f":"VLOOKUP($AA264,DATA!$B$3:$E264,4,0)","v":3.125E-2},0.30208333333333331,0.30208333333333331,{"$f":"DATA!$C$9","v":0.89},{"$f":"DATA!$C$10","v":64},1,407.8125,407.8125,0,"","",0,"","",378.66666666666669,355,355,"","",null,{"$f":"X268","v":13},{"$f":"Y261+1","v":"2018-03-28"},{"$f":"TEXT(Y264,\"ddd\")","v":"wo"},"DD",{"$f":"IFERROR(HLOOKUP(Y264,[1]DATA!$A$1:$NB$5,3,0),\"\")","v":"D1"},null,null,null,355,18,-80.9375,0.81433691756272397,0.95462184873949585]
["13woMD",{"$f":"VLOOKUP($AA265,DATA!$B$3:$E265,2,0)","v":"14:30:00"},{"$f":"VLOOKUP($AA265,DATA!$B$3:$E265,3,0)","v":"22:30:00"},{"$f":"VLOOKUP($AA265,DATA!$B$3:$E265,4,0)","v":3.125E-2},0.30208333333333337,0.30208333333333337,{"$f":"DATA!$C$9","v":0.89},{"$f":"DATA!$C$10","v":64},1,407.81250000000006,407.81250000000006,0,"","",0,"","",336,315,"","",315,null,{"$f":"X268","v":13},null,{"$f":"TEXT(Y264,\"ddd\")","v":"wo"},"MD",{"$f":"IFERROR(HLOOKUP(Y264,[1]DATA!$A$1:$NB$5,4,0),\"\")","v":"D3"},null,null,null,315,97,-120.93749999999994,0.72258064516129039,0.77598152424942268]
["13woND",{"$f":"VLOOKUP($AA266,DATA!$B$3:$E266,2,0)","v":"22:30:00"},{"$f":"VLOOKUP($AA266,DATA!$B$3:$E266,3,0)","v":"06:30:00"},{"$f":"VLOOKUP($AA266,DATA!$B$3:$E266,4,0)","v":3.125E-2},0.30208333333333326,0.30208333333333326,{"$f":"DATA!$C$9","v":0.89},{"$f":"DATA!$C$10","v":64},1,407.81249999999989,407.81249999999989,0,"","",0,"","",0,"","","","",null,{"$f":"X268","v":13},null,{"$f":"TEXT(Y264,\"ddd\")","v":"wo"},"ND",{"$f":"IFERROR(HLOOKUP(Y264,[1]DATA!$A$1:$NB$5,5,0),\"\")","v":"D2"},null,null,null,null,0,"","",""]
["13doDD",{"$f":"VLOOKUP($AA267,DATA!$B$3:$E267,2,0)","v":"06:30:00"},{"$f":"VLOOKUP($AA267,DATA!$B$3:$E267,3,0)","v":"14:30:00"},{"$f":"VLOOKUP($AA267,DATA!$B$3:$E267,4,0)","v":3.125E-2},0.30208333333333331,0.30208333333333331,{"$f":"DATA!$C$9","v":0.89},{"$f":"DATA!$C$10","v":64},1,407.8125,407.8125,0,"","",0,"","",430.93333333333334,404,404,"","",null,{"$f":"X268","v":13},{"$f":"Y264+1","v":"2018-03-29"},{"$f":"TEXT(Y267,\"ddd\")","v":"do"},"DD",{"$f":"IFERROR(HLOOKUP(Y267,[1]DATA!$A$1:$NB$5,3,0),\"\")","v":"D1"},null,null,null,404,5,-31.9375,0.92673835125448034,0.98853035632359687]
["13doMD",{"$f":"VLOOKUP($AA268,DATA!$B$3:$E268,2,0)","v":"14:30:00"},{"$f":"VLOOKUP($AA268,DATA!$B$3:$E268,3,0)","v":"22:30:00"},{"$f":"VLOOKUP($AA268,DATA!$B$3:$E268,4,0)","v":3.125E-2},0.30208333333333337,0.30208333333333337,{"$f":"DATA!$C$9","v":0.89},{"$f":"DATA!$C$10","v":64},1,407.81250000000006,407.81250000000006,0,"","",0,"","",382.93333333333334,359,"","",359,null,{"$f":"WEEKNUM($Y258)","v":13},null,{"$f":"TEXT(Y267,\"ddd\")","v":"do"},"MD",{"$f":"IFERROR(HLOOKUP(Y267,[1]DATA!$A$1:$NB$5,4,0),\"\")","v":"D3"},null,null,null,359,116,-76.937499999999943,0.82351254480286751,0.76750400855157674]
["13doND",{"$f":"VLOOKUP($AA269,DATA!$B$3:$E269,2,0)","v":"22:30:00"},{"$f":"VLOOKUP($AA269,DATA!$B$3:$E269,3,0)","v":"06:30:00"},{"$f":"VLOOKUP($AA269,DATA!$B$3:$E269,4,0)","v":3.125E-2},0.30208333333333326,0.30208333333333326,{"$f":"DATA!$C$9","v":0.89},{"$f":"DATA!$C$10","v":64},1,407.81249999999989,407.81249999999989,0,"","",0,"","",0,"","","","",null,{"$f":"X268","v":13},null,{"$f":"TEXT(Y267,\"ddd\")","v":"do"},"ND",{"$f":"IFERROR(HLOOKUP(Y267,[1]DATA!$A$1:$NB$5,5,0),\"\")","v":"D2"},null,null,null,null,0,"","",""]
["13vrDD",{"$f":"VLOOKUP($AA270,DATA!$B$3:$E270,2,0)","v":"06:30:00"},{"$f":"VLOOKUP($AA270,DATA!$B$3:$E270,3,0)","v":"14:30:00"},{"$f":"VLOOKUP($AA270,DATA!$B$3:$E270,4,0)","v":3.125E-2},0.30208333333333331,0.30208333333333331,{"$f":"DATA!$C$9","v":0.89},{"$f":"DATA!$C$10","v":64},1,407.8125,407.8125,0,"","",0,"","",391.46666666666664,367,367,"","",null,{"$f":"X268","v":13},{"$f":"Y267+1","v":"2018-03-30"},{"$f":"TEXT(Y270,\"ddd\")","v":"vr"},"DD",{"$f":"IFERROR(HLOOKUP(Y270,[1]DATA!$A$1:$NB$5,3,0),\"\")","v":"D1"},null,null,null,367,7,-68.9375,0.84186379928315414,0.98243265852434336]
["13vrMD",{"$f":"VLOOKUP($AA271,DATA!$B$3:$E271,2,0)","v":"14:30:00"},{"$f":"VLOOKUP($AA271,DATA!$B$3:$E271,3,0)","v":"22:30:00"},{"$f":"VLOOKUP($AA271,DATA!$B$3:$E271,4,0)","v":3.125E-2},0.30208333333333337,0.30208333333333337,{"$f":"DATA!$C$9","v":0.89},{"$f":"DATA!$C$10","v":64},1,407.81250000000006,407.81250000000006,0,"","",0,"","",352,330,"","",330,null,{"$f":"X268","v":13},null,{"$f":"TEXT(Y270,\"ddd\")","v":"vr"},"MD",{"$f":"IFERROR(HLOOKUP(Y270,[1]DATA!$A$1:$NB$5,4,0),\"\")","v":"D3"},null,null,null,330,33,-105.93749999999994,0.75698924731182804,0.91428571428571426]
["13vrND",{"$f":"VLOOKUP($AA272,DATA!$B$3:$E272,2,0)","v":"22:30:00"},{"$f":"VLOOKUP($AA272,DATA!$B$3:$E272,3,0)","v":"06:30:00"},{"$f":"VLOOKUP($AA272,DATA!$B$3:$E272,4,0)","v":3.125E-2},0.30208333333333326,0.30208333333333326,{"$f":"DATA!$C$9","v":0.89},{"$f":"DATA!$C$10","v":64},1,407.81249999999989,407.81249999999989,0,"","",0,"","",0,"","","","",null,{"$f":"X268","v":13},null,{"$f":"TEXT(Y270,\"ddd\")","v":"vr"},"ND",{"$f":"IFERROR(HLOOKUP(Y270,[1]DATA!$A$1:$NB$5,5,0),\"\")","v":"-"},null,null,null,null,0,"","",""]
["13zaDD",{"$f":"VLOOKUP($AA273,DATA!$B$3:$E273,2,0)","v":"06:30:00"},{"$f":"VLOOKUP($AA273,DATA!$B$3:$E273,3,0)","v":"14:30:00"},{"$f":"VLOOKUP($AA273,DATA!$B$3:$E273,4,0)","v":3.125E-2},0.30208333333333331,0.30208333333333331,{"$f":"DATA!$C$9","v":0.89},{"$f":"DATA!$C$10","v":64},1,407.8125,407.8125,0,"","",0,"","",0,"","","","",null,{"$f":"X268","v":13},{"$f":"Y270+1","v":"2018-03-31"},{"$f":"TEXT(Y273,\"ddd\")","v":"za"},"DD",{"$f":"IFERROR(HLOOKUP(Y273,[1]DATA!$A$1:$NB$5,3,0),\"\")","v":"-"},null,null,null,null,0,"","",""]
["13zaMD",{"$f":"VLOOKUP($AA274,DATA!$B$3:$E274,2,0)","v":"14:30:00"},{"$f":"VLOOKUP($AA274,DATA!$B$3:$E274,3,0)","v":"22:30:00"},{"$f":"VLOOKUP($AA274,DATA!$B$3:$E274,4,0)","v":3.125E-2},0.30208333333333337,0.30208333333333337,{"$f":"DATA!$C$9","v":0.89},{"$f":"DATA!$C$10","v":64},1,407.81250000000006,407.81250000000006,0,"","",0,"","",0,"","","","",null,{"$f":"X268","v":13},null,{"$f":"TEXT(Y273,\"ddd\")","v":"za"},"MD",{"$f":"IFERROR(HLOOKUP(Y273,[1]DATA!$A$1:$NB$5,4,0),\"\")","v":"-"},null,null,null,null,0,"","",""]
["13zaND",{"$f":"VLOOKUP($AA275,DATA!$B$3:$E275,2,0)","v":"22:30:00"},{"$f":"VLOOKUP($AA275,DATA!$B$3:$E275,3,0)","v":"06:30:00"},{"$f":"VLOOKUP($AA275,DATA!$B$3:$E275,4,0)","v":3.125E-2},0.30208333333333326,0.30208333333333326,{"$f":"DATA!$C$9","v":0.89},{"$f":"DATA!$C$10","v":64},1,407.81249999999989,407.81249999999989,0,"","",0,"","",0,"","","","",null,{"$f":"X268","v":13},null,{"$f":"TEXT(Y273,\"ddd\")","v":"za"},"ND",{"$f":"IFERROR(HLOOKUP(Y273,[1]DATA!$A$1:$NB$5,5,0),\"\")","v":"-"},null,null,null,null,0,"","",""]
["13zoDD",{"$f":"VLOOKUP($AA276,DATA!$B$3:$E276,2,0)","v":"06:30:00"},{"$f":"VLOOKUP($AA276,DATA!$B$3:$E276,3,0)","v":"14:30:00"},{"$f":"VLOOKUP($AA276,DATA!$B$3:$E276,4,0)","v":3.125E-2},0.30208333333333331,0.30208333333333331,{"$f":"DATA!$C$9","v":0.89},{"$f":"DATA!$C$10","v":64},1,407.8125,407.8125,0,"","",0,"","",0,"","","","",null,{"$f":"X268","v":13},{"$f":"Y273+1","v":"2018-04-01"},{"$f":"TEXT(Y276,\"ddd\")","v":"zo"},"DD",{"$f":"IFERROR(HLOOKUP(Y276,[1]DATA!$A$1:$NB$5,3,0),\"\")","v":"-"},null,null,null,null,0,"","",""]
["13zoMD",{"$f":"VLOOKUP($AA277,DATA!$B$3:$E277,2,0)","v":"14:30:00"},{"$f":"VLOOKUP($AA277,DATA!$B$3:$E277,3,0)","v":"22:30:00"},{"$f":"VLOOKUP($AA277,DATA!$B$3:$E277,4,0)","v":3.125E-2},0.30208333333333337,0.30208333333333337,{"$f":"DATA!$C$9","v":0.89},{"$f":"DATA!$C$10","v":64},1,407.81250000000006,407.81250000000006,0,"","",0,"","",0,"","","","",null,{"$f":"X268","v":13},null,{"$f":"TEXT(Y276,\"ddd\")","v":"zo"},"MD",{"$f":"IFERROR(HLOOKUP(Y276,[1]DATA!$A$1:$NB$5,4,0),\"\")","v":"-"},null,null,null,null,0,"","",""]
["13zoZND",{"$f":"VLOOKUP($AA278,DATA!$B$3:$E278,2,0)","v":"00:00:00"},{"$f":"VLOOKUP($AA278,DATA!$B$3:$E278,3,0)","v":"00:00:00"},{"$f":"VLOOKUP($AA278,DATA!$B$3:$E278,4,0)","v":0},0,0,{"$f":"DATA!$C$9","v":0.89},{"$f":"DATA!$C$10","v":64},1,0,0,0,"","",0,"","",0,"","","","",null,{"$f":"X268","v":13},null,{"$f":"TEXT(Y276,\"ddd\")","v":"zo"},"ZND",{"$f":"IFERROR(HLOOKUP(Y276,[1]DATA!$A$1:$NB$5,5,0),\"\")","v":"-"},null,null,null,null,0,"","",""]
["14maDD",{"$f":"VLOOKUP($AA279,DATA!$B$3:$E279,2,0)","v":"06:30:00"},{"$f":"VLOOKUP($AA279,DATA!$B$3:$E279,3,0)","v":"14:30:00"},{"$f":"VLOOKUP($AA279,DATA!$B$3:$E279,4,0)","v":3.125E-2},0.30208333333333331,0.30208333333333331,{"$f":"DATA!$C$9","v":0.89},{"$f":"DATA!$C$10","v":64},1,407.8125,407.8125,0,"","",{"$f":"TIME(INT($AD279/60),INT(MOD($AD279,60)/1),0)","v":0},"","",0,"","","","",null,{"$f":"X289","v":14},{"$f":"Y276+1","v":"2018-04-02"},{"$f":"TEXT(Y279,\"ddd\")","v":"ma"},"DD",{"$f":"IFERROR(HLOOKUP(Y279,[1]DATA!$A$1:$NB$5,3,0),\"\")","v":"D3"},null,null,null,0,0,"","","",3487.5,2444,0.7007885304659498,475.3125,0.13629032258064516,0,0,0.91450103880275224,"",0.92857961849119086,0.90042245911431351,568.1875,0.16292114695340504,606.06666666666672,258]
["14maMD",{"$f":"VLOOKUP($AA280,DATA!$B$3:$E280,2,0)","v":"14:30:00"},{"$f":"VLOOKUP($AA280,DATA!$B$3:$E280,3,0)","v":"22:30:00"},{"$f":"VLOOKUP($AA280,DATA!$B$3:$E280,4,0)","v":3.125E-2},0.30208333333333337,0.30208333333333337,{"$f":"DATA!$C$9","v":0.89},{"$f":"DATA!$C$10","v":64},1,407.81250000000006,407.81250000000006,0,"","",{"$f":"TIME(INT(AD280/60),INT(MOD(AD280,60)/1),0)","v":0},"","",0,"","","","",null,{"$f":"X289","v":14},null,{"$f":"TEXT(Y279,\"ddd\")","v":"ma"},"MD",{"$f":"IFERROR(HLOOKUP(Y279,[1]DATA!$A$1:$NB$5,4,0),\"\")","v":"D2"},null,null,null,0,0,"","",""]
["14maND",{"$f":"VLOOKUP($AA281,DATA!$B$3:$E281,2,0)","v":"22:30:00"},{"$f":"VLOOKUP($AA281,DATA!$B$3:$E281,3,0)","v":"06:30:00"},{"$f":"VLOOKUP($AA281,DATA!$B$3:$E281,4,0)","v":3.125E-2},0.30208333333333326,0.30208333333333326,{"$f":"DATA!$C$9","v":0.89},{"$f":"DATA!$C$10","v":64},1,407.81249999999989,407.81249999999989,0,"","",0,"","",0,"","","","",null,{"$f":"X289","v":14},null,{"$f":"TEXT(Y279,\"ddd\")","v":"ma"},"ND",{"$f":"IFERROR(HLOOKUP(Y279,[1]DATA!$A$1:$NB$5,5,0),\"\")","v":"D1"},null,null,null,null,0,"","",""]
["14diDD",{"$f":"VLOOKUP($AA282,DATA!$B$3:$E282,2,0)","v":"06:30:00"},{"$f":"VLOOKUP($AA282,DATA!$B$3:$E282,3,0)","v":"14:30:00"},{"$f":"VLOOKUP($AA282,DATA!$B$3:$E282,4,0)","v":3.125E-2},0.30208333333333331,0.25416666666666665,{"$f":"DATA!$C$9","v":0.89},{"$f":"DATA!$C$10","v":64},1,343.125,407.8125,4.7916666666666663E-2,64.6875,0.15862068965517243,0,"","",329.6,299,"","",299,null,{"$f":"X289","v":14},{"$f":"Y279+1","v":"2018-04-03"},{"$f":"TEXT(Y282,\"ddd\")","v":"di"},"DD",{"$f":"IFERROR(HLOOKUP(Y282,[1]DATA!$A$1:$NB$5,3,0),\"\")","v":"D3"},69,null,10,309,35,-72.250000000000057,0.6858781362007168,0.90400438837081731]
["14diMD",{"$f":"VLOOKUP($AA283,DATA!$B$3:$E283,2,0)","v":"14:30:00"},{"$f":"VLOOKUP($AA283,DATA!$B$3:$E283,3,0)","v":"22:30:00"},{"$f":"VLOOKUP($AA283,DATA!$B$3:$E283,4,0)","v":3.125E-2},0.30208333333333337,0.27847222222222223,{"$f":"DATA!$C$9","v":0.89},{"$f":"DATA!$C$10","v":64},1,375.9375,407.81250000000006,2.361111111111111E-2,31.875,7.816091954022987E-2,0,"","",256,224,"",224,"",null,{"$f":"X289","v":14},null,{"$f":"TEXT(Y282,\"ddd\")","v":"di"},"MD",{"$f":"IFERROR(HLOOKUP(Y282,[1]DATA!$A$1:$NB$5,4,0),\"\")","v":"D2"},34,null,16,240,49,-180.06249999999989,0.51383512544802878,0.83934426229508197]
["14diND",{"$f":"VLOOKUP($AA284,DATA!$B$3:$E284,2,0)","v":"22:30:00"},{"$f":"VLOOKUP($AA284,DATA!$B$3:$E284,3,0)","v":"06:30:00"},{"$f":"VLOOKUP($AA284,DATA!$B$3:$E284,4,0)","v":3.125E-2},{"$f":"(C284-B284+(B284>C284))-D284","v":0.30208333333333326},{"$f":"E284-O284-L284","v":0.30208333333333326},{"$f":"DATA!$C$9","v":0.89},{"$f":"DATA!$C$10","v":64},1,{"$f":"F284*86400/H284*I284","v":407.81249999999989},{"$f":"E284*86400/H284","v":407.81249999999989},0,"","",0,"","",{"$f":"AF284*AG$2","v":0},{"$f":"IF(AF284-AE284=0,\"\",AF284-AE284)","v":""},"","","",null,{"$f":"X289","v":14},null,{"$f":"TEXT(Y282,\"ddd\")","v":"di"},"ND",{"$f":"IFERROR(HLOOKUP(Y282,[1]DATA!$A$1:$NB$5,5,0),\"\")","v":"D1"},null,null,null,null,0,"","",""]
["14woDD",{"$f":"VLOOKUP($AA285,DATA!$B$3:$E285,2,0)","v":"06:30:00"},{"$f":"VLOOKUP($AA285,DATA!$B$3:$E285,3,0)","v":"14:30:00"},{"$f":"VLOOKUP($AA285,DATA!$B$3:$E285,4,0)","v":3.125E-2},0.30208333333333331,0.2409722222222222,{"$f":"DATA!$C$9","v":0.89},{"$f":"DATA!$C$10","v":64},1,325.31249999999994,407.8125,6.1111111111111116E-2,82.5,0.20229885057471264,0,"","",385.06666666666666,341,"","",341,null,{"$f":"X289","v":14},{"$f":"Y282+1","v":"2018-04-04"},{"$f":"TEXT(Y285,\"ddd\")","v":"wo"},"DD",{"$f":"IFERROR(HLOOKUP(Y285,[1]DATA!$A$1:$NB$5,3,0),\"\")","v":"D3"},88,null,20,361,55,-12.4375,0.78222222222222226,0.87501893652476892]
["14woMD",{"$f":"VLOOKUP($AA286,DATA!$B$3:$E286,2,0)","v":"14:30:00"},{"$f":"VLOOKUP($AA286,DATA!$B$3:$E286,3,0)","v":"22:30:00"},{"$f":"VLOOKUP($AA286,DATA!$B$3:$E286,4,0)","v":3.125E-2},0.30208333333333337,0.25416666666666671,{"$f":"DATA!$C$9","v":0.89},{"$f":"DATA!$C$10","v":64},1,343.12500000000006,407.81250000000006,4.7916666666666663E-2,64.6875,0.1586206896551724,0,"","",387.2,325,"",325,"",null,{"$f":"X289","v":14},null,{"$f":"TEXT(Y285,\"ddd\")","v":"wo"},"MD",{"$f":"IFERROR(HLOOKUP(Y285,[1]DATA!$A$1:$NB$5,4,0),\"\")","v":"D2"},69,null,38,363,9,-46.249999999999943,0.7455197132616489,0.97728419989904092]
["14woND",{"$f":"VLOOKUP($AA287,DATA!$B$3:$E287,2,0)","v":"22:30:00"},{"$f":"VLOOKUP($AA287,DATA!$B$3:$E287,3,0)","v":"06:30:00"},{"$f":"VLOOKUP($AA287,DATA!$B$3:$E287,4,0)","v":3.125E-2},0.30208333333333326,0.30208333333333326,{"$f":"DATA!$C$9","v":0.89},{"$f":"DATA!$C$10","v":64},1,407.81249999999989,407.81249999999989,0,"","",0,"","",0,"","","","",null,{"$f":"X289","v":14},null,{"$f":"TEXT(Y285,\"ddd\")","v":"wo"},"ND",{"$f":"IFERROR(HLOOKUP(Y285,[1]DATA!$A$1:$NB$5,5,0),\"\")","v":"D1"},null,null,null,null,0,"","",""]
["14doDD",{"$f":"VLOOKUP($AA288,DATA!$B$3:$E288,2,0)","v":"06:30:00"},{"$f":"VLOOKUP($AA288,DATA!$B$3:$E288,3,0)","v":"14:30:00"},{"$f":"VLOOKUP($AA288,DATA!$B$3:$E288,4,0)","v":3.125E-2},0.30208333333333331,0.2673611111111111,{"$f":"DATA!$C$9","v":0.89},{"$f":"DATA!$C$10","v":64},1,360.9375,407.8125,3.4722222222222224E-2,46.875,0.11494252873563218,0,"","",375.46666666666664,332,"","",332,null,{"$f":"X289","v":14},{"$f":"Y285+1","v":"2018-04-05"},{"$f":"TEXT(Y288,\"ddd\")","v":"do"},"DD",{"$f":"IFERROR(HLOOKUP(Y288,[1]DATA!$A$1:$NB$5,3,0),\"\")","v":"D3"},50,null,20,352,43,-57.062500000000057,0.7615770609318997,0.89724390632467743]
["14doMD",{"$f":"VLOOKUP($AA289,DATA!$B$3:$E289,2,0)","v":"14:30:00"},{"$f":"VLOOKUP($AA289,DATA!$B$3:$E289,3,0)","v":"22:30:00"},{"$f":"VLOOKUP($AA289,DATA!$B$3:$E289,4,0)","v":3.125E-2},0.30208333333333337,0.25138888888888894,{"$f":"DATA!$C$9","v":0.89},{"$f":"DATA!$C$10","v":64},1,339.37500000000006,407.81250000000006,5.0694444444444452E-2,68.437500000000014,0.167816091954023,0,"","",375.46666666666664,333,"",333,"",null,{"$f":"WEEKNUM($Y279)","v":14},null,{"$f":"TEXT(Y288,\"ddd\")","v":"do"},"MD",{"$f":"IFERROR(HLOOKUP(Y288,[1]DATA!$A$1:$NB$5,4,0),\"\")","v":"D2"},73,null,19,352,21,-34.499999999999943,0.76387096774193564,0.94703211703379853]
["14doND",{"$f":"VLOOKUP($AA290,DATA!$B$3:$E290,2,0)","v":"22:30:00"},{"$f":"VLOOKUP($AA290,DATA!$B$3:$E290,3,0)","v":"06:30:00"},{"$f":"VLOOKUP($AA290,DATA!$B$3:$E290,4,0)","v":3.125E-2},0.30208333333333326,0.30208333333333326,{"$f":"DATA!$C$9","v":0.89},{"$f":"DATA!$C$10","v":64},1,407.81249999999989,407.81249999999989,0,"","",0,"","",0,"","","","",null,{"$f":"X289","v":14},null,{"$f":"TEXT(Y288,\"ddd\")","v":"do"},"ND",{"$f":"IFERROR(HLOOKUP(Y288,[1]DATA!$A$1:$NB$5,5,0),\"\")","v":"D1"},null,null,null,null,0,"","",""]
["14vrDD",{"$f":"VLOOKUP($AA291,DATA!$B$3:$E291,2,0)","v":"06:30:00"},{"$f":"VLOOKUP($AA291,DATA!$B$3:$E291,3,0)","v":"14:30:00"},{"$f":"VLOOKUP($AA291,DATA!$B$3:$E291,4,0)","v":3.125E-2},0.30208333333333331,0.25972222222222219,{"$f":"DATA!$C$9","v":0.89},{"$f":"DATA!$C$10","v":64},1,350.62499999999994,407.8125,4.2361111111111106E-2,57.187499999999993,0.14022988505747125,0,"","",372.26666666666665,329,"","",329,null,{"$f":"X289","v":14},{"$f":"Y288+1","v":"2018-04-06"},{"$f":"TEXT(Y291,\"ddd\")","v":"vr"},"DD",{"$f":"IFERROR(HLOOKUP(Y291,[1]DATA!$A$1:$NB$5,3,0),\"\")","v":"D3"},61,null,20,349,30,-49.75,0.7546953405017921,0.92542260523699038]
["14vrMD",{"$f":"VLOOKUP($AA292,DATA!$B$3:$E292,2,0)","v":"14:30:00"},{"$f":"VLOOKUP($AA292,DATA!$B$3:$E292,3,0)","v":"22:30:00"},{"$f":"VLOOKUP($AA292,DATA!$B$3:$E292,4,0)","v":3.125E-2},0.30208333333333337,0.25833333333333336,{"$f":"DATA!$C$9","v":0.89},{"$f":"DATA!$C$10","v":64},1,348.75000000000006,407.81250000000006,4.3750000000000004E-2,59.062500000000007,0.14482758620689654,0,"","",308.26666666666665,261,"",261,"",null,{"$f":"X289","v":14},null,{"$f":"TEXT(Y291,\"ddd\")","v":"vr"},"MD",{"$f":"IFERROR(HLOOKUP(Y291,[1]DATA!$A$1:$NB$5,4,0),\"\")","v":"D2"},63,null,28,289,16,-115.87499999999994,0.59870967741935488,0.95065789473684215]
["14vrND",{"$f":"VLOOKUP($AA293,DATA!$B$3:$E293,2,0)","v":"22:30:00"},{"$f":"VLOOKUP($AA293,DATA!$B$3:$E293,3,0)","v":"06:30:00"},{"$f":"VLOOKUP($AA293,DATA!$B$3:$E293,4,0)","v":3.125E-2},0.30208333333333326,0.30208333333333326,{"$f":"DATA!$C$9","v":0.89},{"$f":"DATA!$C$10","v":64},1,407.81249999999989,407.81249999999989,0,"","",0,"","",0,"","","","",null,{"$f":"X289","v":14},null,{"$f":"TEXT(Y291,\"ddd\")","v":"vr"},"ND",{"$f":"IFERROR(HLOOKUP(Y291,[1]DATA!$A$1:$NB$5,5,0),\"\")","v":"D2"},null,null,null,null,0,"","",""]
["14zaDD",{"$f":"VLOOKUP($AA294,DATA!$B$3:$E294,2,0)","v":"06:30:00"},{"$f":"VLOOKUP($AA294,DATA!$B$3:$E294,3,0)","v":"14:30:00"},{"$f":"VLOOKUP($AA294,DATA!$B$3:$E294,4,0)","v":3.125E-2},0.30208333333333331,0.30208333333333331,{"$f":"DATA!$C$9","v":0.89},{"$f":"DATA!$C$10","v":64},1,407.8125,407.8125,0,"","",0,"","",0,"","","","",null,{"$f":"X289","v":14},{"$f":"Y291+1","v":"2018-04-07"},{"$f":"TEXT(Y294,\"ddd\")","v":"za"},"DD",{"$f":"IFERROR(HLOOKUP(Y294,[1]DATA!$A$1:$NB$5,3,0),\"\")","v":"D3"},null,null,null,null,0,"","",""]
["14zaMD",{"$f":"VLOOKUP($AA295,DATA!$B$3:$E295,2,0)","v":"14:30:00"},{"$f":"VLOOKUP($AA295,DATA!$B$3:$E295,3,0)","v":"22:30:00"},{"$f":"VLOOKUP($AA295,DATA!$B$3:$E295,4,0)","v":3.125E-2},0.30208333333333337,0.30208333333333337,{"$f":"DATA!$C$9","v":0.89},{"$f":"DATA!$C$10","v":64},1,407.81250000000006,407.81250000000006,0,"","",0,"","",0,"","","","",null,{"$f":"X289","v":14},null,{"$f":"TEXT(Y294,\"ddd\")","v":"za"},"MD",{"$f":"IFERROR(HLOOKUP(Y294,[1]DATA!$A$1:$NB$5,4,0),\"\")","v":"-"},null,null,null,null,0,"","",""]
["14zaND",{"$f":"VLOOKUP($AA296,DATA!$B$3:$E296,2,0)","v":"22:30:00"},{"$f":"VLOOKUP($AA296,DATA!$B$3:$E296,3,0)","v":"06:30:00"},{"$f":"VLOOKUP($AA296,DATA!$B$3:$E296,4,0)","v":3.125E-2},0.30208333333333326,0.30208333333333326,{"$f":"DATA!$C$9","v":0.89},{"$f":"DATA!$C$10","v":64},1,407.81249999999989,407.81249999999989,0,"","",0,"","",0,"","","","",null,{"$f":"X289","v":14},null,{"$f":"TEXT(Y294,\"ddd\")","v":"za"},"ND",{"$f":"IFERROR(HLOOKUP(Y294,[1]DATA!$A$1:$NB$5,5,0),\"\")","v":"-"},null,null,null,null,0,"","",""]
["14zoDD",{"$f":"VLOOKUP($AA297,DATA!$B$3:$E297,2,0)","v":"06:30:00"},{"$f":"VLOOKUP($AA297,DATA!$B$3:$E297,3,0)","v":"14:30:00"},{"$f":"VLOOKUP($AA297,DATA!$B$3:$E297,4,0)","v":3.125E-2},0.30208333333333331,0.30208333333333331,{"$f":"DATA!$C$9","v":0.89},{"$f":"DATA!$C$10","v":64},1,407.8125,407.8125,0,"","",0,"","",0,"","","","",null,{"$f":"X289","v":14},{"$f":"Y294+1","v":"2018-04-08"},{"$f":"TEXT(Y297,\"ddd\")","v":"zo"},"DD",{"$f":"IFERROR(HLOOKUP(Y297,[1]DATA!$A$1:$NB$5,3,0),\"\")","v":"-"},null,null,null,null,0,"","",""]
["14zoMD",{"$f":"VLOOKUP($AA298,DATA!$B$3:$E298,2,0)","v":"14:30:00"},{"$f":"VLOOKUP($AA298,DATA!$B$3:$E298,3,0)","v":"22:30:00"},{"$f":"VLOOKUP($AA298,DATA!$B$3:$E298,4,0)","v":3.125E-2},0.30208333333333337,0.30208333333333337,{"$f":"DATA!$C$9","v":0.89},{"$f":"DATA!$C$10","v":64},1,407.81250000000006,407.81250000000006,0,"","",0,"","",0,"","","","",null,{"$f":"X289","v":14},null,{"$f":"TEXT(Y297,\"ddd\")","v":"zo"},"MD",{"$f":"IFERROR(HLOOKUP(Y297,[1]DATA!$A$1:$NB$5,4,0),\"\")","v":"-"},null,null,null,null,0,"","",""]
["14zoZND",{"$f":"VLOOKUP($AA299,DATA!$B$3:$E299,2,0)","v":"00:00:00"},{"$f":"VLOOKUP($AA299,DATA!$B$3:$E299,3,0)","v":"00:00:00"},{"$f":"VLOOKUP($AA299,DATA!$B$3:$E299,4,0)","v":0},0,0,{"$f":"DATA!$C$9","v":0.89},{"$f":"DATA!$C$10","v":64},1,0,0,0,"","",0,"","",0,"","","","",null,{"$f":"X289","v":14},null,{"$f":"TEXT(Y297,\"ddd\")","v":"zo"},"ZND",{"$f":"IFERROR(HLOOKUP(Y297,[1]DATA!$A$1:$NB$5,5,0),\"\")","v":"-"},null,null,null,null,0,"","",""]
["15maDD",{"$f":"VLOOKUP($AA300,DATA!$B$3:$E300,2,0)","v":"06:30:00"},{"$f":"VLOOKUP($AA300,DATA!$B$3:$E300,3,0)","v":"14:30:00"},{"$f":"VLOOKUP($AA300,DATA!$B$3:$E300,4,0)","v":3.125E-2},0.30208333333333331,0.30208333333333331,{"$f":"DATA!$C$9","v":0.89},{"$f":"DATA!$C$10","v":64},1,407.8125,407.8125,0,"","",{"$f":"TIME(INT($AD300/60),INT(MOD($AD300,60)/1),0)","v":0},"","",294.39999999999998,260,"",260,"",null,{"$f":"X310","v":15},{"$f":"Y297+1","v":"2018-04-09"},{"$f":"TEXT(Y300,\"ddd\")","v":"ma"},"DD",{"$f":"IFERROR(HLOOKUP(Y300,[1]DATA!$A$1:$NB$5,3,0),\"\")","v":"D2"},0,null,16,276,{"$f":"VLOOKUP(Y300,[1]SRM!$S$4:$AA$368,6,0)","v":22},{"$f":"IFERROR(S300-J300,\"\")","v":-147.8125},{"$f":"IFERROR(IF(S300/(E300*86400/H300)<=0,\"\",S300/(E300*86400/H300)),\"\")","v":0.63754789272030654},{"$f":"IFERROR(R300/(R300+AG300),\"\")","v":0.93046776232616946},{"$f":"IF(SUMIF(S300:S320,\">0\",K300:K320)=0,\"\",SUMIF(S300:S320,\">0\",K300:K320))","v":4078.125},{"$f":"IF(SUM(S300:S320)=0,\"\",SUM(S300:S320))","v":2875},{"$f":"IFERROR(AL300/AK300,\"-\")","v":0.70498084291187735},{"$f":"IF(SUM(M300:M320)=0,\"0\",SUM(M300:M320))","v":312.1875},{"$f":"IFERROR(AN300/AK300,\"-\")","v":7.6551724137931029E-2},{"$f":"IF(SUM(P300:P320)=0,0,SUM(P300:P320))","v":0},{"$f":"IFERROR(AP300/AK300,\"-\")","v":0},{"$f":"IFERROR(AVERAGE(AJ300:AJ320),\"-\")","v":0.89487295467719963},{"$f":"IFERROR(SUMIF($AB300:$AB320,AS$5,$AJ300:$AJ320)/COUNTIFS($AB300:$AB320,AS$5,$AJ300:$AJ320,\">0\"),\"\")","v":0.90577606618106343},0.88396984317333571,"",{"$f":"IFERROR((AK300-AL300-AN300-AP300),\"-\")","v":890.9375},{"$f":"IFERROR((1-AM300-AO300-AQ300), \"-\")","v":0.21846743295019161},{"$f":"IFERROR((AV300*$AE$2)/60,\"-\")","v":950.33333333333337},{"$f":"IFERROR(SUM(AG300:AG320),\"\")","v":414}]
["15maMD",{"$f":"VLOOKUP($AA301,DATA!$B$3:$E301,2,0)","v":"14:30:00"},{"$f":"VLOOKUP($AA301,DATA!$B$3:$E301,3,0)","v":"22:30:00"},{"$f":"VLOOKUP($AA301,DATA!$B$3:$E301,4,0)","v":3.125E-2},0.30208333333333337,0.30208333333333337,{"$f":"DATA!$C$9","v":0.89},{"$f":"DATA!$C$10","v":64},1,407.81250000000006,407.81250000000006,0,"","",{"$f":"TIME(INT(AD301/60),INT(MOD(AD301,60)/1),0)","v":0},"","",295.46666666666664,252,252,"","",null,{"$f":"X310","v":15},null,{"$f":"TEXT(Y300,\"ddd\")","v":"ma"},"MD",{"$f":"IFERROR(HLOOKUP(Y300,[1]DATA!$A$1:$NB$5,4,0),\"\")","v":"D1"},0,null,25,277,{"$f":"VLOOKUP(Y300,[1]SRM!$S$4:$AA$368,7,0)","v":5},-155.81250000000006,0.61793103448275855,0.98335921899267809]
["15maND",{"$f":"VLOOKUP($AA302,DATA!$B$3:$E302,2,0)","v":"22:30:00"},{"$f":"VLOOKUP($AA302,DATA!$B$3:$E302,3,0)","v":"06:30:00"},{"$f":"VLOOKUP($AA302,DATA!$B$3:$E302,4,0)","v":3.125E-2},0.30208333333333326,0.30208333333333326,{"$f":"DATA!$C$9","v":0.89},{"$f":"DATA!$C$10","v":64},1,407.81249999999989,407.81249999999989,0,"","",0,"","",0,"","","","",null,{"$f":"X310","v":15},null,{"$f":"TEXT(Y300,\"ddd\")","v":"ma"},"ND",{"$f":"IFERROR(HLOOKUP(Y300,[1]DATA!$A$1:$NB$5,5,0),\"\")","v":"D3"},null,null,null,null,{"$f":"VLOOKUP(Y300,[1]SRM!$S$4:$AA$368,8,0)","v":0},"","",""]
["15diDD",{"$f":"VLOOKUP($AA303,DATA!$B$3:$E303,2,0)","v":"06:30:00"},{"$f":"VLOOKUP($AA303,DATA!$B$3:$E303,3,0)","v":"14:30:00"},{"$f":"VLOOKUP($AA303,DATA!$B$3:$E303,4,0)","v":3.125E-2},0.30208333333333331,0.30208333333333331,{"$f":"DATA!$C$9","v":0.89},{"$f":"DATA!$C$10","v":64},1,407.8125,407.8125,0,"","",0,"","",372.26666666666665,320,"",320,"",null,{"$f":"X310","v":15},{"$f":"Y300+1","v":"2018-04-10"},{"$f":"TEXT(Y303,\"ddd\")","v":"di"},"DD",{"$f":"IFERROR(HLOOKUP(Y303,[1]DATA!$A$1:$NB$5,3,0),\"\")","v":"D2"},0,null,29,349,{"$f":"VLOOKUP(Y303,[1]SRM!$S$4:$AA$368,6,0)","v":49},-87.8125,0.78467432950191573,0.88368412723532208]
[{"$f":"X304&Z304&AA304","v":"15diMD"},{"$f":"VLOOKUP($AA304,DATA!$B$3:$E304,2,0)","v":"14:30:00"},{"$f":"VLOOKUP($AA304,DATA!$B$3:$E304,3,0)","v":"22:30:00"},{"$f":"VLOOKUP($AA304,DATA!$B$3:$E304,4,0)","v":3.125E-2},0.30208333333333337,0.30208333333333337,{"$f":"DATA!$C$9","v":0.89},{"$f":"DATA!$C$10","v":64},1,407.81250000000006,407.81250000000006,0,"","",0,{"$f":"IF($O304*86400/$H304=0,\"\",$O304*86400/$H304)","v":""},"",363.73333333333335,312,312,"","",null,{"$f":"X310","v":15},null,{"$f":"TEXT(Y303,\"ddd\")","v":"di"},"MD",{"$f":"IFERROR(HLOOKUP(Y303,[1]DATA!$A$1:$NB$5,4,0),\"\")","v":"D1"},0,null,29,341,{"$f":"VLOOKUP(Y303,[1]SRM!$S$4:$AA$368,7,0)","v":21},-95.812500000000057,0.76505747126436774,0.94541673886674749]
["15diND",{"$f":"VLOOKUP($AA305,DATA!$B$3:$E305,2,0)","v":"22:30:00"},{"$f":"VLOOKUP($AA305,DATA!$B$3:$E305,3,0)","v":"06:30:00"},{"$f":"VLOOKUP($AA305,DATA!$B$3:$E305,4,0)","v":3.125E-2},0.30208333333333326,0.30208333333333326,{"$f":"DATA!$C$9","v":0.89},{"$f":"DATA!$C$10","v":64},1,407.81249999999989,407.81249999999989,0,"","",0,"","",0,"","","","",null,{"$f":"X310","v":15},null,{"$f":"TEXT(Y303,\"ddd\")","v":"di"},"ND",{"$f":"IFERROR(HLOOKUP(Y303,[1]DATA!$A$1:$NB$5,5,0),\"\")","v":"D3"},null,null,null,null,{"$f":"VLOOKUP(Y303,[1]SRM!$S$4:$AA$368,8,0)","v":0},"","",""]
["15woDD",{"$f":"VLOOKUP($AA306,DATA!$B$3:$E306,2,0)","v":"06:30:00"},{"$f":"VLOOKUP($AA306,DATA!$B$3:$E306,3,0)","v":"14:30:00"},{"$f":"VLOOKUP($AA306,DATA!$B$3:$E306,4,0)","v":3.125E-2},0.30208333333333331,0.30208333333333331,{"$f":"DATA!$C$9","v":0.89},{"$f":"DATA!$C$10","v":64},1,407.8125,407.8125,0,"","",0,"","",308.26666666666665,284,"",284,"",null,{"$f":"X310","v":15},{"$f":"Y303+1","v":"2018-04-11"},{"$f":"TEXT(Y306,\"ddd\")","v":"wo"},"DD",{"$f":"IFERROR(HLOOKUP(Y306,[1]DATA!$A$1:$NB$5,3,0),\"\")","v":"D2"},0,null,5,289,{"$f":"VLOOKUP(Y306,[1]SRM!$S$4:$AA$368,6,0)","v":35},-123.8125,0.6963984674329502,0.89803845406875116]
["15woMD",{"$f":"VLOOKUP($AA307,DATA!$B$3:$E307,2,0)","v":"14:30:00"},{"$f":"VLOOKUP($AA307,DATA!$B$3:$E307,3,0)","v":"22:30:00"},{"$f":"VLOOKUP($AA307,DATA!$B$3:$E307,4,0)","v":3.125E-2},0.30208333333333337,0.2590277777777778,{"$f":"DATA!$C$9","v":0.89},{"$f":"DATA!$C$10","v":64},1,349.68750000000006,407.81250000000006,4.3055555555555562E-2,58.125000000000007,0.14252873563218391,0,"","",332.8,294,294,"","",null,{"$f":"X310","v":15},null,{"$f":"TEXT(Y306,\"ddd\")","v":"wo"},"MD",{"$f":"IFERROR(HLOOKUP(Y306,[1]DATA!$A$1:$NB$5,4,0),\"\")","v":"D1"},62,null,18,312,{"$f":"VLOOKUP(Y306,[1]SRM!$S$4:$AA$368,7,0)","v":20},-55.687500000000057,0.72091954022988491,0.94331065759637189]
["15woND",{"$f":"VLOOKUP($AA308,DATA!$B$3:$E308,2,0)","v":"22:30:00"},{"$f":"VLOOKUP($AA308,DATA!$B$3:$E308,3,0)","v":"06:30:00"},{"$f":"VLOOKUP($AA308,DATA!$B$3:$E308,4,0)","v":3.125E-2},0.30208333333333326,0.30208333333333326,{"$f":"DATA!$C$9","v":0.89},{"$f":"DATA!$C$10","v":64},1,407.81249999999989,407.81249999999989,0,"","",0,"","",0,"","","","",null,{"$f":"X310","v":15},null,{"$f":"TEXT(Y306,\"ddd\")","v":"wo"},"ND",{"$f":"IFERROR(HLOOKUP(Y306,[1]DATA!$A$1:$NB$5,5,0),\"\")","v":"D3"},null,null,null,null,{"$f":"VLOOKUP(Y306,[1]SRM!$S$4:$AA$368,8,0)","v":0},"","",""]
["15doDD",{"$f":"VLOOKUP($AA309,DATA!$B$3:$E309,2,0)","v":"06:30:00"},{"$f":"VLOOKUP($AA309,DATA!$B$3:$E309,3,0)","v":"14:30:00"},{"$f":"VLOOKUP($AA309,DATA!$B$3:$E309,4,0)","v":3.125E-2},0.30208333333333331,0.23124999999999998,{"$f":"DATA!$C$9","v":0.89},{"$f":"DATA!$C$10","v":64},1,312.1875,407.8125,7.0833333333333331E-2,95.625,0.23448275862068965,0,"","",323.2,274,"",274,"",null,{"$f":"X310","v":15},{"$f":"Y306+1","v":"2018-04-12"},{"$f":"TEXT(Y309,\"ddd\")","v":"do"},"DD",{"$f":"IFERROR(HLOOKUP(Y309,[1]DATA!$A$1:$NB$5,3,0),\"\")","v":"D2"},102,null,29,303,{"$f":"VLOOKUP(Y309,[1]SRM!$S$4:$AA$368,6,0)","v":51},-38.1875,0.67187739463601537,0.86370924639230362]
["15doMD",{"$f":"VLOOKUP($AA310,DATA!$B$3:$E310,2,0)","v":"14:30:00"},{"$f":"VLOOKUP($AA310,DATA!$B$3:$E310,3,0)","v":"22:30:00"},{"$f":"VLOOKUP($AA310,DATA!$B$3:$E310,4,0)","v":3.125E-2},0.30208333333333337,0.23888888888888893,{"$f":"DATA!$C$9","v":0.89},{"$f":"DATA!$C$10","v":64},1,322.50000000000006,407.81250000000006,6.3194444444444442E-2,85.3125,0.20919540229885056,0,"","",384,331,331,"","",null,{"$f":"WEEKNUM($Y300)","v":15},null,{"$f":"TEXT(Y309,\"ddd\")","v":"do"},"MD",{"$f":"IFERROR(HLOOKUP(Y309,[1]DATA!$A$1:$NB$5,4,0),\"\")","v":"D1"},91,null,29,360,{"$f":"VLOOKUP(Y309,[1]SRM!$S$4:$AA$368,7,0)","v":36},8.4999999999999432,0.81164750957854392,0.91428571428571426]
["15doND",{"$f":"VLOOKUP($AA311,DATA!$B$3:$E311,2,0)","v":"22:30:00"},{"$f":"VLOOKUP($AA311,DATA!$B$3:$E311,3,0)","v":"06:30:00"},{"$f":"VLOOKUP($AA311,DATA!$B$3:$E311,4,0)","v":3.125E-2},0.30208333333333326,0.30208333333333326,{"$f":"DATA!$C$9","v":0.89},{"$f":"DATA!$C$10","v":64},1,407.81249999999989,407.81249999999989,0,"","",0,"","",0,"","","","",null,{"$f":"X310","v":15},null,{"$f":"TEXT(Y309,\"ddd\")","v":"do"},"ND",{"$f":"IFERROR(HLOOKUP(Y309,[1]DATA!$A$1:$NB$5,5,0),\"\")","v":"D3"},null,null,null,null,{"$f":"VLOOKUP(Y309,[1]SRM!$S$4:$AA$368,8,0)","v":0},"","",""]
["15vrDD",{"$f":"VLOOKUP($AA312,DATA!$B$3:$E312,2,0)","v":"06:30:00"},{"$f":"VLOOKUP($AA312,DATA!$B$3:$E312,3,0)","v":"14:30:00"},{"$f":"VLOOKUP($AA312,DATA!$B$3:$E312,4,0)","v":3.125E-2},0.30208333333333331,0.25555555555555554,{"$f":"DATA!$C$9","v":0.89},{"$f":"DATA!$C$10","v":64},1,345,407.8125,4.6527777777777779E-2,62.8125,0.15402298850574714,0,"","",308.26666666666665,248,"",248,"",null,{"$f":"X310","v":15},{"$f":"Y309+1","v":"2018-04-13"},{"$f":"TEXT(Y312,\"ddd\")","v":"vr"},"DD",{"$f":"IFERROR(HLOOKUP(Y312,[1]DATA!$A$1:$NB$5,3,0),\"\")","v":"D2"},67,null,41,289,{"$f":"VLOOKUP(Y312,[1]SRM!$S$4:$AA$368,6,0)","v":57},-97,0.60812260536398466,0.84394962584413213]
["15vrMD",{"$f":"VLOOKUP($AA313,DATA!$B$3:$E313,2,0)","v":"14:30:00"},{"$f":"VLOOKUP($AA313,DATA!$B$3:$E313,3,0)","v":"22:30:00"},{"$f":"VLOOKUP($AA313,DATA!$B$3:$E313,4,0)","v":3.125E-2},0.30208333333333337,0.29444444444444451,{"$f":"DATA!$C$9","v":0.89},{"$f":"DATA!$C$10","v":64},1,397.50000000000011,407.81250000000006,7.6388888888888886E-3,10.3125,2.5287356321839077E-2,0,"","",340.26666666666665,300,300,"","",null,{"$f":"X310","v":15},null,{"$f":"TEXT(Y312,\"ddd\")","v":"vr"},"MD",{"$f":"IFERROR(HLOOKUP(Y312,[1]DATA!$A$1:$NB$5,4,0),\"\")","v":"D1"},11,null,19,319,{"$f":"VLOOKUP(Y312,[1]SRM!$S$4:$AA$368,7,0)","v":118},-97.500000000000114,0.73563218390804586,0.74250800116380566]
["15vrND",{"$f":"VLOOKUP($AA314,DATA!$B$3:$E314,2,0)","v":"22:30:00"},{"$f":"VLOOKUP($AA314,DATA!$B$3:$E314,3,0)","v":"06:30:00"},{"$f":"VLOOKUP($AA314,DATA!$B$3:$E314,4,0)","v":3.125E-2},0.30208333333333326,0.30208333333333326,{"$f":"DATA!$C$9","v":0.89},{"$f":"DATA!$C$10","v":64},1,407.81249999999989,407.81249999999989,0,"","",0,"","",0,"","","","",null,{"$f":"X310","v":15},null,{"$f":"TEXT(Y312,\"ddd\")","v":"vr"},"ND",{"$f":"IFERROR(HLOOKUP(Y312,[1]DATA!$A$1:$NB$5,5,0),\"\")","v":"D3"},null,null,null,null,{"$f":"VLOOKUP(Y312,[1]SRM!$S$4:$AA$368,8,0)","v":0},"","",""]
["15zaDD",{"$f":"VLOOKUP($AA315,DATA!$B$3:$E315,2,0)","v":"06:30:00"},{"$f":"VLOOKUP($AA315,DATA!$B$3:$E315,3,0)","v":"14:30:00"},{"$f":"VLOOKUP($AA315,DATA!$B$3:$E315,4,0)","v":3.125E-2},0.30208333333333331,0.30208333333333331,{"$f":"DATA!$C$9","v":0.89},{"$f":"DATA!$C$10","v":64},1,407.8125,407.8125,0,"","",0,"","",0,"","","","",null,{"$f":"X310","v":15},{"$f":"Y312+1","v":"2018-04-14"},{"$f":"TEXT(Y315,\"ddd\")","v":"za"},"DD",{"$f":"IFERROR(HLOOKUP(Y315,[1]DATA!$A$1:$NB$5,3,0),\"\")","v":"D2"},null,null,null,null,{"$f":"VLOOKUP(Y315,[1]SRM!$S$4:$AA$368,6,0)","v":0},"","",""]
["15zaMD",{"$f":"VLOOKUP($AA316,DATA!$B$3:$E316,2,0)","v":"14:30:00"},{"$f":"VLOOKUP($AA316,DATA!$B$3:$E316,3,0)","v":"22:30:00"},{"$f":"VLOOKUP($AA316,DATA!$B$3:$E316,4,0)","v":3.125E-2},0.30208333333333337,0.30208333333333337,{"$f":"DATA!$C$9","v":0.89},{"$f":"DATA!$C$10","v":64},1,407.81250000000006,407.81250000000006,0,"","",0,"","",0,"","","","",null,{"$f":"X310","v":15},null,{"$f":"TEXT(Y315,\"ddd\")","v":"za"},"MD",{"$f":"IFERROR(HLOOKUP(Y315,[1]DATA!$A$1:$NB$5,4,0),\"\")","v":"-"},null,null,null,null,{"$f":"VLOOKUP(Y315,[1]SRM!$S$4:$AA$368,7,0)","v":0},"","",""]
["15zaND",{"$f":"VLOOKUP($AA317,DATA!$B$3:$E317,2,0)","v":"22:30:00"},{"$f":"VLOOKUP($AA317,DATA!$B$3:$E317,3,0)","v":"06:30:00"},{"$f":"VLOOKUP($AA317,DATA!$B$3:$E317,4,0)","v":3.125E-2},0.30208333333333326,0.30208333333333326,{"$f":"DATA!$C$9","v":0.89},{"$f":"DATA!$C$10","v":64},1,407.81249999999989,407.81249999999989,0,"","",0,"","",0,"","","","",null,{"$f":"X310","v":15},null,{"$f":"TEXT(Y315,\"ddd\")","v":"za"},"ND",{"$f":"IFERROR(HLOOKUP(Y315,[1]DATA!$A$1:$NB$5,5,0),\"\")","v":"-"},null,null,null,null,{"$f":"VLOOKUP(Y315,[1]SRM!$S$4:$AA$368,8,0)","v":0},"","",""]
["15zoDD",{"$f":"VLOOKUP($AA318,DATA!$B$3:$E318,2,0)","v":"06:30:00"},{"$f":"VLOOKUP($AA318,DATA!$B$3:$E318,3,0)","v":"14:30:00"},{"$f":"VLOOKUP($AA318,DATA!$B$3:$E318,4,0)","v":3.125E-2},0.30208333333333331,0.30208333333333331,{"$f":"DATA!$C$9","v":0.89},{"$f":"DATA!$C$10","v":64},1,407.8125,407.8125,0,"","",0,"","",0,"","","","",null,{"$f":"X310","v":15},{"$f":"Y315+1","v":"2018-04-15"},{"$f":"TEXT(Y318,\"ddd\")","v":"zo"},"DD",{"$f":"IFERROR(HLOOKUP(Y318,[1]DATA!$A$1:$NB$5,3,0),\"\")","v":"-"},null,null,null,null,{"$f":"VLOOKUP(Y318,[1]SRM!$S$4:$AA$368,6,0)","v":0},"","",""]
["15zoMD",{"$f":"VLOOKUP($AA319,DATA!$B$3:$E319,2,0)","v":"14:30:00"},{"$f":"VLOOKUP($AA319,DATA!$B$3:$E319,3,0)","v":"22:30:00"},{"$f":"VLOOKUP($AA319,DATA!$B$3:$E319,4,0)","v":3.125E-2},0.30208333333333337,0.30208333333333337,{"$f":"DATA!$C$9","v":0.89},{"$f":"DATA!$C$10","v":64},1,407.81250000000006,407.81250000000006,0,"","",0,"","",0,"","","","",null,{"$f":"X310","v":15},null,{"$f":"TEXT(Y318,\"ddd\")","v":"zo"},"MD",{"$f":"IFERROR(HLOOKUP(Y318,[1]DATA!$A$1:$NB$5,4,0),\"\")","v":"-"},null,null,null,null,{"$f":"VLOOKUP(Y318,[1]SRM!$S$4:$AA$368,7,0)","v":0},"","",""]
["15zoZND",{"$f":"VLOOKUP($AA320,DATA!$B$3:$E320,2,0)","v":"00:00:00"},{"$f":"VLOOKUP($AA320,DATA!$B$3:$E320,3,0)","v":"00:00:00"},{"$f":"VLOOKUP($AA320,DATA!$B$3:$E320,4,0)","v":0},0,0,{"$f":"DATA!$C$9","v":0.89},{"$f":"DATA!$C$10","v":64},1,0,0,0,"","",0,"","",0,"","","","",null,{"$f":"X310","v":15},null,{"$f":"TEXT(Y318,\"ddd\")","v":"zo"},"ZND",{"$f":"IFERROR(HLOOKUP(Y318,[1]DATA!$A$1:$NB$5,5,0),\"\")","v":"-"},null,null,null,null,{"$f":"VLOOKUP(Y318,[1]SRM!$S$4:$AA$368,8,0)","v":0},"","",""]
["16maDD",{"$f":"VLOOKUP($AA321,DATA!$B$3:$E321,2,0)","v":"06:30:00"},{"$f":"VLOOKUP($AA321,DATA!$B$3:$E321,3,0)","v":"14:30:00"},{"$f":"VLOOKUP($AA321,DATA!$B$3:$E321,4,0)","v":3.125E-2},0.30208333333333331,0.30208333333333331,{"$f":"DATA!$C$9","v":0.89},{"$f":"DATA!$C$10","v":64},1,407.8125,407.8125,0,"","",{"$f":"TIME(INT($AD321/60),INT(MOD($AD321,60)/1),0)","v":0},"","",0,"","","","",null,{"$f":"X331","v":16},{"$f":"Y318+1","v":"2018-04-16"},{"$f":"TEXT(Y321,\"ddd\")","v":"ma"},"DD",{"$f":"IFERROR(HLOOKUP(Y321,[1]DATA!$A$1:$NB$5,3,0),\"\")","v":"D1"},null,null,null,null,{"$f":"VLOOKUP(Y321,[1]SRM!$S$4:$AA$368,6,0)","v":21},"","",0,{"$f":"IF(SUMIF(S321:S341,\">0\",K321:K341)=0,\"\",SUMIF(S321:S341,\">0\",K321:K341))","v":""},{"$f":"IF(SUM(S321:S341)=0,\"\",SUM(S321:S341))","v":""},{"$f":"IFERROR(AL321/AK321,\"-\")","v":"-"},{"$f":"IF(SUM(M321:M341)=0,\"0\",SUM(M321:M341))","v":"0"},{"$f":"IFERROR(AN321/AK321,\"-\")","v":"-"},{"$f":"IF(SUM(P321:P341)=0,0,SUM(P321:P341))","v":0},{"$f":"IFERROR(AP321/AK321,\"-\")","v":"-"},0,{"$f":"IFERROR(SUMIF($AB321:$AB341,AS$5,$AJ321:$AJ341)/COUNTIFS($AB321:$AB341,AS$5,$AJ321:$AJ341,\">0\"),\"\")","v":""},"","",{"$f":"IFERROR((AK321-AL321-AN321-AP321),\"-\")","v":"-"},{"$f":"IFERROR((1-AM321-AO321-AQ321), \"-\")","v":"-"},{"$f":"IFERROR((AV321*$AE$2)/60,\"-\")","v":"-"},{"$f":"IFERROR(SUM(AG321:AG341),\"\")","v":470}]
["16maMD",{"$f":"VLOOKUP($AA322,DATA!$B$3:$E322,2,0)","v":"14:30:00"},{"$f":"VLOOKUP($AA322,DATA!$B$3:$E322,3,0)","v":"22:30:00"},{"$f":"VLOOKUP($AA322,DATA!$B$3:$E322,4,0)","v":3.125E-2},0.30208333333333337,0.30208333333333337,{"$f":"DATA!$C$9","v":0.89},{"$f":"DATA!$C$10","v":64},1,407.81250000000006,407.81250000000006,0,"","",{"$f":"TIME(INT(AD322/60),INT(MOD(AD322,60)/1),0)","v":0},"","",0,"","","","",null,{"$f":"X331","v":16},null,{"$f":"TEXT(Y321,\"ddd\")","v":"ma"},"MD",{"$f":"IFERROR(HLOOKUP(Y321,[1]DATA!$A$1:$NB$5,4,0),\"\")","v":"D3"},null,null,null,null,{"$f":"VLOOKUP(Y321,[1]SRM!$S$4:$AA$368,7,0)","v":78},"","",0]
["16maND",{"$f":"VLOOKUP($AA323,DATA!$B$3:$E323,2,0)","v":"22:30:00"},{"$f":"VLOOKUP($AA323,DATA!$B$3:$E323,3,0)","v":"06:30:00"},{"$f":"VLOOKUP($AA323,DATA!$B$3:$E323,4,0)","v":3.125E-2},0.30208333333333326,0.30208333333333326,{"$f":"DATA!$C$9","v":0.89},{"$f":"DATA!$C$10","v":64},1,407.81249999999989,407.81249999999989,0,"","",0,"","",0,"","","","",null,{"$f":"X331","v":16},null,{"$f":"TEXT(Y321,\"ddd\")","v":"ma"},"ND",{"$f":"IFERROR(HLOOKUP(Y321,[1]DATA!$A$1:$NB$5,5,0),\"\")","v":"D2"},null,null,null,null,{"$f":"VLOOKUP(Y321,[1]SRM!$S$4:$AA$368,8,0)","v":23},"","",0]
["16diDD",{"$f":"VLOOKUP($AA324,DATA!$B$3:$E324,2,0)","v":"06:30:00"},{"$f":"VLOOKUP($AA324,DATA!$B$3:$E324,3,0)","v":"14:30:00"},{"$f":"VLOOKUP($AA324,DATA!$B$3:$E324,4,0)","v":3.125E-2},0.30208333333333331,0.30208333333333331,{"$f":"DATA!$C$9","v":0.89},{"$f":"DATA!$C$10","v":64},1,407.8125,407.8125,0,"","",0,"","",0,"","","","",null,{"$f":"X331","v":16},{"$f":"Y321+1","v":"2018-04-17"},{"$f":"TEXT(Y324,\"ddd\")","v":"di"},"DD",{"$f":"IFERROR(HLOOKUP(Y324,[1]DATA!$A$1:$NB$5,3,0),\"\")","v":"D1"},null,null,null,null,{"$f":"VLOOKUP(Y324,[1]SRM!$S$4:$AA$368,6,0)","v":0},"","",""]
["16diMD",{"$f":"VLOOKUP($AA325,DATA!$B$3:$E325,2,0)","v":"14:30:00"},{"$f":"VLOOKUP($AA325,DATA!$B$3:$E325,3,0)","v":"22:30:00"},{"$f":"VLOOKUP($AA325,DATA!$B$3:$E325,4,0)","v":3.125E-2},0.30208333333333337,0.30208333333333337,{"$f":"DATA!$C$9","v":0.89},{"$f":"DATA!$C$10","v":64},1,407.81250000000006,407.81250000000006,0,"","",0,"","",0,"","","","",null,{"$f":"X331","v":16},null,{"$f":"TEXT(Y324,\"ddd\")","v":"di"},"MD",{"$f":"IFERROR(HLOOKUP(Y324,[1]DATA!$A$1:$NB$5,4,0),\"\")","v":"D3"},null,null,null,null,{"$f":"VLOOKUP(Y324,[1]SRM!$S$4:$AA$368,7,0)","v":69},"","",0]
["16diND",{"$f":"VLOOKUP($AA326,DATA!$B$3:$E326,2,0)","v":"22:30:00"},{"$f":"VLOOKUP($AA326,DATA!$B$3:$E326,3,0)","v":"06:30:00"},{"$f":"VLOOKUP($AA326,DATA!$B$3:$E326,4,0)","v":3.125E-2},0.30208333333333326,0.30208333333333326,{"$f":"DATA!$C$9","v":0.89},{"$f":"DATA!$C$10","v":64},1,407.81249999999989,407.81249999999989,0,"","",0,"","",0,"","","","",null,{"$f":"X331","v":16},null,{"$f":"TEXT(Y324,\"ddd\")","v":"di"},"ND",{"$f":"IFERROR(HLOOKUP(Y324,[1]DATA!$A$1:$NB$5,5,0),\"\")","v":"D2"},null,null,null,null,{"$f":"VLOOKUP(Y324,[1]SRM!$S$4:$AA$368,8,0)","v":5},{"$f":"IFERROR(S326-J326,\"\")","v":""},{"$f":"IFERROR(IF(S326/(E326*86400/H326)<=0,\"\",S326/(E326*86400/H326)),\"\")","v":""},0]
["16woDD",{"$f":"VLOOKUP($AA327,DATA!$B$3:$E327,2,0)","v":"06:30:00"},{"$f":"VLOOKUP($AA327,DATA!$B$3:$E327,3,0)","v":"14:30:00"},{"$f":"VLOOKUP($AA327,DATA!$B$3:$E327,4,0)","v":3.125E-2},0.30208333333333331,0.30208333333333331,{"$f":"DATA!$C$9","v":0.89},{"$f":"DATA!$C$10","v":64},1,407.8125,407.8125,{"$f":"TIME(INT($AC327/60),INT(MOD($AC327,60)/1),0)","v":0},{"$f":"IF($L327*86400/$H327=0,\"\",$L327*86400/$H327)","v":""},{"$f":"IFERROR($M327/$K327,\"\")","v":""},0,"",{"$f":"IFERROR($P327/$K327,\"\")","v":""},0,"",{"$f":"IF(IF($AB327=\"D1\",$S327,\"\")=0,\"\",IF($AB327=\"D1\",$S327,\"\"))","v":""},{"$f":"IF(IF($AB327=\"D2\",$S327,\"\")=0,\"\",IF($AB327=\"D2\",$S327,\"\"))","v":""},{"$f":"IF(IF($AB327=\"D3\",$S327,\"\")=0,\"\",IF($AB327=\"D3\",$S327,\"\"))","v":""},null,{"$f":"X331","v":16},{"$f":"Y324+1","v":"2018-04-18"},{"$f":"TEXT(Y327,\"ddd\")","v":"wo"},"DD",{"$f":"IFERROR(HLOOKUP(Y327,[1]DATA!$A$1:$NB$5,3,0),\"\")","v":"D1"},null,null,null,null,{"$f":"VLOOKUP(Y327,[1]SRM!$S$4:$AA$368,6,0)","v":2},"","",0]
["16woMD",{"$f":"VLOOKUP($AA328,DATA!$B$3:$E328,2,0)","v":"14:30:00"},{"$f":"VLOOKUP($AA328,DATA!$B$3:$E328,3,0)","v":"22:30:00"},{"$f":"VLOOKUP($AA328,DATA!$B$3:$E328,4,0)","v":3.125E-2},0.30208333333333337,0.30208333333333337,{"$f":"DATA!$C$9","v":0.89},{"$f":"DATA!$C$10","v":64},1,407.81250000000006,407.81250000000006,0,"","",0,"","",0,"","","","",null,{"$f":"X331","v":16},null,{"$f":"TEXT(Y327,\"ddd\")","v":"wo"},"MD",{"$f":"IFERROR(HLOOKUP(Y327,[1]DATA!$A$1:$NB$5,4,0),\"\")","v":"D3"},null,null,null,null,{"$f":"VLOOKUP(Y327,[1]SRM!$S$4:$AA$368,7,0)","v":57},"","",0]
["16woND",{"$f":"VLOOKUP($AA329,DATA!$B$3:$E329,2,0)","v":"22:30:00"},{"$f":"VLOOKUP($AA329,DATA!$B$3:$E329,3,0)","v":"06:30:00"},{"$f":"VLOOKUP($AA329,DATA!$B$3:$E329,4,0)","v":3.125E-2},0.30208333333333326,0.30208333333333326,{"$f":"DATA!$C$9","v":0.89},{"$f":"DATA!$C$10","v":64},1,407.81249999999989,407.81249999999989,0,"","",0,"","",0,"","","","",null,{"$f":"X331","v":16},null,{"$f":"TEXT(Y327,\"ddd\")","v":"wo"},"ND",{"$f":"IFERROR(HLOOKUP(Y327,[1]DATA!$A$1:$NB$5,5,0),\"\")","v":"D2"},null,null,null,null,{"$f":"VLOOKUP(Y327,[1]SRM!$S$4:$AA$368,8,0)","v":0},"","",""]
["16doDD",{"$f":"VLOOKUP($AA330,DATA!$B$3:$E330,2,0)","v":"06:30:00"},{"$f":"VLOOKUP($AA330,DATA!$B$3:$E330,3,0)","v":"14:30:00"},{"$f":"VLOOKUP($AA330,DATA!$B$3:$E330,4,0)","v":3.125E-2},0.30208333333333331,0.30208333333333331,{"$f":"DATA!$C$9","v":0.89},{"$f":"DATA!$C$10","v":64},1,407.8125,407.8125,0,"","",0,"","",0,"","","","",null,{"$f":"X331","v":16},{"$f":"Y327+1","v":"2018-04-19"},{"$f":"TEXT(Y330,\"ddd\")","v":"do"},"DD",{"$f":"IFERROR(HLOOKUP(Y330,[1]DATA!$A$1:$NB$5,3,0),\"\")","v":"D1"},null,null,null,null,{"$f":"VLOOKUP(Y330,[1]SRM!$S$4:$AA$368,6,0)","v":5},"","",0]
["16doMD",{"$f":"VLOOKUP($AA331,DATA!$B$3:$E331,2,0)","v":"14:30:00"},{"$f":"VLOOKUP($AA331,DATA!$B$3:$E331,3,0)","v":"22:30:00"},{"$f":"VLOOKUP($AA331,DATA!$B$3:$E331,4,0)","v":3.125E-2},0.30208333333333337,0.30208333333333337,{"$f":"DATA!$C$9","v":0.89},{"$f":"DATA!$C$10","v":64},1,407.81250000000006,407.81250000000006,0,"","",0,"","",0,"","","","",null,{"$f":"WEEKNUM($Y321)","v":16},null,{"$f":"TEXT(Y330,\"ddd\")","v":"do"},"MD",{"$f":"IFERROR(HLOOKUP(Y330,[1]DATA!$A$1:$NB$5,4,0),\"\")","v":"D3"},null,null,null,null,{"$f":"VLOOKUP(Y330,[1]SRM!$S$4:$AA$368,7,0)","v":72},"","",0]
["16doND",{"$f":"VLOOKUP($AA332,DATA!$B$3:$E332,2,0)","v":"22:30:00"},{"$f":"VLOOKUP($AA332,DATA!$B$3:$E332,3,0)","v":"06:30:00"},{"$f":"VLOOKUP($AA332,DATA!$B$3:$E332,4,0)","v":3.125E-2},0.30208333333333326,0.30208333333333326,{"$f":"DATA!$C$9","v":0.89},{"$f":"DATA!$C$10","v":64},1,407.81249999999989,407.81249999999989,0,"","",0,"","",0,"","","","",null,{"$f":"X331","v":16},null,{"$f":"TEXT(Y330,\"ddd\")","v":"do"},"ND",{"$f":"IFERROR(HLOOKUP(Y330,[1]DATA!$A$1:$NB$5,5,0),\"\")","v":"D2"},null,null,null,null,{"$f":"VLOOKUP(Y330,[1]SRM!$S$4:$AA$368,8,0)","v":13},"","",0]
["16vrDD",{"$f":"VLOOKUP($AA333,DATA!$B$3:$E333,2,0)","v":"06:30:00"},{"$f":"VLOOKUP($AA333,DATA!$B$3:$E333,3,0)","v":"14:30:00"},{"$f":"VLOOKUP($AA333,DATA!$B$3:$E333,4,0)","v":3.125E-2},0.30208333333333331,0.30208333333333331,{"$f":"DATA!$C$9","v":0.89},{"$f":"DATA!$C$10","v":64},1,407.8125,407.8125,0,"","",0,"","",0,"","","","",null,{"$f":"X331","v":16},{"$f":"Y330+1","v":"2018-04-20"},{"$f":"TEXT(Y333,\"ddd\")","v":"vr"},"DD",{"$f":"IFERROR(HLOOKUP(Y333,[1]DATA!$A$1:$NB$5,3,0),\"\")","v":"D1"},null,null,null,null,{"$f":"VLOOKUP(Y333,[1]SRM!$S$4:$AA$368,6,0)","v":39},"","",0]
["16vrMD",{"$f":"VLOOKUP($AA334,DATA!$B$3:$E334,2,0)","v":"14:30:00"},{"$f":"VLOOKUP($AA334,DATA!$B$3:$E334,3,0)","v":"22:30:00"},{"$f":"VLOOKUP($AA334,DATA!$B$3:$E334,4,0)","v":3.125E-2},0.30208333333333337,0.30208333333333337,{"$f":"DATA!$C$9","v":0.89},{"$f":"DATA!$C$10","v":64},1,407.81250000000006,407.81250000000006,0,"","",0,"","",0,"","","","",null,{"$f":"X331","v":16},null,{"$f":"TEXT(Y333,\"ddd\")","v":"vr"},"MD",{"$f":"IFERROR(HLOOKUP(Y333,[1]DATA!$A$1:$NB$5,4,0),\"\")","v":"D3"},null,null,null,null,{"$f":"VLOOKUP(Y333,[1]SRM!$S$4:$AA$368,7,0)","v":76},"","",0]
["16vrND",{"$f":"VLOOKUP($AA335,DATA!$B$3:$E335,2,0)","v":"22:30:00"},{"$f":"VLOOKUP($AA335,DATA!$B$3:$E335,3,0)","v":"06:30:00"},{"$f":"VLOOKUP($AA335,DATA!$B$3:$E335,4,0)","v":3.125E-2},0.30208333333333326,0.30208333333333326,{"$f":"DATA!$C$9","v":0.89},{"$f":"DATA!$C$10","v":64},1,407.81249999999989,407.81249999999989,0,"","",0,"","",0,"","","","",null,{"$f":"X331","v":16},null,{"$f":"TEXT(Y333,\"ddd\")","v":"vr"},"ND",{"$f":"IFERROR(HLOOKUP(Y333,[1]DATA!$A$1:$NB$5,5,0),\"\")","v":"D2"},null,null,null,null,{"$f":"VLOOKUP(Y333,[1]SRM!$S$4:$AA$368,8,0)","v":10},"","",0]
["16zaDD",{"$f":"VLOOKUP($AA336,DATA!$B$3:$E336,2,0)","v":"06:30:00"},{"$f":"VLOOKUP($AA336,DATA!$B$3:$E336,3,0)","v":"14:30:00"},{"$f":"VLOOKUP($AA336,DATA!$B$3:$E336,4,0)","v":3.125E-2},0.30208333333333331,0.30208333333333331,{"$f":"DATA!$C$9","v":0.89},{"$f":"DATA!$C$10","v":64},1,407.8125,407.8125,0,"","",0,"","",0,"","","","",null,{"$f":"X331","v":16},{"$f":"Y333+1","v":"2018-04-21"},{"$f":"TEXT(Y336,\"ddd\")","v":"za"},"DD",{"$f":"IFERROR(HLOOKUP(Y336,[1]DATA!$A$1:$NB$5,3,0),\"\")","v":"D1"},null,null,null,null,{"$f":"VLOOKUP(Y336,[1]SRM!$S$4:$AA$368,6,0)","v":0},"","",""]
["16zaMD",{"$f":"VLOOKUP($AA337,DATA!$B$3:$E337,2,0)","v":"14:30:00"},{"$f":"VLOOKUP($AA337,DATA!$B$3:$E337,3,0)","v":"22:30:00"},{"$f":"VLOOKUP($AA337,DATA!$B$3:$E337,4,0)","v":3.125E-2},0.30208333333333337,0.30208333333333337,{"$f":"DATA!$C$9","v":0.89},{"$f":"DATA!$C$10","v":64},1,407.81250000000006,407.81250000000006,0,"","",0,"","",0,"","","","",null,{"$f":"X331","v":16},null,{"$f":"TEXT(Y336,\"ddd\")","v":"za"},"MD",{"$f":"IFERROR(HLOOKUP(Y336,[1]DATA!$A$1:$NB$5,4,0),\"\")","v":"-"},null,null,null,null,{"$f":"VLOOKUP(Y336,[1]SRM!$S$4:$AA$368,7,0)","v":0},"","",""]
["16zaND",{"$f":"VLOOKUP($AA338,DATA!$B$3:$E338,2,0)","v":"22:30:00"},{"$f":"VLOOKUP($AA338,DATA!$B$3:$E338,3,0)","v":"06:30:00"},{"$f":"VLOOKUP($AA338,DATA!$B$3:$E338,4,0)","v":3.125E-2},0.30208333333333326,0.30208333333333326,{"$f":"DATA!$C$9","v":0.89},{"$f":"DATA!$C$10","v":64},1,407.81249999999989,407.81249999999989,0,"","",0,"","",0,"","","","",null,{"$f":"X331","v":16},null,{"$f":"TEXT(Y336,\"ddd\")","v":"za"},"ND",{"$f":"IFERROR(HLOOKUP(Y336,[1]DATA!$A$1:$NB$5,5,0),\"\")","v":"-"},null,null,null,null,{"$f":"VLOOKUP(Y336,[1]SRM!$S$4:$AA$368,8,0)","v":0},"","",""]
["16zoDD",{"$f":"VLOOKUP($AA339,DATA!$B$3:$E339,2,0)","v":"06:30:00"},{"$f":"VLOOKUP($AA339,DATA!$B$3:$E339,3,0)","v":"14:30:00"},{"$f":"VLOOKUP($AA339,DATA!$B$3:$E339,4,0)","v":3.125E-2},0.30208333333333331,0.30208333333333331,{"$f":"DATA!$C$9","v":0.89},{"$f":"DATA!$C$10","v":64},1,407.8125,407.8125,0,"","",0,"","",0,"","","","",null,{"$f":"X331","v":16},{"$f":"Y336+1","v":"2018-04-22"},{"$f":"TEXT(Y339,\"ddd\")","v":"zo"},"DD",{"$f":"IFERROR(HLOOKUP(Y339,[1]DATA!$A$1:$NB$5,3,0),\"\")","v":"-"},null,null,null,null,{"$f":"VLOOKUP(Y339,[1]SRM!$S$4:$AA$368,6,0)","v":0},"","",""]
["16zoMD",{"$f":"VLOOKUP($AA340,DATA!$B$3:$E340,2,0)","v":"14:30:00"},{"$f":"VLOOKUP($AA340,DATA!$B$3:$E340,3,0)","v":"22:30:00"},{"$f":"VLOOKUP($AA340,DATA!$B$3:$E340,4,0)","v":3.125E-2},0.30208333333333337,0.30208333333333337,{"$f":"DATA!$C$9","v":0.89},{"$f":"DATA!$C$10","v":64},1,407.81250000000006,407.81250000000006,0,"","",0,"","",0,"","","","",null,{"$f":"X331","v":16},null,{"$f":"TEXT(Y339,\"ddd\")","v":"zo"},"MD",{"$f":"IFERROR(HLOOKUP(Y339,[1]DATA!$A$1:$NB$5,4,0),\"\")","v":"-"},null,null,null,null,{"$f":"VLOOKUP(Y339,[1]SRM!$S$4:$AA$368,7,0)","v":0},"","",""]
["16zoZND",{"$f":"VLOOKUP($AA341,DATA!$B$3:$E341,2,0)","v":"00:00:00"},{"$f":"VLOOKUP($AA341,DATA!$B$3:$E341,3,0)","v":"00:00:00"},{"$f":"VLOOKUP($AA341,DATA!$B$3:$E341,4,0)","v":0},0,0,{"$f":"DATA!$C$9","v":0.89},{"$f":"DATA!$C$10","v":64},1,0,0,0,"","",0,"","",0,"","","","",null,{"$f":"X331","v":16},null,{"$f":"TEXT(Y339,\"ddd\")","v":"zo"},"ZND",{"$f":"IFERROR(HLOOKUP(Y339,[1]DATA!$A$1:$NB$5,5,0),\"\")","v":"-"},null,null,null,null,{"$f":"VLOOKUP(Y339,[1]SRM!$S$4:$AA$368,8,0)","v":0},"","",""]
["17maDD",{"$f":"VLOOKUP($AA342,DATA!$B$3:$E342,2,0)","v":"06:30:00"},{"$f":"VLOOKUP($AA342,DATA!$B$3:$E342,3,0)","v":"14:30:00"},{"$f":"VLOOKUP($AA342,DATA!$B$3:$E342,4,0)","v":3.125E-2},0.30208333333333331,0.25694444444444442,{"$f":"DATA!$C$9","v":0.89},{"$f":"DATA!$C$10","v":64},1,346.87499999999994,407.8125,4.5138888888888888E-2,60.9375,0.14942528735632185,{"$f":"TIME(INT($AD342/60),INT(MOD($AD342,60)/1),0)","v":0},"","",234.66666666666666,207,"","",207,null,{"$f":"X352","v":17},{"$f":"Y339+1","v":"2018-04-23"},{"$f":"TEXT(Y342,\"ddd\")","v":"ma"},"DD",{"$f":"IFERROR(HLOOKUP(Y342,[1]DATA!$A$1:$NB$5,3,0),\"\")","v":"D3"},65,null,13,220,{"$f":"VLOOKUP(Y342,[1]SRM!$S$4:$AA$368,6,0)","v":15},-139.87499999999994,0.50758620689655176,0.93991989319092117,{"$f":"IF(SUMIF(S342:S362,\">0\",K342:K362)=0,\"\",SUMIF(S342:S362,\">0\",K342:K362))","v":4893.75},{"$f":"IF(SUM(S342:S362)=0,\"\",SUM(S342:S362))","v":3385},{"$f":"IFERROR(AL342/AK342,\"-\")","v":0.69169859514687104},{"$f":"IF(SUM(M342:M362)=0,\"0\",SUM(M342:M362))","v":360},{"$f":"IFERROR(AN342/AK342,\"-\")","v":7.3563218390804597E-2},{"$f":"IF(SUM(P342:P362)=0,0,SUM(P342:P362))","v":0},{"$f":"IFERROR(AP342/AK342,\"-\")","v":0},{"$f":"IFERROR(AVERAGE(AJ342:AJ362),\"-\")","v":0.893574682655084},{"$f":"IFERROR(SUMIF($AB342:$AB362,AS$5,$AJ342:$AJ362)/COUNTIFS($AB342:$AB362,AS$5,$AJ342:$AJ362,\">0\"),\"\")","v":0.95313819041479575},0.85278176376228132,0.87480409378817492,{"$f":"IFERROR((AK342-AL342-AN342-AP342),\"-\")","v":1148.75},{"$f":"IFERROR((1-AM342-AO342-AQ342), \"-\")","v":0.23473818646232436},{"$f":"IFERROR((AV342*$AE$2)/60,\"-\")","v":1225.3333333333333},{"$f":"IFERROR(SUM(AG342:AG362),\"\")","v":495}]
["17maMD",{"$f":"VLOOKUP($AA343,DATA!$B$3:$E343,2,0)","v":"14:30:00"},{"$f":"VLOOKUP($AA343,DATA!$B$3:$E343,3,0)","v":"22:30:00"},{"$f":"VLOOKUP($AA343,DATA!$B$3:$E343,4,0)","v":3.125E-2},0.30208333333333337,0.26041666666666669,{"$f":"DATA!$C$9","v":0.89},{"$f":"DATA!$C$10","v":64},1,351.5625,407.81250000000006,4.1666666666666664E-2,56.25,0.13793103448275859,{"$f":"TIME(INT(AD343/60),INT(MOD(AD343,60)/1),0)","v":0},"","",394.66666666666669,358,"",358,"",null,{"$f":"X352","v":17},null,{"$f":"TEXT(Y342,\"ddd\")","v":"ma"},"MD",{"$f":"IFERROR(HLOOKUP(Y342,[1]DATA!$A$1:$NB$5,4,0),\"\")","v":"D2"},60,null,12,370,{"$f":"VLOOKUP(Y342,[1]SRM!$S$4:$AA$368,7,0)","v":11},6.4375,0.87785440613026811,0.9728841413311422]
["17maND",{"$f":"VLOOKUP($AA344,DATA!$B$3:$E344,2,0)","v":"22:30:00"},{"$f":"VLOOKUP($AA344,DATA!$B$3:$E344,3,0)","v":"06:30:00"},{"$f":"VLOOKUP($AA344,DATA!$B$3:$E344,4,0)","v":3.125E-2},0.30208333333333326,0.26041666666666657,{"$f":"DATA!$C$9","v":0.89},{"$f":"DATA!$C$10","v":64},1,351.56249999999989,407.81249999999989,4.1666666666666664E-2,56.25,0.13793103448275865,0,"","",238.93333333333334,215,215,"","",null,{"$f":"X352","v":17},null,{"$f":"TEXT(Y342,\"ddd\")","v":"ma"},"ND",{"$f":"IFERROR(HLOOKUP(Y342,[1]DATA!$A$1:$NB$5,5,0),\"\")","v":"D1"},60,null,9,224,{"$f":"VLOOKUP(Y342,[1]SRM!$S$4:$AA$368,8,0)","v":14},-136.56249999999989,0.52720306513409976,0.94464944649446492]
["17diDD",{"$f":"VLOOKUP($AA345,DATA!$B$3:$E345,2,0)","v":"06:30:00"},{"$f":"VLOOKUP($AA345,DATA!$B$3:$E345,3,0)","v":"14:30:00"},{"$f":"VLOOKUP($AA345,DATA!$B$3:$E345,4,0)","v":3.125E-2},0.30208333333333331,0.2583333333333333,{"$f":"DATA!$C$9","v":0.89},{"$f":"DATA!$C$10","v":64},1,348.74999999999994,407.8125,4.3750000000000004E-2,59.062500000000007,0.14482758620689656,0,"","",354.13333333333333,319,"","",319,null,{"$f":"X352","v":17},{"$f":"Y342+1","v":"2018-04-24"},{"$f":"TEXT(Y345,\"ddd\")","v":"di"},"DD",{"$f":"IFERROR(HLOOKUP(Y345,[1]DATA!$A$1:$NB$5,3,0),\"\")","v":"D3"},63,null,13,332,{"$f":"VLOOKUP(Y345,[1]SRM!$S$4:$AA$368,6,0)","v":49},-29.749999999999943,0.78222222222222226,0.87845212502067138]
["17diMD",{"$f":"VLOOKUP($AA346,DATA!$B$3:$E346,2,0)","v":"14:30:00"},{"$f":"VLOOKUP($AA346,DATA!$B$3:$E346,3,0)","v":"22:30:00"},{"$f":"VLOOKUP($AA346,DATA!$B$3:$E346,4,0)","v":3.125E-2},0.30208333333333337,0.29166666666666669,{"$f":"DATA!$C$9","v":0.89},{"$f":"DATA!$C$10","v":64},1,393.75,407.81250000000006,1.0416666666666666E-2,14.0625,3.4482758620689648E-2,0,"","",320,281,"",281,"",null,{"$f":"X352","v":17},null,{"$f":"TEXT(Y345,\"ddd\")","v":"di"},"MD",{"$f":"IFERROR(HLOOKUP(Y345,[1]DATA!$A$1:$NB$5,4,0),\"\")","v":"D2"},15,null,19,300,{"$f":"VLOOKUP(Y345,[1]SRM!$S$4:$AA$368,7,0)","v":143},-112.75,0.68904214559386967,0.69114470842332609]
["17diND",{"$f":"VLOOKUP($AA347,DATA!$B$3:$E347,2,0)","v":"22:30:00"},{"$f":"VLOOKUP($AA347,DATA!$B$3:$E347,3,0)","v":"06:30:00"},{"$f":"VLOOKUP($AA347,DATA!$B$3:$E347,4,0)","v":3.125E-2},0.30208333333333326,0.29722222222222217,{"$f":"DATA!$C$9","v":0.89},{"$f":"DATA!$C$10","v":64},1,401.24999999999994,407.81249999999989,4.8611111111111112E-3,6.5625,1.6091954022988509E-2,0,"","",269.86666666666667,232,232,"","",null,{"$f":"X352","v":17},null,{"$f":"TEXT(Y345,\"ddd\")","v":"di"},"ND",{"$f":"IFERROR(HLOOKUP(Y345,[1]DATA!$A$1:$NB$5,5,0),\"\")","v":"D1"},7,null,21,253,{"$f":"VLOOKUP(Y345,[1]SRM!$S$4:$AA$368,8,0)","v":20},-169.24999999999994,0.568888888888889,{"$f":"IFERROR(R347/(R347+AG347),\"\")","v":0.93100275988960446}]
["17woDD",{"$f":"VLOOKUP($AA348,DATA!$B$3:$E348,2,0)","v":"06:30:00"},{"$f":"VLOOKUP($AA348,DATA!$B$3:$E348,3,0)","v":"14:30:00"},{"$f":"VLOOKUP($AA348,DATA!$B$3:$E348,4,0)","v":3.125E-2},{"$f":"(C348-B348+(B348>C348))-D348","v":0.30208333333333331},{"$f":"E348-O348-L348","v":0.29444444444444445},{"$f":"DATA!$C$9","v":0.89},{"$f":"DATA!$C$10","v":64},1,{"$f":"F348*86400/H348*I348","v":397.5},{"$f":"E348*86400/H348","v":407.8125},7.6388888888888886E-3,10.3125,2.528735632183908E-2,0,"","",{"$f":"AF348*AG$2","v":345.6},{"$f":"IF(AF348-AE348=0,\"\",AF348-AE348)","v":303},"","",303,null,{"$f":"X352","v":17},{"$f":"Y345+1","v":"2018-04-25"},{"$f":"TEXT(Y348,\"ddd\")","v":"wo"},"DD",{"$f":"IFERROR(HLOOKUP(Y348,[1]DATA!$A$1:$NB$5,3,0),\"\")","v":"D3"},11,null,21,324,{"$f":"VLOOKUP(Y348,[1]SRM!$S$4:$AA$368,6,0)","v":50},-94.5,0.74298850574712638,0.87360970677451977]
["17woMD",{"$f":"VLOOKUP($AA349,DATA!$B$3:$E349,2,0)","v":"14:30:00"},{"$f":"VLOOKUP($AA349,DATA!$B$3:$E349,3,0)","v":"22:30:00"},{"$f":"VLOOKUP($AA349,DATA!$B$3:$E349,4,0)","v":3.125E-2},0.30208333333333337,0.29444444444444451,{"$f":"DATA!$C$9","v":0.89},{"$f":"DATA!$C$10","v":64},1,397.50000000000011,407.81250000000006,7.6388888888888886E-3,10.3125,2.5287356321839077E-2,0,"","",308.26666666666665,267,"",267,"",null,{"$f":"X352","v":17},null,{"$f":"TEXT(Y348,\"ddd\")","v":"wo"},"MD",{"$f":"IFERROR(HLOOKUP(Y348,[1]DATA!$A$1:$NB$5,4,0),\"\")","v":"D2"},11,null,22,289,{"$f":"VLOOKUP(Y348,[1]SRM!$S$4:$AA$368,7,0)","v":56},-130.50000000000011,0.65471264367816084,0.84626647144948752]
["17woND",{"$f":"VLOOKUP($AA350,DATA!$B$3:$E350,2,0)","v":"22:30:00"},{"$f":"VLOOKUP($AA350,DATA!$B$3:$E350,3,0)","v":"06:30:00"},{"$f":"VLOOKUP($AA350,DATA!$B$3:$E350,4,0)","v":3.125E-2},0.30208333333333326,0.29999999999999993,{"$f":"DATA!$C$9","v":0.89},{"$f":"DATA!$C$10","v":64},1,404.99999999999989,407.81249999999989,2.0833333333333333E-3,2.8125,6.8965517241379327E-3,0,"","",371.2,325,325,"","",null,{"$f":"X352","v":17},null,{"$f":"TEXT(Y348,\"ddd\")","v":"wo"},"ND",{"$f":"IFERROR(HLOOKUP(Y348,[1]DATA!$A$1:$NB$5,5,0),\"\")","v":"D1"},3,null,23,348,{"$f":"VLOOKUP(Y348,[1]SRM!$S$4:$AA$368,8,0)","v":25},-79.999999999999886,0.79693486590038332,0.93690055527511362]
["17doDD",{"$f":"VLOOKUP($AA351,DATA!$B$3:$E351,2,0)","v":"06:30:00"},{"$f":"VLOOKUP($AA351,DATA!$B$3:$E351,3,0)","v":"14:30:00"},{"$f":"VLOOKUP($AA351,DATA!$B$3:$E351,4,0)","v":3.125E-2},0.30208333333333331,0.2986111111111111,{"$f":"DATA!$C$9","v":0.89},{"$f":"DATA!$C$10","v":64},1,403.125,407.8125,3.472222222222222E-3,4.6875,1.1494252873563218E-2,0,"","",339.2,296,"","",296,null,{"$f":"X352","v":17},{"$f":"Y348+1","v":"2018-04-26"},{"$f":"TEXT(Y351,\"ddd\")","v":"do"},"DD",{"$f":"IFERROR(HLOOKUP(Y351,[1]DATA!$A$1:$NB$5,3,0),\"\")","v":"D3"},5,null,22,318,{"$f":"VLOOKUP(Y351,[1]SRM!$S$4:$AA$368,6,0)","v":81},-107.125,0.72582375478927208,0.80723465016658735]
["17doMD",{"$f":"VLOOKUP($AA352,DATA!$B$3:$E352,2,0)","v":"14:30:00"},{"$f":"VLOOKUP($AA352,DATA!$B$3:$E352,3,0)","v":"22:30:00"},{"$f":"VLOOKUP($AA352,DATA!$B$3:$E352,4,0)","v":3.125E-2},0.30208333333333337,0.2819444444444445,{"$f":"DATA!$C$9","v":0.89},{"$f":"DATA!$C$10","v":64},1,380.62500000000006,407.81250000000006,2.013888888888889E-2,27.1875,6.6666666666666652E-2,0,"","",281.60000000000002,241,"",241,"",null,{"$f":"WEEKNUM($Y342)","v":17},null,{"$f":"TEXT(Y351,\"ddd\")","v":"do"},"MD",{"$f":"IFERROR(HLOOKUP(Y351,[1]DATA!$A$1:$NB$5,4,0),\"\")","v":"D2"},29,null,23,264,{"$f":"VLOOKUP(Y351,[1]SRM!$S$4:$AA$368,7,0)","v":31},-139.62500000000006,0.59095785440613013,0.90083173384516957]
["17doND",{"$f":"VLOOKUP($AA353,DATA!$B$3:$E353,2,0)","v":"22:30:00"},{"$f":"VLOOKUP($AA353,DATA!$B$3:$E353,3,0)","v":"06:30:00"},{"$f":"VLOOKUP($AA353,DATA!$B$3:$E353,4,0)","v":3.125E-2},0.30208333333333326,0.26388888888888884,{"$f":"DATA!$C$9","v":0.89},{"$f":"DATA!$C$10","v":64},1,356.24999999999994,407.81249999999989,3.8194444444444441E-2,51.562499999999993,0.12643678160919541,0,"","",384,341,341,"","",null,{"$f":"X352","v":17},null,{"$f":"TEXT(Y351,\"ddd\")","v":"do"},"ND",{"$f":"IFERROR(HLOOKUP(Y351,[1]DATA!$A$1:$NB$5,5,0),\"\")","v":"D1"},55,null,19,360,{"$f":"VLOOKUP(Y351,[1]SRM!$S$4:$AA$368,8,0)","v":0},-15.249999999999943,0.8361685823754792,1]
["17vrDD",{"$f":"VLOOKUP($AA354,DATA!$B$3:$E354,2,0)","v":"06:30:00"},{"$f":"VLOOKUP($AA354,DATA!$B$3:$E354,3,0)","v":"14:30:00"},{"$f":"VLOOKUP($AA354,DATA!$B$3:$E354,4,0)","v":3.125E-2},0.30208333333333331,0.30208333333333331,{"$f":"DATA!$C$9","v":0.89},{"$f":"DATA!$C$10","v":64},1,407.8125,407.8125,0,"","",0,"","",0,"","","","",null,{"$f":"X352","v":17},{"$f":"Y351+1","v":"2018-04-27"},{"$f":"TEXT(Y354,\"ddd\")","v":"vr"},"DD",{"$f":"IFERROR(HLOOKUP(Y354,[1]DATA!$A$1:$NB$5,3,0),\"\")","v":"D3"},null,null,null,null,{"$f":"VLOOKUP(Y354,[1]SRM!$S$4:$AA$368,6,0)","v":0},"","",""]
["17vrMD",{"$f":"VLOOKUP($AA355,DATA!$B$3:$E355,2,0)","v":"14:30:00"},{"$f":"VLOOKUP($AA355,DATA!$B$3:$E355,3,0)","v":"22:30:00"},{"$f":"VLOOKUP($AA355,DATA!$B$3:$E355,4,0)","v":3.125E-2},0.30208333333333337,0.30208333333333337,{"$f":"DATA!$C$9","v":0.89},{"$f":"DATA!$C$10","v":64},1,407.81250000000006,407.81250000000006,0,"","",0,"","",0,"","","","",null,{"$f":"X352","v":17},null,{"$f":"TEXT(Y354,\"ddd\")","v":"vr"},"MD",{"$f":"IFERROR(HLOOKUP(Y354,[1]DATA!$A$1:$NB$5,4,0),\"\")","v":"D2"},null,null,null,null,{"$f":"VLOOKUP(Y354,[1]SRM!$S$4:$AA$368,7,0)","v":0},"","",""]
["17vrND",{"$f":"VLOOKUP($AA356,DATA!$B$3:$E356,2,0)","v":"22:30:00"},{"$f":"VLOOKUP($AA356,DATA!$B$3:$E356,3,0)","v":"06:30:00"},{"$f":"VLOOKUP($AA356,DATA!$B$3:$E356,4,0)","v":3.125E-2},0.30208333333333326,0.30208333333333326,{"$f":"DATA!$C$9","v":0.89},{"$f":"DATA!$C$10","v":64},1,407.81249999999989,407.81249999999989,0,"","",0,"","",0,"","","","",null,{"$f":"X352","v":17},null,{"$f":"TEXT(Y354,\"ddd\")","v":"vr"},"ND",{"$f":"IFERROR(HLOOKUP(Y354,[1]DATA!$A$1:$NB$5,5,0),\"\")","v":"D2"},null,null,null,null,{"$f":"VLOOKUP(Y354,[1]SRM!$S$4:$AA$368,8,0)","v":0},"","",""]
["17zaDD",{"$f":"VLOOKUP($AA357,DATA!$B$3:$E357,2,0)","v":"06:30:00"},{"$f":"VLOOKUP($AA357,DATA!$B$3:$E357,3,0)","v":"14:30:00"},{"$f":"VLOOKUP($AA357,DATA!$B$3:$E357,4,0)","v":3.125E-2},0.30208333333333331,0.30208333333333331,{"$f":"DATA!$C$9","v":0.89},{"$f":"DATA!$C$10","v":64},1,407.8125,407.8125,0,"","",0,"","",0,"","","","",null,{"$f":"X352","v":17},{"$f":"Y354+1","v":"2018-04-28"},{"$f":"TEXT(Y357,\"ddd\")","v":"za"},"DD",{"$f":"IFERROR(HLOOKUP(Y357,[1]DATA!$A$1:$NB$5,3,0),\"\")","v":"D3"},null,null,null,null,{"$f":"VLOOKUP(Y357,[1]SRM!$S$4:$AA$368,6,0)","v":0},"","",""]
["17zaMD",{"$f":"VLOOKUP($AA358,DATA!$B$3:$E358,2,0)","v":"14:30:00"},{"$f":"VLOOKUP($AA358,DATA!$B$3:$E358,3,0)","v":"22:30:00"},{"$f":"VLOOKUP($AA358,DATA!$B$3:$E358,4,0)","v":3.125E-2},0.30208333333333337,0.30208333333333337,{"$f":"DATA!$C$9","v":0.89},{"$f":"DATA!$C$10","v":64},1,407.81250000000006,407.81250000000006,0,"","",0,"","",0,"","","","",null,{"$f":"X352","v":17},null,{"$f":"TEXT(Y357,\"ddd\")","v":"za"},"MD",{"$f":"IFERROR(HLOOKUP(Y357,[1]DATA!$A$1:$NB$5,4,0),\"\")","v":"-"},null,null,null,null,{"$f":"VLOOKUP(Y357,[1]SRM!$S$4:$AA$368,7,0)","v":0},"","",""]
["17zaND",{"$f":"VLOOKUP($AA359,DATA!$B$3:$E359,2,0)","v":"22:30:00"},{"$f":"VLOOKUP($AA359,DATA!$B$3:$E359,3,0)","v":"06:30:00"},{"$f":"VLOOKUP($AA359,DATA!$B$3:$E359,4,0)","v":3.125E-2},0.30208333333333326,0.30208333333333326,{"$f":"DATA!$C$9","v":0.89},{"$f":"DATA!$C$10","v":64},1,407.81249999999989,407.81249999999989,0,"","",0,"","",0,"","","","",null,{"$f":"X352","v":17},null,{"$f":"TEXT(Y357,\"ddd\")","v":"za"},"ND",{"$f":"IFERROR(HLOOKUP(Y357,[1]DATA!$A$1:$NB$5,5,0),\"\")","v":"-"},null,null,null,null,{"$f":"VLOOKUP(Y357,[1]SRM!$S$4:$AA$368,8,0)","v":0},"","",""]
["17zoDD",{"$f":"VLOOKUP($AA360,DATA!$B$3:$E360,2,0)","v":"06:30:00"},{"$f":"VLOOKUP($AA360,DATA!$B$3:$E360,3,0)","v":"14:30:00"},{"$f":"VLOOKUP($AA360,DATA!$B$3:$E360,4,0)","v":3.125E-2},0.30208333333333331,0.30208333333333331,{"$f":"DATA!$C$9","v":0.89},{"$f":"DATA!$C$10","v":64},1,407.8125,407.8125,0,"","",0,"","",0,"","","","",null,{"$f":"X352","v":17},{"$f":"Y357+1","v":"2018-04-29"},{"$f":"TEXT(Y360,\"ddd\")","v":"zo"},"DD",{"$f":"IFERROR(HLOOKUP(Y360,[1]DATA!$A$1:$NB$5,3,0),\"\")","v":"-"},null,null,null,null,{"$f":"VLOOKUP(Y360,[1]SRM!$S$4:$AA$368,6,0)","v":0},"","",""]
["17zoMD",{"$f":"VLOOKUP($AA361,DATA!$B$3:$E361,2,0)","v":"14:30:00"},{"$f":"VLOOKUP($AA361,DATA!$B$3:$E361,3,0)","v":"22:30:00"},{"$f":"VLOOKUP($AA361,DATA!$B$3:$E361,4,0)","v":3.125E-2},0.30208333333333337,0.30208333333333337,{"$f":"DATA!$C$9","v":0.89},{"$f":"DATA!$C$10","v":64},1,407.81250000000006,407.81250000000006,0,"","",0,"","",0,"","","","",null,{"$f":"X352","v":17},null,{"$f":"TEXT(Y360,\"ddd\")","v":"zo"},"MD",{"$f":"IFERROR(HLOOKUP(Y360,[1]DATA!$A$1:$NB$5,4,0),\"\")","v":"-"},null,null,null,null,{"$f":"VLOOKUP(Y360,[1]SRM!$S$4:$AA$368,7,0)","v":0},"","",""]
["17zoZND",{"$f":"VLOOKUP($AA362,DATA!$B$3:$E362,2,0)","v":"00:00:00"},{"$f":"VLOOKUP($AA362,DATA!$B$3:$E362,3,0)","v":"00:00:00"},{"$f":"VLOOKUP($AA362,DATA!$B$3:$E362,4,0)","v":0},0,0,{"$f":"DATA!$C$9","v":0.89},{"$f":"DATA!$C$10","v":64},1,0,0,0,"","",0,"","",0,"","","","",null,{"$f":"X352","v":17},null,{"$f":"TEXT(Y360,\"ddd\")","v":"zo"},"ZND",{"$f":"IFERROR(HLOOKUP(Y360,[1]DATA!$A$1:$NB$5,5,0),\"\")","v":"-"},null,null,null,null,{"$f":"VLOOKUP(Y360,[1]SRM!$S$4:$AA$368,8,0)","v":0},"","",""]
["18maDD",{"$f":"VLOOKUP($AA363,DATA!$B$3:$E363,2,0)","v":"06:30:00"},{"$f":"VLOOKUP($AA363,DATA!$B$3:$E363,3,0)","v":"14:30:00"},{"$f":"VLOOKUP($AA363,DATA!$B$3:$E363,4,0)","v":3.125E-2},0.30208333333333331,0.24583333333333332,{"$f":"DATA!$C$9","v":0.89},{"$f":"DATA!$C$10","v":64},1,331.875,407.8125,5.6250000000000001E-2,75.9375,0.18620689655172415,{"$f":"TIME(INT($AD363/60),INT(MOD($AD363,60)/1),0)","v":0},"","",340.26666666666665,288,"",288,"",null,{"$f":"X373","v":18},{"$f":"Y360+1","v":"2018-04-30"},{"$f":"TEXT(Y363,\"ddd\")","v":"ma"},"DD",{"$f":"IFERROR(HLOOKUP(Y363,[1]DATA!$A$1:$NB$5,3,0),\"\")","v":"D2"},81,null,31,319,{"$f":"VLOOKUP(Y363,[1]SRM!$S$4:$AA$368,6,0)","v":42},-43.875,0.70620689655172408,0.89012905476107429,{"$f":"IF(SUMIF(S363:S383,\">0\",K363:K383)=0,\"\",SUMIF(S363:S383,\">0\",K363:K383))","v":6525},{"$f":"IF(SUM(S363:S383)=0,\"\",SUM(S363:S383))","v":4657},{"$f":"IFERROR(AL363/AK363,\"-\")","v":0.7137164750957854},{"$f":"IF(SUM(M363:M383)=0,\"0\",SUM(M363:M383))","v":583.125},{"$f":"IFERROR(AN363/AK363,\"-\")","v":8.9367816091954017E-2},{"$f":"IF(SUM(P363:P383)=0,0,SUM(P363:P383))","v":0},{"$f":"IFERROR(AP363/AK363,\"-\")","v":0},0.90481365817639059,{"$f":"IFERROR(SUMIF($AB363:$AB383,AS$5,$AJ363:$AJ383)/COUNTIFS($AB363:$AB383,AS$5,$AJ363:$AJ383,\">0\"),\"\")","v":0.95614684141053563},0.86974923623926503,0.8955577812667963,{"$f":"IFERROR((AK363-AL363-AN363-AP363),\"-\")","v":1284.875},{"$f":"IFERROR((1-AM363-AO363-AQ363), \"-\")","v":0.19691570881226059},{"$f":"IFERROR((AV363*$AE$2)/60,\"-\")","v":1370.5333333333333},{"$f":"IFERROR(SUM(AG363:AG383),\"\")","v":590}]
["18maMD",{"$f":"VLOOKUP($AA364,DATA!$B$3:$E364,2,0)","v":"14:30:00"},{"$f":"VLOOKUP($AA364,DATA!$B$3:$E364,3,0)","v":"22:30:00"},{"$f":"VLOOKUP($AA364,DATA!$B$3:$E364,4,0)","v":3.125E-2},0.30208333333333337,0.27083333333333337,{"$f":"DATA!$C$9","v":0.89},{"$f":"DATA!$C$10","v":64},1,365.62500000000006,407.81250000000006,3.125E-2,42.1875,0.10344827586206895,{"$f":"TIME(INT(AD364/60),INT(MOD(AD364,60)/1),0)","v":0},"","",301.86666666666667,258,258,"","",null,{"$f":"X373","v":18},null,{"$f":"TEXT(Y363,\"ddd\")","v":"ma"},"MD",{"$f":"IFERROR(HLOOKUP(Y363,[1]DATA!$A$1:$NB$5,4,0),\"\")","v":"D1"},45,null,25,283,{"$f":"VLOOKUP(Y363,[1]SRM!$S$4:$AA$368,7,0)","v":14},-107.62500000000006,0.63264367816091949,0.95567750105529758]
["18maND",{"$f":"VLOOKUP($AA365,DATA!$B$3:$E365,2,0)","v":"22:30:00"},{"$f":"VLOOKUP($AA365,DATA!$B$3:$E365,3,0)","v":"06:30:00"},{"$f":"VLOOKUP($AA365,DATA!$B$3:$E365,4,0)","v":3.125E-2},0.30208333333333326,0.25972222222222213,{"$f":"DATA!$C$9","v":0.89},{"$f":"DATA!$C$10","v":64},1,350.62499999999989,407.81249999999989,4.2361111111111106E-2,57.187499999999993,0.14022988505747128,0,"","",347.73333333333335,310,"","",310,null,{"$f":"X373","v":18},null,{"$f":"TEXT(Y363,\"ddd\")","v":"ma"},"ND",{"$f":"IFERROR(HLOOKUP(Y363,[1]DATA!$A$1:$NB$5,5,0),\"\")","v":"D3"},61,null,16,326,{"$f":"VLOOKUP(Y363,[1]SRM!$S$4:$AA$368,8,0)","v":41},-40.624999999999886,0.76015325670498102,0.89452924026753555]
["18diDD",{"$f":"VLOOKUP($AA366,DATA!$B$3:$E366,2,0)","v":"06:30:00"},{"$f":"VLOOKUP($AA366,DATA!$B$3:$E366,3,0)","v":"14:30:00"},{"$f":"VLOOKUP($AA366,DATA!$B$3:$E366,4,0)","v":3.125E-2},0.30208333333333331,0.29097222222222219,{"$f":"DATA!$C$9","v":0.89},{"$f":"DATA!$C$10","v":64},1,392.81249999999994,407.8125,1.1111111111111112E-2,15,3.6781609195402298E-2,0,"","",356.26666666666665,289,"",289,"",null,{"$f":"X373","v":18},{"$f":"Y363+1","v":"2018-05-01"},{"$f":"TEXT(Y366,\"ddd\")","v":"di"},"DD",{"$f":"IFERROR(HLOOKUP(Y366,[1]DATA!$A$1:$NB$5,3,0),\"\")","v":"D2"},16,null,45,334,{"$f":"VLOOKUP(Y366,[1]SRM!$S$4:$AA$368,6,0)","v":11},-103.81249999999994,0.70865900383141767,0.97004901070974769]
["18diMD",{"$f":"VLOOKUP($AA367,DATA!$B$3:$E367,2,0)","v":"14:30:00"},{"$f":"VLOOKUP($AA367,DATA!$B$3:$E367,3,0)","v":"22:30:00"},{"$f":"VLOOKUP($AA367,DATA!$B$3:$E367,4,0)","v":3.125E-2},0.30208333333333337,0.28055555555555561,{"$f":"DATA!$C$9","v":0.89},{"$f":"DATA!$C$10","v":64},1,378.75000000000006,407.81250000000006,2.1527777777777781E-2,29.062500000000004,7.1264367816091953E-2,0,"","",364.8,300,300,"","",null,{"$f":"X373","v":18},null,{"$f":"TEXT(Y366,\"ddd\")","v":"di"},"MD",{"$f":"IFERROR(HLOOKUP(Y366,[1]DATA!$A$1:$NB$5,4,0),\"\")","v":"D1"},31,null,42,342,{"$f":"VLOOKUP(Y366,[1]SRM!$S$4:$AA$368,7,0)","v":8},-78.750000000000057,0.73563218390804586,0.97854077253218885]
[{"$f":"X368&Z368&AA368","v":"18diND"},{"$f":"VLOOKUP($AA368,DATA!$B$3:$E368,2,0)","v":"22:30:00"},{"$f":"VLOOKUP($AA368,DATA!$B$3:$E368,3,0)","v":"06:30:00"},{"$f":"VLOOKUP($AA368,DATA!$B$3:$E368,4,0)","v":3.125E-2},0.30208333333333326,0.27361111111111103,{"$f":"DATA!$C$9","v":0.89},{"$f":"DATA!$C$10","v":64},1,369.37499999999989,407.81249999999989,2.8472222222222222E-2,38.4375,9.4252873563218417E-2,0,{"$f":"IF($O368*86400/$H368=0,\"\",$O368*86400/$H368)","v":""},"",376.5333333333333,327,"","",327,null,{"$f":"X373","v":18},null,{"$f":"TEXT(Y366,\"ddd\")","v":"di"},"ND",{"$f":"IFERROR(HLOOKUP(Y366,[1]DATA!$A$1:$NB$5,5,0),\"\")","v":"D3"},41,null,26,353,{"$f":"VLOOKUP(Y366,[1]SRM!$S$4:$AA$368,8,0)","v":50},-42.374999999999886,0.80183908045977037,0.88277586745858083]
["18woDD",{"$f":"VLOOKUP($AA369,DATA!$B$3:$E369,2,0)","v":"06:30:00"},{"$f":"VLOOKUP($AA369,DATA!$B$3:$E369,3,0)","v":"14:30:00"},{"$f":"VLOOKUP($AA369,DATA!$B$3:$E369,4,0)","v":3.125E-2},0.30208333333333331,0.28472222222222221,{"$f":"DATA!$C$9","v":0.89},{"$f":"DATA!$C$10","v":64},1,384.375,407.8125,1.7361111111111112E-2,23.4375,5.7471264367816091E-2,0,"","",323.2,266,"",266,"",null,{"$f":"X373","v":18},{"$f":"Y366+1","v":"2018-05-02"},{"$f":"TEXT(Y369,\"ddd\")","v":"wo"},"DD",{"$f":"IFERROR(HLOOKUP(Y369,[1]DATA!$A$1:$NB$5,3,0),\"\")","v":"D2"},25,null,37,303,{"$f":"VLOOKUP(Y369,[1]SRM!$S$4:$AA$368,6,0)","v":101},-118.375,0.65226053639846748,0.76190476190476186]
["18woMD",{"$f":"VLOOKUP($AA370,DATA!$B$3:$E370,2,0)","v":"14:30:00"},{"$f":"VLOOKUP($AA370,DATA!$B$3:$E370,3,0)","v":"22:30:00"},{"$f":"VLOOKUP($AA370,DATA!$B$3:$E370,4,0)","v":3.125E-2},0.30208333333333337,0.29305555555555557,{"$f":"DATA!$C$9","v":0.89},{"$f":"DATA!$C$10","v":64},1,395.625,407.81250000000006,9.0277777777777787E-3,12.187500000000002,2.9885057471264367E-2,0,"","",407.46666666666664,349,349,"","",null,{"$f":"X373","v":18},null,{"$f":"TEXT(Y369,\"ddd\")","v":"wo"},"MD",{"$f":"IFERROR(HLOOKUP(Y369,[1]DATA!$A$1:$NB$5,4,0),\"\")","v":"D1"},13,null,33,382,{"$f":"VLOOKUP(Y369,[1]SRM!$S$4:$AA$368,7,0)","v":19},-46.625,0.85578544061302675,0.95544786618727529]
["18woND",{"$f":"VLOOKUP($AA371,DATA!$B$3:$E371,2,0)","v":"22:30:00"},{"$f":"VLOOKUP($AA371,DATA!$B$3:$E371,3,0)","v":"06:30:00"},{"$f":"VLOOKUP($AA371,DATA!$B$3:$E371,4,0)","v":3.125E-2},0.30208333333333326,0.2944444444444444,{"$f":"DATA!$C$9","v":0.89},{"$f":"DATA!$C$10","v":64},1,397.49999999999994,407.81249999999989,7.6388888888888886E-3,10.3125,2.5287356321839087E-2,0,"","",338.13333333333333,310,"","",310,null,{"$f":"X373","v":18},null,{"$f":"TEXT(Y369,\"ddd\")","v":"wo"},"ND",{"$f":"IFERROR(HLOOKUP(Y369,[1]DATA!$A$1:$NB$5,5,0),\"\")","v":"D3"},11,null,7,317,{"$f":"VLOOKUP(Y369,[1]SRM!$S$4:$AA$368,8,0)","v":30},-87.499999999999943,0.76015325670498102,0.91850778703368341]
["18doDD",{"$f":"VLOOKUP($AA372,DATA!$B$3:$E372,2,0)","v":"06:30:00"},{"$f":"VLOOKUP($AA372,DATA!$B$3:$E372,3,0)","v":"14:30:00"},{"$f":"VLOOKUP($AA372,DATA!$B$3:$E372,4,0)","v":3.125E-2},0.30208333333333331,0.27638888888888885,{"$f":"DATA!$C$9","v":0.89},{"$f":"DATA!$C$10","v":64},1,373.12499999999994,407.8125,2.5694444444444447E-2,34.6875,8.5057471264367815E-2,0,"","",343.46666666666664,301,"",301,"",null,{"$f":"X373","v":18},{"$f":"Y369+1","v":"2018-05-03"},{"$f":"TEXT(Y372,\"ddd\")","v":"do"},"DD",{"$f":"IFERROR(HLOOKUP(Y372,[1]DATA!$A$1:$NB$5,3,0),\"\")","v":"D2"},37,null,21,322,{"$f":"VLOOKUP(Y372,[1]SRM!$S$4:$AA$368,6,0)","v":83},-72.124999999999943,0.73808429118773944,0.80537752071283408]
["18doMD",{"$f":"VLOOKUP($AA373,DATA!$B$3:$E373,2,0)","v":"14:30:00"},{"$f":"VLOOKUP($AA373,DATA!$B$3:$E373,3,0)","v":"22:30:00"},{"$f":"VLOOKUP($AA373,DATA!$B$3:$E373,4,0)","v":3.125E-2},0.30208333333333337,0.2590277777777778,{"$f":"DATA!$C$9","v":0.89},{"$f":"DATA!$C$10","v":64},1,349.68750000000006,407.81250000000006,4.3055555555555562E-2,58.125000000000007,0.14252873563218391,0,"","",400,356,356,"","",null,{"$f":"WEEKNUM($Y363)","v":18},null,{"$f":"TEXT(Y372,\"ddd\")","v":"do"},"MD",{"$f":"IFERROR(HLOOKUP(Y372,[1]DATA!$A$1:$NB$5,4,0),\"\")","v":"D1"},62,null,19,375,{"$f":"VLOOKUP(Y372,[1]SRM!$S$4:$AA$368,7,0)","v":30},6.3124999999999432,0.87295019157088105,0.93023255813953487]
["18doND",{"$f":"VLOOKUP($AA374,DATA!$B$3:$E374,2,0)","v":"22:30:00"},{"$f":"VLOOKUP($AA374,DATA!$B$3:$E374,3,0)","v":"06:30:00"},{"$f":"VLOOKUP($AA374,DATA!$B$3:$E374,4,0)","v":3.125E-2},0.30208333333333326,0.28194444444444439,{"$f":"DATA!$C$9","v":0.89},{"$f":"DATA!$C$10","v":64},1,380.62499999999994,407.81249999999989,2.013888888888889E-2,27.1875,6.666666666666668E-2,0,"","",309.33333333333331,272,"","",272,null,{"$f":"X373","v":18},null,{"$f":"TEXT(Y372,\"ddd\")","v":"do"},"ND",{"$f":"IFERROR(HLOOKUP(Y372,[1]DATA!$A$1:$NB$5,5,0),\"\")","v":"D3"},29,null,18,290,{"$f":"VLOOKUP(Y372,[1]SRM!$S$4:$AA$368,8,0)","v":29},-108.62499999999994,0.66697318007662854,0.91428571428571426]
["18vrDD",{"$f":"VLOOKUP($AA375,DATA!$B$3:$E375,2,0)","v":"06:30:00"},{"$f":"VLOOKUP($AA375,DATA!$B$3:$E375,3,0)","v":"14:30:00"},{"$f":"VLOOKUP($AA375,DATA!$B$3:$E375,4,0)","v":3.125E-2},0.30208333333333331,0.26041666666666663,{"$f":"DATA!$C$9","v":0.89},{"$f":"DATA!$C$10","v":64},1,351.56249999999994,407.8125,4.1666666666666664E-2,56.25,0.13793103448275862,0,"","",305.06666666666666,266,"",266,"",null,{"$f":"X373","v":18},{"$f":"Y372+1","v":"2018-05-04"},{"$f":"TEXT(Y375,\"ddd\")","v":"vr"},"DD",{"$f":"IFERROR(HLOOKUP(Y375,[1]DATA!$A$1:$NB$5,3,0),\"\")","v":"D2"},60,null,20,286,{"$f":"VLOOKUP(Y375,[1]SRM!$S$4:$AA$368,6,0)","v":18},-85.562499999999943,0.65226053639846748,0.94428394552208006]
["18vrMD",{"$f":"VLOOKUP($AA376,DATA!$B$3:$E376,2,0)","v":"14:30:00"},{"$f":"VLOOKUP($AA376,DATA!$B$3:$E376,3,0)","v":"22:30:00"},{"$f":"VLOOKUP($AA376,DATA!$B$3:$E376,4,0)","v":3.125E-2},0.30208333333333337,0.26875000000000004,{"$f":"DATA!$C$9","v":0.89},{"$f":"DATA!$C$10","v":64},1,362.81250000000006,407.81250000000006,3.3333333333333333E-2,45,0.11034482758620688,0,"","",245.33333333333334,218,218,"","",null,{"$f":"X373","v":18},null,{"$f":"TEXT(Y375,\"ddd\")","v":"vr"},"MD",{"$f":"IFERROR(HLOOKUP(Y375,[1]DATA!$A$1:$NB$5,4,0),\"\")","v":"D1"},48,null,12,230,{"$f":"VLOOKUP(Y375,[1]SRM!$S$4:$AA$368,7,0)","v":10},-144.81250000000006,0.53455938697317995,0.96083550913838123]
["18vrND",{"$f":"VLOOKUP($AA377,DATA!$B$3:$E377,2,0)","v":"22:30:00"},{"$f":"VLOOKUP($AA377,DATA!$B$3:$E377,3,0)","v":"06:30:00"},{"$f":"VLOOKUP($AA377,DATA!$B$3:$E377,4,0)","v":3.125E-2},0.30208333333333326,0.2715277777777777,{"$f":"DATA!$C$9","v":0.89},{"$f":"DATA!$C$10","v":64},1,366.56249999999989,407.81249999999989,3.0555555555555555E-2,41.25,0.10114942528735635,0,"","",354.13333333333333,310,"","",310,null,{"$f":"X373","v":18},null,{"$f":"TEXT(Y375,\"ddd\")","v":"vr"},"ND",{"$f":"IFERROR(HLOOKUP(Y375,[1]DATA!$A$1:$NB$5,5,0),\"\")","v":"D3"},44,null,22,332,{"$f":"VLOOKUP(Y375,[1]SRM!$S$4:$AA$368,8,0)","v":54},-56.562499999999886,0.76015325670498102,0.8676902972884678]
["18zaDD",{"$f":"VLOOKUP($AA378,DATA!$B$3:$E378,2,0)","v":"06:30:00"},{"$f":"VLOOKUP($AA378,DATA!$B$3:$E378,3,0)","v":"14:30:00"},{"$f":"VLOOKUP($AA378,DATA!$B$3:$E378,4,0)","v":3.125E-2},0.30208333333333331,0.2895833333333333,{"$f":"DATA!$C$9","v":0.89},{"$f":"DATA!$C$10","v":64},1,390.93749999999994,407.8125,1.2499999999999999E-2,16.875,4.1379310344827586E-2,0,"","",276.26666666666665,237,"",237,"",null,{"$f":"X373","v":18},{"$f":"Y375+1","v":"2018-05-05"},{"$f":"TEXT(Y378,\"ddd\")","v":"za"},"DD",{"$f":"IFERROR(HLOOKUP(Y378,[1]DATA!$A$1:$NB$5,3,0),\"\")","v":"D2"},18,null,22,259,{"$f":"VLOOKUP(Y378,[1]SRM!$S$4:$AA$368,6,0)","v":50},-153.93749999999994,0.58114942528735636,0.84675112382509199]
["18zaMD",{"$f":"VLOOKUP($AA379,DATA!$B$3:$E379,2,0)","v":"14:30:00"},{"$f":"VLOOKUP($AA379,DATA!$B$3:$E379,3,0)","v":"22:30:00"},{"$f":"VLOOKUP($AA379,DATA!$B$3:$E379,4,0)","v":3.125E-2},0.30208333333333337,0.30208333333333337,{"$f":"DATA!$C$9","v":0.89},{"$f":"DATA!$C$10","v":64},1,407.81250000000006,407.81250000000006,0,"","",0,"","",0,"","","","",null,{"$f":"X373","v":18},null,{"$f":"TEXT(Y378,\"ddd\")","v":"za"},"MD",{"$f":"IFERROR(HLOOKUP(Y378,[1]DATA!$A$1:$NB$5,4,0),\"\")","v":"-"},null,null,null,null,{"$f":"VLOOKUP(Y378,[1]SRM!$S$4:$AA$368,7,0)","v":0},"","",""]
["18zaND",{"$f":"VLOOKUP($AA380,DATA!$B$3:$E380,2,0)","v":"22:30:00"},{"$f":"VLOOKUP($AA380,DATA!$B$3:$E380,3,0)","v":"06:30:00"},{"$f":"VLOOKUP($AA380,DATA!$B$3:$E380,4,0)","v":3.125E-2},0.30208333333333326,0.30208333333333326,{"$f":"DATA!$C$9","v":0.89},{"$f":"DATA!$C$10","v":64},1,407.81249999999989,407.81249999999989,0,"","",0,"","",0,"","","","",null,{"$f":"X373","v":18},null,{"$f":"TEXT(Y378,\"ddd\")","v":"za"},"ND",{"$f":"IFERROR(HLOOKUP(Y378,[1]DATA!$A$1:$NB$5,5,0),\"\")","v":"-"},null,null,null,null,{"$f":"VLOOKUP(Y378,[1]SRM!$S$4:$AA$368,8,0)","v":0},"","",""]
["18zoDD",{"$f":"VLOOKUP($AA381,DATA!$B$3:$E381,2,0)","v":"06:30:00"},{"$f":"VLOOKUP($AA381,DATA!$B$3:$E381,3,0)","v":"14:30:00"},{"$f":"VLOOKUP($AA381,DATA!$B$3:$E381,4,0)","v":3.125E-2},0.30208333333333331,0.30208333333333331,{"$f":"DATA!$C$9","v":0.89},{"$f":"DATA!$C$10","v":64},1,407.8125,407.8125,0,"","",0,"","",0,"","","","",null,{"$f":"X373","v":18},{"$f":"Y378+1","v":"2018-05-06"},{"$f":"TEXT(Y381,\"ddd\")","v":"zo"},"DD",{"$f":"IFERROR(HLOOKUP(Y381,[1]DATA!$A$1:$NB$5,3,0),\"\")","v":"-"},null,null,null,null,{"$f":"VLOOKUP(Y381,[1]SRM!$S$4:$AA$368,6,0)","v":0},"","",""]
["18zoMD",{"$f":"VLOOKUP($AA382,DATA!$B$3:$E382,2,0)","v":"14:30:00"},{"$f":"VLOOKUP($AA382,DATA!$B$3:$E382,3,0)","v":"22:30:00"},{"$f":"VLOOKUP($AA382,DATA!$B$3:$E382,4,0)","v":3.125E-2},0.30208333333333337,0.30208333333333337,{"$f":"DATA!$C$9","v":0.89},{"$f":"DATA!$C$10","v":64},1,407.81250000000006,407.81250000000006,0,"","",0,"","",0,"","","","",null,{"$f":"X373","v":18},null,{"$f":"TEXT(Y381,\"ddd\")","v":"zo"},"MD",{"$f":"IFERROR(HLOOKUP(Y381,[1]DATA!$A$1:$NB$5,4,0),\"\")","v":"-"},null,null,null,null,{"$f":"VLOOKUP(Y381,[1]SRM!$S$4:$AA$368,7,0)","v":0},"","",""]
["18zoZND",{"$f":"VLOOKUP($AA383,DATA!$B$3:$E383,2,0)","v":"00:00:00"},{"$f":"VLOOKUP($AA383,DATA!$B$3:$E383,3,0)","v":"00:00:00"},{"$f":"VLOOKUP($AA383,DATA!$B$3:$E383,4,0)","v":0},0,0,{"$f":"DATA!$C$9","v":0.89},{"$f":"DATA!$C$10","v":64},1,0,0,0,"","",0,"","",0,"","","","",null,{"$f":"X373","v":18},null,{"$f":"TEXT(Y381,\"ddd\")","v":"zo"},"ZND",{"$f":"IFERROR(HLOOKUP(Y381,[1]DATA!$A$1:$NB$5,5,0),\"\")","v":"-"},null,null,null,null,{"$f":"VLOOKUP(Y381,[1]SRM!$S$4:$AA$368,8,0)","v":0},"","",""]
["19maDD",{"$f":"VLOOKUP($AA384,DATA!$B$3:$E384,2,0)","v":"06:30:00"},{"$f":"VLOOKUP($AA384,DATA!$B$3:$E384,3,0)","v":"14:30:00"},{"$f":"VLOOKUP($AA384,DATA!$B$3:$E384,4,0)","v":3.125E-2},0.30208333333333331,0.29027777777777775,{"$f":"DATA!$C$9","v":0.89},{"$f":"DATA!$C$10","v":64},1,391.87499999999994,407.8125,1.1805555555555555E-2,15.9375,3.9080459770114942E-2,{"$f":"TIME(INT($AD384/60),INT(MOD($AD384,60)/1),0)","v":0},"","",343.46666666666664,281,281,"","",null,{"$f":"X394","v":19},{"$f":"Y381+1","v":"2018-05-07"},{"$f":"TEXT(Y384,\"ddd\")","v":"ma"},"DD",{"$f":"IFERROR(HLOOKUP(Y384,[1]DATA!$A$1:$NB$5,3,0),\"\")","v":"D1"},17,null,41,322,{"$f":"VLOOKUP(Y384,[1]SRM!$S$4:$AA$368,6,0)","v":13},-110.87499999999994,0.68904214559386978,0.96353095193566485,{"$f":"IF(SUMIF(S384:S404,\">0\",K384:K404)=0,\"\",SUMIF(S384:S404,\">0\",K384:K404))","v":5301.5625},{"$f":"IF(SUM(S384:S404)=0,\"\",SUM(S384:S404))","v":3698},{"$f":"IFERROR(AL384/AK384,\"-\")","v":0.69753020925434717},{"$f":"IF(SUM(M384:M404)=0,\"0\",SUM(M384:M404))","v":567.1875},{"$f":"IFERROR(AN384/AK384,\"-\")","v":0.10698496905393456},{"$f":"IF(SUM(P384:P404)=0,0,SUM(P384:P404))","v":0},{"$f":"IFERROR(AP384/AK384,\"-\")","v":0},0.87827400378868403,{"$f":"IFERROR(SUMIF($AB384:$AB404,AS$5,$AJ384:$AJ404)/COUNTIFS($AB384:$AB404,AS$5,$AJ384:$AJ404,\">0\"),\"\")","v":0.89523382104340321},0.86381040012355026,0.87153783588541867,{"$f":"IFERROR((AK384-AL384-AN384-AP384),\"-\")","v":1036.375},{"$f":"IFERROR((1-AM384-AO384-AQ384), \"-\")","v":0.19548482169171827},{"$f":"IFERROR((AV384*$AE$2)/60,\"-\")","v":1105.4666666666667},{"$f":"IFERROR(SUM(AG384:AG404),\"\")","v":627}]
["19maMD",{"$f":"VLOOKUP($AA385,DATA!$B$3:$E385,2,0)","v":"14:30:00"},{"$f":"VLOOKUP($AA385,DATA!$B$3:$E385,3,0)","v":"22:30:00"},{"$f":"VLOOKUP($AA385,DATA!$B$3:$E385,4,0)","v":3.125E-2},0.30208333333333337,0.28541666666666671,{"$f":"DATA!$C$9","v":0.89},{"$f":"DATA!$C$10","v":64},1,385.31250000000006,407.81250000000006,1.6666666666666666E-2,22.5,5.5172413793103441E-2,{"$f":"TIME(INT(AD385/60),INT(MOD(AD385,60)/1),0)","v":0},"","",265.60000000000002,241,"","",241,null,{"$f":"X394","v":19},null,{"$f":"TEXT(Y384,\"ddd\")","v":"ma"},"MD",{"$f":"IFERROR(HLOOKUP(Y384,[1]DATA!$A$1:$NB$5,4,0),\"\")","v":"D3"},24,null,8,249,{"$f":"VLOOKUP(Y384,[1]SRM!$S$4:$AA$368,7,0)","v":38},-144.31250000000006,0.59095785440613013,0.87483530961791833]
["19maND",{"$f":"VLOOKUP($AA386,DATA!$B$3:$E386,2,0)","v":"22:30:00"},{"$f":"VLOOKUP($AA386,DATA!$B$3:$E386,3,0)","v":"06:30:00"},{"$f":"VLOOKUP($AA386,DATA!$B$3:$E386,4,0)","v":3.125E-2},0.30208333333333326,0.30208333333333326,{"$f":"DATA!$C$9","v":0.89},{"$f":"DATA!$C$10","v":64},1,407.81249999999989,407.81249999999989,0,"","",0,"","",407.46666666666664,347,"",347,"",null,{"$f":"X394","v":19},null,{"$f":"TEXT(Y384,\"ddd\")","v":"ma"},"ND",{"$f":"IFERROR(HLOOKUP(Y384,[1]DATA!$A$1:$NB$5,5,0),\"\")","v":"D2"},0,null,35,382,{"$f":"VLOOKUP(Y384,[1]SRM!$S$4:$AA$368,8,0)","v":20},-60.812499999999886,0.85088122605364014,0.95321272613849028]
["19diDD",{"$f":"VLOOKUP($AA387,DATA!$B$3:$E387,2,0)","v":"06:30:00"},{"$f":"VLOOKUP($AA387,DATA!$B$3:$E387,3,0)","v":"14:30:00"},{"$f":"VLOOKUP($AA387,DATA!$B$3:$E387,4,0)","v":3.125E-2},0.30208333333333331,0.27916666666666667,{"$f":"DATA!$C$9","v":0.89},{"$f":"DATA!$C$10","v":64},1,376.875,407.8125,2.2916666666666669E-2,30.937500000000004,7.5862068965517254E-2,0,"","",359.46666666666664,323,323,"","",null,{"$f":"X394","v":19},{"$f":"Y384+1","v":"2018-05-08"},{"$f":"TEXT(Y387,\"ddd\")","v":"di"},"DD",{"$f":"IFERROR(HLOOKUP(Y387,[1]DATA!$A$1:$NB$5,3,0),\"\")","v":"D1"},33,null,14,337,{"$f":"VLOOKUP(Y387,[1]SRM!$S$4:$AA$368,6,0)","v":8},-53.875,0.79203065134099615,0.97822931785195932]
["19diMD",{"$f":"VLOOKUP($AA388,DATA!$B$3:$E388,2,0)","v":"14:30:00"},{"$f":"VLOOKUP($AA388,DATA!$B$3:$E388,3,0)","v":"22:30:00"},{"$f":"VLOOKUP($AA388,DATA!$B$3:$E388,4,0)","v":3.125E-2},0.30208333333333337,0.26250000000000007,{"$f":"DATA!$C$9","v":0.89},{"$f":"DATA!$C$10","v":64},1,354.37500000000011,407.81250000000006,3.9583333333333331E-2,53.4375,0.13103448275862067,0,"","",334.93333333333334,290,"","",290,null,{"$f":"X394","v":19},null,{"$f":"TEXT(Y387,\"ddd\")","v":"di"},"MD",{"$f":"IFERROR(HLOOKUP(Y387,[1]DATA!$A$1:$NB$5,4,0),\"\")","v":"D3"},57,null,24,314,{"$f":"VLOOKUP(Y387,[1]SRM!$S$4:$AA$368,7,0)","v":47},-64.375000000000114,0.71111111111111103,0.87694187467271778]
["19diND",{"$f":"VLOOKUP($AA389,DATA!$B$3:$E389,2,0)","v":"22:30:00"},{"$f":"VLOOKUP($AA389,DATA!$B$3:$E389,3,0)","v":"06:30:00"},{"$f":"VLOOKUP($AA389,DATA!$B$3:$E389,4,0)","v":3.125E-2},0.30208333333333326,0.25694444444444436,{"$f":"DATA!$C$9","v":0.89},{"$f":"DATA!$C$10","v":64},1,346.87499999999989,407.81249999999989,4.5138888888888888E-2,60.9375,0.14942528735632188,0,"","",358.4,315,"",315,"",null,{"$f":"X394","v":19},null,{"$f":"TEXT(Y387,\"ddd\")","v":"di"},"ND",{"$f":"IFERROR(HLOOKUP(Y387,[1]DATA!$A$1:$NB$5,5,0),\"\")","v":"D2"},65,null,21,336,{"$f":"VLOOKUP(Y387,[1]SRM!$S$4:$AA$368,8,0)","v":76},-31.874999999999886,0.77241379310344849,0.82504604051565378]
["19woDD",{"$f":"VLOOKUP($AA390,DATA!$B$3:$E390,2,0)","v":"06:30:00"},{"$f":"VLOOKUP($AA390,DATA!$B$3:$E390,3,0)","v":"14:30:00"},{"$f":"VLOOKUP($AA390,DATA!$B$3:$E390,4,0)","v":3.125E-2},0.30208333333333331,0.26527777777777778,{"$f":"DATA!$C$9","v":0.89},{"$f":"DATA!$C$10","v":64},1,358.125,407.8125,3.6805555555555557E-2,49.6875,0.12183908045977011,0,"","",363.73333333333335,332,332,"","",null,{"$f":"X394","v":19},{"$f":"Y387+1","v":"2018-05-09"},{"$f":"TEXT(Y390,\"ddd\")","v":"wo"},"DD",{"$f":"IFERROR(HLOOKUP(Y390,[1]DATA!$A$1:$NB$5,3,0),\"\")","v":"D1"},53,null,9,341,{"$f":"VLOOKUP(Y390,[1]SRM!$S$4:$AA$368,6,0)","v":2},{"$f":"IFERROR(S390-J390,\"\")","v":-26.125},{"$f":"IFERROR(IF(S390/(E390*86400/H390)<=0,\"\",S390/(E390*86400/H390)),\"\")","v":0.81409961685823751},0.99453153481589496]
["19woMD",{"$f":"VLOOKUP($AA391,DATA!$B$3:$E391,2,0)","v":"14:30:00"},{"$f":"VLOOKUP($AA391,DATA!$B$3:$E391,3,0)","v":"22:30:00"},{"$f":"VLOOKUP($AA391,DATA!$B$3:$E391,4,0)","v":3.125E-2},0.30208333333333337,0.24722222222222226,{"$f":"DATA!$C$9","v":0.89},{"$f":"DATA!$C$10","v":64},1,333.75000000000006,407.81250000000006,{"$f":"TIME(INT($AC391/60),INT(MOD($AC391,60)/1),0)","v":5.486111111111111E-2},{"$f":"IF($L391*86400/$H391=0,\"\",$L391*86400/$H391)","v":74.0625},{"$f":"IFERROR($M391/$K391,\"\")","v":0.18160919540229883},0,"",{"$f":"IFERROR($P391/$K391,\"\")","v":""},299.73333333333335,260,{"$f":"IF(IF($AB391=\"D1\",$S391,\"\")=0,\"\",IF($AB391=\"D1\",$S391,\"\"))","v":""},{"$f":"IF(IF($AB391=\"D2\",$S391,\"\")=0,\"\",IF($AB391=\"D2\",$S391,\"\"))","v":""},{"$f":"IF(IF($AB391=\"D3\",$S391,\"\")=0,\"\",IF($AB391=\"D3\",$S391,\"\"))","v":260},null,{"$f":"X394","v":19},null,{"$f":"TEXT(Y390,\"ddd\")","v":"wo"},"MD",{"$f":"IFERROR(HLOOKUP(Y390,[1]DATA!$A$1:$NB$5,4,0),\"\")","v":"D3"},79,null,21,281,{"$f":"VLOOKUP(Y390,[1]SRM!$S$4:$AA$368,7,0)","v":55},-73.750000000000057,0.63754789272030643,0.84495395602330392]
["19woND",{"$f":"VLOOKUP($AA392,DATA!$B$3:$E392,2,0)","v":"22:30:00"},{"$f":"VLOOKUP($AA392,DATA!$B$3:$E392,3,0)","v":"06:30:00"},{"$f":"VLOOKUP($AA392,DATA!$B$3:$E392,4,0)","v":3.125E-2},0.30208333333333326,0.26249999999999996,{"$f":"DATA!$C$9","v":0.89},{"$f":"DATA!$C$10","v":64},1,354.37499999999994,407.81249999999989,3.9583333333333331E-2,53.4375,0.13103448275862073,0,"","",342.4,304,"",304,"",null,{"$f":"X394","v":19},null,{"$f":"TEXT(Y390,\"ddd\")","v":"wo"},"ND",{"$f":"IFERROR(HLOOKUP(Y390,[1]DATA!$A$1:$NB$5,5,0),\"\")","v":"D2"},57,null,17,321,{"$f":"VLOOKUP(Y390,[1]SRM!$S$4:$AA$368,8,0)","v":71},-50.374999999999943,0.74544061302682008,0.82825350749879045]
["19doDD",{"$f":"VLOOKUP($AA393,DATA!$B$3:$E393,2,0)","v":"06:30:00"},{"$f":"VLOOKUP($AA393,DATA!$B$3:$E393,3,0)","v":"14:30:00"},{"$f":"VLOOKUP($AA393,DATA!$B$3:$E393,4,0)","v":3.125E-2},0.30208333333333331,0.30208333333333331,{"$f":"DATA!$C$9","v":0.89},{"$f":"DATA!$C$10","v":64},1,407.8125,407.8125,0,"","",0,"","",0,"","","","",null,{"$f":"X394","v":19},{"$f":"Y390+1","v":"2018-05-10"},{"$f":"TEXT(Y393,\"ddd\")","v":"do"},"DD",{"$f":"IFERROR(HLOOKUP(Y393,[1]DATA!$A$1:$NB$5,3,0),\"\")","v":"D1"},null,null,null,null,{"$f":"VLOOKUP(Y393,[1]SRM!$S$4:$AA$368,6,0)","v":0},"","",""]
["19doMD",{"$f":"VLOOKUP($AA394,DATA!$B$3:$E394,2,0)","v":"14:30:00"},{"$f":"VLOOKUP($AA394,DATA!$B$3:$E394,3,0)","v":"22:30:00"},{"$f":"VLOOKUP($AA394,DATA!$B$3:$E394,4,0)","v":3.125E-2},0.30208333333333337,0.30208333333333337,{"$f":"DATA!$C$9","v":0.89},{"$f":"DATA!$C$10","v":64},1,407.81250000000006,407.81250000000006,0,"","",0,"","",0,"","","","",null,{"$f":"WEEKNUM($Y384)","v":19},null,{"$f":"TEXT(Y393,\"ddd\")","v":"do"},"MD",{"$f":"IFERROR(HLOOKUP(Y393,[1]DATA!$A$1:$NB$5,4,0),\"\")","v":"D3"},null,null,null,null,{"$f":"VLOOKUP(Y393,[1]SRM!$S$4:$AA$368,7,0)","v":0},"","",""]
["19doND",{"$f":"VLOOKUP($AA395,DATA!$B$3:$E395,2,0)","v":"22:30:00"},{"$f":"VLOOKUP($AA395,DATA!$B$3:$E395,3,0)","v":"06:30:00"},{"$f":"VLOOKUP($AA395,DATA!$B$3:$E395,4,0)","v":3.125E-2},0.30208333333333326,0.30208333333333326,{"$f":"DATA!$C$9","v":0.89},{"$f":"DATA!$C$10","v":64},1,407.81249999999989,407.81249999999989,0,"","",0,"","",0,"","","","",null,{"$f":"X394","v":19},null,{"$f":"TEXT(Y393,\"ddd\")","v":"do"},"ND",{"$f":"IFERROR(HLOOKUP(Y393,[1]DATA!$A$1:$NB$5,5,0),\"\")","v":"D2"},null,null,null,null,{"$f":"VLOOKUP(Y393,[1]SRM!$S$4:$AA$368,8,0)","v":0},"","",""]
["19vrDD",{"$f":"VLOOKUP($AA396,DATA!$B$3:$E396,2,0)","v":"06:30:00"},{"$f":"VLOOKUP($AA396,DATA!$B$3:$E396,3,0)","v":"14:30:00"},{"$f":"VLOOKUP($AA396,DATA!$B$3:$E396,4,0)","v":3.125E-2},0.30208333333333331,0.21875,{"$f":"DATA!$C$9","v":0.89},{"$f":"DATA!$C$10","v":64},1,295.3125,407.8125,8.3333333333333329E-2,112.5,0.27586206896551724,0,"","",246.4,208,208,"","",null,{"$f":"X394","v":19},{"$f":"Y393+1","v":"2018-05-11"},{"$f":"TEXT(Y396,\"ddd\")","v":"vr"},"DD",{"$f":"IFERROR(HLOOKUP(Y396,[1]DATA!$A$1:$NB$5,3,0),\"\")","v":"D1"},120,null,23,231,{"$f":"VLOOKUP(Y396,[1]SRM!$S$4:$AA$368,6,0)","v":210},-87.3125,0.51003831417624523,0.53987730061349692]
["19vrMD",{"$f":"VLOOKUP($AA397,DATA!$B$3:$E397,2,0)","v":"14:30:00"},{"$f":"VLOOKUP($AA397,DATA!$B$3:$E397,3,0)","v":"22:30:00"},{"$f":"VLOOKUP($AA397,DATA!$B$3:$E397,4,0)","v":3.125E-2},0.30208333333333337,0.2902777777777778,{"$f":"DATA!$C$9","v":0.89},{"$f":"DATA!$C$10","v":64},1,391.87500000000006,407.81250000000006,1.1805555555555555E-2,15.9375,3.9080459770114935E-2,0,"","",297.60000000000002,264,"","",264,null,{"$f":"X394","v":19},null,{"$f":"TEXT(Y396,\"ddd\")","v":"vr"},"MD",{"$f":"IFERROR(HLOOKUP(Y396,[1]DATA!$A$1:$NB$5,4,0),\"\")","v":"D3"},17,null,15,279,{"$f":"VLOOKUP(Y396,[1]SRM!$S$4:$AA$368,7,0)","v":37},-127.87500000000006,0.64735632183908032,0.88942020322773463]
["19vrND",{"$f":"VLOOKUP($AA398,DATA!$B$3:$E398,2,0)","v":"22:30:00"},{"$f":"VLOOKUP($AA398,DATA!$B$3:$E398,3,0)","v":"06:30:00"},{"$f":"VLOOKUP($AA398,DATA!$B$3:$E398,4,0)","v":3.125E-2},0.30208333333333326,0.2715277777777777,{"$f":"DATA!$C$9","v":0.89},{"$f":"DATA!$C$10","v":64},1,366.56249999999989,407.81249999999989,3.0555555555555555E-2,41.25,0.10114942528735635,0,"","",280.5333333333333,233,"",233,"",null,{"$f":"X394","v":19},null,{"$f":"TEXT(Y396,\"ddd\")","v":"vr"},"ND",{"$f":"IFERROR(HLOOKUP(Y396,[1]DATA!$A$1:$NB$5,5,0),\"\")","v":"D2"},44,null,30,263,{"$f":"VLOOKUP(Y396,[1]SRM!$S$4:$AA$368,8,0)","v":50},-133.56249999999989,0.57134099616858258,0.84872932634126663]
["19zaDD",{"$f":"VLOOKUP($AA399,DATA!$B$3:$E399,2,0)","v":"06:30:00"},{"$f":"VLOOKUP($AA399,DATA!$B$3:$E399,3,0)","v":"14:30:00"},{"$f":"VLOOKUP($AA399,DATA!$B$3:$E399,4,0)","v":3.125E-2},0.30208333333333331,0.27499999999999997,{"$f":"DATA!$C$9","v":0.89},{"$f":"DATA!$C$10","v":64},1,371.24999999999994,407.8125,2.7083333333333334E-2,36.5625,8.9655172413793102E-2,0,"","",336,300,300,"","",null,{"$f":"X394","v":19},{"$f":"Y396+1","v":"2018-05-12"},{"$f":"TEXT(Y399,\"ddd\")","v":"za"},"DD",{"$f":"IFERROR(HLOOKUP(Y399,[1]DATA!$A$1:$NB$5,3,0),\"\")","v":"D1"},39,null,15,315,{"$f":"VLOOKUP(Y399,[1]SRM!$S$4:$AA$368,6,0)","v":0},-71.249999999999943,0.73563218390804597,1]
["19zaMD",{"$f":"VLOOKUP($AA400,DATA!$B$3:$E400,2,0)","v":"14:30:00"},{"$f":"VLOOKUP($AA400,DATA!$B$3:$E400,3,0)","v":"22:30:00"},{"$f":"VLOOKUP($AA400,DATA!$B$3:$E400,4,0)","v":3.125E-2},0.30208333333333337,0.30208333333333337,{"$f":"DATA!$C$9","v":0.89},{"$f":"DATA!$C$10","v":64},1,407.81250000000006,407.81250000000006,0,"","",0,"","",0,"","","","",null,{"$f":"X394","v":19},null,{"$f":"TEXT(Y399,\"ddd\")","v":"za"},"MD",{"$f":"IFERROR(HLOOKUP(Y399,[1]DATA!$A$1:$NB$5,4,0),\"\")","v":"-"},null,null,null,null,{"$f":"VLOOKUP(Y399,[1]SRM!$S$4:$AA$368,7,0)","v":0},"","",""]
["19zaND",{"$f":"VLOOKUP($AA401,DATA!$B$3:$E401,2,0)","v":"22:30:00"},{"$f":"VLOOKUP($AA401,DATA!$B$3:$E401,3,0)","v":"06:30:00"},{"$f":"VLOOKUP($AA401,DATA!$B$3:$E401,4,0)","v":3.125E-2},0.30208333333333326,0.30208333333333326,{"$f":"DATA!$C$9","v":0.89},{"$f":"DATA!$C$10","v":64},1,407.81249999999989,407.81249999999989,0,"","",0,"","",0,"","","","",null,{"$f":"X394","v":19},null,{"$f":"TEXT(Y399,\"ddd\")","v":"za"},"ND",{"$f":"IFERROR(HLOOKUP(Y399,[1]DATA!$A$1:$NB$5,5,0),\"\")","v":"-"},null,null,null,null,{"$f":"VLOOKUP(Y399,[1]SRM!$S$4:$AA$368,8,0)","v":0},"","",""]
["19zoDD",{"$f":"VLOOKUP($AA402,DATA!$B$3:$E402,2,0)","v":"06:30:00"},{"$f":"VLOOKUP($AA402,DATA!$B$3:$E402,3,0)","v":"14:30:00"},{"$f":"VLOOKUP($AA402,DATA!$B$3:$E402,4,0)","v":3.125E-2},0.30208333333333331,0.30208333333333331,{"$f":"DATA!$C$9","v":0.89},{"$f":"DATA!$C$10","v":64},1,407.8125,407.8125,0,"","",0,"","",0,"","","","",null,{"$f":"X394","v":19},{"$f":"Y399+1","v":"2018-05-13"},{"$f":"TEXT(Y402,\"ddd\")","v":"zo"},"DD",{"$f":"IFERROR(HLOOKUP(Y402,[1]DATA!$A$1:$NB$5,3,0),\"\")","v":"-"},null,null,null,null,{"$f":"VLOOKUP(Y402,[1]SRM!$S$4:$AA$368,6,0)","v":0},"","",""]
["19zoMD",{"$f":"VLOOKUP($AA403,DATA!$B$3:$E403,2,0)","v":"14:30:00"},{"$f":"VLOOKUP($AA403,DATA!$B$3:$E403,3,0)","v":"22:30:00"},{"$f":"VLOOKUP($AA403,DATA!$B$3:$E403,4,0)","v":3.125E-2},0.30208333333333337,0.30208333333333337,{"$f":"DATA!$C$9","v":0.89},{"$f":"DATA!$C$10","v":64},1,407.81250000000006,407.81250000000006,0,"","",0,"","",0,"","","","",null,{"$f":"X394","v":19},null,{"$f":"TEXT(Y402,\"ddd\")","v":"zo"},"MD",{"$f":"IFERROR(HLOOKUP(Y402,[1]DATA!$A$1:$NB$5,4,0),\"\")","v":"-"},null,null,null,null,{"$f":"VLOOKUP(Y402,[1]SRM!$S$4:$AA$368,7,0)","v":0},"","",""]
["19zoZND",{"$f":"VLOOKUP($AA404,DATA!$B$3:$E404,2,0)","v":"00:00:00"},{"$f":"VLOOKUP($AA404,DATA!$B$3:$E404,3,0)","v":"00:00:00"},{"$f":"VLOOKUP($AA404,DATA!$B$3:$E404,4,0)","v":0},0,0,{"$f":"DATA!$C$9","v":0.89},{"$f":"DATA!$C$10","v":64},1,0,0,0,"","",0,"","",0,"","","","",null,{"$f":"X394","v":19},null,{"$f":"TEXT(Y402,\"ddd\")","v":"zo"},"ZND",{"$f":"IFERROR(HLOOKUP(Y402,[1]DATA!$A$1:$NB$5,5,0),\"\")","v":"-"},null,null,null,null,{"$f":"VLOOKUP(Y402,[1]SRM!$S$4:$AA$368,8,0)","v":0},"","",""]
["20maDD",{"$f":"VLOOKUP($AA405,DATA!$B$3:$E405,2,0)","v":"06:30:00"},{"$f":"VLOOKUP($AA405,DATA!$B$3:$E405,3,0)","v":"14:30:00"},{"$f":"VLOOKUP($AA405,DATA!$B$3:$E405,4,0)","v":3.125E-2},0.30208333333333331,0.3,{"$f":"DATA!$C$9","v":0.89},{"$f":"DATA!$C$10","v":64},1,405,407.8125,2.0833333333333333E-3,2.8125,6.8965517241379309E-3,{"$f":"TIME(INT($AD405/60),INT(MOD($AD405,60)/1),0)","v":0},"","",344.5333333333333,281,"","",281,null,{"$f":"X415","v":20},{"$f":"Y402+1","v":"2018-05-14"},{"$f":"TEXT(Y405,\"ddd\")","v":"ma"},"DD",{"$f":"IFERROR(HLOOKUP(Y405,[1]DATA!$A$1:$NB$5,3,0),\"\")","v":"D3"},3,null,42,323,{"$f":"VLOOKUP(Y405,[1]SRM!$S$4:$AA$368,6,0)","v":107},-124,0.68904214559386978,0.7630296766573158,{"$f":"IF(SUMIF(S405:S425,\">0\",K405:K425)=0,\"\",SUMIF(S405:S425,\">0\",K405:K425))","v":6525},{"$f":"IF(SUM(S405:S425)=0,\"\",SUM(S405:S425))","v":4466},{"$f":"IFERROR(AL405/AK405,\"-\")","v":0.68444444444444441},{"$f":"IF(SUM(M405:M425)=0,\"0\",SUM(M405:M425))","v":243.75},{"$f":"IFERROR(AN405/AK405,\"-\")","v":3.7356321839080463E-2},{"$f":"IF(SUM(P405:P425)=0,0,SUM(P405:P425))","v":0},{"$f":"IFERROR(AP405/AK405,\"-\")","v":0},0.90876210772284849,{"$f":"IFERROR(SUMIF($AB405:$AB425,AS$5,$AJ405:$AJ425)/COUNTIFS($AB405:$AB425,AS$5,$AJ405:$AJ425,\">0\"),\"\")","v":0.91380894485318076},0.92530757582159284,0.88885208153721618,{"$f":"IFERROR((AK405-AL405-AN405-AP405),\"-\")","v":1815.25},{"$f":"IFERROR((1-AM405-AO405-AQ405), \"-\")","v":0.27819923371647515},{"$f":"IFERROR((AV405*$AE$2)/60,\"-\")","v":1936.2666666666667},{"$f":"IFERROR(SUM(AG405:AG425),\"\")","v":563}]
["20maMD",{"$f":"VLOOKUP($AA406,DATA!$B$3:$E406,2,0)","v":"14:30:00"},{"$f":"VLOOKUP($AA406,DATA!$B$3:$E406,3,0)","v":"22:30:00"},{"$f":"VLOOKUP($AA406,DATA!$B$3:$E406,4,0)","v":3.125E-2},0.30208333333333337,0.28263888888888894,{"$f":"DATA!$C$9","v":0.89},{"$f":"DATA!$C$10","v":64},1,381.56250000000006,407.81250000000006,1.9444444444444445E-2,26.25,6.4367816091954008E-2,{"$f":"TIME(INT(AD406/60),INT(MOD(AD406,60)/1),0)","v":0},"","",345.6,297,"",297,"",null,{"$f":"X415","v":20},null,{"$f":"TEXT(Y405,\"ddd\")","v":"ma"},"MD",{"$f":"IFERROR(HLOOKUP(Y405,[1]DATA!$A$1:$NB$5,4,0),\"\")","v":"D2"},28,null,27,324,{"$f":"VLOOKUP(Y405,[1]SRM!$S$4:$AA$368,7,0)","v":30},-84.562500000000057,0.72827586206896544,0.92012779552715651]
["20maND",{"$f":"VLOOKUP($AA407,DATA!$B$3:$E407,2,0)","v":"22:30:00"},{"$f":"VLOOKUP($AA407,DATA!$B$3:$E407,3,0)","v":"06:30:00"},{"$f":"VLOOKUP($AA407,DATA!$B$3:$E407,4,0)","v":3.125E-2},0.30208333333333326,0.29930555555555549,{"$f":"DATA!$C$9","v":0.89},{"$f":"DATA!$C$10","v":64},1,404.06249999999989,407.81249999999989,2.7777777777777779E-3,3.75,9.1954022988505781E-3,0,"","",285.86666666666667,258,258,"","",null,{"$f":"X415","v":20},null,{"$f":"TEXT(Y405,\"ddd\")","v":"ma"},"ND",{"$f":"IFERROR(HLOOKUP(Y405,[1]DATA!$A$1:$NB$5,5,0),\"\")","v":"D1"},4,null,10,268,{"$f":"VLOOKUP(Y405,[1]SRM!$S$4:$AA$368,8,0)","v":93},-146.06249999999989,0.63264367816091971,0.75453105754003169]
["20diDD",{"$f":"VLOOKUP($AA408,DATA!$B$3:$E408,2,0)","v":"06:30:00"},{"$f":"VLOOKUP($AA408,DATA!$B$3:$E408,3,0)","v":"14:30:00"},{"$f":"VLOOKUP($AA408,DATA!$B$3:$E408,4,0)","v":3.125E-2},0.30208333333333331,0.30208333333333331,{"$f":"DATA!$C$9","v":0.89},{"$f":"DATA!$C$10","v":64},1,407.8125,407.8125,0,"","",0,"","",390.4,325,"","",325,null,{"$f":"X415","v":20},{"$f":"Y405+1","v":"2018-05-15"},{"$f":"TEXT(Y408,\"ddd\")","v":"di"},"DD",{"$f":"IFERROR(HLOOKUP(Y408,[1]DATA!$A$1:$NB$5,3,0),\"\")","v":"D3"},0,null,41,366,{"$f":"VLOOKUP(Y408,[1]SRM!$S$4:$AA$368,6,0)","v":86},-82.8125,0.79693486590038309,0.8194794290512174]
["20diMD",{"$f":"VLOOKUP($AA409,DATA!$B$3:$E409,2,0)","v":"14:30:00"},{"$f":"VLOOKUP($AA409,DATA!$B$3:$E409,3,0)","v":"22:30:00"},{"$f":"VLOOKUP($AA409,DATA!$B$3:$E409,4,0)","v":3.125E-2},0.30208333333333337,0.27430555555555558,{"$f":"DATA!$C$9","v":0.89},{"$f":"DATA!$C$10","v":64},1,370.31250000000006,407.81250000000006,2.7777777777777776E-2,37.5,9.1954022988505732E-2,0,"","",365.86666666666667,317,"",317,"",null,{"$f":"X415","v":20},null,{"$f":"TEXT(Y408,\"ddd\")","v":"di"},"MD",{"$f":"IFERROR(HLOOKUP(Y408,[1]DATA!$A$1:$NB$5,4,0),\"\")","v":"D2"},40,null,26,343,{"$f":"VLOOKUP(Y408,[1]SRM!$S$4:$AA$368,7,0)","v":37},-53.312500000000057,0.7773180076628351,0.90815819956975008]
["20diND",{"$f":"VLOOKUP($AA410,DATA!$B$3:$E410,2,0)","v":"22:30:00"},{"$f":"VLOOKUP($AA410,DATA!$B$3:$E410,3,0)","v":"06:30:00"},{"$f":"VLOOKUP($AA410,DATA!$B$3:$E410,4,0)","v":3.125E-2},0.30208333333333326,0.29583333333333328,{"$f":"DATA!$C$9","v":0.89},{"$f":"DATA!$C$10","v":64},1,399.37499999999994,407.81249999999989,6.2499999999999995E-3,8.4375,2.06896551724138E-2,0,"","",355.2,308,308,"","",null,{"$f":"X415","v":20},null,{"$f":"TEXT(Y408,\"ddd\")","v":"di"},"ND",{"$f":"IFERROR(HLOOKUP(Y408,[1]DATA!$A$1:$NB$5,5,0),\"\")","v":"D1"},9,null,25,333,{"$f":"VLOOKUP(Y408,[1]SRM!$S$4:$AA$368,8,0)","v":0},-91.374999999999943,0.75524904214559407,1]
["20woDD",{"$f":"VLOOKUP($AA411,DATA!$B$3:$E411,2,0)","v":"06:30:00"},{"$f":"VLOOKUP($AA411,DATA!$B$3:$E411,3,0)","v":"14:30:00"},{"$f":"VLOOKUP($AA411,DATA!$B$3:$E411,4,0)","v":3.125E-2},0.30208333333333331,0.28402777777777777,{"$f":"DATA!$C$9","v":0.89},{"$f":"DATA!$C$10","v":64},1,383.4375,407.8125,1.8055555555555557E-2,24.375000000000004,5.9770114942528742E-2,0,"","",315.73333333333335,293,"","",293,null,{"$f":"X415","v":20},{"$f":"Y408+1","v":"2018-05-16"},{"$f":"TEXT(Y411,\"ddd\")","v":"wo"},"DD",{"$f":"IFERROR(HLOOKUP(Y411,[1]DATA!$A$1:$NB$5,3,0),\"\")","v":"D3"},26,null,3,296,{"$f":"VLOOKUP(Y411,[1]SRM!$S$4:$AA$368,6,0)","v":0},-90.4375,0.71846743295019155,{"$f":"IFERROR(R411/(R411+AG411),\"\")","v":1}]
["20woMD",{"$f":"VLOOKUP($AA412,DATA!$B$3:$E412,2,0)","v":"14:30:00"},{"$f":"VLOOKUP($AA412,DATA!$B$3:$E412,3,0)","v":"22:30:00"},{"$f":"VLOOKUP($AA412,DATA!$B$3:$E412,4,0)","v":3.125E-2},{"$f":"(C412-B412+(B412>C412))-D412","v":0.30208333333333337},{"$f":"E412-O412-L412","v":0.29375000000000001},{"$f":"DATA!$C$9","v":0.89},{"$f":"DATA!$C$10","v":64},1,{"$f":"F412*86400/H412*I412","v":396.5625},{"$f":"E412*86400/H412","v":407.81250000000006},8.3333333333333332E-3,11.25,2.758620689655172E-2,0,"","",{"$f":"AF412*AG$2","v":345.6},{"$f":"IF(AF412-AE412=0,\"\",AF412-AE412)","v":288},"",288,"",null,{"$f":"X415","v":20},null,{"$f":"TEXT(Y411,\"ddd\")","v":"wo"},"MD",{"$f":"IFERROR(HLOOKUP(Y411,[1]DATA!$A$1:$NB$5,4,0),\"\")","v":"D2"},12,null,36,324,{"$f":"VLOOKUP(Y411,[1]SRM!$S$4:$AA$368,7,0)","v":55},-108.5625,0.70620689655172408,0.86270594108836751]
["20woND",{"$f":"VLOOKUP($AA413,DATA!$B$3:$E413,2,0)","v":"22:30:00"},{"$f":"VLOOKUP($AA413,DATA!$B$3:$E413,3,0)","v":"06:30:00"},{"$f":"VLOOKUP($AA413,DATA!$B$3:$E413,4,0)","v":3.125E-2},0.30208333333333326,0.28472222222222215,{"$f":"DATA!$C$9","v":0.89},{"$f":"DATA!$C$10","v":64},1,384.37499999999989,407.81249999999989,1.7361111111111112E-2,23.4375,5.7471264367816105E-2,0,"","",364.8,303,303,"","",null,{"$f":"X415","v":20},null,{"$f":"TEXT(Y411,\"ddd\")","v":"wo"},"ND",{"$f":"IFERROR(HLOOKUP(Y411,[1]DATA!$A$1:$NB$5,5,0),\"\")","v":"D1"},25,null,39,342,{"$f":"VLOOKUP(Y411,[1]SRM!$S$4:$AA$368,8,0)","v":30},-81.374999999999886,0.7429885057471266,0.92401215805471126]
["20doDD",{"$f":"VLOOKUP($AA414,DATA!$B$3:$E414,2,0)","v":"06:30:00"},{"$f":"VLOOKUP($AA414,DATA!$B$3:$E414,3,0)","v":"14:30:00"},{"$f":"VLOOKUP($AA414,DATA!$B$3:$E414,4,0)","v":3.125E-2},0.30208333333333331,0.28680555555555554,{"$f":"DATA!$C$9","v":0.89},{"$f":"DATA!$C$10","v":64},1,387.1875,407.8125,1.5277777777777777E-2,20.625,5.057471264367816E-2,0,"","",261.33333333333331,236,"","",236,null,{"$f":"X415","v":20},{"$f":"Y411+1","v":"2018-05-17"},{"$f":"TEXT(Y414,\"ddd\")","v":"do"},"DD",{"$f":"IFERROR(HLOOKUP(Y414,[1]DATA!$A$1:$NB$5,3,0),\"\")","v":"D3"},22,null,9,245,{"$f":"VLOOKUP(Y414,[1]SRM!$S$4:$AA$368,6,0)","v":17},-151.1875,0.57869731800766289,0.93892215568862269]
["20doMD",{"$f":"VLOOKUP($AA415,DATA!$B$3:$E415,2,0)","v":"14:30:00"},{"$f":"VLOOKUP($AA415,DATA!$B$3:$E415,3,0)","v":"22:30:00"},{"$f":"VLOOKUP($AA415,DATA!$B$3:$E415,4,0)","v":3.125E-2},0.30208333333333337,0.28680555555555559,{"$f":"DATA!$C$9","v":0.89},{"$f":"DATA!$C$10","v":64},1,387.18750000000006,407.81250000000006,1.5277777777777777E-2,20.625,5.0574712643678153E-2,0,"","",305.06666666666666,264,"",264,"",null,{"$f":"WEEKNUM($Y405)","v":20},null,{"$f":"TEXT(Y414,\"ddd\")","v":"do"},"MD",{"$f":"IFERROR(HLOOKUP(Y414,[1]DATA!$A$1:$NB$5,4,0),\"\")","v":"D2"},22,null,22,286,{"$f":"VLOOKUP(Y414,[1]SRM!$S$4:$AA$368,7,0)","v":19},-123.18750000000006,0.64735632183908032,0.94137008845916481]
["20doND",{"$f":"VLOOKUP($AA416,DATA!$B$3:$E416,2,0)","v":"22:30:00"},{"$f":"VLOOKUP($AA416,DATA!$B$3:$E416,3,0)","v":"06:30:00"},{"$f":"VLOOKUP($AA416,DATA!$B$3:$E416,4,0)","v":3.125E-2},0.30208333333333326,0.29097222222222213,{"$f":"DATA!$C$9","v":0.89},{"$f":"DATA!$C$10","v":64},1,392.81249999999989,407.81249999999989,1.1111111111111112E-2,15,3.6781609195402312E-2,0,"","",293.33333333333331,264,264,"","",null,{"$f":"X415","v":20},null,{"$f":"TEXT(Y414,\"ddd\")","v":"do"},"ND",{"$f":"IFERROR(HLOOKUP(Y414,[1]DATA!$A$1:$NB$5,5,0),\"\")","v":"D1"},16,null,11,275,{"$f":"VLOOKUP(Y414,[1]SRM!$S$4:$AA$368,8,0)","v":7},-128.81249999999989,0.64735632183908065,0.97669256381797998]
["20vrDD",{"$f":"VLOOKUP($AA417,DATA!$B$3:$E417,2,0)","v":"06:30:00"},{"$f":"VLOOKUP($AA417,DATA!$B$3:$E417,3,0)","v":"14:30:00"},{"$f":"VLOOKUP($AA417,DATA!$B$3:$E417,4,0)","v":3.125E-2},0.30208333333333331,0.29722222222222222,{"$f":"DATA!$C$9","v":0.89},{"$f":"DATA!$C$10","v":64},1,401.25,407.8125,4.8611111111111112E-3,6.5625,1.6091954022988506E-2,0,"","",341.33333333333331,295,"","",295,null,{"$f":"X415","v":20},{"$f":"Y414+1","v":"2018-05-18"},{"$f":"TEXT(Y417,\"ddd\")","v":"vr"},"DD",{"$f":"IFERROR(HLOOKUP(Y417,[1]DATA!$A$1:$NB$5,3,0),\"\")","v":"D3"},7,null,25,320,{"$f":"VLOOKUP(Y417,[1]SRM!$S$4:$AA$368,6,0)","v":22},-106.25,0.7233716475095785,0.93944954128440372]
["20vrMD",{"$f":"VLOOKUP($AA418,DATA!$B$3:$E418,2,0)","v":"14:30:00"},{"$f":"VLOOKUP($AA418,DATA!$B$3:$E418,3,0)","v":"22:30:00"},{"$f":"VLOOKUP($AA418,DATA!$B$3:$E418,4,0)","v":3.125E-2},0.30208333333333337,0.29722222222222228,{"$f":"DATA!$C$9","v":0.89},{"$f":"DATA!$C$10","v":64},1,401.25000000000006,407.81250000000006,4.8611111111111112E-3,6.5625,1.6091954022988502E-2,0,"","",310.39999999999998,267,"",267,"",null,{"$f":"X415","v":20},null,{"$f":"TEXT(Y417,\"ddd\")","v":"vr"},"MD",{"$f":"IFERROR(HLOOKUP(Y417,[1]DATA!$A$1:$NB$5,4,0),\"\")","v":"D2"},7,null,24,291,{"$f":"VLOOKUP(Y417,[1]SRM!$S$4:$AA$368,7,0)","v":15},-134.25000000000006,0.65471264367816084,0.95390288875230489]
["20vrND",{"$f":"VLOOKUP($AA419,DATA!$B$3:$E419,2,0)","v":"22:30:00"},{"$f":"VLOOKUP($AA419,DATA!$B$3:$E419,3,0)","v":"06:30:00"},{"$f":"VLOOKUP($AA419,DATA!$B$3:$E419,4,0)","v":3.125E-2},0.30208333333333326,0.28124999999999994,{"$f":"DATA!$C$9","v":0.89},{"$f":"DATA!$C$10","v":64},1,379.68749999999994,407.81249999999989,2.0833333333333332E-2,28.125,6.8965517241379323E-2,0,"","",280.5333333333333,258,"",258,"",null,{"$f":"X415","v":20},null,{"$f":"TEXT(Y417,\"ddd\")","v":"vr"},"ND",{"$f":"IFERROR(HLOOKUP(Y417,[1]DATA!$A$1:$NB$5,5,0),\"\")","v":"D2"},30,null,5,263,{"$f":"VLOOKUP(Y417,[1]SRM!$S$4:$AA$368,8,0)","v":10},-121.68749999999994,0.63264367816091971,0.96558054153281325]
["20zaDD",{"$f":"VLOOKUP($AA420,DATA!$B$3:$E420,2,0)","v":"06:30:00"},{"$f":"VLOOKUP($AA420,DATA!$B$3:$E420,3,0)","v":"14:30:00"},{"$f":"VLOOKUP($AA420,DATA!$B$3:$E420,4,0)","v":3.125E-2},0.30208333333333331,0.29583333333333334,{"$f":"DATA!$C$9","v":0.89},{"$f":"DATA!$C$10","v":64},1,399.375,407.8125,6.2499999999999995E-3,8.4375,2.0689655172413793E-2,0,"","",238.93333333333334,212,"","",212,null,{"$f":"X415","v":20},{"$f":"Y417+1","v":"2018-05-19"},{"$f":"TEXT(Y420,\"ddd\")","v":"za"},"DD",{"$f":"IFERROR(HLOOKUP(Y420,[1]DATA!$A$1:$NB$5,3,0),\"\")","v":"D3"},9,null,12,224,{"$f":"VLOOKUP(Y420,[1]SRM!$S$4:$AA$368,6,0)","v":35},-187.375,0.51984674329501912,0.87223168654173766]
["20zaMD",{"$f":"VLOOKUP($AA421,DATA!$B$3:$E421,2,0)","v":"14:30:00"},{"$f":"VLOOKUP($AA421,DATA!$B$3:$E421,3,0)","v":"22:30:00"},{"$f":"VLOOKUP($AA421,DATA!$B$3:$E421,4,0)","v":3.125E-2},0.30208333333333337,0.30208333333333337,{"$f":"DATA!$C$9","v":0.89},{"$f":"DATA!$C$10","v":64},1,407.81250000000006,407.81250000000006,0,"","",0,"","",0,"","","","",null,{"$f":"X415","v":20},null,{"$f":"TEXT(Y420,\"ddd\")","v":"za"},"MD",{"$f":"IFERROR(HLOOKUP(Y420,[1]DATA!$A$1:$NB$5,4,0),\"\")","v":"-"},null,null,null,null,{"$f":"VLOOKUP(Y420,[1]SRM!$S$4:$AA$368,7,0)","v":0},"","",""]
["20zaND",{"$f":"VLOOKUP($AA422,DATA!$B$3:$E422,2,0)","v":"22:30:00"},{"$f":"VLOOKUP($AA422,DATA!$B$3:$E422,3,0)","v":"06:30:00"},{"$f":"VLOOKUP($AA422,DATA!$B$3:$E422,4,0)","v":3.125E-2},0.30208333333333326,0.30208333333333326,{"$f":"DATA!$C$9","v":0.89},{"$f":"DATA!$C$10","v":64},1,407.81249999999989,407.81249999999989,0,"","",0,"","",0,"","","","",null,{"$f":"X415","v":20},null,{"$f":"TEXT(Y420,\"ddd\")","v":"za"},"ND",{"$f":"IFERROR(HLOOKUP(Y420,[1]DATA!$A$1:$NB$5,5,0),\"\")","v":"-"},null,null,null,null,{"$f":"VLOOKUP(Y420,[1]SRM!$S$4:$AA$368,8,0)","v":0},"","",""]
["20zoDD",{"$f":"VLOOKUP($AA423,DATA!$B$3:$E423,2,0)","v":"06:30:00"},{"$f":"VLOOKUP($AA423,DATA!$B$3:$E423,3,0)","v":"14:30:00"},{"$f":"VLOOKUP($AA423,DATA!$B$3:$E423,4,0)","v":3.125E-2},0.30208333333333331,0.30208333333333331,{"$f":"DATA!$C$9","v":0.89},{"$f":"DATA!$C$10","v":64},1,407.8125,407.8125,0,"","",0,"","",0,"","","","",null,{"$f":"X415","v":20},{"$f":"Y420+1","v":"2018-05-20"},{"$f":"TEXT(Y423,\"ddd\")","v":"zo"},"DD",{"$f":"IFERROR(HLOOKUP(Y423,[1]DATA!$A$1:$NB$5,3,0),\"\")","v":"-"},null,null,null,null,{"$f":"VLOOKUP(Y423,[1]SRM!$S$4:$AA$368,6,0)","v":0},"","",""]
["20zoMD",{"$f":"VLOOKUP($AA424,DATA!$B$3:$E424,2,0)","v":"14:30:00"},{"$f":"VLOOKUP($AA424,DATA!$B$3:$E424,3,0)","v":"22:30:00"},{"$f":"VLOOKUP($AA424,DATA!$B$3:$E424,4,0)","v":3.125E-2},0.30208333333333337,0.30208333333333337,{"$f":"DATA!$C$9","v":0.89},{"$f":"DATA!$C$10","v":64},1,407.81250000000006,407.81250000000006,0,"","",0,"","",0,"","","","",null,{"$f":"X415","v":20},null,{"$f":"TEXT(Y423,\"ddd\")","v":"zo"},"MD",{"$f":"IFERROR(HLOOKUP(Y423,[1]DATA!$A$1:$NB$5,4,0),\"\")","v":"-"},null,null,null,null,{"$f":"VLOOKUP(Y423,[1]SRM!$S$4:$AA$368,7,0)","v":0},"","",""]
["20zoZND",{"$f":"VLOOKUP($AA425,DATA!$B$3:$E425,2,0)","v":"00:00:00"},{"$f":"VLOOKUP($AA425,DATA!$B$3:$E425,3,0)","v":"00:00:00"},{"$f":"VLOOKUP($AA425,DATA!$B$3:$E425,4,0)","v":0},0,0,{"$f":"DATA!$C$9","v":0.89},{"$f":"DATA!$C$10","v":64},1,0,0,0,"","",0,"","",0,"","","","",null,{"$f":"X415","v":20},null,{"$f":"TEXT(Y423,\"ddd\")","v":"zo"},"ZND",{"$f":"IFERROR(HLOOKUP(Y423,[1]DATA!$A$1:$NB$5,5,0),\"\")","v":"-"},null,null,null,null,{"$f":"VLOOKUP(Y423,[1]SRM!$S$4:$AA$368,8,0)","v":0},"","",""]
["21maDD",{"$f":"VLOOKUP($AA426,DATA!$B$3:$E426,2,0)","v":"06:30:00"},{"$f":"VLOOKUP($AA426,DATA!$B$3:$E426,3,0)","v":"14:30:00"},{"$f":"VLOOKUP($AA426,DATA!$B$3:$E426,4,0)","v":3.125E-2},0.30208333333333331,0.30208333333333331,{"$f":"DATA!$C$9","v":0.89},{"$f":"DATA!$C$10","v":64},1,407.8125,407.8125,0,"","",{"$f":"TIME(INT($AD426/60),INT(MOD($AD426,60)/1),0)","v":0},"","",0,"","","","",null,{"$f":"X436","v":21},{"$f":"Y423+1","v":"2018-05-21"},{"$f":"TEXT(Y426,\"ddd\")","v":"ma"},"DD",{"$f":"IFERROR(HLOOKUP(Y426,[1]DATA!$A$1:$NB$5,3,0),\"\")","v":"D2"},null,null,null,null,{"$f":"VLOOKUP(Y426,[1]SRM!$S$4:$AA$368,6,0)","v":0},"","","",{"$f":"IF(SUMIF(S426:S446,\">0\",K426:K446)=0,\"\",SUMIF(S426:S446,\">0\",K426:K446))","v":4893.75},{"$f":"IF(SUM(S426:S446)=0,\"\",SUM(S426:S446))","v":3589},{"$f":"IFERROR(AL426/AK426,\"-\")","v":0.73338441890166028},{"$f":"IF(SUM(M426:M446)=0,\"0\",SUM(M426:M446))","v":381.5625},{"$f":"IFERROR(AN426/AK426,\"-\")","v":7.7969348659003831E-2},{"$f":"IF(SUM(P426:P446)=0,0,SUM(P426:P446))","v":0},{"$f":"IFERROR(AP426/AK426,\"-\")","v":0},{"$f":"IFERROR(AVERAGE(AJ426:AJ446),\"-\")","v":0.88175126862321962},{"$f":"IFERROR(SUMIF($AB426:$AB446,AS$5,$AJ426:$AJ446)/COUNTIFS($AB426:$AB446,AS$5,$AJ426:$AJ446,\">0\"),\"\")","v":0.97831087078315915},0.94224204584374571,0.9451387063985579,{"$f":"IFERROR((AK426-AL426-AN426-AP426),\"-\")","v":923.1875},{"$f":"IFERROR((1-AM426-AO426-AQ426), \"-\")","v":0.18864623243933587},{"$f":"IFERROR((AV426*$AE$2)/60,\"-\")","v":984.73333333333335},{"$f":"IFERROR(SUM(AG426:AG446),\"\")","v":216}]
["21maMD",{"$f":"VLOOKUP($AA427,DATA!$B$3:$E427,2,0)","v":"14:30:00"},{"$f":"VLOOKUP($AA427,DATA!$B$3:$E427,3,0)","v":"22:30:00"},{"$f":"VLOOKUP($AA427,DATA!$B$3:$E427,4,0)","v":3.125E-2},0.30208333333333337,0.30208333333333337,{"$f":"DATA!$C$9","v":0.89},{"$f":"DATA!$C$10","v":64},1,407.81250000000006,407.81250000000006,0,"","",{"$f":"TIME(INT(AD427/60),INT(MOD(AD427,60)/1),0)","v":0},"","",0,"","","","",null,{"$f":"X436","v":21},null,{"$f":"TEXT(Y426,\"ddd\")","v":"ma"},"MD",{"$f":"IFERROR(HLOOKUP(Y426,[1]DATA!$A$1:$NB$5,4,0),\"\")","v":"D1"},null,null,null,null,{"$f":"VLOOKUP(Y426,[1]SRM!$S$4:$AA$368,7,0)","v":0},"","",""]
["21maND",{"$f":"VLOOKUP($AA428,DATA!$B$3:$E428,2,0)","v":"22:30:00"},{"$f":"VLOOKUP($AA428,DATA!$B$3:$E428,3,0)","v":"06:30:00"},{"$f":"VLOOKUP($AA428,DATA!$B$3:$E428,4,0)","v":3.125E-2},0.30208333333333326,0.30208333333333326,{"$f":"DATA!$C$9","v":0.89},{"$f":"DATA!$C$10","v":64},1,407.81249999999989,407.81249999999989,0,"","",0,"","",0,"","","","",null,{"$f":"X436","v":21},null,{"$f":"TEXT(Y426,\"ddd\")","v":"ma"},"ND",{"$f":"IFERROR(HLOOKUP(Y426,[1]DATA!$A$1:$NB$5,5,0),\"\")","v":"D3"},null,null,null,null,{"$f":"VLOOKUP(Y426,[1]SRM!$S$4:$AA$368,8,0)","v":0},"","",""]
["21diDD",{"$f":"VLOOKUP($AA429,DATA!$B$3:$E429,2,0)","v":"06:30:00"},{"$f":"VLOOKUP($AA429,DATA!$B$3:$E429,3,0)","v":"14:30:00"},{"$f":"VLOOKUP($AA429,DATA!$B$3:$E429,4,0)","v":3.125E-2},0.30208333333333331,0.2722222222222222,{"$f":"DATA!$C$9","v":0.89},{"$f":"DATA!$C$10","v":64},1,367.49999999999994,407.8125,2.9861111111111113E-2,40.3125,9.8850574712643677E-2,0,"","",306.13333333333333,269,"",269,"",null,{"$f":"X436","v":21},{"$f":"Y426+1","v":"2018-05-22"},{"$f":"TEXT(Y429,\"ddd\")","v":"di"},"DD",{"$f":"IFERROR(HLOOKUP(Y429,[1]DATA!$A$1:$NB$5,3,0),\"\")","v":"D2"},43,null,18,287,{"$f":"VLOOKUP(Y429,[1]SRM!$S$4:$AA$368,6,0)","v":26},-98.499999999999943,0.6596168582375479,0.92171818546768369]
["21diMD",{"$f":"VLOOKUP($AA430,DATA!$B$3:$E430,2,0)","v":"14:30:00"},{"$f":"VLOOKUP($AA430,DATA!$B$3:$E430,3,0)","v":"22:30:00"},{"$f":"VLOOKUP($AA430,DATA!$B$3:$E430,4,0)","v":3.125E-2},0.30208333333333337,0.28888888888888892,{"$f":"DATA!$C$9","v":0.89},{"$f":"DATA!$C$10","v":64},1,390.00000000000006,407.81250000000006,1.3194444444444444E-2,17.8125,4.3678160919540222E-2,0,"","",310.39999999999998,289,289,"","",null,{"$f":"X436","v":21},null,{"$f":"TEXT(Y429,\"ddd\")","v":"di"},"MD",{"$f":"IFERROR(HLOOKUP(Y429,[1]DATA!$A$1:$NB$5,4,0),\"\")","v":"D1"},19,null,2,291,{"$f":"VLOOKUP(Y429,[1]SRM!$S$4:$AA$368,7,0)","v":5},-101.00000000000006,0.70865900383141756,0.98414711477488903]
["21diND",{"$f":"VLOOKUP($AA431,DATA!$B$3:$E431,2,0)","v":"22:30:00"},{"$f":"VLOOKUP($AA431,DATA!$B$3:$E431,3,0)","v":"06:30:00"},{"$f":"VLOOKUP($AA431,DATA!$B$3:$E431,4,0)","v":3.125E-2},0.30208333333333326,0.2715277777777777,{"$f":"DATA!$C$9","v":0.89},{"$f":"DATA!$C$10","v":64},1,366.56249999999989,407.81249999999989,3.0555555555555555E-2,41.25,0.10114942528735635,0,"","",341.33333333333331,299,"","",299,null,{"$f":"X436","v":21},null,{"$f":"TEXT(Y429,\"ddd\")","v":"di"},"ND",{"$f":"IFERROR(HLOOKUP(Y429,[1]DATA!$A$1:$NB$5,5,0),\"\")","v":"D3"},44,null,21,320,{"$f":"VLOOKUP(Y429,[1]SRM!$S$4:$AA$368,8,0)","v":25},-67.562499999999886,0.73318007662835272,0.93175614194722478]
[{"$f":"X432&Z432&AA432","v":"21woDD"},{"$f":"VLOOKUP($AA432,DATA!$B$3:$E432,2,0)","v":"06:30:00"},{"$f":"VLOOKUP($AA432,DATA!$B$3:$E432,3,0)","v":"14:30:00"},{"$f":"VLOOKUP($AA432,DATA!$B$3:$E432,4,0)","v":3.125E-2},0.30208333333333331,0.28680555555555554,{"$f":"DATA!$C$9","v":0.89},{"$f":"DATA!$C$10","v":64},1,387.1875,407.8125,1.5277777777777777E-2,20.625,5.057471264367816E-2,0,{"$f":"IF($O432*86400/$H432=0,\"\",$O432*86400/$H432)","v":""},"",336,285,"",285,"",null,{"$f":"X436","v":21},{"$f":"Y429+1","v":"2018-05-23"},{"$f":"TEXT(Y432,\"ddd\")","v":"wo"},"DD",{"$f":"IFERROR(HLOOKUP(Y432,[1]DATA!$A$1:$NB$5,3,0),\"\")","v":"D2"},22,null,30,315,{"$f":"VLOOKUP(Y432,[1]SRM!$S$4:$AA$368,6,0)","v":3},-102.1875,0.69885057471264367,0.99115044247787609]
["21woMD",{"$f":"VLOOKUP($AA433,DATA!$B$3:$E433,2,0)","v":"14:30:00"},{"$f":"VLOOKUP($AA433,DATA!$B$3:$E433,3,0)","v":"22:30:00"},{"$f":"VLOOKUP($AA433,DATA!$B$3:$E433,4,0)","v":3.125E-2},0.30208333333333337,0.27777777777777779,{"$f":"DATA!$C$9","v":0.89},{"$f":"DATA!$C$10","v":64},1,375,407.81250000000006,2.4305555555555556E-2,32.8125,8.0459770114942514E-2,0,"","",394.66666666666669,337,337,"","",null,{"$f":"X436","v":21},null,{"$f":"TEXT(Y432,\"ddd\")","v":"wo"},"MD",{"$f":"IFERROR(HLOOKUP(Y432,[1]DATA!$A$1:$NB$5,4,0),\"\")","v":"D1"},35,null,33,370,{"$f":"VLOOKUP(Y432,[1]SRM!$S$4:$AA$368,7,0)","v":0},-38,0.82636015325670487,1]
["21woND",{"$f":"VLOOKUP($AA434,DATA!$B$3:$E434,2,0)","v":"22:30:00"},{"$f":"VLOOKUP($AA434,DATA!$B$3:$E434,3,0)","v":"06:30:00"},{"$f":"VLOOKUP($AA434,DATA!$B$3:$E434,4,0)","v":3.125E-2},0.30208333333333326,0.27708333333333324,{"$f":"DATA!$C$9","v":0.89},{"$f":"DATA!$C$10","v":64},1,374.06249999999989,407.81249999999989,2.4999999999999998E-2,33.75,8.2758620689655199E-2,0,"","",349.86666666666667,304,"","",304,null,{"$f":"X436","v":21},null,{"$f":"TEXT(Y432,\"ddd\")","v":"wo"},"ND",{"$f":"IFERROR(HLOOKUP(Y432,[1]DATA!$A$1:$NB$5,5,0),\"\")","v":"D3"},36,null,24,328,{"$f":"VLOOKUP(Y432,[1]SRM!$S$4:$AA$368,8,0)","v":5},-70.062499999999886,0.74544061302682008,0.98591020101446558]
["21doDD",{"$f":"VLOOKUP($AA435,DATA!$B$3:$E435,2,0)","v":"06:30:00"},{"$f":"VLOOKUP($AA435,DATA!$B$3:$E435,3,0)","v":"14:30:00"},{"$f":"VLOOKUP($AA435,DATA!$B$3:$E435,4,0)","v":3.125E-2},0.30208333333333331,0.28194444444444444,{"$f":"DATA!$C$9","v":0.89},{"$f":"DATA!$C$10","v":64},1,380.625,407.8125,2.013888888888889E-2,27.1875,6.6666666666666666E-2,0,"","",315.73333333333335,271,"",271,"",null,{"$f":"X436","v":21},{"$f":"Y432+1","v":"2018-05-24"},{"$f":"TEXT(Y435,\"ddd\")","v":"do"},"DD",{"$f":"IFERROR(HLOOKUP(Y435,[1]DATA!$A$1:$NB$5,3,0),\"\")","v":"D2"},29,null,25,296,{"$f":"VLOOKUP(Y435,[1]SRM!$S$4:$AA$368,6,0)","v":15},-109.625,0.66452107279693484,0.95464624067728276]
["21doMD",{"$f":"VLOOKUP($AA436,DATA!$B$3:$E436,2,0)","v":"14:30:00"},{"$f":"VLOOKUP($AA436,DATA!$B$3:$E436,3,0)","v":"22:30:00"},{"$f":"VLOOKUP($AA436,DATA!$B$3:$E436,4,0)","v":3.125E-2},0.30208333333333337,0.26597222222222228,{"$f":"DATA!$C$9","v":0.89},{"$f":"DATA!$C$10","v":64},1,359.06250000000006,407.81250000000006,3.6111111111111115E-2,48.750000000000007,0.11954022988505747,0,"","",397.86666666666667,327,327,"","",null,{"$f":"WEEKNUM($Y426)","v":21},null,{"$f":"TEXT(Y435,\"ddd\")","v":"do"},"MD",{"$f":"IFERROR(HLOOKUP(Y435,[1]DATA!$A$1:$NB$5,4,0),\"\")","v":"D1"},52,null,46,373,{"$f":"VLOOKUP(Y435,[1]SRM!$S$4:$AA$368,7,0)","v":20},-32.062500000000057,0.80183908045977004,0.95213784301212512]
["21doND",{"$f":"VLOOKUP($AA437,DATA!$B$3:$E437,2,0)","v":"22:30:00"},{"$f":"VLOOKUP($AA437,DATA!$B$3:$E437,3,0)","v":"06:30:00"},{"$f":"VLOOKUP($AA437,DATA!$B$3:$E437,4,0)","v":3.125E-2},0.30208333333333326,0.27361111111111103,{"$f":"DATA!$C$9","v":0.89},{"$f":"DATA!$C$10","v":64},1,369.37499999999989,407.81249999999989,2.8472222222222222E-2,38.4375,9.4252873563218417E-2,0,"","",361.6,317,"","",317,null,{"$f":"X436","v":21},null,{"$f":"TEXT(Y435,\"ddd\")","v":"do"},"ND",{"$f":"IFERROR(HLOOKUP(Y435,[1]DATA!$A$1:$NB$5,5,0),\"\")","v":"D3"},41,null,22,339,{"$f":"VLOOKUP(Y435,[1]SRM!$S$4:$AA$368,8,0)","v":0},-52.374999999999886,0.77731800766283543,1]
["21vrDD",{"$f":"VLOOKUP($AA438,DATA!$B$3:$E438,2,0)","v":"06:30:00"},{"$f":"VLOOKUP($AA438,DATA!$B$3:$E438,3,0)","v":"14:30:00"},{"$f":"VLOOKUP($AA438,DATA!$B$3:$E438,4,0)","v":3.125E-2},0.30208333333333331,0.28263888888888888,{"$f":"DATA!$C$9","v":0.89},{"$f":"DATA!$C$10","v":64},1,381.5625,407.8125,1.9444444444444445E-2,26.25,6.4367816091954022E-2,0,"","",301.86666666666667,259,"",259,"",null,{"$f":"X436","v":21},{"$f":"Y435+1","v":"2018-05-25"},{"$f":"TEXT(Y438,\"ddd\")","v":"vr"},"DD",{"$f":"IFERROR(HLOOKUP(Y438,[1]DATA!$A$1:$NB$5,3,0),\"\")","v":"D2"},28,null,24,283,{"$f":"VLOOKUP(Y438,[1]SRM!$S$4:$AA$368,6,0)","v":33},-122.5625,0.63509578544061307,0.90145331475214019]
["21vrMD",{"$f":"VLOOKUP($AA439,DATA!$B$3:$E439,2,0)","v":"14:30:00"},{"$f":"VLOOKUP($AA439,DATA!$B$3:$E439,3,0)","v":"22:30:00"},{"$f":"VLOOKUP($AA439,DATA!$B$3:$E439,4,0)","v":3.125E-2},0.30208333333333337,0.29166666666666669,{"$f":"DATA!$C$9","v":0.89},{"$f":"DATA!$C$10","v":64},1,393.75,407.81250000000006,1.0416666666666666E-2,14.0625,3.4482758620689648E-2,0,"","",339.2,294,294,"","",null,{"$f":"X436","v":21},null,{"$f":"TEXT(Y438,\"ddd\")","v":"vr"},"MD",{"$f":"IFERROR(HLOOKUP(Y438,[1]DATA!$A$1:$NB$5,4,0),\"\")","v":"D1"},15,null,24,318,{"$f":"VLOOKUP(Y438,[1]SRM!$S$4:$AA$368,7,0)","v":8},-99.75,0.72091954022988491,0.97695852534562211]
["21vrND",{"$f":"VLOOKUP($AA440,DATA!$B$3:$E440,2,0)","v":"22:30:00"},{"$f":"VLOOKUP($AA440,DATA!$B$3:$E440,3,0)","v":"06:30:00"},{"$f":"VLOOKUP($AA440,DATA!$B$3:$E440,4,0)","v":3.125E-2},0.30208333333333326,0.27222222222222214,{"$f":"DATA!$C$9","v":0.89},{"$f":"DATA!$C$10","v":64},1,367.49999999999989,407.81249999999989,2.9861111111111113E-2,40.3125,9.8850574712643705E-2,0,"","",377.6,338,"","",338,null,{"$f":"X436","v":21},null,{"$f":"TEXT(Y438,\"ddd\")","v":"vr"},"ND",{"$f":"IFERROR(HLOOKUP(Y438,[1]DATA!$A$1:$NB$5,5,0),\"\")","v":"D3"},43,null,16,354,{"$f":"VLOOKUP(Y438,[1]SRM!$S$4:$AA$368,8,0)","v":60},-29.499999999999886,0.82881226053639867,0.86288848263254114]
["21zaDD",{"$f":"VLOOKUP($AA441,DATA!$B$3:$E441,2,0)","v":"06:30:00"},{"$f":"VLOOKUP($AA441,DATA!$B$3:$E441,3,0)","v":"14:30:00"},{"$f":"VLOOKUP($AA441,DATA!$B$3:$E441,4,0)","v":3.125E-2},0.30208333333333331,0.30208333333333331,{"$f":"DATA!$C$9","v":0.89},{"$f":"DATA!$C$10","v":64},1,407.8125,407.8125,0,"","",0,"","",0,"","","","",null,{"$f":"X436","v":21},{"$f":"Y438+1","v":"2018-05-26"},{"$f":"TEXT(Y441,\"ddd\")","v":"za"},"DD",{"$f":"IFERROR(HLOOKUP(Y441,[1]DATA!$A$1:$NB$5,3,0),\"\")","v":"D2"},null,null,null,null,{"$f":"VLOOKUP(Y441,[1]SRM!$S$4:$AA$368,6,0)","v":16},"","",0]
["21zaMD",{"$f":"VLOOKUP($AA442,DATA!$B$3:$E442,2,0)","v":"14:30:00"},{"$f":"VLOOKUP($AA442,DATA!$B$3:$E442,3,0)","v":"22:30:00"},{"$f":"VLOOKUP($AA442,DATA!$B$3:$E442,4,0)","v":3.125E-2},0.30208333333333337,0.30208333333333337,{"$f":"DATA!$C$9","v":0.89},{"$f":"DATA!$C$10","v":64},1,407.81250000000006,407.81250000000006,0,"","",0,"","",0,"","","","",null,{"$f":"X436","v":21},null,{"$f":"TEXT(Y441,\"ddd\")","v":"za"},"MD",{"$f":"IFERROR(HLOOKUP(Y441,[1]DATA!$A$1:$NB$5,4,0),\"\")","v":"-"},null,null,null,null,{"$f":"VLOOKUP(Y441,[1]SRM!$S$4:$AA$368,7,0)","v":0},"","",""]
["21zaND",{"$f":"VLOOKUP($AA443,DATA!$B$3:$E443,2,0)","v":"22:30:00"},{"$f":"VLOOKUP($AA443,DATA!$B$3:$E443,3,0)","v":"06:30:00"},{"$f":"VLOOKUP($AA443,DATA!$B$3:$E443,4,0)","v":3.125E-2},0.30208333333333326,0.30208333333333326,{"$f":"DATA!$C$9","v":0.89},{"$f":"DATA!$C$10","v":64},1,407.81249999999989,407.81249999999989,0,"","",0,"","",0,"","","","",null,{"$f":"X436","v":21},null,{"$f":"TEXT(Y441,\"ddd\")","v":"za"},"ND",{"$f":"IFERROR(HLOOKUP(Y441,[1]DATA!$A$1:$NB$5,5,0),\"\")","v":"-"},null,null,null,null,{"$f":"VLOOKUP(Y441,[1]SRM!$S$4:$AA$368,8,0)","v":0},"","",""]
["21zoDD",{"$f":"VLOOKUP($AA444,DATA!$B$3:$E444,2,0)","v":"06:30:00"},{"$f":"VLOOKUP($AA444,DATA!$B$3:$E444,3,0)","v":"14:30:00"},{"$f":"VLOOKUP($AA444,DATA!$B$3:$E444,4,0)","v":3.125E-2},0.30208333333333331,0.30208333333333331,{"$f":"DATA!$C$9","v":0.89},{"$f":"DATA!$C$10","v":64},1,407.8125,407.8125,0,"","",0,"","",0,"","","","",null,{"$f":"X436","v":21},{"$f":"Y441+1","v":"2018-05-27"},{"$f":"TEXT(Y444,\"ddd\")","v":"zo"},"DD",{"$f":"IFERROR(HLOOKUP(Y444,[1]DATA!$A$1:$NB$5,3,0),\"\")","v":"-"},null,null,null,null,{"$f":"VLOOKUP(Y444,[1]SRM!$S$4:$AA$368,6,0)","v":0},"","",""]
["21zoMD",{"$f":"VLOOKUP($AA445,DATA!$B$3:$E445,2,0)","v":"14:30:00"},{"$f":"VLOOKUP($AA445,DATA!$B$3:$E445,3,0)","v":"22:30:00"},{"$f":"VLOOKUP($AA445,DATA!$B$3:$E445,4,0)","v":3.125E-2},0.30208333333333337,0.30208333333333337,{"$f":"DATA!$C$9","v":0.89},{"$f":"DATA!$C$10","v":64},1,407.81250000000006,407.81250000000006,0,"","",0,"","",0,"","","","",null,{"$f":"X436","v":21},null,{"$f":"TEXT(Y444,\"ddd\")","v":"zo"},"MD",{"$f":"IFERROR(HLOOKUP(Y444,[1]DATA!$A$1:$NB$5,4,0),\"\")","v":"-"},null,null,null,null,{"$f":"VLOOKUP(Y444,[1]SRM!$S$4:$AA$368,7,0)","v":0},"","",""]
["21zoZND",{"$f":"VLOOKUP($AA446,DATA!$B$3:$E446,2,0)","v":"00:00:00"},{"$f":"VLOOKUP($AA446,DATA!$B$3:$E446,3,0)","v":"00:00:00"},{"$f":"VLOOKUP($AA446,DATA!$B$3:$E446,4,0)","v":0},0,0,{"$f":"DATA!$C$9","v":0.89},{"$f":"DATA!$C$10","v":64},1,0,0,0,"","",0,"","",0,"","","","",null,{"$f":"X436","v":21},null,{"$f":"TEXT(Y444,\"ddd\")","v":"zo"},"ZND",{"$f":"IFERROR(HLOOKUP(Y444,[1]DATA!$A$1:$NB$5,5,0),\"\")","v":"-"},null,null,null,null,{"$f":"VLOOKUP(Y444,[1]SRM!$S$4:$AA$368,8,0)","v":0},"","",""]
["22maDD",{"$f":"VLOOKUP($AA447,DATA!$B$3:$E447,2,0)","v":"06:30:00"},{"$f":"VLOOKUP($AA447,DATA!$B$3:$E447,3,0)","v":"14:30:00"},{"$f":"VLOOKUP($AA447,DATA!$B$3:$E447,4,0)","v":3.125E-2},0.30208333333333331,0.28819444444444442,{"$f":"DATA!$C$9","v":0.89},{"$f":"DATA!$C$10","v":64},1,389.06249999999994,407.8125,1.3888888888888888E-2,18.75,4.5977011494252873E-2,{"$f":"TIME(INT($AD447/60),INT(MOD($AD447,60)/1),0)","v":0},"","",259.2,219,219,"","",null,{"$f":"X457","v":22},{"$f":"Y444+1","v":"2018-05-28"},{"$f":"TEXT(Y447,\"ddd\")","v":"ma"},"DD",{"$f":"IFERROR(HLOOKUP(Y447,[1]DATA!$A$1:$NB$5,3,0),\"\")","v":"D1"},20,null,24,243,{"$f":"VLOOKUP(Y447,[1]SRM!$S$4:$AA$368,6,0)","v":5},-170.06249999999994,0.53701149425287353,0.98107494322482969,{"$f":"IF(SUMIF(S447:S467,\">0\",K447:K467)=0,\"\",SUMIF(S447:S467,\">0\",K447:K467))","v":6117.1875},{"$f":"IF(SUM(S447:S467)=0,\"\",SUM(S447:S467))","v":4218},{"$f":"IFERROR(AL447/AK447,\"-\")","v":0.68953256704980848},{"$f":"IF(SUM(M447:M467)=0,\"0\",SUM(M447:M467))","v":284.0625},{"$f":"IFERROR(AN447/AK447,\"-\")","v":4.6436781609195399E-2},{"$f":"IF(SUM(P447:P467)=0,0,SUM(P447:P467))","v":0},{"$f":"IFERROR(AP447/AK447,\"-\")","v":0},0.92840001014920071,{"$f":"IFERROR(SUMIF($AB447:$AB467,AS$5,$AJ447:$AJ467)/COUNTIFS($AB447:$AB467,AS$5,$AJ447:$AJ467,\">0\"),\"\")","v":0.96516310166971664},0.94887544912558786,0.87116147965229795,{"$f":"IFERROR((AK447-AL447-AN447-AP447),\"-\")","v":1615.125},{"$f":"IFERROR((1-AM447-AO447-AQ447), \"-\")","v":0.26403065134099613},{"$f":"IFERROR((AV447*$AE$2)/60,\"-\")","v":1722.8},{"$f":"IFERROR(SUM(AG447:AG467),\"\")","v":389}]
["22maMD",{"$f":"VLOOKUP($AA448,DATA!$B$3:$E448,2,0)","v":"14:30:00"},{"$f":"VLOOKUP($AA448,DATA!$B$3:$E448,3,0)","v":"22:30:00"},{"$f":"VLOOKUP($AA448,DATA!$B$3:$E448,4,0)","v":3.125E-2},0.30208333333333337,0.28125000000000006,{"$f":"DATA!$C$9","v":0.89},{"$f":"DATA!$C$10","v":64},1,379.68750000000006,407.81250000000006,2.0833333333333332E-2,28.125,6.8965517241379296E-2,{"$f":"TIME(INT(AD448/60),INT(MOD(AD448,60)/1),0)","v":0},"","",215.46666666666667,187,"","",187,null,{"$f":"X457","v":22},null,{"$f":"TEXT(Y447,\"ddd\")","v":"ma"},"MD",{"$f":"IFERROR(HLOOKUP(Y447,[1]DATA!$A$1:$NB$5,4,0),\"\")","v":"D3"},30,null,15,202,{"$f":"VLOOKUP(Y447,[1]SRM!$S$4:$AA$368,7,0)","v":40},-192.68750000000006,0.45854406130268194,0.8434237995824635]
["22maND",{"$f":"VLOOKUP($AA449,DATA!$B$3:$E449,2,0)","v":"22:30:00"},{"$f":"VLOOKUP($AA449,DATA!$B$3:$E449,3,0)","v":"06:30:00"},{"$f":"VLOOKUP($AA449,DATA!$B$3:$E449,4,0)","v":3.125E-2},0.30208333333333326,0.28611111111111104,{"$f":"DATA!$C$9","v":0.89},{"$f":"DATA!$C$10","v":64},1,386.24999999999989,407.81249999999989,1.5972222222222224E-2,21.562500000000004,5.2873563218390825E-2,0,"","",301.86666666666667,263,"",263,"",null,{"$f":"X457","v":22},null,{"$f":"TEXT(Y447,\"ddd\")","v":"ma"},"ND",{"$f":"IFERROR(HLOOKUP(Y447,[1]DATA!$A$1:$NB$5,5,0),\"\")","v":"D2"},23,null,20,283,{"$f":"VLOOKUP(Y447,[1]SRM!$S$4:$AA$368,8,0)","v":18},-123.24999999999989,0.64490421455938718,0.94372655273030426]
["22diDD",{"$f":"VLOOKUP($AA450,DATA!$B$3:$E450,2,0)","v":"06:30:00"},{"$f":"VLOOKUP($AA450,DATA!$B$3:$E450,3,0)","v":"14:30:00"},{"$f":"VLOOKUP($AA450,DATA!$B$3:$E450,4,0)","v":3.125E-2},0.30208333333333331,0.27083333333333331,{"$f":"DATA!$C$9","v":0.89},{"$f":"DATA!$C$10","v":64},1,365.625,407.8125,3.125E-2,42.1875,0.10344827586206896,0,"","",301.86666666666667,267,267,"","",null,{"$f":"X457","v":22},{"$f":"Y447+1","v":"2018-05-29"},{"$f":"TEXT(Y450,\"ddd\")","v":"di"},"DD",{"$f":"IFERROR(HLOOKUP(Y450,[1]DATA!$A$1:$NB$5,3,0),\"\")","v":"D1"},45,null,16,283,{"$f":"VLOOKUP(Y450,[1]SRM!$S$4:$AA$368,6,0)","v":5},-98.625,0.65471264367816095,0.9837062785140126]
["22diMD",{"$f":"VLOOKUP($AA451,DATA!$B$3:$E451,2,0)","v":"14:30:00"},{"$f":"VLOOKUP($AA451,DATA!$B$3:$E451,3,0)","v":"22:30:00"},{"$f":"VLOOKUP($AA451,DATA!$B$3:$E451,4,0)","v":3.125E-2},0.30208333333333337,0.2902777777777778,{"$f":"DATA!$C$9","v":0.89},{"$f":"DATA!$C$10","v":64},1,391.87500000000006,407.81250000000006,1.1805555555555555E-2,15.9375,3.9080459770114935E-2,0,"","",354.13333333333333,332,"","",332,null,{"$f":"X457","v":22},null,{"$f":"TEXT(Y450,\"ddd\")","v":"di"},"MD",{"$f":"IFERROR(HLOOKUP(Y450,[1]DATA!$A$1:$NB$5,4,0),\"\")","v":"D3"},17,null,0,332,{"$f":"VLOOKUP(Y450,[1]SRM!$S$4:$AA$368,7,0)","v":37},-59.875000000000057,0.8140996168582374,0.90540310209647179]
["22diND",{"$f":"VLOOKUP($AA452,DATA!$B$3:$E452,2,0)","v":"22:30:00"},{"$f":"VLOOKUP($AA452,DATA!$B$3:$E452,3,0)","v":"06:30:00"},{"$f":"VLOOKUP($AA452,DATA!$B$3:$E452,4,0)","v":3.125E-2},0.30208333333333326,0.28819444444444436,{"$f":"DATA!$C$9","v":0.89},{"$f":"DATA!$C$10","v":64},1,389.06249999999989,407.81249999999989,1.3888888888888888E-2,18.75,4.5977011494252887E-2,0,"","",315.73333333333335,275,"",275,"",null,{"$f":"X457","v":22},null,{"$f":"TEXT(Y450,\"ddd\")","v":"di"},"ND",{"$f":"IFERROR(HLOOKUP(Y450,[1]DATA!$A$1:$NB$5,5,0),\"\")","v":"D2"},20,null,21,296,{"$f":"VLOOKUP(Y450,[1]SRM!$S$4:$AA$368,8,0)","v":17},-114.06249999999989,0.67432950191570895,0.94890803446203165]
["22woDD",{"$f":"VLOOKUP($AA453,DATA!$B$3:$E453,2,0)","v":"06:30:00"},{"$f":"VLOOKUP($AA453,DATA!$B$3:$E453,3,0)","v":"14:30:00"},{"$f":"VLOOKUP($AA453,DATA!$B$3:$E453,4,0)","v":3.125E-2},0.30208333333333331,0.29166666666666663,{"$f":"DATA!$C$9","v":0.89},{"$f":"DATA!$C$10","v":64},1,393.74999999999994,407.8125,1.0416666666666666E-2,14.0625,3.4482758620689655E-2,0,"","",292.26666666666665,251,251,"","",null,{"$f":"X457","v":22},{"$f":"Y450+1","v":"2018-05-30"},{"$f":"TEXT(Y453,\"ddd\")","v":"wo"},"DD",{"$f":"IFERROR(HLOOKUP(Y453,[1]DATA!$A$1:$NB$5,3,0),\"\")","v":"D1"},15,null,23,274,{"$f":"VLOOKUP(Y453,[1]SRM!$S$4:$AA$368,6,0)","v":29},-142.74999999999994,0.61547892720306518,0.90973230960780249]
["22woMD",{"$f":"VLOOKUP($AA454,DATA!$B$3:$E454,2,0)","v":"14:30:00"},{"$f":"VLOOKUP($AA454,DATA!$B$3:$E454,3,0)","v":"22:30:00"},{"$f":"VLOOKUP($AA454,DATA!$B$3:$E454,4,0)","v":3.125E-2},0.30208333333333337,0.29652777777777783,{"$f":"DATA!$C$9","v":0.89},{"$f":"DATA!$C$10","v":64},1,400.31250000000006,407.81250000000006,5.5555555555555558E-3,7.5,1.8390804597701146E-2,0,"","",342.4,299,"","",299,null,{"$f":"X457","v":22},null,{"$f":"TEXT(Y453,\"ddd\")","v":"wo"},"MD",{"$f":"IFERROR(HLOOKUP(Y453,[1]DATA!$A$1:$NB$5,4,0),\"\")","v":"D3"},8,null,22,321,{"$f":"VLOOKUP(Y453,[1]SRM!$S$4:$AA$368,7,0)","v":80},{"$f":"IFERROR(S454-J454,\"\")","v":-101.31250000000006},{"$f":"IFERROR(IF(S454/(E454*86400/H454)<=0,\"\",S454/(E454*86400/H454)),\"\")","v":0.73318007662835238},0.81060606060606055]
["22woND",{"$f":"VLOOKUP($AA455,DATA!$B$3:$E455,2,0)","v":"22:30:00"},{"$f":"VLOOKUP($AA455,DATA!$B$3:$E455,3,0)","v":"06:30:00"},{"$f":"VLOOKUP($AA455,DATA!$B$3:$E455,4,0)","v":3.125E-2},0.30208333333333326,0.29305555555555546,{"$f":"DATA!$C$9","v":0.89},{"$f":"DATA!$C$10","v":64},1,395.62499999999989,407.81249999999989,{"$f":"TIME(INT($AC455/60),INT(MOD($AC455,60)/1),0)","v":9.0277777777777787E-3},{"$f":"IF($L455*86400/$H455=0,\"\",$L455*86400/$H455)","v":12.187500000000002},{"$f":"IFERROR($M455/$K455,\"\")","v":2.9885057471264381E-2},0,"",{"$f":"IFERROR($P455/$K455,\"\")","v":""},324.26666666666665,292,{"$f":"IF(IF($AB455=\"D1\",$S455,\"\")=0,\"\",IF($AB455=\"D1\",$S455,\"\"))","v":""},{"$f":"IF(IF($AB455=\"D2\",$S455,\"\")=0,\"\",IF($AB455=\"D2\",$S455,\"\"))","v":292},{"$f":"IF(IF($AB455=\"D3\",$S455,\"\")=0,\"\",IF($AB455=\"D3\",$S455,\"\"))","v":""},null,{"$f":"X457","v":22},null,{"$f":"TEXT(Y453,\"ddd\")","v":"wo"},"ND",{"$f":"IFERROR(HLOOKUP(Y453,[1]DATA!$A$1:$NB$5,5,0),\"\")","v":"D2"},13,null,12,304,{"$f":"VLOOKUP(Y453,[1]SRM!$S$4:$AA$368,8,0)","v":50},-103.62499999999989,0.7160153256704983,0.86640541503384394]
["22doDD",{"$f":"VLOOKUP($AA456,DATA!$B$3:$E456,2,0)","v":"06:30:00"},{"$f":"VLOOKUP($AA456,DATA!$B$3:$E456,3,0)","v":"14:30:00"},{"$f":"VLOOKUP($AA456,DATA!$B$3:$E456,4,0)","v":3.125E-2},0.30208333333333331,0.29305555555555551,{"$f":"DATA!$C$9","v":0.89},{"$f":"DATA!$C$10","v":64},1,395.62499999999994,407.8125,9.0277777777777787E-3,12.187500000000002,2.9885057471264371E-2,0,"","",378.66666666666669,330,330,"","",null,{"$f":"X457","v":22},{"$f":"Y453+1","v":"2018-05-31"},{"$f":"TEXT(Y456,\"ddd\")","v":"do"},"DD",{"$f":"IFERROR(HLOOKUP(Y456,[1]DATA!$A$1:$NB$5,3,0),\"\")","v":"D1"},13,null,25,355,{"$f":"VLOOKUP(Y456,[1]SRM!$S$4:$AA$368,6,0)","v":12},-65.624999999999943,0.80919540229885056,0.96928327645051193]
["22doMD",{"$f":"VLOOKUP($AA457,DATA!$B$3:$E457,2,0)","v":"14:30:00"},{"$f":"VLOOKUP($AA457,DATA!$B$3:$E457,3,0)","v":"22:30:00"},{"$f":"VLOOKUP($AA457,DATA!$B$3:$E457,4,0)","v":3.125E-2},0.30208333333333337,0.27777777777777779,{"$f":"DATA!$C$9","v":0.89},{"$f":"DATA!$C$10","v":64},1,375,407.81250000000006,2.4305555555555556E-2,32.8125,8.0459770114942514E-2,0,"","",388.26666666666665,340,"","",340,null,{"$f":"WEEKNUM($Y447)","v":22},null,{"$f":"TEXT(Y456,\"ddd\")","v":"do"},"MD",{"$f":"IFERROR(HLOOKUP(Y456,[1]DATA!$A$1:$NB$5,4,0),\"\")","v":"D3"},35,null,24,364,{"$f":"VLOOKUP(Y456,[1]SRM!$S$4:$AA$368,7,0)","v":61},-35,0.83371647509578528,0.86422317851313246]
["22doND",{"$f":"VLOOKUP($AA458,DATA!$B$3:$E458,2,0)","v":"22:30:00"},{"$f":"VLOOKUP($AA458,DATA!$B$3:$E458,3,0)","v":"06:30:00"},{"$f":"VLOOKUP($AA458,DATA!$B$3:$E458,4,0)","v":3.125E-2},0.30208333333333326,0.28819444444444436,{"$f":"DATA!$C$9","v":0.89},{"$f":"DATA!$C$10","v":64},1,389.06249999999989,407.81249999999989,1.3888888888888888E-2,18.75,4.5977011494252887E-2,0,"","",336,291,"",291,"",null,{"$f":"X457","v":22},null,{"$f":"TEXT(Y456,\"ddd\")","v":"do"},"ND",{"$f":"IFERROR(HLOOKUP(Y456,[1]DATA!$A$1:$NB$5,5,0),\"\")","v":"D2"},20,null,24,315,{"$f":"VLOOKUP(Y456,[1]SRM!$S$4:$AA$368,8,0)","v":5},-98.062499999999886,0.71356321839080483,0.98533724340175954]
["22vrDD",{"$f":"VLOOKUP($AA459,DATA!$B$3:$E459,2,0)","v":"06:30:00"},{"$f":"VLOOKUP($AA459,DATA!$B$3:$E459,3,0)","v":"14:30:00"},{"$f":"VLOOKUP($AA459,DATA!$B$3:$E459,4,0)","v":3.125E-2},0.30208333333333331,0.27986111111111112,{"$f":"DATA!$C$9","v":0.89},{"$f":"DATA!$C$10","v":64},1,377.8125,407.8125,2.2222222222222223E-2,30,7.3563218390804597E-2,0,"","",273.06666666666666,237,237,"","",null,{"$f":"X457","v":22},{"$f":"Y456+1","v":"2018-06-01"},{"$f":"TEXT(Y459,\"ddd\")","v":"vr"},"DD",{"$f":"IFERROR(HLOOKUP(Y459,[1]DATA!$A$1:$NB$5,3,0),\"\")","v":"D1"},32,null,19,256,{"$f":"VLOOKUP(Y459,[1]SRM!$S$4:$AA$368,6,0)","v":5},-140.8125,0.58114942528735636,0.98201870055142648]
["22vrMD",{"$f":"VLOOKUP($AA460,DATA!$B$3:$E460,2,0)","v":"14:30:00"},{"$f":"VLOOKUP($AA460,DATA!$B$3:$E460,3,0)","v":"22:30:00"},{"$f":"VLOOKUP($AA460,DATA!$B$3:$E460,4,0)","v":3.125E-2},0.30208333333333337,0.30208333333333337,{"$f":"DATA!$C$9","v":0.89},{"$f":"DATA!$C$10","v":64},1,407.81250000000006,407.81250000000006,0,"","",0,"","",343.46666666666664,322,"","",322,null,{"$f":"X457","v":22},null,{"$f":"TEXT(Y459,\"ddd\")","v":"vr"},"MD",{"$f":"IFERROR(HLOOKUP(Y459,[1]DATA!$A$1:$NB$5,4,0),\"\")","v":"D3"},null,null,null,322,{"$f":"VLOOKUP(Y459,[1]SRM!$S$4:$AA$368,7,0)","v":25},-85.812500000000057,0.78957854406130257,0.93215125746336169]
["22vrND",{"$f":"VLOOKUP($AA461,DATA!$B$3:$E461,2,0)","v":"22:30:00"},{"$f":"VLOOKUP($AA461,DATA!$B$3:$E461,3,0)","v":"06:30:00"},{"$f":"VLOOKUP($AA461,DATA!$B$3:$E461,4,0)","v":3.125E-2},0.30208333333333326,0.2937499999999999,{"$f":"DATA!$C$9","v":0.89},{"$f":"DATA!$C$10","v":64},1,396.56249999999989,407.81249999999989,8.3333333333333332E-3,11.25,2.7586206896551731E-2,0,"","",360.5333333333333,313,"",313,"",null,{"$f":"X457","v":22},null,{"$f":"TEXT(Y459,\"ddd\")","v":"vr"},"ND",{"$f":"IFERROR(HLOOKUP(Y459,[1]DATA!$A$1:$NB$5,5,0),\"\")","v":"D2"},12,null,25,338,{"$f":"VLOOKUP(Y459,[1]SRM!$S$4:$AA$368,8,0)","v":0},-83.562499999999886,0.76750957854406154,1]
["22zaDD",{"$f":"VLOOKUP($AA462,DATA!$B$3:$E462,2,0)","v":"06:30:00"},{"$f":"VLOOKUP($AA462,DATA!$B$3:$E462,3,0)","v":"14:30:00"},{"$f":"VLOOKUP($AA462,DATA!$B$3:$E462,4,0)","v":3.125E-2},0.30208333333333331,0.30208333333333331,{"$f":"DATA!$C$9","v":0.89},{"$f":"DATA!$C$10","v":64},1,407.8125,407.8125,0,"","",0,"","",0,"","","","",null,{"$f":"X457","v":22},{"$f":"Y459+1","v":"2018-06-02"},{"$f":"TEXT(Y462,\"ddd\")","v":"za"},"DD",{"$f":"IFERROR(HLOOKUP(Y462,[1]DATA!$A$1:$NB$5,3,0),\"\")","v":"D1"},null,null,null,null,{"$f":"VLOOKUP(Y462,[1]SRM!$S$4:$AA$368,6,0)","v":0},"","",""]
["22zaMD",{"$f":"VLOOKUP($AA463,DATA!$B$3:$E463,2,0)","v":"14:30:00"},{"$f":"VLOOKUP($AA463,DATA!$B$3:$E463,3,0)","v":"22:30:00"},{"$f":"VLOOKUP($AA463,DATA!$B$3:$E463,4,0)","v":3.125E-2},0.30208333333333337,0.30208333333333337,{"$f":"DATA!$C$9","v":0.89},{"$f":"DATA!$C$10","v":64},1,407.81250000000006,407.81250000000006,0,"","",0,"","",0,"","","","",null,{"$f":"X457","v":22},null,{"$f":"TEXT(Y462,\"ddd\")","v":"za"},"MD",{"$f":"IFERROR(HLOOKUP(Y462,[1]DATA!$A$1:$NB$5,4,0),\"\")","v":"-"},null,null,null,null,{"$f":"VLOOKUP(Y462,[1]SRM!$S$4:$AA$368,7,0)","v":0},"","",""]
["22zaND",{"$f":"VLOOKUP($AA464,DATA!$B$3:$E464,2,0)","v":"22:30:00"},{"$f":"VLOOKUP($AA464,DATA!$B$3:$E464,3,0)","v":"06:30:00"},{"$f":"VLOOKUP($AA464,DATA!$B$3:$E464,4,0)","v":3.125E-2},0.30208333333333326,0.30208333333333326,{"$f":"DATA!$C$9","v":0.89},{"$f":"DATA!$C$10","v":64},1,407.81249999999989,407.81249999999989,0,"","",0,"","",0,"","","","",null,{"$f":"X457","v":22},null,{"$f":"TEXT(Y462,\"ddd\")","v":"za"},"ND",{"$f":"IFERROR(HLOOKUP(Y462,[1]DATA!$A$1:$NB$5,5,0),\"\")","v":"-"},null,null,null,null,{"$f":"VLOOKUP(Y462,[1]SRM!$S$4:$AA$368,8,0)","v":0},"","",""]
["22zoDD",{"$f":"VLOOKUP($AA465,DATA!$B$3:$E465,2,0)","v":"06:30:00"},{"$f":"VLOOKUP($AA465,DATA!$B$3:$E465,3,0)","v":"14:30:00"},{"$f":"VLOOKUP($AA465,DATA!$B$3:$E465,4,0)","v":3.125E-2},0.30208333333333331,0.30208333333333331,{"$f":"DATA!$C$9","v":0.89},{"$f":"DATA!$C$10","v":64},1,407.8125,407.8125,0,"","",0,"","",0,"","","","",null,{"$f":"X457","v":22},{"$f":"Y462+1","v":"2018-06-03"},{"$f":"TEXT(Y465,\"ddd\")","v":"zo"},"DD",{"$f":"IFERROR(HLOOKUP(Y465,[1]DATA!$A$1:$NB$5,3,0),\"\")","v":"-"},null,null,null,null,{"$f":"VLOOKUP(Y465,[1]SRM!$S$4:$AA$368,6,0)","v":0},"","",""]
["22zoMD",{"$f":"VLOOKUP($AA466,DATA!$B$3:$E466,2,0)","v":"14:30:00"},{"$f":"VLOOKUP($AA466,DATA!$B$3:$E466,3,0)","v":"22:30:00"},{"$f":"VLOOKUP($AA466,DATA!$B$3:$E466,4,0)","v":3.125E-2},0.30208333333333337,0.30208333333333337,{"$f":"DATA!$C$9","v":0.89},{"$f":"DATA!$C$10","v":64},1,407.81250000000006,407.81250000000006,0,"","",0,"","",0,"","","","",null,{"$f":"X457","v":22},null,{"$f":"TEXT(Y465,\"ddd\")","v":"zo"},"MD",{"$f":"IFERROR(HLOOKUP(Y465,[1]DATA!$A$1:$NB$5,4,0),\"\")","v":"-"},null,null,null,null,{"$f":"VLOOKUP(Y465,[1]SRM!$S$4:$AA$368,7,0)","v":0},"","",""]
["22zoZND",{"$f":"VLOOKUP($AA467,DATA!$B$3:$E467,2,0)","v":"00:00:00"},{"$f":"VLOOKUP($AA467,DATA!$B$3:$E467,3,0)","v":"00:00:00"},{"$f":"VLOOKUP($AA467,DATA!$B$3:$E467,4,0)","v":0},0,0,{"$f":"DATA!$C$9","v":0.89},{"$f":"DATA!$C$10","v":64},1,0,0,0,"","",0,"","",0,"","","","",null,{"$f":"X457","v":22},null,{"$f":"TEXT(Y465,\"ddd\")","v":"zo"},"ZND",{"$f":"IFERROR(HLOOKUP(Y465,[1]DATA!$A$1:$NB$5,5,0),\"\")","v":"-"},null,null,null,null,{"$f":"VLOOKUP(Y465,[1]SRM!$S$4:$AA$368,8,0)","v":0},"","",""]
["23maDD",{"$f":"VLOOKUP($AA468,DATA!$B$3:$E468,2,0)","v":"06:30:00"},{"$f":"VLOOKUP($AA468,DATA!$B$3:$E468,3,0)","v":"14:30:00"},{"$f":"VLOOKUP($AA468,DATA!$B$3:$E468,4,0)","v":3.125E-2},0.30208333333333331,0.28888888888888886,{"$f":"DATA!$C$9","v":0.89},{"$f":"DATA!$C$10","v":64},1,389.99999999999994,407.8125,1.3194444444444444E-2,17.8125,4.3678160919540229E-2,{"$f":"TIME(INT($AD468/60),INT(MOD($AD468,60)/1),0)","v":0},"","",272,230,"","",230,null,{"$f":"X478","v":23},{"$f":"Y465+1","v":"2018-06-04"},{"$f":"TEXT(Y468,\"ddd\")","v":"ma"},"DD",{"$f":"IFERROR(HLOOKUP(Y468,[1]DATA!$A$1:$NB$5,3,0),\"\")","v":"D3"},19,null,25,255,{"$f":"VLOOKUP(Y468,[1]SRM!$S$4:$AA$368,6,0)","v":15},-159.99999999999994,0.56398467432950194,0.94773519163763065,{"$f":"IF(SUMIF(S468:S488,\">0\",K468:K488)=0,\"\",SUMIF(S468:S488,\">0\",K468:K488))","v":6117.1875},{"$f":"IF(SUM(S468:S488)=0,\"\",SUM(S468:S488))","v":4314},{"$f":"IFERROR(AL468/AK468,\"-\")","v":0.7052260536398467},{"$f":"IF(SUM(M468:M488)=0,\"0\",SUM(M468:M488))","v":351.5625},{"$f":"IFERROR(AN468/AK468,\"-\")","v":5.7471264367816091E-2},{"$f":"IF(SUM(P468:P488)=0,0,SUM(P468:P488))","v":0},{"$f":"IFERROR(AP468/AK468,\"-\")","v":0},0.91621182489662667,{"$f":"IFERROR(SUMIF($AB468:$AB488,AS$5,$AJ468:$AJ488)/COUNTIFS($AB468:$AB488,AS$5,$AJ468:$AJ488,\">0\"),\"\")","v":0.97819614739415339},0.88387126006422345,0.90543304469748942,{"$f":"IFERROR((AK468-AL468-AN468-AP468),\"-\")","v":1451.625},{"$f":"IFERROR((1-AM468-AO468-AQ468), \"-\")","v":0.23730268199233723},{"$f":"IFERROR((AV468*$AE$2)/60,\"-\")","v":1548.4},{"$f":"IFERROR(SUM(AG468:AG488),\"\")","v":489}]
["23maMD",{"$f":"VLOOKUP($AA469,DATA!$B$3:$E469,2,0)","v":"14:30:00"},{"$f":"VLOOKUP($AA469,DATA!$B$3:$E469,3,0)","v":"22:30:00"},{"$f":"VLOOKUP($AA469,DATA!$B$3:$E469,4,0)","v":3.125E-2},0.30208333333333337,0.28541666666666671,{"$f":"DATA!$C$9","v":0.89},{"$f":"DATA!$C$10","v":64},1,385.31250000000006,407.81250000000006,1.6666666666666666E-2,22.5,5.5172413793103441E-2,{"$f":"TIME(INT(AD469/60),INT(MOD(AD469,60)/1),0)","v":0},"","",279.46666666666664,224,"",224,"",null,{"$f":"X478","v":23},null,{"$f":"TEXT(Y468,\"ddd\")","v":"ma"},"MD",{"$f":"IFERROR(HLOOKUP(Y468,[1]DATA!$A$1:$NB$5,4,0),\"\")","v":"D2"},24,null,38,262,{"$f":"VLOOKUP(Y468,[1]SRM!$S$4:$AA$368,7,0)","v":11},-161.31250000000006,0.54927203065134089,0.96212990589855407]
["23maND",{"$f":"VLOOKUP($AA470,DATA!$B$3:$E470,2,0)","v":"22:30:00"},{"$f":"VLOOKUP($AA470,DATA!$B$3:$E470,3,0)","v":"06:30:00"},{"$f":"VLOOKUP($AA470,DATA!$B$3:$E470,4,0)","v":3.125E-2},0.30208333333333326,0.30208333333333326,{"$f":"DATA!$C$9","v":0.89},{"$f":"DATA!$C$10","v":64},1,407.81249999999989,407.81249999999989,0,"","",0,"","",333.86666666666667,313,313,"","",null,{"$f":"X478","v":23},null,{"$f":"TEXT(Y468,\"ddd\")","v":"ma"},"ND",{"$f":"IFERROR(HLOOKUP(Y468,[1]DATA!$A$1:$NB$5,5,0),\"\")","v":"D1"},0,null,0,313,{"$f":"VLOOKUP(Y468,[1]SRM!$S$4:$AA$368,8,0)","v":6},-94.812499999999886,0.76750957854406154,0.98234601804629262]
["23diDD",{"$f":"VLOOKUP($AA471,DATA!$B$3:$E471,2,0)","v":"06:30:00"},{"$f":"VLOOKUP($AA471,DATA!$B$3:$E471,3,0)","v":"14:30:00"},{"$f":"VLOOKUP($AA471,DATA!$B$3:$E471,4,0)","v":3.125E-2},0.30208333333333331,0.28541666666666665,{"$f":"DATA!$C$9","v":0.89},{"$f":"DATA!$C$10","v":64},1,385.3125,407.8125,1.6666666666666666E-2,22.5,5.5172413793103448E-2,0,"","",338.13333333333333,303,"","",303,null,{"$f":"X478","v":23},{"$f":"Y468+1","v":"2018-06-05"},{"$f":"TEXT(Y471,\"ddd\")","v":"di"},"DD",{"$f":"IFERROR(HLOOKUP(Y471,[1]DATA!$A$1:$NB$5,3,0),\"\")","v":"D3"},24,null,14,317,{"$f":"VLOOKUP(Y471,[1]SRM!$S$4:$AA$368,6,0)","v":56},-82.3125,0.74298850574712638,0.85791610284167796]
["23diMD",{"$f":"VLOOKUP($AA472,DATA!$B$3:$E472,2,0)","v":"14:30:00"},{"$f":"VLOOKUP($AA472,DATA!$B$3:$E472,3,0)","v":"22:30:00"},{"$f":"VLOOKUP($AA472,DATA!$B$3:$E472,4,0)","v":3.125E-2},0.30208333333333337,0.28888888888888892,{"$f":"DATA!$C$9","v":0.89},{"$f":"DATA!$C$10","v":64},1,390.00000000000006,407.81250000000006,1.3194444444444444E-2,17.8125,4.3678160919540222E-2,0,"","",324.26666666666665,275,"",275,"",null,{"$f":"X478","v":23},null,{"$f":"TEXT(Y471,\"ddd\")","v":"di"},"MD",{"$f":"IFERROR(HLOOKUP(Y471,[1]DATA!$A$1:$NB$5,4,0),\"\")","v":"D2"},19,null,29,304,{"$f":"VLOOKUP(Y471,[1]SRM!$S$4:$AA$368,7,0)","v":24},-115.00000000000006,0.67432950191570873,0.93108728943338437]
["23diND",{"$f":"VLOOKUP($AA473,DATA!$B$3:$E473,2,0)","v":"22:30:00"},{"$f":"VLOOKUP($AA473,DATA!$B$3:$E473,3,0)","v":"06:30:00"},{"$f":"VLOOKUP($AA473,DATA!$B$3:$E473,4,0)","v":3.125E-2},0.30208333333333326,0.27708333333333324,{"$f":"DATA!$C$9","v":0.89},{"$f":"DATA!$C$10","v":64},1,374.06249999999989,407.81249999999989,2.4999999999999998E-2,33.75,8.2758620689655199E-2,0,"","",375.46666666666664,339,339,"","",null,{"$f":"X478","v":23},null,{"$f":"TEXT(Y471,\"ddd\")","v":"di"},"ND",{"$f":"IFERROR(HLOOKUP(Y471,[1]DATA!$A$1:$NB$5,5,0),\"\")","v":"D1"},36,null,13,352,{"$f":"VLOOKUP(Y471,[1]SRM!$S$4:$AA$368,8,0)","v":18},-35.062499999999886,0.83126436781609214,0.95425279566248733]
["23woDD",{"$f":"VLOOKUP($AA474,DATA!$B$3:$E474,2,0)","v":"06:30:00"},{"$f":"VLOOKUP($AA474,DATA!$B$3:$E474,3,0)","v":"14:30:00"},{"$f":"VLOOKUP($AA474,DATA!$B$3:$E474,4,0)","v":3.125E-2},0.30208333333333331,0.28541666666666665,{"$f":"DATA!$C$9","v":0.89},{"$f":"DATA!$C$10","v":64},1,385.3125,407.8125,1.6666666666666666E-2,22.5,5.5172413793103448E-2,0,"","",337.06666666666666,299,"","",299,null,{"$f":"X478","v":23},{"$f":"Y471+1","v":"2018-06-06"},{"$f":"TEXT(Y474,\"ddd\")","v":"wo"},"DD",{"$f":"IFERROR(HLOOKUP(Y474,[1]DATA!$A$1:$NB$5,3,0),\"\")","v":"D3"},24,null,17,316,{"$f":"VLOOKUP(Y474,[1]SRM!$S$4:$AA$368,6,0)","v":20},-86.3125,0.7331800766283525,0.94398805078416725]
["23woMD",{"$f":"VLOOKUP($AA475,DATA!$B$3:$E475,2,0)","v":"14:30:00"},{"$f":"VLOOKUP($AA475,DATA!$B$3:$E475,3,0)","v":"22:30:00"},{"$f":"VLOOKUP($AA475,DATA!$B$3:$E475,4,0)","v":3.125E-2},0.30208333333333337,0.28402777777777782,{"$f":"DATA!$C$9","v":0.89},{"$f":"DATA!$C$10","v":64},1,383.43750000000006,407.81250000000006,1.8055555555555557E-2,24.375000000000004,5.9770114942528735E-2,0,"","",298.66666666666669,264,"",264,"",null,{"$f":"X478","v":23},null,{"$f":"TEXT(Y474,\"ddd\")","v":"wo"},"MD",{"$f":"IFERROR(HLOOKUP(Y474,[1]DATA!$A$1:$NB$5,4,0),\"\")","v":"D2"},26,null,16,280,{"$f":"VLOOKUP(Y474,[1]SRM!$S$4:$AA$368,7,0)","v":75},-119.43750000000006,0.64735632183908032,{"$f":"IFERROR(R475/(R475+AG475),\"\")","v":0.79928635147190008}]
["23woND",{"$f":"VLOOKUP($AA476,DATA!$B$3:$E476,2,0)","v":"22:30:00"},{"$f":"VLOOKUP($AA476,DATA!$B$3:$E476,3,0)","v":"06:30:00"},{"$f":"VLOOKUP($AA476,DATA!$B$3:$E476,4,0)","v":3.125E-2},{"$f":"(C476-B476+(B476>C476))-D476","v":0.30208333333333326},{"$f":"E476-O476-L476","v":0.28194444444444439},{"$f":"DATA!$C$9","v":0.89},{"$f":"DATA!$C$10","v":64},1,{"$f":"F476*86400/H476*I476","v":380.62499999999994},{"$f":"E476*86400/H476","v":407.81249999999989},2.013888888888889E-2,27.1875,6.666666666666668E-2,0,"","",{"$f":"AF476*AG$2","v":359.46666666666664},{"$f":"IF(AF476-AE476=0,\"\",AF476-AE476)","v":313},313,"","",null,{"$f":"X478","v":23},null,{"$f":"TEXT(Y474,\"ddd\")","v":"wo"},"ND",{"$f":"IFERROR(HLOOKUP(Y474,[1]DATA!$A$1:$NB$5,5,0),\"\")","v":"D1"},29,null,24,337,{"$f":"VLOOKUP(Y474,[1]SRM!$S$4:$AA$368,8,0)","v":3},-67.624999999999943,0.76750957854406154,0.99172337686224021]
["23doDD",{"$f":"VLOOKUP($AA477,DATA!$B$3:$E477,2,0)","v":"06:30:00"},{"$f":"VLOOKUP($AA477,DATA!$B$3:$E477,3,0)","v":"14:30:00"},{"$f":"VLOOKUP($AA477,DATA!$B$3:$E477,4,0)","v":3.125E-2},0.30208333333333331,0.30138888888888887,{"$f":"DATA!$C$9","v":0.89},{"$f":"DATA!$C$10","v":64},1,406.875,407.8125,6.9444444444444447E-4,0.9375,2.2988505747126436E-3,0,"","",341.33333333333331,314,"","",314,null,{"$f":"X478","v":23},{"$f":"Y474+1","v":"2018-06-07"},{"$f":"TEXT(Y477,\"ddd\")","v":"do"},"DD",{"$f":"IFERROR(HLOOKUP(Y477,[1]DATA!$A$1:$NB$5,3,0),\"\")","v":"D3"},1,null,6,320,{"$f":"VLOOKUP(Y477,[1]SRM!$S$4:$AA$368,6,0)","v":67},-92.875,0.76996168582375479,0.83591836734693881]
["23doMD",{"$f":"VLOOKUP($AA478,DATA!$B$3:$E478,2,0)","v":"14:30:00"},{"$f":"VLOOKUP($AA478,DATA!$B$3:$E478,3,0)","v":"22:30:00"},{"$f":"VLOOKUP($AA478,DATA!$B$3:$E478,4,0)","v":3.125E-2},0.30208333333333337,0.28888888888888892,{"$f":"DATA!$C$9","v":0.89},{"$f":"DATA!$C$10","v":64},1,390.00000000000006,407.81250000000006,1.3194444444444444E-2,17.8125,4.3678160919540222E-2,0,"","",334.93333333333334,292,"",292,"",null,{"$f":"WEEKNUM($Y468)","v":23},null,{"$f":"TEXT(Y477,\"ddd\")","v":"do"},"MD",{"$f":"IFERROR(HLOOKUP(Y477,[1]DATA!$A$1:$NB$5,4,0),\"\")","v":"D2"},19,null,22,314,{"$f":"VLOOKUP(Y477,[1]SRM!$S$4:$AA$368,7,0)","v":100},-98.000000000000057,0.71601532567049797,0.77007970570202333]
["23doND",{"$f":"VLOOKUP($AA479,DATA!$B$3:$E479,2,0)","v":"22:30:00"},{"$f":"VLOOKUP($AA479,DATA!$B$3:$E479,3,0)","v":"06:30:00"},{"$f":"VLOOKUP($AA479,DATA!$B$3:$E479,4,0)","v":3.125E-2},0.30208333333333326,0.27499999999999991,{"$f":"DATA!$C$9","v":0.89},{"$f":"DATA!$C$10","v":64},1,371.24999999999989,407.81249999999989,2.7083333333333334E-2,36.5625,8.965517241379313E-2,0,"","",316.8,275,275,"","",null,{"$f":"X478","v":23},null,{"$f":"TEXT(Y477,\"ddd\")","v":"do"},"ND",{"$f":"IFERROR(HLOOKUP(Y477,[1]DATA!$A$1:$NB$5,5,0),\"\")","v":"D1"},39,null,22,297,{"$f":"VLOOKUP(Y477,[1]SRM!$S$4:$AA$368,8,0)","v":5},-96.249999999999886,0.67432950191570895,0.98446239900559351]
["23vrDD",{"$f":"VLOOKUP($AA480,DATA!$B$3:$E480,2,0)","v":"06:30:00"},{"$f":"VLOOKUP($AA480,DATA!$B$3:$E480,3,0)","v":"14:30:00"},{"$f":"VLOOKUP($AA480,DATA!$B$3:$E480,4,0)","v":3.125E-2},0.30208333333333331,0.25624999999999998,{"$f":"DATA!$C$9","v":0.89},{"$f":"DATA!$C$10","v":64},1,345.93749999999994,407.8125,4.5833333333333337E-2,61.875000000000007,0.15172413793103451,0,"","",274.13333333333333,249,"","",249,null,{"$f":"X478","v":23},{"$f":"Y477+1","v":"2018-06-08"},{"$f":"TEXT(Y480,\"ddd\")","v":"vr"},"DD",{"$f":"IFERROR(HLOOKUP(Y480,[1]DATA!$A$1:$NB$5,3,0),\"\")","v":"D3"},66,null,8,257,{"$f":"VLOOKUP(Y480,[1]SRM!$S$4:$AA$368,6,0)","v":17},-96.937499999999943,0.61057471264367813,0.94160751087703232]
["23vrMD",{"$f":"VLOOKUP($AA481,DATA!$B$3:$E481,2,0)","v":"14:30:00"},{"$f":"VLOOKUP($AA481,DATA!$B$3:$E481,3,0)","v":"22:30:00"},{"$f":"VLOOKUP($AA481,DATA!$B$3:$E481,4,0)","v":3.125E-2},0.30208333333333337,0.28055555555555561,{"$f":"DATA!$C$9","v":0.89},{"$f":"DATA!$C$10","v":64},1,378.75000000000006,407.81250000000006,2.1527777777777781E-2,29.062500000000004,7.1264367816091953E-2,0,"","",391.46666666666664,331,"",331,"",null,{"$f":"X478","v":23},null,{"$f":"TEXT(Y480,\"ddd\")","v":"vr"},"MD",{"$f":"IFERROR(HLOOKUP(Y480,[1]DATA!$A$1:$NB$5,4,0),\"\")","v":"D2"},31,null,36,367,{"$f":"VLOOKUP(Y480,[1]SRM!$S$4:$AA$368,7,0)","v":69},-47.750000000000057,0.81164750957854392,0.8501520196901694]
["23vrND",{"$f":"VLOOKUP($AA482,DATA!$B$3:$E482,2,0)","v":"22:30:00"},{"$f":"VLOOKUP($AA482,DATA!$B$3:$E482,3,0)","v":"06:30:00"},{"$f":"VLOOKUP($AA482,DATA!$B$3:$E482,4,0)","v":3.125E-2},0.30208333333333326,0.28958333333333325,{"$f":"DATA!$C$9","v":0.89},{"$f":"DATA!$C$10","v":64},1,390.93749999999989,407.81249999999989,1.2499999999999999E-2,16.875,4.13793103448276E-2,0,"","",312.5333333333333,293,"",293,"",null,{"$f":"X478","v":23},null,{"$f":"TEXT(Y480,\"ddd\")","v":"vr"},"ND",{"$f":"IFERROR(HLOOKUP(Y480,[1]DATA!$A$1:$NB$5,5,0),\"\")","v":"D2"},18,null,0,293,{"$f":"VLOOKUP(Y480,[1]SRM!$S$4:$AA$368,8,0)","v":3},-97.937499999999886,0.71846743295019178,0.99049228818930912]
["23zaDD",{"$f":"VLOOKUP($AA483,DATA!$B$3:$E483,2,0)","v":"06:30:00"},{"$f":"VLOOKUP($AA483,DATA!$B$3:$E483,3,0)","v":"14:30:00"},{"$f":"VLOOKUP($AA483,DATA!$B$3:$E483,4,0)","v":3.125E-2},0.30208333333333331,0.30208333333333331,{"$f":"DATA!$C$9","v":0.89},{"$f":"DATA!$C$10","v":64},1,407.8125,407.8125,0,"","",0,"","",0,"","","","",null,{"$f":"X478","v":23},{"$f":"Y480+1","v":"2018-06-09"},{"$f":"TEXT(Y483,\"ddd\")","v":"za"},"DD",{"$f":"IFERROR(HLOOKUP(Y483,[1]DATA!$A$1:$NB$5,3,0),\"\")","v":"D3"},null,null,null,null,{"$f":"VLOOKUP(Y483,[1]SRM!$S$4:$AA$368,6,0)","v":0},"","",""]
["23zaMD",{"$f":"VLOOKUP($AA484,DATA!$B$3:$E484,2,0)","v":"14:30:00"},{"$f":"VLOOKUP($AA484,DATA!$B$3:$E484,3,0)","v":"22:30:00"},{"$f":"VLOOKUP($AA484,DATA!$B$3:$E484,4,0)","v":3.125E-2},0.30208333333333337,0.30208333333333337,{"$f":"DATA!$C$9","v":0.89},{"$f":"DATA!$C$10","v":64},1,407.81250000000006,407.81250000000006,0,"","",0,"","",0,"","","","",null,{"$f":"X478","v":23},null,{"$f":"TEXT(Y483,\"ddd\")","v":"za"},"MD",{"$f":"IFERROR(HLOOKUP(Y483,[1]DATA!$A$1:$NB$5,4,0),\"\")","v":"-"},null,null,null,null,{"$f":"VLOOKUP(Y483,[1]SRM!$S$4:$AA$368,7,0)","v":0},"","",""]
["23zaND",{"$f":"VLOOKUP($AA485,DATA!$B$3:$E485,2,0)","v":"22:30:00"},{"$f":"VLOOKUP($AA485,DATA!$B$3:$E485,3,0)","v":"06:30:00"},{"$f":"VLOOKUP($AA485,DATA!$B$3:$E485,4,0)","v":3.125E-2},0.30208333333333326,0.30208333333333326,{"$f":"DATA!$C$9","v":0.89},{"$f":"DATA!$C$10","v":64},1,407.81249999999989,407.81249999999989,0,"","",0,"","",0,"","","","",null,{"$f":"X478","v":23},null,{"$f":"TEXT(Y483,\"ddd\")","v":"za"},"ND",{"$f":"IFERROR(HLOOKUP(Y483,[1]DATA!$A$1:$NB$5,5,0),\"\")","v":"-"},null,null,null,null,{"$f":"VLOOKUP(Y483,[1]SRM!$S$4:$AA$368,8,0)","v":0},"","",""]
["23zoDD",{"$f":"VLOOKUP($AA486,DATA!$B$3:$E486,2,0)","v":"06:30:00"},{"$f":"VLOOKUP($AA486,DATA!$B$3:$E486,3,0)","v":"14:30:00"},{"$f":"VLOOKUP($AA486,DATA!$B$3:$E486,4,0)","v":3.125E-2},0.30208333333333331,0.30208333333333331,{"$f":"DATA!$C$9","v":0.89},{"$f":"DATA!$C$10","v":64},1,407.8125,407.8125,0,"","",0,"","",0,"","","","",null,{"$f":"X478","v":23},{"$f":"Y483+1","v":"2018-06-10"},{"$f":"TEXT(Y486,\"ddd\")","v":"zo"},"DD",{"$f":"IFERROR(HLOOKUP(Y486,[1]DATA!$A$1:$NB$5,3,0),\"\")","v":"-"},null,null,null,null,{"$f":"VLOOKUP(Y486,[1]SRM!$S$4:$AA$368,6,0)","v":0},"","",""]
["23zoMD",{"$f":"VLOOKUP($AA487,DATA!$B$3:$E487,2,0)","v":"14:30:00"},{"$f":"VLOOKUP($AA487,DATA!$B$3:$E487,3,0)","v":"22:30:00"},{"$f":"VLOOKUP($AA487,DATA!$B$3:$E487,4,0)","v":3.125E-2},0.30208333333333337,0.30208333333333337,{"$f":"DATA!$C$9","v":0.89},{"$f":"DATA!$C$10","v":64},1,407.81250000000006,407.81250000000006,0,"","",0,"","",0,"","","","",null,{"$f":"X478","v":23},null,{"$f":"TEXT(Y486,\"ddd\")","v":"zo"},"MD",{"$f":"IFERROR(HLOOKUP(Y486,[1]DATA!$A$1:$NB$5,4,0),\"\")","v":"-"},null,null,null,null,{"$f":"VLOOKUP(Y486,[1]SRM!$S$4:$AA$368,7,0)","v":0},"","",""]
["23zoZND",{"$f":"VLOOKUP($AA488,DATA!$B$3:$E488,2,0)","v":"00:00:00"},{"$f":"VLOOKUP($AA488,DATA!$B$3:$E488,3,0)","v":"00:00:00"},{"$f":"VLOOKUP($AA488,DATA!$B$3:$E488,4,0)","v":0},0,0,{"$f":"DATA!$C$9","v":0.89},{"$f":"DATA!$C$10","v":64},1,0,0,0,"","",0,"","",0,"","","","",null,{"$f":"X478","v":23},null,{"$f":"TEXT(Y486,\"ddd\")","v":"zo"},"ZND",{"$f":"IFERROR(HLOOKUP(Y486,[1]DATA!$A$1:$NB$5,5,0),\"\")","v":"-"},null,null,null,null,{"$f":"VLOOKUP(Y486,[1]SRM!$S$4:$AA$368,8,0)","v":0},"","",""]
["24maDD",{"$f":"VLOOKUP($AA489,DATA!$B$3:$E489,2,0)","v":"06:30:00"},{"$f":"VLOOKUP($AA489,DATA!$B$3:$E489,3,0)","v":"14:30:00"},{"$f":"VLOOKUP($AA489,DATA!$B$3:$E489,4,0)","v":3.125E-2},0.30208333333333331,0.30138888888888887,{"$f":"DATA!$C$9","v":0.89},{"$f":"DATA!$C$10","v":64},1,406.875,407.8125,6.9444444444444447E-4,0.9375,2.2988505747126436E-3,{"$f":"TIME(INT($AD489/60),INT(MOD($AD489,60)/1),0)","v":0},"","",315.73333333333335,273,"",273,"",null,{"$f":"X499","v":24},{"$f":"Y486+1","v":"2018-06-11"},{"$f":"TEXT(Y489,\"ddd\")","v":"ma"},"DD",{"$f":"IFERROR(HLOOKUP(Y489,[1]DATA!$A$1:$NB$5,3,0),\"\")","v":"D2"},1,null,23,296,{"$f":"VLOOKUP(Y489,[1]SRM!$S$4:$AA$368,6,0)","v":35},-133.875,0.66942528735632179,0.90020908572514735,{"$f":"IF(SUMIF(S489:S509,\">0\",K489:K509)=0,\"\",SUMIF(S489:S509,\">0\",K489:K509))","v":6117.1875},{"$f":"IF(SUM(S489:S509)=0,\"\",SUM(S489:S509))","v":4193},{"$f":"IFERROR(AL489/AK489,\"-\")","v":0.68544572158365258},{"$f":"IF(SUM(M489:M509)=0,\"0\",SUM(M489:M509))","v":439.6875},{"$f":"IFERROR(AN489/AK489,\"-\")","v":7.1877394636015321E-2},{"$f":"IF(SUM(P489:P509)=0,0,SUM(P489:P509))","v":0},{"$f":"IFERROR(AP489/AK489,\"-\")","v":0},0.95342096520138653,{"$f":"IFERROR(SUMIF($AB489:$AB509,AS$5,$AJ489:$AJ509)/COUNTIFS($AB489:$AB509,AS$5,$AJ489:$AJ509,\">0\"),\"\")","v":0.97253792323296184},0.94517132665069781,0.94255364572049949,{"$f":"IFERROR((AK489-AL489-AN489-AP489),\"-\")","v":1484.5},{"$f":"IFERROR((1-AM489-AO489-AQ489), \"-\")","v":0.24267688378033209},{"$f":"IFERROR((AV489*$AE$2)/60,\"-\")","v":1583.4666666666667},{"$f":"IFERROR(SUM(AG489:AG509),\"\")","v":252}]
["24maMD",{"$f":"VLOOKUP($AA490,DATA!$B$3:$E490,2,0)","v":"14:30:00"},{"$f":"VLOOKUP($AA490,DATA!$B$3:$E490,3,0)","v":"22:30:00"},{"$f":"VLOOKUP($AA490,DATA!$B$3:$E490,4,0)","v":3.125E-2},0.30208333333333337,0.29722222222222228,{"$f":"DATA!$C$9","v":0.89},{"$f":"DATA!$C$10","v":64},1,401.25000000000006,407.81250000000006,4.8611111111111112E-3,6.5625,1.6091954022988502E-2,{"$f":"TIME(INT(AD490/60),INT(MOD(AD490,60)/1),0)","v":0},"","",369.06666666666666,312,312,"","",null,{"$f":"X499","v":24},null,{"$f":"TEXT(Y489,\"ddd\")","v":"ma"},"MD",{"$f":"IFERROR(HLOOKUP(Y489,[1]DATA!$A$1:$NB$5,4,0),\"\")","v":"D1"},7,null,34,346,{"$f":"VLOOKUP(Y489,[1]SRM!$S$4:$AA$368,7,0)","v":20},-89.250000000000057,0.76505747126436774,0.94859492803289924]
["24maND",{"$f":"VLOOKUP($AA491,DATA!$B$3:$E491,2,0)","v":"22:30:00"},{"$f":"VLOOKUP($AA491,DATA!$B$3:$E491,3,0)","v":"06:30:00"},{"$f":"VLOOKUP($AA491,DATA!$B$3:$E491,4,0)","v":3.125E-2},0.30208333333333326,0.26874999999999993,{"$f":"DATA!$C$9","v":0.89},{"$f":"DATA!$C$10","v":64},1,362.81249999999989,407.81249999999989,3.3333333333333333E-2,45,0.11034482758620692,0,"","",376.5333333333333,332,"","",332,null,{"$f":"X499","v":24},null,{"$f":"TEXT(Y489,\"ddd\")","v":"ma"},"ND",{"$f":"IFERROR(HLOOKUP(Y489,[1]DATA!$A$1:$NB$5,5,0),\"\")","v":"D3"},48,null,21,353,{"$f":"VLOOKUP(Y489,[1]SRM!$S$4:$AA$368,8,0)","v":39},-30.812499999999886,0.81409961685823773,0.9061447136210492]
["24diDD",{"$f":"VLOOKUP($AA492,DATA!$B$3:$E492,2,0)","v":"06:30:00"},{"$f":"VLOOKUP($AA492,DATA!$B$3:$E492,3,0)","v":"14:30:00"},{"$f":"VLOOKUP($AA492,DATA!$B$3:$E492,4,0)","v":3.125E-2},0.30208333333333331,0.26944444444444443,{"$f":"DATA!$C$9","v":0.89},{"$f":"DATA!$C$10","v":64},1,363.75,407.8125,3.2638888888888891E-2,44.0625,0.10804597701149425,0,"","",343.46666666666664,304,"",304,"",null,{"$f":"X499","v":24},{"$f":"Y489+1","v":"2018-06-12"},{"$f":"TEXT(Y492,\"ddd\")","v":"di"},"DD",{"$f":"IFERROR(HLOOKUP(Y492,[1]DATA!$A$1:$NB$5,3,0),\"\")","v":"D2"},47,null,18,322,{"$f":"VLOOKUP(Y492,[1]SRM!$S$4:$AA$368,6,0)","v":19},-59.75,0.74544061302681996,0.94758138679418802]
["24diMD",{"$f":"VLOOKUP($AA493,DATA!$B$3:$E493,2,0)","v":"14:30:00"},{"$f":"VLOOKUP($AA493,DATA!$B$3:$E493,3,0)","v":"22:30:00"},{"$f":"VLOOKUP($AA493,DATA!$B$3:$E493,4,0)","v":3.125E-2},0.30208333333333337,0.27152777777777781,{"$f":"DATA!$C$9","v":0.89},{"$f":"DATA!$C$10","v":64},1,366.56250000000006,407.81250000000006,3.0555555555555555E-2,41.25,0.10114942528735631,0,"","",253.86666666666667,225,225,"","",null,{"$f":"X499","v":24},null,{"$f":"TEXT(Y492,\"ddd\")","v":"di"},"MD",{"$f":"IFERROR(HLOOKUP(Y492,[1]DATA!$A$1:$NB$5,4,0),\"\")","v":"D1"},44,null,13,238,{"$f":"VLOOKUP(Y492,[1]SRM!$S$4:$AA$368,7,0)","v":0},-141.56250000000006,0.55172413793103436,1]
["24diND",{"$f":"VLOOKUP($AA494,DATA!$B$3:$E494,2,0)","v":"22:30:00"},{"$f":"VLOOKUP($AA494,DATA!$B$3:$E494,3,0)","v":"06:30:00"},{"$f":"VLOOKUP($AA494,DATA!$B$3:$E494,4,0)","v":3.125E-2},0.30208333333333326,0.28958333333333325,{"$f":"DATA!$C$9","v":0.89},{"$f":"DATA!$C$10","v":64},1,390.93749999999989,407.81249999999989,1.2499999999999999E-2,16.875,4.13793103448276E-2,0,"","",294.39999999999998,262,"","",262,null,{"$f":"X499","v":24},null,{"$f":"TEXT(Y492,\"ddd\")","v":"di"},"ND",{"$f":"IFERROR(HLOOKUP(Y492,[1]DATA!$A$1:$NB$5,5,0),\"\")","v":"D3"},18,null,14,276,{"$f":"VLOOKUP(Y492,[1]SRM!$S$4:$AA$368,8,0)","v":58},-128.93749999999989,0.64245210727969371,0.8354143019296254]
["24woDD",{"$f":"VLOOKUP($AA495,DATA!$B$3:$E495,2,0)","v":"06:30:00"},{"$f":"VLOOKUP($AA495,DATA!$B$3:$E495,3,0)","v":"14:30:00"},{"$f":"VLOOKUP($AA495,DATA!$B$3:$E495,4,0)","v":3.125E-2},0.30208333333333331,0.28333333333333333,{"$f":"DATA!$C$9","v":0.89},{"$f":"DATA!$C$10","v":64},1,382.5,407.8125,1.8749999999999999E-2,25.3125,6.2068965517241378E-2,0,"","",421.33333333333331,352,"",352,"",null,{"$f":"X499","v":24},{"$f":"Y492+1","v":"2018-06-13"},{"$f":"TEXT(Y495,\"ddd\")","v":"wo"},"DD",{"$f":"IFERROR(HLOOKUP(Y495,[1]DATA!$A$1:$NB$5,3,0),\"\")","v":"D2"},27,null,43,395,{"$f":"VLOOKUP(Y495,[1]SRM!$S$4:$AA$368,6,0)","v":9},-30.5,0.86314176245210728,0.97908597986057322]
[{"$f":"X496&Z496&AA496","v":"24woMD"},{"$f":"VLOOKUP($AA496,DATA!$B$3:$E496,2,0)","v":"14:30:00"},{"$f":"VLOOKUP($AA496,DATA!$B$3:$E496,3,0)","v":"22:30:00"},{"$f":"VLOOKUP($AA496,DATA!$B$3:$E496,4,0)","v":3.125E-2},0.30208333333333337,0.29513888888888895,{"$f":"DATA!$C$9","v":0.89},{"$f":"DATA!$C$10","v":64},1,398.43750000000006,407.81250000000006,6.9444444444444441E-3,9.375,2.2988505747126433E-2,0,{"$f":"IF($O496*86400/$H496=0,\"\",$O496*86400/$H496)","v":""},"",340.26666666666665,297,297,"","",null,{"$f":"X499","v":24},null,{"$f":"TEXT(Y495,\"ddd\")","v":"wo"},"MD",{"$f":"IFERROR(HLOOKUP(Y495,[1]DATA!$A$1:$NB$5,4,0),\"\")","v":"D1"},10,null,22,319,{"$f":"VLOOKUP(Y495,[1]SRM!$S$4:$AA$368,7,0)","v":25},-101.43750000000006,0.72827586206896544,0.93155685344040884]
["24woND",{"$f":"VLOOKUP($AA497,DATA!$B$3:$E497,2,0)","v":"22:30:00"},{"$f":"VLOOKUP($AA497,DATA!$B$3:$E497,3,0)","v":"06:30:00"},{"$f":"VLOOKUP($AA497,DATA!$B$3:$E497,4,0)","v":3.125E-2},0.30208333333333326,0.27986111111111106,{"$f":"DATA!$C$9","v":0.89},{"$f":"DATA!$C$10","v":64},1,377.81249999999994,407.81249999999989,2.2222222222222223E-2,30,7.3563218390804624E-2,0,"","",269.86666666666667,242,"","",242,null,{"$f":"X499","v":24},null,{"$f":"TEXT(Y495,\"ddd\")","v":"wo"},"ND",{"$f":"IFERROR(HLOOKUP(Y495,[1]DATA!$A$1:$NB$5,5,0),\"\")","v":"D3"},32,null,11,253,{"$f":"VLOOKUP(Y495,[1]SRM!$S$4:$AA$368,8,0)","v":8},-135.81249999999994,0.59340996168582394,0.97120921305182339]
["24doDD",{"$f":"VLOOKUP($AA498,DATA!$B$3:$E498,2,0)","v":"06:30:00"},{"$f":"VLOOKUP($AA498,DATA!$B$3:$E498,3,0)","v":"14:30:00"},{"$f":"VLOOKUP($AA498,DATA!$B$3:$E498,4,0)","v":3.125E-2},0.30208333333333331,0.28055555555555556,{"$f":"DATA!$C$9","v":0.89},{"$f":"DATA!$C$10","v":64},1,378.75,407.8125,2.1527777777777781E-2,29.062500000000004,7.1264367816091967E-2,0,"","",311.46666666666664,287,"",287,"",null,{"$f":"X499","v":24},{"$f":"Y495+1","v":"2018-06-14"},{"$f":"TEXT(Y498,\"ddd\")","v":"do"},"DD",{"$f":"IFERROR(HLOOKUP(Y498,[1]DATA!$A$1:$NB$5,3,0),\"\")","v":"D2"},31,null,5,292,{"$f":"VLOOKUP(Y498,[1]SRM!$S$4:$AA$368,6,0)","v":35},-91.75,0.70375478927203061,0.89898018087358089]
["24doMD",{"$f":"VLOOKUP($AA499,DATA!$B$3:$E499,2,0)","v":"14:30:00"},{"$f":"VLOOKUP($AA499,DATA!$B$3:$E499,3,0)","v":"22:30:00"},{"$f":"VLOOKUP($AA499,DATA!$B$3:$E499,4,0)","v":3.125E-2},0.30208333333333337,0.27638888888888891,{"$f":"DATA!$C$9","v":0.89},{"$f":"DATA!$C$10","v":64},1,373.125,407.81250000000006,2.5694444444444447E-2,34.6875,8.5057471264367801E-2,0,"","",347.73333333333335,310,310,"","",null,{"$f":"WEEKNUM($Y489)","v":24},null,{"$f":"TEXT(Y498,\"ddd\")","v":"do"},"MD",{"$f":"IFERROR(HLOOKUP(Y498,[1]DATA!$A$1:$NB$5,4,0),\"\")","v":"D1"},37,null,16,326,{"$f":"VLOOKUP(Y498,[1]SRM!$S$4:$AA$368,7,0)","v":0},-63.125,0.76015325670498068,1]
["24doND",{"$f":"VLOOKUP($AA500,DATA!$B$3:$E500,2,0)","v":"22:30:00"},{"$f":"VLOOKUP($AA500,DATA!$B$3:$E500,3,0)","v":"06:30:00"},{"$f":"VLOOKUP($AA500,DATA!$B$3:$E500,4,0)","v":3.125E-2},0.30208333333333326,0.26249999999999996,{"$f":"DATA!$C$9","v":0.89},{"$f":"DATA!$C$10","v":64},1,354.37499999999994,407.81249999999989,3.9583333333333331E-2,53.4375,0.13103448275862073,0,"","",339.2,291,"","",291,null,{"$f":"X499","v":24},null,{"$f":"TEXT(Y498,\"ddd\")","v":"do"},"ND",{"$f":"IFERROR(HLOOKUP(Y498,[1]DATA!$A$1:$NB$5,5,0),\"\")","v":"D3"},57,null,27,318,{"$f":"VLOOKUP(Y498,[1]SRM!$S$4:$AA$368,8,0)","v":0},-63.374999999999943,0.71356321839080483,1]
["24vrDD",{"$f":"VLOOKUP($AA501,DATA!$B$3:$E501,2,0)","v":"06:30:00"},{"$f":"VLOOKUP($AA501,DATA!$B$3:$E501,3,0)","v":"14:30:00"},{"$f":"VLOOKUP($AA501,DATA!$B$3:$E501,4,0)","v":3.125E-2},0.30208333333333331,0.25555555555555554,{"$f":"DATA!$C$9","v":0.89},{"$f":"DATA!$C$10","v":64},1,345,407.8125,4.6527777777777779E-2,62.8125,0.15402298850574714,0,"","",282.66666666666669,250,"",250,"",null,{"$f":"X499","v":24},"2018-06-15",{"$f":"TEXT(Y501,\"ddd\")","v":"vr"},"DD",{"$f":"IFERROR(HLOOKUP(Y501,[1]DATA!$A$1:$NB$5,3,0),\"\")","v":"D2"},67,null,15,265,{"$f":"VLOOKUP(Y501,[1]SRM!$S$4:$AA$368,6,0)","v":0},-95,0.6130268199233716,1]
["24vrMD",{"$f":"VLOOKUP($AA502,DATA!$B$3:$E502,2,0)","v":"14:30:00"},{"$f":"VLOOKUP($AA502,DATA!$B$3:$E502,3,0)","v":"22:30:00"},{"$f":"VLOOKUP($AA502,DATA!$B$3:$E502,4,0)","v":3.125E-2},0.30208333333333337,0.28333333333333338,{"$f":"DATA!$C$9","v":0.89},{"$f":"DATA!$C$10","v":64},1,382.50000000000006,407.81250000000006,1.8749999999999999E-2,25.3125,6.2068965517241372E-2,0,"","",225.06666666666666,191,191,"","",null,{"$f":"X499","v":24},null,{"$f":"TEXT(Y501,\"ddd\")","v":"vr"},"MD",{"$f":"IFERROR(HLOOKUP(Y501,[1]DATA!$A$1:$NB$5,4,0),\"\")","v":"D1"},27,null,20,211,{"$f":"VLOOKUP(Y501,[1]SRM!$S$4:$AA$368,7,0)","v":4},-191.50000000000006,0.46835249042145588,0.9825378346915018]
["24vrND",{"$f":"VLOOKUP($AA503,DATA!$B$3:$E503,2,0)","v":"22:30:00"},{"$f":"VLOOKUP($AA503,DATA!$B$3:$E503,3,0)","v":"06:30:00"},{"$f":"VLOOKUP($AA503,DATA!$B$3:$E503,4,0)","v":3.125E-2},0.30208333333333326,0.29097222222222213,{"$f":"DATA!$C$9","v":0.89},{"$f":"DATA!$C$10","v":64},1,392.81249999999989,407.81249999999989,1.1111111111111112E-2,15,3.6781609195402312E-2,0,"","",297.60000000000002,265,"","",265,null,{"$f":"X499","v":24},null,{"$f":"TEXT(Y501,\"ddd\")","v":"vr"},"ND",{"$f":"IFERROR(HLOOKUP(Y501,[1]DATA!$A$1:$NB$5,5,0),\"\")","v":"D3"},16,null,14,279,{"$f":"VLOOKUP(Y501,[1]SRM!$S$4:$AA$368,8,0)","v":0},-127.81249999999989,0.64980842911877412,1]
["24zaDD",{"$f":"VLOOKUP($AA504,DATA!$B$3:$E504,2,0)","v":"06:30:00"},{"$f":"VLOOKUP($AA504,DATA!$B$3:$E504,3,0)","v":"14:30:00"},{"$f":"VLOOKUP($AA504,DATA!$B$3:$E504,4,0)","v":3.125E-2},0.30208333333333331,0.30208333333333331,{"$f":"DATA!$C$9","v":0.89},{"$f":"DATA!$C$10","v":64},1,407.8125,407.8125,0,"","",0,"","",0,"","","","",null,{"$f":"X499","v":24},"2018-06-16",{"$f":"TEXT(Y504,\"ddd\")","v":"za"},"DD",{"$f":"IFERROR(HLOOKUP(Y504,[1]DATA!$A$1:$NB$5,3,0),\"\")","v":"D2"},null,null,null,null,{"$f":"VLOOKUP(Y504,[1]SRM!$S$4:$AA$368,6,0)","v":0},"","",""]
["24zaMD",{"$f":"VLOOKUP($AA505,DATA!$B$3:$E505,2,0)","v":"14:30:00"},{"$f":"VLOOKUP($AA505,DATA!$B$3:$E505,3,0)","v":"22:30:00"},{"$f":"VLOOKUP($AA505,DATA!$B$3:$E505,4,0)","v":3.125E-2},0.30208333333333337,0.30208333333333337,{"$f":"DATA!$C$9","v":0.89},{"$f":"DATA!$C$10","v":64},1,407.81250000000006,407.81250000000006,0,"","",0,"","",0,"","","","",null,{"$f":"X499","v":24},null,{"$f":"TEXT(Y504,\"ddd\")","v":"za"},"MD",{"$f":"IFERROR(HLOOKUP(Y504,[1]DATA!$A$1:$NB$5,4,0),\"\")","v":"-"},null,null,null,null,{"$f":"VLOOKUP(Y504,[1]SRM!$S$4:$AA$368,7,0)","v":0},"","",""]
["24zaND",{"$f":"VLOOKUP($AA506,DATA!$B$3:$E506,2,0)","v":"22:30:00"},{"$f":"VLOOKUP($AA506,DATA!$B$3:$E506,3,0)","v":"06:30:00"},{"$f":"VLOOKUP($AA506,DATA!$B$3:$E506,4,0)","v":3.125E-2},0.30208333333333326,0.30208333333333326,{"$f":"DATA!$C$9","v":0.89},{"$f":"DATA!$C$10","v":64},1,407.81249999999989,407.81249999999989,0,"","",0,"","",0,"","","","",null,{"$f":"X499","v":24},null,{"$f":"TEXT(Y504,\"ddd\")","v":"za"},"ND",{"$f":"IFERROR(HLOOKUP(Y504,[1]DATA!$A$1:$NB$5,5,0),\"\")","v":"-"},null,null,null,null,{"$f":"VLOOKUP(Y504,[1]SRM!$S$4:$AA$368,8,0)","v":0},"","",""]
["24zoDD",{"$f":"VLOOKUP($AA507,DATA!$B$3:$E507,2,0)","v":"06:30:00"},{"$f":"VLOOKUP($AA507,DATA!$B$3:$E507,3,0)","v":"14:30:00"},{"$f":"VLOOKUP($AA507,DATA!$B$3:$E507,4,0)","v":3.125E-2},0.30208333333333331,0.30208333333333331,{"$f":"DATA!$C$9","v":0.89},{"$f":"DATA!$C$10","v":64},1,407.8125,407.8125,0,"","",0,"","",0,"","","","",null,{"$f":"X499","v":24},"2018-06-17",{"$f":"TEXT(Y507,\"ddd\")","v":"zo"},"DD",{"$f":"IFERROR(HLOOKUP(Y507,[1]DATA!$A$1:$NB$5,3,0),\"\")","v":"-"},null,null,null,null,{"$f":"VLOOKUP(Y507,[1]SRM!$S$4:$AA$368,6,0)","v":0},"","",""]
["24zoMD",{"$f":"VLOOKUP($AA508,DATA!$B$3:$E508,2,0)","v":"14:30:00"},{"$f":"VLOOKUP($AA508,DATA!$B$3:$E508,3,0)","v":"22:30:00"},{"$f":"VLOOKUP($AA508,DATA!$B$3:$E508,4,0)","v":3.125E-2},0.30208333333333337,0.30208333333333337,{"$f":"DATA!$C$9","v":0.89},{"$f":"DATA!$C$10","v":64},1,407.81250000000006,407.81250000000006,0,"","",0,"","",0,"","","","",null,{"$f":"X499","v":24},null,{"$f":"TEXT(Y507,\"ddd\")","v":"zo"},"MD",{"$f":"IFERROR(HLOOKUP(Y507,[1]DATA!$A$1:$NB$5,4,0),\"\")","v":"-"},null,null,null,null,{"$f":"VLOOKUP(Y507,[1]SRM!$S$4:$AA$368,7,0)","v":0},"","",""]
["24zoZND",{"$f":"VLOOKUP($AA509,DATA!$B$3:$E509,2,0)","v":"00:00:00"},{"$f":"VLOOKUP($AA509,DATA!$B$3:$E509,3,0)","v":"00:00:00"},{"$f":"VLOOKUP($AA509,DATA!$B$3:$E509,4,0)","v":0},0,0,{"$f":"DATA!$C$9","v":0.89},{"$f":"DATA!$C$10","v":64},1,0,0,0,"","",0,"","",0,"","","","",null,{"$f":"X499","v":24},null,{"$f":"TEXT(Y507,\"ddd\")","v":"zo"},"ZND",{"$f":"IFERROR(HLOOKUP(Y507,[1]DATA!$A$1:$NB$5,5,0),\"\")","v":"-"},null,null,null,null,{"$f":"VLOOKUP(Y507,[1]SRM!$S$4:$AA$368,8,0)","v":0},"","",""]
["25maDD",{"$f":"VLOOKUP($AA510,DATA!$B$3:$E510,2,0)","v":"06:30:00"},{"$f":"VLOOKUP($AA510,DATA!$B$3:$E510,3,0)","v":"14:30:00"},{"$f":"VLOOKUP($AA510,DATA!$B$3:$E510,4,0)","v":3.125E-2},0.30208333333333331,0.27569444444444441,{"$f":"DATA!$C$9","v":0.89},{"$f":"DATA!$C$10","v":64},1,372.18749999999994,407.8125,2.6388888888888889E-2,35.625,8.7356321839080459E-2,{"$f":"TIME(INT($AD510/60),INT(MOD($AD510,60)/1),0)","v":0},"","",251.73333333333332,230,230,"","",null,{"$f":"X520","v":25},"2018-06-18",{"$f":"TEXT(Y510,\"ddd\")","v":"ma"},"DD",{"$f":"IFERROR(HLOOKUP(Y510,[1]DATA!$A$1:$NB$5,3,0),\"\")","v":"D1"},38,null,6,236,{"$f":"VLOOKUP(Y510,[1]SRM!$S$4:$AA$368,6,0)","v":6},-142.18749999999994,0.56398467432950194,0.97672012415933773,{"$f":"IF(SUMIF(S510:S530,\">0\",K510:K530)=0,\"\",SUMIF(S510:S530,\">0\",K510:K530))","v":6117.1875},{"$f":"IF(SUM(S510:S530)=0,\"\",SUM(S510:S530))","v":3880},{"$f":"IFERROR(AL510/AK510,\"-\")","v":0.63427841634738191},{"$f":"IF(SUM(M510:M530)=0,\"0\",SUM(M510:M530))","v":380.625},{"$f":"IFERROR(AN510/AK510,\"-\")","v":6.222222222222222E-2},{"$f":"IF(SUM(P510:P530)=0,0,SUM(P510:P530))","v":0},{"$f":"IFERROR(AP510/AK510,\"-\")","v":0},{"$f":"IFERROR(AVERAGE(AJ510:AJ530),\"-\")","v":0.92238123777287984},{"$f":"IFERROR(SUMIF($AB510:$AB530,AS$5,$AJ510:$AJ530)/COUNTIFS($AB510:$AB530,AS$5,$AJ510:$AJ530,\">0\"),\"\")","v":0.98436629192900094},0.89183025570265251,0.89094716568698618,{"$f":"IFERROR((AK510-AL510-AN510-AP510),\"-\")","v":1856.5625},{"$f":"IFERROR((1-AM510-AO510-AQ510), \"-\")","v":0.30349936143039585},{"$f":"IFERROR((AV510*$AE$2)/60,\"-\")","v":1980.3333333333333},{"$f":"IFERROR(SUM(AG510:AG530),\"\")","v":452}]
["25maMD",{"$f":"VLOOKUP($AA511,DATA!$B$3:$E511,2,0)","v":"14:30:00"},{"$f":"VLOOKUP($AA511,DATA!$B$3:$E511,3,0)","v":"22:30:00"},{"$f":"VLOOKUP($AA511,DATA!$B$3:$E511,4,0)","v":3.125E-2},0.30208333333333337,0.26736111111111116,{"$f":"DATA!$C$9","v":0.89},{"$f":"DATA!$C$10","v":64},1,360.93750000000006,407.81250000000006,3.4722222222222224E-2,46.875,0.11494252873563217,{"$f":"TIME(INT(AD511/60),INT(MOD(AD511,60)/1),0)","v":0},"","",334.93333333333334,310,"","",310,null,{"$f":"X520","v":25},null,{"$f":"TEXT(Y510,\"ddd\")","v":"ma"},"MD",{"$f":"IFERROR(HLOOKUP(Y510,[1]DATA!$A$1:$NB$5,4,0),\"\")","v":"D3"},50,null,4,314,{"$f":"VLOOKUP(Y510,[1]SRM!$S$4:$AA$368,7,0)","v":48},-50.937500000000057,0.76015325670498068,0.87465181058495822]
["25maND",{"$f":"VLOOKUP($AA512,DATA!$B$3:$E512,2,0)","v":"22:30:00"},{"$f":"VLOOKUP($AA512,DATA!$B$3:$E512,3,0)","v":"06:30:00"},{"$f":"VLOOKUP($AA512,DATA!$B$3:$E512,4,0)","v":3.125E-2},0.30208333333333326,0.26874999999999993,{"$f":"DATA!$C$9","v":0.89},{"$f":"DATA!$C$10","v":64},1,362.81249999999989,407.81249999999989,3.3333333333333333E-2,45,0.11034482758620692,0,"","",254.93333333333334,237,"",237,"",null,{"$f":"X520","v":25},null,{"$f":"TEXT(Y510,\"ddd\")","v":"ma"},"ND",{"$f":"IFERROR(HLOOKUP(Y510,[1]DATA!$A$1:$NB$5,5,0),\"\")","v":"D2"},48,null,2,239,{"$f":"VLOOKUP(Y510,[1]SRM!$S$4:$AA$368,8,0)","v":56},-125.81249999999989,0.58114942528735647,0.81989708404802741]
["25diDD",{"$f":"VLOOKUP($AA513,DATA!$B$3:$E513,2,0)","v":"06:30:00"},{"$f":"VLOOKUP($AA513,DATA!$B$3:$E513,3,0)","v":"14:30:00"},{"$f":"VLOOKUP($AA513,DATA!$B$3:$E513,4,0)","v":3.125E-2},0.30208333333333331,0.27291666666666664,{"$f":"DATA!$C$9","v":0.89},{"$f":"DATA!$C$10","v":64},1,368.43749999999994,407.8125,2.9166666666666664E-2,39.374999999999993,9.6551724137931019E-2,0,"","",336,293,293,"","",null,{"$f":"X520","v":25},"2018-06-19",{"$f":"TEXT(Y513,\"ddd\")","v":"di"},"DD",{"$f":"IFERROR(HLOOKUP(Y513,[1]DATA!$A$1:$NB$5,3,0),\"\")","v":"D1"},42,null,22,315,{"$f":"VLOOKUP(Y513,[1]SRM!$S$4:$AA$368,6,0)","v":15},-75.437499999999943,0.71846743295019155,0.95726495726495731]
["25diMD",{"$f":"VLOOKUP($AA514,DATA!$B$3:$E514,2,0)","v":"14:30:00"},{"$f":"VLOOKUP($AA514,DATA!$B$3:$E514,3,0)","v":"22:30:00"},{"$f":"VLOOKUP($AA514,DATA!$B$3:$E514,4,0)","v":3.125E-2},0.30208333333333337,0.27916666666666667,{"$f":"DATA!$C$9","v":0.89},{"$f":"DATA!$C$10","v":64},1,376.875,407.81250000000006,2.2916666666666669E-2,30.937500000000004,7.586206896551724E-2,0,"","",284.8,252,"","",252,null,{"$f":"X520","v":25},null,{"$f":"TEXT(Y513,\"ddd\")","v":"di"},"MD",{"$f":"IFERROR(HLOOKUP(Y513,[1]DATA!$A$1:$NB$5,4,0),\"\")","v":"D3"},33,null,15,267,{"$f":"VLOOKUP(Y513,[1]SRM!$S$4:$AA$368,7,0)","v":40},-124.875,0.61793103448275855,0.87684729064039413]
["25diND",{"$f":"VLOOKUP($AA515,DATA!$B$3:$E515,2,0)","v":"22:30:00"},{"$f":"VLOOKUP($AA515,DATA!$B$3:$E515,3,0)","v":"06:30:00"},{"$f":"VLOOKUP($AA515,DATA!$B$3:$E515,4,0)","v":3.125E-2},0.30208333333333326,0.30208333333333326,{"$f":"DATA!$C$9","v":0.89},{"$f":"DATA!$C$10","v":64},1,407.81249999999989,407.81249999999989,0,"","",0,"","",100.26666666666667,89,"",89,"",null,{"$f":"X520","v":25},null,{"$f":"TEXT(Y513,\"ddd\")","v":"di"},"ND",{"$f":"IFERROR(HLOOKUP(Y513,[1]DATA!$A$1:$NB$5,5,0),\"\")","v":"D2"},0,null,5,94,{"$f":"VLOOKUP(Y513,[1]SRM!$S$4:$AA$368,8,0)","v":0},-318.81249999999989,0.21823754789272037,1]
["25woDD",{"$f":"VLOOKUP($AA516,DATA!$B$3:$E516,2,0)","v":"06:30:00"},{"$f":"VLOOKUP($AA516,DATA!$B$3:$E516,3,0)","v":"14:30:00"},{"$f":"VLOOKUP($AA516,DATA!$B$3:$E516,4,0)","v":3.125E-2},0.30208333333333331,0.28680555555555554,{"$f":"DATA!$C$9","v":0.89},{"$f":"DATA!$C$10","v":64},1,387.1875,407.8125,1.5277777777777777E-2,20.625,5.057471264367816E-2,0,"","",217.6,190,190,"","",null,{"$f":"X520","v":25},"2018-06-20",{"$f":"TEXT(Y516,\"ddd\")","v":"wo"},"DD",{"$f":"IFERROR(HLOOKUP(Y516,[1]DATA!$A$1:$NB$5,3,0),\"\")","v":"D1"},22,null,14,204,{"$f":"VLOOKUP(Y516,[1]SRM!$S$4:$AA$368,6,0)","v":0},-197.1875,0.46590038314176246,1]
["25woMD",{"$f":"VLOOKUP($AA517,DATA!$B$3:$E517,2,0)","v":"14:30:00"},{"$f":"VLOOKUP($AA517,DATA!$B$3:$E517,3,0)","v":"22:30:00"},{"$f":"VLOOKUP($AA517,DATA!$B$3:$E517,4,0)","v":3.125E-2},0.30208333333333337,0.28541666666666671,{"$f":"DATA!$C$9","v":0.89},{"$f":"DATA!$C$10","v":64},1,385.31250000000006,407.81250000000006,1.6666666666666666E-2,22.5,5.5172413793103441E-2,0,"","",169.6,140,"","",140,null,{"$f":"X520","v":25},null,{"$f":"TEXT(Y516,\"ddd\")","v":"wo"},"MD",{"$f":"IFERROR(HLOOKUP(Y516,[1]DATA!$A$1:$NB$5,4,0),\"\")","v":"D3"},24,null,19,159,{"$f":"VLOOKUP(Y516,[1]SRM!$S$4:$AA$368,7,0)","v":0},-245.31250000000006,0.3432950191570881,1]
["25woND",{"$f":"VLOOKUP($AA518,DATA!$B$3:$E518,2,0)","v":"22:30:00"},{"$f":"VLOOKUP($AA518,DATA!$B$3:$E518,3,0)","v":"06:30:00"},{"$f":"VLOOKUP($AA518,DATA!$B$3:$E518,4,0)","v":3.125E-2},0.30208333333333326,0.29097222222222213,{"$f":"DATA!$C$9","v":0.89},{"$f":"DATA!$C$10","v":64},1,392.81249999999989,407.81249999999989,1.1111111111111112E-2,15,3.6781609195402312E-2,0,"","",364.8,310,"",310,"",null,{"$f":"X520","v":25},null,{"$f":"TEXT(Y516,\"ddd\")","v":"wo"},"ND",{"$f":"IFERROR(HLOOKUP(Y516,[1]DATA!$A$1:$NB$5,5,0),\"\")","v":"D2"},16,null,32,342,{"$f":"VLOOKUP(Y516,[1]SRM!$S$4:$AA$368,8,0)","v":70},{"$f":"IFERROR(S518-J518,\"\")","v":-82.812499999999886},{"$f":"IFERROR(IF(S518/(E518*86400/H518)<=0,\"\",S518/(E518*86400/H518)),\"\")","v":0.76015325670498102},0.83900643974241029]
["25doDD",{"$f":"VLOOKUP($AA519,DATA!$B$3:$E519,2,0)","v":"06:30:00"},{"$f":"VLOOKUP($AA519,DATA!$B$3:$E519,3,0)","v":"14:30:00"},{"$f":"VLOOKUP($AA519,DATA!$B$3:$E519,4,0)","v":3.125E-2},0.30208333333333331,0.28749999999999998,{"$f":"DATA!$C$9","v":0.89},{"$f":"DATA!$C$10","v":64},1,388.12499999999994,407.8125,{"$f":"TIME(INT($AC519/60),INT(MOD($AC519,60)/1),0)","v":1.4583333333333332E-2},{"$f":"IF($L519*86400/$H519=0,\"\",$L519*86400/$H519)","v":19.687499999999996},{"$f":"IFERROR($M519/$K519,\"\")","v":4.827586206896551E-2},0,"",{"$f":"IFERROR($P519/$K519,\"\")","v":""},408.5333333333333,341,{"$f":"IF(IF($AB519=\"D1\",$S519,\"\")=0,\"\",IF($AB519=\"D1\",$S519,\"\"))","v":341},{"$f":"IF(IF($AB519=\"D2\",$S519,\"\")=0,\"\",IF($AB519=\"D2\",$S519,\"\"))","v":""},{"$f":"IF(IF($AB519=\"D3\",$S519,\"\")=0,\"\",IF($AB519=\"D3\",$S519,\"\"))","v":""},null,{"$f":"X520","v":25},"2018-06-21",{"$f":"TEXT(Y519,\"ddd\")","v":"do"},"DD",{"$f":"IFERROR(HLOOKUP(Y519,[1]DATA!$A$1:$NB$5,3,0),\"\")","v":"D1"},21,null,42,383,{"$f":"VLOOKUP(Y519,[1]SRM!$S$4:$AA$368,6,0)","v":0},-47.124999999999943,0.83616858237547897,1]
["25doMD",{"$f":"VLOOKUP($AA520,DATA!$B$3:$E520,2,0)","v":"14:30:00"},{"$f":"VLOOKUP($AA520,DATA!$B$3:$E520,3,0)","v":"22:30:00"},{"$f":"VLOOKUP($AA520,DATA!$B$3:$E520,4,0)","v":3.125E-2},0.30208333333333337,0.25625000000000003,{"$f":"DATA!$C$9","v":0.89},{"$f":"DATA!$C$10","v":64},1,345.93750000000006,407.81250000000006,4.5833333333333337E-2,61.875000000000007,0.15172413793103448,0,"","",358.4,312,"","",312,null,{"$f":"WEEKNUM($Y510)","v":25},null,{"$f":"TEXT(Y519,\"ddd\")","v":"do"},"MD",{"$f":"IFERROR(HLOOKUP(Y519,[1]DATA!$A$1:$NB$5,4,0),\"\")","v":"D3"},66,null,24,336,{"$f":"VLOOKUP(Y519,[1]SRM!$S$4:$AA$368,7,0)","v":55},-33.937500000000057,0.76505747126436774,0.86695694242864052]
["25doND",{"$f":"VLOOKUP($AA521,DATA!$B$3:$E521,2,0)","v":"22:30:00"},{"$f":"VLOOKUP($AA521,DATA!$B$3:$E521,3,0)","v":"06:30:00"},{"$f":"VLOOKUP($AA521,DATA!$B$3:$E521,4,0)","v":3.125E-2},0.30208333333333326,0.30069444444444438,{"$f":"DATA!$C$9","v":0.89},{"$f":"DATA!$C$10","v":64},1,405.93749999999989,407.81249999999989,1.3888888888888889E-3,1.875,4.597701149425289E-3,0,"","",344.5333333333333,317,"",317,"",null,{"$f":"X520","v":25},null,{"$f":"TEXT(Y519,\"ddd\")","v":"do"},"ND",{"$f":"IFERROR(HLOOKUP(Y519,[1]DATA!$A$1:$NB$5,5,0),\"\")","v":"D2"},2,null,6,323,{"$f":"VLOOKUP(Y519,[1]SRM!$S$4:$AA$368,8,0)","v":86},-88.937499999999886,0.77731800766283543,0.80024775472282439]
["25vrDD",{"$f":"VLOOKUP($AA522,DATA!$B$3:$E522,2,0)","v":"06:30:00"},{"$f":"VLOOKUP($AA522,DATA!$B$3:$E522,3,0)","v":"14:30:00"},{"$f":"VLOOKUP($AA522,DATA!$B$3:$E522,4,0)","v":3.125E-2},0.30208333333333331,0.29930555555555555,{"$f":"DATA!$C$9","v":0.89},{"$f":"DATA!$C$10","v":64},1,404.0625,407.8125,2.7777777777777779E-3,3.75,9.1954022988505746E-3,0,"","",406.4,349,349,"","",null,{"$f":"X520","v":25},"2018-06-22",{"$f":"TEXT(Y522,\"ddd\")","v":"vr"},"DD",{"$f":"IFERROR(HLOOKUP(Y522,[1]DATA!$A$1:$NB$5,3,0),\"\")","v":"D1"},4,null,32,381,{"$f":"VLOOKUP(Y522,[1]SRM!$S$4:$AA$368,6,0)","v":5},-55.0625,0.85578544061302686,0.98784637822070975]
["25vrMD",{"$f":"VLOOKUP($AA523,DATA!$B$3:$E523,2,0)","v":"14:30:00"},{"$f":"VLOOKUP($AA523,DATA!$B$3:$E523,3,0)","v":"22:30:00"},{"$f":"VLOOKUP($AA523,DATA!$B$3:$E523,4,0)","v":3.125E-2},0.30208333333333337,0.27430555555555558,{"$f":"DATA!$C$9","v":0.89},{"$f":"DATA!$C$10","v":64},1,370.31250000000006,407.81250000000006,2.7777777777777776E-2,37.5,9.1954022988505732E-2,0,"","",362.66666666666669,313,"","",313,null,{"$f":"X520","v":25},null,{"$f":"TEXT(Y522,\"ddd\")","v":"vr"},"MD",{"$f":"IFERROR(HLOOKUP(Y522,[1]DATA!$A$1:$NB$5,4,0),\"\")","v":"D3"},40,null,27,340,{"$f":"VLOOKUP(Y522,[1]SRM!$S$4:$AA$368,7,0)","v":71},-57.312500000000057,0.76750957854406121,0.83627978478093778]
["25vrND",{"$f":"VLOOKUP($AA524,DATA!$B$3:$E524,2,0)","v":"22:30:00"},{"$f":"VLOOKUP($AA524,DATA!$B$3:$E524,3,0)","v":"06:30:00"},{"$f":"VLOOKUP($AA524,DATA!$B$3:$E524,4,0)","v":3.125E-2},0.30208333333333326,0.30208333333333326,{"$f":"DATA!$C$9","v":0.89},{"$f":"DATA!$C$10","v":64},1,407.81249999999989,407.81249999999989,0,"","",0,"","",216.53333333333333,197,"",197,"",null,{"$f":"X520","v":25},null,{"$f":"TEXT(Y522,\"ddd\")","v":"vr"},"ND",{"$f":"IFERROR(HLOOKUP(Y522,[1]DATA!$A$1:$NB$5,5,0),\"\")","v":"D2"},0,null,6,203,{"$f":"VLOOKUP(Y522,[1]SRM!$S$4:$AA$368,8,0)","v":0},-210.81249999999989,0.48306513409961699,1]
["25zaDD",{"$f":"VLOOKUP($AA525,DATA!$B$3:$E525,2,0)","v":"06:30:00"},{"$f":"VLOOKUP($AA525,DATA!$B$3:$E525,3,0)","v":"14:30:00"},{"$f":"VLOOKUP($AA525,DATA!$B$3:$E525,4,0)","v":3.125E-2},0.30208333333333331,0.30208333333333331,{"$f":"DATA!$C$9","v":0.89},{"$f":"DATA!$C$10","v":64},1,407.8125,407.8125,0,"","",0,"","",0,"","","","",null,{"$f":"X520","v":25},"2018-06-23",{"$f":"TEXT(Y525,\"ddd\")","v":"za"},"DD",{"$f":"IFERROR(HLOOKUP(Y525,[1]DATA!$A$1:$NB$5,3,0),\"\")","v":"D1"},null,null,null,null,{"$f":"VLOOKUP(Y525,[1]SRM!$S$4:$AA$368,6,0)","v":0},"","",""]
["25zaMD",{"$f":"VLOOKUP($AA526,DATA!$B$3:$E526,2,0)","v":"14:30:00"},{"$f":"VLOOKUP($AA526,DATA!$B$3:$E526,3,0)","v":"22:30:00"},{"$f":"VLOOKUP($AA526,DATA!$B$3:$E526,4,0)","v":3.125E-2},0.30208333333333337,0.30208333333333337,{"$f":"DATA!$C$9","v":0.89},{"$f":"DATA!$C$10","v":64},1,407.81250000000006,407.81250000000006,0,"","",0,"","",0,"","","","",null,{"$f":"X520","v":25},null,{"$f":"TEXT(Y525,\"ddd\")","v":"za"},"MD",{"$f":"IFERROR(HLOOKUP(Y525,[1]DATA!$A$1:$NB$5,4,0),\"\")","v":"-"},null,null,null,null,{"$f":"VLOOKUP(Y525,[1]SRM!$S$4:$AA$368,7,0)","v":0},"","",""]
["25zaND",{"$f":"VLOOKUP($AA527,DATA!$B$3:$E527,2,0)","v":"22:30:00"},{"$f":"VLOOKUP($AA527,DATA!$B$3:$E527,3,0)","v":"06:30:00"},{"$f":"VLOOKUP($AA527,DATA!$B$3:$E527,4,0)","v":3.125E-2},0.30208333333333326,0.30208333333333326,{"$f":"DATA!$C$9","v":0.89},{"$f":"DATA!$C$10","v":64},1,407.81249999999989,407.81249999999989,0,"","",0,"","",0,"","","","",null,{"$f":"X520","v":25},null,{"$f":"TEXT(Y525,\"ddd\")","v":"za"},"ND",{"$f":"IFERROR(HLOOKUP(Y525,[1]DATA!$A$1:$NB$5,5,0),\"\")","v":"-"},null,null,null,null,{"$f":"VLOOKUP(Y525,[1]SRM!$S$4:$AA$368,8,0)","v":0},"","",""]
["25zoDD",{"$f":"VLOOKUP($AA528,DATA!$B$3:$E528,2,0)","v":"06:30:00"},{"$f":"VLOOKUP($AA528,DATA!$B$3:$E528,3,0)","v":"14:30:00"},{"$f":"VLOOKUP($AA528,DATA!$B$3:$E528,4,0)","v":3.125E-2},0.30208333333333331,0.30208333333333331,{"$f":"DATA!$C$9","v":0.89},{"$f":"DATA!$C$10","v":64},1,407.8125,407.8125,0,"","",0,"","",0,"","","","",null,{"$f":"X520","v":25},"2018-06-24",{"$f":"TEXT(Y528,\"ddd\")","v":"zo"},"DD",{"$f":"IFERROR(HLOOKUP(Y528,[1]DATA!$A$1:$NB$5,3,0),\"\")","v":"-"},null,null,null,null,{"$f":"VLOOKUP(Y528,[1]SRM!$S$4:$AA$368,6,0)","v":0},"","",""]
["25zoMD",{"$f":"VLOOKUP($AA529,DATA!$B$3:$E529,2,0)","v":"14:30:00"},{"$f":"VLOOKUP($AA529,DATA!$B$3:$E529,3,0)","v":"22:30:00"},{"$f":"VLOOKUP($AA529,DATA!$B$3:$E529,4,0)","v":3.125E-2},0.30208333333333337,0.30208333333333337,{"$f":"DATA!$C$9","v":0.89},{"$f":"DATA!$C$10","v":64},1,407.81250000000006,407.81250000000006,0,"","",0,"","",0,"","","","",null,{"$f":"X520","v":25},null,{"$f":"TEXT(Y528,\"ddd\")","v":"zo"},"MD",{"$f":"IFERROR(HLOOKUP(Y528,[1]DATA!$A$1:$NB$5,4,0),\"\")","v":"-"},null,null,null,null,{"$f":"VLOOKUP(Y528,[1]SRM!$S$4:$AA$368,7,0)","v":0},"","",""]
["25zoZND",{"$f":"VLOOKUP($AA530,DATA!$B$3:$E530,2,0)","v":"00:00:00"},{"$f":"VLOOKUP($AA530,DATA!$B$3:$E530,3,0)","v":"00:00:00"},{"$f":"VLOOKUP($AA530,DATA!$B$3:$E530,4,0)","v":0},0,0,{"$f":"DATA!$C$9","v":0.89},{"$f":"DATA!$C$10","v":64},1,0,0,0,"","",0,"","",0,"","","","",null,{"$f":"X520","v":25},null,{"$f":"TEXT(Y528,\"ddd\")","v":"zo"},"ZND",{"$f":"IFERROR(HLOOKUP(Y528,[1]DATA!$A$1:$NB$5,5,0),\"\")","v":"-"},null,null,null,null,{"$f":"VLOOKUP(Y528,[1]SRM!$S$4:$AA$368,8,0)","v":0},"","",""]
["26maDD",{"$f":"VLOOKUP($AA531,DATA!$B$3:$E531,2,0)","v":"06:30:00"},{"$f":"VLOOKUP($AA531,DATA!$B$3:$E531,3,0)","v":"14:30:00"},{"$f":"VLOOKUP($AA531,DATA!$B$3:$E531,4,0)","v":3.125E-2},0.30208333333333331,0.30208333333333331,{"$f":"DATA!$C$9","v":0.89},{"$f":"DATA!$C$10","v":64},1,407.8125,407.8125,0,"","",{"$f":"TIME(INT($AD531/60),INT(MOD($AD531,60)/1),0)","v":0},"","",0,"","","","",null,{"$f":"X541","v":26},"2018-06-25",{"$f":"TEXT(Y531,\"ddd\")","v":"ma"},"DD",{"$f":"IFERROR(HLOOKUP(Y531,[1]DATA!$A$1:$NB$5,3,0),\"\")","v":"D3"},null,null,null,null,{"$f":"VLOOKUP(Y531,[1]SRM!$S$4:$AA$368,6,0)","v":80},"","",0,{"$f":"IF(SUMIF(S531:S551,\">0\",K531:K551)=0,\"\",SUMIF(S531:S551,\">0\",K531:K551))","v":1631.2500000000002},{"$f":"IF(SUM(S531:S551)=0,\"\",SUM(S531:S551))","v":1299},{"$f":"IFERROR(AL531/AK531,\"-\")","v":0.79632183908045961},{"$f":"IF(SUM(M531:M551)=0,\"0\",SUM(M531:M551))","v":81.5625},{"$f":"IFERROR(AN531/AK531,\"-\")","v":4.9999999999999996E-2},{"$f":"IF(SUM(P531:P551)=0,0,SUM(P531:P551))","v":0},{"$f":"IFERROR(AP531/AK531,\"-\")","v":0},0.37937324708134723,{"$f":"IFERROR(SUMIF($AB531:$AB551,AS$5,$AJ531:$AJ551)/COUNTIFS($AB531:$AB551,AS$5,$AJ531:$AJ551,\">0\"),\"\")","v":""},0.85358980593303124,"",{"$f":"IFERROR((AK531-AL531-AN531-AP531),\"-\")","v":250.68750000000023},{"$f":"IFERROR((1-AM531-AO531-AQ531), \"-\")","v":0.1536781609195404},{"$f":"IFERROR((AV531*$AE$2)/60,\"-\")","v":267.40000000000026},{"$f":"IFERROR(SUM(AG531:AG551),\"\")","v":469}]
["26maMD",{"$f":"VLOOKUP($AA532,DATA!$B$3:$E532,2,0)","v":"14:30:00"},{"$f":"VLOOKUP($AA532,DATA!$B$3:$E532,3,0)","v":"22:30:00"},{"$f":"VLOOKUP($AA532,DATA!$B$3:$E532,4,0)","v":3.125E-2},0.30208333333333337,0.29375000000000001,{"$f":"DATA!$C$9","v":0.89},{"$f":"DATA!$C$10","v":64},1,396.5625,407.81250000000006,8.3333333333333332E-3,11.25,2.758620689655172E-2,{"$f":"TIME(INT(AD532/60),INT(MOD(AD532,60)/1),0)","v":0},"","",370.13333333333333,329,"",329,"",null,{"$f":"X541","v":26},null,{"$f":"TEXT(Y531,\"ddd\")","v":"ma"},"MD",{"$f":"IFERROR(HLOOKUP(Y531,[1]DATA!$A$1:$NB$5,4,0),\"\")","v":"D2"},12,null,18,347,{"$f":"VLOOKUP(Y531,[1]SRM!$S$4:$AA$368,7,0)","v":70},-67.5625,0.80674329501915698,0.8409572856710088]
["26maND",{"$f":"VLOOKUP($AA533,DATA!$B$3:$E533,2,0)","v":"22:30:00"},{"$f":"VLOOKUP($AA533,DATA!$B$3:$E533,3,0)","v":"06:30:00"},{"$f":"VLOOKUP($AA533,DATA!$B$3:$E533,4,0)","v":3.125E-2},0.30208333333333326,0.30208333333333326,{"$f":"DATA!$C$9","v":0.89},{"$f":"DATA!$C$10","v":64},1,407.81249999999989,407.81249999999989,0,"","",0,"","",0,"","","","",null,{"$f":"X541","v":26},null,{"$f":"TEXT(Y531,\"ddd\")","v":"ma"},"ND",{"$f":"IFERROR(HLOOKUP(Y531,[1]DATA!$A$1:$NB$5,5,0),\"\")","v":"D1"},null,null,null,null,{"$f":"VLOOKUP(Y531,[1]SRM!$S$4:$AA$368,8,0)","v":0},"","",""]
["26diDD",{"$f":"VLOOKUP($AA534,DATA!$B$3:$E534,2,0)","v":"06:30:00"},{"$f":"VLOOKUP($AA534,DATA!$B$3:$E534,3,0)","v":"14:30:00"},{"$f":"VLOOKUP($AA534,DATA!$B$3:$E534,4,0)","v":3.125E-2},0.30208333333333331,0.30208333333333331,{"$f":"DATA!$C$9","v":0.89},{"$f":"DATA!$C$10","v":64},1,407.8125,407.8125,0,"","",0,"","",0,"","","","",null,{"$f":"X541","v":26},"2018-06-26",{"$f":"TEXT(Y534,\"ddd\")","v":"di"},"DD",{"$f":"IFERROR(HLOOKUP(Y534,[1]DATA!$A$1:$NB$5,3,0),\"\")","v":"D3"},null,null,null,null,{"$f":"VLOOKUP(Y534,[1]SRM!$S$4:$AA$368,6,0)","v":43},"","",0]
["26diMD",{"$f":"VLOOKUP($AA535,DATA!$B$3:$E535,2,0)","v":"14:30:00"},{"$f":"VLOOKUP($AA535,DATA!$B$3:$E535,3,0)","v":"22:30:00"},{"$f":"VLOOKUP($AA535,DATA!$B$3:$E535,4,0)","v":3.125E-2},0.30208333333333337,0.28958333333333336,{"$f":"DATA!$C$9","v":0.89},{"$f":"DATA!$C$10","v":64},1,390.93750000000006,407.81250000000006,1.2499999999999999E-2,16.875,4.1379310344827579E-2,0,"","",378.66666666666669,332,"",332,"",null,{"$f":"X541","v":26},null,{"$f":"TEXT(Y534,\"ddd\")","v":"di"},"MD",{"$f":"IFERROR(HLOOKUP(Y534,[1]DATA!$A$1:$NB$5,4,0),\"\")","v":"D2"},18,null,23,355,{"$f":"VLOOKUP(Y534,[1]SRM!$S$4:$AA$368,7,0)","v":101},-58.937500000000057,0.8140996168582374,0.78943710910354414]
["26diND",{"$f":"VLOOKUP($AA536,DATA!$B$3:$E536,2,0)","v":"22:30:00"},{"$f":"VLOOKUP($AA536,DATA!$B$3:$E536,3,0)","v":"06:30:00"},{"$f":"VLOOKUP($AA536,DATA!$B$3:$E536,4,0)","v":3.125E-2},0.30208333333333326,0.30208333333333326,{"$f":"DATA!$C$9","v":0.89},{"$f":"DATA!$C$10","v":64},1,407.81249999999989,407.81249999999989,0,"","",0,"","",0,"","","","",null,{"$f":"X541","v":26},null,{"$f":"TEXT(Y534,\"ddd\")","v":"di"},"ND",{"$f":"IFERROR(HLOOKUP(Y534,[1]DATA!$A$1:$NB$5,5,0),\"\")","v":"D1"},null,null,null,null,{"$f":"VLOOKUP(Y534,[1]SRM!$S$4:$AA$368,8,0)","v":0},"","",""]
["26woDD",{"$f":"VLOOKUP($AA537,DATA!$B$3:$E537,2,0)","v":"06:30:00"},{"$f":"VLOOKUP($AA537,DATA!$B$3:$E537,3,0)","v":"14:30:00"},{"$f":"VLOOKUP($AA537,DATA!$B$3:$E537,4,0)","v":3.125E-2},0.30208333333333331,0.30208333333333331,{"$f":"DATA!$C$9","v":0.89},{"$f":"DATA!$C$10","v":64},1,407.8125,407.8125,0,"","",0,"","",0,"","","","",null,{"$f":"X541","v":26},"2018-06-27",{"$f":"TEXT(Y537,\"ddd\")","v":"wo"},"DD",{"$f":"IFERROR(HLOOKUP(Y537,[1]DATA!$A$1:$NB$5,3,0),\"\")","v":"D3"},null,null,null,null,{"$f":"VLOOKUP(Y537,[1]SRM!$S$4:$AA$368,6,0)","v":20},"","",0]
["26woMD",{"$f":"VLOOKUP($AA538,DATA!$B$3:$E538,2,0)","v":"14:30:00"},{"$f":"VLOOKUP($AA538,DATA!$B$3:$E538,3,0)","v":"22:30:00"},{"$f":"VLOOKUP($AA538,DATA!$B$3:$E538,4,0)","v":3.125E-2},0.30208333333333337,0.28750000000000003,{"$f":"DATA!$C$9","v":0.89},{"$f":"DATA!$C$10","v":64},1,388.12500000000006,407.81250000000006,1.4583333333333332E-2,19.687499999999996,4.8275862068965503E-2,0,"","",368,311,"",311,"",null,{"$f":"X541","v":26},null,{"$f":"TEXT(Y537,\"ddd\")","v":"wo"},"MD",{"$f":"IFERROR(HLOOKUP(Y537,[1]DATA!$A$1:$NB$5,4,0),\"\")","v":"D2"},21,null,34,345,{"$f":"VLOOKUP(Y537,[1]SRM!$S$4:$AA$368,7,0)","v":56},-77.125000000000057,0.76260536398467427,0.86792452830188682]
["26woND",{"$f":"VLOOKUP($AA539,DATA!$B$3:$E539,2,0)","v":"22:30:00"},{"$f":"VLOOKUP($AA539,DATA!$B$3:$E539,3,0)","v":"06:30:00"},{"$f":"VLOOKUP($AA539,DATA!$B$3:$E539,4,0)","v":3.125E-2},0.30208333333333326,0.30208333333333326,{"$f":"DATA!$C$9","v":0.89},{"$f":"DATA!$C$10","v":64},1,407.81249999999989,407.81249999999989,0,"","",0,"","",0,"","","","",null,{"$f":"X541","v":26},null,{"$f":"TEXT(Y537,\"ddd\")","v":"wo"},"ND",{"$f":"IFERROR(HLOOKUP(Y537,[1]DATA!$A$1:$NB$5,5,0),\"\")","v":"D1"},null,null,null,null,{"$f":"VLOOKUP(Y537,[1]SRM!$S$4:$AA$368,8,0)","v":35},"","",{"$f":"IFERROR(R539/(R539+AG539),\"\")","v":0}]
["26doDD",{"$f":"VLOOKUP($AA540,DATA!$B$3:$E540,2,0)","v":"06:30:00"},{"$f":"VLOOKUP($AA540,DATA!$B$3:$E540,3,0)","v":"14:30:00"},{"$f":"VLOOKUP($AA540,DATA!$B$3:$E540,4,0)","v":3.125E-2},{"$f":"(C540-B540+(B540>C540))-D540","v":0.30208333333333331},{"$f":"E540-O540-L540","v":0.30208333333333331},{"$f":"DATA!$C$9","v":0.89},{"$f":"DATA!$C$10","v":64},1,{"$f":"F540*86400/H540*I540","v":407.8125},{"$f":"E540*86400/H540","v":407.8125},0,"","",0,"","",{"$f":"AF540*AG$2","v":0},{"$f":"IF(AF540-AE540=0,\"\",AF540-AE540)","v":""},"","","",null,{"$f":"X541","v":26},"2018-06-28",{"$f":"TEXT(Y540,\"ddd\")","v":"do"},"DD",{"$f":"IFERROR(HLOOKUP(Y540,[1]DATA!$A$1:$NB$5,3,0),\"\")","v":"D3"},null,null,null,null,{"$f":"VLOOKUP(Y540,[1]SRM!$S$4:$AA$368,6,0)","v":29},"","",0]
["26doMD",{"$f":"VLOOKUP($AA541,DATA!$B$3:$E541,2,0)","v":"14:30:00"},{"$f":"VLOOKUP($AA541,DATA!$B$3:$E541,3,0)","v":"22:30:00"},{"$f":"VLOOKUP($AA541,DATA!$B$3:$E541,4,0)","v":3.125E-2},0.30208333333333337,0.27708333333333335,{"$f":"DATA!$C$9","v":0.89},{"$f":"DATA!$C$10","v":64},1,374.0625,407.81250000000006,2.4999999999999998E-2,33.75,8.2758620689655157E-2,0,"","",381.86666666666667,327,"",327,"",null,{"$f":"WEEKNUM($Y531)","v":26},null,{"$f":"TEXT(Y540,\"ddd\")","v":"do"},"MD",{"$f":"IFERROR(HLOOKUP(Y540,[1]DATA!$A$1:$NB$5,4,0),\"\")","v":"D2"},36,null,31,358,{"$f":"VLOOKUP(Y540,[1]SRM!$S$4:$AA$368,7,0)","v":35},-47.0625,0.80183908045977004,0.91604030065568531]
["26doND",{"$f":"VLOOKUP($AA542,DATA!$B$3:$E542,2,0)","v":"22:30:00"},{"$f":"VLOOKUP($AA542,DATA!$B$3:$E542,3,0)","v":"06:30:00"},{"$f":"VLOOKUP($AA542,DATA!$B$3:$E542,4,0)","v":3.125E-2},0.30208333333333326,0.30208333333333326,{"$f":"DATA!$C$9","v":0.89},{"$f":"DATA!$C$10","v":64},1,407.81249999999989,407.81249999999989,0,"","",0,"","",0,"","","","",null,{"$f":"X541","v":26},null,{"$f":"TEXT(Y540,\"ddd\")","v":"do"},"ND",{"$f":"IFERROR(HLOOKUP(Y540,[1]DATA!$A$1:$NB$5,5,0),\"\")","v":"D1"},null,null,null,null,{"$f":"VLOOKUP(Y540,[1]SRM!$S$4:$AA$368,8,0)","v":0},"","",""]
["26vrDD",{"$f":"VLOOKUP($AA543,DATA!$B$3:$E543,2,0)","v":"06:30:00"},{"$f":"VLOOKUP($AA543,DATA!$B$3:$E543,3,0)","v":"14:30:00"},{"$f":"VLOOKUP($AA543,DATA!$B$3:$E543,4,0)","v":3.125E-2},0.30208333333333331,0.30208333333333331,{"$f":"DATA!$C$9","v":0.89},{"$f":"DATA!$C$10","v":64},1,407.8125,407.8125,0,"","",0,"","",0,"","","","",null,{"$f":"X541","v":26},"2018-06-29",{"$f":"TEXT(Y543,\"ddd\")","v":"vr"},"DD",{"$f":"IFERROR(HLOOKUP(Y543,[1]DATA!$A$1:$NB$5,3,0),\"\")","v":"D3"},null,null,null,null,{"$f":"VLOOKUP(Y543,[1]SRM!$S$4:$AA$368,6,0)","v":0},"","",""]
["26vrMD",{"$f":"VLOOKUP($AA544,DATA!$B$3:$E544,2,0)","v":"14:30:00"},{"$f":"VLOOKUP($AA544,DATA!$B$3:$E544,3,0)","v":"22:30:00"},{"$f":"VLOOKUP($AA544,DATA!$B$3:$E544,4,0)","v":3.125E-2},0.30208333333333337,0.30208333333333337,{"$f":"DATA!$C$9","v":0.89},{"$f":"DATA!$C$10","v":64},1,407.81250000000006,407.81250000000006,0,"","",0,"","",0,"","","","",null,{"$f":"X541","v":26},null,{"$f":"TEXT(Y543,\"ddd\")","v":"vr"},"MD",{"$f":"IFERROR(HLOOKUP(Y543,[1]DATA!$A$1:$NB$5,4,0),\"\")","v":"D2"},null,null,null,null,{"$f":"VLOOKUP(Y543,[1]SRM!$S$4:$AA$368,7,0)","v":0},"","",""]
["26vrND",{"$f":"VLOOKUP($AA545,DATA!$B$3:$E545,2,0)","v":"22:30:00"},{"$f":"VLOOKUP($AA545,DATA!$B$3:$E545,3,0)","v":"06:30:00"},{"$f":"VLOOKUP($AA545,DATA!$B$3:$E545,4,0)","v":3.125E-2},0.30208333333333326,0.30208333333333326,{"$f":"DATA!$C$9","v":0.89},{"$f":"DATA!$C$10","v":64},1,407.81249999999989,407.81249999999989,0,"","",0,"","",0,"","","","",null,{"$f":"X541","v":26},null,{"$f":"TEXT(Y543,\"ddd\")","v":"vr"},"ND",{"$f":"IFERROR(HLOOKUP(Y543,[1]DATA!$A$1:$NB$5,5,0),\"\")","v":"D2"},null,null,null,null,{"$f":"VLOOKUP(Y543,[1]SRM!$S$4:$AA$368,8,0)","v":0},"","",""]
["26zaDD",{"$f":"VLOOKUP($AA546,DATA!$B$3:$E546,2,0)","v":"06:30:00"},{"$f":"VLOOKUP($AA546,DATA!$B$3:$E546,3,0)","v":"14:30:00"},{"$f":"VLOOKUP($AA546,DATA!$B$3:$E546,4,0)","v":3.125E-2},0.30208333333333331,0.30208333333333331,{"$f":"DATA!$C$9","v":0.89},{"$f":"DATA!$C$10","v":64},1,407.8125,407.8125,0,"","",0,"","",0,"","","","",null,{"$f":"X541","v":26},"2018-06-30",{"$f":"TEXT(Y546,\"ddd\")","v":"za"},"DD",{"$f":"IFERROR(HLOOKUP(Y546,[1]DATA!$A$1:$NB$5,3,0),\"\")","v":"D3"},null,null,null,null,{"$f":"VLOOKUP(Y546,[1]SRM!$S$4:$AA$368,6,0)","v":0},"","",""]
["26zaMD",{"$f":"VLOOKUP($AA547,DATA!$B$3:$E547,2,0)","v":"14:30:00"},{"$f":"VLOOKUP($AA547,DATA!$B$3:$E547,3,0)","v":"22:30:00"},{"$f":"VLOOKUP($AA547,DATA!$B$3:$E547,4,0)","v":3.125E-2},0.30208333333333337,0.30208333333333337,{"$f":"DATA!$C$9","v":0.89},{"$f":"DATA!$C$10","v":64},1,407.81250000000006,407.81250000000006,0,"","",0,"","",0,"","","","",null,{"$f":"X541","v":26},null,{"$f":"TEXT(Y546,\"ddd\")","v":"za"},"MD",{"$f":"IFERROR(HLOOKUP(Y546,[1]DATA!$A$1:$NB$5,4,0),\"\")","v":"-"},null,null,null,null,{"$f":"VLOOKUP(Y546,[1]SRM!$S$4:$AA$368,7,0)","v":0},"","",""]
["26zaND",{"$f":"VLOOKUP($AA548,DATA!$B$3:$E548,2,0)","v":"22:30:00"},{"$f":"VLOOKUP($AA548,DATA!$B$3:$E548,3,0)","v":"06:30:00"},{"$f":"VLOOKUP($AA548,DATA!$B$3:$E548,4,0)","v":3.125E-2},0.30208333333333326,0.30208333333333326,{"$f":"DATA!$C$9","v":0.89},{"$f":"DATA!$C$10","v":64},1,407.81249999999989,407.81249999999989,0,"","",0,"","",0,"","","","",null,{"$f":"X541","v":26},null,{"$f":"TEXT(Y546,\"ddd\")","v":"za"},"ND",{"$f":"IFERROR(HLOOKUP(Y546,[1]DATA!$A$1:$NB$5,5,0),\"\")","v":"-"},null,null,null,null,{"$f":"VLOOKUP(Y546,[1]SRM!$S$4:$AA$368,8,0)","v":0},"","",""]
["26zoDD",{"$f":"VLOOKUP($AA549,DATA!$B$3:$E549,2,0)","v":"06:30:00"},{"$f":"VLOOKUP($AA549,DATA!$B$3:$E549,3,0)","v":"14:30:00"},{"$f":"VLOOKUP($AA549,DATA!$B$3:$E549,4,0)","v":3.125E-2},0.30208333333333331,0.30208333333333331,{"$f":"DATA!$C$9","v":0.89},{"$f":"DATA!$C$10","v":64},1,407.8125,407.8125,0,"","",0,"","",0,"","","","",null,{"$f":"X541","v":26},"2018-07-01",{"$f":"TEXT(Y549,\"ddd\")","v":"zo"},"DD",{"$f":"IFERROR(HLOOKUP(Y549,[1]DATA!$A$1:$NB$5,3,0),\"\")","v":"-"},null,null,null,null,{"$f":"VLOOKUP(Y549,[1]SRM!$S$4:$AA$368,6,0)","v":0},"","",""]
["26zoMD",{"$f":"VLOOKUP($AA550,DATA!$B$3:$E550,2,0)","v":"14:30:00"},{"$f":"VLOOKUP($AA550,DATA!$B$3:$E550,3,0)","v":"22:30:00"},{"$f":"VLOOKUP($AA550,DATA!$B$3:$E550,4,0)","v":3.125E-2},0.30208333333333337,0.30208333333333337,{"$f":"DATA!$C$9","v":0.89},{"$f":"DATA!$C$10","v":64},1,407.81250000000006,407.81250000000006,0,"","",0,"","",0,"","","","",null,{"$f":"X541","v":26},null,{"$f":"TEXT(Y549,\"ddd\")","v":"zo"},"MD",{"$f":"IFERROR(HLOOKUP(Y549,[1]DATA!$A$1:$NB$5,4,0),\"\")","v":"-"},null,null,null,null,{"$f":"VLOOKUP(Y549,[1]SRM!$S$4:$AA$368,7,0)","v":0},"","",""]
["26zoZND",{"$f":"VLOOKUP($AA551,DATA!$B$3:$E551,2,0)","v":"00:00:00"},{"$f":"VLOOKUP($AA551,DATA!$B$3:$E551,3,0)","v":"00:00:00"},{"$f":"VLOOKUP($AA551,DATA!$B$3:$E551,4,0)","v":0},0,0,{"$f":"DATA!$C$9","v":0.89},{"$f":"DATA!$C$10","v":64},1,0,0,0,"","",0,"","",0,"","","","",null,{"$f":"X541","v":26},null,{"$f":"TEXT(Y549,\"ddd\")","v":"zo"},"ZND",{"$f":"IFERROR(HLOOKUP(Y549,[1]DATA!$A$1:$NB$5,5,0),\"\")","v":"-"},null,null,null,null,{"$f":"VLOOKUP(Y549,[1]SRM!$S$4:$AA$368,8,0)","v":0},"","",""]
["27maDD",{"$f":"VLOOKUP($AA552,DATA!$B$3:$E552,2,0)","v":"06:30:00"},{"$f":"VLOOKUP($AA552,DATA!$B$3:$E552,3,0)","v":"14:30:00"},{"$f":"VLOOKUP($AA552,DATA!$B$3:$E552,4,0)","v":3.125E-2},0.30208333333333331,0.30208333333333331,{"$f":"DATA!$C$9","v":0.89},{"$f":"DATA!$C$10","v":64},1,407.8125,407.8125,0,"","",{"$f":"TIME(INT($AD552/60),INT(MOD($AD552,60)/1),0)","v":0},"","",0,"","","","",null,{"$f":"X562","v":27},"2018-07-02",{"$f":"TEXT(Y552,\"ddd\")","v":"ma"},"DD",{"$f":"IFERROR(HLOOKUP(Y552,[1]DATA!$A$1:$NB$5,3,0),\"\")","v":"D2"},null,null,null,null,{"$f":"VLOOKUP(Y552,[1]SRM!$S$4:$AA$368,6,0)","v":24},"","",0,{"$f":"IF(SUMIF(S552:S572,\">0\",K552:K572)=0,\"\",SUMIF(S552:S572,\">0\",K552:K572))","v":""},{"$f":"IF(SUM(S552:S572)=0,\"\",SUM(S552:S572))","v":""},{"$f":"IFERROR(AL552/AK552,\"-\")","v":"-"},{"$f":"IF(SUM(M552:M572)=0,\"0\",SUM(M552:M572))","v":"0"},{"$f":"IFERROR(AN552/AK552,\"-\")","v":"-"},{"$f":"IF(SUM(P552:P572)=0,0,SUM(P552:P572))","v":0},{"$f":"IFERROR(AP552/AK552,\"-\")","v":"-"},0,{"$f":"IFERROR(SUMIF($AB552:$AB572,AS$5,$AJ552:$AJ572)/COUNTIFS($AB552:$AB572,AS$5,$AJ552:$AJ572,\">0\"),\"\")","v":""},"","",{"$f":"IFERROR((AK552-AL552-AN552-AP552),\"-\")","v":"-"},{"$f":"IFERROR((1-AM552-AO552-AQ552), \"-\")","v":"-"},{"$f":"IFERROR((AV552*$AE$2)/60,\"-\")","v":"-"},{"$f":"IFERROR(SUM(AG552:AG572),\"\")","v":565}]
["27maMD",{"$f":"VLOOKUP($AA553,DATA!$B$3:$E553,2,0)","v":"14:30:00"},{"$f":"VLOOKUP($AA553,DATA!$B$3:$E553,3,0)","v":"22:30:00"},{"$f":"VLOOKUP($AA553,DATA!$B$3:$E553,4,0)","v":3.125E-2},0.30208333333333337,0.30208333333333337,{"$f":"DATA!$C$9","v":0.89},{"$f":"DATA!$C$10","v":64},1,407.81250000000006,407.81250000000006,0,"","",{"$f":"TIME(INT(AD553/60),INT(MOD(AD553,60)/1),0)","v":0},"","",0,"","","","",null,{"$f":"X562","v":27},null,{"$f":"TEXT(Y552,\"ddd\")","v":"ma"},"MD",{"$f":"IFERROR(HLOOKUP(Y552,[1]DATA!$A$1:$NB$5,4,0),\"\")","v":"D1"},null,null,null,null,{"$f":"VLOOKUP(Y552,[1]SRM!$S$4:$AA$368,7,0)","v":71},"","",0]
["27maND",{"$f":"VLOOKUP($AA554,DATA!$B$3:$E554,2,0)","v":"22:30:00"},{"$f":"VLOOKUP($AA554,DATA!$B$3:$E554,3,0)","v":"06:30:00"},{"$f":"VLOOKUP($AA554,DATA!$B$3:$E554,4,0)","v":3.125E-2},0.30208333333333326,0.30208333333333326,{"$f":"DATA!$C$9","v":0.89},{"$f":"DATA!$C$10","v":64},1,407.81249999999989,407.81249999999989,0,"","",0,"","",0,"","","","",null,{"$f":"X562","v":27},null,{"$f":"TEXT(Y552,\"ddd\")","v":"ma"},"ND",{"$f":"IFERROR(HLOOKUP(Y552,[1]DATA!$A$1:$NB$5,5,0),\"\")","v":"D3"},null,null,null,null,{"$f":"VLOOKUP(Y552,[1]SRM!$S$4:$AA$368,8,0)","v":70},"","",0]
["27diDD",{"$f":"VLOOKUP($AA555,DATA!$B$3:$E555,2,0)","v":"06:30:00"},{"$f":"VLOOKUP($AA555,DATA!$B$3:$E555,3,0)","v":"14:30:00"},{"$f":"VLOOKUP($AA555,DATA!$B$3:$E555,4,0)","v":3.125E-2},0.30208333333333331,0.30208333333333331,{"$f":"DATA!$C$9","v":0.89},{"$f":"DATA!$C$10","v":64},1,407.8125,407.8125,0,"","",0,"","",0,"","","","",null,{"$f":"X562","v":27},"2018-07-03",{"$f":"TEXT(Y555,\"ddd\")","v":"di"},"DD",{"$f":"IFERROR(HLOOKUP(Y555,[1]DATA!$A$1:$NB$5,3,0),\"\")","v":"D2"},null,null,null,null,{"$f":"VLOOKUP(Y555,[1]SRM!$S$4:$AA$368,6,0)","v":21},"","",0]
["27diMD",{"$f":"VLOOKUP($AA556,DATA!$B$3:$E556,2,0)","v":"14:30:00"},{"$f":"VLOOKUP($AA556,DATA!$B$3:$E556,3,0)","v":"22:30:00"},{"$f":"VLOOKUP($AA556,DATA!$B$3:$E556,4,0)","v":3.125E-2},0.30208333333333337,0.30208333333333337,{"$f":"DATA!$C$9","v":0.89},{"$f":"DATA!$C$10","v":64},1,407.81250000000006,407.81250000000006,0,"","",0,"","",0,"","","","",null,{"$f":"X562","v":27},null,{"$f":"TEXT(Y555,\"ddd\")","v":"di"},"MD",{"$f":"IFERROR(HLOOKUP(Y555,[1]DATA!$A$1:$NB$5,4,0),\"\")","v":"D1"},null,null,null,null,{"$f":"VLOOKUP(Y555,[1]SRM!$S$4:$AA$368,7,0)","v":9},"","",0]
["27diND",{"$f":"VLOOKUP($AA557,DATA!$B$3:$E557,2,0)","v":"22:30:00"},{"$f":"VLOOKUP($AA557,DATA!$B$3:$E557,3,0)","v":"06:30:00"},{"$f":"VLOOKUP($AA557,DATA!$B$3:$E557,4,0)","v":3.125E-2},0.30208333333333326,0.30208333333333326,{"$f":"DATA!$C$9","v":0.89},{"$f":"DATA!$C$10","v":64},1,407.81249999999989,407.81249999999989,0,"","",0,"","",0,"","","","",null,{"$f":"X562","v":27},null,{"$f":"TEXT(Y555,\"ddd\")","v":"di"},"ND",{"$f":"IFERROR(HLOOKUP(Y555,[1]DATA!$A$1:$NB$5,5,0),\"\")","v":"D3"},null,null,null,null,{"$f":"VLOOKUP(Y555,[1]SRM!$S$4:$AA$368,8,0)","v":35},"","",0]
["27woDD",{"$f":"VLOOKUP($AA558,DATA!$B$3:$E558,2,0)","v":"06:30:00"},{"$f":"VLOOKUP($AA558,DATA!$B$3:$E558,3,0)","v":"14:30:00"},{"$f":"VLOOKUP($AA558,DATA!$B$3:$E558,4,0)","v":3.125E-2},0.30208333333333331,0.30208333333333331,{"$f":"DATA!$C$9","v":0.89},{"$f":"DATA!$C$10","v":64},1,407.8125,407.8125,0,"","",0,"","",0,"","","","",null,{"$f":"X562","v":27},"2018-07-04",{"$f":"TEXT(Y558,\"ddd\")","v":"wo"},"DD",{"$f":"IFERROR(HLOOKUP(Y558,[1]DATA!$A$1:$NB$5,3,0),\"\")","v":"D2"},null,null,null,null,{"$f":"VLOOKUP(Y558,[1]SRM!$S$4:$AA$368,6,0)","v":32},"","",0]
["27woMD",{"$f":"VLOOKUP($AA559,DATA!$B$3:$E559,2,0)","v":"14:30:00"},{"$f":"VLOOKUP($AA559,DATA!$B$3:$E559,3,0)","v":"22:30:00"},{"$f":"VLOOKUP($AA559,DATA!$B$3:$E559,4,0)","v":3.125E-2},0.30208333333333337,0.30208333333333337,{"$f":"DATA!$C$9","v":0.89},{"$f":"DATA!$C$10","v":64},1,407.81250000000006,407.81250000000006,0,"","",0,"","",0,"","","","",null,{"$f":"X562","v":27},null,{"$f":"TEXT(Y558,\"ddd\")","v":"wo"},"MD",{"$f":"IFERROR(HLOOKUP(Y558,[1]DATA!$A$1:$NB$5,4,0),\"\")","v":"D1"},null,null,null,null,{"$f":"VLOOKUP(Y558,[1]SRM!$S$4:$AA$368,7,0)","v":88},"","",0]
[{"$f":"X560&Z560&AA560","v":"27woND"},{"$f":"VLOOKUP($AA560,DATA!$B$3:$E560,2,0)","v":"22:30:00"},{"$f":"VLOOKUP($AA560,DATA!$B$3:$E560,3,0)","v":"06:30:00"},{"$f":"VLOOKUP($AA560,DATA!$B$3:$E560,4,0)","v":3.125E-2},0.30208333333333326,0.30208333333333326,{"$f":"DATA!$C$9","v":0.89},{"$f":"DATA!$C$10","v":64},1,407.81249999999989,407.81249999999989,0,"","",0,{"$f":"IF($O560*86400/$H560=0,\"\",$O560*86400/$H560)","v":""},"",0,"","","","",null,{"$f":"X562","v":27},null,{"$f":"TEXT(Y558,\"ddd\")","v":"wo"},"ND",{"$f":"IFERROR(HLOOKUP(Y558,[1]DATA!$A$1:$NB$5,5,0),\"\")","v":"D3"},null,null,null,null,{"$f":"VLOOKUP(Y558,[1]SRM!$S$4:$AA$368,8,0)","v":48},"","",0]
["27doDD",{"$f":"VLOOKUP($AA561,DATA!$B$3:$E561,2,0)","v":"06:30:00"},{"$f":"VLOOKUP($AA561,DATA!$B$3:$E561,3,0)","v":"14:30:00"},{"$f":"VLOOKUP($AA561,DATA!$B$3:$E561,4,0)","v":3.125E-2},0.30208333333333331,0.30208333333333331,{"$f":"DATA!$C$9","v":0.89},{"$f":"DATA!$C$10","v":64},1,407.8125,407.8125,0,"","",0,"","",0,"","","","",null,{"$f":"X562","v":27},"2018-07-05",{"$f":"TEXT(Y561,\"ddd\")","v":"do"},"DD",{"$f":"IFERROR(HLOOKUP(Y561,[1]DATA!$A$1:$NB$5,3,0),\"\")","v":"D2"},null,null,null,null,{"$f":"VLOOKUP(Y561,[1]SRM!$S$4:$AA$368,6,0)","v":33},"","",0]
["27doMD",{"$f":"VLOOKUP($AA562,DATA!$B$3:$E562,2,0)","v":"14:30:00"},{"$f":"VLOOKUP($AA562,DATA!$B$3:$E562,3,0)","v":"22:30:00"},{"$f":"VLOOKUP($AA562,DATA!$B$3:$E562,4,0)","v":3.125E-2},0.30208333333333337,0.30208333333333337,{"$f":"DATA!$C$9","v":0.89},{"$f":"DATA!$C$10","v":64},1,407.81250000000006,407.81250000000006,0,"","",0,"","",0,"","","","",null,{"$f":"WEEKNUM($Y552)","v":27},null,{"$f":"TEXT(Y561,\"ddd\")","v":"do"},"MD",{"$f":"IFERROR(HLOOKUP(Y561,[1]DATA!$A$1:$NB$5,4,0),\"\")","v":"D1"},null,null,null,null,{"$f":"VLOOKUP(Y561,[1]SRM!$S$4:$AA$368,7,0)","v":0},"","",""]
["27doND",{"$f":"VLOOKUP($AA563,DATA!$B$3:$E563,2,0)","v":"22:30:00"},{"$f":"VLOOKUP($AA563,DATA!$B$3:$E563,3,0)","v":"06:30:00"},{"$f":"VLOOKUP($AA563,DATA!$B$3:$E563,4,0)","v":3.125E-2},0.30208333333333326,0.30208333333333326,{"$f":"DATA!$C$9","v":0.89},{"$f":"DATA!$C$10","v":64},1,407.81249999999989,407.81249999999989,0,"","",0,"","",0,"","","","",null,{"$f":"X562","v":27},null,{"$f":"TEXT(Y561,\"ddd\")","v":"do"},"ND",{"$f":"IFERROR(HLOOKUP(Y561,[1]DATA!$A$1:$NB$5,5,0),\"\")","v":"D3"},null,null,null,null,{"$f":"VLOOKUP(Y561,[1]SRM!$S$4:$AA$368,8,0)","v":25},"","",0]
["27vrDD",{"$f":"VLOOKUP($AA564,DATA!$B$3:$E564,2,0)","v":"06:30:00"},{"$f":"VLOOKUP($AA564,DATA!$B$3:$E564,3,0)","v":"14:30:00"},{"$f":"VLOOKUP($AA564,DATA!$B$3:$E564,4,0)","v":3.125E-2},0.30208333333333331,0.30208333333333331,{"$f":"DATA!$C$9","v":0.89},{"$f":"DATA!$C$10","v":64},1,407.8125,407.8125,0,"","",0,"","",0,"","","","",null,{"$f":"X562","v":27},{"$f":"Y561+1","v":"2018-07-06"},{"$f":"TEXT(Y564,\"ddd\")","v":"vr"},"DD",{"$f":"IFERROR(HLOOKUP(Y564,[1]DATA!$A$1:$NB$5,3,0),\"\")","v":"D2"},null,null,null,null,{"$f":"VLOOKUP(Y564,[1]SRM!$S$4:$AA$368,6,0)","v":38},"","",0]
["27vrMD",{"$f":"VLOOKUP($AA565,DATA!$B$3:$E565,2,0)","v":"14:30:00"},{"$f":"VLOOKUP($AA565,DATA!$B$3:$E565,3,0)","v":"22:30:00"},{"$f":"VLOOKUP($AA565,DATA!$B$3:$E565,4,0)","v":3.125E-2},0.30208333333333337,0.30208333333333337,{"$f":"DATA!$C$9","v":0.89},{"$f":"DATA!$C$10","v":64},1,407.81250000000006,407.81250000000006,0,"","",0,"","",0,"","","","",null,{"$f":"X562","v":27},null,{"$f":"TEXT(Y564,\"ddd\")","v":"vr"},"MD",{"$f":"IFERROR(HLOOKUP(Y564,[1]DATA!$A$1:$NB$5,4,0),\"\")","v":"D1"},null,null,null,null,{"$f":"VLOOKUP(Y564,[1]SRM!$S$4:$AA$368,7,0)","v":20},"","",0]
["27vrND",{"$f":"VLOOKUP($AA566,DATA!$B$3:$E566,2,0)","v":"22:30:00"},{"$f":"VLOOKUP($AA566,DATA!$B$3:$E566,3,0)","v":"06:30:00"},{"$f":"VLOOKUP($AA566,DATA!$B$3:$E566,4,0)","v":3.125E-2},0.30208333333333326,0.30208333333333326,{"$f":"DATA!$C$9","v":0.89},{"$f":"DATA!$C$10","v":64},1,407.81249999999989,407.81249999999989,0,"","",0,"","",0,"","","","",null,{"$f":"X562","v":27},null,{"$f":"TEXT(Y564,\"ddd\")","v":"vr"},"ND",{"$f":"IFERROR(HLOOKUP(Y564,[1]DATA!$A$1:$NB$5,5,0),\"\")","v":"D3"},null,null,null,null,{"$f":"VLOOKUP(Y564,[1]SRM!$S$4:$AA$368,8,0)","v":51},"","",0]
["27zaDD",{"$f":"VLOOKUP($AA567,DATA!$B$3:$E567,2,0)","v":"06:30:00"},{"$f":"VLOOKUP($AA567,DATA!$B$3:$E567,3,0)","v":"14:30:00"},{"$f":"VLOOKUP($AA567,DATA!$B$3:$E567,4,0)","v":3.125E-2},0.30208333333333331,0.30208333333333331,{"$f":"DATA!$C$9","v":0.89},{"$f":"DATA!$C$10","v":64},1,407.8125,407.8125,0,"","",0,"","",0,"","","","",null,{"$f":"X562","v":27},"2018-07-07",{"$f":"TEXT(Y567,\"ddd\")","v":"za"},"DD",{"$f":"IFERROR(HLOOKUP(Y567,[1]DATA!$A$1:$NB$5,3,0),\"\")","v":"D2"},null,null,null,null,{"$f":"VLOOKUP(Y567,[1]SRM!$S$4:$AA$368,6,0)","v":0},"","",""]
["27zaMD",{"$f":"VLOOKUP($AA568,DATA!$B$3:$E568,2,0)","v":"14:30:00"},{"$f":"VLOOKUP($AA568,DATA!$B$3:$E568,3,0)","v":"22:30:00"},{"$f":"VLOOKUP($AA568,DATA!$B$3:$E568,4,0)","v":3.125E-2},0.30208333333333337,0.30208333333333337,{"$f":"DATA!$C$9","v":0.89},{"$f":"DATA!$C$10","v":64},1,407.81250000000006,407.81250000000006,0,"","",0,"","",0,"","","","",null,{"$f":"X562","v":27},null,{"$f":"TEXT(Y567,\"ddd\")","v":"za"},"MD",{"$f":"IFERROR(HLOOKUP(Y567,[1]DATA!$A$1:$NB$5,4,0),\"\")","v":"-"},null,null,null,null,{"$f":"VLOOKUP(Y567,[1]SRM!$S$4:$AA$368,7,0)","v":0},"","",""]
["27zaND",{"$f":"VLOOKUP($AA569,DATA!$B$3:$E569,2,0)","v":"22:30:00"},{"$f":"VLOOKUP($AA569,DATA!$B$3:$E569,3,0)","v":"06:30:00"},{"$f":"VLOOKUP($AA569,DATA!$B$3:$E569,4,0)","v":3.125E-2},0.30208333333333326,0.30208333333333326,{"$f":"DATA!$C$9","v":0.89},{"$f":"DATA!$C$10","v":64},1,407.81249999999989,407.81249999999989,0,"","",0,"","",0,"","","","",null,{"$f":"X562","v":27},null,{"$f":"TEXT(Y567,\"ddd\")","v":"za"},"ND",{"$f":"IFERROR(HLOOKUP(Y567,[1]DATA!$A$1:$NB$5,5,0),\"\")","v":"-"},null,null,null,null,{"$f":"VLOOKUP(Y567,[1]SRM!$S$4:$AA$368,8,0)","v":0},"","",""]
["27zoDD",{"$f":"VLOOKUP($AA570,DATA!$B$3:$E570,2,0)","v":"06:30:00"},{"$f":"VLOOKUP($AA570,DATA!$B$3:$E570,3,0)","v":"14:30:00"},{"$f":"VLOOKUP($AA570,DATA!$B$3:$E570,4,0)","v":3.125E-2},0.30208333333333331,0.30208333333333331,{"$f":"DATA!$C$9","v":0.89},{"$f":"DATA!$C$10","v":64},1,407.8125,407.8125,0,"","",0,"","",0,"","","","",null,{"$f":"X562","v":27},"2018-07-08",{"$f":"TEXT(Y570,\"ddd\")","v":"zo"},"DD",{"$f":"IFERROR(HLOOKUP(Y570,[1]DATA!$A$1:$NB$5,3,0),\"\")","v":"-"},null,null,null,null,{"$f":"VLOOKUP(Y570,[1]SRM!$S$4:$AA$368,6,0)","v":0},"","",""]
["27zoMD",{"$f":"VLOOKUP($AA571,DATA!$B$3:$E571,2,0)","v":"14:30:00"},{"$f":"VLOOKUP($AA571,DATA!$B$3:$E571,3,0)","v":"22:30:00"},{"$f":"VLOOKUP($AA571,DATA!$B$3:$E571,4,0)","v":3.125E-2},0.30208333333333337,0.30208333333333337,{"$f":"DATA!$C$9","v":0.89},{"$f":"DATA!$C$10","v":64},1,407.81250000000006,407.81250000000006,0,"","",0,"","",0,"","","","",null,{"$f":"X562","v":27},null,{"$f":"TEXT(Y570,\"ddd\")","v":"zo"},"MD",{"$f":"IFERROR(HLOOKUP(Y570,[1]DATA!$A$1:$NB$5,4,0),\"\")","v":"-"},null,null,null,null,{"$f":"VLOOKUP(Y570,[1]SRM!$S$4:$AA$368,7,0)","v":0},"","",""]
["27zoZND",{"$f":"VLOOKUP($AA572,DATA!$B$3:$E572,2,0)","v":"00:00:00"},{"$f":"VLOOKUP($AA572,DATA!$B$3:$E572,3,0)","v":"00:00:00"},{"$f":"VLOOKUP($AA572,DATA!$B$3:$E572,4,0)","v":0},0,0,{"$f":"DATA!$C$9","v":0.89},{"$f":"DATA!$C$10","v":64},1,0,0,0,"","",0,"","",0,"","","","",null,{"$f":"X562","v":27},null,{"$f":"TEXT(Y570,\"ddd\")","v":"zo"},"ZND",{"$f":"IFERROR(HLOOKUP(Y570,[1]DATA!$A$1:$NB$5,5,0),\"\")","v":"-"},null,null,null,null,{"$f":"VLOOKUP(Y570,[1]SRM!$S$4:$AA$368,8,0)","v":0},"","",""]
["28maDD",{"$f":"VLOOKUP($AA573,DATA!$B$3:$E573,2,0)","v":"06:30:00"},{"$f":"VLOOKUP($AA573,DATA!$B$3:$E573,3,0)","v":"14:30:00"},{"$f":"VLOOKUP($AA573,DATA!$B$3:$E573,4,0)","v":3.125E-2},0.30208333333333331,0.30208333333333331,{"$f":"DATA!$C$9","v":0.89},{"$f":"DATA!$C$10","v":64},1,407.8125,407.8125,0,"","",{"$f":"TIME(INT($AD573/60),INT(MOD($AD573,60)/1),0)","v":0},"","",0,"","","","",null,{"$f":"X583","v":28},"2018-07-09",{"$f":"TEXT(Y573,\"ddd\")","v":"ma"},"DD",{"$f":"IFERROR(HLOOKUP(Y573,[1]DATA!$A$1:$NB$5,3,0),\"\")","v":"D1"},null,null,null,null,{"$f":"VLOOKUP(Y573,[1]SRM!$S$4:$AA$368,6,0)","v":0},"","","",{"$f":"IF(SUMIF(S573:S593,\">0\",K573:K593)=0,\"\",SUMIF(S573:S593,\">0\",K573:K593))","v":""},{"$f":"IF(SUM(S573:S593)=0,\"\",SUM(S573:S593))","v":""},{"$f":"IFERROR(AL573/AK573,\"-\")","v":"-"},{"$f":"IF(SUM(M573:M593)=0,\"0\",SUM(M573:M593))","v":"0"},{"$f":"IFERROR(AN573/AK573,\"-\")","v":"-"},{"$f":"IF(SUM(P573:P593)=0,0,SUM(P573:P593))","v":0},{"$f":"IFERROR(AP573/AK573,\"-\")","v":"-"},0,{"$f":"IFERROR(SUMIF($AB573:$AB593,AS$5,$AJ573:$AJ593)/COUNTIFS($AB573:$AB593,AS$5,$AJ573:$AJ593,\">0\"),\"\")","v":""},"","",{"$f":"IFERROR((AK573-AL573-AN573-AP573),\"-\")","v":"-"},{"$f":"IFERROR((1-AM573-AO573-AQ573), \"-\")","v":"-"},{"$f":"IFERROR((AV573*$AE$2)/60,\"-\")","v":"-"},{"$f":"IFERROR(SUM(AG573:AG593),\"\")","v":287}]
["28maMD",{"$f":"VLOOKUP($AA574,DATA!$B$3:$E574,2,0)","v":"14:30:00"},{"$f":"VLOOKUP($AA574,DATA!$B$3:$E574,3,0)","v":"22:30:00"},{"$f":"VLOOKUP($AA574,DATA!$B$3:$E574,4,0)","v":3.125E-2},0.30208333333333337,0.30208333333333337,{"$f":"DATA!$C$9","v":0.89},{"$f":"DATA!$C$10","v":64},1,407.81250000000006,407.81250000000006,0,"","",{"$f":"TIME(INT(AD574/60),INT(MOD(AD574,60)/1),0)","v":0},"","",0,"","","","",null,{"$f":"X583","v":28},null,{"$f":"TEXT(Y573,\"ddd\")","v":"ma"},"MD",{"$f":"IFERROR(HLOOKUP(Y573,[1]DATA!$A$1:$NB$5,4,0),\"\")","v":"D3"},null,null,null,null,{"$f":"VLOOKUP(Y573,[1]SRM!$S$4:$AA$368,7,0)","v":58},"","",0]
["28maND",{"$f":"VLOOKUP($AA575,DATA!$B$3:$E575,2,0)","v":"22:30:00"},{"$f":"VLOOKUP($AA575,DATA!$B$3:$E575,3,0)","v":"06:30:00"},{"$f":"VLOOKUP($AA575,DATA!$B$3:$E575,4,0)","v":3.125E-2},0.30208333333333326,0.30208333333333326,{"$f":"DATA!$C$9","v":0.89},{"$f":"DATA!$C$10","v":64},1,407.81249999999989,407.81249999999989,0,"","",0,"","",0,"","","","",null,{"$f":"X583","v":28},null,{"$f":"TEXT(Y573,\"ddd\")","v":"ma"},"ND",{"$f":"IFERROR(HLOOKUP(Y573,[1]DATA!$A$1:$NB$5,5,0),\"\")","v":"D2"},null,null,null,null,{"$f":"VLOOKUP(Y573,[1]SRM!$S$4:$AA$368,8,0)","v":30},"","",0]
["28diDD",{"$f":"VLOOKUP($AA576,DATA!$B$3:$E576,2,0)","v":"06:30:00"},{"$f":"VLOOKUP($AA576,DATA!$B$3:$E576,3,0)","v":"14:30:00"},{"$f":"VLOOKUP($AA576,DATA!$B$3:$E576,4,0)","v":3.125E-2},0.30208333333333331,0.30208333333333331,{"$f":"DATA!$C$9","v":0.89},{"$f":"DATA!$C$10","v":64},1,407.8125,407.8125,0,"","",0,"","",0,"","","","",null,{"$f":"X583","v":28},"2018-07-10",{"$f":"TEXT(Y576,\"ddd\")","v":"di"},"DD",{"$f":"IFERROR(HLOOKUP(Y576,[1]DATA!$A$1:$NB$5,3,0),\"\")","v":"D1"},null,null,null,null,{"$f":"VLOOKUP(Y576,[1]SRM!$S$4:$AA$368,6,0)","v":14},"","",0]
["28diMD",{"$f":"VLOOKUP($AA577,DATA!$B$3:$E577,2,0)","v":"14:30:00"},{"$f":"VLOOKUP($AA577,DATA!$B$3:$E577,3,0)","v":"22:30:00"},{"$f":"VLOOKUP($AA577,DATA!$B$3:$E577,4,0)","v":3.125E-2},0.30208333333333337,0.30208333333333337,{"$f":"DATA!$C$9","v":0.89},{"$f":"DATA!$C$10","v":64},1,407.81250000000006,407.81250000000006,0,"","",0,"","",0,"","","","",null,{"$f":"X583","v":28},null,{"$f":"TEXT(Y576,\"ddd\")","v":"di"},"MD",{"$f":"IFERROR(HLOOKUP(Y576,[1]DATA!$A$1:$NB$5,4,0),\"\")","v":"D3"},null,null,null,null,{"$f":"VLOOKUP(Y576,[1]SRM!$S$4:$AA$368,7,0)","v":30},"","",0]
["28diND",{"$f":"VLOOKUP($AA578,DATA!$B$3:$E578,2,0)","v":"22:30:00"},{"$f":"VLOOKUP($AA578,DATA!$B$3:$E578,3,0)","v":"06:30:00"},{"$f":"VLOOKUP($AA578,DATA!$B$3:$E578,4,0)","v":3.125E-2},0.30208333333333326,0.30208333333333326,{"$f":"DATA!$C$9","v":0.89},{"$f":"DATA!$C$10","v":64},1,407.81249999999989,407.81249999999989,0,"","",0,"","",0,"","","","",null,{"$f":"X583","v":28},null,{"$f":"TEXT(Y576,\"ddd\")","v":"di"},"ND",{"$f":"IFERROR(HLOOKUP(Y576,[1]DATA!$A$1:$NB$5,5,0),\"\")","v":"D2"},null,null,null,null,{"$f":"VLOOKUP(Y576,[1]SRM!$S$4:$AA$368,8,0)","v":49},"","",0]
["28woDD",{"$f":"VLOOKUP($AA579,DATA!$B$3:$E579,2,0)","v":"06:30:00"},{"$f":"VLOOKUP($AA579,DATA!$B$3:$E579,3,0)","v":"14:30:00"},{"$f":"VLOOKUP($AA579,DATA!$B$3:$E579,4,0)","v":3.125E-2},0.30208333333333331,0.30208333333333331,{"$f":"DATA!$C$9","v":0.89},{"$f":"DATA!$C$10","v":64},1,407.8125,407.8125,0,"","",0,"","",0,"","","","",null,{"$f":"X583","v":28},"2018-07-11",{"$f":"TEXT(Y579,\"ddd\")","v":"wo"},"DD",{"$f":"IFERROR(HLOOKUP(Y579,[1]DATA!$A$1:$NB$5,3,0),\"\")","v":"D1"},null,null,null,null,{"$f":"VLOOKUP(Y579,[1]SRM!$S$4:$AA$368,6,0)","v":25},"","",0]
["28woMD",{"$f":"VLOOKUP($AA580,DATA!$B$3:$E580,2,0)","v":"14:30:00"},{"$f":"VLOOKUP($AA580,DATA!$B$3:$E580,3,0)","v":"22:30:00"},{"$f":"VLOOKUP($AA580,DATA!$B$3:$E580,4,0)","v":3.125E-2},0.30208333333333337,0.30208333333333337,{"$f":"DATA!$C$9","v":0.89},{"$f":"DATA!$C$10","v":64},1,407.81250000000006,407.81250000000006,0,"","",0,"","",0,"","","","",null,{"$f":"X583","v":28},null,{"$f":"TEXT(Y579,\"ddd\")","v":"wo"},"MD",{"$f":"IFERROR(HLOOKUP(Y579,[1]DATA!$A$1:$NB$5,4,0),\"\")","v":"D3"},null,null,null,null,{"$f":"VLOOKUP(Y579,[1]SRM!$S$4:$AA$368,7,0)","v":45},"","",0]
["28woND",{"$f":"VLOOKUP($AA581,DATA!$B$3:$E581,2,0)","v":"22:30:00"},{"$f":"VLOOKUP($AA581,DATA!$B$3:$E581,3,0)","v":"06:30:00"},{"$f":"VLOOKUP($AA581,DATA!$B$3:$E581,4,0)","v":3.125E-2},0.30208333333333326,0.30208333333333326,{"$f":"DATA!$C$9","v":0.89},{"$f":"DATA!$C$10","v":64},1,407.81249999999989,407.81249999999989,0,"","",0,"","",0,"","","","",null,{"$f":"X583","v":28},null,{"$f":"TEXT(Y579,\"ddd\")","v":"wo"},"ND",{"$f":"IFERROR(HLOOKUP(Y579,[1]DATA!$A$1:$NB$5,5,0),\"\")","v":"D2"},null,null,null,null,{"$f":"VLOOKUP(Y579,[1]SRM!$S$4:$AA$368,8,0)","v":28},"","",0]
["28doDD",{"$f":"VLOOKUP($AA582,DATA!$B$3:$E582,2,0)","v":"06:30:00"},{"$f":"VLOOKUP($AA582,DATA!$B$3:$E582,3,0)","v":"14:30:00"},{"$f":"VLOOKUP($AA582,DATA!$B$3:$E582,4,0)","v":3.125E-2},0.30208333333333331,0.30208333333333331,{"$f":"DATA!$C$9","v":0.89},{"$f":"DATA!$C$10","v":64},1,407.8125,407.8125,0,"","",0,"","",0,"","","","",null,{"$f":"X583","v":28},"2018-07-12",{"$f":"TEXT(Y582,\"ddd\")","v":"do"},"DD",{"$f":"IFERROR(HLOOKUP(Y582,[1]DATA!$A$1:$NB$5,3,0),\"\")","v":"D1"},null,null,null,null,{"$f":"VLOOKUP(Y582,[1]SRM!$S$4:$AA$368,6,0)","v":0},{"$f":"IFERROR(S582-J582,\"\")","v":""},{"$f":"IFERROR(IF(S582/(E582*86400/H582)<=0,\"\",S582/(E582*86400/H582)),\"\")","v":""},""]
["28doMD",{"$f":"VLOOKUP($AA583,DATA!$B$3:$E583,2,0)","v":"14:30:00"},{"$f":"VLOOKUP($AA583,DATA!$B$3:$E583,3,0)","v":"22:30:00"},{"$f":"VLOOKUP($AA583,DATA!$B$3:$E583,4,0)","v":3.125E-2},0.30208333333333337,0.30208333333333337,{"$f":"DATA!$C$9","v":0.89},{"$f":"DATA!$C$10","v":64},1,407.81250000000006,407.81250000000006,{"$f":"TIME(INT($AC583/60),INT(MOD($AC583,60)/1),0)","v":0},{"$f":"IF($L583*86400/$H583=0,\"\",$L583*86400/$H583)","v":""},{"$f":"IFERROR($M583/$K583,\"\")","v":""},0,"",{"$f":"IFERROR($P583/$K583,\"\")","v":""},0,"",{"$f":"IF(IF($AB583=\"D1\",$S583,\"\")=0,\"\",IF($AB583=\"D1\",$S583,\"\"))","v":""},{"$f":"IF(IF($AB583=\"D2\",$S583,\"\")=0,\"\",IF($AB583=\"D2\",$S583,\"\"))","v":""},{"$f":"IF(IF($AB583=\"D3\",$S583,\"\")=0,\"\",IF($AB583=\"D3\",$S583,\"\"))","v":""},null,{"$f":"WEEKNUM($Y573)","v":28},null,{"$f":"TEXT(Y582,\"ddd\")","v":"do"},"MD",{"$f":"IFERROR(HLOOKUP(Y582,[1]DATA!$A$1:$NB$5,4,0),\"\")","v":"D3"},null,null,null,null,{"$f":"VLOOKUP(Y582,[1]SRM!$S$4:$AA$368,7,0)","v":8},"","",0]
["28doND",{"$f":"VLOOKUP($AA584,DATA!$B$3:$E584,2,0)","v":"22:30:00"},{"$f":"VLOOKUP($AA584,DATA!$B$3:$E584,3,0)","v":"06:30:00"},{"$f":"VLOOKUP($AA584,DATA!$B$3:$E584,4,0)","v":3.125E-2},0.30208333333333326,0.30208333333333326,{"$f":"DATA!$C$9","v":0.89},{"$f":"DATA!$C$10","v":64},1,407.81249999999989,407.81249999999989,0,"","",0,"","",0,"","","","",null,{"$f":"X583","v":28},null,{"$f":"TEXT(Y582,\"ddd\")","v":"do"},"ND",{"$f":"IFERROR(HLOOKUP(Y582,[1]DATA!$A$1:$NB$5,5,0),\"\")","v":"D2"},null,null,null,null,{"$f":"VLOOKUP(Y582,[1]SRM!$S$4:$AA$368,8,0)","v":0},"","",""]
["28vrDD",{"$f":"VLOOKUP($AA585,DATA!$B$3:$E585,2,0)","v":"06:30:00"},{"$f":"VLOOKUP($AA585,DATA!$B$3:$E585,3,0)","v":"14:30:00"},{"$f":"VLOOKUP($AA585,DATA!$B$3:$E585,4,0)","v":3.125E-2},0.30208333333333331,0.30208333333333331,{"$f":"DATA!$C$9","v":0.89},{"$f":"DATA!$C$10","v":64},1,407.8125,407.8125,0,"","",0,"","",0,"","","","",null,{"$f":"X583","v":28},"2018-07-13",{"$f":"TEXT(Y585,\"ddd\")","v":"vr"},"DD",{"$f":"IFERROR(HLOOKUP(Y585,[1]DATA!$A$1:$NB$5,3,0),\"\")","v":"D1"},null,null,null,null,{"$f":"VLOOKUP(Y585,[1]SRM!$S$4:$AA$368,6,0)","v":0},"","",""]
["28vrMD",{"$f":"VLOOKUP($AA586,DATA!$B$3:$E586,2,0)","v":"14:30:00"},{"$f":"VLOOKUP($AA586,DATA!$B$3:$E586,3,0)","v":"22:30:00"},{"$f":"VLOOKUP($AA586,DATA!$B$3:$E586,4,0)","v":3.125E-2},0.30208333333333337,0.30208333333333337,{"$f":"DATA!$C$9","v":0.89},{"$f":"DATA!$C$10","v":64},1,407.81250000000006,407.81250000000006,0,"","",0,"","",0,"","","","",null,{"$f":"X583","v":28},null,{"$f":"TEXT(Y585,\"ddd\")","v":"vr"},"MD",{"$f":"IFERROR(HLOOKUP(Y585,[1]DATA!$A$1:$NB$5,4,0),\"\")","v":"D3"},null,null,null,null,{"$f":"VLOOKUP(Y585,[1]SRM!$S$4:$AA$368,7,0)","v":0},"","",""]
["28vrND",{"$f":"VLOOKUP($AA587,DATA!$B$3:$E587,2,0)","v":"22:30:00"},{"$f":"VLOOKUP($AA587,DATA!$B$3:$E587,3,0)","v":"06:30:00"},{"$f":"VLOOKUP($AA587,DATA!$B$3:$E587,4,0)","v":3.125E-2},0.30208333333333326,0.30208333333333326,{"$f":"DATA!$C$9","v":0.89},{"$f":"DATA!$C$10","v":64},1,407.81249999999989,407.81249999999989,0,"","",0,"","",0,"","","","",null,{"$f":"X583","v":28},null,{"$f":"TEXT(Y585,\"ddd\")","v":"vr"},"ND",{"$f":"IFERROR(HLOOKUP(Y585,[1]DATA!$A$1:$NB$5,5,0),\"\")","v":"D2"},null,null,null,null,{"$f":"VLOOKUP(Y585,[1]SRM!$S$4:$AA$368,8,0)","v":0},"","",""]
["28zaDD",{"$f":"VLOOKUP($AA588,DATA!$B$3:$E588,2,0)","v":"06:30:00"},{"$f":"VLOOKUP($AA588,DATA!$B$3:$E588,3,0)","v":"14:30:00"},{"$f":"VLOOKUP($AA588,DATA!$B$3:$E588,4,0)","v":3.125E-2},0.30208333333333331,0.30208333333333331,{"$f":"DATA!$C$9","v":0.89},{"$f":"DATA!$C$10","v":64},1,407.8125,407.8125,0,"","",0,"","",0,"","","","",null,{"$f":"X583","v":28},"2018-07-14",{"$f":"TEXT(Y588,\"ddd\")","v":"za"},"DD",{"$f":"IFERROR(HLOOKUP(Y588,[1]DATA!$A$1:$NB$5,3,0),\"\")","v":"D1"},null,null,null,null,{"$f":"VLOOKUP(Y588,[1]SRM!$S$4:$AA$368,6,0)","v":0},"","",""]
["28zaMD",{"$f":"VLOOKUP($AA589,DATA!$B$3:$E589,2,0)","v":"14:30:00"},{"$f":"VLOOKUP($AA589,DATA!$B$3:$E589,3,0)","v":"22:30:00"},{"$f":"VLOOKUP($AA589,DATA!$B$3:$E589,4,0)","v":3.125E-2},0.30208333333333337,0.30208333333333337,{"$f":"DATA!$C$9","v":0.89},{"$f":"DATA!$C$10","v":64},1,407.81250000000006,407.81250000000006,0,"","",0,"","",0,"","","","",null,{"$f":"X583","v":28},null,{"$f":"TEXT(Y588,\"ddd\")","v":"za"},"MD",{"$f":"IFERROR(HLOOKUP(Y588,[1]DATA!$A$1:$NB$5,4,0),\"\")","v":"-"},null,null,null,null,{"$f":"VLOOKUP(Y588,[1]SRM!$S$4:$AA$368,7,0)","v":0},"","",""]
["28zaND",{"$f":"VLOOKUP($AA590,DATA!$B$3:$E590,2,0)","v":"22:30:00"},{"$f":"VLOOKUP($AA590,DATA!$B$3:$E590,3,0)","v":"06:30:00"},{"$f":"VLOOKUP($AA590,DATA!$B$3:$E590,4,0)","v":3.125E-2},0.30208333333333326,0.30208333333333326,{"$f":"DATA!$C$9","v":0.89},{"$f":"DATA!$C$10","v":64},1,407.81249999999989,407.81249999999989,0,"","",0,"","",0,"","","","",null,{"$f":"X583","v":28},null,{"$f":"TEXT(Y588,\"ddd\")","v":"za"},"ND",{"$f":"IFERROR(HLOOKUP(Y588,[1]DATA!$A$1:$NB$5,5,0),\"\")","v":"-"},null,null,null,null,{"$f":"VLOOKUP(Y588,[1]SRM!$S$4:$AA$368,8,0)","v":0},"","",""]
["28zoDD",{"$f":"VLOOKUP($AA591,DATA!$B$3:$E591,2,0)","v":"06:30:00"},{"$f":"VLOOKUP($AA591,DATA!$B$3:$E591,3,0)","v":"14:30:00"},{"$f":"VLOOKUP($AA591,DATA!$B$3:$E591,4,0)","v":3.125E-2},0.30208333333333331,0.30208333333333331,{"$f":"DATA!$C$9","v":0.89},{"$f":"DATA!$C$10","v":64},1,407.8125,407.8125,0,"","",0,"","",0,"","","","",null,{"$f":"X583","v":28},"2018-07-15",{"$f":"TEXT(Y591,\"ddd\")","v":"zo"},"DD",{"$f":"IFERROR(HLOOKUP(Y591,[1]DATA!$A$1:$NB$5,3,0),\"\")","v":"-"},null,null,null,null,{"$f":"VLOOKUP(Y591,[1]SRM!$S$4:$AA$368,6,0)","v":0},"","",""]
["28zoMD",{"$f":"VLOOKUP($AA592,DATA!$B$3:$E592,2,0)","v":"14:30:00"},{"$f":"VLOOKUP($AA592,DATA!$B$3:$E592,3,0)","v":"22:30:00"},{"$f":"VLOOKUP($AA592,DATA!$B$3:$E592,4,0)","v":3.125E-2},0.30208333333333337,0.30208333333333337,{"$f":"DATA!$C$9","v":0.89},{"$f":"DATA!$C$10","v":64},1,407.81250000000006,407.81250000000006,0,"","",0,"","",0,"","","","",null,{"$f":"X583","v":28},null,{"$f":"TEXT(Y591,\"ddd\")","v":"zo"},"MD",{"$f":"IFERROR(HLOOKUP(Y591,[1]DATA!$A$1:$NB$5,4,0),\"\")","v":"-"},null,null,null,null,{"$f":"VLOOKUP(Y591,[1]SRM!$S$4:$AA$368,7,0)","v":0},"","",""]
["28zoZND",{"$f":"VLOOKUP($AA593,DATA!$B$3:$E593,2,0)","v":"00:00:00"},{"$f":"VLOOKUP($AA593,DATA!$B$3:$E593,3,0)","v":"00:00:00"},{"$f":"VLOOKUP($AA593,DATA!$B$3:$E593,4,0)","v":0},0,0,{"$f":"DATA!$C$9","v":0.89},{"$f":"DATA!$C$10","v":64},1,0,0,0,"","",0,"","",0,"","","","",null,{"$f":"X583","v":28},null,{"$f":"TEXT(Y591,\"ddd\")","v":"zo"},"ZND",{"$f":"IFERROR(HLOOKUP(Y591,[1]DATA!$A$1:$NB$5,5,0),\"\")","v":"-"},null,null,null,null,{"$f":"VLOOKUP(Y591,[1]SRM!$S$4:$AA$368,8,0)","v":0},"","",""]
["29maDD",{"$f":"VLOOKUP($AA594,DATA!$B$3:$E594,2,0)","v":"06:30:00"},{"$f":"VLOOKUP($AA594,DATA!$B$3:$E594,3,0)","v":"14:30:00"},{"$f":"VLOOKUP($AA594,DATA!$B$3:$E594,4,0)","v":3.125E-2},0.30208333333333331,0.30208333333333331,{"$f":"DATA!$C$9","v":0.89},{"$f":"DATA!$C$10","v":64},1,407.8125,407.8125,0,"","",{"$f":"TIME(INT($AD594/60),INT(MOD($AD594,60)/1),0)","v":0},"","",0,"","","","",null,{"$f":"X604","v":29},"2018-07-16",{"$f":"TEXT(Y594,\"ddd\")","v":"ma"},"DD",{"$f":"IFERROR(HLOOKUP(Y594,[1]DATA!$A$1:$NB$5,3,0),\"\")","v":"D3"},null,null,null,null,{"$f":"VLOOKUP(Y594,[1]SRM!$S$4:$AA$368,6,0)","v":59},"","",0,{"$f":"IF(SUMIF(S594:S614,\">0\",K594:K614)=0,\"\",SUMIF(S594:S614,\">0\",K594:K614))","v":""},{"$f":"IF(SUM(S594:S614)=0,\"\",SUM(S594:S614))","v":""},{"$f":"IFERROR(AL594/AK594,\"-\")","v":"-"},{"$f":"IF(SUM(M594:M614)=0,\"0\",SUM(M594:M614))","v":"0"},{"$f":"IFERROR(AN594/AK594,\"-\")","v":"-"},{"$f":"IF(SUM(P594:P614)=0,0,SUM(P594:P614))","v":0},{"$f":"IFERROR(AP594/AK594,\"-\")","v":"-"},{"$f":"IFERROR(AVERAGE(AJ594:AJ614),\"-\")","v":0},{"$f":"IFERROR(SUMIF($AB594:$AB614,AS$5,$AJ594:$AJ614)/COUNTIFS($AB594:$AB614,AS$5,$AJ594:$AJ614,\">0\"),\"\")","v":""},"","",{"$f":"IFERROR((AK594-AL594-AN594-AP594),\"-\")","v":"-"},{"$f":"IFERROR((1-AM594-AO594-AQ594), \"-\")","v":"-"},{"$f":"IFERROR((AV594*$AE$2)/60,\"-\")","v":"-"},{"$f":"IFERROR(SUM(AG594:AG614),\"\")","v":316}]
["29maMD",{"$f":"VLOOKUP($AA595,DATA!$B$3:$E595,2,0)","v":"14:30:00"},{"$f":"VLOOKUP($AA595,DATA!$B$3:$E595,3,0)","v":"22:30:00"},{"$f":"VLOOKUP($AA595,DATA!$B$3:$E595,4,0)","v":3.125E-2},0.30208333333333337,0.30208333333333337,{"$f":"DATA!$C$9","v":0.89},{"$f":"DATA!$C$10","v":64},1,407.81250000000006,407.81250000000006,0,"","",{"$f":"TIME(INT(AD595/60),INT(MOD(AD595,60)/1),0)","v":0},"","",0,"","","","",null,{"$f":"X604","v":29},null,{"$f":"TEXT(Y594,\"ddd\")","v":"ma"},"MD",{"$f":"IFERROR(HLOOKUP(Y594,[1]DATA!$A$1:$NB$5,4,0),\"\")","v":"D2"},null,null,null,null,{"$f":"VLOOKUP(Y594,[1]SRM!$S$4:$AA$368,7,0)","v":54},"","",0]
["29maND",{"$f":"VLOOKUP($AA596,DATA!$B$3:$E596,2,0)","v":"22:30:00"},{"$f":"VLOOKUP($AA596,DATA!$B$3:$E596,3,0)","v":"06:30:00"},{"$f":"VLOOKUP($AA596,DATA!$B$3:$E596,4,0)","v":3.125E-2},0.30208333333333326,0.30208333333333326,{"$f":"DATA!$C$9","v":0.89},{"$f":"DATA!$C$10","v":64},1,407.81249999999989,407.81249999999989,0,"","",0,"","",0,"","","","",null,{"$f":"X604","v":29},null,{"$f":"TEXT(Y594,\"ddd\")","v":"ma"},"ND",{"$f":"IFERROR(HLOOKUP(Y594,[1]DATA!$A$1:$NB$5,5,0),\"\")","v":"D1"},null,null,null,null,{"$f":"VLOOKUP(Y594,[1]SRM!$S$4:$AA$368,8,0)","v":10},"","",0]
["29diDD",{"$f":"VLOOKUP($AA597,DATA!$B$3:$E597,2,0)","v":"06:30:00"},{"$f":"VLOOKUP($AA597,DATA!$B$3:$E597,3,0)","v":"14:30:00"},{"$f":"VLOOKUP($AA597,DATA!$B$3:$E597,4,0)","v":3.125E-2},0.30208333333333331,0.30208333333333331,{"$f":"DATA!$C$9","v":0.89},{"$f":"DATA!$C$10","v":64},1,407.8125,407.8125,0,"","",0,"","",0,"","","","",null,{"$f":"X604","v":29},"2018-07-17",{"$f":"TEXT(Y597,\"ddd\")","v":"di"},"DD",{"$f":"IFERROR(HLOOKUP(Y597,[1]DATA!$A$1:$NB$5,3,0),\"\")","v":"D3"},null,null,null,null,{"$f":"VLOOKUP(Y597,[1]SRM!$S$4:$AA$368,6,0)","v":30},"","",0]
["29diMD",{"$f":"VLOOKUP($AA598,DATA!$B$3:$E598,2,0)","v":"14:30:00"},{"$f":"VLOOKUP($AA598,DATA!$B$3:$E598,3,0)","v":"22:30:00"},{"$f":"VLOOKUP($AA598,DATA!$B$3:$E598,4,0)","v":3.125E-2},0.30208333333333337,0.30208333333333337,{"$f":"DATA!$C$9","v":0.89},{"$f":"DATA!$C$10","v":64},1,407.81250000000006,407.81250000000006,0,"","",0,"","",0,"","","","",null,{"$f":"X604","v":29},null,{"$f":"TEXT(Y597,\"ddd\")","v":"di"},"MD",{"$f":"IFERROR(HLOOKUP(Y597,[1]DATA!$A$1:$NB$5,4,0),\"\")","v":"D2"},null,null,null,null,{"$f":"VLOOKUP(Y597,[1]SRM!$S$4:$AA$368,7,0)","v":75},"","",0]
["29diND",{"$f":"VLOOKUP($AA599,DATA!$B$3:$E599,2,0)","v":"22:30:00"},{"$f":"VLOOKUP($AA599,DATA!$B$3:$E599,3,0)","v":"06:30:00"},{"$f":"VLOOKUP($AA599,DATA!$B$3:$E599,4,0)","v":3.125E-2},0.30208333333333326,0.30208333333333326,{"$f":"DATA!$C$9","v":0.89},{"$f":"DATA!$C$10","v":64},1,407.81249999999989,407.81249999999989,0,"","",0,"","",0,"","","","",null,{"$f":"X604","v":29},null,{"$f":"TEXT(Y597,\"ddd\")","v":"di"},"ND",{"$f":"IFERROR(HLOOKUP(Y597,[1]DATA!$A$1:$NB$5,5,0),\"\")","v":"D1"},null,null,null,null,{"$f":"VLOOKUP(Y597,[1]SRM!$S$4:$AA$368,8,0)","v":2},"","",0]
["29woDD",{"$f":"VLOOKUP($AA600,DATA!$B$3:$E600,2,0)","v":"06:30:00"},{"$f":"VLOOKUP($AA600,DATA!$B$3:$E600,3,0)","v":"14:30:00"},{"$f":"VLOOKUP($AA600,DATA!$B$3:$E600,4,0)","v":3.125E-2},0.30208333333333331,0.30208333333333331,{"$f":"DATA!$C$9","v":0.89},{"$f":"DATA!$C$10","v":64},1,407.8125,407.8125,0,"","",0,"","",0,"","","","",null,{"$f":"X604","v":29},"2018-07-18",{"$f":"TEXT(Y600,\"ddd\")","v":"wo"},"DD",{"$f":"IFERROR(HLOOKUP(Y600,[1]DATA!$A$1:$NB$5,3,0),\"\")","v":"D3"},null,null,null,null,{"$f":"VLOOKUP(Y600,[1]SRM!$S$4:$AA$368,6,0)","v":46},"","",0]
["29woMD",{"$f":"VLOOKUP($AA601,DATA!$B$3:$E601,2,0)","v":"14:30:00"},{"$f":"VLOOKUP($AA601,DATA!$B$3:$E601,3,0)","v":"22:30:00"},{"$f":"VLOOKUP($AA601,DATA!$B$3:$E601,4,0)","v":3.125E-2},0.30208333333333337,0.30208333333333337,{"$f":"DATA!$C$9","v":0.89},{"$f":"DATA!$C$10","v":64},1,407.81250000000006,407.81250000000006,0,"","",0,"","",0,"","","","",null,{"$f":"X604","v":29},null,{"$f":"TEXT(Y600,\"ddd\")","v":"wo"},"MD",{"$f":"IFERROR(HLOOKUP(Y600,[1]DATA!$A$1:$NB$5,4,0),\"\")","v":"D2"},null,null,null,null,{"$f":"VLOOKUP(Y600,[1]SRM!$S$4:$AA$368,7,0)","v":40},"","",0]
["29woND",{"$f":"VLOOKUP($AA602,DATA!$B$3:$E602,2,0)","v":"22:30:00"},{"$f":"VLOOKUP($AA602,DATA!$B$3:$E602,3,0)","v":"06:30:00"},{"$f":"VLOOKUP($AA602,DATA!$B$3:$E602,4,0)","v":3.125E-2},0.30208333333333326,0.30208333333333326,{"$f":"DATA!$C$9","v":0.89},{"$f":"DATA!$C$10","v":64},1,407.81249999999989,407.81249999999989,0,"","",0,"","",0,"","","","",null,{"$f":"X604","v":29},null,{"$f":"TEXT(Y600,\"ddd\")","v":"wo"},"ND",{"$f":"IFERROR(HLOOKUP(Y600,[1]DATA!$A$1:$NB$5,5,0),\"\")","v":"D1"},null,null,null,null,{"$f":"VLOOKUP(Y600,[1]SRM!$S$4:$AA$368,8,0)","v":0},"","",""]
["29doDD",{"$f":"VLOOKUP($AA603,DATA!$B$3:$E603,2,0)","v":"06:30:00"},{"$f":"VLOOKUP($AA603,DATA!$B$3:$E603,3,0)","v":"14:30:00"},{"$f":"VLOOKUP($AA603,DATA!$B$3:$E603,4,0)","v":3.125E-2},0.30208333333333331,0.30208333333333331,{"$f":"DATA!$C$9","v":0.89},{"$f":"DATA!$C$10","v":64},1,407.8125,407.8125,0,"","",0,"","",0,"","","","",null,{"$f":"X604","v":29},"2018-07-19",{"$f":"TEXT(Y603,\"ddd\")","v":"do"},"DD",{"$f":"IFERROR(HLOOKUP(Y603,[1]DATA!$A$1:$NB$5,3,0),\"\")","v":"D3"},null,null,null,null,{"$f":"VLOOKUP(Y603,[1]SRM!$S$4:$AA$368,6,0)","v":0},"","",{"$f":"IFERROR(R603/(R603+AG603),\"\")","v":""}]
["29doMD",{"$f":"VLOOKUP($AA604,DATA!$B$3:$E604,2,0)","v":"14:30:00"},{"$f":"VLOOKUP($AA604,DATA!$B$3:$E604,3,0)","v":"22:30:00"},{"$f":"VLOOKUP($AA604,DATA!$B$3:$E604,4,0)","v":3.125E-2},{"$f":"(C604-B604+(B604>C604))-D604","v":0.30208333333333337},{"$f":"E604-O604-L604","v":0.30208333333333337},{"$f":"DATA!$C$9","v":0.89},{"$f":"DATA!$C$10","v":64},1,{"$f":"F604*86400/H604*I604","v":407.81250000000006},{"$f":"E604*86400/H604","v":407.81250000000006},0,"","",0,"","",{"$f":"AF604*AG$2","v":0},{"$f":"IF(AF604-AE604=0,\"\",AF604-AE604)","v":""},"","","",null,{"$f":"WEEKNUM($Y594)","v":29},null,{"$f":"TEXT(Y603,\"ddd\")","v":"do"},"MD",{"$f":"IFERROR(HLOOKUP(Y603,[1]DATA!$A$1:$NB$5,4,0),\"\")","v":"D2"},null,null,null,null,{"$f":"VLOOKUP(Y603,[1]SRM!$S$4:$AA$368,7,0)","v":0},"","",""]
["29doND",{"$f":"VLOOKUP($AA605,DATA!$B$3:$E605,2,0)","v":"22:30:00"},{"$f":"VLOOKUP($AA605,DATA!$B$3:$E605,3,0)","v":"06:30:00"},{"$f":"VLOOKUP($AA605,DATA!$B$3:$E605,4,0)","v":3.125E-2},0.30208333333333326,0.30208333333333326,{"$f":"DATA!$C$9","v":0.89},{"$f":"DATA!$C$10","v":64},1,407.81249999999989,407.81249999999989,0,"","",0,"","",0,"","","","",null,{"$f":"X604","v":29},null,{"$f":"TEXT(Y603,\"ddd\")","v":"do"},"ND",{"$f":"IFERROR(HLOOKUP(Y603,[1]DATA!$A$1:$NB$5,5,0),\"\")","v":"D1"},null,null,null,null,{"$f":"VLOOKUP(Y603,[1]SRM!$S$4:$AA$368,8,0)","v":0},"","",""]
["29vrDD",{"$f":"VLOOKUP($AA606,DATA!$B$3:$E606,2,0)","v":"06:30:00"},{"$f":"VLOOKUP($AA606,DATA!$B$3:$E606,3,0)","v":"14:30:00"},{"$f":"VLOOKUP($AA606,DATA!$B$3:$E606,4,0)","v":3.125E-2},0.30208333333333331,0.30208333333333331,{"$f":"DATA!$C$9","v":0.89},{"$f":"DATA!$C$10","v":64},1,407.8125,407.8125,0,"","",0,"","",0,"","","","",null,{"$f":"X604","v":29},"2018-07-20",{"$f":"TEXT(Y606,\"ddd\")","v":"vr"},"DD",{"$f":"IFERROR(HLOOKUP(Y606,[1]DATA!$A$1:$NB$5,3,0),\"\")","v":"D3"},null,null,null,null,{"$f":"VLOOKUP(Y606,[1]SRM!$S$4:$AA$368,6,0)","v":0},"","",""]
["29vrMD",{"$f":"VLOOKUP($AA607,DATA!$B$3:$E607,2,0)","v":"14:30:00"},{"$f":"VLOOKUP($AA607,DATA!$B$3:$E607,3,0)","v":"22:30:00"},{"$f":"VLOOKUP($AA607,DATA!$B$3:$E607,4,0)","v":3.125E-2},0.30208333333333337,0.30208333333333337,{"$f":"DATA!$C$9","v":0.89},{"$f":"DATA!$C$10","v":64},1,407.81250000000006,407.81250000000006,0,"","",0,"","",0,"","","","",null,{"$f":"X604","v":29},null,{"$f":"TEXT(Y606,\"ddd\")","v":"vr"},"MD",{"$f":"IFERROR(HLOOKUP(Y606,[1]DATA!$A$1:$NB$5,4,0),\"\")","v":"D2"},null,null,null,null,{"$f":"VLOOKUP(Y606,[1]SRM!$S$4:$AA$368,7,0)","v":0},"","",""]
["29vrND",{"$f":"VLOOKUP($AA608,DATA!$B$3:$E608,2,0)","v":"22:30:00"},{"$f":"VLOOKUP($AA608,DATA!$B$3:$E608,3,0)","v":"06:30:00"},{"$f":"VLOOKUP($AA608,DATA!$B$3:$E608,4,0)","v":3.125E-2},0.30208333333333326,0.30208333333333326,{"$f":"DATA!$C$9","v":0.89},{"$f":"DATA!$C$10","v":64},1,407.81249999999989,407.81249999999989,0,"","",0,"","",0,"","","","",null,{"$f":"X604","v":29},null,{"$f":"TEXT(Y606,\"ddd\")","v":"vr"},"ND",{"$f":"IFERROR(HLOOKUP(Y606,[1]DATA!$A$1:$NB$5,5,0),\"\")","v":"D2"},null,null,null,null,{"$f":"VLOOKUP(Y606,[1]SRM!$S$4:$AA$368,8,0)","v":0},"","",""]
["29zaDD",{"$f":"VLOOKUP($AA609,DATA!$B$3:$E609,2,0)","v":"06:30:00"},{"$f":"VLOOKUP($AA609,DATA!$B$3:$E609,3,0)","v":"14:30:00"},{"$f":"VLOOKUP($AA609,DATA!$B$3:$E609,4,0)","v":3.125E-2},0.30208333333333331,0.30208333333333331,{"$f":"DATA!$C$9","v":0.89},{"$f":"DATA!$C$10","v":64},1,407.8125,407.8125,0,"","",0,"","",0,"","","","",null,{"$f":"X604","v":29},"2018-07-21",{"$f":"TEXT(Y609,\"ddd\")","v":"za"},"DD",{"$f":"IFERROR(HLOOKUP(Y609,[1]DATA!$A$1:$NB$5,3,0),\"\")","v":"D3"},null,null,null,null,{"$f":"VLOOKUP(Y609,[1]SRM!$S$4:$AA$368,6,0)","v":0},"","",""]
["29zaMD",{"$f":"VLOOKUP($AA610,DATA!$B$3:$E610,2,0)","v":"14:30:00"},{"$f":"VLOOKUP($AA610,DATA!$B$3:$E610,3,0)","v":"22:30:00"},{"$f":"VLOOKUP($AA610,DATA!$B$3:$E610,4,0)","v":3.125E-2},0.30208333333333337,0.30208333333333337,{"$f":"DATA!$C$9","v":0.89},{"$f":"DATA!$C$10","v":64},1,407.81250000000006,407.81250000000006,0,"","",0,"","",0,"","","","",null,{"$f":"X604","v":29},null,{"$f":"TEXT(Y609,\"ddd\")","v":"za"},"MD",{"$f":"IFERROR(HLOOKUP(Y609,[1]DATA!$A$1:$NB$5,4,0),\"\")","v":"-"},null,null,null,null,{"$f":"VLOOKUP(Y609,[1]SRM!$S$4:$AA$368,7,0)","v":0},"","",""]
["29zaND",{"$f":"VLOOKUP($AA611,DATA!$B$3:$E611,2,0)","v":"22:30:00"},{"$f":"VLOOKUP($AA611,DATA!$B$3:$E611,3,0)","v":"06:30:00"},{"$f":"VLOOKUP($AA611,DATA!$B$3:$E611,4,0)","v":3.125E-2},0.30208333333333326,0.30208333333333326,{"$f":"DATA!$C$9","v":0.89},{"$f":"DATA!$C$10","v":64},1,407.81249999999989,407.81249999999989,0,"","",0,"","",0,"","","","",null,{"$f":"X604","v":29},null,{"$f":"TEXT(Y609,\"ddd\")","v":"za"},"ND",{"$f":"IFERROR(HLOOKUP(Y609,[1]DATA!$A$1:$NB$5,5,0),\"\")","v":"-"},null,null,null,null,{"$f":"VLOOKUP(Y609,[1]SRM!$S$4:$AA$368,8,0)","v":0},"","",""]
["29zoDD",{"$f":"VLOOKUP($AA612,DATA!$B$3:$E612,2,0)","v":"06:30:00"},{"$f":"VLOOKUP($AA612,DATA!$B$3:$E612,3,0)","v":"14:30:00"},{"$f":"VLOOKUP($AA612,DATA!$B$3:$E612,4,0)","v":3.125E-2},0.30208333333333331,0.30208333333333331,{"$f":"DATA!$C$9","v":0.89},{"$f":"DATA!$C$10","v":64},1,407.8125,407.8125,0,"","",0,"","",0,"","","","",null,{"$f":"X604","v":29},"2018-07-22",{"$f":"TEXT(Y612,\"ddd\")","v":"zo"},"DD",{"$f":"IFERROR(HLOOKUP(Y612,[1]DATA!$A$1:$NB$5,3,0),\"\")","v":"-"},null,null,null,null,{"$f":"VLOOKUP(Y612,[1]SRM!$S$4:$AA$368,6,0)","v":0},"","",""]
["29zoMD",{"$f":"VLOOKUP($AA613,DATA!$B$3:$E613,2,0)","v":"14:30:00"},{"$f":"VLOOKUP($AA613,DATA!$B$3:$E613,3,0)","v":"22:30:00"},{"$f":"VLOOKUP($AA613,DATA!$B$3:$E613,4,0)","v":3.125E-2},0.30208333333333337,0.30208333333333337,{"$f":"DATA!$C$9","v":0.89},{"$f":"DATA!$C$10","v":64},1,407.81250000000006,407.81250000000006,0,"","",0,"","",0,"","","","",null,{"$f":"X604","v":29},null,{"$f":"TEXT(Y612,\"ddd\")","v":"zo"},"MD",{"$f":"IFERROR(HLOOKUP(Y612,[1]DATA!$A$1:$NB$5,4,0),\"\")","v":"-"},null,null,null,null,{"$f":"VLOOKUP(Y612,[1]SRM!$S$4:$AA$368,7,0)","v":0},"","",""]
["29zoZND",{"$f":"VLOOKUP($AA614,DATA!$B$3:$E614,2,0)","v":"00:00:00"},{"$f":"VLOOKUP($AA614,DATA!$B$3:$E614,3,0)","v":"00:00:00"},{"$f":"VLOOKUP($AA614,DATA!$B$3:$E614,4,0)","v":0},0,0,{"$f":"DATA!$C$9","v":0.89},{"$f":"DATA!$C$10","v":64},1,0,0,0,"","",0,"","",0,"","","","",null,{"$f":"X604","v":29},null,{"$f":"TEXT(Y612,\"ddd\")","v":"zo"},"ZND",{"$f":"IFERROR(HLOOKUP(Y612,[1]DATA!$A$1:$NB$5,5,0),\"\")","v":"-"},null,null,null,null,{"$f":"VLOOKUP(Y612,[1]SRM!$S$4:$AA$368,8,0)","v":0},"","",""]
["30maDD",{"$f":"VLOOKUP($AA615,DATA!$B$3:$E615,2,0)","v":"06:30:00"},{"$f":"VLOOKUP($AA615,DATA!$B$3:$E615,3,0)","v":"14:30:00"},{"$f":"VLOOKUP($AA615,DATA!$B$3:$E615,4,0)","v":3.125E-2},0.30208333333333331,0.30208333333333331,{"$f":"DATA!$C$9","v":0.89},{"$f":"DATA!$C$10","v":64},1,407.8125,407.8125,0,"","",{"$f":"TIME(INT($AD615/60),INT(MOD($AD615,60)/1),0)","v":0},"","",0,"","","","",null,{"$f":"X625","v":30},"2018-07-23",{"$f":"TEXT(Y615,\"ddd\")","v":"ma"},"DD",{"$f":"IFERROR(HLOOKUP(Y615,[1]DATA!$A$1:$NB$5,3,0),\"\")","v":"D2"},null,null,null,null,{"$f":"VLOOKUP(Y615,[1]SRM!$S$4:$AA$368,6,0)","v":0},"","","",{"$f":"IF(SUMIF(S615:S635,\">0\",K615:K635)=0,\"\",SUMIF(S615:S635,\">0\",K615:K635))","v":""},{"$f":"IF(SUM(S615:S635)=0,\"\",SUM(S615:S635))","v":""},{"$f":"IFERROR(AL615/AK615,\"-\")","v":"-"},{"$f":"IF(SUM(M615:M635)=0,\"0\",SUM(M615:M635))","v":"0"},{"$f":"IFERROR(AN615/AK615,\"-\")","v":"-"},{"$f":"IF(SUM(P615:P635)=0,0,SUM(P615:P635))","v":0},{"$f":"IFERROR(AP615/AK615,\"-\")","v":"-"},"-",{"$f":"IFERROR(SUMIF($AB615:$AB635,AS$5,$AJ615:$AJ635)/COUNTIFS($AB615:$AB635,AS$5,$AJ615:$AJ635,\">0\"),\"\")","v":""},"","",{"$f":"IFERROR((AK615-AL615-AN615-AP615),\"-\")","v":"-"},{"$f":"IFERROR((1-AM615-AO615-AQ615), \"-\")","v":"-"},{"$f":"IFERROR((AV615*$AE$2)/60,\"-\")","v":"-"},{"$f":"IFERROR(SUM(AG615:AG635),\"\")","v":0}]
["30maMD",{"$f":"VLOOKUP($AA616,DATA!$B$3:$E616,2,0)","v":"14:30:00"},{"$f":"VLOOKUP($AA616,DATA!$B$3:$E616,3,0)","v":"22:30:00"},{"$f":"VLOOKUP($AA616,DATA!$B$3:$E616,4,0)","v":3.125E-2},0.30208333333333337,0.30208333333333337,{"$f":"DATA!$C$9","v":0.89},{"$f":"DATA!$C$10","v":64},1,407.81250000000006,407.81250000000006,0,"","",{"$f":"TIME(INT(AD616/60),INT(MOD(AD616,60)/1),0)","v":0},"","",0,"","","","",null,{"$f":"X625","v":30},null,{"$f":"TEXT(Y615,\"ddd\")","v":"ma"},"MD",{"$f":"IFERROR(HLOOKUP(Y615,[1]DATA!$A$1:$NB$5,4,0),\"\")","v":"D1"},null,null,null,null,{"$f":"VLOOKUP(Y615,[1]SRM!$S$4:$AA$368,7,0)","v":0},"","",""]
["30maND",{"$f":"VLOOKUP($AA617,DATA!$B$3:$E617,2,0)","v":"22:30:00"},{"$f":"VLOOKUP($AA617,DATA!$B$3:$E617,3,0)","v":"06:30:00"},{"$f":"VLOOKUP($AA617,DATA!$B$3:$E617,4,0)","v":3.125E-2},0.30208333333333326,0.30208333333333326,{"$f":"DATA!$C$9","v":0.89},{"$f":"DATA!$C$10","v":64},1,407.81249999999989,407.81249999999989,0,"","",0,"","",0,"","","","",null,{"$f":"X625","v":30},null,{"$f":"TEXT(Y615,\"ddd\")","v":"ma"},"ND",{"$f":"IFERROR(HLOOKUP(Y615,[1]DATA!$A$1:$NB$5,5,0),\"\")","v":"D3"},null,null,null,null,{"$f":"VLOOKUP(Y615,[1]SRM!$S$4:$AA$368,8,0)","v":0},"","",""]
["30diDD",{"$f":"VLOOKUP($AA618,DATA!$B$3:$E618,2,0)","v":"06:30:00"},{"$f":"VLOOKUP($AA618,DATA!$B$3:$E618,3,0)","v":"14:30:00"},{"$f":"VLOOKUP($AA618,DATA!$B$3:$E618,4,0)","v":3.125E-2},0.30208333333333331,0.30208333333333331,{"$f":"DATA!$C$9","v":0.89},{"$f":"DATA!$C$10","v":64},1,407.8125,407.8125,0,"","",0,"","",0,"","","","",null,{"$f":"X625","v":30},"2018-07-24",{"$f":"TEXT(Y618,\"ddd\")","v":"di"},"DD",{"$f":"IFERROR(HLOOKUP(Y618,[1]DATA!$A$1:$NB$5,3,0),\"\")","v":"D2"},null,null,null,null,{"$f":"VLOOKUP(Y618,[1]SRM!$S$4:$AA$368,6,0)","v":0},"","",""]
["30diMD",{"$f":"VLOOKUP($AA619,DATA!$B$3:$E619,2,0)","v":"14:30:00"},{"$f":"VLOOKUP($AA619,DATA!$B$3:$E619,3,0)","v":"22:30:00"},{"$f":"VLOOKUP($AA619,DATA!$B$3:$E619,4,0)","v":3.125E-2},0.30208333333333337,0.30208333333333337,{"$f":"DATA!$C$9","v":0.89},{"$f":"DATA!$C$10","v":64},1,407.81250000000006,407.81250000000006,0,"","",0,"","",0,"","","","",null,{"$f":"X625","v":30},null,{"$f":"TEXT(Y618,\"ddd\")","v":"di"},"MD",{"$f":"IFERROR(HLOOKUP(Y618,[1]DATA!$A$1:$NB$5,4,0),\"\")","v":"D1"},null,null,null,null,{"$f":"VLOOKUP(Y618,[1]SRM!$S$4:$AA$368,7,0)","v":0},"","",""]
["30diND",{"$f":"VLOOKUP($AA620,DATA!$B$3:$E620,2,0)","v":"22:30:00"},{"$f":"VLOOKUP($AA620,DATA!$B$3:$E620,3,0)","v":"06:30:00"},{"$f":"VLOOKUP($AA620,DATA!$B$3:$E620,4,0)","v":3.125E-2},0.30208333333333326,0.30208333333333326,{"$f":"DATA!$C$9","v":0.89},{"$f":"DATA!$C$10","v":64},1,407.81249999999989,407.81249999999989,0,"","",0,"","",0,"","","","",null,{"$f":"X625","v":30},null,{"$f":"TEXT(Y618,\"ddd\")","v":"di"},"ND",{"$f":"IFERROR(HLOOKUP(Y618,[1]DATA!$A$1:$NB$5,5,0),\"\")","v":"D3"},null,null,null,null,{"$f":"VLOOKUP(Y618,[1]SRM!$S$4:$AA$368,8,0)","v":0},"","",""]
["30woDD",{"$f":"VLOOKUP($AA621,DATA!$B$3:$E621,2,0)","v":"06:30:00"},{"$f":"VLOOKUP($AA621,DATA!$B$3:$E621,3,0)","v":"14:30:00"},{"$f":"VLOOKUP($AA621,DATA!$B$3:$E621,4,0)","v":3.125E-2},0.30208333333333331,0.30208333333333331,{"$f":"DATA!$C$9","v":0.89},{"$f":"DATA!$C$10","v":64},1,407.8125,407.8125,0,"","",0,"","",0,"","","","",null,{"$f":"X625","v":30},"2018-07-25",{"$f":"TEXT(Y621,\"ddd\")","v":"wo"},"DD",{"$f":"IFERROR(HLOOKUP(Y621,[1]DATA!$A$1:$NB$5,3,0),\"\")","v":"D2"},null,null,null,null,{"$f":"VLOOKUP(Y621,[1]SRM!$S$4:$AA$368,6,0)","v":0},"","",""]
["30woMD",{"$f":"VLOOKUP($AA622,DATA!$B$3:$E622,2,0)","v":"14:30:00"},{"$f":"VLOOKUP($AA622,DATA!$B$3:$E622,3,0)","v":"22:30:00"},{"$f":"VLOOKUP($AA622,DATA!$B$3:$E622,4,0)","v":3.125E-2},0.30208333333333337,0.30208333333333337,{"$f":"DATA!$C$9","v":0.89},{"$f":"DATA!$C$10","v":64},1,407.81250000000006,407.81250000000006,0,"","",0,"","",0,"","","","",null,{"$f":"X625","v":30},null,{"$f":"TEXT(Y621,\"ddd\")","v":"wo"},"MD",{"$f":"IFERROR(HLOOKUP(Y621,[1]DATA!$A$1:$NB$5,4,0),\"\")","v":"D1"},null,null,null,null,{"$f":"VLOOKUP(Y621,[1]SRM!$S$4:$AA$368,7,0)","v":0},"","",""]
["30woND",{"$f":"VLOOKUP($AA623,DATA!$B$3:$E623,2,0)","v":"22:30:00"},{"$f":"VLOOKUP($AA623,DATA!$B$3:$E623,3,0)","v":"06:30:00"},{"$f":"VLOOKUP($AA623,DATA!$B$3:$E623,4,0)","v":3.125E-2},0.30208333333333326,0.30208333333333326,{"$f":"DATA!$C$9","v":0.89},{"$f":"DATA!$C$10","v":64},1,407.81249999999989,407.81249999999989,0,"","",0,"","",0,"","","","",null,{"$f":"X625","v":30},null,{"$f":"TEXT(Y621,\"ddd\")","v":"wo"},"ND",{"$f":"IFERROR(HLOOKUP(Y621,[1]DATA!$A$1:$NB$5,5,0),\"\")","v":"D3"},null,null,null,null,{"$f":"VLOOKUP(Y621,[1]SRM!$S$4:$AA$368,8,0)","v":0},"","",""]
[{"$f":"X624&Z624&AA624","v":"30doDD"},{"$f":"VLOOKUP($AA624,DATA!$B$3:$E624,2,0)","v":"06:30:00"},{"$f":"VLOOKUP($AA624,DATA!$B$3:$E624,3,0)","v":"14:30:00"},{"$f":"VLOOKUP($AA624,DATA!$B$3:$E624,4,0)","v":3.125E-2},0.30208333333333331,0.30208333333333331,{"$f":"DATA!$C$9","v":0.89},{"$f":"DATA!$C$10","v":64},1,407.8125,407.8125,0,"","",0,{"$f":"IF($O624*86400/$H624=0,\"\",$O624*86400/$H624)","v":""},"",0,"","","","",null,{"$f":"X625","v":30},"2018-07-26",{"$f":"TEXT(Y624,\"ddd\")","v":"do"},"DD",{"$f":"IFERROR(HLOOKUP(Y624,[1]DATA!$A$1:$NB$5,3,0),\"\")","v":"D2"},null,null,null,null,{"$f":"VLOOKUP(Y624,[1]SRM!$S$4:$AA$368,6,0)","v":0},"","",""]
["30doMD",{"$f":"VLOOKUP($AA625,DATA!$B$3:$E625,2,0)","v":"14:30:00"},{"$f":"VLOOKUP($AA625,DATA!$B$3:$E625,3,0)","v":"22:30:00"},{"$f":"VLOOKUP($AA625,DATA!$B$3:$E625,4,0)","v":3.125E-2},0.30208333333333337,0.30208333333333337,{"$f":"DATA!$C$9","v":0.89},{"$f":"DATA!$C$10","v":64},1,407.81250000000006,407.81250000000006,0,"","",0,"","",0,"","","","",null,{"$f":"WEEKNUM($Y615)","v":30},null,{"$f":"TEXT(Y624,\"ddd\")","v":"do"},"MD",{"$f":"IFERROR(HLOOKUP(Y624,[1]DATA!$A$1:$NB$5,4,0),\"\")","v":"D1"},null,null,null,null,{"$f":"VLOOKUP(Y624,[1]SRM!$S$4:$AA$368,7,0)","v":0},"","",""]
["30doND",{"$f":"VLOOKUP($AA626,DATA!$B$3:$E626,2,0)","v":"22:30:00"},{"$f":"VLOOKUP($AA626,DATA!$B$3:$E626,3,0)","v":"06:30:00"},{"$f":"VLOOKUP($AA626,DATA!$B$3:$E626,4,0)","v":3.125E-2},0.30208333333333326,0.30208333333333326,{"$f":"DATA!$C$9","v":0.89},{"$f":"DATA!$C$10","v":64},1,407.81249999999989,407.81249999999989,0,"","",0,"","",0,"","","","",null,{"$f":"X625","v":30},null,{"$f":"TEXT(Y624,\"ddd\")","v":"do"},"ND",{"$f":"IFERROR(HLOOKUP(Y624,[1]DATA!$A$1:$NB$5,5,0),\"\")","v":"D3"},null,null,null,null,{"$f":"VLOOKUP(Y624,[1]SRM!$S$4:$AA$368,8,0)","v":0},"","",""]
["30vrDD",{"$f":"VLOOKUP($AA627,DATA!$B$3:$E627,2,0)","v":"06:30:00"},{"$f":"VLOOKUP($AA627,DATA!$B$3:$E627,3,0)","v":"14:30:00"},{"$f":"VLOOKUP($AA627,DATA!$B$3:$E627,4,0)","v":3.125E-2},0.30208333333333331,0.30208333333333331,{"$f":"DATA!$C$9","v":0.89},{"$f":"DATA!$C$10","v":64},1,407.8125,407.8125,0,"","",0,"","",0,"","","","",null,{"$f":"X625","v":30},"2018-07-27",{"$f":"TEXT(Y627,\"ddd\")","v":"vr"},"DD",{"$f":"IFERROR(HLOOKUP(Y627,[1]DATA!$A$1:$NB$5,3,0),\"\")","v":"D2"},null,null,null,null,{"$f":"VLOOKUP(Y627,[1]SRM!$S$4:$AA$368,6,0)","v":0},"","",""]
["30vrMD",{"$f":"VLOOKUP($AA628,DATA!$B$3:$E628,2,0)","v":"14:30:00"},{"$f":"VLOOKUP($AA628,DATA!$B$3:$E628,3,0)","v":"22:30:00"},{"$f":"VLOOKUP($AA628,DATA!$B$3:$E628,4,0)","v":3.125E-2},0.30208333333333337,0.30208333333333337,{"$f":"DATA!$C$9","v":0.89},{"$f":"DATA!$C$10","v":64},1,407.81250000000006,407.81250000000006,0,"","",0,"","",0,"","","","",null,{"$f":"X625","v":30},null,{"$f":"TEXT(Y627,\"ddd\")","v":"vr"},"MD",{"$f":"IFERROR(HLOOKUP(Y627,[1]DATA!$A$1:$NB$5,4,0),\"\")","v":"D1"},null,null,null,null,{"$f":"VLOOKUP(Y627,[1]SRM!$S$4:$AA$368,7,0)","v":0},"","",""]
["30vrND",{"$f":"VLOOKUP($AA629,DATA!$B$3:$E629,2,0)","v":"22:30:00"},{"$f":"VLOOKUP($AA629,DATA!$B$3:$E629,3,0)","v":"06:30:00"},{"$f":"VLOOKUP($AA629,DATA!$B$3:$E629,4,0)","v":3.125E-2},0.30208333333333326,0.30208333333333326,{"$f":"DATA!$C$9","v":0.89},{"$f":"DATA!$C$10","v":64},1,407.81249999999989,407.81249999999989,0,"","",0,"","",0,"","","","",null,{"$f":"X625","v":30},null,{"$f":"TEXT(Y627,\"ddd\")","v":"vr"},"ND",{"$f":"IFERROR(HLOOKUP(Y627,[1]DATA!$A$1:$NB$5,5,0),\"\")","v":"D3"},null,null,null,null,{"$f":"VLOOKUP(Y627,[1]SRM!$S$4:$AA$368,8,0)","v":0},"","",""]
["30zaDD",{"$f":"VLOOKUP($AA630,DATA!$B$3:$E630,2,0)","v":"06:30:00"},{"$f":"VLOOKUP($AA630,DATA!$B$3:$E630,3,0)","v":"14:30:00"},{"$f":"VLOOKUP($AA630,DATA!$B$3:$E630,4,0)","v":3.125E-2},0.30208333333333331,0.30208333333333331,{"$f":"DATA!$C$9","v":0.89},{"$f":"DATA!$C$10","v":64},1,407.8125,407.8125,0,"","",0,"","",0,"","","","",null,{"$f":"X625","v":30},{"$f":"Y627+1","v":"2018-07-28"},{"$f":"TEXT(Y630,\"ddd\")","v":"za"},"DD",{"$f":"IFERROR(HLOOKUP(Y630,[1]DATA!$A$1:$NB$5,3,0),\"\")","v":"D2"},null,null,null,null,{"$f":"VLOOKUP(Y630,[1]SRM!$S$4:$AA$368,6,0)","v":0},"","",""]
["30zaMD",{"$f":"VLOOKUP($AA631,DATA!$B$3:$E631,2,0)","v":"14:30:00"},{"$f":"VLOOKUP($AA631,DATA!$B$3:$E631,3,0)","v":"22:30:00"},{"$f":"VLOOKUP($AA631,DATA!$B$3:$E631,4,0)","v":3.125E-2},0.30208333333333337,0.30208333333333337,{"$f":"DATA!$C$9","v":0.89},{"$f":"DATA!$C$10","v":64},1,407.81250000000006,407.81250000000006,0,"","",0,"","",0,"","","","",null,{"$f":"X625","v":30},null,{"$f":"TEXT(Y630,\"ddd\")","v":"za"},"MD",{"$f":"IFERROR(HLOOKUP(Y630,[1]DATA!$A$1:$NB$5,4,0),\"\")","v":"-"},null,null,null,null,{"$f":"VLOOKUP(Y630,[1]SRM!$S$4:$AA$368,7,0)","v":0},"","",""]
["30zaND",{"$f":"VLOOKUP($AA632,DATA!$B$3:$E632,2,0)","v":"22:30:00"},{"$f":"VLOOKUP($AA632,DATA!$B$3:$E632,3,0)","v":"06:30:00"},{"$f":"VLOOKUP($AA632,DATA!$B$3:$E632,4,0)","v":3.125E-2},0.30208333333333326,0.30208333333333326,{"$f":"DATA!$C$9","v":0.89},{"$f":"DATA!$C$10","v":64},1,407.81249999999989,407.81249999999989,0,"","",0,"","",0,"","","","",null,{"$f":"X625","v":30},null,{"$f":"TEXT(Y630,\"ddd\")","v":"za"},"ND",{"$f":"IFERROR(HLOOKUP(Y630,[1]DATA!$A$1:$NB$5,5,0),\"\")","v":"-"},null,null,null,null,{"$f":"VLOOKUP(Y630,[1]SRM!$S$4:$AA$368,8,0)","v":0},"","",""]
["30zoDD",{"$f":"VLOOKUP($AA633,DATA!$B$3:$E633,2,0)","v":"06:30:00"},{"$f":"VLOOKUP($AA633,DATA!$B$3:$E633,3,0)","v":"14:30:00"},{"$f":"VLOOKUP($AA633,DATA!$B$3:$E633,4,0)","v":3.125E-2},0.30208333333333331,0.30208333333333331,{"$f":"DATA!$C$9","v":0.89},{"$f":"DATA!$C$10","v":64},1,407.8125,407.8125,0,"","",0,"","",0,"","","","",null,{"$f":"X625","v":30},"2018-07-29",{"$f":"TEXT(Y633,\"ddd\")","v":"zo"},"DD",{"$f":"IFERROR(HLOOKUP(Y633,[1]DATA!$A$1:$NB$5,3,0),\"\")","v":"-"},null,null,null,null,{"$f":"VLOOKUP(Y633,[1]SRM!$S$4:$AA$368,6,0)","v":0},"","",""]
["30zoMD",{"$f":"VLOOKUP($AA634,DATA!$B$3:$E634,2,0)","v":"14:30:00"},{"$f":"VLOOKUP($AA634,DATA!$B$3:$E634,3,0)","v":"22:30:00"},{"$f":"VLOOKUP($AA634,DATA!$B$3:$E634,4,0)","v":3.125E-2},0.30208333333333337,0.30208333333333337,{"$f":"DATA!$C$9","v":0.89},{"$f":"DATA!$C$10","v":64},1,407.81250000000006,407.81250000000006,0,"","",0,"","",0,"","","","",null,{"$f":"X625","v":30},null,{"$f":"TEXT(Y633,\"ddd\")","v":"zo"},"MD",{"$f":"IFERROR(HLOOKUP(Y633,[1]DATA!$A$1:$NB$5,4,0),\"\")","v":"-"},null,null,null,null,{"$f":"VLOOKUP(Y633,[1]SRM!$S$4:$AA$368,7,0)","v":0},"","",""]
["30zoZND",{"$f":"VLOOKUP($AA635,DATA!$B$3:$E635,2,0)","v":"00:00:00"},{"$f":"VLOOKUP($AA635,DATA!$B$3:$E635,3,0)","v":"00:00:00"},{"$f":"VLOOKUP($AA635,DATA!$B$3:$E635,4,0)","v":0},0,0,{"$f":"DATA!$C$9","v":0.89},{"$f":"DATA!$C$10","v":64},1,0,0,0,"","",0,"","",0,"","","","",null,{"$f":"X625","v":30},null,{"$f":"TEXT(Y633,\"ddd\")","v":"zo"},"ZND",{"$f":"IFERROR(HLOOKUP(Y633,[1]DATA!$A$1:$NB$5,5,0),\"\")","v":"-"},null,null,null,null,{"$f":"VLOOKUP(Y633,[1]SRM!$S$4:$AA$368,8,0)","v":0},"","",""]
["31maDD",{"$f":"VLOOKUP($AA636,DATA!$B$3:$E636,2,0)","v":"06:30:00"},{"$f":"VLOOKUP($AA636,DATA!$B$3:$E636,3,0)","v":"14:30:00"},{"$f":"VLOOKUP($AA636,DATA!$B$3:$E636,4,0)","v":3.125E-2},0.30208333333333331,0.30208333333333331,{"$f":"DATA!$C$9","v":0.89},{"$f":"DATA!$C$10","v":64},1,407.8125,407.8125,0,"","",{"$f":"TIME(INT($AD636/60),INT(MOD($AD636,60)/1),0)","v":0},"","",0,"","","","",null,{"$f":"X646","v":31},"2018-07-30",{"$f":"TEXT(Y636,\"ddd\")","v":"ma"},"DD",{"$f":"IFERROR(HLOOKUP(Y636,[1]DATA!$A$1:$NB$5,3,0),\"\")","v":"D1"},null,null,null,null,{"$f":"VLOOKUP(Y636,[1]SRM!$S$4:$AA$368,6,0)","v":0},"","","",{"$f":"IF(SUMIF(S636:S656,\">0\",K636:K656)=0,\"\",SUMIF(S636:S656,\">0\",K636:K656))","v":""},{"$f":"IF(SUM(S636:S656)=0,\"\",SUM(S636:S656))","v":""},{"$f":"IFERROR(AL636/AK636,\"-\")","v":"-"},{"$f":"IF(SUM(M636:M656)=0,\"0\",SUM(M636:M656))","v":"0"},{"$f":"IFERROR(AN636/AK636,\"-\")","v":"-"},{"$f":"IF(SUM(P636:P656)=0,0,SUM(P636:P656))","v":0},{"$f":"IFERROR(AP636/AK636,\"-\")","v":"-"},"-",{"$f":"IFERROR(SUMIF($AB636:$AB656,AS$5,$AJ636:$AJ656)/COUNTIFS($AB636:$AB656,AS$5,$AJ636:$AJ656,\">0\"),\"\")","v":""},"","",{"$f":"IFERROR((AK636-AL636-AN636-AP636),\"-\")","v":"-"},{"$f":"IFERROR((1-AM636-AO636-AQ636), \"-\")","v":"-"},{"$f":"IFERROR((AV636*$AE$2)/60,\"-\")","v":"-"},{"$f":"IFERROR(SUM(AG636:AG656),\"\")","v":0}]
["31maMD",{"$f":"VLOOKUP($AA637,DATA!$B$3:$E637,2,0)","v":"14:30:00"},{"$f":"VLOOKUP($AA637,DATA!$B$3:$E637,3,0)","v":"22:30:00"},{"$f":"VLOOKUP($AA637,DATA!$B$3:$E637,4,0)","v":3.125E-2},0.30208333333333337,0.30208333333333337,{"$f":"DATA!$C$9","v":0.89},{"$f":"DATA!$C$10","v":64},1,407.81250000000006,407.81250000000006,0,"","",{"$f":"TIME(INT(AD637/60),INT(MOD(AD637,60)/1),0)","v":0},"","",0,"","","","",null,{"$f":"X646","v":31},null,{"$f":"TEXT(Y636,\"ddd\")","v":"ma"},"MD",{"$f":"IFERROR(HLOOKUP(Y636,[1]DATA!$A$1:$NB$5,4,0),\"\")","v":"D3"},null,null,null,null,{"$f":"VLOOKUP(Y636,[1]SRM!$S$4:$AA$368,7,0)","v":0},"","",""]
["31maND",{"$f":"VLOOKUP($AA638,DATA!$B$3:$E638,2,0)","v":"22:30:00"},{"$f":"VLOOKUP($AA638,DATA!$B$3:$E638,3,0)","v":"06:30:00"},{"$f":"VLOOKUP($AA638,DATA!$B$3:$E638,4,0)","v":3.125E-2},0.30208333333333326,0.30208333333333326,{"$f":"DATA!$C$9","v":0.89},{"$f":"DATA!$C$10","v":64},1,407.81249999999989,407.81249999999989,0,"","",0,"","",0,"","","","",null,{"$f":"X646","v":31},null,{"$f":"TEXT(Y636,\"ddd\")","v":"ma"},"ND",{"$f":"IFERROR(HLOOKUP(Y636,[1]DATA!$A$1:$NB$5,5,0),\"\")","v":"D2"},null,null,null,null,{"$f":"VLOOKUP(Y636,[1]SRM!$S$4:$AA$368,8,0)","v":0},"","",""]
["31diDD",{"$f":"VLOOKUP($AA639,DATA!$B$3:$E639,2,0)","v":"06:30:00"},{"$f":"VLOOKUP($AA639,DATA!$B$3:$E639,3,0)","v":"14:30:00"},{"$f":"VLOOKUP($AA639,DATA!$B$3:$E639,4,0)","v":3.125E-2},0.30208333333333331,0.30208333333333331,{"$f":"DATA!$C$9","v":0.89},{"$f":"DATA!$C$10","v":64},1,407.8125,407.8125,0,"","",0,"","",0,"","","","",null,{"$f":"X646","v":31},"2018-07-31",{"$f":"TEXT(Y639,\"ddd\")","v":"di"},"DD",{"$f":"IFERROR(HLOOKUP(Y639,[1]DATA!$A$1:$NB$5,3,0),\"\")","v":"D1"},null,null,null,null,{"$f":"VLOOKUP(Y639,[1]SRM!$S$4:$AA$368,6,0)","v":0},"","",""]
["31diMD",{"$f":"VLOOKUP($AA640,DATA!$B$3:$E640,2,0)","v":"14:30:00"},{"$f":"VLOOKUP($AA640,DATA!$B$3:$E640,3,0)","v":"22:30:00"},{"$f":"VLOOKUP($AA640,DATA!$B$3:$E640,4,0)","v":3.125E-2},0.30208333333333337,0.30208333333333337,{"$f":"DATA!$C$9","v":0.89},{"$f":"DATA!$C$10","v":64},1,407.81250000000006,407.81250000000006,0,"","",0,"","",0,"","","","",null,{"$f":"X646","v":31},null,{"$f":"TEXT(Y639,\"ddd\")","v":"di"},"MD",{"$f":"IFERROR(HLOOKUP(Y639,[1]DATA!$A$1:$NB$5,4,0),\"\")","v":"D3"},null,null,null,null,{"$f":"VLOOKUP(Y639,[1]SRM!$S$4:$AA$368,7,0)","v":0},"","",""]
["31diND",{"$f":"VLOOKUP($AA641,DATA!$B$3:$E641,2,0)","v":"22:30:00"},{"$f":"VLOOKUP($AA641,DATA!$B$3:$E641,3,0)","v":"06:30:00"},{"$f":"VLOOKUP($AA641,DATA!$B$3:$E641,4,0)","v":3.125E-2},0.30208333333333326,0.30208333333333326,{"$f":"DATA!$C$9","v":0.89},{"$f":"DATA!$C$10","v":64},1,407.81249999999989,407.81249999999989,0,"","",0,"","",0,"","","","",null,{"$f":"X646","v":31},null,{"$f":"TEXT(Y639,\"ddd\")","v":"di"},"ND",{"$f":"IFERROR(HLOOKUP(Y639,[1]DATA!$A$1:$NB$5,5,0),\"\")","v":"D2"},null,null,null,null,{"$f":"VLOOKUP(Y639,[1]SRM!$S$4:$AA$368,8,0)","v":0},"","",""]
["31woDD",{"$f":"VLOOKUP($AA642,DATA!$B$3:$E642,2,0)","v":"06:30:00"},{"$f":"VLOOKUP($AA642,DATA!$B$3:$E642,3,0)","v":"14:30:00"},{"$f":"VLOOKUP($AA642,DATA!$B$3:$E642,4,0)","v":3.125E-2},0.30208333333333331,0.30208333333333331,{"$f":"DATA!$C$9","v":0.89},{"$f":"DATA!$C$10","v":64},1,407.8125,407.8125,0,"","",0,"","",0,"","","","",null,{"$f":"X646","v":31},"2018-08-01",{"$f":"TEXT(Y642,\"ddd\")","v":"wo"},"DD",{"$f":"IFERROR(HLOOKUP(Y642,[1]DATA!$A$1:$NB$5,3,0),\"\")","v":"D1"},null,null,null,null,{"$f":"VLOOKUP(Y642,[1]SRM!$S$4:$AA$368,6,0)","v":0},"","",""]
["31woMD",{"$f":"VLOOKUP($AA643,DATA!$B$3:$E643,2,0)","v":"14:30:00"},{"$f":"VLOOKUP($AA643,DATA!$B$3:$E643,3,0)","v":"22:30:00"},{"$f":"VLOOKUP($AA643,DATA!$B$3:$E643,4,0)","v":3.125E-2},0.30208333333333337,0.30208333333333337,{"$f":"DATA!$C$9","v":0.89},{"$f":"DATA!$C$10","v":64},1,407.81250000000006,407.81250000000006,0,"","",0,"","",0,"","","","",null,{"$f":"X646","v":31},null,{"$f":"TEXT(Y642,\"ddd\")","v":"wo"},"MD",{"$f":"IFERROR(HLOOKUP(Y642,[1]DATA!$A$1:$NB$5,4,0),\"\")","v":"D3"},null,null,null,null,{"$f":"VLOOKUP(Y642,[1]SRM!$S$4:$AA$368,7,0)","v":0},"","",""]
["31woND",{"$f":"VLOOKUP($AA644,DATA!$B$3:$E644,2,0)","v":"22:30:00"},{"$f":"VLOOKUP($AA644,DATA!$B$3:$E644,3,0)","v":"06:30:00"},{"$f":"VLOOKUP($AA644,DATA!$B$3:$E644,4,0)","v":3.125E-2},0.30208333333333326,0.30208333333333326,{"$f":"DATA!$C$9","v":0.89},{"$f":"DATA!$C$10","v":64},1,407.81249999999989,407.81249999999989,0,"","",0,"","",0,"","","","",null,{"$f":"X646","v":31},null,{"$f":"TEXT(Y642,\"ddd\")","v":"wo"},"ND",{"$f":"IFERROR(HLOOKUP(Y642,[1]DATA!$A$1:$NB$5,5,0),\"\")","v":"D2"},null,null,null,null,{"$f":"VLOOKUP(Y642,[1]SRM!$S$4:$AA$368,8,0)","v":0},"","",""]
["31doDD",{"$f":"VLOOKUP($AA645,DATA!$B$3:$E645,2,0)","v":"06:30:00"},{"$f":"VLOOKUP($AA645,DATA!$B$3:$E645,3,0)","v":"14:30:00"},{"$f":"VLOOKUP($AA645,DATA!$B$3:$E645,4,0)","v":3.125E-2},0.30208333333333331,0.30208333333333331,{"$f":"DATA!$C$9","v":0.89},{"$f":"DATA!$C$10","v":64},1,407.8125,407.8125,0,"","",0,"","",0,"","","","",null,{"$f":"X646","v":31},"2018-08-02",{"$f":"TEXT(Y645,\"ddd\")","v":"do"},"DD",{"$f":"IFERROR(HLOOKUP(Y645,[1]DATA!$A$1:$NB$5,3,0),\"\")","v":"D1"},null,null,null,null,{"$f":"VLOOKUP(Y645,[1]SRM!$S$4:$AA$368,6,0)","v":0},"","",""]
["31doMD",{"$f":"VLOOKUP($AA646,DATA!$B$3:$E646,2,0)","v":"14:30:00"},{"$f":"VLOOKUP($AA646,DATA!$B$3:$E646,3,0)","v":"22:30:00"},{"$f":"VLOOKUP($AA646,DATA!$B$3:$E646,4,0)","v":3.125E-2},0.30208333333333337,0.30208333333333337,{"$f":"DATA!$C$9","v":0.89},{"$f":"DATA!$C$10","v":64},1,407.81250000000006,407.81250000000006,0,"","",0,"","",0,"","","","",null,{"$f":"WEEKNUM($Y636)","v":31},null,{"$f":"TEXT(Y645,\"ddd\")","v":"do"},"MD",{"$f":"IFERROR(HLOOKUP(Y645,[1]DATA!$A$1:$NB$5,4,0),\"\")","v":"D3"},null,null,null,null,{"$f":"VLOOKUP(Y645,[1]SRM!$S$4:$AA$368,7,0)","v":0},{"$f":"IFERROR(S646-J646,\"\")","v":""},{"$f":"IFERROR(IF(S646/(E646*86400/H646)<=0,\"\",S646/(E646*86400/H646)),\"\")","v":""},""]
["31doND",{"$f":"VLOOKUP($AA647,DATA!$B$3:$E647,2,0)","v":"22:30:00"},{"$f":"VLOOKUP($AA647,DATA!$B$3:$E647,3,0)","v":"06:30:00"},{"$f":"VLOOKUP($AA647,DATA!$B$3:$E647,4,0)","v":3.125E-2},0.30208333333333326,0.30208333333333326,{"$f":"DATA!$C$9","v":0.89},{"$f":"DATA!$C$10","v":64},1,407.81249999999989,407.81249999999989,{"$f":"TIME(INT($AC647/60),INT(MOD($AC647,60)/1),0)","v":0},{"$f":"IF($L647*86400/$H647=0,\"\",$L647*86400/$H647)","v":""},{"$f":"IFERROR($M647/$K647,\"\")","v":""},0,"",{"$f":"IFERROR($P647/$K647,\"\")","v":""},0,"",{"$f":"IF(IF($AB647=\"D1\",$S647,\"\")=0,\"\",IF($AB647=\"D1\",$S647,\"\"))","v":""},{"$f":"IF(IF($AB647=\"D2\",$S647,\"\")=0,\"\",IF($AB647=\"D2\",$S647,\"\"))","v":""},{"$f":"IF(IF($AB647=\"D3\",$S647,\"\")=0,\"\",IF($AB647=\"D3\",$S647,\"\"))","v":""},null,{"$f":"X646","v":31},null,{"$f":"TEXT(Y645,\"ddd\")","v":"do"},"ND",{"$f":"IFERROR(HLOOKUP(Y645,[1]DATA!$A$1:$NB$5,5,0),\"\")","v":"D2"},null,null,null,null,{"$f":"VLOOKUP(Y645,[1]SRM!$S$4:$AA$368,8,0)","v":0},"","",""]
["31vrDD",{"$f":"VLOOKUP($AA648,DATA!$B$3:$E648,2,0)","v":"06:30:00"},{"$f":"VLOOKUP($AA648,DATA!$B$3:$E648,3,0)","v":"14:30:00"},{"$f":"VLOOKUP($AA648,DATA!$B$3:$E648,4,0)","v":3.125E-2},0.30208333333333331,0.30208333333333331,{"$f":"DATA!$C$9","v":0.89},{"$f":"DATA!$C$10","v":64},1,407.8125,407.8125,0,"","",0,"","",0,"","","","",null,{"$f":"X646","v":31},"2018-08-03",{"$f":"TEXT(Y648,\"ddd\")","v":"vr"},"DD",{"$f":"IFERROR(HLOOKUP(Y648,[1]DATA!$A$1:$NB$5,3,0),\"\")","v":"D1"},null,null,null,null,{"$f":"VLOOKUP(Y648,[1]SRM!$S$4:$AA$368,6,0)","v":0},"","",""]
["31vrMD",{"$f":"VLOOKUP($AA649,DATA!$B$3:$E649,2,0)","v":"14:30:00"},{"$f":"VLOOKUP($AA649,DATA!$B$3:$E649,3,0)","v":"22:30:00"},{"$f":"VLOOKUP($AA649,DATA!$B$3:$E649,4,0)","v":3.125E-2},0.30208333333333337,0.30208333333333337,{"$f":"DATA!$C$9","v":0.89},{"$f":"DATA!$C$10","v":64},1,407.81250000000006,407.81250000000006,0,"","",0,"","",0,"","","","",null,{"$f":"X646","v":31},null,{"$f":"TEXT(Y648,\"ddd\")","v":"vr"},"MD",{"$f":"IFERROR(HLOOKUP(Y648,[1]DATA!$A$1:$NB$5,4,0),\"\")","v":"D3"},null,null,null,null,{"$f":"VLOOKUP(Y648,[1]SRM!$S$4:$AA$368,7,0)","v":0},"","",""]
["31vrND",{"$f":"VLOOKUP($AA650,DATA!$B$3:$E650,2,0)","v":"22:30:00"},{"$f":"VLOOKUP($AA650,DATA!$B$3:$E650,3,0)","v":"06:30:00"},{"$f":"VLOOKUP($AA650,DATA!$B$3:$E650,4,0)","v":3.125E-2},0.30208333333333326,0.30208333333333326,{"$f":"DATA!$C$9","v":0.89},{"$f":"DATA!$C$10","v":64},1,407.81249999999989,407.81249999999989,0,"","",0,"","",0,"","","","",null,{"$f":"X646","v":31},null,{"$f":"TEXT(Y648,\"ddd\")","v":"vr"},"ND",{"$f":"IFERROR(HLOOKUP(Y648,[1]DATA!$A$1:$NB$5,5,0),\"\")","v":"D2"},null,null,null,null,{"$f":"VLOOKUP(Y648,[1]SRM!$S$4:$AA$368,8,0)","v":0},"","",""]
["31zaDD",{"$f":"VLOOKUP($AA651,DATA!$B$3:$E651,2,0)","v":"06:30:00"},{"$f":"VLOOKUP($AA651,DATA!$B$3:$E651,3,0)","v":"14:30:00"},{"$f":"VLOOKUP($AA651,DATA!$B$3:$E651,4,0)","v":3.125E-2},0.30208333333333331,0.30208333333333331,{"$f":"DATA!$C$9","v":0.89},{"$f":"DATA!$C$10","v":64},1,407.8125,407.8125,0,"","",0,"","",0,"","","","",null,{"$f":"X646","v":31},"2018-08-04",{"$f":"TEXT(Y651,\"ddd\")","v":"za"},"DD",{"$f":"IFERROR(HLOOKUP(Y651,[1]DATA!$A$1:$NB$5,3,0),\"\")","v":"D1"},null,null,null,null,{"$f":"VLOOKUP(Y651,[1]SRM!$S$4:$AA$368,6,0)","v":0},"","",""]
["31zaMD",{"$f":"VLOOKUP($AA652,DATA!$B$3:$E652,2,0)","v":"14:30:00"},{"$f":"VLOOKUP($AA652,DATA!$B$3:$E652,3,0)","v":"22:30:00"},{"$f":"VLOOKUP($AA652,DATA!$B$3:$E652,4,0)","v":3.125E-2},0.30208333333333337,0.30208333333333337,{"$f":"DATA!$C$9","v":0.89},{"$f":"DATA!$C$10","v":64},1,407.81250000000006,407.81250000000006,0,"","",0,"","",0,"","","","",null,{"$f":"X646","v":31},null,{"$f":"TEXT(Y651,\"ddd\")","v":"za"},"MD",{"$f":"IFERROR(HLOOKUP(Y651,[1]DATA!$A$1:$NB$5,4,0),\"\")","v":"-"},null,null,null,null,{"$f":"VLOOKUP(Y651,[1]SRM!$S$4:$AA$368,7,0)","v":0},"","",""]
["31zaND",{"$f":"VLOOKUP($AA653,DATA!$B$3:$E653,2,0)","v":"22:30:00"},{"$f":"VLOOKUP($AA653,DATA!$B$3:$E653,3,0)","v":"06:30:00"},{"$f":"VLOOKUP($AA653,DATA!$B$3:$E653,4,0)","v":3.125E-2},0.30208333333333326,0.30208333333333326,{"$f":"DATA!$C$9","v":0.89},{"$f":"DATA!$C$10","v":64},1,407.81249999999989,407.81249999999989,0,"","",0,"","",0,"","","","",null,{"$f":"X646","v":31},null,{"$f":"TEXT(Y651,\"ddd\")","v":"za"},"ND",{"$f":"IFERROR(HLOOKUP(Y651,[1]DATA!$A$1:$NB$5,5,0),\"\")","v":"-"},null,null,null,null,{"$f":"VLOOKUP(Y651,[1]SRM!$S$4:$AA$368,8,0)","v":0},"","",""]
["31zoDD",{"$f":"VLOOKUP($AA654,DATA!$B$3:$E654,2,0)","v":"06:30:00"},{"$f":"VLOOKUP($AA654,DATA!$B$3:$E654,3,0)","v":"14:30:00"},{"$f":"VLOOKUP($AA654,DATA!$B$3:$E654,4,0)","v":3.125E-2},0.30208333333333331,0.30208333333333331,{"$f":"DATA!$C$9","v":0.89},{"$f":"DATA!$C$10","v":64},1,407.8125,407.8125,0,"","",0,"","",0,"","","","",null,{"$f":"X646","v":31},"2018-08-05",{"$f":"TEXT(Y654,\"ddd\")","v":"zo"},"DD",{"$f":"IFERROR(HLOOKUP(Y654,[1]DATA!$A$1:$NB$5,3,0),\"\")","v":"-"},null,null,null,null,{"$f":"VLOOKUP(Y654,[1]SRM!$S$4:$AA$368,6,0)","v":0},"","",""]
["31zoMD",{"$f":"VLOOKUP($AA655,DATA!$B$3:$E655,2,0)","v":"14:30:00"},{"$f":"VLOOKUP($AA655,DATA!$B$3:$E655,3,0)","v":"22:30:00"},{"$f":"VLOOKUP($AA655,DATA!$B$3:$E655,4,0)","v":3.125E-2},0.30208333333333337,0.30208333333333337,{"$f":"DATA!$C$9","v":0.89},{"$f":"DATA!$C$10","v":64},1,407.81250000000006,407.81250000000006,0,"","",0,"","",0,"","","","",null,{"$f":"X646","v":31},null,{"$f":"TEXT(Y654,\"ddd\")","v":"zo"},"MD",{"$f":"IFERROR(HLOOKUP(Y654,[1]DATA!$A$1:$NB$5,4,0),\"\")","v":"-"},null,null,null,null,{"$f":"VLOOKUP(Y654,[1]SRM!$S$4:$AA$368,7,0)","v":0},"","",""]
["31zoZND",{"$f":"VLOOKUP($AA656,DATA!$B$3:$E656,2,0)","v":"00:00:00"},{"$f":"VLOOKUP($AA656,DATA!$B$3:$E656,3,0)","v":"00:00:00"},{"$f":"VLOOKUP($AA656,DATA!$B$3:$E656,4,0)","v":0},0,0,{"$f":"DATA!$C$9","v":0.89},{"$f":"DATA!$C$10","v":64},1,0,0,0,"","",0,"","",0,"","","","",null,{"$f":"X646","v":31},null,{"$f":"TEXT(Y654,\"ddd\")","v":"zo"},"ZND",{"$f":"IFERROR(HLOOKUP(Y654,[1]DATA!$A$1:$NB$5,5,0),\"\")","v":"-"},null,null,null,null,{"$f":"VLOOKUP(Y654,[1]SRM!$S$4:$AA$368,8,0)","v":0},"","",""]
["32maDD",{"$f":"VLOOKUP($AA657,DATA!$B$3:$E657,2,0)","v":"06:30:00"},{"$f":"VLOOKUP($AA657,DATA!$B$3:$E657,3,0)","v":"14:30:00"},{"$f":"VLOOKUP($AA657,DATA!$B$3:$E657,4,0)","v":3.125E-2},0.30208333333333331,0.30208333333333331,{"$f":"DATA!$C$9","v":0.89},{"$f":"DATA!$C$10","v":64},1,407.8125,407.8125,0,"","",{"$f":"TIME(INT($AD657/60),INT(MOD($AD657,60)/1),0)","v":0},"","",0,"","","","",null,{"$f":"X667","v":32},"2018-08-06",{"$f":"TEXT(Y657,\"ddd\")","v":"ma"},"DD",{"$f":"IFERROR(HLOOKUP(Y657,[1]DATA!$A$1:$NB$5,3,0),\"\")","v":"D3"},null,null,null,null,{"$f":"VLOOKUP(Y657,[1]SRM!$S$4:$AA$368,6,0)","v":0},"","","",{"$f":"IF(SUMIF(S657:S677,\">0\",K657:K677)=0,\"\",SUMIF(S657:S677,\">0\",K657:K677))","v":""},{"$f":"IF(SUM(S657:S677)=0,\"\",SUM(S657:S677))","v":""},{"$f":"IFERROR(AL657/AK657,\"-\")","v":"-"},{"$f":"IF(SUM(M657:M677)=0,\"0\",SUM(M657:M677))","v":"0"},{"$f":"IFERROR(AN657/AK657,\"-\")","v":"-"},{"$f":"IF(SUM(P657:P677)=0,0,SUM(P657:P677))","v":0},{"$f":"IFERROR(AP657/AK657,\"-\")","v":"-"},"-",{"$f":"IFERROR(SUMIF($AB657:$AB677,AS$5,$AJ657:$AJ677)/COUNTIFS($AB657:$AB677,AS$5,$AJ657:$AJ677,\">0\"),\"\")","v":""},"","",{"$f":"IFERROR((AK657-AL657-AN657-AP657),\"-\")","v":"-"},{"$f":"IFERROR((1-AM657-AO657-AQ657), \"-\")","v":"-"},{"$f":"IFERROR((AV657*$AE$2)/60,\"-\")","v":"-"},{"$f":"IFERROR(SUM(AG657:AG677),\"\")","v":0}]
["32maMD",{"$f":"VLOOKUP($AA658,DATA!$B$3:$E658,2,0)","v":"14:30:00"},{"$f":"VLOOKUP($AA658,DATA!$B$3:$E658,3,0)","v":"22:30:00"},{"$f":"VLOOKUP($AA658,DATA!$B$3:$E658,4,0)","v":3.125E-2},0.30208333333333337,0.30208333333333337,{"$f":"DATA!$C$9","v":0.89},{"$f":"DATA!$C$10","v":64},1,407.81250000000006,407.81250000000006,0,"","",{"$f":"TIME(INT(AD658/60),INT(MOD(AD658,60)/1),0)","v":0},"","",0,"","","","",null,{"$f":"X667","v":32},null,{"$f":"TEXT(Y657,\"ddd\")","v":"ma"},"MD",{"$f":"IFERROR(HLOOKUP(Y657,[1]DATA!$A$1:$NB$5,4,0),\"\")","v":"D2"},null,null,null,null,{"$f":"VLOOKUP(Y657,[1]SRM!$S$4:$AA$368,7,0)","v":0},"","",""]
["32maND",{"$f":"VLOOKUP($AA659,DATA!$B$3:$E659,2,0)","v":"22:30:00"},{"$f":"VLOOKUP($AA659,DATA!$B$3:$E659,3,0)","v":"06:30:00"},{"$f":"VLOOKUP($AA659,DATA!$B$3:$E659,4,0)","v":3.125E-2},0.30208333333333326,0.30208333333333326,{"$f":"DATA!$C$9","v":0.89},{"$f":"DATA!$C$10","v":64},1,407.81249999999989,407.81249999999989,0,"","",0,"","",0,"","","","",null,{"$f":"X667","v":32},null,{"$f":"TEXT(Y657,\"ddd\")","v":"ma"},"ND",{"$f":"IFERROR(HLOOKUP(Y657,[1]DATA!$A$1:$NB$5,5,0),\"\")","v":"D1"},null,null,null,null,{"$f":"VLOOKUP(Y657,[1]SRM!$S$4:$AA$368,8,0)","v":0},"","",""]
["32diDD",{"$f":"VLOOKUP($AA660,DATA!$B$3:$E660,2,0)","v":"06:30:00"},{"$f":"VLOOKUP($AA660,DATA!$B$3:$E660,3,0)","v":"14:30:00"},{"$f":"VLOOKUP($AA660,DATA!$B$3:$E660,4,0)","v":3.125E-2},0.30208333333333331,0.30208333333333331,{"$f":"DATA!$C$9","v":0.89},{"$f":"DATA!$C$10","v":64},1,407.8125,407.8125,0,"","",0,"","",0,"","","","",null,{"$f":"X667","v":32},"2018-08-07",{"$f":"TEXT(Y660,\"ddd\")","v":"di"},"DD",{"$f":"IFERROR(HLOOKUP(Y660,[1]DATA!$A$1:$NB$5,3,0),\"\")","v":"D3"},null,null,null,null,{"$f":"VLOOKUP(Y660,[1]SRM!$S$4:$AA$368,6,0)","v":0},"","",""]
["32diMD",{"$f":"VLOOKUP($AA661,DATA!$B$3:$E661,2,0)","v":"14:30:00"},{"$f":"VLOOKUP($AA661,DATA!$B$3:$E661,3,0)","v":"22:30:00"},{"$f":"VLOOKUP($AA661,DATA!$B$3:$E661,4,0)","v":3.125E-2},0.30208333333333337,0.30208333333333337,{"$f":"DATA!$C$9","v":0.89},{"$f":"DATA!$C$10","v":64},1,407.81250000000006,407.81250000000006,0,"","",0,"","",0,"","","","",null,{"$f":"X667","v":32},null,{"$f":"TEXT(Y660,\"ddd\")","v":"di"},"MD",{"$f":"IFERROR(HLOOKUP(Y660,[1]DATA!$A$1:$NB$5,4,0),\"\")","v":"D2"},null,null,null,null,{"$f":"VLOOKUP(Y660,[1]SRM!$S$4:$AA$368,7,0)","v":0},"","",""]
["32diND",{"$f":"VLOOKUP($AA662,DATA!$B$3:$E662,2,0)","v":"22:30:00"},{"$f":"VLOOKUP($AA662,DATA!$B$3:$E662,3,0)","v":"06:30:00"},{"$f":"VLOOKUP($AA662,DATA!$B$3:$E662,4,0)","v":3.125E-2},0.30208333333333326,0.30208333333333326,{"$f":"DATA!$C$9","v":0.89},{"$f":"DATA!$C$10","v":64},1,407.81249999999989,407.81249999999989,0,"","",0,"","",0,"","","","",null,{"$f":"X667","v":32},null,{"$f":"TEXT(Y660,\"ddd\")","v":"di"},"ND",{"$f":"IFERROR(HLOOKUP(Y660,[1]DATA!$A$1:$NB$5,5,0),\"\")","v":"D1"},null,null,null,null,{"$f":"VLOOKUP(Y660,[1]SRM!$S$4:$AA$368,8,0)","v":0},"","",""]
["32woDD",{"$f":"VLOOKUP($AA663,DATA!$B$3:$E663,2,0)","v":"06:30:00"},{"$f":"VLOOKUP($AA663,DATA!$B$3:$E663,3,0)","v":"14:30:00"},{"$f":"VLOOKUP($AA663,DATA!$B$3:$E663,4,0)","v":3.125E-2},0.30208333333333331,0.30208333333333331,{"$f":"DATA!$C$9","v":0.89},{"$f":"DATA!$C$10","v":64},1,407.8125,407.8125,0,"","",0,"","",0,"","","","",null,{"$f":"X667","v":32},"2018-08-08",{"$f":"TEXT(Y663,\"ddd\")","v":"wo"},"DD",{"$f":"IFERROR(HLOOKUP(Y663,[1]DATA!$A$1:$NB$5,3,0),\"\")","v":"D3"},null,null,null,null,{"$f":"VLOOKUP(Y663,[1]SRM!$S$4:$AA$368,6,0)","v":0},"","",""]
["32woMD",{"$f":"VLOOKUP($AA664,DATA!$B$3:$E664,2,0)","v":"14:30:00"},{"$f":"VLOOKUP($AA664,DATA!$B$3:$E664,3,0)","v":"22:30:00"},{"$f":"VLOOKUP($AA664,DATA!$B$3:$E664,4,0)","v":3.125E-2},0.30208333333333337,0.30208333333333337,{"$f":"DATA!$C$9","v":0.89},{"$f":"DATA!$C$10","v":64},1,407.81250000000006,407.81250000000006,0,"","",0,"","",0,"","","","",null,{"$f":"X667","v":32},null,{"$f":"TEXT(Y663,\"ddd\")","v":"wo"},"MD",{"$f":"IFERROR(HLOOKUP(Y663,[1]DATA!$A$1:$NB$5,4,0),\"\")","v":"D2"},null,null,null,null,{"$f":"VLOOKUP(Y663,[1]SRM!$S$4:$AA$368,7,0)","v":0},"","",""]
["32woND",{"$f":"VLOOKUP($AA665,DATA!$B$3:$E665,2,0)","v":"22:30:00"},{"$f":"VLOOKUP($AA665,DATA!$B$3:$E665,3,0)","v":"06:30:00"},{"$f":"VLOOKUP($AA665,DATA!$B$3:$E665,4,0)","v":3.125E-2},0.30208333333333326,0.30208333333333326,{"$f":"DATA!$C$9","v":0.89},{"$f":"DATA!$C$10","v":64},1,407.81249999999989,407.81249999999989,0,"","",0,"","",0,"","","","",null,{"$f":"X667","v":32},null,{"$f":"TEXT(Y663,\"ddd\")","v":"wo"},"ND",{"$f":"IFERROR(HLOOKUP(Y663,[1]DATA!$A$1:$NB$5,5,0),\"\")","v":"D1"},null,null,null,null,{"$f":"VLOOKUP(Y663,[1]SRM!$S$4:$AA$368,8,0)","v":0},"","",""]
["32doDD",{"$f":"VLOOKUP($AA666,DATA!$B$3:$E666,2,0)","v":"06:30:00"},{"$f":"VLOOKUP($AA666,DATA!$B$3:$E666,3,0)","v":"14:30:00"},{"$f":"VLOOKUP($AA666,DATA!$B$3:$E666,4,0)","v":3.125E-2},0.30208333333333331,0.30208333333333331,{"$f":"DATA!$C$9","v":0.89},{"$f":"DATA!$C$10","v":64},1,407.8125,407.8125,0,"","",0,"","",0,"","","","",null,{"$f":"X667","v":32},"2018-08-09",{"$f":"TEXT(Y666,\"ddd\")","v":"do"},"DD",{"$f":"IFERROR(HLOOKUP(Y666,[1]DATA!$A$1:$NB$5,3,0),\"\")","v":"D3"},null,null,null,null,{"$f":"VLOOKUP(Y666,[1]SRM!$S$4:$AA$368,6,0)","v":0},"","",""]
["32doMD",{"$f":"VLOOKUP($AA667,DATA!$B$3:$E667,2,0)","v":"14:30:00"},{"$f":"VLOOKUP($AA667,DATA!$B$3:$E667,3,0)","v":"22:30:00"},{"$f":"VLOOKUP($AA667,DATA!$B$3:$E667,4,0)","v":3.125E-2},0.30208333333333337,0.30208333333333337,{"$f":"DATA!$C$9","v":0.89},{"$f":"DATA!$C$10","v":64},1,407.81250000000006,407.81250000000006,0,"","",0,"","",0,"","","","",null,{"$f":"WEEKNUM($Y657)","v":32},null,{"$f":"TEXT(Y666,\"ddd\")","v":"do"},"MD",{"$f":"IFERROR(HLOOKUP(Y666,[1]DATA!$A$1:$NB$5,4,0),\"\")","v":"D2"},null,null,null,null,{"$f":"VLOOKUP(Y666,[1]SRM!$S$4:$AA$368,7,0)","v":0},"","",{"$f":"IFERROR(R667/(R667+AG667),\"\")","v":""}]
["32doND",{"$f":"VLOOKUP($AA668,DATA!$B$3:$E668,2,0)","v":"22:30:00"},{"$f":"VLOOKUP($AA668,DATA!$B$3:$E668,3,0)","v":"06:30:00"},{"$f":"VLOOKUP($AA668,DATA!$B$3:$E668,4,0)","v":3.125E-2},{"$f":"(C668-B668+(B668>C668))-D668","v":0.30208333333333326},{"$f":"E668-O668-L668","v":0.30208333333333326},{"$f":"DATA!$C$9","v":0.89},{"$f":"DATA!$C$10","v":64},1,{"$f":"F668*86400/H668*I668","v":407.81249999999989},{"$f":"E668*86400/H668","v":407.81249999999989},0,"","",0,"","",{"$f":"AF668*AG$2","v":0},{"$f":"IF(AF668-AE668=0,\"\",AF668-AE668)","v":""},"","","",null,{"$f":"X667","v":32},null,{"$f":"TEXT(Y666,\"ddd\")","v":"do"},"ND",{"$f":"IFERROR(HLOOKUP(Y666,[1]DATA!$A$1:$NB$5,5,0),\"\")","v":"D1"},null,null,null,null,{"$f":"VLOOKUP(Y666,[1]SRM!$S$4:$AA$368,8,0)","v":0},"","",""]
["32vrDD",{"$f":"VLOOKUP($AA669,DATA!$B$3:$E669,2,0)","v":"06:30:00"},{"$f":"VLOOKUP($AA669,DATA!$B$3:$E669,3,0)","v":"14:30:00"},{"$f":"VLOOKUP($AA669,DATA!$B$3:$E669,4,0)","v":3.125E-2},0.30208333333333331,0.30208333333333331,{"$f":"DATA!$C$9","v":0.89},{"$f":"DATA!$C$10","v":64},1,407.8125,407.8125,0,"","",0,"","",0,"","","","",null,{"$f":"X667","v":32},"2018-08-10",{"$f":"TEXT(Y669,\"ddd\")","v":"vr"},"DD",{"$f":"IFERROR(HLOOKUP(Y669,[1]DATA!$A$1:$NB$5,3,0),\"\")","v":"D3"},null,null,null,null,{"$f":"VLOOKUP(Y669,[1]SRM!$S$4:$AA$368,6,0)","v":0},"","",""]
["32vrMD",{"$f":"VLOOKUP($AA670,DATA!$B$3:$E670,2,0)","v":"14:30:00"},{"$f":"VLOOKUP($AA670,DATA!$B$3:$E670,3,0)","v":"22:30:00"},{"$f":"VLOOKUP($AA670,DATA!$B$3:$E670,4,0)","v":3.125E-2},0.30208333333333337,0.30208333333333337,{"$f":"DATA!$C$9","v":0.89},{"$f":"DATA!$C$10","v":64},1,407.81250000000006,407.81250000000006,0,"","",0,"","",0,"","","","",null,{"$f":"X667","v":32},null,{"$f":"TEXT(Y669,\"ddd\")","v":"vr"},"MD",{"$f":"IFERROR(HLOOKUP(Y669,[1]DATA!$A$1:$NB$5,4,0),\"\")","v":"D2"},null,null,null,null,{"$f":"VLOOKUP(Y669,[1]SRM!$S$4:$AA$368,7,0)","v":0},"","",""]
["32vrND",{"$f":"VLOOKUP($AA671,DATA!$B$3:$E671,2,0)","v":"22:30:00"},{"$f":"VLOOKUP($AA671,DATA!$B$3:$E671,3,0)","v":"06:30:00"},{"$f":"VLOOKUP($AA671,DATA!$B$3:$E671,4,0)","v":3.125E-2},0.30208333333333326,0.30208333333333326,{"$f":"DATA!$C$9","v":0.89},{"$f":"DATA!$C$10","v":64},1,407.81249999999989,407.81249999999989,0,"","",0,"","",0,"","","","",null,{"$f":"X667","v":32},null,{"$f":"TEXT(Y669,\"ddd\")","v":"vr"},"ND",{"$f":"IFERROR(HLOOKUP(Y669,[1]DATA!$A$1:$NB$5,5,0),\"\")","v":"D2"},null,null,null,null,{"$f":"VLOOKUP(Y669,[1]SRM!$S$4:$AA$368,8,0)","v":0},"","",""]
["32zaDD",{"$f":"VLOOKUP($AA672,DATA!$B$3:$E672,2,0)","v":"06:30:00"},{"$f":"VLOOKUP($AA672,DATA!$B$3:$E672,3,0)","v":"14:30:00"},{"$f":"VLOOKUP($AA672,DATA!$B$3:$E672,4,0)","v":3.125E-2},0.30208333333333331,0.30208333333333331,{"$f":"DATA!$C$9","v":0.89},{"$f":"DATA!$C$10","v":64},1,407.8125,407.8125,0,"","",0,"","",0,"","","","",null,{"$f":"X667","v":32},"2018-08-11",{"$f":"TEXT(Y672,\"ddd\")","v":"za"},"DD",{"$f":"IFERROR(HLOOKUP(Y672,[1]DATA!$A$1:$NB$5,3,0),\"\")","v":"D3"},null,null,null,null,{"$f":"VLOOKUP(Y672,[1]SRM!$S$4:$AA$368,6,0)","v":0},"","",""]
["32zaMD",{"$f":"VLOOKUP($AA673,DATA!$B$3:$E673,2,0)","v":"14:30:00"},{"$f":"VLOOKUP($AA673,DATA!$B$3:$E673,3,0)","v":"22:30:00"},{"$f":"VLOOKUP($AA673,DATA!$B$3:$E673,4,0)","v":3.125E-2},0.30208333333333337,0.30208333333333337,{"$f":"DATA!$C$9","v":0.89},{"$f":"DATA!$C$10","v":64},1,407.81250000000006,407.81250000000006,0,"","",0,"","",0,"","","","",null,{"$f":"X667","v":32},null,{"$f":"TEXT(Y672,\"ddd\")","v":"za"},"MD",{"$f":"IFERROR(HLOOKUP(Y672,[1]DATA!$A$1:$NB$5,4,0),\"\")","v":"-"},null,null,null,null,{"$f":"VLOOKUP(Y672,[1]SRM!$S$4:$AA$368,7,0)","v":0},"","",""]
["32zaND",{"$f":"VLOOKUP($AA674,DATA!$B$3:$E674,2,0)","v":"22:30:00"},{"$f":"VLOOKUP($AA674,DATA!$B$3:$E674,3,0)","v":"06:30:00"},{"$f":"VLOOKUP($AA674,DATA!$B$3:$E674,4,0)","v":3.125E-2},0.30208333333333326,0.30208333333333326,{"$f":"DATA!$C$9","v":0.89},{"$f":"DATA!$C$10","v":64},1,407.81249999999989,407.81249999999989,0,"","",0,"","",0,"","","","",null,{"$f":"X667","v":32},null,{"$f":"TEXT(Y672,\"ddd\")","v":"za"},"ND",{"$f":"IFERROR(HLOOKUP(Y672,[1]DATA!$A$1:$NB$5,5,0),\"\")","v":"-"},null,null,null,null,{"$f":"VLOOKUP(Y672,[1]SRM!$S$4:$AA$368,8,0)","v":0},"","",""]
["32zoDD",{"$f":"VLOOKUP($AA675,DATA!$B$3:$E675,2,0)","v":"06:30:00"},{"$f":"VLOOKUP($AA675,DATA!$B$3:$E675,3,0)","v":"14:30:00"},{"$f":"VLOOKUP($AA675,DATA!$B$3:$E675,4,0)","v":3.125E-2},0.30208333333333331,0.30208333333333331,{"$f":"DATA!$C$9","v":0.89},{"$f":"DATA!$C$10","v":64},1,407.8125,407.8125,0,"","",0,"","",0,"","","","",null,{"$f":"X667","v":32},"2018-08-12",{"$f":"TEXT(Y675,\"ddd\")","v":"zo"},"DD",{"$f":"IFERROR(HLOOKUP(Y675,[1]DATA!$A$1:$NB$5,3,0),\"\")","v":"-"},null,null,null,null,{"$f":"VLOOKUP(Y675,[1]SRM!$S$4:$AA$368,6,0)","v":0},"","",""]
["32zoMD",{"$f":"VLOOKUP($AA676,DATA!$B$3:$E676,2,0)","v":"14:30:00"},{"$f":"VLOOKUP($AA676,DATA!$B$3:$E676,3,0)","v":"22:30:00"},{"$f":"VLOOKUP($AA676,DATA!$B$3:$E676,4,0)","v":3.125E-2},0.30208333333333337,0.30208333333333337,{"$f":"DATA!$C$9","v":0.89},{"$f":"DATA!$C$10","v":64},1,407.81250000000006,407.81250000000006,0,"","",0,"","",0,"","","","",null,{"$f":"X667","v":32},null,{"$f":"TEXT(Y675,\"ddd\")","v":"zo"},"MD",{"$f":"IFERROR(HLOOKUP(Y675,[1]DATA!$A$1:$NB$5,4,0),\"\")","v":"-"},null,null,null,null,{"$f":"VLOOKUP(Y675,[1]SRM!$S$4:$AA$368,7,0)","v":0},"","",""]
["32zoZND",{"$f":"VLOOKUP($AA677,DATA!$B$3:$E677,2,0)","v":"00:00:00"},{"$f":"VLOOKUP($AA677,DATA!$B$3:$E677,3,0)","v":"00:00:00"},{"$f":"VLOOKUP($AA677,DATA!$B$3:$E677,4,0)","v":0},0,0,{"$f":"DATA!$C$9","v":0.89},{"$f":"DATA!$C$10","v":64},1,0,0,0,"","",0,"","",0,"","","","",null,{"$f":"X667","v":32},null,{"$f":"TEXT(Y675,\"ddd\")","v":"zo"},"ZND",{"$f":"IFERROR(HLOOKUP(Y675,[1]DATA!$A$1:$NB$5,5,0),\"\")","v":"-"},null,null,null,null,{"$f":"VLOOKUP(Y675,[1]SRM!$S$4:$AA$368,8,0)","v":0},"","",""]
["33maDD",{"$f":"VLOOKUP($AA678,DATA!$B$3:$E678,2,0)","v":"06:30:00"},{"$f":"VLOOKUP($AA678,DATA!$B$3:$E678,3,0)","v":"14:30:00"},{"$f":"VLOOKUP($AA678,DATA!$B$3:$E678,4,0)","v":3.125E-2},0.30208333333333331,0.26041666666666663,{"$f":"DATA!$C$9","v":0.89},{"$f":"DATA!$C$10","v":64},1,351.56249999999994,407.8125,4.1666666666666664E-2,56.25,0.13793103448275862,{"$f":"TIME(INT($AD678/60),INT(MOD($AD678,60)/1),0)","v":0},"","",295.46666666666664,248,"",248,"",null,{"$f":"X688","v":33},"2018-08-13",{"$f":"TEXT(Y678,\"ddd\")","v":"ma"},"DD",{"$f":"IFERROR(HLOOKUP(Y678,[1]DATA!$A$1:$NB$5,3,0),\"\")","v":"D2"},60,null,29,277,{"$f":"VLOOKUP(Y678,[1]SRM!$S$4:$AA$368,6,0)","v":60},-103.56249999999994,0.60812260536398466,0.8312078019504876,{"$f":"IF(SUMIF(S678:S698,\">0\",K678:K698)=0,\"\",SUMIF(S678:S698,\">0\",K678:K698))","v":6117.1875},{"$f":"IF(SUM(S678:S698)=0,\"\",SUM(S678:S698))","v":3850},{"$f":"IFERROR(AL678/AK678,\"-\")","v":0.62937420178799486},{"$f":"IF(SUM(M678:M698)=0,\"0\",SUM(M678:M698))","v":781.875},{"$f":"IFERROR(AN678/AK678,\"-\")","v":0.12781609195402299},{"$f":"IF(SUM(P678:P698)=0,0,SUM(P678:P698))","v":0},{"$f":"IFERROR(AP678/AK678,\"-\")","v":0},{"$f":"IFERROR(AVERAGE(AJ678:AJ698),\"-\")","v":0.96137013624398304},{"$f":"IFERROR(SUMIF($AB678:$AB698,AS$5,$AJ678:$AJ698)/COUNTIFS($AB678:$AB698,AS$5,$AJ678:$AJ698,\">0\"),\"\")","v":0.96095374714605952},0.93646458593802862,0.99158990788946733,{"$f":"IFERROR((AK678-AL678-AN678-AP678),\"-\")","v":1485.3125},{"$f":"IFERROR((1-AM678-AO678-AQ678), \"-\")","v":0.24280970625798215},{"$f":"IFERROR((AV678*$AE$2)/60,\"-\")","v":1584.3333333333333},{"$f":"IFERROR(SUM(AG678:AG698),\"\")","v":206}]
["33maMD",{"$f":"VLOOKUP($AA679,DATA!$B$3:$E679,2,0)","v":"14:30:00"},{"$f":"VLOOKUP($AA679,DATA!$B$3:$E679,3,0)","v":"22:30:00"},{"$f":"VLOOKUP($AA679,DATA!$B$3:$E679,4,0)","v":3.125E-2},0.30208333333333337,0.2902777777777778,{"$f":"DATA!$C$9","v":0.89},{"$f":"DATA!$C$10","v":64},1,391.87500000000006,407.81250000000006,1.1805555555555555E-2,15.9375,3.9080459770114935E-2,{"$f":"TIME(INT(AD679/60),INT(MOD(AD679,60)/1),0)","v":0},"","",343.46666666666664,296,296,"","",null,{"$f":"X688","v":33},null,{"$f":"TEXT(Y678,\"ddd\")","v":"ma"},"MD",{"$f":"IFERROR(HLOOKUP(Y678,[1]DATA!$A$1:$NB$5,4,0),\"\")","v":"D1"},17,null,26,322,{"$f":"VLOOKUP(Y678,[1]SRM!$S$4:$AA$368,7,0)","v":60},-95.875000000000057,0.72582375478927197,0.85128883013879708]
["33maND",{"$f":"VLOOKUP($AA680,DATA!$B$3:$E680,2,0)","v":"22:30:00"},{"$f":"VLOOKUP($AA680,DATA!$B$3:$E680,3,0)","v":"06:30:00"},{"$f":"VLOOKUP($AA680,DATA!$B$3:$E680,4,0)","v":3.125E-2},0.30208333333333326,0.2715277777777777,{"$f":"DATA!$C$9","v":0.89},{"$f":"DATA!$C$10","v":64},1,366.56249999999989,407.81249999999989,3.0555555555555555E-2,41.25,0.10114942528735635,0,"","",318.93333333333334,285,"","",285,null,{"$f":"X688","v":33},null,{"$f":"TEXT(Y678,\"ddd\")","v":"ma"},"ND",{"$f":"IFERROR(HLOOKUP(Y678,[1]DATA!$A$1:$NB$5,5,0),\"\")","v":"D3"},44,null,14,299,{"$f":"VLOOKUP(Y678,[1]SRM!$S$4:$AA$368,8,0)","v":14},-81.562499999999886,0.69885057471264389,0.95794953944733685]
["33diDD",{"$f":"VLOOKUP($AA681,DATA!$B$3:$E681,2,0)","v":"06:30:00"},{"$f":"VLOOKUP($AA681,DATA!$B$3:$E681,3,0)","v":"14:30:00"},{"$f":"VLOOKUP($AA681,DATA!$B$3:$E681,4,0)","v":3.125E-2},0.30208333333333331,0.26597222222222222,{"$f":"DATA!$C$9","v":0.89},{"$f":"DATA!$C$10","v":64},1,359.0625,407.8125,3.6111111111111115E-2,48.750000000000007,0.11954022988505748,0,"","",307.2,274,"",274,"",null,{"$f":"X688","v":33},"2018-08-14",{"$f":"TEXT(Y681,\"ddd\")","v":"di"},"DD",{"$f":"IFERROR(HLOOKUP(Y681,[1]DATA!$A$1:$NB$5,3,0),\"\")","v":"D2"},52,null,14,288,{"$f":"VLOOKUP(Y681,[1]SRM!$S$4:$AA$368,6,0)","v":17},-85.0625,0.67187739463601537,0.94756323257248609]
["33diMD",{"$f":"VLOOKUP($AA682,DATA!$B$3:$E682,2,0)","v":"14:30:00"},{"$f":"VLOOKUP($AA682,DATA!$B$3:$E682,3,0)","v":"22:30:00"},{"$f":"VLOOKUP($AA682,DATA!$B$3:$E682,4,0)","v":3.125E-2},0.30208333333333337,0.27083333333333337,{"$f":"DATA!$C$9","v":0.89},{"$f":"DATA!$C$10","v":64},1,365.62500000000006,407.81250000000006,3.125E-2,42.1875,0.10344827586206895,0,"","",265.60000000000002,234,234,"","",null,{"$f":"X688","v":33},null,{"$f":"TEXT(Y681,\"ddd\")","v":"di"},"MD",{"$f":"IFERROR(HLOOKUP(Y681,[1]DATA!$A$1:$NB$5,4,0),\"\")","v":"D1"},45,null,15,249,{"$f":"VLOOKUP(Y681,[1]SRM!$S$4:$AA$368,7,0)","v":2},-131.62500000000006,0.57379310344827583,0.99252615844544101]
["33diND",{"$f":"VLOOKUP($AA683,DATA!$B$3:$E683,2,0)","v":"22:30:00"},{"$f":"VLOOKUP($AA683,DATA!$B$3:$E683,3,0)","v":"06:30:00"},{"$f":"VLOOKUP($AA683,DATA!$B$3:$E683,4,0)","v":3.125E-2},0.30208333333333326,0.2631944444444444,{"$f":"DATA!$C$9","v":0.89},{"$f":"DATA!$C$10","v":64},1,355.31249999999994,407.81249999999989,3.888888888888889E-2,52.5,0.12873563218390807,0,"","",277.33333333333331,245,"","",245,null,{"$f":"X688","v":33},null,{"$f":"TEXT(Y681,\"ddd\")","v":"di"},"ND",{"$f":"IFERROR(HLOOKUP(Y681,[1]DATA!$A$1:$NB$5,5,0),\"\")","v":"D3"},56,null,15,260,{"$f":"VLOOKUP(Y681,[1]SRM!$S$4:$AA$368,8,0)","v":0},-110.31249999999994,0.60076628352490435,1]
["33woDD",{"$f":"VLOOKUP($AA684,DATA!$B$3:$E684,2,0)","v":"06:30:00"},{"$f":"VLOOKUP($AA684,DATA!$B$3:$E684,3,0)","v":"14:30:00"},{"$f":"VLOOKUP($AA684,DATA!$B$3:$E684,4,0)","v":3.125E-2},0.30208333333333331,0.2631944444444444,{"$f":"DATA!$C$9","v":0.89},{"$f":"DATA!$C$10","v":64},1,355.31249999999994,407.8125,3.888888888888889E-2,52.5,0.12873563218390804,0,"","",274.13333333333333,244,"",244,"",null,{"$f":"X688","v":33},"2018-08-15",{"$f":"TEXT(Y684,\"ddd\")","v":"wo"},"DD",{"$f":"IFERROR(HLOOKUP(Y684,[1]DATA!$A$1:$NB$5,3,0),\"\")","v":"D2"},56,null,13,257,{"$f":"VLOOKUP(Y684,[1]SRM!$S$4:$AA$368,6,0)","v":13},-111.31249999999994,0.59831417624521077,0.9547248664964012]
["33woMD",{"$f":"VLOOKUP($AA685,DATA!$B$3:$E685,2,0)","v":"14:30:00"},{"$f":"VLOOKUP($AA685,DATA!$B$3:$E685,3,0)","v":"22:30:00"},{"$f":"VLOOKUP($AA685,DATA!$B$3:$E685,4,0)","v":3.125E-2},0.30208333333333337,0.24722222222222226,{"$f":"DATA!$C$9","v":0.89},{"$f":"DATA!$C$10","v":64},1,333.75000000000006,407.81250000000006,5.486111111111111E-2,74.0625,0.18160919540229883,0,"","",0,-24,-24,"","",null,{"$f":"X688","v":33},null,{"$f":"TEXT(Y684,\"ddd\")","v":"wo"},"MD",{"$f":"IFERROR(HLOOKUP(Y684,[1]DATA!$A$1:$NB$5,4,0),\"\")","v":"D1"},79,null,24,null,{"$f":"VLOOKUP(Y684,[1]SRM!$S$4:$AA$368,7,0)","v":0},-357.75000000000006,"",""]
["33woND",{"$f":"VLOOKUP($AA686,DATA!$B$3:$E686,2,0)","v":"22:30:00"},{"$f":"VLOOKUP($AA686,DATA!$B$3:$E686,3,0)","v":"06:30:00"},{"$f":"VLOOKUP($AA686,DATA!$B$3:$E686,4,0)","v":3.125E-2},0.30208333333333326,0.24722222222222215,{"$f":"DATA!$C$9","v":0.89},{"$f":"DATA!$C$10","v":64},1,333.74999999999989,407.81249999999989,5.486111111111111E-2,74.0625,0.18160919540229889,0,"","",347.73333333333335,308,"","",308,null,{"$f":"X688","v":33},null,{"$f":"TEXT(Y684,\"ddd\")","v":"wo"},"ND",{"$f":"IFERROR(HLOOKUP(Y684,[1]DATA!$A$1:$NB$5,5,0),\"\")","v":"D3"},79,null,18,326,{"$f":"VLOOKUP(Y684,[1]SRM!$S$4:$AA$368,8,0)","v":0},-25.749999999999886,0.75524904214559407,1,null,null,null,null,null,null,null,null,null,null,null,null,null,null,null,79]
["33doDD",{"$f":"VLOOKUP($AA687,DATA!$B$3:$E687,2,0)","v":"06:30:00"},{"$f":"VLOOKUP($AA687,DATA!$B$3:$E687,3,0)","v":"14:30:00"},{"$f":"VLOOKUP($AA687,DATA!$B$3:$E687,4,0)","v":3.125E-2},0.30208333333333331,0.28749999999999998,{"$f":"DATA!$C$9","v":0.89},{"$f":"DATA!$C$10","v":64},1,388.12499999999994,407.8125,1.4583333333333332E-2,19.687499999999996,4.827586206896551E-2,0,"","",231.46666666666667,206,"",206,"",null,{"$f":"X688","v":33},"2018-08-16",{"$f":"TEXT(Y687,\"ddd\")","v":"do"},"DD",{"$f":"IFERROR(HLOOKUP(Y687,[1]DATA!$A$1:$NB$5,3,0),\"\")","v":"D2"},21,null,11,217,{"$f":"VLOOKUP(Y687,[1]SRM!$S$4:$AA$368,6,0)","v":8},-182.12499999999994,0.50513409961685829,0.96659242761692654]
[{"$f":"X688&Z688&AA688","v":"33doMD"},{"$f":"VLOOKUP($AA688,DATA!$B$3:$E688,2,0)","v":"14:30:00"},{"$f":"VLOOKUP($AA688,DATA!$B$3:$E688,3,0)","v":"22:30:00"},{"$f":"VLOOKUP($AA688,DATA!$B$3:$E688,4,0)","v":3.125E-2},0.30208333333333337,0.22916666666666669,{"$f":"DATA!$C$9","v":0.89},{"$f":"DATA!$C$10","v":64},1,309.375,407.81250000000006,7.2916666666666671E-2,98.4375,0.24137931034482754,0,{"$f":"IF($O688*86400/$H688=0,\"\",$O688*86400/$H688)","v":""},"",310.39999999999998,279,279,"","",null,{"$f":"WEEKNUM($Y678)","v":33},null,{"$f":"TEXT(Y687,\"ddd\")","v":"do"},"MD",{"$f":"IFERROR(HLOOKUP(Y687,[1]DATA!$A$1:$NB$5,4,0),\"\")","v":"D1"},105,null,12,291,{"$f":"VLOOKUP(Y687,[1]SRM!$S$4:$AA$368,7,0)","v":0},-30.375,0.68413793103448262,1]
["33doND",{"$f":"VLOOKUP($AA689,DATA!$B$3:$E689,2,0)","v":"22:30:00"},{"$f":"VLOOKUP($AA689,DATA!$B$3:$E689,3,0)","v":"06:30:00"},{"$f":"VLOOKUP($AA689,DATA!$B$3:$E689,4,0)","v":3.125E-2},0.30208333333333326,0.24999999999999992,{"$f":"DATA!$C$9","v":0.89},{"$f":"DATA!$C$10","v":64},1,337.49999999999989,407.81249999999989,5.2083333333333336E-2,70.3125,0.17241379310344832,0,"","",304,259,"","",259,null,{"$f":"X688","v":33},null,{"$f":"TEXT(Y687,\"ddd\")","v":"do"},"ND",{"$f":"IFERROR(HLOOKUP(Y687,[1]DATA!$A$1:$NB$5,5,0),\"\")","v":"D3"},75,null,26,285,{"$f":"VLOOKUP(Y687,[1]SRM!$S$4:$AA$368,8,0)","v":0},-78.499999999999886,0.63509578544061318,1]
["33vrDD",{"$f":"VLOOKUP($AA690,DATA!$B$3:$E690,2,0)","v":"06:30:00"},{"$f":"VLOOKUP($AA690,DATA!$B$3:$E690,3,0)","v":"14:30:00"},{"$f":"VLOOKUP($AA690,DATA!$B$3:$E690,4,0)","v":3.125E-2},0.30208333333333331,0.29791666666666666,{"$f":"DATA!$C$9","v":0.89},{"$f":"DATA!$C$10","v":64},1,402.1875,407.8125,4.1666666666666666E-3,5.625,1.3793103448275862E-2,0,"","",361.6,306,"",306,"",null,{"$f":"X688","v":33},"2018-08-17",{"$f":"TEXT(Y690,\"ddd\")","v":"vr"},"DD",{"$f":"IFERROR(HLOOKUP(Y690,[1]DATA!$A$1:$NB$5,3,0),\"\")","v":"D2"},6,null,33,339,{"$f":"VLOOKUP(Y690,[1]SRM!$S$4:$AA$368,6,0)","v":32},-96.1875,0.75034482758620691,0.91869918699186992]
["33vrMD",{"$f":"VLOOKUP($AA691,DATA!$B$3:$E691,2,0)","v":"14:30:00"},{"$f":"VLOOKUP($AA691,DATA!$B$3:$E691,3,0)","v":"22:30:00"},{"$f":"VLOOKUP($AA691,DATA!$B$3:$E691,4,0)","v":3.125E-2},0.30208333333333337,0.26527777777777783,{"$f":"DATA!$C$9","v":0.89},{"$f":"DATA!$C$10","v":64},1,358.12500000000006,407.81250000000006,3.6805555555555557E-2,49.6875,0.1218390804597701,0,"","",232.53333333333333,200,200,"","",null,{"$f":"X688","v":33},null,{"$f":"TEXT(Y690,\"ddd\")","v":"vr"},"MD",{"$f":"IFERROR(HLOOKUP(Y690,[1]DATA!$A$1:$NB$5,4,0),\"\")","v":"D1"},53,null,18,218,{"$f":"VLOOKUP(Y690,[1]SRM!$S$4:$AA$368,7,0)","v":0},-158.12500000000006,0.49042145593869724,1]
["33vrND",{"$f":"VLOOKUP($AA692,DATA!$B$3:$E692,2,0)","v":"22:30:00"},{"$f":"VLOOKUP($AA692,DATA!$B$3:$E692,3,0)","v":"06:30:00"},{"$f":"VLOOKUP($AA692,DATA!$B$3:$E692,4,0)","v":3.125E-2},0.30208333333333326,0.28263888888888883,{"$f":"DATA!$C$9","v":0.89},{"$f":"DATA!$C$10","v":64},1,381.56249999999994,407.81249999999989,1.9444444444444445E-2,26.25,6.4367816091954036E-2,0,"","",132.26666666666665,115,"","",115,null,{"$f":"X688","v":33},null,{"$f":"TEXT(Y690,\"ddd\")","v":"vr"},"ND",{"$f":"IFERROR(HLOOKUP(Y690,[1]DATA!$A$1:$NB$5,5,0),\"\")","v":"D3"},28,null,9,124,{"$f":"VLOOKUP(Y690,[1]SRM!$S$4:$AA$368,8,0)","v":0},-266.56249999999994,0.28199233716475103,1]
["33zaDD",{"$f":"VLOOKUP($AA693,DATA!$B$3:$E693,2,0)","v":"06:30:00"},{"$f":"VLOOKUP($AA693,DATA!$B$3:$E693,3,0)","v":"14:30:00"},{"$f":"VLOOKUP($AA693,DATA!$B$3:$E693,4,0)","v":3.125E-2},0.30208333333333331,0.26180555555555551,{"$f":"DATA!$C$9","v":0.89},{"$f":"DATA!$C$10","v":64},1,353.43749999999994,407.8125,4.027777777777778E-2,54.375,0.13333333333333333,0,"","",440.5333333333333,375,"",375,"",null,{"$f":"X688","v":33},"2018-08-18",{"$f":"TEXT(Y693,\"ddd\")","v":"za"},"DD",{"$f":"IFERROR(HLOOKUP(Y693,[1]DATA!$A$1:$NB$5,3,0),\"\")","v":"D2"},58,null,38,413,{"$f":"VLOOKUP(Y693,[1]SRM!$S$4:$AA$368,6,0)","v":0},21.562500000000057,0.91954022988505746,1]
["33zaMD",{"$f":"VLOOKUP($AA694,DATA!$B$3:$E694,2,0)","v":"14:30:00"},{"$f":"VLOOKUP($AA694,DATA!$B$3:$E694,3,0)","v":"22:30:00"},{"$f":"VLOOKUP($AA694,DATA!$B$3:$E694,4,0)","v":3.125E-2},0.30208333333333337,0.30208333333333337,{"$f":"DATA!$C$9","v":0.89},{"$f":"DATA!$C$10","v":64},1,407.81250000000006,407.81250000000006,0,"","",0,"","",0,"","","","",null,{"$f":"X688","v":33},null,{"$f":"TEXT(Y693,\"ddd\")","v":"za"},"MD",{"$f":"IFERROR(HLOOKUP(Y693,[1]DATA!$A$1:$NB$5,4,0),\"\")","v":"-"},null,null,null,null,{"$f":"VLOOKUP(Y693,[1]SRM!$S$4:$AA$368,7,0)","v":0},"","",""]
["33zaND",{"$f":"VLOOKUP($AA695,DATA!$B$3:$E695,2,0)","v":"22:30:00"},{"$f":"VLOOKUP($AA695,DATA!$B$3:$E695,3,0)","v":"06:30:00"},{"$f":"VLOOKUP($AA695,DATA!$B$3:$E695,4,0)","v":3.125E-2},0.30208333333333326,0.30208333333333326,{"$f":"DATA!$C$9","v":0.89},{"$f":"DATA!$C$10","v":64},1,407.81249999999989,407.81249999999989,0,"","",0,"","",0,"","","","",null,{"$f":"X688","v":33},null,{"$f":"TEXT(Y693,\"ddd\")","v":"za"},"ND",{"$f":"IFERROR(HLOOKUP(Y693,[1]DATA!$A$1:$NB$5,5,0),\"\")","v":"-"},null,null,null,null,{"$f":"VLOOKUP(Y693,[1]SRM!$S$4:$AA$368,8,0)","v":0},"","",""]
["33zoDD",{"$f":"VLOOKUP($AA696,DATA!$B$3:$E696,2,0)","v":"06:30:00"},{"$f":"VLOOKUP($AA696,DATA!$B$3:$E696,3,0)","v":"14:30:00"},{"$f":"VLOOKUP($AA696,DATA!$B$3:$E696,4,0)","v":3.125E-2},0.30208333333333331,0.30208333333333331,{"$f":"DATA!$C$9","v":0.89},{"$f":"DATA!$C$10","v":64},1,407.8125,407.8125,0,"","",0,"","",0,"","","","",null,{"$f":"X688","v":33},{"$f":"Y693+1","v":"2018-08-19"},{"$f":"TEXT(Y696,\"ddd\")","v":"zo"},"DD",{"$f":"IFERROR(HLOOKUP(Y696,[1]DATA!$A$1:$NB$5,3,0),\"\")","v":"-"},null,null,null,null,{"$f":"VLOOKUP(Y696,[1]SRM!$S$4:$AA$368,6,0)","v":0},"","",""]
["33zoMD",{"$f":"VLOOKUP($AA697,DATA!$B$3:$E697,2,0)","v":"14:30:00"},{"$f":"VLOOKUP($AA697,DATA!$B$3:$E697,3,0)","v":"22:30:00"},{"$f":"VLOOKUP($AA697,DATA!$B$3:$E697,4,0)","v":3.125E-2},0.30208333333333337,0.30208333333333337,{"$f":"DATA!$C$9","v":0.89},{"$f":"DATA!$C$10","v":64},1,407.81250000000006,407.81250000000006,0,"","",0,"","",0,"","","","",null,{"$f":"X688","v":33},null,{"$f":"TEXT(Y696,\"ddd\")","v":"zo"},"MD",{"$f":"IFERROR(HLOOKUP(Y696,[1]DATA!$A$1:$NB$5,4,0),\"\")","v":"-"},null,null,null,null,{"$f":"VLOOKUP(Y696,[1]SRM!$S$4:$AA$368,7,0)","v":0},"","",""]
["33zoZND",{"$f":"VLOOKUP($AA698,DATA!$B$3:$E698,2,0)","v":"00:00:00"},{"$f":"VLOOKUP($AA698,DATA!$B$3:$E698,3,0)","v":"00:00:00"},{"$f":"VLOOKUP($AA698,DATA!$B$3:$E698,4,0)","v":0},0,0,{"$f":"DATA!$C$9","v":0.89},{"$f":"DATA!$C$10","v":64},1,0,0,0,"","",0,"","",0,"","","","",null,{"$f":"X688","v":33},null,{"$f":"TEXT(Y696,\"ddd\")","v":"zo"},"ZND",{"$f":"IFERROR(HLOOKUP(Y696,[1]DATA!$A$1:$NB$5,5,0),\"\")","v":"-"},null,null,null,null,{"$f":"VLOOKUP(Y696,[1]SRM!$S$4:$AA$368,8,0)","v":0},"","",""]
["34maDD",{"$f":"VLOOKUP($AA699,DATA!$B$3:$E699,2,0)","v":"06:30:00"},{"$f":"VLOOKUP($AA699,DATA!$B$3:$E699,3,0)","v":"14:30:00"},{"$f":"VLOOKUP($AA699,DATA!$B$3:$E699,4,0)","v":3.125E-2},0.30208333333333331,0.27499999999999997,{"$f":"DATA!$C$9","v":0.89},{"$f":"DATA!$C$10","v":64},1,371.24999999999994,407.8125,2.7083333333333334E-2,36.5625,8.9655172413793102E-2,{"$f":"TIME(INT($AD699/60),INT(MOD($AD699,60)/1),0)","v":0},"","",309.33333333333331,290,290,"","",null,{"$f":"X709","v":34},"2018-08-20",{"$f":"TEXT(Y699,\"ddd\")","v":"ma"},"DD",{"$f":"IFERROR(HLOOKUP(Y699,[1]DATA!$A$1:$NB$5,3,0),\"\")","v":"D1"},39,null,null,290,{"$f":"VLOOKUP(Y699,[1]SRM!$S$4:$AA$368,6,0)","v":4},-81.249999999999943,0.71111111111111114,0.98723404255319147,{"$f":"IF(SUMIF(S699:S719,\">0\",K699:K719)=0,\"\",SUMIF(S699:S719,\">0\",K699:K719))","v":6117.1875},{"$f":"IF(SUM(S699:S719)=0,\"\",SUM(S699:S719))","v":4695},{"$f":"IFERROR(AL699/AK699,\"-\")","v":0.76750957854406132},{"$f":"IF(SUM(M699:M719)=0,\"0\",SUM(M699:M719))","v":555.9375},{"$f":"IFERROR(AN699/AK699,\"-\")","v":9.0881226053639852E-2},{"$f":"IF(SUM(P699:P719)=0,0,SUM(P699:P719))","v":0},{"$f":"IFERROR(AP699/AK699,\"-\")","v":0},0.91753871322665526,{"$f":"IFERROR(SUMIF($AB699:$AB719,AS$5,$AJ699:$AJ719)/COUNTIFS($AB699:$AB719,AS$5,$AJ699:$AJ719,\">0\"),\"\")","v":0.95406331354802165},0.92600244154681821,0.87255038458512613,{"$f":"IFERROR((AK699-AL699-AN699-AP699),\"-\")","v":866.25},{"$f":"IFERROR((1-AM699-AO699-AQ699), \"-\")","v":0.14160919540229883},{"$f":"IFERROR((AV699*$AE$2)/60,\"-\")","v":924},{"$f":"IFERROR(SUM(AG699:AG719),\"\")","v":461}]
["34maMD",{"$f":"VLOOKUP($AA700,DATA!$B$3:$E700,2,0)","v":"14:30:00"},{"$f":"VLOOKUP($AA700,DATA!$B$3:$E700,3,0)","v":"22:30:00"},{"$f":"VLOOKUP($AA700,DATA!$B$3:$E700,4,0)","v":3.125E-2},0.30208333333333337,0.27638888888888891,{"$f":"DATA!$C$9","v":0.89},{"$f":"DATA!$C$10","v":64},1,373.125,407.81250000000006,2.5694444444444447E-2,34.6875,8.5057471264367801E-2,{"$f":"TIME(INT(AD700/60),INT(MOD(AD700,60)/1),0)","v":0},"","",341.33333333333331,320,"","",320,null,{"$f":"X709","v":34},null,{"$f":"TEXT(Y699,\"ddd\")","v":"ma"},"MD",{"$f":"IFERROR(HLOOKUP(Y699,[1]DATA!$A$1:$NB$5,4,0),\"\")","v":"D3"},37,null,null,320,{"$f":"VLOOKUP(Y699,[1]SRM!$S$4:$AA$368,7,0)","v":42},-53.125,0.78467432950191562,0.89043478260869569]
["34maND",{"$f":"VLOOKUP($AA701,DATA!$B$3:$E701,2,0)","v":"22:30:00"},{"$f":"VLOOKUP($AA701,DATA!$B$3:$E701,3,0)","v":"06:30:00"},{"$f":"VLOOKUP($AA701,DATA!$B$3:$E701,4,0)","v":3.125E-2},0.30208333333333326,0.25833333333333325,{"$f":"DATA!$C$9","v":0.89},{"$f":"DATA!$C$10","v":64},1,348.74999999999989,407.81249999999989,4.3750000000000004E-2,59.062500000000007,0.14482758620689662,0,"","",226.13333333333333,212,"",212,"",null,{"$f":"X709","v":34},null,{"$f":"TEXT(Y699,\"ddd\")","v":"ma"},"ND",{"$f":"IFERROR(HLOOKUP(Y699,[1]DATA!$A$1:$NB$5,5,0),\"\")","v":"D2"},63,null,null,212,{"$f":"VLOOKUP(Y699,[1]SRM!$S$4:$AA$368,8,0)","v":45},-136.74999999999989,0.51984674329501934,0.83402999754118512]
["34diDD",{"$f":"VLOOKUP($AA702,DATA!$B$3:$E702,2,0)","v":"06:30:00"},{"$f":"VLOOKUP($AA702,DATA!$B$3:$E702,3,0)","v":"14:30:00"},{"$f":"VLOOKUP($AA702,DATA!$B$3:$E702,4,0)","v":3.125E-2},0.30208333333333331,0.27499999999999997,{"$f":"DATA!$C$9","v":0.89},{"$f":"DATA!$C$10","v":64},1,371.24999999999994,407.8125,2.7083333333333334E-2,36.5625,8.9655172413793102E-2,0,"","",344.5333333333333,323,323,"","",null,{"$f":"X709","v":34},"2018-08-21",{"$f":"TEXT(Y702,\"ddd\")","v":"di"},"DD",{"$f":"IFERROR(HLOOKUP(Y702,[1]DATA!$A$1:$NB$5,3,0),\"\")","v":"D1"},39,null,null,323,{"$f":"VLOOKUP(Y702,[1]SRM!$S$4:$AA$368,6,0)","v":10},-48.249999999999943,0.79203065134099615,0.97179390748401651]
["34diMD",{"$f":"VLOOKUP($AA703,DATA!$B$3:$E703,2,0)","v":"14:30:00"},{"$f":"VLOOKUP($AA703,DATA!$B$3:$E703,3,0)","v":"22:30:00"},{"$f":"VLOOKUP($AA703,DATA!$B$3:$E703,4,0)","v":3.125E-2},0.30208333333333337,0.28819444444444448,{"$f":"DATA!$C$9","v":0.89},{"$f":"DATA!$C$10","v":64},1,389.06250000000006,407.81250000000006,1.3888888888888888E-2,18.75,4.5977011494252866E-2,0,"","",334.93333333333334,314,"","",314,null,{"$f":"X709","v":34},null,{"$f":"TEXT(Y702,\"ddd\")","v":"di"},"MD",{"$f":"IFERROR(HLOOKUP(Y702,[1]DATA!$A$1:$NB$5,4,0),\"\")","v":"D3"},20,null,null,314,{"$f":"VLOOKUP(Y702,[1]SRM!$S$4:$AA$368,7,0)","v":25},-75.062500000000057,0.76996168582375468,0.93054269309131321]
["34diND",{"$f":"VLOOKUP($AA704,DATA!$B$3:$E704,2,0)","v":"22:30:00"},{"$f":"VLOOKUP($AA704,DATA!$B$3:$E704,3,0)","v":"06:30:00"},{"$f":"VLOOKUP($AA704,DATA!$B$3:$E704,4,0)","v":3.125E-2},0.30208333333333326,0.24861111111111103,{"$f":"DATA!$C$9","v":0.89},{"$f":"DATA!$C$10","v":64},1,335.62499999999989,407.81249999999989,5.347222222222222E-2,72.1875,0.1770114942528736,0,"","",353.06666666666666,331,"",331,"",null,{"$f":"X709","v":34},null,{"$f":"TEXT(Y702,\"ddd\")","v":"di"},"ND",{"$f":"IFERROR(HLOOKUP(Y702,[1]DATA!$A$1:$NB$5,5,0),\"\")","v":"D2"},77,null,null,331,{"$f":"VLOOKUP(Y702,[1]SRM!$S$4:$AA$368,8,0)","v":13},-4.6249999999998863,0.81164750957854426,0.964487342924786]
["34woDD",{"$f":"VLOOKUP($AA705,DATA!$B$3:$E705,2,0)","v":"06:30:00"},{"$f":"VLOOKUP($AA705,DATA!$B$3:$E705,3,0)","v":"14:30:00"},{"$f":"VLOOKUP($AA705,DATA!$B$3:$E705,4,0)","v":3.125E-2},0.30208333333333331,0.30208333333333331,{"$f":"DATA!$C$9","v":0.89},{"$f":"DATA!$C$10","v":64},1,407.8125,407.8125,0,"","",0,"","",388.26666666666665,364,364,"","",null,{"$f":"X709","v":34},"2018-08-22",{"$f":"TEXT(Y705,\"ddd\")","v":"wo"},"DD",{"$f":"IFERROR(HLOOKUP(Y705,[1]DATA!$A$1:$NB$5,3,0),\"\")","v":"D1"},0,null,null,364,{"$f":"VLOOKUP(Y705,[1]SRM!$S$4:$AA$368,6,0)","v":15},-43.8125,0.89256704980842916,0.96280376921805255]
["34woMD",{"$f":"VLOOKUP($AA706,DATA!$B$3:$E706,2,0)","v":"14:30:00"},{"$f":"VLOOKUP($AA706,DATA!$B$3:$E706,3,0)","v":"22:30:00"},{"$f":"VLOOKUP($AA706,DATA!$B$3:$E706,4,0)","v":3.125E-2},0.30208333333333337,0.27222222222222225,{"$f":"DATA!$C$9","v":0.89},{"$f":"DATA!$C$10","v":64},1,367.50000000000006,407.81250000000006,2.9861111111111113E-2,40.3125,9.8850574712643663E-2,0,"","",285.86666666666667,268,"","",268,null,{"$f":"X709","v":34},null,{"$f":"TEXT(Y705,\"ddd\")","v":"wo"},"MD",{"$f":"IFERROR(HLOOKUP(Y705,[1]DATA!$A$1:$NB$5,4,0),\"\")","v":"D3"},43,null,null,268,{"$f":"VLOOKUP(Y705,[1]SRM!$S$4:$AA$368,7,0)","v":40},-99.500000000000057,0.65716475095785432,0.87725040916530284]
["34woND",{"$f":"VLOOKUP($AA707,DATA!$B$3:$E707,2,0)","v":"22:30:00"},{"$f":"VLOOKUP($AA707,DATA!$B$3:$E707,3,0)","v":"06:30:00"},{"$f":"VLOOKUP($AA707,DATA!$B$3:$E707,4,0)","v":3.125E-2},0.30208333333333326,0.22569444444444436,{"$f":"DATA!$C$9","v":0.89},{"$f":"DATA!$C$10","v":64},1,304.68749999999989,407.81249999999989,7.6388888888888895E-2,103.12500000000001,0.25287356321839088,0,"","",286.93333333333334,269,"",269,"",null,{"$f":"X709","v":34},null,{"$f":"TEXT(Y705,\"ddd\")","v":"wo"},"ND",{"$f":"IFERROR(HLOOKUP(Y705,[1]DATA!$A$1:$NB$5,5,0),\"\")","v":"D2"},110,null,null,269,{"$f":"VLOOKUP(Y705,[1]SRM!$S$4:$AA$368,8,0)","v":8},-35.687499999999886,0.65961685823754812,0.97287522603978305]
["34doDD",{"$f":"VLOOKUP($AA708,DATA!$B$3:$E708,2,0)","v":"06:30:00"},{"$f":"VLOOKUP($AA708,DATA!$B$3:$E708,3,0)","v":"14:30:00"},{"$f":"VLOOKUP($AA708,DATA!$B$3:$E708,4,0)","v":3.125E-2},0.30208333333333331,0.29374999999999996,{"$f":"DATA!$C$9","v":0.89},{"$f":"DATA!$C$10","v":64},1,396.56249999999994,407.8125,8.3333333333333332E-3,11.25,2.7586206896551724E-2,0,"","",336,315,315,"","",null,{"$f":"X709","v":34},"2018-08-23",{"$f":"TEXT(Y708,\"ddd\")","v":"do"},"DD",{"$f":"IFERROR(HLOOKUP(Y708,[1]DATA!$A$1:$NB$5,3,0),\"\")","v":"D1"},12,null,null,315,{"$f":"VLOOKUP(Y708,[1]SRM!$S$4:$AA$368,6,0)","v":60},-81.562499999999943,0.77241379310344827,0.84848484848484851]
["34doMD",{"$f":"VLOOKUP($AA709,DATA!$B$3:$E709,2,0)","v":"14:30:00"},{"$f":"VLOOKUP($AA709,DATA!$B$3:$E709,3,0)","v":"22:30:00"},{"$f":"VLOOKUP($AA709,DATA!$B$3:$E709,4,0)","v":3.125E-2},0.30208333333333337,0.25625000000000003,{"$f":"DATA!$C$9","v":0.89},{"$f":"DATA!$C$10","v":64},1,345.93750000000006,407.81250000000006,4.5833333333333337E-2,61.875000000000007,0.15172413793103448,0,"","",324.26666666666665,304,"","",304,null,{"$f":"WEEKNUM($Y699)","v":34},null,{"$f":"TEXT(Y708,\"ddd\")","v":"do"},"MD",{"$f":"IFERROR(HLOOKUP(Y708,[1]DATA!$A$1:$NB$5,4,0),\"\")","v":"D3"},66,null,null,304,{"$f":"VLOOKUP(Y708,[1]SRM!$S$4:$AA$368,7,0)","v":58},-41.937500000000057,0.74544061302681985,0.8482734565748169]
["34doND",{"$f":"VLOOKUP($AA710,DATA!$B$3:$E710,2,0)","v":"22:30:00"},{"$f":"VLOOKUP($AA710,DATA!$B$3:$E710,3,0)","v":"06:30:00"},{"$f":"VLOOKUP($AA710,DATA!$B$3:$E710,4,0)","v":3.125E-2},0.30208333333333326,0.29583333333333328,{"$f":"DATA!$C$9","v":0.89},{"$f":"DATA!$C$10","v":64},1,399.37499999999994,407.81249999999989,6.2499999999999995E-3,8.4375,2.06896551724138E-2,0,"","",376.5333333333333,353,"",353,"",null,{"$f":"X709","v":34},null,{"$f":"TEXT(Y708,\"ddd\")","v":"do"},"ND",{"$f":"IFERROR(HLOOKUP(Y708,[1]DATA!$A$1:$NB$5,5,0),\"\")","v":"D2"},9,null,null,353,{"$f":"VLOOKUP(Y708,[1]SRM!$S$4:$AA$368,8,0)","v":62},{"$f":"IFERROR(S710-J710,\"\")","v":-46.374999999999943},{"$f":"IFERROR(IF(S710/(E710*86400/H710)<=0,\"\",S710/(E710*86400/H710)),\"\")","v":0.86559386973180097},0.85861964122833689]
["34vrDD",{"$f":"VLOOKUP($AA711,DATA!$B$3:$E711,2,0)","v":"06:30:00"},{"$f":"VLOOKUP($AA711,DATA!$B$3:$E711,3,0)","v":"14:30:00"},{"$f":"VLOOKUP($AA711,DATA!$B$3:$E711,4,0)","v":3.125E-2},0.30208333333333331,0.29374999999999996,{"$f":"DATA!$C$9","v":0.89},{"$f":"DATA!$C$10","v":64},1,396.56249999999994,407.8125,{"$f":"TIME(INT($AC711/60),INT(MOD($AC711,60)/1),0)","v":8.3333333333333332E-3},{"$f":"IF($L711*86400/$H711=0,\"\",$L711*86400/$H711)","v":11.25},{"$f":"IFERROR($M711/$K711,\"\")","v":2.7586206896551724E-2},0,"",{"$f":"IFERROR($P711/$K711,\"\")","v":""},402.13333333333333,377,{"$f":"IF(IF($AB711=\"D1\",$S711,\"\")=0,\"\",IF($AB711=\"D1\",$S711,\"\"))","v":377},{"$f":"IF(IF($AB711=\"D2\",$S711,\"\")=0,\"\",IF($AB711=\"D2\",$S711,\"\"))","v":""},{"$f":"IF(IF($AB711=\"D3\",$S711,\"\")=0,\"\",IF($AB711=\"D3\",$S711,\"\"))","v":""},null,{"$f":"X709","v":34},"2018-08-24",{"$f":"TEXT(Y711,\"ddd\")","v":"vr"},"DD",{"$f":"IFERROR(HLOOKUP(Y711,[1]DATA!$A$1:$NB$5,3,0),\"\")","v":"D1"},12,null,null,377,{"$f":"VLOOKUP(Y711,[1]SRM!$S$4:$AA$368,6,0)","v":0},-19.562499999999943,0.9244444444444444,1]
["34vrMD",{"$f":"VLOOKUP($AA712,DATA!$B$3:$E712,2,0)","v":"14:30:00"},{"$f":"VLOOKUP($AA712,DATA!$B$3:$E712,3,0)","v":"22:30:00"},{"$f":"VLOOKUP($AA712,DATA!$B$3:$E712,4,0)","v":3.125E-2},0.30208333333333337,0.27430555555555558,{"$f":"DATA!$C$9","v":0.89},{"$f":"DATA!$C$10","v":64},1,370.31250000000006,407.81250000000006,2.7777777777777776E-2,37.5,9.1954022988505732E-2,0,"","",350.93333333333334,329,"","",329,null,{"$f":"X709","v":34},null,{"$f":"TEXT(Y711,\"ddd\")","v":"vr"},"MD",{"$f":"IFERROR(HLOOKUP(Y711,[1]DATA!$A$1:$NB$5,4,0),\"\")","v":"D3"},40,null,null,329,{"$f":"VLOOKUP(Y711,[1]SRM!$S$4:$AA$368,7,0)","v":79},-41.312500000000057,0.80674329501915698,0.81625058148550167]
["34vrND",{"$f":"VLOOKUP($AA713,DATA!$B$3:$E713,2,0)","v":"22:30:00"},{"$f":"VLOOKUP($AA713,DATA!$B$3:$E713,3,0)","v":"06:30:00"},{"$f":"VLOOKUP($AA713,DATA!$B$3:$E713,4,0)","v":3.125E-2},0.30208333333333326,0.28402777777777771,{"$f":"DATA!$C$9","v":0.89},{"$f":"DATA!$C$10","v":64},1,383.43749999999989,407.81249999999989,1.8055555555555557E-2,24.375000000000004,5.9770114942528763E-2,0,"","",347.73333333333335,326,"",326,"",null,{"$f":"X709","v":34},null,{"$f":"TEXT(Y711,\"ddd\")","v":"vr"},"ND",{"$f":"IFERROR(HLOOKUP(Y711,[1]DATA!$A$1:$NB$5,5,0),\"\")","v":"D2"},26,null,null,326,{"$f":"VLOOKUP(Y711,[1]SRM!$S$4:$AA$368,8,0)","v":0},-57.437499999999886,0.7993869731800769,1]
["34zaDD",{"$f":"VLOOKUP($AA714,DATA!$B$3:$E714,2,0)","v":"06:30:00"},{"$f":"VLOOKUP($AA714,DATA!$B$3:$E714,3,0)","v":"14:30:00"},{"$f":"VLOOKUP($AA714,DATA!$B$3:$E714,4,0)","v":3.125E-2},0.30208333333333331,0.30208333333333331,{"$f":"DATA!$C$9","v":0.89},{"$f":"DATA!$C$10","v":64},1,407.8125,407.8125,0,"","",0,"","",0,"","","","",null,{"$f":"X709","v":34},"2018-08-25",{"$f":"TEXT(Y714,\"ddd\")","v":"za"},"DD",{"$f":"IFERROR(HLOOKUP(Y714,[1]DATA!$A$1:$NB$5,3,0),\"\")","v":"D1"},null,null,null,null,{"$f":"VLOOKUP(Y714,[1]SRM!$S$4:$AA$368,6,0)","v":0},"","",""]
["34zaMD",{"$f":"VLOOKUP($AA715,DATA!$B$3:$E715,2,0)","v":"14:30:00"},{"$f":"VLOOKUP($AA715,DATA!$B$3:$E715,3,0)","v":"22:30:00"},{"$f":"VLOOKUP($AA715,DATA!$B$3:$E715,4,0)","v":3.125E-2},0.30208333333333337,0.30208333333333337,{"$f":"DATA!$C$9","v":0.89},{"$f":"DATA!$C$10","v":64},1,407.81250000000006,407.81250000000006,0,"","",0,"","",0,"","","","",null,{"$f":"X709","v":34},null,{"$f":"TEXT(Y714,\"ddd\")","v":"za"},"MD",{"$f":"IFERROR(HLOOKUP(Y714,[1]DATA!$A$1:$NB$5,4,0),\"\")","v":"-"},null,null,null,null,{"$f":"VLOOKUP(Y714,[1]SRM!$S$4:$AA$368,7,0)","v":0},"","",""]
["34zaND",{"$f":"VLOOKUP($AA716,DATA!$B$3:$E716,2,0)","v":"22:30:00"},{"$f":"VLOOKUP($AA716,DATA!$B$3:$E716,3,0)","v":"06:30:00"},{"$f":"VLOOKUP($AA716,DATA!$B$3:$E716,4,0)","v":3.125E-2},0.30208333333333326,0.30208333333333326,{"$f":"DATA!$C$9","v":0.89},{"$f":"DATA!$C$10","v":64},1,407.81249999999989,407.81249999999989,0,"","",0,"","",0,"","","","",null,{"$f":"X709","v":34},null,{"$f":"TEXT(Y714,\"ddd\")","v":"za"},"ND",{"$f":"IFERROR(HLOOKUP(Y714,[1]DATA!$A$1:$NB$5,5,0),\"\")","v":"-"},null,null,null,null,{"$f":"VLOOKUP(Y714,[1]SRM!$S$4:$AA$368,8,0)","v":0},"","",""]
["34zoDD",{"$f":"VLOOKUP($AA717,DATA!$B$3:$E717,2,0)","v":"06:30:00"},{"$f":"VLOOKUP($AA717,DATA!$B$3:$E717,3,0)","v":"14:30:00"},{"$f":"VLOOKUP($AA717,DATA!$B$3:$E717,4,0)","v":3.125E-2},0.30208333333333331,0.30208333333333331,{"$f":"DATA!$C$9","v":0.89},{"$f":"DATA!$C$10","v":64},1,407.8125,407.8125,0,"","",0,"","",0,"","","","",null,{"$f":"X709","v":34},"2018-08-26",{"$f":"TEXT(Y717,\"ddd\")","v":"zo"},"DD",{"$f":"IFERROR(HLOOKUP(Y717,[1]DATA!$A$1:$NB$5,3,0),\"\")","v":"-"},null,null,null,null,{"$f":"VLOOKUP(Y717,[1]SRM!$S$4:$AA$368,6,0)","v":0},"","",""]
["34zoMD",{"$f":"VLOOKUP($AA718,DATA!$B$3:$E718,2,0)","v":"14:30:00"},{"$f":"VLOOKUP($AA718,DATA!$B$3:$E718,3,0)","v":"22:30:00"},{"$f":"VLOOKUP($AA718,DATA!$B$3:$E718,4,0)","v":3.125E-2},0.30208333333333337,0.30208333333333337,{"$f":"DATA!$C$9","v":0.89},{"$f":"DATA!$C$10","v":64},1,407.81250000000006,407.81250000000006,0,"","",0,"","",0,"","","","",null,{"$f":"X709","v":34},null,{"$f":"TEXT(Y717,\"ddd\")","v":"zo"},"MD",{"$f":"IFERROR(HLOOKUP(Y717,[1]DATA!$A$1:$NB$5,4,0),\"\")","v":"-"},null,null,null,null,{"$f":"VLOOKUP(Y717,[1]SRM!$S$4:$AA$368,7,0)","v":0},"","",""]
["34zoZND",{"$f":"VLOOKUP($AA719,DATA!$B$3:$E719,2,0)","v":"00:00:00"},{"$f":"VLOOKUP($AA719,DATA!$B$3:$E719,3,0)","v":"00:00:00"},{"$f":"VLOOKUP($AA719,DATA!$B$3:$E719,4,0)","v":0},0,0,{"$f":"DATA!$C$9","v":0.89},{"$f":"DATA!$C$10","v":64},1,0,0,0,"","",0,"","",0,"","","","",null,{"$f":"X709","v":34},null,{"$f":"TEXT(Y717,\"ddd\")","v":"zo"},"ZND",{"$f":"IFERROR(HLOOKUP(Y717,[1]DATA!$A$1:$NB$5,5,0),\"\")","v":"-"},null,null,null,null,{"$f":"VLOOKUP(Y717,[1]SRM!$S$4:$AA$368,8,0)","v":0},"","",""]
["35maDD",{"$f":"VLOOKUP($AA720,DATA!$B$3:$E720,2,0)","v":"06:30:00"},{"$f":"VLOOKUP($AA720,DATA!$B$3:$E720,3,0)","v":"14:30:00"},{"$f":"VLOOKUP($AA720,DATA!$B$3:$E720,4,0)","v":3.125E-2},0.30208333333333331,0.27847222222222223,{"$f":"DATA!$C$9","v":0.89},{"$f":"DATA!$C$10","v":64},1,375.9375,407.8125,2.361111111111111E-2,31.875,7.8160919540229884E-2,{"$f":"TIME(INT($AD720/60),INT(MOD($AD720,60)/1),0)","v":0},"","",265.60000000000002,236,"","",236,null,{"$f":"X730","v":35},"2018-08-27",{"$f":"TEXT(Y720,\"ddd\")","v":"ma"},"DD",{"$f":"IFERROR(HLOOKUP(Y720,[1]DATA!$A$1:$NB$5,3,0),\"\")","v":"D3"},34,null,13,249,{"$f":"VLOOKUP(Y720,[1]SRM!$S$4:$AA$368,6,0)","v":89},-139.9375,0.57869731800766289,0.74901297236322617,{"$f":"IF(SUMIF(S720:S740,\">0\",K720:K740)=0,\"\",SUMIF(S720:S740,\">0\",K720:K740))","v":6117.1875},{"$f":"IF(SUM(S720:S740)=0,\"\",SUM(S720:S740))","v":4570},{"$f":"IFERROR(AL720/AK720,\"-\")","v":0.74707535121328228},{"$f":"IF(SUM(M720:M740)=0,\"0\",SUM(M720:M740))","v":382.5},{"$f":"IFERROR(AN720/AK720,\"-\")","v":6.2528735632183904E-2},{"$f":"IF(SUM(P720:P740)=0,0,SUM(P720:P740))","v":0},{"$f":"IFERROR(AP720/AK720,\"-\")","v":0},0.8573909824090713,{"$f":"IFERROR(SUMIF($AB720:$AB740,AS$5,$AJ720:$AJ740)/COUNTIFS($AB720:$AB740,AS$5,$AJ720:$AJ740,\">0\"),\"\")","v":0.97436273950133279},0.85305533720541538,0.76901635097964915,{"$f":"IFERROR((AK720-AL720-AN720-AP720),\"-\")","v":1164.6875},{"$f":"IFERROR((1-AM720-AO720-AQ720), \"-\")","v":0.1903959131545338},{"$f":"IFERROR((AV720*$AE$2)/60,\"-\")","v":1242.3333333333333},{"$f":"IFERROR(SUM(AG720:AG740),\"\")","v":967}]
["35maMD",{"$f":"VLOOKUP($AA721,DATA!$B$3:$E721,2,0)","v":"14:30:00"},{"$f":"VLOOKUP($AA721,DATA!$B$3:$E721,3,0)","v":"22:30:00"},{"$f":"VLOOKUP($AA721,DATA!$B$3:$E721,4,0)","v":3.125E-2},0.30208333333333337,0.26875000000000004,{"$f":"DATA!$C$9","v":0.89},{"$f":"DATA!$C$10","v":64},1,362.81250000000006,407.81250000000006,3.3333333333333333E-2,45,0.11034482758620688,{"$f":"TIME(INT(AD721/60),INT(MOD(AD721,60)/1),0)","v":0},"","",397.86666666666667,335,"",335,"",null,{"$f":"X730","v":35},null,{"$f":"TEXT(Y720,\"ddd\")","v":"ma"},"MD",{"$f":"IFERROR(HLOOKUP(Y720,[1]DATA!$A$1:$NB$5,4,0),\"\")","v":"D2"},48,null,38,373,{"$f":"VLOOKUP(Y720,[1]SRM!$S$4:$AA$368,7,0)","v":43},-27.812500000000057,0.82145593869731792,0.90246484197792232]
["35maND",{"$f":"VLOOKUP($AA722,DATA!$B$3:$E722,2,0)","v":"22:30:00"},{"$f":"VLOOKUP($AA722,DATA!$B$3:$E722,3,0)","v":"06:30:00"},{"$f":"VLOOKUP($AA722,DATA!$B$3:$E722,4,0)","v":3.125E-2},0.30208333333333326,0.2854166666666666,{"$f":"DATA!$C$9","v":0.89},{"$f":"DATA!$C$10","v":64},1,385.31249999999989,407.81249999999989,1.6666666666666666E-2,22.5,5.5172413793103461E-2,0,"","",363.73333333333335,325,325,"","",null,{"$f":"X730","v":35},null,{"$f":"TEXT(Y720,\"ddd\")","v":"ma"},"ND",{"$f":"IFERROR(HLOOKUP(Y720,[1]DATA!$A$1:$NB$5,5,0),\"\")","v":"D1"},24,null,16,341,{"$f":"VLOOKUP(Y720,[1]SRM!$S$4:$AA$368,8,0)","v":27},-60.312499999999886,0.79693486590038332,0.93089916396519368]
["35diDD",{"$f":"VLOOKUP($AA723,DATA!$B$3:$E723,2,0)","v":"06:30:00"},{"$f":"VLOOKUP($AA723,DATA!$B$3:$E723,3,0)","v":"14:30:00"},{"$f":"VLOOKUP($AA723,DATA!$B$3:$E723,4,0)","v":3.125E-2},0.30208333333333331,0.29652777777777778,{"$f":"DATA!$C$9","v":0.89},{"$f":"DATA!$C$10","v":64},1,400.3125,407.8125,5.5555555555555558E-3,7.5,1.8390804597701149E-2,0,"","",384,335,"","",335,null,{"$f":"X730","v":35},"2018-08-28",{"$f":"TEXT(Y723,\"ddd\")","v":"di"},"DD",{"$f":"IFERROR(HLOOKUP(Y723,[1]DATA!$A$1:$NB$5,3,0),\"\")","v":"D3"},8,null,25,360,{"$f":"VLOOKUP(Y723,[1]SRM!$S$4:$AA$368,6,0)","v":148},-65.3125,0.82145593869731803,0.72180451127819545]
["35diMD",{"$f":"VLOOKUP($AA724,DATA!$B$3:$E724,2,0)","v":"14:30:00"},{"$f":"VLOOKUP($AA724,DATA!$B$3:$E724,3,0)","v":"22:30:00"},{"$f":"VLOOKUP($AA724,DATA!$B$3:$E724,4,0)","v":3.125E-2},0.30208333333333337,0.28055555555555561,{"$f":"DATA!$C$9","v":0.89},{"$f":"DATA!$C$10","v":64},1,378.75000000000006,407.81250000000006,2.1527777777777781E-2,29.062500000000004,7.1264367816091953E-2,0,"","",381.86666666666667,328,"",328,"",null,{"$f":"X730","v":35},null,{"$f":"TEXT(Y723,\"ddd\")","v":"di"},"MD",{"$f":"IFERROR(HLOOKUP(Y723,[1]DATA!$A$1:$NB$5,4,0),\"\")","v":"D2"},31,null,30,358,{"$f":"VLOOKUP(Y723,[1]SRM!$S$4:$AA$368,7,0)","v":127},-50.750000000000057,0.80429118773946351,0.7504257827852745]
["35diND",{"$f":"VLOOKUP($AA725,DATA!$B$3:$E725,2,0)","v":"22:30:00"},{"$f":"VLOOKUP($AA725,DATA!$B$3:$E725,3,0)","v":"06:30:00"},{"$f":"VLOOKUP($AA725,DATA!$B$3:$E725,4,0)","v":3.125E-2},0.30208333333333326,0.29097222222222213,{"$f":"DATA!$C$9","v":0.89},{"$f":"DATA!$C$10","v":64},1,392.81249999999989,407.81249999999989,1.1111111111111112E-2,15,3.6781609195402312E-2,0,"","",361.6,316,316,"","",null,{"$f":"X730","v":35},null,{"$f":"TEXT(Y723,\"ddd\")","v":"di"},"ND",{"$f":"IFERROR(HLOOKUP(Y723,[1]DATA!$A$1:$NB$5,5,0),\"\")","v":"D1"},16,null,23,339,{"$f":"VLOOKUP(Y723,[1]SRM!$S$4:$AA$368,8,0)","v":0},-76.812499999999886,0.77486590038314196,1]
["35woDD",{"$f":"VLOOKUP($AA726,DATA!$B$3:$E726,2,0)","v":"06:30:00"},{"$f":"VLOOKUP($AA726,DATA!$B$3:$E726,3,0)","v":"14:30:00"},{"$f":"VLOOKUP($AA726,DATA!$B$3:$E726,4,0)","v":3.125E-2},0.30208333333333331,0.28611111111111109,{"$f":"DATA!$C$9","v":0.89},{"$f":"DATA!$C$10","v":64},1,386.25,407.8125,1.5972222222222224E-2,21.562500000000004,5.2873563218390811E-2,0,"","",310.39999999999998,268,"","",268,null,{"$f":"X730","v":35},"2018-08-29",{"$f":"TEXT(Y726,\"ddd\")","v":"wo"},"DD",{"$f":"IFERROR(HLOOKUP(Y726,[1]DATA!$A$1:$NB$5,3,0),\"\")","v":"D3"},23,null,23,291,{"$f":"VLOOKUP(Y726,[1]SRM!$S$4:$AA$368,6,0)","v":65},-118.25,0.65716475095785443,0.8268513585508791]
["35woMD",{"$f":"VLOOKUP($AA727,DATA!$B$3:$E727,2,0)","v":"14:30:00"},{"$f":"VLOOKUP($AA727,DATA!$B$3:$E727,3,0)","v":"22:30:00"},{"$f":"VLOOKUP($AA727,DATA!$B$3:$E727,4,0)","v":3.125E-2},0.30208333333333337,0.30208333333333337,{"$f":"DATA!$C$9","v":0.89},{"$f":"DATA!$C$10","v":64},1,407.81250000000006,407.81250000000006,0,"","",0,"","",363.73333333333335,322,"",322,"",null,{"$f":"X730","v":35},null,{"$f":"TEXT(Y726,\"ddd\")","v":"wo"},"MD",{"$f":"IFERROR(HLOOKUP(Y726,[1]DATA!$A$1:$NB$5,4,0),\"\")","v":"D2"},0,null,19,341,{"$f":"VLOOKUP(Y726,[1]SRM!$S$4:$AA$368,7,0)","v":83},-85.812500000000057,0.78957854406130257,0.81420683480077605]
["35woND",{"$f":"VLOOKUP($AA728,DATA!$B$3:$E728,2,0)","v":"22:30:00"},{"$f":"VLOOKUP($AA728,DATA!$B$3:$E728,3,0)","v":"06:30:00"},{"$f":"VLOOKUP($AA728,DATA!$B$3:$E728,4,0)","v":3.125E-2},0.30208333333333326,0.27499999999999991,{"$f":"DATA!$C$9","v":0.89},{"$f":"DATA!$C$10","v":64},1,371.24999999999989,407.81249999999989,2.7083333333333334E-2,36.5625,8.965517241379313E-2,0,"","",277.33333333333331,238,238,"","",null,{"$f":"X730","v":35},null,{"$f":"TEXT(Y726,\"ddd\")","v":"wo"},"ND",{"$f":"IFERROR(HLOOKUP(Y726,[1]DATA!$A$1:$NB$5,5,0),\"\")","v":"D1"},39,null,22,260,{"$f":"VLOOKUP(Y726,[1]SRM!$S$4:$AA$368,8,0)","v":0},-133.24999999999989,0.58360153256704994,1]
["35doDD",{"$f":"VLOOKUP($AA729,DATA!$B$3:$E729,2,0)","v":"06:30:00"},{"$f":"VLOOKUP($AA729,DATA!$B$3:$E729,3,0)","v":"14:30:00"},{"$f":"VLOOKUP($AA729,DATA!$B$3:$E729,4,0)","v":3.125E-2},0.30208333333333331,0.27430555555555552,{"$f":"DATA!$C$9","v":0.89},{"$f":"DATA!$C$10","v":64},1,370.31249999999994,407.8125,2.7777777777777776E-2,37.5,9.1954022988505746E-2,0,"","",330.66666666666669,288,"","",288,null,{"$f":"X730","v":35},"2018-08-30",{"$f":"TEXT(Y729,\"ddd\")","v":"do"},"DD",{"$f":"IFERROR(HLOOKUP(Y729,[1]DATA!$A$1:$NB$5,3,0),\"\")","v":"D3"},40,null,22,310,{"$f":"VLOOKUP(Y729,[1]SRM!$S$4:$AA$368,6,0)","v":50},-82.312499999999943,0.70620689655172408,0.86865148861646235]
["35doMD",{"$f":"VLOOKUP($AA730,DATA!$B$3:$E730,2,0)","v":"14:30:00"},{"$f":"VLOOKUP($AA730,DATA!$B$3:$E730,3,0)","v":"22:30:00"},{"$f":"VLOOKUP($AA730,DATA!$B$3:$E730,4,0)","v":3.125E-2},0.30208333333333337,0.27708333333333335,{"$f":"DATA!$C$9","v":0.89},{"$f":"DATA!$C$10","v":64},1,374.0625,407.81250000000006,2.4999999999999998E-2,33.75,8.2758620689655157E-2,0,"","",391.46666666666664,327,"",327,"",null,{"$f":"WEEKNUM($Y720)","v":35},null,{"$f":"TEXT(Y729,\"ddd\")","v":"do"},"MD",{"$f":"IFERROR(HLOOKUP(Y729,[1]DATA!$A$1:$NB$5,4,0),\"\")","v":"D2"},36,null,40,367,{"$f":"VLOOKUP(Y729,[1]SRM!$S$4:$AA$368,7,0)","v":69},-47.0625,0.80183908045977004,0.8501520196901694]
["35doND",{"$f":"VLOOKUP($AA731,DATA!$B$3:$E731,2,0)","v":"22:30:00"},{"$f":"VLOOKUP($AA731,DATA!$B$3:$E731,3,0)","v":"06:30:00"},{"$f":"VLOOKUP($AA731,DATA!$B$3:$E731,4,0)","v":3.125E-2},0.30208333333333326,0.25694444444444436,{"$f":"DATA!$C$9","v":0.89},{"$f":"DATA!$C$10","v":64},1,346.87499999999989,407.81249999999989,4.5138888888888888E-2,60.9375,0.14942528735632188,0,"","",317.86666666666667,277,277,"","",null,{"$f":"X730","v":35},null,{"$f":"TEXT(Y729,\"ddd\")","v":"do"},"ND",{"$f":"IFERROR(HLOOKUP(Y729,[1]DATA!$A$1:$NB$5,5,0),\"\")","v":"D1"},65,null,21,298,{"$f":"VLOOKUP(Y729,[1]SRM!$S$4:$AA$368,8,0)","v":11},-69.874999999999886,0.67923371647509601,{"$f":"IFERROR(R731/(R731+AG731),\"\")","v":0.9665517940401378}]
["35vrDD",{"$f":"VLOOKUP($AA732,DATA!$B$3:$E732,2,0)","v":"06:30:00"},{"$f":"VLOOKUP($AA732,DATA!$B$3:$E732,3,0)","v":"14:30:00"},{"$f":"VLOOKUP($AA732,DATA!$B$3:$E732,4,0)","v":3.125E-2},{"$f":"(C732-B732+(B732>C732))-D732","v":0.30208333333333331},{"$f":"E732-O732-L732","v":0.29444444444444445},{"$f":"DATA!$C$9","v":0.89},{"$f":"DATA!$C$10","v":64},1,{"$f":"F732*86400/H732*I732","v":397.5},{"$f":"E732*86400/H732","v":407.8125},7.6388888888888886E-3,10.3125,2.528735632183908E-2,0,"","",{"$f":"AF732*AG$2","v":331.73333333333335},{"$f":"IF(AF732-AE732=0,\"\",AF732-AE732)","v":301},"","",301,null,{"$f":"X730","v":35},"2018-08-31",{"$f":"TEXT(Y732,\"ddd\")","v":"vr"},"DD",{"$f":"IFERROR(HLOOKUP(Y732,[1]DATA!$A$1:$NB$5,3,0),\"\")","v":"D3"},11,null,10,311,{"$f":"VLOOKUP(Y732,[1]SRM!$S$4:$AA$368,6,0)","v":157},-96.5,0.73808429118773944,0.67876142408948303]
["35vrMD",{"$f":"VLOOKUP($AA733,DATA!$B$3:$E733,2,0)","v":"14:30:00"},{"$f":"VLOOKUP($AA733,DATA!$B$3:$E733,3,0)","v":"22:30:00"},{"$f":"VLOOKUP($AA733,DATA!$B$3:$E733,4,0)","v":3.125E-2},0.30208333333333337,0.28402777777777782,{"$f":"DATA!$C$9","v":0.89},{"$f":"DATA!$C$10","v":64},1,383.43750000000006,407.81250000000006,1.8055555555555557E-2,24.375000000000004,5.9770114942528735E-2,0,"","",394.66666666666669,341,"",341,"",null,{"$f":"X730","v":35},null,{"$f":"TEXT(Y732,\"ddd\")","v":"vr"},"MD",{"$f":"IFERROR(HLOOKUP(Y732,[1]DATA!$A$1:$NB$5,4,0),\"\")","v":"D2"},26,null,29,370,{"$f":"VLOOKUP(Y732,[1]SRM!$S$4:$AA$368,7,0)","v":98},-42.437500000000057,0.83616858237547886,0.8010825439783491]
["35vrND",{"$f":"VLOOKUP($AA734,DATA!$B$3:$E734,2,0)","v":"22:30:00"},{"$f":"VLOOKUP($AA734,DATA!$B$3:$E734,3,0)","v":"06:30:00"},{"$f":"VLOOKUP($AA734,DATA!$B$3:$E734,4,0)","v":3.125E-2},0.30208333333333326,0.29722222222222217,{"$f":"DATA!$C$9","v":0.89},{"$f":"DATA!$C$10","v":64},1,401.24999999999994,407.81249999999989,4.8611111111111112E-3,6.5625,1.6091954022988509E-2,0,"","",384,333,"",333,"",null,{"$f":"X730","v":35},null,{"$f":"TEXT(Y732,\"ddd\")","v":"vr"},"ND",{"$f":"IFERROR(HLOOKUP(Y732,[1]DATA!$A$1:$NB$5,5,0),\"\")","v":"D2"},7,null,27,360,{"$f":"VLOOKUP(Y732,[1]SRM!$S$4:$AA$368,8,0)","v":0},-68.249999999999943,0.81655172413793131,1]
["35zaDD",{"$f":"VLOOKUP($AA735,DATA!$B$3:$E735,2,0)","v":"06:30:00"},{"$f":"VLOOKUP($AA735,DATA!$B$3:$E735,3,0)","v":"14:30:00"},{"$f":"VLOOKUP($AA735,DATA!$B$3:$E735,4,0)","v":3.125E-2},0.30208333333333331,0.30208333333333331,{"$f":"DATA!$C$9","v":0.89},{"$f":"DATA!$C$10","v":64},1,407.8125,407.8125,0,"","",0,"","",0,"","","","",null,{"$f":"X730","v":35},"2018-09-01",{"$f":"TEXT(Y735,\"ddd\")","v":"za"},"DD",{"$f":"IFERROR(HLOOKUP(Y735,[1]DATA!$A$1:$NB$5,3,0),\"\")","v":"D3"},null,null,null,null,{"$f":"VLOOKUP(Y735,[1]SRM!$S$4:$AA$368,6,0)","v":0},"","",""]
["35zaMD",{"$f":"VLOOKUP($AA736,DATA!$B$3:$E736,2,0)","v":"14:30:00"},{"$f":"VLOOKUP($AA736,DATA!$B$3:$E736,3,0)","v":"22:30:00"},{"$f":"VLOOKUP($AA736,DATA!$B$3:$E736,4,0)","v":3.125E-2},0.30208333333333337,0.30208333333333337,{"$f":"DATA!$C$9","v":0.89},{"$f":"DATA!$C$10","v":64},1,407.81250000000006,407.81250000000006,0,"","",0,"","",0,"","","","",null,{"$f":"X730","v":35},null,{"$f":"TEXT(Y735,\"ddd\")","v":"za"},"MD",{"$f":"IFERROR(HLOOKUP(Y735,[1]DATA!$A$1:$NB$5,4,0),\"\")","v":"-"},null,null,null,null,{"$f":"VLOOKUP(Y735,[1]SRM!$S$4:$AA$368,7,0)","v":0},"","",""]
["35zaND",{"$f":"VLOOKUP($AA737,DATA!$B$3:$E737,2,0)","v":"22:30:00"},{"$f":"VLOOKUP($AA737,DATA!$B$3:$E737,3,0)","v":"06:30:00"},{"$f":"VLOOKUP($AA737,DATA!$B$3:$E737,4,0)","v":3.125E-2},0.30208333333333326,0.30208333333333326,{"$f":"DATA!$C$9","v":0.89},{"$f":"DATA!$C$10","v":64},1,407.81249999999989,407.81249999999989,0,"","",0,"","",0,"","","","",null,{"$f":"X730","v":35},null,{"$f":"TEXT(Y735,\"ddd\")","v":"za"},"ND",{"$f":"IFERROR(HLOOKUP(Y735,[1]DATA!$A$1:$NB$5,5,0),\"\")","v":"-"},null,null,null,null,{"$f":"VLOOKUP(Y735,[1]SRM!$S$4:$AA$368,8,0)","v":0},"","",""]
["35zoDD",{"$f":"VLOOKUP($AA738,DATA!$B$3:$E738,2,0)","v":"06:30:00"},{"$f":"VLOOKUP($AA738,DATA!$B$3:$E738,3,0)","v":"14:30:00"},{"$f":"VLOOKUP($AA738,DATA!$B$3:$E738,4,0)","v":3.125E-2},0.30208333333333331,0.30208333333333331,{"$f":"DATA!$C$9","v":0.89},{"$f":"DATA!$C$10","v":64},1,407.8125,407.8125,0,"","",0,"","",0,"","","","",null,{"$f":"X730","v":35},"2018-09-02",{"$f":"TEXT(Y738,\"ddd\")","v":"zo"},"DD",{"$f":"IFERROR(HLOOKUP(Y738,[1]DATA!$A$1:$NB$5,3,0),\"\")","v":"-"},null,null,null,null,{"$f":"VLOOKUP(Y738,[1]SRM!$S$4:$AA$368,6,0)","v":0},"","",""]
["35zoMD",{"$f":"VLOOKUP($AA739,DATA!$B$3:$E739,2,0)","v":"14:30:00"},{"$f":"VLOOKUP($AA739,DATA!$B$3:$E739,3,0)","v":"22:30:00"},{"$f":"VLOOKUP($AA739,DATA!$B$3:$E739,4,0)","v":3.125E-2},0.30208333333333337,0.30208333333333337,{"$f":"DATA!$C$9","v":0.89},{"$f":"DATA!$C$10","v":64},1,407.81250000000006,407.81250000000006,0,"","",0,"","",0,"","","","",null,{"$f":"X730","v":35},null,{"$f":"TEXT(Y738,\"ddd\")","v":"zo"},"MD",{"$f":"IFERROR(HLOOKUP(Y738,[1]DATA!$A$1:$NB$5,4,0),\"\")","v":"-"},null,null,null,null,{"$f":"VLOOKUP(Y738,[1]SRM!$S$4:$AA$368,7,0)","v":0},"","",""]
["35zoZND",{"$f":"VLOOKUP($AA740,DATA!$B$3:$E740,2,0)","v":"00:00:00"},{"$f":"VLOOKUP($AA740,DATA!$B$3:$E740,3,0)","v":"00:00:00"},{"$f":"VLOOKUP($AA740,DATA!$B$3:$E740,4,0)","v":0},0,0,{"$f":"DATA!$C$9","v":0.89},{"$f":"DATA!$C$10","v":64},1,0,0,0,"","",0,"","",0,"","","","",null,{"$f":"X730","v":35},null,{"$f":"TEXT(Y738,\"ddd\")","v":"zo"},"ZND",{"$f":"IFERROR(HLOOKUP(Y738,[1]DATA!$A$1:$NB$5,5,0),\"\")","v":"-"},null,null,null,null,{"$f":"VLOOKUP(Y738,[1]SRM!$S$4:$AA$368,8,0)","v":0},"","",""]
["36maDD",{"$f":"VLOOKUP($AA741,DATA!$B$3:$E741,2,0)","v":"06:30:00"},{"$f":"VLOOKUP($AA741,DATA!$B$3:$E741,3,0)","v":"14:30:00"},{"$f":"VLOOKUP($AA741,DATA!$B$3:$E741,4,0)","v":3.125E-2},0.30208333333333331,0.27291666666666664,{"$f":"DATA!$C$9","v":0.89},{"$f":"DATA!$C$10","v":64},1,368.43749999999994,407.8125,2.9166666666666664E-2,39.374999999999993,9.6551724137931019E-2,{"$f":"TIME(INT($AD741/60),INT(MOD($AD741,60)/1),0)","v":0},"","",305.06666666666666,274,"",274,"",null,{"$f":"X751","v":36},"2018-09-03",{"$f":"TEXT(Y741,\"ddd\")","v":"ma"},"DD",{"$f":"IFERROR(HLOOKUP(Y741,[1]DATA!$A$1:$NB$5,3,0),\"\")","v":"D2"},42,null,12,286,{"$f":"VLOOKUP(Y741,[1]SRM!$S$4:$AA$368,6,0)","v":40},-94.437499999999943,0.67187739463601537,0.884080370942813,{"$f":"IF(SUMIF(S741:S761,\">0\",K741:K761)=0,\"\",SUMIF(S741:S761,\">0\",K741:K761))","v":6525},{"$f":"IF(SUM(S741:S761)=0,\"\",SUM(S741:S761))","v":4211},{"$f":"IFERROR(AL741/AK741,\"-\")","v":0.64536398467432954},{"$f":"IF(SUM(M741:M761)=0,\"0\",SUM(M741:M761))","v":380.625},{"$f":"IFERROR(AN741/AK741,\"-\")","v":5.8333333333333334E-2},{"$f":"IF(SUM(P741:P761)=0,0,SUM(P741:P761))","v":0},{"$f":"IFERROR(AP741/AK741,\"-\")","v":0},0.91688047920380533,{"$f":"IFERROR(SUMIF($AB741:$AB761,AS$5,$AJ741:$AJ761)/COUNTIFS($AB741:$AB761,AS$5,$AJ741:$AJ761,\">0\"),\"\")","v":0.94599131446847107},0.88476881800942808,0.9263036373723923,{"$f":"IFERROR((AK741-AL741-AN741-AP741),\"-\")","v":1933.375},{"$f":"IFERROR((1-AM741-AO741-AQ741), \"-\")","v":0.29630268199233711},{"$f":"IFERROR((AV741*$AE$2)/60,\"-\")","v":2062.2666666666669},{"$f":"IFERROR(SUM(AG741:AG761),\"\")","v":520}]
["36maMD",{"$f":"VLOOKUP($AA742,DATA!$B$3:$E742,2,0)","v":"14:30:00"},{"$f":"VLOOKUP($AA742,DATA!$B$3:$E742,3,0)","v":"22:30:00"},{"$f":"VLOOKUP($AA742,DATA!$B$3:$E742,4,0)","v":3.125E-2},0.30208333333333337,0.28958333333333336,{"$f":"DATA!$C$9","v":0.89},{"$f":"DATA!$C$10","v":64},1,390.93750000000006,407.81250000000006,1.2499999999999999E-2,16.875,4.1379310344827579E-2,{"$f":"TIME(INT(AD742/60),INT(MOD(AD742,60)/1),0)","v":0},"","",343.46666666666664,294,294,"","",null,{"$f":"X751","v":36},null,{"$f":"TEXT(Y741,\"ddd\")","v":"ma"},"MD",{"$f":"IFERROR(HLOOKUP(Y741,[1]DATA!$A$1:$NB$5,4,0),\"\")","v":"D1"},18,null,28,322,{"$f":"VLOOKUP(Y741,[1]SRM!$S$4:$AA$368,7,0)","v":17},-96.937500000000057,0.72091954022988491,0.95283891252080632]
["36maND",{"$f":"VLOOKUP($AA743,DATA!$B$3:$E743,2,0)","v":"22:30:00"},{"$f":"VLOOKUP($AA743,DATA!$B$3:$E743,3,0)","v":"06:30:00"},{"$f":"VLOOKUP($AA743,DATA!$B$3:$E743,4,0)","v":3.125E-2},0.30208333333333326,0.27847222222222212,{"$f":"DATA!$C$9","v":0.89},{"$f":"DATA!$C$10","v":64},1,375.93749999999989,407.81249999999989,2.361111111111111E-2,31.875,7.8160919540229912E-2,0,"","",343.46666666666664,298,"","",298,null,{"$f":"X751","v":36},null,{"$f":"TEXT(Y741,\"ddd\")","v":"ma"},"ND",{"$f":"IFERROR(HLOOKUP(Y741,[1]DATA!$A$1:$NB$5,5,0),\"\")","v":"D3"},34,null,24,322,{"$f":"VLOOKUP(Y741,[1]SRM!$S$4:$AA$368,8,0)","v":95},-77.937499999999886,0.73072796934865925,0.78333586741675532]
["36diDD",{"$f":"VLOOKUP($AA744,DATA!$B$3:$E744,2,0)","v":"06:30:00"},{"$f":"VLOOKUP($AA744,DATA!$B$3:$E744,3,0)","v":"14:30:00"},{"$f":"VLOOKUP($AA744,DATA!$B$3:$E744,4,0)","v":3.125E-2},0.30208333333333331,0.29097222222222219,{"$f":"DATA!$C$9","v":0.89},{"$f":"DATA!$C$10","v":64},1,392.81249999999994,407.8125,1.1111111111111112E-2,15,3.6781609195402298E-2,0,"","",309.33333333333331,278,"",278,"",null,{"$f":"X751","v":36},"2018-09-04",{"$f":"TEXT(Y744,\"ddd\")","v":"di"},"DD",{"$f":"IFERROR(HLOOKUP(Y744,[1]DATA!$A$1:$NB$5,3,0),\"\")","v":"D2"},16,null,12,290,{"$f":"VLOOKUP(Y744,[1]SRM!$S$4:$AA$368,6,0)","v":136},-114.81249999999994,0.68168582375478926,0.69461077844311381]
["36diMD",{"$f":"VLOOKUP($AA745,DATA!$B$3:$E745,2,0)","v":"14:30:00"},{"$f":"VLOOKUP($AA745,DATA!$B$3:$E745,3,0)","v":"22:30:00"},{"$f":"VLOOKUP($AA745,DATA!$B$3:$E745,4,0)","v":3.125E-2},0.30208333333333337,0.2902777777777778,{"$f":"DATA!$C$9","v":0.89},{"$f":"DATA!$C$10","v":64},1,391.87500000000006,407.81250000000006,1.1805555555555555E-2,15.9375,3.9080459770114935E-2,0,"","",364.8,320,320,"","",null,{"$f":"X751","v":36},null,{"$f":"TEXT(Y744,\"ddd\")","v":"di"},"MD",{"$f":"IFERROR(HLOOKUP(Y744,[1]DATA!$A$1:$NB$5,4,0),\"\")","v":"D1"},17,null,22,342,{"$f":"VLOOKUP(Y744,[1]SRM!$S$4:$AA$368,7,0)","v":35},-71.875000000000057,0.78467432950191562,0.91245622811405702]
["36diND",{"$f":"VLOOKUP($AA746,DATA!$B$3:$E746,2,0)","v":"22:30:00"},{"$f":"VLOOKUP($AA746,DATA!$B$3:$E746,3,0)","v":"06:30:00"},{"$f":"VLOOKUP($AA746,DATA!$B$3:$E746,4,0)","v":3.125E-2},0.30208333333333326,0.30208333333333326,{"$f":"DATA!$C$9","v":0.89},{"$f":"DATA!$C$10","v":64},1,407.81249999999989,407.81249999999989,0,"","",0,"","",128,113,"","",113,null,{"$f":"X751","v":36},null,{"$f":"TEXT(Y744,\"ddd\")","v":"di"},"ND",{"$f":"IFERROR(HLOOKUP(Y744,[1]DATA!$A$1:$NB$5,5,0),\"\")","v":"D3"},0,null,7,120,{"$f":"VLOOKUP(Y744,[1]SRM!$S$4:$AA$368,8,0)","v":10},-294.81249999999989,0.27708812260536408,0.92753623188405798]
["36woDD",{"$f":"VLOOKUP($AA747,DATA!$B$3:$E747,2,0)","v":"06:30:00"},{"$f":"VLOOKUP($AA747,DATA!$B$3:$E747,3,0)","v":"14:30:00"},{"$f":"VLOOKUP($AA747,DATA!$B$3:$E747,4,0)","v":3.125E-2},0.30208333333333331,0.28611111111111109,{"$f":"DATA!$C$9","v":0.89},{"$f":"DATA!$C$10","v":64},1,386.25,407.8125,1.5972222222222224E-2,21.562500000000004,5.2873563218390811E-2,0,"","",384,323,"",323,"",null,{"$f":"X751","v":36},"2018-09-05",{"$f":"TEXT(Y747,\"ddd\")","v":"wo"},"DD",{"$f":"IFERROR(HLOOKUP(Y747,[1]DATA!$A$1:$NB$5,3,0),\"\")","v":"D2"},23,null,37,360,{"$f":"VLOOKUP(Y747,[1]SRM!$S$4:$AA$368,6,0)","v":37},-63.25,0.79203065134099615,0.91211401425178151]
["36woMD",{"$f":"VLOOKUP($AA748,DATA!$B$3:$E748,2,0)","v":"14:30:00"},{"$f":"VLOOKUP($AA748,DATA!$B$3:$E748,3,0)","v":"22:30:00"},{"$f":"VLOOKUP($AA748,DATA!$B$3:$E748,4,0)","v":3.125E-2},0.30208333333333337,0.29513888888888895,{"$f":"DATA!$C$9","v":0.89},{"$f":"DATA!$C$10","v":64},1,398.43750000000006,407.81250000000006,6.9444444444444441E-3,9.375,2.2988505747126433E-2,0,"","",401.06666666666666,335,335,"","",null,{"$f":"X751","v":36},null,{"$f":"TEXT(Y747,\"ddd\")","v":"wo"},"MD",{"$f":"IFERROR(HLOOKUP(Y747,[1]DATA!$A$1:$NB$5,4,0),\"\")","v":"D1"},10,null,41,376,{"$f":"VLOOKUP(Y747,[1]SRM!$S$4:$AA$368,7,0)","v":27},-63.437500000000057,0.82145593869731792,0.93692571250584022]
["36woND",{"$f":"VLOOKUP($AA749,DATA!$B$3:$E749,2,0)","v":"22:30:00"},{"$f":"VLOOKUP($AA749,DATA!$B$3:$E749,3,0)","v":"06:30:00"},{"$f":"VLOOKUP($AA749,DATA!$B$3:$E749,4,0)","v":3.125E-2},0.30208333333333326,0.26180555555555546,{"$f":"DATA!$C$9","v":0.89},{"$f":"DATA!$C$10","v":64},1,353.43749999999989,407.81249999999989,4.027777777777778E-2,54.375,0.13333333333333336,0,"","",288,259,"","",259,null,{"$f":"X751","v":36},null,{"$f":"TEXT(Y747,\"ddd\")","v":"wo"},"ND",{"$f":"IFERROR(HLOOKUP(Y747,[1]DATA!$A$1:$NB$5,5,0),\"\")","v":"D3"},58,null,11,270,{"$f":"VLOOKUP(Y747,[1]SRM!$S$4:$AA$368,8,0)","v":10},-94.437499999999886,0.63509578544061318,0.96644295302013428]
["36doDD",{"$f":"VLOOKUP($AA750,DATA!$B$3:$E750,2,0)","v":"06:30:00"},{"$f":"VLOOKUP($AA750,DATA!$B$3:$E750,3,0)","v":"14:30:00"},{"$f":"VLOOKUP($AA750,DATA!$B$3:$E750,4,0)","v":3.125E-2},0.30208333333333331,0.28333333333333333,{"$f":"DATA!$C$9","v":0.89},{"$f":"DATA!$C$10","v":64},1,382.5,407.8125,1.8749999999999999E-2,25.3125,6.2068965517241378E-2,0,"","",339.2,304,"",304,"",null,{"$f":"X751","v":36},"2018-09-06",{"$f":"TEXT(Y750,\"ddd\")","v":"do"},"DD",{"$f":"IFERROR(HLOOKUP(Y750,[1]DATA!$A$1:$NB$5,3,0),\"\")","v":"D2"},27,null,14,318,{"$f":"VLOOKUP(Y750,[1]SRM!$S$4:$AA$368,6,0)","v":61},-78.5,0.74544061302681996,0.84757621189405297]
["36doMD",{"$f":"VLOOKUP($AA751,DATA!$B$3:$E751,2,0)","v":"14:30:00"},{"$f":"VLOOKUP($AA751,DATA!$B$3:$E751,3,0)","v":"22:30:00"},{"$f":"VLOOKUP($AA751,DATA!$B$3:$E751,4,0)","v":3.125E-2},0.30208333333333337,0.28541666666666671,{"$f":"DATA!$C$9","v":0.89},{"$f":"DATA!$C$10","v":64},1,385.31250000000006,407.81250000000006,1.6666666666666666E-2,22.5,5.5172413793103441E-2,0,"","",359.46666666666664,315,315,"","",null,{"$f":"WEEKNUM($Y741)","v":36},null,{"$f":"TEXT(Y750,\"ddd\")","v":"do"},"MD",{"$f":"IFERROR(HLOOKUP(Y750,[1]DATA!$A$1:$NB$5,4,0),\"\")","v":"D1"},24,null,22,337,{"$f":"VLOOKUP(Y750,[1]SRM!$S$4:$AA$368,7,0)","v":28},-70.312500000000057,0.77241379310344815,0.92773571920165177]
[{"$f":"X752&Z752&AA752","v":"36doND"},{"$f":"VLOOKUP($AA752,DATA!$B$3:$E752,2,0)","v":"22:30:00"},{"$f":"VLOOKUP($AA752,DATA!$B$3:$E752,3,0)","v":"06:30:00"},{"$f":"VLOOKUP($AA752,DATA!$B$3:$E752,4,0)","v":3.125E-2},0.30208333333333326,0.2854166666666666,{"$f":"DATA!$C$9","v":0.89},{"$f":"DATA!$C$10","v":64},1,385.31249999999989,407.81249999999989,1.6666666666666666E-2,22.5,5.5172413793103461E-2,0,{"$f":"IF($O752*86400/$H752=0,\"\",$O752*86400/$H752)","v":""},"",312.5333333333333,274,"","",274,null,{"$f":"X751","v":36},null,{"$f":"TEXT(Y750,\"ddd\")","v":"do"},"ND",{"$f":"IFERROR(HLOOKUP(Y750,[1]DATA!$A$1:$NB$5,5,0),\"\")","v":"D3"},24,null,19,293,{"$f":"VLOOKUP(Y750,[1]SRM!$S$4:$AA$368,8,0)","v":15},-111.31249999999989,0.67187739463601548,0.95420313454101369]
["36vrDD",{"$f":"VLOOKUP($AA753,DATA!$B$3:$E753,2,0)","v":"06:30:00"},{"$f":"VLOOKUP($AA753,DATA!$B$3:$E753,3,0)","v":"14:30:00"},{"$f":"VLOOKUP($AA753,DATA!$B$3:$E753,4,0)","v":3.125E-2},0.30208333333333331,0.26041666666666663,{"$f":"DATA!$C$9","v":0.89},{"$f":"DATA!$C$10","v":64},1,351.56249999999994,407.8125,4.1666666666666664E-2,56.25,0.13793103448275862,0,"","",293.33333333333331,251,"",251,"",null,{"$f":"X751","v":36},"2018-09-07",{"$f":"TEXT(Y753,\"ddd\")","v":"vr"},"DD",{"$f":"IFERROR(HLOOKUP(Y753,[1]DATA!$A$1:$NB$5,3,0),\"\")","v":"D2"},60,null,24,275,{"$f":"VLOOKUP(Y753,[1]SRM!$S$4:$AA$368,6,0)","v":9},-100.56249999999994,0.61547892720306518,0.97023153252480709]
["36vrMD",{"$f":"VLOOKUP($AA754,DATA!$B$3:$E754,2,0)","v":"14:30:00"},{"$f":"VLOOKUP($AA754,DATA!$B$3:$E754,3,0)","v":"22:30:00"},{"$f":"VLOOKUP($AA754,DATA!$B$3:$E754,4,0)","v":3.125E-2},0.30208333333333337,0.27986111111111117,{"$f":"DATA!$C$9","v":0.89},{"$f":"DATA!$C$10","v":64},1,377.81250000000006,407.81250000000006,2.2222222222222223E-2,30,7.3563218390804583E-2,0,"","",339.2,301,301,"","",null,{"$f":"X751","v":36},null,{"$f":"TEXT(Y753,\"ddd\")","v":"vr"},"MD",{"$f":"IFERROR(HLOOKUP(Y753,[1]DATA!$A$1:$NB$5,4,0),\"\")","v":"D1"},32,null,17,318,{"$f":"VLOOKUP(Y753,[1]SRM!$S$4:$AA$368,7,0)","v":0},-76.812500000000057,0.73808429118773933,1]
["36vrND",{"$f":"VLOOKUP($AA755,DATA!$B$3:$E755,2,0)","v":"22:30:00"},{"$f":"VLOOKUP($AA755,DATA!$B$3:$E755,3,0)","v":"06:30:00"},{"$f":"VLOOKUP($AA755,DATA!$B$3:$E755,4,0)","v":3.125E-2},0.30208333333333326,0.30208333333333326,{"$f":"DATA!$C$9","v":0.89},{"$f":"DATA!$C$10","v":64},1,407.81249999999989,407.81249999999989,0,"","",0,"","",113.06666666666666,106,"","",106,null,{"$f":"X751","v":36},null,{"$f":"TEXT(Y753,\"ddd\")","v":"vr"},"ND",{"$f":"IFERROR(HLOOKUP(Y753,[1]DATA!$A$1:$NB$5,5,0),\"\")","v":"D3"},0,null,0,106,{"$f":"VLOOKUP(Y753,[1]SRM!$S$4:$AA$368,8,0)","v":0},-301.81249999999989,0.25992337164750967,1]
["36zaDD",{"$f":"VLOOKUP($AA756,DATA!$B$3:$E756,2,0)","v":"06:30:00"},{"$f":"VLOOKUP($AA756,DATA!$B$3:$E756,3,0)","v":"14:30:00"},{"$f":"VLOOKUP($AA756,DATA!$B$3:$E756,4,0)","v":3.125E-2},0.30208333333333331,0.28749999999999998,{"$f":"DATA!$C$9","v":0.89},{"$f":"DATA!$C$10","v":64},1,388.12499999999994,407.8125,1.4583333333333332E-2,19.687499999999996,4.827586206896551E-2,0,"","",187.73333333333332,166,"",166,"",null,{"$f":"X751","v":36},"2018-09-08",{"$f":"TEXT(Y756,\"ddd\")","v":"za"},"DD",{"$f":"IFERROR(HLOOKUP(Y756,[1]DATA!$A$1:$NB$5,3,0),\"\")","v":"D2"},21,null,10,176,{"$f":"VLOOKUP(Y756,[1]SRM!$S$4:$AA$368,6,0)","v":0},-222.12499999999994,0.40704980842911875,1]
["36zaMD",{"$f":"VLOOKUP($AA757,DATA!$B$3:$E757,2,0)","v":"14:30:00"},{"$f":"VLOOKUP($AA757,DATA!$B$3:$E757,3,0)","v":"22:30:00"},{"$f":"VLOOKUP($AA757,DATA!$B$3:$E757,4,0)","v":3.125E-2},0.30208333333333337,0.30208333333333337,{"$f":"DATA!$C$9","v":0.89},{"$f":"DATA!$C$10","v":64},1,407.81250000000006,407.81250000000006,0,"","",0,"","",0,"","","","",null,{"$f":"X751","v":36},null,{"$f":"TEXT(Y756,\"ddd\")","v":"za"},"MD",{"$f":"IFERROR(HLOOKUP(Y756,[1]DATA!$A$1:$NB$5,4,0),\"\")","v":"-"},null,null,null,null,{"$f":"VLOOKUP(Y756,[1]SRM!$S$4:$AA$368,7,0)","v":0},"","",""]
["36zaND",{"$f":"VLOOKUP($AA758,DATA!$B$3:$E758,2,0)","v":"22:30:00"},{"$f":"VLOOKUP($AA758,DATA!$B$3:$E758,3,0)","v":"06:30:00"},{"$f":"VLOOKUP($AA758,DATA!$B$3:$E758,4,0)","v":3.125E-2},0.30208333333333326,0.30208333333333326,{"$f":"DATA!$C$9","v":0.89},{"$f":"DATA!$C$10","v":64},1,407.81249999999989,407.81249999999989,0,"","",0,"","",0,"","","","",null,{"$f":"X751","v":36},null,{"$f":"TEXT(Y756,\"ddd\")","v":"za"},"ND",{"$f":"IFERROR(HLOOKUP(Y756,[1]DATA!$A$1:$NB$5,5,0),\"\")","v":"-"},null,null,null,null,{"$f":"VLOOKUP(Y756,[1]SRM!$S$4:$AA$368,8,0)","v":0},"","",""]
["36zoDD",{"$f":"VLOOKUP($AA759,DATA!$B$3:$E759,2,0)","v":"06:30:00"},{"$f":"VLOOKUP($AA759,DATA!$B$3:$E759,3,0)","v":"14:30:00"},{"$f":"VLOOKUP($AA759,DATA!$B$3:$E759,4,0)","v":3.125E-2},0.30208333333333331,0.30208333333333331,{"$f":"DATA!$C$9","v":0.89},{"$f":"DATA!$C$10","v":64},1,407.8125,407.8125,0,"","",0,"","",0,"","","","",null,{"$f":"X751","v":36},"2018-09-09",{"$f":"TEXT(Y759,\"ddd\")","v":"zo"},"DD",{"$f":"IFERROR(HLOOKUP(Y759,[1]DATA!$A$1:$NB$5,3,0),\"\")","v":"-"},null,null,null,null,{"$f":"VLOOKUP(Y759,[1]SRM!$S$4:$AA$368,6,0)","v":0},"","",""]
["36zoMD",{"$f":"VLOOKUP($AA760,DATA!$B$3:$E760,2,0)","v":"14:30:00"},{"$f":"VLOOKUP($AA760,DATA!$B$3:$E760,3,0)","v":"22:30:00"},{"$f":"VLOOKUP($AA760,DATA!$B$3:$E760,4,0)","v":3.125E-2},0.30208333333333337,0.30208333333333337,{"$f":"DATA!$C$9","v":0.89},{"$f":"DATA!$C$10","v":64},1,407.81250000000006,407.81250000000006,0,"","",0,"","",0,"","","","",null,{"$f":"X751","v":36},null,{"$f":"TEXT(Y759,\"ddd\")","v":"zo"},"MD",{"$f":"IFERROR(HLOOKUP(Y759,[1]DATA!$A$1:$NB$5,4,0),\"\")","v":"-"},null,null,null,null,{"$f":"VLOOKUP(Y759,[1]SRM!$S$4:$AA$368,7,0)","v":0},"","",""]
["36zoZND",{"$f":"VLOOKUP($AA761,DATA!$B$3:$E761,2,0)","v":"00:00:00"},{"$f":"VLOOKUP($AA761,DATA!$B$3:$E761,3,0)","v":"00:00:00"},{"$f":"VLOOKUP($AA761,DATA!$B$3:$E761,4,0)","v":0},0,0,{"$f":"DATA!$C$9","v":0.89},{"$f":"DATA!$C$10","v":64},1,0,0,0,"","",0,"","",0,"","","","",null,{"$f":"X751","v":36},null,{"$f":"TEXT(Y759,\"ddd\")","v":"zo"},"ZND",{"$f":"IFERROR(HLOOKUP(Y759,[1]DATA!$A$1:$NB$5,5,0),\"\")","v":"-"},null,null,null,null,{"$f":"VLOOKUP(Y759,[1]SRM!$S$4:$AA$368,8,0)","v":0},"","",""]
["37maDD",{"$f":"VLOOKUP($AA762,DATA!$B$3:$E762,2,0)","v":"06:30:00"},{"$f":"VLOOKUP($AA762,DATA!$B$3:$E762,3,0)","v":"14:30:00"},{"$f":"VLOOKUP($AA762,DATA!$B$3:$E762,4,0)","v":3.125E-2},0.30208333333333331,0.27013888888888887,{"$f":"DATA!$C$9","v":0.89},{"$f":"DATA!$C$10","v":64},1,364.6875,407.8125,3.1944444444444449E-2,43.125000000000007,0.10574712643678162,{"$f":"TIME(INT($AD762/60),INT(MOD($AD762,60)/1),0)","v":0},"","",341.33333333333331,309,309,"","",null,{"$f":"X772","v":37},{"$f":"Y759+1","v":"2018-09-10"},{"$f":"TEXT(Y762,\"ddd\")","v":"ma"},"DD",{"$f":"IFERROR(HLOOKUP(Y762,[1]DATA!$A$1:$NB$5,3,0),\"\")","v":"D1"},46,null,11,320,{"$f":"VLOOKUP(Y762,[1]SRM!$S$4:$AA$368,6,0)","v":14},-55.6875,0.75770114942528732,0.96060037523452158,{"$f":"IF(SUMIF(S762:S782,\">0\",K762:K782)=0,\"\",SUMIF(S762:S782,\">0\",K762:K782))","v":6117.1875},{"$f":"IF(SUM(S762:S782)=0,\"\",SUM(S762:S782))","v":4544},{"$f":"IFERROR(AL762/AK762,\"-\")","v":0.74282503192848015},{"$f":"IF(SUM(M762:M782)=0,\"0\",SUM(M762:M782))","v":553.125},{"$f":"IFERROR(AN762/AK762,\"-\")","v":9.0421455938697312E-2},{"$f":"IF(SUM(P762:P782)=0,0,SUM(P762:P782))","v":0},{"$f":"IFERROR(AP762/AK762,\"-\")","v":0},{"$f":"IFERROR(AVERAGE(AJ762:AJ782),\"-\")","v":0.94309432867278764},{"$f":"IFERROR(SUMIF($AB762:$AB782,AS$5,$AJ762:$AJ782)/COUNTIFS($AB762:$AB782,AS$5,$AJ762:$AJ782,\">0\"),\"\")","v":0.98046808806630548},0.93853042014180588,0.9102844778102519,{"$f":"IFERROR((AK762-AL762-AN762-AP762),\"-\")","v":1020.0625},{"$f":"IFERROR((1-AM762-AO762-AQ762), \"-\")","v":0.16675351213282252},{"$f":"IFERROR((AV762*$AE$2)/60,\"-\")","v":1088.0666666666666},{"$f":"IFERROR(SUM(AG762:AG782),\"\")","v":323}]
["37maMD",{"$f":"VLOOKUP($AA763,DATA!$B$3:$E763,2,0)","v":"14:30:00"},{"$f":"VLOOKUP($AA763,DATA!$B$3:$E763,3,0)","v":"22:30:00"},{"$f":"VLOOKUP($AA763,DATA!$B$3:$E763,4,0)","v":3.125E-2},0.30208333333333337,0.28125000000000006,{"$f":"DATA!$C$9","v":0.89},{"$f":"DATA!$C$10","v":64},1,379.68750000000006,407.81250000000006,2.0833333333333332E-2,28.125,6.8965517241379296E-2,{"$f":"TIME(INT(AD763/60),INT(MOD(AD763,60)/1),0)","v":0},"","",142.93333333333334,128,"","",128,null,{"$f":"X772","v":37},null,{"$f":"TEXT(Y762,\"ddd\")","v":"ma"},"MD",{"$f":"IFERROR(HLOOKUP(Y762,[1]DATA!$A$1:$NB$5,4,0),\"\")","v":"D3"},30,null,6,134,{"$f":"VLOOKUP(Y762,[1]SRM!$S$4:$AA$368,7,0)","v":10},-251.68750000000006,0.31386973180076622,0.93461203138622495]
["37maND",{"$f":"VLOOKUP($AA764,DATA!$B$3:$E764,2,0)","v":"22:30:00"},{"$f":"VLOOKUP($AA764,DATA!$B$3:$E764,3,0)","v":"06:30:00"},{"$f":"VLOOKUP($AA764,DATA!$B$3:$E764,4,0)","v":3.125E-2},0.30208333333333326,0.27430555555555547,{"$f":"DATA!$C$9","v":0.89},{"$f":"DATA!$C$10","v":64},1,370.31249999999989,407.81249999999989,2.7777777777777776E-2,37.5,9.1954022988505774E-2,0,"","",361.6,325,"",325,"",null,{"$f":"X772","v":37},null,{"$f":"TEXT(Y762,\"ddd\")","v":"ma"},"ND",{"$f":"IFERROR(HLOOKUP(Y762,[1]DATA!$A$1:$NB$5,5,0),\"\")","v":"D2"},40,null,14,339,{"$f":"VLOOKUP(Y762,[1]SRM!$S$4:$AA$368,8,0)","v":73},-45.312499999999886,0.79693486590038332,0.83202945236999537]
["37diDD",{"$f":"VLOOKUP($AA765,DATA!$B$3:$E765,2,0)","v":"06:30:00"},{"$f":"VLOOKUP($AA765,DATA!$B$3:$E765,3,0)","v":"14:30:00"},{"$f":"VLOOKUP($AA765,DATA!$B$3:$E765,4,0)","v":3.125E-2},0.30208333333333331,0.26944444444444443,{"$f":"DATA!$C$9","v":0.89},{"$f":"DATA!$C$10","v":64},1,363.75,407.8125,3.2638888888888891E-2,44.0625,0.10804597701149425,0,"","",374.4,320,320,"","",null,{"$f":"X772","v":37},"2018-09-11",{"$f":"TEXT(Y765,\"ddd\")","v":"di"},"DD",{"$f":"IFERROR(HLOOKUP(Y765,[1]DATA!$A$1:$NB$5,3,0),\"\")","v":"D1"},47,null,31,351,{"$f":"VLOOKUP(Y765,[1]SRM!$S$4:$AA$368,6,0)","v":0},-43.75,0.78467432950191573,1]
["37diMD",{"$f":"VLOOKUP($AA766,DATA!$B$3:$E766,2,0)","v":"14:30:00"},{"$f":"VLOOKUP($AA766,DATA!$B$3:$E766,3,0)","v":"22:30:00"},{"$f":"VLOOKUP($AA766,DATA!$B$3:$E766,4,0)","v":3.125E-2},0.30208333333333337,0.28263888888888894,{"$f":"DATA!$C$9","v":0.89},{"$f":"DATA!$C$10","v":64},1,381.56250000000006,407.81250000000006,1.9444444444444445E-2,26.25,6.4367816091954008E-2,0,"","",353.06666666666666,321,"","",321,null,{"$f":"X772","v":37},null,{"$f":"TEXT(Y765,\"ddd\")","v":"di"},"MD",{"$f":"IFERROR(HLOOKUP(Y765,[1]DATA!$A$1:$NB$5,4,0),\"\")","v":"D3"},28,null,10,331,{"$f":"VLOOKUP(Y765,[1]SRM!$S$4:$AA$368,7,0)","v":20},-60.562500000000057,0.7871264367816091,0.94639027877055037]
["37diND",{"$f":"VLOOKUP($AA767,DATA!$B$3:$E767,2,0)","v":"22:30:00"},{"$f":"VLOOKUP($AA767,DATA!$B$3:$E767,3,0)","v":"06:30:00"},{"$f":"VLOOKUP($AA767,DATA!$B$3:$E767,4,0)","v":3.125E-2},0.30208333333333326,0.28749999999999992,{"$f":"DATA!$C$9","v":0.89},{"$f":"DATA!$C$10","v":64},1,388.12499999999989,407.81249999999989,1.4583333333333332E-2,19.687499999999996,4.8275862068965524E-2,0,"","",363.73333333333335,301,"",301,"",null,{"$f":"X772","v":37},null,{"$f":"TEXT(Y765,\"ddd\")","v":"di"},"ND",{"$f":"IFERROR(HLOOKUP(Y765,[1]DATA!$A$1:$NB$5,5,0),\"\")","v":"D2"},21,null,40,341,{"$f":"VLOOKUP(Y765,[1]SRM!$S$4:$AA$368,8,0)","v":44},-87.124999999999886,0.73808429118773966,0.8920863309352518]
["37woDD",{"$f":"VLOOKUP($AA768,DATA!$B$3:$E768,2,0)","v":"06:30:00"},{"$f":"VLOOKUP($AA768,DATA!$B$3:$E768,3,0)","v":"14:30:00"},{"$f":"VLOOKUP($AA768,DATA!$B$3:$E768,4,0)","v":3.125E-2},0.30208333333333331,0.2673611111111111,{"$f":"DATA!$C$9","v":0.89},{"$f":"DATA!$C$10","v":64},1,360.9375,407.8125,3.4722222222222224E-2,46.875,0.11494252873563218,0,"","",344.5333333333333,312,312,"","",null,{"$f":"X772","v":37},"2018-09-12",{"$f":"TEXT(Y768,\"ddd\")","v":"wo"},"DD",{"$f":"IFERROR(HLOOKUP(Y768,[1]DATA!$A$1:$NB$5,3,0),\"\")","v":"D1"},50,null,11,323,{"$f":"VLOOKUP(Y768,[1]SRM!$S$4:$AA$368,6,0)","v":4},-48.9375,0.76505747126436785,0.98852333588370311]
["37woMD",{"$f":"VLOOKUP($AA769,DATA!$B$3:$E769,2,0)","v":"14:30:00"},{"$f":"VLOOKUP($AA769,DATA!$B$3:$E769,3,0)","v":"22:30:00"},{"$f":"VLOOKUP($AA769,DATA!$B$3:$E769,4,0)","v":3.125E-2},0.30208333333333337,0.2729166666666667,{"$f":"DATA!$C$9","v":0.89},{"$f":"DATA!$C$10","v":64},1,368.43750000000006,407.81250000000006,2.9166666666666664E-2,39.374999999999993,9.6551724137931005E-2,0,"","",337.06666666666666,291,"","",291,null,{"$f":"X772","v":37},null,{"$f":"TEXT(Y768,\"ddd\")","v":"wo"},"MD",{"$f":"IFERROR(HLOOKUP(Y768,[1]DATA!$A$1:$NB$5,4,0),\"\")","v":"D3"},42,null,25,316,{"$f":"VLOOKUP(Y768,[1]SRM!$S$4:$AA$368,7,0)","v":40},-77.437500000000057,0.7135632183908045,0.89391796322489392]
["37woND",{"$f":"VLOOKUP($AA770,DATA!$B$3:$E770,2,0)","v":"22:30:00"},{"$f":"VLOOKUP($AA770,DATA!$B$3:$E770,3,0)","v":"06:30:00"},{"$f":"VLOOKUP($AA770,DATA!$B$3:$E770,4,0)","v":3.125E-2},0.30208333333333326,0.2715277777777777,{"$f":"DATA!$C$9","v":0.89},{"$f":"DATA!$C$10","v":64},1,366.56249999999989,407.81249999999989,3.0555555555555555E-2,41.25,0.10114942528735635,0,"","",380.8,341,"",341,"",null,{"$f":"X772","v":37},null,{"$f":"TEXT(Y768,\"ddd\")","v":"wo"},"ND",{"$f":"IFERROR(HLOOKUP(Y768,[1]DATA!$A$1:$NB$5,5,0),\"\")","v":"D2"},44,null,16,357,{"$f":"VLOOKUP(Y768,[1]SRM!$S$4:$AA$368,8,0)","v":6},-25.562499999999886,0.8361685823754792,0.98448810754912097]
["37doDD",{"$f":"VLOOKUP($AA771,DATA!$B$3:$E771,2,0)","v":"06:30:00"},{"$f":"VLOOKUP($AA771,DATA!$B$3:$E771,3,0)","v":"14:30:00"},{"$f":"VLOOKUP($AA771,DATA!$B$3:$E771,4,0)","v":3.125E-2},0.30208333333333331,0.26041666666666663,{"$f":"DATA!$C$9","v":0.89},{"$f":"DATA!$C$10","v":64},1,351.56249999999994,407.8125,4.1666666666666664E-2,56.25,0.13793103448275862,0,"","",376.5333333333333,333,333,"","",null,{"$f":"X772","v":37},"2018-09-13",{"$f":"TEXT(Y771,\"ddd\")","v":"do"},"DD",{"$f":"IFERROR(HLOOKUP(Y771,[1]DATA!$A$1:$NB$5,3,0),\"\")","v":"D1"},60,null,20,353,{"$f":"VLOOKUP(Y771,[1]SRM!$S$4:$AA$368,6,0)","v":4},-18.562499999999943,0.81655172413793109,0.9894884372810091]
["37doMD",{"$f":"VLOOKUP($AA772,DATA!$B$3:$E772,2,0)","v":"14:30:00"},{"$f":"VLOOKUP($AA772,DATA!$B$3:$E772,3,0)","v":"22:30:00"},{"$f":"VLOOKUP($AA772,DATA!$B$3:$E772,4,0)","v":3.125E-2},0.30208333333333337,0.26388888888888895,{"$f":"DATA!$C$9","v":0.89},{"$f":"DATA!$C$10","v":64},1,356.25000000000006,407.81250000000006,3.8194444444444441E-2,51.562499999999993,0.12643678160919536,0,"","",364.8,331,"","",331,null,{"$f":"WEEKNUM($Y762)","v":37},null,{"$f":"TEXT(Y771,\"ddd\")","v":"do"},"MD",{"$f":"IFERROR(HLOOKUP(Y771,[1]DATA!$A$1:$NB$5,4,0),\"\")","v":"D3"},55,null,11,342,{"$f":"VLOOKUP(Y771,[1]SRM!$S$4:$AA$368,7,0)","v":53},-25.250000000000057,0.81164750957854392,0.87314504547630445]
["37doND",{"$f":"VLOOKUP($AA773,DATA!$B$3:$E773,2,0)","v":"22:30:00"},{"$f":"VLOOKUP($AA773,DATA!$B$3:$E773,3,0)","v":"06:30:00"},{"$f":"VLOOKUP($AA773,DATA!$B$3:$E773,4,0)","v":3.125E-2},0.30208333333333326,0.27777777777777768,{"$f":"DATA!$C$9","v":0.89},{"$f":"DATA!$C$10","v":64},1,374.99999999999989,407.81249999999989,2.4305555555555556E-2,32.8125,8.0459770114942555E-2,0,"","",370.13333333333333,324,"",324,"",null,{"$f":"X772","v":37},null,{"$f":"TEXT(Y771,\"ddd\")","v":"do"},"ND",{"$f":"IFERROR(HLOOKUP(Y771,[1]DATA!$A$1:$NB$5,5,0),\"\")","v":"D2"},35,null,23,347,{"$f":"VLOOKUP(Y771,[1]SRM!$S$4:$AA$368,8,0)","v":6},-50.999999999999886,0.79448275862068984,0.98404820985466146]
["37vrDD",{"$f":"VLOOKUP($AA774,DATA!$B$3:$E774,2,0)","v":"06:30:00"},{"$f":"VLOOKUP($AA774,DATA!$B$3:$E774,3,0)","v":"14:30:00"},{"$f":"VLOOKUP($AA774,DATA!$B$3:$E774,4,0)","v":3.125E-2},0.30208333333333331,0.26597222222222222,{"$f":"DATA!$C$9","v":0.89},{"$f":"DATA!$C$10","v":64},1,359.0625,407.8125,3.6111111111111115E-2,48.750000000000007,0.11954022988505748,0,"","",292.26666666666665,269,269,"","",null,{"$f":"X772","v":37},"2018-09-14",{"$f":"TEXT(Y774,\"ddd\")","v":"vr"},"DD",{"$f":"IFERROR(HLOOKUP(Y774,[1]DATA!$A$1:$NB$5,3,0),\"\")","v":"D1"},52,null,5,274,{"$f":"VLOOKUP(Y774,[1]SRM!$S$4:$AA$368,6,0)","v":11},{"$f":"IFERROR(S774-J774,\"\")","v":-90.0625},{"$f":"IFERROR(IF(S774/(E774*86400/H774)<=0,\"\",S774/(E774*86400/H774)),\"\")","v":0.6596168582375479},0.96372829193229281]
["37vrMD",{"$f":"VLOOKUP($AA775,DATA!$B$3:$E775,2,0)","v":"14:30:00"},{"$f":"VLOOKUP($AA775,DATA!$B$3:$E775,3,0)","v":"22:30:00"},{"$f":"VLOOKUP($AA775,DATA!$B$3:$E775,4,0)","v":3.125E-2},0.30208333333333337,0.27916666666666667,{"$f":"DATA!$C$9","v":0.89},{"$f":"DATA!$C$10","v":64},1,376.875,407.81250000000006,{"$f":"TIME(INT($AC775/60),INT(MOD($AC775,60)/1),0)","v":2.2916666666666669E-2},{"$f":"IF($L775*86400/$H775=0,\"\",$L775*86400/$H775)","v":30.937500000000004},{"$f":"IFERROR($M775/$K775,\"\")","v":7.586206896551724E-2},0,"",{"$f":"IFERROR($P775/$K775,\"\")","v":""},355.2,317,{"$f":"IF(IF($AB775=\"D1\",$S775,\"\")=0,\"\",IF($AB775=\"D1\",$S775,\"\"))","v":""},{"$f":"IF(IF($AB775=\"D2\",$S775,\"\")=0,\"\",IF($AB775=\"D2\",$S775,\"\"))","v":""},{"$f":"IF(IF($AB775=\"D3\",$S775,\"\")=0,\"\",IF($AB775=\"D3\",$S775,\"\"))","v":317},null,{"$f":"X772","v":37},null,{"$f":"TEXT(Y774,\"ddd\")","v":"vr"},"MD",{"$f":"IFERROR(HLOOKUP(Y774,[1]DATA!$A$1:$NB$5,4,0),\"\")","v":"D3"},33,null,16,333,{"$f":"VLOOKUP(Y774,[1]SRM!$S$4:$AA$368,7,0)","v":38},-59.875,0.7773180076628351,0.90335707019328582]
["37vrND",{"$f":"VLOOKUP($AA776,DATA!$B$3:$E776,2,0)","v":"22:30:00"},{"$f":"VLOOKUP($AA776,DATA!$B$3:$E776,3,0)","v":"06:30:00"},{"$f":"VLOOKUP($AA776,DATA!$B$3:$E776,4,0)","v":3.125E-2},0.30208333333333326,0.29722222222222217,{"$f":"DATA!$C$9","v":0.89},{"$f":"DATA!$C$10","v":64},1,401.24999999999994,407.81249999999989,4.8611111111111112E-3,6.5625,1.6091954022988509E-2,0,"","",387.2,322,"",322,"",null,{"$f":"X772","v":37},null,{"$f":"TEXT(Y774,\"ddd\")","v":"vr"},"ND",{"$f":"IFERROR(HLOOKUP(Y774,[1]DATA!$A$1:$NB$5,5,0),\"\")","v":"D2"},7,null,41,363,{"$f":"VLOOKUP(Y774,[1]SRM!$S$4:$AA$368,8,0)","v":0},-79.249999999999943,0.7895785440613029,1]
["37zaDD",{"$f":"VLOOKUP($AA777,DATA!$B$3:$E777,2,0)","v":"06:30:00"},{"$f":"VLOOKUP($AA777,DATA!$B$3:$E777,3,0)","v":"14:30:00"},{"$f":"VLOOKUP($AA777,DATA!$B$3:$E777,4,0)","v":3.125E-2},0.30208333333333331,0.30208333333333331,{"$f":"DATA!$C$9","v":0.89},{"$f":"DATA!$C$10","v":64},1,407.8125,407.8125,0,"","",0,"","",0,"","","","",null,{"$f":"X772","v":37},"2018-09-15",{"$f":"TEXT(Y777,\"ddd\")","v":"za"},"DD",{"$f":"IFERROR(HLOOKUP(Y777,[1]DATA!$A$1:$NB$5,3,0),\"\")","v":"D1"},null,null,null,null,{"$f":"VLOOKUP(Y777,[1]SRM!$S$4:$AA$368,6,0)","v":0},"","",""]
["37zaMD",{"$f":"VLOOKUP($AA778,DATA!$B$3:$E778,2,0)","v":"14:30:00"},{"$f":"VLOOKUP($AA778,DATA!$B$3:$E778,3,0)","v":"22:30:00"},{"$f":"VLOOKUP($AA778,DATA!$B$3:$E778,4,0)","v":3.125E-2},0.30208333333333337,0.30208333333333337,{"$f":"DATA!$C$9","v":0.89},{"$f":"DATA!$C$10","v":64},1,407.81250000000006,407.81250000000006,0,"","",0,"","",0,"","","","",null,{"$f":"X772","v":37},null,{"$f":"TEXT(Y777,\"ddd\")","v":"za"},"MD",{"$f":"IFERROR(HLOOKUP(Y777,[1]DATA!$A$1:$NB$5,4,0),\"\")","v":"-"},null,null,null,null,{"$f":"VLOOKUP(Y777,[1]SRM!$S$4:$AA$368,7,0)","v":0},"","",""]
["37zaND",{"$f":"VLOOKUP($AA779,DATA!$B$3:$E779,2,0)","v":"22:30:00"},{"$f":"VLOOKUP($AA779,DATA!$B$3:$E779,3,0)","v":"06:30:00"},{"$f":"VLOOKUP($AA779,DATA!$B$3:$E779,4,0)","v":3.125E-2},0.30208333333333326,0.30208333333333326,{"$f":"DATA!$C$9","v":0.89},{"$f":"DATA!$C$10","v":64},1,407.81249999999989,407.81249999999989,0,"","",0,"","",0,"","","","",null,{"$f":"X772","v":37},null,{"$f":"TEXT(Y777,\"ddd\")","v":"za"},"ND",{"$f":"IFERROR(HLOOKUP(Y777,[1]DATA!$A$1:$NB$5,5,0),\"\")","v":"-"},null,null,null,null,{"$f":"VLOOKUP(Y777,[1]SRM!$S$4:$AA$368,8,0)","v":0},"","",""]
["37zoDD",{"$f":"VLOOKUP($AA780,DATA!$B$3:$E780,2,0)","v":"06:30:00"},{"$f":"VLOOKUP($AA780,DATA!$B$3:$E780,3,0)","v":"14:30:00"},{"$f":"VLOOKUP($AA780,DATA!$B$3:$E780,4,0)","v":3.125E-2},0.30208333333333331,0.30208333333333331,{"$f":"DATA!$C$9","v":0.89},{"$f":"DATA!$C$10","v":64},1,407.8125,407.8125,0,"","",0,"","",0,"","","","",null,{"$f":"X772","v":37},"2018-09-16",{"$f":"TEXT(Y780,\"ddd\")","v":"zo"},"DD",{"$f":"IFERROR(HLOOKUP(Y780,[1]DATA!$A$1:$NB$5,3,0),\"\")","v":"-"},null,null,null,null,{"$f":"VLOOKUP(Y780,[1]SRM!$S$4:$AA$368,6,0)","v":0},"","",""]
["37zoMD",{"$f":"VLOOKUP($AA781,DATA!$B$3:$E781,2,0)","v":"14:30:00"},{"$f":"VLOOKUP($AA781,DATA!$B$3:$E781,3,0)","v":"22:30:00"},{"$f":"VLOOKUP($AA781,DATA!$B$3:$E781,4,0)","v":3.125E-2},0.30208333333333337,0.30208333333333337,{"$f":"DATA!$C$9","v":0.89},{"$f":"DATA!$C$10","v":64},1,407.81250000000006,407.81250000000006,0,"","",0,"","",0,"","","","",null,{"$f":"X772","v":37},null,{"$f":"TEXT(Y780,\"ddd\")","v":"zo"},"MD",{"$f":"IFERROR(HLOOKUP(Y780,[1]DATA!$A$1:$NB$5,4,0),\"\")","v":"-"},null,null,null,null,{"$f":"VLOOKUP(Y780,[1]SRM!$S$4:$AA$368,7,0)","v":0},"","",""]
["37zoZND",{"$f":"VLOOKUP($AA782,DATA!$B$3:$E782,2,0)","v":"00:00:00"},{"$f":"VLOOKUP($AA782,DATA!$B$3:$E782,3,0)","v":"00:00:00"},{"$f":"VLOOKUP($AA782,DATA!$B$3:$E782,4,0)","v":0},0,0,{"$f":"DATA!$C$9","v":0.89},{"$f":"DATA!$C$10","v":64},1,0,0,0,"","",0,"","",0,"","","","",null,{"$f":"X772","v":37},null,{"$f":"TEXT(Y780,\"ddd\")","v":"zo"},"ZND",{"$f":"IFERROR(HLOOKUP(Y780,[1]DATA!$A$1:$NB$5,5,0),\"\")","v":"-"},null,null,null,null,{"$f":"VLOOKUP(Y780,[1]SRM!$S$4:$AA$368,8,0)","v":0},"","",""]
["38maDD",{"$f":"VLOOKUP($AA783,DATA!$B$3:$E783,2,0)","v":"06:30:00"},{"$f":"VLOOKUP($AA783,DATA!$B$3:$E783,3,0)","v":"14:30:00"},{"$f":"VLOOKUP($AA783,DATA!$B$3:$E783,4,0)","v":3.125E-2},0.30208333333333331,0.2631944444444444,{"$f":"DATA!$C$9","v":0.89},{"$f":"DATA!$C$10","v":64},1,355.31249999999994,407.8125,3.888888888888889E-2,52.5,0.12873563218390804,{"$f":"TIME(INT($AD783/60),INT(MOD($AD783,60)/1),0)","v":0},"","",325.33333333333331,279,"","",279,null,{"$f":"X793","v":38},"2018-09-17",{"$f":"TEXT(Y783,\"ddd\")","v":"ma"},"DD",{"$f":"IFERROR(HLOOKUP(Y783,[1]DATA!$A$1:$NB$5,3,0),\"\")","v":"D3"},56,null,26,305,{"$f":"VLOOKUP(Y783,[1]SRM!$S$4:$AA$368,6,0)","v":60},-76.312499999999943,0.68413793103448273,0.84429065743944631,{"$f":"IF(SUMIF(S783:S803,\">0\",K783:K803)=0,\"\",SUMIF(S783:S803,\">0\",K783:K803))","v":6117.1875},{"$f":"IF(SUM(S783:S803)=0,\"\",SUM(S783:S803))","v":4262},{"$f":"IFERROR(AL783/AK783,\"-\")","v":0.69672541507024266},{"$f":"IF(SUM(M783:M803)=0,\"0\",SUM(M783:M803))","v":415.3125},{"$f":"IFERROR(AN783/AK783,\"-\")","v":6.7892720306513415E-2},{"$f":"IF(SUM(P783:P803)=0,0,SUM(P783:P803))","v":0},{"$f":"IFERROR(AP783/AK783,\"-\")","v":0},0.88947704448080034,{"$f":"IFERROR(SUMIF($AB783:$AB803,AS$5,$AJ783:$AJ803)/COUNTIFS($AB783:$AB803,AS$5,$AJ783:$AJ803,\">0\"),\"\")","v":0.87477481221247411},0.93317619807808949,0.84879984597871427,{"$f":"IFERROR((AK783-AL783-AN783-AP783),\"-\")","v":1439.875},{"$f":"IFERROR((1-AM783-AO783-AQ783), \"-\")","v":0.23538186462324392},{"$f":"IFERROR((AV783*$AE$2)/60,\"-\")","v":1535.8666666666666},{"$f":"IFERROR(SUM(AG783:AG803),\"\")","v":642}]
["38maMD",{"$f":"VLOOKUP($AA784,DATA!$B$3:$E784,2,0)","v":"14:30:00"},{"$f":"VLOOKUP($AA784,DATA!$B$3:$E784,3,0)","v":"22:30:00"},{"$f":"VLOOKUP($AA784,DATA!$B$3:$E784,4,0)","v":3.125E-2},0.30208333333333337,0.28958333333333336,{"$f":"DATA!$C$9","v":0.89},{"$f":"DATA!$C$10","v":64},1,390.93750000000006,407.81250000000006,1.2499999999999999E-2,16.875,4.1379310344827579E-2,{"$f":"TIME(INT(AD784/60),INT(MOD(AD784,60)/1),0)","v":0},"","",268.8,232,"",232,"",null,{"$f":"X793","v":38},null,{"$f":"TEXT(Y783,\"ddd\")","v":"ma"},"MD",{"$f":"IFERROR(HLOOKUP(Y783,[1]DATA!$A$1:$NB$5,4,0),\"\")","v":"D2"},18,null,20,252,{"$f":"VLOOKUP(Y783,[1]SRM!$S$4:$AA$368,7,0)","v":11},-158.93750000000006,0.56888888888888878,0.96068620443173691]
["38maND",{"$f":"VLOOKUP($AA785,DATA!$B$3:$E785,2,0)","v":"22:30:00"},{"$f":"VLOOKUP($AA785,DATA!$B$3:$E785,3,0)","v":"06:30:00"},{"$f":"VLOOKUP($AA785,DATA!$B$3:$E785,4,0)","v":3.125E-2},0.30208333333333326,0.28680555555555548,{"$f":"DATA!$C$9","v":0.89},{"$f":"DATA!$C$10","v":64},1,387.18749999999989,407.81249999999989,1.5277777777777777E-2,20.625,5.0574712643678174E-2,0,"","",253.86666666666667,228,228,"","",null,{"$f":"X793","v":38},null,{"$f":"TEXT(Y783,\"ddd\")","v":"ma"},"ND",{"$f":"IFERROR(HLOOKUP(Y783,[1]DATA!$A$1:$NB$5,5,0),\"\")","v":"D1"},22,null,10,238,{"$f":"VLOOKUP(Y783,[1]SRM!$S$4:$AA$368,8,0)","v":9},-159.18749999999989,0.55908045977011511,0.96576211006847579]
["38diDD",{"$f":"VLOOKUP($AA786,DATA!$B$3:$E786,2,0)","v":"06:30:00"},{"$f":"VLOOKUP($AA786,DATA!$B$3:$E786,3,0)","v":"14:30:00"},{"$f":"VLOOKUP($AA786,DATA!$B$3:$E786,4,0)","v":3.125E-2},0.30208333333333331,0.29444444444444445,{"$f":"DATA!$C$9","v":0.89},{"$f":"DATA!$C$10","v":64},1,397.5,407.8125,7.6388888888888886E-3,10.3125,2.528735632183908E-2,0,"","",354.13333333333333,320,"","",320,null,{"$f":"X793","v":38},"2018-09-18",{"$f":"TEXT(Y786,\"ddd\")","v":"di"},"DD",{"$f":"IFERROR(HLOOKUP(Y786,[1]DATA!$A$1:$NB$5,3,0),\"\")","v":"D3"},11,null,12,332,{"$f":"VLOOKUP(Y786,[1]SRM!$S$4:$AA$368,6,0)","v":37},-77.5,0.78467432950191573,0.90540310209647179]
["38diMD",{"$f":"VLOOKUP($AA787,DATA!$B$3:$E787,2,0)","v":"14:30:00"},{"$f":"VLOOKUP($AA787,DATA!$B$3:$E787,3,0)","v":"22:30:00"},{"$f":"VLOOKUP($AA787,DATA!$B$3:$E787,4,0)","v":3.125E-2},0.30208333333333337,0.26458333333333339,{"$f":"DATA!$C$9","v":0.89},{"$f":"DATA!$C$10","v":64},1,357.18750000000006,407.81250000000006,3.7499999999999999E-2,50.625,0.12413793103448274,0,"","",334.93333333333334,296,"",296,"",null,{"$f":"X793","v":38},null,{"$f":"TEXT(Y786,\"ddd\")","v":"di"},"MD",{"$f":"IFERROR(HLOOKUP(Y786,[1]DATA!$A$1:$NB$5,4,0),\"\")","v":"D2"},54,null,18,314,{"$f":"VLOOKUP(Y786,[1]SRM!$S$4:$AA$368,7,0)","v":8},-61.187500000000057,0.72582375478927197,0.97667185069984452]
["38diND",{"$f":"VLOOKUP($AA788,DATA!$B$3:$E788,2,0)","v":"22:30:00"},{"$f":"VLOOKUP($AA788,DATA!$B$3:$E788,3,0)","v":"06:30:00"},{"$f":"VLOOKUP($AA788,DATA!$B$3:$E788,4,0)","v":3.125E-2},0.30208333333333326,0.28888888888888881,{"$f":"DATA!$C$9","v":0.89},{"$f":"DATA!$C$10","v":64},1,389.99999999999989,407.81249999999989,1.3194444444444444E-2,17.8125,4.3678160919540243E-2,0,"","",261.33333333333331,218,218,"","",null,{"$f":"X793","v":38},null,{"$f":"TEXT(Y786,\"ddd\")","v":"di"},"ND",{"$f":"IFERROR(HLOOKUP(Y786,[1]DATA!$A$1:$NB$5,5,0),\"\")","v":"D1"},19,null,27,245,{"$f":"VLOOKUP(Y786,[1]SRM!$S$4:$AA$368,8,0)","v":117},-171.99999999999989,0.53455938697318017,0.69074889867841405]
["38woDD",{"$f":"VLOOKUP($AA789,DATA!$B$3:$E789,2,0)","v":"06:30:00"},{"$f":"VLOOKUP($AA789,DATA!$B$3:$E789,3,0)","v":"14:30:00"},{"$f":"VLOOKUP($AA789,DATA!$B$3:$E789,4,0)","v":3.125E-2},0.30208333333333331,0.30208333333333331,{"$f":"DATA!$C$9","v":0.89},{"$f":"DATA!$C$10","v":64},1,407.8125,407.8125,0,"","",0,"","",378.66666666666669,322,"","",322,null,{"$f":"X793","v":38},"2018-09-19",{"$f":"TEXT(Y789,\"ddd\")","v":"wo"},"DD",{"$f":"IFERROR(HLOOKUP(Y789,[1]DATA!$A$1:$NB$5,3,0),\"\")","v":"D3"},0,null,33,355,{"$f":"VLOOKUP(Y789,[1]SRM!$S$4:$AA$368,6,0)","v":60},-85.8125,0.78957854406130268,0.86322188449848025]
["38woMD",{"$f":"VLOOKUP($AA790,DATA!$B$3:$E790,2,0)","v":"14:30:00"},{"$f":"VLOOKUP($AA790,DATA!$B$3:$E790,3,0)","v":"22:30:00"},{"$f":"VLOOKUP($AA790,DATA!$B$3:$E790,4,0)","v":3.125E-2},0.30208333333333337,0.27916666666666667,{"$f":"DATA!$C$9","v":0.89},{"$f":"DATA!$C$10","v":64},1,376.875,407.81250000000006,2.2916666666666669E-2,30.937500000000004,7.586206896551724E-2,0,"","",325.33333333333331,273,"",273,"",null,{"$f":"X793","v":38},null,{"$f":"TEXT(Y789,\"ddd\")","v":"wo"},"MD",{"$f":"IFERROR(HLOOKUP(Y789,[1]DATA!$A$1:$NB$5,4,0),\"\")","v":"D2"},33,null,32,305,{"$f":"VLOOKUP(Y789,[1]SRM!$S$4:$AA$368,7,0)","v":37},-103.875,0.66942528735632179,0.89788408463661451]
["38woND",{"$f":"VLOOKUP($AA791,DATA!$B$3:$E791,2,0)","v":"22:30:00"},{"$f":"VLOOKUP($AA791,DATA!$B$3:$E791,3,0)","v":"06:30:00"},{"$f":"VLOOKUP($AA791,DATA!$B$3:$E791,4,0)","v":3.125E-2},0.30208333333333326,0.29513888888888884,{"$f":"DATA!$C$9","v":0.89},{"$f":"DATA!$C$10","v":64},1,398.43749999999994,407.81249999999989,6.9444444444444441E-3,9.375,2.2988505747126443E-2,0,"","",384,318,318,"","",null,{"$f":"X793","v":38},null,{"$f":"TEXT(Y789,\"ddd\")","v":"wo"},"ND",{"$f":"IFERROR(HLOOKUP(Y789,[1]DATA!$A$1:$NB$5,5,0),\"\")","v":"D1"},10,null,42,360,{"$f":"VLOOKUP(Y789,[1]SRM!$S$4:$AA$368,8,0)","v":49},-80.437499999999943,0.7797701149425289,0.88683602771362591]
["38doDD",{"$f":"VLOOKUP($AA792,DATA!$B$3:$E792,2,0)","v":"06:30:00"},{"$f":"VLOOKUP($AA792,DATA!$B$3:$E792,3,0)","v":"14:30:00"},{"$f":"VLOOKUP($AA792,DATA!$B$3:$E792,4,0)","v":3.125E-2},0.30208333333333331,0.26249999999999996,{"$f":"DATA!$C$9","v":0.89},{"$f":"DATA!$C$10","v":64},1,354.37499999999994,407.8125,3.9583333333333331E-2,53.4375,0.1310344827586207,0,"","",353.06666666666666,306,"","",306,null,{"$f":"X793","v":38},"2018-09-20",{"$f":"TEXT(Y792,\"ddd\")","v":"do"},"DD",{"$f":"IFERROR(HLOOKUP(Y792,[1]DATA!$A$1:$NB$5,3,0),\"\")","v":"D3"},57,null,25,331,{"$f":"VLOOKUP(Y792,[1]SRM!$S$4:$AA$368,6,0)","v":78},-48.374999999999943,0.75034482758620691,0.81905351067120324]
["38doMD",{"$f":"VLOOKUP($AA793,DATA!$B$3:$E793,2,0)","v":"14:30:00"},{"$f":"VLOOKUP($AA793,DATA!$B$3:$E793,3,0)","v":"22:30:00"},{"$f":"VLOOKUP($AA793,DATA!$B$3:$E793,4,0)","v":3.125E-2},0.30208333333333337,0.28680555555555559,{"$f":"DATA!$C$9","v":0.89},{"$f":"DATA!$C$10","v":64},1,387.18750000000006,407.81250000000006,1.5277777777777777E-2,20.625,5.0574712643678153E-2,0,"","",370.13333333333333,327,"",327,"",null,{"$f":"WEEKNUM($Y783)","v":38},null,{"$f":"TEXT(Y792,\"ddd\")","v":"do"},"MD",{"$f":"IFERROR(HLOOKUP(Y792,[1]DATA!$A$1:$NB$5,4,0),\"\")","v":"D2"},22,null,20,347,{"$f":"VLOOKUP(Y792,[1]SRM!$S$4:$AA$368,7,0)","v":74},-60.187500000000057,0.80183908045977004,0.83338336835785054]
["38doND",{"$f":"VLOOKUP($AA794,DATA!$B$3:$E794,2,0)","v":"22:30:00"},{"$f":"VLOOKUP($AA794,DATA!$B$3:$E794,3,0)","v":"06:30:00"},{"$f":"VLOOKUP($AA794,DATA!$B$3:$E794,4,0)","v":3.125E-2},0.30208333333333326,0.28402777777777771,{"$f":"DATA!$C$9","v":0.89},{"$f":"DATA!$C$10","v":64},1,383.43749999999989,407.81249999999989,1.8055555555555557E-2,24.375000000000004,5.9770114942528763E-2,0,"","",345.6,307,307,"","",null,{"$f":"X793","v":38},null,{"$f":"TEXT(Y792,\"ddd\")","v":"do"},"ND",{"$f":"IFERROR(HLOOKUP(Y792,[1]DATA!$A$1:$NB$5,5,0),\"\")","v":"D1"},26,null,17,324,{"$f":"VLOOKUP(Y792,[1]SRM!$S$4:$AA$368,8,0)","v":16},-76.437499999999886,0.7527969348659006,0.95575221238938057]
["38vrDD",{"$f":"VLOOKUP($AA795,DATA!$B$3:$E795,2,0)","v":"06:30:00"},{"$f":"VLOOKUP($AA795,DATA!$B$3:$E795,3,0)","v":"14:30:00"},{"$f":"VLOOKUP($AA795,DATA!$B$3:$E795,4,0)","v":3.125E-2},0.30208333333333331,0.27847222222222223,{"$f":"DATA!$C$9","v":0.89},{"$f":"DATA!$C$10","v":64},1,375.9375,407.8125,2.361111111111111E-2,31.875,7.8160919540229884E-2,0,"","",259.2,223,"","",223,null,{"$f":"X793","v":38},"2018-09-21",{"$f":"TEXT(Y795,\"ddd\")","v":"vr"},"DD",{"$f":"IFERROR(HLOOKUP(Y795,[1]DATA!$A$1:$NB$5,3,0),\"\")","v":"D3"},34,null,20,243,{"$f":"VLOOKUP(Y795,[1]SRM!$S$4:$AA$368,6,0)","v":60},-152.9375,0.54681992337164753,{"$f":"IFERROR(R795/(R795+AG795),\"\")","v":0.81203007518796988}]
["38vrMD",{"$f":"VLOOKUP($AA796,DATA!$B$3:$E796,2,0)","v":"14:30:00"},{"$f":"VLOOKUP($AA796,DATA!$B$3:$E796,3,0)","v":"22:30:00"},{"$f":"VLOOKUP($AA796,DATA!$B$3:$E796,4,0)","v":3.125E-2},{"$f":"(C796-B796+(B796>C796))-D796","v":0.30208333333333337},{"$f":"E796-O796-L796","v":0.27708333333333335},{"$f":"DATA!$C$9","v":0.89},{"$f":"DATA!$C$10","v":64},1,{"$f":"F796*86400/H796*I796","v":374.0625},{"$f":"E796*86400/H796","v":407.81250000000006},2.4999999999999998E-2,33.75,8.2758620689655157E-2,0,"","",{"$f":"AF796*AG$2","v":347.73333333333335},{"$f":"IF(AF796-AE796=0,\"\",AF796-AE796)","v":314},"",314,"",null,{"$f":"X793","v":38},null,{"$f":"TEXT(Y795,\"ddd\")","v":"vr"},"MD",{"$f":"IFERROR(HLOOKUP(Y795,[1]DATA!$A$1:$NB$5,4,0),\"\")","v":"D2"},36,null,12,326,{"$f":"VLOOKUP(Y795,[1]SRM!$S$4:$AA$368,7,0)","v":26},-60.0625,0.76996168582375468,0.93043168034249024]
["38vrND",{"$f":"VLOOKUP($AA797,DATA!$B$3:$E797,2,0)","v":"22:30:00"},{"$f":"VLOOKUP($AA797,DATA!$B$3:$E797,3,0)","v":"06:30:00"},{"$f":"VLOOKUP($AA797,DATA!$B$3:$E797,4,0)","v":3.125E-2},0.30208333333333326,0.27083333333333326,{"$f":"DATA!$C$9","v":0.89},{"$f":"DATA!$C$10","v":64},1,365.62499999999989,407.81249999999989,3.125E-2,42.1875,0.10344827586206899,0,"","",344.5333333333333,299,"",299,"",null,{"$f":"X793","v":38},null,{"$f":"TEXT(Y795,\"ddd\")","v":"vr"},"ND",{"$f":"IFERROR(HLOOKUP(Y795,[1]DATA!$A$1:$NB$5,5,0),\"\")","v":"D2"},45,null,24,323,{"$f":"VLOOKUP(Y795,[1]SRM!$S$4:$AA$368,8,0)","v":0},-66.624999999999886,0.73318007662835272,1]
["38zaDD",{"$f":"VLOOKUP($AA798,DATA!$B$3:$E798,2,0)","v":"06:30:00"},{"$f":"VLOOKUP($AA798,DATA!$B$3:$E798,3,0)","v":"14:30:00"},{"$f":"VLOOKUP($AA798,DATA!$B$3:$E798,4,0)","v":3.125E-2},0.30208333333333331,0.30208333333333331,{"$f":"DATA!$C$9","v":0.89},{"$f":"DATA!$C$10","v":64},1,407.8125,407.8125,0,"","",0,"","",0,"","","","",null,{"$f":"X793","v":38},"2018-09-22",{"$f":"TEXT(Y798,\"ddd\")","v":"za"},"DD",{"$f":"IFERROR(HLOOKUP(Y798,[1]DATA!$A$1:$NB$5,3,0),\"\")","v":"D3"},null,null,null,null,{"$f":"VLOOKUP(Y798,[1]SRM!$S$4:$AA$368,6,0)","v":0},"","",""]
["38zaMD",{"$f":"VLOOKUP($AA799,DATA!$B$3:$E799,2,0)","v":"14:30:00"},{"$f":"VLOOKUP($AA799,DATA!$B$3:$E799,3,0)","v":"22:30:00"},{"$f":"VLOOKUP($AA799,DATA!$B$3:$E799,4,0)","v":3.125E-2},0.30208333333333337,0.30208333333333337,{"$f":"DATA!$C$9","v":0.89},{"$f":"DATA!$C$10","v":64},1,407.81250000000006,407.81250000000006,0,"","",0,"","",0,"","","","",null,{"$f":"X793","v":38},null,{"$f":"TEXT(Y798,\"ddd\")","v":"za"},"MD",{"$f":"IFERROR(HLOOKUP(Y798,[1]DATA!$A$1:$NB$5,4,0),\"\")","v":"-"},null,null,null,null,{"$f":"VLOOKUP(Y798,[1]SRM!$S$4:$AA$368,7,0)","v":0},"","",""]
["38zaND",{"$f":"VLOOKUP($AA800,DATA!$B$3:$E800,2,0)","v":"22:30:00"},{"$f":"VLOOKUP($AA800,DATA!$B$3:$E800,3,0)","v":"06:30:00"},{"$f":"VLOOKUP($AA800,DATA!$B$3:$E800,4,0)","v":3.125E-2},0.30208333333333326,0.30208333333333326,{"$f":"DATA!$C$9","v":0.89},{"$f":"DATA!$C$10","v":64},1,407.81249999999989,407.81249999999989,0,"","",0,"","",0,"","","","",null,{"$f":"X793","v":38},null,{"$f":"TEXT(Y798,\"ddd\")","v":"za"},"ND",{"$f":"IFERROR(HLOOKUP(Y798,[1]DATA!$A$1:$NB$5,5,0),\"\")","v":"-"},null,null,null,null,{"$f":"VLOOKUP(Y798,[1]SRM!$S$4:$AA$368,8,0)","v":0},"","",""]
["38zoDD",{"$f":"VLOOKUP($AA801,DATA!$B$3:$E801,2,0)","v":"06:30:00"},{"$f":"VLOOKUP($AA801,DATA!$B$3:$E801,3,0)","v":"14:30:00"},{"$f":"VLOOKUP($AA801,DATA!$B$3:$E801,4,0)","v":3.125E-2},0.30208333333333331,0.30208333333333331,{"$f":"DATA!$C$9","v":0.89},{"$f":"DATA!$C$10","v":64},1,407.8125,407.8125,0,"","",0,"","",0,"","","","",null,{"$f":"X793","v":38},"2018-09-23",{"$f":"TEXT(Y801,\"ddd\")","v":"zo"},"DD",{"$f":"IFERROR(HLOOKUP(Y801,[1]DATA!$A$1:$NB$5,3,0),\"\")","v":"-"},null,null,null,null,{"$f":"VLOOKUP(Y801,[1]SRM!$S$4:$AA$368,6,0)","v":0},"","",""]
["38zoMD",{"$f":"VLOOKUP($AA802,DATA!$B$3:$E802,2,0)","v":"14:30:00"},{"$f":"VLOOKUP($AA802,DATA!$B$3:$E802,3,0)","v":"22:30:00"},{"$f":"VLOOKUP($AA802,DATA!$B$3:$E802,4,0)","v":3.125E-2},0.30208333333333337,0.30208333333333337,{"$f":"DATA!$C$9","v":0.89},{"$f":"DATA!$C$10","v":64},1,407.81250000000006,407.81250000000006,0,"","",0,"","",0,"","","","",null,{"$f":"X793","v":38},null,{"$f":"TEXT(Y801,\"ddd\")","v":"zo"},"MD",{"$f":"IFERROR(HLOOKUP(Y801,[1]DATA!$A$1:$NB$5,4,0),\"\")","v":"-"},null,null,null,null,{"$f":"VLOOKUP(Y801,[1]SRM!$S$4:$AA$368,7,0)","v":0},"","",""]
["38zoZND",{"$f":"VLOOKUP($AA803,DATA!$B$3:$E803,2,0)","v":"00:00:00"},{"$f":"VLOOKUP($AA803,DATA!$B$3:$E803,3,0)","v":"00:00:00"},{"$f":"VLOOKUP($AA803,DATA!$B$3:$E803,4,0)","v":0},0,0,{"$f":"DATA!$C$9","v":0.89},{"$f":"DATA!$C$10","v":64},1,0,0,0,"","",0,"","",0,"","","","",null,{"$f":"X793","v":38},null,{"$f":"TEXT(Y801,\"ddd\")","v":"zo"},"ZND",{"$f":"IFERROR(HLOOKUP(Y801,[1]DATA!$A$1:$NB$5,5,0),\"\")","v":"-"},null,null,null,null,{"$f":"VLOOKUP(Y801,[1]SRM!$S$4:$AA$368,8,0)","v":0},"","",""]
["39maDD",{"$f":"VLOOKUP($AA804,DATA!$B$3:$E804,2,0)","v":"06:30:00"},{"$f":"VLOOKUP($AA804,DATA!$B$3:$E804,3,0)","v":"14:30:00"},{"$f":"VLOOKUP($AA804,DATA!$B$3:$E804,4,0)","v":3.125E-2},0.30208333333333331,0.30208333333333331,{"$f":"DATA!$C$9","v":0.89},{"$f":"DATA!$C$10","v":64},1,407.8125,407.8125,0,"","",{"$f":"TIME(INT($AD804/60),INT(MOD($AD804,60)/1),0)","v":0},"","",0,"","","","",null,{"$f":"X814","v":39},"2018-09-24",{"$f":"TEXT(Y804,\"ddd\")","v":"ma"},"DD",{"$f":"IFERROR(HLOOKUP(Y804,[1]DATA!$A$1:$NB$5,3,0),\"\")","v":"D2"},null,null,null,null,{"$f":"VLOOKUP(Y804,[1]SRM!$S$4:$AA$368,6,0)","v":21},"","",0,{"$f":"IF(SUMIF(S804:S824,\">0\",K804:K824)=0,\"\",SUMIF(S804:S824,\">0\",K804:K824))","v":""},{"$f":"IF(SUM(S804:S824)=0,\"\",SUM(S804:S824))","v":""},{"$f":"IFERROR(AL804/AK804,\"-\")","v":"-"},{"$f":"IF(SUM(M804:M824)=0,\"0\",SUM(M804:M824))","v":"0"},{"$f":"IFERROR(AN804/AK804,\"-\")","v":"-"},{"$f":"IF(SUM(P804:P824)=0,0,SUM(P804:P824))","v":0},{"$f":"IFERROR(AP804/AK804,\"-\")","v":"-"},0,{"$f":"IFERROR(SUMIF($AB804:$AB824,AS$5,$AJ804:$AJ824)/COUNTIFS($AB804:$AB824,AS$5,$AJ804:$AJ824,\">0\"),\"\")","v":""},"","",{"$f":"IFERROR((AK804-AL804-AN804-AP804),\"-\")","v":"-"},{"$f":"IFERROR((1-AM804-AO804-AQ804), \"-\")","v":"-"},{"$f":"IFERROR((AV804*$AE$2)/60,\"-\")","v":"-"},{"$f":"IFERROR(SUM(AG804:AG824),\"\")","v":813}]
["39maMD",{"$f":"VLOOKUP($AA805,DATA!$B$3:$E805,2,0)","v":"14:30:00"},{"$f":"VLOOKUP($AA805,DATA!$B$3:$E805,3,0)","v":"22:30:00"},{"$f":"VLOOKUP($AA805,DATA!$B$3:$E805,4,0)","v":3.125E-2},0.30208333333333337,0.30208333333333337,{"$f":"DATA!$C$9","v":0.89},{"$f":"DATA!$C$10","v":64},1,407.81250000000006,407.81250000000006,0,"","",{"$f":"TIME(INT(AD805/60),INT(MOD(AD805,60)/1),0)","v":0},"","",0,"","","","",null,{"$f":"X814","v":39},null,{"$f":"TEXT(Y804,\"ddd\")","v":"ma"},"MD",{"$f":"IFERROR(HLOOKUP(Y804,[1]DATA!$A$1:$NB$5,4,0),\"\")","v":"D1"},null,null,null,null,{"$f":"VLOOKUP(Y804,[1]SRM!$S$4:$AA$368,7,0)","v":164},"","",0]
["39maND",{"$f":"VLOOKUP($AA806,DATA!$B$3:$E806,2,0)","v":"22:30:00"},{"$f":"VLOOKUP($AA806,DATA!$B$3:$E806,3,0)","v":"06:30:00"},{"$f":"VLOOKUP($AA806,DATA!$B$3:$E806,4,0)","v":3.125E-2},0.30208333333333326,0.30208333333333326,{"$f":"DATA!$C$9","v":0.89},{"$f":"DATA!$C$10","v":64},1,407.81249999999989,407.81249999999989,0,"","",0,"","",0,"","","","",null,{"$f":"X814","v":39},null,{"$f":"TEXT(Y804,\"ddd\")","v":"ma"},"ND",{"$f":"IFERROR(HLOOKUP(Y804,[1]DATA!$A$1:$NB$5,5,0),\"\")","v":"D3"},null,null,null,null,{"$f":"VLOOKUP(Y804,[1]SRM!$S$4:$AA$368,8,0)","v":205},"","",0]
["39diDD",{"$f":"VLOOKUP($AA807,DATA!$B$3:$E807,2,0)","v":"06:30:00"},{"$f":"VLOOKUP($AA807,DATA!$B$3:$E807,3,0)","v":"14:30:00"},{"$f":"VLOOKUP($AA807,DATA!$B$3:$E807,4,0)","v":3.125E-2},0.30208333333333331,0.30208333333333331,{"$f":"DATA!$C$9","v":0.89},{"$f":"DATA!$C$10","v":64},1,407.8125,407.8125,0,"","",0,"","",0,"","","","",null,{"$f":"X814","v":39},"2018-09-25",{"$f":"TEXT(Y807,\"ddd\")","v":"di"},"DD",{"$f":"IFERROR(HLOOKUP(Y807,[1]DATA!$A$1:$NB$5,3,0),\"\")","v":"D2"},null,null,null,null,{"$f":"VLOOKUP(Y807,[1]SRM!$S$4:$AA$368,6,0)","v":26},"","",0]
["39diMD",{"$f":"VLOOKUP($AA808,DATA!$B$3:$E808,2,0)","v":"14:30:00"},{"$f":"VLOOKUP($AA808,DATA!$B$3:$E808,3,0)","v":"22:30:00"},{"$f":"VLOOKUP($AA808,DATA!$B$3:$E808,4,0)","v":3.125E-2},0.30208333333333337,0.30208333333333337,{"$f":"DATA!$C$9","v":0.89},{"$f":"DATA!$C$10","v":64},1,407.81250000000006,407.81250000000006,0,"","",0,"","",0,"","","","",null,{"$f":"X814","v":39},null,{"$f":"TEXT(Y807,\"ddd\")","v":"di"},"MD",{"$f":"IFERROR(HLOOKUP(Y807,[1]DATA!$A$1:$NB$5,4,0),\"\")","v":"D1"},null,null,null,null,{"$f":"VLOOKUP(Y807,[1]SRM!$S$4:$AA$368,7,0)","v":86},"","",0]
["39diND",{"$f":"VLOOKUP($AA809,DATA!$B$3:$E809,2,0)","v":"22:30:00"},{"$f":"VLOOKUP($AA809,DATA!$B$3:$E809,3,0)","v":"06:30:00"},{"$f":"VLOOKUP($AA809,DATA!$B$3:$E809,4,0)","v":3.125E-2},0.30208333333333326,0.30208333333333326,{"$f":"DATA!$C$9","v":0.89},{"$f":"DATA!$C$10","v":64},1,407.81249999999989,407.81249999999989,0,"","",0,"","",0,"","","","",null,{"$f":"X814","v":39},null,{"$f":"TEXT(Y807,\"ddd\")","v":"di"},"ND",{"$f":"IFERROR(HLOOKUP(Y807,[1]DATA!$A$1:$NB$5,5,0),\"\")","v":"D3"},null,null,null,null,{"$f":"VLOOKUP(Y807,[1]SRM!$S$4:$AA$368,8,0)","v":40},"","",0]
["39woDD",{"$f":"VLOOKUP($AA810,DATA!$B$3:$E810,2,0)","v":"06:30:00"},{"$f":"VLOOKUP($AA810,DATA!$B$3:$E810,3,0)","v":"14:30:00"},{"$f":"VLOOKUP($AA810,DATA!$B$3:$E810,4,0)","v":3.125E-2},0.30208333333333331,0.30208333333333331,{"$f":"DATA!$C$9","v":0.89},{"$f":"DATA!$C$10","v":64},1,407.8125,407.8125,0,"","",0,"","",0,"","","","",null,{"$f":"X814","v":39},"2018-09-26",{"$f":"TEXT(Y810,\"ddd\")","v":"wo"},"DD",{"$f":"IFERROR(HLOOKUP(Y810,[1]DATA!$A$1:$NB$5,3,0),\"\")","v":"D2"},null,null,null,null,{"$f":"VLOOKUP(Y810,[1]SRM!$S$4:$AA$368,6,0)","v":91},"","",0]
["39woMD",{"$f":"VLOOKUP($AA811,DATA!$B$3:$E811,2,0)","v":"14:30:00"},{"$f":"VLOOKUP($AA811,DATA!$B$3:$E811,3,0)","v":"22:30:00"},{"$f":"VLOOKUP($AA811,DATA!$B$3:$E811,4,0)","v":3.125E-2},0.30208333333333337,0.30208333333333337,{"$f":"DATA!$C$9","v":0.89},{"$f":"DATA!$C$10","v":64},1,407.81250000000006,407.81250000000006,0,"","",0,"","",0,"","","","",null,{"$f":"X814","v":39},null,{"$f":"TEXT(Y810,\"ddd\")","v":"wo"},"MD",{"$f":"IFERROR(HLOOKUP(Y810,[1]DATA!$A$1:$NB$5,4,0),\"\")","v":"D1"},null,null,null,null,{"$f":"VLOOKUP(Y810,[1]SRM!$S$4:$AA$368,7,0)","v":20},"","",0]
["39woND",{"$f":"VLOOKUP($AA812,DATA!$B$3:$E812,2,0)","v":"22:30:00"},{"$f":"VLOOKUP($AA812,DATA!$B$3:$E812,3,0)","v":"06:30:00"},{"$f":"VLOOKUP($AA812,DATA!$B$3:$E812,4,0)","v":3.125E-2},0.30208333333333326,0.30208333333333326,{"$f":"DATA!$C$9","v":0.89},{"$f":"DATA!$C$10","v":64},1,407.81249999999989,407.81249999999989,0,"","",0,"","",0,"","","","",null,{"$f":"X814","v":39},null,{"$f":"TEXT(Y810,\"ddd\")","v":"wo"},"ND",{"$f":"IFERROR(HLOOKUP(Y810,[1]DATA!$A$1:$NB$5,5,0),\"\")","v":"D3"},null,null,null,null,{"$f":"VLOOKUP(Y810,[1]SRM!$S$4:$AA$368,8,0)","v":120},"","",0]
["39doDD",{"$f":"VLOOKUP($AA813,DATA!$B$3:$E813,2,0)","v":"06:30:00"},{"$f":"VLOOKUP($AA813,DATA!$B$3:$E813,3,0)","v":"14:30:00"},{"$f":"VLOOKUP($AA813,DATA!$B$3:$E813,4,0)","v":3.125E-2},0.30208333333333331,0.30208333333333331,{"$f":"DATA!$C$9","v":0.89},{"$f":"DATA!$C$10","v":64},1,407.8125,407.8125,0,"","",0,"","",0,"","","","",null,{"$f":"X814","v":39},"2018-09-27",{"$f":"TEXT(Y813,\"ddd\")","v":"do"},"DD",{"$f":"IFERROR(HLOOKUP(Y813,[1]DATA!$A$1:$NB$5,3,0),\"\")","v":"D2"},null,null,null,null,{"$f":"VLOOKUP(Y813,[1]SRM!$S$4:$AA$368,6,0)","v":40},"","",0]
["39doMD",{"$f":"VLOOKUP($AA814,DATA!$B$3:$E814,2,0)","v":"14:30:00"},{"$f":"VLOOKUP($AA814,DATA!$B$3:$E814,3,0)","v":"22:30:00"},{"$f":"VLOOKUP($AA814,DATA!$B$3:$E814,4,0)","v":3.125E-2},0.30208333333333337,0.30208333333333337,{"$f":"DATA!$C$9","v":0.89},{"$f":"DATA!$C$10","v":64},1,407.81250000000006,407.81250000000006,0,"","",0,"","",0,"","","","",null,{"$f":"WEEKNUM($Y804)","v":39},null,{"$f":"TEXT(Y813,\"ddd\")","v":"do"},"MD",{"$f":"IFERROR(HLOOKUP(Y813,[1]DATA!$A$1:$NB$5,4,0),\"\")","v":"D1"},null,null,null,null,{"$f":"VLOOKUP(Y813,[1]SRM!$S$4:$AA$368,7,0)","v":0},"","",""]
["39doND",{"$f":"VLOOKUP($AA815,DATA!$B$3:$E815,2,0)","v":"22:30:00"},{"$f":"VLOOKUP($AA815,DATA!$B$3:$E815,3,0)","v":"06:30:00"},{"$f":"VLOOKUP($AA815,DATA!$B$3:$E815,4,0)","v":3.125E-2},0.30208333333333326,0.30208333333333326,{"$f":"DATA!$C$9","v":0.89},{"$f":"DATA!$C$10","v":64},1,407.81249999999989,407.81249999999989,0,"","",0,"","",0,"","","","",null,{"$f":"X814","v":39},null,{"$f":"TEXT(Y813,\"ddd\")","v":"do"},"ND",{"$f":"IFERROR(HLOOKUP(Y813,[1]DATA!$A$1:$NB$5,5,0),\"\")","v":"D3"},null,null,null,null,{"$f":"VLOOKUP(Y813,[1]SRM!$S$4:$AA$368,8,0)","v":0},"","",""]
[{"$f":"X816&Z816&AA816","v":"39vrDD"},{"$f":"VLOOKUP($AA816,DATA!$B$3:$E816,2,0)","v":"06:30:00"},{"$f":"VLOOKUP($AA816,DATA!$B$3:$E816,3,0)","v":"14:30:00"},{"$f":"VLOOKUP($AA816,DATA!$B$3:$E816,4,0)","v":3.125E-2},0.30208333333333331,0.30208333333333331,{"$f":"DATA!$C$9","v":0.89},{"$f":"DATA!$C$10","v":64},1,407.8125,407.8125,0,"","",0,{"$f":"IF($O816*86400/$H816=0,\"\",$O816*86400/$H816)","v":""},"",0,"","","","",null,{"$f":"X814","v":39},"2018-09-28",{"$f":"TEXT(Y816,\"ddd\")","v":"vr"},"DD",{"$f":"IFERROR(HLOOKUP(Y816,[1]DATA!$A$1:$NB$5,3,0),\"\")","v":"D2"},null,null,null,null,{"$f":"VLOOKUP(Y816,[1]SRM!$S$4:$AA$368,6,0)","v":0},"","",""]
["39vrMD",{"$f":"VLOOKUP($AA817,DATA!$B$3:$E817,2,0)","v":"14:30:00"},{"$f":"VLOOKUP($AA817,DATA!$B$3:$E817,3,0)","v":"22:30:00"},{"$f":"VLOOKUP($AA817,DATA!$B$3:$E817,4,0)","v":3.125E-2},0.30208333333333337,0.30208333333333337,{"$f":"DATA!$C$9","v":0.89},{"$f":"DATA!$C$10","v":64},1,407.81250000000006,407.81250000000006,0,"","",0,"","",0,"","","","",null,{"$f":"X814","v":39},null,{"$f":"TEXT(Y816,\"ddd\")","v":"vr"},"MD",{"$f":"IFERROR(HLOOKUP(Y816,[1]DATA!$A$1:$NB$5,4,0),\"\")","v":"D1"},null,null,null,null,{"$f":"VLOOKUP(Y816,[1]SRM!$S$4:$AA$368,7,0)","v":0},"","",""]
["39vrND",{"$f":"VLOOKUP($AA818,DATA!$B$3:$E818,2,0)","v":"22:30:00"},{"$f":"VLOOKUP($AA818,DATA!$B$3:$E818,3,0)","v":"06:30:00"},{"$f":"VLOOKUP($AA818,DATA!$B$3:$E818,4,0)","v":3.125E-2},0.30208333333333326,0.30208333333333326,{"$f":"DATA!$C$9","v":0.89},{"$f":"DATA!$C$10","v":64},1,407.81249999999989,407.81249999999989,0,"","",0,"","",0,"","","","",null,{"$f":"X814","v":39},null,{"$f":"TEXT(Y816,\"ddd\")","v":"vr"},"ND",{"$f":"IFERROR(HLOOKUP(Y816,[1]DATA!$A$1:$NB$5,5,0),\"\")","v":"D3"},null,null,null,null,{"$f":"VLOOKUP(Y816,[1]SRM!$S$4:$AA$368,8,0)","v":0},"","",""]
["39zaDD",{"$f":"VLOOKUP($AA819,DATA!$B$3:$E819,2,0)","v":"06:30:00"},{"$f":"VLOOKUP($AA819,DATA!$B$3:$E819,3,0)","v":"14:30:00"},{"$f":"VLOOKUP($AA819,DATA!$B$3:$E819,4,0)","v":3.125E-2},0.30208333333333331,0.30208333333333331,{"$f":"DATA!$C$9","v":0.89},{"$f":"DATA!$C$10","v":64},1,407.8125,407.8125,0,"","",0,"","",0,"","","","",null,{"$f":"X814","v":39},"2018-09-29",{"$f":"TEXT(Y819,\"ddd\")","v":"za"},"DD",{"$f":"IFERROR(HLOOKUP(Y819,[1]DATA!$A$1:$NB$5,3,0),\"\")","v":"D2"},null,null,null,null,{"$f":"VLOOKUP(Y819,[1]SRM!$S$4:$AA$368,6,0)","v":0},"","",""]
["39zaMD",{"$f":"VLOOKUP($AA820,DATA!$B$3:$E820,2,0)","v":"14:30:00"},{"$f":"VLOOKUP($AA820,DATA!$B$3:$E820,3,0)","v":"22:30:00"},{"$f":"VLOOKUP($AA820,DATA!$B$3:$E820,4,0)","v":3.125E-2},0.30208333333333337,0.30208333333333337,{"$f":"DATA!$C$9","v":0.89},{"$f":"DATA!$C$10","v":64},1,407.81250000000006,407.81250000000006,0,"","",0,"","",0,"","","","",null,{"$f":"X814","v":39},null,{"$f":"TEXT(Y819,\"ddd\")","v":"za"},"MD",{"$f":"IFERROR(HLOOKUP(Y819,[1]DATA!$A$1:$NB$5,4,0),\"\")","v":"-"},null,null,null,null,{"$f":"VLOOKUP(Y819,[1]SRM!$S$4:$AA$368,7,0)","v":0},"","",""]
["39zaND",{"$f":"VLOOKUP($AA821,DATA!$B$3:$E821,2,0)","v":"22:30:00"},{"$f":"VLOOKUP($AA821,DATA!$B$3:$E821,3,0)","v":"06:30:00"},{"$f":"VLOOKUP($AA821,DATA!$B$3:$E821,4,0)","v":3.125E-2},0.30208333333333326,0.30208333333333326,{"$f":"DATA!$C$9","v":0.89},{"$f":"DATA!$C$10","v":64},1,407.81249999999989,407.81249999999989,0,"","",0,"","",0,"","","","",null,{"$f":"X814","v":39},null,{"$f":"TEXT(Y819,\"ddd\")","v":"za"},"ND",{"$f":"IFERROR(HLOOKUP(Y819,[1]DATA!$A$1:$NB$5,5,0),\"\")","v":"-"},null,null,null,null,{"$f":"VLOOKUP(Y819,[1]SRM!$S$4:$AA$368,8,0)","v":0},"","",""]
["39zoDD",{"$f":"VLOOKUP($AA822,DATA!$B$3:$E822,2,0)","v":"06:30:00"},{"$f":"VLOOKUP($AA822,DATA!$B$3:$E822,3,0)","v":"14:30:00"},{"$f":"VLOOKUP($AA822,DATA!$B$3:$E822,4,0)","v":3.125E-2},0.30208333333333331,0.30208333333333331,{"$f":"DATA!$C$9","v":0.89},{"$f":"DATA!$C$10","v":64},1,407.8125,407.8125,0,"","",0,"","",0,"","","","",null,{"$f":"X814","v":39},"2018-09-30",{"$f":"TEXT(Y822,\"ddd\")","v":"zo"},"DD",{"$f":"IFERROR(HLOOKUP(Y822,[1]DATA!$A$1:$NB$5,3,0),\"\")","v":"-"},null,null,null,null,{"$f":"VLOOKUP(Y822,[1]SRM!$S$4:$AA$368,6,0)","v":0},"","",""]
["39zoMD",{"$f":"VLOOKUP($AA823,DATA!$B$3:$E823,2,0)","v":"14:30:00"},{"$f":"VLOOKUP($AA823,DATA!$B$3:$E823,3,0)","v":"22:30:00"},{"$f":"VLOOKUP($AA823,DATA!$B$3:$E823,4,0)","v":3.125E-2},0.30208333333333337,0.30208333333333337,{"$f":"DATA!$C$9","v":0.89},{"$f":"DATA!$C$10","v":64},1,407.81250000000006,407.81250000000006,0,"","",0,"","",0,"","","","",null,{"$f":"X814","v":39},null,{"$f":"TEXT(Y822,\"ddd\")","v":"zo"},"MD",{"$f":"IFERROR(HLOOKUP(Y822,[1]DATA!$A$1:$NB$5,4,0),\"\")","v":"-"},null,null,null,null,{"$f":"VLOOKUP(Y822,[1]SRM!$S$4:$AA$368,7,0)","v":0},"","",""]
["39zoZND",{"$f":"VLOOKUP($AA824,DATA!$B$3:$E824,2,0)","v":"00:00:00"},{"$f":"VLOOKUP($AA824,DATA!$B$3:$E824,3,0)","v":"00:00:00"},{"$f":"VLOOKUP($AA824,DATA!$B$3:$E824,4,0)","v":0},0,0,{"$f":"DATA!$C$9","v":0.89},{"$f":"DATA!$C$10","v":64},1,0,0,0,"","",0,"","",0,"","","","",null,{"$f":"X814","v":39},null,{"$f":"TEXT(Y822,\"ddd\")","v":"zo"},"ZND",{"$f":"IFERROR(HLOOKUP(Y822,[1]DATA!$A$1:$NB$5,5,0),\"\")","v":"-"},null,null,null,null,{"$f":"VLOOKUP(Y822,[1]SRM!$S$4:$AA$368,8,0)","v":0},"","",""]
["40maDD",{"$f":"VLOOKUP($AA825,DATA!$B$3:$E825,2,0)","v":"06:30:00"},{"$f":"VLOOKUP($AA825,DATA!$B$3:$E825,3,0)","v":"14:30:00"},{"$f":"VLOOKUP($AA825,DATA!$B$3:$E825,4,0)","v":3.125E-2},0.30208333333333331,0.30208333333333331,{"$f":"DATA!$C$9","v":0.89},{"$f":"DATA!$C$10","v":64},1,407.8125,407.8125,0,"","",{"$f":"TIME(INT($AD825/60),INT(MOD($AD825,60)/1),0)","v":0},"","",0,"","","","",null,{"$f":"X835","v":40},{"$f":"Y822+1","v":"2018-10-01"},{"$f":"TEXT(Y825,\"ddd\")","v":"ma"},"DD",{"$f":"IFERROR(HLOOKUP(Y825,[1]DATA!$A$1:$NB$5,3,0),\"\")","v":"D1"},null,null,null,null,{"$f":"VLOOKUP(Y825,[1]SRM!$S$4:$AA$368,6,0)","v":0},"","","",{"$f":"IF(SUMIF(S825:S845,\">0\",K825:K845)=0,\"\",SUMIF(S825:S845,\">0\",K825:K845))","v":""},{"$f":"IF(SUM(S825:S845)=0,\"\",SUM(S825:S845))","v":""},{"$f":"IFERROR(AL825/AK825,\"-\")","v":"-"},{"$f":"IF(SUM(M825:M845)=0,\"0\",SUM(M825:M845))","v":"0"},{"$f":"IFERROR(AN825/AK825,\"-\")","v":"-"},{"$f":"IF(SUM(P825:P845)=0,0,SUM(P825:P845))","v":0},{"$f":"IFERROR(AP825/AK825,\"-\")","v":"-"},"-",{"$f":"IFERROR(SUMIF($AB825:$AB845,AS$5,$AJ825:$AJ845)/COUNTIFS($AB825:$AB845,AS$5,$AJ825:$AJ845,\">0\"),\"\")","v":""},"","",{"$f":"IFERROR((AK825-AL825-AN825-AP825),\"-\")","v":"-"},{"$f":"IFERROR((1-AM825-AO825-AQ825), \"-\")","v":"-"},{"$f":"IFERROR((AV825*$AE$2)/60,\"-\")","v":"-"},{"$f":"IFERROR(SUM(AG825:AG845),\"\")","v":0}]
["40maMD",{"$f":"VLOOKUP($AA826,DATA!$B$3:$E826,2,0)","v":"14:30:00"},{"$f":"VLOOKUP($AA826,DATA!$B$3:$E826,3,0)","v":"22:30:00"},{"$f":"VLOOKUP($AA826,DATA!$B$3:$E826,4,0)","v":3.125E-2},0.30208333333333337,0.30208333333333337,{"$f":"DATA!$C$9","v":0.89},{"$f":"DATA!$C$10","v":64},1,407.81250000000006,407.81250000000006,0,"","",{"$f":"TIME(INT(AD826/60),INT(MOD(AD826,60)/1),0)","v":0},"","",0,"","","","",null,{"$f":"X835","v":40},null,{"$f":"TEXT(Y825,\"ddd\")","v":"ma"},"MD",{"$f":"IFERROR(HLOOKUP(Y825,[1]DATA!$A$1:$NB$5,4,0),\"\")","v":"D3"},null,null,null,null,{"$f":"VLOOKUP(Y825,[1]SRM!$S$4:$AA$368,7,0)","v":0},"","",""]
["40maND",{"$f":"VLOOKUP($AA827,DATA!$B$3:$E827,2,0)","v":"22:30:00"},{"$f":"VLOOKUP($AA827,DATA!$B$3:$E827,3,0)","v":"06:30:00"},{"$f":"VLOOKUP($AA827,DATA!$B$3:$E827,4,0)","v":3.125E-2},0.30208333333333326,0.30208333333333326,{"$f":"DATA!$C$9","v":0.89},{"$f":"DATA!$C$10","v":64},1,407.81249999999989,407.81249999999989,0,"","",0,"","",0,"","","","",null,{"$f":"X835","v":40},null,{"$f":"TEXT(Y825,\"ddd\")","v":"ma"},"ND",{"$f":"IFERROR(HLOOKUP(Y825,[1]DATA!$A$1:$NB$5,5,0),\"\")","v":"D2"},null,null,null,null,{"$f":"VLOOKUP(Y825,[1]SRM!$S$4:$AA$368,8,0)","v":0},"","",""]
["40diDD",{"$f":"VLOOKUP($AA828,DATA!$B$3:$E828,2,0)","v":"06:30:00"},{"$f":"VLOOKUP($AA828,DATA!$B$3:$E828,3,0)","v":"14:30:00"},{"$f":"VLOOKUP($AA828,DATA!$B$3:$E828,4,0)","v":3.125E-2},0.30208333333333331,0.30208333333333331,{"$f":"DATA!$C$9","v":0.89},{"$f":"DATA!$C$10","v":64},1,407.8125,407.8125,0,"","",0,"","",0,"","","","",null,{"$f":"X835","v":40},"2018-10-02",{"$f":"TEXT(Y828,\"ddd\")","v":"di"},"DD",{"$f":"IFERROR(HLOOKUP(Y828,[1]DATA!$A$1:$NB$5,3,0),\"\")","v":"D1"},null,null,null,null,{"$f":"VLOOKUP(Y828,[1]SRM!$S$4:$AA$368,6,0)","v":0},"","",""]
["40diMD",{"$f":"VLOOKUP($AA829,DATA!$B$3:$E829,2,0)","v":"14:30:00"},{"$f":"VLOOKUP($AA829,DATA!$B$3:$E829,3,0)","v":"22:30:00"},{"$f":"VLOOKUP($AA829,DATA!$B$3:$E829,4,0)","v":3.125E-2},0.30208333333333337,0.30208333333333337,{"$f":"DATA!$C$9","v":0.89},{"$f":"DATA!$C$10","v":64},1,407.81250000000006,407.81250000000006,0,"","",0,"","",0,"","","","",null,{"$f":"X835","v":40},null,{"$f":"TEXT(Y828,\"ddd\")","v":"di"},"MD",{"$f":"IFERROR(HLOOKUP(Y828,[1]DATA!$A$1:$NB$5,4,0),\"\")","v":"D3"},null,null,null,null,{"$f":"VLOOKUP(Y828,[1]SRM!$S$4:$AA$368,7,0)","v":0},"","",""]
["40diND",{"$f":"VLOOKUP($AA830,DATA!$B$3:$E830,2,0)","v":"22:30:00"},{"$f":"VLOOKUP($AA830,DATA!$B$3:$E830,3,0)","v":"06:30:00"},{"$f":"VLOOKUP($AA830,DATA!$B$3:$E830,4,0)","v":3.125E-2},0.30208333333333326,0.30208333333333326,{"$f":"DATA!$C$9","v":0.89},{"$f":"DATA!$C$10","v":64},1,407.81249999999989,407.81249999999989,0,"","",0,"","",0,"","","","",null,{"$f":"X835","v":40},null,{"$f":"TEXT(Y828,\"ddd\")","v":"di"},"ND",{"$f":"IFERROR(HLOOKUP(Y828,[1]DATA!$A$1:$NB$5,5,0),\"\")","v":"D2"},null,null,null,null,{"$f":"VLOOKUP(Y828,[1]SRM!$S$4:$AA$368,8,0)","v":0},"","",""]
["40woDD",{"$f":"VLOOKUP($AA831,DATA!$B$3:$E831,2,0)","v":"06:30:00"},{"$f":"VLOOKUP($AA831,DATA!$B$3:$E831,3,0)","v":"14:30:00"},{"$f":"VLOOKUP($AA831,DATA!$B$3:$E831,4,0)","v":3.125E-2},0.30208333333333331,0.30208333333333331,{"$f":"DATA!$C$9","v":0.89},{"$f":"DATA!$C$10","v":64},1,407.8125,407.8125,0,"","",0,"","",0,"","","","",null,{"$f":"X835","v":40},"2018-10-03",{"$f":"TEXT(Y831,\"ddd\")","v":"wo"},"DD",{"$f":"IFERROR(HLOOKUP(Y831,[1]DATA!$A$1:$NB$5,3,0),\"\")","v":"D1"},null,null,null,null,{"$f":"VLOOKUP(Y831,[1]SRM!$S$4:$AA$368,6,0)","v":0},"","",""]
["40woMD",{"$f":"VLOOKUP($AA832,DATA!$B$3:$E832,2,0)","v":"14:30:00"},{"$f":"VLOOKUP($AA832,DATA!$B$3:$E832,3,0)","v":"22:30:00"},{"$f":"VLOOKUP($AA832,DATA!$B$3:$E832,4,0)","v":3.125E-2},0.30208333333333337,0.30208333333333337,{"$f":"DATA!$C$9","v":0.89},{"$f":"DATA!$C$10","v":64},1,407.81250000000006,407.81250000000006,0,"","",0,"","",0,"","","","",null,{"$f":"X835","v":40},null,{"$f":"TEXT(Y831,\"ddd\")","v":"wo"},"MD",{"$f":"IFERROR(HLOOKUP(Y831,[1]DATA!$A$1:$NB$5,4,0),\"\")","v":"D3"},null,null,null,null,{"$f":"VLOOKUP(Y831,[1]SRM!$S$4:$AA$368,7,0)","v":0},"","",""]
["40woND",{"$f":"VLOOKUP($AA833,DATA!$B$3:$E833,2,0)","v":"22:30:00"},{"$f":"VLOOKUP($AA833,DATA!$B$3:$E833,3,0)","v":"06:30:00"},{"$f":"VLOOKUP($AA833,DATA!$B$3:$E833,4,0)","v":3.125E-2},0.30208333333333326,0.30208333333333326,{"$f":"DATA!$C$9","v":0.89},{"$f":"DATA!$C$10","v":64},1,407.81249999999989,407.81249999999989,0,"","",0,"","",0,"","","","",null,{"$f":"X835","v":40},null,{"$f":"TEXT(Y831,\"ddd\")","v":"wo"},"ND",{"$f":"IFERROR(HLOOKUP(Y831,[1]DATA!$A$1:$NB$5,5,0),\"\")","v":"D2"},null,null,null,null,{"$f":"VLOOKUP(Y831,[1]SRM!$S$4:$AA$368,8,0)","v":0},"","",""]
["40doDD",{"$f":"VLOOKUP($AA834,DATA!$B$3:$E834,2,0)","v":"06:30:00"},{"$f":"VLOOKUP($AA834,DATA!$B$3:$E834,3,0)","v":"14:30:00"},{"$f":"VLOOKUP($AA834,DATA!$B$3:$E834,4,0)","v":3.125E-2},0.30208333333333331,0.30208333333333331,{"$f":"DATA!$C$9","v":0.89},{"$f":"DATA!$C$10","v":64},1,407.8125,407.8125,0,"","",0,"","",0,"","","","",null,{"$f":"X835","v":40},"2018-10-04",{"$f":"TEXT(Y834,\"ddd\")","v":"do"},"DD",{"$f":"IFERROR(HLOOKUP(Y834,[1]DATA!$A$1:$NB$5,3,0),\"\")","v":"D1"},null,null,null,null,{"$f":"VLOOKUP(Y834,[1]SRM!$S$4:$AA$368,6,0)","v":0},"","",""]
["40doMD",{"$f":"VLOOKUP($AA835,DATA!$B$3:$E835,2,0)","v":"14:30:00"},{"$f":"VLOOKUP($AA835,DATA!$B$3:$E835,3,0)","v":"22:30:00"},{"$f":"VLOOKUP($AA835,DATA!$B$3:$E835,4,0)","v":3.125E-2},0.30208333333333337,0.30208333333333337,{"$f":"DATA!$C$9","v":0.89},{"$f":"DATA!$C$10","v":64},1,407.81250000000006,407.81250000000006,0,"","",0,"","",0,"","","","",null,{"$f":"WEEKNUM($Y825)","v":40},null,{"$f":"TEXT(Y834,\"ddd\")","v":"do"},"MD",{"$f":"IFERROR(HLOOKUP(Y834,[1]DATA!$A$1:$NB$5,4,0),\"\")","v":"D3"},null,null,null,null,{"$f":"VLOOKUP(Y834,[1]SRM!$S$4:$AA$368,7,0)","v":0},"","",""]
["40doND",{"$f":"VLOOKUP($AA836,DATA!$B$3:$E836,2,0)","v":"22:30:00"},{"$f":"VLOOKUP($AA836,DATA!$B$3:$E836,3,0)","v":"06:30:00"},{"$f":"VLOOKUP($AA836,DATA!$B$3:$E836,4,0)","v":3.125E-2},0.30208333333333326,0.30208333333333326,{"$f":"DATA!$C$9","v":0.89},{"$f":"DATA!$C$10","v":64},1,407.81249999999989,407.81249999999989,0,"","",0,"","",0,"","","","",null,{"$f":"X835","v":40},null,{"$f":"TEXT(Y834,\"ddd\")","v":"do"},"ND",{"$f":"IFERROR(HLOOKUP(Y834,[1]DATA!$A$1:$NB$5,5,0),\"\")","v":"D2"},null,null,null,null,{"$f":"VLOOKUP(Y834,[1]SRM!$S$4:$AA$368,8,0)","v":0},"","",""]
["40vrDD",{"$f":"VLOOKUP($AA837,DATA!$B$3:$E837,2,0)","v":"06:30:00"},{"$f":"VLOOKUP($AA837,DATA!$B$3:$E837,3,0)","v":"14:30:00"},{"$f":"VLOOKUP($AA837,DATA!$B$3:$E837,4,0)","v":3.125E-2},0.30208333333333331,0.30208333333333331,{"$f":"DATA!$C$9","v":0.89},{"$f":"DATA!$C$10","v":64},1,407.8125,407.8125,0,"","",0,"","",0,"","","","",null,{"$f":"X835","v":40},"2018-10-05",{"$f":"TEXT(Y837,\"ddd\")","v":"vr"},"DD",{"$f":"IFERROR(HLOOKUP(Y837,[1]DATA!$A$1:$NB$5,3,0),\"\")","v":"D1"},null,null,null,null,{"$f":"VLOOKUP(Y837,[1]SRM!$S$4:$AA$368,6,0)","v":0},"","",""]
["40vrMD",{"$f":"VLOOKUP($AA838,DATA!$B$3:$E838,2,0)","v":"14:30:00"},{"$f":"VLOOKUP($AA838,DATA!$B$3:$E838,3,0)","v":"22:30:00"},{"$f":"VLOOKUP($AA838,DATA!$B$3:$E838,4,0)","v":3.125E-2},0.30208333333333337,0.30208333333333337,{"$f":"DATA!$C$9","v":0.89},{"$f":"DATA!$C$10","v":64},1,407.81250000000006,407.81250000000006,0,"","",0,"","",0,"","","","",null,{"$f":"X835","v":40},null,{"$f":"TEXT(Y837,\"ddd\")","v":"vr"},"MD",{"$f":"IFERROR(HLOOKUP(Y837,[1]DATA!$A$1:$NB$5,4,0),\"\")","v":"D3"},null,null,null,null,{"$f":"VLOOKUP(Y837,[1]SRM!$S$4:$AA$368,7,0)","v":0},{"$f":"IFERROR(S838-J838,\"\")","v":""},{"$f":"IFERROR(IF(S838/(E838*86400/H838)<=0,\"\",S838/(E838*86400/H838)),\"\")","v":""},""]
["40vrND",{"$f":"VLOOKUP($AA839,DATA!$B$3:$E839,2,0)","v":"22:30:00"},{"$f":"VLOOKUP($AA839,DATA!$B$3:$E839,3,0)","v":"06:30:00"},{"$f":"VLOOKUP($AA839,DATA!$B$3:$E839,4,0)","v":3.125E-2},0.30208333333333326,0.30208333333333326,{"$f":"DATA!$C$9","v":0.89},{"$f":"DATA!$C$10","v":64},1,407.81249999999989,407.81249999999989,{"$f":"TIME(INT($AC839/60),INT(MOD($AC839,60)/1),0)","v":0},{"$f":"IF($L839*86400/$H839=0,\"\",$L839*86400/$H839)","v":""},{"$f":"IFERROR($M839/$K839,\"\")","v":""},0,"",{"$f":"IFERROR($P839/$K839,\"\")","v":""},0,"",{"$f":"IF(IF($AB839=\"D1\",$S839,\"\")=0,\"\",IF($AB839=\"D1\",$S839,\"\"))","v":""},{"$f":"IF(IF($AB839=\"D2\",$S839,\"\")=0,\"\",IF($AB839=\"D2\",$S839,\"\"))","v":""},{"$f":"IF(IF($AB839=\"D3\",$S839,\"\")=0,\"\",IF($AB839=\"D3\",$S839,\"\"))","v":""},null,{"$f":"X835","v":40},null,{"$f":"TEXT(Y837,\"ddd\")","v":"vr"},"ND",{"$f":"IFERROR(HLOOKUP(Y837,[1]DATA!$A$1:$NB$5,5,0),\"\")","v":"D2"},null,null,null,null,{"$f":"VLOOKUP(Y837,[1]SRM!$S$4:$AA$368,8,0)","v":0},"","",""]
["40zaDD",{"$f":"VLOOKUP($AA840,DATA!$B$3:$E840,2,0)","v":"06:30:00"},{"$f":"VLOOKUP($AA840,DATA!$B$3:$E840,3,0)","v":"14:30:00"},{"$f":"VLOOKUP($AA840,DATA!$B$3:$E840,4,0)","v":3.125E-2},0.30208333333333331,0.30208333333333331,{"$f":"DATA!$C$9","v":0.89},{"$f":"DATA!$C$10","v":64},1,407.8125,407.8125,0,"","",0,"","",0,"","","","",null,{"$f":"X835","v":40},"2018-10-06",{"$f":"TEXT(Y840,\"ddd\")","v":"za"},"DD",{"$f":"IFERROR(HLOOKUP(Y840,[1]DATA!$A$1:$NB$5,3,0),\"\")","v":"D1"},null,null,null,null,{"$f":"VLOOKUP(Y840,[1]SRM!$S$4:$AA$368,6,0)","v":0},"","",""]
["40zaMD",{"$f":"VLOOKUP($AA841,DATA!$B$3:$E841,2,0)","v":"14:30:00"},{"$f":"VLOOKUP($AA841,DATA!$B$3:$E841,3,0)","v":"22:30:00"},{"$f":"VLOOKUP($AA841,DATA!$B$3:$E841,4,0)","v":3.125E-2},0.30208333333333337,0.30208333333333337,{"$f":"DATA!$C$9","v":0.89},{"$f":"DATA!$C$10","v":64},1,407.81250000000006,407.81250000000006,0,"","",0,"","",0,"","","","",null,{"$f":"X835","v":40},null,{"$f":"TEXT(Y840,\"ddd\")","v":"za"},"MD",{"$f":"IFERROR(HLOOKUP(Y840,[1]DATA!$A$1:$NB$5,4,0),\"\")","v":"-"},null,null,null,null,{"$f":"VLOOKUP(Y840,[1]SRM!$S$4:$AA$368,7,0)","v":0},"","",""]
["40zaND",{"$f":"VLOOKUP($AA842,DATA!$B$3:$E842,2,0)","v":"22:30:00"},{"$f":"VLOOKUP($AA842,DATA!$B$3:$E842,3,0)","v":"06:30:00"},{"$f":"VLOOKUP($AA842,DATA!$B$3:$E842,4,0)","v":3.125E-2},0.30208333333333326,0.30208333333333326,{"$f":"DATA!$C$9","v":0.89},{"$f":"DATA!$C$10","v":64},1,407.81249999999989,407.81249999999989,0,"","",0,"","",0,"","","","",null,{"$f":"X835","v":40},null,{"$f":"TEXT(Y840,\"ddd\")","v":"za"},"ND",{"$f":"IFERROR(HLOOKUP(Y840,[1]DATA!$A$1:$NB$5,5,0),\"\")","v":"-"},null,null,null,null,{"$f":"VLOOKUP(Y840,[1]SRM!$S$4:$AA$368,8,0)","v":0},"","",""]
["40zoDD",{"$f":"VLOOKUP($AA843,DATA!$B$3:$E843,2,0)","v":"06:30:00"},{"$f":"VLOOKUP($AA843,DATA!$B$3:$E843,3,0)","v":"14:30:00"},{"$f":"VLOOKUP($AA843,DATA!$B$3:$E843,4,0)","v":3.125E-2},0.30208333333333331,0.30208333333333331,{"$f":"DATA!$C$9","v":0.89},{"$f":"DATA!$C$10","v":64},1,407.8125,407.8125,0,"","",0,"","",0,"","","","",null,{"$f":"X835","v":40},"2018-10-07",{"$f":"TEXT(Y843,\"ddd\")","v":"zo"},"DD",{"$f":"IFERROR(HLOOKUP(Y843,[1]DATA!$A$1:$NB$5,3,0),\"\")","v":"-"},null,null,null,null,{"$f":"VLOOKUP(Y843,[1]SRM!$S$4:$AA$368,6,0)","v":0},"","",""]
["40zoMD",{"$f":"VLOOKUP($AA844,DATA!$B$3:$E844,2,0)","v":"14:30:00"},{"$f":"VLOOKUP($AA844,DATA!$B$3:$E844,3,0)","v":"22:30:00"},{"$f":"VLOOKUP($AA844,DATA!$B$3:$E844,4,0)","v":3.125E-2},0.30208333333333337,0.30208333333333337,{"$f":"DATA!$C$9","v":0.89},{"$f":"DATA!$C$10","v":64},1,407.81250000000006,407.81250000000006,0,"","",0,"","",0,"","","","",null,{"$f":"X835","v":40},null,{"$f":"TEXT(Y843,\"ddd\")","v":"zo"},"MD",{"$f":"IFERROR(HLOOKUP(Y843,[1]DATA!$A$1:$NB$5,4,0),\"\")","v":"-"},null,null,null,null,{"$f":"VLOOKUP(Y843,[1]SRM!$S$4:$AA$368,7,0)","v":0},"","",""]
["40zoZND",{"$f":"VLOOKUP($AA845,DATA!$B$3:$E845,2,0)","v":"00:00:00"},{"$f":"VLOOKUP($AA845,DATA!$B$3:$E845,3,0)","v":"00:00:00"},{"$f":"VLOOKUP($AA845,DATA!$B$3:$E845,4,0)","v":0},0,0,{"$f":"DATA!$C$9","v":0.89},{"$f":"DATA!$C$10","v":64},1,0,0,0,"","",0,"","",0,"","","","",null,{"$f":"X835","v":40},null,{"$f":"TEXT(Y843,\"ddd\")","v":"zo"},"ZND",{"$f":"IFERROR(HLOOKUP(Y843,[1]DATA!$A$1:$NB$5,5,0),\"\")","v":"-"},null,null,null,null,{"$f":"VLOOKUP(Y843,[1]SRM!$S$4:$AA$368,8,0)","v":0},"","",""]
["41maDD",{"$f":"VLOOKUP($AA846,DATA!$B$3:$E846,2,0)","v":"06:30:00"},{"$f":"VLOOKUP($AA846,DATA!$B$3:$E846,3,0)","v":"14:30:00"},{"$f":"VLOOKUP($AA846,DATA!$B$3:$E846,4,0)","v":3.125E-2},0.30208333333333331,0.30208333333333331,{"$f":"DATA!$C$9","v":0.89},{"$f":"DATA!$C$10","v":64},1,407.8125,407.8125,0,"","",{"$f":"TIME(INT($AD846/60),INT(MOD($AD846,60)/1),0)","v":0},"","",0,"","","","",null,{"$f":"X856","v":41},"2018-10-08",{"$f":"TEXT(Y846,\"ddd\")","v":"ma"},"DD",{"$f":"IFERROR(HLOOKUP(Y846,[1]DATA!$A$1:$NB$5,3,0),\"\")","v":"D3"},null,null,null,null,{"$f":"VLOOKUP(Y846,[1]SRM!$S$4:$AA$368,6,0)","v":0},"","","",{"$f":"IF(SUMIF(S846:S866,\">0\",K846:K866)=0,\"\",SUMIF(S846:S866,\">0\",K846:K866))","v":""},{"$f":"IF(SUM(S846:S866)=0,\"\",SUM(S846:S866))","v":""},{"$f":"IFERROR(AL846/AK846,\"-\")","v":"-"},{"$f":"IF(SUM(M846:M866)=0,\"0\",SUM(M846:M866))","v":"0"},{"$f":"IFERROR(AN846/AK846,\"-\")","v":"-"},{"$f":"IF(SUM(P846:P866)=0,0,SUM(P846:P866))","v":0},{"$f":"IFERROR(AP846/AK846,\"-\")","v":"-"},{"$f":"IFERROR(AVERAGE(AJ846:AJ866),\"-\")","v":"-"},{"$f":"IFERROR(SUMIF($AB846:$AB866,AS$5,$AJ846:$AJ866)/COUNTIFS($AB846:$AB866,AS$5,$AJ846:$AJ866,\">0\"),\"\")","v":""},"","",{"$f":"IFERROR((AK846-AL846-AN846-AP846),\"-\")","v":"-"},{"$f":"IFERROR((1-AM846-AO846-AQ846), \"-\")","v":"-"},{"$f":"IFERROR((AV846*$AE$2)/60,\"-\")","v":"-"},{"$f":"IFERROR(SUM(AG846:AG866),\"\")","v":0}]
["41maMD",{"$f":"VLOOKUP($AA847,DATA!$B$3:$E847,2,0)","v":"14:30:00"},{"$f":"VLOOKUP($AA847,DATA!$B$3:$E847,3,0)","v":"22:30:00"},{"$f":"VLOOKUP($AA847,DATA!$B$3:$E847,4,0)","v":3.125E-2},0.30208333333333337,0.30208333333333337,{"$f":"DATA!$C$9","v":0.89},{"$f":"DATA!$C$10","v":64},1,407.81250000000006,407.81250000000006,0,"","",{"$f":"TIME(INT(AD847/60),INT(MOD(AD847,60)/1),0)","v":0},"","",0,"","","","",null,{"$f":"X856","v":41},null,{"$f":"TEXT(Y846,\"ddd\")","v":"ma"},"MD",{"$f":"IFERROR(HLOOKUP(Y846,[1]DATA!$A$1:$NB$5,4,0),\"\")","v":"D2"},null,null,null,null,{"$f":"VLOOKUP(Y846,[1]SRM!$S$4:$AA$368,7,0)","v":0},"","",""]
["41maND",{"$f":"VLOOKUP($AA848,DATA!$B$3:$E848,2,0)","v":"22:30:00"},{"$f":"VLOOKUP($AA848,DATA!$B$3:$E848,3,0)","v":"06:30:00"},{"$f":"VLOOKUP($AA848,DATA!$B$3:$E848,4,0)","v":3.125E-2},0.30208333333333326,0.30208333333333326,{"$f":"DATA!$C$9","v":0.89},{"$f":"DATA!$C$10","v":64},1,407.81249999999989,407.81249999999989,0,"","",0,"","",0,"","","","",null,{"$f":"X856","v":41},null,{"$f":"TEXT(Y846,\"ddd\")","v":"ma"},"ND",{"$f":"IFERROR(HLOOKUP(Y846,[1]DATA!$A$1:$NB$5,5,0),\"\")","v":"D1"},null,null,null,null,{"$f":"VLOOKUP(Y846,[1]SRM!$S$4:$AA$368,8,0)","v":0},"","",""]
["41diDD",{"$f":"VLOOKUP($AA849,DATA!$B$3:$E849,2,0)","v":"06:30:00"},{"$f":"VLOOKUP($AA849,DATA!$B$3:$E849,3,0)","v":"14:30:00"},{"$f":"VLOOKUP($AA849,DATA!$B$3:$E849,4,0)","v":3.125E-2},0.30208333333333331,0.30208333333333331,{"$f":"DATA!$C$9","v":0.89},{"$f":"DATA!$C$10","v":64},1,407.8125,407.8125,0,"","",0,"","",0,"","","","",null,{"$f":"X856","v":41},"2018-10-09",{"$f":"TEXT(Y849,\"ddd\")","v":"di"},"DD",{"$f":"IFERROR(HLOOKUP(Y849,[1]DATA!$A$1:$NB$5,3,0),\"\")","v":"D3"},null,null,null,null,{"$f":"VLOOKUP(Y849,[1]SRM!$S$4:$AA$368,6,0)","v":0},"","",""]
["41diMD",{"$f":"VLOOKUP($AA850,DATA!$B$3:$E850,2,0)","v":"14:30:00"},{"$f":"VLOOKUP($AA850,DATA!$B$3:$E850,3,0)","v":"22:30:00"},{"$f":"VLOOKUP($AA850,DATA!$B$3:$E850,4,0)","v":3.125E-2},0.30208333333333337,0.30208333333333337,{"$f":"DATA!$C$9","v":0.89},{"$f":"DATA!$C$10","v":64},1,407.81250000000006,407.81250000000006,0,"","",0,"","",0,"","","","",null,{"$f":"X856","v":41},null,{"$f":"TEXT(Y849,\"ddd\")","v":"di"},"MD",{"$f":"IFERROR(HLOOKUP(Y849,[1]DATA!$A$1:$NB$5,4,0),\"\")","v":"D2"},null,null,null,null,{"$f":"VLOOKUP(Y849,[1]SRM!$S$4:$AA$368,7,0)","v":0},"","",""]
["41diND",{"$f":"VLOOKUP($AA851,DATA!$B$3:$E851,2,0)","v":"22:30:00"},{"$f":"VLOOKUP($AA851,DATA!$B$3:$E851,3,0)","v":"06:30:00"},{"$f":"VLOOKUP($AA851,DATA!$B$3:$E851,4,0)","v":3.125E-2},0.30208333333333326,0.30208333333333326,{"$f":"DATA!$C$9","v":0.89},{"$f":"DATA!$C$10","v":64},1,407.81249999999989,407.81249999999989,0,"","",0,"","",0,"","","","",null,{"$f":"X856","v":41},null,{"$f":"TEXT(Y849,\"ddd\")","v":"di"},"ND",{"$f":"IFERROR(HLOOKUP(Y849,[1]DATA!$A$1:$NB$5,5,0),\"\")","v":"D1"},null,null,null,null,{"$f":"VLOOKUP(Y849,[1]SRM!$S$4:$AA$368,8,0)","v":0},"","",""]
["41woDD",{"$f":"VLOOKUP($AA852,DATA!$B$3:$E852,2,0)","v":"06:30:00"},{"$f":"VLOOKUP($AA852,DATA!$B$3:$E852,3,0)","v":"14:30:00"},{"$f":"VLOOKUP($AA852,DATA!$B$3:$E852,4,0)","v":3.125E-2},0.30208333333333331,0.30208333333333331,{"$f":"DATA!$C$9","v":0.89},{"$f":"DATA!$C$10","v":64},1,407.8125,407.8125,0,"","",0,"","",0,"","","","",null,{"$f":"X856","v":41},"2018-10-10",{"$f":"TEXT(Y852,\"ddd\")","v":"wo"},"DD",{"$f":"IFERROR(HLOOKUP(Y852,[1]DATA!$A$1:$NB$5,3,0),\"\")","v":"D3"},null,null,null,null,{"$f":"VLOOKUP(Y852,[1]SRM!$S$4:$AA$368,6,0)","v":0},"","",""]
["41woMD",{"$f":"VLOOKUP($AA853,DATA!$B$3:$E853,2,0)","v":"14:30:00"},{"$f":"VLOOKUP($AA853,DATA!$B$3:$E853,3,0)","v":"22:30:00"},{"$f":"VLOOKUP($AA853,DATA!$B$3:$E853,4,0)","v":3.125E-2},0.30208333333333337,0.30208333333333337,{"$f":"DATA!$C$9","v":0.89},{"$f":"DATA!$C$10","v":64},1,407.81250000000006,407.81250000000006,0,"","",0,"","",0,"","","","",null,{"$f":"X856","v":41},null,{"$f":"TEXT(Y852,\"ddd\")","v":"wo"},"MD",{"$f":"IFERROR(HLOOKUP(Y852,[1]DATA!$A$1:$NB$5,4,0),\"\")","v":"D2"},null,null,null,null,{"$f":"VLOOKUP(Y852,[1]SRM!$S$4:$AA$368,7,0)","v":0},"","",""]
["41woND",{"$f":"VLOOKUP($AA854,DATA!$B$3:$E854,2,0)","v":"22:30:00"},{"$f":"VLOOKUP($AA854,DATA!$B$3:$E854,3,0)","v":"06:30:00"},{"$f":"VLOOKUP($AA854,DATA!$B$3:$E854,4,0)","v":3.125E-2},0.30208333333333326,0.30208333333333326,{"$f":"DATA!$C$9","v":0.89},{"$f":"DATA!$C$10","v":64},1,407.81249999999989,407.81249999999989,0,"","",0,"","",0,"","","","",null,{"$f":"X856","v":41},null,{"$f":"TEXT(Y852,\"ddd\")","v":"wo"},"ND",{"$f":"IFERROR(HLOOKUP(Y852,[1]DATA!$A$1:$NB$5,5,0),\"\")","v":"D1"},null,null,null,null,{"$f":"VLOOKUP(Y852,[1]SRM!$S$4:$AA$368,8,0)","v":0},"","",""]
["41doDD",{"$f":"VLOOKUP($AA855,DATA!$B$3:$E855,2,0)","v":"06:30:00"},{"$f":"VLOOKUP($AA855,DATA!$B$3:$E855,3,0)","v":"14:30:00"},{"$f":"VLOOKUP($AA855,DATA!$B$3:$E855,4,0)","v":3.125E-2},0.30208333333333331,0.30208333333333331,{"$f":"DATA!$C$9","v":0.89},{"$f":"DATA!$C$10","v":64},1,407.8125,407.8125,0,"","",0,"","",0,"","","","",null,{"$f":"X856","v":41},"2018-10-11",{"$f":"TEXT(Y855,\"ddd\")","v":"do"},"DD",{"$f":"IFERROR(HLOOKUP(Y855,[1]DATA!$A$1:$NB$5,3,0),\"\")","v":"D3"},null,null,null,null,{"$f":"VLOOKUP(Y855,[1]SRM!$S$4:$AA$368,6,0)","v":0},"","",""]
["41doMD",{"$f":"VLOOKUP($AA856,DATA!$B$3:$E856,2,0)","v":"14:30:00"},{"$f":"VLOOKUP($AA856,DATA!$B$3:$E856,3,0)","v":"22:30:00"},{"$f":"VLOOKUP($AA856,DATA!$B$3:$E856,4,0)","v":3.125E-2},0.30208333333333337,0.30208333333333337,{"$f":"DATA!$C$9","v":0.89},{"$f":"DATA!$C$10","v":64},1,407.81250000000006,407.81250000000006,0,"","",0,"","",0,"","","","",null,{"$f":"WEEKNUM($Y846)","v":41},null,{"$f":"TEXT(Y855,\"ddd\")","v":"do"},"MD",{"$f":"IFERROR(HLOOKUP(Y855,[1]DATA!$A$1:$NB$5,4,0),\"\")","v":"D2"},null,null,null,null,{"$f":"VLOOKUP(Y855,[1]SRM!$S$4:$AA$368,7,0)","v":0},"","",""]
["41doND",{"$f":"VLOOKUP($AA857,DATA!$B$3:$E857,2,0)","v":"22:30:00"},{"$f":"VLOOKUP($AA857,DATA!$B$3:$E857,3,0)","v":"06:30:00"},{"$f":"VLOOKUP($AA857,DATA!$B$3:$E857,4,0)","v":3.125E-2},0.30208333333333326,0.30208333333333326,{"$f":"DATA!$C$9","v":0.89},{"$f":"DATA!$C$10","v":64},1,407.81249999999989,407.81249999999989,0,"","",0,"","",0,"","","","",null,{"$f":"X856","v":41},null,{"$f":"TEXT(Y855,\"ddd\")","v":"do"},"ND",{"$f":"IFERROR(HLOOKUP(Y855,[1]DATA!$A$1:$NB$5,5,0),\"\")","v":"D1"},null,null,null,null,{"$f":"VLOOKUP(Y855,[1]SRM!$S$4:$AA$368,8,0)","v":0},"","",""]
["41vrDD",{"$f":"VLOOKUP($AA858,DATA!$B$3:$E858,2,0)","v":"06:30:00"},{"$f":"VLOOKUP($AA858,DATA!$B$3:$E858,3,0)","v":"14:30:00"},{"$f":"VLOOKUP($AA858,DATA!$B$3:$E858,4,0)","v":3.125E-2},0.30208333333333331,0.30208333333333331,{"$f":"DATA!$C$9","v":0.89},{"$f":"DATA!$C$10","v":64},1,407.8125,407.8125,0,"","",0,"","",0,"","","","",null,{"$f":"X856","v":41},"2018-10-12",{"$f":"TEXT(Y858,\"ddd\")","v":"vr"},"DD",{"$f":"IFERROR(HLOOKUP(Y858,[1]DATA!$A$1:$NB$5,3,0),\"\")","v":"D3"},null,null,null,null,{"$f":"VLOOKUP(Y858,[1]SRM!$S$4:$AA$368,6,0)","v":0},"","",""]
["41vrMD",{"$f":"VLOOKUP($AA859,DATA!$B$3:$E859,2,0)","v":"14:30:00"},{"$f":"VLOOKUP($AA859,DATA!$B$3:$E859,3,0)","v":"22:30:00"},{"$f":"VLOOKUP($AA859,DATA!$B$3:$E859,4,0)","v":3.125E-2},0.30208333333333337,0.30208333333333337,{"$f":"DATA!$C$9","v":0.89},{"$f":"DATA!$C$10","v":64},1,407.81250000000006,407.81250000000006,0,"","",0,"","",0,"","","","",null,{"$f":"X856","v":41},null,{"$f":"TEXT(Y858,\"ddd\")","v":"vr"},"MD",{"$f":"IFERROR(HLOOKUP(Y858,[1]DATA!$A$1:$NB$5,4,0),\"\")","v":"D2"},null,null,null,null,{"$f":"VLOOKUP(Y858,[1]SRM!$S$4:$AA$368,7,0)","v":0},"","",{"$f":"IFERROR(R859/(R859+AG859),\"\")","v":""}]
["41vrND",{"$f":"VLOOKUP($AA860,DATA!$B$3:$E860,2,0)","v":"22:30:00"},{"$f":"VLOOKUP($AA860,DATA!$B$3:$E860,3,0)","v":"06:30:00"},{"$f":"VLOOKUP($AA860,DATA!$B$3:$E860,4,0)","v":3.125E-2},{"$f":"(C860-B860+(B860>C860))-D860","v":0.30208333333333326},{"$f":"E860-O860-L860","v":0.30208333333333326},{"$f":"DATA!$C$9","v":0.89},{"$f":"DATA!$C$10","v":64},1,{"$f":"F860*86400/H860*I860","v":407.81249999999989},{"$f":"E860*86400/H860","v":407.81249999999989},0,"","",0,"","",{"$f":"AF860*AG$2","v":0},{"$f":"IF(AF860-AE860=0,\"\",AF860-AE860)","v":""},"","","",null,{"$f":"X856","v":41},null,{"$f":"TEXT(Y858,\"ddd\")","v":"vr"},"ND",{"$f":"IFERROR(HLOOKUP(Y858,[1]DATA!$A$1:$NB$5,5,0),\"\")","v":"D2"},null,null,null,null,{"$f":"VLOOKUP(Y858,[1]SRM!$S$4:$AA$368,8,0)","v":0},"","",""]
["41zaDD",{"$f":"VLOOKUP($AA861,DATA!$B$3:$E861,2,0)","v":"06:30:00"},{"$f":"VLOOKUP($AA861,DATA!$B$3:$E861,3,0)","v":"14:30:00"},{"$f":"VLOOKUP($AA861,DATA!$B$3:$E861,4,0)","v":3.125E-2},0.30208333333333331,0.30208333333333331,{"$f":"DATA!$C$9","v":0.89},{"$f":"DATA!$C$10","v":64},1,407.8125,407.8125,0,"","",0,"","",0,"","","","",null,{"$f":"X856","v":41},"2018-10-13",{"$f":"TEXT(Y861,\"ddd\")","v":"za"},"DD",{"$f":"IFERROR(HLOOKUP(Y861,[1]DATA!$A$1:$NB$5,3,0),\"\")","v":"D3"},null,null,null,null,{"$f":"VLOOKUP(Y861,[1]SRM!$S$4:$AA$368,6,0)","v":0},"","",""]
["41zaMD",{"$f":"VLOOKUP($AA862,DATA!$B$3:$E862,2,0)","v":"14:30:00"},{"$f":"VLOOKUP($AA862,DATA!$B$3:$E862,3,0)","v":"22:30:00"},{"$f":"VLOOKUP($AA862,DATA!$B$3:$E862,4,0)","v":3.125E-2},0.30208333333333337,0.30208333333333337,{"$f":"DATA!$C$9","v":0.89},{"$f":"DATA!$C$10","v":64},1,407.81250000000006,407.81250000000006,0,"","",0,"","",0,"","","","",null,{"$f":"X856","v":41},null,{"$f":"TEXT(Y861,\"ddd\")","v":"za"},"MD",{"$f":"IFERROR(HLOOKUP(Y861,[1]DATA!$A$1:$NB$5,4,0),\"\")","v":"-"},null,null,null,null,{"$f":"VLOOKUP(Y861,[1]SRM!$S$4:$AA$368,7,0)","v":0},"","",""]
["41zaND",{"$f":"VLOOKUP($AA863,DATA!$B$3:$E863,2,0)","v":"22:30:00"},{"$f":"VLOOKUP($AA863,DATA!$B$3:$E863,3,0)","v":"06:30:00"},{"$f":"VLOOKUP($AA863,DATA!$B$3:$E863,4,0)","v":3.125E-2},0.30208333333333326,0.30208333333333326,{"$f":"DATA!$C$9","v":0.89},{"$f":"DATA!$C$10","v":64},1,407.81249999999989,407.81249999999989,0,"","",0,"","",0,"","","","",null,{"$f":"X856","v":41},null,{"$f":"TEXT(Y861,\"ddd\")","v":"za"},"ND",{"$f":"IFERROR(HLOOKUP(Y861,[1]DATA!$A$1:$NB$5,5,0),\"\")","v":"-"},null,null,null,null,{"$f":"VLOOKUP(Y861,[1]SRM!$S$4:$AA$368,8,0)","v":0},"","",""]
["41zoDD",{"$f":"VLOOKUP($AA864,DATA!$B$3:$E864,2,0)","v":"06:30:00"},{"$f":"VLOOKUP($AA864,DATA!$B$3:$E864,3,0)","v":"14:30:00"},{"$f":"VLOOKUP($AA864,DATA!$B$3:$E864,4,0)","v":3.125E-2},0.30208333333333331,0.30208333333333331,{"$f":"DATA!$C$9","v":0.89},{"$f":"DATA!$C$10","v":64},1,407.8125,407.8125,0,"","",0,"","",0,"","","","",null,{"$f":"X856","v":41},"2018-10-14",{"$f":"TEXT(Y864,\"ddd\")","v":"zo"},"DD",{"$f":"IFERROR(HLOOKUP(Y864,[1]DATA!$A$1:$NB$5,3,0),\"\")","v":"-"},null,null,null,null,{"$f":"VLOOKUP(Y864,[1]SRM!$S$4:$AA$368,6,0)","v":0},"","",""]
["41zoMD",{"$f":"VLOOKUP($AA865,DATA!$B$3:$E865,2,0)","v":"14:30:00"},{"$f":"VLOOKUP($AA865,DATA!$B$3:$E865,3,0)","v":"22:30:00"},{"$f":"VLOOKUP($AA865,DATA!$B$3:$E865,4,0)","v":3.125E-2},0.30208333333333337,0.30208333333333337,{"$f":"DATA!$C$9","v":0.89},{"$f":"DATA!$C$10","v":64},1,407.81250000000006,407.81250000000006,0,"","",0,"","",0,"","","","",null,{"$f":"X856","v":41},null,{"$f":"TEXT(Y864,\"ddd\")","v":"zo"},"MD",{"$f":"IFERROR(HLOOKUP(Y864,[1]DATA!$A$1:$NB$5,4,0),\"\")","v":"-"},null,null,null,null,{"$f":"VLOOKUP(Y864,[1]SRM!$S$4:$AA$368,7,0)","v":0},"","",""]
["41zoZND",{"$f":"VLOOKUP($AA866,DATA!$B$3:$E866,2,0)","v":"00:00:00"},{"$f":"VLOOKUP($AA866,DATA!$B$3:$E866,3,0)","v":"00:00:00"},{"$f":"VLOOKUP($AA866,DATA!$B$3:$E866,4,0)","v":0},0,0,{"$f":"DATA!$C$9","v":0.89},{"$f":"DATA!$C$10","v":64},1,0,0,0,"","",0,"","",0,"","","","",null,{"$f":"X856","v":41},null,{"$f":"TEXT(Y864,\"ddd\")","v":"zo"},"ZND",{"$f":"IFERROR(HLOOKUP(Y864,[1]DATA!$A$1:$NB$5,5,0),\"\")","v":"-"},null,null,null,null,{"$f":"VLOOKUP(Y864,[1]SRM!$S$4:$AA$368,8,0)","v":0},"","",""]
["42maDD",{"$f":"VLOOKUP($AA867,DATA!$B$3:$E867,2,0)","v":"06:30:00"},{"$f":"VLOOKUP($AA867,DATA!$B$3:$E867,3,0)","v":"14:30:00"},{"$f":"VLOOKUP($AA867,DATA!$B$3:$E867,4,0)","v":3.125E-2},0.30208333333333331,0.30208333333333331,{"$f":"DATA!$C$9","v":0.89},{"$f":"DATA!$C$10","v":64},1,407.8125,407.8125,0,"","",{"$f":"TIME(INT($AD867/60),INT(MOD($AD867,60)/1),0)","v":0},"","",0,"","","","",null,{"$f":"X877","v":42},"2018-10-15",{"$f":"TEXT(Y867,\"ddd\")","v":"ma"},"DD",{"$f":"IFERROR(HLOOKUP(Y867,[1]DATA!$A$1:$NB$5,3,0),\"\")","v":"D2"},null,null,null,null,{"$f":"VLOOKUP(Y867,[1]SRM!$S$4:$AA$368,6,0)","v":0},"","","",{"$f":"IF(SUMIF(S867:S887,\">0\",K867:K887)=0,\"\",SUMIF(S867:S887,\">0\",K867:K887))","v":""},{"$f":"IF(SUM(S867:S887)=0,\"\",SUM(S867:S887))","v":""},{"$f":"IFERROR(AL867/AK867,\"-\")","v":"-"},{"$f":"IF(SUM(M867:M887)=0,\"0\",SUM(M867:M887))","v":"0"},{"$f":"IFERROR(AN867/AK867,\"-\")","v":"-"},{"$f":"IF(SUM(P867:P887)=0,0,SUM(P867:P887))","v":0},{"$f":"IFERROR(AP867/AK867,\"-\")","v":"-"},"-",{"$f":"IFERROR(SUMIF($AB867:$AB887,AS$5,$AJ867:$AJ887)/COUNTIFS($AB867:$AB887,AS$5,$AJ867:$AJ887,\">0\"),\"\")","v":""},"","",{"$f":"IFERROR((AK867-AL867-AN867-AP867),\"-\")","v":"-"},{"$f":"IFERROR((1-AM867-AO867-AQ867), \"-\")","v":"-"},{"$f":"IFERROR((AV867*$AE$2)/60,\"-\")","v":"-"},{"$f":"IFERROR(SUM(AG867:AG887),\"\")","v":0}]
["42maMD",{"$f":"VLOOKUP($AA868,DATA!$B$3:$E868,2,0)","v":"14:30:00"},{"$f":"VLOOKUP($AA868,DATA!$B$3:$E868,3,0)","v":"22:30:00"},{"$f":"VLOOKUP($AA868,DATA!$B$3:$E868,4,0)","v":3.125E-2},0.30208333333333337,0.30208333333333337,{"$f":"DATA!$C$9","v":0.89},{"$f":"DATA!$C$10","v":64},1,407.81250000000006,407.81250000000006,0,"","",{"$f":"TIME(INT(AD868/60),INT(MOD(AD868,60)/1),0)","v":0},"","",0,"","","","",null,{"$f":"X877","v":42},null,{"$f":"TEXT(Y867,\"ddd\")","v":"ma"},"MD",{"$f":"IFERROR(HLOOKUP(Y867,[1]DATA!$A$1:$NB$5,4,0),\"\")","v":"D1"},null,null,null,null,{"$f":"VLOOKUP(Y867,[1]SRM!$S$4:$AA$368,7,0)","v":0},"","",""]
["42maND",{"$f":"VLOOKUP($AA869,DATA!$B$3:$E869,2,0)","v":"22:30:00"},{"$f":"VLOOKUP($AA869,DATA!$B$3:$E869,3,0)","v":"06:30:00"},{"$f":"VLOOKUP($AA869,DATA!$B$3:$E869,4,0)","v":3.125E-2},0.30208333333333326,0.30208333333333326,{"$f":"DATA!$C$9","v":0.89},{"$f":"DATA!$C$10","v":64},1,407.81249999999989,407.81249999999989,0,"","",0,"","",0,"","","","",null,{"$f":"X877","v":42},null,{"$f":"TEXT(Y867,\"ddd\")","v":"ma"},"ND",{"$f":"IFERROR(HLOOKUP(Y867,[1]DATA!$A$1:$NB$5,5,0),\"\")","v":"D3"},null,null,null,null,{"$f":"VLOOKUP(Y867,[1]SRM!$S$4:$AA$368,8,0)","v":0},"","",""]
["42diDD",{"$f":"VLOOKUP($AA870,DATA!$B$3:$E870,2,0)","v":"06:30:00"},{"$f":"VLOOKUP($AA870,DATA!$B$3:$E870,3,0)","v":"14:30:00"},{"$f":"VLOOKUP($AA870,DATA!$B$3:$E870,4,0)","v":3.125E-2},0.30208333333333331,0.30208333333333331,{"$f":"DATA!$C$9","v":0.89},{"$f":"DATA!$C$10","v":64},1,407.8125,407.8125,0,"","",0,"","",0,"","","","",null,{"$f":"X877","v":42},"2018-10-16",{"$f":"TEXT(Y870,\"ddd\")","v":"di"},"DD",{"$f":"IFERROR(HLOOKUP(Y870,[1]DATA!$A$1:$NB$5,3,0),\"\")","v":"D2"},null,null,null,null,{"$f":"VLOOKUP(Y870,[1]SRM!$S$4:$AA$368,6,0)","v":0},"","",""]
["42diMD",{"$f":"VLOOKUP($AA871,DATA!$B$3:$E871,2,0)","v":"14:30:00"},{"$f":"VLOOKUP($AA871,DATA!$B$3:$E871,3,0)","v":"22:30:00"},{"$f":"VLOOKUP($AA871,DATA!$B$3:$E871,4,0)","v":3.125E-2},0.30208333333333337,0.30208333333333337,{"$f":"DATA!$C$9","v":0.89},{"$f":"DATA!$C$10","v":64},1,407.81250000000006,407.81250000000006,0,"","",0,"","",0,"","","","",null,{"$f":"X877","v":42},null,{"$f":"TEXT(Y870,\"ddd\")","v":"di"},"MD",{"$f":"IFERROR(HLOOKUP(Y870,[1]DATA!$A$1:$NB$5,4,0),\"\")","v":"D1"},null,null,null,null,{"$f":"VLOOKUP(Y870,[1]SRM!$S$4:$AA$368,7,0)","v":0},"","",""]
["42diND",{"$f":"VLOOKUP($AA872,DATA!$B$3:$E872,2,0)","v":"22:30:00"},{"$f":"VLOOKUP($AA872,DATA!$B$3:$E872,3,0)","v":"06:30:00"},{"$f":"VLOOKUP($AA872,DATA!$B$3:$E872,4,0)","v":3.125E-2},0.30208333333333326,0.30208333333333326,{"$f":"DATA!$C$9","v":0.89},{"$f":"DATA!$C$10","v":64},1,407.81249999999989,407.81249999999989,0,"","",0,"","",0,"","","","",null,{"$f":"X877","v":42},null,{"$f":"TEXT(Y870,\"ddd\")","v":"di"},"ND",{"$f":"IFERROR(HLOOKUP(Y870,[1]DATA!$A$1:$NB$5,5,0),\"\")","v":"D3"},null,null,null,null,{"$f":"VLOOKUP(Y870,[1]SRM!$S$4:$AA$368,8,0)","v":0},"","",""]
["42woDD",{"$f":"VLOOKUP($AA873,DATA!$B$3:$E873,2,0)","v":"06:30:00"},{"$f":"VLOOKUP($AA873,DATA!$B$3:$E873,3,0)","v":"14:30:00"},{"$f":"VLOOKUP($AA873,DATA!$B$3:$E873,4,0)","v":3.125E-2},0.30208333333333331,0.30208333333333331,{"$f":"DATA!$C$9","v":0.89},{"$f":"DATA!$C$10","v":64},1,407.8125,407.8125,0,"","",0,"","",0,"","","","",null,{"$f":"X877","v":42},"2018-10-17",{"$f":"TEXT(Y873,\"ddd\")","v":"wo"},"DD",{"$f":"IFERROR(HLOOKUP(Y873,[1]DATA!$A$1:$NB$5,3,0),\"\")","v":"D2"},null,null,null,null,{"$f":"VLOOKUP(Y873,[1]SRM!$S$4:$AA$368,6,0)","v":0},"","",""]
["42woMD",{"$f":"VLOOKUP($AA874,DATA!$B$3:$E874,2,0)","v":"14:30:00"},{"$f":"VLOOKUP($AA874,DATA!$B$3:$E874,3,0)","v":"22:30:00"},{"$f":"VLOOKUP($AA874,DATA!$B$3:$E874,4,0)","v":3.125E-2},0.30208333333333337,0.30208333333333337,{"$f":"DATA!$C$9","v":0.89},{"$f":"DATA!$C$10","v":64},1,407.81250000000006,407.81250000000006,0,"","",0,"","",0,"","","","",null,{"$f":"X877","v":42},null,{"$f":"TEXT(Y873,\"ddd\")","v":"wo"},"MD",{"$f":"IFERROR(HLOOKUP(Y873,[1]DATA!$A$1:$NB$5,4,0),\"\")","v":"D1"},null,null,null,null,{"$f":"VLOOKUP(Y873,[1]SRM!$S$4:$AA$368,7,0)","v":0},"","",""]
["42woND",{"$f":"VLOOKUP($AA875,DATA!$B$3:$E875,2,0)","v":"22:30:00"},{"$f":"VLOOKUP($AA875,DATA!$B$3:$E875,3,0)","v":"06:30:00"},{"$f":"VLOOKUP($AA875,DATA!$B$3:$E875,4,0)","v":3.125E-2},0.30208333333333326,0.30208333333333326,{"$f":"DATA!$C$9","v":0.89},{"$f":"DATA!$C$10","v":64},1,407.81249999999989,407.81249999999989,0,"","",0,"","",0,"","","","",null,{"$f":"X877","v":42},null,{"$f":"TEXT(Y873,\"ddd\")","v":"wo"},"ND",{"$f":"IFERROR(HLOOKUP(Y873,[1]DATA!$A$1:$NB$5,5,0),\"\")","v":"D3"},null,null,null,null,{"$f":"VLOOKUP(Y873,[1]SRM!$S$4:$AA$368,8,0)","v":0},"","",""]
["42doDD",{"$f":"VLOOKUP($AA876,DATA!$B$3:$E876,2,0)","v":"06:30:00"},{"$f":"VLOOKUP($AA876,DATA!$B$3:$E876,3,0)","v":"14:30:00"},{"$f":"VLOOKUP($AA876,DATA!$B$3:$E876,4,0)","v":3.125E-2},0.30208333333333331,0.30208333333333331,{"$f":"DATA!$C$9","v":0.89},{"$f":"DATA!$C$10","v":64},1,407.8125,407.8125,0,"","",0,"","",0,"","","","",null,{"$f":"X877","v":42},"2018-10-18",{"$f":"TEXT(Y876,\"ddd\")","v":"do"},"DD",{"$f":"IFERROR(HLOOKUP(Y876,[1]DATA!$A$1:$NB$5,3,0),\"\")","v":"D2"},null,null,null,null,{"$f":"VLOOKUP(Y876,[1]SRM!$S$4:$AA$368,6,0)","v":0},"","",""]
["42doMD",{"$f":"VLOOKUP($AA877,DATA!$B$3:$E877,2,0)","v":"14:30:00"},{"$f":"VLOOKUP($AA877,DATA!$B$3:$E877,3,0)","v":"22:30:00"},{"$f":"VLOOKUP($AA877,DATA!$B$3:$E877,4,0)","v":3.125E-2},0.30208333333333337,0.30208333333333337,{"$f":"DATA!$C$9","v":0.89},{"$f":"DATA!$C$10","v":64},1,407.81250000000006,407.81250000000006,0,"","",0,"","",0,"","","","",null,{"$f":"WEEKNUM($Y867)","v":42},null,{"$f":"TEXT(Y876,\"ddd\")","v":"do"},"MD",{"$f":"IFERROR(HLOOKUP(Y876,[1]DATA!$A$1:$NB$5,4,0),\"\")","v":"D1"},null,null,null,null,{"$f":"VLOOKUP(Y876,[1]SRM!$S$4:$AA$368,7,0)","v":0},"","",""]
["42doND",{"$f":"VLOOKUP($AA878,DATA!$B$3:$E878,2,0)","v":"22:30:00"},{"$f":"VLOOKUP($AA878,DATA!$B$3:$E878,3,0)","v":"06:30:00"},{"$f":"VLOOKUP($AA878,DATA!$B$3:$E878,4,0)","v":3.125E-2},0.30208333333333326,0.30208333333333326,{"$f":"DATA!$C$9","v":0.89},{"$f":"DATA!$C$10","v":64},1,407.81249999999989,407.81249999999989,0,"","",0,"","",0,"","","","",null,{"$f":"X877","v":42},null,{"$f":"TEXT(Y876,\"ddd\")","v":"do"},"ND",{"$f":"IFERROR(HLOOKUP(Y876,[1]DATA!$A$1:$NB$5,5,0),\"\")","v":"D3"},null,null,null,null,{"$f":"VLOOKUP(Y876,[1]SRM!$S$4:$AA$368,8,0)","v":0},"","",""]
["42vrDD",{"$f":"VLOOKUP($AA879,DATA!$B$3:$E879,2,0)","v":"06:30:00"},{"$f":"VLOOKUP($AA879,DATA!$B$3:$E879,3,0)","v":"14:30:00"},{"$f":"VLOOKUP($AA879,DATA!$B$3:$E879,4,0)","v":3.125E-2},0.30208333333333331,0.30208333333333331,{"$f":"DATA!$C$9","v":0.89},{"$f":"DATA!$C$10","v":64},1,407.8125,407.8125,0,"","",0,"","",0,"","","","",null,{"$f":"X877","v":42},"2018-10-19",{"$f":"TEXT(Y879,\"ddd\")","v":"vr"},"DD",{"$f":"IFERROR(HLOOKUP(Y879,[1]DATA!$A$1:$NB$5,3,0),\"\")","v":"D2"},null,null,null,null,{"$f":"VLOOKUP(Y879,[1]SRM!$S$4:$AA$368,6,0)","v":0},"","",""]
[{"$f":"X880&Z880&AA880","v":"42vrMD"},{"$f":"VLOOKUP($AA880,DATA!$B$3:$E880,2,0)","v":"14:30:00"},{"$f":"VLOOKUP($AA880,DATA!$B$3:$E880,3,0)","v":"22:30:00"},{"$f":"VLOOKUP($AA880,DATA!$B$3:$E880,4,0)","v":3.125E-2},0.30208333333333337,0.30208333333333337,{"$f":"DATA!$C$9","v":0.89},{"$f":"DATA!$C$10","v":64},1,407.81250000000006,407.81250000000006,0,"","",0,{"$f":"IF($O880*86400/$H880=0,\"\",$O880*86400/$H880)","v":""},"",0,"","","","",null,{"$f":"X877","v":42},null,{"$f":"TEXT(Y879,\"ddd\")","v":"vr"},"MD",{"$f":"IFERROR(HLOOKUP(Y879,[1]DATA!$A$1:$NB$5,4,0),\"\")","v":"D1"},null,null,null,null,{"$f":"VLOOKUP(Y879,[1]SRM!$S$4:$AA$368,7,0)","v":0},"","",""]
["42vrND",{"$f":"VLOOKUP($AA881,DATA!$B$3:$E881,2,0)","v":"22:30:00"},{"$f":"VLOOKUP($AA881,DATA!$B$3:$E881,3,0)","v":"06:30:00"},{"$f":"VLOOKUP($AA881,DATA!$B$3:$E881,4,0)","v":3.125E-2},0.30208333333333326,0.30208333333333326,{"$f":"DATA!$C$9","v":0.89},{"$f":"DATA!$C$10","v":64},1,407.81249999999989,407.81249999999989,0,"","",0,"","",0,"","","","",null,{"$f":"X877","v":42},null,{"$f":"TEXT(Y879,\"ddd\")","v":"vr"},"ND",{"$f":"IFERROR(HLOOKUP(Y879,[1]DATA!$A$1:$NB$5,5,0),\"\")","v":"D3"},null,null,null,null,{"$f":"VLOOKUP(Y879,[1]SRM!$S$4:$AA$368,8,0)","v":0},"","",""]
["42zaDD",{"$f":"VLOOKUP($AA882,DATA!$B$3:$E882,2,0)","v":"06:30:00"},{"$f":"VLOOKUP($AA882,DATA!$B$3:$E882,3,0)","v":"14:30:00"},{"$f":"VLOOKUP($AA882,DATA!$B$3:$E882,4,0)","v":3.125E-2},0.30208333333333331,0.30208333333333331,{"$f":"DATA!$C$9","v":0.89},{"$f":"DATA!$C$10","v":64},1,407.8125,407.8125,0,"","",0,"","",0,"","","","",null,{"$f":"X877","v":42},"2018-10-20",{"$f":"TEXT(Y882,\"ddd\")","v":"za"},"DD",{"$f":"IFERROR(HLOOKUP(Y882,[1]DATA!$A$1:$NB$5,3,0),\"\")","v":"D2"},null,null,null,null,{"$f":"VLOOKUP(Y882,[1]SRM!$S$4:$AA$368,6,0)","v":0},"","",""]
["42zaMD",{"$f":"VLOOKUP($AA883,DATA!$B$3:$E883,2,0)","v":"14:30:00"},{"$f":"VLOOKUP($AA883,DATA!$B$3:$E883,3,0)","v":"22:30:00"},{"$f":"VLOOKUP($AA883,DATA!$B$3:$E883,4,0)","v":3.125E-2},0.30208333333333337,0.30208333333333337,{"$f":"DATA!$C$9","v":0.89},{"$f":"DATA!$C$10","v":64},1,407.81250000000006,407.81250000000006,0,"","",0,"","",0,"","","","",null,{"$f":"X877","v":42},null,{"$f":"TEXT(Y882,\"ddd\")","v":"za"},"MD",{"$f":"IFERROR(HLOOKUP(Y882,[1]DATA!$A$1:$NB$5,4,0),\"\")","v":"-"},null,null,null,null,{"$f":"VLOOKUP(Y882,[1]SRM!$S$4:$AA$368,7,0)","v":0},"","",""]
["42zaND",{"$f":"VLOOKUP($AA884,DATA!$B$3:$E884,2,0)","v":"22:30:00"},{"$f":"VLOOKUP($AA884,DATA!$B$3:$E884,3,0)","v":"06:30:00"},{"$f":"VLOOKUP($AA884,DATA!$B$3:$E884,4,0)","v":3.125E-2},0.30208333333333326,0.30208333333333326,{"$f":"DATA!$C$9","v":0.89},{"$f":"DATA!$C$10","v":64},1,407.81249999999989,407.81249999999989,0,"","",0,"","",0,"","","","",null,{"$f":"X877","v":42},null,{"$f":"TEXT(Y882,\"ddd\")","v":"za"},"ND",{"$f":"IFERROR(HLOOKUP(Y882,[1]DATA!$A$1:$NB$5,5,0),\"\")","v":"-"},null,null,null,null,{"$f":"VLOOKUP(Y882,[1]SRM!$S$4:$AA$368,8,0)","v":0},"","",""]
["42zoDD",{"$f":"VLOOKUP($AA885,DATA!$B$3:$E885,2,0)","v":"06:30:00"},{"$f":"VLOOKUP($AA885,DATA!$B$3:$E885,3,0)","v":"14:30:00"},{"$f":"VLOOKUP($AA885,DATA!$B$3:$E885,4,0)","v":3.125E-2},0.30208333333333331,0.30208333333333331,{"$f":"DATA!$C$9","v":0.89},{"$f":"DATA!$C$10","v":64},1,407.8125,407.8125,0,"","",0,"","",0,"","","","",null,{"$f":"X877","v":42},"2018-10-21",{"$f":"TEXT(Y885,\"ddd\")","v":"zo"},"DD",{"$f":"IFERROR(HLOOKUP(Y885,[1]DATA!$A$1:$NB$5,3,0),\"\")","v":"-"},null,null,null,null,{"$f":"VLOOKUP(Y885,[1]SRM!$S$4:$AA$368,6,0)","v":0},"","",""]
["42zoMD",{"$f":"VLOOKUP($AA886,DATA!$B$3:$E886,2,0)","v":"14:30:00"},{"$f":"VLOOKUP($AA886,DATA!$B$3:$E886,3,0)","v":"22:30:00"},{"$f":"VLOOKUP($AA886,DATA!$B$3:$E886,4,0)","v":3.125E-2},0.30208333333333337,0.30208333333333337,{"$f":"DATA!$C$9","v":0.89},{"$f":"DATA!$C$10","v":64},1,407.81250000000006,407.81250000000006,0,"","",0,"","",0,"","","","",null,{"$f":"X877","v":42},null,{"$f":"TEXT(Y885,\"ddd\")","v":"zo"},"MD",{"$f":"IFERROR(HLOOKUP(Y885,[1]DATA!$A$1:$NB$5,4,0),\"\")","v":"-"},null,null,null,null,{"$f":"VLOOKUP(Y885,[1]SRM!$S$4:$AA$368,7,0)","v":0},"","",""]
["42zoZND",{"$f":"VLOOKUP($AA887,DATA!$B$3:$E887,2,0)","v":"00:00:00"},{"$f":"VLOOKUP($AA887,DATA!$B$3:$E887,3,0)","v":"00:00:00"},{"$f":"VLOOKUP($AA887,DATA!$B$3:$E887,4,0)","v":0},0,0,{"$f":"DATA!$C$9","v":0.89},{"$f":"DATA!$C$10","v":64},1,0,0,0,"","",0,"","",0,"","","","",null,{"$f":"X877","v":42},null,{"$f":"TEXT(Y885,\"ddd\")","v":"zo"},"ZND",{"$f":"IFERROR(HLOOKUP(Y885,[1]DATA!$A$1:$NB$5,5,0),\"\")","v":"-"},null,null,null,null,{"$f":"VLOOKUP(Y885,[1]SRM!$S$4:$AA$368,8,0)","v":0},"","",""]
["43maDD",{"$f":"VLOOKUP($AA888,DATA!$B$3:$E888,2,0)","v":"06:30:00"},{"$f":"VLOOKUP($AA888,DATA!$B$3:$E888,3,0)","v":"14:30:00"},{"$f":"VLOOKUP($AA888,DATA!$B$3:$E888,4,0)","v":3.125E-2},0.30208333333333331,0.30208333333333331,{"$f":"DATA!$C$9","v":0.89},{"$f":"DATA!$C$10","v":64},1,407.8125,407.8125,0,"","",{"$f":"TIME(INT($AD888/60),INT(MOD($AD888,60)/1),0)","v":0},"","",0,"","","","",null,{"$f":"X898","v":43},"2018-10-22",{"$f":"TEXT(Y888,\"ddd\")","v":"ma"},"DD",{"$f":"IFERROR(HLOOKUP(Y888,[1]DATA!$A$1:$NB$5,3,0),\"\")","v":"D1"},null,null,null,null,{"$f":"VLOOKUP(Y888,[1]SRM!$S$4:$AA$368,6,0)","v":0},"","","",{"$f":"IF(SUMIF(S888:S908,\">0\",K888:K908)=0,\"\",SUMIF(S888:S908,\">0\",K888:K908))","v":""},{"$f":"IF(SUM(S888:S908)=0,\"\",SUM(S888:S908))","v":""},{"$f":"IFERROR(AL888/AK888,\"-\")","v":"-"},{"$f":"IF(SUM(M888:M908)=0,\"0\",SUM(M888:M908))","v":"0"},{"$f":"IFERROR(AN888/AK888,\"-\")","v":"-"},{"$f":"IF(SUM(P888:P908)=0,0,SUM(P888:P908))","v":0},{"$f":"IFERROR(AP888/AK888,\"-\")","v":"-"},"-",{"$f":"IFERROR(SUMIF($AB888:$AB908,AS$5,$AJ888:$AJ908)/COUNTIFS($AB888:$AB908,AS$5,$AJ888:$AJ908,\">0\"),\"\")","v":""},"","",{"$f":"IFERROR((AK888-AL888-AN888-AP888),\"-\")","v":"-"},{"$f":"IFERROR((1-AM888-AO888-AQ888), \"-\")","v":"-"},{"$f":"IFERROR((AV888*$AE$2)/60,\"-\")","v":"-"},{"$f":"IFERROR(SUM(AG888:AG908),\"\")","v":0}]
["43maMD",{"$f":"VLOOKUP($AA889,DATA!$B$3:$E889,2,0)","v":"14:30:00"},{"$f":"VLOOKUP($AA889,DATA!$B$3:$E889,3,0)","v":"22:30:00"},{"$f":"VLOOKUP($AA889,DATA!$B$3:$E889,4,0)","v":3.125E-2},0.30208333333333337,0.30208333333333337,{"$f":"DATA!$C$9","v":0.89},{"$f":"DATA!$C$10","v":64},1,407.81250000000006,407.81250000000006,0,"","",{"$f":"TIME(INT(AD889/60),INT(MOD(AD889,60)/1),0)","v":0},"","",0,"","","","",null,{"$f":"X898","v":43},null,{"$f":"TEXT(Y888,\"ddd\")","v":"ma"},"MD",{"$f":"IFERROR(HLOOKUP(Y888,[1]DATA!$A$1:$NB$5,4,0),\"\")","v":"D3"},null,null,null,null,{"$f":"VLOOKUP(Y888,[1]SRM!$S$4:$AA$368,7,0)","v":0},"","",""]
["43maND",{"$f":"VLOOKUP($AA890,DATA!$B$3:$E890,2,0)","v":"22:30:00"},{"$f":"VLOOKUP($AA890,DATA!$B$3:$E890,3,0)","v":"06:30:00"},{"$f":"VLOOKUP($AA890,DATA!$B$3:$E890,4,0)","v":3.125E-2},0.30208333333333326,0.30208333333333326,{"$f":"DATA!$C$9","v":0.89},{"$f":"DATA!$C$10","v":64},1,407.81249999999989,407.81249999999989,0,"","",0,"","",0,"","","","",null,{"$f":"X898","v":43},null,{"$f":"TEXT(Y888,\"ddd\")","v":"ma"},"ND",{"$f":"IFERROR(HLOOKUP(Y888,[1]DATA!$A$1:$NB$5,5,0),\"\")","v":"D2"},null,null,null,null,{"$f":"VLOOKUP(Y888,[1]SRM!$S$4:$AA$368,8,0)","v":0},"","",""]
["43diDD",{"$f":"VLOOKUP($AA891,DATA!$B$3:$E891,2,0)","v":"06:30:00"},{"$f":"VLOOKUP($AA891,DATA!$B$3:$E891,3,0)","v":"14:30:00"},{"$f":"VLOOKUP($AA891,DATA!$B$3:$E891,4,0)","v":3.125E-2},0.30208333333333331,0.30208333333333331,{"$f":"DATA!$C$9","v":0.89},{"$f":"DATA!$C$10","v":64},1,407.8125,407.8125,0,"","",0,"","",0,"","","","",null,{"$f":"X898","v":43},{"$f":"Y888+1","v":"2018-10-23"},{"$f":"TEXT(Y891,\"ddd\")","v":"di"},"DD",{"$f":"IFERROR(HLOOKUP(Y891,[1]DATA!$A$1:$NB$5,3,0),\"\")","v":"D1"},null,null,null,null,{"$f":"VLOOKUP(Y891,[1]SRM!$S$4:$AA$368,6,0)","v":0},"","",""]
["43diMD",{"$f":"VLOOKUP($AA892,DATA!$B$3:$E892,2,0)","v":"14:30:00"},{"$f":"VLOOKUP($AA892,DATA!$B$3:$E892,3,0)","v":"22:30:00"},{"$f":"VLOOKUP($AA892,DATA!$B$3:$E892,4,0)","v":3.125E-2},0.30208333333333337,0.30208333333333337,{"$f":"DATA!$C$9","v":0.89},{"$f":"DATA!$C$10","v":64},1,407.81250000000006,407.81250000000006,0,"","",0,"","",0,"","","","",null,{"$f":"X898","v":43},null,{"$f":"TEXT(Y891,\"ddd\")","v":"di"},"MD",{"$f":"IFERROR(HLOOKUP(Y891,[1]DATA!$A$1:$NB$5,4,0),\"\")","v":"D3"},null,null,null,null,{"$f":"VLOOKUP(Y891,[1]SRM!$S$4:$AA$368,7,0)","v":0},"","",""]
["43diND",{"$f":"VLOOKUP($AA893,DATA!$B$3:$E893,2,0)","v":"22:30:00"},{"$f":"VLOOKUP($AA893,DATA!$B$3:$E893,3,0)","v":"06:30:00"},{"$f":"VLOOKUP($AA893,DATA!$B$3:$E893,4,0)","v":3.125E-2},0.30208333333333326,0.30208333333333326,{"$f":"DATA!$C$9","v":0.89},{"$f":"DATA!$C$10","v":64},1,407.81249999999989,407.81249999999989,0,"","",0,"","",0,"","","","",null,{"$f":"X898","v":43},null,{"$f":"TEXT(Y891,\"ddd\")","v":"di"},"ND",{"$f":"IFERROR(HLOOKUP(Y891,[1]DATA!$A$1:$NB$5,5,0),\"\")","v":"D2"},null,null,null,null,{"$f":"VLOOKUP(Y891,[1]SRM!$S$4:$AA$368,8,0)","v":0},"","",""]
["43woDD",{"$f":"VLOOKUP($AA894,DATA!$B$3:$E894,2,0)","v":"06:30:00"},{"$f":"VLOOKUP($AA894,DATA!$B$3:$E894,3,0)","v":"14:30:00"},{"$f":"VLOOKUP($AA894,DATA!$B$3:$E894,4,0)","v":3.125E-2},0.30208333333333331,0.30208333333333331,{"$f":"DATA!$C$9","v":0.89},{"$f":"DATA!$C$10","v":64},1,407.8125,407.8125,0,"","",0,"","",0,"","","","",null,{"$f":"X898","v":43},"2018-10-24",{"$f":"TEXT(Y894,\"ddd\")","v":"wo"},"DD",{"$f":"IFERROR(HLOOKUP(Y894,[1]DATA!$A$1:$NB$5,3,0),\"\")","v":"D1"},null,null,null,null,{"$f":"VLOOKUP(Y894,[1]SRM!$S$4:$AA$368,6,0)","v":0},"","",""]
["43woMD",{"$f":"VLOOKUP($AA895,DATA!$B$3:$E895,2,0)","v":"14:30:00"},{"$f":"VLOOKUP($AA895,DATA!$B$3:$E895,3,0)","v":"22:30:00"},{"$f":"VLOOKUP($AA895,DATA!$B$3:$E895,4,0)","v":3.125E-2},0.30208333333333337,0.30208333333333337,{"$f":"DATA!$C$9","v":0.89},{"$f":"DATA!$C$10","v":64},1,407.81250000000006,407.81250000000006,0,"","",0,"","",0,"","","","",null,{"$f":"X898","v":43},null,{"$f":"TEXT(Y894,\"ddd\")","v":"wo"},"MD",{"$f":"IFERROR(HLOOKUP(Y894,[1]DATA!$A$1:$NB$5,4,0),\"\")","v":"D3"},null,null,null,null,{"$f":"VLOOKUP(Y894,[1]SRM!$S$4:$AA$368,7,0)","v":0},"","",""]
["43woND",{"$f":"VLOOKUP($AA896,DATA!$B$3:$E896,2,0)","v":"22:30:00"},{"$f":"VLOOKUP($AA896,DATA!$B$3:$E896,3,0)","v":"06:30:00"},{"$f":"VLOOKUP($AA896,DATA!$B$3:$E896,4,0)","v":3.125E-2},0.30208333333333326,0.30208333333333326,{"$f":"DATA!$C$9","v":0.89},{"$f":"DATA!$C$10","v":64},1,407.81249999999989,407.81249999999989,0,"","",0,"","",0,"","","","",null,{"$f":"X898","v":43},null,{"$f":"TEXT(Y894,\"ddd\")","v":"wo"},"ND",{"$f":"IFERROR(HLOOKUP(Y894,[1]DATA!$A$1:$NB$5,5,0),\"\")","v":"D2"},null,null,null,null,{"$f":"VLOOKUP(Y894,[1]SRM!$S$4:$AA$368,8,0)","v":0},"","",""]
["43doDD",{"$f":"VLOOKUP($AA897,DATA!$B$3:$E897,2,0)","v":"06:30:00"},{"$f":"VLOOKUP($AA897,DATA!$B$3:$E897,3,0)","v":"14:30:00"},{"$f":"VLOOKUP($AA897,DATA!$B$3:$E897,4,0)","v":3.125E-2},0.30208333333333331,0.30208333333333331,{"$f":"DATA!$C$9","v":0.89},{"$f":"DATA!$C$10","v":64},1,407.8125,407.8125,0,"","",0,"","",0,"","","","",null,{"$f":"X898","v":43},"2018-10-25",{"$f":"TEXT(Y897,\"ddd\")","v":"do"},"DD",{"$f":"IFERROR(HLOOKUP(Y897,[1]DATA!$A$1:$NB$5,3,0),\"\")","v":"D1"},null,null,null,null,{"$f":"VLOOKUP(Y897,[1]SRM!$S$4:$AA$368,6,0)","v":0},"","",""]
["43doMD",{"$f":"VLOOKUP($AA898,DATA!$B$3:$E898,2,0)","v":"14:30:00"},{"$f":"VLOOKUP($AA898,DATA!$B$3:$E898,3,0)","v":"22:30:00"},{"$f":"VLOOKUP($AA898,DATA!$B$3:$E898,4,0)","v":3.125E-2},0.30208333333333337,0.30208333333333337,{"$f":"DATA!$C$9","v":0.89},{"$f":"DATA!$C$10","v":64},1,407.81250000000006,407.81250000000006,0,"","",0,"","",0,"","","","",null,{"$f":"WEEKNUM($Y888)","v":43},null,{"$f":"TEXT(Y897,\"ddd\")","v":"do"},"MD",{"$f":"IFERROR(HLOOKUP(Y897,[1]DATA!$A$1:$NB$5,4,0),\"\")","v":"D3"},null,null,null,null,{"$f":"VLOOKUP(Y897,[1]SRM!$S$4:$AA$368,7,0)","v":0},"","",""]
["43doND",{"$f":"VLOOKUP($AA899,DATA!$B$3:$E899,2,0)","v":"22:30:00"},{"$f":"VLOOKUP($AA899,DATA!$B$3:$E899,3,0)","v":"06:30:00"},{"$f":"VLOOKUP($AA899,DATA!$B$3:$E899,4,0)","v":3.125E-2},0.30208333333333326,0.30208333333333326,{"$f":"DATA!$C$9","v":0.89},{"$f":"DATA!$C$10","v":64},1,407.81249999999989,407.81249999999989,0,"","",0,"","",0,"","","","",null,{"$f":"X898","v":43},null,{"$f":"TEXT(Y897,\"ddd\")","v":"do"},"ND",{"$f":"IFERROR(HLOOKUP(Y897,[1]DATA!$A$1:$NB$5,5,0),\"\")","v":"D2"},null,null,null,null,{"$f":"VLOOKUP(Y897,[1]SRM!$S$4:$AA$368,8,0)","v":0},"","",""]
["43vrDD",{"$f":"VLOOKUP($AA900,DATA!$B$3:$E900,2,0)","v":"06:30:00"},{"$f":"VLOOKUP($AA900,DATA!$B$3:$E900,3,0)","v":"14:30:00"},{"$f":"VLOOKUP($AA900,DATA!$B$3:$E900,4,0)","v":3.125E-2},0.30208333333333331,0.30208333333333331,{"$f":"DATA!$C$9","v":0.89},{"$f":"DATA!$C$10","v":64},1,407.8125,407.8125,0,"","",0,"","",0,"","","","",null,{"$f":"X898","v":43},"2018-10-26",{"$f":"TEXT(Y900,\"ddd\")","v":"vr"},"DD",{"$f":"IFERROR(HLOOKUP(Y900,[1]DATA!$A$1:$NB$5,3,0),\"\")","v":"D1"},null,null,null,null,{"$f":"VLOOKUP(Y900,[1]SRM!$S$4:$AA$368,6,0)","v":0},"","",""]
["43vrMD",{"$f":"VLOOKUP($AA901,DATA!$B$3:$E901,2,0)","v":"14:30:00"},{"$f":"VLOOKUP($AA901,DATA!$B$3:$E901,3,0)","v":"22:30:00"},{"$f":"VLOOKUP($AA901,DATA!$B$3:$E901,4,0)","v":3.125E-2},0.30208333333333337,0.30208333333333337,{"$f":"DATA!$C$9","v":0.89},{"$f":"DATA!$C$10","v":64},1,407.81250000000006,407.81250000000006,0,"","",0,"","",0,"","","","",null,{"$f":"X898","v":43},null,{"$f":"TEXT(Y900,\"ddd\")","v":"vr"},"MD",{"$f":"IFERROR(HLOOKUP(Y900,[1]DATA!$A$1:$NB$5,4,0),\"\")","v":"D3"},null,null,null,null,{"$f":"VLOOKUP(Y900,[1]SRM!$S$4:$AA$368,7,0)","v":0},"","",""]
["43vrND",{"$f":"VLOOKUP($AA902,DATA!$B$3:$E902,2,0)","v":"22:30:00"},{"$f":"VLOOKUP($AA902,DATA!$B$3:$E902,3,0)","v":"06:30:00"},{"$f":"VLOOKUP($AA902,DATA!$B$3:$E902,4,0)","v":3.125E-2},0.30208333333333326,0.30208333333333326,{"$f":"DATA!$C$9","v":0.89},{"$f":"DATA!$C$10","v":64},1,407.81249999999989,407.81249999999989,0,"","",0,"","",0,"","","","",null,{"$f":"X898","v":43},null,{"$f":"TEXT(Y900,\"ddd\")","v":"vr"},"ND",{"$f":"IFERROR(HLOOKUP(Y900,[1]DATA!$A$1:$NB$5,5,0),\"\")","v":"D2"},null,null,null,null,{"$f":"VLOOKUP(Y900,[1]SRM!$S$4:$AA$368,8,0)","v":0},{"$f":"IFERROR(S902-J902,\"\")","v":""},{"$f":"IFERROR(IF(S902/(E902*86400/H902)<=0,\"\",S902/(E902*86400/H902)),\"\")","v":""},""]
["43zaDD",{"$f":"VLOOKUP($AA903,DATA!$B$3:$E903,2,0)","v":"06:30:00"},{"$f":"VLOOKUP($AA903,DATA!$B$3:$E903,3,0)","v":"14:30:00"},{"$f":"VLOOKUP($AA903,DATA!$B$3:$E903,4,0)","v":3.125E-2},0.30208333333333331,0.30208333333333331,{"$f":"DATA!$C$9","v":0.89},{"$f":"DATA!$C$10","v":64},1,407.8125,407.8125,{"$f":"TIME(INT($AC903/60),INT(MOD($AC903,60)/1),0)","v":0},{"$f":"IF($L903*86400/$H903=0,\"\",$L903*86400/$H903)","v":""},{"$f":"IFERROR($M903/$K903,\"\")","v":""},0,"",{"$f":"IFERROR($P903/$K903,\"\")","v":""},0,"",{"$f":"IF(IF($AB903=\"D1\",$S903,\"\")=0,\"\",IF($AB903=\"D1\",$S903,\"\"))","v":""},{"$f":"IF(IF($AB903=\"D2\",$S903,\"\")=0,\"\",IF($AB903=\"D2\",$S903,\"\"))","v":""},{"$f":"IF(IF($AB903=\"D3\",$S903,\"\")=0,\"\",IF($AB903=\"D3\",$S903,\"\"))","v":""},null,{"$f":"X898","v":43},"2018-10-27",{"$f":"TEXT(Y903,\"ddd\")","v":"za"},"DD",{"$f":"IFERROR(HLOOKUP(Y903,[1]DATA!$A$1:$NB$5,3,0),\"\")","v":"D1"},null,null,null,null,{"$f":"VLOOKUP(Y903,[1]SRM!$S$4:$AA$368,6,0)","v":0},"","",""]
["43zaMD",{"$f":"VLOOKUP($AA904,DATA!$B$3:$E904,2,0)","v":"14:30:00"},{"$f":"VLOOKUP($AA904,DATA!$B$3:$E904,3,0)","v":"22:30:00"},{"$f":"VLOOKUP($AA904,DATA!$B$3:$E904,4,0)","v":3.125E-2},0.30208333333333337,0.30208333333333337,{"$f":"DATA!$C$9","v":0.89},{"$f":"DATA!$C$10","v":64},1,407.81250000000006,407.81250000000006,0,"","",0,"","",0,"","","","",null,{"$f":"X898","v":43},null,{"$f":"TEXT(Y903,\"ddd\")","v":"za"},"MD",{"$f":"IFERROR(HLOOKUP(Y903,[1]DATA!$A$1:$NB$5,4,0),\"\")","v":"-"},null,null,null,null,{"$f":"VLOOKUP(Y903,[1]SRM!$S$4:$AA$368,7,0)","v":0},"","",""]
["43zaND",{"$f":"VLOOKUP($AA905,DATA!$B$3:$E905,2,0)","v":"22:30:00"},{"$f":"VLOOKUP($AA905,DATA!$B$3:$E905,3,0)","v":"06:30:00"},{"$f":"VLOOKUP($AA905,DATA!$B$3:$E905,4,0)","v":3.125E-2},0.30208333333333326,0.30208333333333326,{"$f":"DATA!$C$9","v":0.89},{"$f":"DATA!$C$10","v":64},1,407.81249999999989,407.81249999999989,0,"","",0,"","",0,"","","","",null,{"$f":"X898","v":43},null,{"$f":"TEXT(Y903,\"ddd\")","v":"za"},"ND",{"$f":"IFERROR(HLOOKUP(Y903,[1]DATA!$A$1:$NB$5,5,0),\"\")","v":"-"},null,null,null,null,{"$f":"VLOOKUP(Y903,[1]SRM!$S$4:$AA$368,8,0)","v":0},"","",""]
["43zoDD",{"$f":"VLOOKUP($AA906,DATA!$B$3:$E906,2,0)","v":"06:30:00"},{"$f":"VLOOKUP($AA906,DATA!$B$3:$E906,3,0)","v":"14:30:00"},{"$f":"VLOOKUP($AA906,DATA!$B$3:$E906,4,0)","v":3.125E-2},0.30208333333333331,0.30208333333333331,{"$f":"DATA!$C$9","v":0.89},{"$f":"DATA!$C$10","v":64},1,407.8125,407.8125,0,"","",0,"","",0,"","","","",null,{"$f":"X898","v":43},"2018-10-28",{"$f":"TEXT(Y906,\"ddd\")","v":"zo"},"DD",{"$f":"IFERROR(HLOOKUP(Y906,[1]DATA!$A$1:$NB$5,3,0),\"\")","v":"-"},null,null,null,null,{"$f":"VLOOKUP(Y906,[1]SRM!$S$4:$AA$368,6,0)","v":0},"","",""]
["43zoMD",{"$f":"VLOOKUP($AA907,DATA!$B$3:$E907,2,0)","v":"14:30:00"},{"$f":"VLOOKUP($AA907,DATA!$B$3:$E907,3,0)","v":"22:30:00"},{"$f":"VLOOKUP($AA907,DATA!$B$3:$E907,4,0)","v":3.125E-2},0.30208333333333337,0.30208333333333337,{"$f":"DATA!$C$9","v":0.89},{"$f":"DATA!$C$10","v":64},1,407.81250000000006,407.81250000000006,0,"","",0,"","",0,"","","","",null,{"$f":"X898","v":43},null,{"$f":"TEXT(Y906,\"ddd\")","v":"zo"},"MD",{"$f":"IFERROR(HLOOKUP(Y906,[1]DATA!$A$1:$NB$5,4,0),\"\")","v":"-"},null,null,null,null,{"$f":"VLOOKUP(Y906,[1]SRM!$S$4:$AA$368,7,0)","v":0},"","",""]
["43zoZND",{"$f":"VLOOKUP($AA908,DATA!$B$3:$E908,2,0)","v":"00:00:00"},{"$f":"VLOOKUP($AA908,DATA!$B$3:$E908,3,0)","v":"00:00:00"},{"$f":"VLOOKUP($AA908,DATA!$B$3:$E908,4,0)","v":0},0,0,{"$f":"DATA!$C$9","v":0.89},{"$f":"DATA!$C$10","v":64},1,0,0,0,"","",0,"","",0,"","","","",null,{"$f":"X898","v":43},null,{"$f":"TEXT(Y906,\"ddd\")","v":"zo"},"ZND",{"$f":"IFERROR(HLOOKUP(Y906,[1]DATA!$A$1:$NB$5,5,0),\"\")","v":"-"},null,null,null,null,{"$f":"VLOOKUP(Y906,[1]SRM!$S$4:$AA$368,8,0)","v":0},"","",""]
["44maDD",{"$f":"VLOOKUP($AA909,DATA!$B$3:$E909,2,0)","v":"06:30:00"},{"$f":"VLOOKUP($AA909,DATA!$B$3:$E909,3,0)","v":"14:30:00"},{"$f":"VLOOKUP($AA909,DATA!$B$3:$E909,4,0)","v":3.125E-2},0.30208333333333331,0.30208333333333331,{"$f":"DATA!$C$9","v":0.89},{"$f":"DATA!$C$10","v":64},1,407.8125,407.8125,0,"","",{"$f":"TIME(INT($AD909/60),INT(MOD($AD909,60)/1),0)","v":0},"","",0,"","","","",null,{"$f":"X919","v":44},"2018-10-29",{"$f":"TEXT(Y909,\"ddd\")","v":"ma"},"DD",{"$f":"IFERROR(HLOOKUP(Y909,[1]DATA!$A$1:$NB$5,3,0),\"\")","v":"D3"},null,null,null,null,{"$f":"VLOOKUP(Y909,[1]SRM!$S$4:$AA$368,6,0)","v":0},"","","",{"$f":"IF(SUMIF(S909:S929,\">0\",K909:K929)=0,\"\",SUMIF(S909:S929,\">0\",K909:K929))","v":""},{"$f":"IF(SUM(S909:S929)=0,\"\",SUM(S909:S929))","v":""},{"$f":"IFERROR(AL909/AK909,\"-\")","v":"-"},{"$f":"IF(SUM(M909:M929)=0,\"0\",SUM(M909:M929))","v":"0"},{"$f":"IFERROR(AN909/AK909,\"-\")","v":"-"},{"$f":"IF(SUM(P909:P929)=0,0,SUM(P909:P929))","v":0},{"$f":"IFERROR(AP909/AK909,\"-\")","v":"-"},"-",{"$f":"IFERROR(SUMIF($AB909:$AB929,AS$5,$AJ909:$AJ929)/COUNTIFS($AB909:$AB929,AS$5,$AJ909:$AJ929,\">0\"),\"\")","v":""},"","",{"$f":"IFERROR((AK909-AL909-AN909-AP909),\"-\")","v":"-"},{"$f":"IFERROR((1-AM909-AO909-AQ909), \"-\")","v":"-"},{"$f":"IFERROR((AV909*$AE$2)/60,\"-\")","v":"-"},{"$f":"IFERROR(SUM(AG909:AG929),\"\")","v":0}]
["44maMD",{"$f":"VLOOKUP($AA910,DATA!$B$3:$E910,2,0)","v":"14:30:00"},{"$f":"VLOOKUP($AA910,DATA!$B$3:$E910,3,0)","v":"22:30:00"},{"$f":"VLOOKUP($AA910,DATA!$B$3:$E910,4,0)","v":3.125E-2},0.30208333333333337,0.30208333333333337,{"$f":"DATA!$C$9","v":0.89},{"$f":"DATA!$C$10","v":64},1,407.81250000000006,407.81250000000006,0,"","",{"$f":"TIME(INT(AD910/60),INT(MOD(AD910,60)/1),0)","v":0},"","",0,"","","","",null,{"$f":"X919","v":44},null,{"$f":"TEXT(Y909,\"ddd\")","v":"ma"},"MD",{"$f":"IFERROR(HLOOKUP(Y909,[1]DATA!$A$1:$NB$5,4,0),\"\")","v":"D2"},null,null,null,null,{"$f":"VLOOKUP(Y909,[1]SRM!$S$4:$AA$368,7,0)","v":0},"","",""]
["44maND",{"$f":"VLOOKUP($AA911,DATA!$B$3:$E911,2,0)","v":"22:30:00"},{"$f":"VLOOKUP($AA911,DATA!$B$3:$E911,3,0)","v":"06:30:00"},{"$f":"VLOOKUP($AA911,DATA!$B$3:$E911,4,0)","v":3.125E-2},0.30208333333333326,0.30208333333333326,{"$f":"DATA!$C$9","v":0.89},{"$f":"DATA!$C$10","v":64},1,407.81249999999989,407.81249999999989,0,"","",0,"","",0,"","","","",null,{"$f":"X919","v":44},null,{"$f":"TEXT(Y909,\"ddd\")","v":"ma"},"ND",{"$f":"IFERROR(HLOOKUP(Y909,[1]DATA!$A$1:$NB$5,5,0),\"\")","v":"D1"},null,null,null,null,{"$f":"VLOOKUP(Y909,[1]SRM!$S$4:$AA$368,8,0)","v":0},"","",""]
["44diDD",{"$f":"VLOOKUP($AA912,DATA!$B$3:$E912,2,0)","v":"06:30:00"},{"$f":"VLOOKUP($AA912,DATA!$B$3:$E912,3,0)","v":"14:30:00"},{"$f":"VLOOKUP($AA912,DATA!$B$3:$E912,4,0)","v":3.125E-2},0.30208333333333331,0.30208333333333331,{"$f":"DATA!$C$9","v":0.89},{"$f":"DATA!$C$10","v":64},1,407.8125,407.8125,0,"","",0,"","",0,"","","","",null,{"$f":"X919","v":44},"2018-10-30",{"$f":"TEXT(Y912,\"ddd\")","v":"di"},"DD",{"$f":"IFERROR(HLOOKUP(Y912,[1]DATA!$A$1:$NB$5,3,0),\"\")","v":"D3"},null,null,null,null,{"$f":"VLOOKUP(Y912,[1]SRM!$S$4:$AA$368,6,0)","v":0},"","",""]
["44diMD",{"$f":"VLOOKUP($AA913,DATA!$B$3:$E913,2,0)","v":"14:30:00"},{"$f":"VLOOKUP($AA913,DATA!$B$3:$E913,3,0)","v":"22:30:00"},{"$f":"VLOOKUP($AA913,DATA!$B$3:$E913,4,0)","v":3.125E-2},0.30208333333333337,0.30208333333333337,{"$f":"DATA!$C$9","v":0.89},{"$f":"DATA!$C$10","v":64},1,407.81250000000006,407.81250000000006,0,"","",0,"","",0,"","","","",null,{"$f":"X919","v":44},null,{"$f":"TEXT(Y912,\"ddd\")","v":"di"},"MD",{"$f":"IFERROR(HLOOKUP(Y912,[1]DATA!$A$1:$NB$5,4,0),\"\")","v":"D2"},null,null,null,null,{"$f":"VLOOKUP(Y912,[1]SRM!$S$4:$AA$368,7,0)","v":0},"","",""]
["44diND",{"$f":"VLOOKUP($AA914,DATA!$B$3:$E914,2,0)","v":"22:30:00"},{"$f":"VLOOKUP($AA914,DATA!$B$3:$E914,3,0)","v":"06:30:00"},{"$f":"VLOOKUP($AA914,DATA!$B$3:$E914,4,0)","v":3.125E-2},0.30208333333333326,0.30208333333333326,{"$f":"DATA!$C$9","v":0.89},{"$f":"DATA!$C$10","v":64},1,407.81249999999989,407.81249999999989,0,"","",0,"","",0,"","","","",null,{"$f":"X919","v":44},null,{"$f":"TEXT(Y912,\"ddd\")","v":"di"},"ND",{"$f":"IFERROR(HLOOKUP(Y912,[1]DATA!$A$1:$NB$5,5,0),\"\")","v":"D1"},null,null,null,null,{"$f":"VLOOKUP(Y912,[1]SRM!$S$4:$AA$368,8,0)","v":0},"","",""]
["44woDD",{"$f":"VLOOKUP($AA915,DATA!$B$3:$E915,2,0)","v":"06:30:00"},{"$f":"VLOOKUP($AA915,DATA!$B$3:$E915,3,0)","v":"14:30:00"},{"$f":"VLOOKUP($AA915,DATA!$B$3:$E915,4,0)","v":3.125E-2},0.30208333333333331,0.30208333333333331,{"$f":"DATA!$C$9","v":0.89},{"$f":"DATA!$C$10","v":64},1,407.8125,407.8125,0,"","",0,"","",0,"","","","",null,{"$f":"X919","v":44},"2018-10-31",{"$f":"TEXT(Y915,\"ddd\")","v":"wo"},"DD",{"$f":"IFERROR(HLOOKUP(Y915,[1]DATA!$A$1:$NB$5,3,0),\"\")","v":"D3"},null,null,null,null,{"$f":"VLOOKUP(Y915,[1]SRM!$S$4:$AA$368,6,0)","v":0},"","",""]
["44woMD",{"$f":"VLOOKUP($AA916,DATA!$B$3:$E916,2,0)","v":"14:30:00"},{"$f":"VLOOKUP($AA916,DATA!$B$3:$E916,3,0)","v":"22:30:00"},{"$f":"VLOOKUP($AA916,DATA!$B$3:$E916,4,0)","v":3.125E-2},0.30208333333333337,0.30208333333333337,{"$f":"DATA!$C$9","v":0.89},{"$f":"DATA!$C$10","v":64},1,407.81250000000006,407.81250000000006,0,"","",0,"","",0,"","","","",null,{"$f":"X919","v":44},null,{"$f":"TEXT(Y915,\"ddd\")","v":"wo"},"MD",{"$f":"IFERROR(HLOOKUP(Y915,[1]DATA!$A$1:$NB$5,4,0),\"\")","v":"D2"},null,null,null,null,{"$f":"VLOOKUP(Y915,[1]SRM!$S$4:$AA$368,7,0)","v":0},"","",""]
["44woND",{"$f":"VLOOKUP($AA917,DATA!$B$3:$E917,2,0)","v":"22:30:00"},{"$f":"VLOOKUP($AA917,DATA!$B$3:$E917,3,0)","v":"06:30:00"},{"$f":"VLOOKUP($AA917,DATA!$B$3:$E917,4,0)","v":3.125E-2},0.30208333333333326,0.30208333333333326,{"$f":"DATA!$C$9","v":0.89},{"$f":"DATA!$C$10","v":64},1,407.81249999999989,407.81249999999989,0,"","",0,"","",0,"","","","",null,{"$f":"X919","v":44},null,{"$f":"TEXT(Y915,\"ddd\")","v":"wo"},"ND",{"$f":"IFERROR(HLOOKUP(Y915,[1]DATA!$A$1:$NB$5,5,0),\"\")","v":"D1"},null,null,null,null,{"$f":"VLOOKUP(Y915,[1]SRM!$S$4:$AA$368,8,0)","v":0},"","",""]
["44doDD",{"$f":"VLOOKUP($AA918,DATA!$B$3:$E918,2,0)","v":"06:30:00"},{"$f":"VLOOKUP($AA918,DATA!$B$3:$E918,3,0)","v":"14:30:00"},{"$f":"VLOOKUP($AA918,DATA!$B$3:$E918,4,0)","v":3.125E-2},0.30208333333333331,0.30208333333333331,{"$f":"DATA!$C$9","v":0.89},{"$f":"DATA!$C$10","v":64},1,407.8125,407.8125,0,"","",0,"","",0,"","","","",null,{"$f":"X919","v":44},"2018-11-01",{"$f":"TEXT(Y918,\"ddd\")","v":"do"},"DD",{"$f":"IFERROR(HLOOKUP(Y918,[1]DATA!$A$1:$NB$5,3,0),\"\")","v":"D3"},null,null,null,null,{"$f":"VLOOKUP(Y918,[1]SRM!$S$4:$AA$368,6,0)","v":0},"","",""]
["44doMD",{"$f":"VLOOKUP($AA919,DATA!$B$3:$E919,2,0)","v":"14:30:00"},{"$f":"VLOOKUP($AA919,DATA!$B$3:$E919,3,0)","v":"22:30:00"},{"$f":"VLOOKUP($AA919,DATA!$B$3:$E919,4,0)","v":3.125E-2},0.30208333333333337,0.30208333333333337,{"$f":"DATA!$C$9","v":0.89},{"$f":"DATA!$C$10","v":64},1,407.81250000000006,407.81250000000006,0,"","",0,"","",0,"","","","",null,{"$f":"WEEKNUM($Y909)","v":44},null,{"$f":"TEXT(Y918,\"ddd\")","v":"do"},"MD",{"$f":"IFERROR(HLOOKUP(Y918,[1]DATA!$A$1:$NB$5,4,0),\"\")","v":"D2"},null,null,null,null,{"$f":"VLOOKUP(Y918,[1]SRM!$S$4:$AA$368,7,0)","v":0},"","",""]
["44doND",{"$f":"VLOOKUP($AA920,DATA!$B$3:$E920,2,0)","v":"22:30:00"},{"$f":"VLOOKUP($AA920,DATA!$B$3:$E920,3,0)","v":"06:30:00"},{"$f":"VLOOKUP($AA920,DATA!$B$3:$E920,4,0)","v":3.125E-2},0.30208333333333326,0.30208333333333326,{"$f":"DATA!$C$9","v":0.89},{"$f":"DATA!$C$10","v":64},1,407.81249999999989,407.81249999999989,0,"","",0,"","",0,"","","","",null,{"$f":"X919","v":44},null,{"$f":"TEXT(Y918,\"ddd\")","v":"do"},"ND",{"$f":"IFERROR(HLOOKUP(Y918,[1]DATA!$A$1:$NB$5,5,0),\"\")","v":"D1"},null,null,null,null,{"$f":"VLOOKUP(Y918,[1]SRM!$S$4:$AA$368,8,0)","v":0},"","",""]
["44vrDD",{"$f":"VLOOKUP($AA921,DATA!$B$3:$E921,2,0)","v":"06:30:00"},{"$f":"VLOOKUP($AA921,DATA!$B$3:$E921,3,0)","v":"14:30:00"},{"$f":"VLOOKUP($AA921,DATA!$B$3:$E921,4,0)","v":3.125E-2},0.30208333333333331,0.30208333333333331,{"$f":"DATA!$C$9","v":0.89},{"$f":"DATA!$C$10","v":64},1,407.8125,407.8125,0,"","",0,"","",0,"","","","",null,{"$f":"X919","v":44},"2018-11-02",{"$f":"TEXT(Y921,\"ddd\")","v":"vr"},"DD",{"$f":"IFERROR(HLOOKUP(Y921,[1]DATA!$A$1:$NB$5,3,0),\"\")","v":"D3"},null,null,null,null,{"$f":"VLOOKUP(Y921,[1]SRM!$S$4:$AA$368,6,0)","v":0},"","",""]
["44vrMD",{"$f":"VLOOKUP($AA922,DATA!$B$3:$E922,2,0)","v":"14:30:00"},{"$f":"VLOOKUP($AA922,DATA!$B$3:$E922,3,0)","v":"22:30:00"},{"$f":"VLOOKUP($AA922,DATA!$B$3:$E922,4,0)","v":3.125E-2},0.30208333333333337,0.30208333333333337,{"$f":"DATA!$C$9","v":0.89},{"$f":"DATA!$C$10","v":64},1,407.81250000000006,407.81250000000006,0,"","",0,"","",0,"","","","",null,{"$f":"X919","v":44},null,{"$f":"TEXT(Y921,\"ddd\")","v":"vr"},"MD",{"$f":"IFERROR(HLOOKUP(Y921,[1]DATA!$A$1:$NB$5,4,0),\"\")","v":"D2"},null,null,null,null,{"$f":"VLOOKUP(Y921,[1]SRM!$S$4:$AA$368,7,0)","v":0},"","",""]
["44vrND",{"$f":"VLOOKUP($AA923,DATA!$B$3:$E923,2,0)","v":"22:30:00"},{"$f":"VLOOKUP($AA923,DATA!$B$3:$E923,3,0)","v":"06:30:00"},{"$f":"VLOOKUP($AA923,DATA!$B$3:$E923,4,0)","v":3.125E-2},0.30208333333333326,0.30208333333333326,{"$f":"DATA!$C$9","v":0.89},{"$f":"DATA!$C$10","v":64},1,407.81249999999989,407.81249999999989,0,"","",0,"","",0,"","","","",null,{"$f":"X919","v":44},null,{"$f":"TEXT(Y921,\"ddd\")","v":"vr"},"ND",{"$f":"IFERROR(HLOOKUP(Y921,[1]DATA!$A$1:$NB$5,5,0),\"\")","v":"D2"},null,null,null,null,{"$f":"VLOOKUP(Y921,[1]SRM!$S$4:$AA$368,8,0)","v":0},"","",{"$f":"IFERROR(R923/(R923+AG923),\"\")","v":""}]
["44zaDD",{"$f":"VLOOKUP($AA924,DATA!$B$3:$E924,2,0)","v":"06:30:00"},{"$f":"VLOOKUP($AA924,DATA!$B$3:$E924,3,0)","v":"14:30:00"},{"$f":"VLOOKUP($AA924,DATA!$B$3:$E924,4,0)","v":3.125E-2},{"$f":"(C924-B924+(B924>C924))-D924","v":0.30208333333333331},{"$f":"E924-O924-L924","v":0.30208333333333331},{"$f":"DATA!$C$9","v":0.89},{"$f":"DATA!$C$10","v":64},1,{"$f":"F924*86400/H924*I924","v":407.8125},{"$f":"E924*86400/H924","v":407.8125},0,"","",0,"","",{"$f":"AF924*AG$2","v":0},{"$f":"IF(AF924-AE924=0,\"\",AF924-AE924)","v":""},"","","",null,{"$f":"X919","v":44},"2018-11-03",{"$f":"TEXT(Y924,\"ddd\")","v":"za"},"DD",{"$f":"IFERROR(HLOOKUP(Y924,[1]DATA!$A$1:$NB$5,3,0),\"\")","v":"D3"},null,null,null,null,{"$f":"VLOOKUP(Y924,[1]SRM!$S$4:$AA$368,6,0)","v":0},"","",""]
["44zaMD",{"$f":"VLOOKUP($AA925,DATA!$B$3:$E925,2,0)","v":"14:30:00"},{"$f":"VLOOKUP($AA925,DATA!$B$3:$E925,3,0)","v":"22:30:00"},{"$f":"VLOOKUP($AA925,DATA!$B$3:$E925,4,0)","v":3.125E-2},0.30208333333333337,0.30208333333333337,{"$f":"DATA!$C$9","v":0.89},{"$f":"DATA!$C$10","v":64},1,407.81250000000006,407.81250000000006,0,"","",0,"","",0,"","","","",null,{"$f":"X919","v":44},null,{"$f":"TEXT(Y924,\"ddd\")","v":"za"},"MD",{"$f":"IFERROR(HLOOKUP(Y924,[1]DATA!$A$1:$NB$5,4,0),\"\")","v":"-"},null,null,null,null,{"$f":"VLOOKUP(Y924,[1]SRM!$S$4:$AA$368,7,0)","v":0},"","",""]
["44zaND",{"$f":"VLOOKUP($AA926,DATA!$B$3:$E926,2,0)","v":"22:30:00"},{"$f":"VLOOKUP($AA926,DATA!$B$3:$E926,3,0)","v":"06:30:00"},{"$f":"VLOOKUP($AA926,DATA!$B$3:$E926,4,0)","v":3.125E-2},0.30208333333333326,0.30208333333333326,{"$f":"DATA!$C$9","v":0.89},{"$f":"DATA!$C$10","v":64},1,407.81249999999989,407.81249999999989,0,"","",0,"","",0,"","","","",null,{"$f":"X919","v":44},null,{"$f":"TEXT(Y924,\"ddd\")","v":"za"},"ND",{"$f":"IFERROR(HLOOKUP(Y924,[1]DATA!$A$1:$NB$5,5,0),\"\")","v":"-"},null,null,null,null,{"$f":"VLOOKUP(Y924,[1]SRM!$S$4:$AA$368,8,0)","v":0},"","",""]
["44zoDD",{"$f":"VLOOKUP($AA927,DATA!$B$3:$E927,2,0)","v":"06:30:00"},{"$f":"VLOOKUP($AA927,DATA!$B$3:$E927,3,0)","v":"14:30:00"},{"$f":"VLOOKUP($AA927,DATA!$B$3:$E927,4,0)","v":3.125E-2},0.30208333333333331,0.30208333333333331,{"$f":"DATA!$C$9","v":0.89},{"$f":"DATA!$C$10","v":64},1,407.8125,407.8125,0,"","",0,"","",0,"","","","",null,{"$f":"X919","v":44},"2018-11-04",{"$f":"TEXT(Y927,\"ddd\")","v":"zo"},"DD",{"$f":"IFERROR(HLOOKUP(Y927,[1]DATA!$A$1:$NB$5,3,0),\"\")","v":"-"},null,null,null,null,{"$f":"VLOOKUP(Y927,[1]SRM!$S$4:$AA$368,6,0)","v":0},"","",""]
["44zoMD",{"$f":"VLOOKUP($AA928,DATA!$B$3:$E928,2,0)","v":"14:30:00"},{"$f":"VLOOKUP($AA928,DATA!$B$3:$E928,3,0)","v":"22:30:00"},{"$f":"VLOOKUP($AA928,DATA!$B$3:$E928,4,0)","v":3.125E-2},0.30208333333333337,0.30208333333333337,{"$f":"DATA!$C$9","v":0.89},{"$f":"DATA!$C$10","v":64},1,407.81250000000006,407.81250000000006,0,"","",0,"","",0,"","","","",null,{"$f":"X919","v":44},null,{"$f":"TEXT(Y927,\"ddd\")","v":"zo"},"MD",{"$f":"IFERROR(HLOOKUP(Y927,[1]DATA!$A$1:$NB$5,4,0),\"\")","v":"-"},null,null,null,null,{"$f":"VLOOKUP(Y927,[1]SRM!$S$4:$AA$368,7,0)","v":0},"","",""]
["44zoZND",{"$f":"VLOOKUP($AA929,DATA!$B$3:$E929,2,0)","v":"00:00:00"},{"$f":"VLOOKUP($AA929,DATA!$B$3:$E929,3,0)","v":"00:00:00"},{"$f":"VLOOKUP($AA929,DATA!$B$3:$E929,4,0)","v":0},0,0,{"$f":"DATA!$C$9","v":0.89},{"$f":"DATA!$C$10","v":64},1,0,0,0,"","",0,"","",0,"","","","",null,{"$f":"X919","v":44},null,{"$f":"TEXT(Y927,\"ddd\")","v":"zo"},"ZND",{"$f":"IFERROR(HLOOKUP(Y927,[1]DATA!$A$1:$NB$5,5,0),\"\")","v":"-"},null,null,null,null,{"$f":"VLOOKUP(Y927,[1]SRM!$S$4:$AA$368,8,0)","v":0},"","",""]
["45maDD",{"$f":"VLOOKUP($AA930,DATA!$B$3:$E930,2,0)","v":"06:30:00"},{"$f":"VLOOKUP($AA930,DATA!$B$3:$E930,3,0)","v":"14:30:00"},{"$f":"VLOOKUP($AA930,DATA!$B$3:$E930,4,0)","v":3.125E-2},0.30208333333333331,0.30208333333333331,{"$f":"DATA!$C$9","v":0.89},{"$f":"DATA!$C$10","v":64},1,407.8125,407.8125,0,"","",{"$f":"TIME(INT($AD930/60),INT(MOD($AD930,60)/1),0)","v":0},"","",0,"","","","",null,{"$f":"X940","v":45},"2018-11-05",{"$f":"TEXT(Y930,\"ddd\")","v":"ma"},"DD",{"$f":"IFERROR(HLOOKUP(Y930,[1]DATA!$A$1:$NB$5,3,0),\"\")","v":"D2"},null,null,null,null,{"$f":"VLOOKUP(Y930,[1]SRM!$S$4:$AA$368,6,0)","v":0},"","","",{"$f":"IF(SUMIF(S930:S950,\">0\",K930:K950)=0,\"\",SUMIF(S930:S950,\">0\",K930:K950))","v":""},{"$f":"IF(SUM(S930:S950)=0,\"\",SUM(S930:S950))","v":""},{"$f":"IFERROR(AL930/AK930,\"-\")","v":"-"},{"$f":"IF(SUM(M930:M950)=0,\"0\",SUM(M930:M950))","v":"0"},{"$f":"IFERROR(AN930/AK930,\"-\")","v":"-"},{"$f":"IF(SUM(P930:P950)=0,0,SUM(P930:P950))","v":0},{"$f":"IFERROR(AP930/AK930,\"-\")","v":"-"},{"$f":"IFERROR(AVERAGE(AJ930:AJ950),\"-\")","v":"-"},{"$f":"IFERROR(SUMIF($AB930:$AB950,AS$5,$AJ930:$AJ950)/COUNTIFS($AB930:$AB950,AS$5,$AJ930:$AJ950,\">0\"),\"\")","v":""},"","",{"$f":"IFERROR((AK930-AL930-AN930-AP930),\"-\")","v":"-"},{"$f":"IFERROR((1-AM930-AO930-AQ930), \"-\")","v":"-"},{"$f":"IFERROR((AV930*$AE$2)/60,\"-\")","v":"-"},{"$f":"IFERROR(SUM(AG930:AG950),\"\")","v":0}]
["45maMD",{"$f":"VLOOKUP($AA931,DATA!$B$3:$E931,2,0)","v":"14:30:00"},{"$f":"VLOOKUP($AA931,DATA!$B$3:$E931,3,0)","v":"22:30:00"},{"$f":"VLOOKUP($AA931,DATA!$B$3:$E931,4,0)","v":3.125E-2},0.30208333333333337,0.30208333333333337,{"$f":"DATA!$C$9","v":0.89},{"$f":"DATA!$C$10","v":64},1,407.81250000000006,407.81250000000006,0,"","",{"$f":"TIME(INT(AD931/60),INT(MOD(AD931,60)/1),0)","v":0},"","",0,"","","","",null,{"$f":"X940","v":45},null,{"$f":"TEXT(Y930,\"ddd\")","v":"ma"},"MD",{"$f":"IFERROR(HLOOKUP(Y930,[1]DATA!$A$1:$NB$5,4,0),\"\")","v":"D1"},null,null,null,null,{"$f":"VLOOKUP(Y930,[1]SRM!$S$4:$AA$368,7,0)","v":0},"","",""]
["45maND",{"$f":"VLOOKUP($AA932,DATA!$B$3:$E932,2,0)","v":"22:30:00"},{"$f":"VLOOKUP($AA932,DATA!$B$3:$E932,3,0)","v":"06:30:00"},{"$f":"VLOOKUP($AA932,DATA!$B$3:$E932,4,0)","v":3.125E-2},0.30208333333333326,0.30208333333333326,{"$f":"DATA!$C$9","v":0.89},{"$f":"DATA!$C$10","v":64},1,407.81249999999989,407.81249999999989,0,"","",0,"","",0,"","","","",null,{"$f":"X940","v":45},null,{"$f":"TEXT(Y930,\"ddd\")","v":"ma"},"ND",{"$f":"IFERROR(HLOOKUP(Y930,[1]DATA!$A$1:$NB$5,5,0),\"\")","v":"D3"},null,null,null,null,{"$f":"VLOOKUP(Y930,[1]SRM!$S$4:$AA$368,8,0)","v":0},"","",""]
["45diDD",{"$f":"VLOOKUP($AA933,DATA!$B$3:$E933,2,0)","v":"06:30:00"},{"$f":"VLOOKUP($AA933,DATA!$B$3:$E933,3,0)","v":"14:30:00"},{"$f":"VLOOKUP($AA933,DATA!$B$3:$E933,4,0)","v":3.125E-2},0.30208333333333331,0.30208333333333331,{"$f":"DATA!$C$9","v":0.89},{"$f":"DATA!$C$10","v":64},1,407.8125,407.8125,0,"","",0,"","",0,"","","","",null,{"$f":"X940","v":45},"2018-11-06",{"$f":"TEXT(Y933,\"ddd\")","v":"di"},"DD",{"$f":"IFERROR(HLOOKUP(Y933,[1]DATA!$A$1:$NB$5,3,0),\"\")","v":"D2"},null,null,null,null,{"$f":"VLOOKUP(Y933,[1]SRM!$S$4:$AA$368,6,0)","v":0},"","",""]
["45diMD",{"$f":"VLOOKUP($AA934,DATA!$B$3:$E934,2,0)","v":"14:30:00"},{"$f":"VLOOKUP($AA934,DATA!$B$3:$E934,3,0)","v":"22:30:00"},{"$f":"VLOOKUP($AA934,DATA!$B$3:$E934,4,0)","v":3.125E-2},0.30208333333333337,0.30208333333333337,{"$f":"DATA!$C$9","v":0.89},{"$f":"DATA!$C$10","v":64},1,407.81250000000006,407.81250000000006,0,"","",0,"","",0,"","","","",null,{"$f":"X940","v":45},null,{"$f":"TEXT(Y933,\"ddd\")","v":"di"},"MD",{"$f":"IFERROR(HLOOKUP(Y933,[1]DATA!$A$1:$NB$5,4,0),\"\")","v":"D1"},null,null,null,null,{"$f":"VLOOKUP(Y933,[1]SRM!$S$4:$AA$368,7,0)","v":0},"","",""]
["45diND",{"$f":"VLOOKUP($AA935,DATA!$B$3:$E935,2,0)","v":"22:30:00"},{"$f":"VLOOKUP($AA935,DATA!$B$3:$E935,3,0)","v":"06:30:00"},{"$f":"VLOOKUP($AA935,DATA!$B$3:$E935,4,0)","v":3.125E-2},0.30208333333333326,0.30208333333333326,{"$f":"DATA!$C$9","v":0.89},{"$f":"DATA!$C$10","v":64},1,407.81249999999989,407.81249999999989,0,"","",0,"","",0,"","","","",null,{"$f":"X940","v":45},null,{"$f":"TEXT(Y933,\"ddd\")","v":"di"},"ND",{"$f":"IFERROR(HLOOKUP(Y933,[1]DATA!$A$1:$NB$5,5,0),\"\")","v":"D3"},null,null,null,null,{"$f":"VLOOKUP(Y933,[1]SRM!$S$4:$AA$368,8,0)","v":0},"","",""]
["45woDD",{"$f":"VLOOKUP($AA936,DATA!$B$3:$E936,2,0)","v":"06:30:00"},{"$f":"VLOOKUP($AA936,DATA!$B$3:$E936,3,0)","v":"14:30:00"},{"$f":"VLOOKUP($AA936,DATA!$B$3:$E936,4,0)","v":3.125E-2},0.30208333333333331,0.30208333333333331,{"$f":"DATA!$C$9","v":0.89},{"$f":"DATA!$C$10","v":64},1,407.8125,407.8125,0,"","",0,"","",0,"","","","",null,{"$f":"X940","v":45},"2018-11-07",{"$f":"TEXT(Y936,\"ddd\")","v":"wo"},"DD",{"$f":"IFERROR(HLOOKUP(Y936,[1]DATA!$A$1:$NB$5,3,0),\"\")","v":"D2"},null,null,null,null,{"$f":"VLOOKUP(Y936,[1]SRM!$S$4:$AA$368,6,0)","v":0},"","",""]
["45woMD",{"$f":"VLOOKUP($AA937,DATA!$B$3:$E937,2,0)","v":"14:30:00"},{"$f":"VLOOKUP($AA937,DATA!$B$3:$E937,3,0)","v":"22:30:00"},{"$f":"VLOOKUP($AA937,DATA!$B$3:$E937,4,0)","v":3.125E-2},0.30208333333333337,0.30208333333333337,{"$f":"DATA!$C$9","v":0.89},{"$f":"DATA!$C$10","v":64},1,407.81250000000006,407.81250000000006,0,"","",0,"","",0,"","","","",null,{"$f":"X940","v":45},null,{"$f":"TEXT(Y936,\"ddd\")","v":"wo"},"MD",{"$f":"IFERROR(HLOOKUP(Y936,[1]DATA!$A$1:$NB$5,4,0),\"\")","v":"D1"},null,null,null,null,{"$f":"VLOOKUP(Y936,[1]SRM!$S$4:$AA$368,7,0)","v":0},"","",""]
["45woND",{"$f":"VLOOKUP($AA938,DATA!$B$3:$E938,2,0)","v":"22:30:00"},{"$f":"VLOOKUP($AA938,DATA!$B$3:$E938,3,0)","v":"06:30:00"},{"$f":"VLOOKUP($AA938,DATA!$B$3:$E938,4,0)","v":3.125E-2},0.30208333333333326,0.30208333333333326,{"$f":"DATA!$C$9","v":0.89},{"$f":"DATA!$C$10","v":64},1,407.81249999999989,407.81249999999989,0,"","",0,"","",0,"","","","",null,{"$f":"X940","v":45},null,{"$f":"TEXT(Y936,\"ddd\")","v":"wo"},"ND",{"$f":"IFERROR(HLOOKUP(Y936,[1]DATA!$A$1:$NB$5,5,0),\"\")","v":"D3"},null,null,null,null,{"$f":"VLOOKUP(Y936,[1]SRM!$S$4:$AA$368,8,0)","v":0},"","",""]
["45doDD",{"$f":"VLOOKUP($AA939,DATA!$B$3:$E939,2,0)","v":"06:30:00"},{"$f":"VLOOKUP($AA939,DATA!$B$3:$E939,3,0)","v":"14:30:00"},{"$f":"VLOOKUP($AA939,DATA!$B$3:$E939,4,0)","v":3.125E-2},0.30208333333333331,0.30208333333333331,{"$f":"DATA!$C$9","v":0.89},{"$f":"DATA!$C$10","v":64},1,407.8125,407.8125,0,"","",0,"","",0,"","","","",null,{"$f":"X940","v":45},"2018-11-08",{"$f":"TEXT(Y939,\"ddd\")","v":"do"},"DD",{"$f":"IFERROR(HLOOKUP(Y939,[1]DATA!$A$1:$NB$5,3,0),\"\")","v":"D2"},null,null,null,null,{"$f":"VLOOKUP(Y939,[1]SRM!$S$4:$AA$368,6,0)","v":0},"","",""]
["45doMD",{"$f":"VLOOKUP($AA940,DATA!$B$3:$E940,2,0)","v":"14:30:00"},{"$f":"VLOOKUP($AA940,DATA!$B$3:$E940,3,0)","v":"22:30:00"},{"$f":"VLOOKUP($AA940,DATA!$B$3:$E940,4,0)","v":3.125E-2},0.30208333333333337,0.30208333333333337,{"$f":"DATA!$C$9","v":0.89},{"$f":"DATA!$C$10","v":64},1,407.81250000000006,407.81250000000006,0,"","",0,"","",0,"","","","",null,{"$f":"WEEKNUM($Y930)","v":45},null,{"$f":"TEXT(Y939,\"ddd\")","v":"do"},"MD",{"$f":"IFERROR(HLOOKUP(Y939,[1]DATA!$A$1:$NB$5,4,0),\"\")","v":"D1"},null,null,null,null,{"$f":"VLOOKUP(Y939,[1]SRM!$S$4:$AA$368,7,0)","v":0},"","",""]
["45doND",{"$f":"VLOOKUP($AA941,DATA!$B$3:$E941,2,0)","v":"22:30:00"},{"$f":"VLOOKUP($AA941,DATA!$B$3:$E941,3,0)","v":"06:30:00"},{"$f":"VLOOKUP($AA941,DATA!$B$3:$E941,4,0)","v":3.125E-2},0.30208333333333326,0.30208333333333326,{"$f":"DATA!$C$9","v":0.89},{"$f":"DATA!$C$10","v":64},1,407.81249999999989,407.81249999999989,0,"","",0,"","",0,"","","","",null,{"$f":"X940","v":45},null,{"$f":"TEXT(Y939,\"ddd\")","v":"do"},"ND",{"$f":"IFERROR(HLOOKUP(Y939,[1]DATA!$A$1:$NB$5,5,0),\"\")","v":"D3"},null,null,null,null,{"$f":"VLOOKUP(Y939,[1]SRM!$S$4:$AA$368,8,0)","v":0},"","",""]
["45vrDD",{"$f":"VLOOKUP($AA942,DATA!$B$3:$E942,2,0)","v":"06:30:00"},{"$f":"VLOOKUP($AA942,DATA!$B$3:$E942,3,0)","v":"14:30:00"},{"$f":"VLOOKUP($AA942,DATA!$B$3:$E942,4,0)","v":3.125E-2},0.30208333333333331,0.30208333333333331,{"$f":"DATA!$C$9","v":0.89},{"$f":"DATA!$C$10","v":64},1,407.8125,407.8125,0,"","",0,"","",0,"","","","",null,{"$f":"X940","v":45},"2018-11-09",{"$f":"TEXT(Y942,\"ddd\")","v":"vr"},"DD",{"$f":"IFERROR(HLOOKUP(Y942,[1]DATA!$A$1:$NB$5,3,0),\"\")","v":"D2"},null,null,null,null,{"$f":"VLOOKUP(Y942,[1]SRM!$S$4:$AA$368,6,0)","v":0},"","",""]
["45vrMD",{"$f":"VLOOKUP($AA943,DATA!$B$3:$E943,2,0)","v":"14:30:00"},{"$f":"VLOOKUP($AA943,DATA!$B$3:$E943,3,0)","v":"22:30:00"},{"$f":"VLOOKUP($AA943,DATA!$B$3:$E943,4,0)","v":3.125E-2},0.30208333333333337,0.30208333333333337,{"$f":"DATA!$C$9","v":0.89},{"$f":"DATA!$C$10","v":64},1,407.81250000000006,407.81250000000006,0,"","",0,"","",0,"","","","",null,{"$f":"X940","v":45},null,{"$f":"TEXT(Y942,\"ddd\")","v":"vr"},"MD",{"$f":"IFERROR(HLOOKUP(Y942,[1]DATA!$A$1:$NB$5,4,0),\"\")","v":"D1"},null,null,null,null,{"$f":"VLOOKUP(Y942,[1]SRM!$S$4:$AA$368,7,0)","v":0},"","",""]
[{"$f":"X944&Z944&AA944","v":"45vrND"},{"$f":"VLOOKUP($AA944,DATA!$B$3:$E944,2,0)","v":"22:30:00"},{"$f":"VLOOKUP($AA944,DATA!$B$3:$E944,3,0)","v":"06:30:00"},{"$f":"VLOOKUP($AA944,DATA!$B$3:$E944,4,0)","v":3.125E-2},0.30208333333333326,0.30208333333333326,{"$f":"DATA!$C$9","v":0.89},{"$f":"DATA!$C$10","v":64},1,407.81249999999989,407.81249999999989,0,"","",0,{"$f":"IF($O944*86400/$H944=0,\"\",$O944*86400/$H944)","v":""},"",0,"","","","",null,{"$f":"X940","v":45},null,{"$f":"TEXT(Y942,\"ddd\")","v":"vr"},"ND",{"$f":"IFERROR(HLOOKUP(Y942,[1]DATA!$A$1:$NB$5,5,0),\"\")","v":"D3"},null,null,null,null,{"$f":"VLOOKUP(Y942,[1]SRM!$S$4:$AA$368,8,0)","v":0},"","",""]
["45zaDD",{"$f":"VLOOKUP($AA945,DATA!$B$3:$E945,2,0)","v":"06:30:00"},{"$f":"VLOOKUP($AA945,DATA!$B$3:$E945,3,0)","v":"14:30:00"},{"$f":"VLOOKUP($AA945,DATA!$B$3:$E945,4,0)","v":3.125E-2},0.30208333333333331,0.30208333333333331,{"$f":"DATA!$C$9","v":0.89},{"$f":"DATA!$C$10","v":64},1,407.8125,407.8125,0,"","",0,"","",0,"","","","",null,{"$f":"X940","v":45},"2018-11-10",{"$f":"TEXT(Y945,\"ddd\")","v":"za"},"DD",{"$f":"IFERROR(HLOOKUP(Y945,[1]DATA!$A$1:$NB$5,3,0),\"\")","v":"D2"},null,null,null,null,{"$f":"VLOOKUP(Y945,[1]SRM!$S$4:$AA$368,6,0)","v":0},"","",""]
["45zaMD",{"$f":"VLOOKUP($AA946,DATA!$B$3:$E946,2,0)","v":"14:30:00"},{"$f":"VLOOKUP($AA946,DATA!$B$3:$E946,3,0)","v":"22:30:00"},{"$f":"VLOOKUP($AA946,DATA!$B$3:$E946,4,0)","v":3.125E-2},0.30208333333333337,0.30208333333333337,{"$f":"DATA!$C$9","v":0.89},{"$f":"DATA!$C$10","v":64},1,407.81250000000006,407.81250000000006,0,"","",0,"","",0,"","","","",null,{"$f":"X940","v":45},null,{"$f":"TEXT(Y945,\"ddd\")","v":"za"},"MD",{"$f":"IFERROR(HLOOKUP(Y945,[1]DATA!$A$1:$NB$5,4,0),\"\")","v":"-"},null,null,null,null,{"$f":"VLOOKUP(Y945,[1]SRM!$S$4:$AA$368,7,0)","v":0},"","",""]
["45zaND",{"$f":"VLOOKUP($AA947,DATA!$B$3:$E947,2,0)","v":"22:30:00"},{"$f":"VLOOKUP($AA947,DATA!$B$3:$E947,3,0)","v":"06:30:00"},{"$f":"VLOOKUP($AA947,DATA!$B$3:$E947,4,0)","v":3.125E-2},0.30208333333333326,0.30208333333333326,{"$f":"DATA!$C$9","v":0.89},{"$f":"DATA!$C$10","v":64},1,407.81249999999989,407.81249999999989,0,"","",0,"","",0,"","","","",null,{"$f":"X940","v":45},null,{"$f":"TEXT(Y945,\"ddd\")","v":"za"},"ND",{"$f":"IFERROR(HLOOKUP(Y945,[1]DATA!$A$1:$NB$5,5,0),\"\")","v":"-"},null,null,null,null,{"$f":"VLOOKUP(Y945,[1]SRM!$S$4:$AA$368,8,0)","v":0},"","",""]
["45zoDD",{"$f":"VLOOKUP($AA948,DATA!$B$3:$E948,2,0)","v":"06:30:00"},{"$f":"VLOOKUP($AA948,DATA!$B$3:$E948,3,0)","v":"14:30:00"},{"$f":"VLOOKUP($AA948,DATA!$B$3:$E948,4,0)","v":3.125E-2},0.30208333333333331,0.30208333333333331,{"$f":"DATA!$C$9","v":0.89},{"$f":"DATA!$C$10","v":64},1,407.8125,407.8125,0,"","",0,"","",0,"","","","",null,{"$f":"X940","v":45},"2018-11-11",{"$f":"TEXT(Y948,\"ddd\")","v":"zo"},"DD",{"$f":"IFERROR(HLOOKUP(Y948,[1]DATA!$A$1:$NB$5,3,0),\"\")","v":"-"},null,null,null,null,{"$f":"VLOOKUP(Y948,[1]SRM!$S$4:$AA$368,6,0)","v":0},"","",""]
["45zoMD",{"$f":"VLOOKUP($AA949,DATA!$B$3:$E949,2,0)","v":"14:30:00"},{"$f":"VLOOKUP($AA949,DATA!$B$3:$E949,3,0)","v":"22:30:00"},{"$f":"VLOOKUP($AA949,DATA!$B$3:$E949,4,0)","v":3.125E-2},0.30208333333333337,0.30208333333333337,{"$f":"DATA!$C$9","v":0.89},{"$f":"DATA!$C$10","v":64},1,407.81250000000006,407.81250000000006,0,"","",0,"","",0,"","","","",null,{"$f":"X940","v":45},null,{"$f":"TEXT(Y948,\"ddd\")","v":"zo"},"MD",{"$f":"IFERROR(HLOOKUP(Y948,[1]DATA!$A$1:$NB$5,4,0),\"\")","v":"-"},null,null,null,null,{"$f":"VLOOKUP(Y948,[1]SRM!$S$4:$AA$368,7,0)","v":0},"","",""]
["45zoZND",{"$f":"VLOOKUP($AA950,DATA!$B$3:$E950,2,0)","v":"00:00:00"},{"$f":"VLOOKUP($AA950,DATA!$B$3:$E950,3,0)","v":"00:00:00"},{"$f":"VLOOKUP($AA950,DATA!$B$3:$E950,4,0)","v":0},0,0,{"$f":"DATA!$C$9","v":0.89},{"$f":"DATA!$C$10","v":64},1,0,0,0,"","",0,"","",0,"","","","",null,{"$f":"X940","v":45},null,{"$f":"TEXT(Y948,\"ddd\")","v":"zo"},"ZND",{"$f":"IFERROR(HLOOKUP(Y948,[1]DATA!$A$1:$NB$5,5,0),\"\")","v":"-"},null,null,null,null,{"$f":"VLOOKUP(Y948,[1]SRM!$S$4:$AA$368,8,0)","v":0},"","",""]
["46maDD",{"$f":"VLOOKUP($AA951,DATA!$B$3:$E951,2,0)","v":"06:30:00"},{"$f":"VLOOKUP($AA951,DATA!$B$3:$E951,3,0)","v":"14:30:00"},{"$f":"VLOOKUP($AA951,DATA!$B$3:$E951,4,0)","v":3.125E-2},0.30208333333333331,0.30208333333333331,{"$f":"DATA!$C$9","v":0.89},{"$f":"DATA!$C$10","v":64},1,407.8125,407.8125,0,"","",{"$f":"TIME(INT($AD951/60),INT(MOD($AD951,60)/1),0)","v":0},"","",0,"","","","",null,{"$f":"X961","v":46},"2018-11-12",{"$f":"TEXT(Y951,\"ddd\")","v":"ma"},"DD",{"$f":"IFERROR(HLOOKUP(Y951,[1]DATA!$A$1:$NB$5,3,0),\"\")","v":"D1"},null,null,null,null,{"$f":"VLOOKUP(Y951,[1]SRM!$S$4:$AA$368,6,0)","v":0},"","","",{"$f":"IF(SUMIF(S951:S971,\">0\",K951:K971)=0,\"\",SUMIF(S951:S971,\">0\",K951:K971))","v":""},{"$f":"IF(SUM(S951:S971)=0,\"\",SUM(S951:S971))","v":""},{"$f":"IFERROR(AL951/AK951,\"-\")","v":"-"},{"$f":"IF(SUM(M951:M971)=0,\"0\",SUM(M951:M971))","v":"0"},{"$f":"IFERROR(AN951/AK951,\"-\")","v":"-"},{"$f":"IF(SUM(P951:P971)=0,0,SUM(P951:P971))","v":0},{"$f":"IFERROR(AP951/AK951,\"-\")","v":"-"},"-",{"$f":"IFERROR(SUMIF($AB951:$AB971,AS$5,$AJ951:$AJ971)/COUNTIFS($AB951:$AB971,AS$5,$AJ951:$AJ971,\">0\"),\"\")","v":""},"","",{"$f":"IFERROR((AK951-AL951-AN951-AP951),\"-\")","v":"-"},{"$f":"IFERROR((1-AM951-AO951-AQ951), \"-\")","v":"-"},{"$f":"IFERROR((AV951*$AE$2)/60,\"-\")","v":"-"},{"$f":"IFERROR(SUM(AG951:AG971),\"\")","v":0}]
["46maMD",{"$f":"VLOOKUP($AA952,DATA!$B$3:$E952,2,0)","v":"14:30:00"},{"$f":"VLOOKUP($AA952,DATA!$B$3:$E952,3,0)","v":"22:30:00"},{"$f":"VLOOKUP($AA952,DATA!$B$3:$E952,4,0)","v":3.125E-2},0.30208333333333337,0.30208333333333337,{"$f":"DATA!$C$9","v":0.89},{"$f":"DATA!$C$10","v":64},1,407.81250000000006,407.81250000000006,0,"","",{"$f":"TIME(INT(AD952/60),INT(MOD(AD952,60)/1),0)","v":0},"","",0,"","","","",null,{"$f":"X961","v":46},null,{"$f":"TEXT(Y951,\"ddd\")","v":"ma"},"MD",{"$f":"IFERROR(HLOOKUP(Y951,[1]DATA!$A$1:$NB$5,4,0),\"\")","v":"D3"},null,null,null,null,{"$f":"VLOOKUP(Y951,[1]SRM!$S$4:$AA$368,7,0)","v":0},"","",""]
["46maND",{"$f":"VLOOKUP($AA953,DATA!$B$3:$E953,2,0)","v":"22:30:00"},{"$f":"VLOOKUP($AA953,DATA!$B$3:$E953,3,0)","v":"06:30:00"},{"$f":"VLOOKUP($AA953,DATA!$B$3:$E953,4,0)","v":3.125E-2},0.30208333333333326,0.30208333333333326,{"$f":"DATA!$C$9","v":0.89},{"$f":"DATA!$C$10","v":64},1,407.81249999999989,407.81249999999989,0,"","",0,"","",0,"","","","",null,{"$f":"X961","v":46},null,{"$f":"TEXT(Y951,\"ddd\")","v":"ma"},"ND",{"$f":"IFERROR(HLOOKUP(Y951,[1]DATA!$A$1:$NB$5,5,0),\"\")","v":"D2"},null,null,null,null,{"$f":"VLOOKUP(Y951,[1]SRM!$S$4:$AA$368,8,0)","v":0},"","",""]
["46diDD",{"$f":"VLOOKUP($AA954,DATA!$B$3:$E954,2,0)","v":"06:30:00"},{"$f":"VLOOKUP($AA954,DATA!$B$3:$E954,3,0)","v":"14:30:00"},{"$f":"VLOOKUP($AA954,DATA!$B$3:$E954,4,0)","v":3.125E-2},0.30208333333333331,0.30208333333333331,{"$f":"DATA!$C$9","v":0.89},{"$f":"DATA!$C$10","v":64},1,407.8125,407.8125,0,"","",0,"","",0,"","","","",null,{"$f":"X961","v":46},"2018-11-13",{"$f":"TEXT(Y954,\"ddd\")","v":"di"},"DD",{"$f":"IFERROR(HLOOKUP(Y954,[1]DATA!$A$1:$NB$5,3,0),\"\")","v":"D1"},null,null,null,null,{"$f":"VLOOKUP(Y954,[1]SRM!$S$4:$AA$368,6,0)","v":0},"","",""]
["46diMD",{"$f":"VLOOKUP($AA955,DATA!$B$3:$E955,2,0)","v":"14:30:00"},{"$f":"VLOOKUP($AA955,DATA!$B$3:$E955,3,0)","v":"22:30:00"},{"$f":"VLOOKUP($AA955,DATA!$B$3:$E955,4,0)","v":3.125E-2},0.30208333333333337,0.30208333333333337,{"$f":"DATA!$C$9","v":0.89},{"$f":"DATA!$C$10","v":64},1,407.81250000000006,407.81250000000006,0,"","",0,"","",0,"","","","",null,{"$f":"X961","v":46},null,{"$f":"TEXT(Y954,\"ddd\")","v":"di"},"MD",{"$f":"IFERROR(HLOOKUP(Y954,[1]DATA!$A$1:$NB$5,4,0),\"\")","v":"D3"},null,null,null,null,{"$f":"VLOOKUP(Y954,[1]SRM!$S$4:$AA$368,7,0)","v":0},"","",""]
["46diND",{"$f":"VLOOKUP($AA956,DATA!$B$3:$E956,2,0)","v":"22:30:00"},{"$f":"VLOOKUP($AA956,DATA!$B$3:$E956,3,0)","v":"06:30:00"},{"$f":"VLOOKUP($AA956,DATA!$B$3:$E956,4,0)","v":3.125E-2},0.30208333333333326,0.30208333333333326,{"$f":"DATA!$C$9","v":0.89},{"$f":"DATA!$C$10","v":64},1,407.81249999999989,407.81249999999989,0,"","",0,"","",0,"","","","",null,{"$f":"X961","v":46},null,{"$f":"TEXT(Y954,\"ddd\")","v":"di"},"ND",{"$f":"IFERROR(HLOOKUP(Y954,[1]DATA!$A$1:$NB$5,5,0),\"\")","v":"D2"},null,null,null,null,{"$f":"VLOOKUP(Y954,[1]SRM!$S$4:$AA$368,8,0)","v":0},"","",""]
["46woDD",{"$f":"VLOOKUP($AA957,DATA!$B$3:$E957,2,0)","v":"06:30:00"},{"$f":"VLOOKUP($AA957,DATA!$B$3:$E957,3,0)","v":"14:30:00"},{"$f":"VLOOKUP($AA957,DATA!$B$3:$E957,4,0)","v":3.125E-2},0.30208333333333331,0.30208333333333331,{"$f":"DATA!$C$9","v":0.89},{"$f":"DATA!$C$10","v":64},1,407.8125,407.8125,0,"","",0,"","",0,"","","","",null,{"$f":"X961","v":46},{"$f":"Y954+1","v":"2018-11-14"},{"$f":"TEXT(Y957,\"ddd\")","v":"wo"},"DD",{"$f":"IFERROR(HLOOKUP(Y957,[1]DATA!$A$1:$NB$5,3,0),\"\")","v":"D1"},null,null,null,null,{"$f":"VLOOKUP(Y957,[1]SRM!$S$4:$AA$368,6,0)","v":0},"","",""]
["46woMD",{"$f":"VLOOKUP($AA958,DATA!$B$3:$E958,2,0)","v":"14:30:00"},{"$f":"VLOOKUP($AA958,DATA!$B$3:$E958,3,0)","v":"22:30:00"},{"$f":"VLOOKUP($AA958,DATA!$B$3:$E958,4,0)","v":3.125E-2},0.30208333333333337,0.30208333333333337,{"$f":"DATA!$C$9","v":0.89},{"$f":"DATA!$C$10","v":64},1,407.81250000000006,407.81250000000006,0,"","",0,"","",0,"","","","",null,{"$f":"X961","v":46},null,{"$f":"TEXT(Y957,\"ddd\")","v":"wo"},"MD",{"$f":"IFERROR(HLOOKUP(Y957,[1]DATA!$A$1:$NB$5,4,0),\"\")","v":"D3"},null,null,null,null,{"$f":"VLOOKUP(Y957,[1]SRM!$S$4:$AA$368,7,0)","v":0},"","",""]
["46woND",{"$f":"VLOOKUP($AA959,DATA!$B$3:$E959,2,0)","v":"22:30:00"},{"$f":"VLOOKUP($AA959,DATA!$B$3:$E959,3,0)","v":"06:30:00"},{"$f":"VLOOKUP($AA959,DATA!$B$3:$E959,4,0)","v":3.125E-2},0.30208333333333326,0.30208333333333326,{"$f":"DATA!$C$9","v":0.89},{"$f":"DATA!$C$10","v":64},1,407.81249999999989,407.81249999999989,0,"","",0,"","",0,"","","","",null,{"$f":"X961","v":46},null,{"$f":"TEXT(Y957,\"ddd\")","v":"wo"},"ND",{"$f":"IFERROR(HLOOKUP(Y957,[1]DATA!$A$1:$NB$5,5,0),\"\")","v":"D2"},null,null,null,null,{"$f":"VLOOKUP(Y957,[1]SRM!$S$4:$AA$368,8,0)","v":0},"","",""]
["46doDD",{"$f":"VLOOKUP($AA960,DATA!$B$3:$E960,2,0)","v":"06:30:00"},{"$f":"VLOOKUP($AA960,DATA!$B$3:$E960,3,0)","v":"14:30:00"},{"$f":"VLOOKUP($AA960,DATA!$B$3:$E960,4,0)","v":3.125E-2},0.30208333333333331,0.30208333333333331,{"$f":"DATA!$C$9","v":0.89},{"$f":"DATA!$C$10","v":64},1,407.8125,407.8125,0,"","",0,"","",0,"","","","",null,{"$f":"X961","v":46},"2018-11-15",{"$f":"TEXT(Y960,\"ddd\")","v":"do"},"DD",{"$f":"IFERROR(HLOOKUP(Y960,[1]DATA!$A$1:$NB$5,3,0),\"\")","v":"D1"},null,null,null,null,{"$f":"VLOOKUP(Y960,[1]SRM!$S$4:$AA$368,6,0)","v":0},"","",""]
["46doMD",{"$f":"VLOOKUP($AA961,DATA!$B$3:$E961,2,0)","v":"14:30:00"},{"$f":"VLOOKUP($AA961,DATA!$B$3:$E961,3,0)","v":"22:30:00"},{"$f":"VLOOKUP($AA961,DATA!$B$3:$E961,4,0)","v":3.125E-2},0.30208333333333337,0.30208333333333337,{"$f":"DATA!$C$9","v":0.89},{"$f":"DATA!$C$10","v":64},1,407.81250000000006,407.81250000000006,0,"","",0,"","",0,"","","","",null,{"$f":"WEEKNUM($Y951)","v":46},null,{"$f":"TEXT(Y960,\"ddd\")","v":"do"},"MD",{"$f":"IFERROR(HLOOKUP(Y960,[1]DATA!$A$1:$NB$5,4,0),\"\")","v":"D3"},null,null,null,null,{"$f":"VLOOKUP(Y960,[1]SRM!$S$4:$AA$368,7,0)","v":0},"","",""]
["46doND",{"$f":"VLOOKUP($AA962,DATA!$B$3:$E962,2,0)","v":"22:30:00"},{"$f":"VLOOKUP($AA962,DATA!$B$3:$E962,3,0)","v":"06:30:00"},{"$f":"VLOOKUP($AA962,DATA!$B$3:$E962,4,0)","v":3.125E-2},0.30208333333333326,0.30208333333333326,{"$f":"DATA!$C$9","v":0.89},{"$f":"DATA!$C$10","v":64},1,407.81249999999989,407.81249999999989,0,"","",0,"","",0,"","","","",null,{"$f":"X961","v":46},null,{"$f":"TEXT(Y960,\"ddd\")","v":"do"},"ND",{"$f":"IFERROR(HLOOKUP(Y960,[1]DATA!$A$1:$NB$5,5,0),\"\")","v":"D2"},null,null,null,null,{"$f":"VLOOKUP(Y960,[1]SRM!$S$4:$AA$368,8,0)","v":0},"","",""]
["46vrDD",{"$f":"VLOOKUP($AA963,DATA!$B$3:$E963,2,0)","v":"06:30:00"},{"$f":"VLOOKUP($AA963,DATA!$B$3:$E963,3,0)","v":"14:30:00"},{"$f":"VLOOKUP($AA963,DATA!$B$3:$E963,4,0)","v":3.125E-2},0.30208333333333331,0.30208333333333331,{"$f":"DATA!$C$9","v":0.89},{"$f":"DATA!$C$10","v":64},1,407.8125,407.8125,0,"","",0,"","",0,"","","","",null,{"$f":"X961","v":46},"2018-11-16",{"$f":"TEXT(Y963,\"ddd\")","v":"vr"},"DD",{"$f":"IFERROR(HLOOKUP(Y963,[1]DATA!$A$1:$NB$5,3,0),\"\")","v":"D1"},null,null,null,null,{"$f":"VLOOKUP(Y963,[1]SRM!$S$4:$AA$368,6,0)","v":0},"","",""]
["46vrMD",{"$f":"VLOOKUP($AA964,DATA!$B$3:$E964,2,0)","v":"14:30:00"},{"$f":"VLOOKUP($AA964,DATA!$B$3:$E964,3,0)","v":"22:30:00"},{"$f":"VLOOKUP($AA964,DATA!$B$3:$E964,4,0)","v":3.125E-2},0.30208333333333337,0.30208333333333337,{"$f":"DATA!$C$9","v":0.89},{"$f":"DATA!$C$10","v":64},1,407.81250000000006,407.81250000000006,0,"","",0,"","",0,"","","","",null,{"$f":"X961","v":46},null,{"$f":"TEXT(Y963,\"ddd\")","v":"vr"},"MD",{"$f":"IFERROR(HLOOKUP(Y963,[1]DATA!$A$1:$NB$5,4,0),\"\")","v":"D3"},null,null,null,null,{"$f":"VLOOKUP(Y963,[1]SRM!$S$4:$AA$368,7,0)","v":0},"","",""]
["46vrND",{"$f":"VLOOKUP($AA965,DATA!$B$3:$E965,2,0)","v":"22:30:00"},{"$f":"VLOOKUP($AA965,DATA!$B$3:$E965,3,0)","v":"06:30:00"},{"$f":"VLOOKUP($AA965,DATA!$B$3:$E965,4,0)","v":3.125E-2},0.30208333333333326,0.30208333333333326,{"$f":"DATA!$C$9","v":0.89},{"$f":"DATA!$C$10","v":64},1,407.81249999999989,407.81249999999989,0,"","",0,"","",0,"","","","",null,{"$f":"X961","v":46},null,{"$f":"TEXT(Y963,\"ddd\")","v":"vr"},"ND",{"$f":"IFERROR(HLOOKUP(Y963,[1]DATA!$A$1:$NB$5,5,0),\"\")","v":"D2"},null,null,null,null,{"$f":"VLOOKUP(Y963,[1]SRM!$S$4:$AA$368,8,0)","v":0},"","",""]
["46zaDD",{"$f":"VLOOKUP($AA966,DATA!$B$3:$E966,2,0)","v":"06:30:00"},{"$f":"VLOOKUP($AA966,DATA!$B$3:$E966,3,0)","v":"14:30:00"},{"$f":"VLOOKUP($AA966,DATA!$B$3:$E966,4,0)","v":3.125E-2},0.30208333333333331,0.30208333333333331,{"$f":"DATA!$C$9","v":0.89},{"$f":"DATA!$C$10","v":64},1,407.8125,407.8125,0,"","",0,"","",0,"","","","",null,{"$f":"X961","v":46},"2018-11-17",{"$f":"TEXT(Y966,\"ddd\")","v":"za"},"DD",{"$f":"IFERROR(HLOOKUP(Y966,[1]DATA!$A$1:$NB$5,3,0),\"\")","v":"D1"},null,null,null,null,{"$f":"VLOOKUP(Y966,[1]SRM!$S$4:$AA$368,6,0)","v":0},{"$f":"IFERROR(S966-J966,\"\")","v":""},{"$f":"IFERROR(IF(S966/(E966*86400/H966)<=0,\"\",S966/(E966*86400/H966)),\"\")","v":""},""]
["46zaMD",{"$f":"VLOOKUP($AA967,DATA!$B$3:$E967,2,0)","v":"14:30:00"},{"$f":"VLOOKUP($AA967,DATA!$B$3:$E967,3,0)","v":"22:30:00"},{"$f":"VLOOKUP($AA967,DATA!$B$3:$E967,4,0)","v":3.125E-2},0.30208333333333337,0.30208333333333337,{"$f":"DATA!$C$9","v":0.89},{"$f":"DATA!$C$10","v":64},1,407.81250000000006,407.81250000000006,{"$f":"TIME(INT($AC967/60),INT(MOD($AC967,60)/1),0)","v":0},{"$f":"IF($L967*86400/$H967=0,\"\",$L967*86400/$H967)","v":""},{"$f":"IFERROR($M967/$K967,\"\")","v":""},0,"",{"$f":"IFERROR($P967/$K967,\"\")","v":""},0,"",{"$f":"IF(IF($AB967=\"D1\",$S967,\"\")=0,\"\",IF($AB967=\"D1\",$S967,\"\"))","v":""},{"$f":"IF(IF($AB967=\"D2\",$S967,\"\")=0,\"\",IF($AB967=\"D2\",$S967,\"\"))","v":""},{"$f":"IF(IF($AB967=\"D3\",$S967,\"\")=0,\"\",IF($AB967=\"D3\",$S967,\"\"))","v":""},null,{"$f":"X961","v":46},null,{"$f":"TEXT(Y966,\"ddd\")","v":"za"},"MD",{"$f":"IFERROR(HLOOKUP(Y966,[1]DATA!$A$1:$NB$5,4,0),\"\")","v":"-"},null,null,null,null,{"$f":"VLOOKUP(Y966,[1]SRM!$S$4:$AA$368,7,0)","v":0},"","",""]
["46zaND",{"$f":"VLOOKUP($AA968,DATA!$B$3:$E968,2,0)","v":"22:30:00"},{"$f":"VLOOKUP($AA968,DATA!$B$3:$E968,3,0)","v":"06:30:00"},{"$f":"VLOOKUP($AA968,DATA!$B$3:$E968,4,0)","v":3.125E-2},0.30208333333333326,0.30208333333333326,{"$f":"DATA!$C$9","v":0.89},{"$f":"DATA!$C$10","v":64},1,407.81249999999989,407.81249999999989,0,"","",0,"","",0,"","","","",null,{"$f":"X961","v":46},null,{"$f":"TEXT(Y966,\"ddd\")","v":"za"},"ND",{"$f":"IFERROR(HLOOKUP(Y966,[1]DATA!$A$1:$NB$5,5,0),\"\")","v":"-"},null,null,null,null,{"$f":"VLOOKUP(Y966,[1]SRM!$S$4:$AA$368,8,0)","v":0},"","",""]
["46zoDD",{"$f":"VLOOKUP($AA969,DATA!$B$3:$E969,2,0)","v":"06:30:00"},{"$f":"VLOOKUP($AA969,DATA!$B$3:$E969,3,0)","v":"14:30:00"},{"$f":"VLOOKUP($AA969,DATA!$B$3:$E969,4,0)","v":3.125E-2},0.30208333333333331,0.30208333333333331,{"$f":"DATA!$C$9","v":0.89},{"$f":"DATA!$C$10","v":64},1,407.8125,407.8125,0,"","",0,"","",0,"","","","",null,{"$f":"X961","v":46},"2018-11-18",{"$f":"TEXT(Y969,\"ddd\")","v":"zo"},"DD",{"$f":"IFERROR(HLOOKUP(Y969,[1]DATA!$A$1:$NB$5,3,0),\"\")","v":"-"},null,null,null,null,{"$f":"VLOOKUP(Y969,[1]SRM!$S$4:$AA$368,6,0)","v":0},"","",""]
["46zoMD",{"$f":"VLOOKUP($AA970,DATA!$B$3:$E970,2,0)","v":"14:30:00"},{"$f":"VLOOKUP($AA970,DATA!$B$3:$E970,3,0)","v":"22:30:00"},{"$f":"VLOOKUP($AA970,DATA!$B$3:$E970,4,0)","v":3.125E-2},0.30208333333333337,0.30208333333333337,{"$f":"DATA!$C$9","v":0.89},{"$f":"DATA!$C$10","v":64},1,407.81250000000006,407.81250000000006,0,"","",0,"","",0,"","","","",null,{"$f":"X961","v":46},null,{"$f":"TEXT(Y969,\"ddd\")","v":"zo"},"MD",{"$f":"IFERROR(HLOOKUP(Y969,[1]DATA!$A$1:$NB$5,4,0),\"\")","v":"-"},null,null,null,null,{"$f":"VLOOKUP(Y969,[1]SRM!$S$4:$AA$368,7,0)","v":0},"","",""]
["46zoZND",{"$f":"VLOOKUP($AA971,DATA!$B$3:$E971,2,0)","v":"00:00:00"},{"$f":"VLOOKUP($AA971,DATA!$B$3:$E971,3,0)","v":"00:00:00"},{"$f":"VLOOKUP($AA971,DATA!$B$3:$E971,4,0)","v":0},0,0,{"$f":"DATA!$C$9","v":0.89},{"$f":"DATA!$C$10","v":64},1,0,0,0,"","",0,"","",0,"","","","",null,{"$f":"X961","v":46},null,{"$f":"TEXT(Y969,\"ddd\")","v":"zo"},"ZND",{"$f":"IFERROR(HLOOKUP(Y969,[1]DATA!$A$1:$NB$5,5,0),\"\")","v":"-"},null,null,null,null,{"$f":"VLOOKUP(Y969,[1]SRM!$S$4:$AA$368,8,0)","v":0},"","",""]
["47maDD",{"$f":"VLOOKUP($AA972,DATA!$B$3:$E972,2,0)","v":"06:30:00"},{"$f":"VLOOKUP($AA972,DATA!$B$3:$E972,3,0)","v":"14:30:00"},{"$f":"VLOOKUP($AA972,DATA!$B$3:$E972,4,0)","v":3.125E-2},0.30208333333333331,0.30208333333333331,{"$f":"DATA!$C$9","v":0.89},{"$f":"DATA!$C$10","v":64},1,407.8125,407.8125,0,"","",{"$f":"TIME(INT($AD972/60),INT(MOD($AD972,60)/1),0)","v":0},"","",0,"","","","",null,{"$f":"X982","v":47},"2018-11-19",{"$f":"TEXT(Y972,\"ddd\")","v":"ma"},"DD",{"$f":"IFERROR(HLOOKUP(Y972,[1]DATA!$A$1:$NB$5,3,0),\"\")","v":"D3"},null,null,null,null,{"$f":"VLOOKUP(Y972,[1]SRM!$S$4:$AA$368,6,0)","v":0},"","","",{"$f":"IF(SUMIF(S972:S992,\">0\",K972:K992)=0,\"\",SUMIF(S972:S992,\">0\",K972:K992))","v":""},{"$f":"IF(SUM(S972:S992)=0,\"\",SUM(S972:S992))","v":""},{"$f":"IFERROR(AL972/AK972,\"-\")","v":"-"},{"$f":"IF(SUM(M972:M992)=0,\"0\",SUM(M972:M992))","v":"0"},{"$f":"IFERROR(AN972/AK972,\"-\")","v":"-"},{"$f":"IF(SUM(P972:P992)=0,0,SUM(P972:P992))","v":0},{"$f":"IFERROR(AP972/AK972,\"-\")","v":"-"},{"$f":"IFERROR(AVERAGE(AJ972:AJ992),\"-\")","v":"-"},{"$f":"IFERROR(SUMIF($AB972:$AB992,AS$5,$AJ972:$AJ992)/COUNTIFS($AB972:$AB992,AS$5,$AJ972:$AJ992,\">0\"),\"\")","v":""},"","",{"$f":"IFERROR((AK972-AL972-AN972-AP972),\"-\")","v":"-"},{"$f":"IFERROR((1-AM972-AO972-AQ972), \"-\")","v":"-"},{"$f":"IFERROR((AV972*$AE$2)/60,\"-\")","v":"-"},{"$f":"IFERROR(SUM(AG972:AG992),\"\")","v":0}]
["47maMD",{"$f":"VLOOKUP($AA973,DATA!$B$3:$E973,2,0)","v":"14:30:00"},{"$f":"VLOOKUP($AA973,DATA!$B$3:$E973,3,0)","v":"22:30:00"},{"$f":"VLOOKUP($AA973,DATA!$B$3:$E973,4,0)","v":3.125E-2},0.30208333333333337,0.30208333333333337,{"$f":"DATA!$C$9","v":0.89},{"$f":"DATA!$C$10","v":64},1,407.81250000000006,407.81250000000006,0,"","",{"$f":"TIME(INT(AD973/60),INT(MOD(AD973,60)/1),0)","v":0},"","",0,"","","","",null,{"$f":"X982","v":47},null,{"$f":"TEXT(Y972,\"ddd\")","v":"ma"},"MD",{"$f":"IFERROR(HLOOKUP(Y972,[1]DATA!$A$1:$NB$5,4,0),\"\")","v":"D2"},null,null,null,null,{"$f":"VLOOKUP(Y972,[1]SRM!$S$4:$AA$368,7,0)","v":0},"","",""]
["47maND",{"$f":"VLOOKUP($AA974,DATA!$B$3:$E974,2,0)","v":"22:30:00"},{"$f":"VLOOKUP($AA974,DATA!$B$3:$E974,3,0)","v":"06:30:00"},{"$f":"VLOOKUP($AA974,DATA!$B$3:$E974,4,0)","v":3.125E-2},0.30208333333333326,0.30208333333333326,{"$f":"DATA!$C$9","v":0.89},{"$f":"DATA!$C$10","v":64},1,407.81249999999989,407.81249999999989,0,"","",0,"","",0,"","","","",null,{"$f":"X982","v":47},null,{"$f":"TEXT(Y972,\"ddd\")","v":"ma"},"ND",{"$f":"IFERROR(HLOOKUP(Y972,[1]DATA!$A$1:$NB$5,5,0),\"\")","v":"D1"},null,null,null,null,{"$f":"VLOOKUP(Y972,[1]SRM!$S$4:$AA$368,8,0)","v":0},"","",""]
["47diDD",{"$f":"VLOOKUP($AA975,DATA!$B$3:$E975,2,0)","v":"06:30:00"},{"$f":"VLOOKUP($AA975,DATA!$B$3:$E975,3,0)","v":"14:30:00"},{"$f":"VLOOKUP($AA975,DATA!$B$3:$E975,4,0)","v":3.125E-2},0.30208333333333331,0.30208333333333331,{"$f":"DATA!$C$9","v":0.89},{"$f":"DATA!$C$10","v":64},1,407.8125,407.8125,0,"","",0,"","",0,"","","","",null,{"$f":"X982","v":47},"2018-11-20",{"$f":"TEXT(Y975,\"ddd\")","v":"di"},"DD",{"$f":"IFERROR(HLOOKUP(Y975,[1]DATA!$A$1:$NB$5,3,0),\"\")","v":"D3"},null,null,null,null,{"$f":"VLOOKUP(Y975,[1]SRM!$S$4:$AA$368,6,0)","v":0},"","",""]
["47diMD",{"$f":"VLOOKUP($AA976,DATA!$B$3:$E976,2,0)","v":"14:30:00"},{"$f":"VLOOKUP($AA976,DATA!$B$3:$E976,3,0)","v":"22:30:00"},{"$f":"VLOOKUP($AA976,DATA!$B$3:$E976,4,0)","v":3.125E-2},0.30208333333333337,0.30208333333333337,{"$f":"DATA!$C$9","v":0.89},{"$f":"DATA!$C$10","v":64},1,407.81250000000006,407.81250000000006,0,"","",0,"","",0,"","","","",null,{"$f":"X982","v":47},null,{"$f":"TEXT(Y975,\"ddd\")","v":"di"},"MD",{"$f":"IFERROR(HLOOKUP(Y975,[1]DATA!$A$1:$NB$5,4,0),\"\")","v":"D2"},null,null,null,null,{"$f":"VLOOKUP(Y975,[1]SRM!$S$4:$AA$368,7,0)","v":0},"","",""]
["47diND",{"$f":"VLOOKUP($AA977,DATA!$B$3:$E977,2,0)","v":"22:30:00"},{"$f":"VLOOKUP($AA977,DATA!$B$3:$E977,3,0)","v":"06:30:00"},{"$f":"VLOOKUP($AA977,DATA!$B$3:$E977,4,0)","v":3.125E-2},0.30208333333333326,0.30208333333333326,{"$f":"DATA!$C$9","v":0.89},{"$f":"DATA!$C$10","v":64},1,407.81249999999989,407.81249999999989,0,"","",0,"","",0,"","","","",null,{"$f":"X982","v":47},null,{"$f":"TEXT(Y975,\"ddd\")","v":"di"},"ND",{"$f":"IFERROR(HLOOKUP(Y975,[1]DATA!$A$1:$NB$5,5,0),\"\")","v":"D1"},null,null,null,null,{"$f":"VLOOKUP(Y975,[1]SRM!$S$4:$AA$368,8,0)","v":0},"","",""]
["47woDD",{"$f":"VLOOKUP($AA978,DATA!$B$3:$E978,2,0)","v":"06:30:00"},{"$f":"VLOOKUP($AA978,DATA!$B$3:$E978,3,0)","v":"14:30:00"},{"$f":"VLOOKUP($AA978,DATA!$B$3:$E978,4,0)","v":3.125E-2},0.30208333333333331,0.30208333333333331,{"$f":"DATA!$C$9","v":0.89},{"$f":"DATA!$C$10","v":64},1,407.8125,407.8125,0,"","",0,"","",0,"","","","",null,{"$f":"X982","v":47},"2018-11-21",{"$f":"TEXT(Y978,\"ddd\")","v":"wo"},"DD",{"$f":"IFERROR(HLOOKUP(Y978,[1]DATA!$A$1:$NB$5,3,0),\"\")","v":"D3"},null,null,null,null,{"$f":"VLOOKUP(Y978,[1]SRM!$S$4:$AA$368,6,0)","v":0},"","",""]
["47woMD",{"$f":"VLOOKUP($AA979,DATA!$B$3:$E979,2,0)","v":"14:30:00"},{"$f":"VLOOKUP($AA979,DATA!$B$3:$E979,3,0)","v":"22:30:00"},{"$f":"VLOOKUP($AA979,DATA!$B$3:$E979,4,0)","v":3.125E-2},0.30208333333333337,0.30208333333333337,{"$f":"DATA!$C$9","v":0.89},{"$f":"DATA!$C$10","v":64},1,407.81250000000006,407.81250000000006,0,"","",0,"","",0,"","","","",null,{"$f":"X982","v":47},null,{"$f":"TEXT(Y978,\"ddd\")","v":"wo"},"MD",{"$f":"IFERROR(HLOOKUP(Y978,[1]DATA!$A$1:$NB$5,4,0),\"\")","v":"D2"},null,null,null,null,{"$f":"VLOOKUP(Y978,[1]SRM!$S$4:$AA$368,7,0)","v":0},"","",""]
["47woND",{"$f":"VLOOKUP($AA980,DATA!$B$3:$E980,2,0)","v":"22:30:00"},{"$f":"VLOOKUP($AA980,DATA!$B$3:$E980,3,0)","v":"06:30:00"},{"$f":"VLOOKUP($AA980,DATA!$B$3:$E980,4,0)","v":3.125E-2},0.30208333333333326,0.30208333333333326,{"$f":"DATA!$C$9","v":0.89},{"$f":"DATA!$C$10","v":64},1,407.81249999999989,407.81249999999989,0,"","",0,"","",0,"","","","",null,{"$f":"X982","v":47},null,{"$f":"TEXT(Y978,\"ddd\")","v":"wo"},"ND",{"$f":"IFERROR(HLOOKUP(Y978,[1]DATA!$A$1:$NB$5,5,0),\"\")","v":"D1"},null,null,null,null,{"$f":"VLOOKUP(Y978,[1]SRM!$S$4:$AA$368,8,0)","v":0},"","",""]
["47doDD",{"$f":"VLOOKUP($AA981,DATA!$B$3:$E981,2,0)","v":"06:30:00"},{"$f":"VLOOKUP($AA981,DATA!$B$3:$E981,3,0)","v":"14:30:00"},{"$f":"VLOOKUP($AA981,DATA!$B$3:$E981,4,0)","v":3.125E-2},0.30208333333333331,0.30208333333333331,{"$f":"DATA!$C$9","v":0.89},{"$f":"DATA!$C$10","v":64},1,407.8125,407.8125,0,"","",0,"","",0,"","","","",null,{"$f":"X982","v":47},"2018-11-22",{"$f":"TEXT(Y981,\"ddd\")","v":"do"},"DD",{"$f":"IFERROR(HLOOKUP(Y981,[1]DATA!$A$1:$NB$5,3,0),\"\")","v":"D3"},null,null,null,null,{"$f":"VLOOKUP(Y981,[1]SRM!$S$4:$AA$368,6,0)","v":0},"","",""]
["47doMD",{"$f":"VLOOKUP($AA982,DATA!$B$3:$E982,2,0)","v":"14:30:00"},{"$f":"VLOOKUP($AA982,DATA!$B$3:$E982,3,0)","v":"22:30:00"},{"$f":"VLOOKUP($AA982,DATA!$B$3:$E982,4,0)","v":3.125E-2},0.30208333333333337,0.30208333333333337,{"$f":"DATA!$C$9","v":0.89},{"$f":"DATA!$C$10","v":64},1,407.81250000000006,407.81250000000006,0,"","",0,"","",0,"","","","",null,{"$f":"WEEKNUM($Y972)","v":47},null,{"$f":"TEXT(Y981,\"ddd\")","v":"do"},"MD",{"$f":"IFERROR(HLOOKUP(Y981,[1]DATA!$A$1:$NB$5,4,0),\"\")","v":"D2"},null,null,null,null,{"$f":"VLOOKUP(Y981,[1]SRM!$S$4:$AA$368,7,0)","v":0},"","",""]
["47doND",{"$f":"VLOOKUP($AA983,DATA!$B$3:$E983,2,0)","v":"22:30:00"},{"$f":"VLOOKUP($AA983,DATA!$B$3:$E983,3,0)","v":"06:30:00"},{"$f":"VLOOKUP($AA983,DATA!$B$3:$E983,4,0)","v":3.125E-2},0.30208333333333326,0.30208333333333326,{"$f":"DATA!$C$9","v":0.89},{"$f":"DATA!$C$10","v":64},1,407.81249999999989,407.81249999999989,0,"","",0,"","",0,"","","","",null,{"$f":"X982","v":47},null,{"$f":"TEXT(Y981,\"ddd\")","v":"do"},"ND",{"$f":"IFERROR(HLOOKUP(Y981,[1]DATA!$A$1:$NB$5,5,0),\"\")","v":"D1"},null,null,null,null,{"$f":"VLOOKUP(Y981,[1]SRM!$S$4:$AA$368,8,0)","v":0},"","",""]
["47vrDD",{"$f":"VLOOKUP($AA984,DATA!$B$3:$E984,2,0)","v":"06:30:00"},{"$f":"VLOOKUP($AA984,DATA!$B$3:$E984,3,0)","v":"14:30:00"},{"$f":"VLOOKUP($AA984,DATA!$B$3:$E984,4,0)","v":3.125E-2},0.30208333333333331,0.30208333333333331,{"$f":"DATA!$C$9","v":0.89},{"$f":"DATA!$C$10","v":64},1,407.8125,407.8125,0,"","",0,"","",0,"","","","",null,{"$f":"X982","v":47},"2018-11-23",{"$f":"TEXT(Y984,\"ddd\")","v":"vr"},"DD",{"$f":"IFERROR(HLOOKUP(Y984,[1]DATA!$A$1:$NB$5,3,0),\"\")","v":"D3"},null,null,null,null,{"$f":"VLOOKUP(Y984,[1]SRM!$S$4:$AA$368,6,0)","v":0},"","",""]
["47vrMD",{"$f":"VLOOKUP($AA985,DATA!$B$3:$E985,2,0)","v":"14:30:00"},{"$f":"VLOOKUP($AA985,DATA!$B$3:$E985,3,0)","v":"22:30:00"},{"$f":"VLOOKUP($AA985,DATA!$B$3:$E985,4,0)","v":3.125E-2},0.30208333333333337,0.30208333333333337,{"$f":"DATA!$C$9","v":0.89},{"$f":"DATA!$C$10","v":64},1,407.81250000000006,407.81250000000006,0,"","",0,"","",0,"","","","",null,{"$f":"X982","v":47},null,{"$f":"TEXT(Y984,\"ddd\")","v":"vr"},"MD",{"$f":"IFERROR(HLOOKUP(Y984,[1]DATA!$A$1:$NB$5,4,0),\"\")","v":"D2"},null,null,null,null,{"$f":"VLOOKUP(Y984,[1]SRM!$S$4:$AA$368,7,0)","v":0},"","",""]
["47vrND",{"$f":"VLOOKUP($AA986,DATA!$B$3:$E986,2,0)","v":"22:30:00"},{"$f":"VLOOKUP($AA986,DATA!$B$3:$E986,3,0)","v":"06:30:00"},{"$f":"VLOOKUP($AA986,DATA!$B$3:$E986,4,0)","v":3.125E-2},0.30208333333333326,0.30208333333333326,{"$f":"DATA!$C$9","v":0.89},{"$f":"DATA!$C$10","v":64},1,407.81249999999989,407.81249999999989,0,"","",0,"","",0,"","","","",null,{"$f":"X982","v":47},null,{"$f":"TEXT(Y984,\"ddd\")","v":"vr"},"ND",{"$f":"IFERROR(HLOOKUP(Y984,[1]DATA!$A$1:$NB$5,5,0),\"\")","v":"D2"},null,null,null,null,{"$f":"VLOOKUP(Y984,[1]SRM!$S$4:$AA$368,8,0)","v":0},"","",""]
["47zaDD",{"$f":"VLOOKUP($AA987,DATA!$B$3:$E987,2,0)","v":"06:30:00"},{"$f":"VLOOKUP($AA987,DATA!$B$3:$E987,3,0)","v":"14:30:00"},{"$f":"VLOOKUP($AA987,DATA!$B$3:$E987,4,0)","v":3.125E-2},0.30208333333333331,0.30208333333333331,{"$f":"DATA!$C$9","v":0.89},{"$f":"DATA!$C$10","v":64},1,407.8125,407.8125,0,"","",0,"","",0,"","","","",null,{"$f":"X982","v":47},"2018-11-24",{"$f":"TEXT(Y987,\"ddd\")","v":"za"},"DD",{"$f":"IFERROR(HLOOKUP(Y987,[1]DATA!$A$1:$NB$5,3,0),\"\")","v":"D3"},null,null,null,null,{"$f":"VLOOKUP(Y987,[1]SRM!$S$4:$AA$368,6,0)","v":0},"","",{"$f":"IFERROR(R987/(R987+AG987),\"\")","v":""}]
["47zaMD",{"$f":"VLOOKUP($AA988,DATA!$B$3:$E988,2,0)","v":"14:30:00"},{"$f":"VLOOKUP($AA988,DATA!$B$3:$E988,3,0)","v":"22:30:00"},{"$f":"VLOOKUP($AA988,DATA!$B$3:$E988,4,0)","v":3.125E-2},{"$f":"(C988-B988+(B988>C988))-D988","v":0.30208333333333337},{"$f":"E988-O988-L988","v":0.30208333333333337},{"$f":"DATA!$C$9","v":0.89},{"$f":"DATA!$C$10","v":64},1,{"$f":"F988*86400/H988*I988","v":407.81250000000006},{"$f":"E988*86400/H988","v":407.81250000000006},0,"","",0,"","",{"$f":"AF988*AG$2","v":0},{"$f":"IF(AF988-AE988=0,\"\",AF988-AE988)","v":""},"","","",null,{"$f":"X982","v":47},null,{"$f":"TEXT(Y987,\"ddd\")","v":"za"},"MD",{"$f":"IFERROR(HLOOKUP(Y987,[1]DATA!$A$1:$NB$5,4,0),\"\")","v":"-"},null,null,null,null,{"$f":"VLOOKUP(Y987,[1]SRM!$S$4:$AA$368,7,0)","v":0},"","",""]
["47zaND",{"$f":"VLOOKUP($AA989,DATA!$B$3:$E989,2,0)","v":"22:30:00"},{"$f":"VLOOKUP($AA989,DATA!$B$3:$E989,3,0)","v":"06:30:00"},{"$f":"VLOOKUP($AA989,DATA!$B$3:$E989,4,0)","v":3.125E-2},0.30208333333333326,0.30208333333333326,{"$f":"DATA!$C$9","v":0.89},{"$f":"DATA!$C$10","v":64},1,407.81249999999989,407.81249999999989,0,"","",0,"","",0,"","","","",null,{"$f":"X982","v":47},null,{"$f":"TEXT(Y987,\"ddd\")","v":"za"},"ND",{"$f":"IFERROR(HLOOKUP(Y987,[1]DATA!$A$1:$NB$5,5,0),\"\")","v":"-"},null,null,null,null,{"$f":"VLOOKUP(Y987,[1]SRM!$S$4:$AA$368,8,0)","v":0},"","",""]
["47zoDD",{"$f":"VLOOKUP($AA990,DATA!$B$3:$E990,2,0)","v":"06:30:00"},{"$f":"VLOOKUP($AA990,DATA!$B$3:$E990,3,0)","v":"14:30:00"},{"$f":"VLOOKUP($AA990,DATA!$B$3:$E990,4,0)","v":3.125E-2},0.30208333333333331,0.30208333333333331,{"$f":"DATA!$C$9","v":0.89},{"$f":"DATA!$C$10","v":64},1,407.8125,407.8125,0,"","",0,"","",0,"","","","",null,{"$f":"X982","v":47},"2018-11-25",{"$f":"TEXT(Y990,\"ddd\")","v":"zo"},"DD",{"$f":"IFERROR(HLOOKUP(Y990,[1]DATA!$A$1:$NB$5,3,0),\"\")","v":"-"},null,null,null,null,{"$f":"VLOOKUP(Y990,[1]SRM!$S$4:$AA$368,6,0)","v":0},"","",""]
["47zoMD",{"$f":"VLOOKUP($AA991,DATA!$B$3:$E991,2,0)","v":"14:30:00"},{"$f":"VLOOKUP($AA991,DATA!$B$3:$E991,3,0)","v":"22:30:00"},{"$f":"VLOOKUP($AA991,DATA!$B$3:$E991,4,0)","v":3.125E-2},0.30208333333333337,0.30208333333333337,{"$f":"DATA!$C$9","v":0.89},{"$f":"DATA!$C$10","v":64},1,407.81250000000006,407.81250000000006,0,"","",0,"","",0,"","","","",null,{"$f":"X982","v":47},null,{"$f":"TEXT(Y990,\"ddd\")","v":"zo"},"MD",{"$f":"IFERROR(HLOOKUP(Y990,[1]DATA!$A$1:$NB$5,4,0),\"\")","v":"-"},null,null,null,null,{"$f":"VLOOKUP(Y990,[1]SRM!$S$4:$AA$368,7,0)","v":0},"","",""]
["47zoZND",{"$f":"VLOOKUP($AA992,DATA!$B$3:$E992,2,0)","v":"00:00:00"},{"$f":"VLOOKUP($AA992,DATA!$B$3:$E992,3,0)","v":"00:00:00"},{"$f":"VLOOKUP($AA992,DATA!$B$3:$E992,4,0)","v":0},0,0,{"$f":"DATA!$C$9","v":0.89},{"$f":"DATA!$C$10","v":64},1,0,0,0,"","",0,"","",0,"","","","",null,{"$f":"X982","v":47},null,{"$f":"TEXT(Y990,\"ddd\")","v":"zo"},"ZND",{"$f":"IFERROR(HLOOKUP(Y990,[1]DATA!$A$1:$NB$5,5,0),\"\")","v":"-"},null,null,null,null,{"$f":"VLOOKUP(Y990,[1]SRM!$S$4:$AA$368,8,0)","v":0},"","",""]
["48maDD",{"$f":"VLOOKUP($AA993,DATA!$B$3:$E993,2,0)","v":"06:30:00"},{"$f":"VLOOKUP($AA993,DATA!$B$3:$E993,3,0)","v":"14:30:00"},{"$f":"VLOOKUP($AA993,DATA!$B$3:$E993,4,0)","v":3.125E-2},0.30208333333333331,0.30208333333333331,{"$f":"DATA!$C$9","v":0.89},{"$f":"DATA!$C$10","v":64},1,407.8125,407.8125,0,"","",{"$f":"TIME(INT($AD993/60),INT(MOD($AD993,60)/1),0)","v":0},"","",0,"","","","",null,{"$f":"X1003","v":48},"2018-11-26",{"$f":"TEXT(Y993,\"ddd\")","v":"ma"},"DD",{"$f":"IFERROR(HLOOKUP(Y993,[1]DATA!$A$1:$NB$5,3,0),\"\")","v":"D2"},null,null,null,null,{"$f":"VLOOKUP(Y993,[1]SRM!$S$4:$AA$368,6,0)","v":0},"","","",{"$f":"IF(SUMIF(S993:S1013,\">0\",K993:K1013)=0,\"\",SUMIF(S993:S1013,\">0\",K993:K1013))","v":""},{"$f":"IF(SUM(S993:S1013)=0,\"\",SUM(S993:S1013))","v":""},{"$f":"IFERROR(AL993/AK993,\"-\")","v":"-"},{"$f":"IF(SUM(M993:M1013)=0,\"0\",SUM(M993:M1013))","v":"0"},{"$f":"IFERROR(AN993/AK993,\"-\")","v":"-"},{"$f":"IF(SUM(P993:P1013)=0,0,SUM(P993:P1013))","v":0},{"$f":"IFERROR(AP993/AK993,\"-\")","v":"-"},"-",{"$f":"IFERROR(SUMIF($AB993:$AB1013,AS$5,$AJ993:$AJ1013)/COUNTIFS($AB993:$AB1013,AS$5,$AJ993:$AJ1013,\">0\"),\"\")","v":""},"","",{"$f":"IFERROR((AK993-AL993-AN993-AP993),\"-\")","v":"-"},{"$f":"IFERROR((1-AM993-AO993-AQ993), \"-\")","v":"-"},{"$f":"IFERROR((AV993*$AE$2)/60,\"-\")","v":"-"},{"$f":"IFERROR(SUM(AG993:AG1013),\"\")","v":0}]
["48maMD",{"$f":"VLOOKUP($AA994,DATA!$B$3:$E994,2,0)","v":"14:30:00"},{"$f":"VLOOKUP($AA994,DATA!$B$3:$E994,3,0)","v":"22:30:00"},{"$f":"VLOOKUP($AA994,DATA!$B$3:$E994,4,0)","v":3.125E-2},0.30208333333333337,0.30208333333333337,{"$f":"DATA!$C$9","v":0.89},{"$f":"DATA!$C$10","v":64},1,407.81250000000006,407.81250000000006,0,"","",{"$f":"TIME(INT(AD994/60),INT(MOD(AD994,60)/1),0)","v":0},"","",0,"","","","",null,{"$f":"X1003","v":48},null,{"$f":"TEXT(Y993,\"ddd\")","v":"ma"},"MD",{"$f":"IFERROR(HLOOKUP(Y993,[1]DATA!$A$1:$NB$5,4,0),\"\")","v":"D1"},null,null,null,null,{"$f":"VLOOKUP(Y993,[1]SRM!$S$4:$AA$368,7,0)","v":0},"","",""]
["48maND",{"$f":"VLOOKUP($AA995,DATA!$B$3:$E995,2,0)","v":"22:30:00"},{"$f":"VLOOKUP($AA995,DATA!$B$3:$E995,3,0)","v":"06:30:00"},{"$f":"VLOOKUP($AA995,DATA!$B$3:$E995,4,0)","v":3.125E-2},0.30208333333333326,0.30208333333333326,{"$f":"DATA!$C$9","v":0.89},{"$f":"DATA!$C$10","v":64},1,407.81249999999989,407.81249999999989,0,"","",0,"","",0,"","","","",null,{"$f":"X1003","v":48},null,{"$f":"TEXT(Y993,\"ddd\")","v":"ma"},"ND",{"$f":"IFERROR(HLOOKUP(Y993,[1]DATA!$A$1:$NB$5,5,0),\"\")","v":"D3"},null,null,null,null,{"$f":"VLOOKUP(Y993,[1]SRM!$S$4:$AA$368,8,0)","v":0},"","",""]
["48diDD",{"$f":"VLOOKUP($AA996,DATA!$B$3:$E996,2,0)","v":"06:30:00"},{"$f":"VLOOKUP($AA996,DATA!$B$3:$E996,3,0)","v":"14:30:00"},{"$f":"VLOOKUP($AA996,DATA!$B$3:$E996,4,0)","v":3.125E-2},0.30208333333333331,0.30208333333333331,{"$f":"DATA!$C$9","v":0.89},{"$f":"DATA!$C$10","v":64},1,407.8125,407.8125,0,"","",0,"","",0,"","","","",null,{"$f":"X1003","v":48},"2018-11-27",{"$f":"TEXT(Y996,\"ddd\")","v":"di"},"DD",{"$f":"IFERROR(HLOOKUP(Y996,[1]DATA!$A$1:$NB$5,3,0),\"\")","v":"D2"},null,null,null,null,{"$f":"VLOOKUP(Y996,[1]SRM!$S$4:$AA$368,6,0)","v":0},"","",""]
["48diMD",{"$f":"VLOOKUP($AA997,DATA!$B$3:$E997,2,0)","v":"14:30:00"},{"$f":"VLOOKUP($AA997,DATA!$B$3:$E997,3,0)","v":"22:30:00"},{"$f":"VLOOKUP($AA997,DATA!$B$3:$E997,4,0)","v":3.125E-2},0.30208333333333337,0.30208333333333337,{"$f":"DATA!$C$9","v":0.89},{"$f":"DATA!$C$10","v":64},1,407.81250000000006,407.81250000000006,0,"","",0,"","",0,"","","","",null,{"$f":"X1003","v":48},null,{"$f":"TEXT(Y996,\"ddd\")","v":"di"},"MD",{"$f":"IFERROR(HLOOKUP(Y996,[1]DATA!$A$1:$NB$5,4,0),\"\")","v":"D1"},null,null,null,null,{"$f":"VLOOKUP(Y996,[1]SRM!$S$4:$AA$368,7,0)","v":0},"","",""]
["48diND",{"$f":"VLOOKUP($AA998,DATA!$B$3:$E998,2,0)","v":"22:30:00"},{"$f":"VLOOKUP($AA998,DATA!$B$3:$E998,3,0)","v":"06:30:00"},{"$f":"VLOOKUP($AA998,DATA!$B$3:$E998,4,0)","v":3.125E-2},0.30208333333333326,0.30208333333333326,{"$f":"DATA!$C$9","v":0.89},{"$f":"DATA!$C$10","v":64},1,407.81249999999989,407.81249999999989,0,"","",0,"","",0,"","","","",null,{"$f":"X1003","v":48},null,{"$f":"TEXT(Y996,\"ddd\")","v":"di"},"ND",{"$f":"IFERROR(HLOOKUP(Y996,[1]DATA!$A$1:$NB$5,5,0),\"\")","v":"D3"},null,null,null,null,{"$f":"VLOOKUP(Y996,[1]SRM!$S$4:$AA$368,8,0)","v":0},"","",""]
["48woDD",{"$f":"VLOOKUP($AA999,DATA!$B$3:$E999,2,0)","v":"06:30:00"},{"$f":"VLOOKUP($AA999,DATA!$B$3:$E999,3,0)","v":"14:30:00"},{"$f":"VLOOKUP($AA999,DATA!$B$3:$E999,4,0)","v":3.125E-2},0.30208333333333331,0.30208333333333331,{"$f":"DATA!$C$9","v":0.89},{"$f":"DATA!$C$10","v":64},1,407.8125,407.8125,0,"","",0,"","",0,"","","","",null,{"$f":"X1003","v":48},"2018-11-28",{"$f":"TEXT(Y999,\"ddd\")","v":"wo"},"DD",{"$f":"IFERROR(HLOOKUP(Y999,[1]DATA!$A$1:$NB$5,3,0),\"\")","v":"D2"},null,null,null,null,{"$f":"VLOOKUP(Y999,[1]SRM!$S$4:$AA$368,6,0)","v":0},"","",""]
["48woMD",{"$f":"VLOOKUP($AA1000,DATA!$B$3:$E1000,2,0)","v":"14:30:00"},{"$f":"VLOOKUP($AA1000,DATA!$B$3:$E1000,3,0)","v":"22:30:00"},{"$f":"VLOOKUP($AA1000,DATA!$B$3:$E1000,4,0)","v":3.125E-2},0.30208333333333337,0.30208333333333337,{"$f":"DATA!$C$9","v":0.89},{"$f":"DATA!$C$10","v":64},1,407.81250000000006,407.81250000000006,0,"","",0,"","",0,"","","","",null,{"$f":"X1003","v":48},null,{"$f":"TEXT(Y999,\"ddd\")","v":"wo"},"MD",{"$f":"IFERROR(HLOOKUP(Y999,[1]DATA!$A$1:$NB$5,4,0),\"\")","v":"D1"},null,null,null,null,{"$f":"VLOOKUP(Y999,[1]SRM!$S$4:$AA$368,7,0)","v":0},"","",""]
["48woND",{"$f":"VLOOKUP($AA1001,DATA!$B$3:$E1001,2,0)","v":"22:30:00"},{"$f":"VLOOKUP($AA1001,DATA!$B$3:$E1001,3,0)","v":"06:30:00"},{"$f":"VLOOKUP($AA1001,DATA!$B$3:$E1001,4,0)","v":3.125E-2},0.30208333333333326,0.30208333333333326,{"$f":"DATA!$C$9","v":0.89},{"$f":"DATA!$C$10","v":64},1,407.81249999999989,407.81249999999989,0,"","",0,"","",0,"","","","",null,{"$f":"X1003","v":48},null,{"$f":"TEXT(Y999,\"ddd\")","v":"wo"},"ND",{"$f":"IFERROR(HLOOKUP(Y999,[1]DATA!$A$1:$NB$5,5,0),\"\")","v":"D3"},null,null,null,null,{"$f":"VLOOKUP(Y999,[1]SRM!$S$4:$AA$368,8,0)","v":0},"","",""]
["48doDD",{"$f":"VLOOKUP($AA1002,DATA!$B$3:$E1002,2,0)","v":"06:30:00"},{"$f":"VLOOKUP($AA1002,DATA!$B$3:$E1002,3,0)","v":"14:30:00"},{"$f":"VLOOKUP($AA1002,DATA!$B$3:$E1002,4,0)","v":3.125E-2},0.30208333333333331,0.30208333333333331,{"$f":"DATA!$C$9","v":0.89},{"$f":"DATA!$C$10","v":64},1,407.8125,407.8125,0,"","",0,"","",0,"","","","",null,{"$f":"X1003","v":48},"2018-11-29",{"$f":"TEXT(Y1002,\"ddd\")","v":"do"},"DD",{"$f":"IFERROR(HLOOKUP(Y1002,[1]DATA!$A$1:$NB$5,3,0),\"\")","v":"D2"},null,null,null,null,{"$f":"VLOOKUP(Y1002,[1]SRM!$S$4:$AA$368,6,0)","v":0},"","",""]
["48doMD",{"$f":"VLOOKUP($AA1003,DATA!$B$3:$E1003,2,0)","v":"14:30:00"},{"$f":"VLOOKUP($AA1003,DATA!$B$3:$E1003,3,0)","v":"22:30:00"},{"$f":"VLOOKUP($AA1003,DATA!$B$3:$E1003,4,0)","v":3.125E-2},0.30208333333333337,0.30208333333333337,{"$f":"DATA!$C$9","v":0.89},{"$f":"DATA!$C$10","v":64},1,407.81250000000006,407.81250000000006,0,"","",0,"","",0,"","","","",null,{"$f":"WEEKNUM($Y993)","v":48},null,{"$f":"TEXT(Y1002,\"ddd\")","v":"do"},"MD",{"$f":"IFERROR(HLOOKUP(Y1002,[1]DATA!$A$1:$NB$5,4,0),\"\")","v":"D1"},null,null,null,null,{"$f":"VLOOKUP(Y1002,[1]SRM!$S$4:$AA$368,7,0)","v":0},"","",""]
["48doND",{"$f":"VLOOKUP($AA1004,DATA!$B$3:$E1004,2,0)","v":"22:30:00"},{"$f":"VLOOKUP($AA1004,DATA!$B$3:$E1004,3,0)","v":"06:30:00"},{"$f":"VLOOKUP($AA1004,DATA!$B$3:$E1004,4,0)","v":3.125E-2},0.30208333333333326,0.30208333333333326,{"$f":"DATA!$C$9","v":0.89},{"$f":"DATA!$C$10","v":64},1,407.81249999999989,407.81249999999989,0,"","",0,"","",0,"","","","",null,{"$f":"X1003","v":48},null,{"$f":"TEXT(Y1002,\"ddd\")","v":"do"},"ND",{"$f":"IFERROR(HLOOKUP(Y1002,[1]DATA!$A$1:$NB$5,5,0),\"\")","v":"D3"},null,null,null,null,{"$f":"VLOOKUP(Y1002,[1]SRM!$S$4:$AA$368,8,0)","v":0},"","",""]
["48vrDD",{"$f":"VLOOKUP($AA1005,DATA!$B$3:$E1005,2,0)","v":"06:30:00"},{"$f":"VLOOKUP($AA1005,DATA!$B$3:$E1005,3,0)","v":"14:30:00"},{"$f":"VLOOKUP($AA1005,DATA!$B$3:$E1005,4,0)","v":3.125E-2},0.30208333333333331,0.30208333333333331,{"$f":"DATA!$C$9","v":0.89},{"$f":"DATA!$C$10","v":64},1,407.8125,407.8125,0,"","",0,"","",0,"","","","",null,{"$f":"X1003","v":48},"2018-11-30",{"$f":"TEXT(Y1005,\"ddd\")","v":"vr"},"DD",{"$f":"IFERROR(HLOOKUP(Y1005,[1]DATA!$A$1:$NB$5,3,0),\"\")","v":"D2"},null,null,null,null,{"$f":"VLOOKUP(Y1005,[1]SRM!$S$4:$AA$368,6,0)","v":0},"","",""]
["48vrMD",{"$f":"VLOOKUP($AA1006,DATA!$B$3:$E1006,2,0)","v":"14:30:00"},{"$f":"VLOOKUP($AA1006,DATA!$B$3:$E1006,3,0)","v":"22:30:00"},{"$f":"VLOOKUP($AA1006,DATA!$B$3:$E1006,4,0)","v":3.125E-2},0.30208333333333337,0.30208333333333337,{"$f":"DATA!$C$9","v":0.89},{"$f":"DATA!$C$10","v":64},1,407.81250000000006,407.81250000000006,0,"","",0,"","",0,"","","","",null,{"$f":"X1003","v":48},null,{"$f":"TEXT(Y1005,\"ddd\")","v":"vr"},"MD",{"$f":"IFERROR(HLOOKUP(Y1005,[1]DATA!$A$1:$NB$5,4,0),\"\")","v":"D1"},null,null,null,null,{"$f":"VLOOKUP(Y1005,[1]SRM!$S$4:$AA$368,7,0)","v":0},"","",""]
["48vrND",{"$f":"VLOOKUP($AA1007,DATA!$B$3:$E1007,2,0)","v":"22:30:00"},{"$f":"VLOOKUP($AA1007,DATA!$B$3:$E1007,3,0)","v":"06:30:00"},{"$f":"VLOOKUP($AA1007,DATA!$B$3:$E1007,4,0)","v":3.125E-2},0.30208333333333326,0.30208333333333326,{"$f":"DATA!$C$9","v":0.89},{"$f":"DATA!$C$10","v":64},1,407.81249999999989,407.81249999999989,0,"","",0,"","",0,"","","","",null,{"$f":"X1003","v":48},null,{"$f":"TEXT(Y1005,\"ddd\")","v":"vr"},"ND",{"$f":"IFERROR(HLOOKUP(Y1005,[1]DATA!$A$1:$NB$5,5,0),\"\")","v":"D3"},null,null,null,null,{"$f":"VLOOKUP(Y1005,[1]SRM!$S$4:$AA$368,8,0)","v":0},"","",""]
[{"$f":"X1008&Z1008&AA1008","v":"48zaDD"},{"$f":"VLOOKUP($AA1008,DATA!$B$3:$E1008,2,0)","v":"06:30:00"},{"$f":"VLOOKUP($AA1008,DATA!$B$3:$E1008,3,0)","v":"14:30:00"},{"$f":"VLOOKUP($AA1008,DATA!$B$3:$E1008,4,0)","v":3.125E-2},0.30208333333333331,0.30208333333333331,{"$f":"DATA!$C$9","v":0.89},{"$f":"DATA!$C$10","v":64},1,407.8125,407.8125,0,"","",0,{"$f":"IF($O1008*86400/$H1008=0,\"\",$O1008*86400/$H1008)","v":""},"",0,"","","","",null,{"$f":"X1003","v":48},"2018-12-01",{"$f":"TEXT(Y1008,\"ddd\")","v":"za"},"DD",{"$f":"IFERROR(HLOOKUP(Y1008,[1]DATA!$A$1:$NB$5,3,0),\"\")","v":"D2"},null,null,null,null,{"$f":"VLOOKUP(Y1008,[1]SRM!$S$4:$AA$368,6,0)","v":0},"","",""]
["48zaMD",{"$f":"VLOOKUP($AA1009,DATA!$B$3:$E1009,2,0)","v":"14:30:00"},{"$f":"VLOOKUP($AA1009,DATA!$B$3:$E1009,3,0)","v":"22:30:00"},{"$f":"VLOOKUP($AA1009,DATA!$B$3:$E1009,4,0)","v":3.125E-2},0.30208333333333337,0.30208333333333337,{"$f":"DATA!$C$9","v":0.89},{"$f":"DATA!$C$10","v":64},1,407.81250000000006,407.81250000000006,0,"","",0,"","",0,"","","","",null,{"$f":"X1003","v":48},null,{"$f":"TEXT(Y1008,\"ddd\")","v":"za"},"MD",{"$f":"IFERROR(HLOOKUP(Y1008,[1]DATA!$A$1:$NB$5,4,0),\"\")","v":"-"},null,null,null,null,{"$f":"VLOOKUP(Y1008,[1]SRM!$S$4:$AA$368,7,0)","v":0},"","",""]
["48zaND",{"$f":"VLOOKUP($AA1010,DATA!$B$3:$E1010,2,0)","v":"22:30:00"},{"$f":"VLOOKUP($AA1010,DATA!$B$3:$E1010,3,0)","v":"06:30:00"},{"$f":"VLOOKUP($AA1010,DATA!$B$3:$E1010,4,0)","v":3.125E-2},0.30208333333333326,0.30208333333333326,{"$f":"DATA!$C$9","v":0.89},{"$f":"DATA!$C$10","v":64},1,407.81249999999989,407.81249999999989,0,"","",0,"","",0,"","","","",null,{"$f":"X1003","v":48},null,{"$f":"TEXT(Y1008,\"ddd\")","v":"za"},"ND",{"$f":"IFERROR(HLOOKUP(Y1008,[1]DATA!$A$1:$NB$5,5,0),\"\")","v":"-"},null,null,null,null,{"$f":"VLOOKUP(Y1008,[1]SRM!$S$4:$AA$368,8,0)","v":0},"","",""]
["48zoDD",{"$f":"VLOOKUP($AA1011,DATA!$B$3:$E1011,2,0)","v":"06:30:00"},{"$f":"VLOOKUP($AA1011,DATA!$B$3:$E1011,3,0)","v":"14:30:00"},{"$f":"VLOOKUP($AA1011,DATA!$B$3:$E1011,4,0)","v":3.125E-2},0.30208333333333331,0.30208333333333331,{"$f":"DATA!$C$9","v":0.89},{"$f":"DATA!$C$10","v":64},1,407.8125,407.8125,0,"","",0,"","",0,"","","","",null,{"$f":"X1003","v":48},"2018-12-02",{"$f":"TEXT(Y1011,\"ddd\")","v":"zo"},"DD",{"$f":"IFERROR(HLOOKUP(Y1011,[1]DATA!$A$1:$NB$5,3,0),\"\")","v":"-"},null,null,null,null,{"$f":"VLOOKUP(Y1011,[1]SRM!$S$4:$AA$368,6,0)","v":0},"","",""]
["48zoMD",{"$f":"VLOOKUP($AA1012,DATA!$B$3:$E1012,2,0)","v":"14:30:00"},{"$f":"VLOOKUP($AA1012,DATA!$B$3:$E1012,3,0)","v":"22:30:00"},{"$f":"VLOOKUP($AA1012,DATA!$B$3:$E1012,4,0)","v":3.125E-2},0.30208333333333337,0.30208333333333337,{"$f":"DATA!$C$9","v":0.89},{"$f":"DATA!$C$10","v":64},1,407.81250000000006,407.81250000000006,0,"","",0,"","",0,"","","","",null,{"$f":"X1003","v":48},null,{"$f":"TEXT(Y1011,\"ddd\")","v":"zo"},"MD",{"$f":"IFERROR(HLOOKUP(Y1011,[1]DATA!$A$1:$NB$5,4,0),\"\")","v":"-"},null,null,null,null,{"$f":"VLOOKUP(Y1011,[1]SRM!$S$4:$AA$368,7,0)","v":0},"","",""]
["48zoZND",{"$f":"VLOOKUP($AA1013,DATA!$B$3:$E1013,2,0)","v":"00:00:00"},{"$f":"VLOOKUP($AA1013,DATA!$B$3:$E1013,3,0)","v":"00:00:00"},{"$f":"VLOOKUP($AA1013,DATA!$B$3:$E1013,4,0)","v":0},0,0,{"$f":"DATA!$C$9","v":0.89},{"$f":"DATA!$C$10","v":64},1,0,0,0,"","",0,"","",0,"","","","",null,{"$f":"X1003","v":48},null,{"$f":"TEXT(Y1011,\"ddd\")","v":"zo"},"ZND",{"$f":"IFERROR(HLOOKUP(Y1011,[1]DATA!$A$1:$NB$5,5,0),\"\")","v":"-"},null,null,null,null,{"$f":"VLOOKUP(Y1011,[1]SRM!$S$4:$AA$368,8,0)","v":0},"","",""]
["49maDD",{"$f":"VLOOKUP($AA1014,DATA!$B$3:$E1014,2,0)","v":"06:30:00"},{"$f":"VLOOKUP($AA1014,DATA!$B$3:$E1014,3,0)","v":"14:30:00"},{"$f":"VLOOKUP($AA1014,DATA!$B$3:$E1014,4,0)","v":3.125E-2},0.30208333333333331,0.30208333333333331,{"$f":"DATA!$C$9","v":0.89},{"$f":"DATA!$C$10","v":64},1,407.8125,407.8125,0,"","",{"$f":"TIME(INT($AD1014/60),INT(MOD($AD1014,60)/1),0)","v":0},"","",0,"","","","",null,{"$f":"X1024","v":49},"2018-12-03",{"$f":"TEXT(Y1014,\"ddd\")","v":"ma"},"DD",{"$f":"IFERROR(HLOOKUP(Y1014,[1]DATA!$A$1:$NB$5,3,0),\"\")","v":"D1"},null,null,null,null,{"$f":"VLOOKUP(Y1014,[1]SRM!$S$4:$AA$368,6,0)","v":0},"","","",{"$f":"IF(SUMIF(S1014:S1034,\">0\",K1014:K1034)=0,\"\",SUMIF(S1014:S1034,\">0\",K1014:K1034))","v":""},{"$f":"IF(SUM(S1014:S1034)=0,\"\",SUM(S1014:S1034))","v":""},{"$f":"IFERROR(AL1014/AK1014,\"-\")","v":"-"},{"$f":"IF(SUM(M1014:M1034)=0,\"0\",SUM(M1014:M1034))","v":"0"},{"$f":"IFERROR(AN1014/AK1014,\"-\")","v":"-"},{"$f":"IF(SUM(P1014:P1034)=0,0,SUM(P1014:P1034))","v":0},{"$f":"IFERROR(AP1014/AK1014,\"-\")","v":"-"},"-",{"$f":"IFERROR(SUMIF($AB1014:$AB1034,AS$5,$AJ1014:$AJ1034)/COUNTIFS($AB1014:$AB1034,AS$5,$AJ1014:$AJ1034,\">0\"),\"\")","v":""},"","",{"$f":"IFERROR((AK1014-AL1014-AN1014-AP1014),\"-\")","v":"-"},{"$f":"IFERROR((1-AM1014-AO1014-AQ1014), \"-\")","v":"-"},{"$f":"IFERROR((AV1014*$AE$2)/60,\"-\")","v":"-"},{"$f":"IFERROR(SUM(AG1014:AG1034),\"\")","v":0}]
["49maMD",{"$f":"VLOOKUP($AA1015,DATA!$B$3:$E1015,2,0)","v":"14:30:00"},{"$f":"VLOOKUP($AA1015,DATA!$B$3:$E1015,3,0)","v":"22:30:00"},{"$f":"VLOOKUP($AA1015,DATA!$B$3:$E1015,4,0)","v":3.125E-2},0.30208333333333337,0.30208333333333337,{"$f":"DATA!$C$9","v":0.89},{"$f":"DATA!$C$10","v":64},1,407.81250000000006,407.81250000000006,0,"","",{"$f":"TIME(INT(AD1015/60),INT(MOD(AD1015,60)/1),0)","v":0},"","",0,"","","","",null,{"$f":"X1024","v":49},null,{"$f":"TEXT(Y1014,\"ddd\")","v":"ma"},"MD",{"$f":"IFERROR(HLOOKUP(Y1014,[1]DATA!$A$1:$NB$5,4,0),\"\")","v":"D3"},null,null,null,null,{"$f":"VLOOKUP(Y1014,[1]SRM!$S$4:$AA$368,7,0)","v":0},"","",""]
["49maND",{"$f":"VLOOKUP($AA1016,DATA!$B$3:$E1016,2,0)","v":"22:30:00"},{"$f":"VLOOKUP($AA1016,DATA!$B$3:$E1016,3,0)","v":"06:30:00"},{"$f":"VLOOKUP($AA1016,DATA!$B$3:$E1016,4,0)","v":3.125E-2},0.30208333333333326,0.30208333333333326,{"$f":"DATA!$C$9","v":0.89},{"$f":"DATA!$C$10","v":64},1,407.81249999999989,407.81249999999989,0,"","",0,"","",0,"","","","",null,{"$f":"X1024","v":49},null,{"$f":"TEXT(Y1014,\"ddd\")","v":"ma"},"ND",{"$f":"IFERROR(HLOOKUP(Y1014,[1]DATA!$A$1:$NB$5,5,0),\"\")","v":"D2"},null,null,null,null,{"$f":"VLOOKUP(Y1014,[1]SRM!$S$4:$AA$368,8,0)","v":0},"","",""]
["49diDD",{"$f":"VLOOKUP($AA1017,DATA!$B$3:$E1017,2,0)","v":"06:30:00"},{"$f":"VLOOKUP($AA1017,DATA!$B$3:$E1017,3,0)","v":"14:30:00"},{"$f":"VLOOKUP($AA1017,DATA!$B$3:$E1017,4,0)","v":3.125E-2},0.30208333333333331,0.30208333333333331,{"$f":"DATA!$C$9","v":0.89},{"$f":"DATA!$C$10","v":64},1,407.8125,407.8125,0,"","",0,"","",0,"","","","",null,{"$f":"X1024","v":49},"2018-12-04",{"$f":"TEXT(Y1017,\"ddd\")","v":"di"},"DD",{"$f":"IFERROR(HLOOKUP(Y1017,[1]DATA!$A$1:$NB$5,3,0),\"\")","v":"D1"},null,null,null,null,{"$f":"VLOOKUP(Y1017,[1]SRM!$S$4:$AA$368,6,0)","v":0},"","",""]
["49diMD",{"$f":"VLOOKUP($AA1018,DATA!$B$3:$E1018,2,0)","v":"14:30:00"},{"$f":"VLOOKUP($AA1018,DATA!$B$3:$E1018,3,0)","v":"22:30:00"},{"$f":"VLOOKUP($AA1018,DATA!$B$3:$E1018,4,0)","v":3.125E-2},0.30208333333333337,0.30208333333333337,{"$f":"DATA!$C$9","v":0.89},{"$f":"DATA!$C$10","v":64},1,407.81250000000006,407.81250000000006,0,"","",0,"","",0,"","","","",null,{"$f":"X1024","v":49},null,{"$f":"TEXT(Y1017,\"ddd\")","v":"di"},"MD",{"$f":"IFERROR(HLOOKUP(Y1017,[1]DATA!$A$1:$NB$5,4,0),\"\")","v":"D3"},null,null,null,null,{"$f":"VLOOKUP(Y1017,[1]SRM!$S$4:$AA$368,7,0)","v":0},"","",""]
["49diND",{"$f":"VLOOKUP($AA1019,DATA!$B$3:$E1019,2,0)","v":"22:30:00"},{"$f":"VLOOKUP($AA1019,DATA!$B$3:$E1019,3,0)","v":"06:30:00"},{"$f":"VLOOKUP($AA1019,DATA!$B$3:$E1019,4,0)","v":3.125E-2},0.30208333333333326,0.30208333333333326,{"$f":"DATA!$C$9","v":0.89},{"$f":"DATA!$C$10","v":64},1,407.81249999999989,407.81249999999989,0,"","",0,"","",0,"","","","",null,{"$f":"X1024","v":49},null,{"$f":"TEXT(Y1017,\"ddd\")","v":"di"},"ND",{"$f":"IFERROR(HLOOKUP(Y1017,[1]DATA!$A$1:$NB$5,5,0),\"\")","v":"D2"},null,null,null,null,{"$f":"VLOOKUP(Y1017,[1]SRM!$S$4:$AA$368,8,0)","v":0},"","",""]
["49woDD",{"$f":"VLOOKUP($AA1020,DATA!$B$3:$E1020,2,0)","v":"06:30:00"},{"$f":"VLOOKUP($AA1020,DATA!$B$3:$E1020,3,0)","v":"14:30:00"},{"$f":"VLOOKUP($AA1020,DATA!$B$3:$E1020,4,0)","v":3.125E-2},0.30208333333333331,0.30208333333333331,{"$f":"DATA!$C$9","v":0.89},{"$f":"DATA!$C$10","v":64},1,407.8125,407.8125,0,"","",0,"","",0,"","","","",null,{"$f":"X1024","v":49},"2018-12-05",{"$f":"TEXT(Y1020,\"ddd\")","v":"wo"},"DD",{"$f":"IFERROR(HLOOKUP(Y1020,[1]DATA!$A$1:$NB$5,3,0),\"\")","v":"D1"},null,null,null,null,{"$f":"VLOOKUP(Y1020,[1]SRM!$S$4:$AA$368,6,0)","v":0},"","",""]
["49woMD",{"$f":"VLOOKUP($AA1021,DATA!$B$3:$E1021,2,0)","v":"14:30:00"},{"$f":"VLOOKUP($AA1021,DATA!$B$3:$E1021,3,0)","v":"22:30:00"},{"$f":"VLOOKUP($AA1021,DATA!$B$3:$E1021,4,0)","v":3.125E-2},0.30208333333333337,0.30208333333333337,{"$f":"DATA!$C$9","v":0.89},{"$f":"DATA!$C$10","v":64},1,407.81250000000006,407.81250000000006,0,"","",0,"","",0,"","","","",null,{"$f":"X1024","v":49},null,{"$f":"TEXT(Y1020,\"ddd\")","v":"wo"},"MD",{"$f":"IFERROR(HLOOKUP(Y1020,[1]DATA!$A$1:$NB$5,4,0),\"\")","v":"D3"},null,null,null,null,{"$f":"VLOOKUP(Y1020,[1]SRM!$S$4:$AA$368,7,0)","v":0},"","",""]
["49woND",{"$f":"VLOOKUP($AA1022,DATA!$B$3:$E1022,2,0)","v":"22:30:00"},{"$f":"VLOOKUP($AA1022,DATA!$B$3:$E1022,3,0)","v":"06:30:00"},{"$f":"VLOOKUP($AA1022,DATA!$B$3:$E1022,4,0)","v":3.125E-2},0.30208333333333326,0.30208333333333326,{"$f":"DATA!$C$9","v":0.89},{"$f":"DATA!$C$10","v":64},1,407.81249999999989,407.81249999999989,0,"","",0,"","",0,"","","","",null,{"$f":"X1024","v":49},null,{"$f":"TEXT(Y1020,\"ddd\")","v":"wo"},"ND",{"$f":"IFERROR(HLOOKUP(Y1020,[1]DATA!$A$1:$NB$5,5,0),\"\")","v":"D2"},null,null,null,null,{"$f":"VLOOKUP(Y1020,[1]SRM!$S$4:$AA$368,8,0)","v":0},"","",""]
["49doDD",{"$f":"VLOOKUP($AA1023,DATA!$B$3:$E1023,2,0)","v":"06:30:00"},{"$f":"VLOOKUP($AA1023,DATA!$B$3:$E1023,3,0)","v":"14:30:00"},{"$f":"VLOOKUP($AA1023,DATA!$B$3:$E1023,4,0)","v":3.125E-2},0.30208333333333331,0.30208333333333331,{"$f":"DATA!$C$9","v":0.89},{"$f":"DATA!$C$10","v":64},1,407.8125,407.8125,0,"","",0,"","",0,"","","","",null,{"$f":"X1024","v":49},{"$f":"Y1020+1","v":"2018-12-06"},{"$f":"TEXT(Y1023,\"ddd\")","v":"do"},"DD",{"$f":"IFERROR(HLOOKUP(Y1023,[1]DATA!$A$1:$NB$5,3,0),\"\")","v":"D1"},null,null,null,null,{"$f":"VLOOKUP(Y1023,[1]SRM!$S$4:$AA$368,6,0)","v":0},"","",""]
["49doMD",{"$f":"VLOOKUP($AA1024,DATA!$B$3:$E1024,2,0)","v":"14:30:00"},{"$f":"VLOOKUP($AA1024,DATA!$B$3:$E1024,3,0)","v":"22:30:00"},{"$f":"VLOOKUP($AA1024,DATA!$B$3:$E1024,4,0)","v":3.125E-2},0.30208333333333337,0.30208333333333337,{"$f":"DATA!$C$9","v":0.89},{"$f":"DATA!$C$10","v":64},1,407.81250000000006,407.81250000000006,0,"","",0,"","",0,"","","","",null,{"$f":"WEEKNUM($Y1014)","v":49},null,{"$f":"TEXT(Y1023,\"ddd\")","v":"do"},"MD",{"$f":"IFERROR(HLOOKUP(Y1023,[1]DATA!$A$1:$NB$5,4,0),\"\")","v":"D3"},null,null,null,null,{"$f":"VLOOKUP(Y1023,[1]SRM!$S$4:$AA$368,7,0)","v":0},"","",""]
["49doND",{"$f":"VLOOKUP($AA1025,DATA!$B$3:$E1025,2,0)","v":"22:30:00"},{"$f":"VLOOKUP($AA1025,DATA!$B$3:$E1025,3,0)","v":"06:30:00"},{"$f":"VLOOKUP($AA1025,DATA!$B$3:$E1025,4,0)","v":3.125E-2},0.30208333333333326,0.30208333333333326,{"$f":"DATA!$C$9","v":0.89},{"$f":"DATA!$C$10","v":64},1,407.81249999999989,407.81249999999989,0,"","",0,"","",0,"","","","",null,{"$f":"X1024","v":49},null,{"$f":"TEXT(Y1023,\"ddd\")","v":"do"},"ND",{"$f":"IFERROR(HLOOKUP(Y1023,[1]DATA!$A$1:$NB$5,5,0),\"\")","v":"D2"},null,null,null,null,{"$f":"VLOOKUP(Y1023,[1]SRM!$S$4:$AA$368,8,0)","v":0},"","",""]
["49vrDD",{"$f":"VLOOKUP($AA1026,DATA!$B$3:$E1026,2,0)","v":"06:30:00"},{"$f":"VLOOKUP($AA1026,DATA!$B$3:$E1026,3,0)","v":"14:30:00"},{"$f":"VLOOKUP($AA1026,DATA!$B$3:$E1026,4,0)","v":3.125E-2},0.30208333333333331,0.30208333333333331,{"$f":"DATA!$C$9","v":0.89},{"$f":"DATA!$C$10","v":64},1,407.8125,407.8125,0,"","",0,"","",0,"","","","",null,{"$f":"X1024","v":49},"2018-12-07",{"$f":"TEXT(Y1026,\"ddd\")","v":"vr"},"DD",{"$f":"IFERROR(HLOOKUP(Y1026,[1]DATA!$A$1:$NB$5,3,0),\"\")","v":"D1"},null,null,null,null,{"$f":"VLOOKUP(Y1026,[1]SRM!$S$4:$AA$368,6,0)","v":0},"","",""]
["49vrMD",{"$f":"VLOOKUP($AA1027,DATA!$B$3:$E1027,2,0)","v":"14:30:00"},{"$f":"VLOOKUP($AA1027,DATA!$B$3:$E1027,3,0)","v":"22:30:00"},{"$f":"VLOOKUP($AA1027,DATA!$B$3:$E1027,4,0)","v":3.125E-2},0.30208333333333337,0.30208333333333337,{"$f":"DATA!$C$9","v":0.89},{"$f":"DATA!$C$10","v":64},1,407.81250000000006,407.81250000000006,0,"","",0,"","",0,"","","","",null,{"$f":"X1024","v":49},null,{"$f":"TEXT(Y1026,\"ddd\")","v":"vr"},"MD",{"$f":"IFERROR(HLOOKUP(Y1026,[1]DATA!$A$1:$NB$5,4,0),\"\")","v":"D3"},null,null,null,null,{"$f":"VLOOKUP(Y1026,[1]SRM!$S$4:$AA$368,7,0)","v":0},"","",""]
["49vrND",{"$f":"VLOOKUP($AA1028,DATA!$B$3:$E1028,2,0)","v":"22:30:00"},{"$f":"VLOOKUP($AA1028,DATA!$B$3:$E1028,3,0)","v":"06:30:00"},{"$f":"VLOOKUP($AA1028,DATA!$B$3:$E1028,4,0)","v":3.125E-2},0.30208333333333326,0.30208333333333326,{"$f":"DATA!$C$9","v":0.89},{"$f":"DATA!$C$10","v":64},1,407.81249999999989,407.81249999999989,0,"","",0,"","",0,"","","","",null,{"$f":"X1024","v":49},null,{"$f":"TEXT(Y1026,\"ddd\")","v":"vr"},"ND",{"$f":"IFERROR(HLOOKUP(Y1026,[1]DATA!$A$1:$NB$5,5,0),\"\")","v":"D2"},null,null,null,null,{"$f":"VLOOKUP(Y1026,[1]SRM!$S$4:$AA$368,8,0)","v":0},"","",""]
["49zaDD",{"$f":"VLOOKUP($AA1029,DATA!$B$3:$E1029,2,0)","v":"06:30:00"},{"$f":"VLOOKUP($AA1029,DATA!$B$3:$E1029,3,0)","v":"14:30:00"},{"$f":"VLOOKUP($AA1029,DATA!$B$3:$E1029,4,0)","v":3.125E-2},0.30208333333333331,0.30208333333333331,{"$f":"DATA!$C$9","v":0.89},{"$f":"DATA!$C$10","v":64},1,407.8125,407.8125,0,"","",0,"","",0,"","","","",null,{"$f":"X1024","v":49},"2018-12-08",{"$f":"TEXT(Y1029,\"ddd\")","v":"za"},"DD",{"$f":"IFERROR(HLOOKUP(Y1029,[1]DATA!$A$1:$NB$5,3,0),\"\")","v":"D1"},null,null,null,null,{"$f":"VLOOKUP(Y1029,[1]SRM!$S$4:$AA$368,6,0)","v":0},"","",""]
["49zaMD",{"$f":"VLOOKUP($AA1030,DATA!$B$3:$E1030,2,0)","v":"14:30:00"},{"$f":"VLOOKUP($AA1030,DATA!$B$3:$E1030,3,0)","v":"22:30:00"},{"$f":"VLOOKUP($AA1030,DATA!$B$3:$E1030,4,0)","v":3.125E-2},0.30208333333333337,0.30208333333333337,{"$f":"DATA!$C$9","v":0.89},{"$f":"DATA!$C$10","v":64},1,407.81250000000006,407.81250000000006,0,"","",0,"","",0,"","","","",null,{"$f":"X1024","v":49},null,{"$f":"TEXT(Y1029,\"ddd\")","v":"za"},"MD",{"$f":"IFERROR(HLOOKUP(Y1029,[1]DATA!$A$1:$NB$5,4,0),\"\")","v":"-"},null,null,null,null,{"$f":"VLOOKUP(Y1029,[1]SRM!$S$4:$AA$368,7,0)","v":0},{"$f":"IFERROR(S1030-J1030,\"\")","v":""},{"$f":"IFERROR(IF(S1030/(E1030*86400/H1030)<=0,\"\",S1030/(E1030*86400/H1030)),\"\")","v":""},""]
["49zaND",{"$f":"VLOOKUP($AA1031,DATA!$B$3:$E1031,2,0)","v":"22:30:00"},{"$f":"VLOOKUP($AA1031,DATA!$B$3:$E1031,3,0)","v":"06:30:00"},{"$f":"VLOOKUP($AA1031,DATA!$B$3:$E1031,4,0)","v":3.125E-2},0.30208333333333326,0.30208333333333326,{"$f":"DATA!$C$9","v":0.89},{"$f":"DATA!$C$10","v":64},1,407.81249999999989,407.81249999999989,{"$f":"TIME(INT($AC1031/60),INT(MOD($AC1031,60)/1),0)","v":0},{"$f":"IF($L1031*86400/$H1031=0,\"\",$L1031*86400/$H1031)","v":""},{"$f":"IFERROR($M1031/$K1031,\"\")","v":""},0,"",{"$f":"IFERROR($P1031/$K1031,\"\")","v":""},0,"",{"$f":"IF(IF($AB1031=\"D1\",$S1031,\"\")=0,\"\",IF($AB1031=\"D1\",$S1031,\"\"))","v":""},{"$f":"IF(IF($AB1031=\"D2\",$S1031,\"\")=0,\"\",IF($AB1031=\"D2\",$S1031,\"\"))","v":""},{"$f":"IF(IF($AB1031=\"D3\",$S1031,\"\")=0,\"\",IF($AB1031=\"D3\",$S1031,\"\"))","v":""},null,{"$f":"X1024","v":49},null,{"$f":"TEXT(Y1029,\"ddd\")","v":"za"},"ND",{"$f":"IFERROR(HLOOKUP(Y1029,[1]DATA!$A$1:$NB$5,5,0),\"\")","v":"-"},null,null,null,null,{"$f":"VLOOKUP(Y1029,[1]SRM!$S$4:$AA$368,8,0)","v":0},"","",""]
["49zoDD",{"$f":"VLOOKUP($AA1032,DATA!$B$3:$E1032,2,0)","v":"06:30:00"},{"$f":"VLOOKUP($AA1032,DATA!$B$3:$E1032,3,0)","v":"14:30:00"},{"$f":"VLOOKUP($AA1032,DATA!$B$3:$E1032,4,0)","v":3.125E-2},0.30208333333333331,0.30208333333333331,{"$f":"DATA!$C$9","v":0.89},{"$f":"DATA!$C$10","v":64},1,407.8125,407.8125,0,"","",0,"","",0,"","","","",null,{"$f":"X1024","v":49},"2018-12-09",{"$f":"TEXT(Y1032,\"ddd\")","v":"zo"},"DD",{"$f":"IFERROR(HLOOKUP(Y1032,[1]DATA!$A$1:$NB$5,3,0),\"\")","v":"-"},null,null,null,null,{"$f":"VLOOKUP(Y1032,[1]SRM!$S$4:$AA$368,6,0)","v":0},"","",""]
["49zoMD",{"$f":"VLOOKUP($AA1033,DATA!$B$3:$E1033,2,0)","v":"14:30:00"},{"$f":"VLOOKUP($AA1033,DATA!$B$3:$E1033,3,0)","v":"22:30:00"},{"$f":"VLOOKUP($AA1033,DATA!$B$3:$E1033,4,0)","v":3.125E-2},0.30208333333333337,0.30208333333333337,{"$f":"DATA!$C$9","v":0.89},{"$f":"DATA!$C$10","v":64},1,407.81250000000006,407.81250000000006,0,"","",0,"","",0,"","","","",null,{"$f":"X1024","v":49},null,{"$f":"TEXT(Y1032,\"ddd\")","v":"zo"},"MD",{"$f":"IFERROR(HLOOKUP(Y1032,[1]DATA!$A$1:$NB$5,4,0),\"\")","v":"-"},null,null,null,null,{"$f":"VLOOKUP(Y1032,[1]SRM!$S$4:$AA$368,7,0)","v":0},"","",""]
["49zoZND",{"$f":"VLOOKUP($AA1034,DATA!$B$3:$E1034,2,0)","v":"00:00:00"},{"$f":"VLOOKUP($AA1034,DATA!$B$3:$E1034,3,0)","v":"00:00:00"},{"$f":"VLOOKUP($AA1034,DATA!$B$3:$E1034,4,0)","v":0},0,0,{"$f":"DATA!$C$9","v":0.89},{"$f":"DATA!$C$10","v":64},1,0,0,0,"","",0,"","",0,"","","","",null,{"$f":"X1024","v":49},null,{"$f":"TEXT(Y1032,\"ddd\")","v":"zo"},"ZND",{"$f":"IFERROR(HLOOKUP(Y1032,[1]DATA!$A$1:$NB$5,5,0),\"\")","v":"-"},null,null,null,null,{"$f":"VLOOKUP(Y1032,[1]SRM!$S$4:$AA$368,8,0)","v":0},"","",""]
["50maDD",{"$f":"VLOOKUP($AA1035,DATA!$B$3:$E1035,2,0)","v":"06:30:00"},{"$f":"VLOOKUP($AA1035,DATA!$B$3:$E1035,3,0)","v":"14:30:00"},{"$f":"VLOOKUP($AA1035,DATA!$B$3:$E1035,4,0)","v":3.125E-2},0.30208333333333331,0.30208333333333331,{"$f":"DATA!$C$9","v":0.89},{"$f":"DATA!$C$10","v":64},1,407.8125,407.8125,0,"","",{"$f":"TIME(INT($AD1035/60),INT(MOD($AD1035,60)/1),0)","v":0},"","",0,"","","","",null,{"$f":"X1045","v":50},"2018-12-10",{"$f":"TEXT(Y1035,\"ddd\")","v":"ma"},"DD",{"$f":"IFERROR(HLOOKUP(Y1035,[1]DATA!$A$1:$NB$5,3,0),\"\")","v":"D3"},null,null,null,null,{"$f":"VLOOKUP(Y1035,[1]SRM!$S$4:$AA$368,6,0)","v":0},"","","",{"$f":"IF(SUMIF(S1035:S1055,\">0\",K1035:K1055)=0,\"\",SUMIF(S1035:S1055,\">0\",K1035:K1055))","v":""},{"$f":"IF(SUM(S1035:S1055)=0,\"\",SUM(S1035:S1055))","v":""},{"$f":"IFERROR(AL1035/AK1035,\"-\")","v":"-"},{"$f":"IF(SUM(M1035:M1055)=0,\"0\",SUM(M1035:M1055))","v":"0"},{"$f":"IFERROR(AN1035/AK1035,\"-\")","v":"-"},{"$f":"IF(SUM(P1035:P1055)=0,0,SUM(P1035:P1055))","v":0},{"$f":"IFERROR(AP1035/AK1035,\"-\")","v":"-"},"-",{"$f":"IFERROR(SUMIF($AB1035:$AB1055,AS$5,$AJ1035:$AJ1055)/COUNTIFS($AB1035:$AB1055,AS$5,$AJ1035:$AJ1055,\">0\"),\"\")","v":""},"","",{"$f":"IFERROR((AK1035-AL1035-AN1035-AP1035),\"-\")","v":"-"},{"$f":"IFERROR((1-AM1035-AO1035-AQ1035), \"-\")","v":"-"},{"$f":"IFERROR((AV1035*$AE$2)/60,\"-\")","v":"-"},{"$f":"IFERROR(SUM(AG1035:AG1055),\"\")","v":0}]
["50maMD",{"$f":"VLOOKUP($AA1036,DATA!$B$3:$E1036,2,0)","v":"14:30:00"},{"$f":"VLOOKUP($AA1036,DATA!$B$3:$E1036,3,0)","v":"22:30:00"},{"$f":"VLOOKUP($AA1036,DATA!$B$3:$E1036,4,0)","v":3.125E-2},0.30208333333333337,0.30208333333333337,{"$f":"DATA!$C$9","v":0.89},{"$f":"DATA!$C$10","v":64},1,407.81250000000006,407.81250000000006,0,"","",{"$f":"TIME(INT(AD1036/60),INT(MOD(AD1036,60)/1),0)","v":0},"","",0,"","","","",null,{"$f":"X1045","v":50},null,{"$f":"TEXT(Y1035,\"ddd\")","v":"ma"},"MD",{"$f":"IFERROR(HLOOKUP(Y1035,[1]DATA!$A$1:$NB$5,4,0),\"\")","v":"D2"},null,null,null,null,{"$f":"VLOOKUP(Y1035,[1]SRM!$S$4:$AA$368,7,0)","v":0},"","",""]
["50maND",{"$f":"VLOOKUP($AA1037,DATA!$B$3:$E1037,2,0)","v":"22:30:00"},{"$f":"VLOOKUP($AA1037,DATA!$B$3:$E1037,3,0)","v":"06:30:00"},{"$f":"VLOOKUP($AA1037,DATA!$B$3:$E1037,4,0)","v":3.125E-2},0.30208333333333326,0.30208333333333326,{"$f":"DATA!$C$9","v":0.89},{"$f":"DATA!$C$10","v":64},1,407.81249999999989,407.81249999999989,0,"","",0,"","",0,"","","","",null,{"$f":"X1045","v":50},null,{"$f":"TEXT(Y1035,\"ddd\")","v":"ma"},"ND",{"$f":"IFERROR(HLOOKUP(Y1035,[1]DATA!$A$1:$NB$5,5,0),\"\")","v":"D1"},null,null,null,null,{"$f":"VLOOKUP(Y1035,[1]SRM!$S$4:$AA$368,8,0)","v":0},"","",""]
["50diDD",{"$f":"VLOOKUP($AA1038,DATA!$B$3:$E1038,2,0)","v":"06:30:00"},{"$f":"VLOOKUP($AA1038,DATA!$B$3:$E1038,3,0)","v":"14:30:00"},{"$f":"VLOOKUP($AA1038,DATA!$B$3:$E1038,4,0)","v":3.125E-2},0.30208333333333331,0.30208333333333331,{"$f":"DATA!$C$9","v":0.89},{"$f":"DATA!$C$10","v":64},1,407.8125,407.8125,0,"","",0,"","",0,"","","","",null,{"$f":"X1045","v":50},"2018-12-11",{"$f":"TEXT(Y1038,\"ddd\")","v":"di"},"DD",{"$f":"IFERROR(HLOOKUP(Y1038,[1]DATA!$A$1:$NB$5,3,0),\"\")","v":"D3"},null,null,null,null,{"$f":"VLOOKUP(Y1038,[1]SRM!$S$4:$AA$368,6,0)","v":0},"","",""]
["50diMD",{"$f":"VLOOKUP($AA1039,DATA!$B$3:$E1039,2,0)","v":"14:30:00"},{"$f":"VLOOKUP($AA1039,DATA!$B$3:$E1039,3,0)","v":"22:30:00"},{"$f":"VLOOKUP($AA1039,DATA!$B$3:$E1039,4,0)","v":3.125E-2},0.30208333333333337,0.30208333333333337,{"$f":"DATA!$C$9","v":0.89},{"$f":"DATA!$C$10","v":64},1,407.81250000000006,407.81250000000006,0,"","",0,"","",0,"","","","",null,{"$f":"X1045","v":50},null,{"$f":"TEXT(Y1038,\"ddd\")","v":"di"},"MD",{"$f":"IFERROR(HLOOKUP(Y1038,[1]DATA!$A$1:$NB$5,4,0),\"\")","v":"D2"},null,null,null,null,{"$f":"VLOOKUP(Y1038,[1]SRM!$S$4:$AA$368,7,0)","v":0},"","",""]
["50diND",{"$f":"VLOOKUP($AA1040,DATA!$B$3:$E1040,2,0)","v":"22:30:00"},{"$f":"VLOOKUP($AA1040,DATA!$B$3:$E1040,3,0)","v":"06:30:00"},{"$f":"VLOOKUP($AA1040,DATA!$B$3:$E1040,4,0)","v":3.125E-2},0.30208333333333326,0.30208333333333326,{"$f":"DATA!$C$9","v":0.89},{"$f":"DATA!$C$10","v":64},1,407.81249999999989,407.81249999999989,0,"","",0,"","",0,"","","","",null,{"$f":"X1045","v":50},null,{"$f":"TEXT(Y1038,\"ddd\")","v":"di"},"ND",{"$f":"IFERROR(HLOOKUP(Y1038,[1]DATA!$A$1:$NB$5,5,0),\"\")","v":"D1"},null,null,null,null,{"$f":"VLOOKUP(Y1038,[1]SRM!$S$4:$AA$368,8,0)","v":0},"","",""]
["50woDD",{"$f":"VLOOKUP($AA1041,DATA!$B$3:$E1041,2,0)","v":"06:30:00"},{"$f":"VLOOKUP($AA1041,DATA!$B$3:$E1041,3,0)","v":"14:30:00"},{"$f":"VLOOKUP($AA1041,DATA!$B$3:$E1041,4,0)","v":3.125E-2},0.30208333333333331,0.30208333333333331,{"$f":"DATA!$C$9","v":0.89},{"$f":"DATA!$C$10","v":64},1,407.8125,407.8125,0,"","",0,"","",0,"","","","",null,{"$f":"X1045","v":50},"2018-12-12",{"$f":"TEXT(Y1041,\"ddd\")","v":"wo"},"DD",{"$f":"IFERROR(HLOOKUP(Y1041,[1]DATA!$A$1:$NB$5,3,0),\"\")","v":"D3"},null,null,null,null,{"$f":"VLOOKUP(Y1041,[1]SRM!$S$4:$AA$368,6,0)","v":0},"","",""]
["50woMD",{"$f":"VLOOKUP($AA1042,DATA!$B$3:$E1042,2,0)","v":"14:30:00"},{"$f":"VLOOKUP($AA1042,DATA!$B$3:$E1042,3,0)","v":"22:30:00"},{"$f":"VLOOKUP($AA1042,DATA!$B$3:$E1042,4,0)","v":3.125E-2},0.30208333333333337,0.30208333333333337,{"$f":"DATA!$C$9","v":0.89},{"$f":"DATA!$C$10","v":64},1,407.81250000000006,407.81250000000006,0,"","",0,"","",0,"","","","",null,{"$f":"X1045","v":50},null,{"$f":"TEXT(Y1041,\"ddd\")","v":"wo"},"MD",{"$f":"IFERROR(HLOOKUP(Y1041,[1]DATA!$A$1:$NB$5,4,0),\"\")","v":"D2"},null,null,null,null,{"$f":"VLOOKUP(Y1041,[1]SRM!$S$4:$AA$368,7,0)","v":0},"","",""]
["50woND",{"$f":"VLOOKUP($AA1043,DATA!$B$3:$E1043,2,0)","v":"22:30:00"},{"$f":"VLOOKUP($AA1043,DATA!$B$3:$E1043,3,0)","v":"06:30:00"},{"$f":"VLOOKUP($AA1043,DATA!$B$3:$E1043,4,0)","v":3.125E-2},0.30208333333333326,0.30208333333333326,{"$f":"DATA!$C$9","v":0.89},{"$f":"DATA!$C$10","v":64},1,407.81249999999989,407.81249999999989,0,"","",0,"","",0,"","","","",null,{"$f":"X1045","v":50},null,{"$f":"TEXT(Y1041,\"ddd\")","v":"wo"},"ND",{"$f":"IFERROR(HLOOKUP(Y1041,[1]DATA!$A$1:$NB$5,5,0),\"\")","v":"D1"},null,null,null,null,{"$f":"VLOOKUP(Y1041,[1]SRM!$S$4:$AA$368,8,0)","v":0},"","",""]
["50doDD",{"$f":"VLOOKUP($AA1044,DATA!$B$3:$E1044,2,0)","v":"06:30:00"},{"$f":"VLOOKUP($AA1044,DATA!$B$3:$E1044,3,0)","v":"14:30:00"},{"$f":"VLOOKUP($AA1044,DATA!$B$3:$E1044,4,0)","v":3.125E-2},0.30208333333333331,0.30208333333333331,{"$f":"DATA!$C$9","v":0.89},{"$f":"DATA!$C$10","v":64},1,407.8125,407.8125,0,"","",0,"","",0,"","","","",null,{"$f":"X1045","v":50},"2018-12-13",{"$f":"TEXT(Y1044,\"ddd\")","v":"do"},"DD",{"$f":"IFERROR(HLOOKUP(Y1044,[1]DATA!$A$1:$NB$5,3,0),\"\")","v":"D3"},null,null,null,null,{"$f":"VLOOKUP(Y1044,[1]SRM!$S$4:$AA$368,6,0)","v":0},"","",""]
["50doMD",{"$f":"VLOOKUP($AA1045,DATA!$B$3:$E1045,2,0)","v":"14:30:00"},{"$f":"VLOOKUP($AA1045,DATA!$B$3:$E1045,3,0)","v":"22:30:00"},{"$f":"VLOOKUP($AA1045,DATA!$B$3:$E1045,4,0)","v":3.125E-2},0.30208333333333337,0.30208333333333337,{"$f":"DATA!$C$9","v":0.89},{"$f":"DATA!$C$10","v":64},1,407.81250000000006,407.81250000000006,0,"","",0,"","",0,"","","","",null,{"$f":"WEEKNUM($Y1035)","v":50},null,{"$f":"TEXT(Y1044,\"ddd\")","v":"do"},"MD",{"$f":"IFERROR(HLOOKUP(Y1044,[1]DATA!$A$1:$NB$5,4,0),\"\")","v":"D2"},null,null,null,null,{"$f":"VLOOKUP(Y1044,[1]SRM!$S$4:$AA$368,7,0)","v":0},"","",""]
["50doND",{"$f":"VLOOKUP($AA1046,DATA!$B$3:$E1046,2,0)","v":"22:30:00"},{"$f":"VLOOKUP($AA1046,DATA!$B$3:$E1046,3,0)","v":"06:30:00"},{"$f":"VLOOKUP($AA1046,DATA!$B$3:$E1046,4,0)","v":3.125E-2},0.30208333333333326,0.30208333333333326,{"$f":"DATA!$C$9","v":0.89},{"$f":"DATA!$C$10","v":64},1,407.81249999999989,407.81249999999989,0,"","",0,"","",0,"","","","",null,{"$f":"X1045","v":50},null,{"$f":"TEXT(Y1044,\"ddd\")","v":"do"},"ND",{"$f":"IFERROR(HLOOKUP(Y1044,[1]DATA!$A$1:$NB$5,5,0),\"\")","v":"D1"},null,null,null,null,{"$f":"VLOOKUP(Y1044,[1]SRM!$S$4:$AA$368,8,0)","v":0},"","",""]
["50vrDD",{"$f":"VLOOKUP($AA1047,DATA!$B$3:$E1047,2,0)","v":"06:30:00"},{"$f":"VLOOKUP($AA1047,DATA!$B$3:$E1047,3,0)","v":"14:30:00"},{"$f":"VLOOKUP($AA1047,DATA!$B$3:$E1047,4,0)","v":3.125E-2},0.30208333333333331,0.30208333333333331,{"$f":"DATA!$C$9","v":0.89},{"$f":"DATA!$C$10","v":64},1,407.8125,407.8125,0,"","",0,"","",0,"","","","",null,{"$f":"X1045","v":50},"2018-12-14",{"$f":"TEXT(Y1047,\"ddd\")","v":"vr"},"DD",{"$f":"IFERROR(HLOOKUP(Y1047,[1]DATA!$A$1:$NB$5,3,0),\"\")","v":"D3"},null,null,null,null,{"$f":"VLOOKUP(Y1047,[1]SRM!$S$4:$AA$368,6,0)","v":0},"","",""]
["50vrMD",{"$f":"VLOOKUP($AA1048,DATA!$B$3:$E1048,2,0)","v":"14:30:00"},{"$f":"VLOOKUP($AA1048,DATA!$B$3:$E1048,3,0)","v":"22:30:00"},{"$f":"VLOOKUP($AA1048,DATA!$B$3:$E1048,4,0)","v":3.125E-2},0.30208333333333337,0.30208333333333337,{"$f":"DATA!$C$9","v":0.89},{"$f":"DATA!$C$10","v":64},1,407.81250000000006,407.81250000000006,0,"","",0,"","",0,"","","","",null,{"$f":"X1045","v":50},null,{"$f":"TEXT(Y1047,\"ddd\")","v":"vr"},"MD",{"$f":"IFERROR(HLOOKUP(Y1047,[1]DATA!$A$1:$NB$5,4,0),\"\")","v":"D2"},null,null,null,null,{"$f":"VLOOKUP(Y1047,[1]SRM!$S$4:$AA$368,7,0)","v":0},"","",""]
["50vrND",{"$f":"VLOOKUP($AA1049,DATA!$B$3:$E1049,2,0)","v":"22:30:00"},{"$f":"VLOOKUP($AA1049,DATA!$B$3:$E1049,3,0)","v":"06:30:00"},{"$f":"VLOOKUP($AA1049,DATA!$B$3:$E1049,4,0)","v":3.125E-2},0.30208333333333326,0.30208333333333326,{"$f":"DATA!$C$9","v":0.89},{"$f":"DATA!$C$10","v":64},1,407.81249999999989,407.81249999999989,0,"","",0,"","",0,"","","","",null,{"$f":"X1045","v":50},null,{"$f":"TEXT(Y1047,\"ddd\")","v":"vr"},"ND",{"$f":"IFERROR(HLOOKUP(Y1047,[1]DATA!$A$1:$NB$5,5,0),\"\")","v":"D2"},null,null,null,null,{"$f":"VLOOKUP(Y1047,[1]SRM!$S$4:$AA$368,8,0)","v":0},"","",""]
["50zaDD",{"$f":"VLOOKUP($AA1050,DATA!$B$3:$E1050,2,0)","v":"06:30:00"},{"$f":"VLOOKUP($AA1050,DATA!$B$3:$E1050,3,0)","v":"14:30:00"},{"$f":"VLOOKUP($AA1050,DATA!$B$3:$E1050,4,0)","v":3.125E-2},0.30208333333333331,0.30208333333333331,{"$f":"DATA!$C$9","v":0.89},{"$f":"DATA!$C$10","v":64},1,407.8125,407.8125,0,"","",0,"","",0,"","","","",null,{"$f":"X1045","v":50},"2018-12-15",{"$f":"TEXT(Y1050,\"ddd\")","v":"za"},"DD",{"$f":"IFERROR(HLOOKUP(Y1050,[1]DATA!$A$1:$NB$5,3,0),\"\")","v":"D3"},null,null,null,null,{"$f":"VLOOKUP(Y1050,[1]SRM!$S$4:$AA$368,6,0)","v":0},"","",""]
["50zaMD",{"$f":"VLOOKUP($AA1051,DATA!$B$3:$E1051,2,0)","v":"14:30:00"},{"$f":"VLOOKUP($AA1051,DATA!$B$3:$E1051,3,0)","v":"22:30:00"},{"$f":"VLOOKUP($AA1051,DATA!$B$3:$E1051,4,0)","v":3.125E-2},0.30208333333333337,0.30208333333333337,{"$f":"DATA!$C$9","v":0.89},{"$f":"DATA!$C$10","v":64},1,407.81250000000006,407.81250000000006,0,"","",0,"","",0,"","","","",null,{"$f":"X1045","v":50},null,{"$f":"TEXT(Y1050,\"ddd\")","v":"za"},"MD",{"$f":"IFERROR(HLOOKUP(Y1050,[1]DATA!$A$1:$NB$5,4,0),\"\")","v":"-"},null,null,null,null,{"$f":"VLOOKUP(Y1050,[1]SRM!$S$4:$AA$368,7,0)","v":0},"","",{"$f":"IFERROR(R1051/(R1051+AG1051),\"\")","v":""}]
["50zaND",{"$f":"VLOOKUP($AA1052,DATA!$B$3:$E1052,2,0)","v":"22:30:00"},{"$f":"VLOOKUP($AA1052,DATA!$B$3:$E1052,3,0)","v":"06:30:00"},{"$f":"VLOOKUP($AA1052,DATA!$B$3:$E1052,4,0)","v":3.125E-2},{"$f":"(C1052-B1052+(B1052>C1052))-D1052","v":0.30208333333333326},{"$f":"E1052-O1052-L1052","v":0.30208333333333326},{"$f":"DATA!$C$9","v":0.89},{"$f":"DATA!$C$10","v":64},1,{"$f":"F1052*86400/H1052*I1052","v":407.81249999999989},{"$f":"E1052*86400/H1052","v":407.81249999999989},0,"","",0,"","",{"$f":"AF1052*AG$2","v":0},{"$f":"IF(AF1052-AE1052=0,\"\",AF1052-AE1052)","v":""},"","","",null,{"$f":"X1045","v":50},null,{"$f":"TEXT(Y1050,\"ddd\")","v":"za"},"ND",{"$f":"IFERROR(HLOOKUP(Y1050,[1]DATA!$A$1:$NB$5,5,0),\"\")","v":"-"},null,null,null,null,{"$f":"VLOOKUP(Y1050,[1]SRM!$S$4:$AA$368,8,0)","v":0},"","",""]
["50zoDD",{"$f":"VLOOKUP($AA1053,DATA!$B$3:$E1053,2,0)","v":"06:30:00"},{"$f":"VLOOKUP($AA1053,DATA!$B$3:$E1053,3,0)","v":"14:30:00"},{"$f":"VLOOKUP($AA1053,DATA!$B$3:$E1053,4,0)","v":3.125E-2},0.30208333333333331,0.30208333333333331,{"$f":"DATA!$C$9","v":0.89},{"$f":"DATA!$C$10","v":64},1,407.8125,407.8125,0,"","",0,"","",0,"","","","",null,{"$f":"X1045","v":50},"2018-12-16",{"$f":"TEXT(Y1053,\"ddd\")","v":"zo"},"DD",{"$f":"IFERROR(HLOOKUP(Y1053,[1]DATA!$A$1:$NB$5,3,0),\"\")","v":"-"},null,null,null,null,{"$f":"VLOOKUP(Y1053,[1]SRM!$S$4:$AA$368,6,0)","v":0},"","",""]
["50zoMD",{"$f":"VLOOKUP($AA1054,DATA!$B$3:$E1054,2,0)","v":"14:30:00"},{"$f":"VLOOKUP($AA1054,DATA!$B$3:$E1054,3,0)","v":"22:30:00"},{"$f":"VLOOKUP($AA1054,DATA!$B$3:$E1054,4,0)","v":3.125E-2},0.30208333333333337,0.30208333333333337,{"$f":"DATA!$C$9","v":0.89},{"$f":"DATA!$C$10","v":64},1,407.81250000000006,407.81250000000006,0,"","",0,"","",0,"","","","",null,{"$f":"X1045","v":50},null,{"$f":"TEXT(Y1053,\"ddd\")","v":"zo"},"MD",{"$f":"IFERROR(HLOOKUP(Y1053,[1]DATA!$A$1:$NB$5,4,0),\"\")","v":"-"},null,null,null,null,{"$f":"VLOOKUP(Y1053,[1]SRM!$S$4:$AA$368,7,0)","v":0},"","",""]
["50zoZND",{"$f":"VLOOKUP($AA1055,DATA!$B$3:$E1055,2,0)","v":"00:00:00"},{"$f":"VLOOKUP($AA1055,DATA!$B$3:$E1055,3,0)","v":"00:00:00"},{"$f":"VLOOKUP($AA1055,DATA!$B$3:$E1055,4,0)","v":0},0,0,{"$f":"DATA!$C$9","v":0.89},{"$f":"DATA!$C$10","v":64},1,0,0,0,"","",0,"","",0,"","","","",null,{"$f":"X1045","v":50},null,{"$f":"TEXT(Y1053,\"ddd\")","v":"zo"},"ZND",{"$f":"IFERROR(HLOOKUP(Y1053,[1]DATA!$A$1:$NB$5,5,0),\"\")","v":"-"},null,null,null,null,{"$f":"VLOOKUP(Y1053,[1]SRM!$S$4:$AA$368,8,0)","v":0},"","",""]
["51maDD",{"$f":"VLOOKUP($AA1056,DATA!$B$3:$E1056,2,0)","v":"06:30:00"},{"$f":"VLOOKUP($AA1056,DATA!$B$3:$E1056,3,0)","v":"14:30:00"},{"$f":"VLOOKUP($AA1056,DATA!$B$3:$E1056,4,0)","v":3.125E-2},0.30208333333333331,0.30208333333333331,{"$f":"DATA!$C$9","v":0.89},{"$f":"DATA!$C$10","v":64},1,407.8125,407.8125,0,"","",{"$f":"TIME(INT($AD1056/60),INT(MOD($AD1056,60)/1),0)","v":0},"","",0,"","","","",null,{"$f":"X1066","v":51},"2018-12-17",{"$f":"TEXT(Y1056,\"ddd\")","v":"ma"},"DD",{"$f":"IFERROR(HLOOKUP(Y1056,[1]DATA!$A$1:$NB$5,3,0),\"\")","v":"D2"},null,null,null,null,{"$f":"VLOOKUP(Y1056,[1]SRM!$S$4:$AA$368,6,0)","v":0},"","","",{"$f":"IF(SUMIF(S1056:S1076,\">0\",K1056:K1076)=0,\"\",SUMIF(S1056:S1076,\">0\",K1056:K1076))","v":""},{"$f":"IF(SUM(S1056:S1076)=0,\"\",SUM(S1056:S1076))","v":""},{"$f":"IFERROR(AL1056/AK1056,\"-\")","v":"-"},{"$f":"IF(SUM(M1056:M1076)=0,\"0\",SUM(M1056:M1076))","v":"0"},{"$f":"IFERROR(AN1056/AK1056,\"-\")","v":"-"},{"$f":"IF(SUM(P1056:P1076)=0,0,SUM(P1056:P1076))","v":0},{"$f":"IFERROR(AP1056/AK1056,\"-\")","v":"-"},{"$f":"IFERROR(AVERAGE(AJ1056:AJ1076),\"-\")","v":"-"},{"$f":"IFERROR(SUMIF($AB1056:$AB1076,AS$5,$AJ1056:$AJ1076)/COUNTIFS($AB1056:$AB1076,AS$5,$AJ1056:$AJ1076,\">0\"),\"\")","v":""},"","",{"$f":"IFERROR((AK1056-AL1056-AN1056-AP1056),\"-\")","v":"-"},{"$f":"IFERROR((1-AM1056-AO1056-AQ1056), \"-\")","v":"-"},{"$f":"IFERROR((AV1056*$AE$2)/60,\"-\")","v":"-"},{"$f":"IFERROR(SUM(AG1056:AG1076),\"\")","v":0}]
["51maMD",{"$f":"VLOOKUP($AA1057,DATA!$B$3:$E1057,2,0)","v":"14:30:00"},{"$f":"VLOOKUP($AA1057,DATA!$B$3:$E1057,3,0)","v":"22:30:00"},{"$f":"VLOOKUP($AA1057,DATA!$B$3:$E1057,4,0)","v":3.125E-2},0.30208333333333337,0.30208333333333337,{"$f":"DATA!$C$9","v":0.89},{"$f":"DATA!$C$10","v":64},1,407.81250000000006,407.81250000000006,0,"","",{"$f":"TIME(INT(AD1057/60),INT(MOD(AD1057,60)/1),0)","v":0},"","",0,"","","","",null,{"$f":"X1066","v":51},null,{"$f":"TEXT(Y1056,\"ddd\")","v":"ma"},"MD",{"$f":"IFERROR(HLOOKUP(Y1056,[1]DATA!$A$1:$NB$5,4,0),\"\")","v":"D1"},null,null,null,null,{"$f":"VLOOKUP(Y1056,[1]SRM!$S$4:$AA$368,7,0)","v":0},"","",""]
["51maND",{"$f":"VLOOKUP($AA1058,DATA!$B$3:$E1058,2,0)","v":"22:30:00"},{"$f":"VLOOKUP($AA1058,DATA!$B$3:$E1058,3,0)","v":"06:30:00"},{"$f":"VLOOKUP($AA1058,DATA!$B$3:$E1058,4,0)","v":3.125E-2},0.30208333333333326,0.30208333333333326,{"$f":"DATA!$C$9","v":0.89},{"$f":"DATA!$C$10","v":64},1,407.81249999999989,407.81249999999989,0,"","",0,"","",0,"","","","",null,{"$f":"X1066","v":51},null,{"$f":"TEXT(Y1056,\"ddd\")","v":"ma"},"ND",{"$f":"IFERROR(HLOOKUP(Y1056,[1]DATA!$A$1:$NB$5,5,0),\"\")","v":"D3"},null,null,null,null,{"$f":"VLOOKUP(Y1056,[1]SRM!$S$4:$AA$368,8,0)","v":0},"","",""]
["51diDD",{"$f":"VLOOKUP($AA1059,DATA!$B$3:$E1059,2,0)","v":"06:30:00"},{"$f":"VLOOKUP($AA1059,DATA!$B$3:$E1059,3,0)","v":"14:30:00"},{"$f":"VLOOKUP($AA1059,DATA!$B$3:$E1059,4,0)","v":3.125E-2},0.30208333333333331,0.30208333333333331,{"$f":"DATA!$C$9","v":0.89},{"$f":"DATA!$C$10","v":64},1,407.8125,407.8125,0,"","",0,"","",0,"","","","",null,{"$f":"X1066","v":51},"2018-12-18",{"$f":"TEXT(Y1059,\"ddd\")","v":"di"},"DD",{"$f":"IFERROR(HLOOKUP(Y1059,[1]DATA!$A$1:$NB$5,3,0),\"\")","v":"D2"},null,null,null,null,{"$f":"VLOOKUP(Y1059,[1]SRM!$S$4:$AA$368,6,0)","v":0},"","",""]
["51diMD",{"$f":"VLOOKUP($AA1060,DATA!$B$3:$E1060,2,0)","v":"14:30:00"},{"$f":"VLOOKUP($AA1060,DATA!$B$3:$E1060,3,0)","v":"22:30:00"},{"$f":"VLOOKUP($AA1060,DATA!$B$3:$E1060,4,0)","v":3.125E-2},0.30208333333333337,0.30208333333333337,{"$f":"DATA!$C$9","v":0.89},{"$f":"DATA!$C$10","v":64},1,407.81250000000006,407.81250000000006,0,"","",0,"","",0,"","","","",null,{"$f":"X1066","v":51},null,{"$f":"TEXT(Y1059,\"ddd\")","v":"di"},"MD",{"$f":"IFERROR(HLOOKUP(Y1059,[1]DATA!$A$1:$NB$5,4,0),\"\")","v":"D1"},null,null,null,null,{"$f":"VLOOKUP(Y1059,[1]SRM!$S$4:$AA$368,7,0)","v":0},"","",""]
["51diND",{"$f":"VLOOKUP($AA1061,DATA!$B$3:$E1061,2,0)","v":"22:30:00"},{"$f":"VLOOKUP($AA1061,DATA!$B$3:$E1061,3,0)","v":"06:30:00"},{"$f":"VLOOKUP($AA1061,DATA!$B$3:$E1061,4,0)","v":3.125E-2},0.30208333333333326,0.30208333333333326,{"$f":"DATA!$C$9","v":0.89},{"$f":"DATA!$C$10","v":64},1,407.81249999999989,407.81249999999989,0,"","",0,"","",0,"","","","",null,{"$f":"X1066","v":51},null,{"$f":"TEXT(Y1059,\"ddd\")","v":"di"},"ND",{"$f":"IFERROR(HLOOKUP(Y1059,[1]DATA!$A$1:$NB$5,5,0),\"\")","v":"D3"},null,null,null,null,{"$f":"VLOOKUP(Y1059,[1]SRM!$S$4:$AA$368,8,0)","v":0},"","",""]
["51woDD",{"$f":"VLOOKUP($AA1062,DATA!$B$3:$E1062,2,0)","v":"06:30:00"},{"$f":"VLOOKUP($AA1062,DATA!$B$3:$E1062,3,0)","v":"14:30:00"},{"$f":"VLOOKUP($AA1062,DATA!$B$3:$E1062,4,0)","v":3.125E-2},0.30208333333333331,0.30208333333333331,{"$f":"DATA!$C$9","v":0.89},{"$f":"DATA!$C$10","v":64},1,407.8125,407.8125,0,"","",0,"","",0,"","","","",null,{"$f":"X1066","v":51},"2018-12-19",{"$f":"TEXT(Y1062,\"ddd\")","v":"wo"},"DD",{"$f":"IFERROR(HLOOKUP(Y1062,[1]DATA!$A$1:$NB$5,3,0),\"\")","v":"D2"},null,null,null,null,{"$f":"VLOOKUP(Y1062,[1]SRM!$S$4:$AA$368,6,0)","v":0},"","",""]
["51woMD",{"$f":"VLOOKUP($AA1063,DATA!$B$3:$E1063,2,0)","v":"14:30:00"},{"$f":"VLOOKUP($AA1063,DATA!$B$3:$E1063,3,0)","v":"22:30:00"},{"$f":"VLOOKUP($AA1063,DATA!$B$3:$E1063,4,0)","v":3.125E-2},0.30208333333333337,0.30208333333333337,{"$f":"DATA!$C$9","v":0.89},{"$f":"DATA!$C$10","v":64},1,407.81250000000006,407.81250000000006,0,"","",0,"","",0,"","","","",null,{"$f":"X1066","v":51},null,{"$f":"TEXT(Y1062,\"ddd\")","v":"wo"},"MD",{"$f":"IFERROR(HLOOKUP(Y1062,[1]DATA!$A$1:$NB$5,4,0),\"\")","v":"D1"},null,null,null,null,{"$f":"VLOOKUP(Y1062,[1]SRM!$S$4:$AA$368,7,0)","v":0},"","",""]
["51woND",{"$f":"VLOOKUP($AA1064,DATA!$B$3:$E1064,2,0)","v":"22:30:00"},{"$f":"VLOOKUP($AA1064,DATA!$B$3:$E1064,3,0)","v":"06:30:00"},{"$f":"VLOOKUP($AA1064,DATA!$B$3:$E1064,4,0)","v":3.125E-2},0.30208333333333326,0.30208333333333326,{"$f":"DATA!$C$9","v":0.89},{"$f":"DATA!$C$10","v":64},1,407.81249999999989,407.81249999999989,0,"","",0,"","",0,"","","","",null,{"$f":"X1066","v":51},null,{"$f":"TEXT(Y1062,\"ddd\")","v":"wo"},"ND",{"$f":"IFERROR(HLOOKUP(Y1062,[1]DATA!$A$1:$NB$5,5,0),\"\")","v":"D3"},null,null,null,null,{"$f":"VLOOKUP(Y1062,[1]SRM!$S$4:$AA$368,8,0)","v":0},"","",""]
["51doDD",{"$f":"VLOOKUP($AA1065,DATA!$B$3:$E1065,2,0)","v":"06:30:00"},{"$f":"VLOOKUP($AA1065,DATA!$B$3:$E1065,3,0)","v":"14:30:00"},{"$f":"VLOOKUP($AA1065,DATA!$B$3:$E1065,4,0)","v":3.125E-2},0.30208333333333331,0.30208333333333331,{"$f":"DATA!$C$9","v":0.89},{"$f":"DATA!$C$10","v":64},1,407.8125,407.8125,0,"","",0,"","",0,"","","","",null,{"$f":"X1066","v":51},"2018-12-20",{"$f":"TEXT(Y1065,\"ddd\")","v":"do"},"DD",{"$f":"IFERROR(HLOOKUP(Y1065,[1]DATA!$A$1:$NB$5,3,0),\"\")","v":"D2"},null,null,null,null,{"$f":"VLOOKUP(Y1065,[1]SRM!$S$4:$AA$368,6,0)","v":0},"","",""]
["51doMD",{"$f":"VLOOKUP($AA1066,DATA!$B$3:$E1066,2,0)","v":"14:30:00"},{"$f":"VLOOKUP($AA1066,DATA!$B$3:$E1066,3,0)","v":"22:30:00"},{"$f":"VLOOKUP($AA1066,DATA!$B$3:$E1066,4,0)","v":3.125E-2},0.30208333333333337,0.30208333333333337,{"$f":"DATA!$C$9","v":0.89},{"$f":"DATA!$C$10","v":64},1,407.81250000000006,407.81250000000006,0,"","",0,"","",0,"","","","",null,{"$f":"WEEKNUM($Y1056)","v":51},null,{"$f":"TEXT(Y1065,\"ddd\")","v":"do"},"MD",{"$f":"IFERROR(HLOOKUP(Y1065,[1]DATA!$A$1:$NB$5,4,0),\"\")","v":"D1"},null,null,null,null,{"$f":"VLOOKUP(Y1065,[1]SRM!$S$4:$AA$368,7,0)","v":0},"","",""]
["51doND",{"$f":"VLOOKUP($AA1067,DATA!$B$3:$E1067,2,0)","v":"22:30:00"},{"$f":"VLOOKUP($AA1067,DATA!$B$3:$E1067,3,0)","v":"06:30:00"},{"$f":"VLOOKUP($AA1067,DATA!$B$3:$E1067,4,0)","v":3.125E-2},0.30208333333333326,0.30208333333333326,{"$f":"DATA!$C$9","v":0.89},{"$f":"DATA!$C$10","v":64},1,407.81249999999989,407.81249999999989,0,"","",0,"","",0,"","","","",null,{"$f":"X1066","v":51},null,{"$f":"TEXT(Y1065,\"ddd\")","v":"do"},"ND",{"$f":"IFERROR(HLOOKUP(Y1065,[1]DATA!$A$1:$NB$5,5,0),\"\")","v":"D3"},null,null,null,null,{"$f":"VLOOKUP(Y1065,[1]SRM!$S$4:$AA$368,8,0)","v":0},"","",""]
["51vrDD",{"$f":"VLOOKUP($AA1068,DATA!$B$3:$E1068,2,0)","v":"06:30:00"},{"$f":"VLOOKUP($AA1068,DATA!$B$3:$E1068,3,0)","v":"14:30:00"},{"$f":"VLOOKUP($AA1068,DATA!$B$3:$E1068,4,0)","v":3.125E-2},0.30208333333333331,0.30208333333333331,{"$f":"DATA!$C$9","v":0.89},{"$f":"DATA!$C$10","v":64},1,407.8125,407.8125,0,"","",0,"","",0,"","","","",null,{"$f":"X1066","v":51},"2018-12-21",{"$f":"TEXT(Y1068,\"ddd\")","v":"vr"},"DD",{"$f":"IFERROR(HLOOKUP(Y1068,[1]DATA!$A$1:$NB$5,3,0),\"\")","v":"D2"},null,null,null,null,{"$f":"VLOOKUP(Y1068,[1]SRM!$S$4:$AA$368,6,0)","v":0},"","",""]
["51vrMD",{"$f":"VLOOKUP($AA1069,DATA!$B$3:$E1069,2,0)","v":"14:30:00"},{"$f":"VLOOKUP($AA1069,DATA!$B$3:$E1069,3,0)","v":"22:30:00"},{"$f":"VLOOKUP($AA1069,DATA!$B$3:$E1069,4,0)","v":3.125E-2},0.30208333333333337,0.30208333333333337,{"$f":"DATA!$C$9","v":0.89},{"$f":"DATA!$C$10","v":64},1,407.81250000000006,407.81250000000006,0,"","",0,"","",0,"","","","",null,{"$f":"X1066","v":51},null,{"$f":"TEXT(Y1068,\"ddd\")","v":"vr"},"MD",{"$f":"IFERROR(HLOOKUP(Y1068,[1]DATA!$A$1:$NB$5,4,0),\"\")","v":"D1"},null,null,null,null,{"$f":"VLOOKUP(Y1068,[1]SRM!$S$4:$AA$368,7,0)","v":0},"","",""]
["51vrND",{"$f":"VLOOKUP($AA1070,DATA!$B$3:$E1070,2,0)","v":"22:30:00"},{"$f":"VLOOKUP($AA1070,DATA!$B$3:$E1070,3,0)","v":"06:30:00"},{"$f":"VLOOKUP($AA1070,DATA!$B$3:$E1070,4,0)","v":3.125E-2},0.30208333333333326,0.30208333333333326,{"$f":"DATA!$C$9","v":0.89},{"$f":"DATA!$C$10","v":64},1,407.81249999999989,407.81249999999989,0,"","",0,"","",0,"","","","",null,{"$f":"X1066","v":51},null,{"$f":"TEXT(Y1068,\"ddd\")","v":"vr"},"ND",{"$f":"IFERROR(HLOOKUP(Y1068,[1]DATA!$A$1:$NB$5,5,0),\"\")","v":"D3"},null,null,null,null,{"$f":"VLOOKUP(Y1068,[1]SRM!$S$4:$AA$368,8,0)","v":0},"","",""]
["51zaDD",{"$f":"VLOOKUP($AA1071,DATA!$B$3:$E1071,2,0)","v":"06:30:00"},{"$f":"VLOOKUP($AA1071,DATA!$B$3:$E1071,3,0)","v":"14:30:00"},{"$f":"VLOOKUP($AA1071,DATA!$B$3:$E1071,4,0)","v":3.125E-2},0.30208333333333331,0.30208333333333331,{"$f":"DATA!$C$9","v":0.89},{"$f":"DATA!$C$10","v":64},1,407.8125,407.8125,0,"","",0,"","",0,"","","","",null,{"$f":"X1066","v":51},"2018-12-22",{"$f":"TEXT(Y1071,\"ddd\")","v":"za"},"DD",{"$f":"IFERROR(HLOOKUP(Y1071,[1]DATA!$A$1:$NB$5,3,0),\"\")","v":"D2"},null,null,null,null,{"$f":"VLOOKUP(Y1071,[1]SRM!$S$4:$AA$368,6,0)","v":0},"","",""]
[{"$f":"X1072&Z1072&AA1072","v":"51zaMD"},{"$f":"VLOOKUP($AA1072,DATA!$B$3:$E1072,2,0)","v":"14:30:00"},{"$f":"VLOOKUP($AA1072,DATA!$B$3:$E1072,3,0)","v":"22:30:00"},{"$f":"VLOOKUP($AA1072,DATA!$B$3:$E1072,4,0)","v":3.125E-2},0.30208333333333337,0.30208333333333337,{"$f":"DATA!$C$9","v":0.89},{"$f":"DATA!$C$10","v":64},1,407.81250000000006,407.81250000000006,0,"","",0,{"$f":"IF($O1072*86400/$H1072=0,\"\",$O1072*86400/$H1072)","v":""},"",0,"","","","",null,{"$f":"X1066","v":51},null,{"$f":"TEXT(Y1071,\"ddd\")","v":"za"},"MD",{"$f":"IFERROR(HLOOKUP(Y1071,[1]DATA!$A$1:$NB$5,4,0),\"\")","v":"-"},null,null,null,null,{"$f":"VLOOKUP(Y1071,[1]SRM!$S$4:$AA$368,7,0)","v":0},"","",""]
["51zaND",{"$f":"VLOOKUP($AA1073,DATA!$B$3:$E1073,2,0)","v":"22:30:00"},{"$f":"VLOOKUP($AA1073,DATA!$B$3:$E1073,3,0)","v":"06:30:00"},{"$f":"VLOOKUP($AA1073,DATA!$B$3:$E1073,4,0)","v":3.125E-2},0.30208333333333326,0.30208333333333326,{"$f":"DATA!$C$9","v":0.89},{"$f":"DATA!$C$10","v":64},1,407.81249999999989,407.81249999999989,0,"","",0,"","",0,"","","","",null,{"$f":"X1066","v":51},null,{"$f":"TEXT(Y1071,\"ddd\")","v":"za"},"ND",{"$f":"IFERROR(HLOOKUP(Y1071,[1]DATA!$A$1:$NB$5,5,0),\"\")","v":"-"},null,null,null,null,{"$f":"VLOOKUP(Y1071,[1]SRM!$S$4:$AA$368,8,0)","v":0},"","",""]
["51zoDD",{"$f":"VLOOKUP($AA1074,DATA!$B$3:$E1074,2,0)","v":"06:30:00"},{"$f":"VLOOKUP($AA1074,DATA!$B$3:$E1074,3,0)","v":"14:30:00"},{"$f":"VLOOKUP($AA1074,DATA!$B$3:$E1074,4,0)","v":3.125E-2},0.30208333333333331,0.30208333333333331,{"$f":"DATA!$C$9","v":0.89},{"$f":"DATA!$C$10","v":64},1,407.8125,407.8125,0,"","",0,"","",0,"","","","",null,{"$f":"X1066","v":51},"2018-12-23",{"$f":"TEXT(Y1074,\"ddd\")","v":"zo"},"DD",{"$f":"IFERROR(HLOOKUP(Y1074,[1]DATA!$A$1:$NB$5,3,0),\"\")","v":"-"},null,null,null,null,{"$f":"VLOOKUP(Y1074,[1]SRM!$S$4:$AA$368,6,0)","v":0},"","",""]
["51zoMD",{"$f":"VLOOKUP($AA1075,DATA!$B$3:$E1075,2,0)","v":"14:30:00"},{"$f":"VLOOKUP($AA1075,DATA!$B$3:$E1075,3,0)","v":"22:30:00"},{"$f":"VLOOKUP($AA1075,DATA!$B$3:$E1075,4,0)","v":3.125E-2},0.30208333333333337,0.30208333333333337,{"$f":"DATA!$C$9","v":0.89},{"$f":"DATA!$C$10","v":64},1,407.81250000000006,407.81250000000006,0,"","",0,"","",0,"","","","",null,{"$f":"X1066","v":51},null,{"$f":"TEXT(Y1074,\"ddd\")","v":"zo"},"MD",{"$f":"IFERROR(HLOOKUP(Y1074,[1]DATA!$A$1:$NB$5,4,0),\"\")","v":"-"},null,null,null,null,{"$f":"VLOOKUP(Y1074,[1]SRM!$S$4:$AA$368,7,0)","v":0},"","",""]
["51zoZND",{"$f":"VLOOKUP($AA1076,DATA!$B$3:$E1076,2,0)","v":"00:00:00"},{"$f":"VLOOKUP($AA1076,DATA!$B$3:$E1076,3,0)","v":"00:00:00"},{"$f":"VLOOKUP($AA1076,DATA!$B$3:$E1076,4,0)","v":0},0,0,{"$f":"DATA!$C$9","v":0.89},{"$f":"DATA!$C$10","v":64},1,0,0,0,"","",0,"","",0,"","","","",null,{"$f":"X1066","v":51},null,{"$f":"TEXT(Y1074,\"ddd\")","v":"zo"},"ZND",{"$f":"IFERROR(HLOOKUP(Y1074,[1]DATA!$A$1:$NB$5,5,0),\"\")","v":"-"},null,null,null,null,{"$f":"VLOOKUP(Y1074,[1]SRM!$S$4:$AA$368,8,0)","v":0},"","",""]
["52maDD",{"$f":"VLOOKUP($AA1077,DATA!$B$3:$E1077,2,0)","v":"06:30:00"},{"$f":"VLOOKUP($AA1077,DATA!$B$3:$E1077,3,0)","v":"14:30:00"},{"$f":"VLOOKUP($AA1077,DATA!$B$3:$E1077,4,0)","v":3.125E-2},0.30208333333333331,0.30208333333333331,{"$f":"DATA!$C$9","v":0.89},{"$f":"DATA!$C$10","v":64},1,407.8125,407.8125,0,"","",{"$f":"TIME(INT($AD1077/60),INT(MOD($AD1077,60)/1),0)","v":0},"","",0,"","","","",null,{"$f":"X1087","v":52},"2018-12-24",{"$f":"TEXT(Y1077,\"ddd\")","v":"ma"},"DD",{"$f":"IFERROR(HLOOKUP(Y1077,[1]DATA!$A$1:$NB$5,3,0),\"\")","v":"D1"},null,null,null,null,{"$f":"VLOOKUP(Y1077,[1]SRM!$S$4:$AA$368,6,0)","v":0},"","","",{"$f":"IF(SUMIF(S1077:S1097,\">0\",K1077:K1097)=0,\"\",SUMIF(S1077:S1097,\">0\",K1077:K1097))","v":""},{"$f":"IF(SUM(S1077:S1097)=0,\"\",SUM(S1077:S1097))","v":""},{"$f":"IFERROR(AL1077/AK1077,\"-\")","v":"-"},{"$f":"IF(SUM(M1077:M1097)=0,\"0\",SUM(M1077:M1097))","v":"0"},{"$f":"IFERROR(AN1077/AK1077,\"-\")","v":"-"},{"$f":"IF(SUM(P1077:P1097)=0,0,SUM(P1077:P1097))","v":0},{"$f":"IFERROR(AP1077/AK1077,\"-\")","v":"-"},"-",{"$f":"IFERROR(SUMIF($AB1077:$AB1097,AS$5,$AJ1077:$AJ1097)/COUNTIFS($AB1077:$AB1097,AS$5,$AJ1077:$AJ1097,\">0\"),\"\")","v":""},"","",{"$f":"IFERROR((AK1077-AL1077-AN1077-AP1077),\"-\")","v":"-"},{"$f":"IFERROR((1-AM1077-AO1077-AQ1077), \"-\")","v":"-"},{"$f":"IFERROR((AV1077*$AE$2)/60,\"-\")","v":"-"},{"$f":"IFERROR(SUM(AG1077:AG1097),\"\")","v":0}]
["52maMD",{"$f":"VLOOKUP($AA1078,DATA!$B$3:$E1078,2,0)","v":"14:30:00"},{"$f":"VLOOKUP($AA1078,DATA!$B$3:$E1078,3,0)","v":"22:30:00"},{"$f":"VLOOKUP($AA1078,DATA!$B$3:$E1078,4,0)","v":3.125E-2},0.30208333333333337,0.30208333333333337,{"$f":"DATA!$C$9","v":0.89},{"$f":"DATA!$C$10","v":64},1,407.81250000000006,407.81250000000006,0,"","",{"$f":"TIME(INT(AD1078/60),INT(MOD(AD1078,60)/1),0)","v":0},"","",0,"","","","",null,{"$f":"X1087","v":52},null,{"$f":"TEXT(Y1077,\"ddd\")","v":"ma"},"MD",{"$f":"IFERROR(HLOOKUP(Y1077,[1]DATA!$A$1:$NB$5,4,0),\"\")","v":"D3"},null,null,null,null,{"$f":"VLOOKUP(Y1077,[1]SRM!$S$4:$AA$368,7,0)","v":0},"","",""]
["52maND",{"$f":"VLOOKUP($AA1079,DATA!$B$3:$E1079,2,0)","v":"22:30:00"},{"$f":"VLOOKUP($AA1079,DATA!$B$3:$E1079,3,0)","v":"06:30:00"},{"$f":"VLOOKUP($AA1079,DATA!$B$3:$E1079,4,0)","v":3.125E-2},0.30208333333333326,0.30208333333333326,{"$f":"DATA!$C$9","v":0.89},{"$f":"DATA!$C$10","v":64},1,407.81249999999989,407.81249999999989,0,"","",0,"","",0,"","","","",null,{"$f":"X1087","v":52},null,{"$f":"TEXT(Y1077,\"ddd\")","v":"ma"},"ND",{"$f":"IFERROR(HLOOKUP(Y1077,[1]DATA!$A$1:$NB$5,5,0),\"\")","v":"D2"},null,null,null,null,{"$f":"VLOOKUP(Y1077,[1]SRM!$S$4:$AA$368,8,0)","v":0},"","",""]
["52diDD",{"$f":"VLOOKUP($AA1080,DATA!$B$3:$E1080,2,0)","v":"06:30:00"},{"$f":"VLOOKUP($AA1080,DATA!$B$3:$E1080,3,0)","v":"14:30:00"},{"$f":"VLOOKUP($AA1080,DATA!$B$3:$E1080,4,0)","v":3.125E-2},0.30208333333333331,0.30208333333333331,{"$f":"DATA!$C$9","v":0.89},{"$f":"DATA!$C$10","v":64},1,407.8125,407.8125,0,"","",0,"","",0,"","","","",null,{"$f":"X1087","v":52},"2018-12-25",{"$f":"TEXT(Y1080,\"ddd\")","v":"di"},"DD",{"$f":"IFERROR(HLOOKUP(Y1080,[1]DATA!$A$1:$NB$5,3,0),\"\")","v":"D1"},null,null,null,null,{"$f":"VLOOKUP(Y1080,[1]SRM!$S$4:$AA$368,6,0)","v":0},"","",""]
["52diMD",{"$f":"VLOOKUP($AA1081,DATA!$B$3:$E1081,2,0)","v":"14:30:00"},{"$f":"VLOOKUP($AA1081,DATA!$B$3:$E1081,3,0)","v":"22:30:00"},{"$f":"VLOOKUP($AA1081,DATA!$B$3:$E1081,4,0)","v":3.125E-2},0.30208333333333337,0.30208333333333337,{"$f":"DATA!$C$9","v":0.89},{"$f":"DATA!$C$10","v":64},1,407.81250000000006,407.81250000000006,0,"","",0,"","",0,"","","","",null,{"$f":"X1087","v":52},null,{"$f":"TEXT(Y1080,\"ddd\")","v":"di"},"MD",{"$f":"IFERROR(HLOOKUP(Y1080,[1]DATA!$A$1:$NB$5,4,0),\"\")","v":"D3"},null,null,null,null,{"$f":"VLOOKUP(Y1080,[1]SRM!$S$4:$AA$368,7,0)","v":0},"","",""]
["52diND",{"$f":"VLOOKUP($AA1082,DATA!$B$3:$E1082,2,0)","v":"22:30:00"},{"$f":"VLOOKUP($AA1082,DATA!$B$3:$E1082,3,0)","v":"06:30:00"},{"$f":"VLOOKUP($AA1082,DATA!$B$3:$E1082,4,0)","v":3.125E-2},0.30208333333333326,0.30208333333333326,{"$f":"DATA!$C$9","v":0.89},{"$f":"DATA!$C$10","v":64},1,407.81249999999989,407.81249999999989,0,"","",0,"","",0,"","","","",null,{"$f":"X1087","v":52},null,{"$f":"TEXT(Y1080,\"ddd\")","v":"di"},"ND",{"$f":"IFERROR(HLOOKUP(Y1080,[1]DATA!$A$1:$NB$5,5,0),\"\")","v":"D2"},null,null,null,null,{"$f":"VLOOKUP(Y1080,[1]SRM!$S$4:$AA$368,8,0)","v":0},"","",""]
["52woDD",{"$f":"VLOOKUP($AA1083,DATA!$B$3:$E1083,2,0)","v":"06:30:00"},{"$f":"VLOOKUP($AA1083,DATA!$B$3:$E1083,3,0)","v":"14:30:00"},{"$f":"VLOOKUP($AA1083,DATA!$B$3:$E1083,4,0)","v":3.125E-2},0.30208333333333331,0.30208333333333331,{"$f":"DATA!$C$9","v":0.89},{"$f":"DATA!$C$10","v":64},1,407.8125,407.8125,0,"","",0,"","",0,"","","","",null,{"$f":"X1087","v":52},"2018-12-26",{"$f":"TEXT(Y1083,\"ddd\")","v":"wo"},"DD",{"$f":"IFERROR(HLOOKUP(Y1083,[1]DATA!$A$1:$NB$5,3,0),\"\")","v":"D1"},null,null,null,null,{"$f":"VLOOKUP(Y1083,[1]SRM!$S$4:$AA$368,6,0)","v":0},"","",""]
["52woMD",{"$f":"VLOOKUP($AA1084,DATA!$B$3:$E1084,2,0)","v":"14:30:00"},{"$f":"VLOOKUP($AA1084,DATA!$B$3:$E1084,3,0)","v":"22:30:00"},{"$f":"VLOOKUP($AA1084,DATA!$B$3:$E1084,4,0)","v":3.125E-2},0.30208333333333337,0.30208333333333337,{"$f":"DATA!$C$9","v":0.89},{"$f":"DATA!$C$10","v":64},1,407.81250000000006,407.81250000000006,0,"","",0,"","",0,"","","","",null,{"$f":"X1087","v":52},null,{"$f":"TEXT(Y1083,\"ddd\")","v":"wo"},"MD",{"$f":"IFERROR(HLOOKUP(Y1083,[1]DATA!$A$1:$NB$5,4,0),\"\")","v":"D3"},null,null,null,null,{"$f":"VLOOKUP(Y1083,[1]SRM!$S$4:$AA$368,7,0)","v":0},"","",""]
["52woND",{"$f":"VLOOKUP($AA1085,DATA!$B$3:$E1085,2,0)","v":"22:30:00"},{"$f":"VLOOKUP($AA1085,DATA!$B$3:$E1085,3,0)","v":"06:30:00"},{"$f":"VLOOKUP($AA1085,DATA!$B$3:$E1085,4,0)","v":3.125E-2},0.30208333333333326,0.30208333333333326,{"$f":"DATA!$C$9","v":0.89},{"$f":"DATA!$C$10","v":64},1,407.81249999999989,407.81249999999989,0,"","",0,"","",0,"","","","",null,{"$f":"X1087","v":52},null,{"$f":"TEXT(Y1083,\"ddd\")","v":"wo"},"ND",{"$f":"IFERROR(HLOOKUP(Y1083,[1]DATA!$A$1:$NB$5,5,0),\"\")","v":"D2"},null,null,null,null,{"$f":"VLOOKUP(Y1083,[1]SRM!$S$4:$AA$368,8,0)","v":0},"","",""]
["52doDD",{"$f":"VLOOKUP($AA1086,DATA!$B$3:$E1086,2,0)","v":"06:30:00"},{"$f":"VLOOKUP($AA1086,DATA!$B$3:$E1086,3,0)","v":"14:30:00"},{"$f":"VLOOKUP($AA1086,DATA!$B$3:$E1086,4,0)","v":3.125E-2},0.30208333333333331,0.30208333333333331,{"$f":"DATA!$C$9","v":0.89},{"$f":"DATA!$C$10","v":64},1,407.8125,407.8125,0,"","",0,"","",0,"","","","",null,{"$f":"X1087","v":52},"2018-12-27",{"$f":"TEXT(Y1086,\"ddd\")","v":"do"},"DD",{"$f":"IFERROR(HLOOKUP(Y1086,[1]DATA!$A$1:$NB$5,3,0),\"\")","v":"D1"},null,null,null,null,{"$f":"VLOOKUP(Y1086,[1]SRM!$S$4:$AA$368,6,0)","v":0},"","",""]
["52doMD",{"$f":"VLOOKUP($AA1087,DATA!$B$3:$E1087,2,0)","v":"14:30:00"},{"$f":"VLOOKUP($AA1087,DATA!$B$3:$E1087,3,0)","v":"22:30:00"},{"$f":"VLOOKUP($AA1087,DATA!$B$3:$E1087,4,0)","v":3.125E-2},0.30208333333333337,0.30208333333333337,{"$f":"DATA!$C$9","v":0.89},{"$f":"DATA!$C$10","v":64},1,407.81250000000006,407.81250000000006,0,"","",0,"","",0,"","","","",null,{"$f":"WEEKNUM($Y1077)","v":52},null,{"$f":"TEXT(Y1086,\"ddd\")","v":"do"},"MD",{"$f":"IFERROR(HLOOKUP(Y1086,[1]DATA!$A$1:$NB$5,4,0),\"\")","v":"D3"},null,null,null,null,{"$f":"VLOOKUP(Y1086,[1]SRM!$S$4:$AA$368,7,0)","v":0},"","",""]
["52doND",{"$f":"VLOOKUP($AA1088,DATA!$B$3:$E1088,2,0)","v":"22:30:00"},{"$f":"VLOOKUP($AA1088,DATA!$B$3:$E1088,3,0)","v":"06:30:00"},{"$f":"VLOOKUP($AA1088,DATA!$B$3:$E1088,4,0)","v":3.125E-2},0.30208333333333326,0.30208333333333326,{"$f":"DATA!$C$9","v":0.89},{"$f":"DATA!$C$10","v":64},1,407.81249999999989,407.81249999999989,0,"","",0,"","",0,"","","","",null,{"$f":"X1087","v":52},null,{"$f":"TEXT(Y1086,\"ddd\")","v":"do"},"ND",{"$f":"IFERROR(HLOOKUP(Y1086,[1]DATA!$A$1:$NB$5,5,0),\"\")","v":"D2"},null,null,null,null,{"$f":"VLOOKUP(Y1086,[1]SRM!$S$4:$AA$368,8,0)","v":0},"","",""]
["52vrDD",{"$f":"VLOOKUP($AA1089,DATA!$B$3:$E1089,2,0)","v":"06:30:00"},{"$f":"VLOOKUP($AA1089,DATA!$B$3:$E1089,3,0)","v":"14:30:00"},{"$f":"VLOOKUP($AA1089,DATA!$B$3:$E1089,4,0)","v":3.125E-2},0.30208333333333331,0.30208333333333331,{"$f":"DATA!$C$9","v":0.89},{"$f":"DATA!$C$10","v":64},1,407.8125,407.8125,0,"","",0,"","",0,"","","","",null,{"$f":"X1087","v":52},{"$f":"Y1086+1","v":"2018-12-28"},{"$f":"TEXT(Y1089,\"ddd\")","v":"vr"},"DD",{"$f":"IFERROR(HLOOKUP(Y1089,[1]DATA!$A$1:$NB$5,3,0),\"\")","v":"D1"},null,null,null,null,{"$f":"VLOOKUP(Y1089,[1]SRM!$S$4:$AA$368,6,0)","v":0},"","",""]
["52vrMD",{"$f":"VLOOKUP($AA1090,DATA!$B$3:$E1090,2,0)","v":"14:30:00"},{"$f":"VLOOKUP($AA1090,DATA!$B$3:$E1090,3,0)","v":"22:30:00"},{"$f":"VLOOKUP($AA1090,DATA!$B$3:$E1090,4,0)","v":3.125E-2},0.30208333333333337,0.30208333333333337,{"$f":"DATA!$C$9","v":0.89},{"$f":"DATA!$C$10","v":64},1,407.81250000000006,407.81250000000006,0,"","",0,"","",0,"","","","",null,{"$f":"X1087","v":52},null,{"$f":"TEXT(Y1089,\"ddd\")","v":"vr"},"MD",{"$f":"IFERROR(HLOOKUP(Y1089,[1]DATA!$A$1:$NB$5,4,0),\"\")","v":"D3"},null,null,null,null,{"$f":"VLOOKUP(Y1089,[1]SRM!$S$4:$AA$368,7,0)","v":0},"","",""]
["52vrND",{"$f":"VLOOKUP($AA1091,DATA!$B$3:$E1091,2,0)","v":"22:30:00"},{"$f":"VLOOKUP($AA1091,DATA!$B$3:$E1091,3,0)","v":"06:30:00"},{"$f":"VLOOKUP($AA1091,DATA!$B$3:$E1091,4,0)","v":3.125E-2},0.30208333333333326,0.30208333333333326,{"$f":"DATA!$C$9","v":0.89},{"$f":"DATA!$C$10","v":64},1,407.81249999999989,407.81249999999989,0,"","",0,"","",0,"","","","",null,{"$f":"X1087","v":52},null,{"$f":"TEXT(Y1089,\"ddd\")","v":"vr"},"ND",{"$f":"IFERROR(HLOOKUP(Y1089,[1]DATA!$A$1:$NB$5,5,0),\"\")","v":"D2"},null,null,null,null,{"$f":"VLOOKUP(Y1089,[1]SRM!$S$4:$AA$368,8,0)","v":0},"","",""]
["52zaDD",{"$f":"VLOOKUP($AA1092,DATA!$B$3:$E1092,2,0)","v":"06:30:00"},{"$f":"VLOOKUP($AA1092,DATA!$B$3:$E1092,3,0)","v":"14:30:00"},{"$f":"VLOOKUP($AA1092,DATA!$B$3:$E1092,4,0)","v":3.125E-2},0.30208333333333331,0.30208333333333331,{"$f":"DATA!$C$9","v":0.89},{"$f":"DATA!$C$10","v":64},1,407.8125,407.8125,0,"","",0,"","",0,"","","","",null,{"$f":"X1087","v":52},"2018-12-29",{"$f":"TEXT(Y1092,\"ddd\")","v":"za"},"DD",{"$f":"IFERROR(HLOOKUP(Y1092,[1]DATA!$A$1:$NB$5,3,0),\"\")","v":"D1"},null,null,null,null,{"$f":"VLOOKUP(Y1092,[1]SRM!$S$4:$AA$368,6,0)","v":0},"","",""]
["52zaMD",{"$f":"VLOOKUP($AA1093,DATA!$B$3:$E1093,2,0)","v":"14:30:00"},{"$f":"VLOOKUP($AA1093,DATA!$B$3:$E1093,3,0)","v":"22:30:00"},{"$f":"VLOOKUP($AA1093,DATA!$B$3:$E1093,4,0)","v":3.125E-2},0.30208333333333337,0.30208333333333337,{"$f":"DATA!$C$9","v":0.89},{"$f":"DATA!$C$10","v":64},1,407.81250000000006,407.81250000000006,0,"","",0,"","",0,"","","","",null,{"$f":"X1087","v":52},null,{"$f":"TEXT(Y1092,\"ddd\")","v":"za"},"MD",{"$f":"IFERROR(HLOOKUP(Y1092,[1]DATA!$A$1:$NB$5,4,0),\"\")","v":"-"},null,null,null,null,{"$f":"VLOOKUP(Y1092,[1]SRM!$S$4:$AA$368,7,0)","v":0},"","",""]
["52zaND",{"$f":"VLOOKUP($AA1094,DATA!$B$3:$E1094,2,0)","v":"22:30:00"},{"$f":"VLOOKUP($AA1094,DATA!$B$3:$E1094,3,0)","v":"06:30:00"},{"$f":"VLOOKUP($AA1094,DATA!$B$3:$E1094,4,0)","v":3.125E-2},0.30208333333333326,0.30208333333333326,{"$f":"DATA!$C$9","v":0.89},{"$f":"DATA!$C$10","v":64},1,407.81249999999989,407.81249999999989,0,"","",0,"","",0,"","","","",null,{"$f":"X1087","v":52},null,{"$f":"TEXT(Y1092,\"ddd\")","v":"za"},"ND",{"$f":"IFERROR(HLOOKUP(Y1092,[1]DATA!$A$1:$NB$5,5,0),\"\")","v":"-"},null,null,null,null,{"$f":"VLOOKUP(Y1092,[1]SRM!$S$4:$AA$368,8,0)","v":0},{"$f":"IFERROR(S1094-J1094,\"\")","v":""},{"$f":"IFERROR(IF(S1094/(E1094*86400/H1094)<=0,\"\",S1094/(E1094*86400/H1094)),\"\")","v":""},""]
["52zoDD",{"$f":"VLOOKUP($AA1095,DATA!$B$3:$E1095,2,0)","v":"06:30:00"},{"$f":"VLOOKUP($AA1095,DATA!$B$3:$E1095,3,0)","v":"14:30:00"},{"$f":"VLOOKUP($AA1095,DATA!$B$3:$E1095,4,0)","v":3.125E-2},0.30208333333333331,0.30208333333333331,{"$f":"DATA!$C$9","v":0.89},{"$f":"DATA!$C$10","v":64},1,407.8125,407.8125,{"$f":"TIME(INT($AC1095/60),INT(MOD($AC1095,60)/1),0)","v":0},{"$f":"IF($L1095*86400/$H1095=0,\"\",$L1095*86400/$H1095)","v":""},{"$f":"IFERROR($M1095/$K1095,\"\")","v":""},0,"",{"$f":"IFERROR($P1095/$K1095,\"\")","v":""},0,"",{"$f":"IF(IF($AB1095=\"D1\",$S1095,\"\")=0,\"\",IF($AB1095=\"D1\",$S1095,\"\"))","v":""},{"$f":"IF(IF($AB1095=\"D2\",$S1095,\"\")=0,\"\",IF($AB1095=\"D2\",$S1095,\"\"))","v":""},{"$f":"IF(IF($AB1095=\"D3\",$S1095,\"\")=0,\"\",IF($AB1095=\"D3\",$S1095,\"\"))","v":""},null,{"$f":"X1087","v":52},"2018-12-30",{"$f":"TEXT(Y1095,\"ddd\")","v":"zo"},"DD",{"$f":"IFERROR(HLOOKUP(Y1095,[1]DATA!$A$1:$NB$5,3,0),\"\")","v":"-"},null,null,null,null,{"$f":"VLOOKUP(Y1095,[1]SRM!$S$4:$AA$368,6,0)","v":0},"","",""]
["52zoMD",{"$f":"VLOOKUP($AA1096,DATA!$B$3:$E1096,2,0)","v":"14:30:00"},{"$f":"VLOOKUP($AA1096,DATA!$B$3:$E1096,3,0)","v":"22:30:00"},{"$f":"VLOOKUP($AA1096,DATA!$B$3:$E1096,4,0)","v":3.125E-2},0.30208333333333337,0.30208333333333337,{"$f":"DATA!$C$9","v":0.89},{"$f":"DATA!$C$10","v":64},1,407.81250000000006,407.81250000000006,0,"","",0,"","",0,"","","","",null,{"$f":"X1087","v":52},null,{"$f":"TEXT(Y1095,\"ddd\")","v":"zo"},"MD",{"$f":"IFERROR(HLOOKUP(Y1095,[1]DATA!$A$1:$NB$5,4,0),\"\")","v":"-"},null,null,null,null,{"$f":"VLOOKUP(Y1095,[1]SRM!$S$4:$AA$368,7,0)","v":0},"","",""]
["52zoZND",{"$f":"VLOOKUP($AA1097,DATA!$B$3:$E1097,2,0)","v":"00:00:00"},{"$f":"VLOOKUP($AA1097,DATA!$B$3:$E1097,3,0)","v":"00:00:00"},{"$f":"VLOOKUP($AA1097,DATA!$B$3:$E1097,4,0)","v":0},0,0,{"$f":"DATA!$C$9","v":0.89},{"$f":"DATA!$C$10","v":64},1,0,0,0,"","",0,"","",0,"","","","",null,{"$f":"X1087","v":52},null,{"$f":"TEXT(Y1095,\"ddd\")","v":"zo"},"ZND",{"$f":"IFERROR(HLOOKUP(Y1095,[1]DATA!$A$1:$NB$5,5,0),\"\")","v":"-"},null,null,null,null,{"$f":"VLOOKUP(Y1095,[1]SRM!$S$4:$AA$368,8,0)","v":0},"","",""]
["53maDD",{"$f":"VLOOKUP($AA1098,DATA!$B$3:$E1098,2,0)","v":"06:30:00"},{"$f":"VLOOKUP($AA1098,DATA!$B$3:$E1098,3,0)","v":"14:30:00"},{"$f":"VLOOKUP($AA1098,DATA!$B$3:$E1098,4,0)","v":3.125E-2},0.30208333333333331,0.30208333333333331,{"$f":"DATA!$C$9","v":0.89},{"$f":"DATA!$C$10","v":64},1,407.8125,407.8125,0,"","",{"$f":"TIME(INT($AD1098/60),INT(MOD($AD1098,60)/1),0)","v":0},"","",0,"","","","",null,{"$f":"X1108","v":53},"2018-12-31",{"$f":"TEXT(Y1098,\"ddd\")","v":"ma"},"DD",{"$f":"IFERROR(HLOOKUP(Y1098,[1]DATA!$A$1:$NB$5,3,0),\"\")","v":"D3"},null,null,null,null,{"$f":"VLOOKUP(Y1098,[1]SRM!$S$4:$AA$368,6,0)","v":0},"","","",{"$f":"IF(SUMIF(S1098:S1118,\">0\",K1098:K1118)=0,\"\",SUMIF(S1098:S1118,\">0\",K1098:K1118))","v":""},{"$f":"IF(SUM(S1098:S1118)=0,\"\",SUM(S1098:S1118))","v":""},{"$f":"IFERROR(AL1098/AK1098,\"-\")","v":"-"},{"$f":"IF(SUM(M1098:M1118)=0,\"0\",SUM(M1098:M1118))","v":"0"},{"$f":"IFERROR(AN1098/AK1098,\"-\")","v":"-"},{"$f":"IF(SUM(P1098:P1118)=0,0,SUM(P1098:P1118))","v":0},{"$f":"IFERROR(AP1098/AK1098,\"-\")","v":"-"},"-",{"$f":"IFERROR(SUMIF($AB1098:$AB1118,AS$5,$AJ1098:$AJ1118)/COUNTIFS($AB1098:$AB1118,AS$5,$AJ1098:$AJ1118,\">0\"),\"\")","v":""},"","",{"$f":"IFERROR((AK1098-AL1098-AN1098-AP1098),\"-\")","v":"-"},{"$f":"IFERROR((1-AM1098-AO1098-AQ1098), \"-\")","v":"-"},{"$f":"IFERROR((AV1098*$AE$2)/60,\"-\")","v":"-"},{"$f":"IFERROR(SUM(AG1098:AG1118),\"\")","v":""}]
["53maMD",{"$f":"VLOOKUP($AA1099,DATA!$B$3:$E1099,2,0)","v":"14:30:00"},{"$f":"VLOOKUP($AA1099,DATA!$B$3:$E1099,3,0)","v":"22:30:00"},{"$f":"VLOOKUP($AA1099,DATA!$B$3:$E1099,4,0)","v":3.125E-2},0.30208333333333337,0.30208333333333337,{"$f":"DATA!$C$9","v":0.89},{"$f":"DATA!$C$10","v":64},1,407.81250000000006,407.81250000000006,0,"","",{"$f":"TIME(INT(AD1099/60),INT(MOD(AD1099,60)/1),0)","v":0},"","",0,"","","","",null,{"$f":"X1108","v":53},null,{"$f":"TEXT(Y1098,\"ddd\")","v":"ma"},"MD",{"$f":"IFERROR(HLOOKUP(Y1098,[1]DATA!$A$1:$NB$5,4,0),\"\")","v":"D2"},null,null,null,null,{"$f":"VLOOKUP(Y1098,[1]SRM!$S$4:$AA$368,7,0)","v":0},"","",""]
["53maND",{"$f":"VLOOKUP($AA1100,DATA!$B$3:$E1100,2,0)","v":"22:30:00"},{"$f":"VLOOKUP($AA1100,DATA!$B$3:$E1100,3,0)","v":"06:30:00"},{"$f":"VLOOKUP($AA1100,DATA!$B$3:$E1100,4,0)","v":3.125E-2},0.30208333333333326,0.30208333333333326,{"$f":"DATA!$C$9","v":0.89},{"$f":"DATA!$C$10","v":64},1,407.81249999999989,407.81249999999989,0,"","",0,"","",0,"","","","",null,{"$f":"X1108","v":53},null,{"$f":"TEXT(Y1098,\"ddd\")","v":"ma"},"ND",{"$f":"IFERROR(HLOOKUP(Y1098,[1]DATA!$A$1:$NB$5,5,0),\"\")","v":"D1"},null,null,null,null,{"$f":"VLOOKUP(Y1098,[1]SRM!$S$4:$AA$368,8,0)","v":0},"","",""]
["53diDD",{"$f":"VLOOKUP($AA1101,DATA!$B$3:$E1101,2,0)","v":"06:30:00"},{"$f":"VLOOKUP($AA1101,DATA!$B$3:$E1101,3,0)","v":"14:30:00"},{"$f":"VLOOKUP($AA1101,DATA!$B$3:$E1101,4,0)","v":3.125E-2},0.30208333333333331,0.30208333333333331,{"$f":"DATA!$C$9","v":0.89},{"$f":"DATA!$C$10","v":64},1,407.8125,407.8125,0,"","",0,"","",0,"","","","",null,{"$f":"X1108","v":53},"2019-01-01",{"$f":"TEXT(Y1101,\"ddd\")","v":"di"},"DD",{"$f":"IFERROR(HLOOKUP(Y1101,[1]DATA!$A$1:$NB$5,3,0),\"\")","v":""},null,null,null,null,{"$f":"VLOOKUP(Y1101,[1]SRM!$S$4:$AA$368,6,0)","v":{"$error":"#N/A"}},"","",""]
["53diMD",{"$f":"VLOOKUP($AA1102,DATA!$B$3:$E1102,2,0)","v":"14:30:00"},{"$f":"VLOOKUP($AA1102,DATA!$B$3:$E1102,3,0)","v":"22:30:00"},{"$f":"VLOOKUP($AA1102,DATA!$B$3:$E1102,4,0)","v":3.125E-2},0.30208333333333337,0.30208333333333337,{"$f":"DATA!$C$9","v":0.89},{"$f":"DATA!$C$10","v":64},1,407.81250000000006,407.81250000000006,0,"","",0,"","",0,"","","","",null,{"$f":"X1108","v":53},null,{"$f":"TEXT(Y1101,\"ddd\")","v":"di"},"MD",{"$f":"IFERROR(HLOOKUP(Y1101,[1]DATA!$A$1:$NB$5,4,0),\"\")","v":""},null,null,null,null,{"$f":"VLOOKUP(Y1101,[1]SRM!$S$4:$AA$368,7,0)","v":{"$error":"#N/A"}},"","",""]
["53diND",{"$f":"VLOOKUP($AA1103,DATA!$B$3:$E1103,2,0)","v":"22:30:00"},{"$f":"VLOOKUP($AA1103,DATA!$B$3:$E1103,3,0)","v":"06:30:00"},{"$f":"VLOOKUP($AA1103,DATA!$B$3:$E1103,4,0)","v":3.125E-2},0.30208333333333326,0.30208333333333326,{"$f":"DATA!$C$9","v":0.89},{"$f":"DATA!$C$10","v":64},1,407.81249999999989,407.81249999999989,0,"","",0,"","",0,"","","","",null,{"$f":"X1108","v":53},null,{"$f":"TEXT(Y1101,\"ddd\")","v":"di"},"ND",{"$f":"IFERROR(HLOOKUP(Y1101,[1]DATA!$A$1:$NB$5,5,0),\"\")","v":""},null,null,null,null,{"$f":"VLOOKUP(Y1101,[1]SRM!$S$4:$AA$368,8,0)","v":{"$error":"#N/A"}},"","",""]
["53woDD",{"$f":"VLOOKUP($AA1104,DATA!$B$3:$E1104,2,0)","v":"06:30:00"},{"$f":"VLOOKUP($AA1104,DATA!$B$3:$E1104,3,0)","v":"14:30:00"},{"$f":"VLOOKUP($AA1104,DATA!$B$3:$E1104,4,0)","v":3.125E-2},0.30208333333333331,0.30208333333333331,{"$f":"DATA!$C$9","v":0.89},{"$f":"DATA!$C$10","v":64},1,407.8125,407.8125,0,"","",0,"","",0,"","","","",null,{"$f":"X1108","v":53},"2019-01-02",{"$f":"TEXT(Y1104,\"ddd\")","v":"wo"},"DD",{"$f":"IFERROR(HLOOKUP(Y1104,[1]DATA!$A$1:$NB$5,3,0),\"\")","v":""},null,null,null,null,{"$f":"VLOOKUP(Y1104,[1]SRM!$S$4:$AA$368,6,0)","v":{"$error":"#N/A"}},"","",""]
["53woMD",{"$f":"VLOOKUP($AA1105,DATA!$B$3:$E1105,2,0)","v":"14:30:00"},{"$f":"VLOOKUP($AA1105,DATA!$B$3:$E1105,3,0)","v":"22:30:00"},{"$f":"VLOOKUP($AA1105,DATA!$B$3:$E1105,4,0)","v":3.125E-2},0.30208333333333337,0.30208333333333337,{"$f":"DATA!$C$9","v":0.89},{"$f":"DATA!$C$10","v":64},1,407.81250000000006,407.81250000000006,0,"","",0,"","",0,"","","","",null,{"$f":"X1108","v":53},null,{"$f":"TEXT(Y1104,\"ddd\")","v":"wo"},"MD",{"$f":"IFERROR(HLOOKUP(Y1104,[1]DATA!$A$1:$NB$5,4,0),\"\")","v":""},null,null,null,null,{"$f":"VLOOKUP(Y1104,[1]SRM!$S$4:$AA$368,7,0)","v":{"$error":"#N/A"}},"","",""]
["53woND",{"$f":"VLOOKUP($AA1106,DATA!$B$3:$E1106,2,0)","v":"22:30:00"},{"$f":"VLOOKUP($AA1106,DATA!$B$3:$E1106,3,0)","v":"06:30:00"},{"$f":"VLOOKUP($AA1106,DATA!$B$3:$E1106,4,0)","v":3.125E-2},0.30208333333333326,0.30208333333333326,{"$f":"DATA!$C$9","v":0.89},{"$f":"DATA!$C$10","v":64},1,407.81249999999989,407.81249999999989,0,"","",0,"","",0,"","","","",null,{"$f":"X1108","v":53},null,{"$f":"TEXT(Y1104,\"ddd\")","v":"wo"},"ND",{"$f":"IFERROR(HLOOKUP(Y1104,[1]DATA!$A$1:$NB$5,5,0),\"\")","v":""},null,null,null,null,{"$f":"VLOOKUP(Y1104,[1]SRM!$S$4:$AA$368,8,0)","v":{"$error":"#N/A"}},"","",""]
["53doDD",{"$f":"VLOOKUP($AA1107,DATA!$B$3:$E1107,2,0)","v":"06:30:00"},{"$f":"VLOOKUP($AA1107,DATA!$B$3:$E1107,3,0)","v":"14:30:00"},{"$f":"VLOOKUP($AA1107,DATA!$B$3:$E1107,4,0)","v":3.125E-2},0.30208333333333331,0.30208333333333331,{"$f":"DATA!$C$9","v":0.89},{"$f":"DATA!$C$10","v":64},1,407.8125,407.8125,0,"","",0,"","",0,"","","","",null,{"$f":"X1108","v":53},"2019-01-03",{"$f":"TEXT(Y1107,\"ddd\")","v":"do"},"DD",{"$f":"IFERROR(HLOOKUP(Y1107,[1]DATA!$A$1:$NB$5,3,0),\"\")","v":""},null,null,null,null,{"$f":"VLOOKUP(Y1107,[1]SRM!$S$4:$AA$368,6,0)","v":{"$error":"#N/A"}},"","",""]
["53doMD",{"$f":"VLOOKUP($AA1108,DATA!$B$3:$E1108,2,0)","v":"14:30:00"},{"$f":"VLOOKUP($AA1108,DATA!$B$3:$E1108,3,0)","v":"22:30:00"},{"$f":"VLOOKUP($AA1108,DATA!$B$3:$E1108,4,0)","v":3.125E-2},0.30208333333333337,0.30208333333333337,{"$f":"DATA!$C$9","v":0.89},{"$f":"DATA!$C$10","v":64},1,407.81250000000006,407.81250000000006,0,"","",0,"","",0,"","","","",null,{"$f":"WEEKNUM($Y1098)","v":53},null,{"$f":"TEXT(Y1107,\"ddd\")","v":"do"},"MD",{"$f":"IFERROR(HLOOKUP(Y1107,[1]DATA!$A$1:$NB$5,4,0),\"\")","v":""},null,null,null,null,{"$f":"VLOOKUP(Y1107,[1]SRM!$S$4:$AA$368,7,0)","v":{"$error":"#N/A"}},"","",""]
["53doND",{"$f":"VLOOKUP($AA1109,DATA!$B$3:$E1109,2,0)","v":"22:30:00"},{"$f":"VLOOKUP($AA1109,DATA!$B$3:$E1109,3,0)","v":"06:30:00"},{"$f":"VLOOKUP($AA1109,DATA!$B$3:$E1109,4,0)","v":3.125E-2},0.30208333333333326,0.30208333333333326,{"$f":"DATA!$C$9","v":0.89},{"$f":"DATA!$C$10","v":64},1,407.81249999999989,407.81249999999989,0,"","",0,"","",0,"","","","",null,{"$f":"X1108","v":53},null,{"$f":"TEXT(Y1107,\"ddd\")","v":"do"},"ND",{"$f":"IFERROR(HLOOKUP(Y1107,[1]DATA!$A$1:$NB$5,5,0),\"\")","v":""},null,null,null,null,{"$f":"VLOOKUP(Y1107,[1]SRM!$S$4:$AA$368,8,0)","v":{"$error":"#N/A"}},"","",""]
["53vrDD",{"$f":"VLOOKUP($AA1110,DATA!$B$3:$E1110,2,0)","v":"06:30:00"},{"$f":"VLOOKUP($AA1110,DATA!$B$3:$E1110,3,0)","v":"14:30:00"},{"$f":"VLOOKUP($AA1110,DATA!$B$3:$E1110,4,0)","v":3.125E-2},0.30208333333333331,0.30208333333333331,{"$f":"DATA!$C$9","v":0.89},{"$f":"DATA!$C$10","v":64},1,407.8125,407.8125,0,"","",0,"","",0,"","","","",null,{"$f":"X1108","v":53},"2019-01-04",{"$f":"TEXT(Y1110,\"ddd\")","v":"vr"},"DD",{"$f":"IFERROR(HLOOKUP(Y1110,[1]DATA!$A$1:$NB$5,3,0),\"\")","v":""},null,null,null,null,{"$f":"VLOOKUP(Y1110,[1]SRM!$S$4:$AA$368,6,0)","v":{"$error":"#N/A"}},"","",""]
["53vrMD",{"$f":"VLOOKUP($AA1111,DATA!$B$3:$E1111,2,0)","v":"14:30:00"},{"$f":"VLOOKUP($AA1111,DATA!$B$3:$E1111,3,0)","v":"22:30:00"},{"$f":"VLOOKUP($AA1111,DATA!$B$3:$E1111,4,0)","v":3.125E-2},0.30208333333333337,0.30208333333333337,{"$f":"DATA!$C$9","v":0.89},{"$f":"DATA!$C$10","v":64},1,407.81250000000006,407.81250000000006,0,"","",0,"","",0,"","","","",null,{"$f":"X1108","v":53},null,{"$f":"TEXT(Y1110,\"ddd\")","v":"vr"},"MD",{"$f":"IFERROR(HLOOKUP(Y1110,[1]DATA!$A$1:$NB$5,4,0),\"\")","v":""},null,null,null,null,{"$f":"VLOOKUP(Y1110,[1]SRM!$S$4:$AA$368,7,0)","v":{"$error":"#N/A"}},"","",""]
["53vrND",{"$f":"VLOOKUP($AA1112,DATA!$B$3:$E1112,2,0)","v":"22:30:00"},{"$f":"VLOOKUP($AA1112,DATA!$B$3:$E1112,3,0)","v":"06:30:00"},{"$f":"VLOOKUP($AA1112,DATA!$B$3:$E1112,4,0)","v":3.125E-2},0.30208333333333326,0.30208333333333326,{"$f":"DATA!$C$9","v":0.89},{"$f":"DATA!$C$10","v":64},1,407.81249999999989,407.81249999999989,0,"","",0,"","",0,"","","","",null,{"$f":"X1108","v":53},null,{"$f":"TEXT(Y1110,\"ddd\")","v":"vr"},"ND",{"$f":"IFERROR(HLOOKUP(Y1110,[1]DATA!$A$1:$NB$5,5,0),\"\")","v":""},null,null,null,null,{"$f":"VLOOKUP(Y1110,[1]SRM!$S$4:$AA$368,8,0)","v":{"$error":"#N/A"}},"","",""]
["53zaDD",{"$f":"VLOOKUP($AA1113,DATA!$B$3:$E1113,2,0)","v":"06:30:00"},{"$f":"VLOOKUP($AA1113,DATA!$B$3:$E1113,3,0)","v":"14:30:00"},{"$f":"VLOOKUP($AA1113,DATA!$B$3:$E1113,4,0)","v":3.125E-2},0.30208333333333331,0.30208333333333331,{"$f":"DATA!$C$9","v":0.89},{"$f":"DATA!$C$10","v":64},1,407.8125,407.8125,0,"","",0,"","",0,"","","","",null,{"$f":"X1108","v":53},"2019-01-05",{"$f":"TEXT(Y1113,\"ddd\")","v":"za"},"DD",{"$f":"IFERROR(HLOOKUP(Y1113,[1]DATA!$A$1:$NB$5,3,0),\"\")","v":""},null,null,null,null,{"$f":"VLOOKUP(Y1113,[1]SRM!$S$4:$AA$368,6,0)","v":{"$error":"#N/A"}},"","",""]
["53zaMD",{"$f":"VLOOKUP($AA1114,DATA!$B$3:$E1114,2,0)","v":"14:30:00"},{"$f":"VLOOKUP($AA1114,DATA!$B$3:$E1114,3,0)","v":"22:30:00"},{"$f":"VLOOKUP($AA1114,DATA!$B$3:$E1114,4,0)","v":3.125E-2},0.30208333333333337,0.30208333333333337,{"$f":"DATA!$C$9","v":0.89},{"$f":"DATA!$C$10","v":64},1,407.81250000000006,407.81250000000006,0,"","",0,"","",0,"","","","",null,{"$f":"X1108","v":53},null,{"$f":"TEXT(Y1113,\"ddd\")","v":"za"},"MD",{"$f":"IFERROR(HLOOKUP(Y1113,[1]DATA!$A$1:$NB$5,4,0),\"\")","v":""},null,null,null,null,{"$f":"VLOOKUP(Y1113,[1]SRM!$S$4:$AA$368,7,0)","v":{"$error":"#N/A"}},"","",""]
["53zaND",{"$f":"VLOOKUP($AA1115,DATA!$B$3:$E1115,2,0)","v":"22:30:00"},{"$f":"VLOOKUP($AA1115,DATA!$B$3:$E1115,3,0)","v":"06:30:00"},{"$f":"VLOOKUP($AA1115,DATA!$B$3:$E1115,4,0)","v":3.125E-2},0.30208333333333326,0.30208333333333326,{"$f":"DATA!$C$9","v":0.89},{"$f":"DATA!$C$10","v":64},1,407.81249999999989,407.81249999999989,0,"","",0,"","",0,"","","","",null,{"$f":"X1108","v":53},null,{"$f":"TEXT(Y1113,\"ddd\")","v":"za"},"ND",{"$f":"IFERROR(HLOOKUP(Y1113,[1]DATA!$A$1:$NB$5,5,0),\"\")","v":""},null,null,null,null,{"$f":"VLOOKUP(Y1113,[1]SRM!$S$4:$AA$368,8,0)","v":{"$error":"#N/A"}},"","",{"$f":"IFERROR(R1115/(R1115+AG1115),\"\")","v":""}]
["53zoDD",{"$f":"VLOOKUP($AA1116,DATA!$B$3:$E1116,2,0)","v":"06:30:00"},{"$f":"VLOOKUP($AA1116,DATA!$B$3:$E1116,3,0)","v":"14:30:00"},{"$f":"VLOOKUP($AA1116,DATA!$B$3:$E1116,4,0)","v":3.125E-2},{"$f":"(C1116-B1116+(B1116>C1116))-D1116","v":0.30208333333333331},{"$f":"E1116-O1116-L1116","v":0.30208333333333331},{"$f":"DATA!$C$9","v":0.89},{"$f":"DATA!$C$10","v":64},1,{"$f":"F1116*86400/H1116*I1116","v":407.8125},{"$f":"E1116*86400/H1116","v":407.8125},0,"","",0,"","",{"$f":"AF1116*AG$2","v":0},{"$f":"IF(AF1116-AE1116=0,\"\",AF1116-AE1116)","v":""},"","","",null,{"$f":"X1108","v":53},"2019-01-06",{"$f":"TEXT(Y1116,\"ddd\")","v":"zo"},"DD",{"$f":"IFERROR(HLOOKUP(Y1116,[1]DATA!$A$1:$NB$5,3,0),\"\")","v":""},null,null,null,null,{"$f":"VLOOKUP(Y1116,[1]SRM!$S$4:$AA$368,6,0)","v":{"$error":"#N/A"}},"","",""]
["53zoMD",{"$f":"VLOOKUP($AA1117,DATA!$B$3:$E1117,2,0)","v":"14:30:00"},{"$f":"VLOOKUP($AA1117,DATA!$B$3:$E1117,3,0)","v":"22:30:00"},{"$f":"VLOOKUP($AA1117,DATA!$B$3:$E1117,4,0)","v":3.125E-2},0.30208333333333337,0.30208333333333337,{"$f":"DATA!$C$9","v":0.89},{"$f":"DATA!$C$10","v":64},1,407.81250000000006,407.81250000000006,0,"","",0,"","",0,"","","","",null,{"$f":"X1108","v":53},null,{"$f":"TEXT(Y1116,\"ddd\")","v":"zo"},"MD",{"$f":"IFERROR(HLOOKUP(Y1116,[1]DATA!$A$1:$NB$5,4,0),\"\")","v":""},null,null,null,null,{"$f":"VLOOKUP(Y1116,[1]SRM!$S$4:$AA$368,7,0)","v":{"$error":"#N/A"}},"","",""]
["53zoZND",{"$f":"VLOOKUP($AA1118,DATA!$B$3:$E1118,2,0)","v":"00:00:00"},{"$f":"VLOOKUP($AA1118,DATA!$B$3:$E1118,3,0)","v":"00:00:00"},{"$f":"VLOOKUP($AA1118,DATA!$B$3:$E1118,4,0)","v":0},0,0,{"$f":"DATA!$C$9","v":0.89},{"$f":"DATA!$C$10","v":64},1,0,0,0,"","",0,"","",0,"","","","",null,{"$f":"X1108","v":53},null,{"$f":"TEXT(Y1116,\"ddd\")","v":"zo"},"ZND",{"$f":"IFERROR(HLOOKUP(Y1116,[1]DATA!$A$1:$NB$5,5,0),\"\")","v":""},null,null,null,null,{"$f":"VLOOKUP(Y1116,[1]SRM!$S$4:$AA$368,8,0)","v":{"$error":"#N/A"}},"","",""]

{"sheet":"Grafieken","index":3,"n_rows":20,"n_cols":28,"rows_kept":20,"cut":false,"hidden":false,"merged":[[9,27,11,27]]}
[]
[]
[null,null,null,null,null,null,null,null,null,null,null,null,null,null,null,0.89]
[null,null,null,null,null,null,null,null,null,null,null,null,null,null,null,0.89]
[null,null,null,null,null,null,null,null,null,null,null,null,null,null,null,0.89]
[null,null,null,null,null,null,null,null,null,null,null,null,null,null,null,0.89]
[null,null,null,null,null,null,null,null,null,null,null,null,null,null,null,0.89]
[null,null,null,null,null,null,null,null,null,null,null,null,null,null,null,0.89]
[null,null,null,null,null,null,null,null,null,null,null,null,null,null,null,0.89,null,null,null,null,null,null,null,null,null,null,null,"Week"]
[null,null,null,null,null,null,null,null,null,null,null,null,null,null,null,0.89,null,null,null,null,null,null,null,null,null,null,null,39]
[null,null,null,null,null,null,null,null,null,null,null,null,null,null,null,0.89]
[null,null,null,null,null,null,null,null,null,null,null,null,null,null,null,0.89]
[null,null,null,null,null,null,null,null,null,null,null,null,null,null,null,0.89]
[null,null,null,null,null,null,null,null,null,null,null,null,null,null,null,0.89]
[null,null,null,null,null,null,null,null,null,null,null,null,null,null,null,0.89]
[null,null,null,null,null,null,null,null,null,null,null,null,null,null,null,0.89]
[null,null,null,null,null,null,null,null,null,null,null,null,null,null,null,0.89]
[null,null,null,null,null,null,null,null,null,null,null,null,null,null,null,0.89]
[null,null,null,null,null,null,null,null,null,null,null,null,null,null,null,0.89]
[null,null,null,null,null,null,null,null,null,null,null,null,null,null,null,0.89]

{"sheet":"Data voor grafieken","index":4,"n_rows":63,"n_cols":23,"rows_kept":63,"cut":false,"hidden":true,"merged":[[20,1,21,1],[33,1,34,1],[33,20,33,22],[2,18,9,18],[11,18,18,18],[33,2,33,4],[33,5,33,7],[33,8,33,10],[33,11,33,13],[33,14,33,16],[33,17,33,19],[20,11,20,16],[20,2,20,7]]}
[{"$f":"Grafieken!AB10","v":39},0]
[null,"Week",null,null,"Parts Target\n[TA 100%]","Parts Actual","Availability (Total Time)\n[%]","Loss due to Blocked/ Starved\n[Theoretical]","Loss Blocked/ Starved [%]","Loss due to\nPlanned Stop/ Early Finish","Loss \nPlanned Stop/ Early Finish\n[%]","Technical Availability Total\n[%]","Technical Availability \nShift D1\n[%]","Technical Availability Shift D2\n[%]","Technical Availability Shift D3\n[%]","Downtime [Parts]","Total Downtime\n[%]","Target TA [%]"]
[2017,{"$f":"B4-1","v":33},null,null,{"$f":"VLOOKUP($B3,'TA SRM LH'!$X$6:$AY$1118,14,FALSE)","v":6525},{"$f":"VLOOKUP($B3,'TA SRM LH'!$X$6:$AY$1118,15,FALSE)","v":4175},{"$f":"VLOOKUP($B3,'TA SRM LH'!$X$6:$AY$1118,16,FALSE)","v":0.63984674329501912},{"$f":"VLOOKUP($B3,'TA SRM LH'!$X$6:$AY$1118,17,FALSE)","v":707.8125},{"$f":"VLOOKUP($B3,'TA SRM LH'!$X$6:$AY$1118,18,FALSE)","v":0.10847701149425287},{"$f":"VLOOKUP($B3,'TA SRM LH'!$X$6:$AY$1118,19,FALSE)","v":0},{"$f":"VLOOKUP($B3,'TA SRM LH'!$X$6:$AY$1118,20,FALSE)","v":0},{"$f":"VLOOKUP($B3,'TA SRM LH'!$X$6:$AY$1118,21,FALSE)","v":0.96089872966067069},{"$f":"VLOOKUP($B3,'TA SRM LH'!$X$6:$AY$1118,22,FALSE)","v":0.9814112176109957},{"$f":"VLOOKUP($B3,'TA SRM LH'!$X$6:$AY$1118,23,FALSE)","v":0.91730332281345273},{"$f":"VLOOKUP($B3,'TA SRM LH'!$X$6:$AY$1118,24,FALSE)","v":0.99270072992700731},{"$f":"VLOOKUP($B3,'TA SRM LH'!$X$6:$AY$1118,25,FALSE)","v":1642.1875},{"$f":"VLOOKUP($B3,'TA SRM LH'!$X$6:$AY$1118,26,FALSE)","v":0.25167624521072801},{"$f":"DATA!$C$9","v":0.89},"SRI LH"]
[null,34,null,null,{"$f":"VLOOKUP($B4,'TA SRM LH'!$X$6:$AY$1118,14,FALSE)","v":6117.1875},{"$f":"VLOOKUP($B4,'TA SRM LH'!$X$6:$AY$1118,15,FALSE)","v":4335},{"$f":"VLOOKUP($B4,'TA SRM LH'!$X$6:$AY$1118,16,FALSE)","v":0.70865900383141767},{"$f":"VLOOKUP($B4,'TA SRM LH'!$X$6:$AY$1118,17,FALSE)","v":604.6875},{"$f":"VLOOKUP($B4,'TA SRM LH'!$X$6:$AY$1118,18,FALSE)","v":9.8850574712643677E-2},{"$f":"VLOOKUP($B4,'TA SRM LH'!$X$6:$AY$1118,19,FALSE)","v":0},{"$f":"VLOOKUP($B4,'TA SRM LH'!$X$6:$AY$1118,20,FALSE)","v":0},{"$f":"VLOOKUP($B4,'TA SRM LH'!$X$6:$AY$1118,21,FALSE)","v":0.90638274053396528},{"$f":"VLOOKUP($B4,'TA SRM LH'!$X$6:$AY$1118,22,FALSE)","v":0.96386942829987032},{"$f":"VLOOKUP($B4,'TA SRM LH'!$X$6:$AY$1118,23,FALSE)","v":0.91561688669472741},{"$f":"VLOOKUP($B4,'TA SRM LH'!$X$6:$AY$1118,24,FALSE)","v":0.83966190660729845},{"$f":"VLOOKUP($B4,'TA SRM LH'!$X$6:$AY$1118,25,FALSE)","v":1177.5},{"$f":"VLOOKUP($B4,'TA SRM LH'!$X$6:$AY$1118,26,FALSE)","v":0.19249042145593864},{"$f":"DATA!$C$9","v":0.89}]
[null,35,null,null,{"$f":"VLOOKUP($B5,'TA SRM LH'!$X$6:$AY$1118,14,FALSE)","v":6117.1875},{"$f":"VLOOKUP($B5,'TA SRM LH'!$X$6:$AY$1118,15,FALSE)","v":4498},{"$f":"VLOOKUP($B5,'TA SRM LH'!$X$6:$AY$1118,16,FALSE)","v":0.7353052362707535},{"$f":"VLOOKUP($B5,'TA SRM LH'!$X$6:$AY$1118,17,FALSE)","v":705},{"$f":"VLOOKUP($B5,'TA SRM LH'!$X$6:$AY$1118,18,FALSE)","v":0.11524904214559387},{"$f":"VLOOKUP($B5,'TA SRM LH'!$X$6:$AY$1118,19,FALSE)","v":0},{"$f":"VLOOKUP($B5,'TA SRM LH'!$X$6:$AY$1118,20,FALSE)","v":0},{"$f":"VLOOKUP($B5,'TA SRM LH'!$X$6:$AY$1118,21,FALSE)","v":0.91560008909182122},{"$f":"VLOOKUP($B5,'TA SRM LH'!$X$6:$AY$1118,22,FALSE)","v":0.96269157224416302},{"$f":"VLOOKUP($B5,'TA SRM LH'!$X$6:$AY$1118,23,FALSE)","v":0.9134719595876325},{"$f":"VLOOKUP($B5,'TA SRM LH'!$X$6:$AY$1118,24,FALSE)","v":0.88048065797497477},{"$f":"VLOOKUP($B5,'TA SRM LH'!$X$6:$AY$1118,25,FALSE)","v":914.1875},{"$f":"VLOOKUP($B5,'TA SRM LH'!$X$6:$AY$1118,26,FALSE)","v":0.14944572158365263},{"$f":"DATA!$C$9","v":0.89}]
[null,{"$f":"B7-1","v":36},null,null,{"$f":"VLOOKUP($B6,'TA SRM LH'!$X$6:$AY$1118,14,FALSE)","v":6525},{"$f":"VLOOKUP($B6,'TA SRM LH'!$X$6:$AY$1118,15,FALSE)","v":4201},{"$f":"VLOOKUP($B6,'TA SRM LH'!$X$6:$AY$1118,16,FALSE)","v":0.64383141762452112},{"$f":"VLOOKUP($B6,'TA SRM LH'!$X$6:$AY$1118,17,FALSE)","v":535.3125},{"$f":"VLOOKUP($B6,'TA SRM LH'!$X$6:$AY$1118,18,FALSE)","v":8.2040229885057478E-2},{"$f":"VLOOKUP($B6,'TA SRM LH'!$X$6:$AY$1118,19,FALSE)","v":0},{"$f":"VLOOKUP($B6,'TA SRM LH'!$X$6:$AY$1118,20,FALSE)","v":0},{"$f":"VLOOKUP($B6,'TA SRM LH'!$X$6:$AY$1118,21,FALSE)","v":0.88883708219609747},{"$f":"VLOOKUP($B6,'TA SRM LH'!$X$6:$AY$1118,22,FALSE)","v":0.98339884250313259},{"$f":"VLOOKUP($B6,'TA SRM LH'!$X$6:$AY$1118,23,FALSE)","v":0.89719429788881699},{"$f":"VLOOKUP($B6,'TA SRM LH'!$X$6:$AY$1118,24,FALSE)","v":0.78424666305779822},{"$f":"VLOOKUP($B6,'TA SRM LH'!$X$6:$AY$1118,25,FALSE)","v":1788.6875},{"$f":"VLOOKUP($B6,'TA SRM LH'!$X$6:$AY$1118,26,FALSE)","v":0.27412835249042139},{"$f":"DATA!$C$9","v":0.89}]
[null,{"$f":"B8-1","v":37},null,null,{"$f":"VLOOKUP($B7,'TA SRM LH'!$X$6:$AY$1118,14,FALSE)","v":6117.1875},{"$f":"VLOOKUP($B7,'TA SRM LH'!$X$6:$AY$1118,15,FALSE)","v":4510},{"$f":"VLOOKUP($B7,'TA SRM LH'!$X$6:$AY$1118,16,FALSE)","v":0.73726692209450828},{"$f":"VLOOKUP($B7,'TA SRM LH'!$X$6:$AY$1118,17,FALSE)","v":620.625},{"$f":"VLOOKUP($B7,'TA SRM LH'!$X$6:$AY$1118,18,FALSE)","v":0.101455938697318},{"$f":"VLOOKUP($B7,'TA SRM LH'!$X$6:$AY$1118,19,FALSE)","v":0},{"$f":"VLOOKUP($B7,'TA SRM LH'!$X$6:$AY$1118,20,FALSE)","v":0},{"$f":"VLOOKUP($B7,'TA SRM LH'!$X$6:$AY$1118,21,FALSE)","v":0.9214918007101911},{"$f":"VLOOKUP($B7,'TA SRM LH'!$X$6:$AY$1118,22,FALSE)","v":0.96270751037751656},{"$f":"VLOOKUP($B7,'TA SRM LH'!$X$6:$AY$1118,23,FALSE)","v":0.93860531572998784},{"$f":"VLOOKUP($B7,'TA SRM LH'!$X$6:$AY$1118,24,FALSE)","v":0.86316257602306923},{"$f":"VLOOKUP($B7,'TA SRM LH'!$X$6:$AY$1118,25,FALSE)","v":986.5625},{"$f":"VLOOKUP($B7,'TA SRM LH'!$X$6:$AY$1118,26,FALSE)","v":0.16127713920817371},{"$f":"DATA!$C$9","v":0.89}]
[null,38,null,null,{"$f":"VLOOKUP($B8,'TA SRM LH'!$X$6:$AY$1118,14,FALSE)","v":6117.1875},{"$f":"VLOOKUP($B8,'TA SRM LH'!$X$6:$AY$1118,15,FALSE)","v":4258},{"$f":"VLOOKUP($B8,'TA SRM LH'!$X$6:$AY$1118,16,FALSE)","v":0.69607151979565773},{"$f":"VLOOKUP($B8,'TA SRM LH'!$X$6:$AY$1118,17,FALSE)","v":715.3125},{"$f":"VLOOKUP($B8,'TA SRM LH'!$X$6:$AY$1118,18,FALSE)","v":0.11693486590038314},{"$f":"VLOOKUP($B8,'TA SRM LH'!$X$6:$AY$1118,19,FALSE)","v":0},{"$f":"VLOOKUP($B8,'TA SRM LH'!$X$6:$AY$1118,20,FALSE)","v":0},{"$f":"VLOOKUP($B8,'TA SRM LH'!$X$6:$AY$1118,21,FALSE)","v":0.89934998598277827},{"$f":"VLOOKUP($B8,'TA SRM LH'!$X$6:$AY$1118,22,FALSE)","v":0.9637795749789233},{"$f":"VLOOKUP($B8,'TA SRM LH'!$X$6:$AY$1118,23,FALSE)","v":0.87940630823182986},{"$f":"VLOOKUP($B8,'TA SRM LH'!$X$6:$AY$1118,24,FALSE)","v":0.87173872808700037},{"$f":"VLOOKUP($B8,'TA SRM LH'!$X$6:$AY$1118,25,FALSE)","v":1143.875},{"$f":"VLOOKUP($B8,'TA SRM LH'!$X$6:$AY$1118,26,FALSE)","v":0.18699361430395911},{"$f":"DATA!$C$9","v":0.89}]
[null,{"$f":"A1","v":39},null,null,{"$f":"VLOOKUP($B9,'TA SRM LH'!$X$6:$AY$1118,14,FALSE)","v":""},{"$f":"VLOOKUP($B9,'TA SRM LH'!$X$6:$AY$1118,15,FALSE)","v":""},{"$f":"VLOOKUP($B9,'TA SRM LH'!$X$6:$AY$1118,16,FALSE)","v":"-"},{"$f":"VLOOKUP($B9,'TA SRM LH'!$X$6:$AY$1118,17,FALSE)","v":"0"},{"$f":"VLOOKUP($B9,'TA SRM LH'!$X$6:$AY$1118,18,FALSE)","v":"-"},{"$f":"VLOOKUP($B9,'TA SRM LH'!$X$6:$AY$1118,19,FALSE)","v":0},{"$f":"VLOOKUP($B9,'TA SRM LH'!$X$6:$AY$1118,20,FALSE)","v":"-"},{"$f":"VLOOKUP($B9,'TA SRM LH'!$X$6:$AY$1118,21,FALSE)","v":0},{"$f":"VLOOKUP($B9,'TA SRM LH'!$X$6:$AY$1118,22,FALSE)","v":""},{"$f":"VLOOKUP($B9,'TA SRM LH'!$X$6:$AY$1118,23,FALSE)","v":""},{"$f":"VLOOKUP($B9,'TA SRM LH'!$X$6:$AY$1118,24,FALSE)","v":""},{"$f":"VLOOKUP($B9,'TA SRM LH'!$X$6:$AY$1118,25,FALSE)","v":"-"},{"$f":"VLOOKUP($B9,'TA SRM LH'!$X$6:$AY$1118,26,FALSE)","v":"-"},{"$f":"DATA!$C$9","v":0.89}]
[null,{"$f":"B9+1","v":40},null,null,{"$f":"VLOOKUP($B10,'TA SRM LH'!$X$6:$AY$1118,14,FALSE)","v":""},{"$f":"VLOOKUP($B10,'TA SRM LH'!$X$6:$AY$1118,15,FALSE)","v":""},{"$f":"VLOOKUP($B10,'TA SRM LH'!$X$6:$AY$1118,16,FALSE)","v":"-"},{"$f":"VLOOKUP($B10,'TA SRM LH'!$X$6:$AY$1118,17,FALSE)","v":"0"},{"$f":"VLOOKUP($B10,'TA SRM LH'!$X$6:$AY$1118,18,FALSE)","v":"-"},{"$f":"VLOOKUP($B10,'TA SRM LH'!$X$6:$AY$1118,19,FALSE)","v":0},{"$f":"VLOOKUP($B10,'TA SRM LH'!$X$6:$AY$1118,20,FALSE)","v":"-"},{"$f":"VLOOKUP($B10,'TA SRM LH'!$X$6:$AY$1118,21,FALSE)","v":"-"},{"$f":"VLOOKUP($B10,'TA SRM LH'!$X$6:$AY$1118,22,FALSE)","v":""},{"$f":"VLOOKUP($B10,'TA SRM LH'!$X$6:$AY$1118,23,FALSE)","v":""},{"$f":"VLOOKUP($B10,'TA SRM LH'!$X$6:$AY$1118,24,FALSE)","v":""},{"$f":"VLOOKUP($B10,'TA SRM LH'!$X$6:$AY$1118,25,FALSE)","v":"-"},{"$f":"VLOOKUP($B10,'TA SRM LH'!$X$6:$AY$1118,26,FALSE)","v":"-"},{"$f":"DATA!$C$9","v":0.89}]
[]
[null,{"$f":"$B$3","v":33},null,null,{"$f":"VLOOKUP($B12,'TA SRM RH'!$X$6:$AY$1118,14,FALSE)","v":6117.1875},{"$f":"VLOOKUP($B12,'TA SRM RH'!$X$6:$AY$1118,15,FALSE)","v":3850},{"$f":"VLOOKUP($B12,'TA SRM RH'!$X$6:$AY$1118,16,FALSE)","v":0.62937420178799486},{"$f":"VLOOKUP($B12,'TA SRM RH'!$X$6:$AY$1118,17,FALSE)","v":781.875},{"$f":"VLOOKUP($B12,'TA SRM RH'!$X$6:$AY$1118,18,FALSE)","v":0.12781609195402299},{"$f":"VLOOKUP($B12,'TA SRM RH'!$X$6:$AY$1118,19,FALSE)","v":0},{"$f":"VLOOKUP($B12,'TA SRM RH'!$X$6:$AY$1118,20,FALSE)","v":0},{"$f":"VLOOKUP($B12,'TA SRM RH'!$X$6:$AY$1118,21,FALSE)","v":0.96137013624398304},{"$f":"VLOOKUP($B12,'TA SRM RH'!$X$6:$AY$1118,22,FALSE)","v":0.96095374714605952},{"$f":"VLOOKUP($B12,'TA SRM RH'!$X$6:$AY$1118,23,FALSE)","v":0.93646458593802862},{"$f":"VLOOKUP($B12,'TA SRM RH'!$X$6:$AY$1118,24,FALSE)","v":0.99158990788946733},{"$f":"VLOOKUP($B12,'TA SRM RH'!$X$6:$AY$1118,25,FALSE)","v":1485.3125},{"$f":"VLOOKUP($B12,'TA SRM RH'!$X$6:$AY$1118,26,FALSE)","v":0.24280970625798215},{"$f":"DATA!$C$9","v":0.89},"SRI RH"]
[null,{"$f":"$B$4","v":34},null,null,{"$f":"VLOOKUP($B13,'TA SRM RH'!$X$6:$AY$1118,14,FALSE)","v":6117.1875},{"$f":"VLOOKUP($B13,'TA SRM RH'!$X$6:$AY$1118,15,FALSE)","v":4695},{"$f":"VLOOKUP($B13,'TA SRM RH'!$X$6:$AY$1118,16,FALSE)","v":0.76750957854406132},{"$f":"VLOOKUP($B13,'TA SRM RH'!$X$6:$AY$1118,17,FALSE)","v":555.9375},{"$f":"VLOOKUP($B13,'TA SRM RH'!$X$6:$AY$1118,18,FALSE)","v":9.0881226053639852E-2},{"$f":"VLOOKUP($B13,'TA SRM RH'!$X$6:$AY$1118,19,FALSE)","v":0},{"$f":"VLOOKUP($B13,'TA SRM RH'!$X$6:$AY$1118,20,FALSE)","v":0},{"$f":"VLOOKUP($B13,'TA SRM RH'!$X$6:$AY$1118,21,FALSE)","v":0.91753871322665526},{"$f":"VLOOKUP($B13,'TA SRM RH'!$X$6:$AY$1118,22,FALSE)","v":0.95406331354802165},{"$f":"VLOOKUP($B13,'TA SRM RH'!$X$6:$AY$1118,23,FALSE)","v":0.92600244154681821},{"$f":"VLOOKUP($B13,'TA SRM RH'!$X$6:$AY$1118,24,FALSE)","v":0.87255038458512613},{"$f":"VLOOKUP($B13,'TA SRM RH'!$X$6:$AY$1118,25,FALSE)","v":866.25},{"$f":"VLOOKUP($B13,'TA SRM RH'!$X$6:$AY$1118,26,FALSE)","v":0.14160919540229883},{"$f":"DATA!$C$9","v":0.89}]
[null,{"$f":"$B$5","v":35},null,null,{"$f":"VLOOKUP($B14,'TA SRM RH'!$X$6:$AY$1118,14,FALSE)","v":6117.1875},{"$f":"VLOOKUP($B14,'TA SRM RH'!$X$6:$AY$1118,15,FALSE)","v":4570},{"$f":"VLOOKUP($B14,'TA SRM RH'!$X$6:$AY$1118,16,FALSE)","v":0.74707535121328228},{"$f":"VLOOKUP($B14,'TA SRM RH'!$X$6:$AY$1118,17,FALSE)","v":382.5},{"$f":"VLOOKUP($B14,'TA SRM RH'!$X$6:$AY$1118,18,FALSE)","v":6.2528735632183904E-2},{"$f":"VLOOKUP($B14,'TA SRM RH'!$X$6:$AY$1118,19,FALSE)","v":0},{"$f":"VLOOKUP($B14,'TA SRM RH'!$X$6:$AY$1118,20,FALSE)","v":0},{"$f":"VLOOKUP($B14,'TA SRM RH'!$X$6:$AY$1118,21,FALSE)","v":0.8573909824090713},{"$f":"VLOOKUP($B14,'TA SRM RH'!$X$6:$AY$1118,22,FALSE)","v":0.97436273950133279},{"$f":"VLOOKUP($B14,'TA SRM RH'!$X$6:$AY$1118,23,FALSE)","v":0.85305533720541538},{"$f":"VLOOKUP($B14,'TA SRM RH'!$X$6:$AY$1118,24,FALSE)","v":0.76901635097964915},{"$f":"VLOOKUP($B14,'TA SRM RH'!$X$6:$AY$1118,25,FALSE)","v":1164.6875},{"$f":"VLOOKUP($B14,'TA SRM RH'!$X$6:$AY$1118,26,FALSE)","v":0.1903959131545338},{"$f":"DATA!$C$9","v":0.89}]
[null,{"$f":"$B$6","v":36},null,null,{"$f":"VLOOKUP($B15,'TA SRM RH'!$X$6:$AY$1118,14,FALSE)","v":6525},{"$f":"VLOOKUP($B15,'TA SRM RH'!$X$6:$AY$1118,15,FALSE)","v":4211},{"$f":"VLOOKUP($B15,'TA SRM RH'!$X$6:$AY$1118,16,FALSE)","v":0.64536398467432954},{"$f":"VLOOKUP($B15,'TA SRM RH'!$X$6:$AY$1118,17,FALSE)","v":380.625},{"$f":"VLOOKUP($B15,'TA SRM RH'!$X$6:$AY$1118,18,FALSE)","v":5.8333333333333334E-2},{"$f":"VLOOKUP($B15,'TA SRM RH'!$X$6:$AY$1118,19,FALSE)","v":0},{"$f":"VLOOKUP($B15,'TA SRM RH'!$X$6:$AY$1118,20,FALSE)","v":0},{"$f":"VLOOKUP($B15,'TA SRM RH'!$X$6:$AY$1118,21,FALSE)","v":0.91688047920380533},{"$f":"VLOOKUP($B15,'TA SRM RH'!$X$6:$AY$1118,22,FALSE)","v":0.94599131446847107},{"$f":"VLOOKUP($B15,'TA SRM RH'!$X$6:$AY$1118,23,FALSE)","v":0.88476881800942808},{"$f":"VLOOKUP($B15,'TA SRM RH'!$X$6:$AY$1118,24,FALSE)","v":0.9263036373723923},{"$f":"VLOOKUP($B15,'TA SRM RH'!$X$6:$AY$1118,25,FALSE)","v":1933.375},{"$f":"VLOOKUP($B15,'TA SRM RH'!$X$6:$AY$1118,26,FALSE)","v":0.29630268199233711},{"$f":"DATA!$C$9","v":0.89}]
[null,{"$f":"$B$7","v":37},null,null,{"$f":"VLOOKUP($B16,'TA SRM RH'!$X$6:$AY$1118,14,FALSE)","v":6117.1875},{"$f":"VLOOKUP($B16,'TA SRM RH'!$X$6:$AY$1118,15,FALSE)","v":4544},{"$f":"VLOOKUP($B16,'TA SRM RH'!$X$6:$AY$1118,16,FALSE)","v":0.74282503192848015},{"$f":"VLOOKUP($B16,'TA SRM RH'!$X$6:$AY$1118,17,FALSE)","v":553.125},{"$f":"VLOOKUP($B16,'TA SRM RH'!$X$6:$AY$1118,18,FALSE)","v":9.0421455938697312E-2},{"$f":"VLOOKUP($B16,'TA SRM RH'!$X$6:$AY$1118,19,FALSE)","v":0},{"$f":"VLOOKUP($B16,'TA SRM RH'!$X$6:$AY$1118,20,FALSE)","v":0},{"$f":"VLOOKUP($B16,'TA SRM RH'!$X$6:$AY$1118,21,FALSE)","v":0.94309432867278764},{"$f":"VLOOKUP($B16,'TA SRM RH'!$X$6:$AY$1118,22,FALSE)","v":0.98046808806630548},{"$f":"VLOOKUP($B16,'TA SRM RH'!$X$6:$AY$1118,23,FALSE)","v":0.93853042014180588},{"$f":"VLOOKUP($B16,'TA SRM RH'!$X$6:$AY$1118,24,FALSE)","v":0.9102844778102519},{"$f":"VLOOKUP($B16,'TA SRM RH'!$X$6:$AY$1118,25,FALSE)","v":1020.0625},{"$f":"VLOOKUP($B16,'TA SRM RH'!$X$6:$AY$1118,26,FALSE)","v":0.16675351213282252},{"$f":"DATA!$C$9","v":0.89}]
[null,{"$f":"$B$8","v":38},null,null,{"$f":"VLOOKUP($B17,'TA SRM RH'!$X$6:$AY$1118,14,FALSE)","v":6117.1875},{"$f":"VLOOKUP($B17,'TA SRM RH'!$X$6:$AY$1118,15,FALSE)","v":4262},{"$f":"VLOOKUP($B17,'TA SRM RH'!$X$6:$AY$1118,16,FALSE)","v":0.69672541507024266},{"$f":"VLOOKUP($B17,'TA SRM RH'!$X$6:$AY$1118,17,FALSE)","v":415.3125},{"$f":"VLOOKUP($B17,'TA SRM RH'!$X$6:$AY$1118,18,FALSE)","v":6.7892720306513415E-2},{"$f":"VLOOKUP($B17,'TA SRM RH'!$X$6:$AY$1118,19,FALSE)","v":0},{"$f":"VLOOKUP($B17,'TA SRM RH'!$X$6:$AY$1118,20,FALSE)","v":0},{"$f":"VLOOKUP($B17,'TA SRM RH'!$X$6:$AY$1118,21,FALSE)","v":0.88947704448080034},{"$f":"VLOOKUP($B17,'TA SRM RH'!$X$6:$AY$1118,22,FALSE)","v":0.87477481221247411},{"$f":"VLOOKUP($B17,'TA SRM RH'!$X$6:$AY$1118,23,FALSE)","v":0.93317619807808949},{"$f":"VLOOKUP($B17,'TA SRM RH'!$X$6:$AY$1118,24,FALSE)","v":0.84879984597871427},{"$f":"VLOOKUP($B17,'TA SRM RH'!$X$6:$AY$1118,25,FALSE)","v":1439.875},{"$f":"VLOOKUP($B17,'TA SRM RH'!$X$6:$AY$1118,26,FALSE)","v":0.23538186462324392},{"$f":"DATA!$C$9","v":0.89}]
[null,{"$f":"$B$9","v":39},null,null,{"$f":"VLOOKUP($B18,'TA SRM RH'!$X$6:$AY$1118,14,FALSE)","v":""},{"$f":"VLOOKUP($B18,'TA SRM RH'!$X$6:$AY$1118,15,FALSE)","v":""},{"$f":"VLOOKUP($B18,'TA SRM RH'!$X$6:$AY$1118,16,FALSE)","v":"-"},{"$f":"VLOOKUP($B18,'TA SRM RH'!$X$6:$AY$1118,17,FALSE)","v":"0"},{"$f":"VLOOKUP($B18,'TA SRM RH'!$X$6:$AY$1118,18,FALSE)","v":"-"},{"$f":"VLOOKUP($B18,'TA SRM RH'!$X$6:$AY$1118,19,FALSE)","v":0},{"$f":"VLOOKUP($B18,'TA SRM RH'!$X$6:$AY$1118,20,FALSE)","v":"-"},{"$f":"VLOOKUP($B18,'TA SRM RH'!$X$6:$AY$1118,21,FALSE)","v":0},{"$f":"VLOOKUP($B18,'TA SRM RH'!$X$6:$AY$1118,22,FALSE)","v":""},{"$f":"VLOOKUP($B18,'TA SRM RH'!$X$6:$AY$1118,23,FALSE)","v":""},{"$f":"VLOOKUP($B18,'TA SRM RH'!$X$6:$AY$1118,24,FALSE)","v":""},{"$f":"VLOOKUP($B18,'TA SRM RH'!$X$6:$AY$1118,25,FALSE)","v":"-"},{"$f":"VLOOKUP($B18,'TA SRM RH'!$X$6:$AY$1118,26,FALSE)","v":"-"},{"$f":"DATA!$C$9","v":0.89}]
[null,{"$f":"$B$10","v":40},null,null,{"$f":"VLOOKUP($B19,'TA SRM RH'!$X$6:$AY$1118,14,FALSE)","v":""},{"$f":"VLOOKUP($B19,'TA SRM RH'!$X$6:$AY$1118,15,FALSE)","v":""},{"$f":"VLOOKUP($B19,'TA SRM RH'!$X$6:$AY$1118,16,FALSE)","v":"-"},{"$f":"VLOOKUP($B19,'TA SRM RH'!$X$6:$AY$1118,17,FALSE)","v":"0"},{"$f":"VLOOKUP($B19,'TA SRM RH'!$X$6:$AY$1118,18,FALSE)","v":"-"},{"$f":"VLOOKUP($B19,'TA SRM RH'!$X$6:$AY$1118,19,FALSE)","v":0},{"$f":"VLOOKUP($B19,'TA SRM RH'!$X$6:$AY$1118,20,FALSE)","v":"-"},{"$f":"VLOOKUP($B19,'TA SRM RH'!$X$6:$AY$1118,21,FALSE)","v":"-"},{"$f":"VLOOKUP($B19,'TA SRM RH'!$X$6:$AY$1118,22,FALSE)","v":""},{"$f":"VLOOKUP($B19,'TA SRM RH'!$X$6:$AY$1118,23,FALSE)","v":""},{"$f":"VLOOKUP($B19,'TA SRM RH'!$X$6:$AY$1118,24,FALSE)","v":""},{"$f":"VLOOKUP($B19,'TA SRM RH'!$X$6:$AY$1118,25,FALSE)","v":"-"},{"$f":"VLOOKUP($B19,'TA SRM RH'!$X$6:$AY$1118,26,FALSE)","v":"-"},{"$f":"DATA!$C$9","v":0.89}]
[]
[null,"Week",{"$f":"\"Technical Downtime SAP \"&DATA!C15","v":"Technical Downtime SAP SRM LH"},null,null,null,null,null,null,null,null,{"$f":"\"Technical Downtime SAP \"&DATA!C16","v":"Technical Downtime SAP SRM RH"}]
[null,null,"F48 [min]","Freq","Running [min]","Freq","Totaal","Feq",null,null,null,"F48 [min]","Freq","Running [min]","Freq","Totaal","Feq"]
[null,{"$f":"$B$3","v":33},{"$f":"VLOOKUP($B23,[1]SRM!$A$4:$P$55,2,0)","v":93},{"$f":"VLOOKUP($B23,[1]SRM!$A$4:$P$55,3,0)","v":7},{"$f":"VLOOKUP($B23,[1]SRM!$A$4:$P$55,4,0)","v":76},{"$f":"VLOOKUP($B23,[1]SRM!$A$4:$P$55,5,0)","v":12},{"$f":"VLOOKUP($B23,[1]SRM!$A$4:$P$55,6,0)","v":169},{"$f":"VLOOKUP($B23,[1]SRM!$A$4:$P$55,7,0)","v":19},null,null,null,{"$f":"VLOOKUP($B23,[1]SRM!$A$4:$P$55,11,0)","v":120},{"$f":"VLOOKUP($B23,[1]SRM!$A$4:$P$55,12,0)","v":8},{"$f":"VLOOKUP($B23,[1]SRM!$A$4:$P$55,13,0)","v":86},{"$f":"VLOOKUP($B23,[1]SRM!$A$4:$P$55,14,0)","v":11},{"$f":"VLOOKUP($B23,[1]SRM!$A$4:$P$55,15,0)","v":206},{"$f":"VLOOKUP($B23,[1]SRM!$A$4:$P$55,16,0)","v":19}]
[null,{"$f":"$B$4","v":34},{"$f":"VLOOKUP($B24,[1]SRM!$A$4:$P$55,2,0)","v":126},{"$f":"VLOOKUP($B24,[1]SRM!$A$4:$P$55,3,0)","v":20},{"$f":"VLOOKUP($B24,[1]SRM!$A$4:$P$55,4,0)","v":396},{"$f":"VLOOKUP($B24,[1]SRM!$A$4:$P$55,5,0)","v":46},{"$f":"VLOOKUP($B24,[1]SRM!$A$4:$P$55,6,0)","v":522},{"$f":"VLOOKUP($B24,[1]SRM!$A$4:$P$55,7,0)","v":66},null,null,null,{"$f":"VLOOKUP($B24,[1]SRM!$A$4:$P$55,11,0)","v":99},{"$f":"VLOOKUP($B24,[1]SRM!$A$4:$P$55,12,0)","v":12},{"$f":"VLOOKUP($B24,[1]SRM!$A$4:$P$55,13,0)","v":362},{"$f":"VLOOKUP($B24,[1]SRM!$A$4:$P$55,14,0)","v":35},{"$f":"VLOOKUP($B24,[1]SRM!$A$4:$P$55,15,0)","v":461},{"$f":"VLOOKUP($B24,[1]SRM!$A$4:$P$55,16,0)","v":47}]
[null,{"$f":"$B$5","v":35},{"$f":"VLOOKUP($B25,[1]SRM!$A$4:$P$55,2,0)","v":258},{"$f":"VLOOKUP($B25,[1]SRM!$A$4:$P$55,3,0)","v":22},{"$f":"VLOOKUP($B25,[1]SRM!$A$4:$P$55,4,0)","v":249},{"$f":"VLOOKUP($B25,[1]SRM!$A$4:$P$55,5,0)","v":40},{"$f":"VLOOKUP($B25,[1]SRM!$A$4:$P$55,6,0)","v":507},{"$f":"VLOOKUP($B25,[1]SRM!$A$4:$P$55,7,0)","v":62},null,null,null,{"$f":"VLOOKUP($B25,[1]SRM!$A$4:$P$55,11,0)","v":414},{"$f":"VLOOKUP($B25,[1]SRM!$A$4:$P$55,12,0)","v":29},{"$f":"VLOOKUP($B25,[1]SRM!$A$4:$P$55,13,0)","v":553},{"$f":"VLOOKUP($B25,[1]SRM!$A$4:$P$55,14,0)","v":52},{"$f":"VLOOKUP($B25,[1]SRM!$A$4:$P$55,15,0)","v":967},{"$f":"VLOOKUP($B25,[1]SRM!$A$4:$P$55,16,0)","v":81}]
[null,{"$f":"$B$6","v":36},{"$f":"VLOOKUP($B26,[1]SRM!$A$4:$P$55,2,0)","v":396},{"$f":"VLOOKUP($B26,[1]SRM!$A$4:$P$55,3,0)","v":15},{"$f":"VLOOKUP($B26,[1]SRM!$A$4:$P$55,4,0)","v":305},{"$f":"VLOOKUP($B26,[1]SRM!$A$4:$P$55,5,0)","v":35},{"$f":"VLOOKUP($B26,[1]SRM!$A$4:$P$55,6,0)","v":701},{"$f":"VLOOKUP($B26,[1]SRM!$A$4:$P$55,7,0)","v":50},null,null,null,{"$f":"VLOOKUP($B26,[1]SRM!$A$4:$P$55,11,0)","v":130},{"$f":"VLOOKUP($B26,[1]SRM!$A$4:$P$55,12,0)","v":11},{"$f":"VLOOKUP($B26,[1]SRM!$A$4:$P$55,13,0)","v":390},{"$f":"VLOOKUP($B26,[1]SRM!$A$4:$P$55,14,0)","v":38},{"$f":"VLOOKUP($B26,[1]SRM!$A$4:$P$55,15,0)","v":520},{"$f":"VLOOKUP($B26,[1]SRM!$A$4:$P$55,16,0)","v":49}]
[null,{"$f":"$B$7","v":37},{"$f":"VLOOKUP($B27,[1]SRM!$A$4:$P$55,2,0)","v":193},{"$f":"VLOOKUP($B27,[1]SRM!$A$4:$P$55,3,0)","v":20},{"$f":"VLOOKUP($B27,[1]SRM!$A$4:$P$55,4,0)","v":237},{"$f":"VLOOKUP($B27,[1]SRM!$A$4:$P$55,5,0)","v":47},{"$f":"VLOOKUP($B27,[1]SRM!$A$4:$P$55,6,0)","v":430},{"$f":"VLOOKUP($B27,[1]SRM!$A$4:$P$55,7,0)","v":67},null,null,null,{"$f":"VLOOKUP($B27,[1]SRM!$A$4:$P$55,11,0)","v":80},{"$f":"VLOOKUP($B27,[1]SRM!$A$4:$P$55,12,0)","v":12},{"$f":"VLOOKUP($B27,[1]SRM!$A$4:$P$55,13,0)","v":243},{"$f":"VLOOKUP($B27,[1]SRM!$A$4:$P$55,14,0)","v":39},{"$f":"VLOOKUP($B27,[1]SRM!$A$4:$P$55,15,0)","v":323},{"$f":"VLOOKUP($B27,[1]SRM!$A$4:$P$55,16,0)","v":51}]
[null,{"$f":"$B$8","v":38},{"$f":"VLOOKUP($B28,[1]SRM!$A$4:$P$55,2,0)","v":307},{"$f":"VLOOKUP($B28,[1]SRM!$A$4:$P$55,3,0)","v":30},{"$f":"VLOOKUP($B28,[1]SRM!$A$4:$P$55,4,0)","v":271},{"$f":"VLOOKUP($B28,[1]SRM!$A$4:$P$55,5,0)","v":30},{"$f":"VLOOKUP($B28,[1]SRM!$A$4:$P$55,6,0)","v":578},{"$f":"VLOOKUP($B28,[1]SRM!$A$4:$P$55,7,0)","v":60},null,null,null,{"$f":"VLOOKUP($B28,[1]SRM!$A$4:$P$55,11,0)","v":98},{"$f":"VLOOKUP($B28,[1]SRM!$A$4:$P$55,12,0)","v":14},{"$f":"VLOOKUP($B28,[1]SRM!$A$4:$P$55,13,0)","v":544},{"$f":"VLOOKUP($B28,[1]SRM!$A$4:$P$55,14,0)","v":57},{"$f":"VLOOKUP($B28,[1]SRM!$A$4:$P$55,15,0)","v":642},{"$f":"VLOOKUP($B28,[1]SRM!$A$4:$P$55,16,0)","v":71}]
[null,{"$f":"$B$9","v":39},{"$f":"VLOOKUP($B29,[1]SRM!$A$4:$P$55,2,0)","v":148},{"$f":"VLOOKUP($B29,[1]SRM!$A$4:$P$55,3,0)","v":15},{"$f":"VLOOKUP($B29,[1]SRM!$A$4:$P$55,4,0)","v":180},{"$f":"VLOOKUP($B29,[1]SRM!$A$4:$P$55,5,0)","v":25},{"$f":"VLOOKUP($B29,[1]SRM!$A$4:$P$55,6,0)","v":328},{"$f":"VLOOKUP($B29,[1]SRM!$A$4:$P$55,7,0)","v":40},null,null,null,{"$f":"VLOOKUP($B29,[1]SRM!$A$4:$P$55,11,0)","v":123},{"$f":"VLOOKUP($B29,[1]SRM!$A$4:$P$55,12,0)","v":15},{"$f":"VLOOKUP($B29,[1]SRM!$A$4:$P$55,13,0)","v":690},{"$f":"VLOOKUP($B29,[1]SRM!$A$4:$P$55,14,0)","v":36},{"$f":"VLOOKUP($B29,[1]SRM!$A$4:$P$55,15,0)","v":813},{"$f":"VLOOKUP($B29,[1]SRM!$A$4:$P$55,16,0)","v":51}]
[null,{"$f":"$B$10","v":40},{"$f":"VLOOKUP($B30,[1]SRM!$A$4:$P$55,2,0)","v":0},{"$f":"VLOOKUP($B30,[1]SRM!$A$4:$P$55,3,0)","v":0},{"$f":"VLOOKUP($B30,[1]SRM!$A$4:$P$55,4,0)","v":0},{"$f":"VLOOKUP($B30,[1]SRM!$A$4:$P$55,5,0)","v":0},{"$f":"VLOOKUP($B30,[1]SRM!$A$4:$P$55,6,0)","v":0},{"$f":"VLOOKUP($B30,[1]SRM!$A$4:$P$55,7,0)","v":0},null,null,null,{"$f":"VLOOKUP($B30,[1]SRM!$A$4:$P$55,11,0)","v":0},{"$f":"VLOOKUP($B30,[1]SRM!$A$4:$P$55,12,0)","v":0},{"$f":"VLOOKUP($B30,[1]SRM!$A$4:$P$55,13,0)","v":0},{"$f":"VLOOKUP($B30,[1]SRM!$A$4:$P$55,14,0)","v":0},{"$f":"VLOOKUP($B30,[1]SRM!$A$4:$P$55,15,0)","v":0},{"$f":"VLOOKUP($B30,[1]SRM!$A$4:$P$55,16,0)","v":0}]
[]
[]
[null,null,{"$f":"$B$36&$C$34&C35","v":"39MaDD"},{"$f":"$B$36&$C$34&D35","v":"39MaMD"},{"$f":"$B$36&$C$34&E35","v":"39MaND"},{"$f":"$B$36&$F$34&F35","v":"39DiDD"},{"$f":"$B$36&$F$34&G35","v":"39DiMD"},{"$f":"$B$36&$F$34&H35","v":"39DiND"},{"$f":"$B$36&$I$34&I35","v":"39WoDD"},{"$f":"$B$36&$I$34&J35","v":"39WoMD"},{"$f":"$B$36&$I$34&K35","v":"39WoND"},{"$f":"$B$36&$L$34&L35","v":"39DoDD"},{"$f":"$B$36&$L$34&M35","v":"39DoMD"},{"$f":"$B$36&$L$34&N35","v":"39DoND"},{"$f":"$B$36&$O$34&O35","v":"39VrDD"},{"$f":"$B$36&$O$34&P35","v":"39VrMD"},{"$f":"$B$36&$O$34&Q35","v":"39VrND"},{"$f":"$B$36&$R$34&R35","v":"39ZaDD"},{"$f":"$B$36&$R$34&S35","v":"39ZaMD"},{"$f":"$B$36&$R$34&T35","v":"39ZaND"},{"$f":"$B$36&$U$34&U35","v":"39ZaDD"},{"$f":"$B$36&$U$34&V35","v":"39ZaMD"},{"$f":"$B$36&$U$34&W35","v":"39ZaND"}]
[null,"Week","Ma",null,null,"Di",null,null,"Wo",null,null,"Do",null,null,"Vr",null,null,"Za",null,null,"Za"]
[null,null,"DD","MD","ND","DD","MD","ND","DD","MD","ND","DD","MD","ND","DD","MD","ND","DD","MD","ND","DD","MD","ND"]
[{"$f":"\"TA SRM LH Week \"&B36","v":"TA SRM LH Week 39"},{"$f":"Grafieken!AB10","v":39},{"$f":"VLOOKUP(C$33,'TA SRM LH'!$A$6:$AJ$1120,36,0)","v":0},{"$f":"VLOOKUP(D$33,'TA SRM LH'!$A$6:$AJ$1120,36,0)","v":0},{"$f":"VLOOKUP(E$33,'TA SRM LH'!$A$6:$AJ$1120,36,0)","v":0},{"$f":"VLOOKUP(F$33,'TA SRM LH'!$A$6:$AJ$1120,36,0)","v":0},{"$f":"VLOOKUP(G$33,'TA SRM LH'!$A$6:$AJ$1120,36,0)","v":0},{"$f":"VLOOKUP(H$33,'TA SRM LH'!$A$6:$AJ$1120,36,0)","v":0},{"$f":"VLOOKUP(I$33,'TA SRM LH'!$A$6:$AJ$1120,36,0)","v":0},{"$f":"VLOOKUP(J$33,'TA SRM LH'!$A$6:$AJ$1120,36,0)","v":0},{"$f":"VLOOKUP(K$33,'TA SRM LH'!$A$6:$AJ$1120,36,0)","v":0},{"$f":"VLOOKUP(L$33,'TA SRM LH'!$A$6:$AJ$1120,36,0)","v":0},{"$f":"VLOOKUP(M$33,'TA SRM LH'!$A$6:$AJ$1120,36,0)","v":""},{"$f":"VLOOKUP(N$33,'TA SRM LH'!$A$6:$AJ$1120,36,0)","v":""},{"$f":"VLOOKUP(O$33,'TA SRM LH'!$A$6:$AJ$1120,36,0)","v":""},{"$f":"VLOOKUP(P$33,'TA SRM LH'!$A$6:$AJ$1120,36,0)","v":""},{"$f":"VLOOKUP(Q$33,'TA SRM LH'!$A$6:$AJ$1120,36,0)","v":""},{"$f":"VLOOKUP(R$33,'TA SRM LH'!$A$6:$AJ$1120,36,0)","v":""},{"$f":"VLOOKUP(S$33,'TA SRM LH'!$A$6:$AJ$1120,36,0)","v":""},{"$f":"VLOOKUP(T$33,'TA SRM LH'!$A$6:$AJ$1120,36,0)","v":""},{"$f":"VLOOKUP(U$33,'TA SRM LH'!$A$6:$AJ$1120,36,0)","v":""},{"$f":"VLOOKUP(V$33,'TA SRM LH'!$A$6:$AJ$1120,36,0)","v":""},{"$f":"VLOOKUP(W$33,'TA SRM LH'!$A$6:$AJ$1120,36,0)","v":""}]
[{"$f":"\"TA SRM RH Week \"&B37","v":"TA SRM RH Week 39"},{"$f":"Grafieken!AB10","v":39},{"$f":"VLOOKUP(C$33,'TA SRM RH'!$A$6:$AJ$1120,36,0)","v":0},{"$f":"VLOOKUP(D$33,'TA SRM RH'!$A$6:$AJ$1120,36,0)","v":0},{"$f":"VLOOKUP(E$33,'TA SRM RH'!$A$6:$AJ$1120,36,0)","v":0},{"$f":"VLOOKUP(F$33,'TA SRM RH'!$A$6:$AJ$1120,36,0)","v":0},{"$f":"VLOOKUP(G$33,'TA SRM RH'!$A$6:$AJ$1120,36,0)","v":0},{"$f":"VLOOKUP(H$33,'TA SRM RH'!$A$6:$AJ$1120,36,0)","v":0},{"$f":"VLOOKUP(I$33,'TA SRM RH'!$A$6:$AJ$1120,36,0)","v":0},{"$f":"VLOOKUP(J$33,'TA SRM RH'!$A$6:$AJ$1120,36,0)","v":0},{"$f":"VLOOKUP(K$33,'TA SRM RH'!$A$6:$AJ$1120,36,0)","v":0},{"$f":"VLOOKUP(L$33,'TA SRM RH'!$A$6:$AJ$1120,36,0)","v":0},{"$f":"VLOOKUP(M$33,'TA SRM RH'!$A$6:$AJ$1120,36,0)","v":""},{"$f":"VLOOKUP(N$33,'TA SRM RH'!$A$6:$AJ$1120,36,0)","v":""},{"$f":"VLOOKUP(O$33,'TA SRM RH'!$A$6:$AJ$1120,36,0)","v":""},{"$f":"VLOOKUP(P$33,'TA SRM RH'!$A$6:$AJ$1120,36,0)","v":""},{"$f":"VLOOKUP(Q$33,'TA SRM RH'!$A$6:$AJ$1120,36,0)","v":""},{"$f":"VLOOKUP(R$33,'TA SRM RH'!$A$6:$AJ$1120,36,0)","v":""},{"$f":"VLOOKUP(S$33,'TA SRM RH'!$A$6:$AJ$1120,36,0)","v":""},{"$f":"VLOOKUP(T$33,'TA SRM RH'!$A$6:$AJ$1120,36,0)","v":""},{"$f":"VLOOKUP(U$33,'TA SRM RH'!$A$6:$AJ$1120,36,0)","v":""},{"$f":"VLOOKUP(V$33,'TA SRM RH'!$A$6:$AJ$1120,36,0)","v":""},{"$f":"VLOOKUP(W$33,'TA SRM RH'!$A$6:$AJ$1120,36,0)","v":""}]
["Target [%]",null,{"$f":"DATA!$C$9","v":0.89},{"$f":"DATA!$C$9","v":0.89},{"$f":"DATA!$C$9","v":0.89},{"$f":"DATA!$C$9","v":0.89},{"$f":"DATA!$C$9","v":0.89},{"$f":"DATA!$C$9","v":0.89},{"$f":"DATA!$C$9","v":0.89},{"$f":"DATA!$C$9","v":0.89},{"$f":"DATA!$C$9","v":0.89},{"$f":"DATA!$C$9","v":0.89},{"$f":"DATA!$C$9","v":0.89},{"$f":"DATA!$C$9","v":0.89},{"$f":"DATA!$C$9","v":0.89},{"$f":"DATA!$C$9","v":0.89},{"$f":"DATA!$C$9","v":0.89},{"$f":"DATA!$C$9","v":0.89},{"$f":"DATA!$C$9","v":0.89},{"$f":"DATA!$C$9","v":0.89},{"$f":"DATA!$C$9","v":0.89},{"$f":"DATA!$C$9","v":0.89},{"$f":"DATA!$C$9","v":0.89}]
[]
[]
[]
[null,null,null,null,{"$f":"\"Major Items \"&DATA!$C$15&\" Week \"&$B36&\" \"&J63&\" min\"","v":"Major Items SRM LH Week 39 130 min"},null,null,null,null,"Downtime",null,null,null,{"$f":"\"Major Items \"&DATA!$C$16&\" Week \"&$B36&\" \"&S63&\" min\"","v":"Major Items SRM RH Week 39 570 min"},null,null,null,null,"Downtime"]
[null,null,{"$f":"$B$36&\"M\"&DATA!$C$15&DATA!$C27","v":"39MSRM LH1"},null,{"$f":"IFERROR(VLOOKUP($C43,'[1]Downtime SAP'!$V$2:$Z$20000,2,0),\"\")","v":"F48: camera B06PP error ML"},null,null,null,null,{"$f":"IFERROR(VLOOKUP($C43,'[1]Downtime SAP'!$V$2:$Z$20000,3,0),\"\")","v":30},null,{"$f":"$B$36&\"M\"&DATA!$C$16&DATA!$C27","v":"39MSRM RH1"},null,{"$f":"IFERROR(VLOOKUP($L43,'[1]Downtime SAP'!$V$2:$Z$20000,2,0),\"\")","v":"Robot uitgevallen"},null,null,null,null,{"$f":"IFERROR(VLOOKUP($L43,'[1]Downtime SAP'!$V$2:$Z$20000,3,0),\"\")","v":160}]
[null,null,{"$f":"$B$36&\"M\"&DATA!$C$15&DATA!$C28","v":"39MSRM LH2"},null,{"$f":"IFERROR(VLOOKUP($C44,'[1]Downtime SAP'!$V$2:$Z$20000,2,0),\"\")","v":"25RO1 zoekfouten 3 x"},null,null,null,null,{"$f":"IFERROR(VLOOKUP($C44,'[1]Downtime SAP'!$V$2:$Z$20000,3,0),\"\")","v":20},null,{"$f":"$B$36&\"M\"&DATA!$C$16&DATA!$C28","v":"39MSRM RH2"},null,{"$f":"IFERROR(VLOOKUP($L44,'[1]Downtime SAP'!$V$2:$Z$20000,2,0),\"\")","v":"Robot uitgevallen , kabels beschadigd"},null,null,null,null,{"$f":"IFERROR(VLOOKUP($L44,'[1]Downtime SAP'!$V$2:$Z$20000,3,0),\"\")","v":130}]
[null,null,{"$f":"$B$36&\"M\"&DATA!$C$15&DATA!$C29","v":"39MSRM LH3"},null,{"$f":"IFERROR(VLOOKUP($C45,'[1]Downtime SAP'!$V$2:$Z$20000,2,0),\"\")","v":"B06PP camera error F48 mLH"},null,null,null,null,{"$f":"IFERROR(VLOOKUP($C45,'[1]Downtime SAP'!$V$2:$Z$20000,3,0),\"\")","v":20},null,{"$f":"$B$36&\"M\"&DATA!$C$16&DATA!$C29","v":"39MSRM RH3"},null,{"$f":"IFERROR(VLOOKUP($L45,'[1]Downtime SAP'!$V$2:$Z$20000,2,0),\"\")","v":"feldpausch blijf hangen 5x"},null,null,null,null,{"$f":"IFERROR(VLOOKUP($L45,'[1]Downtime SAP'!$V$2:$Z$20000,3,0),\"\")","v":25}]
[null,null,{"$f":"$B$36&\"M\"&DATA!$C$15&DATA!$C30","v":"39MSRM LH4"},null,{"$f":"IFERROR(VLOOKUP($C46,'[1]Downtime SAP'!$V$2:$Z$20000,2,0),\"\")","v":"Dev 6332 swivel error  LH"},null,null,null,null,{"$f":"IFERROR(VLOOKUP($C46,'[1]Downtime SAP'!$V$2:$Z$20000,3,0),\"\")","v":20},null,{"$f":"$B$36&\"M\"&DATA!$C$16&DATA!$C30","v":"39MSRM RH4"},null,{"$f":"IFERROR(VLOOKUP($L46,'[1]Downtime SAP'!$V$2:$Z$20000,2,0),\"\")","v":"B04PP nok feldpausch RH"},null,null,null,null,{"$f":"IFERROR(VLOOKUP($L46,'[1]Downtime SAP'!$V$2:$Z$20000,3,0),\"\")","v":15}]
[null,null,{"$f":"$B$36&\"M\"&DATA!$C$15&DATA!$C31","v":"39MSRM LH5"},null,{"$f":"IFERROR(VLOOKUP($C47,'[1]Downtime SAP'!$V$2:$Z$20000,2,0),\"\")","v":"F57 Kitfoto Nok 7x"},null,null,null,null,{"$f":"IFERROR(VLOOKUP($C47,'[1]Downtime SAP'!$V$2:$Z$20000,3,0),\"\")","v":20},null,{"$f":"$B$36&\"M\"&DATA!$C$16&DATA!$C31","v":"39MSRM RH5"},null,{"$f":"IFERROR(VLOOKUP($L47,'[1]Downtime SAP'!$V$2:$Z$20000,2,0),\"\")","v":"F60 Cam B08pp 3x"},null,null,null,null,{"$f":"IFERROR(VLOOKUP($L47,'[1]Downtime SAP'!$V$2:$Z$20000,3,0),\"\")","v":15}]
[null,null,{"$f":"$B$36&\"M\"&DATA!$C$15&DATA!$C32","v":"39MSRM LH6"},null,{"$f":"IFERROR(VLOOKUP($C48,'[1]Downtime SAP'!$V$2:$Z$20000,2,0),\"\")","v":"Cytec error B01 nok  Dev0111 geen adv LH"},null,null,null,null,{"$f":"IFERROR(VLOOKUP($C48,'[1]Downtime SAP'!$V$2:$Z$20000,3,0),\"\")","v":20},null,{"$f":"$B$36&\"M\"&DATA!$C$16&DATA!$C32","v":"39MSRM RH6"},null,{"$f":"IFERROR(VLOOKUP($L48,'[1]Downtime SAP'!$V$2:$Z$20000,2,0),\"\")","v":"25R01 Zoekfout"},null,null,null,null,{"$f":"IFERROR(VLOOKUP($L48,'[1]Downtime SAP'!$V$2:$Z$20000,3,0),\"\")","v":15}]
[null,null,{"$f":"$B$36&\"M\"&DATA!$C$15&DATA!$C33","v":"39MSRM LH7"},null,{"$f":"IFERROR(VLOOKUP($C49,'[1]Downtime SAP'!$V$2:$Z$20000,2,0),\"\")","v":""},null,null,null,null,{"$f":"IFERROR(VLOOKUP($C49,'[1]Downtime SAP'!$V$2:$Z$20000,3,0),\"\")","v":""},null,{"$f":"$B$36&\"M\"&DATA!$C$16&DATA!$C33","v":"39MSRM RH7"},null,{"$f":"IFERROR(VLOOKUP($L49,'[1]Downtime SAP'!$V$2:$Z$20000,2,0),\"\")","v":"pin package 6715 niet advanced"},null,null,null,null,{"$f":"IFERROR(VLOOKUP($L49,'[1]Downtime SAP'!$V$2:$Z$20000,3,0),\"\")","v":40}]
[null,null,{"$f":"$B$36&\"M\"&DATA!$C$15&DATA!$C34","v":"39MSRM LH8"},null,{"$f":"IFERROR(VLOOKUP($C50,'[1]Downtime SAP'!$V$2:$Z$20000,2,0),\"\")","v":""},null,null,null,null,{"$f":"IFERROR(VLOOKUP($C50,'[1]Downtime SAP'!$V$2:$Z$20000,3,0),\"\")","v":""},null,{"$f":"$B$36&\"M\"&DATA!$C$16&DATA!$C34","v":"39MSRM RH8"},null,{"$f":"IFERROR(VLOOKUP($L50,'[1]Downtime SAP'!$V$2:$Z$20000,2,0),\"\")","v":"B06PP camera error F60 mRH"},null,null,null,null,{"$f":"IFERROR(VLOOKUP($L50,'[1]Downtime SAP'!$V$2:$Z$20000,3,0),\"\")","v":60}]
[null,null,{"$f":"$B$36&\"M\"&DATA!$C$15&DATA!$C35","v":"39MSRM LH9"},null,{"$f":"IFERROR(VLOOKUP($C51,'[1]Downtime SAP'!$V$2:$Z$20000,2,0),\"\")","v":""},null,null,null,null,{"$f":"IFERROR(VLOOKUP($C51,'[1]Downtime SAP'!$V$2:$Z$20000,3,0),\"\")","v":""},null,{"$f":"$B$36&\"M\"&DATA!$C$16&DATA!$C35","v":"39MSRM RH9"},null,{"$f":"IFERROR(VLOOKUP($L51,'[1]Downtime SAP'!$V$2:$Z$20000,2,0),\"\")","v":"F60 B06PP camera fout onterecht 7x"},null,null,null,null,{"$f":"IFERROR(VLOOKUP($L51,'[1]Downtime SAP'!$V$2:$Z$20000,3,0),\"\")","v":35}]
[null,null,{"$f":"$B$36&\"M\"&DATA!$C$15&DATA!$C36","v":"39MSRM LH10"},null,{"$f":"IFERROR(VLOOKUP($C52,'[1]Downtime SAP'!$V$2:$Z$20000,2,0),\"\")","v":""},null,null,null,null,{"$f":"IFERROR(VLOOKUP($C52,'[1]Downtime SAP'!$V$2:$Z$20000,3,0),\"\")","v":""},null,{"$f":"$B$36&\"M\"&DATA!$C$16&DATA!$C36","v":"39MSRM RH10"},null,{"$f":"IFERROR(VLOOKUP($L52,'[1]Downtime SAP'!$V$2:$Z$20000,2,0),\"\")","v":"F60 B08PP camera fout onterecht 15x"},null,null,null,null,{"$f":"IFERROR(VLOOKUP($L52,'[1]Downtime SAP'!$V$2:$Z$20000,3,0),\"\")","v":75}]
[null,null,{"$f":"$B$36&\"M\"&DATA!$C$15&DATA!$C37","v":"39MSRM LH11"},null,{"$f":"IFERROR(VLOOKUP($C53,'[1]Downtime SAP'!$V$2:$Z$20000,2,0),\"\")","v":""},null,null,null,null,{"$f":"IFERROR(VLOOKUP($C53,'[1]Downtime SAP'!$V$2:$Z$20000,3,0),\"\")","v":""},null,{"$f":"$B$36&\"M\"&DATA!$C$16&DATA!$C37","v":"39MSRM RH11"},null,{"$f":"IFERROR(VLOOKUP($L53,'[1]Downtime SAP'!$V$2:$Z$20000,2,0),\"\")","v":""},null,null,null,null,{"$f":"IFERROR(VLOOKUP($L53,'[1]Downtime SAP'!$V$2:$Z$20000,3,0),\"\")","v":""}]
[null,null,{"$f":"$B$36&\"M\"&DATA!$C$15&DATA!$C38","v":"39MSRM LH12"},null,{"$f":"IFERROR(VLOOKUP($C54,'[1]Downtime SAP'!$V$2:$Z$20000,2,0),\"\")","v":""},null,null,null,null,{"$f":"IFERROR(VLOOKUP($C54,'[1]Downtime SAP'!$V$2:$Z$20000,3,0),\"\")","v":""},null,{"$f":"$B$36&\"M\"&DATA!$C$16&DATA!$C38","v":"39MSRM RH12"},null,{"$f":"IFERROR(VLOOKUP($L54,'[1]Downtime SAP'!$V$2:$Z$20000,2,0),\"\")","v":""},null,null,null,null,{"$f":"IFERROR(VLOOKUP($L54,'[1]Downtime SAP'!$V$2:$Z$20000,3,0),\"\")","v":""}]
[null,null,{"$f":"$B$36&\"M\"&DATA!$C$15&DATA!$C39","v":"39MSRM LH13"},null,{"$f":"IFERROR(VLOOKUP($C55,'[1]Downtime SAP'!$V$2:$Z$20000,2,0),\"\")","v":""},null,null,null,null,{"$f":"IFERROR(VLOOKUP($C55,'[1]Downtime SAP'!$V$2:$Z$20000,3,0),\"\")","v":""},null,{"$f":"$B$36&\"M\"&DATA!$C$16&DATA!$C39","v":"39MSRM RH13"},null,{"$f":"IFERROR(VLOOKUP($L55,'[1]Downtime SAP'!$V$2:$Z$20000,2,0),\"\")","v":""},null,null,null,null,{"$f":"IFERROR(VLOOKUP($L55,'[1]Downtime SAP'!$V$2:$Z$20000,3,0),\"\")","v":""}]
[null,null,{"$f":"$B$36&\"M\"&DATA!$C$15&DATA!$C40","v":"39MSRM LH14"},null,{"$f":"IFERROR(VLOOKUP($C56,'[1]Downtime SAP'!$V$2:$Z$20000,2,0),\"\")","v":""},null,null,null,null,{"$f":"IFERROR(VLOOKUP($C56,'[1]Downtime SAP'!$V$2:$Z$20000,3,0),\"\")","v":""},null,{"$f":"$B$36&\"M\"&DATA!$C$16&DATA!$C40","v":"39MSRM RH14"},null,{"$f":"IFERROR(VLOOKUP($L56,'[1]Downtime SAP'!$V$2:$Z$20000,2,0),\"\")","v":""},null,null,null,null,{"$f":"IFERROR(VLOOKUP($L56,'[1]Downtime SAP'!$V$2:$Z$20000,3,0),\"\")","v":""}]
[null,null,{"$f":"$B$36&\"M\"&DATA!$C$15&DATA!$C41","v":"39MSRM LH15"},null,{"$f":"IFERROR(VLOOKUP($C57,'[1]Downtime SAP'!$V$2:$Z$20000,2,0),\"\")","v":""},null,null,null,null,{"$f":"IFERROR(VLOOKUP($C57,'[1]Downtime SAP'!$V$2:$Z$20000,3,0),\"\")","v":""},null,{"$f":"$B$36&\"M\"&DATA!$C$16&DATA!$C41","v":"39MSRM RH15"},null,{"$f":"IFERROR(VLOOKUP($L57,'[1]Downtime SAP'!$V$2:$Z$20000,2,0),\"\")","v":""},null,null,null,null,{"$f":"IFERROR(VLOOKUP($L57,'[1]Downtime SAP'!$V$2:$Z$20000,3,0),\"\")","v":""}]
[null,null,{"$f":"$B$36&\"M\"&DATA!$C$15&DATA!$C42","v":"39MSRM LH16"},null,{"$f":"IFERROR(VLOOKUP($C58,'[1]Downtime SAP'!$V$2:$Z$20000,2,0),\"\")","v":""},null,null,null,null,{"$f":"IFERROR(VLOOKUP($C58,'[1]Downtime SAP'!$V$2:$Z$20000,3,0),\"\")","v":""},null,{"$f":"$B$36&\"M\"&DATA!$C$16&DATA!$C42","v":"39MSRM RH16"},null,{"$f":"IFERROR(VLOOKUP($L58,'[1]Downtime SAP'!$V$2:$Z$20000,2,0),\"\")","v":""},null,null,null,null,{"$f":"IFERROR(VLOOKUP($L58,'[1]Downtime SAP'!$V$2:$Z$20000,3,0),\"\")","v":""}]
[null,null,{"$f":"$B$36&\"M\"&DATA!$C$15&DATA!$C43","v":"39MSRM LH17"},null,{"$f":"IFERROR(VLOOKUP($C59,'[1]Downtime SAP'!$V$2:$Z$20000,2,0),\"\")","v":""},null,null,null,null,{"$f":"IFERROR(VLOOKUP($C59,'[1]Downtime SAP'!$V$2:$Z$20000,3,0),\"\")","v":""},null,{"$f":"$B$36&\"M\"&DATA!$C$16&DATA!$C43","v":"39MSRM RH17"},null,{"$f":"IFERROR(VLOOKUP($L59,'[1]Downtime SAP'!$V$2:$Z$20000,2,0),\"\")","v":""},null,null,null,null,{"$f":"IFERROR(VLOOKUP($L59,'[1]Downtime SAP'!$V$2:$Z$20000,3,0),\"\")","v":""}]
[null,null,{"$f":"$B$36&\"M\"&DATA!$C$15&DATA!$C44","v":"39MSRM LH18"},null,{"$f":"IFERROR(VLOOKUP($C60,'[1]Downtime SAP'!$V$2:$Z$20000,2,0),\"\")","v":""},null,null,null,null,{"$f":"IFERROR(VLOOKUP($C60,'[1]Downtime SAP'!$V$2:$Z$20000,3,0),\"\")","v":""},null,{"$f":"$B$36&\"M\"&DATA!$C$16&DATA!$C44","v":"39MSRM RH18"},null,{"$f":"IFERROR(VLOOKUP($L60,'[1]Downtime SAP'!$V$2:$Z$20000,2,0),\"\")","v":""},null,null,null,null,{"$f":"IFERROR(VLOOKUP($L60,'[1]Downtime SAP'!$V$2:$Z$20000,3,0),\"\")","v":""}]
[null,null,{"$f":"$B$36&\"M\"&DATA!$C$15&DATA!$C45","v":"39MSRM LH19"},null,{"$f":"IFERROR(VLOOKUP($C61,'[1]Downtime SAP'!$V$2:$Z$20000,2,0),\"\")","v":""},null,null,null,null,{"$f":"IFERROR(VLOOKUP($C61,'[1]Downtime SAP'!$V$2:$Z$20000,3,0),\"\")","v":""},null,{"$f":"$B$36&\"M\"&DATA!$C$16&DATA!$C45","v":"39MSRM RH19"},null,{"$f":"IFERROR(VLOOKUP($L61,'[1]Downtime SAP'!$V$2:$Z$20000,2,0),\"\")","v":""},null,null,null,null,{"$f":"IFERROR(VLOOKUP($L61,'[1]Downtime SAP'!$V$2:$Z$20000,3,0),\"\")","v":""}]
[null,null,{"$f":"$B$36&\"M\"&DATA!$C$15&DATA!$C46","v":"39MSRM LH20"},null,{"$f":"IFERROR(VLOOKUP($C62,'[1]Downtime SAP'!$V$2:$Z$20000,2,0),\"\")","v":""},null,null,null,null,{"$f":"IFERROR(VLOOKUP($C62,'[1]Downtime SAP'!$V$2:$Z$20000,3,0),\"\")","v":""},null,{"$f":"$B$36&\"M\"&DATA!$C$16&DATA!$C46","v":"39MSRM RH20"},null,{"$f":"IFERROR(VLOOKUP($L62,'[1]Downtime SAP'!$V$2:$Z$20000,2,0),\"\")","v":""},null,null,null,null,{"$f":"IFERROR(VLOOKUP($L62,'[1]Downtime SAP'!$V$2:$Z$20000,3,0),\"\")","v":""}]
[null,null,null,null,null,null,null,null,"Totaal",{"$f":"SUM(J43:J62)","v":130},null,null,null,null,null,null,null,"Totaal",{"$f":"SUM(S43:S62)","v":570}]

{"sheet":"DATA","index":5,"n_rows":46,"n_cols":5,"rows_kept":46,"cut":false,"hidden":true,"merged":[[1,1,1,3]]}
[]
[null,"Werktijden",null,null,"Breaktimes"]
[null,"DD","06:30:00","14:30:00","00:45:00"]
[null,"MD","14:30:00","22:30:00","00:45:00"]
[null,"ND","22:30:00","06:30:00","00:45:00"]
[null,"ZND"]
[]
[]
[null,"Target SRI",0.89]
[null,"Cycle Time",64]
[]
[null,null,"KS"]
[null,null,"X"]
[null,null,"R"]
[null,null,"SRM LH"]
[null,null,"SRM RH"]
[]
[]
[]
[null,null,{"$f":"\"UPTIME \"&C15","v":"UPTIME SRM LH"}]
[null,null,{"$f":"\"UPTIME \"&C16","v":"UPTIME SRM RH"}]
[null,null,{"$f":"\"TA \"&C15&\" TREND\"","v":"TA SRM LH TREND"}]
[null,null,{"$f":"\"TA \"&C16&\" TREND\"","v":"TA SRM RH TREND"}]
[null,null,{"$f":"\"DOWNTIME SAP \"&C15","v":"DOWNTIME SAP SRM LH"}]
[null,null,{"$f":"\"DOWNTIME SAP \"&C16","v":"DOWNTIME SAP SRM RH"}]
[]
[null,null,1]
[null,null,2]
[null,null,3]
[null,null,4]
[null,null,5]
[null,null,6]
[null,null,7]
[null,null,8]
[null,null,9]
[null,null,10]
[null,null,11]
[null,null,12]
[null,null,13]
[null,null,14]
[null,null,15]
[null,null,16]
[null,null,17]
[null,null,18]
[null,null,19]
[null,null,20]