{"text_format":"1","workbook":"xlsx","n_sheets":2,"sheets":["wedstrijd","score"],"not_rendered":{"charts":0,"images":0,"macros":1,"external_links":1,"defined_names":15,"comments":0,"pivot_tables":0},"unopened":[],"bounds":{"document_bytes":16777216,"sheet_cells":100000,"rows_first":2000,"rows_last":500,"rows_between":2000,"halvings":0,"cell_chars":16384,"cell_head_chars":4096},"cells_cut":0,"cells_raw":0,"read":"whole","date_system":"1900"}

{"sheet":"wedstrijd","index":0,"n_rows":28,"n_cols":27,"rows_kept":28,"cut":false,"hidden":false,"merged":[]}
["00:00:01",null,null,null,null,null,null,null,null,null,null,null,null,null,null,null,null,null,null,null,null,null,"00:00:01"]
[null,{"$f":"Y4","v":"A"},{"$f":"Z4","v":"1e Partij"},null,{"$f":"Y6","v":"B"},{"$f":"Z6","v":"1e Partij"},null,null,{"$f":"Y4","v":"A"},{"$f":"Z4","v":"1e Partij"},null,{"$f":"Y6","v":"B"},{"$f":"Z6","v":"1e Partij"},null,null,{"$f":"Y4","v":"A"},{"$f":"Z4","v":"1e Partij"},null,{"$f":"Y6","v":"B"},{"$f":"Z6","v":"1e Partij"}]
["Beurt","Score","Totaal",null,"Score","Totaal",null,"Beurt","Score","Totaal",null,"Score","Totaal",null,"Beurt","Score","Totaal",null,"Score","Totaal",null,null,null,null,"Spelers"]
[1,2,{"$f":"B4","v":2},null,5,{"$f":"IF(E4<>\"\",E4,\"\")","v":5},null,26,null,{"$f":"IF(C28<>\"\",C28+I4,\"\")","v":""},null,null,{"$f":"IF(F28<>\"\",F28+L4,\"\")","v":""},null,51,null,{"$f":"IF(J28<>\"\",J28+P4,\"\")","v":""},null,null,{"$f":"IF(M28<>\"\",M28+S4,\"\")","v":""},null,null,null,null,"A","1e Partij","week 1"]
[2,0,{"$f":"IF(B5<>\"\",B5+C4,\"\")","v":2},null,0,{"$f":"IF(E5<>\"\",E5+F4,\"\")","v":5},null,27,null,{"$f":"IF(I5<>\"\",I5+J4,\"\")","v":""},null,null,{"$f":"IF(L5<>\"\",L5+M4,\"\")","v":""},null,52,null,{"$f":"IF(P5<>\"\",P5+Q4,\"\")","v":""},null,null,{"$f":"IF(S5<>\"\",S5+T4,\"\")","v":""},null,null,null,null,null,null,"week 2"]
[3,4,{"$f":"IF(B6<>\"\",B6+C5,\"\")","v":6},null,5,{"$f":"IF(E6<>\"\",E6+F5,\"\")","v":10},null,28,null,{"$f":"IF(I6<>\"\",I6+J5,\"\")","v":""},null,null,{"$f":"IF(L6<>\"\",L6+M5,\"\")","v":""},null,53,null,{"$f":"IF(P6<>\"\",P6+Q5,\"\")","v":""},null,null,{"$f":"IF(S6<>\"\",S6+T5,\"\")","v":""},null,null,null,null,"B","1e Partij","week 3"]
[4,0,{"$f":"IF(B7<>\"\",B7+C6,\"\")","v":6},null,null,{"$f":"IF(E7<>\"\",E7+F6,\"\")","v":""},null,29,null,{"$f":"IF(I7<>\"\",I7+J6,\"\")","v":""},null,null,{"$f":"IF(L7<>\"\",L7+M6,\"\")","v":""},null,54,null,{"$f":"IF(P7<>\"\",P7+Q6,\"\")","v":""},null,null,{"$f":"IF(S7<>\"\",S7+T6,\"\")","v":""},null,null,null,null,null,null,"week 4"]
[5,null,{"$f":"IF(B8<>\"\",B8+C7,\"\")","v":""},null,null,{"$f":"IF(E8<>\"\",E8+F7,\"\")","v":""},null,30,null,{"$f":"IF(I8<>\"\",I8+J7,\"\")","v":""},null,null,{"$f":"IF(L8<>\"\",L8+M7,\"\")","v":""},null,55,null,{"$f":"IF(P8<>\"\",P8+Q7,\"\")","v":""},null,null,{"$f":"IF(S8<>\"\",S8+T7,\"\")","v":""},null,null,null,null,"week 1",null,"week 5"]
[6,null,"",null,null,{"$f":"IF(E9<>\"\",E9+F8,\"\")","v":""},null,31,null,{"$f":"IF(I9<>\"\",I9+J8,\"\")","v":""},null,null,{"$f":"IF(L9<>\"\",L9+M8,\"\")","v":""},null,56,null,{"$f":"IF(P9<>\"\",P9+Q8,\"\")","v":""},null,null,{"$f":"IF(S9<>\"\",S9+T8,\"\")","v":""},null,null,null,null,null,null,"week 6"]
[7,null,"",null,null,"",null,32,null,{"$f":"IF(I10<>\"\",I10+J9,\"\")","v":""},null,null,{"$f":"IF(L10<>\"\",L10+M9,\"\")","v":""},null,57,null,{"$f":"IF(P10<>\"\",P10+Q9,\"\")","v":""},null,null,{"$f":"IF(S10<>\"\",S10+T9,\"\")","v":""},null,null,null,null,null,"1e Partij","week 7"]
[8,null,"",null,null,"",null,33,null,"",null,null,"",null,58,null,"",null,null,"",null,null,null,null,null,"2e Partij","week 8"]
[9,null,"",null,null,"",null,34,null,"",null,null,"",null,59,null,"",null,null,"",null,null,{"$f":"Y4","v":"A"},{"$f":"Y6","v":"B"},null,"3e Partij","week 9"]
[10,null,"",null,null,"",null,35,null,"",null,null,"",null,60,null,"",null,null,"",null,null,{"$f":"Z4","v":"1e Partij"},{"$f":"Z6","v":"1e Partij"},null,null,"week 10"]
[11,null,"",null,null,"",null,36,null,"",null,null,"",null,61,null,"",null,null,"",null,null,"A","B",null,null,"week 11"]
[12,null,"",null,null,"",null,37,null,"",null,null,"",null,62,null,"",null,null,"",null,"te spelen punten",10,10,null,null,"week 12"]
[13,null,"",null,null,"",null,38,null,"",null,null,"",null,63,null,"",null,null,"",null,null,null,null,null,null,"week 13"]
[14,null,"",null,null,"",null,39,null,"",null,null,"",null,64,null,"",null,null,"",null,"gemaakte punten",{"$f":"MAX(C4:C28,J4:J28,Q4:Q28)","v":6},{"$f":"MAX(F4:F28,M4:M28,T4:T28)","v":10}]
[15,null,"",null,null,"",null,40,null,"",null,null,"",null,65,null,"",null,null,""]
[16,null,"",null,null,"",null,41,null,"",null,null,"",null,66,null,"",null,null,"",null,"beurten",{"$f":"COUNT(B4:B28,I4:I28,P4:P28)","v":4},{"$f":"COUNT(E4:E28,L4:L28,S4:S28)","v":3}]
[17,null,"",null,null,"",null,42,null,"",null,null,"",null,67,null,"",null,null,"",null,null,null,null,null,"A"]
[18,null,"",null,null,"",null,43,null,"",null,null,"",null,68,null,"",null,null,"",null,"hoogste reeks",{"$f":"MAX(B4:B28,I4:I28,P4:P28)","v":4},{"$f":"MAX(E4:E28,L4:L28,S4:S28)","v":5},null,"B"]
[19,null,"",null,null,"",null,44,null,"",null,null,"",null,69,null,"",null,null,"",null,null,null,null,null,"C"]
[20,null,"",null,null,"",null,45,null,"",null,null,"",null,70,null,"",null,null,"",null,"gemiddelde",{"$f":"SUM(W17/W19)","v":1.5},{"$f":"SUM(X17/X19)","v":3.3333333333333335},null,"D"]
[21,null,"",null,null,"",null,46,null,"",null,null,"",null,71,null,"",null,null,"",null,"Score",{"$f":"IF(W17>W15-1,\"Winnaar\",IF(W17<W15-1,\"Verliezer\",\"\"))","v":"Verliezer"},{"$f":"IF(X17>X15-1,\"Winnaar\",IF(X17<X15-1,\"Verliezer\",\"\"))","v":"Winnaar"},null,"E"]
[22,null,"",null,null,"",null,47,null,"",null,null,"",null,72,null,"",null,null,"",null,null,null,null,null,"F"]
[23,null,"",null,null,"",null,48,null,"",null,null,"",null,73,null,"",null,null,""]
[24,null,"",null,null,"",null,49,null,"",null,null,"",null,74,null,"",null,null,""]
[25,null,"",null,null,"",null,50,null,"",null,null,"",null,75,null,"",null,null,"",null,"na elke partij uitvoeren"]

{"sheet":"score","index":1,"n_rows":47,"n_cols":29,"rows_kept":47,"cut":false,"hidden":false,"merged":[]}
[null,"wk1","wk1","wk2","wk2","wk3","wk3","wk4","wk4","wk5","wk5","wk6","wk6","wk7","wk7","wk8","wk8","wk9","wk9","wk10","wk10","wk11","wk11","wk12","wk12","wk13","wk13","Tot","Tot"]
[null,"w","v","w","v","w","v","w","v","w","v","w","v","w","v","w","v","w","v","w","v","w","v","w","v","w","v","w","v"]
[{"$f":"wedstrijd!Z20","v":"A"}]
["1e Partij",null,null,null,null,null,null,null,null,null,null,null,null,null,null,null,null,null,null,null,null,null,null,null,null,null,null,{"$f":"COUNTIF(B4:AA4,\"w\")","v":0},{"$f":"COUNTIF(C4:AB4,\"v\")","v":0}]
["2e Partij",null,null,null,null,null,null,null,null,null,null,null,null,null,null,null,null,null,null,null,null,null,null,null,null,null,null,{"$f":"COUNTIF(B5:AA5,\"w\")","v":0},{"$f":"COUNTIF(C5:AB5,\"v\")","v":0}]
["3e Partij",null,null,null,null,null,null,null,null,null,null,null,null,null,null,null,null,null,null,null,null,null,null,null,null,null,null,0,0]
["Totaal",{"$f":"COUNTIF(B4:B6,\"w\")","v":0},{"$f":"COUNTIF(C4:C6,\"v\")","v":0},{"$f":"COUNTIF(D4:D6,\"w\")","v":0},{"$f":"COUNTIF(E4:E6,\"v\")","v":0},{"$f":"COUNTIF(F4:F6,\"w\")","v":0},{"$f":"COUNTIF(G4:G6,\"v\")","v":0},{"$f":"COUNTIF(H4:H6,\"w\")","v":0},{"$f":"COUNTIF(I4:I6,\"v\")","v":0},{"$f":"COUNTIF(J4:J6,\"w\")","v":0},{"$f":"COUNTIF(K4:K6,\"v\")","v":0},{"$f":"COUNTIF(L4:L6,\"w\")","v":0},{"$f":"COUNTIF(M4:M6,\"v\")","v":0},{"$f":"COUNTIF(N4:N6,\"w\")","v":0},{"$f":"COUNTIF(O4:O6,\"v\")","v":0},{"$f":"COUNTIF(P4:P6,\"w\")","v":0},{"$f":"COUNTIF(Q4:Q6,\"v\")","v":0},{"$f":"COUNTIF(R4:R6,\"w\")","v":0},{"$f":"COUNTIF(S4:S6,\"v\")","v":0},{"$f":"COUNTIF(T4:T6,\"w\")","v":0},{"$f":"COUNTIF(U4:U6,\"v\")","v":0},{"$f":"COUNTIF(V4:V6,\"w\")","v":0},{"$f":"COUNTIF(W4:W6,\"v\")","v":0},{"$f":"COUNTIF(X4:X6,\"w\")","v":0},{"$f":"COUNTIF(Y4:Y6,\"v\")","v":0},{"$f":"COUNTIF(Z4:Z6,\"w\")","v":0},{"$f":"COUNTIF(AA4:AA6,\"v\")","v":0},{"$f":"SUM(AB4:AB6)","v":0},{"$f":"SUM(AC4:AC6)","v":0}]
[]
[null,"wk1","wk1","wk2","wk2","wk3","wk3","wk4","wk4","wk5","wk5","wk6","wk6","wk7","wk7","wk8","wk8","wk9","wk9","wk10","wk10","wk11","wk11","wk12","wk12","wk13","wk13","Tot","Tot"]
[null,"w","v","w","v","w","v","w","v","w","v","w","v","w","v","w","v","w","v","w","v","w","v","w","v","w","v","w","v"]
[{"$f":"wedstrijd!Z21","v":"B"}]
["1e Partij",null,null,null,null,null,null,null,null,null,null,null,null,null,null,null,null,null,null,null,null,null,null,null,null,null,null,{"$f":"COUNTIF(B12:AA12,\"w\")","v":0},{"$f":"COUNTIF(C12:AB12,\"v\")","v":0}]
["2e Partij",null,null,null,null,null,null,null,null,null,null,null,null,null,null,null,null,null,null,null,null,null,null,null,null,null,null,0,0]
["3e Partij",null,null,null,null,null,null,null,null,null,null,null,null,null,null,null,null,null,null,null,null,null,null,null,null,null,null,0,0]
["Totaal",{"$f":"COUNTIF(B12:B14,\"w\")","v":0},{"$f":"COUNTIF(C12:C14,\"v\")","v":0},{"$f":"COUNTIF(D12:D14,\"w\")","v":0},{"$f":"COUNTIF(E12:E14,\"v\")","v":0},{"$f":"COUNTIF(F12:F14,\"w\")","v":0},{"$f":"COUNTIF(G12:G14,\"v\")","v":0},{"$f":"COUNTIF(H12:H14,\"w\")","v":0},{"$f":"COUNTIF(I12:I14,\"v\")","v":0},{"$f":"COUNTIF(J12:J14,\"w\")","v":0},{"$f":"COUNTIF(K12:K14,\"v\")","v":0},{"$f":"COUNTIF(L12:L14,\"w\")","v":0},{"$f":"COUNTIF(M12:M14,\"v\")","v":0},{"$f":"COUNTIF(N12:N14,\"w\")","v":0},{"$f":"COUNTIF(O12:O14,\"v\")","v":0},{"$f":"COUNTIF(P12:P14,\"w\")","v":0},{"$f":"COUNTIF(Q12:Q14,\"v\")","v":0},{"$f":"COUNTIF(R12:R14,\"w\")","v":0},{"$f":"COUNTIF(S12:S14,\"v\")","v":0},{"$f":"COUNTIF(T12:T14,\"w\")","v":0},{"$f":"COUNTIF(U12:U14,\"v\")","v":0},{"$f":"COUNTIF(V12:V14,\"w\")","v":0},{"$f":"COUNTIF(W12:W14,\"v\")","v":0},{"$f":"COUNTIF(X12:X14,\"w\")","v":0},{"$f":"COUNTIF(Y12:Y14,\"v\")","v":0},{"$f":"COUNTIF(Z12:Z14,\"w\")","v":0},{"$f":"COUNTIF(AA12:AA14,\"v\")","v":0},{"$f":"SUM(AB12:AB14)","v":0},{"$f":"SUM(AC12:AC14)","v":0}]
[]
[null,"wk1","wk1","wk2","wk2","wk3","wk3","wk4","wk4","wk5","wk5","wk6","wk6","wk7","wk7","wk8","wk8","wk9","wk9","wk10","wk10","wk11","wk11","wk12","wk12","wk13","wk13","Tot","Tot"]
[null,"w","v","w","v","w","v","w","v","w","v","w","v","w","v","w","v","w","v","w","v","w","v","w","v","w","v","w","v"]
[{"$f":"wedstrijd!Z22","v":"C"}]
["1e Partij",null,null,null,null,null,null,null,null,null,null,null,null,null,null,null,null,null,null,null,null,null,null,null,null,null,null,{"$f":"COUNTIF(B20:AA20,\"w\")","v":0},{"$f":"COUNTIF(C20:AB20,\"v\")","v":0}]
["2e Partij",null,null,null,null,null,null,null,null,null,null,null,null,null,null,null,null,null,null,null,null,null,null,null,null,null,null,0,0]
["3e Partij",null,null,null,null,null,null,null,null,null,null,null,null,null,null,null,null,null,null,null,null,null,null,null,null,null,null,0,0]
["Totaal",{"$f":"COUNTIF(B20:B22,\"w\")","v":0},{"$f":"COUNTIF(C20:C22,\"v\")","v":0},{"$f":"COUNTIF(D20:D22,\"w\")","v":0},{"$f":"COUNTIF(E20:E22,\"v\")","v":0},{"$f":"COUNTIF(F20:F22,\"w\")","v":0},{"$f":"COUNTIF(G20:G22,\"v\")","v":0},{"$f":"COUNTIF(H20:H22,\"w\")","v":0},{"$f":"COUNTIF(I20:I22,\"v\")","v":0},{"$f":"COUNTIF(J20:J22,\"w\")","v":0},{"$f":"COUNTIF(K20:K22,\"v\")","v":0},{"$f":"COUNTIF(L20:L22,\"w\")","v":0},{"$f":"COUNTIF(M20:M22,\"v\")","v":0},{"$f":"COUNTIF(N20:N22,\"w\")","v":0},{"$f":"COUNTIF(O20:O22,\"v\")","v":0},{"$f":"COUNTIF(P20:P22,\"w\")","v":0},{"$f":"COUNTIF(Q20:Q22,\"v\")","v":0},{"$f":"COUNTIF(R20:R22,\"w\")","v":0},{"$f":"COUNTIF(S20:S22,\"v\")","v":0},{"$f":"COUNTIF(T20:T22,\"w\")","v":0},{"$f":"COUNTIF(U20:U22,\"v\")","v":0},{"$f":"COUNTIF(V20:V22,\"w\")","v":0},{"$f":"COUNTIF(W20:W22,\"v\")","v":0},{"$f":"COUNTIF(X20:X22,\"w\")","v":0},{"$f":"COUNTIF(Y20:Y22,\"v\")","v":0},{"$f":"COUNTIF(Z20:Z22,\"w\")","v":0},{"$f":"COUNTIF(AA20:AA22,\"v\")","v":0},{"$f":"SUM(AB20:AB22)","v":0},{"$f":"SUM(AC20:AC22)","v":0}]
[]
[null,"wk1","wk1","wk2","wk2","wk3","wk3","wk4","wk4","wk5","wk5","wk6","wk6","wk7","wk7","wk8","wk8","wk9","wk9","wk10","wk10","wk11","wk11","wk12","wk12","wk13","wk13","Tot","Tot"]
[null,"w","v","w","v","w","v","w","v","w","v","w","v","w","v","w","v","w","v","w","v","w","v","w","v","w","v","w","v"]
[{"$f":"wedstrijd!Z23","v":"D"}]
["1e Partij",null,null,null,null,null,null,null,null,null,null,null,null,null,null,null,null,null,null,null,null,null,null,null,null,null,null,{"$f":"COUNTIF(B28:AA28,\"w\")","v":0},{"$f":"COUNTIF(C28:AB28,\"v\")","v":0}]
["2e Partij",null,null,null,null,null,null,null,null,null,null,null,null,null,null,null,null,null,null,null,null,null,null,null,null,null,null,0,0]
["3e Partij",null,null,null,null,null,null,null,null,null,null,null,null,null,null,null,null,null,null,null,null,null,null,null,null,null,null,0,0]
["Totaal",{"$f":"COUNTIF(B28:B30,\"w\")","v":0},{"$f":"COUNTIF(C28:C30,\"v\")","v":0},{"$f":"COUNTIF(D28:D30,\"w\")","v":0},{"$f":"COUNTIF(E28:E30,\"v\")","v":0},{"$f":"COUNTIF(F28:F30,\"w\")","v":0},{"$f":"COUNTIF(G28:G30,\"v\")","v":0},{"$f":"COUNTIF(H28:H30,\"w\")","v":0},{"$f":"COUNTIF(I28:I30,\"v\")","v":0},{"$f":"COUNTIF(J28:J30,\"w\")","v":0},{"$f":"COUNTIF(K28:K30,\"v\")","v":0},{"$f":"COUNTIF(L28:L30,\"w\")","v":0},{"$f":"COUNTIF(M28:M30,\"v\")","v":0},{"$f":"COUNTIF(N28:N30,\"w\")","v":0},{"$f":"COUNTIF(O28:O30,\"v\")","v":0},{"$f":"COUNTIF(P28:P30,\"w\")","v":0},{"$f":"COUNTIF(Q28:Q30,\"v\")","v":0},{"$f":"COUNTIF(R28:R30,\"w\")","v":0},{"$f":"COUNTIF(S28:S30,\"v\")","v":0},{"$f":"COUNTIF(T28:T30,\"w\")","v":0},{"$f":"COUNTIF(U28:U30,\"v\")","v":0},{"$f":"COUNTIF(V28:V30,\"w\")","v":0},{"$f":"COUNTIF(W28:W30,\"v\")","v":0},{"$f":"COUNTIF(X28:X30,\"w\")","v":0},{"$f":"COUNTIF(Y28:Y30,\"v\")","v":0},{"$f":"COUNTIF(Z28:Z30,\"w\")","v":0},{"$f":"COUNTIF(AA28:AA30,\"v\")","v":0},{"$f":"SUM(AB28:AB30)","v":0},{"$f":"SUM(AC28:AC30)","v":0}]
[]
[null,"wk1","wk1","wk2","wk2","wk3","wk3","wk4","wk4","wk5","wk5","wk6","wk6","wk7","wk7","wk8","wk8","wk9","wk9","wk10","wk10","wk11","wk11","wk12","wk12","wk13","wk13","Tot","Tot"]
[null,"w","v","w","v","w","v","w","v","w","v","w","v","w","v","w","v","w","v","w","v","w","v","w","v","w","v","w","v"]
[{"$f":"wedstrijd!Z24","v":"E"}]
["1e Partij",null,null,null,null,null,null,null,null,null,null,null,null,null,null,null,null,null,null,null,null,null,null,null,null,null,null,{"$f":"COUNTIF(B36:AA36,\"w\")","v":0},{"$f":"COUNTIF(C36:AB36,\"v\")","v":0}]
["2e Partij",null,null,null,null,null,null,null,null,null,null,null,null,null,null,null,null,null,null,null,null,null,null,null,null,null,null,0,0]
["3e Partij",null,null,null,null,null,null,null,null,null,null,null,null,null,null,null,null,null,null,null,null,null,null,null,null,null,null,0,0]
["Totaal",{"$f":"COUNTIF(B36:B38,\"w\")","v":0},{"$f":"COUNTIF(C36:C38,\"v\")","v":0},{"$f":"COUNTIF(D36:D38,\"w\")","v":0},{"$f":"COUNTIF(E36:E38,\"v\")","v":0},{"$f":"COUNTIF(F36:F38,\"w\")","v":0},{"$f":"COUNTIF(G36:G38,\"v\")","v":0},{"$f":"COUNTIF(H36:H38,\"w\")","v":0},{"$f":"COUNTIF(I36:I38,\"v\")","v":0},{"$f":"COUNTIF(J36:J38,\"w\")","v":0},{"$f":"COUNTIF(K36:K38,\"v\")","v":0},{"$f":"COUNTIF(L36:L38,\"w\")","v":0},{"$f":"COUNTIF(M36:M38,\"v\")","v":0},{"$f":"COUNTIF(N36:N38,\"w\")","v":0},{"$f":"COUNTIF(O36:O38,\"v\")","v":0},{"$f":"COUNTIF(P36:P38,\"w\")","v":0},{"$f":"COUNTIF(Q36:Q38,\"v\")","v":0},{"$f":"COUNTIF(R36:R38,\"w\")","v":0},{"$f":"COUNTIF(S36:S38,\"v\")","v":0},{"$f":"COUNTIF(T36:T38,\"w\")","v":0},{"$f":"COUNTIF(U36:U38,\"v\")","v":0},{"$f":"COUNTIF(V36:V38,\"w\")","v":0},{"$f":"COUNTIF(W36:W38,\"v\")","v":0},{"$f":"COUNTIF(X36:X38,\"w\")","v":0},{"$f":"COUNTIF(Y36:Y38,\"v\")","v":0},{"$f":"COUNTIF(Z36:Z38,\"w\")","v":0},{"$f":"COUNTIF(AA36:AA38,\"v\")","v":0},{"$f":"SUM(AB36:AB38)","v":0},{"$f":"SUM(AC36:AC38)","v":0}]
[]
[null,"wk1","wk1","wk2","wk2","wk3","wk3","wk4","wk4","wk5","wk5","wk6","wk6","wk7","wk7","wk8","wk8","wk9","wk9","wk10","wk10","wk11","wk11","wk12","wk12","wk13","wk13","Tot","Tot"]
[null,"w","v","w","v","w","v","w","v","w","v","w","v","w","v","w","v","w","v","w","v","w","v","w","v","w","v","w","v"]
[{"$f":"wedstrijd!Z25","v":"F"}]
["1e Partij",null,null,null,null,null,null,null,null,null,null,null,null,null,null,null,null,null,null,null,null,null,null,null,null,null,null,{"$f":"COUNTIF(B44:AA44,\"w\")","v":0},{"$f":"COUNTIF(C44:AB44,\"v\")","v":0}]
["2e Partij",null,null,null,null,null,null,null,null,null,null,null,null,null,null,null,null,null,null,null,null,null,null,null,null,null,null,0,0]
["3e Partij",null,null,null,null,null,null,null,null,null,null,null,null,null,null,null,null,null,null,null,null,null,null,null,null,null,null,0,0]
["Totaal",{"$f":"COUNTIF(B44:B46,\"w\")","v":0},{"$f":"COUNTIF(C44:C46,\"v\")","v":0},{"$f":"COUNTIF(D44:D46,\"w\")","v":0},{"$f":"COUNTIF(E44:E46,\"v\")","v":0},{"$f":"COUNTIF(F44:F46,\"w\")","v":0},{"$f":"COUNTIF(G44:G46,\"v\")","v":0},{"$f":"COUNTIF(H44:H46,\"w\")","v":0},{"$f":"COUNTIF(I44:I46,\"v\")","v":0},{"$f":"COUNTIF(J44:J46,\"w\")","v":0},{"$f":"COUNTIF(K44:K46,\"v\")","v":0},{"$f":"COUNTIF(L44:L46,\"w\")","v":0},{"$f":"COUNTIF(M44:M46,\"v\")","v":0},{"$f":"COUNTIF(N44:N46,\"w\")","v":0},{"$f":"COUNTIF(O44:O46,\"v\")","v":0},{"$f":"COUNTIF(P44:P46,\"w\")","v":0},{"$f":"COUNTIF(Q44:Q46,\"v\")","v":0},{"$f":"COUNTIF(R44:R46,\"w\")","v":0},{"$f":"COUNTIF(S44:S46,\"v\")","v":0},{"$f":"COUNTIF(T44:T46,\"w\")","v":0},{"$f":"COUNTIF(U44:U46,\"v\")","v":0},{"$f":"COUNTIF(V44:V46,\"w\")","v":0},{"$f":"COUNTIF(W44:W46,\"v\")","v":0},{"$f":"COUNTIF(X44:X46,\"w\")","v":0},{"$f":"COUNTIF(Y44:Y46,\"v\")","v":0},{"$f":"COUNTIF(Z44:Z46,\"w\")","v":0},{"$f":"COUNTIF(AA44:AA46,\"v\")","v":0},{"$f":"SUM(AB44:AB46)","v":0},{"$f":"SUM(AC44:AC46)","v":0}]